BOTTLE,20201109CCHSIOCBG
EXPOCODE,SECT_ID,STNNBR,CASTNO,SAMPNO,BTLNBR,BTLNBR_FLAG_W,DATE,TIME,LATITUDE,LONGITUDE,DEPTH,CTDPRS,CTDTMP,CTDSAL,CTDSAL_FLAG_W,SALNTY,SALNTY_FLAG_W,CTDOXY,CTDOXY_FLAG_W,OXYGEN,OXYGEN_FLAG_W,SILCAT,SILCAT_FLAG_W,NITRAT,NITRAT_FLAG_W,NITRIT,NITRIT_FLAG_W,PHSPHT,PHSPHT_FLAG_W,CFC-11,CFC-11_FLAG_W,CFC-12,CFC-12_FLAG_W,CFC113,CFC113_FLAG_W,TCARBN,TCARBN_FLAG_W,ALKALI,ALKALI_FLAG_W,TRITUM,TRITUM_FLAG_W,HELIUM,HELIUM_FLAG_W,DELHE3,DELHE3_FLAG_W,DELC13,DELC13_FLAG_W,DELC14,DELC14_FLAG_W,C14ERR,NEON,NEON_FLAG_W,NEONER,DOC,DOC_FLAG_W,CTDRAW,TRITER,THETA,FUCO,FUCO_FLAG_W,RHAM,RHAM_FLAG_W,ARABA,ARABA_FLAG_W,GALA,GALA_FLAG_W,GLUC,GLUC_FLAG_W,MAN,MAN_FLAG_W,DCNS,DCNS_FLAG_W,BRDU,BRDU_FLAG_W,CDOM325,CDOM325_FLAG_W,CDOM340,CDOM340_FLAG_W,CDOM380,CDOM380_FLAG_W,CDOM412,CDOM412_FLAG_W,CDOMSL,CDOMSL_FLAG_W,CDOMSN,CDOMSN_FLAG_W,HELIER,DELHER
,,,,,,,,,,,METERS,DBAR,ITS-90,PSS-78,,PSS-78,,UMOL/KG,,UMOL/KG,,UMOL/KG,,UMOL/KG,,UMOL/KG,,UMOL/KG,,PMOL/KG,,PMOL/KG,,PMOL/KG,,UMOL/KG,,UMOL/KG,,TU,,NMOL/KG,,PERCNT,,/MILLE,,/MILLE,,/MILLE,NMOL/KG,,NMOL/KG,UMOL/KG,,DBAR,TU,DEG C,NMOL/KG,,NMOL/KG,,NMOL/KG,,NMOL/KG,,NMOL/KG,,NMOL/KG,,NMOL/KG,,PMOL/L/H,,1/M,,1/M,,1/M,,1/M,,1/NM,,1/NM,,NMOL/KG,PERCNT
33RR20050106,       P16S,       8,          1,         36,         36,2,20050112,       0831,   -19.4995,  -149.9995,       4517,     4.6,  28.4380,  35.9631,2,  35.9622,2,    352.5,4,   197.0,2,    0.70,2,    0.06,2,    0.00,2,    0.15,2,-999.000,9,-999.000,9,-999.000,9,  2002.1,2,  2362.7,2,-999.000,9,-999.0000,9, -999.00,9, -999.00,9,  -999.0,9,  -999.0,-999.000,9,-999.000,-999.0000,9,     4.6,-999.000,  28.4369,     -999.0,9,     -999.0,9,     -999.0,9,     -999.0,9,     -999.0,9,     -999.0,9,     -999.0,9, -999.00,9,-999.0000,9,-999.0000,9,-999.0000,9,-999.0000,9,-999.0000,9,-999.0000,9,-999.0000, -999.00
33RR20050106,       P16S,       8,          1,         35,         35,2,20050112,       0831,   -19.4995,  -149.9995,       4517,    40.4,  27.9249,  35.9280,2,  35.9354,2,    329.2,4,   200.1,2,    0.71,2,    0.22,2,    0.00,2,    0.15,2,   1.628,2,   0.948,2,   0.131,2,  -999.0,9,  -999.0,9,-999.000,9,-999.0000,9, -999.00,9, -999.00,9,  -999.0,9,  -999.0,-999.000,9,-999.000,-999.0000,9,    40.4,-999.000,  27.9154,     -999.0,9,     -999.0,9,     -999.0,9,     -999.0,9,     -999.0,9,     -999.0,9,     -999.0,9, -999.00,9,-999.0000,9,-999.0000,9,-999.0000,9,-999.0000,9,-999.0000,9,-999.0000,9,-999.0000, -999.00
33RR20050106,       P16S,       8,          1,         34,         34,2,20050112,       0831,   -19.4995,  -149.9995,       4517,    75.6,  26.1057,  35.9265,2,  35.9249,2,    307.4,4,   207.6,2,    0.52,2,    0.22,2,    0.00,2,    0.15,2,   1.710,2,   1.054,2,   0.139,2,  2003.1,2,  2360.2,2,-999.000,9,-999.0000,9, -999.00,9, -999.00,9,  -999.0,9,  -999.0,-999.000,9,-999.000,-999.0000,9,    75.6,-999.000,  26.0887,     -999.0,9,     -999.0,9,     -999.0,9,     -999.0,9,     -999.0,9,     -999.0,9,     -999.0,9, -999.00,9,-999.0000,9,-999.0000,9,-999.0000,9,-999.0000,9,-999.0000,9,-999.0000,9,-999.0000, -999.00
33RR20050106,       P16S,       8,          1,         33,         33,2,20050112,       0831,   -19.4995,  -149.9995,       4517,   124.8,  24.3820,  35.7514,2,  35.7527,2,    265.4,4,   230.6,3,    0.52,2,    0.17,2,    0.00,2,    0.15,2,   1.838,2,   1.116,2,   0.148,2,  2013.3,2,  2349.1,2,-999.000,9,-999.0000,9, -999.00,9, -999.00,9,  -999.0,9,  -999.0,-999.000,9,-999.000,-999.0000,9,   124.8,-999.000,  24.3553,     -999.0,9,     -999.0,9,     -999.0,9,     -999.0,9,     -999.0,9,     -999.0,9,     -999.0,9, -999.00,9,-999.0000,9,-999.0000,9,-999.0000,9,-999.0000,9,-999.0000,9,-999.0000,9,-999.0000, -999.00
33RR20050106,       P16S,       8,          1,         32,         32,2,20050112,       0831,   -19.4995,  -149.9995,       4517,   175.6,  22.7917,  35.6969,2,  35.7005,2,    212.4,4,   196.1,2,    0.53,2,    0.29,2,    0.08,2,    0.18,2,   2.018,2,   1.213,2,   0.119,2,  2031.3,2,  2343.4,2,-999.000,9,-999.0000,9, -999.00,9, -999.00,9,  -999.0,9,  -999.0,-999.000,9,-999.000,-999.0000,9,   175.6,-999.000,  22.7559,     -999.0,9,     -999.0,9,     -999.0,9,     -999.0,9,     -999.0,9,     -999.0,9,     -999.0,9, -999.00,9,-999.0000,9,-999.0000,9,-999.0000,9,-999.0000,9,-999.0000,9,-999.0000,9,-999.0000, -999.00
33RR20050106,       P16S,       8,          1,         31,         31,2,20050112,       0831,   -19.4995,  -149.9995,       4517,   224.9,  20.5641,  35.6753,2,  35.6698,2,    178.0,4,   182.8,2,    0.74,2,    2.33,2,    0.01,2,    0.32,2,   2.222,6,   1.303,6,   0.053,6,  2066.4,2,  2338.8,2,-999.000,9,-999.0000,9, -999.00,9, -999.00,9,  -999.0,9,  -999.0,-999.000,9,-999.000,-999.0000,9,   224.9,-999.000,  20.5215,     -999.0,9,     -999.0,9,     -999.0,9,     -999.0,9,     -999.0,9,     -999.0,9,     -999.0,9, -999.00,9,-999.0000,9,-999.0000,9,-999.0000,9,-999.0000,9,-999.0000,9,-999.0000,9,-999.0000, -999.00
33RR20050106,       P16S,       8,          1,         30,         30,2,20050112,       0831,   -19.4995,  -149.9995,       4517,   275.2,  18.4861,  35.5236,2,  35.5213,2,    180.8,3,   181.9,2,    1.17,2,    4.47,2,    0.01,2,    0.46,2,   2.496,2,   1.343,2,   0.010,2,  -999.0,9,  -999.0,9,-999.000,9,-999.0000,9, -999.00,9, -999.00,9,  -999.0,9,  -999.0,-999.000,9,-999.000,-999.0000,9,   275.2,-999.000,  18.4377,     -999.0,9,     -999.0,9,     -999.0,9,     -999.0,9,     -999.0,9,     -999.0,9,     -999.0,9, -999.00,9,-999.0000,9,-999.0000,9,-999.0000,9,-999.0000,9,-999.0000,9,-999.0000,9,-999.0000, -999.00
33RR20050106,       P16S,       8,          1,         29,         29,2,20050112,       0831,   -19.4995,  -149.9995,       4517,   325.3,  16.6049,  35.3004,2,  35.3024,2,    173.2,3,   174.4,2,    2.43,2,    7.59,2,    0.00,2,    0.69,2,   2.294,2,   1.335,2,   0.013,2,  2100.3,2,  2318.9,2,-999.000,9,-999.0000,9, -999.00,9, -999.00,9,  -999.0,9,  -999.0,-999.000,9,-999.000,-999.0000,9,   325.3,-999.000,  16.5518,     -999.0,9,     -999.0,9,     -999.0,9,     -999.0,9,     -999.0,9,     -999.0,9,     -999.0,9, -999.00,9,-999.0000,9,-999.0000,9,-999.0000,9,-999.0000,9,-999.0000,9,-999.0000,9,-999.0000, -999.00
33RR20050106,       P16S,       8,          1,         28,         28,2,20050112,       0831,   -19.4995,  -149.9995,       4517,   375.5,  14.4089,  35.0416,2,  35.0373,2,    171.7,3,   171.5,2,    3.89,2,   10.99,2,    0.00,2,    0.92,2,-999.000,9,-999.000,9,-999.000,9,  -999.0,9,  -999.0,9,-999.000,9,-999.0000,9, -999.00,9, -999.00,9,  -999.0,9,  -999.0,-999.000,9,-999.000,-999.0000,9,   375.5,-999.000,  14.3532,     -999.0,9,     -999.0,9,     -999.0,9,     -999.0,9,     -999.0,9,     -999.0,9,     -999.0,9, -999.00,9,-999.0000,9,-999.0000,9,-999.0000,9,-999.0000,9,-999.0000,9,-999.0000,9,-999.0000, -999.00
33RR20050106,       P16S,       8,          1,         27,         27,2,20050112,       0831,   -19.4995,  -149.9995,       4517,   425.5,  11.4417,  34.7244,2,  34.7251,2,    166.6,3,   166.1,2,    7.04,2,   17.02,2,    0.00,2,    1.33,2,   1.822,2,   1.001,2,   0.014,2,  2139.4,2,  2290.8,2,-999.000,9,-999.0000,9, -999.00,9, -999.00,9,  -999.0,9,  -999.0,-999.000,9,-999.000,-999.0000,9,   425.5,-999.000,  11.3875,     -999.0,9,     -999.0,9,     -999.0,9,     -999.0,9,     -999.0,9,     -999.0,9,     -999.0,9, -999.00,9,-999.0000,9,-999.0000,9,-999.0000,9,-999.0000,9,-999.0000,9,-999.0000,9,-999.0000, -999.00
33RR20050106,       P16S,       8,          1,         26,         26,2,20050112,       0831,   -19.4995,  -149.9995,       4517,   475.6,   9.4837,  34.5534,2,  34.5597,2,    164.8,3,   164.1,2,    9.97,2,   21.60,2,    0.00,2,    1.61,2,   1.499,2,   0.836,2,   0.020,2,  -999.0,9,  -999.0,9,-999.000,9,-999.0000,9, -999.00,9, -999.00,9,  -999.0,9,  -999.0,-999.000,9,-999.000,-999.0000,9,   475.6,-999.000,   9.4298,     -999.0,9,     -999.0,9,     -999.0,9,     -999.0,9,     -999.0,9,     -999.0,9,     -999.0,9, -999.00,9,-999.0000,9,-999.0000,9,-999.0000,9,-999.0000,9,-999.0000,9,-999.0000,9,-999.0000, -999.00
33RR20050106,       P16S,       8,          1,         25,         25,2,20050112,       0831,   -19.4995,  -149.9995,       4517,   526.2,   8.2612,  34.4663,2,  34.4687,2,    168.1,3,   170.0,2,   12.08,2,   24.52,2,    0.00,2,    1.78,2,   1.313,2,   0.687,2,   0.032,2,  2167.3,2,  2276.4,2,-999.000,9,-999.0000,9, -999.00,9, -999.00,9,  -999.0,9,  -999.0,-999.000,9,-999.000,-999.0000,9,   526.2,-999.000,   8.2062,     -999.0,9,     -999.0,9,     -999.0,9,     -999.0,9,     -999.0,9,     -999.0,9,     -999.0,9, -999.00,9,-999.0000,9,-999.0000,9,-999.0000,9,-999.0000,9,-999.0000,9,-999.0000,9,-999.0000, -999.00
33RR20050106,       P16S,       8,          1,         24,         24,2,20050112,       0831,   -19.4995,  -149.9995,       4517,   646.0,   6.3301,  34.3794,2,  34.3796,2,    181.0,3,   181.3,2,   19.42,2,   28.77,2,    0.00,2,    2.02,2,   0.713,2,   0.382,2,   0.000,2,  2182.6,2,  2285.8,2,-999.000,9,-999.0000,9, -999.00,9, -999.00,9,  -999.0,9,  -999.0,-999.000,9,-999.000,-999.0000,9,   646.0,-999.000,   6.2715,     -999.0,9,     -999.0,9,     -999.0,9,     -999.0,9,     -999.0,9,     -999.0,9,     -999.0,9, -999.00,9,-999.0000,9,-999.0000,9,-999.0000,9,-999.0000,9,-999.0000,9,-999.0000,9,-999.0000, -999.00
33RR20050106,       P16S,       8,          1,         23,         23,2,20050112,       0831,   -19.4995,  -149.9995,       4517,   746.1,   5.3892,  34.3789,2,  34.3766,2,    172.2,3,   172.4,2,   29.73,2,   31.55,2,    0.00,2,    2.21,2,   0.330,2,   0.183,2,   0.000,2,  -999.0,9,  -999.0,9,-999.000,9,-999.0000,9, -999.00,9, -999.00,9,  -999.0,9,  -999.0,-999.000,9,-999.000,-999.0000,9,   746.1,-999.000,   5.3263,     -999.0,9,     -999.0,9,     -999.0,9,     -999.0,9,     -999.0,9,     -999.0,9,     -999.0,9, -999.00,9,-999.0000,9,-999.0000,9,-999.0000,9,-999.0000,9,-999.0000,9,-999.0000,9,-999.0000, -999.00
33RR20050106,       P16S,       8,          1,         22,         22,2,20050112,       0831,   -19.4995,  -149.9995,       4517,   846.9,   4.8741,  34.4168,2,  34.4196,2,    158.3,3,   157.1,2,   43.02,2,   33.53,2,    0.00,2,    2.36,2,   0.161,2,   0.097,2,   0.012,2,  2221.7,2,  2309.7,2,-999.000,9,-999.0000,9, -999.00,9, -999.00,9,  -999.0,9,  -999.0,-999.000,9,-999.000,-999.0000,9,   846.9,-999.000,   4.8054,     -999.0,9,     -999.0,9,     -999.0,9,     -999.0,9,     -999.0,9,     -999.0,9,     -999.0,9, -999.00,9,-999.0000,9,-999.0000,9,-999.0000,9,-999.0000,9,-999.0000,9,-999.0000,9,-999.0000, -999.00
33RR20050106,       P16S,       8,          1,         21,         21,2,20050112,       0831,   -19.4995,  -149.9995,       4517,   947.6,   4.4210,  34.4594,2,  34.4604,2,    148.7,3,   150.7,2,   55.09,2,   34.44,2,    0.00,2,    2.44,2,   0.044,2,   0.039,2,   0.000,2,  -999.0,9,  -999.0,9,-999.000,9,-999.0000,9, -999.00,9, -999.00,9,  -999.0,9,  -999.0,-999.000,9,-999.000,-999.0000,9,   947.6,-999.000,   4.3467,     -999.0,9,     -999.0,9,     -999.0,9,     -999.0,9,     -999.0,9,     -999.0,9,     -999.0,9, -999.00,9,-999.0000,9,-999.0000,9,-999.0000,9,-999.0000,9,-999.0000,9,-999.0000,9,-999.0000, -999.00
33RR20050106,       P16S,       8,          1,         20,         20,2,20050112,       0831,   -19.4995,  -149.9995,       4517,  1047.9,   3.9118,  34.4776,2,  34.4769,2,    151.1,3,   151.8,2,   64.22,2,   34.87,2,    0.00,2,    2.46,2,   0.040,3,   0.037,2,   0.000,2,  2247.1,6,  2332.5,2,-999.000,9,-999.0000,9, -999.00,9, -999.00,9,  -999.0,9,  -999.0,-999.000,9,-999.000,-999.0000,9,  1047.9,-999.000,   3.8329,     -999.0,9,     -999.0,9,     -999.0,9,     -999.0,9,     -999.0,9,     -999.0,9,     -999.0,9, -999.00,9,-999.0000,9,-999.0000,9,-999.0000,9,-999.0000,9,-999.0000,9,-999.0000,9,-999.0000, -999.00
33RR20050106,       P16S,       8,          1,         19,         19,2,20050112,       0831,   -19.4995,  -149.9995,       4517,  1148.4,   3.5728,  34.5021,2,  34.5029,2,    150.5,3,   150.5,2,   72.53,2,   35.24,2,    0.00,2,    2.48,2,   0.074,3,   0.053,3,   0.000,2,  -999.0,9,  -999.0,9,-999.000,9,-999.0000,9, -999.00,9, -999.00,9,  -999.0,9,  -999.0,-999.000,9,-999.000,-999.0000,9,  1148.4,-999.000,   3.4884,     -999.0,9,     -999.0,9,     -999.0,9,     -999.0,9,     -999.0,9,     -999.0,9,     -999.0,9, -999.00,9,-999.0000,9,-999.0000,9,-999.0000,9,-999.0000,9,-999.0000,9,-999.0000,9,-999.0000, -999.00
33RR20050106,       P16S,       8,          1,         18,         18,2,20050112,       0831,   -19.4995,  -149.9995,       4517,  1248.8,   3.2072,  34.5316,2,  34.5316,2,    149.8,3,   149.6,2,   82.34,2,   35.51,2,    0.00,2,    2.51,2,   0.055,3,   0.043,3,   0.000,2,  -999.0,9,  -999.0,9,-999.000,9,-999.0000,9, -999.00,9, -999.00,9,  -999.0,9,  -999.0,-999.000,9,-999.000,-999.0000,9,  1248.8,-999.000,   3.1179,     -999.0,9,     -999.0,9,     -999.0,9,     -999.0,9,     -999.0,9,     -999.0,9,     -999.0,9, -999.00,9,-999.0000,9,-999.0000,9,-999.0000,9,-999.0000,9,-999.0000,9,-999.0000,9,-999.0000, -999.00
33RR20050106,       P16S,       8,          1,         17,         17,2,20050112,       0831,   -19.4995,  -149.9995,       4517,  1349.4,   2.9694,  34.5541,2,  34.5538,2,    148.1,3,   148.7,2,   89.60,2,   35.67,2,    0.00,2,    2.53,2,   0.020,2,   0.011,2,   0.000,2,  -999.0,9,  -999.0,9,-999.000,9,-999.0000,9, -999.00,9, -999.00,9,  -999.0,9,  -999.0,-999.000,9,-999.000,-999.0000,9,  1349.4,-999.000,   2.8743,     -999.0,9,     -999.0,9,     -999.0,9,     -999.0,9,     -999.0,9,     -999.0,9,     -999.0,9, -999.00,9,-999.0000,9,-999.0000,9,-999.0000,9,-999.0000,9,-999.0000,9,-999.0000,9,-999.0000, -999.00
33RR20050106,       P16S,       8,          1,         16,         16,2,20050112,       0831,   -19.4995,  -149.9995,       4517,  1450.6,   2.7624,  34.5741,2,  34.5748,2,    147.9,3,   148.3,2,   96.22,2,   35.72,2,    0.00,2,    2.53,2,   0.006,2,  -0.001,2,   0.000,2,  -999.0,9,  -999.0,9,-999.000,9,-999.0000,9, -999.00,9, -999.00,9,  -999.0,9,  -999.0,-999.000,9,-999.000,-999.0000,9,  1450.6,-999.000,   2.6613,     -999.0,9,     -999.0,9,     -999.0,9,     -999.0,9,     -999.0,9,     -999.0,9,     -999.0,9, -999.00,9,-999.0000,9,-999.0000,9,-999.0000,9,-999.0000,9,-999.0000,9,-999.0000,9,-999.0000, -999.00
33RR20050106,       P16S,       8,          1,         15,         15,2,20050112,       0831,   -19.4995,  -149.9995,       4517,  1550.7,   2.5713,  34.5934,2,  34.5930,2,    147.0,3,   147.9,2,  102.44,2,   35.93,2,    0.00,2,    2.54,2,   0.008,2,   0.005,2,   0.000,2,  -999.0,9,  -999.0,9,-999.000,9,-999.0000,9, -999.00,9, -999.00,9,  -999.0,9,  -999.0,-999.000,9,-999.000,-999.0000,9,  1550.7,-999.000,   2.4642,     -999.0,9,     -999.0,9,     -999.0,9,     -999.0,9,     -999.0,9,     -999.0,9,     -999.0,9, -999.00,9,-999.0000,9,-999.0000,9,-999.0000,9,-999.0000,9,-999.0000,9,-999.0000,9,-999.0000, -999.00
33RR20050106,       P16S,       8,          1,         14,         14,2,20050112,       0831,   -19.4995,  -149.9995,       4517,  1651.6,   2.4227,  34.6076,2,  34.6087,2,    147.8,3,   148.3,2,  106.94,2,   35.87,2,    0.00,2,    2.54,2,   0.007,2,   0.008,2,   0.000,2,  -999.0,9,  -999.0,9,-999.000,9,-999.0000,9, -999.00,9, -999.00,9,  -999.0,9,  -999.0,-999.000,9,-999.000,-999.0000,9,  1651.6,-999.000,   2.3092,     -999.0,9,     -999.0,9,     -999.0,9,     -999.0,9,     -999.0,9,     -999.0,9,     -999.0,9, -999.00,9,-999.0000,9,-999.0000,9,-999.0000,9,-999.0000,9,-999.0000,9,-999.0000,9,-999.0000, -999.00
33RR20050106,       P16S,       8,          1,         13,         13,2,20050112,       0831,   -19.4995,  -149.9995,       4517,  1752.9,   2.3031,  34.6180,2,  34.6180,2,    149.1,3,   149.6,2,  110.58,2,   35.87,2,    0.00,2,    2.54,2,   0.005,2,   0.004,2,   0.000,2,  -999.0,9,  -999.0,9,-999.000,9,-999.0000,9, -999.00,9, -999.00,9,  -999.0,9,  -999.0,-999.000,9,-999.000,-999.0000,9,  1752.9,-999.000,   2.1829,     -999.0,9,     -999.0,9,     -999.0,9,     -999.0,9,     -999.0,9,     -999.0,9,     -999.0,9, -999.00,9,-999.0000,9,-999.0000,9,-999.0000,9,-999.0000,9,-999.0000,9,-999.0000,9,-999.0000, -999.00
33RR20050106,       P16S,       8,          1,         12,         12,2,20050112,       0831,   -19.4995,  -149.9995,       4517,  1854.2,   2.2354,  34.6243,2,  34.6249,2,    149.6,3,   150.5,2,  112.52,2,   35.81,2,    0.00,2,    2.54,2,   0.019,3,   0.013,2,   0.000,2,  -999.0,9,  -999.0,9,-999.000,9,-999.0000,9, -999.00,9, -999.00,9,  -999.0,9,  -999.0,-999.000,9,-999.000,-999.0000,9,  1854.2,-999.000,   2.1077,     -999.0,9,     -999.0,9,     -999.0,9,     -999.0,9,     -999.0,9,     -999.0,9,     -999.0,9, -999.00,9,-999.0000,9,-999.0000,9,-999.0000,9,-999.0000,9,-999.0000,9,-999.0000,9,-999.0000, -999.00
33RR20050106,       P16S,       8,          1,         11,         11,2,20050112,       0831,   -19.4995,  -149.9995,       4517,  1955.0,   2.1865,  34.6295,2,  34.6296,2,    150.4,3,   155.3,3,  114.23,2,   35.75,2,    0.00,2,    2.53,2,   0.014,3,   0.011,2,   0.000,2,  -999.0,9,  -999.0,9,-999.000,9,-999.0000,9, -999.00,9, -999.00,9,  -999.0,9,  -999.0,-999.000,9,-999.000,-999.0000,9,  1955.0,-999.000,   2.0510,     -999.0,9,     -999.0,9,     -999.0,9,     -999.0,9,     -999.0,9,     -999.0,9,     -999.0,9, -999.00,9,-999.0000,9,-999.0000,9,-999.0000,9,-999.0000,9,-999.0000,9,-999.0000,9,-999.0000, -999.00
33RR20050106,       P16S,       8,          1,         10,         10,2,20050112,       0831,   -19.4995,  -149.9995,       4517,  2116.5,   2.0747,  34.6392,2,  34.6394,2,    152.9,3,   152.7,2,  117.03,2,   35.70,2,    0.00,2,    2.52,2,   0.003,2,   0.002,2,   0.000,2,  -999.0,9,  -999.0,9,-999.000,9,-999.0000,9, -999.00,9, -999.00,9,  -999.0,9,  -999.0,-999.000,9,-999.000,-999.0000,9,  2116.5,-999.000,   1.9271,     -999.0,9,     -999.0,9,     -999.0,9,     -999.0,9,     -999.0,9,     -999.0,9,     -999.0,9, -999.00,9,-999.0000,9,-999.0000,9,-999.0000,9,-999.0000,9,-999.0000,9,-999.0000,9,-999.0000, -999.00
33RR20050106,       P16S,       8,          1,          9,          9,2,20050112,       0831,   -19.4995,  -149.9995,       4517,  2369.4,   1.9215,  34.6528,2,  34.6521,2,    157.1,3,   156.4,2,  120.25,2,   35.54,2,    0.00,2,    2.50,2,   0.036,3,   0.011,2,   0.000,2,  -999.0,9,  -999.0,9,-999.000,9,-999.0000,9, -999.00,9, -999.00,9,  -999.0,9,  -999.0,-999.000,9,-999.000,-999.0000,9,  2369.4,-999.000,   1.7544,     -999.0,9,     -999.0,9,     -999.0,9,     -999.0,9,     -999.0,9,     -999.0,9,     -999.0,9, -999.00,9,-999.0000,9,-999.0000,9,-999.0000,9,-999.0000,9,-999.0000,9,-999.0000,9,-999.0000, -999.00
33RR20050106,       P16S,       8,          1,          8,          8,2,20050112,       0831,   -19.4995,  -149.9995,       4517,  2622.8,   1.8004,  34.6636,2,  34.6629,2,    159.7,3,   159.8,2,  122.62,2,   35.32,2,    0.00,2,    2.49,2,   0.000,2,   0.003,2,   0.000,2,  -999.0,9,  -999.0,9,-999.000,9,-999.0000,9, -999.00,9, -999.00,9,  -999.0,9,  -999.0,-999.000,9,-999.000,-999.0000,9,  2622.8,-999.000,   1.6126,     -999.0,9,     -999.0,9,     -999.0,9,     -999.0,9,     -999.0,9,     -999.0,9,     -999.0,9, -999.00,9,-999.0000,9,-999.0000,9,-999.0000,9,-999.0000,9,-999.0000,9,-999.0000,9,-999.0000, -999.00
33RR20050106,       P16S,       8,          1,          7,          7,2,20050112,       0831,   -19.4995,  -149.9995,       4517,  2876.1,   1.7017,  34.6718,2,  34.6721,2,    162.5,3,   163.1,2,  124.34,2,   35.10,2,    0.00,2,    2.48,2,-999.000,9,-999.000,9,-999.000,9,  -999.0,9,  -999.0,9,-999.000,9,-999.0000,9, -999.00,9, -999.00,9,  -999.0,9,  -999.0,-999.000,9,-999.000,-999.0000,9,  2876.1,-999.000,   1.4923,     -999.0,9,     -999.0,9,     -999.0,9,     -999.0,9,     -999.0,9,     -999.0,9,     -999.0,9, -999.00,9,-999.0000,9,-999.0000,9,-999.0000,9,-999.0000,9,-999.0000,9,-999.0000,9,-999.0000, -999.00