BOTTLE,20201109CCHSIOCBG
EXPOCODE,SECT_ID,STNNBR,CASTNO,SAMPNO,BTLNBR,BTLNBR_FLAG_W,DATE,TIME,LATITUDE,LONGITUDE,DEPTH,CTDPRS,CTDTMP,CTDSAL,CTDSAL_FLAG_W,SALNTY,SALNTY_FLAG_W,CTDOXY,CTDOXY_FLAG_W,OXYGEN,OXYGEN_FLAG_W,SILCAT,SILCAT_FLAG_W,NITRAT,NITRAT_FLAG_W,NITRIT,NITRIT_FLAG_W,PHSPHT,PHSPHT_FLAG_W,CFC-11,CFC-11_FLAG_W,CFC-12,CFC-12_FLAG_W,CFC113,CFC113_FLAG_W,TCARBN,TCARBN_FLAG_W,ALKALI,ALKALI_FLAG_W,TRITUM,TRITUM_FLAG_W,HELIUM,HELIUM_FLAG_W,DELHE3,DELHE3_FLAG_W,DELC13,DELC13_FLAG_W,DELC14,DELC14_FLAG_W,C14ERR,NEON,NEON_FLAG_W,NEONER,DOC,DOC_FLAG_W,CTDRAW,TRITER,THETA,FUCO,FUCO_FLAG_W,RHAM,RHAM_FLAG_W,ARABA,ARABA_FLAG_W,GALA,GALA_FLAG_W,GLUC,GLUC_FLAG_W,MAN,MAN_FLAG_W,DCNS,DCNS_FLAG_W,BRDU,BRDU_FLAG_W,CDOM325,CDOM325_FLAG_W,CDOM340,CDOM340_FLAG_W,CDOM380,CDOM380_FLAG_W,CDOM412,CDOM412_FLAG_W,CDOMSL,CDOMSL_FLAG_W,CDOMSN,CDOMSN_FLAG_W,HELIER,DELHER
,,,,,,,,,,,METERS,DBAR,ITS-90,PSS-78,,PSS-78,,UMOL/KG,,UMOL/KG,,UMOL/KG,,UMOL/KG,,UMOL/KG,,UMOL/KG,,PMOL/KG,,PMOL/KG,,PMOL/KG,,UMOL/KG,,UMOL/KG,,TU,,NMOL/KG,,PERCNT,,/MILLE,,/MILLE,,/MILLE,NMOL/KG,,NMOL/KG,UMOL/KG,,DBAR,TU,DEG C,NMOL/KG,,NMOL/KG,,NMOL/KG,,NMOL/KG,,NMOL/KG,,NMOL/KG,,NMOL/KG,,PMOL/L/H,,1/M,,1/M,,1/M,,1/M,,1/NM,,1/NM,,NMOL/KG,PERCNT
33RR20050106,       P16S,      97,          1,         29,         29,2,20050207,       0649,   -64.0010,  -149.9983,       3237,     2.3,   1.0234,  33.9789,2,  33.9788,2,    342.9,2,   345.5,2,   32.93,2,   23.25,2,    0.35,2,    1.46,2,   5.943,2,   3.239,2,   0.549,2,  2157.9,6,  2298.4,6,   0.139,2,   1.7810,2,   -1.79,2, -999.00,9,  -999.0,9,  -999.0,   9.335,4,   0.272,  45.1564,2,     2.3,   0.006,   1.0233,     -999.0,9,     -999.0,9,     -999.0,9,     -999.0,9,     -999.0,9,     -999.0,9,     -999.0,9, -999.00,9,-999.0000,9,-999.0000,9,-999.0000,9,-999.0000,9,-999.0000,9,-999.0000,9,   0.0010,    0.21
33RR20050106,       P16S,      97,          1,         28,         28,2,20050207,       0649,   -64.0010,  -149.9983,       3237,    25.3,   1.0163,  33.9790,2,  33.9786,2,    345.1,2,   345.4,2,   33.13,2,   23.25,2,    0.35,2,    1.46,2,   5.952,2,   3.263,2,   0.551,2,  2158.8,2,  2298.3,2,   0.089,2,-999.0000,9, -999.00,9, -999.00,9,  -999.0,9,  -999.0,-999.000,9,-999.000,  44.3391,2,    25.3,   0.002,   1.0152,     -999.0,9,     -999.0,9,     -999.0,9,     -999.0,9,     -999.0,9,     -999.0,9,     -999.0,9, -999.00,9,-999.0000,9,-999.0000,9,-999.0000,9,-999.0000,9,-999.0000,9,-999.0000,9,-999.0000, -999.00
33RR20050106,       P16S,      97,          1,         27,         27,2,20050207,       0649,   -64.0010,  -149.9983,       3237,    50.4,   0.7366,  33.9868,2,  33.9974,2,    344.4,2,   344.5,2,   37.45,2,   23.92,2,    0.32,2,    1.61,2,   5.989,2,   3.282,2,   0.541,2,  2166.4,2,  2300.4,2,   0.106,2,   1.7990,2,   -1.46,2, -999.00,9,  -999.0,9,  -999.0,   8.092,2,   0.009,  44.6672,2,    50.4,   0.008,   0.7346,     -999.0,9,     -999.0,9,     -999.0,9,     -999.0,9,     -999.0,9,     -999.0,9,     -999.0,9, -999.00,9,-999.0000,9,-999.0000,9,-999.0000,9,-999.0000,9,-999.0000,9,-999.0000,9,   0.0010,    0.21
33RR20050106,       P16S,      97,          1,         26,         26,2,20050207,       0649,   -64.0010,  -149.9983,       3237,    75.5,  -1.6394,  34.1524,2,  34.1519,2,    333.3,2,   334.6,2,   53.35,2,   26.75,2,    0.24,2,    1.92,2,   5.620,2,   3.093,2,   0.518,2,  2194.4,2,  2308.0,2,   0.105,2,   2.2880,4,   -0.79,3, -999.00,9,  -999.0,9,  -999.0,  10.094,4,   0.024,  41.9768,2,    75.5,   0.008,  -1.6410,     -999.0,9,     -999.0,9,     -999.0,9,     -999.0,9,     -999.0,9,     -999.0,9,     -999.0,9, -999.00,9,-999.0000,9,-999.0000,9,-999.0000,9,-999.0000,9,-999.0000,9,-999.0000,9,   0.0010,    0.21
33RR20050106,       P16S,      97,          1,         25,         25,2,20050207,       0649,   -64.0010,  -149.9983,       3237,   101.0,  -1.3404,  34.2505,2,  34.2405,2,    316.6,2,   310.6,2,   59.96,2,   28.25,2,    0.27,2,    2.00,2,   5.088,2,   2.777,2,   0.460,2,  2207.3,2,  2313.6,2,   0.102,2,   1.8370,2,    0.04,2, -999.00,9,  -999.0,9,  -999.0,   8.342,2,   0.019,  39.9277,2,   101.0,   0.005,  -1.3428,     -999.0,9,     -999.0,9,     -999.0,9,     -999.0,9,     -999.0,9,     -999.0,9,     -999.0,9, -999.00,9,-999.0000,9,-999.0000,9,-999.0000,9,-999.0000,9,-999.0000,9,-999.0000,9,   0.0010,    0.22
33RR20050106,       P16S,      97,          1,         24,         24,2,20050207,       0649,   -64.0010,  -149.9983,       3237,   127.0,  -0.0016,  34.4853,2,  34.4642,2,    268.3,2,   245.6,2,   78.44,2,   31.41,2,    0.03,2,    2.18,2,   2.857,2,   1.514,2,   0.253,2,  2236.0,2,  2326.9,2,   0.032,2,   1.8500,2,    4.14,2, -999.00,9,  -999.0,9,  -999.0,   8.189,2,   0.009,  40.6629,2,   127.0,   0.004,  -0.0062,     -999.0,9,     -999.0,9,     -999.0,9,     -999.0,9,     -999.0,9,     -999.0,9,     -999.0,9, -999.00,9,-999.0000,9,-999.0000,9,-999.0000,9,-999.0000,9,-999.0000,9,-999.0000,9,   0.0010,    0.21
33RR20050106,       P16S,      97,          1,         23,         23,2,20050207,       0649,   -64.0010,  -149.9983,       3237,   152.2,   0.9728,  34.6369,2,  34.6390,2,    206.2,2,   192.4,2,   93.64,2,   33.06,2,    0.02,2,    2.30,2,   1.023,6,   0.554,6,   0.092,6,  2257.5,2,  2338.9,2,   0.164,2,   3.1240,4,    5.71,3, -999.00,9,  -999.0,9,  -999.0,  12.524,4,   0.020,  39.9532,2,   152.2,   0.023,   0.9660,     -999.0,9,     -999.0,9,     -999.0,9,     -999.0,9,     -999.0,9,     -999.0,9,     -999.0,9, -999.00,9,-999.0000,9,-999.0000,9,-999.0000,9,-999.0000,9,-999.0000,9,-999.0000,9,   0.0010,    0.16
33RR20050106,       P16S,      97,          1,         22,         22,2,20050207,       0649,   -64.0010,  -149.9983,       3237,   202.5,   1.3488,  34.7148,2,  34.7146,2,    180.8,2,   179.8,2,   99.88,2,   33.07,2,    0.01,2,    2.29,2,   0.427,2,   0.232,2,   0.041,2,  2262.9,2,  2346.6,2,   0.001,2,   1.8790,2,    9.26,2, -999.00,9,  -999.0,9,  -999.0,   8.235,2,   0.010,  38.6495,2,   202.5,   0.002,   1.3390,     -999.0,9,     -999.0,9,     -999.0,9,     -999.0,9,     -999.0,9,     -999.0,9,     -999.0,9, -999.00,9,-999.0000,9,-999.0000,9,-999.0000,9,-999.0000,9,-999.0000,9,-999.0000,9,   0.0010,    0.23
33RR20050106,       P16S,      97,          1,         21,         21,2,20050207,       0649,   -64.0010,  -149.9983,       3237,   253.0,   1.3656,  34.7280,2,  34.7268,2,    177.6,2,   179.0,2,  102.78,2,   32.92,2,    0.00,2,    2.28,2,   0.205,2,   0.096,2,   0.018,2,  2278.0,4,  2349.3,2,-999.000,9,   1.8730,2,    9.10,2, -999.00,9,  -999.0,9,  -999.0,   8.180,2,   0.009,  38.0386,2,   253.0,-999.000,   1.3532,     -999.0,9,     -999.0,9,     -999.0,9,     -999.0,9,     -999.0,9,     -999.0,9,     -999.0,9, -999.00,9,-999.0000,9,-999.0000,9,-999.0000,9,-999.0000,9,-999.0000,9,-999.0000,9,   0.0010,    0.22
33RR20050106,       P16S,      97,          1,         20,         20,2,20050207,       0649,   -64.0010,  -149.9983,       3237,   307.2,   1.3327,  34.7304,2,  34.7294,2,    177.5,2,   179.4,2,  105.06,2,   32.92,2,    0.00,2,    2.28,2,   0.170,2,   0.089,2,   0.020,2,  2263.9,2,  2350.7,2,-999.000,9,   1.8870,2,    9.05,2, -999.00,9,  -999.0,9,  -999.0,   8.258,2,   0.020,  37.8702,2,   307.2,-999.000,   1.3176,     -999.0,9,     -999.0,9,     -999.0,9,     -999.0,9,     -999.0,9,     -999.0,9,     -999.0,9, -999.00,9,-999.0000,9,-999.0000,9,-999.0000,9,-999.0000,9,-999.0000,9,-999.0000,9,   0.0010,    0.24
33RR20050106,       P16S,      97,          1,         19,         19,2,20050207,       0649,   -64.0010,  -149.9983,       3237,   357.9,   1.2924,  34.7305,2,  34.7360,4,    179.1,2,   180.0,2,  106.91,2,   32.97,2,    0.00,2,    2.28,2,   0.138,2,   0.072,2,   0.016,2,  2263.3,2,  2350.7,2,   0.090,2,   1.8770,2,    9.12,2, -999.00,9,  -999.0,9,  -999.0,   8.217,2,   0.014,-999.0000,9,   357.9,   0.006,   1.2747,     -999.0,9,     -999.0,9,     -999.0,9,     -999.0,9,     -999.0,9,     -999.0,9,     -999.0,9, -999.00,9,-999.0000,9,-999.0000,9,-999.0000,9,-999.0000,9,-999.0000,9,-999.0000,9,   0.0010,    0.22
33RR20050106,       P16S,      97,          1,         18,         18,2,20050207,       0649,   -64.0010,  -149.9983,       3237,   408.2,   1.2537,  34.7301,2,  34.7300,2,    180.6,2,   181.6,2,  107.94,2,   32.87,2,    0.00,2,    2.27,2,   0.139,2,   0.070,2,   0.014,2,  2263.1,2,  2352.5,2,-999.000,9,   1.8820,2,    8.94,2, -999.00,9,  -999.0,9,  -999.0,   8.231,2,   0.018,  39.0919,2,   408.2,-999.000,   1.2335,     -999.0,9,     -999.0,9,     -999.0,9,     -999.0,9,     -999.0,9,     -999.0,9,     -999.0,9, -999.00,9,-999.0000,9,-999.0000,9,-999.0000,9,-999.0000,9,-999.0000,9,-999.0000,9,   0.0010,    0.23
33RR20050106,       P16S,      97,          1,         17,         17,2,20050207,       0649,   -64.0010,  -149.9983,       3237,   509.0,   1.1772,  34.7284,2,  34.7270,2,    183.4,2,   184.4,2,  110.41,2,   32.76,2,    0.00,2,    2.26,2,   0.104,2,   0.062,2,   0.019,2,  2263.2,2,  2353.5,2,-999.000,9,   1.8700,2,    9.09,2, -999.00,9,  -999.0,9,  -999.0,   8.196,2,   0.014,  39.3712,2,   509.0,-999.000,   1.1519,     -999.0,9,     -999.0,9,     -999.0,9,     -999.0,9,     -999.0,9,     -999.0,9,     -999.0,9, -999.00,9,-999.0000,9,-999.0000,9,-999.0000,9,-999.0000,9,-999.0000,9,-999.0000,9,   0.0010,    0.23
33RR20050106,       P16S,      97,          1,         16,         16,2,20050207,       0649,   -64.0010,  -149.9983,       3237,   610.2,   1.1078,  34.7262,2,  34.7256,2,    186.8,2,   186.9,2,  112.49,2,   32.65,2,    0.00,2,    2.25,2,   0.063,2,   0.041,2,  -0.002,2,  2263.0,2,  2354.6,2,   0.050,2,   1.9050,2,    9.46,2, -999.00,9,  -999.0,9,  -999.0,   8.295,2,   0.010,  41.6391,2,   610.2,   0.002,   1.0773,     -999.0,9,     -999.0,9,     -999.0,9,     -999.0,9,     -999.0,9,     -999.0,9,     -999.0,9, -999.00,9,-999.0000,9,-999.0000,9,-999.0000,9,-999.0000,9,-999.0000,9,-999.0000,9,   0.0010,    0.22
33RR20050106,       P16S,      97,          1,         15,         15,2,20050207,       0649,   -64.0010,  -149.9983,       3237,   710.9,   1.0277,  34.7234,2,  34.7227,2,    189.8,2,   190.5,2,  114.35,2,   32.44,2,    0.00,2,    2.25,2,   0.089,2,   0.049,2,   0.018,2,  2262.5,2,  2356.1,2,   0.001,2,   1.8750,2,    9.62,2, -999.00,9,  -999.0,9,  -999.0,   8.180,2,   0.010,  40.7559,2,   710.9,   0.003,   0.9920,     -999.0,9,     -999.0,9,     -999.0,9,     -999.0,9,     -999.0,9,     -999.0,9,     -999.0,9, -999.00,9,-999.0000,9,-999.0000,9,-999.0000,9,-999.0000,9,-999.0000,9,-999.0000,9,   0.0010,    0.23
33RR20050106,       P16S,      97,          1,         14,         14,2,20050207,       0649,   -64.0010,  -149.9983,       3237,   812.0,   0.9637,  34.7208,2,  34.7211,2,    192.4,2,   193.3,2,  116.21,2,   32.44,2,    0.00,2,    2.24,2,   0.134,2,   0.070,2,   0.019,2,  2262.2,2,  2356.0,2,   0.006,2,   1.8940,2,   10.28,2, -999.00,9,  -999.0,9,  -999.0,   8.321,2,   0.010,  39.0341,2,   812.0,   0.003,   0.9227,     -999.0,9,     -999.0,9,     -999.0,9,     -999.0,9,     -999.0,9,     -999.0,9,     -999.0,9, -999.00,9,-999.0000,9,-999.0000,9,-999.0000,9,-999.0000,9,-999.0000,9,-999.0000,9,   0.0010,    0.22
33RR20050106,       P16S,      97,          1,         13,         13,2,20050207,       0649,   -64.0010,  -149.9983,       3237,   913.2,   0.9060,  34.7184,2,  34.7182,2,    194.9,2,   195.6,2,  117.66,2,   32.44,2,    0.00,2,    2.24,2,   0.123,2,   0.067,2,   0.020,2,  2262.2,2,  2357.3,2,   0.110,2,   1.9620,3,    9.95,2, -999.00,9,  -999.0,9,  -999.0,   8.453,2,   0.010,  39.4837,2,   913.2,   0.005,   0.8595,     -999.0,9,     -999.0,9,     -999.0,9,     -999.0,9,     -999.0,9,     -999.0,9,     -999.0,9, -999.00,9,-999.0000,9,-999.0000,9,-999.0000,9,-999.0000,9,-999.0000,9,-999.0000,9,   0.0010,    0.21
33RR20050106,       P16S,      97,          1,         12,         12,2,20050207,       0649,   -64.0010,  -149.9983,       3237,  1014.1,   0.8568,  34.7163,2,  34.7170,2,    196.8,2,   197.5,2,  119.08,2,   32.44,2,    0.00,2,    2.24,2,   0.058,2,   0.033,2,   0.012,2,  2261.0,2,  2357.8,2,   0.037,2,   1.8920,2,   10.05,2, -999.00,9,  -999.0,9,  -999.0,   8.266,2,   0.010,  42.2265,2,  1014.1,   0.005,   0.8047,     -999.0,9,     -999.0,9,     -999.0,9,     -999.0,9,     -999.0,9,     -999.0,9,     -999.0,9, -999.00,9,-999.0000,9,-999.0000,9,-999.0000,9,-999.0000,9,-999.0000,9,-999.0000,9,   0.0010,    0.22
33RR20050106,       P16S,      97,          1,         11,         11,2,20050207,       0649,   -64.0010,  -149.9983,       3237,  1216.9,   0.7544,  34.7122,2,  34.7117,2,    200.3,2,   200.7,2,  122.42,2,   32.44,2,    0.00,2,    2.24,2,   0.054,2,   0.034,2,   0.020,2,  2255.5,4,  2357.6,2,   0.001,2,   1.8860,2,   10.37,2, -999.00,9,  -999.0,9,  -999.0,   8.237,2,   0.010,  38.2782,2,  1216.9,   0.003,   0.6908,     -999.0,9,     -999.0,9,     -999.0,9,     -999.0,9,     -999.0,9,     -999.0,9,     -999.0,9, -999.00,9,-999.0000,9,-999.0000,9,-999.0000,9,-999.0000,9,-999.0000,9,-999.0000,9,   0.0010,    0.21
33RR20050106,       P16S,      97,          1,         10,         10,2,20050207,       0649,   -64.0010,  -149.9983,       3237,  1418.6,   0.6703,  34.7090,2,  34.7091,2,    202.7,2,   203.4,2,  124.48,2,   32.39,2,    0.00,2,    2.24,2,   0.170,2,   0.092,2,   0.022,2,  2260.7,6,  2357.5,2,   0.143,2,   1.9030,2,   10.63,2, -999.00,9,  -999.0,9,  -999.0,   8.251,2,   0.009,  39.6138,2,  1418.6,   0.004,   0.5947,     -999.0,9,     -999.0,9,     -999.0,9,     -999.0,9,     -999.0,9,     -999.0,9,     -999.0,9, -999.00,9,-999.0000,9,-999.0000,9,-999.0000,9,-999.0000,9,-999.0000,9,-999.0000,9,   0.0010,    0.22
33RR20050106,       P16S,      97,          1,          9,          9,2,20050207,       0649,   -64.0010,  -149.9983,       3237,  1621.4,   0.5873,  34.7066,2,  34.7072,2,    204.6,2,   205.4,2,  126.34,2,   32.39,2,    0.00,2,    2.25,2,   0.159,2,   0.098,2,   0.028,2,  2266.8,4,  2358.0,2,   0.141,2,   1.8940,2,   10.85,2, -999.00,9,  -999.0,9,  -999.0,  11.212,4,   0.254,  38.0104,2,  1621.4,   0.005,   0.4992,     -999.0,9,     -999.0,9,     -999.0,9,     -999.0,9,     -999.0,9,     -999.0,9,     -999.0,9, -999.00,9,-999.0000,9,-999.0000,9,-999.0000,9,-999.0000,9,-999.0000,9,-999.0000,9,   0.0010,    0.24
33RR20050106,       P16S,      97,          1,          8,          8,2,20050207,       0649,   -64.0010,  -149.9983,       3237,  1824.4,   0.5092,  34.7050,2,  34.7054,2,    206.5,2,   207.6,2,  127.35,2,   32.44,2,    0.00,2,    2.24,2,   0.084,2,   0.052,2,   0.012,2,  2261.0,2,  2357.6,2,   0.000,2,   1.8900,2,   10.69,2, -999.00,9,  -999.0,9,  -999.0,   8.275,2,   0.010,-999.0000,9,  1824.4,   0.005,   0.4081,     -999.0,9,     -999.0,9,     -999.0,9,     -999.0,9,     -999.0,9,     -999.0,9,     -999.0,9, -999.00,9,-999.0000,9,-999.0000,9,-999.0000,9,-999.0000,9,-999.0000,9,-999.0000,9,   0.0010,    0.22
33RR20050106,       P16S,      97,          1,          7,          7,2,20050207,       0649,   -64.0010,  -149.9983,       3237,  2027.6,   0.4353,  34.7040,2,  34.7038,2,    208.4,2,   209.4,2,  128.59,2,   32.49,2,    0.00,2,    2.25,2,   0.089,2,   0.052,2,   0.017,2,  2261.3,2,  2358.1,2,   0.076,2,   2.0420,3,    9.83,2, -999.00,9,  -999.0,9,  -999.0,   8.854,3,   0.011,  39.3041,2,  2027.6,   0.006,   0.3206,     -999.0,9,     -999.0,9,     -999.0,9,     -999.0,9,     -999.0,9,     -999.0,9,     -999.0,9, -999.00,9,-999.0000,9,-999.0000,9,-999.0000,9,-999.0000,9,-999.0000,9,-999.0000,9,   0.0010,    0.21
33RR20050106,       P16S,      97,          1,          6,          6,2,20050207,       0649,   -64.0010,  -149.9983,       3237,  2271.4,   0.3573,  34.7030,2,  34.7034,2,    210.8,2,   211.4,2,  129.61,2,   32.49,2,    0.00,2,    2.25,2,   0.160,2,   0.092,2,   0.018,2,  2261.2,2,  2357.8,2,   0.011,2,   1.8960,2,    9.50,2, -999.00,9,  -999.0,9,  -999.0,   8.281,2,   0.010,-999.0000,9,  2271.4,   0.003,   0.2256,     -999.0,9,     -999.0,9,     -999.0,9,     -999.0,9,     -999.0,9,     -999.0,9,     -999.0,9, -999.00,9,-999.0000,9,-999.0000,9,-999.0000,9,-999.0000,9,-999.0000,9,-999.0000,9,   0.0010,    0.22
33RR20050106,       P16S,      97,          1,          5,          5,2,20050207,       0649,   -64.0010,  -149.9983,       3237,  2515.4,   0.2729,  34.7010,2,  34.7017,2,    213.5,2,   214.1,2,  128.96,2,   32.44,2,    0.00,2,    2.24,2,   0.360,2,   0.193,2,   0.036,2,  2260.9,2,  2357.4,2,-999.000,9,   1.9770,2,    8.67,2, -999.00,9,  -999.0,9,  -999.0,   8.580,2,   0.011,  39.2348,2,  2515.4,-999.000,   0.1237,     -999.0,9,     -999.0,9,     -999.0,9,     -999.0,9,     -999.0,9,     -999.0,9,     -999.0,9, -999.00,9,-999.0000,9,-999.0000,9,-999.0000,9,-999.0000,9,-999.0000,9,-999.0000,9,   0.0010,    0.22
33RR20050106,       P16S,      97,          1,          4,          4,2,20050207,       0649,   -64.0010,  -149.9983,       3237,  2760.0,   0.1880,  34.6976,2,  34.6975,2,    217.0,2,   218.1,2,  125.15,2,   32.27,2,    0.00,2,    2.24,2,   0.667,2,   0.361,2,   0.063,2,  2260.3,2,  2355.9,2,   0.004,2,-999.0000,9, -999.00,9, -999.00,9,  -999.0,9,  -999.0,-999.000,9,-999.000,-999.0000,9,  2760.0,   0.003,   0.0206,     -999.0,9,     -999.0,9,     -999.0,9,     -999.0,9,     -999.0,9,     -999.0,9,     -999.0,9, -999.00,9,-999.0000,9,-999.0000,9,-999.0000,9,-999.0000,9,-999.0000,9,-999.0000,9,-999.0000, -999.00
33RR20050106,       P16S,      97,          1,          3,          3,2,20050207,       0649,   -64.0010,  -149.9983,       3237,  2999.8,   0.1636,  34.6959,2,  34.6958,2,    219.0,2,   220.6,2,  123.24,2,   32.22,2,    0.00,2,    2.24,2,   0.794,2,   0.409,2,   0.069,2,  2259.8,2,  2355.7,2,-999.000,9,   1.9220,2,    8.04,2, -999.00,9,  -999.0,9,  -999.0,   8.403,2,   0.010,  38.4749,2,  2999.8,-999.000,  -0.0236,     -999.0,9,     -999.0,9,     -999.0,9,     -999.0,9,     -999.0,9,     -999.0,9,     -999.0,9, -999.00,9,-999.0000,9,-999.0000,9,-999.0000,9,-999.0000,9,-999.0000,9,-999.0000,9,   0.0010,    0.23
33RR20050106,       P16S,      97,          1,          2,          2,2,20050207,       0649,   -64.0010,  -149.9983,       3237,  3152.7,   0.1629,  34.6957,2,  34.6962,2,    219.4,2,   220.2,2,  123.22,2,   32.23,2,    0.00,2,    2.24,2,   0.743,2,   0.373,2,   0.054,2,  2260.3,2,  2355.5,2,   0.000,2,   1.9060,2,    7.90,2, -999.00,9,  -999.0,9,  -999.0,   8.406,2,   0.023,-999.0000,9,  3152.7,   0.003,  -0.0377,     -999.0,9,     -999.0,9,     -999.0,9,     -999.0,9,     -999.0,9,     -999.0,9,     -999.0,9, -999.00,9,-999.0000,9,-999.0000,9,-999.0000,9,-999.0000,9,-999.0000,9,-999.0000,9,   0.0010,    0.23
33RR20050106,       P16S,      97,          1,          1,          1,2,20050207,       0649,   -64.0010,  -149.9983,       3237,  3254.8,   0.1714,  34.6956,2,  34.6964,2,    219.3,2,   220.1,2,  123.19,2,   32.23,2,    0.00,2,    2.24,2,   0.768,2,   0.389,2,   0.050,2,  2258.9,6,  2356.7,6,   0.036,2,   2.0130,2,    7.54,2, -999.00,9,  -999.0,9,  -999.0,   8.714,3,   0.015,  37.6484,2,  3254.8,   0.010,  -0.0385,     -999.0,9,     -999.0,9,     -999.0,9,     -999.0,9,     -999.0,9,     -999.0,9,     -999.0,9, -999.00,9,-999.0000,9,-999.0000,9,-999.0000,9,-999.0000,9,-999.0000,9,-999.0000,9,   0.0010,    0.22