BOTTLE,20201109CCHSIOCBG
EXPOCODE,SECT_ID,STNNBR,CASTNO,SAMPNO,BTLNBR,BTLNBR_FLAG_W,DATE,TIME,LATITUDE,LONGITUDE,DEPTH,CTDPRS,CTDTMP,CTDSAL,CTDSAL_FLAG_W,SALNTY,SALNTY_FLAG_W,CTDOXY,CTDOXY_FLAG_W,OXYGEN,OXYGEN_FLAG_W,SILCAT,SILCAT_FLAG_W,NITRAT,NITRAT_FLAG_W,NITRIT,NITRIT_FLAG_W,PHSPHT,PHSPHT_FLAG_W,CFC-11,CFC-11_FLAG_W,CFC-12,CFC-12_FLAG_W,CFC113,CFC113_FLAG_W,TCARBN,TCARBN_FLAG_W,ALKALI,ALKALI_FLAG_W,TRITUM,TRITUM_FLAG_W,HELIUM,HELIUM_FLAG_W,DELHE3,DELHE3_FLAG_W,DELC13,DELC13_FLAG_W,DELC14,DELC14_FLAG_W,C14ERR,NEON,NEON_FLAG_W,NEONER,DOC,DOC_FLAG_W,CTDRAW,TRITER,THETA,FUCO,FUCO_FLAG_W,RHAM,RHAM_FLAG_W,ARABA,ARABA_FLAG_W,GALA,GALA_FLAG_W,GLUC,GLUC_FLAG_W,MAN,MAN_FLAG_W,DCNS,DCNS_FLAG_W,BRDU,BRDU_FLAG_W,CDOM325,CDOM325_FLAG_W,CDOM340,CDOM340_FLAG_W,CDOM380,CDOM380_FLAG_W,CDOM412,CDOM412_FLAG_W,CDOMSL,CDOMSL_FLAG_W,CDOMSN,CDOMSN_FLAG_W,HELIER,DELHER
,,,,,,,,,,,METERS,DBAR,ITS-90,PSS-78,,PSS-78,,UMOL/KG,,UMOL/KG,,UMOL/KG,,UMOL/KG,,UMOL/KG,,UMOL/KG,,PMOL/KG,,PMOL/KG,,PMOL/KG,,UMOL/KG,,UMOL/KG,,TU,,NMOL/KG,,PERCNT,,/MILLE,,/MILLE,,/MILLE,NMOL/KG,,NMOL/KG,UMOL/KG,,DBAR,TU,DEG C,NMOL/KG,,NMOL/KG,,NMOL/KG,,NMOL/KG,,NMOL/KG,,NMOL/KG,,NMOL/KG,,PMOL/L/H,,1/M,,1/M,,1/M,,1/M,,1/NM,,1/NM,,NMOL/KG,PERCNT
33RR20050106,       P16S,     109,          1,         32,         32,2,20050210,       1554,   -70.0002,  -150.0003,       4375,     2.9,  -0.4982,  33.5898,2,  33.5904,2,    362.3,2,   363.9,2,   32.83,2,   21.45,2,    0.26,2,    1.40,2,   6.155,2,   3.316,2,   0.614,2,  2127.1,6,  2274.2,6,-999.000,9,-999.0000,9, -999.00,9, -999.00,9,  -999.0,9,  -999.0,-999.000,9,-999.000,  41.4652,2,     2.9,-999.000,  -0.4983,         81,2,         85,2,         62,2,        158,2,        178,2,        177,2,        740,2, -999.00,9,   0.0960,2,   0.0650,2,   0.0230,2,   0.0150,2,   0.0288,2,   0.0280,2,-999.0000, -999.00
33RR20050106,       P16S,     109,          1,         31,         31,2,20050210,       1554,   -70.0002,  -150.0003,       4375,    25.3,  -0.5117,  33.5916,2,  33.5939,2,    364.2,2,   363.7,2,   32.82,2,   21.56,2,    0.26,2,    1.40,2,   6.112,2,   3.315,2,   0.625,2,  2127.9,2,  2273.9,2,-999.000,9,-999.0000,9, -999.00,9, -999.00,9,  -999.0,9,  -999.0,-999.000,9,-999.000,  41.0325,2,    25.3,-999.000,  -0.5124,     -999.0,9,     -999.0,9,     -999.0,9,     -999.0,9,     -999.0,9,     -999.0,9,     -999.0,9, -999.00,9,   0.1330,2,   0.0940,2,   0.0260,2,   0.0170,2,   0.0330,2,   0.0299,2,-999.0000, -999.00
33RR20050106,       P16S,     109,          1,         30,         30,2,20050210,       1554,   -70.0002,  -150.0003,       4375,    50.5,  -1.6559,  33.9985,2,  33.9994,2,    329.4,2,   330.6,2,   43.92,2,   26.00,2,    0.22,2,    1.85,2,   5.490,2,   2.973,2,   0.540,2,  2177.9,2,  2297.3,2,-999.000,9,-999.0000,9, -999.00,9, -999.00,9,  -999.0,9,  -999.0,-999.000,9,-999.000,  40.0569,2,    50.5,-999.000,  -1.6569,         46,2,         45,2,         80,2,        109,2,        214,2,        200,2,        694,2, -999.00,9,   0.0800,2,   0.0500,2,   0.0240,2,   0.0170,2,   0.0261,2,   0.0282,2,-999.0000, -999.00
33RR20050106,       P16S,     109,          1,         29,         29,2,20050210,       1554,   -70.0002,  -150.0003,       4375,    75.7,  -1.7232,  34.0686,2,  34.0621,2,    317.1,2,   318.5,2,   45.76,2,   26.67,2,    0.28,2,    1.91,2,   5.275,2,   2.877,2,   0.518,2,  2189.5,2,  2300.9,2,-999.000,9,-999.0000,9, -999.00,9, -999.00,9,  -999.0,9,  -999.0,-999.000,9,-999.000,  39.6780,2,    75.7,-999.000,  -1.7247,         37,2,         33,2,         71,2,         93,2,        112,2,         87,2,        433,2, -999.00,9,   0.0840,2,   0.0530,2,   0.0260,2,   0.0190,2,   0.0236,2,   0.0260,2,-999.0000, -999.00
33RR20050106,       P16S,     109,          1,         28,         28,2,20050210,       1554,   -70.0002,  -150.0003,       4375,    93.8,  -1.7077,  34.0826,2,  34.0811,2,    310.2,2,   314.1,2,   46.36,2,   26.94,2,    0.32,2,    1.92,2,   5.285,2,   2.895,2,   0.520,2,  2192.6,2,  2301.1,2,-999.000,9,-999.0000,9, -999.00,9, -999.00,9,  -999.0,9,  -999.0,-999.000,9,-999.000,  43.2204,2,    93.8,-999.000,  -1.7096,         27,2,         25,2,         73,2,         67,2,        144,2,         63,2,        400,2, -999.00,9,   0.0850,2,   0.0540,2,   0.0280,2,   0.0200,2,   0.0220,2,   0.0243,2,-999.0000, -999.00
33RR20050106,       P16S,     109,          1,         27,         27,2,20050210,       1554,   -70.0002,  -150.0003,       4375,   125.9,  -1.0984,  34.1734,2,  34.1641,2,    292.2,2,   292.8,2,   53.58,2,   28.86,2,    0.02,2,    2.00,2,   4.539,2,   2.511,2,   0.451,2,  2202.5,2,  2306.0,2,-999.000,9,-999.0000,9, -999.00,9, -999.00,9,  -999.0,9,  -999.0,-999.000,9,-999.000,  40.8458,2,   125.9,-999.000,  -1.1017,     -999.0,9,     -999.0,9,     -999.0,9,     -999.0,9,     -999.0,9,     -999.0,9,     -999.0,9, -999.00,9,   0.0910,2,   0.0590,2,   0.0300,2,   0.0220,2,   0.0209,2,   0.0234,2,-999.0000, -999.00
33RR20050106,       P16S,     109,          1,         26,         26,2,20050210,       1554,   -70.0002,  -150.0003,       4375,   156.2,  -0.1648,  34.3382,2,  34.3213,2,    257.4,2,   257.2,2,   66.00,2,   30.64,2,    0.01,2,    2.11,2,   3.327,2,   1.872,2,   0.324,2,  2221.4,2,  2317.0,2,-999.000,9,-999.0000,9, -999.00,9, -999.00,9,  -999.0,9,  -999.0,-999.000,9,-999.000,  39.4426,2,   156.2,-999.000,  -0.1702,         20,2,         26,2,         53,2,         62,2,        175,3,         56,2,        394,3, -999.00,9,   0.1620,2,   0.1160,2,   0.0360,2,   0.0250,2,   0.0276,2,   0.0283,2,-999.0000, -999.00
33RR20050106,       P16S,     109,          1,         25,         25,2,20050210,       1554,   -70.0002,  -150.0003,       4375,   206.7,   1.2458,  34.6065,2,  34.5968,2,    197.7,2,   197.1,2,   83.22,2,   32.72,2,    0.01,2,    2.26,2,   1.146,2,   0.639,2,   0.101,2,  2249.9,2,  2334.2,2,-999.000,9,-999.0000,9, -999.00,9, -999.00,9,  -999.0,9,  -999.0,-999.000,9,-999.000,  39.6661,2,   206.7,-999.000,   1.2360,     -999.0,9,     -999.0,9,     -999.0,9,     -999.0,9,     -999.0,9,     -999.0,9,     -999.0,9, -999.00,9,   0.1710,2,   0.1240,2,   0.0440,2,   0.0310,2,   0.0207,3,   0.0241,3,-999.0000, -999.00
33RR20050106,       P16S,     109,          1,         24,         24,2,20050210,       1554,   -70.0002,  -150.0003,       4375,   272.1,   1.5827,  34.7065,2,  34.7060,2,    181.9,2,   184.0,2,   91.33,2,   32.31,2,    0.01,2,    2.23,2,   0.391,2,   0.214,2,   0.030,2,  2256.7,2,  2344.4,2,-999.000,9,-999.0000,9, -999.00,9, -999.00,9,  -999.0,9,  -999.0,-999.000,9,-999.000,  39.0575,2,   272.1,-999.000,   1.5688,         30,2,         28,2,         30,2,         68,2,        113,2,        110,2,        378,2, -999.00,9,   0.1230,2,   0.0830,2,   0.0430,2,   0.0310,2,   0.0160,2,   0.0185,2,-999.0000, -999.00
33RR20050106,       P16S,     109,          1,         23,         23,2,20050210,       1554,   -70.0002,  -150.0003,       4375,   307.6,   1.5755,  34.7216,2,  34.7208,2,    183.2,2,   185.1,2,   93.61,2,   32.10,2,    0.00,2,    2.22,2,   0.299,2,   0.165,2,   0.024,2,  2256.8,2,  2346.5,2,-999.000,9,-999.0000,9, -999.00,9, -999.00,9,  -999.0,9,  -999.0,-999.000,9,-999.000,  39.8267,2,   307.6,-999.000,   1.5597,     -999.0,9,     -999.0,9,     -999.0,9,     -999.0,9,     -999.0,9,     -999.0,9,     -999.0,9, -999.00,9,   0.1180,2,   0.0790,2,   0.0400,2,   0.0280,2,   0.0170,2,   0.0194,2,-999.0000, -999.00
33RR20050106,       P16S,     109,          1,         22,         22,2,20050210,       1554,   -70.0002,  -150.0003,       4375,   357.8,   1.5254,  34.7271,2,  34.7267,2,    184.4,2,   185.5,2,   96.11,2,   32.11,2,    0.00,2,    2.21,2,   0.266,2,   0.137,2,   0.020,2,  2256.6,2,  2347.9,2,-999.000,9,-999.0000,9, -999.00,9, -999.00,9,  -999.0,9,  -999.0,-999.000,9,-999.000,  40.4791,2,   357.8,-999.000,   1.5071,     -999.0,9,     -999.0,9,     -999.0,9,     -999.0,9,     -999.0,9,     -999.0,9,     -999.0,9, -999.00,9,   0.1190,2,   0.0810,2,   0.0420,2,   0.0290,2,   0.0164,2,   0.0187,2,-999.0000, -999.00
33RR20050106,       P16S,     109,          1,         21,         21,2,20050210,       1554,   -70.0002,  -150.0003,       4375,   408.4,   1.4828,  34.7307,2,  34.7296,2,    185.3,2,   186.0,2,   98.39,2,   32.17,2,    0.00,2,    2.21,2,   0.241,2,   0.129,2,   0.014,2,  2260.3,2,  2348.6,2,-999.000,9,-999.0000,9, -999.00,9, -999.00,9,  -999.0,9,  -999.0,-999.000,9,-999.000,  45.1274,2,   408.4,-999.000,   1.4618,     -999.0,9,     -999.0,9,     -999.0,9,     -999.0,9,     -999.0,9,     -999.0,9,     -999.0,9, -999.00,9,   0.1220,2,   0.0830,2,   0.0430,2,   0.0300,2,   0.0161,2,   0.0186,2,-999.0000, -999.00
33RR20050106,       P16S,     109,          1,         20,         20,2,20050210,       1554,   -70.0002,  -150.0003,       4375,   509.3,   1.3887,  34.7320,2,  34.7316,2,    186.1,2,   187.1,2,  102.14,2,   32.22,2,    0.00,2,    2.21,2,   0.241,2,   0.130,2,   0.021,2,  2260.4,2,  2350.8,2,-999.000,9,-999.0000,9, -999.00,9, -999.00,9,  -999.0,9,  -999.0,-999.000,9,-999.000,  40.4646,2,   509.3,-999.000,   1.3625,     -999.0,9,     -999.0,9,     -999.0,9,     -999.0,9,     -999.0,9,     -999.0,9,     -999.0,9, -999.00,9,   0.1260,2,   0.0870,2,   0.0420,2,   0.0300,2,   0.0168,2,   0.0194,2,-999.0000, -999.00
33RR20050106,       P16S,     109,          1,         19,         19,2,20050210,       1554,   -70.0002,  -150.0003,       4375,   610.2,   1.3082,  34.7315,2,  34.7318,2,    186.8,2,   186.6,2,  105.47,2,   32.33,2,    0.00,2,    2.22,2,   0.147,2,   0.078,2,   0.010,2,  2262.2,6,  2351.1,2,-999.000,9,-999.0000,9, -999.00,9, -999.00,9,  -999.0,9,  -999.0,-999.000,9,-999.000,  39.4125,2,   610.2,-999.000,   1.2767,     -999.0,9,     -999.0,9,     -999.0,9,     -999.0,9,     -999.0,9,     -999.0,9,     -999.0,9, -999.00,9,   0.1260,2,   0.0870,2,   0.0430,2,   0.0300,2,   0.0165,2,   0.0191,2,-999.0000, -999.00
33RR20050106,       P16S,     109,          1,         18,         18,2,20050210,       1554,   -70.0002,  -150.0003,       4375,   812.2,   1.1681,  34.7280,2,  34.7289,2,    190.0,2,   190.3,2,  110.07,2,   32.34,2,    0.00,2,    2.23,2,   0.113,2,   0.063,2,   0.012,2,  2263.4,2,  2354.1,6,-999.000,9,-999.0000,9, -999.00,9, -999.00,9,  -999.0,9,  -999.0,-999.000,9,-999.000,  40.7718,2,   812.2,-999.000,   1.1257,     -999.0,9,     -999.0,9,     -999.0,9,     -999.0,9,     -999.0,9,     -999.0,9,     -999.0,9, -999.00,9,   0.1210,2,   0.0820,2,   0.0430,2,   0.0310,2,   0.0158,2,   0.0182,2,-999.0000, -999.00
33RR20050106,       P16S,     109,          1,         17,         17,2,20050210,       1554,   -70.0002,  -150.0003,       4375,  1014.5,   1.0380,  34.7232,2,  34.7242,2,    195.2,2,   195.4,2,  114.04,2,   32.03,2,    0.00,2,    2.22,2,   0.101,2,   0.055,2,   0.008,2,  2262.0,2,  2356.3,2,-999.000,9,-999.0000,9, -999.00,9, -999.00,9,  -999.0,9,  -999.0,-999.000,9,-999.000,  39.1649,2,  1014.5,-999.000,   0.9844,     -999.0,9,     -999.0,9,     -999.0,9,     -999.0,9,     -999.0,9,     -999.0,9,     -999.0,9, -999.00,9,   0.1160,2,   0.0780,2,   0.0410,2,   0.0290,2,   0.0162,2,   0.0186,2,-999.0000, -999.00
33RR20050106,       P16S,     109,          1,         16,         16,2,20050210,       1554,   -70.0002,  -150.0003,       4375,  1216.9,   0.9153,  34.7184,2,  34.7191,2,    198.3,2,   198.8,2,  117.59,2,   32.23,2,    0.00,2,    2.22,2,   0.077,2,   0.043,2,   0.008,2,  2262.5,2,  2359.6,2,-999.000,9,-999.0000,9, -999.00,9, -999.00,9,  -999.0,9,  -999.0,-999.000,9,-999.000,-999.0000,9,  1216.9,-999.000,   0.8501,     -999.0,9,     -999.0,9,     -999.0,9,     -999.0,9,     -999.0,9,     -999.0,9,     -999.0,9, -999.00,9,-999.0000,9,-999.0000,9,-999.0000,9,-999.0000,9,-999.0000,9,-999.0000,9,-999.0000, -999.00
33RR20050106,       P16S,     109,          1,         15,         15,2,20050210,       1554,   -70.0002,  -150.0003,       4375,  1419.4,   0.8219,  34.7145,2,  34.7135,2,    200.8,2,   201.2,2,  120.72,2,   32.29,2,    0.00,2,    2.23,2,   0.081,2,   0.047,2,   0.011,2,  2262.4,2,  2358.0,2,-999.000,9,-999.0000,9, -999.00,9, -999.00,9,  -999.0,9,  -999.0,-999.000,9,-999.000,  37.1738,3,  1419.4,-999.000,   0.7445,     -999.0,9,     -999.0,9,     -999.0,9,     -999.0,9,     -999.0,9,     -999.0,9,     -999.0,9, -999.00,9,   0.1140,2,   0.0760,2,   0.0400,2,   0.0290,2,   0.0165,2,   0.0189,2,-999.0000, -999.00
33RR20050106,       P16S,     109,          1,         14,         14,2,20050210,       1554,   -70.0002,  -150.0003,       4375,  1622.2,   0.7338,  34.7109,2,  34.7114,2,    202.6,2,   203.3,2,  124.06,2,   32.35,2,    0.00,2,    2.22,2,   0.141,2,   0.079,2,   0.013,2,  2262.1,2,  2359.2,2,-999.000,9,-999.0000,9, -999.00,9, -999.00,9,  -999.0,9,  -999.0,-999.000,9,-999.000,-999.0000,9,  1622.2,-999.000,   0.6437,     -999.0,9,     -999.0,9,     -999.0,9,     -999.0,9,     -999.0,9,     -999.0,9,     -999.0,9, -999.00,9,-999.0000,9,-999.0000,9,-999.0000,9,-999.0000,9,-999.0000,9,-999.0000,9,-999.0000, -999.00
33RR20050106,       P16S,     109,          1,         13,         13,2,20050210,       1554,   -70.0002,  -150.0003,       4375,  1825.0,   0.6604,  34.7083,2,  34.7083,2,    204.1,2,   205.0,2,  126.36,2,   32.41,2,    0.00,2,    2.23,2,   0.116,2,   0.060,2,   0.014,2,  2262.6,2,  2359.4,2,-999.000,9,-999.0000,9, -999.00,9, -999.00,9,  -999.0,9,  -999.0,-999.000,9,-999.000,  42.8620,2,  1825.0,-999.000,   0.5570,     -999.0,9,     -999.0,9,     -999.0,9,     -999.0,9,     -999.0,9,     -999.0,9,     -999.0,9, -999.00,9,   0.1150,2,   0.0780,2,   0.0410,2,   0.0290,2,   0.0161,2,   0.0185,2,-999.0000, -999.00
33RR20050106,       P16S,     109,          1,         12,         12,2,20050210,       1554,   -70.0002,  -150.0003,       4375,  2028.1,   0.5914,  34.7064,2,  34.7069,2,    205.8,2,   206.6,2,  127.40,2,   32.46,2,    0.00,2,    2.24,2,   0.105,2,   0.057,2,   0.013,2,  2262.0,2,  2357.9,2,-999.000,9,-999.0000,9, -999.00,9, -999.00,9,  -999.0,9,  -999.0,-999.000,9,-999.000,-999.0000,9,  2028.1,-999.000,   0.4742,     -999.0,9,     -999.0,9,     -999.0,9,     -999.0,9,     -999.0,9,     -999.0,9,     -999.0,9, -999.00,9,-999.0000,9,-999.0000,9,-999.0000,9,-999.0000,9,-999.0000,9,-999.0000,9,-999.0000, -999.00
33RR20050106,       P16S,     109,          1,         11,         11,2,20050210,       1554,   -70.0002,  -150.0003,       4375,  2282.4,   0.4970,  34.7049,2,  34.7053,2,    207.9,2,   208.9,2,  127.80,2,   32.52,2,    0.00,2,    2.24,2,   0.119,2,   0.059,2,   0.010,2,  2261.4,2,  2358.6,2,-999.000,9,-999.0000,9, -999.00,9, -999.00,9,  -999.0,9,  -999.0,-999.000,9,-999.000,  40.1453,2,  2282.4,-999.000,   0.3620,     -999.0,9,     -999.0,9,     -999.0,9,     -999.0,9,     -999.0,9,     -999.0,9,     -999.0,9, -999.00,9,   0.1140,2,   0.0770,2,   0.0390,2,   0.0280,2,   0.0171,2,   0.0195,2,-999.0000, -999.00
33RR20050106,       P16S,     109,          1,         10,         10,2,20050210,       1554,   -70.0002,  -150.0003,       4375,  2536.6,   0.4189,  34.7044,2,  34.7049,2,    209.7,2,   210.8,2,  130.73,2,   32.58,2,    0.00,2,    2.24,2,   0.115,2,   0.060,2,   0.015,2,  2261.6,2,  2358.5,2,-999.000,9,-999.0000,9, -999.00,9, -999.00,9,  -999.0,9,  -999.0,-999.000,9,-999.000,-999.0000,9,  2536.6,-999.000,   0.2652,     -999.0,9,     -999.0,9,     -999.0,9,     -999.0,9,     -999.0,9,     -999.0,9,     -999.0,9, -999.00,9,-999.0000,9,-999.0000,9,-999.0000,9,-999.0000,9,-999.0000,9,-999.0000,9,-999.0000, -999.00
33RR20050106,       P16S,     109,          1,          9,          9,2,20050210,       1554,   -70.0002,  -150.0003,       4375,  2791.5,   0.3511,  34.7039,2,  34.7043,2,    211.6,2,   212.7,2,  132.41,2,   32.53,2,    0.00,2,    2.24,2,   0.174,2,   0.090,2,   0.018,2,  2261.8,2,  2358.8,2,-999.000,9,-999.0000,9, -999.00,9, -999.00,9,  -999.0,9,  -999.0,-999.000,9,-999.000,  39.4329,2,  2791.5,-999.000,   0.1776,     -999.0,9,     -999.0,9,     -999.0,9,     -999.0,9,     -999.0,9,     -999.0,9,     -999.0,9, -999.00,9,   0.1130,2,   0.0760,2,   0.0390,2,   0.0280,2,   0.0174,2,   0.0198,2,-999.0000, -999.00
33RR20050106,       P16S,     109,          1,          8,          8,2,20050210,       1554,   -70.0002,  -150.0003,       4375,  3046.4,   0.3006,  34.7033,2,  34.7036,2,    213.4,2,   214.2,2,  132.82,2,   32.53,2,    0.00,2,    2.25,2,   0.156,2,   0.083,2,   0.018,2,  2262.4,2,  2359.3,6,-999.000,9,-999.0000,9, -999.00,9, -999.00,9,  -999.0,9,  -999.0,-999.000,9,-999.000,-999.0000,9,  3046.4,-999.000,   0.1062,     -999.0,9,     -999.0,9,     -999.0,9,     -999.0,9,     -999.0,9,     -999.0,9,     -999.0,9, -999.00,9,-999.0000,9,-999.0000,9,-999.0000,9,-999.0000,9,-999.0000,9,-999.0000,9,-999.0000, -999.00
33RR20050106,       P16S,     109,          1,          7,          7,2,20050210,       1554,   -70.0002,  -150.0003,       4375,  3250.6,   0.2583,  34.7027,2,  34.7024,2,    214.9,2,   215.8,2,  133.63,2,   32.59,2,    0.00,2,    2.24,2,   0.239,2,   0.126,2,   0.022,2,  2261.3,2,  2358.7,6,-999.000,9,-999.0000,9, -999.00,9, -999.00,9,  -999.0,9,  -999.0,-999.000,9,-999.000,  39.7377,2,  3250.6,-999.000,   0.0466,     -999.0,9,     -999.0,9,     -999.0,9,     -999.0,9,     -999.0,9,     -999.0,9,     -999.0,9, -999.00,9,   0.1080,2,   0.0720,2,   0.0380,2,   0.0270,2,   0.0172,2,   0.0196,2,-999.0000, -999.00
33RR20050106,       P16S,     109,          1,          6,          6,2,20050210,       1554,   -70.0002,  -150.0003,       4375,  3455.0,   0.2131,  34.7007,2,  34.7006,2,    217.6,2,   218.6,2,  129.01,2,   32.54,2,    0.00,2,    2.24,2,   0.414,2,   0.212,2,   0.027,2,  2260.7,2,  2357.1,2,-999.000,9,-999.0000,9, -999.00,9, -999.00,9,  -999.0,9,  -999.0,-999.000,9,-999.000,-999.0000,9,  3455.0,-999.000,  -0.0163,     -999.0,9,     -999.0,9,     -999.0,9,     -999.0,9,     -999.0,9,     -999.0,9,     -999.0,9, -999.00,9,-999.0000,9,-999.0000,9,-999.0000,9,-999.0000,9,-999.0000,9,-999.0000,9,-999.0000, -999.00
33RR20050106,       P16S,     109,          1,          5,          5,2,20050210,       1554,   -70.0002,  -150.0003,       4375,  3608.6,   0.1824,  34.6992,2,  34.6993,2,    219.7,2,   220.7,2,  125.00,2,   32.43,2,    0.00,2,    2.23,2,   0.569,2,   0.288,2,   0.036,2,  2259.1,2,  2356.7,2,-999.000,9,-999.0000,9, -999.00,9, -999.00,9,  -999.0,9,  -999.0,-999.000,9,-999.000,  38.9923,2,  3608.6,-999.000,  -0.0607,     -999.0,9,     -999.0,9,     -999.0,9,     -999.0,9,     -999.0,9,     -999.0,9,     -999.0,9, -999.00,9,   0.1080,2,   0.0720,2,   0.0380,2,   0.0270,2,   0.0170,2,   0.0194,2,-999.0000, -999.00
33RR20050106,       P16S,     109,          1,          4,          4,2,20050210,       1554,   -70.0002,  -150.0003,       4375,  3813.3,   0.1645,  34.6983,2,  34.6981,2,    221.3,2,   221.9,2,  122.28,2,   32.33,2,    0.00,2,    2.23,2,   0.680,2,   0.337,2,   0.045,2,  2259.0,2,  2355.1,2,-999.000,9,-999.0000,9, -999.00,9, -999.00,9,  -999.0,9,  -999.0,-999.000,9,-999.000,-999.0000,9,  3813.3,-999.000,  -0.0980,     -999.0,9,     -999.0,9,     -999.0,9,     -999.0,9,     -999.0,9,     -999.0,9,     -999.0,9, -999.00,9,-999.0000,9,-999.0000,9,-999.0000,9,-999.0000,9,-999.0000,9,-999.0000,9,-999.0000, -999.00
33RR20050106,       P16S,     109,          1,          3,          3,2,20050210,       1554,   -70.0002,  -150.0003,       4375,  4069.6,   0.1736,  34.6987,2,  34.6987,2,    221.7,2,   222.3,2,  122.27,2,   32.34,2,    0.00,2,    2.24,2,   0.667,6,   0.342,6,   0.040,6,  2259.8,2,  2354.2,6,-999.000,9,-999.0000,9, -999.00,9, -999.00,9,  -999.0,9,  -999.0,-999.000,9,-999.000,  39.4923,2,  4069.6,-999.000,  -0.1148,     -999.0,9,     -999.0,9,     -999.0,9,     -999.0,9,     -999.0,9,     -999.0,9,     -999.0,9, -999.00,9,   0.1110,2,   0.0740,2,   0.0380,2,   0.0270,2,   0.0169,2,   0.0194,2,-999.0000, -999.00