BOTTLE,20201109CCHSIOCBG
EXPOCODE,SECT_ID,STNNBR,CASTNO,SAMPNO,BTLNBR,BTLNBR_FLAG_W,DATE,TIME,LATITUDE,LONGITUDE,DEPTH,CTDPRS,CTDTMP,CTDSAL,CTDSAL_FLAG_W,SALNTY,SALNTY_FLAG_W,CTDOXY,CTDOXY_FLAG_W,OXYGEN,OXYGEN_FLAG_W,SILCAT,SILCAT_FLAG_W,NITRAT,NITRAT_FLAG_W,NITRIT,NITRIT_FLAG_W,PHSPHT,PHSPHT_FLAG_W,CFC-11,CFC-11_FLAG_W,CFC-12,CFC-12_FLAG_W,CFC113,CFC113_FLAG_W,TCARBN,TCARBN_FLAG_W,ALKALI,ALKALI_FLAG_W,TRITUM,TRITUM_FLAG_W,HELIUM,HELIUM_FLAG_W,DELHE3,DELHE3_FLAG_W,DELC13,DELC13_FLAG_W,DELC14,DELC14_FLAG_W,C14ERR,NEON,NEON_FLAG_W,NEONER,DOC,DOC_FLAG_W,CTDRAW,TRITER,THETA,FUCO,FUCO_FLAG_W,RHAM,RHAM_FLAG_W,ARABA,ARABA_FLAG_W,GALA,GALA_FLAG_W,GLUC,GLUC_FLAG_W,MAN,MAN_FLAG_W,DCNS,DCNS_FLAG_W,BRDU,BRDU_FLAG_W,CDOM325,CDOM325_FLAG_W,CDOM340,CDOM340_FLAG_W,CDOM380,CDOM380_FLAG_W,CDOM412,CDOM412_FLAG_W,CDOMSL,CDOMSL_FLAG_W,CDOMSN,CDOMSN_FLAG_W,HELIER,DELHER
,,,,,,,,,,,METERS,DBAR,ITS-90,PSS-78,,PSS-78,,UMOL/KG,,UMOL/KG,,UMOL/KG,,UMOL/KG,,UMOL/KG,,UMOL/KG,,PMOL/KG,,PMOL/KG,,PMOL/KG,,UMOL/KG,,UMOL/KG,,TU,,NMOL/KG,,PERCNT,,/MILLE,,/MILLE,,/MILLE,NMOL/KG,,NMOL/KG,UMOL/KG,,DBAR,TU,DEG C,NMOL/KG,,NMOL/KG,,NMOL/KG,,NMOL/KG,,NMOL/KG,,NMOL/KG,,NMOL/KG,,PMOL/L/H,,1/M,,1/M,,1/M,,1/M,,1/NM,,1/NM,,NMOL/KG,PERCNT
33RR20050106,       P16S,      78,          1,         33,         33,2,20050202,       0249,   -54.4992,  -150.0002,       3505,     4.4,   5.2070,  33.8298,2,  33.8304,2,    311.1,2,   312.6,2,    0.31,2,   20.25,2,    0.22,2,    1.37,2,   5.235,2,   2.753,2,   0.419,2,  2105.9,2,  2275.9,2,-999.000,9,-999.0000,9, -999.00,9, -999.00,9,  -999.0,9,  -999.0,-999.000,9,-999.000,-999.0000,9,     4.4,-999.000,   5.2067,     -999.0,9,     -999.0,9,     -999.0,9,     -999.0,9,     -999.0,9,     -999.0,9,     -999.0,9, -999.00,9,-999.0000,9,-999.0000,9,-999.0000,9,-999.0000,9,-999.0000,9,-999.0000,9,-999.0000, -999.00
33RR20050106,       P16S,      78,          1,         32,         32,2,20050202,       0249,   -54.4992,  -150.0002,       3505,    47.4,   5.1889,  33.8299,2,  33.8306,2,    313.3,2,   312.6,2,    0.38,2,   20.25,2,    0.22,2,    1.37,2,   5.121,2,   2.736,2,   0.412,2,  2105.9,2,  2276.2,2,-999.000,9,-999.0000,9, -999.00,9, -999.00,9,  -999.0,9,  -999.0,-999.000,9,-999.000,-999.0000,9,    47.4,-999.000,   5.1853,     -999.0,9,     -999.0,9,     -999.0,9,     -999.0,9,     -999.0,9,     -999.0,9,     -999.0,9, -999.00,9,-999.0000,9,-999.0000,9,-999.0000,9,-999.0000,9,-999.0000,9,-999.0000,9,-999.0000, -999.00
33RR20050106,       P16S,      78,          1,         31,         31,2,20050202,       0249,   -54.4992,  -150.0002,       3505,    92.7,   2.7636,  33.8804,2,  33.8791,2,    314.8,2,   315.3,2,    4.14,2,   23.74,2,    0.22,2,    1.85,2,   5.733,2,   3.036,2,   0.473,2,  2143.7,6,  2275.5,2,-999.000,9,-999.0000,9, -999.00,9, -999.00,9,  -999.0,9,  -999.0,-999.000,9,-999.000,-999.0000,9,    92.7,-999.000,   2.7583,     -999.0,9,     -999.0,9,     -999.0,9,     -999.0,9,     -999.0,9,     -999.0,9,     -999.0,9, -999.00,9,-999.0000,9,-999.0000,9,-999.0000,9,-999.0000,9,-999.0000,9,-999.0000,9,-999.0000, -999.00
33RR20050106,       P16S,      78,          1,         30,         30,2,20050202,       0249,   -54.4992,  -150.0002,       3505,   142.3,   2.1295,  33.9097,2,  33.9095,2,    314.7,2,   317.1,2,   13.99,2,   26.00,2,    0.27,2,    1.86,2,   5.874,2,   3.040,2,   0.453,2,  2149.3,2,  2275.0,2,-999.000,9,-999.0000,9, -999.00,9, -999.00,9,  -999.0,9,  -999.0,-999.000,9,-999.000,-999.0000,9,   142.3,-999.000,   2.1220,     -999.0,9,     -999.0,9,     -999.0,9,     -999.0,9,     -999.0,9,     -999.0,9,     -999.0,9, -999.00,9,-999.0000,9,-999.0000,9,-999.0000,9,-999.0000,9,-999.0000,9,-999.0000,9,-999.0000, -999.00
33RR20050106,       P16S,      78,          1,         29,         29,2,20050202,       0249,   -54.4992,  -150.0002,       3505,   192.6,   2.2807,  33.9839,2,  33.9853,2,    305.4,2,   298.6,2,   18.95,2,   27.76,2,    0.04,2,    1.92,2,-999.000,9,-999.000,9,-999.000,9,  2161.3,2,  2280.3,2,-999.000,9,-999.0000,9, -999.00,9, -999.00,9,  -999.0,9,  -999.0,-999.000,9,-999.000,-999.0000,9,   192.6,-999.000,   2.2702,     -999.0,9,     -999.0,9,     -999.0,9,     -999.0,9,     -999.0,9,     -999.0,9,     -999.0,9, -999.00,9,-999.0000,9,-999.0000,9,-999.0000,9,-999.0000,9,-999.0000,9,-999.0000,9,-999.0000, -999.00
33RR20050106,       P16S,      78,          1,         28,         28,2,20050202,       0249,   -54.4992,  -150.0002,       3505,   242.7,   1.9971,  34.0240,2,  34.0178,2,    297.9,2,   295.0,2,   24.52,2,   28.79,2,    0.11,2,    1.99,2,   5.153,2,   2.671,2,   0.390,2,  2170.7,2,  2281.9,2,-999.000,9,-999.0000,9, -999.00,9, -999.00,9,  -999.0,9,  -999.0,-999.000,9,-999.000,-999.0000,9,   242.7,-999.000,   1.9843,     -999.0,9,     -999.0,9,     -999.0,9,     -999.0,9,     -999.0,9,     -999.0,9,     -999.0,9, -999.00,9,-999.0000,9,-999.0000,9,-999.0000,9,-999.0000,9,-999.0000,9,-999.0000,9,-999.0000, -999.00
33RR20050106,       P16S,      78,          1,         27,         27,2,20050202,       0249,   -54.4992,  -150.0002,       3505,   293.5,   1.8343,  34.0494,2,  34.0483,2,    283.8,2,   289.1,2,   28.53,2,   29.40,2,    0.03,2,    2.03,2,-999.000,9,-999.000,9,-999.000,9,  2175.0,2,  2284.2,2,-999.000,9,-999.0000,9, -999.00,9, -999.00,9,  -999.0,9,  -999.0,-999.000,9,-999.000,-999.0000,9,   293.5,-999.000,   1.8190,     -999.0,9,     -999.0,9,     -999.0,9,     -999.0,9,     -999.0,9,     -999.0,9,     -999.0,9, -999.00,9,-999.0000,9,-999.0000,9,-999.0000,9,-999.0000,9,-999.0000,9,-999.0000,9,-999.0000, -999.00
33RR20050106,       P16S,      78,          1,         26,         26,2,20050202,       0249,   -54.4992,  -150.0002,       3505,   344.2,   1.6917,  34.0755,2,  34.0804,2,    296.8,2,   281.4,2,   31.93,2,   30.23,2,    0.05,2,    2.08,2,   4.788,2,   2.478,2,   0.372,2,  2181.2,2,  2287.7,2,-999.000,9,-999.0000,9, -999.00,9, -999.00,9,  -999.0,9,  -999.0,-999.000,9,-999.000,-999.0000,9,   344.2,-999.000,   1.6740,     -999.0,9,     -999.0,9,     -999.0,9,     -999.0,9,     -999.0,9,     -999.0,9,     -999.0,9, -999.00,9,-999.0000,9,-999.0000,9,-999.0000,9,-999.0000,9,-999.0000,9,-999.0000,9,-999.0000, -999.00
33RR20050106,       P16S,      78,          1,         25,         25,2,20050202,       0249,   -54.4992,  -150.0002,       3505,   394.4,   2.4433,  34.1994,2,  34.1988,2,    241.0,2,   241.2,2,   38.32,2,   31.59,2,    0.01,2,    2.17,2,-999.000,9,-999.000,9,-999.000,9,  2213.8,2,  2294.2,2,-999.000,9,-999.0000,9, -999.00,9, -999.00,9,  -999.0,9,  -999.0,-999.000,9,-999.000,-999.0000,9,   394.4,-999.000,   2.4204,     -999.0,9,     -999.0,9,     -999.0,9,     -999.0,9,     -999.0,9,     -999.0,9,     -999.0,9, -999.00,9,-999.0000,9,-999.0000,9,-999.0000,9,-999.0000,9,-999.0000,9,-999.0000,9,-999.0000, -999.00
33RR20050106,       P16S,      78,          1,         24,         24,2,20050202,       0249,   -54.4992,  -150.0002,       3505,   444.9,   2.6777,  34.2758,2,  34.2749,2,    214.7,2,   215.9,2,   44.52,2,   32.65,2,    0.00,2,    2.25,2,   2.660,2,   1.325,2,   0.162,2,  2212.6,2,  2300.4,2,-999.000,9,-999.0000,9, -999.00,9, -999.00,9,  -999.0,9,  -999.0,-999.000,9,-999.000,-999.0000,9,   444.9,-999.000,   2.6508,     -999.0,9,     -999.0,9,     -999.0,9,     -999.0,9,     -999.0,9,     -999.0,9,     -999.0,9, -999.00,9,-999.0000,9,-999.0000,9,-999.0000,9,-999.0000,9,-999.0000,9,-999.0000,9,-999.0000, -999.00
33RR20050106,       P16S,      78,          1,         23,         23,2,20050202,       0249,   -54.4992,  -150.0002,       3505,   494.9,   2.7036,  34.3291,2,  34.3259,2,    203.0,2,   202.5,2,   49.93,2,   33.34,2,    0.00,2,    2.30,2,   2.124,2,   1.045,2,   0.123,2,  2221.7,2,  2305.3,2,-999.000,9,-999.0000,9, -999.00,9, -999.00,9,  -999.0,9,  -999.0,-999.000,9,-999.000,-999.0000,9,   494.9,-999.000,   2.6733,     -999.0,9,     -999.0,9,     -999.0,9,     -999.0,9,     -999.0,9,     -999.0,9,     -999.0,9, -999.00,9,-999.0000,9,-999.0000,9,-999.0000,9,-999.0000,9,-999.0000,9,-999.0000,9,-999.0000, -999.00
33RR20050106,       P16S,      78,          1,         22,         22,2,20050202,       0249,   -54.4992,  -150.0002,       3505,   581.2,   2.6849,  34.4035,2,  34.4016,2,    186.8,2,   186.2,2,   57.74,2,   34.09,2,    0.00,2,    2.36,2,   1.433,2,   0.725,2,   0.087,2,  2235.2,2,  2313.8,2,-999.000,9,-999.0000,9, -999.00,9, -999.00,9,  -999.0,9,  -999.0,-999.000,9,-999.000,-999.0000,9,   581.2,-999.000,   2.6489,     -999.0,9,     -999.0,9,     -999.0,9,     -999.0,9,     -999.0,9,     -999.0,9,     -999.0,9, -999.00,9,-999.0000,9,-999.0000,9,-999.0000,9,-999.0000,9,-999.0000,9,-999.0000,9,-999.0000, -999.00
33RR20050106,       P16S,      78,          1,         21,         21,2,20050202,       0249,   -54.4992,  -150.0002,       3505,   682.0,   2.5894,  34.4662,2,  34.4648,2,    178.4,2,   178.5,2,   64.16,2,   34.29,2,    0.00,2,    2.37,2,   1.070,2,   0.538,2,   0.061,2,  2244.0,2,  2321.4,2,-999.000,9,-999.0000,9, -999.00,9, -999.00,9,  -999.0,9,  -999.0,-999.000,9,-999.000,-999.0000,9,   682.0,-999.000,   2.5471,     -999.0,9,     -999.0,9,     -999.0,9,     -999.0,9,     -999.0,9,     -999.0,9,     -999.0,9, -999.00,9,-999.0000,9,-999.0000,9,-999.0000,9,-999.0000,9,-999.0000,9,-999.0000,9,-999.0000, -999.00
33RR20050106,       P16S,      78,          1,         20,         20,2,20050202,       0249,   -54.4992,  -150.0002,       3505,   782.9,   2.5076,  34.5208,2,  34.5196,2,    174.4,2,   174.9,2,   69.02,2,   34.09,2,    0.00,2,    2.36,2,   0.742,2,   0.378,2,   0.032,2,  2249.1,2,  2326.0,2,-999.000,9,-999.0000,9, -999.00,9, -999.00,9,  -999.0,9,  -999.0,-999.000,9,-999.000,-999.0000,9,   782.9,-999.000,   2.4588,     -999.0,9,     -999.0,9,     -999.0,9,     -999.0,9,     -999.0,9,     -999.0,9,     -999.0,9, -999.00,9,-999.0000,9,-999.0000,9,-999.0000,9,-999.0000,9,-999.0000,9,-999.0000,9,-999.0000, -999.00
33RR20050106,       P16S,      78,          1,         19,         19,2,20050202,       0249,   -54.4992,  -150.0002,       3505,   883.4,   2.4261,  34.5646,2,  34.5642,2,    172.5,2,   172.7,2,   72.47,2,   33.87,2,    0.00,2,    2.34,2,-999.000,5,-999.000,5,-999.000,5,  2251.8,2,  2329.6,2,-999.000,9,-999.0000,9, -999.00,9, -999.00,9,  -999.0,9,  -999.0,-999.000,9,-999.000,-999.0000,9,   883.4,-999.000,   2.3708,     -999.0,9,     -999.0,9,     -999.0,9,     -999.0,9,     -999.0,9,     -999.0,9,     -999.0,9, -999.00,9,-999.0000,9,-999.0000,9,-999.0000,9,-999.0000,9,-999.0000,9,-999.0000,9,-999.0000, -999.00
33RR20050106,       P16S,      78,          1,         18,         18,2,20050202,       0249,   -54.4992,  -150.0002,       3505,   984.6,   2.3724,  34.6074,2,  34.6056,2,    173.7,2,   174.3,2,   77.32,2,   32.75,2,    0.00,2,    2.26,2,-999.000,9,-999.000,9,-999.000,9,  2254.1,2,  2334.2,6,-999.000,9,-999.0000,9, -999.00,9, -999.00,9,  -999.0,9,  -999.0,-999.000,9,-999.000,-999.0000,9,   984.6,-999.000,   2.3103,     -999.0,9,     -999.0,9,     -999.0,9,     -999.0,9,     -999.0,9,     -999.0,9,     -999.0,9, -999.00,9,-999.0000,9,-999.0000,9,-999.0000,9,-999.0000,9,-999.0000,9,-999.0000,9,-999.0000, -999.00
33RR20050106,       P16S,      78,          1,         17,         17,2,20050202,       0249,   -54.4992,  -150.0002,       3505,  1086.3,   2.3232,  34.6402,2,  34.6390,2,    175.0,2,   175.5,2,   75.19,2,   33.23,2,    0.00,2,    2.30,2,-999.000,5,-999.000,5,-999.000,5,  2253.5,2,  2337.9,2,-999.000,9,-999.0000,9, -999.00,9, -999.00,9,  -999.0,9,  -999.0,-999.000,9,-999.000,-999.0000,9,  1086.3,-999.000,   2.2542,     -999.0,9,     -999.0,9,     -999.0,9,     -999.0,9,     -999.0,9,     -999.0,9,     -999.0,9, -999.00,9,-999.0000,9,-999.0000,9,-999.0000,9,-999.0000,9,-999.0000,9,-999.0000,9,-999.0000, -999.00
33RR20050106,       P16S,      78,          1,         37,         37,2,20050202,       0249,   -54.4992,  -150.0002,       3505,  1186.0,   2.2755,  34.6652,2,  34.6639,2,    176.7,2,   177.6,2,   79.05,2,   32.33,2,    0.00,2,    2.24,2,   0.263,2,   0.113,2,   0.012,2,  2252.7,2,  2339.3,2,-999.000,9,-999.0000,9, -999.00,9, -999.00,9,  -999.0,9,  -999.0,-999.000,9,-999.000,-999.0000,9,  1186.0,-999.000,   2.1996,     -999.0,9,     -999.0,9,     -999.0,9,     -999.0,9,     -999.0,9,     -999.0,9,     -999.0,9, -999.00,9,-999.0000,9,-999.0000,9,-999.0000,9,-999.0000,9,-999.0000,9,-999.0000,9,-999.0000, -999.00
33RR20050106,       P16S,      78,          1,         15,         15,2,20050202,       0249,   -54.4992,  -150.0002,       3505,  1288.1,   2.2102,  34.6892,2,  34.6881,2,    179.5,2,   180.2,2,   81.11,2,   31.80,2,    0.00,2,    2.20,2,   0.211,2,   0.100,2,   0.012,2,  2252.5,2,  2342.2,2,-999.000,9,-999.0000,9, -999.00,9, -999.00,9,  -999.0,9,  -999.0,-999.000,9,-999.000,-999.0000,9,  1288.1,-999.000,   2.1273,     -999.0,9,     -999.0,9,     -999.0,9,     -999.0,9,     -999.0,9,     -999.0,9,     -999.0,9, -999.00,9,-999.0000,9,-999.0000,9,-999.0000,9,-999.0000,9,-999.0000,9,-999.0000,9,-999.0000, -999.00
33RR20050106,       P16S,      78,          1,         14,         14,2,20050202,       0249,   -54.4992,  -150.0002,       3505,  1389.3,   2.1480,  34.7044,2,  34.7039,2,    181.5,2,   182.3,2,   83.58,2,   31.49,2,    0.00,2,    2.18,2,   0.187,2,   0.096,2,   0.007,2,  2252.9,2,  2344.5,2,-999.000,9,-999.0000,9, -999.00,9, -999.00,9,  -999.0,9,  -999.0,-999.000,9,-999.000,-999.0000,9,  1389.3,-999.000,   2.0581,     -999.0,9,     -999.0,9,     -999.0,9,     -999.0,9,     -999.0,9,     -999.0,9,     -999.0,9, -999.00,9,-999.0000,9,-999.0000,9,-999.0000,9,-999.0000,9,-999.0000,9,-999.0000,9,-999.0000, -999.00
33RR20050106,       P16S,      78,          1,         13,         13,2,20050202,       0249,   -54.4992,  -150.0002,       3505,  1490.2,   2.0920,  34.7156,2,  34.7161,2,    183.9,2,   184.5,2,   85.04,2,   31.22,2,    0.00,2,    2.15,2,   0.143,2,   0.079,2,   0.009,2,  2252.0,2,  2346.9,2,-999.000,9,-999.0000,9, -999.00,9, -999.00,9,  -999.0,9,  -999.0,-999.000,9,-999.000,-999.0000,9,  1490.2,-999.000,   1.9950,     -999.0,9,     -999.0,9,     -999.0,9,     -999.0,9,     -999.0,9,     -999.0,9,     -999.0,9, -999.00,9,-999.0000,9,-999.0000,9,-999.0000,9,-999.0000,9,-999.0000,9,-999.0000,9,-999.0000, -999.00
33RR20050106,       P16S,      78,          1,         12,         12,2,20050202,       0249,   -54.4992,  -150.0002,       3505,  1591.9,   2.0241,  34.7245,2,  34.7249,2,    185.9,2,   186.8,2,   86.91,2,   31.01,2,    0.00,2,    2.14,2,   0.126,2,   0.060,2,   0.002,2,  2251.9,6,  2347.3,2,-999.000,9,-999.0000,9, -999.00,9, -999.00,9,  -999.0,9,  -999.0,-999.000,9,-999.000,-999.0000,9,  1591.9,-999.000,   1.9200,     -999.0,9,     -999.0,9,     -999.0,9,     -999.0,9,     -999.0,9,     -999.0,9,     -999.0,9, -999.00,9,-999.0000,9,-999.0000,9,-999.0000,9,-999.0000,9,-999.0000,9,-999.0000,9,-999.0000, -999.00
33RR20050106,       P16S,      78,          1,         11,         11,2,20050202,       0249,   -54.4992,  -150.0002,       3505,  1692.6,   1.9569,  34.7312,2,  34.7316,2,    188.2,2,   189.3,2,   88.58,2,   30.85,2,    0.00,2,    2.13,2,   0.119,2,   0.062,2,  -0.002,2,  -999.0,9,  -999.0,9,-999.000,9,-999.0000,9, -999.00,9, -999.00,9,  -999.0,9,  -999.0,-999.000,9,-999.000,-999.0000,9,  1692.6,-999.000,   1.8458,     -999.0,9,     -999.0,9,     -999.0,9,     -999.0,9,     -999.0,9,     -999.0,9,     -999.0,9, -999.00,9,-999.0000,9,-999.0000,9,-999.0000,9,-999.0000,9,-999.0000,9,-999.0000,9,-999.0000, -999.00
33RR20050106,       P16S,      78,          1,         10,         10,2,20050202,       0249,   -54.4992,  -150.0002,       3505,  1794.2,   1.8803,  34.7359,2,  34.7338,2,    190.0,2,   190.8,2,   91.04,2,   30.75,2,    0.00,2,    2.12,2,   0.117,2,   0.062,2,   0.007,2,  -999.0,9,  -999.0,9,-999.000,9,-999.0000,9, -999.00,9, -999.00,9,  -999.0,9,  -999.0,-999.000,9,-999.000,-999.0000,9,  1794.2,-999.000,   1.7621,     -999.0,9,     -999.0,9,     -999.0,9,     -999.0,9,     -999.0,9,     -999.0,9,     -999.0,9, -999.00,9,-999.0000,9,-999.0000,9,-999.0000,9,-999.0000,9,-999.0000,9,-999.0000,9,-999.0000, -999.00
33RR20050106,       P16S,      78,          1,          9,          9,2,20050202,       0249,   -54.4992,  -150.0002,       3505,  1896.1,   1.7944,  34.7377,2,  34.7377,2,    191.8,2,   192.9,2,   93.52,2,   30.70,2,    0.00,2,    2.12,2,-999.000,9,-999.000,9,-999.000,9,  -999.0,9,  -999.0,9,-999.000,9,-999.0000,9, -999.00,9, -999.00,9,  -999.0,9,  -999.0,-999.000,9,-999.000,-999.0000,9,  1896.1,-999.000,   1.6692,     -999.0,9,     -999.0,9,     -999.0,9,     -999.0,9,     -999.0,9,     -999.0,9,     -999.0,9, -999.00,9,-999.0000,9,-999.0000,9,-999.0000,9,-999.0000,9,-999.0000,9,-999.0000,9,-999.0000, -999.00
33RR20050106,       P16S,      78,          1,          8,          8,2,20050202,       0249,   -54.4992,  -150.0002,       3505,  1996.8,   1.7282,  34.7383,2,  34.7385,2,    193.1,2,   193.9,2,   95.59,2,   30.70,2,    0.00,2,    2.12,2,   0.083,2,   0.056,2,  -0.002,2,  -999.0,9,  -999.0,9,-999.000,9,-999.0000,9, -999.00,9, -999.00,9,  -999.0,9,  -999.0,-999.000,9,-999.000,-999.0000,9,  1996.8,-999.000,   1.5958,     -999.0,9,     -999.0,9,     -999.0,9,     -999.0,9,     -999.0,9,     -999.0,9,     -999.0,9, -999.00,9,-999.0000,9,-999.0000,9,-999.0000,9,-999.0000,9,-999.0000,9,-999.0000,9,-999.0000, -999.00
33RR20050106,       P16S,      78,          1,          7,          7,2,20050202,       0249,   -54.4992,  -150.0002,       3505,  2199.5,   1.5694,  34.7371,2,  34.7375,2,    195.9,2,   196.7,2,  100.07,2,   30.76,2,    0.00,2,    2.13,2,   0.077,2,   0.039,2,   0.007,2,  -999.0,9,  -999.0,9,-999.000,9,-999.0000,9, -999.00,9, -999.00,9,  -999.0,9,  -999.0,-999.000,9,-999.000,-999.0000,9,  2199.5,-999.000,   1.4227,     -999.0,9,     -999.0,9,     -999.0,9,     -999.0,9,     -999.0,9,     -999.0,9,     -999.0,9, -999.00,9,-999.0000,9,-999.0000,9,-999.0000,9,-999.0000,9,-999.0000,9,-999.0000,9,-999.0000, -999.00
33RR20050106,       P16S,      78,          1,          6,          6,2,20050202,       0249,   -54.4992,  -150.0002,       3505,  2452.9,   1.3911,  34.7320,2,  34.7320,2,    198.4,2,   199.2,2,  105.98,2,   31.02,2,    0.00,2,    2.14,2,   0.062,2,   0.038,2,  -0.002,2,  -999.0,9,  -999.0,9,-999.000,9,-999.0000,9, -999.00,9, -999.00,9,  -999.0,9,  -999.0,-999.000,9,-999.000,-999.0000,9,  2452.9,-999.000,   1.2259,     -999.0,9,     -999.0,9,     -999.0,9,     -999.0,9,     -999.0,9,     -999.0,9,     -999.0,9, -999.00,9,-999.0000,9,-999.0000,9,-999.0000,9,-999.0000,9,-999.0000,9,-999.0000,9,-999.0000, -999.00
33RR20050106,       P16S,      78,          1,          5,          5,2,20050202,       0249,   -54.4992,  -150.0002,       3505,  2707.4,   1.2005,  34.7247,2,  34.7233,2,    200.8,2,   202.1,2,  111.87,2,   31.29,2,    0.00,2,    2.16,2,   0.057,2,   0.035,2,  -0.002,2,  -999.0,9,  -999.0,9,-999.000,9,-999.0000,9, -999.00,9, -999.00,9,  -999.0,9,  -999.0,-999.000,9,-999.000,-999.0000,9,  2707.4,-999.000,   1.0167,     -999.0,9,     -999.0,9,     -999.0,9,     -999.0,9,     -999.0,9,     -999.0,9,     -999.0,9, -999.00,9,-999.0000,9,-999.0000,9,-999.0000,9,-999.0000,9,-999.0000,9,-999.0000,9,-999.0000, -999.00
33RR20050106,       P16S,      78,          1,          4,          4,2,20050202,       0249,   -54.4992,  -150.0002,       3505,  2962.6,   1.0312,  34.7173,2,  34.7164,2,    203.3,2,   204.2,2,  118.18,2,   31.55,2,    0.00,2,    2.18,2,   0.063,2,   0.046,2,   0.009,2,  -999.0,9,  -999.0,9,-999.000,9,-999.0000,9, -999.00,9, -999.00,9,  -999.0,9,  -999.0,-999.000,9,-999.000,-999.0000,9,  2962.6,-999.000,   0.8280,     -999.0,9,     -999.0,9,     -999.0,9,     -999.0,9,     -999.0,9,     -999.0,9,     -999.0,9, -999.00,9,-999.0000,9,-999.0000,9,-999.0000,9,-999.0000,9,-999.0000,9,-999.0000,9,-999.0000, -999.00