BOTTLE,20201109CCHSIOCBG
EXPOCODE,SECT_ID,STNNBR,CASTNO,SAMPNO,BTLNBR,BTLNBR_FLAG_W,DATE,TIME,LATITUDE,LONGITUDE,DEPTH,CTDPRS,CTDTMP,CTDSAL,CTDSAL_FLAG_W,SALNTY,SALNTY_FLAG_W,CTDOXY,CTDOXY_FLAG_W,OXYGEN,OXYGEN_FLAG_W,SILCAT,SILCAT_FLAG_W,NITRAT,NITRAT_FLAG_W,NITRIT,NITRIT_FLAG_W,PHSPHT,PHSPHT_FLAG_W,CFC-11,CFC-11_FLAG_W,CFC-12,CFC-12_FLAG_W,CFC113,CFC113_FLAG_W,TCARBN,TCARBN_FLAG_W,ALKALI,ALKALI_FLAG_W,TRITUM,TRITUM_FLAG_W,HELIUM,HELIUM_FLAG_W,DELHE3,DELHE3_FLAG_W,DELC13,DELC13_FLAG_W,DELC14,DELC14_FLAG_W,C14ERR,NEON,NEON_FLAG_W,NEONER,DOC,DOC_FLAG_W,CTDRAW,TRITER,THETA,FUCO,FUCO_FLAG_W,RHAM,RHAM_FLAG_W,ARABA,ARABA_FLAG_W,GALA,GALA_FLAG_W,GLUC,GLUC_FLAG_W,MAN,MAN_FLAG_W,DCNS,DCNS_FLAG_W,BRDU,BRDU_FLAG_W,CDOM325,CDOM325_FLAG_W,CDOM340,CDOM340_FLAG_W,CDOM380,CDOM380_FLAG_W,CDOM412,CDOM412_FLAG_W,CDOMSL,CDOMSL_FLAG_W,CDOMSN,CDOMSN_FLAG_W,HELIER,DELHER
,,,,,,,,,,,METERS,DBAR,ITS-90,PSS-78,,PSS-78,,UMOL/KG,,UMOL/KG,,UMOL/KG,,UMOL/KG,,UMOL/KG,,UMOL/KG,,PMOL/KG,,PMOL/KG,,PMOL/KG,,UMOL/KG,,UMOL/KG,,TU,,NMOL/KG,,PERCNT,,/MILLE,,/MILLE,,/MILLE,NMOL/KG,,NMOL/KG,UMOL/KG,,DBAR,TU,DEG C,NMOL/KG,,NMOL/KG,,NMOL/KG,,NMOL/KG,,NMOL/KG,,NMOL/KG,,NMOL/KG,,PMOL/L/H,,1/M,,1/M,,1/M,,1/M,,1/NM,,1/NM,,NMOL/KG,PERCNT
33RR20050106,       P16S,      70,          2,         36,         36,2,20050130,       1918,   -50.4993,  -149.9997,       4430,     5.4,  11.0527,  34.5436,2,  34.5445,2,    268.8,2,   269.6,2,    0.78,2,    7.77,2,    0.23,2,    0.69,2,   3.554,2,   2.062,2,   0.376,2,  2081.3,6,  2289.3,6,-999.000,9,-999.0000,9, -999.00,9, -999.00,9,  -999.0,9,  -999.0,-999.000,9,-999.000,-999.0000,9,     5.4,-999.000,  11.0520,     -999.0,9,     -999.0,9,     -999.0,9,     -999.0,9,     -999.0,9,     -999.0,9,     -999.0,9, -999.00,9,-999.0000,9,-999.0000,9,-999.0000,9,-999.0000,9,-999.0000,9,-999.0000,9,-999.0000, -999.00
33RR20050106,       P16S,      70,          2,         35,         35,2,20050130,       1918,   -50.4993,  -149.9997,       4430,    53.5,  11.0607,  34.5442,2,  34.5459,2,    269.9,2,   269.2,2,    0.77,2,    7.72,2,    0.23,2,    0.69,2,   3.468,2,   2.041,2,   0.323,2,  2080.1,2,  2288.9,2,-999.000,9,-999.0000,9, -999.00,9, -999.00,9,  -999.0,9,  -999.0,-999.000,9,-999.000,-999.0000,9,    53.5,-999.000,  11.0542,     -999.0,9,     -999.0,9,     -999.0,9,     -999.0,9,     -999.0,9,     -999.0,9,     -999.0,9, -999.00,9,-999.0000,9,-999.0000,9,-999.0000,9,-999.0000,9,-999.0000,9,-999.0000,9,-999.0000, -999.00
33RR20050106,       P16S,      70,          2,         34,         34,2,20050130,       1918,   -50.4993,  -149.9997,       4430,   103.8,   9.4424,  34.6069,2,  34.6052,2,    264.0,2,   265.1,2,    2.57,2,   11.65,2,    0.02,2,    0.89,2,-999.000,9,-999.000,9,-999.000,9,  2106.5,2,  2286.9,2,-999.000,9,-999.0000,9, -999.00,9, -999.00,9,  -999.0,9,  -999.0,-999.000,9,-999.000,-999.0000,9,   103.8,-999.000,   9.4309,     -999.0,9,     -999.0,9,     -999.0,9,     -999.0,9,     -999.0,9,     -999.0,9,     -999.0,9, -999.00,9,-999.0000,9,-999.0000,9,-999.0000,9,-999.0000,9,-999.0000,9,-999.0000,9,-999.0000, -999.00
33RR20050106,       P16S,      70,          2,         33,         33,2,20050130,       1918,   -50.4993,  -149.9997,       4430,   153.5,   9.2060,  34.6020,2,  34.6025,2,    267.1,2,   268.2,2,    2.56,2,   11.71,2,    0.01,2,    0.89,2,   3.758,2,   2.197,2,   0.324,2,  2105.8,2,  2287.2,2,-999.000,9,-999.0000,9, -999.00,9, -999.00,9,  -999.0,9,  -999.0,-999.000,9,-999.000,-999.0000,9,   153.5,-999.000,   9.1892,     -999.0,9,     -999.0,9,     -999.0,9,     -999.0,9,     -999.0,9,     -999.0,9,     -999.0,9, -999.00,9,-999.0000,9,-999.0000,9,-999.0000,9,-999.0000,9,-999.0000,9,-999.0000,9,-999.0000, -999.00
33RR20050106,       P16S,      70,          2,         32,         32,2,20050130,       1918,   -50.4993,  -149.9997,       4430,   203.9,   9.1431,  34.6007,2,  34.6005,2,    268.0,2,   268.9,2,    2.56,2,   11.81,2,    0.01,2,    0.89,2,-999.000,9,-999.000,9,-999.000,9,  -999.0,5,  2291.2,2,-999.000,9,-999.0000,9, -999.00,9, -999.00,9,  -999.0,9,  -999.0,-999.000,9,-999.000,-999.0000,9,   203.9,-999.000,   9.1208,     -999.0,9,     -999.0,9,     -999.0,9,     -999.0,9,     -999.0,9,     -999.0,9,     -999.0,9, -999.00,9,-999.0000,9,-999.0000,9,-999.0000,9,-999.0000,9,-999.0000,9,-999.0000,9,-999.0000, -999.00
33RR20050106,       P16S,      70,          2,         31,         31,2,20050130,       1918,   -50.4993,  -149.9997,       4430,   254.3,   9.0855,  34.6009,2,  34.6013,2,    266.2,2,   267.6,2,    2.76,2,   12.13,2,    0.01,2,    0.91,2,   3.794,2,   2.187,2,   0.302,2,  2107.3,2,  2288.9,2,-999.000,9,-999.0000,9, -999.00,9, -999.00,9,  -999.0,9,  -999.0,-999.000,9,-999.000,-999.0000,9,   254.3,-999.000,   9.0578,     -999.0,9,     -999.0,9,     -999.0,9,     -999.0,9,     -999.0,9,     -999.0,9,     -999.0,9, -999.00,9,-999.0000,9,-999.0000,9,-999.0000,9,-999.0000,9,-999.0000,9,-999.0000,9,-999.0000, -999.00
33RR20050106,       P16S,      70,          2,         30,         30,2,20050130,       1918,   -50.4993,  -149.9997,       4430,   304.1,   8.7651,  34.5633,2,  34.5642,2,    251.4,2,   255.2,2,    3.95,2,   15.06,2,    0.01,2,    1.09,2,-999.000,9,-999.000,9,-999.000,9,  2119.9,2,  2286.6,2,-999.000,9,-999.0000,9, -999.00,9, -999.00,9,  -999.0,9,  -999.0,-999.000,9,-999.000,-999.0000,9,   304.1,-999.000,   8.7326,     -999.0,9,     -999.0,9,     -999.0,9,     -999.0,9,     -999.0,9,     -999.0,9,     -999.0,9, -999.00,9,-999.0000,9,-999.0000,9,-999.0000,9,-999.0000,9,-999.0000,9,-999.0000,9,-999.0000, -999.00
33RR20050106,       P16S,      70,          2,         29,         29,2,20050130,       1918,   -50.4993,  -149.9997,       4430,   354.7,   8.3632,  34.5198,2,  34.5202,2,    243.9,2,   244.5,2,    4.95,2,   17.73,2,    0.00,2,    1.25,2,   3.713,2,   2.089,2,   0.266,2,  2131.0,2,  2282.8,2,-999.000,9,-999.0000,9, -999.00,9, -999.00,9,  -999.0,9,  -999.0,-999.000,9,-999.000,-999.0000,9,   354.7,-999.000,   8.3262,     -999.0,9,     -999.0,9,     -999.0,9,     -999.0,9,     -999.0,9,     -999.0,9,     -999.0,9, -999.00,9,-999.0000,9,-999.0000,9,-999.0000,9,-999.0000,9,-999.0000,9,-999.0000,9,-999.0000, -999.00
33RR20050106,       P16S,      70,          2,         28,         28,2,20050130,       1918,   -50.4993,  -149.9997,       4430,   403.9,   7.9978,  34.4764,2,  34.4770,2,    244.6,2,   244.5,2,    5.55,2,   18.86,2,    0.00,2,    1.33,2,-999.000,9,-999.000,9,-999.000,9,  2133.5,2,  2282.1,2,-999.000,9,-999.0000,9, -999.00,9, -999.00,9,  -999.0,9,  -999.0,-999.000,9,-999.000,-999.0000,9,   403.9,-999.000,   7.9567,     -999.0,9,     -999.0,9,     -999.0,9,     -999.0,9,     -999.0,9,     -999.0,9,     -999.0,9, -999.00,9,-999.0000,9,-999.0000,9,-999.0000,9,-999.0000,9,-999.0000,9,-999.0000,9,-999.0000, -999.00
33RR20050106,       P16S,      70,          2,         27,         27,2,20050130,       1918,   -50.4993,  -149.9997,       4430,   453.8,   7.7422,  34.4471,2,  34.4478,2,    246.5,2,   248.1,2,    5.94,2,   19.50,2,    0.00,2,    1.37,2,   3.735,2,   2.098,2,   0.290,2,  2134.3,2,  2282.1,2,-999.000,9,-999.0000,9, -999.00,9, -999.00,9,  -999.0,9,  -999.0,-999.000,9,-999.000,-999.0000,9,   453.8,-999.000,   7.6968,     -999.0,9,     -999.0,9,     -999.0,9,     -999.0,9,     -999.0,9,     -999.0,9,     -999.0,9, -999.00,9,-999.0000,9,-999.0000,9,-999.0000,9,-999.0000,9,-999.0000,9,-999.0000,9,-999.0000, -999.00
33RR20050106,       P16S,      70,          2,         26,         26,2,20050130,       1918,   -50.4993,  -149.9997,       4430,   504.8,   7.5652,  34.4303,2,  34.4307,2,    247.7,2,   249.3,2,    6.34,2,   19.87,2,    0.00,2,    1.40,2,   3.795,2,   2.096,2,   0.288,2,  2135.5,2,  2282.8,2,-999.000,9,-999.0000,9, -999.00,9, -999.00,9,  -999.0,9,  -999.0,-999.000,9,-999.000,-999.0000,9,   504.8,-999.000,   7.5152,     -999.0,9,     -999.0,9,     -999.0,9,     -999.0,9,     -999.0,9,     -999.0,9,     -999.0,9, -999.00,9,-999.0000,9,-999.0000,9,-999.0000,9,-999.0000,9,-999.0000,9,-999.0000,9,-999.0000, -999.00
33RR20050106,       P16S,      70,          2,         25,         25,2,20050130,       1918,   -50.4993,  -149.9997,       4430,   603.8,   7.2192,  34.4064,2,  34.4078,2,    241.4,2,   242.2,2,    7.94,2,   21.38,2,    0.00,2,    1.50,2,   3.466,2,   1.930,2,   0.229,2,  2140.9,2,  2281.7,2,-999.000,9,-999.0000,9, -999.00,9, -999.00,9,  -999.0,9,  -999.0,-999.000,9,-999.000,-999.0000,9,   603.8,-999.000,   7.1605,     -999.0,9,     -999.0,9,     -999.0,9,     -999.0,9,     -999.0,9,     -999.0,9,     -999.0,9, -999.00,9,-999.0000,9,-999.0000,9,-999.0000,9,-999.0000,9,-999.0000,9,-999.0000,9,-999.0000, -999.00
33RR20050106,       P16S,      70,          2,         24,         24,2,20050130,       1918,   -50.4993,  -149.9997,       4430,   702.4,   6.7764,  34.3763,2,  34.3772,2,    235.9,2,   236.5,2,   10.34,2,   22.93,2,    0.00,2,    1.61,2,   3.118,2,   1.641,2,   0.187,2,  2146.9,2,  2282.8,2,-999.000,9,-999.0000,9, -999.00,9, -999.00,9,  -999.0,9,  -999.0,-999.000,9,-999.000,-999.0000,9,   702.4,-999.000,   6.7101,     -999.0,9,     -999.0,9,     -999.0,9,     -999.0,9,     -999.0,9,     -999.0,9,     -999.0,9, -999.00,9,-999.0000,9,-999.0000,9,-999.0000,9,-999.0000,9,-999.0000,9,-999.0000,9,-999.0000, -999.00
33RR20050106,       P16S,      70,          2,         23,         23,2,20050130,       1918,   -50.4993,  -149.9997,       4430,   805.7,   6.2569,  34.3566,2,  34.3583,2,    225.8,2,   225.7,2,   14.55,2,   25.03,2,    0.00,2,    1.73,2,   2.586,2,   1.395,2,   0.141,2,  2158.7,2,  2284.1,2,-999.000,9,-999.0000,9, -999.00,9, -999.00,9,  -999.0,9,  -999.0,-999.000,9,-999.000,-999.0000,9,   805.7,-999.000,   6.1834,     -999.0,9,     -999.0,9,     -999.0,9,     -999.0,9,     -999.0,9,     -999.0,9,     -999.0,9, -999.00,9,-999.0000,9,-999.0000,9,-999.0000,9,-999.0000,9,-999.0000,9,-999.0000,9,-999.0000, -999.00
33RR20050106,       P16S,      70,          2,         22,         22,2,20050130,       1918,   -50.4993,  -149.9997,       4430,   907.8,   5.6484,  34.3484,2,  34.3484,2,    216.4,2,   215.3,2,   20.37,2,   27.08,2,    0.00,2,    1.88,2,   2.146,2,   1.131,2,   0.121,2,  2172.0,2,  2287.7,2,-999.000,9,-999.0000,9, -999.00,9, -999.00,9,  -999.0,9,  -999.0,-999.000,9,-999.000,-999.0000,9,   907.8,-999.000,   5.5691,     -999.0,9,     -999.0,9,     -999.0,9,     -999.0,9,     -999.0,9,     -999.0,9,     -999.0,9, -999.00,9,-999.0000,9,-999.0000,9,-999.0000,9,-999.0000,9,-999.0000,9,-999.0000,9,-999.0000, -999.00
33RR20050106,       P16S,      70,          2,         21,         21,2,20050130,       1918,   -50.4993,  -149.9997,       4430,  1008.8,   5.0687,  34.3410,2,  34.3407,2,    209.1,2,   209.7,2,   26.00,2,   28.81,2,    0.00,2,    2.00,2,   1.916,2,   0.999,2,   0.131,2,  2183.9,2,  2292.1,2,-999.000,9,-999.0000,9, -999.00,9, -999.00,9,  -999.0,9,  -999.0,-999.000,9,-999.000,-999.0000,9,  1008.8,-999.000,   4.9843,     -999.0,9,     -999.0,9,     -999.0,9,     -999.0,9,     -999.0,9,     -999.0,9,     -999.0,9, -999.00,9,-999.0000,9,-999.0000,9,-999.0000,9,-999.0000,9,-999.0000,9,-999.0000,9,-999.0000, -999.00
33RR20050106,       P16S,      70,          2,         20,         20,2,20050130,       1918,   -50.4993,  -149.9997,       4430,  1109.2,   4.4692,  34.3388,2,  34.3399,2,    205.4,2,   206.3,2,   32.25,2,   30.22,2,    0.00,2,    2.10,2,   1.813,2,   0.915,2,   0.132,2,  2194.5,2,  2297.6,2,-999.000,9,-999.0000,9, -999.00,9, -999.00,9,  -999.0,9,  -999.0,-999.000,9,-999.000,-999.0000,9,  1109.2,-999.000,   4.3807,     -999.0,9,     -999.0,9,     -999.0,9,     -999.0,9,     -999.0,9,     -999.0,9,     -999.0,9, -999.00,9,-999.0000,9,-999.0000,9,-999.0000,9,-999.0000,9,-999.0000,9,-999.0000,9,-999.0000, -999.00
33RR20050106,       P16S,      70,          2,         19,         19,2,20050130,       1918,   -50.4993,  -149.9997,       4430,  1210.5,   3.9810,  34.3532,2,  34.3539,2,    199.9,2,   200.7,2,   39.32,2,   31.46,2,    0.00,2,    2.19,2,   1.529,2,   0.766,2,   0.123,2,  2207.0,2,  2303.2,2,-999.000,9,-999.0000,9, -999.00,9, -999.00,9,  -999.0,9,  -999.0,-999.000,9,-999.000,-999.0000,9,  1210.5,-999.000,   3.8880,     -999.0,9,     -999.0,9,     -999.0,9,     -999.0,9,     -999.0,9,     -999.0,9,     -999.0,9, -999.00,9,-999.0000,9,-999.0000,9,-999.0000,9,-999.0000,9,-999.0000,9,-999.0000,9,-999.0000, -999.00
33RR20050106,       P16S,      70,          2,         18,         18,2,20050130,       1918,   -50.4993,  -149.9997,       4430,  1313.4,   3.5726,  34.3790,2,  34.3794,2,    193.7,2,   194.0,2,   46.81,2,   32.50,2,    0.00,2,    2.26,2,   1.284,2,   0.690,2,   0.044,2,  2218.3,2,  2309.3,6,-999.000,9,-999.0000,9, -999.00,9, -999.00,9,  -999.0,9,  -999.0,-999.000,9,-999.000,-999.0000,9,  1313.4,-999.000,   3.4747,     -999.0,9,     -999.0,9,     -999.0,9,     -999.0,9,     -999.0,9,     -999.0,9,     -999.0,9, -999.00,9,-999.0000,9,-999.0000,9,-999.0000,9,-999.0000,9,-999.0000,9,-999.0000,9,-999.0000, -999.00
33RR20050106,       P16S,      70,          2,         17,         17,2,20050130,       1918,   -50.4993,  -149.9997,       4430,  1413.3,   3.2751,  34.4146,2,  34.4149,2,    186.3,2,   187.2,2,   54.11,2,   33.14,2,    0.00,2,    2.32,2,   1.051,2,   0.581,2,   0.039,2,  2229.9,2,  2316.4,2,-999.000,9,-999.0000,9, -999.00,9, -999.00,9,  -999.0,9,  -999.0,-999.000,9,-999.000,-999.0000,9,  1413.3,-999.000,   3.1718,     -999.0,9,     -999.0,9,     -999.0,9,     -999.0,9,     -999.0,9,     -999.0,9,     -999.0,9, -999.00,9,-999.0000,9,-999.0000,9,-999.0000,9,-999.0000,9,-999.0000,9,-999.0000,9,-999.0000, -999.00
33RR20050106,       P16S,      70,          2,         16,         16,2,20050130,       1918,   -50.4993,  -149.9997,       4430,  1514.5,   3.0533,  34.4504,2,  34.4499,2,    180.8,2,   182.0,2,   60.20,2,   33.63,2,    0.00,2,    2.35,2,   0.859,2,   0.495,2,   0.033,2,  2237.5,2,  2322.7,2,-999.000,9,-999.0000,9, -999.00,9, -999.00,9,  -999.0,9,  -999.0,-999.000,9,-999.000,-999.0000,9,  1514.5,-999.000,   2.9439,     -999.0,9,     -999.0,9,     -999.0,9,     -999.0,9,     -999.0,9,     -999.0,9,     -999.0,9, -999.00,9,-999.0000,9,-999.0000,9,-999.0000,9,-999.0000,9,-999.0000,9,-999.0000,9,-999.0000, -999.00
33RR20050106,       P16S,      70,          2,         15,         15,2,20050130,       1918,   -50.4993,  -149.9997,       4430,  1615.3,   2.8646,  34.4923,2,  34.4921,2,    176.0,2,   176.7,2,   66.52,2,   33.74,2,    0.00,2,    2.37,2,   0.662,2,   0.364,2,   0.028,2,  2245.2,2,  2328.9,2,-999.000,9,-999.0000,9, -999.00,9, -999.00,9,  -999.0,9,  -999.0,-999.000,9,-999.000,-999.0000,9,  1615.3,-999.000,   2.7489,     -999.0,9,     -999.0,9,     -999.0,9,     -999.0,9,     -999.0,9,     -999.0,9,     -999.0,9, -999.00,9,-999.0000,9,-999.0000,9,-999.0000,9,-999.0000,9,-999.0000,9,-999.0000,9,-999.0000, -999.00
33RR20050106,       P16S,      70,          2,         14,         14,2,20050130,       1918,   -50.4993,  -149.9997,       4430,  1715.5,   2.7368,  34.5279,2,  34.5278,2,    172.7,2,   174.1,2,   71.40,2,   34.00,2,    0.00,2,    2.38,2,   0.539,2,   0.305,2,   0.024,2,  2251.8,2,  2334.8,2,-999.000,9,-999.0000,9, -999.00,9, -999.00,9,  -999.0,9,  -999.0,-999.000,9,-999.000,-999.0000,9,  1715.5,-999.000,   2.6142,     -999.0,9,     -999.0,9,     -999.0,9,     -999.0,9,     -999.0,9,     -999.0,9,     -999.0,9, -999.00,9,-999.0000,9,-999.0000,9,-999.0000,9,-999.0000,9,-999.0000,9,-999.0000,9,-999.0000, -999.00
33RR20050106,       P16S,      70,          2,         13,         13,2,20050130,       1918,   -50.4993,  -149.9997,       4430,  1816.0,   2.6255,  34.5591,2,  34.5591,2,    171.5,2,   172.3,2,   74.25,2,   33.89,2,    0.00,2,    2.37,2,   0.464,2,   0.268,2,   0.020,2,  2254.8,2,  2336.9,2,-999.000,9,-999.0000,9, -999.00,9, -999.00,9,  -999.0,9,  -999.0,-999.000,9,-999.000,-999.0000,9,  1816.0,-999.000,   2.4958,     -999.0,9,     -999.0,9,     -999.0,9,     -999.0,9,     -999.0,9,     -999.0,9,     -999.0,9, -999.00,9,-999.0000,9,-999.0000,9,-999.0000,9,-999.0000,9,-999.0000,9,-999.0000,9,-999.0000, -999.00
33RR20050106,       P16S,      70,          2,         12,         12,2,20050130,       1918,   -50.4993,  -149.9997,       4430,  2020.8,   2.4540,  34.6205,2,  34.6204,2,    170.8,2,   171.4,2,   80.99,2,   33.56,2,    0.00,2,    2.34,2,   0.279,2,   0.167,2,   0.014,2,  2260.2,6,  2343.6,2,-999.000,9,-999.0000,9, -999.00,9, -999.00,9,  -999.0,9,  -999.0,-999.000,9,-999.000,-999.0000,9,  2020.8,-999.000,   2.3089,     -999.0,9,     -999.0,9,     -999.0,9,     -999.0,9,     -999.0,9,     -999.0,9,     -999.0,9, -999.00,9,-999.0000,9,-999.0000,9,-999.0000,9,-999.0000,9,-999.0000,9,-999.0000,9,-999.0000, -999.00
33RR20050106,       P16S,      70,          2,         11,         11,2,20050130,       1918,   -50.4993,  -149.9997,       4430,  2274.8,   2.2996,  34.6758,2,  34.6768,2,    175.7,2,   176.1,2,   83.83,2,   32.63,2,    0.00,2,    2.27,2,   0.193,2,   0.124,2,   0.012,2,  2258.2,2,  2346.5,2,-999.000,9,-999.0000,9, -999.00,9, -999.00,9,  -999.0,9,  -999.0,-999.000,9,-999.000,-999.0000,9,  2274.8,-999.000,   2.1343,     -999.0,9,     -999.0,9,     -999.0,9,     -999.0,9,     -999.0,9,     -999.0,9,     -999.0,9, -999.00,9,-999.0000,9,-999.0000,9,-999.0000,9,-999.0000,9,-999.0000,9,-999.0000,9,-999.0000, -999.00
33RR20050106,       P16S,      70,          2,         10,         10,2,20050130,       1918,   -50.4993,  -149.9997,       4430,  2529.9,   2.1531,  34.7131,2,  34.7128,2,    182.4,2,   183.6,2,   86.08,2,   31.65,2,    0.00,2,    2.20,2,   0.125,2,   0.065,2,  -0.002,2,  2257.1,2,  2348.5,2,-999.000,9,-999.0000,9, -999.00,9, -999.00,9,  -999.0,9,  -999.0,-999.000,9,-999.000,-999.0000,9,  2529.9,-999.000,   1.9669,     -999.0,9,     -999.0,9,     -999.0,9,     -999.0,9,     -999.0,9,     -999.0,9,     -999.0,9, -999.00,9,-999.0000,9,-999.0000,9,-999.0000,9,-999.0000,9,-999.0000,9,-999.0000,9,-999.0000, -999.00
33RR20050106,       P16S,      70,          2,          9,          9,2,20050130,       1918,   -50.4993,  -149.9997,       4430,  2783.9,   1.9918,  34.7317,2,  34.7320,2,    189.1,2,   189.6,2,   89.54,2,   31.16,2,    0.00,2,    2.16,2,   0.110,2,   0.072,2,  -0.002,2,  2254.1,2,  2350.8,2,-999.000,9,-999.0000,9, -999.00,9, -999.00,9,  -999.0,9,  -999.0,-999.000,9,-999.000,-999.0000,9,  2783.9,-999.000,   1.7848,     -999.0,9,     -999.0,9,     -999.0,9,     -999.0,9,     -999.0,9,     -999.0,9,     -999.0,9, -999.00,9,-999.0000,9,-999.0000,9,-999.0000,9,-999.0000,9,-999.0000,9,-999.0000,9,-999.0000, -999.00
33RR20050106,       P16S,      70,          2,          8,          8,2,20050130,       1918,   -50.4993,  -149.9997,       4430,  3037.7,   1.7689,  34.7366,2,  34.7371,2,    193.6,2,   194.3,2,   95.90,2,   31.10,2,    0.00,2,    2.15,2,   0.085,2,   0.048,2,  -0.002,2,  2254.9,2,  2354.5,2,-999.000,9,-999.0000,9, -999.00,9, -999.00,9,  -999.0,9,  -999.0,-999.000,9,-999.000,-999.0000,9,  3037.7,-999.000,   1.5422,     -999.0,9,     -999.0,9,     -999.0,9,     -999.0,9,     -999.0,9,     -999.0,9,     -999.0,9, -999.00,9,-999.0000,9,-999.0000,9,-999.0000,9,-999.0000,9,-999.0000,9,-999.0000,9,-999.0000, -999.00
33RR20050106,       P16S,      70,          2,          7,          7,2,20050130,       1918,   -50.4993,  -149.9997,       4430,  3294.0,   1.5857,  34.7346,2,  34.7350,2,    196.9,2,   197.6,2,  101.42,2,   31.15,2,    0.00,2,    2.16,2,   0.059,2,   0.044,2,  -0.002,2,  2256.8,2,  2356.9,2,-999.000,9,-999.0000,9, -999.00,9, -999.00,9,  -999.0,9,  -999.0,-999.000,9,-999.000,-999.0000,9,  3294.0,-999.000,   1.3379,     -999.0,9,     -999.0,9,     -999.0,9,     -999.0,9,     -999.0,9,     -999.0,9,     -999.0,9, -999.00,9,-999.0000,9,-999.0000,9,-999.0000,9,-999.0000,9,-999.0000,9,-999.0000,9,-999.0000, -999.00