BOTTLE,20201109CCHSIOCBG
EXPOCODE,SECT_ID,STNNBR,CASTNO,SAMPNO,BTLNBR,BTLNBR_FLAG_W,DATE,TIME,LATITUDE,LONGITUDE,DEPTH,CTDPRS,CTDTMP,CTDSAL,CTDSAL_FLAG_W,SALNTY,SALNTY_FLAG_W,CTDOXY,CTDOXY_FLAG_W,OXYGEN,OXYGEN_FLAG_W,SILCAT,SILCAT_FLAG_W,NITRAT,NITRAT_FLAG_W,NITRIT,NITRIT_FLAG_W,PHSPHT,PHSPHT_FLAG_W,CFC-11,CFC-11_FLAG_W,CFC-12,CFC-12_FLAG_W,CFC113,CFC113_FLAG_W,TCARBN,TCARBN_FLAG_W,ALKALI,ALKALI_FLAG_W,TRITUM,TRITUM_FLAG_W,HELIUM,HELIUM_FLAG_W,DELHE3,DELHE3_FLAG_W,DELC13,DELC13_FLAG_W,DELC14,DELC14_FLAG_W,C14ERR,NEON,NEON_FLAG_W,NEONER,DOC,DOC_FLAG_W,CTDRAW,TRITER,THETA,FUCO,FUCO_FLAG_W,RHAM,RHAM_FLAG_W,ARABA,ARABA_FLAG_W,GALA,GALA_FLAG_W,GLUC,GLUC_FLAG_W,MAN,MAN_FLAG_W,DCNS,DCNS_FLAG_W,BRDU,BRDU_FLAG_W,CDOM325,CDOM325_FLAG_W,CDOM340,CDOM340_FLAG_W,CDOM380,CDOM380_FLAG_W,CDOM412,CDOM412_FLAG_W,CDOMSL,CDOMSL_FLAG_W,CDOMSN,CDOMSN_FLAG_W,HELIER,DELHER
,,,,,,,,,,,METERS,DBAR,ITS-90,PSS-78,,PSS-78,,UMOL/KG,,UMOL/KG,,UMOL/KG,,UMOL/KG,,UMOL/KG,,UMOL/KG,,PMOL/KG,,PMOL/KG,,PMOL/KG,,UMOL/KG,,UMOL/KG,,TU,,NMOL/KG,,PERCNT,,/MILLE,,/MILLE,,/MILLE,NMOL/KG,,NMOL/KG,UMOL/KG,,DBAR,TU,DEG C,NMOL/KG,,NMOL/KG,,NMOL/KG,,NMOL/KG,,NMOL/KG,,NMOL/KG,,NMOL/KG,,PMOL/L/H,,1/M,,1/M,,1/M,,1/M,,1/NM,,1/NM,,NMOL/KG,PERCNT
33RR20050106,       P16S,     104,          2,         31,         31,2,20050209,       0656,   -67.5007,  -150.0000,       4428,     2.0,  -0.0973,  33.5098,2,  33.5094,2,    350.6,2,   350.9,2,   34.57,2,   19.90,2,    0.12,2,    1.41,2,   5.589,2,   3.229,2,   0.562,2,  2116.7,6,  2271.3,6,-999.000,9,-999.0000,9, -999.00,9, -999.00,9,  -999.0,9,  -999.0,-999.000,9,-999.000,-999.0000,9,     2.0,-999.000,  -0.0974,     -999.0,9,     -999.0,9,     -999.0,9,     -999.0,9,     -999.0,9,     -999.0,9,     -999.0,9, -999.00,9,-999.0000,9,-999.0000,9,-999.0000,9,-999.0000,9,-999.0000,9,-999.0000,9,-999.0000, -999.00
33RR20050106,       P16S,     104,          2,         30,         30,2,20050209,       0656,   -67.5007,  -150.0000,       4428,    39.4,  -0.1649,  33.5456,2,  33.5560,2,    348.6,2,   351.0,2,   32.91,2,   20.50,2,    0.14,2,    1.38,2,   5.695,2,   3.287,2,   0.579,2,  -999.0,9,  -999.0,9,-999.000,9,-999.0000,9, -999.00,9, -999.00,9,  -999.0,9,  -999.0,-999.000,9,-999.000,-999.0000,9,    39.4,-999.000,  -0.1662,     -999.0,9,     -999.0,9,     -999.0,9,     -999.0,9,     -999.0,9,     -999.0,9,     -999.0,9, -999.00,9,-999.0000,9,-999.0000,9,-999.0000,9,-999.0000,9,-999.0000,9,-999.0000,9,-999.0000, -999.00
33RR20050106,       P16S,     104,          2,         29,         29,2,20050209,       0656,   -67.5007,  -150.0000,       4428,    59.5,  -1.4738,  33.9152,2,  33.9424,2,    332.0,2,   324.4,2,   46.92,2,   25.46,2,    0.18,2,    1.90,2,   5.145,2,   2.890,2,   0.507,2,  2179.8,2,  2296.0,2,-999.000,9,-999.0000,9, -999.00,9, -999.00,9,  -999.0,9,  -999.0,-999.000,9,-999.000,-999.0000,9,    59.5,-999.000,  -1.4751,     -999.0,9,     -999.0,9,     -999.0,9,     -999.0,9,     -999.0,9,     -999.0,9,     -999.0,9, -999.00,9,-999.0000,9,-999.0000,9,-999.0000,9,-999.0000,9,-999.0000,9,-999.0000,9,-999.0000, -999.00
33RR20050106,       P16S,     104,          2,         28,         28,2,20050209,       0656,   -67.5007,  -150.0000,       4428,    94.8,  -1.6891,  34.0634,2,  34.0629,2,    313.3,2,   314.4,2,   48.55,2,   26.88,2,    0.27,2,    1.93,2,   4.929,2,   2.827,2,   0.506,2,  2191.5,2,  2301.6,2,-999.000,9,-999.0000,9, -999.00,9, -999.00,9,  -999.0,9,  -999.0,-999.000,9,-999.000,-999.0000,9,    94.8,-999.000,  -1.6910,     -999.0,9,     -999.0,9,     -999.0,9,     -999.0,9,     -999.0,9,     -999.0,9,     -999.0,9, -999.00,9,-999.0000,9,-999.0000,9,-999.0000,9,-999.0000,9,-999.0000,9,-999.0000,9,-999.0000, -999.00
33RR20050106,       P16S,     104,          2,         27,         27,2,20050209,       0656,   -67.5007,  -150.0000,       4428,   124.9,  -1.1325,  34.1902,2,  34.1819,2,    285.6,2,   286.4,2,   56.81,2,   28.82,2,    0.09,2,    2.02,2,   4.280,2,   2.377,2,   0.432,2,  2206.4,2,  2308.4,2,-999.000,9,-999.0000,9, -999.00,9, -999.00,9,  -999.0,9,  -999.0,-999.000,9,-999.000,-999.0000,9,   124.9,-999.000,  -1.1357,     -999.0,9,     -999.0,9,     -999.0,9,     -999.0,9,     -999.0,9,     -999.0,9,     -999.0,9, -999.00,9,-999.0000,9,-999.0000,9,-999.0000,9,-999.0000,9,-999.0000,9,-999.0000,9,-999.0000, -999.00
33RR20050106,       P16S,     104,          2,         26,         26,2,20050209,       0656,   -67.5007,  -150.0000,       4428,   175.2,   0.6377,  34.5247,2,  34.5252,2,    205.9,2,   211.8,2,   82.36,2,   32.06,2,    0.03,2,    2.22,2,   1.663,2,   0.938,2,   0.167,2,  2245.0,2,  2331.1,2,-999.000,9,-999.0000,9, -999.00,9, -999.00,9,  -999.0,9,  -999.0,-999.000,9,-999.000,-999.0000,9,   175.2,-999.000,   0.6304,     -999.0,9,     -999.0,9,     -999.0,9,     -999.0,9,     -999.0,9,     -999.0,9,     -999.0,9, -999.00,9,-999.0000,9,-999.0000,9,-999.0000,9,-999.0000,9,-999.0000,9,-999.0000,9,-999.0000, -999.00
33RR20050106,       P16S,     104,          2,         25,         25,2,20050209,       0656,   -67.5007,  -150.0000,       4428,   225.7,   1.4358,  34.7020,2,  34.7075,2,    181.0,2,   182.0,2,   94.85,2,   32.55,2,    0.02,2,    2.25,2,   0.380,2,   0.207,2,   0.037,2,  2260.4,2,  2346.2,2,-999.000,9,-999.0000,9, -999.00,9, -999.00,9,  -999.0,9,  -999.0,-999.000,9,-999.000,-999.0000,9,   225.7,-999.000,   1.4247,     -999.0,9,     -999.0,9,     -999.0,9,     -999.0,9,     -999.0,9,     -999.0,9,     -999.0,9, -999.00,9,-999.0000,9,-999.0000,9,-999.0000,9,-999.0000,9,-999.0000,9,-999.0000,9,-999.0000, -999.00
33RR20050106,       P16S,     104,          2,         24,         24,2,20050209,       0656,   -67.5007,  -150.0000,       4428,   276.1,   1.5022,  34.7263,2,  34.7262,2,    181.8,2,   183.3,2,   97.34,2,   32.28,2,    0.01,2,    2.22,2,   0.260,2,   0.148,2,   0.024,2,  2260.7,2,  2347.6,2,-999.000,9,-999.0000,9, -999.00,9, -999.00,9,  -999.0,9,  -999.0,-999.000,9,-999.000,-999.0000,9,   276.1,-999.000,   1.4883,     -999.0,9,     -999.0,9,     -999.0,9,     -999.0,9,     -999.0,9,     -999.0,9,     -999.0,9, -999.00,9,-999.0000,9,-999.0000,9,-999.0000,9,-999.0000,9,-999.0000,9,-999.0000,9,-999.0000, -999.00
33RR20050106,       P16S,     104,          2,         23,         23,2,20050209,       0656,   -67.5007,  -150.0000,       4428,   326.6,   1.4438,  34.7292,2,  34.7282,2,    181.6,2,   182.3,2,  100.04,2,   32.50,2,    0.01,2,    2.23,2,   0.235,2,   0.121,2,   0.027,2,  2262.1,2,  2350.1,2,-999.000,9,-999.0000,9, -999.00,9, -999.00,9,  -999.0,9,  -999.0,-999.000,9,-999.000,-999.0000,9,   326.6,-999.000,   1.4274,     -999.0,9,     -999.0,9,     -999.0,9,     -999.0,9,     -999.0,9,     -999.0,9,     -999.0,9, -999.00,9,-999.0000,9,-999.0000,9,-999.0000,9,-999.0000,9,-999.0000,9,-999.0000,9,-999.0000, -999.00
33RR20050106,       P16S,     104,          2,         22,         22,2,20050209,       0656,   -67.5007,  -150.0000,       4428,   377.0,   1.3939,  34.7313,2,  34.7304,2,    183.0,2,   183.5,2,  102.53,2,   32.39,2,    0.00,2,    2.24,2,-999.000,9,-999.000,9,-999.000,9,  2263.1,2,  2350.6,2,-999.000,9,-999.0000,9, -999.00,9, -999.00,9,  -999.0,9,  -999.0,-999.000,9,-999.000,-999.0000,9,   377.0,-999.000,   1.3749,     -999.0,9,     -999.0,9,     -999.0,9,     -999.0,9,     -999.0,9,     -999.0,9,     -999.0,9, -999.00,9,-999.0000,9,-999.0000,9,-999.0000,9,-999.0000,9,-999.0000,9,-999.0000,9,-999.0000, -999.00
33RR20050106,       P16S,     104,          2,         21,         21,2,20050209,       0656,   -67.5007,  -150.0000,       4428,   427.4,   1.3501,  34.7316,2,  34.7304,2,    182.6,2,   184.0,2,  103.97,2,   32.45,2,    0.00,2,    2.23,2,   0.128,2,   0.064,2,   0.013,2,  2263.7,2,  2351.0,2,-999.000,9,-999.0000,9, -999.00,9, -999.00,9,  -999.0,9,  -999.0,-999.000,9,-999.000,-999.0000,9,   427.4,-999.000,   1.3286,     -999.0,9,     -999.0,9,     -999.0,9,     -999.0,9,     -999.0,9,     -999.0,9,     -999.0,9, -999.00,9,-999.0000,9,-999.0000,9,-999.0000,9,-999.0000,9,-999.0000,9,-999.0000,9,-999.0000, -999.00
33RR20050106,       P16S,     104,          2,         20,         20,2,20050209,       0656,   -67.5007,  -150.0000,       4428,   548.5,   1.2535,  34.7303,2,  34.7302,2,    185.4,2,   186.0,2,  107.51,2,   32.44,2,    0.00,2,    2.23,2,   0.182,2,   0.098,2,   0.018,2,  -999.0,9,  -999.0,9,-999.000,9,-999.0000,9, -999.00,9, -999.00,9,  -999.0,9,  -999.0,-999.000,9,-999.000,-999.0000,9,   548.5,-999.000,   1.2257,     -999.0,9,     -999.0,9,     -999.0,9,     -999.0,9,     -999.0,9,     -999.0,9,     -999.0,9, -999.00,9,-999.0000,9,-999.0000,9,-999.0000,9,-999.0000,9,-999.0000,9,-999.0000,9,-999.0000, -999.00
33RR20050106,       P16S,     104,          2,         19,         19,2,20050209,       0656,   -67.5007,  -150.0000,       4428,   649.5,   1.1898,  34.7286,2,  34.7286,2,    187.8,2,   188.2,2,  109.59,2,   32.39,2,    0.00,2,    2.23,2,-999.000,9,-999.000,9,-999.000,9,  2262.9,2,  2354.1,2,-999.000,9,-999.0000,9, -999.00,9, -999.00,9,  -999.0,9,  -999.0,-999.000,9,-999.000,-999.0000,9,   649.5,-999.000,   1.1567,     -999.0,9,     -999.0,9,     -999.0,9,     -999.0,9,     -999.0,9,     -999.0,9,     -999.0,9, -999.00,9,-999.0000,9,-999.0000,9,-999.0000,9,-999.0000,9,-999.0000,9,-999.0000,9,-999.0000, -999.00
33RR20050106,       P16S,     104,          2,         18,         18,2,20050209,       0656,   -67.5007,  -150.0000,       4428,   750.5,   1.1291,  34.7267,2,  34.7258,2,    190.1,2,   190.5,2,  111.45,2,   32.28,2,    0.00,2,    2.23,2,   0.089,2,   0.054,2,   0.013,2,  -999.0,9,  -999.0,9,-999.000,9,-999.0000,9, -999.00,9, -999.00,9,  -999.0,9,  -999.0,-999.000,9,-999.000,-999.0000,9,   750.5,-999.000,   1.0906,     -999.0,9,     -999.0,9,     -999.0,9,     -999.0,9,     -999.0,9,     -999.0,9,     -999.0,9, -999.00,9,-999.0000,9,-999.0000,9,-999.0000,9,-999.0000,9,-999.0000,9,-999.0000,9,-999.0000, -999.00
33RR20050106,       P16S,     104,          2,         17,         17,2,20050209,       0656,   -67.5007,  -150.0000,       4428,   851.4,   1.0529,  34.7240,2,  34.7227,2,    192.8,2,   192.8,2,  113.74,2,   32.28,2,    0.00,2,    2.23,2,-999.000,9,-999.000,9,-999.000,9,  2262.7,2,  2356.1,2,-999.000,9,-999.0000,9, -999.00,9, -999.00,9,  -999.0,9,  -999.0,-999.000,9,-999.000,-999.0000,9,   851.4,-999.000,   1.0090,     -999.0,9,     -999.0,9,     -999.0,9,     -999.0,9,     -999.0,9,     -999.0,9,     -999.0,9, -999.00,9,-999.0000,9,-999.0000,9,-999.0000,9,-999.0000,9,-999.0000,9,-999.0000,9,-999.0000, -999.00
33RR20050106,       P16S,     104,          2,         16,         16,2,20050209,       0656,   -67.5007,  -150.0000,       4428,   952.6,   0.9806,  34.7212,2,  34.7197,2,    194.5,2,   195.5,2,  115.82,2,   32.29,2,    0.00,2,    2.22,2,   0.066,2,   0.038,2,   0.012,2,  -999.0,9,  -999.0,9,-999.000,9,-999.0000,9, -999.00,9, -999.00,9,  -999.0,9,  -999.0,-999.000,9,-999.000,-999.0000,9,   952.6,-999.000,   0.9312,     -999.0,9,     -999.0,9,     -999.0,9,     -999.0,9,     -999.0,9,     -999.0,9,     -999.0,9, -999.00,9,-999.0000,9,-999.0000,9,-999.0000,9,-999.0000,9,-999.0000,9,-999.0000,9,-999.0000, -999.00
33RR20050106,       P16S,     104,          2,         15,         15,2,20050209,       0656,   -67.5007,  -150.0000,       4428,  1154.9,   0.8779,  34.7168,2,  34.7158,2,    197.9,2,   198.6,2,  118.73,2,   32.33,2,    0.00,2,    2.22,2,   0.057,2,   0.033,2,   0.012,2,  2262.3,2,  2358.1,2,-999.000,9,-999.0000,9, -999.00,9, -999.00,9,  -999.0,9,  -999.0,-999.000,9,-999.000,-999.0000,9,  1154.9,-999.000,   0.8170,     -999.0,9,     -999.0,9,     -999.0,9,     -999.0,9,     -999.0,9,     -999.0,9,     -999.0,9, -999.00,9,-999.0000,9,-999.0000,9,-999.0000,9,-999.0000,9,-999.0000,9,-999.0000,9,-999.0000, -999.00
33RR20050106,       P16S,     104,          2,         14,         14,2,20050209,       0656,   -67.5007,  -150.0000,       4428,  1357.4,   0.7792,  34.7128,2,  34.7125,2,    200.7,2,   202.1,2,  122.07,2,   32.33,2,    0.00,2,    2.22,2,   0.070,2,   0.037,2,   0.016,2,  -999.0,9,  -999.0,9,-999.000,9,-999.0000,9, -999.00,9, -999.00,9,  -999.0,9,  -999.0,-999.000,9,-999.000,-999.0000,9,  1357.4,-999.000,   0.7064,     -999.0,9,     -999.0,9,     -999.0,9,     -999.0,9,     -999.0,9,     -999.0,9,     -999.0,9, -999.00,9,-999.0000,9,-999.0000,9,-999.0000,9,-999.0000,9,-999.0000,9,-999.0000,9,-999.0000, -999.00
33RR20050106,       P16S,     104,          2,         13,         13,2,20050209,       0656,   -67.5007,  -150.0000,       4428,  1560.1,   0.6939,  34.7095,2,  34.7097,2,    202.9,2,   203.6,2,  124.98,2,   32.33,2,    0.00,2,    2.22,2,   0.091,2,   0.052,2,   0.012,2,  2262.7,2,  2358.6,2,-999.000,9,-999.0000,9, -999.00,9, -999.00,9,  -999.0,9,  -999.0,-999.000,9,-999.000,-999.0000,9,  1560.1,-999.000,   0.6086,     -999.0,9,     -999.0,9,     -999.0,9,     -999.0,9,     -999.0,9,     -999.0,9,     -999.0,9, -999.00,9,-999.0000,9,-999.0000,9,-999.0000,9,-999.0000,9,-999.0000,9,-999.0000,9,-999.0000, -999.00
33RR20050106,       P16S,     104,          2,         12,         12,2,20050209,       0656,   -67.5007,  -150.0000,       4428,  1762.9,   0.6276,  34.7072,2,  34.7068,2,    204.6,2,   205.3,2,  126.64,2,   32.38,2,    0.00,2,    2.22,2,   0.269,3,   0.159,3,   0.028,3,  -999.0,9,  -999.0,9,-999.000,9,-999.0000,9, -999.00,9, -999.00,9,  -999.0,9,  -999.0,-999.000,9,-999.000,-999.0000,9,  1762.9,-999.000,   0.5291,     -999.0,9,     -999.0,9,     -999.0,9,     -999.0,9,     -999.0,9,     -999.0,9,     -999.0,9, -999.00,9,-999.0000,9,-999.0000,9,-999.0000,9,-999.0000,9,-999.0000,9,-999.0000,9,-999.0000, -999.00
33RR20050106,       P16S,     104,          2,         11,         11,2,20050209,       0656,   -67.5007,  -150.0000,       4428,  1965.7,   0.5477,  34.7056,2,  34.7056,2,    206.4,2,   207.1,2,  127.88,2,   32.38,2,    0.00,2,    2.23,2,   0.098,2,   0.053,2,   0.012,2,  2262.0,2,  2358.9,2,-999.000,9,-999.0000,9, -999.00,9, -999.00,9,  -999.0,9,  -999.0,-999.000,9,-999.000,-999.0000,9,  1965.7,-999.000,   0.4358,     -999.0,9,     -999.0,9,     -999.0,9,     -999.0,9,     -999.0,9,     -999.0,9,     -999.0,9, -999.00,9,-999.0000,9,-999.0000,9,-999.0000,9,-999.0000,9,-999.0000,9,-999.0000,9,-999.0000, -999.00
33RR20050106,       P16S,     104,          2,         10,         10,2,20050209,       0656,   -67.5007,  -150.0000,       4428,  2128.3,   0.4864,  34.7048,2,  34.7034,2,    207.7,2,   208.7,2,  127.86,2,   32.43,2,    0.00,2,    2.23,2,   0.204,3,   0.110,3,   0.026,3,  -999.0,9,  -999.0,9,-999.000,9,-999.0000,9, -999.00,9, -999.00,9,  -999.0,9,  -999.0,-999.000,9,-999.000,-999.0000,9,  2128.3,-999.000,   0.3634,     -999.0,9,     -999.0,9,     -999.0,9,     -999.0,9,     -999.0,9,     -999.0,9,     -999.0,9, -999.00,9,-999.0000,9,-999.0000,9,-999.0000,9,-999.0000,9,-999.0000,9,-999.0000,9,-999.0000, -999.00
33RR20050106,       P16S,     104,          2,          9,          9,2,20050209,       0656,   -67.5007,  -150.0000,       4428,  2382.6,   0.4039,  34.7040,2,  34.7032,2,    209.8,2,   210.7,2,  130.57,2,   32.49,2,    0.00,2,    2.23,2,   0.114,2,   0.068,2,   0.018,2,  2263.2,2,  2358.5,2,-999.000,9,-999.0000,9, -999.00,9, -999.00,9,  -999.0,9,  -999.0,-999.000,9,-999.000,-999.0000,9,  2382.6,-999.000,   0.2628,     -999.0,9,     -999.0,9,     -999.0,9,     -999.0,9,     -999.0,9,     -999.0,9,     -999.0,9, -999.00,9,-999.0000,9,-999.0000,9,-999.0000,9,-999.0000,9,-999.0000,9,-999.0000,9,-999.0000, -999.00
33RR20050106,       P16S,     104,          2,          8,          8,2,20050209,       0656,   -67.5007,  -150.0000,       4428,  2637.0,   0.3365,  34.7034,2,  34.7034,2,    211.7,2,   212.7,2,  132.02,2,   32.49,2,    0.00,2,    2.24,2,   0.130,2,   0.070,2,   0.018,2,  -999.0,9,  -999.0,9,-999.000,9,-999.0000,9, -999.00,9, -999.00,9,  -999.0,9,  -999.0,-999.000,9,-999.000,-999.0000,9,  2637.0,-999.000,   0.1762,     -999.0,9,     -999.0,9,     -999.0,9,     -999.0,9,     -999.0,9,     -999.0,9,     -999.0,9, -999.00,9,-999.0000,9,-999.0000,9,-999.0000,9,-999.0000,9,-999.0000,9,-999.0000,9,-999.0000, -999.00
33RR20050106,       P16S,     104,          2,          7,          7,2,20050209,       0656,   -67.5007,  -150.0000,       4428,  2892.0,   0.2832,  34.7028,2,  34.7024,2,    213.6,2,   214.5,2,  132.84,2,   32.48,2,    0.00,2,    2.24,2,   0.197,2,   0.108,2,   0.018,2,  2263.2,2,  2359.3,2,-999.000,9,-999.0000,9, -999.00,9, -999.00,9,  -999.0,9,  -999.0,-999.000,9,-999.000,-999.0000,9,  2892.0,-999.000,   0.1026,     -999.0,9,     -999.0,9,     -999.0,9,     -999.0,9,     -999.0,9,     -999.0,9,     -999.0,9, -999.00,9,-999.0000,9,-999.0000,9,-999.0000,9,-999.0000,9,-999.0000,9,-999.0000,9,-999.0000, -999.00
33RR20050106,       P16S,     104,          2,          6,          6,2,20050209,       0656,   -67.5007,  -150.0000,       4428,  3146.9,   0.2267,  34.7015,2,  34.7020,2,    215.9,2,   216.8,2,  131.99,2,   32.43,2,    0.00,2,    2.23,2,   0.314,2,   0.169,2,   0.026,2,  -999.0,9,  -999.0,9,-999.000,9,-999.0000,9, -999.00,9, -999.00,9,  -999.0,9,  -999.0,-999.000,9,-999.000,-999.0000,9,  3146.9,-999.000,   0.0251,     -999.0,9,     -999.0,9,     -999.0,9,     -999.0,9,     -999.0,9,     -999.0,9,     -999.0,9, -999.00,9,-999.0000,9,-999.0000,9,-999.0000,9,-999.0000,9,-999.0000,9,-999.0000,9,-999.0000, -999.00
33RR20050106,       P16S,     104,          2,          5,          5,2,20050209,       0656,   -67.5007,  -150.0000,       4428,  3453.2,   0.1626,  34.6983,2,  34.6973,2,    220.0,2,   220.9,2,  124.42,2,   32.28,2,    0.00,2,    2.21,2,   0.561,2,   0.303,2,   0.041,2,  2261.2,2,  2355.9,2,-999.000,9,-999.0000,9, -999.00,9, -999.00,9,  -999.0,9,  -999.0,-999.000,9,-999.000,-999.0000,9,  3453.2,-999.000,  -0.0653,     -999.0,9,     -999.0,9,     -999.0,9,     -999.0,9,     -999.0,9,     -999.0,9,     -999.0,9, -999.00,9,-999.0000,9,-999.0000,9,-999.0000,9,-999.0000,9,-999.0000,9,-999.0000,9,-999.0000, -999.00
33RR20050106,       P16S,     104,          2,          4,          4,2,20050209,       0656,   -67.5007,  -150.0000,       4428,  3760.3,   0.1507,  34.6979,2,  34.6981,2,    221.7,2,   222.3,2,  122.10,2,   32.33,2,    0.00,2,    2.22,2,   0.684,2,   0.377,2,   0.059,2,  -999.0,9,  -999.0,9,-999.000,9,-999.0000,9, -999.00,9, -999.00,9,  -999.0,9,  -999.0,-999.000,9,-999.000,-999.0000,9,  3760.3,-999.000,  -0.1062,     -999.0,9,     -999.0,9,     -999.0,9,     -999.0,9,     -999.0,9,     -999.0,9,     -999.0,9, -999.00,9,-999.0000,9,-999.0000,9,-999.0000,9,-999.0000,9,-999.0000,9,-999.0000,9,-999.0000, -999.00
33RR20050106,       P16S,     104,          2,          3,          3,2,20050209,       0656,   -67.5007,  -150.0000,       4428,  4118.8,   0.1750,  34.6985,2,  34.6985,2,    221.8,2,   222.2,2,  124.80,2,   32.33,2,    0.00,2,    2.23,2,   0.630,2,   0.332,2,   0.052,2,  2261.1,2,  2356.0,2,-999.000,9,-999.0000,9, -999.00,9, -999.00,9,  -999.0,9,  -999.0,-999.000,9,-999.000,-999.0000,9,  4118.8,-999.000,  -0.1185,     -999.0,9,     -999.0,9,     -999.0,9,     -999.0,9,     -999.0,9,     -999.0,9,     -999.0,9, -999.00,9,-999.0000,9,-999.0000,9,-999.0000,9,-999.0000,9,-999.0000,9,-999.0000,9,-999.0000, -999.00
33RR20050106,       P16S,     104,          2,          2,          2,2,20050209,       0656,   -67.5007,  -150.0000,       4428,  4364.9,   0.1985,  34.6990,2,  34.6991,2,    221.6,2,   221.8,2,  124.79,2,   32.33,2,    0.00,2,    2.23,2,   0.644,2,   0.336,2,   0.058,2,  -999.0,9,  -999.0,9,-999.000,9,-999.0000,9, -999.00,9, -999.00,9,  -999.0,9,  -999.0,-999.000,9,-999.000,-999.0000,9,  4364.9,-999.000,  -0.1214,     -999.0,9,     -999.0,9,     -999.0,9,     -999.0,9,     -999.0,9,     -999.0,9,     -999.0,9, -999.00,9,-999.0000,9,-999.0000,9,-999.0000,9,-999.0000,9,-999.0000,9,-999.0000,9,-999.0000, -999.00