BOTTLE,20201109CCHSIOCBG
EXPOCODE,SECT_ID,STNNBR,CASTNO,SAMPNO,BTLNBR,BTLNBR_FLAG_W,DATE,TIME,LATITUDE,LONGITUDE,DEPTH,CTDPRS,CTDTMP,CTDSAL,CTDSAL_FLAG_W,SALNTY,SALNTY_FLAG_W,CTDOXY,CTDOXY_FLAG_W,OXYGEN,OXYGEN_FLAG_W,SILCAT,SILCAT_FLAG_W,NITRAT,NITRAT_FLAG_W,NITRIT,NITRIT_FLAG_W,PHSPHT,PHSPHT_FLAG_W,CFC-11,CFC-11_FLAG_W,CFC-12,CFC-12_FLAG_W,CFC113,CFC113_FLAG_W,TCARBN,TCARBN_FLAG_W,ALKALI,ALKALI_FLAG_W,TRITUM,TRITUM_FLAG_W,HELIUM,HELIUM_FLAG_W,DELHE3,DELHE3_FLAG_W,DELC13,DELC13_FLAG_W,DELC14,DELC14_FLAG_W,C14ERR,NEON,NEON_FLAG_W,NEONER,DOC,DOC_FLAG_W,CTDRAW,TRITER,THETA,FUCO,FUCO_FLAG_W,RHAM,RHAM_FLAG_W,ARABA,ARABA_FLAG_W,GALA,GALA_FLAG_W,GLUC,GLUC_FLAG_W,MAN,MAN_FLAG_W,DCNS,DCNS_FLAG_W,BRDU,BRDU_FLAG_W,CDOM325,CDOM325_FLAG_W,CDOM340,CDOM340_FLAG_W,CDOM380,CDOM380_FLAG_W,CDOM412,CDOM412_FLAG_W,CDOMSL,CDOMSL_FLAG_W,CDOMSN,CDOMSN_FLAG_W,HELIER,DELHER
,,,,,,,,,,,METERS,DBAR,ITS-90,PSS-78,,PSS-78,,UMOL/KG,,UMOL/KG,,UMOL/KG,,UMOL/KG,,UMOL/KG,,UMOL/KG,,PMOL/KG,,PMOL/KG,,PMOL/KG,,UMOL/KG,,UMOL/KG,,TU,,NMOL/KG,,PERCNT,,/MILLE,,/MILLE,,/MILLE,NMOL/KG,,NMOL/KG,UMOL/KG,,DBAR,TU,DEG C,NMOL/KG,,NMOL/KG,,NMOL/KG,,NMOL/KG,,NMOL/KG,,NMOL/KG,,NMOL/KG,,PMOL/L/H,,1/M,,1/M,,1/M,,1/M,,1/NM,,1/NM,,NMOL/KG,PERCNT
33RR20050106,       P16S,      27,          1,          6,          6,2,20050117,       1300,   -29.0000,  -150.0003,       4585,  3458.3,   1.4991,  34.6914,2,  34.6912,2,    172.8,2,   173.3,2,  124.13,2,   33.95,2,    0.00,2,    2.41,2,-999.000,9,-999.000,9,-999.000,9,  2291.9,2,  2389.7,2,-999.000,9,-999.0000,9, -999.00,9, -999.00,5,  -195.1,2,     2.8,-999.000,9,-999.000,  36.7163,2,  3458.3,-999.000,   1.2371,     -999.0,9,     -999.0,9,     -999.0,9,     -999.0,9,     -999.0,9,     -999.0,9,     -999.0,9, -999.00,9,   0.0970,2,   0.0700,2,   0.0380,2,   0.0250,2,   0.0160,2,   0.0170,2,-999.0000, -999.00
33RR20050106,       P16S,      27,          1,          5,          5,2,20050117,       1300,   -29.0000,  -150.0003,       4585,  3712.3,   1.3869,  34.6986,2,  34.6985,2,    182.0,2,   182.1,2,  122.28,2,   33.41,2,    0.00,2,    2.35,2,-999.000,9,-999.000,9,-999.000,9,  2282.4,2,  2382.7,2,-999.000,9,-999.0000,9, -999.00,9, -999.00,5,  -189.3,2,     2.5,-999.000,9,-999.000,  38.9989,2,  3712.3,-999.000,   1.1016,     -999.0,9,     -999.0,9,     -999.0,9,     -999.0,9,     -999.0,9,     -999.0,9,     -999.0,9, -999.00,9,   0.0920,2,   0.0660,2,   0.0360,2,   0.0240,2,   0.0162,2,   0.0172,2,-999.0000, -999.00
33RR20050106,       P16S,      27,          1,          4,          4,2,20050117,       1300,   -29.0000,  -150.0003,       4585,  3967.4,   1.3034,  34.7033,2,  34.7036,2,    188.5,2,   189.1,2,  120.61,2,   32.96,2,    0.00,2,    2.32,2,   0.009,2,   0.006,2,   0.001,2,  2276.7,2,  2378.6,2,-999.000,9,-999.0000,9, -999.00,9, -999.00,5,  -161.4,3,     3.2,-999.000,9,-999.000,-999.0000,9,  3967.4,-999.000,   0.9934,     -999.0,9,     -999.0,9,     -999.0,9,     -999.0,9,     -999.0,9,     -999.0,9,     -999.0,9, -999.00,9,-999.0000,9,-999.0000,9,-999.0000,9,-999.0000,9,-999.0000,9,-999.0000,9,-999.0000, -999.00
33RR20050106,       P16S,      27,          1,          3,          3,2,20050117,       1300,   -29.0000,  -150.0003,       4585,  4201.9,   1.2892,  34.7050,2,  34.7050,2,    191.0,2,   192.0,2,  120.39,2,   32.80,2,    0.00,2,    2.31,2,-999.000,9,-999.000,9,-999.000,9,  2274.7,2,  2377.5,2,-999.000,9,-999.0000,9, -999.00,9, -999.00,5,  -176.7,2,     2.4,-999.000,9,-999.000,-999.0000,9,  4201.9,-999.000,   0.9540,     -999.0,9,     -999.0,9,     -999.0,9,     -999.0,9,     -999.0,9,     -999.0,9,     -999.0,9, -999.00,9,-999.0000,9,-999.0000,9,-999.0000,9,-999.0000,9,-999.0000,9,-999.0000,9,-999.0000, -999.00
33RR20050106,       P16S,      27,          1,          2,          2,2,20050117,       1300,   -29.0000,  -150.0003,       4585,  4457.5,   1.3055,  34.7055,2,  34.7054,2,    191.9,2,   192.2,2,  120.38,2,   32.74,2,    0.00,2,    2.29,2,-999.000,9,-999.000,9,-999.000,9,  2273.8,2,  2376.2,2,-999.000,9,-999.0000,9, -999.00,9, -999.00,5,  -177.7,2,     2.7,-999.000,9,-999.000,  39.1870,2,  4457.5,-999.000,   0.9412,     -999.0,9,     -999.0,9,     -999.0,9,     -999.0,9,     -999.0,9,     -999.0,9,     -999.0,9, -999.00,9,   0.0940,2,   0.0680,2,   0.0370,2,   0.0250,2,   0.0160,2,   0.0170,2,-999.0000, -999.00
33RR20050106,       P16S,      27,          1,          1,          1,2,20050117,       1300,   -29.0000,  -150.0003,       4585,  4678.9,   1.3293,  34.7056,2,  34.7060,2,    191.8,2,   192.4,2,  120.17,2,   32.74,2,    0.00,2,    2.29,2,   0.038,3,   0.018,3,   0.001,2,  2274.3,6,  2377.7,6,-999.000,9,-999.0000,9, -999.00,9, -999.00,5,  -177.7,2,     2.8,-999.000,9,-999.000,  37.8208,2,  4678.9,-999.000,   0.9387,     -999.0,9,     -999.0,9,     -999.0,9,     -999.0,9,     -999.0,9,     -999.0,9,     -999.0,9, -999.00,9,   0.0940,2,   0.0680,2,   0.0380,2,   0.0260,2,   0.0154,2,   0.0164,2,-999.0000, -999.00