BOTTLE,20201109CCHSIOCBG
EXPOCODE,SECT_ID,STNNBR,CASTNO,SAMPNO,BTLNBR,BTLNBR_FLAG_W,DATE,TIME,LATITUDE,LONGITUDE,DEPTH,CTDPRS,CTDTMP,CTDSAL,CTDSAL_FLAG_W,SALNTY,SALNTY_FLAG_W,CTDOXY,CTDOXY_FLAG_W,OXYGEN,OXYGEN_FLAG_W,SILCAT,SILCAT_FLAG_W,NITRAT,NITRAT_FLAG_W,NITRIT,NITRIT_FLAG_W,PHSPHT,PHSPHT_FLAG_W,CFC-11,CFC-11_FLAG_W,CFC-12,CFC-12_FLAG_W,CFC113,CFC113_FLAG_W,TCARBN,TCARBN_FLAG_W,ALKALI,ALKALI_FLAG_W,TRITUM,TRITUM_FLAG_W,HELIUM,HELIUM_FLAG_W,DELHE3,DELHE3_FLAG_W,DELC13,DELC13_FLAG_W,DELC14,DELC14_FLAG_W,C14ERR,NEON,NEON_FLAG_W,NEONER,DOC,DOC_FLAG_W,CTDRAW,TRITER,THETA,FUCO,FUCO_FLAG_W,RHAM,RHAM_FLAG_W,ARABA,ARABA_FLAG_W,GALA,GALA_FLAG_W,GLUC,GLUC_FLAG_W,MAN,MAN_FLAG_W,DCNS,DCNS_FLAG_W,BRDU,BRDU_FLAG_W,CDOM325,CDOM325_FLAG_W,CDOM340,CDOM340_FLAG_W,CDOM380,CDOM380_FLAG_W,CDOM412,CDOM412_FLAG_W,CDOMSL,CDOMSL_FLAG_W,CDOMSN,CDOMSN_FLAG_W,HELIER,DELHER
,,,,,,,,,,,METERS,DBAR,ITS-90,PSS-78,,PSS-78,,UMOL/KG,,UMOL/KG,,UMOL/KG,,UMOL/KG,,UMOL/KG,,UMOL/KG,,PMOL/KG,,PMOL/KG,,PMOL/KG,,UMOL/KG,,UMOL/KG,,TU,,NMOL/KG,,PERCNT,,/MILLE,,/MILLE,,/MILLE,NMOL/KG,,NMOL/KG,UMOL/KG,,DBAR,TU,DEG C,NMOL/KG,,NMOL/KG,,NMOL/KG,,NMOL/KG,,NMOL/KG,,NMOL/KG,,NMOL/KG,,PMOL/L/H,,1/M,,1/M,,1/M,,1/M,,1/NM,,1/NM,,NMOL/KG,PERCNT
33RR20050106,       P16S,      10,          2,         36,         36,2,20050112,       2203,   -20.4990,  -149.9997,       3844,     2.3,  28.0806,  35.8304,2,  35.8286,2,    271.2,4,   198.4,2,    0.60,2,    0.00,2,    0.00,2,    0.15,2,-999.000,9,-999.000,9,-999.000,9,  2000.3,2,  2353.7,2,-999.000,9,-999.0000,9, -999.00,9, -999.00,9,  -999.0,9,  -999.0,-999.000,9,-999.000,-999.0000,9,     2.3,-999.000,  28.0801,     -999.0,9,     -999.0,9,     -999.0,9,     -999.0,9,     -999.0,9,     -999.0,9,     -999.0,9, -999.00,9,   0.0260,2,   0.0150,2,   0.0040,2,   0.0020,2,-999.0000,9,-999.0000,9,-999.0000, -999.00
33RR20050106,       P16S,      10,          2,         35,         35,2,20050112,       2203,   -20.4990,  -149.9997,       3844,    31.6,  25.7376,  35.7251,2,  35.7231,2,    253.2,4,   210.7,2,    0.98,2,    0.00,2,    0.00,2,    0.14,2,   1.773,2,   1.104,2,   0.162,2,  1998.6,2,  2345.7,2,-999.000,9,-999.0000,9, -999.00,9, -999.00,9,  -999.0,9,  -999.0,-999.000,9,-999.000,-999.0000,9,    31.6,-999.000,  25.7306,     -999.0,9,     -999.0,9,     -999.0,9,     -999.0,9,     -999.0,9,     -999.0,9,     -999.0,9, -999.00,9,-999.0000,9,-999.0000,9,-999.0000,9,-999.0000,9,-999.0000,9,-999.0000,9,-999.0000, -999.00
33RR20050106,       P16S,      10,          2,         34,         34,2,20050112,       2203,   -20.4990,  -149.9997,       3844,    56.4,  24.7133,  35.6951,2,  35.6930,2,    238.8,4,   211.8,2,    0.57,2,    0.00,2,    0.00,2,    0.14,2,-999.000,9,-999.000,9,-999.000,9,  1999.4,2,  2343.5,2,-999.000,9,-999.0000,9, -999.00,9, -999.00,9,  -999.0,9,  -999.0,-999.000,9,-999.000,-999.0000,9,    56.4,-999.000,  24.7011,     -999.0,9,     -999.0,9,     -999.0,9,     -999.0,9,     -999.0,9,     -999.0,9,     -999.0,9, -999.00,9,   0.0440,2,   0.0250,2,   0.0070,2,   0.0040,2,   0.0359,2,   0.0357,2,-999.0000, -999.00
33RR20050106,       P16S,      10,          2,         33,         33,2,20050112,       2203,   -20.4990,  -149.9997,       3844,    81.4,  23.7566,  35.6410,2,  35.6401,2,    213.8,4,   212.8,2,    0.58,2,    0.00,2,    0.00,2,    0.12,2,   1.915,2,   1.224,2,   0.174,2,  -999.0,9,  -999.0,9,-999.000,9,-999.0000,9, -999.00,9, -999.00,9,  -999.0,9,  -999.0,-999.000,9,-999.000,-999.0000,9,    81.4,-999.000,  23.7396,     -999.0,9,     -999.0,9,     -999.0,9,     -999.0,9,     -999.0,9,     -999.0,9,     -999.0,9, -999.00,9,   0.0540,2,   0.0330,2,   0.0120,2,   0.0070,2,   0.0337,2,   0.0337,2,-999.0000, -999.00
33RR20050106,       P16S,      10,          2,         32,         32,2,20050112,       2203,   -20.4990,  -149.9997,       3844,   106.7,  23.1310,  35.6409,2,  35.6403,2,    204.0,4,   209.5,2,    0.58,2,    0.06,2,    0.00,2,    0.13,2,-999.000,9,-999.000,9,-999.000,9,  2014.7,2,  2336.5,2,-999.000,9,-999.0000,9, -999.00,9, -999.00,9,  -999.0,9,  -999.0,-999.000,9,-999.000,-999.0000,9,   106.7,-999.000,  23.1091,     -999.0,9,     -999.0,9,     -999.0,9,     -999.0,9,     -999.0,9,     -999.0,9,     -999.0,9, -999.00,9,   0.0710,2,   0.0450,2,   0.0180,2,   0.0110,2,   0.0289,2,   0.0292,2,-999.0000, -999.00
33RR20050106,       P16S,      10,          2,         31,         31,2,20050112,       2203,   -20.4990,  -149.9997,       3844,   156.4,  21.4204,  35.6585,2,  35.6591,2,    224.9,4,   193.1,2,    0.59,2,    0.56,2,    0.08,2,    0.22,2,   2.076,2,   1.308,2,   0.103,2,  -999.0,9,  -999.0,9,-999.000,9,-999.0000,9, -999.00,9, -999.00,9,  -999.0,9,  -999.0,-999.000,9,-999.000,-999.0000,9,   156.4,-999.000,  21.3899,     -999.0,9,     -999.0,9,     -999.0,9,     -999.0,9,     -999.0,9,     -999.0,9,     -999.0,9, -999.00,9,-999.0000,9,-999.0000,9,-999.0000,9,-999.0000,9,-999.0000,9,-999.0000,9,-999.0000, -999.00
33RR20050106,       P16S,      10,          2,         30,         30,2,20050112,       2203,   -20.4990,  -149.9997,       3844,   206.2,  19.5732,  35.5983,2,  35.5980,2,    215.6,4,   189.3,2,    0.79,2,    2.39,2,    0.01,2,    0.32,2,-999.000,9,-999.000,9,-999.000,9,  2068.2,2,  2333.2,2,-999.000,9,-999.0000,9, -999.00,9, -999.00,9,  -999.0,9,  -999.0,-999.000,9,-999.000,-999.0000,9,   206.2,-999.000,  19.5355,     -999.0,9,     -999.0,9,     -999.0,9,     -999.0,9,     -999.0,9,     -999.0,9,     -999.0,9, -999.00,9,   0.0820,2,   0.0560,2,   0.0260,2,   0.0200,2,   0.0222,2,   0.0230,2,-999.0000, -999.00
33RR20050106,       P16S,      10,          2,         29,         29,2,20050112,       2203,   -20.4990,  -149.9997,       3844,   256.4,  18.4772,  35.5129,2,  35.5012,2,    217.0,4,   191.8,2,    1.01,2,    3.01,2,    0.01,2,    0.36,2,   2.333,6,   1.336,6,   0.031,6,  -999.0,9,  -999.0,9,-999.000,9,-999.0000,9, -999.00,9, -999.00,9,  -999.0,9,  -999.0,-999.000,9,-999.000,-999.0000,9,   256.4,-999.000,  18.4321,     -999.0,9,     -999.0,9,     -999.0,9,     -999.0,9,     -999.0,9,     -999.0,9,     -999.0,9, -999.00,9,-999.0000,9,-999.0000,9,-999.0000,9,-999.0000,9,-999.0000,9,-999.0000,9,-999.0000, -999.00
33RR20050106,       P16S,      10,          2,         28,         28,2,20050112,       2203,   -20.4990,  -149.9997,       3844,   306.4,  16.1517,  35.2662,2,  35.2812,2,    209.9,4,   187.1,2,    2.22,2,    6.13,2,    0.00,2,    0.58,2,-999.000,9,-999.000,9,-999.000,9,  2089.7,2,  2317.2,2,-999.000,9,-999.0000,9, -999.00,9, -999.00,9,  -999.0,9,  -999.0,-999.000,9,-999.000,-999.0000,9,   306.4,-999.000,  16.1026,     -999.0,9,     -999.0,9,     -999.0,9,     -999.0,9,     -999.0,9,     -999.0,9,     -999.0,9, -999.00,9,-999.0000,9,-999.0000,9,-999.0000,9,-999.0000,9,-999.0000,9,-999.0000,9,-999.0000, -999.00
33RR20050106,       P16S,      10,          2,         27,         27,2,20050112,       2203,   -20.4990,  -149.9997,       3844,   356.5,  13.7540,  34.9743,2,  34.9696,2,    190.4,4,   175.9,2,    4.29,2,   11.46,2,    0.00,2,    0.95,2,   2.158,2,   1.198,2,   0.010,2,  -999.0,9,  -999.0,9,-999.000,9,-999.0000,9, -999.00,9, -999.00,9,  -999.0,9,  -999.0,-999.000,9,-999.000,-999.0000,9,   356.5,-999.000,  13.7028,     -999.0,9,     -999.0,9,     -999.0,9,     -999.0,9,     -999.0,9,     -999.0,9,     -999.0,9, -999.00,9,-999.0000,9,-999.0000,9,-999.0000,9,-999.0000,9,-999.0000,9,-999.0000,9,-999.0000, -999.00
33RR20050106,       P16S,      10,          2,         26,         26,2,20050112,       2203,   -20.4990,  -149.9997,       3844,   406.6,  10.9516,  34.6806,2,  34.6648,2,    176.7,4,   168.8,2,    7.80,2,   18.08,2,    0.00,2,    1.39,2,-999.000,9,-999.000,9,-999.000,9,  2142.1,2,  2287.1,2,-999.000,9,-999.0000,9, -999.00,9, -999.00,9,  -999.0,9,  -999.0,-999.000,9,-999.000,-999.0000,9,   406.6,-999.000,  10.9013,     -999.0,9,     -999.0,9,     -999.0,9,     -999.0,9,     -999.0,9,     -999.0,9,     -999.0,9, -999.00,9,-999.0000,9,-999.0000,9,-999.0000,9,-999.0000,9,-999.0000,9,-999.0000,9,-999.0000, -999.00
33RR20050106,       P16S,      10,          2,         25,         25,2,20050112,       2203,   -20.4990,  -149.9997,       3844,   456.7,   9.2376,  34.5297,2,  34.5401,2,    171.9,4,   168.6,2,    9.88,2,   21.66,2,    0.00,2,    1.63,2,   1.538,2,   0.825,2,   0.010,2,  -999.0,9,  -999.0,9,-999.000,9,-999.0000,9, -999.00,9, -999.00,9,  -999.0,9,  -999.0,-999.000,9,-999.000,-999.0000,9,   456.7,-999.000,   9.1867,     -999.0,9,     -999.0,9,     -999.0,9,     -999.0,9,     -999.0,9,     -999.0,9,     -999.0,9, -999.00,9,-999.0000,9,-999.0000,9,-999.0000,9,-999.0000,9,-999.0000,9,-999.0000,9,-999.0000, -999.00
33RR20050106,       P16S,      10,          2,         24,         24,2,20050112,       2203,   -20.4990,  -149.9997,       3844,   506.9,   7.5400,  34.4255,2,  34.4244,2,    170.1,4,   173.5,2,   14.23,2,   26.06,2,    0.00,2,    1.89,2,-999.000,9,-999.000,9,-999.000,9,  2171.2,2,  2279.6,2,-999.000,9,-999.0000,9, -999.00,9, -999.00,9,  -999.0,9,  -999.0,-999.000,9,-999.000,-999.0000,9,   506.9,-999.000,   7.4898,     -999.0,9,     -999.0,9,     -999.0,9,     -999.0,9,     -999.0,9,     -999.0,9,     -999.0,9, -999.00,9,-999.0000,9,-999.0000,9,-999.0000,9,-999.0000,9,-999.0000,9,-999.0000,9,-999.0000, -999.00
33RR20050106,       P16S,      10,          2,         23,         23,2,20050112,       2203,   -20.4990,  -149.9997,       3844,   606.8,   6.0836,  34.3555,2,  34.3533,2,    171.0,4,   191.8,2,   18.18,2,   28.41,2,    0.00,2,    2.00,2,   0.804,2,   0.428,2,   0.000,2,  2175.9,2,  2282.0,2,-999.000,9,-999.0000,9, -999.00,9, -999.00,9,  -999.0,9,  -999.0,-999.000,9,-999.000,-999.0000,9,   606.8,-999.000,   6.0299,     -999.0,9,     -999.0,9,     -999.0,9,     -999.0,9,     -999.0,9,     -999.0,9,     -999.0,9, -999.00,9,-999.0000,9,-999.0000,9,-999.0000,9,-999.0000,9,-999.0000,9,-999.0000,9,-999.0000, -999.00
33RR20050106,       P16S,      10,          2,         22,         22,2,20050112,       2203,   -20.4990,  -149.9997,       3844,   707.6,   5.5315,  34.3802,2,  34.3785,2,    169.1,3,   171.5,2,   28.82,2,   31.24,2,    0.00,2,    2.20,2,-999.000,9,-999.000,9,-999.000,9,  -999.0,9,  -999.0,9,-999.000,9,-999.0000,9, -999.00,9, -999.00,9,  -999.0,9,  -999.0,-999.000,9,-999.000,-999.0000,9,   707.6,-999.000,   5.4713,     -999.0,9,     -999.0,9,     -999.0,9,     -999.0,9,     -999.0,9,     -999.0,9,     -999.0,9, -999.00,9,-999.0000,9,-999.0000,9,-999.0000,9,-999.0000,9,-999.0000,9,-999.0000,9,-999.0000, -999.00
33RR20050106,       P16S,      10,          2,         21,         21,2,20050112,       2203,   -20.4990,  -149.9997,       3844,   807.8,   4.8992,  34.4085,2,  34.4087,2,    159.0,3,   159.3,2,   41.17,2,   33.22,2,    0.00,2,    2.35,2,   0.160,2,   0.091,2,  -0.010,2,  2219.0,2,  2304.4,2,-999.000,9,-999.0000,9, -999.00,9, -999.00,9,  -999.0,9,  -999.0,-999.000,9,-999.000,-999.0000,9,   807.8,-999.000,   4.8338,     -999.0,9,     -999.0,9,     -999.0,9,     -999.0,9,     -999.0,9,     -999.0,9,     -999.0,9, -999.00,9,-999.0000,9,-999.0000,9,-999.0000,9,-999.0000,9,-999.0000,9,-999.0000,9,-999.0000, -999.00
33RR20050106,       P16S,      10,          2,         20,         20,2,20050112,       2203,   -20.4990,  -149.9997,       3844,   908.6,   4.3907,  34.4479,2,  34.4469,2,    152.8,3,   151.4,2,   53.98,2,   34.35,2,    0.00,2,    2.44,2,-999.000,9,-999.000,9,-999.000,9,  -999.0,9,  -999.0,9,-999.000,9,-999.0000,9, -999.00,9, -999.00,9,  -999.0,9,  -999.0,-999.000,9,-999.000,-999.0000,9,   908.6,-999.000,   4.3199,     -999.0,9,     -999.0,9,     -999.0,9,     -999.0,9,     -999.0,9,     -999.0,9,     -999.0,9, -999.00,9,-999.0000,9,-999.0000,9,-999.0000,9,-999.0000,9,-999.0000,9,-999.0000,9,-999.0000, -999.00
33RR20050106,       P16S,      10,          2,         19,         19,2,20050112,       2203,   -20.4990,  -149.9997,       3844,  1009.0,   3.9181,  34.4730,2,  34.4734,2,    149.4,3,   150.1,2,   63.46,2,   34.99,2,    0.00,2,    2.49,2,   0.072,2,   0.045,2,  -0.009,2,  2249.4,6,  2330.1,2,-999.000,9,-999.0000,9, -999.00,9, -999.00,9,  -999.0,9,  -999.0,-999.000,9,-999.000,-999.0000,9,  1009.0,-999.000,   3.8424,     -999.0,9,     -999.0,9,     -999.0,9,     -999.0,9,     -999.0,9,     -999.0,9,     -999.0,9, -999.00,9,-999.0000,9,-999.0000,9,-999.0000,9,-999.0000,9,-999.0000,9,-999.0000,9,-999.0000, -999.00
33RR20050106,       P16S,      10,          2,         18,         18,3,20050112,       2203,   -20.4990,  -149.9997,       3844,  1109.7,   3.6355,  34.4964,2,  34.5291,4,    149.0,3,   151.5,4,   68.10,4,   34.08,4,    0.00,4,    2.43,4,-999.000,9,-999.000,9,-999.000,9,  -999.0,9,  -999.0,9,-999.000,9,-999.0000,9, -999.00,9, -999.00,9,  -999.0,9,  -999.0,-999.000,9,-999.000,-999.0000,9,  1109.7,-999.000,   3.5537,     -999.0,9,     -999.0,9,     -999.0,9,     -999.0,9,     -999.0,9,     -999.0,9,     -999.0,9, -999.00,9,-999.0000,9,-999.0000,9,-999.0000,9,-999.0000,9,-999.0000,9,-999.0000,9,-999.0000, -999.00
33RR20050106,       P16S,      10,          2,         17,         17,2,20050112,       2203,   -20.4990,  -149.9997,       3844,  1210.1,   3.2469,  34.5277,2,  34.5273,2,    148.5,3,   149.5,2,   81.21,2,   35.42,2,    0.00,2,    2.52,2,   0.002,2,  -0.003,2,  -0.009,2,  -999.0,9,  -999.0,9,-999.000,9,-999.0000,9, -999.00,9, -999.00,9,  -999.0,9,  -999.0,-999.000,9,-999.000,-999.0000,9,  1210.1,-999.000,   3.1604,     -999.0,9,     -999.0,9,     -999.0,9,     -999.0,9,     -999.0,9,     -999.0,9,     -999.0,9, -999.00,9,-999.0000,9,-999.0000,9,-999.0000,9,-999.0000,9,-999.0000,9,-999.0000,9,-999.0000, -999.00
33RR20050106,       P16S,      10,          2,         16,         16,2,20050112,       2203,   -20.4990,  -149.9997,       3844,  1311.0,   2.9572,  34.5543,2,  34.5544,2,    147.4,3,   148.9,2,   89.48,2,   35.48,2,    0.00,2,    2.54,2,-999.000,9,-999.000,9,-999.000,9,  -999.0,9,  -999.0,9,-999.000,9,-999.0000,9, -999.00,9, -999.00,9,  -999.0,9,  -999.0,-999.000,9,-999.000,-999.0000,9,  1311.0,-999.000,   2.8653,     -999.0,9,     -999.0,9,     -999.0,9,     -999.0,9,     -999.0,9,     -999.0,9,     -999.0,9, -999.00,9,-999.0000,9,-999.0000,9,-999.0000,9,-999.0000,9,-999.0000,9,-999.0000,9,-999.0000, -999.00
33RR20050106,       P16S,      10,          2,         15,         15,2,20050112,       2203,   -20.4990,  -149.9997,       3844,  1411.4,   2.7542,  34.5740,2,  34.5756,2,    148.1,3,   148.3,2,   96.06,2,   35.68,2,    0.00,2,    2.55,2,   0.032,3,   0.006,2,  -0.008,2,  -999.0,9,  -999.0,9,-999.000,9,-999.0000,9, -999.00,9, -999.00,9,  -999.0,9,  -999.0,-999.000,9,-999.000,-999.0000,9,  1411.4,-999.000,   2.6563,     -999.0,9,     -999.0,9,     -999.0,9,     -999.0,9,     -999.0,9,     -999.0,9,     -999.0,9, -999.00,9,-999.0000,9,-999.0000,9,-999.0000,9,-999.0000,9,-999.0000,9,-999.0000,9,-999.0000, -999.00
33RR20050106,       P16S,      10,          2,         14,         14,2,20050112,       2203,   -20.4990,  -149.9997,       3844,  1512.2,   2.6349,  34.5864,2,  34.5856,2,    147.7,3,   148.0,2,  100.32,2,   35.74,2,    0.00,2,    2.55,2,-999.000,9,-999.000,9,-999.000,9,  -999.0,9,  -999.0,9,-999.000,9,-999.0000,9, -999.00,9, -999.00,9,  -999.0,9,  -999.0,-999.000,9,-999.000,-999.0000,9,  1512.2,-999.000,   2.5302,     -999.0,9,     -999.0,9,     -999.0,9,     -999.0,9,     -999.0,9,     -999.0,9,     -999.0,9, -999.00,9,-999.0000,9,-999.0000,9,-999.0000,9,-999.0000,9,-999.0000,9,-999.0000,9,-999.0000, -999.00
33RR20050106,       P16S,      10,          2,         13,         13,2,20050112,       2203,   -20.4990,  -149.9997,       3844,  1612.9,   2.4847,  34.6011,2,  34.6013,2,    148.0,3,   148.2,2,  105.20,2,   35.74,2,    0.00,2,    2.55,2,-999.000,9,-999.000,9,-999.000,9,  -999.0,9,  -999.0,9,-999.000,9,-999.0000,9, -999.00,9, -999.00,9,  -999.0,9,  -999.0,-999.000,9,-999.000,-999.0000,9,  1612.9,-999.000,   2.3736,     -999.0,9,     -999.0,9,     -999.0,9,     -999.0,9,     -999.0,9,     -999.0,9,     -999.0,9, -999.00,9,-999.0000,9,-999.0000,9,-999.0000,9,-999.0000,9,-999.0000,9,-999.0000,9,-999.0000, -999.00
33RR20050106,       P16S,      10,          2,         12,         12,2,20050112,       2203,   -20.4990,  -149.9997,       3844,  1713.8,   2.3664,  34.6126,2,  34.6118,2,    148.3,3,   148.9,2,  108.82,2,   35.74,2,    0.00,2,    2.55,2,-999.000,9,-999.000,9,-999.000,9,  -999.0,9,  -999.0,9,-999.000,9,-999.0000,9, -999.00,9, -999.00,9,  -999.0,9,  -999.0,-999.000,9,-999.000,-999.0000,9,  1713.8,-999.000,   2.2486,     -999.0,9,     -999.0,9,     -999.0,9,     -999.0,9,     -999.0,9,     -999.0,9,     -999.0,9, -999.00,9,-999.0000,9,-999.0000,9,-999.0000,9,-999.0000,9,-999.0000,9,-999.0000,9,-999.0000, -999.00
33RR20050106,       P16S,      10,          2,         11,         11,2,20050112,       2203,   -20.4990,  -149.9997,       3844,  1814.8,   2.2520,  34.6228,2,  34.6226,2,    149.4,3,   150.0,2,  111.59,2,   35.74,2,    0.00,2,    2.54,2,-999.000,9,-999.000,9,-999.000,9,  -999.0,9,  -999.0,9,-999.000,9,-999.0000,9, -999.00,9, -999.00,9,  -999.0,9,  -999.0,-999.000,9,-999.000,-999.0000,9,  1814.8,-999.000,   2.1273,     -999.0,9,     -999.0,9,     -999.0,9,     -999.0,9,     -999.0,9,     -999.0,9,     -999.0,9, -999.00,9,-999.0000,9,-999.0000,9,-999.0000,9,-999.0000,9,-999.0000,9,-999.0000,9,-999.0000, -999.00
33RR20050106,       P16S,      10,          2,         10,         10,2,20050112,       2203,   -20.4990,  -149.9997,       3844,  1915.5,   2.1904,  34.6286,2,  34.6277,2,    150.4,3,   150.6,2,  113.51,2,   35.63,2,    0.00,2,    2.54,2,-999.000,9,-999.000,9,-999.000,9,  -999.0,9,  -999.0,9,-999.000,9,-999.0000,9, -999.00,9, -999.00,9,  -999.0,9,  -999.0,-999.000,9,-999.000,-999.0000,9,  1915.5,-999.000,   2.0582,     -999.0,9,     -999.0,9,     -999.0,9,     -999.0,9,     -999.0,9,     -999.0,9,     -999.0,9, -999.00,9,-999.0000,9,-999.0000,9,-999.0000,9,-999.0000,9,-999.0000,9,-999.0000,9,-999.0000, -999.00
33RR20050106,       P16S,      10,          2,          9,          9,2,20050112,       2203,   -20.4990,  -149.9997,       3844,  2016.9,   2.1044,  34.6362,2,  34.6362,2,    151.4,3,   151.6,2,  115.86,2,   35.64,2,    0.00,2,    2.53,2,-999.000,9,-999.000,9,-999.000,9,  -999.0,9,  -999.0,9,-999.000,9,-999.0000,9, -999.00,9, -999.00,9,  -999.0,9,  -999.0,-999.000,9,-999.000,-999.0000,9,  2016.9,-999.000,   1.9649,     -999.0,9,     -999.0,9,     -999.0,9,     -999.0,9,     -999.0,9,     -999.0,9,     -999.0,9, -999.00,9,-999.0000,9,-999.0000,9,-999.0000,9,-999.0000,9,-999.0000,9,-999.0000,9,-999.0000, -999.00
33RR20050106,       P16S,      10,          2,          8,          8,2,20050112,       2203,   -20.4990,  -149.9997,       3844,  2270.1,   1.9637,  34.6490,2,  34.6483,2,    154.3,3,  -999.0,5,  120.13,2,   35.41,2,    0.00,2,    2.53,2,-999.000,9,-999.000,9,-999.000,9,  -999.0,9,  -999.0,9,-999.000,9,-999.0000,9, -999.00,9, -999.00,9,  -999.0,9,  -999.0,-999.000,9,-999.000,-999.0000,9,  2270.1,-999.000,   1.8046,     -999.0,9,     -999.0,9,     -999.0,9,     -999.0,9,     -999.0,9,     -999.0,9,     -999.0,9, -999.00,9,-999.0000,9,-999.0000,9,-999.0000,9,-999.0000,9,-999.0000,9,-999.0000,9,-999.0000, -999.00
33RR20050106,       P16S,      10,          2,          7,          7,2,20050112,       2203,   -20.4990,  -149.9997,       3844,  2522.8,   1.8401,  34.6599,2,  34.6601,2,    156.7,3,   157.0,2,  122.68,2,   35.30,2,    0.00,2,    2.51,2,-999.000,9,-999.000,9,-999.000,9,  -999.0,9,  -999.0,9,-999.000,9,-999.0000,9, -999.00,9, -999.00,9,  -999.0,9,  -999.0,-999.000,9,-999.000,-999.0000,9,  2522.8,-999.000,   1.6607,     -999.0,9,     -999.0,9,     -999.0,9,     -999.0,9,     -999.0,9,     -999.0,9,     -999.0,9, -999.00,9,-999.0000,9,-999.0000,9,-999.0000,9,-999.0000,9,-999.0000,9,-999.0000,9,-999.0000, -999.00