BOTTLE,20201109CCHSIOCBG
EXPOCODE,SECT_ID,STNNBR,CASTNO,SAMPNO,BTLNBR,BTLNBR_FLAG_W,DATE,TIME,LATITUDE,LONGITUDE,DEPTH,CTDPRS,CTDTMP,CTDSAL,CTDSAL_FLAG_W,SALNTY,SALNTY_FLAG_W,CTDOXY,CTDOXY_FLAG_W,OXYGEN,OXYGEN_FLAG_W,SILCAT,SILCAT_FLAG_W,NITRAT,NITRAT_FLAG_W,NITRIT,NITRIT_FLAG_W,PHSPHT,PHSPHT_FLAG_W,CFC-11,CFC-11_FLAG_W,CFC-12,CFC-12_FLAG_W,CFC113,CFC113_FLAG_W,TCARBN,TCARBN_FLAG_W,ALKALI,ALKALI_FLAG_W,TRITUM,TRITUM_FLAG_W,HELIUM,HELIUM_FLAG_W,DELHE3,DELHE3_FLAG_W,DELC13,DELC13_FLAG_W,DELC14,DELC14_FLAG_W,C14ERR,NEON,NEON_FLAG_W,NEONER,DOC,DOC_FLAG_W,CTDRAW,TRITER,THETA,FUCO,FUCO_FLAG_W,RHAM,RHAM_FLAG_W,ARABA,ARABA_FLAG_W,GALA,GALA_FLAG_W,GLUC,GLUC_FLAG_W,MAN,MAN_FLAG_W,DCNS,DCNS_FLAG_W,BRDU,BRDU_FLAG_W,CDOM325,CDOM325_FLAG_W,CDOM340,CDOM340_FLAG_W,CDOM380,CDOM380_FLAG_W,CDOM412,CDOM412_FLAG_W,CDOMSL,CDOMSL_FLAG_W,CDOMSN,CDOMSN_FLAG_W,HELIER,DELHER
,,,,,,,,,,,METERS,DBAR,ITS-90,PSS-78,,PSS-78,,UMOL/KG,,UMOL/KG,,UMOL/KG,,UMOL/KG,,UMOL/KG,,UMOL/KG,,PMOL/KG,,PMOL/KG,,PMOL/KG,,UMOL/KG,,UMOL/KG,,TU,,NMOL/KG,,PERCNT,,/MILLE,,/MILLE,,/MILLE,NMOL/KG,,NMOL/KG,UMOL/KG,,DBAR,TU,DEG C,NMOL/KG,,NMOL/KG,,NMOL/KG,,NMOL/KG,,NMOL/KG,,NMOL/KG,,NMOL/KG,,PMOL/L/H,,1/M,,1/M,,1/M,,1/M,,1/NM,,1/NM,,NMOL/KG,PERCNT
33RR20050106,       P16S,      67,          1,         36,         36,2,20050129,       1148,   -48.9995,  -149.9968,       5038,     6.5,  11.5128,  34.5662,2,  34.5678,2,    267.8,2,   269.0,2,    0.57,2,    6.26,2,    0.17,2,    0.59,2,   3.473,2,   2.146,2,  -0.002,4,  2075.1,6,  2289.1,6,-999.000,9,-999.0000,9, -999.00,9, -999.00,5,    39.9,2,     4.0,-999.000,9,-999.000,  52.6052,2,     6.5,-999.000,  11.5120,        123,2,         99,2,         68,2,        237,2,        265,2,        367,2,       1159,2,    1.03,2,   0.0880,2,   0.0620,2,   0.0290,2,   0.0190,2,   0.0205,2,   0.0211,2,-999.0000, -999.00
33RR20050106,       P16S,      67,          1,         35,         35,2,20050129,       1148,   -48.9995,  -149.9968,       5038,    51.7,  11.5173,  34.5660,2,  34.5678,2,    269.1,2,   268.8,2,    0.37,2,    6.25,2,    0.17,2,    0.59,2,   3.519,6,   2.249,6,  -0.002,4,  2074.9,2,  2289.6,2,-999.000,9,-999.0000,9, -999.00,9, -999.00,9,  -999.0,9,  -999.0,-999.000,9,-999.000,  51.9633,2,    51.7,-999.000,  11.5108,        138,2,        101,2,         54,2,        260,2,        235,2,        320,2,       1107,2,    0.41,2,   0.0750,2,   0.0520,2,   0.0230,2,   0.0150,2,   0.0228,2,   0.0234,2,-999.0000, -999.00
33RR20050106,       P16S,      67,          1,         34,         34,2,20050129,       1148,   -48.9995,  -149.9968,       5038,    76.0,  11.2704,  34.5699,2,  34.5727,2,    270.7,2,   268.6,2,    0.76,2,    6.85,2,    0.33,2,    0.64,2,-999.000,9,-999.000,9,-999.000,9,  2080.2,2,  2288.6,2,-999.000,9,-999.0000,9, -999.00,9, -999.00,9,  -999.0,9,  -999.0,-999.000,9,-999.000,  52.8880,2,    76.0,-999.000,  11.2610,        105,2,         89,2,         62,2,        218,2,        222,2,        204,2,        900,2,    0.27,2,   0.0830,2,   0.0590,2,   0.0280,2,   0.0190,2,   0.0195,2,   0.0201,2,-999.0000, -999.00
33RR20050106,       P16S,      67,          1,         33,         33,2,20050129,       1148,   -48.9995,  -149.9968,       5038,   100.7,   9.5210,  34.6185,2,  34.6165,2,    263.0,2,   264.1,2,    2.54,2,   11.19,2,    0.02,2,    0.85,2,   3.651,2,   2.127,2,   0.323,2,  2106.6,2,  2287.3,2,-999.000,9,-999.0000,9, -999.00,9, -999.00,5,    39.0,2,     3.5,-999.000,9,-999.000,  48.6055,2,   100.7,-999.000,   9.5098,         74,2,         45,2,         27,2,        106,2,        142,2,        100,2,        494,2,    0.13,2,   0.0680,2,   0.0480,2,   0.0260,2,   0.0190,2,   0.0188,2,   0.0199,2,-999.0000, -999.00
33RR20050106,       P16S,      67,          1,         32,         32,2,20050129,       1148,   -48.9995,  -149.9968,       5038,   151.8,   9.2068,  34.5969,2,  34.5982,2,    265.8,2,   267.2,2,    2.54,2,   11.73,2,    0.01,2,    0.88,2,-999.000,9,-999.000,9,-999.000,9,  2108.4,2,  2287.1,2,-999.000,9,-999.0000,9, -999.00,9, -999.00,5,    39.5,2,     3.5,-999.000,9,-999.000,  49.0873,2,   151.8,-999.000,   9.1902,         57,2,         49,2,         46,2,        102,2,        147,2,        117,2,        518,2,    0.10,2,   0.0690,2,   0.0490,2,   0.0270,2,   0.0200,2,   0.0173,2,   0.0184,2,-999.0000, -999.00
33RR20050106,       P16S,      67,          1,         31,         31,2,20050129,       1148,   -48.9995,  -149.9968,       5038,   201.9,   9.1851,  34.6067,2,  34.6078,2,    269.0,2,   269.9,2,    2.34,2,   11.47,2,    0.01,2,    0.86,2,   3.696,2,   2.193,2,   0.339,2,  2108.1,2,  2287.1,2,-999.000,9,-999.0000,9, -999.00,9, -999.00,5,    36.8,2,     3.5,-999.000,9,-999.000,  47.6138,2,   201.9,-999.000,   9.1630,     -999.0,9,     -999.0,9,     -999.0,9,     -999.0,9,     -999.0,9,     -999.0,9,     -999.0,9,    0.33,2,   0.0740,2,   0.0540,2,   0.0310,2,   0.0230,2,   0.0157,2,   0.0167,2,-999.0000, -999.00
33RR20050106,       P16S,      67,          1,         30,         30,2,20050129,       1148,   -48.9995,  -149.9968,       5038,   251.1,   9.1045,  34.6051,2,  34.6058,2,    270.5,2,   270.3,2,    2.53,2,   11.78,2,    0.01,2,    0.89,2,-999.000,9,-999.000,9,-999.000,9,  2108.7,2,  2286.7,2,-999.000,9,-999.0000,9, -999.00,9, -999.00,5,    41.6,2,     4.6,-999.000,9,-999.000,  49.6272,2,   251.1,-999.000,   9.0771,     -999.0,9,     -999.0,9,     -999.0,9,     -999.0,9,     -999.0,9,     -999.0,9,     -999.0,9,    0.09,2,   0.0770,2,   0.0560,2,   0.0300,2,   0.0230,2,   0.0168,2,   0.0179,2,-999.0000, -999.00
33RR20050106,       P16S,      67,          1,         29,         29,2,20050129,       1148,   -48.9995,  -149.9968,       5038,   302.9,   8.7328,  34.5580,2,  34.5570,2,    266.5,2,   254.1,2,    3.72,2,   15.13,2,    0.01,2,    1.09,2,   3.597,2,   2.112,2,   0.288,2,  2122.6,2,  2285.1,2,-999.000,9,-999.0000,9, -999.00,9, -999.00,5,    29.5,2,     3.8,-999.000,9,-999.000,  44.9661,2,   302.9,-999.000,   8.7005,         53,2,         44,2,         46,2,         88,2,        117,2,         69,2,        418,2,    0.04,2,   0.0860,2,   0.0630,2,   0.0350,2,   0.0270,2,   0.0148,2,   0.0161,2,-999.0000, -999.00
33RR20050106,       P16S,      67,          1,         28,         28,2,20050129,       1148,   -48.9995,  -149.9968,       5038,   359.1,   8.2994,  34.5100,2,  34.5112,2,    249.7,2,   246.0,2,    4.90,2,   17.56,2,    0.01,2,    1.24,2,-999.000,9,-999.000,9,-999.000,9,  2132.5,2,  2282.8,2,-999.000,9,-999.0000,9, -999.00,9, -999.00,5,    31.3,2,     3.0,-999.000,9,-999.000,-999.0000,9,   359.1,-999.000,   8.2621,     -999.0,9,     -999.0,9,     -999.0,9,     -999.0,9,     -999.0,9,     -999.0,9,     -999.0,9, -999.00,9,-999.0000,9,-999.0000,9,-999.0000,9,-999.0000,9,-999.0000,9,-999.0000,9,-999.0000, -999.00
33RR20050106,       P16S,      67,          1,         27,         27,2,20050129,       1148,   -48.9995,  -149.9968,       5038,   410.8,   8.0000,  34.4748,2,  34.4766,2,    247.2,2,   247.3,2,    5.29,2,   18.53,2,    0.01,2,    1.30,2,   3.679,2,   2.102,2,   0.293,2,  2134.8,2,  2282.1,2,-999.000,9,-999.0000,9, -999.00,9, -999.00,5,    24.8,2,     2.8,-999.000,9,-999.000,  44.4231,2,   410.8,-999.000,   7.9582,     -999.0,9,     -999.0,9,     -999.0,9,     -999.0,9,     -999.0,9,     -999.0,9,     -999.0,9, -999.00,9,   0.0730,2,   0.0530,2,   0.0320,2,   0.0250,2,   0.0143,2,   0.0154,2,-999.0000, -999.00
33RR20050106,       P16S,      67,          1,         26,         26,2,20050129,       1148,   -48.9995,  -149.9968,       5038,   457.4,   7.7300,  34.4458,2,  34.4476,2,    249.1,2,   249.9,2,    5.69,2,   19.13,2,    0.01,2,    1.34,2,-999.000,9,-999.000,9,-999.000,9,  2135.1,2,  2281.1,2,-999.000,9,-999.0000,9, -999.00,9, -999.00,5,    16.5,2,     4.3,-999.000,9,-999.000,-999.0000,9,   457.4,-999.000,   7.6842,     -999.0,9,     -999.0,9,     -999.0,9,     -999.0,9,     -999.0,9,     -999.0,9,     -999.0,9, -999.00,9,-999.0000,9,-999.0000,9,-999.0000,9,-999.0000,9,-999.0000,9,-999.0000,9,-999.0000, -999.00
33RR20050106,       P16S,      67,          1,         25,         25,2,20050129,       1148,   -48.9995,  -149.9968,       5038,   508.6,   7.5267,  34.4264,2,  34.4281,2,    251.0,2,   250.6,2,    6.08,2,   19.62,2,    0.00,2,    1.38,2,   3.639,2,   2.036,2,   0.299,2,  2136.4,2,  2281.7,2,-999.000,9,-999.0000,9, -999.00,9, -999.00,5,    17.0,2,     3.6,-999.000,9,-999.000,  42.2591,2,   508.6,-999.000,   7.4764,     -999.0,9,     -999.0,9,     -999.0,9,     -999.0,9,     -999.0,9,     -999.0,9,     -999.0,9, -999.00,9,   0.0800,2,   0.0590,2,   0.0350,2,   0.0270,2,   0.0137,2,   0.0150,2,-999.0000, -999.00
33RR20050106,       P16S,      67,          1,         24,         24,2,20050129,       1148,   -48.9995,  -149.9968,       5038,   610.1,   7.2398,  34.4037,2,  34.4057,2,    247.5,2,   245.8,2,    7.27,2,   20.70,2,    0.00,2,    1.45,2,   3.497,2,   1.952,2,   0.268,2,  2141.1,2,  2281.3,2,-999.000,9,-999.0000,9, -999.00,9, -999.00,5,     9.0,2,     3.8,-999.000,9,-999.000,  48.4460,4,   610.1,-999.000,   7.1804,     -999.0,9,     -999.0,9,     -999.0,9,     -999.0,9,     -999.0,9,     -999.0,9,     -999.0,9, -999.00,9,   0.0780,2,   0.0580,2,   0.0360,2,   0.0280,2,   0.0121,2,   0.0132,2,-999.0000, -999.00
33RR20050106,       P16S,      67,          1,         23,         23,2,20050129,       1148,   -48.9995,  -149.9968,       5038,   709.9,   6.9303,  34.3863,2,  34.3872,2,    241.4,2,   238.3,2,    9.26,2,   22.21,2,    0.00,2,    1.55,2,   3.143,2,   1.677,2,   0.205,2,  2147.5,2,  2281.8,2,-999.000,9,-999.0000,9, -999.00,9, -999.00,9,  -999.0,9,  -999.0,-999.000,9,-999.000,  42.3769,2,   709.9,-999.000,   6.8624,     -999.0,9,     -999.0,9,     -999.0,9,     -999.0,9,     -999.0,9,     -999.0,9,     -999.0,9, -999.00,9,   0.0820,2,   0.0610,2,   0.0390,2,   0.0300,2,   0.0114,2,   0.0123,2,-999.0000, -999.00
33RR20050106,       P16S,      67,          1,         22,         22,2,20050129,       1148,   -48.9995,  -149.9968,       5038,   805.5,   6.5807,  34.3681,2,  34.3686,2,    233.1,2,   232.2,2,   11.64,2,   23.52,2,    0.00,2,    1.63,2,   2.771,2,   1.494,2,   0.187,2,  2153.5,2,  2283.0,2,-999.000,9,-999.0000,9, -999.00,9, -999.00,5,   -13.9,2,     3.2,-999.000,9,-999.000,  41.6134,2,   805.5,-999.000,   6.5052,     -999.0,9,     -999.0,9,     -999.0,9,     -999.0,9,     -999.0,9,     -999.0,9,     -999.0,9, -999.00,9,   0.0840,2,   0.0630,2,   0.0410,2,   0.0310,2,   0.0112,2,   0.0122,2,-999.0000, -999.00
33RR20050106,       P16S,      67,          1,         21,         21,2,20050129,       1148,   -48.9995,  -149.9968,       5038,   910.5,   6.1122,  34.3582,2,  34.3589,2,    221.8,2,   220.9,2,   16.01,2,   25.48,2,    0.00,2,    1.76,2,   2.299,2,   1.187,2,   0.143,2,  2164.3,2,  2285.5,2,-999.000,9,-999.0000,9, -999.00,9, -999.00,9,  -999.0,9,  -999.0,-999.000,9,-999.000,  40.5501,2,   910.5,-999.000,   6.0295,     -999.0,9,     -999.0,9,     -999.0,9,     -999.0,9,     -999.0,9,     -999.0,9,     -999.0,9, -999.00,9,   0.0930,2,   0.0700,2,   0.0450,2,   0.0340,2,   0.0112,2,   0.0120,2,-999.0000, -999.00
33RR20050106,       P16S,      67,          1,         20,         20,2,20050129,       1148,   -48.9995,  -149.9968,       5038,  1013.2,   5.5061,  34.3468,2,  34.3485,2,    213.7,2,   212.9,2,   21.44,2,   27.42,2,    0.00,2,    1.89,2,   1.963,2,   1.042,2,   0.115,2,  2177.7,2,  2289.1,2,-999.000,9,-999.0000,9, -999.00,9, -999.00,5,   -50.3,2,     4.5,-999.000,9,-999.000,  41.3079,2,  1013.2,-999.000,   5.4180,     -999.0,9,     -999.0,9,     -999.0,9,     -999.0,9,     -999.0,9,     -999.0,9,     -999.0,9, -999.00,9,   0.0910,2,   0.0670,2,   0.0420,2,   0.0320,2,   0.0114,2,   0.0126,2,-999.0000, -999.00
33RR20050106,       P16S,      67,          1,         19,         19,2,20050129,       1148,   -48.9995,  -149.9968,       5038,  1114.6,   4.9271,  34.3394,2,  34.3412,2,    208.7,2,   208.6,2,   27.19,2,   28.82,2,    0.00,2,    2.00,2,   1.781,2,   0.983,2,   0.108,2,  2189.4,2,  2293.5,2,-999.000,9,-999.0000,9, -999.00,9, -999.00,5,   -65.9,2,     3.0,-999.000,9,-999.000,-999.0000,9,  1114.6,-999.000,   4.8342,     -999.0,9,     -999.0,9,     -999.0,9,     -999.0,9,     -999.0,9,     -999.0,9,     -999.0,9, -999.00,9,-999.0000,9,-999.0000,9,-999.0000,9,-999.0000,9,-999.0000,9,-999.0000,9,-999.0000, -999.00
33RR20050106,       P16S,      67,          1,         18,         18,2,20050129,       1148,   -48.9995,  -149.9968,       5038,  1215.2,   4.3473,  34.3383,2,  34.3396,2,    204.9,2,   205.6,2,   33.40,2,   30.24,2,    0.00,2,    2.09,2,   1.686,2,   0.889,2,   0.100,2,  2198.1,6,  2297.3,2,-999.000,9,-999.0000,9, -999.00,9, -999.00,5,  -999.0,5,  -999.0,-999.000,9,-999.000,  40.6801,2,  1215.2,-999.000,   4.2505,     -999.0,9,     -999.0,9,     -999.0,9,     -999.0,9,     -999.0,9,     -999.0,9,     -999.0,9, -999.00,9,   0.0980,2,   0.0710,2,   0.0440,2,   0.0330,2,   0.0119,2,   0.0132,2,-999.0000, -999.00
33RR20050106,       P16S,      67,          1,         17,         17,2,20050129,       1148,   -48.9995,  -149.9968,       5038,  1314.4,   3.8853,  34.3582,2,  34.3590,2,    198.3,2,   199.1,2,   40.62,2,   31.39,2,    0.00,2,    2.20,2,   1.410,2,   0.731,2,   0.090,2,  2209.8,2,  2306.2,2,-999.000,9,-999.0000,9, -999.00,9, -999.00,5,   -95.8,2,     2.8,-999.000,9,-999.000,-999.0000,9,  1314.4,-999.000,   3.7842,     -999.0,9,     -999.0,9,     -999.0,9,     -999.0,9,     -999.0,9,     -999.0,9,     -999.0,9, -999.00,9,-999.0000,9,-999.0000,9,-999.0000,9,-999.0000,9,-999.0000,9,-999.0000,9,-999.0000, -999.00
33RR20050106,       P16S,      67,          1,         16,         16,2,20050129,       1148,   -48.9995,  -149.9968,       5038,  1415.2,   3.5338,  34.3855,2,  34.3853,2,    191.3,2,   193.0,2,   47.66,2,   32.21,2,    0.00,2,    2.25,2,   1.173,2,   0.591,2,   0.074,2,  2220.7,2,  2312.6,2,-999.000,9,-999.0000,9, -999.00,9, -999.00,5,  -105.0,2,     2.6,-999.000,9,-999.000,  41.8554,2,  1415.2,-999.000,   3.4276,     -999.0,9,     -999.0,9,     -999.0,9,     -999.0,9,     -999.0,9,     -999.0,9,     -999.0,9, -999.00,9,   0.1090,2,   0.0790,2,   0.0490,2,   0.0370,2,   0.0117,2,   0.0130,2,-999.0000, -999.00
33RR20050106,       P16S,      67,          1,         15,         15,2,20050129,       1148,   -48.9995,  -149.9968,       5038,  1518.7,   3.2118,  34.4227,2,  34.4220,2,    184.8,2,   186.3,2,   55.12,2,   32.98,2,    0.00,2,    2.30,2,   1.004,2,   0.508,2,   0.058,2,  2231.5,2,  2318.9,2,-999.000,9,-999.0000,9, -999.00,9, -999.00,5,  -122.4,2,     3.0,-999.000,9,-999.000,-999.0000,9,  1518.7,-999.000,   3.1003,     -999.0,9,     -999.0,9,     -999.0,9,     -999.0,9,     -999.0,9,     -999.0,9,     -999.0,9, -999.00,9,-999.0000,9,-999.0000,9,-999.0000,9,-999.0000,9,-999.0000,9,-999.0000,9,-999.0000, -999.00
33RR20050106,       P16S,      67,          1,         14,         14,2,20050129,       1148,   -48.9995,  -149.9968,       5038,  1619.0,   3.0059,  34.4622,2,  34.4632,2,    179.4,2,   180.7,2,   61.77,2,   33.36,2,    0.00,2,    2.34,2,   0.765,2,   0.372,2,   0.034,2,  2240.4,2,  2326.7,2,-999.000,9,-999.0000,9, -999.00,9, -999.00,5,  -132.4,2,     2.4,-999.000,9,-999.000,  41.1128,2,  1619.0,-999.000,   2.8883,     -999.0,9,     -999.0,9,     -999.0,9,     -999.0,9,     -999.0,9,     -999.0,9,     -999.0,9, -999.00,9,   0.1170,2,   0.0850,2,   0.0520,2,   0.0390,2,   0.0118,2,   0.0131,2,-999.0000, -999.00
33RR20050106,       P16S,      67,          1,         13,         13,2,20050129,       1148,   -48.9995,  -149.9968,       5038,  1820.8,   2.7072,  34.5343,2,  34.5348,2,    172.9,2,   173.4,2,   71.47,2,   33.63,2,    0.00,2,    2.35,2,   0.513,2,   0.248,2,   0.021,2,  2252.5,2,  2334.9,2,-999.000,9,-999.0000,9, -999.00,9, -999.00,5,  -149.9,2,     2.6,-999.000,9,-999.000,-999.0000,9,  1820.8,-999.000,   2.5760,     -999.0,9,     -999.0,9,     -999.0,9,     -999.0,9,     -999.0,9,     -999.0,9,     -999.0,9, -999.00,9,-999.0000,9,-999.0000,9,-999.0000,9,-999.0000,9,-999.0000,9,-999.0000,9,-999.0000, -999.00
33RR20050106,       P16S,      67,          1,         12,         12,2,20050129,       1148,   -48.9995,  -149.9968,       5038,  2023.7,   2.5191,  34.6007,2,  34.6014,2,    168.6,2,   170.0,2,   79.98,2,   33.51,2,    0.00,2,    2.34,2,   0.305,2,   0.135,2,  -0.002,2,  2261.4,2,  2346.6,2,-999.000,9,-999.0000,9, -999.00,9, -999.00,5,  -160.9,2,     3.5,-999.000,9,-999.000,  39.1333,2,  2023.7,-999.000,   2.3728,     -999.0,9,     -999.0,9,     -999.0,9,     -999.0,9,     -999.0,9,     -999.0,9,     -999.0,9, -999.00,9,   0.1280,2,   0.0930,2,   0.0560,2,   0.0410,2,   0.0121,2,   0.0134,2,-999.0000, -999.00
33RR20050106,       P16S,      67,          1,         11,         11,2,20050129,       1148,   -48.9995,  -149.9968,       5038,  2279.2,   2.3416,  34.6615,2,  34.6617,2,    173.1,2,   173.7,2,   84.04,2,   32.68,2,    0.00,2,    2.27,2,   0.191,2,   0.098,2,  -0.002,2,  2261.8,2,  2348.9,2,-999.000,9,-999.0000,9, -999.00,9, -999.00,5,  -161.3,2,     2.6,-999.000,9,-999.000,-999.0000,9,  2279.2,-999.000,   2.1752,     -999.0,9,     -999.0,9,     -999.0,9,     -999.0,9,     -999.0,9,     -999.0,9,     -999.0,9, -999.00,9,-999.0000,9,-999.0000,9,-999.0000,9,-999.0000,9,-999.0000,9,-999.0000,9,-999.0000, -999.00
33RR20050106,       P16S,      67,          1,         10,         10,2,20050129,       1148,   -48.9995,  -149.9968,       5038,  2530.1,   2.2047,  34.7062,2,  34.7055,2,    181.7,2,   182.2,2,   84.23,2,   31.58,2,    0.00,2,    2.19,2,   0.133,2,   0.063,2,  -0.002,2,  2255.6,2,  2348.2,2,-999.000,9,-999.0000,9, -999.00,9, -999.00,5,  -153.3,2,     3.0,-999.000,9,-999.000,  40.2640,2,  2530.1,-999.000,   2.0176,     -999.0,9,     -999.0,9,     -999.0,9,     -999.0,9,     -999.0,9,     -999.0,9,     -999.0,9, -999.00,9,   0.1240,2,   0.0900,2,   0.0520,2,   0.0380,2,   0.0129,2,   0.0143,2,-999.0000, -999.00
33RR20050106,       P16S,      67,          1,          9,          9,2,20050129,       1148,   -48.9995,  -149.9968,       5038,  2788.2,   2.0591,  34.7261,2,  34.7271,2,    186.5,2,   187.0,2,   87.88,2,   31.13,2,    0.00,2,    2.15,2,   0.092,2,   0.050,2,  -0.002,2,  2254.4,2,  2352.1,2,-999.000,9,-999.0000,9, -999.00,9, -999.00,5,  -156.3,2,     2.6,-999.000,9,-999.000,-999.0000,9,  2788.2,-999.000,   1.8503,     -999.0,9,     -999.0,9,     -999.0,9,     -999.0,9,     -999.0,9,     -999.0,9,     -999.0,9, -999.00,9,-999.0000,9,-999.0000,9,-999.0000,9,-999.0000,9,-999.0000,9,-999.0000,9,-999.0000, -999.00
33RR20050106,       P16S,      67,          1,          8,          8,2,20050129,       1148,   -48.9995,  -149.9968,       5038,  3041.2,   1.8680,  34.7363,2,  34.7371,2,    191.9,2,   192.4,2,   92.75,2,   30.86,2,    0.00,2,    2.13,2,   0.067,2,   0.034,2,  -0.002,2,  2256.4,2,  2353.9,2,-999.000,9,-999.0000,9, -999.00,9, -999.00,5,  -165.9,2,     2.9,-999.000,9,-999.000,  39.1446,2,  3041.2,-999.000,   1.6387,     -999.0,9,     -999.0,9,     -999.0,9,     -999.0,9,     -999.0,9,     -999.0,9,     -999.0,9, -999.00,9,   0.1240,2,   0.0890,2,   0.0520,2,   0.0380,2,   0.0129,2,   0.0144,2,-999.0000, -999.00
33RR20050106,       P16S,      67,          1,          7,          7,2,20050129,       1148,   -48.9995,  -149.9968,       5038,  3347.8,   1.6314,  34.7348,2,  34.7351,2,    195.8,2,   196.3,2,   99.86,2,   30.97,2,    0.00,2,    2.14,2,   0.041,2,   0.022,2,   0.004,2,  2255.9,2,  2356.1,2,-999.000,9,-999.0000,9, -999.00,9, -999.00,5,  -161.1,2,     3.0,-999.000,9,-999.000,-999.0000,9,  3347.8,-999.000,   1.3771,     -999.0,9,     -999.0,9,     -999.0,9,     -999.0,9,     -999.0,9,     -999.0,9,     -999.0,9, -999.00,9,-999.0000,9,-999.0000,9,-999.0000,9,-999.0000,9,-999.0000,9,-999.0000,9,-999.0000, -999.00