BOTTLE,20201109CCHSIOCBG
EXPOCODE,SECT_ID,STNNBR,CASTNO,SAMPNO,BTLNBR,BTLNBR_FLAG_W,DATE,TIME,LATITUDE,LONGITUDE,DEPTH,CTDPRS,CTDTMP,CTDSAL,CTDSAL_FLAG_W,SALNTY,SALNTY_FLAG_W,CTDOXY,CTDOXY_FLAG_W,OXYGEN,OXYGEN_FLAG_W,SILCAT,SILCAT_FLAG_W,NITRAT,NITRAT_FLAG_W,NITRIT,NITRIT_FLAG_W,PHSPHT,PHSPHT_FLAG_W,CFC-11,CFC-11_FLAG_W,CFC-12,CFC-12_FLAG_W,CFC113,CFC113_FLAG_W,TCARBN,TCARBN_FLAG_W,ALKALI,ALKALI_FLAG_W,TRITUM,TRITUM_FLAG_W,HELIUM,HELIUM_FLAG_W,DELHE3,DELHE3_FLAG_W,DELC13,DELC13_FLAG_W,DELC14,DELC14_FLAG_W,C14ERR,NEON,NEON_FLAG_W,NEONER,DOC,DOC_FLAG_W,CTDRAW,TRITER,THETA,FUCO,FUCO_FLAG_W,RHAM,RHAM_FLAG_W,ARABA,ARABA_FLAG_W,GALA,GALA_FLAG_W,GLUC,GLUC_FLAG_W,MAN,MAN_FLAG_W,DCNS,DCNS_FLAG_W,BRDU,BRDU_FLAG_W,CDOM325,CDOM325_FLAG_W,CDOM340,CDOM340_FLAG_W,CDOM380,CDOM380_FLAG_W,CDOM412,CDOM412_FLAG_W,CDOMSL,CDOMSL_FLAG_W,CDOMSN,CDOMSN_FLAG_W,HELIER,DELHER
,,,,,,,,,,,METERS,DBAR,ITS-90,PSS-78,,PSS-78,,UMOL/KG,,UMOL/KG,,UMOL/KG,,UMOL/KG,,UMOL/KG,,UMOL/KG,,PMOL/KG,,PMOL/KG,,PMOL/KG,,UMOL/KG,,UMOL/KG,,TU,,NMOL/KG,,PERCNT,,/MILLE,,/MILLE,,/MILLE,NMOL/KG,,NMOL/KG,UMOL/KG,,DBAR,TU,DEG C,NMOL/KG,,NMOL/KG,,NMOL/KG,,NMOL/KG,,NMOL/KG,,NMOL/KG,,NMOL/KG,,PMOL/L/H,,1/M,,1/M,,1/M,,1/M,,1/NM,,1/NM,,NMOL/KG,PERCNT
33RR20050106,       P16S,      47,          2,          6,          6,2,20050123,       0948,   -38.9997,  -150.0000,       5432,  3906.7,   1.4686,  34.7148,2,  34.7146,2,    188.2,3,   190.9,2,  112.55,2,   32.25,2,    0.00,2,    2.24,2,   0.007,2,   0.011,2,   0.002,2,  2269.0,2,  2370.6,2,-999.000,9,-999.0000,9, -999.00,9, -999.00,5,  -180.9,2,     2.6,-999.000,9,-999.000,-999.0000,9,  3906.7,-999.000,   1.1604,     -999.0,9,     -999.0,9,     -999.0,9,     -999.0,9,     -999.0,9,     -999.0,9,     -999.0,9, -999.00,9,-999.0000,9,-999.0000,9,-999.0000,9,-999.0000,9,-999.0000,9,-999.0000,9,-999.0000, -999.00
33RR20050106,       P16S,      47,          2,          5,          5,2,20050123,       0948,   -38.9997,  -150.0000,       5432,  4264.3,   1.2590,  34.7157,2,  34.7154,2,    198.4,3,   200.8,2,  116.07,2,   32.08,2,    0.00,2,    2.22,2,  -0.002,2,   0.001,2,   0.002,2,  2265.3,2,  2369.3,2,-999.000,9,-999.0000,9, -999.00,9, -999.00,5,  -173.6,2,     3.6,-999.000,9,-999.000,  38.7328,2,  4264.3,-999.000,   0.9178,     -999.0,9,     -999.0,9,     -999.0,9,     -999.0,9,     -999.0,9,     -999.0,9,     -999.0,9, -999.00,9,-999.0000,9,-999.0000,9,-999.0000,9,-999.0000,9,-999.0000,9,-999.0000,9,-999.0000, -999.00
33RR20050106,       P16S,      47,          2,          4,          4,2,20050123,       0948,   -38.9997,  -150.0000,       5432,  4623.8,   1.1778,  34.7136,2,  34.7138,2,    201.2,2,   201.7,2,  117.51,2,   32.14,2,    0.00,2,    2.21,2,  -0.001,2,   0.003,2,   0.002,2,  2266.1,2,  2371.2,2,-999.000,9,-999.0000,9, -999.00,9, -999.00,5,  -172.6,2,     2.5,-999.000,9,-999.000,-999.0000,9,  4623.8,-999.000,   0.7984,     -999.0,9,     -999.0,9,     -999.0,9,     -999.0,9,     -999.0,9,     -999.0,9,     -999.0,9, -999.00,9,-999.0000,9,-999.0000,9,-999.0000,9,-999.0000,9,-999.0000,9,-999.0000,9,-999.0000, -999.00
33RR20050106,       P16S,      47,          2,          3,          3,2,20050123,       0948,   -38.9997,  -150.0000,       5432,  4984.1,   1.1593,  34.7121,2,  34.7111,2,    202.4,2,   203.1,2,  118.76,2,   32.19,2,    0.00,2,    2.22,2,-999.000,9,-999.000,9,-999.000,9,  2265.7,2,  2371.1,2,-999.000,9,-999.0000,9, -999.00,9, -999.00,5,  -177.3,2,     2.9,-999.000,9,-999.000,  38.4993,2,  4984.1,-999.000,   0.7383,     -999.0,9,     -999.0,9,     -999.0,9,     -999.0,9,     -999.0,9,     -999.0,9,     -999.0,9, -999.00,9,-999.0000,9,-999.0000,9,-999.0000,9,-999.0000,9,-999.0000,9,-999.0000,9,-999.0000, -999.00
33RR20050106,       P16S,      47,          2,          2,          2,2,20050123,       0948,   -38.9997,  -150.0000,       5432,  5373.9,   1.1530,  34.7106,2,  34.7109,2,    204.0,2,   204.7,2,  119.79,2,   32.19,2,    0.00,2,    2.22,2,   0.006,2,   0.010,2,   0.002,2,  2265.1,2,  2368.8,2,-999.000,9,-999.0000,9, -999.00,9, -999.00,5,  -165.0,2,     2.9,-999.000,9,-999.000,-999.0000,9,  5373.9,-999.000,   0.6846,     -999.0,9,     -999.0,9,     -999.0,9,     -999.0,9,     -999.0,9,     -999.0,9,     -999.0,9, -999.00,9,-999.0000,9,-999.0000,9,-999.0000,9,-999.0000,9,-999.0000,9,-999.0000,9,-999.0000, -999.00
33RR20050106,       P16S,      47,          2,          1,          1,2,20050123,       0948,   -38.9997,  -150.0000,       5432,  5585.7,   1.1638,  34.7100,2,  34.7103,2,    204.5,2,   205.2,2,  120.00,2,   32.09,2,    0.00,2,    2.22,2,   0.023,3,   0.011,2,   0.002,2,  2264.8,6,  2368.0,6,-999.000,9,-999.0000,9, -999.00,9, -999.00,5,  -169.4,2,     3.0,-999.000,9,-999.000,  39.0413,2,  5585.7,-999.000,   0.6684,     -999.0,9,     -999.0,9,     -999.0,9,     -999.0,9,     -999.0,9,     -999.0,9,     -999.0,9, -999.00,9,-999.0000,9,-999.0000,9,-999.0000,9,-999.0000,9,-999.0000,9,-999.0000,9,-999.0000, -999.00