BOTTLE,20201109CCHSIOCBG
EXPOCODE,SECT_ID,STNNBR,CASTNO,SAMPNO,BTLNBR,BTLNBR_FLAG_W,DATE,TIME,LATITUDE,LONGITUDE,DEPTH,CTDPRS,CTDTMP,CTDSAL,CTDSAL_FLAG_W,SALNTY,SALNTY_FLAG_W,CTDOXY,CTDOXY_FLAG_W,OXYGEN,OXYGEN_FLAG_W,SILCAT,SILCAT_FLAG_W,NITRAT,NITRAT_FLAG_W,NITRIT,NITRIT_FLAG_W,PHSPHT,PHSPHT_FLAG_W,CFC-11,CFC-11_FLAG_W,CFC-12,CFC-12_FLAG_W,CFC113,CFC113_FLAG_W,TCARBN,TCARBN_FLAG_W,ALKALI,ALKALI_FLAG_W,TRITUM,TRITUM_FLAG_W,HELIUM,HELIUM_FLAG_W,DELHE3,DELHE3_FLAG_W,DELC13,DELC13_FLAG_W,DELC14,DELC14_FLAG_W,C14ERR,NEON,NEON_FLAG_W,NEONER,DOC,DOC_FLAG_W,CTDRAW,TRITER,THETA,FUCO,FUCO_FLAG_W,RHAM,RHAM_FLAG_W,ARABA,ARABA_FLAG_W,GALA,GALA_FLAG_W,GLUC,GLUC_FLAG_W,MAN,MAN_FLAG_W,DCNS,DCNS_FLAG_W,BRDU,BRDU_FLAG_W,CDOM325,CDOM325_FLAG_W,CDOM340,CDOM340_FLAG_W,CDOM380,CDOM380_FLAG_W,CDOM412,CDOM412_FLAG_W,CDOMSL,CDOMSL_FLAG_W,CDOMSN,CDOMSN_FLAG_W,HELIER,DELHER
,,,,,,,,,,,METERS,DBAR,ITS-90,PSS-78,,PSS-78,,UMOL/KG,,UMOL/KG,,UMOL/KG,,UMOL/KG,,UMOL/KG,,UMOL/KG,,PMOL/KG,,PMOL/KG,,PMOL/KG,,UMOL/KG,,UMOL/KG,,TU,,NMOL/KG,,PERCNT,,/MILLE,,/MILLE,,/MILLE,NMOL/KG,,NMOL/KG,UMOL/KG,,DBAR,TU,DEG C,NMOL/KG,,NMOL/KG,,NMOL/KG,,NMOL/KG,,NMOL/KG,,NMOL/KG,,NMOL/KG,,PMOL/L/H,,1/M,,1/M,,1/M,,1/M,,1/NM,,1/NM,,NMOL/KG,PERCNT
33RR20050106,       P16S,      24,          1,         36,         36,2,20050116,       1822,   -27.5000,  -150.0000,       4596,     2.8,  25.1981,  35.2869,2,  35.2852,2,    210.6,2,   210.0,2,    0.45,2,    0.13,2,    0.00,2,    0.08,2,   1.894,2,   1.197,2,   0.159,2,  2030.7,3,  2314.5,6,-999.000,9,-999.0000,9, -999.00,9, -999.00,9,  -999.0,9,  -999.0,-999.000,9,-999.000,-999.0000,9,     2.8,-999.000,  25.1975,     -999.0,9,     -999.0,9,     -999.0,9,     -999.0,9,     -999.0,9,     -999.0,9,     -999.0,9, -999.00,9,-999.0000,9,-999.0000,9,-999.0000,9,-999.0000,9,-999.0000,9,-999.0000,9,-999.0000, -999.00
33RR20050106,       P16S,      24,          1,         35,         35,2,20050116,       1822,   -27.5000,  -150.0000,       4596,    45.9,  21.1471,  35.5946,2,  35.5938,2,    226.9,2,   228.2,2,    0.25,2,    0.13,2,    0.00,2,    0.08,2,   2.253,2,   1.373,2,   0.221,2,  2027.3,2,  2335.5,2,-999.000,9,-999.0000,9, -999.00,9, -999.00,9,  -999.0,9,  -999.0,-999.000,9,-999.000,-999.0000,9,    45.9,-999.000,  21.1383,     -999.0,9,     -999.0,9,     -999.0,9,     -999.0,9,     -999.0,9,     -999.0,9,     -999.0,9, -999.00,9,-999.0000,9,-999.0000,9,-999.0000,9,-999.0000,9,-999.0000,9,-999.0000,9,-999.0000, -999.00
33RR20050106,       P16S,      24,          1,         34,         34,2,20050116,       1822,   -27.5000,  -150.0000,       4596,    90.7,  20.1111,  35.6038,2,  35.6013,2,    230.0,2,   228.8,2,    0.46,2,    0.13,2,    0.00,2,    0.09,2,   2.289,2,   1.374,2,   0.198,2,  2031.2,2,  2334.8,2,-999.000,9,-999.0000,9, -999.00,9, -999.00,9,  -999.0,9,  -999.0,-999.000,9,-999.000,-999.0000,9,    90.7,-999.000,  20.0942,     -999.0,9,     -999.0,9,     -999.0,9,     -999.0,9,     -999.0,9,     -999.0,9,     -999.0,9, -999.00,9,-999.0000,9,-999.0000,9,-999.0000,9,-999.0000,9,-999.0000,9,-999.0000,9,-999.0000, -999.00
33RR20050106,       P16S,      24,          1,         33,         33,2,20050116,       1822,   -27.5000,  -150.0000,       4596,   141.1,  19.4198,  35.5556,2,  35.5515,2,    226.5,2,   224.5,2,    0.46,2,    0.13,2,    0.00,2,    0.09,2,   2.336,6,   1.426,6,   0.190,6,  2039.4,2,  2331.4,2,-999.000,9,-999.0000,9, -999.00,9, -999.00,9,  -999.0,9,  -999.0,-999.000,9,-999.000,-999.0000,9,   141.1,-999.000,  19.3942,     -999.0,9,     -999.0,9,     -999.0,9,     -999.0,9,     -999.0,9,     -999.0,9,     -999.0,9, -999.00,9,-999.0000,9,-999.0000,9,-999.0000,9,-999.0000,9,-999.0000,9,-999.0000,9,-999.0000, -999.00
33RR20050106,       P16S,      24,          1,         32,         32,2,20050116,       1822,   -27.5000,  -150.0000,       4596,   190.7,  18.6534,  35.5074,2,  35.5074,2,    219.7,2,   217.8,2,    0.46,2,    0.24,2,    0.09,2,    0.13,2,   2.409,2,   1.447,2,   0.170,2,  2049.0,2,  2327.5,2,-999.000,9,-999.0000,9, -999.00,9, -999.00,9,  -999.0,9,  -999.0,-999.000,9,-999.000,-999.0000,9,   190.7,-999.000,  18.6197,     -999.0,9,     -999.0,9,     -999.0,9,     -999.0,9,     -999.0,9,     -999.0,9,     -999.0,9, -999.00,9,-999.0000,9,-999.0000,9,-999.0000,9,-999.0000,9,-999.0000,9,-999.0000,9,-999.0000, -999.00
33RR20050106,       P16S,      24,          1,         31,         31,2,20050116,       1822,   -27.5000,  -150.0000,       4596,   240.8,  17.4548,  35.4306,2,  35.4318,2,    213.1,2,   212.6,2,    0.67,2,    1.52,2,    0.07,2,    0.22,2,   2.548,2,   1.497,2,   0.125,2,  -999.0,9,  -999.0,9,-999.000,9,-999.0000,9, -999.00,9, -999.00,9,  -999.0,9,  -999.0,-999.000,9,-999.000,-999.0000,9,   240.8,-999.000,  17.4142,     -999.0,9,     -999.0,9,     -999.0,9,     -999.0,9,     -999.0,9,     -999.0,9,     -999.0,9, -999.00,9,-999.0000,9,-999.0000,9,-999.0000,9,-999.0000,9,-999.0000,9,-999.0000,9,-999.0000, -999.00
33RR20050106,       P16S,      24,          1,         30,         30,2,20050116,       1822,   -27.5000,  -150.0000,       4596,   290.8,  16.1168,  35.2974,2,-999.0000,9,    206.0,2,   205.7,2,    0.87,2,    3.92,2,    0.01,2,    0.39,2,   2.637,2,   1.521,2,   0.084,2,  2080.4,2,  2315.9,2,-999.000,9,-999.0000,9, -999.00,9, -999.00,9,  -999.0,9,  -999.0,-999.000,9,-999.000,-999.0000,9,   290.8,-999.000,  16.0703,     -999.0,9,     -999.0,9,     -999.0,9,     -999.0,9,     -999.0,9,     -999.0,9,     -999.0,9, -999.00,9,-999.0000,9,-999.0000,9,-999.0000,9,-999.0000,9,-999.0000,9,-999.0000,9,-999.0000, -999.00
33RR20050106,       P16S,      24,          1,         29,         29,2,20050116,       1822,   -27.5000,  -150.0000,       4596,   340.8,  14.3136,  35.0848,2,-999.0000,9,    195.5,2,   196.0,2,    1.89,2,    8.00,2,    0.00,2,    0.66,2,   2.526,2,   1.399,2,   0.032,2,  -999.0,9,  -999.0,9,-999.000,9,-999.0000,9, -999.00,9, -999.00,9,  -999.0,9,  -999.0,-999.000,9,-999.000,-999.0000,9,   340.8,-999.000,  14.2633,     -999.0,9,     -999.0,9,     -999.0,9,     -999.0,9,     -999.0,9,     -999.0,9,     -999.0,9, -999.00,9,-999.0000,9,-999.0000,9,-999.0000,9,-999.0000,9,-999.0000,9,-999.0000,9,-999.0000, -999.00
33RR20050106,       P16S,      24,          1,         28,         28,2,20050116,       1822,   -27.5000,  -150.0000,       4596,   390.9,  12.4242,  34.8737,2,-999.0000,9,    201.2,2,   201.6,2,    2.50,2,   11.04,2,    0.00,2,    0.86,2,   2.630,2,   1.407,2,   0.041,2,  2108.4,2,  2296.0,2,-999.000,9,-999.0000,9, -999.00,9, -999.00,9,  -999.0,9,  -999.0,-999.000,9,-999.000,-999.0000,9,   390.9,-999.000,  12.3717,     -999.0,9,     -999.0,9,     -999.0,9,     -999.0,9,     -999.0,9,     -999.0,9,     -999.0,9, -999.00,9,-999.0000,9,-999.0000,9,-999.0000,9,-999.0000,9,-999.0000,9,-999.0000,9,-999.0000, -999.00
33RR20050106,       P16S,      24,          1,         27,         27,2,20050116,       1822,   -27.5000,  -150.0000,       4596,   441.3,  10.9683,  34.7272,2,-999.0000,9,    203.0,2,   205.4,2,    3.31,2,   14.09,2,    0.00,2,    1.04,2,   2.659,2,   1.391,2,   0.063,2,  -999.0,9,  -999.0,9,-999.000,9,-999.0000,9, -999.00,9, -999.00,9,  -999.0,9,  -999.0,-999.000,9,-999.000,-999.0000,9,   441.3,-999.000,  10.9135,     -999.0,9,     -999.0,9,     -999.0,9,     -999.0,9,     -999.0,9,     -999.0,9,     -999.0,9, -999.00,9,-999.0000,9,-999.0000,9,-999.0000,9,-999.0000,9,-999.0000,9,-999.0000,9,-999.0000, -999.00
33RR20050106,       P16S,      24,          1,         26,         26,2,20050116,       1822,   -27.5000,  -150.0000,       4596,   491.5,   9.2241,  34.5596,2,-999.0000,9,    211.5,2,   215.2,2,    4.33,2,   17.51,2,    0.00,2,    1.26,2,   2.714,2,   1.427,2,   0.098,2,  2128.6,2,  2284.6,2,-999.000,9,-999.0000,9, -999.00,9, -999.00,9,  -999.0,9,  -999.0,-999.000,9,-999.000,-999.0000,9,   491.5,-999.000,   9.1693,     -999.0,9,     -999.0,9,     -999.0,9,     -999.0,9,     -999.0,9,     -999.0,9,     -999.0,9, -999.00,9,-999.0000,9,-999.0000,9,-999.0000,9,-999.0000,9,-999.0000,9,-999.0000,9,-999.0000, -999.00
33RR20050106,       P16S,      24,          1,         25,         25,2,20050116,       1822,   -27.5000,  -150.0000,       4596,   576.8,   7.6574,  34.4250,2,-999.0000,9,    226.3,2,   229.1,2,    5.75,2,   20.58,2,    0.00,2,    1.44,2,   2.769,2,   1.366,2,   0.106,2,  -999.0,9,  -999.0,9,-999.000,9,-999.0000,9, -999.00,9, -999.00,9,  -999.0,9,  -999.0,-999.000,9,-999.000,-999.0000,9,   576.8,-999.000,   7.5996,     -999.0,9,     -999.0,9,     -999.0,9,     -999.0,9,     -999.0,9,     -999.0,9,     -999.0,9, -999.00,9,-999.0000,9,-999.0000,9,-999.0000,9,-999.0000,9,-999.0000,9,-999.0000,9,-999.0000, -999.00
33RR20050106,       P16S,      24,          1,         24,         24,2,20050116,       1822,   -27.5000,  -150.0000,       4596,   677.3,   6.6610,  34.3592,2,  34.3598,2,    237.3,2,   238.4,2,    7.98,2,   22.81,2,    0.00,2,    1.59,2,   2.430,2,   1.171,2,   0.076,2,  2143.8,2,  2280.0,2,-999.000,9,-999.0000,9, -999.00,9, -999.00,9,  -999.0,9,  -999.0,-999.000,9,-999.000,-999.0000,9,   677.3,-999.000,   6.5977,     -999.0,9,     -999.0,9,     -999.0,9,     -999.0,9,     -999.0,9,     -999.0,9,     -999.0,9, -999.00,9,-999.0000,9,-999.0000,9,-999.0000,9,-999.0000,9,-999.0000,9,-999.0000,9,-999.0000, -999.00
33RR20050106,       P16S,      24,          1,         23,         23,2,20050116,       1822,   -27.5000,  -150.0000,       4596,   777.2,   6.0172,  34.3220,2,  34.3209,2,    234.0,2,   233.9,2,   11.02,2,   24.88,2,    0.00,2,    1.72,2,   1.669,2,   0.824,2,   0.046,2,  -999.0,9,  -999.0,9,-999.000,9,-999.0000,9, -999.00,9, -999.00,9,  -999.0,9,  -999.0,-999.000,9,-999.000,-999.0000,9,   777.2,-999.000,   5.9479,     -999.0,9,     -999.0,9,     -999.0,9,     -999.0,9,     -999.0,9,     -999.0,9,     -999.0,9, -999.00,9,-999.0000,9,-999.0000,9,-999.0000,9,-999.0000,9,-999.0000,9,-999.0000,9,-999.0000, -999.00
33RR20050106,       P16S,      24,          1,         22,         22,2,20050116,       1822,   -27.5000,  -150.0000,       4596,   877.8,   5.4266,  34.3101,2,  34.3089,2,    222.2,2,   222.0,2,   16.51,2,   27.17,2,    0.00,2,    1.89,2,   0.982,2,   0.505,2,   0.001,2,  2164.3,2,  2284.3,2,-999.000,9,-999.0000,9, -999.00,9, -999.00,9,  -999.0,9,  -999.0,-999.000,9,-999.000,-999.0000,9,   877.8,-999.000,   5.3517,     -999.0,9,     -999.0,9,     -999.0,9,     -999.0,9,     -999.0,9,     -999.0,9,     -999.0,9, -999.00,9,-999.0000,9,-999.0000,9,-999.0000,9,-999.0000,9,-999.0000,9,-999.0000,9,-999.0000, -999.00
33RR20050106,       P16S,      24,          1,         21,         21,2,20050116,       1822,   -27.5000,  -150.0000,       4596,   978.4,   4.8360,  34.3225,2,  34.3217,2,    206.3,2,   205.6,2,   25.66,2,   29.69,2,    0.00,2,    2.07,2,   0.544,2,   0.297,2,   0.001,2,  -999.0,9,  -999.0,9,-999.000,9,-999.0000,9, -999.00,9, -999.00,9,  -999.0,9,  -999.0,-999.000,9,-999.000,-999.0000,9,   978.4,-999.000,   4.7561,     -999.0,9,     -999.0,9,     -999.0,9,     -999.0,9,     -999.0,9,     -999.0,9,     -999.0,9, -999.00,9,-999.0000,9,-999.0000,9,-999.0000,9,-999.0000,9,-999.0000,9,-999.0000,9,-999.0000, -999.00
33RR20050106,       P16S,      24,          1,         20,         20,2,20050116,       1822,   -27.5000,  -150.0000,       4596,  1079.0,   4.2206,  34.3611,2,  34.3609,2,    186.0,2,   187.1,2,   38.53,2,   32.05,2,    0.00,2,    2.24,2,   0.233,2,   0.129,2,   0.001,2,  2206.6,6,  2304.4,2,-999.000,9,-999.0000,9, -999.00,9, -999.00,9,  -999.0,9,  -999.0,-999.000,9,-999.000,-999.0000,9,  1079.0,-999.000,   4.1367,     -999.0,9,     -999.0,9,     -999.0,9,     -999.0,9,     -999.0,9,     -999.0,9,     -999.0,9, -999.00,9,-999.0000,9,-999.0000,9,-999.0000,9,-999.0000,9,-999.0000,9,-999.0000,9,-999.0000, -999.00
33RR20050106,       P16S,      24,          1,         19,         19,2,20050116,       1822,   -27.5000,  -150.0000,       4596,  1179.8,   3.7772,  34.4052,2,  34.4047,2,    172.5,2,   175.1,2,   50.42,2,   33.39,2,    0.00,2,    2.33,2,   0.121,2,   0.069,2,   0.001,2,  -999.0,9,  -999.0,9,-999.000,9,-999.0000,9, -999.00,9, -999.00,9,  -999.0,9,  -999.0,-999.000,9,-999.000,-999.0000,9,  1179.8,-999.000,   3.6885,     -999.0,9,     -999.0,9,     -999.0,9,     -999.0,9,     -999.0,9,     -999.0,9,     -999.0,9, -999.00,9,-999.0000,9,-999.0000,9,-999.0000,9,-999.0000,9,-999.0000,9,-999.0000,9,-999.0000, -999.00
33RR20050106,       P16S,      24,          1,         18,         18,2,20050116,       1822,   -27.5000,  -150.0000,       4596,  1280.3,   3.4829,  34.4425,2,  34.4430,2,    165.5,2,   167.3,2,   59.88,2,   34.19,2,    0.00,2,    2.40,2,   0.074,2,   0.040,2,   0.001,2,  -999.0,9,  -999.0,9,-999.000,9,-999.0000,9, -999.00,9, -999.00,9,  -999.0,9,  -999.0,-999.000,9,-999.000,-999.0000,9,  1280.3,-999.000,   3.3885,     -999.0,9,     -999.0,9,     -999.0,9,     -999.0,9,     -999.0,9,     -999.0,9,     -999.0,9, -999.00,9,-999.0000,9,-999.0000,9,-999.0000,9,-999.0000,9,-999.0000,9,-999.0000,9,-999.0000, -999.00
33RR20050106,       P16S,      24,          1,         17,         17,2,20050116,       1822,   -27.5000,  -150.0000,       4596,  1381.1,   3.1411,  34.4869,2,  34.4866,2,    162.9,2,   163.5,2,   70.80,2,   34.56,2,    0.00,2,    2.43,2,   0.038,2,   0.021,2,   0.001,2,  -999.0,9,  -999.0,9,-999.000,9,-999.0000,9, -999.00,9, -999.00,9,  -999.0,9,  -999.0,-999.000,9,-999.000,-999.0000,9,  1381.1,-999.000,   3.0418,     -999.0,9,     -999.0,9,     -999.0,9,     -999.0,9,     -999.0,9,     -999.0,9,     -999.0,9, -999.00,9,-999.0000,9,-999.0000,9,-999.0000,9,-999.0000,9,-999.0000,9,-999.0000,9,-999.0000, -999.00
33RR20050106,       P16S,      24,          1,         16,         16,2,20050116,       1822,   -27.5000,  -150.0000,       4596,  1482.0,   2.8609,  34.5272,2,  34.5264,2,    160.1,2,   160.2,2,   81.55,2,   34.77,2,    0.00,2,    2.44,2,-999.000,5,-999.000,5,-999.000,5,  -999.0,9,  -999.0,9,-999.000,9,-999.0000,9, -999.00,9, -999.00,9,  -999.0,9,  -999.0,-999.000,9,-999.000,-999.0000,9,  1482.0,-999.000,   2.7562,     -999.0,9,     -999.0,9,     -999.0,9,     -999.0,9,     -999.0,9,     -999.0,9,     -999.0,9, -999.00,9,-999.0000,9,-999.0000,9,-999.0000,9,-999.0000,9,-999.0000,9,-999.0000,9,-999.0000, -999.00
33RR20050106,       P16S,      24,          1,         15,         15,2,20050116,       1822,   -27.5000,  -150.0000,       4596,  1582.6,   2.6477,  34.5572,2,  34.5573,2,    157.4,2,   157.9,2,   90.05,2,   34.93,2,    0.00,2,    2.46,2,   0.010,2,  -0.001,2,   0.001,2,  -999.0,9,  -999.0,9,-999.000,9,-999.0000,9, -999.00,9, -999.00,9,  -999.0,9,  -999.0,-999.000,9,-999.000,-999.0000,9,  1582.6,-999.000,   2.5372,     -999.0,9,     -999.0,9,     -999.0,9,     -999.0,9,     -999.0,9,     -999.0,9,     -999.0,9, -999.00,9,-999.0000,9,-999.0000,9,-999.0000,9,-999.0000,9,-999.0000,9,-999.0000,9,-999.0000, -999.00
33RR20050106,       P16S,      24,          1,         14,         14,2,20050116,       1822,   -27.5000,  -150.0000,       4596,  1683.9,   2.4927,  34.5791,2,  34.5781,2,    156.0,2,   156.4,2,   96.26,2,   35.04,2,    0.00,2,    2.48,2,-999.000,5,-999.000,5,-999.000,5,  -999.0,9,  -999.0,9,-999.000,9,-999.0000,9, -999.00,9, -999.00,9,  -999.0,9,  -999.0,-999.000,9,-999.000,-999.0000,9,  1683.9,-999.000,   2.3758,     -999.0,9,     -999.0,9,     -999.0,9,     -999.0,9,     -999.0,9,     -999.0,9,     -999.0,9, -999.00,9,-999.0000,9,-999.0000,9,-999.0000,9,-999.0000,9,-999.0000,9,-999.0000,9,-999.0000, -999.00
33RR20050106,       P16S,      24,          1,         13,         13,2,20050116,       1822,   -27.5000,  -150.0000,       4596,  1784.7,   2.3740,  34.5961,2,  34.5958,2,    154.9,2,   154.8,2,  101.87,2,   35.19,2,    0.00,2,    2.48,2,   0.008,2,  -0.001,2,   0.001,2,  -999.0,9,  -999.0,9,-999.000,9,-999.0000,9, -999.00,9, -999.00,9,  -999.0,9,  -999.0,-999.000,9,-999.000,-999.0000,9,  1784.7,-999.000,   2.2502,     -999.0,9,     -999.0,9,     -999.0,9,     -999.0,9,     -999.0,9,     -999.0,9,     -999.0,9, -999.00,9,-999.0000,9,-999.0000,9,-999.0000,9,-999.0000,9,-999.0000,9,-999.0000,9,-999.0000, -999.00
33RR20050106,       P16S,      24,          1,         12,         12,2,20050116,       1822,   -27.5000,  -150.0000,       4596,  1986.5,   2.1832,  34.6227,2,  34.6225,2,    152.8,2,   153.0,2,  110.38,2,   35.30,2,    0.00,2,    2.50,2,-999.000,5,-999.000,5,-999.000,5,  -999.0,9,  -999.0,9,-999.000,9,-999.0000,9, -999.00,9, -999.00,9,  -999.0,9,  -999.0,-999.000,9,-999.000,-999.0000,9,  1986.5,-999.000,   2.0451,     -999.0,9,     -999.0,9,     -999.0,9,     -999.0,9,     -999.0,9,     -999.0,9,     -999.0,9, -999.00,9,-999.0000,9,-999.0000,9,-999.0000,9,-999.0000,9,-999.0000,9,-999.0000,9,-999.0000, -999.00
33RR20050106,       P16S,      24,          1,         11,         11,2,20050116,       1822,   -27.5000,  -150.0000,       4596,  2189.0,   2.0246,  34.6435,2,  34.6433,2,    150.3,2,   150.6,2,  118.49,2,   35.51,2,    0.00,2,    2.52,2,   0.000,2,  -0.001,2,   0.001,2,  -999.0,9,  -999.0,9,-999.000,9,-999.0000,9, -999.00,9, -999.00,9,  -999.0,9,  -999.0,-999.000,9,-999.000,-999.0000,9,  2189.0,-999.000,   1.8716,     -999.0,9,     -999.0,9,     -999.0,9,     -999.0,9,     -999.0,9,     -999.0,9,     -999.0,9, -999.00,9,-999.0000,9,-999.0000,9,-999.0000,9,-999.0000,9,-999.0000,9,-999.0000,9,-999.0000, -999.00
33RR20050106,       P16S,      24,          1,         10,         10,2,20050116,       1822,   -27.5000,  -150.0000,       4596,  2442.1,   1.9092,  34.6562,2,  34.6543,2,    149.7,2,   150.1,2,  123.92,2,   35.62,2,    0.00,2,    2.52,2,-999.000,9,-999.000,9,-999.000,9,  -999.0,9,  -999.0,9,-999.000,9,-999.0000,9, -999.00,9, -999.00,9,  -999.0,9,  -999.0,-999.000,9,-999.000,-999.0000,9,  2442.1,-999.000,   1.7358,     -999.0,9,     -999.0,9,     -999.0,9,     -999.0,9,     -999.0,9,     -999.0,9,     -999.0,9, -999.00,9,-999.0000,9,-999.0000,9,-999.0000,9,-999.0000,9,-999.0000,9,-999.0000,9,-999.0000, -999.00
33RR20050106,       P16S,      24,          1,          9,          9,2,20050116,       1822,   -27.5000,  -150.0000,       4596,  2695.2,   1.7961,  34.6652,2,  34.6643,2,    153.6,2,   154.1,2,  126.00,2,   35.35,2,    0.00,2,    2.50,2,   0.002,2,  -0.001,2,   0.001,2,  -999.0,9,  -999.0,9,-999.000,9,-999.0000,9, -999.00,9, -999.00,9,  -999.0,9,  -999.0,-999.000,9,-999.000,-999.0000,9,  2695.2,-999.000,   1.6017,     -999.0,9,     -999.0,9,     -999.0,9,     -999.0,9,     -999.0,9,     -999.0,9,     -999.0,9, -999.00,9,-999.0000,9,-999.0000,9,-999.0000,9,-999.0000,9,-999.0000,9,-999.0000,9,-999.0000, -999.00
33RR20050106,       P16S,      24,          1,          8,          8,2,20050116,       1822,   -27.5000,  -150.0000,       4596,  2949.4,   1.7293,  34.6715,2,  34.6712,2,    156.9,2,   157.6,2,  126.62,2,   35.13,2,    0.00,2,    2.48,2,-999.000,9,-999.000,9,-999.000,9,  -999.0,9,  -999.0,9,-999.000,9,-999.0000,9, -999.00,9, -999.00,9,  -999.0,9,  -999.0,-999.000,9,-999.000,-999.0000,9,  2949.4,-999.000,   1.5123,     -999.0,9,     -999.0,9,     -999.0,9,     -999.0,9,     -999.0,9,     -999.0,9,     -999.0,9, -999.00,9,-999.0000,9,-999.0000,9,-999.0000,9,-999.0000,9,-999.0000,9,-999.0000,9,-999.0000, -999.00
33RR20050106,       P16S,      24,          1,          7,          7,2,20050116,       1822,   -27.5000,  -150.0000,       4596,  3202.8,   1.6547,  34.6778,2,  34.6775,2,    161.7,2,   163.0,2,  126.21,2,   34.75,2,    0.00,2,    2.45,2,-999.000,9,-999.000,9,-999.000,9,  -999.0,9,  -999.0,9,-999.000,9,-999.0000,9, -999.00,9, -999.00,9,  -999.0,9,  -999.0,-999.000,9,-999.000,-999.0000,9,  3202.8,-999.000,   1.4147,     -999.0,9,     -999.0,9,     -999.0,9,     -999.0,9,     -999.0,9,     -999.0,9,     -999.0,9, -999.00,9,-999.0000,9,-999.0000,9,-999.0000,9,-999.0000,9,-999.0000,9,-999.0000,9,-999.0000, -999.00