BOTTLE,20201109CCHSIOCBG
EXPOCODE,SECT_ID,STNNBR,CASTNO,SAMPNO,BTLNBR,BTLNBR_FLAG_W,DATE,TIME,LATITUDE,LONGITUDE,DEPTH,CTDPRS,CTDTMP,CTDSAL,CTDSAL_FLAG_W,SALNTY,SALNTY_FLAG_W,CTDOXY,CTDOXY_FLAG_W,OXYGEN,OXYGEN_FLAG_W,SILCAT,SILCAT_FLAG_W,NITRAT,NITRAT_FLAG_W,NITRIT,NITRIT_FLAG_W,PHSPHT,PHSPHT_FLAG_W,CFC-11,CFC-11_FLAG_W,CFC-12,CFC-12_FLAG_W,CFC113,CFC113_FLAG_W,TCARBN,TCARBN_FLAG_W,ALKALI,ALKALI_FLAG_W,TRITUM,TRITUM_FLAG_W,HELIUM,HELIUM_FLAG_W,DELHE3,DELHE3_FLAG_W,DELC13,DELC13_FLAG_W,DELC14,DELC14_FLAG_W,C14ERR,NEON,NEON_FLAG_W,NEONER,DOC,DOC_FLAG_W,CTDRAW,TRITER,THETA,FUCO,FUCO_FLAG_W,RHAM,RHAM_FLAG_W,ARABA,ARABA_FLAG_W,GALA,GALA_FLAG_W,GLUC,GLUC_FLAG_W,MAN,MAN_FLAG_W,DCNS,DCNS_FLAG_W,BRDU,BRDU_FLAG_W,CDOM325,CDOM325_FLAG_W,CDOM340,CDOM340_FLAG_W,CDOM380,CDOM380_FLAG_W,CDOM412,CDOM412_FLAG_W,CDOMSL,CDOMSL_FLAG_W,CDOMSN,CDOMSN_FLAG_W,HELIER,DELHER
,,,,,,,,,,,METERS,DBAR,ITS-90,PSS-78,,PSS-78,,UMOL/KG,,UMOL/KG,,UMOL/KG,,UMOL/KG,,UMOL/KG,,UMOL/KG,,PMOL/KG,,PMOL/KG,,PMOL/KG,,UMOL/KG,,UMOL/KG,,TU,,NMOL/KG,,PERCNT,,/MILLE,,/MILLE,,/MILLE,NMOL/KG,,NMOL/KG,UMOL/KG,,DBAR,TU,DEG C,NMOL/KG,,NMOL/KG,,NMOL/KG,,NMOL/KG,,NMOL/KG,,NMOL/KG,,NMOL/KG,,PMOL/L/H,,1/M,,1/M,,1/M,,1/M,,1/NM,,1/NM,,NMOL/KG,PERCNT
33RR20050106,       P16S,      61,          3,          6,          6,2,20050127,       1414,   -45.9995,  -149.9985,       5198,  3859.2,   1.4194,  34.7205,2,  34.7198,2,    194.6,2,   195.7,2,  111.00,2,   31.87,2,    0.00,2,    2.21,2,   0.006,2,   0.005,2,  -0.002,2,  2265.4,2,  2366.9,2,   0.001,2,   1.9140,2,   10.58,2, -999.00,9,  -999.0,9,  -999.0,   8.306,2,   0.010,-999.0000,9,  3859.2,   0.006,   1.1176,     -999.0,9,     -999.0,9,     -999.0,9,     -999.0,9,     -999.0,9,     -999.0,9,     -999.0,9, -999.00,9,-999.0000,9,-999.0000,9,-999.0000,9,-999.0000,9,-999.0000,9,-999.0000,9,   0.0010,    0.22
33RR20050106,       P16S,      61,          3,          5,          5,2,20050127,       1414,   -45.9995,  -149.9985,       5198,  4165.7,   1.2669,  34.7175,2,  34.7176,2,    198.4,2,   199.6,2,  114.55,2,   31.92,2,    0.00,2,    2.21,2,   0.001,2,   0.004,2,  -0.002,2,  2265.9,2,  2368.8,2,   0.001,2,   6.2210,4,    4.09,3, -999.00,9,  -999.0,9,  -999.0,  15.206,4,   0.033,  37.8703,2,  4165.7,   0.006,   0.9363,     -999.0,9,     -999.0,9,     -999.0,9,     -999.0,9,     -999.0,9,     -999.0,9,     -999.0,9, -999.00,9,   0.1130,2,   0.0770,2,   0.0400,2,   0.0280,2,   0.0171,2,   0.0192,2,   0.0100,    0.20
33RR20050106,       P16S,      61,          3,          4,          4,2,20050127,       1414,   -45.9995,  -149.9985,       5198,  4472.8,   1.2030,  34.7157,2,  34.7156,2,    200.4,2,   201.2,2,  117.49,2,   31.98,2,    0.00,2,    2.22,2,-999.000,9,-999.000,9,-999.000,9,  2267.4,2,  2370.1,2,-999.000,9,-999.0000,9, -999.00,9, -999.00,9,  -999.0,9,  -999.0,-999.000,9,-999.000,-999.0000,9,  4472.8,-999.000,   0.8401,     -999.0,9,     -999.0,9,     -999.0,9,     -999.0,9,     -999.0,9,     -999.0,9,     -999.0,9, -999.00,9,-999.0000,9,-999.0000,9,-999.0000,9,-999.0000,9,-999.0000,9,-999.0000,9,-999.0000, -999.00
33RR20050106,       P16S,      61,          3,          3,          3,2,20050127,       1414,   -45.9995,  -149.9985,       5198,  4780.9,   1.1875,  34.7145,2,  34.7137,2,    201.5,2,   202.0,2,  118.73,2,   31.98,2,    0.00,2,    2.22,2,   0.005,2,   0.010,2,  -0.002,2,  2268.2,2,  2370.4,2,   0.001,2,   3.6180,4,    5.83,3, -999.00,9,  -999.0,9,  -999.0,  14.218,4,   0.023,  38.3440,2,  4780.9,   0.006,   0.7896,     -999.0,9,     -999.0,9,     -999.0,9,     -999.0,9,     -999.0,9,     -999.0,9,     -999.0,9, -999.00,9,   0.1140,2,   0.0770,2,   0.0400,2,   0.0280,2,   0.0168,2,   0.0190,2,   0.0020,    0.18
33RR20050106,       P16S,      61,          3,          2,          2,2,20050127,       1414,   -45.9995,  -149.9985,       5198,  5067.4,   1.2034,  34.7139,2,  34.7133,2,    201.8,2,   201.8,2,  119.14,2,   32.03,2,    0.00,2,    2.22,2,   0.006,2,   0.014,3,  -0.002,2,  2267.6,2,  2370.4,2,   0.001,2,-999.0000,9, -999.00,9, -999.00,9,  -999.0,9,  -999.0,-999.000,9,-999.000,-999.0000,9,  5067.4,   0.006,   0.7708,     -999.0,9,     -999.0,9,     -999.0,9,     -999.0,9,     -999.0,9,     -999.0,9,     -999.0,9, -999.00,9,-999.0000,9,-999.0000,9,-999.0000,9,-999.0000,9,-999.0000,9,-999.0000,9,-999.0000, -999.00
33RR20050106,       P16S,      61,          3,          1,          1,2,20050127,       1414,   -45.9995,  -149.9985,       5198,  5273.3,   1.2222,  34.7135,2,  34.7131,2,    201.9,2,   203.1,2,  119.55,2,   32.03,2,    0.00,2,    2.22,2,   0.006,2,   0.011,2,  -0.002,2,  2268.9,6,  2372.8,6,   0.001,2,   1.9060,2,    8.01,2, -999.00,9,  -999.0,9,  -999.0,   8.206,2,   0.010,  38.2454,2,  5273.3,   0.006,   0.7638,     -999.0,9,     -999.0,9,     -999.0,9,     -999.0,9,     -999.0,9,     -999.0,9,     -999.0,9, -999.00,9,   0.1120,2,   0.0760,2,   0.0400,2,   0.0280,2,   0.0167,2,   0.0189,2,   0.0010,    0.22