BOTTLE,20201109CCHSIOCBG
EXPOCODE,SECT_ID,STNNBR,CASTNO,SAMPNO,BTLNBR,BTLNBR_FLAG_W,DATE,TIME,LATITUDE,LONGITUDE,DEPTH,CTDPRS,CTDTMP,CTDSAL,CTDSAL_FLAG_W,SALNTY,SALNTY_FLAG_W,CTDOXY,CTDOXY_FLAG_W,OXYGEN,OXYGEN_FLAG_W,SILCAT,SILCAT_FLAG_W,NITRAT,NITRAT_FLAG_W,NITRIT,NITRIT_FLAG_W,PHSPHT,PHSPHT_FLAG_W,CFC-11,CFC-11_FLAG_W,CFC-12,CFC-12_FLAG_W,CFC113,CFC113_FLAG_W,TCARBN,TCARBN_FLAG_W,ALKALI,ALKALI_FLAG_W,TRITUM,TRITUM_FLAG_W,HELIUM,HELIUM_FLAG_W,DELHE3,DELHE3_FLAG_W,DELC13,DELC13_FLAG_W,DELC14,DELC14_FLAG_W,C14ERR,NEON,NEON_FLAG_W,NEONER,DOC,DOC_FLAG_W,CTDRAW,TRITER,THETA,FUCO,FUCO_FLAG_W,RHAM,RHAM_FLAG_W,ARABA,ARABA_FLAG_W,GALA,GALA_FLAG_W,GLUC,GLUC_FLAG_W,MAN,MAN_FLAG_W,DCNS,DCNS_FLAG_W,BRDU,BRDU_FLAG_W,CDOM325,CDOM325_FLAG_W,CDOM340,CDOM340_FLAG_W,CDOM380,CDOM380_FLAG_W,CDOM412,CDOM412_FLAG_W,CDOMSL,CDOMSL_FLAG_W,CDOMSN,CDOMSN_FLAG_W,HELIER,DELHER
,,,,,,,,,,,METERS,DBAR,ITS-90,PSS-78,,PSS-78,,UMOL/KG,,UMOL/KG,,UMOL/KG,,UMOL/KG,,UMOL/KG,,UMOL/KG,,PMOL/KG,,PMOL/KG,,PMOL/KG,,UMOL/KG,,UMOL/KG,,TU,,NMOL/KG,,PERCNT,,/MILLE,,/MILLE,,/MILLE,NMOL/KG,,NMOL/KG,UMOL/KG,,DBAR,TU,DEG C,NMOL/KG,,NMOL/KG,,NMOL/KG,,NMOL/KG,,NMOL/KG,,NMOL/KG,,NMOL/KG,,PMOL/L/H,,1/M,,1/M,,1/M,,1/M,,1/NM,,1/NM,,NMOL/KG,PERCNT
33RR20050106,       P16S,      79,          1,          5,          5,2,20050202,       0854,   -55.0005,  -149.9970,       3531,  2792.7,   1.1940,  34.7244,2,  34.7234,2,    201.1,2,   201.7,2,  110.52,2,   31.50,2,    0.00,2,    2.14,2,   0.078,2,   0.047,2,   0.010,2,  2259.9,2,  2359.1,2,-999.000,9,-999.0000,9, -999.00,9, -999.00,9,  -999.0,9,  -999.0,-999.000,9,-999.000,-999.0000,9,  2792.7,-999.000,   1.0027,     -999.0,9,     -999.0,9,     -999.0,9,     -999.0,9,     -999.0,9,     -999.0,9,     -999.0,9, -999.00,9,-999.0000,9,-999.0000,9,-999.0000,9,-999.0000,9,-999.0000,9,-999.0000,9,-999.0000, -999.00
33RR20050106,       P16S,      79,          1,          4,          4,2,20050202,       0854,   -55.0005,  -149.9970,       3531,  3045.9,   1.0117,  34.7165,2,  34.7158,2,    203.6,2,   204.6,2,  117.44,2,   31.77,2,    0.00,2,    2.15,2,   0.087,2,   0.046,2,   0.012,2,  2260.9,2,  2361.6,2,   0.001,2,   2.5250,4,    9.51,3, -999.00,9,  -999.0,9,  -999.0,   9.572,4,   0.015,  38.4152,2,  3045.9,   0.005,   0.8012,     -999.0,9,     -999.0,9,     -999.0,9,     -999.0,9,     -999.0,9,     -999.0,9,     -999.0,9, -999.00,9,-999.0000,9,-999.0000,9,-999.0000,9,-999.0000,9,-999.0000,9,-999.0000,9,   0.0010,    0.16
33RR20050106,       P16S,      79,          1,          3,          3,2,20050202,       0854,   -55.0005,  -149.9970,       3531,  3301.4,   0.9126,  34.7116,2,  34.7113,2,    205.0,2,   206.2,2,  122.74,2,   31.87,2,    0.00,2,    2.17,2,   0.083,2,   0.046,2,   0.012,2,  2262.9,2,  2361.5,2,-999.000,9,   2.2200,4,    9.38,3, -999.00,9,  -999.0,9,  -999.0,   9.152,4,   0.013,-999.0000,9,  3301.4,-999.000,   0.6804,     -999.0,9,     -999.0,9,     -999.0,9,     -999.0,9,     -999.0,9,     -999.0,9,     -999.0,9, -999.00,9,-999.0000,9,-999.0000,9,-999.0000,9,-999.0000,9,-999.0000,9,-999.0000,9,   0.0010,    0.18
33RR20050106,       P16S,      79,          1,          2,          2,2,20050202,       0854,   -55.0005,  -149.9970,       3531,  3461.7,   0.9026,  34.7106,2,  34.7105,2,    205.2,2,   205.9,2,  126.80,2,   32.03,2,    0.00,2,    2.18,2,   0.097,2,   0.048,2,   0.008,2,  2263.7,2,  2362.8,2,   0.001,2,   1.9090,2,   10.42,2, -999.00,9,  -999.0,9,  -999.0,   8.294,2,   0.012,-999.0000,9,  3461.7,   0.006,   0.6551,     -999.0,9,     -999.0,9,     -999.0,9,     -999.0,9,     -999.0,9,     -999.0,9,     -999.0,9, -999.00,9,-999.0000,9,-999.0000,9,-999.0000,9,-999.0000,9,-999.0000,9,-999.0000,9,   0.0010,    0.19
33RR20050106,       P16S,      79,          1,          1,          1,2,20050202,       0854,   -55.0005,  -149.9970,       3531,  3563.0,   0.9028,  34.7100,2,  34.7105,2,    205.3,2,   206.0,2,  127.00,2,   32.09,2,    0.00,2,    2.18,2,   0.100,2,   0.044,2,   0.008,2,  2263.9,6,  2363.2,6,   0.001,2,-999.0000,9, -999.00,9, -999.00,9,  -999.0,9,  -999.0,-999.000,9,-999.000,  38.4574,2,  3563.0,   0.005,   0.6453,     -999.0,9,     -999.0,9,     -999.0,9,     -999.0,9,     -999.0,9,     -999.0,9,     -999.0,9, -999.00,9,-999.0000,9,-999.0000,9,-999.0000,9,-999.0000,9,-999.0000,9,-999.0000,9,-999.0000, -999.00