BOTTLE,20201109CCHSIOCBG
EXPOCODE,SECT_ID,STNNBR,CASTNO,SAMPNO,BTLNBR,BTLNBR_FLAG_W,DATE,TIME,LATITUDE,LONGITUDE,DEPTH,CTDPRS,CTDTMP,CTDSAL,CTDSAL_FLAG_W,SALNTY,SALNTY_FLAG_W,CTDOXY,CTDOXY_FLAG_W,OXYGEN,OXYGEN_FLAG_W,SILCAT,SILCAT_FLAG_W,NITRAT,NITRAT_FLAG_W,NITRIT,NITRIT_FLAG_W,PHSPHT,PHSPHT_FLAG_W,CFC-11,CFC-11_FLAG_W,CFC-12,CFC-12_FLAG_W,CFC113,CFC113_FLAG_W,TCARBN,TCARBN_FLAG_W,ALKALI,ALKALI_FLAG_W,TRITUM,TRITUM_FLAG_W,HELIUM,HELIUM_FLAG_W,DELHE3,DELHE3_FLAG_W,DELC13,DELC13_FLAG_W,DELC14,DELC14_FLAG_W,C14ERR,NEON,NEON_FLAG_W,NEONER,DOC,DOC_FLAG_W,CTDRAW,TRITER,THETA,FUCO,FUCO_FLAG_W,RHAM,RHAM_FLAG_W,ARABA,ARABA_FLAG_W,GALA,GALA_FLAG_W,GLUC,GLUC_FLAG_W,MAN,MAN_FLAG_W,DCNS,DCNS_FLAG_W,BRDU,BRDU_FLAG_W,CDOM325,CDOM325_FLAG_W,CDOM340,CDOM340_FLAG_W,CDOM380,CDOM380_FLAG_W,CDOM412,CDOM412_FLAG_W,CDOMSL,CDOMSL_FLAG_W,CDOMSN,CDOMSN_FLAG_W,HELIER,DELHER
,,,,,,,,,,,METERS,DBAR,ITS-90,PSS-78,,PSS-78,,UMOL/KG,,UMOL/KG,,UMOL/KG,,UMOL/KG,,UMOL/KG,,UMOL/KG,,PMOL/KG,,PMOL/KG,,PMOL/KG,,UMOL/KG,,UMOL/KG,,TU,,NMOL/KG,,PERCNT,,/MILLE,,/MILLE,,/MILLE,NMOL/KG,,NMOL/KG,UMOL/KG,,DBAR,TU,DEG C,NMOL/KG,,NMOL/KG,,NMOL/KG,,NMOL/KG,,NMOL/KG,,NMOL/KG,,NMOL/KG,,PMOL/L/H,,1/M,,1/M,,1/M,,1/M,,1/NM,,1/NM,,NMOL/KG,PERCNT
33RR20050106,       P16S,      23,          2,         36,         36,2,20050116,       1217,   -27.0002,  -150.0003,       4660,     3.9,  26.2145,  35.3670,2,  35.3663,2,    207.7,2,   207.4,2,    0.41,2,    0.12,2,    0.00,2,    0.09,2,   1.860,2,   1.137,2,   0.175,2,  2006.7,6,  2321.6,6,-999.000,9,-999.0000,9, -999.00,9, -999.00,9,  -999.0,9,  -999.0,-999.000,9,-999.000,  65.2855,2,     3.9,-999.000,  26.2136,        307,2,        202,2,        188,2,        564,2,        417,2,        702,2,       2380,2,    1.66,3,   0.0150,2,   0.0080,2,   0.0010,2,   0.0010,2,-999.0000,9,-999.0000,9,-999.0000, -999.00
33RR20050106,       P16S,      23,          2,         35,         35,2,20050116,       1217,   -27.0002,  -150.0003,       4660,    41.2,  23.3161,  35.3947,2,  35.3935,2,    217.9,2,   218.1,2,    0.41,2,    0.07,2,    0.00,2,    0.09,2,   2.045,2,   1.254,2,   0.191,2,  2012.3,2,  2322.9,2,-999.000,9,-999.0000,9, -999.00,9, -999.00,9,  -999.0,9,  -999.0,-999.000,9,-999.000,  66.8623,2,    41.2,-999.000,  23.3076,        283,2,        158,2,        142,2,        519,2,        320,2,        597,2,       2021,2,    2.71,3,   0.0200,2,   0.0120,2,   0.0030,2,   0.0020,2,-999.0000,9,-999.0000,9,-999.0000, -999.00
33RR20050106,       P16S,      23,          2,         34,         34,2,20050116,       1217,   -27.0002,  -150.0003,       4660,    76.1,  20.6948,  35.6095,2,  35.6081,2,    228.8,2,   229.4,2,    0.41,2,    0.07,2,    0.00,2,    0.09,2,   2.277,2,   1.345,2,   0.195,2,  2027.0,2,  2336.8,2,-999.000,9,-999.0000,9, -999.00,9, -999.00,9,  -999.0,9,  -999.0,-999.000,9,-999.000,  68.4266,2,    76.1,-999.000,  20.6804,        240,2,        153,2,        104,2,        511,2,        378,2,        645,2,       2031,2,    1.51,3,   0.0300,2,   0.0190,2,   0.0060,2,   0.0040,2,   0.0353,2,   0.0352,2,-999.0000, -999.00
33RR20050106,       P16S,      23,          2,         33,         33,2,20050116,       1217,   -27.0002,  -150.0003,       4660,    96.1,  20.3083,  35.6079,2,  35.6065,2,    229.5,2,   229.4,2,    0.41,2,    0.08,2,    0.00,2,    0.09,2,   2.264,2,   1.393,2,   0.197,2,  2027.8,2,  2336.8,2,-999.000,9,-999.0000,9, -999.00,9, -999.00,9,  -999.0,9,  -999.0,-999.000,9,-999.000,  67.9610,2,    96.1,-999.000,  20.2903,     -999.0,9,     -999.0,9,     -999.0,9,     -999.0,9,     -999.0,9,     -999.0,9,     -999.0,9,    2.35,3,   0.0370,2,   0.0230,2,   0.0080,2,   0.0050,2,   0.0311,2,   0.0312,2,-999.0000, -999.00
33RR20050106,       P16S,      23,          2,         32,         32,2,20050116,       1217,   -27.0002,  -150.0003,       4660,   125.9,  19.9707,  35.6028,2,  35.6020,2,    228.3,2,   227.8,2,    0.41,2,    0.08,2,    0.00,2,    0.09,2,   2.255,2,   1.393,2,   0.217,2,  2028.8,2,  2335.5,2,-999.000,9,-999.0000,9, -999.00,9, -999.00,9,  -999.0,9,  -999.0,-999.000,9,-999.000,  64.1842,2,   125.9,-999.000,  19.9474,        282,2,        219,2,        143,2,        493,2,        351,2,        663,2,       2151,2,    3.69,3,   0.0410,2,   0.0270,2,   0.0110,2,   0.0070,2,   0.0276,2,   0.0276,2,-999.0000, -999.00
33RR20050106,       P16S,      23,          2,         31,         31,2,20050116,       1217,   -27.0002,  -150.0003,       4660,   175.8,  19.1656,  35.5416,2,  35.5394,2,    224.9,2,   222.9,2,    0.41,2,    0.07,2,    0.00,2,    0.11,2,   2.314,2,   1.417,2,   0.205,2,  2038.5,2,  2332.1,2,-999.000,9,-999.0000,9, -999.00,9, -999.00,9,  -999.0,9,  -999.0,-999.000,9,-999.000,  62.7362,2,   175.8,-999.000,  19.1340,        161,2,        104,2,         94,2,        285,2,        224,2,        320,2,       1189,2,    5.98,3,   0.0540,2,   0.0380,2,   0.0180,2,   0.0130,2,   0.0225,2,   0.0226,2,-999.0000, -999.00
33RR20050106,       P16S,      23,          2,         30,         30,2,20050116,       1217,   -27.0002,  -150.0003,       4660,   226.2,  18.1502,  35.4701,2,  35.4702,2,    215.5,2,   214.1,2,    0.41,2,    0.88,2,    0.09,2,    0.19,2,   2.440,2,   1.446,2,   0.182,2,  2054.3,2,  2325.3,2,-999.000,9,-999.0000,9, -999.00,9, -999.00,9,  -999.0,9,  -999.0,-999.000,9,-999.000,  55.9215,2,   226.2,-999.000,  18.1110,     -999.0,9,     -999.0,9,     -999.0,9,     -999.0,9,     -999.0,9,     -999.0,9,     -999.0,9,    3.28,3,   0.0600,2,   0.0440,2,   0.0210,2,   0.0150,2,   0.0200,2,   0.0203,2,-999.0000, -999.00
33RR20050106,       P16S,      23,          2,         29,         29,2,20050116,       1217,   -27.0002,  -150.0003,       4660,   275.9,  16.8731,  35.3647,2,-999.0000,9,    212.5,2,   206.6,2,    0.82,2,    2.65,2,    0.01,2,    0.31,2,   2.578,2,   1.509,2,   0.094,2,  2069.5,2,  2319.8,2,-999.000,9,-999.0000,9, -999.00,9, -999.00,9,  -999.0,9,  -999.0,-999.000,9,-999.000,  49.2495,2,   275.9,-999.000,  16.8276,         70,2,         53,2,         51,2,        120,2,        110,2,        142,2,        545,2,    2.19,3,   0.0720,2,   0.0510,2,   0.0240,2,   0.0180,2,   0.0230,2,   0.0232,2,-999.0000, -999.00
33RR20050106,       P16S,      23,          2,         28,         28,2,20050116,       1217,   -27.0002,  -150.0003,       4660,   326.1,  15.3004,  35.2080,2,-999.0000,9,    204.0,2,   203.3,2,    1.22,2,    5.28,2,    0.00,2,    0.48,2,   2.631,2,   1.536,2,   0.058,2,  2084.9,2,  2312.0,2,-999.000,9,-999.0000,9, -999.00,9, -999.00,9,  -999.0,9,  -999.0,-999.000,9,-999.000,  48.1023,2,   326.1,-999.000,  15.2501,     -999.0,9,     -999.0,9,     -999.0,9,     -999.0,9,     -999.0,9,     -999.0,9,     -999.0,9, -999.00,9,   0.0650,2,   0.0460,2,   0.0210,2,   0.0160,2,   0.0226,2,   0.0228,2,-999.0000, -999.00
33RR20050106,       P16S,      23,          2,         27,         27,2,20050116,       1217,   -27.0002,  -150.0003,       4660,   375.8,  13.3311,  34.9865,2,-999.0000,9,    203.0,2,   203.0,2,    1.83,2,    8.93,2,    0.00,2,    0.72,2,   2.710,2,   1.463,2,   0.059,2,  2099.0,2,  2302.1,2,-999.000,9,-999.0000,9, -999.00,9, -999.00,9,  -999.0,9,  -999.0,-999.000,9,-999.000,  50.0321,2,   375.8,-999.000,  13.2782,     -999.0,9,     -999.0,9,     -999.0,9,     -999.0,9,     -999.0,9,     -999.0,9,     -999.0,9, -999.00,9,   0.0640,2,   0.0450,2,   0.0220,2,   0.0160,2,   0.0219,2,   0.0224,2,-999.0000, -999.00
33RR20050106,       P16S,      23,          2,         26,         26,2,20050116,       1217,   -27.0002,  -150.0003,       4660,   426.2,  11.6394,  34.8034,2,-999.0000,9,    203.9,2,   204.4,2,    2.84,2,   12.75,2,    0.00,2,    0.96,2,   2.684,6,   1.456,6,   0.070,6,  2112.5,2,  2293.0,2,-999.000,9,-999.0000,9, -999.00,9, -999.00,9,  -999.0,9,  -999.0,-999.000,9,-999.000,-999.0000,9,   426.2,-999.000,  11.5845,     -999.0,9,     -999.0,9,     -999.0,9,     -999.0,9,     -999.0,9,     -999.0,9,     -999.0,9, -999.00,9,-999.0000,9,-999.0000,9,-999.0000,9,-999.0000,9,-999.0000,9,-999.0000,9,-999.0000, -999.00
33RR20050106,       P16S,      23,          2,         25,         25,2,20050116,       1217,   -27.0002,  -150.0003,       4660,   476.6,   9.7923,  34.6143,2,-999.0000,9,    209.2,2,   212.1,2,    4.05,2,   16.57,2,    0.00,2,    1.20,2,   2.758,2,   1.445,2,   0.102,2,  2123.9,2,  2285.7,2,-999.000,9,-999.0000,9, -999.00,9, -999.00,9,  -999.0,9,  -999.0,-999.000,9,-999.000,  44.6323,2,   476.6,-999.000,   9.7372,     -999.0,9,     -999.0,9,     -999.0,9,     -999.0,9,     -999.0,9,     -999.0,9,     -999.0,9, -999.00,9,   0.0610,2,   0.0420,2,   0.0210,2,   0.0160,2,   0.0224,2,   0.0233,2,-999.0000, -999.00
33RR20050106,       P16S,      23,          2,         24,         24,2,20050116,       1217,   -27.0002,  -150.0003,       4660,   526.8,   8.2239,  34.4633,2,-999.0000,9,    218.0,2,   223.8,2,    5.27,2,   19.77,2,    0.00,2,    1.40,2,   2.787,2,   1.413,2,   0.099,2,  2131.2,2,  2280.9,2,-999.000,9,-999.0000,9, -999.00,9, -999.00,9,  -999.0,9,  -999.0,-999.000,9,-999.000,  47.2160,3,   526.8,-999.000,   8.1690,     -999.0,9,     -999.0,9,     -999.0,9,     -999.0,9,     -999.0,9,     -999.0,9,     -999.0,9, -999.00,9,   0.0600,2,   0.0410,2,   0.0220,2,   0.0160,2,   0.0209,2,   0.0222,2,-999.0000, -999.00
33RR20050106,       P16S,      23,          2,         23,         23,2,20050116,       1217,   -27.0002,  -150.0003,       4660,   647.3,   6.9921,  34.3774,2,  34.3779,2,    233.3,2,   234.9,2,    7.09,2,   22.28,2,    0.00,2,    1.55,2,   2.574,2,   1.305,2,   0.103,2,  2138.1,2,  2279.9,2,-999.000,9,-999.0000,9, -999.00,9, -999.00,9,  -999.0,9,  -999.0,-999.000,9,-999.000,  43.4719,2,   647.3,-999.000,   6.9302,     -999.0,9,     -999.0,9,     -999.0,9,     -999.0,9,     -999.0,9,     -999.0,9,     -999.0,9, -999.00,9,   0.0560,2,   0.0380,2,   0.0200,2,   0.0150,2,   0.0232,2,   0.0244,2,-999.0000, -999.00
33RR20050106,       P16S,      23,          2,         22,         22,2,20050116,       1217,   -27.0002,  -150.0003,       4660,   747.2,   6.2027,  34.3323,2,  34.3310,2,    233.2,2,   234.3,2,   10.34,2,   24.59,2,    0.00,2,    1.70,2,   1.802,2,   0.933,2,   0.049,2,  2145.8,2,  2278.6,2,-999.000,9,-999.0000,9, -999.00,9, -999.00,9,  -999.0,9,  -999.0,-999.000,9,-999.000,  44.9176,2,   747.2,-999.000,   6.1352,     -999.0,9,     -999.0,9,     -999.0,9,     -999.0,9,     -999.0,9,     -999.0,9,     -999.0,9, -999.00,9,   0.0540,2,   0.0360,2,   0.0190,2,   0.0140,2,   0.0250,2,   0.0263,2,-999.0000, -999.00
33RR20050106,       P16S,      23,          2,         21,         21,2,20050116,       1217,   -27.0002,  -150.0003,       4660,   847.8,   5.5214,  34.3102,2,  34.3104,2,    224.0,2,   224.4,2,   15.41,2,   26.90,2,    0.00,2,    1.85,2,   1.103,2,   0.565,2,   0.009,2,  2158.0,2,  2284.3,2,-999.000,9,-999.0000,9, -999.00,9, -999.00,9,  -999.0,9,  -999.0,-999.000,9,-999.000,  44.1097,2,   847.8,-999.000,   5.4486,     -999.0,9,     -999.0,9,     -999.0,9,     -999.0,9,     -999.0,9,     -999.0,9,     -999.0,9, -999.00,9,   0.0610,2,   0.0420,2,   0.0220,2,   0.0170,2,   0.0218,2,   0.0233,2,-999.0000, -999.00
33RR20050106,       P16S,      23,          2,         20,         20,2,20050116,       1217,   -27.0002,  -150.0003,       4660,   948.5,   4.9366,  34.3167,2,  34.3171,2,    207.9,2,   207.6,2,   24.17,2,   29.55,2,    0.00,2,    2.05,2,   0.586,2,   0.298,2,   0.001,2,  2178.0,2,  2291.6,2,-999.000,9,-999.0000,9, -999.00,9, -999.00,9,  -999.0,9,  -999.0,-999.000,9,-999.000,  39.5085,2,   948.5,-999.000,   4.8587,     -999.0,9,     -999.0,9,     -999.0,9,     -999.0,9,     -999.0,9,     -999.0,9,     -999.0,9, -999.00,9,   0.0650,2,   0.0450,2,   0.0240,2,   0.0180,2,   0.0201,2,   0.0217,2,-999.0000, -999.00
33RR20050106,       P16S,      23,          2,         19,         19,2,20050116,       1217,   -27.0002,  -150.0003,       4660,  1048.8,   4.3473,  34.3498,2,  34.3506,2,    188.9,2,   190.5,2,   35.82,2,   31.82,2,    0.00,2,    2.22,2,   0.295,2,   0.145,2,   0.001,2,  2202.5,2,  2301.8,2,-999.000,9,-999.0000,9, -999.00,9, -999.00,9,  -999.0,9,  -999.0,-999.000,9,-999.000,  41.0481,2,  1048.8,-999.000,   4.2650,     -999.0,9,     -999.0,9,     -999.0,9,     -999.0,9,     -999.0,9,     -999.0,9,     -999.0,9, -999.00,9,   0.0760,2,   0.0530,2,   0.0290,2,   0.0220,2,   0.0177,2,   0.0193,2,-999.0000, -999.00
33RR20050106,       P16S,      23,          2,         18,         18,2,20050116,       1217,   -27.0002,  -150.0003,       4660,  1149.8,   3.7857,  34.4023,2,  34.4030,2,    177.5,2,   176.4,2,   49.76,2,   33.50,2,    0.00,2,    2.34,2,   0.115,2,   0.063,2,   0.001,2,  2223.7,2,  2314.8,6,-999.000,9,-999.0000,9, -999.00,9, -999.00,9,  -999.0,9,  -999.0,-999.000,9,-999.000,-999.0000,9,  1149.8,-999.000,   3.6995,     -999.0,9,     -999.0,9,     -999.0,9,     -999.0,9,     -999.0,9,     -999.0,9,     -999.0,9, -999.00,9,-999.0000,9,-999.0000,9,-999.0000,9,-999.0000,9,-999.0000,9,-999.0000,9,-999.0000, -999.00
33RR20050106,       P16S,      23,          2,         17,         17,2,20050116,       1217,   -27.0002,  -150.0003,       4660,  1250.2,   3.4045,  34.4479,2,  34.4475,2,    170.0,2,   169.7,2,   61.07,2,   34.20,2,    0.00,2,    2.40,2,   0.055,2,   0.022,2,   0.001,2,  2237.7,2,  2326.9,2,-999.000,9,-999.0000,9, -999.00,9, -999.00,9,  -999.0,9,  -999.0,-999.000,9,-999.000,  40.9542,2,  1250.2,-999.000,   3.3134,     -999.0,9,     -999.0,9,     -999.0,9,     -999.0,9,     -999.0,9,     -999.0,9,     -999.0,9, -999.00,9,   0.0940,3,   0.0680,3,   0.0400,3,   0.0290,3,   0.0137,3,   0.0150,3,-999.0000, -999.00
33RR20050106,       P16S,      23,          2,         16,         16,2,20050116,       1217,   -27.0002,  -150.0003,       4660,  1351.1,   3.1650,  34.4802,2,  34.4801,2,    164.7,2,   165.8,2,   69.12,2,   34.58,2,    0.00,2,    2.42,2,   0.053,2,   0.038,3,   0.001,2,  2247.7,2,  2336.6,2,-999.000,9,-999.0000,9, -999.00,9, -999.00,9,  -999.0,9,  -999.0,-999.000,9,-999.000,-999.0000,9,  1351.1,-999.000,   3.0679,     -999.0,9,     -999.0,9,     -999.0,9,     -999.0,9,     -999.0,9,     -999.0,9,     -999.0,9, -999.00,9,-999.0000,9,-999.0000,9,-999.0000,9,-999.0000,9,-999.0000,9,-999.0000,9,-999.0000, -999.00
33RR20050106,       P16S,      23,          2,         15,         15,2,20050116,       1217,   -27.0002,  -150.0003,       4660,  1452.4,   2.8778,  34.5219,2,  34.5211,2,    160.0,2,   161.2,2,   80.07,2,   34.90,2,    0.00,2,    2.46,2,   0.026,2,   0.019,3,   0.001,2,  2261.3,2,  2349.6,2,-999.000,9,-999.0000,9, -999.00,9, -999.00,9,  -999.0,9,  -999.0,-999.000,9,-999.000,-999.0000,9,  1452.4,-999.000,   2.7754,     -999.0,9,     -999.0,9,     -999.0,9,     -999.0,9,     -999.0,9,     -999.0,9,     -999.0,9, -999.00,9,-999.0000,9,-999.0000,9,-999.0000,9,-999.0000,9,-999.0000,9,-999.0000,9,-999.0000, -999.00
33RR20050106,       P16S,      23,          2,         14,         14,2,20050116,       1217,   -27.0002,  -150.0003,       4660,  1552.8,   2.6490,  34.5559,2,  34.5555,2,    157.7,2,   158.3,2,   89.82,2,   35.12,2,    0.00,2,    2.47,2,   0.039,3,   0.029,3,   0.001,2,  2271.9,2,  2361.2,2,-999.000,9,-999.0000,9, -999.00,9, -999.00,9,  -999.0,9,  -999.0,-999.000,9,-999.000,  39.4882,2,  1552.8,-999.000,   2.5410,     -999.0,9,     -999.0,9,     -999.0,9,     -999.0,9,     -999.0,9,     -999.0,9,     -999.0,9, -999.00,9,   0.0930,2,   0.0660,2,   0.0370,2,   0.0260,2,   0.0159,2,   0.0172,2,-999.0000, -999.00
33RR20050106,       P16S,      23,          2,         13,         13,2,20050116,       1217,   -27.0002,  -150.0003,       4660,  1754.9,   2.3715,  34.5958,2,  34.5957,2,    154.7,2,   155.1,2,  101.64,2,   35.33,2,    0.00,2,    2.50,2,   0.009,2,  -0.001,2,   0.001,2,  2285.1,2,  2374.8,2,-999.000,9,-999.0000,9, -999.00,9, -999.00,9,  -999.0,9,  -999.0,-999.000,9,-999.000,-999.0000,9,  1754.9,-999.000,   2.2502,     -999.0,9,     -999.0,9,     -999.0,9,     -999.0,9,     -999.0,9,     -999.0,9,     -999.0,9, -999.00,9,-999.0000,9,-999.0000,9,-999.0000,9,-999.0000,9,-999.0000,9,-999.0000,9,-999.0000, -999.00
33RR20050106,       P16S,      23,          2,         12,         12,2,20050116,       1217,   -27.0002,  -150.0003,       4660,  1956.7,   2.1708,  34.6239,2,  34.6242,2,    152.7,2,   152.8,2,  111.21,2,   35.49,2,    0.00,2,    2.50,2,  -0.002,2,  -0.001,2,   0.001,2,  2295.7,2,  2382.2,2,-999.000,9,-999.0000,9, -999.00,9, -999.00,9,  -999.0,9,  -999.0,-999.000,9,-999.000,  36.8992,2,  1956.7,-999.000,   2.0354,     -999.0,9,     -999.0,9,     -999.0,9,     -999.0,9,     -999.0,9,     -999.0,9,     -999.0,9, -999.00,9,   0.0960,2,   0.0690,2,   0.0390,2,   0.0270,2,   0.0153,2,   0.0164,2,-999.0000, -999.00
33RR20050106,       P16S,      23,          2,         11,         11,2,20050116,       1217,   -27.0002,  -150.0003,       4660,  2118.8,   2.0569,  34.6381,2,  34.6377,2,    151.5,2,   152.2,2,  116.62,2,   35.66,2,    0.00,2,    2.51,2,   0.002,2,  -0.001,2,   0.001,2,  2301.5,2,  2390.1,2,-999.000,9,-999.0000,9, -999.00,9, -999.00,9,  -999.0,9,  -999.0,-999.000,9,-999.000,-999.0000,9,  2118.8,-999.000,   1.9094,     -999.0,9,     -999.0,9,     -999.0,9,     -999.0,9,     -999.0,9,     -999.0,9,     -999.0,9, -999.00,9,-999.0000,9,-999.0000,9,-999.0000,9,-999.0000,9,-999.0000,9,-999.0000,9,-999.0000, -999.00
33RR20050106,       P16S,      23,          2,         10,         10,2,20050116,       1217,   -27.0002,  -150.0003,       4660,  2371.8,   1.9299,  34.6521,2,  34.6519,2,    151.6,2,   151.9,2,  122.04,2,   35.70,2,    0.00,2,    2.51,2,  -0.002,2,  -0.001,2,   0.001,2,  2306.6,6,  2396.3,2,-999.000,9,-999.0000,9, -999.00,9, -999.00,9,  -999.0,9,  -999.0,-999.000,9,-999.000,  37.6183,2,  2371.8,-999.000,   1.7624,     -999.0,9,     -999.0,9,     -999.0,9,     -999.0,9,     -999.0,9,     -999.0,9,     -999.0,9, -999.00,9,   0.1010,2,   0.0720,2,   0.0400,2,   0.0280,2,   0.0156,2,   0.0168,2,-999.0000, -999.00
33RR20050106,       P16S,      23,          2,          9,          9,2,20050116,       1217,   -27.0002,  -150.0003,       4660,  2624.6,   1.8247,  34.6622,2,  34.6627,2,    153.9,2,   154.2,2,  124.95,2,   35.54,2,    0.00,2,    2.51,2,  -0.002,2,  -0.001,2,   0.001,2,  2308.1,2,  2396.8,2,-999.000,9,-999.0000,9, -999.00,9, -999.00,9,  -999.0,9,  -999.0,-999.000,9,-999.000,-999.0000,9,  2624.6,-999.000,   1.6363,     -999.0,9,     -999.0,9,     -999.0,9,     -999.0,9,     -999.0,9,     -999.0,9,     -999.0,9, -999.00,9,-999.0000,9,-999.0000,9,-999.0000,9,-999.0000,9,-999.0000,9,-999.0000,9,-999.0000, -999.00
33RR20050106,       P16S,      23,          2,          8,          8,2,20050116,       1217,   -27.0002,  -150.0003,       4660,  2877.7,   1.7426,  34.6696,2,  34.6695,2,    157.8,2,   157.7,2,  126.19,2,   35.32,2,    0.00,2,    2.49,2,  -0.002,2,  -0.001,2,   0.001,2,  2306.7,2,  2398.4,2,-999.000,9,-999.0000,9, -999.00,9, -999.00,9,  -999.0,9,  -999.0,-999.000,9,-999.000,-999.0000,9,  2877.7,-999.000,   1.5322,     -999.0,9,     -999.0,9,     -999.0,9,     -999.0,9,     -999.0,9,     -999.0,9,     -999.0,9, -999.00,9,-999.0000,9,-999.0000,9,-999.0000,9,-999.0000,9,-999.0000,9,-999.0000,9,-999.0000, -999.00
33RR20050106,       P16S,      23,          2,          7,          7,2,20050116,       1217,   -27.0002,  -150.0003,       4660,  3132.3,   1.6655,  34.6763,2,  34.6768,2,    162.0,2,   162.6,2,  126.19,2,   34.99,2,    0.00,2,    2.46,2,   0.002,2,  -0.001,2,   0.001,2,  2303.6,2,  2398.1,2,-999.000,9,-999.0000,9, -999.00,9, -999.00,9,  -999.0,9,  -999.0,-999.000,9,-999.000,  42.1406,3,  3132.3,-999.000,   1.4322,     -999.0,9,     -999.0,9,     -999.0,9,     -999.0,9,     -999.0,9,     -999.0,9,     -999.0,9, -999.00,9,   0.0970,2,   0.0700,2,   0.0390,2,   0.0270,2,   0.0156,2,   0.0167,2,-999.0000, -999.00