BOTTLE,20201109CCHSIOCBG
EXPOCODE,SECT_ID,STNNBR,CASTNO,SAMPNO,BTLNBR,BTLNBR_FLAG_W,DATE,TIME,LATITUDE,LONGITUDE,DEPTH,CTDPRS,CTDTMP,CTDSAL,CTDSAL_FLAG_W,SALNTY,SALNTY_FLAG_W,CTDOXY,CTDOXY_FLAG_W,OXYGEN,OXYGEN_FLAG_W,SILCAT,SILCAT_FLAG_W,NITRAT,NITRAT_FLAG_W,NITRIT,NITRIT_FLAG_W,PHSPHT,PHSPHT_FLAG_W,CFC-11,CFC-11_FLAG_W,CFC-12,CFC-12_FLAG_W,CFC113,CFC113_FLAG_W,TCARBN,TCARBN_FLAG_W,ALKALI,ALKALI_FLAG_W,TRITUM,TRITUM_FLAG_W,HELIUM,HELIUM_FLAG_W,DELHE3,DELHE3_FLAG_W,DELC13,DELC13_FLAG_W,DELC14,DELC14_FLAG_W,C14ERR,NEON,NEON_FLAG_W,NEONER,DOC,DOC_FLAG_W,CTDRAW,TRITER,THETA,FUCO,FUCO_FLAG_W,RHAM,RHAM_FLAG_W,ARABA,ARABA_FLAG_W,GALA,GALA_FLAG_W,GLUC,GLUC_FLAG_W,MAN,MAN_FLAG_W,DCNS,DCNS_FLAG_W,BRDU,BRDU_FLAG_W,CDOM325,CDOM325_FLAG_W,CDOM340,CDOM340_FLAG_W,CDOM380,CDOM380_FLAG_W,CDOM412,CDOM412_FLAG_W,CDOMSL,CDOMSL_FLAG_W,CDOMSN,CDOMSN_FLAG_W,HELIER,DELHER
,,,,,,,,,,,METERS,DBAR,ITS-90,PSS-78,,PSS-78,,UMOL/KG,,UMOL/KG,,UMOL/KG,,UMOL/KG,,UMOL/KG,,UMOL/KG,,PMOL/KG,,PMOL/KG,,PMOL/KG,,UMOL/KG,,UMOL/KG,,TU,,NMOL/KG,,PERCNT,,/MILLE,,/MILLE,,/MILLE,NMOL/KG,,NMOL/KG,UMOL/KG,,DBAR,TU,DEG C,NMOL/KG,,NMOL/KG,,NMOL/KG,,NMOL/KG,,NMOL/KG,,NMOL/KG,,NMOL/KG,,PMOL/L/H,,1/M,,1/M,,1/M,,1/M,,1/NM,,1/NM,,NMOL/KG,PERCNT
33RR20050106,       P16S,      37,          2,         36,         36,2,20050120,       1025,   -34.0000,  -149.9998,       5162,     5.0,  21.9669,  34.9402,2,  34.9439,2,    222.2,2,   221.4,2,    0.37,2,    0.09,2,    0.00,2,    0.13,2,   2.156,2,   1.297,2,   0.180,2,  2026.2,6,  2292.2,6,   0.495,2,-999.0000,9, -999.00,9, -999.00,9,  -999.0,9,  -999.0,-999.000,9,-999.000,  60.1671,2,     5.0,   0.011,  21.9659,        226,2,        150,2,        122,2,        443,2,        670,2,        466,2,       2078,2,    0.89,2,   0.0220,2,   0.0120,2,   0.0020,3,   0.0010,2,-999.0000,9,-999.0000,9,-999.0000, -999.00
33RR20050106,       P16S,      37,          2,         35,         35,2,20050120,       1025,   -34.0000,  -149.9998,       5162,    50.6,  16.8203,  35.1716,2,  35.1675,2,    253.9,2,   254.1,2,    0.37,2,    0.09,2,    0.00,2,    0.14,2,   2.766,2,   1.641,2,   0.210,2,  2045.1,2,  2306.6,2,   0.453,2,   1.7560,2,   -0.98,2, -999.00,9,  -999.0,9,  -999.0,   7.222,2,   0.011,  58.4649,2,    50.6,   0.011,  16.8120,        254,2,        154,2,        169,2,        532,2,        277,2,        768,2,       2155,2,    0.21,2,   0.0620,2,   0.0390,2,   0.0150,2,   0.0090,2,   0.0290,2,   0.0293,2,   0.0020,    0.11
33RR20050106,       P16S,      37,          2,         34,         34,2,20050120,       1025,   -34.0000,  -149.9998,       5162,   100.9,  15.2895,  35.1329,2,  35.1349,2,    252.3,2,   248.9,2,    0.57,2,    0.08,2,    0.00,2,    0.17,2,   2.819,2,   1.658,2,   0.237,2,  2053.7,2,  2307.5,2,   0.428,2,   1.7370,2,   -2.34,2, -999.00,9,  -999.0,9,  -999.0,   7.264,2,   0.014,  55.6285,2,   100.9,   0.010,  15.2740,        167,2,        127,2,         73,2,        354,2,        297,2,        411,2,       1428,2,    1.38,2,   0.0880,2,   0.0610,2,   0.0280,2,   0.0190,2,   0.0214,2,   0.0221,2,   0.0010,    0.16
33RR20050106,       P16S,      37,          2,         33,         33,2,20050120,       1025,   -34.0000,  -149.9998,       5162,   156.0,  14.1560,  35.0545,2,-999.0000,9,    226.8,2,   221.8,2,    0.96,2,    4.47,2,    0.19,2,    0.45,2,   2.916,2,   1.696,2,   0.215,2,  2083.0,2,  2301.8,2,   0.404,2,   0.2400,5,    4.64,3, -999.00,9,  -999.0,9,  -999.0,   0.899,4,   0.000,  49.3480,2,   156.0,   0.010,  14.1333,        100,2,         66,2,         61,2,        165,2,        389,2,        219,2,       1000,2,    0.17,2,   0.0810,2,   0.0560,2,   0.0270,2,   0.0200,2,   0.0213,2,   0.0220,2,   0.0000,    0.35
33RR20050106,       P16S,      37,          2,         32,         32,2,20050120,       1025,   -34.0000,  -149.9998,       5162,   206.2,  11.9605,  34.8219,2,-999.0000,9,    214.4,2,   214.4,2,    1.75,2,    9.99,2,    0.01,2,    0.78,2,   3.188,2,   1.742,2,   0.209,2,  2107.6,2,  2292.1,2,   0.388,2,-999.0000,9, -999.00,9, -999.00,9,  -999.0,9,  -999.0,-999.000,9,-999.000,  46.3661,2,   206.2,   0.010,  11.9337,         49,2,         39,2,         32,2,        103,2,        106,2,        128,2,        457,2,    0.19,2,   0.0830,2,   0.0570,2,   0.0280,2,   0.0220,2,   0.0208,2,   0.0219,2,-999.0000, -999.00
33RR20050106,       P16S,      37,          2,         31,         31,2,20050120,       1025,   -34.0000,  -149.9998,       5162,   256.2,  10.2612,  34.6548,2,-999.0000,9,    217.5,2,   217.8,2,    2.54,2,   13.72,2,    0.00,2,    1.02,2,   3.253,2,   1.716,2,   0.164,2,  2120.1,2,  2286.1,2,   0.252,2,   1.7920,2,   -0.88,2, -999.00,9,  -999.0,9,  -999.0,   0.000,4,   0.000,  43.5873,2,   256.2,   0.007,  10.2310,     -999.0,9,     -999.0,9,     -999.0,9,     -999.0,9,     -999.0,9,     -999.0,9,     -999.0,9,    0.22,2,   0.0820,2,   0.0560,2,   0.0280,2,   0.0210,2,   0.0212,2,   0.0226,2,   0.0010,    0.17
33RR20050106,       P16S,      37,          2,         30,         30,2,20050120,       1025,   -34.0000,  -149.9998,       5162,   306.5,   9.1280,  34.5482,2,-999.0000,9,    223.9,2,   225.3,2,    3.33,2,   16.39,2,    0.00,2,    1.18,2,   3.410,2,   1.867,2,   0.196,2,  2126.2,2,  2281.0,2,   0.329,2,   1.7680,2,   -0.15,2, -999.00,9,  -999.0,9,  -999.0,   7.561,2,   0.011,  44.9143,2,   306.5,   0.010,   9.0944,         42,2,         34,2,         30,2,         81,2,        107,2,         86,2,        380,2,    0.16,2,-999.0000,9,-999.0000,9,-999.0000,9,-999.0000,9,-999.0000,9,-999.0000,9,   0.0010,    0.14
33RR20050106,       P16S,      37,          2,         29,         29,2,20050120,       1025,   -34.0000,  -149.9998,       5162,   356.9,   8.2511,  34.4795,2,  34.4828,2,    232.4,2,   233.2,2,    4.13,2,   18.24,2,    0.00,2,    1.30,2,   3.476,2,   1.860,2,   0.237,2,  2130.9,2,  2279.9,2,   0.135,2,   1.7920,2,   -0.11,2, -999.00,9,  -999.0,9,  -999.0,   7.699,2,   0.016,  42.4259,2,   356.9,   0.007,   8.2142,     -999.0,9,     -999.0,9,     -999.0,9,     -999.0,9,     -999.0,9,     -999.0,9,     -999.0,9,    0.21,2,   0.0720,2,   0.0460,2,   0.0230,2,   0.0170,2,   0.0249,2,   0.0264,2,   0.0010,    0.19
33RR20050106,       P16S,      37,          2,         28,         28,2,20050120,       1025,   -34.0000,  -149.9998,       5162,   407.2,   7.6771,  34.4396,2,  34.4408,2,    238.9,2,   240.9,2,    4.93,2,   19.54,2,    0.00,2,    1.38,2,   3.599,2,   1.910,2,   0.204,2,  2127.1,3,  2279.2,2,-999.000,9,   1.7730,2,    0.25,2, -999.00,9,  -999.0,9,  -999.0,   7.641,2,   0.015,-999.0000,9,   407.2,-999.000,   7.6366,     -999.0,9,     -999.0,9,     -999.0,9,     -999.0,9,     -999.0,9,     -999.0,9,     -999.0,9, -999.00,9,-999.0000,9,-999.0000,9,-999.0000,9,-999.0000,9,-999.0000,9,-999.0000,9,   0.0010,    0.19
33RR20050106,       P16S,      37,          2,         27,         27,2,20050120,       1025,   -34.0000,  -149.9998,       5162,   457.2,   7.3878,  34.4179,2,  34.4192,2,    242.6,2,   244.7,2,    5.51,2,   20.20,2,    0.00,2,    1.43,2,   3.656,2,   1.920,2,   0.272,2,  2137.1,2,  2278.2,2,   0.177,2,   1.2390,4,   -0.26,3, -999.00,9,  -999.0,9,  -999.0,   5.394,4,   0.010,  41.8742,2,   457.2,   0.007,   7.3432,     -999.0,9,     -999.0,9,     -999.0,9,     -999.0,9,     -999.0,9,     -999.0,9,     -999.0,9, -999.00,9,   0.0690,2,   0.0430,2,   0.0210,2,   0.0160,2,   0.0260,2,   0.0277,2,   0.0010,    0.15
33RR20050106,       P16S,      37,          2,         26,         26,2,20050120,       1025,   -34.0000,  -149.9998,       5162,   508.1,   7.1925,  34.4033,2,  34.4037,2,    243.3,2,   244.9,2,    5.91,2,   20.85,2,    0.00,2,    1.46,2,   3.507,2,   1.828,2,   0.257,2,  2137.9,2,  2278.7,2,-999.000,9,-999.0000,9, -999.00,9, -999.00,9,  -999.0,9,  -999.0,-999.000,9,-999.000,  39.9548,2,   508.1,-999.000,   7.1436,     -999.0,9,     -999.0,9,     -999.0,9,     -999.0,9,     -999.0,9,     -999.0,9,     -999.0,9, -999.00,9,   0.0640,2,   0.0400,2,   0.0190,2,   0.0150,2,   0.0286,2,   0.0303,2,-999.0000, -999.00
33RR20050106,       P16S,      37,          2,         25,         25,2,20050120,       1025,   -34.0000,  -149.9998,       5162,   608.3,   6.8006,  34.3746,2,  34.3760,2,    244.4,2,   244.5,2,    7.30,2,   22.00,2,    0.00,2,    1.53,2,   3.088,2,   1.614,2,   0.199,2,  2139.6,2,  2278.5,2,   0.142,2,   5.4000,4,   -1.01,3, -999.00,9,  -999.0,9,  -999.0,  16.347,4,   0.059,  39.7400,2,   608.3,   0.006,   6.7434,     -999.0,9,     -999.0,9,     -999.0,9,     -999.0,9,     -999.0,9,     -999.0,9,     -999.0,9, -999.00,9,   0.0640,2,   0.0400,2,   0.0190,2,   0.0150,2,   0.0288,2,   0.0306,2,   0.0260,    0.34
33RR20050106,       P16S,      37,          2,         24,         24,2,20050120,       1025,   -34.0000,  -149.9998,       5162,   709.4,   6.3633,  34.3468,2,  34.3474,2,    239.1,2,   238.9,2,    9.49,2,   23.74,2,    0.00,2,    1.65,2,   2.299,2,   1.145,2,   0.113,2,  2144.0,2,  2279.8,2,   0.107,2,   1.8080,2,    0.58,2, -999.00,9,  -999.0,9,  -999.0,   7.831,2,   0.008,  42.1092,2,   709.4,   0.006,   6.2985,     -999.0,9,     -999.0,9,     -999.0,9,     -999.0,9,     -999.0,9,     -999.0,9,     -999.0,9, -999.00,9,   0.0650,2,   0.0400,2,   0.0190,2,   0.0140,2,   0.0295,2,   0.0314,2,   0.0010,    0.19
33RR20050106,       P16S,      37,          2,         23,         23,2,20050120,       1025,   -34.0000,  -149.9998,       5162,   810.2,   5.8575,  34.3221,2,  34.3227,2,    231.3,2,   229.4,2,   13.08,2,   25.66,2,    0.00,2,    1.78,2,   1.733,2,   0.898,2,   0.083,2,  2153.9,2,  2281.7,2,-999.000,9,   1.8230,2,    1.16,2, -999.00,9,  -999.0,9,  -999.0,   7.948,2,   0.010,  40.5907,2,   810.2,-999.000,   5.7861,     -999.0,9,     -999.0,9,     -999.0,9,     -999.0,9,     -999.0,9,     -999.0,9,     -999.0,9, -999.00,9,   0.0700,2,   0.0440,2,   0.0220,2,   0.0170,2,   0.0262,2,   0.0285,2,   0.0010,    0.18
33RR20050106,       P16S,      37,          2,         22,         22,2,20050120,       1025,   -34.0000,  -149.9998,       5162,   910.8,   5.3001,  34.3101,2,  34.3113,2,    221.0,2,   219.8,2,   18.08,2,   27.58,2,    0.00,2,    1.92,2,   1.196,2,   0.634,2,   0.069,2,  2168.3,2,  2285.9,2,-999.000,9,   1.8040,2,    1.78,2, -999.00,9,  -999.0,9,  -999.0,   7.931,2,   0.009,  39.1564,2,   910.8,-999.000,   5.2230,     -999.0,9,     -999.0,9,     -999.0,9,     -999.0,9,     -999.0,9,     -999.0,9,     -999.0,9, -999.00,9,   0.0720,2,   0.0450,2,   0.0220,2,   0.0160,2,   0.0266,2,   0.0288,2,   0.0010,    0.19
33RR20050106,       P16S,      37,          2,         21,         21,2,20050120,       1025,   -34.0000,  -149.9998,       5162,  1011.3,   4.7380,  34.3204,2,  34.3209,2,    206.9,2,   206.8,2,   25.90,2,   29.73,2,    0.00,2,    2.06,2,   0.770,2,   0.392,2,   0.032,2,  2184.1,2,  2291.2,2,   0.012,2,   5.6370,4,    0.86,3, -999.00,9,  -999.0,9,  -999.0,  16.181,4,   0.059,  40.7824,2,  1011.3,   0.004,   4.6560,     -999.0,9,     -999.0,9,     -999.0,9,     -999.0,9,     -999.0,9,     -999.0,9,     -999.0,9, -999.00,9,   0.0810,2,   0.0510,2,   0.0260,2,   0.0190,2,   0.0226,2,   0.0251,2,   0.0360,    0.40
33RR20050106,       P16S,      37,          2,         20,         20,2,20050120,       1025,   -34.0000,  -149.9998,       5162,  1112.3,   4.0413,  34.3470,2,  34.3488,2,    196.6,2,   194.9,2,   37.36,2,   31.77,2,    0.00,2,    2.22,2,-999.000,9,-999.000,9,-999.000,9,  2204.3,6,  2301.4,2,-999.000,9,-999.0000,9, -999.00,9, -999.00,9,  -999.0,9,  -999.0,-999.000,9,-999.000,-999.0000,9,  1112.3,-999.000,   3.9561,     -999.0,9,     -999.0,9,     -999.0,9,     -999.0,9,     -999.0,9,     -999.0,9,     -999.0,9, -999.00,9,-999.0000,9,-999.0000,9,-999.0000,9,-999.0000,9,-999.0000,9,-999.0000,9,-999.0000, -999.00
33RR20050106,       P16S,      37,          2,         19,         19,2,20050120,       1025,   -34.0000,  -149.9998,       5162,  1212.9,   3.5391,  34.3858,2,  34.3860,2,    187.5,2,   186.2,2,   47.24,2,   32.98,2,    0.00,2,    2.31,2,   0.277,2,   0.137,2,   0.011,2,  2220.7,2,  2309.8,2,   0.022,2,   1.8360,2,    6.11,2, -999.00,9,  -999.0,9,  -999.0,   7.969,2,   0.009,  39.9752,2,  1212.9,   0.005,   3.4499,     -999.0,9,     -999.0,9,     -999.0,9,     -999.0,9,     -999.0,9,     -999.0,9,     -999.0,9, -999.00,9,   0.0960,2,   0.0630,2,   0.0330,2,   0.0250,2,   0.0186,2,   0.0210,2,   0.0010,    0.19
33RR20050106,       P16S,      37,          2,         18,         18,2,20050120,       1025,   -34.0000,  -149.9998,       5162,  1314.4,   3.1365,  34.4446,2,  34.4451,2,    177.7,2,   176.1,2,   59.18,2,   33.87,2,    0.00,2,    2.38,2,-999.000,9,-999.000,9,-999.000,9,  2236.9,2,  2324.9,6,-999.000,9,-999.0000,9, -999.00,9, -999.00,9,  -999.0,9,  -999.0,-999.000,9,-999.000,-999.0000,9,  1314.4,-999.000,   3.0428,     -999.0,9,     -999.0,9,     -999.0,9,     -999.0,9,     -999.0,9,     -999.0,9,     -999.0,9, -999.00,9,-999.0000,9,-999.0000,9,-999.0000,9,-999.0000,9,-999.0000,9,-999.0000,9,-999.0000, -999.00
33RR20050106,       P16S,      37,          2,         17,         17,2,20050120,       1025,   -34.0000,  -149.9998,       5162,  1415.2,   2.9185,  34.4897,2,  34.4905,2,    170.8,2,   170.0,2,   68.12,2,   34.25,2,    0.00,2,    2.40,2,   0.050,2,   0.032,2,   0.013,2,  2249.8,2,  2333.6,2,   0.001,2,   1.8620,2,   10.48,2, -999.00,9,  -999.0,9,  -999.0,   8.128,2,   0.009,  37.1820,2,  1415.2,   0.004,   2.8188,     -999.0,9,     -999.0,9,     -999.0,9,     -999.0,9,     -999.0,9,     -999.0,9,     -999.0,9, -999.00,9,   0.1070,2,   0.0710,2,   0.0370,2,   0.0270,2,   0.0178,2,   0.0200,2,   0.0010,    0.19
33RR20050106,       P16S,      37,          2,         16,         16,2,20050120,       1025,   -34.0000,  -149.9998,       5162,  1515.6,   2.7445,  34.5335,2,  34.5352,2,    165.3,2,   164.5,2,   77.47,2,   34.46,2,    0.00,2,    2.42,2,-999.000,9,-999.000,9,-999.000,9,  2260.3,2,  2344.6,2,-999.000,9,-999.0000,9, -999.00,9, -999.00,9,  -999.0,9,  -999.0,-999.000,9,-999.000,-999.0000,9,  1515.6,-999.000,   2.6384,     -999.0,9,     -999.0,9,     -999.0,9,     -999.0,9,     -999.0,9,     -999.0,9,     -999.0,9, -999.00,9,-999.0000,9,-999.0000,9,-999.0000,9,-999.0000,9,-999.0000,9,-999.0000,9,-999.0000, -999.00
33RR20050106,       P16S,      37,          2,         15,         15,2,20050120,       1025,   -34.0000,  -149.9998,       5162,  1617.2,   2.6142,  34.5661,2,  34.5655,2,    161.1,2,   160.4,2,   85.63,2,   34.57,2,    0.00,2,    2.43,2,   0.044,2,   0.028,2,   0.002,2,  2270.2,2,  2355.2,2,   0.003,2,   1.9100,2,   14.78,2, -999.00,9,  -999.0,9,  -999.0,   8.175,2,   0.009,  37.0430,2,  1617.2,   0.007,   2.5013,     -999.0,9,     -999.0,9,     -999.0,9,     -999.0,9,     -999.0,9,     -999.0,9,     -999.0,9, -999.00,9,   0.1080,2,   0.0720,2,   0.0380,2,   0.0270,2,   0.0175,2,   0.0198,2,   0.0010,    0.20
33RR20050106,       P16S,      37,          2,         14,         14,2,20050120,       1025,   -34.0000,  -149.9998,       5162,  1819.5,   2.3739,  34.6120,2,  34.6130,2,    154.4,2,   154.2,2,  101.16,2,   34.91,2,    0.00,2,    2.47,2,  -0.002,2,  -0.002,2,   0.002,2,  2286.8,2,  2373.3,2,   0.001,2,   1.9160,2,   20.04,2, -999.00,9,  -999.0,9,  -999.0,   8.211,2,   0.009,-999.0000,9,  1819.5,   0.007,   2.2472,     -999.0,9,     -999.0,9,     -999.0,9,     -999.0,9,     -999.0,9,     -999.0,9,     -999.0,9, -999.00,9,-999.0000,9,-999.0000,9,-999.0000,9,-999.0000,9,-999.0000,9,-999.0000,9,   0.0010,    0.19
33RR20050106,       P16S,      37,          2,         13,         13,2,20050120,       1025,   -34.0000,  -149.9998,       5162,  2022.2,   2.2144,  34.6318,2,  34.6337,2,    152.0,2,   152.0,2,  109.76,2,   35.18,2,    0.00,2,    2.48,2,   0.008,2,  -0.002,2,   0.002,2,  2295.0,2,  2383.2,2,   0.001,2,   1.9100,2,   22.12,2, -999.00,9,  -999.0,9,  -999.0,   8.118,2,   0.008,  36.2997,2,  2022.2,   0.007,   2.0728,     -999.0,9,     -999.0,9,     -999.0,9,     -999.0,9,     -999.0,9,     -999.0,9,     -999.0,9, -999.00,9,   0.1130,2,   0.0750,2,   0.0400,2,   0.0280,2,   0.0169,2,   0.0191,2,   0.0010,    0.19
33RR20050106,       P16S,      37,          2,         12,         12,2,20050120,       1025,   -34.0000,  -149.9998,       5162,  2275.7,   2.0427,  34.6486,2,  34.6502,2,    150.7,2,   150.9,2,  117.75,2,   35.34,2,    0.00,2,    2.50,2,   0.003,2,   0.001,2,   0.002,2,  2303.0,2,  2390.8,2,   0.001,2,-999.0000,9, -999.00,9, -999.00,9,  -999.0,9,  -999.0,-999.000,9,-999.000,-999.0000,9,  2275.7,   0.006,   1.8818,     -999.0,9,     -999.0,9,     -999.0,9,     -999.0,9,     -999.0,9,     -999.0,9,     -999.0,9, -999.00,9,-999.0000,9,-999.0000,9,-999.0000,9,-999.0000,9,-999.0000,9,-999.0000,9,-999.0000, -999.00
33RR20050106,       P16S,      37,          2,         11,         11,2,20050120,       1025,   -34.0000,  -149.9998,       5162,  2529.6,   1.8942,  34.6601,2,  34.6612,2,    150.4,2,   150.9,2,  124.33,2,   35.51,2,    0.00,2,    2.51,2,   0.015,2,   0.014,2,   0.002,2,  2308.9,2,  2397.7,2,-999.000,9,   2.1310,4,   22.32,3, -999.00,9,  -999.0,9,  -999.0,   8.850,3,   0.011,  35.2699,2,  2529.6,-999.000,   1.7131,     -999.0,9,     -999.0,9,     -999.0,9,     -999.0,9,     -999.0,9,     -999.0,9,     -999.0,9, -999.00,9,   0.1150,2,   0.0770,2,   0.0400,2,   0.0280,2,   0.0168,2,   0.0190,2,   0.0010,    0.20
33RR20050106,       P16S,      37,          2,         10,         10,2,20050120,       1025,   -34.0000,  -149.9998,       5162,  2783.8,   1.7924,  34.6688,2,  34.6698,2,    152.2,2,   153.0,2,  127.39,2,   35.39,2,    0.00,2,    2.50,2,   0.042,3,   0.030,3,   0.002,2,  2310.0,2,  2398.6,2,   0.001,2,   2.1020,3,   21.82,2, -999.00,9,  -999.0,9,  -999.0,   8.857,3,   0.011,-999.0000,9,  2783.8,   0.009,   1.5898,     -999.0,9,     -999.0,9,     -999.0,9,     -999.0,9,     -999.0,9,     -999.0,9,     -999.0,9, -999.00,9,-999.0000,9,-999.0000,9,-999.0000,9,-999.0000,9,-999.0000,9,-999.0000,9,   0.0010,    0.19
33RR20050106,       P16S,      37,          2,          9,          9,2,20050120,       1025,   -34.0000,  -149.9998,       5162,  3038.1,   1.7064,  34.6771,2,  34.6779,2,    156.0,3,   157.5,2,  128.41,2,   35.05,2,    0.00,2,    2.48,2,   0.008,2,   0.006,2,   0.002,2,  2307.4,2,  2398.5,2,   0.001,2,   1.9110,2,   22.38,2, -999.00,9,  -999.0,9,  -999.0,   8.208,2,   0.008,  35.1231,2,  3038.1,   0.006,   1.4813,     -999.0,9,     -999.0,9,     -999.0,9,     -999.0,9,     -999.0,9,     -999.0,9,     -999.0,9, -999.00,9,   0.1150,2,   0.0770,2,   0.0400,2,   0.0280,2,   0.0172,2,   0.0194,2,   0.0010,    0.20
33RR20050106,       P16S,      37,          2,          8,          8,2,20050120,       1025,   -34.0000,  -149.9998,       5162,  3292.4,   1.6065,  34.6874,2,  34.6889,2,    163.3,3,   166.0,2,  126.16,2,   34.45,2,    0.00,2,    2.43,2,  -0.001,2,  -0.002,2,   0.002,2,  2299.6,2,  2393.5,2,-999.000,9,   1.9370,2,   19.72,2, -999.00,9,  -999.0,9,  -999.0,   8.334,2,   0.009,-999.0000,9,  3292.4,-999.000,   1.3586,     -999.0,9,     -999.0,9,     -999.0,9,     -999.0,9,     -999.0,9,     -999.0,9,     -999.0,9, -999.00,9,-999.0000,9,-999.0000,9,-999.0000,9,-999.0000,9,-999.0000,9,-999.0000,9,   0.0010,    0.19
33RR20050106,       P16S,      37,          2,          7,          7,2,20050120,       1025,   -34.0000,  -149.9998,       5162,  3548.3,   1.5224,  34.6961,2,  34.6973,2,    172.9,3,   175.2,2,  122.86,2,   33.71,2,    0.00,2,    2.37,2,   0.009,2,   0.009,2,   0.002,2,  2289.7,2,  2385.6,2,   0.001,2,-999.0000,9, -999.00,9, -999.00,9,  -999.0,9,  -999.0,-999.000,9,-999.000,-999.0000,9,  3548.3,   0.005,   1.2506,     -999.0,9,     -999.0,9,     -999.0,9,     -999.0,9,     -999.0,9,     -999.0,9,     -999.0,9, -999.00,9,-999.0000,9,-999.0000,9,-999.0000,9,-999.0000,9,-999.0000,9,-999.0000,9,-999.0000, -999.00