BOTTLE,20201109CCHSIOCBG
EXPOCODE,SECT_ID,STNNBR,CASTNO,SAMPNO,BTLNBR,BTLNBR_FLAG_W,DATE,TIME,LATITUDE,LONGITUDE,DEPTH,CTDPRS,CTDTMP,CTDSAL,CTDSAL_FLAG_W,SALNTY,SALNTY_FLAG_W,CTDOXY,CTDOXY_FLAG_W,OXYGEN,OXYGEN_FLAG_W,SILCAT,SILCAT_FLAG_W,NITRAT,NITRAT_FLAG_W,NITRIT,NITRIT_FLAG_W,PHSPHT,PHSPHT_FLAG_W,CFC-11,CFC-11_FLAG_W,CFC-12,CFC-12_FLAG_W,CFC113,CFC113_FLAG_W,TCARBN,TCARBN_FLAG_W,ALKALI,ALKALI_FLAG_W,TRITUM,TRITUM_FLAG_W,HELIUM,HELIUM_FLAG_W,DELHE3,DELHE3_FLAG_W,DELC13,DELC13_FLAG_W,DELC14,DELC14_FLAG_W,C14ERR,NEON,NEON_FLAG_W,NEONER,DOC,DOC_FLAG_W,CTDRAW,TRITER,THETA,FUCO,FUCO_FLAG_W,RHAM,RHAM_FLAG_W,ARABA,ARABA_FLAG_W,GALA,GALA_FLAG_W,GLUC,GLUC_FLAG_W,MAN,MAN_FLAG_W,DCNS,DCNS_FLAG_W,BRDU,BRDU_FLAG_W,CDOM325,CDOM325_FLAG_W,CDOM340,CDOM340_FLAG_W,CDOM380,CDOM380_FLAG_W,CDOM412,CDOM412_FLAG_W,CDOMSL,CDOMSL_FLAG_W,CDOMSN,CDOMSN_FLAG_W,HELIER,DELHER
,,,,,,,,,,,METERS,DBAR,ITS-90,PSS-78,,PSS-78,,UMOL/KG,,UMOL/KG,,UMOL/KG,,UMOL/KG,,UMOL/KG,,UMOL/KG,,PMOL/KG,,PMOL/KG,,PMOL/KG,,UMOL/KG,,UMOL/KG,,TU,,NMOL/KG,,PERCNT,,/MILLE,,/MILLE,,/MILLE,NMOL/KG,,NMOL/KG,UMOL/KG,,DBAR,TU,DEG C,NMOL/KG,,NMOL/KG,,NMOL/KG,,NMOL/KG,,NMOL/KG,,NMOL/KG,,NMOL/KG,,PMOL/L/H,,1/M,,1/M,,1/M,,1/M,,1/NM,,1/NM,,NMOL/KG,PERCNT
33RR20050106,       P16S,      55,          1,         36,         36,2,20050125,       1733,   -43.0000,  -150.0000,       5146,     5.4,  14.8186,  34.2966,2,  34.2972,2,    256.8,2,   257.2,2,    0.18,2,    5.39,2,    0.08,2,    0.52,2,   2.973,2,   1.833,2,   0.279,2,  2054.1,6,  2274.0,6,-999.000,9,   1.7760,2,   -1.35,2, -999.00,9,  -999.0,9,  -999.0,   7.376,2,   0.008,  53.2865,2,     5.4,-999.000,  14.8178,        241,2,        177,2,        200,2,        514,2,        447,2,        585,2,       2164,2,    2.75,2,   0.0800,2,   0.0520,2,   0.0150,2,   0.0100,2,   0.0323,2,   0.0306,2,   0.0010,    0.21
33RR20050106,       P16S,      55,          1,         35,         35,2,20050125,       1733,   -43.0000,  -150.0000,       5146,    52.6,  13.9142,  34.3736,2,  34.3808,2,    266.2,2,   267.8,2,    0.18,2,    5.39,2,    0.08,2,    0.53,2,-999.000,9,-999.000,9,-999.000,9,  2059.9,2,  2279.5,2,-999.000,9,-999.0000,9, -999.00,9, -999.00,9,  -999.0,9,  -999.0,-999.000,9,-999.000,  58.3255,2,    52.6,-999.000,  13.9067,        253,2,        152,2,         59,2,        455,2,        297,2,        522,2,       1738,2,    1.84,2,   0.0830,2,   0.0540,2,   0.0220,2,   0.0140,2,   0.0266,2,   0.0274,2,-999.0000, -999.00
33RR20050106,       P16S,      55,          1,         34,         34,2,20050125,       1733,   -43.0000,  -150.0000,       5146,    77.7,   9.8132,  34.4278,2,  34.4281,2,    278.8,2,   278.8,2,    1.17,2,    8.01,2,    0.20,2,    0.70,2,   3.830,2,   2.204,2,   0.358,2,  2086.6,2,  2281.9,2,-999.000,9,   1.7740,2,   -1.34,2, -999.00,9,  -999.0,9,  -999.0,   7.627,2,   0.008,  52.1216,2,    77.7,-999.000,   9.8044,         90,2,         69,2,         50,2,        184,2,        433,2,        325,2,       1151,2,    1.74,2,   0.0840,2,   0.0560,2,   0.0270,2,   0.0190,2,   0.0222,2,   0.0234,2,   0.0010,    0.21
33RR20050106,       P16S,      55,          1,         33,         33,2,20050125,       1733,   -43.0000,  -150.0000,       5146,   102.9,   9.3477,  34.4602,2,  34.4588,2,    270.7,2,   270.5,2,    1.58,2,    9.35,2,    0.49,2,    0.80,2,   3.821,2,   2.193,2,   0.360,2,  2096.7,2,  2280.8,2,   0.357,2,   1.7710,2,   -1.95,2, -999.00,9,  -999.0,9,  -999.0,   7.575,2,   0.008,  50.9173,2,   102.9,   0.010,   9.3364,         83,2,         54,2,         41,2,        120,2,        651,3,        233,2,       1182,3,    0.35,2,   0.0730,2,   0.0490,2,   0.0240,2,   0.0180,2,   0.0226,2,   0.0237,2,   0.0010,    0.20
33RR20050106,       P16S,      55,          1,         32,         32,2,20050125,       1733,   -43.0000,  -150.0000,       5146,   153.0,   8.6204,  34.4970,2,  34.4965,2,    262.8,2,   263.9,2,    2.78,2,   13.78,2,    0.02,2,    1.01,2,   3.856,2,   2.196,2,   0.341,2,  2112.7,2,  2282.8,2,   0.263,2,   1.8000,2,   -1.17,2, -999.00,9,  -999.0,9,  -999.0,   7.752,2,   0.008,  48.3192,2,   153.0,   0.008,   8.6044,         56,2,         44,2,         43,2,         64,2,        182,3,        112,2,        500,3,    0.23,2,   0.0700,2,   0.0460,2,   0.0230,2,   0.0180,2,   0.0250,2,   0.0264,2,   0.0010,    0.22
33RR20050106,       P16S,      55,          1,         31,         31,2,20050125,       1733,   -43.0000,  -150.0000,       5146,   203.4,   8.2418,  34.4969,2,  34.4961,2,    253.9,2,   256.5,2,    3.98,2,   16.38,2,    0.01,2,    1.16,2,   3.923,2,   2.190,2,   0.331,2,  2123.6,2,  2281.7,2,   0.238,2,   1.7710,2,   -1.13,2, -999.00,9,  -999.0,9,  -999.0,   7.654,2,   0.008,  45.9034,2,   203.4,   0.007,   8.2210,     -999.0,9,     -999.0,9,     -999.0,9,     -999.0,9,     -999.0,9,     -999.0,9,     -999.0,9,    0.32,2,   0.0730,2,   0.0480,2,   0.0240,2,   0.0190,2,   0.0240,2,   0.0255,2,   0.0010,    0.22
33RR20050106,       P16S,      55,          1,         30,         30,2,20050125,       1733,   -43.0000,  -150.0000,       5146,   258.7,   7.9495,  34.4753,2,  34.4741,2,    255.8,2,   259.3,2,    4.38,2,   17.34,2,    0.01,2,    1.22,2,   3.948,2,   2.206,2,   0.340,2,  2126.5,2,  2281.0,2,-999.000,9,   1.7850,2,   -0.92,2, -999.00,9,  -999.0,9,  -999.0,   7.674,2,   0.008,  46.6289,2,   258.7,-999.000,   7.9235,     -999.0,9,     -999.0,9,     -999.0,9,     -999.0,9,     -999.0,9,     -999.0,9,     -999.0,9,    0.22,2,   0.1000,2,   0.0660,2,   0.0230,2,   0.0180,2,   0.0318,2,   0.0305,2,   0.0010,    0.21
33RR20050106,       P16S,      55,          1,         29,         29,2,20050125,       1733,   -43.0000,  -150.0000,       5146,   308.4,   7.7229,  34.4496,2,  34.4484,2,    255.6,2,   259.4,2,    4.78,2,   17.98,2,    0.01,2,    1.26,2,   4.089,2,   2.295,2,   0.343,2,  2127.6,2,  2281.4,2,   0.271,2,   1.7920,2,   -0.66,2, -999.00,9,  -999.0,9,  -999.0,   7.673,2,   0.009,  42.7050,2,   308.4,   0.007,   7.6924,         43,2,         34,2,         38,2,         75,2,        154,3,         94,2,        437,3,    0.25,2,   0.0640,2,   0.0400,2,   0.0200,2,   0.0160,2,   0.0284,2,   0.0299,2,   0.0010,    0.19
33RR20050106,       P16S,      55,          1,         28,         28,2,20050125,       1733,   -43.0000,  -150.0000,       5146,   359.1,   7.5362,  34.4292,2,  34.4291,2,    256.4,2,   257.5,2,    5.18,2,   18.83,2,    0.01,2,    1.31,2,   4.070,2,   2.254,2,   0.359,2,  2129.2,2,  2280.1,2,   0.240,2,   1.7810,2,   -0.69,2, -999.00,9,  -999.0,9,  -999.0,   7.715,2,   0.008,-999.0000,9,   359.1,   0.008,   7.5010,     -999.0,9,     -999.0,9,     -999.0,9,     -999.0,9,     -999.0,9,     -999.0,9,     -999.0,9,    0.00,4,-999.0000,9,-999.0000,9,-999.0000,9,-999.0000,9,-999.0000,9,-999.0000,9,   0.0010,    0.21
33RR20050106,       P16S,      55,          1,         27,         27,2,20050125,       1733,   -43.0000,  -150.0000,       5146,   409.1,   7.3620,  34.4107,2,  34.4109,2,    253.9,2,   256.7,2,    5.58,2,   19.53,2,    0.00,2,    1.36,2,   3.929,2,   2.208,2,   0.322,2,  2132.7,2,  2279.9,2,   0.225,2,   1.7740,2,   -0.92,2, -999.00,9,  -999.0,9,  -999.0,   7.671,2,   0.009,  42.7085,2,   409.1,   0.007,   7.3223,     -999.0,9,     -999.0,9,     -999.0,9,     -999.0,9,     -999.0,9,     -999.0,9,     -999.0,9, -999.00,9,   0.0660,2,   0.0430,2,   0.0210,2,   0.0170,2,   0.0251,2,   0.0266,2,   0.0010,    0.21
33RR20050106,       P16S,      55,          1,         26,         26,2,20050125,       1733,   -43.0000,  -150.0000,       5146,   459.6,   7.2223,  34.3973,2,  34.3958,2,    253.3,2,   254.4,2,    6.18,2,   20.27,2,    0.00,2,    1.41,2,   3.936,2,   2.173,2,   0.314,2,  2133.4,2,  2279.5,2,   0.192,2,   1.8000,2,   -1.28,3, -999.00,9,  -999.0,9,  -999.0,   7.768,2,   0.008,-999.0000,9,   459.6,   0.006,   7.1781,     -999.0,9,     -999.0,9,     -999.0,9,     -999.0,9,     -999.0,9,     -999.0,9,     -999.0,9, -999.00,9,-999.0000,9,-999.0000,9,-999.0000,9,-999.0000,9,-999.0000,9,-999.0000,9,   0.0010,    0.21
33RR20050106,       P16S,      55,          1,         25,         25,2,20050125,       1733,   -43.0000,  -150.0000,       5146,   510.2,   7.0690,  34.3839,2,  34.3848,2,    252.5,2,   254.3,2,    6.58,2,   20.69,2,    0.00,2,    1.44,2,   3.855,2,   2.101,2,   0.300,2,  2133.8,2,  2279.6,2,   0.192,2,   1.8750,2,    0.60,2, -999.00,9,  -999.0,9,  -999.0,   8.011,2,   0.015,  43.4054,2,   510.2,   0.006,   7.0203,     -999.0,9,     -999.0,9,     -999.0,9,     -999.0,9,     -999.0,9,     -999.0,9,     -999.0,9, -999.00,9,   0.0650,2,   0.0400,2,   0.0210,2,   0.0160,2,   0.0281,2,   0.0297,2,   0.0010,    0.22
33RR20050106,       P16S,      55,          1,         24,         24,2,20050125,       1733,   -43.0000,  -150.0000,       5146,   610.4,   6.6999,  34.3561,2,  34.3567,2,    250.1,2,   249.8,2,    8.39,2,   22.14,2,    0.00,2,    1.53,2,   3.660,2,   1.864,2,   0.239,2,  2139.4,2,  2279.9,2,   0.199,2,   1.8360,2,    0.50,2, -999.00,9,  -999.0,9,  -999.0,   7.849,2,   0.011,  42.8336,2,   610.4,   0.007,   6.6430,     -999.0,9,     -999.0,9,     -999.0,9,     -999.0,9,     -999.0,9,     -999.0,9,     -999.0,9, -999.00,9,   0.0610,2,   0.0380,2,   0.0190,2,   0.0160,2,   0.0303,2,   0.0319,2,   0.0010,    0.20
33RR20050106,       P16S,      55,          1,         23,         23,2,20050125,       1733,   -43.0000,  -150.0000,       5146,   711.6,   6.3116,  34.3290,2,  34.3300,2,    243.9,2,   243.8,2,   10.39,2,   23.63,2,    0.00,2,    1.62,2,   3.174,2,   1.727,2,   0.209,2,  2145.3,2,  2280.8,2,   0.146,2,   6.5440,4,    0.32,3, -999.00,9,  -999.0,9,  -999.0,  17.990,4,   0.090,  41.8508,2,   711.6,   0.005,   6.2469,     -999.0,9,     -999.0,9,     -999.0,9,     -999.0,9,     -999.0,9,     -999.0,9,     -999.0,9, -999.00,9,   0.0660,2,   0.0410,2,   0.0210,2,   0.0170,2,   0.0277,2,   0.0296,2,   0.0310,    0.25
33RR20050106,       P16S,      55,          1,         22,         22,2,20050125,       1733,   -43.0000,  -150.0000,       5146,   812.5,   5.8622,  34.3133,2,  34.3132,2,    235.0,2,   231.9,2,   14.03,2,   25.61,2,    0.00,2,    1.76,2,   2.729,2,   1.411,2,   0.174,2,  2157.7,6,  2282.5,2,   0.147,2,-999.0000,9, -999.00,9, -999.00,9,  -999.0,9,  -999.0,-999.000,9,-999.000,  42.4691,2,   812.5,   0.007,   5.7905,     -999.0,9,     -999.0,9,     -999.0,9,     -999.0,9,     -999.0,9,     -999.0,9,     -999.0,9, -999.00,9,   0.0670,2,   0.0410,2,   0.0210,2,   0.0170,2,   0.0280,2,   0.0299,2,-999.0000, -999.00
33RR20050106,       P16S,      55,          1,         21,         21,2,20050125,       1733,   -43.0000,  -150.0000,       5146,   913.0,   5.3785,  34.3216,2,  34.3218,2,    218.4,2,   217.2,2,   20.29,2,   27.82,2,    0.00,2,    1.91,2,   2.171,2,   1.114,2,   0.142,2,  2171.1,2,  2286.7,2,   0.074,2,   1.8000,2,    1.63,2, -999.00,9,  -999.0,9,  -999.0,   7.817,2,   0.013,  40.8395,2,   913.0,   0.005,   5.3006,     -999.0,9,     -999.0,9,     -999.0,9,     -999.0,9,     -999.0,9,     -999.0,9,     -999.0,9, -999.00,9,   0.0730,2,   0.0460,2,   0.0250,2,   0.0190,2,   0.0239,2,   0.0263,2,   0.0010,    0.22
33RR20050106,       P16S,      55,          1,         20,         20,2,20050125,       1733,   -43.0000,  -150.0000,       5146,  1014.2,   4.7834,  34.3282,2,  34.3289,2,    209.1,2,   208.3,2,   27.58,2,   29.65,2,    0.00,2,    2.05,2,   1.703,2,   0.855,2,   0.109,2,  2184.4,2,  2292.7,2,   0.078,2,   1.8390,2,    3.93,2, -999.00,9,  -999.0,9,  -999.0,   7.854,2,   0.013,  40.0855,2,  1014.2,   0.005,   4.7008,     -999.0,9,     -999.0,9,     -999.0,9,     -999.0,9,     -999.0,9,     -999.0,9,     -999.0,9, -999.00,9,   0.0780,2,   0.0500,2,   0.0260,2,   0.0210,2,   0.0224,2,   0.0248,2,   0.0010,    0.20
33RR20050106,       P16S,      55,          1,         19,         19,2,20050125,       1733,   -43.0000,  -150.0000,       5146,  1114.7,   4.2087,  34.3396,2,  34.3389,2,    203.1,2,   202.7,2,   34.50,2,   31.05,2,    0.00,2,    2.17,2,-999.000,9,-999.000,9,-999.000,9,  2196.9,2,  2298.1,2,-999.000,9,-999.0000,9, -999.00,9, -999.00,9,  -999.0,9,  -999.0,-999.000,9,-999.000,-999.0000,9,  1114.7,-999.000,   4.1219,     -999.0,9,     -999.0,9,     -999.0,9,     -999.0,9,     -999.0,9,     -999.0,9,     -999.0,9, -999.00,9,-999.0000,9,-999.0000,9,-999.0000,9,-999.0000,9,-999.0000,9,-999.0000,9,-999.0000, -999.00
33RR20050106,       P16S,      55,          1,         18,         18,2,20050125,       1733,   -43.0000,  -150.0000,       5146,  1215.7,   3.7097,  34.3636,2,  34.3642,2,    196.1,2,   195.6,2,   43.04,2,   32.34,2,    0.00,2,    2.24,2,   1.041,2,   0.523,2,   0.053,2,  2211.6,2,  2305.9,6,-999.000,9,   1.8700,2,    6.31,2, -999.00,9,  -999.0,9,  -999.0,   8.056,2,   0.015,  40.6287,2,  1215.7,-999.000,   3.6187,     -999.0,9,     -999.0,9,     -999.0,9,     -999.0,9,     -999.0,9,     -999.0,9,     -999.0,9, -999.00,9,   0.0900,2,   0.0590,2,   0.0300,2,   0.0230,2,   0.0205,2,   0.0229,2,   0.0010,    0.22
33RR20050106,       P16S,      55,          1,         17,         17,2,20050125,       1733,   -43.0000,  -150.0000,       5146,  1316.8,   3.3727,  34.3925,2,  34.3917,2,    189.8,2,   190.1,2,   49.77,2,   33.05,2,    0.00,2,    2.30,2,-999.000,9,-999.000,9,-999.000,9,  2224.7,2,  2312.6,2,-999.000,9,-999.0000,9, -999.00,9, -999.00,9,  -999.0,9,  -999.0,-999.000,9,-999.000,-999.0000,9,  1316.8,-999.000,   3.2765,     -999.0,9,     -999.0,9,     -999.0,9,     -999.0,9,     -999.0,9,     -999.0,9,     -999.0,9, -999.00,9,-999.0000,9,-999.0000,9,-999.0000,9,-999.0000,9,-999.0000,9,-999.0000,9,-999.0000, -999.00
33RR20050106,       P16S,      55,          1,         16,         16,2,20050125,       1733,   -43.0000,  -150.0000,       5146,  1418.1,   3.0810,  34.4383,2,  34.4380,2,    181.7,2,   182.1,2,   58.36,2,   33.80,2,    0.00,2,    2.35,2,   0.671,2,   0.338,2,   0.034,2,  2236.5,2,  2321.4,2,-999.000,9,   1.8590,2,    8.26,2, -999.00,9,  -999.0,9,  -999.0,   8.055,2,   0.011,-999.0000,9,  1418.1,-999.000,   2.9794,     -999.0,9,     -999.0,9,     -999.0,9,     -999.0,9,     -999.0,9,     -999.0,9,     -999.0,9, -999.00,9,-999.0000,9,-999.0000,9,-999.0000,9,-999.0000,9,-999.0000,9,-999.0000,9,   0.0010,    0.21
33RR20050106,       P16S,      55,          1,         15,         15,2,20050125,       1733,   -43.0000,  -150.0000,       5146,  1519.2,   2.8766,  34.4853,2,  34.4849,2,    174.5,2,   174.9,2,   65.93,2,   34.18,2,    0.00,2,    2.38,2,-999.000,9,-999.000,9,-999.000,9,  2246.0,2,  2328.6,2,-999.000,9,-999.0000,9, -999.00,9, -999.00,9,  -999.0,9,  -999.0,-999.000,9,-999.000,  38.4665,2,  1519.2,-999.000,   2.7688,     -999.0,9,     -999.0,9,     -999.0,9,     -999.0,9,     -999.0,9,     -999.0,9,     -999.0,9, -999.00,9,   0.1000,2,   0.0660,2,   0.0350,2,   0.0270,2,   0.0171,2,   0.0197,2,-999.0000, -999.00
33RR20050106,       P16S,      55,          1,         14,         14,2,20050125,       1733,   -43.0000,  -150.0000,       5146,  1620.0,   2.7149,  34.5314,2,  34.5313,2,    168.8,2,   169.7,2,   73.31,2,   34.45,2,    0.00,2,    2.40,2,   0.190,2,   0.089,2,   0.008,2,  2256.0,2,  2337.1,2,-999.000,9,-999.0000,9, -999.00,9, -999.00,9,  -999.0,9,  -999.0,-999.000,9,-999.000,-999.0000,9,  1620.0,-999.000,   2.6006,     -999.0,9,     -999.0,9,     -999.0,9,     -999.0,9,     -999.0,9,     -999.0,9,     -999.0,9, -999.00,9,-999.0000,9,-999.0000,9,-999.0000,9,-999.0000,9,-999.0000,9,-999.0000,9,-999.0000, -999.00
33RR20050106,       P16S,      55,          1,         13,         13,2,20050125,       1733,   -43.0000,  -150.0000,       5146,  1822.6,   2.5170,  34.5941,2,  34.5933,2,    161.0,2,   160.8,2,   88.12,2,   34.61,2,    0.00,2,    2.42,2,   0.054,2,   0.029,2,   0.001,2,  2273.1,2,  2356.4,2,   0.001,2,   1.9030,2,   16.04,2, -999.00,9,  -999.0,9,  -999.0,   8.118,2,   0.011,  39.3779,2,  1822.6,   0.008,   2.3881,     -999.0,9,     -999.0,9,     -999.0,9,     -999.0,9,     -999.0,9,     -999.0,9,     -999.0,9, -999.00,9,   0.1160,2,   0.0820,2,   0.0410,2,   0.0300,2,   0.0163,2,   0.0182,2,   0.0010,    0.21
33RR20050106,       P16S,      55,          1,         12,         12,2,20050125,       1733,   -43.0000,  -150.0000,       5146,  2025.1,   2.3309,  34.6282,2,  34.6301,2,    155.4,2,   155.8,2,  101.32,2,   34.93,2,    0.00,2,    2.45,2,   0.026,2,   0.017,2,   0.001,2,  2287.7,2,  2372.1,2,   0.001,2,   2.1880,4,   17.97,3, -999.00,9,  -999.0,9,  -999.0,   9.040,4,   0.013,-999.0000,9,  2025.1,   0.007,   2.1873,     -999.0,9,     -999.0,9,     -999.0,9,     -999.0,9,     -999.0,9,     -999.0,9,     -999.0,9, -999.00,9,-999.0000,9,-999.0000,9,-999.0000,9,-999.0000,9,-999.0000,9,-999.0000,9,   0.0010,    0.20
33RR20050106,       P16S,      55,          1,         11,         11,2,20050125,       1733,   -43.0000,  -150.0000,       5146,  2279.2,   2.1504,  34.6487,2,  34.6489,2,    153.3,2,   153.8,2,  110.83,2,   35.10,2,    0.00,2,    2.47,2,   0.064,3,   0.038,3,   0.004,2,  2297.6,2,  2382.2,2,-999.000,9,   1.9280,2,   23.14,2, -999.00,9,  -999.0,9,  -999.0,   8.171,2,   0.011,  38.1521,2,  2279.2,-999.000,   1.9873,     -999.0,9,     -999.0,9,     -999.0,9,     -999.0,9,     -999.0,9,     -999.0,9,     -999.0,9, -999.00,9,   0.1090,2,   0.0730,2,   0.0390,2,   0.0280,2,   0.0163,2,   0.0188,2,   0.0010,    0.22
33RR20050106,       P16S,      55,          1,         10,         10,2,20050125,       1733,   -43.0000,  -150.0000,       5146,  2532.7,   2.0147,  34.6620,2,  34.6617,2,    153.7,2,   154.0,2,  116.19,2,   35.14,2,    0.00,2,    2.47,2,   0.064,3,   0.036,3,   0.005,2,  2302.4,2,  2387.2,2,   0.001,2,   1.9390,2,   23.38,2, -999.00,9,  -999.0,9,  -999.0,   8.191,2,   0.012,-999.0000,9,  2532.7,   0.008,   1.8311,     -999.0,9,     -999.0,9,     -999.0,9,     -999.0,9,     -999.0,9,     -999.0,9,     -999.0,9, -999.00,9,-999.0000,9,-999.0000,9,-999.0000,9,-999.0000,9,-999.0000,9,-999.0000,9,   0.0010,    0.21
33RR20050106,       P16S,      55,          1,          9,          9,2,20050125,       1733,   -43.0000,  -150.0000,       5146,  2787.6,   1.8901,  34.6762,2,  34.6763,2,    157.0,2,   158.4,2,  118.66,2,   34.82,2,    0.00,2,    2.44,2,   0.073,3,   0.037,3,   0.002,2,  2300.9,2,  2386.6,2,   0.001,2,   1.9250,2,   22.40,2, -999.00,9,  -999.0,9,  -999.0,   8.190,2,   0.011,  37.1157,2,  2787.6,   0.005,   1.6851,     -999.0,9,     -999.0,9,     -999.0,9,     -999.0,9,     -999.0,9,     -999.0,9,     -999.0,9, -999.00,9,   0.1080,2,   0.0720,2,   0.0380,2,   0.0270,2,   0.0168,2,   0.0192,2,   0.0010,    0.22
33RR20050106,       P16S,      55,          1,          8,          8,2,20050125,       1733,   -43.0000,  -150.0000,       5146,  3041.8,   1.7741,  34.6911,2,  34.6924,2,    165.2,2,   166.6,2,  117.20,2,   34.11,2,    0.00,2,    2.38,2,   0.011,2,   0.010,2,   0.002,2,  2294.5,2,  2384.7,2,   0.006,2,-999.0000,9, -999.00,9, -999.00,9,  -999.0,9,  -999.0,-999.000,9,-999.000,-999.0000,9,  3041.8,   0.006,   1.5471,     -999.0,9,     -999.0,9,     -999.0,9,     -999.0,9,     -999.0,9,     -999.0,9,     -999.0,9, -999.00,9,-999.0000,9,-999.0000,9,-999.0000,9,-999.0000,9,-999.0000,9,-999.0000,9,-999.0000, -999.00
33RR20050106,       P16S,      55,          1,          7,          7,2,20050125,       1733,   -43.0000,  -150.0000,       5146,  3347.5,   1.6496,  34.7079,2,  34.7071,2,    177.6,2,   179.7,2,  112.43,2,   32.98,2,    0.00,2,    2.30,2,   0.046,3,   0.026,3,   0.002,2,  2280.0,2,  2373.1,2,   0.001,2,   1.9420,2,   15.94,2, -999.00,9,  -999.0,9,  -999.0,   8.298,2,   0.011,  38.1912,2,  3347.5,   0.006,   1.3951,     -999.0,9,     -999.0,9,     -999.0,9,     -999.0,9,     -999.0,9,     -999.0,9,     -999.0,9, -999.00,9,   0.1120,2,   0.0750,2,   0.0390,2,   0.0280,2,   0.0169,2,   0.0194,2,   0.0010,    0.21