BOTTLE,20201109CCHSIOCBG
EXPOCODE,SECT_ID,STNNBR,CASTNO,SAMPNO,BTLNBR,BTLNBR_FLAG_W,DATE,TIME,LATITUDE,LONGITUDE,DEPTH,CTDPRS,CTDTMP,CTDSAL,CTDSAL_FLAG_W,SALNTY,SALNTY_FLAG_W,CTDOXY,CTDOXY_FLAG_W,OXYGEN,OXYGEN_FLAG_W,SILCAT,SILCAT_FLAG_W,NITRAT,NITRAT_FLAG_W,NITRIT,NITRIT_FLAG_W,PHSPHT,PHSPHT_FLAG_W,CFC-11,CFC-11_FLAG_W,CFC-12,CFC-12_FLAG_W,CFC113,CFC113_FLAG_W,TCARBN,TCARBN_FLAG_W,ALKALI,ALKALI_FLAG_W,TRITUM,TRITUM_FLAG_W,HELIUM,HELIUM_FLAG_W,DELHE3,DELHE3_FLAG_W,DELC13,DELC13_FLAG_W,DELC14,DELC14_FLAG_W,C14ERR,NEON,NEON_FLAG_W,NEONER,DOC,DOC_FLAG_W,CTDRAW,TRITER,THETA,FUCO,FUCO_FLAG_W,RHAM,RHAM_FLAG_W,ARABA,ARABA_FLAG_W,GALA,GALA_FLAG_W,GLUC,GLUC_FLAG_W,MAN,MAN_FLAG_W,DCNS,DCNS_FLAG_W,BRDU,BRDU_FLAG_W,CDOM325,CDOM325_FLAG_W,CDOM340,CDOM340_FLAG_W,CDOM380,CDOM380_FLAG_W,CDOM412,CDOM412_FLAG_W,CDOMSL,CDOMSL_FLAG_W,CDOMSN,CDOMSN_FLAG_W,HELIER,DELHER
,,,,,,,,,,,METERS,DBAR,ITS-90,PSS-78,,PSS-78,,UMOL/KG,,UMOL/KG,,UMOL/KG,,UMOL/KG,,UMOL/KG,,UMOL/KG,,PMOL/KG,,PMOL/KG,,PMOL/KG,,UMOL/KG,,UMOL/KG,,TU,,NMOL/KG,,PERCNT,,/MILLE,,/MILLE,,/MILLE,NMOL/KG,,NMOL/KG,UMOL/KG,,DBAR,TU,DEG C,NMOL/KG,,NMOL/KG,,NMOL/KG,,NMOL/KG,,NMOL/KG,,NMOL/KG,,NMOL/KG,,PMOL/L/H,,1/M,,1/M,,1/M,,1/M,,1/NM,,1/NM,,NMOL/KG,PERCNT
33RR20050106,       P16S,       2,          1,         36,         36,2,20050110,       1834,   -16.5000,  -150.0000,       4188,     2.6,  28.6125,  36.1337,2,  36.1320,2,    214.9,4,   195.5,2,    0.64,2,    0.00,2,    0.00,2,    0.19,2,   1.540,2,   0.976,2,   0.158,2,  2013.7,2,  2373.4,6,-999.000,9,-999.0000,9, -999.00,9, -999.00,9,  -999.0,9,  -999.0,-999.000,9,-999.000,-999.0000,9,     2.6,-999.000,  28.6119,     -999.0,9,     -999.0,9,     -999.0,9,     -999.0,9,     -999.0,9,     -999.0,9,     -999.0,9, -999.00,9,   0.0330,2,   0.0210,2,   0.0070,2,   0.0040,2,   0.0309,2,   0.0310,2,-999.0000, -999.00
33RR20050106,       P16S,       2,          1,         35,         35,3,20050110,       1834,   -16.5000,  -150.0000,       4188,     2.7,  28.6105,  36.1336,2,-999.0000,9,    214.9,4,  -999.0,9, -999.00,9, -999.00,9, -999.00,9, -999.00,9,-999.000,9,-999.000,9,-999.000,9,  -999.0,9,  -999.0,9,-999.000,9,-999.0000,9, -999.00,9, -999.00,9,  -999.0,9,  -999.0,-999.000,9,-999.000,  71.1317,2,     2.7,-999.000,  28.6099,     -999.0,9,     -999.0,9,     -999.0,9,     -999.0,9,     -999.0,9,     -999.0,9,     -999.0,9, -999.00,9,-999.0000,9,-999.0000,9,-999.0000,9,-999.0000,9,-999.0000,9,-999.0000,9,-999.0000, -999.00
33RR20050106,       P16S,       2,          1,         34,         34,2,20050110,       1834,   -16.5000,  -150.0000,       4188,    40.6,  26.2874,  36.0994,2,  36.0862,2,    224.5,4,   225.1,3,    0.43,2,    0.00,2,    0.00,2,    0.15,2,-999.000,5,-999.000,5,-999.000,5,  2015.1,6,  2368.6,2,-999.000,9,-999.0000,9, -999.00,9, -999.00,9,  -999.0,9,  -999.0,-999.000,9,-999.000,  73.3148,2,    40.6,-999.000,  26.2782,     -999.0,9,     -999.0,9,     -999.0,9,     -999.0,9,     -999.0,9,     -999.0,9,     -999.0,9, -999.00,9,   0.0560,2,   0.0350,2,   0.0130,2,   0.0090,2,   0.0303,2,   0.0304,2,-999.0000, -999.00
33RR20050106,       P16S,       2,          1,         33,         33,2,20050110,       1834,   -16.5000,  -150.0000,       4188,    75.5,  25.2647,  35.9741,2,  35.9743,2,    216.0,4,   208.3,2,    0.43,2,    0.00,2,    0.00,2,    0.15,2,   0.000,4,   0.000,4,   0.000,4,  2013.3,2,  2359.0,2,-999.000,9,-999.0000,9, -999.00,9, -999.00,9,  -999.0,9,  -999.0,-999.000,9,-999.000,  68.3408,2,    75.5,-999.000,  25.2481,     -999.0,9,     -999.0,9,     -999.0,9,     -999.0,9,     -999.0,9,     -999.0,9,     -999.0,9, -999.00,9,   0.0710,2,   0.0450,2,   0.0170,2,   0.0110,2,   0.0297,2,   0.0298,2,-999.0000, -999.00
33RR20050106,       P16S,       2,          1,         32,         32,2,20050110,       1834,   -16.5000,  -150.0000,       4188,   125.3,  24.6743,  36.0190,2,  36.0175,2,    205.7,4,   197.1,2,    0.43,2,    0.00,2,    0.00,2,    0.19,2,   0.000,4,   0.000,4,   0.000,4,  2030.4,2,  2365.8,2,-999.000,9,-999.0000,9, -999.00,9, -999.00,9,  -999.0,9,  -999.0,-999.000,9,-999.000,  61.7274,2,   125.3,-999.000,  24.6473,     -999.0,9,     -999.0,9,     -999.0,9,     -999.0,9,     -999.0,9,     -999.0,9,     -999.0,9, -999.00,9,   0.0790,2,   0.0530,2,   0.0250,2,   0.0170,2,   0.0236,2,   0.0244,2,-999.0000, -999.00
33RR20050106,       P16S,       2,          1,         31,         31,2,20050110,       1834,   -16.5000,  -150.0000,       4188,   175.4,  22.4451,  35.9641,2,  35.9645,2,    184.1,4,   176.5,2,    0.64,2,    2.02,2,    0.06,2,    0.36,2,   2.063,2,   1.229,2,   0.131,2,  2072.0,2,  2361.3,2,-999.000,9,-999.0000,9, -999.00,9, -999.00,9,  -999.0,9,  -999.0,-999.000,9,-999.000,  54.5010,2,   175.4,-999.000,  22.4097,     -999.0,9,     -999.0,9,     -999.0,9,     -999.0,9,     -999.0,9,     -999.0,9,     -999.0,9, -999.00,9,   0.0960,2,   0.0670,2,   0.0330,2,   0.0240,2,   0.0189,2,   0.0202,2,-999.0000, -999.00
33RR20050106,       P16S,       2,          1,         30,         30,2,20050110,       1834,   -16.5000,  -150.0000,       4188,   225.3,  20.3265,  35.7699,2,  35.7692,2,    163.2,4,   175.3,2,    0.64,2,    3.72,2,    0.01,2,    0.45,2,   2.208,2,   1.285,2,   0.038,2,  2086.9,2,  2348.5,2,-999.000,9,-999.0000,9, -999.00,9, -999.00,9,  -999.0,9,  -999.0,-999.000,9,-999.000,  49.9455,2,   225.3,-999.000,  20.2841,     -999.0,9,     -999.0,9,     -999.0,9,     -999.0,9,     -999.0,9,     -999.0,9,     -999.0,9, -999.00,9,   0.0840,2,   0.0590,2,   0.0290,2,   0.0210,2,   0.0202,2,   0.0212,2,-999.0000, -999.00
33RR20050106,       P16S,       2,          1,         29,         29,2,20050110,       1834,   -16.5000,  -150.0000,       4188,   275.4,  17.5426,  35.4064,2,  35.3953,2,    165.0,4,   176.9,2,    1.47,2,    6.11,2,    0.00,2,    0.61,2,   2.318,2,   1.316,2,   0.054,2,  2095.1,2,  2323.8,2,-999.000,9,-999.0000,9, -999.00,9, -999.00,9,  -999.0,9,  -999.0,-999.000,9,-999.000,  46.6907,2,   275.4,-999.000,  17.4959,     -999.0,9,     -999.0,9,     -999.0,9,     -999.0,9,     -999.0,9,     -999.0,9,     -999.0,9, -999.00,9,-999.0000,9,-999.0000,9,-999.0000,9,-999.0000,9,-999.0000,9,-999.0000,9,-999.0000, -999.00
33RR20050106,       P16S,       2,          1,         28,         28,2,20050110,       1834,   -16.5000,  -150.0000,       4188,   325.5,  14.1972,  34.9874,2,  34.9855,2,    166.8,4,   169.5,2,    3.77,2,   11.18,2,    0.00,2,    0.96,2,   2.664,3,   1.109,2,   0.000,2,  2114.4,2,  2301.2,2,-999.000,9,-999.0000,9, -999.00,9, -999.00,9,  -999.0,9,  -999.0,-999.000,9,-999.000,  43.8813,2,   325.5,-999.000,  14.1495,     -999.0,9,     -999.0,9,     -999.0,9,     -999.0,9,     -999.0,9,     -999.0,9,     -999.0,9, -999.00,9,-999.0000,9,-999.0000,9,-999.0000,9,-999.0000,9,-999.0000,9,-999.0000,9,-999.0000, -999.00
33RR20050106,       P16S,       2,          1,         27,         27,2,20050110,       1834,   -16.5000,  -150.0000,       4188,   375.5,  11.7826,  34.7480,2,  34.7244,2,    157.6,4,   156.8,2,    7.75,2,   17.67,2,    0.00,2,    1.39,2,   0.000,4,   0.000,4,   0.000,4,  2145.1,2,  2288.9,2,-999.000,9,-999.0000,9, -999.00,9, -999.00,9,  -999.0,9,  -999.0,-999.000,9,-999.000,  42.7350,2,   375.5,-999.000,  11.7340,     -999.0,9,     -999.0,9,     -999.0,9,     -999.0,9,     -999.0,9,     -999.0,9,     -999.0,9, -999.00,9,-999.0000,9,-999.0000,9,-999.0000,9,-999.0000,9,-999.0000,9,-999.0000,9,-999.0000, -999.00
33RR20050106,       P16S,       2,          1,         26,         26,2,20050110,       1834,   -16.5000,  -150.0000,       4188,   425.6,   9.7226,  34.5752,2,  34.5749,2,    145.0,4,   141.5,2,   12.36,2,   23.22,2,    0.00,2,    1.77,2,   1.241,2,   0.658,2,   0.011,2,  2171.2,2,  2285.0,2,-999.000,9,-999.0000,9, -999.00,9, -999.00,9,  -999.0,9,  -999.0,-999.000,9,-999.000,-999.0000,9,   425.6,-999.000,   9.6738,     -999.0,9,     -999.0,9,     -999.0,9,     -999.0,9,     -999.0,9,     -999.0,9,     -999.0,9, -999.00,9,-999.0000,9,-999.0000,9,-999.0000,9,-999.0000,9,-999.0000,9,-999.0000,9,-999.0000, -999.00
33RR20050106,       P16S,       2,          1,         25,         25,2,20050110,       1834,   -16.5000,  -150.0000,       4188,   475.7,   8.3932,  34.4986,2,  34.4963,2,    136.4,4,   136.0,2,   17.19,2,   27.28,2,    0.00,2,    2.02,2,   0.855,2,   0.451,2,   0.005,2,  2187.6,2,  2285.0,2,-999.000,9,-999.0000,9, -999.00,9, -999.00,9,  -999.0,9,  -999.0,-999.000,9,-999.000,  43.5960,2,   475.7,-999.000,   8.3432,     -999.0,9,     -999.0,9,     -999.0,9,     -999.0,9,     -999.0,9,     -999.0,9,     -999.0,9, -999.00,9,-999.0000,9,-999.0000,9,-999.0000,9,-999.0000,9,-999.0000,9,-999.0000,9,-999.0000, -999.00
33RR20050106,       P16S,       2,          1,         24,         24,2,20050110,       1834,   -16.5000,  -150.0000,       4188,   525.7,   7.1963,  34.4591,2,  34.4572,2,    133.9,4,   137.7,2,   23.51,2,   30.27,2,    0.00,2,    2.17,2,   0.517,2,   0.290,2,   0.000,2,  2201.6,2,  2289.6,2,-999.000,9,-999.0000,9, -999.00,9, -999.00,9,  -999.0,9,  -999.0,-999.000,9,-999.000,  40.5225,2,   525.7,-999.000,   7.1455,     -999.0,9,     -999.0,9,     -999.0,9,     -999.0,9,     -999.0,9,     -999.0,9,     -999.0,9, -999.00,9,-999.0000,9,-999.0000,9,-999.0000,9,-999.0000,9,-999.0000,9,-999.0000,9,-999.0000, -999.00
33RR20050106,       P16S,       2,          1,         23,         23,2,20050110,       1834,   -16.5000,  -150.0000,       4188,   646.1,   5.7447,  34.4177,2,  34.4164,2,    149.2,4,   156.2,2,   31.52,2,   31.97,2,    0.00,2,    2.25,2,   0.338,2,   0.268,2,   0.000,2,  2207.6,2,  2294.2,2,-999.000,9,-999.0000,9, -999.00,9, -999.00,9,  -999.0,9,  -999.0,-999.000,9,-999.000,  41.3484,2,   646.1,-999.000,   5.6889,     -999.0,9,     -999.0,9,     -999.0,9,     -999.0,9,     -999.0,9,     -999.0,9,     -999.0,9, -999.00,9,-999.0000,9,-999.0000,9,-999.0000,9,-999.0000,9,-999.0000,9,-999.0000,9,-999.0000, -999.00
33RR20050106,       P16S,       2,          1,         22,         22,2,20050110,       1834,   -16.5000,  -150.0000,       4188,   746.8,   5.1176,  34.4457,2,  34.4441,2,    147.9,4,   148.1,2,   44.21,2,   33.66,2,    0.00,2,    2.37,2,   0.138,2,   0.121,2,   0.000,2,  2224.4,2,  2308.6,2,-999.000,9,-999.0000,9, -999.00,9, -999.00,9,  -999.0,9,  -999.0,-999.000,9,-999.000,  40.7545,2,   746.8,-999.000,   5.0561,     -999.0,9,     -999.0,9,     -999.0,9,     -999.0,9,     -999.0,9,     -999.0,9,     -999.0,9, -999.00,9,-999.0000,9,-999.0000,9,-999.0000,9,-999.0000,9,-999.0000,9,-999.0000,9,-999.0000, -999.00
33RR20050106,       P16S,       2,          1,         21,         21,2,20050110,       1834,   -16.5000,  -150.0000,       4188,   847.1,   4.6103,  34.4729,2,  34.4724,2,    145.0,4,   145.9,2,   55.25,2,   34.37,2,    0.00,2,    2.43,2,   0.081,2,   0.107,2,   0.000,2,  2236.8,2,  2320.1,2,-999.000,9,-999.0000,9, -999.00,9, -999.00,9,  -999.0,9,  -999.0,-999.000,9,-999.000,-999.0000,9,   847.1,-999.000,   4.5432,     -999.0,9,     -999.0,9,     -999.0,9,     -999.0,9,     -999.0,9,     -999.0,9,     -999.0,9, -999.00,9,-999.0000,9,-999.0000,9,-999.0000,9,-999.0000,9,-999.0000,9,-999.0000,9,-999.0000, -999.00
33RR20050106,       P16S,       2,          1,         20,         20,2,20050110,       1834,   -16.5000,  -150.0000,       4188,   947.5,   4.1670,  34.4917,2,  34.4924,2,    149.5,4,   144.7,2,   64.19,2,   35.19,2,    0.00,2,    2.48,2,   0.075,2,   0.111,2,   0.000,2,  2248.0,2,  2329.3,2,-999.000,9,-999.0000,9, -999.00,9, -999.00,9,  -999.0,9,  -999.0,-999.000,9,-999.000,  38.2408,2,   947.5,-999.000,   4.0945,     -999.0,9,     -999.0,9,     -999.0,9,     -999.0,9,     -999.0,9,     -999.0,9,     -999.0,9, -999.00,9,-999.0000,9,-999.0000,9,-999.0000,9,-999.0000,9,-999.0000,9,-999.0000,9,-999.0000, -999.00
33RR20050106,       P16S,       2,          1,         19,         19,2,20050110,       1834,   -16.5000,  -150.0000,       4188,  1048.1,   3.7480,  34.5175,2,  34.5205,2,    145.5,4,   141.9,2,   74.63,2,   35.74,2,    0.00,2,    2.52,2,   0.212,4,   0.080,4,   0.004,4,  2261.8,2,  2342.4,2,-999.000,9,-999.0000,9, -999.00,9, -999.00,9,  -999.0,9,  -999.0,-999.000,9,-999.000,  38.6993,2,  1048.1,-999.000,   3.6703,     -999.0,9,     -999.0,9,     -999.0,9,     -999.0,9,     -999.0,9,     -999.0,9,     -999.0,9, -999.00,9,-999.0000,9,-999.0000,9,-999.0000,9,-999.0000,9,-999.0000,9,-999.0000,9,-999.0000, -999.00
33RR20050106,       P16S,       2,          1,         18,         18,2,20050110,       1834,   -16.5000,  -150.0000,       4188,  1148.7,   3.4876,  34.5374,2,  34.5382,2,    140.8,4,   140.4,2,   81.26,2,   36.06,2,    0.00,2,    2.55,2,   0.036,2,   0.064,3,   0.000,2,  2269.4,2,  2349.4,6,-999.000,9,-999.0000,9, -999.00,9, -999.00,9,  -999.0,9,  -999.0,-999.000,9,-999.000,-999.0000,9,  1148.7,-999.000,   3.4039,     -999.0,9,     -999.0,9,     -999.0,9,     -999.0,9,     -999.0,9,     -999.0,9,     -999.0,9, -999.00,9,-999.0000,9,-999.0000,9,-999.0000,9,-999.0000,9,-999.0000,9,-999.0000,9,-999.0000, -999.00
33RR20050106,       P16S,       2,          1,         17,         17,2,20050110,       1834,   -16.5000,  -150.0000,       4188,  1249.3,   3.3071,  34.5462,2,  34.5439,2,    141.7,3,   141.9,2,   85.10,2,   36.06,2,    0.00,2,    2.59,2,   0.178,4,   0.057,4,   0.025,4,  2272.2,2,  2352.3,2,-999.000,9,-999.0000,9, -999.00,9, -999.00,9,  -999.0,9,  -999.0,-999.000,9,-999.000,  38.8672,2,  1249.3,-999.000,   3.2168,     -999.0,9,     -999.0,9,     -999.0,9,     -999.0,9,     -999.0,9,     -999.0,9,     -999.0,9, -999.00,9,-999.0000,9,-999.0000,9,-999.0000,9,-999.0000,9,-999.0000,9,-999.0000,9,-999.0000, -999.00
33RR20050106,       P16S,       2,          1,         16,         16,2,20050110,       1834,   -16.5000,  -150.0000,       4188,  1349.7,   3.0761,  34.5588,2,  34.5584,2,    142.2,3,   144.0,2,   89.82,2,   36.06,2,    0.00,2,    2.55,2,   0.016,2,   0.029,3,   0.000,2,  2266.3,3,  2357.5,2,-999.000,9,-999.0000,9, -999.00,9, -999.00,9,  -999.0,9,  -999.0,-999.000,9,-999.000,-999.0000,9,  1349.7,-999.000,   2.9799,     -999.0,9,     -999.0,9,     -999.0,9,     -999.0,9,     -999.0,9,     -999.0,9,     -999.0,9, -999.00,9,-999.0000,9,-999.0000,9,-999.0000,9,-999.0000,9,-999.0000,9,-999.0000,9,-999.0000, -999.00
33RR20050106,       P16S,       2,          1,         15,         15,2,20050110,       1834,   -16.5000,  -150.0000,       4188,  1450.7,   2.8900,  34.5739,2,  34.5738,2,    143.5,3,   144.5,2,   94.96,2,   36.11,2,    0.00,2,    2.55,2,   0.025,3,   0.042,3,   0.000,2,  2294.2,3,  2362.9,2,-999.000,9,-999.0000,9, -999.00,9, -999.00,9,  -999.0,9,  -999.0,-999.000,9,-999.000,-999.0000,9,  1450.7,-999.000,   2.7875,     -999.0,9,     -999.0,9,     -999.0,9,     -999.0,9,     -999.0,9,     -999.0,9,     -999.0,9, -999.00,9,-999.0000,9,-999.0000,9,-999.0000,9,-999.0000,9,-999.0000,9,-999.0000,9,-999.0000, -999.00
33RR20050106,       P16S,       2,          1,         14,         14,2,20050110,       1834,   -16.5000,  -150.0000,       4188,  1551.2,   2.6549,  34.5908,2,  34.5911,2,    145.4,3,   146.4,2,  100.75,2,   36.05,2,    0.00,2,    2.54,2,   0.011,2,   0.039,3,   0.000,2,  2289.1,2,  2369.6,2,-999.000,9,-999.0000,9, -999.00,9, -999.00,9,  -999.0,9,  -999.0,-999.000,9,-999.000,  36.0094,2,  1551.2,-999.000,   2.5468,     -999.0,9,     -999.0,9,     -999.0,9,     -999.0,9,     -999.0,9,     -999.0,9,     -999.0,9, -999.00,9,-999.0000,9,-999.0000,9,-999.0000,9,-999.0000,9,-999.0000,9,-999.0000,9,-999.0000, -999.00
33RR20050106,       P16S,       2,          1,         13,         13,2,20050110,       1834,   -16.5000,  -150.0000,       4188,  1652.1,   2.4600,  34.6063,2,  34.6072,2,    148.3,3,   147.9,2,  106.11,2,   36.05,2,    0.00,2,    2.53,2,   0.033,3,   0.073,3,   0.000,2,  2293.6,2,  2376.6,2,-999.000,9,-999.0000,9, -999.00,9, -999.00,9,  -999.0,9,  -999.0,-999.000,9,-999.000,-999.0000,9,  1652.1,-999.000,   2.3460,     -999.0,9,     -999.0,9,     -999.0,9,     -999.0,9,     -999.0,9,     -999.0,9,     -999.0,9, -999.00,9,-999.0000,9,-999.0000,9,-999.0000,9,-999.0000,9,-999.0000,9,-999.0000,9,-999.0000, -999.00
33RR20050106,       P16S,       2,          1,         12,         12,2,20050110,       1834,   -16.5000,  -150.0000,       4188,  1753.0,   2.3390,  34.6176,2,  34.6146,2,    146.6,3,   148.6,2, -999.00,9, -999.00,9, -999.00,9, -999.00,9,   0.000,4,   0.000,4,   0.000,4,  2295.8,2,  2378.9,2,-999.000,9,-999.0000,9, -999.00,9, -999.00,9,  -999.0,9,  -999.0,-999.000,9,-999.000,  35.6952,2,  1753.0,-999.000,   2.2183,     -999.0,9,     -999.0,9,     -999.0,9,     -999.0,9,     -999.0,9,     -999.0,9,     -999.0,9, -999.00,9,-999.0000,9,-999.0000,9,-999.0000,9,-999.0000,9,-999.0000,9,-999.0000,9,-999.0000, -999.00
33RR20050106,       P16S,       2,          1,         11,         11,2,20050110,       1834,   -16.5000,  -150.0000,       4188,  1854.2,   2.2393,  34.6264,2,  34.6248,2,    148.2,3,   149.3,2,  112.35,2,   36.05,2,    0.00,2,    2.53,2,   0.041,3,   0.083,3,   0.000,2,  2298.1,2,  2382.5,2,-999.000,9,-999.0000,9, -999.00,9, -999.00,9,  -999.0,9,  -999.0,-999.000,9,-999.000,-999.0000,9,  1854.2,-999.000,   2.1115,     -999.0,9,     -999.0,9,     -999.0,9,     -999.0,9,     -999.0,9,     -999.0,9,     -999.0,9, -999.00,9,-999.0000,9,-999.0000,9,-999.0000,9,-999.0000,9,-999.0000,9,-999.0000,9,-999.0000, -999.00
33RR20050106,       P16S,       2,          1,         10,         10,2,20050110,       1834,   -16.5000,  -150.0000,       4188,  2116.7,   2.0249,  34.6451,2,  34.6441,2,    151.3,3,   151.8,2,  118.37,2,   35.87,2,    0.00,2,    2.53,2,   0.001,2,   0.016,3,   0.000,2,  2302.4,2,  2389.2,2,-999.000,9,-999.0000,9, -999.00,9, -999.00,9,  -999.0,9,  -999.0,-999.000,9,-999.000,  35.1685,2,  2116.7,-999.000,   1.8781,     -999.0,9,     -999.0,9,     -999.0,9,     -999.0,9,     -999.0,9,     -999.0,9,     -999.0,9, -999.00,9,-999.0000,9,-999.0000,9,-999.0000,9,-999.0000,9,-999.0000,9,-999.0000,9,-999.0000, -999.00
33RR20050106,       P16S,       2,          1,          9,          9,2,20050110,       1834,   -16.5000,  -150.0000,       4188,  2369.6,   1.8979,  34.6564,2,  34.6559,2,    148.4,4,   154.1,2,  122.02,2,   35.76,2,    0.00,2,    2.51,2,   0.005,2,   0.011,2,   0.000,2,  2306.4,6,  2393.1,2,-999.000,9,-999.0000,9, -999.00,9, -999.00,9,  -999.0,9,  -999.0,-999.000,9,-999.000,  35.9224,2,  2369.6,-999.000,   1.7312,     -999.0,9,     -999.0,9,     -999.0,9,     -999.0,9,     -999.0,9,     -999.0,9,     -999.0,9, -999.00,9,-999.0000,9,-999.0000,9,-999.0000,9,-999.0000,9,-999.0000,9,-999.0000,9,-999.0000, -999.00
33RR20050106,       P16S,       2,          1,          8,          8,2,20050110,       1834,   -16.5000,  -150.0000,       4188,  2623.0,   1.7975,  34.6663,2,  34.6663,2,    154.7,3,   155.8,2,  125.26,2,   35.70,2,    0.00,2,    2.50,2,   0.000,4,   0.000,4,   0.000,4,  2307.5,2,  2396.8,2,-999.000,9,-999.0000,9, -999.00,9, -999.00,9,  -999.0,9,  -999.0,-999.000,9,-999.000,  35.7309,2,  2623.0,-999.000,   1.6097,     -999.0,9,     -999.0,9,     -999.0,9,     -999.0,9,     -999.0,9,     -999.0,9,     -999.0,9, -999.00,9,-999.0000,9,-999.0000,9,-999.0000,9,-999.0000,9,-999.0000,9,-999.0000,9,-999.0000, -999.00
33RR20050106,       P16S,       2,          1,          7,          7,2,20050110,       1834,   -16.5000,  -150.0000,       4188,  2876.3,   1.6928,  34.6743,2,  34.6746,2,    159.7,3,   160.6,2,  126.55,2,   35.37,2,    0.00,2,    2.48,2,   0.014,2,   0.040,3,   0.000,2,  2306.6,2,  2397.1,2,-999.000,9,-999.0000,9, -999.00,9, -999.00,9,  -999.0,9,  -999.0,-999.000,9,-999.000,-999.0000,9,  2876.3,-999.000,   1.4835,     -999.0,9,     -999.0,9,     -999.0,9,     -999.0,9,     -999.0,9,     -999.0,9,     -999.0,9, -999.00,9,-999.0000,9,-999.0000,9,-999.0000,9,-999.0000,9,-999.0000,9,-999.0000,9,-999.0000, -999.00