BOTTLE,20201109CCHSIOCBG
EXPOCODE,SECT_ID,STNNBR,CASTNO,SAMPNO,BTLNBR,BTLNBR_FLAG_W,DATE,TIME,LATITUDE,LONGITUDE,DEPTH,CTDPRS,CTDTMP,CTDSAL,CTDSAL_FLAG_W,SALNTY,SALNTY_FLAG_W,CTDOXY,CTDOXY_FLAG_W,OXYGEN,OXYGEN_FLAG_W,SILCAT,SILCAT_FLAG_W,NITRAT,NITRAT_FLAG_W,NITRIT,NITRIT_FLAG_W,PHSPHT,PHSPHT_FLAG_W,CFC-11,CFC-11_FLAG_W,CFC-12,CFC-12_FLAG_W,CFC113,CFC113_FLAG_W,TCARBN,TCARBN_FLAG_W,ALKALI,ALKALI_FLAG_W,TRITUM,TRITUM_FLAG_W,HELIUM,HELIUM_FLAG_W,DELHE3,DELHE3_FLAG_W,DELC13,DELC13_FLAG_W,DELC14,DELC14_FLAG_W,C14ERR,NEON,NEON_FLAG_W,NEONER,DOC,DOC_FLAG_W,CTDRAW,TRITER,THETA,FUCO,FUCO_FLAG_W,RHAM,RHAM_FLAG_W,ARABA,ARABA_FLAG_W,GALA,GALA_FLAG_W,GLUC,GLUC_FLAG_W,MAN,MAN_FLAG_W,DCNS,DCNS_FLAG_W,BRDU,BRDU_FLAG_W,CDOM325,CDOM325_FLAG_W,CDOM340,CDOM340_FLAG_W,CDOM380,CDOM380_FLAG_W,CDOM412,CDOM412_FLAG_W,CDOMSL,CDOMSL_FLAG_W,CDOMSN,CDOMSN_FLAG_W,HELIER,DELHER
,,,,,,,,,,,METERS,DBAR,ITS-90,PSS-78,,PSS-78,,UMOL/KG,,UMOL/KG,,UMOL/KG,,UMOL/KG,,UMOL/KG,,UMOL/KG,,PMOL/KG,,PMOL/KG,,PMOL/KG,,UMOL/KG,,UMOL/KG,,TU,,NMOL/KG,,PERCNT,,/MILLE,,/MILLE,,/MILLE,NMOL/KG,,NMOL/KG,UMOL/KG,,DBAR,TU,DEG C,NMOL/KG,,NMOL/KG,,NMOL/KG,,NMOL/KG,,NMOL/KG,,NMOL/KG,,NMOL/KG,,PMOL/L/H,,1/M,,1/M,,1/M,,1/M,,1/NM,,1/NM,,NMOL/KG,PERCNT
33RR20050106,       P16S,      55,          1,          6,          6,2,20050125,       1733,   -43.0000,  -150.0000,       5146,  3654.2,   1.4957,  34.7162,2,  34.7156,2,    188.9,2,   190.4,2,  110.97,2,   32.27,2,    0.00,2,    2.24,2,   0.003,2,   0.005,2,   0.002,2,  2270.6,2,  2367.5,2,   0.001,2,   1.9210,2,   13.11,2, -999.00,9,  -999.0,9,  -999.0,   8.302,2,   0.011,-999.0000,9,  3654.2,   0.007,   1.2135,     -999.0,9,     -999.0,9,     -999.0,9,     -999.0,9,     -999.0,9,     -999.0,9,     -999.0,9, -999.00,9,-999.0000,9,-999.0000,9,-999.0000,9,-999.0000,9,-999.0000,9,-999.0000,9,   0.0010,    0.20
33RR20050106,       P16S,      55,          1,          5,          5,2,20050125,       1733,   -43.0000,  -150.0000,       5146,  3960.3,   1.3123,  34.7167,2,  34.7164,2,    196.1,2,   197.1,2,  113.45,2,   32.11,2,    0.00,2,    2.22,2,   0.020,3,   0.012,2,   0.002,2,  2268.1,2,  2367.0,2,   0.001,2,   1.9220,2,   11.64,2, -999.00,9,  -999.0,9,  -999.0,   8.311,2,   0.010,  39.2006,2,  3960.3,   0.008,   1.0027,     -999.0,9,     -999.0,9,     -999.0,9,     -999.0,9,     -999.0,9,     -999.0,9,     -999.0,9, -999.00,9,   0.1070,2,   0.0720,2,   0.0380,2,   0.0270,2,   0.0171,2,   0.0194,2,   0.0010,    0.19
33RR20050106,       P16S,      55,          1,          4,          4,2,20050125,       1733,   -43.0000,  -150.0000,       5146,  4318.8,   1.1915,  34.7148,2,  34.7148,2,    200.0,2,   200.9,2,  116.54,2,   32.11,2,    0.00,2,    2.22,2,   0.014,3,   0.009,2,   0.002,2,  2268.2,2,  2368.4,2,   0.001,2,   1.9440,2,   10.07,2, -999.00,9,  -999.0,9,  -999.0,   8.403,2,   0.011,-999.0000,9,  4318.8,   0.007,   0.8462,     -999.0,9,     -999.0,9,     -999.0,9,     -999.0,9,     -999.0,9,     -999.0,9,     -999.0,9, -999.00,9,-999.0000,9,-999.0000,9,-999.0000,9,-999.0000,9,-999.0000,9,-999.0000,9,   0.0010,    0.19
33RR20050106,       P16S,      55,          1,          3,          3,2,20050125,       1733,   -43.0000,  -150.0000,       5146,  4677.4,   1.1675,  34.7137,2,  34.7134,2,    201.4,2,   202.0,2,  118.40,2,   32.16,2,    0.00,2,    2.22,2,   0.005,2,   0.006,2,   0.002,2,  2269.3,2,  2370.4,2,   0.001,2,   1.9490,2,    9.95,2, -999.00,9,  -999.0,9,  -999.0,   8.472,2,   0.011,  37.7563,2,  4677.4,   0.007,   0.7823,     -999.0,9,     -999.0,9,     -999.0,9,     -999.0,9,     -999.0,9,     -999.0,9,     -999.0,9, -999.00,9,   0.1020,2,   0.0680,2,   0.0350,2,   0.0250,2,   0.0181,2,   0.0204,2,   0.0010,    0.20
33RR20050106,       P16S,      55,          1,          2,          2,2,20050125,       1733,   -43.0000,  -150.0000,       5146,  5036.7,   1.1870,  34.7129,2,  34.7129,2,    201.5,2,   201.9,2,  119.22,2,   32.27,2,    0.00,2,    2.22,2,   0.001,2,   0.004,2,   0.002,2,  2268.9,2,  2371.4,2,   0.010,2,   1.9100,2,   10.08,2, -999.00,9,  -999.0,9,  -999.0,   8.288,2,   0.010,-999.0000,9,  5036.7,   0.006,   0.7587,     -999.0,9,     -999.0,9,     -999.0,9,     -999.0,9,     -999.0,9,     -999.0,9,     -999.0,9, -999.00,9,-999.0000,9,-999.0000,9,-999.0000,9,-999.0000,9,-999.0000,9,-999.0000,9,   0.0010,    0.20
33RR20050106,       P16S,      55,          1,          1,          1,2,20050125,       1733,   -43.0000,  -150.0000,       5146,  5283.4,   1.2052,  34.7124,2,  34.7129,2,    201.8,2,   202.6,2,  119.21,2,   32.33,2,    0.00,2,    2.23,2,  -0.001,2,   0.002,2,   0.002,2,  2268.7,6,  2371.3,6,-999.000,9,   1.9880,2,    9.65,2, -999.00,9,  -999.0,9,  -999.0,   8.554,2,   0.011,  38.4291,2,  5283.4,-999.000,   0.7462,     -999.0,9,     -999.0,9,     -999.0,9,     -999.0,9,     -999.0,9,     -999.0,9,     -999.0,9, -999.00,9,   0.1040,2,   0.0690,2,   0.0360,2,   0.0250,2,   0.0184,2,   0.0206,2,   0.0010,    0.18