BOTTLE,20201109CCHSIOCBG
EXPOCODE,SECT_ID,STNNBR,CASTNO,SAMPNO,BTLNBR,BTLNBR_FLAG_W,DATE,TIME,LATITUDE,LONGITUDE,DEPTH,CTDPRS,CTDTMP,CTDSAL,CTDSAL_FLAG_W,SALNTY,SALNTY_FLAG_W,CTDOXY,CTDOXY_FLAG_W,OXYGEN,OXYGEN_FLAG_W,SILCAT,SILCAT_FLAG_W,NITRAT,NITRAT_FLAG_W,NITRIT,NITRIT_FLAG_W,PHSPHT,PHSPHT_FLAG_W,CFC-11,CFC-11_FLAG_W,CFC-12,CFC-12_FLAG_W,CFC113,CFC113_FLAG_W,TCARBN,TCARBN_FLAG_W,ALKALI,ALKALI_FLAG_W,TRITUM,TRITUM_FLAG_W,HELIUM,HELIUM_FLAG_W,DELHE3,DELHE3_FLAG_W,DELC13,DELC13_FLAG_W,DELC14,DELC14_FLAG_W,C14ERR,NEON,NEON_FLAG_W,NEONER,DOC,DOC_FLAG_W,CTDRAW,TRITER,THETA,FUCO,FUCO_FLAG_W,RHAM,RHAM_FLAG_W,ARABA,ARABA_FLAG_W,GALA,GALA_FLAG_W,GLUC,GLUC_FLAG_W,MAN,MAN_FLAG_W,DCNS,DCNS_FLAG_W,BRDU,BRDU_FLAG_W,CDOM325,CDOM325_FLAG_W,CDOM340,CDOM340_FLAG_W,CDOM380,CDOM380_FLAG_W,CDOM412,CDOM412_FLAG_W,CDOMSL,CDOMSL_FLAG_W,CDOMSN,CDOMSN_FLAG_W,HELIER,DELHER
,,,,,,,,,,,METERS,DBAR,ITS-90,PSS-78,,PSS-78,,UMOL/KG,,UMOL/KG,,UMOL/KG,,UMOL/KG,,UMOL/KG,,UMOL/KG,,PMOL/KG,,PMOL/KG,,PMOL/KG,,UMOL/KG,,UMOL/KG,,TU,,NMOL/KG,,PERCNT,,/MILLE,,/MILLE,,/MILLE,NMOL/KG,,NMOL/KG,UMOL/KG,,DBAR,TU,DEG C,NMOL/KG,,NMOL/KG,,NMOL/KG,,NMOL/KG,,NMOL/KG,,NMOL/KG,,NMOL/KG,,PMOL/L/H,,1/M,,1/M,,1/M,,1/M,,1/NM,,1/NM,,NMOL/KG,PERCNT
33RR20050106,       P16S,      69,          1,          6,          6,2,20050130,       1115,   -49.9985,  -150.0000,       4183,  3214.8,   1.6950,  34.7361,2,  34.7368,2,    195.1,2,   196.0,2,   98.43,2,   30.99,2,    0.00,2,    2.15,2,-999.000,9,-999.000,9,-999.000,9,  2255.4,2,  2354.2,2,-999.000,9,-999.0000,9, -999.00,9, -999.00,9,  -999.0,9,  -999.0,-999.000,9,-999.000,  39.8366,2,  3214.8,-999.000,   1.4525,     -999.0,9,     -999.0,9,     -999.0,9,     -999.0,9,     -999.0,9,     -999.0,9,     -999.0,9, -999.00,9,   0.1090,2,   0.0730,2,   0.0370,2,   0.0270,2,   0.0178,2,   0.0202,2,-999.0000, -999.00
33RR20050106,       P16S,      69,          1,          5,          5,2,20050130,       1115,   -49.9985,  -150.0000,       4183,  3450.4,   1.4933,  34.7314,2,  34.7323,2,    197.8,2,   198.6,2,  104.36,2,   31.25,2,    0.00,2,    2.17,2,   0.039,2,   0.021,2,  -0.002,4,  2257.8,2,  2358.1,2,-999.000,9,-999.0000,9, -999.00,9, -999.00,9,  -999.0,9,  -999.0,-999.000,9,-999.000,-999.0000,9,  3450.4,-999.000,   1.2320,     -999.0,9,     -999.0,9,     -999.0,9,     -999.0,9,     -999.0,9,     -999.0,9,     -999.0,9, -999.00,9,-999.0000,9,-999.0000,9,-999.0000,9,-999.0000,9,-999.0000,9,-999.0000,9,-999.0000, -999.00
33RR20050106,       P16S,      69,          1,          4,          4,2,20050130,       1115,   -49.9985,  -150.0000,       4183,  3655.1,   1.3428,  34.7260,2,  34.7262,2,    200.0,2,   201.1,2,  109.27,2,   31.41,2,    0.00,2,    2.18,2,-999.000,9,-999.000,9,-999.000,9,  2259.3,2,  2358.9,2,-999.000,9,-999.0000,9, -999.00,9, -999.00,9,  -999.0,9,  -999.0,-999.000,9,-999.000,  39.4742,2,  3655.1,-999.000,   1.0645,     -999.0,9,     -999.0,9,     -999.0,9,     -999.0,9,     -999.0,9,     -999.0,9,     -999.0,9, -999.00,9,   0.1090,2,   0.0720,2,   0.0370,2,   0.0270,2,   0.0175,2,   0.0200,2,-999.0000, -999.00
33RR20050106,       P16S,      69,          1,          3,          3,2,20050130,       1115,   -49.9985,  -150.0000,       4183,  3857.9,   1.2354,  34.7212,2,  34.7215,2,    201.3,2,   203.0,2,  113.57,2,   31.62,2,    0.00,2,    2.20,2,   0.025,2,   0.027,2,  -0.002,4,  2261.6,2,  2361.8,2,-999.000,9,-999.0000,9, -999.00,9, -999.00,9,  -999.0,9,  -999.0,-999.000,9,-999.000,-999.0000,9,  3857.9,-999.000,   0.9388,     -999.0,9,     -999.0,9,     -999.0,9,     -999.0,9,     -999.0,9,     -999.0,9,     -999.0,9, -999.00,9,-999.0000,9,-999.0000,9,-999.0000,9,-999.0000,9,-999.0000,9,-999.0000,9,-999.0000, -999.00
33RR20050106,       P16S,      69,          1,          2,          2,2,20050130,       1115,   -49.9985,  -150.0000,       4183,  4061.4,   1.1602,  34.7172,2,  34.7178,2,    202.2,2,   203.2,2,  117.25,2,   31.88,2,    0.00,2,    2.21,2,   0.030,2,   0.022,2,  -0.002,4,  2263.6,2,  2364.5,2,-999.000,9,-999.0000,9, -999.00,9, -999.00,9,  -999.0,9,  -999.0,-999.000,9,-999.000,-999.0000,9,  4061.4,-999.000,   0.8440,     -999.0,9,     -999.0,9,     -999.0,9,     -999.0,9,     -999.0,9,     -999.0,9,     -999.0,9, -999.00,9,-999.0000,9,-999.0000,9,-999.0000,9,-999.0000,9,-999.0000,9,-999.0000,9,-999.0000, -999.00
33RR20050106,       P16S,      69,          1,          1,          1,2,20050130,       1115,   -49.9985,  -150.0000,       4183,  4261.6,   1.1282,  34.7155,2,  34.7166,2,    202.8,2,   203.5,2,  119.09,2,   31.93,2,    0.00,2,    2.21,2,   0.038,2,   0.028,2,  -0.002,4,  2263.7,6,  2366.6,6,-999.000,9,-999.0000,9, -999.00,9, -999.00,9,  -999.0,9,  -999.0,-999.000,9,-999.000,  38.9945,2,  4261.6,-999.000,   0.7912,     -999.0,9,     -999.0,9,     -999.0,9,     -999.0,9,     -999.0,9,     -999.0,9,     -999.0,9, -999.00,9,   0.1080,2,   0.0720,2,   0.0370,2,   0.0270,2,   0.0174,2,   0.0198,2,-999.0000, -999.00