BOTTLE,20201109CCHSIOCBG
EXPOCODE,SECT_ID,STNNBR,CASTNO,SAMPNO,BTLNBR,BTLNBR_FLAG_W,DATE,TIME,LATITUDE,LONGITUDE,DEPTH,CTDPRS,CTDTMP,CTDSAL,CTDSAL_FLAG_W,SALNTY,SALNTY_FLAG_W,CTDOXY,CTDOXY_FLAG_W,OXYGEN,OXYGEN_FLAG_W,SILCAT,SILCAT_FLAG_W,NITRAT,NITRAT_FLAG_W,NITRIT,NITRIT_FLAG_W,PHSPHT,PHSPHT_FLAG_W,CFC-11,CFC-11_FLAG_W,CFC-12,CFC-12_FLAG_W,CFC113,CFC113_FLAG_W,TCARBN,TCARBN_FLAG_W,ALKALI,ALKALI_FLAG_W,TRITUM,TRITUM_FLAG_W,HELIUM,HELIUM_FLAG_W,DELHE3,DELHE3_FLAG_W,DELC13,DELC13_FLAG_W,DELC14,DELC14_FLAG_W,C14ERR,NEON,NEON_FLAG_W,NEONER,DOC,DOC_FLAG_W,CTDRAW,TRITER,THETA,FUCO,FUCO_FLAG_W,RHAM,RHAM_FLAG_W,ARABA,ARABA_FLAG_W,GALA,GALA_FLAG_W,GLUC,GLUC_FLAG_W,MAN,MAN_FLAG_W,DCNS,DCNS_FLAG_W,BRDU,BRDU_FLAG_W,CDOM325,CDOM325_FLAG_W,CDOM340,CDOM340_FLAG_W,CDOM380,CDOM380_FLAG_W,CDOM412,CDOM412_FLAG_W,CDOMSL,CDOMSL_FLAG_W,CDOMSN,CDOMSN_FLAG_W,HELIER,DELHER
,,,,,,,,,,,METERS,DBAR,ITS-90,PSS-78,,PSS-78,,UMOL/KG,,UMOL/KG,,UMOL/KG,,UMOL/KG,,UMOL/KG,,UMOL/KG,,PMOL/KG,,PMOL/KG,,PMOL/KG,,UMOL/KG,,UMOL/KG,,TU,,NMOL/KG,,PERCNT,,/MILLE,,/MILLE,,/MILLE,NMOL/KG,,NMOL/KG,UMOL/KG,,DBAR,TU,DEG C,NMOL/KG,,NMOL/KG,,NMOL/KG,,NMOL/KG,,NMOL/KG,,NMOL/KG,,NMOL/KG,,PMOL/L/H,,1/M,,1/M,,1/M,,1/M,,1/NM,,1/NM,,NMOL/KG,PERCNT
33RR20050106,       P16S,      14,          2,         36,         36,2,20050113,       2356,   -22.5000,  -150.0000,       4180,     2.4,  26.7769,  35.6026,2,  35.6180,2,    204.7,2,   204.2,2,    0.46,2,    0.00,2,    0.00,2,    0.13,2,   1.708,2,   1.071,2,   0.151,2,  2001.8,2,  2338.0,2,-999.000,9,-999.0000,9, -999.00,9, -999.00,9,  -999.0,9,  -999.0,-999.000,9,-999.000,-999.0000,9,     2.4,-999.000,  26.7764,     -999.0,9,     -999.0,9,     -999.0,9,     -999.0,9,     -999.0,9,     -999.0,9,     -999.0,9, -999.00,9,   0.0400,2,   0.0300,2,   0.0170,2,   0.0120,2,   0.0208,2,   0.0209,2,-999.0000, -999.00
33RR20050106,       P16S,      14,          2,         35,         35,2,20050113,       2356,   -22.5000,  -150.0000,       4180,    40.1,  23.8650,  35.5872,2,  35.5834,2,    217.2,2,   216.6,2,    0.46,2,    0.00,2,    0.00,2,    0.10,2,   1.915,2,   1.189,2,   0.154,2,  2004.2,2,  2333.9,2,-999.000,9,-999.0000,9, -999.00,9, -999.00,9,  -999.0,9,  -999.0,-999.000,9,-999.000,-999.0000,9,    40.1,-999.000,  23.8566,     -999.0,9,     -999.0,9,     -999.0,9,     -999.0,9,     -999.0,9,     -999.0,9,     -999.0,9, -999.00,9,   0.0470,2,   0.0340,2,   0.0200,2,   0.0150,2,   0.0206,2,   0.0211,2,-999.0000, -999.00
33RR20050106,       P16S,      14,          2,         34,         34,2,20050113,       2356,   -22.5000,  -150.0000,       4180,    75.1,  22.4742,  35.6115,2,  35.6120,2,    221.7,2,   219.0,2,    0.46,2,    0.00,2,    0.00,2,    0.10,2,   2.090,2,   1.275,2,   0.154,2,  2014.6,2,  2335.2,2,-999.000,9,-999.0000,9, -999.00,9, -999.00,9,  -999.0,9,  -999.0,-999.000,9,-999.000,-999.0000,9,    75.1,-999.000,  22.4591,     -999.0,9,     -999.0,9,     -999.0,9,     -999.0,9,     -999.0,9,     -999.0,9,     -999.0,9, -999.00,9,   0.0740,2,   0.0550,2,   0.0320,2,   0.0230,2,   0.0147,2,   0.0156,2,-999.0000, -999.00
33RR20050106,       P16S,      14,          2,         33,         33,2,20050113,       2356,   -22.5000,  -150.0000,       4180,   125.1,  20.5860,  35.5786,2,  35.5792,2,    222.0,2,   219.4,2,    0.47,2,    0.00,2,    0.00,2,    0.10,2,   2.173,2,   1.349,2,   0.165,2,  2030.4,2,  2332.8,2,-999.000,9,-999.0000,9, -999.00,9, -999.00,9,  -999.0,9,  -999.0,-999.000,9,-999.000,-999.0000,9,   125.1,-999.000,  20.5623,     -999.0,9,     -999.0,9,     -999.0,9,     -999.0,9,     -999.0,9,     -999.0,9,     -999.0,9, -999.00,9,   0.0860,2,   0.0630,2,   0.0330,2,   0.0230,2,   0.0173,2,   0.0184,2,-999.0000, -999.00
33RR20050106,       P16S,      14,          2,         32,         32,2,20050113,       2356,   -22.5000,  -150.0000,       4180,   174.9,  19.4497,  35.5760,2,  35.5729,2,    200.1,2,   196.3,2,    0.67,2,    1.59,2,    0.03,2,    0.26,2,   2.271,2,   1.401,2,   0.063,2,  -999.0,9,  -999.0,9,-999.000,9,-999.0000,9, -999.00,9, -999.00,9,  -999.0,9,  -999.0,-999.000,9,-999.000,-999.0000,9,   174.9,-999.000,  19.4179,     -999.0,9,     -999.0,9,     -999.0,9,     -999.0,9,     -999.0,9,     -999.0,9,     -999.0,9, -999.00,9,   0.0930,2,   0.0690,2,   0.0370,2,   0.0270,2,   0.0150,2,   0.0164,2,-999.0000, -999.00
33RR20050106,       P16S,      14,          2,         31,         31,2,20050113,       2356,   -22.5000,  -150.0000,       4180,   225.1,  17.9988,  35.4726,2,  35.4723,2,    192.5,2,   191.1,2,    0.89,2,    3.33,2,    0.00,2,    0.38,2,   2.409,2,   1.412,2,   0.017,2,  2075.5,2,  2324.8,2,-999.000,9,-999.0000,9, -999.00,9, -999.00,9,  -999.0,9,  -999.0,-999.000,9,-999.000,-999.0000,9,   225.1,-999.000,  17.9600,     -999.0,9,     -999.0,9,     -999.0,9,     -999.0,9,     -999.0,9,     -999.0,9,     -999.0,9, -999.00,9,   0.0880,2,   0.0640,2,   0.0330,2,   0.0240,2,   0.0178,2,   0.0188,2,-999.0000, -999.00
33RR20050106,       P16S,      14,          2,         30,         30,2,20050113,       2356,   -22.5000,  -150.0000,       4180,   274.9,  16.1649,  35.2882,2,  35.2985,2,    196.0,2,   196.0,2,    1.30,2,    4.95,2,    0.00,2,    0.48,2,   2.408,2,   1.432,2,   0.022,2,  -999.0,9,  -999.0,9,-999.000,9,-999.0000,9, -999.00,9, -999.00,9,  -999.0,9,  -999.0,-999.000,9,-999.000,-999.0000,9,   274.9,-999.000,  16.1209,     -999.0,9,     -999.0,9,     -999.0,9,     -999.0,9,     -999.0,9,     -999.0,9,     -999.0,9, -999.00,9,-999.0000,9,-999.0000,9,-999.0000,9,-999.0000,9,-999.0000,9,-999.0000,9,-999.0000, -999.00
33RR20050106,       P16S,      14,          2,         29,         29,2,20050113,       2356,   -22.5000,  -150.0000,       4180,   325.1,  14.3053,  35.0756,2,  35.0713,2,    198.0,2,   198.0,2,    1.92,2,    7.71,2,    0.00,2,    0.67,2,   2.499,2,   1.458,2,   0.023,2,  2097.2,2,  2305.4,2,-999.000,9,-999.0000,9, -999.00,9, -999.00,9,  -999.0,9,  -999.0,-999.000,9,-999.000,-999.0000,9,   325.1,-999.000,  14.2574,     -999.0,9,     -999.0,9,     -999.0,9,     -999.0,9,     -999.0,9,     -999.0,9,     -999.0,9, -999.00,9,-999.0000,9,-999.0000,9,-999.0000,9,-999.0000,9,-999.0000,9,-999.0000,9,-999.0000, -999.00
33RR20050106,       P16S,      14,          2,         28,         28,2,20050113,       2356,   -22.5000,  -150.0000,       4180,   375.1,  12.3545,  34.8627,2,  34.8690,2,    198.3,2,   198.2,2,    2.96,2,   11.53,2,    0.00,2,    0.90,2,   2.438,2,   1.355,2,   0.029,2,  -999.0,9,  -999.0,9,-999.000,9,-999.0000,9, -999.00,9, -999.00,9,  -999.0,9,  -999.0,-999.000,9,-999.000,-999.0000,9,   375.1,-999.000,  12.3043,     -999.0,9,     -999.0,9,     -999.0,9,     -999.0,9,     -999.0,9,     -999.0,9,     -999.0,9, -999.00,9,-999.0000,9,-999.0000,9,-999.0000,9,-999.0000,9,-999.0000,9,-999.0000,9,-999.0000, -999.00
33RR20050106,       P16S,      14,          2,         27,         27,2,20050113,       2356,   -22.5000,  -150.0000,       4180,   425.4,  10.3040,  34.6334,2,  34.6240,2,    194.9,2,   189.3,2,    5.63,2,   17.41,2,    0.00,2,    1.30,2,   2.088,2,   1.072,2,   0.026,2,  2134.7,2,  2283.3,2,-999.000,9,-999.0000,9, -999.00,9, -999.00,9,  -999.0,9,  -999.0,-999.000,9,-999.000,-999.0000,9,   425.4,-999.000,  10.2534,     -999.0,9,     -999.0,9,     -999.0,9,     -999.0,9,     -999.0,9,     -999.0,9,     -999.0,9, -999.00,9,-999.0000,9,-999.0000,9,-999.0000,9,-999.0000,9,-999.0000,9,-999.0000,9,-999.0000, -999.00
33RR20050106,       P16S,      14,          2,         26,         26,2,20050113,       2356,   -22.5000,  -150.0000,       4180,   475.5,   8.6803,  34.4886,2,  34.4920,2,    195.2,2,   199.7,2,    6.87,2,   20.36,2,    0.00,2,    1.48,2,   2.027,2,   1.060,2,   0.035,2,  -999.0,9,  -999.0,9,-999.000,9,-999.0000,9, -999.00,9, -999.00,9,  -999.0,9,  -999.0,-999.000,9,-999.000,-999.0000,9,   475.5,-999.000,   8.6293,     -999.0,9,     -999.0,9,     -999.0,9,     -999.0,9,     -999.0,9,     -999.0,9,     -999.0,9, -999.00,9,-999.0000,9,-999.0000,9,-999.0000,9,-999.0000,9,-999.0000,9,-999.0000,9,-999.0000, -999.00
33RR20050106,       P16S,      14,          2,         25,         25,2,20050113,       2356,   -22.5000,  -150.0000,       4180,   525.4,   7.7547,  34.4194,2,  34.4217,2,    204.4,2,   209.3,2,    7.49,2,   22.10,2,    0.00,2,    1.58,2,   1.986,2,   1.013,2,   0.040,2,  2145.4,2,  2277.5,2,-999.000,9,-999.0000,9, -999.00,9, -999.00,9,  -999.0,9,  -999.0,-999.000,9,-999.000,-999.0000,9,   525.4,-999.000,   7.7018,     -999.0,9,     -999.0,9,     -999.0,9,     -999.0,9,     -999.0,9,     -999.0,9,     -999.0,9, -999.00,9,-999.0000,9,-999.0000,9,-999.0000,9,-999.0000,9,-999.0000,9,-999.0000,9,-999.0000, -999.00
33RR20050106,       P16S,      14,          2,         24,         24,2,20050113,       2356,   -22.5000,  -150.0000,       4180,   645.9,   6.0389,  34.3230,2,  34.3239,2,    220.8,2,   223.1,2,   11.83,2,   25.76,2,    0.00,2,    1.79,2,   1.256,2,   0.652,2,   0.020,2,  2145.6,2,  2278.5,2,-999.000,9,-999.0000,9, -999.00,9, -999.00,9,  -999.0,9,  -999.0,-999.000,9,-999.000,-999.0000,9,   645.9,-999.000,   5.9818,     -999.0,9,     -999.0,9,     -999.0,9,     -999.0,9,     -999.0,9,     -999.0,9,     -999.0,9, -999.00,9,-999.0000,9,-999.0000,9,-999.0000,9,-999.0000,9,-999.0000,9,-999.0000,9,-999.0000, -999.00
33RR20050106,       P16S,      14,          2,         23,         23,2,20050113,       2356,   -22.5000,  -150.0000,       4180,   746.5,   5.2476,  34.3169,2,  34.3206,2,    206.3,2,   208.1,2,   20.10,2,   28.80,2,    0.00,2,    2.02,2,   0.646,2,   0.336,2,   0.001,2,  -999.0,9,  -999.0,9,-999.000,9,-999.0000,9, -999.00,9, -999.00,9,  -999.0,9,  -999.0,-999.000,9,-999.000,-999.0000,9,   746.5,-999.000,   5.1856,     -999.0,9,     -999.0,9,     -999.0,9,     -999.0,9,     -999.0,9,     -999.0,9,     -999.0,9, -999.00,9,-999.0000,9,-999.0000,9,-999.0000,9,-999.0000,9,-999.0000,9,-999.0000,9,-999.0000, -999.00
33RR20050106,       P16S,      14,          2,         22,         22,2,20050113,       2356,   -22.5000,  -150.0000,       4180,   847.1,   4.6652,  34.3607,2,  34.3619,2,    182.4,2,   177.6,2,   35.03,2,   32.43,2,    0.00,2,    2.27,2,   0.225,2,   0.119,2,   0.001,2,  2216.8,2,  2299.6,2,-999.000,9,-999.0000,9, -999.00,9, -999.00,9,  -999.0,9,  -999.0,-999.000,9,-999.000,-999.0000,9,   847.1,-999.000,   4.5979,     -999.0,9,     -999.0,9,     -999.0,9,     -999.0,9,     -999.0,9,     -999.0,9,     -999.0,9, -999.00,9,-999.0000,9,-999.0000,9,-999.0000,9,-999.0000,9,-999.0000,9,-999.0000,9,-999.0000, -999.00
33RR20050106,       P16S,      14,          2,         21,         21,2,20050113,       2356,   -22.5000,  -150.0000,       4180,   947.4,   4.2936,  34.4115,2,  34.4148,2,    159.8,2,   158.8,2,   47.95,2,   34.31,2,    0.00,2,    2.43,2,   0.099,2,   0.054,2,   0.001,2,  -999.0,9,  -999.0,9,-999.000,9,-999.0000,9, -999.00,9, -999.00,9,  -999.0,9,  -999.0,-999.000,9,-999.000,-999.0000,9,   947.4,-999.000,   4.2203,     -999.0,9,     -999.0,9,     -999.0,9,     -999.0,9,     -999.0,9,     -999.0,9,     -999.0,9, -999.00,9,-999.0000,9,-999.0000,9,-999.0000,9,-999.0000,9,-999.0000,9,-999.0000,9,-999.0000, -999.00
33RR20050106,       P16S,      14,          2,         20,         20,2,20050113,       2356,   -22.5000,  -150.0000,       4180,  1048.0,   3.8600,  34.4538,2,  34.4556,2,    153.6,2,   153.6,2,   60.29,2,   35.05,2,    0.00,2,    2.48,2,   0.064,2,   0.042,2,   0.001,2,  2245.2,6,  2325.9,2,-999.000,9,-999.0000,9, -999.00,9, -999.00,9,  -999.0,9,  -999.0,-999.000,9,-999.000,-999.0000,9,  1048.0,-999.000,   3.7815,     -999.0,9,     -999.0,9,     -999.0,9,     -999.0,9,     -999.0,9,     -999.0,9,     -999.0,9, -999.00,9,-999.0000,9,-999.0000,9,-999.0000,9,-999.0000,9,-999.0000,9,-999.0000,9,-999.0000, -999.00
33RR20050106,       P16S,      14,          2,         19,         19,2,20050113,       2356,   -22.5000,  -150.0000,       4180,  1148.5,   3.5394,  34.4887,2,  34.4868,2,    151.6,2,   151.9,2,   69.52,2,   35.26,2,    0.00,2,    2.50,2,   0.022,2,   0.018,2,   0.001,2,  -999.0,9,  -999.0,9,-999.000,9,-999.0000,9, -999.00,9, -999.00,9,  -999.0,9,  -999.0,-999.000,9,-999.000,-999.0000,9,  1148.5,-999.000,   3.4553,     -999.0,9,     -999.0,9,     -999.0,9,     -999.0,9,     -999.0,9,     -999.0,9,     -999.0,9, -999.00,9,-999.0000,9,-999.0000,9,-999.0000,9,-999.0000,9,-999.0000,9,-999.0000,9,-999.0000, -999.00
33RR20050106,       P16S,      14,          2,         18,         18,2,20050113,       2356,   -22.5000,  -150.0000,       4180,  1249.3,   3.2478,  34.5146,2,  34.5146,2,    151.3,2,   152.0,2,   77.50,2,   35.31,2,    0.00,2,    2.51,2,   0.055,3,   0.040,2,   0.001,2,  -999.0,9,  -999.0,9,-999.000,9,-999.0000,9, -999.00,9, -999.00,9,  -999.0,9,  -999.0,-999.000,9,-999.000,-999.0000,9,  1249.3,-999.000,   3.1581,     -999.0,9,     -999.0,9,     -999.0,9,     -999.0,9,     -999.0,9,     -999.0,9,     -999.0,9, -999.00,9,-999.0000,9,-999.0000,9,-999.0000,9,-999.0000,9,-999.0000,9,-999.0000,9,-999.0000, -999.00
33RR20050106,       P16S,      14,          2,         17,         17,2,20050113,       2356,   -22.5000,  -150.0000,       4180,  1349.9,   2.9457,  34.5421,2,  34.5423,2,    151.6,2,   152.2,2,   86.13,2,   35.42,2,    0.00,2,    2.52,2,   0.049,3,   0.033,2,   0.001,2,  -999.0,9,  -999.0,9,-999.000,9,-999.0000,9, -999.00,9, -999.00,9,  -999.0,9,  -999.0,-999.000,9,-999.000,-999.0000,9,  1349.9,-999.000,   2.8508,     -999.0,9,     -999.0,9,     -999.0,9,     -999.0,9,     -999.0,9,     -999.0,9,     -999.0,9, -999.00,9,-999.0000,9,-999.0000,9,-999.0000,9,-999.0000,9,-999.0000,9,-999.0000,9,-999.0000, -999.00
33RR20050106,       P16S,      14,          2,         16,         16,2,20050113,       2356,   -22.5000,  -150.0000,       4180,  1450.9,   2.7688,  34.5640,2,  34.5685,2,    150.2,2,   151.0,2,   92.67,2,   35.58,2,    0.00,2,    2.53,2,-999.000,9,-999.000,9,-999.000,9,  -999.0,9,  -999.0,9,-999.000,9,-999.0000,9, -999.00,9, -999.00,9,  -999.0,9,  -999.0,-999.000,9,-999.000,-999.0000,9,  1450.9,-999.000,   2.6676,     -999.0,9,     -999.0,9,     -999.0,9,     -999.0,9,     -999.0,9,     -999.0,9,     -999.0,9, -999.00,9,-999.0000,9,-999.0000,9,-999.0000,9,-999.0000,9,-999.0000,9,-999.0000,9,-999.0000, -999.00
33RR20050106,       P16S,      14,          2,         15,         15,2,20050113,       2356,   -22.5000,  -150.0000,       4180,  1551.3,   2.5876,  34.5844,2,  34.5842,2,    149.9,2,   150.3,2,   99.22,2,   35.68,2,    0.00,2,    2.54,2,   0.014,2,   0.015,2,   0.001,2,  -999.0,9,  -999.0,9,-999.000,9,-999.0000,9, -999.00,9, -999.00,9,  -999.0,9,  -999.0,-999.000,9,-999.000,-999.0000,9,  1551.3,-999.000,   2.4803,     -999.0,9,     -999.0,9,     -999.0,9,     -999.0,9,     -999.0,9,     -999.0,9,     -999.0,9, -999.00,9,-999.0000,9,-999.0000,9,-999.0000,9,-999.0000,9,-999.0000,9,-999.0000,9,-999.0000, -999.00
33RR20050106,       P16S,      14,          2,         14,         14,2,20050113,       2356,   -22.5000,  -150.0000,       4180,  1652.6,   2.4547,  34.5994,2,  34.5983,2,    149.4,2,   149.7,2,  104.07,2,   35.67,2,    0.00,2,    2.54,2,-999.000,9,-999.000,9,-999.000,9,  -999.0,9,  -999.0,9,-999.000,9,-999.0000,9, -999.00,9, -999.00,9,  -999.0,9,  -999.0,-999.000,9,-999.000,-999.0000,9,  1652.6,-999.000,   2.3408,     -999.0,9,     -999.0,9,     -999.0,9,     -999.0,9,     -999.0,9,     -999.0,9,     -999.0,9, -999.00,9,-999.0000,9,-999.0000,9,-999.0000,9,-999.0000,9,-999.0000,9,-999.0000,9,-999.0000, -999.00
33RR20050106,       P16S,      14,          2,         13,         13,2,20050113,       2356,   -22.5000,  -150.0000,       4180,  1753.4,   2.3563,  34.6098,2,  34.6091,2,    149.1,2,   149.6,2,  107.25,2,   35.72,2,    0.00,2,    2.54,2,   0.011,2,   0.012,2,   0.001,2,  -999.0,9,  -999.0,9,-999.000,9,-999.0000,9, -999.00,9, -999.00,9,  -999.0,9,  -999.0,-999.000,9,-999.000,-999.0000,9,  1753.4,-999.000,   2.2353,     -999.0,9,     -999.0,9,     -999.0,9,     -999.0,9,     -999.0,9,     -999.0,9,     -999.0,9, -999.00,9,-999.0000,9,-999.0000,9,-999.0000,9,-999.0000,9,-999.0000,9,-999.0000,9,-999.0000, -999.00
33RR20050106,       P16S,      14,          2,         12,         12,2,20050113,       2356,   -22.5000,  -150.0000,       4180,  1854.3,   2.2664,  34.6196,2,  34.6195,2,    149.1,2,   149.6,2,  111.06,2,   35.72,2,    0.00,2,    2.54,2,-999.000,9,-999.000,9,-999.000,9,  -999.0,9,  -999.0,9,-999.000,9,-999.0000,9, -999.00,9, -999.00,9,  -999.0,9,  -999.0,-999.000,9,-999.000,-999.0000,9,  1854.3,-999.000,   2.1383,     -999.0,9,     -999.0,9,     -999.0,9,     -999.0,9,     -999.0,9,     -999.0,9,     -999.0,9, -999.00,9,-999.0000,9,-999.0000,9,-999.0000,9,-999.0000,9,-999.0000,9,-999.0000,9,-999.0000, -999.00
33RR20050106,       P16S,      14,          2,         11,         11,2,20050113,       2356,   -22.5000,  -150.0000,       4180,  1955.4,   2.2067,  34.6265,2,  34.6256,2,    148.9,2,   149.4,2,  113.18,2,   35.77,2,    0.00,2,    2.55,2,   0.005,2,   0.012,2,   0.001,2,  -999.0,9,  -999.0,9,-999.000,9,-999.0000,9, -999.00,9, -999.00,9,  -999.0,9,  -999.0,-999.000,9,-999.000,-999.0000,9,  1955.4,-999.000,   2.0709,     -999.0,9,     -999.0,9,     -999.0,9,     -999.0,9,     -999.0,9,     -999.0,9,     -999.0,9, -999.00,9,-999.0000,9,-999.0000,9,-999.0000,9,-999.0000,9,-999.0000,9,-999.0000,9,-999.0000, -999.00
33RR20050106,       P16S,      14,          2,         10,         10,2,20050113,       2356,   -22.5000,  -150.0000,       4180,  2117.3,   2.1045,  34.6368,2,  34.6348,2,    149.0,2,   149.3,2,  117.21,2,   35.82,2,    0.00,2,    2.55,2,-999.000,9,-999.000,9,-999.000,9,  -999.0,9,  -999.0,9,-999.000,9,-999.0000,9, -999.00,9, -999.00,9,  -999.0,9,  -999.0,-999.000,9,-999.000,-999.0000,9,  2117.3,-999.000,   1.9564,     -999.0,9,     -999.0,9,     -999.0,9,     -999.0,9,     -999.0,9,     -999.0,9,     -999.0,9, -999.00,9,-999.0000,9,-999.0000,9,-999.0000,9,-999.0000,9,-999.0000,9,-999.0000,9,-999.0000, -999.00
33RR20050106,       P16S,      14,          2,          9,          9,2,20050113,       2356,   -22.5000,  -150.0000,       4180,  2319.4,   1.9761,  34.6487,2,  34.6480,2,    150.3,2,   150.6,2,  121.23,2,   35.76,2,    0.00,2,    2.54,2,   0.002,2,   0.013,2,   0.001,2,  -999.0,9,  -999.0,9,-999.000,9,-999.0000,9, -999.00,9, -999.00,9,  -999.0,9,  -999.0,-999.000,9,-999.000,-999.0000,9,  2319.4,-999.000,   1.8125,     -999.0,9,     -999.0,9,     -999.0,9,     -999.0,9,     -999.0,9,     -999.0,9,     -999.0,9, -999.00,9,-999.0000,9,-999.0000,9,-999.0000,9,-999.0000,9,-999.0000,9,-999.0000,9,-999.0000, -999.00
33RR20050106,       P16S,      14,          2,          8,          8,2,20050113,       2356,   -22.5000,  -150.0000,       4180,  2521.9,   1.8793,  34.6574,2,  34.6568,2,    152.5,2,   153.2,2,  123.99,2,   35.65,2,    0.00,2,    2.53,2,-999.000,9,-999.000,9,-999.000,9,  -999.0,9,  -999.0,9,-999.000,9,-999.0000,9, -999.00,9, -999.00,9,  -999.0,9,  -999.0,-999.000,9,-999.000,-999.0000,9,  2521.9,-999.000,   1.6992,     -999.0,9,     -999.0,9,     -999.0,9,     -999.0,9,     -999.0,9,     -999.0,9,     -999.0,9, -999.00,9,-999.0000,9,-999.0000,9,-999.0000,9,-999.0000,9,-999.0000,9,-999.0000,9,-999.0000, -999.00
33RR20050106,       P16S,      14,          2,          7,          7,2,20050113,       2356,   -22.5000,  -150.0000,       4180,  2775.2,   1.7899,  34.6652,2,  34.6654,2,    157.0,2,   157.4,2,  124.63,2,   35.38,2,    0.00,2,    2.50,2,   0.007,2,   0.012,2,   0.001,2,  -999.0,9,  -999.0,9,-999.000,9,-999.0000,9, -999.00,9, -999.00,9,  -999.0,9,  -999.0,-999.000,9,-999.000,-999.0000,9,  2775.2,-999.000,   1.5882,     -999.0,9,     -999.0,9,     -999.0,9,     -999.0,9,     -999.0,9,     -999.0,9,     -999.0,9, -999.00,9,-999.0000,9,-999.0000,9,-999.0000,9,-999.0000,9,-999.0000,9,-999.0000,9,-999.0000, -999.00