BOTTLE,20201109CCHSIOCBG
EXPOCODE,SECT_ID,STNNBR,CASTNO,SAMPNO,BTLNBR,BTLNBR_FLAG_W,DATE,TIME,LATITUDE,LONGITUDE,DEPTH,CTDPRS,CTDTMP,CTDSAL,CTDSAL_FLAG_W,SALNTY,SALNTY_FLAG_W,CTDOXY,CTDOXY_FLAG_W,OXYGEN,OXYGEN_FLAG_W,SILCAT,SILCAT_FLAG_W,NITRAT,NITRAT_FLAG_W,NITRIT,NITRIT_FLAG_W,PHSPHT,PHSPHT_FLAG_W,CFC-11,CFC-11_FLAG_W,CFC-12,CFC-12_FLAG_W,CFC113,CFC113_FLAG_W,TCARBN,TCARBN_FLAG_W,ALKALI,ALKALI_FLAG_W,TRITUM,TRITUM_FLAG_W,HELIUM,HELIUM_FLAG_W,DELHE3,DELHE3_FLAG_W,DELC13,DELC13_FLAG_W,DELC14,DELC14_FLAG_W,C14ERR,NEON,NEON_FLAG_W,NEONER,DOC,DOC_FLAG_W,CTDRAW,TRITER,THETA,FUCO,FUCO_FLAG_W,RHAM,RHAM_FLAG_W,ARABA,ARABA_FLAG_W,GALA,GALA_FLAG_W,GLUC,GLUC_FLAG_W,MAN,MAN_FLAG_W,DCNS,DCNS_FLAG_W,BRDU,BRDU_FLAG_W,CDOM325,CDOM325_FLAG_W,CDOM340,CDOM340_FLAG_W,CDOM380,CDOM380_FLAG_W,CDOM412,CDOM412_FLAG_W,CDOMSL,CDOMSL_FLAG_W,CDOMSN,CDOMSN_FLAG_W,HELIER,DELHER
,,,,,,,,,,,METERS,DBAR,ITS-90,PSS-78,,PSS-78,,UMOL/KG,,UMOL/KG,,UMOL/KG,,UMOL/KG,,UMOL/KG,,UMOL/KG,,PMOL/KG,,PMOL/KG,,PMOL/KG,,UMOL/KG,,UMOL/KG,,TU,,NMOL/KG,,PERCNT,,/MILLE,,/MILLE,,/MILLE,NMOL/KG,,NMOL/KG,UMOL/KG,,DBAR,TU,DEG C,NMOL/KG,,NMOL/KG,,NMOL/KG,,NMOL/KG,,NMOL/KG,,NMOL/KG,,NMOL/KG,,PMOL/L/H,,1/M,,1/M,,1/M,,1/M,,1/NM,,1/NM,,NMOL/KG,PERCNT
33RR20050106,       P16S,      45,          1,          6,          6,2,20050122,       1825,   -38.0000,  -150.0000,       5414,  4214.4,   1.3040,  34.7151,2,  34.7156,2,    196.2,2,   198.2,2,  114.28,2,   32.03,2,    0.00,2,    2.23,2,   0.000,2,  -0.002,2,   0.002,2,  2268.6,2,  2369.2,2,-999.000,9,-999.0000,9, -999.00,9, -999.00,9,  -999.0,9,  -999.0,-999.000,9,-999.000,-999.0000,9,  4214.4,-999.000,   0.9670,     -999.0,9,     -999.0,9,     -999.0,9,     -999.0,9,     -999.0,9,     -999.0,9,     -999.0,9, -999.00,9,-999.0000,9,-999.0000,9,-999.0000,9,-999.0000,9,-999.0000,9,-999.0000,9,-999.0000, -999.00
33RR20050106,       P16S,      45,          1,          5,          5,2,20050122,       1825,   -38.0000,  -150.0000,       5414,  4572.8,   1.1949,  34.7139,2,  34.7142,2,    200.5,2,   201.4,2,  116.94,2,   32.03,2,    0.00,2,    2.23,2,   0.007,2,   0.010,2,   0.002,2,  2268.7,2,  2369.3,2,-999.000,9,-999.0000,9, -999.00,9, -999.00,9,  -999.0,9,  -999.0,-999.000,9,-999.000,  38.3410,2,  4572.8,-999.000,   0.8208,     -999.0,9,     -999.0,9,     -999.0,9,     -999.0,9,     -999.0,9,     -999.0,9,     -999.0,9, -999.00,9,   0.1140,2,   0.0770,2,   0.0410,2,   0.0290,2,   0.0161,2,   0.0184,2,-999.0000, -999.00
33RR20050106,       P16S,      45,          1,          4,          4,2,20050122,       1825,   -38.0000,  -150.0000,       5414,  4932.3,   1.1471,  34.7117,2,  34.7123,2,    202.7,2,   203.4,2,  118.78,2,   32.04,2,    0.00,2,    2.23,2,   0.001,2,  -0.002,2,   0.002,2,  2269.3,2,  2369.7,2,-999.000,9,-999.0000,9, -999.00,9, -999.00,9,  -999.0,9,  -999.0,-999.000,9,-999.000,-999.0000,9,  4932.3,-999.000,   0.7326,     -999.0,9,     -999.0,9,     -999.0,9,     -999.0,9,     -999.0,9,     -999.0,9,     -999.0,9, -999.00,9,-999.0000,9,-999.0000,9,-999.0000,9,-999.0000,9,-999.0000,9,-999.0000,9,-999.0000, -999.00
33RR20050106,       P16S,      45,          1,          3,          3,2,20050122,       1825,   -38.0000,  -150.0000,       5414,  5138.0,   1.1364,  34.7108,2,  34.7115,2,    203.7,2,   205.3,2,  119.80,2,   32.04,2,    0.00,2,    2.23,2,   0.001,2,  -0.002,2,   0.001,2,  2268.1,2,  2368.4,2,-999.000,9,-999.0000,9, -999.00,9, -999.00,9,  -999.0,9,  -999.0,-999.000,9,-999.000,  38.1261,2,  5138.0,-999.000,   0.6976,     -999.0,9,     -999.0,9,     -999.0,9,     -999.0,9,     -999.0,9,     -999.0,9,     -999.0,9, -999.00,9,   0.1140,2,   0.0770,2,   0.0400,2,   0.0290,2,   0.0161,2,   0.0184,2,-999.0000, -999.00
33RR20050106,       P16S,      45,          1,          2,          2,2,20050122,       1825,   -38.0000,  -150.0000,       5414,  5343.6,   1.1378,  34.7102,2,  34.7113,2,    204.3,2,   205.1,2,  119.80,2,   32.04,2,    0.00,2,    2.23,2,   0.011,2,  -0.002,2,   0.001,2,  2267.4,2,  2368.1,2,-999.000,9,-999.0000,9, -999.00,9, -999.00,9,  -999.0,9,  -999.0,-999.000,9,-999.000,-999.0000,9,  5343.6,-999.000,   0.6737,     -999.0,9,     -999.0,9,     -999.0,9,     -999.0,9,     -999.0,9,     -999.0,9,     -999.0,9, -999.00,9,-999.0000,9,-999.0000,9,-999.0000,9,-999.0000,9,-999.0000,9,-999.0000,9,-999.0000, -999.00
33RR20050106,       P16S,      45,          1,          1,          1,2,20050122,       1825,   -38.0000,  -150.0000,       5414,  5567.9,   1.1590,  34.7096,2,  34.7105,2,    204.4,2,   205.1,2,  120.20,2,   32.09,2,    0.00,2,    2.23,2,   0.045,3,   0.024,3,   0.001,2,  2267.8,6,  2367.4,6,-999.000,9,-999.0000,9, -999.00,9, -999.00,9,  -999.0,9,  -999.0,-999.000,9,-999.000,  38.6757,2,  5567.9,-999.000,   0.6660,     -999.0,9,     -999.0,9,     -999.0,9,     -999.0,9,     -999.0,9,     -999.0,9,     -999.0,9, -999.00,9,   0.1100,2,   0.0740,2,   0.0380,2,   0.0270,2,   0.0174,2,   0.0196,2,-999.0000, -999.00