BOTTLE,20201109CCHSIOCBG
EXPOCODE,SECT_ID,STNNBR,CASTNO,SAMPNO,BTLNBR,BTLNBR_FLAG_W,DATE,TIME,LATITUDE,LONGITUDE,DEPTH,CTDPRS,CTDTMP,CTDSAL,CTDSAL_FLAG_W,SALNTY,SALNTY_FLAG_W,CTDOXY,CTDOXY_FLAG_W,OXYGEN,OXYGEN_FLAG_W,SILCAT,SILCAT_FLAG_W,NITRAT,NITRAT_FLAG_W,NITRIT,NITRIT_FLAG_W,PHSPHT,PHSPHT_FLAG_W,CFC-11,CFC-11_FLAG_W,CFC-12,CFC-12_FLAG_W,CFC113,CFC113_FLAG_W,TCARBN,TCARBN_FLAG_W,ALKALI,ALKALI_FLAG_W,TRITUM,TRITUM_FLAG_W,HELIUM,HELIUM_FLAG_W,DELHE3,DELHE3_FLAG_W,DELC13,DELC13_FLAG_W,DELC14,DELC14_FLAG_W,C14ERR,NEON,NEON_FLAG_W,NEONER,DOC,DOC_FLAG_W,CTDRAW,TRITER,THETA,FUCO,FUCO_FLAG_W,RHAM,RHAM_FLAG_W,ARABA,ARABA_FLAG_W,GALA,GALA_FLAG_W,GLUC,GLUC_FLAG_W,MAN,MAN_FLAG_W,DCNS,DCNS_FLAG_W,BRDU,BRDU_FLAG_W,CDOM325,CDOM325_FLAG_W,CDOM340,CDOM340_FLAG_W,CDOM380,CDOM380_FLAG_W,CDOM412,CDOM412_FLAG_W,CDOMSL,CDOMSL_FLAG_W,CDOMSN,CDOMSN_FLAG_W,HELIER,DELHER
,,,,,,,,,,,METERS,DBAR,ITS-90,PSS-78,,PSS-78,,UMOL/KG,,UMOL/KG,,UMOL/KG,,UMOL/KG,,UMOL/KG,,UMOL/KG,,PMOL/KG,,PMOL/KG,,PMOL/KG,,UMOL/KG,,UMOL/KG,,TU,,NMOL/KG,,PERCNT,,/MILLE,,/MILLE,,/MILLE,NMOL/KG,,NMOL/KG,UMOL/KG,,DBAR,TU,DEG C,NMOL/KG,,NMOL/KG,,NMOL/KG,,NMOL/KG,,NMOL/KG,,NMOL/KG,,NMOL/KG,,PMOL/L/H,,1/M,,1/M,,1/M,,1/M,,1/NM,,1/NM,,NMOL/KG,PERCNT
33RR20050106,       P16S,      17,          2,         36,         36,2,20050114,       2009,   -24.0002,  -149.9973,       4791,     2.7,  26.8779,  35.7571,2,  35.7398,2,    203.3,2,   203.8,2,    0.66,2,    0.02,2,    0.00,2,    0.12,2,   1.742,2,   1.099,2,   0.151,2,  2005.5,6,  2347.2,6,-999.000,9,-999.0000,9, -999.00,9, -999.00,9,  -999.0,9,  -999.0,-999.000,9,-999.000,  66.6840,2,     2.7,-999.000,  26.8773,        365,2,        233,2,        199,2,        633,2,        476,2,        787,2,       2692,2,    0.14,2,   0.0290,2,   0.0190,2,   0.0080,2,   0.0060,2,   0.0444,3,   0.0444,3,-999.0000, -999.00
33RR20050106,       P16S,      17,          2,         35,         35,2,20050114,       2009,   -24.0002,  -149.9973,       4791,    41.5,  25.8019,  35.7249,2,  35.7225,2,    206.7,2,   206.4,2,    0.46,2,    0.02,2,    0.00,2,    0.12,2,-999.000,9,-999.000,9,-999.000,9,  2004.8,2,  2347.5,2,-999.000,9,-999.0000,9, -999.00,9, -999.00,9,  -999.0,9,  -999.0,-999.000,9,-999.000,  68.0005,2,    41.5,-999.000,  25.7927,        361,2,        201,2,        183,2,        643,2,        414,2,        744,2,       2546,2,    0.34,2,-999.0000,9,-999.0000,9,-999.0000,9,-999.0000,9,-999.0000,9,-999.0000,9,-999.0000, -999.00
33RR20050106,       P16S,      17,          2,         34,         34,2,20050114,       2009,   -24.0002,  -149.9973,       4791,    81.6,  22.1439,  35.5988,2,  35.5985,2,    222.0,2,   221.2,2,    0.46,2,    0.02,2,    0.00,2,    0.09,2,   2.067,2,   1.285,2,   0.148,2,  2015.8,2,  2336.2,2,-999.000,9,-999.0000,9, -999.00,9, -999.00,9,  -999.0,9,  -999.0,-999.000,9,-999.000,  65.6663,2,    81.6,-999.000,  22.1277,        341,2,        170,2,         88,2,        551,2,        361,2,        601,2,       2111,2,    0.42,2,   0.0520,2,   0.0390,2,   0.0200,2,   0.0140,2,   0.0186,2,   0.0190,2,-999.0000, -999.00
33RR20050106,       P16S,      17,          2,         33,         33,2,20050114,       2009,   -24.0002,  -149.9973,       4791,    96.2,  21.7422,  35.5926,2,  35.5916,2,    222.5,2,   222.4,2,    0.47,2,    0.02,2,    0.00,2,    0.09,2,   2.100,2,   1.282,2,   0.168,2,  2016.6,2,  2335.7,2,-999.000,9,-999.0000,9, -999.00,9, -999.00,9,  -999.0,9,  -999.0,-999.000,9,-999.000,  66.5035,2,    96.2,-999.000,  21.7233,     -999.0,9,     -999.0,9,     -999.0,9,     -999.0,9,     -999.0,9,     -999.0,9,     -999.0,9,    0.15,2,   0.0500,2,   0.0370,2,   0.0190,2,   0.0140,2,   0.0194,2,   0.0198,2,-999.0000, -999.00
33RR20050106,       P16S,      17,          2,         32,         32,2,20050114,       2009,   -24.0002,  -149.9973,       4791,   126.2,  20.8989,  35.5806,2,  35.5776,2,    219.6,2,   219.6,2,    0.47,2,    0.02,2,    0.00,2,    0.10,2,   2.188,2,   1.359,2,   0.157,2,  2026.5,2,  2333.8,2,-999.000,9,-999.0000,9, -999.00,9, -999.00,9,  -999.0,9,  -999.0,-999.000,9,-999.000,  62.2508,2,   126.2,-999.000,  20.8748,        270,2,        204,2,         83,2,        472,2,        345,2,        613,2,       1986,2,    0.20,2,   0.0790,2,   0.0620,2,   0.0340,2,   0.0250,2,   0.0155,2,   0.0158,2,-999.0000, -999.00
33RR20050106,       P16S,      17,          2,         31,         31,2,20050114,       2009,   -24.0002,  -149.9973,       4791,   146.2,  20.3746,  35.5779,2,  35.5768,2,    222.6,2,   220.8,2,    0.47,2,    0.02,2,    0.00,2,    0.09,2,   2.224,2,   1.396,2,   0.171,2,  2030.9,2,  2332.5,2,-999.000,9,-999.0000,9, -999.00,9, -999.00,9,  -999.0,9,  -999.0,-999.000,9,-999.000,  62.6359,2,   146.2,-999.000,  20.3471,     -999.0,9,     -999.0,9,     -999.0,9,     -999.0,9,     -999.0,9,     -999.0,9,     -999.0,9,    0.24,2,   0.0950,2,   0.0750,2,   0.0450,2,   0.0360,2,   0.0104,2,   0.0117,2,-999.0000, -999.00
33RR20050106,       P16S,      17,          2,         30,         30,2,20050114,       2009,   -24.0002,  -149.9973,       4791,   176.3,  19.8722,  35.5674,2,  35.5681,2,    220.4,2,   221.6,2,    0.48,2,    0.02,2,    0.00,2,    0.09,2,   2.280,2,   1.444,2,   0.159,2,  2035.3,2,  2332.5,2,-999.000,9,-999.0000,9, -999.00,9, -999.00,9,  -999.0,9,  -999.0,-999.000,9,-999.000,  61.4366,2,   176.3,-999.000,  19.8396,        176,2,        120,2,        105,2,        321,2,        219,2,        343,2,       1283,2,    0.26,2,   0.0670,2,   0.0510,2,   0.0290,2,   0.0220,2,   0.0157,2,   0.0162,2,-999.0000, -999.00
33RR20050106,       P16S,      17,          2,         29,         29,2,20050114,       2009,   -24.0002,  -149.9973,       4791,   226.1,  18.7970,  35.5309,2,  35.5311,2,    204.8,2,   208.2,2,    0.68,2,    1.09,2,    0.06,2,    0.20,2,   2.370,2,   1.443,2,   0.089,2,  2055.9,2,  2329.0,2,-999.000,9,-999.0000,9, -999.00,9, -999.00,9,  -999.0,9,  -999.0,-999.000,9,-999.000,  55.1796,2,   226.1,-999.000,  18.7568,     -999.0,9,     -999.0,9,     -999.0,9,     -999.0,9,     -999.0,9,     -999.0,9,     -999.0,9,    0.15,2,   0.0870,2,   0.0660,2,   0.0360,2,   0.0280,2,   0.0141,2,   0.0154,2,-999.0000, -999.00
33RR20050106,       P16S,      17,          2,         28,         28,2,20050114,       2009,   -24.0002,  -149.9973,       4791,   276.4,  17.1350,  35.4115,2,  35.4044,2,    204.3,2,   203.1,2,    0.89,2,    2.92,2,    0.01,2,    0.32,2,   2.548,2,   1.466,2,   0.039,2,  2072.4,2,  2321.5,2,-999.000,9,-999.0000,9, -999.00,9, -999.00,9,  -999.0,9,  -999.0,-999.000,9,-999.000,  54.3627,2,   276.4,-999.000,  17.0889,         70,2,         56,2,         50,2,        115,2,        177,3,        151,2,        620,3, -999.00,9,   0.0930,2,   0.0730,2,   0.0430,2,   0.0330,2,   0.0120,2,   0.0130,2,-999.0000, -999.00
33RR20050106,       P16S,      17,          2,         27,         27,2,20050114,       2009,   -24.0002,  -149.9973,       4791,   326.3,  15.7449,  35.2659,2,  35.2673,2,    201.3,2,   200.5,2,    1.30,2,    4.91,2,    0.00,2,    0.46,2,   2.554,2,   1.492,2,   0.019,2,  2085.0,2,  2313.9,2,-999.000,9,-999.0000,9, -999.00,9, -999.00,9,  -999.0,9,  -999.0,-999.000,9,-999.000,  46.6151,2,   326.3,-999.000,  15.6935,     -999.0,9,     -999.0,9,     -999.0,9,     -999.0,9,     -999.0,9,     -999.0,9,     -999.0,9, -999.00,9,   0.0820,2,   0.0640,2,   0.0380,2,   0.0300,2,   0.0120,2,   0.0132,2,-999.0000, -999.00
33RR20050106,       P16S,      17,          2,         26,         26,2,20050114,       2009,   -24.0002,  -149.9973,       4791,   376.4,  14.0730,  35.0561,2,  35.0557,2,    195.2,2,   195.9,2,    2.12,2,    8.45,2,    0.00,2,    0.69,2,   2.491,2,   1.390,2,   0.017,2,  2098.6,2,  2304.1,2,-999.000,9,-999.0000,9, -999.00,9, -999.00,9,  -999.0,9,  -999.0,-999.000,9,-999.000,  45.3976,2,   376.4,-999.000,  14.0180,     -999.0,9,     -999.0,9,     -999.0,9,     -999.0,9,     -999.0,9,     -999.0,9,     -999.0,9, -999.00,9,   0.0850,2,   0.0660,2,   0.0400,2,   0.0320,2,   0.0113,2,   0.0125,2,-999.0000, -999.00
33RR20050106,       P16S,      17,          2,         25,         25,2,20050114,       2009,   -24.0002,  -149.9973,       4791,   426.8,  11.6558,  34.7899,2,  34.7789,2,    198.9,2,   200.6,2,    3.36,2,   13.22,2,    0.00,2,    0.99,2,   2.468,2,   1.327,2,   0.032,2,  2114.7,2,  2291.7,2,-999.000,9,-999.0000,9, -999.00,9, -999.00,9,  -999.0,9,  -999.0,-999.000,9,-999.000,-999.0000,9,   426.8,-999.000,  11.6008,     -999.0,9,     -999.0,9,     -999.0,9,     -999.0,9,     -999.0,9,     -999.0,9,     -999.0,9, -999.00,9,-999.0000,9,-999.0000,9,-999.0000,9,-999.0000,9,-999.0000,9,-999.0000,9,-999.0000, -999.00
33RR20050106,       P16S,      17,          2,         24,         24,2,20050114,       2009,   -24.0002,  -149.9973,       4791,   476.6,   9.7373,  34.5980,2,  34.5968,2,    207.1,2,   209.4,2,    4.39,2,   16.77,2,    0.00,2,    1.21,2,   2.492,2,   1.320,2,   0.052,2,  2126.1,2,  2283.9,2,-999.000,9,-999.0000,9, -999.00,9, -999.00,9,  -999.0,9,  -999.0,-999.000,9,-999.000,  41.2167,2,   476.6,-999.000,   9.6824,     -999.0,9,     -999.0,9,     -999.0,9,     -999.0,9,     -999.0,9,     -999.0,9,     -999.0,9, -999.00,9,   0.0920,2,   0.0700,2,   0.0430,2,   0.0340,2,   0.0109,2,   0.0122,2,-999.0000, -999.00
33RR20050106,       P16S,      17,          2,         23,         23,2,20050114,       2009,   -24.0002,  -149.9973,       4791,   527.0,   8.2530,  34.4658,2,  34.4695,2,    215.9,2,   217.6,2,    5.83,2,   19.83,2,    0.00,2,    1.40,2,   2.423,6,   1.245,6,   0.052,6,  2135.1,2,  2279.2,2,-999.000,9,-999.0000,9, -999.00,9, -999.00,9,  -999.0,9,  -999.0,-999.000,9,-999.000,  43.5930,2,   527.0,-999.000,   8.1980,     -999.0,9,     -999.0,9,     -999.0,9,     -999.0,9,     -999.0,9,     -999.0,9,     -999.0,9, -999.00,9,   0.0880,2,   0.0660,2,   0.0400,2,   0.0320,2,   0.0116,2,   0.0130,2,-999.0000, -999.00
33RR20050106,       P16S,      17,          2,         22,         22,2,20050114,       2009,   -24.0002,  -149.9973,       4791,   647.4,   6.3478,  34.3384,2,  34.3367,2,    230.2,2,   231.5,2,    9.52,2,   24.14,2,    0.00,2,    1.67,2,   1.676,2,   0.823,2,   0.034,2,  2147.5,6,  2279.5,2,-999.000,9,-999.0000,9, -999.00,9, -999.00,9,  -999.0,9,  -999.0,-999.000,9,-999.000,  43.2064,2,   647.4,-999.000,   6.2890,     -999.0,9,     -999.0,9,     -999.0,9,     -999.0,9,     -999.0,9,     -999.0,9,     -999.0,9, -999.00,9,   0.0850,2,   0.0630,2,   0.0400,2,   0.0310,2,   0.0112,2,   0.0125,2,-999.0000, -999.00
33RR20050106,       P16S,      17,          2,         21,         21,2,20050114,       2009,   -24.0002,  -149.9973,       4791,   747.5,   5.7559,  34.3201,2,  34.3212,2,    223.2,2,   219.4,2,   14.45,2,   26.60,2,    0.00,2,    1.84,2,   1.037,2,   0.542,2,   0.017,2,  2159.3,2,  2282.5,2,-999.000,9,-999.0000,9, -999.00,9, -999.00,9,  -999.0,9,  -999.0,-999.000,9,-999.000,  40.1683,2,   747.5,-999.000,   5.6909,     -999.0,9,     -999.0,9,     -999.0,9,     -999.0,9,     -999.0,9,     -999.0,9,     -999.0,9, -999.00,9,   0.0930,2,   0.0680,2,   0.0420,2,   0.0330,2,   0.0112,2,   0.0128,2,-999.0000, -999.00
33RR20050106,       P16S,      17,          2,         20,         20,2,20050114,       2009,   -24.0002,  -149.9973,       4791,   847.9,   5.2339,  34.3275,2,  34.3265,2,    196.1,2,   197.9,2,   22.69,2,   29.63,2,    0.00,2,    2.06,2,-999.000,9,-999.000,9,-999.000,9,  2180.8,2,  2288.5,2,-999.000,9,-999.0000,9, -999.00,9, -999.00,9,  -999.0,9,  -999.0,-999.000,9,-999.000,  38.2352,2,   847.9,-999.000,   5.1629,     -999.0,9,     -999.0,9,     -999.0,9,     -999.0,9,     -999.0,9,     -999.0,9,     -999.0,9, -999.00,9,   0.0990,2,   0.0730,2,   0.0450,2,   0.0360,2,   0.0109,2,   0.0124,2,-999.0000, -999.00
33RR20050106,       P16S,      17,          2,         19,         19,2,20050114,       2009,   -24.0002,  -149.9973,       4791,   948.6,   4.6818,  34.3647,2,  34.3629,2,    172.2,2,   173.7,2,   35.29,2,   32.52,2,    0.00,2,    2.27,2,   0.211,2,   0.113,2,   0.001,2,  2207.8,2,  2300.1,2,-999.000,9,-999.0000,9, -999.00,9, -999.00,9,  -999.0,9,  -999.0,-999.000,9,-999.000,  38.5917,2,   948.6,-999.000,   4.6056,     -999.0,9,     -999.0,9,     -999.0,9,     -999.0,9,     -999.0,9,     -999.0,9,     -999.0,9, -999.00,9,   0.1080,2,   0.0790,2,   0.0490,2,   0.0380,2,   0.0109,2,   0.0124,2,-999.0000, -999.00
33RR20050106,       P16S,      17,          2,         18,         18,2,20050114,       2009,   -24.0002,  -149.9973,       4791,  1049.2,   4.1195,  34.4092,2,  34.4103,2,    161.1,2,   161.4,2,   49.40,2,   34.10,2,    0.00,2,    2.40,2,-999.000,9,-999.000,9,-999.000,9,  2229.6,2,  2316.1,6,-999.000,9,-999.0000,9, -999.00,9, -999.00,9,  -999.0,9,  -999.0,-999.000,9,-999.000,-999.0000,9,  1049.2,-999.000,   4.0389,     -999.0,9,     -999.0,9,     -999.0,9,     -999.0,9,     -999.0,9,     -999.0,9,     -999.0,9, -999.00,9,-999.0000,9,-999.0000,9,-999.0000,9,-999.0000,9,-999.0000,9,-999.0000,9,-999.0000, -999.00
33RR20050106,       P16S,      17,          2,         17,         17,2,20050114,       2009,   -24.0002,  -149.9973,       4791,  1149.5,   3.5837,  34.4559,2,  34.4546,2,    158.7,2,   159.0,2,   61.89,2,   34.63,2,    0.00,2,    2.43,2,   0.045,2,   0.031,2,   0.001,2,  2244.6,2,  2329.2,2,-999.000,9,-999.0000,9, -999.00,9, -999.00,9,  -999.0,9,  -999.0,-999.000,9,-999.000,-999.0000,9,  1149.5,-999.000,   3.4992,     -999.0,9,     -999.0,9,     -999.0,9,     -999.0,9,     -999.0,9,     -999.0,9,     -999.0,9, -999.00,9,-999.0000,9,-999.0000,9,-999.0000,9,-999.0000,9,-999.0000,9,-999.0000,9,-999.0000, -999.00
33RR20050106,       P16S,      17,          2,         16,         16,2,20050114,       2009,   -24.0002,  -149.9973,       4791,  1250.3,   3.2305,  34.4952,2,  34.4952,2,    158.3,2,   157.3,2,   72.54,2,   34.84,2,    0.00,2,    2.46,2,-999.000,9,-999.000,9,-999.000,9,  2256.8,2,  2341.2,2,-999.000,9,-999.0000,9, -999.00,9, -999.00,9,  -999.0,9,  -999.0,-999.000,9,-999.000,-999.0000,9,  1250.3,-999.000,   3.1409,     -999.0,9,     -999.0,9,     -999.0,9,     -999.0,9,     -999.0,9,     -999.0,9,     -999.0,9, -999.00,9,   0.1250,2,   0.0940,2,   0.0550,2,   0.0420,2,   0.0118,2,   0.0131,2,-999.0000, -999.00
33RR20050106,       P16S,      17,          2,         15,         15,2,20050114,       2009,   -24.0002,  -149.9973,       4791,  1351.3,   2.9385,  34.5290,2,  34.5269,2,    156.1,2,   156.2,2,   81.96,2,   34.95,2,    0.00,2,    2.47,2,   0.008,2,   0.005,2,   0.001,2,  2266.1,2,  2351.3,2,-999.000,9,-999.0000,9, -999.00,9, -999.00,9,  -999.0,9,  -999.0,-999.000,9,-999.000,  37.1712,2,  1351.3,-999.000,   2.8436,     -999.0,9,     -999.0,9,     -999.0,9,     -999.0,9,     -999.0,9,     -999.0,9,     -999.0,9, -999.00,9,-999.0000,9,-999.0000,9,-999.0000,9,-999.0000,9,-999.0000,9,-999.0000,9,-999.0000, -999.00
33RR20050106,       P16S,      17,          2,         14,         14,2,20050114,       2009,   -24.0002,  -149.9973,       4791,  1451.6,   2.6637,  34.5617,2,  34.5600,2,    155.6,2,   155.2,2,   91.39,2,   35.10,2,    0.00,2,    2.48,2,-999.000,9,-999.000,9,-999.000,9,  2276.3,2,  2361.3,2,-999.000,9,-999.0000,9, -999.00,9, -999.00,9,  -999.0,9,  -999.0,-999.000,9,-999.000,-999.0000,9,  1451.6,-999.000,   2.5637,     -999.0,9,     -999.0,9,     -999.0,9,     -999.0,9,     -999.0,9,     -999.0,9,     -999.0,9, -999.00,9,-999.0000,9,-999.0000,9,-999.0000,9,-999.0000,9,-999.0000,9,-999.0000,9,-999.0000, -999.00
33RR20050106,       P16S,      17,          2,         13,         13,2,20050114,       2009,   -24.0002,  -149.9973,       4791,  1552.6,   2.5232,  34.5800,2,  34.5795,2,    154.2,2,   153.9,2,   97.07,2,   35.20,2,    0.00,2,    2.48,2,   0.007,2,   0.001,2,   0.001,2,  2282.7,2,  2366.4,2,-999.000,9,-999.0000,9, -999.00,9, -999.00,9,  -999.0,9,  -999.0,-999.000,9,-999.000,-999.0000,9,  1552.6,-999.000,   2.4166,     -999.0,9,     -999.0,9,     -999.0,9,     -999.0,9,     -999.0,9,     -999.0,9,     -999.0,9, -999.00,9,-999.0000,9,-999.0000,9,-999.0000,9,-999.0000,9,-999.0000,9,-999.0000,9,-999.0000, -999.00
33RR20050106,       P16S,      17,          2,         12,         12,2,20050114,       2009,   -24.0002,  -149.9973,       4791,  1754.5,   2.2858,  34.6097,2,  34.6089,2,    152.3,2,   152.5,2,  106.31,2,   35.31,2,    0.00,2,    2.49,2,-999.000,9,-999.000,9,-999.000,9,  2293.0,2,  2379.3,2,-999.000,9,-999.0000,9, -999.00,9, -999.00,9,  -999.0,9,  -999.0,-999.000,9,-999.000,  36.8382,2,  1754.5,-999.000,   2.1657,     -999.0,9,     -999.0,9,     -999.0,9,     -999.0,9,     -999.0,9,     -999.0,9,     -999.0,9, -999.00,9,   0.1260,2,   0.0930,2,   0.0570,2,   0.0430,2,   0.0114,2,   0.0127,2,-999.0000, -999.00
33RR20050106,       P16S,      17,          2,         11,         11,2,20050114,       2009,   -24.0002,  -149.9973,       4791,  1956.4,   2.0879,  34.6344,2,  34.6330,2,    150.4,2,   150.9,2,  115.16,2,   35.46,2,    0.00,2,    2.51,2,   0.012,2,   0.019,3,   0.001,2,  2302.5,2,  2385.9,2,-999.000,9,-999.0000,9, -999.00,9, -999.00,9,  -999.0,9,  -999.0,-999.000,9,-999.000,-999.0000,9,  1956.4,-999.000,   1.9538,     -999.0,9,     -999.0,9,     -999.0,9,     -999.0,9,     -999.0,9,     -999.0,9,     -999.0,9, -999.00,9,-999.0000,9,-999.0000,9,-999.0000,9,-999.0000,9,-999.0000,9,-999.0000,9,-999.0000, -999.00
33RR20050106,       P16S,      17,          2,         10,         10,2,20050114,       2009,   -24.0002,  -149.9973,       4791,  2118.4,   1.9981,  34.6444,2,  34.6442,2,    150.1,2,   151.0,2,  118.74,2,   35.46,2,    0.00,2,    2.50,2,-999.000,9,-999.000,9,-999.000,9,  2305.1,2,  2393.1,2,-999.000,9,-999.0000,9, -999.00,9, -999.00,9,  -999.0,9,  -999.0,-999.000,9,-999.000,-999.0000,9,  2118.4,-999.000,   1.8516,     -999.0,9,     -999.0,9,     -999.0,9,     -999.0,9,     -999.0,9,     -999.0,9,     -999.0,9, -999.00,9,-999.0000,9,-999.0000,9,-999.0000,9,-999.0000,9,-999.0000,9,-999.0000,9,-999.0000, -999.00
33RR20050106,       P16S,      17,          2,          9,          9,2,20050114,       2009,   -24.0002,  -149.9973,       4791,  2371.6,   1.8916,  34.6551,2,  34.6543,2,    152.0,2,   152.7,2,  122.10,2,   35.31,2,    0.00,2,    2.50,2,   0.001,2,   0.004,2,   0.001,2,  2308.1,2,  2394.8,2,-999.000,9,-999.0000,9, -999.00,9, -999.00,9,  -999.0,9,  -999.0,-999.000,9,-999.000,  37.0801,2,  2371.6,-999.000,   1.7248,     -999.0,9,     -999.0,9,     -999.0,9,     -999.0,9,     -999.0,9,     -999.0,9,     -999.0,9, -999.00,9,   0.1300,2,   0.0950,2,   0.0580,2,   0.0420,2,   0.0119,2,   0.0132,2,-999.0000, -999.00
33RR20050106,       P16S,      17,          2,          8,          8,2,20050114,       2009,   -24.0002,  -149.9973,       4791,  2624.3,   1.7938,  34.6645,2,  34.6630,2,    154.4,2,   155.0,2,  124.64,2,   35.26,2,    0.00,2,    2.49,2,-999.000,9,-999.000,9,-999.000,9,  2308.9,2,  2396.6,2,-999.000,9,-999.0000,9, -999.00,9, -999.00,9,  -999.0,9,  -999.0,-999.000,9,-999.000,-999.0000,9,  2624.3,-999.000,   1.6060,     -999.0,9,     -999.0,9,     -999.0,9,     -999.0,9,     -999.0,9,     -999.0,9,     -999.0,9, -999.00,9,-999.0000,9,-999.0000,9,-999.0000,9,-999.0000,9,-999.0000,9,-999.0000,9,-999.0000, -999.00
33RR20050106,       P16S,      17,          2,          7,          7,2,20050114,       2009,   -24.0002,  -149.9973,       4791,  2877.9,   1.7141,  34.6718,2,  34.6720,2,    157.0,2,   158.0,2,  126.12,2,   35.09,2,    0.00,2,    2.48,2,-999.000,9,-999.000,9,-999.000,9,  2308.7,2,  2394.6,2,-999.000,9,-999.0000,9, -999.00,9, -999.00,9,  -999.0,9,  -999.0,-999.000,9,-999.000,  37.1868,2,  2877.9,-999.000,   1.5042,     -999.0,9,     -999.0,9,     -999.0,9,     -999.0,9,     -999.0,9,     -999.0,9,     -999.0,9, -999.00,9,   0.1300,2,   0.0960,2,   0.0590,2,   0.0440,2,   0.0117,2,   0.0129,2,-999.0000, -999.00