BOTTLE,20201109CCHSIOCBG
EXPOCODE,SECT_ID,STNNBR,CASTNO,SAMPNO,BTLNBR,BTLNBR_FLAG_W,DATE,TIME,LATITUDE,LONGITUDE,DEPTH,CTDPRS,CTDTMP,CTDSAL,CTDSAL_FLAG_W,SALNTY,SALNTY_FLAG_W,CTDOXY,CTDOXY_FLAG_W,OXYGEN,OXYGEN_FLAG_W,SILCAT,SILCAT_FLAG_W,NITRAT,NITRAT_FLAG_W,NITRIT,NITRIT_FLAG_W,PHSPHT,PHSPHT_FLAG_W,CFC-11,CFC-11_FLAG_W,CFC-12,CFC-12_FLAG_W,CFC113,CFC113_FLAG_W,TCARBN,TCARBN_FLAG_W,ALKALI,ALKALI_FLAG_W,TRITUM,TRITUM_FLAG_W,HELIUM,HELIUM_FLAG_W,DELHE3,DELHE3_FLAG_W,DELC13,DELC13_FLAG_W,DELC14,DELC14_FLAG_W,C14ERR,NEON,NEON_FLAG_W,NEONER,DOC,DOC_FLAG_W,CTDRAW,TRITER,THETA,FUCO,FUCO_FLAG_W,RHAM,RHAM_FLAG_W,ARABA,ARABA_FLAG_W,GALA,GALA_FLAG_W,GLUC,GLUC_FLAG_W,MAN,MAN_FLAG_W,DCNS,DCNS_FLAG_W,BRDU,BRDU_FLAG_W,CDOM325,CDOM325_FLAG_W,CDOM340,CDOM340_FLAG_W,CDOM380,CDOM380_FLAG_W,CDOM412,CDOM412_FLAG_W,CDOMSL,CDOMSL_FLAG_W,CDOMSN,CDOMSN_FLAG_W,HELIER,DELHER
,,,,,,,,,,,METERS,DBAR,ITS-90,PSS-78,,PSS-78,,UMOL/KG,,UMOL/KG,,UMOL/KG,,UMOL/KG,,UMOL/KG,,UMOL/KG,,PMOL/KG,,PMOL/KG,,PMOL/KG,,UMOL/KG,,UMOL/KG,,TU,,NMOL/KG,,PERCNT,,/MILLE,,/MILLE,,/MILLE,NMOL/KG,,NMOL/KG,UMOL/KG,,DBAR,TU,DEG C,NMOL/KG,,NMOL/KG,,NMOL/KG,,NMOL/KG,,NMOL/KG,,NMOL/KG,,NMOL/KG,,PMOL/L/H,,1/M,,1/M,,1/M,,1/M,,1/NM,,1/NM,,NMOL/KG,PERCNT
33RR20050106,       P16S,      17,          2,          6,          6,2,20050114,       2009,   -24.0002,  -149.9973,       4791,  3131.8,   1.6227,  34.6790,2,  34.6776,2,    163.6,2,   165.4,2,  124.43,2,   34.56,2,    0.00,2,    2.44,2,-999.000,9,-999.000,9,-999.000,9,  2302.9,2,  2394.6,2,-999.000,9,-999.0000,9, -999.00,9, -999.00,9,  -999.0,9,  -999.0,-999.000,9,-999.000,-999.0000,9,  3131.8,-999.000,   1.3904,     -999.0,9,     -999.0,9,     -999.0,9,     -999.0,9,     -999.0,9,     -999.0,9,     -999.0,9, -999.00,9,-999.0000,9,-999.0000,9,-999.0000,9,-999.0000,9,-999.0000,9,-999.0000,9,-999.0000, -999.00
33RR20050106,       P16S,      17,          2,          5,          5,2,20050114,       2009,   -24.0002,  -149.9973,       4791,  3538.5,   1.5283,  34.6874,2,  34.6859,2,    172.8,2,   173.4,2,  122.76,2,   33.93,2,    0.00,2,    2.39,2,   0.001,2,   0.003,2,   0.001,2,  2295.1,2,  2389.8,2,-999.000,9,-999.0000,9, -999.00,9, -999.00,9,  -999.0,9,  -999.0,-999.000,9,-999.000,  37.6400,2,  3538.5,-999.000,   1.2574,     -999.0,9,     -999.0,9,     -999.0,9,     -999.0,9,     -999.0,9,     -999.0,9,     -999.0,9, -999.00,9,   0.1270,2,   0.0940,2,   0.0570,2,   0.0410,2,   0.0120,2,   0.0132,2,-999.0000, -999.00
33RR20050106,       P16S,      17,          2,          4,          4,2,20050114,       2009,   -24.0002,  -149.9973,       4791,  3945.9,   1.4752,  34.6932,2,  34.6931,2,    178.3,2,   179.0,2,  121.91,2,   33.61,2,    0.00,2,    2.36,2,-999.000,9,-999.000,9,-999.000,9,  2289.9,2,  2386.3,2,-999.000,9,-999.0000,9, -999.00,9, -999.00,9,  -999.0,9,  -999.0,-999.000,9,-999.000,-999.0000,9,  3945.9,-999.000,   1.1627,     -999.0,9,     -999.0,9,     -999.0,9,     -999.0,9,     -999.0,9,     -999.0,9,     -999.0,9, -999.00,9,-999.0000,9,-999.0000,9,-999.0000,9,-999.0000,9,-999.0000,9,-999.0000,9,-999.0000, -999.00
33RR20050106,       P16S,      17,          2,          3,          3,2,20050114,       2009,   -24.0002,  -149.9973,       4791,  4354.2,   1.4233,  34.6986,2,  34.6978,2,    183.9,2,   184.9,2,  120.85,2,   33.24,2,    0.00,2,    2.32,2,-999.000,9,-999.000,9,-999.000,9,  2284.6,2,  2381.8,2,-999.000,9,-999.0000,9, -999.00,9, -999.00,9,  -999.0,9,  -999.0,-999.000,9,-999.000,  38.2691,2,  4354.2,-999.000,   1.0672,     -999.0,9,     -999.0,9,     -999.0,9,     -999.0,9,     -999.0,9,     -999.0,9,     -999.0,9, -999.00,9,   0.1300,2,   0.0960,2,   0.0570,2,   0.0430,2,   0.0118,2,   0.0131,2,-999.0000, -999.00
33RR20050106,       P16S,      17,          2,          2,          2,2,20050114,       2009,   -24.0002,  -149.9973,       4791,  4763.2,   1.3882,  34.7029,2,  34.7021,2,    189.0,2,   189.5,2,  120.01,2,   32.87,2,    0.00,2,    2.30,2,-999.000,9,-999.000,9,-999.000,9,  2280.0,2,  2378.9,2,-999.000,9,-999.0000,9, -999.00,9, -999.00,9,  -999.0,9,  -999.0,-999.000,9,-999.000,-999.0000,9,  4763.2,-999.000,   0.9859,     -999.0,9,     -999.0,9,     -999.0,9,     -999.0,9,     -999.0,9,     -999.0,9,     -999.0,9, -999.00,9,-999.0000,9,-999.0000,9,-999.0000,9,-999.0000,9,-999.0000,9,-999.0000,9,-999.0000, -999.00
33RR20050106,       P16S,      17,          2,          1,          1,2,20050114,       2009,   -24.0002,  -149.9973,       4791,  5039.2,   1.4047,  34.7039,2,  34.7055,2,    190.0,2,   190.9,2,  119.59,2,   32.82,2,    0.00,2,    2.29,2,   0.005,2,   0.005,2,   0.001,2,  2278.9,6,  2378.5,6,-999.000,9,-999.0000,9, -999.00,9, -999.00,9,  -999.0,9,  -999.0,-999.000,9,-999.000,  38.8024,2,  5039.2,-999.000,   0.9687,     -999.0,9,     -999.0,9,     -999.0,9,     -999.0,9,     -999.0,9,     -999.0,9,     -999.0,9, -999.00,9,   0.1360,2,   0.1000,2,   0.0600,2,   0.0450,2,   0.0118,2,   0.0131,2,-999.0000, -999.00