BOTTLE,20201109CCHSIOCBG
EXPOCODE,SECT_ID,STNNBR,CASTNO,SAMPNO,BTLNBR,BTLNBR_FLAG_W,DATE,TIME,LATITUDE,LONGITUDE,DEPTH,CTDPRS,CTDTMP,CTDSAL,CTDSAL_FLAG_W,SALNTY,SALNTY_FLAG_W,CTDOXY,CTDOXY_FLAG_W,OXYGEN,OXYGEN_FLAG_W,SILCAT,SILCAT_FLAG_W,NITRAT,NITRAT_FLAG_W,NITRIT,NITRIT_FLAG_W,PHSPHT,PHSPHT_FLAG_W,CFC-11,CFC-11_FLAG_W,CFC-12,CFC-12_FLAG_W,CFC113,CFC113_FLAG_W,TCARBN,TCARBN_FLAG_W,ALKALI,ALKALI_FLAG_W,TRITUM,TRITUM_FLAG_W,HELIUM,HELIUM_FLAG_W,DELHE3,DELHE3_FLAG_W,DELC13,DELC13_FLAG_W,DELC14,DELC14_FLAG_W,C14ERR,NEON,NEON_FLAG_W,NEONER,DOC,DOC_FLAG_W,CTDRAW,TRITER,THETA,FUCO,FUCO_FLAG_W,RHAM,RHAM_FLAG_W,ARABA,ARABA_FLAG_W,GALA,GALA_FLAG_W,GLUC,GLUC_FLAG_W,MAN,MAN_FLAG_W,DCNS,DCNS_FLAG_W,BRDU,BRDU_FLAG_W,CDOM325,CDOM325_FLAG_W,CDOM340,CDOM340_FLAG_W,CDOM380,CDOM380_FLAG_W,CDOM412,CDOM412_FLAG_W,CDOMSL,CDOMSL_FLAG_W,CDOMSN,CDOMSN_FLAG_W,HELIER,DELHER
,,,,,,,,,,,METERS,DBAR,ITS-90,PSS-78,,PSS-78,,UMOL/KG,,UMOL/KG,,UMOL/KG,,UMOL/KG,,UMOL/KG,,UMOL/KG,,PMOL/KG,,PMOL/KG,,PMOL/KG,,UMOL/KG,,UMOL/KG,,TU,,NMOL/KG,,PERCNT,,/MILLE,,/MILLE,,/MILLE,NMOL/KG,,NMOL/KG,UMOL/KG,,DBAR,TU,DEG C,NMOL/KG,,NMOL/KG,,NMOL/KG,,NMOL/KG,,NMOL/KG,,NMOL/KG,,NMOL/KG,,PMOL/L/H,,1/M,,1/M,,1/M,,1/M,,1/NM,,1/NM,,NMOL/KG,PERCNT
33RR20050106,       P16S,      73,          1,          6,          6,2,20050131,       1725,   -52.0005,  -150.0017,       4475,  3299.8,   1.4391,  34.7300,2,  34.7307,2,    198.6,2,   199.1,2,  105.08,2,   31.32,2,    0.00,2,    2.17,2,-999.000,9,-999.000,9,-999.000,9,  2259.4,6,  2358.6,2,-999.000,9,-999.0000,9, -999.00,9, -999.00,9,  -999.0,9,  -999.0,-999.000,9,-999.000,-999.0000,9,  3299.8,-999.000,   1.1943,     -999.0,9,     -999.0,9,     -999.0,9,     -999.0,9,     -999.0,9,     -999.0,9,     -999.0,9, -999.00,9,-999.0000,9,-999.0000,9,-999.0000,9,-999.0000,9,-999.0000,9,-999.0000,9,-999.0000, -999.00
33RR20050106,       P16S,      73,          1,          5,          5,2,20050131,       1725,   -52.0005,  -150.0017,       4475,  3555.6,   1.2521,  34.7229,2,  34.7222,2,    201.3,2,   201.5,2,  111.37,2,   31.60,2,    0.00,2,    2.19,2,   0.032,2,   0.014,2,  -0.002,2,  2261.3,2,  2361.6,2,   0.001,2,   1.9850,2,    9.88,2, -999.00,9,  -999.0,9,  -999.0,   8.502,2,   0.016,  42.5206,3,  3555.6,   0.006,   0.9863,     -999.0,9,     -999.0,9,     -999.0,9,     -999.0,9,     -999.0,9,     -999.0,9,     -999.0,9, -999.00,9,   0.1260,2,   0.0870,2,   0.0470,2,   0.0340,2,   0.0142,2,   0.0166,2,   0.0010,    0.21
33RR20050106,       P16S,      73,          1,          4,          4,2,20050131,       1725,   -52.0005,  -150.0017,       4475,  3811.1,   1.1253,  34.7174,2,  34.7164,2,    203.1,2,   204.0,2,  116.65,2,   31.76,2,    0.00,2,    2.21,2,   0.052,2,   0.027,2,  -0.002,2,  2261.9,2,  2363.5,2,   0.001,2,   1.9800,2,    9.61,2, -999.00,9,  -999.0,9,  -999.0,   8.544,2,   0.017,-999.0000,9,  3811.1,   0.004,   0.8366,     -999.0,9,     -999.0,9,     -999.0,9,     -999.0,9,     -999.0,9,     -999.0,9,     -999.0,9, -999.00,9,-999.0000,9,-999.0000,9,-999.0000,9,-999.0000,9,-999.0000,9,-999.0000,9,   0.0020,    0.20
33RR20050106,       P16S,      73,          1,          3,          3,2,20050131,       1725,   -52.0005,  -150.0017,       4475,  4066.8,   1.0905,  34.7153,2,  34.7146,2,    203.8,2,   205.0,2,  118.86,2,   31.91,2,    0.00,2,    2.21,2,   0.058,2,   0.027,2,  -0.002,2,  2263.2,2,  2364.2,2,   0.001,2,   1.9280,2,    9.85,2, -999.00,9,  -999.0,9,  -999.0,   8.380,2,   0.017,  40.4537,2,  4066.8,   0.008,   0.7758,     -999.0,9,     -999.0,9,     -999.0,9,     -999.0,9,     -999.0,9,     -999.0,9,     -999.0,9, -999.00,9,   0.1240,2,   0.0850,2,   0.0460,2,   0.0340,2,   0.0144,2,   0.0168,2,   0.0010,    0.20
33RR20050106,       P16S,      73,          1,          2,          2,2,20050131,       1725,   -52.0005,  -150.0017,       4475,  4323.4,   1.0897,  34.7141,2,  34.7138,2,    204.3,2,   205.0,2,  120.27,2,   31.91,2,    0.00,2,    2.21,2,   0.079,2,   0.041,2,  -0.002,2,  2260.4,2,  2365.5,6,-999.000,9,   2.0380,3,    9.49,2, -999.00,9,  -999.0,9,  -999.0,   8.766,3,   0.016,-999.0000,9,  4323.4,-999.000,   0.7470,     -999.0,9,     -999.0,9,     -999.0,9,     -999.0,9,     -999.0,9,     -999.0,9,     -999.0,9, -999.00,9,-999.0000,9,-999.0000,9,-999.0000,9,-999.0000,9,-999.0000,9,-999.0000,9,   0.0010,    0.21
33RR20050106,       P16S,      73,          1,          1,          1,2,20050131,       1725,   -52.0005,  -150.0017,       4475,  4557.0,   1.0939,  34.7133,2,  34.7129,2,    204.6,2,   205.3,2,  120.86,2,   32.02,2,    0.00,2,    2.22,2,-999.000,9,-999.000,9,-999.000,9,  2263.6,2,  2364.2,2,-999.000,9,-999.0000,9, -999.00,9, -999.00,9,  -999.0,9,  -999.0,-999.000,9,-999.000,  39.7803,2,  4557.0,-999.000,   0.7248,     -999.0,9,     -999.0,9,     -999.0,9,     -999.0,9,     -999.0,9,     -999.0,9,     -999.0,9, -999.00,9,   0.1230,2,   0.0850,2,   0.0460,2,   0.0340,2,   0.0143,2,   0.0166,2,-999.0000, -999.00