BOTTLE,20201109CCHSIOCBG
EXPOCODE,SECT_ID,STNNBR,CASTNO,SAMPNO,BTLNBR,BTLNBR_FLAG_W,DATE,TIME,LATITUDE,LONGITUDE,DEPTH,CTDPRS,CTDTMP,CTDSAL,CTDSAL_FLAG_W,SALNTY,SALNTY_FLAG_W,CTDOXY,CTDOXY_FLAG_W,OXYGEN,OXYGEN_FLAG_W,SILCAT,SILCAT_FLAG_W,NITRAT,NITRAT_FLAG_W,NITRIT,NITRIT_FLAG_W,PHSPHT,PHSPHT_FLAG_W,CFC-11,CFC-11_FLAG_W,CFC-12,CFC-12_FLAG_W,CFC113,CFC113_FLAG_W,TCARBN,TCARBN_FLAG_W,ALKALI,ALKALI_FLAG_W,TRITUM,TRITUM_FLAG_W,HELIUM,HELIUM_FLAG_W,DELHE3,DELHE3_FLAG_W,DELC13,DELC13_FLAG_W,DELC14,DELC14_FLAG_W,C14ERR,NEON,NEON_FLAG_W,NEONER,DOC,DOC_FLAG_W,CTDRAW,TRITER,THETA,FUCO,FUCO_FLAG_W,RHAM,RHAM_FLAG_W,ARABA,ARABA_FLAG_W,GALA,GALA_FLAG_W,GLUC,GLUC_FLAG_W,MAN,MAN_FLAG_W,DCNS,DCNS_FLAG_W,BRDU,BRDU_FLAG_W,CDOM325,CDOM325_FLAG_W,CDOM340,CDOM340_FLAG_W,CDOM380,CDOM380_FLAG_W,CDOM412,CDOM412_FLAG_W,CDOMSL,CDOMSL_FLAG_W,CDOMSN,CDOMSN_FLAG_W,HELIER,DELHER
,,,,,,,,,,,METERS,DBAR,ITS-90,PSS-78,,PSS-78,,UMOL/KG,,UMOL/KG,,UMOL/KG,,UMOL/KG,,UMOL/KG,,UMOL/KG,,PMOL/KG,,PMOL/KG,,PMOL/KG,,UMOL/KG,,UMOL/KG,,TU,,NMOL/KG,,PERCNT,,/MILLE,,/MILLE,,/MILLE,NMOL/KG,,NMOL/KG,UMOL/KG,,DBAR,TU,DEG C,NMOL/KG,,NMOL/KG,,NMOL/KG,,NMOL/KG,,NMOL/KG,,NMOL/KG,,NMOL/KG,,PMOL/L/H,,1/M,,1/M,,1/M,,1/M,,1/NM,,1/NM,,NMOL/KG,PERCNT
33RR20050106,       P16S,      27,          1,         36,         36,2,20050117,       1300,   -29.0000,  -150.0003,       4585,     3.6,  25.3875,  35.5188,2,  35.5194,2,    209.8,2,   209.1,2,    0.45,2,    0.11,2,    0.01,2,    0.09,2,   1.886,2,   1.185,2,   0.171,2,  2013.2,6,  2331.3,2,-999.000,9,-999.0000,9, -999.00,9, -999.00,5,    83.9,6,     5.7,-999.000,9,-999.000,  68.9672,2,     3.6,-999.000,  25.3867,        304,2,        198,2,        179,2,        554,2,        436,2,        696,2,       2366,2,    0.21,2,   0.0050,2,   0.0050,2,   0.0010,2,   0.0010,2,-999.0000,9,-999.0000,9,-999.0000, -999.00
33RR20050106,       P16S,      27,          1,         35,         35,2,20050117,       1300,   -29.0000,  -150.0003,       4585,    21.3,  23.8160,  35.5336,2,  35.5346,2,    214.9,2,   213.8,2,    0.65,2,    0.11,2,    0.01,2,    0.09,2,   1.975,2,   1.219,2,   0.198,2,  2015.9,2,  2331.1,2,-999.000,9,-999.0000,9, -999.00,9, -999.00,9,  -999.0,9,  -999.0,-999.000,9,-999.000,  65.5687,2,    21.3,-999.000,  23.8115,     -999.0,9,     -999.0,9,     -999.0,9,     -999.0,9,     -999.0,9,     -999.0,9,     -999.0,9,    2.25,2,   0.0030,2,   0.0030,2,   0.0000,4,   0.0010,2,-999.0000,9,-999.0000,9,-999.0000, -999.00
33RR20050106,       P16S,      27,          1,         34,         34,2,20050117,       1300,   -29.0000,  -150.0003,       4585,    46.4,  21.9357,  35.5813,2,  35.5786,2,    225.8,2,   223.2,2,    0.45,2,    0.05,2,    0.01,2,    0.09,2,   2.180,2,   1.310,2,   0.209,2,  2022.3,2,  2334.3,2,-999.000,9,-999.0000,9, -999.00,9, -999.00,5,    85.7,6,     4.2,-999.000,9,-999.000,  65.9466,2,    46.4,-999.000,  21.9265,        329,2,        204,2,        195,2,        633,2,        379,2,        841,2,       2580,2,    0.88,2,   0.0170,2,   0.0140,2,   0.0050,2,   0.0040,2,-999.0000,9,-999.0000,9,-999.0000, -999.00
33RR20050106,       P16S,      27,          1,         33,         33,2,20050117,       1300,   -29.0000,  -150.0003,       4585,    91.0,  20.1276,  35.5823,2,  35.5807,2,    229.4,2,   227.1,2,    0.65,2,    0.05,2,    0.01,2,    0.08,2,   2.290,2,   1.414,2,   0.216,2,  2031.7,2,  2333.9,2,-999.000,9,-999.0000,9, -999.00,9, -999.00,5,    82.5,6,     5.0,-999.000,9,-999.000,  63.9046,2,    91.0,-999.000,  20.1107,        215,2,        131,2,         77,2,        439,2,        269,2,        462,2,       1594,2,    0.23,2,   0.0460,2,   0.0350,2,   0.0150,2,   0.0100,2,   0.0188,2,   0.0191,2,-999.0000, -999.00
33RR20050106,       P16S,      27,          1,         32,         32,2,20050117,       1300,   -29.0000,  -150.0003,       4585,   141.1,  18.9209,  35.5203,2,  35.5199,2,    221.2,2,   221.4,2,    0.66,2,    0.05,2,    0.01,2,    0.11,2,   2.385,2,   1.465,2,   0.168,2,  2043.7,2,  2329.7,2,-999.000,9,-999.0000,9, -999.00,9, -999.00,5,    80.7,2,     3.6,-999.000,9,-999.000,  63.0520,2,   141.1,-999.000,  18.8958,        168,2,        141,2,         93,2,        294,2,        231,2,        367,2,       1294,2,    1.62,2,   0.0540,2,   0.0420,2,   0.0210,2,   0.0160,2,   0.0178,2,   0.0179,2,-999.0000, -999.00
33RR20050106,       P16S,      27,          1,         31,         31,2,20050117,       1300,   -29.0000,  -150.0003,       4585,   189.9,  17.7480,  35.4450,2,  35.4439,2,    212.8,2,   219.4,2,    0.66,2,    0.85,2,    0.11,2,    0.18,2,   2.529,6,   1.523,6,   0.178,6,  2056.4,2,  2324.6,2,-999.000,9,-999.0000,9, -999.00,9, -999.00,5,    80.3,2,     3.9,-999.000,9,-999.000,  53.1581,2,   189.9,-999.000,  17.7156,        283,3,        170,3,        163,3,        578,3,        550,3,        734,3,       2477,3,    0.82,2,   0.0550,2,   0.0440,2,   0.0240,2,   0.0190,2,   0.0155,2,   0.0156,2,-999.0000, -999.00
33RR20050106,       P16S,      27,          1,         30,         30,2,20050117,       1300,   -29.0000,  -150.0003,       4585,   240.8,  16.9288,  35.4198,2,-999.0000,9,    206.3,2,   222.2,2,    0.66,2,    1.05,2,    0.17,2,    0.19,2,-999.000,9,-999.000,9,-999.000,9,  2060.4,2,  2321.0,2,-999.000,9,-999.0000,9, -999.00,9, -999.00,5,    84.2,2,     3.5,-999.000,9,-999.000,  58.8771,2,   240.8,-999.000,  16.8890,     -999.0,9,     -999.0,9,     -999.0,9,     -999.0,9,     -999.0,9,     -999.0,9,     -999.0,9,    0.42,2,   0.0570,2,   0.0430,2,   0.0210,2,   0.0160,2,   0.0181,2,   0.0183,2,-999.0000, -999.00
33RR20050106,       P16S,      27,          1,         29,         29,2,20050117,       1300,   -29.0000,  -150.0003,       4585,   290.9,  15.4892,  35.2491,2,-999.0000,9,    206.0,2,   203.6,2,    1.27,2,    4.86,2,    0.02,2,    0.45,2,   2.670,2,   1.574,2,   0.083,2,  2084.7,2,  2313.1,2,-999.000,9,-999.0000,9, -999.00,9, -999.00,5,    85.8,2,     3.3,-999.000,9,-999.000,  46.8034,2,   290.9,-999.000,  15.4440,         54,2,         44,2,         53,2,         98,2,        108,2,        103,2,        461,2,    0.28,2,   0.0570,2,   0.0430,2,   0.0210,2,   0.0170,2,   0.0186,2,   0.0188,2,-999.0000, -999.00
33RR20050106,       P16S,      27,          1,         28,         28,2,20050117,       1300,   -29.0000,  -150.0003,       4585,   341.5,  13.9235,  35.0488,2,-999.0000,9,    202.8,2,   202.0,2,    1.88,2,    7.88,2,    0.01,2,    0.65,2,-999.000,9,-999.000,9,-999.000,9,  2096.4,2,  2303.6,2,-999.000,9,-999.0000,9, -999.00,9, -999.00,5,    76.7,2,     3.0,-999.000,9,-999.000,  45.2741,2,   341.5,-999.000,  13.8741,     -999.0,9,     -999.0,9,     -999.0,9,     -999.0,9,     -999.0,9,     -999.0,9,     -999.0,9, -999.00,9,   0.0520,2,   0.0380,2,   0.0190,2,   0.0160,2,   0.0197,2,   0.0203,2,-999.0000, -999.00
33RR20050106,       P16S,      27,          1,         27,         27,2,20050117,       1300,   -29.0000,  -150.0003,       4585,   391.4,  12.1560,  34.8554,2,-999.0000,9,    202.8,2,   202.7,2,    2.68,2,   11.60,2,    0.01,2,    0.89,2,   2.703,2,   1.451,2,   0.096,2,  2109.4,2,  2295.1,2,   0.448,2,-999.0000,9, -999.00,9, -999.00,5,    73.5,2,     3.3,-999.000,9,-999.000,  44.5534,2,   391.4,   0.009,  12.1042,     -999.0,9,     -999.0,9,     -999.0,9,     -999.0,9,     -999.0,9,     -999.0,9,     -999.0,9, -999.00,9,   0.0630,2,   0.0490,2,   0.0240,2,   0.0190,2,   0.0165,2,   0.0166,2,-999.0000, -999.00
33RR20050106,       P16S,      27,          1,         26,         26,2,20050117,       1300,   -29.0000,  -150.0003,       4585,   441.5,  10.5425,  34.6852,2,-999.0000,9,    205.1,2,   207.1,2,    3.69,2,   14.80,2,    0.01,2,    1.10,2,-999.000,9,-999.000,9,-999.000,9,  2119.0,2,  2287.0,2,-999.000,9,-999.0000,9, -999.00,9, -999.00,5,    57.6,2,     2.8,-999.000,9,-999.000,  40.6275,2,   441.5,-999.000,  10.4891,     -999.0,9,     -999.0,9,     -999.0,9,     -999.0,9,     -999.0,9,     -999.0,9,     -999.0,9, -999.00,9,   0.0540,2,   0.0380,2,   0.0200,2,   0.0160,2,   0.0205,2,   0.0216,2,-999.0000, -999.00
33RR20050106,       P16S,      27,          1,         25,         25,2,20050117,       1300,   -29.0000,  -150.0003,       4585,   491.6,   8.8618,  34.5165,2,-999.0000,9,    212.0,2,   217.9,2,    4.89,2,   18.39,2,    0.00,2,    1.32,2,   2.744,2,   1.403,2,   0.088,2,  2130.3,2,  2282.2,2,-999.000,9,-999.0000,9, -999.00,9, -999.00,5,    40.4,2,     2.8,-999.000,9,-999.000,  41.2955,2,   491.6,-999.000,   8.8083,     -999.0,9,     -999.0,9,     -999.0,9,     -999.0,9,     -999.0,9,     -999.0,9,     -999.0,9, -999.00,9,   0.0530,2,   0.0370,2,   0.0200,2,   0.0170,2,   0.0212,2,   0.0227,2,-999.0000, -999.00
33RR20050106,       P16S,      27,          1,         24,         24,2,20050117,       1300,   -29.0000,  -150.0003,       4585,   577.2,   7.4135,  34.3973,2,  34.3993,2,    223.4,2,   227.9,2,    6.51,2,   21.44,2,    0.00,2,    1.51,2,   2.607,2,   1.326,2,   0.078,2,  2138.1,2,  2278.6,2,-999.000,9,-999.0000,9, -999.00,9, -999.00,5,    27.7,2,     2.9,-999.000,9,-999.000,  39.3911,2,   577.2,-999.000,   7.3567,     -999.0,9,     -999.0,9,     -999.0,9,     -999.0,9,     -999.0,9,     -999.0,9,     -999.0,9, -999.00,9,   0.0510,2,   0.0340,2,   0.0180,2,   0.0150,2,   0.0269,2,   0.0286,2,-999.0000, -999.00
33RR20050106,       P16S,      27,          1,         23,         23,2,20050117,       1300,   -29.0000,  -150.0003,       4585,   677.3,   6.6159,  34.3535,2,  34.3543,2,    234.6,2,   236.8,2,    8.11,2,   23.06,2,    0.00,2,    1.60,2,   2.326,2,   1.187,2,   0.068,2,  2140.4,2,  2278.0,2,-999.000,9,-999.0000,9, -999.00,9, -999.00,5,    13.6,2,     3.6,-999.000,9,-999.000,  42.2008,2,   677.3,-999.000,   6.5529,     -999.0,9,     -999.0,9,     -999.0,9,     -999.0,9,     -999.0,9,     -999.0,9,     -999.0,9, -999.00,9,   0.0440,2,   0.0270,2,   0.0140,2,   0.0130,2,   0.0391,2,   0.0401,2,-999.0000, -999.00
33RR20050106,       P16S,      27,          1,         22,         22,2,20050117,       1300,   -29.0000,  -150.0003,       4585,   777.7,   6.0126,  34.3232,2,  34.3228,2,    233.6,2,   233.1,2,   11.33,2,   24.94,2,    0.00,2,    1.73,2,   1.593,2,   0.820,2,   0.045,2,  2147.6,6,  2280.0,2,-999.000,9,-999.0000,9, -999.00,9, -999.00,5,   -12.1,2,     3.0,-999.000,9,-999.000,  41.1753,2,   777.7,-999.000,   5.9433,     -999.0,9,     -999.0,9,     -999.0,9,     -999.0,9,     -999.0,9,     -999.0,9,     -999.0,9, -999.00,9,   0.0450,2,   0.0280,2,   0.0150,2,   0.0140,2,   0.0380,2,   0.0394,2,-999.0000, -999.00
33RR20050106,       P16S,      27,          1,         21,         21,2,20050117,       1300,   -29.0000,  -150.0003,       4585,   878.1,   5.4904,  34.3099,2,  34.3097,2,    225.3,2,   222.5,2,   16.15,2,   27.04,2,    0.00,2,    1.90,2,   1.014,2,   0.528,2,   0.057,2,  2161.1,2,  2282.9,2,-999.000,9,-999.0000,9, -999.00,9, -999.00,5,   -51.0,2,     2.9,-999.000,9,-999.000,  39.0806,2,   878.1,-999.000,   5.4150,     -999.0,9,     -999.0,9,     -999.0,9,     -999.0,9,     -999.0,9,     -999.0,9,     -999.0,9, -999.00,9,   0.0490,2,   0.0300,2,   0.0160,2,   0.0140,2,   0.0345,2,   0.0365,2,-999.0000, -999.00
33RR20050106,       P16S,      27,          1,         20,         20,2,20050117,       1300,   -29.0000,  -150.0003,       4585,   979.1,   4.9099,  34.3186,2,  34.3185,2,    211.4,2,   207.2,2,   24.42,2,   29.43,2,    0.00,2,    2.05,2,   0.573,2,   0.297,2,   0.051,2,  2179.4,2,  2290.5,2,-999.000,9,-999.0000,9, -999.00,9, -999.00,5,   -83.0,2,     3.1,-999.000,9,-999.000,  38.5913,2,   979.1,-999.000,   4.8294,     -999.0,9,     -999.0,9,     -999.0,9,     -999.0,9,     -999.0,9,     -999.0,9,     -999.0,9, -999.00,9,   0.0550,2,   0.0360,2,   0.0190,2,   0.0170,2,   0.0260,2,   0.0286,2,-999.0000, -999.00
33RR20050106,       P16S,      27,          1,         19,         19,2,20050117,       1300,   -29.0000,  -150.0003,       4585,  1079.2,   4.4092,  34.3453,2,  34.3450,2,    196.6,2,   193.1,2,   34.13,2,   31.33,2,    0.00,2,    2.19,2,   0.348,2,   0.189,2,   0.001,2,  2197.8,2,  2298.3,2,-999.000,9,-999.0000,9, -999.00,9, -999.00,5,   -95.1,2,     3.5,-999.000,9,-999.000,  38.1108,2,  1079.2,-999.000,   4.3238,     -999.0,9,     -999.0,9,     -999.0,9,     -999.0,9,     -999.0,9,     -999.0,9,     -999.0,9, -999.00,9,   0.0640,2,   0.0420,2,   0.0230,2,   0.0200,2,   0.0209,2,   0.0232,2,-999.0000, -999.00
33RR20050106,       P16S,      27,          1,         17,         17,2,20050117,       1300,   -29.0000,  -150.0003,       4585,  1180.2,   3.8771,  34.3906,2,  34.3887,2,    183.5,2,   181.2,2,   45.89,2,   32.79,2,    0.00,2,    2.31,2,-999.000,9,-999.000,9,-999.000,9,  2217.4,2,  2311.8,2,-999.000,9,-999.0000,9, -999.00,9, -999.00,9,  -999.0,9,  -999.0,-999.000,9,-999.000,-999.0000,9,  1180.2,-999.000,   3.7875,     -999.0,9,     -999.0,9,     -999.0,9,     -999.0,9,     -999.0,9,     -999.0,9,     -999.0,9, -999.00,9,-999.0000,9,-999.0000,9,-999.0000,9,-999.0000,9,-999.0000,9,-999.0000,9,-999.0000, -999.00
33RR20050106,       P16S,      27,          1,         18,         18,9,20050117,       1300,   -29.0000,  -150.0003,       4585,  1180.2,   3.8821,  34.3901,2,-999.0000,9,    183.5,2,  -999.0,9, -999.00,9, -999.00,9, -999.00,9, -999.00,9,-999.000,9,-999.000,9,-999.000,9,  -999.0,9,  -999.0,9,-999.000,9,-999.0000,9, -999.00,9, -999.00,9,  -999.0,9,  -999.0,-999.000,9,-999.000,-999.0000,9,  1180.2,-999.000,   3.7925,     -999.0,9,     -999.0,9,     -999.0,9,     -999.0,9,     -999.0,9,     -999.0,9,     -999.0,9, -999.00,9,-999.0000,9,-999.0000,9,-999.0000,9,-999.0000,9,-999.0000,9,-999.0000,9,-999.0000, -999.00
33RR20050106,       P16S,      27,          1,         16,         16,2,20050117,       1300,   -29.0000,  -150.0003,       4585,  1281.0,   3.4540,  34.4383,2,  34.4383,2,    175.0,2,   172.2,2,   58.10,2,   33.77,2,    0.00,2,    2.38,2,   0.063,2,   0.042,2,   0.001,2,  2234.8,2,  2325.0,2,-999.000,9,-999.0000,9, -999.00,9, -999.00,5,  -133.9,2,     2.8,-999.000,9,-999.000,  37.5938,2,  1281.0,-999.000,   3.3599,     -999.0,9,     -999.0,9,     -999.0,9,     -999.0,9,     -999.0,9,     -999.0,9,     -999.0,9, -999.00,9,   0.0740,2,   0.0490,2,   0.0270,2,   0.0220,2,   0.0189,2,   0.0210,2,-999.0000, -999.00
33RR20050106,       P16S,      27,          1,         15,         15,2,20050117,       1300,   -29.0000,  -150.0003,       4585,  1482.0,   2.9257,  34.5125,2,  34.5121,2,    163.7,2,   163.6,2,   76.28,2,   34.58,2,    0.00,2,    2.45,2,   0.097,3,   0.058,3,   0.001,2,  2257.5,2,  2344.4,2,-999.000,9,-999.0000,9, -999.00,9, -999.00,9,  -999.0,9,  -999.0,-999.000,9,-999.000,  37.0064,2,  1482.0,-999.000,   2.8203,     -999.0,9,     -999.0,9,     -999.0,9,     -999.0,9,     -999.0,9,     -999.0,9,     -999.0,9, -999.00,9,   0.0790,2,   0.0530,2,   0.0290,2,   0.0240,2,   0.0182,2,   0.0201,2,-999.0000, -999.00
33RR20050106,       P16S,      27,          1,         14,         14,2,20050117,       1300,   -29.0000,  -150.0003,       4585,  1583.2,   2.7012,  34.5479,2,  34.5474,2,    161.7,2,   160.6,2,   84.47,2,   34.75,2,    0.00,2,    2.47,2,-999.000,9,-999.000,9,-999.000,9,  2266.5,2,  2352.3,2,-999.000,9,-999.0000,9, -999.00,9, -999.00,5,  -180.5,2,     2.3,-999.000,9,-999.000,-999.0000,9,  1583.2,-999.000,   2.5901,     -999.0,9,     -999.0,9,     -999.0,9,     -999.0,9,     -999.0,9,     -999.0,9,     -999.0,9, -999.00,9,-999.0000,9,-999.0000,9,-999.0000,9,-999.0000,9,-999.0000,9,-999.0000,9,-999.0000, -999.00
33RR20050106,       P16S,      27,          1,         13,         13,2,20050117,       1300,   -29.0000,  -150.0003,       4585,  1785.0,   2.3859,  34.6031,2,  34.6023,2,    155.5,2,   154.6,2,  100.08,2,   35.07,2,    0.00,2,    2.48,2,  -0.005,2,  -0.001,2,   0.001,2,  2283.2,2,  2373.0,2,-999.000,9,-999.0000,9, -999.00,9, -999.00,5,  -194.9,2,     1.8,-999.000,9,-999.000,  36.1495,2,  1785.0,-999.000,   2.2619,     -999.0,9,     -999.0,9,     -999.0,9,     -999.0,9,     -999.0,9,     -999.0,9,     -999.0,9, -999.00,9,   0.0870,2,   0.0590,2,   0.0320,2,   0.0260,2,   0.0174,2,   0.0191,2,-999.0000, -999.00
33RR20050106,       P16S,      27,          1,         12,         12,2,20050117,       1300,   -29.0000,  -150.0003,       4585,  1987.4,   2.1827,  34.6307,2,  34.6314,2,    151.3,2,   150.9,2,  111.40,2,   35.39,2,    0.00,2,    2.51,2,-999.000,9,-999.000,9,-999.000,9,  2296.0,2,  2384.0,2,-999.000,9,-999.0000,9, -999.00,9, -999.00,5,  -209.6,2,     1.7,-999.000,9,-999.000,-999.0000,9,  1987.4,-999.000,   2.0445,     -999.0,9,     -999.0,9,     -999.0,9,     -999.0,9,     -999.0,9,     -999.0,9,     -999.0,9, -999.00,9,-999.0000,9,-999.0000,9,-999.0000,9,-999.0000,9,-999.0000,9,-999.0000,9,-999.0000, -999.00
33RR20050106,       P16S,      27,          1,         11,         11,2,20050117,       1300,   -29.0000,  -150.0003,       4585,  2189.5,   2.0371,  34.6454,2,  34.6457,2,    149.3,2,   149.6,2,  119.02,2,   35.61,2,    0.00,2,    2.53,2,   0.004,2,  -0.001,2,   0.001,2,  2303.5,2,  2392.4,2,-999.000,9,-999.0000,9, -999.00,9, -999.00,5,  -206.5,2,     2.2,-999.000,9,-999.000,  36.7719,2,  2189.5,-999.000,   1.8838,     -999.0,9,     -999.0,9,     -999.0,9,     -999.0,9,     -999.0,9,     -999.0,9,     -999.0,9, -999.00,9,   0.0900,2,   0.0610,2,   0.0340,2,   0.0260,2,   0.0170,2,   0.0187,2,-999.0000, -999.00
33RR20050106,       P16S,      27,          1,         10,         10,2,20050117,       1300,   -29.0000,  -150.0003,       4585,  2442.3,   1.8906,  34.6588,2,  34.6601,2,    148.8,2,   149.2,2,  125.61,2,   35.65,2,    0.00,2,    2.54,2,-999.000,9,-999.000,9,-999.000,9,  2310.0,2,  2400.3,2,-999.000,9,-999.0000,9, -999.00,9, -999.00,5,  -215.8,2,     2.6,-999.000,9,-999.000,  35.8315,2,  2442.3,-999.000,   1.7175,     -999.0,9,     -999.0,9,     -999.0,9,     -999.0,9,     -999.0,9,     -999.0,9,     -999.0,9, -999.00,9,   0.0940,2,   0.0650,2,   0.0360,2,   0.0280,2,   0.0164,2,   0.0181,2,-999.0000, -999.00
33RR20050106,       P16S,      27,          1,          9,          9,2,20050117,       1300,   -29.0000,  -150.0003,       4585,  2696.1,   1.8051,  34.6666,2,  34.6668,2,    150.7,2,   151.3,2,  128.08,2,   35.55,2,    0.00,2,    2.53,2,   0.001,2,  -0.001,2,   0.001,2,  2310.3,2,  2401.9,2,-999.000,9,-999.0000,9, -999.00,9, -999.00,5,  -212.0,2,     2.6,-999.000,9,-999.000,  36.2152,2,  2696.1,-999.000,   1.6104,     -999.0,9,     -999.0,9,     -999.0,9,     -999.0,9,     -999.0,9,     -999.0,9,     -999.0,9, -999.00,9,   0.0970,2,   0.0660,2,   0.0360,2,   0.0280,2,   0.0162,2,   0.0180,2,-999.0000, -999.00
33RR20050106,       P16S,      27,          1,          8,          8,2,20050117,       1300,   -29.0000,  -150.0003,       4585,  2949.4,   1.7191,  34.6742,2,  34.6746,2,    155.1,2,   155.9,2,  128.69,2,   35.21,2,    0.00,2,    2.50,2,-999.000,9,-999.000,9,-999.000,9,  2308.0,2,  2401.2,2,-999.000,9,-999.0000,9, -999.00,9, -999.00,5,  -208.4,2,     2.5,-999.000,9,-999.000,  35.5532,2,  2949.4,-999.000,   1.5023,     -999.0,9,     -999.0,9,     -999.0,9,     -999.0,9,     -999.0,9,     -999.0,9,     -999.0,9, -999.00,9,   0.0950,2,   0.0650,2,   0.0360,2,   0.0290,2,   0.0157,2,   0.0175,2,-999.0000, -999.00
33RR20050106,       P16S,      27,          1,          7,          7,2,20050117,       1300,   -29.0000,  -150.0003,       4585,  3203.3,   1.6294,  34.6816,2,  34.6814,2,    163.0,2,   163.0,2,  127.23,2,   34.71,2,    0.00,2,    2.46,2,   0.009,2,   0.006,2,   0.001,2,  2302.4,2,  2396.7,2,-999.000,9,-999.0000,9, -999.00,9, -999.00,5,  -211.6,2,     2.7,-999.000,9,-999.000,  37.1173,2,  3203.3,-999.000,   1.3899,     -999.0,9,     -999.0,9,     -999.0,9,     -999.0,9,     -999.0,9,     -999.0,9,     -999.0,9, -999.00,9,   0.1130,2,   0.0810,2,   0.0460,2,   0.0300,2,   0.0149,2,   0.0160,2,-999.0000, -999.00