BOTTLE,20201109CCHSIOCBG
EXPOCODE,SECT_ID,STNNBR,CASTNO,SAMPNO,BTLNBR,BTLNBR_FLAG_W,DATE,TIME,LATITUDE,LONGITUDE,DEPTH,CTDPRS,CTDTMP,CTDSAL,CTDSAL_FLAG_W,SALNTY,SALNTY_FLAG_W,CTDOXY,CTDOXY_FLAG_W,OXYGEN,OXYGEN_FLAG_W,SILCAT,SILCAT_FLAG_W,NITRAT,NITRAT_FLAG_W,NITRIT,NITRIT_FLAG_W,PHSPHT,PHSPHT_FLAG_W,CFC-11,CFC-11_FLAG_W,CFC-12,CFC-12_FLAG_W,CFC113,CFC113_FLAG_W,TCARBN,TCARBN_FLAG_W,ALKALI,ALKALI_FLAG_W,TRITUM,TRITUM_FLAG_W,HELIUM,HELIUM_FLAG_W,DELHE3,DELHE3_FLAG_W,DELC13,DELC13_FLAG_W,DELC14,DELC14_FLAG_W,C14ERR,NEON,NEON_FLAG_W,NEONER,DOC,DOC_FLAG_W,CTDRAW,TRITER,THETA,FUCO,FUCO_FLAG_W,RHAM,RHAM_FLAG_W,ARABA,ARABA_FLAG_W,GALA,GALA_FLAG_W,GLUC,GLUC_FLAG_W,MAN,MAN_FLAG_W,DCNS,DCNS_FLAG_W,BRDU,BRDU_FLAG_W,CDOM325,CDOM325_FLAG_W,CDOM340,CDOM340_FLAG_W,CDOM380,CDOM380_FLAG_W,CDOM412,CDOM412_FLAG_W,CDOMSL,CDOMSL_FLAG_W,CDOMSN,CDOMSN_FLAG_W,HELIER,DELHER
,,,,,,,,,,,METERS,DBAR,ITS-90,PSS-78,,PSS-78,,UMOL/KG,,UMOL/KG,,UMOL/KG,,UMOL/KG,,UMOL/KG,,UMOL/KG,,PMOL/KG,,PMOL/KG,,PMOL/KG,,UMOL/KG,,UMOL/KG,,TU,,NMOL/KG,,PERCNT,,/MILLE,,/MILLE,,/MILLE,NMOL/KG,,NMOL/KG,UMOL/KG,,DBAR,TU,DEG C,NMOL/KG,,NMOL/KG,,NMOL/KG,,NMOL/KG,,NMOL/KG,,NMOL/KG,,NMOL/KG,,PMOL/L/H,,1/M,,1/M,,1/M,,1/M,,1/NM,,1/NM,,NMOL/KG,PERCNT
33RR20050106,       P16S,      85,          1,         31,         31,2,20050203,       2203,   -57.9993,  -150.0017,       2906,     3.0,   1.8449,  33.8975,2,  33.8991,2,    335.9,2,   337.2,2,   22.51,2,   24.61,2,    0.27,2,    1.61,2,   5.722,2,   3.213,2,   0.646,2,  2154.5,6,  2290.7,2,-999.000,9,-999.0000,9, -999.00,9, -999.00,9,  -999.0,9,  -999.0,-999.000,9,-999.000,  43.4191,2,     3.0,-999.000,   1.8448,         59,2,         65,2,         20,2,        117,2,        150,2,        137,2,        548,2,    0.07,2,   0.0750,2,   0.0450,2,   0.0190,2,   0.0130,2,   0.0303,2,   0.0318,2,-999.0000, -999.00
33RR20050106,       P16S,      85,          1,         30,         30,2,20050203,       2203,   -57.9993,  -150.0017,       2906,    25.7,   1.8198,  33.8971,2,  33.8981,2,    337.7,2,   338.7,2,   22.51,2,   24.62,2,    0.27,2,    1.61,2,   5.731,2,   3.202,2,   0.658,2,  2153.4,2,  2291.2,2,-999.000,9,-999.0000,9, -999.00,9, -999.00,9,  -999.0,9,  -999.0,-999.000,9,-999.000,  42.5417,2,    25.7,-999.000,   1.8185,         60,2,         68,2,         87,2,        146,2,        152,2,        166,2,        680,2,    0.14,2,   0.0810,2,   0.0500,2,   0.0220,2,   0.0150,2,   0.0274,2,   0.0292,2,-999.0000, -999.00
33RR20050106,       P16S,      85,          1,         29,         29,2,20050203,       2203,   -57.9993,  -150.0017,       2906,    50.7,   1.2499,  33.9053,2,  33.9022,2,    339.0,2,   341.1,2,   27.37,2,   25.44,2,    0.24,2,    1.76,2,-999.000,9,-999.000,9,-999.000,9,  2158.8,2,  2290.1,2,-999.000,9,-999.0000,9, -999.00,9, -999.00,9,  -999.0,9,  -999.0,-999.000,9,-999.000,  44.4330,2,    50.7,-999.000,   1.2476,         51,2,         48,2,         51,2,        110,2,         97,2,        129,2,        486,2,    0.85,2,   0.0770,2,   0.0470,2,   0.0210,2,   0.0150,2,   0.0285,2,   0.0305,2,-999.0000, -999.00
33RR20050106,       P16S,      85,          1,         28,         28,2,20050203,       2203,   -57.9993,  -150.0017,       2906,    71.6,  -0.8780,  33.9480,2,  33.9477,2,    341.0,2,   342.6,2,   42.89,2,   28.75,2,    0.19,2,    2.08,2,   6.183,2,   3.376,2,   0.681,2,  2179.5,2,  2289.0,2,-999.000,9,-999.0000,9, -999.00,9, -999.00,9,  -999.0,9,  -999.0,-999.000,9,-999.000,  40.5704,2,    71.6,-999.000,  -0.8799,     -999.0,9,     -999.0,9,     -999.0,9,     -999.0,9,     -999.0,9,     -999.0,9,     -999.0,9,    0.90,2,   0.0810,2,   0.0490,2,   0.0230,2,   0.0170,2,   0.0275,2,   0.0299,2,-999.0000, -999.00
33RR20050106,       P16S,      85,          1,         27,         27,2,20050203,       2203,   -57.9993,  -150.0017,       2906,   102.0,  -0.9399,  34.0072,2,  34.0050,2,    331.4,2,   332.6,2,   49.29,2,   29.67,2,    0.17,2,    2.11,2,-999.000,9,-999.000,9,-999.000,9,  2187.7,2,  2293.0,2,-999.000,9,-999.0000,9, -999.00,9, -999.00,9,  -999.0,9,  -999.0,-999.000,9,-999.000,  39.5549,2,   102.0,-999.000,  -0.9426,         29,2,         32,2,         58,2,         64,2,         73,2,         79,2,        335,2,    0.66,2,   0.0820,2,   0.0500,2,   0.0240,2,   0.0180,2,   0.0261,2,   0.0286,2,-999.0000, -999.00
33RR20050106,       P16S,      85,          1,         26,         26,2,20050203,       2203,   -57.9993,  -150.0017,       2906,   152.8,   0.8706,  34.2564,2,  34.2583,2,    263.3,2,   240.0,2,   54.19,2,   33.45,2,    0.02,2,    2.31,2,   3.252,2,   1.726,2,   0.327,2,  2223.8,2,  2305.7,2,-999.000,9,-999.0000,9, -999.00,9, -999.00,9,  -999.0,9,  -999.0,-999.000,9,-999.000,  39.4119,2,   152.8,-999.000,   0.8640,         21,2,         24,2,         65,2,         55,2,         77,2,         47,2,        289,2,    0.23,2,   0.0960,2,   0.0610,2,   0.0300,2,   0.0230,2,   0.0212,2,   0.0238,2,-999.0000, -999.00
33RR20050106,       P16S,      85,          1,         25,         25,2,20050203,       2203,   -57.9993,  -150.0017,       2906,   203.0,   2.0401,  34.4432,2,  34.4455,2,    188.7,2,   184.0,2,   65.75,2,   34.90,2,    0.01,2,    2.41,2,-999.000,9,-999.000,9,-999.000,9,  2246.9,2,  2318.1,2,-999.000,9,-999.0000,9, -999.00,9, -999.00,9,  -999.0,9,  -999.0,-999.000,9,-999.000,  41.1090,2,   203.0,-999.000,   2.0292,     -999.0,9,     -999.0,9,     -999.0,9,     -999.0,9,     -999.0,9,     -999.0,9,     -999.0,9,    0.13,2,   0.1050,2,   0.0680,2,   0.0330,2,   0.0250,2,   0.0201,2,   0.0228,2,-999.0000, -999.00
33RR20050106,       P16S,      85,          1,         24,         24,2,20050203,       2203,   -57.9993,  -150.0017,       2906,   260.4,   2.1841,  34.5156,2,  34.5175,2,    173.2,2,   174.2,2,   70.47,2,   34.81,2,    0.01,2,    2.41,2,   0.957,2,   0.495,2,   0.094,2,  2252.9,2,  2325.1,2,-999.000,9,-999.0000,9, -999.00,9, -999.00,9,  -999.0,9,  -999.0,-999.000,9,-999.000,  39.9462,2,   260.4,-999.000,   2.1697,     -999.0,9,     -999.0,9,     -999.0,9,     -999.0,9,     -999.0,9,     -999.0,9,     -999.0,9,    0.09,2,   0.1100,2,   0.0720,2,   0.0350,2,   0.0260,2,   0.0193,2,   0.0221,2,-999.0000, -999.00
33RR20050106,       P16S,      85,          1,         23,         23,2,20050203,       2203,   -57.9993,  -150.0017,       2906,   310.7,   2.2141,  34.5603,2,  34.5600,2,    170.7,2,   171.3,2,   73.70,2,   34.45,2,    0.01,2,    2.38,2,-999.000,9,-999.000,9,-999.000,9,  2255.4,2,  2329.1,2,-999.000,9,-999.0000,9, -999.00,9, -999.00,9,  -999.0,9,  -999.0,-999.000,9,-999.000,  40.5076,2,   310.7,-999.000,   2.1966,         23,2,         13,2,         17,2,         25,2,         65,2,         42,2,        184,2, -999.00,9,   0.1100,2,   0.0720,2,   0.0360,2,   0.0270,2,   0.0184,2,   0.0212,2,-999.0000, -999.00
33RR20050106,       P16S,      85,          1,         22,         22,2,20050203,       2203,   -57.9993,  -150.0017,       2906,   360.8,   2.2242,  34.5922,2,  34.5918,2,    170.1,2,   170.8,2,   75.00,2,   33.99,2,    0.00,2,    2.36,2,-999.000,9,-999.000,9,-999.000,9,  2255.3,2,  2331.9,2,-999.000,9,-999.0000,9, -999.00,9, -999.00,9,  -999.0,9,  -999.0,-999.000,9,-999.000,  39.1608,2,   360.8,-999.000,   2.2037,     -999.0,9,     -999.0,9,     -999.0,9,     -999.0,9,     -999.0,9,     -999.0,9,     -999.0,9, -999.00,9,   0.1110,2,   0.0720,2,   0.0370,2,   0.0280,2,   0.0173,2,   0.0203,2,-999.0000, -999.00
33RR20050106,       P16S,      85,          1,         21,         21,2,20050203,       2203,   -57.9993,  -150.0017,       2906,   411.3,   2.1990,  34.6145,2,  34.6118,2,    170.8,2,   171.6,2,   76.08,2,   33.69,2,    0.00,2,    2.33,2,   0.581,2,   0.300,2,   0.055,2,  2256.0,2,  2333.7,2,-999.000,9,-999.0000,9, -999.00,9, -999.00,9,  -999.0,9,  -999.0,-999.000,9,-999.000,  38.5932,2,   411.3,-999.000,   2.1756,     -999.0,9,     -999.0,9,     -999.0,9,     -999.0,9,     -999.0,9,     -999.0,9,     -999.0,9, -999.00,9,   0.1140,2,   0.0750,2,   0.0390,2,   0.0290,2,   0.0165,2,   0.0194,2,-999.0000, -999.00
33RR20050106,       P16S,      85,          1,         20,         20,2,20050203,       2203,   -57.9993,  -150.0017,       2906,   461.9,   2.1820,  34.6380,2,  34.6383,2,    172.0,2,   172.8,2,   77.80,2,   33.33,2,    0.00,2,    2.31,2,-999.000,9,-999.000,9,-999.000,9,  2256.6,2,  2334.8,2,-999.000,9,-999.0000,9, -999.00,9, -999.00,9,  -999.0,9,  -999.0,-999.000,9,-999.000,-999.0000,9,   461.9,-999.000,   2.1555,     -999.0,9,     -999.0,9,     -999.0,9,     -999.0,9,     -999.0,9,     -999.0,9,     -999.0,9, -999.00,9,-999.0000,9,-999.0000,9,-999.0000,9,-999.0000,9,-999.0000,9,-999.0000,9,-999.0000, -999.00
33RR20050106,       P16S,      85,          1,         19,         19,2,20050203,       2203,   -57.9993,  -150.0017,       2906,   512.1,   2.1651,  34.6575,2,  34.6568,2,    173.2,2,   173.9,2,   78.46,2,   32.97,2,    0.00,2,    2.28,2,-999.000,9,-999.000,9,-999.000,9,  2254.9,2,  2336.3,2,-999.000,9,-999.0000,9, -999.00,9, -999.00,9,  -999.0,9,  -999.0,-999.000,9,-999.000,  43.2750,3,   512.1,-999.000,   2.1356,     -999.0,9,     -999.0,9,     -999.0,9,     -999.0,9,     -999.0,9,     -999.0,9,     -999.0,9, -999.00,9,   0.1130,2,   0.0740,2,   0.0380,2,   0.0290,2,   0.0166,2,   0.0195,2,-999.0000, -999.00
33RR20050106,       P16S,      85,          1,         18,         18,2,20050203,       2203,   -57.9993,  -150.0017,       2906,   613.2,   2.1056,  34.6859,2,  34.6853,2,    177.0,2,   177.3,2,   80.62,2,   32.31,2,    0.00,2,    2.24,2,   0.313,2,   0.156,2,   0.023,2,  2252.7,2,  2338.9,2,-999.000,9,-999.0000,9, -999.00,9, -999.00,9,  -999.0,9,  -999.0,-999.000,9,-999.000,  39.1769,2,   613.2,-999.000,   2.0700,     -999.0,9,     -999.0,9,     -999.0,9,     -999.0,9,     -999.0,9,     -999.0,9,     -999.0,9, -999.00,9,   0.1130,2,   0.0750,2,   0.0380,2,   0.0280,2,   0.0174,2,   0.0202,2,-999.0000, -999.00
33RR20050106,       P16S,      85,          1,         17,         17,2,20050203,       2203,   -57.9993,  -150.0017,       2906,   713.8,   2.0526,  34.7089,2,  34.7081,2,    180.8,2,   181.5,2,   82.57,2,   31.68,2,    0.00,2,    2.19,2,-999.000,9,-999.000,9,-999.000,9,  2252.9,2,  2341.4,2,-999.000,9,-999.0000,9, -999.00,9, -999.00,9,  -999.0,9,  -999.0,-999.000,9,-999.000,  39.3119,2,   713.8,-999.000,   2.0109,     -999.0,9,     -999.0,9,     -999.0,9,     -999.0,9,     -999.0,9,     -999.0,9,     -999.0,9, -999.00,9,   0.1120,2,   0.0740,2,   0.0370,2,   0.0270,2,   0.0181,2,   0.0207,2,-999.0000, -999.00
33RR20050106,       P16S,      85,          1,         16,         16,2,20050203,       2203,   -57.9993,  -150.0017,       2906,   815.1,   1.9094,  34.7168,2,  34.7155,2,    183.8,2,   184.3,2,   84.52,2,   31.53,2,    0.00,2,    2.18,2,-999.000,9,-999.000,9,-999.000,9,  2251.6,2,  2343.3,2,-999.000,9,-999.0000,9, -999.00,9, -999.00,9,  -999.0,9,  -999.0,-999.000,9,-999.000,  38.4158,2,   815.1,-999.000,   1.8620,     -999.0,9,     -999.0,9,     -999.0,9,     -999.0,9,     -999.0,9,     -999.0,9,     -999.0,9, -999.00,9,   0.1090,3,   0.0680,3,   0.0300,3,   0.0240,3,   0.0236,3,   0.0260,3,-999.0000, -999.00
33RR20050106,       P16S,      85,          1,         15,         15,2,20050203,       2203,   -57.9993,  -150.0017,       2906,   916.2,   1.8544,  34.7271,2,  34.7263,2,    186.9,2,   187.1,2,   86.89,2,   31.23,2,    0.00,2,    2.16,2,   0.256,2,   0.127,2,   0.036,2,  2251.0,2,  2345.1,2,-999.000,9,-999.0000,9, -999.00,9, -999.00,9,  -999.0,9,  -999.0,-999.000,9,-999.000,  38.6604,2,   916.2,-999.000,   1.8007,     -999.0,9,     -999.0,9,     -999.0,9,     -999.0,9,     -999.0,9,     -999.0,9,     -999.0,9, -999.00,9,   0.1130,2,   0.0750,2,   0.0390,2,   0.0290,2,   0.0164,2,   0.0192,2,-999.0000, -999.00
33RR20050106,       P16S,      85,          1,         14,         14,2,20050203,       2203,   -57.9993,  -150.0017,       2906,  1016.7,   1.7701,  34.7336,2,  34.7334,2,    189.6,2,   190.0,2,   89.50,2,   31.04,2,    0.00,2,    2.14,2,-999.000,9,-999.000,9,-999.000,9,  2252.9,2,  2347.3,2,-999.000,9,-999.0000,9, -999.00,9, -999.00,9,  -999.0,9,  -999.0,-999.000,9,-999.000,  38.6920,2,  1016.7,-999.000,   1.7104,     -999.0,9,     -999.0,9,     -999.0,9,     -999.0,9,     -999.0,9,     -999.0,9,     -999.0,9, -999.00,9,   0.1160,2,   0.0790,2,   0.0410,2,   0.0310,2,   0.0153,2,   0.0181,2,-999.0000, -999.00
33RR20050106,       P16S,      85,          1,         13,         13,2,20050203,       2203,   -57.9993,  -150.0017,       2906,  1118.1,   1.6719,  34.7369,2,  34.7363,2,    192.1,2,   192.9,2,   92.31,2,   30.84,2,    0.00,2,    2.13,2,-999.000,9,-999.000,9,-999.000,9,  2250.1,2,  2349.2,2,-999.000,9,-999.0000,9, -999.00,9, -999.00,9,  -999.0,9,  -999.0,-999.000,9,-999.000,-999.0000,9,  1118.1,-999.000,   1.6062,     -999.0,9,     -999.0,9,     -999.0,9,     -999.0,9,     -999.0,9,     -999.0,9,     -999.0,9, -999.00,9,-999.0000,9,-999.0000,9,-999.0000,9,-999.0000,9,-999.0000,9,-999.0000,9,-999.0000, -999.00
33RR20050106,       P16S,      85,          1,         12,         12,2,20050203,       2203,   -57.9993,  -150.0017,       2906,  1218.8,   1.5941,  34.7370,2,  34.7365,2,    194.0,2,   194.8,2,   94.92,2,   30.90,2,    0.00,2,    2.13,2,   0.215,2,   0.104,2,   0.017,2,  2251.0,6,  2350.6,2,-999.000,9,-999.0000,9, -999.00,9, -999.00,9,  -999.0,9,  -999.0,-999.000,9,-999.000,  41.1134,2,  1218.8,-999.000,   1.5222,     -999.0,9,     -999.0,9,     -999.0,9,     -999.0,9,     -999.0,9,     -999.0,9,     -999.0,9, -999.00,9,   0.1120,2,   0.0740,2,   0.0380,2,   0.0280,2,   0.0169,2,   0.0196,2,-999.0000, -999.00
33RR20050106,       P16S,      85,          1,         11,         11,2,20050203,       2203,   -57.9993,  -150.0017,       2906,  1320.0,   1.5025,  34.7362,2,  34.7361,2,    195.3,2,   196.1,2,   96.89,2,   30.92,2,    0.00,2,    2.14,2,-999.000,9,-999.000,9,-999.000,9,  2253.5,2,  2352.3,2,-999.000,9,-999.0000,9, -999.00,9, -999.00,9,  -999.0,9,  -999.0,-999.000,9,-999.000,-999.0000,9,  1320.0,-999.000,   1.4245,     -999.0,9,     -999.0,9,     -999.0,9,     -999.0,9,     -999.0,9,     -999.0,9,     -999.0,9, -999.00,9,-999.0000,9,-999.0000,9,-999.0000,9,-999.0000,9,-999.0000,9,-999.0000,9,-999.0000, -999.00
33RR20050106,       P16S,      85,          1,         10,         10,2,20050203,       2203,   -57.9993,  -150.0017,       2906,  1421.5,   1.3812,  34.7331,2,  34.7324,2,    196.7,2,   197.7,2,  101.01,2,   31.04,2,    0.00,2,    2.15,2,-999.000,9,-999.000,9,-999.000,9,  2253.8,2,  2354.5,2,-999.000,9,-999.0000,9, -999.00,9, -999.00,9,  -999.0,9,  -999.0,-999.000,9,-999.000,  41.1825,2,  1421.5,-999.000,   1.2973,     -999.0,9,     -999.0,9,     -999.0,9,     -999.0,9,     -999.0,9,     -999.0,9,     -999.0,9, -999.00,9,   0.1100,2,   0.0730,2,   0.0370,2,   0.0280,2,   0.0173,2,   0.0199,2,-999.0000, -999.00
33RR20050106,       P16S,      85,          1,          9,          9,2,20050203,       2203,   -57.9993,  -150.0017,       2906,  1523.3,   1.3044,  34.7304,2,  34.7304,2,    197.7,2,   198.9,2,  103.62,2,   31.20,2,    0.00,2,    2.15,2,   0.196,2,   0.112,2,   0.011,2,  2255.4,2,  2354.1,2,-999.000,9,-999.0000,9, -999.00,9, -999.00,9,  -999.0,9,  -999.0,-999.000,9,-999.000,-999.0000,9,  1523.3,-999.000,   1.2142,     -999.0,9,     -999.0,9,     -999.0,9,     -999.0,9,     -999.0,9,     -999.0,9,     -999.0,9, -999.00,9,-999.0000,9,-999.0000,9,-999.0000,9,-999.0000,9,-999.0000,9,-999.0000,9,-999.0000, -999.00
33RR20050106,       P16S,      85,          1,          8,          8,2,20050203,       2203,   -57.9993,  -150.0017,       2906,  1624.0,   1.2143,  34.7277,2,  34.7276,2,    198.9,2,   199.6,2,  106.89,2,   31.32,2,    0.00,2,    2.16,2,-999.000,9,-999.000,9,-999.000,9,  2257.2,2,  2356.3,2,-999.000,9,-999.0000,9, -999.00,9, -999.00,9,  -999.0,9,  -999.0,-999.000,9,-999.000,  38.0705,2,  1624.0,-999.000,   1.1179,     -999.0,9,     -999.0,9,     -999.0,9,     -999.0,9,     -999.0,9,     -999.0,9,     -999.0,9, -999.00,9,   0.1110,2,   0.0740,2,   0.0380,2,   0.0280,2,   0.0169,2,   0.0196,2,-999.0000, -999.00
33RR20050106,       P16S,      85,          1,          7,          7,2,20050203,       2203,   -57.9993,  -150.0017,       2906,  1826.9,   1.0777,  34.7233,2,  34.7227,2,    201.4,2,   202.1,2,  111.89,2,   31.50,2,    0.00,2,    2.18,2,-999.000,9,-999.000,9,-999.000,9,  2258.8,2,  2359.1,2,-999.000,9,-999.0000,9, -999.00,9, -999.00,9,  -999.0,9,  -999.0,-999.000,9,-999.000,  38.3549,2,  1826.9,-999.000,   0.9682,     -999.0,9,     -999.0,9,     -999.0,9,     -999.0,9,     -999.0,9,     -999.0,9,     -999.0,9, -999.00,9,   0.1090,2,   0.0720,2,   0.0370,2,   0.0270,2,   0.0173,2,   0.0200,2,-999.0000, -999.00
33RR20050106,       P16S,      85,          1,          6,          6,2,20050203,       2203,   -57.9993,  -150.0017,       2906,  2029.8,   0.9475,  34.7173,2,  34.7174,2,    202.8,2,   204.0,2,  115.38,2,   31.66,2,    0.00,2,    2.19,2,   0.107,2,   0.067,2,   0.009,2,  2259.9,2,  2358.9,2,-999.000,9,-999.0000,9, -999.00,9, -999.00,9,  -999.0,9,  -999.0,-999.000,9,-999.000,-999.0000,9,  2029.8,-999.000,   0.8246,     -999.0,9,     -999.0,9,     -999.0,9,     -999.0,9,     -999.0,9,     -999.0,9,     -999.0,9, -999.00,9,-999.0000,9,-999.0000,9,-999.0000,9,-999.0000,9,-999.0000,9,-999.0000,9,-999.0000, -999.00
33RR20050106,       P16S,      85,          1,          5,          5,2,20050203,       2203,   -57.9993,  -150.0017,       2906,  2283.2,   0.7907,  34.7104,2,  34.7101,2,    204.8,2,   205.6,2,  123.66,2,   32.00,2,    0.00,2,    2.21,2,-999.000,9,-999.000,9,-999.000,9,  2261.2,2,  2361.0,2,-999.000,9,-999.0000,9, -999.00,9, -999.00,9,  -999.0,9,  -999.0,-999.000,9,-999.000,  38.4851,2,  2283.2,-999.000,   0.6505,     -999.0,9,     -999.0,9,     -999.0,9,     -999.0,9,     -999.0,9,     -999.0,9,     -999.0,9, -999.00,9,   0.1110,2,   0.0740,2,   0.0380,2,   0.0280,2,   0.0168,2,   0.0196,2,-999.0000, -999.00
33RR20050106,       P16S,      85,          1,          4,          4,2,20050203,       2203,   -57.9993,  -150.0017,       2906,  2537.6,   0.7315,  34.7076,2,  34.7080,2,    205.9,2,   206.6,2,  126.72,2,   32.11,2,    0.00,2,    2.22,2,-999.000,9,-999.000,9,-999.000,9,  2262.1,2,  2360.1,2,-999.000,9,-999.0000,9, -999.00,9, -999.00,9,  -999.0,9,  -999.0,-999.000,9,-999.000,-999.0000,9,  2537.6,-999.000,   0.5717,     -999.0,9,     -999.0,9,     -999.0,9,     -999.0,9,     -999.0,9,     -999.0,9,     -999.0,9, -999.00,9,-999.0000,9,-999.0000,9,-999.0000,9,-999.0000,9,-999.0000,9,-999.0000,9,-999.0000, -999.00
33RR20050106,       P16S,      85,          1,          3,          3,2,20050203,       2203,   -57.9993,  -150.0017,       2906,  2689.7,   0.6778,  34.7059,2,  34.7056,2,    206.8,2,   208.3,2,  128.27,2,   32.24,2,    0.00,2,    2.22,2,   0.271,2,   0.155,2,   0.019,2,  2262.4,2,  2359.4,2,-999.000,9,-999.0000,9, -999.00,9, -999.00,9,  -999.0,9,  -999.0,-999.000,9,-999.000,  41.8653,2,  2689.7,-999.000,   0.5062,     -999.0,9,     -999.0,9,     -999.0,9,     -999.0,9,     -999.0,9,     -999.0,9,     -999.0,9, -999.00,9,   0.1090,2,   0.0720,2,   0.0370,2,   0.0280,2,   0.0168,2,   0.0195,2,-999.0000, -999.00
33RR20050106,       P16S,      85,          1,          2,          2,2,20050203,       2203,   -57.9993,  -150.0017,       2906,  2812.1,   0.6082,  34.7042,2,  34.7044,2,    208.3,2,   208.9,2,  127.64,2,   32.30,2,    0.00,2,    2.23,2,-999.000,9,-999.000,9,-999.000,9,  2262.3,2,  2358.3,2,-999.000,9,-999.0000,9, -999.00,9, -999.00,9,  -999.0,9,  -999.0,-999.000,9,-999.000,-999.0000,9,  2812.1,-999.000,   0.4275,     -999.0,9,     -999.0,9,     -999.0,9,     -999.0,9,     -999.0,9,     -999.0,9,     -999.0,9, -999.00,9,-999.0000,9,-999.0000,9,-999.0000,9,-999.0000,9,-999.0000,9,-999.0000,9,-999.0000, -999.00