BOTTLE,20201109CCHSIOCBG
EXPOCODE,SECT_ID,STNNBR,CASTNO,SAMPNO,BTLNBR,BTLNBR_FLAG_W,DATE,TIME,LATITUDE,LONGITUDE,DEPTH,CTDPRS,CTDTMP,CTDSAL,CTDSAL_FLAG_W,SALNTY,SALNTY_FLAG_W,CTDOXY,CTDOXY_FLAG_W,OXYGEN,OXYGEN_FLAG_W,SILCAT,SILCAT_FLAG_W,NITRAT,NITRAT_FLAG_W,NITRIT,NITRIT_FLAG_W,PHSPHT,PHSPHT_FLAG_W,CFC-11,CFC-11_FLAG_W,CFC-12,CFC-12_FLAG_W,CFC113,CFC113_FLAG_W,TCARBN,TCARBN_FLAG_W,ALKALI,ALKALI_FLAG_W,TRITUM,TRITUM_FLAG_W,HELIUM,HELIUM_FLAG_W,DELHE3,DELHE3_FLAG_W,DELC13,DELC13_FLAG_W,DELC14,DELC14_FLAG_W,C14ERR,NEON,NEON_FLAG_W,NEONER,DOC,DOC_FLAG_W,CTDRAW,TRITER,THETA,FUCO,FUCO_FLAG_W,RHAM,RHAM_FLAG_W,ARABA,ARABA_FLAG_W,GALA,GALA_FLAG_W,GLUC,GLUC_FLAG_W,MAN,MAN_FLAG_W,DCNS,DCNS_FLAG_W,BRDU,BRDU_FLAG_W,CDOM325,CDOM325_FLAG_W,CDOM340,CDOM340_FLAG_W,CDOM380,CDOM380_FLAG_W,CDOM412,CDOM412_FLAG_W,CDOMSL,CDOMSL_FLAG_W,CDOMSN,CDOMSN_FLAG_W,HELIER,DELHER
,,,,,,,,,,,METERS,DBAR,ITS-90,PSS-78,,PSS-78,,UMOL/KG,,UMOL/KG,,UMOL/KG,,UMOL/KG,,UMOL/KG,,UMOL/KG,,PMOL/KG,,PMOL/KG,,PMOL/KG,,UMOL/KG,,UMOL/KG,,TU,,NMOL/KG,,PERCNT,,/MILLE,,/MILLE,,/MILLE,NMOL/KG,,NMOL/KG,UMOL/KG,,DBAR,TU,DEG C,NMOL/KG,,NMOL/KG,,NMOL/KG,,NMOL/KG,,NMOL/KG,,NMOL/KG,,NMOL/KG,,PMOL/L/H,,1/M,,1/M,,1/M,,1/M,,1/NM,,1/NM,,NMOL/KG,PERCNT
33RR20050106,       P16S,      81,          2,         33,         33,2,20050202,       2147,   -55.9998,  -150.0000,       3409,     2.0,   4.6141,  33.8340,2,  33.8363,2,    312.6,2,   314.2,2,    0.18,2,   20.95,2,    0.21,2,    1.48,2,   5.097,2,   2.805,2,   0.428,2,  2114.5,6,  2275.3,2,-999.000,9,-999.0000,9, -999.00,9, -999.00,9,  -999.0,9,  -999.0,-999.000,9,-999.000,  45.7561,2,     2.0,-999.000,   4.6140,         78,2,         61,2,         25,2,        139,2,        349,3,        140,2,        792,3,   19.20,2,   0.0780,2,   0.0490,2,   0.0230,2,   0.0160,2,   0.0267,2,   0.0285,2,-999.0000, -999.00
33RR20050106,       P16S,      81,          2,         32,         32,2,20050202,       2147,   -55.9998,  -150.0000,       3409,    41.9,   4.4719,  33.8443,2,  33.8475,2,    314.9,2,   314.5,2,    0.18,2,   21.16,2,    0.21,2,    1.50,2,   5.197,2,   2.803,2,   0.456,2,  2116.8,2,  2277.9,2,-999.000,9,-999.0000,9, -999.00,9, -999.00,9,  -999.0,9,  -999.0,-999.000,9,-999.000,  44.7647,2,    41.9,-999.000,   4.4689,         59,2,         54,2,         32,2,        112,2,        162,2,        146,2,        564,2,   40.89,2,   0.0770,2,   0.0480,2,   0.0220,2,   0.0160,2,   0.0275,2,   0.0291,2,-999.0000, -999.00
33RR20050106,       P16S,      81,          2,         31,         31,2,20050202,       2147,   -55.9998,  -150.0000,       3409,    87.3,   2.2673,  33.9022,2,  33.9039,2,    314.8,2,   315.1,2,   12.56,2,   26.15,2,    0.13,2,    1.89,2,   5.610,2,   2.975,2,   0.496,2,  2149.7,2,  2274.5,2,-999.000,9,-999.0000,9, -999.00,9, -999.00,9,  -999.0,9,  -999.0,-999.000,9,-999.000,  42.8229,2,    87.3,-999.000,   2.2626,         44,2,         34,2,         67,2,         88,2,         95,2,         97,2,        426,2,   12.22,2,   0.0630,2,   0.0370,2,   0.0180,2,   0.0150,2,   0.0345,2,   0.0364,2,-999.0000, -999.00
33RR20050106,       P16S,      81,          2,         30,         30,2,20050202,       2147,   -55.9998,  -150.0000,       3409,   102.2,   1.9965,  33.9077,2,  33.9070,2,    315.9,2,   318.5,2,   14.33,2,   26.30,2,    0.30,2,    1.91,2,   5.711,2,   3.024,2,   0.509,2,  2151.7,2,  2275.6,2,-999.000,9,-999.0000,9, -999.00,9, -999.00,9,  -999.0,9,  -999.0,-999.000,9,-999.000,  40.8149,2,   102.2,-999.000,   1.9912,     -999.0,9,     -999.0,9,     -999.0,9,     -999.0,9,     -999.0,9,     -999.0,9,     -999.0,9,   11.17,2,   0.0690,2,   0.0420,2,   0.0210,2,   0.0170,2,   0.0291,2,   0.0314,2,-999.0000, -999.00
33RR20050106,       P16S,      81,          2,         29,         29,2,20050202,       2147,   -55.9998,  -150.0000,       3409,   137.1,   2.0222,  33.9505,2,  33.9493,2,    309.7,2,   310.4,2,   17.69,2,   27.72,2,    0.16,2,    1.92,2,   5.465,2,   2.904,2,   0.463,2,  2155.8,2,  2278.2,2,-999.000,9,-999.0000,9, -999.00,9, -999.00,9,  -999.0,9,  -999.0,-999.000,9,-999.000,  41.2506,2,   137.1,-999.000,   2.0151,         48,2,         32,2,         53,2,         88,2,        130,2,         94,2,        446,2,    3.94,2,   0.0680,2,   0.0410,2,   0.0200,2,   0.0170,2,   0.0308,2,   0.0331,2,-999.0000, -999.00
33RR20050106,       P16S,      81,          2,         28,         28,2,20050202,       2147,   -55.9998,  -150.0000,       3409,   162.5,   1.9479,  33.9788,2,  33.9803,2,    303.8,2,   304.4,2,   20.85,2,   28.33,2,    0.18,2,    1.97,2,-999.000,9,-999.000,9,-999.000,9,  2162.2,2,  2279.3,2,-999.000,9,-999.0000,9, -999.00,9, -999.00,9,  -999.0,9,  -999.0,-999.000,9,-999.000,  41.9085,2,   162.5,-999.000,   1.9395,     -999.0,9,     -999.0,9,     -999.0,9,     -999.0,9,     -999.0,9,     -999.0,9,     -999.0,9,    4.13,2,   0.0730,2,   0.0450,2,   0.0230,2,   0.0190,2,   0.0274,2,   0.0299,2,-999.0000, -999.00
33RR20050106,       P16S,      81,          2,         27,         27,2,20050202,       2147,   -55.9998,  -150.0000,       3409,   186.9,   1.9443,  34.0130,2,  34.0175,2,    285.6,2,   294.9,2,   23.62,2,   29.01,2,    0.03,2,    2.01,2,   5.109,2,   2.660,2,   0.431,2,  2167.7,2,  2283.0,2,-999.000,9,-999.0000,9, -999.00,9, -999.00,9,  -999.0,9,  -999.0,-999.000,9,-999.000,  40.3540,2,   186.9,-999.000,   1.9346,         35,2,         39,2,         42,2,         84,2,         80,2,        119,2,        399,2,    1.42,2,   0.0860,2,   0.0540,2,   0.0240,2,   0.0210,2,   0.0264,2,   0.0280,2,-999.0000, -999.00
33RR20050106,       P16S,      81,          2,         26,         26,2,20050202,       2147,   -55.9998,  -150.0000,       3409,   237.7,   2.3474,  34.1309,2,  34.1302,2,    270.9,2,   261.0,2,   31.55,2,   30.74,2,    0.01,2,    2.12,2,-999.000,9,-999.000,9,-999.000,9,  2186.7,2,  2288.6,2,-999.000,9,-999.0000,9, -999.00,9, -999.00,9,  -999.0,9,  -999.0,-999.000,9,-999.000,  39.8519,2,   237.7,-999.000,   2.3341,     -999.0,9,     -999.0,9,     -999.0,9,     -999.0,9,     -999.0,9,     -999.0,9,     -999.0,9,    0.13,2,   0.0880,2,   0.0560,2,   0.0260,2,   0.0210,2,   0.0259,2,   0.0276,2,-999.0000, -999.00
33RR20050106,       P16S,      81,          2,         25,         25,2,20050202,       2147,   -55.9998,  -150.0000,       3409,   289.4,   2.7853,  34.2340,2,  34.2357,2,    224.7,2,   226.0,2,   38.50,2,   32.23,2,    0.01,2,    2.22,2,   2.943,2,   1.472,2,   0.220,2,  2204.1,2,  2295.4,2,-999.000,9,-999.0000,9, -999.00,9, -999.00,9,  -999.0,9,  -999.0,-999.000,9,-999.000,  40.0192,2,   289.4,-999.000,   2.7679,         29,2,         36,2,         48,2,         67,2,        121,2,         82,2,        384,2, -999.00,9,   0.0950,2,   0.0620,2,   0.0320,2,   0.0260,2,   0.0192,2,   0.0220,2,-999.0000, -999.00
33RR20050106,       P16S,      81,          2,         24,         24,2,20050202,       2147,   -55.9998,  -150.0000,       3409,   339.6,   2.5363,  34.2482,2,  34.2492,2,    223.8,2,   224.5,2,   42.29,2,   32.61,2,    0.01,2,    2.25,2,-999.000,9,-999.000,9,-999.000,9,  2208.5,2,  2298.7,2,-999.000,9,-999.0000,9, -999.00,9, -999.00,9,  -999.0,9,  -999.0,-999.000,9,-999.000,-999.0000,9,   339.6,-999.000,   2.5164,     -999.0,9,     -999.0,9,     -999.0,9,     -999.0,9,     -999.0,9,     -999.0,9,     -999.0,9, -999.00,9,-999.0000,9,-999.0000,9,-999.0000,9,-999.0000,9,-999.0000,9,-999.0000,9,-999.0000, -999.00
33RR20050106,       P16S,      81,          2,         23,         23,2,20050202,       2147,   -55.9998,  -150.0000,       3409,   394.4,   2.6876,  34.3276,2,  34.3291,2,    202.1,2,  -999.0,5,   49.28,2,   33.63,2,    0.00,2,    2.32,2,   2.039,2,   1.006,2,   0.141,2,  2223.4,2,  2305.6,2,-999.000,9,-999.0000,9, -999.00,9, -999.00,9,  -999.0,9,  -999.0,-999.000,9,-999.000,  39.0635,2,   394.4,-999.000,   2.6638,     -999.0,9,     -999.0,9,     -999.0,9,     -999.0,9,     -999.0,9,     -999.0,9,     -999.0,9, -999.00,9,   0.1000,2,   0.0660,2,   0.0330,2,   0.0260,2,   0.0193,2,   0.0221,2,-999.0000, -999.00
33RR20050106,       P16S,      81,          2,         22,         22,2,20050202,       2147,   -55.9998,  -150.0000,       3409,   445.0,   2.6978,  34.3787,2,  34.3787,2,    191.4,2,   191.1,2,   54.08,2,   34.12,2,    0.00,2,    2.37,2,-999.000,9,-999.000,9,-999.000,9,  2229.7,2,  2310.0,2,-999.000,9,-999.0000,9, -999.00,9, -999.00,9,  -999.0,9,  -999.0,-999.000,9,-999.000,-999.0000,9,   445.0,-999.000,   2.6707,     -999.0,9,     -999.0,9,     -999.0,9,     -999.0,9,     -999.0,9,     -999.0,9,     -999.0,9, -999.00,9,-999.0000,9,-999.0000,9,-999.0000,9,-999.0000,9,-999.0000,9,-999.0000,9,-999.0000, -999.00
33RR20050106,       P16S,      81,          2,         21,         21,2,20050202,       2147,   -55.9998,  -150.0000,       3409,   495.2,   2.6909,  34.4193,2,  34.4198,2,    182.6,2,   183.9,2,   58.28,2,   34.28,2,    0.00,2,    2.38,2,   1.192,2,   0.591,2,   0.070,2,  2236.3,2,  2316.6,2,-999.000,9,-999.0000,9, -999.00,9, -999.00,9,  -999.0,9,  -999.0,-999.000,9,-999.000,  38.4592,2,   495.2,-999.000,   2.6605,     -999.0,9,     -999.0,9,     -999.0,9,     -999.0,9,     -999.0,9,     -999.0,9,     -999.0,9, -999.00,9,   0.1040,2,   0.0680,2,   0.0350,2,   0.0270,2,   0.0173,2,   0.0202,2,-999.0000, -999.00
33RR20050106,       P16S,      81,          2,         20,         20,2,20050202,       2147,   -55.9998,  -150.0000,       3409,   581.7,   2.5611,  34.4752,2,  34.4759,2,    176.6,2,   177.8,2,   64.09,2,   34.55,2,    0.00,2,    2.39,2,   0.963,2,   0.467,2,   0.054,2,  2243.8,2,  2321.6,2,-999.000,9,-999.0000,9, -999.00,9, -999.00,9,  -999.0,9,  -999.0,-999.000,9,-999.000,  39.6788,2,   581.7,-999.000,   2.5256,     -999.0,9,     -999.0,9,     -999.0,9,     -999.0,9,     -999.0,9,     -999.0,9,     -999.0,9, -999.00,9,   0.1170,2,   0.0790,2,   0.0410,2,   0.0310,2,   0.0153,2,   0.0182,2,-999.0000, -999.00
33RR20050106,       P16S,      81,          2,         19,         19,2,20050202,       2147,   -55.9998,  -150.0000,       3409,   682.4,   2.4804,  34.5374,2,  34.5388,2,    174.0,2,   174.3,2,   68.91,2,   34.18,2,    0.00,2,    2.37,2,   0.641,2,   0.308,2,   0.035,2,  2248.5,2,  2329.8,2,-999.000,9,-999.0000,9, -999.00,9, -999.00,9,  -999.0,9,  -999.0,-999.000,9,-999.000,  42.6051,2,   682.4,-999.000,   2.4385,     -999.0,9,     -999.0,9,     -999.0,9,     -999.0,9,     -999.0,9,     -999.0,9,     -999.0,9, -999.00,9,   0.1080,2,   0.0710,2,   0.0370,2,   0.0290,2,   0.0161,2,   0.0191,2,-999.0000, -999.00
33RR20050106,       P16S,      81,          2,         18,         18,2,20050202,       2147,   -55.9998,  -150.0000,       3409,   783.2,   2.4255,  34.5823,2,  34.5836,2,    173.8,2,   174.5,2,   72.73,2,   33.59,2,    0.00,2,    2.34,2,   0.468,2,   0.221,2,   0.023,2,  2250.9,6,  2332.9,2,-999.000,9,-999.0000,9, -999.00,9, -999.00,9,  -999.0,9,  -999.0,-999.000,9,-999.000,  41.7842,2,   783.2,-999.000,   2.3771,     -999.0,9,     -999.0,9,     -999.0,9,     -999.0,9,     -999.0,9,     -999.0,9,     -999.0,9, -999.00,9,   0.1190,2,   0.0810,2,   0.0410,2,   0.0310,2,   0.0157,2,   0.0186,2,-999.0000, -999.00
33RR20050106,       P16S,      81,          2,         17,         17,2,20050202,       2147,   -55.9998,  -150.0000,       3409,   884.5,   2.3595,  34.6202,2,  34.6215,2,    174.3,2,   175.0,2,   75.75,2,   33.27,2,    0.00,2,    2.31,2,   0.366,2,   0.173,2,   0.019,2,  2252.4,2,  2336.7,2,-999.000,9,-999.0000,9, -999.00,9, -999.00,9,  -999.0,9,  -999.0,-999.000,9,-999.000,  41.7147,2,   884.5,-999.000,   2.3045,     -999.0,9,     -999.0,9,     -999.0,9,     -999.0,9,     -999.0,9,     -999.0,9,     -999.0,9, -999.00,9,   0.1140,2,   0.0760,2,   0.0400,2,   0.0300,2,   0.0156,2,   0.0186,2,-999.0000, -999.00
33RR20050106,       P16S,      81,          2,         16,         16,2,20050202,       2147,   -55.9998,  -150.0000,       3409,   984.9,   2.2993,  34.6503,2,  34.6506,2,    175.5,2,   176.1,2,   77.97,2,   32.85,2,    0.00,2,    2.27,2,   0.272,2,   0.134,2,   0.017,2,  2252.7,2,  2339.6,2,-999.000,9,-999.0000,9, -999.00,9, -999.00,9,  -999.0,9,  -999.0,-999.000,9,-999.000,  39.2901,2,   984.9,-999.000,   2.2377,     -999.0,9,     -999.0,9,     -999.0,9,     -999.0,9,     -999.0,9,     -999.0,9,     -999.0,9, -999.00,9,   0.1180,2,   0.0790,2,   0.0410,2,   0.0310,2,   0.0152,2,   0.0181,3,-999.0000, -999.00
33RR20050106,       P16S,      81,          2,         15,         15,2,20050202,       2147,   -55.9998,  -150.0000,       3409,  1086.6,   2.2342,  34.6731,2,  34.6734,2,    177.0,2,   177.5,2,   80.80,2,   32.43,2,    0.00,2,    2.25,2,   0.223,2,   0.113,2,   0.018,2,  2255.1,2,  2343.4,2,-999.000,9,-999.0000,9, -999.00,9, -999.00,9,  -999.0,9,  -999.0,-999.000,9,-999.000,  41.6621,2,  1086.6,-999.000,   2.1659,     -999.0,9,     -999.0,9,     -999.0,9,     -999.0,9,     -999.0,9,     -999.0,9,     -999.0,9, -999.00,9,   0.1180,2,   0.0790,2,   0.0420,2,   0.0320,2,   0.0149,2,   0.0177,3,-999.0000, -999.00
33RR20050106,       P16S,      81,          2,         14,         14,2,20050202,       2147,   -55.9998,  -150.0000,       3409,  1187.5,   2.1757,  34.6918,2,  34.6919,2,    179.4,2,   180.3,2,   82.02,2,   31.95,2,    0.00,2,    2.22,2,   0.171,2,   0.084,2,   0.012,2,  2253.3,2,  2345.1,2,-999.000,9,-999.0000,9, -999.00,9, -999.00,9,  -999.0,9,  -999.0,-999.000,9,-999.000,  41.6614,2,  1187.5,-999.000,   2.1006,     -999.0,9,     -999.0,9,     -999.0,9,     -999.0,9,     -999.0,9,     -999.0,9,     -999.0,9, -999.00,9,   0.1180,2,   0.0800,2,   0.0420,2,   0.0320,2,   0.0145,3,   0.0174,3,-999.0000, -999.00
33RR20050106,       P16S,      81,          2,         13,         13,2,20050202,       2147,   -55.9998,  -150.0000,       3409,  1289.2,   2.1231,  34.7063,2,  34.7067,2,    182.2,2,   182.9,2,   82.83,2,   31.74,2,    0.00,2,    2.19,2,-999.000,9,-999.000,9,-999.000,9,  2251.2,2,  2345.7,2,-999.000,9,-999.0000,9, -999.00,9, -999.00,9,  -999.0,9,  -999.0,-999.000,9,-999.000,-999.0000,9,  1289.2,-999.000,   2.0410,     -999.0,9,     -999.0,9,     -999.0,9,     -999.0,9,     -999.0,9,     -999.0,9,     -999.0,9, -999.00,9,-999.0000,9,-999.0000,9,-999.0000,9,-999.0000,9,-999.0000,9,-999.0000,9,-999.0000, -999.00
33RR20050106,       P16S,      81,          2,         12,         12,2,20050202,       2147,   -55.9998,  -150.0000,       3409,  1389.9,   2.0614,  34.7170,2,  34.7179,2,    184.3,2,   185.1,2,   84.64,2,   31.42,2,    0.00,2,    2.18,2,   0.159,2,   0.083,2,   0.012,2,  2253.1,2,  2346.2,2,-999.000,9,-999.0000,9, -999.00,9, -999.00,9,  -999.0,9,  -999.0,-999.000,9,-999.000,  40.2479,2,  1389.9,-999.000,   1.9724,     -999.0,9,     -999.0,9,     -999.0,9,     -999.0,9,     -999.0,9,     -999.0,9,     -999.0,9, -999.00,9,   0.1220,2,   0.0820,2,   0.0430,2,   0.0320,2,   0.0150,3,   0.0178,3,-999.0000, -999.00
33RR20050106,       P16S,      81,          2,         11,         11,2,20050202,       2147,   -55.9998,  -150.0000,       3409,  1490.7,   2.0011,  34.7250,2,  34.7253,2,    186.5,2,   187.3,2,   86.06,2,   31.26,2,    0.00,2,    2.16,2,-999.000,9,-999.000,9,-999.000,9,  2252.9,2,  2348.4,2,-999.000,9,-999.0000,9, -999.00,9, -999.00,9,  -999.0,9,  -999.0,-999.000,9,-999.000,-999.0000,9,  1490.7,-999.000,   1.9051,     -999.0,9,     -999.0,9,     -999.0,9,     -999.0,9,     -999.0,9,     -999.0,9,     -999.0,9, -999.00,9,-999.0000,9,-999.0000,9,-999.0000,9,-999.0000,9,-999.0000,9,-999.0000,9,-999.0000, -999.00
33RR20050106,       P16S,      81,          2,         10,         10,2,20050202,       2147,   -55.9998,  -150.0000,       3409,  1592.2,   1.9348,  34.7309,2,  34.7318,2,    188.5,2,   189.0,2,   87.88,2,   31.11,2,    0.00,2,    2.15,2,   0.121,2,   0.060,2,   0.011,2,  2253.9,2,  2350.5,2,-999.000,9,-999.0000,9, -999.00,9, -999.00,9,  -999.0,9,  -999.0,-999.000,9,-999.000,  39.5077,2,  1592.2,-999.000,   1.8318,     -999.0,9,     -999.0,9,     -999.0,9,     -999.0,9,     -999.0,9,     -999.0,9,     -999.0,9, -999.00,9,   0.1200,2,   0.0820,2,   0.0420,2,   0.0320,2,   0.0151,2,   0.0180,2,-999.0000, -999.00
33RR20050106,       P16S,      81,          2,          9,          9,2,20050202,       2147,   -55.9998,  -150.0000,       3409,  1795.0,   1.7775,  34.7382,2,  34.7383,2,    192.1,2,   192.7,2,   92.14,2,   30.95,2,    0.00,2,    2.15,2,   0.177,2,   0.103,2,   0.016,2,  2253.9,2,  2350.9,2,-999.000,9,-999.0000,9, -999.00,9, -999.00,9,  -999.0,9,  -999.0,-999.000,9,-999.000,-999.0000,9,  1795.0,-999.000,   1.6606,     -999.0,9,     -999.0,9,     -999.0,9,     -999.0,9,     -999.0,9,     -999.0,9,     -999.0,9, -999.00,9,-999.0000,9,-999.0000,9,-999.0000,9,-999.0000,9,-999.0000,9,-999.0000,9,-999.0000, -999.00
33RR20050106,       P16S,      81,          2,          8,          8,2,20050202,       2147,   -55.9998,  -150.0000,       3409,  1997.8,   1.6108,  34.7377,2,  34.7383,2,    195.1,2,   195.8,2,   97.01,2,   31.07,2,    0.00,2,    2.15,2,   0.083,2,   0.051,2,   0.008,2,  2256.5,2,  2354.6,2,-999.000,9,-999.0000,9, -999.00,9, -999.00,9,  -999.0,9,  -999.0,-999.000,9,-999.000,  40.0350,2,  1997.8,-999.000,   1.4801,     -999.0,9,     -999.0,9,     -999.0,9,     -999.0,9,     -999.0,9,     -999.0,9,     -999.0,9, -999.00,9,   0.1180,2,   0.0800,2,   0.0420,2,   0.0320,2,   0.0149,2,   0.0177,2,-999.0000, -999.00
33RR20050106,       P16S,      81,          2,          7,          7,2,20050202,       2147,   -55.9998,  -150.0000,       3409,  2201.0,   1.4498,  34.7342,2,  34.7350,2,    197.4,2,   198.2,2,  102.28,2,   31.18,2,    0.00,2,    2.16,2,   0.065,2,   0.044,2,   0.007,2,  2258.4,2,  2357.5,2,-999.000,9,-999.0000,9, -999.00,9, -999.00,9,  -999.0,9,  -999.0,-999.000,9,-999.000,-999.0000,9,  2201.0,-999.000,   1.3050,     -999.0,9,     -999.0,9,     -999.0,9,     -999.0,9,     -999.0,9,     -999.0,9,     -999.0,9, -999.00,9,-999.0000,9,-999.0000,9,-999.0000,9,-999.0000,9,-999.0000,9,-999.0000,9,-999.0000, -999.00
33RR20050106,       P16S,      81,          2,          6,          6,2,20050202,       2147,   -55.9998,  -150.0000,       3409,  2455.4,   1.2609,  34.7275,2,  34.7291,2,    199.9,2,   200.6,2,  107.96,2,   31.45,2,    0.00,2,    2.17,2,-999.000,9,-999.000,9,-999.000,9,  2259.5,2,  2357.8,2,-999.000,9,-999.0000,9, -999.00,9, -999.00,9,  -999.0,9,  -999.0,-999.000,9,-999.000,  40.1108,2,  2455.4,-999.000,   1.0979,     -999.0,9,     -999.0,9,     -999.0,9,     -999.0,9,     -999.0,9,     -999.0,9,     -999.0,9, -999.00,9,   0.1160,2,   0.0780,2,   0.0410,2,   0.0310,2,   0.0151,2,   0.0178,2,-999.0000, -999.00
33RR20050106,       P16S,      81,          2,          5,          5,2,20050202,       2147,   -55.9998,  -150.0000,       3409,  2709.9,   1.0768,  34.7194,2,  34.7203,2,    201.7,2,   202.9,2,  114.26,2,   31.72,2,    0.00,2,    2.20,2,   0.157,2,   0.095,2,   0.015,2,  2261.1,2,  2360.3,2,-999.000,9,-999.0000,9, -999.00,9, -999.00,9,  -999.0,9,  -999.0,-999.000,9,-999.000,-999.0000,9,  2709.9,-999.000,   0.8953,     -999.0,9,     -999.0,9,     -999.0,9,     -999.0,9,     -999.0,9,     -999.0,9,     -999.0,9, -999.00,9,-999.0000,9,-999.0000,9,-999.0000,9,-999.0000,9,-999.0000,9,-999.0000,9,-999.0000, -999.00
33RR20050106,       P16S,      81,          2,          4,          4,2,20050202,       2147,   -55.9998,  -150.0000,       3409,  2943.8,   0.9301,  34.7133,2,  34.7138,2,    204.3,2,   205.2,2,  120.56,2,   32.04,2,    0.00,2,    2.22,2,-999.000,9,-999.000,9,-999.000,9,  2262.7,2,  2361.5,2,-999.000,9,-999.0000,9, -999.00,9, -999.00,5,  -160.1,6,     2.3,-999.000,9,-999.000,  39.9025,2,  2943.8,-999.000,   0.7308,     -999.0,9,     -999.0,9,     -999.0,9,     -999.0,9,     -999.0,9,     -999.0,9,     -999.0,9, -999.00,9,   0.1150,2,   0.0780,2,   0.0420,2,   0.0310,2,   0.0148,2,   0.0175,2,-999.0000, -999.00