BOTTLE,20201109CCHSIOCBG
EXPOCODE,SECT_ID,STNNBR,CASTNO,SAMPNO,BTLNBR,BTLNBR_FLAG_W,DATE,TIME,LATITUDE,LONGITUDE,DEPTH,CTDPRS,CTDTMP,CTDSAL,CTDSAL_FLAG_W,SALNTY,SALNTY_FLAG_W,CTDOXY,CTDOXY_FLAG_W,OXYGEN,OXYGEN_FLAG_W,SILCAT,SILCAT_FLAG_W,NITRAT,NITRAT_FLAG_W,NITRIT,NITRIT_FLAG_W,PHSPHT,PHSPHT_FLAG_W,CFC-11,CFC-11_FLAG_W,CFC-12,CFC-12_FLAG_W,CFC113,CFC113_FLAG_W,TCARBN,TCARBN_FLAG_W,ALKALI,ALKALI_FLAG_W,TRITUM,TRITUM_FLAG_W,HELIUM,HELIUM_FLAG_W,DELHE3,DELHE3_FLAG_W,DELC13,DELC13_FLAG_W,DELC14,DELC14_FLAG_W,C14ERR,NEON,NEON_FLAG_W,NEONER,DOC,DOC_FLAG_W,CTDRAW,TRITER,THETA,FUCO,FUCO_FLAG_W,RHAM,RHAM_FLAG_W,ARABA,ARABA_FLAG_W,GALA,GALA_FLAG_W,GLUC,GLUC_FLAG_W,MAN,MAN_FLAG_W,DCNS,DCNS_FLAG_W,BRDU,BRDU_FLAG_W,CDOM325,CDOM325_FLAG_W,CDOM340,CDOM340_FLAG_W,CDOM380,CDOM380_FLAG_W,CDOM412,CDOM412_FLAG_W,CDOMSL,CDOMSL_FLAG_W,CDOMSN,CDOMSN_FLAG_W,HELIER,DELHER
,,,,,,,,,,,METERS,DBAR,ITS-90,PSS-78,,PSS-78,,UMOL/KG,,UMOL/KG,,UMOL/KG,,UMOL/KG,,UMOL/KG,,UMOL/KG,,PMOL/KG,,PMOL/KG,,PMOL/KG,,UMOL/KG,,UMOL/KG,,TU,,NMOL/KG,,PERCNT,,/MILLE,,/MILLE,,/MILLE,NMOL/KG,,NMOL/KG,UMOL/KG,,DBAR,TU,DEG C,NMOL/KG,,NMOL/KG,,NMOL/KG,,NMOL/KG,,NMOL/KG,,NMOL/KG,,NMOL/KG,,PMOL/L/H,,1/M,,1/M,,1/M,,1/M,,1/NM,,1/NM,,NMOL/KG,PERCNT
33RR20050106,       P16S,     105,          1,         30,         30,2,20050209,       1250,   -67.9987,  -149.9997,       4260,     3.4,  -0.7083,  33.5725,2,  33.5726,2,    357.9,2,   359.1,2,   37.30,2,   21.87,2,    0.17,2,    1.49,2,   5.709,2,   3.164,2,   0.625,2,  2130.3,2,  2273.5,6,   0.147,2,   1.8280,2,   -1.26,2, -999.00,9,  -999.0,9,  -999.0,   8.277,2,   0.012,  42.0964,2,     3.4,   0.008,  -0.7084,     -999.0,9,     -999.0,9,     -999.0,9,     -999.0,9,     -999.0,9,     -999.0,9,     -999.0,9, -999.00,9,-999.0000,9,-999.0000,9,-999.0000,9,-999.0000,9,-999.0000,9,-999.0000,9,   0.0010,    0.22
33RR20050106,       P16S,     105,          1,         29,         29,2,20050209,       1250,   -67.9987,  -149.9997,       4260,    40.4,  -0.8786,  33.6296,2,  33.6635,2,    357.5,2,   348.3,2,   39.96,2,   22.75,2,    0.17,2,    1.64,2,   5.647,2,   3.086,2,   0.611,2,  2141.9,2,  2279.4,2,-999.000,9,-999.0000,9, -999.00,9, -999.00,9,  -999.0,9,  -999.0,-999.000,9,-999.000,  43.4583,2,    40.4,-999.000,  -0.8797,     -999.0,9,     -999.0,9,     -999.0,9,     -999.0,9,     -999.0,9,     -999.0,9,     -999.0,9, -999.00,9,-999.0000,9,-999.0000,9,-999.0000,9,-999.0000,9,-999.0000,9,-999.0000,9,-999.0000, -999.00
33RR20050106,       P16S,     105,          1,         28,         28,2,20050209,       1250,   -67.9987,  -149.9997,       4260,    75.6,  -1.6572,  34.0624,2,  34.0667,2,    310.4,2,   310.4,2,   48.17,2,   26.78,2,    0.23,2,    1.94,2,   4.928,2,   2.720,2,   0.527,2,  2192.8,2,  2301.5,2,   0.123,2,   1.8400,2,    0.06,2, -999.00,9,  -999.0,9,  -999.0,   8.319,2,   0.013,  42.4005,2,    75.6,   0.008,  -1.6587,     -999.0,9,     -999.0,9,     -999.0,9,     -999.0,9,     -999.0,9,     -999.0,9,     -999.0,9, -999.00,9,-999.0000,9,-999.0000,9,-999.0000,9,-999.0000,9,-999.0000,9,-999.0000,9,   0.0010,    0.24
33RR20050106,       P16S,     105,          1,         27,         27,2,20050209,       1250,   -67.9987,  -149.9997,       4260,    90.7,  -1.6256,  34.0835,2,  34.0816,2,    305.4,2,   309.3,2,   48.58,2,   27.05,2,    0.23,2,    1.95,2,   4.905,2,   2.687,2,   0.545,2,  2194.2,2,  2301.7,2,-999.000,9,   1.8550,2,    0.25,2, -999.00,9,  -999.0,9,  -999.0,   8.406,2,   0.007,  42.5325,2,    90.7,-999.000,  -1.6275,     -999.0,9,     -999.0,9,     -999.0,9,     -999.0,9,     -999.0,9,     -999.0,9,     -999.0,9, -999.00,9,-999.0000,9,-999.0000,9,-999.0000,9,-999.0000,9,-999.0000,9,-999.0000,9,   0.0010,    0.23
33RR20050106,       P16S,     105,          1,         26,         26,2,20050209,       1250,   -67.9987,  -149.9997,       4260,   136.0,  -0.9231,  34.2112,2,  34.2329,2,    274.8,2,   273.0,2,   59.50,2,   29.44,2,    0.03,2,    2.04,2,   3.866,2,   2.073,2,   0.406,2,  2210.9,2,  2310.5,2,-999.000,9,   1.9760,3,    2.06,2, -999.00,9,  -999.0,9,  -999.0,   8.770,2,   0.014,  39.5074,2,   136.0,-999.000,  -0.9269,     -999.0,9,     -999.0,9,     -999.0,9,     -999.0,9,     -999.0,9,     -999.0,9,     -999.0,9, -999.00,9,-999.0000,9,-999.0000,9,-999.0000,9,-999.0000,9,-999.0000,9,-999.0000,9,   0.0010,    0.22
33RR20050106,       P16S,     105,          1,         25,         25,2,20050209,       1250,   -67.9987,  -149.9997,       4260,   186.5,   0.7843,  34.5164,2,  34.5165,2,    208.2,2,   210.9,2,   78.94,2,   32.13,2,    0.01,2,    2.22,2,   1.688,2,   0.923,2,   0.165,2,  2242.2,2,  2328.5,2,-999.000,9,-999.0000,9, -999.00,9, -999.00,9,  -999.0,9,  -999.0,-999.000,9,-999.000,  39.0574,2,   186.5,-999.000,   0.7762,     -999.0,9,     -999.0,9,     -999.0,9,     -999.0,9,     -999.0,9,     -999.0,9,     -999.0,9, -999.00,9,-999.0000,9,-999.0000,9,-999.0000,9,-999.0000,9,-999.0000,9,-999.0000,9,-999.0000, -999.00
33RR20050106,       P16S,     105,          1,         24,         24,2,20050209,       1250,   -67.9987,  -149.9997,       4260,   236.8,   1.5537,  34.6771,2,  34.6756,2,    183.9,2,   183.9,2,   88.27,2,   32.65,2,    0.01,2,    2.26,2,   0.567,2,   0.308,2,   0.040,2,  2255.6,2,  2340.7,2,-999.000,9,-999.0000,9, -999.00,9, -999.00,9,  -999.0,9,  -999.0,-999.000,9,-999.000,  41.4325,2,   236.8,-999.000,   1.5418,     -999.0,9,     -999.0,9,     -999.0,9,     -999.0,9,     -999.0,9,     -999.0,9,     -999.0,9, -999.00,9,-999.0000,9,-999.0000,9,-999.0000,9,-999.0000,9,-999.0000,9,-999.0000,9,-999.0000, -999.00
33RR20050106,       P16S,     105,          1,         23,         23,2,20050209,       1250,   -67.9987,  -149.9997,       4260,   261.9,   1.6142,  34.7019,2,  34.7010,2,    182.1,2,   182.8,2,   90.54,2,   32.44,2,    0.00,2,    2.24,2,   0.543,2,   0.306,2,   0.042,2,  2256.1,2,  2342.6,2,   0.177,2,-999.0000,9, -999.00,9, -999.00,9,  -999.0,9,  -999.0,-999.000,9,-999.000,  41.8266,2,   261.9,   0.007,   1.6008,     -999.0,9,     -999.0,9,     -999.0,9,     -999.0,9,     -999.0,9,     -999.0,9,     -999.0,9, -999.00,9,-999.0000,9,-999.0000,9,-999.0000,9,-999.0000,9,-999.0000,9,-999.0000,9,-999.0000, -999.00
33RR20050106,       P16S,     105,          1,         22,         22,2,20050209,       1250,   -67.9987,  -149.9997,       4260,   292.2,   1.5990,  34.7119,2,  34.7106,2,    182.6,2,   183.5,2,   92.20,2,   32.29,2,    0.00,2,    2.23,2,   0.355,2,   0.179,2,   0.028,2,  2256.0,2,  2344.5,2,   0.023,2,-999.0000,9, -999.00,9, -999.00,9,  -999.0,9,  -999.0,-999.000,9,-999.000,  40.9683,2,   292.2,   0.007,   1.5840,     -999.0,9,     -999.0,9,     -999.0,9,     -999.0,9,     -999.0,9,     -999.0,9,     -999.0,9, -999.00,9,-999.0000,9,-999.0000,9,-999.0000,9,-999.0000,9,-999.0000,9,-999.0000,9,-999.0000, -999.00
33RR20050106,       P16S,     105,          1,         21,         21,2,20050209,       1250,   -67.9987,  -149.9997,       4260,   342.7,   1.5595,  34.7236,2,  34.7224,2,    183.8,2,   184.5,2,   94.90,2,   32.19,2,    0.00,2,    2.22,2,   0.447,2,   0.248,2,   0.031,2,  2255.8,2,  2347.6,2,   0.036,2,-999.0000,9, -999.00,9, -999.00,9,  -999.0,9,  -999.0,-999.000,9,-999.000,  41.1939,2,   342.7,   0.007,   1.5419,     -999.0,9,     -999.0,9,     -999.0,9,     -999.0,9,     -999.0,9,     -999.0,9,     -999.0,9, -999.00,9,-999.0000,9,-999.0000,9,-999.0000,9,-999.0000,9,-999.0000,9,-999.0000,9,-999.0000, -999.00
33RR20050106,       P16S,     105,          1,         20,         20,2,20050209,       1250,   -67.9987,  -149.9997,       4260,   393.1,   1.5035,  34.7284,2,  34.7278,2,    184.2,2,   185.0,2,   97.38,2,   32.14,2,    0.00,2,    2.21,2,   0.299,2,   0.163,2,   0.020,2,  2256.4,2,  2348.4,2,   0.095,2,-999.0000,9, -999.00,9, -999.00,9,  -999.0,9,  -999.0,-999.000,9,-999.000,  41.7742,2,   393.1,   0.006,   1.4833,     -999.0,9,     -999.0,9,     -999.0,9,     -999.0,9,     -999.0,9,     -999.0,9,     -999.0,9, -999.00,9,-999.0000,9,-999.0000,9,-999.0000,9,-999.0000,9,-999.0000,9,-999.0000,9,-999.0000, -999.00
33RR20050106,       P16S,     105,          1,         19,         19,2,20050209,       1250,   -67.9987,  -149.9997,       4260,   494.1,   1.4058,  34.7315,2,  34.7317,2,    185.2,2,   185.7,2,  101.33,2,   32.24,2,    0.00,2,    2.22,2,   0.161,2,   0.086,2,   0.004,2,  2260.8,2,  2350.2,2,   0.101,2,-999.0000,9, -999.00,9, -999.00,9,  -999.0,9,  -999.0,-999.000,9,-999.000,  40.0324,2,   494.1,   0.007,   1.3804,     -999.0,9,     -999.0,9,     -999.0,9,     -999.0,9,     -999.0,9,     -999.0,9,     -999.0,9, -999.00,9,-999.0000,9,-999.0000,9,-999.0000,9,-999.0000,9,-999.0000,9,-999.0000,9,-999.0000, -999.00
33RR20050106,       P16S,     105,          1,         18,         18,2,20050209,       1250,   -67.9987,  -149.9997,       4260,   579.8,   1.3372,  34.7313,2,  34.7311,2,    185.5,2,   185.8,2,  104.25,2,   32.35,2,    0.00,2,    2.22,2,   0.149,2,   0.083,2,   0.005,2,  2261.9,2,  2351.7,6,   0.001,2,   1.8860,2,   10.76,2, -999.00,9,  -999.0,9,  -999.0,   8.243,2,   0.012,  43.9725,2,   579.8,   0.006,   1.3073,     -999.0,9,     -999.0,9,     -999.0,9,     -999.0,9,     -999.0,9,     -999.0,9,     -999.0,9, -999.00,9,-999.0000,9,-999.0000,9,-999.0000,9,-999.0000,9,-999.0000,9,-999.0000,9,   0.0010,    0.33
33RR20050106,       P16S,     105,          1,         17,         17,2,20050209,       1250,   -67.9987,  -149.9997,       4260,   781.7,   1.1883,  34.7281,2,  34.7278,2,    188.7,2,   189.1,2,  109.46,2,   32.35,2,    0.00,2,    2.22,2,   0.143,2,   0.073,2,   0.007,2,  2263.6,2,  2353.4,2,   0.008,2,   1.8810,2,    9.55,2, -999.00,9,  -999.0,9,  -999.0,   8.242,2,   0.011,  42.5652,2,   781.7,   0.007,   1.1476,     -999.0,9,     -999.0,9,     -999.0,9,     -999.0,9,     -999.0,9,     -999.0,9,     -999.0,9, -999.00,9,-999.0000,9,-999.0000,9,-999.0000,9,-999.0000,9,-999.0000,9,-999.0000,9,   0.0020,    0.22
33RR20050106,       P16S,     105,          1,         16,         16,2,20050209,       1250,   -67.9987,  -149.9997,       4260,   983.9,   1.0451,  34.7232,2,  34.7229,2,    193.5,2,   194.3,2,  113.63,2,   32.24,2,    0.00,2,    2.21,2,-999.000,9,-999.000,9,-999.000,9,  2262.6,6,  2355.8,2,-999.000,9,-999.0000,9, -999.00,9, -999.00,9,  -999.0,9,  -999.0,-999.000,9,-999.000,  43.4034,2,   983.9,-999.000,   0.9933,     -999.0,9,     -999.0,9,     -999.0,9,     -999.0,9,     -999.0,9,     -999.0,9,     -999.0,9, -999.00,9,-999.0000,9,-999.0000,9,-999.0000,9,-999.0000,9,-999.0000,9,-999.0000,9,-999.0000, -999.00
33RR20050106,       P16S,     105,          1,         15,         15,2,20050209,       1250,   -67.9987,  -149.9997,       4260,  1186.4,   0.9280,  34.7185,2,  34.7184,2,    197.5,2,   198.0,2,  117.18,2,   32.24,2,    0.00,2,    2.21,2,   0.087,2,   0.051,2,   0.003,2,  2263.4,2,  2356.9,2,   0.001,2,   1.8800,2,   10.29,2, -999.00,9,  -999.0,9,  -999.0,   8.231,2,   0.011,  41.3204,2,  1186.4,   0.005,   0.8646,     -999.0,9,     -999.0,9,     -999.0,9,     -999.0,9,     -999.0,9,     -999.0,9,     -999.0,9, -999.00,9,-999.0000,9,-999.0000,9,-999.0000,9,-999.0000,9,-999.0000,9,-999.0000,9,   0.0020,    0.22
33RR20050106,       P16S,     105,          1,         14,         14,2,20050209,       1250,   -67.9987,  -149.9997,       4260,  1388.8,   0.8287,  34.7143,2,  34.7135,2,    200.4,2,   201.3,2,  120.51,2,   32.30,2,    0.00,2,    2.22,2,-999.000,9,-999.000,9,-999.000,9,  2263.2,2,  2358.3,2,-999.000,9,-999.0000,9, -999.00,9, -999.00,9,  -999.0,9,  -999.0,-999.000,9,-999.000,-999.0000,9,  1388.8,-999.000,   0.7533,     -999.0,9,     -999.0,9,     -999.0,9,     -999.0,9,     -999.0,9,     -999.0,9,     -999.0,9, -999.00,9,-999.0000,9,-999.0000,9,-999.0000,9,-999.0000,9,-999.0000,9,-999.0000,9,-999.0000, -999.00
33RR20050106,       P16S,     105,          1,         13,         13,2,20050209,       1250,   -67.9987,  -149.9997,       4260,  1591.5,   0.7379,  34.7107,2,  34.7102,2,    202.4,2,   202.9,2,  123.85,2,   32.35,2,    0.00,2,    2.22,2,   0.147,2,   0.085,2,   0.009,2,  2263.0,2,  2358.4,2,   0.142,2,   1.9090,2,   11.12,2, -999.00,9,  -999.0,9,  -999.0,   8.342,2,   0.011,  42.6529,2,  1591.5,   0.005,   0.6499,     -999.0,9,     -999.0,9,     -999.0,9,     -999.0,9,     -999.0,9,     -999.0,9,     -999.0,9, -999.00,9,-999.0000,9,-999.0000,9,-999.0000,9,-999.0000,9,-999.0000,9,-999.0000,9,   0.0010,    0.19
33RR20050106,       P16S,     105,          1,         12,         12,2,20050209,       1250,   -67.9987,  -149.9997,       4260,  1794.4,   0.6586,  34.7079,2,  34.7076,2,    204.3,2,   205.0,2,  126.14,2,   32.35,2,    0.00,2,    2.23,2,-999.000,9,-999.000,9,-999.000,9,  2263.0,2,  2358.7,2,-999.000,9,-999.0000,9, -999.00,9, -999.00,9,  -999.0,9,  -999.0,-999.000,9,-999.000,-999.0000,9,  1794.4,-999.000,   0.5575,     -999.0,9,     -999.0,9,     -999.0,9,     -999.0,9,     -999.0,9,     -999.0,9,     -999.0,9, -999.00,9,-999.0000,9,-999.0000,9,-999.0000,9,-999.0000,9,-999.0000,9,-999.0000,9,-999.0000, -999.00
33RR20050106,       P16S,     105,          1,         11,         11,2,20050209,       1250,   -67.9987,  -149.9997,       4260,  1997.4,   0.5851,  34.7060,2,  34.7060,2,    206.0,2,   206.7,2,  127.18,2,   32.41,2,    0.00,2,    2.24,2,   0.131,2,   0.070,2,   0.009,2,  2262.8,2,  2359.0,2,-999.000,9,   1.9180,2,   11.19,2, -999.00,9,  -999.0,9,  -999.0,   8.406,2,   0.011,  44.2074,2,  1997.4,-999.000,   0.4703,     -999.0,9,     -999.0,9,     -999.0,9,     -999.0,9,     -999.0,9,     -999.0,9,     -999.0,9, -999.00,9,-999.0000,9,-999.0000,9,-999.0000,9,-999.0000,9,-999.0000,9,-999.0000,9,   0.0010,    0.20
33RR20050106,       P16S,     105,          1,         10,         10,2,20050209,       1250,   -67.9987,  -149.9997,       4260,  2200.8,   0.5093,  34.7048,2,  34.7051,2,    207.6,2,   208.5,2,  128.43,2,   32.46,2,    0.00,2,    2.23,2,   0.195,2,   0.108,2,   0.009,2,  2262.6,2,  2357.4,2,-999.000,9,-999.0000,9, -999.00,9, -999.00,9,  -999.0,9,  -999.0,-999.000,9,-999.000,-999.0000,9,  2200.8,-999.000,   0.3804,     -999.0,9,     -999.0,9,     -999.0,9,     -999.0,9,     -999.0,9,     -999.0,9,     -999.0,9, -999.00,9,-999.0000,9,-999.0000,9,-999.0000,9,-999.0000,9,-999.0000,9,-999.0000,9,-999.0000, -999.00
33RR20050106,       P16S,     105,          1,          9,          9,2,20050209,       1250,   -67.9987,  -149.9997,       4260,  2455.0,   0.4291,  34.7041,2,  34.7037,2,    209.7,2,   210.3,2,  130.31,2,   32.46,2,    0.00,2,    2.23,2,   0.138,2,   0.078,2,   0.012,2,  2262.6,2,  2358.3,2,-999.000,9,   1.9010,2,   10.43,2, -999.00,9,  -999.0,9,  -999.0,   8.370,2,   0.011,  40.5943,2,  2455.0,-999.000,   0.2818,     -999.0,9,     -999.0,9,     -999.0,9,     -999.0,9,     -999.0,9,     -999.0,9,     -999.0,9, -999.00,9,-999.0000,9,-999.0000,9,-999.0000,9,-999.0000,9,-999.0000,9,-999.0000,9,   0.0010,    0.20
33RR20050106,       P16S,     105,          1,          8,          8,2,20050209,       1250,   -67.9987,  -149.9997,       4260,  2709.6,   0.3564,  34.7035,2,  34.7029,2,    211.4,2,   212.3,2,  132.19,2,   32.46,2,    0.00,2,    2.24,2,   0.125,2,   0.070,2,   0.015,2,  2262.9,2,  2358.5,2,-999.000,9,   2.1080,3,    8.80,2, -999.00,9,  -999.0,9,  -999.0,   8.973,3,   0.012,-999.0000,9,  2709.6,-999.000,   0.1897,     -999.0,9,     -999.0,9,     -999.0,9,     -999.0,9,     -999.0,9,     -999.0,9,     -999.0,9, -999.00,9,-999.0000,9,-999.0000,9,-999.0000,9,-999.0000,9,-999.0000,9,-999.0000,9,   0.0010,    0.21
33RR20050106,       P16S,     105,          1,          7,          7,2,20050209,       1250,   -67.9987,  -149.9997,       4260,  2964.6,   0.3001,  34.7028,2,  34.7028,2,    213.3,2,   214.3,2,  132.81,2,   32.57,2,    0.00,2,    2.24,2,   0.187,2,   0.108,2,   0.014,2,  2264.0,2,  2358.2,2,-999.000,9,   1.9090,2,    8.58,2, -999.00,9,  -999.0,9,  -999.0,   8.352,2,   0.011,-999.0000,9,  2964.6,-999.000,   0.1129,     -999.0,9,     -999.0,9,     -999.0,9,     -999.0,9,     -999.0,9,     -999.0,9,     -999.0,9, -999.00,9,-999.0000,9,-999.0000,9,-999.0000,9,-999.0000,9,-999.0000,9,-999.0000,9,   0.0020,    0.22
33RR20050106,       P16S,     105,          1,          6,          6,2,20050209,       1250,   -67.9987,  -149.9997,       4260,  3219.8,   0.2441,  34.7017,2,  34.7014,2,    215.9,2,   216.7,2,  132.38,2,   32.52,2,    0.00,2,    2.23,2,   0.284,2,   0.147,2,   0.027,2,  2262.5,2,  2359.8,2,-999.000,9,   1.9220,2,    8.70,2, -999.00,9,  -999.0,9,  -999.0,   8.446,2,   0.011,  39.2543,2,  3219.8,-999.000,   0.0356,     -999.0,9,     -999.0,9,     -999.0,9,     -999.0,9,     -999.0,9,     -999.0,9,     -999.0,9, -999.00,9,-999.0000,9,-999.0000,9,-999.0000,9,-999.0000,9,-999.0000,9,-999.0000,9,   0.0010,    0.20
33RR20050106,       P16S,     105,          1,          5,          5,2,20050209,       1250,   -67.9987,  -149.9997,       4260,  3475.4,   0.1835,  34.6992,2,  34.6981,2,    219.1,2,   220.1,2,  126.51,2,   32.41,2,    0.00,2,    2.23,2,   0.514,2,   0.273,2,   0.039,2,  2260.4,2,  2356.8,2,-999.000,9,   1.9080,2,    7.84,2, -999.00,9,  -999.0,9,  -999.0,   8.389,2,   0.011,-999.0000,9,  3475.4,-999.000,  -0.0470,     -999.0,9,     -999.0,9,     -999.0,9,     -999.0,9,     -999.0,9,     -999.0,9,     -999.0,9, -999.00,9,-999.0000,9,-999.0000,9,-999.0000,9,-999.0000,9,-999.0000,9,-999.0000,9,   0.0020,    0.22
33RR20050106,       P16S,     105,          1,          4,          4,2,20050209,       1250,   -67.9987,  -149.9997,       4260,  3731.1,   0.1558,  34.6978,2,  34.6961,2,    221.5,2,   222.2,2,  122.11,2,   32.30,2,    0.00,2,    2.23,2,   0.686,2,   0.360,2,   0.047,2,  2260.7,2,  2353.5,2,-999.000,9,   1.9190,2,    8.00,2, -999.00,9,  -999.0,9,  -999.0,   8.367,2,   0.012,  39.6299,2,  3731.1,-999.000,  -0.0984,     -999.0,9,     -999.0,9,     -999.0,9,     -999.0,9,     -999.0,9,     -999.0,9,     -999.0,9, -999.00,9,-999.0000,9,-999.0000,9,-999.0000,9,-999.0000,9,-999.0000,9,-999.0000,9,   0.0020,    0.22
33RR20050106,       P16S,     105,          1,          3,          3,2,20050209,       1250,   -67.9987,  -149.9997,       4260,  3987.1,   0.1627,  34.6984,2,  34.6979,2,    221.9,2,   222.6,2,  122.10,2,   32.36,2,    0.00,2,    2.23,2,   0.718,6,   0.372,6,   0.047,6,  2260.4,2,  2355.9,2,   0.034,2,   1.9130,2,    7.94,2, -999.00,9,  -999.0,9,  -999.0,   8.409,2,   0.011,  42.8959,2,  3987.1,   0.008,  -0.1170,     -999.0,9,     -999.0,9,     -999.0,9,     -999.0,9,     -999.0,9,     -999.0,9,     -999.0,9, -999.00,9,-999.0000,9,-999.0000,9,-999.0000,9,-999.0000,9,-999.0000,9,-999.0000,9,   0.0010,    0.22
33RR20050106,       P16S,     105,          1,          2,          2,2,20050209,       1250,   -67.9987,  -149.9997,       4260,  4207.5,   0.1813,  34.6990,2,  34.6993,2,    221.0,2,   221.5,2,  125.65,2,   32.41,2,    0.00,2,    2.24,2,   0.616,2,   0.327,2,   0.039,2,  2261.1,2,  2355.5,2,-999.000,9,-999.0000,9, -999.00,9, -999.00,9,  -999.0,9,  -999.0,-999.000,9,-999.000,  42.0493,2,  4207.5,-999.000,  -0.1215,     -999.0,9,     -999.0,9,     -999.0,9,     -999.0,9,     -999.0,9,     -999.0,9,     -999.0,9, -999.00,9,-999.0000,9,-999.0000,9,-999.0000,9,-999.0000,9,-999.0000,9,-999.0000,9,-999.0000, -999.00
33RR20050106,       P16S,     105,          1,          1,          1,2,20050209,       1250,   -67.9987,  -149.9997,       4260,  4310.3,   0.1918,  34.6990,2,  34.6989,2,    220.7,2,   222.5,2,  125.01,2,   32.36,2,    0.00,2,    2.24,2,   0.605,2,   0.306,2,   0.029,2,  2261.2,6,  2356.4,6,-999.000,9,   2.1630,4,    6.83,3, -999.00,9,  -999.0,9,  -999.0,   9.153,4,   0.014,  39.0412,2,  4310.3,-999.000,  -0.1221,     -999.0,9,     -999.0,9,     -999.0,9,     -999.0,9,     -999.0,9,     -999.0,9,     -999.0,9, -999.00,9,-999.0000,9,-999.0000,9,-999.0000,9,-999.0000,9,-999.0000,9,-999.0000,9,   0.0020,    0.21