BOTTLE,20201109CCHSIOCBG
EXPOCODE,SECT_ID,STNNBR,CASTNO,SAMPNO,BTLNBR,BTLNBR_FLAG_W,DATE,TIME,LATITUDE,LONGITUDE,DEPTH,CTDPRS,CTDTMP,CTDSAL,CTDSAL_FLAG_W,SALNTY,SALNTY_FLAG_W,CTDOXY,CTDOXY_FLAG_W,OXYGEN,OXYGEN_FLAG_W,SILCAT,SILCAT_FLAG_W,NITRAT,NITRAT_FLAG_W,NITRIT,NITRIT_FLAG_W,PHSPHT,PHSPHT_FLAG_W,CFC-11,CFC-11_FLAG_W,CFC-12,CFC-12_FLAG_W,CFC113,CFC113_FLAG_W,TCARBN,TCARBN_FLAG_W,ALKALI,ALKALI_FLAG_W,TRITUM,TRITUM_FLAG_W,HELIUM,HELIUM_FLAG_W,DELHE3,DELHE3_FLAG_W,DELC13,DELC13_FLAG_W,DELC14,DELC14_FLAG_W,C14ERR,NEON,NEON_FLAG_W,NEONER,DOC,DOC_FLAG_W,CTDRAW,TRITER,THETA,FUCO,FUCO_FLAG_W,RHAM,RHAM_FLAG_W,ARABA,ARABA_FLAG_W,GALA,GALA_FLAG_W,GLUC,GLUC_FLAG_W,MAN,MAN_FLAG_W,DCNS,DCNS_FLAG_W,BRDU,BRDU_FLAG_W,CDOM325,CDOM325_FLAG_W,CDOM340,CDOM340_FLAG_W,CDOM380,CDOM380_FLAG_W,CDOM412,CDOM412_FLAG_W,CDOMSL,CDOMSL_FLAG_W,CDOMSN,CDOMSN_FLAG_W,HELIER,DELHER
,,,,,,,,,,,METERS,DBAR,ITS-90,PSS-78,,PSS-78,,UMOL/KG,,UMOL/KG,,UMOL/KG,,UMOL/KG,,UMOL/KG,,UMOL/KG,,PMOL/KG,,PMOL/KG,,PMOL/KG,,UMOL/KG,,UMOL/KG,,TU,,NMOL/KG,,PERCNT,,/MILLE,,/MILLE,,/MILLE,NMOL/KG,,NMOL/KG,UMOL/KG,,DBAR,TU,DEG C,NMOL/KG,,NMOL/KG,,NMOL/KG,,NMOL/KG,,NMOL/KG,,NMOL/KG,,NMOL/KG,,PMOL/L/H,,1/M,,1/M,,1/M,,1/M,,1/NM,,1/NM,,NMOL/KG,PERCNT
33RR20050106,       P16S,      18,          1,         36,         36,2,20050115,       0245,   -24.4992,  -149.9997,       4603,     2.2,  27.7068,  35.7925,2,  35.7949,2,    200.6,2,   200.5,2,    0.38,2,    0.06,2,    0.00,2,    0.13,2,   1.681,2,   1.101,2,   0.153,2,  2003.0,2,  2352.8,2,-999.000,9,-999.0000,9, -999.00,9, -999.00,9,  -999.0,9,  -999.0,-999.000,9,-999.000,-999.0000,9,     2.2,-999.000,  27.7063,     -999.0,9,     -999.0,9,     -999.0,9,     -999.0,9,     -999.0,9,     -999.0,9,     -999.0,9, -999.00,9,-999.0000,9,-999.0000,9,-999.0000,9,-999.0000,9,-999.0000,9,-999.0000,9,-999.0000, -999.00
33RR20050106,       P16S,      18,          1,         35,         35,2,20050115,       0245,   -24.4992,  -149.9997,       4603,    45.9,  23.6597,  35.6411,2,  35.6394,2,    215.3,2,   215.8,2,    0.38,2,    0.00,2,    0.00,2,    0.11,2,   1.964,6,   1.305,6,   0.192,6,  2006.6,2,  2340.3,2,-999.000,9,-999.0000,9, -999.00,9, -999.00,9,  -999.0,9,  -999.0,-999.000,9,-999.000,-999.0000,9,    45.9,-999.000,  23.6501,     -999.0,9,     -999.0,9,     -999.0,9,     -999.0,9,     -999.0,9,     -999.0,9,     -999.0,9, -999.00,9,-999.0000,9,-999.0000,9,-999.0000,9,-999.0000,9,-999.0000,9,-999.0000,9,-999.0000, -999.00
33RR20050106,       P16S,      18,          1,         34,         34,2,20050115,       0245,   -24.4992,  -149.9997,       4603,    90.9,  22.0484,  35.6034,2,  35.6034,2,    221.5,2,   221.4,2,    0.38,2,    0.00,2,    0.00,2,    0.11,2,   2.063,2,   1.408,2,   0.174,2,  -999.0,9,  -999.0,9,-999.000,9,-999.0000,9, -999.00,9, -999.00,9,  -999.0,9,  -999.0,-999.000,9,-999.000,-999.0000,9,    90.9,-999.000,  22.0304,     -999.0,9,     -999.0,9,     -999.0,9,     -999.0,9,     -999.0,9,     -999.0,9,     -999.0,9, -999.00,9,-999.0000,9,-999.0000,9,-999.0000,9,-999.0000,9,-999.0000,9,-999.0000,9,-999.0000, -999.00
33RR20050106,       P16S,      18,          1,         33,         33,2,20050115,       0245,   -24.4992,  -149.9997,       4603,   141.0,  20.8043,  35.6166,2,  35.6172,2,    198.5,2,   205.1,2,    0.37,2,    0.25,2,    0.01,2,    0.16,2,   2.205,2,   1.434,2,   0.145,2,  2040.8,2,  2331.7,3,-999.000,9,-999.0000,9, -999.00,9, -999.00,9,  -999.0,9,  -999.0,-999.000,9,-999.000,-999.0000,9,   141.0,-999.000,  20.7774,     -999.0,9,     -999.0,9,     -999.0,9,     -999.0,9,     -999.0,9,     -999.0,9,     -999.0,9, -999.00,9,-999.0000,9,-999.0000,9,-999.0000,9,-999.0000,9,-999.0000,9,-999.0000,9,-999.0000, -999.00
33RR20050106,       P16S,      18,          1,         32,         32,2,20050115,       0245,   -24.4992,  -149.9997,       4603,   165.9,  20.1553,  35.5914,2,  35.5827,2,    208.3,2,   202.9,2,    0.37,2,    0.54,2,    0.09,2,    0.18,2,   2.253,2,   1.394,2,   0.109,2,  -999.0,9,  -999.0,9,-999.000,9,-999.0000,9, -999.00,9, -999.00,9,  -999.0,9,  -999.0,-999.000,9,-999.000,-999.0000,9,   165.9,-999.000,  20.1244,     -999.0,9,     -999.0,9,     -999.0,9,     -999.0,9,     -999.0,9,     -999.0,9,     -999.0,9, -999.00,9,-999.0000,9,-999.0000,9,-999.0000,9,-999.0000,9,-999.0000,9,-999.0000,9,-999.0000, -999.00
33RR20050106,       P16S,      18,          1,         31,         31,2,20050115,       0245,   -24.4992,  -149.9997,       4603,   190.9,  19.5710,  35.5652,2,  35.5633,2,    205.3,2,   202.7,2,    0.57,2,    1.06,2,    0.08,2,    0.22,2,   2.271,2,   1.425,2,   0.095,2,  2053.2,2,  2332.0,2,-999.000,9,-999.0000,9, -999.00,9, -999.00,9,  -999.0,9,  -999.0,-999.000,9,-999.000,-999.0000,9,   190.9,-999.000,  19.5361,     -999.0,9,     -999.0,9,     -999.0,9,     -999.0,9,     -999.0,9,     -999.0,9,     -999.0,9, -999.00,9,-999.0000,9,-999.0000,9,-999.0000,9,-999.0000,9,-999.0000,9,-999.0000,9,-999.0000, -999.00
33RR20050106,       P16S,      18,          1,         30,         30,2,20050115,       0245,   -24.4992,  -149.9997,       4603,   240.8,  18.1029,  35.4802,2,  35.4794,2,    209.4,2,   206.6,2,    0.57,2,    1.73,2,    0.02,2,    0.24,2,   2.457,2,   1.420,2,   0.098,2,  -999.0,9,  -999.0,9,-999.000,9,-999.0000,9, -999.00,9, -999.00,9,  -999.0,9,  -999.0,-999.000,9,-999.000,-999.0000,9,   240.8,-999.000,  18.0612,     -999.0,9,     -999.0,9,     -999.0,9,     -999.0,9,     -999.0,9,     -999.0,9,     -999.0,9, -999.00,9,-999.0000,9,-999.0000,9,-999.0000,9,-999.0000,9,-999.0000,9,-999.0000,9,-999.0000, -999.00
33RR20050106,       P16S,      18,          1,         29,         29,2,20050115,       0245,   -24.4992,  -149.9997,       4603,   291.0,  16.6716,  35.3619,2,  35.3622,2,    202.6,2,   202.0,2,    0.76,2,    3.45,2,    0.01,2,    0.36,2,   2.498,2,   1.520,2,   0.034,2,  2075.8,2,  2318.6,2,-999.000,9,-999.0000,9, -999.00,9, -999.00,9,  -999.0,9,  -999.0,-999.000,9,-999.000,-999.0000,9,   291.0,-999.000,  16.6240,     -999.0,9,     -999.0,9,     -999.0,9,     -999.0,9,     -999.0,9,     -999.0,9,     -999.0,9, -999.00,9,-999.0000,9,-999.0000,9,-999.0000,9,-999.0000,9,-999.0000,9,-999.0000,9,-999.0000, -999.00
33RR20050106,       P16S,      18,          1,         28,         28,2,20050115,       0245,   -24.4992,  -149.9997,       4603,   340.8,  15.2240,  35.1975,2,  35.1909,2,    197.4,2,   197.0,2,    1.38,2,    6.45,2,    0.00,2,    0.57,2,   2.479,2,   1.446,2,   0.031,2,  -999.0,9,  -999.0,9,-999.000,9,-999.0000,9, -999.00,9, -999.00,9,  -999.0,9,  -999.0,-999.000,9,-999.000,-999.0000,9,   340.8,-999.000,  15.1716,     -999.0,9,     -999.0,9,     -999.0,9,     -999.0,9,     -999.0,9,     -999.0,9,     -999.0,9, -999.00,9,-999.0000,9,-999.0000,9,-999.0000,9,-999.0000,9,-999.0000,9,-999.0000,9,-999.0000, -999.00
33RR20050106,       P16S,      18,          1,         27,         27,2,20050115,       0245,   -24.4992,  -149.9997,       4603,   390.8,  13.1055,  34.9627,2,  34.9633,2,    198.4,2,   198.5,2,    2.40,2,   10.12,2,    0.00,2,    0.80,2,   2.500,2,   1.412,2,   0.023,2,  2104.9,2,  2300.0,2,-999.000,9,-999.0000,9, -999.00,9, -999.00,9,  -999.0,9,  -999.0,-999.000,9,-999.000,-999.0000,9,   390.8,-999.000,  13.0511,     -999.0,9,     -999.0,9,     -999.0,9,     -999.0,9,     -999.0,9,     -999.0,9,     -999.0,9, -999.00,9,-999.0000,9,-999.0000,9,-999.0000,9,-999.0000,9,-999.0000,9,-999.0000,9,-999.0000, -999.00
33RR20050106,       P16S,      18,          1,         26,         26,2,20050115,       0245,   -24.4992,  -149.9997,       4603,   441.0,  11.2138,  34.7617,2,  34.7513,2,    198.3,2,   200.6,2,    3.62,2,   14.38,2,    0.00,2,    1.07,2,   2.407,2,   1.313,2,   0.034,2,  -999.0,9,  -999.0,9,-999.000,9,-999.0000,9, -999.00,9, -999.00,9,  -999.0,9,  -999.0,-999.000,9,-999.000,-999.0000,9,   441.0,-999.000,  11.1583,     -999.0,9,     -999.0,9,     -999.0,9,     -999.0,9,     -999.0,9,     -999.0,9,     -999.0,9, -999.00,9,-999.0000,9,-999.0000,9,-999.0000,9,-999.0000,9,-999.0000,9,-999.0000,9,-999.0000, -999.00
33RR20050106,       P16S,      18,          1,         25,         25,2,20050115,       0245,   -24.4992,  -149.9997,       4603,   491.2,   9.5094,  34.5892,2,  34.5889,2,    206.6,2,   209.5,2,    4.64,2,   17.45,2,    0.00,2,    1.26,2,   2.434,2,   1.320,2,   0.034,2,  2128.7,2,  2284.0,2,-999.000,9,-999.0000,9, -999.00,9, -999.00,9,  -999.0,9,  -999.0,-999.000,9,-999.000,-999.0000,9,   491.2,-999.000,   9.4536,     -999.0,9,     -999.0,9,     -999.0,9,     -999.0,9,     -999.0,9,     -999.0,9,     -999.0,9, -999.00,9,-999.0000,9,-999.0000,9,-999.0000,9,-999.0000,9,-999.0000,9,-999.0000,9,-999.0000, -999.00
33RR20050106,       P16S,      18,          1,         24,         24,2,20050115,       0245,   -24.4992,  -149.9997,       4603,   576.2,   7.6335,  34.4236,2,  34.4182,2,    220.5,2,   224.1,2,    6.69,2,   21.53,2,    0.00,2,    1.52,2,   2.221,2,   1.230,2,   0.047,2,  2139.7,2,  2278.7,2,-999.000,9,-999.0000,9, -999.00,9, -999.00,9,  -999.0,9,  -999.0,-999.000,9,-999.000,-999.0000,9,   576.2,-999.000,   7.5758,     -999.0,9,     -999.0,9,     -999.0,9,     -999.0,9,     -999.0,9,     -999.0,9,     -999.0,9, -999.00,9,-999.0000,9,-999.0000,9,-999.0000,9,-999.0000,9,-999.0000,9,-999.0000,9,-999.0000, -999.00
33RR20050106,       P16S,      18,          1,         23,         23,2,20050115,       0245,   -24.4992,  -149.9997,       4603,   676.6,   6.4523,  34.3433,2,  34.3418,2,    231.5,2,   232.0,2,    9.14,2,   24.00,2,    0.00,2,    1.67,2,   1.812,2,   1.007,2,   0.026,2,  2144.7,2,  2277.1,2,-999.000,9,-999.0000,9, -999.00,9, -999.00,9,  -999.0,9,  -999.0,-999.000,9,-999.000,-999.0000,9,   676.6,-999.000,   6.3902,     -999.0,9,     -999.0,9,     -999.0,9,     -999.0,9,     -999.0,9,     -999.0,9,     -999.0,9, -999.00,9,-999.0000,9,-999.0000,9,-999.0000,9,-999.0000,9,-999.0000,9,-999.0000,9,-999.0000, -999.00
33RR20050106,       P16S,      18,          1,         22,         22,2,20050115,       0245,   -24.4992,  -149.9997,       4603,   777.0,   5.7668,  34.3157,2,  34.3135,2,    225.3,2,   225.7,2,   13.45,2,   26.26,2,    0.00,2,    1.82,2,   1.135,2,   0.633,2,   0.008,2,  -999.0,9,  -999.0,9,-999.000,9,-999.0000,9, -999.00,9, -999.00,9,  -999.0,9,  -999.0,-999.000,9,-999.000,-999.0000,9,   777.0,-999.000,   5.6990,     -999.0,9,     -999.0,9,     -999.0,9,     -999.0,9,     -999.0,9,     -999.0,9,     -999.0,9, -999.00,9,-999.0000,9,-999.0000,9,-999.0000,9,-999.0000,9,-999.0000,9,-999.0000,9,-999.0000, -999.00
33RR20050106,       P16S,      18,          1,         21,         21,2,20050115,       0245,   -24.4992,  -149.9997,       4603,   877.1,   5.1281,  34.3144,2,  34.3141,2,    207.3,2,   208.0,2,   21.68,2,   29.11,2,    0.00,2,    2.04,2,   0.589,2,   0.334,2,   0.001,2,  2176.0,2,  2288.3,2,-999.000,9,-999.0000,9, -999.00,9, -999.00,9,  -999.0,9,  -999.0,-999.000,9,-999.000,-999.0000,9,   877.1,-999.000,   5.0552,     -999.0,9,     -999.0,9,     -999.0,9,     -999.0,9,     -999.0,9,     -999.0,9,     -999.0,9, -999.00,9,-999.0000,9,-999.0000,9,-999.0000,9,-999.0000,9,-999.0000,9,-999.0000,9,-999.0000, -999.00
33RR20050106,       P16S,      18,          1,         20,         20,2,20050115,       0245,   -24.4992,  -149.9997,       4603,   978.1,   4.4883,  34.3496,2,  34.3478,2,    185.2,2,   186.7,2,   34.47,2,   31.97,2,    0.00,2,    2.23,2,   0.272,2,   0.188,2,   0.001,2,  -999.0,9,  -999.0,9,-999.000,9,-999.0000,9, -999.00,9, -999.00,9,  -999.0,9,  -999.0,-999.000,9,-999.000,-999.0000,9,   978.1,-999.000,   4.4110,     -999.0,9,     -999.0,9,     -999.0,9,     -999.0,9,     -999.0,9,     -999.0,9,     -999.0,9, -999.00,9,-999.0000,9,-999.0000,9,-999.0000,9,-999.0000,9,-999.0000,9,-999.0000,9,-999.0000, -999.00
33RR20050106,       P16S,      18,          1,         19,         19,2,20050115,       0245,   -24.4992,  -149.9997,       4603,  1079.0,   4.0109,  34.3988,2,  34.3979,2,    167.8,2,   170.9,2,   47.74,2,   33.73,2,    0.00,2,    2.37,2,   0.121,2,   0.120,2,   0.001,2,  2224.0,6,  2312.8,2,-999.000,9,-999.0000,9, -999.00,9, -999.00,9,  -999.0,9,  -999.0,-999.000,9,-999.000,-999.0000,9,  1079.0,-999.000,   3.9287,     -999.0,9,     -999.0,9,     -999.0,9,     -999.0,9,     -999.0,9,     -999.0,9,     -999.0,9, -999.00,9,-999.0000,9,-999.0000,9,-999.0000,9,-999.0000,9,-999.0000,9,-999.0000,9,-999.0000, -999.00
33RR20050106,       P16S,      18,          1,         18,         18,2,20050115,       0245,   -24.4992,  -149.9997,       4603,  1179.1,   3.5400,  34.4462,2,  34.4450,2,    163.9,2,   164.7,2,   60.43,2,   34.52,2,    0.00,2,    2.44,2,-999.000,9,-999.000,9,-999.000,9,  -999.0,9,  -999.0,9,-999.000,9,-999.0000,9, -999.00,9, -999.00,9,  -999.0,9,  -999.0,-999.000,9,-999.000,-999.0000,9,  1179.1,-999.000,   3.4535,     -999.0,9,     -999.0,9,     -999.0,9,     -999.0,9,     -999.0,9,     -999.0,9,     -999.0,9, -999.00,9,-999.0000,9,-999.0000,9,-999.0000,9,-999.0000,9,-999.0000,9,-999.0000,9,-999.0000, -999.00
33RR20050106,       P16S,      18,          1,         17,         17,2,20050115,       0245,   -24.4992,  -149.9997,       4603,  1279.9,   3.2631,  34.4864,2,  34.4844,2,    159.6,2,   159.2,2,   70.86,2,   35.00,2,    0.00,2,    2.48,2,   0.022,2,   0.037,2,   0.001,2,  -999.0,9,  -999.0,9,-999.000,9,-999.0000,9, -999.00,9, -999.00,9,  -999.0,9,  -999.0,-999.000,9,-999.000,-999.0000,9,  1279.9,-999.000,   3.1708,     -999.0,9,     -999.0,9,     -999.0,9,     -999.0,9,     -999.0,9,     -999.0,9,     -999.0,9, -999.00,9,-999.0000,9,-999.0000,9,-999.0000,9,-999.0000,9,-999.0000,9,-999.0000,9,-999.0000, -999.00
33RR20050106,       P16S,      18,          1,         16,         16,2,20050115,       0245,   -24.4992,  -149.9997,       4603,  1381.0,   2.9648,  34.5182,2,  34.5171,2,    158.7,2,   159.4,2,   79.44,2,   34.94,2,    0.00,2,    2.48,2,-999.000,9,-999.000,9,-999.000,9,  -999.0,9,  -999.0,9,-999.000,9,-999.0000,9, -999.00,9, -999.00,9,  -999.0,9,  -999.0,-999.000,9,-999.000,-999.0000,9,  1381.0,-999.000,   2.8673,     -999.0,9,     -999.0,9,     -999.0,9,     -999.0,9,     -999.0,9,     -999.0,9,     -999.0,9, -999.00,9,-999.0000,9,-999.0000,9,-999.0000,9,-999.0000,9,-999.0000,9,-999.0000,9,-999.0000, -999.00
33RR20050106,       P16S,      18,          1,         15,         15,2,20050115,       0245,   -24.4992,  -149.9997,       4603,  1481.7,   2.7501,  34.5493,2,  34.5473,2,    156.6,2,   156.4,2,   88.24,2,   35.21,2,    0.00,2,    2.50,2,   0.008,2,   0.058,3,   0.001,2,  -999.0,9,  -999.0,9,-999.000,9,-999.0000,9, -999.00,9, -999.00,9,  -999.0,9,  -999.0,-999.000,9,-999.000,-999.0000,9,  1481.7,-999.000,   2.6467,     -999.0,9,     -999.0,9,     -999.0,9,     -999.0,9,     -999.0,9,     -999.0,9,     -999.0,9, -999.00,9,-999.0000,9,-999.0000,9,-999.0000,9,-999.0000,9,-999.0000,9,-999.0000,9,-999.0000, -999.00
33RR20050106,       P16S,      18,          1,         14,         14,2,20050115,       0245,   -24.4992,  -149.9997,       4603,  1582.5,   2.6014,  34.5674,2,  34.5658,2,    155.5,2,   155.9,2,   93.69,2,   35.26,2,    0.00,2,    2.50,2,-999.000,9,-999.000,9,-999.000,9,  -999.0,9,  -999.0,9,-999.000,9,-999.0000,9, -999.00,9, -999.00,9,  -999.0,9,  -999.0,-999.000,9,-999.000,-999.0000,9,  1582.5,-999.000,   2.4915,     -999.0,9,     -999.0,9,     -999.0,9,     -999.0,9,     -999.0,9,     -999.0,9,     -999.0,9, -999.00,9,-999.0000,9,-999.0000,9,-999.0000,9,-999.0000,9,-999.0000,9,-999.0000,9,-999.0000, -999.00
33RR20050106,       P16S,      18,          1,         13,         13,2,20050115,       0245,   -24.4992,  -149.9997,       4603,  1683.5,   2.4468,  34.5878,2,  34.5865,2,    154.2,2,   154.5,2,   99.56,2,   35.42,2,    0.00,2,    2.51,2,   0.038,4,   0.137,4,   0.001,2,  -999.0,9,  -999.0,9,-999.000,9,-999.0000,9, -999.00,9, -999.00,9,  -999.0,9,  -999.0,-999.000,9,-999.000,-999.0000,9,  1683.5,-999.000,   2.3305,     -999.0,9,     -999.0,9,     -999.0,9,     -999.0,9,     -999.0,9,     -999.0,9,     -999.0,9, -999.00,9,-999.0000,9,-999.0000,9,-999.0000,9,-999.0000,9,-999.0000,9,-999.0000,9,-999.0000, -999.00
33RR20050106,       P16S,      18,          1,         12,         12,2,20050115,       0245,   -24.4992,  -149.9997,       4603,  1784.5,   2.2958,  34.6085,2,  34.6072,2,    152.0,2,   152.7,2,  106.70,2,   35.52,2,    0.00,2,    2.53,2,-999.000,9,-999.000,9,-999.000,9,  -999.0,9,  -999.0,9,-999.000,9,-999.0000,9, -999.00,9, -999.00,9,  -999.0,9,  -999.0,-999.000,9,-999.000,-999.0000,9,  1784.5,-999.000,   2.1731,     -999.0,9,     -999.0,9,     -999.0,9,     -999.0,9,     -999.0,9,     -999.0,9,     -999.0,9, -999.00,9,-999.0000,9,-999.0000,9,-999.0000,9,-999.0000,9,-999.0000,9,-999.0000,9,-999.0000, -999.00
33RR20050106,       P16S,      18,          1,         11,         11,2,20050115,       0245,   -24.4992,  -149.9997,       4603,  1885.0,   2.1943,  34.6226,2,  34.6206,2,    150.7,2,   151.3,2,  111.33,2,   35.62,2,    0.00,2,    2.53,2,  -0.002,2,   0.024,3,   0.001,2,  -999.0,9,  -999.0,9,-999.000,9,-999.0000,9, -999.00,9, -999.00,9,  -999.0,9,  -999.0,-999.000,9,-999.000,-999.0000,9,  1885.0,-999.000,   2.0646,     -999.0,9,     -999.0,9,     -999.0,9,     -999.0,9,     -999.0,9,     -999.0,9,     -999.0,9, -999.00,9,-999.0000,9,-999.0000,9,-999.0000,9,-999.0000,9,-999.0000,9,-999.0000,9,-999.0000, -999.00
33RR20050106,       P16S,      18,          1,         10,         10,2,20050115,       0245,   -24.4992,  -149.9997,       4603,  1986.0,   2.1208,  34.6331,2,  34.6304,2,    148.8,2,   149.7,2,  115.54,2,   35.78,2,    0.00,2,    2.54,2,-999.000,9,-999.000,9,-999.000,9,  -999.0,9,  -999.0,9,-999.000,9,-999.0000,9, -999.00,9, -999.00,9,  -999.0,9,  -999.0,-999.000,9,-999.000,-999.0000,9,  1986.0,-999.000,   1.9837,     -999.0,9,     -999.0,9,     -999.0,9,     -999.0,9,     -999.0,9,     -999.0,9,     -999.0,9, -999.00,9,-999.0000,9,-999.0000,9,-999.0000,9,-999.0000,9,-999.0000,9,-999.0000,9,-999.0000, -999.00
33RR20050106,       P16S,      18,          1,          9,          9,2,20050115,       0245,   -24.4992,  -149.9997,       4603,  2188.8,   1.9904,  34.6454,2,  34.6434,2,    150.9,2,   151.4,2,  119.54,2,   35.67,2,    0.00,2,    2.54,2,   0.007,2,   0.065,3,   0.001,2,  -999.0,9,  -999.0,9,-999.000,9,-999.0000,9, -999.00,9, -999.00,9,  -999.0,9,  -999.0,-999.000,9,-999.000,-999.0000,9,  2188.8,-999.000,   1.8380,     -999.0,9,     -999.0,9,     -999.0,9,     -999.0,9,     -999.0,9,     -999.0,9,     -999.0,9, -999.00,9,-999.0000,9,-999.0000,9,-999.0000,9,-999.0000,9,-999.0000,9,-999.0000,9,-999.0000, -999.00
33RR20050106,       P16S,      18,          1,          8,          8,2,20050115,       0245,   -24.4992,  -149.9997,       4603,  2441.3,   1.8861,  34.6562,2,  34.6544,2,    152.3,2,   152.9,2,  122.70,2,   35.67,2,    0.00,2,    2.53,2,-999.000,9,-999.000,9,-999.000,9,  -999.0,9,  -999.0,9,-999.000,9,-999.0000,9, -999.00,9, -999.00,9,  -999.0,9,  -999.0,-999.000,9,-999.000,-999.0000,9,  2441.3,-999.000,   1.7132,     -999.0,9,     -999.0,9,     -999.0,9,     -999.0,9,     -999.0,9,     -999.0,9,     -999.0,9, -999.00,9,-999.0000,9,-999.0000,9,-999.0000,9,-999.0000,9,-999.0000,9,-999.0000,9,-999.0000, -999.00
33RR20050106,       P16S,      18,          1,          7,          7,2,20050115,       0245,   -24.4992,  -149.9997,       4603,  2695.0,   1.8196,  34.6639,2,  34.6625,2,    151.8,2,   152.2,2,  126.50,2,   35.78,2,    0.00,2,    2.53,2,   0.009,2,   0.077,3,   0.001,2,  -999.0,9,  -999.0,9,-999.000,9,-999.0000,9, -999.00,9, -999.00,9,  -999.0,9,  -999.0,-999.000,9,-999.000,-999.0000,9,  2695.0,-999.000,   1.6248,     -999.0,9,     -999.0,9,     -999.0,9,     -999.0,9,     -999.0,9,     -999.0,9,     -999.0,9, -999.00,9,-999.0000,9,-999.0000,9,-999.0000,9,-999.0000,9,-999.0000,9,-999.0000,9,-999.0000, -999.00