BOTTLE,20201109CCHSIOCBG
EXPOCODE,SECT_ID,STNNBR,CASTNO,SAMPNO,BTLNBR,BTLNBR_FLAG_W,DATE,TIME,LATITUDE,LONGITUDE,DEPTH,CTDPRS,CTDTMP,CTDSAL,CTDSAL_FLAG_W,SALNTY,SALNTY_FLAG_W,CTDOXY,CTDOXY_FLAG_W,OXYGEN,OXYGEN_FLAG_W,SILCAT,SILCAT_FLAG_W,NITRAT,NITRAT_FLAG_W,NITRIT,NITRIT_FLAG_W,PHSPHT,PHSPHT_FLAG_W,CFC-11,CFC-11_FLAG_W,CFC-12,CFC-12_FLAG_W,CFC113,CFC113_FLAG_W,TCARBN,TCARBN_FLAG_W,ALKALI,ALKALI_FLAG_W,TRITUM,TRITUM_FLAG_W,HELIUM,HELIUM_FLAG_W,DELHE3,DELHE3_FLAG_W,DELC13,DELC13_FLAG_W,DELC14,DELC14_FLAG_W,C14ERR,NEON,NEON_FLAG_W,NEONER,DOC,DOC_FLAG_W,CTDRAW,TRITER,THETA,FUCO,FUCO_FLAG_W,RHAM,RHAM_FLAG_W,ARABA,ARABA_FLAG_W,GALA,GALA_FLAG_W,GLUC,GLUC_FLAG_W,MAN,MAN_FLAG_W,DCNS,DCNS_FLAG_W,BRDU,BRDU_FLAG_W,CDOM325,CDOM325_FLAG_W,CDOM340,CDOM340_FLAG_W,CDOM380,CDOM380_FLAG_W,CDOM412,CDOM412_FLAG_W,CDOMSL,CDOMSL_FLAG_W,CDOMSN,CDOMSN_FLAG_W,HELIER,DELHER
,,,,,,,,,,,METERS,DBAR,ITS-90,PSS-78,,PSS-78,,UMOL/KG,,UMOL/KG,,UMOL/KG,,UMOL/KG,,UMOL/KG,,UMOL/KG,,PMOL/KG,,PMOL/KG,,PMOL/KG,,UMOL/KG,,UMOL/KG,,TU,,NMOL/KG,,PERCNT,,/MILLE,,/MILLE,,/MILLE,NMOL/KG,,NMOL/KG,UMOL/KG,,DBAR,TU,DEG C,NMOL/KG,,NMOL/KG,,NMOL/KG,,NMOL/KG,,NMOL/KG,,NMOL/KG,,NMOL/KG,,PMOL/L/H,,1/M,,1/M,,1/M,,1/M,,1/NM,,1/NM,,NMOL/KG,PERCNT
33RR20050106,       P16S,      59,          1,         36,         36,2,20050126,       2109,   -45.0002,  -150.0003,       5216,     3.5,  13.6280,  34.4108,2,  34.4131,2,    261.5,2,   262.4,2,    0.24,2,    6.04,2,    0.10,2,    0.56,2,   2.948,2,   1.803,2,   0.250,2,  2063.9,6,  2281.0,6,-999.000,9,-999.0000,9, -999.00,9, -999.00,9,  -999.0,9,  -999.0,-999.000,9,-999.000,  55.3190,2,     3.5,-999.000,  13.6275,        234,2,        179,2,        171,2,        513,2,        402,2,        505,2,       2004,2,    0.08,2,   0.0690,2,   0.0440,2,   0.0150,2,   0.0100,2,   0.0314,2,   0.0303,2,-999.0000, -999.00
33RR20050106,       P16S,      59,          1,         35,         35,2,20050126,       2109,   -45.0002,  -150.0003,       5216,    36.7,  13.4390,  34.4108,2,  34.4127,2,    263.6,2,   263.6,2,    0.25,2,    6.10,2,    0.10,2,    0.57,2,   2.956,2,   1.813,2,   0.254,2,  2065.6,2,  2280.4,2,-999.000,9,-999.0000,9, -999.00,9, -999.00,9,  -999.0,9,  -999.0,-999.000,9,-999.000,  53.0963,2,    36.7,-999.000,  13.4339,        169,2,        112,2,         36,2,        352,2,        241,2,        368,2,       1278,2,    0.08,2,   0.0620,2,   0.0390,2,   0.0150,2,   0.0100,2,   0.0310,2,   0.0312,2,-999.0000, -999.00
33RR20050106,       P16S,      59,          1,         34,         34,2,20050126,       2109,   -45.0002,  -150.0003,       5216,    72.1,  10.0739,  34.3916,2,  34.3931,2,    282.7,2,   282.5,2,    1.06,2,    8.20,2,    0.13,2,    0.69,2,   3.619,2,   2.145,2,   0.303,2,  2082.8,2,  2279.1,2,-999.000,9,-999.0000,9, -999.00,9, -999.00,9,  -999.0,9,  -999.0,-999.000,9,-999.000,  50.2985,2,    72.1,-999.000,  10.0656,        131,2,         93,2,         39,2,        277,2,        182,2,        282,2,       1003,2,    0.04,2,   0.1260,2,   0.0920,2,   0.0510,2,   0.0410,2,   0.0107,3,   0.0130,3,-999.0000, -999.00
33RR20050106,       P16S,      59,          1,         33,         33,2,20050126,       2109,   -45.0002,  -150.0003,       5216,    92.1,   9.4488,  34.4107,2,  34.4127,2,    274.4,2,   275.6,2,    1.66,2,    9.76,2,    0.23,2,    0.81,2,-999.000,9,-999.000,9,-999.000,9,  2094.1,2,  2279.9,2,-999.000,9,-999.0000,9, -999.00,9, -999.00,9,  -999.0,9,  -999.0,-999.000,9,-999.000,  48.8364,2,    92.1,-999.000,   9.4386,     -999.0,9,     -999.0,9,     -999.0,9,     -999.0,9,     -999.0,9,     -999.0,9,     -999.0,9,    0.12,2,   0.0860,2,   0.0590,2,   0.0290,2,   0.0210,2,   0.0211,2,   0.0223,2,-999.0000, -999.00
33RR20050106,       P16S,      59,          1,         32,         32,2,20050126,       2109,   -45.0002,  -150.0003,       5216,   122.0,   8.6636,  34.4296,2,  34.4305,2,    264.6,2,   265.8,2,    2.27,2,   12.99,2,    0.43,2,    1.00,2,   3.838,2,   2.171,2,   0.314,2,  2109.6,2,  2279.2,2,-999.000,9,-999.0000,9, -999.00,9, -999.00,9,  -999.0,9,  -999.0,-999.000,9,-999.000,  47.7318,2,   122.0,-999.000,   8.6508,         93,2,         58,2,         37,2,        140,2,        149,2,        155,2,        632,2,    0.09,2,   0.0890,2,   0.0630,2,   0.0350,2,   0.0280,2,   0.0150,2,   0.0169,2,-999.0000, -999.00
33RR20050106,       P16S,      59,          1,         31,         31,2,20050126,       2109,   -45.0002,  -150.0003,       5216,   172.4,   8.2255,  34.4728,2,  34.4731,2,    259.0,2,   260.7,2,    3.48,2,   15.71,2,    0.02,2,    1.13,2,-999.000,9,-999.000,9,-999.000,9,  2119.5,2,  2280.4,2,-999.000,9,-999.0000,9, -999.00,9, -999.00,9,  -999.0,9,  -999.0,-999.000,9,-999.000,  47.8824,2,   172.4,-999.000,   8.2079,         38,2,         40,2,         73,2,         82,2,        194,2,        103,2,        531,2,    0.09,2,   0.0750,2,   0.0490,2,   0.0250,2,   0.0200,2,   0.0225,2,   0.0241,2,-999.0000, -999.00
33RR20050106,       P16S,      59,          1,         30,         30,2,20050126,       2109,   -45.0002,  -150.0003,       5216,   223.8,   8.0018,  34.4764,2,  34.4782,2,    257.4,2,   259.3,2,    4.30,2,   16.95,2,    0.01,2,    1.20,2,   3.833,2,   2.212,2,   0.312,2,  2125.5,2,  2282.4,2,-999.000,9,-999.0000,9, -999.00,9, -999.00,9,  -999.0,9,  -999.0,-999.000,9,-999.000,  47.3018,2,   223.8,-999.000,   7.9793,     -999.0,9,     -999.0,9,     -999.0,9,     -999.0,9,     -999.0,9,     -999.0,9,     -999.0,9,    0.05,2,   0.0910,2,   0.0610,2,   0.0240,2,   0.0190,2,   0.0287,2,   0.0283,2,-999.0000, -999.00
33RR20050106,       P16S,      59,          1,         29,         29,2,20050126,       2109,   -45.0002,  -150.0003,       5216,   274.3,   7.7883,  34.4567,2,  34.4575,2,    258.4,2,   259.9,2,    4.71,2,   17.70,2,    0.01,2,    1.25,2,-999.000,9,-999.000,9,-999.000,9,  2126.6,2,  2281.8,2,-999.000,9,-999.0000,9, -999.00,9, -999.00,9,  -999.0,9,  -999.0,-999.000,9,-999.000,  44.4974,2,   274.3,-999.000,   7.7611,         49,2,         38,2,         45,2,        104,2,        132,2,         78,2,        446,2,    0.02,2,   0.0800,2,   0.0510,2,   0.0230,2,   0.0180,2,   0.0278,2,   0.0283,2,-999.0000, -999.00
33RR20050106,       P16S,      59,          1,         28,         28,2,20050126,       2109,   -45.0002,  -150.0003,       5216,   329.4,   7.6157,  34.4383,2,  34.4391,2,    259.4,2,   260.5,2,    4.91,2,   18.30,2,    0.01,2,    1.29,2,   3.785,6,   2.202,6,   0.314,6,  2128.4,2,  2281.1,2,-999.000,9,-999.0000,9, -999.00,9, -999.00,9,  -999.0,9,  -999.0,-999.000,9,-999.000,  43.7916,2,   329.4,-999.000,   7.5833,     -999.0,9,     -999.0,9,     -999.0,9,     -999.0,9,     -999.0,9,     -999.0,9,     -999.0,9, -999.00,9,   0.0800,2,   0.0540,2,   0.0290,2,   0.0230,2,   0.0189,2,   0.0207,2,-999.0000, -999.00
33RR20050106,       P16S,      59,          1,         27,         27,2,20050126,       2109,   -45.0002,  -150.0003,       5216,   379.7,   7.4455,  34.4190,2,  34.4202,2,    258.5,2,   258.9,2,    5.31,2,   18.99,2,    0.01,2,    1.33,2,-999.000,9,-999.000,9,-999.000,9,  2129.9,2,  2280.4,2,-999.000,9,-999.0000,9, -999.00,9, -999.00,9,  -999.0,9,  -999.0,-999.000,9,-999.000,-999.0000,9,   379.7,-999.000,   7.4085,     -999.0,9,     -999.0,9,     -999.0,9,     -999.0,9,     -999.0,9,     -999.0,9,     -999.0,9, -999.00,9,-999.0000,9,-999.0000,9,-999.0000,9,-999.0000,9,-999.0000,9,-999.0000,9,-999.0000, -999.00
33RR20050106,       P16S,      59,          1,         26,         26,2,20050126,       2109,   -45.0002,  -150.0003,       5216,   430.0,   7.2768,  34.4012,2,  34.4022,2,    256.2,2,   257.4,2,    5.93,2,   19.80,2,    0.01,2,    1.38,2,   3.764,2,   2.169,2,   0.295,2,  2132.2,2,  2280.4,2,-999.000,9,-999.0000,9, -999.00,9, -999.00,9,  -999.0,9,  -999.0,-999.000,9,-999.000,  44.8534,2,   430.0,-999.000,   7.2353,     -999.0,9,     -999.0,9,     -999.0,9,     -999.0,9,     -999.0,9,     -999.0,9,     -999.0,9, -999.00,9,   0.0670,2,   0.0430,2,   0.0220,2,   0.0180,2,   0.0257,2,   0.0274,2,-999.0000, -999.00
33RR20050106,       P16S,      59,          1,         25,         25,2,20050126,       2109,   -45.0002,  -150.0003,       5216,   480.2,   7.1360,  34.3881,2,  34.3880,2,    255.3,2,   256.4,2,    6.33,2,   20.40,2,    0.00,2,    1.43,2,-999.000,9,-999.000,9,-999.000,9,  2133.7,2,  2279.9,2,-999.000,9,   1.7550,2,   -0.89,2, -999.00,9,  -999.0,9,  -999.0,   7.278,4,   0.008,-999.0000,9,   480.2,-999.000,   7.0901,     -999.0,9,     -999.0,9,     -999.0,9,     -999.0,9,     -999.0,9,     -999.0,9,     -999.0,9, -999.00,9,-999.0000,9,-999.0000,9,-999.0000,9,-999.0000,9,-999.0000,9,-999.0000,9,   0.0000,    0.19
33RR20050106,       P16S,      59,          1,         24,         24,2,20050126,       2109,   -45.0002,  -150.0003,       5216,   530.6,   6.9906,  34.3754,2,  34.3770,2,    254.5,2,   255.0,2,    6.95,2,   20.83,2,    0.01,2,    1.45,2,   3.617,2,   2.074,2,   0.269,2,  2134.2,2,  2279.6,2,-999.000,9,   1.7760,2,   -1.16,2, -999.00,9,  -999.0,9,  -999.0,   7.404,4,   0.007,  44.2137,2,   530.6,-999.000,   6.9402,     -999.0,9,     -999.0,9,     -999.0,9,     -999.0,9,     -999.0,9,     -999.0,9,     -999.0,9, -999.00,9,   0.0700,2,   0.0450,2,   0.0250,2,   0.0200,2,   0.0236,2,   0.0255,2,   0.0000,    0.19
33RR20050106,       P16S,      59,          1,         23,         23,2,20050126,       2109,   -45.0002,  -150.0003,       5216,   651.4,   6.6035,  34.3463,2,  34.3476,2,    250.3,2,   250.2,2,    8.56,2,   22.29,2,    0.00,2,    1.55,2,   3.434,2,   1.908,2,   0.222,2,  2141.5,2,  2279.1,2,-999.000,9,-999.0000,9, -999.00,9, -999.00,9,  -999.0,9,  -999.0,-999.000,9,-999.000,  43.5122,2,   651.4,-999.000,   6.5431,     -999.0,9,     -999.0,9,     -999.0,9,     -999.0,9,     -999.0,9,     -999.0,9,     -999.0,9, -999.00,9,   0.0680,2,   0.0430,2,   0.0220,2,   0.0180,2,   0.0259,2,   0.0277,2,-999.0000, -999.00
33RR20050106,       P16S,      59,          1,         22,         22,2,20050126,       2109,   -45.0002,  -150.0003,       5216,   752.3,   6.2363,  34.3259,2,  34.3277,2,    239.8,2,   240.4,2,   11.20,2,   24.03,2,    0.00,2,    1.65,2,   2.939,2,   1.653,2,   0.176,2,  2149.7,2,  2281.3,2,-999.000,9,-999.0000,9, -999.00,9, -999.00,9,  -999.0,9,  -999.0,-999.000,9,-999.000,  43.1494,2,   752.3,-999.000,   6.1681,     -999.0,9,     -999.0,9,     -999.0,9,     -999.0,9,     -999.0,9,     -999.0,9,     -999.0,9, -999.00,9,   0.0700,2,   0.0440,2,   0.0230,2,   0.0180,2,   0.0253,2,   0.0273,2,-999.0000, -999.00
33RR20050106,       P16S,      59,          1,         21,         21,2,20050126,       2109,   -45.0002,  -150.0003,       5216,   852.8,   5.7721,  34.3222,2,  34.3232,2,    226.7,2,   225.2,2,   16.25,2,   26.25,2,    0.00,2,    1.81,2,   2.350,2,   1.318,2,   0.136,2,  2162.9,6,  2284.0,2,-999.000,9,-999.0000,9, -999.00,9, -999.00,9,  -999.0,9,  -999.0,-999.000,9,-999.000,  41.4481,2,   852.8,-999.000,   5.6972,     -999.0,9,     -999.0,9,     -999.0,9,     -999.0,9,     -999.0,9,     -999.0,9,     -999.0,9, -999.00,9,   0.0770,2,   0.0490,2,   0.0250,2,   0.0190,2,   0.0243,2,   0.0262,2,-999.0000, -999.00
33RR20050106,       P16S,      59,          1,         20,         20,2,20050126,       2109,   -45.0002,  -150.0003,       5216,   954.1,   5.2398,  34.3227,2,  34.3240,2,    215.5,2,   215.7,2,   21.94,2,   28.31,2,    0.00,2,    1.95,2,   1.891,2,   1.014,2,   0.111,2,  2175.6,2,  2289.6,2,-999.000,9,-999.0000,9, -999.00,9, -999.00,9,  -999.0,9,  -999.0,-999.000,9,-999.000,  40.8488,2,   954.1,-999.000,   5.1592,     -999.0,9,     -999.0,9,     -999.0,9,     -999.0,9,     -999.0,9,     -999.0,9,     -999.0,9, -999.00,9,   0.0870,2,   0.0590,2,   0.0300,2,   0.0230,2,   0.0196,2,   0.0211,2,-999.0000, -999.00
33RR20050106,       P16S,      59,          1,         19,         19,2,20050126,       2109,   -45.0002,  -150.0003,       5216,  1054.8,   4.6822,  34.3277,2,  34.3275,2,    208.0,2,   207.4,2,   28.45,2,   29.95,2,    0.00,2,    2.06,2,   1.528,2,   0.822,2,   0.087,2,  2187.7,2,  2293.7,2,-999.000,9,-999.0000,9, -999.00,9, -999.00,9,  -999.0,9,  -999.0,-999.000,9,-999.000,  39.9001,2,  1054.8,-999.000,   4.5967,     -999.0,9,     -999.0,9,     -999.0,9,     -999.0,9,     -999.0,9,     -999.0,9,     -999.0,9, -999.00,9,   0.0860,2,   0.0560,2,   0.0300,2,   0.0230,2,   0.0200,2,   0.0224,2,-999.0000, -999.00
33RR20050106,       P16S,      59,          1,         18,         18,2,20050126,       2109,   -45.0002,  -150.0003,       5216,  1155.8,   4.1486,  34.3388,2,  34.3391,2,    202.2,2,   202.7,2,   35.38,2,   31.20,2,    0.00,2,    2.16,2,   1.354,2,   0.701,2,   0.076,2,  2199.6,2,  2299.2,6,-999.000,9,-999.0000,9, -999.00,9, -999.00,9,  -999.0,9,  -999.0,-999.000,9,-999.000,-999.0000,9,  1155.8,-999.000,   4.0588,     -999.0,9,     -999.0,9,     -999.0,9,     -999.0,9,     -999.0,9,     -999.0,9,     -999.0,9, -999.00,9,-999.0000,9,-999.0000,9,-999.0000,9,-999.0000,9,-999.0000,9,-999.0000,9,-999.0000, -999.00
33RR20050106,       P16S,      59,          1,         17,         17,2,20050126,       2109,   -45.0002,  -150.0003,       5216,  1256.7,   3.7192,  34.3605,2,  34.3610,2,    196.2,2,   197.2,2,   42.33,2,   32.19,2,    0.00,2,    2.24,2,   1.146,2,   0.583,2,   0.071,2,  2211.1,2,  2305.4,2,-999.000,9,   1.8100,2,    1.53,2, -999.00,9,  -999.0,9,  -999.0,   7.849,2,   0.009,-999.0000,9,  1256.7,-999.000,   3.6247,     -999.0,9,     -999.0,9,     -999.0,9,     -999.0,9,     -999.0,9,     -999.0,9,     -999.0,9, -999.00,9,-999.0000,9,-999.0000,9,-999.0000,9,-999.0000,9,-999.0000,9,-999.0000,9,   0.0000,    0.19
33RR20050106,       P16S,      59,          1,         16,         16,2,20050126,       2109,   -45.0002,  -150.0003,       5216,  1357.7,   3.3694,  34.3952,2,  34.3977,2,    188.7,2,   189.2,2,   50.71,2,   33.17,2,    0.00,2,    2.31,2,   0.814,2,   0.412,2,   0.036,2,  2222.4,2,  2313.2,2,-999.000,9,   1.8260,2,    2.12,2, -999.00,9,  -999.0,9,  -999.0,   7.950,2,   0.008,  39.8866,2,  1357.7,-999.000,   3.2698,     -999.0,9,     -999.0,9,     -999.0,9,     -999.0,9,     -999.0,9,     -999.0,9,     -999.0,9, -999.00,9,   0.1060,2,   0.0720,2,   0.0410,2,   0.0320,2,   0.0132,2,   0.0158,3,   0.0000,    0.18
33RR20050106,       P16S,      59,          1,         15,         15,2,20050126,       2109,   -45.0002,  -150.0003,       5216,  1560.0,   2.8943,  34.4851,2,  34.4856,2,    175.1,2,   175.1,2,   65.90,2,   34.09,2,    0.00,2,    2.39,2,   0.427,2,   0.209,2,   0.022,2,  2243.7,2,  2329.5,2,-999.000,9,   1.8700,2,    3.25,2, -999.00,9,  -999.0,9,  -999.0,   8.146,2,   0.009,-999.0000,9,  1560.0,-999.000,   2.7829,     -999.0,9,     -999.0,9,     -999.0,9,     -999.0,9,     -999.0,9,     -999.0,9,     -999.0,9, -999.00,9,-999.0000,9,-999.0000,9,-999.0000,9,-999.0000,9,-999.0000,9,-999.0000,9,   0.0000,    0.18
33RR20050106,       P16S,      59,          1,         14,         14,2,20050126,       2109,   -45.0002,  -150.0003,       5216,  1762.7,   2.6548,  34.5570,2,  34.5577,2,    166.7,2,   166.6,2,   78.26,2,   34.36,2,    0.00,2,    2.41,2,   0.176,2,   0.080,2,  -0.002,2,  2256.9,2,  2342.9,2,-999.000,9,   1.8480,2,    5.03,2, -999.00,9,  -999.0,9,  -999.0,   8.024,2,   0.009,  39.1180,2,  1762.7,-999.000,   2.5292,     -999.0,9,     -999.0,9,     -999.0,9,     -999.0,9,     -999.0,9,     -999.0,9,     -999.0,9, -999.00,9,   0.1120,2,   0.0760,2,   0.0410,2,   0.0310,2,   0.0148,2,   0.0174,2,   0.0000,    0.18
33RR20050106,       P16S,      59,          1,         13,         13,2,20050126,       2109,   -45.0002,  -150.0003,       5216,  1965.2,   2.4568,  34.6100,2,  34.6109,2,    160.2,2,   160.3,2,   91.48,2,   34.58,2,    0.00,2,    2.43,2,   0.072,2,   0.043,2,  -0.002,2,  2272.7,2,  2360.9,2,-999.000,9,   1.8610,2,    6.03,2, -999.00,9,  -999.0,9,  -999.0,   8.045,2,   0.008,-999.0000,9,  1965.2,-999.000,   2.3165,     -999.0,9,     -999.0,9,     -999.0,9,     -999.0,9,     -999.0,9,     -999.0,9,     -999.0,9, -999.00,9,-999.0000,9,-999.0000,9,-999.0000,9,-999.0000,9,-999.0000,9,-999.0000,9,   0.0000,    0.19
33RR20050106,       P16S,      59,          1,         12,         12,2,20050126,       2109,   -45.0002,  -150.0003,       5216,  2127.7,   2.3291,  34.6332,2,  34.6338,2,    157.7,2,   158.0,2,   98.93,2,   34.68,2,    0.00,2,    2.44,2,   0.094,2,   0.051,2,  -0.002,2,  2282.5,2,  2370.0,2,-999.000,9,  -0.0010,5,  482.08,5, -999.00,9,  -999.0,9,  -999.0,   8.184,2,   0.009,-999.0000,9,  2127.7,-999.000,   2.1765,     -999.0,9,     -999.0,9,     -999.0,9,     -999.0,9,     -999.0,9,     -999.0,9,     -999.0,9, -999.00,9,-999.0000,9,-999.0000,9,-999.0000,9,-999.0000,9,-999.0000,9,-999.0000,9,   0.0000,   44.98
33RR20050106,       P16S,      59,          1,         11,         11,2,20050126,       2109,   -45.0002,  -150.0003,       5216,  2381.4,   2.1587,  34.6554,2,  34.6556,2,    156.6,2,   157.1,2,  107.85,2,   34.73,2,    0.00,2,    2.45,2,   0.041,2,   0.026,2,  -0.002,2,  2289.2,2,  2377.5,2,-999.000,9,-999.0000,9, -999.00,9, -999.00,9,  -999.0,9,  -999.0,-999.000,9,-999.000,  37.1933,2,  2381.4,-999.000,   1.9863,     -999.0,9,     -999.0,9,     -999.0,9,     -999.0,9,     -999.0,9,     -999.0,9,     -999.0,9, -999.00,9,   0.1150,2,   0.0780,2,   0.0430,2,   0.0320,2,   0.0144,2,   0.0169,2,-999.0000, -999.00
33RR20050106,       P16S,      59,          1,         10,         10,2,20050126,       2109,   -45.0002,  -150.0003,       5216,  2635.2,   2.0206,  34.6729,2,  34.6747,2,    158.7,2,   159.7,2,  111.79,2,   34.51,2,    0.00,2,    2.43,2,-999.000,9,-999.000,9,-999.000,9,  2292.6,2,  2381.9,2,-999.000,9,-999.0000,9, -999.00,9, -999.00,9,  -999.0,9,  -999.0,-999.000,9,-999.000,-999.0000,9,  2635.2,-999.000,   1.8273,     -999.0,9,     -999.0,9,     -999.0,9,     -999.0,9,     -999.0,9,     -999.0,9,     -999.0,9, -999.00,9,-999.0000,9,-999.0000,9,-999.0000,9,-999.0000,9,-999.0000,9,-999.0000,9,-999.0000, -999.00
33RR20050106,       P16S,      59,          1,          9,          9,2,20050126,       2109,   -45.0002,  -150.0003,       5216,  2889.9,   1.9162,  34.6890,2,  34.6900,2,    165.5,2,   165.9,2,  111.39,2,   34.01,2,    0.00,2,    2.38,2,   0.013,2,   0.010,2,  -0.002,2,  2288.4,2,  2379.6,2,-999.000,9,-999.0000,9, -999.00,9, -999.00,9,  -999.0,9,  -999.0,-999.000,9,-999.000,  36.7616,2,  2889.9,-999.000,   1.7008,     -999.0,9,     -999.0,9,     -999.0,9,     -999.0,9,     -999.0,9,     -999.0,9,     -999.0,9, -999.00,9,   0.1150,2,   0.0790,2,   0.0420,2,   0.0310,2,   0.0151,2,   0.0175,2,-999.0000, -999.00
33RR20050106,       P16S,      59,          1,          8,          8,2,20050126,       2109,   -45.0002,  -150.0003,       5216,  3144.4,   1.8094,  34.7059,2,  34.7065,2,    174.2,2,   175.3,2,  108.90,2,   33.13,2,    0.00,2,    2.31,2,-999.000,9,-999.000,9,-999.000,9,  2277.6,2,  2374.2,2,-999.000,9,-999.0000,9, -999.00,9, -999.00,9,  -999.0,9,  -999.0,-999.000,9,-999.000,-999.0000,9,  3144.4,-999.000,   1.5714,     -999.0,9,     -999.0,9,     -999.0,9,     -999.0,9,     -999.0,9,     -999.0,9,     -999.0,9, -999.00,9,-999.0000,9,-999.0000,9,-999.0000,9,-999.0000,9,-999.0000,9,-999.0000,9,-999.0000, -999.00
33RR20050106,       P16S,      59,          1,          7,          7,2,20050126,       2109,   -45.0002,  -150.0003,       5216,  3450.6,   1.6615,  34.7180,2,  34.7189,2,    184.5,2,   185.8,2,  107.24,2,   32.35,2,    0.00,2,    2.25,2,   0.005,2,   0.019,3,  -0.002,2,  2268.9,2,  2368.3,2,-999.000,9,-999.0000,9, -999.00,9, -999.00,9,  -999.0,9,  -999.0,-999.000,9,-999.000,  38.9282,2,  3450.6,-999.000,   1.3961,     -999.0,9,     -999.0,9,     -999.0,9,     -999.0,9,     -999.0,9,     -999.0,9,     -999.0,9, -999.00,9,   0.1200,2,   0.0830,2,   0.0440,2,   0.0320,2,   0.0148,2,   0.0172,2,-999.0000, -999.00