BOTTLE,20201109CCHSIOCBG
EXPOCODE,SECT_ID,STNNBR,CASTNO,SAMPNO,BTLNBR,BTLNBR_FLAG_W,DATE,TIME,LATITUDE,LONGITUDE,DEPTH,CTDPRS,CTDTMP,CTDSAL,CTDSAL_FLAG_W,SALNTY,SALNTY_FLAG_W,CTDOXY,CTDOXY_FLAG_W,OXYGEN,OXYGEN_FLAG_W,SILCAT,SILCAT_FLAG_W,NITRAT,NITRAT_FLAG_W,NITRIT,NITRIT_FLAG_W,PHSPHT,PHSPHT_FLAG_W,CFC-11,CFC-11_FLAG_W,CFC-12,CFC-12_FLAG_W,CFC113,CFC113_FLAG_W,TCARBN,TCARBN_FLAG_W,ALKALI,ALKALI_FLAG_W,TRITUM,TRITUM_FLAG_W,HELIUM,HELIUM_FLAG_W,DELHE3,DELHE3_FLAG_W,DELC13,DELC13_FLAG_W,DELC14,DELC14_FLAG_W,C14ERR,NEON,NEON_FLAG_W,NEONER,DOC,DOC_FLAG_W,CTDRAW,TRITER,THETA,FUCO,FUCO_FLAG_W,RHAM,RHAM_FLAG_W,ARABA,ARABA_FLAG_W,GALA,GALA_FLAG_W,GLUC,GLUC_FLAG_W,MAN,MAN_FLAG_W,DCNS,DCNS_FLAG_W,BRDU,BRDU_FLAG_W,CDOM325,CDOM325_FLAG_W,CDOM340,CDOM340_FLAG_W,CDOM380,CDOM380_FLAG_W,CDOM412,CDOM412_FLAG_W,CDOMSL,CDOMSL_FLAG_W,CDOMSN,CDOMSN_FLAG_W,HELIER,DELHER
,,,,,,,,,,,METERS,DBAR,ITS-90,PSS-78,,PSS-78,,UMOL/KG,,UMOL/KG,,UMOL/KG,,UMOL/KG,,UMOL/KG,,UMOL/KG,,PMOL/KG,,PMOL/KG,,PMOL/KG,,UMOL/KG,,UMOL/KG,,TU,,NMOL/KG,,PERCNT,,/MILLE,,/MILLE,,/MILLE,NMOL/KG,,NMOL/KG,UMOL/KG,,DBAR,TU,DEG C,NMOL/KG,,NMOL/KG,,NMOL/KG,,NMOL/KG,,NMOL/KG,,NMOL/KG,,NMOL/KG,,PMOL/L/H,,1/M,,1/M,,1/M,,1/M,,1/NM,,1/NM,,NMOL/KG,PERCNT
33RR20050106,       P16S,      66,          1,         36,         36,2,20050129,       0340,   -48.5005,  -150.0007,       4799,     4.2,  11.8185,  34.5483,2,  34.5475,2,    268.6,2,   269.4,2,    0.34,2,    5.52,2,    0.13,2,    0.55,2,   3.321,2,   1.950,2,   0.304,2,  2067.7,6,  2289.8,6,-999.000,9,-999.0000,9, -999.00,9, -999.00,9,  -999.0,9,  -999.0,-999.000,9,-999.000,-999.0000,9,     4.2,-999.000,  11.8180,     -999.0,9,     -999.0,9,     -999.0,9,     -999.0,9,     -999.0,9,     -999.0,9,     -999.0,9, -999.00,9,-999.0000,9,-999.0000,9,-999.0000,9,-999.0000,9,-999.0000,9,-999.0000,9,-999.0000, -999.00
33RR20050106,       P16S,      66,          1,         35,         35,2,20050129,       0340,   -48.5005,  -150.0007,       4799,    46.7,  11.8259,  34.5476,2,  34.5483,2,    270.0,2,   269.5,2,    0.33,2,    5.52,2,    0.13,2,    0.55,2,   3.269,2,   1.961,2,   0.325,2,  2067.9,2,  2288.9,2,-999.000,9,-999.0000,9, -999.00,9, -999.00,9,  -999.0,9,  -999.0,-999.000,9,-999.000,-999.0000,9,    46.7,-999.000,  11.8199,     -999.0,9,     -999.0,9,     -999.0,9,     -999.0,9,     -999.0,9,     -999.0,9,     -999.0,9, -999.00,9,-999.0000,9,-999.0000,9,-999.0000,9,-999.0000,9,-999.0000,9,-999.0000,9,-999.0000, -999.00
33RR20050106,       P16S,      66,          1,         34,         34,2,20050129,       0340,   -48.5005,  -150.0007,       4799,    92.3,   9.6068,  34.6013,2,  34.6000,2,    265.1,2,   265.1,2,    2.31,2,   10.91,2,    0.13,2,    0.84,2,   3.653,2,   2.130,2,   0.335,2,  2103.5,2,  2287.0,2,-999.000,9,-999.0000,9, -999.00,9, -999.00,9,  -999.0,9,  -999.0,-999.000,9,-999.000,-999.0000,9,    92.3,-999.000,   9.5965,     -999.0,9,     -999.0,9,     -999.0,9,     -999.0,9,     -999.0,9,     -999.0,9,     -999.0,9, -999.00,9,-999.0000,9,-999.0000,9,-999.0000,9,-999.0000,9,-999.0000,9,-999.0000,9,-999.0000, -999.00
33RR20050106,       P16S,      66,          1,         33,         33,2,20050129,       0340,   -48.5005,  -150.0007,       4799,   143.7,   9.2643,  34.6014,2,  34.6008,2,    263.5,2,   266.3,2,    2.70,2,   11.82,2,    0.02,2,    0.88,2,   3.647,2,   2.156,2,   0.328,2,  2106.0,2,  2286.4,2,-999.000,9,-999.0000,9, -999.00,9, -999.00,9,  -999.0,9,  -999.0,-999.000,9,-999.000,-999.0000,9,   143.7,-999.000,   9.2485,     -999.0,9,     -999.0,9,     -999.0,9,     -999.0,9,     -999.0,9,     -999.0,9,     -999.0,9, -999.00,9,-999.0000,9,-999.0000,9,-999.0000,9,-999.0000,9,-999.0000,9,-999.0000,9,-999.0000, -999.00
33RR20050106,       P16S,      66,          1,         32,         32,2,20050129,       0340,   -48.5005,  -150.0007,       4799,   192.5,   9.1928,  34.6039,2,  34.6032,2,    265.2,2,   269.2,2,    2.49,2,   11.66,2,    0.02,2,    0.90,2,   3.651,2,   2.184,2,   0.332,2,  2105.4,2,  2287.3,2,-999.000,9,-999.0000,9, -999.00,9, -999.00,9,  -999.0,9,  -999.0,-999.000,9,-999.000,-999.0000,9,   192.5,-999.000,   9.1717,     -999.0,9,     -999.0,9,     -999.0,9,     -999.0,9,     -999.0,9,     -999.0,9,     -999.0,9, -999.00,9,-999.0000,9,-999.0000,9,-999.0000,9,-999.0000,9,-999.0000,9,-999.0000,9,-999.0000, -999.00
33RR20050106,       P16S,      66,          1,         31,         31,2,20050129,       0340,   -48.5005,  -150.0007,       4799,   243.0,   9.0352,  34.5837,2,  34.5838,2,    264.5,2,   265.1,2,    2.88,2,   12.78,2,    0.02,2,    0.96,2,-999.000,9,-999.000,9,-999.000,9,  2109.3,2,  2286.3,2,-999.000,9,-999.0000,9, -999.00,9, -999.00,9,  -999.0,9,  -999.0,-999.000,9,-999.000,-999.0000,9,   243.0,-999.000,   9.0088,     -999.0,9,     -999.0,9,     -999.0,9,     -999.0,9,     -999.0,9,     -999.0,9,     -999.0,9, -999.00,9,-999.0000,9,-999.0000,9,-999.0000,9,-999.0000,9,-999.0000,9,-999.0000,9,-999.0000, -999.00
33RR20050106,       P16S,      66,          1,         30,         30,2,20050129,       0340,   -48.5005,  -150.0007,       4799,   291.7,   8.7402,  34.5536,2,  34.5530,2,    255.5,2,   257.2,2,    3.67,2,   14.88,2,    0.01,2,    1.09,2,   3.736,2,   2.122,2,   0.297,2,  2117.3,2,  2285.1,2,-999.000,9,-999.0000,9, -999.00,9, -999.00,9,  -999.0,9,  -999.0,-999.000,9,-999.000,-999.0000,9,   291.7,-999.000,   8.7091,     -999.0,9,     -999.0,9,     -999.0,9,     -999.0,9,     -999.0,9,     -999.0,9,     -999.0,9, -999.00,9,-999.0000,9,-999.0000,9,-999.0000,9,-999.0000,9,-999.0000,9,-999.0000,9,-999.0000, -999.00
33RR20050106,       P16S,      66,          1,         29,         29,2,20050129,       0340,   -48.5005,  -150.0007,       4799,   343.1,   8.4161,  34.5210,2,  34.5202,2,    247.4,2,   248.4,2,    4.65,2,   17.08,2,    0.01,2,    1.21,2,-999.000,9,-999.000,9,-999.000,9,  2126.4,2,  2284.8,2,-999.000,9,-999.0000,9, -999.00,9, -999.00,9,  -999.0,9,  -999.0,-999.000,9,-999.000,-999.0000,9,   343.1,-999.000,   8.3802,     -999.0,9,     -999.0,9,     -999.0,9,     -999.0,9,     -999.0,9,     -999.0,9,     -999.0,9, -999.00,9,-999.0000,9,-999.0000,9,-999.0000,9,-999.0000,9,-999.0000,9,-999.0000,9,-999.0000, -999.00
33RR20050106,       P16S,      66,          1,         28,         28,2,20050129,       0340,   -48.5005,  -150.0007,       4799,   394.5,   8.0292,  34.4659,2,  34.4643,2,    249.9,2,   251.7,2,    5.04,2,   18.05,2,    0.01,2,    1.29,2,   3.682,2,   2.144,2,   0.292,2,  2126.9,2,  2283.3,2,-999.000,9,-999.0000,9, -999.00,9, -999.00,9,  -999.0,9,  -999.0,-999.000,9,-999.000,-999.0000,9,   394.5,-999.000,   7.9890,     -999.0,9,     -999.0,9,     -999.0,9,     -999.0,9,     -999.0,9,     -999.0,9,     -999.0,9, -999.00,9,-999.0000,9,-999.0000,9,-999.0000,9,-999.0000,9,-999.0000,9,-999.0000,9,-999.0000, -999.00
33RR20050106,       P16S,      66,          1,         27,         27,2,20050129,       0340,   -48.5005,  -150.0007,       4799,   444.5,   7.8284,  34.4547,2,  34.4541,2,    249.2,2,   249.5,2,    5.63,2,   19.07,2,    0.00,2,    1.35,2,-999.000,9,-999.000,9,-999.000,9,  2131.0,2,  2282.8,2,-999.000,9,-999.0000,9, -999.00,9, -999.00,9,  -999.0,9,  -999.0,-999.000,9,-999.000,-999.0000,9,   444.5,-999.000,   7.7836,     -999.0,9,     -999.0,9,     -999.0,9,     -999.0,9,     -999.0,9,     -999.0,9,     -999.0,9, -999.00,9,-999.0000,9,-999.0000,9,-999.0000,9,-999.0000,9,-999.0000,9,-999.0000,9,-999.0000, -999.00
33RR20050106,       P16S,      66,          1,         26,         26,2,20050129,       0340,   -48.5005,  -150.0007,       4799,   495.5,   7.6487,  34.4368,2,  34.4368,2,    251.6,2,   252.2,2,    5.82,2,   19.39,2,    0.00,2,    1.36,2,   3.705,2,   2.113,2,   0.299,2,  2131.1,2,  2282.4,2,-999.000,9,-999.0000,9, -999.00,9, -999.00,5,    21.7,6,     2.0,-999.000,9,-999.000,-999.0000,9,   495.5,-999.000,   7.5993,     -999.0,9,     -999.0,9,     -999.0,9,     -999.0,9,     -999.0,9,     -999.0,9,     -999.0,9, -999.00,9,-999.0000,9,-999.0000,9,-999.0000,9,-999.0000,9,-999.0000,9,-999.0000,9,-999.0000, -999.00
33RR20050106,       P16S,      66,          1,         25,         25,2,20050129,       0340,   -48.5005,  -150.0007,       4799,   579.4,   7.3543,  34.4125,2,  34.4127,2,    247.3,2,   247.5,2,    7.01,2,   20.58,2,    0.00,2,    1.44,2,   3.609,2,   2.034,2,   0.274,2,  2136.3,2,  2282.2,2,-999.000,9,-999.0000,9, -999.00,9, -999.00,9,  -999.0,9,  -999.0,-999.000,9,-999.000,-999.0000,9,   579.4,-999.000,   7.2975,     -999.0,9,     -999.0,9,     -999.0,9,     -999.0,9,     -999.0,9,     -999.0,9,     -999.0,9, -999.00,9,-999.0000,9,-999.0000,9,-999.0000,9,-999.0000,9,-999.0000,9,-999.0000,9,-999.0000, -999.00
33RR20050106,       P16S,      66,          1,         24,         24,2,20050129,       0340,   -48.5005,  -150.0007,       4799,   677.4,   7.0121,  34.3871,2,  34.3882,2,    242.6,2,   243.6,2,    8.19,2,   21.76,2,    0.00,2,    1.52,2,   3.380,2,   1.865,2,   0.236,2,  2140.7,2,  2281.0,2,-999.000,9,-999.0000,9, -999.00,9, -999.00,9,  -999.0,9,  -999.0,-999.000,9,-999.000,-999.0000,9,   677.4,-999.000,   6.9470,     -999.0,9,     -999.0,9,     -999.0,9,     -999.0,9,     -999.0,9,     -999.0,9,     -999.0,9, -999.00,9,-999.0000,9,-999.0000,9,-999.0000,9,-999.0000,9,-999.0000,9,-999.0000,9,-999.0000, -999.00
33RR20050106,       P16S,      66,          1,         23,         23,2,20050129,       0340,   -48.5005,  -150.0007,       4799,   778.5,   6.5489,  34.3630,2,  34.3629,2,    233.3,2,   233.4,2,   11.57,2,   23.76,2,    0.00,2,    1.64,2,   2.837,2,   1.538,2,   0.176,2,  2150.6,2,  2283.1,2,-999.000,9,-999.0000,9, -999.00,9, -999.00,9,  -999.0,9,  -999.0,-999.000,9,-999.000,-999.0000,9,   778.5,-999.000,   6.4763,     -999.0,9,     -999.0,9,     -999.0,9,     -999.0,9,     -999.0,9,     -999.0,9,     -999.0,9, -999.00,9,-999.0000,9,-999.0000,9,-999.0000,9,-999.0000,9,-999.0000,9,-999.0000,9,-999.0000, -999.00
33RR20050106,       P16S,      66,          1,         22,         22,2,20050129,       0340,   -48.5005,  -150.0007,       4799,   882.5,   5.9355,  34.3418,2,  34.3426,2,    222.9,2,   222.0,2,   16.54,2,   26.04,2,    0.00,2,    1.80,2,   2.289,2,   1.221,2,   0.134,2,  2162.6,2,  2284.7,2,-999.000,9,-999.0000,9, -999.00,9, -999.00,9,  -999.0,9,  -999.0,-999.000,9,-999.000,-999.0000,9,   882.5,-999.000,   5.8567,     -999.0,9,     -999.0,9,     -999.0,9,     -999.0,9,     -999.0,9,     -999.0,9,     -999.0,9, -999.00,9,-999.0000,9,-999.0000,9,-999.0000,9,-999.0000,9,-999.0000,9,-999.0000,9,-999.0000, -999.00
33RR20050106,       P16S,      66,          1,         21,         21,2,20050129,       0340,   -48.5005,  -150.0007,       4799,   983.0,   5.3830,  34.3446,2,  34.3436,2,    212.5,2,   211.8,2,   22.92,2,   27.99,2,    0.00,2,    1.93,2,   1.879,2,   1.003,2,   0.121,2,  2176.9,2,  2290.0,2,-999.000,9,-999.0000,9, -999.00,9, -999.00,9,  -999.0,9,  -999.0,-999.000,9,-999.000,-999.0000,9,   983.0,-999.000,   5.2986,     -999.0,9,     -999.0,9,     -999.0,9,     -999.0,9,     -999.0,9,     -999.0,9,     -999.0,9, -999.00,9,-999.0000,9,-999.0000,9,-999.0000,9,-999.0000,9,-999.0000,9,-999.0000,9,-999.0000, -999.00
33RR20050106,       P16S,      66,          1,         20,         20,2,20050129,       0340,   -48.5005,  -150.0007,       4799,  1085.0,   4.9628,  34.3777,2,  34.3775,2,    197.9,2,   199.3,2,   31.33,2,   29.62,2,    0.00,2,    2.05,2,   1.226,3,   0.645,3,   0.067,3,  2192.1,2,  2299.0,2,-999.000,9,-999.0000,9, -999.00,9, -999.00,9,  -999.0,9,  -999.0,-999.000,9,-999.000,-999.0000,9,  1085.0,-999.000,   4.8723,     -999.0,9,     -999.0,9,     -999.0,9,     -999.0,9,     -999.0,9,     -999.0,9,     -999.0,9, -999.00,9,-999.0000,9,-999.0000,9,-999.0000,9,-999.0000,9,-999.0000,9,-999.0000,9,-999.0000, -999.00
33RR20050106,       P16S,      66,          1,         19,         19,2,20050129,       0340,   -48.5005,  -150.0007,       4799,  1186.3,   4.4438,  34.3536,2,  34.3540,2,    199.4,2,   202.6,2,   34.33,2,   30.44,2,    0.00,2,    2.10,2,   1.606,2,   1.023,3,   0.091,2,  2200.1,2,  2299.3,2,-999.000,9,-999.0000,9, -999.00,9, -999.00,9,  -999.0,9,  -999.0,-999.000,9,-999.000,-999.0000,9,  1186.3,-999.000,   4.3487,     -999.0,9,     -999.0,9,     -999.0,9,     -999.0,9,     -999.0,9,     -999.0,9,     -999.0,9, -999.00,9,-999.0000,9,-999.0000,9,-999.0000,9,-999.0000,9,-999.0000,9,-999.0000,9,-999.0000, -999.00
33RR20050106,       P16S,      66,          1,         18,         18,2,20050129,       0340,   -48.5005,  -150.0007,       4799,  1285.9,   3.9674,  34.3338,2,  34.3331,2,    204.5,2,   205.7,2,   36.73,2,   31.14,2,    0.00,2,    2.16,2,   1.801,4,   0.941,4,   0.109,4,  2199.5,2,  2301.0,2,-999.000,9,-999.0000,9, -999.00,9, -999.00,9,  -999.0,9,  -999.0,-999.000,9,-999.000,-999.0000,9,  1285.9,-999.000,   3.8680,     -999.0,9,     -999.0,9,     -999.0,9,     -999.0,9,     -999.0,9,     -999.0,9,     -999.0,9, -999.00,9,-999.0000,9,-999.0000,9,-999.0000,9,-999.0000,9,-999.0000,9,-999.0000,9,-999.0000, -999.00
33RR20050106,       P16S,      66,          1,         17,         17,2,20050129,       0340,   -48.5005,  -150.0007,       4799,  1387.9,   3.5302,  34.3816,2,  34.3822,2,    193.2,2,   193.8,2,   47.18,2,   32.45,2,    0.00,2,    2.26,2,   1.257,2,   0.602,2,   0.083,2,  2218.1,2,  2311.2,2,-999.000,9,-999.0000,9, -999.00,9, -999.00,9,  -999.0,9,  -999.0,-999.000,9,-999.000,-999.0000,9,  1387.9,-999.000,   3.4264,     -999.0,9,     -999.0,9,     -999.0,9,     -999.0,9,     -999.0,9,     -999.0,9,     -999.0,9, -999.00,9,-999.0000,9,-999.0000,9,-999.0000,9,-999.0000,9,-999.0000,9,-999.0000,9,-999.0000, -999.00
33RR20050106,       P16S,      66,          1,         16,         16,2,20050129,       0340,   -48.5005,  -150.0007,       4799,  1487.1,   3.2461,  34.4214,2,  34.4212,2,    184.5,2,   185.7,2,   55.64,2,   33.21,2,    0.00,2,    2.31,2,-999.000,9,-999.000,9,-999.000,9,  2227.0,2,  2318.6,2,-999.000,9,-999.0000,9, -999.00,9, -999.00,9,  -999.0,9,  -999.0,-999.000,9,-999.000,-999.0000,9,  1487.1,-999.000,   3.1369,     -999.0,9,     -999.0,9,     -999.0,9,     -999.0,9,     -999.0,9,     -999.0,9,     -999.0,9, -999.00,9,-999.0000,9,-999.0000,9,-999.0000,9,-999.0000,9,-999.0000,9,-999.0000,9,-999.0000, -999.00
33RR20050106,       P16S,      66,          1,         15,         15,2,20050129,       0340,   -48.5005,  -150.0007,       4799,  1587.0,   3.0222,  34.4592,2,  34.4576,2,    178.3,2,   180.3,2,   61.49,2,   33.64,2,    0.00,2,    2.34,2,   0.744,2,   0.370,2,   0.050,2,  2236.4,2,  2325.4,2,-999.000,9,-999.0000,9, -999.00,9, -999.00,9,  -999.0,9,  -999.0,-999.000,9,-999.000,-999.0000,9,  1587.0,-999.000,   2.9071,     -999.0,9,     -999.0,9,     -999.0,9,     -999.0,9,     -999.0,9,     -999.0,9,     -999.0,9, -999.00,9,-999.0000,9,-999.0000,9,-999.0000,9,-999.0000,9,-999.0000,9,-999.0000,9,-999.0000, -999.00
33RR20050106,       P16S,      66,          1,         14,         14,2,20050129,       0340,   -48.5005,  -150.0007,       4799,  1793.2,   2.7538,  34.5486,2,  34.5487,2,    166.9,2,   167.1,2,   77.70,2,   34.13,2,    0.00,2,    2.39,2,   0.261,2,   0.123,2,   0.011,2,  2257.7,2,  2344.5,2,-999.000,9,-999.0000,9, -999.00,9, -999.00,9,  -999.0,9,  -999.0,-999.000,9,-999.000,-999.0000,9,  1793.2,-999.000,   2.6243,     -999.0,9,     -999.0,9,     -999.0,9,     -999.0,9,     -999.0,9,     -999.0,9,     -999.0,9, -999.00,9,-999.0000,9,-999.0000,9,-999.0000,9,-999.0000,9,-999.0000,9,-999.0000,9,-999.0000, -999.00
33RR20050106,       P16S,      66,          1,         13,         13,2,20050129,       0340,   -48.5005,  -150.0007,       4799,  1894.1,   2.6354,  34.5802,2,  34.5800,2,    162.8,2,   163.4,2,   84.80,2,   34.24,2,    0.00,2,    2.40,2,-999.000,9,-999.000,9,-999.000,9,  2266.1,6,  2352.7,2,-999.000,9,-999.0000,9, -999.00,9, -999.00,9,  -999.0,9,  -999.0,-999.000,9,-999.000,-999.0000,9,  1894.1,-999.000,   2.4987,     -999.0,9,     -999.0,9,     -999.0,9,     -999.0,9,     -999.0,9,     -999.0,9,     -999.0,9, -999.00,9,-999.0000,9,-999.0000,9,-999.0000,9,-999.0000,9,-999.0000,9,-999.0000,9,-999.0000, -999.00
33RR20050106,       P16S,      66,          1,         12,         12,2,20050129,       0340,   -48.5005,  -150.0007,       4799,  1994.7,   2.5349,  34.6021,2,  34.6028,2,    161.5,2,   162.1,2,   89.26,2,   34.18,2,    0.00,2,    2.40,2,   0.134,2,   0.071,2,   0.005,2,  -999.0,9,  -999.0,9,-999.000,9,-999.0000,9, -999.00,9, -999.00,9,  -999.0,9,  -999.0,-999.000,9,-999.000,-999.0000,9,  1994.7,-999.000,   2.3909,     -999.0,9,     -999.0,9,     -999.0,9,     -999.0,9,     -999.0,9,     -999.0,9,     -999.0,9, -999.00,9,-999.0000,9,-999.0000,9,-999.0000,9,-999.0000,9,-999.0000,9,-999.0000,9,-999.0000, -999.00
33RR20050106,       P16S,      66,          1,         11,         11,2,20050129,       0340,   -48.5005,  -150.0007,       4799,  2197.4,   2.3718,  34.6363,2,  34.6364,2,    162.2,2,   162.9,2,   94.34,2,   33.95,2,    0.00,2,    2.38,2,   0.118,2,   0.061,2,   0.006,2,  -999.0,9,  -999.0,9,-999.000,9,-999.0000,9, -999.00,9, -999.00,9,  -999.0,9,  -999.0,-999.000,9,-999.000,-999.0000,9,  2197.4,-999.000,   2.2123,     -999.0,9,     -999.0,9,     -999.0,9,     -999.0,9,     -999.0,9,     -999.0,9,     -999.0,9, -999.00,9,-999.0000,9,-999.0000,9,-999.0000,9,-999.0000,9,-999.0000,9,-999.0000,9,-999.0000, -999.00
33RR20050106,       P16S,      66,          1,         10,         10,2,20050129,       0340,   -48.5005,  -150.0007,       4799,  2451.5,   2.2247,  34.6756,2,  34.6752,2,    169.2,2,   170.1,2,   93.31,2,   33.13,2,    0.00,2,    2.31,2,   0.090,2,   0.040,2,   0.006,2,  -999.0,9,  -999.0,9,-999.000,9,-999.0000,9, -999.00,9, -999.00,9,  -999.0,9,  -999.0,-999.000,9,-999.000,-999.0000,9,  2451.5,-999.000,   2.0446,     -999.0,9,     -999.0,9,     -999.0,9,     -999.0,9,     -999.0,9,     -999.0,9,     -999.0,9, -999.00,9,-999.0000,9,-999.0000,9,-999.0000,9,-999.0000,9,-999.0000,9,-999.0000,9,-999.0000, -999.00
33RR20050106,       P16S,      66,          1,          9,          9,2,20050129,       0340,   -48.5005,  -150.0007,       4799,  2705.6,   2.0961,  34.7073,2,  34.7068,2,    177.9,2,   179.0,2,   92.48,2,   32.14,2,    0.00,2,    2.23,2,   0.072,2,   0.036,2,  -0.002,2,  -999.0,9,  -999.0,9,-999.000,9,-999.0000,9, -999.00,9, -999.00,9,  -999.0,9,  -999.0,-999.000,9,-999.000,-999.0000,9,  2705.6,-999.000,   1.8946,     -999.0,9,     -999.0,9,     -999.0,9,     -999.0,9,     -999.0,9,     -999.0,9,     -999.0,9, -999.00,9,-999.0000,9,-999.0000,9,-999.0000,9,-999.0000,9,-999.0000,9,-999.0000,9,-999.0000, -999.00
33RR20050106,       P16S,      66,          1,          8,          8,2,20050129,       0340,   -48.5005,  -150.0007,       4799,  2959.8,   1.9349,  34.7248,2,  34.7246,2,    185.5,2,   186.0,2,   94.71,2,   31.43,2,    0.00,2,    2.19,2,-999.000,9,-999.000,9,-999.000,9,  -999.0,9,  -999.0,9,-999.000,9,-999.0000,9, -999.00,9, -999.00,9,  -999.0,9,  -999.0,-999.000,9,-999.000,-999.0000,9,  2959.8,-999.000,   1.7122,     -999.0,9,     -999.0,9,     -999.0,9,     -999.0,9,     -999.0,9,     -999.0,9,     -999.0,9, -999.00,9,-999.0000,9,-999.0000,9,-999.0000,9,-999.0000,9,-999.0000,9,-999.0000,9,-999.0000, -999.00
33RR20050106,       P16S,      66,          1,          7,          7,2,20050129,       0340,   -48.5005,  -150.0007,       4799,  3295.9,   1.7068,  34.7325,2,  34.7323,2,    193.0,2,   193.4,2,   99.19,2,   31.21,2,    0.00,2,    2.16,2,   0.036,2,   0.019,2,  -0.002,2,  -999.0,9,  -999.0,9,-999.000,9,-999.0000,9, -999.00,9, -999.00,9,  -999.0,9,  -999.0,-999.000,9,-999.000,-999.0000,9,  3295.9,-999.000,   1.4560,     -999.0,9,     -999.0,9,     -999.0,9,     -999.0,9,     -999.0,9,     -999.0,9,     -999.0,9, -999.00,9,-999.0000,9,-999.0000,9,-999.0000,9,-999.0000,9,-999.0000,9,-999.0000,9,-999.0000, -999.00