BOTTLE,20201109CCHSIOCBG
EXPOCODE,SECT_ID,STNNBR,CASTNO,SAMPNO,BTLNBR,BTLNBR_FLAG_W,DATE,TIME,LATITUDE,LONGITUDE,DEPTH,CTDPRS,CTDTMP,CTDSAL,CTDSAL_FLAG_W,SALNTY,SALNTY_FLAG_W,CTDOXY,CTDOXY_FLAG_W,OXYGEN,OXYGEN_FLAG_W,SILCAT,SILCAT_FLAG_W,NITRAT,NITRAT_FLAG_W,NITRIT,NITRIT_FLAG_W,PHSPHT,PHSPHT_FLAG_W,CFC-11,CFC-11_FLAG_W,CFC-12,CFC-12_FLAG_W,CFC113,CFC113_FLAG_W,TCARBN,TCARBN_FLAG_W,ALKALI,ALKALI_FLAG_W,TRITUM,TRITUM_FLAG_W,HELIUM,HELIUM_FLAG_W,DELHE3,DELHE3_FLAG_W,DELC13,DELC13_FLAG_W,DELC14,DELC14_FLAG_W,C14ERR,NEON,NEON_FLAG_W,NEONER,DOC,DOC_FLAG_W,CTDRAW,TRITER,THETA,FUCO,FUCO_FLAG_W,RHAM,RHAM_FLAG_W,ARABA,ARABA_FLAG_W,GALA,GALA_FLAG_W,GLUC,GLUC_FLAG_W,MAN,MAN_FLAG_W,DCNS,DCNS_FLAG_W,BRDU,BRDU_FLAG_W,CDOM325,CDOM325_FLAG_W,CDOM340,CDOM340_FLAG_W,CDOM380,CDOM380_FLAG_W,CDOM412,CDOM412_FLAG_W,CDOMSL,CDOMSL_FLAG_W,CDOMSN,CDOMSN_FLAG_W,HELIER,DELHER
,,,,,,,,,,,METERS,DBAR,ITS-90,PSS-78,,PSS-78,,UMOL/KG,,UMOL/KG,,UMOL/KG,,UMOL/KG,,UMOL/KG,,UMOL/KG,,PMOL/KG,,PMOL/KG,,PMOL/KG,,UMOL/KG,,UMOL/KG,,TU,,NMOL/KG,,PERCNT,,/MILLE,,/MILLE,,/MILLE,NMOL/KG,,NMOL/KG,UMOL/KG,,DBAR,TU,DEG C,NMOL/KG,,NMOL/KG,,NMOL/KG,,NMOL/KG,,NMOL/KG,,NMOL/KG,,NMOL/KG,,PMOL/L/H,,1/M,,1/M,,1/M,,1/M,,1/NM,,1/NM,,NMOL/KG,PERCNT
33RR20050106,       P16S,      41,          1,          6,          6,2,20050121,       1342,   -35.9997,  -150.0000,       4697,  3396.9,   1.6579,  34.6900,2,  34.6911,2,    165.2,3,   166.9,2,  124.00,2,   34.36,2,    0.00,2,    2.42,2,-999.000,9,-999.000,9,-999.000,9,  2296.8,2,  2391.9,2,-999.000,9,-999.0000,9, -999.00,9, -999.00,9,  -999.0,9,  -999.0,-999.000,9,-999.000,-999.0000,9,  3396.9,-999.000,   1.3982,     -999.0,9,     -999.0,9,     -999.0,9,     -999.0,9,     -999.0,9,     -999.0,9,     -999.0,9, -999.00,9,-999.0000,9,-999.0000,9,-999.0000,9,-999.0000,9,-999.0000,9,-999.0000,9,-999.0000, -999.00
33RR20050106,       P16S,      41,          1,          5,          5,2,20050121,       1342,   -35.9997,  -150.0000,       4697,  3652.2,   1.5695,  34.7009,2,  34.7010,2,    174.7,3,   177.2,2,  119.62,2,   33.51,2,    0.00,2,    2.35,2,   0.032,3,   0.013,2,   0.001,2,  2285.7,2,  2380.6,2,-999.000,9,-999.0000,9, -999.00,9, -999.00,9,  -999.0,9,  -999.0,-999.000,9,-999.000,  38.2284,2,  3652.2,-999.000,   1.2857,     -999.0,9,     -999.0,9,     -999.0,9,     -999.0,9,     -999.0,9,     -999.0,9,     -999.0,9, -999.00,9,   0.1210,2,   0.0830,2,   0.0440,2,   0.0310,2,   0.0158,2,   0.0181,2,-999.0000, -999.00
33RR20050106,       P16S,      41,          1,          4,          4,2,20050121,       1342,   -35.9997,  -150.0000,       4697,  3958.7,   1.4309,  34.7132,2,  34.7134,2,    189.1,3,   191.5,2,  114.20,2,   32.42,2,    0.00,2,    2.26,2,-999.000,9,-999.000,9,-999.000,9,  2270.1,2,  2371.4,2,-999.000,9,-999.0000,9, -999.00,9, -999.00,9,  -999.0,9,  -999.0,-999.000,9,-999.000,-999.0000,9,  3958.7,-999.000,   1.1182,     -999.0,9,     -999.0,9,     -999.0,9,     -999.0,9,     -999.0,9,     -999.0,9,     -999.0,9, -999.00,9,-999.0000,9,-999.0000,9,-999.0000,9,-999.0000,9,-999.0000,9,-999.0000,9,-999.0000, -999.00
33RR20050106,       P16S,      41,          1,          3,          3,2,20050121,       1342,   -35.9997,  -150.0000,       4697,  4266.0,   1.2843,  34.7143,2,  34.7146,2,    196.8,3,   198.3,2,  115.43,2,   32.14,2,    0.00,2,    2.25,2,   0.009,2,   0.007,2,   0.001,2,  2266.3,2,  2366.5,2,-999.000,9,-999.0000,9, -999.00,9, -999.00,9,  -999.0,9,  -999.0,-999.000,9,-999.000,  39.4218,2,  4266.0,-999.000,   0.9421,     -999.0,9,     -999.0,9,     -999.0,9,     -999.0,9,     -999.0,9,     -999.0,9,     -999.0,9, -999.00,9,   0.1200,2,   0.0820,2,   0.0430,2,   0.0310,2,   0.0157,2,   0.0180,2,-999.0000, -999.00
33RR20050106,       P16S,      41,          1,          2,          2,2,20050121,       1342,   -35.9997,  -150.0000,       4697,  4573.0,   1.1767,  34.7131,2,  34.7136,2,    201.4,2,   202.3,2,  117.70,2,   32.14,2,    0.00,2,    2.23,2,   0.005,2,  -0.002,2,   0.001,2,  2266.3,2,  2369.3,2,-999.000,9,-999.0000,9, -999.00,9, -999.00,9,  -999.0,9,  -999.0,-999.000,9,-999.000,-999.0000,9,  4573.0,-999.000,   0.8032,     -999.0,9,     -999.0,9,     -999.0,9,     -999.0,9,     -999.0,9,     -999.0,9,     -999.0,9, -999.00,9,-999.0000,9,-999.0000,9,-999.0000,9,-999.0000,9,-999.0000,9,-999.0000,9,-999.0000, -999.00
33RR20050106,       P16S,      41,          1,          1,          1,2,20050121,       1342,   -35.9997,  -150.0000,       4697,  4780.9,   1.1295,  34.7114,2,  34.7122,2,    203.4,2,   204.1,2,  119.14,2,   32.13,2,    0.00,2,    2.24,2,   0.021,3,   0.018,3,   0.001,2,  2265.8,6,  2369.2,6,-999.000,9,-999.0000,9, -999.00,9, -999.00,9,  -999.0,9,  -999.0,-999.000,9,-999.000,  39.5232,2,  4780.9,-999.000,   0.7335,     -999.0,9,     -999.0,9,     -999.0,9,     -999.0,9,     -999.0,9,     -999.0,9,     -999.0,9, -999.00,9,   0.1200,2,   0.0820,2,   0.0440,2,   0.0310,2,   0.0154,2,   0.0177,2,-999.0000, -999.00