BOTTLE,20201109CCHSIOCBG
EXPOCODE,SECT_ID,STNNBR,CASTNO,SAMPNO,BTLNBR,BTLNBR_FLAG_W,DATE,TIME,LATITUDE,LONGITUDE,DEPTH,CTDPRS,CTDTMP,CTDSAL,CTDSAL_FLAG_W,SALNTY,SALNTY_FLAG_W,CTDOXY,CTDOXY_FLAG_W,OXYGEN,OXYGEN_FLAG_W,SILCAT,SILCAT_FLAG_W,NITRAT,NITRAT_FLAG_W,NITRIT,NITRIT_FLAG_W,PHSPHT,PHSPHT_FLAG_W,CFC-11,CFC-11_FLAG_W,CFC-12,CFC-12_FLAG_W,CFC113,CFC113_FLAG_W,TCARBN,TCARBN_FLAG_W,ALKALI,ALKALI_FLAG_W,TRITUM,TRITUM_FLAG_W,HELIUM,HELIUM_FLAG_W,DELHE3,DELHE3_FLAG_W,DELC13,DELC13_FLAG_W,DELC14,DELC14_FLAG_W,C14ERR,NEON,NEON_FLAG_W,NEONER,DOC,DOC_FLAG_W,CTDRAW,TRITER,THETA,FUCO,FUCO_FLAG_W,RHAM,RHAM_FLAG_W,ARABA,ARABA_FLAG_W,GALA,GALA_FLAG_W,GLUC,GLUC_FLAG_W,MAN,MAN_FLAG_W,DCNS,DCNS_FLAG_W,BRDU,BRDU_FLAG_W,CDOM325,CDOM325_FLAG_W,CDOM340,CDOM340_FLAG_W,CDOM380,CDOM380_FLAG_W,CDOM412,CDOM412_FLAG_W,CDOMSL,CDOMSL_FLAG_W,CDOMSN,CDOMSN_FLAG_W,HELIER,DELHER
,,,,,,,,,,,METERS,DBAR,ITS-90,PSS-78,,PSS-78,,UMOL/KG,,UMOL/KG,,UMOL/KG,,UMOL/KG,,UMOL/KG,,UMOL/KG,,PMOL/KG,,PMOL/KG,,PMOL/KG,,UMOL/KG,,UMOL/KG,,TU,,NMOL/KG,,PERCNT,,/MILLE,,/MILLE,,/MILLE,NMOL/KG,,NMOL/KG,UMOL/KG,,DBAR,TU,DEG C,NMOL/KG,,NMOL/KG,,NMOL/KG,,NMOL/KG,,NMOL/KG,,NMOL/KG,,NMOL/KG,,PMOL/L/H,,1/M,,1/M,,1/M,,1/M,,1/NM,,1/NM,,NMOL/KG,PERCNT
33RR20050106,       P16S,      42,          1,         36,         36,2,20050121,       2057,   -36.5000,  -150.0000,       5350,     2.8,  20.4591,  34.8627,2,  34.8655,2,    227.3,2,   228.2,2,    0.59,2,    0.12,2,    0.00,2,    0.15,2,   2.289,2,   1.349,2,   0.213,2,  2034.6,6,  2293.2,6,-999.000,9,-999.0000,9, -999.00,9, -999.00,9,  -999.0,9,  -999.0,-999.000,9,-999.000,-999.0000,9,     2.8,-999.000,  20.4586,     -999.0,9,     -999.0,9,     -999.0,9,     -999.0,9,     -999.0,9,     -999.0,9,     -999.0,9, -999.00,9,   0.0300,2,   0.0160,2,   0.0020,2,   0.0010,2,   0.0414,2,   0.0414,2,-999.0000, -999.00
33RR20050106,       P16S,      42,          1,         35,         35,2,20050121,       2057,   -36.5000,  -150.0000,       5350,    41.7,  17.4610,  35.1918,2,  35.1895,2,    255.1,2,   253.3,2,    0.58,2,    0.12,2,    0.00,2,    0.12,2,   2.813,2,   1.543,2,   0.210,2,  2044.9,2,  2309.8,2,-999.000,9,-999.0000,9, -999.00,9, -999.00,9,  -999.0,9,  -999.0,-999.000,9,-999.000,-999.0000,9,    41.7,-999.000,  17.4540,     -999.0,9,     -999.0,9,     -999.0,9,     -999.0,9,     -999.0,9,     -999.0,9,     -999.0,9, -999.00,9,   0.0470,2,   0.0280,2,   0.0080,2,   0.0050,2,   0.0360,2,   0.0361,2,-999.0000, -999.00
33RR20050106,       P16S,      42,          1,         34,         34,2,20050121,       2057,   -36.5000,  -150.0000,       5350,    87.2,  15.4918,  35.1332,2,  35.1340,2,    256.6,2,   255.0,2,    0.58,2,    0.12,2,    0.00,2,    0.14,2,   2.915,2,   1.629,2,   0.229,2,  2049.0,2,  2308.3,2,-999.000,9,-999.0000,9, -999.00,9, -999.00,9,  -999.0,9,  -999.0,-999.000,9,-999.000,-999.0000,9,    87.2,-999.000,  15.4783,     -999.0,9,     -999.0,9,     -999.0,9,     -999.0,9,     -999.0,9,     -999.0,9,     -999.0,9, -999.00,9,   0.0880,2,   0.0580,2,   0.0220,2,   0.0140,2,   0.0265,2,   0.0270,2,-999.0000, -999.00
33RR20050106,       P16S,      42,          1,         33,         33,2,20050121,       2057,   -36.5000,  -150.0000,       5350,   137.3,  14.6328,  35.0700,2,  35.0729,2,    248.9,2,   243.3,2,    0.58,2,    0.95,2,    0.10,2,    0.22,2,   2.967,2,   1.654,2,   0.230,2,  2061.6,2,  2304.4,2,-999.000,9,-999.0000,9, -999.00,9, -999.00,9,  -999.0,9,  -999.0,-999.000,9,-999.000,-999.0000,9,   137.3,-999.000,  14.6124,     -999.0,9,     -999.0,9,     -999.0,9,     -999.0,9,     -999.0,9,     -999.0,9,     -999.0,9, -999.00,9,   0.0730,2,   0.0500,2,   0.0210,2,   0.0150,2,   0.0247,2,   0.0250,2,-999.0000, -999.00
33RR20050106,       P16S,      42,          1,         32,         32,2,20050121,       2057,   -36.5000,  -150.0000,       5350,   188.0,  12.0813,  34.8422,2,-999.0000,9,    212.6,2,   214.7,2,    1.99,2,    9.50,2,    0.02,2,    0.74,2,   3.155,2,   1.778,2,   0.160,2,  2106.0,2,  2293.3,2,-999.000,9,-999.0000,9, -999.00,9, -999.00,9,  -999.0,9,  -999.0,-999.000,9,-999.000,-999.0000,9,   188.0,-999.000,  12.0567,     -999.0,9,     -999.0,9,     -999.0,9,     -999.0,9,     -999.0,9,     -999.0,9,     -999.0,9, -999.00,9,   0.0970,2,   0.0670,2,   0.0320,2,   0.0250,2,   0.0198,2,   0.0215,2,-999.0000, -999.00
33RR20050106,       P16S,      42,          1,         31,         31,2,20050121,       2057,   -36.5000,  -150.0000,       5350,   238.4,  10.5845,  34.6917,2,-999.0000,9,    218.2,2,   218.2,2,    2.59,2,   13.02,2,    0.00,2,    0.96,2,   3.063,2,   1.692,2,   0.141,2,  2117.9,2,  2288.0,2,-999.000,9,-999.0000,9, -999.00,9, -999.00,9,  -999.0,9,  -999.0,-999.000,9,-999.000,-999.0000,9,   238.4,-999.000,  10.5559,     -999.0,9,     -999.0,9,     -999.0,9,     -999.0,9,     -999.0,9,     -999.0,9,     -999.0,9, -999.00,9,   0.0820,2,   0.0540,2,   0.0260,2,   0.0200,2,   0.0235,2,   0.0248,2,-999.0000, -999.00
33RR20050106,       P16S,      42,          1,         30,         30,2,20050121,       2057,   -36.5000,  -150.0000,       5350,   289.0,   9.3616,  34.5764,2,-999.0000,9,    222.6,2,   225.0,2,    3.41,2,   16.05,2,    0.00,2,    1.15,2,   3.399,6,   1.817,6,   0.159,6,  2126.8,2,  2281.0,2,-999.000,9,-999.0000,9, -999.00,9, -999.00,9,  -999.0,9,  -999.0,-999.000,9,-999.000,-999.0000,9,   289.0,-999.000,   9.3294,     -999.0,9,     -999.0,9,     -999.0,9,     -999.0,9,     -999.0,9,     -999.0,9,     -999.0,9, -999.00,9,-999.0000,9,-999.0000,9,-999.0000,9,-999.0000,9,-999.0000,9,-999.0000,9,-999.0000, -999.00
33RR20050106,       P16S,      42,          1,         29,         29,2,20050121,       2057,   -36.5000,  -150.0000,       5350,   338.8,   8.4762,  34.5039,2,-999.0000,9,    229.1,2,   231.2,2,    4.01,2,   17.89,2,    0.00,2,    1.26,2,   3.452,2,   1.847,2,   0.183,2,  2131.2,2,  2279.9,2,-999.000,9,-999.0000,9, -999.00,9, -999.00,9,  -999.0,9,  -999.0,-999.000,9,-999.000,-999.0000,9,   338.8,-999.000,   8.4406,     -999.0,9,     -999.0,9,     -999.0,9,     -999.0,9,     -999.0,9,     -999.0,9,     -999.0,9, -999.00,9,-999.0000,9,-999.0000,9,-999.0000,9,-999.0000,9,-999.0000,9,-999.0000,9,-999.0000, -999.00
33RR20050106,       P16S,      42,          1,         28,         28,2,20050121,       2057,   -36.5000,  -150.0000,       5350,   389.1,   7.8977,  34.4618,2,  34.4639,2,    237.8,2,   241.4,2,    4.62,2,   18.94,2,    0.00,2,    1.31,2,   3.703,2,   1.930,2,   0.229,2,  2133.1,2,  2280.9,2,-999.000,9,-999.0000,9, -999.00,9, -999.00,9,  -999.0,9,  -999.0,-999.000,9,-999.000,-999.0000,9,   389.1,-999.000,   7.8584,     -999.0,9,     -999.0,9,     -999.0,9,     -999.0,9,     -999.0,9,     -999.0,9,     -999.0,9, -999.00,9,-999.0000,9,-999.0000,9,-999.0000,9,-999.0000,9,-999.0000,9,-999.0000,9,-999.0000, -999.00
33RR20050106,       P16S,      42,          1,         27,         27,2,20050121,       2057,   -36.5000,  -150.0000,       5350,   439.7,   7.6332,  34.4408,2,  34.4421,2,    242.6,2,   243.8,2,    5.22,2,   19.68,2,    0.00,2,    1.36,2,   3.700,2,   1.957,2,   0.244,2,  2134.9,2,  2281.1,2,-999.000,9,-999.0000,9, -999.00,9, -999.00,9,  -999.0,9,  -999.0,-999.000,9,-999.000,-999.0000,9,   439.7,-999.000,   7.5896,     -999.0,9,     -999.0,9,     -999.0,9,     -999.0,9,     -999.0,9,     -999.0,9,     -999.0,9, -999.00,9,-999.0000,9,-999.0000,9,-999.0000,9,-999.0000,9,-999.0000,9,-999.0000,9,-999.0000, -999.00
33RR20050106,       P16S,      42,          1,         26,         26,2,20050121,       2057,   -36.5000,  -150.0000,       5350,   489.8,   7.3445,  34.4157,2,  34.4168,2,    245.5,2,   247.1,2,    5.62,2,   20.36,2,    0.00,2,    1.41,2,   3.726,2,   1.981,2,   0.265,2,  2135.2,2,  2279.3,2,-999.000,9,-999.0000,9, -999.00,9, -999.00,9,  -999.0,9,  -999.0,-999.000,9,-999.000,-999.0000,9,   489.8,-999.000,   7.2968,     -999.0,9,     -999.0,9,     -999.0,9,     -999.0,9,     -999.0,9,     -999.0,9,     -999.0,9, -999.00,9,-999.0000,9,-999.0000,9,-999.0000,9,-999.0000,9,-999.0000,9,-999.0000,9,-999.0000, -999.00
33RR20050106,       P16S,      42,          1,         25,         25,2,20050121,       2057,   -36.5000,  -150.0000,       5350,   580.1,   7.0491,  34.3943,2,  34.3967,2,    243.8,2,   244.1,2,    6.64,2,   21.52,2,    0.00,2,    1.49,2,   3.342,2,   1.723,2,   0.168,2,  2138.3,2,  2280.0,2,-999.000,9,-999.0000,9, -999.00,9, -999.00,9,  -999.0,9,  -999.0,-999.000,9,-999.000,-999.0000,9,   580.1,-999.000,   6.9936,     -999.0,9,     -999.0,9,     -999.0,9,     -999.0,9,     -999.0,9,     -999.0,9,     -999.0,9, -999.00,9,-999.0000,9,-999.0000,9,-999.0000,9,-999.0000,9,-999.0000,9,-999.0000,9,-999.0000, -999.00
33RR20050106,       P16S,      42,          1,         24,         24,2,20050121,       2057,   -36.5000,  -150.0000,       5350,   681.2,   6.6489,  34.3646,2,  34.3655,2,    242.4,2,   242.9,2,    8.25,2,   22.83,2,    0.00,2,    1.57,2,   2.856,2,   1.466,2,   0.125,2,  2142.7,2,  2279.9,2,-999.000,9,-999.0000,9, -999.00,9, -999.00,9,  -999.0,9,  -999.0,-999.000,9,-999.000,-999.0000,9,   681.2,-999.000,   6.5853,     -999.0,9,     -999.0,9,     -999.0,9,     -999.0,9,     -999.0,9,     -999.0,9,     -999.0,9, -999.00,9,-999.0000,9,-999.0000,9,-999.0000,9,-999.0000,9,-999.0000,9,-999.0000,9,-999.0000, -999.00
33RR20050106,       P16S,      42,          1,         23,         23,2,20050121,       2057,   -36.5000,  -150.0000,       5350,   781.9,   6.1771,  34.3359,2,  34.3369,2,    237.1,2,   234.9,2,   10.90,2,   24.63,2,    0.00,2,    1.69,2,   2.166,2,   1.060,2,   0.076,2,  2149.5,2,  2279.9,2,-999.000,9,-999.0000,9, -999.00,9, -999.00,9,  -999.0,9,  -999.0,-999.000,9,-999.000,-999.0000,9,   781.9,-999.000,   6.1064,     -999.0,9,     -999.0,9,     -999.0,9,     -999.0,9,     -999.0,9,     -999.0,9,     -999.0,9, -999.00,9,-999.0000,9,-999.0000,9,-999.0000,9,-999.0000,9,-999.0000,9,-999.0000,9,-999.0000, -999.00
33RR20050106,       P16S,      42,          1,         22,         22,2,20050121,       2057,   -36.5000,  -150.0000,       5350,   882.3,   5.6330,  34.3159,2,  34.3175,2,    227.7,2,   224.7,2,   15.37,2,   26.69,2,    0.00,2,    1.83,2,   1.704,2,   0.847,2,   0.064,2,  2161.2,2,  2285.4,2,-999.000,9,-999.0000,9, -999.00,9, -999.00,9,  -999.0,9,  -999.0,-999.000,9,-999.000,-999.0000,9,   882.3,-999.000,   5.5563,     -999.0,9,     -999.0,9,     -999.0,9,     -999.0,9,     -999.0,9,     -999.0,9,     -999.0,9, -999.00,9,-999.0000,9,-999.0000,9,-999.0000,9,-999.0000,9,-999.0000,9,-999.0000,9,-999.0000, -999.00
33RR20050106,       P16S,      42,          1,         21,         21,2,20050121,       2057,   -36.5000,  -150.0000,       5350,   983.3,   5.0908,  34.3155,2,  34.3171,2,    213.2,2,   213.1,2,   21.70,2,   28.76,2,    0.00,2,    1.98,2,   1.260,2,   0.648,2,   0.051,2,  2176.2,2,  2288.7,2,-999.000,9,-999.0000,9, -999.00,9, -999.00,9,  -999.0,9,  -999.0,-999.000,9,-999.000,-999.0000,9,   983.3,-999.000,   5.0086,     -999.0,9,     -999.0,9,     -999.0,9,     -999.0,9,     -999.0,9,     -999.0,9,     -999.0,9, -999.00,9,-999.0000,9,-999.0000,9,-999.0000,9,-999.0000,9,-999.0000,9,-999.0000,9,-999.0000, -999.00
33RR20050106,       P16S,      42,          1,         20,         20,2,20050121,       2057,   -36.5000,  -150.0000,       5350,  1084.2,   4.4561,  34.3271,2,  34.3280,2,    203.3,2,   202.8,2,   30.28,2,   30.78,2,    0.00,2,    2.12,2,   0.832,2,   0.414,2,   0.019,2,  2192.0,2,  2294.0,2,-999.000,9,-999.0000,9, -999.00,9, -999.00,9,  -999.0,9,  -999.0,-999.000,9,-999.000,-999.0000,9,  1084.2,-999.000,   4.3699,     -999.0,9,     -999.0,9,     -999.0,9,     -999.0,9,     -999.0,9,     -999.0,9,     -999.0,9, -999.00,9,-999.0000,9,-999.0000,9,-999.0000,9,-999.0000,9,-999.0000,9,-999.0000,9,-999.0000, -999.00
33RR20050106,       P16S,      42,          1,         19,         19,2,20050121,       2057,   -36.5000,  -150.0000,       5350,  1185.0,   3.8789,  34.3523,2,  34.3531,2,    194.2,2,   194.7,2,   39.30,2,   32.27,2,    0.00,2,    2.24,2,   0.570,2,   0.277,2,   0.014,2,  2207.1,2,  2303.0,2,-999.000,9,-999.0000,9, -999.00,9, -999.00,9,  -999.0,9,  -999.0,-999.000,9,-999.000,-999.0000,9,  1185.0,-999.000,   3.7890,     -999.0,9,     -999.0,9,     -999.0,9,     -999.0,9,     -999.0,9,     -999.0,9,     -999.0,9, -999.00,9,-999.0000,9,-999.0000,9,-999.0000,9,-999.0000,9,-999.0000,9,-999.0000,9,-999.0000, -999.00
33RR20050106,       P16S,      42,          1,         18,         18,2,20050121,       2057,   -36.5000,  -150.0000,       5350,  1285.7,   3.4685,  34.3879,2,  34.3902,2,    185.1,2,   186.9,2,   48.55,2,   33.23,2,    0.00,2,    2.32,2,   0.351,2,   0.166,2,   0.015,2,  2221.7,6,  2310.5,2,-999.000,9,-999.0000,9, -999.00,9, -999.00,9,  -999.0,9,  -999.0,-999.000,9,-999.000,-999.0000,9,  1285.7,-999.000,   3.3739,     -999.0,9,     -999.0,9,     -999.0,9,     -999.0,9,     -999.0,9,     -999.0,9,     -999.0,9, -999.00,9,-999.0000,9,-999.0000,9,-999.0000,9,-999.0000,9,-999.0000,9,-999.0000,9,-999.0000, -999.00
33RR20050106,       P16S,      42,          1,         17,         17,2,20050121,       2057,   -36.5000,  -150.0000,       5350,  1386.9,   3.1387,  34.4399,2,  34.4407,2,    176.1,2,   178.0,2,   58.43,2,   34.03,2,    0.00,2,    2.37,2,   0.193,2,   0.102,2,   0.002,2,  -999.0,9,  -999.0,9,-999.000,9,-999.0000,9, -999.00,9, -999.00,9,  -999.0,9,  -999.0,-999.000,9,-999.000,-999.0000,9,  1386.9,-999.000,   3.0390,     -999.0,9,     -999.0,9,     -999.0,9,     -999.0,9,     -999.0,9,     -999.0,9,     -999.0,9, -999.00,9,-999.0000,9,-999.0000,9,-999.0000,9,-999.0000,9,-999.0000,9,-999.0000,9,-999.0000, -999.00
33RR20050106,       P16S,      42,          1,         16,         16,2,20050121,       2057,   -36.5000,  -150.0000,       5350,  1487.6,   2.9219,  34.4924,2,  34.4929,2,    169.3,2,   170.1,2,   68.34,2,   34.40,2,    0.00,2,    2.41,2,   0.083,2,   0.044,2,   0.002,2,  -999.0,9,  -999.0,9,-999.000,9,-999.0000,9, -999.00,9, -999.00,9,  -999.0,9,  -999.0,-999.000,9,-999.000,-999.0000,9,  1487.6,-999.000,   2.8162,     -999.0,9,     -999.0,9,     -999.0,9,     -999.0,9,     -999.0,9,     -999.0,9,     -999.0,9, -999.00,9,-999.0000,9,-999.0000,9,-999.0000,9,-999.0000,9,-999.0000,9,-999.0000,9,-999.0000, -999.00
33RR20050106,       P16S,      42,          1,         15,         15,2,20050121,       2057,   -36.5000,  -150.0000,       5350,  1589.8,   2.7590,  34.5390,2,  34.5398,2,    162.9,2,   163.7,2,   78.68,2,   34.66,2,    0.00,2,    2.44,2,   0.049,2,   0.029,2,   0.002,2,  -999.0,9,  -999.0,9,-999.000,9,-999.0000,9, -999.00,9, -999.00,9,  -999.0,9,  -999.0,-999.000,9,-999.000,-999.0000,9,  1589.8,-999.000,   2.6466,     -999.0,9,     -999.0,9,     -999.0,9,     -999.0,9,     -999.0,9,     -999.0,9,     -999.0,9, -999.00,9,-999.0000,9,-999.0000,9,-999.0000,9,-999.0000,9,-999.0000,9,-999.0000,9,-999.0000, -999.00
33RR20050106,       P16S,      42,          1,         14,         14,2,20050121,       2057,   -36.5000,  -150.0000,       5350,  1792.1,   2.5145,  34.5965,2,  34.5973,2,    154.7,2,   155.5,2,   95.70,2,   35.02,2,    0.00,2,    2.47,2,-999.000,9,-999.000,9,-999.000,9,  -999.0,9,  -999.0,9,-999.000,9,-999.0000,9, -999.00,9, -999.00,9,  -999.0,9,  -999.0,-999.000,9,-999.000,-999.0000,9,  1792.1,-999.000,   2.3882,     -999.0,9,     -999.0,9,     -999.0,9,     -999.0,9,     -999.0,9,     -999.0,9,     -999.0,9, -999.00,9,-999.0000,9,-999.0000,9,-999.0000,9,-999.0000,9,-999.0000,9,-999.0000,9,-999.0000, -999.00
33RR20050106,       P16S,      42,          1,         13,         13,2,20050121,       2057,   -36.5000,  -150.0000,       5350,  1994.1,   2.3177,  34.6235,2,  34.6249,2,    151.6,2,   152.0,2,  106.50,2,   35.29,2,    0.00,2,    2.50,2,  -0.005,2,  -0.002,2,   0.002,2,  -999.0,9,  -999.0,9,-999.000,9,-999.0000,9, -999.00,9, -999.00,9,  -999.0,9,  -999.0,-999.000,9,-999.000,-999.0000,9,  1994.1,-999.000,   2.1769,     -999.0,9,     -999.0,9,     -999.0,9,     -999.0,9,     -999.0,9,     -999.0,9,     -999.0,9, -999.00,9,-999.0000,9,-999.0000,9,-999.0000,9,-999.0000,9,-999.0000,9,-999.0000,9,-999.0000, -999.00
33RR20050106,       P16S,      42,          1,         12,         12,2,20050121,       2057,   -36.5000,  -150.0000,       5350,  2196.8,   2.1696,  34.6388,2,  34.6394,2,    150.2,2,   150.7,2,  113.16,2,   35.44,2,    0.00,2,    2.51,2,-999.000,9,-999.000,9,-999.000,9,  -999.0,9,  -999.0,9,-999.000,9,-999.0000,9, -999.00,9, -999.00,9,  -999.0,9,  -999.0,-999.000,9,-999.000,-999.0000,9,  2196.8,-999.000,   2.0135,     -999.0,9,     -999.0,9,     -999.0,9,     -999.0,9,     -999.0,9,     -999.0,9,     -999.0,9, -999.00,9,-999.0000,9,-999.0000,9,-999.0000,9,-999.0000,9,-999.0000,9,-999.0000,9,-999.0000, -999.00
33RR20050106,       P16S,      42,          1,         11,         11,2,20050121,       2057,   -36.5000,  -150.0000,       5350,  2450.8,   2.0070,  34.6524,2,  34.6531,2,    149.3,2,   149.7,2,  120.86,2,   35.66,2,    0.00,2,    2.53,2,  -0.008,2,  -0.002,2,   0.002,2,  -999.0,9,  -999.0,9,-999.000,9,-999.0000,9, -999.00,9, -999.00,9,  -999.0,9,  -999.0,-999.000,9,-999.000,-999.0000,9,  2450.8,-999.000,   1.8310,     -999.0,9,     -999.0,9,     -999.0,9,     -999.0,9,     -999.0,9,     -999.0,9,     -999.0,9, -999.00,9,-999.0000,9,-999.0000,9,-999.0000,9,-999.0000,9,-999.0000,9,-999.0000,9,-999.0000, -999.00
33RR20050106,       P16S,      42,          1,         10,         10,2,20050121,       2057,   -36.5000,  -150.0000,       5350,  2704.3,   1.9025,  34.6612,2,  34.6614,2,    149.6,2,   150.0,2,  125.65,2,   35.70,2,    0.00,2,    2.53,2,-999.000,9,-999.000,9,-999.000,9,  -999.0,9,  -999.0,9,-999.000,9,-999.0000,9, -999.00,9, -999.00,9,  -999.0,9,  -999.0,-999.000,9,-999.000,-999.0000,9,  2704.3,-999.000,   1.7052,     -999.0,9,     -999.0,9,     -999.0,9,     -999.0,9,     -999.0,9,     -999.0,9,     -999.0,9, -999.00,9,-999.0000,9,-999.0000,9,-999.0000,9,-999.0000,9,-999.0000,9,-999.0000,9,-999.0000, -999.00
33RR20050106,       P16S,      42,          1,          9,          9,2,20050121,       2057,   -36.5000,  -150.0000,       5350,  2958.8,   1.8081,  34.6694,2,  34.6694,2,    151.3,2,   151.9,2,  128.77,2,   35.59,2,    0.00,2,    2.52,2,  -0.004,2,  -0.002,2,   0.002,2,  -999.0,9,  -999.0,9,-999.000,9,-999.0000,9, -999.00,9, -999.00,9,  -999.0,9,  -999.0,-999.000,9,-999.000,-999.0000,9,  2958.8,-999.000,   1.5885,     -999.0,9,     -999.0,9,     -999.0,9,     -999.0,9,     -999.0,9,     -999.0,9,     -999.0,9, -999.00,9,-999.0000,9,-999.0000,9,-999.0000,9,-999.0000,9,-999.0000,9,-999.0000,9,-999.0000, -999.00
33RR20050106,       P16S,      42,          1,          8,          8,2,20050121,       2057,   -36.5000,  -150.0000,       5350,  3295.6,   1.7092,  34.6819,2,  34.6830,2,    159.5,2,   160.1,2,  127.07,2,   34.94,2,    0.00,2,    2.47,2,-999.000,9,-999.000,9,-999.000,9,  -999.0,9,  -999.0,9,-999.000,9,-999.0000,9, -999.00,9, -999.00,9,  -999.0,9,  -999.0,-999.000,9,-999.000,-999.0000,9,  3295.6,-999.000,   1.4586,     -999.0,9,     -999.0,9,     -999.0,9,     -999.0,9,     -999.0,9,     -999.0,9,     -999.0,9, -999.00,9,-999.0000,9,-999.0000,9,-999.0000,9,-999.0000,9,-999.0000,9,-999.0000,9,-999.0000, -999.00
33RR20050106,       P16S,      42,          1,          7,          7,2,20050121,       2057,   -36.5000,  -150.0000,       5350,  3601.3,   1.6080,  34.6951,2,  34.6958,2,    171.0,2,   172.0,2,  122.45,2,   33.97,2,    0.00,2,    2.39,2,   0.001,2,   0.007,2,   0.002,2,  -999.0,9,  -999.0,9,-999.000,9,-999.0000,9, -999.00,9, -999.00,9,  -999.0,9,  -999.0,-999.000,9,-999.000,-999.0000,9,  3601.3,-999.000,   1.3285,     -999.0,9,     -999.0,9,     -999.0,9,     -999.0,9,     -999.0,9,     -999.0,9,     -999.0,9, -999.00,9,-999.0000,9,-999.0000,9,-999.0000,9,-999.0000,9,-999.0000,9,-999.0000,9,-999.0000, -999.00