BOTTLE,20201109CCHSIOCBG
EXPOCODE,SECT_ID,STNNBR,CASTNO,SAMPNO,BTLNBR,BTLNBR_FLAG_W,DATE,TIME,LATITUDE,LONGITUDE,DEPTH,CTDPRS,CTDTMP,CTDSAL,CTDSAL_FLAG_W,SALNTY,SALNTY_FLAG_W,CTDOXY,CTDOXY_FLAG_W,OXYGEN,OXYGEN_FLAG_W,SILCAT,SILCAT_FLAG_W,NITRAT,NITRAT_FLAG_W,NITRIT,NITRIT_FLAG_W,PHSPHT,PHSPHT_FLAG_W,CFC-11,CFC-11_FLAG_W,CFC-12,CFC-12_FLAG_W,CFC113,CFC113_FLAG_W,TCARBN,TCARBN_FLAG_W,ALKALI,ALKALI_FLAG_W,TRITUM,TRITUM_FLAG_W,HELIUM,HELIUM_FLAG_W,DELHE3,DELHE3_FLAG_W,DELC13,DELC13_FLAG_W,DELC14,DELC14_FLAG_W,C14ERR,NEON,NEON_FLAG_W,NEONER,DOC,DOC_FLAG_W,CTDRAW,TRITER,THETA,FUCO,FUCO_FLAG_W,RHAM,RHAM_FLAG_W,ARABA,ARABA_FLAG_W,GALA,GALA_FLAG_W,GLUC,GLUC_FLAG_W,MAN,MAN_FLAG_W,DCNS,DCNS_FLAG_W,BRDU,BRDU_FLAG_W,CDOM325,CDOM325_FLAG_W,CDOM340,CDOM340_FLAG_W,CDOM380,CDOM380_FLAG_W,CDOM412,CDOM412_FLAG_W,CDOMSL,CDOMSL_FLAG_W,CDOMSN,CDOMSN_FLAG_W,HELIER,DELHER
,,,,,,,,,,,METERS,DBAR,ITS-90,PSS-78,,PSS-78,,UMOL/KG,,UMOL/KG,,UMOL/KG,,UMOL/KG,,UMOL/KG,,UMOL/KG,,PMOL/KG,,PMOL/KG,,PMOL/KG,,UMOL/KG,,UMOL/KG,,TU,,NMOL/KG,,PERCNT,,/MILLE,,/MILLE,,/MILLE,NMOL/KG,,NMOL/KG,UMOL/KG,,DBAR,TU,DEG C,NMOL/KG,,NMOL/KG,,NMOL/KG,,NMOL/KG,,NMOL/KG,,NMOL/KG,,NMOL/KG,,PMOL/L/H,,1/M,,1/M,,1/M,,1/M,,1/NM,,1/NM,,NMOL/KG,PERCNT
33RR20050106,       P16S,      26,          1,         36,         36,2,20050117,       0659,   -28.5000,  -150.0002,       4521,     2.3,  25.4394,  35.5488,2,  35.5489,2,    208.1,2,   208.5,2,    0.62,2,    0.07,2,    0.00,2,    0.07,2,   1.881,2,   1.164,2,   0.225,2,  2016.6,2,  2332.6,2,-999.000,9,-999.0000,9, -999.00,9, -999.00,9,  -999.0,9,  -999.0,-999.000,9,-999.000,-999.0000,9,     2.3,-999.000,  25.4389,     -999.0,9,     -999.0,9,     -999.0,9,     -999.0,9,     -999.0,9,     -999.0,9,     -999.0,9, -999.00,9,-999.0000,9,-999.0000,9,-999.0000,9,-999.0000,9,-999.0000,9,-999.0000,9,-999.0000, -999.00
33RR20050106,       P16S,      26,          1,         35,         35,2,20050117,       0659,   -28.5000,  -150.0002,       4521,    40.0,  21.6828,  35.5963,2,  35.5958,2,    226.6,2,   225.9,2,    0.62,2,    0.07,2,    0.00,2,    0.07,2,   2.208,2,   1.344,2,   0.274,2,  2020.9,2,  2336.3,2,-999.000,9,-999.0000,9, -999.00,9, -999.00,9,  -999.0,9,  -999.0,-999.000,9,-999.000,-999.0000,9,    40.0,-999.000,  21.6750,     -999.0,9,     -999.0,9,     -999.0,9,     -999.0,9,     -999.0,9,     -999.0,9,     -999.0,9, -999.00,9,-999.0000,9,-999.0000,9,-999.0000,9,-999.0000,9,-999.0000,9,-999.0000,9,-999.0000, -999.00
33RR20050106,       P16S,      26,          1,         34,         34,2,20050117,       0659,   -28.5000,  -150.0002,       4521,    75.2,  20.3049,  35.5735,2,  35.5745,2,    228.8,2,   229.8,2,    0.62,2,    0.07,2,    0.00,2,    0.06,2,   2.317,6,   1.390,6,   0.267,6,  2027.8,2,  2332.8,2,-999.000,9,-999.0000,9, -999.00,9, -999.00,9,  -999.0,9,  -999.0,-999.000,9,-999.000,-999.0000,9,    75.2,-999.000,  20.2908,     -999.0,9,     -999.0,9,     -999.0,9,     -999.0,9,     -999.0,9,     -999.0,9,     -999.0,9, -999.00,9,-999.0000,9,-999.0000,9,-999.0000,9,-999.0000,9,-999.0000,9,-999.0000,9,-999.0000, -999.00
33RR20050106,       P16S,      26,          1,         33,         33,2,20050117,       0659,   -28.5000,  -150.0002,       4521,   125.3,  19.3109,  35.5437,2,  35.5428,2,    227.6,2,   226.0,2,    0.62,2,    0.13,2,    0.00,2,    0.08,2,   2.367,2,   1.419,2,   0.218,2,  2034.5,2,  2331.4,2,-999.000,9,-999.0000,9, -999.00,9, -999.00,9,  -999.0,9,  -999.0,-999.000,9,-999.000,-999.0000,9,   125.3,-999.000,  19.2883,     -999.0,9,     -999.0,9,     -999.0,9,     -999.0,9,     -999.0,9,     -999.0,9,     -999.0,9, -999.00,9,-999.0000,9,-999.0000,9,-999.0000,9,-999.0000,9,-999.0000,9,-999.0000,9,-999.0000, -999.00
33RR20050106,       P16S,      26,          1,         32,         32,2,20050117,       0659,   -28.5000,  -150.0002,       4521,   175.0,  18.1643,  35.4885,2,  35.4739,2,    222.1,2,   216.1,2,    0.62,2,    0.71,2,    0.10,2,    0.17,2,   2.459,2,   1.395,2,   0.184,2,  -999.0,9,  -999.0,9,-999.000,9,-999.0000,9, -999.00,9, -999.00,9,  -999.0,9,  -999.0,-999.000,9,-999.000,-999.0000,9,   175.0,-999.000,  18.1340,     -999.0,9,     -999.0,9,     -999.0,9,     -999.0,9,     -999.0,9,     -999.0,9,     -999.0,9, -999.00,9,-999.0000,9,-999.0000,9,-999.0000,9,-999.0000,9,-999.0000,9,-999.0000,9,-999.0000, -999.00
33RR20050106,       P16S,      26,          1,         31,         31,2,20050117,       0659,   -28.5000,  -150.0002,       4521,   225.0,  16.9075,  35.3654,2,  35.3652,2,    211.3,2,   206.5,2,    0.82,2,    2.75,2,    0.01,2,    0.30,2,-999.000,9,-999.000,9,-999.000,9,  2069.4,2,  2319.9,2,-999.000,9,-999.0000,9, -999.00,9, -999.00,9,  -999.0,9,  -999.0,-999.000,9,-999.000,-999.0000,9,   225.0,-999.000,  16.8704,     -999.0,9,     -999.0,9,     -999.0,9,     -999.0,9,     -999.0,9,     -999.0,9,     -999.0,9, -999.00,9,-999.0000,9,-999.0000,9,-999.0000,9,-999.0000,9,-999.0000,9,-999.0000,9,-999.0000, -999.00
33RR20050106,       P16S,      26,          1,         30,         30,2,20050117,       0659,   -28.5000,  -150.0002,       4521,   275.2,  15.6520,  35.2270,2,  35.2257,2,    206.3,2,   205.1,2,    1.22,2,    4.44,2,    0.00,2,    0.42,2,   2.709,2,   1.424,2,   0.055,2,  -999.0,9,  -999.0,9,-999.000,9,-999.0000,9, -999.00,9, -999.00,9,  -999.0,9,  -999.0,-999.000,9,-999.000,-999.0000,9,   275.2,-999.000,  15.6089,     -999.0,9,     -999.0,9,     -999.0,9,     -999.0,9,     -999.0,9,     -999.0,9,     -999.0,9, -999.00,9,-999.0000,9,-999.0000,9,-999.0000,9,-999.0000,9,-999.0000,9,-999.0000,9,-999.0000, -999.00
33RR20050106,       P16S,      26,          1,         29,         29,2,20050117,       0659,   -28.5000,  -150.0002,       4521,   325.2,  14.2417,  35.0726,2,-999.0000,9,    205.6,2,   203.4,2,    1.62,2,    7.18,2,    0.00,2,    0.60,2,   2.706,2,   1.487,2,   0.125,2,  2091.9,2,  2304.4,2,-999.000,9,-999.0000,9, -999.00,9, -999.00,9,  -999.0,9,  -999.0,-999.000,9,-999.000,-999.0000,9,   325.2,-999.000,  14.1939,     -999.0,9,     -999.0,9,     -999.0,9,     -999.0,9,     -999.0,9,     -999.0,9,     -999.0,9, -999.00,9,-999.0000,9,-999.0000,9,-999.0000,9,-999.0000,9,-999.0000,9,-999.0000,9,-999.0000, -999.00
33RR20050106,       P16S,      26,          1,         28,         28,2,20050117,       0659,   -28.5000,  -150.0002,       4521,   375.4,  12.3100,  34.8610,2,-999.0000,9,    204.5,2,   202.9,2,    2.63,2,   11.31,2,    0.00,2,    0.85,2,   2.695,2,   1.416,2,   0.138,2,  -999.0,9,  -999.0,9,-999.000,9,-999.0000,9, -999.00,9, -999.00,9,  -999.0,9,  -999.0,-999.000,9,-999.000,-999.0000,9,   375.4,-999.000,  12.2599,     -999.0,9,     -999.0,9,     -999.0,9,     -999.0,9,     -999.0,9,     -999.0,9,     -999.0,9, -999.00,9,-999.0000,9,-999.0000,9,-999.0000,9,-999.0000,9,-999.0000,9,-999.0000,9,-999.0000, -999.00
33RR20050106,       P16S,      26,          1,         27,         27,2,20050117,       0659,   -28.5000,  -150.0002,       4521,   425.3,  10.5967,  34.6812,2,-999.0000,9,    207.2,2,   207.3,2,    3.64,2,   14.76,2,    0.00,2,    1.09,2,   2.698,2,   1.403,2,   0.152,2,  2118.2,2,  2287.3,2,-999.000,9,-999.0000,9, -999.00,9, -999.00,9,  -999.0,9,  -999.0,-999.000,9,-999.000,-999.0000,9,   425.3,-999.000,  10.5451,     -999.0,9,     -999.0,9,     -999.0,9,     -999.0,9,     -999.0,9,     -999.0,9,     -999.0,9, -999.00,9,-999.0000,9,-999.0000,9,-999.0000,9,-999.0000,9,-999.0000,9,-999.0000,9,-999.0000, -999.00
33RR20050106,       P16S,      26,          1,         26,         26,2,20050117,       0659,   -28.5000,  -150.0002,       4521,   475.8,   9.6136,  34.5953,2,-999.0000,9,    212.3,2,   212.9,2,    4.25,2,   16.78,2,    0.00,2,    1.20,2,   2.721,2,   1.405,2,   0.153,2,  -999.0,9,  -999.0,9,-999.000,9,-999.0000,9, -999.00,9, -999.00,9,  -999.0,9,  -999.0,-999.000,9,-999.000,-999.0000,9,   475.8,-999.000,   9.5592,     -999.0,9,     -999.0,9,     -999.0,9,     -999.0,9,     -999.0,9,     -999.0,9,     -999.0,9, -999.00,9,-999.0000,9,-999.0000,9,-999.0000,9,-999.0000,9,-999.0000,9,-999.0000,9,-999.0000, -999.00
33RR20050106,       P16S,      26,          1,         25,         25,2,20050117,       0659,   -28.5000,  -150.0002,       4521,   525.4,   8.3065,  34.4734,2,-999.0000,9,    218.7,2,   222.2,2,    5.26,2,   19.50,2,    0.00,2,    1.38,2,-999.000,9,-999.000,9,-999.000,9,  2131.8,2,  2280.7,2,-999.000,9,-999.0000,9, -999.00,9, -999.00,9,  -999.0,9,  -999.0,-999.000,9,-999.000,-999.0000,9,   525.4,-999.000,   8.2514,     -999.0,9,     -999.0,9,     -999.0,9,     -999.0,9,     -999.0,9,     -999.0,9,     -999.0,9, -999.00,9,-999.0000,9,-999.0000,9,-999.0000,9,-999.0000,9,-999.0000,9,-999.0000,9,-999.0000, -999.00
33RR20050106,       P16S,      26,          1,         24,         24,2,20050117,       0659,   -28.5000,  -150.0002,       4521,   646.1,   6.7223,  34.3567,2,  34.3582,2,    231.4,2,   235.2,2,    8.08,2,   22.93,2,    0.00,2,    1.59,2,   2.320,2,   1.176,2,   0.115,2,  2139.9,2,  2279.6,2,-999.000,9,-999.0000,9, -999.00,9, -999.00,9,  -999.0,9,  -999.0,-999.000,9,-999.000,-999.0000,9,   646.1,-999.000,   6.6618,     -999.0,9,     -999.0,9,     -999.0,9,     -999.0,9,     -999.0,9,     -999.0,9,     -999.0,9, -999.00,9,-999.0000,9,-999.0000,9,-999.0000,9,-999.0000,9,-999.0000,9,-999.0000,9,-999.0000, -999.00
33RR20050106,       P16S,      26,          1,         23,         23,2,20050117,       0659,   -28.5000,  -150.0002,       4521,   746.7,   6.1126,  34.3262,2,  34.3263,2,    233.3,2,   234.8,2,   10.52,2,   24.65,2,    0.00,2,    1.69,2,   1.730,2,   0.878,2,   0.081,2,  -999.0,9,  -999.0,9,-999.000,9,-999.0000,9, -999.00,9, -999.00,9,  -999.0,9,  -999.0,-999.000,9,-999.000,-999.0000,9,   746.7,-999.000,   6.0456,     -999.0,9,     -999.0,9,     -999.0,9,     -999.0,9,     -999.0,9,     -999.0,9,     -999.0,9, -999.00,9,-999.0000,9,-999.0000,9,-999.0000,9,-999.0000,9,-999.0000,9,-999.0000,9,-999.0000, -999.00
33RR20050106,       P16S,      26,          1,         22,         22,2,20050117,       0659,   -28.5000,  -150.0002,       4521,   847.3,   5.5098,  34.3089,2,  34.3092,2,    225.6,2,   223.2,2,   15.79,2,   27.02,2,    0.00,2,    1.87,2,   1.013,2,   0.526,2,   0.043,2,  2159.4,2,  2283.4,2,-999.000,9,-999.0000,9, -999.00,9, -999.00,9,  -999.0,9,  -999.0,-999.000,9,-999.000,-999.0000,9,   847.3,-999.000,   5.4371,     -999.0,9,     -999.0,9,     -999.0,9,     -999.0,9,     -999.0,9,     -999.0,9,     -999.0,9, -999.00,9,-999.0000,9,-999.0000,9,-999.0000,9,-999.0000,9,-999.0000,9,-999.0000,9,-999.0000, -999.00
33RR20050106,       P16S,      26,          1,         21,         21,2,20050117,       0659,   -28.5000,  -150.0002,       4521,   948.0,   4.9288,  34.3184,2,  34.3190,2,    210.6,2,   207.8,2,   24.12,2,   29.45,2,    0.00,2,    2.04,2,-999.000,9,-999.000,9,-999.000,9,  -999.0,9,  -999.0,9,-999.000,9,-999.0000,9, -999.00,9, -999.00,9,  -999.0,9,  -999.0,-999.000,9,-999.000,-999.0000,9,   948.0,-999.000,   4.8510,     -999.0,9,     -999.0,9,     -999.0,9,     -999.0,9,     -999.0,9,     -999.0,9,     -999.0,9, -999.00,9,-999.0000,9,-999.0000,9,-999.0000,9,-999.0000,9,-999.0000,9,-999.0000,9,-999.0000, -999.00
33RR20050106,       P16S,      26,          1,         20,         20,2,20050117,       0659,   -28.5000,  -150.0002,       4521,  1048.2,   4.3734,  34.3492,2,  34.3500,2,    193.7,2,   191.8,2,   35.32,2,   31.61,2,    0.00,2,    2.20,2,   0.289,2,   0.159,2,   0.019,2,  2198.6,6,  2299.9,2,-999.000,9,-999.0000,9, -999.00,9, -999.00,9,  -999.0,9,  -999.0,-999.000,9,-999.000,-999.0000,9,  1048.2,-999.000,   4.2910,     -999.0,9,     -999.0,9,     -999.0,9,     -999.0,9,     -999.0,9,     -999.0,9,     -999.0,9, -999.00,9,-999.0000,9,-999.0000,9,-999.0000,9,-999.0000,9,-999.0000,9,-999.0000,9,-999.0000, -999.00
33RR20050106,       P16S,      26,          1,         19,         19,2,20050117,       0659,   -28.5000,  -150.0002,       4521,  1149.0,   3.9583,  34.3857,2,  34.3890,2,    181.3,2,   180.3,2,   45.96,2,   32.97,2,    0.00,2,    2.31,2,-999.000,9,-999.000,9,-999.000,9,  -999.0,9,  -999.0,9,-999.000,9,-999.0000,9, -999.00,9, -999.00,9,  -999.0,9,  -999.0,-999.000,9,-999.000,-999.0000,9,  1149.0,-999.000,   3.8707,     -999.0,9,     -999.0,9,     -999.0,9,     -999.0,9,     -999.0,9,     -999.0,9,     -999.0,9, -999.00,9,-999.0000,9,-999.0000,9,-999.0000,9,-999.0000,9,-999.0000,9,-999.0000,9,-999.0000, -999.00
33RR20050106,       P16S,      26,          1,         18,         18,2,20050117,       0659,   -28.5000,  -150.0002,       4521,  1249.6,   3.5586,  34.4252,2,  34.4252,2,    172.9,2,   174.1,2,   55.39,2,   33.74,2,    0.00,2,    2.37,2,   0.116,2,   0.061,2,   0.001,2,  -999.0,9,  -999.0,9,-999.000,9,-999.0000,9, -999.00,9, -999.00,9,  -999.0,9,  -999.0,-999.000,9,-999.000,-999.0000,9,  1249.6,-999.000,   3.4661,     -999.0,9,     -999.0,9,     -999.0,9,     -999.0,9,     -999.0,9,     -999.0,9,     -999.0,9, -999.00,9,-999.0000,9,-999.0000,9,-999.0000,9,-999.0000,9,-999.0000,9,-999.0000,9,-999.0000, -999.00
33RR20050106,       P16S,      26,          1,         17,         17,2,20050117,       0659,   -28.5000,  -150.0002,       4521,  1350.5,   3.1666,  34.4697,2,  34.4699,2,    168.3,2,   169.3,2,   65.89,2,   34.33,2,    0.00,2,    2.41,2,-999.000,9,-999.000,9,-999.000,9,  -999.0,9,  -999.0,9,-999.000,9,-999.0000,9, -999.00,9, -999.00,9,  -999.0,9,  -999.0,-999.000,9,-999.000,-999.0000,9,  1350.5,-999.000,   3.0696,     -999.0,9,     -999.0,9,     -999.0,9,     -999.0,9,     -999.0,9,     -999.0,9,     -999.0,9, -999.00,9,-999.0000,9,-999.0000,9,-999.0000,9,-999.0000,9,-999.0000,9,-999.0000,9,-999.0000, -999.00
33RR20050106,       P16S,      26,          1,         16,         16,2,20050117,       0659,   -28.5000,  -150.0002,       4521,  1451.0,   2.9084,  34.5082,2,  34.5107,4,    164.4,2,   165.5,2,   75.98,2,   34.65,2,    0.00,2,    2.44,2,   0.015,2,  -0.001,2,   0.001,2,  -999.0,9,  -999.0,9,-999.000,9,-999.0000,9, -999.00,9, -999.00,9,  -999.0,9,  -999.0,-999.000,9,-999.000,-999.0000,9,  1451.0,-999.000,   2.8058,     -999.0,9,     -999.0,9,     -999.0,9,     -999.0,9,     -999.0,9,     -999.0,9,     -999.0,9, -999.00,9,-999.0000,9,-999.0000,9,-999.0000,9,-999.0000,9,-999.0000,9,-999.0000,9,-999.0000, -999.00
33RR20050106,       P16S,      26,          1,         15,         15,2,20050117,       0659,   -28.5000,  -150.0002,       4521,  1552.0,   2.6748,  34.5528,2,  34.5526,2,    160.2,2,   159.8,2,   86.93,2,   34.93,2,    0.00,2,    2.46,2,-999.000,9,-999.000,9,-999.000,9,  -999.0,9,  -999.0,9,-999.000,9,-999.0000,9, -999.00,9, -999.00,9,  -999.0,9,  -999.0,-999.000,9,-999.000,-999.0000,9,  1552.0,-999.000,   2.5665,     -999.0,9,     -999.0,9,     -999.0,9,     -999.0,9,     -999.0,9,     -999.0,9,     -999.0,9, -999.00,9,-999.0000,9,-999.0000,9,-999.0000,9,-999.0000,9,-999.0000,9,-999.0000,9,-999.0000, -999.00
33RR20050106,       P16S,      26,          1,         14,         14,2,20050117,       0659,   -28.5000,  -150.0002,       4521,  1652.5,   2.5430,  34.5762,2,  34.5766,2,    156.7,2,   157.4,2,   93.14,2,   35.09,2,    0.00,2,    2.47,2,   0.001,2,  -0.001,2,   0.001,2,  -999.0,9,  -999.0,9,-999.000,9,-999.0000,9, -999.00,9, -999.00,9,  -999.0,9,  -999.0,-999.000,9,-999.000,-999.0000,9,  1652.5,-999.000,   2.4280,     -999.0,9,     -999.0,9,     -999.0,9,     -999.0,9,     -999.0,9,     -999.0,9,     -999.0,9, -999.00,9,-999.0000,9,-999.0000,9,-999.0000,9,-999.0000,9,-999.0000,9,-999.0000,9,-999.0000, -999.00
33RR20050106,       P16S,      26,          1,         13,         13,2,20050117,       0659,   -28.5000,  -150.0002,       4521,  1754.0,   2.3874,  34.6027,2,  34.6021,2,    154.0,2,   154.5,2,  101.42,2,   35.25,2,    0.00,2,    2.49,2,-999.000,9,-999.000,9,-999.000,9,  -999.0,9,  -999.0,9,-999.000,9,-999.0000,9, -999.00,9, -999.00,9,  -999.0,9,  -999.0,-999.000,9,-999.000,-999.0000,9,  1754.0,-999.000,   2.2660,     -999.0,9,     -999.0,9,     -999.0,9,     -999.0,9,     -999.0,9,     -999.0,9,     -999.0,9, -999.00,9,-999.0000,9,-999.0000,9,-999.0000,9,-999.0000,9,-999.0000,9,-999.0000,9,-999.0000, -999.00
33RR20050106,       P16S,      26,          1,         12,         12,2,20050117,       0659,   -28.5000,  -150.0002,       4521,  1854.9,   2.3069,  34.6158,2,  34.6166,2,    152.8,2,   153.1,2,  105.57,2,   35.36,2,    0.00,2,    2.50,2,  -0.001,2,  -0.001,2,   0.001,2,  -999.0,9,  -999.0,9,-999.000,9,-999.0000,9, -999.00,9, -999.00,9,  -999.0,9,  -999.0,-999.000,9,-999.000,-999.0000,9,  1854.9,-999.000,   2.1781,     -999.0,9,     -999.0,9,     -999.0,9,     -999.0,9,     -999.0,9,     -999.0,9,     -999.0,9, -999.00,9,-999.0000,9,-999.0000,9,-999.0000,9,-999.0000,9,-999.0000,9,-999.0000,9,-999.0000, -999.00
33RR20050106,       P16S,      26,          1,         11,         11,2,20050117,       0659,   -28.5000,  -150.0002,       4521,  1955.9,   2.2085,  34.6290,2,  34.6289,2,    150.6,2,   151.3,2,  111.17,2,   35.53,2,    0.00,2,    2.51,2,-999.000,9,-999.000,9,-999.000,9,  -999.0,9,  -999.0,9,-999.000,9,-999.0000,9, -999.00,9, -999.00,9,  -999.0,9,  -999.0,-999.000,9,-999.000,-999.0000,9,  1955.9,-999.000,   2.0726,     -999.0,9,     -999.0,9,     -999.0,9,     -999.0,9,     -999.0,9,     -999.0,9,     -999.0,9, -999.00,9,-999.0000,9,-999.0000,9,-999.0000,9,-999.0000,9,-999.0000,9,-999.0000,9,-999.0000, -999.00
33RR20050106,       P16S,      26,          1,         10,         10,2,20050117,       0659,   -28.5000,  -150.0002,       4521,  2117.8,   2.0805,  34.6428,2,  34.6429,2,    148.9,2,   149.1,2,  118.24,2,   35.74,2,    0.00,2,    2.54,2,   0.033,3,   0.020,3,   0.001,2,  -999.0,9,  -999.0,9,-999.000,9,-999.0000,9, -999.00,9, -999.00,9,  -999.0,9,  -999.0,-999.000,9,-999.000,-999.0000,9,  2117.8,-999.000,   1.9327,     -999.0,9,     -999.0,9,     -999.0,9,     -999.0,9,     -999.0,9,     -999.0,9,     -999.0,9, -999.00,9,-999.0000,9,-999.0000,9,-999.0000,9,-999.0000,9,-999.0000,9,-999.0000,9,-999.0000, -999.00
33RR20050106,       P16S,      26,          1,          9,          9,2,20050117,       0659,   -28.5000,  -150.0002,       4521,  2370.8,   1.9210,  34.6563,2,  34.6552,2,    148.8,2,   149.2,2,  125.10,2,   35.86,2,    0.00,2,    2.54,2,-999.000,9,-999.000,9,-999.000,9,  -999.0,9,  -999.0,9,-999.000,9,-999.0000,9, -999.00,9, -999.00,9,  -999.0,9,  -999.0,-999.000,9,-999.000,-999.0000,9,  2370.8,-999.000,   1.7537,     -999.0,9,     -999.0,9,     -999.0,9,     -999.0,9,     -999.0,9,     -999.0,9,     -999.0,9, -999.00,9,-999.0000,9,-999.0000,9,-999.0000,9,-999.0000,9,-999.0000,9,-999.0000,9,-999.0000, -999.00
33RR20050106,       P16S,      26,          1,          8,          8,2,20050117,       0659,   -28.5000,  -150.0002,       4521,  2623.9,   1.8084,  34.6660,2,  34.6656,2,    150.3,2,   150.8,2,  128.85,2,   35.75,2,    0.00,2,    2.53,2,-999.000,9,-999.000,9,-999.000,9,  -999.0,9,  -999.0,9,-999.000,9,-999.0000,9, -999.00,9, -999.00,9,  -999.0,9,  -999.0,-999.000,9,-999.000,-999.0000,9,  2623.9,-999.000,   1.6203,     -999.0,9,     -999.0,9,     -999.0,9,     -999.0,9,     -999.0,9,     -999.0,9,     -999.0,9, -999.00,9,-999.0000,9,-999.0000,9,-999.0000,9,-999.0000,9,-999.0000,9,-999.0000,9,-999.0000, -999.00
33RR20050106,       P16S,      26,          1,          7,          7,2,20050117,       0659,   -28.5000,  -150.0002,       4521,  2877.7,   1.7231,  34.6736,2,  34.6731,2,    154.4,2,   155.5,2,  129.68,2,   35.48,2,    0.00,2,    2.51,2,   0.012,2,  -0.001,2,   0.001,2,  -999.0,9,  -999.0,9,-999.000,9,-999.0000,9, -999.00,9, -999.00,9,  -999.0,9,  -999.0,-999.000,9,-999.000,-999.0000,9,  2877.7,-999.000,   1.5131,     -999.0,9,     -999.0,9,     -999.0,9,     -999.0,9,     -999.0,9,     -999.0,9,     -999.0,9, -999.00,9,-999.0000,9,-999.0000,9,-999.0000,9,-999.0000,9,-999.0000,9,-999.0000,9,-999.0000, -999.00