BOTTLE,20201109CCHSIOCBG
EXPOCODE,SECT_ID,STNNBR,CASTNO,SAMPNO,BTLNBR,BTLNBR_FLAG_W,DATE,TIME,LATITUDE,LONGITUDE,DEPTH,CTDPRS,CTDTMP,CTDSAL,CTDSAL_FLAG_W,SALNTY,SALNTY_FLAG_W,CTDOXY,CTDOXY_FLAG_W,OXYGEN,OXYGEN_FLAG_W,SILCAT,SILCAT_FLAG_W,NITRAT,NITRAT_FLAG_W,NITRIT,NITRIT_FLAG_W,PHSPHT,PHSPHT_FLAG_W,CFC-11,CFC-11_FLAG_W,CFC-12,CFC-12_FLAG_W,CFC113,CFC113_FLAG_W,TCARBN,TCARBN_FLAG_W,ALKALI,ALKALI_FLAG_W,TRITUM,TRITUM_FLAG_W,HELIUM,HELIUM_FLAG_W,DELHE3,DELHE3_FLAG_W,DELC13,DELC13_FLAG_W,DELC14,DELC14_FLAG_W,C14ERR,NEON,NEON_FLAG_W,NEONER,DOC,DOC_FLAG_W,CTDRAW,TRITER,THETA,FUCO,FUCO_FLAG_W,RHAM,RHAM_FLAG_W,ARABA,ARABA_FLAG_W,GALA,GALA_FLAG_W,GLUC,GLUC_FLAG_W,MAN,MAN_FLAG_W,DCNS,DCNS_FLAG_W,BRDU,BRDU_FLAG_W,CDOM325,CDOM325_FLAG_W,CDOM340,CDOM340_FLAG_W,CDOM380,CDOM380_FLAG_W,CDOM412,CDOM412_FLAG_W,CDOMSL,CDOMSL_FLAG_W,CDOMSN,CDOMSN_FLAG_W,HELIER,DELHER
,,,,,,,,,,,METERS,DBAR,ITS-90,PSS-78,,PSS-78,,UMOL/KG,,UMOL/KG,,UMOL/KG,,UMOL/KG,,UMOL/KG,,UMOL/KG,,PMOL/KG,,PMOL/KG,,PMOL/KG,,UMOL/KG,,UMOL/KG,,TU,,NMOL/KG,,PERCNT,,/MILLE,,/MILLE,,/MILLE,NMOL/KG,,NMOL/KG,UMOL/KG,,DBAR,TU,DEG C,NMOL/KG,,NMOL/KG,,NMOL/KG,,NMOL/KG,,NMOL/KG,,NMOL/KG,,NMOL/KG,,PMOL/L/H,,1/M,,1/M,,1/M,,1/M,,1/NM,,1/NM,,NMOL/KG,PERCNT
33RR20050106,       P16S,      57,          2,         36,         36,2,20050126,       0807,   -44.0003,  -150.0000,       5384,     3.5,  14.5022,  34.3397,2,  34.3396,2,    257.4,2,   258.0,2,    0.38,2,    5.94,2,    0.09,2,    0.56,2,   2.880,2,   1.754,2,   0.262,2,  2058.3,6,  2276.5,6,-999.000,9,-999.0000,9, -999.00,9, -999.00,5,    36.6,2,     4.1,-999.000,9,-999.000,  54.3673,2,     3.5,-999.000,  14.5017,     -999.0,9,     -999.0,9,     -999.0,9,     -999.0,9,     -999.0,9,     -999.0,9,     -999.0,9, -999.00,9,-999.0000,9,-999.0000,9,-999.0000,9,-999.0000,9,-999.0000,9,-999.0000,9,-999.0000, -999.00
33RR20050106,       P16S,      57,          2,         35,         35,2,20050126,       0807,   -44.0003,  -150.0000,       5384,    40.7,  13.8533,  34.3324,2,  34.3327,2,    261.3,2,   261.3,2,    0.38,2,    6.05,2,    0.09,2,    0.57,2,   2.856,2,   1.771,2,   0.265,2,  2057.7,2,  2276.5,2,-999.000,9,-999.0000,9, -999.00,9, -999.00,9,  -999.0,9,  -999.0,-999.000,9,-999.000,  54.4335,2,    40.7,-999.000,  13.8475,     -999.0,9,     -999.0,9,     -999.0,9,     -999.0,9,     -999.0,9,     -999.0,9,     -999.0,9, -999.00,9,-999.0000,9,-999.0000,9,-999.0000,9,-999.0000,9,-999.0000,9,-999.0000,9,-999.0000, -999.00
33RR20050106,       P16S,      57,          2,         34,         34,2,20050126,       0807,   -44.0003,  -150.0000,       5384,    86.0,   9.6780,  34.4064,2,  34.4040,2,    275.3,2,   275.9,2,    1.39,2,    9.23,2,    0.19,2,    0.77,2,   3.590,2,   2.033,2,   0.305,2,  2088.4,2,  2279.6,2,-999.000,9,-999.0000,9, -999.00,9, -999.00,5,    43.9,2,     4.0,-999.000,9,-999.000,  50.7636,2,    86.0,-999.000,   9.6684,     -999.0,9,     -999.0,9,     -999.0,9,     -999.0,9,     -999.0,9,     -999.0,9,     -999.0,9, -999.00,9,-999.0000,9,-999.0000,9,-999.0000,9,-999.0000,9,-999.0000,9,-999.0000,9,-999.0000, -999.00
33RR20050106,       P16S,      57,          2,         33,         33,2,20050126,       0807,   -44.0003,  -150.0000,       5384,   136.1,   8.4609,  34.4348,2,  34.4342,2,    254.3,2,   254.9,2,    2.81,2,   15.45,2,    0.05,2,    1.12,2,   3.740,2,   2.185,2,   0.312,2,  2118.5,2,  2278.5,2,-999.000,9,-999.0000,9, -999.00,9, -999.00,5,    41.5,2,     3.8,-999.000,9,-999.000,  45.9861,2,   136.1,-999.000,   8.4468,     -999.0,9,     -999.0,9,     -999.0,9,     -999.0,9,     -999.0,9,     -999.0,9,     -999.0,9, -999.00,9,-999.0000,9,-999.0000,9,-999.0000,9,-999.0000,9,-999.0000,9,-999.0000,9,-999.0000, -999.00
33RR20050106,       P16S,      57,          2,         32,         32,2,20050126,       0807,   -44.0003,  -150.0000,       5384,   186.7,   8.2053,  34.4828,2,  34.4817,2,    257.3,2,   258.5,2,    3.62,2,   16.06,2,    0.01,2,    1.15,2,-999.000,9,-999.000,9,-999.000,9,  2122.1,2,  2281.2,2,-999.000,9,-999.0000,9, -999.00,9, -999.00,5,    43.6,2,     4.4,-999.000,9,-999.000,  46.0231,2,   186.7,-999.000,   8.1863,     -999.0,9,     -999.0,9,     -999.0,9,     -999.0,9,     -999.0,9,     -999.0,9,     -999.0,9, -999.00,9,-999.0000,9,-999.0000,9,-999.0000,9,-999.0000,9,-999.0000,9,-999.0000,9,-999.0000, -999.00
33RR20050106,       P16S,      57,          2,         31,         31,2,20050126,       0807,   -44.0003,  -150.0000,       5384,   241.3,   7.9371,  34.4705,2,  34.4699,2,    256.6,2,   259.0,2,    4.43,2,   17.25,2,    0.01,2,    1.22,2,   3.630,2,   2.150,2,   0.307,2,  2125.9,2,  2282.2,2,-999.000,9,-999.0000,9, -999.00,9, -999.00,5,  -999.0,5,  -999.0,-999.000,9,-999.000,  46.0760,2,   241.3,-999.000,   7.9129,     -999.0,9,     -999.0,9,     -999.0,9,     -999.0,9,     -999.0,9,     -999.0,9,     -999.0,9, -999.00,9,-999.0000,9,-999.0000,9,-999.0000,9,-999.0000,9,-999.0000,9,-999.0000,9,-999.0000, -999.00
33RR20050106,       P16S,      57,          2,         30,         30,2,20050126,       0807,   -44.0003,  -150.0000,       5384,   291.6,   7.7386,  34.4508,2,  34.4512,2,    258.5,2,   261.2,2,    4.63,2,   17.83,2,    0.01,2,    1.26,2,-999.000,9,-999.000,9,-999.000,9,  2127.3,2,  2280.6,2,-999.000,9,-999.0000,9, -999.00,9, -999.00,5,    40.6,2,     4.0,-999.000,9,-999.000,  44.2570,2,   291.6,-999.000,   7.7097,     -999.0,9,     -999.0,9,     -999.0,9,     -999.0,9,     -999.0,9,     -999.0,9,     -999.0,9, -999.00,9,-999.0000,9,-999.0000,9,-999.0000,9,-999.0000,9,-999.0000,9,-999.0000,9,-999.0000, -999.00
33RR20050106,       P16S,      57,          2,         29,         29,2,20050126,       0807,   -44.0003,  -150.0000,       5384,   341.9,   7.5793,  34.4341,2,  34.4348,2,    259.1,2,   260.4,2,    5.04,2,   18.37,2,    0.01,2,    1.29,2,   3.774,6,   2.164,6,   0.321,6,  2128.5,2,  2280.9,2,-999.000,9,-999.0000,9, -999.00,9, -999.00,5,    29.1,2,     3.9,-999.000,9,-999.000,-999.0000,9,   341.9,-999.000,   7.5457,     -999.0,9,     -999.0,9,     -999.0,9,     -999.0,9,     -999.0,9,     -999.0,9,     -999.0,9, -999.00,9,-999.0000,9,-999.0000,9,-999.0000,9,-999.0000,9,-999.0000,9,-999.0000,9,-999.0000, -999.00
33RR20050106,       P16S,      57,          2,         28,         28,2,20050126,       0807,   -44.0003,  -150.0000,       5384,   391.8,   7.4260,  34.4170,2,  34.4169,2,    256.5,2,   258.1,2,    5.24,2,   19.13,2,    0.01,2,    1.34,2,-999.000,9,-999.000,9,-999.000,9,  2130.8,2,  2280.2,2,-999.000,9,-999.0000,9, -999.00,9, -999.00,5,    24.2,2,     3.0,-999.000,9,-999.000,  42.1464,2,   391.8,-999.000,   7.3879,     -999.0,9,     -999.0,9,     -999.0,9,     -999.0,9,     -999.0,9,     -999.0,9,     -999.0,9, -999.00,9,-999.0000,9,-999.0000,9,-999.0000,9,-999.0000,9,-999.0000,9,-999.0000,9,-999.0000, -999.00
33RR20050106,       P16S,      57,          2,         27,         27,2,20050126,       0807,   -44.0003,  -150.0000,       5384,   442.9,   7.2403,  34.3976,2,  34.3985,2,    255.1,2,   256.1,2,    6.05,2,   19.93,2,    0.01,2,    1.39,2,   3.759,2,   2.061,2,   0.297,2,  2132.8,2,  2280.1,2,-999.000,9,-999.0000,9, -999.00,9, -999.00,9,  -999.0,9,  -999.0,-999.000,9,-999.000,-999.0000,9,   442.9,-999.000,   7.1977,     -999.0,9,     -999.0,9,     -999.0,9,     -999.0,9,     -999.0,9,     -999.0,9,     -999.0,9, -999.00,9,-999.0000,9,-999.0000,9,-999.0000,9,-999.0000,9,-999.0000,9,-999.0000,9,-999.0000, -999.00
33RR20050106,       P16S,      57,          2,         26,         26,2,20050126,       0807,   -44.0003,  -150.0000,       5384,   493.0,   7.0776,  34.3836,2,  34.3834,2,    254.1,2,   254.8,2,    6.66,2,   20.62,2,    0.00,2,    1.43,2,-999.000,9,-999.000,9,-999.000,9,  2134.7,2,  2279.6,2,-999.000,9,-999.0000,9, -999.00,9, -999.00,5,    19.5,2,     3.8,-999.000,9,-999.000,  44.3099,2,   493.0,-999.000,   7.0306,     -999.0,9,     -999.0,9,     -999.0,9,     -999.0,9,     -999.0,9,     -999.0,9,     -999.0,9, -999.00,9,-999.0000,9,-999.0000,9,-999.0000,9,-999.0000,9,-999.0000,9,-999.0000,9,-999.0000, -999.00
33RR20050106,       P16S,      57,          2,         25,         25,2,20050126,       0807,   -44.0003,  -150.0000,       5384,   578.4,   6.8222,  34.3627,2,  34.3630,2,    252.4,2,   252.8,2,    7.67,2,   21.54,2,    0.00,2,    1.50,2,   3.562,2,   1.927,2,   0.266,2,  2137.9,2,  2279.3,2,-999.000,9,-999.0000,9, -999.00,9, -999.00,9,  -999.0,9,  -999.0,-999.000,9,-999.000,  43.1254,2,   578.4,-999.000,   6.7679,     -999.0,9,     -999.0,9,     -999.0,9,     -999.0,9,     -999.0,9,     -999.0,9,     -999.0,9, -999.00,9,-999.0000,9,-999.0000,9,-999.0000,9,-999.0000,9,-999.0000,9,-999.0000,9,-999.0000, -999.00
33RR20050106,       P16S,      57,          2,         24,         24,2,20050126,       0807,   -44.0003,  -150.0000,       5384,   679.1,   6.5092,  34.3434,2,  34.3428,2,    246.5,2,   245.8,2,    9.70,2,   23.05,2,    0.00,2,    1.59,2,   3.212,2,   1.719,2,   0.204,2,  2144.3,2,  2280.4,2,-999.000,9,-999.0000,9, -999.00,9, -999.00,5,     6.1,2,     3.5,-999.000,9,-999.000,  42.1312,2,   679.1,-999.000,   6.4466,     -999.0,9,     -999.0,9,     -999.0,9,     -999.0,9,     -999.0,9,     -999.0,9,     -999.0,9, -999.00,9,-999.0000,9,-999.0000,9,-999.0000,9,-999.0000,9,-999.0000,9,-999.0000,9,-999.0000, -999.00
33RR20050106,       P16S,      57,          2,         23,         23,2,20050126,       0807,   -44.0003,  -150.0000,       5384,   780.2,   6.0391,  34.3261,2,  34.3266,2,    232.3,2,   232.1,2,   13.58,2,   25.15,2,    0.00,2,    1.73,2,   2.664,2,   1.419,2,   0.163,2,  2156.0,2,  2282.8,2,-999.000,9,-999.0000,9, -999.00,9, -999.00,5,   -11.9,2,     3.4,-999.000,9,-999.000,  41.7003,2,   780.2,-999.000,   5.9694,     -999.0,9,     -999.0,9,     -999.0,9,     -999.0,9,     -999.0,9,     -999.0,9,     -999.0,9, -999.00,9,-999.0000,9,-999.0000,9,-999.0000,9,-999.0000,9,-999.0000,9,-999.0000,9,-999.0000, -999.00
33RR20050106,       P16S,      57,          2,         22,         22,2,20050126,       0807,   -44.0003,  -150.0000,       5384,   880.8,   5.4905,  34.3225,2,  34.3232,2,    219.9,2,   219.3,2,   19.29,2,   27.37,2,    0.00,2,    1.88,2,   2.117,2,   1.090,2,   0.125,2,  2170.3,2,  2286.9,2,-999.000,9,-999.0000,9, -999.00,9, -999.00,9,  -999.0,9,  -999.0,-999.000,9,-999.000,  40.0954,2,   880.8,-999.000,   5.4148,     -999.0,9,     -999.0,9,     -999.0,9,     -999.0,9,     -999.0,9,     -999.0,9,     -999.0,9, -999.00,9,-999.0000,9,-999.0000,9,-999.0000,9,-999.0000,9,-999.0000,9,-999.0000,9,-999.0000, -999.00
33RR20050106,       P16S,      57,          2,         21,         21,2,20050126,       0807,   -44.0003,  -150.0000,       5384,   981.6,   4.9087,  34.3331,2,  34.3331,2,    209.9,2,   208.8,2,   26.88,2,   29.31,2,    0.00,2,    2.02,2,   1.711,2,   0.896,2,   0.104,2,  2184.7,6,  2291.7,2,-999.000,9,-999.0000,9, -999.00,9, -999.00,5,   -51.7,2,     3.3,-999.000,9,-999.000,  41.3222,2,   981.6,-999.000,   4.8280,     -999.0,9,     -999.0,9,     -999.0,9,     -999.0,9,     -999.0,9,     -999.0,9,     -999.0,9, -999.00,9,-999.0000,9,-999.0000,9,-999.0000,9,-999.0000,9,-999.0000,9,-999.0000,9,-999.0000, -999.00
33RR20050106,       P16S,      57,          2,         20,         20,2,20050126,       0807,   -44.0003,  -150.0000,       5384,  1082.4,   4.3351,  34.3371,2,  34.3378,2,    204.3,2,   204.1,2,   33.23,2,   30.08,2,    0.00,2,    2.11,2,   1.440,2,   0.731,2,   0.088,2,  2196.3,2,  2297.3,2,-999.000,9,-999.0000,9, -999.00,9, -999.00,5,   -69.1,2,     3.0,-999.000,9,-999.000,-999.0000,9,  1082.4,-999.000,   4.2500,     -999.0,9,     -999.0,9,     -999.0,9,     -999.0,9,     -999.0,9,     -999.0,9,     -999.0,9, -999.00,9,-999.0000,9,-999.0000,9,-999.0000,9,-999.0000,9,-999.0000,9,-999.0000,9,-999.0000, -999.00
33RR20050106,       P16S,      57,          2,         19,         19,2,20050126,       0807,   -44.0003,  -150.0000,       5384,  1183.3,   3.8433,  34.3560,2,  34.3558,2,    197.5,2,   198.1,2,   40.64,2,   31.93,2,    0.00,2,    2.21,2,   1.127,2,   0.551,2,   0.064,2,  2209.3,2,  2303.3,2,-999.000,9,-999.0000,9, -999.00,9, -999.00,5,   -88.9,2,     3.0,-999.000,9,-999.000,  39.0827,2,  1183.3,-999.000,   3.7538,     -999.0,9,     -999.0,9,     -999.0,9,     -999.0,9,     -999.0,9,     -999.0,9,     -999.0,9, -999.00,9,-999.0000,9,-999.0000,9,-999.0000,9,-999.0000,9,-999.0000,9,-999.0000,9,-999.0000, -999.00
33RR20050106,       P16S,      57,          2,         18,         18,2,20050126,       0807,   -44.0003,  -150.0000,       5384,  1284.2,   3.4129,  34.3889,2,  34.3887,2,    190.8,2,   191.0,2,   49.29,2,   32.97,2,    0.00,2,    2.28,2,   0.911,2,   0.455,2,   0.060,2,  2220.7,2,  2311.8,6,-999.000,9,-999.0000,9, -999.00,9, -999.00,5,   -98.2,2,     2.8,-999.000,9,-999.000,-999.0000,9,  1284.2,-999.000,   3.3190,     -999.0,9,     -999.0,9,     -999.0,9,     -999.0,9,     -999.0,9,     -999.0,9,     -999.0,9, -999.00,9,-999.0000,9,-999.0000,9,-999.0000,9,-999.0000,9,-999.0000,9,-999.0000,9,-999.0000, -999.00
33RR20050106,       P16S,      57,          2,         17,         17,2,20050126,       0807,   -44.0003,  -150.0000,       5384,  1385.9,   3.1516,  34.4256,2,  34.4258,2,    184.5,2,   184.3,2,   56.51,2,   33.56,2,    0.00,2,    2.33,2,   0.737,2,   0.365,2,   0.047,2,  2231.3,2,  2319.5,2,-999.000,9,-999.0000,9, -999.00,9, -999.00,5,  -114.5,2,     3.0,-999.000,9,-999.000,  38.5011,2,  1385.9,-999.000,   3.0519,     -999.0,9,     -999.0,9,     -999.0,9,     -999.0,9,     -999.0,9,     -999.0,9,     -999.0,9, -999.00,9,-999.0000,9,-999.0000,9,-999.0000,9,-999.0000,9,-999.0000,9,-999.0000,9,-999.0000, -999.00
33RR20050106,       P16S,      57,          2,         16,         16,2,20050126,       0807,   -44.0003,  -150.0000,       5384,  1487.0,   2.9441,  34.4711,2,  34.4721,2,    177.6,2,   177.6,2,   63.76,2,   33.94,2,    0.00,2,    2.36,2,   0.540,2,   0.263,2,   0.033,2,  2242.1,2,  2325.4,2,-999.000,9,-999.0000,9, -999.00,9, -999.00,5,  -130.7,2,     3.0,-999.000,9,-999.000,-999.0000,9,  1487.0,-999.000,   2.8382,     -999.0,9,     -999.0,9,     -999.0,9,     -999.0,9,     -999.0,9,     -999.0,9,     -999.0,9, -999.00,9,-999.0000,9,-999.0000,9,-999.0000,9,-999.0000,9,-999.0000,9,-999.0000,9,-999.0000, -999.00
33RR20050106,       P16S,      57,          2,         15,         15,2,20050126,       0807,   -44.0003,  -150.0000,       5384,  1588.0,   2.8039,  34.5121,2,  34.5111,2,    171.9,2,   171.8,2,   70.78,2,   34.21,2,    0.00,2,    2.38,2,   0.386,2,   0.186,2,   0.024,2,  2249.0,2,  2333.9,2,-999.000,9,-999.0000,9, -999.00,9, -999.00,5,  -149.1,2,     3.2,-999.000,9,-999.000,  37.9248,2,  1588.0,-999.000,   2.6912,     -999.0,9,     -999.0,9,     -999.0,9,     -999.0,9,     -999.0,9,     -999.0,9,     -999.0,9, -999.00,9,-999.0000,9,-999.0000,9,-999.0000,9,-999.0000,9,-999.0000,9,-999.0000,9,-999.0000, -999.00
33RR20050106,       P16S,      57,          2,         14,         14,2,20050126,       0807,   -44.0003,  -150.0000,       5384,  1790.7,   2.5760,  34.5822,2,  34.5816,2,    163.9,2,   163.6,2,   84.71,2,   34.44,2,    0.00,2,    2.40,2,   0.108,2,   0.052,2,  -0.002,2,  2264.8,2,  2350.1,2,-999.000,9,-999.0000,9, -999.00,9, -999.00,5,  -168.7,2,     2.5,-999.000,9,-999.000,-999.0000,9,  1790.7,-999.000,   2.4490,     -999.0,9,     -999.0,9,     -999.0,9,     -999.0,9,     -999.0,9,     -999.0,9,     -999.0,9, -999.00,9,-999.0000,9,-999.0000,9,-999.0000,9,-999.0000,9,-999.0000,9,-999.0000,9,-999.0000, -999.00
33RR20050106,       P16S,      57,          2,         13,         13,2,20050126,       0807,   -44.0003,  -150.0000,       5384,  1993.3,   2.3996,  34.6204,2,  34.6209,2,    158.9,2,   159.4,2,   95.11,2,   34.60,2,    0.00,2,    2.42,2,   0.038,2,   0.016,2,  -0.002,2,  2276.6,2,  2362.3,2,-999.000,9,-999.0000,9, -999.00,9, -999.00,5,  -185.3,2,     2.7,-999.000,9,-999.000,  38.1574,2,  1993.3,-999.000,   2.2577,     -999.0,9,     -999.0,9,     -999.0,9,     -999.0,9,     -999.0,9,     -999.0,9,     -999.0,9, -999.00,9,-999.0000,9,-999.0000,9,-999.0000,9,-999.0000,9,-999.0000,9,-999.0000,9,-999.0000, -999.00
33RR20050106,       P16S,      57,          2,         12,         12,2,20050126,       0807,   -44.0003,  -150.0000,       5384,  2196.0,   2.2407,  34.6441,2,  34.6445,2,    156.6,2,   157.0,2,  104.70,2,   34.71,2,    0.00,2,    2.43,2,   0.020,2,   0.009,2,  -0.002,2,  2286.9,2,  2373.9,2,-999.000,9,-999.0000,9, -999.00,9, -999.00,5,  -195.2,2,     2.7,-999.000,9,-999.000,-999.0000,9,  2196.0,-999.000,   2.0835,     -999.0,9,     -999.0,9,     -999.0,9,     -999.0,9,     -999.0,9,     -999.0,9,     -999.0,9, -999.00,9,-999.0000,9,-999.0000,9,-999.0000,9,-999.0000,9,-999.0000,9,-999.0000,9,-999.0000, -999.00
33RR20050106,       P16S,      57,          2,         11,         11,2,20050126,       0807,   -44.0003,  -150.0000,       5384,  2450.3,   2.0726,  34.6626,2,  34.6624,2,    156.3,2,   156.9,2,  112.00,2,   34.77,2,    0.00,2,    2.44,2,   0.022,2,   0.017,2,  -0.002,2,  2292.4,2,  2382.2,2,-999.000,9,-999.0000,9, -999.00,9, -999.00,5,  -210.2,2,     3.1,-999.000,9,-999.000,  38.1997,2,  2450.3,-999.000,   1.8954,     -999.0,9,     -999.0,9,     -999.0,9,     -999.0,9,     -999.0,9,     -999.0,9,     -999.0,9, -999.00,9,-999.0000,9,-999.0000,9,-999.0000,9,-999.0000,9,-999.0000,9,-999.0000,9,-999.0000, -999.00
33RR20050106,       P16S,      57,          2,         10,         10,2,20050126,       0807,   -44.0003,  -150.0000,       5384,  2704.0,   1.9336,  34.6758,2,  34.6760,2,    158.1,2,   159.2,2,  116.80,2,   34.66,2,    0.00,2,    2.43,2,-999.000,9,-999.000,9,-999.000,9,  2295.0,2,  2386.1,2,-999.000,9,-999.0000,9, -999.00,9, -999.00,5,  -198.0,2,     2.5,-999.000,9,-999.000,-999.0000,9,  2704.0,-999.000,   1.7356,     -999.0,9,     -999.0,9,     -999.0,9,     -999.0,9,     -999.0,9,     -999.0,9,     -999.0,9, -999.00,9,-999.0000,9,-999.0000,9,-999.0000,9,-999.0000,9,-999.0000,9,-999.0000,9,-999.0000, -999.00
33RR20050106,       P16S,      57,          2,          9,          9,2,20050126,       0807,   -44.0003,  -150.0000,       5384,  2958.4,   1.8132,  34.6876,2,  34.6878,2,    163.3,2,   164.3,2,  118.24,2,   34.22,2,    0.00,2,    2.39,2,   0.006,2,   0.007,2,  -0.002,2,  2292.6,2,  2386.0,2,-999.000,9,-999.0000,9, -999.00,9, -999.00,5,  -194.6,2,     3.2,-999.000,9,-999.000,  38.3610,2,  2958.4,-999.000,   1.5934,     -999.0,9,     -999.0,9,     -999.0,9,     -999.0,9,     -999.0,9,     -999.0,9,     -999.0,9, -999.00,9,-999.0000,9,-999.0000,9,-999.0000,9,-999.0000,9,-999.0000,9,-999.0000,9,-999.0000, -999.00
33RR20050106,       P16S,      57,          2,          8,          8,2,20050126,       0807,   -44.0003,  -150.0000,       5384,  3294.9,   1.6735,  34.7059,2,  34.7059,2,    176.5,2,   177.6,2,  113.84,2,   33.13,2,    0.00,2,    2.31,2,   0.009,2,   0.009,2,  -0.002,2,  2279.6,2,  2375.9,2,-999.000,9,-999.0000,9, -999.00,9, -999.00,5,  -175.0,2,     2.3,-999.000,9,-999.000,-999.0000,9,  3294.9,-999.000,   1.4237,     -999.0,9,     -999.0,9,     -999.0,9,     -999.0,9,     -999.0,9,     -999.0,9,     -999.0,9, -999.00,9,-999.0000,9,-999.0000,9,-999.0000,9,-999.0000,9,-999.0000,9,-999.0000,9,-999.0000, -999.00
33RR20050106,       P16S,      57,          2,          7,          7,2,20050126,       0807,   -44.0003,  -150.0000,       5384,  3601.2,   1.5191,  34.7157,2,  34.7159,2,    187.6,2,   189.0,2,  111.32,2,   32.37,2,    0.00,2,    2.24,2,   0.035,3,   0.024,3,  -0.002,2,  2268.5,2,  2368.9,2,-999.000,9,-999.0000,9, -999.00,9, -999.00,5,  -164.4,2,     2.8,-999.000,9,-999.000,  38.6809,2,  3601.2,-999.000,   1.2418,     -999.0,9,     -999.0,9,     -999.0,9,     -999.0,9,     -999.0,9,     -999.0,9,     -999.0,9, -999.00,9,-999.0000,9,-999.0000,9,-999.0000,9,-999.0000,9,-999.0000,9,-999.0000,9,-999.0000, -999.00