BOTTLE,20201109CCHSIOCBG
EXPOCODE,SECT_ID,STNNBR,CASTNO,SAMPNO,BTLNBR,BTLNBR_FLAG_W,DATE,TIME,LATITUDE,LONGITUDE,DEPTH,CTDPRS,CTDTMP,CTDSAL,CTDSAL_FLAG_W,SALNTY,SALNTY_FLAG_W,CTDOXY,CTDOXY_FLAG_W,OXYGEN,OXYGEN_FLAG_W,SILCAT,SILCAT_FLAG_W,NITRAT,NITRAT_FLAG_W,NITRIT,NITRIT_FLAG_W,PHSPHT,PHSPHT_FLAG_W,CFC-11,CFC-11_FLAG_W,CFC-12,CFC-12_FLAG_W,CFC113,CFC113_FLAG_W,TCARBN,TCARBN_FLAG_W,ALKALI,ALKALI_FLAG_W,TRITUM,TRITUM_FLAG_W,HELIUM,HELIUM_FLAG_W,DELHE3,DELHE3_FLAG_W,DELC13,DELC13_FLAG_W,DELC14,DELC14_FLAG_W,C14ERR,NEON,NEON_FLAG_W,NEONER,DOC,DOC_FLAG_W,CTDRAW,TRITER,THETA,FUCO,FUCO_FLAG_W,RHAM,RHAM_FLAG_W,ARABA,ARABA_FLAG_W,GALA,GALA_FLAG_W,GLUC,GLUC_FLAG_W,MAN,MAN_FLAG_W,DCNS,DCNS_FLAG_W,BRDU,BRDU_FLAG_W,CDOM325,CDOM325_FLAG_W,CDOM340,CDOM340_FLAG_W,CDOM380,CDOM380_FLAG_W,CDOM412,CDOM412_FLAG_W,CDOMSL,CDOMSL_FLAG_W,CDOMSN,CDOMSN_FLAG_W,HELIER,DELHER
,,,,,,,,,,,METERS,DBAR,ITS-90,PSS-78,,PSS-78,,UMOL/KG,,UMOL/KG,,UMOL/KG,,UMOL/KG,,UMOL/KG,,UMOL/KG,,PMOL/KG,,PMOL/KG,,PMOL/KG,,UMOL/KG,,UMOL/KG,,TU,,NMOL/KG,,PERCNT,,/MILLE,,/MILLE,,/MILLE,NMOL/KG,,NMOL/KG,UMOL/KG,,DBAR,TU,DEG C,NMOL/KG,,NMOL/KG,,NMOL/KG,,NMOL/KG,,NMOL/KG,,NMOL/KG,,NMOL/KG,,PMOL/L/H,,1/M,,1/M,,1/M,,1/M,,1/NM,,1/NM,,NMOL/KG,PERCNT
33RR20050106,       P16S,      71,          1,         36,         36,2,20050131,       0243,   -50.9997,  -149.9978,       4888,     7.4,  10.3264,  34.3778,2,  34.3770,2,    272.7,2,   274.3,2,    0.94,2,   10.79,2,    0.22,2,    0.86,2,   3.706,2,   2.065,2,   0.353,2,  2083.0,6,  2284.5,6,-999.000,9,-999.0000,9, -999.00,9, -999.00,9,  -999.0,9,  -999.0,-999.000,9,-999.000,  50.1224,2,     7.4,-999.000,  10.3255,     -999.0,9,     -999.0,9,     -999.0,9,     -999.0,9,     -999.0,9,     -999.0,9,     -999.0,9, -999.00,9,-999.0000,9,-999.0000,9,-999.0000,9,-999.0000,9,-999.0000,9,-999.0000,9,-999.0000, -999.00
33RR20050106,       P16S,      71,          1,         35,         35,2,20050131,       0243,   -50.9997,  -149.9978,       4888,    42.4,  10.3311,  34.3774,2,  34.3769,2,    274.8,2,   274.2,2,    0.93,2,   10.84,2,    0.22,2,    0.86,2,   3.750,2,   2.058,2,   0.348,2,  2084.1,2,  2284.4,2,-999.000,9,-999.0000,9, -999.00,9, -999.00,9,  -999.0,9,  -999.0,-999.000,9,-999.000,  49.0756,2,    42.4,-999.000,  10.3262,     -999.0,9,     -999.0,9,     -999.0,9,     -999.0,9,     -999.0,9,     -999.0,9,     -999.0,9, -999.00,9,-999.0000,9,-999.0000,9,-999.0000,9,-999.0000,9,-999.0000,9,-999.0000,9,-999.0000, -999.00
33RR20050106,       P16S,      71,          1,         34,         34,2,20050131,       0243,   -50.9997,  -149.9978,       4888,    77.7,  10.2946,  34.3830,2,  34.3892,2,    274.7,2,   273.4,2,    1.12,2,   10.94,2,    0.28,2,    0.87,2,   3.821,2,   2.063,2,   0.352,2,  2086.2,2,  2284.3,2,-999.000,9,-999.0000,9, -999.00,9, -999.00,9,  -999.0,9,  -999.0,-999.000,9,-999.000,  49.4828,2,    77.7,-999.000,  10.2855,     -999.0,9,     -999.0,9,     -999.0,9,     -999.0,9,     -999.0,9,     -999.0,9,     -999.0,9, -999.00,9,-999.0000,9,-999.0000,9,-999.0000,9,-999.0000,9,-999.0000,9,-999.0000,9,-999.0000, -999.00
33RR20050106,       P16S,      71,          1,         33,         33,2,20050131,       0243,   -50.9997,  -149.9978,       4888,   127.2,   8.7569,  34.5244,2,  34.5259,2,    265.5,2,   266.6,2,    3.29,2,   14.01,2,    0.02,2,    1.03,2,   3.999,2,   2.177,2,   0.371,2,  2111.1,2,  2284.8,2,-999.000,9,-999.0000,9, -999.00,9, -999.00,9,  -999.0,9,  -999.0,-999.000,9,-999.000,  47.3867,2,   127.2,-999.000,   8.7434,     -999.0,9,     -999.0,9,     -999.0,9,     -999.0,9,     -999.0,9,     -999.0,9,     -999.0,9, -999.00,9,-999.0000,9,-999.0000,9,-999.0000,9,-999.0000,9,-999.0000,9,-999.0000,9,-999.0000, -999.00
33RR20050106,       P16S,      71,          1,         32,         32,2,20050131,       0243,   -50.9997,  -149.9978,       4888,   176.6,   8.2066,  34.4516,2,  34.4499,2,    267.2,2,   270.3,2,    3.67,2,   15.39,2,    0.01,2,    1.11,2,   4.006,2,   2.224,2,   0.363,2,  2114.4,2,  2282.1,2,-999.000,9,-999.0000,9, -999.00,9, -999.00,9,  -999.0,9,  -999.0,-999.000,9,-999.000,  47.3731,2,   176.6,-999.000,   8.1886,     -999.0,9,     -999.0,9,     -999.0,9,     -999.0,9,     -999.0,9,     -999.0,9,     -999.0,9, -999.00,9,-999.0000,9,-999.0000,9,-999.0000,9,-999.0000,9,-999.0000,9,-999.0000,9,-999.0000, -999.00
33RR20050106,       P16S,      71,          1,         31,         31,2,20050131,       0243,   -50.9997,  -149.9978,       4888,   226.8,   7.9644,  34.4283,2,  34.4275,2,    265.4,2,   267.4,2,    4.06,2,   16.38,2,    0.01,2,    1.16,2,   4.002,2,   2.207,2,   0.357,2,  2128.2,2,  2282.1,2,-999.000,9,-999.0000,9, -999.00,9, -999.00,9,  -999.0,9,  -999.0,-999.000,9,-999.000,  46.8047,2,   226.8,-999.000,   7.9417,     -999.0,9,     -999.0,9,     -999.0,9,     -999.0,9,     -999.0,9,     -999.0,9,     -999.0,9, -999.00,9,-999.0000,9,-999.0000,9,-999.0000,9,-999.0000,9,-999.0000,9,-999.0000,9,-999.0000, -999.00
33RR20050106,       P16S,      71,          1,         30,         30,2,20050131,       0243,   -50.9997,  -149.9978,       4888,   278.0,   7.8205,  34.4323,2,  34.4319,2,    254.7,2,   256.5,2,    5.24,2,   18.21,2,    0.01,2,    1.28,2,   3.886,2,   2.122,2,   0.336,2,  2127.1,2,  2280.4,2,-999.000,9,-999.0000,9, -999.00,9, -999.00,9,  -999.0,9,  -999.0,-999.000,9,-999.000,  44.0282,2,   278.0,-999.000,   7.7928,     -999.0,9,     -999.0,9,     -999.0,9,     -999.0,9,     -999.0,9,     -999.0,9,     -999.0,9, -999.00,9,-999.0000,9,-999.0000,9,-999.0000,9,-999.0000,9,-999.0000,9,-999.0000,9,-999.0000, -999.00
33RR20050106,       P16S,      71,          1,         29,         29,2,20050131,       0243,   -50.9997,  -149.9978,       4888,   329.1,   7.6312,  34.4262,2,  34.4270,2,    255.9,2,   254.4,2,    5.82,2,   19.16,2,    0.00,2,    1.34,2,   3.882,2,   2.089,2,   0.330,2,  2130.6,2,  2281.8,2,-999.000,9,-999.0000,9, -999.00,9, -999.00,9,  -999.0,9,  -999.0,-999.000,9,-999.000,  45.4551,2,   329.1,-999.000,   7.5988,     -999.0,9,     -999.0,9,     -999.0,9,     -999.0,9,     -999.0,9,     -999.0,9,     -999.0,9, -999.00,9,-999.0000,9,-999.0000,9,-999.0000,9,-999.0000,9,-999.0000,9,-999.0000,9,-999.0000, -999.00
33RR20050106,       P16S,      71,          1,         28,         28,2,20050131,       0243,   -50.9997,  -149.9978,       4888,   376.9,   7.5008,  34.4169,2,  34.4164,2,    256.8,2,   256.6,2,    6.02,2,   19.32,2,    0.01,2,    1.36,2,   3.860,2,   2.101,2,   0.335,2,  2130.9,2,  2282.0,2,-999.000,9,-999.0000,9, -999.00,9, -999.00,9,  -999.0,9,  -999.0,-999.000,9,-999.000,-999.0000,9,   376.9,-999.000,   7.4639,     -999.0,9,     -999.0,9,     -999.0,9,     -999.0,9,     -999.0,9,     -999.0,9,     -999.0,9, -999.00,9,-999.0000,9,-999.0000,9,-999.0000,9,-999.0000,9,-999.0000,9,-999.0000,9,-999.0000, -999.00
33RR20050106,       P16S,      71,          1,         27,         27,2,20050131,       0243,   -50.9997,  -149.9978,       4888,   427.3,   7.3178,  34.4020,2,  34.4013,2,    254.9,2,   254.6,2,    6.80,2,   20.07,2,    0.00,2,    1.41,2,   3.817,2,   2.089,2,   0.329,2,  2133.4,2,  2281.7,2,-999.000,9,-999.0000,9, -999.00,9, -999.00,9,  -999.0,9,  -999.0,-999.000,9,-999.000,  43.8396,2,   427.3,-999.000,   7.2765,     -999.0,9,     -999.0,9,     -999.0,9,     -999.0,9,     -999.0,9,     -999.0,9,     -999.0,9, -999.00,9,-999.0000,9,-999.0000,9,-999.0000,9,-999.0000,9,-999.0000,9,-999.0000,9,-999.0000, -999.00
33RR20050106,       P16S,      71,          1,         26,         26,2,20050131,       0243,   -50.9997,  -149.9978,       4888,   476.7,   7.0647,  34.3766,2,  34.3768,2,    250.4,2,   251.1,2,    7.98,2,   21.06,2,    0.00,2,    1.47,2,-999.000,9,-999.000,9,-999.000,9,  2136.8,2,  2280.8,2,-999.000,9,-999.0000,9, -999.00,9, -999.00,9,  -999.0,9,  -999.0,-999.000,9,-999.000,-999.0000,9,   476.7,-999.000,   7.0194,     -999.0,9,     -999.0,9,     -999.0,9,     -999.0,9,     -999.0,9,     -999.0,9,     -999.0,9, -999.00,9,-999.0000,9,-999.0000,9,-999.0000,9,-999.0000,9,-999.0000,9,-999.0000,9,-999.0000, -999.00
33RR20050106,       P16S,      71,          1,         25,         25,2,20050131,       0243,   -50.9997,  -149.9978,       4888,   529.2,   6.8253,  34.3566,2,  34.3570,2,    248.5,2,   248.4,2,    8.97,2,   21.95,2,    0.00,2,    1.54,2,   3.573,6,   1.909,6,   0.284,6,  2141.1,2,  2281.9,2,-999.000,9,-999.0000,9, -999.00,9, -999.00,9,  -999.0,9,  -999.0,-999.000,9,-999.000,  43.2274,2,   529.2,-999.000,   6.7758,     -999.0,9,     -999.0,9,     -999.0,9,     -999.0,9,     -999.0,9,     -999.0,9,     -999.0,9, -999.00,9,-999.0000,9,-999.0000,9,-999.0000,9,-999.0000,9,-999.0000,9,-999.0000,9,-999.0000, -999.00
33RR20050106,       P16S,      71,          1,         24,         24,2,20050131,       0243,   -50.9997,  -149.9978,       4888,   650.4,   6.2646,  34.3331,2,  34.3339,2,    236.4,2,   235.9,2,   12.92,2,   24.23,2,    0.00,2,    1.68,2,   3.026,2,   1.613,2,   0.219,2,  2152.6,2,  2282.9,2,-999.000,9,-999.0000,9, -999.00,9, -999.00,9,  -999.0,9,  -999.0,-999.000,9,-999.000,  42.5497,2,   650.4,-999.000,   6.2060,     -999.0,9,     -999.0,9,     -999.0,9,     -999.0,9,     -999.0,9,     -999.0,9,     -999.0,9, -999.00,9,-999.0000,9,-999.0000,9,-999.0000,9,-999.0000,9,-999.0000,9,-999.0000,9,-999.0000, -999.00
33RR20050106,       P16S,      71,          1,         23,         23,2,20050131,       0243,   -50.9997,  -149.9978,       4888,   751.5,   5.8412,  34.3356,2,  34.3359,2,    221.4,2,   223.4,2,   17.48,2,   26.13,2,    0.00,2,    1.81,2,   2.574,2,   1.349,2,   0.184,2,  2165.8,2,  2285.1,2,-999.000,9,-999.0000,9, -999.00,9, -999.00,9,  -999.0,9,  -999.0,-999.000,9,-999.000,  42.9569,2,   751.5,-999.000,   5.7753,     -999.0,9,     -999.0,9,     -999.0,9,     -999.0,9,     -999.0,9,     -999.0,9,     -999.0,9, -999.00,9,-999.0000,9,-999.0000,9,-999.0000,9,-999.0000,9,-999.0000,9,-999.0000,9,-999.0000, -999.00
33RR20050106,       P16S,      71,          1,         22,         22,2,20050131,       0243,   -50.9997,  -149.9978,       4888,   852.1,   5.2668,  34.3386,2,  34.3386,2,    211.4,2,   212.3,2,   23.25,2,   28.21,2,    0.00,2,    1.96,2,   1.984,2,   1.029,2,   0.120,2,  2178.6,2,  2289.4,2,-999.000,9,-999.0000,9, -999.00,9, -999.00,9,  -999.0,9,  -999.0,-999.000,9,-999.000,  41.5030,2,   852.1,-999.000,   5.1952,     -999.0,9,     -999.0,9,     -999.0,9,     -999.0,9,     -999.0,9,     -999.0,9,     -999.0,9, -999.00,9,-999.0000,9,-999.0000,9,-999.0000,9,-999.0000,9,-999.0000,9,-999.0000,9,-999.0000, -999.00
33RR20050106,       P16S,      71,          1,         21,         21,2,20050131,       0243,   -50.9997,  -149.9978,       4888,   951.7,   4.6938,  34.3324,2,  34.3322,2,    207.8,2,   208.8,2,   29.02,2,   29.64,2,    0.00,2,    2.07,2,   1.927,2,   1.013,2,   0.119,2,  2189.1,2,  2293.6,2,-999.000,9,-999.0000,9, -999.00,9, -999.00,9,  -999.0,9,  -999.0,-999.000,9,-999.000,  40.5465,2,   951.7,-999.000,   4.6173,     -999.0,9,     -999.0,9,     -999.0,9,     -999.0,9,     -999.0,9,     -999.0,9,     -999.0,9, -999.00,9,-999.0000,9,-999.0000,9,-999.0000,9,-999.0000,9,-999.0000,9,-999.0000,9,-999.0000, -999.00
33RR20050106,       P16S,      71,          1,         20,         20,2,20050131,       0243,   -50.9997,  -149.9978,       4888,  1052.1,   4.1546,  34.3469,2,  34.3467,2,    200.8,2,   202.9,2,   36.41,2,   30.98,2,    0.00,2,    2.16,2,   1.523,2,   0.789,2,   0.094,2,  2199.6,6,  2300.2,2,-999.000,9,-999.0000,9, -999.00,9, -999.00,9,  -999.0,9,  -999.0,-999.000,9,-999.000,  40.6313,2,  1052.1,-999.000,   4.0736,     -999.0,9,     -999.0,9,     -999.0,9,     -999.0,9,     -999.0,9,     -999.0,9,     -999.0,9, -999.00,9,-999.0000,9,-999.0000,9,-999.0000,9,-999.0000,9,-999.0000,9,-999.0000,9,-999.0000, -999.00
33RR20050106,       P16S,      71,          1,         19,         19,2,20050131,       0243,   -50.9997,  -149.9978,       4888,  1154.9,   3.6577,  34.3652,2,  34.3665,2,    195.2,2,   197.4,2,   43.82,2,   32.09,2,    0.00,2,    2.24,2,   1.442,2,   0.762,2,   0.088,2,  2214.3,2,  2307.4,2,-999.000,9,-999.0000,9, -999.00,9, -999.00,9,  -999.0,9,  -999.0,-999.000,9,-999.000,-999.0000,9,  1154.9,-999.000,   3.5723,     -999.0,9,     -999.0,9,     -999.0,9,     -999.0,9,     -999.0,9,     -999.0,9,     -999.0,9, -999.00,9,-999.0000,9,-999.0000,9,-999.0000,9,-999.0000,9,-999.0000,9,-999.0000,9,-999.0000, -999.00
33RR20050106,       P16S,      71,          1,         18,         18,2,20050131,       0243,   -50.9997,  -149.9978,       4888,  1257.1,   3.3585,  34.3994,2,  34.3997,2,    189.9,2,   190.3,2,   51.24,2,   32.85,2,    0.00,2,    2.31,2,   1.182,2,   0.599,2,   0.082,2,  2225.0,2,  2313.3,6,-999.000,9,-999.0000,9, -999.00,9, -999.00,9,  -999.0,9,  -999.0,-999.000,9,-999.000,  37.7704,2,  1257.1,-999.000,   3.2674,     -999.0,9,     -999.0,9,     -999.0,9,     -999.0,9,     -999.0,9,     -999.0,9,     -999.0,9, -999.00,9,-999.0000,9,-999.0000,9,-999.0000,9,-999.0000,9,-999.0000,9,-999.0000,9,-999.0000, -999.00
33RR20050106,       P16S,      71,          1,         17,         17,2,20050131,       0243,   -50.9997,  -149.9978,       4888,  1357.7,   3.1434,  34.4299,2,  34.4302,2,    184.4,2,   184.8,2,   56.87,2,   33.33,2,    0.00,2,    2.35,2,   0.985,2,   0.492,2,   0.064,2,  2232.7,2,  2319.3,2,-999.000,9,-999.0000,9, -999.00,9, -999.00,9,  -999.0,9,  -999.0,-999.000,9,-999.000,-999.0000,9,  1357.7,-999.000,   3.0461,     -999.0,9,     -999.0,9,     -999.0,9,     -999.0,9,     -999.0,9,     -999.0,9,     -999.0,9, -999.00,9,-999.0000,9,-999.0000,9,-999.0000,9,-999.0000,9,-999.0000,9,-999.0000,9,-999.0000, -999.00
33RR20050106,       P16S,      71,          1,         16,         16,2,20050131,       0243,   -50.9997,  -149.9978,       4888,  1458.8,   2.9363,  34.4640,2,  34.4638,2,    179.3,2,   180.4,2,   62.10,2,   33.70,2,    0.00,2,    2.37,2,   0.832,2,   0.404,2,   0.053,2,  2239.5,2,  2324.0,2,-999.000,9,-999.0000,9, -999.00,9, -999.00,9,  -999.0,9,  -999.0,-999.000,9,-999.000,-999.0000,9,  1458.8,-999.000,   2.8329,     -999.0,9,     -999.0,9,     -999.0,9,     -999.0,9,     -999.0,9,     -999.0,9,     -999.0,9, -999.00,9,-999.0000,9,-999.0000,9,-999.0000,9,-999.0000,9,-999.0000,9,-999.0000,9,-999.0000, -999.00
33RR20050106,       P16S,      71,          1,         15,         15,2,20050131,       0243,   -50.9997,  -149.9978,       4888,  1559.0,   2.7870,  34.5002,2,  34.5001,2,    175.7,2,   176.7,2,   66.74,2,   33.80,2,    0.00,2,    2.38,2,   0.720,2,   0.360,2,   0.041,2,  2246.2,2,  2328.3,2,-999.000,9,-999.0000,9, -999.00,9, -999.00,9,  -999.0,9,  -999.0,-999.000,9,-999.000,  41.2764,2,  1559.0,-999.000,   2.6769,     -999.0,9,     -999.0,9,     -999.0,9,     -999.0,9,     -999.0,9,     -999.0,9,     -999.0,9, -999.00,9,-999.0000,9,-999.0000,9,-999.0000,9,-999.0000,9,-999.0000,9,-999.0000,9,-999.0000, -999.00
33RR20050106,       P16S,      71,          1,         14,         14,2,20050131,       0243,   -50.9997,  -149.9978,       4888,  1660.9,   2.6602,  34.5388,2,  34.5388,2,    173.3,2,   174.1,2,   70.98,2,   33.86,2,    0.00,2,    2.38,2,   0.581,2,   0.280,2,   0.039,2,  2250.6,2,  2332.6,2,-999.000,9,-999.0000,9, -999.00,9, -999.00,9,  -999.0,9,  -999.0,-999.000,9,-999.000,-999.0000,9,  1660.9,-999.000,   2.5431,     -999.0,9,     -999.0,9,     -999.0,9,     -999.0,9,     -999.0,9,     -999.0,9,     -999.0,9, -999.00,9,-999.0000,9,-999.0000,9,-999.0000,9,-999.0000,9,-999.0000,9,-999.0000,9,-999.0000, -999.00
33RR20050106,       P16S,      71,          1,         13,         13,2,20050131,       0243,   -50.9997,  -149.9978,       4888,  1761.6,   2.5796,  34.5719,2,  34.6001,4,    170.8,2,   172.4,2,   78.45,2,   33.54,2,    0.00,2,    2.35,2,   0.370,2,   0.173,2,   0.022,2,  2257.3,2,  2341.1,2,-999.000,9,-999.0000,9, -999.00,9, -999.00,9,  -999.0,9,  -999.0,-999.000,9,-999.000,-999.0000,9,  1761.6,-999.000,   2.4551,     -999.0,9,     -999.0,9,     -999.0,9,     -999.0,9,     -999.0,9,     -999.0,9,     -999.0,9, -999.00,9,-999.0000,9,-999.0000,9,-999.0000,9,-999.0000,9,-999.0000,9,-999.0000,9,-999.0000, -999.00
33RR20050106,       P16S,      71,          1,         12,         12,2,20050131,       0243,   -50.9997,  -149.9978,       4888,  1965.4,   2.4118,  34.6337,2,  34.6341,2,    172.5,2,   173.0,2,   80.06,2,   33.21,2,    0.00,2,    2.32,2,   0.270,2,   0.136,2,   0.017,2,  2257.1,2,  2342.8,2,-999.000,9,-999.0000,9, -999.00,9, -999.00,9,  -999.0,9,  -999.0,-999.000,9,-999.000,  39.6293,2,  1965.4,-999.000,   2.2721,     -999.0,9,     -999.0,9,     -999.0,9,     -999.0,9,     -999.0,9,     -999.0,9,     -999.0,9, -999.00,9,-999.0000,9,-999.0000,9,-999.0000,9,-999.0000,9,-999.0000,9,-999.0000,9,-999.0000, -999.00
33RR20050106,       P16S,      71,          1,         11,         11,2,20050131,       0243,   -50.9997,  -149.9978,       4888,  2127.6,   2.3107,  34.6686,2,  34.6679,2,    174.6,2,   175.1,2,   83.70,2,   32.73,2,    0.00,2,    2.29,2,   0.186,2,   0.092,2,  -0.002,2,  2258.3,2,  2347.5,2,-999.000,9,-999.0000,9, -999.00,9, -999.00,9,  -999.0,9,  -999.0,-999.000,9,-999.000,-999.0000,9,  2127.6,-999.000,   2.1583,     -999.0,9,     -999.0,9,     -999.0,9,     -999.0,9,     -999.0,9,     -999.0,9,     -999.0,9, -999.00,9,-999.0000,9,-999.0000,9,-999.0000,9,-999.0000,9,-999.0000,9,-999.0000,9,-999.0000, -999.00
33RR20050106,       P16S,      71,          1,         10,         10,2,20050131,       0243,   -50.9997,  -149.9978,       4888,  2380.8,   2.1705,  34.7066,2,  34.7064,2,    180.9,2,   181.6,2,   85.93,2,   31.88,2,    0.00,2,    2.22,2,   0.123,2,   0.057,2,  -0.002,2,  2255.7,2,  2349.2,2,-999.000,9,-999.0000,9, -999.00,9, -999.00,9,  -999.0,9,  -999.0,-999.000,9,-999.000,  38.1449,2,  2380.8,-999.000,   1.9977,     -999.0,9,     -999.0,9,     -999.0,9,     -999.0,9,     -999.0,9,     -999.0,9,     -999.0,9, -999.00,9,-999.0000,9,-999.0000,9,-999.0000,9,-999.0000,9,-999.0000,9,-999.0000,9,-999.0000, -999.00
33RR20050106,       P16S,      71,          1,          9,          9,2,20050131,       0243,   -50.9997,  -149.9978,       4888,  2635.9,   2.0231,  34.7311,2,  34.7310,2,    188.5,2,   189.0,2,   87.95,2,   30.97,2,    0.00,2,    2.17,2,   0.111,2,   0.051,2,  -0.002,2,  2248.6,2,  2349.0,2,-999.000,9,-999.0000,9, -999.00,9, -999.00,9,  -999.0,9,  -999.0,-999.000,9,-999.000,-999.0000,9,  2635.9,-999.000,   1.8295,     -999.0,9,     -999.0,9,     -999.0,9,     -999.0,9,     -999.0,9,     -999.0,9,     -999.0,9, -999.00,9,-999.0000,9,-999.0000,9,-999.0000,9,-999.0000,9,-999.0000,9,-999.0000,9,-999.0000, -999.00
33RR20050106,       P16S,      71,          1,          8,          8,2,20050131,       0243,   -50.9997,  -149.9978,       4888,  2889.8,   1.8308,  34.7367,2,  34.7367,2,    192.3,2,   192.9,2,   93.83,2,   31.03,2,    0.00,2,    2.16,2,   0.077,2,   0.034,2,  -0.002,2,  2249.9,2,  2353.3,2,-999.000,9,-999.0000,9, -999.00,9, -999.00,9,  -999.0,9,  -999.0,-999.000,9,-999.000,  39.4070,2,  2889.8,-999.000,   1.6170,     -999.0,9,     -999.0,9,     -999.0,9,     -999.0,9,     -999.0,9,     -999.0,9,     -999.0,9, -999.00,9,-999.0000,9,-999.0000,9,-999.0000,9,-999.0000,9,-999.0000,9,-999.0000,9,-999.0000, -999.00
33RR20050106,       P16S,      71,          1,          7,          7,2,20050131,       0243,   -50.9997,  -149.9978,       4888,  3144.3,   1.6407,  34.7351,2,  34.7352,2,    195.6,2,   195.8,2,   99.52,2,   31.13,2,    0.00,2,    2.17,2,   0.054,2,   0.023,2,  -0.002,2,  2252.2,2,  2355.3,2,-999.000,9,-999.0000,9, -999.00,9, -999.00,9,  -999.0,9,  -999.0,-999.000,9,-999.000,-999.0000,9,  3144.3,-999.000,   1.4065,     -999.0,9,     -999.0,9,     -999.0,9,     -999.0,9,     -999.0,9,     -999.0,9,     -999.0,9, -999.00,9,-999.0000,9,-999.0000,9,-999.0000,9,-999.0000,9,-999.0000,9,-999.0000,9,-999.0000, -999.00