BOTTLE,20201109CCHSIOCBG
EXPOCODE,SECT_ID,STNNBR,CASTNO,SAMPNO,BTLNBR,BTLNBR_FLAG_W,DATE,TIME,LATITUDE,LONGITUDE,DEPTH,CTDPRS,CTDTMP,CTDSAL,CTDSAL_FLAG_W,SALNTY,SALNTY_FLAG_W,CTDOXY,CTDOXY_FLAG_W,OXYGEN,OXYGEN_FLAG_W,SILCAT,SILCAT_FLAG_W,NITRAT,NITRAT_FLAG_W,NITRIT,NITRIT_FLAG_W,PHSPHT,PHSPHT_FLAG_W,CFC-11,CFC-11_FLAG_W,CFC-12,CFC-12_FLAG_W,CFC113,CFC113_FLAG_W,TCARBN,TCARBN_FLAG_W,ALKALI,ALKALI_FLAG_W,TRITUM,TRITUM_FLAG_W,HELIUM,HELIUM_FLAG_W,DELHE3,DELHE3_FLAG_W,DELC13,DELC13_FLAG_W,DELC14,DELC14_FLAG_W,C14ERR,NEON,NEON_FLAG_W,NEONER,DOC,DOC_FLAG_W,CTDRAW,TRITER,THETA,FUCO,FUCO_FLAG_W,RHAM,RHAM_FLAG_W,ARABA,ARABA_FLAG_W,GALA,GALA_FLAG_W,GLUC,GLUC_FLAG_W,MAN,MAN_FLAG_W,DCNS,DCNS_FLAG_W,BRDU,BRDU_FLAG_W,CDOM325,CDOM325_FLAG_W,CDOM340,CDOM340_FLAG_W,CDOM380,CDOM380_FLAG_W,CDOM412,CDOM412_FLAG_W,CDOMSL,CDOMSL_FLAG_W,CDOMSN,CDOMSN_FLAG_W,HELIER,DELHER
,,,,,,,,,,,METERS,DBAR,ITS-90,PSS-78,,PSS-78,,UMOL/KG,,UMOL/KG,,UMOL/KG,,UMOL/KG,,UMOL/KG,,UMOL/KG,,PMOL/KG,,PMOL/KG,,PMOL/KG,,UMOL/KG,,UMOL/KG,,TU,,NMOL/KG,,PERCNT,,/MILLE,,/MILLE,,/MILLE,NMOL/KG,,NMOL/KG,UMOL/KG,,DBAR,TU,DEG C,NMOL/KG,,NMOL/KG,,NMOL/KG,,NMOL/KG,,NMOL/KG,,NMOL/KG,,NMOL/KG,,PMOL/L/H,,1/M,,1/M,,1/M,,1/M,,1/NM,,1/NM,,NMOL/KG,PERCNT
33RR20050106,       P16S,       6,          1,          6,          6,2,20050111,       1934,   -18.4978,  -150.0007,       4121,  2947.9,   1.6953,  34.6725,2,  34.6723,2,    162.3,3,   163.5,2,  123.92,2,   35.11,2,    0.00,2,    2.49,2,-999.000,9,-999.000,9,-999.000,9,  -999.0,9,  -999.0,9,-999.000,9,-999.0000,9, -999.00,9, -999.00,9,  -999.0,9,  -999.0,-999.000,9,-999.000,-999.0000,9,  2947.9,-999.000,   1.4792,     -999.0,9,     -999.0,9,     -999.0,9,     -999.0,9,     -999.0,9,     -999.0,9,     -999.0,9, -999.00,9,-999.0000,9,-999.0000,9,-999.0000,9,-999.0000,9,-999.0000,9,-999.0000,9,-999.0000, -999.00
33RR20050106,       P16S,       6,          1,          5,          5,2,20050111,       1934,   -18.4978,  -150.0007,       4121,  3201.8,   1.5967,  34.6803,2,  34.6807,2,    166.0,3,   168.3,2,  124.35,2,   34.84,2,    0.00,2,    2.46,2,   0.007,2,   0.006,2,   0.000,2,  -999.0,9,  -999.0,9,-999.000,9,-999.0000,9, -999.00,9, -999.00,9,  -999.0,9,  -999.0,-999.000,9,-999.000,-999.0000,9,  3201.8,-999.000,   1.3581,     -999.0,9,     -999.0,9,     -999.0,9,     -999.0,9,     -999.0,9,     -999.0,9,     -999.0,9, -999.00,9,-999.0000,9,-999.0000,9,-999.0000,9,-999.0000,9,-999.0000,9,-999.0000,9,-999.0000, -999.00
33RR20050106,       P16S,       6,          1,          4,          4,2,20050111,       1934,   -18.4978,  -150.0007,       4121,  3455.8,   1.5234,  34.6862,2,  34.6872,2,    169.8,3,   173.6,2,  123.70,2,   34.30,2,    0.00,2,    2.43,2,-999.000,9,-999.000,9,-999.000,9,  -999.0,9,  -999.0,9,-999.000,9,-999.0000,9, -999.00,9, -999.00,9,  -999.0,9,  -999.0,-999.000,9,-999.000,-999.0000,9,  3455.8,-999.000,   1.2611,     -999.0,9,     -999.0,9,     -999.0,9,     -999.0,9,     -999.0,9,     -999.0,9,     -999.0,9, -999.00,9,-999.0000,9,-999.0000,9,-999.0000,9,-999.0000,9,-999.0000,9,-999.0000,9,-999.0000, -999.00
33RR20050106,       P16S,       6,          1,          3,          3,2,20050111,       1934,   -18.4978,  -150.0007,       4121,  3710.0,   1.5058,  34.6890,2,  34.6896,2,    173.2,3,   175.9,2,  123.49,2,   34.19,2,    0.00,2,    2.42,2,   0.016,3,   0.009,2,   0.000,2,  -999.0,9,  -999.0,9,-999.000,9,   1.8560,2,   18.22,2, -999.00,9,  -999.0,9,  -999.0,   7.664,4,   0.037,-999.0000,9,  3710.0,-999.000,   1.2177,     -999.0,9,     -999.0,9,     -999.0,9,     -999.0,9,     -999.0,9,     -999.0,9,     -999.0,9, -999.00,9,-999.0000,9,-999.0000,9,-999.0000,9,-999.0000,9,-999.0000,9,-999.0000,9,   0.0030,    0.17
33RR20050106,       P16S,       6,          1,          2,          2,2,20050111,       1934,   -18.4978,  -150.0007,       4121,  3964.8,   1.5183,  34.6899,2,  34.6905,2,    176.2,3,   176.6,2,  123.50,2,   34.19,2,    0.00,2,    2.41,2,-999.000,9,-999.000,9,-999.000,9,  -999.0,9,  -999.0,9,-999.000,9,-999.0000,9, -999.00,9, -999.00,9,  -999.0,9,  -999.0,-999.000,9,-999.000,-999.0000,9,  3964.8,-999.000,   1.2026,     -999.0,9,     -999.0,9,     -999.0,9,     -999.0,9,     -999.0,9,     -999.0,9,     -999.0,9, -999.00,9,-999.0000,9,-999.0000,9,-999.0000,9,-999.0000,9,-999.0000,9,-999.0000,9,-999.0000, -999.00
33RR20050106,       P16S,       6,          1,          1,          1,2,20050111,       1934,   -18.4978,  -150.0007,       4121,  4196.1,   1.5393,  34.6901,2,  34.6903,2,    179.5,3,   179.8,2,  123.50,2,   34.08,2,    0.00,2,    2.41,2,   0.014,2,   0.022,3,   0.000,2,  -999.0,9,  -999.0,9,   0.057,2,   2.0660,3,   16.66,2, -999.00,9,  -999.0,9,  -999.0,   8.582,2,   0.042,-999.0000,9,  4196.1,   0.007,   1.1975,     -999.0,9,     -999.0,9,     -999.0,9,     -999.0,9,     -999.0,9,     -999.0,9,     -999.0,9, -999.00,9,-999.0000,9,-999.0000,9,-999.0000,9,-999.0000,9,-999.0000,9,-999.0000,9,   0.0030,    0.17