BOTTLE,20201109CCHSIOCBG
EXPOCODE,SECT_ID,STNNBR,CASTNO,SAMPNO,BTLNBR,BTLNBR_FLAG_W,DATE,TIME,LATITUDE,LONGITUDE,DEPTH,CTDPRS,CTDTMP,CTDSAL,CTDSAL_FLAG_W,SALNTY,SALNTY_FLAG_W,CTDOXY,CTDOXY_FLAG_W,OXYGEN,OXYGEN_FLAG_W,SILCAT,SILCAT_FLAG_W,NITRAT,NITRAT_FLAG_W,NITRIT,NITRIT_FLAG_W,PHSPHT,PHSPHT_FLAG_W,CFC-11,CFC-11_FLAG_W,CFC-12,CFC-12_FLAG_W,CFC113,CFC113_FLAG_W,TCARBN,TCARBN_FLAG_W,ALKALI,ALKALI_FLAG_W,TRITUM,TRITUM_FLAG_W,HELIUM,HELIUM_FLAG_W,DELHE3,DELHE3_FLAG_W,DELC13,DELC13_FLAG_W,DELC14,DELC14_FLAG_W,C14ERR,NEON,NEON_FLAG_W,NEONER,DOC,DOC_FLAG_W,CTDRAW,TRITER,THETA,FUCO,FUCO_FLAG_W,RHAM,RHAM_FLAG_W,ARABA,ARABA_FLAG_W,GALA,GALA_FLAG_W,GLUC,GLUC_FLAG_W,MAN,MAN_FLAG_W,DCNS,DCNS_FLAG_W,BRDU,BRDU_FLAG_W,CDOM325,CDOM325_FLAG_W,CDOM340,CDOM340_FLAG_W,CDOM380,CDOM380_FLAG_W,CDOM412,CDOM412_FLAG_W,CDOMSL,CDOMSL_FLAG_W,CDOMSN,CDOMSN_FLAG_W,HELIER,DELHER
,,,,,,,,,,,METERS,DBAR,ITS-90,PSS-78,,PSS-78,,UMOL/KG,,UMOL/KG,,UMOL/KG,,UMOL/KG,,UMOL/KG,,UMOL/KG,,PMOL/KG,,PMOL/KG,,PMOL/KG,,UMOL/KG,,UMOL/KG,,TU,,NMOL/KG,,PERCNT,,/MILLE,,/MILLE,,/MILLE,NMOL/KG,,NMOL/KG,UMOL/KG,,DBAR,TU,DEG C,NMOL/KG,,NMOL/KG,,NMOL/KG,,NMOL/KG,,NMOL/KG,,NMOL/KG,,NMOL/KG,,PMOL/L/H,,1/M,,1/M,,1/M,,1/M,,1/NM,,1/NM,,NMOL/KG,PERCNT
33RR20050106,       P16S,      11,          2,         36,         36,2,20050113,       0430,   -21.0002,  -149.9997,       4283,     2.2,  28.4404,  35.7028,2,  35.7067,2,   -999.0,5,   199.8,2,    0.67,2,    0.05,2,    0.00,2,    0.16,2,-999.000,9,-999.000,9,-999.000,9,  1996.6,6,  2363.3,6,-999.000,9,-999.0000,9, -999.00,9, -999.00,5,    64.7,6,     7.5,-999.000,9,-999.000,  72.9086,2,     2.2,-999.000,  28.4399,     -999.0,9,     -999.0,9,     -999.0,9,     -999.0,9,     -999.0,9,     -999.0,9,     -999.0,9, -999.00,9,-999.0000,9,-999.0000,9,-999.0000,9,-999.0000,9,-999.0000,9,-999.0000,9,-999.0000, -999.00
33RR20050106,       P16S,      11,          2,         35,         35,2,20050113,       0430,   -21.0002,  -149.9997,       4283,    40.7,  26.5472,  35.7263,2,  35.7246,2,   -999.0,5,   205.2,2,    0.66,2,    0.05,2,    0.00,2,    0.16,2,   1.710,2,   1.088,2,   0.157,2,  2000.2,2,  2345.6,2,-999.000,9,-999.0000,9, -999.00,9, -999.00,9,  -999.0,9,  -999.0,-999.000,9,-999.000,  71.6766,2,    40.7,-999.000,  26.5380,     -999.0,9,     -999.0,9,     -999.0,9,     -999.0,9,     -999.0,9,     -999.0,9,     -999.0,9, -999.00,9,-999.0000,9,-999.0000,9,-999.0000,9,-999.0000,9,-999.0000,9,-999.0000,9,-999.0000, -999.00
33RR20050106,       P16S,      11,          2,         34,         34,2,20050113,       0430,   -21.0002,  -149.9997,       4283,    75.4,  24.8329,  35.7557,2,  35.7552,2,   -999.0,5,   212.3,2,    0.67,2,    0.05,2,    0.00,2,    0.22,2,-999.000,9,-999.000,9,-999.000,9,  2003.4,2,  2346.2,2,-999.000,9,-999.0000,9, -999.00,9, -999.00,5,    82.9,2,     4.4,-999.000,9,-999.000,  70.7908,2,    75.4,-999.000,  24.8166,     -999.0,9,     -999.0,9,     -999.0,9,     -999.0,9,     -999.0,9,     -999.0,9,     -999.0,9, -999.00,9,-999.0000,9,-999.0000,9,-999.0000,9,-999.0000,9,-999.0000,9,-999.0000,9,-999.0000, -999.00
33RR20050106,       P16S,      11,          2,         33,         33,2,20050113,       0430,   -21.0002,  -149.9997,       4283,   125.6,  22.2572,  35.6434,2,  35.6401,2,   -999.0,5,   204.6,2,    0.47,2,    0.05,2,    0.00,2,    0.14,2,   2.018,2,   1.263,2,   0.174,2,  2027.1,2,  2337.5,2,-999.000,9,-999.0000,9, -999.00,9, -999.00,9,  -999.0,9,  -999.0,-999.000,9,-999.000,  62.1426,2,   125.6,-999.000,  22.2321,     -999.0,9,     -999.0,9,     -999.0,9,     -999.0,9,     -999.0,9,     -999.0,9,     -999.0,9, -999.00,9,-999.0000,9,-999.0000,9,-999.0000,9,-999.0000,9,-999.0000,9,-999.0000,9,-999.0000, -999.00
33RR20050106,       P16S,      11,          2,         32,         32,2,20050113,       0430,   -21.0002,  -149.9997,       4283,   175.4,  20.6315,  35.6683,2,  35.6700,2,   -999.0,5,   185.5,2,    0.68,2,    1.88,2,    0.05,2,    0.29,2,-999.000,9,-999.000,9,-999.000,9,  2062.6,2,  2338.8,2,-999.000,9,-999.0000,9, -999.00,9, -999.00,5,    99.8,2,     3.3,-999.000,9,-999.000,  53.9015,2,   175.4,-999.000,  20.5982,     -999.0,9,     -999.0,9,     -999.0,9,     -999.0,9,     -999.0,9,     -999.0,9,     -999.0,9, -999.00,9,-999.0000,9,-999.0000,9,-999.0000,9,-999.0000,9,-999.0000,9,-999.0000,9,-999.0000, -999.00
33RR20050106,       P16S,      11,          2,         31,         31,2,20050113,       0430,   -21.0002,  -149.9997,       4283,   225.4,  19.0650,  35.5597,2,  35.5559,2,   -999.0,5,   189.3,2,    0.89,2,    2.70,2,    0.01,2,    0.34,2,   2.263,2,   1.362,2,   0.032,2,  2070.8,2,  2330.9,2,-999.000,9,-999.0000,9, -999.00,9, -999.00,5,   108.5,2,     3.7,-999.000,9,-999.000,  48.6057,2,   225.4,-999.000,  19.0245,     -999.0,9,     -999.0,9,     -999.0,9,     -999.0,9,     -999.0,9,     -999.0,9,     -999.0,9, -999.00,9,-999.0000,9,-999.0000,9,-999.0000,9,-999.0000,9,-999.0000,9,-999.0000,9,-999.0000, -999.00
33RR20050106,       P16S,      11,          2,         30,         30,2,20050113,       0430,   -21.0002,  -149.9997,       4283,   275.3,  17.1705,  35.3847,2,  35.3909,2,   -999.0,5,   187.4,2,    1.31,2,    5.00,2,    0.01,2,    0.49,2,-999.000,9,-999.000,9,-999.000,9,  2085.4,2,  2320.3,2,-999.000,9,-999.0000,9, -999.00,9, -999.00,9,  -999.0,9,  -999.0,-999.000,9,-999.000,  48.9070,2,   275.3,-999.000,  17.1245,     -999.0,9,     -999.0,9,     -999.0,9,     -999.0,9,     -999.0,9,     -999.0,9,     -999.0,9, -999.00,9,-999.0000,9,-999.0000,9,-999.0000,9,-999.0000,9,-999.0000,9,-999.0000,9,-999.0000, -999.00
33RR20050106,       P16S,      11,          2,         29,         29,2,20050113,       0430,   -21.0002,  -149.9997,       4283,   325.3,  15.0230,  35.1313,2,  35.1371,2,   -999.0,5,   181.7,2,    2.76,2,    8.56,2,    0.00,2,    0.73,2,   2.293,2,   1.294,2,   0.012,2,  2102.8,2,  2307.1,2,-999.000,9,-999.0000,9, -999.00,9, -999.00,5,    91.3,2,     3.0,-999.000,9,-999.000,  45.7502,2,   325.3,-999.000,  14.9734,     -999.0,9,     -999.0,9,     -999.0,9,     -999.0,9,     -999.0,9,     -999.0,9,     -999.0,9, -999.00,9,-999.0000,9,-999.0000,9,-999.0000,9,-999.0000,9,-999.0000,9,-999.0000,9,-999.0000, -999.00
33RR20050106,       P16S,      11,          2,         28,         28,2,20050113,       0430,   -21.0002,  -149.9997,       4283,   375.6,  13.6180,  35.0054,2,  35.0017,2,   -999.0,5,   192.9,2,    2.55,2,    9.87,2,    0.00,2,    0.79,2,-999.000,9,-999.000,9,-999.000,9,  2105.2,2,  2301.1,2,-999.000,9,-999.0000,9, -999.00,9, -999.00,9,  -999.0,9,  -999.0,-999.000,9,-999.000,  47.7640,2,   375.6,-999.000,  13.5644,     -999.0,9,     -999.0,9,     -999.0,9,     -999.0,9,     -999.0,9,     -999.0,9,     -999.0,9, -999.00,9,-999.0000,9,-999.0000,9,-999.0000,9,-999.0000,9,-999.0000,9,-999.0000,9,-999.0000, -999.00
33RR20050106,       P16S,      11,          2,         27,         27,2,20050113,       0430,   -21.0002,  -149.9997,       4283,   425.4,  11.2083,  34.7404,2,  34.7369,2,   -999.0,5,   193.9,2,    4.41,2,   14.92,2,    0.00,2,    1.12,2,   2.202,2,   1.175,2,   0.028,2,  2124.1,2,  2287.1,2,-999.000,9,-999.0000,9, -999.00,9, -999.00,5,    74.9,2,     3.0,-999.000,9,-999.000,-999.0000,9,   425.4,-999.000,  11.1548,     -999.0,9,     -999.0,9,     -999.0,9,     -999.0,9,     -999.0,9,     -999.0,9,     -999.0,9, -999.00,9,-999.0000,9,-999.0000,9,-999.0000,9,-999.0000,9,-999.0000,9,-999.0000,9,-999.0000, -999.00
33RR20050106,       P16S,      11,          2,         26,         26,2,20050113,       0430,   -21.0002,  -149.9997,       4283,   475.5,   9.7390,  34.6002,2,  34.6010,2,   -999.0,5,   199.6,2,    5.46,2,   17.77,2,    0.00,2,    1.30,2,-999.000,9,-999.000,9,-999.000,9,  2133.3,2,  2283.9,2,-999.000,9,-999.0000,9, -999.00,9, -999.00,9,  -999.0,9,  -999.0,-999.000,9,-999.000,  46.2050,2,   475.5,-999.000,   9.6842,     -999.0,9,     -999.0,9,     -999.0,9,     -999.0,9,     -999.0,9,     -999.0,9,     -999.0,9, -999.00,9,-999.0000,9,-999.0000,9,-999.0000,9,-999.0000,9,-999.0000,9,-999.0000,9,-999.0000, -999.00
33RR20050106,       P16S,      11,          2,         25,         25,2,20050113,       0430,   -21.0002,  -149.9997,       4283,   526.0,   7.8704,  34.4353,2,  34.4323,2,   -999.0,5,   208.8,2,    7.74,2,   22.06,2,    0.00,2,    1.58,2,   1.904,2,   0.976,2,   0.038,2,  2146.6,6,  2277.6,2,-999.000,9,-999.0000,9, -999.00,9, -999.00,5,    34.5,2,     3.2,-999.000,9,-999.000,  42.0196,2,   526.0,-999.000,   7.8170,     -999.0,9,     -999.0,9,     -999.0,9,     -999.0,9,     -999.0,9,     -999.0,9,     -999.0,9, -999.00,9,-999.0000,9,-999.0000,9,-999.0000,9,-999.0000,9,-999.0000,9,-999.0000,9,-999.0000, -999.00
33RR20050106,       P16S,      11,          2,         24,         24,2,20050113,       0430,   -21.0002,  -149.9997,       4283,   646.2,   5.9685,  34.3247,2,  34.3257,2,   -999.0,5,   220.1,2,   12.92,2,   26.28,2,    0.00,2,    1.82,2,-999.000,9,-999.000,9,-999.000,9,  2158.8,2,  2280.1,2,-999.000,9,-999.0000,9, -999.00,9, -999.00,5,   -20.3,2,     2.9,-999.000,9,-999.000,  41.8848,2,   646.2,-999.000,   5.9117,     -999.0,9,     -999.0,9,     -999.0,9,     -999.0,9,     -999.0,9,     -999.0,9,     -999.0,9, -999.00,9,-999.0000,9,-999.0000,9,-999.0000,9,-999.0000,9,-999.0000,9,-999.0000,9,-999.0000, -999.00
33RR20050106,       P16S,      11,          2,         23,         23,2,20050113,       0430,   -21.0002,  -149.9997,       4283,   746.8,   5.2062,  34.3358,2,  34.3361,2,   -999.0,5,   191.5,2,   24.99,2,   30.40,2,    0.00,2,    2.11,2,   0.439,2,   0.244,2,   0.001,2,  2187.1,2,  2288.6,2,-999.000,9,-999.0000,9, -999.00,9, -999.00,5,   -69.3,2,     2.9,-999.000,9,-999.000,  39.0531,2,   746.8,-999.000,   5.1444,     -999.0,9,     -999.0,9,     -999.0,9,     -999.0,9,     -999.0,9,     -999.0,9,     -999.0,9, -999.00,9,-999.0000,9,-999.0000,9,-999.0000,9,-999.0000,9,-999.0000,9,-999.0000,9,-999.0000, -999.00
33RR20050106,       P16S,      11,          2,         22,         22,2,20050113,       0430,   -21.0002,  -149.9997,       4283,   847.1,   4.5950,  34.3695,2,  34.3684,2,   -999.0,5,   175.9,2,   37.31,2,   32.60,2,    0.00,2,    2.28,2,-999.000,9,-999.000,9,-999.000,9,  2209.0,2,  2301.6,2,-999.000,9,-999.0000,9, -999.00,9, -999.00,5,  -101.2,2,     2.5,-999.000,9,-999.000,-999.0000,9,   847.1,-999.000,   4.5282,     -999.0,9,     -999.0,9,     -999.0,9,     -999.0,9,     -999.0,9,     -999.0,9,     -999.0,9, -999.00,9,-999.0000,9,-999.0000,9,-999.0000,9,-999.0000,9,-999.0000,9,-999.0000,9,-999.0000, -999.00
33RR20050106,       P16S,      11,          2,         21,         21,2,20050113,       0430,   -21.0002,  -149.9997,       4283,   947.5,   4.1763,  34.4043,2,  34.4154,2,   -999.0,5,   165.4,2,   47.79,2,   33.95,2,    0.00,2,    2.39,2,   0.102,2,   0.071,2,   0.001,2,  2227.0,2,  2311.9,2,-999.000,9,-999.0000,9, -999.00,9, -999.00,5,  -129.7,2,     2.4,-999.000,9,-999.000,  38.1304,2,   947.5,-999.000,   4.1038,     -999.0,9,     -999.0,9,     -999.0,9,     -999.0,9,     -999.0,9,     -999.0,9,     -999.0,9, -999.00,9,-999.0000,9,-999.0000,9,-999.0000,9,-999.0000,9,-999.0000,9,-999.0000,9,-999.0000, -999.00
33RR20050106,       P16S,      11,          2,         20,         20,2,20050113,       0430,   -21.0002,  -149.9997,       4283,  1048.1,   3.7838,  34.4734,2,  34.4729,2,   -999.0,5,   150.9,2,   64.62,2,   35.13,2,    0.00,2,    2.49,2,-999.000,9,-999.000,9,-999.000,9,  2249.9,2,  2332.1,2,-999.000,9,-999.0000,9, -999.00,9, -999.00,5,  -153.2,2,     2.7,-999.000,9,-999.000,  39.0399,2,  1048.1,-999.000,   3.7059,     -999.0,9,     -999.0,9,     -999.0,9,     -999.0,9,     -999.0,9,     -999.0,9,     -999.0,9, -999.00,9,-999.0000,9,-999.0000,9,-999.0000,9,-999.0000,9,-999.0000,9,-999.0000,9,-999.0000, -999.00
33RR20050106,       P16S,      11,          2,         19,         19,2,20050113,       0430,   -21.0002,  -149.9997,       4283,  1148.8,   3.4102,  34.5100,2,  34.5091,2,   -999.0,5,   149.7,2,   75.38,2,   35.35,2,    0.00,2,    2.51,2,   0.085,2,   0.058,2,   0.008,2,  2261.3,2,  2342.1,2,-999.000,9,-999.0000,9, -999.00,9, -999.00,5,  -169.9,2,     3.0,-999.000,9,-999.000,-999.0000,9,  1148.8,-999.000,   3.3272,     -999.0,9,     -999.0,9,     -999.0,9,     -999.0,9,     -999.0,9,     -999.0,9,     -999.0,9, -999.00,9,-999.0000,9,-999.0000,9,-999.0000,9,-999.0000,9,-999.0000,9,-999.0000,9,-999.0000, -999.00
33RR20050106,       P16S,      11,          2,         18,         18,2,20050113,       0430,   -21.0002,  -149.9997,       4283,  1250.1,   3.1888,  34.5321,2,  34.5332,2,   -999.0,5,   149.1,2,   82.37,2,   35.50,2,    0.00,2,    2.53,2,-999.000,9,-999.000,9,-999.000,9,  2268.5,2,  2349.5,6,-999.000,9,-999.0000,9, -999.00,9, -999.00,5,  -175.5,2,     2.6,-999.000,9,-999.000,  36.8904,2,  1250.1,-999.000,   3.0996,     -999.0,9,     -999.0,9,     -999.0,9,     -999.0,9,     -999.0,9,     -999.0,9,     -999.0,9, -999.00,9,-999.0000,9,-999.0000,9,-999.0000,9,-999.0000,9,-999.0000,9,-999.0000,9,-999.0000, -999.00
33RR20050106,       P16S,      11,          2,         17,         17,2,20050113,       0430,   -21.0002,  -149.9997,       4283,  1349.7,   2.9857,  34.5515,2,  34.5507,2,   -999.0,5,   148.8,2,   88.30,2,   35.61,2,    0.00,2,    2.53,2,   0.006,2,   0.010,2,   0.001,2,  2274.5,2,  2357.3,2,-999.000,9,-999.0000,9, -999.00,9, -999.00,5,  -181.9,2,     2.8,-999.000,9,-999.000,-999.0000,9,  1349.7,-999.000,   2.8904,     -999.0,9,     -999.0,9,     -999.0,9,     -999.0,9,     -999.0,9,     -999.0,9,     -999.0,9, -999.00,9,-999.0000,9,-999.0000,9,-999.0000,9,-999.0000,9,-999.0000,9,-999.0000,9,-999.0000, -999.00
33RR20050106,       P16S,      11,          2,         16,         16,2,20050113,       0430,   -21.0002,  -149.9997,       4283,  1451.2,   2.7362,  34.5743,2,  34.5752,2,   -999.0,5,   149.1,2,   95.94,2,   35.66,2,    0.00,2,    2.53,2,-999.000,9,-999.000,9,-999.000,9,  2282.5,2,  2365.7,2,-999.000,9,-999.0000,9, -999.00,9, -999.00,5,  -193.3,2,     2.6,-999.000,9,-999.000,-999.0000,9,  1451.2,-999.000,   2.6353,     -999.0,9,     -999.0,9,     -999.0,9,     -999.0,9,     -999.0,9,     -999.0,9,     -999.0,9, -999.00,9,-999.0000,9,-999.0000,9,-999.0000,9,-999.0000,9,-999.0000,9,-999.0000,9,-999.0000, -999.00
33RR20050106,       P16S,      11,          2,         15,         15,2,20050113,       0430,   -21.0002,  -149.9997,       4283,  1551.5,   2.5843,  34.5897,2,  34.5903,2,   -999.0,5,   148.9,2,  100.83,2,   35.72,2,    0.00,2,    2.54,2,   0.006,2,   0.008,2,   0.001,2,  2288.3,2,  2371.7,2,-999.000,9,-999.0000,9, -999.00,9, -999.00,9,  -999.0,9,  -999.0,-999.000,9,-999.000,  36.2240,2,  1551.5,-999.000,   2.4770,     -999.0,9,     -999.0,9,     -999.0,9,     -999.0,9,     -999.0,9,     -999.0,9,     -999.0,9, -999.00,9,-999.0000,9,-999.0000,9,-999.0000,9,-999.0000,9,-999.0000,9,-999.0000,9,-999.0000, -999.00
33RR20050106,       P16S,      11,          2,         14,         14,2,20050113,       0430,   -21.0002,  -149.9997,       4283,  1652.5,   2.4556,  34.6019,2,  34.6042,2,   -999.0,5,   149.0,2,  105.08,2,   35.72,2,    0.00,2,    2.54,2,-999.000,9,-999.000,9,-999.000,9,  2292.3,2,  2376.1,2,-999.000,9,-999.0000,9, -999.00,9, -999.00,9,  -999.0,9,  -999.0,-999.000,9,-999.000,-999.0000,9,  1652.5,-999.000,   2.3416,     -999.0,9,     -999.0,9,     -999.0,9,     -999.0,9,     -999.0,9,     -999.0,9,     -999.0,9, -999.00,9,-999.0000,9,-999.0000,9,-999.0000,9,-999.0000,9,-999.0000,9,-999.0000,9,-999.0000, -999.00
33RR20050106,       P16S,      11,          2,         13,         13,2,20050113,       0430,   -21.0002,  -149.9997,       4283,  1753.8,   2.3287,  34.6143,2,  34.6151,2,   -999.0,5,   149.2,2,  109.35,2,   35.81,2,    0.00,2,    2.54,2,   0.007,2,  -0.001,2,   0.001,2,  2297.4,2,  2382.1,2,-999.000,9,-999.0000,9, -999.00,9, -999.00,9,  -999.0,9,  -999.0,-999.000,9,-999.000,  36.2496,2,  1753.8,-999.000,   2.2081,     -999.0,9,     -999.0,9,     -999.0,9,     -999.0,9,     -999.0,9,     -999.0,9,     -999.0,9, -999.00,9,-999.0000,9,-999.0000,9,-999.0000,9,-999.0000,9,-999.0000,9,-999.0000,9,-999.0000, -999.00
33RR20050106,       P16S,      11,          2,         12,         12,2,20050113,       0430,   -21.0002,  -149.9997,       4283,  1956.0,   2.1321,  34.6335,2,  34.6344,2,   -999.0,5,   149.8,2,  116.17,2,   35.81,2,    0.00,2,    2.54,2,-999.000,9,-999.000,9,-999.000,9,  2303.5,2,  2387.1,2,-999.000,9,-999.0000,9, -999.00,9, -999.00,9,  -999.0,9,  -999.0,-999.000,9,-999.000,-999.0000,9,  1956.0,-999.000,   1.9973,     -999.0,9,     -999.0,9,     -999.0,9,     -999.0,9,     -999.0,9,     -999.0,9,     -999.0,9, -999.00,9,-999.0000,9,-999.0000,9,-999.0000,9,-999.0000,9,-999.0000,9,-999.0000,9,-999.0000, -999.00
33RR20050106,       P16S,      11,          2,         11,         11,2,20050113,       0430,   -21.0002,  -149.9997,       4283,  2116.7,   2.0483,  34.6418,2,  34.6424,2,   -999.0,5,   150.1,2,  119.16,2,   35.82,2,    0.00,2,    2.54,2,   0.010,2,   0.006,2,   0.001,2,  2305.7,2,  2392.5,2,-999.000,9,-999.0000,9, -999.00,9, -999.00,9,  -999.0,9,  -999.0,-999.000,9,-999.000,  37.1337,2,  2116.7,-999.000,   1.9011,     -999.0,9,     -999.0,9,     -999.0,9,     -999.0,9,     -999.0,9,     -999.0,9,     -999.0,9, -999.00,9,-999.0000,9,-999.0000,9,-999.0000,9,-999.0000,9,-999.0000,9,-999.0000,9,-999.0000, -999.00
33RR20050106,       P16S,      11,          2,         10,         10,2,20050113,       0430,   -21.0002,  -149.9997,       4283,  2369.8,   1.9061,  34.6548,2,  34.6546,2,   -999.0,5,   152.5,2,  123.01,2,   35.71,2,    0.00,2,    2.54,2,-999.000,9,-999.000,9,-999.000,9,  2308.4,2,  2394.1,2,-999.000,9,-999.0000,9, -999.00,9, -999.00,9,  -999.0,9,  -999.0,-999.000,9,-999.000,-999.0000,9,  2369.8,-999.000,   1.7392,     -999.0,9,     -999.0,9,     -999.0,9,     -999.0,9,     -999.0,9,     -999.0,9,     -999.0,9, -999.00,9,-999.0000,9,-999.0000,9,-999.0000,9,-999.0000,9,-999.0000,9,-999.0000,9,-999.0000, -999.00
33RR20050106,       P16S,      11,          2,          9,          9,2,20050113,       0430,   -21.0002,  -149.9997,       4283,  2622.8,   1.8099,  34.6632,2,  34.6647,2,   -999.0,5,   155.4,2,  124.94,2,   35.49,2,    0.00,2,    2.53,2,-999.000,9,-999.000,9,-999.000,9,  2308.2,2,  2394.9,2,-999.000,9,-999.0000,9, -999.00,9, -999.00,9,  -999.0,9,  -999.0,-999.000,9,-999.000,  38.6587,2,  2622.8,-999.000,   1.6219,     -999.0,9,     -999.0,9,     -999.0,9,     -999.0,9,     -999.0,9,     -999.0,9,     -999.0,9, -999.00,9,-999.0000,9,-999.0000,9,-999.0000,9,-999.0000,9,-999.0000,9,-999.0000,9,-999.0000, -999.00
33RR20050106,       P16S,      11,          2,          8,          8,2,20050113,       0430,   -21.0002,  -149.9997,       4283,  2877.2,   1.7195,  34.6709,2,  34.6704,2,   -999.0,5,   159.6,2,  125.59,2,   35.27,2,    0.00,2,    2.50,2,-999.000,9,-999.000,9,-999.000,9,  2306.9,2,  2395.8,2,-999.000,9,-999.0000,9, -999.00,9, -999.00,9,  -999.0,9,  -999.0,-999.000,9,-999.000,-999.0000,9,  2877.2,-999.000,   1.5096,     -999.0,9,     -999.0,9,     -999.0,9,     -999.0,9,     -999.0,9,     -999.0,9,     -999.0,9, -999.00,9,-999.0000,9,-999.0000,9,-999.0000,9,-999.0000,9,-999.0000,9,-999.0000,9,-999.0000, -999.00
33RR20050106,       P16S,      11,          2,          7,          7,2,20050113,       0430,   -21.0002,  -149.9997,       4283,  3130.7,   1.6141,  34.6793,2,  34.6800,2,   -999.0,5,   165.9,2,  125.61,2,   34.84,2,    0.00,2,    2.47,2,-999.000,9,-999.000,9,-999.000,9,  2302.5,2,  2393.2,2,-999.000,9,-999.0000,9, -999.00,9, -999.00,9,  -999.0,9,  -999.0,-999.000,9,-999.000,  37.4774,2,  3130.7,-999.000,   1.3821,     -999.0,9,     -999.0,9,     -999.0,9,     -999.0,9,     -999.0,9,     -999.0,9,     -999.0,9, -999.00,9,-999.0000,9,-999.0000,9,-999.0000,9,-999.0000,9,-999.0000,9,-999.0000,9,-999.0000, -999.00