BOTTLE,20201109CCHSIOCBG
EXPOCODE,SECT_ID,STNNBR,CASTNO,SAMPNO,BTLNBR,BTLNBR_FLAG_W,DATE,TIME,LATITUDE,LONGITUDE,DEPTH,CTDPRS,CTDTMP,CTDSAL,CTDSAL_FLAG_W,SALNTY,SALNTY_FLAG_W,CTDOXY,CTDOXY_FLAG_W,OXYGEN,OXYGEN_FLAG_W,SILCAT,SILCAT_FLAG_W,NITRAT,NITRAT_FLAG_W,NITRIT,NITRIT_FLAG_W,PHSPHT,PHSPHT_FLAG_W,CFC-11,CFC-11_FLAG_W,CFC-12,CFC-12_FLAG_W,CFC113,CFC113_FLAG_W,TCARBN,TCARBN_FLAG_W,ALKALI,ALKALI_FLAG_W,TRITUM,TRITUM_FLAG_W,HELIUM,HELIUM_FLAG_W,DELHE3,DELHE3_FLAG_W,DELC13,DELC13_FLAG_W,DELC14,DELC14_FLAG_W,C14ERR,NEON,NEON_FLAG_W,NEONER,DOC,DOC_FLAG_W,CTDRAW,TRITER,THETA,FUCO,FUCO_FLAG_W,RHAM,RHAM_FLAG_W,ARABA,ARABA_FLAG_W,GALA,GALA_FLAG_W,GLUC,GLUC_FLAG_W,MAN,MAN_FLAG_W,DCNS,DCNS_FLAG_W,BRDU,BRDU_FLAG_W,CDOM325,CDOM325_FLAG_W,CDOM340,CDOM340_FLAG_W,CDOM380,CDOM380_FLAG_W,CDOM412,CDOM412_FLAG_W,CDOMSL,CDOMSL_FLAG_W,CDOMSN,CDOMSN_FLAG_W,HELIER,DELHER
,,,,,,,,,,,METERS,DBAR,ITS-90,PSS-78,,PSS-78,,UMOL/KG,,UMOL/KG,,UMOL/KG,,UMOL/KG,,UMOL/KG,,UMOL/KG,,PMOL/KG,,PMOL/KG,,PMOL/KG,,UMOL/KG,,UMOL/KG,,TU,,NMOL/KG,,PERCNT,,/MILLE,,/MILLE,,/MILLE,NMOL/KG,,NMOL/KG,UMOL/KG,,DBAR,TU,DEG C,NMOL/KG,,NMOL/KG,,NMOL/KG,,NMOL/KG,,NMOL/KG,,NMOL/KG,,NMOL/KG,,PMOL/L/H,,1/M,,1/M,,1/M,,1/M,,1/NM,,1/NM,,NMOL/KG,PERCNT
33RR20050106,       P16S,      51,          1,          6,          6,2,20050124,       1328,   -40.9995,  -150.0000,       5122,  3908.3,   1.3867,  34.7177,2,  34.7177,2,    194.6,2,   195.5,2,  112.21,2,   32.07,2,    0.00,2,    2.24,2,   0.001,2,   0.012,2,   0.002,2,  2267.7,2,  2365.8,2,-999.000,9,-999.0000,9, -999.00,9, -999.00,9,  -999.0,9,  -999.0,-999.000,9,-999.000,  38.1458,2,  3908.3,-999.000,   1.0806,     -999.0,9,     -999.0,9,     -999.0,9,     -999.0,9,     -999.0,9,     -999.0,9,     -999.0,9, -999.00,9,   0.1070,2,   0.0710,2,   0.0360,2,   0.0260,2,   0.0184,2,   0.0207,2,-999.0000, -999.00
33RR20050106,       P16S,      51,          1,          5,          5,2,20050124,       1328,   -40.9995,  -150.0000,       5122,  4216.1,   1.2317,  34.7156,2,  34.7158,2,    198.9,2,   199.7,2,  114.27,2,   32.18,2,    0.00,2,    2.24,2,   0.005,2,   0.008,2,   0.002,2,  2267.4,2,  2368.8,2,-999.000,9,-999.0000,9, -999.00,9, -999.00,9,  -999.0,9,  -999.0,-999.000,9,-999.000,-999.0000,9,  4216.1,-999.000,   0.8966,     -999.0,9,     -999.0,9,     -999.0,9,     -999.0,9,     -999.0,9,     -999.0,9,     -999.0,9, -999.00,9,-999.0000,9,-999.0000,9,-999.0000,9,-999.0000,9,-999.0000,9,-999.0000,9,-999.0000, -999.00
33RR20050106,       P16S,      51,          1,          4,          4,2,20050124,       1328,   -40.9995,  -150.0000,       5122,  4522.9,   1.1793,  34.7143,2,  34.7142,2,    200.8,2,   201.7,2,  117.78,2,   32.18,2,    0.00,2,    2.23,2,   0.009,2,   0.013,2,   0.002,2,  2267.9,2,  2371.9,2,-999.000,9,-999.0000,9, -999.00,9, -999.00,9,  -999.0,9,  -999.0,-999.000,9,-999.000,  39.1513,2,  4522.9,-999.000,   0.8114,     -999.0,9,     -999.0,9,     -999.0,9,     -999.0,9,     -999.0,9,     -999.0,9,     -999.0,9, -999.00,9,   0.1070,2,   0.0710,2,   0.0370,2,   0.0260,2,   0.0180,2,   0.0203,2,-999.0000, -999.00
33RR20050106,       P16S,      51,          1,          3,          3,2,20050124,       1328,   -40.9995,  -150.0000,       5122,  4830.1,   1.1746,  34.7134,2,  34.7134,2,    201.5,2,   202.7,2,  118.81,2,   32.24,2,    0.00,2,    2.23,2,   0.038,3,   0.031,3,   0.002,2,  2268.8,2,  2372.4,2,-999.000,9,-999.0000,9, -999.00,9, -999.00,9,  -999.0,9,  -999.0,-999.000,9,-999.000,-999.0000,9,  4830.1,-999.000,   0.7713,     -999.0,9,     -999.0,9,     -999.0,9,     -999.0,9,     -999.0,9,     -999.0,9,     -999.0,9, -999.00,9,-999.0000,9,-999.0000,9,-999.0000,9,-999.0000,9,-999.0000,9,-999.0000,9,-999.0000, -999.00
33RR20050106,       P16S,      51,          1,          2,          2,2,20050124,       1328,   -40.9995,  -150.0000,       5122,  5056.3,   1.1893,  34.7129,2,  34.7136,2,    201.5,2,   201.9,2,  119.22,2,   32.34,2,    0.00,2,    2.23,2,   0.006,2,   0.014,2,   0.002,2,  2269.1,2,  2372.5,2,-999.000,9,-999.0000,9, -999.00,9, -999.00,9,  -999.0,9,  -999.0,-999.000,9,-999.000,-999.0000,9,  5056.3,-999.000,   0.7585,     -999.0,9,     -999.0,9,     -999.0,9,     -999.0,9,     -999.0,9,     -999.0,9,     -999.0,9, -999.00,9,-999.0000,9,-999.0000,9,-999.0000,9,-999.0000,9,-999.0000,9,-999.0000,9,-999.0000, -999.00
33RR20050106,       P16S,      51,          1,          1,          1,2,20050124,       1328,   -40.9995,  -150.0000,       5122,  5261.8,   1.1949,  34.7124,2,  34.7127,2,    202.2,2,   202.7,2,  119.22,2,   32.29,2,    0.00,2,    2.24,2,   0.006,2,  -0.002,2,   0.002,2,  2268.6,6,  2370.5,6,-999.000,9,-999.0000,9, -999.00,9, -999.00,9,  -999.0,9,  -999.0,-999.000,9,-999.000,  37.5574,2,  5261.8,-999.000,   0.7389,     -999.0,9,     -999.0,9,     -999.0,9,     -999.0,9,     -999.0,9,     -999.0,9,     -999.0,9, -999.00,9,   0.1160,2,   0.0790,2,   0.0420,2,   0.0290,2,   0.0163,2,   0.0183,2,-999.0000, -999.00