BOTTLE,20201109CCHSIOCBG
EXPOCODE,SECT_ID,STNNBR,CASTNO,SAMPNO,BTLNBR,BTLNBR_FLAG_W,DATE,TIME,LATITUDE,LONGITUDE,DEPTH,CTDPRS,CTDTMP,CTDSAL,CTDSAL_FLAG_W,SALNTY,SALNTY_FLAG_W,CTDOXY,CTDOXY_FLAG_W,OXYGEN,OXYGEN_FLAG_W,SILCAT,SILCAT_FLAG_W,NITRAT,NITRAT_FLAG_W,NITRIT,NITRIT_FLAG_W,PHSPHT,PHSPHT_FLAG_W,CFC-11,CFC-11_FLAG_W,CFC-12,CFC-12_FLAG_W,CFC113,CFC113_FLAG_W,TCARBN,TCARBN_FLAG_W,ALKALI,ALKALI_FLAG_W,TRITUM,TRITUM_FLAG_W,HELIUM,HELIUM_FLAG_W,DELHE3,DELHE3_FLAG_W,DELC13,DELC13_FLAG_W,DELC14,DELC14_FLAG_W,C14ERR,NEON,NEON_FLAG_W,NEONER,DOC,DOC_FLAG_W,CTDRAW,TRITER,THETA,FUCO,FUCO_FLAG_W,RHAM,RHAM_FLAG_W,ARABA,ARABA_FLAG_W,GALA,GALA_FLAG_W,GLUC,GLUC_FLAG_W,MAN,MAN_FLAG_W,DCNS,DCNS_FLAG_W,BRDU,BRDU_FLAG_W,CDOM325,CDOM325_FLAG_W,CDOM340,CDOM340_FLAG_W,CDOM380,CDOM380_FLAG_W,CDOM412,CDOM412_FLAG_W,CDOMSL,CDOMSL_FLAG_W,CDOMSN,CDOMSN_FLAG_W,HELIER,DELHER
,,,,,,,,,,,METERS,DBAR,ITS-90,PSS-78,,PSS-78,,UMOL/KG,,UMOL/KG,,UMOL/KG,,UMOL/KG,,UMOL/KG,,UMOL/KG,,PMOL/KG,,PMOL/KG,,PMOL/KG,,UMOL/KG,,UMOL/KG,,TU,,NMOL/KG,,PERCNT,,/MILLE,,/MILLE,,/MILLE,NMOL/KG,,NMOL/KG,UMOL/KG,,DBAR,TU,DEG C,NMOL/KG,,NMOL/KG,,NMOL/KG,,NMOL/KG,,NMOL/KG,,NMOL/KG,,NMOL/KG,,PMOL/L/H,,1/M,,1/M,,1/M,,1/M,,1/NM,,1/NM,,NMOL/KG,PERCNT
33RR20050106,       P16S,      31,          2,         36,         36,2,20050118,       1537,   -31.0000,  -150.0000,       4236,     4.5,  22.7436,  35.3906,2,  35.3898,2,    215.4,2,   216.1,2,    0.41,2,    0.06,2,    0.00,2,    0.09,2,   2.104,2,   1.300,2,   0.275,2,  2029.1,6,  2319.4,6,   0.541,2,   1.7070,2,   -1.17,2, -999.00,9,  -999.0,9,  -999.0,   6.771,2,   0.022,-999.0000,9,     4.5,   0.010,  22.7427,     -999.0,9,     -999.0,9,     -999.0,9,     -999.0,9,     -999.0,9,     -999.0,9,     -999.0,9,    0.69,2,   0.0000,4,   0.0040,3,   0.0030,2,   0.0020,2,-999.0000,9,-999.0000,9,   0.0050,    0.34
33RR20050106,       P16S,      31,          2,         35,         35,2,20050118,       1537,   -31.0000,  -150.0000,       4236,    22.5,  22.7356,  35.3910,2,  35.3912,2,    217.0,2,   216.2,2,    0.41,2,    0.06,2,    0.00,2,    0.09,2,-999.000,9,-999.000,9,-999.000,9,  2028.9,2,  2321.0,2,-999.000,9,-999.0000,9, -999.00,9, -999.00,9,  -999.0,9,  -999.0,-999.000,9,-999.000,-999.0000,9,    22.5,-999.000,  22.7310,     -999.0,9,     -999.0,9,     -999.0,9,     -999.0,9,     -999.0,9,     -999.0,9,     -999.0,9,    0.72,2,  -0.0020,4,   0.0020,3,   0.0020,2,   0.0010,2,-999.0000,9,-999.0000,9,-999.0000, -999.00
33RR20050106,       P16S,      31,          2,         34,         34,2,20050118,       1537,   -31.0000,  -150.0000,       4236,    48.0,  19.5157,  35.5269,2,  35.5258,2,    236.5,2,   236.5,2,    0.41,2,    0.06,2,    0.00,2,    0.09,2,   2.520,2,   1.557,2,   0.308,2,  2038.7,2,  2327.8,2,-999.000,9,   4.1560,4,   -0.32,3, -999.00,9,  -999.0,9,  -999.0,  14.940,4,   0.038,  55.7783,2,    48.0,-999.000,  19.5070,        228,2,        137,2,         75,2,        505,2,        346,2,        488,2,       1778,2,    0.12,2,   0.0100,2,   0.0100,2,   0.0050,2,   0.0030,2,-999.0000,9,-999.0000,9,   0.0080,    0.17
33RR20050106,       P16S,      31,          2,         33,         33,2,20050118,       1537,   -31.0000,  -150.0000,       4236,    73.1,  18.8620,  35.5006,2,  35.4985,2,    237.8,2,   237.9,2,    0.41,2,    0.06,2,    0.00,2,    0.09,2,-999.000,9,-999.000,9,-999.000,9,  2038.8,2,  2327.6,2,-999.000,9,-999.0000,9, -999.00,9, -999.00,9,  -999.0,9,  -999.0,-999.000,9,-999.000,  55.0617,2,    73.1,-999.000,  18.8490,        249,2,        187,2,        130,2,        499,2,        355,2,        529,2,       1948,2,    0.24,2,   0.0280,2,   0.0230,2,   0.0110,2,   0.0070,2,-999.0000,9,-999.0000,9,-999.0000, -999.00
33RR20050106,       P16S,      31,          2,         32,         32,2,20050118,       1537,   -31.0000,  -150.0000,       4236,    98.8,  18.3933,  35.4719,2,  35.4671,2,    239.0,2,   238.8,2,    0.41,2,    0.06,2,    0.00,2,    0.10,2,   2.587,2,   1.613,2,   0.293,2,  2039.7,2,  2324.5,2,   0.504,2,   1.7280,2,   -0.77,2, -999.00,9,  -999.0,9,  -999.0,   6.981,2,   0.022,  53.8933,2,    98.8,   0.010,  18.3761,        118,2,         87,2,         91,2,        209,2,        210,2,        268,2,        982,2,    0.54,2,   0.0420,2,   0.0330,2,   0.0170,2,   0.0100,2,   0.0156,2,   0.0159,2,   0.0050,    0.34
33RR20050106,       P16S,      31,          2,         31,         31,2,20050118,       1537,   -31.0000,  -150.0000,       4236,   150.4,  17.5682,  35.4452,2,  35.4449,2,    233.0,2,   232.5,2,    0.41,2,    0.06,2,    0.00,2,    0.11,2,   2.636,2,   1.613,2,   0.361,2,  2047.3,2,  2324.6,2,   0.518,2,-999.0000,9, -999.00,9, -999.00,9,  -999.0,9,  -999.0,-999.000,9,-999.000,  46.2812,2,   150.4,   0.010,  17.5428,     -999.0,9,     -999.0,9,     -999.0,9,     -999.0,9,     -999.0,9,     -999.0,9,     -999.0,9,    0.24,2,   0.0480,2,   0.0400,2,   0.0220,2,   0.0150,2,   0.0134,2,   0.0134,2,-999.0000, -999.00
33RR20050106,       P16S,      31,          2,         30,         30,2,20050118,       1537,   -31.0000,  -150.0000,       4236,   200.9,  16.8387,  35.3741,2,  35.3748,2,    223.0,2,   225.0,2,    0.41,2,    0.67,2,    0.19,2,    0.19,2,   1.243,4,   0.704,4,   0.231,4,  2058.6,2,  2318.8,2,   0.464,2,   1.7560,2,   -1.82,2, -999.00,9,  -999.0,9,  -999.0,   7.174,2,   0.015,-999.0000,9,   200.9,   0.009,  16.8057,     -999.0,9,     -999.0,9,     -999.0,9,     -999.0,9,     -999.0,9,     -999.0,9,     -999.0,9,    0.80,2,   0.0390,2,   0.0340,2,   0.0190,2,   0.0140,2,   0.0104,2,   0.0105,2,   0.0050,    0.36
33RR20050106,       P16S,      31,          2,         29,         29,2,20050118,       1537,   -31.0000,  -150.0000,       4236,   252.9,  15.4337,  35.2674,2,-999.0000,9,    209.8,2,   208.4,2,    1.01,2,    4.27,2,    0.01,2,    0.42,2,   1.360,4,   0.777,4,   0.153,4,  2083.6,2,  2313.4,2,-999.000,9,   1.7350,2,   -0.82,2, -999.00,9,  -999.0,9,  -999.0,   7.120,4,   0.023,-999.0000,9,   252.9,-999.000,  15.3945,     -999.0,9,     -999.0,9,     -999.0,9,     -999.0,9,     -999.0,9,     -999.0,9,     -999.0,9,    0.43,2,   0.0880,2,   0.0740,2,   0.0420,2,   0.0280,2,   0.0135,2,   0.0131,2,   0.0050,    0.34
33RR20050106,       P16S,      31,          2,         28,         28,2,20050118,       1537,   -31.0000,  -150.0000,       4236,   304.0,  13.6082,  35.0514,2,-999.0000,9,    203.8,2,   203.3,2,    1.81,2,    8.03,2,    0.00,2,    0.66,2,   1.485,4,   0.810,4,   0.182,4,  2100.5,2,  2302.4,2,   0.477,2,   1.7440,2,   -0.78,2, -999.00,9,  -999.0,9,  -999.0,   7.284,4,   0.047,  44.0138,2,   304.0,   0.008,  13.5649,         50,2,         37,2,         39,2,         91,2,        107,2,         77,2,        401,2, -999.00,9,   0.0540,2,   0.0440,2,   0.0250,2,   0.0190,2,   0.0143,2,   0.0143,2,   0.0030,    0.22
33RR20050106,       P16S,      31,          2,         27,         27,2,20050118,       1537,   -31.0000,  -150.0000,       4236,   355.4,  12.1175,  34.8605,2,-999.0000,9,    203.2,2,   204.0,2,    2.41,2,   11.20,2,    0.00,2,    0.87,2,   1.562,4,   0.848,4,   0.134,4,  2110.6,2,  2295.1,2,   0.294,2,   1.7430,2,    0.42,2, -999.00,9,  -999.0,9,  -999.0,   7.308,4,   0.024,-999.0000,9,   355.4,   0.007,  12.0706,     -999.0,9,     -999.0,9,     -999.0,9,     -999.0,9,     -999.0,9,     -999.0,9,     -999.0,9, -999.00,9,-999.0000,9,-999.0000,9,-999.0000,9,-999.0000,9,-999.0000,9,-999.0000,9,   0.0050,    0.33
33RR20050106,       P16S,      31,          2,         26,         26,2,20050118,       1537,   -31.0000,  -150.0000,       4236,   406.1,  11.0426,  34.7858,2,-999.0000,9,    211.8,2,   213.3,2,    2.61,2,   12.75,2,    0.00,2,    0.96,2,   1.876,4,   1.016,4,   0.109,4,  2117.7,2,  2290.9,2,   0.271,2,-999.0000,9, -999.00,9, -999.00,9,  -999.0,9,  -999.0,-999.000,9,-999.000,  43.3965,2,   406.1,   0.005,  10.9920,     -999.0,9,     -999.0,9,     -999.0,9,     -999.0,9,     -999.0,9,     -999.0,9,     -999.0,9, -999.00,9,   0.0600,2,   0.0470,2,   0.0270,2,   0.0200,2,   0.0150,2,   0.0154,2,-999.0000, -999.00
33RR20050106,       P16S,      31,          2,         25,         25,2,20050118,       1537,   -31.0000,  -150.0000,       4236,   452.7,   9.8343,  34.6473,2,-999.0000,9,    215.6,2,   215.7,2,    3.21,2,   15.50,2,    0.00,2,    1.09,2,   1.968,4,   1.031,4,   0.110,4,  2125.1,2,  2286.2,2,-999.000,9,   1.7130,2,   -0.70,2, -999.00,9,  -999.0,9,  -999.0,   7.236,4,   0.023,-999.0000,9,   452.7,-999.000,   9.7819,     -999.0,9,     -999.0,9,     -999.0,9,     -999.0,9,     -999.0,9,     -999.0,9,     -999.0,9, -999.00,9,-999.0000,9,-999.0000,9,-999.0000,9,-999.0000,9,-999.0000,9,-999.0000,9,   0.0040,    0.19
33RR20050106,       P16S,      31,          2,         24,         24,2,20050118,       1537,   -31.0000,  -150.0000,       4236,   502.9,   8.7975,  34.5327,2,  34.5355,2,    219.4,2,   222.0,2,    4.01,2,   17.82,2,    0.00,2,    1.23,2,   2.041,2,   1.074,2,   0.123,2,  2131.2,2,  2280.8,2,   0.427,2,   1.8030,2,   -0.94,2, -999.00,9,  -999.0,9,  -999.0,   7.664,2,   0.049,  41.1880,2,   502.9,   0.009,   8.7430,     -999.0,9,     -999.0,9,     -999.0,9,     -999.0,9,     -999.0,9,     -999.0,9,     -999.0,9, -999.00,9,   0.0510,2,   0.0390,2,   0.0230,2,   0.0170,2,   0.0153,2,   0.0160,2,   0.0030,    0.22
33RR20050106,       P16S,      31,          2,         23,         23,2,20050118,       1537,   -31.0000,  -150.0000,       4236,   604.5,   7.4412,  34.4188,2,  34.4199,2,    235.2,2,   234.5,2,    5.61,2,   20.79,2,    0.00,2,    1.42,2,   2.170,2,   1.104,2,   0.123,2,  2136.2,2,  2280.4,2,   0.174,2,   1.7590,2,    0.02,2, -999.00,9,  -999.0,9,  -999.0,   7.583,2,   0.024,  42.2027,2,   604.5,   0.007,   7.3814,     -999.0,9,     -999.0,9,     -999.0,9,     -999.0,9,     -999.0,9,     -999.0,9,     -999.0,9, -999.00,9,   0.0470,2,   0.0360,2,   0.0220,2,   0.0160,2,   0.0156,2,   0.0166,2,   0.0040,    0.19
33RR20050106,       P16S,      31,          2,         22,         22,2,20050118,       1537,   -31.0000,  -150.0000,       4236,   704.8,   6.7450,  34.3714,2,  34.3720,2,    237.8,2,   239.0,2,    7.41,2,   22.59,2,    0.00,2,    1.54,2,   1.995,2,   0.979,2,   0.093,2,  2139.8,6,  2278.9,2,   0.115,2,-999.0000,9, -999.00,9, -999.00,9,  -999.0,9,  -999.0,-999.000,9,-999.000,  39.5150,2,   704.8,   0.005,   6.6786,     -999.0,9,     -999.0,9,     -999.0,9,     -999.0,9,     -999.0,9,     -999.0,9,     -999.0,9, -999.00,9,   0.0450,2,   0.0340,2,   0.0200,2,   0.0150,2,   0.0177,2,   0.0190,2,-999.0000, -999.00
33RR20050106,       P16S,      31,          2,         21,         21,2,20050118,       1537,   -31.0000,  -150.0000,       4236,   806.4,   6.0658,  34.3290,2,  34.3295,2,    233.8,2,   233.9,2,   10.62,2,   24.76,2,    0.00,2,    1.68,2,   1.417,2,   0.742,2,   0.023,2,  2148.8,2,  2281.0,2,-999.000,9,   1.8050,2,    1.00,2, -999.00,9,  -999.0,9,  -999.0,   7.689,2,   0.056,  39.4986,2,   806.4,-999.000,   5.9934,     -999.0,9,     -999.0,9,     -999.0,9,     -999.0,9,     -999.0,9,     -999.0,9,     -999.0,9, -999.00,9,   0.0460,2,   0.0350,2,   0.0210,2,   0.0150,2,   0.0171,2,   0.0185,2,   0.0060,    0.17
33RR20050106,       P16S,      31,          2,         20,         20,2,20050118,       1537,   -31.0000,  -150.0000,       4236,   906.0,   5.4473,  34.3115,2,  34.3119,2,    225.6,2,   221.8,2,   16.25,2,   27.16,2,    0.00,2,    1.86,2,   0.885,2,   0.457,2,   0.020,2,  2163.3,2,  2285.7,2,   0.086,2,   1.7900,2,    1.38,2, -999.00,9,  -999.0,9,  -999.0,   7.850,2,   0.060,  42.5574,2,   906.0,   0.004,   5.3696,     -999.0,9,     -999.0,9,     -999.0,9,     -999.0,9,     -999.0,9,     -999.0,9,     -999.0,9, -999.00,9,   0.0500,2,   0.0360,2,   0.0220,2,   0.0160,2,   0.0179,2,   0.0193,2,   0.0060,    0.17
33RR20050106,       P16S,      31,          2,         19,         19,2,20050118,       1537,   -31.0000,  -150.0000,       4236,  1007.2,   4.8879,  34.3183,2,  34.3182,2,    211.7,2,   208.3,2,   23.91,2,   29.34,2,    0.00,2,    2.02,2,   0.556,2,   0.275,2,   0.002,2,  2179.4,2,  2289.8,2,-999.000,9,-999.0000,9, -999.00,9, -999.00,9,  -999.0,9,  -999.0,-999.000,9,-999.000,  41.1080,2,  1007.2,-999.000,   4.8051,     -999.0,9,     -999.0,9,     -999.0,9,     -999.0,9,     -999.0,9,     -999.0,9,     -999.0,9, -999.00,9,   0.0590,2,   0.0440,2,   0.0290,2,   0.0190,2,   0.0126,2,   0.0137,2,-999.0000, -999.00
33RR20050106,       P16S,      31,          2,         18,         18,2,20050118,       1537,   -31.0000,  -150.0000,       4236,  1109.7,   4.3037,  34.3391,2,  34.3397,2,    198.1,2,   196.4,2,   33.40,2,   31.25,2,    0.00,2,    2.16,2,   0.326,2,   0.181,2,   0.002,2,  2197.6,2,  2299.3,6,-999.000,9,   1.8160,2,    3.69,2, -999.00,9,  -999.0,9,  -999.0,   7.884,2,   0.025,  39.4128,2,  1109.7,-999.000,   4.2165,     -999.0,9,     -999.0,9,     -999.0,9,     -999.0,9,     -999.0,9,     -999.0,9,     -999.0,9, -999.00,9,   0.0650,2,   0.0480,2,   0.0290,2,   0.0210,2,   0.0153,2,   0.0165,2,   0.0040,    0.19
33RR20050106,       P16S,      31,          2,         17,         17,2,20050118,       1537,   -31.0000,  -150.0000,       4236,  1209.3,   3.9075,  34.3660,2,  34.3657,2,    186.0,2,   187.7,2,   41.50,2,   32.52,2,    0.00,2,    2.25,2,   0.186,2,   0.110,2,   0.002,2,  2211.6,2,  2306.9,2,   0.065,2,-999.0000,9, -999.00,9, -999.00,9,  -999.0,9,  -999.0,-999.000,9,-999.000,-999.0000,9,  1209.3,   0.007,   3.8152,     -999.0,9,     -999.0,9,     -999.0,9,     -999.0,9,     -999.0,9,     -999.0,9,     -999.0,9, -999.00,9,-999.0000,9,-999.0000,9,-999.0000,9,-999.0000,9,-999.0000,9,-999.0000,9,-999.0000, -999.00
33RR20050106,       P16S,      31,          2,         16,         16,2,20050118,       1537,   -31.0000,  -150.0000,       4236,  1312.1,   3.4242,  34.4191,2,  34.4196,2,    173.5,2,   176.6,2,   54.09,2,   33.72,2,    0.00,2,    2.35,2,   0.062,2,   0.042,2,   0.002,2,  2229.8,2,  2320.3,2,-999.000,9,   1.8230,2,    7.40,2, -999.00,9,  -999.0,9,  -999.0,   7.859,2,   0.025,  38.3317,2,  1312.1,-999.000,   3.3278,     -999.0,9,     -999.0,9,     -999.0,9,     -999.0,9,     -999.0,9,     -999.0,9,     -999.0,9, -999.00,9,   0.0830,2,   0.0620,2,   0.0350,2,   0.0250,2,   0.0151,2,   0.0157,2,   0.0040,    0.19
33RR20050106,       P16S,      31,          2,         15,         15,2,20050118,       1537,   -31.0000,  -150.0000,       4236,  1413.6,   3.0973,  34.4702,2,  34.4720,2,    167.9,2,   169.0,2,   65.70,2,   34.32,2,    0.00,2,    2.40,2,   0.021,2,   0.031,2,   0.002,2,  2245.7,2,  2333.5,2,-999.000,9,   1.8510,2,   10.24,2, -999.00,9,  -999.0,9,  -999.0,   7.943,2,   0.025,-999.0000,9,  1413.6,-999.000,   2.9958,     -999.0,9,     -999.0,9,     -999.0,9,     -999.0,9,     -999.0,9,     -999.0,9,     -999.0,9, -999.00,9,-999.0000,9,-999.0000,9,-999.0000,9,-999.0000,9,-999.0000,9,-999.0000,9,   0.0040,    0.19
33RR20050106,       P16S,      31,          2,         14,         14,2,20050118,       1537,   -31.0000,  -150.0000,       4236,  1515.8,   2.8364,  34.5161,2,  34.5151,2,    163.2,2,   164.6,2,   75.92,2,   34.60,2,    0.00,2,    2.42,2,-999.000,9,-999.000,9,-999.000,9,  2257.2,2,  2343.3,2,-999.000,9,-999.0000,9, -999.00,9, -999.00,9,  -999.0,9,  -999.0,-999.000,9,-999.000,-999.0000,9,  1515.8,-999.000,   2.7293,     -999.0,9,     -999.0,9,     -999.0,9,     -999.0,9,     -999.0,9,     -999.0,9,     -999.0,9, -999.00,9,-999.0000,9,-999.0000,9,-999.0000,9,-999.0000,9,-999.0000,9,-999.0000,9,-999.0000, -999.00
33RR20050106,       P16S,      31,          2,         13,         13,2,20050118,       1537,   -31.0000,  -150.0000,       4236,  1616.8,   2.6439,  34.5534,2,  34.5537,2,    160.0,2,   160.6,2,   85.54,2,   34.81,2,    0.00,2,    2.45,2,  -0.008,2,   0.014,2,   0.002,2,  2266.7,2,  2355.2,2,   0.039,2,-999.0000,9, -999.00,9, -999.00,9,  -999.0,9,  -999.0,-999.000,9,-999.000,  37.1583,2,  1616.8,   0.006,   2.5307,     -999.0,9,     -999.0,9,     -999.0,9,     -999.0,9,     -999.0,9,     -999.0,9,     -999.0,9, -999.00,9,   0.0870,2,   0.0650,2,   0.0390,2,   0.0270,2,   0.0136,2,   0.0144,2,-999.0000, -999.00
33RR20050106,       P16S,      31,          2,         12,         12,2,20050118,       1537,   -31.0000,  -150.0000,       4236,  1719.4,   2.4787,  34.5845,2,  34.5853,2,    156.9,2,   157.3,2,   94.15,2,   34.98,2,    0.00,2,    2.45,2,-999.000,9,-999.000,9,-999.000,9,  2278.2,2,  2362.8,2,-999.000,9,-999.0000,9, -999.00,9, -999.00,9,  -999.0,9,  -999.0,-999.000,9,-999.000,-999.0000,9,  1719.4,-999.000,   2.3590,     -999.0,9,     -999.0,9,     -999.0,9,     -999.0,9,     -999.0,9,     -999.0,9,     -999.0,9, -999.00,9,-999.0000,9,-999.0000,9,-999.0000,9,-999.0000,9,-999.0000,9,-999.0000,9,-999.0000, -999.00
33RR20050106,       P16S,      31,          2,         11,         11,2,20050118,       1537,   -31.0000,  -150.0000,       4236,  1819.3,   2.3494,  34.6063,2,  34.6059,2,    153.9,2,   154.7,2,  101.34,2,   35.08,2,    0.00,2,    2.47,2,  -0.015,2,   0.009,2,   0.002,2,  2285.5,2,  2373.8,2,-999.000,9,   2.1670,4,   17.29,3, -999.00,9,  -999.0,9,  -999.0,   8.989,4,   0.028,-999.0000,9,  1819.3,-999.000,   2.2231,     -999.0,9,     -999.0,9,     -999.0,9,     -999.0,9,     -999.0,9,     -999.0,9,     -999.0,9, -999.00,9,-999.0000,9,-999.0000,9,-999.0000,9,-999.0000,9,-999.0000,9,-999.0000,9,   0.0050,    0.18
33RR20050106,       P16S,      31,          2,         10,         10,2,20050118,       1537,   -31.0000,  -150.0000,       4236,  2025.4,   2.1737,  34.6309,2,  34.6327,2,    151.4,2,   151.7,2,  111.21,2,   35.30,2,    0.00,2,    2.48,2,  -0.011,2,  -0.001,2,   0.003,2,  2296.3,2,  2383.9,2,-999.000,9,   1.8820,2,   22.10,2, -999.00,9,  -999.0,9,  -999.0,   7.991,2,   0.025,  34.8567,2,  2025.4,-999.000,   2.0324,     -999.0,9,     -999.0,9,     -999.0,9,     -999.0,9,     -999.0,9,     -999.0,9,     -999.0,9, -999.00,9,   0.0930,2,   0.0690,2,   0.0410,2,   0.0290,2,   0.0139,2,   0.0148,2,   0.0040,    0.18
33RR20050106,       P16S,      31,          2,          9,          9,2,20050118,       1537,   -31.0000,  -150.0000,       4236,  2265.0,   1.9906,  34.6498,2,  34.6502,2,    149.8,2,   150.2,2,  120.28,2,   35.51,2,    0.00,2,    2.50,2,   0.044,4,   0.046,4,   0.002,2,  2305.3,2,  2393.6,2,   0.007,2,-999.0000,9, -999.00,9, -999.00,9,  -999.0,9,  -999.0,-999.000,9,-999.000,-999.0000,9,  2265.0,   0.006,   1.8315,     -999.0,9,     -999.0,9,     -999.0,9,     -999.0,9,     -999.0,9,     -999.0,9,     -999.0,9, -999.00,9,-999.0000,9,-999.0000,9,-999.0000,9,-999.0000,9,-999.0000,9,-999.0000,9,-999.0000, -999.00
33RR20050106,       P16S,      31,          2,          8,          8,2,20050118,       1537,   -31.0000,  -150.0000,       4236,  2523.1,   1.8674,  34.6609,2,  34.6612,2,    150.4,2,   150.7,2,  125.63,2,   35.56,2,    0.00,2,    2.50,2,  -0.015,2,  -0.001,2,   0.002,2,  2309.4,2,  2399.3,2,   0.001,2,   2.9210,4,   15.99,3, -999.00,9,  -999.0,9,  -999.0,  11.501,4,   0.036,  34.8236,2,  2523.1,   0.006,   1.6874,     -999.0,9,     -999.0,9,     -999.0,9,     -999.0,9,     -999.0,9,     -999.0,9,     -999.0,9, -999.00,9,   0.0940,2,   0.0690,2,   0.0410,2,   0.0280,2,   0.0141,2,   0.0150,2,   0.0070,    0.18
33RR20050106,       P16S,      31,          2,          7,          7,2,20050118,       1537,   -31.0000,  -150.0000,       4236,  2780.2,   1.7563,  34.6705,2,  34.6710,2,    153.2,2,   154.0,2,  127.89,2,   35.39,2,    0.00,2,    2.49,2,  -0.018,2,  -0.001,2,   0.002,2,  2309.4,2,  2403.1,3,-999.000,9,   1.9100,2,   23.36,2, -999.00,9,  -999.0,9,  -999.0,   8.133,2,   0.026,-999.0000,9,  2780.2,-999.000,   1.5548,     -999.0,9,     -999.0,9,     -999.0,9,     -999.0,9,     -999.0,9,     -999.0,9,     -999.0,9, -999.00,9,-999.0000,9,-999.0000,9,-999.0000,9,-999.0000,9,-999.0000,9,-999.0000,9,   0.0040,    0.18