BOTTLE,20201109CCHSIOCBG
EXPOCODE,SECT_ID,STNNBR,CASTNO,SAMPNO,BTLNBR,BTLNBR_FLAG_W,DATE,TIME,LATITUDE,LONGITUDE,DEPTH,CTDPRS,CTDTMP,CTDSAL,CTDSAL_FLAG_W,SALNTY,SALNTY_FLAG_W,CTDOXY,CTDOXY_FLAG_W,OXYGEN,OXYGEN_FLAG_W,SILCAT,SILCAT_FLAG_W,NITRAT,NITRAT_FLAG_W,NITRIT,NITRIT_FLAG_W,PHSPHT,PHSPHT_FLAG_W,CFC-11,CFC-11_FLAG_W,CFC-12,CFC-12_FLAG_W,CFC113,CFC113_FLAG_W,TCARBN,TCARBN_FLAG_W,ALKALI,ALKALI_FLAG_W,TRITUM,TRITUM_FLAG_W,HELIUM,HELIUM_FLAG_W,DELHE3,DELHE3_FLAG_W,DELC13,DELC13_FLAG_W,DELC14,DELC14_FLAG_W,C14ERR,NEON,NEON_FLAG_W,NEONER,DOC,DOC_FLAG_W,CTDRAW,TRITER,THETA,FUCO,FUCO_FLAG_W,RHAM,RHAM_FLAG_W,ARABA,ARABA_FLAG_W,GALA,GALA_FLAG_W,GLUC,GLUC_FLAG_W,MAN,MAN_FLAG_W,DCNS,DCNS_FLAG_W,BRDU,BRDU_FLAG_W,CDOM325,CDOM325_FLAG_W,CDOM340,CDOM340_FLAG_W,CDOM380,CDOM380_FLAG_W,CDOM412,CDOM412_FLAG_W,CDOMSL,CDOMSL_FLAG_W,CDOMSN,CDOMSN_FLAG_W,HELIER,DELHER
,,,,,,,,,,,METERS,DBAR,ITS-90,PSS-78,,PSS-78,,UMOL/KG,,UMOL/KG,,UMOL/KG,,UMOL/KG,,UMOL/KG,,UMOL/KG,,PMOL/KG,,PMOL/KG,,PMOL/KG,,UMOL/KG,,UMOL/KG,,TU,,NMOL/KG,,PERCNT,,/MILLE,,/MILLE,,/MILLE,NMOL/KG,,NMOL/KG,UMOL/KG,,DBAR,TU,DEG C,NMOL/KG,,NMOL/KG,,NMOL/KG,,NMOL/KG,,NMOL/KG,,NMOL/KG,,NMOL/KG,,PMOL/L/H,,1/M,,1/M,,1/M,,1/M,,1/NM,,1/NM,,NMOL/KG,PERCNT
33RR20050106,       P16S,      71,          1,          6,          6,2,20050131,       0243,   -50.9997,  -149.9978,       4888,  3449.7,   1.4219,  34.7296,2,  34.7297,2,    198.5,2,   199.2,2,  106.23,2,   31.24,2,    0.00,2,    2.19,2,   0.036,2,   0.016,2,  -0.002,2,  2253.9,2,  2359.3,2,-999.000,9,-999.0000,9, -999.00,9, -999.00,9,  -999.0,9,  -999.0,-999.000,9,-999.000,  39.9672,2,  3449.7,-999.000,   1.1625,     -999.0,9,     -999.0,9,     -999.0,9,     -999.0,9,     -999.0,9,     -999.0,9,     -999.0,9, -999.00,9,-999.0000,9,-999.0000,9,-999.0000,9,-999.0000,9,-999.0000,9,-999.0000,9,-999.0000, -999.00
33RR20050106,       P16S,      71,          1,          5,          5,2,20050131,       0243,   -50.9997,  -149.9978,       4888,  3757.4,   1.1953,  34.7205,2,  34.7195,2,    201.4,2,   202.5,2,  113.97,2,   31.77,2,    0.00,2,    2.21,2,   0.038,2,   0.018,2,  -0.002,2,  2259.1,2,  2361.9,2,-999.000,9,-999.0000,9, -999.00,9, -999.00,5,  -160.2,6,     1.7,-999.000,9,-999.000,-999.0000,9,  3757.4,-999.000,   0.9103,     -999.0,9,     -999.0,9,     -999.0,9,     -999.0,9,     -999.0,9,     -999.0,9,     -999.0,9, -999.00,9,-999.0000,9,-999.0000,9,-999.0000,9,-999.0000,9,-999.0000,9,-999.0000,9,-999.0000, -999.00
33RR20050106,       P16S,      71,          1,          4,          4,2,20050131,       0243,   -50.9997,  -149.9978,       4888,  4115.0,   1.1032,  34.7157,2,  34.7148,2,    202.9,2,   203.8,2,  119.07,2,   31.88,2,    0.00,2,    2.22,2,   0.050,2,   0.020,2,  -0.002,2,  2260.6,2,  2362.6,2,-999.000,9,-999.0000,9, -999.00,9, -999.00,9,  -999.0,9,  -999.0,-999.000,9,-999.000,  39.8962,2,  4115.0,-999.000,   0.7829,     -999.0,9,     -999.0,9,     -999.0,9,     -999.0,9,     -999.0,9,     -999.0,9,     -999.0,9, -999.00,9,-999.0000,9,-999.0000,9,-999.0000,9,-999.0000,9,-999.0000,9,-999.0000,9,-999.0000, -999.00
33RR20050106,       P16S,      71,          1,          3,          3,2,20050131,       0243,   -50.9997,  -149.9978,       4888,  4473.9,   1.1131,  34.7145,2,  34.7130,2,    203.3,2,   204.1,2,  120.29,2,   31.93,2,    0.00,2,    2.22,2,   0.055,2,   0.025,2,  -0.002,2,  2257.9,2,  2364.8,2,-999.000,9,-999.0000,9, -999.00,9, -999.00,9,  -999.0,9,  -999.0,-999.000,9,-999.000,  40.1968,2,  4473.9,-999.000,   0.7529,     -999.0,9,     -999.0,9,     -999.0,9,     -999.0,9,     -999.0,9,     -999.0,9,     -999.0,9, -999.00,9,-999.0000,9,-999.0000,9,-999.0000,9,-999.0000,9,-999.0000,9,-999.0000,9,-999.0000, -999.00
33RR20050106,       P16S,      71,          1,          2,          2,2,20050131,       0243,   -50.9997,  -149.9978,       4888,  4795.4,   1.1379,  34.7142,2,  34.7134,2,    203.6,2,   204.0,2,  120.70,2,   31.99,2,    0.00,2,    2.22,2,   0.054,2,   0.028,2,  -0.002,2,  2262.5,2,  2364.5,2,-999.000,9,-999.0000,9, -999.00,9, -999.00,9,  -999.0,9,  -999.0,-999.000,9,-999.000,-999.0000,9,  4795.4,-999.000,   0.7399,     -999.0,9,     -999.0,9,     -999.0,9,     -999.0,9,     -999.0,9,     -999.0,9,     -999.0,9, -999.00,9,-999.0000,9,-999.0000,9,-999.0000,9,-999.0000,9,-999.0000,9,-999.0000,9,-999.0000, -999.00
33RR20050106,       P16S,      71,          1,          1,          1,2,20050131,       0243,   -50.9997,  -149.9978,       4888,  5001.8,   1.1604,  34.7138,2,  34.7136,2,    203.5,2,   204.2,2,  120.69,2,   31.99,2,    0.00,2,    2.23,2,   0.056,2,   0.022,2,  -0.002,2,  2261.6,6,  2365.4,6,-999.000,9,-999.0000,9, -999.00,9, -999.00,9,  -999.0,9,  -999.0,-999.000,9,-999.000,  40.7488,2,  5001.8,-999.000,   0.7372,     -999.0,9,     -999.0,9,     -999.0,9,     -999.0,9,     -999.0,9,     -999.0,9,     -999.0,9, -999.00,9,-999.0000,9,-999.0000,9,-999.0000,9,-999.0000,9,-999.0000,9,-999.0000,9,-999.0000, -999.00