BOTTLE,20201109CCHSIOCBG
EXPOCODE,SECT_ID,STNNBR,CASTNO,SAMPNO,BTLNBR,BTLNBR_FLAG_W,DATE,TIME,LATITUDE,LONGITUDE,DEPTH,CTDPRS,CTDTMP,CTDSAL,CTDSAL_FLAG_W,SALNTY,SALNTY_FLAG_W,CTDOXY,CTDOXY_FLAG_W,OXYGEN,OXYGEN_FLAG_W,SILCAT,SILCAT_FLAG_W,NITRAT,NITRAT_FLAG_W,NITRIT,NITRIT_FLAG_W,PHSPHT,PHSPHT_FLAG_W,CFC-11,CFC-11_FLAG_W,CFC-12,CFC-12_FLAG_W,CFC113,CFC113_FLAG_W,TCARBN,TCARBN_FLAG_W,ALKALI,ALKALI_FLAG_W,TRITUM,TRITUM_FLAG_W,HELIUM,HELIUM_FLAG_W,DELHE3,DELHE3_FLAG_W,DELC13,DELC13_FLAG_W,DELC14,DELC14_FLAG_W,C14ERR,NEON,NEON_FLAG_W,NEONER,DOC,DOC_FLAG_W,CTDRAW,TRITER,THETA,FUCO,FUCO_FLAG_W,RHAM,RHAM_FLAG_W,ARABA,ARABA_FLAG_W,GALA,GALA_FLAG_W,GLUC,GLUC_FLAG_W,MAN,MAN_FLAG_W,DCNS,DCNS_FLAG_W,BRDU,BRDU_FLAG_W,CDOM325,CDOM325_FLAG_W,CDOM340,CDOM340_FLAG_W,CDOM380,CDOM380_FLAG_W,CDOM412,CDOM412_FLAG_W,CDOMSL,CDOMSL_FLAG_W,CDOMSN,CDOMSN_FLAG_W,HELIER,DELHER
,,,,,,,,,,,METERS,DBAR,ITS-90,PSS-78,,PSS-78,,UMOL/KG,,UMOL/KG,,UMOL/KG,,UMOL/KG,,UMOL/KG,,UMOL/KG,,PMOL/KG,,PMOL/KG,,PMOL/KG,,UMOL/KG,,UMOL/KG,,TU,,NMOL/KG,,PERCNT,,/MILLE,,/MILLE,,/MILLE,NMOL/KG,,NMOL/KG,UMOL/KG,,DBAR,TU,DEG C,NMOL/KG,,NMOL/KG,,NMOL/KG,,NMOL/KG,,NMOL/KG,,NMOL/KG,,NMOL/KG,,PMOL/L/H,,1/M,,1/M,,1/M,,1/M,,1/NM,,1/NM,,NMOL/KG,PERCNT
33RR20050106,       P16S,      12,          1,         36,         36,2,20050113,       1032,   -21.5002,  -149.9998,       5088,     3.8,  26.9532,  35.6750,2,  35.6744,2,    203.1,2,   202.3,2,    0.49,2,    0.07,2,    0.00,2,    0.13,2,   1.667,2,   1.136,2,   0.172,2,  1999.4,2,  2343.1,2,-999.000,9,-999.0000,9, -999.00,9, -999.00,9,  -999.0,9,  -999.0,-999.000,9,-999.000,-999.0000,9,     3.8,-999.000,  26.9523,     -999.0,9,     -999.0,9,     -999.0,9,     -999.0,9,     -999.0,9,     -999.0,9,     -999.0,9, -999.00,9,-999.0000,9,-999.0000,9,-999.0000,9,-999.0000,9,-999.0000,9,-999.0000,9,-999.0000, -999.00
33RR20050106,       P16S,      12,          1,         35,         35,2,20050113,       1032,   -21.5002,  -149.9998,       5088,    45.4,  25.0206,  35.7622,2,  35.7627,2,    212.8,2,   212.4,2,    0.50,2,    0.07,2,    0.00,2,    0.13,2,   1.798,2,   1.153,2,   0.200,2,  -999.0,9,  -999.0,9,-999.000,9,-999.0000,9, -999.00,9, -999.00,9,  -999.0,9,  -999.0,-999.000,9,-999.000,-999.0000,9,    45.4,-999.000,  25.0107,     -999.0,9,     -999.0,9,     -999.0,9,     -999.0,9,     -999.0,9,     -999.0,9,     -999.0,9, -999.00,9,-999.0000,9,-999.0000,9,-999.0000,9,-999.0000,9,-999.0000,9,-999.0000,9,-999.0000, -999.00
33RR20050106,       P16S,      12,          1,         34,         34,2,20050113,       1032,   -21.5002,  -149.9998,       5088,    90.4,  23.4242,  35.6712,2,  35.6697,2,    215.9,2,   214.8,2,    0.51,2,    0.07,2,    0.01,2,    0.11,2,   1.898,2,   1.263,2,   0.210,2,  2010.5,2,  2342.4,2,-999.000,9,-999.0000,9, -999.00,9, -999.00,9,  -999.0,9,  -999.0,-999.000,9,-999.000,-999.0000,9,    90.4,-999.000,  23.4055,     -999.0,9,     -999.0,9,     -999.0,9,     -999.0,9,     -999.0,9,     -999.0,9,     -999.0,9, -999.00,9,-999.0000,9,-999.0000,9,-999.0000,9,-999.0000,9,-999.0000,9,-999.0000,9,-999.0000, -999.00
33RR20050106,       P16S,      12,          1,         33,         33,2,20050113,       1032,   -21.5002,  -149.9998,       5088,   140.4,  21.8388,  35.6447,2,  35.6354,2,    213.8,2,   213.0,2,    0.52,2,    0.07,2,    0.01,2,    0.11,2,   2.027,2,   1.332,2,   0.193,2,  2026.0,2,  2336.9,2,-999.000,9,-999.0000,9, -999.00,9, -999.00,9,  -999.0,9,  -999.0,-999.000,9,-999.000,-999.0000,9,   140.4,-999.000,  21.8111,     -999.0,9,     -999.0,9,     -999.0,9,     -999.0,9,     -999.0,9,     -999.0,9,     -999.0,9, -999.00,9,-999.0000,9,-999.0000,9,-999.0000,9,-999.0000,9,-999.0000,9,-999.0000,9,-999.0000, -999.00
33RR20050106,       P16S,      12,          1,         32,         32,2,20050113,       1032,   -21.5002,  -149.9998,       5088,   190.1,  20.3680,  35.5977,2,  35.5968,2,    209.4,2,   206.6,2,    0.52,2,    0.21,2,    0.13,2,    0.16,2,-999.000,9,-999.000,9,-999.000,9,  2043.5,2,  2334.7,2,-999.000,9,-999.0000,9, -999.00,9, -999.00,9,  -999.0,9,  -999.0,-999.000,9,-999.000,-999.0000,9,   190.1,-999.000,  20.3323,     -999.0,9,     -999.0,9,     -999.0,9,     -999.0,9,     -999.0,9,     -999.0,9,     -999.0,9, -999.00,9,-999.0000,9,-999.0000,9,-999.0000,9,-999.0000,9,-999.0000,9,-999.0000,9,-999.0000, -999.00
33RR20050106,       P16S,      12,          1,         31,         31,2,20050113,       1032,   -21.5002,  -149.9998,       5088,   240.2,  18.6766,  35.5137,2,  35.5121,2,    200.2,2,   198.2,2,    0.73,2,    1.50,2,    0.02,2,    0.27,2,   2.328,2,   1.473,2,   0.102,2,  2065.0,2,  2327.2,2,-999.000,9,-999.0000,9, -999.00,9, -999.00,9,  -999.0,9,  -999.0,-999.000,9,-999.000,-999.0000,9,   240.2,-999.000,  18.6341,     -999.0,9,     -999.0,9,     -999.0,9,     -999.0,9,     -999.0,9,     -999.0,9,     -999.0,9, -999.00,9,-999.0000,9,-999.0000,9,-999.0000,9,-999.0000,9,-999.0000,9,-999.0000,9,-999.0000, -999.00
33RR20050106,       P16S,      12,          1,         30,         30,2,20050113,       1032,   -21.5002,  -149.9998,       5088,   290.1,  17.1130,  35.3868,2,  35.3824,2,    197.6,2,   195.6,2,    0.95,2,    3.37,2,    0.01,2,    0.41,2,-999.000,9,-999.000,9,-999.000,9,  -999.0,9,  -999.0,9,-999.000,9,-999.0000,9, -999.00,9, -999.00,9,  -999.0,9,  -999.0,-999.000,9,-999.000,-999.0000,9,   290.1,-999.000,  17.0647,     -999.0,9,     -999.0,9,     -999.0,9,     -999.0,9,     -999.0,9,     -999.0,9,     -999.0,9, -999.00,9,-999.0000,9,-999.0000,9,-999.0000,9,-999.0000,9,-999.0000,9,-999.0000,9,-999.0000, -999.00
33RR20050106,       P16S,      12,          1,         29,         29,2,20050113,       1032,   -21.5002,  -149.9998,       5088,   340.2,  15.2748,  35.1855,2,  35.1842,2,    202.2,2,   200.8,2,    1.37,2,    4.98,2,    0.01,2,    0.51,2,   2.511,2,   1.509,2,   0.045,2,  2087.4,2,  2310.3,2,-999.000,9,-999.0000,9, -999.00,9, -999.00,9,  -999.0,9,  -999.0,-999.000,9,-999.000,-999.0000,9,   340.2,-999.000,  15.2223,     -999.0,9,     -999.0,9,     -999.0,9,     -999.0,9,     -999.0,9,     -999.0,9,     -999.0,9, -999.00,9,-999.0000,9,-999.0000,9,-999.0000,9,-999.0000,9,-999.0000,9,-999.0000,9,-999.0000, -999.00
33RR20050106,       P16S,      12,          1,         28,         28,2,20050113,       1032,   -21.5002,  -149.9998,       5088,   390.3,  13.2604,  34.9684,2,  34.9627,2,    203.0,2,   201.3,2,    2.19,2,    8.68,2,    0.01,2,    0.74,2,-999.000,9,-999.000,9,-999.000,9,  -999.0,9,  -999.0,9,-999.000,9,-999.0000,9, -999.00,9, -999.00,9,  -999.0,9,  -999.0,-999.000,9,-999.000,-999.0000,9,   390.3,-999.000,  13.2056,     -999.0,9,     -999.0,9,     -999.0,9,     -999.0,9,     -999.0,9,     -999.0,9,     -999.0,9, -999.00,9,-999.0000,9,-999.0000,9,-999.0000,9,-999.0000,9,-999.0000,9,-999.0000,9,-999.0000, -999.00
33RR20050106,       P16S,      12,          1,         27,         27,2,20050113,       1032,   -21.5002,  -149.9998,       5088,   440.2,  10.8769,  34.7096,2,  34.7175,2,    202.7,2,   203.3,2,    3.64,2,   13.74,2,    0.01,2,    1.06,2,   2.441,2,   1.354,2,   0.028,2,  2119.3,2,  2287.0,2,-999.000,9,-999.0000,9, -999.00,9, -999.00,9,  -999.0,9,  -999.0,-999.000,9,-999.000,-999.0000,9,   440.2,-999.000,  10.8226,     -999.0,9,     -999.0,9,     -999.0,9,     -999.0,9,     -999.0,9,     -999.0,9,     -999.0,9, -999.00,9,-999.0000,9,-999.0000,9,-999.0000,9,-999.0000,9,-999.0000,9,-999.0000,9,-999.0000, -999.00
33RR20050106,       P16S,      12,          1,         26,         26,2,20050113,       1032,   -21.5002,  -149.9998,       5088,   490.5,   8.7160,  34.4890,2,  34.4900,2,    188.4,2,   189.7,2,    7.97,2,   20.66,2,    0.01,2,    1.55,2,-999.000,9,-999.000,9,-999.000,9,  -999.0,9,  -999.0,9,-999.000,9,-999.0000,9, -999.00,9, -999.00,9,  -999.0,9,  -999.0,-999.000,9,-999.000,-999.0000,9,   490.5,-999.000,   8.6632,     -999.0,9,     -999.0,9,     -999.0,9,     -999.0,9,     -999.0,9,     -999.0,9,     -999.0,9, -999.00,9,-999.0000,9,-999.0000,9,-999.0000,9,-999.0000,9,-999.0000,9,-999.0000,9,-999.0000, -999.00
33RR20050106,       P16S,      12,          1,         25,         25,2,20050113,       1032,   -21.5002,  -149.9998,       5088,   575.5,   6.9524,  34.3801,2,  34.3782,2,    185.0,2,   186.9,2,   13.34,2,   26.04,2,    0.01,2,    1.88,2,   1.112,2,   0.596,2,   0.018,2,  2169.8,2,  2279.9,2,-999.000,9,-999.0000,9, -999.00,9, -999.00,9,  -999.0,9,  -999.0,-999.000,9,-999.000,-999.0000,9,   575.5,-999.000,   6.8978,     -999.0,9,     -999.0,9,     -999.0,9,     -999.0,9,     -999.0,9,     -999.0,9,     -999.0,9, -999.00,9,-999.0000,9,-999.0000,9,-999.0000,9,-999.0000,9,-999.0000,9,-999.0000,9,-999.0000, -999.00
33RR20050106,       P16S,      12,          1,         24,         24,2,20050113,       1032,   -21.5002,  -149.9998,       5088,   676.2,   5.8680,  34.3430,2,  34.3426,2,    190.4,2,   191.5,2,   18.51,2,   28.50,2,    0.00,2,    2.02,2,-999.000,9,-999.000,9,-999.000,9,  2177.8,2,  2284.4,2,-999.000,9,-999.0000,9, -999.00,9, -999.00,9,  -999.0,9,  -999.0,-999.000,9,-999.000,-999.0000,9,   676.2,-999.000,   5.8089,     -999.0,9,     -999.0,9,     -999.0,9,     -999.0,9,     -999.0,9,     -999.0,9,     -999.0,9, -999.00,9,-999.0000,9,-999.0000,9,-999.0000,9,-999.0000,9,-999.0000,9,-999.0000,9,-999.0000, -999.00
33RR20050106,       P16S,      12,          1,         23,         23,2,20050113,       1032,   -21.5002,  -149.9998,       5088,   776.5,   5.4185,  34.3568,2,  34.3573,2,    179.5,2,   180.2,2,   25.97,2,   30.37,2,    0.00,2,    2.14,2,   0.408,2,   0.213,2,   0.001,2,  -999.0,9,  -999.0,9,-999.000,9,-999.0000,9, -999.00,9, -999.00,9,  -999.0,9,  -999.0,-999.000,9,-999.000,-999.0000,9,   776.5,-999.000,   5.3528,     -999.0,9,     -999.0,9,     -999.0,9,     -999.0,9,     -999.0,9,     -999.0,9,     -999.0,9, -999.00,9,-999.0000,9,-999.0000,9,-999.0000,9,-999.0000,9,-999.0000,9,-999.0000,9,-999.0000, -999.00
33RR20050106,       P16S,      12,          1,         22,         22,2,20050113,       1032,   -21.5002,  -149.9998,       5088,   876.9,   4.6754,  34.3669,2,  34.3667,2,    168.9,2,   173.1,2,   36.35,2,   32.40,2,    0.01,2,    2.28,2,-999.000,9,-999.000,9,-999.000,9,  2209.6,2,  2301.7,2,-999.000,9,-999.0000,9, -999.00,9, -999.00,9,  -999.0,9,  -999.0,-999.000,9,-999.000,-999.0000,9,   876.9,-999.000,   4.6055,     -999.0,9,     -999.0,9,     -999.0,9,     -999.0,9,     -999.0,9,     -999.0,9,     -999.0,9, -999.00,9,-999.0000,9,-999.0000,9,-999.0000,9,-999.0000,9,-999.0000,9,-999.0000,9,-999.0000, -999.00
33RR20050106,       P16S,      12,          1,         21,         21,2,20050113,       1032,   -21.5002,  -149.9998,       5088,   977.4,   4.2108,  34.4160,2,  34.4169,2,    159.2,2,   179.4,3,   49.70,2,   33.94,2,    0.00,2,    2.39,2,   0.103,2,   0.068,2,   0.001,2,  -999.0,9,  -999.0,9,-999.000,9,-999.0000,9, -999.00,9, -999.00,9,  -999.0,9,  -999.0,-999.000,9,-999.000,-999.0000,9,   977.4,-999.000,   4.1356,     -999.0,9,     -999.0,9,     -999.0,9,     -999.0,9,     -999.0,9,     -999.0,9,     -999.0,9, -999.00,9,-999.0000,9,-999.0000,9,-999.0000,9,-999.0000,9,-999.0000,9,-999.0000,9,-999.0000, -999.00
33RR20050106,       P16S,      12,          1,         20,         20,2,20050113,       1032,   -21.5002,  -149.9998,       5088,  1078.0,   3.7180,  34.4646,2,  34.4647,2,    154.6,2,   154.8,2,   63.08,2,   34.71,2,    0.00,2,    2.45,2,-999.000,9,-999.000,9,-999.000,9,  2247.2,6,  2330.9,2,-999.000,9,-999.0000,9, -999.00,9, -999.00,9,  -999.0,9,  -999.0,-999.000,9,-999.000,-999.0000,9,  1078.0,-999.000,   3.6382,     -999.0,9,     -999.0,9,     -999.0,9,     -999.0,9,     -999.0,9,     -999.0,9,     -999.0,9, -999.00,9,-999.0000,9,-999.0000,9,-999.0000,9,-999.0000,9,-999.0000,9,-999.0000,9,-999.0000, -999.00
33RR20050106,       P16S,      12,          1,         19,         19,2,20050113,       1032,   -21.5002,  -149.9998,       5088,  1178.6,   3.3381,  34.4990,2,  34.4986,2,    154.0,2,   154.3,2,   73.37,2,   34.94,2,    0.00,2,    2.47,2,   0.015,2,   0.010,2,   0.001,2,  -999.0,9,  -999.0,9,-999.000,9,-999.0000,9, -999.00,9, -999.00,9,  -999.0,9,  -999.0,-999.000,9,-999.000,-999.0000,9,  1178.6,-999.000,   3.2533,     -999.0,9,     -999.0,9,     -999.0,9,     -999.0,9,     -999.0,9,     -999.0,9,     -999.0,9, -999.00,9,-999.0000,9,-999.0000,9,-999.0000,9,-999.0000,9,-999.0000,9,-999.0000,9,-999.0000, -999.00
33RR20050106,       P16S,      12,          1,         18,         18,2,20050113,       1032,   -21.5002,  -149.9998,       5088,  1279.2,   3.0096,  34.5381,2,  34.5392,2,    152.9,2,   151.9,2,   84.93,2,   35.21,2,    0.00,2,    2.50,2,-999.000,9,-999.000,9,-999.000,9,  -999.0,9,  -999.0,9,-999.000,9,-999.0000,9, -999.00,9, -999.00,9,  -999.0,9,  -999.0,-999.000,9,-999.000,-999.0000,9,  1279.2,-999.000,   2.9198,     -999.0,9,     -999.0,9,     -999.0,9,     -999.0,9,     -999.0,9,     -999.0,9,     -999.0,9, -999.00,9,-999.0000,9,-999.0000,9,-999.0000,9,-999.0000,9,-999.0000,9,-999.0000,9,-999.0000, -999.00
33RR20050106,       P16S,      12,          1,         17,         17,2,20050113,       1032,   -21.5002,  -149.9998,       5088,  1380.2,   2.8151,  34.5604,2,  34.5616,2,    150.7,2,   150.6,2,   91.69,2,   35.39,2,    0.00,2,    2.51,2,   0.040,3,   0.029,3,   0.001,2,  -999.0,9,  -999.0,9,-999.000,9,-999.0000,9, -999.00,9, -999.00,9,  -999.0,9,  -999.0,-999.000,9,-999.000,-999.0000,9,  1380.2,-999.000,   2.7191,     -999.0,9,     -999.0,9,     -999.0,9,     -999.0,9,     -999.0,9,     -999.0,9,     -999.0,9, -999.00,9,-999.0000,9,-999.0000,9,-999.0000,9,-999.0000,9,-999.0000,9,-999.0000,9,-999.0000, -999.00
33RR20050106,       P16S,      12,          1,         16,         16,2,20050113,       1032,   -21.5002,  -149.9998,       5088,  1480.8,   2.6368,  34.5800,2,  34.5808,2,    149.8,2,   150.2,2,   97.60,2,   35.43,2,    0.00,2,    2.51,2,-999.000,9,-999.000,9,-999.000,9,  -999.0,9,  -999.0,9,-999.000,9,-999.0000,9, -999.00,9, -999.00,9,  -999.0,9,  -999.0,-999.000,9,-999.000,-999.0000,9,  1480.8,-999.000,   2.5347,     -999.0,9,     -999.0,9,     -999.0,9,     -999.0,9,     -999.0,9,     -999.0,9,     -999.0,9, -999.00,9,-999.0000,9,-999.0000,9,-999.0000,9,-999.0000,9,-999.0000,9,-999.0000,9,-999.0000, -999.00
33RR20050106,       P16S,      12,          1,         15,         15,2,20050113,       1032,   -21.5002,  -149.9998,       5088,  1581.4,   2.5282,  34.5934,2,  34.5932,2,    149.3,2,   149.4,2,  101.82,2,   35.55,2,    0.00,2,    2.51,2,   0.005,6,   0.005,6,   0.001,6,  -999.0,9,  -999.0,9,-999.000,9,-999.0000,9, -999.00,9, -999.00,9,  -999.0,9,  -999.0,-999.000,9,-999.000,-999.0000,9,  1581.4,-999.000,   2.4192,     -999.0,9,     -999.0,9,     -999.0,9,     -999.0,9,     -999.0,9,     -999.0,9,     -999.0,9, -999.00,9,-999.0000,9,-999.0000,9,-999.0000,9,-999.0000,9,-999.0000,9,-999.0000,9,-999.0000, -999.00
33RR20050106,       P16S,      12,          1,         14,         14,2,20050113,       1032,   -21.5002,  -149.9998,       5088,  1681.8,   2.4078,  34.6059,2,  34.6073,2,    149.0,2,   149.2,2,  106.06,2,   35.61,2,    0.00,2,    2.52,2,-999.000,9,-999.000,9,-999.000,9,  -999.0,9,  -999.0,9,-999.000,9,-999.0000,9, -999.00,9, -999.00,9,  -999.0,9,  -999.0,-999.000,9,-999.000,-999.0000,9,  1681.8,-999.000,   2.2921,     -999.0,9,     -999.0,9,     -999.0,9,     -999.0,9,     -999.0,9,     -999.0,9,     -999.0,9, -999.00,9,-999.0000,9,-999.0000,9,-999.0000,9,-999.0000,9,-999.0000,9,-999.0000,9,-999.0000, -999.00
33RR20050106,       P16S,      12,          1,         13,         13,2,20050113,       1032,   -21.5002,  -149.9998,       5088,  1783.2,   2.2842,  34.6189,2,  34.6187,2,    149.0,2,   149.6,2,  110.30,2,   35.72,2,    0.00,2,    2.52,2,   0.003,2,   0.006,2,   0.001,2,  -999.0,9,  -999.0,9,-999.000,9,-999.0000,9, -999.00,9, -999.00,9,  -999.0,9,  -999.0,-999.000,9,-999.000,-999.0000,9,  1783.2,-999.000,   2.1617,     -999.0,9,     -999.0,9,     -999.0,9,     -999.0,9,     -999.0,9,     -999.0,9,     -999.0,9, -999.00,9,-999.0000,9,-999.0000,9,-999.0000,9,-999.0000,9,-999.0000,9,-999.0000,9,-999.0000, -999.00
33RR20050106,       P16S,      12,          1,         12,         12,2,20050113,       1032,   -21.5002,  -149.9998,       5088,  1884.8,   2.1972,  34.6273,2,  34.6277,2,    149.3,2,   149.7,2,  113.27,2,   35.72,2,    0.00,2,    2.52,2,-999.000,9,-999.000,9,-999.000,9,  -999.0,9,  -999.0,9,-999.000,9,-999.0000,9, -999.00,9, -999.00,9,  -999.0,9,  -999.0,-999.000,9,-999.000,-999.0000,9,  1884.8,-999.000,   2.0675,     -999.0,9,     -999.0,9,     -999.0,9,     -999.0,9,     -999.0,9,     -999.0,9,     -999.0,9, -999.00,9,-999.0000,9,-999.0000,9,-999.0000,9,-999.0000,9,-999.0000,9,-999.0000,9,-999.0000, -999.00
33RR20050106,       P16S,      12,          1,         11,         11,2,20050113,       1032,   -21.5002,  -149.9998,       5088,  1985.7,   2.1386,  34.6331,2,  34.6332,2,    149.6,2,   150.0,2,  115.39,2,   35.72,2,    0.00,2,    2.51,2,   0.037,3,   0.030,3,   0.007,3,  -999.0,9,  -999.0,9,-999.000,9,-999.0000,9, -999.00,9, -999.00,9,  -999.0,9,  -999.0,-999.000,9,-999.000,-999.0000,9,  1985.7,-999.000,   2.0012,     -999.0,9,     -999.0,9,     -999.0,9,     -999.0,9,     -999.0,9,     -999.0,9,     -999.0,9, -999.00,9,-999.0000,9,-999.0000,9,-999.0000,9,-999.0000,9,-999.0000,9,-999.0000,9,-999.0000, -999.00
33RR20050106,       P16S,      12,          1,         10,         10,2,20050113,       1032,   -21.5002,  -149.9998,       5088,  2187.6,   2.0286,  34.6437,2,  34.6446,2,    150.5,2,   151.2,2,  119.00,2,   35.72,2,    0.00,2,    2.51,2,-999.000,9,-999.000,9,-999.000,9,  -999.0,9,  -999.0,9,-999.000,9,-999.0000,9, -999.00,9, -999.00,9,  -999.0,9,  -999.0,-999.000,9,-999.000,-999.0000,9,  2187.6,-999.000,   1.8756,     -999.0,9,     -999.0,9,     -999.0,9,     -999.0,9,     -999.0,9,     -999.0,9,     -999.0,9, -999.00,9,-999.0000,9,-999.0000,9,-999.0000,9,-999.0000,9,-999.0000,9,-999.0000,9,-999.0000, -999.00
33RR20050106,       P16S,      12,          1,          9,          9,2,20050113,       1032,   -21.5002,  -149.9998,       5088,  2440.8,   1.9107,  34.6547,2,  34.6546,2,    152.3,2,   152.7,2,  122.62,2,   35.61,2,    0.00,2,    2.51,2,-999.000,9,-999.000,9,-999.000,9,  -999.0,9,  -999.0,9,-999.000,9,-999.0000,9, -999.00,9, -999.00,9,  -999.0,9,  -999.0,-999.000,9,-999.000,-999.0000,9,  2440.8,-999.000,   1.7374,     -999.0,9,     -999.0,9,     -999.0,9,     -999.0,9,     -999.0,9,     -999.0,9,     -999.0,9, -999.00,9,-999.0000,9,-999.0000,9,-999.0000,9,-999.0000,9,-999.0000,9,-999.0000,9,-999.0000, -999.00
33RR20050106,       P16S,      12,          1,          8,          8,2,20050113,       1032,   -21.5002,  -149.9998,       5088,  2694.1,   1.8015,  34.6642,2,  34.6650,2,    154.9,2,   155.9,2,  124.75,2,   35.44,2,    0.00,2,    2.50,2,-999.000,9,-999.000,9,-999.000,9,  -999.0,9,  -999.0,9,-999.000,9,-999.0000,9, -999.00,9, -999.00,9,  -999.0,9,  -999.0,-999.000,9,-999.000,-999.0000,9,  2694.1,-999.000,   1.6071,     -999.0,9,     -999.0,9,     -999.0,9,     -999.0,9,     -999.0,9,     -999.0,9,     -999.0,9, -999.00,9,-999.0000,9,-999.0000,9,-999.0000,9,-999.0000,9,-999.0000,9,-999.0000,9,-999.0000, -999.00
33RR20050106,       P16S,      12,          1,          7,          7,2,20050113,       1032,   -21.5002,  -149.9998,       5088,  2947.9,   1.7018,  34.6726,2,  34.6724,2,    159.0,2,   160.4,2,  126.03,2,   35.23,2,    0.00,2,    2.47,2,-999.000,9,-999.000,9,-999.000,9,  -999.0,9,  -999.0,9,-999.000,9,-999.0000,9, -999.00,9, -999.00,9,  -999.0,9,  -999.0,-999.000,9,-999.000,-999.0000,9,  2947.9,-999.000,   1.4855,     -999.0,9,     -999.0,9,     -999.0,9,     -999.0,9,     -999.0,9,     -999.0,9,     -999.0,9, -999.00,9,-999.0000,9,-999.0000,9,-999.0000,9,-999.0000,9,-999.0000,9,-999.0000,9,-999.0000, -999.00