BOTTLE,20201109CCHSIOCBG
EXPOCODE,SECT_ID,STNNBR,CASTNO,SAMPNO,BTLNBR,BTLNBR_FLAG_W,DATE,TIME,LATITUDE,LONGITUDE,DEPTH,CTDPRS,CTDTMP,CTDSAL,CTDSAL_FLAG_W,SALNTY,SALNTY_FLAG_W,CTDOXY,CTDOXY_FLAG_W,OXYGEN,OXYGEN_FLAG_W,SILCAT,SILCAT_FLAG_W,NITRAT,NITRAT_FLAG_W,NITRIT,NITRIT_FLAG_W,PHSPHT,PHSPHT_FLAG_W,CFC-11,CFC-11_FLAG_W,CFC-12,CFC-12_FLAG_W,CFC113,CFC113_FLAG_W,TCARBN,TCARBN_FLAG_W,ALKALI,ALKALI_FLAG_W,TRITUM,TRITUM_FLAG_W,HELIUM,HELIUM_FLAG_W,DELHE3,DELHE3_FLAG_W,DELC13,DELC13_FLAG_W,DELC14,DELC14_FLAG_W,C14ERR,NEON,NEON_FLAG_W,NEONER,DOC,DOC_FLAG_W,CTDRAW,TRITER,THETA,FUCO,FUCO_FLAG_W,RHAM,RHAM_FLAG_W,ARABA,ARABA_FLAG_W,GALA,GALA_FLAG_W,GLUC,GLUC_FLAG_W,MAN,MAN_FLAG_W,DCNS,DCNS_FLAG_W,BRDU,BRDU_FLAG_W,CDOM325,CDOM325_FLAG_W,CDOM340,CDOM340_FLAG_W,CDOM380,CDOM380_FLAG_W,CDOM412,CDOM412_FLAG_W,CDOMSL,CDOMSL_FLAG_W,CDOMSN,CDOMSN_FLAG_W,HELIER,DELHER
,,,,,,,,,,,METERS,DBAR,ITS-90,PSS-78,,PSS-78,,UMOL/KG,,UMOL/KG,,UMOL/KG,,UMOL/KG,,UMOL/KG,,UMOL/KG,,PMOL/KG,,PMOL/KG,,PMOL/KG,,UMOL/KG,,UMOL/KG,,TU,,NMOL/KG,,PERCNT,,/MILLE,,/MILLE,,/MILLE,NMOL/KG,,NMOL/KG,UMOL/KG,,DBAR,TU,DEG C,NMOL/KG,,NMOL/KG,,NMOL/KG,,NMOL/KG,,NMOL/KG,,NMOL/KG,,NMOL/KG,,PMOL/L/H,,1/M,,1/M,,1/M,,1/M,,1/NM,,1/NM,,NMOL/KG,PERCNT
33RR20050106,       P16S,      87,          1,         31,         31,2,20050204,       1014,   -59.0002,  -150.0007,       2736,     3.4,   1.9535,  34.1326,2,  34.1336,2,    338.3,2,   340.3,2,   49.50,2,   23.71,2,    0.27,2,    1.55,2,   5.776,2,   3.227,2,   0.568,2,  2163.5,6,  2310.4,2,-999.000,9,-999.0000,9, -999.00,9, -999.00,9,  -999.0,9,  -999.0,-999.000,9,-999.000,  50.7106,3,     3.4,-999.000,   1.9533,     -999.0,9,     -999.0,9,     -999.0,9,     -999.0,9,     -999.0,9,     -999.0,9,     -999.0,9, -999.00,9,-999.0000,9,-999.0000,9,-999.0000,9,-999.0000,9,-999.0000,9,-999.0000,9,-999.0000, -999.00
33RR20050106,       P16S,      87,          1,         30,         30,2,20050204,       1014,   -59.0002,  -150.0007,       2736,    39.6,   1.9539,  34.1322,2,  34.1337,2,    340.5,2,   340.4,2,   49.50,2,   23.71,2,    0.27,2,    1.55,2,   5.795,2,   3.215,2,   0.573,2,  2162.9,2,  2310.4,2,-999.000,9,-999.0000,9, -999.00,9, -999.00,9,  -999.0,9,  -999.0,-999.000,9,-999.000,  43.4248,2,    39.6,-999.000,   1.9519,     -999.0,9,     -999.0,9,     -999.0,9,     -999.0,9,     -999.0,9,     -999.0,9,     -999.0,9, -999.00,9,-999.0000,9,-999.0000,9,-999.0000,9,-999.0000,9,-999.0000,9,-999.0000,9,-999.0000, -999.00
33RR20050106,       P16S,      87,          1,         29,         29,2,20050204,       1014,   -59.0002,  -150.0007,       2736,    84.2,  -1.4699,  34.2274,2,  34.2231,2,    318.0,2,   319.1,2,   68.28,2,   28.62,2,    0.15,2,    2.10,2,   5.207,2,   2.863,2,   0.527,2,  2209.4,2,  2312.0,2,-999.000,9,-999.0000,9, -999.00,9, -999.00,9,  -999.0,9,  -999.0,-999.000,9,-999.000,  43.7357,2,    84.2,-999.000,  -1.4718,     -999.0,9,     -999.0,9,     -999.0,9,     -999.0,9,     -999.0,9,     -999.0,9,     -999.0,9, -999.00,9,-999.0000,9,-999.0000,9,-999.0000,9,-999.0000,9,-999.0000,9,-999.0000,9,-999.0000, -999.00
33RR20050106,       P16S,      87,          1,         28,         28,2,20050204,       1014,   -59.0002,  -150.0007,       2736,   134.2,  -1.0718,  34.3325,2,  34.3302,2,    315.7,2,   308.9,2,   71.41,2,   29.58,2,    0.20,2,    2.08,2,   5.085,6,   2.771,6,   0.505,6,  2214.6,2,  2317.1,2,-999.000,9,-999.0000,9, -999.00,9, -999.00,9,  -999.0,9,  -999.0,-999.000,9,-999.000,  46.8763,3,   134.2,-999.000,  -1.0754,     -999.0,9,     -999.0,9,     -999.0,9,     -999.0,9,     -999.0,9,     -999.0,9,     -999.0,9, -999.00,9,-999.0000,9,-999.0000,9,-999.0000,9,-999.0000,9,-999.0000,9,-999.0000,9,-999.0000, -999.00
33RR20050106,       P16S,      87,          1,         27,         27,2,20050204,       1014,   -59.0002,  -150.0007,       2736,   159.8,  -0.0673,  34.4505,2,  34.4411,2,    281.0,2,   260.6,2,   75.19,2,   31.16,2,    0.04,2,    2.15,2,-999.000,9,-999.000,9,-999.000,9,  2228.9,2,  2323.4,2,-999.000,9,-999.0000,9, -999.00,9, -999.00,9,  -999.0,9,  -999.0,-999.000,9,-999.000,  42.0503,2,   159.8,-999.000,  -0.0730,     -999.0,9,     -999.0,9,     -999.0,9,     -999.0,9,     -999.0,9,     -999.0,9,     -999.0,9, -999.00,9,-999.0000,9,-999.0000,9,-999.0000,9,-999.0000,9,-999.0000,9,-999.0000,9,-999.0000, -999.00
33RR20050106,       P16S,      87,          1,         26,         26,2,20050204,       1014,   -59.0002,  -150.0007,       2736,   185.4,   1.7273,  34.6606,2,  34.6591,2,    200.0,2,   182.5,2,   82.11,2,   32.35,2,    0.01,2,    2.24,2,   0.666,2,   0.352,2,   0.065,2,  2252.4,2,  2337.7,2,-999.000,9,-999.0000,9, -999.00,9, -999.00,9,  -999.0,9,  -999.0,-999.000,9,-999.000,  42.1483,2,   185.4,-999.000,   1.7178,     -999.0,9,     -999.0,9,     -999.0,9,     -999.0,9,     -999.0,9,     -999.0,9,     -999.0,9, -999.00,9,-999.0000,9,-999.0000,9,-999.0000,9,-999.0000,9,-999.0000,9,-999.0000,9,-999.0000, -999.00
33RR20050106,       P16S,      87,          1,         25,         25,2,20050204,       1014,   -59.0002,  -150.0007,       2736,   235.4,   1.8225,  34.6963,2,  34.6960,2,    183.3,2,   183.0,2,   84.01,2,   31.87,2,    0.01,2,    2.19,2,   0.473,2,   0.249,2,   0.049,2,  2253.3,2,  2341.2,2,-999.000,9,-999.0000,9, -999.00,9, -999.00,9,  -999.0,9,  -999.0,-999.000,9,-999.000,  40.7793,2,   235.4,-999.000,   1.8101,     -999.0,9,     -999.0,9,     -999.0,9,     -999.0,9,     -999.0,9,     -999.0,9,     -999.0,9, -999.00,9,-999.0000,9,-999.0000,9,-999.0000,9,-999.0000,9,-999.0000,9,-999.0000,9,-999.0000, -999.00
33RR20050106,       P16S,      87,          1,         24,         24,2,20050204,       1014,   -59.0002,  -150.0007,       2736,   290.5,   1.7872,  34.7119,2,  34.7117,2,    184.7,2,   185.3,2,   85.28,2,   31.50,2,    0.01,2,    2.17,2,-999.000,9,-999.000,9,-999.000,9,  2252.1,2,  2343.1,2,-999.000,9,-999.0000,9, -999.00,9, -999.00,9,  -999.0,9,  -999.0,-999.000,9,-999.000,  38.0783,2,   290.5,-999.000,   1.7719,     -999.0,9,     -999.0,9,     -999.0,9,     -999.0,9,     -999.0,9,     -999.0,9,     -999.0,9, -999.00,9,-999.0000,9,-999.0000,9,-999.0000,9,-999.0000,9,-999.0000,9,-999.0000,9,-999.0000, -999.00
33RR20050106,       P16S,      87,          1,         23,         23,2,20050204,       1014,   -59.0002,  -150.0007,       2736,   341.8,   1.7319,  34.7200,2,  34.7184,2,    186.1,2,   187.9,2,   86.96,2,   31.13,2,    0.01,2,    2.14,2,   0.354,2,   0.185,2,   0.039,2,  2252.0,2,  2344.1,2,-999.000,9,-999.0000,9, -999.00,9, -999.00,9,  -999.0,9,  -999.0,-999.000,9,-999.000,  40.2620,2,   341.8,-999.000,   1.7139,     -999.0,9,     -999.0,9,     -999.0,9,     -999.0,9,     -999.0,9,     -999.0,9,     -999.0,9, -999.00,9,-999.0000,9,-999.0000,9,-999.0000,9,-999.0000,9,-999.0000,9,-999.0000,9,-999.0000, -999.00
33RR20050106,       P16S,      87,          1,         22,         22,2,20050204,       1014,   -59.0002,  -150.0007,       2736,   391.7,   1.7156,  34.7253,2,  34.7243,2,    188.4,2,   189.2,2,   87.61,2,   30.96,2,    0.01,2,    2.13,2,-999.000,9,-999.000,9,-999.000,9,  2252.7,2,  2345.2,2,-999.000,9,-999.0000,9, -999.00,9, -999.00,9,  -999.0,9,  -999.0,-999.000,9,-999.000,  41.4921,2,   391.7,-999.000,   1.6948,     -999.0,9,     -999.0,9,     -999.0,9,     -999.0,9,     -999.0,9,     -999.0,9,     -999.0,9, -999.00,9,-999.0000,9,-999.0000,9,-999.0000,9,-999.0000,9,-999.0000,9,-999.0000,9,-999.0000, -999.00
33RR20050106,       P16S,      87,          1,         21,         21,2,20050204,       1014,   -59.0002,  -150.0007,       2736,   442.3,   1.6542,  34.7293,2,  34.7284,2,    189.6,2,   191.1,2,   89.51,2,   30.86,2,    0.00,2,    2.13,2,   0.284,2,   0.147,2,   0.033,2,  2251.4,2,  2346.5,2,-999.000,9,-999.0000,9, -999.00,9, -999.00,9,  -999.0,9,  -999.0,-999.000,9,-999.000,-999.0000,9,   442.3,-999.000,   1.6308,     -999.0,9,     -999.0,9,     -999.0,9,     -999.0,9,     -999.0,9,     -999.0,9,     -999.0,9, -999.00,9,-999.0000,9,-999.0000,9,-999.0000,9,-999.0000,9,-999.0000,9,-999.0000,9,-999.0000, -999.00
33RR20050106,       P16S,      87,          1,         20,         20,2,20050204,       1014,   -59.0002,  -150.0007,       2736,   492.9,   1.6085,  34.7322,2,  34.7317,2,    191.2,2,   193.1,2,   91.20,2,   30.74,2,    0.00,2,    2.11,2,-999.000,9,-999.000,9,-999.000,9,  2251.5,2,  2347.8,2,-999.000,9,-999.0000,9, -999.00,9, -999.00,9,  -999.0,9,  -999.0,-999.000,9,-999.000,  39.0531,2,   492.9,-999.000,   1.5823,     -999.0,9,     -999.0,9,     -999.0,9,     -999.0,9,     -999.0,9,     -999.0,9,     -999.0,9, -999.00,9,-999.0000,9,-999.0000,9,-999.0000,9,-999.0000,9,-999.0000,9,-999.0000,9,-999.0000, -999.00
33RR20050106,       P16S,      87,          1,         19,         19,2,20050204,       1014,   -59.0002,  -150.0007,       2736,   578.1,   1.5461,  34.7333,2,  34.7304,2,    193.0,2,   193.8,2,   92.89,2,   30.74,2,    0.01,2,    2.11,2,   0.255,2,   0.134,2,   0.032,2,  2252.0,2,  2349.3,2,-999.000,9,-999.0000,9, -999.00,9, -999.00,9,  -999.0,9,  -999.0,-999.000,9,-999.000,  41.1666,2,   578.1,-999.000,   1.5153,     -999.0,9,     -999.0,9,     -999.0,9,     -999.0,9,     -999.0,9,     -999.0,9,     -999.0,9, -999.00,9,-999.0000,9,-999.0000,9,-999.0000,9,-999.0000,9,-999.0000,9,-999.0000,9,-999.0000, -999.00
33RR20050106,       P16S,      87,          1,         18,         18,2,20050204,       1014,   -59.0002,  -150.0007,       2736,   678.8,   1.4721,  34.7343,2,  34.7339,2,    195.0,2,   195.4,2,   95.44,2,   30.74,2,    0.00,2,    2.12,2,   0.226,2,   0.110,2,   0.024,2,  2254.1,2,  2350.7,2,-999.000,9,-999.0000,9, -999.00,9, -999.00,9,  -999.0,9,  -999.0,-999.000,9,-999.000,  41.1065,2,   678.8,-999.000,   1.4358,     -999.0,9,     -999.0,9,     -999.0,9,     -999.0,9,     -999.0,9,     -999.0,9,     -999.0,9, -999.00,9,-999.0000,9,-999.0000,9,-999.0000,9,-999.0000,9,-999.0000,9,-999.0000,9,-999.0000, -999.00
33RR20050106,       P16S,      87,          1,         17,         17,2,20050204,       1014,   -59.0002,  -150.0007,       2736,   780.2,   1.3950,  34.7340,2,  34.7341,2,    196.5,2,   197.1,2,   98.19,2,   30.69,2,    0.00,2,    2.12,2,   0.192,2,   0.101,2,   0.027,2,  2255.7,2,  2352.1,2,-999.000,9,-999.0000,9, -999.00,9, -999.00,9,  -999.0,9,  -999.0,-999.000,9,-999.000,  39.2012,2,   780.2,-999.000,   1.3530,     -999.0,9,     -999.0,9,     -999.0,9,     -999.0,9,     -999.0,9,     -999.0,9,     -999.0,9, -999.00,9,-999.0000,9,-999.0000,9,-999.0000,9,-999.0000,9,-999.0000,9,-999.0000,9,-999.0000, -999.00
33RR20050106,       P16S,      87,          1,         16,         16,2,20050204,       1014,   -59.0002,  -150.0007,       2736,   881.2,   1.2749,  34.7292,2,  34.7287,2,    193.5,2,   193.9,2,  102.63,2,   31.27,2,    0.00,2,    2.15,2,   0.263,2,   0.144,2,   0.034,2,  2259.0,2,  2352.7,2,-999.000,9,-999.0000,9, -999.00,9, -999.00,9,  -999.0,9,  -999.0,-999.000,9,-999.000,  41.6010,2,   881.2,-999.000,   1.2276,     -999.0,9,     -999.0,9,     -999.0,9,     -999.0,9,     -999.0,9,     -999.0,9,     -999.0,9, -999.00,9,-999.0000,9,-999.0000,9,-999.0000,9,-999.0000,9,-999.0000,9,-999.0000,9,-999.0000, -999.00
33RR20050106,       P16S,      87,          1,         15,         15,2,20050204,       1014,   -59.0002,  -150.0007,       2736,   982.4,   1.1987,  34.7277,2,  34.7268,2,    195.0,2,   196.2,2,  105.60,2,   31.21,2,    0.00,2,    2.15,2,   0.237,2,   0.126,2,   0.031,2,  2258.9,2,  2353.9,2,-999.000,9,-999.0000,9, -999.00,9, -999.00,9,  -999.0,9,  -999.0,-999.000,9,-999.000,  39.1258,2,   982.4,-999.000,   1.1458,     -999.0,9,     -999.0,9,     -999.0,9,     -999.0,9,     -999.0,9,     -999.0,9,     -999.0,9, -999.00,9,-999.0000,9,-999.0000,9,-999.0000,9,-999.0000,9,-999.0000,9,-999.0000,9,-999.0000, -999.00
33RR20050106,       P16S,      87,          1,         14,         14,2,20050204,       1014,   -59.0002,  -150.0007,       2736,  1082.7,   1.1145,  34.7251,2,  34.7248,2,    196.0,2,   196.8,2,  108.99,2,   31.32,2,    0.00,2,    2.17,2,   0.146,2,   0.081,2,   0.018,2,  2261.5,2,  2354.3,2,-999.000,9,-999.0000,9, -999.00,9, -999.00,9,  -999.0,9,  -999.0,-999.000,9,-999.000,  39.5053,2,  1082.7,-999.000,   1.0560,     -999.0,9,     -999.0,9,     -999.0,9,     -999.0,9,     -999.0,9,     -999.0,9,     -999.0,9, -999.00,9,-999.0000,9,-999.0000,9,-999.0000,9,-999.0000,9,-999.0000,9,-999.0000,9,-999.0000, -999.00
33RR20050106,       P16S,      87,          1,         13,         13,2,20050204,       1014,   -59.0002,  -150.0007,       2736,  1184.2,   1.0662,  34.7231,2,  34.7232,2,    197.8,2,   198.3,2,  110.49,2,   31.37,2,    0.00,2,    2.17,2,   0.183,2,   0.101,2,   0.026,2,  2260.7,6,  2356.0,2,-999.000,9,-999.0000,9, -999.00,9, -999.00,9,  -999.0,9,  -999.0,-999.000,9,-999.000,  39.3570,2,  1184.2,-999.000,   1.0016,     -999.0,9,     -999.0,9,     -999.0,9,     -999.0,9,     -999.0,9,     -999.0,9,     -999.0,9, -999.00,9,-999.0000,9,-999.0000,9,-999.0000,9,-999.0000,9,-999.0000,9,-999.0000,9,-999.0000, -999.00
33RR20050106,       P16S,      87,          1,         12,         12,2,20050204,       1014,   -59.0002,  -150.0007,       2736,  1285.8,   0.9804,  34.7198,2,  34.7197,2,    199.3,2,   200.2,2,  113.04,2,   31.42,2,    0.00,2,    2.17,2,   0.144,2,   0.077,2,   0.023,2,  2261.6,2,  2356.4,2,-999.000,9,-999.0000,9, -999.00,9, -999.00,9,  -999.0,9,  -999.0,-999.000,9,-999.000,-999.0000,9,  1285.8,-999.000,   0.9101,     -999.0,9,     -999.0,9,     -999.0,9,     -999.0,9,     -999.0,9,     -999.0,9,     -999.0,9, -999.00,9,-999.0000,9,-999.0000,9,-999.0000,9,-999.0000,9,-999.0000,9,-999.0000,9,-999.0000, -999.00
33RR20050106,       P16S,      87,          1,         11,         11,2,20050204,       1014,   -59.0002,  -150.0007,       2736,  1387.2,   0.9078,  34.7168,2,  34.7171,2,    200.1,2,   201.3,2,  115.60,2,   31.53,2,    0.00,2,    2.18,2,   0.147,2,   0.077,2,   0.024,2,  2260.9,2,  2357.1,2,-999.000,9,-999.0000,9, -999.00,9, -999.00,9,  -999.0,9,  -999.0,-999.000,9,-999.000,  40.3129,2,  1387.2,-999.000,   0.8316,     -999.0,9,     -999.0,9,     -999.0,9,     -999.0,9,     -999.0,9,     -999.0,9,     -999.0,9, -999.00,9,-999.0000,9,-999.0000,9,-999.0000,9,-999.0000,9,-999.0000,9,-999.0000,9,-999.0000, -999.00
33RR20050106,       P16S,      87,          1,         10,         10,2,20050204,       1014,   -59.0002,  -150.0007,       2736,  1487.5,   0.8502,  34.7144,2,  34.7149,2,    201.7,2,   202.6,2,  117.31,2,   31.52,2,    0.00,2,    2.18,2,   0.152,2,   0.084,2,   0.026,2,  2261.8,2,  2357.5,2,-999.000,9,-999.0000,9, -999.00,9, -999.00,9,  -999.0,9,  -999.0,-999.000,9,-999.000,-999.0000,9,  1487.5,-999.000,   0.7679,     -999.0,9,     -999.0,9,     -999.0,9,     -999.0,9,     -999.0,9,     -999.0,9,     -999.0,9, -999.00,9,-999.0000,9,-999.0000,9,-999.0000,9,-999.0000,9,-999.0000,9,-999.0000,9,-999.0000, -999.00
33RR20050106,       P16S,      87,          1,          9,          9,2,20050204,       1014,   -59.0002,  -150.0007,       2736,  1589.0,   0.7930,  34.7122,2,  34.7124,2,    203.0,2,   204.0,2,  119.45,2,   31.62,2,    0.00,2,    2.18,2,   0.165,2,   0.095,2,   0.030,2,  2262.0,2,  2358.1,2,-999.000,9,-999.0000,9, -999.00,9, -999.00,9,  -999.0,9,  -999.0,-999.000,9,-999.000,  42.2122,2,  1589.0,-999.000,   0.7045,     -999.0,9,     -999.0,9,     -999.0,9,     -999.0,9,     -999.0,9,     -999.0,9,     -999.0,9, -999.00,9,-999.0000,9,-999.0000,9,-999.0000,9,-999.0000,9,-999.0000,9,-999.0000,9,-999.0000, -999.00
33RR20050106,       P16S,      87,          1,          8,          8,2,20050204,       1014,   -59.0002,  -150.0007,       2736,  1691.0,   0.7532,  34.7104,2,  34.7108,2,    203.8,2,   204.6,2, -999.00,9, -999.00,9, -999.00,9, -999.00,9,   0.134,2,   0.075,2,   0.016,2,  2262.2,2,  2358.1,2,-999.000,9,-999.0000,9, -999.00,9, -999.00,9,  -999.0,9,  -999.0,-999.000,9,-999.000,-999.0000,9,  1691.0,-999.000,   0.6581,     -999.0,9,     -999.0,9,     -999.0,9,     -999.0,9,     -999.0,9,     -999.0,9,     -999.0,9, -999.00,9,-999.0000,9,-999.0000,9,-999.0000,9,-999.0000,9,-999.0000,9,-999.0000,9,-999.0000, -999.00
33RR20050106,       P16S,      87,          1,          7,          7,3,20050204,       1014,   -59.0002,  -150.0007,       2736,  1792.3,   0.7156,  34.7091,2,  34.7094,4,    204.3,2,   205.0,4,  123.28,4,   31.78,4,    0.00,4,    2.20,4,   0.125,2,   0.072,2,   0.024,2,  2262.3,2,  2358.3,2,-999.000,9,-999.0000,9, -999.00,9, -999.00,9,  -999.0,9,  -999.0,-999.000,9,-999.000,  38.3297,2,  1792.3,-999.000,   0.6138,     -999.0,9,     -999.0,9,     -999.0,9,     -999.0,9,     -999.0,9,     -999.0,9,     -999.0,9, -999.00,9,-999.0000,9,-999.0000,9,-999.0000,9,-999.0000,9,-999.0000,9,-999.0000,9,-999.0000, -999.00
33RR20050106,       P16S,      87,          1,          6,          6,2,20050204,       1014,   -59.0002,  -150.0007,       2736,  1893.5,   0.6830,  34.7076,2,  34.7090,2,    204.9,2,   205.5,2,  124.79,2,   31.78,2,    0.00,2,    2.20,2,   0.140,2,   0.081,2,   0.020,2,  2263.3,2,  2358.2,2,-999.000,9,-999.0000,9, -999.00,9, -999.00,9,  -999.0,9,  -999.0,-999.000,9,-999.000,-999.0000,9,  1893.5,-999.000,   0.5744,     -999.0,9,     -999.0,9,     -999.0,9,     -999.0,9,     -999.0,9,     -999.0,9,     -999.0,9, -999.00,9,-999.0000,9,-999.0000,9,-999.0000,9,-999.0000,9,-999.0000,9,-999.0000,9,-999.0000, -999.00
33RR20050106,       P16S,      87,          1,          5,          5,2,20050204,       1014,   -59.0002,  -150.0007,       2736,  1994.7,   0.6580,  34.7066,2,  34.7056,2,    205.7,2,   206.7,2,  125.03,2,   31.77,2,    0.00,2,    2.20,2,   0.160,2,   0.083,2,   0.022,2,  2262.7,2,  2358.3,2,-999.000,9,-999.0000,9, -999.00,9, -999.00,9,  -999.0,9,  -999.0,-999.000,9,-999.000,  39.1001,2,  1994.7,-999.000,   0.5423,     -999.0,9,     -999.0,9,     -999.0,9,     -999.0,9,     -999.0,9,     -999.0,9,     -999.0,9, -999.00,9,-999.0000,9,-999.0000,9,-999.0000,9,-999.0000,9,-999.0000,9,-999.0000,9,-999.0000, -999.00
33RR20050106,       P16S,      87,          1,          4,          4,2,20050204,       1014,   -59.0002,  -150.0007,       2736,  2197.8,   0.5990,  34.7047,2,  34.7037,2,    207.1,2,   207.8,2,  126.11,2,   31.77,2,    0.00,2,    2.20,2,   0.198,2,   0.109,2,   0.022,2,  2262.2,2,  2357.8,2,-999.000,9,-999.0000,9, -999.00,9, -999.00,9,  -999.0,9,  -999.0,-999.000,9,-999.000,-999.0000,9,  2197.8,-999.000,   0.4688,     -999.0,9,     -999.0,9,     -999.0,9,     -999.0,9,     -999.0,9,     -999.0,9,     -999.0,9, -999.00,9,-999.0000,9,-999.0000,9,-999.0000,9,-999.0000,9,-999.0000,9,-999.0000,9,-999.0000, -999.00
33RR20050106,       P16S,      87,          1,          3,          3,2,20050204,       1014,   -59.0002,  -150.0007,       2736,  2431.4,   0.4885,  34.7022,2,  34.7019,2,    209.4,2,   210.3,2,  126.54,2,   31.93,2,    0.00,2,    2.21,2,   0.267,2,   0.137,2,   0.033,2,  2258.6,3,  2357.3,2,-999.000,9,-999.0000,9, -999.00,9, -999.00,9,  -999.0,9,  -999.0,-999.000,9,-999.000,  40.3676,2,  2431.4,-999.000,   0.3419,     -999.0,9,     -999.0,9,     -999.0,9,     -999.0,9,     -999.0,9,     -999.0,9,     -999.0,9, -999.00,9,-999.0000,9,-999.0000,9,-999.0000,9,-999.0000,9,-999.0000,9,-999.0000,9,-999.0000, -999.00
33RR20050106,       P16S,      87,          1,          2,          2,2,20050204,       1014,   -59.0002,  -150.0007,       2736,  2584.3,   0.3945,  34.7003,2,  34.7007,2,    211.4,2,   212.5,2,  127.42,2,   31.93,2,    0.00,2,    2.21,2,-999.000,9,-999.000,9,-999.000,9,  2265.8,3,  2357.9,2,-999.000,9,-999.0000,9, -999.00,9, -999.00,9,  -999.0,9,  -999.0,-999.000,9,-999.000,-999.0000,9,  2584.3,-999.000,   0.2374,     -999.0,9,     -999.0,9,     -999.0,9,     -999.0,9,     -999.0,9,     -999.0,9,     -999.0,9, -999.00,9,-999.0000,9,-999.0000,9,-999.0000,9,-999.0000,9,-999.0000,9,-999.0000,9,-999.0000, -999.00