BOTTLE,20201109CCHSIOCBG
EXPOCODE,SECT_ID,STNNBR,CASTNO,SAMPNO,BTLNBR,BTLNBR_FLAG_W,DATE,TIME,LATITUDE,LONGITUDE,DEPTH,CTDPRS,CTDTMP,CTDSAL,CTDSAL_FLAG_W,SALNTY,SALNTY_FLAG_W,CTDOXY,CTDOXY_FLAG_W,OXYGEN,OXYGEN_FLAG_W,SILCAT,SILCAT_FLAG_W,NITRAT,NITRAT_FLAG_W,NITRIT,NITRIT_FLAG_W,PHSPHT,PHSPHT_FLAG_W,CFC-11,CFC-11_FLAG_W,CFC-12,CFC-12_FLAG_W,CFC113,CFC113_FLAG_W,TCARBN,TCARBN_FLAG_W,ALKALI,ALKALI_FLAG_W,TRITUM,TRITUM_FLAG_W,HELIUM,HELIUM_FLAG_W,DELHE3,DELHE3_FLAG_W,DELC13,DELC13_FLAG_W,DELC14,DELC14_FLAG_W,C14ERR,NEON,NEON_FLAG_W,NEONER,DOC,DOC_FLAG_W,CTDRAW,TRITER,THETA,FUCO,FUCO_FLAG_W,RHAM,RHAM_FLAG_W,ARABA,ARABA_FLAG_W,GALA,GALA_FLAG_W,GLUC,GLUC_FLAG_W,MAN,MAN_FLAG_W,DCNS,DCNS_FLAG_W,BRDU,BRDU_FLAG_W,CDOM325,CDOM325_FLAG_W,CDOM340,CDOM340_FLAG_W,CDOM380,CDOM380_FLAG_W,CDOM412,CDOM412_FLAG_W,CDOMSL,CDOMSL_FLAG_W,CDOMSN,CDOMSN_FLAG_W,HELIER,DELHER
,,,,,,,,,,,METERS,DBAR,ITS-90,PSS-78,,PSS-78,,UMOL/KG,,UMOL/KG,,UMOL/KG,,UMOL/KG,,UMOL/KG,,UMOL/KG,,PMOL/KG,,PMOL/KG,,PMOL/KG,,UMOL/KG,,UMOL/KG,,TU,,NMOL/KG,,PERCNT,,/MILLE,,/MILLE,,/MILLE,NMOL/KG,,NMOL/KG,UMOL/KG,,DBAR,TU,DEG C,NMOL/KG,,NMOL/KG,,NMOL/KG,,NMOL/KG,,NMOL/KG,,NMOL/KG,,NMOL/KG,,PMOL/L/H,,1/M,,1/M,,1/M,,1/M,,1/NM,,1/NM,,NMOL/KG,PERCNT
33RR20050106,       P16S,       7,          1,          6,          6,2,20050112,       0142,   -18.9997,  -150.0002,       4260,  3283.3,   1.5738,  34.6822,2,  34.6825,2,    169.3,3,   170.1,2,  123.96,2,   34.57,2,    0.00,2,    2.44,2,   0.018,3,   0.016,3,   0.000,2,  2297.5,2,  2389.8,2,-999.000,9,-999.0000,9, -999.00,9, -999.00,5,  -198.1,2,     2.8,-999.000,9,-999.000,-999.0000,9,  3283.3,-999.000,   1.3277,     -999.0,9,     -999.0,9,     -999.0,9,     -999.0,9,     -999.0,9,     -999.0,9,     -999.0,9, -999.00,9,-999.0000,9,-999.0000,9,-999.0000,9,-999.0000,9,-999.0000,9,-999.0000,9,-999.0000, -999.00
33RR20050106,       P16S,       7,          1,          5,          5,2,20050112,       0142,   -18.9997,  -150.0002,       4260,  3537.6,   1.5275,  34.6865,2,  34.6872,2,    172.4,3,   173.9,2,  123.54,2,   34.35,2,    0.00,2,    2.41,2,-999.000,9,-999.000,9,-999.000,9,  2295.5,2,  2389.4,2,-999.000,9,-999.0000,9, -999.00,9, -999.00,5,  -201.0,2,     3.0,-999.000,9,-999.000,  35.9061,2,  3537.6,-999.000,   1.2567,     -999.0,9,     -999.0,9,     -999.0,9,     -999.0,9,     -999.0,9,     -999.0,9,     -999.0,9, -999.00,9,-999.0000,9,-999.0000,9,-999.0000,9,-999.0000,9,-999.0000,9,-999.0000,9,-999.0000, -999.00
33RR20050106,       P16S,       7,          1,          4,          4,2,20050112,       0142,   -18.9997,  -150.0002,       4260,  3792.0,   1.5099,  34.6891,2,  34.6898,2,    175.0,3,   176.4,2,  123.33,2,   34.03,2,    0.00,2,    2.39,2,   0.005,2,  -0.001,2,   0.000,2,  2294.1,2,  2386.8,2,-999.000,9,-999.0000,9, -999.00,9, -999.00,5,  -187.9,2,     2.6,-999.000,9,-999.000,-999.0000,9,  3792.0,-999.000,   1.2130,     -999.0,9,     -999.0,9,     -999.0,9,     -999.0,9,     -999.0,9,     -999.0,9,     -999.0,9, -999.00,9,-999.0000,9,-999.0000,9,-999.0000,9,-999.0000,9,-999.0000,9,-999.0000,9,-999.0000, -999.00
33RR20050106,       P16S,       7,          1,          3,          3,2,20050112,       0142,   -18.9997,  -150.0002,       4260,  4046.4,   1.5057,  34.6910,2,  34.6920,2,    176.9,3,   177.9,2,  123.12,2,   33.92,2,    0.00,2,    2.39,2,-999.000,9,-999.000,9,-999.000,9,  2292.7,2,  2386.5,2,-999.000,9,-999.0000,9, -999.00,9, -999.00,5,  -189.9,2,     2.8,-999.000,9,-999.000,  37.3422,2,  4046.4,-999.000,   1.1815,     -999.0,9,     -999.0,9,     -999.0,9,     -999.0,9,     -999.0,9,     -999.0,9,     -999.0,9, -999.00,9,-999.0000,9,-999.0000,9,-999.0000,9,-999.0000,9,-999.0000,9,-999.0000,9,-999.0000, -999.00
33RR20050106,       P16S,       7,          1,          2,          2,2,20050112,       0142,   -18.9997,  -150.0002,       4260,  4235.6,   1.5157,  34.6916,2,  34.6916,2,    178.1,3,   178.5,2,  123.11,2,   33.92,2,    0.00,2,    2.39,2,   0.016,3,  -0.001,2,   0.000,2,  2291.6,2,  2383.6,2,-999.000,9,-999.0000,9, -999.00,9, -999.00,5,  -184.8,2,     2.8,-999.000,9,-999.000,-999.0000,9,  4235.6,-999.000,   1.1702,     -999.0,9,     -999.0,9,     -999.0,9,     -999.0,9,     -999.0,9,     -999.0,9,     -999.0,9, -999.00,9,-999.0000,9,-999.0000,9,-999.0000,9,-999.0000,9,-999.0000,9,-999.0000,9,-999.0000, -999.00
33RR20050106,       P16S,       7,          1,          1,          1,2,20050112,       0142,   -18.9997,  -150.0002,       4260,  4337.6,   1.5243,  34.6919,2,  34.6921,2,    179.4,3,   179.5,2,  123.11,2,   33.86,2,    0.00,2,    2.39,2,-999.000,9,-999.000,9,-999.000,9,  2291.0,6,  2387.4,6,-999.000,9,-999.0000,9, -999.00,9, -999.00,5,  -180.6,2,     2.4,-999.000,9,-999.000,  38.8118,2,  4337.6,-999.000,   1.1670,     -999.0,9,     -999.0,9,     -999.0,9,     -999.0,9,     -999.0,9,     -999.0,9,     -999.0,9, -999.00,9,-999.0000,9,-999.0000,9,-999.0000,9,-999.0000,9,-999.0000,9,-999.0000,9,-999.0000, -999.00