BOTTLE,20201109CCHSIOCBG
EXPOCODE,SECT_ID,STNNBR,CASTNO,SAMPNO,BTLNBR,BTLNBR_FLAG_W,DATE,TIME,LATITUDE,LONGITUDE,DEPTH,CTDPRS,CTDTMP,CTDSAL,CTDSAL_FLAG_W,SALNTY,SALNTY_FLAG_W,CTDOXY,CTDOXY_FLAG_W,OXYGEN,OXYGEN_FLAG_W,SILCAT,SILCAT_FLAG_W,NITRAT,NITRAT_FLAG_W,NITRIT,NITRIT_FLAG_W,PHSPHT,PHSPHT_FLAG_W,CFC-11,CFC-11_FLAG_W,CFC-12,CFC-12_FLAG_W,CFC113,CFC113_FLAG_W,TCARBN,TCARBN_FLAG_W,ALKALI,ALKALI_FLAG_W,TRITUM,TRITUM_FLAG_W,HELIUM,HELIUM_FLAG_W,DELHE3,DELHE3_FLAG_W,DELC13,DELC13_FLAG_W,DELC14,DELC14_FLAG_W,C14ERR,NEON,NEON_FLAG_W,NEONER,DOC,DOC_FLAG_W,CTDRAW,TRITER,THETA,FUCO,FUCO_FLAG_W,RHAM,RHAM_FLAG_W,ARABA,ARABA_FLAG_W,GALA,GALA_FLAG_W,GLUC,GLUC_FLAG_W,MAN,MAN_FLAG_W,DCNS,DCNS_FLAG_W,BRDU,BRDU_FLAG_W,CDOM325,CDOM325_FLAG_W,CDOM340,CDOM340_FLAG_W,CDOM380,CDOM380_FLAG_W,CDOM412,CDOM412_FLAG_W,CDOMSL,CDOMSL_FLAG_W,CDOMSN,CDOMSN_FLAG_W,HELIER,DELHER
,,,,,,,,,,,METERS,DBAR,ITS-90,PSS-78,,PSS-78,,UMOL/KG,,UMOL/KG,,UMOL/KG,,UMOL/KG,,UMOL/KG,,UMOL/KG,,PMOL/KG,,PMOL/KG,,PMOL/KG,,UMOL/KG,,UMOL/KG,,TU,,NMOL/KG,,PERCNT,,/MILLE,,/MILLE,,/MILLE,NMOL/KG,,NMOL/KG,UMOL/KG,,DBAR,TU,DEG C,NMOL/KG,,NMOL/KG,,NMOL/KG,,NMOL/KG,,NMOL/KG,,NMOL/KG,,NMOL/KG,,PMOL/L/H,,1/M,,1/M,,1/M,,1/M,,1/NM,,1/NM,,NMOL/KG,PERCNT
33RR20050106,       P16S,      99,          1,         32,         32,2,20050207,       1939,   -64.9995,  -150.0000,       4162,     6.6,   0.6221,  34.0180,2,  34.0190,2,    339.0,2,   340.5,2,   46.38,2,   24.95,2,    0.26,2,    1.71,2,   6.023,2,   3.311,2,   0.644,2,  2172.5,6,  2301.2,6,-999.000,9,-999.0000,9, -999.00,9, -999.00,5,   -98.3,2,     3.1,-999.000,9,-999.000,  44.2711,2,     6.6,-999.000,   0.6218,         31,2,         33,2,         52,2,         77,2,        160,2,         70,2,        424,2, -999.00,9,   0.0570,2,   0.0320,2,   0.0120,2,   0.0090,2,   0.0396,2,   0.0408,2,-999.0000, -999.00
33RR20050106,       P16S,      99,          1,         31,         31,2,20050207,       1939,   -64.9995,  -150.0000,       4162,    39.5,   0.6170,  34.0178,2,  34.0202,2,    340.4,2,   340.9,2,   46.38,2,   24.85,2,    0.26,2,    1.72,2,   6.025,6,   3.336,6,   0.641,6,  2171.9,2,  2300.0,2,-999.000,9,-999.0000,9, -999.00,9, -999.00,5,  -100.5,2,     3.1,-999.000,9,-999.000,  43.7375,2,    39.5,-999.000,   0.6154,         57,2,         51,2,         39,2,        119,2,        134,2,        117,2,        518,2, -999.00,9,   0.0270,4,   0.0030,4,  -0.0120,4,  -0.0080,4,   0.0837,3,   0.0831,3,-999.0000, -999.00
33RR20050106,       P16S,      99,          1,         30,         30,2,20050207,       1939,   -64.9995,  -150.0000,       4162,    85.1,  -1.6036,  34.1483,2,  34.1470,2,    318.3,2,   319.6,2,   52.27,2,   26.83,2,    0.23,2,    1.88,2,   5.286,2,   2.901,2,   0.580,2,  2194.8,2,  2308.8,2,-999.000,9,-999.0000,9, -999.00,9, -999.00,5,  -108.1,2,     3.1,-999.000,9,-999.000,  43.7154,2,    85.1,-999.000,  -1.6054,         49,2,         41,2,         73,2,        111,2,        129,2,        128,2,        531,2, -999.00,9,   0.0790,2,   0.0470,2,   0.0200,2,   0.0160,2,   0.0300,2,   0.0319,2,-999.0000, -999.00
33RR20050106,       P16S,      99,          1,         29,         29,2,20050207,       1939,   -64.9995,  -150.0000,       4162,    99.8,  -1.5865,  34.1743,2,  34.1717,2,    313.6,2,   314.4,2,   54.10,2,   27.12,2,    0.25,2,    1.92,2,   5.253,2,   2.890,2,   0.538,2,  2199.2,2,  2311.2,2,-999.000,9,-999.0000,9, -999.00,9, -999.00,5,  -116.6,2,     2.8,-999.000,9,-999.000,  46.1087,2,    99.8,-999.000,  -1.5886,         48,2,         38,2,         45,2,         97,2,        338,2,        129,2,        696,2, -999.00,9,   0.0850,2,   0.0530,2,   0.0250,2,   0.0190,2,   0.0245,2,   0.0267,2,-999.0000, -999.00
33RR20050106,       P16S,      99,          1,         28,         28,2,20050207,       1939,   -64.9995,  -150.0000,       4162,   134.9,  -0.2941,  34.4110,2,  34.3965,2,    268.1,2,   252.6,2,   71.26,2,   30.59,2,    0.11,2,    2.10,2,   3.221,2,   1.765,2,   0.334,2,  2229.1,2,  2323.2,2,-999.000,9,-999.0000,9, -999.00,9, -999.00,5,  -126.9,2,     4.6,-999.000,9,-999.000,  40.0563,2,   134.9,-999.000,  -0.2986,         22,2,         28,2,         45,2,         75,2,         71,2,         66,2,        308,2, -999.00,9,   0.0960,2,   0.0610,2,   0.0280,2,   0.0220,2,   0.0237,2,   0.0259,2,-999.0000, -999.00
33RR20050106,       P16S,      99,          1,         27,         27,2,20050207,       1939,   -64.9995,  -150.0000,       4162,   160.2,   0.8253,  34.6091,2,  34.6023,2,    212.5,2,   199.5,2,   88.49,2,   32.73,2,    0.04,2,    2.25,2,   1.320,2,   0.734,2,   0.129,2,  2252.7,2,  2336.9,2,-999.000,9,-999.0000,9, -999.00,9, -999.00,5,  -140.6,2,     2.4,-999.000,9,-999.000,  39.6332,2,   160.2,-999.000,   0.8183,     -999.0,9,     -999.0,9,     -999.0,9,     -999.0,9,     -999.0,9,     -999.0,9,     -999.0,9, -999.00,9,   0.1100,2,   0.0720,2,   0.0350,2,   0.0270,2,   0.0190,2,   0.0217,2,-999.0000, -999.00
33RR20050106,       P16S,      99,          1,         26,         26,2,20050207,       1939,   -64.9995,  -150.0000,       4162,   185.2,   1.2220,  34.6801,2,  34.6852,2,    186.2,2,   180.5,2,   95.27,2,   33.28,2,    0.03,2,    2.29,2,   0.576,2,   0.312,2,   0.054,2,  2261.8,2,  2342.3,2,-999.000,9,-999.0000,9, -999.00,9, -999.00,5,  -145.9,2,     2.3,-999.000,9,-999.000,  39.8314,2,   185.2,-999.000,   1.2133,         25,2,         29,2,         41,2,         66,2,        134,2,         69,2,        365,2, -999.00,9,   0.1190,2,   0.0800,2,   0.0390,2,   0.0290,2,   0.0172,2,   0.0200,2,-999.0000, -999.00
33RR20050106,       P16S,      99,          1,         25,         25,2,20050207,       1939,   -64.9995,  -150.0000,       4162,   230.9,   1.4379,  34.7248,2,  34.7244,2,    176.5,2,   175.7,2,   99.79,2,   33.19,2,    0.01,2,    2.28,2,   0.319,2,   0.175,2,   0.039,2,  2265.7,2,  2347.8,2,-999.000,9,-999.0000,9, -999.00,9, -999.00,5,  -150.8,2,     2.8,-999.000,9,-999.000,  39.5015,2,   230.9,-999.000,   1.4265,     -999.0,9,     -999.0,9,     -999.0,9,     -999.0,9,     -999.0,9,     -999.0,9,     -999.0,9, -999.00,9,   0.1240,2,   0.0840,2,   0.0400,2,   0.0300,2,   0.0170,2,   0.0201,2,-999.0000, -999.00
33RR20050106,       P16S,      99,          1,         24,         24,2,20050207,       1939,   -64.9995,  -150.0000,       4162,   286.2,   1.4050,  34.7296,2,  34.7311,2,    176.5,2,   176.7,2,  101.85,2,   33.13,2,    0.01,2,    2.27,2,   0.234,2,   0.130,2,   0.025,2,  2264.9,2,  2348.7,2,-999.000,9,-999.0000,9, -999.00,9, -999.00,5,  -156.1,2,     2.8,-999.000,9,-999.000,  52.3937,4,   286.2,-999.000,   1.3908,         25,2,         25,2,         18,2,         53,2,         71,2,         46,2,        237,2, -999.00,9,   0.0900,2,   0.0520,2,   0.0190,2,   0.0140,2,   0.0323,2,   0.0342,2,-999.0000, -999.00
33RR20050106,       P16S,      99,          1,         23,         23,2,20050207,       1939,   -64.9995,  -150.0000,       4162,   341.6,   1.3618,  34.7307,2,  34.7304,2,    177.7,2,   178.4,2,  103.70,2,   32.92,2,    0.01,2,    2.26,2,   0.134,2,   0.072,2,   0.010,2,  2264.4,2,  2350.6,2,-999.000,9,-999.0000,9, -999.00,9, -999.00,5,  -153.6,2,     2.4,-999.000,9,-999.000,  42.5154,2,   341.6,-999.000,   1.3448,     -999.0,9,     -999.0,9,     -999.0,9,     -999.0,9,     -999.0,9,     -999.0,9,     -999.0,9, -999.00,9,   0.0890,2,   0.0510,2,   0.0190,2,   0.0150,2,   0.0325,2,   0.0345,2,-999.0000, -999.00
33RR20050106,       P16S,      99,          1,         22,         22,2,20050207,       1939,   -64.9995,  -150.0000,       4162,   392.0,   1.3165,  34.7307,2,  34.7322,2,    179.1,2,   180.2,2,  105.34,2,   32.87,2,    0.00,2,    2.25,2,   0.115,2,   0.064,2,   0.010,2,  2265.1,2,  2351.1,2,-999.000,9,-999.0000,9, -999.00,9, -999.00,5,  -999.0,5,  -999.0,-999.000,9,-999.000,-999.0000,9,   392.0,-999.000,   1.2970,     -999.0,9,     -999.0,9,     -999.0,9,     -999.0,9,     -999.0,9,     -999.0,9,     -999.0,9, -999.00,9,-999.0000,9,-999.0000,9,-999.0000,9,-999.0000,9,-999.0000,9,-999.0000,9,-999.0000, -999.00
33RR20050106,       P16S,      99,          1,         21,         21,2,20050207,       1939,   -64.9995,  -150.0000,       4162,   492.9,   1.2381,  34.7297,2,  34.7287,2,    181.8,2,   182.8,2,  108.02,2,   32.71,2,    0.00,2,    2.23,2,   0.085,2,   0.051,2,   0.008,2,  2264.5,2,  2352.4,2,-999.000,9,-999.0000,9, -999.00,9, -999.00,5,  -146.4,2,     2.9,-999.000,9,-999.000,  39.1961,2,   492.9,-999.000,   1.2134,     -999.0,9,     -999.0,9,     -999.0,9,     -999.0,9,     -999.0,9,     -999.0,9,     -999.0,9, -999.00,9,   0.0840,2,   0.0470,2,   0.0160,2,   0.0130,2,   0.0363,2,   0.0380,2,-999.0000, -999.00
33RR20050106,       P16S,      99,          1,         20,         20,2,20050207,       1939,   -64.9995,  -150.0000,       4162,   578.2,   1.1693,  34.7281,2,  34.7283,2,    184.5,2,   186.5,2,  110.07,2,   32.65,2,    0.00,2,    2.23,2,   0.077,2,   0.045,2,   0.015,2,  2264.6,2,  2354.0,2,-999.000,9,-999.0000,9, -999.00,9, -999.00,5,  -145.2,2,     2.9,-999.000,9,-999.000,  40.0343,2,   578.2,-999.000,   1.1403,     -999.0,9,     -999.0,9,     -999.0,9,     -999.0,9,     -999.0,9,     -999.0,9,     -999.0,9, -999.00,9,   0.0850,2,   0.0490,2,   0.0180,2,   0.0140,2,   0.0342,2,   0.0360,2,-999.0000, -999.00
33RR20050106,       P16S,      99,          1,         19,         19,2,20050207,       1939,   -64.9995,  -150.0000,       4162,   679.5,   1.0992,  34.7259,2,  34.7269,2,    187.9,2,   188.8,2,  112.14,2,   32.54,2,    0.00,2,    2.22,2,   0.086,2,   0.058,2,  -0.002,2,  2263.9,2,  2355.9,2,-999.000,9,-999.0000,9, -999.00,9, -999.00,5,  -152.4,2,     2.8,-999.000,9,-999.000,  42.0475,2,   679.5,-999.000,   1.0649,     -999.0,9,     -999.0,9,     -999.0,9,     -999.0,9,     -999.0,9,     -999.0,9,     -999.0,9, -999.00,9,   0.0880,2,   0.0510,2,   0.0190,2,   0.0150,2,   0.0330,2,   0.0347,2,-999.0000, -999.00
33RR20050106,       P16S,      99,          1,         18,         18,2,20050207,       1939,   -64.9995,  -150.0000,       4162,   780.6,   1.0341,  34.7234,2,  34.7238,2,    191.0,2,   191.7,2,  113.57,2,   32.49,2,    0.00,2,    2.22,2,   0.075,2,   0.044,2,   0.006,2,  2262.8,2,  2355.2,2,-999.000,9,-999.0000,9, -999.00,9, -999.00,5,  -145.8,2,     2.9,-999.000,9,-999.000,  41.4754,2,   780.6,-999.000,   0.9944,     -999.0,9,     -999.0,9,     -999.0,9,     -999.0,9,     -999.0,9,     -999.0,9,     -999.0,9, -999.00,9,   0.0870,2,   0.0500,2,   0.0190,2,   0.0150,2,   0.0323,2,   0.0343,2,-999.0000, -999.00
33RR20050106,       P16S,      99,          1,         17,         17,2,20050207,       1939,   -64.9995,  -150.0000,       4162,   881.3,   0.9683,  34.7208,2,  34.7203,2,    193.5,2,   194.2,2,  115.42,2,   32.23,2,    0.00,2,    2.21,2,   0.053,2,   0.035,2,   0.013,2,  2263.3,2,  2356.2,2,-999.000,9,-999.0000,9, -999.00,9, -999.00,5,  -151.0,2,     2.7,-999.000,9,-999.000,  42.8746,2,   881.3,-999.000,   0.9232,     -999.0,9,     -999.0,9,     -999.0,9,     -999.0,9,     -999.0,9,     -999.0,9,     -999.0,9, -999.00,9,   0.0880,2,   0.0520,2,   0.0210,2,   0.0160,2,   0.0308,2,   0.0329,2,-999.0000, -999.00
33RR20050106,       P16S,      99,          1,         16,         16,2,20050207,       1939,   -64.9995,  -150.0000,       4162,   982.5,   0.9097,  34.7185,2,  34.7154,2,    196.1,2,   197.1,2,  116.87,2,   32.28,2,    0.00,2,    2.21,2,   0.056,2,   0.038,2,   0.005,2,  2262.4,2,  2357.3,2,-999.000,9,-999.0000,9, -999.00,9, -999.00,5,  -143.4,2,     4.1,-999.000,9,-999.000,  40.3318,2,   982.5,-999.000,   0.8591,     -999.0,9,     -999.0,9,     -999.0,9,     -999.0,9,     -999.0,9,     -999.0,9,     -999.0,9, -999.00,9,   0.0840,2,   0.0480,2,   0.0180,2,   0.0140,2,   0.0331,2,   0.0351,2,-999.0000, -999.00
33RR20050106,       P16S,      99,          1,         15,         15,2,20050207,       1939,   -64.9995,  -150.0000,       4162,  1185.3,   0.7950,  34.7138,2,  34.7130,2,    199.3,2,   200.4,2,  120.59,2,   32.33,2,    0.00,2,    2.21,2,   0.051,2,   0.032,2,   0.004,2,  2262.4,6,  2358.8,2,-999.000,9,-999.0000,9, -999.00,9, -999.00,5,  -151.9,2,     3.5,-999.000,9,-999.000,  39.1582,2,  1185.3,-999.000,   0.7330,     -999.0,9,     -999.0,9,     -999.0,9,     -999.0,9,     -999.0,9,     -999.0,9,     -999.0,9, -999.00,9,   0.0850,2,   0.0500,2,   0.0190,2,   0.0150,2,   0.0318,2,   0.0339,2,-999.0000, -999.00
33RR20050106,       P16S,      99,          1,         14,         14,2,20050207,       1939,   -64.9995,  -150.0000,       4162,  1387.7,   0.7121,  34.7104,2,  34.7109,2,    201.8,2,   202.4,2,  123.28,2,   32.38,2,    0.00,2,    2.21,2,-999.000,9,-999.000,9,-999.000,9,  2263.1,2,  2359.1,2,-999.000,9,-999.0000,9, -999.00,9, -999.00,5,  -157.9,2,     2.5,-999.000,9,-999.000,  39.2213,2,  1387.7,-999.000,   0.6380,     -999.0,9,     -999.0,9,     -999.0,9,     -999.0,9,     -999.0,9,     -999.0,9,     -999.0,9, -999.00,9,   0.0870,2,   0.0520,2,   0.0210,2,   0.0160,2,   0.0298,2,   0.0319,2,-999.0000, -999.00
33RR20050106,       P16S,      99,          1,         13,         13,2,20050207,       1939,   -64.9995,  -150.0000,       4162,  1590.2,   0.6405,  34.7080,2,  34.7083,2,    204.0,2,   204.5,2,  125.14,2,   32.33,2,    0.00,2,    2.21,2,   0.063,2,   0.035,2,   0.006,2,  2263.4,2,  2358.7,2,-999.000,9,-999.0000,9, -999.00,9, -999.00,5,  -161.1,2,     2.9,-999.000,9,-999.000,-999.0000,9,  1590.2,-999.000,   0.5538,     -999.0,9,     -999.0,9,     -999.0,9,     -999.0,9,     -999.0,9,     -999.0,9,     -999.0,9, -999.00,9,-999.0000,9,-999.0000,9,-999.0000,9,-999.0000,9,-999.0000,9,-999.0000,9,-999.0000, -999.00
33RR20050106,       P16S,      99,          1,         12,         12,2,20050207,       1939,   -64.9995,  -150.0000,       4162,  1792.8,   0.5558,  34.7060,2,  34.7062,2,    206.0,2,   206.6,2,  126.38,2,   32.33,2,    0.00,2,    2.22,2,-999.000,9,-999.000,9,-999.000,9,  2262.7,2,  2358.8,2,-999.000,9,-999.0000,9, -999.00,9, -999.00,5,  -155.7,2,     2.9,-999.000,9,-999.000,  40.5983,2,  1792.8,-999.000,   0.4562,     -999.0,9,     -999.0,9,     -999.0,9,     -999.0,9,     -999.0,9,     -999.0,9,     -999.0,9, -999.00,9,   0.0880,2,   0.0520,2,   0.0220,2,   0.0170,2,   0.0295,2,   0.0316,2,-999.0000, -999.00
33RR20050106,       P16S,      99,          1,         11,         11,2,20050207,       1939,   -64.9995,  -150.0000,       4162,  1996.2,   0.4737,  34.7046,2,  34.7046,2,    207.9,2,   208.6,2,  127.82,2,   32.43,2,    0.00,2,    2.22,2,   0.084,2,   0.052,2,   0.001,2,  2263.0,2,  2358.7,2,-999.000,9,-999.0000,9, -999.00,9, -999.00,5,  -158.6,2,     2.9,-999.000,9,-999.000,-999.0000,9,  1996.2,-999.000,   0.3607,     -999.0,9,     -999.0,9,     -999.0,9,     -999.0,9,     -999.0,9,     -999.0,9,     -999.0,9, -999.00,9,-999.0000,9,-999.0000,9,-999.0000,9,-999.0000,9,-999.0000,9,-999.0000,9,-999.0000, -999.00
33RR20050106,       P16S,      99,          1,         10,         10,2,20050207,       1939,   -64.9995,  -150.0000,       4162,  2199.1,   0.4007,  34.7039,2,  34.7029,2,    209.4,2,   210.4,2,  128.64,2,   32.38,2,    0.00,2,    2.22,2,   0.110,2,   0.066,2,   0.003,2,  2262.0,2,  2358.6,2,-999.000,9,-999.0000,9, -999.00,9, -999.00,5,  -158.7,2,     3.2,-999.000,9,-999.000,  40.6028,2,  2199.1,-999.000,   0.2738,     -999.0,9,     -999.0,9,     -999.0,9,     -999.0,9,     -999.0,9,     -999.0,9,     -999.0,9, -999.00,9,   0.0860,2,   0.0510,2,   0.0220,2,   0.0170,2,   0.0298,2,   0.0320,2,-999.0000, -999.00
33RR20050106,       P16S,      99,          1,          9,          9,2,20050207,       1939,   -64.9995,  -150.0000,       4162,  2453.5,   0.3219,  34.7027,2,  34.7015,2,    211.8,2,   212.9,2,  130.28,2,   32.47,2,    0.00,2,    2.23,2,   0.164,2,   0.088,2,   0.005,2,  2262.4,2,  2358.5,2,-999.000,9,-999.0000,9, -999.00,9, -999.00,5,  -151.8,2,     2.5,-999.000,9,-999.000,-999.0000,9,  2453.5,-999.000,   0.1767,     -999.0,9,     -999.0,9,     -999.0,9,     -999.0,9,     -999.0,9,     -999.0,9,     -999.0,9, -999.00,9,-999.0000,9,-999.0000,9,-999.0000,9,-999.0000,9,-999.0000,9,-999.0000,9,-999.0000, -999.00
33RR20050106,       P16S,      99,          1,          8,          8,2,20050207,       1939,   -64.9995,  -150.0000,       4162,  2707.8,   0.2513,  34.7010,2,  34.7013,2,    214.3,2,   215.3,2,  129.24,2,   32.43,2,    0.00,2,    2.22,2,   0.321,2,   0.167,2,   0.013,2,  2261.6,2,  2358.3,2,-999.000,9,-999.0000,9, -999.00,9, -999.00,5,  -142.1,2,     2.5,-999.000,9,-999.000,  39.8350,2,  2707.8,-999.000,   0.0869,     -999.0,9,     -999.0,9,     -999.0,9,     -999.0,9,     -999.0,9,     -999.0,9,     -999.0,9, -999.00,9,   0.0920,2,   0.0570,2,   0.0270,2,   0.0210,2,   0.0243,2,   0.0268,2,-999.0000, -999.00
33RR20050106,       P16S,      99,          1,          7,          7,2,20050207,       1939,   -64.9995,  -150.0000,       4162,  2962.6,   0.1816,  34.6976,2,  34.6974,2,    217.7,2,   218.9,2,  124.89,2,   32.21,2,    0.00,2,    2.22,2,   0.585,2,   0.288,2,   0.033,2,  2260.4,2,  2356.8,2,-999.000,9,-999.0000,9, -999.00,9, -999.00,5,  -146.8,2,     2.6,-999.000,9,-999.000,-999.0000,9,  2962.6,-999.000,  -0.0028,     -999.0,9,     -999.0,9,     -999.0,9,     -999.0,9,     -999.0,9,     -999.0,9,     -999.0,9, -999.00,9,-999.0000,9,-999.0000,9,-999.0000,9,-999.0000,9,-999.0000,9,-999.0000,9,-999.0000, -999.00
33RR20050106,       P16S,      99,          1,          6,          6,2,20050207,       1939,   -64.9995,  -150.0000,       4162,  3218.1,   0.1649,  34.6959,2,  34.6972,2,    219.5,2,   220.5,2,  122.61,2,   32.21,2,    0.00,2,    2.21,2,   0.749,2,   0.375,2,   0.049,2,  2259.7,2,  2356.3,2,-999.000,9,-999.0000,9, -999.00,9, -999.00,5,  -150.8,2,     2.8,-999.000,9,-999.000,  39.5922,2,  3218.1,-999.000,  -0.0416,     -999.0,9,     -999.0,9,     -999.0,9,     -999.0,9,     -999.0,9,     -999.0,9,     -999.0,9, -999.00,9,   0.0950,2,   0.0600,2,   0.0290,2,   0.0220,2,   0.0231,2,   0.0257,2,-999.0000, -999.00
33RR20050106,       P16S,      99,          1,          5,          5,2,20050207,       1939,   -64.9995,  -150.0000,       4162,  3472.4,   0.1784,  34.6962,2,  34.6965,2,    219.8,2,   220.8,2,  122.40,2,   32.21,2,    0.00,2,    2.21,2,   0.754,2,   0.372,2,   0.056,2,  2259.3,2,  2355.8,2,-999.000,9,-999.0000,9, -999.00,9, -999.00,5,  -141.4,2,     2.9,-999.000,9,-999.000,-999.0000,9,  3472.4,-999.000,  -0.0517,     -999.0,9,     -999.0,9,     -999.0,9,     -999.0,9,     -999.0,9,     -999.0,9,     -999.0,9, -999.00,9,-999.0000,9,-999.0000,9,-999.0000,9,-999.0000,9,-999.0000,9,-999.0000,9,-999.0000, -999.00
33RR20050106,       P16S,      99,          1,          4,          4,2,20050207,       1939,   -64.9995,  -150.0000,       4162,  3728.8,   0.1945,  34.6962,2,  34.6969,2,    220.2,2,   221.0,2,  122.19,2,   32.26,2,    0.00,2,    2.21,2,   0.757,2,   0.366,2,   0.057,2,  2259.3,2,  2356.1,2,-999.000,9,-999.0000,9, -999.00,9, -999.00,5,  -139.2,2,     2.7,-999.000,9,-999.000,  40.5742,2,  3728.8,-999.000,  -0.0605,     -999.0,9,     -999.0,9,     -999.0,9,     -999.0,9,     -999.0,9,     -999.0,9,     -999.0,9, -999.00,9,   0.0920,2,   0.0570,2,   0.0270,2,   0.0200,2,   0.0251,2,   0.0275,2,-999.0000, -999.00
33RR20050106,       P16S,      99,          1,          3,          3,2,20050207,       1939,   -64.9995,  -150.0000,       4162,  3964.2,   0.2088,  34.6963,2,  34.6971,2,    220.4,2,   221.1,2,  122.19,2,   32.26,2,    0.00,2,    2.21,2,   0.755,2,   0.382,2,   0.048,2,  2260.5,2,  2356.2,2,-999.000,9,-999.0000,9, -999.00,9, -999.00,5,  -153.6,3,     2.6,-999.000,9,-999.000,-999.0000,9,  3964.2,-999.000,  -0.0699,     -999.0,9,     -999.0,9,     -999.0,9,     -999.0,9,     -999.0,9,     -999.0,9,     -999.0,9, -999.00,9,-999.0000,9,-999.0000,9,-999.0000,9,-999.0000,9,-999.0000,9,-999.0000,9,-999.0000, -999.00