BOTTLE,20201109CCHSIOCBG
EXPOCODE,SECT_ID,STNNBR,CASTNO,SAMPNO,BTLNBR,BTLNBR_FLAG_W,DATE,TIME,LATITUDE,LONGITUDE,DEPTH,CTDPRS,CTDTMP,CTDSAL,CTDSAL_FLAG_W,SALNTY,SALNTY_FLAG_W,CTDOXY,CTDOXY_FLAG_W,OXYGEN,OXYGEN_FLAG_W,SILCAT,SILCAT_FLAG_W,NITRAT,NITRAT_FLAG_W,NITRIT,NITRIT_FLAG_W,PHSPHT,PHSPHT_FLAG_W,CFC-11,CFC-11_FLAG_W,CFC-12,CFC-12_FLAG_W,CFC113,CFC113_FLAG_W,TCARBN,TCARBN_FLAG_W,ALKALI,ALKALI_FLAG_W,TRITUM,TRITUM_FLAG_W,HELIUM,HELIUM_FLAG_W,DELHE3,DELHE3_FLAG_W,DELC13,DELC13_FLAG_W,DELC14,DELC14_FLAG_W,C14ERR,NEON,NEON_FLAG_W,NEONER,DOC,DOC_FLAG_W,CTDRAW,TRITER,THETA,FUCO,FUCO_FLAG_W,RHAM,RHAM_FLAG_W,ARABA,ARABA_FLAG_W,GALA,GALA_FLAG_W,GLUC,GLUC_FLAG_W,MAN,MAN_FLAG_W,DCNS,DCNS_FLAG_W,BRDU,BRDU_FLAG_W,CDOM325,CDOM325_FLAG_W,CDOM340,CDOM340_FLAG_W,CDOM380,CDOM380_FLAG_W,CDOM412,CDOM412_FLAG_W,CDOMSL,CDOMSL_FLAG_W,CDOMSN,CDOMSN_FLAG_W,HELIER,DELHER
,,,,,,,,,,,METERS,DBAR,ITS-90,PSS-78,,PSS-78,,UMOL/KG,,UMOL/KG,,UMOL/KG,,UMOL/KG,,UMOL/KG,,UMOL/KG,,PMOL/KG,,PMOL/KG,,PMOL/KG,,UMOL/KG,,UMOL/KG,,TU,,NMOL/KG,,PERCNT,,/MILLE,,/MILLE,,/MILLE,NMOL/KG,,NMOL/KG,UMOL/KG,,DBAR,TU,DEG C,NMOL/KG,,NMOL/KG,,NMOL/KG,,NMOL/KG,,NMOL/KG,,NMOL/KG,,NMOL/KG,,PMOL/L/H,,1/M,,1/M,,1/M,,1/M,,1/NM,,1/NM,,NMOL/KG,PERCNT
33RR20050106,       P16S,      93,          2,          1,          1,2,20050206,       0548,   -62.0000,  -150.0377,       3541,  3484.9,   0.2413,  34.6969,2,  34.6965,2,    217.7,2,   218.5,2,  127.13,2,   31.91,2,    0.00,2,    2.22,2,   0.671,2,   0.340,2,   0.067,2,  2262.3,6,  2356.4,2,-999.000,9,-999.0000,9, -999.00,9, -999.00,9,  -999.0,9,  -999.0,-999.000,9,-999.000,  39.4992,2,  3484.9,-999.000,   0.0084,     -999.0,9,     -999.0,9,     -999.0,9,     -999.0,9,     -999.0,9,     -999.0,9,     -999.0,9, -999.00,9,-999.0000,9,-999.0000,9,-999.0000,9,-999.0000,9,-999.0000,9,-999.0000,9,-999.0000, -999.00
33RR20050106,       P16S,      94,          2,         27,         27,2,20050206,       1228,   -62.4978,  -150.0007,       3344,     5.2,   1.2141,  34.0765,2,  34.0764,2,    337.3,2,   339.0,2,   41.61,2,   24.18,2,    0.33,2,    1.65,2,   6.044,2,   3.277,2,   0.636,2,  2172.5,6,  2304.4,6,-999.000,9,-999.0000,9, -999.00,9, -999.00,9,  -999.0,9,  -999.0,-999.000,9,-999.000,-999.0000,9,     5.2,-999.000,   1.2139,     -999.0,9,     -999.0,9,     -999.0,9,     -999.0,9,     -999.0,9,     -999.0,9,     -999.0,9, -999.00,9,-999.0000,9,-999.0000,9,-999.0000,9,-999.0000,9,-999.0000,9,-999.0000,9,-999.0000, -999.00
33RR20050106,       P16S,      94,          2,         26,         26,2,20050206,       1228,   -62.4978,  -150.0007,       3344,    50.1,   1.1155,  34.0805,2,  34.0827,2,    339.4,2,   340.4,2,   42.64,2,   24.34,2,    0.32,2,    1.67,2,   6.096,2,   3.289,2,   0.626,2,  2174.4,2,  2304.5,2,-999.000,9,-999.0000,9, -999.00,9, -999.00,9,  -999.0,9,  -999.0,-999.000,9,-999.000,-999.0000,9,    50.1,-999.000,   1.1133,     -999.0,9,     -999.0,9,     -999.0,9,     -999.0,9,     -999.0,9,     -999.0,9,     -999.0,9, -999.00,9,-999.0000,9,-999.0000,9,-999.0000,9,-999.0000,9,-999.0000,9,-999.0000,9,-999.0000, -999.00
33RR20050106,       P16S,      94,          2,         25,         25,2,20050206,       1228,   -62.4978,  -150.0007,       3344,    70.3,  -0.6111,  34.1237,2,  34.1386,2,    350.3,2,   351.0,2,   51.94,2,   26.31,2,    0.29,2,    1.90,2,   6.462,2,   3.484,2,   0.659,2,  2190.7,2,  2307.3,2,-999.000,9,-999.0000,9, -999.00,9, -999.00,9,  -999.0,9,  -999.0,-999.000,9,-999.000,-999.0000,9,    70.3,-999.000,  -0.6132,     -999.0,9,     -999.0,9,     -999.0,9,     -999.0,9,     -999.0,9,     -999.0,9,     -999.0,9, -999.00,9,-999.0000,9,-999.0000,9,-999.0000,9,-999.0000,9,-999.0000,9,-999.0000,9,-999.0000, -999.00
33RR20050106,       P16S,      94,          2,         24,         24,2,20050206,       1228,   -62.4978,  -150.0007,       3344,   105.5,  -1.6997,  34.2235,2,  34.2229,2,    344.1,2,   346.3,2,   58.16,2,   27.25,2,    0.25,2,    1.96,2,   6.091,2,   3.298,2,   0.629,2,  2202.7,2,  2313.7,2,-999.000,9,-999.0000,9, -999.00,9, -999.00,9,  -999.0,9,  -999.0,-999.000,9,-999.000,-999.0000,9,   105.5,-999.000,  -1.7019,     -999.0,9,     -999.0,9,     -999.0,9,     -999.0,9,     -999.0,9,     -999.0,9,     -999.0,9, -999.00,9,-999.0000,9,-999.0000,9,-999.0000,9,-999.0000,9,-999.0000,9,-999.0000,9,-999.0000, -999.00
33RR20050106,       P16S,      94,          2,         23,         23,2,20050206,       1228,   -62.4978,  -150.0007,       3344,   150.6,  -0.1597,  34.4675,2,  34.4421,2,    276.7,2,   260.1,2,   77.88,2,   31.22,2,    0.02,2,    2.17,2,   3.481,2,   1.852,2,   0.355,2,  2235.4,2,  2324.6,2,-999.000,9,-999.0000,9, -999.00,9, -999.00,9,  -999.0,9,  -999.0,-999.000,9,-999.000,-999.0000,9,   150.6,-999.000,  -0.1649,     -999.0,9,     -999.0,9,     -999.0,9,     -999.0,9,     -999.0,9,     -999.0,9,     -999.0,9, -999.00,9,-999.0000,9,-999.0000,9,-999.0000,9,-999.0000,9,-999.0000,9,-999.0000,9,-999.0000, -999.00
33RR20050106,       P16S,      94,          2,         22,         22,2,20050206,       1228,   -62.4978,  -150.0007,       3344,   201.3,   1.1945,  34.6938,2,  34.6916,2,    188.9,2,   180.5,2,  101.02,2,   33.50,2,    0.01,2,    2.32,2,   0.547,2,   0.292,2,   0.050,2,  2266.5,2,  2344.0,2,-999.000,9,-999.0000,9, -999.00,9, -999.00,9,  -999.0,9,  -999.0,-999.000,9,-999.000,-999.0000,9,   201.3,-999.000,   1.1850,     -999.0,9,     -999.0,9,     -999.0,9,     -999.0,9,     -999.0,9,     -999.0,9,     -999.0,9, -999.00,9,-999.0000,9,-999.0000,9,-999.0000,9,-999.0000,9,-999.0000,9,-999.0000,9,-999.0000, -999.00
33RR20050106,       P16S,      94,          2,         21,         21,2,20050206,       1228,   -62.4978,  -150.0007,       3344,   251.6,   1.3657,  34.7280,2,  34.7264,2,    175.2,2,   174.2,2,  104.16,2,   33.56,2,    0.01,2,    2.31,2,   0.168,2,   0.093,2,   0.019,2,  2268.6,2,  2348.7,2,-999.000,9,-999.0000,9, -999.00,9, -999.00,9,  -999.0,9,  -999.0,-999.000,9,-999.000,-999.0000,9,   251.6,-999.000,   1.3534,     -999.0,9,     -999.0,9,     -999.0,9,     -999.0,9,     -999.0,9,     -999.0,9,     -999.0,9, -999.00,9,-999.0000,9,-999.0000,9,-999.0000,9,-999.0000,9,-999.0000,9,-999.0000,9,-999.0000, -999.00
33RR20050106,       P16S,      94,          2,         20,         20,2,20050206,       1228,   -62.4978,  -150.0007,       3344,   301.8,   1.3278,  34.7303,2,  34.7290,2,    176.0,2,   176.7,2,  106.24,2,   33.30,2,    0.01,2,    2.29,2,   0.138,2,   0.074,2,   0.020,2,  2268.5,2,  2349.8,2,-999.000,9,-999.0000,9, -999.00,9, -999.00,9,  -999.0,9,  -999.0,-999.000,9,-999.000,-999.0000,9,   301.8,-999.000,   1.3130,     -999.0,9,     -999.0,9,     -999.0,9,     -999.0,9,     -999.0,9,     -999.0,9,     -999.0,9, -999.00,9,-999.0000,9,-999.0000,9,-999.0000,9,-999.0000,9,-999.0000,9,-999.0000,9,-999.0000, -999.00
33RR20050106,       P16S,      94,          2,         19,         19,2,20050206,       1228,   -62.4978,  -150.0007,       3344,   357.6,   1.2733,  34.7302,2,  34.7296,2,    177.7,2,   179.3,2,  107.50,2,   33.14,2,    0.01,2,    2.29,2,   0.288,2,   0.162,2,   0.021,2,  2267.8,2,  2350.2,2,-999.000,9,-999.0000,9, -999.00,9, -999.00,9,  -999.0,9,  -999.0,-999.000,9,-999.000,-999.0000,9,   357.6,-999.000,   1.2557,     -999.0,9,     -999.0,9,     -999.0,9,     -999.0,9,     -999.0,9,     -999.0,9,     -999.0,9, -999.00,9,-999.0000,9,-999.0000,9,-999.0000,9,-999.0000,9,-999.0000,9,-999.0000,9,-999.0000, -999.00
33RR20050106,       P16S,      94,          2,         18,         18,2,20050206,       1228,   -62.4978,  -150.0007,       3344,   407.7,   1.2407,  34.7300,2,  34.7294,2,    179.5,2,   180.7,2,  108.96,2,   32.99,2,    0.01,2,    2.28,2,   0.524,4,   0.293,4,   0.035,4,  2268.4,2,  2350.3,2,-999.000,9,-999.0000,9, -999.00,9, -999.00,9,  -999.0,9,  -999.0,-999.000,9,-999.000,-999.0000,9,   407.7,-999.000,   1.2206,     -999.0,9,     -999.0,9,     -999.0,9,     -999.0,9,     -999.0,9,     -999.0,9,     -999.0,9, -999.00,9,-999.0000,9,-999.0000,9,-999.0000,9,-999.0000,9,-999.0000,9,-999.0000,9,-999.0000, -999.00
33RR20050106,       P16S,      94,          2,         17,         17,2,20050206,       1228,   -62.4978,  -150.0007,       3344,   508.8,   1.1715,  34.7283,2,  34.7273,2,    182.5,2,   183.6,2,  111.04,2,   32.99,2,    0.00,2,    2.26,2,-999.000,5,-999.000,5,-999.000,5,  2268.2,2,  2352.0,2,-999.000,9,-999.0000,9, -999.00,9, -999.00,9,  -999.0,9,  -999.0,-999.000,9,-999.000,-999.0000,9,   508.8,-999.000,   1.1463,     -999.0,9,     -999.0,9,     -999.0,9,     -999.0,9,     -999.0,9,     -999.0,9,     -999.0,9, -999.00,9,-999.0000,9,-999.0000,9,-999.0000,9,-999.0000,9,-999.0000,9,-999.0000,9,-999.0000, -999.00
33RR20050106,       P16S,      94,          2,         16,         16,2,20050206,       1228,   -62.4978,  -150.0007,       3344,   609.8,   1.1044,  34.7263,2,  34.7250,2,    185.6,2,   186.6,2,  113.76,2,   32.78,2,    0.01,2,    2.26,2,-999.000,9,-999.000,9,-999.000,9,  -999.0,9,  -999.0,9,-999.000,9,-999.0000,9, -999.00,9, -999.00,9,  -999.0,9,  -999.0,-999.000,9,-999.000,-999.0000,9,   609.8,-999.000,   1.0739,     -999.0,9,     -999.0,9,     -999.0,9,     -999.0,9,     -999.0,9,     -999.0,9,     -999.0,9, -999.00,9,-999.0000,9,-999.0000,9,-999.0000,9,-999.0000,9,-999.0000,9,-999.0000,9,-999.0000, -999.00
33RR20050106,       P16S,      94,          2,         15,         15,2,20050206,       1228,   -62.4978,  -150.0007,       3344,   710.5,   1.0289,  34.7235,2,  34.7233,2,    189.1,2,   189.8,2,  115.01,2,   32.73,2,    0.00,2,    2.26,2,   0.221,2,   0.134,2,   0.025,2,  2265.9,2,  2356.1,2,-999.000,9,-999.0000,9, -999.00,9, -999.00,9,  -999.0,9,  -999.0,-999.000,9,-999.000,-999.0000,9,   710.5,-999.000,   0.9932,     -999.0,9,     -999.0,9,     -999.0,9,     -999.0,9,     -999.0,9,     -999.0,9,     -999.0,9, -999.00,9,-999.0000,9,-999.0000,9,-999.0000,9,-999.0000,9,-999.0000,9,-999.0000,9,-999.0000, -999.00
33RR20050106,       P16S,      94,          2,         14,         14,2,20050206,       1228,   -62.4978,  -150.0007,       3344,   811.5,   0.9713,  34.7213,2,  34.7208,2,    191.8,2,   192.6,2,  116.68,2,   32.57,2,    0.00,2,    2.25,2,   0.180,2,   0.108,2,   0.014,2,  -999.0,9,  -999.0,9,-999.000,9,-999.0000,9, -999.00,9, -999.00,9,  -999.0,9,  -999.0,-999.000,9,-999.000,-999.0000,9,   811.5,-999.000,   0.9303,     -999.0,9,     -999.0,9,     -999.0,9,     -999.0,9,     -999.0,9,     -999.0,9,     -999.0,9, -999.00,9,-999.0000,9,-999.0000,9,-999.0000,9,-999.0000,9,-999.0000,9,-999.0000,9,-999.0000, -999.00
33RR20050106,       P16S,      94,          2,         13,         13,2,20050206,       1228,   -62.4978,  -150.0007,       3344,   912.5,   0.9053,  34.7187,2,  34.7184,2,    194.7,2,   195.0,2,  118.56,2,   32.52,2,    0.00,2,    2.25,2,   0.079,2,   0.047,2,   0.015,2,  2264.0,2,  2356.8,2,-999.000,9,-999.0000,9, -999.00,9, -999.00,9,  -999.0,9,  -999.0,-999.000,9,-999.000,-999.0000,9,   912.5,-999.000,   0.8588,     -999.0,9,     -999.0,9,     -999.0,9,     -999.0,9,     -999.0,9,     -999.0,9,     -999.0,9, -999.00,9,-999.0000,9,-999.0000,9,-999.0000,9,-999.0000,9,-999.0000,9,-999.0000,9,-999.0000, -999.00
33RR20050106,       P16S,      94,          2,         12,         12,2,20050206,       1228,   -62.4978,  -150.0007,       3344,  1013.7,   0.8447,  34.7160,2,  34.7161,2,    196.6,2,   197.8,2,  120.03,2,   32.37,2,    0.00,2,    2.24,2,   0.148,2,   0.090,2,   0.019,2,  -999.0,9,  -999.0,9,-999.000,9,-999.0000,9, -999.00,9, -999.00,9,  -999.0,9,  -999.0,-999.000,9,-999.000,-999.0000,9,  1013.7,-999.000,   0.7927,     -999.0,9,     -999.0,9,     -999.0,9,     -999.0,9,     -999.0,9,     -999.0,9,     -999.0,9, -999.00,9,-999.0000,9,-999.0000,9,-999.0000,9,-999.0000,9,-999.0000,9,-999.0000,9,-999.0000, -999.00
33RR20050106,       P16S,      94,          2,         11,         11,2,20050206,       1228,   -62.4978,  -150.0007,       3344,  1216.1,   0.7434,  34.7120,2,  34.7112,2,    199.9,2,   201.2,2,  123.37,2,   32.37,2,    0.00,2,    2.24,2,   0.097,2,   0.055,2,   0.020,2,  2263.3,2,  2357.4,2,-999.000,9,-999.0000,9, -999.00,9, -999.00,9,  -999.0,9,  -999.0,-999.000,9,-999.000,-999.0000,9,  1216.1,-999.000,   0.6799,     -999.0,9,     -999.0,9,     -999.0,9,     -999.0,9,     -999.0,9,     -999.0,9,     -999.0,9, -999.00,9,-999.0000,9,-999.0000,9,-999.0000,9,-999.0000,9,-999.0000,9,-999.0000,9,-999.0000, -999.00
33RR20050106,       P16S,      94,          2,         10,         10,2,20050206,       1228,   -62.4978,  -150.0007,       3344,  1418.6,   0.6612,  34.7089,2,  34.7089,2,    202.4,2,   203.1,2,  125.25,2,   32.37,2,    0.00,2,    2.24,2,   0.080,2,   0.050,2,   0.016,2,  -999.0,9,  -999.0,9,-999.000,9,-999.0000,9, -999.00,9, -999.00,9,  -999.0,9,  -999.0,-999.000,9,-999.000,-999.0000,9,  1418.6,-999.000,   0.5857,     -999.0,9,     -999.0,9,     -999.0,9,     -999.0,9,     -999.0,9,     -999.0,9,     -999.0,9, -999.00,9,-999.0000,9,-999.0000,9,-999.0000,9,-999.0000,9,-999.0000,9,-999.0000,9,-999.0000, -999.00
33RR20050106,       P16S,      94,          2,          9,          9,2,20050206,       1228,   -62.4978,  -150.0007,       3344,  1620.9,   0.5777,  34.7066,2,  34.7068,2,    204.9,2,   205.6,2,  126.92,2,   32.43,2,    0.00,2,    2.24,2,   0.135,2,   0.083,2,   0.021,2,  2263.4,2,  2357.6,2,-999.000,9,-999.0000,9, -999.00,9, -999.00,9,  -999.0,9,  -999.0,-999.000,9,-999.000,-999.0000,9,  1620.9,-999.000,   0.4897,     -999.0,9,     -999.0,9,     -999.0,9,     -999.0,9,     -999.0,9,     -999.0,9,     -999.0,9, -999.00,9,-999.0000,9,-999.0000,9,-999.0000,9,-999.0000,9,-999.0000,9,-999.0000,9,-999.0000, -999.00
33RR20050106,       P16S,      94,          2,          8,          8,2,20050206,       1228,   -62.4978,  -150.0007,       3344,  1824.1,   0.4942,  34.7048,2,  34.7050,2,    206.9,2,   207.7,2,  126.93,2,   32.38,2,    0.00,2,    2.24,2,   0.133,2,   0.074,2,   0.024,2,  -999.0,9,  -999.0,9,-999.000,9,-999.0000,9, -999.00,9, -999.00,9,  -999.0,9,  -999.0,-999.000,9,-999.000,-999.0000,9,  1824.1,-999.000,   0.3933,     -999.0,9,     -999.0,9,     -999.0,9,     -999.0,9,     -999.0,9,     -999.0,9,     -999.0,9, -999.00,9,-999.0000,9,-999.0000,9,-999.0000,9,-999.0000,9,-999.0000,9,-999.0000,9,-999.0000, -999.00
33RR20050106,       P16S,      94,          2,          7,          7,2,20050206,       1228,   -62.4978,  -150.0007,       3344,  2026.9,   0.4222,  34.7039,2,  34.7045,2,    208.7,2,   209.8,2,  128.61,2,   32.39,2,    0.00,2,    2.24,2,   0.203,2,   0.118,2,   0.032,2,  2264.0,2,  2357.1,2,-999.000,9,-999.0000,9, -999.00,9, -999.00,9,  -999.0,9,  -999.0,-999.000,9,-999.000,-999.0000,9,  2026.9,-999.000,   0.3078,     -999.0,9,     -999.0,9,     -999.0,9,     -999.0,9,     -999.0,9,     -999.0,9,     -999.0,9, -999.00,9,-999.0000,9,-999.0000,9,-999.0000,9,-999.0000,9,-999.0000,9,-999.0000,9,-999.0000, -999.00
33RR20050106,       P16S,      94,          2,          6,          6,2,20050206,       1228,   -62.4978,  -150.0007,       3344,  2280.9,   0.3402,  34.7026,2,  34.7030,2,    211.2,2,   212.2,2,  129.87,2,   32.44,2,    0.00,2,    2.24,2,   0.180,2,   0.096,2,   0.025,2,  -999.0,9,  -999.0,9,-999.000,9,-999.0000,9, -999.00,9, -999.00,9,  -999.0,9,  -999.0,-999.000,9,-999.000,-999.0000,9,  2280.9,-999.000,   0.2081,     -999.0,9,     -999.0,9,     -999.0,9,     -999.0,9,     -999.0,9,     -999.0,9,     -999.0,9, -999.00,9,-999.0000,9,-999.0000,9,-999.0000,9,-999.0000,9,-999.0000,9,-999.0000,9,-999.0000, -999.00
33RR20050106,       P16S,      94,          2,          5,          5,2,20050206,       1228,   -62.4978,  -150.0007,       3344,  2535.2,   0.2507,  34.7000,2,  34.7006,2,    214.5,2,   215.2,2,  128.18,2,   32.34,2,    0.00,2,    2.24,2,   0.392,2,   0.197,2,   0.036,2,  2262.3,2,  2358.0,2,-999.000,9,-999.0000,9, -999.00,9, -999.00,9,  -999.0,9,  -999.0,-999.000,9,-999.000,-999.0000,9,  2535.2,-999.000,   0.1004,     -999.0,9,     -999.0,9,     -999.0,9,     -999.0,9,     -999.0,9,     -999.0,9,     -999.0,9, -999.00,9,-999.0000,9,-999.0000,9,-999.0000,9,-999.0000,9,-999.0000,9,-999.0000,9,-999.0000, -999.00
33RR20050106,       P16S,      94,          2,          4,          4,2,20050206,       1228,   -62.4978,  -150.0007,       3344,  2789.9,   0.1999,  34.6974,2,  34.6971,2,    217.3,2,   218.0,2,  126.08,2,   32.34,2,    0.00,2,    2.23,2,   0.621,2,   0.332,2,   0.063,2,  -999.0,9,  -999.0,9,-999.000,9,-999.0000,9, -999.00,9, -999.00,9,  -999.0,9,  -999.0,-999.000,9,-999.000,-999.0000,9,  2789.9,-999.000,   0.0298,     -999.0,9,     -999.0,9,     -999.0,9,     -999.0,9,     -999.0,9,     -999.0,9,     -999.0,9, -999.00,9,-999.0000,9,-999.0000,9,-999.0000,9,-999.0000,9,-999.0000,9,-999.0000,9,-999.0000, -999.00
33RR20050106,       P16S,      94,          2,          3,          3,2,20050206,       1228,   -62.4978,  -150.0007,       3344,  3044.8,   0.1982,  34.6966,2,  34.6977,2,    218.1,2,   219.7,2,  125.02,2,   32.34,2,    0.00,2,    2.23,2,   0.720,2,   0.362,2,   0.066,2,  2261.3,2,  2356.2,2,-999.000,9,-999.0000,9, -999.00,9, -999.00,9,  -999.0,9,  -999.0,-999.000,9,-999.000,-999.0000,9,  3044.8,-999.000,   0.0063,     -999.0,9,     -999.0,9,     -999.0,9,     -999.0,9,     -999.0,9,     -999.0,9,     -999.0,9, -999.00,9,-999.0000,9,-999.0000,9,-999.0000,9,-999.0000,9,-999.0000,9,-999.0000,9,-999.0000, -999.00
33RR20050106,       P16S,      94,          2,          2,          2,2,20050206,       1228,   -62.4978,  -150.0007,       3344,  3238.5,   0.2021,  34.6964,2,  34.6978,2,    218.4,2,   219.1,2,  125.23,2,   32.29,2,    0.00,2,    2.24,2,   0.711,2,   0.372,2,   0.069,2,  2261.8,2,  2356.6,2,-999.000,9,-999.0000,9, -999.00,9, -999.00,9,  -999.0,9,  -999.0,-999.000,9,-999.000,-999.0000,9,  3238.5,-999.000,  -0.0071,     -999.0,9,     -999.0,9,     -999.0,9,     -999.0,9,     -999.0,9,     -999.0,9,     -999.0,9, -999.00,9,-999.0000,9,-999.0000,9,-999.0000,9,-999.0000,9,-999.0000,9,-999.0000,9,-999.0000, -999.00
33RR20050106,       P16S,      94,          2,          1,          1,2,20050206,       1228,   -62.4978,  -150.0007,       3344,  3343.8,   0.2110,  34.6965,2,  34.6983,2,    218.2,2,   219.1,2,  125.22,2,   32.29,2,    0.00,2,    2.24,2,   0.766,6,   0.415,6,   0.072,6,  2262.3,6,  2356.9,2,-999.000,9,-999.0000,9, -999.00,9, -999.00,9,  -999.0,9,  -999.0,-999.000,9,-999.000,-999.0000,9,  3343.8,-999.000,  -0.0080,     -999.0,9,     -999.0,9,     -999.0,9,     -999.0,9,     -999.0,9,     -999.0,9,     -999.0,9, -999.00,9,-999.0000,9,-999.0000,9,-999.0000,9,-999.0000,9,-999.0000,9,-999.0000,9,-999.0000, -999.00