BOTTLE,20201109CCHSIOCBG
EXPOCODE,SECT_ID,STNNBR,CASTNO,SAMPNO,BTLNBR,BTLNBR_FLAG_W,DATE,TIME,LATITUDE,LONGITUDE,DEPTH,CTDPRS,CTDTMP,CTDSAL,CTDSAL_FLAG_W,SALNTY,SALNTY_FLAG_W,CTDOXY,CTDOXY_FLAG_W,OXYGEN,OXYGEN_FLAG_W,SILCAT,SILCAT_FLAG_W,NITRAT,NITRAT_FLAG_W,NITRIT,NITRIT_FLAG_W,PHSPHT,PHSPHT_FLAG_W,CFC-11,CFC-11_FLAG_W,CFC-12,CFC-12_FLAG_W,CFC113,CFC113_FLAG_W,TCARBN,TCARBN_FLAG_W,ALKALI,ALKALI_FLAG_W,TRITUM,TRITUM_FLAG_W,HELIUM,HELIUM_FLAG_W,DELHE3,DELHE3_FLAG_W,DELC13,DELC13_FLAG_W,DELC14,DELC14_FLAG_W,C14ERR,NEON,NEON_FLAG_W,NEONER,DOC,DOC_FLAG_W,CTDRAW,TRITER,THETA,FUCO,FUCO_FLAG_W,RHAM,RHAM_FLAG_W,ARABA,ARABA_FLAG_W,GALA,GALA_FLAG_W,GLUC,GLUC_FLAG_W,MAN,MAN_FLAG_W,DCNS,DCNS_FLAG_W,BRDU,BRDU_FLAG_W,CDOM325,CDOM325_FLAG_W,CDOM340,CDOM340_FLAG_W,CDOM380,CDOM380_FLAG_W,CDOM412,CDOM412_FLAG_W,CDOMSL,CDOMSL_FLAG_W,CDOMSN,CDOMSN_FLAG_W,HELIER,DELHER
,,,,,,,,,,,METERS,DBAR,ITS-90,PSS-78,,PSS-78,,UMOL/KG,,UMOL/KG,,UMOL/KG,,UMOL/KG,,UMOL/KG,,UMOL/KG,,PMOL/KG,,PMOL/KG,,PMOL/KG,,UMOL/KG,,UMOL/KG,,TU,,NMOL/KG,,PERCNT,,/MILLE,,/MILLE,,/MILLE,NMOL/KG,,NMOL/KG,UMOL/KG,,DBAR,TU,DEG C,NMOL/KG,,NMOL/KG,,NMOL/KG,,NMOL/KG,,NMOL/KG,,NMOL/KG,,NMOL/KG,,PMOL/L/H,,1/M,,1/M,,1/M,,1/M,,1/NM,,1/NM,,NMOL/KG,PERCNT
33RR20050106,       P16S,       3,          1,         35,         35,2,20050111,       0043,   -16.9995,  -150.0003,       3743,     2.9,  28.6882,  36.1298,2,  36.1294,2,    112.4,4,   197.1,2,    0.64,2,    0.26,2,    0.00,2,    0.16,2,   1.528,2,   0.947,2,   0.102,2,  2011.6,6,  2373.2,2,-999.000,9,-999.0000,9, -999.00,9, -999.00,5,    63.8,2,     3.4,-999.000,9,-999.000,  75.2123,2,     2.9,-999.000,  28.6875,     -999.0,9,     -999.0,9,     -999.0,9,     -999.0,9,     -999.0,9,     -999.0,9,     -999.0,9, -999.00,9,-999.0000,9,-999.0000,9,-999.0000,9,-999.0000,9,-999.0000,9,-999.0000,9,-999.0000, -999.00
33RR20050106,       P16S,       3,          1,         36,         36,2,20050111,       0043,   -16.9995,  -150.0003,       3743,     3.0,  28.6869,  36.1300,2,-999.0000,9,    112.4,4,   196.8,2, -999.00,9, -999.00,9, -999.00,9, -999.00,9,-999.000,9,-999.000,9,-999.000,9,  -999.0,9,  2371.9,2,-999.000,9,-999.0000,9, -999.00,9, -999.00,9,  -999.0,9,  -999.0,-999.000,9,-999.000,-999.0000,9,     3.0,-999.000,  28.6862,     -999.0,9,     -999.0,9,     -999.0,9,     -999.0,9,     -999.0,9,     -999.0,9,     -999.0,9, -999.00,9,-999.0000,9,-999.0000,9,-999.0000,9,-999.0000,9,-999.0000,9,-999.0000,9,-999.0000, -999.00
33RR20050106,       P16S,       3,          1,         34,         34,2,20050111,       0043,   -16.9995,  -150.0003,       3743,    45.0,  27.2881,  36.2342,2,  36.2283,2,    116.4,4,   204.4,2,    0.43,2,    0.06,2,    0.00,2,    0.18,2,   1.638,2,   1.019,2,   0.128,2,  2021.1,2,  2379.9,2,-999.000,9,-999.0000,9, -999.00,9, -999.00,9,  -999.0,9,  -999.0,-999.000,9,-999.000,  72.9277,2,    45.0,-999.000,  27.2777,     -999.0,9,     -999.0,9,     -999.0,9,     -999.0,9,     -999.0,9,     -999.0,9,     -999.0,9, -999.00,9,-999.0000,9,-999.0000,9,-999.0000,9,-999.0000,9,-999.0000,9,-999.0000,9,-999.0000, -999.00
33RR20050106,       P16S,       3,          1,         33,         33,2,20050111,       0043,   -16.9995,  -150.0003,       3743,    90.1,  25.8564,  36.2220,2,  36.2224,2,    118.7,4,   205.3,2,    0.64,2,    3.53,2,    0.00,2,    0.18,2,   1.717,2,   1.070,2,   0.136,2,  2026.1,2,  2380.2,2,-999.000,9,-999.0000,9, -999.00,9, -999.00,5,    72.6,2,     3.7,-999.000,9,-999.000,  71.3263,2,    90.1,-999.000,  25.8363,     -999.0,9,     -999.0,9,     -999.0,9,     -999.0,9,     -999.0,9,     -999.0,9,     -999.0,9, -999.00,9,-999.0000,9,-999.0000,9,-999.0000,9,-999.0000,9,-999.0000,9,-999.0000,9,-999.0000, -999.00
33RR20050106,       P16S,       3,          1,         32,         32,2,20050111,       0043,   -16.9995,  -150.0003,       3743,   140.2,  24.3955,  35.9101,2,  35.9144,2,    120.5,4,   199.1,2,    0.43,2,    0.17,2,    0.00,2,    0.18,2,   1.816,2,   1.125,2,   0.114,2,  2025.8,2,  2357.8,2,-999.000,9,-999.0000,9, -999.00,9, -999.00,9,  -999.0,9,  -999.0,-999.000,9,-999.000,  67.1156,2,   140.2,-999.000,  24.3655,     -999.0,9,     -999.0,9,     -999.0,9,     -999.0,9,     -999.0,9,     -999.0,9,     -999.0,9, -999.00,9,-999.0000,9,-999.0000,9,-999.0000,9,-999.0000,9,-999.0000,9,-999.0000,9,-999.0000, -999.00
33RR20050106,       P16S,       3,          1,         31,         31,2,20050111,       0043,   -16.9995,  -150.0003,       3743,   189.8,  22.8601,  35.9797,2,  35.9791,2,    129.5,4,   174.6,2,    0.64,2,    2.08,2,    0.05,2,    0.36,2,   1.975,2,   1.181,2,   0.084,2,  2069.9,2,  2360.3,2,-999.000,9,-999.0000,9, -999.00,9, -999.00,5,    95.3,2,     3.3,-999.000,9,-999.000,  54.3666,2,   189.8,-999.000,  22.8213,     -999.0,9,     -999.0,9,     -999.0,9,     -999.0,9,     -999.0,9,     -999.0,9,     -999.0,9, -999.00,9,-999.0000,9,-999.0000,9,-999.0000,9,-999.0000,9,-999.0000,9,-999.0000,9,-999.0000, -999.00
33RR20050106,       P16S,       3,          1,         30,         30,2,20050111,       0043,   -16.9995,  -150.0003,       3743,   239.4,  20.6643,  35.7963,2,  35.7964,2,    148.8,4,   174.6,2,    0.64,2,    3.62,2,    0.01,2,    0.45,2,   2.133,2,   1.252,2,   0.030,2,  2084.9,2,  2348.8,2,-999.000,9,-999.0000,9, -999.00,9, -999.00,9,  -999.0,9,  -999.0,-999.000,9,-999.000,  51.3468,2,   239.4,-999.000,  20.6188,     -999.0,9,     -999.0,9,     -999.0,9,     -999.0,9,     -999.0,9,     -999.0,9,     -999.0,9, -999.00,9,-999.0000,9,-999.0000,9,-999.0000,9,-999.0000,9,-999.0000,9,-999.0000,9,-999.0000, -999.00
33RR20050106,       P16S,       3,          1,         29,         29,2,20050111,       0043,   -16.9995,  -150.0003,       3743,   289.7,  16.1289,  35.2333,2,  35.2326,2,    164.5,4,   176.2,2,    2.31,2,    7.94,2,    0.00,2,    0.72,2,   2.253,2,   1.244,2,   0.014,2,  2101.5,2,  2313.9,2,-999.000,9,-999.0000,9, -999.00,9, -999.00,5,    84.4,2,     3.8,-999.000,9,-999.000,  47.3678,2,   289.7,-999.000,  16.0826,     -999.0,9,     -999.0,9,     -999.0,9,     -999.0,9,     -999.0,9,     -999.0,9,     -999.0,9, -999.00,9,-999.0000,9,-999.0000,9,-999.0000,9,-999.0000,9,-999.0000,9,-999.0000,9,-999.0000, -999.00
33RR20050106,       P16S,       3,          1,         28,         28,2,20050111,       0043,   -16.9995,  -150.0003,       3743,   340.0,  13.9395,  34.9662,2,  34.9583,2,    168.6,4,   169.3,2,    4.40,2,   11.90,2,    0.00,2,    1.03,2,   2.082,2,   1.132,2,   0.012,2,  2119.3,2,  2298.7,2,-999.000,9,-999.0000,9, -999.00,9, -999.00,9,  -999.0,9,  -999.0,-999.000,9,-999.000,  45.4603,2,   340.0,-999.000,  13.8903,     -999.0,9,     -999.0,9,     -999.0,9,     -999.0,9,     -999.0,9,     -999.0,9,     -999.0,9, -999.00,9,-999.0000,9,-999.0000,9,-999.0000,9,-999.0000,9,-999.0000,9,-999.0000,9,-999.0000, -999.00
33RR20050106,       P16S,       3,          1,         27,         27,2,20050111,       0043,   -16.9995,  -150.0003,       3743,   389.9,  11.3142,  34.7082,2,  34.7086,2,    170.0,4,   156.9,2,    7.97,2,   18.09,2,    0.00,2,    1.43,2,   1.658,2,   0.888,2,   0.010,2,  2147.1,6,  2286.6,2,-999.000,9,-999.0000,9, -999.00,9, -999.00,5,    51.6,2,     3.5,-999.000,9,-999.000,  43.9545,2,   389.9,-999.000,  11.2650,     -999.0,9,     -999.0,9,     -999.0,9,     -999.0,9,     -999.0,9,     -999.0,9,     -999.0,9, -999.00,9,-999.0000,9,-999.0000,9,-999.0000,9,-999.0000,9,-999.0000,9,-999.0000,9,-999.0000, -999.00
33RR20050106,       P16S,       3,          1,         26,         26,2,20050111,       0043,   -16.9995,  -150.0003,       3743,   440.1,   9.9610,  34.5949,2,  34.5906,2,    166.8,4,   147.2,2,   11.54,2,   22.30,2,    0.00,2,    1.71,2,   1.311,2,   0.719,2,   0.010,2,  2166.2,2,  2284.4,2,-999.000,9,-999.0000,9, -999.00,9, -999.00,9,  -999.0,9,  -999.0,-999.000,9,-999.000,-999.0000,9,   440.1,-999.000,   9.9097,     -999.0,9,     -999.0,9,     -999.0,9,     -999.0,9,     -999.0,9,     -999.0,9,     -999.0,9, -999.00,9,-999.0000,9,-999.0000,9,-999.0000,9,-999.0000,9,-999.0000,9,-999.0000,9,-999.0000, -999.00
33RR20050106,       P16S,       3,          1,         25,         25,2,20050111,       0043,   -16.9995,  -150.0003,       3743,   489.9,   8.6453,  34.5111,2,  34.5116,2,    163.7,4,   152.6,2,   14.48,2,   25.10,2,    0.00,2,    1.86,2,   1.085,2,   0.566,2,   0.008,2,  2176.1,2,  2282.4,2,-999.000,9,-999.0000,9, -999.00,9, -999.00,5,    -4.7,2,     3.3,-999.000,9,-999.000,  42.7794,2,   489.9,-999.000,   8.5928,     -999.0,9,     -999.0,9,     -999.0,9,     -999.0,9,     -999.0,9,     -999.0,9,     -999.0,9, -999.00,9,-999.0000,9,-999.0000,9,-999.0000,9,-999.0000,9,-999.0000,9,-999.0000,9,-999.0000, -999.00
33RR20050106,       P16S,       3,          1,         24,         24,2,20050111,       0043,   -16.9995,  -150.0003,       3743,   575.6,   6.5995,  34.4257,2,  34.4259,2,    160.3,3,   160.8,2,   23.95,2,   29.50,2,    0.00,2,    2.11,2,   0.561,2,   0.291,2,   0.000,2,  2194.9,2,  2290.0,2,-999.000,9,-999.0000,9, -999.00,9, -999.00,5,   -60.7,2,     3.1,-999.000,9,-999.000,  40.9594,2,   575.6,-999.000,   6.5464,     -999.0,9,     -999.0,9,     -999.0,9,     -999.0,9,     -999.0,9,     -999.0,9,     -999.0,9, -999.00,9,-999.0000,9,-999.0000,9,-999.0000,9,-999.0000,9,-999.0000,9,-999.0000,9,-999.0000, -999.00
33RR20050106,       P16S,       3,          1,         23,         23,2,20050111,       0043,   -16.9995,  -150.0003,       3743,   675.6,   5.5043,  34.4255,2,  34.4234,2,    154.2,3,   154.3,2,   35.79,2,   32.55,2,    0.00,2,    2.30,2,   0.227,2,   0.140,2,   0.000,2,  2214.8,2,  2300.0,2,-999.000,9,-999.0000,9, -999.00,9, -999.00,5,   -93.3,2,     2.8,-999.000,9,-999.000,  39.1093,2,   675.6,-999.000,   5.4471,     -999.0,9,     -999.0,9,     -999.0,9,     -999.0,9,     -999.0,9,     -999.0,9,     -999.0,9, -999.00,9,-999.0000,9,-999.0000,9,-999.0000,9,-999.0000,9,-999.0000,9,-999.0000,9,-999.0000, -999.00
33RR20050106,       P16S,       3,          1,         22,         22,2,20050111,       0043,   -16.9995,  -150.0003,       3743,   776.1,   4.8281,  34.4561,2,  34.4561,2,    148.8,3,   148.6,2,   49.58,2,   33.89,2,    0.00,2,    2.41,2,   0.083,2,   0.054,2,   0.000,2,  2234.1,2,  2314.1,2,-999.000,9,-999.0000,9, -999.00,9, -999.00,5,  -129.8,2,     2.9,-999.000,9,-999.000,  38.5545,2,   776.1,-999.000,   4.7658,     -999.0,9,     -999.0,9,     -999.0,9,     -999.0,9,     -999.0,9,     -999.0,9,     -999.0,9, -999.00,9,-999.0000,9,-999.0000,9,-999.0000,9,-999.0000,9,-999.0000,9,-999.0000,9,-999.0000, -999.00
33RR20050106,       P16S,       3,          1,         21,         21,2,20050111,       0043,   -16.9995,  -150.0003,       3743,   876.6,   4.3278,  34.4780,2,  34.4806,2,    146.5,3,   146.8,2,   59.37,2,   34.63,2,    0.00,2,    2.46,2,   0.040,2,   0.040,2,   0.000,2,  2243.0,2,  2324.7,2,-999.000,9,-999.0000,9, -999.00,9, -999.00,5,  -147.6,2,     3.2,-999.000,9,-999.000,  37.3685,2,   876.6,-999.000,   4.2601,     -999.0,9,     -999.0,9,     -999.0,9,     -999.0,9,     -999.0,9,     -999.0,9,     -999.0,9, -999.00,9,-999.0000,9,-999.0000,9,-999.0000,9,-999.0000,9,-999.0000,9,-999.0000,9,-999.0000, -999.00
33RR20050106,       P16S,       3,          1,         20,         20,2,20050111,       0043,   -16.9995,  -150.0003,       3743,   977.2,   3.9909,  34.4959,2,  34.4981,2,    144.3,3,   145.2,2,   66.84,2,   35.11,2,    0.00,2,    2.50,2,   0.108,3,   0.139,3,   0.000,2,  2251.6,2,  2333.0,2,-999.000,9,-999.0000,9, -999.00,9, -999.00,5,  -159.8,2,     2.4,-999.000,9,-999.000,  36.1606,2,   977.2,-999.000,   3.9172,     -999.0,9,     -999.0,9,     -999.0,9,     -999.0,9,     -999.0,9,     -999.0,9,     -999.0,9, -999.00,9,-999.0000,9,-999.0000,9,-999.0000,9,-999.0000,9,-999.0000,9,-999.0000,9,-999.0000, -999.00
33RR20050106,       P16S,       3,          1,         19,         19,2,20050111,       0043,   -16.9995,  -150.0003,       3743,  1077.6,   3.5845,  34.5193,2,  34.5186,2,    144.2,3,   145.3,2,   75.60,2,   35.60,2,    0.00,2,    2.52,2,   0.014,2,   0.015,2,   0.000,2,  2262.3,2,  2341.4,2,-999.000,9,-999.0000,9, -999.00,9, -999.00,5,  -178.1,2,     2.8,-999.000,9,-999.000,  36.4667,2,  1077.6,-999.000,   3.5058,     -999.0,9,     -999.0,9,     -999.0,9,     -999.0,9,     -999.0,9,     -999.0,9,     -999.0,9, -999.00,9,-999.0000,9,-999.0000,9,-999.0000,9,-999.0000,9,-999.0000,9,-999.0000,9,-999.0000, -999.00
33RR20050106,       P16S,       3,          1,         18,         18,2,20050111,       0043,   -16.9995,  -150.0003,       3743,  1178.1,   3.3133,  34.5372,2,  34.5392,2,    144.0,3,   145.5,2,   82.24,2,   35.71,2,    0.00,2,    2.53,2,   0.083,3,   0.107,3,   0.000,2,  2268.8,2,  2349.5,6,-999.000,9,-999.0000,9, -999.00,9, -999.00,5,  -185.1,2,     4.0,-999.000,9,-999.000,-999.0000,9,  1178.1,-999.000,   3.2287,     -999.0,9,     -999.0,9,     -999.0,9,     -999.0,9,     -999.0,9,     -999.0,9,     -999.0,9, -999.00,9,-999.0000,9,-999.0000,9,-999.0000,9,-999.0000,9,-999.0000,9,-999.0000,9,-999.0000, -999.00
33RR20050106,       P16S,       3,          1,         17,         17,2,20050111,       0043,   -16.9995,  -150.0003,       3743,  1278.8,   3.1431,  34.5560,2,  34.5573,2,    143.3,3,   142.8,2,   88.67,2,   36.02,2,    0.00,2,    2.55,2,   0.017,2,   0.002,2,   0.000,2,  2275.9,2,  2357.4,2,-999.000,9,-999.0000,9, -999.00,9, -999.00,5,  -188.0,2,     2.9,-999.000,9,-999.000,  36.1551,2,  1278.8,-999.000,   3.0520,     -999.0,9,     -999.0,9,     -999.0,9,     -999.0,9,     -999.0,9,     -999.0,9,     -999.0,9, -999.00,9,-999.0000,9,-999.0000,9,-999.0000,9,-999.0000,9,-999.0000,9,-999.0000,9,-999.0000, -999.00
33RR20050106,       P16S,       3,          1,         16,         16,2,20050111,       0043,   -16.9995,  -150.0003,       3743,  1379.4,   2.9560,  34.5709,2,  34.5733,2,    144.3,3,   143.3,2,   93.60,2,   36.02,2,    0.00,2,    2.55,2,   0.023,3,   0.019,3,   0.000,2,  2281.3,2,  2362.3,2,-999.000,9,-999.0000,9, -999.00,9, -999.00,5,  -191.8,2,     2.4,-999.000,9,-999.000,  35.9695,2,  1379.4,-999.000,   2.8586,     -999.0,9,     -999.0,9,     -999.0,9,     -999.0,9,     -999.0,9,     -999.0,9,     -999.0,9, -999.00,9,-999.0000,9,-999.0000,9,-999.0000,9,-999.0000,9,-999.0000,9,-999.0000,9,-999.0000, -999.00
33RR20050106,       P16S,       3,          1,         15,         15,2,20050111,       0043,   -16.9995,  -150.0003,       3743,  1480.4,   2.7496,  34.5870,2,  34.5876,2,    145.1,3,   144.6,2,   99.19,2,   36.02,2,    0.00,2,    2.55,2,   0.020,3,   0.014,2,   0.000,2,  2286.3,2,  2367.9,2,-999.000,9,-999.0000,9, -999.00,9, -999.00,5,  -198.7,2,     2.9,-999.000,9,-999.000,-999.0000,9,  1480.4,-999.000,   2.6462,     -999.0,9,     -999.0,9,     -999.0,9,     -999.0,9,     -999.0,9,     -999.0,9,     -999.0,9, -999.00,9,-999.0000,9,-999.0000,9,-999.0000,9,-999.0000,9,-999.0000,9,-999.0000,9,-999.0000, -999.00
33RR20050106,       P16S,       3,          1,         14,         14,2,20050111,       0043,   -16.9995,  -150.0003,       3743,  1581.2,   2.5633,  34.5992,2,  34.6008,2,    146.3,3,   146.6,2,  103.49,2,   35.80,2,    0.00,2,    2.54,2,   0.061,3,   0.073,3,   0.000,2,  2290.4,2,  -999.0,5,-999.000,9,-999.0000,9, -999.00,9, -999.00,9,  -999.0,9,  -999.0,-999.000,9,-999.000,-999.0000,9,  1581.2,-999.000,   2.4538,     -999.0,9,     -999.0,9,     -999.0,9,     -999.0,9,     -999.0,9,     -999.0,9,     -999.0,9, -999.00,9,-999.0000,9,-999.0000,9,-999.0000,9,-999.0000,9,-999.0000,9,-999.0000,9,-999.0000, -999.00
33RR20050106,       P16S,       3,          1,         13,         13,2,20050111,       0043,   -16.9995,  -150.0003,       3743,  1681.9,   2.4263,  34.6092,2,  34.6096,2,    147.9,3,   148.1,2,  106.94,2,   35.81,2,    0.00,2,    2.54,2,   0.023,3,   0.026,3,   0.000,2,  2293.1,2,  2376.8,2,-999.000,9,-999.0000,9, -999.00,9, -999.00,9,  -999.0,9,  -999.0,-999.000,9,-999.000,-999.0000,9,  1681.9,-999.000,   2.3103,     -999.0,9,     -999.0,9,     -999.0,9,     -999.0,9,     -999.0,9,     -999.0,9,     -999.0,9, -999.00,9,-999.0000,9,-999.0000,9,-999.0000,9,-999.0000,9,-999.0000,9,-999.0000,9,-999.0000, -999.00
33RR20050106,       P16S,       3,          1,         12,         12,2,20050111,       0043,   -16.9995,  -150.0003,       3743,  1782.9,   2.3232,  34.6179,2,  34.6190,2,    148.7,3,   149.3,2,  109.74,2,   35.76,2,    0.00,2,    2.54,2,   0.019,3,   0.015,2,   0.000,2,  2295.3,2,  2381.3,2,-999.000,9,-999.0000,9, -999.00,9, -999.00,9,  -999.0,9,  -999.0,-999.000,9,-999.000,  35.5480,2,  1782.9,-999.000,   2.2002,     -999.0,9,     -999.0,9,     -999.0,9,     -999.0,9,     -999.0,9,     -999.0,9,     -999.0,9, -999.00,9,-999.0000,9,-999.0000,9,-999.0000,9,-999.0000,9,-999.0000,9,-999.0000,9,-999.0000, -999.00
33RR20050106,       P16S,       3,          1,         11,         11,2,20050111,       0043,   -16.9995,  -150.0003,       3743,  1883.9,   2.2075,  34.6276,2,  34.6276,2,    150.4,3,   150.7,2,  112.97,2,   35.64,2,    0.00,2,    2.54,2,   0.012,2,   0.016,2,   0.000,2,  2298.2,2,  2383.2,2,-999.000,9,-999.0000,9, -999.00,9, -999.00,9,  -999.0,9,  -999.0,-999.000,9,-999.000,-999.0000,9,  1883.9,-999.000,   2.0777,     -999.0,9,     -999.0,9,     -999.0,9,     -999.0,9,     -999.0,9,     -999.0,9,     -999.0,9, -999.00,9,-999.0000,9,-999.0000,9,-999.0000,9,-999.0000,9,-999.0000,9,-999.0000,9,-999.0000, -999.00
33RR20050106,       P16S,       3,          1,         10,         10,2,20050111,       0043,   -16.9995,  -150.0003,       3743,  1984.9,   2.1298,  34.6342,2,  34.6353,2,    151.2,3,   151.8,2,  114.92,2,   35.59,2,    0.00,2,    2.53,2,   0.011,2,   0.005,2,   0.000,2,  2299.3,2,  2384.2,2,-999.000,9,-999.0000,9, -999.00,9, -999.00,9,  -999.0,9,  -999.0,-999.000,9,-999.000,-999.0000,9,  1984.9,-999.000,   1.9926,     -999.0,9,     -999.0,9,     -999.0,9,     -999.0,9,     -999.0,9,     -999.0,9,     -999.0,9, -999.00,9,-999.0000,9,-999.0000,9,-999.0000,9,-999.0000,9,-999.0000,9,-999.0000,9,-999.0000, -999.00
33RR20050106,       P16S,       3,          1,          9,          9,2,20050111,       0043,   -16.9995,  -150.0003,       3743,  2187.1,   1.9899,  34.6465,2,  34.6465,2,    153.6,3,   154.0,2,  118.37,2,   35.48,2,    0.00,2,    2.52,2,   0.000,2,   0.011,2,   0.000,2,  2301.1,2,  2389.1,2,-999.000,9,-999.0000,9, -999.00,9, -999.00,9,  -999.0,9,  -999.0,-999.000,9,-999.000,  35.4429,2,  2187.1,-999.000,   1.8376,     -999.0,9,     -999.0,9,     -999.0,9,     -999.0,9,     -999.0,9,     -999.0,9,     -999.0,9, -999.00,9,-999.0000,9,-999.0000,9,-999.0000,9,-999.0000,9,-999.0000,9,-999.0000,9,-999.0000, -999.00
33RR20050106,       P16S,       3,          1,          8,          8,2,20050111,       0043,   -16.9995,  -150.0003,       3743,  2440.2,   1.8183,  34.6612,2,  34.6608,2,    157.5,3,   157.9,2,  122.25,2,   35.27,2,    0.00,2,    2.51,2,  -0.007,2,   0.016,3,   0.000,2,  2302.1,2,  2393.2,3,-999.000,9,-999.0000,9, -999.00,9, -999.00,9,  -999.0,9,  -999.0,-999.000,9,-999.000,  35.1275,2,  2440.2,-999.000,   1.6467,     -999.0,9,     -999.0,9,     -999.0,9,     -999.0,9,     -999.0,9,     -999.0,9,     -999.0,9, -999.00,9,-999.0000,9,-999.0000,9,-999.0000,9,-999.0000,9,-999.0000,9,-999.0000,9,-999.0000, -999.00
33RR20050106,       P16S,       3,          1,          7,          7,2,20050111,       0043,   -16.9995,  -150.0003,       3743,  2693.6,   1.7241,  34.6694,2,  34.6704,2,    160.5,3,   161.4,2,  123.76,2,   35.05,2,    0.00,2,    2.48,2,  -0.011,2,   0.030,3,   0.000,2,  2302.6,2,  2389.7,2,-999.000,9,-999.0000,9, -999.00,9, -999.00,9,  -999.0,9,  -999.0,-999.000,9,-999.000,-999.0000,9,  2693.6,-999.000,   1.5313,     -999.0,9,     -999.0,9,     -999.0,9,     -999.0,9,     -999.0,9,     -999.0,9,     -999.0,9, -999.00,9,-999.0000,9,-999.0000,9,-999.0000,9,-999.0000,9,-999.0000,9,-999.0000,9,-999.0000, -999.00