BOTTLE,20201109CCHSIOCBG
EXPOCODE,SECT_ID,STNNBR,CASTNO,SAMPNO,BTLNBR,BTLNBR_FLAG_W,DATE,TIME,LATITUDE,LONGITUDE,DEPTH,CTDPRS,CTDTMP,CTDSAL,CTDSAL_FLAG_W,SALNTY,SALNTY_FLAG_W,CTDOXY,CTDOXY_FLAG_W,OXYGEN,OXYGEN_FLAG_W,SILCAT,SILCAT_FLAG_W,NITRAT,NITRAT_FLAG_W,NITRIT,NITRIT_FLAG_W,PHSPHT,PHSPHT_FLAG_W,CFC-11,CFC-11_FLAG_W,CFC-12,CFC-12_FLAG_W,CFC113,CFC113_FLAG_W,TCARBN,TCARBN_FLAG_W,ALKALI,ALKALI_FLAG_W,TRITUM,TRITUM_FLAG_W,HELIUM,HELIUM_FLAG_W,DELHE3,DELHE3_FLAG_W,DELC13,DELC13_FLAG_W,DELC14,DELC14_FLAG_W,C14ERR,NEON,NEON_FLAG_W,NEONER,DOC,DOC_FLAG_W,CTDRAW,TRITER,THETA,FUCO,FUCO_FLAG_W,RHAM,RHAM_FLAG_W,ARABA,ARABA_FLAG_W,GALA,GALA_FLAG_W,GLUC,GLUC_FLAG_W,MAN,MAN_FLAG_W,DCNS,DCNS_FLAG_W,BRDU,BRDU_FLAG_W,CDOM325,CDOM325_FLAG_W,CDOM340,CDOM340_FLAG_W,CDOM380,CDOM380_FLAG_W,CDOM412,CDOM412_FLAG_W,CDOMSL,CDOMSL_FLAG_W,CDOMSN,CDOMSN_FLAG_W,HELIER,DELHER
,,,,,,,,,,,METERS,DBAR,ITS-90,PSS-78,,PSS-78,,UMOL/KG,,UMOL/KG,,UMOL/KG,,UMOL/KG,,UMOL/KG,,UMOL/KG,,PMOL/KG,,PMOL/KG,,PMOL/KG,,UMOL/KG,,UMOL/KG,,TU,,NMOL/KG,,PERCNT,,/MILLE,,/MILLE,,/MILLE,NMOL/KG,,NMOL/KG,UMOL/KG,,DBAR,TU,DEG C,NMOL/KG,,NMOL/KG,,NMOL/KG,,NMOL/KG,,NMOL/KG,,NMOL/KG,,NMOL/KG,,PMOL/L/H,,1/M,,1/M,,1/M,,1/M,,1/NM,,1/NM,,NMOL/KG,PERCNT
33RR20050106,       P16S,      54,          1,         36,         36,2,20050125,       1102,   -42.4998,  -150.0002,       5074,     3.2,  15.0547,  34.2695,2,  34.2695,2,    256.9,2,   256.5,2,    0.00,2,    4.53,2,    0.06,2,    0.47,2,   2.980,2,   1.752,2,   0.270,2,  2048.9,6,  2273.1,6,-999.000,9,-999.0000,9, -999.00,9, -999.00,9,  -999.0,9,  -999.0,-999.000,9,-999.000,-999.0000,9,     3.2,-999.000,  15.0542,     -999.0,9,     -999.0,9,     -999.0,9,     -999.0,9,     -999.0,9,     -999.0,9,     -999.0,9, -999.00,9,-999.0000,9,-999.0000,9,-999.0000,9,-999.0000,9,-999.0000,9,-999.0000,9,-999.0000, -999.00
33RR20050106,       P16S,      54,          1,         35,         35,2,20050125,       1102,   -42.4998,  -150.0002,       5074,    41.1,  14.0177,  34.3487,2,  34.3507,2,    264.9,2,   267.4,2,    0.00,2,    4.47,2,    0.07,2,    0.46,2,   3.096,2,   1.874,2,   0.265,2,  2052.8,2,  2277.4,2,-999.000,9,-999.0000,9, -999.00,9, -999.00,9,  -999.0,9,  -999.0,-999.000,9,-999.000,-999.0000,9,    41.1,-999.000,  14.0118,     -999.0,9,     -999.0,9,     -999.0,9,     -999.0,9,     -999.0,9,     -999.0,9,     -999.0,9, -999.00,9,-999.0000,9,-999.0000,9,-999.0000,9,-999.0000,9,-999.0000,9,-999.0000,9,-999.0000, -999.00
33RR20050106,       P16S,      54,          1,         34,         34,2,20050125,       1102,   -42.4998,  -150.0002,       5074,    86.3,  10.2784,  34.3895,2,  34.3896,2,    277.5,2,   276.4,2,    0.60,2,    7.28,2,    0.14,2,    0.67,2,-999.000,9,-999.000,9,-999.000,9,  2082.3,2,  2278.6,2,-999.000,9,-999.0000,9, -999.00,9, -999.00,9,  -999.0,9,  -999.0,-999.000,9,-999.000,-999.0000,9,    86.3,-999.000,  10.2683,     -999.0,9,     -999.0,9,     -999.0,9,     -999.0,9,     -999.0,9,     -999.0,9,     -999.0,9, -999.00,9,-999.0000,9,-999.0000,9,-999.0000,9,-999.0000,9,-999.0000,9,-999.0000,9,-999.0000, -999.00
33RR20050106,       P16S,      54,          1,         33,         33,2,20050125,       1102,   -42.4998,  -150.0002,       5074,   136.4,   8.8479,  34.4406,2,  34.4400,2,    261.4,2,   259.0,2,    1.76,2,   13.47,2,    0.04,2,    0.99,2,   3.846,2,   2.177,2,   0.342,2,  2111.6,2,  2279.0,2,-999.000,9,-999.0000,9, -999.00,9, -999.00,9,  -999.0,9,  -999.0,-999.000,9,-999.000,-999.0000,9,   136.4,-999.000,   8.8334,     -999.0,9,     -999.0,9,     -999.0,9,     -999.0,9,     -999.0,9,     -999.0,9,     -999.0,9, -999.00,9,-999.0000,9,-999.0000,9,-999.0000,9,-999.0000,9,-999.0000,9,-999.0000,9,-999.0000, -999.00
33RR20050106,       P16S,      54,          1,         32,         32,2,20050125,       1102,   -42.4998,  -150.0002,       5074,   186.6,   8.2602,  34.4689,2,  34.4701,2,    253.1,2,   255.0,2,    3.13,2,   16.25,2,    0.01,2,    1.15,2,-999.000,9,-999.000,9,-999.000,9,  2124.9,2,  2279.9,2,-999.000,9,-999.0000,9, -999.00,9, -999.00,9,  -999.0,9,  -999.0,-999.000,9,-999.000,-999.0000,9,   186.6,-999.000,   8.2411,     -999.0,9,     -999.0,9,     -999.0,9,     -999.0,9,     -999.0,9,     -999.0,9,     -999.0,9, -999.00,9,-999.0000,9,-999.0000,9,-999.0000,9,-999.0000,9,-999.0000,9,-999.0000,9,-999.0000, -999.00
33RR20050106,       P16S,      54,          1,         31,         31,2,20050125,       1102,   -42.4998,  -150.0002,       5074,   236.7,   7.9824,  34.4689,2,  34.4673,2,    254.4,2,   257.1,2,    3.50,2,   16.98,2,    0.01,2,    1.19,2,   3.991,2,   2.246,2,   0.345,2,  2127.2,2,  2280.7,2,-999.000,9,-999.0000,9, -999.00,9, -999.00,9,  -999.0,9,  -999.0,-999.000,9,-999.000,-999.0000,9,   236.7,-999.000,   7.9586,     -999.0,9,     -999.0,9,     -999.0,9,     -999.0,9,     -999.0,9,     -999.0,9,     -999.0,9, -999.00,9,-999.0000,9,-999.0000,9,-999.0000,9,-999.0000,9,-999.0000,9,-999.0000,9,-999.0000, -999.00
33RR20050106,       P16S,      54,          1,         30,         30,2,20050125,       1102,   -42.4998,  -150.0002,       5074,   292.0,   7.7509,  34.4519,2,  34.4502,2,    256.3,2,   259.2,2,    4.06,2,   17.88,2,    0.01,2,    1.24,2,-999.000,9,-999.000,9,-999.000,9,  2128.3,2,  2280.3,2,-999.000,9,-999.0000,9, -999.00,9, -999.00,9,  -999.0,9,  -999.0,-999.000,9,-999.000,-999.0000,9,   292.0,-999.000,   7.7219,     -999.0,9,     -999.0,9,     -999.0,9,     -999.0,9,     -999.0,9,     -999.0,9,     -999.0,9, -999.00,9,-999.0000,9,-999.0000,9,-999.0000,9,-999.0000,9,-999.0000,9,-999.0000,9,-999.0000, -999.00
33RR20050106,       P16S,      54,          1,         29,         29,2,20050125,       1102,   -42.4998,  -150.0002,       5074,   342.6,   7.5691,  34.4337,2,  34.4330,2,    255.2,2,   256.6,2,    4.63,2,   18.78,2,    0.01,2,    1.30,2,   4.019,2,   2.187,2,   0.344,2,  2131.5,2,  2280.4,2,-999.000,9,-999.0000,9, -999.00,9, -999.00,9,  -999.0,9,  -999.0,-999.000,9,-999.000,-999.0000,9,   342.6,-999.000,   7.5355,     -999.0,9,     -999.0,9,     -999.0,9,     -999.0,9,     -999.0,9,     -999.0,9,     -999.0,9, -999.00,9,-999.0000,9,-999.0000,9,-999.0000,9,-999.0000,9,-999.0000,9,-999.0000,9,-999.0000, -999.00
33RR20050106,       P16S,      54,          1,         28,         28,2,20050125,       1102,   -42.4998,  -150.0002,       5074,   392.9,   7.3956,  34.4152,2,  34.4143,2,    254.5,2,   255.3,2,    5.00,2,   19.47,2,    0.00,2,    1.35,2,-999.000,9,-999.000,9,-999.000,9,  2133.7,2,  2281.4,2,-999.000,9,-999.0000,9, -999.00,9, -999.00,9,  -999.0,9,  -999.0,-999.000,9,-999.000,-999.0000,9,   392.9,-999.000,   7.3575,     -999.0,9,     -999.0,9,     -999.0,9,     -999.0,9,     -999.0,9,     -999.0,9,     -999.0,9, -999.00,9,-999.0000,9,-999.0000,9,-999.0000,9,-999.0000,9,-999.0000,9,-999.0000,9,-999.0000, -999.00
33RR20050106,       P16S,      54,          1,         27,         27,2,20050125,       1102,   -42.4998,  -150.0002,       5074,   443.2,   7.2471,  34.4007,2,  34.3990,2,    253.5,2,   254.2,2,    5.36,2,   20.11,2,    0.00,2,    1.39,2,   3.964,2,   2.150,2,   0.334,2,  2136.1,2,  2280.7,2,-999.000,9,-999.0000,9, -999.00,9, -999.00,9,  -999.0,9,  -999.0,-999.000,9,-999.000,-999.0000,9,   443.2,-999.000,   7.2044,     -999.0,9,     -999.0,9,     -999.0,9,     -999.0,9,     -999.0,9,     -999.0,9,     -999.0,9, -999.00,9,-999.0000,9,-999.0000,9,-999.0000,9,-999.0000,9,-999.0000,9,-999.0000,9,-999.0000, -999.00
33RR20050106,       P16S,      54,          1,         26,         26,2,20050125,       1102,   -42.4998,  -150.0002,       5074,   493.7,   7.1284,  34.3899,2,  34.3890,2,    253.2,2,   253.9,2,    5.73,2,   20.53,2,    0.00,2,    1.42,2,-999.000,9,-999.000,9,-999.000,9,  2136.1,2,  2280.6,2,-999.000,9,-999.0000,9, -999.00,9, -999.00,9,  -999.0,9,  -999.0,-999.000,9,-999.000,-999.0000,9,   493.7,-999.000,   7.0811,     -999.0,9,     -999.0,9,     -999.0,9,     -999.0,9,     -999.0,9,     -999.0,9,     -999.0,9, -999.00,9,-999.0000,9,-999.0000,9,-999.0000,9,-999.0000,9,-999.0000,9,-999.0000,9,-999.0000, -999.00
33RR20050106,       P16S,      54,          1,         25,         25,2,20050125,       1102,   -42.4998,  -150.0002,       5074,   579.2,   6.8989,  34.3721,2,  34.3735,2,    251.7,2,   252.3,2,    6.50,2,   21.28,2,    0.00,2,    1.47,2,   3.763,6,   2.001,6,   0.287,6,  2138.2,2,  2280.2,2,-999.000,9,-999.0000,9, -999.00,9, -999.00,9,  -999.0,9,  -999.0,-999.000,9,-999.000,-999.0000,9,   579.2,-999.000,   6.8441,     -999.0,9,     -999.0,9,     -999.0,9,     -999.0,9,     -999.0,9,     -999.0,9,     -999.0,9, -999.00,9,-999.0000,9,-999.0000,9,-999.0000,9,-999.0000,9,-999.0000,9,-999.0000,9,-999.0000, -999.00
33RR20050106,       P16S,      54,          1,         24,         24,2,20050125,       1102,   -42.4998,  -150.0002,       5074,   679.7,   6.5165,  34.3417,2,  34.3407,2,    249.3,2,   249.7,2,    8.27,2,   22.61,2,    0.00,2,    1.56,2,   3.445,2,   2.125,3,   0.242,2,  2144.4,2,  2280.5,2,-999.000,9,-999.0000,9, -999.00,9, -999.00,9,  -999.0,9,  -999.0,-999.000,9,-999.000,-999.0000,9,   679.7,-999.000,   6.4538,     -999.0,9,     -999.0,9,     -999.0,9,     -999.0,9,     -999.0,9,     -999.0,9,     -999.0,9, -999.00,9,-999.0000,9,-999.0000,9,-999.0000,9,-999.0000,9,-999.0000,9,-999.0000,9,-999.0000, -999.00
33RR20050106,       P16S,      54,          1,         23,         23,2,20050125,       1102,   -42.4998,  -150.0002,       5074,   780.4,   6.0968,  34.3193,2,  34.3184,2,    239.2,2,   237.9,2,   11.27,2,   24.54,2,    0.00,2,    1.68,2,   3.070,2,   1.528,2,   0.194,2,  2154.2,2,  2282.8,2,-999.000,9,-999.0000,9, -999.00,9, -999.00,9,  -999.0,9,  -999.0,-999.000,9,-999.000,-999.0000,9,   780.4,-999.000,   6.0267,     -999.0,9,     -999.0,9,     -999.0,9,     -999.0,9,     -999.0,9,     -999.0,9,     -999.0,9, -999.00,9,-999.0000,9,-999.0000,9,-999.0000,9,-999.0000,9,-999.0000,9,-999.0000,9,-999.0000, -999.00
33RR20050106,       P16S,      54,          1,         22,         22,2,20050125,       1102,   -42.4998,  -150.0002,       5074,   881.2,   5.6029,  34.3086,2,  34.3072,2,    227.0,2,   226.5,2,   15.87,2,   26.57,2,    0.00,2,    1.82,2,   2.507,2,   1.279,2,   0.168,2,  2166.8,2,  2285.1,2,-999.000,9,-999.0000,9, -999.00,9, -999.00,9,  -999.0,9,  -999.0,-999.000,9,-999.000,-999.0000,9,   881.2,-999.000,   5.5265,     -999.0,9,     -999.0,9,     -999.0,9,     -999.0,9,     -999.0,9,     -999.0,9,     -999.0,9, -999.00,9,-999.0000,9,-999.0000,9,-999.0000,9,-999.0000,9,-999.0000,9,-999.0000,9,-999.0000, -999.00
33RR20050106,       P16S,      54,          1,         21,         21,2,20050125,       1102,   -42.4998,  -150.0002,       5074,   982.1,   5.0777,  34.3182,2,  34.3172,2,    213.6,2,   213.3,2,   24.16,2,   28.78,2,    0.00,2,    1.98,2,   1.890,2,   0.968,2,   0.131,2,  2180.5,2,  2288.6,2,-999.000,9,-999.0000,9, -999.00,9, -999.00,9,  -999.0,9,  -999.0,-999.000,9,-999.000,-999.0000,9,   982.1,-999.000,   4.9957,     -999.0,9,     -999.0,9,     -999.0,9,     -999.0,9,     -999.0,9,     -999.0,9,     -999.0,9, -999.00,9,-999.0000,9,-999.0000,9,-999.0000,9,-999.0000,9,-999.0000,9,-999.0000,9,-999.0000, -999.00
33RR20050106,       P16S,      54,          1,         20,         20,2,20050125,       1102,   -42.4998,  -150.0002,       5074,  1083.0,   4.4389,  34.3305,2,  34.3293,2,    205.6,2,   205.4,2,   32.25,2,   30.55,2,    0.00,2,    2.11,2,   1.471,2,   0.740,2,   0.106,2,  2195.5,2,  2295.5,2,-999.000,9,-999.0000,9, -999.00,9, -999.00,9,  -999.0,9,  -999.0,-999.000,9,-999.000,-999.0000,9,  1083.0,-999.000,   4.3529,     -999.0,9,     -999.0,9,     -999.0,9,     -999.0,9,     -999.0,9,     -999.0,9,     -999.0,9, -999.00,9,-999.0000,9,-999.0000,9,-999.0000,9,-999.0000,9,-999.0000,9,-999.0000,9,-999.0000, -999.00
33RR20050106,       P16S,      54,          1,         19,         19,2,20050125,       1102,   -42.4998,  -150.0002,       5074,  1184.0,   3.9476,  34.3490,2,  34.3488,2,    199.3,2,   198.7,2,   39.55,2,   31.91,2,    0.00,2,    2.21,2,   1.094,2,   0.534,2,   0.075,2,  2207.5,2,  2302.0,2,-999.000,9,-999.0000,9, -999.00,9, -999.00,9,  -999.0,9,  -999.0,-999.000,9,-999.000,-999.0000,9,  1184.0,-999.000,   3.8572,     -999.0,9,     -999.0,9,     -999.0,9,     -999.0,9,     -999.0,9,     -999.0,9,     -999.0,9, -999.00,9,-999.0000,9,-999.0000,9,-999.0000,9,-999.0000,9,-999.0000,9,-999.0000,9,-999.0000, -999.00
33RR20050106,       P16S,      54,          1,         18,         18,2,20050125,       1102,   -42.4998,  -150.0002,       5074,  1285.0,   3.5156,  34.3799,2,  34.3796,2,    191.8,2,   191.2,2,   47.69,2,   32.98,2,    0.00,2,    2.30,2,   0.766,2,   0.381,2,   0.041,2,  2220.7,6,  2309.0,2,-999.000,9,-999.0000,9, -999.00,9, -999.00,9,  -999.0,9,  -999.0,-999.000,9,-999.000,-999.0000,9,  1285.0,-999.000,   3.4207,     -999.0,9,     -999.0,9,     -999.0,9,     -999.0,9,     -999.0,9,     -999.0,9,     -999.0,9, -999.00,9,-999.0000,9,-999.0000,9,-999.0000,9,-999.0000,9,-999.0000,9,-999.0000,9,-999.0000, -999.00
33RR20050106,       P16S,      54,          1,         17,         17,2,20050125,       1102,   -42.4998,  -150.0002,       5074,  1386.0,   3.1899,  34.4217,2,  34.4214,2,    183.1,2,   183.3,2,   55.85,2,   33.69,2,    0.00,2,    2.35,2,   0.516,2,   0.251,2,   0.032,2,  -999.0,9,  -999.0,9,-999.000,9,-999.0000,9, -999.00,9, -999.00,9,  -999.0,9,  -999.0,-999.000,9,-999.000,-999.0000,9,  1386.0,-999.000,   3.0898,     -999.0,9,     -999.0,9,     -999.0,9,     -999.0,9,     -999.0,9,     -999.0,9,     -999.0,9, -999.00,9,-999.0000,9,-999.0000,9,-999.0000,9,-999.0000,9,-999.0000,9,-999.0000,9,-999.0000, -999.00
33RR20050106,       P16S,      54,          1,         16,         16,2,20050125,       1102,   -42.4998,  -150.0002,       5074,  1487.5,   2.9443,  34.4701,2,  34.4709,2,    176.4,2,   175.9,2,   64.44,2,   34.18,2,    0.00,2,    2.39,2,   0.341,2,   0.157,2,   0.036,2,  -999.0,9,  -999.0,9,-999.000,9,-999.0000,9, -999.00,9, -999.00,9,  -999.0,9,  -999.0,-999.000,9,-999.000,-999.0000,9,  1487.5,-999.000,   2.8384,     -999.0,9,     -999.0,9,     -999.0,9,     -999.0,9,     -999.0,9,     -999.0,9,     -999.0,9, -999.00,9,-999.0000,9,-999.0000,9,-999.0000,9,-999.0000,9,-999.0000,9,-999.0000,9,-999.0000, -999.00
33RR20050106,       P16S,      54,          1,         15,         15,2,20050125,       1102,   -42.4998,  -150.0002,       5074,  1588.5,   2.8026,  34.5099,2,  34.5080,2,    170.9,2,   170.8,2,   70.38,2,   34.34,2,    0.00,2,    2.40,2,   0.307,2,   0.160,2,   0.040,2,  -999.0,9,  -999.0,9,-999.000,9,-999.0000,9, -999.00,9, -999.00,9,  -999.0,9,  -999.0,-999.000,9,-999.000,-999.0000,9,  1588.5,-999.000,   2.6899,     -999.0,9,     -999.0,9,     -999.0,9,     -999.0,9,     -999.0,9,     -999.0,9,     -999.0,9, -999.00,9,-999.0000,9,-999.0000,9,-999.0000,9,-999.0000,9,-999.0000,9,-999.0000,9,-999.0000, -999.00
33RR20050106,       P16S,      54,          1,         14,         14,2,20050125,       1102,   -42.4998,  -150.0002,       5074,  1790.9,   2.5698,  34.5803,2,  34.5797,2,    162.5,2,   162.5,2,   84.79,2,   34.51,2,    0.00,2,    2.43,2,   0.091,2,   0.050,2,   0.024,2,  -999.0,9,  -999.0,9,-999.000,9,-999.0000,9, -999.00,9, -999.00,9,  -999.0,9,  -999.0,-999.000,9,-999.000,-999.0000,9,  1790.9,-999.000,   2.4429,     -999.0,9,     -999.0,9,     -999.0,9,     -999.0,9,     -999.0,9,     -999.0,9,     -999.0,9, -999.00,9,-999.0000,9,-999.0000,9,-999.0000,9,-999.0000,9,-999.0000,9,-999.0000,9,-999.0000, -999.00
33RR20050106,       P16S,      54,          1,         13,         13,2,20050125,       1102,   -42.4998,  -150.0002,       5074,  1993.5,   2.3636,  34.6236,2,  34.6240,2,    156.8,2,   156.6,2,   99.24,2,   34.84,2,    0.00,2,    2.45,2,   0.014,2,   0.004,2,   0.002,2,  -999.0,9,  -999.0,9,-999.000,9,-999.0000,9, -999.00,9, -999.00,9,  -999.0,9,  -999.0,-999.000,9,-999.000,-999.0000,9,  1993.5,-999.000,   2.2222,     -999.0,9,     -999.0,9,     -999.0,9,     -999.0,9,     -999.0,9,     -999.0,9,     -999.0,9, -999.00,9,-999.0000,9,-999.0000,9,-999.0000,9,-999.0000,9,-999.0000,9,-999.0000,9,-999.0000, -999.00
33RR20050106,       P16S,      54,          1,         12,         12,2,20050125,       1102,   -42.4998,  -150.0002,       5074,  2196.2,   2.2058,  34.6429,2,  34.6429,2,    153.2,2,   154.2,2,  108.76,2,   35.00,2,    0.00,2,    2.47,2,   0.006,2,   0.004,2,   0.002,2,  -999.0,9,  -999.0,9,-999.000,9,-999.0000,9, -999.00,9, -999.00,9,  -999.0,9,  -999.0,-999.000,9,-999.000,-999.0000,9,  2196.2,-999.000,   2.0492,     -999.0,9,     -999.0,9,     -999.0,9,     -999.0,9,     -999.0,9,     -999.0,9,     -999.0,9, -999.00,9,-999.0000,9,-999.0000,9,-999.0000,9,-999.0000,9,-999.0000,9,-999.0000,9,-999.0000, -999.00
33RR20050106,       P16S,      54,          1,         11,         11,2,20050125,       1102,   -42.4998,  -150.0002,       5074,  2450.2,   2.0474,  34.6583,2,  34.6574,2,    153.0,2,   153.6,2,  115.59,2,   35.28,2,    0.00,2,    2.48,2,   0.012,2,   0.004,2,   0.002,2,  -999.0,9,  -999.0,9,-999.000,9,-999.0000,9, -999.00,9, -999.00,9,  -999.0,9,  -999.0,-999.000,9,-999.000,-999.0000,9,  2450.2,-999.000,   1.8707,     -999.0,9,     -999.0,9,     -999.0,9,     -999.0,9,     -999.0,9,     -999.0,9,     -999.0,9, -999.00,9,-999.0000,9,-999.0000,9,-999.0000,9,-999.0000,9,-999.0000,9,-999.0000,9,-999.0000, -999.00
33RR20050106,       P16S,      54,          1,         10,         10,2,20050125,       1102,   -42.4998,  -150.0002,       5074,  2704.2,   1.9199,  34.6713,2,  34.6698,2,    155.3,2,   156.2,2,  118.68,2,   35.06,2,    0.00,2,    2.47,2,-999.000,9,-999.000,9,-999.000,9,  -999.0,9,  -999.0,9,-999.000,9,-999.0000,9, -999.00,9, -999.00,9,  -999.0,9,  -999.0,-999.000,9,-999.000,-999.0000,9,  2704.2,-999.000,   1.7222,     -999.0,9,     -999.0,9,     -999.0,9,     -999.0,9,     -999.0,9,     -999.0,9,     -999.0,9, -999.00,9,-999.0000,9,-999.0000,9,-999.0000,9,-999.0000,9,-999.0000,9,-999.0000,9,-999.0000, -999.00
33RR20050106,       P16S,      54,          1,          9,          9,2,20050125,       1102,   -42.4998,  -150.0002,       5074,  2958.8,   1.8144,  34.6845,2,  34.6836,2,    161.4,2,   162.5,2,  118.86,2,   34.51,2,    0.00,2,    2.43,2,   0.026,3,   0.013,3,   0.002,2,  -999.0,9,  -999.0,9,-999.000,9,-999.0000,9, -999.00,9, -999.00,9,  -999.0,9,  -999.0,-999.000,9,-999.000,-999.0000,9,  2958.8,-999.000,   1.5946,     -999.0,9,     -999.0,9,     -999.0,9,     -999.0,9,     -999.0,9,     -999.0,9,     -999.0,9, -999.00,9,-999.0000,9,-999.0000,9,-999.0000,9,-999.0000,9,-999.0000,9,-999.0000,9,-999.0000, -999.00
33RR20050106,       P16S,      54,          1,          8,          8,2,20050125,       1102,   -42.4998,  -150.0002,       5074,  3213.6,   1.7272,  34.6979,2,  34.6972,2,    170.7,2,   171.7,2,  115.73,2,   33.76,2,    0.00,2,    2.36,2,   0.063,3,   0.025,3,   0.002,2,  -999.0,9,  -999.0,9,-999.000,9,-999.0000,9, -999.00,9, -999.00,9,  -999.0,9,  -999.0,-999.000,9,-999.000,-999.0000,9,  3213.6,-999.000,   1.4843,     -999.0,9,     -999.0,9,     -999.0,9,     -999.0,9,     -999.0,9,     -999.0,9,     -999.0,9, -999.00,9,-999.0000,9,-999.0000,9,-999.0000,9,-999.0000,9,-999.0000,9,-999.0000,9,-999.0000, -999.00
33RR20050106,       P16S,      54,          1,          7,          7,2,20050125,       1102,   -42.4998,  -150.0002,       5074,  3468.4,   1.6042,  34.7110,2,  34.7107,2,    182.2,2,   183.5,2,  111.76,2,   32.83,2,    0.00,2,    2.28,2,-999.000,9,-999.000,9,-999.000,9,  -999.0,9,  -999.0,9,-999.000,9,-999.0000,9, -999.00,9, -999.00,9,  -999.0,9,  -999.0,-999.000,9,-999.000,-999.0000,9,  3468.4,-999.000,   1.3385,     -999.0,9,     -999.0,9,     -999.0,9,     -999.0,9,     -999.0,9,     -999.0,9,     -999.0,9, -999.00,9,-999.0000,9,-999.0000,9,-999.0000,9,-999.0000,9,-999.0000,9,-999.0000,9,-999.0000, -999.00