BOTTLE,20201109CCHSIOCBG
EXPOCODE,SECT_ID,STNNBR,CASTNO,SAMPNO,BTLNBR,BTLNBR_FLAG_W,DATE,TIME,LATITUDE,LONGITUDE,DEPTH,CTDPRS,CTDTMP,CTDSAL,CTDSAL_FLAG_W,SALNTY,SALNTY_FLAG_W,CTDOXY,CTDOXY_FLAG_W,OXYGEN,OXYGEN_FLAG_W,SILCAT,SILCAT_FLAG_W,NITRAT,NITRAT_FLAG_W,NITRIT,NITRIT_FLAG_W,PHSPHT,PHSPHT_FLAG_W,CFC-11,CFC-11_FLAG_W,CFC-12,CFC-12_FLAG_W,CFC113,CFC113_FLAG_W,TCARBN,TCARBN_FLAG_W,ALKALI,ALKALI_FLAG_W,TRITUM,TRITUM_FLAG_W,HELIUM,HELIUM_FLAG_W,DELHE3,DELHE3_FLAG_W,DELC13,DELC13_FLAG_W,DELC14,DELC14_FLAG_W,C14ERR,NEON,NEON_FLAG_W,NEONER,DOC,DOC_FLAG_W,CTDRAW,TRITER,THETA,FUCO,FUCO_FLAG_W,RHAM,RHAM_FLAG_W,ARABA,ARABA_FLAG_W,GALA,GALA_FLAG_W,GLUC,GLUC_FLAG_W,MAN,MAN_FLAG_W,DCNS,DCNS_FLAG_W,BRDU,BRDU_FLAG_W,CDOM325,CDOM325_FLAG_W,CDOM340,CDOM340_FLAG_W,CDOM380,CDOM380_FLAG_W,CDOM412,CDOM412_FLAG_W,CDOMSL,CDOMSL_FLAG_W,CDOMSN,CDOMSN_FLAG_W,HELIER,DELHER
,,,,,,,,,,,METERS,DBAR,ITS-90,PSS-78,,PSS-78,,UMOL/KG,,UMOL/KG,,UMOL/KG,,UMOL/KG,,UMOL/KG,,UMOL/KG,,PMOL/KG,,PMOL/KG,,PMOL/KG,,UMOL/KG,,UMOL/KG,,TU,,NMOL/KG,,PERCNT,,/MILLE,,/MILLE,,/MILLE,NMOL/KG,,NMOL/KG,UMOL/KG,,DBAR,TU,DEG C,NMOL/KG,,NMOL/KG,,NMOL/KG,,NMOL/KG,,NMOL/KG,,NMOL/KG,,NMOL/KG,,PMOL/L/H,,1/M,,1/M,,1/M,,1/M,,1/NM,,1/NM,,NMOL/KG,PERCNT
33RR20050106,       P16S,      84,          1,         31,         31,2,20050203,       1559,   -57.5007,  -150.0013,       3077,     4.6,   3.0654,  33.8595,2,  33.8603,2,    326.0,2,   327.5,2,   19.19,2,   25.33,2,    0.28,2,    1.69,2,   5.457,2,   3.096,2,   0.622,2,  2146.0,6,  2284.5,2,-999.000,9,-999.0000,9, -999.00,9, -999.00,9,  -999.0,9,  -999.0,-999.000,9,-999.000,-999.0000,9,     4.6,-999.000,   3.0651,     -999.0,9,     -999.0,9,     -999.0,9,     -999.0,9,     -999.0,9,     -999.0,9,     -999.0,9, -999.00,9,-999.0000,9,-999.0000,9,-999.0000,9,-999.0000,9,-999.0000,9,-999.0000,9,-999.0000, -999.00
33RR20050106,       P16S,      84,          1,         30,         30,2,20050203,       1559,   -57.5007,  -150.0013,       3077,    41.2,   3.0626,  33.8585,2,  33.8602,2,    328.1,2,   327.6,2,   19.39,2,   25.34,2,    0.28,2,    1.69,2,-999.000,9,-999.000,9,-999.000,9,  2145.9,2,  2284.5,2,-999.000,9,-999.0000,9, -999.00,9, -999.00,9,  -999.0,9,  -999.0,-999.000,9,-999.000,-999.0000,9,    41.2,-999.000,   3.0601,     -999.0,9,     -999.0,9,     -999.0,9,     -999.0,9,     -999.0,9,     -999.0,9,     -999.0,9, -999.00,9,-999.0000,9,-999.0000,9,-999.0000,9,-999.0000,9,-999.0000,9,-999.0000,9,-999.0000, -999.00
33RR20050106,       P16S,      84,          1,         29,         29,2,20050203,       1559,   -57.5007,  -150.0013,       3077,    71.8,   0.2786,  33.9103,2,  33.9103,2,    344.4,2,   344.2,2,   29.65,2,   27.01,2,    0.21,2,    1.98,2,   6.225,2,   3.419,2,   0.703,2,  2164.7,2,  2287.5,2,-999.000,9,-999.0000,9, -999.00,9, -999.00,9,  -999.0,9,  -999.0,-999.000,9,-999.000,-999.0000,9,    71.8,-999.000,   0.2760,     -999.0,9,     -999.0,9,     -999.0,9,     -999.0,9,     -999.0,9,     -999.0,9,     -999.0,9, -999.00,9,-999.0000,9,-999.0000,9,-999.0000,9,-999.0000,9,-999.0000,9,-999.0000,9,-999.0000, -999.00
33RR20050106,       P16S,      84,          1,         28,         28,2,20050203,       1559,   -57.5007,  -150.0013,       3077,    86.8,  -0.3309,  33.9246,2,  33.9216,2,    345.0,2,   344.8,2,   35.29,2,   27.99,2,    0.18,2,    2.03,2,-999.000,9,-999.000,9,-999.000,9,  -999.0,9,  -999.0,9,-999.000,9,-999.0000,9, -999.00,9, -999.00,9,  -999.0,9,  -999.0,-999.000,9,-999.000,-999.0000,9,    86.8,-999.000,  -0.3337,     -999.0,9,     -999.0,9,     -999.0,9,     -999.0,9,     -999.0,9,     -999.0,9,     -999.0,9, -999.00,9,-999.0000,9,-999.0000,9,-999.0000,9,-999.0000,9,-999.0000,9,-999.0000,9,-999.0000, -999.00
33RR20050106,       P16S,      84,          1,         27,         27,2,20050203,       1559,   -57.5007,  -150.0013,       3077,   112.3,  -0.2513,  33.9613,2,  33.9602,2,    340.6,2,   344.4,2,   39.13,2,   28.23,2,    0.21,2,    2.04,2,   6.075,2,   3.414,2,   0.693,2,  2174.6,2,  2290.0,2,-999.000,9,-999.0000,9, -999.00,9, -999.00,9,  -999.0,9,  -999.0,-999.000,9,-999.000,-999.0000,9,   112.3,-999.000,  -0.2550,     -999.0,9,     -999.0,9,     -999.0,9,     -999.0,9,     -999.0,9,     -999.0,9,     -999.0,9, -999.00,9,-999.0000,9,-999.0000,9,-999.0000,9,-999.0000,9,-999.0000,9,-999.0000,9,-999.0000, -999.00
33RR20050106,       P16S,      84,          1,         26,         26,2,20050203,       1559,   -57.5007,  -150.0013,       3077,   137.3,  -0.1642,  34.0119,2,  34.0131,2,    330.1,2,   319.6,2,   42.56,2,   30.06,2,    0.16,2,    2.10,2,   5.415,2,   3.025,2,   0.615,2,  2184.9,2,  2290.0,2,-999.000,9,-999.0000,9, -999.00,9, -999.00,9,  -999.0,9,  -999.0,-999.000,9,-999.000,-999.0000,9,   137.3,-999.000,  -0.1688,     -999.0,9,     -999.0,9,     -999.0,9,     -999.0,9,     -999.0,9,     -999.0,9,     -999.0,9, -999.00,9,-999.0000,9,-999.0000,9,-999.0000,9,-999.0000,9,-999.0000,9,-999.0000,9,-999.0000, -999.00
33RR20050106,       P16S,      84,          1,         25,         25,2,20050203,       1559,   -57.5007,  -150.0013,       3077,   187.4,   1.7524,  34.2979,2,  34.2915,2,    219.7,2,   218.4,2,   53.70,2,   33.83,2,    0.01,2,    2.32,2,   2.563,2,   1.405,2,   0.263,2,  2225.6,2,  2304.5,2,-999.000,9,-999.0000,9, -999.00,9, -999.00,9,  -999.0,9,  -999.0,-999.000,9,-999.000,-999.0000,9,   187.4,-999.000,   1.7429,     -999.0,9,     -999.0,9,     -999.0,9,     -999.0,9,     -999.0,9,     -999.0,9,     -999.0,9, -999.00,9,-999.0000,9,-999.0000,9,-999.0000,9,-999.0000,9,-999.0000,9,-999.0000,9,-999.0000, -999.00
33RR20050106,       P16S,      84,          1,         24,         24,2,20050203,       1559,   -57.5007,  -150.0013,       3077,   237.6,   2.1784,  34.4131,2,  34.4090,2,    187.8,2,   188.1,2,   62.43,2,   34.69,2,    0.00,2,    2.38,2,-999.000,9,-999.000,9,-999.000,9,  -999.0,9,  -999.0,9,-999.000,9,-999.0000,9, -999.00,9, -999.00,9,  -999.0,9,  -999.0,-999.000,9,-999.000,-999.0000,9,   237.6,-999.000,   2.1653,     -999.0,9,     -999.0,9,     -999.0,9,     -999.0,9,     -999.0,9,     -999.0,9,     -999.0,9, -999.00,9,-999.0000,9,-999.0000,9,-999.0000,9,-999.0000,9,-999.0000,9,-999.0000,9,-999.0000, -999.00
33RR20050106,       P16S,      84,          1,         23,         23,2,20050203,       1559,   -57.5007,  -150.0013,       3077,   293.9,   2.2787,  34.4793,2,  34.4775,2,    176.0,2,   176.8,2,   67.73,2,   34.79,2,    0.00,2,    2.39,2,   1.030,2,   0.564,2,   0.097,2,  2247.0,2,  2321.6,2,-999.000,9,-999.0000,9, -999.00,9, -999.00,9,  -999.0,9,  -999.0,-999.000,9,-999.000,-999.0000,9,   293.9,-999.000,   2.2621,     -999.0,9,     -999.0,9,     -999.0,9,     -999.0,9,     -999.0,9,     -999.0,9,     -999.0,9, -999.00,9,-999.0000,9,-999.0000,9,-999.0000,9,-999.0000,9,-999.0000,9,-999.0000,9,-999.0000, -999.00
33RR20050106,       P16S,      84,          1,         22,         22,2,20050203,       1559,   -57.5007,  -150.0013,       3077,   343.5,   2.2783,  34.5224,2,  34.5227,2,    172.2,2,   172.7,2,   70.57,2,   34.58,2,    0.00,2,    2.38,2,-999.000,9,-999.000,9,-999.000,9,  -999.0,9,  -999.0,9,-999.000,9,-999.0000,9, -999.00,9, -999.00,9,  -999.0,9,  -999.0,-999.000,9,-999.000,-999.0000,9,   343.5,-999.000,   2.2588,     -999.0,9,     -999.0,9,     -999.0,9,     -999.0,9,     -999.0,9,     -999.0,9,     -999.0,9, -999.00,9,-999.0000,9,-999.0000,9,-999.0000,9,-999.0000,9,-999.0000,9,-999.0000,9,-999.0000, -999.00
33RR20050106,       P16S,      84,          1,         21,         21,2,20050203,       1559,   -57.5007,  -150.0013,       3077,   394.3,   2.2895,  34.5601,2,  34.5590,2,    170.1,2,   171.2,2,   72.61,2,   34.24,2,    0.00,2,    2.36,2,   0.665,2,   0.371,2,   0.065,2,  2254.8,2,  2325.6,2,-999.000,9,-999.0000,9, -999.00,9, -999.00,9,  -999.0,9,  -999.0,-999.000,9,-999.000,-999.0000,9,   394.3,-999.000,   2.2668,     -999.0,9,     -999.0,9,     -999.0,9,     -999.0,9,     -999.0,9,     -999.0,9,     -999.0,9, -999.00,9,-999.0000,9,-999.0000,9,-999.0000,9,-999.0000,9,-999.0000,9,-999.0000,9,-999.0000, -999.00
33RR20050106,       P16S,      84,          1,         20,         20,2,20050203,       1559,   -57.5007,  -150.0013,       3077,   444.6,   2.2389,  34.5892,2,  34.5881,2,    169.4,2,   170.0,2,   75.05,2,   34.13,2,    0.00,2,    2.34,2,-999.000,9,-999.000,9,-999.000,9,  2255.5,2,  2330.6,2,-999.000,9,-999.0000,9, -999.00,9, -999.00,9,  -999.0,9,  -999.0,-999.000,9,-999.000,-999.0000,9,   444.6,-999.000,   2.2133,     -999.0,9,     -999.0,9,     -999.0,9,     -999.0,9,     -999.0,9,     -999.0,9,     -999.0,9, -999.00,9,-999.0000,9,-999.0000,9,-999.0000,9,-999.0000,9,-999.0000,9,-999.0000,9,-999.0000, -999.00
33RR20050106,       P16S,      84,          1,         19,         19,2,20050203,       1559,   -57.5007,  -150.0013,       3077,   495.4,   2.2328,  34.6089,2,  34.6085,2,    169.7,2,   170.5,2,   76.07,2,   33.80,2,    0.00,2,    2.32,2,   0.511,2,   0.285,2,   0.033,2,  2256.2,2,  2332.9,2,-999.000,9,-999.0000,9, -999.00,9, -999.00,9,  -999.0,9,  -999.0,-999.000,9,-999.000,-999.0000,9,   495.4,-999.000,   2.2041,     -999.0,9,     -999.0,9,     -999.0,9,     -999.0,9,     -999.0,9,     -999.0,9,     -999.0,9, -999.00,9,-999.0000,9,-999.0000,9,-999.0000,9,-999.0000,9,-999.0000,9,-999.0000,9,-999.0000, -999.00
33RR20050106,       P16S,      84,          1,         18,         18,2,20050203,       1559,   -57.5007,  -150.0013,       3077,   580.5,   2.2128,  34.6466,2,  34.6460,2,    171.8,2,   172.9,2,   77.70,2,   33.10,2,    0.00,2,    2.27,2,   0.380,2,   0.205,2,   0.023,2,  2254.0,2,  2336.5,2,-999.000,9,-999.0000,9, -999.00,9, -999.00,9,  -999.0,9,  -999.0,-999.000,9,-999.000,-999.0000,9,   580.5,-999.000,   2.1788,     -999.0,9,     -999.0,9,     -999.0,9,     -999.0,9,     -999.0,9,     -999.0,9,     -999.0,9, -999.00,9,-999.0000,9,-999.0000,9,-999.0000,9,-999.0000,9,-999.0000,9,-999.0000,9,-999.0000, -999.00
33RR20050106,       P16S,      84,          1,         17,         17,2,20050203,       1559,   -57.5007,  -150.0013,       3077,   681.6,   2.1423,  34.6757,2,  34.6751,2,    174.8,2,   175.2,2,   80.36,2,   32.61,2,    0.00,2,    2.23,2,   0.312,2,   0.164,2,   0.031,2,  -999.0,9,  -999.0,9,-999.000,9,-999.0000,9, -999.00,9, -999.00,9,  -999.0,9,  -999.0,-999.000,9,-999.000,-999.0000,9,   681.6,-999.000,   2.1022,     -999.0,9,     -999.0,9,     -999.0,9,     -999.0,9,     -999.0,9,     -999.0,9,     -999.0,9, -999.00,9,-999.0000,9,-999.0000,9,-999.0000,9,-999.0000,9,-999.0000,9,-999.0000,9,-999.0000, -999.00
33RR20050106,       P16S,      84,          1,         16,         16,2,20050203,       1559,   -57.5007,  -150.0013,       3077,   782.7,   2.0822,  34.7018,2,  34.7075,2,    178.2,2,   179.7,2,   82.19,2,   31.89,2,    0.00,2,    2.18,2,   0.264,2,   0.163,2,   0.027,2,  2252.4,2,  2341.7,2,-999.000,9,-999.0000,9, -999.00,9, -999.00,9,  -999.0,9,  -999.0,-999.000,9,-999.000,-999.0000,9,   782.7,-999.000,   2.0358,     -999.0,9,     -999.0,9,     -999.0,9,     -999.0,9,     -999.0,9,     -999.0,9,     -999.0,9, -999.00,9,-999.0000,9,-999.0000,9,-999.0000,9,-999.0000,9,-999.0000,9,-999.0000,9,-999.0000, -999.00
33RR20050106,       P16S,      84,          1,         15,         15,2,20050203,       1559,   -57.5007,  -150.0013,       3077,   883.1,   2.0267,  34.7162,2,  34.7162,2,    181.9,2,   183.4,2,   83.21,2,   31.46,2,    0.00,2,    2.15,2,   0.286,2,   0.154,2,   0.021,2,  2252.1,2,  2343.5,2,-999.000,9,-999.0000,9, -999.00,9, -999.00,9,  -999.0,9,  -999.0,-999.000,9,-999.000,-999.0000,9,   883.1,-999.000,   1.9740,     -999.0,9,     -999.0,9,     -999.0,9,     -999.0,9,     -999.0,9,     -999.0,9,     -999.0,9, -999.00,9,-999.0000,9,-999.0000,9,-999.0000,9,-999.0000,9,-999.0000,9,-999.0000,9,-999.0000, -999.00
33RR20050106,       P16S,      84,          1,         14,         14,2,20050203,       1559,   -57.5007,  -150.0013,       3077,   984.5,   1.9466,  34.7267,2,  34.7270,2,    185.6,2,   186.5,2,   85.67,2,   31.08,2,    0.00,2,    2.13,2,   0.288,2,   0.161,2,   0.022,2,  2250.4,2,  2345.7,2,-999.000,9,-999.0000,9, -999.00,9, -999.00,9,  -999.0,9,  -999.0,-999.000,9,-999.000,-999.0000,9,   984.5,-999.000,   1.8877,     -999.0,9,     -999.0,9,     -999.0,9,     -999.0,9,     -999.0,9,     -999.0,9,     -999.0,9, -999.00,9,-999.0000,9,-999.0000,9,-999.0000,9,-999.0000,9,-999.0000,9,-999.0000,9,-999.0000, -999.00
33RR20050106,       P16S,      84,          1,         13,         13,2,20050203,       1559,   -57.5007,  -150.0013,       3077,  1085.9,   1.8661,  34.7321,2,  34.7319,2,    188.3,2,   188.5,2,   87.72,2,   30.92,2,    0.00,2,    2.12,2,   0.218,2,   0.126,2,   0.018,2,  2251.7,2,  2347.5,2,-999.000,9,-999.0000,9, -999.00,9, -999.00,9,  -999.0,9,  -999.0,-999.000,9,-999.000,-999.0000,9,  1085.9,-999.000,   1.8009,     -999.0,9,     -999.0,9,     -999.0,9,     -999.0,9,     -999.0,9,     -999.0,9,     -999.0,9, -999.00,9,-999.0000,9,-999.0000,9,-999.0000,9,-999.0000,9,-999.0000,9,-999.0000,9,-999.0000, -999.00
33RR20050106,       P16S,      84,          1,         12,         12,2,20050203,       1559,   -57.5007,  -150.0013,       3077,  1186.7,   1.7713,  34.7352,2,  34.7360,2,    190.5,2,   191.0,2,   90.17,2,   30.86,2,    0.00,2,    2.11,2,   0.208,2,   0.107,2,   0.021,2,  2252.5,6,  2348.0,2,-999.000,9,-999.0000,9, -999.00,9, -999.00,9,  -999.0,9,  -999.0,-999.000,9,-999.000,-999.0000,9,  1186.7,-999.000,   1.6999,     -999.0,9,     -999.0,9,     -999.0,9,     -999.0,9,     -999.0,9,     -999.0,9,     -999.0,9, -999.00,9,-999.0000,9,-999.0000,9,-999.0000,9,-999.0000,9,-999.0000,9,-999.0000,9,-999.0000, -999.00
33RR20050106,       P16S,      84,          1,         11,         11,2,20050203,       1559,   -57.5007,  -150.0013,       3077,  1287.4,   1.7110,  34.7396,2,  34.7396,2,    192.9,2,   193.1,2,   92.62,2,   30.69,2,    0.00,2,    2.10,2,-999.000,9,-999.000,9,-999.000,9,  -999.0,9,  -999.0,9,-999.000,9,-999.0000,9, -999.00,9, -999.00,9,  -999.0,9,  -999.0,-999.000,9,-999.000,-999.0000,9,  1287.4,-999.000,   1.6331,     -999.0,9,     -999.0,9,     -999.0,9,     -999.0,9,     -999.0,9,     -999.0,9,     -999.0,9, -999.00,9,-999.0000,9,-999.0000,9,-999.0000,9,-999.0000,9,-999.0000,9,-999.0000,9,-999.0000, -999.00
33RR20050106,       P16S,      84,          1,         10,         10,2,20050203,       1559,   -57.5007,  -150.0013,       3077,  1389.0,   1.6154,  34.7393,2,  34.7390,2,    194.4,2,   194.6,2,   96.31,2,   30.74,2,    0.00,2,    2.11,2,   0.132,2,   0.079,2,   0.468,4,  -999.0,9,  -999.0,9,-999.000,9,-999.0000,9, -999.00,9, -999.00,9,  -999.0,9,  -999.0,-999.000,9,-999.000,-999.0000,9,  1389.0,-999.000,   1.5313,     -999.0,9,     -999.0,9,     -999.0,9,     -999.0,9,     -999.0,9,     -999.0,9,     -999.0,9, -999.00,9,-999.0000,9,-999.0000,9,-999.0000,9,-999.0000,9,-999.0000,9,-999.0000,9,-999.0000, -999.00
33RR20050106,       P16S,      84,          1,          9,          9,2,20050203,       1559,   -57.5007,  -150.0013,       3077,  1490.2,   1.5372,  34.7380,2,  34.7380,2,    195.5,2,   196.2,2,   97.96,2,   30.85,2,    0.00,2,    2.12,2,-999.000,9,-999.000,9,-999.000,9,  -999.0,9,  -999.0,9,-999.000,9,-999.0000,9, -999.00,9, -999.00,9,  -999.0,9,  -999.0,-999.000,9,-999.000,-999.0000,9,  1490.2,-999.000,   1.4466,     -999.0,9,     -999.0,9,     -999.0,9,     -999.0,9,     -999.0,9,     -999.0,9,     -999.0,9, -999.00,9,-999.0000,9,-999.0000,9,-999.0000,9,-999.0000,9,-999.0000,9,-999.0000,9,-999.0000, -999.00
33RR20050106,       P16S,      84,          1,          8,          8,2,20050203,       1559,   -57.5007,  -150.0013,       3077,  1591.3,   1.4462,  34.7361,2,  34.7362,2,    196.8,2,   197.2,2,  100.82,2,   30.90,2,    0.00,2,    2.13,2,   0.156,2,   0.087,2,   0.011,2,  -999.0,9,  -999.0,9,-999.000,9,-999.0000,9, -999.00,9, -999.00,9,  -999.0,9,  -999.0,-999.000,9,-999.000,-999.0000,9,  1591.3,-999.000,   1.3493,     -999.0,9,     -999.0,9,     -999.0,9,     -999.0,9,     -999.0,9,     -999.0,9,     -999.0,9, -999.00,9,-999.0000,9,-999.0000,9,-999.0000,9,-999.0000,9,-999.0000,9,-999.0000,9,-999.0000, -999.00
33RR20050106,       P16S,      84,          1,          7,          7,2,20050203,       1559,   -57.5007,  -150.0013,       3077,  1794.3,   1.2987,  34.7313,2,  34.7317,2,    198.6,2,   199.2,2,  105.55,2,   31.11,2,    0.00,2,    2.14,2,   0.098,2,   0.066,2,   0.008,2,  -999.0,9,  -999.0,9,-999.000,9,-999.0000,9, -999.00,9, -999.00,9,  -999.0,9,  -999.0,-999.000,9,-999.000,-999.0000,9,  1794.3,-999.000,   1.1886,     -999.0,9,     -999.0,9,     -999.0,9,     -999.0,9,     -999.0,9,     -999.0,9,     -999.0,9, -999.00,9,-999.0000,9,-999.0000,9,-999.0000,9,-999.0000,9,-999.0000,9,-999.0000,9,-999.0000, -999.00
33RR20050106,       P16S,      84,          1,          6,          6,2,20050203,       1559,   -57.5007,  -150.0013,       3077,  1996.8,   1.1720,  34.7262,2,  34.7270,2,    200.2,2,   201.3,2,  109.87,2,   31.27,2,    0.00,2,    2.15,2,   0.086,2,   0.062,2,   0.007,2,  -999.0,9,  -999.0,9,-999.000,9,-999.0000,9, -999.00,9, -999.00,9,  -999.0,9,  -999.0,-999.000,9,-999.000,-999.0000,9,  1996.8,-999.000,   1.0481,     -999.0,9,     -999.0,9,     -999.0,9,     -999.0,9,     -999.0,9,     -999.0,9,     -999.0,9, -999.00,9,-999.0000,9,-999.0000,9,-999.0000,9,-999.0000,9,-999.0000,9,-999.0000,9,-999.0000, -999.00
33RR20050106,       P16S,      84,          1,          5,          5,2,20050203,       1559,   -57.5007,  -150.0013,       3077,  2200.6,   1.0354,  34.7205,2,  34.7211,2,    202.2,2,   203.1,2,  114.19,2,   31.48,2,    0.00,2,    2.16,2,   0.079,2,   0.052,2,   0.012,2,  -999.0,9,  -999.0,9,-999.000,9,-999.0000,9, -999.00,9, -999.00,9,  -999.0,9,  -999.0,-999.000,9,-999.000,-999.0000,9,  2200.6,-999.000,   0.8976,     -999.0,9,     -999.0,9,     -999.0,9,     -999.0,9,     -999.0,9,     -999.0,9,     -999.0,9, -999.00,9,-999.0000,9,-999.0000,9,-999.0000,9,-999.0000,9,-999.0000,9,-999.0000,9,-999.0000, -999.00
33RR20050106,       P16S,      84,          1,          4,          4,4,20050203,       1559,   -57.5007,  -150.0013,       3077,  2454.4,   0.8766,  34.7131,2,-999.0000,9,    204.3,2,  -999.0,9, -999.00,9, -999.00,9, -999.00,9, -999.00,9,-999.000,9,-999.000,9,-999.000,9,  -999.0,9,  -999.0,9,-999.000,9,-999.0000,9, -999.00,9, -999.00,9,  -999.0,9,  -999.0,-999.000,9,-999.000,-999.0000,9,  2454.4,-999.000,   0.7209,     -999.0,9,     -999.0,9,     -999.0,9,     -999.0,9,     -999.0,9,     -999.0,9,     -999.0,9, -999.00,9,-999.0000,9,-999.0000,9,-999.0000,9,-999.0000,9,-999.0000,9,-999.0000,9,-999.0000, -999.00
33RR20050106,       P16S,      84,          1,          3,          3,2,20050203,       1559,   -57.5007,  -150.0013,       3077,  2708.7,   0.8072,  34.7098,2,  34.7105,2,    205.2,2,   205.9,2,  125.73,2,   31.85,2,    0.00,2,    2.20,2,   0.167,2,   0.096,2,   0.020,2,  -999.0,9,  -999.0,9,-999.000,9,-999.0000,9, -999.00,9, -999.00,9,  -999.0,9,  -999.0,-999.000,9,-999.000,-999.0000,9,  2708.7,-999.000,   0.6313,     -999.0,9,     -999.0,9,     -999.0,9,     -999.0,9,     -999.0,9,     -999.0,9,     -999.0,9, -999.00,9,-999.0000,9,-999.0000,9,-999.0000,9,-999.0000,9,-999.0000,9,-999.0000,9,-999.0000, -999.00
33RR20050106,       P16S,      84,          1,          2,          2,2,20050203,       1559,   -57.5007,  -150.0013,       3077,  2943.2,   0.7659,  34.7075,2,  34.7070,2,    206.2,2,   206.5,2,  128.62,2,   31.85,2,    0.00,2,    2.20,2,-999.000,9,-999.000,9,-999.000,9,  -999.0,9,  -999.0,9,-999.000,9,-999.0000,9, -999.00,9, -999.00,9,  -999.0,9,  -999.0,-999.000,9,-999.000,-999.0000,9,  2943.2,-999.000,   0.5703,     -999.0,9,     -999.0,9,     -999.0,9,     -999.0,9,     -999.0,9,     -999.0,9,     -999.0,9, -999.00,9,-999.0000,9,-999.0000,9,-999.0000,9,-999.0000,9,-999.0000,9,-999.0000,9,-999.0000, -999.00