BOTTLE,20201109CCHSIOCBG
EXPOCODE,SECT_ID,STNNBR,CASTNO,SAMPNO,BTLNBR,BTLNBR_FLAG_W,DATE,TIME,LATITUDE,LONGITUDE,DEPTH,CTDPRS,CTDTMP,CTDSAL,CTDSAL_FLAG_W,SALNTY,SALNTY_FLAG_W,CTDOXY,CTDOXY_FLAG_W,OXYGEN,OXYGEN_FLAG_W,SILCAT,SILCAT_FLAG_W,NITRAT,NITRAT_FLAG_W,NITRIT,NITRIT_FLAG_W,PHSPHT,PHSPHT_FLAG_W,CFC-11,CFC-11_FLAG_W,CFC-12,CFC-12_FLAG_W,CFC113,CFC113_FLAG_W,TCARBN,TCARBN_FLAG_W,ALKALI,ALKALI_FLAG_W,TRITUM,TRITUM_FLAG_W,HELIUM,HELIUM_FLAG_W,DELHE3,DELHE3_FLAG_W,DELC13,DELC13_FLAG_W,DELC14,DELC14_FLAG_W,C14ERR,NEON,NEON_FLAG_W,NEONER,DOC,DOC_FLAG_W,CTDRAW,TRITER,THETA,FUCO,FUCO_FLAG_W,RHAM,RHAM_FLAG_W,ARABA,ARABA_FLAG_W,GALA,GALA_FLAG_W,GLUC,GLUC_FLAG_W,MAN,MAN_FLAG_W,DCNS,DCNS_FLAG_W,BRDU,BRDU_FLAG_W,CDOM325,CDOM325_FLAG_W,CDOM340,CDOM340_FLAG_W,CDOM380,CDOM380_FLAG_W,CDOM412,CDOM412_FLAG_W,CDOMSL,CDOMSL_FLAG_W,CDOMSN,CDOMSN_FLAG_W,HELIER,DELHER
,,,,,,,,,,,METERS,DBAR,ITS-90,PSS-78,,PSS-78,,UMOL/KG,,UMOL/KG,,UMOL/KG,,UMOL/KG,,UMOL/KG,,UMOL/KG,,PMOL/KG,,PMOL/KG,,PMOL/KG,,UMOL/KG,,UMOL/KG,,TU,,NMOL/KG,,PERCNT,,/MILLE,,/MILLE,,/MILLE,NMOL/KG,,NMOL/KG,UMOL/KG,,DBAR,TU,DEG C,NMOL/KG,,NMOL/KG,,NMOL/KG,,NMOL/KG,,NMOL/KG,,NMOL/KG,,NMOL/KG,,PMOL/L/H,,1/M,,1/M,,1/M,,1/M,,1/NM,,1/NM,,NMOL/KG,PERCNT
33RR20050106,       P16S,      25,          3,          6,          6,2,20050117,       0123,   -28.0002,  -149.9992,       3500,  2774.8,   1.7774,  34.6688,2,  34.6676,2,    151.1,2,  -999.0,5,  129.01,2,   35.85,2,    0.00,2,    2.52,2,   0.000,2,  -0.001,2,   0.001,2,  2313.4,2,  2403.2,2,-999.000,9,   1.9610,2,   21.09,2, -999.00,9,  -999.0,9,  -999.0,   8.276,2,   0.025,-999.0000,9,  2774.8,-999.000,   1.5760,     -999.0,9,     -999.0,9,     -999.0,9,     -999.0,9,     -999.0,9,     -999.0,9,     -999.0,9, -999.00,9,-999.0000,9,-999.0000,9,-999.0000,9,-999.0000,9,-999.0000,9,-999.0000,9,   0.0020,    0.15
33RR20050106,       P16S,      25,          3,          5,          5,2,20050117,       0123,   -28.0002,  -149.9992,       3500,  3029.4,   1.6825,  34.6767,2,  34.6761,2,    156.2,2,   157.3,2,  129.00,2,   35.46,2,    0.00,2,    2.50,2,   0.005,2,  -0.001,2,   0.001,2,  2308.3,2,  2399.5,2,-999.000,9,   1.9200,2,   22.17,2, -999.00,9,  -999.0,9,  -999.0,   8.234,2,   0.023,-999.0000,9,  3029.4,-999.000,   1.4588,     -999.0,9,     -999.0,9,     -999.0,9,     -999.0,9,     -999.0,9,     -999.0,9,     -999.0,9, -999.00,9,-999.0000,9,-999.0000,9,-999.0000,9,-999.0000,9,-999.0000,9,-999.0000,9,   0.0020,    0.13
33RR20050106,       P16S,      25,          3,          4,          4,2,20050117,       0123,   -28.0002,  -149.9992,       3500,  3283.1,   1.5674,  34.6853,2,  34.6846,2,    166.3,2,   166.8,2,  126.29,2,   34.76,2,    0.00,2,    2.45,2,-999.000,9,-999.000,9,-999.000,9,  2300.4,2,  2395.0,2,-999.000,9,-999.0000,9, -999.00,9, -999.00,9,  -999.0,9,  -999.0,-999.000,9,-999.000,  37.6929,2,  3283.1,-999.000,   1.3214,     -999.0,9,     -999.0,9,     -999.0,9,     -999.0,9,     -999.0,9,     -999.0,9,     -999.0,9, -999.00,9,-999.0000,9,-999.0000,9,-999.0000,9,-999.0000,9,-999.0000,9,-999.0000,9,-999.0000, -999.00
33RR20050106,       P16S,      25,          3,          3,          3,2,20050117,       0123,   -28.0002,  -149.9992,       3500,  3384.7,   1.5443,  34.6872,2,  34.6863,2,    168.7,2,   169.5,2,  125.65,2,   34.59,2,    0.00,2,    2.44,2,  -0.001,2,  -0.001,2,   0.001,2,  2297.1,2,  2392.2,2,   0.001,2,-999.0000,9, -999.00,9, -999.00,9,  -999.0,9,  -999.0,-999.000,9,-999.000,-999.0000,9,  3384.7,   0.010,   1.2887,     -999.0,9,     -999.0,9,     -999.0,9,     -999.0,9,     -999.0,9,     -999.0,9,     -999.0,9, -999.00,9,-999.0000,9,-999.0000,9,-999.0000,9,-999.0000,9,-999.0000,9,-999.0000,9,-999.0000, -999.00
33RR20050106,       P16S,      25,          3,          2,          2,2,20050117,       0123,   -28.0002,  -149.9992,       3500,  3486.6,   1.5094,  34.6897,2,  34.6897,2,    171.8,2,   172.3,2,  125.01,2,   34.38,2,    0.00,2,    2.42,2,-999.000,9,-999.000,9,-999.000,9,  2294.6,2,  2391.7,2,-999.000,9,-999.0000,9, -999.00,9, -999.00,9,  -999.0,9,  -999.0,-999.000,9,-999.000,-999.0000,9,  3486.6,-999.000,   1.2443,     -999.0,9,     -999.0,9,     -999.0,9,     -999.0,9,     -999.0,9,     -999.0,9,     -999.0,9, -999.00,9,-999.0000,9,-999.0000,9,-999.0000,9,-999.0000,9,-999.0000,9,-999.0000,9,-999.0000, -999.00
33RR20050106,       P16S,      25,          3,          1,          1,2,20050117,       0123,   -28.0002,  -149.9992,       3500,  3588.5,   1.4731,  34.6921,2,  34.6923,2,    174.8,2,   175.3,2,  123.95,2,   34.15,2,    0.00,2,    2.40,2,   0.024,3,   0.028,3,   0.001,2,  2293.2,6,  2389.9,6,   0.001,2,   2.7770,4,   13.83,2, -999.00,9,  -999.0,9,  -999.0,  10.715,4,   0.027,  37.6817,2,  3588.5,   0.005,   1.1984,     -999.0,9,     -999.0,9,     -999.0,9,     -999.0,9,     -999.0,9,     -999.0,9,     -999.0,9, -999.00,9,-999.0000,9,-999.0000,9,-999.0000,9,-999.0000,9,-999.0000,9,-999.0000,9,   0.0050,    0.16