BOTTLE,20201109CCHSIOCBG
EXPOCODE,SECT_ID,STNNBR,CASTNO,SAMPNO,BTLNBR,BTLNBR_FLAG_W,DATE,TIME,LATITUDE,LONGITUDE,DEPTH,CTDPRS,CTDTMP,CTDSAL,CTDSAL_FLAG_W,SALNTY,SALNTY_FLAG_W,CTDOXY,CTDOXY_FLAG_W,OXYGEN,OXYGEN_FLAG_W,SILCAT,SILCAT_FLAG_W,NITRAT,NITRAT_FLAG_W,NITRIT,NITRIT_FLAG_W,PHSPHT,PHSPHT_FLAG_W,CFC-11,CFC-11_FLAG_W,CFC-12,CFC-12_FLAG_W,CFC113,CFC113_FLAG_W,TCARBN,TCARBN_FLAG_W,ALKALI,ALKALI_FLAG_W,TRITUM,TRITUM_FLAG_W,HELIUM,HELIUM_FLAG_W,DELHE3,DELHE3_FLAG_W,DELC13,DELC13_FLAG_W,DELC14,DELC14_FLAG_W,C14ERR,NEON,NEON_FLAG_W,NEONER,DOC,DOC_FLAG_W,CTDRAW,TRITER,THETA,FUCO,FUCO_FLAG_W,RHAM,RHAM_FLAG_W,ARABA,ARABA_FLAG_W,GALA,GALA_FLAG_W,GLUC,GLUC_FLAG_W,MAN,MAN_FLAG_W,DCNS,DCNS_FLAG_W,BRDU,BRDU_FLAG_W,CDOM325,CDOM325_FLAG_W,CDOM340,CDOM340_FLAG_W,CDOM380,CDOM380_FLAG_W,CDOM412,CDOM412_FLAG_W,CDOMSL,CDOMSL_FLAG_W,CDOMSN,CDOMSN_FLAG_W,HELIER,DELHER
,,,,,,,,,,,METERS,DBAR,ITS-90,PSS-78,,PSS-78,,UMOL/KG,,UMOL/KG,,UMOL/KG,,UMOL/KG,,UMOL/KG,,UMOL/KG,,PMOL/KG,,PMOL/KG,,PMOL/KG,,UMOL/KG,,UMOL/KG,,TU,,NMOL/KG,,PERCNT,,/MILLE,,/MILLE,,/MILLE,NMOL/KG,,NMOL/KG,UMOL/KG,,DBAR,TU,DEG C,NMOL/KG,,NMOL/KG,,NMOL/KG,,NMOL/KG,,NMOL/KG,,NMOL/KG,,NMOL/KG,,PMOL/L/H,,1/M,,1/M,,1/M,,1/M,,1/NM,,1/NM,,NMOL/KG,PERCNT
33RR20050106,       P16S,      73,          1,         36,         36,2,20050131,       1725,   -52.0005,  -150.0017,       4475,     4.2,   9.9826,  34.3714,2,  34.3718,2,    276.0,2,   277.0,2,    1.17,2,   10.56,2,    0.22,2,    0.83,2,   3.969,2,   2.126,2,   0.362,2,  2082.7,2,  2283.9,6,   0.432,2,   1.8030,2,   -1.78,2, -999.00,9,  -999.0,9,  -999.0,   7.493,2,   0.009,  50.2426,2,     4.2,   0.012,   9.9821,        159,2,        115,2,         54,2,        277,2,        233,2,        299,2,       1137,2,    2.67,2,   0.0810,2,   0.0550,2,   0.0250,2,   0.0170,2,   0.0233,2,   0.0244,2,   0.0010,    0.18
33RR20050106,       P16S,      73,          1,         35,         35,2,20050131,       1725,   -52.0005,  -150.0017,       4475,    51.3,   9.9814,  34.3712,2,  34.3712,2,    276.8,2,   276.8,2,    1.16,2,   10.56,2,    0.22,2,    0.83,2,-999.000,9,-999.000,9,-999.000,9,  2083.0,2,  2283.6,2,-999.000,9,-999.0000,9, -999.00,9, -999.00,9,  -999.0,9,  -999.0,-999.000,9,-999.000,  49.9207,2,    51.3,-999.000,   9.9755,        141,2,         98,2,         93,2,        272,2,        259,2,        254,2,       1118,2,    4.99,2,   0.0820,2,   0.0550,2,   0.0250,2,   0.0170,2,   0.0235,2,   0.0246,2,-999.0000, -999.00
33RR20050106,       P16S,      73,          1,         34,         34,2,20050131,       1725,   -52.0005,  -150.0017,       4475,    78.3,   9.7940,  34.3917,2,  34.3987,2,    276.6,2,   275.3,2,    1.56,2,   11.14,2,    0.33,2,    0.88,2,-999.000,9,-999.000,9,-999.000,9,  2088.2,6,  2284.6,2,-999.000,9,-999.0000,9, -999.00,9, -999.00,9,  -999.0,9,  -999.0,-999.000,9,-999.000,  48.1141,2,    78.3,-999.000,   9.7852,        144,2,         24,2,         75,2,        251,2,        224,2,        256,2,        975,2,    4.97,2,   0.0800,2,   0.0530,2,   0.0250,2,   0.0180,2,   0.0228,2,   0.0239,2,-999.0000, -999.00
33RR20050106,       P16S,      73,          1,         33,         33,2,20050131,       1725,   -52.0005,  -150.0017,       4475,   104.4,   8.2806,  34.4462,2,  34.4450,2,    272.3,2,   273.8,2,    3.35,2,   14.86,2,    0.15,2,    1.09,2,   4.262,2,   2.294,2,   0.392,2,  2111.5,2,  2283.1,2,   0.267,2,-999.0000,9, -999.00,9, -999.00,9,  -999.0,9,  -999.0,-999.000,9,-999.000,  48.1732,2,   104.4,   0.004,   8.2700,         77,2,         73,2,         76,2,        135,2,        109,2,        159,2,        628,2,    1.94,2,   0.0870,2,   0.0590,2,   0.0300,2,   0.0230,2,   0.0194,2,   0.0212,2,-999.0000, -999.00
33RR20050106,       P16S,      73,          1,         32,         32,2,20050131,       1725,   -52.0005,  -150.0017,       4475,   154.7,   7.9380,  34.4158,2,  34.4156,2,    268.9,2,   270.9,2,    3.93,2,   16.05,2,    0.01,2,    1.15,2,   4.200,2,   2.238,2,   0.379,2,  2116.3,2,  2280.9,2,   0.251,2,   1.8160,2,   -1.99,2, -999.00,9,  -999.0,9,  -999.0,   7.704,2,   0.010,  44.6781,2,   154.7,   0.004,   7.9226,         62,2,         59,2,         64,2,        113,2,        165,2,        129,2,        593,2,    1.15,2,   0.0740,2,   0.0480,2,   0.0240,2,   0.0190,2,   0.0235,2,   0.0252,2,   0.0010,    0.17
33RR20050106,       P16S,      73,          1,         31,         31,2,20050131,       1725,   -52.0005,  -150.0017,       4475,   205.2,   7.8487,  34.4306,2,  34.4301,2,    261.1,2,   258.9,2,    4.92,2,   17.80,2,    0.01,2,    1.25,2,   4.070,2,   2.184,2,   0.355,2,  2125.2,2,  2281.6,2,   0.234,2,-999.0000,9, -999.00,9, -999.00,9,  -999.0,9,  -999.0,-999.000,9,-999.000,  43.7452,2,   205.2,   0.004,   7.8283,     -999.0,9,     -999.0,9,     -999.0,9,     -999.0,9,     -999.0,9,     -999.0,9,     -999.0,9,    0.46,2,   0.0860,2,   0.0580,2,   0.0310,2,   0.0240,2,   0.0186,2,   0.0205,2,-999.0000, -999.00
33RR20050106,       P16S,      73,          1,         30,         30,2,20050131,       1725,   -52.0005,  -150.0017,       4475,   255.4,   7.5488,  34.4066,2,  34.4089,2,    258.3,2,   259.9,2,    5.51,2,   18.92,2,    0.00,2,    1.33,2,   4.093,2,   2.168,2,   0.367,2,  2128.2,2,  2280.9,2,-999.000,9,-999.0000,9, -999.00,9, -999.00,9,  -999.0,9,  -999.0,-999.000,9,-999.000,  44.1361,2,   255.4,-999.000,   7.5239,     -999.0,9,     -999.0,9,     -999.0,9,     -999.0,9,     -999.0,9,     -999.0,9,     -999.0,9,    0.24,2,   0.0780,2,   0.0510,2,   0.0230,2,   0.0180,2,   0.0266,2,   0.0275,2,-999.0000, -999.00
33RR20050106,       P16S,      73,          1,         29,         29,2,20050131,       1725,   -52.0005,  -150.0017,       4475,   310.9,   7.4274,  34.4028,2,  34.4023,2,    259.7,2,   260.7,2,    6.11,2,   19.34,2,    0.00,2,    1.35,2,   4.091,2,   2.108,2,   0.351,2,  2128.4,2,  2281.3,2,   0.232,2,   3.4140,4,    0.42,3, -999.00,9,  -999.0,9,  -999.0,  13.210,4,   0.021,  43.5842,2,   310.9,   0.004,   7.3973,         39,2,         26,2,         27,2,         69,2,         82,2,         51,2,        294,2,    0.16,2,   0.0700,2,   0.0450,2,   0.0230,2,   0.0180,2,   0.0252,2,   0.0271,2,   0.0020,    0.16
33RR20050106,       P16S,      73,          1,         28,         28,2,20050131,       1725,   -52.0005,  -150.0017,       4475,   361.3,   7.2776,  34.3918,2,  34.3907,2,    259.5,2,   259.0,2,    6.69,2,   19.82,2,    0.00,2,    1.39,2,   4.080,2,   2.112,2,   0.368,2,  2130.2,2,  2281.4,2,-999.000,9,-999.0000,9, -999.00,9, -999.00,9,  -999.0,9,  -999.0,-999.000,9,-999.000,-999.0000,9,   361.3,-999.000,   7.2429,     -999.0,9,     -999.0,9,     -999.0,9,     -999.0,9,     -999.0,9,     -999.0,9,     -999.0,9, -999.00,9,-999.0000,9,-999.0000,9,-999.0000,9,-999.0000,9,-999.0000,9,-999.0000,9,-999.0000, -999.00
33RR20050106,       P16S,      73,          1,         27,         27,2,20050131,       1725,   -52.0005,  -150.0017,       4475,   411.7,   7.0333,  34.3673,2,  34.3673,2,    256.5,2,   255.8,2,    7.49,2,   20.72,2,    0.00,2,    1.45,2,   4.032,2,   2.043,2,   0.357,2,  2134.1,2,  2281.4,2,   0.247,2,-999.0000,9, -999.00,9, -999.00,9,  -999.0,9,  -999.0,-999.000,9,-999.000,  43.2327,2,   411.7,   0.004,   6.9944,     -999.0,9,     -999.0,9,     -999.0,9,     -999.0,9,     -999.0,9,     -999.0,9,     -999.0,9, -999.00,9,   0.0820,2,   0.0530,2,   0.0240,2,   0.0190,2,   0.0256,2,   0.0270,2,-999.0000, -999.00
33RR20050106,       P16S,      73,          1,         26,         26,2,20050131,       1725,   -52.0005,  -150.0017,       4475,   461.8,   6.6886,  34.3294,2,  34.3291,2,    256.5,2,   254.3,2,    8.67,2,   21.73,2,    0.00,2,    1.51,2,   3.963,2,   2.012,2,   0.341,2,  2137.2,2,  2280.1,2,   0.190,2,   1.7860,2,    0.08,2, -999.00,9,  -999.0,9,  -999.0,   7.776,2,   0.006,-999.0000,9,   461.8,   0.004,   6.6461,     -999.0,9,     -999.0,9,     -999.0,9,     -999.0,9,     -999.0,9,     -999.0,9,     -999.0,9, -999.00,9,-999.0000,9,-999.0000,9,-999.0000,9,-999.0000,9,-999.0000,9,-999.0000,9,   0.0010,    0.22
33RR20050106,       P16S,      73,          1,         25,         25,2,20050131,       1725,   -52.0005,  -150.0017,       4475,   512.0,   6.4329,  34.3105,2,  34.3099,2,    250.0,2,   252.1,2,    9.66,2,   22.53,2,    0.00,2,    1.57,2,   3.868,6,   1.953,6,   0.324,6,  2140.8,2,  2281.4,2,   0.170,2,   1.7950,2,    0.05,2, -999.00,9,  -999.0,9,  -999.0,   7.827,2,   0.007,  41.9286,2,   512.0,   0.004,   6.3866,     -999.0,9,     -999.0,9,     -999.0,9,     -999.0,9,     -999.0,9,     -999.0,9,     -999.0,9, -999.00,9,   0.0780,2,   0.0500,2,   0.0250,2,   0.0200,2,   0.0242,2,   0.0260,2,   0.0010,    0.22
33RR20050106,       P16S,      73,          1,         24,         24,2,20050131,       1725,   -52.0005,  -150.0017,       4475,   612.9,   6.0551,  34.3170,2,  34.3156,2,    238.0,2,   237.0,2,   13.83,2,   24.71,2,    0.00,2,    1.70,2,   3.305,2,   1.683,2,   0.257,2,  2153.7,2,  2282.3,2,   0.140,2,   1.9540,3,    0.97,2, -999.00,9,  -999.0,9,  -999.0,   8.358,3,   0.007,  41.4852,2,   612.9,   0.003,   6.0010,     -999.0,9,     -999.0,9,     -999.0,9,     -999.0,9,     -999.0,9,     -999.0,9,     -999.0,9, -999.00,9,   0.0830,2,   0.0540,2,   0.0290,2,   0.0230,2,   0.0196,2,   0.0219,2,   0.0010,    0.23
33RR20050106,       P16S,      73,          1,         23,         23,2,20050131,       1725,   -52.0005,  -150.0017,       4475,   713.2,   5.7067,  34.3389,2,  34.3397,2,    220.6,2,   219.8,2,   19.01,2,   26.64,2,    0.00,2,    1.84,2,   2.624,2,   1.302,2,   0.161,2,  2166.6,2,  2287.4,2,   0.131,2,-999.0000,9, -999.00,9, -999.00,9,  -999.0,9,  -999.0,-999.000,9,-999.000,  39.0905,2,   713.2,   0.003,   5.6451,     -999.0,9,     -999.0,9,     -999.0,9,     -999.0,9,     -999.0,9,     -999.0,9,     -999.0,9, -999.00,9,-999.0000,9,-999.0000,9,-999.0000,9,-999.0000,9,-999.0000,9,-999.0000,9,-999.0000, -999.00
33RR20050106,       P16S,      73,          1,         22,         22,2,20050131,       1725,   -52.0005,  -150.0017,       4475,   813.8,   4.9771,  34.3219,2,  34.3207,2,    215.2,2,   215.2,2,   24.79,2,   28.68,2,    0.00,2,    1.98,2,   2.482,2,   1.186,2,   0.167,2,  2181.2,6,  2290.8,2,   0.073,2,   1.8290,2,    2.54,2, -999.00,9,  -999.0,9,  -999.0,   7.976,2,   0.007,  45.1051,3,   813.8,   0.002,   4.9108,     -999.0,9,     -999.0,9,     -999.0,9,     -999.0,9,     -999.0,9,     -999.0,9,     -999.0,9, -999.00,9,   0.0920,2,   0.0610,2,   0.0330,2,   0.0260,2,   0.0174,2,   0.0198,2,   0.0010,    0.24
33RR20050106,       P16S,      73,          1,         21,         21,2,20050131,       1725,   -52.0005,  -150.0017,       4475,   915.0,   4.4067,  34.3278,2,  34.3272,2,    208.1,2,   209.4,2,   31.58,2,   30.18,2,    0.00,2,    2.08,2,   2.101,2,   1.003,2,   0.137,2,  2193.0,2,  2295.4,2,   0.050,2,   1.8450,2,    3.63,2, -999.00,9,  -999.0,9,  -999.0,   8.038,2,   0.006,  41.3374,2,   915.0,   0.002,   4.3354,     -999.0,9,     -999.0,9,     -999.0,9,     -999.0,9,     -999.0,9,     -999.0,9,     -999.0,9, -999.00,9,   0.0920,2,   0.0610,2,   0.0330,2,   0.0250,2,   0.0180,2,   0.0204,2,   0.0010,    0.23
33RR20050106,       P16S,      73,          1,         20,         20,2,20050131,       1725,   -52.0005,  -150.0017,       4475,  1016.1,   3.9013,  34.3351,2,  34.3354,2,    204.5,2,   205.5,2,   37.58,2,   31.31,2,    0.00,2,    2.17,2,   2.006,2,   0.892,2,   0.118,2,  2203.3,2,  2301.2,2,-999.000,9,   1.8270,2,    4.46,2, -999.00,9,  -999.0,9,  -999.0,   7.980,2,   0.006,  40.8085,2,  1016.1,-999.000,   3.8253,     -999.0,9,     -999.0,9,     -999.0,9,     -999.0,9,     -999.0,9,     -999.0,9,     -999.0,9, -999.00,9,   0.0980,2,   0.0660,2,   0.0350,2,   0.0270,2,   0.0172,2,   0.0197,2,   0.0010,    0.24
33RR20050106,       P16S,      73,          1,         19,         19,2,20050131,       1725,   -52.0005,  -150.0017,       4475,  1117.3,   3.4907,  34.3566,2,  34.3560,2,    198.5,2,   199.6,2,   44.60,2,   32.33,2,    0.00,2,    2.25,2,   1.706,2,   0.788,2,   0.103,2,  2213.9,2,  2305.7,2,   0.001,2,   1.8440,2,    4.81,2, -999.00,9,  -999.0,9,  -999.0,   8.046,2,   0.006,-999.0000,9,  1117.3,   0.004,   3.4098,     -999.0,9,     -999.0,9,     -999.0,9,     -999.0,9,     -999.0,9,     -999.0,9,     -999.0,9, -999.00,9,-999.0000,9,-999.0000,9,-999.0000,9,-999.0000,9,-999.0000,9,-999.0000,9,   0.0010,    0.23
33RR20050106,       P16S,      73,          1,         18,         18,2,20050131,       1725,   -52.0005,  -150.0017,       4475,  1218.4,   3.2295,  34.3954,2,  34.3955,2,    190.9,2,   191.5,2,   51.43,2,   33.08,2,    0.00,2,    2.30,2,   1.347,2,   0.615,2,   0.088,2,  2224.7,2,  2313.2,6,-999.000,9,   2.2280,4,    5.85,3, -999.00,9,  -999.0,9,  -999.0,   9.257,4,   0.008,  39.6522,2,  1218.4,-999.000,   3.1427,     -999.0,9,     -999.0,9,     -999.0,9,     -999.0,9,     -999.0,9,     -999.0,9,     -999.0,9, -999.00,9,   0.1070,2,   0.0720,2,   0.0390,2,   0.0300,2,   0.0152,2,   0.0179,2,   0.0010,    0.21
33RR20050106,       P16S,      73,          1,         17,         17,2,20050131,       1725,   -52.0005,  -150.0017,       4475,  1319.0,   2.9949,  34.4348,2,  34.4342,2,    184.5,2,   184.9,2,   57.86,2,   33.68,2,    0.00,2,    2.35,2,   1.106,2,   0.507,2,   0.068,2,  2234.4,2,  2318.7,2,   0.001,2,   1.7630,2,    7.56,2, -999.00,9,  -999.0,9,  -999.0,   7.581,4,   0.006,-999.0000,9,  1319.0,   0.006,   2.9023,     -999.0,9,     -999.0,9,     -999.0,9,     -999.0,9,     -999.0,9,     -999.0,9,     -999.0,9, -999.00,9,-999.0000,9,-999.0000,9,-999.0000,9,-999.0000,9,-999.0000,9,-999.0000,9,   0.0010,    0.24
33RR20050106,       P16S,      73,          1,         16,         16,2,20050131,       1725,   -52.0005,  -150.0017,       4475,  1420.2,   2.8498,  34.4741,2,  34.4795,3,    179.6,2,   179.8,2,   63.10,2,   33.89,2,    0.00,2,    2.37,2,   0.881,2,   0.404,2,   0.051,2,  2241.0,2,  2323.6,2,   0.001,2,   1.8730,2,    6.83,2, -999.00,9,  -999.0,9,  -999.0,   8.171,2,   0.012,-999.0000,9,  1420.2,   0.010,   2.7504,     -999.0,9,     -999.0,9,     -999.0,9,     -999.0,9,     -999.0,9,     -999.0,9,     -999.0,9, -999.00,9,-999.0000,9,-999.0000,9,-999.0000,9,-999.0000,9,-999.0000,9,-999.0000,9,   0.0010,    0.23
33RR20050106,       P16S,      73,          1,         15,         15,2,20050131,       1725,   -52.0005,  -150.0017,       4475,  1521.7,   2.7053,  34.5181,2,  34.5170,2,    175.2,2,   177.3,2,   68.53,2,   33.94,2,    0.00,2,    2.37,2,   0.717,2,   0.336,2,   0.038,2,  2246.2,2,  2329.1,2,   0.001,2,   1.8780,2,    8.71,2, -999.00,9,  -999.0,9,  -999.0,   8.199,2,   0.007,  39.1824,2,  1521.7,   0.009,   2.5992,     -999.0,9,     -999.0,9,     -999.0,9,     -999.0,9,     -999.0,9,     -999.0,9,     -999.0,9, -999.00,9,   0.1170,2,   0.0800,2,   0.0430,2,   0.0330,2,   0.0142,2,   0.0168,3,   0.0010,    0.24
33RR20050106,       P16S,      73,          1,         14,         14,2,20050131,       1725,   -52.0005,  -150.0017,       4475,  1622.3,   2.5913,  34.5559,2,  34.5559,2,    173.3,2,   174.0,2,   72.36,2,   33.77,2,    0.00,2,    2.36,2,   0.545,2,   0.260,2,   0.030,2,  2254.6,2,  2335.1,2,   0.001,2,   1.8680,2,    9.11,2, -999.00,9,  -999.0,9,  -999.0,   8.174,2,   0.007,-999.0000,9,  1622.3,   0.004,   2.4783,     -999.0,9,     -999.0,9,     -999.0,9,     -999.0,9,     -999.0,9,     -999.0,9,     -999.0,9, -999.00,9,-999.0000,9,-999.0000,9,-999.0000,9,-999.0000,9,-999.0000,9,-999.0000,9,   0.0010,    0.24
33RR20050106,       P16S,      73,          1,         13,         13,2,20050131,       1725,   -52.0005,  -150.0017,       4475,  1724.7,   2.5021,  34.5898,2,  34.5901,2,    173.3,2,   174.0,2,   74.36,2,   33.50,2,    0.00,2,    2.33,2,   0.444,2,   0.209,2,   0.014,2,  2256.2,2,  2336.1,2,   0.001,2,   1.8900,2,    9.68,2, -999.00,9,  -999.0,9,  -999.0,   8.245,2,   0.007,  38.9919,2,  1724.7,   0.009,   2.3816,     -999.0,9,     -999.0,9,     -999.0,9,     -999.0,9,     -999.0,9,     -999.0,9,     -999.0,9, -999.00,9,   0.1270,2,   0.0880,2,   0.0490,2,   0.0370,2,   0.0132,3,   0.0155,3,   0.0010,    0.23
33RR20050106,       P16S,      73,          1,         12,         12,2,20050131,       1725,   -52.0005,  -150.0017,       4475,  1825.5,   2.4394,  34.6207,2,  34.6206,2,    174.0,2,   174.6,2,   76.99,2,   33.23,2,    0.00,2,    2.31,2,   0.354,2,   0.165,2,   0.015,2,  2256.9,2,  2340.2,2,   0.002,2,   1.8750,2,    9.57,2, -999.00,9,  -999.0,9,  -999.0,   8.158,2,   0.007,-999.0000,9,  1825.5,   0.008,   2.3112,     -999.0,9,     -999.0,9,     -999.0,9,     -999.0,9,     -999.0,9,     -999.0,9,     -999.0,9, -999.00,9,-999.0000,9,-999.0000,9,-999.0000,9,-999.0000,9,-999.0000,9,-999.0000,9,   0.0010,    0.23
33RR20050106,       P16S,      73,          1,         11,         11,2,20050131,       1725,   -52.0005,  -150.0017,       4475,  2027.9,   2.3124,  34.6685,2,  34.6683,2,    176.2,2,   176.3,2,   81.83,2,   32.58,2,    0.00,2,    2.27,2,   0.240,2,   0.115,2,  -0.002,2,  2259.8,2,  2346.2,2,   0.001,2,   1.9210,2,   10.05,2, -999.00,9,  -999.0,9,  -999.0,   8.375,2,   0.007,  38.5833,2,  2027.9,   0.004,   2.1687,     -999.0,9,     -999.0,9,     -999.0,9,     -999.0,9,     -999.0,9,     -999.0,9,     -999.0,9, -999.00,9,   0.1260,2,   0.0870,2,   0.0470,2,   0.0350,2,   0.0141,2,   0.0166,3,   0.0010,    0.23
33RR20050106,       P16S,      73,          1,         10,         10,2,20050131,       1725,   -52.0005,  -150.0017,       4475,  2282.2,   2.1792,  34.7112,2,  34.7112,2,    183.7,2,   183.9,2,   83.22,2,   31.50,2,    0.00,2,    2.18,2,   0.183,2,   0.088,2,  -0.002,2,  2253.7,2,  2347.2,2,   0.001,2,   1.9110,2,    9.41,2, -999.00,9,  -999.0,9,  -999.0,   8.278,2,   0.017,-999.0000,9,  2282.2,   0.004,   2.0151,     -999.0,9,     -999.0,9,     -999.0,9,     -999.0,9,     -999.0,9,     -999.0,9,     -999.0,9, -999.00,9,-999.0000,9,-999.0000,9,-999.0000,9,-999.0000,9,-999.0000,9,-999.0000,9,   0.0010,    0.20
33RR20050106,       P16S,      73,          1,          9,          9,2,20050131,       1725,   -52.0005,  -150.0017,       4475,  2536.7,   2.0035,  34.7337,2,  34.7336,2,    189.2,2,   189.9,2,   87.87,2,   30.96,2,    0.00,2,    2.14,2,   0.125,2,   0.059,2,  -0.002,2,  2253.3,2,  2347.8,2,-999.000,9,   1.9740,2,    9.68,2, -999.00,9,  -999.0,9,  -999.0,   8.536,2,   0.029,  39.5109,2,  2536.7,-999.000,   1.8194,     -999.0,9,     -999.0,9,     -999.0,9,     -999.0,9,     -999.0,9,     -999.0,9,     -999.0,9, -999.00,9,   0.1250,2,   0.0860,2,   0.0460,2,   0.0340,2,   0.0143,2,   0.0168,2,   0.0030,    0.19
33RR20050106,       P16S,      73,          1,          8,          8,2,20050131,       1725,   -52.0005,  -150.0017,       4475,  2790.4,   1.7946,  34.7360,2,  34.7366,2,    192.7,2,   193.3,2,   94.55,2,   31.06,2,    0.00,2,    2.15,2,   0.099,2,   0.051,2,  -0.002,2,  2256.1,2,  2353.3,2,   0.001,2,   1.9330,2,   10.25,2, -999.00,9,  -999.0,9,  -999.0,   8.356,2,   0.023,-999.0000,9,  2790.4,   0.006,   1.5910,     -999.0,9,     -999.0,9,     -999.0,9,     -999.0,9,     -999.0,9,     -999.0,9,     -999.0,9, -999.00,9,-999.0000,9,-999.0000,9,-999.0000,9,-999.0000,9,-999.0000,9,-999.0000,9,   0.0020,    0.20
33RR20050106,       P16S,      73,          1,          7,          7,2,20050131,       1725,   -52.0005,  -150.0017,       4475,  3045.5,   1.6139,  34.7350,2,  34.7350,2,    196.2,2,   196.8,2,   99.81,2,   31.12,2,    0.00,2,    2.15,2,   0.073,2,   0.040,2,  -0.002,2,  2256.6,2,  2357.0,2,-999.000,9,   4.6980,4,    4.48,3, -999.00,9,  -999.0,9,  -999.0,  15.874,4,   0.050,  39.5824,2,  3045.5,-999.000,   1.3899,     -999.0,9,     -999.0,9,     -999.0,9,     -999.0,9,     -999.0,9,     -999.0,9,     -999.0,9, -999.00,9,   0.1230,2,   0.0840,2,   0.0450,2,   0.0330,2,   0.0145,2,   0.0169,2,   0.0100,    0.26