BOTTLE,20201109CCHSIOCBG
EXPOCODE,SECT_ID,STNNBR,CASTNO,SAMPNO,BTLNBR,BTLNBR_FLAG_W,DATE,TIME,LATITUDE,LONGITUDE,DEPTH,CTDPRS,CTDTMP,CTDSAL,CTDSAL_FLAG_W,SALNTY,SALNTY_FLAG_W,CTDOXY,CTDOXY_FLAG_W,OXYGEN,OXYGEN_FLAG_W,SILCAT,SILCAT_FLAG_W,NITRAT,NITRAT_FLAG_W,NITRIT,NITRIT_FLAG_W,PHSPHT,PHSPHT_FLAG_W,CFC-11,CFC-11_FLAG_W,CFC-12,CFC-12_FLAG_W,CFC113,CFC113_FLAG_W,TCARBN,TCARBN_FLAG_W,ALKALI,ALKALI_FLAG_W,TRITUM,TRITUM_FLAG_W,HELIUM,HELIUM_FLAG_W,DELHE3,DELHE3_FLAG_W,DELC13,DELC13_FLAG_W,DELC14,DELC14_FLAG_W,C14ERR,NEON,NEON_FLAG_W,NEONER,DOC,DOC_FLAG_W,CTDRAW,TRITER,THETA,FUCO,FUCO_FLAG_W,RHAM,RHAM_FLAG_W,ARABA,ARABA_FLAG_W,GALA,GALA_FLAG_W,GLUC,GLUC_FLAG_W,MAN,MAN_FLAG_W,DCNS,DCNS_FLAG_W,BRDU,BRDU_FLAG_W,CDOM325,CDOM325_FLAG_W,CDOM340,CDOM340_FLAG_W,CDOM380,CDOM380_FLAG_W,CDOM412,CDOM412_FLAG_W,CDOMSL,CDOMSL_FLAG_W,CDOMSN,CDOMSN_FLAG_W,HELIER,DELHER
,,,,,,,,,,,METERS,DBAR,ITS-90,PSS-78,,PSS-78,,UMOL/KG,,UMOL/KG,,UMOL/KG,,UMOL/KG,,UMOL/KG,,UMOL/KG,,PMOL/KG,,PMOL/KG,,PMOL/KG,,UMOL/KG,,UMOL/KG,,TU,,NMOL/KG,,PERCNT,,/MILLE,,/MILLE,,/MILLE,NMOL/KG,,NMOL/KG,UMOL/KG,,DBAR,TU,DEG C,NMOL/KG,,NMOL/KG,,NMOL/KG,,NMOL/KG,,NMOL/KG,,NMOL/KG,,NMOL/KG,,PMOL/L/H,,1/M,,1/M,,1/M,,1/M,,1/NM,,1/NM,,NMOL/KG,PERCNT
33RR20050106,       P16S,      57,          2,          6,          6,2,20050126,       0807,   -44.0003,  -150.0000,       5384,  3907.8,   1.3456,  34.7168,2,  34.7169,2,    195.0,2,   196.1,2,  114.03,2,   32.16,2,    0.00,2,    2.22,2,-999.000,9,-999.000,9,-999.000,9,  2265.2,2,  2367.4,2,-999.000,9,-999.0000,9, -999.00,9, -999.00,5,  -164.4,2,     2.4,-999.000,9,-999.000,-999.0000,9,  3907.8,-999.000,   1.0407,     -999.0,9,     -999.0,9,     -999.0,9,     -999.0,9,     -999.0,9,     -999.0,9,     -999.0,9, -999.00,9,-999.0000,9,-999.0000,9,-999.0000,9,-999.0000,9,-999.0000,9,-999.0000,9,-999.0000, -999.00
33RR20050106,       P16S,      57,          2,          5,          5,2,20050126,       0807,   -44.0003,  -150.0000,       5384,  4214.9,   1.2245,  34.7153,2,  34.7155,2,    199.0,2,   199.6,2,  115.70,2,   32.16,2,    0.00,2,    2.22,2,   0.010,2,   0.007,2,  -0.002,2,  2264.6,2,  2369.3,2,-999.000,9,-999.0000,9, -999.00,9, -999.00,5,  -163.1,2,     2.6,-999.000,9,-999.000,  38.5303,2,  4214.9,-999.000,   0.8898,     -999.0,9,     -999.0,9,     -999.0,9,     -999.0,9,     -999.0,9,     -999.0,9,     -999.0,9, -999.00,9,-999.0000,9,-999.0000,9,-999.0000,9,-999.0000,9,-999.0000,9,-999.0000,9,-999.0000, -999.00
33RR20050106,       P16S,      57,          2,          4,          4,2,20050126,       0807,   -44.0003,  -150.0000,       5384,  4573.3,   1.1784,  34.7142,2,  34.7142,2,    200.8,2,   201.8,2,  118.61,2,   32.22,2,    0.00,2,    2.22,2,   0.003,2,   0.009,2,  -0.002,2,  2266.1,2,  2371.1,2,-999.000,9,-999.0000,9, -999.00,9, -999.00,5,  -155.3,2,     2.4,-999.000,9,-999.000,-999.0000,9,  4573.3,-999.000,   0.8048,     -999.0,9,     -999.0,9,     -999.0,9,     -999.0,9,     -999.0,9,     -999.0,9,     -999.0,9, -999.00,9,-999.0000,9,-999.0000,9,-999.0000,9,-999.0000,9,-999.0000,9,-999.0000,9,-999.0000, -999.00
33RR20050106,       P16S,      57,          2,          3,          3,2,20050126,       0807,   -44.0003,  -150.0000,       5384,  4933.1,   1.1795,  34.7133,2,  34.7134,2,    201.5,2,   202.8,2,  119.62,2,   32.32,2,    0.00,2,    2.23,2,   0.006,2,   0.009,2,  -0.002,2,  2267.8,2,  2371.7,2,-999.000,9,-999.0000,9, -999.00,9, -999.00,5,  -147.3,2,     3.3,-999.000,9,-999.000,  40.3269,2,  4933.1,-999.000,   0.7638,     -999.0,9,     -999.0,9,     -999.0,9,     -999.0,9,     -999.0,9,     -999.0,9,     -999.0,9, -999.00,9,-999.0000,9,-999.0000,9,-999.0000,9,-999.0000,9,-999.0000,9,-999.0000,9,-999.0000, -999.00
33RR20050106,       P16S,      57,          2,          2,          2,2,20050126,       0807,   -44.0003,  -150.0000,       5384,  5313.3,   1.2116,  34.7127,2,  34.7138,2,    202.0,2,   202.5,2,  120.04,2,   32.32,2,    0.00,2,    2.23,2,  -0.003,2,   0.004,2,  -0.002,2,  2269.1,2,  2372.3,2,-999.000,9,-999.0000,9, -999.00,9, -999.00,5,  -151.4,2,     3.3,-999.000,9,-999.000,-999.0000,9,  5313.3,-999.000,   0.7486,     -999.0,9,     -999.0,9,     -999.0,9,     -999.0,9,     -999.0,9,     -999.0,9,     -999.0,9, -999.00,9,-999.0000,9,-999.0000,9,-999.0000,9,-999.0000,9,-999.0000,9,-999.0000,9,-999.0000, -999.00
33RR20050106,       P16S,      57,          2,          1,          1,2,20050126,       0807,   -44.0003,  -150.0000,       5384,  5525.9,   1.2218,  34.7121,2,  34.7118,2,    202.0,2,   202.7,2,  120.45,2,   32.32,2,    0.00,2,    2.23,2,  -0.004,2,   0.003,2,  -0.002,2,  2267.6,6,  2370.8,6,-999.000,9,-999.0000,9, -999.00,9, -999.00,5,  -152.3,2,     2.9,-999.000,9,-999.000,  38.5210,2,  5525.9,-999.000,   0.7318,     -999.0,9,     -999.0,9,     -999.0,9,     -999.0,9,     -999.0,9,     -999.0,9,     -999.0,9, -999.00,9,-999.0000,9,-999.0000,9,-999.0000,9,-999.0000,9,-999.0000,9,-999.0000,9,-999.0000, -999.00