BOTTLE,20201109CCHSIOCBG
EXPOCODE,SECT_ID,STNNBR,CASTNO,SAMPNO,BTLNBR,BTLNBR_FLAG_W,DATE,TIME,LATITUDE,LONGITUDE,DEPTH,CTDPRS,CTDTMP,CTDSAL,CTDSAL_FLAG_W,SALNTY,SALNTY_FLAG_W,CTDOXY,CTDOXY_FLAG_W,OXYGEN,OXYGEN_FLAG_W,SILCAT,SILCAT_FLAG_W,NITRAT,NITRAT_FLAG_W,NITRIT,NITRIT_FLAG_W,PHSPHT,PHSPHT_FLAG_W,CFC-11,CFC-11_FLAG_W,CFC-12,CFC-12_FLAG_W,CFC113,CFC113_FLAG_W,TCARBN,TCARBN_FLAG_W,ALKALI,ALKALI_FLAG_W,TRITUM,TRITUM_FLAG_W,HELIUM,HELIUM_FLAG_W,DELHE3,DELHE3_FLAG_W,DELC13,DELC13_FLAG_W,DELC14,DELC14_FLAG_W,C14ERR,NEON,NEON_FLAG_W,NEONER,DOC,DOC_FLAG_W,CTDRAW,TRITER,THETA,FUCO,FUCO_FLAG_W,RHAM,RHAM_FLAG_W,ARABA,ARABA_FLAG_W,GALA,GALA_FLAG_W,GLUC,GLUC_FLAG_W,MAN,MAN_FLAG_W,DCNS,DCNS_FLAG_W,BRDU,BRDU_FLAG_W,CDOM325,CDOM325_FLAG_W,CDOM340,CDOM340_FLAG_W,CDOM380,CDOM380_FLAG_W,CDOM412,CDOM412_FLAG_W,CDOMSL,CDOMSL_FLAG_W,CDOMSN,CDOMSN_FLAG_W,HELIER,DELHER
,,,,,,,,,,,METERS,DBAR,ITS-90,PSS-78,,PSS-78,,UMOL/KG,,UMOL/KG,,UMOL/KG,,UMOL/KG,,UMOL/KG,,UMOL/KG,,PMOL/KG,,PMOL/KG,,PMOL/KG,,UMOL/KG,,UMOL/KG,,TU,,NMOL/KG,,PERCNT,,/MILLE,,/MILLE,,/MILLE,NMOL/KG,,NMOL/KG,UMOL/KG,,DBAR,TU,DEG C,NMOL/KG,,NMOL/KG,,NMOL/KG,,NMOL/KG,,NMOL/KG,,NMOL/KG,,NMOL/KG,,PMOL/L/H,,1/M,,1/M,,1/M,,1/M,,1/NM,,1/NM,,NMOL/KG,PERCNT
33RR20050106,       P16S,       9,          3,          6,          6,2,20050112,       1545,   -20.0000,  -150.0000,       4602,  3456.0,   1.5398,  34.6854,2,  34.6858,2,    172.2,3,   172.8,2,  124.62,2,   34.27,2,    0.00,2,    2.41,2,-999.000,9,-999.000,9,-999.000,9,  2294.3,2,  2388.8,2,-999.000,9,-999.0000,9, -999.00,9, -999.00,9,  -999.0,9,  -999.0,-999.000,9,-999.000,  37.4659,2,  3456.0,-999.000,   1.2771,     -999.0,9,     -999.0,9,     -999.0,9,     -999.0,9,     -999.0,9,     -999.0,9,     -999.0,9, -999.00,9,   0.1320,2,   0.0920,2,   0.0510,2,   0.0340,2,   0.0151,2,   0.0167,2,-999.0000, -999.00
33RR20050106,       P16S,       9,          3,          5,          5,2,20050112,       1545,   -20.0000,  -150.0000,       4602,  3710.7,   1.5147,  34.6884,2,  34.6936,4,    174.5,3,   175.5,2,  124.40,2,   34.11,2,    0.00,2,    2.40,2,   0.023,3,   0.004,2,   0.001,2,  2291.4,2,  2387.8,2,-999.000,9,-999.0000,9, -999.00,9, -999.00,9,  -999.0,9,  -999.0,-999.000,9,-999.000,-999.0000,9,  3710.7,-999.000,   1.2263,     -999.0,9,     -999.0,9,     -999.0,9,     -999.0,9,     -999.0,9,     -999.0,9,     -999.0,9, -999.00,9,   0.1280,2,   0.0890,2,   0.0490,2,   0.0320,2,   0.0153,2,   0.0169,2,-999.0000, -999.00
33RR20050106,       P16S,       9,          3,          4,          4,2,20050112,       1545,   -20.0000,  -150.0000,       4602,  3965.1,   1.4875,  34.6918,2,  34.6925,2,    175.8,3,   178.4,2,  123.96,2,   33.83,2,    0.00,2,    2.39,2,-999.000,9,-999.000,9,-999.000,9,  2289.7,2,  2385.7,2,-999.000,9,-999.0000,9, -999.00,9, -999.00,9,  -999.0,9,  -999.0,-999.000,9,-999.000,-999.0000,9,  3965.1,-999.000,   1.1726,     -999.0,9,     -999.0,9,     -999.0,9,     -999.0,9,     -999.0,9,     -999.0,9,     -999.0,9, -999.00,9,   0.1320,2,   0.0930,2,   0.0520,2,   0.0340,2,   0.0150,2,   0.0164,2,-999.0000, -999.00
33RR20050106,       P16S,       9,          3,          3,          3,2,20050112,       1545,   -20.0000,  -150.0000,       4602,  4220.4,   1.4896,  34.6933,2,  34.6942,2,    178.4,3,   179.7,2,  123.54,2,   33.73,2,    0.00,2,    2.38,2,   0.007,2,   0.008,2,   0.001,2,  2287.8,2,  2385.5,2,-999.000,9,-999.0000,9, -999.00,9, -999.00,9,  -999.0,9,  -999.0,-999.000,9,-999.000,  36.7895,2,  4220.4,-999.000,   1.1466,     -999.0,9,     -999.0,9,     -999.0,9,     -999.0,9,     -999.0,9,     -999.0,9,     -999.0,9, -999.00,9,   0.1360,2,   0.0960,2,   0.0540,2,   0.0360,2,   0.0146,2,   0.0161,2,-999.0000, -999.00
33RR20050106,       P16S,       9,          3,          2,          2,2,20050112,       1545,   -20.0000,  -150.0000,       4602,  4454.6,   1.5040,  34.6941,2,  34.6945,2,    179.2,3,   179.6,2,  123.54,2,   33.73,2,    0.00,2,    2.38,2,-999.000,9,-999.000,9,-999.000,9,  2286.9,2,  2383.9,2,-999.000,9,-999.0000,9, -999.00,9, -999.00,9,  -999.0,9,  -999.0,-999.000,9,-999.000,-999.0000,9,  4454.6,-999.000,   1.1340,     -999.0,9,     -999.0,9,     -999.0,9,     -999.0,9,     -999.0,9,     -999.0,9,     -999.0,9, -999.00,9,   0.1320,2,   0.0940,2,   0.0540,2,   0.0360,2,   0.0142,2,   0.0156,2,-999.0000, -999.00
33RR20050106,       P16S,       9,          3,          1,          1,2,20050112,       1545,   -20.0000,  -150.0000,       4602,  4672.5,   1.5139,  34.6951,2,  34.6950,2,    180.7,3,  -999.0,5,  123.31,2,   33.67,2,    0.00,2,    2.39,2,   0.019,3,   0.019,3,   0.001,2,  2285.9,6,  2384.8,6,-999.000,9,-999.0000,9, -999.00,9, -999.00,9,  -999.0,9,  -999.0,-999.000,9,-999.000,  37.1975,2,  4672.5,-999.000,   1.1183,     -999.0,9,     -999.0,9,     -999.0,9,     -999.0,9,     -999.0,9,     -999.0,9,     -999.0,9, -999.00,9,   0.1050,2,   0.0670,2,   0.0320,2,   0.0210,2,   0.0211,2,   0.0233,2,-999.0000, -999.00