BOTTLE,20201109CCHSIOCBG
EXPOCODE,SECT_ID,STNNBR,CASTNO,SAMPNO,BTLNBR,BTLNBR_FLAG_W,DATE,TIME,LATITUDE,LONGITUDE,DEPTH,CTDPRS,CTDTMP,CTDSAL,CTDSAL_FLAG_W,SALNTY,SALNTY_FLAG_W,CTDOXY,CTDOXY_FLAG_W,OXYGEN,OXYGEN_FLAG_W,SILCAT,SILCAT_FLAG_W,NITRAT,NITRAT_FLAG_W,NITRIT,NITRIT_FLAG_W,PHSPHT,PHSPHT_FLAG_W,CFC-11,CFC-11_FLAG_W,CFC-12,CFC-12_FLAG_W,CFC113,CFC113_FLAG_W,TCARBN,TCARBN_FLAG_W,ALKALI,ALKALI_FLAG_W,TRITUM,TRITUM_FLAG_W,HELIUM,HELIUM_FLAG_W,DELHE3,DELHE3_FLAG_W,DELC13,DELC13_FLAG_W,DELC14,DELC14_FLAG_W,C14ERR,NEON,NEON_FLAG_W,NEONER,DOC,DOC_FLAG_W,CTDRAW,TRITER,THETA,FUCO,FUCO_FLAG_W,RHAM,RHAM_FLAG_W,ARABA,ARABA_FLAG_W,GALA,GALA_FLAG_W,GLUC,GLUC_FLAG_W,MAN,MAN_FLAG_W,DCNS,DCNS_FLAG_W,BRDU,BRDU_FLAG_W,CDOM325,CDOM325_FLAG_W,CDOM340,CDOM340_FLAG_W,CDOM380,CDOM380_FLAG_W,CDOM412,CDOM412_FLAG_W,CDOMSL,CDOMSL_FLAG_W,CDOMSN,CDOMSN_FLAG_W,HELIER,DELHER
,,,,,,,,,,,METERS,DBAR,ITS-90,PSS-78,,PSS-78,,UMOL/KG,,UMOL/KG,,UMOL/KG,,UMOL/KG,,UMOL/KG,,UMOL/KG,,PMOL/KG,,PMOL/KG,,PMOL/KG,,UMOL/KG,,UMOL/KG,,TU,,NMOL/KG,,PERCNT,,/MILLE,,/MILLE,,/MILLE,NMOL/KG,,NMOL/KG,UMOL/KG,,DBAR,TU,DEG C,NMOL/KG,,NMOL/KG,,NMOL/KG,,NMOL/KG,,NMOL/KG,,NMOL/KG,,NMOL/KG,,PMOL/L/H,,1/M,,1/M,,1/M,,1/M,,1/NM,,1/NM,,NMOL/KG,PERCNT
33RR20050106,       P16S,      45,          1,         36,         36,2,20050122,       1825,   -38.0000,  -150.0000,       5414,     5.0,  19.4618,  34.8290,2,  34.8300,2,    231.4,2,   231.8,2,    0.51,2,    0.12,2,    0.00,2,    0.15,2,   2.352,2,   1.426,2,   0.202,2,  2037.8,6,  2287.6,6,-999.000,9,-999.0000,9, -999.00,9, -999.00,9,  -999.0,9,  -999.0,-999.000,9,-999.000,  59.5263,2,     5.0,-999.000,  19.4609,        223,2,        164,2,        145,2,        444,2,        428,2,        566,2,       1971,2,    0.01,4,   0.0330,2,   0.0190,2,   0.0030,2,   0.0020,2,   0.0349,2,   0.0349,2,-999.0000, -999.00
33RR20050106,       P16S,      45,          1,         35,         35,2,20050122,       1825,   -38.0000,  -150.0000,       5414,    42.5,  17.8532,  34.8864,2,  34.8928,2,    246.7,2,   246.3,2,    0.50,2,    0.12,2,    0.00,2,    0.14,2,   2.639,2,   1.545,2,   0.207,2,  2043.0,2,  2294.4,2,-999.000,9,-999.0000,9, -999.00,9, -999.00,9,  -999.0,9,  -999.0,-999.000,9,-999.000,  66.8038,3,    42.5,-999.000,  17.8460,        194,2,        115,2,        101,2,        385,2,        222,2,        440,2,       1457,2,    0.01,4,   0.0430,2,   0.0250,2,   0.0070,2,   0.0040,2,   0.0362,2,   0.0361,2,-999.0000, -999.00
33RR20050106,       P16S,      45,          1,         34,         34,2,20050122,       1825,   -38.0000,  -150.0000,       5414,    87.4,  14.9658,  34.9392,2,  34.9427,2,    259.6,2,   259.0,2,    0.49,2,    0.12,2,    0.00,2,    0.16,2,   2.957,2,   1.723,2,   0.233,2,  2050.4,2,  2297.8,2,-999.000,9,-999.0000,9, -999.00,9, -999.00,9,  -999.0,9,  -999.0,-999.000,9,-999.000,  58.7718,2,    87.4,-999.000,  14.9526,        159,2,        109,2,         58,2,        327,2,        258,2,        408,2,       1319,2,    0.21,4,   0.0830,2,   0.0560,2,   0.0230,2,   0.0150,2,   0.0248,2,   0.0254,2,-999.0000, -999.00
33RR20050106,       P16S,      45,          1,         33,         33,2,20050122,       1825,   -38.0000,  -150.0000,       5414,   137.7,  13.6664,  34.8093,2,-999.0000,9,    238.0,2,   251.2,2,    0.47,2,    1.19,2,    0.08,2,    0.26,2,   3.029,2,   1.823,2,   0.263,2,  2062.2,2,  2292.5,2,-999.000,9,-999.0000,9, -999.00,9, -999.00,9,  -999.0,9,  -999.0,-999.000,9,-999.000,  54.6832,2,   137.7,-999.000,  13.6469,        124,2,         88,2,         75,2,        188,2,        173,2,        360,2,       1008,2,    0.01,4,   0.0720,2,   0.0480,2,   0.0210,2,   0.0150,2,   0.0244,2,   0.0250,2,-999.0000, -999.00
33RR20050106,       P16S,      45,          1,         32,         32,2,20050122,       1825,   -38.0000,  -150.0000,       5414,   187.5,  11.7975,  34.7214,2,-999.0000,9,    218.8,2,   223.0,2,    1.46,2,    9.12,2,    0.05,2,    0.72,2,   3.268,2,   1.816,2,   0.197,2,  2102.7,2,  2287.3,2,-999.000,9,-999.0000,9, -999.00,9, -999.00,9,  -999.0,9,  -999.0,-999.000,9,-999.000,  47.4537,2,   187.5,-999.000,  11.7734,         53,2,         38,2,         33,2,         90,2,         97,2,        126,2,        438,2,    0.01,4,   0.0890,2,   0.0610,2,   0.0300,2,   0.0230,2,   0.0203,2,   0.0217,2,-999.0000, -999.00
33RR20050106,       P16S,      45,          1,         31,         31,2,20050122,       1825,   -38.0000,  -150.0000,       5414,   237.7,  10.2369,  34.6319,2,-999.0000,9,    220.7,2,   220.4,2,    2.45,2,   13.71,2,    0.00,2,    1.00,2,   3.338,2,   1.820,2,   0.151,2,  2121.0,2,  2283.9,2,-999.000,9,-999.0000,9, -999.00,9, -999.00,9,  -999.0,9,  -999.0,-999.000,9,-999.000,  45.4246,2,   237.7,-999.000,  10.2090,     -999.0,9,     -999.0,9,     -999.0,9,     -999.0,9,     -999.0,9,     -999.0,9,     -999.0,9,    0.04,4,   0.0800,2,   0.0540,2,   0.0270,2,   0.0210,2,   0.0212,2,   0.0227,2,-999.0000, -999.00
33RR20050106,       P16S,      45,          1,         30,         30,2,20050122,       1825,   -38.0000,  -150.0000,       5414,   293.3,   8.8828,  34.5075,2,-999.0000,9,    227.5,2,   229.4,2,    3.24,2,   16.75,2,    0.00,2,    1.18,2,-999.000,9,-999.000,9,-999.000,9,  2128.0,2,  2278.7,2,-999.000,9,-999.0000,9, -999.00,9, -999.00,9,  -999.0,9,  -999.0,-999.000,9,-999.000,  44.0544,2,   293.3,-999.000,   8.8512,         36,2,         31,2,         32,2,         66,2,        110,2,         68,2,        342,2,    0.01,4,   0.0740,2,   0.0480,2,   0.0240,2,   0.0190,2,   0.0232,2,   0.0248,2,-999.0000, -999.00
33RR20050106,       P16S,      45,          1,         29,         29,2,20050122,       1825,   -38.0000,  -150.0000,       5414,   343.6,   8.1973,  34.4667,2,  34.4681,2,    235.1,2,   235.1,2,    4.03,2,   18.28,2,    0.00,2,    1.27,2,   3.584,2,   1.927,2,   0.216,2,  2131.4,2,  2279.3,2,-999.000,9,-999.0000,9, -999.00,9, -999.00,9,  -999.0,9,  -999.0,-999.000,9,-999.000,  43.5234,2,   343.6,-999.000,   8.1620,     -999.0,9,     -999.0,9,     -999.0,9,     -999.0,9,     -999.0,9,     -999.0,9,     -999.0,9,    0.00,4,   0.0750,2,   0.0490,2,   0.0250,2,   0.0200,2,   0.0222,2,   0.0240,2,-999.0000, -999.00
33RR20050106,       P16S,      45,          1,         28,         28,2,20050122,       1825,   -38.0000,  -150.0000,       5414,   394.0,   7.7243,  34.4387,2,  34.4383,2,    238.9,2,   240.9,2,    4.82,2,   19.35,2,    0.00,2,    1.34,2,-999.000,9,-999.000,9,-999.000,9,  2134.1,2,  2279.4,2,-999.000,9,-999.0000,9, -999.00,9, -999.00,9,  -999.0,9,  -999.0,-999.000,9,-999.000,-999.0000,9,   394.0,-999.000,   7.6851,     -999.0,9,     -999.0,9,     -999.0,9,     -999.0,9,     -999.0,9,     -999.0,9,     -999.0,9, -999.00,9,-999.0000,9,-999.0000,9,-999.0000,9,-999.0000,9,-999.0000,9,-999.0000,9,-999.0000, -999.00
33RR20050106,       P16S,      45,          1,         27,         27,2,20050122,       1825,   -38.0000,  -150.0000,       5414,   444.3,   7.4346,  34.4213,2,  34.4196,2,    243.6,2,   245.3,2,    5.41,2,   20.09,2,    0.00,2,    1.39,2,   3.647,2,   1.901,2,   0.242,2,  2135.2,2,  2278.6,2,-999.000,9,-999.0000,9, -999.00,9, -999.00,9,  -999.0,9,  -999.0,-999.000,9,-999.000,  42.9564,2,   444.3,-999.000,   7.3912,     -999.0,9,     -999.0,9,     -999.0,9,     -999.0,9,     -999.0,9,     -999.0,9,     -999.0,9, -999.00,9,   0.0710,2,   0.0450,2,   0.0230,2,   0.0180,2,   0.0247,2,   0.0265,2,-999.0000, -999.00
33RR20050106,       P16S,      45,          1,         26,         26,2,20050122,       1825,   -38.0000,  -150.0000,       5414,   494.4,   7.2454,  34.4076,2,  34.4086,2,    244.5,2,   246.6,2,    5.79,2,   20.63,2,    0.00,2,    1.42,2,-999.000,9,-999.000,9,-999.000,9,  2136.1,2,  2277.3,2,-999.000,9,-999.0000,9, -999.00,9, -999.00,9,  -999.0,9,  -999.0,-999.000,9,-999.000,-999.0000,9,   494.4,-999.000,   7.1976,     -999.0,9,     -999.0,9,     -999.0,9,     -999.0,9,     -999.0,9,     -999.0,9,     -999.0,9, -999.00,9,-999.0000,9,-999.0000,9,-999.0000,9,-999.0000,9,-999.0000,9,-999.0000,9,-999.0000, -999.00
33RR20050106,       P16S,      45,          1,         25,         25,2,20050122,       1825,   -38.0000,  -150.0000,       5414,   580.0,   6.9143,  34.3832,2,  34.3829,2,    244.7,2,   245.6,2,    6.99,2,   21.75,2,    0.00,2,    1.50,2,   3.250,6,   1.685,6,   0.175,6,  2140.4,6,  2278.5,2,-999.000,9,-999.0000,9, -999.00,9, -999.00,9,  -999.0,9,  -999.0,-999.000,9,-999.000,  41.5639,2,   580.0,-999.000,   6.8594,     -999.0,9,     -999.0,9,     -999.0,9,     -999.0,9,     -999.0,9,     -999.0,9,     -999.0,9, -999.00,9,   0.0700,2,   0.0440,2,   0.0210,2,   0.0170,2,   0.0265,2,   0.0282,2,-999.0000, -999.00
33RR20050106,       P16S,      45,          1,         24,         24,2,20050122,       1825,   -38.0000,  -150.0000,       5414,   681.3,   6.5768,  34.3582,2,  34.3598,2,    242.3,2,   243.7,2,    8.38,2,   22.82,2,    0.00,2,    1.57,2,   2.846,2,   1.404,2,   0.126,2,  2142.8,2,  2278.8,2,-999.000,9,-999.0000,9, -999.00,9, -999.00,9,  -999.0,9,  -999.0,-999.000,9,-999.000,  40.6772,2,   681.3,-999.000,   6.5136,     -999.0,9,     -999.0,9,     -999.0,9,     -999.0,9,     -999.0,9,     -999.0,9,     -999.0,9, -999.00,9,   0.0730,2,   0.0470,2,   0.0240,2,   0.0190,2,   0.0233,2,   0.0253,2,-999.0000, -999.00
33RR20050106,       P16S,      45,          1,         23,         23,2,20050122,       1825,   -38.0000,  -150.0000,       5414,   781.1,   6.1405,  34.3314,2,  34.3323,2,    236.4,2,   236.4,2,   10.78,2,   24.48,2,    0.00,2,    1.67,2,   2.315,2,   1.149,2,   0.091,2,  2150.1,2,  2280.5,2,-999.000,9,-999.0000,9, -999.00,9, -999.00,9,  -999.0,9,  -999.0,-999.000,9,-999.000,  40.5883,2,   781.1,-999.000,   6.0701,     -999.0,9,     -999.0,9,     -999.0,9,     -999.0,9,     -999.0,9,     -999.0,9,     -999.0,9, -999.00,9,   0.0690,2,   0.0440,2,   0.0220,2,   0.0170,2,   0.0255,2,   0.0278,2,-999.0000, -999.00
33RR20050106,       P16S,      45,          1,         22,         22,2,20050122,       1825,   -38.0000,  -150.0000,       5414,   881.6,   5.5644,  34.3152,2,  34.3156,2,    223.5,2,   222.6,2,   16.19,2,   26.89,2,    0.00,2,    1.84,2,   1.617,2,   0.829,2,   0.073,2,  2165.5,2,  2284.7,2,-999.000,9,-999.0000,9, -999.00,9, -999.00,9,  -999.0,9,  -999.0,-999.000,9,-999.000,  40.0435,2,   881.6,-999.000,   5.4882,     -999.0,9,     -999.0,9,     -999.0,9,     -999.0,9,     -999.0,9,     -999.0,9,     -999.0,9, -999.00,9,   0.0830,2,   0.0570,2,   0.0310,2,   0.0230,2,   0.0174,2,   0.0194,2,-999.0000, -999.00
33RR20050106,       P16S,      45,          1,         21,         21,2,20050122,       1825,   -38.0000,  -150.0000,       5414,   982.7,   4.9345,  34.3176,2,  34.3176,2,    211.8,2,   210.1,2,   23.84,2,   29.21,2,    0.00,2,    2.01,2,   1.127,2,   0.572,2,   0.106,2,  2181.3,2,  2289.9,2,-999.000,9,-999.0000,9, -999.00,9, -999.00,9,  -999.0,9,  -999.0,-999.000,9,-999.000,  39.5799,2,   982.7,-999.000,   4.8535,     -999.0,9,     -999.0,9,     -999.0,9,     -999.0,9,     -999.0,9,     -999.0,9,     -999.0,9, -999.00,9,   0.0900,2,   0.0620,2,   0.0340,2,   0.0250,2,   0.0163,2,   0.0182,2,-999.0000, -999.00
33RR20050106,       P16S,      45,          1,         20,         20,2,20050122,       1825,   -38.0000,  -150.0000,       5414,  1083.6,   4.3513,  34.3304,2,  34.3311,2,    202.4,2,   201.4,2,   31.70,2,   30.93,2,    0.00,2,    2.13,2,   0.781,2,   0.404,2,   0.032,2,  2196.6,2,  2294.7,2,-999.000,9,-999.0000,9, -999.00,9, -999.00,9,  -999.0,9,  -999.0,-999.000,9,-999.000,  39.8600,2,  1083.6,-999.000,   4.2660,     -999.0,9,     -999.0,9,     -999.0,9,     -999.0,9,     -999.0,9,     -999.0,9,     -999.0,9, -999.00,9,   0.0960,2,   0.0660,2,   0.0380,2,   0.0270,2,   0.0150,2,   0.0170,2,-999.0000, -999.00
33RR20050106,       P16S,      45,          1,         19,         19,2,20050122,       1825,   -38.0000,  -150.0000,       5414,  1184.5,   3.8099,  34.3560,2,  34.3548,2,    194.0,2,   194.0,2,   40.39,2,   32.24,2,    0.00,2,    2.23,2,   0.537,2,   0.262,2,   0.014,2,  2210.5,2,  2303.8,2,-999.000,9,-999.0000,9, -999.00,9, -999.00,9,  -999.0,9,  -999.0,-999.000,9,-999.000,-999.0000,9,  1184.5,-999.000,   3.7207,     -999.0,9,     -999.0,9,     -999.0,9,     -999.0,9,     -999.0,9,     -999.0,9,     -999.0,9, -999.00,9,-999.0000,9,-999.0000,9,-999.0000,9,-999.0000,9,-999.0000,9,-999.0000,9,-999.0000, -999.00
33RR20050106,       P16S,      45,          1,         18,         18,2,20050122,       1825,   -38.0000,  -150.0000,       5414,  1285.8,   3.4078,  34.3961,2,  34.3959,2,    185.6,2,   185.6,2,   49.72,2,   33.21,2,    0.00,2,    2.31,2,   0.333,2,   0.166,2,   0.002,2,  2224.5,2,  2313.2,6,-999.000,9,-999.0000,9, -999.00,9, -999.00,9,  -999.0,9,  -999.0,-999.000,9,-999.000,  38.8261,2,  1285.8,-999.000,   3.3138,     -999.0,9,     -999.0,9,     -999.0,9,     -999.0,9,     -999.0,9,     -999.0,9,     -999.0,9, -999.00,9,   0.1050,3,   0.0720,3,   0.0400,3,   0.0290,3,   0.0147,3,   0.0168,3,-999.0000, -999.00
33RR20050106,       P16S,      45,          1,         17,         17,2,20050122,       1825,   -38.0000,  -150.0000,       5414,  1386.9,   3.1453,  34.4381,2,  34.4373,2,    178.1,2,   178.4,2,   57.65,2,   33.74,2,    0.00,2,    2.36,2,   0.209,2,   0.111,2,   0.002,2,  2236.4,2,  2320.0,2,-999.000,9,-999.0000,9, -999.00,9, -999.00,9,  -999.0,9,  -999.0,-999.000,9,-999.000,-999.0000,9,  1386.9,-999.000,   3.0456,     -999.0,9,     -999.0,9,     -999.0,9,     -999.0,9,     -999.0,9,     -999.0,9,     -999.0,9, -999.00,9,-999.0000,9,-999.0000,9,-999.0000,9,-999.0000,9,-999.0000,9,-999.0000,9,-999.0000, -999.00
33RR20050106,       P16S,      45,          1,         16,         16,2,20050122,       1825,   -38.0000,  -150.0000,       5414,  1589.1,   2.7698,  34.5398,2,  34.5402,2,    164.2,2,   163.5,2,   78.25,2,   34.44,2,    0.00,2,    2.41,2,   0.033,2,   0.022,2,   0.002,2,  2262.9,2,  2345.9,2,-999.000,9,-999.0000,9, -999.00,9, -999.00,9,  -999.0,9,  -999.0,-999.000,9,-999.000,  37.7948,2,  1589.1,-999.000,   2.6573,     -999.0,9,     -999.0,9,     -999.0,9,     -999.0,9,     -999.0,9,     -999.0,9,     -999.0,9, -999.00,9,-999.0000,9,-999.0000,9,-999.0000,9,-999.0000,9,-999.0000,9,-999.0000,9,-999.0000, -999.00
33RR20050106,       P16S,      45,          1,         15,         15,2,20050122,       1825,   -38.0000,  -150.0000,       5414,  1791.1,   2.5288,  34.5954,2,  34.5948,2,    155.6,2,   155.4,2,   94.85,2,   34.87,2,    0.00,2,    2.46,2,   0.014,2,   0.019,3,   0.002,2,  2281.6,2,  2366.7,2,-999.000,9,-999.0000,9, -999.00,9, -999.00,5,  -191.4,6,     3.8,-999.000,9,-999.000,-999.0000,9,  1791.1,-999.000,   2.4024,     -999.0,9,     -999.0,9,     -999.0,9,     -999.0,9,     -999.0,9,     -999.0,9,     -999.0,9, -999.00,9,-999.0000,9,-999.0000,9,-999.0000,9,-999.0000,9,-999.0000,9,-999.0000,9,-999.0000, -999.00
33RR20050106,       P16S,      45,          1,         14,         14,2,20050122,       1825,   -38.0000,  -150.0000,       5414,  1993.9,   2.3444,  34.6210,2,  34.6205,2,    152.0,2,   152.4,2,  104.91,2,   35.04,2,    0.00,2,    2.48,2,   0.013,2,   0.017,3,   0.002,2,  2292.0,2,  2377.7,2,-999.000,9,-999.0000,9, -999.00,9, -999.00,9,  -999.0,9,  -999.0,-999.000,9,-999.000,-999.0000,9,  1993.9,-999.000,   2.2033,     -999.0,9,     -999.0,9,     -999.0,9,     -999.0,9,     -999.0,9,     -999.0,9,     -999.0,9, -999.00,9,-999.0000,9,-999.0000,9,-999.0000,9,-999.0000,9,-999.0000,9,-999.0000,9,-999.0000, -999.00
33RR20050106,       P16S,      45,          1,         13,         13,2,20050122,       1825,   -38.0000,  -150.0000,       5414,  2197.3,   2.2163,  34.6361,2,  34.6364,2,    150.3,2,   150.8,2,  111.49,2,   35.30,2,    0.00,2,    2.49,2,   0.032,3,   0.016,3,   0.002,2,  2301.3,2,  2386.5,2,-999.000,9,-999.0000,9, -999.00,9, -999.00,9,  -999.0,9,  -999.0,-999.000,9,-999.000,  37.4946,2,  2197.3,-999.000,   2.0594,     -999.0,9,     -999.0,9,     -999.0,9,     -999.0,9,     -999.0,9,     -999.0,9,     -999.0,9, -999.00,9,   0.1080,2,   0.0720,2,   0.0380,2,   0.0270,2,   0.0174,2,   0.0196,2,-999.0000, -999.00
33RR20050106,       P16S,      45,          1,         12,         12,2,20050122,       1825,   -38.0000,  -150.0000,       5414,  2450.6,   2.0616,  34.6501,2,  34.6510,2,    149.6,2,   150.1,2,  117.87,2,   35.41,2,    0.00,2,    2.50,2,   0.060,3,   0.034,3,   0.002,2,  2306.7,2,  2391.6,2,-999.000,9,-999.0000,9, -999.00,9, -999.00,9,  -999.0,9,  -999.0,-999.000,9,-999.000,-999.0000,9,  2450.6,-999.000,   1.8847,     -999.0,9,     -999.0,9,     -999.0,9,     -999.0,9,     -999.0,9,     -999.0,9,     -999.0,9, -999.00,9,-999.0000,9,-999.0000,9,-999.0000,9,-999.0000,9,-999.0000,9,-999.0000,9,-999.0000, -999.00
33RR20050106,       P16S,      45,          1,         11,         11,2,20050122,       1825,   -38.0000,  -150.0000,       5414,  2704.6,   1.9270,  34.6616,2,  34.6608,2,    150.2,2,   151.1,2,  123.42,2,   35.47,2,    0.00,2,    2.51,2,   0.009,2,   0.012,2,   0.002,2,  2308.7,2,  2396.1,2,-999.000,9,-999.0000,9, -999.00,9, -999.00,9,  -999.0,9,  -999.0,-999.000,9,-999.000,  36.6801,2,  2704.6,-999.000,   1.7291,     -999.0,9,     -999.0,9,     -999.0,9,     -999.0,9,     -999.0,9,     -999.0,9,     -999.0,9, -999.00,9,   0.1110,2,   0.0750,2,   0.0390,2,   0.0270,2,   0.0172,2,   0.0192,2,-999.0000, -999.00
33RR20050106,       P16S,      45,          1,         10,         10,2,20050122,       1825,   -38.0000,  -150.0000,       5414,  2959.0,   1.8386,  34.6695,2,  34.6698,2,    152.2,2,   153.0,2,  125.89,2,   35.35,2,    0.00,2,    2.49,2,-999.000,9,-999.000,9,-999.000,9,  2312.0,2,  2399.1,2,-999.000,9,-999.0000,9, -999.00,9, -999.00,9,  -999.0,9,  -999.0,-999.000,9,-999.000,-999.0000,9,  2959.0,-999.000,   1.6183,     -999.0,9,     -999.0,9,     -999.0,9,     -999.0,9,     -999.0,9,     -999.0,9,     -999.0,9, -999.00,9,-999.0000,9,-999.0000,9,-999.0000,9,-999.0000,9,-999.0000,9,-999.0000,9,-999.0000, -999.00
33RR20050106,       P16S,      45,          1,          9,          9,2,20050122,       1825,   -38.0000,  -150.0000,       5414,  3295.1,   1.7192,  34.6848,2,  34.6850,2,    161.6,2,   162.5,2,  124.02,2,   34.59,2,    0.00,2,    2.43,2,  -0.006,2,  -0.002,2,   0.002,2,  2301.8,2,  2393.0,2,-999.000,9,-999.0000,9, -999.00,9, -999.00,9,  -999.0,9,  -999.0,-999.000,9,-999.000,  37.2749,2,  3295.1,-999.000,   1.4684,     -999.0,9,     -999.0,9,     -999.0,9,     -999.0,9,     -999.0,9,     -999.0,9,     -999.0,9, -999.00,9,   0.1100,2,   0.0740,2,   0.0390,2,   0.0280,2,   0.0168,2,   0.0191,2,-999.0000, -999.00
33RR20050106,       P16S,      45,          1,          8,          8,2,20050122,       1825,   -38.0000,  -150.0000,       5414,  3601.7,   1.6016,  34.6997,2,  34.6995,2,    174.5,2,   175.5,2,  119.25,2,   33.45,2,    0.00,2,    2.34,2,-999.000,9,-999.000,9,-999.000,9,  2287.4,2,  2383.9,2,-999.000,9,-999.0000,9, -999.00,9, -999.00,9,  -999.0,9,  -999.0,-999.000,9,-999.000,-999.0000,9,  3601.7,-999.000,   1.3222,     -999.0,9,     -999.0,9,     -999.0,9,     -999.0,9,     -999.0,9,     -999.0,9,     -999.0,9, -999.00,9,-999.0000,9,-999.0000,9,-999.0000,9,-999.0000,9,-999.0000,9,-999.0000,9,-999.0000, -999.00
33RR20050106,       P16S,      45,          1,          7,          7,2,20050122,       1825,   -38.0000,  -150.0000,       5414,  3908.4,   1.4672,  34.7116,2,  34.7125,2,    187.4,2,   189.1,2,  114.29,2,   32.47,2,    0.00,2,    2.27,2,   0.050,3,   0.042,3,   0.002,2,  2273.5,2,  2370.8,2,-999.000,9,-999.0000,9, -999.00,9, -999.00,9,  -999.0,9,  -999.0,-999.000,9,-999.000,  36.7837,2,  3908.4,-999.000,   1.1589,     -999.0,9,     -999.0,9,     -999.0,9,     -999.0,9,     -999.0,9,     -999.0,9,     -999.0,9, -999.00,9,   0.1060,2,   0.0710,2,   0.0360,2,   0.0260,2,   0.0181,2,   0.0203,2,-999.0000, -999.00