BOTTLE,20201109CCHSIOCBG
EXPOCODE,SECT_ID,STNNBR,CASTNO,SAMPNO,BTLNBR,BTLNBR_FLAG_W,DATE,TIME,LATITUDE,LONGITUDE,DEPTH,CTDPRS,CTDTMP,CTDSAL,CTDSAL_FLAG_W,SALNTY,SALNTY_FLAG_W,CTDOXY,CTDOXY_FLAG_W,OXYGEN,OXYGEN_FLAG_W,SILCAT,SILCAT_FLAG_W,NITRAT,NITRAT_FLAG_W,NITRIT,NITRIT_FLAG_W,PHSPHT,PHSPHT_FLAG_W,CFC-11,CFC-11_FLAG_W,CFC-12,CFC-12_FLAG_W,CFC113,CFC113_FLAG_W,TCARBN,TCARBN_FLAG_W,ALKALI,ALKALI_FLAG_W,TRITUM,TRITUM_FLAG_W,HELIUM,HELIUM_FLAG_W,DELHE3,DELHE3_FLAG_W,DELC13,DELC13_FLAG_W,DELC14,DELC14_FLAG_W,C14ERR,NEON,NEON_FLAG_W,NEONER,DOC,DOC_FLAG_W,CTDRAW,TRITER,THETA,FUCO,FUCO_FLAG_W,RHAM,RHAM_FLAG_W,ARABA,ARABA_FLAG_W,GALA,GALA_FLAG_W,GLUC,GLUC_FLAG_W,MAN,MAN_FLAG_W,DCNS,DCNS_FLAG_W,BRDU,BRDU_FLAG_W,CDOM325,CDOM325_FLAG_W,CDOM340,CDOM340_FLAG_W,CDOM380,CDOM380_FLAG_W,CDOM412,CDOM412_FLAG_W,CDOMSL,CDOMSL_FLAG_W,CDOMSN,CDOMSN_FLAG_W,HELIER,DELHER
,,,,,,,,,,,METERS,DBAR,ITS-90,PSS-78,,PSS-78,,UMOL/KG,,UMOL/KG,,UMOL/KG,,UMOL/KG,,UMOL/KG,,UMOL/KG,,PMOL/KG,,PMOL/KG,,PMOL/KG,,UMOL/KG,,UMOL/KG,,TU,,NMOL/KG,,PERCNT,,/MILLE,,/MILLE,,/MILLE,NMOL/KG,,NMOL/KG,UMOL/KG,,DBAR,TU,DEG C,NMOL/KG,,NMOL/KG,,NMOL/KG,,NMOL/KG,,NMOL/KG,,NMOL/KG,,NMOL/KG,,PMOL/L/H,,1/M,,1/M,,1/M,,1/M,,1/NM,,1/NM,,NMOL/KG,PERCNT
33RR20050106,       P16S,      60,          1,         36,         36,4,20050127,       0446,   -45.4983,  -149.9998,       5125,     2.8,  13.4886,  34.3630,2,  34.4420,4,    261.4,2,   225.1,4,    5.24,4,   10.21,4,    0.11,4,    0.84,4,   0.058,4,   0.040,4,   0.008,4,  2136.2,4,  2288.6,6,-999.000,9,-999.0000,9, -999.00,9, -999.00,9,  -999.0,9,  -999.0,-999.000,9,-999.000,-999.0000,9,     2.8,-999.000,  13.4882,     -999.0,9,     -999.0,9,     -999.0,9,     -999.0,9,     -999.0,9,     -999.0,9,     -999.0,9, -999.00,9,-999.0000,9,-999.0000,9,-999.0000,9,-999.0000,9,-999.0000,9,-999.0000,9,-999.0000, -999.00
33RR20050106,       P16S,      60,          1,         35,         35,2,20050127,       0446,   -45.4983,  -149.9998,       5125,    41.2,  12.6038,  34.4688,2,  34.4704,2,    268.9,2,   269.4,2,    0.00,2,    5.99,2,    0.09,2,    0.57,2,   3.053,2,   1.825,2,   0.248,2,  2063.5,2,  2284.8,2,-999.000,9,-999.0000,9, -999.00,9, -999.00,9,  -999.0,9,  -999.0,-999.000,9,-999.000,-999.0000,9,    41.2,-999.000,  12.5983,     -999.0,9,     -999.0,9,     -999.0,9,     -999.0,9,     -999.0,9,     -999.0,9,     -999.0,9, -999.00,9,-999.0000,9,-999.0000,9,-999.0000,9,-999.0000,9,-999.0000,9,-999.0000,9,-999.0000, -999.00
33RR20050106,       P16S,      60,          1,         34,         34,2,20050127,       0446,   -45.4983,  -149.9998,       5125,    86.5,   9.2297,  34.4575,2,  34.4573,2,    276.5,2,   276.3,2,    1.61,2,    9.73,2,    0.41,2,    0.83,2,   3.689,2,   2.109,2,   0.300,2,  2097.2,2,  2283.1,2,-999.000,9,-999.0000,9, -999.00,9, -999.00,9,  -999.0,9,  -999.0,-999.000,9,-999.000,-999.0000,9,    86.5,-999.000,   9.2203,     -999.0,9,     -999.0,9,     -999.0,9,     -999.0,9,     -999.0,9,     -999.0,9,     -999.0,9, -999.00,9,-999.0000,9,-999.0000,9,-999.0000,9,-999.0000,9,-999.0000,9,-999.0000,9,-999.0000, -999.00
33RR20050106,       P16S,      60,          1,         33,         33,2,20050127,       0446,   -45.4983,  -149.9998,       5125,   137.9,   8.9830,  34.5343,2,  34.5340,2,    266.6,2,   270.1,2,    2.22,2,   12.17,2,    0.03,2,    0.91,2,   3.663,2,   2.131,2,   0.306,2,  2104.2,2,  2284.1,2,-999.000,9,-999.0000,9, -999.00,9, -999.00,9,  -999.0,9,  -999.0,-999.000,9,-999.000,-999.0000,9,   137.9,-999.000,   8.9682,     -999.0,9,     -999.0,9,     -999.0,9,     -999.0,9,     -999.0,9,     -999.0,9,     -999.0,9, -999.00,9,-999.0000,9,-999.0000,9,-999.0000,9,-999.0000,9,-999.0000,9,-999.0000,9,-999.0000, -999.00
33RR20050106,       P16S,      60,          1,         32,         32,2,20050127,       0446,   -45.4983,  -149.9998,       5125,   187.9,   8.7567,  34.5319,2,  34.5316,2,    266.9,2,   269.8,2,    2.42,2,   12.90,2,    0.02,2,    0.94,2,-999.000,9,-999.000,9,-999.000,9,  2107.1,2,  2284.1,2,-999.000,9,-999.0000,9, -999.00,9, -999.00,9,  -999.0,9,  -999.0,-999.000,9,-999.000,-999.0000,9,   187.9,-999.000,   8.7368,     -999.0,9,     -999.0,9,     -999.0,9,     -999.0,9,     -999.0,9,     -999.0,9,     -999.0,9, -999.00,9,-999.0000,9,-999.0000,9,-999.0000,9,-999.0000,9,-999.0000,9,-999.0000,9,-999.0000, -999.00
33RR20050106,       P16S,      60,          1,         31,         31,2,20050127,       0446,   -45.4983,  -149.9998,       5125,   243.2,   8.3861,  34.5014,2,  34.5016,2,    257.2,2,   263.1,2,    3.02,2,   14.96,2,    0.03,2,    1.07,2,   3.704,2,   2.141,2,   0.295,2,  2114.7,2,  2282.9,2,-999.000,9,-999.0000,9, -999.00,9, -999.00,9,  -999.0,9,  -999.0,-999.000,9,-999.000,-999.0000,9,   243.2,-999.000,   8.3609,     -999.0,9,     -999.0,9,     -999.0,9,     -999.0,9,     -999.0,9,     -999.0,9,     -999.0,9, -999.00,9,-999.0000,9,-999.0000,9,-999.0000,9,-999.0000,9,-999.0000,9,-999.0000,9,-999.0000, -999.00
33RR20050106,       P16S,      60,          1,         30,         30,2,20050127,       0446,   -45.4983,  -149.9998,       5125,   293.6,   8.1077,  34.4850,2,  34.4849,2,    256.5,2,   259.2,2,    3.83,2,   16.85,2,    0.02,2,    1.18,2,-999.000,9,-999.000,9,-999.000,9,  2123.2,2,  2281.3,2,-999.000,9,-999.0000,9, -999.00,9, -999.00,9,  -999.0,9,  -999.0,-999.000,9,-999.000,-999.0000,9,   293.6,-999.000,   8.0778,     -999.0,9,     -999.0,9,     -999.0,9,     -999.0,9,     -999.0,9,     -999.0,9,     -999.0,9, -999.00,9,-999.0000,9,-999.0000,9,-999.0000,9,-999.0000,9,-999.0000,9,-999.0000,9,-999.0000, -999.00
33RR20050106,       P16S,      60,          1,         29,         29,2,20050127,       0446,   -45.4983,  -149.9998,       5125,   343.9,   7.8379,  34.4611,2,  34.4619,2,    257.3,2,   258.6,2,    4.43,2,   17.68,2,    0.01,2,    1.24,2,   3.703,2,   2.117,2,   0.324,2,  2126.1,2,  2281.4,2,-999.000,9,-999.0000,9, -999.00,9, -999.00,9,  -999.0,9,  -999.0,-999.000,9,-999.000,-999.0000,9,   343.9,-999.000,   7.8035,     -999.0,9,     -999.0,9,     -999.0,9,     -999.0,9,     -999.0,9,     -999.0,9,     -999.0,9, -999.00,9,-999.0000,9,-999.0000,9,-999.0000,9,-999.0000,9,-999.0000,9,-999.0000,9,-999.0000, -999.00
33RR20050106,       P16S,      60,          1,         28,         28,2,20050127,       0446,   -45.4983,  -149.9998,       5125,   394.0,   7.6622,  34.4421,2,  34.4419,2,    258.0,2,   258.7,2,    4.83,2,   17.94,2,    0.00,2,    1.29,2,   3.794,2,   2.153,2,   0.296,2,  2127.4,2,  2281.0,2,-999.000,9,-999.0000,9, -999.00,9, -999.00,9,  -999.0,9,  -999.0,-999.000,9,-999.000,-999.0000,9,   394.0,-999.000,   7.6231,     -999.0,9,     -999.0,9,     -999.0,9,     -999.0,9,     -999.0,9,     -999.0,9,     -999.0,9, -999.00,9,-999.0000,9,-999.0000,9,-999.0000,9,-999.0000,9,-999.0000,9,-999.0000,9,-999.0000, -999.00
33RR20050106,       P16S,      60,          1,         27,         27,2,20050127,       0446,   -45.4983,  -149.9998,       5125,   444.5,   7.4649,  34.4201,2,  34.4205,2,    257.3,2,   258.0,2,    5.24,2,   18.57,2,    0.00,2,    1.33,2,   3.681,2,   2.097,2,   0.302,2,  2129.0,2,  2281.7,2,-999.000,9,-999.0000,9, -999.00,9, -999.00,9,  -999.0,9,  -999.0,-999.000,9,-999.000,-999.0000,9,   444.5,-999.000,   7.4214,     -999.0,9,     -999.0,9,     -999.0,9,     -999.0,9,     -999.0,9,     -999.0,9,     -999.0,9, -999.00,9,-999.0000,9,-999.0000,9,-999.0000,9,-999.0000,9,-999.0000,9,-999.0000,9,-999.0000, -999.00
33RR20050106,       P16S,      60,          1,         26,         26,2,20050127,       0446,   -45.4983,  -149.9998,       5125,   495.0,   7.3027,  34.4029,2,  34.4028,2,    255.5,2,   255.6,2,    6.04,2,   19.88,2,    0.00,2,    1.38,2,   3.675,2,   2.070,2,   0.289,2,  2132.5,2,  2280.7,2,-999.000,9,-999.0000,9, -999.00,9, -999.00,9,  -999.0,9,  -999.0,-999.000,9,-999.000,-999.0000,9,   495.0,-999.000,   7.2547,     -999.0,9,     -999.0,9,     -999.0,9,     -999.0,9,     -999.0,9,     -999.0,9,     -999.0,9, -999.00,9,-999.0000,9,-999.0000,9,-999.0000,9,-999.0000,9,-999.0000,9,-999.0000,9,-999.0000, -999.00
33RR20050106,       P16S,      60,          1,         25,         25,2,20050127,       0446,   -45.4983,  -149.9998,       5125,   580.2,   7.0478,  34.3809,2,  34.3816,2,    253.0,2,   253.3,2,    6.84,2,   20.81,2,    0.00,2,    1.44,2,   3.508,2,   1.934,2,   0.251,2,  2135.9,2,  2280.1,2,-999.000,9,-999.0000,9, -999.00,9, -999.00,9,  -999.0,9,  -999.0,-999.000,9,-999.000,-999.0000,9,   580.2,-999.000,   6.9923,     -999.0,9,     -999.0,9,     -999.0,9,     -999.0,9,     -999.0,9,     -999.0,9,     -999.0,9, -999.00,9,-999.0000,9,-999.0000,9,-999.0000,9,-999.0000,9,-999.0000,9,-999.0000,9,-999.0000, -999.00
33RR20050106,       P16S,      60,          1,         24,         24,2,20050127,       0446,   -45.4983,  -149.9998,       5125,   680.9,   6.6762,  34.3528,2,  34.3533,2,    248.6,2,   249.6,2,    8.46,2,   22.26,2,    0.00,2,    1.54,2,-999.000,9,-999.000,9,-999.000,9,  2140.4,2,  2280.2,2,-999.000,9,-999.0000,9, -999.00,9, -999.00,9,  -999.0,9,  -999.0,-999.000,9,-999.000,-999.0000,9,   680.9,-999.000,   6.6125,     -999.0,9,     -999.0,9,     -999.0,9,     -999.0,9,     -999.0,9,     -999.0,9,     -999.0,9, -999.00,9,-999.0000,9,-999.0000,9,-999.0000,9,-999.0000,9,-999.0000,9,-999.0000,9,-999.0000, -999.00
33RR20050106,       P16S,      60,          1,         23,         23,2,20050127,       0446,   -45.4983,  -149.9998,       5125,   781.5,   6.3012,  34.3383,2,  34.3390,2,    239.3,2,   236.0,2,   11.68,2,   24.26,2,    0.00,2,    1.66,2,-999.000,9,-999.000,9,-999.000,9,  2151.8,2,  2281.9,2,-999.000,9,-999.0000,9, -999.00,9, -999.00,9,  -999.0,9,  -999.0,-999.000,9,-999.000,-999.0000,9,   781.5,-999.000,   6.2298,     -999.0,9,     -999.0,9,     -999.0,9,     -999.0,9,     -999.0,9,     -999.0,9,     -999.0,9, -999.00,9,-999.0000,9,-999.0000,9,-999.0000,9,-999.0000,9,-999.0000,9,-999.0000,9,-999.0000, -999.00
33RR20050106,       P16S,      60,          1,         22,         22,2,20050127,       0446,   -45.4983,  -149.9998,       5125,   882.5,   5.8027,  34.3286,2,  34.3287,2,    225.4,2,   223.6,2,   16.52,2,   26.22,2,    0.00,2,    1.80,2,   2.306,2,   1.237,2,   0.127,2,  2162.5,2,  2284.3,2,-999.000,9,-999.0000,9, -999.00,9, -999.00,9,  -999.0,9,  -999.0,-999.000,9,-999.000,-999.0000,9,   882.5,-999.000,   5.7248,     -999.0,9,     -999.0,9,     -999.0,9,     -999.0,9,     -999.0,9,     -999.0,9,     -999.0,9, -999.00,9,-999.0000,9,-999.0000,9,-999.0000,9,-999.0000,9,-999.0000,9,-999.0000,9,-999.0000, -999.00
33RR20050106,       P16S,      60,          1,         21,         21,2,20050127,       0446,   -45.4983,  -149.9998,       5125,   983.8,   5.2304,  34.3279,2,  34.3283,2,    214.6,2,   213.5,2,   22.59,2,   28.23,2,    0.00,2,    1.95,2,   1.892,2,   0.978,2,   0.096,2,  2178.3,2,  2289.6,2,-999.000,9,-999.0000,9, -999.00,9, -999.00,9,  -999.0,9,  -999.0,-999.000,9,-999.000,-999.0000,9,   983.8,-999.000,   5.1471,     -999.0,9,     -999.0,9,     -999.0,9,     -999.0,9,     -999.0,9,     -999.0,9,     -999.0,9, -999.00,9,-999.0000,9,-999.0000,9,-999.0000,9,-999.0000,9,-999.0000,9,-999.0000,9,-999.0000, -999.00
33RR20050106,       P16S,      60,          1,         20,         20,2,20050127,       0446,   -45.4983,  -149.9998,       5125,  1084.4,   4.6370,  34.3291,2,  34.3293,2,    207.3,2,   207.3,2,   28.87,2,   29.90,2,    0.00,2,    2.07,2,   1.614,2,   0.794,2,   0.078,2,  2188.7,2,  2294.1,2,-999.000,9,-999.0000,9, -999.00,9, -999.00,9,  -999.0,9,  -999.0,-999.000,9,-999.000,-999.0000,9,  1084.4,-999.000,   4.5493,     -999.0,9,     -999.0,9,     -999.0,9,     -999.0,9,     -999.0,9,     -999.0,9,     -999.0,9, -999.00,9,-999.0000,9,-999.0000,9,-999.0000,9,-999.0000,9,-999.0000,9,-999.0000,9,-999.0000, -999.00
33RR20050106,       P16S,      60,          1,         19,         19,2,20050127,       0446,   -45.4983,  -149.9998,       5125,  1185.5,   4.1123,  34.3408,2,  34.3413,2,    201.6,2,   202.0,2,   35.78,2,   31.13,2,    0.00,2,    2.16,2,   1.260,2,   0.648,2,   0.080,2,  2200.8,2,  2299.9,2,-999.000,9,-999.0000,9, -999.00,9, -999.00,9,  -999.0,9,  -999.0,-999.000,9,-999.000,-999.0000,9,  1185.5,-999.000,   4.0202,     -999.0,9,     -999.0,9,     -999.0,9,     -999.0,9,     -999.0,9,     -999.0,9,     -999.0,9, -999.00,9,-999.0000,9,-999.0000,9,-999.0000,9,-999.0000,9,-999.0000,9,-999.0000,9,-999.0000, -999.00
33RR20050106,       P16S,      60,          1,         18,         18,2,20050127,       0446,   -45.4983,  -149.9998,       5125,  1285.9,   3.6754,  34.3640,2,  34.3640,2,    195.6,2,   195.7,2,   43.32,2,   32.28,2,    0.00,2,    2.22,2,   1.078,2,   0.556,2,   0.070,2,  2211.8,6,  2306.7,2,-999.000,9,-999.0000,9, -999.00,9, -999.00,9,  -999.0,9,  -999.0,-999.000,9,-999.000,-999.0000,9,  1285.9,-999.000,   3.5788,     -999.0,9,     -999.0,9,     -999.0,9,     -999.0,9,     -999.0,9,     -999.0,9,     -999.0,9, -999.00,9,-999.0000,9,-999.0000,9,-999.0000,9,-999.0000,9,-999.0000,9,-999.0000,9,-999.0000, -999.00
33RR20050106,       P16S,      60,          1,         17,         17,2,20050127,       0446,   -45.4983,  -149.9998,       5125,  1387.7,   3.3189,  34.4001,2,  34.3999,2,    188.0,2,   188.7,2,   51.08,2,   33.12,2,    0.00,2,    2.30,2,   0.820,2,   0.420,2,   0.051,2,  -999.0,9,  -999.0,9,-999.000,9,-999.0000,9, -999.00,9, -999.00,9,  -999.0,9,  -999.0,-999.000,9,-999.000,-999.0000,9,  1387.7,-999.000,   3.2173,     -999.0,9,     -999.0,9,     -999.0,9,     -999.0,9,     -999.0,9,     -999.0,9,     -999.0,9, -999.00,9,-999.0000,9,-999.0000,9,-999.0000,9,-999.0000,9,-999.0000,9,-999.0000,9,-999.0000, -999.00
33RR20050106,       P16S,      60,          1,         16,         16,2,20050127,       0446,   -45.4983,  -149.9998,       5125,  1590.0,   2.9231,  34.4804,2,  34.4790,2,    175.2,2,   175.9,2,   64.79,2,   33.86,2,    0.00,2,    2.37,2,   0.430,2,   0.214,2,   0.021,2,  -999.0,9,  -999.0,9,-999.000,9,-999.0000,9, -999.00,9, -999.00,9,  -999.0,9,  -999.0,-999.000,9,-999.000,-999.0000,9,  1590.0,-999.000,   2.8089,     -999.0,9,     -999.0,9,     -999.0,9,     -999.0,9,     -999.0,9,     -999.0,9,     -999.0,9, -999.00,9,-999.0000,9,-999.0000,9,-999.0000,9,-999.0000,9,-999.0000,9,-999.0000,9,-999.0000, -999.00
33RR20050106,       P16S,      60,          1,         15,         15,2,20050127,       0446,   -45.4983,  -149.9998,       5125,  1792.3,   2.6649,  34.5557,2,  34.5550,2,    166.3,2,   166.7,2,   77.72,2,   34.16,2,    0.00,2,    2.40,2,   0.159,2,   0.079,2,  -0.002,2,  -999.0,9,  -999.0,9,-999.000,9,-999.0000,9, -999.00,9, -999.00,9,  -999.0,9,  -999.0,-999.000,9,-999.000,-999.0000,9,  1792.3,-999.000,   2.5367,     -999.0,9,     -999.0,9,     -999.0,9,     -999.0,9,     -999.0,9,     -999.0,9,     -999.0,9, -999.00,9,-999.0000,9,-999.0000,9,-999.0000,9,-999.0000,9,-999.0000,9,-999.0000,9,-999.0000, -999.00
33RR20050106,       P16S,      60,          1,         14,         14,2,20050127,       0446,   -45.4983,  -149.9998,       5125,  1995.1,   2.4691,  34.6092,2,  34.6098,2,    160.6,2,   160.9,2,   90.28,2,   34.41,2,    0.00,2,    2.41,2,   0.055,2,   0.031,2,  -0.002,2,  -999.0,9,  -999.0,9,-999.000,9,-999.0000,9, -999.00,9, -999.00,9,  -999.0,9,  -999.0,-999.000,9,-999.000,-999.0000,9,  1995.1,-999.000,   2.3260,     -999.0,9,     -999.0,9,     -999.0,9,     -999.0,9,     -999.0,9,     -999.0,9,     -999.0,9, -999.00,9,-999.0000,9,-999.0000,9,-999.0000,9,-999.0000,9,-999.0000,9,-999.0000,9,-999.0000, -999.00
33RR20050106,       P16S,      60,          1,         13,         13,2,20050127,       0446,   -45.4983,  -149.9998,       5125,  2198.0,   2.2925,  34.6394,2,  34.6396,2,    157.5,2,   158.0,2,  100.61,2,   34.41,2,    0.00,2,    2.43,2,   0.051,2,   0.030,2,  -0.002,2,  -999.0,9,  -999.0,9,-999.000,9,-999.0000,9, -999.00,9, -999.00,9,  -999.0,9,  -999.0,-999.000,9,-999.000,-999.0000,9,  2198.0,-999.000,   2.1343,     -999.0,9,     -999.0,9,     -999.0,9,     -999.0,9,     -999.0,9,     -999.0,9,     -999.0,9, -999.00,9,-999.0000,9,-999.0000,9,-999.0000,9,-999.0000,9,-999.0000,9,-999.0000,9,-999.0000, -999.00
33RR20050106,       P16S,      60,          1,         12,         12,2,20050127,       0446,   -45.4983,  -149.9998,       5125,  2451.5,   2.1350,  34.6587,2,  34.6591,2,    156.7,2,   157.4,2,  107.84,2,   34.57,2,    0.00,2,    2.43,2,   0.012,2,   0.011,2,  -0.002,2,  -999.0,9,  -999.0,9,-999.000,9,-999.0000,9, -999.00,9, -999.00,9,  -999.0,9,  -999.0,-999.000,9,-999.000,-999.0000,9,  2451.5,-999.000,   1.9566,     -999.0,9,     -999.0,9,     -999.0,9,     -999.0,9,     -999.0,9,     -999.0,9,     -999.0,9, -999.00,9,-999.0000,9,-999.0000,9,-999.0000,9,-999.0000,9,-999.0000,9,-999.0000,9,-999.0000, -999.00
33RR20050106,       P16S,      60,          1,         11,         11,2,20050127,       0446,   -45.4983,  -149.9998,       5125,  2706.1,   2.0013,  34.6737,2,  34.6734,2,    159.1,2,   159.6,2,  112.40,2,   34.37,2,    0.00,2,    2.42,2,   0.005,2,   0.010,2,  -0.002,2,  -999.0,9,  -999.0,9,-999.000,9,-999.0000,9, -999.00,9, -999.00,9,  -999.0,9,  -999.0,-999.000,9,-999.000,-999.0000,9,  2706.1,-999.000,   1.8018,     -999.0,9,     -999.0,9,     -999.0,9,     -999.0,9,     -999.0,9,     -999.0,9,     -999.0,9, -999.00,9,-999.0000,9,-999.0000,9,-999.0000,9,-999.0000,9,-999.0000,9,-999.0000,9,-999.0000, -999.00
33RR20050106,       P16S,      60,          1,         10,         10,2,20050127,       0446,   -45.4983,  -149.9998,       5125,  2940.2,   1.9058,  34.6867,2,  34.6867,2,    164.0,2,   164.3,2,  113.02,2,   33.98,2,    0.00,2,    2.38,2,   0.005,2,   0.001,2,  -0.002,2,  -999.0,9,  -999.0,9,-999.000,9,-999.0000,9, -999.00,9, -999.00,9,  -999.0,9,  -999.0,-999.000,9,-999.000,-999.0000,9,  2940.2,-999.000,   1.6858,     -999.0,9,     -999.0,9,     -999.0,9,     -999.0,9,     -999.0,9,     -999.0,9,     -999.0,9, -999.00,9,-999.0000,9,-999.0000,9,-999.0000,9,-999.0000,9,-999.0000,9,-999.0000,9,-999.0000, -999.00
33RR20050106,       P16S,      60,          1,          9,          9,2,20050127,       0446,   -45.4983,  -149.9998,       5125,  3144.3,   1.8310,  34.7069,2,  34.7067,2,    176.0,2,  -999.0,5,  107.64,2,   32.94,2,    0.00,2,    2.29,2,   0.029,3,   0.022,3,  -0.002,2,  -999.0,9,  -999.0,9,-999.000,9,-999.0000,9, -999.00,9, -999.00,9,  -999.0,9,  -999.0,-999.000,9,-999.000,-999.0000,9,  3144.3,-999.000,   1.5925,     -999.0,9,     -999.0,9,     -999.0,9,     -999.0,9,     -999.0,9,     -999.0,9,     -999.0,9, -999.00,9,-999.0000,9,-999.0000,9,-999.0000,9,-999.0000,9,-999.0000,9,-999.0000,9,-999.0000, -999.00
33RR20050106,       P16S,      60,          1,          8,          8,2,20050127,       0446,   -45.4983,  -149.9998,       5125,  3348.1,   1.6928,  34.7086,2,  34.7089,2,    177.8,2,   179.0,2,  110.76,2,   32.89,2,    0.00,2,    2.29,2,-999.000,9,-999.000,9,-999.000,9,  -999.0,9,  -999.0,9,-999.000,9,-999.0000,9, -999.00,9, -999.00,9,  -999.0,9,  -999.0,-999.000,9,-999.000,-999.0000,9,  3348.1,-999.000,   1.4371,     -999.0,9,     -999.0,9,     -999.0,9,     -999.0,9,     -999.0,9,     -999.0,9,     -999.0,9, -999.00,9,-999.0000,9,-999.0000,9,-999.0000,9,-999.0000,9,-999.0000,9,-999.0000,9,-999.0000, -999.00
33RR20050106,       P16S,      60,          1,          7,          7,2,20050127,       0446,   -45.4983,  -149.9998,       5125,  3557.3,   1.6038,  34.7218,2,  34.7223,2,    187.2,2,   190.0,2,  106.41,2,   32.06,2,    0.00,2,    2.22,2,   0.005,2,   0.014,3,  -0.002,2,  -999.0,9,  -999.0,9,-999.000,9,-999.0000,9, -999.00,9, -999.00,9,  -999.0,9,  -999.0,-999.000,9,-999.000,-999.0000,9,  3557.3,-999.000,   1.3289,     -999.0,9,     -999.0,9,     -999.0,9,     -999.0,9,     -999.0,9,     -999.0,9,     -999.0,9, -999.00,9,-999.0000,9,-999.0000,9,-999.0000,9,-999.0000,9,-999.0000,9,-999.0000,9,-999.0000, -999.00