BOTTLE,20201109CCHSIOCBG
EXPOCODE,SECT_ID,STNNBR,CASTNO,SAMPNO,BTLNBR,BTLNBR_FLAG_W,DATE,TIME,LATITUDE,LONGITUDE,DEPTH,CTDPRS,CTDTMP,CTDSAL,CTDSAL_FLAG_W,SALNTY,SALNTY_FLAG_W,CTDOXY,CTDOXY_FLAG_W,OXYGEN,OXYGEN_FLAG_W,SILCAT,SILCAT_FLAG_W,NITRAT,NITRAT_FLAG_W,NITRIT,NITRIT_FLAG_W,PHSPHT,PHSPHT_FLAG_W,CFC-11,CFC-11_FLAG_W,CFC-12,CFC-12_FLAG_W,CFC113,CFC113_FLAG_W,TCARBN,TCARBN_FLAG_W,ALKALI,ALKALI_FLAG_W,TRITUM,TRITUM_FLAG_W,HELIUM,HELIUM_FLAG_W,DELHE3,DELHE3_FLAG_W,DELC13,DELC13_FLAG_W,DELC14,DELC14_FLAG_W,C14ERR,NEON,NEON_FLAG_W,NEONER,DOC,DOC_FLAG_W,CTDRAW,TRITER,THETA,FUCO,FUCO_FLAG_W,RHAM,RHAM_FLAG_W,ARABA,ARABA_FLAG_W,GALA,GALA_FLAG_W,GLUC,GLUC_FLAG_W,MAN,MAN_FLAG_W,DCNS,DCNS_FLAG_W,BRDU,BRDU_FLAG_W,CDOM325,CDOM325_FLAG_W,CDOM340,CDOM340_FLAG_W,CDOM380,CDOM380_FLAG_W,CDOM412,CDOM412_FLAG_W,CDOMSL,CDOMSL_FLAG_W,CDOMSN,CDOMSN_FLAG_W,HELIER,DELHER
,,,,,,,,,,,METERS,DBAR,ITS-90,PSS-78,,PSS-78,,UMOL/KG,,UMOL/KG,,UMOL/KG,,UMOL/KG,,UMOL/KG,,UMOL/KG,,PMOL/KG,,PMOL/KG,,PMOL/KG,,UMOL/KG,,UMOL/KG,,TU,,NMOL/KG,,PERCNT,,/MILLE,,/MILLE,,/MILLE,NMOL/KG,,NMOL/KG,UMOL/KG,,DBAR,TU,DEG C,NMOL/KG,,NMOL/KG,,NMOL/KG,,NMOL/KG,,NMOL/KG,,NMOL/KG,,NMOL/KG,,PMOL/L/H,,1/M,,1/M,,1/M,,1/M,,1/NM,,1/NM,,NMOL/KG,PERCNT
33RR20050106,       P16S,      52,          1,         36,         36,2,20050124,       2047,   -41.5003,  -149.9998,       5198,     2.6,  16.9574,  34.3966,2,  34.3974,2,    245.8,2,   246.3,2,    0.00,2,    0.72,2,    0.02,2,    0.26,2,   2.704,2,   1.658,2,   0.216,2,  2037.8,6,  2277.6,6,-999.000,9,-999.0000,9, -999.00,9, -999.00,9,  -999.0,9,  -999.0,-999.000,9,-999.000,-999.0000,9,     2.6,-999.000,  16.9570,     -999.0,9,     -999.0,9,     -999.0,9,     -999.0,9,     -999.0,9,     -999.0,9,     -999.0,9, -999.00,9,   0.0650,2,   0.0410,2,   0.0130,2,   0.0080,2,   0.0312,2,   0.0307,2,-999.0000, -999.00
33RR20050106,       P16S,      52,          1,         35,         35,2,20050124,       2047,   -41.5003,  -149.9998,       5198,    57.3,  12.3182,  34.4027,2,  34.4031,2,    280.6,2,   277.3,2,    0.22,2,    2.00,2,    0.06,2,    0.36,2,   3.397,2,   1.993,2,   0.263,2,  2051.7,2,  2276.9,2,-999.000,9,-999.0000,9, -999.00,9, -999.00,9,  -999.0,9,  -999.0,-999.000,9,-999.000,-999.0000,9,    57.3,-999.000,  12.3107,     -999.0,9,     -999.0,9,     -999.0,9,     -999.0,9,     -999.0,9,     -999.0,9,     -999.0,9, -999.00,9,   0.0940,2,   0.0640,2,   0.0290,2,   0.0190,2,   0.0225,2,   0.0235,2,-999.0000, -999.00
33RR20050106,       P16S,      52,          1,         34,         34,2,20050124,       2047,   -41.5003,  -149.9998,       5198,   107.6,  11.0348,  34.4129,2,  34.4122,2,    262.1,2,   264.0,2,    0.62,2,    5.03,2,    0.26,2,    0.57,2,   3.579,2,   2.104,2,   0.288,2,  2074.0,2,  2277.2,2,-999.000,9,-999.0000,9, -999.00,9, -999.00,9,  -999.0,9,  -999.0,-999.000,9,-999.000,-999.0000,9,   107.6,-999.000,  11.0216,     -999.0,9,     -999.0,9,     -999.0,9,     -999.0,9,     -999.0,9,     -999.0,9,     -999.0,9, -999.00,9,   0.0800,2,   0.0560,2,   0.0280,2,   0.0210,2,   0.0205,2,   0.0216,2,-999.0000, -999.00
33RR20050106,       P16S,      52,          1,         33,         33,2,20050124,       2047,   -41.5003,  -149.9998,       5198,   158.1,   9.4993,  34.4797,2,  34.4797,2,    243.7,2,   242.2,2,    2.02,2,   13.13,2,    0.05,2,    0.98,2,   3.809,2,   2.161,2,   0.267,2,  2110.9,2,  2278.8,2,-999.000,9,-999.0000,9, -999.00,9, -999.00,9,  -999.0,9,  -999.0,-999.000,9,-999.000,-999.0000,9,   158.1,-999.000,   9.4817,     -999.0,9,     -999.0,9,     -999.0,9,     -999.0,9,     -999.0,9,     -999.0,9,     -999.0,9, -999.00,9,   0.0920,2,   0.0640,2,   0.0350,2,   0.0280,2,   0.0150,2,   0.0173,2,-999.0000, -999.00
33RR20050106,       P16S,      52,          1,         32,         32,2,20050124,       2047,   -41.5003,  -149.9998,       5198,   208.4,   8.6492,  34.4953,2,  34.4948,2,    235.7,2,   237.8,2,    3.22,2,   16.31,2,    0.01,2,    1.16,2,   3.765,2,   2.044,2,   0.214,2,  2124.9,2,  2281.1,2,-999.000,9,-999.0000,9, -999.00,9, -999.00,9,  -999.0,9,  -999.0,-999.000,9,-999.000,-999.0000,9,   208.4,-999.000,   8.6272,     -999.0,9,     -999.0,9,     -999.0,9,     -999.0,9,     -999.0,9,     -999.0,9,     -999.0,9, -999.00,9,   0.0810,2,   0.0550,2,   0.0290,2,   0.0240,2,   0.0198,2,   0.0216,2,-999.0000, -999.00
33RR20050106,       P16S,      52,          1,         31,         31,2,20050124,       2047,   -41.5003,  -149.9998,       5198,   258.6,   8.1744,  34.4818,2,  34.4811,2,    240.0,2,   241.9,2,    4.02,2,   17.75,2,    0.01,2,    1.25,2,   3.832,6,   2.056,6,   0.240,6,  2128.7,2,  2280.4,2,-999.000,9,-999.0000,9, -999.00,9, -999.00,9,  -999.0,9,  -999.0,-999.000,9,-999.000,-999.0000,9,   258.6,-999.000,   8.1480,     -999.0,9,     -999.0,9,     -999.0,9,     -999.0,9,     -999.0,9,     -999.0,9,     -999.0,9, -999.00,9,   0.0800,2,   0.0540,2,   0.0290,2,   0.0230,2,   0.0199,2,   0.0217,2,-999.0000, -999.00
33RR20050106,       P16S,      52,          1,         30,         30,2,20050124,       2047,   -41.5003,  -149.9998,       5198,   308.9,   7.8504,  34.4604,2,  34.4593,2,    244.3,2,   247.9,2,    4.63,2,   18.46,2,    0.00,2,    1.29,2,   3.936,2,   2.067,2,   0.271,2,  2129.8,2,  2279.1,2,-999.000,9,-999.0000,9, -999.00,9, -999.00,9,  -999.0,9,  -999.0,-999.000,9,-999.000,-999.0000,9,   308.9,-999.000,   7.8195,     -999.0,9,     -999.0,9,     -999.0,9,     -999.0,9,     -999.0,9,     -999.0,9,     -999.0,9, -999.00,9,-999.0000,9,-999.0000,9,-999.0000,9,-999.0000,9,-999.0000,9,-999.0000,9,-999.0000, -999.00
33RR20050106,       P16S,      52,          1,         29,         29,2,20050124,       2047,   -41.5003,  -149.9998,       5198,   359.1,   7.6044,  34.4388,2,  34.4389,2,    248.4,2,   249.9,2,    5.03,2,   19.12,2,    0.00,2,    1.33,2,-999.000,9,-999.000,9,-999.000,9,  2132.0,2,  2280.4,2,-999.000,9,-999.0000,9, -999.00,9, -999.00,9,  -999.0,9,  -999.0,-999.000,9,-999.000,-999.0000,9,   359.1,-999.000,   7.5690,     -999.0,9,     -999.0,9,     -999.0,9,     -999.0,9,     -999.0,9,     -999.0,9,     -999.0,9, -999.00,9,-999.0000,9,-999.0000,9,-999.0000,9,-999.0000,9,-999.0000,9,-999.0000,9,-999.0000, -999.00
33RR20050106,       P16S,      52,          1,         28,         28,2,20050124,       2047,   -41.5003,  -149.9998,       5198,   409.3,   7.4344,  34.4233,2,  34.4214,2,    246.9,2,   250.8,2,    5.43,2,   19.83,2,    0.00,2,    1.38,2,   3.870,2,   2.052,2,   0.294,2,  2132.6,2,  2278.7,2,-999.000,9,-999.0000,9, -999.00,9, -999.00,9,  -999.0,9,  -999.0,-999.000,9,-999.000,-999.0000,9,   409.3,-999.000,   7.3945,     -999.0,9,     -999.0,9,     -999.0,9,     -999.0,9,     -999.0,9,     -999.0,9,     -999.0,9, -999.00,9,-999.0000,9,-999.0000,9,-999.0000,9,-999.0000,9,-999.0000,9,-999.0000,9,-999.0000, -999.00
33RR20050106,       P16S,      52,          1,         27,         27,2,20050124,       2047,   -41.5003,  -149.9998,       5198,   459.5,   7.2772,  34.4118,2,  34.4110,2,    245.3,2,   245.7,2,    5.83,2,   20.54,2,    0.00,2,    1.43,2,-999.000,9,-999.000,9,-999.000,9,  2134.7,2,  2278.9,2,-999.000,9,-999.0000,9, -999.00,9, -999.00,9,  -999.0,9,  -999.0,-999.000,9,-999.000,-999.0000,9,   459.5,-999.000,   7.2328,     -999.0,9,     -999.0,9,     -999.0,9,     -999.0,9,     -999.0,9,     -999.0,9,     -999.0,9, -999.00,9,-999.0000,9,-999.0000,9,-999.0000,9,-999.0000,9,-999.0000,9,-999.0000,9,-999.0000, -999.00
33RR20050106,       P16S,      52,          1,         26,         26,2,20050124,       2047,   -41.5003,  -149.9998,       5198,   509.9,   7.1259,  34.3993,2,  34.3991,2,    245.3,2,   245.6,2,    6.24,2,   21.09,2,    0.00,2,    1.46,2,   3.564,2,   1.814,2,   0.240,2,  2135.8,2,  2279.1,2,-999.000,9,-999.0000,9, -999.00,9, -999.00,9,  -999.0,9,  -999.0,-999.000,9,-999.000,-999.0000,9,   509.9,-999.000,   7.0770,     -999.0,9,     -999.0,9,     -999.0,9,     -999.0,9,     -999.0,9,     -999.0,9,     -999.0,9, -999.00,9,-999.0000,9,-999.0000,9,-999.0000,9,-999.0000,9,-999.0000,9,-999.0000,9,-999.0000, -999.00
33RR20050106,       P16S,      52,          1,         25,         25,2,20050124,       2047,   -41.5003,  -149.9998,       5198,   610.8,   6.8043,  34.3747,2,  34.3736,2,    247.4,2,   245.5,2,    7.45,2,   22.07,2,    0.00,2,    1.52,2,   3.209,2,   1.645,2,   0.204,2,  2137.8,2,  2279.9,2,-999.000,9,-999.0000,9, -999.00,9, -999.00,9,  -999.0,9,  -999.0,-999.000,9,-999.000,-999.0000,9,   610.8,-999.000,   6.7469,     -999.0,9,     -999.0,9,     -999.0,9,     -999.0,9,     -999.0,9,     -999.0,9,     -999.0,9, -999.00,9,-999.0000,9,-999.0000,9,-999.0000,9,-999.0000,9,-999.0000,9,-999.0000,9,-999.0000, -999.00
33RR20050106,       P16S,      52,          1,         24,         24,2,20050124,       2047,   -41.5003,  -149.9998,       5198,   711.3,   6.4477,  34.3489,2,  34.3490,2,    241.9,2,   240.2,2,    9.46,2,   23.46,2,    0.00,2,    1.62,2,   2.790,2,   1.427,2,   0.143,2,  2143.4,2,  2279.4,2,-999.000,9,-999.0000,9, -999.00,9, -999.00,9,  -999.0,9,  -999.0,-999.000,9,-999.000,-999.0000,9,   711.3,-999.000,   6.3823,     -999.0,9,     -999.0,9,     -999.0,9,     -999.0,9,     -999.0,9,     -999.0,9,     -999.0,9, -999.00,9,-999.0000,9,-999.0000,9,-999.0000,9,-999.0000,9,-999.0000,9,-999.0000,9,-999.0000, -999.00
33RR20050106,       P16S,      52,          1,         23,         23,2,20050124,       2047,   -41.5003,  -149.9998,       5198,   811.9,   5.9679,  34.3255,2,  34.3253,2,    230.8,2,   229.4,2,   13.09,2,   25.50,2,    0.00,2,    1.74,2,   2.359,2,   1.186,2,   0.136,2,  2154.7,2,  2282.6,2,-999.000,9,-999.0000,9, -999.00,9, -999.00,9,  -999.0,9,  -999.0,-999.000,9,-999.000,-999.0000,9,   811.9,-999.000,   5.8956,     -999.0,9,     -999.0,9,     -999.0,9,     -999.0,9,     -999.0,9,     -999.0,9,     -999.0,9, -999.00,9,-999.0000,9,-999.0000,9,-999.0000,9,-999.0000,9,-999.0000,9,-999.0000,9,-999.0000, -999.00
33RR20050106,       P16S,      52,          1,         22,         22,2,20050124,       2047,   -41.5003,  -149.9998,       5198,   912.8,   5.4535,  34.3239,2,  34.3229,2,    216.8,2,   216.1,2,   19.14,2,   27.83,2,    0.00,2,    1.90,2,   1.759,2,   0.891,2,   0.097,2,  2168.5,2,  2286.6,2,-999.000,9,-999.0000,9, -999.00,9, -999.00,9,  -999.0,9,  -999.0,-999.000,9,-999.000,-999.0000,9,   912.8,-999.000,   5.3751,     -999.0,9,     -999.0,9,     -999.0,9,     -999.0,9,     -999.0,9,     -999.0,9,     -999.0,9, -999.00,9,-999.0000,9,-999.0000,9,-999.0000,9,-999.0000,9,-999.0000,9,-999.0000,9,-999.0000, -999.00
33RR20050106,       P16S,      52,          1,         21,         21,2,20050124,       2047,   -41.5003,  -149.9998,       5198,  1013.7,   4.8561,  34.3299,2,  34.3296,2,    206.2,2,   206.3,2,   26.43,2,   29.78,2,    0.00,2,    2.05,2,   1.299,2,   0.657,2,   0.096,2,  2182.8,2,  2292.3,2,-999.000,9,-999.0000,9, -999.00,9, -999.00,9,  -999.0,9,  -999.0,-999.000,9,-999.000,-999.0000,9,  1013.7,-999.000,   4.7729,     -999.0,9,     -999.0,9,     -999.0,9,     -999.0,9,     -999.0,9,     -999.0,9,     -999.0,9, -999.00,9,-999.0000,9,-999.0000,9,-999.0000,9,-999.0000,9,-999.0000,9,-999.0000,9,-999.0000, -999.00
33RR20050106,       P16S,      52,          1,         20,         20,2,20050124,       2047,   -41.5003,  -149.9998,       5198,  1114.7,   4.3214,  34.3416,2,  34.3416,2,    198.6,2,   199.4,2,   33.73,2,   31.28,2,    0.00,2,    2.14,2,   0.932,2,   0.445,2,   0.051,2,  2196.0,2,  2297.3,2,-999.000,9,-999.0000,9, -999.00,9, -999.00,9,  -999.0,9,  -999.0,-999.000,9,-999.000,-999.0000,9,  1114.7,-999.000,   4.2336,     -999.0,9,     -999.0,9,     -999.0,9,     -999.0,9,     -999.0,9,     -999.0,9,     -999.0,9, -999.00,9,-999.0000,9,-999.0000,9,-999.0000,9,-999.0000,9,-999.0000,9,-999.0000,9,-999.0000, -999.00
33RR20050106,       P16S,      52,          1,         19,         19,2,20050124,       2047,   -41.5003,  -149.9998,       5198,  1215.1,   3.8008,  34.3683,2,  34.3689,2,    192.9,2,   193.7,2,   42.68,2,   32.44,2,    0.00,2,    2.23,2,   0.843,2,   0.412,2,   0.059,2,  2210.6,2,  2306.2,2,-999.000,9,-999.0000,9, -999.00,9, -999.00,9,  -999.0,9,  -999.0,-999.000,9,-999.000,-999.0000,9,  1215.1,-999.000,   3.7090,     -999.0,9,     -999.0,9,     -999.0,9,     -999.0,9,     -999.0,9,     -999.0,9,     -999.0,9, -999.00,9,-999.0000,9,-999.0000,9,-999.0000,9,-999.0000,9,-999.0000,9,-999.0000,9,-999.0000, -999.00
33RR20050106,       P16S,      52,          1,         18,         18,2,20050124,       2047,   -41.5003,  -149.9998,       5198,  1316.7,   3.4520,  34.3985,2,  34.3977,2,    187.0,2,   187.5,2,   50.02,2,   33.21,2,    0.00,2,    2.29,2,-999.000,9,-999.000,9,-999.000,9,  2221.0,6,  2313.2,2,-999.000,9,-999.0000,9, -999.00,9, -999.00,9,  -999.0,9,  -999.0,-999.000,9,-999.000,-999.0000,9,  1316.7,-999.000,   3.3550,     -999.0,9,     -999.0,9,     -999.0,9,     -999.0,9,     -999.0,9,     -999.0,9,     -999.0,9, -999.00,9,-999.0000,9,-999.0000,9,-999.0000,9,-999.0000,9,-999.0000,9,-999.0000,9,-999.0000, -999.00
33RR20050106,       P16S,      52,          1,         17,         17,2,20050124,       2047,   -41.5003,  -149.9998,       5198,  1417.7,   3.1967,  34.4422,2,  34.4409,2,    177.7,2,   179.2,2,   58.39,2,   34.15,2,    0.00,2,    2.34,2,   0.392,2,   0.194,2,   0.025,2,  -999.0,9,  -999.0,9,-999.000,9,-999.0000,9, -999.00,9, -999.00,9,  -999.0,9,  -999.0,-999.000,9,-999.000,-999.0000,9,  1417.7,-999.000,   3.0938,     -999.0,9,     -999.0,9,     -999.0,9,     -999.0,9,     -999.0,9,     -999.0,9,     -999.0,9, -999.00,9,-999.0000,9,-999.0000,9,-999.0000,9,-999.0000,9,-999.0000,9,-999.0000,9,-999.0000, -999.00
33RR20050106,       P16S,      52,          1,         16,         16,2,20050124,       2047,   -41.5003,  -149.9998,       5198,  1518.8,   2.9762,  34.4928,2,  34.4926,2,    170.1,2,   171.8,2,   68.23,2,   34.47,2,    0.00,2,    2.39,2,-999.000,9,-999.000,9,-999.000,9,  -999.0,9,  -999.0,9,-999.000,9,-999.0000,9, -999.00,9, -999.00,9,  -999.0,9,  -999.0,-999.000,9,-999.000,-999.0000,9,  1518.8,-999.000,   2.8673,     -999.0,9,     -999.0,9,     -999.0,9,     -999.0,9,     -999.0,9,     -999.0,9,     -999.0,9, -999.00,9,-999.0000,9,-999.0000,9,-999.0000,9,-999.0000,9,-999.0000,9,-999.0000,9,-999.0000, -999.00
33RR20050106,       P16S,      52,          1,         15,         15,2,20050124,       2047,   -41.5003,  -149.9998,       5198,  1619.8,   2.8309,  34.5295,2,  34.5289,2,    165.5,2,   166.5,2,   75.40,2,   34.73,2,    0.00,2,    2.40,2,   0.138,2,   0.068,2,   0.014,2,  -999.0,9,  -999.0,9,-999.000,9,-999.0000,9, -999.00,9, -999.00,9,  -999.0,9,  -999.0,-999.000,9,-999.000,-999.0000,9,  1619.8,-999.000,   2.7152,     -999.0,9,     -999.0,9,     -999.0,9,     -999.0,9,     -999.0,9,     -999.0,9,     -999.0,9, -999.00,9,-999.0000,9,-999.0000,9,-999.0000,9,-999.0000,9,-999.0000,9,-999.0000,9,-999.0000, -999.00
33RR20050106,       P16S,      52,          1,         14,         14,2,20050124,       2047,   -41.5003,  -149.9998,       5198,  1822.6,   2.6082,  34.5844,2,  34.5837,2,    158.7,2,   159.8,2,   89.18,2,   35.11,2,    0.00,2,    2.43,2,   0.039,2,   0.030,2,   0.016,2,  -999.0,9,  -999.0,9,-999.000,9,-999.0000,9, -999.00,9, -999.00,9,  -999.0,9,  -999.0,-999.000,9,-999.000,-999.0000,9,  1822.6,-999.000,   2.4781,     -999.0,9,     -999.0,9,     -999.0,9,     -999.0,9,     -999.0,9,     -999.0,9,     -999.0,9, -999.00,9,-999.0000,9,-999.0000,9,-999.0000,9,-999.0000,9,-999.0000,9,-999.0000,9,-999.0000, -999.00
33RR20050106,       P16S,      52,          1,         13,         13,2,20050124,       2047,   -41.5003,  -149.9998,       5198,  2024.9,   2.4016,  34.6188,2,  34.6193,2,    153.5,2,   154.2,2,  102.18,2,   35.37,2,    0.00,2,    2.46,2,   0.010,2,   0.015,2,   0.017,2,  -999.0,9,  -999.0,9,-999.000,9,-999.0000,9, -999.00,9, -999.00,9,  -999.0,9,  -999.0,-999.000,9,-999.000,-999.0000,9,  2024.9,-999.000,   2.2569,     -999.0,9,     -999.0,9,     -999.0,9,     -999.0,9,     -999.0,9,     -999.0,9,     -999.0,9, -999.00,9,-999.0000,9,-999.0000,9,-999.0000,9,-999.0000,9,-999.0000,9,-999.0000,9,-999.0000, -999.00
33RR20050106,       P16S,      52,          1,         12,         12,2,20050124,       2047,   -41.5003,  -149.9998,       5198,  2278.5,   2.2301,  34.6397,2,  34.6397,2,    152.2,2,   152.7,2,  110.02,2,   35.58,2,    0.00,2,    2.47,2,   0.075,3,   0.041,3,   0.002,2,  -999.0,9,  -999.0,9,-999.000,9,-999.0000,9, -999.00,9, -999.00,9,  -999.0,9,  -999.0,-999.000,9,-999.000,-999.0000,9,  2278.5,-999.000,   2.0657,     -999.0,9,     -999.0,9,     -999.0,9,     -999.0,9,     -999.0,9,     -999.0,9,     -999.0,9, -999.00,9,-999.0000,9,-999.0000,9,-999.0000,9,-999.0000,9,-999.0000,9,-999.0000,9,-999.0000, -999.00
33RR20050106,       P16S,      52,          1,         11,         11,2,20050124,       2047,   -41.5003,  -149.9998,       5198,  2532.7,   2.0728,  34.6572,2,  34.6570,2,    153.3,2,   153.6,2,  114.78,2,   35.56,2,    0.00,2,    2.47,2,   0.003,2,   0.006,2,   0.002,2,  -999.0,9,  -999.0,9,-999.000,9,-999.0000,9, -999.00,9, -999.00,9,  -999.0,9,  -999.0,-999.000,9,-999.000,-999.0000,9,  2532.7,-999.000,   1.8881,     -999.0,9,     -999.0,9,     -999.0,9,     -999.0,9,     -999.0,9,     -999.0,9,     -999.0,9, -999.00,9,-999.0000,9,-999.0000,9,-999.0000,9,-999.0000,9,-999.0000,9,-999.0000,9,-999.0000, -999.00
33RR20050106,       P16S,      52,          1,         10,         10,2,20050124,       2047,   -41.5003,  -149.9998,       5198,  2786.5,   1.9536,  34.6732,2,  34.6727,2,    157.8,2,   158.1,2,  116.64,2,   35.09,2,    0.00,2,    2.44,2,   0.013,2,   0.013,2,   0.002,2,  -999.0,9,  -999.0,9,-999.000,9,-999.0000,9, -999.00,9, -999.00,9,  -999.0,9,  -999.0,-999.000,9,-999.000,-999.0000,9,  2786.5,-999.000,   1.7474,     -999.0,9,     -999.0,9,     -999.0,9,     -999.0,9,     -999.0,9,     -999.0,9,     -999.0,9, -999.00,9,-999.0000,9,-999.0000,9,-999.0000,9,-999.0000,9,-999.0000,9,-999.0000,9,-999.0000, -999.00
33RR20050106,       P16S,      52,          1,          9,          9,2,20050124,       2047,   -41.5003,  -149.9998,       5198,  3041.8,   1.8246,  34.6892,2,  34.6910,4,    164.7,2,   165.6,2,  117.05,2,   34.46,2,    0.00,2,    2.38,2,   0.011,2,   0.008,2,   0.002,2,  -999.0,9,  -999.0,9,-999.000,9,-999.0000,9, -999.00,9, -999.00,9,  -999.0,9,  -999.0,-999.000,9,-999.000,-999.0000,9,  3041.8,-999.000,   1.5965,     -999.0,9,     -999.0,9,     -999.0,9,     -999.0,9,     -999.0,9,     -999.0,9,     -999.0,9, -999.00,9,-999.0000,9,-999.0000,9,-999.0000,9,-999.0000,9,-999.0000,9,-999.0000,9,-999.0000, -999.00
33RR20050106,       P16S,      52,          1,          8,          8,2,20050124,       2047,   -41.5003,  -149.9998,       5198,  3296.6,   1.7086,  34.7060,2,  34.7054,2,    176.1,2,   177.3,2,  111.87,2,   33.37,2,    0.00,2,    2.31,2,   0.013,2,   0.011,2,   0.002,2,  -999.0,9,  -999.0,9,-999.000,9,-999.0000,9, -999.00,9, -999.00,9,  -999.0,9,  -999.0,-999.000,9,-999.000,-999.0000,9,  3296.6,-999.000,   1.4578,     -999.0,9,     -999.0,9,     -999.0,9,     -999.0,9,     -999.0,9,     -999.0,9,     -999.0,9, -999.00,9,-999.0000,9,-999.0000,9,-999.0000,9,-999.0000,9,-999.0000,9,-999.0000,9,-999.0000, -999.00
33RR20050106,       P16S,      52,          1,          7,          7,2,20050124,       2047,   -41.5003,  -149.9998,       5198,  3551.7,   1.5553,  34.7161,2,  34.7166,2,    186.0,3,   188.1,2,  109.80,2,   32.57,2,    0.00,2,    2.24,2,   0.007,2,   0.007,2,   0.002,2,  -999.0,9,  -999.0,9,-999.000,9,-999.0000,9, -999.00,9, -999.00,9,  -999.0,9,  -999.0,-999.000,9,-999.000,-999.0000,9,  3551.7,-999.000,   1.2822,     -999.0,9,     -999.0,9,     -999.0,9,     -999.0,9,     -999.0,9,     -999.0,9,     -999.0,9, -999.00,9,-999.0000,9,-999.0000,9,-999.0000,9,-999.0000,9,-999.0000,9,-999.0000,9,-999.0000, -999.00