BOTTLE,20201109CCHSIOCBG
EXPOCODE,SECT_ID,STNNBR,CASTNO,SAMPNO,BTLNBR,BTLNBR_FLAG_W,DATE,TIME,LATITUDE,LONGITUDE,DEPTH,CTDPRS,CTDTMP,CTDSAL,CTDSAL_FLAG_W,SALNTY,SALNTY_FLAG_W,CTDOXY,CTDOXY_FLAG_W,OXYGEN,OXYGEN_FLAG_W,SILCAT,SILCAT_FLAG_W,NITRAT,NITRAT_FLAG_W,NITRIT,NITRIT_FLAG_W,PHSPHT,PHSPHT_FLAG_W,CFC-11,CFC-11_FLAG_W,CFC-12,CFC-12_FLAG_W,CFC113,CFC113_FLAG_W,TCARBN,TCARBN_FLAG_W,ALKALI,ALKALI_FLAG_W,TRITUM,TRITUM_FLAG_W,HELIUM,HELIUM_FLAG_W,DELHE3,DELHE3_FLAG_W,DELC13,DELC13_FLAG_W,DELC14,DELC14_FLAG_W,C14ERR,NEON,NEON_FLAG_W,NEONER,DOC,DOC_FLAG_W,CTDRAW,TRITER,THETA,FUCO,FUCO_FLAG_W,RHAM,RHAM_FLAG_W,ARABA,ARABA_FLAG_W,GALA,GALA_FLAG_W,GLUC,GLUC_FLAG_W,MAN,MAN_FLAG_W,DCNS,DCNS_FLAG_W,BRDU,BRDU_FLAG_W,CDOM325,CDOM325_FLAG_W,CDOM340,CDOM340_FLAG_W,CDOM380,CDOM380_FLAG_W,CDOM412,CDOM412_FLAG_W,CDOMSL,CDOMSL_FLAG_W,CDOMSN,CDOMSN_FLAG_W,HELIER,DELHER
,,,,,,,,,,,METERS,DBAR,ITS-90,PSS-78,,PSS-78,,UMOL/KG,,UMOL/KG,,UMOL/KG,,UMOL/KG,,UMOL/KG,,UMOL/KG,,PMOL/KG,,PMOL/KG,,PMOL/KG,,UMOL/KG,,UMOL/KG,,TU,,NMOL/KG,,PERCNT,,/MILLE,,/MILLE,,/MILLE,NMOL/KG,,NMOL/KG,UMOL/KG,,DBAR,TU,DEG C,NMOL/KG,,NMOL/KG,,NMOL/KG,,NMOL/KG,,NMOL/KG,,NMOL/KG,,NMOL/KG,,PMOL/L/H,,1/M,,1/M,,1/M,,1/M,,1/NM,,1/NM,,NMOL/KG,PERCNT
33RR20050106,       P16S,      28,          1,         36,         36,2,20050117,       1953,   -29.5000,  -150.0000,       4174,     5.8,  24.9097,  35.4955,2,  35.4953,2,    209.2,2,   209.2,2,    0.48,2,    0.11,2,    0.00,2,    0.10,2,   1.896,2,   1.151,2,   0.183,2,  2011.6,2,  2334.5,6,-999.000,9,-999.0000,9, -999.00,9, -999.00,9,  -999.0,9,  -999.0,-999.000,9,-999.000,-999.0000,9,     5.8,-999.000,  24.9084,     -999.0,9,     -999.0,9,     -999.0,9,     -999.0,9,     -999.0,9,     -999.0,9,     -999.0,9, -999.00,9,   0.0100,3,   0.0020,3,  -0.0060,4,  -0.0060,4,-999.0000,9,-999.0000,9,-999.0000, -999.00
33RR20050106,       P16S,      28,          1,         35,         35,2,20050117,       1953,   -29.5000,  -150.0000,       4174,    40.8,  22.1683,  35.5741,2,  35.5625,2,    220.7,2,   221.3,2,    0.49,2,    0.11,2,    0.00,2,    0.10,2,   2.132,2,   1.283,2,   0.210,2,  2020.4,2,  2333.9,2,-999.000,9,-999.0000,9, -999.00,9, -999.00,9,  -999.0,9,  -999.0,-999.000,9,-999.000,-999.0000,9,    40.8,-999.000,  22.1602,     -999.0,9,     -999.0,9,     -999.0,9,     -999.0,9,     -999.0,9,     -999.0,9,     -999.0,9, -999.00,9,   0.0190,3,   0.0060,3,  -0.0040,4,  -0.0050,4,-999.0000,9,-999.0000,9,-999.0000, -999.00
33RR20050106,       P16S,      28,          1,         34,         34,2,20050117,       1953,   -29.5000,  -150.0000,       4174,    91.6,  20.0300,  35.5843,2,  35.5838,2,    228.4,2,   228.4,2,    0.49,2,    0.11,2,    0.00,2,    0.10,2,   2.331,2,   1.386,2,   0.227,2,  2032.6,2,  2334.2,2,-999.000,9,-999.0000,9, -999.00,9, -999.00,9,  -999.0,9,  -999.0,-999.000,9,-999.000,-999.0000,9,    91.6,-999.000,  20.0130,     -999.0,9,     -999.0,9,     -999.0,9,     -999.0,9,     -999.0,9,     -999.0,9,     -999.0,9, -999.00,9,   0.0460,2,   0.0260,2,   0.0050,3,   0.0000,4,   0.0373,2,   0.0370,2,-999.0000, -999.00
33RR20050106,       P16S,      28,          1,         33,         33,2,20050117,       1953,   -29.5000,  -150.0000,       4174,   143.1,  19.0716,  35.5306,2,  35.5316,2,    222.2,2,   221.8,2,    0.50,2,    0.05,2,    0.00,2,    0.11,2,   2.408,6,   1.439,6,   0.182,6,  2042.4,2,  2329.8,2,-999.000,9,-999.0000,9, -999.00,9, -999.00,9,  -999.0,9,  -999.0,-999.000,9,-999.000,-999.0000,9,   143.1,-999.000,  19.0460,     -999.0,9,     -999.0,9,     -999.0,9,     -999.0,9,     -999.0,9,     -999.0,9,     -999.0,9, -999.00,9,   0.0610,2,   0.0380,2,   0.0120,2,   0.0070,2,   0.0318,2,   0.0316,2,-999.0000, -999.00
33RR20050106,       P16S,      28,          1,         32,         32,2,20050117,       1953,   -29.5000,  -150.0000,       4174,   193.8,  17.8690,  35.4663,2,  35.4688,2,    217.7,2,   214.8,2,    0.70,2,    0.92,2,    0.08,2,    0.20,2,   2.512,2,   1.475,2,   0.162,2,  -999.0,9,  -999.0,9,-999.000,9,-999.0000,9, -999.00,9, -999.00,9,  -999.0,9,  -999.0,-999.000,9,-999.000,-999.0000,9,   193.8,-999.000,  17.8358,     -999.0,9,     -999.0,9,     -999.0,9,     -999.0,9,     -999.0,9,     -999.0,9,     -999.0,9, -999.00,9,   0.0620,2,   0.0400,2,   0.0140,2,   0.0080,2,   0.0292,2,   0.0291,2,-999.0000, -999.00
33RR20050106,       P16S,      28,          1,         31,         31,2,20050117,       1953,   -29.5000,  -150.0000,       4174,   244.6,  16.3086,  35.3135,2,  35.3117,2,    205.3,2,   203.7,2,    0.92,2,    3.68,2,    0.01,2,    0.38,2,   2.620,2,   1.500,2,   0.068,2,  2078.7,2,  2316.3,2,-999.000,9,-999.0000,9, -999.00,9, -999.00,9,  -999.0,9,  -999.0,-999.000,9,-999.000,-999.0000,9,   244.6,-999.000,  16.2692,     -999.0,9,     -999.0,9,     -999.0,9,     -999.0,9,     -999.0,9,     -999.0,9,     -999.0,9, -999.00,9,   0.0700,2,   0.0450,2,   0.0170,2,   0.0110,2,   0.0284,2,   0.0286,2,-999.0000, -999.00
33RR20050106,       P16S,      28,          1,         30,         30,2,20050117,       1953,   -29.5000,  -150.0000,       4174,   295.5,  14.8292,  35.1607,2,-999.0000,9,    203.0,2,   202.8,2,    1.53,2,    6.38,2,    0.00,2,    0.56,2,   2.695,2,   1.510,2,   0.068,2,  -999.0,9,  -999.0,9,-999.000,9,-999.0000,9, -999.00,9, -999.00,9,  -999.0,9,  -999.0,-999.000,9,-999.000,-999.0000,9,   295.5,-999.000,  14.7846,     -999.0,9,     -999.0,9,     -999.0,9,     -999.0,9,     -999.0,9,     -999.0,9,     -999.0,9, -999.00,9,-999.0000,9,-999.0000,9,-999.0000,9,-999.0000,9,-999.0000,9,-999.0000,9,-999.0000, -999.00
33RR20050106,       P16S,      28,          1,         29,         29,2,20050117,       1953,   -29.5000,  -150.0000,       4174,   346.6,  12.9281,  34.9369,2,-999.0000,9,    202.2,2,   201.9,2,    2.13,2,    9.77,2,    0.00,2,    0.77,2,   2.705,2,   1.446,2,   0.077,2,  2103.9,2,  2299.0,2,-999.000,9,-999.0000,9, -999.00,9, -999.00,9,  -999.0,9,  -999.0,-999.000,9,-999.000,-999.0000,9,   346.6,-999.000,  12.8804,     -999.0,9,     -999.0,9,     -999.0,9,     -999.0,9,     -999.0,9,     -999.0,9,     -999.0,9, -999.00,9,-999.0000,9,-999.0000,9,-999.0000,9,-999.0000,9,-999.0000,9,-999.0000,9,-999.0000, -999.00
33RR20050106,       P16S,      28,          1,         28,         28,2,20050117,       1953,   -29.5000,  -150.0000,       4174,   397.7,  11.7588,  34.8603,2,-999.0000,9,    203.8,2,   204.6,2,    2.93,2,   12.48,2,    0.00,2,    0.93,2,   2.852,2,   1.511,2,   0.110,2,  -999.0,9,  -999.0,9,-999.000,9,-999.0000,9, -999.00,9, -999.00,9,  -999.0,9,  -999.0,-999.000,9,-999.000,-999.0000,9,   397.7,-999.000,  11.7072,     -999.0,9,     -999.0,9,     -999.0,9,     -999.0,9,     -999.0,9,     -999.0,9,     -999.0,9, -999.00,9,-999.0000,9,-999.0000,9,-999.0000,9,-999.0000,9,-999.0000,9,-999.0000,9,-999.0000, -999.00
33RR20050106,       P16S,      28,          1,         27,         27,2,20050117,       1953,   -29.5000,  -150.0000,       4174,   448.7,   9.9802,  34.6603,2,-999.0000,9,    210.6,2,   212.2,2,    3.75,2,   15.62,2,    0.00,2,    1.13,2,   2.944,2,   1.498,2,   0.124,2,  2125.4,2,  2287.9,2,-999.000,9,-999.0000,9, -999.00,9, -999.00,9,  -999.0,9,  -999.0,-999.000,9,-999.000,-999.0000,9,   448.7,-999.000,   9.9277,     -999.0,9,     -999.0,9,     -999.0,9,     -999.0,9,     -999.0,9,     -999.0,9,     -999.0,9, -999.00,9,-999.0000,9,-999.0000,9,-999.0000,9,-999.0000,9,-999.0000,9,-999.0000,9,-999.0000, -999.00
33RR20050106,       P16S,      28,          1,         26,         26,2,20050117,       1953,   -29.5000,  -150.0000,       4174,   499.6,   8.9124,  34.5385,2,-999.0000,9,    215.7,2,   216.7,2,    4.75,2,   18.30,2,    0.00,2,    1.31,2,   2.795,2,   1.423,2,   0.118,2,  -999.0,9,  -999.0,9,-999.000,9,-999.0000,9, -999.00,9, -999.00,9,  -999.0,9,  -999.0,-999.000,9,-999.000,-999.0000,9,   499.6,-999.000,   8.8578,     -999.0,9,     -999.0,9,     -999.0,9,     -999.0,9,     -999.0,9,     -999.0,9,     -999.0,9, -999.00,9,-999.0000,9,-999.0000,9,-999.0000,9,-999.0000,9,-999.0000,9,-999.0000,9,-999.0000, -999.00
33RR20050106,       P16S,      28,          1,         25,         25,2,20050117,       1953,   -29.5000,  -150.0000,       4174,   550.7,   7.8861,  34.4371,2,  34.4366,2,    223.1,2,   223.3,2,    5.97,2,   20.60,2,    0.00,2,    1.46,2,   2.600,2,   1.298,2,   0.102,2,  2136.6,2,  2279.4,2,-999.000,9,-999.0000,9, -999.00,9, -999.00,9,  -999.0,9,  -999.0,-999.000,9,-999.000,-999.0000,9,   550.7,-999.000,   7.8300,     -999.0,9,     -999.0,9,     -999.0,9,     -999.0,9,     -999.0,9,     -999.0,9,     -999.0,9, -999.00,9,-999.0000,9,-999.0000,9,-999.0000,9,-999.0000,9,-999.0000,9,-999.0000,9,-999.0000, -999.00
33RR20050106,       P16S,      28,          1,         24,         24,2,20050117,       1953,   -29.5000,  -150.0000,       4174,   653.0,   6.8079,  34.3671,2,  34.3674,2,    231.6,2,   235.0,2,    7.78,2,   22.79,2,    0.00,2,    1.59,2,   2.304,2,   1.158,2,   0.081,2,  2140.7,2,  2279.7,2,-999.000,9,-999.0000,9, -999.00,9, -999.00,9,  -999.0,9,  -999.0,-999.000,9,-999.000,-999.0000,9,   653.0,-999.000,   6.7463,     -999.0,9,     -999.0,9,     -999.0,9,     -999.0,9,     -999.0,9,     -999.0,9,     -999.0,9, -999.00,9,-999.0000,9,-999.0000,9,-999.0000,9,-999.0000,9,-999.0000,9,-999.0000,9,-999.0000, -999.00
33RR20050106,       P16S,      28,          1,         23,         23,2,20050117,       1953,   -29.5000,  -150.0000,       4174,   755.1,   6.0919,  34.3319,2,  34.3317,2,    232.8,2,   233.3,2,   11.00,2,   24.79,2,    0.00,2,    1.72,2,   1.619,2,   0.777,2,   0.053,2,  -999.0,9,  -999.0,9,-999.000,9,-999.0000,9, -999.00,9, -999.00,9,  -999.0,9,  -999.0,-999.000,9,-999.000,-999.0000,9,   755.1,-999.000,   6.0243,     -999.0,9,     -999.0,9,     -999.0,9,     -999.0,9,     -999.0,9,     -999.0,9,     -999.0,9, -999.00,9,-999.0000,9,-999.0000,9,-999.0000,9,-999.0000,9,-999.0000,9,-999.0000,9,-999.0000, -999.00
33RR20050106,       P16S,      28,          1,         22,         22,2,20050117,       1953,   -29.5000,  -150.0000,       4174,   857.4,   5.5401,  34.3150,2,  34.3155,2,    224.2,2,   223.7,2,   15.63,2,   26.83,2,    0.00,2,    1.87,2,   1.022,2,   0.542,2,   0.038,2,  2159.7,2,  2284.1,2,-999.000,9,-999.0000,9, -999.00,9, -999.00,9,  -999.0,9,  -999.0,-999.000,9,-999.000,-999.0000,9,   857.4,-999.000,   5.4663,     -999.0,9,     -999.0,9,     -999.0,9,     -999.0,9,     -999.0,9,     -999.0,9,     -999.0,9, -999.00,9,-999.0000,9,-999.0000,9,-999.0000,9,-999.0000,9,-999.0000,9,-999.0000,9,-999.0000, -999.00
33RR20050106,       P16S,      28,          1,         21,         21,2,20050117,       1953,   -29.5000,  -150.0000,       4174,   960.0,   4.9377,  34.3193,2,  34.3194,2,    209.5,2,   209.1,2,   23.69,2,   29.33,2,    0.00,2,    2.05,2,   0.585,2,   0.324,2,   0.063,2,  -999.0,9,  -999.0,9,-999.000,9,-999.0000,9, -999.00,9, -999.00,9,  -999.0,9,  -999.0,-999.000,9,-999.000,-999.0000,9,   960.0,-999.000,   4.8587,     -999.0,9,     -999.0,9,     -999.0,9,     -999.0,9,     -999.0,9,     -999.0,9,     -999.0,9, -999.00,9,-999.0000,9,-999.0000,9,-999.0000,9,-999.0000,9,-999.0000,9,-999.0000,9,-999.0000, -999.00
33RR20050106,       P16S,      28,          1,         20,         20,2,20050117,       1953,   -29.5000,  -150.0000,       4174,  1062.0,   4.3882,  34.3438,2,  34.3433,2,    194.4,2,   194.8,2,   33.60,2,   31.38,2,    0.00,2,    2.20,2,   0.296,2,   0.160,2,   0.001,2,  2197.4,6,  2298.7,2,-999.000,9,-999.0000,9, -999.00,9, -999.00,9,  -999.0,9,  -999.0,-999.000,9,-999.000,-999.0000,9,  1062.0,-999.000,   4.3045,     -999.0,9,     -999.0,9,     -999.0,9,     -999.0,9,     -999.0,9,     -999.0,9,     -999.0,9, -999.00,9,-999.0000,9,-999.0000,9,-999.0000,9,-999.0000,9,-999.0000,9,-999.0000,9,-999.0000, -999.00
33RR20050106,       P16S,      28,          1,         19,         19,2,20050117,       1953,   -29.5000,  -150.0000,       4174,  1164.6,   3.8922,  34.3834,2,  34.3831,2,    182.0,2,   182.4,2,   44.77,2,   32.91,2,    0.00,2,    2.32,2,   0.137,2,   0.090,2,   0.001,2,  -999.0,9,  -999.0,9,-999.000,9,-999.0000,9, -999.00,9, -999.00,9,  -999.0,9,  -999.0,-999.000,9,-999.000,-999.0000,9,  1164.6,-999.000,   3.8038,     -999.0,9,     -999.0,9,     -999.0,9,     -999.0,9,     -999.0,9,     -999.0,9,     -999.0,9, -999.00,9,-999.0000,9,-999.0000,9,-999.0000,9,-999.0000,9,-999.0000,9,-999.0000,9,-999.0000, -999.00
33RR20050106,       P16S,      28,          1,         18,         18,2,20050117,       1953,   -29.5000,  -150.0000,       4174,  1267.1,   3.4539,  34.4256,2,  34.4264,2,    175.2,2,   176.1,2,   54.13,4,   32.51,4,    0.00,4,    2.33,4,-999.000,9,-999.000,9,-999.000,9,  -999.0,9,  -999.0,9,-999.000,9,-999.0000,9, -999.00,9, -999.00,9,  -999.0,9,  -999.0,-999.000,9,-999.000,-999.0000,9,  1267.1,-999.000,   3.3610,     -999.0,9,     -999.0,9,     -999.0,9,     -999.0,9,     -999.0,9,     -999.0,9,     -999.0,9, -999.00,9,-999.0000,9,-999.0000,9,-999.0000,9,-999.0000,9,-999.0000,9,-999.0000,9,-999.0000, -999.00
33RR20050106,       P16S,      28,          1,         17,         17,2,20050117,       1953,   -29.5000,  -150.0000,       4174,  1369.4,   3.1149,  34.4780,2,  34.4779,2,    168.0,2,   168.2,2,   67.60,2,   34.43,2,    0.00,2,    2.42,2,   0.031,2,   0.023,2,   0.001,2,  -999.0,9,  -999.0,9,-999.000,9,-999.0000,9, -999.00,9, -999.00,9,  -999.0,9,  -999.0,-999.000,9,-999.000,-999.0000,9,  1369.4,-999.000,   3.0168,     -999.0,9,     -999.0,9,     -999.0,9,     -999.0,9,     -999.0,9,     -999.0,9,     -999.0,9, -999.00,9,-999.0000,9,-999.0000,9,-999.0000,9,-999.0000,9,-999.0000,9,-999.0000,9,-999.0000, -999.00
33RR20050106,       P16S,      28,          1,         16,         16,2,20050117,       1953,   -29.5000,  -150.0000,       4174,  1471.9,   2.9160,  34.5122,2,  34.5130,2,    163.0,2,   163.7,2,   76.20,2,   34.69,2,    0.00,2,    2.45,2,-999.000,9,-999.000,9,-999.000,9,  -999.0,9,  -999.0,9,-999.000,9,-999.0000,9, -999.00,9, -999.00,9,  -999.0,9,  -999.0,-999.000,9,-999.000,-999.0000,9,  1471.9,-999.000,   2.8116,     -999.0,9,     -999.0,9,     -999.0,9,     -999.0,9,     -999.0,9,     -999.0,9,     -999.0,9, -999.00,9,-999.0000,9,-999.0000,9,-999.0000,9,-999.0000,9,-999.0000,9,-999.0000,9,-999.0000, -999.00
33RR20050106,       P16S,      28,          1,         15,         15,2,20050117,       1953,   -29.5000,  -150.0000,       4174,  1574.5,   2.7113,  34.5465,2,  34.5456,2,    159.9,2,   159.9,2,   85.22,2,   34.92,2,    0.00,2,    2.48,2,   0.046,3,   0.030,3,   0.001,2,  -999.0,9,  -999.0,9,-999.000,9,-999.0000,9, -999.00,9, -999.00,9,  -999.0,9,  -999.0,-999.000,9,-999.000,-999.0000,9,  1574.5,-999.000,   2.6007,     -999.0,9,     -999.0,9,     -999.0,9,     -999.0,9,     -999.0,9,     -999.0,9,     -999.0,9, -999.00,9,-999.0000,9,-999.0000,9,-999.0000,9,-999.0000,9,-999.0000,9,-999.0000,9,-999.0000, -999.00
33RR20050106,       P16S,      28,          1,         14,         14,2,20050117,       1953,   -29.5000,  -150.0000,       4174,  1677.3,   2.5879,  34.5671,2,  34.5662,2,    157.1,2,   157.6,2,   91.80,2,   35.07,2,    0.00,2,    2.48,2,-999.000,9,-999.000,9,-999.000,9,  -999.0,9,  -999.0,9,-999.000,9,-999.0000,9, -999.00,9, -999.00,9,  -999.0,9,  -999.0,-999.000,9,-999.000,-999.0000,9,  1677.3,-999.000,   2.4703,     -999.0,9,     -999.0,9,     -999.0,9,     -999.0,9,     -999.0,9,     -999.0,9,     -999.0,9, -999.00,9,-999.0000,9,-999.0000,9,-999.0000,9,-999.0000,9,-999.0000,9,-999.0000,9,-999.0000, -999.00
33RR20050106,       P16S,      28,          1,         13,         13,2,20050117,       1953,   -29.5000,  -150.0000,       4174,  1779.7,   2.4220,  34.5933,2,  34.5926,2,    154.8,2,   155.0,2,   99.62,2,   35.24,2,    0.00,2,    2.50,2,   0.023,3,   0.022,3,   0.001,2,  -999.0,9,  -999.0,9,-999.000,9,-999.0000,9, -999.00,9, -999.00,9,  -999.0,9,  -999.0,-999.000,9,-999.000,-999.0000,9,  1779.7,-999.000,   2.2980,     -999.0,9,     -999.0,9,     -999.0,9,     -999.0,9,     -999.0,9,     -999.0,9,     -999.0,9, -999.00,9,-999.0000,9,-999.0000,9,-999.0000,9,-999.0000,9,-999.0000,9,-999.0000,9,-999.0000, -999.00
33RR20050106,       P16S,      28,          1,         12,         12,2,20050117,       1953,   -29.5000,  -150.0000,       4174,  1882.1,   2.3221,  34.6087,2,  34.6085,2,    152.9,2,   153.4,2,  104.57,2,   35.34,2,    0.00,2,    2.50,2,-999.000,9,-999.000,9,-999.000,9,  -999.0,9,  -999.0,9,-999.000,9,-999.0000,9, -999.00,9, -999.00,9,  -999.0,9,  -999.0,-999.000,9,-999.000,-999.0000,9,  1882.1,-999.000,   2.1909,     -999.0,9,     -999.0,9,     -999.0,9,     -999.0,9,     -999.0,9,     -999.0,9,     -999.0,9, -999.00,9,-999.0000,9,-999.0000,9,-999.0000,9,-999.0000,9,-999.0000,9,-999.0000,9,-999.0000, -999.00
33RR20050106,       P16S,      28,          1,         11,         11,2,20050117,       1953,   -29.5000,  -150.0000,       4174,  1985.1,   2.2338,  34.6212,2,  34.6203,2,    151.8,2,   152.3,2,  109.10,2,   35.45,2,    0.00,2,    2.51,2,  -0.005,2,  -0.001,2,   0.001,2,  -999.0,9,  -999.0,9,-999.000,9,-999.0000,9, -999.00,9, -999.00,9,  -999.0,9,  -999.0,-999.000,9,-999.000,-999.0000,9,  1985.1,-999.000,   2.0951,     -999.0,9,     -999.0,9,     -999.0,9,     -999.0,9,     -999.0,9,     -999.0,9,     -999.0,9, -999.00,9,-999.0000,9,-999.0000,9,-999.0000,9,-999.0000,9,-999.0000,9,-999.0000,9,-999.0000, -999.00
33RR20050106,       P16S,      28,          1,         10,         10,2,20050117,       1953,   -29.5000,  -150.0000,       4174,  2087.4,   2.1499,  34.6322,2,  34.6334,2,    150.8,2,   151.0,2,  113.25,2,   35.51,2,    0.00,2,    2.51,2,-999.000,9,-999.000,9,-999.000,9,  -999.0,9,  -999.0,9,-999.000,9,-999.0000,9, -999.00,9, -999.00,9,  -999.0,9,  -999.0,-999.000,9,-999.000,-999.0000,9,  2087.4,-999.000,   2.0037,     -999.0,9,     -999.0,9,     -999.0,9,     -999.0,9,     -999.0,9,     -999.0,9,     -999.0,9, -999.00,9,-999.0000,9,-999.0000,9,-999.0000,9,-999.0000,9,-999.0000,9,-999.0000,9,-999.0000, -999.00
33RR20050106,       P16S,      28,          1,          9,          9,2,20050117,       1953,   -29.5000,  -150.0000,       4174,  2345.0,   1.9838,  34.6501,2,  34.6499,2,    149.3,2,   149.6,2,  121.50,2,   35.73,2,    0.00,2,    2.54,2,  -0.003,2,  -0.001,2,   0.001,2,  -999.0,9,  -999.0,9,-999.000,9,-999.0000,9, -999.00,9, -999.00,9,  -999.0,9,  -999.0,-999.000,9,-999.000,-999.0000,9,  2345.0,-999.000,   1.8177,     -999.0,9,     -999.0,9,     -999.0,9,     -999.0,9,     -999.0,9,     -999.0,9,     -999.0,9, -999.00,9,-999.0000,9,-999.0000,9,-999.0000,9,-999.0000,9,-999.0000,9,-999.0000,9,-999.0000, -999.00
33RR20050106,       P16S,      28,          1,          8,          8,2,20050117,       1953,   -29.5000,  -150.0000,       4174,  2601.7,   1.8701,  34.6612,2,  34.6605,2,    150.0,2,   150.2,2,  125.85,2,   35.73,2,    0.00,2,    2.54,2,   0.027,3,   0.027,3,   0.001,2,  -999.0,9,  -999.0,9,-999.000,9,-999.0000,9, -999.00,9, -999.00,9,  -999.0,9,  -999.0,-999.000,9,-999.000,-999.0000,9,  2601.7,-999.000,   1.6829,     -999.0,9,     -999.0,9,     -999.0,9,     -999.0,9,     -999.0,9,     -999.0,9,     -999.0,9, -999.00,9,-999.0000,9,-999.0000,9,-999.0000,9,-999.0000,9,-999.0000,9,-999.0000,9,-999.0000, -999.00
33RR20050106,       P16S,      28,          1,          7,          7,2,20050117,       1953,   -29.5000,  -150.0000,       4174,  2859.4,   1.7729,  34.6699,2,  34.6694,2,    153.6,2,   153.7,2,  127.72,2,   35.56,2,    0.00,2,    2.49,2,-999.000,9,-999.000,9,-999.000,9,  -999.0,9,  -999.0,9,-999.000,9,-999.0000,9, -999.00,9, -999.00,9,  -999.0,9,  -999.0,-999.000,9,-999.000,-999.0000,9,  2859.4,-999.000,   1.5636,     -999.0,9,     -999.0,9,     -999.0,9,     -999.0,9,     -999.0,9,     -999.0,9,     -999.0,9, -999.00,9,-999.0000,9,-999.0000,9,-999.0000,9,-999.0000,9,-999.0000,9,-999.0000,9,-999.0000, -999.00