BOTTLE,20201109CCHSIOCBG
EXPOCODE,SECT_ID,STNNBR,CASTNO,SAMPNO,BTLNBR,BTLNBR_FLAG_W,DATE,TIME,LATITUDE,LONGITUDE,DEPTH,CTDPRS,CTDTMP,CTDSAL,CTDSAL_FLAG_W,SALNTY,SALNTY_FLAG_W,CTDOXY,CTDOXY_FLAG_W,OXYGEN,OXYGEN_FLAG_W,SILCAT,SILCAT_FLAG_W,NITRAT,NITRAT_FLAG_W,NITRIT,NITRIT_FLAG_W,PHSPHT,PHSPHT_FLAG_W,CFC-11,CFC-11_FLAG_W,CFC-12,CFC-12_FLAG_W,CFC113,CFC113_FLAG_W,TCARBN,TCARBN_FLAG_W,ALKALI,ALKALI_FLAG_W,TRITUM,TRITUM_FLAG_W,HELIUM,HELIUM_FLAG_W,DELHE3,DELHE3_FLAG_W,DELC13,DELC13_FLAG_W,DELC14,DELC14_FLAG_W,C14ERR,NEON,NEON_FLAG_W,NEONER,DOC,DOC_FLAG_W,CTDRAW,TRITER,THETA,FUCO,FUCO_FLAG_W,RHAM,RHAM_FLAG_W,ARABA,ARABA_FLAG_W,GALA,GALA_FLAG_W,GLUC,GLUC_FLAG_W,MAN,MAN_FLAG_W,DCNS,DCNS_FLAG_W,BRDU,BRDU_FLAG_W,CDOM325,CDOM325_FLAG_W,CDOM340,CDOM340_FLAG_W,CDOM380,CDOM380_FLAG_W,CDOM412,CDOM412_FLAG_W,CDOMSL,CDOMSL_FLAG_W,CDOMSN,CDOMSN_FLAG_W,HELIER,DELHER
,,,,,,,,,,,METERS,DBAR,ITS-90,PSS-78,,PSS-78,,UMOL/KG,,UMOL/KG,,UMOL/KG,,UMOL/KG,,UMOL/KG,,UMOL/KG,,PMOL/KG,,PMOL/KG,,PMOL/KG,,UMOL/KG,,UMOL/KG,,TU,,NMOL/KG,,PERCNT,,/MILLE,,/MILLE,,/MILLE,NMOL/KG,,NMOL/KG,UMOL/KG,,DBAR,TU,DEG C,NMOL/KG,,NMOL/KG,,NMOL/KG,,NMOL/KG,,NMOL/KG,,NMOL/KG,,NMOL/KG,,PMOL/L/H,,1/M,,1/M,,1/M,,1/M,,1/NM,,1/NM,,NMOL/KG,PERCNT
33RR20050106,       P16S,      43,          2,         36,         36,2,20050122,       0452,   -37.0003,  -149.9995,       5530,     2.5,  19.6983,  34.7257,2,  34.7270,2,    231.9,2,   231.5,2,    0.34,2,    0.06,2,    0.00,2,    0.16,2,   2.338,2,   1.449,2,   0.205,2,  2032.2,6,  2284.9,6,   0.452,2,   1.7420,2,   -1.00,2, -999.00,9,  -999.0,9,  -999.0,   7.093,2,   0.011,  65.1069,2,     2.5,   0.011,  19.6978,     -999.0,9,     -999.0,9,     -999.0,9,     -999.0,9,     -999.0,9,     -999.0,9,     -999.0,9, -999.00,9,-999.0000,9,-999.0000,9,-999.0000,9,-999.0000,9,-999.0000,9,-999.0000,9,   0.0010,    0.19
33RR20050106,       P16S,      43,          2,         35,         35,2,20050122,       0452,   -37.0003,  -149.9995,       5530,    57.8,  15.0100,  34.8890,2,  34.8927,2,    262.2,2,   263.7,2,    0.33,2,    0.06,2,    0.00,2,    0.17,2,   2.957,2,   1.773,2,   0.216,2,  2045.6,2,  2296.0,2,   0.382,2,   1.7890,2,    0.00,2, -999.00,9,  -999.0,9,  -999.0,   7.416,2,   0.010,  58.9059,2,    57.8,   0.010,  15.0013,     -999.0,9,     -999.0,9,     -999.0,9,     -999.0,9,     -999.0,9,     -999.0,9,     -999.0,9, -999.00,9,-999.0000,9,-999.0000,9,-999.0000,9,-999.0000,9,-999.0000,9,-999.0000,9,   0.0010,    0.20
33RR20050106,       P16S,      43,          2,         34,         34,2,20050122,       0452,   -37.0003,  -149.9995,       5530,   107.1,  14.0988,  34.8999,2,  34.9106,2,    255.9,2,   253.9,2,    0.33,2,    0.62,2,    0.03,2,    0.23,2,   2.981,2,   1.739,2,   0.255,2,  2055.1,2,  2296.9,2,   0.416,2,   1.7520,2,   -1.10,2, -999.00,9,  -999.0,9,  -999.0,   7.303,2,   0.013,  58.6342,2,   107.1,   0.010,  14.0833,     -999.0,9,     -999.0,9,     -999.0,9,     -999.0,9,     -999.0,9,     -999.0,9,     -999.0,9, -999.00,9,-999.0000,9,-999.0000,9,-999.0000,9,-999.0000,9,-999.0000,9,-999.0000,9,   0.0010,    0.20
33RR20050106,       P16S,      43,          2,         33,         33,2,20050122,       0452,   -37.0003,  -149.9995,       5530,   157.8,  12.3221,  34.7749,2,  34.7734,2,    233.5,2,   230.4,2,    1.13,2,    7.10,2,    0.20,2,    0.64,2,   3.242,2,   1.847,2,   0.228,2,  2090.3,2,  2289.2,2,   0.351,2,   1.7750,2,   -0.86,2, -999.00,9,  -999.0,9,  -999.0,   7.406,2,   0.009,  75.4313,4,   157.8,   0.008,  12.3012,     -999.0,9,     -999.0,9,     -999.0,9,     -999.0,9,     -999.0,9,     -999.0,9,     -999.0,9, -999.00,9,-999.0000,9,-999.0000,9,-999.0000,9,-999.0000,9,-999.0000,9,-999.0000,9,   0.0010,    0.18
33RR20050106,       P16S,      43,          2,         32,         32,2,20050122,       0452,   -37.0003,  -149.9995,       5530,   207.9,  10.0499,  34.6134,2,  34.6134,2,    227.3,2,   227.4,2,    2.33,2,   13.41,2,    0.01,2,    0.99,2,   3.524,2,   1.910,2,   0.204,2,  2116.9,2,  2283.0,2,   0.287,2,   2.0540,4,   -0.34,3, -999.00,9,  -999.0,9,  -999.0,   8.442,4,   0.011,  47.9045,2,   207.9,   0.010,  10.0258,     -999.0,9,     -999.0,9,     -999.0,9,     -999.0,9,     -999.0,9,     -999.0,9,     -999.0,9, -999.00,9,-999.0000,9,-999.0000,9,-999.0000,9,-999.0000,9,-999.0000,9,-999.0000,9,   0.0010,    0.17
33RR20050106,       P16S,      43,          2,         31,         31,2,20050122,       0452,   -37.0003,  -149.9995,       5530,   258.5,   9.1750,  34.5558,2,  34.5599,2,    226.0,2,   226.7,2,    3.12,2,   15.91,2,    0.00,2,    1.15,2,   3.493,2,   1.871,2,   0.186,2,  2124.4,2,  2282.1,2,   0.232,2,   1.9390,3,    0.18,2, -999.00,9,  -999.0,9,  -999.0,   8.080,3,   0.015,  46.6315,2,   258.5,   0.009,   9.1466,     -999.0,9,     -999.0,9,     -999.0,9,     -999.0,9,     -999.0,9,     -999.0,9,     -999.0,9, -999.00,9,-999.0000,9,-999.0000,9,-999.0000,9,-999.0000,9,-999.0000,9,-999.0000,9,   0.0010,    0.19
33RR20050106,       P16S,      43,          2,         30,         30,2,20050122,       0452,   -37.0003,  -149.9995,       5530,   308.1,   8.5535,  34.5145,2,-999.0000,9,    234.1,2,   236.0,2,    3.72,2,   17.20,2,    0.00,2,    1.22,2,   3.635,2,   1.911,2,   0.221,2,  2127.5,2,  2281.1,2,   0.213,2,   1.7960,2,   -0.26,2, -999.00,9,  -999.0,9,  -999.0,   7.604,4,   0.009,  50.8550,4,   308.1,   0.008,   8.5210,     -999.0,9,     -999.0,9,     -999.0,9,     -999.0,9,     -999.0,9,     -999.0,9,     -999.0,9, -999.00,9,-999.0000,9,-999.0000,9,-999.0000,9,-999.0000,9,-999.0000,9,-999.0000,9,   0.0010,    0.19
33RR20050106,       P16S,      43,          2,         29,         29,2,20050122,       0452,   -37.0003,  -149.9995,       5530,   358.6,   7.9964,  34.4736,2,-999.0000,9,    240.1,2,   243.7,2,    4.52,2,   18.31,2,    0.00,2,    1.28,2,   3.890,2,   1.954,2,   0.282,2,  2130.4,2,  2280.9,2,   0.243,2,   1.8370,2,   -0.19,2, -999.00,9,  -999.0,9,  -999.0,   7.836,4,   0.009,-999.0000,9,   358.6,   0.009,   7.9600,     -999.0,9,     -999.0,9,     -999.0,9,     -999.0,9,     -999.0,9,     -999.0,9,     -999.0,9, -999.00,9,-999.0000,9,-999.0000,9,-999.0000,9,-999.0000,9,-999.0000,9,-999.0000,9,   0.0010,    0.19
33RR20050106,       P16S,      43,          2,         28,         28,2,20050122,       0452,   -37.0003,  -149.9995,       5530,   409.0,   7.6771,  34.4463,2,-999.0000,9,    244.2,2,   245.4,2,    4.91,2,   19.27,2,    0.00,2,    1.35,2,   3.899,2,   1.909,2,   0.274,2,  2131.7,2,  2280.4,2,   0.255,2,   1.7920,2,   -0.24,2, -999.00,9,  -999.0,9,  -999.0,   7.690,4,   0.009,  43.3627,2,   409.0,   0.011,   7.6365,     -999.0,9,     -999.0,9,     -999.0,9,     -999.0,9,     -999.0,9,     -999.0,9,     -999.0,9, -999.00,9,-999.0000,9,-999.0000,9,-999.0000,9,-999.0000,9,-999.0000,9,-999.0000,9,   0.0010,    0.18
33RR20050106,       P16S,      43,          2,         27,         27,2,20050122,       0452,   -37.0003,  -149.9995,       5530,   459.5,   7.4401,  34.4262,2,-999.0000,9,    244.8,2,   246.0,2,    5.51,2,   20.13,2,    0.00,2,    1.40,2,   3.796,2,   1.955,2,   0.279,2,  2134.1,2,  2280.4,2,   0.188,2,   1.7920,2,    0.03,2, -999.00,9,  -999.0,9,  -999.0,   7.673,4,   0.010,-999.0000,9,   459.5,   0.007,   7.3951,     -999.0,9,     -999.0,9,     -999.0,9,     -999.0,9,     -999.0,9,     -999.0,9,     -999.0,9, -999.00,9,-999.0000,9,-999.0000,9,-999.0000,9,-999.0000,9,-999.0000,9,-999.0000,9,   0.0010,    0.18
33RR20050106,       P16S,      43,          2,         26,         26,2,20050122,       0452,   -37.0003,  -149.9995,       5530,   509.1,   7.2557,  34.4107,2,  34.4109,2,    244.5,2,   245.3,2,    5.90,2,   20.77,2,    0.00,2,    1.44,2,   3.667,2,   1.866,2,   0.245,2,  2135.4,2,  2279.8,2,   0.190,2,   1.8330,2,    0.07,2, -999.00,9,  -999.0,9,  -999.0,   7.798,2,   0.014,  44.9638,2,   509.1,   0.009,   7.2064,     -999.0,9,     -999.0,9,     -999.0,9,     -999.0,9,     -999.0,9,     -999.0,9,     -999.0,9, -999.00,9,-999.0000,9,-999.0000,9,-999.0000,9,-999.0000,9,-999.0000,9,-999.0000,9,   0.0010,    0.18
33RR20050106,       P16S,      43,          2,         25,         25,2,20050122,       0452,   -37.0003,  -149.9995,       5530,   610.1,   6.9174,  34.3836,2,  34.3848,2,    245.5,2,   245.8,2,    6.90,2,   21.73,2,    0.00,2,    1.51,2,   3.339,2,   1.675,2,   0.202,2,  2137.4,6,  2280.3,2,   0.153,2,   1.7960,2,    0.58,2, -999.00,9,  -999.0,9,  -999.0,   7.679,2,   0.009,  42.0508,2,   610.1,   0.009,   6.8595,     -999.0,9,     -999.0,9,     -999.0,9,     -999.0,9,     -999.0,9,     -999.0,9,     -999.0,9, -999.00,9,-999.0000,9,-999.0000,9,-999.0000,9,-999.0000,9,-999.0000,9,-999.0000,9,   0.0010,    0.18
33RR20050106,       P16S,      43,          2,         24,         24,2,20050122,       0452,   -37.0003,  -149.9995,       5530,   710.8,   6.5232,  34.3571,2,  34.3569,2,    239.5,2,   239.5,2,    8.92,2,   23.35,2,    0.00,2,    1.61,2,   2.726,2,   1.283,2,   0.127,2,  2142.4,2,  2279.8,2,   0.119,2,   1.8070,2,    1.35,2, -999.00,9,  -999.0,9,  -999.0,   7.774,2,   0.010,  43.0543,2,   710.8,   0.006,   6.4574,     -999.0,9,     -999.0,9,     -999.0,9,     -999.0,9,     -999.0,9,     -999.0,9,     -999.0,9, -999.00,9,-999.0000,9,-999.0000,9,-999.0000,9,-999.0000,9,-999.0000,9,-999.0000,9,   0.0010,    0.18
33RR20050106,       P16S,      43,          2,         23,         23,2,20050122,       0452,   -37.0003,  -149.9995,       5530,   811.1,   6.0265,  34.3297,2,  34.3314,2,    232.0,2,   230.9,2,   12.14,2,   25.23,2,    0.00,2,    1.73,2,   2.086,2,   1.072,2,   0.089,2,  2152.1,2,  2281.0,2,   0.098,2,   1.8340,2,    1.50,2, -999.00,9,  -999.0,9,  -999.0,   7.948,2,   0.012,  38.4069,2,   811.1,   0.008,   5.9539,     -999.0,9,     -999.0,9,     -999.0,9,     -999.0,9,     -999.0,9,     -999.0,9,     -999.0,9, -999.00,9,-999.0000,9,-999.0000,9,-999.0000,9,-999.0000,9,-999.0000,9,-999.0000,9,   0.0010,    0.19
33RR20050106,       P16S,      43,          2,         22,         22,2,20050122,       0452,   -37.0003,  -149.9995,       5530,   912.8,   5.5415,  34.3204,2,  34.3224,2,    218.5,2,   219.4,2,   17.18,2,   27.21,2,    0.00,2,    1.87,2,   1.601,2,   0.804,2,   0.071,2,  2165.5,2,  2284.5,2,   0.057,2,   1.8150,2,    2.37,2, -999.00,9,  -999.0,9,  -999.0,   7.826,2,   0.010,  38.7127,2,   912.8,   0.007,   5.4625,     -999.0,9,     -999.0,9,     -999.0,9,     -999.0,9,     -999.0,9,     -999.0,9,     -999.0,9, -999.00,9,-999.0000,9,-999.0000,9,-999.0000,9,-999.0000,9,-999.0000,9,-999.0000,9,   0.0010,    0.18
33RR20050106,       P16S,      43,          2,         21,         21,2,20050122,       0452,   -37.0003,  -149.9995,       5530,  1013.8,   4.9351,  34.3216,2,  34.3225,2,    206.9,2,   208.9,2,   23.86,2,   29.32,2,    0.00,2,    2.02,2,   1.073,2,   0.537,2,   0.062,2,  2179.7,2,  2289.5,2,   0.021,2,   4.1350,4,    0.31,3, -999.00,9,  -999.0,9,  -999.0,  16.996,4,   0.097,  40.0302,2,  1013.8,   0.005,   4.8513,     -999.0,9,     -999.0,9,     -999.0,9,     -999.0,9,     -999.0,9,     -999.0,9,     -999.0,9, -999.00,9,-999.0000,9,-999.0000,9,-999.0000,9,-999.0000,9,-999.0000,9,-999.0000,9,   0.0030,    0.16
33RR20050106,       P16S,      43,          2,         20,         20,2,20050122,       0452,   -37.0003,  -149.9995,       5530,  1114.1,   4.3140,  34.3366,2,  34.3372,2,    198.7,2,   199.7,2,   32.58,2,   31.10,2,    0.00,2,    2.14,2,   0.802,2,   0.390,2,   0.046,2,  2195.9,2,  2295.4,2,   0.001,2,-999.0000,9, -999.00,9, -999.00,9,  -999.0,9,  -999.0,-999.000,9,-999.000,-999.0000,9,  1114.1,   0.004,   4.2264,     -999.0,9,     -999.0,9,     -999.0,9,     -999.0,9,     -999.0,9,     -999.0,9,     -999.0,9, -999.00,9,-999.0000,9,-999.0000,9,-999.0000,9,-999.0000,9,-999.0000,9,-999.0000,9,-999.0000, -999.00
33RR20050106,       P16S,      43,          2,         19,         19,2,20050122,       0452,   -37.0003,  -149.9995,       5530,  1214.3,   3.7310,  34.3661,2,  34.3674,2,    191.6,2,   191.1,2,   42.75,2,   32.61,2,    0.00,2,    2.25,2,   0.446,2,   0.224,2,   0.019,2,  2211.0,2,  2305.2,2,   0.009,2,-999.0000,9, -999.00,9, -999.00,9,  -999.0,9,  -999.0,-999.000,9,-999.000,  38.6264,2,  1214.3,   0.002,   3.6399,     -999.0,9,     -999.0,9,     -999.0,9,     -999.0,9,     -999.0,9,     -999.0,9,     -999.0,9, -999.00,9,-999.0000,9,-999.0000,9,-999.0000,9,-999.0000,9,-999.0000,9,-999.0000,9,-999.0000, -999.00
33RR20050106,       P16S,      43,          2,         18,         18,2,20050122,       0452,   -37.0003,  -149.9995,       5530,  1315.1,   3.2944,  34.4155,2,  34.4165,2,    181.5,2,   181.3,2,   53.36,2,   33.64,2,    0.00,2,    2.33,2,   0.215,2,   0.114,2,   0.001,2,  2227.3,2,  2317.0,6,   0.005,2,-999.0000,9, -999.00,9, -999.00,9,  -999.0,9,  -999.0,-999.000,9,-999.000,-999.0000,9,  1315.1,   0.005,   3.1991,     -999.0,9,     -999.0,9,     -999.0,9,     -999.0,9,     -999.0,9,     -999.0,9,     -999.0,9, -999.00,9,-999.0000,9,-999.0000,9,-999.0000,9,-999.0000,9,-999.0000,9,-999.0000,9,-999.0000, -999.00
33RR20050106,       P16S,      43,          2,         17,         17,2,20050122,       0452,   -37.0003,  -149.9995,       5530,  1416.7,   3.0107,  34.4691,2,  34.4691,2,    173.7,2,   173.3,2,   63.38,2,   34.19,2,    0.00,2,    2.37,2,   0.101,2,   0.051,2,   0.001,2,  2241.2,2,  2327.8,2,-999.000,9,-999.0000,9, -999.00,9, -999.00,9,  -999.0,9,  -999.0,-999.000,9,-999.000,  37.1701,2,  1416.7,-999.000,   2.9099,     -999.0,9,     -999.0,9,     -999.0,9,     -999.0,9,     -999.0,9,     -999.0,9,     -999.0,9, -999.00,9,-999.0000,9,-999.0000,9,-999.0000,9,-999.0000,9,-999.0000,9,-999.0000,9,-999.0000, -999.00
33RR20050106,       P16S,      43,          2,         16,         16,2,20050122,       0452,   -37.0003,  -149.9995,       5530,  1518.2,   2.8362,  34.5190,2,  34.5195,2,    166.4,2,   166.6,2,   73.42,2,   34.39,2,    0.00,2,    2.40,2,   0.051,2,   0.023,2,   0.001,2,  2252.7,2,  2338.3,2,-999.000,9,-999.0000,9, -999.00,9, -999.00,9,  -999.0,9,  -999.0,-999.000,9,-999.000,-999.0000,9,  1518.2,-999.000,   2.7289,     -999.0,9,     -999.0,9,     -999.0,9,     -999.0,9,     -999.0,9,     -999.0,9,     -999.0,9, -999.00,9,-999.0000,9,-999.0000,9,-999.0000,9,-999.0000,9,-999.0000,9,-999.0000,9,-999.0000, -999.00
33RR20050106,       P16S,      43,          2,         15,         15,2,20050122,       0452,   -37.0003,  -149.9995,       5530,  1620.0,   2.6936,  34.5532,2,  34.5533,2,    161.5,2,   162.1,2,   81.64,2,   34.61,2,    0.00,2,    2.43,2,   0.026,2,   0.015,2,   0.001,2,  2263.2,2,  2349.6,2,   0.001,2,   7.4800,4,    3.44,3, -999.00,9,  -999.0,9,  -999.0,  15.251,4,   0.033,  41.0224,2,  1620.0,   0.004,   2.5795,     -999.0,9,     -999.0,9,     -999.0,9,     -999.0,9,     -999.0,9,     -999.0,9,     -999.0,9, -999.00,9,-999.0000,9,-999.0000,9,-999.0000,9,-999.0000,9,-999.0000,9,-999.0000,9,   0.0190,    0.21
33RR20050106,       P16S,      43,          2,         14,         14,2,20050122,       0452,   -37.0003,  -149.9995,       5530,  1822.2,   2.4728,  34.6027,2,  34.6030,2,    154.3,2,   154.5,2,   97.08,2,   35.04,2,    0.00,2,    2.46,2,   0.006,2,   0.008,2,   0.001,2,  2280.8,2,  2367.1,2,   0.001,2,-999.0000,9, -999.00,9, -999.00,9,  -999.0,9,  -999.0,-999.000,9,-999.000,-999.0000,9,  1822.2,   0.005,   2.3445,     -999.0,9,     -999.0,9,     -999.0,9,     -999.0,9,     -999.0,9,     -999.0,9,     -999.0,9, -999.00,9,-999.0000,9,-999.0000,9,-999.0000,9,-999.0000,9,-999.0000,9,-999.0000,9,-999.0000, -999.00
33RR20050106,       P16S,      43,          2,         13,         13,2,20050122,       0452,   -37.0003,  -149.9995,       5530,  2024.7,   2.3041,  34.6262,2,  34.6264,2,    151.2,2,   151.5,2,  106.78,2,   35.26,2,    0.00,2,    2.48,2,   0.018,2,  -0.002,2,   0.001,2,  2291.5,2,  2381.0,2,-999.000,9,-999.0000,9, -999.00,9, -999.00,9,  -999.0,9,  -999.0,-999.000,9,-999.000,  37.4702,2,  2024.7,-999.000,   2.1609,     -999.0,9,     -999.0,9,     -999.0,9,     -999.0,9,     -999.0,9,     -999.0,9,     -999.0,9, -999.00,9,-999.0000,9,-999.0000,9,-999.0000,9,-999.0000,9,-999.0000,9,-999.0000,9,-999.0000, -999.00
33RR20050106,       P16S,      43,          2,         12,         12,2,20050122,       0452,   -37.0003,  -149.9995,       5530,  2277.4,   2.1204,  34.6446,2,  34.6452,2,    149.9,2,   150.3,2,  115.04,2,   35.47,2,    0.00,2,    2.49,2,  -0.001,2,  -0.002,2,   0.001,2,  2300.1,2,  2388.1,2,   0.021,2,   7.7130,4,    5.11,3, -999.00,9,  -999.0,9,  -999.0,  15.286,4,   0.033,-999.0000,9,  2277.4,   0.006,   1.9580,     -999.0,9,     -999.0,9,     -999.0,9,     -999.0,9,     -999.0,9,     -999.0,9,     -999.0,9, -999.00,9,-999.0000,9,-999.0000,9,-999.0000,9,-999.0000,9,-999.0000,9,-999.0000,9,   0.0210,    0.22
33RR20050106,       P16S,      43,          2,         11,         11,2,20050122,       0452,   -37.0003,  -149.9995,       5530,  2531.8,   1.9857,  34.6556,2,  34.6568,2,    149.5,2,   149.9,2,  120.82,2,   35.63,2,    0.00,2,    2.51,2,   0.028,3,   0.017,3,   0.001,2,  2306.9,2,  2394.4,2,   0.026,2,-999.0000,9, -999.00,9, -999.00,9,  -999.0,9,  -999.0,-999.000,9,-999.000,  36.7030,2,  2531.8,   0.011,   1.8027,     -999.0,9,     -999.0,9,     -999.0,9,     -999.0,9,     -999.0,9,     -999.0,9,     -999.0,9, -999.00,9,-999.0000,9,-999.0000,9,-999.0000,9,-999.0000,9,-999.0000,9,-999.0000,9,-999.0000, -999.00
33RR20050106,       P16S,      43,          2,         10,         10,2,20050122,       0452,   -37.0003,  -149.9995,       5530,  2785.7,   1.8716,  34.6645,2,  34.6652,2,    150.3,2,   151.0,2,  125.36,2,   35.61,2,    0.00,2,    2.50,2,   0.000,2,  -0.002,2,   0.001,2,  2309.5,2,  2397.4,2,-999.000,9,-999.0000,9, -999.00,9, -999.00,9,  -999.0,9,  -999.0,-999.000,9,-999.000,-999.0000,9,  2785.7,-999.000,   1.6672,     -999.0,9,     -999.0,9,     -999.0,9,     -999.0,9,     -999.0,9,     -999.0,9,     -999.0,9, -999.00,9,-999.0000,9,-999.0000,9,-999.0000,9,-999.0000,9,-999.0000,9,-999.0000,9,-999.0000, -999.00
33RR20050106,       P16S,      43,          2,          9,          9,2,20050122,       0452,   -37.0003,  -149.9995,       5530,  3039.8,   1.7869,  34.6730,2,  34.6733,2,    153.0,2,   153.9,2,  127.00,2,   35.45,2,    0.00,2,    2.49,2,   0.013,2,   0.014,2,   0.001,2,  2309.5,2,  2398.7,2,   0.001,2,-999.0000,9, -999.00,9, -999.00,9,  -999.0,9,  -999.0,-999.000,9,-999.000,  36.1666,2,  3039.8,   0.003,   1.5599,     -999.0,9,     -999.0,9,     -999.0,9,     -999.0,9,     -999.0,9,     -999.0,9,     -999.0,9, -999.00,9,-999.0000,9,-999.0000,9,-999.0000,9,-999.0000,9,-999.0000,9,-999.0000,9,-999.0000, -999.00
33RR20050106,       P16S,      43,          2,          8,          8,2,20050122,       0452,   -37.0003,  -149.9995,       5530,  3345.4,   1.6910,  34.6856,2,  34.6866,2,    161.4,2,   162.9,2,  124.70,2,   34.68,2,    0.00,2,    2.44,2,  -0.004,2,  -0.002,2,   0.001,2,  2301.0,2,  2392.4,2,   0.001,2,-999.0000,9, -999.00,9, -999.00,9,  -999.0,9,  -999.0,-999.000,9,-999.000,-999.0000,9,  3345.4,   0.002,   1.4358,     -999.0,9,     -999.0,9,     -999.0,9,     -999.0,9,     -999.0,9,     -999.0,9,     -999.0,9, -999.00,9,-999.0000,9,-999.0000,9,-999.0000,9,-999.0000,9,-999.0000,9,-999.0000,9,-999.0000, -999.00
33RR20050106,       P16S,      43,          2,          7,          7,2,20050122,       0452,   -37.0003,  -149.9995,       5530,  3651.1,   1.5964,  34.7006,2,  34.7007,2,    175.2,2,   176.2,2,  118.67,2,   33.53,2,    0.00,2,    2.34,2,   0.001,2,   0.005,2,   0.002,2,  2285.3,2,  2382.0,2,-999.000,9,-999.0000,9, -999.00,9, -999.00,9,  -999.0,9,  -999.0,-999.000,9,-999.000,  40.4192,2,  3651.1,-999.000,   1.3120,     -999.0,9,     -999.0,9,     -999.0,9,     -999.0,9,     -999.0,9,     -999.0,9,     -999.0,9, -999.00,9,-999.0000,9,-999.0000,9,-999.0000,9,-999.0000,9,-999.0000,9,-999.0000,9,-999.0000, -999.00