BOTTLE,20201109CCHSIOCBG
EXPOCODE,SECT_ID,STNNBR,CASTNO,SAMPNO,BTLNBR,BTLNBR_FLAG_W,DATE,TIME,LATITUDE,LONGITUDE,DEPTH,CTDPRS,CTDTMP,CTDSAL,CTDSAL_FLAG_W,SALNTY,SALNTY_FLAG_W,CTDOXY,CTDOXY_FLAG_W,OXYGEN,OXYGEN_FLAG_W,SILCAT,SILCAT_FLAG_W,NITRAT,NITRAT_FLAG_W,NITRIT,NITRIT_FLAG_W,PHSPHT,PHSPHT_FLAG_W,CFC-11,CFC-11_FLAG_W,CFC-12,CFC-12_FLAG_W,CFC113,CFC113_FLAG_W,TCARBN,TCARBN_FLAG_W,ALKALI,ALKALI_FLAG_W,TRITUM,TRITUM_FLAG_W,HELIUM,HELIUM_FLAG_W,DELHE3,DELHE3_FLAG_W,DELC13,DELC13_FLAG_W,DELC14,DELC14_FLAG_W,C14ERR,NEON,NEON_FLAG_W,NEONER,DOC,DOC_FLAG_W,CTDRAW,TRITER,THETA,FUCO,FUCO_FLAG_W,RHAM,RHAM_FLAG_W,ARABA,ARABA_FLAG_W,GALA,GALA_FLAG_W,GLUC,GLUC_FLAG_W,MAN,MAN_FLAG_W,DCNS,DCNS_FLAG_W,BRDU,BRDU_FLAG_W,CDOM325,CDOM325_FLAG_W,CDOM340,CDOM340_FLAG_W,CDOM380,CDOM380_FLAG_W,CDOM412,CDOM412_FLAG_W,CDOMSL,CDOMSL_FLAG_W,CDOMSN,CDOMSN_FLAG_W,HELIER,DELHER
,,,,,,,,,,,METERS,DBAR,ITS-90,PSS-78,,PSS-78,,UMOL/KG,,UMOL/KG,,UMOL/KG,,UMOL/KG,,UMOL/KG,,UMOL/KG,,PMOL/KG,,PMOL/KG,,PMOL/KG,,UMOL/KG,,UMOL/KG,,TU,,NMOL/KG,,PERCNT,,/MILLE,,/MILLE,,/MILLE,NMOL/KG,,NMOL/KG,UMOL/KG,,DBAR,TU,DEG C,NMOL/KG,,NMOL/KG,,NMOL/KG,,NMOL/KG,,NMOL/KG,,NMOL/KG,,NMOL/KG,,PMOL/L/H,,1/M,,1/M,,1/M,,1/M,,1/NM,,1/NM,,NMOL/KG,PERCNT
33RR20050106,       P16S,      96,          3,         28,         28,2,20050207,       0118,   -63.4990,  -149.9970,       3378,     2.3,   1.0368,  33.9757,2,  33.9761,2,    344.2,2,  -999.0,5,   29.69,2,   22.78,2,    0.36,2,    1.42,2,   5.795,2,   3.195,2,   0.620,2,  2156.3,6,  2298.9,6,-999.000,9,-999.0000,9, -999.00,9, -999.00,9,  -999.0,9,  -999.0,-999.000,9,-999.000,-999.0000,9,     2.3,-999.000,   1.0367,     -999.0,9,     -999.0,9,     -999.0,9,     -999.0,9,     -999.0,9,     -999.0,9,     -999.0,9, -999.00,9,-999.0000,9,-999.0000,9,-999.0000,9,-999.0000,9,-999.0000,9,-999.0000,9,-999.0000, -999.00
33RR20050106,       P16S,      96,          3,         27,         27,2,20050207,       0118,   -63.4990,  -149.9970,       3378,    40.0,   0.8649,  33.9754,2,  33.9757,2,    346.4,2,   346.9,2,   29.68,2,   22.78,2,    0.36,2,    1.43,2,   5.866,2,   3.180,2,   0.623,2,  -999.0,9,  -999.0,9,-999.000,9,-999.0000,9, -999.00,9, -999.00,9,  -999.0,9,  -999.0,-999.000,9,-999.000,-999.0000,9,    40.0,-999.000,   0.8632,     -999.0,9,     -999.0,9,     -999.0,9,     -999.0,9,     -999.0,9,     -999.0,9,     -999.0,9, -999.00,9,-999.0000,9,-999.0000,9,-999.0000,9,-999.0000,9,-999.0000,9,-999.0000,9,-999.0000, -999.00
33RR20050106,       P16S,      96,          3,         26,         26,2,20050207,       0118,   -63.4990,  -149.9970,       3378,    65.3,  -1.5480,  34.0822,2,  34.0837,2,    337.2,2,   338.0,2,   48.96,2,   26.18,2,    0.25,2,    1.90,2,-999.000,9,-999.000,9,-999.000,9,  2187.5,2,  2305.0,2,-999.000,9,-999.0000,9, -999.00,9, -999.00,9,  -999.0,9,  -999.0,-999.000,9,-999.000,-999.0000,9,    65.3,-999.000,  -1.5494,     -999.0,9,     -999.0,9,     -999.0,9,     -999.0,9,     -999.0,9,     -999.0,9,     -999.0,9, -999.00,9,-999.0000,9,-999.0000,9,-999.0000,9,-999.0000,9,-999.0000,9,-999.0000,9,-999.0000, -999.00
33RR20050106,       P16S,      96,          3,         25,         25,2,20050207,       0118,   -63.4990,  -149.9970,       3378,    90.6,  -1.6978,  34.1716,2,  34.1713,2,    331.8,2,   333.8,2,   54.51,2,   26.93,2,    0.25,2,    1.92,2,   5.644,6,   2.986,6,   0.598,6,  2197.1,2,  2310.8,2,-999.000,9,-999.0000,9, -999.00,9, -999.00,9,  -999.0,9,  -999.0,-999.000,9,-999.000,-999.0000,9,    90.6,-999.000,  -1.6996,     -999.0,9,     -999.0,9,     -999.0,9,     -999.0,9,     -999.0,9,     -999.0,9,     -999.0,9, -999.00,9,-999.0000,9,-999.0000,9,-999.0000,9,-999.0000,9,-999.0000,9,-999.0000,9,-999.0000, -999.00
33RR20050106,       P16S,      96,          3,         24,         24,2,20050207,       0118,   -63.4990,  -149.9970,       3378,   135.9,  -0.9015,  34.3649,2,  34.3594,2,    309.4,2,   286.6,2,   68.53,2,   29.84,2,    0.23,2,    2.07,2,   4.289,2,   2.296,2,   0.446,2,  2220.9,2,  2320.1,2,-999.000,9,-999.0000,9, -999.00,9, -999.00,9,  -999.0,9,  -999.0,-999.000,9,-999.000,-999.0000,9,   135.9,-999.000,  -0.9053,     -999.0,9,     -999.0,9,     -999.0,9,     -999.0,9,     -999.0,9,     -999.0,9,     -999.0,9, -999.00,9,-999.0000,9,-999.0000,9,-999.0000,9,-999.0000,9,-999.0000,9,-999.0000,9,-999.0000, -999.00
33RR20050106,       P16S,      96,          3,         23,         23,2,20050207,       0118,   -63.4990,  -149.9970,       3378,   166.1,   1.0200,  34.6588,2,  34.6521,2,    207.3,2,   189.5,2,   93.57,2,   33.16,2,    0.02,2,    2.30,2,-999.000,9,-999.000,9,-999.000,9,  2259.7,2,  2341.1,2,-999.000,9,-999.0000,9, -999.00,9, -999.00,9,  -999.0,9,  -999.0,-999.000,9,-999.000,-999.0000,9,   166.1,-999.000,   1.0125,     -999.0,9,     -999.0,9,     -999.0,9,     -999.0,9,     -999.0,9,     -999.0,9,     -999.0,9, -999.00,9,-999.0000,9,-999.0000,9,-999.0000,9,-999.0000,9,-999.0000,9,-999.0000,9,-999.0000, -999.00
33RR20050106,       P16S,      96,          3,         22,         22,2,20050207,       0118,   -63.4990,  -149.9970,       3378,   191.2,   1.3766,  34.7164,2,  34.7144,2,    181.9,2,   175.0,2,   99.17,2,   33.33,2,    0.01,2,    2.31,2,   0.296,2,   0.155,2,   0.031,2,  2266.0,2,  2345.8,2,-999.000,9,-999.0000,9, -999.00,9, -999.00,9,  -999.0,9,  -999.0,-999.000,9,-999.000,-999.0000,9,   191.2,-999.000,   1.3673,     -999.0,9,     -999.0,9,     -999.0,9,     -999.0,9,     -999.0,9,     -999.0,9,     -999.0,9, -999.00,9,-999.0000,9,-999.0000,9,-999.0000,9,-999.0000,9,-999.0000,9,-999.0000,9,-999.0000, -999.00
33RR20050106,       P16S,      96,          3,         21,         21,2,20050207,       0118,   -63.4990,  -149.9970,       3378,   241.5,   1.3943,  34.7290,2,  34.7278,2,    176.6,2,   175.4,2,  102.06,2,   33.17,2,    0.01,2,    2.29,2,-999.000,9,-999.000,9,-999.000,9,  2265.9,2,  2348.9,2,-999.000,9,-999.0000,9, -999.00,9, -999.00,9,  -999.0,9,  -999.0,-999.000,9,-999.000,-999.0000,9,   241.5,-999.000,   1.3824,     -999.0,9,     -999.0,9,     -999.0,9,     -999.0,9,     -999.0,9,     -999.0,9,     -999.0,9, -999.00,9,-999.0000,9,-999.0000,9,-999.0000,9,-999.0000,9,-999.0000,9,-999.0000,9,-999.0000, -999.00
33RR20050106,       P16S,      96,          3,         20,         20,2,20050207,       0118,   -63.4990,  -149.9970,       3378,   291.9,   1.3469,  34.7307,2,  34.7298,2,    176.7,2,   178.3,2,  104.13,2,   32.95,2,    0.01,2,    2.27,2,   0.151,2,   0.075,2,   0.021,2,  2264.9,2,  2349.2,2,-999.000,9,-999.0000,9, -999.00,9, -999.00,9,  -999.0,9,  -999.0,-999.000,9,-999.000,-999.0000,9,   291.9,-999.000,   1.3325,     -999.0,9,     -999.0,9,     -999.0,9,     -999.0,9,     -999.0,9,     -999.0,9,     -999.0,9, -999.00,9,-999.0000,9,-999.0000,9,-999.0000,9,-999.0000,9,-999.0000,9,-999.0000,9,-999.0000, -999.00
33RR20050106,       P16S,      96,          3,         19,         19,2,20050207,       0118,   -63.4990,  -149.9970,       3378,   377.9,   1.2900,  34.7307,2,  34.7276,2,    179.0,2,   180.0,2,  106.19,2,   32.85,2,    0.00,2,    2.26,2,   0.196,2,   0.105,2,   0.023,2,  2264.9,2,  2349.9,2,-999.000,9,-999.0000,9, -999.00,9, -999.00,9,  -999.0,9,  -999.0,-999.000,9,-999.000,-999.0000,9,   377.9,-999.000,   1.2713,     -999.0,9,     -999.0,9,     -999.0,9,     -999.0,9,     -999.0,9,     -999.0,9,     -999.0,9, -999.00,9,-999.0000,9,-999.0000,9,-999.0000,9,-999.0000,9,-999.0000,9,-999.0000,9,-999.0000, -999.00
33RR20050106,       P16S,      96,          3,         18,         18,2,20050207,       0118,   -63.4990,  -149.9970,       3378,   478.7,   1.2015,  34.7291,2,  34.7288,2,    182.1,2,   183.2,2,  108.67,2,   32.69,2,    0.00,2,    2.25,2,   0.260,2,   0.139,2,   0.028,2,  2264.9,2,  2352.1,2,-999.000,9,-999.0000,9, -999.00,9, -999.00,9,  -999.0,9,  -999.0,-999.000,9,-999.000,-999.0000,9,   478.7,-999.000,   1.1777,     -999.0,9,     -999.0,9,     -999.0,9,     -999.0,9,     -999.0,9,     -999.0,9,     -999.0,9, -999.00,9,-999.0000,9,-999.0000,9,-999.0000,9,-999.0000,9,-999.0000,9,-999.0000,9,-999.0000, -999.00
33RR20050106,       P16S,      96,          3,         17,         17,2,20050207,       0118,   -63.4990,  -149.9970,       3378,   579.4,   1.1342,  34.7272,2,  34.7263,2,    184.7,2,   186.0,2,  110.74,2,   32.59,2,    0.00,2,    2.24,2,   0.069,2,   0.050,2,   0.009,2,  -999.0,9,  -999.0,9,-999.000,9,-999.0000,9, -999.00,9, -999.00,9,  -999.0,9,  -999.0,-999.000,9,-999.000,-999.0000,9,   579.4,-999.000,   1.1053,     -999.0,9,     -999.0,9,     -999.0,9,     -999.0,9,     -999.0,9,     -999.0,9,     -999.0,9, -999.00,9,-999.0000,9,-999.0000,9,-999.0000,9,-999.0000,9,-999.0000,9,-999.0000,9,-999.0000, -999.00
33RR20050106,       P16S,      96,          3,         16,         16,2,20050207,       0118,   -63.4990,  -149.9970,       3378,   680.7,   1.0665,  34.7248,2,  34.7243,2,    188.6,2,   189.6,2,  112.39,2,   32.42,2,    0.00,2,    2.23,2,-999.000,9,-999.000,9,-999.000,9,  2263.9,2,  2355.4,2,-999.000,9,-999.0000,9, -999.00,9, -999.00,9,  -999.0,9,  -999.0,-999.000,9,-999.000,-999.0000,9,   680.7,-999.000,   1.0323,     -999.0,9,     -999.0,9,     -999.0,9,     -999.0,9,     -999.0,9,     -999.0,9,     -999.0,9, -999.00,9,-999.0000,9,-999.0000,9,-999.0000,9,-999.0000,9,-999.0000,9,-999.0000,9,-999.0000, -999.00
33RR20050106,       P16S,      96,          3,         15,         15,2,20050207,       0118,   -63.4990,  -149.9970,       3378,   781.7,   0.9972,  34.7222,2,  34.7213,2,    191.5,2,   192.4,2,  114.05,2,   32.33,2,    0.00,2,    2.23,2,   0.154,2,   0.097,2,   0.018,2,  -999.0,9,  -999.0,9,-999.000,9,-999.0000,9, -999.00,9, -999.00,9,  -999.0,9,  -999.0,-999.000,9,-999.000,-999.0000,9,   781.7,-999.000,   0.9577,     -999.0,9,     -999.0,9,     -999.0,9,     -999.0,9,     -999.0,9,     -999.0,9,     -999.0,9, -999.00,9,-999.0000,9,-999.0000,9,-999.0000,9,-999.0000,9,-999.0000,9,-999.0000,9,-999.0000, -999.00
33RR20050106,       P16S,      96,          3,         14,         14,2,20050207,       0118,   -63.4990,  -149.9970,       3378,   882.3,   0.9316,  34.7197,2,  34.7194,2,    193.8,2,   195.4,2,  115.92,2,   32.27,2,    0.00,2,    2.23,2,-999.000,9,-999.000,9,-999.000,9,  2262.7,2,  2356.0,2,-999.000,9,-999.0000,9, -999.00,9, -999.00,9,  -999.0,9,  -999.0,-999.000,9,-999.000,-999.0000,9,   882.3,-999.000,   0.8867,     -999.0,9,     -999.0,9,     -999.0,9,     -999.0,9,     -999.0,9,     -999.0,9,     -999.0,9, -999.00,9,-999.0000,9,-999.0000,9,-999.0000,9,-999.0000,9,-999.0000,9,-999.0000,9,-999.0000, -999.00
33RR20050106,       P16S,      96,          3,         13,         13,2,20050207,       0118,   -63.4990,  -149.9970,       3378,   983.7,   0.8818,  34.7176,2,  34.7166,2,    196.3,2,   197.1,2,  117.35,2,   32.27,2,    0.00,2,    2.22,2,   0.121,2,   0.071,2,   0.015,2,  -999.0,9,  -999.0,9,-999.000,9,-999.0000,9, -999.00,9, -999.00,9,  -999.0,9,  -999.0,-999.000,9,-999.000,-999.0000,9,   983.7,-999.000,   0.8313,     -999.0,9,     -999.0,9,     -999.0,9,     -999.0,9,     -999.0,9,     -999.0,9,     -999.0,9, -999.00,9,-999.0000,9,-999.0000,9,-999.0000,9,-999.0000,9,-999.0000,9,-999.0000,9,-999.0000, -999.00
33RR20050106,       P16S,      96,          3,         12,         12,2,20050207,       0118,   -63.4990,  -149.9970,       3378,  1186.1,   0.7732,  34.7132,2,  34.7180,4,    199.9,2,   200.5,2,  119.42,2,   32.27,2,    0.00,2,    2.22,2,-999.000,9,-999.000,9,-999.000,9,  2262.0,2,  2358.1,2,-999.000,9,-999.0000,9, -999.00,9, -999.00,9,  -999.0,9,  -999.0,-999.000,9,-999.000,-999.0000,9,  1186.1,-999.000,   0.7113,     -999.0,9,     -999.0,9,     -999.0,9,     -999.0,9,     -999.0,9,     -999.0,9,     -999.0,9, -999.00,9,-999.0000,9,-999.0000,9,-999.0000,9,-999.0000,9,-999.0000,9,-999.0000,9,-999.0000, -999.00
33RR20050106,       P16S,      96,          3,         11,         11,2,20050207,       0118,   -63.4990,  -149.9970,       3378,  1388.3,   0.6734,  34.7093,2,  34.7086,2,    202.6,2,   203.3,2,  123.58,2,   32.33,2,    0.00,2,    2.22,2,   0.066,2,   0.039,2,   0.007,2,  -999.0,9,  -999.0,9,-999.000,9,-999.0000,9, -999.00,9, -999.00,9,  -999.0,9,  -999.0,-999.000,9,-999.000,-999.0000,9,  1388.3,-999.000,   0.5997,     -999.0,9,     -999.0,9,     -999.0,9,     -999.0,9,     -999.0,9,     -999.0,9,     -999.0,9, -999.00,9,-999.0000,9,-999.0000,9,-999.0000,9,-999.0000,9,-999.0000,9,-999.0000,9,-999.0000, -999.00
33RR20050106,       P16S,      96,          3,         10,         10,2,20050207,       0118,   -63.4990,  -149.9970,       3378,  1591.0,   0.5986,  34.7070,2,  34.7068,2,    204.6,2,   205.4,2,  125.03,2,   32.33,2,    0.00,2,    2.23,2,-999.000,9,-999.000,9,-999.000,9,  2261.1,2,  2359.1,2,-999.000,9,-999.0000,9, -999.00,9, -999.00,9,  -999.0,9,  -999.0,-999.000,9,-999.000,-999.0000,9,  1591.0,-999.000,   0.5124,     -999.0,9,     -999.0,9,     -999.0,9,     -999.0,9,     -999.0,9,     -999.0,9,     -999.0,9, -999.00,9,-999.0000,9,-999.0000,9,-999.0000,9,-999.0000,9,-999.0000,9,-999.0000,9,-999.0000, -999.00
33RR20050106,       P16S,      96,          3,          9,          9,2,20050207,       0118,   -63.4990,  -149.9970,       3378,  1793.8,   0.5099,  34.7051,2,  34.7041,2,    206.5,2,   207.7,2,  126.26,2,   32.33,2,    0.00,2,    2.23,2,   0.098,2,   0.064,2,   0.007,2,  -999.0,9,  -999.0,9,-999.000,9,-999.0000,9, -999.00,9, -999.00,9,  -999.0,9,  -999.0,-999.000,9,-999.000,-999.0000,9,  1793.8,-999.000,   0.4109,     -999.0,9,     -999.0,9,     -999.0,9,     -999.0,9,     -999.0,9,     -999.0,9,     -999.0,9, -999.00,9,-999.0000,9,-999.0000,9,-999.0000,9,-999.0000,9,-999.0000,9,-999.0000,9,-999.0000, -999.00
33RR20050106,       P16S,      96,          3,          8,          8,2,20050207,       0118,   -63.4990,  -149.9970,       3378,  1997.0,   0.4420,  34.7041,2,  34.7039,2,    208.4,2,   209.3,2,  127.50,2,   32.38,2,    0.00,2,    2.23,2,-999.000,9,-999.000,9,-999.000,9,  2260.8,2,  2357.8,2,-999.000,9,-999.0000,9, -999.00,9, -999.00,9,  -999.0,9,  -999.0,-999.000,9,-999.000,-999.0000,9,  1997.0,-999.000,   0.3295,     -999.0,9,     -999.0,9,     -999.0,9,     -999.0,9,     -999.0,9,     -999.0,9,     -999.0,9, -999.00,9,-999.0000,9,-999.0000,9,-999.0000,9,-999.0000,9,-999.0000,9,-999.0000,9,-999.0000, -999.00
33RR20050106,       P16S,      96,          3,          7,          7,2,20050207,       0118,   -63.4990,  -149.9970,       3378,  2200.1,   0.3735,  34.7032,2,  34.7039,2,    210.1,2,   211.2,2,  129.15,2,   32.33,2,    0.00,2,    2.23,2,   0.167,2,   0.093,2,   0.012,2,  -999.0,9,  -999.0,9,-999.000,9,-999.0000,9, -999.00,9, -999.00,9,  -999.0,9,  -999.0,-999.000,9,-999.000,-999.0000,9,  2200.1,-999.000,   0.2470,     -999.0,9,     -999.0,9,     -999.0,9,     -999.0,9,     -999.0,9,     -999.0,9,     -999.0,9, -999.00,9,-999.0000,9,-999.0000,9,-999.0000,9,-999.0000,9,-999.0000,9,-999.0000,9,-999.0000, -999.00
33RR20050106,       P16S,      96,          3,          6,          6,2,20050207,       0118,   -63.4990,  -149.9970,       3378,  2433.4,   0.3061,  34.7018,2,  34.7023,2,    212.5,2,   213.4,2,  128.70,2,   32.27,2,    0.00,2,    2.23,2,   0.272,2,   0.145,2,   0.027,2,  2262.8,2,  2358.6,2,-999.000,9,-999.0000,9, -999.00,9, -999.00,9,  -999.0,9,  -999.0,-999.000,9,-999.000,-999.0000,9,  2433.4,-999.000,   0.1628,     -999.0,9,     -999.0,9,     -999.0,9,     -999.0,9,     -999.0,9,     -999.0,9,     -999.0,9, -999.00,9,-999.0000,9,-999.0000,9,-999.0000,9,-999.0000,9,-999.0000,9,-999.0000,9,-999.0000, -999.00
33RR20050106,       P16S,      96,          3,          5,          5,2,20050207,       0118,   -63.4990,  -149.9970,       3378,  2668.1,   0.2289,  34.6990,2,  34.7023,4,    215.7,2,   229.8,4,  125.98,2,   32.22,2,    0.00,2,    2.22,2,   0.438,2,   0.223,2,   0.035,2,  -999.0,9,  -999.0,9,-999.000,9,-999.0000,9, -999.00,9, -999.00,9,  -999.0,9,  -999.0,-999.000,9,-999.000,-999.0000,9,  2668.1,-999.000,   0.0682,     -999.0,9,     -999.0,9,     -999.0,9,     -999.0,9,     -999.0,9,     -999.0,9,     -999.0,9, -999.00,9,-999.0000,9,-999.0000,9,-999.0000,9,-999.0000,9,-999.0000,9,-999.0000,9,-999.0000, -999.00
33RR20050106,       P16S,      96,          3,          4,          4,2,20050207,       0118,   -63.4990,  -149.9970,       3378,  2902.5,   0.1866,  34.6967,2,  34.6972,2,    218.2,2,   206.5,4,  123.69,2,   32.17,2,    0.00,2,    2.22,2,   0.636,2,   0.339,2,   0.056,2,  2260.3,2,  2356.0,2,-999.000,9,-999.0000,9, -999.00,9, -999.00,9,  -999.0,9,  -999.0,-999.000,9,-999.000,-999.0000,9,  2902.5,-999.000,   0.0072,     -999.0,9,     -999.0,9,     -999.0,9,     -999.0,9,     -999.0,9,     -999.0,9,     -999.0,9, -999.00,9,-999.0000,9,-999.0000,9,-999.0000,9,-999.0000,9,-999.0000,9,-999.0000,9,-999.0000, -999.00
33RR20050106,       P16S,      96,          3,          3,          3,2,20050207,       0118,   -63.4990,  -149.9970,       3378,  3136.8,   0.1898,  34.6962,2,  34.6964,2,    218.7,2,   219.4,2,  123.47,2,   32.12,2,    0.00,2,    2.22,2,   0.742,2,   0.389,2,   0.064,2,  2260.0,2,  2356.9,2,-999.000,9,-999.0000,9, -999.00,9, -999.00,9,  -999.0,9,  -999.0,-999.000,9,-999.000,-999.0000,9,  3136.8,-999.000,  -0.0100,     -999.0,9,     -999.0,9,     -999.0,9,     -999.0,9,     -999.0,9,     -999.0,9,     -999.0,9, -999.00,9,-999.0000,9,-999.0000,9,-999.0000,9,-999.0000,9,-999.0000,9,-999.0000,9,-999.0000, -999.00
33RR20050106,       P16S,      96,          3,          2,          2,2,20050207,       0118,   -63.4990,  -149.9970,       3378,  3290.5,   0.1971,  34.6960,2,  34.6958,2,    219.1,2,   219.8,2,  123.45,2,   32.22,2,    0.00,2,    2.21,2,   0.785,2,   0.423,2,   0.062,2,  2261.2,2,  2355.4,2,-999.000,9,-999.0000,9, -999.00,9, -999.00,9,  -999.0,9,  -999.0,-999.000,9,-999.000,-999.0000,9,  3290.5,-999.000,  -0.0167,     -999.0,9,     -999.0,9,     -999.0,9,     -999.0,9,     -999.0,9,     -999.0,9,     -999.0,9, -999.00,9,-999.0000,9,-999.0000,9,-999.0000,9,-999.0000,9,-999.0000,9,-999.0000,9,-999.0000, -999.00
33RR20050106,       P16S,      96,          3,          1,          1,2,20050207,       0118,   -63.4990,  -149.9970,       3378,  3395.3,   0.2021,  34.6960,2,  34.6972,2,    219.0,2,   220.2,2,  123.22,2,   32.22,2,    0.00,2,    2.23,2,   0.726,2,   0.365,2,   0.064,2,  2259.6,6,  2355.9,6,-999.000,9,-999.0000,9, -999.00,9, -999.00,9,  -999.0,9,  -999.0,-999.000,9,-999.000,-999.0000,9,  3395.3,-999.000,  -0.0214,     -999.0,9,     -999.0,9,     -999.0,9,     -999.0,9,     -999.0,9,     -999.0,9,     -999.0,9, -999.00,9,-999.0000,9,-999.0000,9,-999.0000,9,-999.0000,9,-999.0000,9,-999.0000,9,-999.0000, -999.00