BOTTLE,20201109CCHSIOCBG
EXPOCODE,SECT_ID,STNNBR,CASTNO,SAMPNO,BTLNBR,BTLNBR_FLAG_W,DATE,TIME,LATITUDE,LONGITUDE,DEPTH,CTDPRS,CTDTMP,CTDSAL,CTDSAL_FLAG_W,SALNTY,SALNTY_FLAG_W,CTDOXY,CTDOXY_FLAG_W,OXYGEN,OXYGEN_FLAG_W,SILCAT,SILCAT_FLAG_W,NITRAT,NITRAT_FLAG_W,NITRIT,NITRIT_FLAG_W,PHSPHT,PHSPHT_FLAG_W,CFC-11,CFC-11_FLAG_W,CFC-12,CFC-12_FLAG_W,CFC113,CFC113_FLAG_W,TCARBN,TCARBN_FLAG_W,ALKALI,ALKALI_FLAG_W,TRITUM,TRITUM_FLAG_W,HELIUM,HELIUM_FLAG_W,DELHE3,DELHE3_FLAG_W,DELC13,DELC13_FLAG_W,DELC14,DELC14_FLAG_W,C14ERR,NEON,NEON_FLAG_W,NEONER,DOC,DOC_FLAG_W,CTDRAW,TRITER,THETA,FUCO,FUCO_FLAG_W,RHAM,RHAM_FLAG_W,ARABA,ARABA_FLAG_W,GALA,GALA_FLAG_W,GLUC,GLUC_FLAG_W,MAN,MAN_FLAG_W,DCNS,DCNS_FLAG_W,BRDU,BRDU_FLAG_W,CDOM325,CDOM325_FLAG_W,CDOM340,CDOM340_FLAG_W,CDOM380,CDOM380_FLAG_W,CDOM412,CDOM412_FLAG_W,CDOMSL,CDOMSL_FLAG_W,CDOMSN,CDOMSN_FLAG_W,HELIER,DELHER
,,,,,,,,,,,METERS,DBAR,ITS-90,PSS-78,,PSS-78,,UMOL/KG,,UMOL/KG,,UMOL/KG,,UMOL/KG,,UMOL/KG,,UMOL/KG,,PMOL/KG,,PMOL/KG,,PMOL/KG,,UMOL/KG,,UMOL/KG,,TU,,NMOL/KG,,PERCNT,,/MILLE,,/MILLE,,/MILLE,NMOL/KG,,NMOL/KG,UMOL/KG,,DBAR,TU,DEG C,NMOL/KG,,NMOL/KG,,NMOL/KG,,NMOL/KG,,NMOL/KG,,NMOL/KG,,NMOL/KG,,PMOL/L/H,,1/M,,1/M,,1/M,,1/M,,1/NM,,1/NM,,NMOL/KG,PERCNT
33RR20050106,       P16S,      32,          2,         36,         36,2,20050118,       2250,   -31.5000,  -150.0000,       4589,     2.5,  22.5650,  35.4116,2,  35.4121,2,    217.2,2,   217.2,2,    0.44,2,    0.07,2,    0.00,2,    0.09,2,   2.118,2,   1.322,2,   0.276,2,  2030.1,6,  2324.2,2,-999.000,9,-999.0000,9, -999.00,9, -999.00,5,    81.7,2,     3.3,-999.000,9,-999.000,-999.0000,9,     2.5,-999.000,  22.5645,     -999.0,9,     -999.0,9,     -999.0,9,     -999.0,9,     -999.0,9,     -999.0,9,     -999.0,9, -999.00,9,   0.0110,3,   0.0030,3,  -0.0030,4,  -0.0040,4,-999.0000,9,-999.0000,9,-999.0000, -999.00
33RR20050106,       P16S,      32,          2,         35,         35,2,20050118,       2250,   -31.5000,  -150.0000,       4589,    43.7,  19.6245,  35.5280,2,  35.5259,2,    236.8,2,   236.2,2,    0.44,2,    0.07,2,    0.00,2,    0.09,2,   2.469,2,   1.428,2,   0.326,2,  2037.6,2,  2328.2,2,-999.000,9,-999.0000,9, -999.00,9, -999.00,9,  -999.0,9,  -999.0,-999.000,9,-999.000,-999.0000,9,    43.7,-999.000,  19.6165,     -999.0,9,     -999.0,9,     -999.0,9,     -999.0,9,     -999.0,9,     -999.0,9,     -999.0,9, -999.00,9,   0.0240,2,   0.0110,3,  -0.0010,4,  -0.0020,4,-999.0000,9,-999.0000,9,-999.0000, -999.00
33RR20050106,       P16S,      32,          2,         34,         34,2,20050118,       2250,   -31.5000,  -150.0000,       4589,    78.9,  18.5729,  35.4908,2,  35.4865,2,    237.4,2,   237.8,2,    0.45,2,    0.08,2,    0.00,2,    0.09,2,   2.558,2,   1.529,2,   0.288,2,  2039.1,2,  2325.9,2,-999.000,9,-999.0000,9, -999.00,9, -999.00,5,    81.0,6,    14.0,-999.000,9,-999.000,-999.0000,9,    78.9,-999.000,  18.5590,     -999.0,9,     -999.0,9,     -999.0,9,     -999.0,9,     -999.0,9,     -999.0,9,     -999.0,9, -999.00,9,   0.0570,2,   0.0340,2,   0.0110,2,   0.0050,2,   0.0337,2,   0.0336,2,-999.0000, -999.00
33RR20050106,       P16S,      32,          2,         33,         33,2,20050118,       2250,   -31.5000,  -150.0000,       4589,   128.6,  17.7476,  35.4600,2,  35.4588,2,    234.7,2,   232.4,2,    0.45,2,    0.08,2,    0.00,2,    0.10,2,   2.593,2,   1.545,2,   0.267,2,  2045.2,2,  2323.9,2,-999.000,9,-999.0000,9, -999.00,9, -999.00,9,  -999.0,9,  -999.0,-999.000,9,-999.000,-999.0000,9,   128.6,-999.000,  17.7257,     -999.0,9,     -999.0,9,     -999.0,9,     -999.0,9,     -999.0,9,     -999.0,9,     -999.0,9, -999.00,9,   0.0640,2,   0.0410,2,   0.0140,2,   0.0080,2,   0.0299,2,   0.0297,2,-999.0000, -999.00
33RR20050106,       P16S,      32,          2,         32,         32,2,20050118,       2250,   -31.5000,  -150.0000,       4589,   179.1,  17.1828,  35.4147,2,  35.4145,2,    228.9,2,   225.2,2,    0.46,2,    0.30,2,    0.09,2,    0.15,2,   2.643,2,   1.571,2,   0.235,2,  2055.0,2,  2321.2,2,-999.000,9,-999.0000,9, -999.00,9, -999.00,5,    84.3,2,     3.9,-999.000,9,-999.000,-999.0000,9,   179.1,-999.000,  17.1529,     -999.0,9,     -999.0,9,     -999.0,9,     -999.0,9,     -999.0,9,     -999.0,9,     -999.0,9, -999.00,9,   0.0610,2,   0.0410,2,   0.0150,2,   0.0090,2,   0.0264,2,   0.0265,2,-999.0000, -999.00
33RR20050106,       P16S,      32,          2,         31,         31,2,20050118,       2250,   -31.5000,  -150.0000,       4589,   229.5,  16.1493,  35.3146,2,  35.3125,2,    221.5,2,   217.3,2,    0.65,2,    2.22,2,    0.05,2,    0.27,2,   2.814,2,   1.537,2,   0.151,2,  2069.0,2,  2315.0,2,-999.000,9,-999.0000,9, -999.00,9, -999.00,5,    81.8,6,     4.2,-999.000,9,-999.000,-999.0000,9,   229.5,-999.000,  16.1126,     -999.0,9,     -999.0,9,     -999.0,9,     -999.0,9,     -999.0,9,     -999.0,9,     -999.0,9, -999.00,9,   0.0670,2,   0.0450,2,   0.0190,2,   0.0120,2,   0.0259,2,   0.0262,2,-999.0000, -999.00
33RR20050106,       P16S,      32,          2,         30,         30,2,20050118,       2250,   -31.5000,  -150.0000,       4589,   279.3,  14.6770,  35.1551,2,-999.0000,9,    207.8,2,   206.3,2,    1.06,2,    5.63,2,    0.00,2,    0.50,2,   2.852,2,   1.619,2,   0.098,2,  -999.0,9,  -999.0,9,-999.000,9,-999.0000,9, -999.00,9, -999.00,9,  -999.0,9,  -999.0,-999.000,9,-999.000,-999.0000,9,   279.3,-999.000,  14.6352,     -999.0,9,     -999.0,9,     -999.0,9,     -999.0,9,     -999.0,9,     -999.0,9,     -999.0,9, -999.00,9,-999.0000,9,-999.0000,9,-999.0000,9,-999.0000,9,-999.0000,9,-999.0000,9,-999.0000, -999.00
33RR20050106,       P16S,      32,          2,         29,         29,2,20050118,       2250,   -31.5000,  -150.0000,       4589,   329.3,  13.4791,  35.0269,2,-999.0000,9,    204.4,2,   203.0,2,    1.66,2,    8.37,2,    0.00,2,    0.68,2,   2.859,2,   1.548,2,   0.094,2,  2101.1,2,  2301.7,2,-999.000,9,-999.0000,9, -999.00,9, -999.00,5,    76.6,2,     3.2,-999.000,9,-999.000,-999.0000,9,   329.3,-999.000,  13.4325,     -999.0,9,     -999.0,9,     -999.0,9,     -999.0,9,     -999.0,9,     -999.0,9,     -999.0,9, -999.00,9,-999.0000,9,-999.0000,9,-999.0000,9,-999.0000,9,-999.0000,9,-999.0000,9,-999.0000, -999.00
33RR20050106,       P16S,      32,          2,         28,         28,2,20050118,       2250,   -31.5000,  -150.0000,       4589,   379.4,  11.8907,  34.8687,2,-999.0000,9,    205.1,2,   204.6,2,    2.45,2,   11.70,2,    0.00,2,    0.89,2,   2.969,2,   1.538,2,   0.108,2,  -999.0,9,  -999.0,9,-999.000,9,-999.0000,9, -999.00,9, -999.00,9,  -999.0,9,  -999.0,-999.000,9,-999.000,-999.0000,9,   379.4,-999.000,  11.8412,     -999.0,9,     -999.0,9,     -999.0,9,     -999.0,9,     -999.0,9,     -999.0,9,     -999.0,9, -999.00,9,-999.0000,9,-999.0000,9,-999.0000,9,-999.0000,9,-999.0000,9,-999.0000,9,-999.0000, -999.00
33RR20050106,       P16S,      32,          2,         27,         27,2,20050118,       2250,   -31.5000,  -150.0000,       4589,   430.4,  10.5467,  34.7031,2,-999.0000,9,    207.8,2,   209.1,2,    3.06,2,   14.56,2,    0.00,2,    1.07,2,   2.939,2,   1.504,2,   0.134,2,  2121.5,2,  2288.3,2,-999.000,9,-999.0000,9, -999.00,9, -999.00,5,    73.9,2,     2.3,-999.000,9,-999.000,-999.0000,9,   430.4,-999.000,  10.4946,     -999.0,9,     -999.0,9,     -999.0,9,     -999.0,9,     -999.0,9,     -999.0,9,     -999.0,9, -999.00,9,-999.0000,9,-999.0000,9,-999.0000,9,-999.0000,9,-999.0000,9,-999.0000,9,-999.0000, -999.00
33RR20050106,       P16S,      32,          2,         26,         26,2,20050118,       2250,   -31.5000,  -150.0000,       4589,   480.3,   9.0497,  34.5587,2,-999.0000,9,    219.5,2,   222.5,2,    3.66,2,   17.15,2,    0.00,2,    1.23,2,   3.379,2,   1.694,2,   0.183,2,  -999.0,9,  -999.0,9,-999.000,9,-999.0000,9, -999.00,9, -999.00,5,    65.9,2,     5.8,-999.000,9,-999.000,-999.0000,9,   480.3,-999.000,   8.9968,     -999.0,9,     -999.0,9,     -999.0,9,     -999.0,9,     -999.0,9,     -999.0,9,     -999.0,9, -999.00,9,-999.0000,9,-999.0000,9,-999.0000,9,-999.0000,9,-999.0000,9,-999.0000,9,-999.0000, -999.00
33RR20050106,       P16S,      32,          2,         25,         25,2,20050118,       2250,   -31.5000,  -150.0000,       4589,   530.3,   8.0018,  34.4515,2,  34.4563,2,    223.6,2,   226.8,2,    4.85,2,   19.59,2,    0.00,2,    1.39,2,   3.099,2,   1.501,2,   0.135,2,  2134.3,2,  2279.8,2,-999.000,9,-999.0000,9, -999.00,9, -999.00,5,    40.2,2,     3.0,-999.000,9,-999.000,-999.0000,9,   530.3,-999.000,   7.9474,     -999.0,9,     -999.0,9,     -999.0,9,     -999.0,9,     -999.0,9,     -999.0,9,     -999.0,9, -999.00,9,-999.0000,9,-999.0000,9,-999.0000,9,-999.0000,9,-999.0000,9,-999.0000,9,-999.0000, -999.00
33RR20050106,       P16S,      32,          2,         24,         24,2,20050118,       2250,   -31.5000,  -150.0000,       4589,   651.2,   6.9856,  34.3835,2,  34.3832,2,    238.6,2,   241.0,2,    6.45,2,   21.82,2,    0.00,2,    1.52,2,   3.039,2,   1.509,2,   0.185,2,  2137.7,2,  2278.3,2,-999.000,9,-999.0000,9, -999.00,9, -999.00,5,    15.8,2,     3.4,-999.000,9,-999.000,-999.0000,9,   651.2,-999.000,   6.9233,     -999.0,9,     -999.0,9,     -999.0,9,     -999.0,9,     -999.0,9,     -999.0,9,     -999.0,9, -999.00,9,-999.0000,9,-999.0000,9,-999.0000,9,-999.0000,9,-999.0000,9,-999.0000,9,-999.0000, -999.00
33RR20050106,       P16S,      32,          2,         23,         23,2,20050118,       2250,   -31.5000,  -150.0000,       4589,   751.9,   6.4063,  34.3449,2,  34.3446,2,    238.4,2,   239.4,2,    8.65,2,   23.51,2,    0.00,2,    1.63,2,   2.257,2,   1.085,2,   0.089,2,  2142.1,2,  2279.2,2,-999.000,9,-999.0000,9, -999.00,9, -999.00,5,     8.2,2,     3.7,-999.000,9,-999.000,-999.0000,9,   751.9,-999.000,   6.3372,     -999.0,9,     -999.0,9,     -999.0,9,     -999.0,9,     -999.0,9,     -999.0,9,     -999.0,9, -999.00,9,-999.0000,9,-999.0000,9,-999.0000,9,-999.0000,9,-999.0000,9,-999.0000,9,-999.0000, -999.00
33RR20050106,       P16S,      32,          2,         22,         22,2,20050118,       2250,   -31.5000,  -150.0000,       4589,   852.8,   5.8777,  34.3236,2,  34.3228,2,    232.9,2,   228.9,2,   12.64,2,   25.63,2,    0.00,2,    1.78,2,   1.458,2,   0.711,2,   0.076,2,  2152.9,2,  2280.5,2,-999.000,9,-999.0000,9, -999.00,9, -999.00,5,   -24.5,2,     2.9,-999.000,9,-999.000,-999.0000,9,   852.8,-999.000,   5.8021,     -999.0,9,     -999.0,9,     -999.0,9,     -999.0,9,     -999.0,9,     -999.0,9,     -999.0,9, -999.00,9,-999.0000,9,-999.0000,9,-999.0000,9,-999.0000,9,-999.0000,9,-999.0000,9,-999.0000, -999.00
33RR20050106,       P16S,      32,          2,         21,         21,2,20050118,       2250,   -31.5000,  -150.0000,       4589,   953.1,   5.3986,  34.3154,2,  34.3144,2,    220.8,2,   218.6,2,   17.63,2,   27.60,2,    0.00,2,    1.92,2,   1.079,2,   0.554,2,   0.056,2,  2164.2,2,  2284.9,2,-999.000,9,-999.0000,9, -999.00,9, -999.00,5,   -50.0,2,     3.2,-999.000,9,-999.000,-999.0000,9,   953.1,-999.000,   5.3169,     -999.0,9,     -999.0,9,     -999.0,9,     -999.0,9,     -999.0,9,     -999.0,9,     -999.0,9, -999.00,9,-999.0000,9,-999.0000,9,-999.0000,9,-999.0000,9,-999.0000,9,-999.0000,9,-999.0000, -999.00
33RR20050106,       P16S,      32,          2,         20,         20,2,20050118,       2250,   -31.5000,  -150.0000,       4589,  1054.2,   4.7693,  34.3227,2,  34.3221,2,    206.2,2,   205.3,2,   25.84,2,   29.89,2,    0.00,2,    2.07,2,   0.640,2,   0.311,2,   0.025,2,  2182.6,2,  2291.8,2,-999.000,9,-999.0000,9, -999.00,9, -999.00,5,   -75.2,2,     2.7,-999.000,9,-999.000,-999.0000,9,  1054.2,-999.000,   4.6832,     -999.0,9,     -999.0,9,     -999.0,9,     -999.0,9,     -999.0,9,     -999.0,9,     -999.0,9, -999.00,9,-999.0000,9,-999.0000,9,-999.0000,9,-999.0000,9,-999.0000,9,-999.0000,9,-999.0000, -999.00
33RR20050106,       P16S,      32,          2,         19,         19,2,20050118,       2250,   -31.5000,  -150.0000,       4589,  1155.2,   4.1016,  34.3493,2,  34.3489,2,    192.8,2,   193.1,2,   36.69,2,   31.93,2,    0.00,2,    2.23,2,   0.328,2,   0.170,2,   0.001,2,  2203.0,2,  2301.9,2,-999.000,9,-999.0000,9, -999.00,9, -999.00,5,   -97.8,2,     2.8,-999.000,9,-999.000,-999.0000,9,  1155.2,-999.000,   4.0122,     -999.0,9,     -999.0,9,     -999.0,9,     -999.0,9,     -999.0,9,     -999.0,9,     -999.0,9, -999.00,9,-999.0000,9,-999.0000,9,-999.0000,9,-999.0000,9,-999.0000,9,-999.0000,9,-999.0000, -999.00
33RR20050106,       P16S,      32,          2,         18,         18,2,20050118,       2250,   -31.5000,  -150.0000,       4589,  1255.9,   3.6543,  34.3844,2,  34.3832,2,    184.4,2,   184.9,2,   45.96,2,   33.03,2,    0.00,2,    2.31,2,-999.000,9,-999.000,9,-999.000,9,  2216.5,2,  2310.5,2,-999.000,9,-999.0000,9, -999.00,9, -999.00,5,  -118.8,2,     3.2,-999.000,9,-999.000,-999.0000,9,  1255.9,-999.000,   3.5604,     -999.0,9,     -999.0,9,     -999.0,9,     -999.0,9,     -999.0,9,     -999.0,9,     -999.0,9, -999.00,9,-999.0000,9,-999.0000,9,-999.0000,9,-999.0000,9,-999.0000,9,-999.0000,9,-999.0000, -999.00
33RR20050106,       P16S,      32,          2,         17,         17,2,20050118,       2250,   -31.5000,  -150.0000,       4589,  1356.7,   3.1998,  34.4437,2,  34.4434,2,    175.7,2,   175.1,2,   58.90,2,   34.02,2,    0.00,2,    2.39,2,   0.087,2,   0.052,2,   0.001,2,  2236.5,6,  2322.2,2,-999.000,9,-999.0000,9, -999.00,9, -999.00,5,  -147.8,2,     2.9,-999.000,9,-999.000,-999.0000,9,  1356.7,-999.000,   3.1020,     -999.0,9,     -999.0,9,     -999.0,9,     -999.0,9,     -999.0,9,     -999.0,9,     -999.0,9, -999.00,9,-999.0000,9,-999.0000,9,-999.0000,9,-999.0000,9,-999.0000,9,-999.0000,9,-999.0000, -999.00
33RR20050106,       P16S,      32,          2,         16,         16,2,20050118,       2250,   -31.5000,  -150.0000,       4589,  1457.6,   2.9610,  34.4852,2,  34.4840,2,    169.0,2,   169.5,2,   67.22,2,   34.40,2,    0.00,2,    2.42,2,-999.000,9,-999.000,9,-999.000,9,  -999.0,9,  -999.0,9,-999.000,9,-999.0000,9, -999.00,9, -999.00,9,  -999.0,9,  -999.0,-999.000,9,-999.000,-999.0000,9,  1457.6,-999.000,   2.8573,     -999.0,9,     -999.0,9,     -999.0,9,     -999.0,9,     -999.0,9,     -999.0,9,     -999.0,9, -999.00,9,-999.0000,9,-999.0000,9,-999.0000,9,-999.0000,9,-999.0000,9,-999.0000,9,-999.0000, -999.00
33RR20050106,       P16S,      32,          2,         15,         15,2,20050118,       2250,   -31.5000,  -150.0000,       4589,  1559.0,   2.7297,  34.5373,2,  34.5361,2,    162.8,2,   163.1,2,   78.80,2,   34.73,2,    0.00,2,    2.45,2,   0.030,2,   0.022,2,   0.001,2,  -999.0,9,  -999.0,9,-999.000,9,-999.0000,9, -999.00,9, -999.00,9,  -999.0,9,  -999.0,-999.000,9,-999.000,-999.0000,9,  1559.0,-999.000,   2.6202,     -999.0,9,     -999.0,9,     -999.0,9,     -999.0,9,     -999.0,9,     -999.0,9,     -999.0,9, -999.00,9,-999.0000,9,-999.0000,9,-999.0000,9,-999.0000,9,-999.0000,9,-999.0000,9,-999.0000, -999.00
33RR20050106,       P16S,      32,          2,         14,         14,2,20050118,       2250,   -31.5000,  -150.0000,       4589,  1660.1,   2.5707,  34.5723,2,  34.5727,2,    158.4,2,   158.7,2,   88.38,2,   34.95,2,    0.00,2,    2.46,2,-999.000,9,-999.000,9,-999.000,9,  -999.0,9,  -999.0,9,-999.000,9,-999.0000,9, -999.00,9, -999.00,9,  -999.0,9,  -999.0,-999.000,9,-999.000,-999.0000,9,  1660.1,-999.000,   2.4548,     -999.0,9,     -999.0,9,     -999.0,9,     -999.0,9,     -999.0,9,     -999.0,9,     -999.0,9, -999.00,9,-999.0000,9,-999.0000,9,-999.0000,9,-999.0000,9,-999.0000,9,-999.0000,9,-999.0000, -999.00
33RR20050106,       P16S,      32,          2,         13,         13,2,20050118,       2250,   -31.5000,  -150.0000,       4589,  1761.1,   2.4265,  34.5977,2,  34.5971,2,    155.6,2,   155.5,2,   96.95,2,   35.12,2,    0.00,2,    2.48,2,   0.000,2,   0.007,2,   0.001,2,  -999.0,9,  -999.0,9,-999.000,9,-999.0000,9, -999.00,9, -999.00,9,  -999.0,9,  -999.0,-999.000,9,-999.000,-999.0000,9,  1761.1,-999.000,   2.3040,     -999.0,9,     -999.0,9,     -999.0,9,     -999.0,9,     -999.0,9,     -999.0,9,     -999.0,9, -999.00,9,-999.0000,9,-999.0000,9,-999.0000,9,-999.0000,9,-999.0000,9,-999.0000,9,-999.0000, -999.00
33RR20050106,       P16S,      32,          2,         12,         12,2,20050118,       2250,   -31.5000,  -150.0000,       4589,  1963.8,   2.2065,  34.6290,2,  34.6289,2,    151.4,2,   151.8,2,  109.02,2,   35.39,2,    0.00,2,    2.50,2,-999.000,9,-999.000,9,-999.000,9,  -999.0,9,  -999.0,9,-999.000,9,-999.0000,9, -999.00,9, -999.00,9,  -999.0,9,  -999.0,-999.000,9,-999.000,-999.0000,9,  1963.8,-999.000,   2.0700,     -999.0,9,     -999.0,9,     -999.0,9,     -999.0,9,     -999.0,9,     -999.0,9,     -999.0,9, -999.00,9,-999.0000,9,-999.0000,9,-999.0000,9,-999.0000,9,-999.0000,9,-999.0000,9,-999.0000, -999.00
33RR20050106,       P16S,      32,          2,         11,         11,2,20050118,       2250,   -31.5000,  -150.0000,       4589,  2126.1,   2.0821,  34.6427,2,  34.6440,2,    150.1,2,   150.6,2,  115.37,2,   35.56,2,    0.00,2,    2.51,2,   0.002,2,  -0.001,2,   0.001,2,  -999.0,9,  -999.0,9,-999.000,9,-999.0000,9, -999.00,9, -999.00,9,  -999.0,9,  -999.0,-999.000,9,-999.000,-999.0000,9,  2126.1,-999.000,   1.9336,     -999.0,9,     -999.0,9,     -999.0,9,     -999.0,9,     -999.0,9,     -999.0,9,     -999.0,9, -999.00,9,-999.0000,9,-999.0000,9,-999.0000,9,-999.0000,9,-999.0000,9,-999.0000,9,-999.0000, -999.00
33RR20050106,       P16S,      32,          2,         10,         10,2,20050118,       2250,   -31.5000,  -150.0000,       4589,  2379.4,   1.9279,  34.6560,2,  34.6546,2,    149.6,2,   149.9,2,  122.54,2,   35.67,2,    0.00,2,    2.53,2,-999.000,9,-999.000,9,-999.000,9,  -999.0,9,  -999.0,9,-999.000,9,-999.0000,9, -999.00,9, -999.00,9,  -999.0,9,  -999.0,-999.000,9,-999.000,-999.0000,9,  2379.4,-999.000,   1.7598,     -999.0,9,     -999.0,9,     -999.0,9,     -999.0,9,     -999.0,9,     -999.0,9,     -999.0,9, -999.00,9,-999.0000,9,-999.0000,9,-999.0000,9,-999.0000,9,-999.0000,9,-999.0000,9,-999.0000, -999.00
33RR20050106,       P16S,      32,          2,          9,          9,2,20050118,       2250,   -31.5000,  -150.0000,       4589,  2633.6,   1.8200,  34.6652,2,  34.6646,2,    150.8,2,   151.3,2,  126.85,2,   35.67,2,    0.00,2,    2.52,2,   0.023,3,   0.027,3,   0.001,2,  -999.0,9,  -999.0,9,-999.000,9,-999.0000,9, -999.00,9, -999.00,9,  -999.0,9,  -999.0,-999.000,9,-999.000,-999.0000,9,  2633.6,-999.000,   1.6308,     -999.0,9,     -999.0,9,     -999.0,9,     -999.0,9,     -999.0,9,     -999.0,9,     -999.0,9, -999.00,9,-999.0000,9,-999.0000,9,-999.0000,9,-999.0000,9,-999.0000,9,-999.0000,9,-999.0000, -999.00
33RR20050106,       P16S,      32,          2,          8,          8,2,20050118,       2250,   -31.5000,  -150.0000,       4589,  2887.7,   1.7330,  34.6732,2,  34.6723,2,    154.0,2,   154.7,2,  128.09,2,   35.44,2,    0.00,2,    2.50,2,-999.000,9,-999.000,9,-999.000,9,  -999.0,9,  -999.0,9,-999.000,9,-999.0000,9, -999.00,9, -999.00,9,  -999.0,9,  -999.0,-999.000,9,-999.000,-999.0000,9,  2887.7,-999.000,   1.5218,     -999.0,9,     -999.0,9,     -999.0,9,     -999.0,9,     -999.0,9,     -999.0,9,     -999.0,9, -999.00,9,-999.0000,9,-999.0000,9,-999.0000,9,-999.0000,9,-999.0000,9,-999.0000,9,-999.0000, -999.00
33RR20050106,       P16S,      32,          2,          7,          7,2,20050118,       2250,   -31.5000,  -150.0000,       4589,  3142.2,   1.6474,  34.6819,2,  34.6809,2,    160.1,2,   160.8,2,  127.48,2,   35.00,2,    0.00,2,    2.47,2,  -0.004,3,  -0.001,3,   0.001,2,  -999.0,9,  -999.0,9,-999.000,9,-999.0000,9, -999.00,9, -999.00,9,  -999.0,9,  -999.0,-999.000,9,-999.000,-999.0000,9,  3142.2,-999.000,   1.4135,     -999.0,9,     -999.0,9,     -999.0,9,     -999.0,9,     -999.0,9,     -999.0,9,     -999.0,9, -999.00,9,-999.0000,9,-999.0000,9,-999.0000,9,-999.0000,9,-999.0000,9,-999.0000,9,-999.0000, -999.00