BOTTLE,20201109CCHSIOCBG
EXPOCODE,SECT_ID,STNNBR,CASTNO,SAMPNO,BTLNBR,BTLNBR_FLAG_W,DATE,TIME,LATITUDE,LONGITUDE,DEPTH,CTDPRS,CTDTMP,CTDSAL,CTDSAL_FLAG_W,SALNTY,SALNTY_FLAG_W,CTDOXY,CTDOXY_FLAG_W,OXYGEN,OXYGEN_FLAG_W,SILCAT,SILCAT_FLAG_W,NITRAT,NITRAT_FLAG_W,NITRIT,NITRIT_FLAG_W,PHSPHT,PHSPHT_FLAG_W,CFC-11,CFC-11_FLAG_W,CFC-12,CFC-12_FLAG_W,CFC113,CFC113_FLAG_W,TCARBN,TCARBN_FLAG_W,ALKALI,ALKALI_FLAG_W,TRITUM,TRITUM_FLAG_W,HELIUM,HELIUM_FLAG_W,DELHE3,DELHE3_FLAG_W,DELC13,DELC13_FLAG_W,DELC14,DELC14_FLAG_W,C14ERR,NEON,NEON_FLAG_W,NEONER,DOC,DOC_FLAG_W,CTDRAW,TRITER,THETA,FUCO,FUCO_FLAG_W,RHAM,RHAM_FLAG_W,ARABA,ARABA_FLAG_W,GALA,GALA_FLAG_W,GLUC,GLUC_FLAG_W,MAN,MAN_FLAG_W,DCNS,DCNS_FLAG_W,BRDU,BRDU_FLAG_W,CDOM325,CDOM325_FLAG_W,CDOM340,CDOM340_FLAG_W,CDOM380,CDOM380_FLAG_W,CDOM412,CDOM412_FLAG_W,CDOMSL,CDOMSL_FLAG_W,CDOMSN,CDOMSN_FLAG_W,HELIER,DELHER
,,,,,,,,,,,METERS,DBAR,ITS-90,PSS-78,,PSS-78,,UMOL/KG,,UMOL/KG,,UMOL/KG,,UMOL/KG,,UMOL/KG,,UMOL/KG,,PMOL/KG,,PMOL/KG,,PMOL/KG,,UMOL/KG,,UMOL/KG,,TU,,NMOL/KG,,PERCNT,,/MILLE,,/MILLE,,/MILLE,NMOL/KG,,NMOL/KG,UMOL/KG,,DBAR,TU,DEG C,NMOL/KG,,NMOL/KG,,NMOL/KG,,NMOL/KG,,NMOL/KG,,NMOL/KG,,NMOL/KG,,PMOL/L/H,,1/M,,1/M,,1/M,,1/M,,1/NM,,1/NM,,NMOL/KG,PERCNT
33RR20050106,       P16S,      72,          1,         36,         36,2,20050131,       1045,   -51.5000,  -150.0005,       4371,     5.5,  10.2138,  34.3805,2,  34.3802,2,    274.3,2,   275.5,2,    0.91,2,   10.23,2,    0.22,2,    0.81,2,   3.952,2,   2.154,2,   0.335,2,  2082.1,6,  2284.1,2,-999.000,9,-999.0000,9, -999.00,9, -999.00,5,    28.9,2,     4.0,-999.000,9,-999.000,-999.0000,9,     5.5,-999.000,  10.2132,     -999.0,9,     -999.0,9,     -999.0,9,     -999.0,9,     -999.0,9,     -999.0,9,     -999.0,9, -999.00,9,-999.0000,9,-999.0000,9,-999.0000,9,-999.0000,9,-999.0000,9,-999.0000,9,-999.0000, -999.00
33RR20050106,       P16S,      72,          1,         35,         35,2,20050131,       1045,   -51.5000,  -150.0005,       4371,    41.0,  10.2188,  34.3803,2,  34.3804,2,    276.5,2,   275.7,2,    0.90,2,   10.23,2,    0.22,2,    0.81,2,   3.955,2,   2.148,2,   0.344,2,  2081.1,2,  2285.2,2,-999.000,9,-999.0000,9, -999.00,9, -999.00,9,  -999.0,9,  -999.0,-999.000,9,-999.000,-999.0000,9,    41.0,-999.000,  10.2141,     -999.0,9,     -999.0,9,     -999.0,9,     -999.0,9,     -999.0,9,     -999.0,9,     -999.0,9, -999.00,9,-999.0000,9,-999.0000,9,-999.0000,9,-999.0000,9,-999.0000,9,-999.0000,9,-999.0000, -999.00
33RR20050106,       P16S,      72,          1,         34,         34,2,20050131,       1045,   -51.5000,  -150.0005,       4371,    86.6,   9.8677,  34.4109,2,  34.4063,2,    276.2,2,   273.8,2,    1.49,2,   10.86,2,    0.32,2,    0.86,2,-999.000,9,-999.000,9,-999.000,9,  2089.3,2,  2284.4,2,-999.000,9,-999.0000,9, -999.00,9, -999.00,9,  -999.0,9,  -999.0,-999.000,9,-999.000,-999.0000,9,    86.6,-999.000,   9.8579,     -999.0,9,     -999.0,9,     -999.0,9,     -999.0,9,     -999.0,9,     -999.0,9,     -999.0,9, -999.00,9,-999.0000,9,-999.0000,9,-999.0000,9,-999.0000,9,-999.0000,9,-999.0000,9,-999.0000, -999.00
33RR20050106,       P16S,      72,          1,         33,         33,2,20050131,       1045,   -51.5000,  -150.0005,       4371,   136.6,   8.1193,  34.4328,2,  34.4332,2,    271.3,2,   274.1,2,    3.65,2,   15.31,2,    0.01,2,    1.10,2,   4.409,2,   2.345,2,   0.376,2,  2112.7,2,  2283.7,2,-999.000,9,-999.0000,9, -999.00,9, -999.00,5,    33.2,2,     3.3,-999.000,9,-999.000,-999.0000,9,   136.6,-999.000,   8.1055,     -999.0,9,     -999.0,9,     -999.0,9,     -999.0,9,     -999.0,9,     -999.0,9,     -999.0,9, -999.00,9,-999.0000,9,-999.0000,9,-999.0000,9,-999.0000,9,-999.0000,9,-999.0000,9,-999.0000, -999.00
33RR20050106,       P16S,      72,          1,         32,         32,2,20050131,       1045,   -51.5000,  -150.0005,       4371,   161.5,   7.9980,  34.4156,2,  34.4151,2,    274.3,2,   275.7,2,    3.64,2,   15.57,2,    0.01,2,    1.12,2,-999.000,9,-999.000,9,-999.000,9,  2112.6,2,  -999.0,9,-999.000,9,-999.0000,9, -999.00,9, -999.00,9,  -999.0,9,  -999.0,-999.000,9,-999.000,-999.0000,9,   161.5,-999.000,   7.9818,     -999.0,9,     -999.0,9,     -999.0,9,     -999.0,9,     -999.0,9,     -999.0,9,     -999.0,9, -999.00,9,-999.0000,9,-999.0000,9,-999.0000,9,-999.0000,9,-999.0000,9,-999.0000,9,-999.0000, -999.00
33RR20050106,       P16S,      72,          1,         31,         31,2,20050131,       1045,   -51.5000,  -150.0005,       4371,   186.9,   7.9128,  34.4156,2,  34.4145,2,    271.1,2,   270.6,2,    4.03,2,   16.26,2,    0.01,2,    1.16,2,   4.295,2,   2.268,2,   0.371,2,  2117.0,2,  2280.8,2,-999.000,9,-999.0000,9, -999.00,9, -999.00,5,    28.5,2,     3.4,-999.000,9,-999.000,-999.0000,9,   186.9,-999.000,   7.8942,     -999.0,9,     -999.0,9,     -999.0,9,     -999.0,9,     -999.0,9,     -999.0,9,     -999.0,9, -999.00,9,-999.0000,9,-999.0000,9,-999.0000,9,-999.0000,9,-999.0000,9,-999.0000,9,-999.0000, -999.00
33RR20050106,       P16S,      72,          1,         30,         30,2,20050131,       1045,   -51.5000,  -150.0005,       4371,   242.1,   7.6404,  34.3985,2,  34.4000,2,    264.0,2,   268.0,2,    4.61,2,   17.54,2,    0.01,2,    1.23,2,-999.000,9,-999.000,9,-999.000,9,  2121.8,2,  -999.0,9,-999.000,9,-999.0000,9, -999.00,9, -999.00,9,  -999.0,9,  -999.0,-999.000,9,-999.000,-999.0000,9,   242.1,-999.000,   7.6167,     -999.0,9,     -999.0,9,     -999.0,9,     -999.0,9,     -999.0,9,     -999.0,9,     -999.0,9, -999.00,9,-999.0000,9,-999.0000,9,-999.0000,9,-999.0000,9,-999.0000,9,-999.0000,9,-999.0000, -999.00
33RR20050106,       P16S,      72,          1,         29,         29,2,20050131,       1045,   -51.5000,  -150.0005,       4371,   292.9,   7.5204,  34.4041,2,  34.4035,2,    261.7,2,   260.4,2,    5.59,2,   19.02,2,    0.01,2,    1.33,2,   4.319,2,   2.252,2,   0.347,2,  2128.5,2,  2281.0,2,-999.000,9,-999.0000,9, -999.00,9, -999.00,5,    21.0,2,     4.9,-999.000,9,-999.000,-999.0000,9,   292.9,-999.000,   7.4919,     -999.0,9,     -999.0,9,     -999.0,9,     -999.0,9,     -999.0,9,     -999.0,9,     -999.0,9, -999.00,9,-999.0000,9,-999.0000,9,-999.0000,9,-999.0000,9,-999.0000,9,-999.0000,9,-999.0000, -999.00
33RR20050106,       P16S,      72,          1,         28,         28,2,20050131,       1045,   -51.5000,  -150.0005,       4371,   343.2,   7.4264,  34.4035,2,  34.4029,2,    259.8,2,   261.3,2,    5.98,2,   19.24,2,    0.01,2,    1.35,2,-999.000,9,-999.000,9,-999.000,9,  2130.5,2,  2281.4,2,-999.000,9,-999.0000,9, -999.00,9, -999.00,5,    13.6,2,     3.0,-999.000,9,-999.000,-999.0000,9,   343.2,-999.000,   7.3931,     -999.0,9,     -999.0,9,     -999.0,9,     -999.0,9,     -999.0,9,     -999.0,9,     -999.0,9, -999.00,9,-999.0000,9,-999.0000,9,-999.0000,9,-999.0000,9,-999.0000,9,-999.0000,9,-999.0000, -999.00
33RR20050106,       P16S,      72,          1,         27,         27,2,20050131,       1045,   -51.5000,  -150.0005,       4371,   393.3,   7.2475,  34.3864,2,  34.3857,2,    261.3,2,   260.5,2,    6.36,2,   19.83,2,    0.00,2,    1.39,2,   4.245,2,   2.181,2,   0.346,2,  2131.7,2,  2281.2,2,-999.000,9,-999.0000,9, -999.00,9, -999.00,5,    21.3,2,     4.8,-999.000,9,-999.000,-999.0000,9,   393.3,-999.000,   7.2098,     -999.0,9,     -999.0,9,     -999.0,9,     -999.0,9,     -999.0,9,     -999.0,9,     -999.0,9, -999.00,9,-999.0000,9,-999.0000,9,-999.0000,9,-999.0000,9,-999.0000,9,-999.0000,9,-999.0000, -999.00
33RR20050106,       P16S,      72,          1,         26,         26,2,20050131,       1045,   -51.5000,  -150.0005,       4371,   443.2,   6.9305,  34.3503,2,  34.3507,2,    255.6,2,   257.3,2,    7.34,2,   20.79,2,    0.00,2,    1.45,2,-999.000,9,-999.000,9,-999.000,9,  2136.4,2,  -999.0,9,-999.000,9,-999.0000,9, -999.00,9, -999.00,9,  -999.0,9,  -999.0,-999.000,9,-999.000,-999.0000,9,   443.2,-999.000,   6.8889,     -999.0,9,     -999.0,9,     -999.0,9,     -999.0,9,     -999.0,9,     -999.0,9,     -999.0,9, -999.00,9,-999.0000,9,-999.0000,9,-999.0000,9,-999.0000,9,-999.0000,9,-999.0000,9,-999.0000, -999.00
33RR20050106,       P16S,      72,          1,         25,         25,2,20050131,       1045,   -51.5000,  -150.0005,       4371,   493.7,   6.6813,  34.3293,2,  34.3299,2,    250.4,2,   254.0,2,    8.52,2,   21.79,2,    0.00,2,    1.52,2,   4.078,2,   2.060,2,   0.325,2,  2136.1,2,  2280.4,2,-999.000,9,-999.0000,9, -999.00,9, -999.00,5,     8.7,2,     3.1,-999.000,9,-999.000,-999.0000,9,   493.7,-999.000,   6.6358,     -999.0,9,     -999.0,9,     -999.0,9,     -999.0,9,     -999.0,9,     -999.0,9,     -999.0,9, -999.00,9,-999.0000,9,-999.0000,9,-999.0000,9,-999.0000,9,-999.0000,9,-999.0000,9,-999.0000, -999.00
33RR20050106,       P16S,      72,          1,         24,         24,2,20050131,       1045,   -51.5000,  -150.0005,       4371,   579.1,   6.2780,  34.3136,2,  34.3140,2,    241.6,2,   244.9,2,   11.49,2,   23.57,2,    0.00,2,    1.63,2,   3.756,2,   1.893,2,   0.278,2,  2151.4,2,  2282.6,2,-999.000,9,-999.0000,9, -999.00,9, -999.00,5,     2.7,2,     3.6,-999.000,9,-999.000,-999.0000,9,   579.1,-999.000,   6.2260,     -999.0,9,     -999.0,9,     -999.0,9,     -999.0,9,     -999.0,9,     -999.0,9,     -999.0,9, -999.00,9,-999.0000,9,-999.0000,9,-999.0000,9,-999.0000,9,-999.0000,9,-999.0000,9,-999.0000, -999.00
33RR20050106,       P16S,      72,          1,         23,         23,2,20050131,       1045,   -51.5000,  -150.0005,       4371,   679.4,   5.8550,  34.3150,2,  34.3142,2,    231.9,2,   231.3,2,   15.66,2,   25.50,2,    0.00,2,    1.75,2,   3.274,2,   1.589,2,   0.229,2,  2162.0,2,  2284.9,2,-999.000,9,-999.0000,9, -999.00,9, -999.00,5,    -7.9,2,     3.5,-999.000,9,-999.000,-999.0000,9,   679.4,-999.000,   5.7957,     -999.0,9,     -999.0,9,     -999.0,9,     -999.0,9,     -999.0,9,     -999.0,9,     -999.0,9, -999.00,9,-999.0000,9,-999.0000,9,-999.0000,9,-999.0000,9,-999.0000,9,-999.0000,9,-999.0000, -999.00
33RR20050106,       P16S,      72,          1,         22,         22,2,20050131,       1045,   -51.5000,  -150.0005,       4371,   780.9,   5.3012,  34.3192,2,  34.3191,2,    219.4,2,   218.8,2,   21.63,2,   27.80,2,    0.00,2,    1.91,2,   2.726,2,   1.334,2,   0.171,2,  2177.1,2,  2287.9,2,-999.000,9,-999.0000,9, -999.00,9, -999.00,5,   -40.5,2,     3.6,-999.000,9,-999.000,-999.0000,9,   780.9,-999.000,   5.2358,     -999.0,9,     -999.0,9,     -999.0,9,     -999.0,9,     -999.0,9,     -999.0,9,     -999.0,9, -999.00,9,-999.0000,9,-999.0000,9,-999.0000,9,-999.0000,9,-999.0000,9,-999.0000,9,-999.0000, -999.00
33RR20050106,       P16S,      72,          1,         21,         21,2,20050131,       1045,   -51.5000,  -150.0005,       4371,   881.6,   4.7800,  34.3331,2,  34.3325,2,    210.1,2,   210.7,2,   27.81,2,   29.31,2,    0.00,2,    2.03,2,   2.209,2,   1.057,2,   0.147,2,  2188.1,2,  2294.7,2,-999.000,9,-999.0000,9, -999.00,9, -999.00,5,   -59.9,2,     3.5,-999.000,9,-999.000,-999.0000,9,   881.6,-999.000,   4.7090,     -999.0,9,     -999.0,9,     -999.0,9,     -999.0,9,     -999.0,9,     -999.0,9,     -999.0,9, -999.00,9,-999.0000,9,-999.0000,9,-999.0000,9,-999.0000,9,-999.0000,9,-999.0000,9,-999.0000, -999.00
33RR20050106,       P16S,      72,          1,         20,         20,2,20050131,       1045,   -51.5000,  -150.0005,       4371,   982.8,   4.1980,  34.3330,2,  34.3331,2,    206.2,2,   207.3,2,   34.40,2,   30.66,2,    0.00,2,    2.12,2,   2.025,2,   0.935,2,   0.140,2,  2199.0,2,  2298.4,2,-999.000,9,-999.0000,9, -999.00,9, -999.00,5,   -85.8,2,     3.6,-999.000,9,-999.000,-999.0000,9,   982.8,-999.000,   4.1225,     -999.0,9,     -999.0,9,     -999.0,9,     -999.0,9,     -999.0,9,     -999.0,9,     -999.0,9, -999.00,9,-999.0000,9,-999.0000,9,-999.0000,9,-999.0000,9,-999.0000,9,-999.0000,9,-999.0000, -999.00
33RR20050106,       P16S,      72,          1,         19,         19,2,20050131,       1045,   -51.5000,  -150.0005,       4371,  1083.2,   3.7693,  34.3511,2,  34.3503,2,    201.1,2,   201.7,2,   40.61,2,   31.74,2,    0.00,2,    2.20,2,   1.776,2,   0.833,2,   0.119,2,  2209.9,2,  2303.8,2,-999.000,9,-999.0000,9, -999.00,9, -999.00,5,   -85.4,2,     3.5,-999.000,9,-999.000,-999.0000,9,  1083.2,-999.000,   3.6889,     -999.0,9,     -999.0,9,     -999.0,9,     -999.0,9,     -999.0,9,     -999.0,9,     -999.0,9, -999.00,9,-999.0000,9,-999.0000,9,-999.0000,9,-999.0000,9,-999.0000,9,-999.0000,9,-999.0000, -999.00
33RR20050106,       P16S,      72,          1,         18,         18,2,20050131,       1045,   -51.5000,  -150.0005,       4371,  1184.4,   3.4428,  34.3831,2,  34.3827,2,    193.8,2,   193.8,2,   48.23,2,   32.66,2,    0.00,2,    2.27,2,-999.000,9,-999.000,9,-999.000,9,  2221.2,6,  2311.0,2,-999.000,9,-999.0000,9, -999.00,9, -999.00,5,   -95.4,2,     3.0,-999.000,9,-999.000,-999.0000,9,  1184.4,-999.000,   3.3569,     -999.0,9,     -999.0,9,     -999.0,9,     -999.0,9,     -999.0,9,     -999.0,9,     -999.0,9, -999.00,9,-999.0000,9,-999.0000,9,-999.0000,9,-999.0000,9,-999.0000,9,-999.0000,9,-999.0000, -999.00
33RR20050106,       P16S,      72,          1,         17,         17,2,20050131,       1045,   -51.5000,  -150.0005,       4371,  1285.1,   3.1819,  34.4200,2,  34.4192,2,    186.6,2,   187.0,2,   54.85,2,   33.24,2,    0.00,2,    2.32,2,   1.127,2,   0.524,2,   0.080,2,  2230.6,2,  2317.1,2,-999.000,9,-999.0000,9, -999.00,9, -999.00,5,  -113.3,2,     3.2,-999.000,9,-999.000,-999.0000,9,  1285.1,-999.000,   3.0902,     -999.0,9,     -999.0,9,     -999.0,9,     -999.0,9,     -999.0,9,     -999.0,9,     -999.0,9, -999.00,9,-999.0000,9,-999.0000,9,-999.0000,9,-999.0000,9,-999.0000,9,-999.0000,9,-999.0000, -999.00
33RR20050106,       P16S,      72,          1,         16,         16,2,20050131,       1045,   -51.5000,  -150.0005,       4371,  1386.0,   2.9720,  34.4528,2,  34.4526,2,    180.8,2,   182.3,2,   60.09,2,   33.68,2,    0.00,2,    2.35,2,-999.000,9,-999.000,9,-999.000,9,  -999.0,9,  2327.2,2,-999.000,9,-999.0000,9, -999.00,9, -999.00,9,  -999.0,9,  -999.0,-999.000,9,-999.000,-999.0000,9,  1386.0,-999.000,   2.8741,     -999.0,9,     -999.0,9,     -999.0,9,     -999.0,9,     -999.0,9,     -999.0,9,     -999.0,9, -999.00,9,-999.0000,9,-999.0000,9,-999.0000,9,-999.0000,9,-999.0000,9,-999.0000,9,-999.0000, -999.00
33RR20050106,       P16S,      72,          1,         15,         15,2,20050131,       1045,   -51.5000,  -150.0005,       4371,  1487.0,   2.7987,  34.4928,2,  34.4922,2,    177.3,2,   177.6,2,   65.72,2,   33.89,2,    0.00,2,    2.37,2,   0.772,2,   0.352,2,   0.052,2,  2245.9,2,  2327.2,2,-999.000,9,-999.0000,9, -999.00,9, -999.00,5,  -128.5,2,     3.4,-999.000,9,-999.000,-999.0000,9,  1487.0,-999.000,   2.6944,     -999.0,9,     -999.0,9,     -999.0,9,     -999.0,9,     -999.0,9,     -999.0,9,     -999.0,9, -999.00,9,-999.0000,9,-999.0000,9,-999.0000,9,-999.0000,9,-999.0000,9,-999.0000,9,-999.0000, -999.00
33RR20050106,       P16S,      72,          1,         14,         14,2,20050131,       1045,   -51.5000,  -150.0005,       4371,  1589.3,   2.6390,  34.5306,2,  34.5341,4,    174.7,2,   175.9,2,   69.34,2,   33.95,2,    0.00,2,    2.37,2,   0.661,2,   0.297,2,   0.038,2,  -999.0,9,  -999.0,9,-999.000,9,-999.0000,9, -999.00,9, -999.00,9,  -999.0,9,  -999.0,-999.000,9,-999.000,-999.0000,9,  1589.3,-999.000,   2.5282,     -999.0,9,     -999.0,9,     -999.0,9,     -999.0,9,     -999.0,9,     -999.0,9,     -999.0,9, -999.00,9,-999.0000,9,-999.0000,9,-999.0000,9,-999.0000,9,-999.0000,9,-999.0000,9,-999.0000, -999.00
33RR20050106,       P16S,      72,          1,         13,         13,2,20050131,       1045,   -51.5000,  -150.0005,       4371,  1688.7,   2.5501,  34.5669,2,  34.5669,2,    173.4,2,   174.2,2,   72.76,2,   33.72,2,    0.00,2,    2.35,2,   0.533,2,   0.240,2,   0.029,2,  -999.0,9,  -999.0,9,-999.000,9,-999.0000,9, -999.00,9, -999.00,9,  -999.0,9,  -999.0,-999.000,9,-999.000,-999.0000,9,  1688.7,-999.000,   2.4321,     -999.0,9,     -999.0,9,     -999.0,9,     -999.0,9,     -999.0,9,     -999.0,9,     -999.0,9, -999.00,9,-999.0000,9,-999.0000,9,-999.0000,9,-999.0000,9,-999.0000,9,-999.0000,9,-999.0000, -999.00
33RR20050106,       P16S,      72,          1,         12,         12,2,20050131,       1045,   -51.5000,  -150.0005,       4371,  1791.7,   2.4759,  34.6021,2,  34.6034,2,    173.3,2,   174.0,2,   75.58,2,   33.45,2,    0.00,2,    2.32,2,   0.408,2,   0.173,2,   0.024,2,  -999.0,9,  -999.0,9,-999.000,9,-999.0000,9, -999.00,9, -999.00,9,  -999.0,9,  -999.0,-999.000,9,-999.000,-999.0000,9,  1791.7,-999.000,   2.3501,     -999.0,9,     -999.0,9,     -999.0,9,     -999.0,9,     -999.0,9,     -999.0,9,     -999.0,9, -999.00,9,-999.0000,9,-999.0000,9,-999.0000,9,-999.0000,9,-999.0000,9,-999.0000,9,-999.0000, -999.00
33RR20050106,       P16S,      72,          1,         11,         11,2,20050131,       1045,   -51.5000,  -150.0005,       4371,  1994.2,   2.3595,  34.6562,2,  34.6557,2,    175.8,2,   176.4,2,   79.01,2,   32.69,2,    0.00,2,    2.27,2,   0.324,2,   0.157,2,   0.020,2,  -999.0,9,  -999.0,9,-999.000,9,-999.0000,9, -999.00,9, -999.00,9,  -999.0,9,  -999.0,-999.000,9,-999.000,-999.0000,9,  1994.2,-999.000,   2.2180,     -999.0,9,     -999.0,9,     -999.0,9,     -999.0,9,     -999.0,9,     -999.0,9,     -999.0,9, -999.00,9,-999.0000,9,-999.0000,9,-999.0000,9,-999.0000,9,-999.0000,9,-999.0000,9,-999.0000, -999.00
33RR20050106,       P16S,      72,          1,         10,         10,2,20050131,       1045,   -51.5000,  -150.0005,       4371,  2197.7,   2.2402,  34.6936,2,  34.6932,2,    180.1,2,   180.0,2,   83.04,2,   31.82,2,    0.00,2,    2.22,2,   1.020,4,   2.000,4,   0.227,4,  -999.0,9,  -999.0,9,-999.000,9,-999.0000,9, -999.00,9, -999.00,9,  -999.0,9,  -999.0,-999.000,9,-999.000,-999.0000,9,  2197.7,-999.000,   2.0827,     -999.0,9,     -999.0,9,     -999.0,9,     -999.0,9,     -999.0,9,     -999.0,9,     -999.0,9, -999.00,9,-999.0000,9,-999.0000,9,-999.0000,9,-999.0000,9,-999.0000,9,-999.0000,9,-999.0000, -999.00
33RR20050106,       P16S,      72,          1,          9,          9,2,20050131,       1045,   -51.5000,  -150.0005,       4371,  2451.5,   2.0873,  34.7201,2,  34.7203,2,    185.5,2,   185.7,2,   86.87,2,   31.33,2,    0.00,2,    2.17,2,-999.000,5,-999.000,5,-999.000,5,  -999.0,9,  -999.0,9,-999.000,9,-999.0000,9, -999.00,9, -999.00,9,  -999.0,9,  -999.0,-999.000,9,-999.000,-999.0000,9,  2451.5,-999.000,   1.9095,     -999.0,9,     -999.0,9,     -999.0,9,     -999.0,9,     -999.0,9,     -999.0,9,     -999.0,9, -999.00,9,-999.0000,9,-999.0000,9,-999.0000,9,-999.0000,9,-999.0000,9,-999.0000,9,-999.0000, -999.00
33RR20050106,       P16S,      72,          1,          8,          8,2,20050131,       1045,   -51.5000,  -150.0005,       4371,  2706.4,   1.9155,  34.7348,2,  34.7349,2,    191.1,2,   191.7,2,   90.91,2,   31.01,2,    0.00,2,    2.15,2,-999.000,5,-999.000,5,-999.000,5,  -999.0,9,  -999.0,9,-999.000,9,-999.0000,9, -999.00,9, -999.00,9,  -999.0,9,  -999.0,-999.000,9,-999.000,-999.0000,9,  2706.4,-999.000,   1.7174,     -999.0,9,     -999.0,9,     -999.0,9,     -999.0,9,     -999.0,9,     -999.0,9,     -999.0,9, -999.00,9,-999.0000,9,-999.0000,9,-999.0000,9,-999.0000,9,-999.0000,9,-999.0000,9,-999.0000, -999.00
33RR20050106,       P16S,      72,          1,          7,          7,2,20050131,       1045,   -51.5000,  -150.0005,       4371,  2959.4,   1.7253,  34.7360,2,  34.7364,2,    194.3,2,   194.9,2,   96.59,2,   31.06,2,    0.00,2,    2.15,2,   0.073,2,   0.038,2,  -0.002,2,  -999.0,9,  -999.0,9,-999.000,9,-999.0000,9, -999.00,9, -999.00,9,  -999.0,9,  -999.0,-999.000,9,-999.000,-999.0000,9,  2959.4,-999.000,   1.5071,     -999.0,9,     -999.0,9,     -999.0,9,     -999.0,9,     -999.0,9,     -999.0,9,     -999.0,9, -999.00,9,-999.0000,9,-999.0000,9,-999.0000,9,-999.0000,9,-999.0000,9,-999.0000,9,-999.0000, -999.00