BOTTLE,20201109CCHSIOCBG
EXPOCODE,SECT_ID,STNNBR,CASTNO,SAMPNO,BTLNBR,BTLNBR_FLAG_W,DATE,TIME,LATITUDE,LONGITUDE,DEPTH,CTDPRS,CTDTMP,CTDSAL,CTDSAL_FLAG_W,SALNTY,SALNTY_FLAG_W,CTDOXY,CTDOXY_FLAG_W,OXYGEN,OXYGEN_FLAG_W,SILCAT,SILCAT_FLAG_W,NITRAT,NITRAT_FLAG_W,NITRIT,NITRIT_FLAG_W,PHSPHT,PHSPHT_FLAG_W,CFC-11,CFC-11_FLAG_W,CFC-12,CFC-12_FLAG_W,CFC113,CFC113_FLAG_W,TCARBN,TCARBN_FLAG_W,ALKALI,ALKALI_FLAG_W,TRITUM,TRITUM_FLAG_W,HELIUM,HELIUM_FLAG_W,DELHE3,DELHE3_FLAG_W,DELC13,DELC13_FLAG_W,DELC14,DELC14_FLAG_W,C14ERR,NEON,NEON_FLAG_W,NEONER,DOC,DOC_FLAG_W,CTDRAW,TRITER,THETA,FUCO,FUCO_FLAG_W,RHAM,RHAM_FLAG_W,ARABA,ARABA_FLAG_W,GALA,GALA_FLAG_W,GLUC,GLUC_FLAG_W,MAN,MAN_FLAG_W,DCNS,DCNS_FLAG_W,BRDU,BRDU_FLAG_W,CDOM325,CDOM325_FLAG_W,CDOM340,CDOM340_FLAG_W,CDOM380,CDOM380_FLAG_W,CDOM412,CDOM412_FLAG_W,CDOMSL,CDOMSL_FLAG_W,CDOMSN,CDOMSN_FLAG_W,HELIER,DELHER
,,,,,,,,,,,METERS,DBAR,ITS-90,PSS-78,,PSS-78,,UMOL/KG,,UMOL/KG,,UMOL/KG,,UMOL/KG,,UMOL/KG,,UMOL/KG,,PMOL/KG,,PMOL/KG,,PMOL/KG,,UMOL/KG,,UMOL/KG,,TU,,NMOL/KG,,PERCNT,,/MILLE,,/MILLE,,/MILLE,NMOL/KG,,NMOL/KG,UMOL/KG,,DBAR,TU,DEG C,NMOL/KG,,NMOL/KG,,NMOL/KG,,NMOL/KG,,NMOL/KG,,NMOL/KG,,NMOL/KG,,PMOL/L/H,,1/M,,1/M,,1/M,,1/M,,1/NM,,1/NM,,NMOL/KG,PERCNT
33RR20050106,       P16S,      22,          1,         36,         36,2,20050116,       0504,   -26.4998,  -150.0005,       4604,     2.0,  25.5655,  35.3711,2,  35.3778,2,    209.4,2,   208.5,2,    0.41,2,    0.06,2,    0.00,2,    0.09,2,   1.902,2,   1.183,2,   0.127,2,  2008.7,6,  2320.8,2,-999.000,9,-999.0000,9, -999.00,9, -999.00,5,    76.2,2,     3.9,-999.000,9,-999.000,-999.0000,9,     2.0,-999.000,  25.5651,     -999.0,9,     -999.0,9,     -999.0,9,     -999.0,9,     -999.0,9,     -999.0,9,     -999.0,9, -999.00,9,-999.0000,9,-999.0000,9,-999.0000,9,-999.0000,9,-999.0000,9,-999.0000,9,-999.0000, -999.00
33RR20050106,       P16S,      22,          1,         35,         35,2,20050116,       0504,   -26.4998,  -150.0005,       4604,    55.7,  20.8476,  35.6170,2,  35.6151,2,    229.9,2,   229.1,2,    0.41,2,    0.06,2,    0.00,2,    0.09,2,   2.284,2,   1.364,2,   0.151,2,  2025.6,2,  2336.0,2,-999.000,9,-999.0000,9, -999.00,9, -999.00,5,    79.3,2,     3.9,-999.000,9,-999.000,-999.0000,9,    55.7,-999.000,  20.8370,     -999.0,9,     -999.0,9,     -999.0,9,     -999.0,9,     -999.0,9,     -999.0,9,     -999.0,9, -999.00,9,-999.0000,9,-999.0000,9,-999.0000,9,-999.0000,9,-999.0000,9,-999.0000,9,-999.0000, -999.00
33RR20050106,       P16S,      22,          1,         34,         34,2,20050116,       0504,   -26.4998,  -150.0005,       4604,   105.6,  20.0419,  35.6081,2,  35.6070,2,    230.3,2,   228.8,2,    0.41,2,    0.06,2,    0.00,2,    0.09,2,   2.282,2,   1.387,2,   0.146,2,  2028.7,2,  2335.7,2,-999.000,9,-999.0000,9, -999.00,9, -999.00,5,    75.1,2,     3.1,-999.000,9,-999.000,-999.0000,9,   105.6,-999.000,  20.0223,     -999.0,9,     -999.0,9,     -999.0,9,     -999.0,9,     -999.0,9,     -999.0,9,     -999.0,9, -999.00,9,-999.0000,9,-999.0000,9,-999.0000,9,-999.0000,9,-999.0000,9,-999.0000,9,-999.0000, -999.00
33RR20050106,       P16S,      22,          1,         33,         33,2,20050116,       0504,   -26.4998,  -150.0005,       4604,   156.0,  19.5165,  35.5648,2,  35.5612,2,    227.2,2,   224.3,2,    0.41,2,    0.06,2,    0.00,2,    0.10,2,   2.357,2,   1.396,2,   0.127,2,  2035.2,2,  2332.6,2,-999.000,9,-999.0000,9, -999.00,9, -999.00,5,    94.5,2,     3.6,-999.000,9,-999.000,-999.0000,9,   156.0,-999.000,  19.4881,     -999.0,9,     -999.0,9,     -999.0,9,     -999.0,9,     -999.0,9,     -999.0,9,     -999.0,9, -999.00,9,-999.0000,9,-999.0000,9,-999.0000,9,-999.0000,9,-999.0000,9,-999.0000,9,-999.0000, -999.00
33RR20050106,       P16S,      22,          1,         32,         32,2,20050116,       0504,   -26.4998,  -150.0005,       4604,   206.0,  18.6938,  35.5106,2,  35.5079,2,    220.9,2,   217.0,2,    0.41,2,    0.24,2,    0.14,2,    0.15,2,   2.437,2,   1.440,2,   0.138,2,  2048.7,2,  2328.3,2,-999.000,9,-999.0000,9, -999.00,9, -999.00,5,    79.4,6,     2.4,-999.000,9,-999.000,-999.0000,9,   206.0,-999.000,  18.6573,     -999.0,9,     -999.0,9,     -999.0,9,     -999.0,9,     -999.0,9,     -999.0,9,     -999.0,9, -999.00,9,-999.0000,9,-999.0000,9,-999.0000,9,-999.0000,9,-999.0000,9,-999.0000,9,-999.0000, -999.00
33RR20050106,       P16S,      22,          1,         31,         31,2,20050116,       0504,   -26.4998,  -150.0005,       4604,   255.7,  17.3556,  35.4028,2,  35.4030,2,    209.9,2,   207.9,2,    0.81,2,    2.03,2,    0.01,2,    0.27,2,   2.561,2,   1.476,2,   0.071,2,  -999.0,9,  -999.0,9,-999.000,9,-999.0000,9, -999.00,9, -999.00,9,  -999.0,9,  -999.0,-999.000,9,-999.000,-999.0000,9,   255.7,-999.000,  17.3126,     -999.0,9,     -999.0,9,     -999.0,9,     -999.0,9,     -999.0,9,     -999.0,9,     -999.0,9, -999.00,9,-999.0000,9,-999.0000,9,-999.0000,9,-999.0000,9,-999.0000,9,-999.0000,9,-999.0000, -999.00
33RR20050106,       P16S,      22,          1,         30,         30,2,20050116,       0504,   -26.4998,  -150.0005,       4604,   305.2,  15.5200,  35.2312,2,  35.2318,2,    204.9,2,   204.9,2,    1.21,2,    4.72,2,    0.00,2,    0.45,2,   2.700,2,   1.512,2,   0.039,2,  2082.9,2,  2312.9,2,-999.000,9,-999.0000,9, -999.00,9, -999.00,5,    79.0,2,     3.0,-999.000,9,-999.000,-999.0000,9,   305.2,-999.000,  15.4725,     -999.0,9,     -999.0,9,     -999.0,9,     -999.0,9,     -999.0,9,     -999.0,9,     -999.0,9, -999.00,9,-999.0000,9,-999.0000,9,-999.0000,9,-999.0000,9,-999.0000,9,-999.0000,9,-999.0000, -999.00
33RR20050106,       P16S,      22,          1,         29,         29,2,20050116,       0504,   -26.4998,  -150.0005,       4604,   355.6,  13.9741,  35.0607,2,  35.0610,2,    202.4,2,   202.1,2,    1.82,2,    7.74,2,    0.00,2,    0.65,2,   2.707,2,   1.461,2,   0.030,2,  -999.0,9,  -999.0,9,-999.000,9,-999.0000,9, -999.00,9, -999.00,9,  -999.0,9,  -999.0,-999.000,9,-999.000,-999.0000,9,   355.6,-999.000,  13.9225,     -999.0,9,     -999.0,9,     -999.0,9,     -999.0,9,     -999.0,9,     -999.0,9,     -999.0,9, -999.00,9,-999.0000,9,-999.0000,9,-999.0000,9,-999.0000,9,-999.0000,9,-999.0000,9,-999.0000, -999.00
33RR20050106,       P16S,      22,          1,         28,         28,2,20050116,       0504,   -26.4998,  -150.0005,       4604,   406.1,  12.1261,  34.8609,2,  34.8570,2,    204.0,2,   204.6,2,    2.62,2,   11.47,2,    0.00,2,    0.88,2,   2.791,2,   1.482,2,   0.041,2,  2110.2,2,  2295.4,2,-999.000,9,-999.0000,9, -999.00,9, -999.00,5,    57.2,2,     3.6,-999.000,9,-999.000,-999.0000,9,   406.1,-999.000,  12.0724,     -999.0,9,     -999.0,9,     -999.0,9,     -999.0,9,     -999.0,9,     -999.0,9,     -999.0,9, -999.00,9,-999.0000,9,-999.0000,9,-999.0000,9,-999.0000,9,-999.0000,9,-999.0000,9,-999.0000, -999.00
33RR20050106,       P16S,      22,          1,         27,         27,2,20050116,       0504,   -26.4998,  -150.0005,       4604,   456.0,  10.1392,  34.6468,2,  34.6494,2,    207.3,2,   209.3,2,    3.83,2,   15.75,2,    0.00,2,    1.15,2,-999.000,9,-999.000,9,-999.000,9,  -999.0,9,  -999.0,9,-999.000,9,-999.0000,9, -999.00,9, -999.00,9,  -999.0,9,  -999.0,-999.000,9,-999.000,-999.0000,9,   456.0,-999.000,  10.0854,     -999.0,9,     -999.0,9,     -999.0,9,     -999.0,9,     -999.0,9,     -999.0,9,     -999.0,9, -999.00,9,-999.0000,9,-999.0000,9,-999.0000,9,-999.0000,9,-999.0000,9,-999.0000,9,-999.0000, -999.00
33RR20050106,       P16S,      22,          1,         26,         26,2,20050116,       0504,   -26.4998,  -150.0005,       4604,   506.0,   8.7471,  34.5095,2,  34.5091,2,    217.1,2,   219.0,2,    4.82,2,   18.57,2,    0.00,2,    1.33,2,   2.805,2,   1.375,2,   0.119,2,  2130.3,2,  2281.8,2,-999.000,9,-999.0000,9, -999.00,9, -999.00,5,    40.9,2,     3.4,-999.000,9,-999.000,-999.0000,9,   506.0,-999.000,   8.6924,     -999.0,9,     -999.0,9,     -999.0,9,     -999.0,9,     -999.0,9,     -999.0,9,     -999.0,9, -999.00,9,-999.0000,9,-999.0000,9,-999.0000,9,-999.0000,9,-999.0000,9,-999.0000,9,-999.0000, -999.00
33RR20050106,       P16S,      22,          1,         25,         25,2,20050116,       0504,   -26.4998,  -150.0005,       4604,   606.5,   6.9848,  34.3717,2,  34.3708,2,    230.3,2,   232.8,2,    7.44,2,   22.49,2,    0.00,2,    1.58,2,   2.468,2,   1.247,2,   0.058,2,  2140.4,2,  2279.3,2,-999.000,9,-999.0000,9, -999.00,9, -999.00,5,    26.4,2,     3.5,-999.000,9,-999.000,-999.0000,9,   606.5,-999.000,   6.9270,     -999.0,9,     -999.0,9,     -999.0,9,     -999.0,9,     -999.0,9,     -999.0,9,     -999.0,9, -999.00,9,-999.0000,9,-999.0000,9,-999.0000,9,-999.0000,9,-999.0000,9,-999.0000,9,-999.0000, -999.00
33RR20050106,       P16S,      22,          1,         24,         24,2,20050116,       0504,   -26.4998,  -150.0005,       4604,   706.8,   6.1578,  34.3264,2,  34.3260,2,    232.5,2,   235.6,2,   10.05,2,   24.57,2,    0.00,2,    1.70,2,   1.769,2,   0.909,2,   0.036,2,  2146.2,2,  2280.5,2,-999.000,9,-999.0000,9, -999.00,9, -999.00,5,    -1.0,2,     3.0,-999.000,9,-999.000,-999.0000,9,   706.8,-999.000,   6.0944,     -999.0,9,     -999.0,9,     -999.0,9,     -999.0,9,     -999.0,9,     -999.0,9,     -999.0,9, -999.00,9,-999.0000,9,-999.0000,9,-999.0000,9,-999.0000,9,-999.0000,9,-999.0000,9,-999.0000, -999.00
33RR20050106,       P16S,      22,          1,         23,         23,2,20050116,       0504,   -26.4998,  -150.0005,       4604,   806.8,   5.5005,  34.3043,2,  34.3044,2,    224.6,2,   225.0,2,   80.05,4,   34.83,4,    0.00,4,    2.46,4,   1.046,2,   0.541,2,   0.014,2,  2159.6,2,  2281.4,2,-999.000,9,-999.0000,9, -999.00,9, -999.00,5,   -34.6,2,     3.0,-999.000,9,-999.000,-999.0000,9,   806.8,-999.000,   5.4316,     -999.0,9,     -999.0,9,     -999.0,9,     -999.0,9,     -999.0,9,     -999.0,9,     -999.0,9, -999.00,9,-999.0000,9,-999.0000,9,-999.0000,9,-999.0000,9,-999.0000,9,-999.0000,9,-999.0000, -999.00
33RR20050106,       P16S,      22,          1,         22,         22,2,20050116,       0504,   -26.4998,  -150.0005,       4604,   907.5,   4.9725,  34.3148,2,  34.3146,2,    207.9,2,   208.5,2,   23.56,2,   29.36,2,    0.00,2,    2.05,2,   0.592,2,   0.314,2,   0.001,2,  2177.9,2,  2289.7,2,-999.000,9,-999.0000,9, -999.00,9, -999.00,5,   -69.6,2,     3.0,-999.000,9,-999.000,-999.0000,9,   907.5,-999.000,   4.8980,     -999.0,9,     -999.0,9,     -999.0,9,     -999.0,9,     -999.0,9,     -999.0,9,     -999.0,9, -999.00,9,-999.0000,9,-999.0000,9,-999.0000,9,-999.0000,9,-999.0000,9,-999.0000,9,-999.0000, -999.00
33RR20050106,       P16S,      22,          1,         21,         21,2,20050116,       0504,   -26.4998,  -150.0005,       4604,  1008.2,   4.4036,  34.3451,2,  34.3456,2,    190.3,2,   190.6,2,   34.49,2,   31.72,2,    0.00,2,    2.21,2,   0.294,2,   0.167,2,   0.001,2,  2199.9,2,  2300.6,2,-999.000,9,-999.0000,9, -999.00,9, -999.00,5,  -101.4,2,     3.6,-999.000,9,-999.000,-999.0000,9,  1008.2,-999.000,   4.3244,     -999.0,9,     -999.0,9,     -999.0,9,     -999.0,9,     -999.0,9,     -999.0,9,     -999.0,9, -999.00,9,-999.0000,9,-999.0000,9,-999.0000,9,-999.0000,9,-999.0000,9,-999.0000,9,-999.0000, -999.00
33RR20050106,       P16S,      22,          1,         20,         20,2,20050116,       0504,   -26.4998,  -150.0005,       4604,  1109.0,   3.9915,  34.3828,2,  34.3841,2,    177.7,2,   178.5,2,   45.06,2,   33.11,2,    0.00,2,    2.32,2,   0.162,2,   0.098,2,   0.001,2,  2217.6,2,  2310.6,2,-999.000,9,-999.0000,9, -999.00,9, -999.00,5,  -120.5,2,     2.8,-999.000,9,-999.000,-999.0000,9,  1109.0,-999.000,   3.9070,     -999.0,9,     -999.0,9,     -999.0,9,     -999.0,9,     -999.0,9,     -999.0,9,     -999.0,9, -999.00,9,-999.0000,9,-999.0000,9,-999.0000,9,-999.0000,9,-999.0000,9,-999.0000,9,-999.0000, -999.00
33RR20050106,       P16S,      22,          1,         19,         19,2,20050116,       0504,   -26.4998,  -150.0005,       4604,  1209.9,   3.6103,  34.4263,2,  34.4257,2,    169.4,2,   169.6,2,   55.85,2,   34.11,2,    0.00,2,    2.40,2,-999.000,5,-999.000,5,-999.000,5,  2232.6,2,  2321.7,2,-999.000,9,-999.0000,9, -999.00,9, -999.00,5,  -141.5,2,     3.2,-999.000,9,-999.000,-999.0000,9,  1209.9,-999.000,   3.5206,     -999.0,9,     -999.0,9,     -999.0,9,     -999.0,9,     -999.0,9,     -999.0,9,     -999.0,9, -999.00,9,-999.0000,9,-999.0000,9,-999.0000,9,-999.0000,9,-999.0000,9,-999.0000,9,-999.0000, -999.00
33RR20050106,       P16S,      22,          1,         18,         18,2,20050116,       0504,   -26.4998,  -150.0005,       4604,  1310.0,   3.2654,  34.4695,2,  34.4679,2,    165.8,2,   165.1,2,   66.67,2,   34.56,2,    0.00,2,    2.43,2,-999.000,5,-999.000,5,-999.000,5,  -999.0,9,  -999.0,9,-999.000,9,-999.0000,9, -999.00,9, -999.00,9,  -999.0,9,  -999.0,-999.000,9,-999.000,-999.0000,9,  1310.0,-999.000,   3.1707,     -999.0,9,     -999.0,9,     -999.0,9,     -999.0,9,     -999.0,9,     -999.0,9,     -999.0,9, -999.00,9,-999.0000,9,-999.0000,9,-999.0000,9,-999.0000,9,-999.0000,9,-999.0000,9,-999.0000, -999.00
33RR20050106,       P16S,      22,          1,         17,         17,2,20050116,       0504,   -26.4998,  -150.0005,       4604,  1411.0,   2.8856,  34.5210,2,  34.5205,2,    162.0,2,   161.1,2,   79.99,2,   34.95,2,    0.00,2,    2.46,2,   0.034,2,   0.025,2,   0.001,2,  2261.5,6,  2349.1,2,-999.000,9,-999.0000,9, -999.00,9, -999.00,5,  -178.5,2,     3.2,-999.000,9,-999.000,-999.0000,9,  1411.0,-999.000,   2.7865,     -999.0,9,     -999.0,9,     -999.0,9,     -999.0,9,     -999.0,9,     -999.0,9,     -999.0,9, -999.00,9,-999.0000,9,-999.0000,9,-999.0000,9,-999.0000,9,-999.0000,9,-999.0000,9,-999.0000, -999.00
33RR20050106,       P16S,      22,          1,         16,         16,2,20050116,       0504,   -26.4998,  -150.0005,       4604,  1512.4,   2.7035,  34.5476,2,  34.5474,2,    159.1,2,   159.0,2,   87.58,2,   35.01,2,    0.00,2,    2.47,2,   0.003,2,   0.011,3,   0.001,2,  -999.0,9,  -999.0,9,-999.000,9,-999.0000,9, -999.00,9, -999.00,9,  -999.0,9,  -999.0,-999.000,9,-999.000,-999.0000,9,  1512.4,-999.000,   2.5981,     -999.0,9,     -999.0,9,     -999.0,9,     -999.0,9,     -999.0,9,     -999.0,9,     -999.0,9, -999.00,9,-999.0000,9,-999.0000,9,-999.0000,9,-999.0000,9,-999.0000,9,-999.0000,9,-999.0000, -999.00
33RR20050106,       P16S,      22,          1,         15,         15,2,20050116,       0504,   -26.4998,  -150.0005,       4604,  1612.2,   2.5501,  34.5704,2,  34.5692,2,    157.2,2,   157.1,2,   93.94,2,   35.17,2,    0.00,2,    2.49,2,-999.000,9,-999.000,9,-999.000,9,  -999.0,9,  -999.0,9,-999.000,9,-999.0000,9, -999.00,9, -999.00,9,  -999.0,9,  -999.0,-999.000,9,-999.000,-999.0000,9,  1612.2,-999.000,   2.4384,     -999.0,9,     -999.0,9,     -999.0,9,     -999.0,9,     -999.0,9,     -999.0,9,     -999.0,9, -999.00,9,-999.0000,9,-999.0000,9,-999.0000,9,-999.0000,9,-999.0000,9,-999.0000,9,-999.0000, -999.00
33RR20050106,       P16S,      22,          1,         14,         14,2,20050116,       0504,   -26.4998,  -150.0005,       4604,  1713.7,   2.4142,  34.5897,2,  34.5887,2,    155.3,2,   155.7,2,  100.12,2,   35.28,2,    0.00,2,    2.50,2,   0.007,2,   0.017,3,   0.001,2,  -999.0,9,  -999.0,9,-999.000,9,-999.0000,9, -999.00,9, -999.00,9,  -999.0,9,  -999.0,-999.000,9,-999.000,-999.0000,9,  1713.7,-999.000,   2.2958,     -999.0,9,     -999.0,9,     -999.0,9,     -999.0,9,     -999.0,9,     -999.0,9,     -999.0,9, -999.00,9,-999.0000,9,-999.0000,9,-999.0000,9,-999.0000,9,-999.0000,9,-999.0000,9,-999.0000, -999.00
33RR20050106,       P16S,      22,          1,         13,         13,2,20050116,       0504,   -26.4998,  -150.0005,       4604,  1815.1,   2.2708,  34.6095,2,  34.6081,2,    153.8,2,   154.2,2,  106.29,2,   35.46,2,    0.00,2,    2.50,2,-999.000,9,-999.000,9,-999.000,9,  -999.0,9,  -999.0,9,-999.000,9,-999.0000,9, -999.00,9, -999.00,9,  -999.0,9,  -999.0,-999.000,9,-999.000,-999.0000,9,  1815.1,-999.000,   2.1459,     -999.0,9,     -999.0,9,     -999.0,9,     -999.0,9,     -999.0,9,     -999.0,9,     -999.0,9, -999.00,9,-999.0000,9,-999.0000,9,-999.0000,9,-999.0000,9,-999.0000,9,-999.0000,9,-999.0000, -999.00
33RR20050106,       P16S,      22,          1,         12,         12,2,20050116,       0504,   -26.4998,  -150.0005,       4604,  1915.4,   2.2052,  34.6186,2,  34.6180,2,    153.2,2,   153.5,2,  109.36,2,   35.52,2,    0.00,2,    2.51,2,-999.000,9,-999.000,9,-999.000,9,  -999.0,9,  -999.0,9,-999.000,9,-999.0000,9, -999.00,9, -999.00,9,  -999.0,9,  -999.0,-999.000,9,-999.000,-999.0000,9,  1915.4,-999.000,   2.0728,     -999.0,9,     -999.0,9,     -999.0,9,     -999.0,9,     -999.0,9,     -999.0,9,     -999.0,9, -999.00,9,-999.0000,9,-999.0000,9,-999.0000,9,-999.0000,9,-999.0000,9,-999.0000,9,-999.0000, -999.00
33RR20050106,       P16S,      22,          1,         11,         11,2,20050116,       0504,   -26.4998,  -150.0005,       4604,  2016.4,   2.1181,  34.6299,2,  34.6295,2,    152.3,2,   152.7,2,  113.48,2,   35.51,2,    0.00,2,    2.52,2,   0.003,2,   0.008,2,   0.001,2,  -999.0,9,  -999.0,9,-999.000,9,-999.0000,9, -999.00,9, -999.00,9,  -999.0,9,  -999.0,-999.000,9,-999.000,-999.0000,9,  2016.4,-999.000,   1.9785,     -999.0,9,     -999.0,9,     -999.0,9,     -999.0,9,     -999.0,9,     -999.0,9,     -999.0,9, -999.00,9,-999.0000,9,-999.0000,9,-999.0000,9,-999.0000,9,-999.0000,9,-999.0000,9,-999.0000, -999.00
33RR20050106,       P16S,      22,          1,         10,         10,2,20050116,       0504,   -26.4998,  -150.0005,       4604,  2269.1,   1.9500,  34.6498,2,  34.6486,2,    151.0,2,   151.4,2,  121.10,2,   35.63,2,    0.00,2,    2.52,2,-999.000,9,-999.000,9,-999.000,9,  -999.0,9,  -999.0,9,-999.000,9,-999.0000,9, -999.00,9, -999.00,9,  -999.0,9,  -999.0,-999.000,9,-999.000,-999.0000,9,  2269.1,-999.000,   1.7912,     -999.0,9,     -999.0,9,     -999.0,9,     -999.0,9,     -999.0,9,     -999.0,9,     -999.0,9, -999.00,9,-999.0000,9,-999.0000,9,-999.0000,9,-999.0000,9,-999.0000,9,-999.0000,9,-999.0000, -999.00
33RR20050106,       P16S,      22,          1,          9,          9,2,20050116,       0504,   -26.4998,  -150.0005,       4604,  2523.1,   1.8571,  34.6594,2,  34.6584,2,    152.1,2,   152.8,2,  124.61,2,   35.57,2,    0.00,2,    2.52,2,  -0.003,2,   0.002,2,   0.001,2,  -999.0,9,  -999.0,9,-999.000,9,-999.0000,9, -999.00,9, -999.00,9,  -999.0,9,  -999.0,-999.000,9,-999.000,-999.0000,9,  2523.1,-999.000,   1.6773,     -999.0,9,     -999.0,9,     -999.0,9,     -999.0,9,     -999.0,9,     -999.0,9,     -999.0,9, -999.00,9,-999.0000,9,-999.0000,9,-999.0000,9,-999.0000,9,-999.0000,9,-999.0000,9,-999.0000, -999.00
33RR20050106,       P16S,      22,          1,          8,          8,2,20050116,       0504,   -26.4998,  -150.0005,       4604,  2776.8,   1.7582,  34.6681,2,  34.6677,2,    155.4,2,   156.4,2,  126.25,2,   35.42,2,    0.00,2,    2.51,2,-999.000,9,-999.000,9,-999.000,9,  -999.0,9,  -999.0,9,-999.000,9,-999.0000,9, -999.00,9, -999.00,9,  -999.0,9,  -999.0,-999.000,9,-999.000,-999.0000,9,  2776.8,-999.000,   1.5570,     -999.0,9,     -999.0,9,     -999.0,9,     -999.0,9,     -999.0,9,     -999.0,9,     -999.0,9, -999.00,9,-999.0000,9,-999.0000,9,-999.0000,9,-999.0000,9,-999.0000,9,-999.0000,9,-999.0000, -999.00
33RR20050106,       P16S,      22,          1,          7,          7,2,20050116,       0504,   -26.4998,  -150.0005,       4604,  3233.1,   1.6255,  34.6798,2,  34.6795,2,    163.5,2,   164.8,2,  126.23,2,   34.80,2,    0.00,2,    2.46,2,   0.005,2,   0.007,2,   0.001,2,  -999.0,9,  -999.0,9,-999.000,9,-999.0000,9, -999.00,9, -999.00,9,  -999.0,9,  -999.0,-999.000,9,-999.000,-999.0000,9,  3233.1,-999.000,   1.3831,     -999.0,9,     -999.0,9,     -999.0,9,     -999.0,9,     -999.0,9,     -999.0,9,     -999.0,9, -999.00,9,-999.0000,9,-999.0000,9,-999.0000,9,-999.0000,9,-999.0000,9,-999.0000,9,-999.0000, -999.00