BOTTLE,20201109CCHSIOCBG
EXPOCODE,SECT_ID,STNNBR,CASTNO,SAMPNO,BTLNBR,BTLNBR_FLAG_W,DATE,TIME,LATITUDE,LONGITUDE,DEPTH,CTDPRS,CTDTMP,CTDSAL,CTDSAL_FLAG_W,SALNTY,SALNTY_FLAG_W,CTDOXY,CTDOXY_FLAG_W,OXYGEN,OXYGEN_FLAG_W,SILCAT,SILCAT_FLAG_W,NITRAT,NITRAT_FLAG_W,NITRIT,NITRIT_FLAG_W,PHSPHT,PHSPHT_FLAG_W,CFC-11,CFC-11_FLAG_W,CFC-12,CFC-12_FLAG_W,CFC113,CFC113_FLAG_W,TCARBN,TCARBN_FLAG_W,ALKALI,ALKALI_FLAG_W,TRITUM,TRITUM_FLAG_W,HELIUM,HELIUM_FLAG_W,DELHE3,DELHE3_FLAG_W,DELC13,DELC13_FLAG_W,DELC14,DELC14_FLAG_W,C14ERR,NEON,NEON_FLAG_W,NEONER,DOC,DOC_FLAG_W,CTDRAW,TRITER,THETA,FUCO,FUCO_FLAG_W,RHAM,RHAM_FLAG_W,ARABA,ARABA_FLAG_W,GALA,GALA_FLAG_W,GLUC,GLUC_FLAG_W,MAN,MAN_FLAG_W,DCNS,DCNS_FLAG_W,BRDU,BRDU_FLAG_W,CDOM325,CDOM325_FLAG_W,CDOM340,CDOM340_FLAG_W,CDOM380,CDOM380_FLAG_W,CDOM412,CDOM412_FLAG_W,CDOMSL,CDOMSL_FLAG_W,CDOMSN,CDOMSN_FLAG_W,HELIER,DELHER
,,,,,,,,,,,METERS,DBAR,ITS-90,PSS-78,,PSS-78,,UMOL/KG,,UMOL/KG,,UMOL/KG,,UMOL/KG,,UMOL/KG,,UMOL/KG,,PMOL/KG,,PMOL/KG,,PMOL/KG,,UMOL/KG,,UMOL/KG,,TU,,NMOL/KG,,PERCNT,,/MILLE,,/MILLE,,/MILLE,NMOL/KG,,NMOL/KG,UMOL/KG,,DBAR,TU,DEG C,NMOL/KG,,NMOL/KG,,NMOL/KG,,NMOL/KG,,NMOL/KG,,NMOL/KG,,NMOL/KG,,PMOL/L/H,,1/M,,1/M,,1/M,,1/M,,1/NM,,1/NM,,NMOL/KG,PERCNT
33RR20050106,       P16S,      65,          1,         36,         36,2,20050128,       2056,   -47.9988,  -150.0003,       4675,     5.1,  11.7389,  34.5296,2,  34.5296,2,    268.6,2,   269.7,2,    0.58,2,    6.31,2,    0.13,2,    0.61,2,   3.339,2,   1.964,2,   0.268,2,  2069.4,6,  2288.6,6,-999.000,9,-999.0000,9, -999.00,9, -999.00,9,  -999.0,9,  -999.0,-999.000,9,-999.000,  54.9653,2,     5.1,-999.000,  11.7383,        184,2,        122,2,        126,2,        378,2,        262,2,        346,2,       1417,2,    1.12,2,   0.0930,2,   0.0630,2,   0.0280,2,   0.0180,2,   0.0223,2,   0.0232,2,-999.0000, -999.00
33RR20050106,       P16S,      65,          1,         35,         35,2,20050128,       2056,   -47.9988,  -150.0003,       4675,    37.2,  11.7381,  34.5291,2,  34.5290,2,    269.9,2,   269.6,2,    0.57,2,    6.31,2,    0.13,2,    0.62,2,   3.331,2,   1.983,2,   0.268,2,  2068.5,2,  2289.2,6,-999.000,9,-999.0000,9, -999.00,9, -999.00,9,  -999.0,9,  -999.0,-999.000,9,-999.000,  53.0194,2,    37.2,-999.000,  11.7334,        135,2,         84,2,         44,2,        253,2,        141,2,        248,2,        906,2,    1.41,2,   0.0980,2,   0.0680,2,   0.0310,2,   0.0210,2,   0.0210,2,   0.0220,2,-999.0000, -999.00
33RR20050106,       P16S,      65,          1,         34,         34,2,20050128,       2056,   -47.9988,  -150.0003,       4675,    54.2,  11.6920,  34.5308,2,  34.5309,2,    270.3,2,   269.5,2,    0.57,2,    6.31,2,    0.14,2,    0.62,2,   3.358,2,   1.964,2,   0.271,2,  2069.8,2,  2289.0,2,-999.000,9,-999.0000,9, -999.00,9, -999.00,9,  -999.0,9,  -999.0,-999.000,9,-999.000,  51.6057,2,    54.2,-999.000,  11.6851,        162,2,        105,2,         37,2,        331,2,        274,2,        360,2,       1268,2,    2.86,2,   0.0880,3,   0.0590,3,   0.0250,3,   0.0160,3,   0.0238,3,   0.0247,3,-999.0000, -999.00
33RR20050106,       P16S,      65,          1,         33,         33,2,20050128,       2056,   -47.9988,  -150.0003,       4675,    72.0,   9.5546,  34.5451,2,  34.5445,2,    271.2,2,   271.8,2,    2.16,2,    9.16,2,    0.46,2,    0.86,2,   3.642,2,   2.104,2,   0.292,2,  2100.2,2,  2289.2,2,-999.000,9,-999.0000,9, -999.00,9, -999.00,9,  -999.0,9,  -999.0,-999.000,9,-999.000,  49.0041,2,    72.0,-999.000,   9.5466,         96,2,         91,2,         62,2,        192,2,        173,2,        199,2,        813,2,    0.76,2,   0.0880,2,   0.0610,2,   0.0310,2,   0.0240,2,   0.0188,2,   0.0200,2,-999.0000, -999.00
33RR20050106,       P16S,      65,          1,         32,         32,2,20050128,       2056,   -47.9988,  -150.0003,       4675,   122.4,   9.2247,  34.5655,2,  34.5675,2,    266.9,2,   268.8,2,    2.36,2,   11.35,2,    0.21,2,    0.89,2,   3.669,2,   2.155,2,   0.288,2,  2102.2,2,  2286.1,2,-999.000,9,-999.0000,9, -999.00,9, -999.00,9,  -999.0,9,  -999.0,-999.000,9,-999.000,  48.5122,2,   122.4,-999.000,   9.2113,         91,2,         69,2,         44,2,        149,2,        182,2,        133,2,        668,2,    0.40,2,   0.0800,2,   0.0550,2,   0.0280,2,   0.0210,2,   0.0205,2,   0.0218,2,-999.0000, -999.00
33RR20050106,       P16S,      65,          1,         31,         31,2,20050128,       2056,   -47.9988,  -150.0003,       4675,   172.5,   9.0017,  34.5591,2,  34.5598,2,    267.9,2,   269.8,2,    2.55,2,   11.89,2,    0.04,2,    0.91,2,   3.698,2,   2.165,2,   0.297,2,  2105.5,2,  2285.7,2,-999.000,9,-999.0000,9, -999.00,9, -999.00,9,  -999.0,9,  -999.0,-999.000,9,-999.000,  47.5447,2,   172.5,-999.000,   8.9831,         74,2,         65,2,         70,2,        130,2,        185,2,        130,2,        653,2,    0.36,2,   0.0770,2,   0.0510,2,   0.0260,2,   0.0200,2,   0.0213,2,   0.0229,2,-999.0000, -999.00
33RR20050106,       P16S,      65,          1,         30,         30,2,20050128,       2056,   -47.9988,  -150.0003,       4675,   222.9,   8.8469,  34.5552,2,  34.5549,2,    266.9,2,   270.8,2,    2.75,2,   12.49,2,    0.03,2,    0.95,2,   3.710,2,   2.164,2,   0.295,2,  2107.0,2,  2285.1,2,-999.000,9,-999.0000,9, -999.00,9, -999.00,9,  -999.0,9,  -999.0,-999.000,9,-999.000,  47.7328,2,   222.9,-999.000,   8.8230,     -999.0,9,     -999.0,9,     -999.0,9,     -999.0,9,     -999.0,9,     -999.0,9,     -999.0,9,    0.09,2,   0.0810,2,   0.0550,2,   0.0250,2,   0.0200,2,   0.0238,2,   0.0247,2,-999.0000, -999.00
33RR20050106,       P16S,      65,          1,         29,         29,2,20050128,       2056,   -47.9988,  -150.0003,       4675,   283.7,   8.5180,  34.5249,2,  34.5224,2,    258.9,2,   259.8,2,    3.75,2,   15.04,2,    0.02,2,    1.11,2,-999.000,9,-999.000,9,-999.000,9,  2118.0,2,  2284.2,2,-999.000,9,-999.0000,9, -999.00,9, -999.00,9,  -999.0,9,  -999.0,-999.000,9,-999.000,  47.8242,2,   283.7,-999.000,   8.4882,         55,2,         38,2,         42,2,         89,2,        112,2,         92,2,        429,2,    0.04,2,-999.0000,9,-999.0000,9,-999.0000,9,-999.0000,9,-999.0000,9,-999.0000,9,-999.0000, -999.00
33RR20050106,       P16S,      65,          1,         28,         28,2,20050128,       2056,   -47.9988,  -150.0003,       4675,   333.3,   8.2738,  34.5054,2,  34.5053,2,    254.6,2,   255.1,2,    4.34,2,   16.56,2,    0.01,2,    1.19,2,   3.721,6,   2.153,6,   0.269,6,  2123.3,2,  2283.2,2,-999.000,9,-999.0000,9, -999.00,9, -999.00,9,  -999.0,9,  -999.0,-999.000,9,-999.000,-999.0000,9,   333.3,-999.000,   8.2393,     -999.0,9,     -999.0,9,     -999.0,9,     -999.0,9,     -999.0,9,     -999.0,9,     -999.0,9, -999.00,9,-999.0000,9,-999.0000,9,-999.0000,9,-999.0000,9,-999.0000,9,-999.0000,9,-999.0000, -999.00
33RR20050106,       P16S,      65,          1,         27,         27,2,20050128,       2056,   -47.9988,  -150.0003,       4675,   384.2,   7.9848,  34.4757,2,  34.4776,2,    249.4,2,   251.2,2,    4.94,2,   18.03,2,    0.01,2,    1.29,2,-999.000,9,-999.000,9,-999.000,9,  2131.1,2,  2282.5,2,-999.000,9,-999.0000,9, -999.00,9, -999.00,9,  -999.0,9,  -999.0,-999.000,9,-999.000,  44.9027,2,   384.2,-999.000,   7.9458,     -999.0,9,     -999.0,9,     -999.0,9,     -999.0,9,     -999.0,9,     -999.0,9,     -999.0,9, -999.00,9,   0.0810,2,   0.0540,2,   0.0260,2,   0.0200,2,   0.0234,2,   0.0247,2,-999.0000, -999.00
33RR20050106,       P16S,      65,          1,         26,         26,2,20050128,       2056,   -47.9988,  -150.0003,       4675,   434.5,   7.7500,  34.4481,2,  34.4478,2,    250.4,2,   249.4,2,    5.73,2,   19.22,2,    0.01,2,    1.36,2,   3.673,2,   2.149,2,   0.266,2,  2131.4,2,  2282.5,6,-999.000,9,-999.0000,9, -999.00,9, -999.00,9,  -999.0,9,  -999.0,-999.000,9,-999.000,-999.0000,9,   434.5,-999.000,   7.7065,     -999.0,9,     -999.0,9,     -999.0,9,     -999.0,9,     -999.0,9,     -999.0,9,     -999.0,9, -999.00,9,-999.0000,9,-999.0000,9,-999.0000,9,-999.0000,9,-999.0000,9,-999.0000,9,-999.0000, -999.00
33RR20050106,       P16S,      65,          1,         25,         25,2,20050128,       2056,   -47.9988,  -150.0003,       4675,   484.5,   7.5814,  34.4313,2,  34.4323,2,    249.7,2,   251.4,2,    6.14,2,   19.65,2,    0.00,2,    1.40,2,-999.000,9,-999.000,9,-999.000,9,  2134.8,2,  2282.0,2,-999.000,9,-999.0000,9, -999.00,9, -999.00,9,  -999.0,9,  -999.0,-999.000,9,-999.000,  43.0537,2,   484.5,-999.000,   7.5334,     -999.0,9,     -999.0,9,     -999.0,9,     -999.0,9,     -999.0,9,     -999.0,9,     -999.0,9, -999.00,9,-999.0000,9,-999.0000,9,-999.0000,9,-999.0000,9,-999.0000,9,-999.0000,9,-999.0000, -999.00
33RR20050106,       P16S,      65,          1,         24,         24,2,20050128,       2056,   -47.9988,  -150.0003,       4675,   534.9,   7.4168,  34.4187,2,  34.4191,2,    247.5,2,   248.0,2,    6.93,2,   20.41,2,    0.00,2,    1.45,2,   3.590,2,   2.024,2,   0.265,2,  2135.5,2,  2281.5,2,-999.000,9,-999.0000,9, -999.00,9, -999.00,9,  -999.0,9,  -999.0,-999.000,9,-999.000,  43.7495,2,   534.9,-999.000,   7.3643,     -999.0,9,     -999.0,9,     -999.0,9,     -999.0,9,     -999.0,9,     -999.0,9,     -999.0,9, -999.00,9,   0.0710,2,   0.0460,2,   0.0240,2,   0.0190,2,   0.0235,2,   0.0255,2,-999.0000, -999.00
33RR20050106,       P16S,      65,          1,         23,         23,2,20050128,       2056,   -47.9988,  -150.0003,       4675,   655.9,   7.0204,  34.3913,2,  34.3921,2,    240.3,2,   240.1,2,    8.94,2,   22.09,2,    0.00,2,    1.53,2,   3.186,2,   1.768,2,   0.203,2,  2142.3,2,  2282.2,2,-999.000,9,-999.0000,9, -999.00,9, -999.00,9,  -999.0,9,  -999.0,-999.000,9,-999.000,  46.0302,3,   655.9,-999.000,   6.9574,     -999.0,9,     -999.0,9,     -999.0,9,     -999.0,9,     -999.0,9,     -999.0,9,     -999.0,9, -999.00,9,   0.0760,2,   0.0490,2,   0.0270,2,   0.0210,2,   0.0211,2,   0.0232,2,-999.0000, -999.00
33RR20050106,       P16S,      65,          1,         22,         22,2,20050128,       2056,   -47.9988,  -150.0003,       4675,   756.5,   6.5799,  34.3653,2,  34.3660,2,    234.3,2,   233.5,2,   11.74,2,   23.62,2,    0.00,2,    1.63,2,   2.812,2,   1.589,2,   0.173,2,  2150.2,2,  2282.9,2,-999.000,9,-999.0000,9, -999.00,9, -999.00,9,  -999.0,9,  -999.0,-999.000,9,-999.000,  42.9650,2,   756.5,-999.000,   6.5093,     -999.0,9,     -999.0,9,     -999.0,9,     -999.0,9,     -999.0,9,     -999.0,9,     -999.0,9, -999.00,9,   0.0760,2,   0.0500,2,   0.0270,2,   0.0210,2,   0.0214,2,   0.0235,2,-999.0000, -999.00
33RR20050106,       P16S,      65,          1,         21,         21,2,20050128,       2056,   -47.9988,  -150.0003,       4675,   857.9,   6.0917,  34.3477,2,  34.3479,2,    224.9,2,   224.7,2,   15.55,2,   25.53,2,    0.00,2,    1.74,2,   2.430,2,   1.329,2,   0.149,2,  2160.3,2,  2283.6,2,-999.000,9,-999.0000,9, -999.00,9, -999.00,9,  -999.0,9,  -999.0,-999.000,9,-999.000,  41.7451,2,   857.9,-999.000,   6.0142,     -999.0,9,     -999.0,9,     -999.0,9,     -999.0,9,     -999.0,9,     -999.0,9,     -999.0,9, -999.00,9,   0.0810,2,   0.0530,2,   0.0280,2,   0.0210,2,   0.0207,2,   0.0229,2,-999.0000, -999.00
33RR20050106,       P16S,      65,          1,         20,         20,2,20050128,       2056,   -47.9988,  -150.0003,       4675,   958.8,   5.5294,  34.3433,2,  34.3444,2,    215.0,2,   215.1,2,   20.97,2,   27.54,2,    0.00,2,    1.90,2,   2.005,2,   1.095,2,   0.121,2,  2173.5,2,  2286.9,2,-999.000,9,-999.0000,9, -999.00,9, -999.00,9,  -999.0,9,  -999.0,-999.000,9,-999.000,  42.2340,2,   958.8,-999.000,   5.4462,     -999.0,9,     -999.0,9,     -999.0,9,     -999.0,9,     -999.0,9,     -999.0,9,     -999.0,9, -999.00,9,   0.0820,2,   0.0540,2,   0.0280,2,   0.0220,2,   0.0206,2,   0.0229,2,-999.0000, -999.00
33RR20050106,       P16S,      65,          1,         19,         19,2,20050128,       2056,   -47.9988,  -150.0003,       4675,  1058.8,   4.9807,  34.3389,2,  34.3399,2,    208.5,2,   208.9,2,   26.61,2,   29.07,2,    0.00,2,    2.01,2,   1.796,2,   0.901,2,   0.100,2,  2184.1,6,  2292.1,2,-999.000,9,-999.0000,9, -999.00,9, -999.00,9,  -999.0,9,  -999.0,-999.000,9,-999.000,  40.1671,2,  1058.8,-999.000,   4.8925,     -999.0,9,     -999.0,9,     -999.0,9,     -999.0,9,     -999.0,9,     -999.0,9,     -999.0,9, -999.00,9,   0.0850,2,   0.0560,2,   0.0310,2,   0.0230,2,   0.0184,2,   0.0208,2,-999.0000, -999.00
33RR20050106,       P16S,      65,          1,         18,         18,2,20050128,       2056,   -47.9988,  -150.0003,       4675,  1159.8,   4.4509,  34.3415,2,  34.3425,2,    203.7,2,   204.5,2,   32.67,2,   30.55,2,    0.00,2,    2.09,2,   1.571,2,   0.774,2,   0.088,2,  2194.6,2,  2297.6,6,-999.000,9,-999.0000,9, -999.00,9, -999.00,9,  -999.0,9,  -999.0,-999.000,9,-999.000,-999.0000,9,  1159.8,-999.000,   4.3581,     -999.0,9,     -999.0,9,     -999.0,9,     -999.0,9,     -999.0,9,     -999.0,9,     -999.0,9, -999.00,9,-999.0000,9,-999.0000,9,-999.0000,9,-999.0000,9,-999.0000,9,-999.0000,9,-999.0000, -999.00
33RR20050106,       P16S,      65,          1,         17,         17,2,20050128,       2056,   -47.9988,  -150.0003,       4675,  1260.8,   3.9465,  34.3547,2,  34.3560,2,    198.1,2,   199.9,2,   39.76,2,   32.14,2,    0.00,2,    2.18,2,   1.417,2,   0.752,2,   0.091,2,  2206.7,2,  2303.7,2,-999.000,9,-999.0000,9, -999.00,9, -999.00,9,  -999.0,9,  -999.0,-999.000,9,-999.000,-999.0000,9,  1260.8,-999.000,   3.8495,     -999.0,9,     -999.0,9,     -999.0,9,     -999.0,9,     -999.0,9,     -999.0,9,     -999.0,9, -999.00,9,-999.0000,9,-999.0000,9,-999.0000,9,-999.0000,9,-999.0000,9,-999.0000,9,-999.0000, -999.00
33RR20050106,       P16S,      65,          1,         16,         16,2,20050128,       2056,   -47.9988,  -150.0003,       4675,  1361.3,   3.5959,  34.3810,2,  34.3817,2,    192.0,2,   193.5,2,   46.65,2,   32.51,2,    0.00,2,    2.25,2,   1.166,2,   0.573,2,   0.065,2,  2217.5,2,  2309.6,2,-999.000,9,-999.0000,9, -999.00,9, -999.00,9,  -999.0,9,  -999.0,-999.000,9,-999.000,  38.8840,2,  1361.3,-999.000,   3.4937,     -999.0,9,     -999.0,9,     -999.0,9,     -999.0,9,     -999.0,9,     -999.0,9,     -999.0,9, -999.00,9,   0.0990,2,   0.0660,2,   0.0360,2,   0.0280,2,   0.0160,2,   0.0186,2,-999.0000, -999.00
33RR20050106,       P16S,      65,          1,         15,         15,2,20050128,       2056,   -47.9988,  -150.0003,       4675,  1462.2,   3.2947,  34.4169,2,  34.4167,2,    185.6,2,   186.6,2,   53.96,2,   33.23,2,    0.00,2,    2.31,2,   0.883,2,   0.435,2,   0.054,2,  2227.7,2,  2317.3,2,-999.000,9,-999.0000,9, -999.00,9, -999.00,9,  -999.0,9,  -999.0,-999.000,9,-999.000,-999.0000,9,  1462.2,-999.000,   3.1871,     -999.0,9,     -999.0,9,     -999.0,9,     -999.0,9,     -999.0,9,     -999.0,9,     -999.0,9, -999.00,9,-999.0000,9,-999.0000,9,-999.0000,9,-999.0000,9,-999.0000,9,-999.0000,9,-999.0000, -999.00
33RR20050106,       P16S,      65,          1,         14,         14,2,20050128,       2056,   -47.9988,  -150.0003,       4675,  1564.3,   3.0494,  34.4659,2,  34.4661,2,    177.8,2,   177.9,2,   62.92,2,   33.82,2,    0.00,2,    2.36,2,   0.541,2,   0.257,2,   0.025,2,  2239.6,2,  2328.1,2,-999.000,9,-999.0000,9, -999.00,9, -999.00,9,  -999.0,9,  -999.0,-999.000,9,-999.000,-999.0000,9,  1564.3,-999.000,   2.9359,     -999.0,9,     -999.0,9,     -999.0,9,     -999.0,9,     -999.0,9,     -999.0,9,     -999.0,9, -999.00,9,-999.0000,9,-999.0000,9,-999.0000,9,-999.0000,9,-999.0000,9,-999.0000,9,-999.0000, -999.00
33RR20050106,       P16S,      65,          1,         13,         13,2,20050128,       2056,   -47.9988,  -150.0003,       4675,  1766.9,   2.7511,  34.5447,2,  34.5451,2,    167.0,2,   168.3,2,   76.39,2,   34.15,2,    0.00,2,    2.39,2,   0.290,2,   0.142,2,   0.017,2,  2256.8,2,  2343.0,2,-999.000,9,-999.0000,9, -999.00,9, -999.00,9,  -999.0,9,  -999.0,-999.000,9,-999.000,  39.5759,2,  1766.9,-999.000,   2.6239,     -999.0,9,     -999.0,9,     -999.0,9,     -999.0,9,     -999.0,9,     -999.0,9,     -999.0,9, -999.00,9,   0.1130,2,   0.0770,2,   0.0430,2,   0.0310,2,   0.0144,2,   0.0168,2,-999.0000, -999.00
33RR20050106,       P16S,      65,          1,         12,         12,2,20050128,       2056,   -47.9988,  -150.0003,       4675,  1969.2,   2.5614,  34.5947,2,  34.5952,2,    164.1,2,   164.3,2,   85.20,2,   34.20,2,    0.00,2,    2.39,2,   0.181,2,   0.082,2,   0.011,2,  2269.1,2,  2353.9,2,-999.000,9,-999.0000,9, -999.00,9, -999.00,9,  -999.0,9,  -999.0,-999.000,9,-999.000,-999.0000,9,  1969.2,-999.000,   2.4192,     -999.0,9,     -999.0,9,     -999.0,9,     -999.0,9,     -999.0,9,     -999.0,9,     -999.0,9, -999.00,9,-999.0000,9,-999.0000,9,-999.0000,9,-999.0000,9,-999.0000,9,-999.0000,9,-999.0000, -999.00
33RR20050106,       P16S,      65,          1,         11,         11,2,20050128,       2056,   -47.9988,  -150.0003,       4675,  2131.2,   2.4193,  34.6273,2,  34.6270,2,    162.7,2,   163.3,2,   91.76,2,   34.14,2,    0.00,2,    2.38,2,   0.180,2,   0.091,2,   0.010,2,  2275.0,2,  2361.1,2,-999.000,9,-999.0000,9, -999.00,9, -999.00,9,  -999.0,9,  -999.0,-999.000,9,-999.000,  37.7551,2,  2131.2,-999.000,   2.2650,     -999.0,9,     -999.0,9,     -999.0,9,     -999.0,9,     -999.0,9,     -999.0,9,     -999.0,9, -999.00,9,   0.1250,2,   0.0850,2,   0.0450,2,   0.0330,2,   0.0148,2,   0.0175,2,-999.0000, -999.00
33RR20050106,       P16S,      65,          1,         10,         10,2,20050128,       2056,   -47.9988,  -150.0003,       4675,  2386.0,   2.2451,  34.6698,2,  34.6705,2,    168.0,2,   168.8,2,   93.39,2,   33.52,2,    0.00,2,    2.33,2,   0.106,2,   0.045,2,   0.010,2,  2272.8,2,  2361.6,2,-999.000,9,-999.0000,9, -999.00,9, -999.00,9,  -999.0,9,  -999.0,-999.000,9,-999.000,-999.0000,9,  2386.0,-999.000,   2.0706,     -999.0,9,     -999.0,9,     -999.0,9,     -999.0,9,     -999.0,9,     -999.0,9,     -999.0,9, -999.00,9,-999.0000,9,-999.0000,9,-999.0000,9,-999.0000,9,-999.0000,9,-999.0000,9,-999.0000, -999.00
33RR20050106,       P16S,      65,          1,          9,          9,2,20050128,       2056,   -47.9988,  -150.0003,       4675,  2639.1,   2.1262,  34.7030,2,  34.7037,2,    176.7,2,   177.6,2,   91.95,2,   32.37,2,    0.00,2,    2.24,2,   0.090,2,   0.040,2,  -0.002,2,  2264.2,2,  2357.4,6,-999.000,9,-999.0000,9, -999.00,9, -999.00,9,  -999.0,9,  -999.0,-999.000,9,-999.000,  39.0088,2,  2639.1,-999.000,   1.9304,     -999.0,9,     -999.0,9,     -999.0,9,     -999.0,9,     -999.0,9,     -999.0,9,     -999.0,9, -999.00,9,   0.1210,2,   0.0830,2,   0.0450,2,   0.0330,2,   0.0144,2,   0.0167,2,-999.0000, -999.00
33RR20050106,       P16S,      65,          1,          8,          8,2,20050128,       2056,   -47.9988,  -150.0003,       4675,  2894.0,   1.9688,  34.7230,2,  34.7250,2,    184.6,2,   184.6,2,   93.80,2,   31.65,2,    0.00,2,    2.20,2,   0.064,2,   0.041,2,  -0.002,2,  2258.8,2,  2358.2,2,-999.000,9,-999.0000,9, -999.00,9, -999.00,9,  -999.0,9,  -999.0,-999.000,9,-999.000,-999.0000,9,  2894.0,-999.000,   1.7518,     -999.0,9,     -999.0,9,     -999.0,9,     -999.0,9,     -999.0,9,     -999.0,9,     -999.0,9, -999.00,9,-999.0000,9,-999.0000,9,-999.0000,9,-999.0000,9,-999.0000,9,-999.0000,9,-999.0000, -999.00
33RR20050106,       P16S,      65,          1,          7,          7,2,20050128,       2056,   -47.9988,  -150.0003,       4675,  3148.1,   1.7691,  34.7250,2,  34.7254,2,    186.9,2,   187.3,2,  100.57,2,   31.80,2,    0.00,2,    2.20,2,-999.000,9,-999.000,9,-999.000,9,  2264.3,2,  2362.8,2,-999.000,9,-999.0000,9, -999.00,9, -999.00,9,  -999.0,9,  -999.0,-999.000,9,-999.000,  38.6057,2,  3148.1,-999.000,   1.5316,     -999.0,9,     -999.0,9,     -999.0,9,     -999.0,9,     -999.0,9,     -999.0,9,     -999.0,9, -999.00,9,   0.1210,2,   0.0830,2,   0.0440,2,   0.0320,2,   0.0151,2,   0.0174,2,-999.0000, -999.00