BOTTLE,20201109CCHSIOCBG
EXPOCODE,SECT_ID,STNNBR,CASTNO,SAMPNO,BTLNBR,BTLNBR_FLAG_W,DATE,TIME,LATITUDE,LONGITUDE,DEPTH,CTDPRS,CTDTMP,CTDSAL,CTDSAL_FLAG_W,SALNTY,SALNTY_FLAG_W,CTDOXY,CTDOXY_FLAG_W,OXYGEN,OXYGEN_FLAG_W,SILCAT,SILCAT_FLAG_W,NITRAT,NITRAT_FLAG_W,NITRIT,NITRIT_FLAG_W,PHSPHT,PHSPHT_FLAG_W,CFC-11,CFC-11_FLAG_W,CFC-12,CFC-12_FLAG_W,CFC113,CFC113_FLAG_W,TCARBN,TCARBN_FLAG_W,ALKALI,ALKALI_FLAG_W,TRITUM,TRITUM_FLAG_W,HELIUM,HELIUM_FLAG_W,DELHE3,DELHE3_FLAG_W,DELC13,DELC13_FLAG_W,DELC14,DELC14_FLAG_W,C14ERR,NEON,NEON_FLAG_W,NEONER,DOC,DOC_FLAG_W,CTDRAW,TRITER,THETA,FUCO,FUCO_FLAG_W,RHAM,RHAM_FLAG_W,ARABA,ARABA_FLAG_W,GALA,GALA_FLAG_W,GLUC,GLUC_FLAG_W,MAN,MAN_FLAG_W,DCNS,DCNS_FLAG_W,BRDU,BRDU_FLAG_W,CDOM325,CDOM325_FLAG_W,CDOM340,CDOM340_FLAG_W,CDOM380,CDOM380_FLAG_W,CDOM412,CDOM412_FLAG_W,CDOMSL,CDOMSL_FLAG_W,CDOMSN,CDOMSN_FLAG_W,HELIER,DELHER
,,,,,,,,,,,METERS,DBAR,ITS-90,PSS-78,,PSS-78,,UMOL/KG,,UMOL/KG,,UMOL/KG,,UMOL/KG,,UMOL/KG,,UMOL/KG,,PMOL/KG,,PMOL/KG,,PMOL/KG,,UMOL/KG,,UMOL/KG,,TU,,NMOL/KG,,PERCNT,,/MILLE,,/MILLE,,/MILLE,NMOL/KG,,NMOL/KG,UMOL/KG,,DBAR,TU,DEG C,NMOL/KG,,NMOL/KG,,NMOL/KG,,NMOL/KG,,NMOL/KG,,NMOL/KG,,NMOL/KG,,PMOL/L/H,,1/M,,1/M,,1/M,,1/M,,1/NM,,1/NM,,NMOL/KG,PERCNT
33RR20050106,       P16S,      80,          1,         32,         32,2,20050202,       1459,   -55.5020,  -150.0002,       3717,     7.2,   5.7624,  33.8356,2,  33.8374,2,    303.2,2,   304.9,2,    0.93,2,   20.36,2,    0.19,2,    1.47,2,   4.995,2,   2.658,2,   0.427,2,  2106.8,6,  2270.7,6,-999.000,9,-999.0000,9, -999.00,9, -999.00,9,  -999.0,9,  -999.0,-999.000,9,-999.000,-999.0000,9,     7.2,-999.000,   5.7618,     -999.0,9,     -999.0,9,     -999.0,9,     -999.0,9,     -999.0,9,     -999.0,9,     -999.0,9, -999.00,9,-999.0000,9,-999.0000,9,-999.0000,9,-999.0000,9,-999.0000,9,-999.0000,9,-999.0000, -999.00
33RR20050106,       P16S,      80,          1,         31,         31,2,20050202,       1459,   -55.5020,  -150.0002,       3717,    38.0,   5.7581,  33.8352,2,  33.8382,2,    304.4,2,   305.0,2,    0.92,2,   20.41,2,    0.19,2,    1.47,2,-999.000,9,-999.000,9,-999.000,9,  2105.3,2,  2270.4,2,-999.000,9,-999.0000,9, -999.00,9, -999.00,9,  -999.0,9,  -999.0,-999.000,9,-999.000,-999.0000,9,    38.0,-999.000,   5.7550,     -999.0,9,     -999.0,9,     -999.0,9,     -999.0,9,     -999.0,9,     -999.0,9,     -999.0,9, -999.00,9,-999.0000,9,-999.0000,9,-999.0000,9,-999.0000,9,-999.0000,9,-999.0000,9,-999.0000, -999.00
33RR20050106,       P16S,      80,          1,         30,         30,2,20050202,       1459,   -55.5020,  -150.0002,       3717,    73.3,   3.7129,  33.8887,2,  33.8901,2,    314.2,2,   313.8,2,    5.26,2,   22.85,2,    0.17,2,    1.77,2,-999.000,9,-999.000,9,-999.000,9,  2131.8,2,  2272.3,2,-999.000,9,-999.0000,9, -999.00,9, -999.00,9,  -999.0,9,  -999.0,-999.000,9,-999.000,-999.0000,9,    73.3,-999.000,   3.7081,     -999.0,9,     -999.0,9,     -999.0,9,     -999.0,9,     -999.0,9,     -999.0,9,     -999.0,9, -999.00,9,-999.0000,9,-999.0000,9,-999.0000,9,-999.0000,9,-999.0000,9,-999.0000,9,-999.0000, -999.00
33RR20050106,       P16S,      80,          1,         29,         29,2,20050202,       1459,   -55.5020,  -150.0002,       3717,   123.0,   3.1605,  33.9234,2,  33.9253,2,    308.2,2,   311.0,2,    9.60,2,   24.89,2,    0.08,2,    1.73,2,   5.414,2,   2.852,2,   0.465,2,  -999.0,9,  -999.0,9,-999.000,9,-999.0000,9, -999.00,9, -999.00,9,  -999.0,9,  -999.0,-999.000,9,-999.000,-999.0000,9,   123.0,-999.000,   3.1530,     -999.0,9,     -999.0,9,     -999.0,9,     -999.0,9,     -999.0,9,     -999.0,9,     -999.0,9, -999.00,9,-999.0000,9,-999.0000,9,-999.0000,9,-999.0000,9,-999.0000,9,-999.0000,9,-999.0000, -999.00
33RR20050106,       P16S,      80,          1,         28,         28,2,20050202,       1459,   -55.5020,  -150.0002,       3717,   173.2,   3.0155,  33.9756,2,  33.9776,2,    297.0,2,   298.1,2,   13.35,2,   26.39,2,    0.02,2,    1.82,2,-999.000,9,-999.000,9,-999.000,9,  2148.1,2,  2274.6,2,-999.000,9,-999.0000,9, -999.00,9, -999.00,9,  -999.0,9,  -999.0,-999.000,9,-999.000,-999.0000,9,   173.2,-999.000,   3.0050,     -999.0,9,     -999.0,9,     -999.0,9,     -999.0,9,     -999.0,9,     -999.0,9,     -999.0,9, -999.00,9,-999.0000,9,-999.0000,9,-999.0000,9,-999.0000,9,-999.0000,9,-999.0000,9,-999.0000, -999.00
33RR20050106,       P16S,      80,          1,         27,         27,2,20050202,       1459,   -55.5020,  -150.0002,       3717,   223.7,   3.5181,  34.1128,2,  34.1133,2,    262.0,2,   262.6,2,   20.08,2,   28.09,2,    0.01,2,    1.94,2,-999.000,9,-999.000,9,-999.000,9,  2167.0,2,  2281.2,2,-999.000,9,-999.0000,9, -999.00,9, -999.00,9,  -999.0,9,  -999.0,-999.000,9,-999.000,-999.0000,9,   223.7,-999.000,   3.5035,     -999.0,9,     -999.0,9,     -999.0,9,     -999.0,9,     -999.0,9,     -999.0,9,     -999.0,9, -999.00,9,-999.0000,9,-999.0000,9,-999.0000,9,-999.0000,9,-999.0000,9,-999.0000,9,-999.0000, -999.00
33RR20050106,       P16S,      80,          1,         26,         26,2,20050202,       1459,   -55.5020,  -150.0002,       3717,   273.4,   3.6231,  34.1904,2,  34.1909,2,    240.9,2,   240.9,2,   26.04,2,   29.58,2,    0.00,2,    2.04,2,-999.000,9,-999.000,9,-999.000,9,  2180.2,2,  2286.2,2,-999.000,9,-999.0000,9, -999.00,9, -999.00,9,  -999.0,9,  -999.0,-999.000,9,-999.000,-999.0000,9,   273.4,-999.000,   3.6049,     -999.0,9,     -999.0,9,     -999.0,9,     -999.0,9,     -999.0,9,     -999.0,9,     -999.0,9, -999.00,9,-999.0000,9,-999.0000,9,-999.0000,9,-999.0000,9,-999.0000,9,-999.0000,9,-999.0000, -999.00
33RR20050106,       P16S,      80,          1,         25,         25,2,20050202,       1459,   -55.5020,  -150.0002,       3717,   329.0,   3.3749,  34.2239,2,  34.2237,2,    229.2,2,   230.6,2,   31.41,2,   30.79,2,    0.01,2,    2.11,2,   3.269,2,   1.619,2,   0.229,2,  -999.0,9,  -999.0,9,-999.000,9,-999.0000,9, -999.00,9, -999.00,9,  -999.0,9,  -999.0,-999.000,9,-999.000,-999.0000,9,   329.0,-999.000,   3.3535,     -999.0,9,     -999.0,9,     -999.0,9,     -999.0,9,     -999.0,9,     -999.0,9,     -999.0,9, -999.00,9,-999.0000,9,-999.0000,9,-999.0000,9,-999.0000,9,-999.0000,9,-999.0000,9,-999.0000, -999.00
33RR20050106,       P16S,      80,          1,         24,         24,2,20050202,       1459,   -55.5020,  -150.0002,       3717,   379.7,   3.2723,  34.2701,2,  34.2715,2,    218.0,2,   217.7,2,   36.78,2,   31.75,2,    0.01,2,    2.19,2,-999.000,9,-999.000,9,-999.000,9,  2203.2,2,  2296.1,2,-999.000,9,-999.0000,9, -999.00,9, -999.00,9,  -999.0,9,  -999.0,-999.000,9,-999.000,-999.0000,9,   379.7,-999.000,   3.2477,     -999.0,9,     -999.0,9,     -999.0,9,     -999.0,9,     -999.0,9,     -999.0,9,     -999.0,9, -999.00,9,-999.0000,9,-999.0000,9,-999.0000,9,-999.0000,9,-999.0000,9,-999.0000,9,-999.0000, -999.00
33RR20050106,       P16S,      80,          1,         23,         23,2,20050202,       1459,   -55.5020,  -150.0002,       3717,   429.2,   3.0864,  34.2981,2,  34.2985,2,    209.3,2,   210.1,2,   41.57,2,   32.51,2,    0.01,2,    2.24,2,   2.394,2,   1.123,2,   0.154,2,  2211.8,2,  2300.3,2,-999.000,9,-999.0000,9, -999.00,9, -999.00,9,  -999.0,9,  -999.0,-999.000,9,-999.000,-999.0000,9,   429.2,-999.000,   3.0591,     -999.0,9,     -999.0,9,     -999.0,9,     -999.0,9,     -999.0,9,     -999.0,9,     -999.0,9, -999.00,9,-999.0000,9,-999.0000,9,-999.0000,9,-999.0000,9,-999.0000,9,-999.0000,9,-999.0000, -999.00
33RR20050106,       P16S,      80,          1,         22,         22,2,20050202,       1459,   -55.5020,  -150.0002,       3717,   479.7,   2.9962,  34.3278,2,  34.3285,2,    200.8,2,   202.3,2,   45.76,2,   33.09,2,    0.01,2,    2.28,2,-999.000,9,-999.000,9,-999.000,9,  2218.2,2,  2304.4,2,-999.000,9,-999.0000,9, -999.00,9, -999.00,9,  -999.0,9,  -999.0,-999.000,9,-999.000,-999.0000,9,   479.7,-999.000,   2.9658,     -999.0,9,     -999.0,9,     -999.0,9,     -999.0,9,     -999.0,9,     -999.0,9,     -999.0,9, -999.00,9,-999.0000,9,-999.0000,9,-999.0000,9,-999.0000,9,-999.0000,9,-999.0000,9,-999.0000, -999.00
33RR20050106,       P16S,      80,          1,         21,         21,2,20050202,       1459,   -55.5020,  -150.0002,       3717,   530.1,   2.9556,  34.3747,2,  34.3743,2,    193.6,2,   194.0,2,   50.75,2,   33.46,2,    0.01,2,    2.32,2,   1.563,2,   0.771,2,   0.101,2,  2226.7,2,  2310.2,2,-999.000,9,-999.0000,9, -999.00,9, -999.00,9,  -999.0,9,  -999.0,-999.000,9,-999.000,-999.0000,9,   530.1,-999.000,   2.9219,     -999.0,9,     -999.0,9,     -999.0,9,     -999.0,9,     -999.0,9,     -999.0,9,     -999.0,9, -999.00,9,-999.0000,9,-999.0000,9,-999.0000,9,-999.0000,9,-999.0000,9,-999.0000,9,-999.0000, -999.00
33RR20050106,       P16S,      80,          1,         20,         20,2,20050202,       1459,   -55.5020,  -150.0002,       3717,   650.2,   2.7315,  34.4523,2,  34.4523,2,    180.9,2,   181.7,2,   60.58,2,   34.05,2,    0.01,2,    2.36,2,   1.084,2,   0.538,2,   0.067,2,  2239.3,2,  2320.8,2,-999.000,9,-999.0000,9, -999.00,9, -999.00,9,  -999.0,9,  -999.0,-999.000,9,-999.000,-999.0000,9,   650.2,-999.000,   2.6906,     -999.0,9,     -999.0,9,     -999.0,9,     -999.0,9,     -999.0,9,     -999.0,9,     -999.0,9, -999.00,9,-999.0000,9,-999.0000,9,-999.0000,9,-999.0000,9,-999.0000,9,-999.0000,9,-999.0000, -999.00
33RR20050106,       P16S,      80,          1,         19,         19,2,20050202,       1459,   -55.5020,  -150.0002,       3717,   751.1,   2.5855,  34.4992,2,  34.5000,2,    176.2,2,   177.0,2,   65.80,2,   34.16,2,    0.01,2,    2.36,2,   0.782,2,   0.387,2,   0.048,2,  2245.8,2,  2325.4,2,-999.000,9,-999.0000,9, -999.00,9, -999.00,9,  -999.0,9,  -999.0,-999.000,9,-999.000,-999.0000,9,   751.1,-999.000,   2.5384,     -999.0,9,     -999.0,9,     -999.0,9,     -999.0,9,     -999.0,9,     -999.0,9,     -999.0,9, -999.00,9,-999.0000,9,-999.0000,9,-999.0000,9,-999.0000,9,-999.0000,9,-999.0000,9,-999.0000, -999.00
33RR20050106,       P16S,      80,          1,         18,         18,2,20050202,       1459,   -55.5020,  -150.0002,       3717,   851.6,   2.5002,  34.5504,2,  34.5521,2,    174.1,2,   174.7,2,   70.42,2,   33.88,2,    0.00,2,    2.35,2,   0.582,2,   0.289,2,   0.034,2,  2248.4,2,  2331.0,2,-999.000,9,-999.0000,9, -999.00,9, -999.00,9,  -999.0,9,  -999.0,-999.000,9,-999.000,-999.0000,9,   851.6,-999.000,   2.4467,     -999.0,9,     -999.0,9,     -999.0,9,     -999.0,9,     -999.0,9,     -999.0,9,     -999.0,9, -999.00,9,-999.0000,9,-999.0000,9,-999.0000,9,-999.0000,9,-999.0000,9,-999.0000,9,-999.0000, -999.00
33RR20050106,       P16S,      80,          1,         17,         17,2,20050202,       1459,   -55.5020,  -150.0002,       3717,   952.5,   2.4236,  34.5943,2,  34.5952,2,    172.9,2,   173.8,2,   74.64,2,   33.51,2,    0.00,2,    2.32,2,   0.418,2,   0.196,2,   0.028,2,  2252.6,2,  2336.3,2,-999.000,9,-999.0000,9, -999.00,9, -999.00,9,  -999.0,9,  -999.0,-999.000,9,-999.000,-999.0000,9,   952.5,-999.000,   2.3634,     -999.0,9,     -999.0,9,     -999.0,9,     -999.0,9,     -999.0,9,     -999.0,9,     -999.0,9, -999.00,9,-999.0000,9,-999.0000,9,-999.0000,9,-999.0000,9,-999.0000,9,-999.0000,9,-999.0000, -999.00
33RR20050106,       P16S,      80,          1,         16,         16,2,20050202,       1459,   -55.5020,  -150.0002,       3717,  1052.7,   2.3568,  34.6275,2,  34.6284,2,    173.0,2,   173.8,2,   78.45,2,   33.13,2,    0.00,2,    2.30,2,   0.358,2,   0.190,2,   0.025,2,  2255.2,2,  2340.6,2,-999.000,9,-999.0000,9, -999.00,9, -999.00,9,  -999.0,9,  -999.0,-999.000,9,-999.000,-999.0000,9,  1052.7,-999.000,   2.2900,     -999.0,9,     -999.0,9,     -999.0,9,     -999.0,9,     -999.0,9,     -999.0,9,     -999.0,9, -999.00,9,-999.0000,9,-999.0000,9,-999.0000,9,-999.0000,9,-999.0000,9,-999.0000,9,-999.0000, -999.00
33RR20050106,       P16S,      80,          1,         15,         15,2,20050202,       1459,   -55.5020,  -150.0002,       3717,  1153.3,   2.2856,  34.6568,2,  34.6577,2,    174.8,2,   175.9,2,   80.05,2,   32.69,2,    0.00,2,    2.26,2,   0.325,2,   0.176,2,   0.020,2,  2254.4,6,  2342.4,2,-999.000,9,-999.0000,9, -999.00,9, -999.00,9,  -999.0,9,  -999.0,-999.000,9,-999.000,-999.0000,9,  1153.3,-999.000,   2.2120,     -999.0,9,     -999.0,9,     -999.0,9,     -999.0,9,     -999.0,9,     -999.0,9,     -999.0,9, -999.00,9,-999.0000,9,-999.0000,9,-999.0000,9,-999.0000,9,-999.0000,9,-999.0000,9,-999.0000, -999.00
33RR20050106,       P16S,      80,          1,         14,         14,2,20050202,       1459,   -55.5020,  -150.0002,       3717,  1255.2,   2.2272,  34.6787,2,  34.6799,2,    177.8,2,   178.9,2,   80.85,2,   32.22,2,    0.00,2,    2.23,2,   0.214,2,   0.106,2,   0.016,2,  -999.0,9,  -999.0,9,-999.000,9,-999.0000,9, -999.00,9, -999.00,9,  -999.0,9,  -999.0,-999.000,9,-999.000,-999.0000,9,  1255.2,-999.000,   2.1466,     -999.0,9,     -999.0,9,     -999.0,9,     -999.0,9,     -999.0,9,     -999.0,9,     -999.0,9, -999.00,9,-999.0000,9,-999.0000,9,-999.0000,9,-999.0000,9,-999.0000,9,-999.0000,9,-999.0000, -999.00
33RR20050106,       P16S,      80,          1,         13,         13,2,20050202,       1459,   -55.5020,  -150.0002,       3717,  1357.3,   2.1651,  34.6967,2,  34.6977,2,    180.5,2,   181.1,2,   82.05,2,   31.83,2,    0.00,2,    2.20,2,   0.167,2,   0.076,2,   0.011,2,  -999.0,9,  -999.0,9,-999.000,9,-999.0000,9, -999.00,9, -999.00,9,  -999.0,9,  -999.0,-999.000,9,-999.000,-999.0000,9,  1357.3,-999.000,   2.0775,     -999.0,9,     -999.0,9,     -999.0,9,     -999.0,9,     -999.0,9,     -999.0,9,     -999.0,9, -999.00,9,-999.0000,9,-999.0000,9,-999.0000,9,-999.0000,9,-999.0000,9,-999.0000,9,-999.0000, -999.00
33RR20050106,       P16S,      80,          1,         12,         12,2,20050202,       1459,   -55.5020,  -150.0002,       3717,  1458.7,   2.1093,  34.7097,2,  34.7115,2,    182.5,2,   183.6,2,   83.64,2,   31.51,2,    0.00,2,    2.18,2,   0.146,2,   0.073,2,   0.011,2,  -999.0,9,  -999.0,9,-999.000,9,-999.0000,9, -999.00,9, -999.00,9,  -999.0,9,  -999.0,-999.000,9,-999.000,-999.0000,9,  1458.7,-999.000,   2.0146,     -999.0,9,     -999.0,9,     -999.0,9,     -999.0,9,     -999.0,9,     -999.0,9,     -999.0,9, -999.00,9,-999.0000,9,-999.0000,9,-999.0000,9,-999.0000,9,-999.0000,9,-999.0000,9,-999.0000, -999.00
33RR20050106,       P16S,      80,          1,         11,         11,2,20050202,       1459,   -55.5020,  -150.0002,       3717,  1559.9,   2.0651,  34.7184,2,  34.7193,2,    184.9,2,   185.4,2,   84.64,2,   31.30,2,    0.00,2,    2.16,2,   0.161,2,   0.086,2,   0.013,2,  -999.0,9,  -999.0,9,-999.000,9,-999.0000,9, -999.00,9, -999.00,9,  -999.0,9,  -999.0,-999.000,9,-999.000,-999.0000,9,  1559.9,-999.000,   1.9631,     -999.0,9,     -999.0,9,     -999.0,9,     -999.0,9,     -999.0,9,     -999.0,9,     -999.0,9, -999.00,9,-999.0000,9,-999.0000,9,-999.0000,9,-999.0000,9,-999.0000,9,-999.0000,9,-999.0000, -999.00
33RR20050106,       P16S,      80,          1,         10,         10,2,20050202,       1459,   -55.5020,  -150.0002,       3717,  1763.9,   1.9198,  34.7320,2,  34.7335,2,    189.4,2,   189.8,2,   88.48,2,   31.03,2,    0.00,2,    2.14,2,   0.157,2,   0.083,2,   0.015,2,  -999.0,9,  -999.0,9,-999.000,9,-999.0000,9, -999.00,9, -999.00,9,  -999.0,9,  -999.0,-999.000,9,-999.000,-999.0000,9,  1763.9,-999.000,   1.8035,     -999.0,9,     -999.0,9,     -999.0,9,     -999.0,9,     -999.0,9,     -999.0,9,     -999.0,9, -999.00,9,-999.0000,9,-999.0000,9,-999.0000,9,-999.0000,9,-999.0000,9,-999.0000,9,-999.0000, -999.00
33RR20050106,       P16S,      80,          1,          9,          9,2,20050202,       1459,   -55.5020,  -150.0002,       3717,  1966.0,   1.7871,  34.7374,2,  34.7380,2,    192.2,2,   193.0,2,   92.51,2,   30.87,2,    0.00,2,    2.13,2,   0.110,2,   0.052,2,   0.010,2,  -999.0,9,  -999.0,9,-999.000,9,-999.0000,9, -999.00,9, -999.00,9,  -999.0,9,  -999.0,-999.000,9,-999.000,-999.0000,9,  1966.0,-999.000,   1.6563,     -999.0,9,     -999.0,9,     -999.0,9,     -999.0,9,     -999.0,9,     -999.0,9,     -999.0,9, -999.00,9,-999.0000,9,-999.0000,9,-999.0000,9,-999.0000,9,-999.0000,9,-999.0000,9,-999.0000, -999.00
33RR20050106,       P16S,      80,          1,          8,          8,2,20050202,       1459,   -55.5020,  -150.0002,       3717,  2128.4,   1.6624,  34.7385,2,  34.7403,2,    194.5,2,   195.2,2,   96.13,2,   30.86,2,    0.00,2,    2.12,2,   0.106,2,   0.048,2,   0.011,2,  -999.0,9,  -999.0,9,-999.000,9,-999.0000,9, -999.00,9, -999.00,9,  -999.0,9,  -999.0,-999.000,9,-999.000,-999.0000,9,  2128.4,-999.000,   1.5201,     -999.0,9,     -999.0,9,     -999.0,9,     -999.0,9,     -999.0,9,     -999.0,9,     -999.0,9, -999.00,9,-999.0000,9,-999.0000,9,-999.0000,9,-999.0000,9,-999.0000,9,-999.0000,9,-999.0000, -999.00
33RR20050106,       P16S,      80,          1,          7,          7,2,20050202,       1459,   -55.5020,  -150.0002,       3717,  2382.6,   1.4409,  34.7334,2,  34.7346,2,    197.7,2,   198.4,2,  102.39,2,   30.91,2,    0.00,2,    2.15,2,   0.090,2,   0.045,2,   0.012,2,  -999.0,9,  -999.0,9,-999.000,9,-999.0000,9, -999.00,9, -999.00,9,  -999.0,9,  -999.0,-999.000,9,-999.000,-999.0000,9,  2382.6,-999.000,   1.2809,     -999.0,9,     -999.0,9,     -999.0,9,     -999.0,9,     -999.0,9,     -999.0,9,     -999.0,9, -999.00,9,-999.0000,9,-999.0000,9,-999.0000,9,-999.0000,9,-999.0000,9,-999.0000,9,-999.0000, -999.00
33RR20050106,       P16S,      80,          1,          6,          6,2,20050202,       1459,   -55.5020,  -150.0002,       3717,  2636.8,   1.2534,  34.7264,2,  34.7285,2,    200.0,2,   201.1,2,  108.67,2,   31.34,2,    0.00,2,    2.16,2,   0.082,2,   0.037,2,   0.014,2,  -999.0,9,  -999.0,9,-999.000,9,-999.0000,9, -999.00,9, -999.00,9,  -999.0,9,  -999.0,-999.000,9,-999.000,-999.0000,9,  2636.8,-999.000,   1.0748,     -999.0,9,     -999.0,9,     -999.0,9,     -999.0,9,     -999.0,9,     -999.0,9,     -999.0,9, -999.00,9,-999.0000,9,-999.0000,9,-999.0000,9,-999.0000,9,-999.0000,9,-999.0000,9,-999.0000, -999.00
33RR20050106,       P16S,      80,          1,          5,          5,2,20050202,       1459,   -55.5020,  -150.0002,       3717,  2891.5,   1.0649,  34.7185,2,  34.7204,2,    202.7,2,   203.7,2,  114.56,2,   31.55,2,    0.00,2,    2.18,2,   0.101,2,   0.052,2,   0.012,2,  -999.0,9,  -999.0,9,-999.000,9,-999.0000,9, -999.00,9, -999.00,9,  -999.0,9,  -999.0,-999.000,9,-999.000,-999.0000,9,  2891.5,-999.000,   0.8674,     -999.0,9,     -999.0,9,     -999.0,9,     -999.0,9,     -999.0,9,     -999.0,9,     -999.0,9, -999.00,9,-999.0000,9,-999.0000,9,-999.0000,9,-999.0000,9,-999.0000,9,-999.0000,9,-999.0000, -999.00
33RR20050106,       P16S,      80,          1,          4,          4,2,20050202,       1459,   -55.5020,  -150.0002,       3717,  3147.2,   0.9256,  34.7122,2,  34.7133,2,    204.7,2,   205.6,2,  121.05,2,   31.88,2,    0.00,2,    2.20,2,   0.088,2,   0.042,2,   0.012,2,  -999.0,9,  -999.0,9,-999.000,9,-999.0000,9, -999.00,9, -999.00,9,  -999.0,9,  -999.0,-999.000,9,-999.000,-999.0000,9,  3147.2,-999.000,   0.7077,     -999.0,9,     -999.0,9,     -999.0,9,     -999.0,9,     -999.0,9,     -999.0,9,     -999.0,9, -999.00,9,-999.0000,9,-999.0000,9,-999.0000,9,-999.0000,9,-999.0000,9,-999.0000,9,-999.0000, -999.00
33RR20050106,       P16S,      80,          1,          3,          3,2,20050202,       1459,   -55.5020,  -150.0002,       3717,  3401.1,   0.9055,  34.7105,2,  34.7115,2,    205.1,2,   205.8,2,  124.29,2,   31.98,2,    0.00,2,    2.21,2,   0.087,2,   0.046,2,   0.009,2,  -999.0,9,  -999.0,9,-999.000,9,-999.0000,9, -999.00,9, -999.00,9,  -999.0,9,  -999.0,-999.000,9,-999.000,-999.0000,9,  3401.1,-999.000,   0.6638,     -999.0,9,     -999.0,9,     -999.0,9,     -999.0,9,     -999.0,9,     -999.0,9,     -999.0,9, -999.00,9,-999.0000,9,-999.0000,9,-999.0000,9,-999.0000,9,-999.0000,9,-999.0000,9,-999.0000, -999.00