BOTTLE,20201109CCHSIOCBG
EXPOCODE,SECT_ID,STNNBR,CASTNO,SAMPNO,BTLNBR,BTLNBR_FLAG_W,DATE,TIME,LATITUDE,LONGITUDE,DEPTH,CTDPRS,CTDTMP,CTDSAL,CTDSAL_FLAG_W,SALNTY,SALNTY_FLAG_W,CTDOXY,CTDOXY_FLAG_W,OXYGEN,OXYGEN_FLAG_W,SILCAT,SILCAT_FLAG_W,NITRAT,NITRAT_FLAG_W,NITRIT,NITRIT_FLAG_W,PHSPHT,PHSPHT_FLAG_W,CFC-11,CFC-11_FLAG_W,CFC-12,CFC-12_FLAG_W,CFC113,CFC113_FLAG_W,TCARBN,TCARBN_FLAG_W,ALKALI,ALKALI_FLAG_W,TRITUM,TRITUM_FLAG_W,HELIUM,HELIUM_FLAG_W,DELHE3,DELHE3_FLAG_W,DELC13,DELC13_FLAG_W,DELC14,DELC14_FLAG_W,C14ERR,NEON,NEON_FLAG_W,NEONER,DOC,DOC_FLAG_W,CTDRAW,TRITER,THETA,FUCO,FUCO_FLAG_W,RHAM,RHAM_FLAG_W,ARABA,ARABA_FLAG_W,GALA,GALA_FLAG_W,GLUC,GLUC_FLAG_W,MAN,MAN_FLAG_W,DCNS,DCNS_FLAG_W,BRDU,BRDU_FLAG_W,CDOM325,CDOM325_FLAG_W,CDOM340,CDOM340_FLAG_W,CDOM380,CDOM380_FLAG_W,CDOM412,CDOM412_FLAG_W,CDOMSL,CDOMSL_FLAG_W,CDOMSN,CDOMSN_FLAG_W,HELIER,DELHER
,,,,,,,,,,,METERS,DBAR,ITS-90,PSS-78,,PSS-78,,UMOL/KG,,UMOL/KG,,UMOL/KG,,UMOL/KG,,UMOL/KG,,UMOL/KG,,PMOL/KG,,PMOL/KG,,PMOL/KG,,UMOL/KG,,UMOL/KG,,TU,,NMOL/KG,,PERCNT,,/MILLE,,/MILLE,,/MILLE,NMOL/KG,,NMOL/KG,UMOL/KG,,DBAR,TU,DEG C,NMOL/KG,,NMOL/KG,,NMOL/KG,,NMOL/KG,,NMOL/KG,,NMOL/KG,,NMOL/KG,,PMOL/L/H,,1/M,,1/M,,1/M,,1/M,,1/NM,,1/NM,,NMOL/KG,PERCNT
33RR20050106,       P16S,      15,          2,         36,         36,2,20050114,       0650,   -22.9997,  -149.9997,       4813,     2.3,  27.0551,  35.6886,2,  35.6878,2,    201.6,2,   201.7,2,    0.50,2,    0.05,2,    0.00,2,    0.13,2,   1.684,2,   1.081,2,   0.122,2,  2002.9,6,  2344.2,6,-999.000,9,-999.0000,9, -999.00,9, -999.00,9,  -999.0,9,  -999.0,-999.000,9,-999.000,  71.9158,2,     2.3,-999.000,  27.0546,     -999.0,9,     -999.0,9,     -999.0,9,     -999.0,9,     -999.0,9,     -999.0,9,     -999.0,9, -999.00,9,-999.0000,9,-999.0000,9,-999.0000,9,-999.0000,9,-999.0000,9,-999.0000,9,-999.0000, -999.00
33RR20050106,       P16S,      15,          2,         35,         35,2,20050114,       0650,   -22.9997,  -149.9997,       4813,    45.6,  22.7330,  35.7001,2,  35.5840,4,    218.8,2,   217.6,2,    0.50,2,    0.00,2,    0.00,2,    0.11,2,   1.999,2,   1.276,2,   0.193,2,  2018.9,2,  2343.2,2,-999.000,9,-999.0000,9, -999.00,9, -999.00,9,  -999.0,9,  -999.0,-999.000,9,-999.000,  64.4060,2,    45.6,-999.000,  22.7237,     -999.0,9,     -999.0,9,     -999.0,9,     -999.0,9,     -999.0,9,     -999.0,9,     -999.0,9, -999.00,9,-999.0000,9,-999.0000,9,-999.0000,9,-999.0000,9,-999.0000,9,-999.0000,9,-999.0000, -999.00
33RR20050106,       P16S,      15,          2,         34,         34,2,20050114,       0650,   -22.9997,  -149.9997,       4813,    90.4,  21.4281,  35.5846,2,  35.5836,2,    222.4,2,   221.4,2,    0.51,2,    0.00,2,    0.00,2,    0.09,2,   2.095,2,   1.328,2,   0.190,2,  2022.0,2,  2335.5,2,-999.000,9,-999.0000,9, -999.00,9, -999.00,9,  -999.0,9,  -999.0,-999.000,9,-999.000,  64.1244,2,    90.4,-999.000,  21.4105,     -999.0,9,     -999.0,9,     -999.0,9,     -999.0,9,     -999.0,9,     -999.0,9,     -999.0,9, -999.00,9,-999.0000,9,-999.0000,9,-999.0000,9,-999.0000,9,-999.0000,9,-999.0000,9,-999.0000, -999.00
33RR20050106,       P16S,      15,          2,         33,         33,2,20050114,       0650,   -22.9997,  -149.9997,       4813,   140.3,  20.4202,  35.5844,2,  35.5836,2,    222.5,2,   221.3,2,    0.52,2,    0.00,2,    0.00,2,    0.09,2,   2.194,2,   1.372,2,   0.175,2,  2031.7,2,  2334.2,2,-999.000,9,-999.0000,9, -999.00,9, -999.00,9,  -999.0,9,  -999.0,-999.000,9,-999.000,  62.7364,2,   140.3,-999.000,  20.3938,     -999.0,9,     -999.0,9,     -999.0,9,     -999.0,9,     -999.0,9,     -999.0,9,     -999.0,9, -999.00,9,-999.0000,9,-999.0000,9,-999.0000,9,-999.0000,9,-999.0000,9,-999.0000,9,-999.0000, -999.00
33RR20050106,       P16S,      15,          2,         32,         32,2,20050114,       0650,   -22.9997,  -149.9997,       4813,   190.5,  19.3321,  35.5493,2,  35.5482,2,    215.7,2,   212.3,2,    0.53,2,    0.19,2,    0.08,2,    0.15,2,   2.314,2,   1.419,2,   0.126,2,  2048.1,2,  2332.5,2,-999.000,9,-999.0000,9, -999.00,9, -999.00,9,  -999.0,9,  -999.0,-999.000,9,-999.000,  60.9762,2,   190.5,-999.000,  19.2976,     -999.0,9,     -999.0,9,     -999.0,9,     -999.0,9,     -999.0,9,     -999.0,9,     -999.0,9, -999.00,9,-999.0000,9,-999.0000,9,-999.0000,9,-999.0000,9,-999.0000,9,-999.0000,9,-999.0000, -999.00
33RR20050106,       P16S,      15,          2,         31,         31,2,20050114,       0650,   -22.9997,  -149.9997,       4813,   240.4,  17.8233,  35.4506,2,  35.4534,2,    207.4,2,   203.3,2,    0.74,2,    1.57,2,    0.01,2,    0.28,2,   2.443,2,   1.452,2,   0.089,2,  2068.3,2,  2325.5,2,-999.000,9,-999.0000,9, -999.00,9, -999.00,9,  -999.0,9,  -999.0,-999.000,9,-999.000,  50.9553,2,   240.4,-999.000,  17.7821,     -999.0,9,     -999.0,9,     -999.0,9,     -999.0,9,     -999.0,9,     -999.0,9,     -999.0,9, -999.00,9,-999.0000,9,-999.0000,9,-999.0000,9,-999.0000,9,-999.0000,9,-999.0000,9,-999.0000, -999.00
33RR20050106,       P16S,      15,          2,         30,         30,2,20050114,       0650,   -22.9997,  -149.9997,       4813,   290.6,  15.9903,  35.2774,2,  35.2680,2,    198.4,2,   196.9,2,    1.16,2,    4.64,2,    0.00,2,    0.50,2,   2.491,2,   1.421,2,   0.038,2,  2086.9,2,  2317.4,2,-999.000,9,-999.0000,9, -999.00,9, -999.00,9,  -999.0,9,  -999.0,-999.000,9,-999.000,  44.5250,2,   290.6,-999.000,  15.9441,     -999.0,9,     -999.0,9,     -999.0,9,     -999.0,9,     -999.0,9,     -999.0,9,     -999.0,9, -999.00,9,-999.0000,9,-999.0000,9,-999.0000,9,-999.0000,9,-999.0000,9,-999.0000,9,-999.0000, -999.00
33RR20050106,       P16S,      15,          2,         29,         29,2,20050114,       0650,   -22.9997,  -149.9997,       4813,   340.7,  14.1444,  35.0679,2,  35.0655,2,    197.2,2,   194.7,2,    2.00,2,    7.85,2,    0.00,2,    0.70,2,   2.513,2,   1.359,2,   0.030,2,  2101.1,2,  2305.8,2,-999.000,9,-999.0000,9, -999.00,9, -999.00,9,  -999.0,9,  -999.0,-999.000,9,-999.000,  45.3967,2,   340.7,-999.000,  14.0945,     -999.0,9,     -999.0,9,     -999.0,9,     -999.0,9,     -999.0,9,     -999.0,9,     -999.0,9, -999.00,9,-999.0000,9,-999.0000,9,-999.0000,9,-999.0000,9,-999.0000,9,-999.0000,9,-999.0000, -999.00
33RR20050106,       P16S,      15,          2,         28,         28,2,20050114,       0650,   -22.9997,  -149.9997,       4813,   390.5,  11.9085,  34.8169,2,  34.8199,2,    198.2,2,   199.0,2,    3.04,2,   11.82,2,    0.00,2,    0.96,2,   2.461,2,   1.317,2,   0.033,2,  2113.9,2,  2295.8,2,-999.000,9,-999.0000,9, -999.00,9, -999.00,9,  -999.0,9,  -999.0,-999.000,9,-999.000,  42.3089,2,   390.5,-999.000,  11.8575,     -999.0,9,     -999.0,9,     -999.0,9,     -999.0,9,     -999.0,9,     -999.0,9,     -999.0,9, -999.00,9,-999.0000,9,-999.0000,9,-999.0000,9,-999.0000,9,-999.0000,9,-999.0000,9,-999.0000, -999.00
33RR20050106,       P16S,      15,          2,         27,         27,2,20050114,       0650,   -22.9997,  -149.9997,       4813,   440.7,   9.7651,  34.5977,2,  34.5861,2,    201.8,2,   206.7,2,    4.71,2,   16.65,2,    0.00,2,    1.26,2,   2.384,2,   1.237,2,   0.036,2,  2130.4,2,  2281.7,2,-999.000,9,-999.0000,9, -999.00,9, -999.00,9,  -999.0,9,  -999.0,-999.000,9,-999.000,  41.3333,2,   440.7,-999.000,   9.7143,     -999.0,9,     -999.0,9,     -999.0,9,     -999.0,9,     -999.0,9,     -999.0,9,     -999.0,9, -999.00,9,-999.0000,9,-999.0000,9,-999.0000,9,-999.0000,9,-999.0000,9,-999.0000,9,-999.0000, -999.00
33RR20050106,       P16S,      15,          2,         26,         26,2,20050114,       0650,   -22.9997,  -149.9997,       4813,   490.9,   8.2424,  34.4628,2,  34.4635,2,    210.6,2,   216.3,2,    5.96,2,   19.47,2,    0.00,2,    1.43,2,   2.329,2,   1.200,2,   0.055,2,  2139.1,2,  2279.9,2,-999.000,9,-999.0000,9, -999.00,9, -999.00,9,  -999.0,9,  -999.0,-999.000,9,-999.000,  39.5296,2,   490.9,-999.000,   8.1913,     -999.0,9,     -999.0,9,     -999.0,9,     -999.0,9,     -999.0,9,     -999.0,9,     -999.0,9, -999.00,9,-999.0000,9,-999.0000,9,-999.0000,9,-999.0000,9,-999.0000,9,-999.0000,9,-999.0000, -999.00
33RR20050106,       P16S,      15,          2,         25,         25,2,20050114,       0650,   -22.9997,  -149.9997,       4813,   576.1,   6.8645,  34.3649,2,  34.3647,2,    223.6,2,   229.7,2,    7.84,2,   22.36,2,    0.00,2,    1.61,2,   2.090,2,   1.067,2,   0.057,2,  2143.0,2,  2276.6,2,-999.000,9,-999.0000,9, -999.00,9, -999.00,9,  -999.0,9,  -999.0,-999.000,9,-999.000,-999.0000,9,   576.1,-999.000,   6.8102,     -999.0,9,     -999.0,9,     -999.0,9,     -999.0,9,     -999.0,9,     -999.0,9,     -999.0,9, -999.00,9,-999.0000,9,-999.0000,9,-999.0000,9,-999.0000,9,-999.0000,9,-999.0000,9,-999.0000, -999.00
33RR20050106,       P16S,      15,          2,         24,         24,2,20050114,       0650,   -22.9997,  -149.9997,       4813,   676.1,   5.9085,  34.3187,2,  34.3187,2,    226.5,2,   227.2,2,   12.22,2,   25.21,2,    0.00,2,    1.78,2,   1.245,2,   0.635,2,   0.020,2,  2155.9,2,  2279.6,2,-999.000,9,-999.0000,9, -999.00,9, -999.00,9,  -999.0,9,  -999.0,-999.000,9,-999.000,  40.4918,2,   676.1,-999.000,   5.8493,     -999.0,9,     -999.0,9,     -999.0,9,     -999.0,9,     -999.0,9,     -999.0,9,     -999.0,9, -999.00,9,-999.0000,9,-999.0000,9,-999.0000,9,-999.0000,9,-999.0000,9,-999.0000,9,-999.0000, -999.00
33RR20050106,       P16S,      15,          2,         23,         23,2,20050114,       0650,   -22.9997,  -149.9997,       4813,   776.8,   5.2500,  34.3344,2,  34.3342,2,    210.7,2,   192.4,2,   24.10,2,   29.73,2,    0.00,2,    2.10,2,   0.461,2,   0.248,2,   0.001,2,  2187.6,2,  2288.6,2,-999.000,9,-999.0000,9, -999.00,9, -999.00,9,  -999.0,9,  -999.0,-999.000,9,-999.000,  40.6360,2,   776.8,-999.000,   5.1853,     -999.0,9,     -999.0,9,     -999.0,9,     -999.0,9,     -999.0,9,     -999.0,9,     -999.0,9, -999.00,9,-999.0000,9,-999.0000,9,-999.0000,9,-999.0000,9,-999.0000,9,-999.0000,9,-999.0000, -999.00
33RR20050106,       P16S,      15,          2,         22,         22,2,20050114,       0650,   -22.9997,  -149.9997,       4813,   877.1,   4.7999,  34.3565,2,  34.3558,2,    181.5,2,   177.9,2,   32.89,2,   31.85,2,    0.00,2,    2.24,2,   0.252,2,   0.149,2,   0.001,2,  2204.5,2,  2298.7,2,-999.000,9,-999.0000,9, -999.00,9, -999.00,9,  -999.0,9,  -999.0,-999.000,9,-999.000,-999.0000,9,   877.1,-999.000,   4.7292,     -999.0,9,     -999.0,9,     -999.0,9,     -999.0,9,     -999.0,9,     -999.0,9,     -999.0,9, -999.00,9,-999.0000,9,-999.0000,9,-999.0000,9,-999.0000,9,-999.0000,9,-999.0000,9,-999.0000, -999.00
33RR20050106,       P16S,      15,          2,         21,         21,2,20050114,       0650,   -22.9997,  -149.9997,       4813,   977.6,   4.1860,  34.4045,2,  34.4059,2,    165.1,2,   162.0,2,   48.44,2,   33.79,2,    0.00,2,    2.40,2,   0.151,2,   0.095,2,   0.001,2,  2229.4,2,  2312.4,2,-999.000,9,-999.0000,9, -999.00,9, -999.00,9,  -999.0,9,  -999.0,-999.000,9,-999.000,  39.2077,2,   977.6,-999.000,   4.1109,     -999.0,9,     -999.0,9,     -999.0,9,     -999.0,9,     -999.0,9,     -999.0,9,     -999.0,9, -999.00,9,-999.0000,9,-999.0000,9,-999.0000,9,-999.0000,9,-999.0000,9,-999.0000,9,-999.0000, -999.00
33RR20050106,       P16S,      15,          2,         20,         20,2,20050114,       0650,   -22.9997,  -149.9997,       4813,  1078.1,   3.7513,  34.4472,2,  34.4471,2,    155.7,2,   156.5,2,   59.62,2,   34.72,2,    0.00,2,    2.46,2,   0.049,2,   0.032,2,   0.001,2,  2245.2,6,  2326.2,2,-999.000,9,-999.0000,9, -999.00,9, -999.00,9,  -999.0,9,  -999.0,-999.000,9,-999.000,  40.9176,2,  1078.1,-999.000,   3.6713,     -999.0,9,     -999.0,9,     -999.0,9,     -999.0,9,     -999.0,9,     -999.0,9,     -999.0,9, -999.00,9,-999.0000,9,-999.0000,9,-999.0000,9,-999.0000,9,-999.0000,9,-999.0000,9,-999.0000, -999.00
33RR20050106,       P16S,      15,          2,         19,         19,2,20050114,       0650,   -22.9997,  -149.9997,       4813,  1179.1,   3.3448,  34.4869,2,  34.5049,3,    154.8,2,   156.0,2,   70.82,2,   34.89,2,    0.00,2,    2.48,2,   0.019,2,   0.008,2,   0.001,2,  2255.0,2,  2335.3,2,-999.000,9,-999.0000,9, -999.00,9, -999.00,9,  -999.0,9,  -999.0,-999.000,9,-999.000,  39.8984,2,  1179.1,-999.000,   3.2600,     -999.0,9,     -999.0,9,     -999.0,9,     -999.0,9,     -999.0,9,     -999.0,9,     -999.0,9, -999.00,9,-999.0000,9,-999.0000,9,-999.0000,9,-999.0000,9,-999.0000,9,-999.0000,9,-999.0000, -999.00
33RR20050106,       P16S,      15,          2,         18,         18,2,20050114,       0650,   -22.9997,  -149.9997,       4813,  1279.6,   3.0273,  34.5268,2,  34.5271,2,    153.5,2,   153.9,2,   82.06,2,   35.05,2,    0.00,2,    2.49,2,   0.073,3,   0.028,2,   0.001,2,  2266.4,2,  2349.2,6,-999.000,9,-999.0000,9, -999.00,9, -999.00,9,  -999.0,9,  -999.0,-999.000,9,-999.000,-999.0000,9,  1279.6,-999.000,   2.9373,     -999.0,9,     -999.0,9,     -999.0,9,     -999.0,9,     -999.0,9,     -999.0,9,     -999.0,9, -999.00,9,-999.0000,9,-999.0000,9,-999.0000,9,-999.0000,9,-999.0000,9,-999.0000,9,-999.0000, -999.00
33RR20050106,       P16S,      15,          2,         17,         17,2,20050114,       0650,   -22.9997,  -149.9997,       4813,  1380.2,   2.7954,  34.5529,2,  34.5540,2,    153.8,2,   153.4,2,   90.35,2,   35.17,2,    0.00,2,    2.50,2,   0.020,2,   0.009,2,   0.001,2,  2274.2,2,  2359.7,2,-999.000,9,-999.0000,9, -999.00,9, -999.00,9,  -999.0,9,  -999.0,-999.000,9,-999.000,-999.0000,9,  1380.2,-999.000,   2.6997,     -999.0,9,     -999.0,9,     -999.0,9,     -999.0,9,     -999.0,9,     -999.0,9,     -999.0,9, -999.00,9,-999.0000,9,-999.0000,9,-999.0000,9,-999.0000,9,-999.0000,9,-999.0000,9,-999.0000, -999.00
33RR20050106,       P16S,      15,          2,         16,         16,2,20050114,       0650,   -22.9997,  -149.9997,       4813,  1481.2,   2.6246,  34.5722,2,  34.5716,2,    151.4,2,   152.9,2,   95.88,2,   35.28,2,    0.00,2,    2.50,2,-999.000,9,-999.000,9,-999.000,9,  2280.3,2,  2365.8,2,-999.000,9,-999.0000,9, -999.00,9, -999.00,9,  -999.0,9,  -999.0,-999.000,9,-999.000,  40.2940,2,  1481.2,-999.000,   2.5226,     -999.0,9,     -999.0,9,     -999.0,9,     -999.0,9,     -999.0,9,     -999.0,9,     -999.0,9, -999.00,9,-999.0000,9,-999.0000,9,-999.0000,9,-999.0000,9,-999.0000,9,-999.0000,9,-999.0000, -999.00
33RR20050106,       P16S,      15,          2,         15,         15,2,20050114,       0650,   -22.9997,  -149.9997,       4813,  1582.1,   2.4793,  34.5922,2,  34.5930,2,    150.8,2,   151.0,2,  102.49,2,   35.44,2,    0.00,2,    2.52,2,   0.005,2,  -0.001,2,   0.001,2,  2288.1,2,  2373.5,2,-999.000,9,-999.0000,9, -999.00,9, -999.00,9,  -999.0,9,  -999.0,-999.000,9,-999.000,-999.0000,9,  1582.1,-999.000,   2.3708,     -999.0,9,     -999.0,9,     -999.0,9,     -999.0,9,     -999.0,9,     -999.0,9,     -999.0,9, -999.00,9,-999.0000,9,-999.0000,9,-999.0000,9,-999.0000,9,-999.0000,9,-999.0000,9,-999.0000, -999.00
33RR20050106,       P16S,      15,          2,         14,         14,2,20050114,       0650,   -22.9997,  -149.9997,       4813,  1682.9,   2.3483,  34.6094,2,  34.6099,2,    149.1,2,   149.5,2,  108.03,2,   35.62,2,    0.00,2,    2.53,2,-999.000,9,-999.000,9,-999.000,9,  2295.2,2,  2378.6,2,-999.000,9,-999.0000,9, -999.00,9, -999.00,9,  -999.0,9,  -999.0,-999.000,9,-999.000,-999.0000,9,  1682.9,-999.000,   2.2332,     -999.0,9,     -999.0,9,     -999.0,9,     -999.0,9,     -999.0,9,     -999.0,9,     -999.0,9, -999.00,9,-999.0000,9,-999.0000,9,-999.0000,9,-999.0000,9,-999.0000,9,-999.0000,9,-999.0000, -999.00
33RR20050106,       P16S,      15,          2,         13,         13,2,20050114,       0650,   -22.9997,  -149.9997,       4813,  1784.0,   2.2668,  34.6193,2,  34.6205,2,    148.3,2,   148.7,2,  111.67,2,   35.67,2,    0.00,2,    2.53,2,   0.002,2,  -0.001,2,   0.001,2,  2299.0,2,  2383.9,2,-999.000,9,-999.0000,9, -999.00,9, -999.00,9,  -999.0,9,  -999.0,-999.000,9,-999.000,  37.1009,2,  1784.0,-999.000,   2.1445,     -999.0,9,     -999.0,9,     -999.0,9,     -999.0,9,     -999.0,9,     -999.0,9,     -999.0,9, -999.00,9,-999.0000,9,-999.0000,9,-999.0000,9,-999.0000,9,-999.0000,9,-999.0000,9,-999.0000, -999.00
33RR20050106,       P16S,      15,          2,         12,         12,2,20050114,       0650,   -22.9997,  -149.9997,       4813,  1985.5,   2.1551,  34.6316,2,  34.6311,2,    148.5,2,   149.1,2,  115.94,2,   35.68,2,    0.00,2,    2.53,2,-999.000,9,-999.000,9,-999.000,9,  2303.0,2,  2388.4,2,-999.000,9,-999.0000,9, -999.00,9, -999.00,9,  -999.0,9,  -999.0,-999.000,9,-999.000,-999.0000,9,  1985.5,-999.000,   2.0175,     -999.0,9,     -999.0,9,     -999.0,9,     -999.0,9,     -999.0,9,     -999.0,9,     -999.0,9, -999.00,9,-999.0000,9,-999.0000,9,-999.0000,9,-999.0000,9,-999.0000,9,-999.0000,9,-999.0000, -999.00
33RR20050106,       P16S,      15,          2,         11,         11,2,20050114,       0650,   -22.9997,  -149.9997,       4813,  2188.1,   2.0070,  34.6458,2,  34.6458,2,    149.3,2,   149.8,2,  121.08,2,   35.74,2,    0.00,2,    2.53,2,   0.007,2,  -0.001,2,   0.001,2,  2307.7,2,  2394.7,2,-999.000,9,-999.0000,9, -999.00,9, -999.00,9,  -999.0,9,  -999.0,-999.000,9,-999.000,  36.3215,2,  2188.1,-999.000,   1.8543,     -999.0,9,     -999.0,9,     -999.0,9,     -999.0,9,     -999.0,9,     -999.0,9,     -999.0,9, -999.00,9,-999.0000,9,-999.0000,9,-999.0000,9,-999.0000,9,-999.0000,9,-999.0000,9,-999.0000, -999.00
33RR20050106,       P16S,      15,          2,         10,         10,2,20050114,       0650,   -22.9997,  -149.9997,       4813,  2440.7,   1.8813,  34.6569,2,  34.6559,2,    152.5,2,   153.1,2,  123.87,2,   35.58,2,    0.00,2,    2.51,2,-999.000,9,-999.000,9,-999.000,9,  2307.8,2,  2394.4,2,-999.000,9,-999.0000,9, -999.00,9, -999.00,9,  -999.0,9,  -999.0,-999.000,9,-999.000,-999.0000,9,  2440.7,-999.000,   1.7085,     -999.0,9,     -999.0,9,     -999.0,9,     -999.0,9,     -999.0,9,     -999.0,9,     -999.0,9, -999.00,9,-999.0000,9,-999.0000,9,-999.0000,9,-999.0000,9,-999.0000,9,-999.0000,9,-999.0000, -999.00
33RR20050106,       P16S,      15,          2,          9,          9,2,20050114,       0650,   -22.9997,  -149.9997,       4813,  2694.5,   1.7801,  34.6655,2,  34.6649,2,    157.2,2,   157.3,2,  124.94,2,   35.30,2,    0.00,2,    2.49,2,   0.009,2,  -0.001,2,   0.001,2,  2306.3,2,  2396.1,2,-999.000,9,-999.0000,9, -999.00,9, -999.00,9,  -999.0,9,  -999.0,-999.000,9,-999.000,  37.9064,2,  2694.5,-999.000,   1.5861,     -999.0,9,     -999.0,9,     -999.0,9,     -999.0,9,     -999.0,9,     -999.0,9,     -999.0,9, -999.00,9,-999.0000,9,-999.0000,9,-999.0000,9,-999.0000,9,-999.0000,9,-999.0000,9,-999.0000, -999.00
33RR20050106,       P16S,      15,          2,          8,          8,2,20050114,       0650,   -22.9997,  -149.9997,       4813,  2947.6,   1.7034,  34.6723,2,  34.6729,2,    161.6,2,   161.6,2,  125.39,2,   34.98,2,    0.00,2,    2.47,2,-999.000,9,-999.000,9,-999.000,9,  2304.1,2,  2393.5,2,-999.000,9,-999.0000,9, -999.00,9, -999.00,9,  -999.0,9,  -999.0,-999.000,9,-999.000,-999.0000,9,  2947.6,-999.000,   1.4871,     -999.0,9,     -999.0,9,     -999.0,9,     -999.0,9,     -999.0,9,     -999.0,9,     -999.0,9, -999.00,9,-999.0000,9,-999.0000,9,-999.0000,9,-999.0000,9,-999.0000,9,-999.0000,9,-999.0000, -999.00
33RR20050106,       P16S,      15,          2,          7,          7,2,20050114,       0650,   -22.9997,  -149.9997,       4813,  3282.9,   1.5991,  34.6815,2,  34.6820,2,    166.1,2,   167.0,2,  126.24,2,   34.66,2,    0.00,2,    2.44,2,   0.006,2,  -0.001,2,   0.001,2,  2300.9,2,  2394.1,2,-999.000,9,-999.0000,9, -999.00,9, -999.00,9,  -999.0,9,  -999.0,-999.000,9,-999.000,  37.5616,2,  3282.9,-999.000,   1.3524,     -999.0,9,     -999.0,9,     -999.0,9,     -999.0,9,     -999.0,9,     -999.0,9,     -999.0,9, -999.00,9,-999.0000,9,-999.0000,9,-999.0000,9,-999.0000,9,-999.0000,9,-999.0000,9,-999.0000, -999.00