BOTTLE,20201109CCHSIOCBG
EXPOCODE,SECT_ID,STNNBR,CASTNO,SAMPNO,BTLNBR,BTLNBR_FLAG_W,DATE,TIME,LATITUDE,LONGITUDE,DEPTH,CTDPRS,CTDTMP,CTDSAL,CTDSAL_FLAG_W,SALNTY,SALNTY_FLAG_W,CTDOXY,CTDOXY_FLAG_W,OXYGEN,OXYGEN_FLAG_W,SILCAT,SILCAT_FLAG_W,NITRAT,NITRAT_FLAG_W,NITRIT,NITRIT_FLAG_W,PHSPHT,PHSPHT_FLAG_W,CFC-11,CFC-11_FLAG_W,CFC-12,CFC-12_FLAG_W,CFC113,CFC113_FLAG_W,TCARBN,TCARBN_FLAG_W,ALKALI,ALKALI_FLAG_W,TRITUM,TRITUM_FLAG_W,HELIUM,HELIUM_FLAG_W,DELHE3,DELHE3_FLAG_W,DELC13,DELC13_FLAG_W,DELC14,DELC14_FLAG_W,C14ERR,NEON,NEON_FLAG_W,NEONER,DOC,DOC_FLAG_W,CTDRAW,TRITER,THETA,FUCO,FUCO_FLAG_W,RHAM,RHAM_FLAG_W,ARABA,ARABA_FLAG_W,GALA,GALA_FLAG_W,GLUC,GLUC_FLAG_W,MAN,MAN_FLAG_W,DCNS,DCNS_FLAG_W,BRDU,BRDU_FLAG_W,CDOM325,CDOM325_FLAG_W,CDOM340,CDOM340_FLAG_W,CDOM380,CDOM380_FLAG_W,CDOM412,CDOM412_FLAG_W,CDOMSL,CDOMSL_FLAG_W,CDOMSN,CDOMSN_FLAG_W,HELIER,DELHER
,,,,,,,,,,,METERS,DBAR,ITS-90,PSS-78,,PSS-78,,UMOL/KG,,UMOL/KG,,UMOL/KG,,UMOL/KG,,UMOL/KG,,UMOL/KG,,PMOL/KG,,PMOL/KG,,PMOL/KG,,UMOL/KG,,UMOL/KG,,TU,,NMOL/KG,,PERCNT,,/MILLE,,/MILLE,,/MILLE,NMOL/KG,,NMOL/KG,UMOL/KG,,DBAR,TU,DEG C,NMOL/KG,,NMOL/KG,,NMOL/KG,,NMOL/KG,,NMOL/KG,,NMOL/KG,,NMOL/KG,,PMOL/L/H,,1/M,,1/M,,1/M,,1/M,,1/NM,,1/NM,,NMOL/KG,PERCNT
33RR20050106,       P16S,      19,          2,          6,          6,2,20050115,       0941,   -24.9995,  -149.9985,       4556,  3537.2,   1.5572,  34.6861,2,  34.6850,2,    168.9,2,   170.0,2,  126.31,2,   34.46,2,    0.00,2,    2.43,2,   0.004,2,  -0.001,2,   0.001,2,  2297.2,2,  2393.9,2,   0.001,2,   1.9050,2,   19.87,2, -999.00,9,  -999.0,9,  -999.0,   8.193,2,   0.013,-999.0000,9,  3537.2,   0.006,   1.2857,     -999.0,9,     -999.0,9,     -999.0,9,     -999.0,9,     -999.0,9,     -999.0,9,     -999.0,9, -999.00,9,-999.0000,9,-999.0000,9,-999.0000,9,-999.0000,9,-999.0000,9,-999.0000,9,   0.0010,    0.16
33RR20050106,       P16S,      19,          2,          5,          5,2,20050115,       0941,   -24.9995,  -149.9985,       4556,  3791.9,   1.5007,  34.6907,2,  34.6891,2,    174.9,2,   175.5,2,  124.39,2,   34.09,2,    0.00,2,    2.41,2,   0.000,2,  -0.001,2,   0.001,2,  2293.5,2,  2389.6,2,   0.001,2,   1.9000,2,   17.40,2, -999.00,9,  -999.0,9,  -999.0,   8.135,2,   0.013,-999.0000,9,  3791.9,   0.006,   1.2041,     -999.0,9,     -999.0,9,     -999.0,9,     -999.0,9,     -999.0,9,     -999.0,9,     -999.0,9, -999.00,9,-999.0000,9,-999.0000,9,-999.0000,9,-999.0000,9,-999.0000,9,-999.0000,9,   0.0010,    0.15
33RR20050106,       P16S,      19,          2,          4,          4,2,20050115,       0941,   -24.9995,  -149.9985,       4556,  4046.4,   1.4366,  34.6961,2,  34.6946,2,    180.1,2,   180.9,2,  123.10,2,   33.66,2,    0.00,2,    2.37,2,   0.006,2,  -0.001,2,   0.001,2,  2287.6,2,  2385.2,2,-999.000,9,   1.9310,2,   16.10,2, -999.00,9,  -999.0,9,  -999.0,   8.284,2,   0.013,  38.8352,2,  4046.4,-999.000,   1.1143,     -999.0,9,     -999.0,9,     -999.0,9,     -999.0,9,     -999.0,9,     -999.0,9,     -999.0,9, -999.00,9,-999.0000,9,-999.0000,9,-999.0000,9,-999.0000,9,-999.0000,9,-999.0000,9,   0.0010,    0.12
33RR20050106,       P16S,      19,          2,          3,          3,2,20050115,       0941,   -24.9995,  -149.9985,       4556,  4302.2,   1.3894,  34.7002,2,  34.6993,2,    185.2,2,   186.9,2,  121.82,2,   33.29,2,    0.00,2,    2.34,2,   0.000,2,  -0.001,2,   0.001,2,  2281.8,2,  2381.7,2,   0.003,2,   1.8930,2,   13.57,2, -999.00,9,  -999.0,9,  -999.0,   8.187,2,   0.013,-999.0000,9,  4302.2,   0.005,   1.0401,     -999.0,9,     -999.0,9,     -999.0,9,     -999.0,9,     -999.0,9,     -999.0,9,     -999.0,9, -999.00,9,-999.0000,9,-999.0000,9,-999.0000,9,-999.0000,9,-999.0000,9,-999.0000,9,   0.0010,    0.20
33RR20050106,       P16S,      19,          2,          2,          2,2,20050115,       0941,   -24.9995,  -149.9985,       4556,  4547.9,   1.3724,  34.7027,2,  34.7019,2,    188.7,2,   189.2,2,  120.97,2,   33.13,2,    0.00,2,    2.33,2,-999.000,9,-999.000,9,-999.000,9,  2279.6,2,  2380.7,2,-999.000,9,-999.0000,9, -999.00,9, -999.00,9,  -999.0,9,  -999.0,-999.000,9,-999.000,-999.0000,9,  4547.9,-999.000,   0.9957,     -999.0,9,     -999.0,9,     -999.0,9,     -999.0,9,     -999.0,9,     -999.0,9,     -999.0,9, -999.00,9,-999.0000,9,-999.0000,9,-999.0000,9,-999.0000,9,-999.0000,9,-999.0000,9,-999.0000, -999.00
33RR20050106,       P16S,      19,          2,          1,          1,2,20050115,       0941,   -24.9995,  -149.9985,       4556,  4654.5,   1.3771,  34.7031,2,  34.7019,2,    189.4,2,   190.0,2,  120.96,2,   33.03,2,    0.00,2,    2.32,2,   0.004,2,   0.008,2,   0.001,2,  2278.9,6,  2378.2,2,   0.001,2,-999.0000,9, -999.00,9, -999.00,9,  -999.0,9,  -999.0,-999.000,9,-999.000,  37.6634,2,  4654.5,   0.004,   0.9879,     -999.0,9,     -999.0,9,     -999.0,9,     -999.0,9,     -999.0,9,     -999.0,9,     -999.0,9, -999.00,9,-999.0000,9,-999.0000,9,-999.0000,9,-999.0000,9,-999.0000,9,-999.0000,9,-999.0000, -999.00