BOTTLE,20201109CCHSIOCBG
EXPOCODE,SECT_ID,STNNBR,CASTNO,SAMPNO,BTLNBR,BTLNBR_FLAG_W,DATE,TIME,LATITUDE,LONGITUDE,DEPTH,CTDPRS,CTDTMP,CTDSAL,CTDSAL_FLAG_W,SALNTY,SALNTY_FLAG_W,CTDOXY,CTDOXY_FLAG_W,OXYGEN,OXYGEN_FLAG_W,SILCAT,SILCAT_FLAG_W,NITRAT,NITRAT_FLAG_W,NITRIT,NITRIT_FLAG_W,PHSPHT,PHSPHT_FLAG_W,CFC-11,CFC-11_FLAG_W,CFC-12,CFC-12_FLAG_W,CFC113,CFC113_FLAG_W,TCARBN,TCARBN_FLAG_W,ALKALI,ALKALI_FLAG_W,TRITUM,TRITUM_FLAG_W,HELIUM,HELIUM_FLAG_W,DELHE3,DELHE3_FLAG_W,DELC13,DELC13_FLAG_W,DELC14,DELC14_FLAG_W,C14ERR,NEON,NEON_FLAG_W,NEONER,DOC,DOC_FLAG_W,CTDRAW,TRITER,THETA,FUCO,FUCO_FLAG_W,RHAM,RHAM_FLAG_W,ARABA,ARABA_FLAG_W,GALA,GALA_FLAG_W,GLUC,GLUC_FLAG_W,MAN,MAN_FLAG_W,DCNS,DCNS_FLAG_W,BRDU,BRDU_FLAG_W,CDOM325,CDOM325_FLAG_W,CDOM340,CDOM340_FLAG_W,CDOM380,CDOM380_FLAG_W,CDOM412,CDOM412_FLAG_W,CDOMSL,CDOMSL_FLAG_W,CDOMSN,CDOMSN_FLAG_W,HELIER,DELHER
,,,,,,,,,,,METERS,DBAR,ITS-90,PSS-78,,PSS-78,,UMOL/KG,,UMOL/KG,,UMOL/KG,,UMOL/KG,,UMOL/KG,,UMOL/KG,,PMOL/KG,,PMOL/KG,,PMOL/KG,,UMOL/KG,,UMOL/KG,,TU,,NMOL/KG,,PERCNT,,/MILLE,,/MILLE,,/MILLE,NMOL/KG,,NMOL/KG,UMOL/KG,,DBAR,TU,DEG C,NMOL/KG,,NMOL/KG,,NMOL/KG,,NMOL/KG,,NMOL/KG,,NMOL/KG,,NMOL/KG,,PMOL/L/H,,1/M,,1/M,,1/M,,1/M,,1/NM,,1/NM,,NMOL/KG,PERCNT
33RR20050106,       P16S,      87,          1,          1,          1,2,20050204,       1014,   -59.0002,  -150.0007,       2736,  2722.2,   0.3871,  34.7000,2,  34.7009,2,    212.1,2,   212.8,2,  127.66,2,   31.87,2,    0.00,2,    2.21,2,   0.378,2,   0.194,2,   0.038,2,  2262.5,6,  2357.4,2,-999.000,9,-999.0000,9, -999.00,9, -999.00,9,  -999.0,9,  -999.0,-999.000,9,-999.000,  39.9288,2,  2722.2,-999.000,   0.2187,     -999.0,9,     -999.0,9,     -999.0,9,     -999.0,9,     -999.0,9,     -999.0,9,     -999.0,9, -999.00,9,-999.0000,9,-999.0000,9,-999.0000,9,-999.0000,9,-999.0000,9,-999.0000,9,-999.0000, -999.00
33RR20050106,       P16S,      88,          1,         27,         27,2,20050204,       1514,   -59.5010,  -150.0002,       2339,     6.4,   1.9254,  34.1540,2,  34.1541,2,    337.8,2,   339.4,2,   50.71,2,   24.29,2,    0.28,2,    1.60,2,   5.734,2,   3.115,2,   0.618,2,  2167.7,2,  2311.9,2,-999.000,9,-999.0000,9, -999.00,9, -999.00,9,  -999.0,9,  -999.0,-999.000,9,-999.000,-999.0000,9,     6.4,-999.000,   1.9251,     -999.0,9,     -999.0,9,     -999.0,9,     -999.0,9,     -999.0,9,     -999.0,9,     -999.0,9, -999.00,9,-999.0000,9,-999.0000,9,-999.0000,9,-999.0000,9,-999.0000,9,-999.0000,9,-999.0000, -999.00
33RR20050106,       P16S,      88,          1,         26,         26,2,20050204,       1514,   -59.5010,  -150.0002,       2339,    51.2,   1.7190,  34.1580,2,  34.1606,2,    339.3,2,   340.4,2,   51.98,2,   24.51,2,    0.27,2,    1.63,2,   5.834,2,   3.175,2,   0.654,2,  2170.5,2,  2311.7,2,-999.000,9,-999.0000,9, -999.00,9, -999.00,9,  -999.0,9,  -999.0,-999.000,9,-999.000,-999.0000,9,    51.2,-999.000,   1.7165,     -999.0,9,     -999.0,9,     -999.0,9,     -999.0,9,     -999.0,9,     -999.0,9,     -999.0,9, -999.00,9,-999.0000,9,-999.0000,9,-999.0000,9,-999.0000,9,-999.0000,9,-999.0000,9,-999.0000, -999.00
33RR20050106,       P16S,      88,          1,         25,         25,2,20050204,       1514,   -59.5010,  -150.0002,       2339,    75.9,  -0.2853,  34.2211,2,  34.2214,2,    346.1,2,   347.6,2,   62.23,2,   26.52,2,    0.23,2,    1.97,2,   6.119,2,   3.319,2,   0.689,2,  2193.5,2,  2314.5,2,-999.000,9,-999.0000,9, -999.00,9, -999.00,9,  -999.0,9,  -999.0,-999.000,9,-999.000,-999.0000,9,    75.9,-999.000,  -0.2878,     -999.0,9,     -999.0,9,     -999.0,9,     -999.0,9,     -999.0,9,     -999.0,9,     -999.0,9, -999.00,9,-999.0000,9,-999.0000,9,-999.0000,9,-999.0000,9,-999.0000,9,-999.0000,9,-999.0000, -999.00
33RR20050106,       P16S,      88,          1,         24,         24,2,20050204,       1514,   -59.5010,  -150.0002,       2339,   101.0,  -1.3568,  34.2666,2,  34.2655,2,    345.4,2,   346.8,2,   67.57,2,   28.13,2,    0.22,2,    2.05,2,   6.193,2,   3.346,2,   0.690,2,  2203.7,2,  2315.3,2,-999.000,9,-999.0000,9, -999.00,9, -999.00,9,  -999.0,9,  -999.0,-999.000,9,-999.000,-999.0000,9,   101.0,-999.000,  -1.3592,     -999.0,9,     -999.0,9,     -999.0,9,     -999.0,9,     -999.0,9,     -999.0,9,     -999.0,9, -999.00,9,-999.0000,9,-999.0000,9,-999.0000,9,-999.0000,9,-999.0000,9,-999.0000,9,-999.0000, -999.00
33RR20050106,       P16S,      88,          1,         23,         23,2,20050204,       1514,   -59.5010,  -150.0002,       2339,   151.6,  -0.8381,  34.3719,2,  34.3743,2,    298.7,2,   300.2,2,   73.13,2,   30.46,2,    0.14,2,    2.11,2,   4.696,2,   2.529,2,   0.522,2,  -999.0,9,  -999.0,9,-999.000,9,-999.0000,9, -999.00,9, -999.00,9,  -999.0,9,  -999.0,-999.000,9,-999.000,-999.0000,9,   151.6,-999.000,  -0.8425,     -999.0,9,     -999.0,9,     -999.0,9,     -999.0,9,     -999.0,9,     -999.0,9,     -999.0,9, -999.00,9,-999.0000,9,-999.0000,9,-999.0000,9,-999.0000,9,-999.0000,9,-999.0000,9,-999.0000, -999.00
33RR20050106,       P16S,      88,          1,         22,         22,2,20050204,       1514,   -59.5010,  -150.0002,       2339,   202.1,   1.0010,  34.6179,2,  34.6135,2,    210.7,2,   208.9,2,   84.71,2,   32.19,2,    0.01,2,    2.22,2,   1.423,2,   0.774,2,   0.150,2,  2247.3,2,  2336.0,2,-999.000,9,-999.0000,9, -999.00,9, -999.00,9,  -999.0,9,  -999.0,-999.000,9,-999.000,-999.0000,9,   202.1,-999.000,   0.9918,     -999.0,9,     -999.0,9,     -999.0,9,     -999.0,9,     -999.0,9,     -999.0,9,     -999.0,9, -999.00,9,-999.0000,9,-999.0000,9,-999.0000,9,-999.0000,9,-999.0000,9,-999.0000,9,-999.0000, -999.00
33RR20050106,       P16S,      88,          1,         21,         21,2,20050204,       1514,   -59.5010,  -150.0002,       2339,   256.9,   1.5126,  34.6958,2,  34.6948,2,    189.4,2,   189.6,2,   88.78,2,   31.98,2,    0.01,2,    2.21,2,   0.579,2,   0.306,2,   0.050,2,  -999.0,9,  -999.0,9,-999.000,9,-999.0000,9, -999.00,9, -999.00,9,  -999.0,9,  -999.0,-999.000,9,-999.000,-999.0000,9,   256.9,-999.000,   1.4997,     -999.0,9,     -999.0,9,     -999.0,9,     -999.0,9,     -999.0,9,     -999.0,9,     -999.0,9, -999.00,9,-999.0000,9,-999.0000,9,-999.0000,9,-999.0000,9,-999.0000,9,-999.0000,9,-999.0000, -999.00
33RR20050106,       P16S,      88,          1,         20,         20,2,20050204,       1514,   -59.5010,  -150.0002,       2339,   307.7,   1.5440,  34.7141,2,  34.7137,2,    188.9,2,   189.9,2,   90.93,2,   31.71,2,    0.01,2,    2.18,2,   0.427,2,   0.232,2,   0.037,2,  2252.8,2,  2344.6,2,-999.000,9,-999.0000,9, -999.00,9, -999.00,9,  -999.0,9,  -999.0,-999.000,9,-999.000,-999.0000,9,   307.7,-999.000,   1.5283,     -999.0,9,     -999.0,9,     -999.0,9,     -999.0,9,     -999.0,9,     -999.0,9,     -999.0,9, -999.00,9,-999.0000,9,-999.0000,9,-999.0000,9,-999.0000,9,-999.0000,9,-999.0000,9,-999.0000, -999.00
33RR20050106,       P16S,      88,          1,         19,         19,2,20050204,       1514,   -59.5010,  -150.0002,       2339,   357.9,   1.5120,  34.7202,2,  34.7194,2,    189.2,2,   190.6,2,   92.87,2,   31.62,2,    0.01,2,    2.19,2,   0.431,6,   0.243,6,   0.043,6,  2253.4,2,  2346.2,2,-999.000,9,-999.0000,9, -999.00,9, -999.00,9,  -999.0,9,  -999.0,-999.000,9,-999.000,-999.0000,9,   357.9,-999.000,   1.4937,     -999.0,9,     -999.0,9,     -999.0,9,     -999.0,9,     -999.0,9,     -999.0,9,     -999.0,9, -999.00,9,-999.0000,9,-999.0000,9,-999.0000,9,-999.0000,9,-999.0000,9,-999.0000,9,-999.0000, -999.00
33RR20050106,       P16S,      88,          1,         18,         18,2,20050204,       1514,   -59.5010,  -150.0002,       2339,   408.6,   1.4918,  34.7259,2,  34.7223,2,    189.1,2,   191.6,2,   94.58,2,   31.46,2,    0.00,2,    2.18,2,   0.350,2,   0.184,2,   0.020,2,  2253.4,2,  2347.6,2,-999.000,9,-999.0000,9, -999.00,9, -999.00,9,  -999.0,9,  -999.0,-999.000,9,-999.000,-999.0000,9,   408.6,-999.000,   1.4708,     -999.0,9,     -999.0,9,     -999.0,9,     -999.0,9,     -999.0,9,     -999.0,9,     -999.0,9, -999.00,9,-999.0000,9,-999.0000,9,-999.0000,9,-999.0000,9,-999.0000,9,-999.0000,9,-999.0000, -999.00
33RR20050106,       P16S,      88,          1,         17,         17,2,20050204,       1514,   -59.5010,  -150.0002,       2339,   459.0,   1.4497,  34.7292,2,  34.7276,2,    190.3,2,   191.2,2,   97.18,2,   31.52,2,    0.00,2,    2.17,2,   0.270,2,   0.147,2,   0.017,2,  -999.0,9,  -999.0,9,-999.000,9,-999.0000,9, -999.00,9, -999.00,9,  -999.0,9,  -999.0,-999.000,9,-999.000,-999.0000,9,   459.0,-999.000,   1.4261,     -999.0,9,     -999.0,9,     -999.0,9,     -999.0,9,     -999.0,9,     -999.0,9,     -999.0,9, -999.00,9,-999.0000,9,-999.0000,9,-999.0000,9,-999.0000,9,-999.0000,9,-999.0000,9,-999.0000, -999.00
33RR20050106,       P16S,      88,          1,         16,         16,2,20050204,       1514,   -59.5010,  -150.0002,       2339,   509.6,   1.4079,  34.7304,2,  34.7296,2,    192.8,2,   192.2,2,   98.90,2,   31.47,2,    0.00,2,    2.18,2,   0.276,2,   0.151,2,   0.032,2,  2253.9,2,  2349.9,2,-999.000,9,-999.0000,9, -999.00,9, -999.00,9,  -999.0,9,  -999.0,-999.000,9,-999.000,-999.0000,9,   509.6,-999.000,   1.3816,     -999.0,9,     -999.0,9,     -999.0,9,     -999.0,9,     -999.0,9,     -999.0,9,     -999.0,9, -999.00,9,-999.0000,9,-999.0000,9,-999.0000,9,-999.0000,9,-999.0000,9,-999.0000,9,-999.0000, -999.00
33RR20050106,       P16S,      88,          1,         15,         15,2,20050204,       1514,   -59.5010,  -150.0002,       2339,   610.3,   1.3251,  34.7301,2,  34.7288,2,    189.5,2,   190.8,2,  103.22,2,   31.85,2,    0.00,2,    2.20,2,   0.307,2,   0.168,2,   0.038,2,  -999.0,9,  -999.0,9,-999.000,9,-999.0000,9, -999.00,9, -999.00,9,  -999.0,9,  -999.0,-999.000,9,-999.000,-999.0000,9,   610.3,-999.000,   1.2935,     -999.0,9,     -999.0,9,     -999.0,9,     -999.0,9,     -999.0,9,     -999.0,9,     -999.0,9, -999.00,9,-999.0000,9,-999.0000,9,-999.0000,9,-999.0000,9,-999.0000,9,-999.0000,9,-999.0000, -999.00
33RR20050106,       P16S,      88,          1,         14,         14,2,20050204,       1514,   -59.5010,  -150.0002,       2339,   711.1,   1.2476,  34.7290,2,  34.7284,2,    189.8,2,   189.7,2,  107.32,2,   32.13,2,    0.00,2,    2.22,2,   0.148,2,   0.078,2,   0.025,2,  2259.7,2,  2352.4,2,-999.000,9,-999.0000,9, -999.00,9, -999.00,9,  -999.0,9,  -999.0,-999.000,9,-999.000,-999.0000,9,   711.1,-999.000,   1.2106,     -999.0,9,     -999.0,9,     -999.0,9,     -999.0,9,     -999.0,9,     -999.0,9,     -999.0,9, -999.00,9,-999.0000,9,-999.0000,9,-999.0000,9,-999.0000,9,-999.0000,9,-999.0000,9,-999.0000, -999.00
33RR20050106,       P16S,      88,          1,         13,         13,2,20050204,       1514,   -59.5010,  -150.0002,       2339,   812.2,   1.1556,  34.7268,2,  34.7264,2,    192.0,2,   193.3,2,  109.90,2,   32.02,2,    0.00,2,    2.22,2,   0.154,2,   0.085,2,   0.027,2,  -999.0,9,  -999.0,9,-999.000,9,-999.0000,9, -999.00,9, -999.00,9,  -999.0,9,  -999.0,-999.000,9,-999.000,-999.0000,9,   812.2,-999.000,   1.1133,     -999.0,9,     -999.0,9,     -999.0,9,     -999.0,9,     -999.0,9,     -999.0,9,     -999.0,9, -999.00,9,-999.0000,9,-999.0000,9,-999.0000,9,-999.0000,9,-999.0000,9,-999.0000,9,-999.0000, -999.00
33RR20050106,       P16S,      88,          1,         12,         12,2,20050204,       1514,   -59.5010,  -150.0002,       2339,   913.2,   1.0743,  34.7241,2,  34.7241,2,    193.8,2,   194.9,2,  112.93,2,   32.14,2,    0.00,2,    2.23,2,   0.133,2,   0.068,2,   0.020,2,  2261.3,2,  2355.4,2,-999.000,9,-999.0000,9, -999.00,9, -999.00,9,  -999.0,9,  -999.0,-999.000,9,-999.000,-999.0000,9,   913.2,-999.000,   1.0265,     -999.0,9,     -999.0,9,     -999.0,9,     -999.0,9,     -999.0,9,     -999.0,9,     -999.0,9, -999.00,9,-999.0000,9,-999.0000,9,-999.0000,9,-999.0000,9,-999.0000,9,-999.0000,9,-999.0000, -999.00
33RR20050106,       P16S,      88,          1,         11,         11,2,20050204,       1514,   -59.5010,  -150.0002,       2339,  1014.4,   1.0086,  34.7216,2,  34.7206,2,    195.5,2,   197.9,2,  114.44,2,   32.04,2,    0.00,2,    2.22,2,   0.114,2,   0.062,2,   0.017,2,  -999.0,9,  -999.0,9,-999.000,9,-999.0000,9, -999.00,9, -999.00,9,  -999.0,9,  -999.0,-999.000,9,-999.000,-999.0000,9,  1014.4,-999.000,   0.9552,     -999.0,9,     -999.0,9,     -999.0,9,     -999.0,9,     -999.0,9,     -999.0,9,     -999.0,9, -999.00,9,-999.0000,9,-999.0000,9,-999.0000,9,-999.0000,9,-999.0000,9,-999.0000,9,-999.0000, -999.00
33RR20050106,       P16S,      88,          1,         10,         10,2,20050204,       1514,   -59.5010,  -150.0002,       2339,  1115.2,   0.9380,  34.7188,2,  34.7168,2,    197.3,2,   198.6,2,  117.26,2,   32.15,2,    0.00,2,    2.23,2,-999.000,9,-999.000,9,-999.000,9,  2262.3,6,  2357.1,2,-999.000,9,-999.0000,9, -999.00,9, -999.00,9,  -999.0,9,  -999.0,-999.000,9,-999.000,-999.0000,9,  1115.2,-999.000,   0.8790,     -999.0,9,     -999.0,9,     -999.0,9,     -999.0,9,     -999.0,9,     -999.0,9,     -999.0,9, -999.00,9,-999.0000,9,-999.0000,9,-999.0000,9,-999.0000,9,-999.0000,9,-999.0000,9,-999.0000, -999.00
33RR20050106,       P16S,      88,          1,          9,          9,2,20050204,       1514,   -59.5010,  -150.0002,       2339,  1216.5,   0.8839,  34.7164,2,  34.7152,2,    199.4,2,   200.5,2,  118.34,2,   32.15,2,    0.00,2,    2.23,2,   0.108,2,   0.066,2,   0.021,2,  -999.0,9,  -999.0,9,-999.000,9,-999.0000,9, -999.00,9, -999.00,9,  -999.0,9,  -999.0,-999.000,9,-999.000,-999.0000,9,  1216.5,-999.000,   0.8190,     -999.0,9,     -999.0,9,     -999.0,9,     -999.0,9,     -999.0,9,     -999.0,9,     -999.0,9, -999.00,9,-999.0000,9,-999.0000,9,-999.0000,9,-999.0000,9,-999.0000,9,-999.0000,9,-999.0000, -999.00
33RR20050106,       P16S,      88,          1,          8,          8,2,20050204,       1514,   -59.5010,  -150.0002,       2339,  1317.6,   0.8221,  34.7140,2,  34.7137,2,    201.5,2,   201.9,2,  120.51,2,   32.16,2,    0.00,2,    2.23,2,-999.000,9,-999.000,9,-999.000,9,  -999.0,9,  -999.0,9,-999.000,9,-999.0000,9, -999.00,9, -999.00,9,  -999.0,9,  -999.0,-999.000,9,-999.000,-999.0000,9,  1317.6,-999.000,   0.7514,     -999.0,9,     -999.0,9,     -999.0,9,     -999.0,9,     -999.0,9,     -999.0,9,     -999.0,9, -999.00,9,-999.0000,9,-999.0000,9,-999.0000,9,-999.0000,9,-999.0000,9,-999.0000,9,-999.0000, -999.00
33RR20050106,       P16S,      88,          1,          7,          7,2,20050204,       1514,   -59.5010,  -150.0002,       2339,  1418.5,   0.7775,  34.7120,2,  34.7129,2,    202.8,2,   203.5,2,  122.03,2,   32.11,2,    0.00,2,    2.24,2,   0.128,2,   0.076,2,   0.017,2,  -999.0,9,  -999.0,9,-999.000,9,-999.0000,9, -999.00,9, -999.00,9,  -999.0,9,  -999.0,-999.000,9,-999.000,-999.0000,9,  1418.5,-999.000,   0.7007,     -999.0,9,     -999.0,9,     -999.0,9,     -999.0,9,     -999.0,9,     -999.0,9,     -999.0,9, -999.00,9,-999.0000,9,-999.0000,9,-999.0000,9,-999.0000,9,-999.0000,9,-999.0000,9,-999.0000, -999.00
33RR20050106,       P16S,      88,          1,          6,          6,2,20050204,       1514,   -59.5010,  -150.0002,       2339,  1519.8,   0.7238,  34.7100,2,  34.7103,2,    203.6,2,   204.3,2,  124.41,2,   32.23,2,    0.00,2,    2.24,2,-999.000,9,-999.000,9,-999.000,9,  -999.0,9,  -999.0,9,-999.000,9,-999.0000,9, -999.00,9, -999.00,9,  -999.0,9,  -999.0,-999.000,9,-999.000,-999.0000,9,  1519.8,-999.000,   0.6408,     -999.0,9,     -999.0,9,     -999.0,9,     -999.0,9,     -999.0,9,     -999.0,9,     -999.0,9, -999.00,9,-999.0000,9,-999.0000,9,-999.0000,9,-999.0000,9,-999.0000,9,-999.0000,9,-999.0000, -999.00
33RR20050106,       P16S,      88,          1,          5,          5,2,20050204,       1514,   -59.5010,  -150.0002,       2339,  1621.7,   0.6881,  34.7085,2,  34.7064,2,    204.5,2,   205.3,2,  125.94,2,   32.18,2,    0.00,2,    2.24,2,   0.174,2,   0.095,2,   0.022,2,  -999.0,9,  -999.0,9,-999.000,9,-999.0000,9, -999.00,9, -999.00,9,  -999.0,9,  -999.0,-999.000,9,-999.000,-999.0000,9,  1621.7,-999.000,   0.5987,     -999.0,9,     -999.0,9,     -999.0,9,     -999.0,9,     -999.0,9,     -999.0,9,     -999.0,9, -999.00,9,-999.0000,9,-999.0000,9,-999.0000,9,-999.0000,9,-999.0000,9,-999.0000,9,-999.0000, -999.00
33RR20050106,       P16S,      88,          1,          4,          4,4,20050204,       1514,   -59.5010,  -150.0002,       2339,  1824.0,   0.6283,  34.7062,2,-999.0000,9,    206.3,2,  -999.0,9, -999.00,9, -999.00,9, -999.00,9, -999.00,9,-999.000,9,-999.000,9,-999.000,9,  -999.0,9,  -999.0,9,-999.000,9,-999.0000,9, -999.00,9, -999.00,9,  -999.0,9,  -999.0,-999.000,9,-999.000,-999.0000,9,  1824.0,-999.000,   0.5255,     -999.0,9,     -999.0,9,     -999.0,9,     -999.0,9,     -999.0,9,     -999.0,9,     -999.0,9, -999.00,9,-999.0000,9,-999.0000,9,-999.0000,9,-999.0000,9,-999.0000,9,-999.0000,9,-999.0000, -999.00
33RR20050106,       P16S,      88,          1,          3,          3,2,20050204,       1514,   -59.5010,  -150.0002,       2339,  2027.4,   0.5809,  34.7046,2,  34.7011,3,    207.3,2,   208.7,2,  129.19,2,   32.40,2,    0.00,2,    2.24,2,   0.206,2,   0.101,2,   0.027,2,  -999.0,9,  -999.0,9,-999.000,9,-999.0000,9, -999.00,9, -999.00,9,  -999.0,9,  -999.0,-999.000,9,-999.000,-999.0000,9,  2027.4,-999.000,   0.4640,     -999.0,9,     -999.0,9,     -999.0,9,     -999.0,9,     -999.0,9,     -999.0,9,     -999.0,9, -999.00,9,-999.0000,9,-999.0000,9,-999.0000,9,-999.0000,9,-999.0000,9,-999.0000,9,-999.0000, -999.00
33RR20050106,       P16S,      88,          1,          2,          2,2,20050204,       1514,   -59.5010,  -150.0002,       2339,  2169.2,   0.5121,  34.7031,2,  34.7030,2,    208.7,2,   209.6,2,  128.98,2,   32.41,2,    0.00,2,    2.25,2,   0.282,2,   0.138,2,   0.025,2,  -999.0,9,  -999.0,9,-999.000,9,-999.0000,9, -999.00,9, -999.00,9,  -999.0,9,  -999.0,-999.000,9,-999.000,-999.0000,9,  2169.2,-999.000,   0.3856,     -999.0,9,     -999.0,9,     -999.0,9,     -999.0,9,     -999.0,9,     -999.0,9,     -999.0,9, -999.00,9,-999.0000,9,-999.0000,9,-999.0000,9,-999.0000,9,-999.0000,9,-999.0000,9,-999.0000, -999.00
33RR20050106,       P16S,      88,          1,          1,          1,2,20050204,       1514,   -59.5010,  -150.0002,       2339,  2270.8,   0.4293,  34.7012,2,  34.7009,2,    210.4,2,   211.3,2,  131.14,2,   32.41,2,    0.00,2,    2.25,2,   0.361,2,   0.177,2,   0.035,2,  -999.0,9,  -999.0,9,-999.000,9,-999.0000,9, -999.00,9, -999.00,9,  -999.0,9,  -999.0,-999.000,9,-999.000,-999.0000,9,  2270.8,-999.000,   0.2964,     -999.0,9,     -999.0,9,     -999.0,9,     -999.0,9,     -999.0,9,     -999.0,9,     -999.0,9, -999.00,9,-999.0000,9,-999.0000,9,-999.0000,9,-999.0000,9,-999.0000,9,-999.0000,9,-999.0000, -999.00