BOTTLE,20201109CCHSIOCBG
EXPOCODE,SECT_ID,STNNBR,CASTNO,SAMPNO,BTLNBR,BTLNBR_FLAG_W,DATE,TIME,LATITUDE,LONGITUDE,DEPTH,CTDPRS,CTDTMP,CTDSAL,CTDSAL_FLAG_W,SALNTY,SALNTY_FLAG_W,CTDOXY,CTDOXY_FLAG_W,OXYGEN,OXYGEN_FLAG_W,SILCAT,SILCAT_FLAG_W,NITRAT,NITRAT_FLAG_W,NITRIT,NITRIT_FLAG_W,PHSPHT,PHSPHT_FLAG_W,CFC-11,CFC-11_FLAG_W,CFC-12,CFC-12_FLAG_W,CFC113,CFC113_FLAG_W,TCARBN,TCARBN_FLAG_W,ALKALI,ALKALI_FLAG_W,TRITUM,TRITUM_FLAG_W,HELIUM,HELIUM_FLAG_W,DELHE3,DELHE3_FLAG_W,DELC13,DELC13_FLAG_W,DELC14,DELC14_FLAG_W,C14ERR,NEON,NEON_FLAG_W,NEONER,DOC,DOC_FLAG_W,CTDRAW,TRITER,THETA,FUCO,FUCO_FLAG_W,RHAM,RHAM_FLAG_W,ARABA,ARABA_FLAG_W,GALA,GALA_FLAG_W,GLUC,GLUC_FLAG_W,MAN,MAN_FLAG_W,DCNS,DCNS_FLAG_W,BRDU,BRDU_FLAG_W,CDOM325,CDOM325_FLAG_W,CDOM340,CDOM340_FLAG_W,CDOM380,CDOM380_FLAG_W,CDOM412,CDOM412_FLAG_W,CDOMSL,CDOMSL_FLAG_W,CDOMSN,CDOMSN_FLAG_W,HELIER,DELHER
,,,,,,,,,,,METERS,DBAR,ITS-90,PSS-78,,PSS-78,,UMOL/KG,,UMOL/KG,,UMOL/KG,,UMOL/KG,,UMOL/KG,,UMOL/KG,,PMOL/KG,,PMOL/KG,,PMOL/KG,,UMOL/KG,,UMOL/KG,,TU,,NMOL/KG,,PERCNT,,/MILLE,,/MILLE,,/MILLE,NMOL/KG,,NMOL/KG,UMOL/KG,,DBAR,TU,DEG C,NMOL/KG,,NMOL/KG,,NMOL/KG,,NMOL/KG,,NMOL/KG,,NMOL/KG,,NMOL/KG,,PMOL/L/H,,1/M,,1/M,,1/M,,1/M,,1/NM,,1/NM,,NMOL/KG,PERCNT
33RR20050106,       P16S,     103,          1,         31,         31,2,20050208,       2350,   -67.0007,  -149.9080,       4413,     2.1,   0.0015,  33.5210,2,  33.5229,2,    349.7,2,   351.0,2,   39.63,2,   19.08,2,    0.08,2,    1.38,2,   5.674,2,   3.177,2,   0.573,2,  2109.4,6,  2271.9,6,-999.000,9,-999.0000,9, -999.00,9, -999.00,5,  -110.8,2,     3.2,-999.000,9,-999.000,  47.1647,2,     2.1,-999.000,   0.0014,        114,2,        123,2,         89,2,        294,2,        222,2,        338,2,       1180,2, -999.00,9,   0.1220,2,   0.0840,2,   0.0300,2,   0.0190,2,   0.0266,2,   0.0264,2,-999.0000, -999.00
33RR20050106,       P16S,     103,          1,         30,         30,2,20050208,       2350,   -67.0007,  -149.9080,       4413,    25.1,  -0.0293,  33.5318,2,  33.5331,2,    350.8,2,   351.6,2,   40.03,2,   19.18,2,    0.08,2,    1.39,2,   5.725,2,   3.169,2,   0.572,2,  2112.3,2,  2273.7,2,-999.000,9,-999.0000,9, -999.00,9, -999.00,5,   -97.7,2,     3.3,-999.000,9,-999.000,  49.1152,3,    25.1,-999.000,  -0.0301,        128,2,        120,2,        137,2,        368,2,        161,2,        396,2,       1310,2, -999.00,9,   0.1250,2,   0.0870,2,   0.0320,2,   0.0210,2,   0.0253,2,   0.0257,2,-999.0000, -999.00
33RR20050106,       P16S,     103,          1,         29,         29,2,20050208,       2350,   -67.0007,  -149.9080,       4413,    50.2,  -1.3357,  33.9177,2,  33.9136,2,    328.9,2,   326.0,2,   46.36,2,   24.84,2,    0.18,2,    1.86,2,   5.270,2,   2.933,2,   0.531,2,  2173.8,2,  2294.1,2,-999.000,9,-999.0000,9, -999.00,9, -999.00,5,  -100.8,2,     3.0,-999.000,9,-999.000,  45.5114,2,    50.2,-999.000,  -1.3368,         60,2,         64,2,         56,2,        170,2,        300,3,        202,2,        852,3, -999.00,9,   0.1170,2,   0.0790,2,   0.0310,2,   0.0230,2,   0.0250,2,   0.0259,2,-999.0000, -999.00
33RR20050106,       P16S,     103,          1,         28,         28,2,20050208,       2350,   -67.0007,  -149.9080,       4413,    76.3,  -1.6882,  34.0536,2,  34.0570,2,    310.7,2,   311.4,2,   48.60,2,   26.81,2,    0.27,2,    1.93,2,   4.865,2,   2.787,2,   0.505,2,  2192.9,2,  2301.9,2,-999.000,9,-999.0000,9, -999.00,9, -999.00,5,  -102.8,2,     2.8,-999.000,9,-999.000,  42.2150,2,    76.3,-999.000,  -1.6897,     -999.0,9,     -999.0,9,     -999.0,9,     -999.0,9,     -999.0,9,     -999.0,9,     -999.0,9, -999.00,9,   0.0830,2,   0.0520,2,   0.0240,2,   0.0190,2,   0.0261,2,   0.0282,2,-999.0000, -999.00
33RR20050106,       P16S,     103,          1,         27,         27,2,20050208,       2350,   -67.0007,  -149.9080,       4413,   101.5,  -1.5125,  34.1119,2,  34.1156,2,    300.1,2,   300.6,2,   51.87,2,   27.74,2,    0.23,2,    1.96,2,   4.617,2,   2.599,2,   0.471,2,  2199.3,2,  2305.0,2,-999.000,9,-999.0000,9, -999.00,9, -999.00,5,  -100.3,2,     3.0,-999.000,9,-999.000,  42.9600,2,   101.5,-999.000,  -1.5147,         27,2,         26,2,         51,2,         67,2,         87,2,         61,2,        319,2, -999.00,9,   0.0610,3,   0.0310,2,   0.0090,2,   0.0090,2,   0.0478,3,   0.0485,3,-999.0000, -999.00
33RR20050106,       P16S,     103,          1,         26,         26,2,20050208,       2350,   -67.0007,  -149.9080,       4413,   151.9,   0.4694,  34.4884,2,  34.4985,2,    220.4,2,   216.5,2,   79.28,2,   31.82,2,    0.03,2,    2.20,2,   1.838,2,   1.001,2,   0.177,2,  2242.9,2,  2330.7,2,-999.000,9,-999.0000,9, -999.00,9, -999.00,5,  -131.5,2,     2.7,-999.000,9,-999.000,  41.7804,2,   151.9,-999.000,   0.4633,         19,2,         32,2,         65,2,         75,2,         68,2,         73,2,        333,2, -999.00,9,   0.0840,2,   0.0470,2,   0.0180,2,   0.0150,2,   0.0345,2,   0.0365,2,-999.0000, -999.00
33RR20050106,       P16S,     103,          1,         25,         25,2,20050208,       2350,   -67.0007,  -149.9080,       4413,   202.2,   1.4691,  34.6971,2,  34.6948,2,    181.9,2,   181.4,2,   92.71,2,   32.72,2,    0.02,2,    2.26,2,   0.462,2,   0.246,2,   0.041,2,  2259.5,2,  2342.1,2,-999.000,9,-999.0000,9, -999.00,9, -999.00,5,  -149.5,2,     2.7,-999.000,9,-999.000,  43.6765,2,   202.2,-999.000,   1.4591,     -999.0,9,     -999.0,9,     -999.0,9,     -999.0,9,     -999.0,9,     -999.0,9,     -999.0,9, -999.00,9,   0.1120,2,   0.0690,2,   0.0220,2,   0.0170,2,   0.0322,2,   0.0325,2,-999.0000, -999.00
33RR20050106,       P16S,     103,          1,         24,         24,2,20050208,       2350,   -67.0007,  -149.9080,       4413,   256.7,   1.5278,  34.7242,2,  34.7238,2,    178.7,2,   180.8,2,   96.05,2,   32.57,2,    0.01,2,    2.25,2,   0.250,2,   0.141,2,   0.022,2,  2259.8,2,  2346.6,2,-999.000,9,-999.0000,9, -999.00,9, -999.00,5,  -149.6,2,     2.9,-999.000,9,-999.000,  41.1684,2,   256.7,-999.000,   1.5149,     -999.0,9,     -999.0,9,     -999.0,9,     -999.0,9,     -999.0,9,     -999.0,9,     -999.0,9, -999.00,9,   0.1120,2,   0.0690,2,   0.0230,2,   0.0180,2,   0.0309,2,   0.0316,2,-999.0000, -999.00
33RR20050106,       P16S,     103,          1,         23,         23,2,20050208,       2350,   -67.0007,  -149.9080,       4413,   307.1,   1.4722,  34.7295,2,  34.7295,2,    180.6,2,   181.6,2,   98.71,2,   32.42,2,    0.01,2,    2.25,2,   0.204,2,   0.107,2,   0.021,2,  2261.2,2,  2348.9,2,-999.000,9,-999.0000,9, -999.00,9, -999.00,5,  -158.7,2,     2.9,-999.000,9,-999.000,  41.3074,2,   307.1,-999.000,   1.4567,         27,2,         23,2,         21,2,         49,2,         76,2,         59,2,        254,2, -999.00,9,   0.0970,2,   0.0580,2,   0.0240,2,   0.0190,2,   0.0284,2,   0.0309,2,-999.0000, -999.00
33RR20050106,       P16S,     103,          1,         22,         22,2,20050208,       2350,   -67.0007,  -149.9080,       4413,   357.5,   1.4220,  34.7308,2,  34.7305,2,    182.0,2,   182.5,2,  100.98,2,   32.58,2,    0.00,2,    2.24,2,   0.155,2,   0.085,2,   0.011,2,  2261.0,2,  2348.6,2,-999.000,9,-999.0000,9, -999.00,9, -999.00,5,  -151.7,2,     2.6,-999.000,9,-999.000,-999.0000,9,   357.5,-999.000,   1.4040,     -999.0,9,     -999.0,9,     -999.0,9,     -999.0,9,     -999.0,9,     -999.0,9,     -999.0,9, -999.00,9,-999.0000,9,-999.0000,9,-999.0000,9,-999.0000,9,-999.0000,9,-999.0000,9,-999.0000, -999.00
33RR20050106,       P16S,     103,          1,         21,         21,2,20050208,       2350,   -67.0007,  -149.9080,       4413,   407.9,   1.3794,  34.7314,2,  34.7313,2,    182.6,2,   183.3,2,  102.63,2,   32.48,2,    0.00,2,    2.24,2,   0.168,2,   0.093,2,   0.022,2,  2261.9,2,  2351.3,2,-999.000,9,-999.0000,9, -999.00,9, -999.00,5,  -164.2,2,     2.6,-999.000,9,-999.000,  40.7998,2,   407.9,-999.000,   1.3588,     -999.0,9,     -999.0,9,     -999.0,9,     -999.0,9,     -999.0,9,     -999.0,9,     -999.0,9, -999.00,9,   0.1130,2,   0.0690,2,   0.0260,2,   0.0200,2,   0.0293,2,   0.0306,2,-999.0000, -999.00
33RR20050106,       P16S,     103,          1,         20,         20,2,20050208,       2350,   -67.0007,  -149.9080,       4413,   458.5,   1.3402,  34.7313,2,  34.7311,2,    183.4,2,   184.0,2,  104.06,2,   32.53,2,    0.00,2,    2.24,2,   0.145,2,   0.075,2,   0.012,2,  2262.4,2,  2350.7,2,-999.000,9,-999.0000,9, -999.00,9, -999.00,5,  -172.3,2,     4.3,-999.000,9,-999.000,-999.0000,9,   458.5,-999.000,   1.3170,     -999.0,9,     -999.0,9,     -999.0,9,     -999.0,9,     -999.0,9,     -999.0,9,     -999.0,9, -999.00,9,-999.0000,9,-999.0000,9,-999.0000,9,-999.0000,9,-999.0000,9,-999.0000,9,-999.0000, -999.00
33RR20050106,       P16S,     103,          1,         19,         19,2,20050208,       2350,   -67.0007,  -149.9080,       4413,   509.0,   1.3008,  34.7310,2,  34.7303,2,    184.5,2,   184.9,2,  105.50,2,   32.53,2,    0.00,2,    2.23,2,   0.115,2,   0.056,2,   0.009,2,  2262.4,2,  2352.0,2,-999.000,9,-999.0000,9, -999.00,9, -999.00,5,  -169.5,2,     5.0,-999.000,9,-999.000,  41.0934,2,   509.0,-999.000,   1.2750,     -999.0,9,     -999.0,9,     -999.0,9,     -999.0,9,     -999.0,9,     -999.0,9,     -999.0,9, -999.00,9,-999.0000,9,-999.0000,9,-999.0000,9,-999.0000,9,-999.0000,9,-999.0000,9,-999.0000, -999.00
33RR20050106,       P16S,     103,          1,         18,         18,2,20050208,       2350,   -67.0007,  -149.9080,       4413,   609.9,   1.2195,  34.7293,2,  34.7299,2,    186.7,2,   187.3,2,  108.18,2,   32.37,2,    0.00,2,    2.24,2,   0.092,2,   0.047,2,   0.007,2,  2262.2,2,  2353.3,6,-999.000,9,-999.0000,9, -999.00,9, -999.00,5,  -160.7,6,     1.8,-999.000,9,-999.000,  40.4974,2,   609.9,-999.000,   1.1885,     -999.0,9,     -999.0,9,     -999.0,9,     -999.0,9,     -999.0,9,     -999.0,9,     -999.0,9, -999.00,9,   0.0980,2,   0.0580,2,   0.0260,2,   0.0210,2,   0.0265,2,   0.0293,2,-999.0000, -999.00
33RR20050106,       P16S,     103,          1,         17,         17,2,20050208,       2350,   -67.0007,  -149.9080,       4413,   811.9,   1.0686,  34.7245,2,  34.7248,2,    191.3,2,   192.4,2,  112.74,2,   32.32,2,    0.00,2,    2.22,2,   0.183,2,   0.111,2,   0.017,2,  2262.1,2,  2354.9,2,-999.000,9,-999.0000,9, -999.00,9, -999.00,5,  -171.7,6,     5.6,-999.000,9,-999.000,  45.2045,3,   811.9,-999.000,   1.0269,     -999.0,9,     -999.0,9,     -999.0,9,     -999.0,9,     -999.0,9,     -999.0,9,     -999.0,9, -999.00,9,   0.0970,2,   0.0590,2,   0.0270,2,   0.0220,2,   0.0254,2,   0.0283,2,-999.0000, -999.00
33RR20050106,       P16S,     103,          1,         16,         16,2,20050208,       2350,   -67.0007,  -149.9080,       4413,  1013.9,   0.9576,  34.7200,2,  34.7205,2,    196.0,2,   196.5,2,  115.64,2,   32.32,2,    0.00,2,    2.22,2,   0.062,2,   0.040,2,   0.007,2,  2262.4,6,  2355.7,2,-999.000,9,-999.0000,9, -999.00,9, -999.00,5,  -177.1,2,     3.5,-999.000,9,-999.000,  39.1876,2,  1013.9,-999.000,   0.9047,     -999.0,9,     -999.0,9,     -999.0,9,     -999.0,9,     -999.0,9,     -999.0,9,     -999.0,9, -999.00,9,   0.0970,2,   0.0590,2,   0.0270,2,   0.0220,2,   0.0254,2,   0.0283,2,-999.0000, -999.00
33RR20050106,       P16S,     103,          1,         15,         15,2,20050208,       2350,   -67.0007,  -149.9080,       4413,  1216.4,   0.8451,  34.7153,2,  34.7157,2,    199.8,2,   199.8,2,  118.95,2,   32.26,2,    0.00,2,    2.23,2,   0.060,2,   0.038,2,   0.011,2,  2261.2,2,  2358.0,2,-999.000,9,-999.0000,9, -999.00,9, -999.00,5,  -152.3,2,     3.3,-999.000,9,-999.000,  39.6052,2,  1216.4,-999.000,   0.7806,     -999.0,9,     -999.0,9,     -999.0,9,     -999.0,9,     -999.0,9,     -999.0,9,     -999.0,9, -999.00,9,   0.0950,2,   0.0570,2,   0.0260,2,   0.0220,2,   0.0256,2,   0.0285,2,-999.0000, -999.00
33RR20050106,       P16S,     103,          1,         14,         14,2,20050208,       2350,   -67.0007,  -149.9080,       4413,  1418.9,   0.7498,  34.7115,2,  34.7116,2,    201.8,2,   202.6,2,  123.73,2,   32.31,2,    0.00,2,    2.23,2,   0.085,2,   0.051,2,   0.013,2,  2260.7,2,  2358.1,2,-999.000,9,-999.0000,9, -999.00,9, -999.00,5,  -153.1,2,     3.2,-999.000,9,-999.000,-999.0000,9,  1418.9,-999.000,   0.6733,     -999.0,9,     -999.0,9,     -999.0,9,     -999.0,9,     -999.0,9,     -999.0,9,     -999.0,9, -999.00,9,-999.0000,9,-999.0000,9,-999.0000,9,-999.0000,9,-999.0000,9,-999.0000,9,-999.0000, -999.00
33RR20050106,       P16S,     103,          1,         13,         13,2,20050208,       2350,   -67.0007,  -149.9080,       4413,  1621.8,   0.6724,  34.7087,2,  34.7083,2,    203.8,2,   204.3,2,  124.97,2,   32.42,2,    0.00,2,    2.23,2,   0.099,2,   0.056,2,   0.010,2,  2262.0,2,  2358.0,2,-999.000,9,-999.0000,9, -999.00,9, -999.00,5,  -163.1,2,     2.6,-999.000,9,-999.000,  39.4103,2,  1621.8,-999.000,   0.5832,     -999.0,9,     -999.0,9,     -999.0,9,     -999.0,9,     -999.0,9,     -999.0,9,     -999.0,9, -999.00,9,   0.0970,2,   0.0590,2,   0.0270,2,   0.0220,2,   0.0249,2,   0.0276,2,-999.0000, -999.00
33RR20050106,       P16S,     103,          1,         12,         12,2,20050208,       2350,   -67.0007,  -149.9080,       4413,  1824.5,   0.5965,  34.7064,2,  34.7073,2,    205.6,2,   206.3,2,  126.18,2,   32.42,2,    0.00,2,    2.23,2,   0.089,2,   0.054,2,   0.010,2,  2261.0,2,  2358.5,2,-999.000,9,-999.0000,9, -999.00,9, -999.00,5,  -162.6,2,     3.0,-999.000,9,-999.000,-999.0000,9,  1824.5,-999.000,   0.4941,     -999.0,9,     -999.0,9,     -999.0,9,     -999.0,9,     -999.0,9,     -999.0,9,     -999.0,9, -999.00,9,-999.0000,9,-999.0000,9,-999.0000,9,-999.0000,9,-999.0000,9,-999.0000,9,-999.0000, -999.00
33RR20050106,       P16S,     103,          1,         11,         11,2,20050208,       2350,   -67.0007,  -149.9080,       4413,  2027.6,   0.5038,  34.7048,2,  34.7047,2,    207.3,2,   208.4,2,  127.43,2,   32.42,2,    0.00,2,    2.23,2,   0.086,2,   0.050,2,   0.008,2,  2261.7,2,  2359.1,2,-999.000,9,-999.0000,9, -999.00,9, -999.00,5,  -168.4,2,     4.1,-999.000,9,-999.000,  39.8868,2,  2027.6,-999.000,   0.3881,     -999.0,9,     -999.0,9,     -999.0,9,     -999.0,9,     -999.0,9,     -999.0,9,     -999.0,9, -999.00,9,   0.0930,2,   0.0560,2,   0.0270,2,   0.0220,2,   0.0249,2,   0.0278,2,-999.0000, -999.00
33RR20050106,       P16S,     103,          1,         10,         10,2,20050208,       2350,   -67.0007,  -149.9080,       4413,  2281.7,   0.4157,  34.7039,2,  34.7045,2,    209.5,2,   210.4,2,  129.28,2,   32.42,2,    0.00,2,    2.23,2,   0.096,2,   0.051,2,   0.016,2,  2261.9,2,  2359.2,2,-999.000,9,-999.0000,9, -999.00,9, -999.00,5,  -170.0,2,     3.3,-999.000,9,-999.000,  39.3000,2,  2281.7,-999.000,   0.2822,     -999.0,9,     -999.0,9,     -999.0,9,     -999.0,9,     -999.0,9,     -999.0,9,     -999.0,9, -999.00,9,   0.0920,2,   0.0560,2,   0.0260,2,   0.0210,2,   0.0255,2,   0.0285,2,-999.0000, -999.00
33RR20050106,       P16S,     103,          1,          9,          9,2,20050208,       2350,   -67.0007,  -149.9080,       4413,  2536.1,   0.3435,  34.7035,2,  34.7026,2,    211.3,2,   212.4,2,  131.13,2,   32.46,2,    0.00,2,    2.24,2,   0.125,2,   0.076,2,   0.012,2,  2261.7,2,  2359.0,2,-999.000,9,-999.0000,9, -999.00,9, -999.00,5,  -168.0,2,     3.9,-999.000,9,-999.000,  40.9735,2,  2536.1,-999.000,   0.1913,     -999.0,9,     -999.0,9,     -999.0,9,     -999.0,9,     -999.0,9,     -999.0,9,     -999.0,9, -999.00,9,   0.1080,2,   0.0700,2,   0.0380,2,   0.0330,2,   0.0122,3,   0.0161,3,-999.0000, -999.00
33RR20050106,       P16S,     103,          1,          8,          8,2,20050208,       2350,   -67.0007,  -149.9080,       4413,  2790.8,   0.2810,  34.7025,2,  34.7030,2,    213.5,2,   214.7,2,  131.74,2,   32.47,2,    0.00,2,    2.24,2,   0.215,2,   0.120,2,   0.016,2,  2261.5,2,  2358.2,2,-999.000,9,-999.0000,9, -999.00,9, -999.00,5,  -162.7,2,     3.5,-999.000,9,-999.000,-999.0000,9,  2790.8,-999.000,   0.1090,     -999.0,9,     -999.0,9,     -999.0,9,     -999.0,9,     -999.0,9,     -999.0,9,     -999.0,9, -999.00,9,-999.0000,9,-999.0000,9,-999.0000,9,-999.0000,9,-999.0000,9,-999.0000,9,-999.0000, -999.00
33RR20050106,       P16S,     103,          1,          7,          7,2,20050208,       2350,   -67.0007,  -149.9080,       4413,  3045.9,   0.2136,  34.7006,2,  34.7032,3,    216.5,2,   217.8,2,  129.42,2,   32.41,2,    0.00,2,    2.24,2,   0.345,2,   0.180,2,   0.025,2,  2260.8,2,  2357.6,2,-999.000,9,-999.0000,9, -999.00,9, -999.00,5,  -159.2,2,     3.1,-999.000,9,-999.000,  39.0825,2,  3045.9,-999.000,   0.0212,     -999.0,9,     -999.0,9,     -999.0,9,     -999.0,9,     -999.0,9,     -999.0,9,     -999.0,9, -999.00,9,   0.0930,2,   0.0560,2,   0.0270,2,   0.0220,2,   0.0247,2,   0.0277,2,-999.0000, -999.00
33RR20050106,       P16S,     103,          1,          6,          6,2,20050208,       2350,   -67.0007,  -149.9080,       4413,  3352.0,   0.1501,  34.6972,2,  34.6984,2,    220.2,2,   221.5,2,  122.53,2,   32.14,2,    0.00,2,    2.23,2,   0.732,2,   0.390,2,   0.057,2,  2258.7,2,  2356.2,2,-999.000,9,-999.0000,9, -999.00,9, -999.00,5,  -148.6,2,     3.2,-999.000,9,-999.000,  39.1071,2,  3352.0,-999.000,  -0.0682,     -999.0,9,     -999.0,9,     -999.0,9,     -999.0,9,     -999.0,9,     -999.0,9,     -999.0,9, -999.00,9,   0.0970,2,   0.0600,2,   0.0290,2,   0.0240,2,   0.0229,2,   0.0257,2,-999.0000, -999.00
33RR20050106,       P16S,     103,          1,          5,          5,2,20050208,       2350,   -67.0007,  -149.9080,       4413,  3658.9,   0.1479,  34.6973,2,  34.6982,2,    221.4,2,   222.1,2,  121.27,2,   32.20,2,    0.00,2,    2.23,2,   0.713,2,   0.369,2,   0.047,2,  2258.0,2,  2356.1,2,-999.000,9,-999.0000,9, -999.00,9, -999.00,5,  -144.9,2,     3.2,-999.000,9,-999.000,  39.1884,2,  3658.9,-999.000,  -0.0991,     -999.0,9,     -999.0,9,     -999.0,9,     -999.0,9,     -999.0,9,     -999.0,9,     -999.0,9, -999.00,9,   0.0970,2,   0.0590,2,   0.0280,2,   0.0240,2,   0.0234,2,   0.0265,2,-999.0000, -999.00
33RR20050106,       P16S,     103,          1,          4,          4,2,20050208,       2350,   -67.0007,  -149.9080,       4413,  3965.9,   0.1681,  34.6976,2,  34.6984,2,    221.8,2,   222.5,2,  121.46,2,   32.25,2,    0.00,2,    2.23,2,   0.715,2,   0.366,2,   0.042,2,  2257.7,2,  2355.0,2,-999.000,9,-999.0000,9, -999.00,9, -999.00,5,  -160.7,2,     3.8,-999.000,9,-999.000,-999.0000,9,  3965.9,-999.000,  -0.1096,     -999.0,9,     -999.0,9,     -999.0,9,     -999.0,9,     -999.0,9,     -999.0,9,     -999.0,9, -999.00,9,-999.0000,9,-999.0000,9,-999.0000,9,-999.0000,9,-999.0000,9,-999.0000,9,-999.0000, -999.00
33RR20050106,       P16S,     103,          1,          3,          3,2,20050208,       2350,   -67.0007,  -149.9080,       4413,  4222.2,   0.1922,  34.6979,2,  34.6988,2,    221.9,2,   223.4,2,  121.65,2,   32.25,2,    0.00,2,    2.23,2,   0.688,2,   0.363,2,   0.043,2,  2258.8,2,  2356.2,2,-999.000,9,-999.0000,9, -999.00,9, -999.00,5,  -151.8,2,     3.2,-999.000,9,-999.000,  40.9945,2,  4222.2,-999.000,  -0.1125,     -999.0,9,     -999.0,9,     -999.0,9,     -999.0,9,     -999.0,9,     -999.0,9,     -999.0,9, -999.00,9,-999.0000,9,-999.0000,9,-999.0000,9,-999.0000,9,-999.0000,9,-999.0000,9,-999.0000, -999.00
33RR20050106,       P16S,     103,          1,          2,          2,2,20050208,       2350,   -67.0007,  -149.9080,       4413,  4376.0,   0.2075,  34.6980,2,  34.6984,2,    221.7,2,   222.4,2,  123.08,2,   32.19,2,    0.00,2,    2.24,2,   0.681,2,   0.356,2,   0.044,2,  2258.6,2,  2355.4,2,-999.000,9,-999.0000,9, -999.00,9, -999.00,5,  -156.6,2,     3.2,-999.000,9,-999.000,-999.0000,9,  4376.0,-999.000,  -0.1138,     -999.0,9,     -999.0,9,     -999.0,9,     -999.0,9,     -999.0,9,     -999.0,9,     -999.0,9, -999.00,9,-999.0000,9,-999.0000,9,-999.0000,9,-999.0000,9,-999.0000,9,-999.0000,9,-999.0000, -999.00