BOTTLE,20201109CCHSIOCBG
EXPOCODE,SECT_ID,STNNBR,CASTNO,SAMPNO,BTLNBR,BTLNBR_FLAG_W,DATE,TIME,LATITUDE,LONGITUDE,DEPTH,CTDPRS,CTDTMP,CTDSAL,CTDSAL_FLAG_W,SALNTY,SALNTY_FLAG_W,CTDOXY,CTDOXY_FLAG_W,OXYGEN,OXYGEN_FLAG_W,SILCAT,SILCAT_FLAG_W,NITRAT,NITRAT_FLAG_W,NITRIT,NITRIT_FLAG_W,PHSPHT,PHSPHT_FLAG_W,CFC-11,CFC-11_FLAG_W,CFC-12,CFC-12_FLAG_W,CFC113,CFC113_FLAG_W,TCARBN,TCARBN_FLAG_W,ALKALI,ALKALI_FLAG_W,TRITUM,TRITUM_FLAG_W,HELIUM,HELIUM_FLAG_W,DELHE3,DELHE3_FLAG_W,DELC13,DELC13_FLAG_W,DELC14,DELC14_FLAG_W,C14ERR,NEON,NEON_FLAG_W,NEONER,DOC,DOC_FLAG_W,CTDRAW,TRITER,THETA,FUCO,FUCO_FLAG_W,RHAM,RHAM_FLAG_W,ARABA,ARABA_FLAG_W,GALA,GALA_FLAG_W,GLUC,GLUC_FLAG_W,MAN,MAN_FLAG_W,DCNS,DCNS_FLAG_W,BRDU,BRDU_FLAG_W,CDOM325,CDOM325_FLAG_W,CDOM340,CDOM340_FLAG_W,CDOM380,CDOM380_FLAG_W,CDOM412,CDOM412_FLAG_W,CDOMSL,CDOMSL_FLAG_W,CDOMSN,CDOMSN_FLAG_W,HELIER,DELHER
,,,,,,,,,,,METERS,DBAR,ITS-90,PSS-78,,PSS-78,,UMOL/KG,,UMOL/KG,,UMOL/KG,,UMOL/KG,,UMOL/KG,,UMOL/KG,,PMOL/KG,,PMOL/KG,,PMOL/KG,,UMOL/KG,,UMOL/KG,,TU,,NMOL/KG,,PERCNT,,/MILLE,,/MILLE,,/MILLE,NMOL/KG,,NMOL/KG,UMOL/KG,,DBAR,TU,DEG C,NMOL/KG,,NMOL/KG,,NMOL/KG,,NMOL/KG,,NMOL/KG,,NMOL/KG,,NMOL/KG,,PMOL/L/H,,1/M,,1/M,,1/M,,1/M,,1/NM,,1/NM,,NMOL/KG,PERCNT
33RR20050106,       P16S,      29,          1,         36,         36,2,20050118,       0159,   -30.0000,  -149.9998,       4270,     2.5,  23.8239,  35.5260,2,  35.5255,2,    214.0,2,   213.2,2,    0.41,2,    0.07,2,    0.00,2,    0.09,2,   1.830,2,   1.111,2,   0.189,2,  2031.6,6,  2328.9,6,-999.000,9,-999.0000,9, -999.00,9, -999.00,9,  -999.0,9,  -999.0,-999.000,9,-999.000,  65.1030,2,     2.5,-999.000,  23.8234,     -999.0,9,     -999.0,9,     -999.0,9,     -999.0,9,     -999.0,9,     -999.0,9,     -999.0,9, -999.00,9,-999.0000,9,-999.0000,9,-999.0000,9,-999.0000,9,-999.0000,9,-999.0000,9,-999.0000, -999.00
33RR20050106,       P16S,      29,          1,         35,         35,2,20050118,       0159,   -30.0000,  -149.9998,       4270,    34.1,  22.4184,  35.4626,2,  35.4631,2,    220.9,2,   220.5,2,    0.41,2,    0.07,2,    0.00,2,    0.07,2,   1.930,2,   1.198,2,   0.188,2,  2030.3,2,  2324.3,2,-999.000,9,-999.0000,9, -999.00,9, -999.00,9,  -999.0,9,  -999.0,-999.000,9,-999.000,  65.3063,2,    34.1,-999.000,  22.4116,     -999.0,9,     -999.0,9,     -999.0,9,     -999.0,9,     -999.0,9,     -999.0,9,     -999.0,9, -999.00,9,-999.0000,9,-999.0000,9,-999.0000,9,-999.0000,9,-999.0000,9,-999.0000,9,-999.0000, -999.00
33RR20050106,       P16S,      29,          1,         34,         34,2,20050118,       0159,   -30.0000,  -149.9998,       4270,    69.8,  19.0661,  35.5113,2,  35.5096,2,    236.2,2,   235.7,2,    0.41,2,    0.08,2,    0.00,2,    0.08,2,   2.203,2,   1.355,2,   0.197,2,  2037.4,2,  2327.7,2,-999.000,9,-999.0000,9, -999.00,9, -999.00,9,  -999.0,9,  -999.0,-999.000,9,-999.000,  61.8771,2,    69.8,-999.000,  19.0536,     -999.0,9,     -999.0,9,     -999.0,9,     -999.0,9,     -999.0,9,     -999.0,9,     -999.0,9, -999.00,9,-999.0000,9,-999.0000,9,-999.0000,9,-999.0000,9,-999.0000,9,-999.0000,9,-999.0000, -999.00
33RR20050106,       P16S,      29,          1,         33,         33,2,20050118,       0159,   -30.0000,  -149.9998,       4270,    89.0,  18.4366,  35.5209,2,  35.5212,2,    238.6,2,   238.8,2,    0.41,2,    0.02,2,    0.00,2,    0.09,2,   2.265,2,   1.384,2,   0.187,2,  2043.3,2,  2327.7,2,-999.000,9,-999.0000,9, -999.00,9, -999.00,9,  -999.0,9,  -999.0,-999.000,9,-999.000,  61.9207,2,    89.0,-999.000,  18.4210,     -999.0,9,     -999.0,9,     -999.0,9,     -999.0,9,     -999.0,9,     -999.0,9,     -999.0,9, -999.00,9,-999.0000,9,-999.0000,9,-999.0000,9,-999.0000,9,-999.0000,9,-999.0000,9,-999.0000, -999.00
33RR20050106,       P16S,      29,          1,         32,         32,2,20050118,       0159,   -30.0000,  -149.9998,       4270,   120.2,  17.4901,  35.4496,2,  35.4541,2,    235.5,2,   233.6,2,    0.61,2,    0.08,2,    0.00,2,    0.11,2,   2.300,2,   1.413,2,   0.168,2,  2048.9,2,  2324.5,2,-999.000,9,-999.0000,9, -999.00,9, -999.00,9,  -999.0,9,  -999.0,-999.000,9,-999.000,  60.1756,2,   120.2,-999.000,  17.4698,     -999.0,9,     -999.0,9,     -999.0,9,     -999.0,9,     -999.0,9,     -999.0,9,     -999.0,9, -999.00,9,-999.0000,9,-999.0000,9,-999.0000,9,-999.0000,9,-999.0000,9,-999.0000,9,-999.0000, -999.00
33RR20050106,       P16S,      29,          1,         31,         31,2,20050118,       0159,   -30.0000,  -149.9998,       4270,   169.9,  16.7817,  35.4330,2,  35.4336,2,    229.6,2,   226.9,2,    0.61,2,    0.60,2,    0.12,2,    0.17,2,   2.358,2,   1.423,2,   0.160,2,  2060.0,2,  2323.7,2,-999.000,9,-999.0000,9, -999.00,9, -999.00,9,  -999.0,9,  -999.0,-999.000,9,-999.000,  56.6680,2,   169.9,-999.000,  16.7538,     -999.0,9,     -999.0,9,     -999.0,9,     -999.0,9,     -999.0,9,     -999.0,9,     -999.0,9, -999.00,9,-999.0000,9,-999.0000,9,-999.0000,9,-999.0000,9,-999.0000,9,-999.0000,9,-999.0000, -999.00
33RR20050106,       P16S,      29,          1,         30,         30,2,20050118,       0159,   -30.0000,  -149.9998,       4270,   221.0,  15.7692,  35.2955,2,  35.2939,2,    215.5,2,   214.5,2,    1.01,2,    3.17,2,    0.02,2,    0.34,2,   2.440,2,   1.408,2,   0.109,2,  2077.2,2,  2314.6,2,-999.000,9,-999.0000,9, -999.00,9, -999.00,9,  -999.0,9,  -999.0,-999.000,9,-999.000,  52.1065,2,   221.0,-999.000,  15.7345,     -999.0,9,     -999.0,9,     -999.0,9,     -999.0,9,     -999.0,9,     -999.0,9,     -999.0,9, -999.00,9,-999.0000,9,-999.0000,9,-999.0000,9,-999.0000,9,-999.0000,9,-999.0000,9,-999.0000, -999.00
33RR20050106,       P16S,      29,          1,         29,         29,2,20050118,       0159,   -30.0000,  -149.9998,       4270,   270.2,  14.3255,  35.1203,2,  35.1181,2,    204.9,2,   203.5,2,    1.60,2,    6.72,2,    0.00,2,    0.57,2,   2.437,2,   1.429,2,   0.067,2,  2094.6,2,  2306.5,2,-999.000,9,-999.0000,9, -999.00,9, -999.00,9,  -999.0,9,  -999.0,-999.000,9,-999.000,  45.7738,2,   270.2,-999.000,  14.2857,     -999.0,9,     -999.0,9,     -999.0,9,     -999.0,9,     -999.0,9,     -999.0,9,     -999.0,9, -999.00,9,-999.0000,9,-999.0000,9,-999.0000,9,-999.0000,9,-999.0000,9,-999.0000,9,-999.0000, -999.00
33RR20050106,       P16S,      29,          1,         28,         28,2,20050118,       0159,   -30.0000,  -149.9998,       4270,   322.0,  12.8079,  34.9357,2,-999.0000,9,    203.2,2,   203.3,2,    2.20,2,    9.75,2,    0.00,2,    0.77,2,   2.530,2,   1.377,2,   0.050,2,  2106.0,2,  2297.9,2,-999.000,9,-999.0000,9, -999.00,9, -999.00,9,  -999.0,9,  -999.0,-999.000,9,-999.000,  46.0545,2,   322.0,-999.000,  12.7639,     -999.0,9,     -999.0,9,     -999.0,9,     -999.0,9,     -999.0,9,     -999.0,9,     -999.0,9, -999.00,9,-999.0000,9,-999.0000,9,-999.0000,9,-999.0000,9,-999.0000,9,-999.0000,9,-999.0000, -999.00
33RR20050106,       P16S,      29,          1,         27,         27,2,20050118,       0159,   -30.0000,  -149.9998,       4270,   370.8,  11.3497,  34.7766,2,-999.0000,9,    204.2,2,   205.4,2,    2.80,2,   12.92,2,    0.00,2,    0.97,2,   2.494,6,   1.361,6,   0.087,6,  2116.6,2,  2291.6,2,-999.000,9,-999.0000,9, -999.00,9, -999.00,9,  -999.0,9,  -999.0,-999.000,9,-999.000,-999.0000,9,   370.8,-999.000,  11.3028,     -999.0,9,     -999.0,9,     -999.0,9,     -999.0,9,     -999.0,9,     -999.0,9,     -999.0,9, -999.00,9,-999.0000,9,-999.0000,9,-999.0000,9,-999.0000,9,-999.0000,9,-999.0000,9,-999.0000, -999.00
33RR20050106,       P16S,      29,          1,         26,         26,2,20050118,       0159,   -30.0000,  -149.9998,       4270,   422.1,   9.7677,  34.6137,2,-999.0000,9,    209.7,2,   211.8,2,    3.79,2,   16.23,2,    0.00,2,    1.17,2,   2.495,2,   1.356,2,   0.097,2,  2126.6,2,  2284.0,2,-999.000,9,-999.0000,9, -999.00,9, -999.00,9,  -999.0,9,  -999.0,-999.000,9,-999.000,  44.8533,2,   422.1,-999.000,   9.7191,     -999.0,9,     -999.0,9,     -999.0,9,     -999.0,9,     -999.0,9,     -999.0,9,     -999.0,9, -999.00,9,-999.0000,9,-999.0000,9,-999.0000,9,-999.0000,9,-999.0000,9,-999.0000,9,-999.0000, -999.00
33RR20050106,       P16S,      29,          1,         25,         25,2,20050118,       0159,   -30.0000,  -149.9998,       4270,   473.2,   8.5242,  34.5033,2,-999.0000,9,    217.6,2,   221.1,2,    4.79,2,   18.83,2,    0.00,2,    1.34,2,   2.469,2,   1.296,2,   0.085,2,  2133.5,2,  2280.4,2,-999.000,9,-999.0000,9, -999.00,9, -999.00,9,  -999.0,9,  -999.0,-999.000,9,-999.000,-999.0000,9,   473.2,-999.000,   8.4740,     -999.0,9,     -999.0,9,     -999.0,9,     -999.0,9,     -999.0,9,     -999.0,9,     -999.0,9, -999.00,9,-999.0000,9,-999.0000,9,-999.0000,9,-999.0000,9,-999.0000,9,-999.0000,9,-999.0000, -999.00
33RR20050106,       P16S,      29,          1,         24,         24,2,20050118,       0159,   -30.0000,  -149.9998,       4270,   522.8,   7.9664,  34.4604,2,  34.4617,2,    225.3,2,   228.0,2,    5.39,2,   19.81,2,    0.00,2,    1.40,2,   2.987,2,   1.452,2,   0.148,2,  2135.6,2,  2280.9,2,-999.000,9,-999.0000,9, -999.00,9, -999.00,9,  -999.0,9,  -999.0,-999.000,9,-999.000,  44.0403,2,   522.8,-999.000,   7.9129,     -999.0,9,     -999.0,9,     -999.0,9,     -999.0,9,     -999.0,9,     -999.0,9,     -999.0,9, -999.00,9,-999.0000,9,-999.0000,9,-999.0000,9,-999.0000,9,-999.0000,9,-999.0000,9,-999.0000, -999.00
33RR20050106,       P16S,      29,          1,         23,         23,2,20050118,       0159,   -30.0000,  -149.9998,       4270,   644.0,   6.8557,  34.3774,2,  34.3782,2,    239.3,2,   240.3,2,    7.19,2,   22.16,2,    0.00,2,    1.54,2,   2.798,2,   1.363,2,   0.143,2,  2138.9,2,  2280.8,2,-999.000,9,-999.0000,9, -999.00,9, -999.00,9,  -999.0,9,  -999.0,-999.000,9,-999.000,  44.6762,2,   644.0,-999.000,   6.7947,     -999.0,9,     -999.0,9,     -999.0,9,     -999.0,9,     -999.0,9,     -999.0,9,     -999.0,9, -999.00,9,-999.0000,9,-999.0000,9,-999.0000,9,-999.0000,9,-999.0000,9,-999.0000,9,-999.0000, -999.00
33RR20050106,       P16S,      29,          1,         22,         22,2,20050118,       0159,   -30.0000,  -149.9998,       4270,   744.3,   6.2793,  34.3408,2,  34.3406,2,    238.4,2,   237.1,2,    9.58,2,   24.01,2,    0.00,2,    1.66,2,   1.949,2,   0.932,2,   0.082,2,  2145.2,6,  2280.7,2,-999.000,9,-999.0000,9, -999.00,9, -999.00,9,  -999.0,9,  -999.0,-999.000,9,-999.000,  41.4590,2,   744.3,-999.000,   6.2116,     -999.0,9,     -999.0,9,     -999.0,9,     -999.0,9,     -999.0,9,     -999.0,9,     -999.0,9, -999.00,9,-999.0000,9,-999.0000,9,-999.0000,9,-999.0000,9,-999.0000,9,-999.0000,9,-999.0000, -999.00
33RR20050106,       P16S,      29,          1,         21,         21,2,20050118,       0159,   -30.0000,  -149.9998,       4270,   846.2,   5.7161,  34.3126,2,  34.3118,2,    232.9,2,   230.2,2,   13.17,2,   25.92,2,    0.00,2,    1.80,2,   1.312,2,   0.644,2,   0.060,2,  2154.0,2,  2282.3,2,-999.000,9,-999.0000,9, -999.00,9, -999.00,9,  -999.0,9,  -999.0,-999.000,9,-999.000,  40.9741,2,   846.2,-999.000,   5.6422,     -999.0,9,     -999.0,9,     -999.0,9,     -999.0,9,     -999.0,9,     -999.0,9,     -999.0,9, -999.00,9,-999.0000,9,-999.0000,9,-999.0000,9,-999.0000,9,-999.0000,9,-999.0000,9,-999.0000, -999.00
33RR20050106,       P16S,      29,          1,         20,         20,2,20050118,       0159,   -30.0000,  -149.9998,       4270,   942.3,   5.1412,  34.3082,2,  34.3077,2,    218.3,2,   216.6,2,   19.78,2,   28.28,2,    0.00,2,    1.95,2,   0.747,2,   0.383,2,   0.001,2,  2170.2,2,  2286.5,2,-999.000,9,-999.0000,9, -999.00,9, -999.00,9,  -999.0,9,  -999.0,-999.000,9,-999.000,  40.1349,2,   942.3,-999.000,   5.0624,     -999.0,9,     -999.0,9,     -999.0,9,     -999.0,9,     -999.0,9,     -999.0,9,     -999.0,9, -999.00,9,-999.0000,9,-999.0000,9,-999.0000,9,-999.0000,9,-999.0000,9,-999.0000,9,-999.0000, -999.00
33RR20050106,       P16S,      29,          1,         19,         19,2,20050118,       0159,   -30.0000,  -149.9998,       4270,  1048.5,   4.5213,  34.3256,2,  34.3246,2,    202.4,2,   201.3,2,   29.02,2,   30.65,2,    0.00,2,    2.13,2,   0.434,2,   0.214,2,   0.017,2,  2188.8,2,  2295.2,2,-999.000,9,-999.0000,9, -999.00,9, -999.00,9,  -999.0,9,  -999.0,-999.000,9,-999.000,  38.8283,2,  1048.5,-999.000,   4.4377,     -999.0,9,     -999.0,9,     -999.0,9,     -999.0,9,     -999.0,9,     -999.0,9,     -999.0,9, -999.00,9,-999.0000,9,-999.0000,9,-999.0000,9,-999.0000,9,-999.0000,9,-999.0000,9,-999.0000, -999.00
33RR20050106,       P16S,      29,          1,         18,         18,2,20050118,       0159,   -30.0000,  -149.9998,       4270,  1150.0,   4.0723,  34.3605,2,  34.3593,2,    188.8,2,   189.5,2,   38.90,2,   32.09,2,    0.00,2,    2.25,2,-999.000,9,-999.000,9,-999.000,9,  2206.1,2,  2305.9,6,-999.000,9,-999.0000,9, -999.00,9, -999.00,9,  -999.0,9,  -999.0,-999.000,9,-999.000,-999.0000,9,  1150.0,-999.000,   3.9836,     -999.0,9,     -999.0,9,     -999.0,9,     -999.0,9,     -999.0,9,     -999.0,9,     -999.0,9, -999.00,9,-999.0000,9,-999.0000,9,-999.0000,9,-999.0000,9,-999.0000,9,-999.0000,9,-999.0000, -999.00
33RR20050106,       P16S,      29,          1,         17,         17,2,20050118,       0159,   -30.0000,  -149.9998,       4270,  1249.3,   3.5791,  34.4080,2,  34.4073,2,    179.0,2,   179.2,2,   50.83,2,   33.41,2,    0.00,2,    2.34,2,   0.135,2,   0.076,2,   0.013,2,  2224.3,2,  2315.6,2,-999.000,9,-999.0000,9, -999.00,9, -999.00,9,  -999.0,9,  -999.0,-999.000,9,-999.000,  39.2464,2,  1249.3,-999.000,   3.4865,     -999.0,9,     -999.0,9,     -999.0,9,     -999.0,9,     -999.0,9,     -999.0,9,     -999.0,9, -999.00,9,-999.0000,9,-999.0000,9,-999.0000,9,-999.0000,9,-999.0000,9,-999.0000,9,-999.0000, -999.00
33RR20050106,       P16S,      29,          1,         16,         16,2,20050118,       0159,   -30.0000,  -149.9998,       4270,  1351.8,   3.2061,  34.4561,2,  34.4571,2,    171.5,2,   171.7,2,   62.00,2,   34.13,2,    0.00,2,    2.40,2,-999.000,9,-999.000,9,-999.000,9,  2239.3,2,  2328.7,2,-999.000,9,-999.0000,9, -999.00,9, -999.00,9,  -999.0,9,  -999.0,-999.000,9,-999.000,-999.0000,9,  1351.8,-999.000,   3.1086,     -999.0,9,     -999.0,9,     -999.0,9,     -999.0,9,     -999.0,9,     -999.0,9,     -999.0,9, -999.00,9,-999.0000,9,-999.0000,9,-999.0000,9,-999.0000,9,-999.0000,9,-999.0000,9,-999.0000, -999.00
33RR20050106,       P16S,      29,          1,         15,         15,2,20050118,       0159,   -30.0000,  -149.9998,       4270,  1454.5,   2.9051,  34.5074,2,  34.5073,2,    165.2,2,   165.4,2,   73.39,2,   34.68,2,    0.00,2,    2.43,2,   0.011,2,   0.005,2,   0.001,2,  2255.4,2,  2339.5,2,-999.000,9,-999.0000,9, -999.00,9, -999.00,9,  -999.0,9,  -999.0,-999.000,9,-999.000,  38.2273,2,  1454.5,-999.000,   2.8023,     -999.0,9,     -999.0,9,     -999.0,9,     -999.0,9,     -999.0,9,     -999.0,9,     -999.0,9, -999.00,9,-999.0000,9,-999.0000,9,-999.0000,9,-999.0000,9,-999.0000,9,-999.0000,9,-999.0000, -999.00
33RR20050106,       P16S,      29,          1,         14,         14,2,20050118,       0159,   -30.0000,  -149.9998,       4270,  1556.2,   2.6869,  34.5483,2,  34.5479,2,    160.9,2,   161.0,2,   83.40,2,   34.79,2,    0.00,2,    2.46,2,-999.000,9,-999.000,9,-999.000,9,  2267.2,2,  2352.1,2,-999.000,9,-999.0000,9, -999.00,9, -999.00,9,  -999.0,9,  -999.0,-999.000,9,-999.000,-999.0000,9,  1556.2,-999.000,   2.5781,     -999.0,9,     -999.0,9,     -999.0,9,     -999.0,9,     -999.0,9,     -999.0,9,     -999.0,9, -999.00,9,-999.0000,9,-999.0000,9,-999.0000,9,-999.0000,9,-999.0000,9,-999.0000,9,-999.0000, -999.00
33RR20050106,       P16S,      29,          1,         13,         13,2,20050118,       0159,   -30.0000,  -149.9998,       4270,  1658.7,   2.5193,  34.5796,2,  34.5787,2,    157.4,2,   157.5,2,   91.98,2,   35.07,2,    0.00,2,    2.48,2,   0.055,3,   0.030,3,   0.001,2,  2277.0,2,  2361.7,2,-999.000,9,-999.0000,9, -999.00,9, -999.00,9,  -999.0,9,  -999.0,-999.000,9,-999.000,  35.2279,2,  1658.7,-999.000,   2.4041,     -999.0,9,     -999.0,9,     -999.0,9,     -999.0,9,     -999.0,9,     -999.0,9,     -999.0,9, -999.00,9,-999.0000,9,-999.0000,9,-999.0000,9,-999.0000,9,-999.0000,9,-999.0000,9,-999.0000, -999.00
33RR20050106,       P16S,      29,          1,         12,         12,2,20050118,       0159,   -30.0000,  -149.9998,       4270,  1756.0,   2.4004,  34.5999,2,  34.6003,2,    154.7,2,   155.1,2,   98.53,2,   35.17,2,    0.00,2,    2.49,2,-999.000,9,-999.000,9,-999.000,9,  2284.7,2,  2370.8,2,-999.000,9,-999.0000,9, -999.00,9, -999.00,9,  -999.0,9,  -999.0,-999.000,9,-999.000,-999.0000,9,  1756.0,-999.000,   2.2787,     -999.0,9,     -999.0,9,     -999.0,9,     -999.0,9,     -999.0,9,     -999.0,9,     -999.0,9, -999.00,9,-999.0000,9,-999.0000,9,-999.0000,9,-999.0000,9,-999.0000,9,-999.0000,9,-999.0000, -999.00
33RR20050106,       P16S,      29,          1,         11,         11,2,20050118,       0159,   -30.0000,  -149.9998,       4270,  1960.4,   2.2023,  34.6287,2,  34.6286,2,    151.2,2,   151.5,2,  109.40,2,   35.50,2,    0.00,2,    2.51,2,   0.011,2,  -0.001,2,   0.001,2,  2296.7,2,  2383.0,2,-999.000,9,-999.0000,9, -999.00,9, -999.00,9,  -999.0,9,  -999.0,-999.000,9,-999.000,  35.3128,2,  1960.4,-999.000,   2.0661,     -999.0,9,     -999.0,9,     -999.0,9,     -999.0,9,     -999.0,9,     -999.0,9,     -999.0,9, -999.00,9,-999.0000,9,-999.0000,9,-999.0000,9,-999.0000,9,-999.0000,9,-999.0000,9,-999.0000, -999.00
33RR20050106,       P16S,      29,          1,         10,         10,2,20050118,       0159,   -30.0000,  -149.9998,       4270,  2119.9,   2.0676,  34.6431,2,  34.6424,2,    149.4,2,   149.4,2,  116.59,2,   35.67,2,    0.00,2,    2.54,2,-999.000,9,-999.000,9,-999.000,9,  2304.8,2,  2392.0,2,-999.000,9,-999.0000,9, -999.00,9, -999.00,9,  -999.0,9,  -999.0,-999.000,9,-999.000,-999.0000,9,  2119.9,-999.000,   1.9199,     -999.0,9,     -999.0,9,     -999.0,9,     -999.0,9,     -999.0,9,     -999.0,9,     -999.0,9, -999.00,9,-999.0000,9,-999.0000,9,-999.0000,9,-999.0000,9,-999.0000,9,-999.0000,9,-999.0000, -999.00
33RR20050106,       P16S,      29,          1,          9,          9,2,20050118,       0159,   -30.0000,  -149.9998,       4270,  2376.2,   1.9148,  34.6566,2,  34.6563,2,    148.4,2,   148.7,2,  124.21,2,   35.83,2,    0.00,2,    2.55,2,   0.012,2,  -0.001,2,   0.001,2,  2311.2,2,  2399.7,2,-999.000,9,-999.0000,9, -999.00,9, -999.00,9,  -999.0,9,  -999.0,-999.000,9,-999.000,  35.1697,2,  2376.2,-999.000,   1.7472,     -999.0,9,     -999.0,9,     -999.0,9,     -999.0,9,     -999.0,9,     -999.0,9,     -999.0,9, -999.00,9,-999.0000,9,-999.0000,9,-999.0000,9,-999.0000,9,-999.0000,9,-999.0000,9,-999.0000, -999.00
33RR20050106,       P16S,      29,          1,          8,          8,2,20050118,       0159,   -30.0000,  -149.9998,       4270,  2674.3,   1.8063,  34.6660,2,  34.6658,2,    150.6,2,   151.2,2,  127.09,2,   35.56,2,    0.00,2,    2.53,2,-999.000,9,-999.000,9,-999.000,9,  2312.3,2,  2401.2,2,-999.000,9,-999.0000,9, -999.00,9, -999.00,9,  -999.0,9,  -999.0,-999.000,9,-999.000,-999.0000,9,  2674.3,-999.000,   1.6136,     -999.0,9,     -999.0,9,     -999.0,9,     -999.0,9,     -999.0,9,     -999.0,9,     -999.0,9, -999.00,9,-999.0000,9,-999.0000,9,-999.0000,9,-999.0000,9,-999.0000,9,-999.0000,9,-999.0000, -999.00
33RR20050106,       P16S,      29,          1,          7,          7,2,20050118,       0159,   -30.0000,  -149.9998,       4270,  2930.6,   1.7040,  34.6749,2,  34.6742,2,    155.3,2,   156.3,2,  127.72,2,   35.34,2,    0.00,2,    2.50,2,   0.010,2,   0.010,2,   0.001,2,  2308.3,2,  2400.4,2,-999.000,9,-999.0000,9, -999.00,9, -999.00,9,  -999.0,9,  -999.0,-999.000,9,-999.000,-999.0000,9,  2930.6,-999.000,   1.4893,     -999.0,9,     -999.0,9,     -999.0,9,     -999.0,9,     -999.0,9,     -999.0,9,     -999.0,9, -999.00,9,-999.0000,9,-999.0000,9,-999.0000,9,-999.0000,9,-999.0000,9,-999.0000,9,-999.0000, -999.00