BOTTLE,20201109CCHSIOCBG
EXPOCODE,SECT_ID,STNNBR,CASTNO,SAMPNO,BTLNBR,BTLNBR_FLAG_W,DATE,TIME,LATITUDE,LONGITUDE,DEPTH,CTDPRS,CTDTMP,CTDSAL,CTDSAL_FLAG_W,SALNTY,SALNTY_FLAG_W,CTDOXY,CTDOXY_FLAG_W,OXYGEN,OXYGEN_FLAG_W,SILCAT,SILCAT_FLAG_W,NITRAT,NITRAT_FLAG_W,NITRIT,NITRIT_FLAG_W,PHSPHT,PHSPHT_FLAG_W,CFC-11,CFC-11_FLAG_W,CFC-12,CFC-12_FLAG_W,CFC113,CFC113_FLAG_W,TCARBN,TCARBN_FLAG_W,ALKALI,ALKALI_FLAG_W,TRITUM,TRITUM_FLAG_W,HELIUM,HELIUM_FLAG_W,DELHE3,DELHE3_FLAG_W,DELC13,DELC13_FLAG_W,DELC14,DELC14_FLAG_W,C14ERR,NEON,NEON_FLAG_W,NEONER,DOC,DOC_FLAG_W,CTDRAW,TRITER,THETA,FUCO,FUCO_FLAG_W,RHAM,RHAM_FLAG_W,ARABA,ARABA_FLAG_W,GALA,GALA_FLAG_W,GLUC,GLUC_FLAG_W,MAN,MAN_FLAG_W,DCNS,DCNS_FLAG_W,BRDU,BRDU_FLAG_W,CDOM325,CDOM325_FLAG_W,CDOM340,CDOM340_FLAG_W,CDOM380,CDOM380_FLAG_W,CDOM412,CDOM412_FLAG_W,CDOMSL,CDOMSL_FLAG_W,CDOMSN,CDOMSN_FLAG_W,HELIER,DELHER
,,,,,,,,,,,METERS,DBAR,ITS-90,PSS-78,,PSS-78,,UMOL/KG,,UMOL/KG,,UMOL/KG,,UMOL/KG,,UMOL/KG,,UMOL/KG,,PMOL/KG,,PMOL/KG,,PMOL/KG,,UMOL/KG,,UMOL/KG,,TU,,NMOL/KG,,PERCNT,,/MILLE,,/MILLE,,/MILLE,NMOL/KG,,NMOL/KG,UMOL/KG,,DBAR,TU,DEG C,NMOL/KG,,NMOL/KG,,NMOL/KG,,NMOL/KG,,NMOL/KG,,NMOL/KG,,NMOL/KG,,PMOL/L/H,,1/M,,1/M,,1/M,,1/M,,1/NM,,1/NM,,NMOL/KG,PERCNT
33RR20050106,       P16S,      77,          2,          6,          6,2,20050201,       2056,   -54.0018,  -150.0002,       3667,  2636.2,   1.3547,  34.7304,2,  34.7304,2,    199.1,2,   200.0,2,  106.23,2,   31.36,2,    0.00,2,    2.16,2,   0.066,2,   0.031,2,   0.011,2,  2259.2,2,  2357.8,2,-999.000,9,-999.0000,9, -999.00,9, -999.00,5,  -155.9,2,     2.7,-999.000,9,-999.000,  40.0258,2,  2636.2,-999.000,   1.1741,     -999.0,9,     -999.0,9,     -999.0,9,     -999.0,9,     -999.0,9,     -999.0,9,     -999.0,9, -999.00,9,   0.1160,2,   0.0790,2,   0.0420,2,   0.0320,2,   0.0146,2,   0.0173,3,-999.0000, -999.00
33RR20050106,       P16S,      77,          2,          5,          5,2,20050201,       2056,   -54.0018,  -150.0002,       3667,  2891.2,   1.1561,  34.7225,2,  34.7218,2,    201.8,2,   202.7,2,  111.52,2,   31.67,2,    0.00,2,    2.18,2,   0.089,2,   0.037,2,   0.008,2,  2261.6,2,  2360.3,2,-999.000,9,-999.0000,9, -999.00,9, -999.00,5,  -161.5,2,     2.9,-999.000,9,-999.000,-999.0000,9,  2891.2,-999.000,   0.9567,     -999.0,9,     -999.0,9,     -999.0,9,     -999.0,9,     -999.0,9,     -999.0,9,     -999.0,9, -999.00,9,-999.0000,9,-999.0000,9,-999.0000,9,-999.0000,9,-999.0000,9,-999.0000,9,-999.0000, -999.00
33RR20050106,       P16S,      77,          2,          4,          4,2,20050201,       2056,   -54.0018,  -150.0002,       3667,  3093.9,   1.0124,  34.7163,2,  34.7151,2,    203.5,2,   204.3,2,  118.04,2,   31.89,2,    0.00,2,    2.19,2,-999.000,9,-999.000,9,-999.000,9,  2263.1,2,  2362.3,2,-999.000,9,-999.0000,9, -999.00,9, -999.00,5,  -158.3,2,     2.4,-999.000,9,-999.000,  39.6783,2,  3093.9,-999.000,   0.7974,     -999.0,9,     -999.0,9,     -999.0,9,     -999.0,9,     -999.0,9,     -999.0,9,     -999.0,9, -999.00,9,   0.1170,2,   0.0790,2,   0.0420,2,   0.0320,2,   0.0145,3,   0.0173,3,-999.0000, -999.00
33RR20050106,       P16S,      77,          2,          3,          3,2,20050201,       2056,   -54.0018,  -150.0002,       3667,  3297.9,   1.0060,  34.7152,2,  34.7161,2,    203.6,2,   204.5,2,  119.46,2,   31.94,2,    0.00,2,    2.20,2,   0.073,2,   0.033,2,   0.009,2,  2264.2,2,  2363.3,2,-999.000,9,-999.0000,9, -999.00,9, -999.00,5,  -159.1,2,     2.7,-999.000,9,-999.000,-999.0000,9,  3297.9,-999.000,   0.7718,     -999.0,9,     -999.0,9,     -999.0,9,     -999.0,9,     -999.0,9,     -999.0,9,     -999.0,9, -999.00,9,-999.0000,9,-999.0000,9,-999.0000,9,-999.0000,9,-999.0000,9,-999.0000,9,-999.0000, -999.00
33RR20050106,       P16S,      77,          2,          2,          2,2,20050201,       2056,   -54.0018,  -150.0002,       3667,  3502.5,   1.0127,  34.7146,2,  34.7146,2,    204.1,2,   204.6,2,  120.08,2,   31.94,2,    0.00,2,    2.20,2,   0.089,2,   0.041,2,   0.011,2,  2264.8,2,  2362.7,2,-999.000,9,-999.0000,9, -999.00,9, -999.00,9,  -999.0,9,  -999.0,-999.000,9,-999.000,-999.0000,9,  3502.5,-999.000,   0.7584,     -999.0,9,     -999.0,9,     -999.0,9,     -999.0,9,     -999.0,9,     -999.0,9,     -999.0,9, -999.00,9,-999.0000,9,-999.0000,9,-999.0000,9,-999.0000,9,-999.0000,9,-999.0000,9,-999.0000, -999.00
33RR20050106,       P16S,      77,          2,          1,          1,2,20050201,       2056,   -54.0018,  -150.0002,       3667,  3683.8,   1.0255,  34.7144,2,  34.7144,2,    204.5,2,   205.2,2,  120.08,2,   31.99,2,    0.00,2,    2.20,2,   0.070,2,   0.042,2,   0.007,2,  2264.1,6,  2363.5,6,-999.000,9,-999.0000,9, -999.00,9, -999.00,5,  -159.2,2,     2.6,-999.000,9,-999.000,  39.4944,2,  3683.8,-999.000,   0.7526,     -999.0,9,     -999.0,9,     -999.0,9,     -999.0,9,     -999.0,9,     -999.0,9,     -999.0,9, -999.00,9,   0.1160,2,   0.0780,2,   0.0420,2,   0.0320,2,   0.0147,2,   0.0175,3,-999.0000, -999.00