BOTTLE,20201109CCHSIOCBG
EXPOCODE,SECT_ID,STNNBR,CASTNO,SAMPNO,BTLNBR,BTLNBR_FLAG_W,DATE,TIME,LATITUDE,LONGITUDE,DEPTH,CTDPRS,CTDTMP,CTDSAL,CTDSAL_FLAG_W,SALNTY,SALNTY_FLAG_W,CTDOXY,CTDOXY_FLAG_W,OXYGEN,OXYGEN_FLAG_W,SILCAT,SILCAT_FLAG_W,NITRAT,NITRAT_FLAG_W,NITRIT,NITRIT_FLAG_W,PHSPHT,PHSPHT_FLAG_W,CFC-11,CFC-11_FLAG_W,CFC-12,CFC-12_FLAG_W,CFC113,CFC113_FLAG_W,TCARBN,TCARBN_FLAG_W,ALKALI,ALKALI_FLAG_W,TRITUM,TRITUM_FLAG_W,HELIUM,HELIUM_FLAG_W,DELHE3,DELHE3_FLAG_W,DELC13,DELC13_FLAG_W,DELC14,DELC14_FLAG_W,C14ERR,NEON,NEON_FLAG_W,NEONER,DOC,DOC_FLAG_W,CTDRAW,TRITER,THETA,FUCO,FUCO_FLAG_W,RHAM,RHAM_FLAG_W,ARABA,ARABA_FLAG_W,GALA,GALA_FLAG_W,GLUC,GLUC_FLAG_W,MAN,MAN_FLAG_W,DCNS,DCNS_FLAG_W,BRDU,BRDU_FLAG_W,CDOM325,CDOM325_FLAG_W,CDOM340,CDOM340_FLAG_W,CDOM380,CDOM380_FLAG_W,CDOM412,CDOM412_FLAG_W,CDOMSL,CDOMSL_FLAG_W,CDOMSN,CDOMSN_FLAG_W,HELIER,DELHER
,,,,,,,,,,,METERS,DBAR,ITS-90,PSS-78,,PSS-78,,UMOL/KG,,UMOL/KG,,UMOL/KG,,UMOL/KG,,UMOL/KG,,UMOL/KG,,PMOL/KG,,PMOL/KG,,PMOL/KG,,UMOL/KG,,UMOL/KG,,TU,,NMOL/KG,,PERCNT,,/MILLE,,/MILLE,,/MILLE,NMOL/KG,,NMOL/KG,UMOL/KG,,DBAR,TU,DEG C,NMOL/KG,,NMOL/KG,,NMOL/KG,,NMOL/KG,,NMOL/KG,,NMOL/KG,,NMOL/KG,,PMOL/L/H,,1/M,,1/M,,1/M,,1/M,,1/NM,,1/NM,,NMOL/KG,PERCNT
33RR20050106,       P16S,      34,          1,         36,         36,2,20050119,       1233,   -32.4985,  -149.9997,       5095,    57.5,  18.2683,  35.4721,2,  35.4734,2,    244.7,2,   244.7,2, -999.00,5, -999.00,5, -999.00,5, -999.00,5,   2.660,6,   1.591,6,   0.243,6,  2039.8,2,  2324.2,6,-999.000,9,-999.0000,9, -999.00,9, -999.00,9,  -999.0,9,  -999.0,-999.000,9,-999.000,-999.0000,9,    57.5,-999.000,  18.2583,     -999.0,9,     -999.0,9,     -999.0,9,     -999.0,9,     -999.0,9,     -999.0,9,     -999.0,9, -999.00,9,-999.0000,9,-999.0000,9,-999.0000,9,-999.0000,9,-999.0000,9,-999.0000,9,-999.0000, -999.00
33RR20050106,       P16S,      34,          1,         35,         35,2,20050119,       1233,   -32.4985,  -149.9997,       5095,   107.5,  16.9607,  35.4411,2,  35.4419,2,    239.2,2,   236.4,2,    0.57,2,    0.12,2,    0.00,2,    0.12,2,   2.690,2,   1.624,2,   0.212,2,  2051.6,2,  2321.8,2,-999.000,9,-999.0000,9, -999.00,9, -999.00,9,  -999.0,9,  -999.0,-999.000,9,-999.000,-999.0000,9,   107.5,-999.000,  16.9430,     -999.0,9,     -999.0,9,     -999.0,9,     -999.0,9,     -999.0,9,     -999.0,9,     -999.0,9, -999.00,9,-999.0000,9,-999.0000,9,-999.0000,9,-999.0000,9,-999.0000,9,-999.0000,9,-999.0000, -999.00
33RR20050106,       P16S,      34,          1,         34,         34,2,20050119,       1233,   -32.4985,  -149.9997,       5095,   157.4,  15.8536,  35.3351,2,  35.3385,2,    222.0,2,   219.4,2,    0.76,2,    2.29,2,    0.22,2,    0.28,2,   2.782,2,   1.644,2,   0.191,2,  2071.1,2,  2315.6,2,-999.000,9,-999.0000,9, -999.00,9, -999.00,9,  -999.0,9,  -999.0,-999.000,9,-999.000,-999.0000,9,   157.4,-999.000,  15.8288,     -999.0,9,     -999.0,9,     -999.0,9,     -999.0,9,     -999.0,9,     -999.0,9,     -999.0,9, -999.00,9,-999.0000,9,-999.0000,9,-999.0000,9,-999.0000,9,-999.0000,9,-999.0000,9,-999.0000, -999.00
33RR20050106,       P16S,      34,          1,         33,         33,2,20050119,       1233,   -32.4985,  -149.9997,       5095,   207.5,  14.4618,  35.1878,2,  35.1922,2,    203.7,2,   202.3,2,    1.55,2,    6.62,2,    0.01,2,    0.56,2,   2.856,2,   1.624,2,   0.076,2,  2094.1,2,  2309.6,2,-999.000,9,-999.0000,9, -999.00,9, -999.00,9,  -999.0,9,  -999.0,-999.000,9,-999.000,-999.0000,9,   207.5,-999.000,  14.4311,     -999.0,9,     -999.0,9,     -999.0,9,     -999.0,9,     -999.0,9,     -999.0,9,     -999.0,9, -999.00,9,-999.0000,9,-999.0000,9,-999.0000,9,-999.0000,9,-999.0000,9,-999.0000,9,-999.0000, -999.00
33RR20050106,       P16S,      34,          1,         31,         31,2,20050119,       1233,   -32.4985,  -149.9997,       5095,   257.6,  13.2255,  35.0596,2,-999.0000,9,    202.3,2,   202.0,2,    2.14,2,    9.41,2,    0.00,2,    0.73,2,   2.914,2,   1.600,2,   0.092,2,  -999.0,9,  -999.0,9,-999.000,9,-999.0000,9, -999.00,9, -999.00,9,  -999.0,9,  -999.0,-999.000,9,-999.000,-999.0000,9,   257.6,-999.000,  13.1896,     -999.0,9,     -999.0,9,     -999.0,9,     -999.0,9,     -999.0,9,     -999.0,9,     -999.0,9, -999.00,9,-999.0000,9,-999.0000,9,-999.0000,9,-999.0000,9,-999.0000,9,-999.0000,9,-999.0000, -999.00
33RR20050106,       P16S,      34,          1,         32,         32,2,20050119,       1233,   -32.4985,  -149.9997,       5095,   257.7,  13.2333,  35.0610,2,-999.0000,9,    202.3,2,   201.8,2,    2.15,2,    9.30,2,    0.00,2,    0.72,2,-999.000,5,-999.000,5,-999.000,5,  2106.0,2,  2302.8,2,-999.000,9,-999.0000,9, -999.00,9, -999.00,9,  -999.0,9,  -999.0,-999.000,9,-999.000,-999.0000,9,   257.7,-999.000,  13.1973,     -999.0,9,     -999.0,9,     -999.0,9,     -999.0,9,     -999.0,9,     -999.0,9,     -999.0,9, -999.00,9,-999.0000,9,-999.0000,9,-999.0000,9,-999.0000,9,-999.0000,9,-999.0000,9,-999.0000, -999.00
33RR20050106,       P16S,      34,          1,         30,         30,2,20050119,       1233,   -32.4985,  -149.9997,       5095,   308.1,  11.6719,  34.8765,2,-999.0000,9,    205.9,2,   206.7,2,    2.74,2,   12.14,2,    0.00,2,    0.90,2,   3.014,2,   1.657,2,   0.118,2,  2115.0,2,  2295.3,2,-999.000,9,-999.0000,9, -999.00,9, -999.00,9,  -999.0,9,  -999.0,-999.000,9,-999.000,-999.0000,9,   308.1,-999.000,  11.6323,     -999.0,9,     -999.0,9,     -999.0,9,     -999.0,9,     -999.0,9,     -999.0,9,     -999.0,9, -999.00,9,-999.0000,9,-999.0000,9,-999.0000,9,-999.0000,9,-999.0000,9,-999.0000,9,-999.0000, -999.00
33RR20050106,       P16S,      34,          1,         29,         29,2,20050119,       1233,   -32.4985,  -149.9997,       5095,   358.6,  10.1799,  34.6887,2,-999.0000,9,    213.8,2,   214.8,2,    3.33,2,   14.99,2,    0.00,2,    1.09,2,   3.219,2,   1.711,2,   0.159,2,  -999.0,9,  -999.0,9,-999.000,9,-999.0000,9, -999.00,9, -999.00,9,  -999.0,9,  -999.0,-999.000,9,-999.000,-999.0000,9,   358.6,-999.000,  10.1376,     -999.0,9,     -999.0,9,     -999.0,9,     -999.0,9,     -999.0,9,     -999.0,9,     -999.0,9, -999.00,9,-999.0000,9,-999.0000,9,-999.0000,9,-999.0000,9,-999.0000,9,-999.0000,9,-999.0000, -999.00
33RR20050106,       P16S,      34,          1,         28,         28,2,20050119,       1233,   -32.4985,  -149.9997,       5095,   408.9,   9.0020,  34.5571,2,-999.0000,9,    219.9,2,   221.2,2,    3.92,2,   17.20,2,    0.00,2,    1.22,2,   3.367,2,   1.680,2,   0.180,2,  2128.3,2,  2282.8,2,-999.000,9,-999.0000,9, -999.00,9, -999.00,9,  -999.0,9,  -999.0,-999.000,9,-999.000,-999.0000,9,   408.9,-999.000,   8.9573,     -999.0,9,     -999.0,9,     -999.0,9,     -999.0,9,     -999.0,9,     -999.0,9,     -999.0,9, -999.00,9,-999.0000,9,-999.0000,9,-999.0000,9,-999.0000,9,-999.0000,9,-999.0000,9,-999.0000, -999.00
33RR20050106,       P16S,      34,          1,         27,         27,2,20050119,       1233,   -32.4985,  -149.9997,       5095,   458.7,   7.9921,  34.4543,2,-999.0000,9,    226.2,2,   227.3,2,    5.11,2,   19.74,2,    0.00,2,    1.39,2,   3.077,2,   1.556,2,   0.172,2,  -999.0,9,  -999.0,9,-999.000,9,-999.0000,9, -999.00,9, -999.00,9,  -999.0,9,  -999.0,-999.000,9,-999.000,-999.0000,9,   458.7,-999.000,   7.9453,     -999.0,9,     -999.0,9,     -999.0,9,     -999.0,9,     -999.0,9,     -999.0,9,     -999.0,9, -999.00,9,-999.0000,9,-999.0000,9,-999.0000,9,-999.0000,9,-999.0000,9,-999.0000,9,-999.0000, -999.00
33RR20050106,       P16S,      34,          1,         26,         26,2,20050119,       1233,   -32.4985,  -149.9997,       5095,   508.8,   7.4358,  34.4121,2,  34.4124,2,    232.4,2,   236.6,2,    5.69,2,   20.77,2,    0.00,2,    1.45,2,   3.272,2,   1.619,2,   0.189,2,  2135.9,2,  2278.8,2,-999.000,9,-999.0000,9, -999.00,9, -999.00,9,  -999.0,9,  -999.0,-999.000,9,-999.000,-999.0000,9,   508.8,-999.000,   7.3859,     -999.0,9,     -999.0,9,     -999.0,9,     -999.0,9,     -999.0,9,     -999.0,9,     -999.0,9, -999.00,9,-999.0000,9,-999.0000,9,-999.0000,9,-999.0000,9,-999.0000,9,-999.0000,9,-999.0000, -999.00
33RR20050106,       P16S,      34,          1,         25,         25,2,20050119,       1233,   -32.4985,  -149.9997,       5095,   609.7,   6.9071,  34.3830,2,  34.3838,2,    240.4,2,   240.9,2,    6.89,2,   22.07,2,    0.00,2,    1.53,2,   2.948,2,   1.476,2,   0.150,2,  2136.7,2,  2281.3,2,-999.000,9,-999.0000,9, -999.00,9, -999.00,9,  -999.0,9,  -999.0,-999.000,9,-999.000,-999.0000,9,   609.7,-999.000,   6.8493,     -999.0,9,     -999.0,9,     -999.0,9,     -999.0,9,     -999.0,9,     -999.0,9,     -999.0,9, -999.00,9,-999.0000,9,-999.0000,9,-999.0000,9,-999.0000,9,-999.0000,9,-999.0000,9,-999.0000, -999.00
33RR20050106,       P16S,      34,          1,         24,         24,2,20050119,       1233,   -32.4985,  -149.9997,       5095,   710.2,   6.4024,  34.3493,2,  34.3503,2,    238.1,2,   239.4,2,    9.07,2,   23.63,2,    0.00,2,    1.63,2,   2.219,2,   1.078,2,   0.087,2,  -999.0,9,  -999.0,9,-999.000,9,-999.0000,9, -999.00,9, -999.00,9,  -999.0,9,  -999.0,-999.000,9,-999.000,-999.0000,9,   710.2,-999.000,   6.3373,     -999.0,9,     -999.0,9,     -999.0,9,     -999.0,9,     -999.0,9,     -999.0,9,     -999.0,9, -999.00,9,-999.0000,9,-999.0000,9,-999.0000,9,-999.0000,9,-999.0000,9,-999.0000,9,-999.0000, -999.00
33RR20050106,       P16S,      34,          1,         23,         23,2,20050119,       1233,   -32.4985,  -149.9997,       5095,   811.1,   5.8629,  34.3236,2,  34.3252,2,    230.3,2,   229.9,2,   12.65,2,   25.59,2,    0.00,2,    1.77,2,   1.449,2,   0.710,2,   0.067,2,  2152.1,2,  2281.3,2,-999.000,9,-999.0000,9, -999.00,9, -999.00,9,  -999.0,9,  -999.0,-999.000,9,-999.000,-999.0000,9,   811.1,-999.000,   5.7913,     -999.0,9,     -999.0,9,     -999.0,9,     -999.0,9,     -999.0,9,     -999.0,9,     -999.0,9, -999.00,9,-999.0000,9,-999.0000,9,-999.0000,9,-999.0000,9,-999.0000,9,-999.0000,9,-999.0000, -999.00
33RR20050106,       P16S,      34,          1,         22,         22,2,20050119,       1233,   -32.4985,  -149.9997,       5095,   911.2,   5.2367,  34.3129,2,  34.3134,2,    220.0,2,   217.4,2,   19.22,2,   28.04,2,    0.00,2,    1.95,2,   0.850,2,   0.434,2,   0.043,2,  -999.0,9,  -999.0,9,-999.000,9,-999.0000,9, -999.00,9, -999.00,9,  -999.0,9,  -999.0,-999.000,9,-999.000,-999.0000,9,   911.2,-999.000,   5.1600,     -999.0,9,     -999.0,9,     -999.0,9,     -999.0,9,     -999.0,9,     -999.0,9,     -999.0,9, -999.00,9,-999.0000,9,-999.0000,9,-999.0000,9,-999.0000,9,-999.0000,9,-999.0000,9,-999.0000, -999.00
33RR20050106,       P16S,      34,          1,         21,         21,2,20050119,       1233,   -32.4985,  -149.9997,       5095,  1012.3,   4.6512,  34.3237,2,  34.3238,2,    207.6,2,   204.7,2,   27.42,2,   30.18,2,    0.00,2,    2.09,2,   0.691,2,   0.343,2,   0.048,2,  -999.0,9,  -999.0,9,-999.000,9,-999.0000,9, -999.00,9, -999.00,9,  -999.0,9,  -999.0,-999.000,9,-999.000,-999.0000,9,  1012.3,-999.000,   4.5698,     -999.0,9,     -999.0,9,     -999.0,9,     -999.0,9,     -999.0,9,     -999.0,9,     -999.0,9, -999.00,9,-999.0000,9,-999.0000,9,-999.0000,9,-999.0000,9,-999.0000,9,-999.0000,9,-999.0000, -999.00
33RR20050106,       P16S,      34,          1,         20,         20,2,20050119,       1233,   -32.4985,  -149.9997,       5095,  1113.7,   4.1761,  34.3441,2,  34.3446,2,    196.0,2,   195.3,2,   35.43,2,   31.65,2,    0.00,2,    2.21,2,   0.390,2,   0.197,2,   0.031,2,  2199.8,6,  2300.4,2,-999.000,9,-999.0000,9, -999.00,9, -999.00,9,  -999.0,9,  -999.0,-999.000,9,-999.000,-999.0000,9,  1113.7,-999.000,   4.0897,     -999.0,9,     -999.0,9,     -999.0,9,     -999.0,9,     -999.0,9,     -999.0,9,     -999.0,9, -999.00,9,-999.0000,9,-999.0000,9,-999.0000,9,-999.0000,9,-999.0000,9,-999.0000,9,-999.0000, -999.00
33RR20050106,       P16S,      34,          1,         19,         19,2,20050119,       1233,   -32.4985,  -149.9997,       5095,  1214.3,   3.5054,  34.3998,2,  34.3971,2,    186.1,2,   182.8,2,   49.30,2,   33.30,2,    0.00,2,    2.33,2,   0.168,2,   0.092,2,   0.031,2,  -999.0,9,  -999.0,9,-999.000,9,-999.0000,9, -999.00,9, -999.00,9,  -999.0,9,  -999.0,-999.000,9,-999.000,-999.0000,9,  1214.3,-999.000,   3.4164,     -999.0,9,     -999.0,9,     -999.0,9,     -999.0,9,     -999.0,9,     -999.0,9,     -999.0,9, -999.00,9,-999.0000,9,-999.0000,9,-999.0000,9,-999.0000,9,-999.0000,9,-999.0000,9,-999.0000, -999.00
33RR20050106,       P16S,      34,          1,         18,         18,2,20050119,       1233,   -32.4985,  -149.9997,       5095,  1315.0,   3.1855,  34.4442,2,  34.4440,2,    177.2,2,   175.3,2,   59.19,2,   34.00,2,    0.00,2,    2.39,2,-999.000,9,-999.000,9,-999.000,9,  -999.0,9,  -999.0,9,-999.000,9,-999.0000,9, -999.00,9, -999.00,9,  -999.0,9,  -999.0,-999.000,9,-999.000,-999.0000,9,  1315.0,-999.000,   3.0912,     -999.0,9,     -999.0,9,     -999.0,9,     -999.0,9,     -999.0,9,     -999.0,9,     -999.0,9, -999.00,9,-999.0000,9,-999.0000,9,-999.0000,9,-999.0000,9,-999.0000,9,-999.0000,9,-999.0000, -999.00
33RR20050106,       P16S,      34,          1,         17,         17,2,20050119,       1233,   -32.4985,  -149.9997,       5095,  1415.2,   2.9575,  34.4860,2,  34.4847,2,    169.7,2,   169.8,2,   67.68,2,   34.39,2,    0.00,2,    2.43,2,   0.061,2,   0.033,2,   0.001,2,  -999.0,9,  -999.0,9,-999.000,9,-999.0000,9, -999.00,9, -999.00,9,  -999.0,9,  -999.0,-999.000,9,-999.000,-999.0000,9,  1415.2,-999.000,   2.8573,     -999.0,9,     -999.0,9,     -999.0,9,     -999.0,9,     -999.0,9,     -999.0,9,     -999.0,9, -999.00,9,-999.0000,9,-999.0000,9,-999.0000,9,-999.0000,9,-999.0000,9,-999.0000,9,-999.0000, -999.00
33RR20050106,       P16S,      34,          1,         16,         16,2,20050119,       1233,   -32.4985,  -149.9997,       5095,  1516.0,   2.7350,  34.5339,2,  34.5343,2,    163.8,2,   164.1,2,   78.41,2,   34.65,2,    0.00,2,    2.45,2,-999.000,9,-999.000,9,-999.000,9,  -999.0,9,  -999.0,9,-999.000,9,-999.0000,9, -999.00,9, -999.00,9,  -999.0,9,  -999.0,-999.000,9,-999.000,-999.0000,9,  1516.0,-999.000,   2.6290,     -999.0,9,     -999.0,9,     -999.0,9,     -999.0,9,     -999.0,9,     -999.0,9,     -999.0,9, -999.00,9,-999.0000,9,-999.0000,9,-999.0000,9,-999.0000,9,-999.0000,9,-999.0000,9,-999.0000, -999.00
33RR20050106,       P16S,      34,          1,         15,         15,2,20050119,       1233,   -32.4985,  -149.9997,       5095,  1618.0,   2.5528,  34.5742,2,  34.5742,2,    159.5,2,   159.3,2,   89.38,2,   34.82,2,    0.00,2,    2.47,2,   0.003,2,   0.008,2,   0.001,2,  -999.0,9,  -999.0,9,-999.000,9,-999.0000,9, -999.00,9, -999.00,9,  -999.0,9,  -999.0,-999.000,9,-999.000,-999.0000,9,  1618.0,-999.000,   2.4405,     -999.0,9,     -999.0,9,     -999.0,9,     -999.0,9,     -999.0,9,     -999.0,9,     -999.0,9, -999.00,9,-999.0000,9,-999.0000,9,-999.0000,9,-999.0000,9,-999.0000,9,-999.0000,9,-999.0000, -999.00
33RR20050106,       P16S,      34,          1,         14,         14,2,20050119,       1233,   -32.4985,  -149.9997,       5095,  1820.4,   2.3484,  34.6120,2,  34.6116,2,    153.9,2,   154.2,2,  101.99,2,   35.15,2,    0.00,2,    2.49,2,-999.000,9,-999.000,9,-999.000,9,  -999.0,9,  -999.0,9,-999.000,9,-999.0000,9, -999.00,9, -999.00,9,  -999.0,9,  -999.0,-999.000,9,-999.000,-999.0000,9,  1820.4,-999.000,   2.2220,     -999.0,9,     -999.0,9,     -999.0,9,     -999.0,9,     -999.0,9,     -999.0,9,     -999.0,9, -999.00,9,-999.0000,9,-999.0000,9,-999.0000,9,-999.0000,9,-999.0000,9,-999.0000,9,-999.0000, -999.00
33RR20050106,       P16S,      34,          1,         13,         13,2,20050119,       1233,   -32.4985,  -149.9997,       5095,  2023.3,   2.1749,  34.6348,2,  34.6350,2,    150.7,2,   151.3,2,  111.57,2,   35.37,2,    0.00,2,    2.51,2,   0.003,2,   0.010,2,   0.001,2,  -999.0,9,  -999.0,9,-999.000,9,-999.0000,9, -999.00,9, -999.00,9,  -999.0,9,  -999.0,-999.000,9,-999.000,-999.0000,9,  2023.3,-999.000,   2.0338,     -999.0,9,     -999.0,9,     -999.0,9,     -999.0,9,     -999.0,9,     -999.0,9,     -999.0,9, -999.00,9,-999.0000,9,-999.0000,9,-999.0000,9,-999.0000,9,-999.0000,9,-999.0000,9,-999.0000, -999.00
33RR20050106,       P16S,      34,          1,         12,         12,2,20050119,       1233,   -32.4985,  -149.9997,       5095,  2277.1,   2.0111,  34.6493,2,  34.6497,2,    149.1,2,   149.9,2,  119.94,2,   35.58,2,    0.00,2,    2.53,2,-999.000,9,-999.000,9,-999.000,9,  -999.0,9,  -999.0,9,-999.000,9,-999.0000,9, -999.00,9, -999.00,9,  -999.0,9,  -999.0,-999.000,9,-999.000,-999.0000,9,  2277.1,-999.000,   1.8506,     -999.0,9,     -999.0,9,     -999.0,9,     -999.0,9,     -999.0,9,     -999.0,9,     -999.0,9, -999.00,9,-999.0000,9,-999.0000,9,-999.0000,9,-999.0000,9,-999.0000,9,-999.0000,9,-999.0000, -999.00
33RR20050106,       P16S,      34,          1,         11,         11,2,20050119,       1233,   -32.4985,  -149.9997,       5095,  2530.2,   1.8787,  34.6606,2,  34.6593,2,    148.6,2,   149.1,2,  126.68,2,   35.75,2,    0.00,2,    2.55,2,  -0.002,2,  -0.001,2,   0.001,2,  -999.0,9,  -999.0,9,-999.000,9,-999.0000,9, -999.00,9, -999.00,9,  -999.0,9,  -999.0,-999.000,9,-999.000,-999.0000,9,  2530.2,-999.000,   1.6979,     -999.0,9,     -999.0,9,     -999.0,9,     -999.0,9,     -999.0,9,     -999.0,9,     -999.0,9, -999.00,9,-999.0000,9,-999.0000,9,-999.0000,9,-999.0000,9,-999.0000,9,-999.0000,9,-999.0000, -999.00
33RR20050106,       P16S,      34,          1,         10,         10,2,20050119,       1233,   -32.4985,  -149.9997,       5095,  2784.2,   1.7900,  34.6687,2,  34.6689,2,    150.6,2,   151.2,2,  129.13,2,   35.57,2,    0.00,2,    2.53,2,-999.000,9,-999.000,9,-999.000,9,  -999.0,9,  -999.0,9,-999.000,9,-999.0000,9, -999.00,9, -999.00,9,  -999.0,9,  -999.0,-999.000,9,-999.000,-999.0000,9,  2784.2,-999.000,   1.5874,     -999.0,9,     -999.0,9,     -999.0,9,     -999.0,9,     -999.0,9,     -999.0,9,     -999.0,9, -999.00,9,-999.0000,9,-999.0000,9,-999.0000,9,-999.0000,9,-999.0000,9,-999.0000,9,-999.0000, -999.00
33RR20050106,       P16S,      34,          1,          9,          9,2,20050119,       1233,   -32.4985,  -149.9997,       5095,  3038.8,   1.7094,  34.6768,2,  34.6764,2,    155.4,2,   156.2,2,  129.31,2,   35.24,2,    0.00,2,    2.50,2,  -0.003,2,  -0.001,2,   0.001,2,  -999.0,9,  -999.0,9,-999.000,9,-999.0000,9, -999.00,9, -999.00,9,  -999.0,9,  -999.0,-999.000,9,-999.000,-999.0000,9,  3038.8,-999.000,   1.4842,     -999.0,9,     -999.0,9,     -999.0,9,     -999.0,9,     -999.0,9,     -999.0,9,     -999.0,9, -999.00,9,-999.0000,9,-999.0000,9,-999.0000,9,-999.0000,9,-999.0000,9,-999.0000,9,-999.0000, -999.00
33RR20050106,       P16S,      34,          1,          8,          8,2,20050119,       1233,   -32.4985,  -149.9997,       5095,  3294.1,   1.6271,  34.6851,2,  34.6846,2,    163.0,2,   163.8,2,  127.05,2,   34.69,2,    0.00,2,    2.45,2,-999.000,9,-999.000,9,-999.000,9,  -999.0,9,  -999.0,9,-999.000,9,-999.0000,9, -999.00,9, -999.00,9,  -999.0,9,  -999.0,-999.000,9,-999.000,-999.0000,9,  3294.1,-999.000,   1.3786,     -999.0,9,     -999.0,9,     -999.0,9,     -999.0,9,     -999.0,9,     -999.0,9,     -999.0,9, -999.00,9,-999.0000,9,-999.0000,9,-999.0000,9,-999.0000,9,-999.0000,9,-999.0000,9,-999.0000, -999.00
33RR20050106,       P16S,      34,          1,          7,          7,2,20050119,       1233,   -32.4985,  -149.9997,       5095,  3599.5,   1.5053,  34.6948,2,  34.6948,2,    174.5,2,   175.4,2,  123.56,2,   33.86,2,    0.00,2,    2.39,2,  -0.003,2,  -0.001,2,   0.001,2,  -999.0,9,  -999.0,9,-999.000,9,-999.0000,9, -999.00,9, -999.00,9,  -999.0,9,  -999.0,-999.000,9,-999.000,-999.0000,9,  3599.5,-999.000,   1.2287,     -999.0,9,     -999.0,9,     -999.0,9,     -999.0,9,     -999.0,9,     -999.0,9,     -999.0,9, -999.00,9,-999.0000,9,-999.0000,9,-999.0000,9,-999.0000,9,-999.0000,9,-999.0000,9,-999.0000, -999.00