BOTTLE,20201109CCHSIOCBG
EXPOCODE,SECT_ID,STNNBR,CASTNO,SAMPNO,BTLNBR,BTLNBR_FLAG_W,DATE,TIME,LATITUDE,LONGITUDE,DEPTH,CTDPRS,CTDTMP,CTDSAL,CTDSAL_FLAG_W,SALNTY,SALNTY_FLAG_W,CTDOXY,CTDOXY_FLAG_W,OXYGEN,OXYGEN_FLAG_W,SILCAT,SILCAT_FLAG_W,NITRAT,NITRAT_FLAG_W,NITRIT,NITRIT_FLAG_W,PHSPHT,PHSPHT_FLAG_W,CFC-11,CFC-11_FLAG_W,CFC-12,CFC-12_FLAG_W,CFC113,CFC113_FLAG_W,TCARBN,TCARBN_FLAG_W,ALKALI,ALKALI_FLAG_W,TRITUM,TRITUM_FLAG_W,HELIUM,HELIUM_FLAG_W,DELHE3,DELHE3_FLAG_W,DELC13,DELC13_FLAG_W,DELC14,DELC14_FLAG_W,C14ERR,NEON,NEON_FLAG_W,NEONER,DOC,DOC_FLAG_W,CTDRAW,TRITER,THETA,FUCO,FUCO_FLAG_W,RHAM,RHAM_FLAG_W,ARABA,ARABA_FLAG_W,GALA,GALA_FLAG_W,GLUC,GLUC_FLAG_W,MAN,MAN_FLAG_W,DCNS,DCNS_FLAG_W,BRDU,BRDU_FLAG_W,CDOM325,CDOM325_FLAG_W,CDOM340,CDOM340_FLAG_W,CDOM380,CDOM380_FLAG_W,CDOM412,CDOM412_FLAG_W,CDOMSL,CDOMSL_FLAG_W,CDOMSN,CDOMSN_FLAG_W,HELIER,DELHER
,,,,,,,,,,,METERS,DBAR,ITS-90,PSS-78,,PSS-78,,UMOL/KG,,UMOL/KG,,UMOL/KG,,UMOL/KG,,UMOL/KG,,UMOL/KG,,PMOL/KG,,PMOL/KG,,PMOL/KG,,UMOL/KG,,UMOL/KG,,TU,,NMOL/KG,,PERCNT,,/MILLE,,/MILLE,,/MILLE,NMOL/KG,,NMOL/KG,UMOL/KG,,DBAR,TU,DEG C,NMOL/KG,,NMOL/KG,,NMOL/KG,,NMOL/KG,,NMOL/KG,,NMOL/KG,,NMOL/KG,,PMOL/L/H,,1/M,,1/M,,1/M,,1/M,,1/NM,,1/NM,,NMOL/KG,PERCNT
33RR20050106,       P16S,      36,          1,         36,         36,2,20050120,       0303,   -33.4990,  -149.9997,       5364,     2.2,  21.8262,  35.1834,2,  35.1894,2,    221.8,2,   222.1,2,    0.37,2,    0.11,2,    0.00,2,    0.12,2,   2.177,2,   1.323,2,   0.166,2,  2039.9,6,  2308.3,6,-999.000,9,-999.0000,9, -999.00,9, -999.00,9,  -999.0,9,  -999.0,-999.000,9,-999.000,-999.0000,9,     2.2,-999.000,  21.8258,     -999.0,9,     -999.0,9,     -999.0,9,     -999.0,9,     -999.0,9,     -999.0,9,     -999.0,9, -999.00,9,-999.0000,9,-999.0000,9,-999.0000,9,-999.0000,9,-999.0000,9,-999.0000,9,-999.0000, -999.00
33RR20050106,       P16S,      36,          1,         35,         35,2,20050120,       0303,   -33.4990,  -149.9997,       5364,    40.6,  17.1413,  34.9853,2,  34.9840,2,    252.3,2,   253.2,2,    0.37,2,    0.11,2,    0.00,2,    0.15,2,   2.847,2,   1.668,2,   0.216,2,  2046.2,2,  2299.3,2,-999.000,9,-999.0000,9, -999.00,9, -999.00,9,  -999.0,9,  -999.0,-999.000,9,-999.000,-999.0000,9,    40.6,-999.000,  17.1346,     -999.0,9,     -999.0,9,     -999.0,9,     -999.0,9,     -999.0,9,     -999.0,9,     -999.0,9, -999.00,9,-999.0000,9,-999.0000,9,-999.0000,9,-999.0000,9,-999.0000,9,-999.0000,9,-999.0000, -999.00
33RR20050106,       P16S,      36,          1,         34,         34,2,20050120,       0303,   -33.4990,  -149.9997,       5364,    85.6,  15.3923,  35.1207,2,  35.1111,2,    256.0,2,   253.6,2,    0.57,2,    0.11,2,    0.00,2,    0.15,2,   2.858,2,   1.687,2,   0.236,2,  2050.7,2,  2305.8,2,-999.000,9,-999.0000,9, -999.00,9, -999.00,9,  -999.0,9,  -999.0,-999.000,9,-999.000,-999.0000,9,    85.6,-999.000,  15.3791,     -999.0,9,     -999.0,9,     -999.0,9,     -999.0,9,     -999.0,9,     -999.0,9,     -999.0,9, -999.00,9,-999.0000,9,-999.0000,9,-999.0000,9,-999.0000,9,-999.0000,9,-999.0000,9,-999.0000, -999.00
33RR20050106,       P16S,      36,          1,         33,         33,2,20050120,       0303,   -33.4990,  -149.9997,       5364,   137.2,  14.5938,  35.0724,2,  35.0719,2,    246.2,2,   244.3,2,    0.56,2,    0.86,2,    0.09,2,    0.22,2,   2.886,2,   1.738,2,   0.285,2,  2061.1,2,  2304.5,2,-999.000,9,-999.0000,9, -999.00,9, -999.00,9,  -999.0,9,  -999.0,-999.000,9,-999.000,-999.0000,9,   137.2,-999.000,  14.5734,     -999.0,9,     -999.0,9,     -999.0,9,     -999.0,9,     -999.0,9,     -999.0,9,     -999.0,9, -999.00,9,-999.0000,9,-999.0000,9,-999.0000,9,-999.0000,9,-999.0000,9,-999.0000,9,-999.0000, -999.00
33RR20050106,       P16S,      36,          1,         32,         32,2,20050120,       0303,   -33.4990,  -149.9997,       5364,   186.9,  13.3536,  34.9537,2,  34.9570,2,    224.7,2,   221.9,2,    1.14,2,    5.92,2,    0.09,2,    0.53,2,   3.033,2,   1.744,2,   0.222,2,  2087.1,2,  2299.2,2,-999.000,9,-999.0000,9, -999.00,9, -999.00,9,  -999.0,9,  -999.0,-999.000,9,-999.000,-999.0000,9,   186.9,-999.000,  13.3274,     -999.0,9,     -999.0,9,     -999.0,9,     -999.0,9,     -999.0,9,     -999.0,9,     -999.0,9, -999.00,9,-999.0000,9,-999.0000,9,-999.0000,9,-999.0000,9,-999.0000,9,-999.0000,9,-999.0000, -999.00
33RR20050106,       P16S,      36,          1,         31,         31,2,20050120,       0303,   -33.4990,  -149.9997,       5364,   237.2,  11.6582,  34.8444,2,  34.8438,2,    207.6,2,   213.0,2,    2.34,2,   11.34,2,    0.00,2,    0.86,2,   3.137,2,   1.762,2,   0.161,2,  2112.3,2,  2294.1,2,-999.000,9,-999.0000,9, -999.00,9, -999.00,9,  -999.0,9,  -999.0,-999.000,9,-999.000,-999.0000,9,   237.2,-999.000,  11.6278,     -999.0,9,     -999.0,9,     -999.0,9,     -999.0,9,     -999.0,9,     -999.0,9,     -999.0,9, -999.00,9,-999.0000,9,-999.0000,9,-999.0000,9,-999.0000,9,-999.0000,9,-999.0000,9,-999.0000, -999.00
33RR20050106,       P16S,      36,          1,         30,         30,2,20050120,       0303,   -33.4990,  -149.9997,       5364,   287.1,  10.2369,  34.6924,2,-999.0000,9,    216.3,2,   217.7,2,    3.12,2,   14.32,2,    0.00,2,    1.04,2,   3.222,2,   1.777,2,   0.147,2,  2124.6,2,  2287.8,2,-999.000,9,-999.0000,9, -999.00,9, -999.00,9,  -999.0,9,  -999.0,-999.000,9,-999.000,-999.0000,9,   287.1,-999.000,  10.2031,     -999.0,9,     -999.0,9,     -999.0,9,     -999.0,9,     -999.0,9,     -999.0,9,     -999.0,9, -999.00,9,-999.0000,9,-999.0000,9,-999.0000,9,-999.0000,9,-999.0000,9,-999.0000,9,-999.0000, -999.00
33RR20050106,       P16S,      36,          1,         29,         29,2,20050120,       0303,   -33.4990,  -149.9997,       5364,   337.6,   9.1461,  34.5733,2,-999.0000,9,    222.7,2,   224.4,2,    3.71,2,   16.61,2,    0.00,2,    1.18,2,   3.358,6,   1.790,6,   0.161,6,  2130.7,2,  2282.6,2,-999.000,9,-999.0000,9, -999.00,9, -999.00,9,  -999.0,9,  -999.0,-999.000,9,-999.000,-999.0000,9,   337.6,-999.000,   9.1090,     -999.0,9,     -999.0,9,     -999.0,9,     -999.0,9,     -999.0,9,     -999.0,9,     -999.0,9, -999.00,9,-999.0000,9,-999.0000,9,-999.0000,9,-999.0000,9,-999.0000,9,-999.0000,9,-999.0000, -999.00
33RR20050106,       P16S,      36,          1,         28,         28,2,20050120,       0303,   -33.4990,  -149.9997,       5364,   388.1,   8.4278,  34.5122,2,-999.0000,9,    228.6,2,   229.4,2,    4.30,2,   18.37,2,    0.00,2,    1.29,2,   3.356,2,   1.813,2,   0.157,2,  2134.6,2,  2281.5,2,-999.000,9,-999.0000,9, -999.00,9, -999.00,9,  -999.0,9,  -999.0,-999.000,9,-999.000,-999.0000,9,   388.1,-999.000,   8.3871,     -999.0,9,     -999.0,9,     -999.0,9,     -999.0,9,     -999.0,9,     -999.0,9,     -999.0,9, -999.00,9,-999.0000,9,-999.0000,9,-999.0000,9,-999.0000,9,-999.0000,9,-999.0000,9,-999.0000, -999.00
33RR20050106,       P16S,      36,          1,         27,         27,2,20050120,       0303,   -33.4990,  -149.9997,       5364,   441.3,   7.7897,  34.4530,2,-999.0000,9,    238.1,2,   240.6,2,    4.69,2,   19.33,2,    0.00,2,    1.35,2,   3.696,2,   1.955,2,   0.265,2,  2136.0,2,  2280.0,2,-999.000,9,-999.0000,9, -999.00,9, -999.00,9,  -999.0,9,  -999.0,-999.000,9,-999.000,-999.0000,9,   441.3,-999.000,   7.7454,     -999.0,9,     -999.0,9,     -999.0,9,     -999.0,9,     -999.0,9,     -999.0,9,     -999.0,9, -999.00,9,-999.0000,9,-999.0000,9,-999.0000,9,-999.0000,9,-999.0000,9,-999.0000,9,-999.0000, -999.00
33RR20050106,       P16S,      36,          1,         26,         26,2,20050120,       0303,   -33.4990,  -149.9997,       5364,   491.2,   7.4608,  34.4258,2,-999.0000,9,    242.9,2,   244.5,2,    5.28,2,   20.18,2,    0.00,2,    1.41,2,   3.728,2,   1.937,2,   0.277,2,  2137.4,2,  2279.4,2,-999.000,9,-999.0000,9, -999.00,9, -999.00,9,  -999.0,9,  -999.0,-999.000,9,-999.000,-999.0000,9,   491.2,-999.000,   7.4125,     -999.0,9,     -999.0,9,     -999.0,9,     -999.0,9,     -999.0,9,     -999.0,9,     -999.0,9, -999.00,9,-999.0000,9,-999.0000,9,-999.0000,9,-999.0000,9,-999.0000,9,-999.0000,9,-999.0000, -999.00
33RR20050106,       P16S,      36,          1,         25,         25,2,20050120,       0303,   -33.4990,  -149.9997,       5364,   576.8,   7.0721,  34.3943,2,  34.3961,2,    244.6,2,   245.5,2,    6.27,2,   21.36,2,    0.00,2,    1.49,2,   3.539,2,   1.785,2,   0.217,2,  2139.6,2,  2279.2,2,-999.000,9,-999.0000,9, -999.00,9, -999.00,9,  -999.0,9,  -999.0,-999.000,9,-999.000,-999.0000,9,   576.8,-999.000,   7.0168,     -999.0,9,     -999.0,9,     -999.0,9,     -999.0,9,     -999.0,9,     -999.0,9,     -999.0,9, -999.00,9,-999.0000,9,-999.0000,9,-999.0000,9,-999.0000,9,-999.0000,9,-999.0000,9,-999.0000, -999.00
33RR20050106,       P16S,      36,          1,         24,         24,2,20050120,       0303,   -33.4990,  -149.9997,       5364,   677.6,   6.6879,  34.3699,2,  34.3713,2,    239.4,2,   240.7,2,    8.05,2,   22.91,2,    0.00,2,    1.58,2,   2.712,2,   1.419,2,   0.147,2,  2144.0,2,  2279.4,2,-999.000,9,-999.0000,9, -999.00,9, -999.00,9,  -999.0,9,  -999.0,-999.000,9,-999.000,-999.0000,9,   677.6,-999.000,   6.6245,     -999.0,9,     -999.0,9,     -999.0,9,     -999.0,9,     -999.0,9,     -999.0,9,     -999.0,9, -999.00,9,-999.0000,9,-999.0000,9,-999.0000,9,-999.0000,9,-999.0000,9,-999.0000,9,-999.0000, -999.00
33RR20050106,       P16S,      36,          1,         23,         23,2,20050120,       0303,   -33.4990,  -149.9997,       5364,   779.0,   6.1501,  34.3374,2,  34.3393,2,    232.7,2,   232.2,2,   11.03,2,   24.89,2,    0.00,2,    1.72,2,   2.004,2,   1.053,2,   0.100,2,  2151.5,2,  2281.2,2,-999.000,9,-999.0000,9, -999.00,9, -999.00,9,  -999.0,9,  -999.0,-999.000,9,-999.000,-999.0000,9,   779.0,-999.000,   6.0798,     -999.0,9,     -999.0,9,     -999.0,9,     -999.0,9,     -999.0,9,     -999.0,9,     -999.0,9, -999.00,9,-999.0000,9,-999.0000,9,-999.0000,9,-999.0000,9,-999.0000,9,-999.0000,9,-999.0000, -999.00
33RR20050106,       P16S,      36,          1,         22,         22,2,20050120,       0303,   -33.4990,  -149.9997,       5364,   881.2,   5.5288,  34.3198,2,  34.3204,2,    220.8,2,   219.4,2,   16.99,2,   27.38,2,    0.00,2,    1.90,2,   1.334,2,   0.691,2,   0.074,2,  2165.6,2,  2284.6,2,-999.000,9,-999.0000,9, -999.00,9, -999.00,9,  -999.0,9,  -999.0,-999.000,9,-999.000,-999.0000,9,   881.2,-999.000,   5.4528,     -999.0,9,     -999.0,9,     -999.0,9,     -999.0,9,     -999.0,9,     -999.0,9,     -999.0,9, -999.00,9,-999.0000,9,-999.0000,9,-999.0000,9,-999.0000,9,-999.0000,9,-999.0000,9,-999.0000, -999.00
33RR20050106,       P16S,      36,          1,         21,         21,2,20050120,       0303,   -33.4990,  -149.9997,       5364,   982.0,   4.8726,  34.3211,2,  34.3396,4,    208.6,2,   207.8,2,   24.56,2,   29.59,2,    0.00,2,    2.05,2,   0.782,2,   0.414,2,   0.045,2,  2181.1,2,  2291.1,2,-999.000,9,-999.0000,9, -999.00,9, -999.00,9,  -999.0,9,  -999.0,-999.000,9,-999.000,-999.0000,9,   982.0,-999.000,   4.7922,     -999.0,9,     -999.0,9,     -999.0,9,     -999.0,9,     -999.0,9,     -999.0,9,     -999.0,9, -999.00,9,-999.0000,9,-999.0000,9,-999.0000,9,-999.0000,9,-999.0000,9,-999.0000,9,-999.0000, -999.00
33RR20050106,       P16S,      36,          1,         20,         20,2,20050120,       0303,   -33.4990,  -149.9997,       5364,  1082.7,   4.2024,  34.3390,2,  34.3716,4,    198.8,2,   197.4,2,   34.16,2,   31.60,2,    0.00,2,    2.19,2,   0.508,2,   0.270,2,   0.028,2,  2199.0,2,  2297.9,2,-999.000,9,-999.0000,9, -999.00,9, -999.00,9,  -999.0,9,  -999.0,-999.000,9,-999.000,-999.0000,9,  1082.7,-999.000,   4.1184,     -999.0,9,     -999.0,9,     -999.0,9,     -999.0,9,     -999.0,9,     -999.0,9,     -999.0,9, -999.00,9,-999.0000,9,-999.0000,9,-999.0000,9,-999.0000,9,-999.0000,9,-999.0000,9,-999.0000, -999.00
33RR20050106,       P16S,      36,          1,         19,         19,2,20050120,       0303,   -33.4990,  -149.9997,       5364,  1184.0,   3.7095,  34.3705,2,  34.3710,2,    190.5,2,   189.3,2,   43.38,2,   32.84,2,    0.00,2,    2.29,2,   0.332,2,   0.175,2,   0.024,2,  2214.1,2,  2307.9,2,-999.000,9,-999.0000,9, -999.00,9, -999.00,9,  -999.0,9,  -999.0,-999.000,9,-999.000,-999.0000,9,  1184.0,-999.000,   3.6212,     -999.0,9,     -999.0,9,     -999.0,9,     -999.0,9,     -999.0,9,     -999.0,9,     -999.0,9, -999.00,9,-999.0000,9,-999.0000,9,-999.0000,9,-999.0000,9,-999.0000,9,-999.0000,9,-999.0000, -999.00
33RR20050106,       P16S,      36,          1,         18,         18,2,20050120,       0303,   -33.4990,  -149.9997,       5364,  1284.3,   3.2769,  34.4207,2,  34.4216,2,    180.4,2,   179.9,2,   54.44,2,   33.81,2,    0.00,2,    2.38,2,   0.221,2,   0.133,2,   0.016,2,  2232.3,6,  2317.7,2,-999.000,9,-999.0000,9, -999.00,9, -999.00,9,  -999.0,9,  -999.0,-999.000,9,-999.000,-999.0000,9,  1284.3,-999.000,   3.1843,     -999.0,9,     -999.0,9,     -999.0,9,     -999.0,9,     -999.0,9,     -999.0,9,     -999.0,9, -999.00,9,-999.0000,9,-999.0000,9,-999.0000,9,-999.0000,9,-999.0000,9,-999.0000,9,-999.0000, -999.00
33RR20050106,       P16S,      36,          1,         17,         17,2,20050120,       0303,   -33.4990,  -149.9997,       5364,  1385.3,   3.0135,  34.4703,2,  34.4706,2,    172.3,2,   172.3,2,   64.12,2,   34.36,2,    0.00,2,    2.41,2,   0.136,2,   0.082,2,   0.021,2,  -999.0,9,  -999.0,9,-999.000,9,-999.0000,9, -999.00,9, -999.00,9,  -999.0,9,  -999.0,-999.000,9,-999.000,-999.0000,9,  1385.3,-999.000,   2.9152,     -999.0,9,     -999.0,9,     -999.0,9,     -999.0,9,     -999.0,9,     -999.0,9,     -999.0,9, -999.00,9,-999.0000,9,-999.0000,9,-999.0000,9,-999.0000,9,-999.0000,9,-999.0000,9,-999.0000, -999.00
33RR20050106,       P16S,      36,          1,         16,         16,2,20050120,       0303,   -33.4990,  -149.9997,       5364,  1487.0,   2.8067,  34.5168,2,  34.5165,2,    166.6,2,   166.6,2,   73.42,2,   34.57,2,    0.00,2,    2.43,2,-999.000,9,-999.000,9,-999.000,9,  -999.0,9,  -999.0,9,-999.000,9,-999.0000,9, -999.00,9, -999.00,9,  -999.0,9,  -999.0,-999.000,9,-999.000,-999.0000,9,  1487.0,-999.000,   2.7023,     -999.0,9,     -999.0,9,     -999.0,9,     -999.0,9,     -999.0,9,     -999.0,9,     -999.0,9, -999.00,9,-999.0000,9,-999.0000,9,-999.0000,9,-999.0000,9,-999.0000,9,-999.0000,9,-999.0000, -999.00
33RR20050106,       P16S,      36,          1,         15,         15,2,20050120,       0303,   -33.4990,  -149.9997,       5364,  1587.7,   2.6520,  34.5550,2,  34.5541,2,    161.5,2,   161.7,2,   82.94,2,   34.85,2,    0.00,2,    2.45,2,   0.018,2,   0.012,2,  -0.006,2,  -999.0,9,  -999.0,9,-999.000,9,-999.0000,9, -999.00,9, -999.00,9,  -999.0,9,  -999.0,-999.000,9,-999.000,-999.0000,9,  1587.7,-999.000,   2.5411,     -999.0,9,     -999.0,9,     -999.0,9,     -999.0,9,     -999.0,9,     -999.0,9,     -999.0,9, -999.00,9,-999.0000,9,-999.0000,9,-999.0000,9,-999.0000,9,-999.0000,9,-999.0000,9,-999.0000, -999.00
33RR20050106,       P16S,      36,          1,         14,         14,2,20050120,       0303,   -33.4990,  -149.9997,       5364,  1688.7,   2.5168,  34.5839,2,  34.5836,2,    158.0,2,   158.1,2,   91.06,2,   35.02,2,    0.00,2,    2.46,2,-999.000,9,-999.000,9,-999.000,9,  -999.0,9,  -999.0,9,-999.000,9,-999.0000,9, -999.00,9, -999.00,9,  -999.0,9,  -999.0,-999.000,9,-999.000,-999.0000,9,  1688.7,-999.000,   2.3991,     -999.0,9,     -999.0,9,     -999.0,9,     -999.0,9,     -999.0,9,     -999.0,9,     -999.0,9, -999.00,9,-999.0000,9,-999.0000,9,-999.0000,9,-999.0000,9,-999.0000,9,-999.0000,9,-999.0000, -999.00
33RR20050106,       P16S,      36,          1,         13,         13,2,20050120,       0303,   -33.4990,  -149.9997,       5364,  1790.0,   2.4101,  34.6036,2,  34.6038,2,    155.0,2,   155.3,2,   97.77,2,   35.12,2,    0.00,2,    2.47,2,   0.027,3,   0.022,3,  -0.008,2,  -999.0,9,  -999.0,9,-999.000,9,-999.0000,9, -999.00,9, -999.00,9,  -999.0,9,  -999.0,-999.000,9,-999.000,-999.0000,9,  1790.0,-999.000,   2.2854,     -999.0,9,     -999.0,9,     -999.0,9,     -999.0,9,     -999.0,9,     -999.0,9,     -999.0,9, -999.00,9,-999.0000,9,-999.0000,9,-999.0000,9,-999.0000,9,-999.0000,9,-999.0000,9,-999.0000, -999.00
33RR20050106,       P16S,      36,          1,         12,         12,2,20050120,       0303,   -33.4990,  -149.9997,       5364,  1992.8,   2.2131,  34.6312,2,  34.6319,2,    151.9,2,   152.1,2,  108.97,2,   35.39,2,    0.00,2,    2.49,2,-999.000,9,-999.000,9,-999.000,9,  -999.0,9,  -999.0,9,-999.000,9,-999.0000,9, -999.00,9, -999.00,9,  -999.0,9,  -999.0,-999.000,9,-999.000,-999.0000,9,  1992.8,-999.000,   2.0740,     -999.0,9,     -999.0,9,     -999.0,9,     -999.0,9,     -999.0,9,     -999.0,9,     -999.0,9, -999.00,9,-999.0000,9,-999.0000,9,-999.0000,9,-999.0000,9,-999.0000,9,-999.0000,9,-999.0000, -999.00
33RR20050106,       P16S,      36,          1,         11,         11,2,20050120,       0303,   -33.4990,  -149.9997,       5364,  2195.5,   2.0691,  34.6458,2,  34.6460,2,    150.5,2,   150.7,2,  116.50,2,   35.55,2,    0.00,2,    2.51,2,   0.076,3,   0.055,3,  -0.010,2,  -999.0,9,  -999.0,9,-999.000,9,-999.0000,9, -999.00,9, -999.00,9,  -999.0,9,  -999.0,-999.000,9,-999.000,-999.0000,9,  2195.5,-999.000,   1.9148,     -999.0,9,     -999.0,9,     -999.0,9,     -999.0,9,     -999.0,9,     -999.0,9,     -999.0,9, -999.00,9,-999.0000,9,-999.0000,9,-999.0000,9,-999.0000,9,-999.0000,9,-999.0000,9,-999.0000, -999.00
33RR20050106,       P16S,      36,          1,         10,         10,2,20050120,       0303,   -33.4990,  -149.9997,       5364,  2448.9,   1.9266,  34.6566,2,  34.6574,2,    148.8,2,   149.3,2,  124.06,2,   35.83,2,    0.00,2,    2.53,2,-999.000,9,-999.000,9,-999.000,9,  -999.0,9,  -999.0,9,-999.000,9,-999.0000,9, -999.00,9, -999.00,9,  -999.0,9,  -999.0,-999.000,9,-999.000,-999.0000,9,  2448.9,-999.000,   1.7522,     -999.0,9,     -999.0,9,     -999.0,9,     -999.0,9,     -999.0,9,     -999.0,9,     -999.0,9, -999.00,9,-999.0000,9,-999.0000,9,-999.0000,9,-999.0000,9,-999.0000,9,-999.0000,9,-999.0000, -999.00
33RR20050106,       P16S,      36,          1,          9,          9,2,20050120,       0303,   -33.4990,  -149.9997,       5364,  2706.2,   1.8299,  34.6649,2,  34.6642,2,    149.7,2,   150.3,2,  127.32,2,   35.82,2,    0.00,2,    2.53,2,  -0.005,2,  -0.002,2,  -0.012,2,  -999.0,9,  -999.0,9,-999.000,9,-999.0000,9, -999.00,9, -999.00,9,  -999.0,9,  -999.0,-999.000,9,-999.000,-999.0000,9,  2706.2,-999.000,   1.6338,     -999.0,9,     -999.0,9,     -999.0,9,     -999.0,9,     -999.0,9,     -999.0,9,     -999.0,9, -999.00,9,-999.0000,9,-999.0000,9,-999.0000,9,-999.0000,9,-999.0000,9,-999.0000,9,-999.0000, -999.00
33RR20050106,       P16S,      36,          1,          8,          8,2,20050120,       0303,   -33.4990,  -149.9997,       5364,  2963.0,   1.7421,  34.6735,2,  34.6728,2,    153.3,2,   154.0,2,  129.36,2,   35.55,2,    0.00,2,    2.51,2,-999.000,9,-999.000,9,-999.000,9,  -999.0,9,  -999.0,9,-999.000,9,-999.0000,9, -999.00,9, -999.00,9,  -999.0,9,  -999.0,-999.000,9,-999.000,-999.0000,9,  2963.0,-999.000,   1.5235,     -999.0,9,     -999.0,9,     -999.0,9,     -999.0,9,     -999.0,9,     -999.0,9,     -999.0,9, -999.00,9,-999.0000,9,-999.0000,9,-999.0000,9,-999.0000,9,-999.0000,9,-999.0000,9,-999.0000, -999.00
33RR20050106,       P16S,      36,          1,          7,          7,2,20050120,       0303,   -33.4990,  -149.9997,       5364,  3298.6,   1.6205,  34.6860,2,  34.6850,2,    163.6,2,   164.5,2,  126.28,2,   34.73,2,    0.00,2,    2.44,2,  -0.006,2,  -0.002,2,  -0.014,2,  -999.0,9,  -999.0,9,-999.000,9,-999.0000,9, -999.00,9, -999.00,9,  -999.0,9,  -999.0,-999.000,9,-999.000,-999.0000,9,  3298.6,-999.000,   1.3717,     -999.0,9,     -999.0,9,     -999.0,9,     -999.0,9,     -999.0,9,     -999.0,9,     -999.0,9, -999.00,9,-999.0000,9,-999.0000,9,-999.0000,9,-999.0000,9,-999.0000,9,-999.0000,9,-999.0000, -999.00