BOTTLE,20201109CCHSIOCBG
EXPOCODE,SECT_ID,STNNBR,CASTNO,SAMPNO,BTLNBR,BTLNBR_FLAG_W,DATE,TIME,LATITUDE,LONGITUDE,DEPTH,CTDPRS,CTDTMP,CTDSAL,CTDSAL_FLAG_W,SALNTY,SALNTY_FLAG_W,CTDOXY,CTDOXY_FLAG_W,OXYGEN,OXYGEN_FLAG_W,SILCAT,SILCAT_FLAG_W,NITRAT,NITRAT_FLAG_W,NITRIT,NITRIT_FLAG_W,PHSPHT,PHSPHT_FLAG_W,CFC-11,CFC-11_FLAG_W,CFC-12,CFC-12_FLAG_W,CFC113,CFC113_FLAG_W,TCARBN,TCARBN_FLAG_W,ALKALI,ALKALI_FLAG_W,TRITUM,TRITUM_FLAG_W,HELIUM,HELIUM_FLAG_W,DELHE3,DELHE3_FLAG_W,DELC13,DELC13_FLAG_W,DELC14,DELC14_FLAG_W,C14ERR,NEON,NEON_FLAG_W,NEONER,DOC,DOC_FLAG_W,CTDRAW,TRITER,THETA,FUCO,FUCO_FLAG_W,RHAM,RHAM_FLAG_W,ARABA,ARABA_FLAG_W,GALA,GALA_FLAG_W,GLUC,GLUC_FLAG_W,MAN,MAN_FLAG_W,DCNS,DCNS_FLAG_W,BRDU,BRDU_FLAG_W,CDOM325,CDOM325_FLAG_W,CDOM340,CDOM340_FLAG_W,CDOM380,CDOM380_FLAG_W,CDOM412,CDOM412_FLAG_W,CDOMSL,CDOMSL_FLAG_W,CDOMSN,CDOMSN_FLAG_W,HELIER,DELHER
,,,,,,,,,,,METERS,DBAR,ITS-90,PSS-78,,PSS-78,,UMOL/KG,,UMOL/KG,,UMOL/KG,,UMOL/KG,,UMOL/KG,,UMOL/KG,,PMOL/KG,,PMOL/KG,,PMOL/KG,,UMOL/KG,,UMOL/KG,,TU,,NMOL/KG,,PERCNT,,/MILLE,,/MILLE,,/MILLE,NMOL/KG,,NMOL/KG,UMOL/KG,,DBAR,TU,DEG C,NMOL/KG,,NMOL/KG,,NMOL/KG,,NMOL/KG,,NMOL/KG,,NMOL/KG,,NMOL/KG,,PMOL/L/H,,1/M,,1/M,,1/M,,1/M,,1/NM,,1/NM,,NMOL/KG,PERCNT
33RR20050106,       P16S,     110,          1,         31,         31,2,20050210,       2139,   -70.5002,  -150.0008,       4339,     2.7,  -0.5069,  33.4944,2,  33.4951,2,    363.9,2,   365.2,2,   34.60,2,   21.39,2,    0.21,2,    1.40,2,   5.865,2,   3.300,2,   0.622,2,  2118.2,6,  2267.8,6,-999.000,9,-999.0000,9, -999.00,9, -999.00,9,  -999.0,9,  -999.0,-999.000,9,-999.000,-999.0000,9,     2.7,-999.000,  -0.5070,     -999.0,9,     -999.0,9,     -999.0,9,     -999.0,9,     -999.0,9,     -999.0,9,     -999.0,9, -999.00,9,-999.0000,9,-999.0000,9,-999.0000,9,-999.0000,9,-999.0000,9,-999.0000,9,-999.0000, -999.00
33RR20050106,       P16S,     110,          1,         30,         30,2,20050210,       2139,   -70.5002,  -150.0008,       4339,    41.6,  -1.6407,  33.9950,2,  34.0051,2,    338.5,2,   333.5,2,   43.26,2,   26.13,2,    0.21,2,    1.86,2,   5.272,2,   2.937,2,   0.539,2,  2177.4,2,  2297.8,2,-999.000,9,-999.0000,9, -999.00,9, -999.00,9,  -999.0,9,  -999.0,-999.000,9,-999.000,-999.0000,9,    41.6,-999.000,  -1.6415,     -999.0,9,     -999.0,9,     -999.0,9,     -999.0,9,     -999.0,9,     -999.0,9,     -999.0,9, -999.00,9,-999.0000,9,-999.0000,9,-999.0000,9,-999.0000,9,-999.0000,9,-999.0000,9,-999.0000, -999.00
33RR20050106,       P16S,     110,          1,         29,         29,2,20050210,       2139,   -70.5002,  -150.0008,       4339,    62.4,  -1.7322,  34.0595,2,  34.0566,2,    319.3,2,   320.3,2,   44.90,2,   26.79,2,    0.28,2,    1.92,2,   5.249,2,   2.949,2,   0.548,2,  2186.3,2,  2300.5,2,-999.000,9,-999.0000,9, -999.00,9, -999.00,9,  -999.0,9,  -999.0,-999.000,9,-999.000,-999.0000,9,    62.4,-999.000,  -1.7334,     -999.0,9,     -999.0,9,     -999.0,9,     -999.0,9,     -999.0,9,     -999.0,9,     -999.0,9, -999.00,9,-999.0000,9,-999.0000,9,-999.0000,9,-999.0000,9,-999.0000,9,-999.0000,9,-999.0000, -999.00
33RR20050106,       P16S,     110,          1,         28,         28,2,20050210,       2139,   -70.5002,  -150.0008,       4339,    86.9,  -1.6656,  34.0865,2,  34.0835,2,    310.5,2,   312.9,2,   46.33,2,   27.33,2,    0.32,2,    1.94,2,   5.090,2,   2.901,2,   0.537,2,  2190.5,2,  2302.1,2,-999.000,9,-999.0000,9, -999.00,9, -999.00,9,  -999.0,9,  -999.0,-999.000,9,-999.000,-999.0000,9,    86.9,-999.000,  -1.6674,     -999.0,9,     -999.0,9,     -999.0,9,     -999.0,9,     -999.0,9,     -999.0,9,     -999.0,9, -999.00,9,-999.0000,9,-999.0000,9,-999.0000,9,-999.0000,9,-999.0000,9,-999.0000,9,-999.0000, -999.00
33RR20050106,       P16S,     110,          1,         27,         27,2,20050210,       2139,   -70.5002,  -150.0008,       4339,   121.1,  -1.0802,  34.1747,2,  34.1666,2,    291.2,2,   290.1,2,   52.53,2,   28.94,2,    0.01,2,    2.02,2,   4.443,2,   2.472,2,   0.460,2,  2203.8,2,  2305.6,2,-999.000,9,-999.0000,9, -999.00,9, -999.00,9,  -999.0,9,  -999.0,-999.000,9,-999.000,-999.0000,9,   121.1,-999.000,  -1.0834,     -999.0,9,     -999.0,9,     -999.0,9,     -999.0,9,     -999.0,9,     -999.0,9,     -999.0,9, -999.00,9,-999.0000,9,-999.0000,9,-999.0000,9,-999.0000,9,-999.0000,9,-999.0000,9,-999.0000, -999.00
33RR20050106,       P16S,     110,          1,         26,         26,2,20050210,       2139,   -70.5002,  -150.0008,       4339,   162.1,   0.1991,  34.3819,2,  34.3785,2,    243.0,2,   239.9,2,   68.29,2,   31.42,2,    0.01,2,    2.16,2,   2.825,2,   1.602,2,   0.285,2,  2231.9,2,  2320.1,2,-999.000,9,-999.0000,9, -999.00,9, -999.00,9,  -999.0,9,  -999.0,-999.000,9,-999.000,-999.0000,9,   162.1,-999.000,   0.1930,     -999.0,9,     -999.0,9,     -999.0,9,     -999.0,9,     -999.0,9,     -999.0,9,     -999.0,9, -999.00,9,-999.0000,9,-999.0000,9,-999.0000,9,-999.0000,9,-999.0000,9,-999.0000,9,-999.0000, -999.00
33RR20050106,       P16S,     110,          1,         25,         25,2,20050210,       2139,   -70.5002,  -150.0008,       4339,   204.6,   1.4047,  34.6179,2,  34.6118,2,    197.5,2,   191.5,2,   83.26,2,   32.99,2,    0.01,2,    2.28,2,   0.960,2,   0.546,2,   0.086,2,  2251.8,2,  2335.4,2,-999.000,9,-999.0000,9, -999.00,9, -999.00,9,  -999.0,9,  -999.0,-999.000,9,-999.000,-999.0000,9,   204.6,-999.000,   1.3947,     -999.0,9,     -999.0,9,     -999.0,9,     -999.0,9,     -999.0,9,     -999.0,9,     -999.0,9, -999.00,9,-999.0000,9,-999.0000,9,-999.0000,9,-999.0000,9,-999.0000,9,-999.0000,9,-999.0000, -999.00
33RR20050106,       P16S,     110,          1,         24,         24,2,20050210,       2139,   -70.5002,  -150.0008,       4339,   251.0,   1.6678,  34.6916,2,  34.6920,2,    181.0,2,   182.9,2,   87.42,2,   32.73,2,    0.01,2,    2.26,2,   0.473,2,   0.264,2,   0.044,2,  2254.8,2,  2342.1,2,-999.000,9,-999.0000,9, -999.00,9, -999.00,9,  -999.0,9,  -999.0,-999.000,9,-999.000,-999.0000,9,   251.0,-999.000,   1.6549,     -999.0,9,     -999.0,9,     -999.0,9,     -999.0,9,     -999.0,9,     -999.0,9,     -999.0,9, -999.00,9,-999.0000,9,-999.0000,9,-999.0000,9,-999.0000,9,-999.0000,9,-999.0000,9,-999.0000, -999.00
33RR20050106,       P16S,     110,          1,         23,         23,2,20050210,       2139,   -70.5002,  -150.0008,       4339,   303.8,   1.6355,  34.7107,2,  34.7097,2,    182.7,2,   183.9,2,   90.54,2,   32.41,2,    0.00,2,    2.24,2,   0.396,2,   0.213,2,   0.035,2,  2257.2,2,  2344.2,2,-999.000,9,-999.0000,9, -999.00,9, -999.00,9,  -999.0,9,  -999.0,-999.000,9,-999.000,-999.0000,9,   303.8,-999.000,   1.6198,     -999.0,9,     -999.0,9,     -999.0,9,     -999.0,9,     -999.0,9,     -999.0,9,     -999.0,9, -999.00,9,-999.0000,9,-999.0000,9,-999.0000,9,-999.0000,9,-999.0000,9,-999.0000,9,-999.0000, -999.00
33RR20050106,       P16S,     110,          1,         22,         22,2,20050210,       2139,   -70.5002,  -150.0008,       4339,   374.7,   1.5676,  34.7229,2,  34.7237,2,    184.6,2,   185.0,2,   94.08,2,   32.20,2,    0.00,2,    2.23,2,   0.297,6,   0.168,6,   0.026,6,  2256.3,2,  2347.1,2,-999.000,9,-999.0000,9, -999.00,9, -999.00,9,  -999.0,9,  -999.0,-999.000,9,-999.000,-999.0000,9,   374.7,-999.000,   1.5482,     -999.0,9,     -999.0,9,     -999.0,9,     -999.0,9,     -999.0,9,     -999.0,9,     -999.0,9, -999.00,9,-999.0000,9,-999.0000,9,-999.0000,9,-999.0000,9,-999.0000,9,-999.0000,9,-999.0000, -999.00
33RR20050106,       P16S,     110,          1,         21,         21,2,20050210,       2139,   -70.5002,  -150.0008,       4339,   475.8,   1.4653,  34.7310,2,  34.7314,2,    186.1,2,   186.4,2,   99.09,2,   32.20,2,    0.00,2,    2.22,2,   0.247,2,   0.137,2,   0.027,2,  2260.2,2,  2349.4,2,-999.000,9,-999.0000,9, -999.00,9, -999.00,9,  -999.0,9,  -999.0,-999.000,9,-999.000,-999.0000,9,   475.8,-999.000,   1.4407,     -999.0,9,     -999.0,9,     -999.0,9,     -999.0,9,     -999.0,9,     -999.0,9,     -999.0,9, -999.00,9,-999.0000,9,-999.0000,9,-999.0000,9,-999.0000,9,-999.0000,9,-999.0000,9,-999.0000, -999.00
33RR20050106,       P16S,     110,          1,         20,         20,2,20050210,       2139,   -70.5002,  -150.0008,       4339,   578.4,   1.3685,  34.7322,2,  34.7322,2,    186.0,2,   186.9,2,  103.05,2,   32.31,2,    0.00,2,    2.23,2,   0.303,3,   0.162,3,   0.022,2,  2260.2,2,  2352.7,2,-999.000,9,-999.0000,9, -999.00,9, -999.00,9,  -999.0,9,  -999.0,-999.000,9,-999.000,-999.0000,9,   578.4,-999.000,   1.3385,     -999.0,9,     -999.0,9,     -999.0,9,     -999.0,9,     -999.0,9,     -999.0,9,     -999.0,9, -999.00,9,-999.0000,9,-999.0000,9,-999.0000,9,-999.0000,9,-999.0000,9,-999.0000,9,-999.0000, -999.00
33RR20050106,       P16S,     110,          1,         19,         19,2,20050210,       2139,   -70.5002,  -150.0008,       4339,   750.6,   1.2333,  34.7301,2,  34.7302,2,    185.8,2,   189.8,2,  107.64,2,   32.35,2,    0.00,2,    2.23,2,   0.213,2,   0.114,2,   0.019,2,  2260.3,2,  2353.4,2,-999.000,9,-999.0000,9, -999.00,9, -999.00,9,  -999.0,9,  -999.0,-999.000,9,-999.000,-999.0000,9,   750.6,-999.000,   1.1941,     -999.0,9,     -999.0,9,     -999.0,9,     -999.0,9,     -999.0,9,     -999.0,9,     -999.0,9, -999.00,9,-999.0000,9,-999.0000,9,-999.0000,9,-999.0000,9,-999.0000,9,-999.0000,9,-999.0000, -999.00
33RR20050106,       P16S,     110,          1,         18,         18,2,20050210,       2139,   -70.5002,  -150.0008,       4339,   952.2,   1.1043,  34.7258,2,  34.7259,2,    193.6,2,   192.9,2,  111.40,2,   32.35,2,    0.00,2,    2.24,2,   0.142,2,   0.078,2,   0.016,2,  2261.4,2,  2355.7,2,-999.000,9,-999.0000,9, -999.00,9, -999.00,9,  -999.0,9,  -999.0,-999.000,9,-999.000,-999.0000,9,   952.2,-999.000,   1.0540,     -999.0,9,     -999.0,9,     -999.0,9,     -999.0,9,     -999.0,9,     -999.0,9,     -999.0,9, -999.00,9,-999.0000,9,-999.0000,9,-999.0000,9,-999.0000,9,-999.0000,9,-999.0000,9,-999.0000, -999.00
33RR20050106,       P16S,     110,          1,         17,         17,2,20050210,       2139,   -70.5002,  -150.0008,       4339,  1053.8,   1.0366,  34.7232,2,  34.7238,2,    193.8,2,   194.1,2,  114.10,2,   32.40,2,    0.00,2,    2.23,2,   0.143,2,   0.084,2,   0.014,2,  2264.5,2,  2355.9,2,-999.000,9,-999.0000,9, -999.00,9, -999.00,9,  -999.0,9,  -999.0,-999.000,9,-999.000,-999.0000,9,  1053.8,-999.000,   0.9806,     -999.0,9,     -999.0,9,     -999.0,9,     -999.0,9,     -999.0,9,     -999.0,9,     -999.0,9, -999.00,9,-999.0000,9,-999.0000,9,-999.0000,9,-999.0000,9,-999.0000,9,-999.0000,9,-999.0000, -999.00
33RR20050106,       P16S,     110,          1,         16,         16,2,20050210,       2139,   -70.5002,  -150.0008,       4339,  1320.3,   0.8878,  34.7170,2,  34.7175,2,    198.5,2,   198.9,2,  118.71,2,   32.40,2,    0.00,2,    2.24,2,   0.117,2,   0.070,2,   0.017,2,  2263.5,2,  2358.4,2,-999.000,9,-999.0000,9, -999.00,9, -999.00,9,  -999.0,9,  -999.0,-999.000,9,-999.000,-999.0000,9,  1320.3,-999.000,   0.8162,     -999.0,9,     -999.0,9,     -999.0,9,     -999.0,9,     -999.0,9,     -999.0,9,     -999.0,9, -999.00,9,-999.0000,9,-999.0000,9,-999.0000,9,-999.0000,9,-999.0000,9,-999.0000,9,-999.0000, -999.00
33RR20050106,       P16S,     110,          1,         15,         15,2,20050210,       2139,   -70.5002,  -150.0008,       4339,  1558.0,   0.7741,  34.7125,2,  34.7134,2,    201.7,2,   202.1,2,  122.69,2,   32.40,2,    0.00,2,    2.24,2,   0.103,2,   0.059,2,   0.017,2,  2263.7,2,  2358.7,2,-999.000,9,-999.0000,9, -999.00,9, -999.00,9,  -999.0,9,  -999.0,-999.000,9,-999.000,-999.0000,9,  1558.0,-999.000,   0.6879,     -999.0,9,     -999.0,9,     -999.0,9,     -999.0,9,     -999.0,9,     -999.0,9,     -999.0,9, -999.00,9,-999.0000,9,-999.0000,9,-999.0000,9,-999.0000,9,-999.0000,9,-999.0000,9,-999.0000, -999.00
33RR20050106,       P16S,     110,          1,         14,         14,2,20050210,       2139,   -70.5002,  -150.0008,       4339,  1765.0,   0.6944,  34.7094,2,  34.7109,2,    203.5,2,   204.1,2,  125.60,2,   32.50,2,    0.00,2,    2.24,2,   0.088,2,   0.043,2,   0.009,2,  2264.3,2,  2359.4,2,-999.000,9,-999.0000,9, -999.00,9, -999.00,9,  -999.0,9,  -999.0,-999.000,9,-999.000,-999.0000,9,  1765.0,-999.000,   0.5948,     -999.0,9,     -999.0,9,     -999.0,9,     -999.0,9,     -999.0,9,     -999.0,9,     -999.0,9, -999.00,9,-999.0000,9,-999.0000,9,-999.0000,9,-999.0000,9,-999.0000,9,-999.0000,9,-999.0000, -999.00
33RR20050106,       P16S,     110,          1,         13,         13,2,20050210,       2139,   -70.5002,  -150.0008,       4339,  1968.2,   0.6232,  34.7073,2,  34.7073,2,    205.2,2,   205.8,2,  126.85,2,   32.50,2,    0.00,2,    2.24,2,   0.176,2,   0.094,2,   0.018,2,  2261.9,2,  2358.7,2,-999.000,9,-999.0000,9, -999.00,9, -999.00,9,  -999.0,9,  -999.0,-999.000,9,-999.000,-999.0000,9,  1968.2,-999.000,   0.5100,     -999.0,9,     -999.0,9,     -999.0,9,     -999.0,9,     -999.0,9,     -999.0,9,     -999.0,9, -999.00,9,-999.0000,9,-999.0000,9,-999.0000,9,-999.0000,9,-999.0000,9,-999.0000,9,-999.0000, -999.00
33RR20050106,       P16S,     110,          1,         12,         12,2,20050210,       2139,   -70.5002,  -150.0008,       4339,  2130.9,   0.5624,  34.7059,2,  34.7069,2,    206.4,2,   207.2,2,  127.68,2,   32.60,2,    0.00,2,    2.25,2,   0.085,2,   0.037,2,   0.006,2,  2262.3,2,  2358.6,2,-999.000,9,-999.0000,9, -999.00,9, -999.00,9,  -999.0,9,  -999.0,-999.000,9,-999.000,-999.0000,9,  2130.9,-999.000,   0.4380,     -999.0,9,     -999.0,9,     -999.0,9,     -999.0,9,     -999.0,9,     -999.0,9,     -999.0,9, -999.00,9,-999.0000,9,-999.0000,9,-999.0000,9,-999.0000,9,-999.0000,9,-999.0000,9,-999.0000, -999.00
33RR20050106,       P16S,     110,          1,         11,         11,2,20050210,       2139,   -70.5002,  -150.0008,       4339,  2384.9,   0.4649,  34.7048,2,  34.7054,2,    208.6,2,   209.5,2,  129.55,2,   32.60,2,    0.00,2,    2.26,2,   0.097,2,   0.046,2,   0.012,2,  2262.6,2,  2359.3,2,-999.000,9,-999.0000,9, -999.00,9, -999.00,9,  -999.0,9,  -999.0,-999.000,9,-999.000,-999.0000,9,  2384.9,-999.000,   0.3225,     -999.0,9,     -999.0,9,     -999.0,9,     -999.0,9,     -999.0,9,     -999.0,9,     -999.0,9, -999.00,9,-999.0000,9,-999.0000,9,-999.0000,9,-999.0000,9,-999.0000,9,-999.0000,9,-999.0000, -999.00
33RR20050106,       P16S,     110,          1,         10,         10,2,20050210,       2139,   -70.5002,  -150.0008,       4339,  2639.7,   0.3865,  34.7042,2,  34.7035,2,    210.6,2,   211.4,2,  131.63,2,   32.65,2,    0.00,2,    2.26,2,   0.105,2,   0.047,2,   0.009,2,  2262.4,2,  2358.9,2,-999.000,9,-999.0000,9, -999.00,9, -999.00,9,  -999.0,9,  -999.0,-999.000,9,-999.000,-999.0000,9,  2639.7,-999.000,   0.2250,     -999.0,9,     -999.0,9,     -999.0,9,     -999.0,9,     -999.0,9,     -999.0,9,     -999.0,9, -999.00,9,-999.0000,9,-999.0000,9,-999.0000,9,-999.0000,9,-999.0000,9,-999.0000,9,-999.0000, -999.00
33RR20050106,       P16S,     110,          1,          9,          9,2,20050210,       2139,   -70.5002,  -150.0008,       4339,  2894.3,   0.3284,  34.7037,2,  34.7039,2,    212.2,2,   213.4,2,  132.67,2,   32.59,2,    0.00,2,    2.26,2,   0.174,2,   0.090,2,   0.015,2,  2263.0,2,  2359.4,2,-999.000,9,-999.0000,9, -999.00,9, -999.00,9,  -999.0,9,  -999.0,-999.000,9,-999.000,-999.0000,9,  2894.3,-999.000,   0.1466,     -999.0,9,     -999.0,9,     -999.0,9,     -999.0,9,     -999.0,9,     -999.0,9,     -999.0,9, -999.00,9,-999.0000,9,-999.0000,9,-999.0000,9,-999.0000,9,-999.0000,9,-999.0000,9,-999.0000, -999.00
33RR20050106,       P16S,     110,          1,          8,          8,2,20050210,       2139,   -70.5002,  -150.0008,       4339,  3149.7,   0.2749,  34.7028,2,  34.7052,4,    214.3,2,   215.3,2,  132.65,2,   32.64,2,    0.00,2,    2.26,2,   0.210,2,   0.102,2,   0.015,2,  2262.1,2,  2359.0,2,-999.000,9,-999.0000,9, -999.00,9, -999.00,9,  -999.0,9,  -999.0,-999.000,9,-999.000,-999.0000,9,  3149.7,-999.000,   0.0719,     -999.0,9,     -999.0,9,     -999.0,9,     -999.0,9,     -999.0,9,     -999.0,9,     -999.0,9, -999.00,9,-999.0000,9,-999.0000,9,-999.0000,9,-999.0000,9,-999.0000,9,-999.0000,9,-999.0000, -999.00
33RR20050106,       P16S,     110,          1,          7,          7,2,20050210,       2139,   -70.5002,  -150.0008,       4339,  3328.3,   0.2380,  34.7018,2,  34.7017,2,    216.0,2,   217.3,2,  130.96,2,   32.59,2,    0.00,2,    2.26,2,   0.430,2,   0.216,2,   0.033,2,  2261.9,2,  2357.9,2,-999.000,9,-999.0000,9, -999.00,9, -999.00,9,  -999.0,9,  -999.0,-999.000,9,-999.000,-999.0000,9,  3328.3,-999.000,   0.0197,     -999.0,9,     -999.0,9,     -999.0,9,     -999.0,9,     -999.0,9,     -999.0,9,     -999.0,9, -999.00,9,-999.0000,9,-999.0000,9,-999.0000,9,-999.0000,9,-999.0000,9,-999.0000,9,-999.0000, -999.00
33RR20050106,       P16S,     110,          1,          6,          6,2,20050210,       2139,   -70.5002,  -150.0008,       4339,  3507.3,   0.1946,  34.6999,2,  34.7002,2,    218.7,2,   219.6,2,  126.75,2,   32.49,2,    0.00,2,    2.25,2,   0.500,2,   0.257,2,   0.033,2,  2260.4,2,  2357.3,2,-999.000,9,-999.0000,9, -999.00,9, -999.00,9,  -999.0,9,  -999.0,-999.000,9,-999.000,-999.0000,9,  3507.3,-999.000,  -0.0392,     -999.0,9,     -999.0,9,     -999.0,9,     -999.0,9,     -999.0,9,     -999.0,9,     -999.0,9, -999.00,9,-999.0000,9,-999.0000,9,-999.0000,9,-999.0000,9,-999.0000,9,-999.0000,9,-999.0000, -999.00
33RR20050106,       P16S,     110,          1,          5,          5,2,20050210,       2139,   -70.5002,  -150.0008,       4339,  3711.8,   0.1693,  34.6986,2,  34.6990,2,    220.9,2,   221.3,2,  122.96,2,   32.43,2,    0.00,2,    2.24,2,   0.669,2,   0.324,2,   0.049,2,  2259.6,2,  2356.4,2,-999.000,9,-999.0000,9, -999.00,9, -999.00,9,  -999.0,9,  -999.0,-999.000,9,-999.000,-999.0000,9,  3711.8,-999.000,  -0.0834,     -999.0,9,     -999.0,9,     -999.0,9,     -999.0,9,     -999.0,9,     -999.0,9,     -999.0,9, -999.00,9,-999.0000,9,-999.0000,9,-999.0000,9,-999.0000,9,-999.0000,9,-999.0000,9,-999.0000, -999.00
33RR20050106,       P16S,     110,          1,          4,          4,2,20050210,       2139,   -70.5002,  -150.0008,       4339,  3916.6,   0.1688,  34.6985,2,  34.6989,2,    221.4,2,   222.2,2,  121.69,2,   32.43,2,    0.00,2,    2.25,2,   0.669,2,   0.342,2,   0.044,2,  2259.3,2,  2355.9,2,-999.000,9,-999.0000,9, -999.00,9, -999.00,9,  -999.0,9,  -999.0,-999.000,9,-999.000,-999.0000,9,  3916.6,-999.000,  -0.1040,     -999.0,9,     -999.0,9,     -999.0,9,     -999.0,9,     -999.0,9,     -999.0,9,     -999.0,9, -999.00,9,-999.0000,9,-999.0000,9,-999.0000,9,-999.0000,9,-999.0000,9,-999.0000,9,-999.0000, -999.00
33RR20050106,       P16S,     110,          1,          3,          3,2,20050210,       2139,   -70.5002,  -150.0008,       4339,  4121.6,   0.1780,  34.6990,2,  34.6987,2,    221.6,2,   223.0,2,  122.31,2,   32.43,2,    0.00,2,    2.25,2,   0.739,2,   0.375,2,   0.048,2,  2259.8,2,  2355.1,2,-999.000,9,-999.0000,9, -999.00,9, -999.00,9,  -999.0,9,  -999.0,-999.000,9,-999.000,-999.0000,9,  4121.6,-999.000,  -0.1158,     -999.0,9,     -999.0,9,     -999.0,9,     -999.0,9,     -999.0,9,     -999.0,9,     -999.0,9, -999.00,9,-999.0000,9,-999.0000,9,-999.0000,9,-999.0000,9,-999.0000,9,-999.0000,9,-999.0000, -999.00
33RR20050106,       P16S,     110,          1,          2,          2,2,20050210,       2139,   -70.5002,  -150.0008,       4339,  4275.4,   0.1883,  34.6994,2,  34.6993,2,    221.4,2,   222.2,2,  122.93,2,   32.42,2,    0.00,2,    2.25,2,   0.696,2,   0.358,2,   0.045,2,  2260.4,2,  2355.2,2,-999.000,9,-999.0000,9, -999.00,9, -999.00,9,  -999.0,9,  -999.0,-999.000,9,-999.000,-999.0000,9,  4275.4,-999.000,  -0.1218,     -999.0,9,     -999.0,9,     -999.0,9,     -999.0,9,     -999.0,9,     -999.0,9,     -999.0,9, -999.00,9,-999.0000,9,-999.0000,9,-999.0000,9,-999.0000,9,-999.0000,9,-999.0000,9,-999.0000, -999.00