BOTTLE,20201109CCHSIOCBG
EXPOCODE,SECT_ID,STNNBR,CASTNO,SAMPNO,BTLNBR,BTLNBR_FLAG_W,DATE,TIME,LATITUDE,LONGITUDE,DEPTH,CTDPRS,CTDTMP,CTDSAL,CTDSAL_FLAG_W,SALNTY,SALNTY_FLAG_W,CTDOXY,CTDOXY_FLAG_W,OXYGEN,OXYGEN_FLAG_W,SILCAT,SILCAT_FLAG_W,NITRAT,NITRAT_FLAG_W,NITRIT,NITRIT_FLAG_W,PHSPHT,PHSPHT_FLAG_W,CFC-11,CFC-11_FLAG_W,CFC-12,CFC-12_FLAG_W,CFC113,CFC113_FLAG_W,TCARBN,TCARBN_FLAG_W,ALKALI,ALKALI_FLAG_W,TRITUM,TRITUM_FLAG_W,HELIUM,HELIUM_FLAG_W,DELHE3,DELHE3_FLAG_W,DELC13,DELC13_FLAG_W,DELC14,DELC14_FLAG_W,C14ERR,NEON,NEON_FLAG_W,NEONER,DOC,DOC_FLAG_W,CTDRAW,TRITER,THETA,FUCO,FUCO_FLAG_W,RHAM,RHAM_FLAG_W,ARABA,ARABA_FLAG_W,GALA,GALA_FLAG_W,GLUC,GLUC_FLAG_W,MAN,MAN_FLAG_W,DCNS,DCNS_FLAG_W,BRDU,BRDU_FLAG_W,CDOM325,CDOM325_FLAG_W,CDOM340,CDOM340_FLAG_W,CDOM380,CDOM380_FLAG_W,CDOM412,CDOM412_FLAG_W,CDOMSL,CDOMSL_FLAG_W,CDOMSN,CDOMSN_FLAG_W,HELIER,DELHER
,,,,,,,,,,,METERS,DBAR,ITS-90,PSS-78,,PSS-78,,UMOL/KG,,UMOL/KG,,UMOL/KG,,UMOL/KG,,UMOL/KG,,UMOL/KG,,PMOL/KG,,PMOL/KG,,PMOL/KG,,UMOL/KG,,UMOL/KG,,TU,,NMOL/KG,,PERCNT,,/MILLE,,/MILLE,,/MILLE,NMOL/KG,,NMOL/KG,UMOL/KG,,DBAR,TU,DEG C,NMOL/KG,,NMOL/KG,,NMOL/KG,,NMOL/KG,,NMOL/KG,,NMOL/KG,,NMOL/KG,,PMOL/L/H,,1/M,,1/M,,1/M,,1/M,,1/NM,,1/NM,,NMOL/KG,PERCNT
33RR20050106,       P16S,      77,          2,         36,         36,2,20050201,       2056,   -54.0018,  -150.0002,       3667,     5.2,   5.2866,  33.8505,2,  33.8511,2,    308.0,2,   310.0,2,    1.19,2,   20.82,2,    0.19,2,    1.49,2,   5.186,2,   2.685,2,   0.438,2,  2110.8,2,  2272.6,6,-999.000,9,-999.0000,9, -999.00,9, -999.00,5,   -30.3,2,     3.6,-999.000,9,-999.000,  46.9736,2,     5.2,-999.000,   5.2862,         61,2,         55,2,         42,2,        131,2,        242,2,        130,2,        663,2,   66.89,3,   0.0610,2,   0.0360,2,   0.0140,2,   0.0100,2,   0.0360,2,   0.0369,2,-999.0000, -999.00
33RR20050106,       P16S,      77,          2,         35,         35,2,20050201,       2056,   -54.0018,  -150.0002,       3667,    36.8,   5.2347,  33.8501,2,  33.8520,2,    309.8,2,   309.8,2,    1.19,2,   20.87,2,    0.19,2,    1.50,2,   5.161,2,   2.683,2,   0.411,2,  2112.4,2,  2271.6,2,-999.000,9,-999.0000,9, -999.00,9, -999.00,9,  -999.0,9,  -999.0,-999.000,9,-999.000,  45.3919,2,    36.8,-999.000,   5.2319,         67,2,         56,2,         65,2,        142,2,        103,2,        162,2,        595,2,   89.48,3,   0.0640,2,   0.0370,2,   0.0160,2,   0.0120,2,   0.0351,2,   0.0362,2,-999.0000, -999.00
33RR20050106,       P16S,      77,          2,         34,         34,2,20050201,       2056,   -54.0018,  -150.0002,       3667,    72.5,   4.2756,  33.9125,2,  33.9137,2,    312.0,2,   312.8,2,    4.95,2,   22.16,2,    0.17,2,    1.63,2,   5.346,2,   2.754,2,   0.430,2,  2126.7,6,  2273.0,2,-999.000,9,-999.0000,9, -999.00,9, -999.00,5,   -29.5,2,     4.1,-999.000,9,-999.000,  45.0105,2,    72.5,-999.000,   4.2705,         59,2,         55,2,         47,2,        131,2,        133,2,        144,2,        569,2,  303.41,3,   0.0660,2,   0.0390,2,   0.0180,2,   0.0140,2,   0.0330,2,   0.0346,2,-999.0000, -999.00
33RR20050106,       P16S,      77,          2,         33,         33,2,20050201,       2056,   -54.0018,  -150.0002,       3667,    92.5,   3.8314,  33.9386,2,  33.9586,2,    310.4,2,   309.5,2,    7.33,2,   22.86,2,    0.21,2,    1.66,2,-999.000,9,-999.000,9,-999.000,9,  2135.1,2,  2271.3,2,-999.000,9,-999.0000,9, -999.00,9, -999.00,9,  -999.0,9,  -999.0,-999.000,9,-999.000,  42.9264,2,    92.5,-999.000,   3.8253,         45,2,         52,2,         47,2,        103,2,         49,2,        165,2,        462,2,  248.45,3,   0.0650,2,   0.0390,2,   0.0180,2,   0.0160,2,   0.0312,2,   0.0330,2,-999.0000, -999.00
33RR20050106,       P16S,      77,          2,         32,         32,2,20050201,       2056,   -54.0018,  -150.0002,       3667,   122.4,   3.7693,  33.9579,2,  33.9591,2,    308.0,2,   310.7,2,    8.12,2,   23.36,2,    0.50,2,    1.65,2,   5.289,2,   2.713,2,   0.425,2,  2134.0,2,  2271.7,2,-999.000,9,-999.0000,9, -999.00,9, -999.00,5,   -24.0,2,     2.7,-999.000,9,-999.000,  42.7016,2,   122.4,-999.000,   3.7612,     -999.0,9,     -999.0,9,     -999.0,9,     -999.0,9,     -999.0,9,     -999.0,9,     -999.0,9,  319.99,3,   0.0570,2,   0.0330,2,   0.0160,2,   0.0130,2,   0.0367,2,   0.0382,2,-999.0000, -999.00
33RR20050106,       P16S,      77,          2,         31,         31,2,20050201,       2056,   -54.0018,  -150.0002,       3667,   142.9,   3.7245,  33.9744,2,  33.9752,2,    305.8,2,   308.3,2,    8.52,2,   24.14,2,    0.09,2,    1.67,2,-999.000,9,-999.000,9,-999.000,9,  2135.9,2,  2272.8,2,-999.000,9,-999.0000,9, -999.00,9, -999.00,9,  -999.0,9,  -999.0,-999.000,9,-999.000,  41.5368,2,   142.9,-999.000,   3.7151,     -999.0,9,     -999.0,9,     -999.0,9,     -999.0,9,     -999.0,9,     -999.0,9,     -999.0,9,  223.19,3,   0.0570,2,   0.0330,2,   0.0160,2,   0.0140,2,   0.0391,2,   0.0404,2,-999.0000, -999.00
33RR20050106,       P16S,      77,          2,         30,         30,2,20050201,       2056,   -54.0018,  -150.0002,       3667,   173.8,   3.5155,  33.9679,2,  33.9691,2,    301.4,2,   309.6,2,    9.11,2,   24.57,2,    0.02,2,    1.69,2,   5.355,2,   2.711,2,   0.433,2,  2137.6,2,  2272.1,2,-999.000,9,-999.0000,9, -999.00,9, -999.00,5,   -35.7,2,     3.1,-999.000,9,-999.000,  43.6329,2,   173.8,-999.000,   3.5043,         37,2,         41,2,         58,2,         87,2,        189,2,         90,2,        502,2,  160.62,3,   0.0630,2,   0.0370,2,   0.0160,2,   0.0140,2,   0.0349,2,   0.0361,2,-999.0000, -999.00
33RR20050106,       P16S,      77,          2,         29,         29,2,20050201,       2056,   -54.0018,  -150.0002,       3667,   224.4,   3.2453,  33.9804,2,  33.9787,2,    289.4,2,   300.4,2,   11.89,2,   25.96,2,    0.02,2,    1.79,2,-999.000,9,-999.000,9,-999.000,9,  2146.7,2,  2273.7,2,-999.000,9,-999.0000,9, -999.00,9, -999.00,5,   -34.6,2,     3.1,-999.000,9,-999.000,  41.2619,2,   224.4,-999.000,   3.2312,     -999.0,9,     -999.0,9,     -999.0,9,     -999.0,9,     -999.0,9,     -999.0,9,     -999.0,9,   68.49,3,   0.0620,2,   0.0350,2,   0.0180,2,   0.0160,2,   0.0364,2,   0.0381,2,-999.0000, -999.00
33RR20050106,       P16S,      77,          2,         28,         28,2,20050201,       2056,   -54.0018,  -150.0002,       3667,   279.8,   3.8516,  34.1288,2,  34.1242,2,    267.8,2,   260.3,2,   18.64,2,   27.72,2,    0.01,2,    1.91,2,-999.000,5,-999.000,5,-999.000,5,  2166.8,2,  2281.1,2,-999.000,9,-999.0000,9, -999.00,9, -999.00,5,   -40.0,2,     3.0,-999.000,9,-999.000,  39.6802,2,   279.8,-999.000,   3.8325,     -999.0,9,     -999.0,9,     -999.0,9,     -999.0,9,     -999.0,9,     -999.0,9,     -999.0,9, -999.00,9,   0.0770,2,   0.0480,2,   0.0220,2,   0.0180,2,   0.0275,2,   0.0292,2,-999.0000, -999.00
33RR20050106,       P16S,      77,          2,         27,         27,2,20050201,       2056,   -54.0018,  -150.0002,       3667,   328.5,   3.6780,  34.1556,2,  34.1574,2,    251.0,2,   252.0,2,   22.22,2,   28.79,2,    0.00,2,    1.98,2,-999.000,9,-999.000,9,-999.000,9,  2174.5,2,  2283.4,2,-999.000,9,-999.0000,9, -999.00,9, -999.00,5,   -44.3,2,     2.9,-999.000,9,-999.000,  41.9217,2,   328.5,-999.000,   3.6559,     -999.0,9,     -999.0,9,     -999.0,9,     -999.0,9,     -999.0,9,     -999.0,9,     -999.0,9, -999.00,9,   0.0770,2,   0.0470,2,   0.0230,2,   0.0190,2,   0.0280,2,   0.0302,2,-999.0000, -999.00
33RR20050106,       P16S,      77,          2,         26,         26,2,20050201,       2056,   -54.0018,  -150.0002,       3667,   379.6,   3.6310,  34.2078,2,  34.2073,2,    237.8,2,   236.8,2,   27.60,2,   30.12,2,    0.00,2,    2.07,2,   3.547,2,   1.743,2,   0.246,2,  2185.9,2,  2288.4,2,-999.000,9,-999.0000,9, -999.00,9, -999.00,5,   -59.5,2,     3.1,-999.000,9,-999.000,-999.0000,9,   379.6,-999.000,   3.6054,     -999.0,9,     -999.0,9,     -999.0,9,     -999.0,9,     -999.0,9,     -999.0,9,     -999.0,9, -999.00,9,-999.0000,9,-999.0000,9,-999.0000,9,-999.0000,9,-999.0000,9,-999.0000,9,-999.0000, -999.00
33RR20050106,       P16S,      77,          2,         25,         25,2,20050201,       2056,   -54.0018,  -150.0002,       3667,   429.0,   3.5515,  34.2479,2,  34.2487,2,    227.5,2,   225.7,2,   31.79,2,   30.98,2,    0.00,2,    2.12,2,-999.000,9,-999.000,9,-999.000,9,  2192.4,2,  2291.3,2,-999.000,9,-999.0000,9, -999.00,9, -999.00,5,   -68.5,2,     2.8,-999.000,9,-999.000,  39.6211,2,   429.0,-999.000,   3.5226,     -999.0,9,     -999.0,9,     -999.0,9,     -999.0,9,     -999.0,9,     -999.0,9,     -999.0,9, -999.00,9,   0.0820,2,   0.0510,2,   0.0270,2,   0.0230,2,   0.0230,2,   0.0257,2,-999.0000, -999.00
33RR20050106,       P16S,      77,          2,         24,         24,2,20050201,       2056,   -54.0018,  -150.0002,       3667,   479.1,   3.4035,  34.2766,2,  34.2765,2,    217.4,2,   218.3,2,   35.99,2,   31.57,2,    0.00,2,    2.17,2,   2.594,2,   1.283,2,   0.183,2,  2201.6,2,  2296.1,2,-999.000,9,-999.0000,9, -999.00,9, -999.00,5,   -83.5,2,     3.0,-999.000,9,-999.000,-999.0000,9,   479.1,-999.000,   3.3716,     -999.0,9,     -999.0,9,     -999.0,9,     -999.0,9,     -999.0,9,     -999.0,9,     -999.0,9, -999.00,9,-999.0000,9,-999.0000,9,-999.0000,9,-999.0000,9,-999.0000,9,-999.0000,9,-999.0000, -999.00
33RR20050106,       P16S,      77,          2,         23,         23,2,20050201,       2056,   -54.0018,  -150.0002,       3667,   529.4,   3.1985,  34.3009,2,  34.3014,2,    211.8,2,   210.7,2,   40.79,2,   32.37,2,    0.00,2,    2.23,2,-999.000,9,-999.000,9,-999.000,9,  2209.1,2,  2301.3,2,-999.000,9,-999.0000,9, -999.00,9, -999.00,5,   -89.8,2,     2.5,-999.000,9,-999.000,  39.3018,2,   529.4,-999.000,   3.1639,     -999.0,9,     -999.0,9,     -999.0,9,     -999.0,9,     -999.0,9,     -999.0,9,     -999.0,9, -999.00,9,   0.0910,2,   0.0590,2,   0.0320,2,   0.0260,2,   0.0187,2,   0.0215,2,-999.0000, -999.00
33RR20050106,       P16S,      77,          2,         22,         22,2,20050201,       2056,   -54.0018,  -150.0002,       3667,   649.1,   2.9209,  34.3655,2,  34.3648,2,    195.1,2,   194.9,2,   50.42,2,   33.60,2,    0.00,2,    2.31,2,   1.671,2,   0.802,2,   0.104,2,  2225.2,2,  2309.2,2,-999.000,9,-999.0000,9, -999.00,9, -999.00,5,  -109.3,2,     3.0,-999.000,9,-999.000,  39.4260,2,   649.1,-999.000,   2.8792,     -999.0,9,     -999.0,9,     -999.0,9,     -999.0,9,     -999.0,9,     -999.0,9,     -999.0,9, -999.00,9,   0.0970,2,   0.0630,2,   0.0340,2,   0.0280,2,   0.0166,2,   0.0197,2,-999.0000, -999.00
33RR20050106,       P16S,      77,          2,         21,         21,2,20050201,       2056,   -54.0018,  -150.0002,       3667,   750.4,   2.7560,  34.4223,2,  34.4217,2,    184.0,2,   184.8,2,   57.66,2,   34.23,2,    0.00,2,    2.36,2,   1.236,2,   0.613,2,   0.081,2,  2235.9,2,  2317.7,2,-999.000,9,-999.0000,9, -999.00,9, -999.00,5,  -122.1,2,     3.2,-999.000,9,-999.000,  39.6949,2,   750.4,-999.000,   2.7081,     -999.0,9,     -999.0,9,     -999.0,9,     -999.0,9,     -999.0,9,     -999.0,9,     -999.0,9, -999.00,9,   0.1040,2,   0.0690,2,   0.0370,2,   0.0290,2,   0.0158,2,   0.0189,2,-999.0000, -999.00
33RR20050106,       P16S,      77,          2,         20,         20,2,20050201,       2056,   -54.0018,  -150.0002,       3667,   851.1,   2.6313,  34.4737,2,  34.4739,2,    177.8,2,   178.7,2,   63.30,2,   34.40,2,    0.00,2,    2.37,2,   0.940,2,   0.443,2,   0.052,2,  2243.9,2,  2322.1,2,-999.000,9,-999.0000,9, -999.00,9, -999.00,5,  -126.6,2,     3.1,-999.000,9,-999.000,  39.8280,2,   851.1,-999.000,   2.5770,     -999.0,9,     -999.0,9,     -999.0,9,     -999.0,9,     -999.0,9,     -999.0,9,     -999.0,9, -999.00,9,   0.1070,2,   0.0710,2,   0.0380,2,   0.0300,2,   0.0151,3,   0.0182,3,-999.0000, -999.00
33RR20050106,       P16S,      77,          2,         19,         19,2,20050201,       2056,   -54.0018,  -150.0002,       3667,   951.9,   2.5641,  34.5175,2,  34.5177,2,    175.2,2,   175.9,2,   67.33,2,   34.23,2,    0.00,2,    2.37,2,   0.703,2,   0.329,2,   0.038,2,  2248.4,2,  2326.9,2,-999.000,9,-999.0000,9, -999.00,9, -999.00,5,  -137.1,2,     3.1,-999.000,9,-999.000,  39.8548,2,   951.9,-999.000,   2.5031,     -999.0,9,     -999.0,9,     -999.0,9,     -999.0,9,     -999.0,9,     -999.0,9,     -999.0,9, -999.00,9,   0.1090,2,   0.0720,2,   0.0400,2,   0.0310,2,   0.0141,3,   0.0172,3,-999.0000, -999.00
33RR20050106,       P16S,      77,          2,         18,         18,2,20050201,       2056,   -54.0018,  -150.0002,       3667,  1053.2,   2.4627,  34.5621,2,  34.5626,2,    173.6,2,   174.0,2,   71.16,2,   34.02,2,    0.00,2,    2.34,2,-999.000,9,-999.000,9,-999.000,9,  2251.3,2,  2331.0,6,-999.000,9,-999.0000,9, -999.00,9, -999.00,5,  -143.5,2,     2.8,-999.000,9,-999.000,-999.0000,9,  1053.2,-999.000,   2.3951,     -999.0,9,     -999.0,9,     -999.0,9,     -999.0,9,     -999.0,9,     -999.0,9,     -999.0,9, -999.00,9,-999.0000,9,-999.0000,9,-999.0000,9,-999.0000,9,-999.0000,9,-999.0000,9,-999.0000, -999.00
33RR20050106,       P16S,      77,          2,         17,         17,2,20050201,       2056,   -54.0018,  -150.0002,       3667,  1155.0,   2.3778,  34.6107,2,  34.6113,2,    173.3,2,   174.0,2,   74.40,2,   33.63,2,    0.00,2,    2.31,2,   0.442,6,   0.208,6,   0.026,6,  2251.8,6,  2334.5,2,-999.000,9,-999.0000,9, -999.00,9, -999.00,5,  -140.0,2,     2.9,-999.000,9,-999.000,  40.3371,2,  1155.0,-999.000,   2.3034,     -999.0,9,     -999.0,9,     -999.0,9,     -999.0,9,     -999.0,9,     -999.0,9,     -999.0,9, -999.00,9,   0.1170,2,   0.0790,2,   0.0430,2,   0.0330,2,   0.0139,3,   0.0168,3,-999.0000, -999.00
33RR20050106,       P16S,      77,          2,         16,         16,3,20050201,       2056,   -54.0018,  -150.0002,       3667,  1255.9,   2.3260,  34.6447,2,  34.6734,4,    175.4,2,   190.6,4,   85.53,4,   32.40,4,    0.00,4,    2.23,4,-999.000,9,-999.000,9,-999.000,9,  2257.1,4,  2347.6,4,-999.000,9,-999.0000,9, -999.00,9, -999.00,5,  -155.2,4,     2.8,-999.000,9,-999.000,-999.0000,9,  1255.9,-999.000,   2.2445,     -999.0,9,     -999.0,9,     -999.0,9,     -999.0,9,     -999.0,9,     -999.0,9,     -999.0,9, -999.00,9,-999.0000,9,-999.0000,9,-999.0000,9,-999.0000,9,-999.0000,9,-999.0000,9,-999.0000, -999.00
33RR20050106,       P16S,      77,          2,         15,         15,2,20050201,       2056,   -54.0018,  -150.0002,       3667,  1357.6,   2.2776,  34.6687,2,  34.6685,2,    177.2,2,   178.1,2,   79.25,2,   32.51,2,    0.00,2,    2.24,2,   0.255,2,   0.118,2,   0.017,2,  2253.5,2,  2341.8,2,-999.000,9,-999.0000,9, -999.00,9, -999.00,5,  -143.8,2,     2.7,-999.000,9,-999.000,  40.3182,2,  1357.6,-999.000,   2.1888,     -999.0,9,     -999.0,9,     -999.0,9,     -999.0,9,     -999.0,9,     -999.0,9,     -999.0,9, -999.00,9,   0.1140,2,   0.0760,2,   0.0410,2,   0.0320,2,   0.0143,3,   0.0174,3,-999.0000, -999.00
33RR20050106,       P16S,      77,          2,         14,         14,2,20050201,       2056,   -54.0018,  -150.0002,       3667,  1458.6,   2.2179,  34.6894,2,  34.6893,2,    179.9,2,   181.0,2,   80.66,2,   32.13,2,    0.00,2,    2.21,2,-999.000,9,-999.000,9,-999.000,9,  2254.1,2,  2343.4,2,-999.000,9,-999.0000,9, -999.00,9, -999.00,5,  -156.5,2,     3.3,-999.000,9,-999.000,-999.0000,9,  1458.6,-999.000,   2.1220,     -999.0,9,     -999.0,9,     -999.0,9,     -999.0,9,     -999.0,9,     -999.0,9,     -999.0,9, -999.00,9,-999.0000,9,-999.0000,9,-999.0000,9,-999.0000,9,-999.0000,9,-999.0000,9,-999.0000, -999.00
33RR20050106,       P16S,      77,          2,         13,         13,2,20050201,       2056,   -54.0018,  -150.0002,       3667,  1560.1,   2.1441,  34.7076,2,  34.7070,2,    182.5,2,   183.0,2,   82.49,2,   31.74,2,    0.00,2,    2.19,2,   0.173,2,   0.084,2,   0.012,2,  2252.9,2,  2345.9,2,-999.000,9,-999.0000,9, -999.00,9, -999.00,5,  -142.0,2,     2.7,-999.000,9,-999.000,  41.1297,2,  1560.1,-999.000,   2.0411,     -999.0,9,     -999.0,9,     -999.0,9,     -999.0,9,     -999.0,9,     -999.0,9,     -999.0,9, -999.00,9,   0.1200,2,   0.0810,2,   0.0430,2,   0.0330,2,   0.0145,3,   0.0174,3,-999.0000, -999.00
33RR20050106,       P16S,      77,          2,         12,         12,2,20050201,       2056,   -54.0018,  -150.0002,       3667,  1661.5,   2.0786,  34.7186,2,  34.7187,2,    184.8,2,   185.4,2,   84.31,2,   31.53,2,    0.00,2,    2.17,2,-999.000,9,-999.000,9,-999.000,9,  2253.0,2,  2346.7,2,-999.000,9,-999.0000,9, -999.00,9, -999.00,5,  -137.4,2,     2.7,-999.000,9,-999.000,-999.0000,9,  1661.5,-999.000,   1.9684,     -999.0,9,     -999.0,9,     -999.0,9,     -999.0,9,     -999.0,9,     -999.0,9,     -999.0,9, -999.00,9,-999.0000,9,-999.0000,9,-999.0000,9,-999.0000,9,-999.0000,9,-999.0000,9,-999.0000, -999.00
33RR20050106,       P16S,      77,          2,         11,         11,2,20050201,       2056,   -54.0018,  -150.0002,       3667,  1762.4,   2.0193,  34.7275,2,  34.7268,2,    186.8,2,   187.6,2,   85.73,2,   31.31,2,    0.00,2,    2.15,2,   0.153,2,   0.073,2,   0.010,2,  2252.1,2,  2347.5,2,-999.000,9,-999.0000,9, -999.00,9, -999.00,5,  -140.0,2,     3.0,-999.000,9,-999.000,-999.0000,9,  1762.4,-999.000,   1.9018,     -999.0,9,     -999.0,9,     -999.0,9,     -999.0,9,     -999.0,9,     -999.0,9,     -999.0,9, -999.00,9,-999.0000,9,-999.0000,9,-999.0000,9,-999.0000,9,-999.0000,9,-999.0000,9,-999.0000, -999.00
33RR20050106,       P16S,      77,          2,         10,         10,2,20050201,       2056,   -54.0018,  -150.0002,       3667,  1864.7,   1.9389,  34.7334,2,  34.7338,2,    189.1,2,   189.7,2,   88.57,2,   31.21,2,    0.00,2,    2.14,2,-999.000,9,-999.000,9,-999.000,9,  2251.7,2,  2348.1,2,-999.000,9,-999.0000,9, -999.00,9, -999.00,5,  -148.5,2,     2.9,-999.000,9,-999.000,  39.3576,2,  1864.7,-999.000,   1.8142,     -999.0,9,     -999.0,9,     -999.0,9,     -999.0,9,     -999.0,9,     -999.0,9,     -999.0,9, -999.00,9,   0.1150,2,   0.0780,2,   0.0410,2,   0.0310,2,   0.0147,2,   0.0175,3,-999.0000, -999.00
33RR20050106,       P16S,      77,          2,          9,          9,2,20050201,       2056,   -54.0018,  -150.0002,       3667,  1965.9,   1.8777,  34.7364,2,  34.7364,2,    190.6,2,   191.2,2,   89.78,2,   31.16,2,    0.00,2,    2.14,2,   0.170,2,   0.086,2,   0.013,2,  2250.3,2,  2349.4,2,-999.000,9,-999.0000,9, -999.00,9, -999.00,5,  -146.3,2,     2.9,-999.000,9,-999.000,-999.0000,9,  1965.9,-999.000,   1.7456,     -999.0,9,     -999.0,9,     -999.0,9,     -999.0,9,     -999.0,9,     -999.0,9,     -999.0,9, -999.00,9,-999.0000,9,-999.0000,9,-999.0000,9,-999.0000,9,-999.0000,9,-999.0000,9,-999.0000, -999.00
33RR20050106,       P16S,      77,          2,          8,          8,2,20050201,       2056,   -54.0018,  -150.0002,       3667,  2128.3,   1.7357,  34.7389,2,  34.7387,2,    193.7,2,   194.1,2,   94.64,2,   31.04,2,    0.00,2,    2.14,2,   0.092,2,   0.040,2,   0.010,2,  2252.8,2,  2352.1,2,-999.000,9,-999.0000,9, -999.00,9, -999.00,5,  -148.7,2,     2.5,-999.000,9,-999.000,  39.2644,2,  2128.3,-999.000,   1.5922,     -999.0,9,     -999.0,9,     -999.0,9,     -999.0,9,     -999.0,9,     -999.0,9,     -999.0,9, -999.00,9,   0.1160,2,   0.0790,2,   0.0420,2,   0.0320,2,   0.0146,2,   0.0174,3,-999.0000, -999.00
33RR20050106,       P16S,      77,          2,          7,          7,2,20050201,       2056,   -54.0018,  -150.0002,       3667,  2381.5,   1.5590,  34.7363,2,  34.7371,2,    196.5,2,   197.0,2,   99.52,2,   31.21,2,    0.00,2,    2.15,2,   0.079,2,   0.035,2,   0.005,2,  2257.2,2,  2354.9,2,-999.000,9,-999.0000,9, -999.00,9, -999.00,5,  -160.2,2,     2.6,-999.000,9,-999.000,-999.0000,9,  2381.5,-999.000,   1.3969,     -999.0,9,     -999.0,9,     -999.0,9,     -999.0,9,     -999.0,9,     -999.0,9,     -999.0,9, -999.00,9,-999.0000,9,-999.0000,9,-999.0000,9,-999.0000,9,-999.0000,9,-999.0000,9,-999.0000, -999.00