BOTTLE,20201109CCHSIOCBG
EXPOCODE,SECT_ID,STNNBR,CASTNO,SAMPNO,BTLNBR,BTLNBR_FLAG_W,DATE,TIME,LATITUDE,LONGITUDE,DEPTH,CTDPRS,CTDTMP,CTDSAL,CTDSAL_FLAG_W,SALNTY,SALNTY_FLAG_W,CTDOXY,CTDOXY_FLAG_W,OXYGEN,OXYGEN_FLAG_W,SILCAT,SILCAT_FLAG_W,NITRAT,NITRAT_FLAG_W,NITRIT,NITRIT_FLAG_W,PHSPHT,PHSPHT_FLAG_W,CFC-11,CFC-11_FLAG_W,CFC-12,CFC-12_FLAG_W,CFC113,CFC113_FLAG_W,TCARBN,TCARBN_FLAG_W,ALKALI,ALKALI_FLAG_W,TRITUM,TRITUM_FLAG_W,HELIUM,HELIUM_FLAG_W,DELHE3,DELHE3_FLAG_W,DELC13,DELC13_FLAG_W,DELC14,DELC14_FLAG_W,C14ERR,NEON,NEON_FLAG_W,NEONER,DOC,DOC_FLAG_W,CTDRAW,TRITER,THETA,FUCO,FUCO_FLAG_W,RHAM,RHAM_FLAG_W,ARABA,ARABA_FLAG_W,GALA,GALA_FLAG_W,GLUC,GLUC_FLAG_W,MAN,MAN_FLAG_W,DCNS,DCNS_FLAG_W,BRDU,BRDU_FLAG_W,CDOM325,CDOM325_FLAG_W,CDOM340,CDOM340_FLAG_W,CDOM380,CDOM380_FLAG_W,CDOM412,CDOM412_FLAG_W,CDOMSL,CDOMSL_FLAG_W,CDOMSN,CDOMSN_FLAG_W,HELIER,DELHER
,,,,,,,,,,,METERS,DBAR,ITS-90,PSS-78,,PSS-78,,UMOL/KG,,UMOL/KG,,UMOL/KG,,UMOL/KG,,UMOL/KG,,UMOL/KG,,PMOL/KG,,PMOL/KG,,PMOL/KG,,UMOL/KG,,UMOL/KG,,TU,,NMOL/KG,,PERCNT,,/MILLE,,/MILLE,,/MILLE,NMOL/KG,,NMOL/KG,UMOL/KG,,DBAR,TU,DEG C,NMOL/KG,,NMOL/KG,,NMOL/KG,,NMOL/KG,,NMOL/KG,,NMOL/KG,,NMOL/KG,,PMOL/L/H,,1/M,,1/M,,1/M,,1/M,,1/NM,,1/NM,,NMOL/KG,PERCNT
33RR20050106,       P16S,       4,          1,         36,         36,2,20050111,       0746,   -17.4998,  -150.2452,       2499,     2.4,  28.7084,  36.0069,2,  36.0160,2,    270.3,4,   195.8,2,    0.85,2,    0.10,2,    0.00,2,    0.18,2,-999.000,9,-999.000,9,-999.000,9,  2006.5,2,  2361.3,2,-999.000,9,-999.0000,9, -999.00,9, -999.00,9,  -999.0,9,  -999.0,-999.000,9,-999.000,-999.0000,9,     2.4,-999.000,  28.7078,     -999.0,9,     -999.0,9,     -999.0,9,     -999.0,9,     -999.0,9,     -999.0,9,     -999.0,9, -999.00,9,-999.0000,9,-999.0000,9,-999.0000,9,-999.0000,9,-999.0000,9,-999.0000,9,-999.0000, -999.00
33RR20050106,       P16S,       4,          1,         35,         35,2,20050111,       0746,   -17.4998,  -150.2452,       2499,    19.2,  28.5641,  36.0283,2,  36.0249,2,    269.4,4,   196.5,2,    0.64,2,    0.10,2,    0.00,2,    0.17,2,   1.547,2,   0.993,2,   0.107,2,  -999.0,9,  -999.0,9,-999.000,9,-999.0000,9, -999.00,9, -999.00,9,  -999.0,9,  -999.0,-999.000,9,-999.000,-999.0000,9,    19.2,-999.000,  28.5595,     -999.0,9,     -999.0,9,     -999.0,9,     -999.0,9,     -999.0,9,     -999.0,9,     -999.0,9, -999.00,9,-999.0000,9,-999.0000,9,-999.0000,9,-999.0000,9,-999.0000,9,-999.0000,9,-999.0000, -999.00
33RR20050106,       P16S,       4,          1,         34,         34,2,20050111,       0746,   -17.4998,  -150.2452,       2499,    34.3,  28.4643,  36.0448,2,  36.0488,2,    268.1,4,   202.6,2,    0.64,2,    0.09,2,    0.00,2,    0.17,2,-999.000,9,-999.000,9,-999.000,9,  -999.0,9,  -999.0,9,-999.000,9,-999.0000,9, -999.00,9, -999.00,9,  -999.0,9,  -999.0,-999.000,9,-999.000,-999.0000,9,    34.3,-999.000,  28.4561,     -999.0,9,     -999.0,9,     -999.0,9,     -999.0,9,     -999.0,9,     -999.0,9,     -999.0,9, -999.00,9,-999.0000,9,-999.0000,9,-999.0000,9,-999.0000,9,-999.0000,9,-999.0000,9,-999.0000, -999.00
33RR20050106,       P16S,       4,          1,         33,         33,2,20050111,       0746,   -17.4998,  -150.2452,       2499,    54.1,  27.0327,  36.1990,2,  36.1922,2,    261.8,4,   206.6,2,    0.64,2,    0.09,2,    0.00,2,    0.17,2,   1.676,2,   1.129,2,   0.132,2,  2017.7,2,  2377.7,2,-999.000,9,-999.0000,9, -999.00,9, -999.00,9,  -999.0,9,  -999.0,-999.000,9,-999.000,-999.0000,9,    54.1,-999.000,  27.0202,     -999.0,9,     -999.0,9,     -999.0,9,     -999.0,9,     -999.0,9,     -999.0,9,     -999.0,9, -999.00,9,-999.0000,9,-999.0000,9,-999.0000,9,-999.0000,9,-999.0000,9,-999.0000,9,-999.0000, -999.00
33RR20050106,       P16S,       4,          1,         32,         32,2,20050111,       0746,   -17.4998,  -150.2452,       2499,    78.8,  26.3249,  36.1819,2,  36.1796,2,    249.9,4,   205.1,2,    0.64,2,    0.09,2,    0.00,2,    0.17,2,-999.000,9,-999.000,9,-999.000,9,  -999.0,9,  -999.0,9,-999.000,9,-999.0000,9, -999.00,9, -999.00,9,  -999.0,9,  -999.0,-999.000,9,-999.000,-999.0000,9,    78.8,-999.000,  26.3071,     -999.0,9,     -999.0,9,     -999.0,9,     -999.0,9,     -999.0,9,     -999.0,9,     -999.0,9, -999.00,9,-999.0000,9,-999.0000,9,-999.0000,9,-999.0000,9,-999.0000,9,-999.0000,9,-999.0000, -999.00
33RR20050106,       P16S,       4,          1,         31,         31,2,20050111,       0746,   -17.4998,  -150.2452,       2499,   104.0,  25.6515,  36.1354,2,  36.1409,2,    243.9,4,   201.9,2,    0.64,2,    0.09,2,    0.00,2,    0.19,2,   1.731,2,   1.084,2,   0.118,2,  2024.2,2,  2374.3,2,-999.000,9,-999.0000,9, -999.00,9, -999.00,9,  -999.0,9,  -999.0,-999.000,9,-999.000,-999.0000,9,   104.0,-999.000,  25.6284,     -999.0,9,     -999.0,9,     -999.0,9,     -999.0,9,     -999.0,9,     -999.0,9,     -999.0,9, -999.00,9,-999.0000,9,-999.0000,9,-999.0000,9,-999.0000,9,-999.0000,9,-999.0000,9,-999.0000, -999.00
33RR20050106,       P16S,       4,          1,         30,         30,2,20050111,       0746,   -17.4998,  -150.2452,       2499,   129.0,  24.8251,  36.0556,2,  36.0510,2,    253.3,4,   200.8,2,    0.64,2,    0.09,2,    0.00,2,    0.18,2,-999.000,9,-999.000,9,-999.000,9,  -999.0,9,  -999.0,9,-999.000,9,-999.0000,9, -999.00,9, -999.00,9,  -999.0,9,  -999.0,-999.000,9,-999.000,-999.0000,9,   129.0,-999.000,  24.7971,     -999.0,9,     -999.0,9,     -999.0,9,     -999.0,9,     -999.0,9,     -999.0,9,     -999.0,9, -999.00,9,-999.0000,9,-999.0000,9,-999.0000,9,-999.0000,9,-999.0000,9,-999.0000,9,-999.0000, -999.00
33RR20050106,       P16S,       4,          1,         29,         29,2,20050111,       0746,   -17.4998,  -150.2452,       2499,   153.8,  24.0163,  35.9765,2,  35.9725,2,    249.2,4,   191.5,2,    0.64,2,    0.33,2,    0.06,2,    0.22,2,   1.856,2,   1.276,2,   0.176,2,  -999.0,9,  -999.0,9,-999.000,9,-999.0000,9, -999.00,9, -999.00,9,  -999.0,9,  -999.0,-999.000,9,-999.000,-999.0000,9,   153.8,-999.000,  23.9838,     -999.0,9,     -999.0,9,     -999.0,9,     -999.0,9,     -999.0,9,     -999.0,9,     -999.0,9, -999.00,9,-999.0000,9,-999.0000,9,-999.0000,9,-999.0000,9,-999.0000,9,-999.0000,9,-999.0000, -999.00
33RR20050106,       P16S,       4,          1,         28,         28,2,20050111,       0746,   -17.4998,  -150.2452,       2499,   179.0,  22.9422,  35.8901,2,  35.8882,2,    226.8,4,   182.2,2,    0.64,2,    1.29,2,    0.08,2,    0.28,2,-999.000,9,-999.000,9,-999.000,9,  -999.0,9,  -999.0,9,-999.000,9,-999.0000,9, -999.00,9, -999.00,9,  -999.0,9,  -999.0,-999.000,9,-999.000,-999.0000,9,   179.0,-999.000,  22.9055,     -999.0,9,     -999.0,9,     -999.0,9,     -999.0,9,     -999.0,9,     -999.0,9,     -999.0,9, -999.00,9,-999.0000,9,-999.0000,9,-999.0000,9,-999.0000,9,-999.0000,9,-999.0000,9,-999.0000, -999.00
33RR20050106,       P16S,       4,          1,         27,         27,2,20050111,       0746,   -17.4998,  -150.2452,       2499,   203.7,  21.9173,  35.9819,2,  35.9825,2,    211.9,4,   169.7,2,    0.85,2,    3.52,2,    0.01,2,    0.45,2,   2.070,2,   1.308,2,   0.111,2,  2087.8,2,  2363.0,2,-999.000,9,-999.0000,9, -999.00,9, -999.00,9,  -999.0,9,  -999.0,-999.000,9,-999.000,-999.0000,9,   203.7,-999.000,  21.8769,     -999.0,9,     -999.0,9,     -999.0,9,     -999.0,9,     -999.0,9,     -999.0,9,     -999.0,9, -999.00,9,-999.0000,9,-999.0000,9,-999.0000,9,-999.0000,9,-999.0000,9,-999.0000,9,-999.0000, -999.00
33RR20050106,       P16S,       4,          1,         26,         26,2,20050111,       0746,   -17.4998,  -150.2452,       2499,   253.7,  19.2418,  35.6282,2,  35.6303,2,    198.0,4,   174.1,2,    1.27,2,    4.82,2,    0.00,2,    0.51,2,-999.000,9,-999.000,9,-999.000,9,  -999.0,9,  -999.0,9,-999.000,9,-999.0000,9, -999.00,9, -999.00,9,  -999.0,9,  -999.0,-999.000,9,-999.000,-999.0000,9,   253.7,-999.000,  19.1959,     -999.0,9,     -999.0,9,     -999.0,9,     -999.0,9,     -999.0,9,     -999.0,9,     -999.0,9, -999.00,9,-999.0000,9,-999.0000,9,-999.0000,9,-999.0000,9,-999.0000,9,-999.0000,9,-999.0000, -999.00
33RR20050106,       P16S,       4,          1,         25,         25,2,20050111,       0746,   -17.4998,  -150.2452,       2499,   303.5,  17.5974,  35.4222,2,  35.4267,2,    189.2,4,   178.4,2,    1.68,2,    5.86,2,    0.00,2,    0.57,2,   2.304,2,   1.331,2,   0.010,2,  2091.8,2,  2324.0,2,-999.000,9,-999.0000,9, -999.00,9, -999.00,9,  -999.0,9,  -999.0,-999.000,9,-999.000,-999.0000,9,   303.5,-999.000,  17.5458,     -999.0,9,     -999.0,9,     -999.0,9,     -999.0,9,     -999.0,9,     -999.0,9,     -999.0,9, -999.00,9,-999.0000,9,-999.0000,9,-999.0000,9,-999.0000,9,-999.0000,9,-999.0000,9,-999.0000, -999.00
33RR20050106,       P16S,       4,          1,         24,         24,2,20050111,       0746,   -17.4998,  -150.2452,       2499,   353.8,  15.0664,  35.1139,2,  35.1150,2,    176.4,3,   175.8,2,    3.16,2,    9.39,2,    0.00,2,    0.81,2,-999.000,9,-999.000,9,-999.000,9,  -999.0,9,  -999.0,9,-999.000,9,-999.0000,9, -999.00,9, -999.00,9,  -999.0,9,  -999.0,-999.000,9,-999.000,-999.0000,9,   353.8,-999.000,  15.0123,     -999.0,9,     -999.0,9,     -999.0,9,     -999.0,9,     -999.0,9,     -999.0,9,     -999.0,9, -999.00,9,-999.0000,9,-999.0000,9,-999.0000,9,-999.0000,9,-999.0000,9,-999.0000,9,-999.0000, -999.00
33RR20050106,       P16S,       4,          1,         23,         23,2,20050111,       0746,   -17.4998,  -150.2452,       2499,   403.9,  11.7689,  34.7550,2,  34.7559,2,    164.8,3,   168.6,2,    6.30,2,   16.02,2,    0.00,2,    1.25,2,   1.891,2,   0.995,2,   0.006,2,  2134.6,2,  2289.5,2,-999.000,9,-999.0000,9, -999.00,9, -999.00,9,  -999.0,9,  -999.0,-999.000,9,-999.000,-999.0000,9,   403.9,-999.000,  11.7165,     -999.0,9,     -999.0,9,     -999.0,9,     -999.0,9,     -999.0,9,     -999.0,9,     -999.0,9, -999.00,9,-999.0000,9,-999.0000,9,-999.0000,9,-999.0000,9,-999.0000,9,-999.0000,9,-999.0000, -999.00
33RR20050106,       P16S,       4,          1,         22,         22,2,20050111,       0746,   -17.4998,  -150.2452,       2499,   453.4,   9.1932,  34.5463,2,  34.5408,2,    147.1,3,   147.6,2,   13.67,2,   24.27,2,    0.00,2,    1.82,2,-999.000,9,-999.000,9,-999.000,9,  -999.0,9,  -999.0,9,-999.000,9,-999.0000,9, -999.00,9, -999.00,9,  -999.0,9,  -999.0,-999.000,9,-999.000,-999.0000,9,   453.4,-999.000,   9.1429,     -999.0,9,     -999.0,9,     -999.0,9,     -999.0,9,     -999.0,9,     -999.0,9,     -999.0,9, -999.00,9,-999.0000,9,-999.0000,9,-999.0000,9,-999.0000,9,-999.0000,9,-999.0000,9,-999.0000, -999.00
33RR20050106,       P16S,       4,          1,         21,         21,2,20050111,       0746,   -17.4998,  -150.2452,       2499,   504.2,   7.9335,  34.4744,2,  34.4802,2,    141.9,3,   142.0,2,   17.88,2,   27.61,2,    0.00,2,    2.03,2,   0.807,2,   0.443,2,   0.000,2,  -999.0,9,  -999.0,9,-999.000,9,-999.0000,9, -999.00,9, -999.00,9,  -999.0,9,  -999.0,-999.000,9,-999.000,-999.0000,9,   504.2,-999.000,   7.8821,     -999.0,9,     -999.0,9,     -999.0,9,     -999.0,9,     -999.0,9,     -999.0,9,     -999.0,9, -999.00,9,-999.0000,9,-999.0000,9,-999.0000,9,-999.0000,9,-999.0000,9,-999.0000,9,-999.0000, -999.00
33RR20050106,       P16S,       4,          1,         20,         20,2,20050111,       0746,   -17.4998,  -150.2452,       2499,   554.0,   7.0706,  34.4375,2,  34.4341,2,    148.6,3,   154.5,2,   21.06,2,   29.10,2,    0.00,2,    2.08,2,-999.000,9,-999.000,9,-999.000,9,  -999.0,9,  -999.0,9,-999.000,9,-999.0000,9, -999.00,9, -999.00,9,  -999.0,9,  -999.0,-999.000,9,-999.000,-999.0000,9,   554.0,-999.000,   7.0176,     -999.0,9,     -999.0,9,     -999.0,9,     -999.0,9,     -999.0,9,     -999.0,9,     -999.0,9, -999.00,9,-999.0000,9,-999.0000,9,-999.0000,9,-999.0000,9,-999.0000,9,-999.0000,9,-999.0000, -999.00
33RR20050106,       P16S,       4,          1,         19,         19,2,20050111,       0746,   -17.4998,  -150.2452,       2499,   604.1,   6.2595,  34.4250,2,  34.4265,2,    154.0,3,   155.2,2,   27.60,2,   30.86,2,    0.00,2,    2.19,2,   0.411,2,   0.241,2,   0.000,2,  2201.5,2,  2292.9,2,-999.000,9,-999.0000,9, -999.00,9, -999.00,9,  -999.0,9,  -999.0,-999.000,9,-999.000,-999.0000,9,   604.1,-999.000,   6.2052,     -999.0,9,     -999.0,9,     -999.0,9,     -999.0,9,     -999.0,9,     -999.0,9,     -999.0,9, -999.00,9,-999.0000,9,-999.0000,9,-999.0000,9,-999.0000,9,-999.0000,9,-999.0000,9,-999.0000, -999.00
33RR20050106,       P16S,       4,          1,         18,         18,2,20050111,       0746,   -17.4998,  -150.2452,       2499,   654.6,   5.8301,  34.4268,2,  34.4284,2,    152.5,3,   153.4,2,   32.70,2,   31.77,2,    0.00,2,    2.25,2,-999.000,9,-999.000,9,-999.000,9,  -999.0,9,  -999.0,9,-999.000,9,-999.0000,9, -999.00,9, -999.00,9,  -999.0,9,  -999.0,-999.000,9,-999.000,-999.0000,9,   654.6,-999.000,   5.7731,     -999.0,9,     -999.0,9,     -999.0,9,     -999.0,9,     -999.0,9,     -999.0,9,     -999.0,9, -999.00,9,-999.0000,9,-999.0000,9,-999.0000,9,-999.0000,9,-999.0000,9,-999.0000,9,-999.0000, -999.00
33RR20050106,       P16S,       4,          1,         17,         17,2,20050111,       0746,   -17.4998,  -150.2452,       2499,   705.2,   5.4577,  34.4268,2,  34.4273,2,    152.0,3,   152.9,2,   37.57,2,   32.63,2,    0.00,2,    2.31,2,   0.217,2,   0.130,2,   0.000,2,  -999.0,9,  -999.0,9,-999.000,9,-999.0000,9, -999.00,9, -999.00,9,  -999.0,9,  -999.0,-999.000,9,-999.000,-999.0000,9,   705.2,-999.000,   5.3981,     -999.0,9,     -999.0,9,     -999.0,9,     -999.0,9,     -999.0,9,     -999.0,9,     -999.0,9, -999.00,9,-999.0000,9,-999.0000,9,-999.0000,9,-999.0000,9,-999.0000,9,-999.0000,9,-999.0000, -999.00
33RR20050106,       P16S,       4,          1,         16,         16,2,20050111,       0746,   -17.4998,  -150.2452,       2499,   805.3,   4.7835,  34.4554,2,  34.4559,2,    149.2,3,   148.6,2,   49.90,2,   33.91,2,    0.00,2,    2.40,2,-999.000,9,-999.000,9,-999.000,9,  2231.2,2,  2315.1,2,-999.000,9,-999.0000,9, -999.00,9, -999.00,9,  -999.0,9,  -999.0,-999.000,9,-999.000,-999.0000,9,   805.3,-999.000,   4.7189,     -999.0,9,     -999.0,9,     -999.0,9,     -999.0,9,     -999.0,9,     -999.0,9,     -999.0,9, -999.00,9,-999.0000,9,-999.0000,9,-999.0000,9,-999.0000,9,-999.0000,9,-999.0000,9,-999.0000, -999.00
33RR20050106,       P16S,       4,          1,         15,         15,2,20050111,       0746,   -17.4998,  -150.2452,       2499,   905.1,   4.1866,  34.4847,2,  34.4841,2,    147.3,3,   146.6,2,   62.27,2,   34.72,2,    0.00,2,    2.47,2,   0.043,2,   0.044,2,   0.000,2,  -999.0,9,  -999.0,9,-999.000,9,-999.0000,9, -999.00,9, -999.00,9,  -999.0,9,  -999.0,-999.000,9,-999.000,-999.0000,9,   905.1,-999.000,   4.1175,     -999.0,9,     -999.0,9,     -999.0,9,     -999.0,9,     -999.0,9,     -999.0,9,     -999.0,9, -999.00,9,-999.0000,9,-999.0000,9,-999.0000,9,-999.0000,9,-999.0000,9,-999.0000,9,-999.0000, -999.00
33RR20050106,       P16S,       4,          1,         14,         14,2,20050111,       0746,   -17.4998,  -150.2452,       2499,  1006.2,   3.7793,  34.5029,2,  34.5045,2,    147.0,3,   146.5,2,   70.18,2,   35.09,2,    0.00,2,    2.49,2,-999.000,9,-999.000,9,-999.000,9,  2255.7,6,  2336.9,2,-999.000,9,-999.0000,9, -999.00,9, -999.00,9,  -999.0,9,  -999.0,-999.000,9,-999.000,-999.0000,9,  1006.2,-999.000,   3.7048,     -999.0,9,     -999.0,9,     -999.0,9,     -999.0,9,     -999.0,9,     -999.0,9,     -999.0,9, -999.00,9,-999.0000,9,-999.0000,9,-999.0000,9,-999.0000,9,-999.0000,9,-999.0000,9,-999.0000, -999.00
33RR20050106,       P16S,       4,          1,         13,         13,2,20050111,       0746,   -17.4998,  -150.2452,       2499,  1106.7,   3.4135,  34.5297,2,  34.5296,2,    144.7,3,   144.9,2,   79.61,2,   35.47,2,    0.00,2,    2.53,2,   0.012,2,   0.010,2,   0.000,2,  -999.0,9,  -999.0,9,-999.000,9,-999.0000,9, -999.00,9, -999.00,9,  -999.0,9,  -999.0,-999.000,9,-999.000,-999.0000,9,  1106.7,-999.000,   3.3338,     -999.0,9,     -999.0,9,     -999.0,9,     -999.0,9,     -999.0,9,     -999.0,9,     -999.0,9, -999.00,9,-999.0000,9,-999.0000,9,-999.0000,9,-999.0000,9,-999.0000,9,-999.0000,9,-999.0000, -999.00
33RR20050106,       P16S,       4,          1,         12,         12,2,20050111,       0746,   -17.4998,  -150.2452,       2499,  1207.2,   3.1865,  34.5459,2,  34.5465,2,    145.4,3,   145.6,2,   85.62,2,   35.64,2,    0.00,2,    2.53,2,-999.000,9,-999.000,9,-999.000,9,  -999.0,9,  -999.0,9,-999.000,9,-999.0000,9, -999.00,9, -999.00,9,  -999.0,9,  -999.0,-999.000,9,-999.000,-999.0000,9,  1207.2,-999.000,   3.1007,     -999.0,9,     -999.0,9,     -999.0,9,     -999.0,9,     -999.0,9,     -999.0,9,     -999.0,9, -999.00,9,-999.0000,9,-999.0000,9,-999.0000,9,-999.0000,9,-999.0000,9,-999.0000,9,-999.0000, -999.00
33RR20050106,       P16S,       4,          1,         11,         11,2,20050111,       0746,   -17.4998,  -150.2452,       2499,  1308.1,   2.8781,  34.5709,2,  34.5712,2,    145.3,3,   145.5,2,   94.22,2,   35.79,2,    0.00,2,    2.54,2,   0.230,4,   0.208,4,   0.000,2,  -999.0,9,  -999.0,9,-999.000,9,-999.0000,9, -999.00,9, -999.00,9,  -999.0,9,  -999.0,-999.000,9,-999.000,-999.0000,9,  1308.1,-999.000,   2.7872,     -999.0,9,     -999.0,9,     -999.0,9,     -999.0,9,     -999.0,9,     -999.0,9,     -999.0,9, -999.00,9,-999.0000,9,-999.0000,9,-999.0000,9,-999.0000,9,-999.0000,9,-999.0000,9,-999.0000, -999.00
33RR20050106,       P16S,       4,          1,         10,         10,2,20050111,       0746,   -17.4998,  -150.2452,       2499,  1408.8,   2.7548,  34.5802,2,  34.5806,2,    146.0,3,   146.6,2,   97.43,2,   35.69,2,    0.00,2,    2.53,2,-999.000,9,-999.000,9,-999.000,9,  -999.0,9,  -999.0,9,-999.000,9,-999.0000,9, -999.00,9, -999.00,9,  -999.0,9,  -999.0,-999.000,9,-999.000,-999.0000,9,  1408.8,-999.000,   2.6571,     -999.0,9,     -999.0,9,     -999.0,9,     -999.0,9,     -999.0,9,     -999.0,9,     -999.0,9, -999.00,9,-999.0000,9,-999.0000,9,-999.0000,9,-999.0000,9,-999.0000,9,-999.0000,9,-999.0000, -999.00
33RR20050106,       P16S,       4,          1,          9,          9,2,20050111,       0746,   -17.4998,  -150.2452,       2499,  1509.7,   2.6175,  34.5918,2,  34.5916,2,    148.0,3,   147.3,2,  101.31,2,   35.69,2,    0.00,2,    2.53,2,   0.024,3,   0.021,3,   0.000,2,  -999.0,9,  -999.0,9,-999.000,9,-999.0000,9, -999.00,9, -999.00,9,  -999.0,9,  -999.0,-999.000,9,-999.000,-999.0000,9,  1509.7,-999.000,   2.5132,     -999.0,9,     -999.0,9,     -999.0,9,     -999.0,9,     -999.0,9,     -999.0,9,     -999.0,9, -999.00,9,-999.0000,9,-999.0000,9,-999.0000,9,-999.0000,9,-999.0000,9,-999.0000,9,-999.0000, -999.00
33RR20050106,       P16S,       4,          1,          8,          8,2,20050111,       0746,   -17.4998,  -150.2452,       2499,  1610.7,   2.4846,  34.6033,2,  34.6036,2,    148.4,3,   148.1,2,  105.41,2,   35.59,2,    0.00,2,    2.53,2,-999.000,9,-999.000,9,-999.000,9,  -999.0,9,  -999.0,9,-999.000,9,-999.0000,9, -999.00,9, -999.00,9,  -999.0,9,  -999.0,-999.000,9,-999.000,-999.0000,9,  1610.7,-999.000,   2.3737,     -999.0,9,     -999.0,9,     -999.0,9,     -999.0,9,     -999.0,9,     -999.0,9,     -999.0,9, -999.00,9,-999.0000,9,-999.0000,9,-999.0000,9,-999.0000,9,-999.0000,9,-999.0000,9,-999.0000, -999.00
33RR20050106,       P16S,       4,          1,          7,          7,2,20050111,       0746,   -17.4998,  -150.2452,       2499,  1711.1,   2.3995,  34.6109,2,  34.6122,2,    148.7,3,   148.8,2,  107.77,2,   35.54,2,    0.00,2,    2.53,2,   0.073,3,   0.070,3,   0.000,2,  -999.0,9,  -999.0,9,-999.000,9,-999.0000,9, -999.00,9, -999.00,9,  -999.0,9,  -999.0,-999.000,9,-999.000,-999.0000,9,  1711.1,-999.000,   2.2814,     -999.0,9,     -999.0,9,     -999.0,9,     -999.0,9,     -999.0,9,     -999.0,9,     -999.0,9, -999.00,9,-999.0000,9,-999.0000,9,-999.0000,9,-999.0000,9,-999.0000,9,-999.0000,9,-999.0000, -999.00