BOTTLE,20201109CCHSIOCBG
EXPOCODE,SECT_ID,STNNBR,CASTNO,SAMPNO,BTLNBR,BTLNBR_FLAG_W,DATE,TIME,LATITUDE,LONGITUDE,DEPTH,CTDPRS,CTDTMP,CTDSAL,CTDSAL_FLAG_W,SALNTY,SALNTY_FLAG_W,CTDOXY,CTDOXY_FLAG_W,OXYGEN,OXYGEN_FLAG_W,SILCAT,SILCAT_FLAG_W,NITRAT,NITRAT_FLAG_W,NITRIT,NITRIT_FLAG_W,PHSPHT,PHSPHT_FLAG_W,CFC-11,CFC-11_FLAG_W,CFC-12,CFC-12_FLAG_W,CFC113,CFC113_FLAG_W,TCARBN,TCARBN_FLAG_W,ALKALI,ALKALI_FLAG_W,TRITUM,TRITUM_FLAG_W,HELIUM,HELIUM_FLAG_W,DELHE3,DELHE3_FLAG_W,DELC13,DELC13_FLAG_W,DELC14,DELC14_FLAG_W,C14ERR,NEON,NEON_FLAG_W,NEONER,DOC,DOC_FLAG_W,CTDRAW,TRITER,THETA,FUCO,FUCO_FLAG_W,RHAM,RHAM_FLAG_W,ARABA,ARABA_FLAG_W,GALA,GALA_FLAG_W,GLUC,GLUC_FLAG_W,MAN,MAN_FLAG_W,DCNS,DCNS_FLAG_W,BRDU,BRDU_FLAG_W,CDOM325,CDOM325_FLAG_W,CDOM340,CDOM340_FLAG_W,CDOM380,CDOM380_FLAG_W,CDOM412,CDOM412_FLAG_W,CDOMSL,CDOMSL_FLAG_W,CDOMSN,CDOMSN_FLAG_W,HELIER,DELHER
,,,,,,,,,,,METERS,DBAR,ITS-90,PSS-78,,PSS-78,,UMOL/KG,,UMOL/KG,,UMOL/KG,,UMOL/KG,,UMOL/KG,,UMOL/KG,,PMOL/KG,,PMOL/KG,,PMOL/KG,,UMOL/KG,,UMOL/KG,,TU,,NMOL/KG,,PERCNT,,/MILLE,,/MILLE,,/MILLE,NMOL/KG,,NMOL/KG,UMOL/KG,,DBAR,TU,DEG C,NMOL/KG,,NMOL/KG,,NMOL/KG,,NMOL/KG,,NMOL/KG,,NMOL/KG,,NMOL/KG,,PMOL/L/H,,1/M,,1/M,,1/M,,1/M,,1/NM,,1/NM,,NMOL/KG,PERCNT
33RR20050106,       P16S,      95,          2,          3,          3,2,20050206,       1854,   -63.0002,  -149.9995,       3687,  3399.7,   0.2392,  34.6968,2,  34.6975,2,    217.7,2,   218.4,2,  125.41,2,   32.25,2,    0.00,2,    2.22,2,   0.661,2,   0.352,2,   0.059,2,  2261.7,2,  2356.9,2,-999.000,9,-999.0000,9, -999.00,9, -999.00,5,  -152.8,2,     3.0,-999.000,9,-999.000,  38.0188,2,  3399.7,-999.000,   0.0143,     -999.0,9,     -999.0,9,     -999.0,9,     -999.0,9,     -999.0,9,     -999.0,9,     -999.0,9, -999.00,9,   0.1080,2,   0.0720,2,   0.0380,2,   0.0280,2,   0.0165,2,   0.0192,2,-999.0000, -999.00
33RR20050106,       P16S,      95,          2,          2,          2,2,20050206,       1854,   -63.0002,  -149.9995,       3687,  3604.4,   0.2561,  34.6967,2,  34.6962,2,    217.8,2,   218.2,2,  125.83,2,   32.25,2,    0.00,2,    2.24,2,   0.724,2,   0.401,2,   0.052,2,  2262.0,2,  2356.3,2,-999.000,9,-999.0000,9, -999.00,9, -999.00,5,  -152.5,2,     3.0,-999.000,9,-999.000,-999.0000,9,  3604.4,-999.000,   0.0115,     -999.0,9,     -999.0,9,     -999.0,9,     -999.0,9,     -999.0,9,     -999.0,9,     -999.0,9, -999.00,9,-999.0000,9,-999.0000,9,-999.0000,9,-999.0000,9,-999.0000,9,-999.0000,9,-999.0000, -999.00
33RR20050106,       P16S,      95,          2,          1,          1,2,20050206,       1854,   -63.0002,  -149.9995,       3687,  3711.0,   0.2667,  34.6968,2,  34.6964,2,    217.7,2,   219.2,2,  125.83,2,   32.20,2,    0.00,2,    2.23,2,   0.653,2,   0.342,2,   0.062,2,  2261.8,6,  2356.5,6,-999.000,9,-999.0000,9, -999.00,9, -999.00,5,  -152.1,2,     2.6,-999.000,9,-999.000,  39.6563,2,  3711.0,-999.000,   0.0115,     -999.0,9,     -999.0,9,     -999.0,9,     -999.0,9,     -999.0,9,     -999.0,9,     -999.0,9, -999.00,9,   0.1120,2,   0.0760,2,   0.0410,2,   0.0310,2,   0.0147,2,   0.0175,2,-999.0000, -999.00