BOTTLE,20201109CCHSIOCBG
EXPOCODE,SECT_ID,STNNBR,CASTNO,SAMPNO,BTLNBR,BTLNBR_FLAG_W,DATE,TIME,LATITUDE,LONGITUDE,DEPTH,CTDPRS,CTDTMP,CTDSAL,CTDSAL_FLAG_W,SALNTY,SALNTY_FLAG_W,CTDOXY,CTDOXY_FLAG_W,OXYGEN,OXYGEN_FLAG_W,SILCAT,SILCAT_FLAG_W,NITRAT,NITRAT_FLAG_W,NITRIT,NITRIT_FLAG_W,PHSPHT,PHSPHT_FLAG_W,CFC-11,CFC-11_FLAG_W,CFC-12,CFC-12_FLAG_W,CFC113,CFC113_FLAG_W,TCARBN,TCARBN_FLAG_W,ALKALI,ALKALI_FLAG_W,TRITUM,TRITUM_FLAG_W,HELIUM,HELIUM_FLAG_W,DELHE3,DELHE3_FLAG_W,DELC13,DELC13_FLAG_W,DELC14,DELC14_FLAG_W,C14ERR,NEON,NEON_FLAG_W,NEONER,DOC,DOC_FLAG_W,CTDRAW,TRITER,THETA,FUCO,FUCO_FLAG_W,RHAM,RHAM_FLAG_W,ARABA,ARABA_FLAG_W,GALA,GALA_FLAG_W,GLUC,GLUC_FLAG_W,MAN,MAN_FLAG_W,DCNS,DCNS_FLAG_W,BRDU,BRDU_FLAG_W,CDOM325,CDOM325_FLAG_W,CDOM340,CDOM340_FLAG_W,CDOM380,CDOM380_FLAG_W,CDOM412,CDOM412_FLAG_W,CDOMSL,CDOMSL_FLAG_W,CDOMSN,CDOMSN_FLAG_W,HELIER,DELHER
,,,,,,,,,,,METERS,DBAR,ITS-90,PSS-78,,PSS-78,,UMOL/KG,,UMOL/KG,,UMOL/KG,,UMOL/KG,,UMOL/KG,,UMOL/KG,,PMOL/KG,,PMOL/KG,,PMOL/KG,,UMOL/KG,,UMOL/KG,,TU,,NMOL/KG,,PERCNT,,/MILLE,,/MILLE,,/MILLE,NMOL/KG,,NMOL/KG,UMOL/KG,,DBAR,TU,DEG C,NMOL/KG,,NMOL/KG,,NMOL/KG,,NMOL/KG,,NMOL/KG,,NMOL/KG,,NMOL/KG,,PMOL/L/H,,1/M,,1/M,,1/M,,1/M,,1/NM,,1/NM,,NMOL/KG,PERCNT
33RR20050106,       P16S,     108,          3,         31,         31,2,20050210,       0959,   -69.4998,  -150.0010,       4391,     3.3,  -0.5352,  33.4407,2,  33.4439,2,    364.6,2,   366.1,2,   32.69,2,   20.53,2,    0.22,2,    1.34,2,   6.051,2,   3.390,2,   0.581,2,  2116.2,2,  2265.5,6,-999.000,9,-999.0000,9, -999.00,9, -999.00,9,  -999.0,9,  -999.0,-999.000,9,-999.000,-999.0000,9,     3.3,-999.000,  -0.5353,     -999.0,9,     -999.0,9,     -999.0,9,     -999.0,9,     -999.0,9,     -999.0,9,     -999.0,9, -999.00,9,-999.0000,9,-999.0000,9,-999.0000,9,-999.0000,9,-999.0000,9,-999.0000,9,-999.0000, -999.00
33RR20050106,       P16S,     108,          3,         30,         30,2,20050210,       0959,   -69.4998,  -150.0010,       4391,    19.9,  -0.6975,  33.5324,2,  33.5383,2,    364.8,2,   364.6,2,   33.90,2,   21.42,2,    0.21,2,    1.42,2,   5.876,2,   3.299,2,   0.574,2,  2121.1,2,  2271.3,2,-999.000,9,-999.0000,9, -999.00,9, -999.00,9,  -999.0,9,  -999.0,-999.000,9,-999.000,-999.0000,9,    19.9,-999.000,  -0.6980,     -999.0,9,     -999.0,9,     -999.0,9,     -999.0,9,     -999.0,9,     -999.0,9,     -999.0,9, -999.00,9,-999.0000,9,-999.0000,9,-999.0000,9,-999.0000,9,-999.0000,9,-999.0000,9,-999.0000, -999.00
33RR20050106,       P16S,     108,          3,         29,         29,2,20050210,       0959,   -69.4998,  -150.0010,       4391,    39.5,  -1.6965,  33.9554,2,  33.9467,2,    337.7,2,   332.6,2,   44.80,2,   25.99,2,    0.25,2,    1.86,2,   5.284,6,   2.976,6,   0.522,6,  2173.9,2,  2294.2,2,-999.000,9,-999.0000,9, -999.00,9, -999.00,9,  -999.0,9,  -999.0,-999.000,9,-999.000,-999.0000,9,    39.5,-999.000,  -1.6973,     -999.0,9,     -999.0,9,     -999.0,9,     -999.0,9,     -999.0,9,     -999.0,9,     -999.0,9, -999.00,9,-999.0000,9,-999.0000,9,-999.0000,9,-999.0000,9,-999.0000,9,-999.0000,9,-999.0000, -999.00
33RR20050106,       P16S,     108,          3,         28,         28,2,20050210,       0959,   -69.4998,  -150.0010,       4391,    85.0,  -1.7386,  34.0599,2,  34.0640,2,    317.5,2,   319.1,2,   47.06,2,   26.92,2,    0.36,2,    1.90,2,   5.377,2,   2.899,2,   0.515,2,  2187.9,2,  2301.0,2,-999.000,9,-999.0000,9, -999.00,9, -999.00,9,  -999.0,9,  -999.0,-999.000,9,-999.000,-999.0000,9,    85.0,-999.000,  -1.7403,     -999.0,9,     -999.0,9,     -999.0,9,     -999.0,9,     -999.0,9,     -999.0,9,     -999.0,9, -999.00,9,-999.0000,9,-999.0000,9,-999.0000,9,-999.0000,9,-999.0000,9,-999.0000,9,-999.0000, -999.00
33RR20050106,       P16S,     108,          3,         27,         27,2,20050210,       0959,   -69.4998,  -150.0010,       4391,   135.4,  -1.2899,  34.1436,2,  34.1414,2,    298.6,2,   299.7,2,   52.20,2,   28.56,2,    0.01,2,    1.97,2,   4.700,2,   2.597,2,   0.470,2,  2197.9,3,  2304.0,2,-999.000,9,-999.0000,9, -999.00,9, -999.00,9,  -999.0,9,  -999.0,-999.000,9,-999.000,-999.0000,9,   135.4,-999.000,  -1.2932,     -999.0,9,     -999.0,9,     -999.0,9,     -999.0,9,     -999.0,9,     -999.0,9,     -999.0,9, -999.00,9,-999.0000,9,-999.0000,9,-999.0000,9,-999.0000,9,-999.0000,9,-999.0000,9,-999.0000, -999.00
33RR20050106,       P16S,     108,          3,         26,         26,2,20050210,       0959,   -69.4998,  -150.0010,       4391,   185.6,   0.5107,  34.4851,2,  34.4845,2,    229.8,2,   225.4,2,   78.51,2,   32.10,2,    0.01,2,    2.22,2,   2.208,2,   1.246,2,   0.226,2,  2238.3,2,  2326.6,2,-999.000,9,-999.0000,9, -999.00,9, -999.00,9,  -999.0,9,  -999.0,-999.000,9,-999.000,-999.0000,9,   185.6,-999.000,   0.5031,     -999.0,9,     -999.0,9,     -999.0,9,     -999.0,9,     -999.0,9,     -999.0,9,     -999.0,9, -999.00,9,-999.0000,9,-999.0000,9,-999.0000,9,-999.0000,9,-999.0000,9,-999.0000,9,-999.0000, -999.00
33RR20050106,       P16S,     108,          3,         25,         25,2,20050210,       0959,   -69.4998,  -150.0010,       4391,   235.9,   1.2982,  34.6775,2,  34.6734,2,    187.3,2,   187.0,2,   92.63,2,   32.89,2,    0.01,2,    2.28,2,   0.746,2,   0.402,2,   0.069,2,  2258.1,2,  2325.4,3,-999.000,9,-999.0000,9, -999.00,9, -999.00,9,  -999.0,9,  -999.0,-999.000,9,-999.000,-999.0000,9,   235.9,-999.000,   1.2868,     -999.0,9,     -999.0,9,     -999.0,9,     -999.0,9,     -999.0,9,     -999.0,9,     -999.0,9, -999.00,9,-999.0000,9,-999.0000,9,-999.0000,9,-999.0000,9,-999.0000,9,-999.0000,9,-999.0000, -999.00
33RR20050106,       P16S,     108,          3,         24,         24,2,20050210,       0959,   -69.4998,  -150.0010,       4391,   286.7,   1.4781,  34.7201,2,  34.7211,2,    182.1,2,   183.7,2,   96.15,2,   32.47,2,    0.00,2,    2.23,2,   0.396,2,   0.212,2,   0.036,2,  2259.3,2,  2346.7,2,-999.000,9,-999.0000,9, -999.00,9, -999.00,9,  -999.0,9,  -999.0,-999.000,9,-999.000,-999.0000,9,   286.7,-999.000,   1.4637,     -999.0,9,     -999.0,9,     -999.0,9,     -999.0,9,     -999.0,9,     -999.0,9,     -999.0,9, -999.00,9,-999.0000,9,-999.0000,9,-999.0000,9,-999.0000,9,-999.0000,9,-999.0000,9,-999.0000, -999.00
33RR20050106,       P16S,     108,          3,         23,         23,2,20050210,       0959,   -69.4998,  -150.0010,       4391,   341.8,   1.4310,  34.7273,2,  34.7270,2,    182.6,2,   183.5,2,   99.26,2,   32.47,2,    0.00,2,    2.23,2,   0.262,2,   0.137,2,   0.029,2,  2260.8,2,  2349.2,2,-999.000,9,-999.0000,9, -999.00,9, -999.00,9,  -999.0,9,  -999.0,-999.000,9,-999.000,-999.0000,9,   341.8,-999.000,   1.4138,     -999.0,9,     -999.0,9,     -999.0,9,     -999.0,9,     -999.0,9,     -999.0,9,     -999.0,9, -999.00,9,-999.0000,9,-999.0000,9,-999.0000,9,-999.0000,9,-999.0000,9,-999.0000,9,-999.0000, -999.00
33RR20050106,       P16S,     108,          3,         22,         22,2,20050210,       0959,   -69.4998,  -150.0010,       4391,   392.4,   1.3937,  34.7301,2,  34.7288,2,    183.0,2,   184.2,2,  101.33,2,   32.47,2,    0.00,2,    2.25,2,   0.272,2,   0.144,2,   0.024,2,  2261.3,2,  2350.2,2,-999.000,9,-999.0000,9, -999.00,9, -999.00,9,  -999.0,9,  -999.0,-999.000,9,-999.000,-999.0000,9,   392.4,-999.000,   1.3739,     -999.0,9,     -999.0,9,     -999.0,9,     -999.0,9,     -999.0,9,     -999.0,9,     -999.0,9, -999.00,9,-999.0000,9,-999.0000,9,-999.0000,9,-999.0000,9,-999.0000,9,-999.0000,9,-999.0000, -999.00
33RR20050106,       P16S,     108,          3,         21,         21,2,20050210,       0959,   -69.4998,  -150.0010,       4391,   442.9,   1.3517,  34.7309,2,  34.7307,2,    183.5,2,   183.9,2,  103.17,2,   32.52,2,    0.00,2,    2.24,2,   0.169,2,   0.092,2,   0.022,2,  -999.0,9,  -999.0,9,-999.000,9,-999.0000,9, -999.00,9, -999.00,9,  -999.0,9,  -999.0,-999.000,9,-999.000,-999.0000,9,   442.9,-999.000,   1.3293,     -999.0,9,     -999.0,9,     -999.0,9,     -999.0,9,     -999.0,9,     -999.0,9,     -999.0,9, -999.00,9,-999.0000,9,-999.0000,9,-999.0000,9,-999.0000,9,-999.0000,9,-999.0000,9,-999.0000, -999.00
33RR20050106,       P16S,     108,          3,         20,         20,2,20050210,       0959,   -69.4998,  -150.0010,       4391,   493.5,   1.3171,  34.7310,2,  34.7283,4,    184.1,2,   183.9,2,  105.03,2,   32.61,2,    0.00,2,    2.26,2,   0.193,2,   0.105,2,   0.023,2,  2264.3,2,  2350.9,2,-999.000,9,-999.0000,9, -999.00,9, -999.00,9,  -999.0,9,  -999.0,-999.000,9,-999.000,-999.0000,9,   493.5,-999.000,   1.2921,     -999.0,9,     -999.0,9,     -999.0,9,     -999.0,9,     -999.0,9,     -999.0,9,     -999.0,9, -999.00,9,-999.0000,9,-999.0000,9,-999.0000,9,-999.0000,9,-999.0000,9,-999.0000,9,-999.0000, -999.00
33RR20050106,       P16S,     108,          3,         19,         19,2,20050210,       0959,   -69.4998,  -150.0010,       4391,   579.1,   1.2547,  34.7307,2,  34.7293,2,    186.1,2,   186.6,2,  107.30,2,   32.57,2,    0.00,2,    2.24,2,   0.118,2,   0.063,2,   0.014,2,  -999.0,9,  -999.0,9,-999.000,9,-999.0000,9, -999.00,9, -999.00,9,  -999.0,9,  -999.0,-999.000,9,-999.000,-999.0000,9,   579.1,-999.000,   1.2252,     -999.0,9,     -999.0,9,     -999.0,9,     -999.0,9,     -999.0,9,     -999.0,9,     -999.0,9, -999.00,9,-999.0000,9,-999.0000,9,-999.0000,9,-999.0000,9,-999.0000,9,-999.0000,9,-999.0000, -999.00
33RR20050106,       P16S,     108,          3,         18,         18,2,20050210,       0959,   -69.4998,  -150.0010,       4391,   680.2,   1.1892,  34.7289,2,  34.7281,2,    188.1,2,   188.7,2,  109.37,2,   32.46,2,    0.00,2,    2.23,2,-999.000,9,-999.000,9,-999.000,9,  2262.8,2,  2353.2,2,-999.000,9,-999.0000,9, -999.00,9, -999.00,9,  -999.0,9,  -999.0,-999.000,9,-999.000,-999.0000,9,   680.2,-999.000,   1.1543,     -999.0,9,     -999.0,9,     -999.0,9,     -999.0,9,     -999.0,9,     -999.0,9,     -999.0,9, -999.00,9,-999.0000,9,-999.0000,9,-999.0000,9,-999.0000,9,-999.0000,9,-999.0000,9,-999.0000, -999.00
33RR20050106,       P16S,     108,          3,         17,         17,2,20050210,       0959,   -69.4998,  -150.0010,       4391,   780.8,   1.1267,  34.7268,2,  34.7236,4,    189.6,2,   190.0,2,  111.22,2,   32.46,2,    0.00,2,    2.24,2,   0.095,2,   0.051,2,   0.016,2,  -999.0,9,  -999.0,9,-999.000,9,-999.0000,9, -999.00,9, -999.00,9,  -999.0,9,  -999.0,-999.000,9,-999.000,-999.0000,9,   780.8,-999.000,   1.0864,     -999.0,9,     -999.0,9,     -999.0,9,     -999.0,9,     -999.0,9,     -999.0,9,     -999.0,9, -999.00,9,-999.0000,9,-999.0000,9,-999.0000,9,-999.0000,9,-999.0000,9,-999.0000,9,-999.0000, -999.00
33RR20050106,       P16S,     108,          3,         16,         16,2,20050210,       0959,   -69.4998,  -150.0010,       4391,   983.0,   1.0050,  34.7222,2,  34.7216,2,    194.5,2,   195.0,2,  115.36,2,   32.29,2,    0.00,2,    2.23,2,-999.000,9,-999.000,9,-999.000,9,  -999.0,9,  -999.0,9,-999.000,9,-999.0000,9, -999.00,9, -999.00,9,  -999.0,9,  -999.0,-999.000,9,-999.000,-999.0000,9,   983.0,-999.000,   0.9536,     -999.0,9,     -999.0,9,     -999.0,9,     -999.0,9,     -999.0,9,     -999.0,9,     -999.0,9, -999.00,9,-999.0000,9,-999.0000,9,-999.0000,9,-999.0000,9,-999.0000,9,-999.0000,9,-999.0000, -999.00
33RR20050106,       P16S,     108,          3,         15,         15,2,20050210,       0959,   -69.4998,  -150.0010,       4391,  1185.7,   0.8949,  34.7177,2,  34.7167,2,    198.4,2,   198.4,2,  117.85,2,   32.34,2,    0.00,2,    2.23,2,   0.084,2,   0.052,2,   0.012,2,  2262.1,2,  2356.7,2,-999.000,9,-999.0000,9, -999.00,9, -999.00,9,  -999.0,9,  -999.0,-999.000,9,-999.000,-999.0000,9,  1185.7,-999.000,   0.8319,     -999.0,9,     -999.0,9,     -999.0,9,     -999.0,9,     -999.0,9,     -999.0,9,     -999.0,9, -999.00,9,-999.0000,9,-999.0000,9,-999.0000,9,-999.0000,9,-999.0000,9,-999.0000,9,-999.0000, -999.00
33RR20050106,       P16S,     108,          3,         14,         14,2,20050210,       0959,   -69.4998,  -150.0010,       4391,  1388.2,   0.7983,  34.7137,2,  34.7133,2,    201.0,2,   202.1,2,  121.17,2,   32.34,2,    0.00,2,    2.24,2,-999.000,9,-999.000,9,-999.000,9,  -999.0,9,  -999.0,9,-999.000,9,-999.0000,9, -999.00,9, -999.00,9,  -999.0,9,  -999.0,-999.000,9,-999.000,-999.0000,9,  1388.2,-999.000,   0.7232,     -999.0,9,     -999.0,9,     -999.0,9,     -999.0,9,     -999.0,9,     -999.0,9,     -999.0,9, -999.00,9,-999.0000,9,-999.0000,9,-999.0000,9,-999.0000,9,-999.0000,9,-999.0000,9,-999.0000, -999.00
33RR20050106,       P16S,     108,          3,         13,         13,2,20050210,       0959,   -69.4998,  -150.0010,       4391,  1590.6,   0.7182,  34.7105,2,  34.7092,2,    202.9,2,   203.5,2,  124.07,2,   32.39,2,    0.00,2,    2.24,2,   0.128,2,   0.076,2,   0.018,2,  2262.0,2,  2358.1,2,-999.000,9,-999.0000,9, -999.00,9, -999.00,9,  -999.0,9,  -999.0,-999.000,9,-999.000,-999.0000,9,  1590.6,-999.000,   0.6305,     -999.0,9,     -999.0,9,     -999.0,9,     -999.0,9,     -999.0,9,     -999.0,9,     -999.0,9, -999.00,9,-999.0000,9,-999.0000,9,-999.0000,9,-999.0000,9,-999.0000,9,-999.0000,9,-999.0000, -999.00
33RR20050106,       P16S,     108,          3,         12,         12,2,20050210,       0959,   -69.4998,  -150.0010,       4391,  1793.6,   0.6506,  34.7080,2,  34.7054,4,    204.5,2,   205.3,2,  125.92,2,   32.44,2,    0.00,2,    2.24,2,-999.000,9,-999.000,9,-999.000,9,  -999.0,9,  -999.0,9,-999.000,9,-999.0000,9, -999.00,9, -999.00,9,  -999.0,9,  -999.0,-999.000,9,-999.000,-999.0000,9,  1793.6,-999.000,   0.5496,     -999.0,9,     -999.0,9,     -999.0,9,     -999.0,9,     -999.0,9,     -999.0,9,     -999.0,9, -999.00,9,-999.0000,9,-999.0000,9,-999.0000,9,-999.0000,9,-999.0000,9,-999.0000,9,-999.0000, -999.00
33RR20050106,       P16S,     108,          3,         11,         11,2,20050210,       0959,   -69.4998,  -150.0010,       4391,  1996.8,   0.5733,  34.7062,2,  34.7020,4,    206.2,2,   208.2,2,  127.15,2,   32.49,2,    0.00,2,    2.25,2,   0.104,2,   0.060,2,   0.011,2,  2262.8,2,  2358.3,2,-999.000,9,-999.0000,9, -999.00,9, -999.00,9,  -999.0,9,  -999.0,-999.000,9,-999.000,-999.0000,9,  1996.8,-999.000,   0.4587,     -999.0,9,     -999.0,9,     -999.0,9,     -999.0,9,     -999.0,9,     -999.0,9,     -999.0,9, -999.00,9,-999.0000,9,-999.0000,9,-999.0000,9,-999.0000,9,-999.0000,9,-999.0000,9,-999.0000, -999.00
33RR20050106,       P16S,     108,          3,         10,         10,2,20050210,       0959,   -69.4998,  -150.0010,       4391,  2200.0,   0.5008,  34.7050,2,  34.7056,2,    207.7,2,   208.5,2,  127.75,2,   32.55,2,    0.00,2,    2.25,2,   0.096,2,   0.055,2,   0.016,2,  -999.0,9,  2358.0,2,-999.000,9,-999.0000,9, -999.00,9, -999.00,9,  -999.0,9,  -999.0,-999.000,9,-999.000,-999.0000,9,  2200.0,-999.000,   0.3721,     -999.0,9,     -999.0,9,     -999.0,9,     -999.0,9,     -999.0,9,     -999.0,9,     -999.0,9, -999.00,9,-999.0000,9,-999.0000,9,-999.0000,9,-999.0000,9,-999.0000,9,-999.0000,9,-999.0000, -999.00
33RR20050106,       P16S,     108,          3,          9,          9,2,20050210,       0959,   -69.4998,  -150.0010,       4391,  2454.4,   0.4164,  34.7043,2,  34.7004,4,    209.7,2,   210.5,2,  129.80,2,   32.60,2,    0.00,2,    2.25,2,   0.102,2,   0.060,2,   0.008,2,  2262.1,2,  2358.0,2,-999.000,9,-999.0000,9, -999.00,9, -999.00,9,  -999.0,9,  -999.0,-999.000,9,-999.000,-999.0000,9,  2454.4,-999.000,   0.2693,     -999.0,9,     -999.0,9,     -999.0,9,     -999.0,9,     -999.0,9,     -999.0,9,     -999.0,9, -999.00,9,-999.0000,9,-999.0000,9,-999.0000,9,-999.0000,9,-999.0000,9,-999.0000,9,-999.0000, -999.00
33RR20050106,       P16S,     108,          3,          8,          8,2,20050210,       0959,   -69.4998,  -150.0010,       4391,  2709.2,   0.3503,  34.7037,2,  34.6983,4,    211.6,2,   212.4,2,  131.45,2,   32.65,2,    0.00,2,    2.26,2,   0.128,2,   0.072,2,   0.006,2,  -999.0,9,  -999.0,9,-999.000,9,-999.0000,9, -999.00,9, -999.00,9,  -999.0,9,  -999.0,-999.000,9,-999.000,-999.0000,9,  2709.2,-999.000,   0.1837,     -999.0,9,     -999.0,9,     -999.0,9,     -999.0,9,     -999.0,9,     -999.0,9,     -999.0,9, -999.00,9,-999.0000,9,-999.0000,9,-999.0000,9,-999.0000,9,-999.0000,9,-999.0000,9,-999.0000, -999.00
33RR20050106,       P16S,     108,          3,          7,          7,2,20050210,       0959,   -69.4998,  -150.0010,       4391,  2963.6,   0.2937,  34.7031,2,  34.6989,4,    213.6,2,   214.4,2,  132.26,2,   32.59,2,    0.00,2,    2.26,2,   0.165,2,   0.088,2,   0.007,2,  2262.2,2,  2358.5,2,-999.000,9,-999.0000,9, -999.00,9, -999.00,9,  -999.0,9,  -999.0,-999.000,9,-999.000,-999.0000,9,  2963.6,-999.000,   0.1067,     -999.0,9,     -999.0,9,     -999.0,9,     -999.0,9,     -999.0,9,     -999.0,9,     -999.0,9, -999.00,9,-999.0000,9,-999.0000,9,-999.0000,9,-999.0000,9,-999.0000,9,-999.0000,9,-999.0000, -999.00
33RR20050106,       P16S,     108,          3,          6,          6,2,20050210,       0959,   -69.4998,  -150.0010,       4391,  3300.7,   0.2237,  34.7011,2,  34.6998,2,    216.9,2,   217.8,2,  129.30,2,   32.54,2,    0.00,2,    2.26,2,   0.357,2,   0.187,2,   0.022,2,  -999.0,9,  -999.0,9,-999.000,9,-999.0000,9, -999.00,9, -999.00,9,  -999.0,9,  -999.0,-999.000,9,-999.000,-999.0000,9,  3300.7,-999.000,   0.0083,     -999.0,9,     -999.0,9,     -999.0,9,     -999.0,9,     -999.0,9,     -999.0,9,     -999.0,9, -999.00,9,-999.0000,9,-999.0000,9,-999.0000,9,-999.0000,9,-999.0000,9,-999.0000,9,-999.0000, -999.00
33RR20050106,       P16S,     108,          3,          5,          5,2,20050210,       0959,   -69.4998,  -150.0010,       4391,  3607.7,   0.1714,  34.6986,2,  34.6947,4,    220.3,2,   221.2,2,  123.21,2,   32.37,2,    0.00,2,    2.25,2,   0.616,2,   0.317,2,   0.032,2,  2259.4,2,  2355.6,2,-999.000,9,-999.0000,9, -999.00,9, -999.00,9,  -999.0,9,  -999.0,-999.000,9,-999.000,-999.0000,9,  3607.7,-999.000,  -0.0713,     -999.0,9,     -999.0,9,     -999.0,9,     -999.0,9,     -999.0,9,     -999.0,9,     -999.0,9, -999.00,9,-999.0000,9,-999.0000,9,-999.0000,9,-999.0000,9,-999.0000,9,-999.0000,9,-999.0000, -999.00
33RR20050106,       P16S,     108,          3,          4,          4,2,20050210,       0959,   -69.4998,  -150.0010,       4391,  3914.3,   0.1699,  34.6983,2,  34.6994,2,    221.5,2,   222.0,2,  121.51,2,   32.37,2,    0.00,2,    2.24,2,   0.696,2,   0.373,2,   0.035,2,  -999.0,9,  -999.0,9,-999.000,9,-999.0000,9, -999.00,9, -999.00,9,  -999.0,9,  -999.0,-999.000,9,-999.000,-999.0000,9,  3914.3,-999.000,  -0.1027,     -999.0,9,     -999.0,9,     -999.0,9,     -999.0,9,     -999.0,9,     -999.0,9,     -999.0,9, -999.00,9,-999.0000,9,-999.0000,9,-999.0000,9,-999.0000,9,-999.0000,9,-999.0000,9,-999.0000, -999.00
33RR20050106,       P16S,     108,          3,          3,          3,2,20050210,       0959,   -69.4998,  -150.0010,       4391,  4170.8,   0.1855,  34.6987,2,  34.6952,4,    221.6,2,   222.2,2,  122.32,2,   32.37,2,    0.00,2,    2.24,2,   0.639,2,   0.342,2,   0.026,2,  2258.8,2,  2356.1,2,-999.000,9,-999.0000,9, -999.00,9, -999.00,9,  -999.0,9,  -999.0,-999.000,9,-999.000,-999.0000,9,  4170.8,-999.000,  -0.1136,     -999.0,9,     -999.0,9,     -999.0,9,     -999.0,9,     -999.0,9,     -999.0,9,     -999.0,9, -999.00,9,-999.0000,9,-999.0000,9,-999.0000,9,-999.0000,9,-999.0000,9,-999.0000,9,-999.0000, -999.00
33RR20050106,       P16S,     108,          3,          2,          2,2,20050210,       0959,   -69.4998,  -150.0010,       4391,  4325.0,   0.1963,  34.6991,2,  34.6991,2,    221.3,2,   221.7,2,  123.95,2,   32.42,2,    0.00,2,    2.25,2,   0.645,2,   0.333,2,   0.029,2,  -999.0,9,  -999.0,9,-999.000,9,-999.0000,9, -999.00,9, -999.00,9,  -999.0,9,  -999.0,-999.000,9,-999.000,-999.0000,9,  4325.0,-999.000,  -0.1193,     -999.0,9,     -999.0,9,     -999.0,9,     -999.0,9,     -999.0,9,     -999.0,9,     -999.0,9, -999.00,9,-999.0000,9,-999.0000,9,-999.0000,9,-999.0000,9,-999.0000,9,-999.0000,9,-999.0000, -999.00