BOTTLE,20201109CCHSIOCBG
EXPOCODE,SECT_ID,STNNBR,CASTNO,SAMPNO,BTLNBR,BTLNBR_FLAG_W,DATE,TIME,LATITUDE,LONGITUDE,DEPTH,CTDPRS,CTDTMP,CTDSAL,CTDSAL_FLAG_W,SALNTY,SALNTY_FLAG_W,CTDOXY,CTDOXY_FLAG_W,OXYGEN,OXYGEN_FLAG_W,SILCAT,SILCAT_FLAG_W,NITRAT,NITRAT_FLAG_W,NITRIT,NITRIT_FLAG_W,PHSPHT,PHSPHT_FLAG_W,CFC-11,CFC-11_FLAG_W,CFC-12,CFC-12_FLAG_W,CFC113,CFC113_FLAG_W,TCARBN,TCARBN_FLAG_W,ALKALI,ALKALI_FLAG_W,TRITUM,TRITUM_FLAG_W,HELIUM,HELIUM_FLAG_W,DELHE3,DELHE3_FLAG_W,DELC13,DELC13_FLAG_W,DELC14,DELC14_FLAG_W,C14ERR,NEON,NEON_FLAG_W,NEONER,DOC,DOC_FLAG_W,CTDRAW,TRITER,THETA,FUCO,FUCO_FLAG_W,RHAM,RHAM_FLAG_W,ARABA,ARABA_FLAG_W,GALA,GALA_FLAG_W,GLUC,GLUC_FLAG_W,MAN,MAN_FLAG_W,DCNS,DCNS_FLAG_W,BRDU,BRDU_FLAG_W,CDOM325,CDOM325_FLAG_W,CDOM340,CDOM340_FLAG_W,CDOM380,CDOM380_FLAG_W,CDOM412,CDOM412_FLAG_W,CDOMSL,CDOMSL_FLAG_W,CDOMSN,CDOMSN_FLAG_W,HELIER,DELHER
,,,,,,,,,,,METERS,DBAR,ITS-90,PSS-78,,PSS-78,,UMOL/KG,,UMOL/KG,,UMOL/KG,,UMOL/KG,,UMOL/KG,,UMOL/KG,,PMOL/KG,,PMOL/KG,,PMOL/KG,,UMOL/KG,,UMOL/KG,,TU,,NMOL/KG,,PERCNT,,/MILLE,,/MILLE,,/MILLE,NMOL/KG,,NMOL/KG,UMOL/KG,,DBAR,TU,DEG C,NMOL/KG,,NMOL/KG,,NMOL/KG,,NMOL/KG,,NMOL/KG,,NMOL/KG,,NMOL/KG,,PMOL/L/H,,1/M,,1/M,,1/M,,1/M,,1/NM,,1/NM,,NMOL/KG,PERCNT
33RR20050106,       P16S,      49,          3,         36,         36,2,20050124,       0007,   -39.9995,  -150.0005,       5178,     2.2,  16.9941,  34.3856,2,  34.3873,2,    247.8,2,   247.8,2,    0.00,2,    0.77,2,    0.02,2,    0.26,2,   2.696,2,   1.603,2,   0.215,2,  2038.1,6,  2276.4,6,-999.000,9,   1.7740,2,   -1.72,2, -999.00,9,  -999.0,9,  -999.0,   7.255,2,   0.008,  59.3605,2,     2.2,-999.000,  16.9937,        300,2,        258,2,        226,2,        644,2,        397,2,        690,2,       2515,2,    0.57,2,   0.0750,2,   0.0510,2,   0.0150,2,   0.0090,2,   0.0283,2,   0.0275,2,   0.0010,    0.18
33RR20050106,       P16S,      49,          3,         35,         35,2,20050124,       0007,   -39.9995,  -150.0005,       5178,    51.0,  13.9188,  34.6395,2,  34.6386,2,    273.9,2,   274.1,2,    0.00,2,    0.16,2,    0.00,2,    0.22,2,   3.113,2,   1.863,2,   0.256,2,  2044.8,2,  2287.6,2,-999.000,9,   1.7820,2,   -1.91,2, -999.00,9,  -999.0,9,  -999.0,   7.372,2,   0.008,  57.1218,2,    51.0,-999.000,  13.9115,        192,2,        136,2,        112,2,        393,2,        232,2,        417,2,       1483,2,    0.12,2,   0.0830,2,   0.0530,2,   0.0190,2,   0.0110,2,   0.0283,2,   0.0286,2,   0.0010,    0.18
33RR20050106,       P16S,      49,          3,         34,         34,2,20050124,       0007,   -39.9995,  -150.0005,       5178,   101.0,  13.0052,  34.6403,2,  34.6419,2,    257.7,2,   256.9,2,    0.41,2,    1.71,2,    0.08,2,    0.32,2,   3.163,2,   1.845,2,   0.284,2,  2059.1,2,  2286.0,2,   0.399,2,   1.7760,2,   -1.08,2, -999.00,9,  -999.0,9,  -999.0,   7.388,2,   0.009,  55.9284,2,   101.0,   0.010,  12.9914,        132,2,        109,2,         37,2,        268,2,        289,2,        345,2,       1180,2,    0.06,2,   0.0730,2,   0.0500,2,   0.0210,2,   0.0150,2,   0.0242,2,   0.0248,2,   0.0010,    0.19
33RR20050106,       P16S,      49,          3,         33,         33,2,20050124,       0007,   -39.9995,  -150.0005,       5178,   152.5,  10.9608,  34.6404,2,  34.6400,2,    228.8,2,   225.8,2,    1.61,2,   11.18,2,    0.04,2,    0.84,2,   3.415,2,   1.869,2,   0.213,2,  2107.2,2,  2285.8,2,-999.000,9,   1.8020,2,   -0.88,2, -999.00,9,  -999.0,9,  -999.0,   7.598,2,   0.008,  46.6668,2,   152.5,-999.000,  10.9422,         78,2,         53,2,         58,2,        110,2,        147,2,        141,2,        587,2,    0.03,2,   0.1150,2,   0.0850,2,   0.0460,2,   0.0370,2,   0.0121,3,   0.0142,3,   0.0010,    0.19
33RR20050106,       P16S,      49,          3,         32,         32,2,20050124,       0007,   -39.9995,  -150.0005,       5178,   202.1,   9.3855,  34.5444,2,  34.5461,2,    224.4,2,   228.3,2,    2.81,2,   15.25,2,    0.01,2,    1.08,2,   3.514,2,   1.913,2,   0.199,2,  2121.7,2,  2281.0,2,-999.000,9,   1.8260,2,    0.00,2, -999.00,9,  -999.0,9,  -999.0,   7.685,2,   0.009,  44.3609,2,   202.1,-999.000,   9.3631,         36,2,         34,2,         25,2,         81,2,        109,2,         84,2,        369,2,    0.19,2,   0.0780,2,   0.0510,2,   0.0240,2,   0.0190,2,   0.0233,2,   0.0248,2,   0.0010,    0.19
33RR20050106,       P16S,      49,          3,         31,         31,2,20050124,       0007,   -39.9995,  -150.0005,       5178,   253.1,   8.3619,  34.4632,2,  34.4634,2,    233.3,2,   240.8,2,    3.40,2,   17.29,2,    0.01,2,    1.20,2,   3.802,2,   2.011,2,   0.277,2,  2126.0,2,  2278.9,2,-999.000,9,   1.8390,2,    0.12,2, -999.00,9,  -999.0,9,  -999.0,   7.766,2,   0.009,  44.9567,2,   253.1,-999.000,   8.3357,     -999.0,9,     -999.0,9,     -999.0,9,     -999.0,9,     -999.0,9,     -999.0,9,     -999.0,9,    0.00,4,   0.0780,2,   0.0520,2,   0.0260,2,   0.0210,2,   0.0222,2,   0.0239,2,   0.0010,    0.17
33RR20050106,       P16S,      49,          3,         30,         30,2,20050124,       0007,   -39.9995,  -150.0005,       5178,   303.9,   7.9244,  34.4564,2,  34.4561,2,    238.0,2,   244.9,2,    4.21,2,   18.52,2,    0.00,2,    1.28,2,   3.850,2,   2.057,2,   0.284,2,  2128.8,2,  2280.3,2,   0.225,2,   1.7890,2,   -0.79,2, -999.00,9,  -999.0,9,  -999.0,   7.656,2,   0.009,  45.1161,2,   303.9,   0.008,   7.8938,         37,2,         32,2,         39,2,         70,2,         86,2,         64,2,        328,2,   -0.08,4,   0.0720,2,   0.0470,2,   0.0240,2,   0.0190,2,   0.0234,2,   0.0251,2,   0.0010,    0.19
33RR20050106,       P16S,      49,          3,         29,         29,2,20050124,       0007,   -39.9995,  -150.0005,       5178,   353.5,   7.6518,  34.4406,2,  34.4408,2,    245.1,2,   248.3,2,    4.81,2,   19.22,2,    0.00,2,    1.31,2,   3.908,2,   2.045,2,   0.301,2,  2131.0,2,  2280.8,2,-999.000,9,   1.7980,2,   -0.48,2, -999.00,9,  -999.0,9,  -999.0,   7.771,2,   0.011,  42.5386,2,   353.5,-999.000,   7.6169,     -999.0,9,     -999.0,9,     -999.0,9,     -999.0,9,     -999.0,9,     -999.0,9,     -999.0,9,   -0.04,4,   0.0840,2,   0.0540,2,   0.0220,2,   0.0160,2,   0.0289,2,   0.0291,2,   0.0010,    0.19
33RR20050106,       P16S,      49,          3,         28,         28,2,20050124,       0007,   -39.9995,  -150.0005,       5178,   408.5,   7.3863,  34.4168,2,  34.4171,2,    248.9,2,   250.6,2,    5.41,2,   19.85,2,    0.00,2,    1.37,2,   3.945,2,   2.054,2,   0.305,2,  2131.6,2,  2281.5,3,-999.000,9,   1.8290,2,   -1.00,2, -999.00,9,  -999.0,9,  -999.0,   7.824,2,   0.010,  45.5359,2,   408.5,-999.000,   7.3466,     -999.0,9,     -999.0,9,     -999.0,9,     -999.0,9,     -999.0,9,     -999.0,9,     -999.0,9, -999.00,9,   0.0680,2,   0.0430,2,   0.0210,2,   0.0160,2,   0.0269,2,   0.0285,2,   0.0010,    0.19
33RR20050106,       P16S,      49,          3,         27,         27,2,20050124,       0007,   -39.9995,  -150.0005,       5178,   458.9,   7.2115,  34.4028,2,  34.4023,2,    248.2,2,   249.6,2,    5.81,2,   20.66,2,    0.00,2,    1.41,2,   3.791,2,   1.973,2,   0.286,2,  2133.0,2,  2278.4,2,   0.195,2,   1.8380,2,   -0.29,2, -999.00,9,  -999.0,9,  -999.0,   7.933,2,   0.011,-999.0000,9,   458.9,   0.007,   7.1674,     -999.0,9,     -999.0,9,     -999.0,9,     -999.0,9,     -999.0,9,     -999.0,9,     -999.0,9, -999.00,9,-999.0000,9,-999.0000,9,-999.0000,9,-999.0000,9,-999.0000,9,-999.0000,9,   0.0010,    0.19
33RR20050106,       P16S,      49,          3,         26,         26,2,20050124,       0007,   -39.9995,  -150.0005,       5178,   509.7,   7.0704,  34.3929,2,  34.3927,2,    247.0,2,   247.6,2,    6.41,2,   21.24,2,    0.00,2,    1.45,2,   3.593,2,   1.881,2,   0.261,2,  2134.0,2,  2278.8,2,   0.172,2,   2.6320,4,    0.00,3, -999.00,9,  -999.0,9,  -999.0,  10.730,4,   0.019,  40.8481,2,   509.7,   0.010,   7.0218,     -999.0,9,     -999.0,9,     -999.0,9,     -999.0,9,     -999.0,9,     -999.0,9,     -999.0,9, -999.00,9,   0.0660,2,   0.0410,2,   0.0200,2,   0.0150,2,   0.0273,2,   0.0291,2,   0.0020,    0.16
33RR20050106,       P16S,      49,          3,         25,         25,2,20050124,       0007,   -39.9995,  -150.0005,       5178,   609.1,   6.7451,  34.3697,2,  34.3707,2,    246.8,2,   246.8,2,    7.42,2,   22.15,2,    0.00,2,    1.51,2,   3.168,2,   1.624,2,   0.182,2,  2136.9,2,  2279.6,2,   0.119,2,   1.8060,2,    0.24,2, -999.00,9,  -999.0,9,  -999.0,   7.827,2,   0.011,  42.0898,2,   609.1,   0.008,   6.6881,     -999.0,9,     -999.0,9,     -999.0,9,     -999.0,9,     -999.0,9,     -999.0,9,     -999.0,9, -999.00,9,   0.0630,2,   0.0390,2,   0.0190,2,   0.0140,2,   0.0297,2,   0.0313,2,   0.0010,    0.19
33RR20050106,       P16S,      49,          3,         24,         24,2,20050124,       0007,   -39.9995,  -150.0005,       5178,   711.4,   6.3459,  34.3431,2,  34.3446,2,    241.0,2,   239.6,2,    9.62,2,   23.82,2,    0.00,2,    1.61,2,   2.537,2,   1.268,2,   0.114,2,  2144.5,2,  2280.3,2,   0.109,2,-999.0000,9, -999.00,9, -999.00,9,  -999.0,9,  -999.0,-999.000,9,-999.000,  55.2694,4,   711.4,   0.006,   6.2810,     -999.0,9,     -999.0,9,     -999.0,9,     -999.0,9,     -999.0,9,     -999.0,9,     -999.0,9, -999.00,9,   0.0680,2,   0.0430,2,   0.0210,2,   0.0160,2,   0.0269,2,   0.0288,2,-999.0000, -999.00
33RR20050106,       P16S,      49,          3,         23,         23,2,20050124,       0007,   -39.9995,  -150.0005,       5178,   811.1,   5.8503,  34.3204,2,  34.3211,2,    230.1,2,   228.2,2,   13.84,2,   25.92,2,    0.00,2,    1.76,2,   2.271,2,   1.086,2,   0.103,2,  2157.0,2,  2283.3,2,-999.000,9,   1.8140,2,    1.31,2, -999.00,9,  -999.0,9,  -999.0,   7.870,2,   0.009,  40.1574,2,   811.1,-999.000,   5.7788,     -999.0,9,     -999.0,9,     -999.0,9,     -999.0,9,     -999.0,9,     -999.0,9,     -999.0,9, -999.00,9,   0.0740,2,   0.0480,2,   0.0250,2,   0.0190,2,   0.0230,2,   0.0252,2,   0.0010,    0.18
33RR20050106,       P16S,      49,          3,         22,         22,2,20050124,       0007,   -39.9995,  -150.0005,       5178,   911.8,   5.4114,  34.3161,2,  34.3171,2,    218.2,2,   218.1,2,   19.06,2,   27.75,2,    0.00,2,    1.88,2,   1.862,2,   0.955,2,   0.100,2,  2169.6,6,  2286.3,2,   0.079,2,   3.5610,4,    3.52,3, -999.00,9,  -999.0,9,  -999.0,  11.298,4,   0.018,  40.9584,2,   911.8,   0.006,   5.3334,     -999.0,9,     -999.0,9,     -999.0,9,     -999.0,9,     -999.0,9,     -999.0,9,     -999.0,9, -999.00,9,   0.0790,2,   0.0510,2,   0.0250,2,   0.0190,2,   0.0236,2,   0.0258,2,   0.0020,    0.15
33RR20050106,       P16S,      49,          3,         21,         21,2,20050124,       0007,   -39.9995,  -150.0005,       5178,  1012.5,   4.7590,  34.3245,2,  34.3250,2,    205.9,2,   206.6,2,   26.52,2,   29.91,2,    0.00,2,    2.04,2,   1.160,2,   0.588,2,   0.057,2,  2185.1,2,  2290.9,2,   0.050,2,   1.8390,2,    3.13,2, -999.00,9,  -999.0,9,  -999.0,   8.040,2,   0.012,  42.8782,3,  1012.5,   0.009,   4.6767,     -999.0,9,     -999.0,9,     -999.0,9,     -999.0,9,     -999.0,9,     -999.0,9,     -999.0,9, -999.00,9,   0.0880,2,   0.0580,2,   0.0300,2,   0.0220,2,   0.0203,2,   0.0224,2,   0.0010,    0.19
33RR20050106,       P16S,      49,          3,         20,         20,2,20050124,       0007,   -39.9995,  -150.0005,       5178,  1113.4,   4.2112,  34.3384,2,  34.3389,2,    199.2,2,   200.2,2,   34.39,2,   31.27,2,    0.00,2,    2.14,2,   1.015,2,   0.497,2,   0.057,2,  2198.5,2,  2298.7,2,   0.023,2,   1.8310,2,    3.72,2, -999.00,9,  -999.0,9,  -999.0,   8.013,2,   0.011,-999.0000,9,  1113.4,   0.005,   4.1245,     -999.0,9,     -999.0,9,     -999.0,9,     -999.0,9,     -999.0,9,     -999.0,9,     -999.0,9, -999.00,9,-999.0000,9,-999.0000,9,-999.0000,9,-999.0000,9,-999.0000,9,-999.0000,9,   0.0010,    0.20
33RR20050106,       P16S,      49,          3,         19,         19,2,20050124,       0007,   -39.9995,  -150.0005,       5178,  1214.7,   3.7069,  34.3681,2,  34.3687,2,    191.3,2,   191.2,2,   43.31,2,   32.62,2,    0.00,2,    2.25,2,   0.513,2,   0.245,2,   0.015,2,  2213.5,2,  2307.8,2,   0.041,2,   1.8500,2,    5.59,2, -999.00,9,  -999.0,9,  -999.0,   8.081,2,   0.012,  38.0825,2,  1214.7,   0.007,   3.6160,     -999.0,9,     -999.0,9,     -999.0,9,     -999.0,9,     -999.0,9,     -999.0,9,     -999.0,9, -999.00,9,   0.0880,2,   0.0560,2,   0.0280,2,   0.0210,2,   0.0213,2,   0.0238,2,   0.0010,    0.19
33RR20050106,       P16S,      49,          3,         18,         18,2,20050124,       0007,   -39.9995,  -150.0005,       5178,  1315.4,   3.3545,  34.4136,2,  34.4156,2,    181.9,2,   182.1,2,   53.05,2,   33.49,2,    0.00,2,    2.33,2,   0.288,2,   0.137,2,   0.002,2,  2228.0,2,  2317.0,6,   0.077,2,   1.9300,2,    7.27,2, -999.00,9,  -999.0,9,  -999.0,   8.271,2,   0.011,-999.0000,9,  1315.4,   0.007,   3.2586,     -999.0,9,     -999.0,9,     -999.0,9,     -999.0,9,     -999.0,9,     -999.0,9,     -999.0,9, -999.00,9,-999.0000,9,-999.0000,9,-999.0000,9,-999.0000,9,-999.0000,9,-999.0000,9,   0.0010,    0.19
33RR20050106,       P16S,      49,          3,         17,         17,2,20050124,       0007,   -39.9995,  -150.0005,       5178,  1417.3,   3.1323,  34.4563,2,  34.4586,2,    174.0,2,   175.3,2,   61.19,2,   33.87,2,    0.00,2,    2.35,2,   0.176,2,   0.089,2,   0.002,2,  2236.9,2,  2323.9,2,-999.000,9,-999.0000,9, -999.00,9, -999.00,9,  -999.0,9,  -999.0,-999.000,9,-999.000,-999.0000,9,  1417.3,-999.000,   3.0301,     -999.0,9,     -999.0,9,     -999.0,9,     -999.0,9,     -999.0,9,     -999.0,9,     -999.0,9, -999.00,9,-999.0000,9,-999.0000,9,-999.0000,9,-999.0000,9,-999.0000,9,-999.0000,9,-999.0000, -999.00
33RR20050106,       P16S,      49,          3,         16,         16,2,20050124,       0007,   -39.9995,  -150.0005,       5178,  1518.0,   2.9484,  34.5031,2,  34.5035,2,    167.9,2,   168.5,2,   70.38,2,   34.31,2,    0.00,2,    2.39,2,   0.089,2,   0.051,2,   0.002,2,  2250.6,2,  2336.3,2,-999.000,9,-999.0000,9, -999.00,9, -999.00,9,  -999.0,9,  -999.0,-999.000,9,-999.000,  37.8649,2,  1518.0,-999.000,   2.8398,     -999.0,9,     -999.0,9,     -999.0,9,     -999.0,9,     -999.0,9,     -999.0,9,     -999.0,9, -999.00,9,   0.1040,2,   0.0690,2,   0.0360,2,   0.0260,2,   0.0181,2,   0.0204,2,-999.0000, -999.00
33RR20050106,       P16S,      49,          3,         15,         15,2,20050124,       0007,   -39.9995,  -150.0005,       5178,  1620.2,   2.8035,  34.5438,2,  34.5444,2,    162.9,2,   162.9,2,   79.78,2,   34.47,2,    0.00,2,    2.41,2,   0.062,2,   0.030,2,   0.002,2,  2260.2,2,  2347.7,2,   0.052,2,-999.0000,9, -999.00,9, -999.00,9,  -999.0,9,  -999.0,-999.000,9,-999.000,-999.0000,9,  1620.2,   0.006,   2.6880,     -999.0,9,     -999.0,9,     -999.0,9,     -999.0,9,     -999.0,9,     -999.0,9,     -999.0,9, -999.00,9,-999.0000,9,-999.0000,9,-999.0000,9,-999.0000,9,-999.0000,9,-999.0000,9,-999.0000, -999.00
33RR20050106,       P16S,      49,          3,         14,         14,2,20050124,       0007,   -39.9995,  -150.0005,       5178,  1821.7,   2.5720,  34.5917,2,  34.5925,2,    155.2,2,   156.2,2,   94.55,2,   34.95,2,    0.00,2,    2.44,2,   0.021,2,  -0.002,2,   0.002,2,  2277.2,2,  2364.9,2,   0.008,2,   1.9160,2,   18.56,2, -999.00,9,  -999.0,9,  -999.0,   8.192,2,   0.013,  37.3655,2,  1821.7,   0.005,   2.4424,     -999.0,9,     -999.0,9,     -999.0,9,     -999.0,9,     -999.0,9,     -999.0,9,     -999.0,9, -999.00,9,   0.1090,2,   0.0720,2,   0.0370,2,   0.0260,2,   0.0179,2,   0.0202,2,   0.0010,    0.22
33RR20050106,       P16S,      49,          3,         13,         13,2,20050124,       0007,   -39.9995,  -150.0005,       5178,  2024.3,   2.3914,  34.6174,2,  34.6178,2,    151.8,2,   152.2,2,  104.41,2,   35.28,2,    0.00,2,    2.47,2,   0.033,3,   0.021,3,   0.002,2,  2289.3,2,  2377.5,2,-999.000,9,   1.9320,2,   21.79,2, -999.00,9,  -999.0,9,  -999.0,   8.194,2,   0.013,-999.0000,9,  2024.3,-999.000,   2.2469,     -999.0,9,     -999.0,9,     -999.0,9,     -999.0,9,     -999.0,9,     -999.0,9,     -999.0,9, -999.00,9,-999.0000,9,-999.0000,9,-999.0000,9,-999.0000,9,-999.0000,9,-999.0000,9,   0.0010,    0.22
33RR20050106,       P16S,      49,          3,         12,         12,2,20050124,       0007,   -39.9995,  -150.0005,       5178,  2277.7,   2.2085,  34.6375,2,  34.6386,2,    150.1,2,   150.7,2,  112.85,2,   35.61,2,    0.00,2,    2.49,2,   0.026,3,   0.016,3,   0.002,2,  2299.3,2,  2386.3,2,   0.001,2,   1.9200,2,   24.10,2, -999.00,9,  -999.0,9,  -999.0,   8.139,2,   0.011,  37.0770,2,  2277.7,   0.006,   2.0446,     -999.0,9,     -999.0,9,     -999.0,9,     -999.0,9,     -999.0,9,     -999.0,9,     -999.0,9, -999.00,9,   0.1150,2,   0.0770,2,   0.0410,2,   0.0290,2,   0.0164,2,   0.0186,2,   0.0010,    0.22
33RR20050106,       P16S,      49,          3,         11,         11,2,20050124,       0007,   -39.9995,  -150.0005,       5178,  2531.9,   2.0620,  34.6514,2,  34.6518,2,    149.8,2,   150.3,2,  118.82,2,   35.72,2,    0.00,2,    2.50,2,   0.010,2,   0.011,2,   0.002,2,  2303.3,2,  2392.4,2,   0.001,2,   1.9500,2,   25.02,2, -999.00,9,  -999.0,9,  -999.0,   8.257,2,   0.011,-999.0000,9,  2531.9,   0.007,   1.8776,     -999.0,9,     -999.0,9,     -999.0,9,     -999.0,9,     -999.0,9,     -999.0,9,     -999.0,9, -999.00,9,-999.0000,9,-999.0000,9,-999.0000,9,-999.0000,9,-999.0000,9,-999.0000,9,   0.0010,    0.21
33RR20050106,       P16S,      49,          3,         10,         10,2,20050124,       0007,   -39.9995,  -150.0005,       5178,  2786.3,   1.9463,  34.6636,2,  34.6632,2,    151.3,2,   152.1,2,  121.29,2,   35.60,2,    0.00,2,    2.50,2,   0.046,3,   0.027,3,   0.002,2,  2305.8,2,  2395.7,2,   0.003,2,   1.9330,2,   25.27,2, -999.00,9,  -999.0,9,  -999.0,   8.255,2,   0.012,  36.9625,2,  2786.3,   0.007,   1.7403,     -999.0,9,     -999.0,9,     -999.0,9,     -999.0,9,     -999.0,9,     -999.0,9,     -999.0,9, -999.00,9,   0.1150,2,   0.0770,2,   0.0400,2,   0.0270,2,   0.0174,2,   0.0195,2,   0.0010,    0.21
33RR20050106,       P16S,      49,          3,          9,          9,2,20050124,       0007,   -39.9995,  -150.0005,       5178,  3041.1,   1.8411,  34.6791,2,  34.6787,2,    157.2,2,   158.9,2,  121.29,2,   34.99,2,    0.00,2,    2.44,2,   0.002,2,   0.006,2,   0.002,2,  2301.2,2,  2391.9,2,   0.001,2,   1.9200,2,   21.85,2, -999.00,9,  -999.0,9,  -999.0,   8.218,2,   0.011,-999.0000,9,  3041.1,   0.006,   1.6127,     -999.0,9,     -999.0,9,     -999.0,9,     -999.0,9,     -999.0,9,     -999.0,9,     -999.0,9, -999.00,9,-999.0000,9,-999.0000,9,-999.0000,9,-999.0000,9,-999.0000,9,-999.0000,9,   0.0010,    0.21
33RR20050106,       P16S,      49,          3,          8,          8,2,20050124,       0007,   -39.9995,  -150.0005,       5178,  3345.8,   1.7218,  34.6995,2,  34.6991,2,    172.1,2,   172.8,2,  115.71,2,   33.73,2,    0.00,2,    2.34,2,   0.004,2,   0.014,2,   0.002,2,  2285.7,2,  2380.4,2,   0.001,2,-999.0000,9, -999.00,9, -999.00,9,  -999.0,9,  -999.0,-999.000,9,-999.000,  36.1348,2,  3345.8,   0.006,   1.4657,     -999.0,9,     -999.0,9,     -999.0,9,     -999.0,9,     -999.0,9,     -999.0,9,     -999.0,9, -999.00,9,-999.0000,9,-999.0000,9,-999.0000,9,-999.0000,9,-999.0000,9,-999.0000,9,-999.0000, -999.00
33RR20050106,       P16S,      49,          3,          7,          7,2,20050124,       0007,   -39.9995,  -150.0005,       5178,  3652.4,   1.5801,  34.7164,2,  34.7166,2,    186.5,2,   187.8,2,  109.73,2,   32.53,2,    0.00,2,    2.24,2,   0.010,2,   0.011,2,   0.002,2,  2270.1,2,  2368.5,2,   0.031,2,-999.0000,9, -999.00,9, -999.00,9,  -999.0,9,  -999.0,-999.000,9,-999.000,-999.0000,9,  3652.4,   0.006,   1.2959,     -999.0,9,     -999.0,9,     -999.0,9,     -999.0,9,     -999.0,9,     -999.0,9,     -999.0,9, -999.00,9,-999.0000,9,-999.0000,9,-999.0000,9,-999.0000,9,-999.0000,9,-999.0000,9,-999.0000, -999.00