BOTTLE,20201109CCHSIOCBG
EXPOCODE,SECT_ID,STNNBR,CASTNO,SAMPNO,BTLNBR,BTLNBR_FLAG_W,DATE,TIME,LATITUDE,LONGITUDE,DEPTH,CTDPRS,CTDTMP,CTDSAL,CTDSAL_FLAG_W,SALNTY,SALNTY_FLAG_W,CTDOXY,CTDOXY_FLAG_W,OXYGEN,OXYGEN_FLAG_W,SILCAT,SILCAT_FLAG_W,NITRAT,NITRAT_FLAG_W,NITRIT,NITRIT_FLAG_W,PHSPHT,PHSPHT_FLAG_W,CFC-11,CFC-11_FLAG_W,CFC-12,CFC-12_FLAG_W,CFC113,CFC113_FLAG_W,TCARBN,TCARBN_FLAG_W,ALKALI,ALKALI_FLAG_W,TRITUM,TRITUM_FLAG_W,HELIUM,HELIUM_FLAG_W,DELHE3,DELHE3_FLAG_W,DELC13,DELC13_FLAG_W,DELC14,DELC14_FLAG_W,C14ERR,NEON,NEON_FLAG_W,NEONER,DOC,DOC_FLAG_W,CTDRAW,TRITER,THETA,FUCO,FUCO_FLAG_W,RHAM,RHAM_FLAG_W,ARABA,ARABA_FLAG_W,GALA,GALA_FLAG_W,GLUC,GLUC_FLAG_W,MAN,MAN_FLAG_W,DCNS,DCNS_FLAG_W,BRDU,BRDU_FLAG_W,CDOM325,CDOM325_FLAG_W,CDOM340,CDOM340_FLAG_W,CDOM380,CDOM380_FLAG_W,CDOM412,CDOM412_FLAG_W,CDOMSL,CDOMSL_FLAG_W,CDOMSN,CDOMSN_FLAG_W,HELIER,DELHER
,,,,,,,,,,,METERS,DBAR,ITS-90,PSS-78,,PSS-78,,UMOL/KG,,UMOL/KG,,UMOL/KG,,UMOL/KG,,UMOL/KG,,UMOL/KG,,PMOL/KG,,PMOL/KG,,PMOL/KG,,UMOL/KG,,UMOL/KG,,TU,,NMOL/KG,,PERCNT,,/MILLE,,/MILLE,,/MILLE,NMOL/KG,,NMOL/KG,UMOL/KG,,DBAR,TU,DEG C,NMOL/KG,,NMOL/KG,,NMOL/KG,,NMOL/KG,,NMOL/KG,,NMOL/KG,,NMOL/KG,,PMOL/L/H,,1/M,,1/M,,1/M,,1/M,,1/NM,,1/NM,,NMOL/KG,PERCNT
33RR20050106,       P16S,      79,          1,         35,         35,2,20050202,       0854,   -55.0005,  -149.9970,       3531,     8.7,   5.9606,  33.8427,2,  33.8429,2,    303.4,2,   304.9,2,    0.58,2,   20.19,2,    0.20,2,    1.42,2,   5.013,2,   2.651,2,   0.405,2,  2104.7,2,  2270.4,6,   0.269,2,   1.7660,2,   -1.85,2, -999.00,9,  -999.0,9,  -999.0,   7.642,2,   0.029,  43.5944,2,     8.7,   0.008,   5.9599,     -999.0,9,     -999.0,9,     -999.0,9,     -999.0,9,     -999.0,9,     -999.0,9,     -999.0,9, -999.00,9,-999.0000,9,-999.0000,9,-999.0000,9,-999.0000,9,-999.0000,9,-999.0000,9,   0.0020,    0.13
33RR20050106,       P16S,      79,          1,         34,         34,2,20050202,       0854,   -55.0005,  -149.9970,       3531,    25.1,   5.9594,  33.8425,2,  33.8433,2,    304.5,2,   304.6,2,    0.57,2,   20.18,2,    0.20,2,    1.42,2,-999.000,9,-999.000,9,-999.000,9,  2105.8,6,  2270.7,2,-999.000,9,-999.0000,9, -999.00,9, -999.00,9,  -999.0,9,  -999.0,-999.000,9,-999.000,  46.8222,2,    25.1,-999.000,   5.9573,     -999.0,9,     -999.0,9,     -999.0,9,     -999.0,9,     -999.0,9,     -999.0,9,     -999.0,9, -999.00,9,-999.0000,9,-999.0000,9,-999.0000,9,-999.0000,9,-999.0000,9,-999.0000,9,-999.0000, -999.00
33RR20050106,       P16S,      79,          1,         33,         33,2,20050202,       0854,   -55.0005,  -149.9970,       3531,    50.4,   5.9464,  33.8425,2,  33.8437,2,    305.0,2,   304.6,2,    0.57,2,   20.23,2,    0.20,2,    1.43,2,   4.910,2,   2.653,2,   0.419,2,  2106.4,2,  2271.1,2,-999.000,9,-999.0000,9, -999.00,9, -999.00,9,  -999.0,9,  -999.0,-999.000,9,-999.000,  47.0492,2,    50.4,-999.000,   5.9422,     -999.0,9,     -999.0,9,     -999.0,9,     -999.0,9,     -999.0,9,     -999.0,9,     -999.0,9, -999.00,9,-999.0000,9,-999.0000,9,-999.0000,9,-999.0000,9,-999.0000,9,-999.0000,9,-999.0000, -999.00
33RR20050106,       P16S,      79,          1,         32,         32,2,20050202,       0854,   -55.0005,  -149.9970,       3531,    75.1,   3.9395,  33.9411,2,  33.9417,2,    309.2,2,   311.0,2,    7.10,2,   22.42,2,    0.18,2,    1.63,2,   5.409,2,   2.891,2,   0.453,2,  2131.2,2,  2272.4,2,   0.306,2,   1.7850,2,   -1.48,2, -999.00,9,  -999.0,9,  -999.0,   7.797,2,   0.019,  40.4899,2,    75.1,   0.011,   3.9345,     -999.0,9,     -999.0,9,     -999.0,9,     -999.0,9,     -999.0,9,     -999.0,9,     -999.0,9, -999.00,9,-999.0000,9,-999.0000,9,-999.0000,9,-999.0000,9,-999.0000,9,-999.0000,9,   0.0040,    0.21
33RR20050106,       P16S,      79,          1,         31,         31,2,20050202,       0854,   -55.0005,  -149.9970,       3531,   100.1,   3.8361,  33.9570,2,  33.9578,2,    309.4,2,   309.9,2,    7.88,2,   23.09,2,    0.47,2,    1.62,2,   5.352,2,   2.870,2,   0.477,2,  2132.8,2,  2272.0,2,   0.149,2,-999.0000,9, -999.00,9, -999.00,9,  -999.0,9,  -999.0,-999.000,9,-999.000,  40.7579,2,   100.1,   0.008,   3.8294,     -999.0,9,     -999.0,9,     -999.0,9,     -999.0,9,     -999.0,9,     -999.0,9,     -999.0,9, -999.00,9,-999.0000,9,-999.0000,9,-999.0000,9,-999.0000,9,-999.0000,9,-999.0000,9,-999.0000, -999.00
33RR20050106,       P16S,      79,          1,         30,         30,2,20050202,       0854,   -55.0005,  -149.9970,       3531,   150.7,   3.5752,  33.9639,2,  33.9635,2,    303.6,2,   309.9,2,    8.67,2,   24.23,2,    0.02,2,    1.65,2,   5.287,2,   2.816,2,   1.927,4,  2134.9,2,  2272.2,2,   0.219,2,   1.7840,2,   -1.43,2, -999.00,9,  -999.0,9,  -999.0,   7.760,2,   0.018,  42.4755,2,   150.7,   0.008,   3.5654,     -999.0,9,     -999.0,9,     -999.0,9,     -999.0,9,     -999.0,9,     -999.0,9,     -999.0,9, -999.00,9,-999.0000,9,-999.0000,9,-999.0000,9,-999.0000,9,-999.0000,9,-999.0000,9,   0.0040,    0.17
33RR20050106,       P16S,      79,          1,         29,         29,2,20050202,       0854,   -55.0005,  -149.9970,       3531,   205.9,   3.2961,  33.9966,2,  33.9954,2,    291.9,2,   294.4,2,   13.03,2,   26.26,2,    0.01,2,    1.77,2,   5.175,6,   2.668,6,   0.407,6,  2149.4,2,  2275.5,2,   0.305,2,-999.0000,9, -999.00,9, -999.00,9,  -999.0,9,  -999.0,-999.000,9,-999.000,  40.4387,2,   205.9,   0.010,   3.2831,     -999.0,9,     -999.0,9,     -999.0,9,     -999.0,9,     -999.0,9,     -999.0,9,     -999.0,9, -999.00,9,-999.0000,9,-999.0000,9,-999.0000,9,-999.0000,9,-999.0000,9,-999.0000,9,-999.0000, -999.00
33RR20050106,       P16S,      79,          1,         28,         28,2,20050202,       0854,   -55.0005,  -149.9970,       3531,   256.7,   3.5591,  34.0977,2,  34.0981,2,    264.2,2,   265.9,2,   18.99,2,   27.86,2,    0.01,2,    1.89,2,   4.446,2,   2.316,2,   0.341,2,  2165.3,2,  2280.3,2,   0.088,2,   1.8050,2,   -0.35,2, -999.00,9,  -999.0,9,  -999.0,   7.854,2,   0.030,  39.2049,2,   256.7,   0.006,   3.5422,     -999.0,9,     -999.0,9,     -999.0,9,     -999.0,9,     -999.0,9,     -999.0,9,     -999.0,9, -999.00,9,-999.0000,9,-999.0000,9,-999.0000,9,-999.0000,9,-999.0000,9,-999.0000,9,   0.0020,    0.13
33RR20050106,       P16S,      79,          1,         27,         27,2,20050202,       0854,   -55.0005,  -149.9970,       3531,   310.9,   3.8683,  34.2098,2,  34.2098,2,    238.1,2,   237.7,2,   25.15,2,   29.37,2,    0.00,2,    1.99,2,   3.564,2,   1.808,2,   0.249,2,  2180.8,2,  2286.1,2,   0.294,2,-999.0000,9, -999.00,9, -999.00,9,  -999.0,9,  -999.0,-999.000,9,-999.000,  39.6137,2,   310.9,   0.007,   3.8469,     -999.0,9,     -999.0,9,     -999.0,9,     -999.0,9,     -999.0,9,     -999.0,9,     -999.0,9, -999.00,9,-999.0000,9,-999.0000,9,-999.0000,9,-999.0000,9,-999.0000,9,-999.0000,9,-999.0000, -999.00
33RR20050106,       P16S,      79,          1,         26,         26,2,20050202,       0854,   -55.0005,  -149.9970,       3531,   362.0,   3.4471,  34.2076,2,  34.2086,2,    234.7,2,   234.6,2,   29.54,2,   30.48,2,    0.01,2,    2.06,2,-999.000,9,-999.000,9,-999.000,9,  2188.8,2,  2288.8,2,-999.000,9,-999.0000,9, -999.00,9, -999.00,9,  -999.0,9,  -999.0,-999.000,9,-999.000,  41.6649,2,   362.0,-999.000,   3.4232,     -999.0,9,     -999.0,9,     -999.0,9,     -999.0,9,     -999.0,9,     -999.0,9,     -999.0,9, -999.00,9,-999.0000,9,-999.0000,9,-999.0000,9,-999.0000,9,-999.0000,9,-999.0000,9,-999.0000, -999.00
33RR20050106,       P16S,      79,          1,         25,         25,2,20050202,       0854,   -55.0005,  -149.9970,       3531,   413.1,   3.3958,  34.2668,2,  34.2659,2,    219.8,2,   220.4,2,   34.93,2,   31.45,2,    0.01,2,    2.12,2,   2.846,2,   1.409,2,   0.183,2,  2198.2,2,  2294.8,2,   0.166,2,   1.7780,2,    1.80,2, -999.00,9,  -999.0,9,  -999.0,   0.000,4,   0.000,  38.4213,2,   413.1,   0.007,   3.3685,     -999.0,9,     -999.0,9,     -999.0,9,     -999.0,9,     -999.0,9,     -999.0,9,     -999.0,9, -999.00,9,-999.0000,9,-999.0000,9,-999.0000,9,-999.0000,9,-999.0000,9,-999.0000,9,   0.0060,    0.28
33RR20050106,       P16S,      79,          1,         24,         24,2,20050202,       0854,   -55.0005,  -149.9970,       3531,   462.6,   3.3073,  34.3070,2,  34.3071,2,    210.8,2,   210.4,2,   39.92,2,   32.14,2,    0.01,2,    2.17,2,   2.274,2,   1.111,2,   0.150,2,  2210.0,2,  2300.0,2,   0.047,2,   1.8620,2,    4.17,2, -999.00,9,  -999.0,9,  -999.0,   8.031,2,   0.026,-999.0000,9,   462.6,   0.006,   3.2769,     -999.0,9,     -999.0,9,     -999.0,9,     -999.0,9,     -999.0,9,     -999.0,9,     -999.0,9, -999.00,9,-999.0000,9,-999.0000,9,-999.0000,9,-999.0000,9,-999.0000,9,-999.0000,9,   0.0050,    0.33
33RR20050106,       P16S,      79,          1,         23,         23,2,20050202,       0854,   -55.0005,  -149.9970,       3531,   512.9,   3.0778,  34.3299,2,  34.3295,2,    204.0,2,   202.9,2,   44.73,2,   32.84,2,    0.00,2,    2.23,2,   1.954,2,   0.959,2,   0.125,2,  2218.5,2,  2304.2,2,   0.146,2,   1.7740,2,    3.44,2, -999.00,9,  -999.0,9,  -999.0,   0.000,4,   0.000,  37.8069,2,   512.9,   0.007,   3.0448,     -999.0,9,     -999.0,9,     -999.0,9,     -999.0,9,     -999.0,9,     -999.0,9,     -999.0,9, -999.00,9,-999.0000,9,-999.0000,9,-999.0000,9,-999.0000,9,-999.0000,9,-999.0000,9,   0.0060,    0.28
33RR20050106,       P16S,      79,          1,         22,         22,2,20050202,       0854,   -55.0005,  -149.9970,       3531,   614.0,   2.8467,  34.3840,2,  34.3839,2,    188.9,2,   191.2,2,   52.97,2,   33.81,2,    0.00,2,    2.29,2,   1.541,2,   0.762,2,   0.087,2,  2231.5,2,  2311.5,2,-999.000,9,   1.8470,2,    5.67,2, -999.00,9,  -999.0,9,  -999.0,   8.159,2,   0.009,  39.2433,2,   614.0,-999.000,   2.8078,     -999.0,9,     -999.0,9,     -999.0,9,     -999.0,9,     -999.0,9,     -999.0,9,     -999.0,9, -999.00,9,-999.0000,9,-999.0000,9,-999.0000,9,-999.0000,9,-999.0000,9,-999.0000,9,   0.0010,    0.19
33RR20050106,       P16S,      79,          1,         21,         21,2,20050202,       0854,   -55.0005,  -149.9970,       3531,   714.9,   2.7047,  34.4541,2,  34.4544,2,    180.4,2,   181.2,2,   60.80,2,   34.08,2,    0.00,2,    2.32,2,   1.055,2,   0.486,2,   0.068,2,  2241.7,2,  2320.1,2,   0.151,2,   1.8110,2,    6.43,2, -999.00,9,  -999.0,9,  -999.0,   0.000,4,   0.000,  38.9543,2,   714.9,   0.006,   2.6595,     -999.0,9,     -999.0,9,     -999.0,9,     -999.0,9,     -999.0,9,     -999.0,9,     -999.0,9, -999.00,9,-999.0000,9,-999.0000,9,-999.0000,9,-999.0000,9,-999.0000,9,-999.0000,9,   0.0050,    0.28
33RR20050106,       P16S,      79,          1,         20,         20,2,20050202,       0854,   -55.0005,  -149.9970,       3531,   814.5,   2.5742,  34.5107,2,  34.5113,2,    175.6,2,   176.4,2,   66.64,2,   33.91,2,    0.00,2,    2.32,2,   0.838,2,   0.427,2,   0.056,2,  2247.9,2,  2325.9,2,   0.017,2,   1.8540,2,    7.08,2, -999.00,9,  -999.0,9,  -999.0,   0.000,4,   0.000,  40.2093,2,   814.5,   0.005,   2.5228,     -999.0,9,     -999.0,9,     -999.0,9,     -999.0,9,     -999.0,9,     -999.0,9,     -999.0,9, -999.00,9,-999.0000,9,-999.0000,9,-999.0000,9,-999.0000,9,-999.0000,9,-999.0000,9,   0.0060,    0.28
33RR20050106,       P16S,      79,          1,         19,         19,2,20050202,       0854,   -55.0005,  -149.9970,       3531,   915.9,   2.5337,  34.5578,2,  34.5571,2,    172.5,2,   173.3,2,   73.30,2,   33.75,2,    0.00,2,    2.31,2,   0.571,2,   0.282,2,   0.032,2,  2254.4,2,  2334.6,2,   0.011,2,-999.0000,9, -999.00,9, -999.00,9,  -999.0,9,  -999.0,-999.000,9,-999.000,  41.0996,2,   915.9,   0.004,   2.4754,     -999.0,9,     -999.0,9,     -999.0,9,     -999.0,9,     -999.0,9,     -999.0,9,     -999.0,9, -999.00,9,-999.0000,9,-999.0000,9,-999.0000,9,-999.0000,9,-999.0000,9,-999.0000,9,-999.0000, -999.00
33RR20050106,       P16S,      79,          1,         18,         18,2,20050202,       0854,   -55.0005,  -149.9970,       3531,  1017.0,   2.4298,  34.5904,2,  34.5911,2,    173.2,2,   174.2,2,   73.70,2,   33.47,2,    0.00,2,    2.28,2,   0.484,2,   0.228,2,   0.023,2,  2252.9,2,  2334.6,6,-999.000,9,   1.8490,2,    8.79,2, -999.00,9,  -999.0,9,  -999.0,   8.013,2,   0.030,  39.0195,2,  1017.0,-999.000,   2.3650,     -999.0,9,     -999.0,9,     -999.0,9,     -999.0,9,     -999.0,9,     -999.0,9,     -999.0,9, -999.00,9,-999.0000,9,-999.0000,9,-999.0000,9,-999.0000,9,-999.0000,9,-999.0000,9,   0.0030,    0.48
33RR20050106,       P16S,      79,          1,         17,         17,2,20050202,       0854,   -55.0005,  -149.9970,       3531,  1117.7,   2.3619,  34.6270,2,  34.6288,2,    173.5,2,   174.6,2,   76.73,2,   33.04,2,    0.00,2,    2.25,2,   0.344,2,   0.169,2,   0.020,2,  2255.5,2,  2337.7,2,-999.000,9,-999.0000,9, -999.00,9, -999.00,9,  -999.0,9,  -999.0,-999.000,9,-999.000,-999.0000,9,  1117.7,-999.000,   2.2903,     -999.0,9,     -999.0,9,     -999.0,9,     -999.0,9,     -999.0,9,     -999.0,9,     -999.0,9, -999.00,9,-999.0000,9,-999.0000,9,-999.0000,9,-999.0000,9,-999.0000,9,-999.0000,9,-999.0000, -999.00
33RR20050106,       P16S,      79,          1,         37,         37,2,20050202,       0854,   -55.0005,  -149.9970,       3531,  1219.6,   2.3028,  34.6527,2,  34.6528,2,    174.9,2,   175.2,2,   80.16,2,   32.77,2,    0.00,2,    2.22,2,   0.276,2,   0.130,2,   0.019,2,  2255.5,2,  2343.4,2,   0.140,2,   1.8620,2,    8.46,2, -999.00,9,  -999.0,9,  -999.0,   7.986,2,   0.051,  38.7075,2,  1219.6,   0.007,   2.2242,     -999.0,9,     -999.0,9,     -999.0,9,     -999.0,9,     -999.0,9,     -999.0,9,     -999.0,9, -999.00,9,-999.0000,9,-999.0000,9,-999.0000,9,-999.0000,9,-999.0000,9,-999.0000,9,   0.0030,    0.22
33RR20050106,       P16S,      79,          1,         15,         15,2,20050202,       0854,   -55.0005,  -149.9970,       3531,  1321.0,   2.2520,  34.6738,2,  34.6744,2,    177.5,2,   177.6,2,   80.75,2,   32.33,2,    0.00,2,    2.20,2,   0.218,2,   0.107,2,   0.014,2,  2253.5,2,  2343.9,2,   0.108,2,   1.8510,2,    5.71,2, -999.00,9,  -999.0,9,  -999.0,   8.055,2,   0.051,-999.0000,9,  1321.0,   0.008,   2.1663,     -999.0,9,     -999.0,9,     -999.0,9,     -999.0,9,     -999.0,9,     -999.0,9,     -999.0,9, -999.00,9,-999.0000,9,-999.0000,9,-999.0000,9,-999.0000,9,-999.0000,9,-999.0000,9,   0.0030,    0.22
33RR20050106,       P16S,      79,          1,         14,         14,2,20050202,       0854,   -55.0005,  -149.9970,       3531,  1422.3,   2.1915,  34.6918,2,  34.6921,2,    179.6,2,   180.0,2,   82.37,2,   31.89,2,    0.00,2,    2.17,2,   0.188,2,   0.092,2,   0.009,2,  2254.6,2,  2345.1,2,   0.022,2,-999.0000,9, -999.00,9, -999.00,9,  -999.0,9,  -999.0,-999.000,9,-999.000,  38.4905,2,  1422.3,   0.005,   2.0987,     -999.0,9,     -999.0,9,     -999.0,9,     -999.0,9,     -999.0,9,     -999.0,9,     -999.0,9, -999.00,9,-999.0000,9,-999.0000,9,-999.0000,9,-999.0000,9,-999.0000,9,-999.0000,9,-999.0000, -999.00
33RR20050106,       P16S,      79,          1,         13,         13,2,20050202,       0854,   -55.0005,  -149.9970,       3531,  1523.4,   2.1302,  34.7065,2,  34.7071,2,    182.0,2,   182.5,2,   83.57,2,   31.68,2,    0.00,2,    2.15,2,   0.181,2,   0.082,2,   0.010,2,  2254.2,2,  2346.8,2,   0.001,2,   1.8670,2,    9.39,2, -999.00,9,  -999.0,9,  -999.0,   8.040,2,   0.051,-999.0000,9,  1523.4,   0.006,   2.0302,     -999.0,9,     -999.0,9,     -999.0,9,     -999.0,9,     -999.0,9,     -999.0,9,     -999.0,9, -999.00,9,-999.0000,9,-999.0000,9,-999.0000,9,-999.0000,9,-999.0000,9,-999.0000,9,   0.0030,    0.22
33RR20050106,       P16S,      79,          1,         12,         12,2,20050202,       0854,   -55.0005,  -149.9970,       3531,  1624.5,   2.0676,  34.7190,2,  34.7189,2,    184.5,2,   185.3,2,   84.98,2,   31.30,2,    0.00,2,    2.12,2,   0.217,2,   0.104,2,   0.009,2,  2252.5,2,  2347.6,2,   0.108,2,   1.8810,2,    9.84,2, -999.00,9,  -999.0,9,  -999.0,   8.098,2,   0.014,-999.0000,9,  1624.5,   0.006,   1.9605,     -999.0,9,     -999.0,9,     -999.0,9,     -999.0,9,     -999.0,9,     -999.0,9,     -999.0,9, -999.00,9,-999.0000,9,-999.0000,9,-999.0000,9,-999.0000,9,-999.0000,9,-999.0000,9,   0.0030,    0.29
33RR20050106,       P16S,      79,          1,         11,         11,2,20050202,       0854,   -55.0005,  -149.9970,       3531,  1725.9,   2.0003,  34.7273,2,  34.7271,2,    187.0,2,   187.7,2,   86.39,2,   31.14,2,    0.00,2,    2.11,2,-999.000,9,-999.000,9,-999.000,9,  2252.0,2,  2349.2,2,-999.000,9,-999.0000,9, -999.00,9, -999.00,9,  -999.0,9,  -999.0,-999.000,9,-999.000,  39.5504,2,  1725.9,-999.000,   1.8860,     -999.0,9,     -999.0,9,     -999.0,9,     -999.0,9,     -999.0,9,     -999.0,9,     -999.0,9, -999.00,9,-999.0000,9,-999.0000,9,-999.0000,9,-999.0000,9,-999.0000,9,-999.0000,9,-999.0000, -999.00
33RR20050106,       P16S,      79,          1,         10,         10,2,20050202,       0854,   -55.0005,  -149.9970,       3531,  1827.5,   1.9254,  34.7332,2,  34.7340,2,    188.8,2,   189.7,2,   88.21,2,   30.98,2,    0.00,2,    2.10,2,   0.118,2,   0.054,2,  -0.002,2,  2252.6,2,  2349.7,2,-999.000,9,   1.9370,2,    9.42,2, -999.00,9,  -999.0,9,  -999.0,   8.336,2,   0.014,-999.0000,9,  1827.5,-999.000,   1.8039,     -999.0,9,     -999.0,9,     -999.0,9,     -999.0,9,     -999.0,9,     -999.0,9,     -999.0,9, -999.00,9,-999.0000,9,-999.0000,9,-999.0000,9,-999.0000,9,-999.0000,9,-999.0000,9,   0.0020,    0.29
33RR20050106,       P16S,      79,          1,          9,          9,2,20050202,       0854,   -55.0005,  -149.9970,       3531,  1927.8,   1.8608,  34.7370,2,  34.7366,2,    191.0,2,   192.0,2,   90.22,2,   30.87,2,    0.00,2,    2.09,2,-999.000,9,-999.000,9,-999.000,9,  2252.0,6,  2351.7,2,-999.000,9,-999.0000,9, -999.00,9, -999.00,9,  -999.0,9,  -999.0,-999.000,9,-999.000,-999.0000,9,  1927.8,-999.000,   1.7321,     -999.0,9,     -999.0,9,     -999.0,9,     -999.0,9,     -999.0,9,     -999.0,9,     -999.0,9, -999.00,9,-999.0000,9,-999.0000,9,-999.0000,9,-999.0000,9,-999.0000,9,-999.0000,9,-999.0000, -999.00
33RR20050106,       P16S,      79,          1,          8,          8,2,20050202,       0854,   -55.0005,  -149.9970,       3531,  2030.5,   1.7856,  34.7389,2,  34.7393,2,    192.6,2,   193.2,2,   92.45,2,   30.92,2,    0.00,2,    2.09,2,   0.109,2,   0.054,2,   0.012,2,  2252.7,2,  2354.1,2,   0.001,2,   1.9080,2,   10.13,2, -999.00,9,  -999.0,9,  -999.0,   8.153,2,   0.011,  39.3035,2,  2030.5,   0.007,   1.6495,     -999.0,9,     -999.0,9,     -999.0,9,     -999.0,9,     -999.0,9,     -999.0,9,     -999.0,9, -999.00,9,-999.0000,9,-999.0000,9,-999.0000,9,-999.0000,9,-999.0000,9,-999.0000,9,   0.0010,    0.20
33RR20050106,       P16S,      79,          1,          7,          7,2,20050202,       0854,   -55.0005,  -149.9970,       3531,  2283.7,   1.5611,  34.7369,2,  34.7370,2,    196.0,2,   197.2,2,   99.35,2,   30.92,2,    0.00,2,    2.10,2,   0.125,2,   0.075,2,   0.014,2,  2255.8,2,  2357.1,2,   0.019,2,-999.0000,9, -999.00,9, -999.00,9,  -999.0,9,  -999.0,-999.000,9,-999.000,-999.0000,9,  2283.7,   0.005,   1.4074,     -999.0,9,     -999.0,9,     -999.0,9,     -999.0,9,     -999.0,9,     -999.0,9,     -999.0,9, -999.00,9,-999.0000,9,-999.0000,9,-999.0000,9,-999.0000,9,-999.0000,9,-999.0000,9,-999.0000, -999.00
33RR20050106,       P16S,      79,          1,          6,          6,2,20050202,       0854,   -55.0005,  -149.9970,       3531,  2538.0,   1.3585,  34.7309,2,  34.7317,2,    198.7,2,   199.8,2,  105.45,2,   31.08,2,    0.00,2,    2.12,2,   0.068,2,   0.040,2,   0.012,2,  2259.0,2,  2358.9,2,   0.003,2,-999.0000,9, -999.00,9, -999.00,9,  -999.0,9,  -999.0,-999.000,9,-999.000,  38.5447,2,  2538.0,   0.006,   1.1865,     -999.0,9,     -999.0,9,     -999.0,9,     -999.0,9,     -999.0,9,     -999.0,9,     -999.0,9, -999.00,9,-999.0000,9,-999.0000,9,-999.0000,9,-999.0000,9,-999.0000,9,-999.0000,9,-999.0000, -999.00