BOTTLE,20201109CCHSIOCBG
EXPOCODE,SECT_ID,STNNBR,CASTNO,SAMPNO,BTLNBR,BTLNBR_FLAG_W,DATE,TIME,LATITUDE,LONGITUDE,DEPTH,CTDPRS,CTDTMP,CTDSAL,CTDSAL_FLAG_W,SALNTY,SALNTY_FLAG_W,CTDOXY,CTDOXY_FLAG_W,OXYGEN,OXYGEN_FLAG_W,SILCAT,SILCAT_FLAG_W,NITRAT,NITRAT_FLAG_W,NITRIT,NITRIT_FLAG_W,PHSPHT,PHSPHT_FLAG_W,CFC-11,CFC-11_FLAG_W,CFC-12,CFC-12_FLAG_W,CFC113,CFC113_FLAG_W,TCARBN,TCARBN_FLAG_W,ALKALI,ALKALI_FLAG_W,TRITUM,TRITUM_FLAG_W,HELIUM,HELIUM_FLAG_W,DELHE3,DELHE3_FLAG_W,DELC13,DELC13_FLAG_W,DELC14,DELC14_FLAG_W,C14ERR,NEON,NEON_FLAG_W,NEONER,DOC,DOC_FLAG_W,CTDRAW,TRITER,THETA,FUCO,FUCO_FLAG_W,RHAM,RHAM_FLAG_W,ARABA,ARABA_FLAG_W,GALA,GALA_FLAG_W,GLUC,GLUC_FLAG_W,MAN,MAN_FLAG_W,DCNS,DCNS_FLAG_W,BRDU,BRDU_FLAG_W,CDOM325,CDOM325_FLAG_W,CDOM340,CDOM340_FLAG_W,CDOM380,CDOM380_FLAG_W,CDOM412,CDOM412_FLAG_W,CDOMSL,CDOMSL_FLAG_W,CDOMSN,CDOMSN_FLAG_W,HELIER,DELHER
,,,,,,,,,,,METERS,DBAR,ITS-90,PSS-78,,PSS-78,,UMOL/KG,,UMOL/KG,,UMOL/KG,,UMOL/KG,,UMOL/KG,,UMOL/KG,,PMOL/KG,,PMOL/KG,,PMOL/KG,,UMOL/KG,,UMOL/KG,,TU,,NMOL/KG,,PERCNT,,/MILLE,,/MILLE,,/MILLE,NMOL/KG,,NMOL/KG,UMOL/KG,,DBAR,TU,DEG C,NMOL/KG,,NMOL/KG,,NMOL/KG,,NMOL/KG,,NMOL/KG,,NMOL/KG,,NMOL/KG,,PMOL/L/H,,1/M,,1/M,,1/M,,1/M,,1/NM,,1/NM,,NMOL/KG,PERCNT
33RR20050106,       P16S,      90,          2,         30,         30,2,20050205,       0850,   -60.5003,  -150.0007,       3073,     3.6,   1.6092,  34.1022,2,  34.1027,2,    334.9,2,   336.3,2,   46.46,2,   24.70,2,    0.35,2,    1.71,2,   5.589,2,   3.283,2,   0.576,2,  2173.1,6,  2306.8,2,-999.000,9,-999.0000,9, -999.00,9, -999.00,9,  -999.0,9,  -999.0,-999.000,9,-999.000,-999.0000,9,     3.6,-999.000,   1.6090,     -999.0,9,     -999.0,9,     -999.0,9,     -999.0,9,     -999.0,9,     -999.0,9,     -999.0,9, -999.00,9,-999.0000,9,-999.0000,9,-999.0000,9,-999.0000,9,-999.0000,9,-999.0000,9,-999.0000, -999.00
33RR20050106,       P16S,      90,          2,         29,         29,2,20050205,       0850,   -60.5003,  -150.0007,       3073,    40.0,   1.6127,  34.1034,2,  34.1035,2,    335.5,2,   336.4,2,   46.66,2,   24.68,2,    0.35,2,    1.71,2,   5.717,2,   3.290,2,   0.587,2,  2174.1,2,  2306.0,2,-999.000,9,-999.0000,9, -999.00,9, -999.00,9,  -999.0,9,  -999.0,-999.000,9,-999.000,-999.0000,9,    40.0,-999.000,   1.6108,     -999.0,9,     -999.0,9,     -999.0,9,     -999.0,9,     -999.0,9,     -999.0,9,     -999.0,9, -999.00,9,-999.0000,9,-999.0000,9,-999.0000,9,-999.0000,9,-999.0000,9,-999.0000,9,-999.0000, -999.00
33RR20050106,       P16S,      90,          2,         28,         28,2,20050205,       0850,   -60.5003,  -150.0007,       3073,    84.4,  -1.0455,  34.2087,2,  34.2050,2,    350.9,2,   352.6,2,   57.70,2,   26.91,2,    0.28,2,    1.92,2,   6.241,2,   3.511,2,   0.635,2,  2195.3,2,  2312.6,2,-999.000,9,-999.0000,9, -999.00,9, -999.00,9,  -999.0,9,  -999.0,-999.000,9,-999.000,-999.0000,9,    84.4,-999.000,  -1.0477,     -999.0,9,     -999.0,9,     -999.0,9,     -999.0,9,     -999.0,9,     -999.0,9,     -999.0,9, -999.00,9,-999.0000,9,-999.0000,9,-999.0000,9,-999.0000,9,-999.0000,9,-999.0000,9,-999.0000, -999.00
33RR20050106,       P16S,      90,          2,         27,         27,2,20050205,       0850,   -60.5003,  -150.0007,       3073,   135.3,  -1.5100,  34.2930,2,  34.2919,2,    337.1,2,   338.3,2,   66.05,2,   28.68,2,    0.24,2,    2.03,2,   5.793,2,   3.305,2,   0.581,2,  2208.2,2,  2316.7,2,-999.000,9,-999.0000,9, -999.00,9, -999.00,9,  -999.0,9,  -999.0,-999.000,9,-999.000,-999.0000,9,   135.3,-999.000,  -1.5131,     -999.0,9,     -999.0,9,     -999.0,9,     -999.0,9,     -999.0,9,     -999.0,9,     -999.0,9, -999.00,9,-999.0000,9,-999.0000,9,-999.0000,9,-999.0000,9,-999.0000,9,-999.0000,9,-999.0000, -999.00
33RR20050106,       P16S,      90,          2,         26,         26,2,20050205,       0850,   -60.5003,  -150.0007,       3073,   185.6,   0.6703,  34.6098,2,  34.6085,2,    234.4,2,   205.9,2,   93.73,2,   33.15,2,    0.01,2,    2.27,2,-999.000,5,-999.000,5,-999.000,5,  2256.0,2,  2336.9,2,-999.000,9,-999.0000,9, -999.00,9, -999.00,9,  -999.0,9,  -999.0,-999.000,9,-999.000,-999.0000,9,   185.6,-999.000,   0.6624,     -999.0,9,     -999.0,9,     -999.0,9,     -999.0,9,     -999.0,9,     -999.0,9,     -999.0,9, -999.00,9,-999.0000,9,-999.0000,9,-999.0000,9,-999.0000,9,-999.0000,9,-999.0000,9,-999.0000, -999.00
33RR20050106,       P16S,      90,          2,         25,         25,2,20050205,       0850,   -60.5003,  -150.0007,       3073,   240.6,   1.2787,  34.7176,2,  34.7162,2,    178.8,2,   175.7,2,  104.04,2,   33.84,2,    0.00,2,    2.32,2,   0.297,6,   0.149,6,   0.030,6,  2268.6,2,  2346.2,2,-999.000,9,-999.0000,9, -999.00,9, -999.00,9,  -999.0,9,  -999.0,-999.000,9,-999.000,-999.0000,9,   240.6,-999.000,   1.2671,     -999.0,9,     -999.0,9,     -999.0,9,     -999.0,9,     -999.0,9,     -999.0,9,     -999.0,9, -999.00,9,-999.0000,9,-999.0000,9,-999.0000,9,-999.0000,9,-999.0000,9,-999.0000,9,-999.0000, -999.00
33RR20050106,       P16S,      90,          2,         24,         24,2,20050205,       0850,   -60.5003,  -150.0007,       3073,   291.1,   1.2820,  34.7285,2,  34.7280,2,    175.2,2,   175.6,2,  107.18,2,   33.66,2,    0.00,2,    2.30,2,   0.142,2,   0.071,2,   0.022,2,  2268.9,2,  2349.8,2,-999.000,9,-999.0000,9, -999.00,9, -999.00,9,  -999.0,9,  -999.0,-999.000,9,-999.000,-999.0000,9,   291.1,-999.000,   1.2678,     -999.0,9,     -999.0,9,     -999.0,9,     -999.0,9,     -999.0,9,     -999.0,9,     -999.0,9, -999.00,9,-999.0000,9,-999.0000,9,-999.0000,9,-999.0000,9,-999.0000,9,-999.0000,9,-999.0000, -999.00
33RR20050106,       P16S,      90,          2,         23,         23,2,20050205,       0850,   -60.5003,  -150.0007,       3073,   342.2,   1.2560,  34.7294,2,  34.7293,2,    177.1,2,   177.6,2,  108.65,2,   33.41,2,    0.00,2,    2.29,2,   0.123,2,   0.066,2,   0.020,2,  2268.0,2,  2350.3,2,-999.000,9,-999.0000,9, -999.00,9, -999.00,9,  -999.0,9,  -999.0,-999.000,9,-999.000,-999.0000,9,   342.2,-999.000,   1.2393,     -999.0,9,     -999.0,9,     -999.0,9,     -999.0,9,     -999.0,9,     -999.0,9,     -999.0,9, -999.00,9,-999.0000,9,-999.0000,9,-999.0000,9,-999.0000,9,-999.0000,9,-999.0000,9,-999.0000, -999.00
33RR20050106,       P16S,      90,          2,         22,         22,2,20050205,       0850,   -60.5003,  -150.0007,       3073,   390.9,   1.2217,  34.7294,2,  34.7293,2,    178.9,2,   179.1,2,  109.48,2,   33.34,2,    0.00,2,    2.28,2,   0.103,2,   0.049,2,   0.021,2,  2267.8,2,  2350.7,2,-999.000,9,-999.0000,9, -999.00,9, -999.00,9,  -999.0,9,  -999.0,-999.000,9,-999.000,-999.0000,9,   390.9,-999.000,   1.2025,     -999.0,9,     -999.0,9,     -999.0,9,     -999.0,9,     -999.0,9,     -999.0,9,     -999.0,9, -999.00,9,-999.0000,9,-999.0000,9,-999.0000,9,-999.0000,9,-999.0000,9,-999.0000,9,-999.0000, -999.00
33RR20050106,       P16S,      90,          2,         21,         21,2,20050205,       0850,   -60.5003,  -150.0007,       3073,   441.9,   1.1881,  34.7288,2,  34.7283,2,    180.6,2,   181.0,2,  110.75,2,   33.21,2,    0.00,2,    2.27,2,   0.079,2,   0.043,2,   0.024,2,  2267.0,2,  2352.0,2,-999.000,9,-999.0000,9, -999.00,9, -999.00,9,  -999.0,9,  -999.0,-999.000,9,-999.000,-999.0000,9,   441.9,-999.000,   1.1664,     -999.0,9,     -999.0,9,     -999.0,9,     -999.0,9,     -999.0,9,     -999.0,9,     -999.0,9, -999.00,9,-999.0000,9,-999.0000,9,-999.0000,9,-999.0000,9,-999.0000,9,-999.0000,9,-999.0000, -999.00
33RR20050106,       P16S,      90,          2,         20,         20,2,20050205,       0850,   -60.5003,  -150.0007,       3073,   493.7,   1.1571,  34.7279,2,  34.7279,2,    182.1,2,   183.3,2,  111.36,2,   33.08,2,    0.00,2,    2.26,2,   0.126,2,   0.063,2,   0.015,2,  2266.1,2,  2352.3,2,-999.000,9,-999.0000,9, -999.00,9, -999.00,9,  -999.0,9,  -999.0,-999.000,9,-999.000,-999.0000,9,   493.7,-999.000,   1.1327,     -999.0,9,     -999.0,9,     -999.0,9,     -999.0,9,     -999.0,9,     -999.0,9,     -999.0,9, -999.00,9,-999.0000,9,-999.0000,9,-999.0000,9,-999.0000,9,-999.0000,9,-999.0000,9,-999.0000, -999.00
33RR20050106,       P16S,      90,          2,         19,         19,2,20050205,       0850,   -60.5003,  -150.0007,       3073,   578.2,   1.0971,  34.7258,2,  34.7254,2,    185.0,2,   185.3,2,  113.26,2,   32.89,2,    0.00,2,    2.25,2,   0.087,2,   0.042,2,   0.014,2,  2265.1,2,  2354.0,2,-999.000,9,-999.0000,9, -999.00,9, -999.00,9,  -999.0,9,  -999.0,-999.000,9,-999.000,-999.0000,9,   578.2,-999.000,   1.0684,     -999.0,9,     -999.0,9,     -999.0,9,     -999.0,9,     -999.0,9,     -999.0,9,     -999.0,9, -999.00,9,-999.0000,9,-999.0000,9,-999.0000,9,-999.0000,9,-999.0000,9,-999.0000,9,-999.0000, -999.00
33RR20050106,       P16S,      90,          2,         18,         18,2,20050205,       0850,   -60.5003,  -150.0007,       3073,   680.2,   1.0209,  34.7230,2,  34.7226,2,    188.1,2,   188.7,2,  115.35,2,   32.82,2,    0.00,2,    2.25,2,   0.064,2,   0.032,2,   0.008,2,  2265.1,2,  2354.7,2,-999.000,9,-999.0000,9, -999.00,9, -999.00,9,  -999.0,9,  -999.0,-999.000,9,-999.000,-999.0000,9,   680.2,-999.000,   0.9870,     -999.0,9,     -999.0,9,     -999.0,9,     -999.0,9,     -999.0,9,     -999.0,9,     -999.0,9, -999.00,9,-999.0000,9,-999.0000,9,-999.0000,9,-999.0000,9,-999.0000,9,-999.0000,9,-999.0000, -999.00
33RR20050106,       P16S,      90,          2,         17,         17,2,20050205,       0850,   -60.5003,  -150.0007,       3073,   781.2,   0.9558,  34.7205,2,  34.7208,2,    191.6,2,   191.8,2,  117.24,2,   32.63,2,    0.00,2,    2.24,2,   0.054,2,   0.021,2,  -0.002,2,  2264.3,2,  2355.9,2,-999.000,9,-999.0000,9, -999.00,9, -999.00,9,  -999.0,9,  -999.0,-999.000,9,-999.000,-999.0000,9,   781.2,-999.000,   0.9166,     -999.0,9,     -999.0,9,     -999.0,9,     -999.0,9,     -999.0,9,     -999.0,9,     -999.0,9, -999.00,9,-999.0000,9,-999.0000,9,-999.0000,9,-999.0000,9,-999.0000,9,-999.0000,9,-999.0000, -999.00
33RR20050106,       P16S,      90,          2,         16,         16,2,20050205,       0850,   -60.5003,  -150.0007,       3073,   882.0,   0.8994,  34.7181,2,  34.7189,2,    194.2,2,   194.7,2,  117.23,2,   32.55,2,    0.00,2,    2.24,2,   0.068,2,   0.036,2,  -0.002,2,  2263.9,2,  2356.7,2,-999.000,9,-999.0000,9, -999.00,9, -999.00,9,  -999.0,9,  -999.0,-999.000,9,-999.000,-999.0000,9,   882.0,-999.000,   0.8548,     -999.0,9,     -999.0,9,     -999.0,9,     -999.0,9,     -999.0,9,     -999.0,9,     -999.0,9, -999.00,9,-999.0000,9,-999.0000,9,-999.0000,9,-999.0000,9,-999.0000,9,-999.0000,9,-999.0000, -999.00
33RR20050106,       P16S,      90,          2,         15,         15,2,20050205,       0850,   -60.5003,  -150.0007,       3073,   983.6,   0.8365,  34.7158,2,  34.7159,2,    196.2,2,   197.2,2,  120.18,2,   32.59,2,    0.00,2,    2.23,2,   0.052,2,   0.027,2,   0.020,2,  2262.8,2,  2357.3,2,-999.000,9,-999.0000,9, -999.00,9, -999.00,9,  -999.0,9,  -999.0,-999.000,9,-999.000,-999.0000,9,   983.6,-999.000,   0.7864,     -999.0,9,     -999.0,9,     -999.0,9,     -999.0,9,     -999.0,9,     -999.0,9,     -999.0,9, -999.00,9,-999.0000,9,-999.0000,9,-999.0000,9,-999.0000,9,-999.0000,9,-999.0000,9,-999.0000, -999.00
33RR20050106,       P16S,      90,          2,         14,         14,2,20050205,       0850,   -60.5003,  -150.0007,       3073,  1083.4,   0.7887,  34.7138,2,  34.7147,2,    197.9,2,   199.0,2,  121.22,2,   32.40,2,    0.00,2,    2.23,2,   0.082,2,   0.043,2,   0.020,2,  2261.8,6,  2357.0,2,-999.000,9,-999.0000,9, -999.00,9, -999.00,9,  -999.0,9,  -999.0,-999.000,9,-999.000,-999.0000,9,  1083.4,-999.000,   0.7330,     -999.0,9,     -999.0,9,     -999.0,9,     -999.0,9,     -999.0,9,     -999.0,9,     -999.0,9, -999.00,9,-999.0000,9,-999.0000,9,-999.0000,9,-999.0000,9,-999.0000,9,-999.0000,9,-999.0000, -999.00
33RR20050106,       P16S,      90,          2,         13,         13,2,20050205,       0850,   -60.5003,  -150.0007,       3073,  1185.1,   0.7402,  34.7119,2,  34.7118,2,    199.6,2,   200.7,2,  122.90,2,   32.44,2,    0.00,2,    2.23,2,   0.056,2,   0.029,2,   0.020,2,  -999.0,9,  -999.0,9,-999.000,9,-999.0000,9, -999.00,9, -999.00,9,  -999.0,9,  -999.0,-999.000,9,-999.000,-999.0000,9,  1185.1,-999.000,   0.6787,     -999.0,9,     -999.0,9,     -999.0,9,     -999.0,9,     -999.0,9,     -999.0,9,     -999.0,9, -999.00,9,-999.0000,9,-999.0000,9,-999.0000,9,-999.0000,9,-999.0000,9,-999.0000,9,-999.0000, -999.00
33RR20050106,       P16S,      90,          2,         12,         12,2,20050205,       0850,   -60.5003,  -150.0007,       3073,  1286.3,   0.6942,  34.7099,2,  34.7100,2,    201.0,2,   202.0,2,  123.53,2,   32.47,2,    0.00,2,    2.23,2,   0.053,2,   0.027,2,   0.018,2,  -999.0,9,  -999.0,9,-999.000,9,-999.0000,9, -999.00,9, -999.00,9,  -999.0,9,  -999.0,-999.000,9,-999.000,-999.0000,9,  1286.3,-999.000,   0.6268,     -999.0,9,     -999.0,9,     -999.0,9,     -999.0,9,     -999.0,9,     -999.0,9,     -999.0,9, -999.00,9,-999.0000,9,-999.0000,9,-999.0000,9,-999.0000,9,-999.0000,9,-999.0000,9,-999.0000, -999.00
33RR20050106,       P16S,      90,          2,         11,         11,2,20050205,       0850,   -60.5003,  -150.0007,       3073,  1387.1,   0.6570,  34.7086,2,  34.7094,2,    202.3,2,   203.2,2,  125.00,2,   32.34,2,    0.00,2,    2.23,2,   0.070,2,   0.033,2,   0.013,2,  -999.0,9,  -999.0,9,-999.000,9,-999.0000,9, -999.00,9, -999.00,9,  -999.0,9,  -999.0,-999.000,9,-999.000,-999.0000,9,  1387.1,-999.000,   0.5836,     -999.0,9,     -999.0,9,     -999.0,9,     -999.0,9,     -999.0,9,     -999.0,9,     -999.0,9, -999.00,9,-999.0000,9,-999.0000,9,-999.0000,9,-999.0000,9,-999.0000,9,-999.0000,9,-999.0000, -999.00
33RR20050106,       P16S,      90,          2,         10,         10,2,20050205,       0850,   -60.5003,  -150.0007,       3073,  1488.8,   0.6184,  34.7073,2,  34.7080,2,    203.3,2,   204.1,2,  126.04,2,   32.43,2,    0.00,2,    2.23,2,   0.063,2,   0.032,2,   0.012,2,  -999.0,9,  -999.0,9,-999.000,9,-999.0000,9, -999.00,9, -999.00,9,  -999.0,9,  -999.0,-999.000,9,-999.000,-999.0000,9,  1488.8,-999.000,   0.5388,     -999.0,9,     -999.0,9,     -999.0,9,     -999.0,9,     -999.0,9,     -999.0,9,     -999.0,9, -999.00,9,-999.0000,9,-999.0000,9,-999.0000,9,-999.0000,9,-999.0000,9,-999.0000,9,-999.0000, -999.00
33RR20050106,       P16S,      90,          2,          9,          9,2,20050205,       0850,   -60.5003,  -150.0007,       3073,  1588.3,   0.5802,  34.7065,2,  34.7068,2,    204.4,2,   205.4,2,  126.46,2,   32.46,2,    0.00,2,    2.24,2,   0.067,2,   0.045,2,   0.016,2,  -999.0,9,  -999.0,9,-999.000,9,-999.0000,9, -999.00,9, -999.00,9,  -999.0,9,  -999.0,-999.000,9,-999.000,-999.0000,9,  1588.3,-999.000,   0.4944,     -999.0,9,     -999.0,9,     -999.0,9,     -999.0,9,     -999.0,9,     -999.0,9,     -999.0,9, -999.00,9,-999.0000,9,-999.0000,9,-999.0000,9,-999.0000,9,-999.0000,9,-999.0000,9,-999.0000, -999.00
33RR20050106,       P16S,      90,          2,          8,          8,2,20050205,       0850,   -60.5003,  -150.0007,       3073,  1793.8,   0.4904,  34.7040,2,  34.7045,2,    207.4,2,   208.3,2,  126.45,2,   32.38,2,    0.00,2,    2.23,2,   0.134,2,   0.070,2,   0.027,2,  -999.0,9,  -999.0,9,-999.000,9,-999.0000,9, -999.00,9, -999.00,9,  -999.0,9,  -999.0,-999.000,9,-999.000,-999.0000,9,  1793.8,-999.000,   0.3917,     -999.0,9,     -999.0,9,     -999.0,9,     -999.0,9,     -999.0,9,     -999.0,9,     -999.0,9, -999.00,9,-999.0000,9,-999.0000,9,-999.0000,9,-999.0000,9,-999.0000,9,-999.0000,9,-999.0000, -999.00
33RR20050106,       P16S,      90,          2,          7,          7,2,20050205,       0850,   -60.5003,  -150.0007,       3073,  1996.3,   0.4221,  34.7030,2,  34.7025,2,    208.9,2,   209.9,2,  128.34,2,   32.37,2,    0.00,2,    2.23,2,   0.176,2,   0.088,2,   0.030,2,  -999.0,9,  -999.0,9,-999.000,9,-999.0000,9, -999.00,9, -999.00,9,  -999.0,9,  -999.0,-999.000,9,-999.000,-999.0000,9,  1996.3,-999.000,   0.3099,     -999.0,9,     -999.0,9,     -999.0,9,     -999.0,9,     -999.0,9,     -999.0,9,     -999.0,9, -999.00,9,-999.0000,9,-999.0000,9,-999.0000,9,-999.0000,9,-999.0000,9,-999.0000,9,-999.0000, -999.00
33RR20050106,       P16S,      90,          2,          6,          6,2,20050205,       0850,   -60.5003,  -150.0007,       3073,  2200.0,   0.3438,  34.7013,2,  34.7013,2,    211.4,2,   212.4,2,  128.12,2,   32.41,2,    0.00,2,    2.24,2,   0.246,2,   0.128,2,   0.034,2,  -999.0,9,  -999.0,9,-999.000,9,-999.0000,9, -999.00,9, -999.00,9,  -999.0,9,  -999.0,-999.000,9,-999.000,-999.0000,9,  2200.0,-999.000,   0.2178,     -999.0,9,     -999.0,9,     -999.0,9,     -999.0,9,     -999.0,9,     -999.0,9,     -999.0,9, -999.00,9,-999.0000,9,-999.0000,9,-999.0000,9,-999.0000,9,-999.0000,9,-999.0000,9,-999.0000, -999.00
33RR20050106,       P16S,      90,          2,          5,          5,2,20050205,       0850,   -60.5003,  -150.0007,       3073,  2453.1,   0.2673,  34.6997,2,  34.6987,2,    213.7,2,   215.0,2,  127.69,2,   32.33,2,    0.00,2,    2.23,2,   0.383,2,   0.199,2,   0.033,2,  -999.0,9,  -999.0,9,-999.000,9,-999.0000,9, -999.00,9, -999.00,9,  -999.0,9,  -999.0,-999.000,9,-999.000,-999.0000,9,  2453.1,-999.000,   0.1232,     -999.0,9,     -999.0,9,     -999.0,9,     -999.0,9,     -999.0,9,     -999.0,9,     -999.0,9, -999.00,9,-999.0000,9,-999.0000,9,-999.0000,9,-999.0000,9,-999.0000,9,-999.0000,9,-999.0000, -999.00
33RR20050106,       P16S,      90,          2,          4,          4,2,20050205,       0850,   -60.5003,  -150.0007,       3073,  2636.3,   0.2296,  34.6976,2,  34.6972,2,    215.7,2,   216.6,2,  126.83,2,   32.25,2,    0.00,2,    2.23,2,   0.502,2,   0.268,2,   0.043,2,  -999.0,9,  -999.0,9,-999.000,9,-999.0000,9, -999.00,9, -999.00,9,  -999.0,9,  -999.0,-999.000,9,-999.000,-999.0000,9,  2636.3,-999.000,   0.0715,     -999.0,9,     -999.0,9,     -999.0,9,     -999.0,9,     -999.0,9,     -999.0,9,     -999.0,9, -999.00,9,-999.0000,9,-999.0000,9,-999.0000,9,-999.0000,9,-999.0000,9,-999.0000,9,-999.0000, -999.00
33RR20050106,       P16S,      90,          2,          3,          3,2,20050205,       0850,   -60.5003,  -150.0007,       3073,  2839.4,   0.2186,  34.6973,2,  34.6975,2,    216.6,2,   217.4,2,  127.25,2,   32.23,2,    0.00,2,    2.23,2,   0.552,2,   0.286,2,   0.047,2,  -999.0,9,  -999.0,9,-999.000,9,-999.0000,9, -999.00,9, -999.00,9,  -999.0,9,  -999.0,-999.000,9,-999.000,-999.0000,9,  2839.4,-999.000,   0.0439,     -999.0,9,     -999.0,9,     -999.0,9,     -999.0,9,     -999.0,9,     -999.0,9,     -999.0,9, -999.00,9,-999.0000,9,-999.0000,9,-999.0000,9,-999.0000,9,-999.0000,9,-999.0000,9,-999.0000, -999.00
33RR20050106,       P16S,      90,          2,          2,          2,2,20050205,       0850,   -60.5003,  -150.0007,       3073,  2941.8,   0.2128,  34.6973,2,  34.6985,2,    217.0,2,   217.7,2,  127.66,2,   32.21,2,    0.00,2,    2.23,2,   0.553,2,   0.288,2,   0.043,2,  -999.0,9,  -999.0,9,-999.000,9,-999.0000,9, -999.00,9, -999.00,9,  -999.0,9,  -999.0,-999.000,9,-999.000,-999.0000,9,  2941.8,-999.000,   0.0295,     -999.0,9,     -999.0,9,     -999.0,9,     -999.0,9,     -999.0,9,     -999.0,9,     -999.0,9, -999.00,9,-999.0000,9,-999.0000,9,-999.0000,9,-999.0000,9,-999.0000,9,-999.0000,9,-999.0000, -999.00
33RR20050106,       P16S,      90,          2,          1,          1,2,20050205,       0850,   -60.5003,  -150.0007,       3073,  3047.3,   0.2148,  34.6972,2,  34.6985,2,    217.2,2,   217.8,2,  127.65,2,   32.19,2,    0.00,2,    2.24,2,   0.582,2,   0.290,2,   0.036,2,  -999.0,9,  -999.0,9,-999.000,9,-999.0000,9, -999.00,9, -999.00,9,  -999.0,9,  -999.0,-999.000,9,-999.000,-999.0000,9,  3047.3,-999.000,   0.0223,     -999.0,9,     -999.0,9,     -999.0,9,     -999.0,9,     -999.0,9,     -999.0,9,     -999.0,9, -999.00,9,-999.0000,9,-999.0000,9,-999.0000,9,-999.0000,9,-999.0000,9,-999.0000,9,-999.0000, -999.00