BOTTLE,20201109CCHSIOCBG
EXPOCODE,SECT_ID,STNNBR,CASTNO,SAMPNO,BTLNBR,BTLNBR_FLAG_W,DATE,TIME,LATITUDE,LONGITUDE,DEPTH,CTDPRS,CTDTMP,CTDSAL,CTDSAL_FLAG_W,SALNTY,SALNTY_FLAG_W,CTDOXY,CTDOXY_FLAG_W,OXYGEN,OXYGEN_FLAG_W,SILCAT,SILCAT_FLAG_W,NITRAT,NITRAT_FLAG_W,NITRIT,NITRIT_FLAG_W,PHSPHT,PHSPHT_FLAG_W,CFC-11,CFC-11_FLAG_W,CFC-12,CFC-12_FLAG_W,CFC113,CFC113_FLAG_W,TCARBN,TCARBN_FLAG_W,ALKALI,ALKALI_FLAG_W,TRITUM,TRITUM_FLAG_W,HELIUM,HELIUM_FLAG_W,DELHE3,DELHE3_FLAG_W,DELC13,DELC13_FLAG_W,DELC14,DELC14_FLAG_W,C14ERR,NEON,NEON_FLAG_W,NEONER,DOC,DOC_FLAG_W,CTDRAW,TRITER,THETA,FUCO,FUCO_FLAG_W,RHAM,RHAM_FLAG_W,ARABA,ARABA_FLAG_W,GALA,GALA_FLAG_W,GLUC,GLUC_FLAG_W,MAN,MAN_FLAG_W,DCNS,DCNS_FLAG_W,BRDU,BRDU_FLAG_W,CDOM325,CDOM325_FLAG_W,CDOM340,CDOM340_FLAG_W,CDOM380,CDOM380_FLAG_W,CDOM412,CDOM412_FLAG_W,CDOMSL,CDOMSL_FLAG_W,CDOMSN,CDOMSN_FLAG_W,HELIER,DELHER
,,,,,,,,,,,METERS,DBAR,ITS-90,PSS-78,,PSS-78,,UMOL/KG,,UMOL/KG,,UMOL/KG,,UMOL/KG,,UMOL/KG,,UMOL/KG,,PMOL/KG,,PMOL/KG,,PMOL/KG,,UMOL/KG,,UMOL/KG,,TU,,NMOL/KG,,PERCNT,,/MILLE,,/MILLE,,/MILLE,NMOL/KG,,NMOL/KG,UMOL/KG,,DBAR,TU,DEG C,NMOL/KG,,NMOL/KG,,NMOL/KG,,NMOL/KG,,NMOL/KG,,NMOL/KG,,NMOL/KG,,PMOL/L/H,,1/M,,1/M,,1/M,,1/M,,1/NM,,1/NM,,NMOL/KG,PERCNT
33RR20050106,       P16S,       6,          1,         35,         35,2,20050111,       1934,   -18.4978,  -150.0007,       4121,     7.0,  28.1811,  35.9930,2,  35.9926,2,    199.9,3,   199.1,2,    0.64,2,    0.00,2,    0.00,2,    0.15,2,   1.602,2,   0.925,2,   0.201,2,  2004.0,2,  2365.4,2,   0.502,2,-999.0000,9, -999.00,9, -999.00,9,  -999.0,9,  -999.0,-999.000,9,-999.000,-999.0000,9,     7.0,   0.010,  28.1794,     -999.0,9,     -999.0,9,     -999.0,9,     -999.0,9,     -999.0,9,     -999.0,9,     -999.0,9, -999.00,9,   0.0610,2,   0.0440,2,   0.0230,2,   0.0190,2,   0.0213,2,   0.0217,2,-999.0000, -999.00
33RR20050106,       P16S,       6,          1,         36,         36,2,20050111,       1934,   -18.4978,  -150.0007,       4121,     7.1,  28.1561,  35.9927,2,-999.0000,9,    199.6,3,  -999.0,9, -999.00,9, -999.00,9, -999.00,9, -999.00,9,-999.000,9,-999.000,9,-999.000,9,  -999.0,9,  -999.0,9,-999.000,9,-999.0000,9, -999.00,9, -999.00,9,  -999.0,9,  -999.0,-999.000,9,-999.000,-999.0000,9,     7.1,-999.000,  28.1544,     -999.0,9,     -999.0,9,     -999.0,9,     -999.0,9,     -999.0,9,     -999.0,9,     -999.0,9, -999.00,9,-999.0000,9,-999.0000,9,-999.0000,9,-999.0000,9,-999.0000,9,-999.0000,9,-999.0000, -999.00
33RR20050106,       P16S,       6,          1,         34,         34,2,20050111,       1934,   -18.4978,  -150.0007,       4121,    45.8,  27.5660,  35.9861,2,  35.9835,2,    203.5,3,   205.2,2,    0.64,2,    0.00,2,    0.00,2,    0.15,2,   1.666,2,   1.027,2,   0.141,2,  2000.9,2,  2364.7,2,-999.000,9,-999.0000,9, -999.00,9, -999.00,9,  -999.0,9,  -999.0,-999.000,9,-999.000,-999.0000,9,    45.8,-999.000,  27.5553,     -999.0,9,     -999.0,9,     -999.0,9,     -999.0,9,     -999.0,9,     -999.0,9,     -999.0,9, -999.00,9,   0.0560,2,   0.0380,2,   0.0180,2,   0.0140,2,   0.0253,2,   0.0255,2,-999.0000, -999.00
33RR20050106,       P16S,       6,          1,         33,         33,2,20050111,       1934,   -18.4978,  -150.0007,       4121,    91.0,  25.3309,  35.7943,2,  35.7974,2,    209.8,3,   210.0,2,    0.64,2,    0.00,2,    0.00,2,    0.14,2,   1.779,2,   1.063,2,   0.158,2,  2000.8,2,  2353.1,2,   0.493,2,-999.0000,9, -999.00,9, -999.00,9,  -999.0,9,  -999.0,-999.000,9,-999.000,-999.0000,9,    91.0,   0.010,  25.3109,     -999.0,9,     -999.0,9,     -999.0,9,     -999.0,9,     -999.0,9,     -999.0,9,     -999.0,9, -999.00,9,   0.0660,2,   0.0460,2,   0.0240,2,   0.0190,2,   0.0205,2,   0.0213,2,-999.0000, -999.00
33RR20050106,       P16S,       6,          1,         32,         32,2,20050111,       1934,   -18.4978,  -150.0007,       4121,   140.6,  24.1673,  35.7742,2,  35.7785,2,    193.8,3,   213.0,2,    0.64,2,    0.03,2,    0.00,2,    0.16,2,   1.852,2,   1.172,2,   0.143,2,  2016.7,2,  2349.3,2,   0.480,2,   1.9550,3,   -1.21,2, -999.00,9,  -999.0,9,  -999.0,   7.623,4,   0.037,-999.0000,9,   140.6,   0.010,  24.1374,     -999.0,9,     -999.0,9,     -999.0,9,     -999.0,9,     -999.0,9,     -999.0,9,     -999.0,9, -999.00,9,-999.0000,9,-999.0000,9,-999.0000,9,-999.0000,9,-999.0000,9,-999.0000,9,   0.0030,    0.17
33RR20050106,       P16S,       6,          1,         31,         31,2,20050111,       1934,   -18.4978,  -150.0007,       4121,   190.6,  22.6326,  35.8377,2,  35.8402,2,    185.0,3,   177.6,2,    0.64,2,    1.56,2,    0.04,2,    0.31,2,   2.015,2,   1.195,2,   0.122,2,  2060.8,2,  2353.0,2,   0.466,2,   1.7340,2,   -0.89,2, -999.00,9,  -999.0,9,  -999.0,   6.892,2,   0.034,-999.0000,9,   190.6,   0.009,  22.5940,     -999.0,9,     -999.0,9,     -999.0,9,     -999.0,9,     -999.0,9,     -999.0,9,     -999.0,9, -999.00,9,   0.1000,2,   0.0720,2,   0.0370,2,   0.0300,2,   0.0144,2,   0.0167,2,   0.0030,    0.18
33RR20050106,       P16S,       6,          1,         30,         30,2,20050111,       1934,   -18.4978,  -150.0007,       4121,   240.1,  20.2131,  35.7070,2,  35.7038,2,    178.2,3,   179.4,2,    0.85,2,    3.25,2,    0.01,2,    0.39,2,   2.222,2,   1.273,2,   0.066,2,  -999.0,9,  -999.0,9,-999.000,9,   1.8410,3,   -0.46,2, -999.00,9,  -999.0,9,  -999.0,   7.361,2,   0.031,-999.0000,9,   240.1,-999.000,  20.1681,     -999.0,9,     -999.0,9,     -999.0,9,     -999.0,9,     -999.0,9,     -999.0,9,     -999.0,9, -999.00,9,   0.0870,2,   0.0640,2,   0.0330,2,   0.0250,2,   0.0174,2,   0.0184,2,   0.0030,    0.15
33RR20050106,       P16S,       6,          1,         29,         29,2,20050111,       1934,   -18.4978,  -150.0007,       4121,   290.6,  17.9252,  35.4695,2,  35.4721,2,    181.5,3,   191.8,2,    1.06,2,    3.56,2,    0.01,2,    0.38,2,   2.407,2,   1.402,6,   0.028,6,  2075.8,2,  2324.0,2,   0.474,2,   1.8040,2,   -0.86,2, -999.00,9,  -999.0,9,  -999.0,   7.330,2,   0.031,-999.0000,9,   290.6,   0.010,  17.8752,     -999.0,9,     -999.0,9,     -999.0,9,     -999.0,9,     -999.0,9,     -999.0,9,     -999.0,9, -999.00,9,-999.0000,9,-999.0000,9,-999.0000,9,-999.0000,9,-999.0000,9,-999.0000,9,   0.0030,    0.15
33RR20050106,       P16S,       6,          1,         28,         28,2,20050111,       1934,   -18.4978,  -150.0007,       4121,   340.6,  15.5078,  35.1818,2,  35.1810,2,    183.4,3,   183.5,2,    2.31,2,    7.68,2,    0.00,2,    0.69,2,   2.367,2,   1.304,2,   0.018,2,  -999.0,9,  -999.0,9,   0.288,2,   1.7340,2,    0.27,2, -999.00,9,  -999.0,9,  -999.0,   7.145,2,   0.030,-999.0000,9,   340.6,   0.104,  15.4547,     -999.0,9,     -999.0,9,     -999.0,9,     -999.0,9,     -999.0,9,     -999.0,9,     -999.0,9, -999.00,9,-999.0000,9,-999.0000,9,-999.0000,9,-999.0000,9,-999.0000,9,-999.0000,9,   0.0030,    0.16
33RR20050106,       P16S,       6,          1,         27,         27,2,20050111,       1934,   -18.4978,  -150.0007,       4121,   390.6,  12.8121,  34.8589,2,  34.8652,2,    182.8,3,   169.3,2,    5.25,2,   13.76,2,    0.00,2,    1.12,2,   1.999,2,   1.117,2,   0.031,2,  2126.8,2,  2293.9,2,   0.001,2,   1.8220,2,    0.88,2, -999.00,9,  -999.0,9,  -999.0,   7.545,2,   0.037,-999.0000,9,   390.6,   0.004,  12.7586,     -999.0,9,     -999.0,9,     -999.0,9,     -999.0,9,     -999.0,9,     -999.0,9,     -999.0,9, -999.00,9,-999.0000,9,-999.0000,9,-999.0000,9,-999.0000,9,-999.0000,9,-999.0000,9,   0.0030,    0.18
33RR20050106,       P16S,       6,          1,         26,         26,2,20050111,       1934,   -18.4978,  -150.0007,       4121,   441.1,  10.4669,  34.6351,2,  34.6378,2,    178.6,3,   178.0,2,    6.72,2,   17.92,2,    0.00,2,    1.36,2,   1.935,2,   0.981,2,   0.029,2,  -999.0,9,  -999.0,9,-999.000,9,   1.8130,2,    1.02,2, -999.00,9,  -999.0,9,  -999.0,   7.596,2,   0.037,-999.0000,9,   441.1,-999.000,  10.4138,     -999.0,9,     -999.0,9,     -999.0,9,     -999.0,9,     -999.0,9,     -999.0,9,     -999.0,9, -999.00,9,-999.0000,9,-999.0000,9,-999.0000,9,-999.0000,9,-999.0000,9,-999.0000,9,   0.0030,    0.18
33RR20050106,       P16S,       6,          1,         25,         25,2,20050111,       1934,   -18.4978,  -150.0007,       4121,   490.7,   8.7734,  34.4949,2,  34.4879,2,    183.0,3,   172.1,2,   10.91,2,   23.31,2,    0.00,2,    1.71,2,   1.412,2,   0.733,2,   0.030,2,  2162.4,2,  2281.9,2,   0.128,2,-999.0000,9, -999.00,9, -999.00,9,  -999.0,9,  -999.0,-999.000,9,-999.000,-999.0000,9,   490.7,   0.006,   8.7204,     -999.0,9,     -999.0,9,     -999.0,9,     -999.0,9,     -999.0,9,     -999.0,9,     -999.0,9, -999.00,9,-999.0000,9,-999.0000,9,-999.0000,9,-999.0000,9,-999.0000,9,-999.0000,9,-999.0000, -999.00
33RR20050106,       P16S,       6,          1,         24,         24,2,20050111,       1934,   -18.4978,  -150.0007,       4121,   576.0,   7.0241,  34.4234,2,  34.4225,2,    173.6,3,   163.4,2,   19.53,2,   28.53,2,    0.00,2,    2.04,2,   0.712,2,   0.390,2,   0.000,2,  -999.0,9,  -999.0,9,   0.048,2,   1.8240,2,    3.55,2, -999.00,9,  -999.0,9,  -999.0,   7.749,2,   0.038,-999.0000,9,   576.0,   0.006,   6.9691,     -999.0,9,     -999.0,9,     -999.0,9,     -999.0,9,     -999.0,9,     -999.0,9,     -999.0,9, -999.00,9,-999.0000,9,-999.0000,9,-999.0000,9,-999.0000,9,-999.0000,9,-999.0000,9,   0.0030,    0.17
33RR20050106,       P16S,       6,          1,         23,         23,2,20050111,       1934,   -18.4978,  -150.0007,       4121,   676.4,   5.8453,  34.4009,2,  34.4029,2,    164.3,3,   163.2,2,   28.82,2,   31.22,2,    0.00,2,    2.21,2,   0.349,2,   0.194,2,   0.000,2,  2203.2,2,  2296.7,2,   0.015,2,   1.8220,2,    6.00,2, -999.00,9,  -999.0,9,  -999.0,   7.734,2,   0.038,-999.0000,9,   676.4,   0.004,   5.7863,     -999.0,9,     -999.0,9,     -999.0,9,     -999.0,9,     -999.0,9,     -999.0,9,     -999.0,9, -999.00,9,-999.0000,9,-999.0000,9,-999.0000,9,-999.0000,9,-999.0000,9,-999.0000,9,   0.0030,    0.17
33RR20050106,       P16S,       6,          1,         22,         22,2,20050111,       1934,   -18.4978,  -150.0007,       4121,   777.3,   5.0151,  34.4159,2,  34.4172,2,    156.9,3,   158.4,2,   40.66,2,   33.14,2,    0.00,2,    2.35,2,   0.149,2,   0.096,2,   0.000,2,  -999.0,9,  -999.0,9,-999.000,9,-999.0000,9, -999.00,9, -999.00,9,  -999.0,9,  -999.0,-999.000,9,-999.000,-999.0000,9,   777.3,-999.000,   4.9516,     -999.0,9,     -999.0,9,     -999.0,9,     -999.0,9,     -999.0,9,     -999.0,9,     -999.0,9, -999.00,9,-999.0000,9,-999.0000,9,-999.0000,9,-999.0000,9,-999.0000,9,-999.0000,9,-999.0000, -999.00
33RR20050106,       P16S,       6,          1,         21,         21,2,20050111,       1934,   -18.4978,  -150.0007,       4121,   877.2,   4.5528,  34.4648,2,  34.4664,2,    150.7,3,   148.1,2,   54.25,2,   34.33,2,    0.00,2,    2.44,2,   0.095,2,   0.062,2,   0.000,2,  2238.0,2,  2320.0,2,   0.018,2,   1.8320,2,   12.98,2, -999.00,9,  -999.0,9,  -999.0,   7.806,2,   0.038,-999.0000,9,   877.2,   0.005,   4.4835,     -999.0,9,     -999.0,9,     -999.0,9,     -999.0,9,     -999.0,9,     -999.0,9,     -999.0,9, -999.00,9,-999.0000,9,-999.0000,9,-999.0000,9,-999.0000,9,-999.0000,9,-999.0000,9,   0.0030,    0.17
33RR20050106,       P16S,       6,          1,         20,         20,2,20050111,       1934,   -18.4978,  -150.0007,       4121,   978.5,   4.0685,  34.4847,2,  34.4836,2,    148.8,3,   147.9,2,   63.42,2,   35.02,2,    0.00,2,    2.48,2,   0.050,2,   0.039,2,   0.000,2,  -999.0,9,  -999.0,9,-999.000,9,-999.0000,9, -999.00,9, -999.00,9,  -999.0,9,  -999.0,-999.000,9,-999.000,-999.0000,9,   978.5,-999.000,   3.9941,     -999.0,9,     -999.0,9,     -999.0,9,     -999.0,9,     -999.0,9,     -999.0,9,     -999.0,9, -999.00,9,-999.0000,9,-999.0000,9,-999.0000,9,-999.0000,9,-999.0000,9,-999.0000,9,-999.0000, -999.00
33RR20050106,       P16S,       6,          1,         19,         19,2,20050111,       1934,   -18.4978,  -150.0007,       4121,  1078.3,   3.5831,  34.5080,2,  34.5087,2,    147.7,3,   148.8,2,   73.45,2,   35.30,2,    0.00,2,    2.51,2,   0.047,2,   0.050,3,   0.000,2,  2258.7,6,  2340.2,2,   0.077,2,-999.0000,9, -999.00,9, -999.00,9,  -999.0,9,  -999.0,-999.000,9,-999.000,-999.0000,9,  1078.3,   0.006,   3.5043,     -999.0,9,     -999.0,9,     -999.0,9,     -999.0,9,     -999.0,9,     -999.0,9,     -999.0,9, -999.00,9,-999.0000,9,-999.0000,9,-999.0000,9,-999.0000,9,-999.0000,9,-999.0000,9,-999.0000, -999.00
33RR20050106,       P16S,       6,          1,         18,         18,2,20050111,       1934,   -18.4978,  -150.0007,       4121,  1178.8,   3.2852,  34.5313,2,  34.5344,2,    146.8,3,   147.5,2,   81.58,2,   35.51,2,    0.00,2,    2.54,2,   0.050,3,   0.048,3,   0.005,2,  -999.0,9,  -999.0,9,-999.000,9,-999.0000,9, -999.00,9, -999.00,9,  -999.0,9,  -999.0,-999.000,9,-999.000,-999.0000,9,  1178.8,-999.000,   3.2008,     -999.0,9,     -999.0,9,     -999.0,9,     -999.0,9,     -999.0,9,     -999.0,9,     -999.0,9, -999.00,9,-999.0000,9,-999.0000,9,-999.0000,9,-999.0000,9,-999.0000,9,-999.0000,9,-999.0000, -999.00
33RR20050106,       P16S,       6,          1,         17,         17,2,20050111,       1934,   -18.4978,  -150.0007,       4121,  1279.7,   3.0980,  34.5470,2,  34.5470,2,    146.4,3,   147.3,2,   86.72,2,   35.73,2,    0.00,2,    2.55,2,   0.035,3,   0.036,3,   0.000,2,  -999.0,9,  -999.0,9,   0.001,2,   1.8810,2,   20.84,2, -999.00,9,  -999.0,9,  -999.0,   7.657,4,   0.037,-999.0000,9,  1279.7,   0.005,   3.0073,     -999.0,9,     -999.0,9,     -999.0,9,     -999.0,9,     -999.0,9,     -999.0,9,     -999.0,9, -999.00,9,-999.0000,9,-999.0000,9,-999.0000,9,-999.0000,9,-999.0000,9,-999.0000,9,   0.0030,    0.17
33RR20050106,       P16S,       6,          1,         16,         16,2,20050111,       1934,   -18.4978,  -150.0007,       4121,  1380.6,   2.8917,  34.5662,2,  34.5677,2,    146.4,3,   146.7,2,   92.93,2,   35.83,2,    0.00,2,    2.56,2,-999.000,9,-999.000,9,-999.000,9,  -999.0,9,  -999.0,9,-999.000,9,-999.0000,9, -999.00,9, -999.00,9,  -999.0,9,  -999.0,-999.000,9,-999.000,-999.0000,9,  1380.6,-999.000,   2.7949,     -999.0,9,     -999.0,9,     -999.0,9,     -999.0,9,     -999.0,9,     -999.0,9,     -999.0,9, -999.00,9,-999.0000,9,-999.0000,9,-999.0000,9,-999.0000,9,-999.0000,9,-999.0000,9,-999.0000, -999.00
33RR20050106,       P16S,       6,          1,         15,         15,2,20050111,       1934,   -18.4978,  -150.0007,       4121,  1481.0,   2.7311,  34.5814,2,  34.5823,2,    146.6,3,   146.5,2,   98.09,2,   35.88,2,    0.00,2,    2.57,2,   0.017,3,   0.017,3,   0.000,2,  -999.0,9,  -999.0,9,   0.020,2,-999.0000,9, -999.00,9, -999.00,9,  -999.0,9,  -999.0,-999.000,9,-999.000,-999.0000,9,  1481.0,   0.005,   2.6279,     -999.0,9,     -999.0,9,     -999.0,9,     -999.0,9,     -999.0,9,     -999.0,9,     -999.0,9, -999.00,9,-999.0000,9,-999.0000,9,-999.0000,9,-999.0000,9,-999.0000,9,-999.0000,9,-999.0000, -999.00
33RR20050106,       P16S,       6,          1,         14,         14,2,20050111,       1934,   -18.4978,  -150.0007,       4121,  1582.0,   2.5754,  34.5956,2,  34.5970,2,    147.2,3,   146.7,2,  102.61,2,   35.88,2,    0.00,2,    2.56,2,-999.000,9,-999.000,9,-999.000,9,  -999.0,9,  -999.0,9,-999.000,9,-999.0000,9, -999.00,9, -999.00,9,  -999.0,9,  -999.0,-999.000,9,-999.000,-999.0000,9,  1582.0,-999.000,   2.4657,     -999.0,9,     -999.0,9,     -999.0,9,     -999.0,9,     -999.0,9,     -999.0,9,     -999.0,9, -999.00,9,-999.0000,9,-999.0000,9,-999.0000,9,-999.0000,9,-999.0000,9,-999.0000,9,-999.0000, -999.00
33RR20050106,       P16S,       6,          1,         13,         13,2,20050111,       1934,   -18.4978,  -150.0007,       4121,  1682.5,   2.4683,  34.6039,2,  34.6042,2,    148.1,3,   147.8,2,  105.40,2,   35.88,2,    0.00,2,    2.56,2,   0.032,3,   0.025,3,   0.000,2,  -999.0,9,  -999.0,9,   0.001,2,-999.0000,9, -999.00,9, -999.00,9,  -999.0,9,  -999.0,-999.000,9,-999.000,-999.0000,9,  1682.5,   0.004,   2.3517,     -999.0,9,     -999.0,9,     -999.0,9,     -999.0,9,     -999.0,9,     -999.0,9,     -999.0,9, -999.00,9,-999.0000,9,-999.0000,9,-999.0000,9,-999.0000,9,-999.0000,9,-999.0000,9,-999.0000, -999.00
33RR20050106,       P16S,       6,          1,         12,         12,2,20050111,       1934,   -18.4978,  -150.0007,       4121,  1784.0,   2.3783,  34.6119,2,  34.6130,2,    148.9,3,   148.8,2,  108.20,2,   35.87,2,    0.00,2,    2.56,2,-999.000,9,-999.000,9,-999.000,9,  -999.0,9,  -999.0,9,-999.000,9,-999.0000,9, -999.00,9, -999.00,9,  -999.0,9,  -999.0,-999.000,9,-999.000,-999.0000,9,  1784.0,-999.000,   2.2545,     -999.0,9,     -999.0,9,     -999.0,9,     -999.0,9,     -999.0,9,     -999.0,9,     -999.0,9, -999.00,9,-999.0000,9,-999.0000,9,-999.0000,9,-999.0000,9,-999.0000,9,-999.0000,9,-999.0000, -999.00
33RR20050106,       P16S,       6,          1,         11,         11,2,20050111,       1934,   -18.4978,  -150.0007,       4121,  1884.6,   2.2509,  34.6236,2,  34.6258,2,    149.8,3,   149.6,2,  112.06,2,   35.82,2,    0.00,2,    2.55,2,   0.035,3,   0.030,3,   0.000,2,  -999.0,9,  -999.0,9,   0.001,2,-999.0000,9, -999.00,9, -999.00,9,  -999.0,9,  -999.0,-999.000,9,-999.000,-999.0000,9,  1884.6,   0.005,   2.1204,     -999.0,9,     -999.0,9,     -999.0,9,     -999.0,9,     -999.0,9,     -999.0,9,     -999.0,9, -999.00,9,-999.0000,9,-999.0000,9,-999.0000,9,-999.0000,9,-999.0000,9,-999.0000,9,-999.0000, -999.00
33RR20050106,       P16S,       6,          1,         10,         10,2,20050111,       1934,   -18.4978,  -150.0007,       4121,  1985.6,   2.1441,  34.6327,2,  34.6334,2,    151.0,3,   151.5,2,  114.22,2,   35.77,2,    0.00,2,    2.54,2,-999.000,9,-999.000,9,-999.000,9,  -999.0,9,  -999.0,9,-999.000,9,-999.0000,9, -999.00,9, -999.00,9,  -999.0,9,  -999.0,-999.000,9,-999.000,-999.0000,9,  1985.6,-999.000,   2.0067,     -999.0,9,     -999.0,9,     -999.0,9,     -999.0,9,     -999.0,9,     -999.0,9,     -999.0,9, -999.00,9,-999.0000,9,-999.0000,9,-999.0000,9,-999.0000,9,-999.0000,9,-999.0000,9,-999.0000, -999.00
33RR20050106,       P16S,       6,          1,          9,          9,2,20050111,       1934,   -18.4978,  -150.0007,       4121,  2187.9,   2.0231,  34.6438,2,  34.6433,2,    153.2,3,   153.1,2,  117.90,2,   35.77,2,    0.00,2,    2.54,2,   0.062,3,   0.047,3,   0.000,2,  -999.0,9,  -999.0,9,   0.035,2,   1.9700,2,   25.11,2, -999.00,9,  -999.0,9,  -999.0,   8.223,2,   0.040,-999.0000,9,  2187.9,   0.005,   1.8702,     -999.0,9,     -999.0,9,     -999.0,9,     -999.0,9,     -999.0,9,     -999.0,9,     -999.0,9, -999.00,9,-999.0000,9,-999.0000,9,-999.0000,9,-999.0000,9,-999.0000,9,-999.0000,9,   0.0030,    0.16
33RR20050106,       P16S,       6,          1,          8,          8,2,20050111,       1934,   -18.4978,  -150.0007,       4121,  2441.2,   1.8736,  34.6566,2,  34.6576,2,    156.1,3,   156.5,2,  121.34,2,   35.60,2,    0.00,2,    2.52,2,-999.000,9,-999.000,9,-999.000,9,  -999.0,9,  -999.0,9,-999.000,9,-999.0000,9, -999.00,9, -999.00,9,  -999.0,9,  -999.0,-999.000,9,-999.000,-999.0000,9,  2441.2,-999.000,   1.7009,     -999.0,9,     -999.0,9,     -999.0,9,     -999.0,9,     -999.0,9,     -999.0,9,     -999.0,9, -999.00,9,-999.0000,9,-999.0000,9,-999.0000,9,-999.0000,9,-999.0000,9,-999.0000,9,-999.0000, -999.00
33RR20050106,       P16S,       6,          1,          7,          7,2,20050111,       1934,   -18.4978,  -150.0007,       4121,  2693.9,   1.7676,  34.6660,2,  34.6662,2,    159.1,3,   160.2,2,  123.28,2,   35.33,2,    0.00,2,    2.50,2,   0.025,3,   0.036,3,   0.000,2,  -999.0,9,  -999.0,9,   0.013,2,-999.0000,9, -999.00,9, -999.00,9,  -999.0,9,  -999.0,-999.000,9,-999.000,-999.0000,9,  2693.9,   0.006,   1.5739,     -999.0,9,     -999.0,9,     -999.0,9,     -999.0,9,     -999.0,9,     -999.0,9,     -999.0,9, -999.00,9,-999.0000,9,-999.0000,9,-999.0000,9,-999.0000,9,-999.0000,9,-999.0000,9,-999.0000, -999.00