BOTTLE,20201109CCHSIOCBG
EXPOCODE,SECT_ID,STNNBR,CASTNO,SAMPNO,BTLNBR,BTLNBR_FLAG_W,DATE,TIME,LATITUDE,LONGITUDE,DEPTH,CTDPRS,CTDTMP,CTDSAL,CTDSAL_FLAG_W,SALNTY,SALNTY_FLAG_W,CTDOXY,CTDOXY_FLAG_W,OXYGEN,OXYGEN_FLAG_W,SILCAT,SILCAT_FLAG_W,NITRAT,NITRAT_FLAG_W,NITRIT,NITRIT_FLAG_W,PHSPHT,PHSPHT_FLAG_W,CFC-11,CFC-11_FLAG_W,CFC-12,CFC-12_FLAG_W,CFC113,CFC113_FLAG_W,TCARBN,TCARBN_FLAG_W,ALKALI,ALKALI_FLAG_W,TRITUM,TRITUM_FLAG_W,HELIUM,HELIUM_FLAG_W,DELHE3,DELHE3_FLAG_W,DELC13,DELC13_FLAG_W,DELC14,DELC14_FLAG_W,C14ERR,NEON,NEON_FLAG_W,NEONER,DOC,DOC_FLAG_W,CTDRAW,TRITER,THETA,FUCO,FUCO_FLAG_W,RHAM,RHAM_FLAG_W,ARABA,ARABA_FLAG_W,GALA,GALA_FLAG_W,GLUC,GLUC_FLAG_W,MAN,MAN_FLAG_W,DCNS,DCNS_FLAG_W,BRDU,BRDU_FLAG_W,CDOM325,CDOM325_FLAG_W,CDOM340,CDOM340_FLAG_W,CDOM380,CDOM380_FLAG_W,CDOM412,CDOM412_FLAG_W,CDOMSL,CDOMSL_FLAG_W,CDOMSN,CDOMSN_FLAG_W,HELIER,DELHER
,,,,,,,,,,,METERS,DBAR,ITS-90,PSS-78,,PSS-78,,UMOL/KG,,UMOL/KG,,UMOL/KG,,UMOL/KG,,UMOL/KG,,UMOL/KG,,PMOL/KG,,PMOL/KG,,PMOL/KG,,UMOL/KG,,UMOL/KG,,TU,,NMOL/KG,,PERCNT,,/MILLE,,/MILLE,,/MILLE,NMOL/KG,,NMOL/KG,UMOL/KG,,DBAR,TU,DEG C,NMOL/KG,,NMOL/KG,,NMOL/KG,,NMOL/KG,,NMOL/KG,,NMOL/KG,,NMOL/KG,,PMOL/L/H,,1/M,,1/M,,1/M,,1/M,,1/NM,,1/NM,,NMOL/KG,PERCNT
33RR20050106,       P16S,      16,          1,         36,         36,2,20050114,       1303,   -23.4997,  -150.0000,       4497,     2.6,  26.9789,  35.6495,2,  35.6492,2,    202.8,2,   202.9,2,    0.46,2,    0.02,2,    0.00,2,    0.12,2,   1.724,2,   1.087,2,   0.138,2,  2003.1,2,  2342.6,2,-999.000,9,-999.0000,9, -999.00,9, -999.00,9,  -999.0,9,  -999.0,-999.000,9,-999.000,-999.0000,9,     2.6,-999.000,  26.9783,     -999.0,9,     -999.0,9,     -999.0,9,     -999.0,9,     -999.0,9,     -999.0,9,     -999.0,9, -999.00,9,-999.0000,9,-999.0000,9,-999.0000,9,-999.0000,9,-999.0000,9,-999.0000,9,-999.0000, -999.00
33RR20050106,       P16S,      16,          1,         35,         35,2,20050114,       1303,   -23.4997,  -150.0000,       4497,    30.8,  25.7111,  35.6440,2,  35.6445,2,    207.7,2,   207.1,2,    0.46,2,    0.02,2,    0.00,2,    0.12,2,-999.000,9,-999.000,9,-999.000,9,  -999.0,9,  -999.0,9,-999.000,9,-999.0000,9, -999.00,9, -999.00,9,  -999.0,9,  -999.0,-999.000,9,-999.000,-999.0000,9,    30.8,-999.000,  25.7043,     -999.0,9,     -999.0,9,     -999.0,9,     -999.0,9,     -999.0,9,     -999.0,9,     -999.0,9, -999.00,9,-999.0000,9,-999.0000,9,-999.0000,9,-999.0000,9,-999.0000,9,-999.0000,9,-999.0000, -999.00
33RR20050106,       P16S,      16,          1,         34,         34,2,20050114,       1303,   -23.4997,  -150.0000,       4497,    55.7,  23.8701,  35.7104,2,  35.7080,2,    212.6,2,   212.5,2,    0.47,2,    0.07,2,    0.00,2,    0.12,2,   1.931,2,   1.252,2,   0.149,2,  2012.9,2,  2345.5,2,-999.000,9,-999.0000,9, -999.00,9, -999.00,9,  -999.0,9,  -999.0,-999.000,9,-999.000,-999.0000,9,    55.7,-999.000,  23.8584,     -999.0,9,     -999.0,9,     -999.0,9,     -999.0,9,     -999.0,9,     -999.0,9,     -999.0,9, -999.00,9,-999.0000,9,-999.0000,9,-999.0000,9,-999.0000,9,-999.0000,9,-999.0000,9,-999.0000, -999.00
33RR20050106,       P16S,      16,          1,         33,         33,2,20050114,       1303,   -23.4997,  -150.0000,       4497,   105.4,  21.8738,  35.6800,2,  35.6837,2,    215.4,2,   210.7,2,    0.47,2,    0.02,2,    0.00,2,    0.13,2,   2.083,2,   1.334,2,   0.153,2,  2030.7,2,  2341.5,2,-999.000,9,-999.0000,9, -999.00,9, -999.00,9,  -999.0,9,  -999.0,-999.000,9,-999.000,-999.0000,9,   105.4,-999.000,  21.8530,     -999.0,9,     -999.0,9,     -999.0,9,     -999.0,9,     -999.0,9,     -999.0,9,     -999.0,9, -999.00,9,-999.0000,9,-999.0000,9,-999.0000,9,-999.0000,9,-999.0000,9,-999.0000,9,-999.0000, -999.00
33RR20050106,       P16S,      16,          1,         32,         32,2,20050114,       1303,   -23.4997,  -150.0000,       4497,   155.5,  20.4457,  35.6203,2,  35.6199,2,    210.0,2,   207.4,2,    0.47,2,    0.33,2,    0.05,2,    0.17,2,   2.213,2,   1.360,2,   0.132,2,  2043.4,2,  2338.3,2,-999.000,9,-999.0000,9, -999.00,9, -999.00,9,  -999.0,9,  -999.0,-999.000,9,-999.000,-999.0000,9,   155.5,-999.000,  20.4164,     -999.0,9,     -999.0,9,     -999.0,9,     -999.0,9,     -999.0,9,     -999.0,9,     -999.0,9, -999.00,9,-999.0000,9,-999.0000,9,-999.0000,9,-999.0000,9,-999.0000,9,-999.0000,9,-999.0000, -999.00
33RR20050106,       P16S,      16,          1,         31,         31,2,20050114,       1303,   -23.4997,  -150.0000,       4497,   205.3,  19.0211,  35.5418,2,  35.5427,2,    199.1,2,   197.3,2,    0.68,2,    1.86,2,    0.03,2,    0.26,2,   2.327,2,   1.416,2,   0.065,2,  -999.0,9,  2331.5,2,-999.000,9,-999.0000,9, -999.00,9, -999.00,9,  -999.0,9,  -999.0,-999.000,9,-999.000,-999.0000,9,   205.3,-999.000,  18.9843,     -999.0,9,     -999.0,9,     -999.0,9,     -999.0,9,     -999.0,9,     -999.0,9,     -999.0,9, -999.00,9,-999.0000,9,-999.0000,9,-999.0000,9,-999.0000,9,-999.0000,9,-999.0000,9,-999.0000, -999.00
33RR20050106,       P16S,      16,          1,         30,         30,2,20050114,       1303,   -23.4997,  -150.0000,       4497,   255.5,  17.1858,  35.3826,2,  35.3836,2,    188.4,2,   194.0,2,    1.10,2,    4.05,2,    0.00,2,    0.42,2,   2.443,2,   1.427,2,   0.017,2,  2078.8,2,  2321.0,2,-999.000,9,-999.0000,9, -999.00,9, -999.00,9,  -999.0,9,  -999.0,-999.000,9,-999.000,-999.0000,9,   255.5,-999.000,  17.1431,     -999.0,9,     -999.0,9,     -999.0,9,     -999.0,9,     -999.0,9,     -999.0,9,     -999.0,9, -999.00,9,-999.0000,9,-999.0000,9,-999.0000,9,-999.0000,9,-999.0000,9,-999.0000,9,-999.0000, -999.00
33RR20050106,       P16S,      16,          1,         29,         29,2,20050114,       1303,   -23.4997,  -150.0000,       4497,   305.2,  15.7778,  35.2424,2,  35.2419,2,    199.6,2,   199.0,2,    1.31,2,    5.14,2,    0.00,2,    0.49,2,   2.523,2,   1.457,2,   0.025,2,  -999.0,9,  2313.8,2,-999.000,9,-999.0000,9, -999.00,9, -999.00,9,  -999.0,9,  -999.0,-999.000,9,-999.000,-999.0000,9,   305.2,-999.000,  15.7297,     -999.0,9,     -999.0,9,     -999.0,9,     -999.0,9,     -999.0,9,     -999.0,9,     -999.0,9, -999.00,9,-999.0000,9,-999.0000,9,-999.0000,9,-999.0000,9,-999.0000,9,-999.0000,9,-999.0000, -999.00
33RR20050106,       P16S,      16,          1,         28,         28,2,20050114,       1303,   -23.4997,  -150.0000,       4497,   355.1,  14.2072,  35.0654,2,  35.0595,2,    199.9,2,   199.6,2,    1.93,2,    7.78,2,    0.00,2,    0.66,2,   2.554,2,   1.444,2,   0.028,2,  2094.2,2,  2304.3,2,-999.000,9,-999.0000,9, -999.00,9, -999.00,9,  -999.0,9,  -999.0,-999.000,9,-999.000,-999.0000,9,   355.1,-999.000,  14.1551,     -999.0,9,     -999.0,9,     -999.0,9,     -999.0,9,     -999.0,9,     -999.0,9,     -999.0,9, -999.00,9,-999.0000,9,-999.0000,9,-999.0000,9,-999.0000,9,-999.0000,9,-999.0000,9,-999.0000, -999.00
33RR20050106,       P16S,      16,          1,         27,         27,2,20050114,       1303,   -23.4997,  -150.0000,       4497,   405.2,  12.4753,  34.8752,2,  34.8815,2,    199.6,2,   200.7,2,    2.55,2,   11.00,2,    0.00,2,    0.86,2,   2.562,6,   1.397,6,   0.037,6,  -999.0,9,  2295.3,2,-999.000,9,-999.0000,9, -999.00,9, -999.00,9,  -999.0,9,  -999.0,-999.000,9,-999.000,-999.0000,9,   405.2,-999.000,  12.4207,     -999.0,9,     -999.0,9,     -999.0,9,     -999.0,9,     -999.0,9,     -999.0,9,     -999.0,9, -999.00,9,-999.0000,9,-999.0000,9,-999.0000,9,-999.0000,9,-999.0000,9,-999.0000,9,-999.0000, -999.00
33RR20050106,       P16S,      16,          1,         26,         26,2,20050114,       1303,   -23.4997,  -150.0000,       4497,   454.8,  10.4732,  34.6717,2,  34.6726,2,    206.4,2,   206.1,2,    4.00,2,   15.27,2,    0.00,2,    1.14,2,   2.546,2,   1.357,2,   0.045,2,  2121.6,2,  2287.3,2,-999.000,9,-999.0000,9, -999.00,9, -999.00,9,  -999.0,9,  -999.0,-999.000,9,-999.000,-999.0000,9,   454.8,-999.000,  10.4184,     -999.0,9,     -999.0,9,     -999.0,9,     -999.0,9,     -999.0,9,     -999.0,9,     -999.0,9, -999.00,9,-999.0000,9,-999.0000,9,-999.0000,9,-999.0000,9,-999.0000,9,-999.0000,9,-999.0000, -999.00
33RR20050106,       P16S,      16,          1,         25,         25,2,20050114,       1303,   -23.4997,  -150.0000,       4497,   505.6,   8.4076,  34.4767,2,  34.4742,2,    215.0,2,   216.8,2,    5.86,2,   19.82,2,    0.00,2,    1.41,2,   2.387,2,   1.234,2,   0.054,2,  -999.0,9,  2280.4,2,-999.000,9,-999.0000,9, -999.00,9, -999.00,9,  -999.0,9,  -999.0,-999.000,9,-999.000,-999.0000,9,   505.6,-999.000,   8.3543,     -999.0,9,     -999.0,9,     -999.0,9,     -999.0,9,     -999.0,9,     -999.0,9,     -999.0,9, -999.00,9,-999.0000,9,-999.0000,9,-999.0000,9,-999.0000,9,-999.0000,9,-999.0000,9,-999.0000, -999.00
33RR20050106,       P16S,      16,          1,         24,         24,2,20050114,       1303,   -23.4997,  -150.0000,       4497,   606.1,   6.6767,  34.3596,2,  34.3599,2,    228.6,2,   230.7,2,    8.97,2,   23.45,2,    0.00,2,    1.63,2,   1.902,2,   1.003,2,   0.045,2,  2143.4,2,  2279.3,2,-999.000,9,-999.0000,9, -999.00,9, -999.00,9,  -999.0,9,  -999.0,-999.000,9,-999.000,-999.0000,9,   606.1,-999.000,   6.6203,     -999.0,9,     -999.0,9,     -999.0,9,     -999.0,9,     -999.0,9,     -999.0,9,     -999.0,9, -999.00,9,-999.0000,9,-999.0000,9,-999.0000,9,-999.0000,9,-999.0000,9,-999.0000,9,-999.0000, -999.00
33RR20050106,       P16S,      16,          1,         23,         23,2,20050114,       1303,   -23.4997,  -150.0000,       4497,   706.3,   5.7844,  34.3144,2,  34.3141,2,    224.8,2,   225.6,2,   13.31,2,   26.24,2,    0.00,2,    1.82,2,   1.148,2,   0.607,2,   0.023,2,  2155.1,2,  2280.5,2,-999.000,9,-999.0000,9, -999.00,9, -999.00,9,  -999.0,9,  -999.0,-999.000,9,-999.000,-999.0000,9,   706.3,-999.000,   5.7230,     -999.0,9,     -999.0,9,     -999.0,9,     -999.0,9,     -999.0,9,     -999.0,9,     -999.0,9, -999.00,9,-999.0000,9,-999.0000,9,-999.0000,9,-999.0000,9,-999.0000,9,-999.0000,9,-999.0000, -999.00
33RR20050106,       P16S,      16,          1,         22,         22,2,20050114,       1303,   -23.4997,  -150.0000,       4497,   806.1,   5.2958,  34.3124,2,  34.3123,2,    206.3,2,   211.5,2,   19.34,2,   28.52,2,    0.00,2,    1.98,2,   0.686,2,   0.355,2,   0.001,2,  -999.0,9,  2286.0,2,-999.000,9,-999.0000,9, -999.00,9, -999.00,9,  -999.0,9,  -999.0,-999.000,9,-999.000,-999.0000,9,   806.1,-999.000,   5.2282,     -999.0,9,     -999.0,9,     -999.0,9,     -999.0,9,     -999.0,9,     -999.0,9,     -999.0,9, -999.00,9,-999.0000,9,-999.0000,9,-999.0000,9,-999.0000,9,-999.0000,9,-999.0000,9,-999.0000, -999.00
33RR20050106,       P16S,      16,          1,         21,         21,2,20050114,       1303,   -23.4997,  -150.0000,       4497,   907.7,   4.7772,  34.3479,2,  34.3472,2,    182.4,2,   185.8,2,   31.40,2,   31.53,2,    0.00,2,    2.21,2,   0.325,2,   0.174,2,   0.001,2,  2196.7,2,  2297.1,2,-999.000,9,-999.0000,9, -999.00,9, -999.00,9,  -999.0,9,  -999.0,-999.000,9,-999.000,-999.0000,9,   907.7,-999.000,   4.7040,     -999.0,9,     -999.0,9,     -999.0,9,     -999.0,9,     -999.0,9,     -999.0,9,     -999.0,9, -999.00,9,-999.0000,9,-999.0000,9,-999.0000,9,-999.0000,9,-999.0000,9,-999.0000,9,-999.0000, -999.00
33RR20050106,       P16S,      16,          1,         20,         20,2,20050114,       1303,   -23.4997,  -150.0000,       4497,  1007.8,   4.2534,  34.3976,2,  34.3968,2,    162.5,2,   163.5,2,   46.01,2,   34.15,2,    0.00,2,    2.41,2,   0.115,2,   0.061,2,   0.001,2,  2224.2,6,  2312.1,2,-999.000,9,-999.0000,9, -999.00,9, -999.00,9,  -999.0,9,  -999.0,-999.000,9,-999.000,-999.0000,9,  1007.8,-999.000,   4.1753,     -999.0,9,     -999.0,9,     -999.0,9,     -999.0,9,     -999.0,9,     -999.0,9,     -999.0,9, -999.00,9,-999.0000,9,-999.0000,9,-999.0000,9,-999.0000,9,-999.0000,9,-999.0000,9,-999.0000, -999.00
33RR20050106,       P16S,      16,          1,         19,         19,2,20050114,       1303,   -23.4997,  -150.0000,       4497,  1108.0,   3.7550,  34.4424,2,  34.4423,2,    159.4,2,   158.7,2,   58.80,2,   34.84,2,    0.00,2,    2.46,2,   0.049,2,   0.024,2,   0.001,2,  -999.0,9,  -999.0,9,-999.000,9,-999.0000,9, -999.00,9, -999.00,9,  -999.0,9,  -999.0,-999.000,9,-999.000,-999.0000,9,  1108.0,-999.000,   3.6725,     -999.0,9,     -999.0,9,     -999.0,9,     -999.0,9,     -999.0,9,     -999.0,9,     -999.0,9, -999.00,9,-999.0000,9,-999.0000,9,-999.0000,9,-999.0000,9,-999.0000,9,-999.0000,9,-999.0000, -999.00
33RR20050106,       P16S,      16,          1,         18,         18,2,20050114,       1303,   -23.4997,  -150.0000,       4497,  1208.9,   3.3392,  34.4826,2,  34.4819,2,    158.1,2,   158.0,2,   69.73,2,   34.99,2,    0.00,2,    2.49,2,-999.000,9,-999.000,9,-999.000,9,  -999.0,9,  2335.9,6,-999.000,9,-999.0000,9, -999.00,9, -999.00,9,  -999.0,9,  -999.0,-999.000,9,-999.000,-999.0000,9,  1208.9,-999.000,   3.2520,     -999.0,9,     -999.0,9,     -999.0,9,     -999.0,9,     -999.0,9,     -999.0,9,     -999.0,9, -999.00,9,-999.0000,9,-999.0000,9,-999.0000,9,-999.0000,9,-999.0000,9,-999.0000,9,-999.0000, -999.00
33RR20050106,       P16S,      16,          1,         17,         17,2,20050114,       1303,   -23.4997,  -150.0000,       4497,  1309.7,   2.9993,  34.5195,2,  34.5198,2,    156.7,2,   157.5,2,   80.06,2,   35.14,2,    0.00,2,    2.49,2,   0.016,2,   0.012,2,   0.001,2,  -999.0,9,  2348.8,2,-999.000,9,-999.0000,9, -999.00,9, -999.00,9,  -999.0,9,  -999.0,-999.000,9,-999.000,-999.0000,9,  1309.7,-999.000,   2.9072,     -999.0,9,     -999.0,9,     -999.0,9,     -999.0,9,     -999.0,9,     -999.0,9,     -999.0,9, -999.00,9,-999.0000,9,-999.0000,9,-999.0000,9,-999.0000,9,-999.0000,9,-999.0000,9,-999.0000, -999.00
33RR20050106,       P16S,      16,          1,         16,         16,2,20050114,       1303,   -23.4997,  -150.0000,       4497,  1410.7,   2.7347,  34.5530,2,  34.5531,2,    155.9,2,   155.5,2,   89.78,2,   35.30,2,    0.00,2,    2.50,2,-999.000,9,-999.000,9,-999.000,9,  -999.0,9,  2357.4,2,-999.000,9,-999.0000,9, -999.00,9, -999.00,9,  -999.0,9,  -999.0,-999.000,9,-999.000,-999.0000,9,  1410.7,-999.000,   2.6372,     -999.0,9,     -999.0,9,     -999.0,9,     -999.0,9,     -999.0,9,     -999.0,9,     -999.0,9, -999.00,9,-999.0000,9,-999.0000,9,-999.0000,9,-999.0000,9,-999.0000,9,-999.0000,9,-999.0000, -999.00
33RR20050106,       P16S,      16,          1,         15,         15,2,20050114,       1303,   -23.4997,  -150.0000,       4497,  1511.4,   2.5608,  34.5767,2,  34.5765,2,    154.8,2,   153.8,2,   96.77,2,   35.45,2,    0.00,2,    2.52,2,   0.025,3,   0.017,3,   0.001,2,  -999.0,9,  2368.2,2,-999.000,9,-999.0000,9, -999.00,9, -999.00,9,  -999.0,9,  -999.0,-999.000,9,-999.000,-999.0000,9,  1511.4,-999.000,   2.4571,     -999.0,9,     -999.0,9,     -999.0,9,     -999.0,9,     -999.0,9,     -999.0,9,     -999.0,9, -999.00,9,-999.0000,9,-999.0000,9,-999.0000,9,-999.0000,9,-999.0000,9,-999.0000,9,-999.0000, -999.00
33RR20050106,       P16S,      16,          1,         14,         14,2,20050114,       1303,   -23.4997,  -150.0000,       4497,  1612.6,   2.4293,  34.5959,2,  34.5963,2,    152.7,2,   151.7,2,  103.12,2,   35.56,2,    0.00,2,    2.54,2,-999.000,9,-999.000,9,-999.000,9,  -999.0,9,  2374.6,2,-999.000,9,-999.0000,9, -999.00,9, -999.00,9,  -999.0,9,  -999.0,-999.000,9,-999.000,-999.0000,9,  1612.6,-999.000,   2.3189,     -999.0,9,     -999.0,9,     -999.0,9,     -999.0,9,     -999.0,9,     -999.0,9,     -999.0,9, -999.00,9,-999.0000,9,-999.0000,9,-999.0000,9,-999.0000,9,-999.0000,9,-999.0000,9,-999.0000, -999.00
33RR20050106,       P16S,      16,          1,         13,         13,2,20050114,       1303,   -23.4997,  -150.0000,       4497,  1713.3,   2.3103,  34.6125,2,  34.6132,2,    150.3,2,   149.8,2,  108.85,2,   35.77,2,    0.00,2,    2.54,2,   0.001,2,   0.002,2,   0.001,2,  -999.0,9,  -999.0,9,-999.000,9,-999.0000,9, -999.00,9, -999.00,9,  -999.0,9,  -999.0,-999.000,9,-999.000,-999.0000,9,  1713.3,-999.000,   2.1932,     -999.0,9,     -999.0,9,     -999.0,9,     -999.0,9,     -999.0,9,     -999.0,9,     -999.0,9, -999.00,9,-999.0000,9,-999.0000,9,-999.0000,9,-999.0000,9,-999.0000,9,-999.0000,9,-999.0000, -999.00
33RR20050106,       P16S,      16,          1,         12,         12,2,20050114,       1303,   -23.4997,  -150.0000,       4497,  1814.1,   2.2007,  34.6260,2,  34.6260,2,    148.8,2,   148.8,2,  113.94,2,   35.87,2,    0.00,2,    2.55,2,-999.000,9,-999.000,9,-999.000,9,  -999.0,9,  2387.3,2,-999.000,9,-999.0000,9, -999.00,9, -999.00,9,  -999.0,9,  -999.0,-999.000,9,-999.000,-999.0000,9,  1814.1,-999.000,   2.0768,     -999.0,9,     -999.0,9,     -999.0,9,     -999.0,9,     -999.0,9,     -999.0,9,     -999.0,9, -999.00,9,-999.0000,9,-999.0000,9,-999.0000,9,-999.0000,9,-999.0000,9,-999.0000,9,-999.0000, -999.00
33RR20050106,       P16S,      16,          1,         11,         11,2,20050114,       1303,   -23.4997,  -150.0000,       4497,  2016.4,   2.0765,  34.6392,2,  34.6393,2,    148.1,2,   148.4,2,  119.04,2,   35.92,2,    0.00,2,    2.55,2,   0.033,3,   0.019,3,   0.001,2,  -999.0,9,  2394.0,2,-999.000,9,-999.0000,9, -999.00,9, -999.00,9,  -999.0,9,  -999.0,-999.000,9,-999.000,-999.0000,9,  2016.4,-999.000,   1.9375,     -999.0,9,     -999.0,9,     -999.0,9,     -999.0,9,     -999.0,9,     -999.0,9,     -999.0,9, -999.00,9,-999.0000,9,-999.0000,9,-999.0000,9,-999.0000,9,-999.0000,9,-999.0000,9,-999.0000, -999.00
33RR20050106,       P16S,      16,          1,         10,         10,2,20050114,       1303,   -23.4997,  -150.0000,       4497,  2269.2,   1.9448,  34.6509,2,  34.6515,2,    149.9,2,   151.4,2,  122.24,2,   35.76,2,    0.00,2,    2.54,2,-999.000,9,-999.000,9,-999.000,9,  -999.0,9,  2395.2,2,-999.000,9,-999.0000,9, -999.00,9, -999.00,9,  -999.0,9,  -999.0,-999.000,9,-999.000,-999.0000,9,  2269.2,-999.000,   1.7861,     -999.0,9,     -999.0,9,     -999.0,9,     -999.0,9,     -999.0,9,     -999.0,9,     -999.0,9, -999.00,9,-999.0000,9,-999.0000,9,-999.0000,9,-999.0000,9,-999.0000,9,-999.0000,9,-999.0000, -999.00
33RR20050106,       P16S,      16,          1,          9,          9,2,20050114,       1303,   -23.4997,  -150.0000,       4497,  2522.1,   1.8336,  34.6607,2,  34.6607,2,    153.4,2,   155.1,2,  124.15,2,   35.48,2,    0.00,2,    2.53,2,   0.044,3,   0.028,3,   0.001,2,  -999.0,9,  2396.5,2,-999.000,9,-999.0000,9, -999.00,9, -999.00,9,  -999.0,9,  -999.0,-999.000,9,-999.000,-999.0000,9,  2522.1,-999.000,   1.6544,     -999.0,9,     -999.0,9,     -999.0,9,     -999.0,9,     -999.0,9,     -999.0,9,     -999.0,9, -999.00,9,-999.0000,9,-999.0000,9,-999.0000,9,-999.0000,9,-999.0000,9,-999.0000,9,-999.0000, -999.00
33RR20050106,       P16S,      16,          1,          8,          8,2,20050114,       1303,   -23.4997,  -150.0000,       4497,  2775.7,   1.7309,  34.6694,2,  34.6696,2,    157.6,2,   159.4,2,  125.22,2,   35.21,2,    0.00,2,    2.51,2,-999.000,9,-999.000,9,-999.000,9,  -999.0,9,  2397.2,2,-999.000,9,-999.0000,9, -999.00,9, -999.00,9,  -999.0,9,  -999.0,-999.000,9,-999.000,-999.0000,9,  2775.7,-999.000,   1.5303,     -999.0,9,     -999.0,9,     -999.0,9,     -999.0,9,     -999.0,9,     -999.0,9,     -999.0,9, -999.00,9,-999.0000,9,-999.0000,9,-999.0000,9,-999.0000,9,-999.0000,9,-999.0000,9,-999.0000, -999.00
33RR20050106,       P16S,      16,          1,          7,          7,2,20050114,       1303,   -23.4997,  -150.0000,       4497,  3029.4,   1.6712,  34.6749,2,  34.6757,2,    161.7,2,   163.7,2,  125.02,2,   34.89,2,    0.00,2,    2.49,2,-999.000,9,-999.000,9,-999.000,9,  -999.0,9,  2393.8,2,-999.000,9,-999.0000,9, -999.00,9, -999.00,9,  -999.0,9,  -999.0,-999.000,9,-999.000,-999.0000,9,  3029.4,-999.000,   1.4478,     -999.0,9,     -999.0,9,     -999.0,9,     -999.0,9,     -999.0,9,     -999.0,9,     -999.0,9, -999.00,9,-999.0000,9,-999.0000,9,-999.0000,9,-999.0000,9,-999.0000,9,-999.0000,9,-999.0000, -999.00