BOTTLE,20201109CCHSIOCBG
EXPOCODE,SECT_ID,STNNBR,CASTNO,SAMPNO,BTLNBR,BTLNBR_FLAG_W,DATE,TIME,LATITUDE,LONGITUDE,DEPTH,CTDPRS,CTDTMP,CTDSAL,CTDSAL_FLAG_W,SALNTY,SALNTY_FLAG_W,CTDOXY,CTDOXY_FLAG_W,OXYGEN,OXYGEN_FLAG_W,SILCAT,SILCAT_FLAG_W,NITRAT,NITRAT_FLAG_W,NITRIT,NITRIT_FLAG_W,PHSPHT,PHSPHT_FLAG_W,CFC-11,CFC-11_FLAG_W,CFC-12,CFC-12_FLAG_W,CFC113,CFC113_FLAG_W,TCARBN,TCARBN_FLAG_W,ALKALI,ALKALI_FLAG_W,TRITUM,TRITUM_FLAG_W,HELIUM,HELIUM_FLAG_W,DELHE3,DELHE3_FLAG_W,DELC13,DELC13_FLAG_W,DELC14,DELC14_FLAG_W,C14ERR,NEON,NEON_FLAG_W,NEONER,DOC,DOC_FLAG_W,CTDRAW,TRITER,THETA,FUCO,FUCO_FLAG_W,RHAM,RHAM_FLAG_W,ARABA,ARABA_FLAG_W,GALA,GALA_FLAG_W,GLUC,GLUC_FLAG_W,MAN,MAN_FLAG_W,DCNS,DCNS_FLAG_W,BRDU,BRDU_FLAG_W,CDOM325,CDOM325_FLAG_W,CDOM340,CDOM340_FLAG_W,CDOM380,CDOM380_FLAG_W,CDOM412,CDOM412_FLAG_W,CDOMSL,CDOMSL_FLAG_W,CDOMSN,CDOMSN_FLAG_W,HELIER,DELHER
,,,,,,,,,,,METERS,DBAR,ITS-90,PSS-78,,PSS-78,,UMOL/KG,,UMOL/KG,,UMOL/KG,,UMOL/KG,,UMOL/KG,,UMOL/KG,,PMOL/KG,,PMOL/KG,,PMOL/KG,,UMOL/KG,,UMOL/KG,,TU,,NMOL/KG,,PERCNT,,/MILLE,,/MILLE,,/MILLE,NMOL/KG,,NMOL/KG,UMOL/KG,,DBAR,TU,DEG C,NMOL/KG,,NMOL/KG,,NMOL/KG,,NMOL/KG,,NMOL/KG,,NMOL/KG,,NMOL/KG,,PMOL/L/H,,1/M,,1/M,,1/M,,1/M,,1/NM,,1/NM,,NMOL/KG,PERCNT
33RR20050106,       P16S,      30,          1,         36,         36,2,20050118,       0903,   -30.5000,  -150.0000,       4847,     3.4,  23.6321,  35.5077,2,  35.5066,2,    214.5,2,   213.1,2,    0.24,2,    0.06,2,    0.00,2,    0.08,2,   1.795,2,   1.117,2,   0.185,2,  2026.4,2,  2328.7,6,-999.000,9,-999.0000,9, -999.00,9, -999.00,9,  -999.0,9,  -999.0,-999.000,9,-999.000,-999.0000,9,     3.4,-999.000,  23.6314,     -999.0,9,     -999.0,9,     -999.0,9,     -999.0,9,     -999.0,9,     -999.0,9,     -999.0,9, -999.00,9,-999.0000,9,-999.0000,9,-999.0000,9,-999.0000,9,-999.0000,9,-999.0000,9,-999.0000, -999.00
33RR20050106,       P16S,      30,          1,         35,         35,2,20050118,       0903,   -30.5000,  -150.0000,       4847,    41.8,  19.6659,  35.5342,2,  35.5333,2,    235.8,2,   236.2,2,    0.24,2,    0.12,2,    0.00,2,    0.08,2,   2.186,2,   1.344,2,   0.280,2,  2037.1,2,  2328.6,2,-999.000,9,-999.0000,9, -999.00,9, -999.00,9,  -999.0,9,  -999.0,-999.000,9,-999.000,-999.0000,9,    41.8,-999.000,  19.6583,     -999.0,9,     -999.0,9,     -999.0,9,     -999.0,9,     -999.0,9,     -999.0,9,     -999.0,9, -999.00,9,-999.0000,9,-999.0000,9,-999.0000,9,-999.0000,9,-999.0000,9,-999.0000,9,-999.0000, -999.00
33RR20050106,       P16S,      30,          1,         34,         34,2,20050118,       0903,   -30.5000,  -150.0000,       4847,    87.5,  18.5112,  35.4885,2,  35.4869,2,    238.6,2,   236.9,2,    0.25,2,    0.06,2,    0.00,2,    0.08,2,   2.218,2,   1.363,2,   0.260,2,  2037.5,2,  2326.2,2,-999.000,9,-999.0000,9, -999.00,9, -999.00,9,  -999.0,9,  -999.0,-999.000,9,-999.000,-999.0000,9,    87.5,-999.000,  18.4959,     -999.0,9,     -999.0,9,     -999.0,9,     -999.0,9,     -999.0,9,     -999.0,9,     -999.0,9, -999.00,9,-999.0000,9,-999.0000,9,-999.0000,9,-999.0000,9,-999.0000,9,-999.0000,9,-999.0000, -999.00
33RR20050106,       P16S,      30,          1,         33,         33,2,20050118,       0903,   -30.5000,  -150.0000,       4847,   139.3,  17.5660,  35.4627,2,  35.4662,2,    232.7,2,   227.9,2,    0.25,2,    0.06,2,    0.00,2,    0.11,2,   2.243,6,   1.401,6,   0.166,6,  2050.1,2,  2324.4,2,-999.000,9,-999.0000,9, -999.00,9, -999.00,9,  -999.0,9,  -999.0,-999.000,9,-999.000,-999.0000,9,   139.3,-999.000,  17.5424,     -999.0,9,     -999.0,9,     -999.0,9,     -999.0,9,     -999.0,9,     -999.0,9,     -999.0,9, -999.00,9,-999.0000,9,-999.0000,9,-999.0000,9,-999.0000,9,-999.0000,9,-999.0000,9,-999.0000, -999.00
33RR20050106,       P16S,      30,          1,         32,         32,2,20050118,       0903,   -30.5000,  -150.0000,       4847,   189.7,  16.9456,  35.4512,2,  35.4492,2,    226.5,2,   220.4,2,    0.46,2,    1.16,2,    0.17,2,    0.20,2,   2.284,2,   1.404,2,   0.150,2,  -999.0,9,  -999.0,9,-999.000,9,-999.0000,9, -999.00,9, -999.00,9,  -999.0,9,  -999.0,-999.000,9,-999.000,-999.0000,9,   189.7,-999.000,  16.9143,     -999.0,9,     -999.0,9,     -999.0,9,     -999.0,9,     -999.0,9,     -999.0,9,     -999.0,9, -999.00,9,-999.0000,9,-999.0000,9,-999.0000,9,-999.0000,9,-999.0000,9,-999.0000,9,-999.0000, -999.00
33RR20050106,       P16S,      30,          1,         31,         31,2,20050118,       0903,   -30.5000,  -150.0000,       4847,   235.9,  15.4787,  35.2308,2,  35.2285,2,    213.2,2,   211.5,2,    0.66,2,    3.66,2,    0.01,2,    0.37,2,   2.439,2,   1.497,2,   0.092,2,  2078.2,2,  2312.8,2,-999.000,9,-999.0000,9, -999.00,9, -999.00,9,  -999.0,9,  -999.0,-999.000,9,-999.000,-999.0000,9,   235.9,-999.000,  15.4421,     -999.0,9,     -999.0,9,     -999.0,9,     -999.0,9,     -999.0,9,     -999.0,9,     -999.0,9, -999.00,9,-999.0000,9,-999.0000,9,-999.0000,9,-999.0000,9,-999.0000,9,-999.0000,9,-999.0000, -999.00
33RR20050106,       P16S,      30,          1,         30,         30,2,20050118,       0903,   -30.5000,  -150.0000,       4847,   287.1,  14.0042,  35.0802,2,-999.0000,9,    204.8,2,   204.9,2,    1.26,2,    7.00,2,    0.00,2,    0.59,2,   2.476,2,   1.516,2,   0.084,2,  -999.0,9,  -999.0,9,-999.000,9,-999.0000,9, -999.00,9, -999.00,9,  -999.0,9,  -999.0,-999.000,9,-999.000,-999.0000,9,   287.1,-999.000,  13.9625,     -999.0,9,     -999.0,9,     -999.0,9,     -999.0,9,     -999.0,9,     -999.0,9,     -999.0,9, -999.00,9,-999.0000,9,-999.0000,9,-999.0000,9,-999.0000,9,-999.0000,9,-999.0000,9,-999.0000, -999.00
33RR20050106,       P16S,      30,          1,         29,         29,2,20050118,       0903,   -30.5000,  -150.0000,       4847,   338.9,  12.3457,  34.8884,2,-999.0000,9,    203.9,2,   203.9,2,    2.06,2,   10.67,2,    0.00,2,    0.82,2,-999.000,9,-999.000,9,-999.000,9,  2108.1,2,  2295.4,2,-999.000,9,-999.0000,9, -999.00,9, -999.00,9,  -999.0,9,  -999.0,-999.000,9,-999.000,-999.0000,9,   338.9,-999.000,  12.3004,     -999.0,9,     -999.0,9,     -999.0,9,     -999.0,9,     -999.0,9,     -999.0,9,     -999.0,9, -999.00,9,-999.0000,9,-999.0000,9,-999.0000,9,-999.0000,9,-999.0000,9,-999.0000,9,-999.0000, -999.00
33RR20050106,       P16S,      30,          1,         28,         28,2,20050118,       0903,   -30.5000,  -150.0000,       4847,   390.6,  10.8181,  34.7340,2,-999.0000,9,    207.8,2,   208.4,2,    3.07,2,   13.97,2,    0.00,2,    1.03,2,   2.534,2,   1.456,2,   0.104,2,  -999.0,9,  -999.0,9,-999.000,9,-999.0000,9, -999.00,9, -999.00,9,  -999.0,9,  -999.0,-999.000,9,-999.000,-999.0000,9,   390.6,-999.000,  10.7702,     -999.0,9,     -999.0,9,     -999.0,9,     -999.0,9,     -999.0,9,     -999.0,9,     -999.0,9, -999.00,9,-999.0000,9,-999.0000,9,-999.0000,9,-999.0000,9,-999.0000,9,-999.0000,9,-999.0000, -999.00
33RR20050106,       P16S,      30,          1,         27,         27,2,20050118,       0903,   -30.5000,  -150.0000,       4847,   435.9,   9.4354,  34.5996,2,-999.0000,9,    214.6,2,   216.8,2,    3.68,2,   16.49,2,    0.00,2,    1.18,2,-999.000,9,-999.000,9,-999.000,9,  2127.0,2,  2285.9,2,-999.000,9,-999.0000,9, -999.00,9, -999.00,9,  -999.0,9,  -999.0,-999.000,9,-999.000,-999.0000,9,   435.9,-999.000,   9.3862,     -999.0,9,     -999.0,9,     -999.0,9,     -999.0,9,     -999.0,9,     -999.0,9,     -999.0,9, -999.00,9,-999.0000,9,-999.0000,9,-999.0000,9,-999.0000,9,-999.0000,9,-999.0000,9,-999.0000, -999.00
33RR20050106,       P16S,      30,          1,         26,         26,2,20050118,       0903,   -30.5000,  -150.0000,       4847,   487.5,   8.4375,  34.4956,2,-999.0000,9,    223.3,2,   224.3,2,    4.48,2,   18.69,2,    0.00,2,    1.31,2,   2.708,2,   1.488,2,   0.129,2,  -999.0,9,  -999.0,9,-999.000,9,-999.0000,9, -999.00,9, -999.00,9,  -999.0,9,  -999.0,-999.000,9,-999.000,-999.0000,9,   487.5,-999.000,   8.3860,     -999.0,9,     -999.0,9,     -999.0,9,     -999.0,9,     -999.0,9,     -999.0,9,     -999.0,9, -999.00,9,-999.0000,9,-999.0000,9,-999.0000,9,-999.0000,9,-999.0000,9,-999.0000,9,-999.0000, -999.00
33RR20050106,       P16S,      30,          1,         25,         25,2,20050118,       0903,   -30.5000,  -150.0000,       4847,   574.4,   7.5109,  34.4177,2,  34.4180,2,    235.6,2,   235.3,2,    5.48,2,   20.51,2,    0.00,2,    1.43,2,   2.782,2,   1.465,2,   0.163,2,  2135.2,2,  2278.5,2,-999.000,9,-999.0000,9, -999.00,9, -999.00,9,  -999.0,9,  -999.0,-999.000,9,-999.000,-999.0000,9,   574.4,-999.000,   7.4539,     -999.0,9,     -999.0,9,     -999.0,9,     -999.0,9,     -999.0,9,     -999.0,9,     -999.0,9, -999.00,9,-999.0000,9,-999.0000,9,-999.0000,9,-999.0000,9,-999.0000,9,-999.0000,9,-999.0000, -999.00
33RR20050106,       P16S,      30,          1,         24,         24,2,20050118,       0903,   -30.5000,  -150.0000,       4847,   676.9,   6.8220,  34.3732,2,  34.3733,2,    238.6,2,   241.5,2,    7.08,2,   22.18,2,    0.00,2,    1.53,2,   2.455,2,   1.271,2,   0.122,2,  2137.7,2,  2279.2,2,-999.000,9,-999.0000,9, -999.00,9, -999.00,9,  -999.0,9,  -999.0,-999.000,9,-999.000,-999.0000,9,   676.9,-999.000,   6.7580,     -999.0,9,     -999.0,9,     -999.0,9,     -999.0,9,     -999.0,9,     -999.0,9,     -999.0,9, -999.00,9,-999.0000,9,-999.0000,9,-999.0000,9,-999.0000,9,-999.0000,9,-999.0000,9,-999.0000, -999.00
33RR20050106,       P16S,      30,          1,         23,         23,2,20050118,       0903,   -30.5000,  -150.0000,       4847,   774.8,   6.1949,  34.3347,2,  34.3335,2,    235.2,2,   235.3,2,   10.09,2,   24.29,2,    0.00,2,    1.67,2,   1.559,2,   0.818,2,   0.095,2,  -999.0,9,  -999.0,9,-999.000,9,-999.0000,9, -999.00,9, -999.00,9,  -999.0,9,  -999.0,-999.000,9,-999.000,-999.0000,9,   774.8,-999.000,   6.1248,     -999.0,9,     -999.0,9,     -999.0,9,     -999.0,9,     -999.0,9,     -999.0,9,     -999.0,9, -999.00,9,-999.0000,9,-999.0000,9,-999.0000,9,-999.0000,9,-999.0000,9,-999.0000,9,-999.0000, -999.00
33RR20050106,       P16S,      30,          1,         22,         22,2,20050118,       0903,   -30.5000,  -150.0000,       4847,   877.0,   5.5075,  34.3108,2,  34.3108,2,    224.6,2,   224.3,2,   15.32,2,   26.72,2,    0.00,2,    1.86,2,   0.962,2,   0.511,2,   0.036,2,  2159.6,2,  2283.3,2,-999.000,9,-999.0000,9, -999.00,9, -999.00,9,  -999.0,9,  -999.0,-999.000,9,-999.000,-999.0000,9,   877.0,-999.000,   5.4321,     -999.0,9,     -999.0,9,     -999.0,9,     -999.0,9,     -999.0,9,     -999.0,9,     -999.0,9, -999.00,9,-999.0000,9,-999.0000,9,-999.0000,9,-999.0000,9,-999.0000,9,-999.0000,9,-999.0000, -999.00
33RR20050106,       P16S,      30,          1,         21,         21,2,20050118,       0903,   -30.5000,  -150.0000,       4847,   980.1,   4.9915,  34.3151,2,  34.3159,2,    211.2,2,   210.9,2,   22.55,2,   28.94,2,    0.00,2,    2.01,2,   0.638,2,   0.325,2,   0.030,2,  -999.0,9,  -999.0,9,-999.000,9,-999.0000,9, -999.00,9, -999.00,9,  -999.0,9,  -999.0,-999.000,9,-999.000,-999.0000,9,   980.1,-999.000,   4.9103,     -999.0,9,     -999.0,9,     -999.0,9,     -999.0,9,     -999.0,9,     -999.0,9,     -999.0,9, -999.00,9,-999.0000,9,-999.0000,9,-999.0000,9,-999.0000,9,-999.0000,9,-999.0000,9,-999.0000, -999.00
33RR20050106,       P16S,      30,          1,         20,         20,2,20050118,       0903,   -30.5000,  -150.0000,       4847,  1077.2,   4.3823,  34.3394,2,  34.3388,2,    197.6,2,   196.0,2,   32.84,2,   31.12,2,    0.00,2,    2.16,2,   0.314,2,   0.169,2,   0.001,2,  2194.6,6,  2298.7,2,-999.000,9,-999.0000,9, -999.00,9, -999.00,9,  -999.0,9,  -999.0,-999.000,9,-999.000,-999.0000,9,  1077.2,-999.000,   4.2973,     -999.0,9,     -999.0,9,     -999.0,9,     -999.0,9,     -999.0,9,     -999.0,9,     -999.0,9, -999.00,9,-999.0000,9,-999.0000,9,-999.0000,9,-999.0000,9,-999.0000,9,-999.0000,9,-999.0000, -999.00
33RR20050106,       P16S,      30,          1,         19,         19,2,20050118,       0903,   -30.5000,  -150.0000,       4847,  1180.7,   3.7921,  34.3739,2,  34.3729,2,    188.6,2,   186.9,2,   43.37,2,   32.60,2,    0.00,2,    2.27,2,   0.202,2,   0.121,2,   0.002,2,  -999.0,9,  -999.0,9,-999.000,9,-999.0000,9, -999.00,9, -999.00,9,  -999.0,9,  -999.0,-999.000,9,-999.000,-999.0000,9,  1180.7,-999.000,   3.7033,     -999.0,9,     -999.0,9,     -999.0,9,     -999.0,9,     -999.0,9,     -999.0,9,     -999.0,9, -999.00,9,-999.0000,9,-999.0000,9,-999.0000,9,-999.0000,9,-999.0000,9,-999.0000,9,-999.0000, -999.00
33RR20050106,       P16S,      30,          1,         18,         18,2,20050118,       0903,   -30.5000,  -150.0000,       4847,  1283.3,   3.3622,  34.4261,2,  34.4272,2,    176.8,2,   176.2,2,   55.76,2,   33.63,2,    0.00,2,    2.35,2,-999.000,9,-999.000,9,-999.000,9,  -999.0,9,  -999.0,9,-999.000,9,-999.0000,9, -999.00,9, -999.00,9,  -999.0,9,  -999.0,-999.000,9,-999.000,-999.0000,9,  1283.3,-999.000,   3.2688,     -999.0,9,     -999.0,9,     -999.0,9,     -999.0,9,     -999.0,9,     -999.0,9,     -999.0,9, -999.00,9,-999.0000,9,-999.0000,9,-999.0000,9,-999.0000,9,-999.0000,9,-999.0000,9,-999.0000, -999.00
33RR20050106,       P16S,      30,          1,         17,         17,2,20050118,       0903,   -30.5000,  -150.0000,       4847,  1386.4,   3.0127,  34.4828,2,  34.4826,2,    170.3,2,   168.8,2,   67.99,2,   34.18,2,    0.00,2,    2.41,2,   0.043,2,   0.045,2,   0.002,2,  -999.0,9,  -999.0,9,-999.000,9,-999.0000,9, -999.00,9, -999.00,9,  -999.0,9,  -999.0,-999.000,9,-999.000,-999.0000,9,  1386.4,-999.000,   2.9143,     -999.0,9,     -999.0,9,     -999.0,9,     -999.0,9,     -999.0,9,     -999.0,9,     -999.0,9, -999.00,9,-999.0000,9,-999.0000,9,-999.0000,9,-999.0000,9,-999.0000,9,-999.0000,9,-999.0000, -999.00
33RR20050106,       P16S,      30,          1,         16,         16,2,20050118,       0903,   -30.5000,  -150.0000,       4847,  1488.7,   2.7695,  34.5275,2,  34.5271,2,    166.1,2,   164.4,2,   77.38,2,   34.45,2,    0.00,2,    2.43,2,-999.000,9,-999.000,9,-999.000,9,  -999.0,9,  -999.0,9,-999.000,9,-999.0000,9, -999.00,9, -999.00,9,  -999.0,9,  -999.0,-999.000,9,-999.000,-999.0000,9,  1488.7,-999.000,   2.6653,     -999.0,9,     -999.0,9,     -999.0,9,     -999.0,9,     -999.0,9,     -999.0,9,     -999.0,9, -999.00,9,-999.0000,9,-999.0000,9,-999.0000,9,-999.0000,9,-999.0000,9,-999.0000,9,-999.0000, -999.00
33RR20050106,       P16S,      30,          1,         15,         15,2,20050118,       0903,   -30.5000,  -150.0000,       4847,  1592.4,   2.5788,  34.5679,2,  34.5675,2,    160.6,2,   159.5,2,   87.83,2,   34.68,2,    0.00,2,    2.43,2,  -0.005,2,   0.015,2,   0.002,2,  -999.0,9,  -999.0,9,-999.000,9,-999.0000,9, -999.00,9, -999.00,9,  -999.0,9,  -999.0,-999.000,9,-999.000,-999.0000,9,  1592.4,-999.000,   2.4683,     -999.0,9,     -999.0,9,     -999.0,9,     -999.0,9,     -999.0,9,     -999.0,9,     -999.0,9, -999.00,9,-999.0000,9,-999.0000,9,-999.0000,9,-999.0000,9,-999.0000,9,-999.0000,9,-999.0000, -999.00
33RR20050106,       P16S,      30,          1,         14,         14,2,20050118,       0903,   -30.5000,  -150.0000,       4847,  1689.3,   2.4663,  34.5898,2,  34.5885,2,    157.6,2,   156.9,2,   94.40,2,   34.84,2,    0.00,2,    2.46,2,-999.000,9,-999.000,9,-999.000,9,  -999.0,9,  -999.0,9,-999.000,9,-999.0000,9, -999.00,9, -999.00,9,  -999.0,9,  -999.0,-999.000,9,-999.000,-999.0000,9,  1689.3,-999.000,   2.3492,     -999.0,9,     -999.0,9,     -999.0,9,     -999.0,9,     -999.0,9,     -999.0,9,     -999.0,9, -999.00,9,-999.0000,9,-999.0000,9,-999.0000,9,-999.0000,9,-999.0000,9,-999.0000,9,-999.0000, -999.00
33RR20050106,       P16S,      30,          1,         13,         13,2,20050118,       0903,   -30.5000,  -150.0000,       4847,  1793.3,   2.3684,  34.6077,2,  34.6066,2,    154.7,2,   154.6,2,  100.36,2,   35.00,2,    0.00,2,    2.47,2,  -0.003,2,  -0.001,2,   0.002,2,  -999.0,9,  -999.0,9,-999.000,9,-999.0000,9, -999.00,9, -999.00,9,  -999.0,9,  -999.0,-999.000,9,-999.000,-999.0000,9,  1793.3,-999.000,   2.2440,     -999.0,9,     -999.0,9,     -999.0,9,     -999.0,9,     -999.0,9,     -999.0,9,     -999.0,9, -999.00,9,-999.0000,9,-999.0000,9,-999.0000,9,-999.0000,9,-999.0000,9,-999.0000,9,-999.0000, -999.00
33RR20050106,       P16S,      30,          1,         12,         12,3,20050118,       0903,   -30.5000,  -150.0000,       4847,  1993.6,   2.1821,  34.6321,2,  34.6635,4,    151.5,2,   163.9,4,  117.85,4,   34.51,4,    0.00,4,    2.43,4,  -0.008,2,  -0.001,4,   0.002,2,  -999.0,9,  -999.0,9,-999.000,9,-999.0000,9, -999.00,9, -999.00,9,  -999.0,9,  -999.0,-999.000,9,-999.000,-999.0000,9,  1993.6,-999.000,   2.0434,     -999.0,9,     -999.0,9,     -999.0,9,     -999.0,9,     -999.0,9,     -999.0,9,     -999.0,9, -999.00,9,-999.0000,9,-999.0000,9,-999.0000,9,-999.0000,9,-999.0000,9,-999.0000,9,-999.0000, -999.00
33RR20050106,       P16S,      30,          1,         11,         11,2,20050118,       0903,   -30.5000,  -150.0000,       4847,  2200.3,   2.0219,  34.6483,2,  34.6480,2,    150.2,2,   150.6,2,  118.05,2,   35.39,2,    0.00,2,    2.50,2,-999.000,9,-999.000,9,-999.000,9,  -999.0,9,  -999.0,9,-999.000,9,-999.0000,9, -999.00,9, -999.00,9,  -999.0,9,  -999.0,-999.000,9,-999.000,-999.0000,9,  2200.3,-999.000,   1.8679,     -999.0,9,     -999.0,9,     -999.0,9,     -999.0,9,     -999.0,9,     -999.0,9,     -999.0,9, -999.00,9,-999.0000,9,-999.0000,9,-999.0000,9,-999.0000,9,-999.0000,9,-999.0000,9,-999.0000, -999.00
33RR20050106,       P16S,      30,          1,         10,         10,2,20050118,       0903,   -30.5000,  -150.0000,       4847,  2453.4,   1.8763,  34.6603,2,  34.6597,2,    150.3,2,   150.5,2,  124.45,2,   35.50,2,    0.00,2,    2.51,2,-999.000,9,-999.000,9,-999.000,9,  -999.0,9,  -999.0,9,-999.000,9,-999.0000,9, -999.00,9, -999.00,9,  -999.0,9,  -999.0,-999.000,9,-999.000,-999.0000,9,  2453.4,-999.000,   1.7025,     -999.0,9,     -999.0,9,     -999.0,9,     -999.0,9,     -999.0,9,     -999.0,9,     -999.0,9, -999.00,9,-999.0000,9,-999.0000,9,-999.0000,9,-999.0000,9,-999.0000,9,-999.0000,9,-999.0000, -999.00
33RR20050106,       P16S,      30,          1,          9,          9,2,20050118,       0903,   -30.5000,  -150.0000,       4847,  2705.7,   1.7748,  34.6691,2,  34.6682,2,    152.5,2,   153.4,2,  127.55,2,   35.34,2,    0.00,2,    2.49,2,  -0.003,2,  -0.001,2,   0.002,2,  -999.0,9,  -999.0,9,-999.000,9,-999.0000,9, -999.00,9, -999.00,9,  -999.0,9,  -999.0,-999.000,9,-999.000,-999.0000,9,  2705.7,-999.000,   1.5799,     -999.0,9,     -999.0,9,     -999.0,9,     -999.0,9,     -999.0,9,     -999.0,9,     -999.0,9, -999.00,9,-999.0000,9,-999.0000,9,-999.0000,9,-999.0000,9,-999.0000,9,-999.0000,9,-999.0000, -999.00
33RR20050106,       P16S,      30,          1,          8,          8,2,20050118,       0903,   -30.5000,  -150.0000,       4847,  2959.1,   1.6915,  34.6764,2,  34.6764,2,    157.3,2,   158.2,2,  127.56,2,   35.01,2,    0.00,2,    2.46,2,-999.000,9,-999.000,9,-999.000,9,  -999.0,9,  -999.0,9,-999.000,9,-999.0000,9, -999.00,9, -999.00,9,  -999.0,9,  -999.0,-999.000,9,-999.000,-999.0000,9,  2959.1,-999.000,   1.4744,     -999.0,9,     -999.0,9,     -999.0,9,     -999.0,9,     -999.0,9,     -999.0,9,     -999.0,9, -999.00,9,-999.0000,9,-999.0000,9,-999.0000,9,-999.0000,9,-999.0000,9,-999.0000,9,-999.0000, -999.00
33RR20050106,       P16S,      30,          1,          7,          7,2,20050118,       0903,   -30.5000,  -150.0000,       4847,  3295.4,   1.5460,  34.6885,2,  34.6882,2,    167.9,2,   169.5,2,  124.88,2,   34.19,2,    0.00,2,    2.41,2,  -0.018,2,  -0.001,2,   0.002,2,  -999.0,9,  -999.0,9,-999.000,9,-999.0000,9, -999.00,9, -999.00,9,  -999.0,9,  -999.0,-999.000,9,-999.000,-999.0000,9,  3295.4,-999.000,   1.2993,     -999.0,9,     -999.0,9,     -999.0,9,     -999.0,9,     -999.0,9,     -999.0,9,     -999.0,9, -999.00,9,-999.0000,9,-999.0000,9,-999.0000,9,-999.0000,9,-999.0000,9,-999.0000,9,-999.0000, -999.00