BOTTLE,20201109CCHSIOCBG
EXPOCODE,SECT_ID,STNNBR,CASTNO,SAMPNO,BTLNBR,BTLNBR_FLAG_W,DATE,TIME,LATITUDE,LONGITUDE,DEPTH,CTDPRS,CTDTMP,CTDSAL,CTDSAL_FLAG_W,SALNTY,SALNTY_FLAG_W,CTDOXY,CTDOXY_FLAG_W,OXYGEN,OXYGEN_FLAG_W,SILCAT,SILCAT_FLAG_W,NITRAT,NITRAT_FLAG_W,NITRIT,NITRIT_FLAG_W,PHSPHT,PHSPHT_FLAG_W,CFC-11,CFC-11_FLAG_W,CFC-12,CFC-12_FLAG_W,CFC113,CFC113_FLAG_W,TCARBN,TCARBN_FLAG_W,ALKALI,ALKALI_FLAG_W,TRITUM,TRITUM_FLAG_W,HELIUM,HELIUM_FLAG_W,DELHE3,DELHE3_FLAG_W,DELC13,DELC13_FLAG_W,DELC14,DELC14_FLAG_W,C14ERR,NEON,NEON_FLAG_W,NEONER,DOC,DOC_FLAG_W,CTDRAW,TRITER,THETA,FUCO,FUCO_FLAG_W,RHAM,RHAM_FLAG_W,ARABA,ARABA_FLAG_W,GALA,GALA_FLAG_W,GLUC,GLUC_FLAG_W,MAN,MAN_FLAG_W,DCNS,DCNS_FLAG_W,BRDU,BRDU_FLAG_W,CDOM325,CDOM325_FLAG_W,CDOM340,CDOM340_FLAG_W,CDOM380,CDOM380_FLAG_W,CDOM412,CDOM412_FLAG_W,CDOMSL,CDOMSL_FLAG_W,CDOMSN,CDOMSN_FLAG_W,HELIER,DELHER
,,,,,,,,,,,METERS,DBAR,ITS-90,PSS-78,,PSS-78,,UMOL/KG,,UMOL/KG,,UMOL/KG,,UMOL/KG,,UMOL/KG,,UMOL/KG,,PMOL/KG,,PMOL/KG,,PMOL/KG,,UMOL/KG,,UMOL/KG,,TU,,NMOL/KG,,PERCNT,,/MILLE,,/MILLE,,/MILLE,NMOL/KG,,NMOL/KG,UMOL/KG,,DBAR,TU,DEG C,NMOL/KG,,NMOL/KG,,NMOL/KG,,NMOL/KG,,NMOL/KG,,NMOL/KG,,NMOL/KG,,PMOL/L/H,,1/M,,1/M,,1/M,,1/M,,1/NM,,1/NM,,NMOL/KG,PERCNT
33RR20050106,       P16S,      74,          1,         36,         36,2,20050131,       2352,   -52.4983,  -150.0008,       4654,     9.3,   9.6326,  34.2802,2,  34.2811,2,    278.5,2,   279.9,2,    0.97,2,   12.57,2,    0.21,2,    0.96,2,   3.927,2,   2.116,2,   0.376,2,  2087.1,6,  2280.6,6,-999.000,9,-999.0000,9, -999.00,9, -999.00,9,  -999.0,9,  -999.0,-999.000,9,-999.000,-999.0000,9,     9.3,-999.000,   9.6316,     -999.0,9,     -999.0,9,     -999.0,9,     -999.0,9,     -999.0,9,     -999.0,9,     -999.0,9, -999.00,9,-999.0000,9,-999.0000,9,-999.0000,9,-999.0000,9,-999.0000,9,-999.0000,9,-999.0000, -999.00
33RR20050106,       P16S,      74,          1,         35,         35,2,20050131,       2352,   -52.4983,  -150.0008,       4654,    35.8,   9.6360,  34.2798,2,  34.2805,2,    279.4,2,   279.5,2,    0.76,2,   12.57,2,    0.21,2,    0.96,2,   4.004,2,   2.131,2,   0.388,2,  2086.9,2,  2280.9,2,-999.000,9,-999.0000,9, -999.00,9, -999.00,9,  -999.0,9,  -999.0,-999.000,9,-999.000,-999.0000,9,    35.8,-999.000,   9.6320,     -999.0,9,     -999.0,9,     -999.0,9,     -999.0,9,     -999.0,9,     -999.0,9,     -999.0,9, -999.00,9,-999.0000,9,-999.0000,9,-999.0000,9,-999.0000,9,-999.0000,9,-999.0000,9,-999.0000, -999.00
33RR20050106,       P16S,      74,          1,         34,         34,2,20050131,       2352,   -52.4983,  -150.0008,       4654,    70.7,   9.4664,  34.3041,2,  34.2922,2,    279.5,2,   280.0,2,    1.16,2,   12.72,2,    0.26,2,    0.97,2,   4.028,2,   2.166,2,   0.381,2,  2089.2,2,  2281.2,2,-999.000,9,-999.0000,9, -999.00,9, -999.00,9,  -999.0,9,  -999.0,-999.000,9,-999.000,-999.0000,9,    70.7,-999.000,   9.4586,     -999.0,9,     -999.0,9,     -999.0,9,     -999.0,9,     -999.0,9,     -999.0,9,     -999.0,9, -999.00,9,-999.0000,9,-999.0000,9,-999.0000,9,-999.0000,9,-999.0000,9,-999.0000,9,-999.0000, -999.00
33RR20050106,       P16S,      74,          1,         33,         33,2,20050131,       2352,   -52.4983,  -150.0008,       4654,    92.3,   8.1953,  34.4407,2,  34.4392,2,    271.8,2,   273.0,2,    3.52,2,   15.31,2,    0.08,2,    1.12,2,-999.000,9,-999.000,9,-999.000,9,  2112.8,2,  2280.7,2,-999.000,9,-999.0000,9, -999.00,9, -999.00,9,  -999.0,9,  -999.0,-999.000,9,-999.000,-999.0000,9,    92.3,-999.000,   8.1860,     -999.0,9,     -999.0,9,     -999.0,9,     -999.0,9,     -999.0,9,     -999.0,9,     -999.0,9, -999.00,9,-999.0000,9,-999.0000,9,-999.0000,9,-999.0000,9,-999.0000,9,-999.0000,9,-999.0000, -999.00
33RR20050106,       P16S,      74,          1,         32,         32,2,20050131,       2352,   -52.4983,  -150.0008,       4654,   122.1,   7.8680,  34.4028,2,  34.4039,2,    274.1,2,   275.2,2,    3.92,2,   15.96,2,    0.02,2,    1.16,2,   4.357,2,   2.273,2,   0.411,2,  2113.8,2,  2281.4,2,-999.000,9,-999.0000,9, -999.00,9, -999.00,9,  -999.0,9,  -999.0,-999.000,9,-999.000,-999.0000,9,   122.1,-999.000,   7.8559,     -999.0,9,     -999.0,9,     -999.0,9,     -999.0,9,     -999.0,9,     -999.0,9,     -999.0,9, -999.00,9,-999.0000,9,-999.0000,9,-999.0000,9,-999.0000,9,-999.0000,9,-999.0000,9,-999.0000, -999.00
33RR20050106,       P16S,      74,          1,         31,         31,2,20050131,       2352,   -52.4983,  -150.0008,       4654,   176.4,   7.6881,  34.3982,2,  34.3972,2,    271.5,2,   270.5,2,    4.31,2,   17.01,2,    0.01,2,    1.22,2,-999.000,9,-999.000,9,-999.000,9,  2118.9,2,  2280.2,2,-999.000,9,-999.0000,9, -999.00,9, -999.00,9,  -999.0,9,  -999.0,-999.000,9,-999.000,-999.0000,9,   176.4,-999.000,   7.6708,     -999.0,9,     -999.0,9,     -999.0,9,     -999.0,9,     -999.0,9,     -999.0,9,     -999.0,9, -999.00,9,-999.0000,9,-999.0000,9,-999.0000,9,-999.0000,9,-999.0000,9,-999.0000,9,-999.0000, -999.00
33RR20050106,       P16S,      74,          1,         30,         30,2,20050131,       2352,   -52.4983,  -150.0008,       4654,   224.6,   7.3965,  34.3703,2,  34.3707,2,    268.1,2,   271.4,2,    4.70,2,   17.95,2,    0.01,2,    1.28,2,   4.336,2,   2.224,2,   0.388,2,  2120.8,2,  2279.7,2,-999.000,9,-999.0000,9, -999.00,9, -999.00,9,  -999.0,9,  -999.0,-999.000,9,-999.000,-999.0000,9,   224.6,-999.000,   7.3750,     -999.0,9,     -999.0,9,     -999.0,9,     -999.0,9,     -999.0,9,     -999.0,9,     -999.0,9, -999.00,9,-999.0000,9,-999.0000,9,-999.0000,9,-999.0000,9,-999.0000,9,-999.0000,9,-999.0000, -999.00
33RR20050106,       P16S,      74,          1,         29,         29,2,20050131,       2352,   -52.4983,  -150.0008,       4654,   275.4,   7.3466,  34.3810,2,  34.3807,2,    266.7,2,   265.7,2,    5.49,2,   19.01,2,    0.01,2,    1.34,2,-999.000,9,-999.000,9,-999.000,9,  2126.0,2,  2281.5,2,-999.000,9,-999.0000,9, -999.00,9, -999.00,9,  -999.0,9,  -999.0,-999.000,9,-999.000,-999.0000,9,   275.4,-999.000,   7.3202,     -999.0,9,     -999.0,9,     -999.0,9,     -999.0,9,     -999.0,9,     -999.0,9,     -999.0,9, -999.00,9,-999.0000,9,-999.0000,9,-999.0000,9,-999.0000,9,-999.0000,9,-999.0000,9,-999.0000, -999.00
33RR20050106,       P16S,      74,          1,         28,         28,2,20050131,       2352,   -52.4983,  -150.0008,       4654,   326.4,   7.2398,  34.3769,2,  34.3775,2,    263.2,2,   264.3,2,    6.08,2,   19.43,2,    0.00,2,    1.37,2,   4.117,2,   2.161,2,   0.357,2,  2127.9,2,  2280.7,2,-999.000,9,-999.0000,9, -999.00,9, -999.00,9,  -999.0,9,  -999.0,-999.000,9,-999.000,-999.0000,9,   326.4,-999.000,   7.2087,     -999.0,9,     -999.0,9,     -999.0,9,     -999.0,9,     -999.0,9,     -999.0,9,     -999.0,9, -999.00,9,-999.0000,9,-999.0000,9,-999.0000,9,-999.0000,9,-999.0000,9,-999.0000,9,-999.0000, -999.00
33RR20050106,       P16S,      74,          1,         27,         27,2,20050131,       2352,   -52.4983,  -150.0008,       4654,   377.4,   7.0510,  34.3623,2,  34.3669,2,    259.8,2,   260.7,2,    6.87,2,   20.22,2,    0.00,2,    1.43,2,-999.000,9,-999.000,9,-999.000,9,  2132.3,2,  2280.3,2,-999.000,9,-999.0000,9, -999.00,9, -999.00,9,  -999.0,9,  -999.0,-999.000,9,-999.000,-999.0000,9,   377.4,-999.000,   7.0154,     -999.0,9,     -999.0,9,     -999.0,9,     -999.0,9,     -999.0,9,     -999.0,9,     -999.0,9, -999.00,9,-999.0000,9,-999.0000,9,-999.0000,9,-999.0000,9,-999.0000,9,-999.0000,9,-999.0000, -999.00
33RR20050106,       P16S,      74,          1,         26,         26,2,20050131,       2352,   -52.4983,  -150.0008,       4654,   428.6,   6.8197,  34.3464,2,  34.3475,2,    254.5,2,   253.4,2,    8.25,2,   21.52,2,    0.01,2,    1.51,2,   3.957,2,   2.027,2,   0.326,2,  2138.5,2,  2281.0,2,-999.000,9,-999.0000,9, -999.00,9, -999.00,9,  -999.0,9,  -999.0,-999.000,9,-999.000,-999.0000,9,   428.6,-999.000,   6.7799,     -999.0,9,     -999.0,9,     -999.0,9,     -999.0,9,     -999.0,9,     -999.0,9,     -999.0,9, -999.00,9,-999.0000,9,-999.0000,9,-999.0000,9,-999.0000,9,-999.0000,9,-999.0000,9,-999.0000, -999.00
33RR20050106,       P16S,      74,          1,         25,         25,2,20050131,       2352,   -52.4983,  -150.0008,       4654,   478.9,   6.6623,  34.3458,2,  34.3457,2,    249.1,2,   246.7,2,    9.45,2,   22.48,2,    0.00,2,    1.58,2,-999.000,9,-999.000,9,-999.000,9,  2143.3,2,  2280.0,2,-999.000,9,-999.0000,9, -999.00,9, -999.00,9,  -999.0,9,  -999.0,-999.000,9,-999.000,-999.0000,9,   478.9,-999.000,   6.6182,     -999.0,9,     -999.0,9,     -999.0,9,     -999.0,9,     -999.0,9,     -999.0,9,     -999.0,9, -999.00,9,-999.0000,9,-999.0000,9,-999.0000,9,-999.0000,9,-999.0000,9,-999.0000,9,-999.0000, -999.00
33RR20050106,       P16S,      74,          1,         24,         24,2,20050131,       2352,   -52.4983,  -150.0008,       4654,   529.0,   6.4073,  34.3292,2,  34.3492,4,    245.9,2,   243.2,2,   11.02,2,   23.33,2,    0.01,2,    1.62,2,   3.507,2,   1.762,2,   0.264,2,  2146.9,2,  2280.9,2,-999.000,9,-999.0000,9, -999.00,9, -999.00,9,  -999.0,9,  -999.0,-999.000,9,-999.000,-999.0000,9,   529.0,-999.000,   6.3595,     -999.0,9,     -999.0,9,     -999.0,9,     -999.0,9,     -999.0,9,     -999.0,9,     -999.0,9, -999.00,9,-999.0000,9,-999.0000,9,-999.0000,9,-999.0000,9,-999.0000,9,-999.0000,9,-999.0000, -999.00
33RR20050106,       P16S,      74,          1,         23,         23,2,20050131,       2352,   -52.4983,  -150.0008,       4654,   649.2,   5.8839,  34.3268,2,  34.3294,2,    227.7,2,   227.3,2,   16.39,2,   25.82,2,    0.00,2,    1.79,2,   2.933,2,   1.463,2,   0.211,2,  2162.7,2,  2284.4,2,-999.000,9,-999.0000,9, -999.00,9, -999.00,9,  -999.0,9,  -999.0,-999.000,9,-999.000,-999.0000,9,   649.2,-999.000,   5.8272,     -999.0,9,     -999.0,9,     -999.0,9,     -999.0,9,     -999.0,9,     -999.0,9,     -999.0,9, -999.00,9,-999.0000,9,-999.0000,9,-999.0000,9,-999.0000,9,-999.0000,9,-999.0000,9,-999.0000, -999.00
33RR20050106,       P16S,      74,          1,         22,         22,2,20050131,       2352,   -52.4983,  -150.0008,       4654,   749.9,   5.3189,  34.3335,2,  34.3362,2,    218.1,2,   215.2,2,   22.56,2,   27.89,2,    0.00,2,    1.94,2,   2.328,4,   1.137,4,   0.133,4,  2176.0,2,  2288.6,2,-999.000,9,-999.0000,9, -999.00,9, -999.00,9,  -999.0,9,  -999.0,-999.000,9,-999.000,-999.0000,9,   749.9,-999.000,   5.2561,     -999.0,9,     -999.0,9,     -999.0,9,     -999.0,9,     -999.0,9,     -999.0,9,     -999.0,9, -999.00,9,-999.0000,9,-999.0000,9,-999.0000,9,-999.0000,9,-999.0000,9,-999.0000,9,-999.0000, -999.00
33RR20050106,       P16S,      74,          1,         21,         21,2,20050131,       2352,   -52.4983,  -150.0008,       4654,   848.8,   4.6487,  34.3139,2,  34.3145,2,    213.5,2,   214.3,2,   27.54,2,   29.43,2,    0.00,2,    2.05,2,   2.392,2,   1.201,2,   0.158,2,  2186.6,2,  2291.9,2,-999.000,9,-999.0000,9, -999.00,9, -999.00,9,  -999.0,9,  -999.0,-999.000,9,-999.000,-999.0000,9,   848.8,-999.000,   4.5815,     -999.0,9,     -999.0,9,     -999.0,9,     -999.0,9,     -999.0,9,     -999.0,9,     -999.0,9, -999.00,9,-999.0000,9,-999.0000,9,-999.0000,9,-999.0000,9,-999.0000,9,-999.0000,9,-999.0000, -999.00
33RR20050106,       P16S,      74,          1,         20,         20,2,20050131,       2352,   -52.4983,  -150.0008,       4654,   952.4,   4.1373,  34.3214,2,  34.3217,2,    208.4,2,   209.9,2,   33.55,2,   30.71,2,    0.00,2,    2.14,2,   2.150,2,   1.027,2,   0.134,2,  2196.6,2,  2295.8,2,-999.000,9,-999.0000,9, -999.00,9, -999.00,9,  -999.0,9,  -999.0,-999.000,9,-999.000,-999.0000,9,   952.4,-999.000,   4.0649,     -999.0,9,     -999.0,9,     -999.0,9,     -999.0,9,     -999.0,9,     -999.0,9,     -999.0,9, -999.00,9,-999.0000,9,-999.0000,9,-999.0000,9,-999.0000,9,-999.0000,9,-999.0000,9,-999.0000, -999.00
33RR20050106,       P16S,      74,          1,         19,         19,2,20050131,       2352,   -52.4983,  -150.0008,       4654,  1053.6,   3.7065,  34.3509,2,  34.3515,2,    200.5,2,   201.3,2,   41.56,2,   31.88,2,    0.00,2,    2.23,2,   1.720,2,   0.809,2,   0.101,2,  2210.5,2,  2304.6,2,-999.000,9,-999.0000,9, -999.00,9, -999.00,9,  -999.0,9,  -999.0,-999.000,9,-999.000,-999.0000,9,  1053.6,-999.000,   3.6290,     -999.0,9,     -999.0,9,     -999.0,9,     -999.0,9,     -999.0,9,     -999.0,9,     -999.0,9, -999.00,9,-999.0000,9,-999.0000,9,-999.0000,9,-999.0000,9,-999.0000,9,-999.0000,9,-999.0000, -999.00
33RR20050106,       P16S,      74,          1,         18,         18,2,20050131,       2352,   -52.4983,  -150.0008,       4654,  1154.1,   3.3793,  34.3850,2,  34.3851,2,    193.9,2,   193.2,2,   48.99,2,   32.79,2,    0.00,2,    2.30,2,-999.000,5,-999.000,5,-999.000,5,  2221.6,6,  2311.3,2,-999.000,9,-999.0000,9, -999.00,9, -999.00,9,  -999.0,9,  -999.0,-999.000,9,-999.000,-999.0000,9,  1154.1,-999.000,   3.2964,     -999.0,9,     -999.0,9,     -999.0,9,     -999.0,9,     -999.0,9,     -999.0,9,     -999.0,9, -999.00,9,-999.0000,9,-999.0000,9,-999.0000,9,-999.0000,9,-999.0000,9,-999.0000,9,-999.0000, -999.00
33RR20050106,       P16S,      74,          1,         17,         17,2,20050131,       2352,   -52.4983,  -150.0008,       4654,  1255.4,   3.1307,  34.4115,2,  34.4117,2,    187.0,2,   188.3,2,   54.22,2,   33.33,2,    0.00,2,    2.34,2,   1.204,2,   0.582,2,   0.060,2,  -999.0,9,  -999.0,9,-999.000,9,-999.0000,9, -999.00,9, -999.00,9,  -999.0,9,  -999.0,-999.000,9,-999.000,-999.0000,9,  1255.4,-999.000,   3.0419,     -999.0,9,     -999.0,9,     -999.0,9,     -999.0,9,     -999.0,9,     -999.0,9,     -999.0,9, -999.00,9,-999.0000,9,-999.0000,9,-999.0000,9,-999.0000,9,-999.0000,9,-999.0000,9,-999.0000, -999.00
33RR20050106,       P16S,      74,          1,         16,         16,2,20050131,       2352,   -52.4983,  -150.0008,       4654,  1356.9,   2.9101,  34.4532,2,  34.4547,2,    181.2,2,   182.4,2, -999.00,9, -999.00,9, -999.00,9, -999.00,9,-999.000,9,-999.000,9,-999.000,9,  -999.0,9,  -999.0,9,-999.000,9,-999.0000,9, -999.00,9, -999.00,9,  -999.0,9,  -999.0,-999.000,9,-999.000,-999.0000,9,  1356.9,-999.000,   2.8152,     -999.0,9,     -999.0,9,     -999.0,9,     -999.0,9,     -999.0,9,     -999.0,9,     -999.0,9, -999.00,9,-999.0000,9,-999.0000,9,-999.0000,9,-999.0000,9,-999.0000,9,-999.0000,9,-999.0000, -999.00
33RR20050106,       P16S,      74,          1,         15,         15,2,20050131,       2352,   -52.4983,  -150.0008,       4654,  1458.6,   2.7253,  34.4974,2,  34.4979,2,    177.3,2,   177.7,2,   65.73,2,   34.13,2,    0.00,2,    2.38,2,   0.758,2,   0.359,2,   0.048,2,  -999.0,9,  -999.0,9,-999.000,9,-999.0000,9, -999.00,9, -999.00,9,  -999.0,9,  -999.0,-999.000,9,-999.000,-999.0000,9,  1458.6,-999.000,   2.6242,     -999.0,9,     -999.0,9,     -999.0,9,     -999.0,9,     -999.0,9,     -999.0,9,     -999.0,9, -999.00,9,-999.0000,9,-999.0000,9,-999.0000,9,-999.0000,9,-999.0000,9,-999.0000,9,-999.0000, -999.00
33RR20050106,       P16S,      74,          1,         14,         14,2,20050131,       2352,   -52.4983,  -150.0008,       4654,  1559.5,   2.6083,  34.5372,2,  34.5378,2,    174.9,2,   175.8,2,   69.77,2,   33.96,2,    0.00,2,    2.38,2,-999.000,9,-999.000,9,-999.000,9,  -999.0,9,  -999.0,9,-999.000,9,-999.0000,9, -999.00,9, -999.00,9,  -999.0,9,  -999.0,-999.000,9,-999.000,-999.0000,9,  1559.5,-999.000,   2.5002,     -999.0,9,     -999.0,9,     -999.0,9,     -999.0,9,     -999.0,9,     -999.0,9,     -999.0,9, -999.00,9,-999.0000,9,-999.0000,9,-999.0000,9,-999.0000,9,-999.0000,9,-999.0000,9,-999.0000, -999.00
33RR20050106,       P16S,      74,          1,         13,         13,2,20050131,       2352,   -52.4983,  -150.0008,       4654,  1761.5,   2.4693,  34.6090,2,  34.6093,2,    170.6,2,   170.6,3,   80.50,2,   33.53,2,    0.00,2,    2.36,2,   0.310,2,   0.141,2,   0.015,2,  -999.0,9,  -999.0,9,-999.000,9,-999.0000,9, -999.00,9, -999.00,9,  -999.0,9,  -999.0,-999.000,9,-999.000,-999.0000,9,  1761.5,-999.000,   2.3461,     -999.0,9,     -999.0,9,     -999.0,9,     -999.0,9,     -999.0,9,     -999.0,9,     -999.0,9, -999.00,9,-999.0000,9,-999.0000,9,-999.0000,9,-999.0000,9,-999.0000,9,-999.0000,9,-999.0000, -999.00
33RR20050106,       P16S,      74,          1,         12,         12,2,20050131,       2352,   -52.4983,  -150.0008,       4654,  1964.8,   2.3489,  34.6616,2,  34.6617,2,    177.2,2,   177.6,2,   78.48,2,   32.56,2,    0.00,2,    2.27,2,-999.000,9,-999.000,9,-999.000,9,  -999.0,9,  -999.0,9,-999.000,9,-999.0000,9, -999.00,9, -999.00,9,  -999.0,9,  -999.0,-999.000,9,-999.000,-999.0000,9,  1964.8,-999.000,   2.2101,     -999.0,9,     -999.0,9,     -999.0,9,     -999.0,9,     -999.0,9,     -999.0,9,     -999.0,9, -999.00,9,-999.0000,9,-999.0000,9,-999.0000,9,-999.0000,9,-999.0000,9,-999.0000,9,-999.0000, -999.00
33RR20050106,       P16S,      74,          1,         11,         11,2,20050131,       2352,   -52.4983,  -150.0008,       4654,  2126.3,   2.2515,  34.6893,2,  34.6892,2,    179.3,2,   179.4,2,   83.14,2,   32.13,2,    0.00,2,    2.25,2,   0.186,2,   0.087,2,   0.009,2,  -999.0,9,  -999.0,9,-999.000,9,-999.0000,9, -999.00,9, -999.00,9,  -999.0,9,  -999.0,-999.000,9,-999.000,-999.0000,9,  2126.3,-999.000,   2.1001,     -999.0,9,     -999.0,9,     -999.0,9,     -999.0,9,     -999.0,9,     -999.0,9,     -999.0,9, -999.00,9,-999.0000,9,-999.0000,9,-999.0000,9,-999.0000,9,-999.0000,9,-999.0000,9,-999.0000, -999.00
33RR20050106,       P16S,      74,          1,         10,         10,2,20050131,       2352,   -52.4983,  -150.0008,       4654,  2380.6,   2.1032,  34.7250,2,  34.7234,2,    186.4,2,   186.8,2,   85.17,2,   31.21,2,    0.00,2,    2.17,2,-999.000,9,-999.000,9,-999.000,9,  -999.0,9,  -999.0,9,-999.000,9,-999.0000,9, -999.00,9, -999.00,9,  -999.0,9,  -999.0,-999.000,9,-999.000,-999.0000,9,  2380.6,-999.000,   1.9316,     -999.0,9,     -999.0,9,     -999.0,9,     -999.0,9,     -999.0,9,     -999.0,9,     -999.0,9, -999.00,9,-999.0000,9,-999.0000,9,-999.0000,9,-999.0000,9,-999.0000,9,-999.0000,9,-999.0000, -999.00
33RR20050106,       P16S,      74,          1,          9,          9,2,20050131,       2352,   -52.4983,  -150.0008,       4654,  2634.8,   1.9148,  34.7363,2,  34.7360,2,    191.2,2,   191.6,2,   90.87,2,   31.00,2,    0.00,2,    2.15,2,   0.098,2,   0.046,2,   0.010,2,  -999.0,9,  -999.0,9,-999.000,9,-999.0000,9, -999.00,9, -999.00,9,  -999.0,9,  -999.0,-999.000,9,-999.000,-999.0000,9,  2634.8,-999.000,   1.7234,     -999.0,9,     -999.0,9,     -999.0,9,     -999.0,9,     -999.0,9,     -999.0,9,     -999.0,9, -999.00,9,-999.0000,9,-999.0000,9,-999.0000,9,-999.0000,9,-999.0000,9,-999.0000,9,-999.0000, -999.00
33RR20050106,       P16S,      74,          1,          8,          8,2,20050131,       2352,   -52.4983,  -150.0008,       4654,  2887.8,   1.7290,  34.7381,2,  34.7387,2,    194.6,2,   195.3,2,   96.57,2,   31.00,2,    0.00,2,    2.16,2,-999.000,9,-999.000,9,-999.000,9,  -999.0,9,  -999.0,9,-999.000,9,-999.0000,9, -999.00,9, -999.00,9,  -999.0,9,  -999.0,-999.000,9,-999.000,-999.0000,9,  2887.8,-999.000,   1.5176,     -999.0,9,     -999.0,9,     -999.0,9,     -999.0,9,     -999.0,9,     -999.0,9,     -999.0,9, -999.00,9,-999.0000,9,-999.0000,9,-999.0000,9,-999.0000,9,-999.0000,9,-999.0000,9,-999.0000, -999.00
33RR20050106,       P16S,      74,          1,          7,          7,2,20050131,       2352,   -52.4983,  -150.0008,       4654,  3092.4,   1.5753,  34.7349,2,  34.7349,2,    196.7,2,   197.4,2,  100.64,2,   31.16,2,    0.00,2,    2.16,2,   0.061,2,   0.029,2,   0.006,2,  -999.0,9,  -999.0,9,-999.000,9,-999.0000,9, -999.00,9, -999.00,9,  -999.0,9,  -999.0,-999.000,9,-999.000,-999.0000,9,  3092.4,-999.000,   1.3476,     -999.0,9,     -999.0,9,     -999.0,9,     -999.0,9,     -999.0,9,     -999.0,9,     -999.0,9, -999.00,9,-999.0000,9,-999.0000,9,-999.0000,9,-999.0000,9,-999.0000,9,-999.0000,9,-999.0000, -999.00