BOTTLE,20201109CCHSIOCBG
EXPOCODE,SECT_ID,STNNBR,CASTNO,SAMPNO,BTLNBR,BTLNBR_FLAG_W,DATE,TIME,LATITUDE,LONGITUDE,DEPTH,CTDPRS,CTDTMP,CTDSAL,CTDSAL_FLAG_W,SALNTY,SALNTY_FLAG_W,CTDOXY,CTDOXY_FLAG_W,OXYGEN,OXYGEN_FLAG_W,SILCAT,SILCAT_FLAG_W,NITRAT,NITRAT_FLAG_W,NITRIT,NITRIT_FLAG_W,PHSPHT,PHSPHT_FLAG_W,CFC-11,CFC-11_FLAG_W,CFC-12,CFC-12_FLAG_W,CFC113,CFC113_FLAG_W,TCARBN,TCARBN_FLAG_W,ALKALI,ALKALI_FLAG_W,TRITUM,TRITUM_FLAG_W,HELIUM,HELIUM_FLAG_W,DELHE3,DELHE3_FLAG_W,DELC13,DELC13_FLAG_W,DELC14,DELC14_FLAG_W,C14ERR,NEON,NEON_FLAG_W,NEONER,DOC,DOC_FLAG_W,CTDRAW,TRITER,THETA,FUCO,FUCO_FLAG_W,RHAM,RHAM_FLAG_W,ARABA,ARABA_FLAG_W,GALA,GALA_FLAG_W,GLUC,GLUC_FLAG_W,MAN,MAN_FLAG_W,DCNS,DCNS_FLAG_W,BRDU,BRDU_FLAG_W,CDOM325,CDOM325_FLAG_W,CDOM340,CDOM340_FLAG_W,CDOM380,CDOM380_FLAG_W,CDOM412,CDOM412_FLAG_W,CDOMSL,CDOMSL_FLAG_W,CDOMSN,CDOMSN_FLAG_W,HELIER,DELHER
,,,,,,,,,,,METERS,DBAR,ITS-90,PSS-78,,PSS-78,,UMOL/KG,,UMOL/KG,,UMOL/KG,,UMOL/KG,,UMOL/KG,,UMOL/KG,,PMOL/KG,,PMOL/KG,,PMOL/KG,,UMOL/KG,,UMOL/KG,,TU,,NMOL/KG,,PERCNT,,/MILLE,,/MILLE,,/MILLE,NMOL/KG,,NMOL/KG,UMOL/KG,,DBAR,TU,DEG C,NMOL/KG,,NMOL/KG,,NMOL/KG,,NMOL/KG,,NMOL/KG,,NMOL/KG,,NMOL/KG,,PMOL/L/H,,1/M,,1/M,,1/M,,1/M,,1/NM,,1/NM,,NMOL/KG,PERCNT
33RR20050106,       P16S,       9,          3,         36,         36,2,20050112,       1545,   -20.0000,  -150.0000,       4602,     3.5,  28.2869,  35.8052,2,  35.8067,2,    415.5,4,   197.1,2,    0.64,2,    0.02,2,    0.00,2,    0.16,2,   1.555,2,   0.997,2,   0.165,2,  1993.0,6,  2369.1,6,-999.000,9,-999.0000,9, -999.00,9, -999.00,9,  -999.0,9,  -999.0,-999.000,9,-999.000,-999.0000,9,     3.5,-999.000,  28.2861,     -999.0,9,     -999.0,9,     -999.0,9,     -999.0,9,     -999.0,9,     -999.0,9,     -999.0,9,    0.36,2,   0.0320,2,   0.0190,2,   0.0040,2,   0.0020,2,   0.0320,2,   0.0320,2,-999.0000, -999.00
33RR20050106,       P16S,       9,          3,         35,         35,2,20050112,       1545,   -20.0000,  -150.0000,       4602,    26.3,  28.2581,  35.8023,2,  35.8022,2,    398.1,4,   197.5,2,    0.64,2,    0.02,2,    0.00,2,    0.15,2,   1.621,2,   0.986,2,   0.112,2,  1992.8,2,  2352.4,2,-999.000,9,-999.0000,9, -999.00,9, -999.00,9,  -999.0,9,  -999.0,-999.000,9,-999.000,  67.4266,2,    26.3,-999.000,  28.2518,        145,2,         79,2,        102,2,        211,2,        212,2,        224,2,        973,2,    0.94,2,   0.0200,2,   0.0110,2,   0.0030,2,   0.0020,2,-999.0000,9,-999.0000,9,-999.0000, -999.00
33RR20050106,       P16S,       9,          3,         34,         34,2,20050112,       1545,   -20.0000,  -150.0000,       4602,    46.1,  26.3206,  35.8136,2,  35.8142,2,    370.7,4,   208.4,2,    0.64,2,    0.02,2,    0.00,2,    0.14,2,   1.718,2,   1.110,2,   0.159,2,  1998.7,2,  2352.9,2,-999.000,9,-999.0000,9, -999.00,9, -999.00,9,  -999.0,9,  -999.0,-999.000,9,-999.000,  62.1578,2,    46.1,-999.000,  26.3102,        195,2,        132,2,        112,2,        282,2,        305,2,        329,2,       1356,2,    0.43,2,   0.0300,2,   0.0170,2,   0.0050,2,   0.0030,2,   0.0364,2,   0.0364,2,-999.0000, -999.00
33RR20050106,       P16S,       9,          3,         33,         33,2,20050112,       1545,   -20.0000,  -150.0000,       4602,    90.9,  24.8699,  35.7965,2,  35.7906,2,    330.0,4,   204.9,2,    0.64,2,    0.02,2,    0.00,2,    0.15,2,   1.771,2,   1.121,2,   0.147,2,  2007.3,2,  2349.9,2,-999.000,9,-999.0000,9, -999.00,9, -999.00,9,  -999.0,9,  -999.0,-999.000,9,-999.000,  55.0515,2,    90.9,-999.000,  24.8502,        129,2,         89,2,         68,2,        182,2,        171,2,        206,2,        845,2,    0.36,2,   0.0670,2,   0.0430,2,   0.0180,2,   0.0120,2,   0.0275,2,   0.0278,2,-999.0000, -999.00
33RR20050106,       P16S,       9,          3,         32,         32,2,20050112,       1545,   -20.0000,  -150.0000,       4602,   140.5,  23.0972,  35.7187,2,  35.7172,2,    317.9,4,   196.3,2,    0.64,2,    0.10,2,    0.03,2,    0.18,2,   1.907,2,   1.225,2,   0.129,2,  2029.4,2,  2343.9,2,-999.000,9,-999.0000,9, -999.00,9, -999.00,9,  -999.0,9,  -999.0,-999.000,9,-999.000,  49.9432,2,   140.5,-999.000,  23.0683,     -999.0,9,     -999.0,9,     -999.0,9,     -999.0,9,     -999.0,9,     -999.0,9,     -999.0,9,    0.08,2,   0.0860,2,   0.0600,2,   0.0280,2,   0.0200,2,   0.0211,2,   0.0219,2,-999.0000, -999.00
33RR20050106,       P16S,       9,          3,         31,         31,2,20050112,       1545,   -20.0000,  -150.0000,       4602,   190.6,  21.1583,  35.6643,2,  35.6725,2,    303.4,4,   190.4,2,    0.64,2,    0.99,2,    0.12,2,    0.23,2,   2.082,2,   1.283,2,   0.095,2,  2051.0,2,  2337.5,2,-999.000,9,-999.0000,9, -999.00,9, -999.00,9,  -999.0,9,  -999.0,-999.000,9,-999.000,-999.0000,9,   190.6,-999.000,  21.1215,     -999.0,9,     -999.0,9,     -999.0,9,     -999.0,9,     -999.0,9,     -999.0,9,     -999.0,9,    0.09,2,   0.0890,2,   0.0630,2,   0.0290,2,   0.0210,2,   0.0209,2,   0.0217,2,-999.0000, -999.00
33RR20050106,       P16S,       9,          3,         30,         30,2,20050112,       1545,   -20.0000,  -150.0000,       4602,   240.9,  18.7933,  35.5444,2,  35.5495,2,    277.4,4,   190.0,2,    0.84,2,    2.92,2,    0.01,2,    0.34,2,   2.245,2,   1.370,2,   0.027,2,  2071.6,2,  2329.4,2,-999.000,9,-999.0000,9, -999.00,9, -999.00,9,  -999.0,9,  -999.0,-999.000,9,-999.000,-999.0000,9,   240.9,-999.000,  18.7505,     -999.0,9,     -999.0,9,     -999.0,9,     -999.0,9,     -999.0,9,     -999.0,9,     -999.0,9,    0.17,2,   0.0750,2,   0.0520,2,   0.0240,2,   0.0170,2,   0.0221,2,   0.0228,2,-999.0000, -999.00
33RR20050106,       P16S,       9,          3,         29,         29,2,20050112,       1545,   -20.0000,  -150.0000,       4602,   291.1,  16.6714,  35.3229,2,  35.3038,2,    272.8,4,   182.2,2,    1.67,2,    6.25,2,    0.00,2,    0.58,2,   2.287,2,   1.350,2,   0.015,2,  2090.7,2,  2316.5,2,-999.000,9,-999.0000,9, -999.00,9, -999.00,9,  -999.0,9,  -999.0,-999.000,9,-999.000,  45.9850,2,   291.1,-999.000,  16.6238,         43,2,         32,2,         63,2,         82,2,        118,2,         87,2,        425,2,    0.04,2,   0.0760,2,   0.0520,2,   0.0230,2,   0.0150,2,   0.0237,2,   0.0243,2,-999.0000, -999.00
33RR20050106,       P16S,       9,          3,         28,         28,2,20050112,       1545,   -20.0000,  -150.0000,       4602,   341.1,  14.0208,  35.0142,2,  35.0166,2,    240.1,4,   168.7,2,    3.13,2,   10.22,2,    0.00,2,    0.84,2,   2.233,2,   1.266,2,   0.016,2,  2108.4,2,  2302.5,2,-999.000,9,-999.0000,9, -999.00,9, -999.00,9,  -999.0,9,  -999.0,-999.000,9,-999.000,  46.2709,2,   341.1,-999.000,  13.9712,     -999.0,9,     -999.0,9,     -999.0,9,     -999.0,9,     -999.0,9,     -999.0,9,     -999.0,9, -999.00,9,   0.0720,2,   0.0480,2,   0.0210,2,   0.0150,2,   0.0254,2,   0.0261,2,-999.0000, -999.00
33RR20050106,       P16S,       9,          3,         27,         27,2,20050112,       1545,   -20.0000,  -150.0000,       4602,   391.0,  11.7709,  34.7564,3,  34.7532,2,    228.6,4,   169.2,2,    6.47,2,   16.13,2,    0.00,2,    1.26,2,   1.852,2,   1.014,2,   0.015,2,  2134.9,2,  2289.9,2,-999.000,9,-999.0000,9, -999.00,9, -999.00,9,  -999.0,9,  -999.0,-999.000,9,-999.000,  44.1039,2,   391.0,-999.000,  11.7202,     -999.0,9,     -999.0,9,     -999.0,9,     -999.0,9,     -999.0,9,     -999.0,9,     -999.0,9, -999.00,9,   0.0800,2,   0.0540,2,   0.0250,2,   0.0180,2,   0.0229,2,   0.0242,2,-999.0000, -999.00
33RR20050106,       P16S,       9,          3,         26,         26,2,20050112,       1545,   -20.0000,  -150.0000,       4602,   441.1,   9.9557,  34.5918,2,  34.5888,2,    202.3,4,   166.9,2,    8.98,2,   20.44,2,    0.00,2,    1.55,2,   1.595,2,   0.845,2,   0.013,2,  2151.9,2,  2283.9,2,-999.000,9,-999.0000,9, -999.00,9, -999.00,9,  -999.0,9,  -999.0,-999.000,9,-999.000,-999.0000,9,   441.1,-999.000,   9.9043,     -999.0,9,     -999.0,9,     -999.0,9,     -999.0,9,     -999.0,9,     -999.0,9,     -999.0,9, -999.00,9,   0.0850,2,   0.0570,2,   0.0280,2,   0.0190,2,   0.0209,2,   0.0225,2,-999.0000, -999.00
33RR20050106,       P16S,       9,          3,         25,         25,2,20050112,       1545,   -20.0000,  -150.0000,       4602,   491.1,   8.6299,  34.4896,2,  34.4948,2,    189.2,4,   169.1,2,   11.07,2,   23.29,2,    0.00,2,    1.71,2,   1.366,2,   0.729,2,   0.016,2,  2161.8,2,  2281.6,2,-999.000,9,-999.0000,9, -999.00,9, -999.00,9,  -999.0,9,  -999.0,-999.000,9,-999.000,  41.7317,2,   491.1,-999.000,   8.5773,     -999.0,9,     -999.0,9,     -999.0,9,     -999.0,9,     -999.0,9,     -999.0,9,     -999.0,9, -999.00,9,   0.0870,2,   0.0570,2,   0.0290,2,   0.0210,2,   0.0206,2,   0.0224,2,-999.0000, -999.00
33RR20050106,       P16S,       9,          3,         24,         24,2,20050112,       1545,   -20.0000,  -150.0000,       4602,   576.4,   6.6301,  34.3770,2,  34.3773,2,    192.0,4,   184.1,2,   16.30,2,   27.75,2,    0.00,2,    1.96,2,   0.907,2,   0.472,2,   0.001,2,  2174.2,2,  2283.1,2,-999.000,9,-999.0000,9, -999.00,9, -999.00,9,  -999.0,9,  -999.0,-999.000,9,-999.000,  40.9288,2,   576.4,-999.000,   6.5768,     -999.0,9,     -999.0,9,     -999.0,9,     -999.0,9,     -999.0,9,     -999.0,9,     -999.0,9, -999.00,9,   0.0930,2,   0.0610,2,   0.0320,2,   0.0210,2,   0.0192,2,   0.0215,2,-999.0000, -999.00
33RR20050106,       P16S,       9,          3,         23,         23,2,20050112,       1545,   -20.0000,  -150.0000,       4602,   676.6,   5.7781,  34.3687,2,  34.3678,2,    185.5,4,   178.6,2,   23.85,2,   30.25,2,    0.00,2,    2.12,2,   0.537,2,   0.273,2,   0.001,6,  2188.6,2,  2288.8,2,-999.000,9,-999.0000,9, -999.00,9, -999.00,9,  -999.0,9,  -999.0,-999.000,9,-999.000,-999.0000,9,   676.6,-999.000,   5.7194,     -999.0,9,     -999.0,9,     -999.0,9,     -999.0,9,     -999.0,9,     -999.0,9,     -999.0,9, -999.00,9,   0.0890,2,   0.0580,2,   0.0290,2,   0.0210,2,   0.0207,2,   0.0229,2,-999.0000, -999.00
33RR20050106,       P16S,       9,          3,         22,         22,2,20050112,       1545,   -20.0000,  -150.0000,       4602,   777.1,   5.3230,  34.3889,2,  34.3884,2,    176.0,4,   166.9,2,   32.68,2,   32.01,2,    0.00,2,    2.25,2,   0.274,2,   0.140,2,   0.001,2,  2204.7,2,  2298.4,2,-999.000,9,-999.0000,9, -999.00,9, -999.00,9,  -999.0,9,  -999.0,-999.000,9,-999.000,  38.7938,2,   777.1,-999.000,   5.2577,     -999.0,9,     -999.0,9,     -999.0,9,     -999.0,9,     -999.0,9,     -999.0,9,     -999.0,9, -999.00,9,   0.0940,2,   0.0610,2,   0.0320,2,   0.0220,2,   0.0197,2,   0.0219,2,-999.0000, -999.00
33RR20050106,       P16S,       9,          3,         21,         21,2,20050112,       1545,   -20.0000,  -150.0000,       4602,   877.7,   4.6805,  34.4327,2,  34.4323,2,    163.0,4,   152.9,2,   47.46,2,   33.99,2,    0.00,2,    2.40,2,   0.103,2,   0.059,2,   0.001,2,  2228.2,2,  2311.7,2,-999.000,9,-999.0000,9, -999.00,9, -999.00,9,  -999.0,9,  -999.0,-999.000,9,-999.000,  39.0662,2,   877.7,-999.000,   4.6104,     -999.0,9,     -999.0,9,     -999.0,9,     -999.0,9,     -999.0,9,     -999.0,9,     -999.0,9, -999.00,9,-999.0000,9,-999.0000,9,-999.0000,9,-999.0000,9,-999.0000,9,-999.0000,9,-999.0000, -999.00
33RR20050106,       P16S,       9,          3,         20,         20,2,20050112,       1545,   -20.0000,  -150.0000,       4602,   978.4,   4.1808,  34.4642,2,  34.4641,2,    155.1,4,   149.4,2,   59.10,2,   34.74,2,    0.00,2,    2.46,2,   0.054,2,   0.033,2,   0.001,2,  2241.0,2,  2325.3,2,-999.000,9,-999.0000,9, -999.00,9, -999.00,9,  -999.0,9,  -999.0,-999.000,9,-999.000,  38.8477,2,   978.4,-999.000,   4.1056,     -999.0,9,     -999.0,9,     -999.0,9,     -999.0,9,     -999.0,9,     -999.0,9,     -999.0,9, -999.00,9,   0.1040,2,   0.0700,2,   0.0370,2,   0.0240,2,   0.0179,2,   0.0199,2,-999.0000, -999.00
33RR20050106,       P16S,       9,          3,         19,         19,2,20050112,       1545,   -20.0000,  -150.0000,       4602,  1078.7,   3.7810,  34.4921,2,  34.4921,2,    150.6,4,   148.0,2,   68.87,2,   35.22,2,    0.00,2,    2.49,2,   0.031,2,   0.011,2,   0.001,2,  2254.0,6,  2335.3,2,-999.000,9,-999.0000,9, -999.00,9, -999.00,9,  -999.0,9,  -999.0,-999.000,9,-999.000,  37.6635,2,  1078.7,-999.000,   3.7006,     -999.0,9,     -999.0,9,     -999.0,9,     -999.0,9,     -999.0,9,     -999.0,9,     -999.0,9, -999.00,9,   0.1070,2,   0.0720,2,   0.0380,2,   0.0250,2,   0.0177,2,   0.0195,2,-999.0000, -999.00
33RR20050106,       P16S,       9,          3,         18,         18,2,20050112,       1545,   -20.0000,  -150.0000,       4602,  1179.3,   3.4055,  34.5176,2,  34.5186,2,    148.9,3,   148.6,2,   77.80,2,   35.38,2,    0.00,2,    2.51,2,   0.025,2,   0.001,2,   0.001,2,  2262.1,2,  2345.2,6,-999.000,9,-999.0000,9, -999.00,9, -999.00,9,  -999.0,9,  -999.0,-999.000,9,-999.000,-999.0000,9,  1179.3,-999.000,   3.3200,     -999.0,9,     -999.0,9,     -999.0,9,     -999.0,9,     -999.0,9,     -999.0,9,     -999.0,9, -999.00,9,   0.1130,2,   0.0770,2,   0.0420,2,   0.0280,2,   0.0165,2,   0.0183,2,-999.0000, -999.00
33RR20050106,       P16S,       9,          3,         17,         17,2,20050112,       1545,   -20.0000,  -150.0000,       4602,  1280.0,   3.0972,  34.5417,2,  34.5402,2,    148.3,3,   149.0,2,   85.69,2,   35.48,2,    0.00,2,    2.52,2,   0.023,2,   0.002,2,   0.001,2,  2270.2,2,  2354.6,2,-999.000,9,-999.0000,9, -999.00,9, -999.00,9,  -999.0,9,  -999.0,-999.000,9,-999.000,  36.7951,2,  1280.0,-999.000,   3.0064,     -999.0,9,     -999.0,9,     -999.0,9,     -999.0,9,     -999.0,9,     -999.0,9,     -999.0,9, -999.00,9,   0.1180,2,   0.0810,2,   0.0440,2,   0.0290,2,   0.0159,2,   0.0177,2,-999.0000, -999.00
33RR20050106,       P16S,       9,          3,         16,         16,2,20050112,       1545,   -20.0000,  -150.0000,       4602,  1380.8,   2.8688,  34.5629,2,  34.5618,2,    147.8,3,   148.6,2,   92.52,2,   35.59,2,    0.00,2,    2.53,2,-999.000,5,-999.000,5,-999.000,5,  2277.8,2,  2361.3,2,-999.000,9,-999.0000,9, -999.00,9, -999.00,9,  -999.0,9,  -999.0,-999.000,9,-999.000,-999.0000,9,  1380.8,-999.000,   2.7722,     -999.0,9,     -999.0,9,     -999.0,9,     -999.0,9,     -999.0,9,     -999.0,9,     -999.0,9, -999.00,9,   0.1220,2,   0.0850,2,   0.0470,2,   0.0320,2,   0.0149,2,   0.0166,2,-999.0000, -999.00
33RR20050106,       P16S,       9,          3,         15,         15,2,20050112,       1545,   -20.0000,  -150.0000,       4602,  1481.8,   2.6762,  34.5822,2,  34.5812,2,    146.8,3,   148.1,2,   98.92,2,   35.74,2,    0.00,2,    2.54,2,   0.010,2,   0.003,2,   0.001,2,  2284.1,2,  2369.1,2,-999.000,9,-999.0000,9, -999.00,9, -999.00,9,  -999.0,9,  -999.0,-999.000,9,-999.000,-999.0000,9,  1481.8,-999.000,   2.5735,     -999.0,9,     -999.0,9,     -999.0,9,     -999.0,9,     -999.0,9,     -999.0,9,     -999.0,9, -999.00,9,   0.1090,2,   0.0720,2,   0.0370,2,   0.0250,2,   0.0184,2,   0.0204,2,-999.0000, -999.00
33RR20050106,       P16S,       9,          3,         14,         14,2,20050112,       1545,   -20.0000,  -150.0000,       4602,  1582.4,   2.5225,  34.5977,2,  34.5979,2,    147.0,3,   147.9,2,  104.06,2,   35.74,2,    0.00,2,    2.54,2,-999.000,5,-999.000,5,-999.000,5,  2289.2,2,  2374.4,2,-999.000,9,-999.0000,9, -999.00,9, -999.00,9,  -999.0,9,  -999.0,-999.000,9,-999.000,-999.0000,9,  1582.4,-999.000,   2.4135,     -999.0,9,     -999.0,9,     -999.0,9,     -999.0,9,     -999.0,9,     -999.0,9,     -999.0,9, -999.00,9,   0.1180,2,   0.0800,2,   0.0420,2,   0.0280,2,   0.0171,2,   0.0190,2,-999.0000, -999.00
33RR20050106,       P16S,       9,          3,         13,         13,2,20050112,       1545,   -20.0000,  -150.0000,       4602,  1784.3,   2.2955,  34.6189,2,  34.6185,2,    148.4,3,   149.4,2,  111.12,2,   35.74,2,    0.00,2,    2.54,2,   0.014,2,  -0.001,2,   0.001,2,  2296.2,2,  2380.5,2,-999.000,9,-999.0000,9, -999.00,9, -999.00,9,  -999.0,9,  -999.0,-999.000,9,-999.000,  35.6940,2,  1784.3,-999.000,   2.1728,     -999.0,9,     -999.0,9,     -999.0,9,     -999.0,9,     -999.0,9,     -999.0,9,     -999.0,9, -999.00,9,   0.1130,2,   0.0750,2,   0.0390,2,   0.0240,2,   0.0184,2,   0.0203,2,-999.0000, -999.00
33RR20050106,       P16S,       9,          3,         12,         12,2,20050112,       1545,   -20.0000,  -150.0000,       4602,  1986.2,   2.1537,  34.6320,2,  34.6291,2,    150.9,3,   151.3,2,  115.19,2,   35.68,2,    0.00,2,    2.53,2,-999.000,5,-999.000,5,-999.000,5,  2299.5,2,  2385.4,2,-999.000,9,-999.0000,9, -999.00,9, -999.00,9,  -999.0,9,  -999.0,-999.000,9,-999.000,-999.0000,9,  1986.2,-999.000,   2.0161,     -999.0,9,     -999.0,9,     -999.0,9,     -999.0,9,     -999.0,9,     -999.0,9,     -999.0,9, -999.00,9,   0.1160,2,   0.0790,2,   0.0420,2,   0.0280,2,   0.0165,2,   0.0184,2,-999.0000, -999.00
33RR20050106,       P16S,       9,          3,         11,         11,2,20050112,       1545,   -20.0000,  -150.0000,       4602,  2188.4,   2.0114,  34.6448,2,  34.6446,2,    153.5,3,   153.1,2,  119.48,2,   35.57,2,    0.00,2,    2.52,2,   0.012,2,   0.000,2,   0.001,2,  2295.3,4,  2391.4,2,-999.000,9,-999.0000,9, -999.00,9, -999.00,9,  -999.0,9,  -999.0,-999.000,9,-999.000,  35.0145,2,  2188.4,-999.000,   1.8586,     -999.0,9,     -999.0,9,     -999.0,9,     -999.0,9,     -999.0,9,     -999.0,9,     -999.0,9, -999.00,9,   0.1210,2,   0.0830,2,   0.0440,2,   0.0290,2,   0.0165,2,   0.0182,2,-999.0000, -999.00
33RR20050106,       P16S,       9,          3,         10,         10,2,20050112,       1545,   -20.0000,  -150.0000,       4602,  2440.8,   1.8730,  34.6570,2,  34.6557,2,    156.2,3,   156.2,2,  122.27,2,   35.30,2,    0.00,2,    2.51,2,-999.000,5,-999.000,5,-999.000,5,  2292.6,4,  2392.1,2,-999.000,9,-999.0000,9, -999.00,9, -999.00,9,  -999.0,9,  -999.0,-999.000,9,-999.000,  35.3292,2,  2440.8,-999.000,   1.7004,     -999.0,9,     -999.0,9,     -999.0,9,     -999.0,9,     -999.0,9,     -999.0,9,     -999.0,9, -999.00,9,   0.1230,2,   0.0850,2,   0.0460,2,   0.0300,2,   0.0159,2,   0.0176,2,-999.0000, -999.00
33RR20050106,       P16S,       9,          3,          9,          9,2,20050112,       1545,   -20.0000,  -150.0000,       4602,  2694.7,   1.7560,  34.6670,2,  34.6671,2,    159.3,3,   159.8,2,  124.62,2,   35.18,2,    0.00,2,    2.49,2,   0.011,2,   0.001,2,   0.001,2,  2290.9,4,  2394.0,2,-999.000,9,-999.0000,9, -999.00,9, -999.00,9,  -999.0,9,  -999.0,-999.000,9,-999.000,-999.0000,9,  2694.7,-999.000,   1.5625,     -999.0,9,     -999.0,9,     -999.0,9,     -999.0,9,     -999.0,9,     -999.0,9,     -999.0,9, -999.00,9,   0.1230,2,   0.0850,2,   0.0470,2,   0.0310,2,   0.0154,2,   0.0171,2,-999.0000, -999.00
33RR20050106,       P16S,       9,          3,          8,          8,2,20050112,       1545,   -20.0000,  -150.0000,       4602,  2948.2,   1.6596,  34.6748,2,  34.6744,2,    164.2,3,   164.5,2,  125.26,2,   34.86,2,    0.00,2,    2.46,2,-999.000,9,-999.000,9,-999.000,9,  2300.4,2,  2391.9,2,-999.000,9,-999.0000,9, -999.00,9, -999.00,9,  -999.0,9,  -999.0,-999.000,9,-999.000,  36.0117,2,  2948.2,-999.000,   1.4442,     -999.0,9,     -999.0,9,     -999.0,9,     -999.0,9,     -999.0,9,     -999.0,9,     -999.0,9, -999.00,9,   0.1270,2,   0.0900,2,   0.0490,2,   0.0320,2,   0.0155,2,   0.0169,2,-999.0000, -999.00
33RR20050106,       P16S,       9,          3,          7,          7,2,20050112,       1545,   -20.0000,  -150.0000,       4602,  3201.8,   1.6039,  34.6799,2,  34.6801,2,    168.3,3,   168.6,2,  124.62,2,   34.54,2,    0.00,2,    2.44,2,   0.007,2,   0.005,2,   0.001,2,  2297.3,2,  2388.4,2,-999.000,9,-999.0000,9, -999.00,9, -999.00,9,  -999.0,9,  -999.0,-999.000,9,-999.000,-999.0000,9,  3201.8,-999.000,   1.3651,     -999.0,9,     -999.0,9,     -999.0,9,     -999.0,9,     -999.0,9,     -999.0,9,     -999.0,9, -999.00,9,   0.1240,2,   0.0870,2,   0.0480,2,   0.0320,2,   0.0153,2,   0.0168,2,-999.0000, -999.00