BOTTLE,20201109CCHSIOCBG
EXPOCODE,SECT_ID,STNNBR,CASTNO,SAMPNO,BTLNBR,BTLNBR_FLAG_W,DATE,TIME,LATITUDE,LONGITUDE,DEPTH,CTDPRS,CTDTMP,CTDSAL,CTDSAL_FLAG_W,SALNTY,SALNTY_FLAG_W,CTDOXY,CTDOXY_FLAG_W,OXYGEN,OXYGEN_FLAG_W,SILCAT,SILCAT_FLAG_W,NITRAT,NITRAT_FLAG_W,NITRIT,NITRIT_FLAG_W,PHSPHT,PHSPHT_FLAG_W,CFC-11,CFC-11_FLAG_W,CFC-12,CFC-12_FLAG_W,CFC113,CFC113_FLAG_W,TCARBN,TCARBN_FLAG_W,ALKALI,ALKALI_FLAG_W,TRITUM,TRITUM_FLAG_W,HELIUM,HELIUM_FLAG_W,DELHE3,DELHE3_FLAG_W,DELC13,DELC13_FLAG_W,DELC14,DELC14_FLAG_W,C14ERR,NEON,NEON_FLAG_W,NEONER,DOC,DOC_FLAG_W,CTDRAW,TRITER,THETA,FUCO,FUCO_FLAG_W,RHAM,RHAM_FLAG_W,ARABA,ARABA_FLAG_W,GALA,GALA_FLAG_W,GLUC,GLUC_FLAG_W,MAN,MAN_FLAG_W,DCNS,DCNS_FLAG_W,BRDU,BRDU_FLAG_W,CDOM325,CDOM325_FLAG_W,CDOM340,CDOM340_FLAG_W,CDOM380,CDOM380_FLAG_W,CDOM412,CDOM412_FLAG_W,CDOMSL,CDOMSL_FLAG_W,CDOMSN,CDOMSN_FLAG_W,HELIER,DELHER
,,,,,,,,,,,METERS,DBAR,ITS-90,PSS-78,,PSS-78,,UMOL/KG,,UMOL/KG,,UMOL/KG,,UMOL/KG,,UMOL/KG,,UMOL/KG,,PMOL/KG,,PMOL/KG,,PMOL/KG,,UMOL/KG,,UMOL/KG,,TU,,NMOL/KG,,PERCNT,,/MILLE,,/MILLE,,/MILLE,NMOL/KG,,NMOL/KG,UMOL/KG,,DBAR,TU,DEG C,NMOL/KG,,NMOL/KG,,NMOL/KG,,NMOL/KG,,NMOL/KG,,NMOL/KG,,NMOL/KG,,PMOL/L/H,,1/M,,1/M,,1/M,,1/M,,1/NM,,1/NM,,NMOL/KG,PERCNT
33RR20050106,       P16S,      59,          1,          6,          6,2,20050126,       2109,   -45.0002,  -150.0003,       5216,  3756.4,   1.4512,  34.7178,2,  34.7181,2,    191.3,2,   192.8,2,  110.98,2,   32.19,2,    0.00,2,    2.23,2,-999.000,9,-999.000,9,-999.000,9,  2266.7,2,  2367.9,2,-999.000,9,-999.0000,9, -999.00,9, -999.00,9,  -999.0,9,  -999.0,-999.000,9,-999.000,-999.0000,9,  3756.4,-999.000,   1.1595,     -999.0,9,     -999.0,9,     -999.0,9,     -999.0,9,     -999.0,9,     -999.0,9,     -999.0,9, -999.00,9,-999.0000,9,-999.0000,9,-999.0000,9,-999.0000,9,-999.0000,9,-999.0000,9,-999.0000, -999.00
33RR20050106,       P16S,      59,          1,          5,          5,2,20050126,       2109,   -45.0002,  -150.0003,       5216,  4114.2,   1.2715,  34.7171,2,  34.7173,2,    198.0,2,   199.0,2,  114.11,2,   32.08,2,    0.00,2,    2.22,2,  -0.002,2,   0.008,2,  -0.002,2,  2266.0,2,  2367.9,2,-999.000,9,-999.0000,9, -999.00,9, -999.00,9,  -999.0,9,  -999.0,-999.000,9,-999.000,  38.7366,2,  4114.2,-999.000,   0.9464,     -999.0,9,     -999.0,9,     -999.0,9,     -999.0,9,     -999.0,9,     -999.0,9,     -999.0,9, -999.00,9,   0.1140,2,   0.0770,2,   0.0400,2,   0.0290,2,   0.0159,2,   0.0184,2,-999.0000, -999.00
33RR20050106,       P16S,      59,          1,          4,          4,2,20050126,       2109,   -45.0002,  -150.0003,       5216,  4473.4,   1.1866,  34.7151,2,  34.7149,2,    200.7,2,   201.4,2,  117.45,2,   32.07,2,    0.00,2,    2.22,2,-999.000,9,-999.000,9,-999.000,9,  2266.8,2,  2370.2,6,-999.000,9,-999.0000,9, -999.00,9, -999.00,5,  -165.6,6,     1.9,-999.000,9,-999.000,-999.0000,9,  4473.4,-999.000,   0.8241,     -999.0,9,     -999.0,9,     -999.0,9,     -999.0,9,     -999.0,9,     -999.0,9,     -999.0,9, -999.00,9,-999.0000,9,-999.0000,9,-999.0000,9,-999.0000,9,-999.0000,9,-999.0000,9,-999.0000, -999.00
33RR20050106,       P16S,      59,          1,          3,          3,2,20050126,       2109,   -45.0002,  -150.0003,       5216,  4832.8,   1.1834,  34.7139,2,  34.7143,2,    201.4,2,   202.1,2,  118.49,2,   32.18,2,    0.00,2,    2.23,2,   0.001,2,   0.011,2,  -0.002,2,  2267.6,2,  2370.6,2,-999.000,9,-999.0000,9, -999.00,9, -999.00,9,  -999.0,9,  -999.0,-999.000,9,-999.000,  39.8213,2,  4832.8,-999.000,   0.7795,     -999.0,9,     -999.0,9,     -999.0,9,     -999.0,9,     -999.0,9,     -999.0,9,     -999.0,9, -999.00,9,   0.1170,2,   0.0800,2,   0.0430,2,   0.0310,2,   0.0149,2,   0.0173,2,-999.0000, -999.00
33RR20050106,       P16S,      59,          1,          2,          2,2,20050126,       2109,   -45.0002,  -150.0003,       5216,  5191.8,   1.2083,  34.7133,2,  34.7135,2,    201.6,2,   202.1,2,  119.13,2,   32.24,2,    0.00,2,    2.23,2,-999.000,9,-999.000,9,-999.000,9,  2268.1,2,  2371.5,2,-999.000,9,   1.9460,2,    6.30,2, -999.00,9,  -999.0,9,  -999.0,   8.381,2,   0.009,-999.0000,9,  5191.8,-999.000,   0.7604,     -999.0,9,     -999.0,9,     -999.0,9,     -999.0,9,     -999.0,9,     -999.0,9,     -999.0,9, -999.00,9,-999.0000,9,-999.0000,9,-999.0000,9,-999.0000,9,-999.0000,9,-999.0000,9,   0.0010,    0.18
33RR20050106,       P16S,      59,          1,          1,          1,2,20050126,       2109,   -45.0002,  -150.0003,       5216,  5452.1,   1.2403,  34.7130,2,  34.7139,2,    201.4,2,   202.2,2,  118.72,2,   32.29,2,    0.00,2,    2.23,2,   0.002,2,   0.009,2,  -0.002,2,  2269.4,6,  2372.1,6,-999.000,9,   1.8910,2,    6.02,2, -999.00,9,  -999.0,9,  -999.0,   8.245,2,   0.009,  38.6661,2,  5452.1,-999.000,   0.7590,     -999.0,9,     -999.0,9,     -999.0,9,     -999.0,9,     -999.0,9,     -999.0,9,     -999.0,9, -999.00,9,   0.1170,2,   0.0800,2,   0.0420,2,   0.0300,2,   0.0158,2,   0.0182,2,   0.0000,    0.18