BOTTLE,20201109CCHSIOCBG
EXPOCODE,SECT_ID,STNNBR,CASTNO,SAMPNO,BTLNBR,BTLNBR_FLAG_W,DATE,TIME,LATITUDE,LONGITUDE,DEPTH,CTDPRS,CTDTMP,CTDSAL,CTDSAL_FLAG_W,SALNTY,SALNTY_FLAG_W,CTDOXY,CTDOXY_FLAG_W,OXYGEN,OXYGEN_FLAG_W,SILCAT,SILCAT_FLAG_W,NITRAT,NITRAT_FLAG_W,NITRIT,NITRIT_FLAG_W,PHSPHT,PHSPHT_FLAG_W,CFC-11,CFC-11_FLAG_W,CFC-12,CFC-12_FLAG_W,CFC113,CFC113_FLAG_W,TCARBN,TCARBN_FLAG_W,ALKALI,ALKALI_FLAG_W,TRITUM,TRITUM_FLAG_W,HELIUM,HELIUM_FLAG_W,DELHE3,DELHE3_FLAG_W,DELC13,DELC13_FLAG_W,DELC14,DELC14_FLAG_W,C14ERR,NEON,NEON_FLAG_W,NEONER,DOC,DOC_FLAG_W,CTDRAW,TRITER,THETA,FUCO,FUCO_FLAG_W,RHAM,RHAM_FLAG_W,ARABA,ARABA_FLAG_W,GALA,GALA_FLAG_W,GLUC,GLUC_FLAG_W,MAN,MAN_FLAG_W,DCNS,DCNS_FLAG_W,BRDU,BRDU_FLAG_W,CDOM325,CDOM325_FLAG_W,CDOM340,CDOM340_FLAG_W,CDOM380,CDOM380_FLAG_W,CDOM412,CDOM412_FLAG_W,CDOMSL,CDOMSL_FLAG_W,CDOMSN,CDOMSN_FLAG_W,HELIER,DELHER
,,,,,,,,,,,METERS,DBAR,ITS-90,PSS-78,,PSS-78,,UMOL/KG,,UMOL/KG,,UMOL/KG,,UMOL/KG,,UMOL/KG,,UMOL/KG,,PMOL/KG,,PMOL/KG,,PMOL/KG,,UMOL/KG,,UMOL/KG,,TU,,NMOL/KG,,PERCNT,,/MILLE,,/MILLE,,/MILLE,NMOL/KG,,NMOL/KG,UMOL/KG,,DBAR,TU,DEG C,NMOL/KG,,NMOL/KG,,NMOL/KG,,NMOL/KG,,NMOL/KG,,NMOL/KG,,NMOL/KG,,PMOL/L/H,,1/M,,1/M,,1/M,,1/M,,1/NM,,1/NM,,NMOL/KG,PERCNT
33RR20050106,       P16S,      62,          1,         36,         36,2,20050127,       2204,   -46.4998,  -150.0002,       5005,     1.7,  13.2225,  34.3607,2,  34.3802,2,    261.8,2,   263.4,2,    0.48,2,    6.32,2,    0.09,2,    0.58,2,   3.102,2,   1.839,2,   0.251,2,  2064.0,6,  2280.0,6,-999.000,9,-999.0000,9, -999.00,9, -999.00,5,    40.6,2,     3.2,-999.000,9,-999.000,-999.0000,9,     1.7,-999.000,  13.2223,     -999.0,9,     -999.0,9,     -999.0,9,     -999.0,9,     -999.0,9,     -999.0,9,     -999.0,9, -999.00,9,   0.0900,2,   0.0620,2,   0.0280,2,   0.0200,2,   0.0235,2,   0.0245,2,-999.0000, -999.00
33RR20050106,       P16S,      62,          1,         35,         35,2,20050127,       2204,   -46.4998,  -150.0002,       5005,    38.5,  13.2228,  34.3777,2,  34.3790,2,    263.6,2,   263.1,2,    0.46,2,    6.31,2,    0.09,2,    0.58,2,   3.116,2,   1.850,2,   0.252,2,  2063.9,2,  2280.3,2,-999.000,9,-999.0000,9, -999.00,9, -999.00,9,  -999.0,9,  -999.0,-999.000,9,-999.000,-999.0000,9,    38.5,-999.000,  13.2175,     -999.0,9,     -999.0,9,     -999.0,9,     -999.0,9,     -999.0,9,     -999.0,9,     -999.0,9, -999.00,9,   0.0870,2,   0.0590,2,   0.0250,2,   0.0190,2,   0.0260,2,   0.0263,2,-999.0000, -999.00
33RR20050106,       P16S,      62,          1,         34,         34,2,20050127,       2204,   -46.4998,  -150.0002,       5005,    73.5,   9.9574,  34.4339,2,  34.4354,2,    282.8,2,   283.5,2,    1.46,2,    8.54,2,    0.14,2,    0.77,2,   3.689,2,   2.148,2,   0.310,2,  2085.0,2,  2282.6,2,-999.000,9,-999.0000,9, -999.00,9, -999.00,9,  -999.0,9,  -999.0,-999.000,9,-999.000,-999.0000,9,    73.5,-999.000,   9.9490,     -999.0,9,     -999.0,9,     -999.0,9,     -999.0,9,     -999.0,9,     -999.0,9,     -999.0,9, -999.00,9,   0.1190,2,   0.0830,2,   0.0380,2,   0.0280,2,   0.0184,2,   0.0207,2,-999.0000, -999.00
33RR20050106,       P16S,      62,          1,         33,         33,2,20050127,       2204,   -46.4998,  -150.0002,       5005,   124.0,   9.1226,  34.5503,2,  34.5500,2,    267.9,2,   269.1,2,    2.65,2,   11.87,2,    0.21,2,    0.91,2,   3.747,2,   2.174,2,   0.317,2,  2105.9,2,  2284.5,2,-999.000,9,-999.0000,9, -999.00,9, -999.00,5,    31.6,2,     3.4,-999.000,9,-999.000,-999.0000,9,   124.0,-999.000,   9.1091,     -999.0,9,     -999.0,9,     -999.0,9,     -999.0,9,     -999.0,9,     -999.0,9,     -999.0,9, -999.00,9,   0.1000,2,   0.0690,2,   0.0320,2,   0.0250,2,   0.0206,2,   0.0223,2,-999.0000, -999.00
33RR20050106,       P16S,      62,          1,         32,         32,2,20050127,       2204,   -46.4998,  -150.0002,       5005,   173.5,   8.9584,  34.5554,2,  34.5554,2,    269.3,2,   269.7,2,    2.63,2,   12.22,2,    0.02,2,    0.92,2,   3.755,2,   2.098,2,   0.314,2,  2105.7,2,  2284.3,2,-999.000,9,-999.0000,9, -999.00,9, -999.00,5,    41.8,2,     3.8,-999.000,9,-999.000,-999.0000,9,   173.5,-999.000,   8.9397,     -999.0,9,     -999.0,9,     -999.0,9,     -999.0,9,     -999.0,9,     -999.0,9,     -999.0,9, -999.00,9,   0.0850,2,   0.0580,2,   0.0320,2,   0.0250,2,   0.0174,2,   0.0192,2,-999.0000, -999.00
33RR20050106,       P16S,      62,          1,         31,         31,2,20050127,       2204,   -46.4998,  -150.0002,       5005,   223.7,   8.6576,  34.5321,2,  34.5299,2,    269.2,2,   265.4,2,    3.02,2,   13.72,2,    0.03,2,    1.01,2,   3.767,2,   2.079,2,   0.302,2,  2114.5,2,  2283.6,2,-999.000,9,-999.0000,9, -999.00,9, -999.00,9,  -999.0,9,  -999.0,-999.000,9,-999.000,-999.0000,9,   223.7,-999.000,   8.6340,     -999.0,9,     -999.0,9,     -999.0,9,     -999.0,9,     -999.0,9,     -999.0,9,     -999.0,9, -999.00,9,   0.0890,2,   0.0610,2,   0.0310,2,   0.0250,2,   0.0192,2,   0.0210,2,-999.0000, -999.00
33RR20050106,       P16S,      62,          1,         30,         30,2,20050127,       2204,   -46.4998,  -150.0002,       5005,   274.6,   8.3073,  34.5022,2,  34.5026,2,    260.1,2,   259.4,2,    3.82,2,   15.78,2,    0.03,2,    1.16,2,   3.872,2,   2.096,2,   0.308,2,  2122.0,2,  2282.4,2,-999.000,9,-999.0000,9, -999.00,9, -999.00,5,    44.9,2,     3.1,-999.000,9,-999.000,-999.0000,9,   274.6,-999.000,   8.2789,     -999.0,9,     -999.0,9,     -999.0,9,     -999.0,9,     -999.0,9,     -999.0,9,     -999.0,9, -999.00,9,-999.0000,9,-999.0000,9,-999.0000,9,-999.0000,9,-999.0000,9,-999.0000,9,-999.0000, -999.00
33RR20050106,       P16S,      62,          1,         29,         29,2,20050127,       2204,   -46.4998,  -150.0002,       5005,   330.8,   7.9868,  34.4751,2,  34.4765,2,    252.4,2,   253.7,2,    4.81,2,   17.80,2,    0.02,2,    1.26,2,   3.738,6,   2.047,6,   0.305,6,  2128.9,2,  2283.1,2,-999.000,9,-999.0000,9, -999.00,9, -999.00,5,    25.8,2,     3.2,-999.000,9,-999.000,-999.0000,9,   330.8,-999.000,   7.9533,     -999.0,9,     -999.0,9,     -999.0,9,     -999.0,9,     -999.0,9,     -999.0,9,     -999.0,9, -999.00,9,-999.0000,9,-999.0000,9,-999.0000,9,-999.0000,9,-999.0000,9,-999.0000,9,-999.0000, -999.00
33RR20050106,       P16S,      62,          1,         28,         28,2,20050127,       2204,   -46.4998,  -150.0002,       5005,   379.9,   7.7996,  34.4548,2,  34.4549,2,    253.6,2,   253.9,2,    5.20,2,   18.45,2,    0.01,2,    1.30,2,   3.754,2,   2.101,2,   0.308,2,  2131.5,2,  2282.0,2,-999.000,9,-999.0000,9, -999.00,9, -999.00,5,    30.3,2,     3.4,-999.000,9,-999.000,-999.0000,9,   379.9,-999.000,   7.7616,     -999.0,9,     -999.0,9,     -999.0,9,     -999.0,9,     -999.0,9,     -999.0,9,     -999.0,9, -999.00,9,-999.0000,9,-999.0000,9,-999.0000,9,-999.0000,9,-999.0000,9,-999.0000,9,-999.0000, -999.00
33RR20050106,       P16S,      62,          1,         27,         27,2,20050127,       2204,   -46.4998,  -150.0002,       5005,   431.7,   7.6117,  34.4339,2,  34.4341,2,    255.1,2,   256.2,2,    5.38,2,   18.94,2,    0.01,2,    1.33,2,-999.000,9,-999.000,9,-999.000,9,  2132.0,2,  2281.1,2,-999.000,9,-999.0000,9, -999.00,9, -999.00,5,    27.5,2,     3.3,-999.000,9,-999.000,-999.0000,9,   431.7,-999.000,   7.5690,     -999.0,9,     -999.0,9,     -999.0,9,     -999.0,9,     -999.0,9,     -999.0,9,     -999.0,9, -999.00,9,-999.0000,9,-999.0000,9,-999.0000,9,-999.0000,9,-999.0000,9,-999.0000,9,-999.0000, -999.00
33RR20050106,       P16S,      62,          1,         26,         26,2,20050127,       2204,   -46.4998,  -150.0002,       5005,   482.1,   7.4488,  34.4176,2,  34.4180,2,    254.2,2,   254.4,2,    5.97,2,   19.60,2,    0.00,2,    1.37,2,   3.731,2,   2.045,2,   0.307,2,  2134.3,2,  2280.8,2,-999.000,9,-999.0000,9, -999.00,9, -999.00,5,    22.6,2,     3.2,-999.000,9,-999.000,-999.0000,9,   482.1,-999.000,   7.4015,     -999.0,9,     -999.0,9,     -999.0,9,     -999.0,9,     -999.0,9,     -999.0,9,     -999.0,9, -999.00,9,-999.0000,9,-999.0000,9,-999.0000,9,-999.0000,9,-999.0000,9,-999.0000,9,-999.0000, -999.00
33RR20050106,       P16S,      62,          1,         25,         25,2,20050127,       2204,   -46.4998,  -150.0002,       5005,   532.3,   7.2871,  34.4004,2,  34.4011,2,    257.6,2,   257.0,2,    6.16,2,   19.86,2,    0.00,2,    1.40,2,-999.000,9,-999.000,9,-999.000,9,  2134.6,2,  2280.5,2,-999.000,9,-999.0000,9, -999.00,9, -999.00,5,    17.2,6,     2.5,-999.000,9,-999.000,-999.0000,9,   532.3,-999.000,   7.2354,     -999.0,9,     -999.0,9,     -999.0,9,     -999.0,9,     -999.0,9,     -999.0,9,     -999.0,9, -999.00,9,-999.0000,9,-999.0000,9,-999.0000,9,-999.0000,9,-999.0000,9,-999.0000,9,-999.0000, -999.00
33RR20050106,       P16S,      62,          1,         24,         24,2,20050127,       2204,   -46.4998,  -150.0002,       5005,   652.4,   6.9483,  34.3709,2,  34.3715,2,    253.5,2,   254.2,2,    7.15,2,   21.06,2,    0.00,2,    1.47,2,   3.705,2,   1.983,2,   0.270,2,  2140.2,2,  2280.2,2,-999.000,9,-999.0000,9, -999.00,9, -999.00,5,     8.4,6,     2.5,-999.000,9,-999.000,-999.0000,9,   652.4,-999.000,   6.8861,     -999.0,9,     -999.0,9,     -999.0,9,     -999.0,9,     -999.0,9,     -999.0,9,     -999.0,9, -999.00,9,-999.0000,9,-999.0000,9,-999.0000,9,-999.0000,9,-999.0000,9,-999.0000,9,-999.0000, -999.00
33RR20050106,       P16S,      62,          1,         23,         23,2,20050127,       2204,   -46.4998,  -150.0002,       5005,   751.5,   6.6288,  34.3484,2,  34.3494,2,    248.9,2,   248.4,2,    8.95,2,   22.31,2,    0.00,2,    1.55,2,   3.411,2,   1.788,2,   0.227,2,  2143.5,2,  2280.4,2,-999.000,9,-999.0000,9, -999.00,9, -999.00,5,    -1.9,2,     4.5,-999.000,9,-999.000,-999.0000,9,   751.5,-999.000,   6.5584,     -999.0,9,     -999.0,9,     -999.0,9,     -999.0,9,     -999.0,9,     -999.0,9,     -999.0,9, -999.00,9,-999.0000,9,-999.0000,9,-999.0000,9,-999.0000,9,-999.0000,9,-999.0000,9,-999.0000, -999.00
33RR20050106,       P16S,      62,          1,         22,         22,2,20050127,       2204,   -46.4998,  -150.0002,       5005,   853.1,   6.1874,  34.3282,2,  34.3290,2,    237.3,2,   236.1,2,   12.16,2,   24.49,2,    0.00,2,    1.68,2,   2.868,2,   1.493,2,   0.156,2,  2154.1,2,  2283.6,2,-999.000,9,-999.0000,9, -999.00,9, -999.00,5,   -21.3,2,     3.7,-999.000,9,-999.000,-999.0000,9,   853.1,-999.000,   6.1098,     -999.0,9,     -999.0,9,     -999.0,9,     -999.0,9,     -999.0,9,     -999.0,9,     -999.0,9, -999.00,9,-999.0000,9,-999.0000,9,-999.0000,9,-999.0000,9,-999.0000,9,-999.0000,9,-999.0000, -999.00
33RR20050106,       P16S,      62,          1,         21,         21,2,20050127,       2204,   -46.4998,  -150.0002,       5005,   955.4,   5.6894,  34.3236,2,  34.3245,2,    223.7,2,   222.8,2,   17.20,2,   26.68,2,    0.00,2,    1.83,2,   2.314,2,   1.173,2,   0.133,2,  2169.7,2,  2286.2,2,-999.000,9,-999.0000,9, -999.00,9, -999.00,5,   -38.5,2,     3.1,-999.000,9,-999.000,-999.0000,9,   955.4,-999.000,   5.6054,     -999.0,9,     -999.0,9,     -999.0,9,     -999.0,9,     -999.0,9,     -999.0,9,     -999.0,9, -999.00,9,-999.0000,9,-999.0000,9,-999.0000,9,-999.0000,9,-999.0000,9,-999.0000,9,-999.0000, -999.00
33RR20050106,       P16S,      62,          1,         20,         20,2,20050127,       2204,   -46.4998,  -150.0002,       5005,  1056.3,   5.1368,  34.3264,2,  34.3276,2,    212.8,2,   213.6,2,   23.47,2,   28.60,2,    0.00,2,    1.97,2,   1.887,2,   0.970,2,   0.111,2,  2181.1,2,  2289.6,2,-999.000,9,-999.0000,9, -999.00,9, -999.00,5,   -53.4,2,     3.1,-999.000,9,-999.000,-999.0000,9,  1056.3,-999.000,   5.0476,     -999.0,9,     -999.0,9,     -999.0,9,     -999.0,9,     -999.0,9,     -999.0,9,     -999.0,9, -999.00,9,-999.0000,9,-999.0000,9,-999.0000,9,-999.0000,9,-999.0000,9,-999.0000,9,-999.0000, -999.00
33RR20050106,       P16S,      62,          1,         19,         19,2,20050127,       2204,   -46.4998,  -150.0002,       5005,  1157.9,   4.5368,  34.3317,2,  34.3320,2,    205.6,2,   206.6,2,   30.35,2,   30.24,2,    0.00,2,    2.09,2,   1.604,2,   0.792,2,   0.101,2,  2193.6,2,  2295.3,2,-999.000,9,-999.0000,9, -999.00,9, -999.00,5,   -65.2,2,     3.1,-999.000,9,-999.000,-999.0000,9,  1157.9,-999.000,   4.4434,     -999.0,9,     -999.0,9,     -999.0,9,     -999.0,9,     -999.0,9,     -999.0,9,     -999.0,9, -999.00,9,-999.0000,9,-999.0000,9,-999.0000,9,-999.0000,9,-999.0000,9,-999.0000,9,-999.0000, -999.00
33RR20050106,       P16S,      62,          1,         18,         18,2,20050127,       2204,   -46.4998,  -150.0002,       5005,  1258.3,   4.0325,  34.3448,2,  34.3455,2,    199.9,2,   201.4,2,   37.24,2,   31.39,2,    0.00,2,    2.18,2,   1.315,2,   0.656,2,   0.081,2,  2205.8,6,  2300.9,2,-999.000,9,-999.0000,9, -999.00,9, -999.00,5,   -87.1,2,     3.0,-999.000,9,-999.000,-999.0000,9,  1258.3,-999.000,   3.9349,     -999.0,9,     -999.0,9,     -999.0,9,     -999.0,9,     -999.0,9,     -999.0,9,     -999.0,9, -999.00,9,-999.0000,9,-999.0000,9,-999.0000,9,-999.0000,9,-999.0000,9,-999.0000,9,-999.0000, -999.00
33RR20050106,       P16S,      62,          1,         17,         17,2,20050127,       2204,   -46.4998,  -150.0002,       5005,  1359.0,   3.5654,  34.3725,2,  34.3734,2,    192.6,2,   194.2,2,   45.37,2,   32.54,2,    0.00,2,    2.26,2,   1.012,2,   0.482,2,   0.059,2,  -999.0,9,  -999.0,9,-999.000,9,-999.0000,9, -999.00,9, -999.00,9,  -999.0,9,  -999.0,-999.000,9,-999.000,-999.0000,9,  1359.0,-999.000,   3.4637,     -999.0,9,     -999.0,9,     -999.0,9,     -999.0,9,     -999.0,9,     -999.0,9,     -999.0,9, -999.00,9,-999.0000,9,-999.0000,9,-999.0000,9,-999.0000,9,-999.0000,9,-999.0000,9,-999.0000, -999.00
33RR20050106,       P16S,      62,          1,         16,         16,2,20050127,       2204,   -46.4998,  -150.0002,       5005,  1459.3,   3.2595,  34.4082,2,  34.4080,2,    184.7,2,   187.3,2,   52.70,2,   33.30,2,    0.00,2,    2.32,2,   0.776,2,   0.374,2,   0.052,2,  -999.0,9,  -999.0,9,-999.000,9,-999.0000,9, -999.00,9, -999.00,9,  -999.0,9,  -999.0,-999.000,9,-999.000,-999.0000,9,  1459.3,-999.000,   3.1525,     -999.0,9,     -999.0,9,     -999.0,9,     -999.0,9,     -999.0,9,     -999.0,9,     -999.0,9, -999.00,9,-999.0000,9,-999.0000,9,-999.0000,9,-999.0000,9,-999.0000,9,-999.0000,9,-999.0000, -999.00
33RR20050106,       P16S,      62,          1,         15,         15,2,20050127,       2204,   -46.4998,  -150.0002,       5005,  1562.7,   3.0611,  34.4454,2,  34.4463,2,    178.7,2,   180.9,2,   59.44,2,   33.73,2,    0.00,2,    2.36,2,   0.582,2,   0.272,2,   0.032,2,  -999.0,9,  -999.0,9,-999.000,9,-999.0000,9, -999.00,9, -999.00,9,  -999.0,9,  -999.0,-999.000,9,-999.000,-999.0000,9,  1562.7,-999.000,   2.9476,     -999.0,9,     -999.0,9,     -999.0,9,     -999.0,9,     -999.0,9,     -999.0,9,     -999.0,9, -999.00,9,-999.0000,9,-999.0000,9,-999.0000,9,-999.0000,9,-999.0000,9,-999.0000,9,-999.0000, -999.00
33RR20050106,       P16S,      62,          1,         14,         14,2,20050127,       2204,   -46.4998,  -150.0002,       5005,  1763.7,   2.7260,  34.5363,2,  34.5374,2,    168.0,2,   169.1,2,   73.98,2,   34.22,2,    0.00,2,    2.39,2,   0.236,2,   0.111,2,   0.018,2,  -999.0,9,  -999.0,9,-999.000,9,-999.0000,9, -999.00,9, -999.00,9,  -999.0,9,  -999.0,-999.000,9,-999.000,-999.0000,9,  1763.7,-999.000,   2.5994,     -999.0,9,     -999.0,9,     -999.0,9,     -999.0,9,     -999.0,9,     -999.0,9,     -999.0,9, -999.00,9,-999.0000,9,-999.0000,9,-999.0000,9,-999.0000,9,-999.0000,9,-999.0000,9,-999.0000, -999.00
33RR20050106,       P16S,      62,          1,         13,         13,2,20050127,       2204,   -46.4998,  -150.0002,       5005,  1965.8,   2.5295,  34.5985,2,  34.5995,2,    161.4,2,   163.0,2,   88.14,2,   34.31,2,    0.00,2,    2.42,2,   0.092,2,   0.049,2,  -0.002,2,  -999.0,9,  -999.0,9,-999.000,9,-999.0000,9, -999.00,9, -999.00,9,  -999.0,9,  -999.0,-999.000,9,-999.000,-999.0000,9,  1965.8,-999.000,   2.3881,     -999.0,9,     -999.0,9,     -999.0,9,     -999.0,9,     -999.0,9,     -999.0,9,     -999.0,9, -999.00,9,-999.0000,9,-999.0000,9,-999.0000,9,-999.0000,9,-999.0000,9,-999.0000,9,-999.0000, -999.00
33RR20050106,       P16S,      62,          1,         12,         12,2,20050127,       2204,   -46.4998,  -150.0002,       5005,  2127.3,   2.3943,  34.6249,2,  34.6260,2,    158.8,2,   158.7,2,   96.57,2,   34.48,2,    0.00,2,    2.42,2,   0.040,2,   0.023,2,  -0.002,2,  -999.0,9,  -999.0,9,-999.000,9,-999.0000,9, -999.00,9, -999.00,9,  -999.0,9,  -999.0,-999.000,9,-999.000,-999.0000,9,  2127.3,-999.000,   2.2407,     -999.0,9,     -999.0,9,     -999.0,9,     -999.0,9,     -999.0,9,     -999.0,9,     -999.0,9, -999.00,9,-999.0000,9,-999.0000,9,-999.0000,9,-999.0000,9,-999.0000,9,-999.0000,9,-999.0000, -999.00
33RR20050106,       P16S,      62,          1,         11,         11,2,20050127,       2204,   -46.4998,  -150.0002,       5005,  2383.2,   2.2128,  34.6496,2,  34.6512,2,    156.6,2,   157.0,2,  105.42,2,   34.52,2,    0.00,2,    2.43,2,   0.015,2,   0.012,2,  -0.002,2,  -999.0,9,  -999.0,9,-999.000,9,-999.0000,9, -999.00,9, -999.00,9,  -999.0,9,  -999.0,-999.000,9,-999.000,-999.0000,9,  2383.2,-999.000,   2.0393,     -999.0,9,     -999.0,9,     -999.0,9,     -999.0,9,     -999.0,9,     -999.0,9,     -999.0,9, -999.00,9,-999.0000,9,-999.0000,9,-999.0000,9,-999.0000,9,-999.0000,9,-999.0000,9,-999.0000, -999.00
33RR20050106,       P16S,      62,          1,         10,         10,2,20050127,       2204,   -46.4998,  -150.0002,       5005,  2637.8,   2.0653,  34.6700,2,  34.6713,2,    159.3,2,   159.7,2,  109.52,2,   34.29,2,    0.00,2,    2.41,2,-999.000,9,-999.000,9,-999.000,9,  -999.0,9,  -999.0,9,-999.000,9,-999.0000,9, -999.00,9, -999.00,9,  -999.0,9,  -999.0,-999.000,9,-999.000,-999.0000,9,  2637.8,-999.000,   1.8709,     -999.0,9,     -999.0,9,     -999.0,9,     -999.0,9,     -999.0,9,     -999.0,9,     -999.0,9, -999.00,9,-999.0000,9,-999.0000,9,-999.0000,9,-999.0000,9,-999.0000,9,-999.0000,9,-999.0000, -999.00
33RR20050106,       P16S,      62,          1,          9,          9,2,20050127,       2204,   -46.4998,  -150.0002,       5005,  2892.2,   1.9397,  34.6866,2,  34.6870,2,    164.0,2,   164.9,2,  111.14,2,   33.89,2,    0.00,2,    2.38,2,   0.010,2,   0.016,2,  -0.002,2,  -999.0,9,  -999.0,9,-999.000,9,-999.0000,9, -999.00,9, -999.00,9,  -999.0,9,  -999.0,-999.000,9,-999.000,-999.0000,9,  2892.2,-999.000,   1.7236,     -999.0,9,     -999.0,9,     -999.0,9,     -999.0,9,     -999.0,9,     -999.0,9,     -999.0,9, -999.00,9,-999.0000,9,-999.0000,9,-999.0000,9,-999.0000,9,-999.0000,9,-999.0000,9,-999.0000, -999.00
33RR20050106,       P16S,      62,          1,          8,          8,2,20050127,       2204,   -46.4998,  -150.0002,       5005,  3146.8,   1.8273,  34.7035,2,  34.7049,2,    172.5,2,   174.0,2,  109.03,2,   33.00,2,    0.00,2,    2.31,2,-999.000,9,-999.000,9,-999.000,9,  -999.0,9,  -999.0,9,-999.000,9,-999.0000,9, -999.00,9, -999.00,9,  -999.0,9,  -999.0,-999.000,9,-999.000,-999.0000,9,  3146.8,-999.000,   1.5887,     -999.0,9,     -999.0,9,     -999.0,9,     -999.0,9,     -999.0,9,     -999.0,9,     -999.0,9, -999.00,9,-999.0000,9,-999.0000,9,-999.0000,9,-999.0000,9,-999.0000,9,-999.0000,9,-999.0000, -999.00
33RR20050106,       P16S,      62,          1,          7,          7,2,20050127,       2204,   -46.4998,  -150.0002,       5005,  3452.4,   1.6984,  34.7210,2,  34.7226,2,    187.0,2,   187.1,2,  104.86,2,   31.94,2,    0.00,2,    2.22,2,   0.016,2,   0.017,2,  -0.002,2,  -999.0,9,  -999.0,9,-999.000,9,-999.0000,9, -999.00,9, -999.00,9,  -999.0,9,  -999.0,-999.000,9,-999.000,-999.0000,9,  3452.4,-999.000,   1.4319,     -999.0,9,     -999.0,9,     -999.0,9,     -999.0,9,     -999.0,9,     -999.0,9,     -999.0,9, -999.00,9,-999.0000,9,-999.0000,9,-999.0000,9,-999.0000,9,-999.0000,9,-999.0000,9,-999.0000, -999.00