BOTTLE,20201109CCHSIOCBG
EXPOCODE,SECT_ID,STNNBR,CASTNO,SAMPNO,BTLNBR,BTLNBR_FLAG_W,DATE,TIME,LATITUDE,LONGITUDE,DEPTH,CTDPRS,CTDTMP,CTDSAL,CTDSAL_FLAG_W,SALNTY,SALNTY_FLAG_W,CTDOXY,CTDOXY_FLAG_W,OXYGEN,OXYGEN_FLAG_W,SILCAT,SILCAT_FLAG_W,NITRAT,NITRAT_FLAG_W,NITRIT,NITRIT_FLAG_W,PHSPHT,PHSPHT_FLAG_W,CFC-11,CFC-11_FLAG_W,CFC-12,CFC-12_FLAG_W,CFC113,CFC113_FLAG_W,TCARBN,TCARBN_FLAG_W,ALKALI,ALKALI_FLAG_W,TRITUM,TRITUM_FLAG_W,HELIUM,HELIUM_FLAG_W,DELHE3,DELHE3_FLAG_W,DELC13,DELC13_FLAG_W,DELC14,DELC14_FLAG_W,C14ERR,NEON,NEON_FLAG_W,NEONER,DOC,DOC_FLAG_W,CTDRAW,TRITER,THETA,FUCO,FUCO_FLAG_W,RHAM,RHAM_FLAG_W,ARABA,ARABA_FLAG_W,GALA,GALA_FLAG_W,GLUC,GLUC_FLAG_W,MAN,MAN_FLAG_W,DCNS,DCNS_FLAG_W,BRDU,BRDU_FLAG_W,CDOM325,CDOM325_FLAG_W,CDOM340,CDOM340_FLAG_W,CDOM380,CDOM380_FLAG_W,CDOM412,CDOM412_FLAG_W,CDOMSL,CDOMSL_FLAG_W,CDOMSN,CDOMSN_FLAG_W,HELIER,DELHER
,,,,,,,,,,,METERS,DBAR,ITS-90,PSS-78,,PSS-78,,UMOL/KG,,UMOL/KG,,UMOL/KG,,UMOL/KG,,UMOL/KG,,UMOL/KG,,PMOL/KG,,PMOL/KG,,PMOL/KG,,UMOL/KG,,UMOL/KG,,TU,,NMOL/KG,,PERCNT,,/MILLE,,/MILLE,,/MILLE,NMOL/KG,,NMOL/KG,UMOL/KG,,DBAR,TU,DEG C,NMOL/KG,,NMOL/KG,,NMOL/KG,,NMOL/KG,,NMOL/KG,,NMOL/KG,,NMOL/KG,,PMOL/L/H,,1/M,,1/M,,1/M,,1/M,,1/NM,,1/NM,,NMOL/KG,PERCNT
33RR20050106,       P16S,      40,          1,         36,         36,2,20050121,       0706,   -35.5000,  -149.9992,       5325,     3.5,  21.2437,  35.1040,2,  35.1059,2,    223.6,2,   224.1,2,    0.52,2,    0.11,2,    0.00,2,    0.12,2,   2.192,2,   1.356,2,   0.172,2,  2034.6,6,  2302.6,6,-999.000,9,-999.0000,9, -999.00,9, -999.00,5,    72.0,2,     4.2,-999.000,9,-999.000,-999.0000,9,     3.5,-999.000,  21.2430,     -999.0,9,     -999.0,9,     -999.0,9,     -999.0,9,     -999.0,9,     -999.0,9,     -999.0,9, -999.00,9,-999.0000,9,-999.0000,9,-999.0000,9,-999.0000,9,-999.0000,9,-999.0000,9,-999.0000, -999.00
33RR20050106,       P16S,      40,          1,         35,         35,2,20050121,       0706,   -35.5000,  -149.9992,       5325,    57.0,  16.9079,  35.1227,2,  35.1241,2,    253.0,2,   253.8,2,    0.50,2,    0.11,2,    0.00,2,    0.13,2,   2.745,2,   1.658,2,   0.178,2,  2043.7,2,  2306.1,2,-999.000,9,-999.0000,9, -999.00,9, -999.00,5,    81.7,2,     3.3,-999.000,9,-999.000,-999.0000,9,    57.0,-999.000,  16.8986,     -999.0,9,     -999.0,9,     -999.0,9,     -999.0,9,     -999.0,9,     -999.0,9,     -999.0,9, -999.00,9,-999.0000,9,-999.0000,9,-999.0000,9,-999.0000,9,-999.0000,9,-999.0000,9,-999.0000, -999.00
33RR20050106,       P16S,      40,          1,         34,         34,2,20050121,       0706,   -35.5000,  -149.9992,       5325,   107.5,  15.6538,  35.1793,2,  35.1809,2,    251.0,2,   249.3,2,    0.69,2,    0.11,2,    0.00,2,    0.15,2,   2.756,2,   1.652,2,   0.197,2,  2050.3,2,  2308.4,2,-999.000,9,-999.0000,9, -999.00,9, -999.00,5,    83.6,2,     3.4,-999.000,9,-999.000,-999.0000,9,   107.5,-999.000,  15.6371,     -999.0,9,     -999.0,9,     -999.0,9,     -999.0,9,     -999.0,9,     -999.0,9,     -999.0,9, -999.00,9,-999.0000,9,-999.0000,9,-999.0000,9,-999.0000,9,-999.0000,9,-999.0000,9,-999.0000, -999.00
33RR20050106,       P16S,      40,          1,         33,         33,2,20050121,       0706,   -35.5000,  -149.9992,       5325,   157.5,  14.9783,  35.1323,2,  35.1397,2,    234.0,2,   235.8,2,    0.68,2,    1.37,2,    0.15,2,    0.24,2,   2.799,2,   1.697,2,   0.202,2,  2062.9,2,  2306.8,2,-999.000,9,-999.0000,9, -999.00,9, -999.00,5,    76.1,2,     3.0,-999.000,9,-999.000,-999.0000,9,   157.5,-999.000,  14.9545,     -999.0,9,     -999.0,9,     -999.0,9,     -999.0,9,     -999.0,9,     -999.0,9,     -999.0,9, -999.00,9,-999.0000,9,-999.0000,9,-999.0000,9,-999.0000,9,-999.0000,9,-999.0000,9,-999.0000, -999.00
33RR20050106,       P16S,      40,          1,         32,         32,2,20050121,       0706,   -35.5000,  -149.9992,       5325,   207.3,  12.6477,  34.8665,2,  34.8664,2,    214.6,2,   213.8,2,    1.68,2,    8.49,2,    0.01,2,    0.68,2,   3.062,2,   1.747,2,   0.126,2,  2098.9,2,  2292.8,2,-999.000,9,-999.0000,9, -999.00,9, -999.00,5,    74.6,2,     3.3,-999.000,9,-999.000,-999.0000,9,   207.3,-999.000,  12.6197,     -999.0,9,     -999.0,9,     -999.0,9,     -999.0,9,     -999.0,9,     -999.0,9,     -999.0,9, -999.00,9,-999.0000,9,-999.0000,9,-999.0000,9,-999.0000,9,-999.0000,9,-999.0000,9,-999.0000, -999.00
33RR20050106,       P16S,      40,          1,         31,         31,2,20050121,       0706,   -35.5000,  -149.9992,       5325,   257.6,  11.0851,  34.7241,2,-999.0000,9,    215.1,2,   214.6,2,    2.49,2,   12.41,2,    0.00,2,    0.93,2,   3.148,2,   1.786,2,   0.132,2,  -999.0,9,  -999.0,9,-999.000,9,-999.0000,9, -999.00,9, -999.00,9,  -999.0,9,  -999.0,-999.000,9,-999.000,-999.0000,9,   257.6,-999.000,  11.0532,     -999.0,9,     -999.0,9,     -999.0,9,     -999.0,9,     -999.0,9,     -999.0,9,     -999.0,9, -999.00,9,-999.0000,9,-999.0000,9,-999.0000,9,-999.0000,9,-999.0000,9,-999.0000,9,-999.0000, -999.00
33RR20050106,       P16S,      40,          1,         30,         30,2,20050121,       0706,   -35.5000,  -149.9992,       5325,   308.3,   9.5859,  34.5686,2,-999.0000,9,    219.2,2,   220.7,2,    3.48,2,   15.53,2,    0.00,2,    1.14,2,   3.203,2,   1.788,2,   0.139,2,  2122.7,2,  2282.1,2,-999.000,9,-999.0000,9, -999.00,9, -999.00,5,    51.9,2,     3.0,-999.000,9,-999.000,-999.0000,9,   308.3,-999.000,   9.5510,     -999.0,9,     -999.0,9,     -999.0,9,     -999.0,9,     -999.0,9,     -999.0,9,     -999.0,9, -999.00,9,-999.0000,9,-999.0000,9,-999.0000,9,-999.0000,9,-999.0000,9,-999.0000,9,-999.0000, -999.00
33RR20050106,       P16S,      40,          1,         29,         29,2,20050121,       0706,   -35.5000,  -149.9992,       5325,   358.1,   8.5438,  34.4836,2,-999.0000,9,    226.4,2,   228.3,2,    4.29,2,   18.14,2,    0.00,2,    1.27,2,   3.298,2,   1.779,2,   0.169,2,  -999.0,9,  -999.0,9,-999.000,9,-999.0000,9, -999.00,9, -999.00,9,  -999.0,9,  -999.0,-999.000,9,-999.000,-999.0000,9,   358.1,-999.000,   8.5060,     -999.0,9,     -999.0,9,     -999.0,9,     -999.0,9,     -999.0,9,     -999.0,9,     -999.0,9, -999.00,9,-999.0000,9,-999.0000,9,-999.0000,9,-999.0000,9,-999.0000,9,-999.0000,9,-999.0000, -999.00
33RR20050106,       P16S,      40,          1,         28,         28,2,20050121,       0706,   -35.5000,  -149.9992,       5325,   408.5,   7.8580,  34.4355,2,-999.0000,9,    233.0,2,   235.2,2,    4.88,2,   19.56,2,    0.00,2,    1.36,2,   3.412,2,   1.819,2,   0.209,2,  2132.4,2,  2277.8,2,-999.000,9,-999.0000,9, -999.00,9, -999.00,5,    44.3,2,     3.8,-999.000,9,-999.000,-999.0000,9,   408.5,-999.000,   7.8169,     -999.0,9,     -999.0,9,     -999.0,9,     -999.0,9,     -999.0,9,     -999.0,9,     -999.0,9, -999.00,9,-999.0000,9,-999.0000,9,-999.0000,9,-999.0000,9,-999.0000,9,-999.0000,9,-999.0000, -999.00
33RR20050106,       P16S,      40,          1,         27,         27,2,20050121,       0706,   -35.5000,  -149.9992,       5325,   459.0,   7.5012,  34.4199,2,  34.4198,2,    237.7,2,   239.1,2,    5.68,2,   20.36,2,    0.00,2,    1.41,2,   3.300,2,   1.740,2,   0.220,2,  -999.0,9,  -999.0,9,-999.000,9,-999.0000,9, -999.00,9, -999.00,9,  -999.0,9,  -999.0,-999.000,9,-999.000,-999.0000,9,   459.0,-999.000,   7.4561,     -999.0,9,     -999.0,9,     -999.0,9,     -999.0,9,     -999.0,9,     -999.0,9,     -999.0,9, -999.00,9,-999.0000,9,-999.0000,9,-999.0000,9,-999.0000,9,-999.0000,9,-999.0000,9,-999.0000, -999.00
33RR20050106,       P16S,      40,          1,         26,         26,2,20050121,       0706,   -35.5000,  -149.9992,       5325,   508.8,   7.1871,  34.3978,2,  34.3969,2,    240.9,2,   242.0,2,    6.27,2,   21.21,2,    0.00,2,    1.47,2,   3.233,2,   1.671,2,   0.200,2,  2137.9,2,  2278.8,2,-999.000,9,-999.0000,9, -999.00,9, -999.00,5,    38.3,2,     3.5,-999.000,9,-999.000,-999.0000,9,   508.8,-999.000,   7.1381,     -999.0,9,     -999.0,9,     -999.0,9,     -999.0,9,     -999.0,9,     -999.0,9,     -999.0,9, -999.00,9,-999.0000,9,-999.0000,9,-999.0000,9,-999.0000,9,-999.0000,9,-999.0000,9,-999.0000, -999.00
33RR20050106,       P16S,      40,          1,         25,         25,2,20050121,       0706,   -35.5000,  -149.9992,       5325,   609.8,   6.7147,  34.3668,2,  34.3677,2,    243.7,2,   244.5,2,    7.68,2,   22.22,2,    0.00,2,    1.54,2,   2.852,2,   1.743,2,   0.178,2,  2140.3,2,  2278.2,2,-999.000,9,-999.0000,9, -999.00,9, -999.00,5,    28.5,2,     2.9,-999.000,9,-999.000,-999.0000,9,   609.8,-999.000,   6.6578,     -999.0,9,     -999.0,9,     -999.0,9,     -999.0,9,     -999.0,9,     -999.0,9,     -999.0,9, -999.00,9,-999.0000,9,-999.0000,9,-999.0000,9,-999.0000,9,-999.0000,9,-999.0000,9,-999.0000, -999.00
33RR20050106,       P16S,      40,          1,         24,         24,2,20050121,       0706,   -35.5000,  -149.9992,       5325,   709.9,   6.3504,  34.3424,2,  34.3432,2,    241.2,2,   241.7,2,    9.30,2,   23.55,2,    0.00,2,    1.62,2,   2.449,2,   1.293,2,   0.134,2,  2142.1,2,  2278.8,2,-999.000,9,-999.0000,9, -999.00,9, -999.00,5,    13.7,2,     4.2,-999.000,9,-999.000,-999.0000,9,   709.9,-999.000,   6.2856,     -999.0,9,     -999.0,9,     -999.0,9,     -999.0,9,     -999.0,9,     -999.0,9,     -999.0,9, -999.00,9,-999.0000,9,-999.0000,9,-999.0000,9,-999.0000,9,-999.0000,9,-999.0000,9,-999.0000, -999.00
33RR20050106,       P16S,      40,          1,         23,         23,2,20050121,       0706,   -35.5000,  -149.9992,       5325,   811.0,   5.9379,  34.3243,2,  34.3242,2,    231.0,2,   230.2,2,   13.16,2,   25.64,2,    0.00,2,    1.75,2,   1.964,2,   1.017,2,   0.090,2,  2154.3,2,  2279.4,2,-999.000,9,-999.0000,9, -999.00,9, -999.00,5,   -12.3,2,     3.3,-999.000,9,-999.000,-999.0000,9,   811.0,-999.000,   5.8659,     -999.0,9,     -999.0,9,     -999.0,9,     -999.0,9,     -999.0,9,     -999.0,9,     -999.0,9, -999.00,9,-999.0000,9,-999.0000,9,-999.0000,9,-999.0000,9,-999.0000,9,-999.0000,9,-999.0000, -999.00
33RR20050106,       P16S,      40,          1,         22,         22,2,20050121,       0706,   -35.5000,  -149.9992,       5325,   911.8,   5.3116,  34.3097,2,  34.3095,2,    219.8,2,   220.1,2,   18.64,2,   27.78,2,    0.00,2,    1.91,2,   1.235,2,   0.642,2,   0.054,2,  2167.5,2,  2284.5,2,-999.000,9,-999.0000,9, -999.00,9, -999.00,5,   -48.0,2,     3.5,-999.000,9,-999.000,-999.0000,9,   911.8,-999.000,   5.2343,     -999.0,9,     -999.0,9,     -999.0,9,     -999.0,9,     -999.0,9,     -999.0,9,     -999.0,9, -999.00,9,-999.0000,9,-999.0000,9,-999.0000,9,-999.0000,9,-999.0000,9,-999.0000,9,-999.0000, -999.00
33RR20050106,       P16S,      40,          1,         21,         21,2,20050121,       0706,   -35.5000,  -149.9992,       5325,  1012.7,   4.7252,  34.3184,2,  34.3184,2,    207.1,2,   207.3,2,   26.59,2,   29.93,2,    0.00,2,    2.06,2,   0.846,2,   0.442,2,   0.038,2,  2184.1,2,  2291.9,2,-999.000,9,-999.0000,9, -999.00,9, -999.00,5,   -68.0,2,     2.7,-999.000,9,-999.000,-999.0000,9,  1012.7,-999.000,   4.6432,     -999.0,9,     -999.0,9,     -999.0,9,     -999.0,9,     -999.0,9,     -999.0,9,     -999.0,9, -999.00,9,-999.0000,9,-999.0000,9,-999.0000,9,-999.0000,9,-999.0000,9,-999.0000,9,-999.0000, -999.00
33RR20050106,       P16S,      40,          1,         20,         20,2,20050121,       0706,   -35.5000,  -149.9992,       5325,  1114.0,   4.1090,  34.3414,2,  34.3410,2,    197.2,2,   196.8,2,   36.19,2,   31.70,2,    0.00,2,    2.19,2,   0.504,2,   0.260,2,   0.025,2,  2202.1,2,  2299.7,2,-999.000,9,-999.0000,9, -999.00,9, -999.00,5,   -89.7,2,     3.2,-999.000,9,-999.000,-999.0000,9,  1114.0,-999.000,   4.0231,     -999.0,9,     -999.0,9,     -999.0,9,     -999.0,9,     -999.0,9,     -999.0,9,     -999.0,9, -999.00,9,-999.0000,9,-999.0000,9,-999.0000,9,-999.0000,9,-999.0000,9,-999.0000,9,-999.0000, -999.00
33RR20050106,       P16S,      40,          1,         19,         19,2,20050121,       0706,   -35.5000,  -149.9992,       5325,  1214.0,   3.6814,  34.3713,2,  34.3710,2,    188.3,2,   189.2,2,   44.39,2,   32.84,2,    0.00,2,    2.28,2,   0.320,2,   0.159,2,   0.029,2,  2214.3,2,  2307.5,2,-999.000,9,-999.0000,9, -999.00,9, -999.00,5,  -113.6,2,     3.0,-999.000,9,-999.000,-999.0000,9,  1214.0,-999.000,   3.5908,     -999.0,9,     -999.0,9,     -999.0,9,     -999.0,9,     -999.0,9,     -999.0,9,     -999.0,9, -999.00,9,-999.0000,9,-999.0000,9,-999.0000,9,-999.0000,9,-999.0000,9,-999.0000,9,-999.0000, -999.00
33RR20050106,       P16S,      40,          1,         18,         18,2,20050121,       0706,   -35.5000,  -149.9992,       5325,  1315.3,   3.3080,  34.4141,2,  34.4143,2,    179.5,2,   181.1,2,   53.83,2,   33.70,2,    0.00,2,    2.35,2,   0.215,2,   0.103,2,   0.002,2,  2229.9,6,  2316.5,2,-999.000,9,-999.0000,9, -999.00,9, -999.00,5,  -124.3,2,     3.4,-999.000,9,-999.000,-999.0000,9,  1315.3,-999.000,   3.2125,     -999.0,9,     -999.0,9,     -999.0,9,     -999.0,9,     -999.0,9,     -999.0,9,     -999.0,9, -999.00,9,-999.0000,9,-999.0000,9,-999.0000,9,-999.0000,9,-999.0000,9,-999.0000,9,-999.0000, -999.00
33RR20050106,       P16S,      40,          1,         17,         17,2,20050121,       0706,   -35.5000,  -149.9992,       5325,  1416.4,   3.0072,  34.4684,2,  34.4669,2,    172.1,2,   173.5,2,   63.93,2,   34.24,2,    0.00,2,    2.39,2,   0.092,2,   0.045,2,   0.002,2,  -999.0,9,  -999.0,9,-999.000,9,-999.0000,9, -999.00,9, -999.00,9,  -999.0,9,  -999.0,-999.000,9,-999.000,-999.0000,9,  1416.4,-999.000,   2.9064,     -999.0,9,     -999.0,9,     -999.0,9,     -999.0,9,     -999.0,9,     -999.0,9,     -999.0,9, -999.00,9,-999.0000,9,-999.0000,9,-999.0000,9,-999.0000,9,-999.0000,9,-999.0000,9,-999.0000, -999.00
33RR20050106,       P16S,      40,          1,         16,         16,2,20050121,       0706,   -35.5000,  -149.9992,       5325,  1517.2,   2.8254,  34.5121,2,  34.5141,2,    166.8,2,   167.7,2,   73.01,2,   34.56,2,    0.00,2,    2.42,2,-999.000,9,-999.000,9,-999.000,9,  -999.0,9,  -999.0,9,-999.000,9,-999.0000,9, -999.00,9, -999.00,9,  -999.0,9,  -999.0,-999.000,9,-999.000,-999.0000,9,  1517.2,-999.000,   2.7183,     -999.0,9,     -999.0,9,     -999.0,9,     -999.0,9,     -999.0,9,     -999.0,9,     -999.0,9, -999.00,9,-999.0000,9,-999.0000,9,-999.0000,9,-999.0000,9,-999.0000,9,-999.0000,9,-999.0000, -999.00
33RR20050106,       P16S,      40,          1,         15,         15,2,20050121,       0706,   -35.5000,  -149.9992,       5325,  1618.2,   2.6570,  34.5541,2,  34.5538,2,    162.1,2,   162.5,2,   82.93,2,   34.71,2,    0.00,2,    2.43,2,   0.012,2,   0.011,2,   0.002,2,  -999.0,9,  -999.0,9,-999.000,9,-999.0000,9, -999.00,9, -999.00,9,  -999.0,9,  -999.0,-999.000,9,-999.000,-999.0000,9,  1618.2,-999.000,   2.5435,     -999.0,9,     -999.0,9,     -999.0,9,     -999.0,9,     -999.0,9,     -999.0,9,     -999.0,9, -999.00,9,-999.0000,9,-999.0000,9,-999.0000,9,-999.0000,9,-999.0000,9,-999.0000,9,-999.0000, -999.00
33RR20050106,       P16S,      40,          1,         14,         14,2,20050121,       0706,   -35.5000,  -149.9992,       5325,  1821.2,   2.4451,  34.6025,2,  34.6025,2,    155.2,2,   155.4,2,   97.88,2,   35.09,2,    0.00,2,    2.47,2,-999.000,9,-999.000,9,-999.000,9,  -999.0,9,  -999.0,9,-999.000,9,-999.0000,9, -999.00,9, -999.00,9,  -999.0,9,  -999.0,-999.000,9,-999.000,-999.0000,9,  1821.2,-999.000,   2.3173,     -999.0,9,     -999.0,9,     -999.0,9,     -999.0,9,     -999.0,9,     -999.0,9,     -999.0,9, -999.00,9,-999.0000,9,-999.0000,9,-999.0000,9,-999.0000,9,-999.0000,9,-999.0000,9,-999.0000, -999.00
33RR20050106,       P16S,      40,          1,         13,         13,2,20050121,       0706,   -35.5000,  -149.9992,       5325,  2023.7,   2.2752,  34.6275,2,  34.6275,2,    151.7,2,   152.0,2,  108.27,2,   35.36,2,    0.00,2,    2.49,2,  -0.003,2,   0.006,2,   0.002,2,  -999.0,9,  -999.0,9,-999.000,9,-999.0000,9, -999.00,9, -999.00,9,  -999.0,9,  -999.0,-999.000,9,-999.000,-999.0000,9,  2023.7,-999.000,   2.1325,     -999.0,9,     -999.0,9,     -999.0,9,     -999.0,9,     -999.0,9,     -999.0,9,     -999.0,9, -999.00,9,-999.0000,9,-999.0000,9,-999.0000,9,-999.0000,9,-999.0000,9,-999.0000,9,-999.0000, -999.00
33RR20050106,       P16S,      40,          1,         12,         12,2,20050121,       0706,   -35.5000,  -149.9992,       5325,  2277.4,   2.0726,  34.6469,2,  34.6484,4,    150.8,2,   151.0,2,  116.81,2,   35.46,2,    0.00,2,    2.51,2,-999.000,9,-999.000,9,-999.000,9,  -999.0,9,  -999.0,9,-999.000,9,-999.0000,9, -999.00,9, -999.00,9,  -999.0,9,  -999.0,-999.000,9,-999.000,-999.0000,9,  2277.4,-999.000,   1.9110,     -999.0,9,     -999.0,9,     -999.0,9,     -999.0,9,     -999.0,9,     -999.0,9,     -999.0,9, -999.00,9,-999.0000,9,-999.0000,9,-999.0000,9,-999.0000,9,-999.0000,9,-999.0000,9,-999.0000, -999.00
33RR20050106,       P16S,      40,          1,         11,         11,2,20050121,       0706,   -35.5000,  -149.9992,       5325,  2531.0,   1.9319,  34.6589,2,  34.6594,2,    150.5,2,   150.8,2,  123.05,2,   35.61,2,    0.00,2,    2.52,2,   0.006,2,   0.004,2,   0.002,2,  -999.0,9,  -999.0,9,-999.000,9,-999.0000,9, -999.00,9, -999.00,9,  -999.0,9,  -999.0,-999.000,9,-999.000,-999.0000,9,  2531.0,-999.000,   1.7500,     -999.0,9,     -999.0,9,     -999.0,9,     -999.0,9,     -999.0,9,     -999.0,9,     -999.0,9, -999.00,9,-999.0000,9,-999.0000,9,-999.0000,9,-999.0000,9,-999.0000,9,-999.0000,9,-999.0000, -999.00
33RR20050106,       P16S,      40,          1,         10,         10,2,20050121,       0706,   -35.5000,  -149.9992,       5325,  2785.3,   1.8314,  34.6667,2,  34.6671,2,    151.9,2,   152.2,2,  126.99,2,   35.61,2,    0.00,2,    2.51,2,-999.000,9,-999.000,9,-999.000,9,  -999.0,9,  -999.0,9,-999.000,9,-999.0000,9, -999.00,9, -999.00,9,  -999.0,9,  -999.0,-999.000,9,-999.000,-999.0000,9,  2785.3,-999.000,   1.6279,     -999.0,9,     -999.0,9,     -999.0,9,     -999.0,9,     -999.0,9,     -999.0,9,     -999.0,9, -999.00,9,-999.0000,9,-999.0000,9,-999.0000,9,-999.0000,9,-999.0000,9,-999.0000,9,-999.0000, -999.00
33RR20050106,       P16S,      40,          1,          9,          9,2,20050121,       0706,   -35.5000,  -149.9992,       5325,  3039.5,   1.7561,  34.6740,2,  34.6748,2,    154.7,2,   155.2,2,  128.22,2,   35.45,2,    0.00,2,    2.51,2,   0.004,2,  -0.002,2,   0.002,2,  -999.0,9,  -999.0,9,-999.000,9,-999.0000,9, -999.00,9, -999.00,9,  -999.0,9,  -999.0,-999.000,9,-999.000,-999.0000,9,  3039.5,-999.000,   1.5298,     -999.0,9,     -999.0,9,     -999.0,9,     -999.0,9,     -999.0,9,     -999.0,9,     -999.0,9, -999.00,9,-999.0000,9,-999.0000,9,-999.0000,9,-999.0000,9,-999.0000,9,-999.0000,9,-999.0000, -999.00
33RR20050106,       P16S,      40,          1,          8,          8,2,20050121,       0706,   -35.5000,  -149.9992,       5325,  3345.0,   1.6596,  34.6869,2,  34.6864,2,    163.4,2,   164.3,2,  125.28,2,   34.47,2,    0.00,2,    2.44,2,-999.000,9,-999.000,9,-999.000,9,  -999.0,9,  -999.0,9,-999.000,9,-999.0000,9, -999.00,9, -999.00,9,  -999.0,9,  -999.0,-999.000,9,-999.000,-999.0000,9,  3345.0,-999.000,   1.4052,     -999.0,9,     -999.0,9,     -999.0,9,     -999.0,9,     -999.0,9,     -999.0,9,     -999.0,9, -999.00,9,-999.0000,9,-999.0000,9,-999.0000,9,-999.0000,9,-999.0000,9,-999.0000,9,-999.0000, -999.00
33RR20050106,       P16S,      40,          1,          7,          7,2,20050121,       0706,   -35.5000,  -149.9992,       5325,  3651.3,   1.5468,  34.7010,2,  34.7008,2,    176.6,2,   177.9,2,  120.24,2,   33.53,2,    0.00,2,    2.35,2,  -0.008,2,  -0.002,2,   0.002,2,  -999.0,9,  -999.0,9,-999.000,9,-999.0000,9, -999.00,9, -999.00,9,  -999.0,9,  -999.0,-999.000,9,-999.000,-999.0000,9,  3651.3,-999.000,   1.2637,     -999.0,9,     -999.0,9,     -999.0,9,     -999.0,9,     -999.0,9,     -999.0,9,     -999.0,9, -999.00,9,-999.0000,9,-999.0000,9,-999.0000,9,-999.0000,9,-999.0000,9,-999.0000,9,-999.0000, -999.00