BOTTLE,20201109CCHSIOCBG
EXPOCODE,SECT_ID,STNNBR,CASTNO,SAMPNO,BTLNBR,BTLNBR_FLAG_W,DATE,TIME,LATITUDE,LONGITUDE,DEPTH,CTDPRS,CTDTMP,CTDSAL,CTDSAL_FLAG_W,SALNTY,SALNTY_FLAG_W,CTDOXY,CTDOXY_FLAG_W,OXYGEN,OXYGEN_FLAG_W,SILCAT,SILCAT_FLAG_W,NITRAT,NITRAT_FLAG_W,NITRIT,NITRIT_FLAG_W,PHSPHT,PHSPHT_FLAG_W,CFC-11,CFC-11_FLAG_W,CFC-12,CFC-12_FLAG_W,CFC113,CFC113_FLAG_W,TCARBN,TCARBN_FLAG_W,ALKALI,ALKALI_FLAG_W,TRITUM,TRITUM_FLAG_W,HELIUM,HELIUM_FLAG_W,DELHE3,DELHE3_FLAG_W,DELC13,DELC13_FLAG_W,DELC14,DELC14_FLAG_W,C14ERR,NEON,NEON_FLAG_W,NEONER,DOC,DOC_FLAG_W,CTDRAW,TRITER,THETA,FUCO,FUCO_FLAG_W,RHAM,RHAM_FLAG_W,ARABA,ARABA_FLAG_W,GALA,GALA_FLAG_W,GLUC,GLUC_FLAG_W,MAN,MAN_FLAG_W,DCNS,DCNS_FLAG_W,BRDU,BRDU_FLAG_W,CDOM325,CDOM325_FLAG_W,CDOM340,CDOM340_FLAG_W,CDOM380,CDOM380_FLAG_W,CDOM412,CDOM412_FLAG_W,CDOMSL,CDOMSL_FLAG_W,CDOMSN,CDOMSN_FLAG_W,HELIER,DELHER
,,,,,,,,,,,METERS,DBAR,ITS-90,PSS-78,,PSS-78,,UMOL/KG,,UMOL/KG,,UMOL/KG,,UMOL/KG,,UMOL/KG,,UMOL/KG,,PMOL/KG,,PMOL/KG,,PMOL/KG,,UMOL/KG,,UMOL/KG,,TU,,NMOL/KG,,PERCNT,,/MILLE,,/MILLE,,/MILLE,NMOL/KG,,NMOL/KG,UMOL/KG,,DBAR,TU,DEG C,NMOL/KG,,NMOL/KG,,NMOL/KG,,NMOL/KG,,NMOL/KG,,NMOL/KG,,NMOL/KG,,PMOL/L/H,,1/M,,1/M,,1/M,,1/M,,1/NM,,1/NM,,NMOL/KG,PERCNT
33RR20050106,       P16S,      48,          1,         36,         36,2,20050123,       1621,   -39.5000,  -150.0000,       5379,     4.5,  17.9013,  34.3609,2,  34.3629,2,    239.9,2,   240.5,2,    0.00,2,    0.32,2,    0.01,2,    0.23,2,   2.300,2,   1.476,2,   0.230,2,  2031.3,2,  2272.9,6,-999.000,9,-999.0000,9, -999.00,9, -999.00,9,  -999.0,9,  -999.0,-999.000,9,-999.000,-999.0000,9,     4.5,-999.000,  17.9005,     -999.0,9,     -999.0,9,     -999.0,9,     -999.0,9,     -999.0,9,     -999.0,9,     -999.0,9, -999.00,9,-999.0000,9,-999.0000,9,-999.0000,9,-999.0000,9,-999.0000,9,-999.0000,9,-999.0000, -999.00
33RR20050106,       P16S,      48,          1,         35,         35,2,20050123,       1621,   -39.5000,  -150.0000,       5379,    42.3,  14.2976,  34.3994,3,  34.4070,2,    269.7,2,   273.1,2,    0.00,2,    0.72,2,    0.03,2,    0.26,2,   2.738,2,   1.775,2,   0.261,2,  2037.4,2,  2276.5,2,-999.000,9,-999.0000,9, -999.00,9, -999.00,9,  -999.0,9,  -999.0,-999.000,9,-999.000,-999.0000,9,    42.3,-999.000,  14.2915,     -999.0,9,     -999.0,9,     -999.0,9,     -999.0,9,     -999.0,9,     -999.0,9,     -999.0,9, -999.00,9,-999.0000,9,-999.0000,9,-999.0000,9,-999.0000,9,-999.0000,9,-999.0000,9,-999.0000, -999.00
33RR20050106,       P16S,      48,          1,         34,         34,2,20050123,       1621,   -39.5000,  -150.0000,       5379,    87.6,  11.9228,  34.4019,2,  34.4051,2,    265.0,2,   263.8,2,    0.37,2,    3.79,2,    0.13,2,    0.46,2,   3.029,2,   1.943,2,   0.305,2,  2064.0,2,  2276.8,2,-999.000,9,-999.0000,9, -999.00,9, -999.00,9,  -999.0,9,  -999.0,-999.000,9,-999.000,-999.0000,9,    87.6,-999.000,  11.9115,     -999.0,9,     -999.0,9,     -999.0,9,     -999.0,9,     -999.0,9,     -999.0,9,     -999.0,9, -999.00,9,-999.0000,9,-999.0000,9,-999.0000,9,-999.0000,9,-999.0000,9,-999.0000,9,-999.0000, -999.00
33RR20050106,       P16S,      48,          1,         33,         33,2,20050123,       1621,   -39.5000,  -150.0000,       5379,   137.7,   9.8828,  34.4245,2,  34.4471,3,    248.5,2,   245.4,2,    1.57,2,   11.96,2,    0.18,2,    0.92,2,   3.296,2,   2.103,2,   0.293,2,  2103.7,2,  2278.2,2,-999.000,9,-999.0000,9, -999.00,9, -999.00,9,  -999.0,9,  -999.0,-999.000,9,-999.000,-999.0000,9,   137.7,-999.000,   9.8671,     -999.0,9,     -999.0,9,     -999.0,9,     -999.0,9,     -999.0,9,     -999.0,9,     -999.0,9, -999.00,9,-999.0000,9,-999.0000,9,-999.0000,9,-999.0000,9,-999.0000,9,-999.0000,9,-999.0000, -999.00
33RR20050106,       P16S,      48,          1,         32,         32,2,20050123,       1621,   -39.5000,  -150.0000,       5379,   187.8,   8.7691,  34.4735,2,  34.4732,2,    232.7,2,   238.8,2,    2.96,2,   16.22,2,    0.01,2,    1.16,2,   3.388,2,   2.081,2,   0.258,2,  2124.4,2,  2280.2,2,-999.000,9,-999.0000,9, -999.00,9, -999.00,9,  -999.0,9,  -999.0,-999.000,9,-999.000,-999.0000,9,   187.8,-999.000,   8.7492,     -999.0,9,     -999.0,9,     -999.0,9,     -999.0,9,     -999.0,9,     -999.0,9,     -999.0,9, -999.00,9,-999.0000,9,-999.0000,9,-999.0000,9,-999.0000,9,-999.0000,9,-999.0000,9,-999.0000, -999.00
33RR20050106,       P16S,      48,          1,         31,         31,2,20050123,       1621,   -39.5000,  -150.0000,       5379,   238.5,   8.1404,  34.4631,2,  34.4644,2,    237.4,2,   246.7,2,    3.77,2,   17.46,2,    0.00,2,    1.23,2,   3.531,2,   2.146,2,   0.275,2,  2129.6,2,  2280.6,2,-999.000,9,-999.0000,9, -999.00,9, -999.00,9,  -999.0,9,  -999.0,-999.000,9,-999.000,-999.0000,9,   238.5,-999.000,   8.1161,     -999.0,9,     -999.0,9,     -999.0,9,     -999.0,9,     -999.0,9,     -999.0,9,     -999.0,9, -999.00,9,-999.0000,9,-999.0000,9,-999.0000,9,-999.0000,9,-999.0000,9,-999.0000,9,-999.0000, -999.00
33RR20050106,       P16S,      48,          1,         30,         30,2,20050123,       1621,   -39.5000,  -150.0000,       5379,   292.9,   7.7738,  34.4476,2,  34.4479,2,    244.5,2,   252.2,2,    4.57,2,   18.47,2,    0.00,2,    1.30,2,-999.000,9,-999.000,9,-999.000,9,  2129.2,2,  2281.0,2,-999.000,9,-999.0000,9, -999.00,9, -999.00,9,  -999.0,9,  -999.0,-999.000,9,-999.000,-999.0000,9,   292.9,-999.000,   7.7447,     -999.0,9,     -999.0,9,     -999.0,9,     -999.0,9,     -999.0,9,     -999.0,9,     -999.0,9, -999.00,9,-999.0000,9,-999.0000,9,-999.0000,9,-999.0000,9,-999.0000,9,-999.0000,9,-999.0000, -999.00
33RR20050106,       P16S,      48,          1,         29,         29,2,20050123,       1621,   -39.5000,  -150.0000,       5379,   343.8,   7.5514,  34.4320,2,  34.4326,2,    247.9,2,   252.3,2,    5.17,2,   19.28,2,    0.00,2,    1.34,2,   3.624,2,   2.158,2,   0.272,2,  2134.0,2,  2280.8,2,-999.000,9,-999.0000,9, -999.00,9, -999.00,9,  -999.0,9,  -999.0,-999.000,9,-999.000,-999.0000,9,   343.8,-999.000,   7.5177,     -999.0,9,     -999.0,9,     -999.0,9,     -999.0,9,     -999.0,9,     -999.0,9,     -999.0,9, -999.00,9,-999.0000,9,-999.0000,9,-999.0000,9,-999.0000,9,-999.0000,9,-999.0000,9,-999.0000, -999.00
33RR20050106,       P16S,      48,          1,         28,         28,2,20050123,       1621,   -39.5000,  -150.0000,       5379,   394.3,   7.3521,  34.4148,2,  34.4155,2,    249.4,2,   250.4,2,    5.57,2,   20.08,2,    0.00,2,    1.39,2,-999.000,9,-999.000,9,-999.000,9,  2135.3,2,  2280.3,2,-999.000,9,-999.0000,9, -999.00,9, -999.00,9,  -999.0,9,  -999.0,-999.000,9,-999.000,-999.0000,9,   394.3,-999.000,   7.3139,     -999.0,9,     -999.0,9,     -999.0,9,     -999.0,9,     -999.0,9,     -999.0,9,     -999.0,9, -999.00,9,-999.0000,9,-999.0000,9,-999.0000,9,-999.0000,9,-999.0000,9,-999.0000,9,-999.0000, -999.00
33RR20050106,       P16S,      48,          1,         27,         27,2,20050123,       1621,   -39.5000,  -150.0000,       5379,   444.7,   7.1773,  34.4005,2,  34.4002,2,    247.6,2,   248.9,2,    6.16,2,   20.87,2,    0.00,2,    1.45,2,   3.409,6,   2.061,6,   0.251,6,  2137.3,2,  2279.8,2,-999.000,9,-999.0000,9, -999.00,9, -999.00,9,  -999.0,9,  -999.0,-999.000,9,-999.000,-999.0000,9,   444.7,-999.000,   7.1347,     -999.0,9,     -999.0,9,     -999.0,9,     -999.0,9,     -999.0,9,     -999.0,9,     -999.0,9, -999.00,9,-999.0000,9,-999.0000,9,-999.0000,9,-999.0000,9,-999.0000,9,-999.0000,9,-999.0000, -999.00
33RR20050106,       P16S,      48,          1,         26,         26,2,20050123,       1621,   -39.5000,  -150.0000,       5379,   494.5,   7.0296,  34.3881,2,  34.3890,2,    247.0,2,   248.8,2,    6.56,2,   21.30,2,    0.00,2,    1.47,2,   3.766,2,   1.984,2,   0.258,2,  2138.9,2,  2279.0,2,-999.000,9,-999.0000,9, -999.00,9, -999.00,9,  -999.0,9,  -999.0,-999.000,9,-999.000,-999.0000,9,   494.5,-999.000,   6.9826,     -999.0,9,     -999.0,9,     -999.0,9,     -999.0,9,     -999.0,9,     -999.0,9,     -999.0,9, -999.00,9,-999.0000,9,-999.0000,9,-999.0000,9,-999.0000,9,-999.0000,9,-999.0000,9,-999.0000, -999.00
33RR20050106,       P16S,      48,          1,         25,         25,2,20050123,       1621,   -39.5000,  -150.0000,       5379,   579.5,   6.7976,  34.3721,2,  34.3743,2,    247.8,2,   247.2,2,    7.56,2,   22.06,2,    0.00,2,    1.52,2,   3.438,2,   1.793,2,   0.210,2,  2140.4,2,  2279.7,2,-999.000,9,-999.0000,9, -999.00,9, -999.00,9,  -999.0,9,  -999.0,-999.000,9,-999.000,-999.0000,9,   579.5,-999.000,   6.7433,     -999.0,9,     -999.0,9,     -999.0,9,     -999.0,9,     -999.0,9,     -999.0,9,     -999.0,9, -999.00,9,-999.0000,9,-999.0000,9,-999.0000,9,-999.0000,9,-999.0000,9,-999.0000,9,-999.0000, -999.00
33RR20050106,       P16S,      48,          1,         24,         24,2,20050123,       1621,   -39.5000,  -150.0000,       5379,   680.9,   6.3918,  34.3454,2,  34.3462,2,    240.5,2,   239.3,2,    9.97,2,   23.88,2,    0.00,2,    1.63,2,   2.875,2,   1.456,2,   0.137,2,  2147.5,2,  2279.3,2,-999.000,9,-999.0000,9, -999.00,9, -999.00,9,  -999.0,9,  -999.0,-999.000,9,-999.000,-999.0000,9,   680.9,-999.000,   6.3296,     -999.0,9,     -999.0,9,     -999.0,9,     -999.0,9,     -999.0,9,     -999.0,9,     -999.0,9, -999.00,9,-999.0000,9,-999.0000,9,-999.0000,9,-999.0000,9,-999.0000,9,-999.0000,9,-999.0000, -999.00
33RR20050106,       P16S,      48,          1,         23,         23,2,20050123,       1621,   -39.5000,  -150.0000,       5379,   781.5,   5.9550,  34.3277,2,  34.3297,2,    230.4,2,   228.4,2,   13.39,2,   25.65,2,    0.00,2,    1.76,2,   2.307,2,   1.179,2,   0.090,2,  2158.3,2,  2282.4,2,-999.000,9,-999.0000,9, -999.00,9, -999.00,9,  -999.0,9,  -999.0,-999.000,9,-999.000,-999.0000,9,   781.5,-999.000,   5.8857,     -999.0,9,     -999.0,9,     -999.0,9,     -999.0,9,     -999.0,9,     -999.0,9,     -999.0,9, -999.00,9,-999.0000,9,-999.0000,9,-999.0000,9,-999.0000,9,-999.0000,9,-999.0000,9,-999.0000, -999.00
33RR20050106,       P16S,      48,          1,         22,         22,2,20050123,       1621,   -39.5000,  -150.0000,       5379,   882.4,   5.3739,  34.3225,2,  34.3233,2,    216.2,2,   214.9,2,   19.63,2,   28.02,2,    0.00,2,    1.93,2,   1.629,2,   0.806,2,   0.068,2,  2172.0,2,  2286.8,2,-999.000,9,-999.0000,9, -999.00,9, -999.00,9,  -999.0,9,  -999.0,-999.000,9,-999.000,-999.0000,9,   882.4,-999.000,   5.2989,     -999.0,9,     -999.0,9,     -999.0,9,     -999.0,9,     -999.0,9,     -999.0,9,     -999.0,9, -999.00,9,-999.0000,9,-999.0000,9,-999.0000,9,-999.0000,9,-999.0000,9,-999.0000,9,-999.0000, -999.00
33RR20050106,       P16S,      48,          1,         21,         21,2,20050123,       1621,   -39.5000,  -150.0000,       5379,   983.2,   4.8186,  34.3273,2,  34.3295,2,    206.8,2,   206.1,2,   26.50,2,   29.81,2,    0.00,2,    2.05,2,   1.204,2,   0.609,2,   0.041,2,  2186.0,2,  2292.2,2,-999.000,9,-999.0000,9, -999.00,9, -999.00,9,  -999.0,9,  -999.0,-999.000,9,-999.000,-999.0000,9,   983.2,-999.000,   4.7384,     -999.0,9,     -999.0,9,     -999.0,9,     -999.0,9,     -999.0,9,     -999.0,9,     -999.0,9, -999.00,9,-999.0000,9,-999.0000,9,-999.0000,9,-999.0000,9,-999.0000,9,-999.0000,9,-999.0000, -999.00
33RR20050106,       P16S,      48,          1,         20,         20,2,20050123,       1621,   -39.5000,  -150.0000,       5379,  1084.2,   4.2127,  34.3418,2,  34.3437,2,    198.7,2,   198.4,2,   35.00,2,   31.42,2,    0.00,2,    2.17,2,-999.000,9,-999.000,9,-999.000,9,  2199.8,2,  2299.6,2,-999.000,9,-999.0000,9, -999.00,9, -999.00,9,  -999.0,9,  -999.0,-999.000,9,-999.000,-999.0000,9,  1084.2,-999.000,   4.1285,     -999.0,9,     -999.0,9,     -999.0,9,     -999.0,9,     -999.0,9,     -999.0,9,     -999.0,9, -999.00,9,-999.0000,9,-999.0000,9,-999.0000,9,-999.0000,9,-999.0000,9,-999.0000,9,-999.0000, -999.00
33RR20050106,       P16S,      48,          1,         19,         19,2,20050123,       1621,   -39.5000,  -150.0000,       5379,  1184.8,   3.7171,  34.3682,2,  34.3690,2,    191.1,2,   191.0,2,   43.33,2,   32.61,2,    0.00,2,    2.26,2,   0.529,2,   0.268,2,   0.013,2,  2213.2,2,  2306.5,2,-999.000,9,-999.0000,9, -999.00,9, -999.00,9,  -999.0,9,  -999.0,-999.000,9,-999.000,-999.0000,9,  1184.8,-999.000,   3.6286,     -999.0,9,     -999.0,9,     -999.0,9,     -999.0,9,     -999.0,9,     -999.0,9,     -999.0,9, -999.00,9,-999.0000,9,-999.0000,9,-999.0000,9,-999.0000,9,-999.0000,9,-999.0000,9,-999.0000, -999.00
33RR20050106,       P16S,      48,          1,         18,         18,2,20050123,       1621,   -39.5000,  -150.0000,       5379,  1285.8,   3.3474,  34.4087,2,  34.4104,2,    183.2,2,   183.1,2,   52.48,2,   33.48,2,    0.00,2,    2.34,2,-999.000,9,-999.000,9,-999.000,9,  2227.5,6,  2317.1,2,-999.000,9,-999.0000,9, -999.00,9, -999.00,9,  -999.0,9,  -999.0,-999.000,9,-999.000,-999.0000,9,  1285.8,-999.000,   3.2540,     -999.0,9,     -999.0,9,     -999.0,9,     -999.0,9,     -999.0,9,     -999.0,9,     -999.0,9, -999.00,9,-999.0000,9,-999.0000,9,-999.0000,9,-999.0000,9,-999.0000,9,-999.0000,9,-999.0000, -999.00
33RR20050106,       P16S,      48,          1,         17,         17,2,20050123,       1621,   -39.5000,  -150.0000,       5379,  1386.9,   3.0950,  34.4586,2,  34.4597,2,    175.9,2,   174.8,2,   61.88,2,   33.97,2,    0.00,2,    2.38,2,   0.152,2,   0.072,2,   0.002,2,  -999.0,9,  -999.0,9,-999.000,9,-999.0000,9, -999.00,9, -999.00,9,  -999.0,9,  -999.0,-999.000,9,-999.000,-999.0000,9,  1386.9,-999.000,   2.9957,     -999.0,9,     -999.0,9,     -999.0,9,     -999.0,9,     -999.0,9,     -999.0,9,     -999.0,9, -999.00,9,-999.0000,9,-999.0000,9,-999.0000,9,-999.0000,9,-999.0000,9,-999.0000,9,-999.0000, -999.00
33RR20050106,       P16S,      48,          1,         16,         16,2,20050123,       1621,   -39.5000,  -150.0000,       5379,  1488.2,   2.9130,  34.5052,2,  34.5076,3,    168.8,2,   168.0,2,   71.28,2,   34.29,2,    0.00,2,    2.41,2,-999.000,9,-999.000,9,-999.000,9,  -999.0,9,  -999.0,9,-999.000,9,-999.0000,9, -999.00,9, -999.00,9,  -999.0,9,  -999.0,-999.000,9,-999.000,-999.0000,9,  1488.2,-999.000,   2.8073,     -999.0,9,     -999.0,9,     -999.0,9,     -999.0,9,     -999.0,9,     -999.0,9,     -999.0,9, -999.00,9,-999.0000,9,-999.0000,9,-999.0000,9,-999.0000,9,-999.0000,9,-999.0000,9,-999.0000, -999.00
33RR20050106,       P16S,      48,          1,         15,         15,2,20050123,       1621,   -39.5000,  -150.0000,       5379,  1589.1,   2.7925,  34.5456,2,  34.5459,2,    162.4,2,   162.1,2,   81.11,2,   34.55,2,    0.00,2,    2.43,2,   0.032,2,   0.028,2,   0.002,2,  -999.0,9,  -999.0,9,-999.000,9,-999.0000,9, -999.00,9, -999.00,9,  -999.0,9,  -999.0,-999.000,9,-999.000,-999.0000,9,  1589.1,-999.000,   2.6798,     -999.0,9,     -999.0,9,     -999.0,9,     -999.0,9,     -999.0,9,     -999.0,9,     -999.0,9, -999.00,9,-999.0000,9,-999.0000,9,-999.0000,9,-999.0000,9,-999.0000,9,-999.0000,9,-999.0000, -999.00
33RR20050106,       P16S,      48,          1,         14,         14,2,20050123,       1621,   -39.5000,  -150.0000,       5379,  1791.8,   2.5606,  34.5916,2,  34.5926,2,    155.0,2,   155.6,2,   94.89,2,   34.94,2,    0.00,2,    2.47,2,   0.040,2,   0.018,2,   0.002,2,  -999.0,9,  -999.0,9,-999.000,9,-999.0000,9, -999.00,9, -999.00,9,  -999.0,9,  -999.0,-999.000,9,-999.000,-999.0000,9,  1791.8,-999.000,   2.4337,     -999.0,9,     -999.0,9,     -999.0,9,     -999.0,9,     -999.0,9,     -999.0,9,     -999.0,9, -999.00,9,-999.0000,9,-999.0000,9,-999.0000,9,-999.0000,9,-999.0000,9,-999.0000,9,-999.0000, -999.00
33RR20050106,       P16S,      48,          1,         13,         13,2,20050123,       1621,   -39.5000,  -150.0000,       5379,  1993.6,   2.3696,  34.6187,2,  34.6197,2,    152.0,2,   152.1,2,  104.98,2,   35.26,2,    0.00,2,    2.48,2,   0.003,2,  -0.002,2,   0.002,2,  -999.0,9,  -999.0,9,-999.000,9,-999.0000,9, -999.00,9, -999.00,9,  -999.0,9,  -999.0,-999.000,9,-999.000,-999.0000,9,  1993.6,-999.000,   2.2281,     -999.0,9,     -999.0,9,     -999.0,9,     -999.0,9,     -999.0,9,     -999.0,9,     -999.0,9, -999.00,9,-999.0000,9,-999.0000,9,-999.0000,9,-999.0000,9,-999.0000,9,-999.0000,9,-999.0000, -999.00
33RR20050106,       P16S,      48,          1,         12,         12,2,20050123,       1621,   -39.5000,  -150.0000,       5379,  2197.4,   2.2325,  34.6344,2,  34.6354,2,    150.4,2,   150.8,2,  111.78,2,   35.42,2,    0.00,2,    2.49,2,   0.001,2,  -0.002,2,   0.002,2,  -999.0,9,  -999.0,9,-999.000,9,-999.0000,9, -999.00,9, -999.00,9,  -999.0,9,  -999.0,-999.000,9,-999.000,-999.0000,9,  2197.4,-999.000,   2.0753,     -999.0,9,     -999.0,9,     -999.0,9,     -999.0,9,     -999.0,9,     -999.0,9,     -999.0,9, -999.00,9,-999.0000,9,-999.0000,9,-999.0000,9,-999.0000,9,-999.0000,9,-999.0000,9,-999.0000, -999.00
33RR20050106,       P16S,      48,          1,         11,         11,2,20050123,       1621,   -39.5000,  -150.0000,       5379,  2450.8,   2.0921,  34.6488,2,  34.6496,2,    150.0,2,   150.4,2,  117.77,2,   35.46,2,    0.00,2,    2.50,2,-999.000,9,-999.000,9,-999.000,9,  -999.0,9,  -999.0,9,-999.000,9,-999.0000,9, -999.00,9, -999.00,9,  -999.0,9,  -999.0,-999.000,9,-999.000,-999.0000,9,  2450.8,-999.000,   1.9146,     -999.0,9,     -999.0,9,     -999.0,9,     -999.0,9,     -999.0,9,     -999.0,9,     -999.0,9, -999.00,9,-999.0000,9,-999.0000,9,-999.0000,9,-999.0000,9,-999.0000,9,-999.0000,9,-999.0000, -999.00
33RR20050106,       P16S,      48,          1,         10,         10,2,20050123,       1621,   -39.5000,  -150.0000,       5379,  2705.1,   1.9590,  34.6599,2,  34.6614,2,    150.0,2,   150.6,2,  123.14,2,   35.51,2,    0.00,2,    2.50,2,   0.007,2,  -0.002,2,   0.002,2,  -999.0,9,  -999.0,9,-999.000,9,-999.0000,9, -999.00,9, -999.00,9,  -999.0,9,  -999.0,-999.000,9,-999.000,-999.0000,9,  2705.1,-999.000,   1.7605,     -999.0,9,     -999.0,9,     -999.0,9,     -999.0,9,     -999.0,9,     -999.0,9,     -999.0,9, -999.00,9,-999.0000,9,-999.0000,9,-999.0000,9,-999.0000,9,-999.0000,9,-999.0000,9,-999.0000, -999.00
33RR20050106,       P16S,      48,          1,          9,          9,2,20050123,       1621,   -39.5000,  -150.0000,       5379,  2959.1,   1.8585,  34.6712,2,  34.6724,2,    153.2,2,   154.5,2,  124.99,2,   35.30,2,    0.00,2,    2.48,2,   0.008,2,  -0.002,2,   0.002,2,  -999.0,9,  -999.0,9,-999.000,9,-999.0000,9, -999.00,9, -999.00,9,  -999.0,9,  -999.0,-999.000,9,-999.000,-999.0000,9,  2959.1,-999.000,   1.6378,     -999.0,9,     -999.0,9,     -999.0,9,     -999.0,9,     -999.0,9,     -999.0,9,     -999.0,9, -999.00,9,-999.0000,9,-999.0000,9,-999.0000,9,-999.0000,9,-999.0000,9,-999.0000,9,-999.0000, -999.00
33RR20050106,       P16S,      48,          1,          8,          8,2,20050123,       1621,   -39.5000,  -150.0000,       5379,  3295.6,   1.7456,  34.6921,2,  34.6930,2,    167.5,2,   167.5,2,  119.61,2,   34.03,2,    0.00,2,    2.39,2,-999.000,9,-999.000,9,-999.000,9,  -999.0,9,  -999.0,9,-999.000,9,-999.0000,9, -999.00,9, -999.00,9,  -999.0,9,  -999.0,-999.000,9,-999.000,-999.0000,9,  3295.6,-999.000,   1.4941,     -999.0,9,     -999.0,9,     -999.0,9,     -999.0,9,     -999.0,9,     -999.0,9,     -999.0,9, -999.00,9,-999.0000,9,-999.0000,9,-999.0000,9,-999.0000,9,-999.0000,9,-999.0000,9,-999.0000, -999.00
33RR20050106,       P16S,      48,          1,          7,          7,2,20050123,       1621,   -39.5000,  -150.0000,       5379,  3601.4,   1.6211,  34.7130,2,  34.7140,2,    182.0,3,   184.6,2,  111.54,2,   32.62,2,    0.00,2,    2.27,2,   0.010,2,  -0.002,2,   0.002,2,  -999.0,9,  -999.0,9,-999.000,9,-999.0000,9, -999.00,9, -999.00,9,  -999.0,9,  -999.0,-999.000,9,-999.000,-999.0000,9,  3601.4,-999.000,   1.3412,     -999.0,9,     -999.0,9,     -999.0,9,     -999.0,9,     -999.0,9,     -999.0,9,     -999.0,9, -999.00,9,-999.0000,9,-999.0000,9,-999.0000,9,-999.0000,9,-999.0000,9,-999.0000,9,-999.0000, -999.00