BOTTLE,20201109CCHSIOCBG
EXPOCODE,SECT_ID,STNNBR,CASTNO,SAMPNO,BTLNBR,BTLNBR_FLAG_W,DATE,TIME,LATITUDE,LONGITUDE,DEPTH,CTDPRS,CTDTMP,CTDSAL,CTDSAL_FLAG_W,SALNTY,SALNTY_FLAG_W,CTDOXY,CTDOXY_FLAG_W,OXYGEN,OXYGEN_FLAG_W,SILCAT,SILCAT_FLAG_W,NITRAT,NITRAT_FLAG_W,NITRIT,NITRIT_FLAG_W,PHSPHT,PHSPHT_FLAG_W,CFC-11,CFC-11_FLAG_W,CFC-12,CFC-12_FLAG_W,CFC113,CFC113_FLAG_W,TCARBN,TCARBN_FLAG_W,ALKALI,ALKALI_FLAG_W,TRITUM,TRITUM_FLAG_W,HELIUM,HELIUM_FLAG_W,DELHE3,DELHE3_FLAG_W,DELC13,DELC13_FLAG_W,DELC14,DELC14_FLAG_W,C14ERR,NEON,NEON_FLAG_W,NEONER,DOC,DOC_FLAG_W,CTDRAW,TRITER,THETA,FUCO,FUCO_FLAG_W,RHAM,RHAM_FLAG_W,ARABA,ARABA_FLAG_W,GALA,GALA_FLAG_W,GLUC,GLUC_FLAG_W,MAN,MAN_FLAG_W,DCNS,DCNS_FLAG_W,BRDU,BRDU_FLAG_W,CDOM325,CDOM325_FLAG_W,CDOM340,CDOM340_FLAG_W,CDOM380,CDOM380_FLAG_W,CDOM412,CDOM412_FLAG_W,CDOMSL,CDOMSL_FLAG_W,CDOMSN,CDOMSN_FLAG_W,HELIER,DELHER
,,,,,,,,,,,METERS,DBAR,ITS-90,PSS-78,,PSS-78,,UMOL/KG,,UMOL/KG,,UMOL/KG,,UMOL/KG,,UMOL/KG,,UMOL/KG,,PMOL/KG,,PMOL/KG,,PMOL/KG,,UMOL/KG,,UMOL/KG,,TU,,NMOL/KG,,PERCNT,,/MILLE,,/MILLE,,/MILLE,NMOL/KG,,NMOL/KG,UMOL/KG,,DBAR,TU,DEG C,NMOL/KG,,NMOL/KG,,NMOL/KG,,NMOL/KG,,NMOL/KG,,NMOL/KG,,NMOL/KG,,PMOL/L/H,,1/M,,1/M,,1/M,,1/M,,1/NM,,1/NM,,NMOL/KG,PERCNT
33RR20050106,       P16S,       5,          1,         33,         33,2,20050111,       1314,   -18.0000,  -150.0000,       3351,     5.6,  28.3816,  36.0946,2,  36.0956,2,    196.4,3,   196.0,2,    0.51,2,    0.00,2,    0.00,2,    0.17,2,   1.565,2,   0.981,2,   0.103,2,  2010.0,6,  2369.8,6,-999.000,9,-999.0000,9, -999.00,9, -999.00,9,  -999.0,9,  -999.0,-999.000,9,-999.000,  71.2170,2,     5.6,-999.000,  28.3803,        529,2,        258,2,        100,2,        871,2,        537,2,        936,2,       3232,2,    0.14,2,   0.0030,3,   0.0130,2,   0.0110,2,   0.0080,2,-999.0000,9,-999.0000,9,-999.0000, -999.00
33RR20050106,       P16S,       5,          1,         32,         32,2,20050111,       1314,   -18.0000,  -150.0000,       3351,    40.1,  26.7249,  36.0106,2,  36.0117,2,    208.3,3,   208.2,2,    0.30,2,    0.00,2,    0.00,2,    0.14,2,-999.000,9,-999.000,9,-999.000,9,  2006.3,2,  2366.6,2,-999.000,9,-999.0000,9, -999.00,9, -999.00,9,  -999.0,9,  -999.0,-999.000,9,-999.000,  72.2314,2,    40.1,-999.000,  26.7157,        451,2,        279,2,        229,2,        782,2,        500,2,        729,2,       2968,2,    0.19,2,   0.0090,3,   0.0170,2,   0.0140,2,   0.0100,2,-999.0000,9,-999.0000,9,-999.0000, -999.00
33RR20050106,       P16S,       5,          1,         31,         31,2,20050111,       1314,   -18.0000,  -150.0000,       3351,    74.8,  25.3500,  35.9467,2,  35.9457,2,    201.5,3,   204.2,2,    0.31,2,    0.00,2,    0.00,2,    0.16,2,   1.764,2,   1.129,2,   0.123,2,  2013.7,2,  2361.6,2,-999.000,9,-999.0000,9, -999.00,9, -999.00,9,  -999.0,9,  -999.0,-999.000,9,-999.000,  68.2397,2,    74.8,-999.000,  25.3336,        380,2,        222,2,        197,2,        626,2,        464,2,        766,2,       2656,2,    0.14,2,   0.0290,2,   0.0310,2,   0.0200,2,   0.0150,2,-999.0000,9,-999.0000,9,-999.0000, -999.00
33RR20050106,       P16S,       5,          1,         30,         30,2,20050111,       1314,   -18.0000,  -150.0000,       3351,   124.6,  24.0134,  35.8851,2,  35.8967,2,    189.2,3,   190.2,2,    0.32,2,    0.20,2,    0.06,2,    0.22,2,   1.892,2,   1.147,2,   0.102,2,  2037.5,2,  2358.2,2,-999.000,9,-999.0000,9, -999.00,9, -999.00,9,  -999.0,9,  -999.0,-999.000,9,-999.000,  59.7698,2,   124.6,-999.000,  23.9871,        186,2,        138,2,        112,2,        291,2,        256,2,        358,2,       1342,2,    0.05,2,   0.0510,2,   0.0490,2,   0.0320,2,   0.0250,2,   0.0090,2,   0.0084,2,-999.0000, -999.00
33RR20050106,       P16S,       5,          1,         29,         29,2,20050111,       1314,   -18.0000,  -150.0000,       3351,   174.7,  22.1124,  35.8786,2,  35.8648,2,    173.9,3,   173.1,2,    0.54,2,    2.57,2,    0.02,2,    0.37,2,   2.055,2,   1.239,2,   0.063,2,  2073.3,2,  2353.2,2,-999.000,9,-999.0000,9, -999.00,9, -999.00,9,  -999.0,9,  -999.0,-999.000,9,-999.000,  52.5966,2,   174.7,-999.000,  22.0776,         85,2,         56,2,         53,2,        129,2,        124,2,        134,2,        580,2,    0.09,2,   0.0620,2,   0.0590,2,   0.0380,2,   0.0310,2,   0.0089,2,   0.0089,2,-999.0000, -999.00
33RR20050106,       P16S,       5,          1,         28,         28,2,20050111,       1314,   -18.0000,  -150.0000,       3351,   224.5,  20.2048,  35.7108,2,  35.7122,2,    178.7,3,   176.6,2,    0.55,2,    3.41,2,    0.01,2,    0.41,2,-999.000,9,-999.000,9,-999.000,9,  2078.2,2,  2342.2,2,-999.000,9,-999.0000,9, -999.00,9, -999.00,9,  -999.0,9,  -999.0,-999.000,9,-999.000,  49.9257,2,   224.5,-999.000,  20.1628,     -999.0,9,     -999.0,9,     -999.0,9,     -999.0,9,     -999.0,9,     -999.0,9,     -999.0,9,    0.06,2,   0.0500,2,   0.0510,2,   0.0340,2,   0.0270,2,   0.0080,2,   0.0076,2,-999.0000, -999.00
33RR20050106,       P16S,       5,          1,         27,         27,2,20050111,       1314,   -18.0000,  -150.0000,       3351,   274.6,  18.2135,  35.4942,2,  35.5018,2,    190.1,3,   190.8,2,    0.56,2,    3.20,2,    0.01,2,    0.37,2,   2.353,2,   1.359,2,   0.018,2,  2073.9,2,  2327.1,2,-999.000,9,-999.0000,9, -999.00,9, -999.00,9,  -999.0,9,  -999.0,-999.000,9,-999.000,  48.7102,2,   274.6,-999.000,  18.1657,         54,2,         36,2,         38,2,         90,2,        102,2,        112,2,        431,2,    0.02,2,   0.0490,2,   0.0470,2,   0.0310,2,   0.0240,2,   0.0088,2,   0.0082,2,-999.0000, -999.00
33RR20050106,       P16S,       5,          1,         26,         26,2,20050111,       1314,   -18.0000,  -150.0000,       3351,   324.3,  16.1836,  35.2922,2,  35.2890,2,    190.3,3,   192.6,2,    1.19,2,    5.60,2,    0.00,2,    0.52,2,-999.000,9,-999.000,9,-999.000,9,  2086.2,2,  2312.6,2,-999.000,9,-999.0000,9, -999.00,9, -999.00,9,  -999.0,9,  -999.0,-999.000,9,-999.000,  46.5164,2,   324.3,-999.000,  16.1316,     -999.0,9,     -999.0,9,     -999.0,9,     -999.0,9,     -999.0,9,     -999.0,9,     -999.0,9,    0.03,2,   0.0410,2,   0.0420,2,   0.0280,2,   0.0220,2,   0.0061,2,   0.0057,2,-999.0000, -999.00
33RR20050106,       P16S,       5,          1,         25,         25,2,20050111,       1314,   -18.0000,  -150.0000,       3351,   374.2,  13.8611,  34.9874,2,  34.9982,2,    190.2,3,   184.9,2,    2.89,2,   10.07,2,    0.00,2,    0.83,2,   2.294,2,   1.249,2,   0.015,2,  2105.7,2,  2300.4,2,-999.000,9,-999.0000,9, -999.00,9, -999.00,9,  -999.0,9,  -999.0,-999.000,9,-999.000,  45.9060,2,   374.2,-999.000,  13.8070,     -999.0,9,     -999.0,9,     -999.0,9,     -999.0,9,     -999.0,9,     -999.0,9,     -999.0,9, -999.00,9,-999.0000,9,-999.0000,9,-999.0000,9,-999.0000,9,-999.0000,9,-999.0000,9,-999.0000, -999.00
33RR20050106,       P16S,       5,          1,         24,         24,2,20050111,       1314,   -18.0000,  -150.0000,       3351,   424.8,  11.0992,  34.6914,2,  34.6819,2,    183.8,3,   164.3,2,    7.54,2,   18.15,2,    0.00,2,    1.40,2,-999.000,9,-999.000,9,-999.000,9,  2144.2,6,  2287.1,2,-999.000,9,-999.0000,9, -999.00,9, -999.00,9,  -999.0,9,  -999.0,-999.000,9,-999.000,  42.9285,2,   424.8,-999.000,  11.0462,     -999.0,9,     -999.0,9,     -999.0,9,     -999.0,9,     -999.0,9,     -999.0,9,     -999.0,9, -999.00,9,   0.0610,2,   0.0550,2,   0.0360,2,   0.0280,2,   0.0095,2,   0.0094,2,-999.0000, -999.00
33RR20050106,       P16S,       5,          1,         23,         23,2,20050111,       1314,   -18.0000,  -150.0000,       3351,   474.8,   8.8393,  34.5024,2,  34.5026,2,    192.1,3,   169.5,2,   10.29,2,   22.94,2,    0.00,2,    1.69,2,   1.430,6,   0.774,6,   0.015,6,  2153.0,2,  2281.7,2,-999.000,9,-999.0000,9, -999.00,9, -999.00,9,  -999.0,9,  -999.0,-999.000,9,-999.000,  41.8489,2,   474.8,-999.000,   8.7878,     -999.0,9,     -999.0,9,     -999.0,9,     -999.0,9,     -999.0,9,     -999.0,9,     -999.0,9,    0.00,4,   0.0620,2,   0.0540,2,   0.0360,2,   0.0280,2,   0.0096,2,   0.0096,2,-999.0000, -999.00
33RR20050106,       P16S,       5,          1,         22,         22,2,20050111,       1314,   -18.0000,  -150.0000,       3351,   524.9,   7.4060,  34.3970,2,  34.3968,2,    194.1,3,   194.0,2,   10.30,2,   24.64,2,    0.00,2,    1.76,2,-999.000,9,-999.000,9,-999.000,9,  2158.3,2,  2277.9,2,-999.000,9,-999.0000,9, -999.00,9, -999.00,9,  -999.0,9,  -999.0,-999.000,9,-999.000,  40.6920,2,   524.9,-999.000,   7.3545,     -999.0,9,     -999.0,9,     -999.0,9,     -999.0,9,     -999.0,9,     -999.0,9,     -999.0,9, -999.00,9,   0.0560,2,   0.0500,2,   0.0340,2,   0.0270,2,   0.0093,2,   0.0092,2,-999.0000, -999.00
33RR20050106,       P16S,       5,          1,         21,         21,2,20050111,       1314,   -18.0000,  -150.0000,       3351,   645.3,   5.9072,  34.3893,2,  34.3905,2,    171.9,3,   171.3,2,   25.33,2,   30.22,2,    0.00,2,    2.13,2,   0.491,2,   0.298,2,   0.008,2,  2191.5,2,  2291.1,2,-999.000,9,-999.0000,9, -999.00,9, -999.00,9,  -999.0,9,  -999.0,-999.000,9,-999.000,  41.2864,2,   645.3,-999.000,   5.8507,     -999.0,9,     -999.0,9,     -999.0,9,     -999.0,9,     -999.0,9,     -999.0,9,     -999.0,9, -999.00,9,   0.0700,2,   0.0610,2,   0.0390,2,   0.0300,2,   0.0108,2,   0.0107,2,-999.0000, -999.00
33RR20050106,       P16S,       5,          1,         20,         20,2,20050111,       1314,   -18.0000,  -150.0000,       3351,   745.2,   5.1138,  34.4153,2,  34.4152,2,    159.1,3,   158.1,2,   39.16,2,   32.89,2,    0.00,2,    2.32,2,-999.000,9,-999.000,9,-999.000,9,  2215.7,2,  2304.2,2,-999.000,9,-999.0000,9, -999.00,9, -999.00,9,  -999.0,9,  -999.0,-999.000,9,-999.000,  43.9472,3,   745.2,-999.000,   5.0525,     -999.0,9,     -999.0,9,     -999.0,9,     -999.0,9,     -999.0,9,     -999.0,9,     -999.0,9, -999.00,9,   0.0740,2,   0.0620,2,   0.0410,2,   0.0320,2,   0.0099,2,   0.0102,2,-999.0000, -999.00
33RR20050106,       P16S,       5,          1,         19,         19,2,20050111,       1314,   -18.0000,  -150.0000,       3351,   845.5,   4.4954,  34.4673,2,  34.4678,2,    149.5,3,   146.3,2,   55.62,2,   34.54,2,    0.00,2,    2.44,2,   0.051,2,   0.047,2,   0.000,2,  2237.8,2,  2322.3,2,-999.000,9,-999.0000,9, -999.00,9, -999.00,9,  -999.0,9,  -999.0,-999.000,9,-999.000,  38.7782,2,   845.5,-999.000,   4.4292,     -999.0,9,     -999.0,9,     -999.0,9,     -999.0,9,     -999.0,9,     -999.0,9,     -999.0,9, -999.00,9,   0.0790,2,   0.0650,2,   0.0420,2,   0.0320,2,   0.0104,2,   0.0108,2,-999.0000, -999.00
33RR20050106,       P16S,       5,          1,         18,         18,2,20050111,       1314,   -18.0000,  -150.0000,       3351,   946.4,   4.0623,  34.4854,2,  34.4851,2,    146.2,3,   147.3,2,   63.77,2,   34.81,2,    0.00,2,    2.46,2,-999.000,9,-999.000,9,-999.000,9,  2246.7,2,  2330.2,6,-999.000,9,-999.0000,9, -999.00,9, -999.00,9,  -999.0,9,  -999.0,-999.000,9,-999.000,-999.0000,9,   946.4,-999.000,   3.9906,     -999.0,9,     -999.0,9,     -999.0,9,     -999.0,9,     -999.0,9,     -999.0,9,     -999.0,9, -999.00,9,   0.0810,2,   0.0670,2,   0.0430,2,   0.0330,2,   0.0104,2,   0.0109,2,-999.0000, -999.00
33RR20050106,       P16S,       5,          1,         17,         17,2,20050111,       1314,   -18.0000,  -150.0000,       3351,  1046.5,   3.6474,  34.5092,2,  34.5090,2,    146.3,3,   147.0,2,   73.22,2,   35.24,2,    0.00,2,    2.50,2,   0.023,2,   0.034,2,   0.000,2,  2257.7,2,  2339.7,2,-999.000,9,-999.0000,9, -999.00,9, -999.00,9,  -999.0,9,  -999.0,-999.000,9,-999.000,  37.1605,2,  1046.5,-999.000,   3.5707,     -999.0,9,     -999.0,9,     -999.0,9,     -999.0,9,     -999.0,9,     -999.0,9,     -999.0,9, -999.00,9,   0.0890,2,   0.0710,2,   0.0460,2,   0.0350,2,   0.0107,2,   0.0112,2,-999.0000, -999.00
33RR20050106,       P16S,       5,          1,         16,         16,2,20050111,       1314,   -18.0000,  -150.0000,       3351,  1147.8,   3.3868,  34.5249,2,  34.5276,2,    145.9,3,   147.2,2,   79.47,2,   35.56,2,    0.00,2,    2.51,2,-999.000,9,-999.000,9,-999.000,9,  2264.4,2,  2347.2,2,-999.000,9,-999.0000,9, -999.00,9, -999.00,9,  -999.0,9,  -999.0,-999.000,9,-999.000,-999.0000,9,  1147.8,-999.000,   3.3040,     -999.0,9,     -999.0,9,     -999.0,9,     -999.0,9,     -999.0,9,     -999.0,9,     -999.0,9, -999.00,9,   0.0850,2,   0.0690,2,   0.0440,2,   0.0330,2,   0.0107,2,   0.0113,2,-999.0000, -999.00
33RR20050106,       P16S,       5,          1,         15,         15,2,20050111,       1314,   -18.0000,  -150.0000,       3351,  1248.0,   3.1780,  34.5449,2,  34.5449,2,    145.6,3,   145.9,2,   85.72,2,   35.66,2,    0.00,2,    2.53,2,   0.009,2,   0.027,3,   0.000,2,  2270.3,2,  2356.0,2,-999.000,9,-999.0000,9, -999.00,9, -999.00,9,  -999.0,9,  -999.0,-999.000,9,-999.000,  37.5250,2,  1248.0,-999.000,   3.0890,     -999.0,9,     -999.0,9,     -999.0,9,     -999.0,9,     -999.0,9,     -999.0,9,     -999.0,9, -999.00,9,   0.0880,2,   0.0700,2,   0.0450,2,   0.0340,2,   0.0107,2,   0.0114,2,-999.0000, -999.00
33RR20050106,       P16S,       5,          1,         14,         14,2,20050111,       1314,   -18.0000,  -150.0000,       3351,  1348.3,   2.9749,  34.5617,2,  34.5626,2,    146.2,3,   145.9,2,   91.33,2,   35.81,2,    0.00,2,    2.54,2,-999.000,9,-999.000,9,-999.000,9,  2275.7,2,  2361.0,2,-999.000,9,-999.0000,9, -999.00,9, -999.00,9,  -999.0,9,  -999.0,-999.000,9,-999.000,-999.0000,9,  1348.3,-999.000,   2.8798,     -999.0,9,     -999.0,9,     -999.0,9,     -999.0,9,     -999.0,9,     -999.0,9,     -999.0,9, -999.00,9,   0.0940,2,   0.0740,2,   0.0460,2,   0.0340,2,   0.0113,2,   0.0121,2,-999.0000, -999.00
33RR20050106,       P16S,       5,          1,         13,         13,2,20050111,       1314,   -18.0000,  -150.0000,       3351,  1449.5,   2.7747,  34.5782,2,  34.5785,2,    146.7,3,   146.6,2,   96.95,2,   35.71,2,    0.00,2,    2.54,2,   0.019,3,   0.033,3,   0.000,2,  2283.3,2,  2366.1,2,-999.000,9,-999.0000,9, -999.00,9, -999.00,9,  -999.0,9,  -999.0,-999.000,9,-999.000,-999.0000,9,  1449.5,-999.000,   2.6735,     -999.0,9,     -999.0,9,     -999.0,9,     -999.0,9,     -999.0,9,     -999.0,9,     -999.0,9, -999.00,9,   0.0900,2,   0.0710,2,   0.0450,2,   0.0340,2,   0.0111,2,   0.0118,2,-999.0000, -999.00
33RR20050106,       P16S,       5,          1,         12,         12,2,20050111,       1314,   -18.0000,  -150.0000,       3351,  1550.3,   2.6192,  34.5916,2,  34.5920,2,    147.3,3,   147.5,2,  101.70,2,   35.75,2,    0.00,2,    2.53,2,-999.000,9,-999.000,9,-999.000,9,  2288.2,2,  2369.6,2,-999.000,9,-999.0000,9, -999.00,9, -999.00,9,  -999.0,9,  -999.0,-999.000,9,-999.000,  36.1219,2,  1550.3,-999.000,   2.5116,     -999.0,9,     -999.0,9,     -999.0,9,     -999.0,9,     -999.0,9,     -999.0,9,     -999.0,9, -999.00,9,   0.0890,2,   0.0710,2,   0.0460,2,   0.0340,2,   0.0108,2,   0.0114,2,-999.0000, -999.00
33RR20050106,       P16S,       5,          1,         11,         11,2,20050111,       1314,   -18.0000,  -150.0000,       3351,  1651.2,   2.5208,  34.6003,2,  34.6007,2,    147.8,3,   147.7,2,  104.53,2,   35.59,2,    0.00,2,    2.53,2,   0.017,3,   0.027,3,   0.000,2,  2290.7,2,  2374.3,2,-999.000,9,-999.0000,9, -999.00,9, -999.00,9,  -999.0,9,  -999.0,-999.000,9,-999.000,-999.0000,9,  1651.2,-999.000,   2.4061,     -999.0,9,     -999.0,9,     -999.0,9,     -999.0,9,     -999.0,9,     -999.0,9,     -999.0,9, -999.00,9,   0.0900,2,   0.0720,2,   0.0460,2,   0.0340,2,   0.0109,2,   0.0115,2,-999.0000, -999.00
33RR20050106,       P16S,       5,          1,         10,         10,2,20050111,       1314,   -18.0000,  -150.0000,       3351,  1752.1,   2.3794,  34.6128,2,  34.6123,2,    148.8,3,   148.9,2,  108.42,2,   35.70,2,    0.00,2,    2.53,2,-999.000,9,-999.000,9,-999.000,9,  2294.3,2,  2380.7,2,-999.000,9,-999.0000,9, -999.00,9, -999.00,9,  -999.0,9,  -999.0,-999.000,9,-999.000,  35.2894,2,  1752.1,-999.000,   2.2582,     -999.0,9,     -999.0,9,     -999.0,9,     -999.0,9,     -999.0,9,     -999.0,9,     -999.0,9, -999.00,9,   0.0970,2,   0.0770,2,   0.0480,2,   0.0360,2,   0.0111,2,   0.0117,2,-999.0000, -999.00
33RR20050106,       P16S,       5,          1,          9,          9,2,20050111,       1314,   -18.0000,  -150.0000,       3351,  1853.3,   2.2875,  34.6207,2,  34.6211,2,    149.4,3,   149.5,2,  111.25,2,   35.70,2,    0.00,2,    2.53,2,   0.005,2,   0.017,3,   0.000,2,  2296.9,2,  2379.9,3,-999.000,9,-999.0000,9, -999.00,9, -999.00,9,  -999.0,9,  -999.0,-999.000,9,-999.000,-999.0000,9,  1853.3,-999.000,   2.1591,     -999.0,9,     -999.0,9,     -999.0,9,     -999.0,9,     -999.0,9,     -999.0,9,     -999.0,9, -999.00,9,   0.1000,2,   0.0740,2,   0.0420,2,   0.0280,2,   0.0148,2,   0.0158,2,-999.0000, -999.00
33RR20050106,       P16S,       5,          1,          8,          8,2,20050111,       1314,   -18.0000,  -150.0000,       3351,  1953.8,   2.2031,  34.6280,2,  34.6286,2,    150.3,3,   150.7,2,  113.42,2,   35.64,2,    0.00,2,    2.53,2,-999.000,9,-999.000,9,-999.000,9,  2298.4,2,  2384.1,2,-999.000,9,-999.0000,9, -999.00,9, -999.00,9,  -999.0,9,  -999.0,-999.000,9,-999.000,-999.0000,9,  1953.8,-999.000,   2.0675,     -999.0,9,     -999.0,9,     -999.0,9,     -999.0,9,     -999.0,9,     -999.0,9,     -999.0,9, -999.00,9,   0.0940,2,   0.0710,2,   0.0430,2,   0.0290,2,   0.0136,2,   0.0142,2,-999.0000, -999.00
33RR20050106,       P16S,       5,          1,          7,          7,2,20050111,       1314,   -18.0000,  -150.0000,       3351,  2116.1,   2.0572,  34.6407,2,  34.6421,2,    152.5,3,   153.1,2,  117.10,2,   35.52,2,    0.00,2,    2.52,2,   0.009,2,   0.022,3,   0.000,2,  2301.0,2,  2386.9,2,-999.000,9,-999.0000,9, -999.00,9, -999.00,9,  -999.0,9,  -999.0,-999.000,9,-999.000,  35.5294,2,  2116.1,-999.000,   1.9099,     -999.0,9,     -999.0,9,     -999.0,9,     -999.0,9,     -999.0,9,     -999.0,9,     -999.0,9, -999.00,9,   0.1010,2,   0.0680,2,   0.0340,2,   0.0220,2,   0.0191,2,   0.0209,2,-999.0000, -999.00
33RR20050106,       P16S,       5,          1,          6,          6,2,20050111,       1314,   -18.0000,  -150.0000,       3351,  2368.7,   1.8867,  34.6552,2,  34.6561,2,    155.6,3,   156.6,2,  121.00,2,   35.36,2,    0.00,2,    2.51,2,-999.000,9,-999.000,9,-999.000,9,  2302.4,2,  2392.6,2,-999.000,9,-999.0000,9, -999.00,9, -999.00,9,  -999.0,9,  -999.0,-999.000,9,-999.000,-999.0000,9,  2368.7,-999.000,   1.7202,     -999.0,9,     -999.0,9,     -999.0,9,     -999.0,9,     -999.0,9,     -999.0,9,     -999.0,9, -999.00,9,   0.1090,2,   0.0750,2,   0.0400,2,   0.0260,2,   0.0169,2,   0.0184,2,-999.0000, -999.00
33RR20050106,       P16S,       5,          1,          5,          5,2,20050111,       1314,   -18.0000,  -150.0000,       3351,  2621.6,   1.7837,  34.6641,2,  34.6651,2,    159.1,3,   160.0,2,  122.96,2,   35.14,2,    0.00,2,    2.48,2,   0.025,3,   0.030,3,   0.000,2,  2300.8,2,  2392.7,2,-999.000,9,-999.0000,9, -999.00,9, -999.00,9,  -999.0,9,  -999.0,-999.000,9,-999.000,  37.0440,2,  2621.6,-999.000,   1.5963,     -999.0,9,     -999.0,9,     -999.0,9,     -999.0,9,     -999.0,9,     -999.0,9,     -999.0,9, -999.00,9,   0.1120,2,   0.0790,2,   0.0430,2,   0.0290,2,   0.0156,2,   0.0170,2,-999.0000, -999.00
33RR20050106,       P16S,       5,          1,          4,          4,2,20050111,       1314,   -18.0000,  -150.0000,       3351,  2824.4,   1.7198,  34.6700,2,  34.6714,2,    162.1,3,   162.5,2,  123.85,2,   34.92,2,    0.00,2,    2.47,2,-999.000,9,-999.000,9,-999.000,9,  2300.0,2,  2391.5,2,-999.000,9,-999.0000,9, -999.00,9, -999.00,9,  -999.0,9,  -999.0,-999.000,9,-999.000,-999.0000,9,  2824.4,-999.000,   1.5149,     -999.0,9,     -999.0,9,     -999.0,9,     -999.0,9,     -999.0,9,     -999.0,9,     -999.0,9, -999.00,9,   0.1030,2,   0.0720,2,   0.0390,2,   0.0260,2,   0.0164,2,   0.0178,2,-999.0000, -999.00