BOTTLE,20201109CCHSIOCBG
EXPOCODE,SECT_ID,STNNBR,CASTNO,SAMPNO,BTLNBR,BTLNBR_FLAG_W,DATE,TIME,LATITUDE,LONGITUDE,DEPTH,CTDPRS,CTDTMP,CTDSAL,CTDSAL_FLAG_W,SALNTY,SALNTY_FLAG_W,CTDOXY,CTDOXY_FLAG_W,OXYGEN,OXYGEN_FLAG_W,SILCAT,SILCAT_FLAG_W,NITRAT,NITRAT_FLAG_W,NITRIT,NITRIT_FLAG_W,PHSPHT,PHSPHT_FLAG_W,CFC-11,CFC-11_FLAG_W,CFC-12,CFC-12_FLAG_W,CFC113,CFC113_FLAG_W,TCARBN,TCARBN_FLAG_W,ALKALI,ALKALI_FLAG_W,TRITUM,TRITUM_FLAG_W,HELIUM,HELIUM_FLAG_W,DELHE3,DELHE3_FLAG_W,DELC13,DELC13_FLAG_W,DELC14,DELC14_FLAG_W,C14ERR,NEON,NEON_FLAG_W,NEONER,DOC,DOC_FLAG_W,CTDRAW,TRITER,THETA,FUCO,FUCO_FLAG_W,RHAM,RHAM_FLAG_W,ARABA,ARABA_FLAG_W,GALA,GALA_FLAG_W,GLUC,GLUC_FLAG_W,MAN,MAN_FLAG_W,DCNS,DCNS_FLAG_W,BRDU,BRDU_FLAG_W,CDOM325,CDOM325_FLAG_W,CDOM340,CDOM340_FLAG_W,CDOM380,CDOM380_FLAG_W,CDOM412,CDOM412_FLAG_W,CDOMSL,CDOMSL_FLAG_W,CDOMSN,CDOMSN_FLAG_W,HELIER,DELHER
,,,,,,,,,,,METERS,DBAR,ITS-90,PSS-78,,PSS-78,,UMOL/KG,,UMOL/KG,,UMOL/KG,,UMOL/KG,,UMOL/KG,,UMOL/KG,,PMOL/KG,,PMOL/KG,,PMOL/KG,,UMOL/KG,,UMOL/KG,,TU,,NMOL/KG,,PERCNT,,/MILLE,,/MILLE,,/MILLE,NMOL/KG,,NMOL/KG,UMOL/KG,,DBAR,TU,DEG C,NMOL/KG,,NMOL/KG,,NMOL/KG,,NMOL/KG,,NMOL/KG,,NMOL/KG,,NMOL/KG,,PMOL/L/H,,1/M,,1/M,,1/M,,1/M,,1/NM,,1/NM,,NMOL/KG,PERCNT
33RR20050106,       P16S,      47,          2,         36,         36,2,20050123,       0948,   -38.9997,  -150.0000,       5432,     4.2,  18.0734,  34.4055,2,  34.4065,2,    238.5,2,   239.7,2,    0.00,2,    0.32,2,    0.01,2,    0.23,2,   2.545,2,   1.572,2,   0.319,2,  2034.0,2,  2276.0,6,-999.000,9,-999.0000,9, -999.00,9, -999.00,5,    55.5,2,     3.3,-999.000,9,-999.000,  62.0308,2,     4.2,-999.000,  18.0727,     -999.0,9,     -999.0,9,     -999.0,9,     -999.0,9,     -999.0,9,     -999.0,9,     -999.0,9, -999.00,9,-999.0000,9,-999.0000,9,-999.0000,9,-999.0000,9,-999.0000,9,-999.0000,9,-999.0000, -999.00
33RR20050106,       P16S,      47,          2,         35,         35,2,20050123,       0948,   -38.9997,  -150.0000,       5432,    36.3,  18.0793,  34.4040,2,  34.4072,2,    241.3,2,   239.8,2,    0.00,2,    0.32,2,    0.01,2,    0.23,2,   2.585,2,   1.552,2,   0.311,2,  2034.0,6,  2275.6,2,-999.000,9,-999.0000,9, -999.00,9, -999.00,9,  -999.0,9,  -999.0,-999.000,9,-999.000,  63.3509,2,    36.3,-999.000,  18.0731,     -999.0,9,     -999.0,9,     -999.0,9,     -999.0,9,     -999.0,9,     -999.0,9,     -999.0,9, -999.00,9,-999.0000,9,-999.0000,9,-999.0000,9,-999.0000,9,-999.0000,9,-999.0000,9,-999.0000, -999.00
33RR20050106,       P16S,      47,          2,         34,         34,2,20050123,       0948,   -38.9997,  -150.0000,       5432,    71.5,  12.6136,  34.4804,2,  34.4828,2,    273.8,2,   272.0,2,    0.41,2,    1.76,2,    0.05,2,    0.32,2,   3.338,2,   1.997,2,   0.380,2,  2054.1,2,  2280.2,2,-999.000,9,-999.0000,9, -999.00,9, -999.00,5,    63.1,2,     3.6,-999.000,9,-999.000,  58.9566,2,    71.5,-999.000,  12.6041,     -999.0,9,     -999.0,9,     -999.0,9,     -999.0,9,     -999.0,9,     -999.0,9,     -999.0,9, -999.00,9,-999.0000,9,-999.0000,9,-999.0000,9,-999.0000,9,-999.0000,9,-999.0000,9,-999.0000, -999.00
33RR20050106,       P16S,      47,          2,         33,         33,2,20050123,       0948,   -38.9997,  -150.0000,       5432,   121.4,  11.3757,  34.4675,2,  34.4669,2,    257.1,2,   259.2,2,    0.61,2,    4.37,2,    0.29,2,    0.51,2,   3.487,2,   2.067,2,   0.327,2,  2072.4,2,  2279.5,2,-999.000,9,-999.0000,9, -999.00,9, -999.00,9,  -999.0,9,  -999.0,-999.000,9,-999.000,  53.0251,2,   121.4,-999.000,  11.3605,     -999.0,9,     -999.0,9,     -999.0,9,     -999.0,9,     -999.0,9,     -999.0,9,     -999.0,9, -999.00,9,-999.0000,9,-999.0000,9,-999.0000,9,-999.0000,9,-999.0000,9,-999.0000,9,-999.0000, -999.00
33RR20050106,       P16S,      47,          2,         32,         32,2,20050123,       0948,   -38.9997,  -150.0000,       5432,   172.1,   9.5572,  34.5325,2,  34.5347,2,    238.2,2,   238.4,2,    2.21,2,   13.68,2,    0.02,2,    1.00,2,-999.000,9,-999.000,9,-999.000,9,  2115.3,2,  2280.1,2,-999.000,9,-999.0000,9, -999.00,9, -999.00,5,    46.9,2,     3.2,-999.000,9,-999.000,  48.3583,2,   172.1,-999.000,   9.5379,     -999.0,9,     -999.0,9,     -999.0,9,     -999.0,9,     -999.0,9,     -999.0,9,     -999.0,9, -999.00,9,-999.0000,9,-999.0000,9,-999.0000,9,-999.0000,9,-999.0000,9,-999.0000,9,-999.0000, -999.00
33RR20050106,       P16S,      47,          2,         31,         31,2,20050123,       0948,   -38.9997,  -150.0000,       5432,   227.2,   8.7503,  34.5284,2,  34.5321,2,    232.6,2,   234.0,2,    3.41,2,   16.58,2,    0.00,2,    1.17,2,   3.677,2,   2.018,2,   0.311,2,  2127.7,2,  2281.4,2,-999.000,9,-999.0000,9, -999.00,9, -999.00,5,    43.9,2,     3.5,-999.000,9,-999.000,  45.9206,2,   227.2,-999.000,   8.7261,     -999.0,9,     -999.0,9,     -999.0,9,     -999.0,9,     -999.0,9,     -999.0,9,     -999.0,9, -999.00,9,-999.0000,9,-999.0000,9,-999.0000,9,-999.0000,9,-999.0000,9,-999.0000,9,-999.0000, -999.00
33RR20050106,       P16S,      47,          2,         30,         30,2,20050123,       0948,   -38.9997,  -150.0000,       5432,   276.9,   8.1828,  34.4891,2,  34.4897,2,    238.6,2,   240.4,2,    4.22,2,   17.97,2,    0.00,2,    1.26,2,-999.000,9,-999.000,9,-999.000,9,  2131.2,2,  2279.9,2,-999.000,9,-999.0000,9, -999.00,9, -999.00,5,    36.8,2,     3.0,-999.000,9,-999.000,  43.6720,2,   276.9,-999.000,   8.1545,     -999.0,9,     -999.0,9,     -999.0,9,     -999.0,9,     -999.0,9,     -999.0,9,     -999.0,9, -999.00,9,-999.0000,9,-999.0000,9,-999.0000,9,-999.0000,9,-999.0000,9,-999.0000,9,-999.0000, -999.00
33RR20050106,       P16S,      47,          2,         29,         29,2,20050123,       0948,   -38.9997,  -150.0000,       5432,   328.0,   7.8099,  34.4583,2,  34.4579,2,    243.6,2,   243.9,2,    4.81,2,   19.04,2,    0.00,2,    1.32,2,   3.897,6,   2.005,6,   0.308,2,  2133.2,2,  2280.1,2,-999.000,9,-999.0000,9, -999.00,9, -999.00,5,    41.4,2,     3.5,-999.000,9,-999.000,  44.9561,2,   328.0,-999.000,   7.7771,     -999.0,9,     -999.0,9,     -999.0,9,     -999.0,9,     -999.0,9,     -999.0,9,     -999.0,9, -999.00,9,-999.0000,9,-999.0000,9,-999.0000,9,-999.0000,9,-999.0000,9,-999.0000,9,-999.0000, -999.00
33RR20050106,       P16S,      47,          2,         28,         28,2,20050123,       0948,   -38.9997,  -150.0000,       5432,   377.2,   7.5478,  34.4356,2,  34.4359,2,    244.4,2,   245.9,2,    5.22,2,   19.74,2,    0.00,2,    1.36,2,-999.000,9,-999.000,9,-999.000,9,  2134.2,2,  2279.1,2,-999.000,9,-999.0000,9, -999.00,9, -999.00,9,  -999.0,9,  -999.0,-999.000,9,-999.000,-999.0000,9,   377.2,-999.000,   7.5108,     -999.0,9,     -999.0,9,     -999.0,9,     -999.0,9,     -999.0,9,     -999.0,9,     -999.0,9, -999.00,9,-999.0000,9,-999.0000,9,-999.0000,9,-999.0000,9,-999.0000,9,-999.0000,9,-999.0000, -999.00
33RR20050106,       P16S,      47,          2,         27,         27,2,20050123,       0948,   -38.9997,  -150.0000,       5432,   429.0,   7.3319,  34.4163,2,  34.4163,2,    245.3,2,   246.5,2,    5.82,2,   20.44,2,    0.00,2,    1.42,2,   3.810,2,   2.031,2,   0.317,2,  2136.5,2,  2279.2,2,-999.000,9,-999.0000,9, -999.00,9, -999.00,5,    45.5,2,     3.3,-999.000,9,-999.000,  51.7520,4,   429.0,-999.000,   7.2903,     -999.0,9,     -999.0,9,     -999.0,9,     -999.0,9,     -999.0,9,     -999.0,9,     -999.0,9, -999.00,9,-999.0000,9,-999.0000,9,-999.0000,9,-999.0000,9,-999.0000,9,-999.0000,9,-999.0000, -999.00
33RR20050106,       P16S,      47,          2,         26,         26,2,20050123,       0948,   -38.9997,  -150.0000,       5432,   478.1,   7.1475,  34.4015,2,  34.4010,2,    244.5,2,   245.3,2,    6.21,2,   21.14,2,    0.00,2,    1.46,2,-999.000,9,-999.000,9,-999.000,9,  2136.6,6,  2279.5,2,-999.000,9,-999.0000,9, -999.00,9, -999.00,9,  -999.0,9,  -999.0,-999.000,9,-999.000,-999.0000,9,   478.1,-999.000,   7.1017,     -999.0,9,     -999.0,9,     -999.0,9,     -999.0,9,     -999.0,9,     -999.0,9,     -999.0,9, -999.00,9,-999.0000,9,-999.0000,9,-999.0000,9,-999.0000,9,-999.0000,9,-999.0000,9,-999.0000, -999.00
33RR20050106,       P16S,      47,          2,         25,         25,2,20050123,       0948,   -38.9997,  -150.0000,       5432,   529.7,   7.0374,  34.3931,2,  34.3927,2,    244.3,2,   245.6,2,    6.82,2,   21.57,2,    0.00,2,    1.48,2,   3.435,2,   1.831,2,   0.228,2,  2137.8,2,  2279.5,2,-999.000,9,-999.0000,9, -999.00,9, -999.00,5,    37.3,2,     3.5,-999.000,9,-999.000,  46.5960,2,   529.7,-999.000,   6.9869,     -999.0,9,     -999.0,9,     -999.0,9,     -999.0,9,     -999.0,9,     -999.0,9,     -999.0,9, -999.00,9,-999.0000,9,-999.0000,9,-999.0000,9,-999.0000,9,-999.0000,9,-999.0000,9,-999.0000, -999.00
33RR20050106,       P16S,      47,          2,         24,         24,2,20050123,       0948,   -38.9997,  -150.0000,       5432,   649.8,   6.5981,  34.3618,2,  34.3631,2,    242.2,2,   241.0,2,    8.43,2,   22.97,2,    0.00,2,    1.58,2,   2.867,2,   1.483,2,   0.144,2,  2142.5,2,  2278.8,2,-999.000,9,-999.0000,9, -999.00,9, -999.00,5,    25.5,2,     3.2,-999.000,9,-999.000,  43.7248,2,   649.8,-999.000,   6.5378,     -999.0,9,     -999.0,9,     -999.0,9,     -999.0,9,     -999.0,9,     -999.0,9,     -999.0,9, -999.00,9,-999.0000,9,-999.0000,9,-999.0000,9,-999.0000,9,-999.0000,9,-999.0000,9,-999.0000, -999.00
33RR20050106,       P16S,      47,          2,         23,         23,2,20050123,       0948,   -38.9997,  -150.0000,       5432,   751.3,   6.1859,  34.3379,2,  34.3395,2,    235.1,2,   232.3,2,   11.44,2,   24.74,2,    0.00,2,    1.69,2,   2.339,2,   1.167,2,   0.094,2,  2152.0,2,  2281.2,2,-999.000,9,-999.0000,9, -999.00,9, -999.00,5,    -2.9,2,     3.2,-999.000,9,-999.000,  39.4654,2,   751.3,-999.000,   6.1181,     -999.0,9,     -999.0,9,     -999.0,9,     -999.0,9,     -999.0,9,     -999.0,9,     -999.0,9, -999.00,9,-999.0000,9,-999.0000,9,-999.0000,9,-999.0000,9,-999.0000,9,-999.0000,9,-999.0000, -999.00
33RR20050106,       P16S,      47,          2,         22,         22,2,20050123,       0948,   -38.9997,  -150.0000,       5432,   850.9,   5.6926,  34.3238,2,  34.3240,2,    223.9,2,   221.4,2,   15.86,2,   26.80,2,    0.00,2,    1.83,2,   1.760,2,   0.887,2,   0.074,2,  2163.9,2,  2283.0,2,-999.000,9,-999.0000,9, -999.00,9, -999.00,5,   -22.9,2,     3.7,-999.000,9,-999.000,  41.8236,2,   850.9,-999.000,   5.6184,     -999.0,9,     -999.0,9,     -999.0,9,     -999.0,9,     -999.0,9,     -999.0,9,     -999.0,9, -999.00,9,-999.0000,9,-999.0000,9,-999.0000,9,-999.0000,9,-999.0000,9,-999.0000,9,-999.0000, -999.00
33RR20050106,       P16S,      47,          2,         21,         21,2,20050123,       0948,   -38.9997,  -150.0000,       5432,   953.1,   5.1472,  34.3226,2,  34.3229,2,    211.4,2,   211.2,2,   21.90,2,   28.64,2,    0.00,2,    1.97,2,   1.245,2,   0.643,2,   0.047,2,  2174.6,2,  2287.5,2,-999.000,9,-999.0000,9, -999.00,9, -999.00,5,   -49.1,2,     2.9,-999.000,9,-999.000,  39.4333,2,   953.1,-999.000,   5.0673,     -999.0,9,     -999.0,9,     -999.0,9,     -999.0,9,     -999.0,9,     -999.0,9,     -999.0,9, -999.00,9,-999.0000,9,-999.0000,9,-999.0000,9,-999.0000,9,-999.0000,9,-999.0000,9,-999.0000, -999.00
33RR20050106,       P16S,      47,          2,         20,         20,2,20050123,       0948,   -38.9997,  -150.0000,       5432,  1053.3,   4.4458,  34.3343,2,  34.3350,2,    201.0,2,   201.6,2,   30.99,2,   30.75,2,    0.00,2,    2.12,2,   0.821,2,   0.404,2,   0.030,2,  2191.8,2,  2294.3,2,-999.000,9,-999.0000,9, -999.00,9, -999.00,5,   -74.0,2,     3.1,-999.000,9,-999.000,  39.2804,2,  1053.3,-999.000,   4.3624,     -999.0,9,     -999.0,9,     -999.0,9,     -999.0,9,     -999.0,9,     -999.0,9,     -999.0,9, -999.00,9,-999.0000,9,-999.0000,9,-999.0000,9,-999.0000,9,-999.0000,9,-999.0000,9,-999.0000, -999.00
33RR20050106,       P16S,      47,          2,         19,         19,2,20050123,       0948,   -38.9997,  -150.0000,       5432,  1153.9,   3.9131,  34.3569,2,  34.3564,2,    193.6,2,   193.6,2,   39.51,2,   32.17,2,    0.00,2,    2.22,2,   0.568,2,   0.295,2,   0.033,2,  2207.2,2,  2303.9,2,-999.000,9,-999.0000,9, -999.00,9, -999.00,5,   -96.4,2,     3.3,-999.000,9,-999.000,-999.0000,9,  1153.9,-999.000,   3.8255,     -999.0,9,     -999.0,9,     -999.0,9,     -999.0,9,     -999.0,9,     -999.0,9,     -999.0,9, -999.00,9,-999.0000,9,-999.0000,9,-999.0000,9,-999.0000,9,-999.0000,9,-999.0000,9,-999.0000, -999.00
33RR20050106,       P16S,      47,          2,         18,         18,2,20050123,       0948,   -38.9997,  -150.0000,       5432,  1254.8,   3.4915,  34.3932,2,  34.3929,2,    185.7,2,   185.6,2,   48.65,2,   33.04,2,    0.00,2,    2.30,2,   0.308,2,   0.157,2,   0.002,2,  2220.3,2,  2312.9,6,-999.000,9,-999.0000,9, -999.00,9, -999.00,5,  -113.7,2,     2.8,-999.000,9,-999.000,  40.5701,2,  1254.8,-999.000,   3.3993,     -999.0,9,     -999.0,9,     -999.0,9,     -999.0,9,     -999.0,9,     -999.0,9,     -999.0,9, -999.00,9,-999.0000,9,-999.0000,9,-999.0000,9,-999.0000,9,-999.0000,9,-999.0000,9,-999.0000, -999.00
33RR20050106,       P16S,      47,          2,         17,         17,2,20050123,       0948,   -38.9997,  -150.0000,       5432,  1355.9,   3.2064,  34.4386,2,  34.4385,2,    178.2,2,   177.7,2,   58.01,2,   33.85,2,    0.00,2,    2.35,2,   0.173,2,   0.086,2,   0.002,2,  2233.9,2,  2320.1,2,-999.000,9,-999.0000,9, -999.00,9, -999.00,5,  -142.4,2,     2.9,-999.000,9,-999.000,-999.0000,9,  1355.9,-999.000,   3.1086,     -999.0,9,     -999.0,9,     -999.0,9,     -999.0,9,     -999.0,9,     -999.0,9,     -999.0,9, -999.00,9,-999.0000,9,-999.0000,9,-999.0000,9,-999.0000,9,-999.0000,9,-999.0000,9,-999.0000, -999.00
33RR20050106,       P16S,      47,          2,         16,         16,2,20050123,       0948,   -38.9997,  -150.0000,       5432,  1457.5,   3.0042,  34.4871,2,  34.4871,2,    170.4,2,   170.5,2,   67.20,2,   34.23,2,    0.00,2,    2.39,2,   0.110,2,   0.056,2,   0.002,2,  2245.5,2,  2332.1,2,-999.000,9,-999.0000,9, -999.00,9, -999.00,5,  -146.9,2,     2.4,-999.000,9,-999.000,-999.0000,9,  1457.5,-999.000,   2.9000,     -999.0,9,     -999.0,9,     -999.0,9,     -999.0,9,     -999.0,9,     -999.0,9,     -999.0,9, -999.00,9,-999.0000,9,-999.0000,9,-999.0000,9,-999.0000,9,-999.0000,9,-999.0000,9,-999.0000, -999.00
33RR20050106,       P16S,      47,          2,         15,         15,2,20050123,       0948,   -38.9997,  -150.0000,       5432,  1558.2,   2.8319,  34.5342,2,  34.5352,2,    163.4,2,   164.0,2,   77.42,2,   34.56,2,    0.00,2,    2.42,2,   0.056,2,   0.028,2,   0.002,2,  2258.0,2,  2344.0,2,-999.000,9,-999.0000,9, -999.00,9, -999.00,5,  -165.1,2,     2.6,-999.000,9,-999.000,  37.2235,2,  1558.2,-999.000,   2.7213,     -999.0,9,     -999.0,9,     -999.0,9,     -999.0,9,     -999.0,9,     -999.0,9,     -999.0,9, -999.00,9,-999.0000,9,-999.0000,9,-999.0000,9,-999.0000,9,-999.0000,9,-999.0000,9,-999.0000, -999.00
33RR20050106,       P16S,      47,          2,         14,         14,2,20050123,       0948,   -38.9997,  -150.0000,       5432,  1760.3,   2.5811,  34.5892,2,  34.5877,2,    155.2,2,   156.1,2,   93.84,2,   34.94,2,    0.00,2,    2.45,2,   0.008,2,   0.007,2,   0.002,2,  2277.2,2,  2364.6,2,-999.000,9,-999.0000,9, -999.00,9, -999.00,5,  -184.7,2,     2.3,-999.000,9,-999.000,-999.0000,9,  1760.3,-999.000,   2.4566,     -999.0,9,     -999.0,9,     -999.0,9,     -999.0,9,     -999.0,9,     -999.0,9,     -999.0,9, -999.00,9,-999.0000,9,-999.0000,9,-999.0000,9,-999.0000,9,-999.0000,9,-999.0000,9,-999.0000, -999.00
33RR20050106,       P16S,      47,          2,         13,         13,2,20050123,       0948,   -38.9997,  -150.0000,       5432,  1963.0,   2.3956,  34.6157,2,  34.6164,2,    151.8,2,   152.4,2,  103.92,2,   35.15,2,    0.00,2,    2.47,2,   0.009,2,   0.009,2,   0.002,2,  2288.7,2,  2375.6,2,-999.000,9,-999.0000,9, -999.00,9, -999.00,5,  -192.9,2,     2.3,-999.000,9,-999.000,  35.8351,2,  1963.0,-999.000,   2.2564,     -999.0,9,     -999.0,9,     -999.0,9,     -999.0,9,     -999.0,9,     -999.0,9,     -999.0,9, -999.00,9,-999.0000,9,-999.0000,9,-999.0000,9,-999.0000,9,-999.0000,9,-999.0000,9,-999.0000, -999.00
33RR20050106,       P16S,      47,          2,         12,         12,2,20050123,       0948,   -38.9997,  -150.0000,       5432,  2126.0,   2.2608,  34.6309,2,  34.6309,2,    150.5,2,   151.1,2,  109.68,2,   35.31,2,    0.00,2,    2.49,2,-999.000,9,-999.000,9,-999.000,9,  2296.3,2,  2383.0,2,-999.000,9,-999.0000,9, -999.00,9, -999.00,5,  -191.5,2,     2.8,-999.000,9,-999.000,-999.0000,9,  2126.0,-999.000,   2.1095,     -999.0,9,     -999.0,9,     -999.0,9,     -999.0,9,     -999.0,9,     -999.0,9,     -999.0,9, -999.00,9,-999.0000,9,-999.0000,9,-999.0000,9,-999.0000,9,-999.0000,9,-999.0000,9,-999.0000, -999.00
33RR20050106,       P16S,      47,          2,         11,         11,2,20050123,       0948,   -38.9997,  -150.0000,       5432,  2379.1,   2.0985,  34.6471,2,  34.6464,2,    149.7,2,   150.4,2,  116.28,2,   35.48,2,    0.00,2,    2.49,2,   0.000,2,   0.002,2,   0.002,2,  2302.0,2,  2390.5,2,-999.000,9,-999.0000,9, -999.00,9, -999.00,5,  -217.7,2,     2.9,-999.000,9,-999.000,  36.4258,2,  2379.1,-999.000,   1.9274,     -999.0,9,     -999.0,9,     -999.0,9,     -999.0,9,     -999.0,9,     -999.0,9,     -999.0,9, -999.00,9,-999.0000,9,-999.0000,9,-999.0000,9,-999.0000,9,-999.0000,9,-999.0000,9,-999.0000, -999.00
33RR20050106,       P16S,      47,          2,         10,         10,2,20050123,       0948,   -38.9997,  -150.0000,       5432,  2633.6,   1.9644,  34.6583,2,  34.6586,2,    149.7,2,   150.3,2,  122.05,2,   35.52,2,    0.00,2,    2.49,2,  -0.001,2,   0.001,2,   0.002,2,  2306.7,2,  2395.2,2,-999.000,9,-999.0000,9, -999.00,9, -999.00,5,  -222.3,2,     2.6,-999.000,9,-999.000,-999.0000,9,  2633.6,-999.000,   1.7724,     -999.0,9,     -999.0,9,     -999.0,9,     -999.0,9,     -999.0,9,     -999.0,9,     -999.0,9, -999.00,9,-999.0000,9,-999.0000,9,-999.0000,9,-999.0000,9,-999.0000,9,-999.0000,9,-999.0000, -999.00
33RR20050106,       P16S,      47,          2,          9,          9,2,20050123,       0948,   -38.9997,  -150.0000,       5432,  2888.1,   1.8559,  34.6675,2,  34.6669,2,    150.9,2,   151.7,2,  125.97,2,   35.47,2,    0.00,2,    2.49,2,   0.014,2,   0.013,2,   0.002,2,  2308.7,2,  2399.0,2,-999.000,9,-999.0000,9, -999.00,9, -999.00,5,  -218.6,2,     2.6,-999.000,9,-999.000,  35.3446,2,  2888.1,-999.000,   1.6421,     -999.0,9,     -999.0,9,     -999.0,9,     -999.0,9,     -999.0,9,     -999.0,9,     -999.0,9, -999.00,9,-999.0000,9,-999.0000,9,-999.0000,9,-999.0000,9,-999.0000,9,-999.0000,9,-999.0000, -999.00
33RR20050106,       P16S,      47,          2,          8,          8,2,20050123,       0948,   -38.9997,  -150.0000,       5432,  3192.9,   1.7525,  34.6798,2,  34.6798,2,    157.0,3,   158.6,2,  125.77,2,   34.93,2,    0.00,2,    2.45,2,   0.012,2,   0.016,3,   0.002,2,  2303.7,2,  2397.5,2,-999.000,9,-999.0000,9, -999.00,9, -999.00,5,  -195.7,2,     2.5,-999.000,9,-999.000,-999.0000,9,  3192.9,-999.000,   1.5112,     -999.0,9,     -999.0,9,     -999.0,9,     -999.0,9,     -999.0,9,     -999.0,9,     -999.0,9, -999.00,9,-999.0000,9,-999.0000,9,-999.0000,9,-999.0000,9,-999.0000,9,-999.0000,9,-999.0000, -999.00
33RR20050106,       P16S,      47,          2,          7,          7,2,20050123,       0948,   -38.9997,  -150.0000,       5432,  3549.9,   1.6269,  34.6977,2,  34.6975,2,    171.5,3,   173.2,2,  119.78,2,   33.67,2,    0.00,2,    2.35,2,  -0.002,2,   0.005,2,   0.002,2,  2287.9,2,  2385.1,2,-999.000,9,-999.0000,9, -999.00,9, -999.00,5,  -199.5,2,     2.7,-999.000,9,-999.000,  35.8683,2,  3549.9,-999.000,   1.3523,     -999.0,9,     -999.0,9,     -999.0,9,     -999.0,9,     -999.0,9,     -999.0,9,     -999.0,9, -999.00,9,-999.0000,9,-999.0000,9,-999.0000,9,-999.0000,9,-999.0000,9,-999.0000,9,-999.0000, -999.00