BOTTLE,20201109CCHSIOCBG
EXPOCODE,SECT_ID,STNNBR,CASTNO,SAMPNO,BTLNBR,BTLNBR_FLAG_W,DATE,TIME,LATITUDE,LONGITUDE,DEPTH,CTDPRS,CTDTMP,CTDSAL,CTDSAL_FLAG_W,SALNTY,SALNTY_FLAG_W,CTDOXY,CTDOXY_FLAG_W,OXYGEN,OXYGEN_FLAG_W,SILCAT,SILCAT_FLAG_W,NITRAT,NITRAT_FLAG_W,NITRIT,NITRIT_FLAG_W,PHSPHT,PHSPHT_FLAG_W,CFC-11,CFC-11_FLAG_W,CFC-12,CFC-12_FLAG_W,CFC113,CFC113_FLAG_W,TCARBN,TCARBN_FLAG_W,ALKALI,ALKALI_FLAG_W,TRITUM,TRITUM_FLAG_W,HELIUM,HELIUM_FLAG_W,DELHE3,DELHE3_FLAG_W,DELC13,DELC13_FLAG_W,DELC14,DELC14_FLAG_W,C14ERR,NEON,NEON_FLAG_W,NEONER,DOC,DOC_FLAG_W,CTDRAW,TRITER,THETA,FUCO,FUCO_FLAG_W,RHAM,RHAM_FLAG_W,ARABA,ARABA_FLAG_W,GALA,GALA_FLAG_W,GLUC,GLUC_FLAG_W,MAN,MAN_FLAG_W,DCNS,DCNS_FLAG_W,BRDU,BRDU_FLAG_W,CDOM325,CDOM325_FLAG_W,CDOM340,CDOM340_FLAG_W,CDOM380,CDOM380_FLAG_W,CDOM412,CDOM412_FLAG_W,CDOMSL,CDOMSL_FLAG_W,CDOMSN,CDOMSN_FLAG_W,HELIER,DELHER
,,,,,,,,,,,METERS,DBAR,ITS-90,PSS-78,,PSS-78,,UMOL/KG,,UMOL/KG,,UMOL/KG,,UMOL/KG,,UMOL/KG,,UMOL/KG,,PMOL/KG,,PMOL/KG,,PMOL/KG,,UMOL/KG,,UMOL/KG,,TU,,NMOL/KG,,PERCNT,,/MILLE,,/MILLE,,/MILLE,NMOL/KG,,NMOL/KG,UMOL/KG,,DBAR,TU,DEG C,NMOL/KG,,NMOL/KG,,NMOL/KG,,NMOL/KG,,NMOL/KG,,NMOL/KG,,NMOL/KG,,PMOL/L/H,,1/M,,1/M,,1/M,,1/M,,1/NM,,1/NM,,NMOL/KG,PERCNT
33RR20050106,       P16S,      95,          2,         37,         37,2,20050206,       1854,   -63.0002,  -149.9995,       3687,     4.4,   1.1155,  34.0360,2,  34.0363,2,    340.6,2,   342.6,2,   38.58,2,   23.66,2,    0.33,2,    1.56,2,   5.963,2,   3.316,2,   0.667,2,  2167.8,6,  2304.0,6,-999.000,9,-999.0000,9, -999.00,9, -999.00,5,   -98.7,2,     4.0,-999.000,9,-999.000,  43.0791,2,     4.4,-999.000,   1.1153,         49,2,         52,2,         24,2,        105,2,        134,2,        133,2,        497,2, -999.00,9,   0.0660,2,   0.0400,2,   0.0140,2,   0.0090,2,   0.0346,2,   0.0353,2,-999.0000, -999.00
33RR20050106,       P16S,      95,          2,         32,         32,2,20050206,       1854,   -63.0002,  -149.9995,       3687,    33.1,   1.0794,  34.0368,2,  34.0387,2,    342.1,2,   342.4,2,   38.77,2,   23.71,2,    0.33,2,    1.55,2,   5.813,2,   3.269,2,   0.649,2,  2167.2,2,  2303.2,2,-999.000,9,-999.0000,9, -999.00,9, -999.00,9,  -999.0,9,  -999.0,-999.000,9,-999.000,  43.1566,2,    33.1,-999.000,   1.0780,         52,2,         45,2,         70,2,        114,2,        128,2,        116,2,        524,2, -999.00,9,   0.0650,2,   0.0380,2,   0.0120,2,   0.0090,2,   0.0354,2,   0.0361,2,-999.0000, -999.00
33RR20050106,       P16S,      95,          2,         31,         31,2,20050206,       1854,   -63.0002,  -149.9995,       3687,    68.3,  -1.3718,  34.2082,2,  34.2118,2,    345.2,2,   346.3,2,   56.08,2,   26.82,2,    0.26,2,    1.93,2,   6.066,2,   3.335,2,   0.687,2,  2200.2,2,  2313.7,2,-999.000,9,-999.0000,9, -999.00,9, -999.00,5,  -114.2,2,     3.3,-999.000,9,-999.000,  42.4432,2,    68.3,-999.000,  -1.3734,         39,2,         31,2,         49,2,         88,2,         67,2,         81,2,        355,2, -999.00,9,   0.0780,2,   0.0460,2,   0.0190,2,   0.0140,2,   0.0308,2,   0.0327,2,-999.0000, -999.00
33RR20050106,       P16S,      95,          2,         30,         30,2,20050206,       1854,   -63.0002,  -149.9995,       3687,    88.3,  -1.7179,  34.2379,2,  34.2378,2,    340.1,2,   342.4,2,   57.11,2,   27.25,2,    0.25,2,    1.94,2,   5.818,2,   3.206,2,   0.654,2,  2201.9,2,  2314.9,2,-999.000,9,-999.0000,9, -999.00,9, -999.00,5,  -113.1,2,     3.5,-999.000,9,-999.000,  41.1889,2,    88.3,-999.000,  -1.7197,     -999.0,9,     -999.0,9,     -999.0,9,     -999.0,9,     -999.0,9,     -999.0,9,     -999.0,9, -999.00,9,   0.0770,2,   0.0450,2,   0.0200,2,   0.0150,2,   0.0311,2,   0.0333,2,-999.0000, -999.00
33RR20050106,       P16S,      95,          2,         29,         29,2,20050206,       1854,   -63.0002,  -149.9995,       3687,   118.3,  -1.7052,  34.2639,2,  34.2661,2,    334.6,2,   335.6,2,   60.00,2,   27.80,2,    0.28,2,    1.97,2,   5.781,2,   3.145,2,   0.635,2,  2205.8,2,  2316.5,2,-999.000,9,-999.0000,9, -999.00,9, -999.00,5,  -111.5,2,     3.7,-999.000,9,-999.000,  42.3445,2,   118.3,-999.000,  -1.7077,         25,2,         27,2,         36,2,         60,2,         41,2,         61,2,        250,2, -999.00,9,   0.0760,2,   0.0450,2,   0.0200,2,   0.0160,2,   0.0309,2,   0.0332,2,-999.0000, -999.00
33RR20050106,       P16S,      95,          2,         28,         28,2,20050206,       1854,   -63.0002,  -149.9995,       3687,   138.4,  -1.2273,  34.3338,2,  34.3451,2,    308.4,2,   302.8,2,   67.46,2,   29.48,2,    0.23,2,    2.06,2,   4.811,2,   2.634,2,   0.524,2,  2218.6,2,  2320.6,2,-999.000,9,-999.0000,9, -999.00,9, -999.00,5,  -122.7,2,     3.4,-999.000,9,-999.000,  41.6069,2,   138.4,-999.000,  -1.2308,     -999.0,9,     -999.0,9,     -999.0,9,     -999.0,9,     -999.0,9,     -999.0,9,     -999.0,9, -999.00,9,   0.0850,2,   0.0520,2,   0.0240,2,   0.0180,2,   0.0261,2,   0.0287,2,-999.0000, -999.00
33RR20050106,       P16S,      95,          2,         27,         27,2,20050206,       1854,   -63.0002,  -149.9995,       3687,   168.8,   0.4756,  34.5836,2,  34.5589,2,    213.8,2,   222.4,2,   85.91,2,   32.22,2,    0.03,2,    2.23,2,   2.125,2,   1.154,2,   0.234,2,  2249.3,2,  2333.3,2,-999.000,9,-999.0000,9, -999.00,9, -999.00,5,  -138.1,2,     3.2,-999.000,9,-999.000,  39.5870,2,   168.8,-999.000,   0.4688,         19,2,         25,2,         51,2,         66,2,        178,2,         50,2,        389,2, -999.00,9,   0.1150,2,   0.0760,2,   0.0300,2,   0.0230,2,   0.0257,2,   0.0272,2,-999.0000, -999.00
33RR20050106,       P16S,      95,          2,         26,         26,2,20050206,       1854,   -63.0002,  -149.9995,       3687,   224.1,   1.3801,  34.7251,2,  34.7253,2,    172.4,2,   173.0,2,  102.36,2,   33.40,2,    0.01,2,    2.31,2,   0.186,2,   0.095,2,   0.028,2,  2268.2,2,  2348.1,2,-999.000,9,-999.0000,9, -999.00,9, -999.00,5,  -147.2,2,     2.7,-999.000,9,-999.000,  40.6401,2,   224.1,-999.000,   1.3691,     -999.0,9,     -999.0,9,     -999.0,9,     -999.0,9,     -999.0,9,     -999.0,9,     -999.0,9, -999.00,9,   0.1240,2,   0.0830,2,   0.0360,2,   0.0270,2,   0.0209,2,   0.0234,2,-999.0000, -999.00
33RR20050106,       P16S,      95,          2,         25,         25,2,20050206,       1854,   -63.0002,  -149.9995,       3687,   274.7,   1.3705,  34.7298,2,  34.7281,2,    174.3,2,   174.8,2,  104.45,2,   33.18,2,    0.01,2,    2.29,2,   0.259,2,   0.136,2,   0.040,2,  2267.9,2,  2350.2,2,-999.000,9,-999.0000,9, -999.00,9, -999.00,5,  -149.4,2,     3.3,-999.000,9,-999.000,  40.3758,2,   274.7,-999.000,   1.3570,         26,2,         19,2,         19,2,         38,2,         95,2,         39,2,        236,2, -999.00,9,   0.1130,2,   0.0740,2,   0.0360,2,   0.0270,2,   0.0193,2,   0.0218,2,-999.0000, -999.00
33RR20050106,       P16S,      95,          2,         24,         24,2,20050206,       1854,   -63.0002,  -149.9995,       3687,   325.3,   1.3306,  34.7305,2,  34.7297,2,    176.3,2,   176.7,2,  105.71,2,   33.08,2,    0.01,2,    2.28,2,   0.128,2,   0.067,2,   0.010,2,  2265.1,2,  2350.4,2,-999.000,9,-999.0000,9, -999.00,9, -999.00,5,  -147.8,2,     3.0,-999.000,9,-999.000,-999.0000,9,   325.3,-999.000,   1.3145,     -999.0,9,     -999.0,9,     -999.0,9,     -999.0,9,     -999.0,9,     -999.0,9,     -999.0,9, -999.00,9,-999.0000,9,-999.0000,9,-999.0000,9,-999.0000,9,-999.0000,9,-999.0000,9,-999.0000, -999.00
33RR20050106,       P16S,      95,          2,         23,         23,2,20050206,       1854,   -63.0002,  -149.9995,       3687,   375.5,   1.2878,  34.7305,2,  34.7289,2,    178.2,2,   178.6,2,  106.34,2,   32.98,2,    0.01,2,    2.27,2,   0.289,2,   0.160,2,   0.027,2,  2266.8,2,  2351.7,2,-999.000,9,-999.0000,9, -999.00,9, -999.00,5,  -151.7,2,     3.4,-999.000,9,-999.000,  42.8390,2,   375.5,-999.000,   1.2692,     -999.0,9,     -999.0,9,     -999.0,9,     -999.0,9,     -999.0,9,     -999.0,9,     -999.0,9, -999.00,9,   0.1110,2,   0.0720,2,   0.0360,2,   0.0270,2,   0.0190,2,   0.0217,2,-999.0000, -999.00
33RR20050106,       P16S,      95,          2,         22,         22,2,20050206,       1854,   -63.0002,  -149.9995,       3687,   426.1,   1.2385,  34.7298,2,  34.7287,2,    179.7,2,   180.8,2,  108.64,2,   32.83,2,    0.01,2,    2.26,2,   0.133,2,   0.078,2,   0.017,2,  2267.2,2,  2353.1,2,-999.000,9,-999.0000,9, -999.00,9, -999.00,5,  -150.5,2,     3.4,-999.000,9,-999.000,-999.0000,9,   426.1,-999.000,   1.2174,     -999.0,9,     -999.0,9,     -999.0,9,     -999.0,9,     -999.0,9,     -999.0,9,     -999.0,9, -999.00,9,-999.0000,9,-999.0000,9,-999.0000,9,-999.0000,9,-999.0000,9,-999.0000,9,-999.0000, -999.00
33RR20050106,       P16S,      95,          2,         21,         21,2,20050206,       1854,   -63.0002,  -149.9995,       3687,   476.5,   1.2031,  34.7291,2,  34.7257,2,    181.3,2,   182.4,2,  109.89,2,   32.77,2,    0.01,2,    2.25,2,   0.121,2,   0.073,2,   0.012,2,  2266.2,2,  2353.4,2,-999.000,9,-999.0000,9, -999.00,9, -999.00,5,  -152.8,2,     2.8,-999.000,9,-999.000,  41.9487,2,   476.5,-999.000,   1.1795,     -999.0,9,     -999.0,9,     -999.0,9,     -999.0,9,     -999.0,9,     -999.0,9,     -999.0,9, -999.00,9,-999.0000,9,-999.0000,9,-999.0000,9,-999.0000,9,-999.0000,9,-999.0000,9,-999.0000, -999.00
33RR20050106,       P16S,      95,          2,         20,         20,2,20050206,       1854,   -63.0002,  -149.9995,       3687,   526.8,   1.1606,  34.7279,2,  34.7287,2,    183.0,2,   184.0,2,  111.14,2,   32.67,2,    0.00,2,    2.25,2,   0.114,2,   0.072,2,   0.014,2,  2266.5,2,  2355.0,2,-999.000,9,-999.0000,9, -999.00,9, -999.00,5,  -160.7,6,     2.4,-999.000,9,-999.000,  38.1668,2,   526.8,-999.000,   1.1344,     -999.0,9,     -999.0,9,     -999.0,9,     -999.0,9,     -999.0,9,     -999.0,9,     -999.0,9, -999.00,9,   0.1100,2,   0.0720,2,   0.0360,2,   0.0270,2,   0.0188,2,   0.0214,2,-999.0000, -999.00
33RR20050106,       P16S,      95,          2,         19,         19,2,20050206,       1854,   -63.0002,  -149.9995,       3687,   647.9,   1.0806,  34.7254,2,  34.7250,2,    186.7,2,   187.8,2,  113.02,2,   32.57,2,    0.01,2,    2.24,2,   0.074,2,   0.049,2,   0.011,2,  2265.1,2,  2356.5,2,-999.000,9,-999.0000,9, -999.00,9, -999.00,5,  -158.2,2,     2.8,-999.000,9,-999.000,  37.8161,2,   647.9,-999.000,   1.0482,     -999.0,9,     -999.0,9,     -999.0,9,     -999.0,9,     -999.0,9,     -999.0,9,     -999.0,9, -999.00,9,   0.1130,2,   0.0750,2,   0.0360,2,   0.0260,2,   0.0195,2,   0.0221,2,-999.0000, -999.00
33RR20050106,       P16S,      95,          2,         18,         18,2,20050206,       1854,   -63.0002,  -149.9995,       3687,   748.8,   1.0072,  34.7227,2,  34.7210,2,    190.2,2,   191.4,2,  114.92,2,   32.36,2,    0.01,2,    2.24,2,-999.000,9,-999.000,9,-999.000,9,  2264.6,2,  2356.7,6,-999.000,9,-999.0000,9, -999.00,9, -999.00,5,  -161.6,2,     3.3,-999.000,9,-999.000,  46.2058,3,   748.8,-999.000,   0.9695,     -999.0,9,     -999.0,9,     -999.0,9,     -999.0,9,     -999.0,9,     -999.0,9,     -999.0,9, -999.00,9,   0.1180,2,   0.0790,2,   0.0400,2,   0.0300,2,   0.0160,2,   0.0191,2,-999.0000, -999.00
33RR20050106,       P16S,      95,          2,         17,         17,2,20050206,       1854,   -63.0002,  -149.9995,       3687,   849.8,   0.9410,  34.7201,2,  34.7185,2,    193.3,2,   194.2,2,  116.38,2,   32.36,2,    0.00,2,    2.24,2,   0.051,2,   0.045,2,  -0.002,2,  2263.8,2,  2356.7,2,-999.000,9,-999.0000,9, -999.00,9, -999.00,5,  -166.7,2,     3.4,-999.000,9,-999.000,  38.3143,2,   849.8,-999.000,   0.8979,     -999.0,9,     -999.0,9,     -999.0,9,     -999.0,9,     -999.0,9,     -999.0,9,     -999.0,9, -999.00,9,   0.1080,2,   0.0710,2,   0.0360,2,   0.0270,2,   0.0185,2,   0.0211,2,-999.0000, -999.00
33RR20050106,       P16S,      95,          2,         16,         16,2,20050206,       1854,   -63.0002,  -149.9995,       3687,   950.9,   0.8824,  34.7177,2,  34.7175,2,    195.9,2,   196.8,2,  118.26,2,   32.31,2,    0.00,2,    2.23,2,-999.000,9,-999.000,9,-999.000,9,  2263.5,6,  2357.2,2,-999.000,9,-999.0000,9, -999.00,9, -999.00,5,  -158.9,2,     3.0,-999.000,9,-999.000,  39.2086,2,   950.9,-999.000,   0.8339,     -999.0,9,     -999.0,9,     -999.0,9,     -999.0,9,     -999.0,9,     -999.0,9,     -999.0,9, -999.00,9,   0.1070,2,   0.0700,2,   0.0350,2,   0.0260,2,   0.0190,2,   0.0215,2,-999.0000, -999.00
33RR20050106,       P16S,      95,          2,         15,         15,2,20050206,       1854,   -63.0002,  -149.9995,       3687,  1052.1,   0.8220,  34.7153,2,  34.7144,2,    197.8,2,   198.5,2,  120.15,2,   32.26,2,    0.00,2,    2.23,2,   0.051,2,   0.044,2,   0.006,2,  2263.3,2,  2357.4,2,-999.000,9,-999.0000,9, -999.00,9, -999.00,5,  -153.9,2,     3.0,-999.000,9,-999.000,  37.0701,2,  1052.1,-999.000,   0.7679,     -999.0,9,     -999.0,9,     -999.0,9,     -999.0,9,     -999.0,9,     -999.0,9,     -999.0,9, -999.00,9,   0.1060,2,   0.0690,2,   0.0350,2,   0.0260,2,   0.0190,2,   0.0216,2,-999.0000, -999.00
33RR20050106,       P16S,      95,          2,         14,         14,2,20050206,       1854,   -63.0002,  -149.9995,       3687,  1153.2,   0.7725,  34.7132,2,  34.7107,2,    199.6,2,   201.0,2,  121.40,2,   32.27,2,    0.00,2,    2.23,2,-999.000,9,-999.000,9,-999.000,9,  2263.0,2,  2358.5,2,-999.000,9,-999.0000,9, -999.00,9, -999.00,5,  -153.2,2,     3.5,-999.000,9,-999.000,-999.0000,9,  1153.2,-999.000,   0.7127,     -999.0,9,     -999.0,9,     -999.0,9,     -999.0,9,     -999.0,9,     -999.0,9,     -999.0,9, -999.00,9,-999.0000,9,-999.0000,9,-999.0000,9,-999.0000,9,-999.0000,9,-999.0000,9,-999.0000, -999.00
33RR20050106,       P16S,      95,          2,         13,         13,2,20050206,       1854,   -63.0002,  -149.9995,       3687,  1254.5,   0.7323,  34.7116,2,  34.7107,2,    200.8,2,   201.5,2,  122.67,2,   32.27,2,    0.00,2,    2.23,2,   0.070,2,   0.049,2,   0.008,2,  2264.9,3,  2358.2,2,-999.000,9,-999.0000,9, -999.00,9, -999.00,5,  -151.7,2,     3.2,-999.000,9,-999.000,  40.9664,2,  1254.5,-999.000,   0.6665,     -999.0,9,     -999.0,9,     -999.0,9,     -999.0,9,     -999.0,9,     -999.0,9,     -999.0,9, -999.00,9,   0.1060,2,   0.0700,2,   0.0350,2,   0.0260,2,   0.0185,2,   0.0211,2,-999.0000, -999.00
33RR20050106,       P16S,      95,          2,         12,         12,2,20050206,       1854,   -63.0002,  -149.9995,       3687,  1355.8,   0.6900,  34.7101,2,  34.7099,2,    202.1,2,   202.7,2,  123.71,2,   32.22,2,    0.00,2,    2.23,2,   0.060,2,   0.043,2,   0.008,2,  2263.8,2,  2358.1,2,-999.000,9,-999.0000,9, -999.00,9, -999.00,5,  -147.3,2,     2.9,-999.000,9,-999.000,-999.0000,9,  1355.8,-999.000,   0.6182,     -999.0,9,     -999.0,9,     -999.0,9,     -999.0,9,     -999.0,9,     -999.0,9,     -999.0,9, -999.00,9,-999.0000,9,-999.0000,9,-999.0000,9,-999.0000,9,-999.0000,9,-999.0000,9,-999.0000, -999.00
33RR20050106,       P16S,      95,          2,         11,         11,2,20050206,       1854,   -63.0002,  -149.9995,       3687,  1558.3,   0.6088,  34.7073,2,  34.7073,2,    204.3,2,   205.2,2,  126.44,2,   32.17,2,    0.00,2,    2.23,2,-999.000,9,-999.000,9,-999.000,9,  2263.4,2,  2359.1,2,-999.000,9,-999.0000,9, -999.00,9, -999.00,5,  -148.0,2,     2.7,-999.000,9,-999.000,  38.3444,2,  1558.3,-999.000,   0.5247,     -999.0,9,     -999.0,9,     -999.0,9,     -999.0,9,     -999.0,9,     -999.0,9,     -999.0,9, -999.00,9,   0.1080,2,   0.0710,2,   0.0360,2,   0.0270,2,   0.0181,2,   0.0208,2,-999.0000, -999.00
33RR20050106,       P16S,      95,          2,         10,         10,2,20050206,       1854,   -63.0002,  -149.9995,       3687,  1761.2,   0.5216,  34.7053,2,  34.7030,2,    206.6,2,   207.3,2,  126.65,2,   32.23,2,    0.00,2,    2.23,2,   0.159,2,   0.097,2,   0.015,2,  2264.1,2,  2358.0,2,-999.000,9,-999.0000,9, -999.00,9, -999.00,5,  -153.8,2,     3.6,-999.000,9,-999.000,-999.0000,9,  1761.2,-999.000,   0.4247,     -999.0,9,     -999.0,9,     -999.0,9,     -999.0,9,     -999.0,9,     -999.0,9,     -999.0,9, -999.00,9,-999.0000,9,-999.0000,9,-999.0000,9,-999.0000,9,-999.0000,9,-999.0000,9,-999.0000, -999.00
33RR20050106,       P16S,      95,          2,          9,          9,2,20050206,       1854,   -63.0002,  -149.9995,       3687,  1964.0,   0.4441,  34.7041,2,  34.7026,2,    208.1,2,   209.2,2,  128.33,2,   32.34,2,    0.00,2,    2.23,2,   0.119,2,   0.080,2,   0.012,2,  2264.0,2,  2358.1,2,-999.000,9,-999.0000,9, -999.00,9, -999.00,5,  -157.9,2,     2.6,-999.000,9,-999.000,  39.3640,2,  1964.0,-999.000,   0.3339,     -999.0,9,     -999.0,9,     -999.0,9,     -999.0,9,     -999.0,9,     -999.0,9,     -999.0,9, -999.00,9,   0.1040,2,   0.0680,2,   0.0340,2,   0.0250,2,   0.0192,2,   0.0218,2,-999.0000, -999.00
33RR20050106,       P16S,      95,          2,          8,          8,2,20050206,       1854,   -63.0002,  -149.9995,       3687,  2126.6,   0.3940,  34.7032,2,  34.7034,2,    209.7,2,   210.6,2,  128.54,2,   32.29,2,    0.00,2,    2.24,2,   0.140,2,   0.074,2,   0.013,2,  2263.6,2,  2357.2,2,-999.000,9,-999.0000,9, -999.00,9, -999.00,5,  -160.8,2,     2.8,-999.000,9,-999.000,-999.0000,9,  2126.6,-999.000,   0.2727,     -999.0,9,     -999.0,9,     -999.0,9,     -999.0,9,     -999.0,9,     -999.0,9,     -999.0,9, -999.00,9,-999.0000,9,-999.0000,9,-999.0000,9,-999.0000,9,-999.0000,9,-999.0000,9,-999.0000, -999.00
33RR20050106,       P16S,      95,          2,          7,          7,2,20050206,       1854,   -63.0002,  -149.9995,       3687,  2380.7,   0.3056,  34.7013,2,  34.7001,2,    212.5,2,   213.5,2,  128.34,2,   32.34,2,    0.00,2,    2.24,2,   0.276,2,   0.153,2,   0.022,2,  2263.5,2,  2357.5,2,-999.000,9,-999.0000,9, -999.00,9, -999.00,5,  -159.0,2,     2.8,-999.000,9,-999.000,  40.6721,2,  2380.7,-999.000,   0.1664,     -999.0,9,     -999.0,9,     -999.0,9,     -999.0,9,     -999.0,9,     -999.0,9,     -999.0,9, -999.00,9,   0.1060,2,   0.0700,2,   0.0350,2,   0.0260,2,   0.0185,2,   0.0210,2,-999.0000, -999.00
33RR20050106,       P16S,      95,          2,          6,          6,2,20050206,       1854,   -63.0002,  -149.9995,       3687,  2635.3,   0.2302,  34.6986,2,  34.6991,2,    215.5,2,   216.8,2,  126.03,2,   32.19,2,    0.00,2,    2.23,2,   0.489,2,   0.259,2,   0.033,2,  2262.9,2,  2357.0,2,-999.000,9,-999.0000,9, -999.00,9, -999.00,5,  -151.5,2,     3.0,-999.000,9,-999.000,-999.0000,9,  2635.3,-999.000,   0.0722,     -999.0,9,     -999.0,9,     -999.0,9,     -999.0,9,     -999.0,9,     -999.0,9,     -999.0,9, -999.00,9,-999.0000,9,-999.0000,9,-999.0000,9,-999.0000,9,-999.0000,9,-999.0000,9,-999.0000, -999.00
33RR20050106,       P16S,      95,          2,          5,          5,2,20050206,       1854,   -63.0002,  -149.9995,       3687,  2890.0,   0.2128,  34.6970,2,  34.6961,2,    216.9,2,   217.9,2,  125.61,2,   32.13,2,    0.00,2,    2.24,2,   0.616,2,   0.324,2,   0.054,2,  2261.7,2,  2357.0,2,-999.000,9,-999.0000,9, -999.00,9, -999.00,5,  -154.1,2,     2.9,-999.000,9,-999.000,  37.5757,2,  2890.0,-999.000,   0.0339,     -999.0,9,     -999.0,9,     -999.0,9,     -999.0,9,     -999.0,9,     -999.0,9,     -999.0,9, -999.00,9,   0.1040,2,   0.0690,2,   0.0350,2,   0.0260,2,   0.0186,2,   0.0211,2,-999.0000, -999.00
33RR20050106,       P16S,      95,          2,          4,          4,2,20050206,       1854,   -63.0002,  -149.9995,       3687,  3144.7,   0.2239,  34.6969,2,  34.6955,2,    217.3,2,   218.2,2,  125.40,2,   32.19,2,    0.00,2,    2.23,2,   0.630,2,   0.332,2,   0.050,2,  2261.4,2,  2356.6,2,-999.000,9,-999.0000,9, -999.00,9, -999.00,5,  -153.5,2,     2.8,-999.000,9,-999.000,-999.0000,9,  3144.7,-999.000,   0.0226,     -999.0,9,     -999.0,9,     -999.0,9,     -999.0,9,     -999.0,9,     -999.0,9,     -999.0,9, -999.00,9,-999.0000,9,-999.0000,9,-999.0000,9,-999.0000,9,-999.0000,9,-999.0000,9,-999.0000, -999.00