BOTTLE,20201109CCHSIOCBG
EXPOCODE,SECT_ID,STNNBR,CASTNO,SAMPNO,BTLNBR,BTLNBR_FLAG_W,DATE,TIME,LATITUDE,LONGITUDE,DEPTH,CTDPRS,CTDTMP,CTDSAL,CTDSAL_FLAG_W,SALNTY,SALNTY_FLAG_W,CTDOXY,CTDOXY_FLAG_W,OXYGEN,OXYGEN_FLAG_W,SILCAT,SILCAT_FLAG_W,NITRAT,NITRAT_FLAG_W,NITRIT,NITRIT_FLAG_W,PHSPHT,PHSPHT_FLAG_W,CFC-11,CFC-11_FLAG_W,CFC-12,CFC-12_FLAG_W,CFC113,CFC113_FLAG_W,TCARBN,TCARBN_FLAG_W,ALKALI,ALKALI_FLAG_W,TRITUM,TRITUM_FLAG_W,HELIUM,HELIUM_FLAG_W,DELHE3,DELHE3_FLAG_W,DELC13,DELC13_FLAG_W,DELC14,DELC14_FLAG_W,C14ERR,NEON,NEON_FLAG_W,NEONER,DOC,DOC_FLAG_W,CTDRAW,TRITER,THETA,FUCO,FUCO_FLAG_W,RHAM,RHAM_FLAG_W,ARABA,ARABA_FLAG_W,GALA,GALA_FLAG_W,GLUC,GLUC_FLAG_W,MAN,MAN_FLAG_W,DCNS,DCNS_FLAG_W,BRDU,BRDU_FLAG_W,CDOM325,CDOM325_FLAG_W,CDOM340,CDOM340_FLAG_W,CDOM380,CDOM380_FLAG_W,CDOM412,CDOM412_FLAG_W,CDOMSL,CDOMSL_FLAG_W,CDOMSN,CDOMSN_FLAG_W,HELIER,DELHER
,,,,,,,,,,,METERS,DBAR,ITS-90,PSS-78,,PSS-78,,UMOL/KG,,UMOL/KG,,UMOL/KG,,UMOL/KG,,UMOL/KG,,UMOL/KG,,PMOL/KG,,PMOL/KG,,PMOL/KG,,UMOL/KG,,UMOL/KG,,TU,,NMOL/KG,,PERCNT,,/MILLE,,/MILLE,,/MILLE,NMOL/KG,,NMOL/KG,UMOL/KG,,DBAR,TU,DEG C,NMOL/KG,,NMOL/KG,,NMOL/KG,,NMOL/KG,,NMOL/KG,,NMOL/KG,,NMOL/KG,,PMOL/L/H,,1/M,,1/M,,1/M,,1/M,,1/NM,,1/NM,,NMOL/KG,PERCNT
33RR20050106,       P16S,      68,          1,         36,         36,2,20050129,       2059,   -49.4990,  -149.9995,       4176,     5.8,  11.3992,  34.5814,2,  34.5812,2,    267.4,2,   268.9,2,    0.52,2,    6.19,2,    0.19,2,    0.59,2,   3.510,2,   2.193,3,  -0.002,4,  2073.7,2,  2290.2,6,   0.294,2,-999.0000,9, -999.00,9, -999.00,9,  -999.0,9,  -999.0,-999.000,9,-999.000,-999.0000,9,     5.8,   0.009,  11.3985,     -999.0,9,     -999.0,9,     -999.0,9,     -999.0,9,     -999.0,9,     -999.0,9,     -999.0,9, -999.00,9,-999.0000,9,-999.0000,9,-999.0000,9,-999.0000,9,-999.0000,9,-999.0000,9,-999.0000, -999.00
33RR20050106,       P16S,      68,          1,         35,         35,2,20050129,       2059,   -49.4990,  -149.9995,       4176,    40.0,  11.4003,  34.5813,2,  34.5820,2,    268.8,2,   268.7,2,    0.51,2,    6.18,2,    0.19,2,    0.60,2,   3.516,2,   2.189,3,  -0.002,4,  2072.0,6,  2290.1,2,-999.000,9,-999.0000,9, -999.00,9, -999.00,9,  -999.0,9,  -999.0,-999.000,9,-999.000,-999.0000,9,    40.0,-999.000,  11.3953,     -999.0,9,     -999.0,9,     -999.0,9,     -999.0,9,     -999.0,9,     -999.0,9,     -999.0,9, -999.00,9,-999.0000,9,-999.0000,9,-999.0000,9,-999.0000,9,-999.0000,9,-999.0000,9,-999.0000, -999.00
33RR20050106,       P16S,      68,          1,         34,         34,2,20050129,       2059,   -49.4990,  -149.9995,       4176,    68.4,  11.3738,  34.5815,2,  34.5810,2,    268.7,2,   268.4,2,    0.49,2,    6.18,2,    0.20,2,    0.60,2,   3.541,2,   2.219,3,  -0.002,4,  2072.7,2,  2289.7,2,-999.000,9,-999.0000,9, -999.00,9, -999.00,9,  -999.0,9,  -999.0,-999.000,9,-999.000,-999.0000,9,    68.4,-999.000,  11.3653,     -999.0,9,     -999.0,9,     -999.0,9,     -999.0,9,     -999.0,9,     -999.0,9,     -999.0,9, -999.00,9,-999.0000,9,-999.0000,9,-999.0000,9,-999.0000,9,-999.0000,9,-999.0000,9,-999.0000, -999.00
33RR20050106,       P16S,      68,          1,         33,         33,2,20050129,       2059,   -49.4990,  -149.9995,       4176,    89.1,   9.6755,  34.5973,2,  34.5953,2,    262.6,2,   263.1,2,    2.27,2,   11.03,2,    0.19,2,    0.86,2,   3.813,2,   2.353,3,  -0.002,4,  2100.8,2,  2286.8,2,   0.258,2,   1.7790,2,   -1.76,2, -999.00,9,  -999.0,9,  -999.0,   7.527,2,   0.012,-999.0000,9,    89.1,   0.010,   9.6655,     -999.0,9,     -999.0,9,     -999.0,9,     -999.0,9,     -999.0,9,     -999.0,9,     -999.0,9, -999.00,9,-999.0000,9,-999.0000,9,-999.0000,9,-999.0000,9,-999.0000,9,-999.0000,9,   0.0020,    0.20
33RR20050106,       P16S,      68,          1,         32,         32,2,20050129,       2059,   -49.4990,  -149.9995,       4176,   120.1,   9.2554,  34.6010,2,  34.6012,2,    266.1,2,   267.1,2,    2.65,2,   11.73,2,    0.02,2,    0.89,2,   3.775,2,   2.354,3,  -0.002,4,  2103.7,2,  2287.1,2,   0.305,2,   1.7820,2,   -1.39,2, -999.00,9,  -999.0,9,  -999.0,   7.651,2,   0.028,-999.0000,9,   120.1,   0.007,   9.2422,     -999.0,9,     -999.0,9,     -999.0,9,     -999.0,9,     -999.0,9,     -999.0,9,     -999.0,9, -999.00,9,-999.0000,9,-999.0000,9,-999.0000,9,-999.0000,9,-999.0000,9,-999.0000,9,   0.0030,    0.20
33RR20050106,       P16S,      68,          1,         31,         31,2,20050129,       2059,   -49.4990,  -149.9995,       4176,   171.1,   9.1846,  34.6021,2,  34.6024,2,    268.2,2,   269.3,2,    2.45,2,   11.68,2,    0.02,2,    0.88,2,   3.861,2,   2.390,3,  -0.002,4,  2104.1,2,  2286.0,2,   0.303,2,   1.7770,2,   -1.67,3, -999.00,9,  -999.0,9,  -999.0,   7.543,2,   0.012,-999.0000,9,   171.1,   0.007,   9.1659,     -999.0,9,     -999.0,9,     -999.0,9,     -999.0,9,     -999.0,9,     -999.0,9,     -999.0,9, -999.00,9,-999.0000,9,-999.0000,9,-999.0000,9,-999.0000,9,-999.0000,9,-999.0000,9,   0.0010,    0.21
33RR20050106,       P16S,      68,          1,         30,         30,2,20050129,       2059,   -49.4990,  -149.9995,       4176,   222.3,   9.1515,  34.6043,2,  34.6042,2,    268.9,2,   270.0,2,    2.63,2,   11.67,2,    0.02,2,    0.88,2,   3.832,2,   2.385,3,  -0.002,4,  2103.6,2,  2286.4,2,-999.000,9,   1.8060,2,   -2.73,2, -999.00,9,  -999.0,9,  -999.0,   7.611,2,   0.014,-999.0000,9,   222.3,-999.000,   9.1272,     -999.0,9,     -999.0,9,     -999.0,9,     -999.0,9,     -999.0,9,     -999.0,9,     -999.0,9, -999.00,9,-999.0000,9,-999.0000,9,-999.0000,9,-999.0000,9,-999.0000,9,-999.0000,9,   0.0010,    0.20
33RR20050106,       P16S,      68,          1,         29,         29,2,20050129,       2059,   -49.4990,  -149.9995,       4176,   280.9,   9.0745,  34.6005,2,  34.6008,2,    268.6,2,   268.6,2,    2.62,2,   12.14,2,    0.01,2,    0.91,2,   3.816,2,   2.362,3,  -0.002,4,  2105.7,2,  2286.7,2,-999.000,9,-999.0000,9, -999.00,9, -999.00,9,  -999.0,9,  -999.0,-999.000,9,-999.000,-999.0000,9,   280.9,-999.000,   9.0438,     -999.0,9,     -999.0,9,     -999.0,9,     -999.0,9,     -999.0,9,     -999.0,9,     -999.0,9, -999.00,9,-999.0000,9,-999.0000,9,-999.0000,9,-999.0000,9,-999.0000,9,-999.0000,9,-999.0000, -999.00
33RR20050106,       P16S,      68,          1,         28,         28,2,20050129,       2059,   -49.4990,  -149.9995,       4176,   328.2,   8.8155,  34.5677,2,  34.5712,2,    261.9,2,   259.3,2,    3.41,2,   14.10,2,    0.01,2,    1.04,2,   3.880,2,   2.390,3,  -0.002,4,  2114.8,2,  2286.4,2,   0.263,2,-999.0000,9, -999.00,9, -999.00,9,  -999.0,9,  -999.0,-999.000,9,-999.000,-999.0000,9,   328.2,   0.010,   8.7802,     -999.0,9,     -999.0,9,     -999.0,9,     -999.0,9,     -999.0,9,     -999.0,9,     -999.0,9, -999.00,9,-999.0000,9,-999.0000,9,-999.0000,9,-999.0000,9,-999.0000,9,-999.0000,9,-999.0000, -999.00
33RR20050106,       P16S,      68,          1,         27,         27,2,20050129,       2059,   -49.4990,  -149.9995,       4176,   380.4,   8.4170,  34.5238,2,  34.5231,2,    248.6,2,   247.8,2,    4.78,2,   17.18,2,    0.01,2,    1.22,2,   3.868,2,   2.345,3,  -0.002,4,  2126.5,2,  2282.8,2,   0.237,2,   1.8230,2,   -1.08,2, -999.00,9,  -999.0,9,  -999.0,   7.722,2,   0.020,-999.0000,9,   380.4,   0.010,   8.3771,     -999.0,9,     -999.0,9,     -999.0,9,     -999.0,9,     -999.0,9,     -999.0,9,     -999.0,9, -999.00,9,-999.0000,9,-999.0000,9,-999.0000,9,-999.0000,9,-999.0000,9,-999.0000,9,   0.0020,    0.19
33RR20050106,       P16S,      68,          1,         26,         26,2,20050129,       2059,   -49.4990,  -149.9995,       4176,   431.3,   8.0690,  34.4840,2,  34.4844,2,    245.3,2,   246.5,2,    5.36,2,   18.51,2,    0.01,2,    1.30,2,-999.000,5,-999.000,5,-999.000,5,  2131.0,2,  2282.2,2,-999.000,9,   1.7930,2,   -0.98,2, -999.00,9,  -999.0,9,  -999.0,   7.707,2,   0.009,-999.0000,9,   431.3,-999.000,   8.0248,     -999.0,9,     -999.0,9,     -999.0,9,     -999.0,9,     -999.0,9,     -999.0,9,     -999.0,9, -999.00,9,-999.0000,9,-999.0000,9,-999.0000,9,-999.0000,9,-999.0000,9,-999.0000,9,   0.0010,    0.19
33RR20050106,       P16S,      68,          1,         25,         25,2,20050129,       2059,   -49.4990,  -149.9995,       4176,   483.6,   7.7831,  34.4506,2,  34.4516,2,    247.0,2,   249.7,2,    5.75,2,   19.30,2,    0.01,2,    1.35,2,-999.000,5,-999.000,5,-999.000,5,  2131.0,2,  2281.1,2,   0.170,2,   1.7870,2,   -0.80,2, -999.00,9,  -999.0,9,  -999.0,   7.703,2,   0.010,-999.0000,9,   483.6,   0.004,   7.7344,     -999.0,9,     -999.0,9,     -999.0,9,     -999.0,9,     -999.0,9,     -999.0,9,     -999.0,9, -999.00,9,-999.0000,9,-999.0000,9,-999.0000,9,-999.0000,9,-999.0000,9,-999.0000,9,   0.0010,    0.18
33RR20050106,       P16S,      68,          1,         24,         24,2,20050129,       2059,   -49.4990,  -149.9995,       4176,   533.2,   7.5800,  34.4300,2,  34.4326,2,    249.1,2,   250.6,2,    6.14,2,   19.71,2,    0.01,2,    1.38,2,   3.911,2,   2.244,3,  -0.002,4,  2132.9,2,  2281.0,2,-999.000,9,   1.8970,3,   -0.88,2, -999.00,9,  -999.0,9,  -999.0,   8.151,2,   0.012,-999.0000,9,   533.2,-999.000,   7.5270,     -999.0,9,     -999.0,9,     -999.0,9,     -999.0,9,     -999.0,9,     -999.0,9,     -999.0,9, -999.00,9,-999.0000,9,-999.0000,9,-999.0000,9,-999.0000,9,-999.0000,9,-999.0000,9,   0.0010,    0.18
33RR20050106,       P16S,      68,          1,         23,         23,2,20050129,       2059,   -49.4990,  -149.9995,       4176,   653.6,   7.1486,  34.3960,2,  34.3972,2,    243.9,2,   245.3,2,    7.91,2,   21.36,2,    0.01,2,    1.49,2,   3.694,2,   1.996,2,  -0.002,4,  2138.4,2,  2280.5,2,   0.174,2,   1.7890,2,    0.03,2, -999.00,9,  -999.0,9,  -999.0,   7.786,2,   0.011,-999.0000,9,   653.6,   0.009,   7.0852,     -999.0,9,     -999.0,9,     -999.0,9,     -999.0,9,     -999.0,9,     -999.0,9,     -999.0,9, -999.00,9,-999.0000,9,-999.0000,9,-999.0000,9,-999.0000,9,-999.0000,9,-999.0000,9,   0.0010,    0.18
33RR20050106,       P16S,      68,          1,         22,         22,2,20050129,       2059,   -49.4990,  -149.9995,       4176,   755.0,   6.7229,  34.3696,2,  34.3707,2,    238.9,2,   238.2,2,   10.08,2,   23.01,2,    0.01,2,    1.60,2,   3.165,2,   1.740,2,  -0.002,4,  2145.7,2,  2281.3,2,-999.000,9,   1.8200,2,    1.10,2, -999.00,9,  -999.0,9,  -999.0,   7.862,2,   0.011,-999.0000,9,   755.0,-999.000,   6.6516,     -999.0,9,     -999.0,9,     -999.0,9,     -999.0,9,     -999.0,9,     -999.0,9,     -999.0,9, -999.00,9,-999.0000,9,-999.0000,9,-999.0000,9,-999.0000,9,-999.0000,9,-999.0000,9,   0.0010,    0.19
33RR20050106,       P16S,      68,          1,         21,         21,2,20050129,       2059,   -49.4990,  -149.9995,       4176,   855.1,   6.2609,  34.3529,2,  34.3515,2,    229.5,2,   228.3,2,   14.06,2,   24.87,2,    0.01,2,    1.72,2,   2.711,6,   1.442,6,  -0.002,4,  2155.0,2,  2283.6,2,   0.107,2,   2.2090,4,    1.07,3, -999.00,9,  -999.0,9,  -999.0,   9.187,4,   0.011,-999.0000,9,   855.1,   0.008,   6.1826,     -999.0,9,     -999.0,9,     -999.0,9,     -999.0,9,     -999.0,9,     -999.0,9,     -999.0,9, -999.00,9,-999.0000,9,-999.0000,9,-999.0000,9,-999.0000,9,-999.0000,9,-999.0000,9,   0.0010,    0.17
33RR20050106,       P16S,      68,          1,         20,         20,2,20050129,       2059,   -49.4990,  -149.9995,       4176,   956.2,   5.7842,  34.3465,2,  34.3476,2,    217.6,2,   218.0,2,   18.63,2,   26.69,2,    0.01,2,    1.85,2,   2.266,2,   1.158,2,  -0.002,4,  2168.0,2,  2286.9,2,   0.106,2,   2.6870,4,    1.48,3, -999.00,9,  -999.0,9,  -999.0,  10.932,4,   0.019,-999.0000,9,   956.2,   0.003,   5.6994,     -999.0,9,     -999.0,9,     -999.0,9,     -999.0,9,     -999.0,9,     -999.0,9,     -999.0,9, -999.00,9,-999.0000,9,-999.0000,9,-999.0000,9,-999.0000,9,-999.0000,9,-999.0000,9,   0.0020,    0.16
33RR20050106,       P16S,      68,          1,         19,         19,2,20050129,       2059,   -49.4990,  -149.9995,       4176,  1056.0,   5.2946,  34.3455,2,  34.3456,2,    209.8,2,   211.1,2,   24.01,2,   28.24,2,    0.01,2,    1.95,2,   2.014,2,   0.976,2,  -0.002,4,  2179.4,2,  2289.7,2,-999.000,9,   1.8270,2,    2.38,2, -999.00,9,  -999.0,9,  -999.0,   7.951,2,   0.011,-999.0000,9,  1056.0,-999.000,   5.2041,     -999.0,9,     -999.0,9,     -999.0,9,     -999.0,9,     -999.0,9,     -999.0,9,     -999.0,9, -999.00,9,-999.0000,9,-999.0000,9,-999.0000,9,-999.0000,9,-999.0000,9,-999.0000,9,   0.0010,    0.19
33RR20050106,       P16S,      68,          1,         18,         18,2,20050129,       2059,   -49.4990,  -149.9995,       4176,  1154.6,   4.7120,  34.3415,2,  34.3429,2,    204.9,2,   206.8,2,   29.99,2,   29.69,2,    0.01,2,    2.06,2,   1.813,2,   0.878,2,  -0.002,4,  2189.6,2,  2296.2,2,-999.000,9,   1.8640,2,    3.58,2, -999.00,9,  -999.0,9,  -999.0,   8.083,2,   0.011,-999.0000,9,  1154.6,-999.000,   4.6173,     -999.0,9,     -999.0,9,     -999.0,9,     -999.0,9,     -999.0,9,     -999.0,9,     -999.0,9, -999.00,9,-999.0000,9,-999.0000,9,-999.0000,9,-999.0000,9,-999.0000,9,-999.0000,9,   0.0010,    0.19
33RR20050106,       P16S,      68,          1,         17,         17,2,20050129,       2059,   -49.4990,  -149.9995,       4176,  1256.7,   4.0322,  34.3479,2,  34.3560,2,    201.2,2,   202.3,2,   37.80,2,   31.24,2,    0.00,2,    2.16,2,   1.652,2,   0.811,2,  -0.002,4,  2203.3,6,  2301.7,2,   0.036,2,   1.8690,2,    4.75,2, -999.00,9,  -999.0,9,  -999.0,   8.097,2,   0.012,-999.0000,9,  1256.7,   0.002,   3.9347,     -999.0,9,     -999.0,9,     -999.0,9,     -999.0,9,     -999.0,9,     -999.0,9,     -999.0,9, -999.00,9,-999.0000,9,-999.0000,9,-999.0000,9,-999.0000,9,-999.0000,9,-999.0000,9,   0.0010,    0.19
33RR20050106,       P16S,      68,          1,         16,         16,2,20050129,       2059,   -49.4990,  -149.9995,       4176,  1359.0,   3.5933,  34.3769,2,  34.3770,2,    193.9,2,   195.0,2,   46.02,2,   32.37,2,    0.01,2,    2.25,2,   1.355,2,   0.644,2,  -0.002,4,  -999.0,9,  -999.0,9,   0.024,2,   1.8700,2,    5.71,2, -999.00,9,  -999.0,9,  -999.0,   8.153,2,   0.009,-999.0000,9,  1359.0,   0.002,   3.4913,     -999.0,9,     -999.0,9,     -999.0,9,     -999.0,9,     -999.0,9,     -999.0,9,     -999.0,9, -999.00,9,-999.0000,9,-999.0000,9,-999.0000,9,-999.0000,9,-999.0000,9,-999.0000,9,   0.0010,    0.19
33RR20050106,       P16S,      68,          1,         15,         15,2,20050129,       2059,   -49.4990,  -149.9995,       4176,  1459.6,   3.2676,  34.4159,2,  34.4175,2,    187.2,2,   187.3,2,   54.06,2,   33.22,2,    0.00,2,    2.31,2,-999.000,9,-999.000,9,-999.000,9,  -999.0,9,  -999.0,9,-999.000,9,-999.0000,9, -999.00,9, -999.00,9,  -999.0,9,  -999.0,-999.000,9,-999.000,-999.0000,9,  1459.6,-999.000,   3.1605,     -999.0,9,     -999.0,9,     -999.0,9,     -999.0,9,     -999.0,9,     -999.0,9,     -999.0,9, -999.00,9,-999.0000,9,-999.0000,9,-999.0000,9,-999.0000,9,-999.0000,9,-999.0000,9,-999.0000, -999.00
33RR20050106,       P16S,      68,          1,         14,         14,2,20050129,       2059,   -49.4990,  -149.9995,       4176,  1562.0,   3.0825,  34.4429,2,  34.4440,2,    181.8,2,   183.1,2,   58.69,2,   33.59,2,    0.00,2,    2.34,2,   0.925,2,   0.417,2,  -0.002,4,  -999.0,9,  -999.0,9,-999.000,9,   1.8590,2,    7.93,2, -999.00,9,  -999.0,9,  -999.0,   8.053,2,   0.011,-999.0000,9,  1562.0,-999.000,   2.9688,     -999.0,9,     -999.0,9,     -999.0,9,     -999.0,9,     -999.0,9,     -999.0,9,     -999.0,9, -999.00,9,-999.0000,9,-999.0000,9,-999.0000,9,-999.0000,9,-999.0000,9,-999.0000,9,   0.0010,    0.18
33RR20050106,       P16S,      68,          1,         13,         13,2,20050129,       2059,   -49.4990,  -149.9995,       4176,  1663.9,   2.8894,  34.4869,2,  34.4869,2,    177.1,2,   177.4,2,   65.34,2,   33.90,2,    0.00,2,    2.36,2,-999.000,9,-999.000,9,-999.000,9,  -999.0,9,  -999.0,9,-999.000,9,-999.0000,9, -999.00,9, -999.00,9,  -999.0,9,  -999.0,-999.000,9,-999.000,-999.0000,9,  1663.9,-999.000,   2.7693,     -999.0,9,     -999.0,9,     -999.0,9,     -999.0,9,     -999.0,9,     -999.0,9,     -999.0,9, -999.00,9,-999.0000,9,-999.0000,9,-999.0000,9,-999.0000,9,-999.0000,9,-999.0000,9,-999.0000, -999.00
33RR20050106,       P16S,      68,          1,         12,         12,2,20050129,       2059,   -49.4990,  -149.9995,       4176,  1764.3,   2.7399,  34.5259,2,  34.5264,2,    173.5,2,   174.0,2,   70.39,2,   34.01,2,    0.00,2,    2.37,2,   0.527,2,   0.223,2,  -0.002,4,  -999.0,9,  -999.0,9,   0.006,2,   1.8810,2,    9.82,2, -999.00,9,  -999.0,9,  -999.0,   8.138,2,   0.009,-999.0000,9,  1764.3,   0.002,   2.6131,     -999.0,9,     -999.0,9,     -999.0,9,     -999.0,9,     -999.0,9,     -999.0,9,     -999.0,9, -999.00,9,-999.0000,9,-999.0000,9,-999.0000,9,-999.0000,9,-999.0000,9,-999.0000,9,   0.0010,    0.20
33RR20050106,       P16S,      68,          1,         11,         11,2,20050129,       2059,   -49.4990,  -149.9995,       4176,  1966.2,   2.5308,  34.5941,2,  34.5956,2,    170.4,2,   170.8,2,   78.68,2,   33.73,2,    0.00,2,    2.36,2,   0.307,2,   0.129,2,  -0.002,4,  -999.0,9,  -999.0,9,   0.002,2,   1.8840,2,   11.95,2, -999.00,9,  -999.0,9,  -999.0,   8.208,2,   0.012,-999.0000,9,  1966.2,   0.006,   2.3894,     -999.0,9,     -999.0,9,     -999.0,9,     -999.0,9,     -999.0,9,     -999.0,9,     -999.0,9, -999.00,9,-999.0000,9,-999.0000,9,-999.0000,9,-999.0000,9,-999.0000,9,-999.0000,9,   0.0010,    0.21
33RR20050106,       P16S,      68,          1,         10,         10,2,20050129,       2059,   -49.4990,  -149.9995,       4176,  2130.0,   2.4198,  34.6344,2,  34.6354,2,    170.6,2,   171.4,2,   82.31,2,   33.39,2,    0.00,2,    2.32,2,   0.209,2,   0.089,2,  -0.002,4,  -999.0,9,  -999.0,9,   0.001,2,   1.8910,2,   11.76,2, -999.00,9,  -999.0,9,  -999.0,   8.182,2,   0.011,-999.0000,9,  2130.0,   0.002,   2.2656,     -999.0,9,     -999.0,9,     -999.0,9,     -999.0,9,     -999.0,9,     -999.0,9,     -999.0,9, -999.00,9,-999.0000,9,-999.0000,9,-999.0000,9,-999.0000,9,-999.0000,9,-999.0000,9,   0.0010,    0.19
33RR20050106,       P16S,      68,          1,          9,          9,2,20050129,       2059,   -49.4990,  -149.9995,       4176,  2384.7,   2.2747,  34.6882,2,  34.6895,2,    178.1,2,   179.0,2,   82.69,2,   32.15,2,    0.00,2,    2.24,2,   0.164,2,   0.070,2,  -0.002,4,  -999.0,9,  -999.0,9,   0.001,2,   1.8930,2,   10.73,2, -999.00,9,  -999.0,9,  -999.0,   8.203,2,   0.009,-999.0000,9,  2384.7,   0.002,   2.0998,     -999.0,9,     -999.0,9,     -999.0,9,     -999.0,9,     -999.0,9,     -999.0,9,     -999.0,9, -999.00,9,-999.0000,9,-999.0000,9,-999.0000,9,-999.0000,9,-999.0000,9,-999.0000,9,   0.0010,    0.19
33RR20050106,       P16S,      68,          1,          8,          8,2,20050129,       2059,   -49.4990,  -149.9995,       4176,  2637.7,   2.1214,  34.7197,2,  34.7203,2,    184.9,2,   185.3,2,   85.91,2,   31.43,2,    0.00,2,    2.18,2,   0.102,2,   0.039,2,  -0.002,4,  -999.0,9,  -999.0,9,   0.001,2,   1.8860,2,   11.52,2, -999.00,9,  -999.0,9,  -999.0,   8.169,2,   0.011,-999.0000,9,  2637.7,   0.002,   1.9257,     -999.0,9,     -999.0,9,     -999.0,9,     -999.0,9,     -999.0,9,     -999.0,9,     -999.0,9, -999.00,9,-999.0000,9,-999.0000,9,-999.0000,9,-999.0000,9,-999.0000,9,-999.0000,9,   0.0010,    0.21
33RR20050106,       P16S,      68,          1,          7,          7,2,20050129,       2059,   -49.4990,  -149.9995,       4176,  2894.1,   1.9529,  34.7330,2,  34.7335,2,    189.6,2,   190.0,2,   90.37,2,   31.22,2,    0.00,2,    2.16,2,   0.075,2,   0.042,2,  -0.002,4,  -999.0,9,  -999.0,9,-999.000,9,   1.9630,2,   11.59,2, -999.00,9,  -999.0,9,  -999.0,   8.297,2,   0.011,-999.0000,9,  2894.1,-999.000,   1.7361,     -999.0,9,     -999.0,9,     -999.0,9,     -999.0,9,     -999.0,9,     -999.0,9,     -999.0,9, -999.00,9,-999.0000,9,-999.0000,9,-999.0000,9,-999.0000,9,-999.0000,9,-999.0000,9,   0.0010,    0.20