BOTTLE,20201109CCHSIOCBG
EXPOCODE,SECT_ID,STNNBR,CASTNO,SAMPNO,BTLNBR,BTLNBR_FLAG_W,DATE,TIME,LATITUDE,LONGITUDE,DEPTH,CTDPRS,CTDTMP,CTDSAL,CTDSAL_FLAG_W,SALNTY,SALNTY_FLAG_W,CTDOXY,CTDOXY_FLAG_W,OXYGEN,OXYGEN_FLAG_W,SILCAT,SILCAT_FLAG_W,NITRAT,NITRAT_FLAG_W,NITRIT,NITRIT_FLAG_W,PHSPHT,PHSPHT_FLAG_W,CFC-11,CFC-11_FLAG_W,CFC-12,CFC-12_FLAG_W,CFC113,CFC113_FLAG_W,TCARBN,TCARBN_FLAG_W,ALKALI,ALKALI_FLAG_W,TRITUM,TRITUM_FLAG_W,HELIUM,HELIUM_FLAG_W,DELHE3,DELHE3_FLAG_W,DELC13,DELC13_FLAG_W,DELC14,DELC14_FLAG_W,C14ERR,NEON,NEON_FLAG_W,NEONER,DOC,DOC_FLAG_W,CTDRAW,TRITER,THETA,FUCO,FUCO_FLAG_W,RHAM,RHAM_FLAG_W,ARABA,ARABA_FLAG_W,GALA,GALA_FLAG_W,GLUC,GLUC_FLAG_W,MAN,MAN_FLAG_W,DCNS,DCNS_FLAG_W,BRDU,BRDU_FLAG_W,CDOM325,CDOM325_FLAG_W,CDOM340,CDOM340_FLAG_W,CDOM380,CDOM380_FLAG_W,CDOM412,CDOM412_FLAG_W,CDOMSL,CDOMSL_FLAG_W,CDOMSN,CDOMSN_FLAG_W,HELIER,DELHER
,,,,,,,,,,,METERS,DBAR,ITS-90,PSS-78,,PSS-78,,UMOL/KG,,UMOL/KG,,UMOL/KG,,UMOL/KG,,UMOL/KG,,UMOL/KG,,PMOL/KG,,PMOL/KG,,PMOL/KG,,UMOL/KG,,UMOL/KG,,TU,,NMOL/KG,,PERCNT,,/MILLE,,/MILLE,,/MILLE,NMOL/KG,,NMOL/KG,UMOL/KG,,DBAR,TU,DEG C,NMOL/KG,,NMOL/KG,,NMOL/KG,,NMOL/KG,,NMOL/KG,,NMOL/KG,,NMOL/KG,,PMOL/L/H,,1/M,,1/M,,1/M,,1/M,,1/NM,,1/NM,,NMOL/KG,PERCNT
33RR20050106,       P16S,     100,          2,         30,         30,2,20050208,       0315,   -65.4997,  -149.9342,       3823,     3.3,   0.4929,  34.0070,2,  34.0072,2,    340.1,2,   342.1,2,   48.17,2,   24.62,2,    0.28,2,    1.76,2,   6.053,2,   3.298,2,   0.560,2,  2175.9,6,  2299.5,6,-999.000,9,-999.0000,9, -999.00,9, -999.00,9,  -999.0,9,  -999.0,-999.000,9,-999.000,-999.0000,9,     3.3,-999.000,   0.4928,     -999.0,9,     -999.0,9,     -999.0,9,     -999.0,9,     -999.0,9,     -999.0,9,     -999.0,9, -999.00,9,-999.0000,9,-999.0000,9,-999.0000,9,-999.0000,9,-999.0000,9,-999.0000,9,-999.0000, -999.00
33RR20050106,       P16S,     100,          2,         29,         29,2,20050208,       0315,   -65.4997,  -149.9342,       3823,    60.0,   0.1638,  34.0282,2,  34.0137,2,    342.2,2,   340.6,2,   48.18,2,   24.74,2,    0.27,2,    1.77,2,   6.036,2,   3.260,2,   0.556,2,  2177.3,2,  2300.2,2,-999.000,9,-999.0000,9, -999.00,9, -999.00,9,  -999.0,9,  -999.0,-999.000,9,-999.000,-999.0000,9,    60.0,-999.000,   0.1616,     -999.0,9,     -999.0,9,     -999.0,9,     -999.0,9,     -999.0,9,     -999.0,9,     -999.0,9, -999.00,9,-999.0000,9,-999.0000,9,-999.0000,9,-999.0000,9,-999.0000,9,-999.0000,9,-999.0000, -999.00
33RR20050106,       P16S,     100,          2,         28,         28,2,20050208,       0315,   -65.4997,  -149.9342,       3823,    81.2,  -1.4448,  34.1633,2,  34.1558,2,    310.9,2,   310.5,2,   53.87,2,   26.65,2,    0.23,2,    1.92,2,   4.996,2,   2.667,2,   0.447,2,  2199.6,2,  2308.8,2,-999.000,9,-999.0000,9, -999.00,9, -999.00,9,  -999.0,9,  -999.0,-999.000,9,-999.000,-999.0000,9,    81.2,-999.000,  -1.4466,     -999.0,9,     -999.0,9,     -999.0,9,     -999.0,9,     -999.0,9,     -999.0,9,     -999.0,9, -999.00,9,-999.0000,9,-999.0000,9,-999.0000,9,-999.0000,9,-999.0000,9,-999.0000,9,-999.0000, -999.00
33RR20050106,       P16S,     100,          2,         27,         27,2,20050208,       0315,   -65.4997,  -149.9342,       3823,   106.3,  -0.9462,  34.2690,2,  34.2562,2,    282.6,2,   282.5,2,   61.19,2,   28.20,2,    0.23,2,    2.01,2,   4.294,2,   2.275,2,   0.379,2,  2208.8,2,  2313.3,2,-999.000,9,-999.0000,9, -999.00,9, -999.00,5,  -118.7,6,     2.2,-999.000,9,-999.000,-999.0000,9,   106.3,-999.000,  -0.9491,     -999.0,9,     -999.0,9,     -999.0,9,     -999.0,9,     -999.0,9,     -999.0,9,     -999.0,9, -999.00,9,-999.0000,9,-999.0000,9,-999.0000,9,-999.0000,9,-999.0000,9,-999.0000,9,-999.0000, -999.00
33RR20050106,       P16S,     100,          2,         26,         26,2,20050208,       0315,   -65.4997,  -149.9342,       3823,   156.6,   0.8428,  34.5878,2,  34.5864,2,    211.0,2,   201.1,2,   85.53,2,   31.94,2,    0.04,2,    2.23,2,   1.364,2,   0.704,2,   0.114,2,  2250.9,2,  2336.2,2,-999.000,9,-999.0000,9, -999.00,9, -999.00,9,  -999.0,9,  -999.0,-999.000,9,-999.000,-999.0000,9,   156.6,-999.000,   0.8360,     -999.0,9,     -999.0,9,     -999.0,9,     -999.0,9,     -999.0,9,     -999.0,9,     -999.0,9, -999.00,9,-999.0000,9,-999.0000,9,-999.0000,9,-999.0000,9,-999.0000,9,-999.0000,9,-999.0000, -999.00
33RR20050106,       P16S,     100,          2,         25,         25,2,20050208,       0315,   -65.4997,  -149.9342,       3823,   207.0,   1.4746,  34.7140,2,  34.7127,2,    178.5,2,   177.6,2,   95.79,2,   32.56,2,    0.02,2,    2.27,2,   0.453,2,   0.220,2,   0.034,2,  2262.4,2,  2345.4,2,-999.000,9,-999.0000,9, -999.00,9, -999.00,9,  -999.0,9,  -999.0,-999.000,9,-999.000,-999.0000,9,   207.0,-999.000,   1.4644,     -999.0,9,     -999.0,9,     -999.0,9,     -999.0,9,     -999.0,9,     -999.0,9,     -999.0,9, -999.00,9,-999.0000,9,-999.0000,9,-999.0000,9,-999.0000,9,-999.0000,9,-999.0000,9,-999.0000, -999.00
33RR20050106,       P16S,     100,          2,         24,         24,2,20050208,       0315,   -65.4997,  -149.9342,       3823,   257.6,   1.4702,  34.7282,2,  34.7269,2,    180.1,2,   179.4,2,   98.47,2,   32.29,2,    0.01,2,    2.25,2,   0.234,2,   0.111,2,   0.022,2,  2262.9,2,  2348.1,2,-999.000,9,-999.0000,9, -999.00,9, -999.00,9,  -999.0,9,  -999.0,-999.000,9,-999.000,-999.0000,9,   257.6,-999.000,   1.4573,     -999.0,9,     -999.0,9,     -999.0,9,     -999.0,9,     -999.0,9,     -999.0,9,     -999.0,9, -999.00,9,-999.0000,9,-999.0000,9,-999.0000,9,-999.0000,9,-999.0000,9,-999.0000,9,-999.0000, -999.00
33RR20050106,       P16S,     100,          2,         23,         23,2,20050208,       0315,   -65.4997,  -149.9342,       3823,   308.0,   1.4242,  34.7307,2,  34.7293,2,    180.6,2,   181.4,2,  100.54,2,   32.20,2,    0.01,2,    2.23,2,   0.226,2,   0.114,2,   0.015,2,  2262.4,2,  2349.7,2,-999.000,9,-999.0000,9, -999.00,9, -999.00,9,  -999.0,9,  -999.0,-999.000,9,-999.000,-999.0000,9,   308.0,-999.000,   1.4088,     -999.0,9,     -999.0,9,     -999.0,9,     -999.0,9,     -999.0,9,     -999.0,9,     -999.0,9, -999.00,9,-999.0000,9,-999.0000,9,-999.0000,9,-999.0000,9,-999.0000,9,-999.0000,9,-999.0000, -999.00
33RR20050106,       P16S,     100,          2,         22,         22,2,20050208,       0315,   -65.4997,  -149.9342,       3823,   358.4,   1.3835,  34.7314,2,  34.7301,2,    181.4,2,   182.3,2,  102.40,2,   32.14,2,    0.00,2,    2.23,2,   0.179,2,   0.082,2,   0.017,2,  2262.2,2,  2350.3,2,-999.000,9,-999.0000,9, -999.00,9, -999.00,9,  -999.0,9,  -999.0,-999.000,9,-999.000,-999.0000,9,   358.4,-999.000,   1.3656,     -999.0,9,     -999.0,9,     -999.0,9,     -999.0,9,     -999.0,9,     -999.0,9,     -999.0,9, -999.00,9,-999.0000,9,-999.0000,9,-999.0000,9,-999.0000,9,-999.0000,9,-999.0000,9,-999.0000, -999.00
33RR20050106,       P16S,     100,          2,         21,         21,2,20050208,       0315,   -65.4997,  -149.9342,       3823,   409.5,   1.3373,  34.7313,2,  34.7303,2,    181.8,2,   182.5,2,  104.05,2,   32.30,2,    0.00,2,    2.23,2,   0.158,6,   0.070,6,   0.016,6,  2264.5,2,  2351.8,2,-999.000,9,-999.0000,9, -999.00,9, -999.00,9,  -999.0,9,  -999.0,-999.000,9,-999.000,-999.0000,9,   409.5,-999.000,   1.3168,     -999.0,9,     -999.0,9,     -999.0,9,     -999.0,9,     -999.0,9,     -999.0,9,     -999.0,9, -999.00,9,-999.0000,9,-999.0000,9,-999.0000,9,-999.0000,9,-999.0000,9,-999.0000,9,-999.0000, -999.00
33RR20050106,       P16S,     100,          2,         20,         20,2,20050208,       0315,   -65.4997,  -149.9342,       3823,   509.9,   1.2614,  34.7305,2,  34.7299,2,    184.4,2,   185.2,2,  106.73,2,   32.30,2,    0.00,2,    2.22,2,   0.104,2,   0.050,2,   0.011,2,  -999.0,9,  -999.0,9,-999.000,9,-999.0000,9, -999.00,9, -999.00,9,  -999.0,9,  -999.0,-999.000,9,-999.000,-999.0000,9,   509.9,-999.000,   1.2357,     -999.0,9,     -999.0,9,     -999.0,9,     -999.0,9,     -999.0,9,     -999.0,9,     -999.0,9, -999.00,9,-999.0000,9,-999.0000,9,-999.0000,9,-999.0000,9,-999.0000,9,-999.0000,9,-999.0000, -999.00
33RR20050106,       P16S,     100,          2,         19,         19,2,20050208,       0315,   -65.4997,  -149.9342,       3823,   610.5,   1.1917,  34.7288,2,  34.7276,2,    187.1,2,   187.4,2,  109.00,2,   32.25,2,    0.00,2,    2.23,2,   0.091,2,   0.041,2,   0.003,2,  2263.4,2,  2354.3,2,-999.000,9,-999.0000,9, -999.00,9, -999.00,9,  -999.0,9,  -999.0,-999.000,9,-999.000,-999.0000,9,   610.5,-999.000,   1.1608,     -999.0,9,     -999.0,9,     -999.0,9,     -999.0,9,     -999.0,9,     -999.0,9,     -999.0,9, -999.00,9,-999.0000,9,-999.0000,9,-999.0000,9,-999.0000,9,-999.0000,9,-999.0000,9,-999.0000, -999.00
33RR20050106,       P16S,     100,          2,         18,         18,2,20050208,       0315,   -65.4997,  -149.9342,       3823,   711.9,   1.1200,  34.7264,2,  34.7266,2,    189.6,2,   190.4,2,  110.87,2,   32.25,2,    0.00,2,    2.22,2,-999.000,9,-999.000,9,-999.000,9,  -999.0,9,  -999.0,9,-999.000,9,-999.0000,9, -999.00,9, -999.00,9,  -999.0,9,  -999.0,-999.000,9,-999.000,-999.0000,9,   711.9,-999.000,   1.0837,     -999.0,9,     -999.0,9,     -999.0,9,     -999.0,9,     -999.0,9,     -999.0,9,     -999.0,9, -999.00,9,-999.0000,9,-999.0000,9,-999.0000,9,-999.0000,9,-999.0000,9,-999.0000,9,-999.0000, -999.00
33RR20050106,       P16S,     100,          2,         17,         17,2,20050208,       0315,   -65.4997,  -149.9342,       3823,   813.2,   1.0490,  34.7239,2,  34.7238,2,    191.8,2,   192.8,2,  112.73,2,   32.09,2,    0.00,2,    2.22,2,   0.068,2,   0.030,2,   0.009,2,  2262.3,2,  2355.6,2,-999.000,9,-999.0000,9, -999.00,9, -999.00,9,  -999.0,9,  -999.0,-999.000,9,-999.000,-999.0000,9,   813.2,-999.000,   1.0073,     -999.0,9,     -999.0,9,     -999.0,9,     -999.0,9,     -999.0,9,     -999.0,9,     -999.0,9, -999.00,9,-999.0000,9,-999.0000,9,-999.0000,9,-999.0000,9,-999.0000,9,-999.0000,9,-999.0000, -999.00
33RR20050106,       P16S,     100,          2,         16,         16,2,20050208,       0315,   -65.4997,  -149.9342,       3823,   913.7,   0.9813,  34.7213,2,  34.7203,2,    194.4,2,   195.2,2,  114.18,2,   32.20,2,    0.00,2,    2.22,2,-999.000,9,-999.000,9,-999.000,9,  -999.0,9,  -999.0,9,-999.000,9,-999.0000,9, -999.00,9, -999.00,9,  -999.0,9,  -999.0,-999.000,9,-999.000,-999.0000,9,   913.7,-999.000,   0.9342,     -999.0,9,     -999.0,9,     -999.0,9,     -999.0,9,     -999.0,9,     -999.0,9,     -999.0,9, -999.00,9,-999.0000,9,-999.0000,9,-999.0000,9,-999.0000,9,-999.0000,9,-999.0000,9,-999.0000, -999.00
33RR20050106,       P16S,     100,          2,         15,         15,2,20050208,       0315,   -65.4997,  -149.9342,       3823,  1014.9,   0.9193,  34.7188,2,  34.7197,2,    196.2,2,   196.8,2,  115.84,2,   32.20,2,    0.00,2,    2.22,2,   0.063,2,   0.038,2,   0.011,2,  2262.7,2,  2357.6,2,-999.000,9,-999.0000,9, -999.00,9, -999.00,9,  -999.0,9,  -999.0,-999.000,9,-999.000,-999.0000,9,  1014.9,-999.000,   0.8666,     -999.0,9,     -999.0,9,     -999.0,9,     -999.0,9,     -999.0,9,     -999.0,9,     -999.0,9, -999.00,9,-999.0000,9,-999.0000,9,-999.0000,9,-999.0000,9,-999.0000,9,-999.0000,9,-999.0000, -999.00
33RR20050106,       P16S,     100,          2,         14,         14,2,20050208,       0315,   -65.4997,  -149.9342,       3823,  1115.9,   0.8582,  34.7163,2,  34.7201,2,    198.1,2,   198.5,2,  118.94,2,   32.20,2,    0.00,2,    2.22,2,-999.000,9,-999.000,9,-999.000,9,  -999.0,9,  -999.0,9,-999.000,9,-999.0000,9, -999.00,9, -999.00,9,  -999.0,9,  -999.0,-999.000,9,-999.000,-999.0000,9,  1115.9,-999.000,   0.7999,     -999.0,9,     -999.0,9,     -999.0,9,     -999.0,9,     -999.0,9,     -999.0,9,     -999.0,9, -999.00,9,-999.0000,9,-999.0000,9,-999.0000,9,-999.0000,9,-999.0000,9,-999.0000,9,-999.0000, -999.00
33RR20050106,       P16S,     100,          2,         13,         13,2,20050208,       0315,   -65.4997,  -149.9342,       3823,  1217.3,   0.8063,  34.7142,2,  34.7142,2,    199.3,2,   199.9,2,  120.20,2,   32.26,2,    0.00,2,    2.21,2,   0.072,2,   0.035,2,   0.009,2,  2262.3,2,  2358.3,2,-999.000,9,-999.0000,9, -999.00,9, -999.00,9,  -999.0,9,  -999.0,-999.000,9,-999.000,-999.0000,9,  1217.3,-999.000,   0.7422,     -999.0,9,     -999.0,9,     -999.0,9,     -999.0,9,     -999.0,9,     -999.0,9,     -999.0,9, -999.00,9,-999.0000,9,-999.0000,9,-999.0000,9,-999.0000,9,-999.0000,9,-999.0000,9,-999.0000, -999.00
33RR20050106,       P16S,     100,          2,         12,         12,2,20050208,       0315,   -65.4997,  -149.9342,       3823,  1419.9,   0.7200,  34.7107,2,  34.7113,2,    201.8,2,   202.5,2,  123.10,2,   32.20,2,    0.00,2,    2.21,2,   0.066,2,   0.027,2,   0.009,2,  -999.0,9,  -999.0,9,-999.000,9,-999.0000,9, -999.00,9, -999.00,9,  -999.0,9,  -999.0,-999.000,9,-999.000,-999.0000,9,  1419.9,-999.000,   0.6437,     -999.0,9,     -999.0,9,     -999.0,9,     -999.0,9,     -999.0,9,     -999.0,9,     -999.0,9, -999.00,9,-999.0000,9,-999.0000,9,-999.0000,9,-999.0000,9,-999.0000,9,-999.0000,9,-999.0000, -999.00
33RR20050106,       P16S,     100,          2,         11,         11,2,20050208,       0315,   -65.4997,  -149.9342,       3823,  1622.1,   0.6436,  34.7080,2,  34.7072,2,    203.8,2,   204.6,2,  125.17,2,   32.36,2,    0.00,2,    2.22,2,   0.081,2,   0.044,2,   0.019,2,  2263.0,2,  2358.7,2,-999.000,9,-999.0000,9, -999.00,9, -999.00,9,  -999.0,9,  -999.0,-999.000,9,-999.000,-999.0000,9,  1622.1,-999.000,   0.5547,     -999.0,9,     -999.0,9,     -999.0,9,     -999.0,9,     -999.0,9,     -999.0,9,     -999.0,9, -999.00,9,-999.0000,9,-999.0000,9,-999.0000,9,-999.0000,9,-999.0000,9,-999.0000,9,-999.0000, -999.00
33RR20050106,       P16S,     100,          2,         10,         10,2,20050208,       0315,   -65.4997,  -149.9342,       3823,  1825.2,   0.5636,  34.7060,2,  34.7056,2,    205.6,2,   206.4,2,  125.39,2,   32.47,2,    0.00,2,    2.23,2,   0.098,2,   0.047,2,   0.008,2,  -999.0,9,  -999.0,9,-999.000,9,-999.0000,9, -999.00,9, -999.00,9,  -999.0,9,  -999.0,-999.000,9,-999.000,-999.0000,9,  1825.2,-999.000,   0.4616,     -999.0,9,     -999.0,9,     -999.0,9,     -999.0,9,     -999.0,9,     -999.0,9,     -999.0,9, -999.00,9,-999.0000,9,-999.0000,9,-999.0000,9,-999.0000,9,-999.0000,9,-999.0000,9,-999.0000, -999.00
33RR20050106,       P16S,     100,          2,          9,          9,2,20050208,       0315,   -65.4997,  -149.9342,       3823,  2028.3,   0.4844,  34.7047,2,  34.7041,2,    207.3,2,   208.4,2,  127.46,2,   32.53,2,    0.00,2,    2.23,2,   0.117,2,   0.056,2,   0.011,2,  2262.3,2,  2359.0,2,-999.000,9,-999.0000,9, -999.00,9, -999.00,9,  -999.0,9,  -999.0,-999.000,9,-999.000,-999.0000,9,  2028.3,-999.000,   0.3689,     -999.0,9,     -999.0,9,     -999.0,9,     -999.0,9,     -999.0,9,     -999.0,9,     -999.0,9, -999.00,9,-999.0000,9,-999.0000,9,-999.0000,9,-999.0000,9,-999.0000,9,-999.0000,9,-999.0000, -999.00
33RR20050106,       P16S,     100,          2,          8,          8,2,20050208,       0315,   -65.4997,  -149.9342,       3823,  2282.5,   0.4026,  34.7040,2,  34.7047,2,    209.5,2,   210.4,2,  129.34,2,   32.58,2,    0.00,2,    2.23,2,   0.114,2,   0.058,2,   0.007,2,  -999.0,9,  -999.0,9,-999.000,9,-999.0000,9, -999.00,9, -999.00,9,  -999.0,9,  -999.0,-999.000,9,-999.000,-999.0000,9,  2282.5,-999.000,   0.2693,     -999.0,9,     -999.0,9,     -999.0,9,     -999.0,9,     -999.0,9,     -999.0,9,     -999.0,9, -999.00,9,-999.0000,9,-999.0000,9,-999.0000,9,-999.0000,9,-999.0000,9,-999.0000,9,-999.0000, -999.00
33RR20050106,       P16S,     100,          2,          7,          7,2,20050208,       0315,   -65.4997,  -149.9342,       3823,  2537.0,   0.3325,  34.7031,2,  34.7047,2,    211.5,2,   212.4,2,  130.80,2,   32.58,2,    0.00,2,    2.23,2,   0.146,2,   0.068,2,   0.006,2,  2260.7,2,  2359.2,2,-999.000,9,-999.0000,9, -999.00,9, -999.00,9,  -999.0,9,  -999.0,-999.000,9,-999.000,-999.0000,9,  2537.0,-999.000,   0.1804,     -999.0,9,     -999.0,9,     -999.0,9,     -999.0,9,     -999.0,9,     -999.0,9,     -999.0,9, -999.00,9,-999.0000,9,-999.0000,9,-999.0000,9,-999.0000,9,-999.0000,9,-999.0000,9,-999.0000, -999.00
33RR20050106,       P16S,     100,          2,          6,          6,2,20050208,       0315,   -65.4997,  -149.9342,       3823,  2791.3,   0.2606,  34.7018,2,  34.7032,2,    213.9,2,   215.1,2,  130.80,2,   32.58,2,    0.00,2,    2.23,2,   0.312,2,   0.169,2,   0.022,2,  -999.0,9,  -999.0,9,-999.000,9,-999.0000,9, -999.00,9, -999.00,9,  -999.0,9,  -999.0,-999.000,9,-999.000,-999.0000,9,  2791.3,-999.000,   0.0890,     -999.0,9,     -999.0,9,     -999.0,9,     -999.0,9,     -999.0,9,     -999.0,9,     -999.0,9, -999.00,9,-999.0000,9,-999.0000,9,-999.0000,9,-999.0000,9,-999.0000,9,-999.0000,9,-999.0000, -999.00
33RR20050106,       P16S,     100,          2,          5,          5,2,20050208,       0315,   -65.4997,  -149.9342,       3823,  3046.5,   0.1901,  34.6987,2,  34.6992,2,    217.5,2,   218.0,2,  125.86,2,   32.47,2,    0.00,2,    2.23,2,   0.532,2,   0.274,2,   0.043,2,  2258.7,2,  2357.2,2,-999.000,9,-999.0000,9, -999.00,9, -999.00,9,  -999.0,9,  -999.0,-999.000,9,-999.000,-999.0000,9,  3046.5,-999.000,  -0.0018,     -999.0,9,     -999.0,9,     -999.0,9,     -999.0,9,     -999.0,9,     -999.0,9,     -999.0,9, -999.00,9,-999.0000,9,-999.0000,9,-999.0000,9,-999.0000,9,-999.0000,9,-999.0000,9,-999.0000, -999.00
33RR20050106,       P16S,     100,          2,          4,          4,2,20050208,       0315,   -65.4997,  -149.9342,       3823,  3353.2,   0.1493,  34.6968,2,  34.6979,2,    220.3,2,   221.0,2,  122.35,2,   32.37,2,    0.00,2,    2.22,2,   0.741,2,   0.378,2,   0.051,2,  -999.0,9,  -999.0,9,-999.000,9,-999.0000,9, -999.00,9, -999.00,9,  -999.0,9,  -999.0,-999.000,9,-999.000,-999.0000,9,  3353.2,-999.000,  -0.0690,     -999.0,9,     -999.0,9,     -999.0,9,     -999.0,9,     -999.0,9,     -999.0,9,     -999.0,9, -999.00,9,-999.0000,9,-999.0000,9,-999.0000,9,-999.0000,9,-999.0000,9,-999.0000,9,-999.0000, -999.00
33RR20050106,       P16S,     100,          2,          3,          3,2,20050208,       0315,   -65.4997,  -149.9342,       3823,  3608.1,   0.1616,  34.6969,2,  34.6963,2,    220.8,2,   222.0,2,  121.32,2,   32.42,2,    0.00,2,    2.22,2,   0.786,2,   0.405,2,   0.057,2,  2257.8,2,  2355.3,2,-999.000,9,-999.0000,9, -999.00,9, -999.00,9,  -999.0,9,  -999.0,-999.000,9,-999.000,-999.0000,9,  3608.1,-999.000,  -0.0809,     -999.0,9,     -999.0,9,     -999.0,9,     -999.0,9,     -999.0,9,     -999.0,9,     -999.0,9, -999.00,9,-999.0000,9,-999.0000,9,-999.0000,9,-999.0000,9,-999.0000,9,-999.0000,9,-999.0000, -999.00
33RR20050106,       P16S,     100,          2,          2,          2,2,20050208,       0315,   -65.4997,  -149.9342,       3823,  3761.7,   0.1749,  34.6968,2,  34.6967,2,    221.0,2,   221.6,2,  121.95,2,   32.42,2,    0.00,2,    2.21,2,   0.755,2,   0.398,2,   0.053,2,  -999.0,9,  -999.0,9,-999.000,9,-999.0000,9, -999.00,9, -999.00,9,  -999.0,9,  -999.0,-999.000,9,-999.000,-999.0000,9,  3761.7,-999.000,  -0.0828,     -999.0,9,     -999.0,9,     -999.0,9,     -999.0,9,     -999.0,9,     -999.0,9,     -999.0,9, -999.00,9,-999.0000,9,-999.0000,9,-999.0000,9,-999.0000,9,-999.0000,9,-999.0000,9,-999.0000, -999.00
33RR20050106,       P16S,     100,          2,          1,          1,2,20050208,       0315,   -65.4997,  -149.9342,       3823,  3854.4,   0.1832,  34.6968,2,  34.6954,2,    221.1,2,   221.2,2,  121.75,2,   32.42,2,    0.00,2,    2.22,2,   0.776,2,   0.384,2,   0.056,2,  2259.0,6,  2356.2,2,-999.000,9,-999.0000,9, -999.00,9, -999.00,9,  -999.0,9,  -999.0,-999.000,9,-999.000,-999.0000,9,  3854.4,-999.000,  -0.0838,     -999.0,9,     -999.0,9,     -999.0,9,     -999.0,9,     -999.0,9,     -999.0,9,     -999.0,9, -999.00,9,-999.0000,9,-999.0000,9,-999.0000,9,-999.0000,9,-999.0000,9,-999.0000,9,-999.0000, -999.00