BOTTLE,20201109CCHSIOCBG
EXPOCODE,SECT_ID,STNNBR,CASTNO,SAMPNO,BTLNBR,BTLNBR_FLAG_W,DATE,TIME,LATITUDE,LONGITUDE,DEPTH,CTDPRS,CTDTMP,CTDSAL,CTDSAL_FLAG_W,SALNTY,SALNTY_FLAG_W,CTDOXY,CTDOXY_FLAG_W,OXYGEN,OXYGEN_FLAG_W,SILCAT,SILCAT_FLAG_W,NITRAT,NITRAT_FLAG_W,NITRIT,NITRIT_FLAG_W,PHSPHT,PHSPHT_FLAG_W,CFC-11,CFC-11_FLAG_W,CFC-12,CFC-12_FLAG_W,CFC113,CFC113_FLAG_W,TCARBN,TCARBN_FLAG_W,ALKALI,ALKALI_FLAG_W,TRITUM,TRITUM_FLAG_W,HELIUM,HELIUM_FLAG_W,DELHE3,DELHE3_FLAG_W,DELC13,DELC13_FLAG_W,DELC14,DELC14_FLAG_W,C14ERR,NEON,NEON_FLAG_W,NEONER,DOC,DOC_FLAG_W,CTDRAW,TRITER,THETA,FUCO,FUCO_FLAG_W,RHAM,RHAM_FLAG_W,ARABA,ARABA_FLAG_W,GALA,GALA_FLAG_W,GLUC,GLUC_FLAG_W,MAN,MAN_FLAG_W,DCNS,DCNS_FLAG_W,BRDU,BRDU_FLAG_W,CDOM325,CDOM325_FLAG_W,CDOM340,CDOM340_FLAG_W,CDOM380,CDOM380_FLAG_W,CDOM412,CDOM412_FLAG_W,CDOMSL,CDOMSL_FLAG_W,CDOMSN,CDOMSN_FLAG_W,HELIER,DELHER
,,,,,,,,,,,METERS,DBAR,ITS-90,PSS-78,,PSS-78,,UMOL/KG,,UMOL/KG,,UMOL/KG,,UMOL/KG,,UMOL/KG,,UMOL/KG,,PMOL/KG,,PMOL/KG,,PMOL/KG,,UMOL/KG,,UMOL/KG,,TU,,NMOL/KG,,PERCNT,,/MILLE,,/MILLE,,/MILLE,NMOL/KG,,NMOL/KG,UMOL/KG,,DBAR,TU,DEG C,NMOL/KG,,NMOL/KG,,NMOL/KG,,NMOL/KG,,NMOL/KG,,NMOL/KG,,NMOL/KG,,PMOL/L/H,,1/M,,1/M,,1/M,,1/M,,1/NM,,1/NM,,NMOL/KG,PERCNT
33RR20050106,       P16S,      41,          1,         36,         36,2,20050121,       1342,   -35.9997,  -150.0000,       4697,     4.2,  20.7548,  35.0218,2,  35.0245,2,    225.4,2,   225.6,2,    0.55,2,    0.27,2,    0.00,2,    0.14,2,   2.233,2,   1.342,2,   0.176,2,  2039.5,6,  2298.6,6,-999.000,9,-999.0000,9, -999.00,9, -999.00,9,  -999.0,9,  -999.0,-999.000,9,-999.000,  62.6336,2,     4.2,-999.000,  20.7540,        225,2,        137,2,        121,2,        469,2,        422,2,        476,2,       1851,2,    2.34,2,   0.0330,2,   0.0210,2,   0.0080,2,   0.0050,2,   0.0317,2,   0.0319,2,-999.0000, -999.00
33RR20050106,       P16S,      41,          1,         35,         35,2,20050121,       1342,   -35.9997,  -150.0000,       4697,    37.7,  17.9828,  35.1037,2,  35.1084,2,    244.3,2,   245.9,2,    0.54,2,    0.27,2,    0.00,2,    0.14,2,   2.658,2,   1.523,2,   0.184,2,  2045.3,2,  2305.1,2,-999.000,9,-999.0000,9, -999.00,9, -999.00,9,  -999.0,9,  -999.0,-999.000,9,-999.000,  62.5867,2,    37.7,-999.000,  17.9763,        186,2,        112,2,        124,2,        400,2,        243,2,        425,2,       1489,2,    1.60,2,   0.0480,2,   0.0300,2,   0.0100,2,   0.0060,2,   0.0306,2,   0.0305,2,-999.0000, -999.00
33RR20050106,       P16S,      41,          1,         34,         34,2,20050121,       1342,   -35.9997,  -150.0000,       4697,    72.8,  16.1874,  35.1273,2,  35.1293,2,    253.0,2,   254.2,2,    0.53,2,    0.27,2,    0.00,2,    0.14,2,   2.783,2,   1.629,2,   0.177,2,  2048.8,2,  2307.1,2,-999.000,9,-999.0000,9, -999.00,9, -999.00,9,  -999.0,9,  -999.0,-999.000,9,-999.000,  61.1567,2,    72.8,-999.000,  16.1758,        231,2,        155,2,         90,2,        503,2,        346,2,        629,2,       1955,2,    0.61,2,   0.0810,2,   0.0540,2,   0.0230,2,   0.0140,2,   0.0251,2,   0.0257,2,-999.0000, -999.00
33RR20050106,       P16S,      41,          1,         33,         33,2,20050121,       1342,   -35.9997,  -150.0000,       4697,    97.5,  15.5169,  35.0974,2,  35.0992,2,    253.9,2,   253.2,2,    0.93,2,    0.12,2,    0.00,2,    0.15,2,   2.907,2,   1.648,2,   0.191,2,  2050.2,2,  2304.5,2,-999.000,9,-999.0000,9, -999.00,9, -999.00,9,  -999.0,9,  -999.0,-999.000,9,-999.000,  66.7573,4,    97.5,-999.000,  15.5018,     -999.0,9,     -999.0,9,     -999.0,9,     -999.0,9,     -999.0,9,     -999.0,9,     -999.0,9,    1.14,2,   0.0930,2,   0.0630,2,   0.0270,2,   0.0180,2,   0.0230,2,   0.0238,2,-999.0000, -999.00
33RR20050106,       P16S,      41,          1,         32,         32,2,20050121,       1342,   -35.9997,  -150.0000,       4697,   127.2,  15.0927,  35.0834,2,  35.0836,2,    249.9,2,   246.2,2,    0.52,2,    0.21,2,    0.01,2,    0.18,2,   2.818,2,   1.654,2,   0.206,2,  2058.6,2,  2305.1,2,-999.000,9,-999.0000,9, -999.00,9, -999.00,9,  -999.0,9,  -999.0,-999.000,9,-999.000,  58.5760,2,   127.2,-999.000,  15.0734,        172,2,        117,2,         83,2,        283,2,        329,2,        279,2,       1263,2,    0.81,2,   0.0810,2,   0.0570,2,   0.0270,2,   0.0200,2,   0.0213,2,   0.0219,2,-999.0000, -999.00
33RR20050106,       P16S,      41,          1,         31,         31,2,20050121,       1342,   -35.9997,  -150.0000,       4697,   178.3,  13.7626,  34.9991,2,-999.0000,9,    225.6,2,   219.9,2,    1.32,2,    5.44,2,    0.12,2,    0.50,2,-999.000,9,-999.000,9,-999.000,9,  2089.4,2,  2300.2,2,-999.000,9,-999.0000,9, -999.00,9, -999.00,9,  -999.0,9,  -999.0,-999.000,9,-999.000,  51.4335,2,   178.3,-999.000,  13.7371,        145,2,        108,2,        105,2,        315,2,        271,2,        355,2,       1299,2,    0.55,2,   0.0860,2,   0.0600,2,   0.0300,2,   0.0220,2,   0.0198,2,   0.0207,2,-999.0000, -999.00
33RR20050106,       P16S,      41,          1,         30,         30,2,20050121,       1342,   -35.9997,  -150.0000,       4697,   228.3,  11.6715,  34.8085,2,-999.0000,9,    214.7,2,   213.4,2,    2.32,2,   11.08,2,    0.00,2,    0.84,2,   3.165,2,   1.775,2,   0.107,2,  2113.2,2,  2291.3,2,-999.000,9,-999.0000,9, -999.00,9, -999.00,9,  -999.0,9,  -999.0,-999.000,9,-999.000,  48.5722,2,   228.3,-999.000,  11.6423,     -999.0,9,     -999.0,9,     -999.0,9,     -999.0,9,     -999.0,9,     -999.0,9,     -999.0,9,    0.38,2,   0.0920,2,   0.0650,2,   0.0310,2,   0.0230,2,   0.0201,2,   0.0211,2,-999.0000, -999.00
33RR20050106,       P16S,      41,          1,         29,         29,2,20050121,       1342,   -35.9997,  -150.0000,       4697,   278.1,   9.8583,  34.5946,2,-999.0000,9,    220.3,2,   221.6,2,    2.92,2,   14.83,2,    0.00,2,    1.08,2,-999.000,9,-999.000,9,-999.000,9,  2121.8,2,  2281.8,2,-999.000,9,-999.0000,9, -999.00,9, -999.00,9,  -999.0,9,  -999.0,-999.000,9,-999.000,  45.4067,2,   278.1,-999.000,   9.8263,         40,2,         29,2,         41,2,         72,2,        109,2,         70,2,        361,2,    0.50,2,   0.0810,2,   0.0540,2,   0.0270,2,   0.0200,2,   0.0218,2,   0.0232,2,-999.0000, -999.00
33RR20050106,       P16S,      41,          1,         28,         28,2,20050121,       1342,   -35.9997,  -150.0000,       4697,   329.1,   8.6105,  34.4922,2,-999.0000,9,    226.8,2,   228.9,2,    3.92,2,   17.52,2,    0.00,2,    1.24,2,   3.416,2,   1.827,2,   0.154,2,  2130.9,2,  2280.3,2,-999.000,9,-999.0000,9, -999.00,9, -999.00,9,  -999.0,9,  -999.0,-999.000,9,-999.000,  45.1575,2,   329.1,-999.000,   8.5757,     -999.0,9,     -999.0,9,     -999.0,9,     -999.0,9,     -999.0,9,     -999.0,9,     -999.0,9, -999.00,9,   0.0810,2,   0.0540,2,   0.0270,2,   0.0200,2,   0.0219,2,   0.0235,2,-999.0000, -999.00
33RR20050106,       P16S,      41,          1,         27,         27,2,20050121,       1342,   -35.9997,  -150.0000,       4697,   379.3,   8.0256,  34.4549,2,  34.4569,2,    233.0,2,   234.6,2,    4.52,2,   18.95,2,    0.01,2,    1.32,2,-999.000,9,-999.000,9,-999.000,9,  2134.3,2,  2280.7,2,-999.000,9,-999.0000,9, -999.00,9, -999.00,9,  -999.0,9,  -999.0,-999.000,9,-999.000,-999.0000,9,   379.3,-999.000,   7.9870,     -999.0,9,     -999.0,9,     -999.0,9,     -999.0,9,     -999.0,9,     -999.0,9,     -999.0,9, -999.00,9,-999.0000,9,-999.0000,9,-999.0000,9,-999.0000,9,-999.0000,9,-999.0000,9,-999.0000, -999.00
33RR20050106,       P16S,      41,          1,         26,         26,2,20050121,       1342,   -35.9997,  -150.0000,       4697,   429.5,   7.6026,  34.4338,2,  34.4324,2,    241.9,2,   244.2,2,    5.32,2,   19.74,2,    0.00,2,    1.37,2,   3.680,4,   1.947,4,   0.241,4,  2136.6,2,  2279.6,2,-999.000,9,-999.0000,9, -999.00,9, -999.00,9,  -999.0,9,  -999.0,-999.000,9,-999.000,  43.3653,2,   429.5,-999.000,   7.5601,     -999.0,9,     -999.0,9,     -999.0,9,     -999.0,9,     -999.0,9,     -999.0,9,     -999.0,9, -999.00,9,   0.0740,2,   0.0480,2,   0.0250,2,   0.0190,2,   0.0231,2,   0.0248,2,-999.0000, -999.00
33RR20050106,       P16S,      41,          1,         25,         25,2,20050121,       1342,   -35.9997,  -150.0000,       4697,   479.6,   7.3322,  34.4136,2,  34.4145,2,    245.1,2,   246.6,2,    5.72,2,   20.43,2,    0.00,2,    1.42,2,-999.000,9,-999.000,9,-999.000,9,  2138.9,2,  2279.3,2,-999.000,9,-999.0000,9, -999.00,9, -999.00,9,  -999.0,9,  -999.0,-999.000,9,-999.000,-999.0000,9,   479.6,-999.000,   7.2856,     -999.0,9,     -999.0,9,     -999.0,9,     -999.0,9,     -999.0,9,     -999.0,9,     -999.0,9, -999.00,9,-999.0000,9,-999.0000,9,-999.0000,9,-999.0000,9,-999.0000,9,-999.0000,9,-999.0000, -999.00
33RR20050106,       P16S,      41,          1,         24,         24,2,20050121,       1342,   -35.9997,  -150.0000,       4697,   529.9,   7.1190,  34.3975,2,  34.3995,2,    245.4,2,   245.9,2,    6.32,2,   21.12,2,    0.00,2,    1.46,2,   3.536,2,   1.827,2,   0.184,2,  2138.7,2,  2279.5,2,-999.000,9,-999.0000,9, -999.00,9, -999.00,9,  -999.0,9,  -999.0,-999.000,9,-999.000,  44.3199,2,   529.9,-999.000,   7.0682,     -999.0,9,     -999.0,9,     -999.0,9,     -999.0,9,     -999.0,9,     -999.0,9,     -999.0,9, -999.00,9,   0.0760,2,   0.0500,2,   0.0250,2,   0.0190,2,   0.0223,2,   0.0240,2,-999.0000, -999.00
33RR20050106,       P16S,      41,          1,         23,         23,2,20050121,       1342,   -35.9997,  -150.0000,       4697,   650.4,   6.6536,  34.3623,2,  34.3639,2,    244.8,2,   245.2,2,    8.13,2,   22.55,2,    0.00,2,    1.56,2,   3.112,2,   1.577,2,   0.120,2,  2142.1,2,  2280.3,2,-999.000,9,-999.0000,9, -999.00,9, -999.00,9,  -999.0,9,  -999.0,-999.000,9,-999.000,  42.7640,2,   650.4,-999.000,   6.5930,     -999.0,9,     -999.0,9,     -999.0,9,     -999.0,9,     -999.0,9,     -999.0,9,     -999.0,9, -999.00,9,   0.0730,2,   0.0470,2,   0.0240,2,   0.0180,2,   0.0238,2,   0.0257,2,-999.0000, -999.00
33RR20050106,       P16S,      41,          1,         22,         22,2,20050121,       1342,   -35.9997,  -150.0000,       4697,   749.0,   6.2094,  34.3342,2,  34.3363,2,    238.7,2,   238.4,2,   10.36,2,   24.21,2,    0.00,2,    1.66,2,   2.404,2,   1.185,2,   0.087,2,  2148.2,6,  2280.8,2,-999.000,9,-999.0000,9, -999.00,9, -999.00,9,  -999.0,9,  -999.0,-999.000,9,-999.000,  42.5022,2,   749.0,-999.000,   6.1417,     -999.0,9,     -999.0,9,     -999.0,9,     -999.0,9,     -999.0,9,     -999.0,9,     -999.0,9, -999.00,9,   0.0760,2,   0.0490,2,   0.0250,2,   0.0190,2,   0.0227,2,   0.0247,2,-999.0000, -999.00
33RR20050106,       P16S,      41,          1,         21,         21,2,20050121,       1342,   -35.9997,  -150.0000,       4697,   849.7,   5.7231,  34.3141,2,  34.3163,2,    227.7,2,   229.4,2,   14.40,2,   26.13,2,    0.00,2,    1.79,2,   1.738,2,   0.901,2,   0.061,2,  2158.6,2,  2282.0,2,-999.000,9,-999.0000,9, -999.00,9, -999.00,9,  -999.0,9,  -999.0,-999.000,9,-999.000,-999.0000,9,   849.7,-999.000,   5.6488,     -999.0,9,     -999.0,9,     -999.0,9,     -999.0,9,     -999.0,9,     -999.0,9,     -999.0,9, -999.00,9,   0.0810,2,   0.0540,2,   0.0270,2,   0.0200,2,   0.0214,2,   0.0230,2,-999.0000, -999.00
33RR20050106,       P16S,      41,          1,         20,         20,2,20050121,       1342,   -35.9997,  -150.0000,       4697,   951.6,   5.1938,  34.3123,2,  34.3137,2,    215.8,2,   216.8,2,   20.49,2,   28.31,2,    0.00,2,    1.95,2,   1.279,2,   0.640,2,   0.037,2,  2173.9,2,  2287.1,2,-999.000,9,-999.0000,9, -999.00,9, -999.00,9,  -999.0,9,  -999.0,-999.000,9,-999.000,  43.6584,2,   951.6,-999.000,   5.1137,     -999.0,9,     -999.0,9,     -999.0,9,     -999.0,9,     -999.0,9,     -999.0,9,     -999.0,9, -999.00,9,   0.0890,2,   0.0590,2,   0.0310,2,   0.0230,2,   0.0194,2,   0.0217,2,-999.0000, -999.00
33RR20050106,       P16S,      41,          1,         19,         19,2,20050121,       1342,   -35.9997,  -150.0000,       4697,  1053.5,   4.5364,  34.3235,2,  34.3247,2,    203.5,2,   204.3,2,   29.04,2,   30.46,2,    0.00,2,    2.10,2,   0.792,6,   0.395,6,   0.021,6,  2175.2,3,  2294.1,2,-999.000,9,-999.0000,9, -999.00,9, -999.00,9,  -999.0,9,  -999.0,-999.000,9,-999.000,  42.7156,2,  1053.5,-999.000,   4.4522,     -999.0,9,     -999.0,9,     -999.0,9,     -999.0,9,     -999.0,9,     -999.0,9,     -999.0,9, -999.00,9,   0.0890,2,   0.0580,2,   0.0300,2,   0.0220,2,   0.0198,2,   0.0221,2,-999.0000, -999.00
33RR20050106,       P16S,      41,          1,         18,         18,2,20050121,       1342,   -35.9997,  -150.0000,       4697,  1154.8,   3.9041,  34.3538,2,  34.3558,2,    194.3,2,   193.4,2,   39.85,2,   32.29,2,    0.00,2,    2.24,2,   0.430,2,   0.217,2,   0.019,2,  2226.6,3,  2303.2,6,-999.000,9,-999.0000,9, -999.00,9, -999.00,9,  -999.0,9,  -999.0,-999.000,9,-999.000,-999.0000,9,  1154.8,-999.000,   3.8165,     -999.0,9,     -999.0,9,     -999.0,9,     -999.0,9,     -999.0,9,     -999.0,9,     -999.0,9, -999.00,9,-999.0000,9,-999.0000,9,-999.0000,9,-999.0000,9,-999.0000,9,-999.0000,9,-999.0000, -999.00
33RR20050106,       P16S,      41,          1,         17,         17,2,20050121,       1342,   -35.9997,  -150.0000,       4697,  1255.3,   3.4764,  34.3932,2,  34.3931,2,    184.9,2,   184.8,2,   48.86,2,   33.20,2,    0.00,2,    2.32,2,   0.242,2,   0.120,2,   0.013,2,  2222.4,2,  2313.4,2,-999.000,9,-999.0000,9, -999.00,9, -999.00,9,  -999.0,9,  -999.0,-999.000,9,-999.000,-999.0000,9,  1255.3,-999.000,   3.3843,     -999.0,9,     -999.0,9,     -999.0,9,     -999.0,9,     -999.0,9,     -999.0,9,     -999.0,9, -999.00,9,-999.0000,9,-999.0000,9,-999.0000,9,-999.0000,9,-999.0000,9,-999.0000,9,-999.0000, -999.00
33RR20050106,       P16S,      41,          1,         16,         16,2,20050121,       1342,   -35.9997,  -150.0000,       4697,  1356.7,   3.1258,  34.4450,2,  34.4470,2,    177.0,2,   176.3,2,   59.95,2,   34.06,2,    0.00,2,    2.38,2,   0.151,2,   0.087,2,   0.010,2,  2235.9,2,  2324.3,2,-999.000,9,-999.0000,9, -999.00,9, -999.00,9,  -999.0,9,  -999.0,-999.000,9,-999.000,  40.7106,2,  1356.7,-999.000,   3.0287,     -999.0,9,     -999.0,9,     -999.0,9,     -999.0,9,     -999.0,9,     -999.0,9,     -999.0,9, -999.00,9,   0.1080,2,   0.0720,2,   0.0380,2,   0.0280,2,   0.0164,2,   0.0188,2,-999.0000, -999.00
33RR20050106,       P16S,      41,          1,         15,         15,2,20050121,       1342,   -35.9997,  -150.0000,       4697,  1457.5,   2.8940,  34.4936,2,  34.4954,2,    169.9,2,   169.8,2,   69.20,2,   34.43,2,    0.00,2,    2.41,2,   0.053,2,   0.034,2,   0.007,2,  2248.9,2,  2334.4,2,-999.000,9,-999.0000,9, -999.00,9, -999.00,9,  -999.0,9,  -999.0,-999.000,9,-999.000,-999.0000,9,  1457.5,-999.000,   2.7911,     -999.0,9,     -999.0,9,     -999.0,9,     -999.0,9,     -999.0,9,     -999.0,9,     -999.0,9, -999.00,9,-999.0000,9,-999.0000,9,-999.0000,9,-999.0000,9,-999.0000,9,-999.0000,9,-999.0000, -999.00
33RR20050106,       P16S,      41,          1,         14,         14,2,20050121,       1342,   -35.9997,  -150.0000,       4697,  1558.6,   2.7209,  34.5388,2,  34.5392,2,    164.6,2,   164.4,2,   79.31,2,   34.58,2,    0.00,2,    2.43,2,   0.029,2,   0.024,2,   0.001,2,  2260.4,2,  2346.2,2,-999.000,9,-999.0000,9, -999.00,9, -999.00,9,  -999.0,9,  -999.0,-999.000,9,-999.000,-999.0000,9,  1558.6,-999.000,   2.6116,     -999.0,9,     -999.0,9,     -999.0,9,     -999.0,9,     -999.0,9,     -999.0,9,     -999.0,9, -999.00,9,-999.0000,9,-999.0000,9,-999.0000,9,-999.0000,9,-999.0000,9,-999.0000,9,-999.0000, -999.00
33RR20050106,       P16S,      41,          1,         13,         13,2,20050121,       1342,   -35.9997,  -150.0000,       4697,  1761.5,   2.5216,  34.5941,2,  34.5948,2,    155.5,2,   155.9,2,   94.82,2,   34.95,2,    0.00,2,    2.47,2,   0.015,2,   0.011,2,   0.001,2,  2279.3,2,  2364.6,2,-999.000,9,-999.0000,9, -999.00,9, -999.00,9,  -999.0,9,  -999.0,-999.000,9,-999.000,  39.3204,2,  1761.5,-999.000,   2.3978,     -999.0,9,     -999.0,9,     -999.0,9,     -999.0,9,     -999.0,9,     -999.0,9,     -999.0,9, -999.00,9,   0.1170,2,   0.0800,2,   0.0430,2,   0.0300,2,   0.0154,2,   0.0177,2,-999.0000, -999.00
33RR20050106,       P16S,      41,          1,         12,         12,2,20050121,       1342,   -35.9997,  -150.0000,       4697,  1963.9,   2.3342,  34.6214,2,  34.6221,2,    152.0,2,   152.5,2,  105.38,2,   35.27,2,    0.00,2,    2.49,2,-999.000,9,-999.000,9,-999.000,9,  2292.2,2,  2377.7,2,-999.000,9,-999.0000,9, -999.00,9, -999.00,9,  -999.0,9,  -999.0,-999.000,9,-999.000,-999.0000,9,  1963.9,-999.000,   2.1958,     -999.0,9,     -999.0,9,     -999.0,9,     -999.0,9,     -999.0,9,     -999.0,9,     -999.0,9, -999.00,9,-999.0000,9,-999.0000,9,-999.0000,9,-999.0000,9,-999.0000,9,-999.0000,9,-999.0000, -999.00
33RR20050106,       P16S,      41,          1,         11,         11,2,20050121,       1342,   -35.9997,  -150.0000,       4697,  2125.9,   2.2248,  34.6338,2,  34.6343,2,    150.8,2,   151.7,2,  110.56,2,   35.31,2,    0.00,2,    2.49,2,  -0.004,2,   0.003,2,   0.001,2,  2299.6,2,  2385.0,2,-999.000,9,-999.0000,9, -999.00,9, -999.00,9,  -999.0,9,  -999.0,-999.000,9,-999.000,  38.9309,2,  2125.9,-999.000,   2.0740,     -999.0,9,     -999.0,9,     -999.0,9,     -999.0,9,     -999.0,9,     -999.0,9,     -999.0,9, -999.00,9,   0.1280,2,   0.0890,2,   0.0500,2,   0.0360,2,   0.0138,2,   0.0159,2,-999.0000, -999.00
33RR20050106,       P16S,      41,          1,         10,         10,2,20050121,       1342,   -35.9997,  -150.0000,       4697,  2379.4,   2.0561,  34.6499,2,  34.6508,2,    150.0,2,   150.4,2,  118.23,2,   35.53,2,    0.00,2,    2.51,2,-999.000,9,-999.000,9,-999.000,9,  2307.0,2,  2392.2,2,-999.000,9,-999.0000,9, -999.00,9, -999.00,9,  -999.0,9,  -999.0,-999.000,9,-999.000,-999.0000,9,  2379.4,-999.000,   1.8857,     -999.0,9,     -999.0,9,     -999.0,9,     -999.0,9,     -999.0,9,     -999.0,9,     -999.0,9, -999.00,9,-999.0000,9,-999.0000,9,-999.0000,9,-999.0000,9,-999.0000,9,-999.0000,9,-999.0000, -999.00
33RR20050106,       P16S,      41,          1,          9,          9,2,20050121,       1342,   -35.9997,  -150.0000,       4697,  2633.3,   1.9142,  34.6610,2,  34.6620,2,    150.3,2,   150.7,2,  124.48,2,   35.63,2,    0.00,2,    2.51,2,   0.019,3,   0.016,2,   0.001,2,  2311.0,2,  2398.2,2,-999.000,9,-999.0000,9, -999.00,9, -999.00,9,  -999.0,9,  -999.0,-999.000,9,-999.000,  37.4259,2,  2633.3,-999.000,   1.7232,     -999.0,9,     -999.0,9,     -999.0,9,     -999.0,9,     -999.0,9,     -999.0,9,     -999.0,9, -999.00,9,   0.1200,2,   0.0820,2,   0.0440,2,   0.0310,2,   0.0153,2,   0.0175,2,-999.0000, -999.00
33RR20050106,       P16S,      41,          1,          8,          8,2,20050121,       1342,   -35.9997,  -150.0000,       4697,  2887.5,   1.8073,  34.6700,2,  34.6707,2,    152.4,2,   152.7,2,  127.78,2,   35.52,2,    0.00,2,    2.51,2,-999.000,9,-999.000,9,-999.000,9,  2311.4,2,  2400.5,2,-999.000,9,-999.0000,9, -999.00,9, -999.00,9,  -999.0,9,  -999.0,-999.000,9,-999.000,-999.0000,9,  2887.5,-999.000,   1.5946,     -999.0,9,     -999.0,9,     -999.0,9,     -999.0,9,     -999.0,9,     -999.0,9,     -999.0,9, -999.00,9,-999.0000,9,-999.0000,9,-999.0000,9,-999.0000,9,-999.0000,9,-999.0000,9,-999.0000, -999.00
33RR20050106,       P16S,      41,          1,          7,          7,2,20050121,       1342,   -35.9997,  -150.0000,       4697,  3141.8,   1.7352,  34.6785,2,  34.6785,2,    157.0,2,   157.9,2,  129.43,2,   35.13,2,    0.00,2,    2.47,2,   0.005,2,   0.004,2,   0.001,2,  2306.0,2,  2397.7,2,-999.000,9,-999.0000,9, -999.00,9, -999.00,9,  -999.0,9,  -999.0,-999.000,9,-999.000,  37.0261,2,  3141.8,-999.000,   1.4993,     -999.0,9,     -999.0,9,     -999.0,9,     -999.0,9,     -999.0,9,     -999.0,9,     -999.0,9, -999.00,9,   0.1300,2,   0.0900,2,   0.0500,2,   0.0360,2,   0.0140,2,   0.0161,2,-999.0000, -999.00