BOTTLE,20201109CCHSIOCBG
EXPOCODE,SECT_ID,STNNBR,CASTNO,SAMPNO,BTLNBR,BTLNBR_FLAG_W,DATE,TIME,LATITUDE,LONGITUDE,DEPTH,CTDPRS,CTDTMP,CTDSAL,CTDSAL_FLAG_W,SALNTY,SALNTY_FLAG_W,CTDOXY,CTDOXY_FLAG_W,OXYGEN,OXYGEN_FLAG_W,SILCAT,SILCAT_FLAG_W,NITRAT,NITRAT_FLAG_W,NITRIT,NITRIT_FLAG_W,PHSPHT,PHSPHT_FLAG_W,CFC-11,CFC-11_FLAG_W,CFC-12,CFC-12_FLAG_W,CFC113,CFC113_FLAG_W,TCARBN,TCARBN_FLAG_W,ALKALI,ALKALI_FLAG_W,TRITUM,TRITUM_FLAG_W,HELIUM,HELIUM_FLAG_W,DELHE3,DELHE3_FLAG_W,DELC13,DELC13_FLAG_W,DELC14,DELC14_FLAG_W,C14ERR,NEON,NEON_FLAG_W,NEONER,DOC,DOC_FLAG_W,CTDRAW,TRITER,THETA,FUCO,FUCO_FLAG_W,RHAM,RHAM_FLAG_W,ARABA,ARABA_FLAG_W,GALA,GALA_FLAG_W,GLUC,GLUC_FLAG_W,MAN,MAN_FLAG_W,DCNS,DCNS_FLAG_W,BRDU,BRDU_FLAG_W,CDOM325,CDOM325_FLAG_W,CDOM340,CDOM340_FLAG_W,CDOM380,CDOM380_FLAG_W,CDOM412,CDOM412_FLAG_W,CDOMSL,CDOMSL_FLAG_W,CDOMSN,CDOMSN_FLAG_W,HELIER,DELHER
,,,,,,,,,,,METERS,DBAR,ITS-90,PSS-78,,PSS-78,,UMOL/KG,,UMOL/KG,,UMOL/KG,,UMOL/KG,,UMOL/KG,,UMOL/KG,,PMOL/KG,,PMOL/KG,,PMOL/KG,,UMOL/KG,,UMOL/KG,,TU,,NMOL/KG,,PERCNT,,/MILLE,,/MILLE,,/MILLE,NMOL/KG,,NMOL/KG,UMOL/KG,,DBAR,TU,DEG C,NMOL/KG,,NMOL/KG,,NMOL/KG,,NMOL/KG,,NMOL/KG,,NMOL/KG,,NMOL/KG,,PMOL/L/H,,1/M,,1/M,,1/M,,1/M,,1/NM,,1/NM,,NMOL/KG,PERCNT
33RR20050106,       P16S,      35,          1,         36,         36,2,20050119,       1911,   -32.9988,  -150.0008,       5526,     4.6,  21.7891,  35.2806,2,  35.2806,2,    221.2,2,   221.0,2,    0.64,2,    0.07,2,    0.00,2,    0.10,2,   2.200,2,   1.308,2,   0.221,2,  2035.9,6,  2312.7,6,-999.000,9,-999.0000,9, -999.00,9, -999.00,5,    85.0,2,     3.7,-999.000,9,-999.000,  59.4202,2,     4.6,-999.000,  21.7882,        197,2,        125,2,        101,2,        365,2,        285,2,        437,2,       1508,2, -999.00,9,   0.0180,2,   0.0120,2,   0.0040,2,   0.0020,2,-999.0000,9,-999.0000,9,-999.0000, -999.00
33RR20050106,       P16S,      35,          1,         35,         35,2,20050119,       1911,   -32.9988,  -150.0008,       5526,    43.6,  17.8577,  35.3769,2,  35.3780,2,    247.7,2,   248.7,2,    0.86,2,    0.08,2,    0.00,2,    0.10,2,   2.758,6,   1.570,6,   0.260,6,  2043.2,2,  2319.9,2,-999.000,9,-999.0000,9, -999.00,9, -999.00,9,  -999.0,9,  -999.0,-999.000,9,-999.000,  58.4360,2,    43.6,-999.000,  17.8503,        218,2,        137,2,        123,2,        453,2,        381,2,        577,2,       1889,2, -999.00,9,   0.0440,2,   0.0300,2,   0.0120,2,   0.0070,2,   0.0268,2,   0.0270,2,-999.0000, -999.00
33RR20050106,       P16S,      35,          1,         34,         34,2,20050119,       1911,   -32.9988,  -150.0008,       5526,    78.8,  16.8029,  35.3392,2,  35.3410,2,    248.6,2,   248.7,2,    0.85,2,    0.08,2,    0.00,2,    0.12,2,   2.762,2,   1.570,2,   0.260,2,  2044.8,2,  2317.1,2,-999.000,9,-999.0000,9, -999.00,9, -999.00,5,    81.2,2,     3.7,-999.000,9,-999.000,  58.2748,2,    78.8,-999.000,  16.7900,        149,2,        102,2,         59,2,        341,2,        520,3,        372,2,       1542,3, -999.00,9,   0.0880,2,   0.0630,2,   0.0300,2,   0.0190,2,   0.0199,2,   0.0204,2,-999.0000, -999.00
33RR20050106,       P16S,      35,          1,         33,         33,2,20050119,       1911,   -32.9988,  -150.0008,       5526,   129.2,  15.7620,  35.2853,2,  35.2858,2,    240.2,2,   237.1,2,    0.65,2,    0.36,2,    0.04,2,    0.19,2,   2.848,2,   1.652,2,   0.284,2,  2058.6,2,  2314.5,2,-999.000,9,-999.0000,9, -999.00,9, -999.00,9,  -999.0,9,  -999.0,-999.000,9,-999.000,  61.0207,3,   129.2,-999.000,  15.7418,        136,2,         92,2,         88,2,        198,2,        182,2,        208,2,        904,2, -999.00,9,   0.0710,2,   0.0530,2,   0.0270,2,   0.0200,2,   0.0183,2,   0.0186,2,-999.0000, -999.00
33RR20050106,       P16S,      35,          1,         32,         32,2,20050119,       1911,   -32.9988,  -150.0008,       5526,   179.1,  14.5745,  35.1780,2,-999.0000,9,    213.0,2,   211.0,2,    1.44,2,    5.24,2,    0.02,2,    0.49,2,-999.000,9,-999.000,9,-999.000,9,  2087.4,2,  2309.3,2,-999.000,9,-999.0000,9, -999.00,9, -999.00,9,  -999.0,9,  -999.0,-999.000,9,-999.000,  46.9014,2,   179.1,-999.000,  14.5479,         55,2,         44,2,         36,2,         93,2,        139,2,        135,2,        502,2, -999.00,9,   0.0720,2,   0.0540,2,   0.0290,2,   0.0220,2,   0.0170,2,   0.0175,2,-999.0000, -999.00
33RR20050106,       P16S,      35,          1,         31,         31,2,20050119,       1911,   -32.9988,  -150.0008,       5526,   229.7,  13.2907,  35.0569,2,-999.0000,9,    204.2,2,   203.7,2,    2.02,2,    8.74,2,    0.00,2,    0.69,2,   2.988,2,   1.591,2,   0.144,2,  2103.1,2,  2302.9,2,-999.000,9,-999.0000,9, -999.00,9, -999.00,5,    73.1,2,     5.3,-999.000,9,-999.000,  45.5631,2,   229.7,-999.000,  13.2586,     -999.0,9,     -999.0,9,     -999.0,9,     -999.0,9,     -999.0,9,     -999.0,9,     -999.0,9, -999.00,9,   0.0860,2,   0.0650,2,   0.0360,2,   0.0260,2,   0.0152,2,   0.0160,2,-999.0000, -999.00
33RR20050106,       P16S,      35,          1,         30,         30,2,20050119,       1911,   -32.9988,  -150.0008,       5526,   279.8,  11.8287,  34.8645,2,-999.0000,9,    208.1,2,   209.0,2,    2.61,2,   11.43,2,    0.00,2,    0.86,2,-999.000,9,-999.000,9,-999.000,9,  2112.4,2,  2294.2,2,-999.000,9,-999.0000,9, -999.00,9, -999.00,9,  -999.0,9,  -999.0,-999.000,9,-999.000,  44.7976,2,   279.8,-999.000,  11.7925,         42,2,         34,2,         30,2,         68,2,        101,2,         81,2,        355,2, -999.00,9,   0.0820,2,   0.0600,2,   0.0310,2,   0.0220,2,   0.0179,2,   0.0188,2,-999.0000, -999.00
33RR20050106,       P16S,      35,          1,         29,         29,2,20050119,       1911,   -32.9988,  -150.0008,       5526,   329.9,  10.0937,  34.6744,2,-999.0000,9,    214.3,2,   215.4,2,    3.40,2,   14.67,2,    0.00,2,    1.07,2,   3.284,2,   1.688,2,   0.187,2,  2120.9,2,  2287.5,2,-999.000,9,-999.0000,9, -999.00,9, -999.00,5,    51.8,2,     3.6,-999.000,9,-999.000,  44.3831,2,   329.9,-999.000,  10.0551,     -999.0,9,     -999.0,9,     -999.0,9,     -999.0,9,     -999.0,9,     -999.0,9,     -999.0,9, -999.00,9,   0.0690,2,   0.0500,2,   0.0270,2,   0.0200,2,   0.0185,2,   0.0195,2,-999.0000, -999.00
33RR20050106,       P16S,      35,          1,         28,         28,2,20050119,       1911,   -32.9988,  -150.0008,       5526,   380.0,   9.0629,  34.5753,2,  35.4086,4,    220.7,2,   221.9,2,    4.22,2,   17.08,2,    0.00,2,    1.22,2,-999.000,9,-999.000,9,-999.000,9,  2128.6,2,  2284.7,2,-999.000,9,-999.0000,9, -999.00,9, -999.00,5,    50.2,2,     3.6,-999.000,9,-999.000,-999.0000,9,   380.0,-999.000,   9.0212,     -999.0,9,     -999.0,9,     -999.0,9,     -999.0,9,     -999.0,9,     -999.0,9,     -999.0,9, -999.00,9,-999.0000,9,-999.0000,9,-999.0000,9,-999.0000,9,-999.0000,9,-999.0000,9,-999.0000, -999.00
33RR20050106,       P16S,      35,          1,         27,         27,2,20050119,       1911,   -32.9988,  -150.0008,       5526,   430.5,   8.2783,  34.5014,2,  34.4965,2,    230.3,2,   231.2,2,    4.81,2,   18.64,2,    0.00,2,    1.32,2,   3.548,2,   1.768,2,   0.260,2,  2131.0,2,  2280.4,2,-999.000,9,-999.0000,9, -999.00,9, -999.00,5,    49.4,2,     3.4,-999.000,9,-999.000,  43.0853,2,   430.5,-999.000,   8.2335,     -999.0,9,     -999.0,9,     -999.0,9,     -999.0,9,     -999.0,9,     -999.0,9,     -999.0,9, -999.00,9,   0.0680,2,   0.0480,2,   0.0270,2,   0.0210,2,   0.0180,2,   0.0193,2,-999.0000, -999.00
33RR20050106,       P16S,      35,          1,         26,         26,2,20050119,       1911,   -32.9988,  -150.0008,       5526,   480.8,   7.7448,  34.4511,2,  34.4508,2,    239.3,2,   240.0,2,    5.21,2,   19.50,2,    0.00,2,    1.37,2,-999.000,9,-999.000,9,-999.000,9,  2132.7,2,  2280.7,2,-999.000,9,-999.0000,9, -999.00,9, -999.00,5,    37.7,2,     3.6,-999.000,9,-999.000,-999.0000,9,   480.8,-999.000,   7.6966,     -999.0,9,     -999.0,9,     -999.0,9,     -999.0,9,     -999.0,9,     -999.0,9,     -999.0,9, -999.00,9,-999.0000,9,-999.0000,9,-999.0000,9,-999.0000,9,-999.0000,9,-999.0000,9,-999.0000, -999.00
33RR20050106,       P16S,      35,          1,         25,         25,2,20050119,       1911,   -32.9988,  -150.0008,       5526,   531.2,   7.4652,  34.4278,2,  34.4275,2,    237.9,2,   242.7,2,    5.61,2,   20.27,2,    0.00,2,    1.41,2,   3.833,2,   1.887,2,   0.276,2,  2133.9,2,  2280.9,2,-999.000,9,-999.0000,9, -999.00,9, -999.00,5,    31.0,2,     3.8,-999.000,9,-999.000,  40.9959,2,   531.2,-999.000,   7.4128,     -999.0,9,     -999.0,9,     -999.0,9,     -999.0,9,     -999.0,9,     -999.0,9,     -999.0,9, -999.00,9,   0.0610,2,   0.0430,2,   0.0240,2,   0.0190,2,   0.0198,2,   0.0212,2,-999.0000, -999.00
33RR20050106,       P16S,      35,          1,         24,         24,2,20050119,       1911,   -32.9988,  -150.0008,       5526,   651.9,   6.8368,  34.3814,2,  34.3807,2,    239.9,2,   240.8,2,    7.60,2,   22.43,2,    0.00,2,    1.56,2,   2.799,2,   1.363,2,   0.164,2,  2138.4,6,  2279.0,2,-999.000,9,-999.0000,9, -999.00,9, -999.00,5,    27.6,2,     3.4,-999.000,9,-999.000,  41.0017,2,   651.9,-999.000,   6.7751,     -999.0,9,     -999.0,9,     -999.0,9,     -999.0,9,     -999.0,9,     -999.0,9,     -999.0,9, -999.00,9,   0.0610,2,   0.0420,2,   0.0240,2,   0.0180,2,   0.0206,2,   0.0221,2,-999.0000, -999.00
33RR20050106,       P16S,      35,          1,         23,         23,2,20050119,       1911,   -32.9988,  -150.0008,       5526,   752.3,   6.3218,  34.3456,2,  34.3443,2,    235.5,2,   236.5,2,    9.98,2,   24.11,2,    0.00,2,    1.66,2,   2.193,2,   1.068,2,   0.111,2,  2145.3,2,  2283.7,2,-999.000,9,-999.0000,9, -999.00,9, -999.00,5,    -5.1,2,     2.9,-999.000,9,-999.000,  40.6188,2,   752.3,-999.000,   6.2531,     -999.0,9,     -999.0,9,     -999.0,9,     -999.0,9,     -999.0,9,     -999.0,9,     -999.0,9, -999.00,9,   0.0770,2,   0.0570,2,   0.0360,2,   0.0270,2,   0.0126,2,   0.0139,2,-999.0000, -999.00
33RR20050106,       P16S,      35,          1,         22,         22,2,20050119,       1911,   -32.9988,  -150.0008,       5526,   853.1,   5.7343,  34.3229,2,  34.3222,2,    223.6,2,   223.9,2,   14.94,2,   26.50,2,    0.00,2,    1.84,2,   1.501,2,   0.722,2,   0.074,2,  2157.6,2,  2283.7,2,-999.000,9,-999.0000,9, -999.00,9, -999.00,5,   -32.9,2,     3.5,-999.000,9,-999.000,  38.6676,2,   853.1,-999.000,   5.6596,     -999.0,9,     -999.0,9,     -999.0,9,     -999.0,9,     -999.0,9,     -999.0,9,     -999.0,9, -999.00,9,   0.0650,2,   0.0450,2,   0.0250,2,   0.0190,2,   0.0200,2,   0.0217,2,-999.0000, -999.00
33RR20050106,       P16S,      35,          1,         21,         21,2,20050119,       1911,   -32.9988,  -150.0008,       5526,   954.2,   5.0991,  34.3213,2,  34.3208,2,    211.1,2,   210.6,2,   22.30,2,   28.90,2,    0.00,2,    2.01,2,   1.039,2,   0.507,2,   0.060,2,  2174.8,2,  2289.5,2,-999.000,9,-999.0000,9, -999.00,9, -999.00,5,   -63.9,2,     3.1,-999.000,9,-999.000,  40.7162,2,   954.2,-999.000,   5.0195,     -999.0,9,     -999.0,9,     -999.0,9,     -999.0,9,     -999.0,9,     -999.0,9,     -999.0,9, -999.00,9,   0.0720,2,   0.0490,2,   0.0280,2,   0.0210,2,   0.0185,2,   0.0202,2,-999.0000, -999.00
33RR20050106,       P16S,      35,          1,         20,         20,2,20050119,       1911,   -32.9988,  -150.0008,       5526,  1054.6,   4.5191,  34.3310,2,  34.3302,2,    199.7,2,   201.3,2,   30.08,2,   30.70,2,    0.00,2,    2.13,2,   0.584,2,   0.290,2,   0.038,2,  2188.6,2,  2295.2,2,-999.000,9,-999.0000,9, -999.00,9, -999.00,5,   -86.0,2,     3.1,-999.000,9,-999.000,  39.8764,2,  1054.6,-999.000,   4.4350,     -999.0,9,     -999.0,9,     -999.0,9,     -999.0,9,     -999.0,9,     -999.0,9,     -999.0,9, -999.00,9,   0.0770,2,   0.0530,2,   0.0300,2,   0.0230,2,   0.0169,2,   0.0187,2,-999.0000, -999.00
33RR20050106,       P16S,      35,          1,         19,         19,2,20050119,       1911,   -32.9988,  -150.0008,       5526,  1155.2,   3.8761,  34.3596,2,  34.3587,2,    191.2,2,   191.9,2,   40.48,2,   32.39,2,    0.00,2,    2.26,2,   0.385,2,   0.192,2,   0.029,2,  2207.4,2,  2305.9,2,-999.000,9,-999.0000,9, -999.00,9, -999.00,5,  -105.9,2,     2.5,-999.000,9,-999.000,-999.0000,9,  1155.2,-999.000,   3.7887,     -999.0,9,     -999.0,9,     -999.0,9,     -999.0,9,     -999.0,9,     -999.0,9,     -999.0,9, -999.00,9,-999.0000,9,-999.0000,9,-999.0000,9,-999.0000,9,-999.0000,9,-999.0000,9,-999.0000, -999.00
33RR20050106,       P16S,      35,          1,         18,         18,2,20050119,       1911,   -32.9988,  -150.0008,       5526,  1256.4,   3.3602,  34.4083,2,  34.4067,2,    181.4,2,   182.4,2,   51.92,2,   33.54,2,    0.00,2,    2.35,2,   0.199,2,   0.095,2,   0.025,2,  2224.3,2,  2314.6,6,-999.000,9,-999.0000,9, -999.00,9, -999.00,5,  -132.5,2,     3.4,-999.000,9,-999.000,  40.5958,2,  1256.4,-999.000,   3.2691,     -999.0,9,     -999.0,9,     -999.0,9,     -999.0,9,     -999.0,9,     -999.0,9,     -999.0,9, -999.00,9,   0.0900,2,   0.0630,2,   0.0370,2,   0.0270,2,   0.0147,2,   0.0164,2,-999.0000, -999.00
33RR20050106,       P16S,      35,          1,         17,         17,2,20050119,       1911,   -32.9988,  -150.0008,       5526,  1357.0,   3.0946,  34.4567,2,  34.4553,2,    173.4,2,   173.9,2,   61.79,2,   34.20,2,    0.00,2,    2.40,2,   0.070,2,   0.035,2,   0.021,2,  2238.8,2,  2315.2,3,-999.000,9,-999.0000,9, -999.00,9, -999.00,5,  -143.1,2,     2.9,-999.000,9,-999.000,-999.0000,9,  1357.0,-999.000,   2.9978,     -999.0,9,     -999.0,9,     -999.0,9,     -999.0,9,     -999.0,9,     -999.0,9,     -999.0,9, -999.00,9,-999.0000,9,-999.0000,9,-999.0000,9,-999.0000,9,-999.0000,9,-999.0000,9,-999.0000, -999.00
33RR20050106,       P16S,      35,          1,         16,         16,2,20050119,       1911,   -32.9988,  -150.0008,       5526,  1458.7,   2.8535,  34.5070,2,  34.5063,2,    167.0,2,   167.4,2,   72.29,2,   34.57,2,    0.00,2,    2.43,2,   0.038,2,   0.020,2,   0.018,2,  2250.9,2,  2325.7,2,-999.000,9,-999.0000,9, -999.00,9, -999.00,5,  -153.3,2,     2.5,-999.000,9,-999.000,-999.0000,9,  1458.7,-999.000,   2.7509,     -999.0,9,     -999.0,9,     -999.0,9,     -999.0,9,     -999.0,9,     -999.0,9,     -999.0,9, -999.00,9,-999.0000,9,-999.0000,9,-999.0000,9,-999.0000,9,-999.0000,9,-999.0000,9,-999.0000, -999.00
33RR20050106,       P16S,      35,          1,         15,         15,2,20050119,       1911,   -32.9988,  -150.0008,       5526,  1559.4,   2.6646,  34.5512,2,  34.5491,2,    162.0,2,   161.9,2,   82.61,2,   34.73,2,    0.00,2,    2.45,2,   0.006,2,  -0.001,2,   0.001,2,  2263.6,2,  2336.3,2,-999.000,9,-999.0000,9, -999.00,9, -999.00,5,  -174.6,2,     2.6,-999.000,9,-999.000,  37.3681,2,  1559.4,-999.000,   2.5558,     -999.0,9,     -999.0,9,     -999.0,9,     -999.0,9,     -999.0,9,     -999.0,9,     -999.0,9, -999.00,9,   0.1030,2,   0.0730,2,   0.0420,2,   0.0310,2,   0.0137,2,   0.0155,2,-999.0000, -999.00
33RR20050106,       P16S,      35,          1,         14,         14,2,20050119,       1911,   -32.9988,  -150.0008,       5526,  1761.9,   2.4074,  34.6031,2,  34.6013,2,    155.4,2,   155.4,2,   98.65,2,   35.10,2,    0.00,2,    2.48,2,   0.003,2,  -0.001,2,   0.001,2,  2281.4,2,  2351.0,2,-999.000,9,-999.0000,9, -999.00,9, -999.00,5,  -999.0,5,  -999.0,-999.000,9,-999.000,-999.0000,9,  1761.9,-999.000,   2.2851,     -999.0,9,     -999.0,9,     -999.0,9,     -999.0,9,     -999.0,9,     -999.0,9,     -999.0,9, -999.00,9,-999.0000,9,-999.0000,9,-999.0000,9,-999.0000,9,-999.0000,9,-999.0000,9,-999.0000, -999.00
33RR20050106,       P16S,      35,          1,         13,         13,2,20050119,       1911,   -32.9988,  -150.0008,       5526,  1964.1,   2.2300,  34.6291,2,  34.6283,2,    152.1,2,   152.2,2,  108.63,2,   35.32,2,    0.00,2,    2.50,2,   0.005,2,  -0.001,2,   0.001,2,  2293.7,2,  2380.8,2,-999.000,9,-999.0000,9, -999.00,9, -999.00,5,  -198.7,2,     2.3,-999.000,9,-999.000,  38.2878,2,  1964.1,-999.000,   2.0931,     -999.0,9,     -999.0,9,     -999.0,9,     -999.0,9,     -999.0,9,     -999.0,9,     -999.0,9, -999.00,9,   0.1110,2,   0.0790,2,   0.0460,2,   0.0330,2,   0.0133,2,   0.0150,2,-999.0000, -999.00
33RR20050106,       P16S,      35,          1,         12,         12,2,20050119,       1911,   -32.9988,  -150.0008,       5526,  2126.5,   2.0924,  34.6434,2,  34.6434,2,    150.7,2,   151.0,2,  115.36,2,   35.47,2,    0.00,2,    2.51,2,-999.000,9,-999.000,9,-999.000,9,  2300.5,2,  2388.6,2,-999.000,9,-999.0000,9, -999.00,9, -999.00,5,  -218.3,2,     2.4,-999.000,9,-999.000,-999.0000,9,  2126.5,-999.000,   1.9437,     -999.0,9,     -999.0,9,     -999.0,9,     -999.0,9,     -999.0,9,     -999.0,9,     -999.0,9, -999.00,9,-999.0000,9,-999.0000,9,-999.0000,9,-999.0000,9,-999.0000,9,-999.0000,9,-999.0000, -999.00
33RR20050106,       P16S,      35,          1,         11,         11,2,20050119,       1911,   -32.9988,  -150.0008,       5526,  2380.0,   1.9391,  34.6557,2,  34.6540,2,    149.0,2,   149.2,2,  123.73,2,   35.75,2,    0.00,2,    2.53,2,  -0.003,2,  -0.001,2,   0.001,2,  2308.7,2,  2396.8,2,-999.000,9,-999.0000,9, -999.00,9, -999.00,5,  -232.4,2,     2.5,-999.000,9,-999.000,-999.0000,9,  2380.0,-999.000,   1.7707,     -999.0,9,     -999.0,9,     -999.0,9,     -999.0,9,     -999.0,9,     -999.0,9,     -999.0,9, -999.00,9,-999.0000,9,-999.0000,9,-999.0000,9,-999.0000,9,-999.0000,9,-999.0000,9,-999.0000, -999.00
33RR20050106,       P16S,      35,          1,         10,         10,2,20050119,       1911,   -32.9988,  -150.0008,       5526,  2633.6,   1.8328,  34.6645,2,  34.6635,2,    149.2,2,   149.9,2,  128.23,2,   35.79,2,    0.00,2,    2.53,2,-999.000,9,-999.000,9,-999.000,9,  2312.2,2,  2400.5,2,-999.000,9,-999.0000,9, -999.00,9, -999.00,5,  -213.4,2,     2.3,-999.000,9,-999.000,  36.0487,2,  2633.6,-999.000,   1.6434,     -999.0,9,     -999.0,9,     -999.0,9,     -999.0,9,     -999.0,9,     -999.0,9,     -999.0,9, -999.00,9,   0.1180,2,   0.0840,2,   0.0480,2,   0.0340,2,   0.0139,2,   0.0155,2,-999.0000, -999.00
33RR20050106,       P16S,      35,          1,          9,          9,2,20050119,       1911,   -32.9988,  -150.0008,       5526,  2887.9,   1.7652,  34.6711,2,  34.6702,2,    151.9,2,   153.0,2,  129.05,2,   35.57,2,    0.00,2,    2.51,2,  -0.005,2,  -0.001,2,   0.001,2,  2310.8,2,  2393.4,2,-999.000,9,-999.0000,9, -999.00,9, -999.00,5,  -210.6,2,     2.5,-999.000,9,-999.000,  35.7325,2,  2887.9,-999.000,   1.5533,     -999.0,9,     -999.0,9,     -999.0,9,     -999.0,9,     -999.0,9,     -999.0,9,     -999.0,9, -999.00,9,   0.1140,2,   0.0820,2,   0.0470,2,   0.0340,2,   0.0135,2,   0.0151,2,-999.0000, -999.00
33RR20050106,       P16S,      35,          1,          8,          8,2,20050119,       1911,   -32.9988,  -150.0008,       5526,  3142.2,   1.6858,  34.6798,2,  34.6790,2,    157.5,2,   158.5,2,  128.67,2,   35.12,2,    0.00,2,    2.48,2,-999.000,9,-999.000,9,-999.000,9,  2306.2,2,  2389.1,2,-999.000,9,-999.0000,9, -999.00,9, -999.00,5,  -189.1,2,     3.1,-999.000,9,-999.000,-999.0000,9,  3142.2,-999.000,   1.4510,     -999.0,9,     -999.0,9,     -999.0,9,     -999.0,9,     -999.0,9,     -999.0,9,     -999.0,9, -999.00,9,-999.0000,9,-999.0000,9,-999.0000,9,-999.0000,9,-999.0000,9,-999.0000,9,-999.0000, -999.00
33RR20050106,       P16S,      35,          1,          7,          7,2,20050119,       1911,   -32.9988,  -150.0008,       5526,  3550.3,   1.5301,  34.6975,2,  34.6949,2,    174.8,2,   175.5,2,  121.94,2,   33.80,2,    0.00,2,    2.38,2,  -0.007,2,  -0.001,2,   0.001,2,  2287.7,2,  2383.9,2,-999.000,9,-999.0000,9, -999.00,9, -999.00,5,  -193.5,6,     7.0,-999.000,9,-999.000,  36.5836,2,  3550.3,-999.000,   1.2579,     -999.0,9,     -999.0,9,     -999.0,9,     -999.0,9,     -999.0,9,     -999.0,9,     -999.0,9, -999.00,9,   0.1090,2,   0.0780,2,   0.0450,2,   0.0320,2,   0.0139,2,   0.0154,2,-999.0000, -999.00