BOTTLE,20201109CCHSIOCBG
EXPOCODE,SECT_ID,STNNBR,CASTNO,SAMPNO,BTLNBR,BTLNBR_FLAG_W,DATE,TIME,LATITUDE,LONGITUDE,DEPTH,CTDPRS,CTDTMP,CTDSAL,CTDSAL_FLAG_W,SALNTY,SALNTY_FLAG_W,CTDOXY,CTDOXY_FLAG_W,OXYGEN,OXYGEN_FLAG_W,SILCAT,SILCAT_FLAG_W,NITRAT,NITRAT_FLAG_W,NITRIT,NITRIT_FLAG_W,PHSPHT,PHSPHT_FLAG_W,CFC-11,CFC-11_FLAG_W,CFC-12,CFC-12_FLAG_W,CFC113,CFC113_FLAG_W,TCARBN,TCARBN_FLAG_W,ALKALI,ALKALI_FLAG_W,TRITUM,TRITUM_FLAG_W,HELIUM,HELIUM_FLAG_W,DELHE3,DELHE3_FLAG_W,DELC13,DELC13_FLAG_W,DELC14,DELC14_FLAG_W,C14ERR,NEON,NEON_FLAG_W,NEONER,DOC,DOC_FLAG_W,CTDRAW,TRITER,THETA,FUCO,FUCO_FLAG_W,RHAM,RHAM_FLAG_W,ARABA,ARABA_FLAG_W,GALA,GALA_FLAG_W,GLUC,GLUC_FLAG_W,MAN,MAN_FLAG_W,DCNS,DCNS_FLAG_W,BRDU,BRDU_FLAG_W,CDOM325,CDOM325_FLAG_W,CDOM340,CDOM340_FLAG_W,CDOM380,CDOM380_FLAG_W,CDOM412,CDOM412_FLAG_W,CDOMSL,CDOMSL_FLAG_W,CDOMSN,CDOMSN_FLAG_W,HELIER,DELHER
,,,,,,,,,,,METERS,DBAR,ITS-90,PSS-78,,PSS-78,,UMOL/KG,,UMOL/KG,,UMOL/KG,,UMOL/KG,,UMOL/KG,,UMOL/KG,,PMOL/KG,,PMOL/KG,,PMOL/KG,,UMOL/KG,,UMOL/KG,,TU,,NMOL/KG,,PERCNT,,/MILLE,,/MILLE,,/MILLE,NMOL/KG,,NMOL/KG,UMOL/KG,,DBAR,TU,DEG C,NMOL/KG,,NMOL/KG,,NMOL/KG,,NMOL/KG,,NMOL/KG,,NMOL/KG,,NMOL/KG,,PMOL/L/H,,1/M,,1/M,,1/M,,1/M,,1/NM,,1/NM,,NMOL/KG,PERCNT
33RR20050106,       P16S,      51,          1,         36,         36,2,20050124,       1328,   -40.9995,  -150.0000,       5122,     4.6,  17.1881,  34.4174,2,  34.4181,2,    243.7,2,   243.9,2,    0.00,2,    0.68,2,    0.02,2,    0.25,2,   2.628,2,   1.535,2,   0.234,2,  2040.5,6,  2277.6,6,-999.000,9,-999.0000,9, -999.00,9, -999.00,5,    61.6,2,     3.9,-999.000,9,-999.000,  60.1625,2,     4.6,-999.000,  17.1873,        342,2,        246,2,        258,2,        670,2,        465,2,        770,2,       2751,2,    1.03,2,   0.0630,2,   0.0390,2,   0.0100,2,   0.0050,2,   0.0330,2,   0.0321,2,-999.0000, -999.00
33RR20050106,       P16S,      51,          1,         35,         35,2,20050124,       1328,   -40.9995,  -150.0000,       5122,    42.2,  16.7571,  34.4078,2,  34.4122,2,    245.4,2,   247.7,2,    0.00,2,    0.73,2,    0.02,2,    0.26,2,   2.697,2,   1.557,2,   0.239,2,  2041.6,2,  2278.2,2,-999.000,9,-999.0000,9, -999.00,9, -999.00,9,  -999.0,9,  -999.0,-999.000,9,-999.000,  57.2094,2,    42.2,-999.000,  16.7503,        278,2,        176,2,        168,2,        561,2,        284,2,        571,2,       2037,2,   25.56,3,   0.0640,2,   0.0390,2,   0.0110,2,   0.0060,2,   0.0329,2,   0.0325,2,-999.0000, -999.00
33RR20050106,       P16S,      51,          1,         34,         34,2,20050124,       1328,   -40.9995,  -150.0000,       5122,    87.5,  11.9633,  34.4095,2,  34.4093,2,    271.8,2,   270.8,2,    0.37,2,    3.16,2,    0.08,2,    0.42,2,   3.474,2,   1.902,2,   0.292,2,  2063.1,2,  2276.6,2,-999.000,9,-999.0000,9, -999.00,9, -999.00,5,    73.0,2,     3.2,-999.000,9,-999.000,  55.4900,2,    87.5,-999.000,  11.9520,        133,2,        103,2,         33,2,        286,2,        304,2,        301,2,       1160,2,    0.42,2,   0.0810,2,   0.0550,2,   0.0260,2,   0.0180,2,   0.0227,2,   0.0237,2,-999.0000, -999.00
33RR20050106,       P16S,      51,          1,         33,         33,2,20050124,       1328,   -40.9995,  -150.0000,       5122,   137.4,  10.2808,  34.4831,2,  34.4750,2,    247.5,2,   247.6,2,    1.36,2,    9.82,2,    0.37,2,    0.80,2,   3.600,2,   2.024,2,   0.300,2,  2098.9,2,  2278.1,2,-999.000,9,-999.0000,9, -999.00,9, -999.00,5,    57.6,2,     3.8,-999.000,9,-999.000,  55.7073,2,   137.4,-999.000,  10.2647,        101,2,         71,2,         47,2,        167,2,        211,2,        179,2,        776,2,    0.46,2,   0.0800,2,   0.0530,2,   0.0250,2,   0.0180,2,   0.0230,2,   0.0242,2,-999.0000, -999.00
33RR20050106,       P16S,      51,          1,         32,         32,2,20050124,       1328,   -40.9995,  -150.0000,       5122,   188.0,   8.9427,  34.4847,2,  34.4807,2,    241.4,2,   241.1,2,    2.56,2,   15.36,2,    0.01,2,    1.11,2,-999.000,9,-999.000,9,-999.000,9,  2122.2,2,  2277.8,2,-999.000,9,-999.0000,9, -999.00,9, -999.00,5,    55.8,2,     3.4,-999.000,9,-999.000,  50.8293,3,   188.0,-999.000,   8.9225,         44,2,         34,2,         29,2,         82,2,         83,2,        141,3,        414,3,    0.14,2,   0.0800,2,   0.0530,2,   0.0280,2,   0.0220,2,   0.0213,2,   0.0230,2,-999.0000, -999.00
33RR20050106,       P16S,      51,          1,         31,         31,2,20050124,       1328,   -40.9995,  -150.0000,       5122,   237.9,   8.3035,  34.4780,2,  34.4778,2,    241.6,2,   244.0,2,    3.56,2,   17.18,2,    0.01,2,    1.21,2,   3.841,2,   2.037,2,   0.263,2,  2128.2,2,  2280.3,2,-999.000,9,-999.0000,9, -999.00,9, -999.00,5,    46.8,2,     3.5,-999.000,9,-999.000,  44.0443,2,   237.9,-999.000,   8.2790,     -999.0,9,     -999.0,9,     -999.0,9,     -999.0,9,     -999.0,9,     -999.0,9,     -999.0,9,   -0.09,4,   0.0740,2,   0.0480,2,   0.0250,2,   0.0200,2,   0.0227,2,   0.0245,2,-999.0000, -999.00
33RR20050106,       P16S,      51,          1,         30,         30,2,20050124,       1328,   -40.9995,  -150.0000,       5122,   288.3,   7.9615,  34.4651,2,  34.4625,2,    246.0,2,   248.1,2,    4.35,2,   18.21,2,    0.01,2,    1.27,2,-999.000,9,-999.000,9,-999.000,9,  2131.4,2,  2280.4,2,-999.000,9,-999.0000,9, -999.00,9, -999.00,5,    54.2,2,     3.6,-999.000,9,-999.000,  43.3789,2,   288.3,-999.000,   7.9325,         42,2,         30,2,         28,2,         72,2,         74,2,         54,2,        300,2,    0.03,2,-999.0000,9,-999.0000,9,-999.0000,9,-999.0000,9,-999.0000,9,-999.0000,9,-999.0000, -999.00
33RR20050106,       P16S,      51,          1,         29,         29,2,20050124,       1328,   -40.9995,  -150.0000,       5122,   343.7,   7.6653,  34.4448,2,  34.4446,2,    246.4,2,   249.2,2,    4.95,2,   19.23,2,    0.00,2,    1.33,2,   3.927,2,   2.080,2,   0.318,2,  2133.7,2,  2279.5,2,-999.000,9,-999.0000,9, -999.00,9, -999.00,5,    53.6,2,     3.0,-999.000,9,-999.000,  41.8501,2,   343.7,-999.000,   7.6313,     -999.0,9,     -999.0,9,     -999.0,9,     -999.0,9,     -999.0,9,     -999.0,9,     -999.0,9,    0.00,4,   0.0750,2,   0.0460,2,   0.0200,2,   0.0160,2,   0.0300,2,   0.0309,2,-999.0000, -999.00
33RR20050106,       P16S,      51,          1,         28,         28,2,20050124,       1328,   -40.9995,  -150.0000,       5122,   394.0,   7.4820,  34.4269,2,  34.4262,2,    249.1,2,   250.7,2,    5.35,2,   19.77,2,    0.00,2,    1.38,2,-999.000,9,-999.000,9,-999.000,9,  2134.3,2,  2280.4,2,-999.000,9,-999.0000,9, -999.00,9, -999.00,5,    46.4,2,     3.2,-999.000,9,-999.000,-999.0000,9,   394.0,-999.000,   7.4435,     -999.0,9,     -999.0,9,     -999.0,9,     -999.0,9,     -999.0,9,     -999.0,9,     -999.0,9, -999.00,9,-999.0000,9,-999.0000,9,-999.0000,9,-999.0000,9,-999.0000,9,-999.0000,9,-999.0000, -999.00
33RR20050106,       P16S,      51,          1,         27,         27,2,20050124,       1328,   -40.9995,  -150.0000,       5122,   444.1,   7.3018,  34.4119,2,  34.4119,2,    246.9,2,   248.5,2,    5.74,2,   20.52,2,    0.00,2,    1.41,2,   3.813,6,   1.968,6,   0.297,6,  2136.6,2,  2278.8,2,-999.000,9,-999.0000,9, -999.00,9, -999.00,5,    36.5,2,     3.7,-999.000,9,-999.000,  42.4705,2,   444.1,-999.000,   7.2588,     -999.0,9,     -999.0,9,     -999.0,9,     -999.0,9,     -999.0,9,     -999.0,9,     -999.0,9, -999.00,9,   0.0620,2,   0.0380,2,   0.0180,2,   0.0140,2,   0.0309,2,   0.0324,2,-999.0000, -999.00
33RR20050106,       P16S,      51,          1,         26,         26,2,20050124,       1328,   -40.9995,  -150.0000,       5122,   494.4,   7.1373,  34.3980,2,  34.3978,2,    246.7,2,   247.7,2,    6.34,2,   21.10,2,    0.00,2,    1.46,2,-999.000,9,-999.000,9,-999.000,9,  2138.8,2,  2279.4,2,-999.000,9,-999.0000,9, -999.00,9, -999.00,5,    32.7,2,     3.5,-999.000,9,-999.000,  45.0724,3,   494.4,-999.000,   7.0899,     -999.0,9,     -999.0,9,     -999.0,9,     -999.0,9,     -999.0,9,     -999.0,9,     -999.0,9, -999.00,9,-999.0000,9,-999.0000,9,-999.0000,9,-999.0000,9,-999.0000,9,-999.0000,9,-999.0000, -999.00
33RR20050106,       P16S,      51,          1,         25,         25,2,20050124,       1328,   -40.9995,  -150.0000,       5122,   580.0,   6.8893,  34.3794,2,  34.3797,2,    246.9,2,   247.7,2,    7.14,2,   21.75,2,    0.00,2,    1.51,2,   3.475,2,   1.771,2,   0.227,2,  2139.8,2,  2279.3,2,-999.000,9,-999.0000,9, -999.00,9, -999.00,5,    33.4,2,     4.3,-999.000,9,-999.000,  41.4987,2,   580.0,-999.000,   6.8345,     -999.0,9,     -999.0,9,     -999.0,9,     -999.0,9,     -999.0,9,     -999.0,9,     -999.0,9, -999.00,9,   0.0620,2,   0.0380,2,   0.0180,2,   0.0140,2,   0.0314,2,   0.0330,2,-999.0000, -999.00
33RR20050106,       P16S,      51,          1,         24,         24,2,20050124,       1328,   -40.9995,  -150.0000,       5122,   680.7,   6.5848,  34.3569,2,  34.3576,2,    244.6,2,   243.9,2,    8.74,2,   23.04,2,    0.00,2,    1.59,2,   3.098,2,   1.526,2,   0.184,2,  2143.2,2,  2282.0,2,-999.000,9,-999.0000,9, -999.00,9, -999.00,5,    20.8,2,     3.3,-999.000,9,-999.000,  42.5491,2,   680.7,-999.000,   6.5216,     -999.0,9,     -999.0,9,     -999.0,9,     -999.0,9,     -999.0,9,     -999.0,9,     -999.0,9, -999.00,9,-999.0000,9,-999.0000,9,-999.0000,9,-999.0000,9,-999.0000,9,-999.0000,9,-999.0000, -999.00
33RR20050106,       P16S,      51,          1,         23,         23,2,20050124,       1328,   -40.9995,  -150.0000,       5122,   781.8,   6.1712,  34.3326,2,  34.3334,2,    235.2,2,   233.9,2,   11.75,2,   24.88,2,    0.00,2,    1.71,2,   2.621,2,   1.316,2,   0.159,2,  2151.8,2,  2282.2,2,-999.000,9,-999.0000,9, -999.00,9, -999.00,5,     2.0,2,     2.3,-999.000,9,-999.000,  41.3230,2,   781.8,-999.000,   6.1005,     -999.0,9,     -999.0,9,     -999.0,9,     -999.0,9,     -999.0,9,     -999.0,9,     -999.0,9, -999.00,9,   0.0690,2,   0.0430,2,   0.0200,2,   0.0160,2,   0.0287,2,   0.0304,2,-999.0000, -999.00
33RR20050106,       P16S,      51,          1,         22,         22,2,20050124,       1328,   -40.9995,  -150.0000,       5122,   882.3,   5.6679,  34.3232,2,  34.3236,2,    222.3,2,   220.8,2,   16.77,2,   26.99,2,    0.00,2,    1.86,2,   1.951,2,   0.959,2,   0.094,2,  2165.2,6,  2284.9,2,-999.000,9,-999.0000,9, -999.00,9, -999.00,9,  -999.0,9,  -999.0,-999.000,9,-999.000,  42.9453,2,   882.3,-999.000,   5.5909,     -999.0,9,     -999.0,9,     -999.0,9,     -999.0,9,     -999.0,9,     -999.0,9,     -999.0,9, -999.00,9,   0.0700,2,   0.0430,2,   0.0200,2,   0.0160,2,   0.0290,2,   0.0310,2,-999.0000, -999.00
33RR20050106,       P16S,      51,          1,         21,         21,2,20050124,       1328,   -40.9995,  -150.0000,       5122,   983.1,   5.1045,  34.3245,2,  34.3244,2,    211.6,2,   210.7,2,   23.02,2,   28.89,2,    0.00,2,    2.00,2,   1.558,2,   0.761,2,   0.093,2,  2178.8,2,  2289.0,2,-999.000,9,-999.0000,9, -999.00,9, -999.00,5,   -48.7,2,     2.7,-999.000,9,-999.000,  42.0669,2,   983.1,-999.000,   5.0222,     -999.0,9,     -999.0,9,     -999.0,9,     -999.0,9,     -999.0,9,     -999.0,9,     -999.0,9, -999.00,9,   0.0760,2,   0.0480,2,   0.0240,2,   0.0180,2,   0.0248,2,   0.0272,2,-999.0000, -999.00
33RR20050106,       P16S,      51,          1,         20,         20,2,20050124,       1328,   -40.9995,  -150.0000,       5122,  1083.9,   4.5286,  34.3330,2,  34.3340,2,    203.0,2,   202.7,2,   30.48,2,   30.68,2,    0.00,2,    2.11,2,   1.080,2,   0.533,2,   0.069,2,  2191.9,2,  2295.5,2,-999.000,9,-999.0000,9, -999.00,9, -999.00,9,  -999.0,9,  -999.0,-999.000,9,-999.000,  41.1698,2,  1083.9,-999.000,   4.4418,     -999.0,9,     -999.0,9,     -999.0,9,     -999.0,9,     -999.0,9,     -999.0,9,     -999.0,9, -999.00,9,   0.0810,2,   0.0510,2,   0.0270,2,   0.0200,2,   0.0225,2,   0.0250,2,-999.0000, -999.00
33RR20050106,       P16S,      51,          1,         19,         19,2,20050124,       1328,   -40.9995,  -150.0000,       5122,  1183.1,   4.0264,  34.3510,2,  34.3517,2,    196.3,2,   196.6,2,   38.17,2,   31.88,2,    0.00,2,    2.21,2,   0.837,2,   0.410,2,   0.035,2,  2204.2,2,  2302.5,2,-999.000,9,-999.0000,9, -999.00,9, -999.00,5,   -93.8,2,     2.1,-999.000,9,-999.000,-999.0000,9,  1183.1,-999.000,   3.9353,     -999.0,9,     -999.0,9,     -999.0,9,     -999.0,9,     -999.0,9,     -999.0,9,     -999.0,9, -999.00,9,-999.0000,9,-999.0000,9,-999.0000,9,-999.0000,9,-999.0000,9,-999.0000,9,-999.0000, -999.00
33RR20050106,       P16S,      51,          1,         18,         18,2,20050124,       1328,   -40.9995,  -150.0000,       5122,  1285.8,   3.5537,  34.3890,2,  34.3878,2,    188.2,2,   187.8,2,   47.51,2,   33.07,2,    0.00,2,    2.30,2,   0.479,2,   0.227,2,   0.019,2,  2220.0,2,  2309.4,6,-999.000,9,-999.0000,9, -999.00,9, -999.00,9,  -999.0,9,  -999.0,-999.000,9,-999.000,-999.0000,9,  1285.8,-999.000,   3.4583,     -999.0,9,     -999.0,9,     -999.0,9,     -999.0,9,     -999.0,9,     -999.0,9,     -999.0,9, -999.00,9,-999.0000,9,-999.0000,9,-999.0000,9,-999.0000,9,-999.0000,9,-999.0000,9,-999.0000, -999.00
33RR20050106,       P16S,      51,          1,         17,         17,2,20050124,       1328,   -40.9995,  -150.0000,       5122,  1387.2,   3.2371,  34.4333,2,  34.4359,2,    179.9,2,   179.2,2,   57.27,2,   33.73,2,    0.00,2,    2.35,2,   0.279,2,   0.134,2,   0.014,2,  2233.6,2,  2322.1,2,-999.000,9,-999.0000,9, -999.00,9, -999.00,9,  -999.0,9,  -999.0,-999.000,9,-999.000,  40.6652,2,  1387.2,-999.000,   3.1364,     -999.0,9,     -999.0,9,     -999.0,9,     -999.0,9,     -999.0,9,     -999.0,9,     -999.0,9, -999.00,9,   0.0950,2,   0.0620,2,   0.0330,2,   0.0240,2,   0.0189,2,   0.0214,2,-999.0000, -999.00
33RR20050106,       P16S,      51,          1,         16,         16,2,20050124,       1328,   -40.9995,  -150.0000,       5122,  1487.9,   3.0136,  34.4855,2,  34.4838,2,    172.1,2,   171.3,2,   67.06,2,   34.17,2,    0.00,2,    2.40,2,   0.121,2,   0.067,2,  -0.003,2,  2245.8,2,  2332.3,2,-999.000,9,-999.0000,9, -999.00,9, -999.00,5,  -153.4,2,     2.2,-999.000,9,-999.000,-999.0000,9,  1487.9,-999.000,   2.9068,     -999.0,9,     -999.0,9,     -999.0,9,     -999.0,9,     -999.0,9,     -999.0,9,     -999.0,9, -999.00,9,-999.0000,9,-999.0000,9,-999.0000,9,-999.0000,9,-999.0000,9,-999.0000,9,-999.0000, -999.00
33RR20050106,       P16S,      51,          1,         15,         15,2,20050124,       1328,   -40.9995,  -150.0000,       5122,  1589.5,   2.8558,  34.5304,2,  34.5306,2,    165.6,2,   164.6,2,   76.88,2,   34.55,2,    0.00,2,    2.43,2,   0.066,2,   0.030,2,  -0.002,2,  2258.6,2,  2344.3,2,-999.000,9,-999.0000,9, -999.00,9, -999.00,9,  -999.0,9,  -999.0,-999.000,9,-999.000,  38.9830,2,  1589.5,-999.000,   2.7423,     -999.0,9,     -999.0,9,     -999.0,9,     -999.0,9,     -999.0,9,     -999.0,9,     -999.0,9, -999.00,9,   0.1080,2,   0.0730,2,   0.0400,2,   0.0300,2,   0.0152,2,   0.0176,2,-999.0000, -999.00
33RR20050106,       P16S,      51,          1,         14,         14,2,20050124,       1328,   -40.9995,  -150.0000,       5122,  1791.9,   2.6169,  34.5844,2,  34.5840,2,    157.0,2,   156.7,2,   92.26,2,   34.93,2,    0.00,2,    2.46,2,   0.020,2,   0.017,2,   0.011,2,  2258.4,3,  2363.9,2,-999.000,9,-999.0000,9, -999.00,9, -999.00,9,  -999.0,9,  -999.0,-999.000,9,-999.000,-999.0000,9,  1791.9,-999.000,   2.4893,     -999.0,9,     -999.0,9,     -999.0,9,     -999.0,9,     -999.0,9,     -999.0,9,     -999.0,9, -999.00,9,-999.0000,9,-999.0000,9,-999.0000,9,-999.0000,9,-999.0000,9,-999.0000,9,-999.0000, -999.00
33RR20050106,       P16S,      51,          1,         13,         13,2,20050124,       1328,   -40.9995,  -150.0000,       5122,  1994.5,   2.4367,  34.6120,2,  34.6123,2,    153.0,2,   152.9,2,  102.33,2,   35.20,2,    0.00,2,    2.48,2,   0.015,2,   0.019,2,   0.012,2,  2289.0,2,  2375.1,2,-999.000,9,-999.0000,9, -999.00,9, -999.00,9,  -999.0,9,  -999.0,-999.000,9,-999.000,  36.1209,2,  1994.5,-999.000,   2.2942,     -999.0,9,     -999.0,9,     -999.0,9,     -999.0,9,     -999.0,9,     -999.0,9,     -999.0,9, -999.00,9,   0.1060,2,   0.0700,2,   0.0370,2,   0.0270,2,   0.0173,2,   0.0196,2,-999.0000, -999.00
33RR20050106,       P16S,      51,          1,         12,         12,2,20050124,       1328,   -40.9995,  -150.0000,       5122,  2197.3,   2.2836,  34.6314,2,  34.6314,2,    151.4,2,   151.8,2,  109.55,2,   35.36,2,    0.00,2,    2.49,2,   0.012,2,   0.014,2,   0.002,2,  2297.2,2,  2383.3,2,-999.000,9,-999.0000,9, -999.00,9, -999.00,9,  -999.0,9,  -999.0,-999.000,9,-999.000,-999.0000,9,  2197.3,-999.000,   2.1256,     -999.0,9,     -999.0,9,     -999.0,9,     -999.0,9,     -999.0,9,     -999.0,9,     -999.0,9, -999.00,9,-999.0000,9,-999.0000,9,-999.0000,9,-999.0000,9,-999.0000,9,-999.0000,9,-999.0000, -999.00
33RR20050106,       P16S,      51,          1,         11,         11,2,20050124,       1328,   -40.9995,  -150.0000,       5122,  2451.2,   2.1370,  34.6469,2,  34.6465,2,    150.8,2,   151.4,2,  115.11,2,   35.42,2,    0.00,2,    2.49,2,   0.009,2,   0.013,2,   0.002,2,  2302.2,2,  2389.2,2,-999.000,9,-999.0000,9, -999.00,9, -999.00,9,  -999.0,9,  -999.0,-999.000,9,-999.000,  39.2185,2,  2451.2,-999.000,   1.9586,     -999.0,9,     -999.0,9,     -999.0,9,     -999.0,9,     -999.0,9,     -999.0,9,     -999.0,9, -999.00,9,   0.1130,2,   0.0770,2,   0.0410,2,   0.0300,2,   0.0157,2,   0.0180,2,-999.0000, -999.00
33RR20050106,       P16S,      51,          1,         10,         10,2,20050124,       1328,   -40.9995,  -150.0000,       5122,  2705.1,   2.0109,  34.6616,2,  34.6617,2,    152.6,2,   153.2,2,  118.41,2,   35.25,2,    0.00,2,    2.48,2,   0.028,3,   0.016,3,   0.002,2,  2303.5,2,  2390.5,2,-999.000,9,-999.0000,9, -999.00,9, -999.00,9,  -999.0,9,  -999.0,-999.000,9,-999.000,-999.0000,9,  2705.1,-999.000,   1.8113,     -999.0,9,     -999.0,9,     -999.0,9,     -999.0,9,     -999.0,9,     -999.0,9,     -999.0,9, -999.00,9,-999.0000,9,-999.0000,9,-999.0000,9,-999.0000,9,-999.0000,9,-999.0000,9,-999.0000, -999.00
33RR20050106,       P16S,      51,          1,          9,          9,2,20050124,       1328,   -40.9995,  -150.0000,       5122,  2959.3,   1.9022,  34.6789,2,  34.6784,2,    160.1,2,   160.2,2,  117.57,2,   34.64,2,    0.00,2,    2.44,2,   0.010,2,   0.012,2,   0.002,2,  2298.1,2,  2387.7,2,-999.000,9,-999.0000,9, -999.00,9, -999.00,9,  -999.0,9,  -999.0,-999.000,9,-999.000,-999.0000,9,  2959.3,-999.000,   1.6805,     -999.0,9,     -999.0,9,     -999.0,9,     -999.0,9,     -999.0,9,     -999.0,9,     -999.0,9, -999.00,9,-999.0000,9,-999.0000,9,-999.0000,9,-999.0000,9,-999.0000,9,-999.0000,9,-999.0000, -999.00
33RR20050106,       P16S,      51,          1,          8,          8,2,20050124,       1328,   -40.9995,  -150.0000,       5122,  3295.2,   1.7502,  34.7014,2,  34.7020,2,    172.9,2,   174.0,2,  113.23,2,   33.44,2,    0.00,2,    2.34,2,   0.009,2,   0.013,2,   0.002,2,  2284.3,2,  2377.5,2,-999.000,9,-999.0000,9, -999.00,9, -999.00,9,  -999.0,9,  -999.0,-999.000,9,-999.000,  37.5178,2,  3295.2,-999.000,   1.4986,     -999.0,9,     -999.0,9,     -999.0,9,     -999.0,9,     -999.0,9,     -999.0,9,     -999.0,9, -999.00,9,   0.1120,2,   0.0750,2,   0.0390,2,   0.0280,2,   0.0169,2,   0.0193,2,-999.0000, -999.00
33RR20050106,       P16S,      51,          1,          7,          7,2,20050124,       1328,   -40.9995,  -150.0000,       5122,  3602.0,   1.5720,  34.7173,2,  34.7171,2,    186.9,2,   188.6,2,  109.32,2,   32.34,2,    0.00,2,    2.24,2,   0.001,2,   0.016,3,   0.002,2,  2270.2,2,  2368.7,2,-999.000,9,-999.0000,9, -999.00,9, -999.00,9,  -999.0,9,  -999.0,-999.000,9,-999.000,-999.0000,9,  3602.0,-999.000,   1.2933,     -999.0,9,     -999.0,9,     -999.0,9,     -999.0,9,     -999.0,9,     -999.0,9,     -999.0,9, -999.00,9,-999.0000,9,-999.0000,9,-999.0000,9,-999.0000,9,-999.0000,9,-999.0000,9,-999.0000, -999.00