BOTTLE,20201109CCHSIOCBG
EXPOCODE,SECT_ID,STNNBR,CASTNO,SAMPNO,BTLNBR,BTLNBR_FLAG_W,DATE,TIME,LATITUDE,LONGITUDE,DEPTH,CTDPRS,CTDTMP,CTDSAL,CTDSAL_FLAG_W,SALNTY,SALNTY_FLAG_W,CTDOXY,CTDOXY_FLAG_W,OXYGEN,OXYGEN_FLAG_W,SILCAT,SILCAT_FLAG_W,NITRAT,NITRAT_FLAG_W,NITRIT,NITRIT_FLAG_W,PHSPHT,PHSPHT_FLAG_W,CFC-11,CFC-11_FLAG_W,CFC-12,CFC-12_FLAG_W,CFC113,CFC113_FLAG_W,TCARBN,TCARBN_FLAG_W,ALKALI,ALKALI_FLAG_W,TRITUM,TRITUM_FLAG_W,HELIUM,HELIUM_FLAG_W,DELHE3,DELHE3_FLAG_W,DELC13,DELC13_FLAG_W,DELC14,DELC14_FLAG_W,C14ERR,NEON,NEON_FLAG_W,NEONER,DOC,DOC_FLAG_W,CTDRAW,TRITER,THETA,FUCO,FUCO_FLAG_W,RHAM,RHAM_FLAG_W,ARABA,ARABA_FLAG_W,GALA,GALA_FLAG_W,GLUC,GLUC_FLAG_W,MAN,MAN_FLAG_W,DCNS,DCNS_FLAG_W,BRDU,BRDU_FLAG_W,CDOM325,CDOM325_FLAG_W,CDOM340,CDOM340_FLAG_W,CDOM380,CDOM380_FLAG_W,CDOM412,CDOM412_FLAG_W,CDOMSL,CDOMSL_FLAG_W,CDOMSN,CDOMSN_FLAG_W,HELIER,DELHER
,,,,,,,,,,,METERS,DBAR,ITS-90,PSS-78,,PSS-78,,UMOL/KG,,UMOL/KG,,UMOL/KG,,UMOL/KG,,UMOL/KG,,UMOL/KG,,PMOL/KG,,PMOL/KG,,PMOL/KG,,UMOL/KG,,UMOL/KG,,TU,,NMOL/KG,,PERCNT,,/MILLE,,/MILLE,,/MILLE,NMOL/KG,,NMOL/KG,UMOL/KG,,DBAR,TU,DEG C,NMOL/KG,,NMOL/KG,,NMOL/KG,,NMOL/KG,,NMOL/KG,,NMOL/KG,,NMOL/KG,,PMOL/L/H,,1/M,,1/M,,1/M,,1/M,,1/NM,,1/NM,,NMOL/KG,PERCNT
33RR20050106,       P16S,      64,          1,         36,         36,2,20050128,       1420,   -47.4998,  -149.9997,       4770,     8.7,  11.8404,  34.5335,2,  34.5331,2,    269.8,2,   270.6,2,    0.34,2,    5.83,2,    0.13,2,    0.59,2,   3.372,2,   1.946,2,   0.269,2,  2068.2,6,  2287.9,6,-999.000,9,-999.0000,9, -999.00,9, -999.00,9,  -999.0,9,  -999.0,-999.000,9,-999.000,-999.0000,9,     8.7,-999.000,  11.8393,     -999.0,9,     -999.0,9,     -999.0,9,     -999.0,9,     -999.0,9,     -999.0,9,     -999.0,9, -999.00,9,-999.0000,9,-999.0000,9,-999.0000,9,-999.0000,9,-999.0000,9,-999.0000,9,-999.0000, -999.00
33RR20050106,       P16S,      64,          1,         35,         35,2,20050128,       1420,   -47.4998,  -149.9997,       4770,    53.9,  11.3946,  34.5090,2,  34.5118,2,    271.6,2,   273.0,2,    0.54,2,    6.31,2,    0.13,2,    0.62,2,-999.000,9,-999.000,9,-999.000,9,  2071.7,2,  2285.9,2,-999.000,9,-999.0000,9, -999.00,9, -999.00,9,  -999.0,9,  -999.0,-999.000,9,-999.000,-999.0000,9,    53.9,-999.000,  11.3879,     -999.0,9,     -999.0,9,     -999.0,9,     -999.0,9,     -999.0,9,     -999.0,9,     -999.0,9, -999.00,9,-999.0000,9,-999.0000,9,-999.0000,9,-999.0000,9,-999.0000,9,-999.0000,9,-999.0000, -999.00
33RR20050106,       P16S,      64,          1,         34,         34,2,20050128,       1420,   -47.4998,  -149.9997,       4770,    79.2,   9.4474,  34.5456,2,  34.5446,2,    280.9,2,   273.8,2,    2.13,2,    9.05,2,    0.58,2,    0.84,2,   3.725,2,   2.142,2,   0.341,2,  2100.0,2,  2285.9,2,-999.000,9,-999.0000,9, -999.00,9, -999.00,9,  -999.0,9,  -999.0,-999.000,9,-999.000,-999.0000,9,    79.2,-999.000,   9.4386,     -999.0,9,     -999.0,9,     -999.0,9,     -999.0,9,     -999.0,9,     -999.0,9,     -999.0,9, -999.00,9,-999.0000,9,-999.0000,9,-999.0000,9,-999.0000,9,-999.0000,9,-999.0000,9,-999.0000, -999.00
33RR20050106,       P16S,      64,          1,         33,         33,2,20050128,       1420,   -47.4998,  -149.9997,       4770,   104.6,   9.1727,  34.5558,2,  34.5546,2,    269.4,2,   269.0,2,    2.33,2,   10.98,2,    0.21,2,    0.87,2,   3.792,6,   2.126,6,   0.324,6,  2103.7,2,  2284.9,2,-999.000,9,-999.0000,9, -999.00,9, -999.00,9,  -999.0,9,  -999.0,-999.000,9,-999.000,-999.0000,9,   104.6,-999.000,   9.1613,     -999.0,9,     -999.0,9,     -999.0,9,     -999.0,9,     -999.0,9,     -999.0,9,     -999.0,9, -999.00,9,-999.0000,9,-999.0000,9,-999.0000,9,-999.0000,9,-999.0000,9,-999.0000,9,-999.0000, -999.00
33RR20050106,       P16S,      64,          1,         32,         32,2,20050128,       1420,   -47.4998,  -149.9997,       4770,   154.0,   9.1191,  34.5863,2,  34.5878,2,    265.7,2,   269.4,2,    2.52,2,   11.31,2,    0.04,2,    0.88,2,-999.000,9,-999.000,9,-999.000,9,  2104.8,2,  2287.1,2,-999.000,9,-999.0000,9, -999.00,9, -999.00,9,  -999.0,9,  -999.0,-999.000,9,-999.000,-999.0000,9,   154.0,-999.000,   9.1024,     -999.0,9,     -999.0,9,     -999.0,9,     -999.0,9,     -999.0,9,     -999.0,9,     -999.0,9, -999.00,9,-999.0000,9,-999.0000,9,-999.0000,9,-999.0000,9,-999.0000,9,-999.0000,9,-999.0000, -999.00
33RR20050106,       P16S,      64,          1,         31,         31,2,20050128,       1420,   -47.4998,  -149.9997,       4770,   205.3,   8.7785,  34.5489,2,  34.5480,2,    266.0,2,   265.9,2,    2.92,2,   12.94,2,    0.04,2,    0.98,2,   3.746,2,   2.182,2,   0.332,2,  2110.7,2,  2285.4,2,-999.000,9,-999.0000,9, -999.00,9, -999.00,9,  -999.0,9,  -999.0,-999.000,9,-999.000,-999.0000,9,   205.3,-999.000,   8.7566,     -999.0,9,     -999.0,9,     -999.0,9,     -999.0,9,     -999.0,9,     -999.0,9,     -999.0,9, -999.00,9,-999.0000,9,-999.0000,9,-999.0000,9,-999.0000,9,-999.0000,9,-999.0000,9,-999.0000, -999.00
33RR20050106,       P16S,      64,          1,         30,         30,2,20050128,       1420,   -47.4998,  -149.9997,       4770,   260.0,   8.3660,  34.5155,2,  34.5121,2,    257.8,2,   258.6,2,    3.91,2,   16.17,2,    0.02,2,    1.14,2,-999.000,9,-999.000,9,-999.000,9,  2121.6,2,  2284.1,2,-999.000,9,-999.0000,9, -999.00,9, -999.00,9,  -999.0,9,  -999.0,-999.000,9,-999.000,-999.0000,9,   260.0,-999.000,   8.3391,     -999.0,9,     -999.0,9,     -999.0,9,     -999.0,9,     -999.0,9,     -999.0,9,     -999.0,9, -999.00,9,-999.0000,9,-999.0000,9,-999.0000,9,-999.0000,9,-999.0000,9,-999.0000,9,-999.0000, -999.00
33RR20050106,       P16S,      64,          1,         29,         29,2,20050128,       1420,   -47.4998,  -149.9997,       4770,   310.7,   8.0612,  34.4842,2,  34.4838,2,    250.1,2,   253.0,2,    4.71,2,   17.91,2,    0.01,2,    1.24,2,   3.788,2,   2.136,2,   0.316,2,  2126.9,2,  2283.9,2,-999.000,9,-999.0000,9, -999.00,9, -999.00,9,  -999.0,9,  -999.0,-999.000,9,-999.000,-999.0000,9,   310.7,-999.000,   8.0296,     -999.0,9,     -999.0,9,     -999.0,9,     -999.0,9,     -999.0,9,     -999.0,9,     -999.0,9, -999.00,9,-999.0000,9,-999.0000,9,-999.0000,9,-999.0000,9,-999.0000,9,-999.0000,9,-999.0000, -999.00
33RR20050106,       P16S,      64,          1,         28,         28,2,20050128,       1420,   -47.4998,  -149.9997,       4770,   360.5,   7.8246,  34.4581,2,  34.4583,2,    254.7,2,   252.6,2,    5.11,2,   18.66,2,    0.01,2,    1.29,2,-999.000,9,-999.000,9,-999.000,9,  2131.2,2,  2282.4,2,-999.000,9,-999.0000,9, -999.00,9, -999.00,9,  -999.0,9,  -999.0,-999.000,9,-999.000,-999.0000,9,   360.5,-999.000,   7.7885,     -999.0,9,     -999.0,9,     -999.0,9,     -999.0,9,     -999.0,9,     -999.0,9,     -999.0,9, -999.00,9,-999.0000,9,-999.0000,9,-999.0000,9,-999.0000,9,-999.0000,9,-999.0000,9,-999.0000, -999.00
33RR20050106,       P16S,      64,          1,         27,         27,2,20050128,       1420,   -47.4998,  -149.9997,       4770,   411.3,   7.6673,  34.4412,2,  34.4410,2,    258.3,2,   258.1,2,    5.10,2,   18.61,2,    0.01,2,    1.29,2,   3.848,2,   2.151,2,   0.331,2,  2128.9,3,  2281.6,2,-999.000,9,-999.0000,9, -999.00,9, -999.00,9,  -999.0,9,  -999.0,-999.000,9,-999.000,-999.0000,9,   411.3,-999.000,   7.6265,     -999.0,9,     -999.0,9,     -999.0,9,     -999.0,9,     -999.0,9,     -999.0,9,     -999.0,9, -999.00,9,-999.0000,9,-999.0000,9,-999.0000,9,-999.0000,9,-999.0000,9,-999.0000,9,-999.0000, -999.00
33RR20050106,       P16S,      64,          1,         26,         26,2,20050128,       1420,   -47.4998,  -149.9997,       4770,   460.9,   7.4952,  34.4237,2,  34.4230,2,    255.5,2,   252.1,2,    5.89,2,   19.91,2,    0.00,2,    1.37,2,-999.000,9,-999.000,9,-999.000,9,  2132.9,2,  2281.4,2,-999.000,9,-999.0000,9, -999.00,9, -999.00,9,  -999.0,9,  -999.0,-999.000,9,-999.000,-999.0000,9,   460.9,-999.000,   7.4499,     -999.0,9,     -999.0,9,     -999.0,9,     -999.0,9,     -999.0,9,     -999.0,9,     -999.0,9, -999.00,9,-999.0000,9,-999.0000,9,-999.0000,9,-999.0000,9,-999.0000,9,-999.0000,9,-999.0000, -999.00
33RR20050106,       P16S,      64,          1,         25,         25,2,20050128,       1420,   -47.4998,  -149.9997,       4770,   512.4,   7.3275,  34.4068,2,  34.4059,2,    253.4,2,   252.1,2,    6.29,2,   20.28,2,    0.00,2,    1.41,2,   3.709,2,   2.077,2,   0.305,2,  2134.0,2,  2280.8,2,-999.000,9,-999.0000,9, -999.00,9, -999.00,9,  -999.0,9,  -999.0,-999.000,9,-999.000,-999.0000,9,   512.4,-999.000,   7.2776,     -999.0,9,     -999.0,9,     -999.0,9,     -999.0,9,     -999.0,9,     -999.0,9,     -999.0,9, -999.00,9,-999.0000,9,-999.0000,9,-999.0000,9,-999.0000,9,-999.0000,9,-999.0000,9,-999.0000, -999.00
33RR20050106,       P16S,      64,          1,         24,         24,2,20050128,       1420,   -47.4998,  -149.9997,       4770,   612.4,   7.0344,  34.3836,2,  34.3844,2,    248.6,2,   248.1,2,    7.49,2,   21.65,2,    0.00,2,    1.48,2,   3.508,2,   1.909,2,   0.256,2,  2138.4,2,  2280.8,2,-999.000,9,-999.0000,9, -999.00,9, -999.00,9,  -999.0,9,  -999.0,-999.000,9,-999.000,-999.0000,9,   612.4,-999.000,   6.9757,     -999.0,9,     -999.0,9,     -999.0,9,     -999.0,9,     -999.0,9,     -999.0,9,     -999.0,9, -999.00,9,-999.0000,9,-999.0000,9,-999.0000,9,-999.0000,9,-999.0000,9,-999.0000,9,-999.0000, -999.00
33RR20050106,       P16S,      64,          1,         23,         23,2,20050128,       1420,   -47.4998,  -149.9997,       4770,   713.0,   6.6340,  34.3510,2,  34.3514,2,    245.7,2,   246.7,2,    8.89,2,   22.85,2,    0.00,2,    1.56,2,   3.339,2,   1.834,2,   0.230,2,  2142.3,2,  2281.1,2,-999.000,9,-999.0000,9, -999.00,9, -999.00,9,  -999.0,9,  -999.0,-999.000,9,-999.000,-999.0000,9,   713.0,-999.000,   6.5674,     -999.0,9,     -999.0,9,     -999.0,9,     -999.0,9,     -999.0,9,     -999.0,9,     -999.0,9, -999.00,9,-999.0000,9,-999.0000,9,-999.0000,9,-999.0000,9,-999.0000,9,-999.0000,9,-999.0000, -999.00
33RR20050106,       P16S,      64,          1,         22,         22,2,20050128,       1420,   -47.4998,  -149.9997,       4770,   814.0,   6.1726,  34.3268,2,  34.3271,2,    235.7,2,   236.5,2,   12.11,2,   24.82,2,    0.00,2,    1.68,2,   2.954,2,   1.597,2,   0.183,2,  2151.2,2,  2281.4,2,-999.000,9,-999.0000,9, -999.00,9, -999.00,9,  -999.0,9,  -999.0,-999.000,9,-999.000,-999.0000,9,   814.0,-999.000,   6.0989,     -999.0,9,     -999.0,9,     -999.0,9,     -999.0,9,     -999.0,9,     -999.0,9,     -999.0,9, -999.00,9,-999.0000,9,-999.0000,9,-999.0000,9,-999.0000,9,-999.0000,9,-999.0000,9,-999.0000, -999.00
33RR20050106,       P16S,      64,          1,         21,         21,2,20050128,       1420,   -47.4998,  -149.9997,       4770,   914.7,   5.6940,  34.3253,2,  34.3252,2,    224.7,2,   222.2,2,   17.35,2,   26.97,2,    0.00,2,    1.83,2,   2.355,2,   1.275,2,   0.146,2,  2164.5,2,  2285.1,2,-999.000,9,-999.0000,9, -999.00,9, -999.00,9,  -999.0,9,  -999.0,-999.000,9,-999.000,-999.0000,9,   914.7,-999.000,   5.6138,     -999.0,9,     -999.0,9,     -999.0,9,     -999.0,9,     -999.0,9,     -999.0,9,     -999.0,9, -999.00,9,-999.0000,9,-999.0000,9,-999.0000,9,-999.0000,9,-999.0000,9,-999.0000,9,-999.0000, -999.00
33RR20050106,       P16S,      64,          1,         20,         20,2,20050128,       1420,   -47.4998,  -149.9997,       4770,  1015.8,   5.1836,  34.3240,2,  34.3236,2,    213.1,2,   213.8,2,   22.60,2,   28.78,2,    0.00,2,    1.96,2,   1.933,2,   1.012,2,   0.115,2,  2176.3,2,  2288.8,2,-999.000,9,-999.0000,9, -999.00,9, -999.00,9,  -999.0,9,  -999.0,-999.000,9,-999.000,-999.0000,9,  1015.8,-999.000,   5.0977,     -999.0,9,     -999.0,9,     -999.0,9,     -999.0,9,     -999.0,9,     -999.0,9,     -999.0,9, -999.00,9,-999.0000,9,-999.0000,9,-999.0000,9,-999.0000,9,-999.0000,9,-999.0000,9,-999.0000, -999.00
33RR20050106,       P16S,      64,          1,         19,         19,2,20050128,       1420,   -47.4998,  -149.9997,       4770,  1115.8,   4.5936,  34.3289,2,  34.3293,2,    206.0,2,   207.3,2,   29.49,2,   30.43,2,    0.00,2,    2.07,2,   1.622,2,   0.835,2,   0.101,2,  2188.8,2,  2294.5,2,-999.000,9,-999.0000,9, -999.00,9, -999.00,9,  -999.0,9,  -999.0,-999.000,9,-999.000,-999.0000,9,  1115.8,-999.000,   4.5035,     -999.0,9,     -999.0,9,     -999.0,9,     -999.0,9,     -999.0,9,     -999.0,9,     -999.0,9, -999.00,9,-999.0000,9,-999.0000,9,-999.0000,9,-999.0000,9,-999.0000,9,-999.0000,9,-999.0000, -999.00
33RR20050106,       P16S,      64,          1,         18,         18,2,20050128,       1420,   -47.4998,  -149.9997,       4770,  1217.6,   4.0472,  34.3427,2,  34.3431,2,    200.2,2,   201.8,2,   37.00,2,   31.69,2,    0.00,2,    2.16,2,   1.414,2,   0.736,2,   0.085,2,  2202.1,6,  2301.1,2,-999.000,9,-999.0000,9, -999.00,9, -999.00,9,  -999.0,9,  -999.0,-999.000,9,-999.000,-999.0000,9,  1217.6,-999.000,   3.9530,     -999.0,9,     -999.0,9,     -999.0,9,     -999.0,9,     -999.0,9,     -999.0,9,     -999.0,9, -999.00,9,-999.0000,9,-999.0000,9,-999.0000,9,-999.0000,9,-999.0000,9,-999.0000,9,-999.0000, -999.00
33RR20050106,       P16S,      64,          1,         17,         17,2,20050128,       1420,   -47.4998,  -149.9997,       4770,  1318.8,   3.6629,  34.3715,2,  34.3712,2,    193.6,2,   194.8,2,   44.52,2,   32.74,2,    0.00,2,    2.24,2,   1.154,2,   0.586,2,   0.072,2,  -999.0,9,  -999.0,9,-999.000,9,-999.0000,9, -999.00,9, -999.00,9,  -999.0,9,  -999.0,-999.000,9,-999.000,-999.0000,9,  1318.8,-999.000,   3.5637,     -999.0,9,     -999.0,9,     -999.0,9,     -999.0,9,     -999.0,9,     -999.0,9,     -999.0,9, -999.00,9,-999.0000,9,-999.0000,9,-999.0000,9,-999.0000,9,-999.0000,9,-999.0000,9,-999.0000, -999.00
33RR20050106,       P16S,      64,          1,         16,         16,2,20050128,       1420,   -47.4998,  -149.9997,       4770,  1419.6,   3.3428,  34.4018,2,  34.4006,2,    187.6,2,   189.3,2,   51.45,2,   33.35,2,    0.00,2,    2.30,2,   0.961,2,   0.493,2,   0.063,2,  -999.0,9,  -999.0,9,-999.000,9,-999.0000,9, -999.00,9, -999.00,9,  -999.0,9,  -999.0,-999.000,9,-999.000,-999.0000,9,  1419.6,-999.000,   3.2383,     -999.0,9,     -999.0,9,     -999.0,9,     -999.0,9,     -999.0,9,     -999.0,9,     -999.0,9, -999.00,9,-999.0000,9,-999.0000,9,-999.0000,9,-999.0000,9,-999.0000,9,-999.0000,9,-999.0000, -999.00
33RR20050106,       P16S,      64,          1,         15,         15,2,20050128,       1420,   -47.4998,  -149.9997,       4770,  1521.2,   3.1069,  34.4414,2,  34.4389,2,    180.7,2,   182.6,2,   58.40,2,   34.00,2,    0.00,2,    2.33,2,   0.763,2,   0.365,2,   0.041,2,  -999.0,9,  -999.0,9,-999.000,9,-999.0000,9, -999.00,9, -999.00,9,  -999.0,9,  -999.0,-999.000,9,-999.000,-999.0000,9,  1521.2,-999.000,   2.9964,     -999.0,9,     -999.0,9,     -999.0,9,     -999.0,9,     -999.0,9,     -999.0,9,     -999.0,9, -999.00,9,-999.0000,9,-999.0000,9,-999.0000,9,-999.0000,9,-999.0000,9,-999.0000,9,-999.0000, -999.00
33RR20050106,       P16S,      64,          1,         14,         14,2,20050128,       1420,   -47.4998,  -149.9997,       4770,  1622.3,   2.9424,  34.4756,2,  34.4752,2,    175.6,2,   178.2,2,   64.13,2,   34.26,2,    0.00,2,    2.35,2,   0.603,2,   0.295,2,   0.027,2,  -999.0,9,  -999.0,9,-999.000,9,-999.0000,9, -999.00,9, -999.00,9,  -999.0,9,  -999.0,-999.000,9,-999.000,-999.0000,9,  1622.3,-999.000,   2.8252,     -999.0,9,     -999.0,9,     -999.0,9,     -999.0,9,     -999.0,9,     -999.0,9,     -999.0,9, -999.00,9,-999.0000,9,-999.0000,9,-999.0000,9,-999.0000,9,-999.0000,9,-999.0000,9,-999.0000, -999.00
33RR20050106,       P16S,      64,          1,         13,         13,2,20050128,       1420,   -47.4998,  -149.9997,       4770,  1824.9,   2.7035,  34.5527,2,  34.5520,2,    167.0,2,   167.6,2,   77.46,2,   34.47,2,    0.00,2,    2.38,2,   0.258,2,   0.126,2,   0.005,2,  -999.0,9,  -999.0,9,-999.000,9,-999.0000,9, -999.00,9, -999.00,9,  -999.0,9,  -999.0,-999.000,9,-999.000,-999.0000,9,  1824.9,-999.000,   2.5719,     -999.0,9,     -999.0,9,     -999.0,9,     -999.0,9,     -999.0,9,     -999.0,9,     -999.0,9, -999.00,9,-999.0000,9,-999.0000,9,-999.0000,9,-999.0000,9,-999.0000,9,-999.0000,9,-999.0000, -999.00
33RR20050106,       P16S,      64,          1,         12,         12,2,20050128,       1420,   -47.4998,  -149.9997,       4770,  2027.3,   2.4977,  34.6085,2,  34.6082,2,    162.5,2,   163.1,2,   88.77,2,   34.56,2,    0.00,2,    2.40,2,   0.132,2,   0.066,2,   0.002,2,  -999.0,9,  -999.0,9,-999.000,9,-999.0000,9, -999.00,9, -999.00,9,  -999.0,9,  -999.0,-999.000,9,-999.000,-999.0000,9,  2027.3,-999.000,   2.3514,     -999.0,9,     -999.0,9,     -999.0,9,     -999.0,9,     -999.0,9,     -999.0,9,     -999.0,9, -999.00,9,-999.0000,9,-999.0000,9,-999.0000,9,-999.0000,9,-999.0000,9,-999.0000,9,-999.0000, -999.00
33RR20050106,       P16S,      64,          1,         11,         11,2,20050128,       1420,   -47.4998,  -149.9997,       4770,  2281.2,   2.3054,  34.6535,2,  34.6531,2,    165.1,2,   165.7,2,   93.71,2,   34.10,2,    0.00,2,    2.36,2,   0.100,2,   0.051,2,   0.001,2,  -999.0,9,  -999.0,9,-999.000,9,-999.0000,9, -999.00,9, -999.00,9,  -999.0,9,  -999.0,-999.000,9,-999.000,-999.0000,9,  2281.2,-999.000,   2.1395,     -999.0,9,     -999.0,9,     -999.0,9,     -999.0,9,     -999.0,9,     -999.0,9,     -999.0,9, -999.00,9,-999.0000,9,-999.0000,9,-999.0000,9,-999.0000,9,-999.0000,9,-999.0000,9,-999.0000, -999.00
33RR20050106,       P16S,      64,          1,         10,         10,2,20050128,       1420,   -47.4998,  -149.9997,       4770,  2535.4,   2.1643,  34.6882,2,  34.6877,2,    173.5,2,   172.4,2,   94.32,2,   33.20,2,    0.00,2,    2.30,2,-999.000,9,-999.000,9,-999.000,9,  -999.0,9,  -999.0,9,-999.000,9,-999.0000,9, -999.00,9, -999.00,9,  -999.0,9,  -999.0,-999.000,9,-999.000,-999.0000,9,  2535.4,-999.000,   1.9775,     -999.0,9,     -999.0,9,     -999.0,9,     -999.0,9,     -999.0,9,     -999.0,9,     -999.0,9, -999.00,9,-999.0000,9,-999.0000,9,-999.0000,9,-999.0000,9,-999.0000,9,-999.0000,9,-999.0000, -999.00
33RR20050106,       P16S,      64,          1,          9,          9,2,20050128,       1420,   -47.4998,  -149.9997,       4770,  2789.2,   2.0365,  34.7208,2,  34.7207,2,    180.9,2,   183.8,2,   91.63,2,   32.07,2,    0.00,2,    2.20,2,   0.098,2,   0.051,2,   0.004,2,  -999.0,9,  -999.0,9,-999.000,9,-999.0000,9, -999.00,9, -999.00,9,  -999.0,9,  -999.0,-999.000,9,-999.000,-999.0000,9,  2789.2,-999.000,   1.8281,     -999.0,9,     -999.0,9,     -999.0,9,     -999.0,9,     -999.0,9,     -999.0,9,     -999.0,9, -999.00,9,-999.0000,9,-999.0000,9,-999.0000,9,-999.0000,9,-999.0000,9,-999.0000,9,-999.0000, -999.00
33RR20050106,       P16S,      64,          1,          8,          8,2,20050128,       1420,   -47.4998,  -149.9997,       4770,  3043.8,   1.8400,  34.7293,2,  34.7290,2,    188.4,2,   188.8,2,   97.20,2,   31.67,2,    0.00,2,    2.18,2,   0.061,2,   0.032,2,   0.002,2,  -999.0,9,  -999.0,9,-999.000,9,-999.0000,9, -999.00,9, -999.00,9,  -999.0,9,  -999.0,-999.000,9,-999.000,-999.0000,9,  3043.8,-999.000,   1.6111,     -999.0,9,     -999.0,9,     -999.0,9,     -999.0,9,     -999.0,9,     -999.0,9,     -999.0,9, -999.00,9,-999.0000,9,-999.0000,9,-999.0000,9,-999.0000,9,-999.0000,9,-999.0000,9,-999.0000, -999.00
33RR20050106,       P16S,      64,          1,          7,          7,2,20050128,       1420,   -47.4998,  -149.9997,       4770,  3298.3,   1.6475,  34.7286,2,  34.7286,2,    191.3,2,   192.3,2,  102.15,2,   31.87,2,    0.00,2,    2.19,2,   0.027,2,   0.021,2,  -0.005,2,  -999.0,9,  -999.0,9,-999.000,9,-999.0000,9, -999.00,9, -999.00,9,  -999.0,9,  -999.0,-999.000,9,-999.000,-999.0000,9,  3298.3,-999.000,   1.3978,     -999.0,9,     -999.0,9,     -999.0,9,     -999.0,9,     -999.0,9,     -999.0,9,     -999.0,9, -999.00,9,-999.0000,9,-999.0000,9,-999.0000,9,-999.0000,9,-999.0000,9,-999.0000,9,-999.0000, -999.00