BOTTLE,20201109CCHSIOCBG
EXPOCODE,SECT_ID,STNNBR,CASTNO,SAMPNO,BTLNBR,BTLNBR_FLAG_W,DATE,TIME,LATITUDE,LONGITUDE,DEPTH,CTDPRS,CTDTMP,CTDSAL,CTDSAL_FLAG_W,SALNTY,SALNTY_FLAG_W,CTDOXY,CTDOXY_FLAG_W,OXYGEN,OXYGEN_FLAG_W,SILCAT,SILCAT_FLAG_W,NITRAT,NITRAT_FLAG_W,NITRIT,NITRIT_FLAG_W,PHSPHT,PHSPHT_FLAG_W,CFC-11,CFC-11_FLAG_W,CFC-12,CFC-12_FLAG_W,CFC113,CFC113_FLAG_W,TCARBN,TCARBN_FLAG_W,ALKALI,ALKALI_FLAG_W,TRITUM,TRITUM_FLAG_W,HELIUM,HELIUM_FLAG_W,DELHE3,DELHE3_FLAG_W,DELC13,DELC13_FLAG_W,DELC14,DELC14_FLAG_W,C14ERR,NEON,NEON_FLAG_W,NEONER,DOC,DOC_FLAG_W,CTDRAW,TRITER,THETA,FUCO,FUCO_FLAG_W,RHAM,RHAM_FLAG_W,ARABA,ARABA_FLAG_W,GALA,GALA_FLAG_W,GLUC,GLUC_FLAG_W,MAN,MAN_FLAG_W,DCNS,DCNS_FLAG_W,BRDU,BRDU_FLAG_W,CDOM325,CDOM325_FLAG_W,CDOM340,CDOM340_FLAG_W,CDOM380,CDOM380_FLAG_W,CDOM412,CDOM412_FLAG_W,CDOMSL,CDOMSL_FLAG_W,CDOMSN,CDOMSN_FLAG_W,HELIER,DELHER
,,,,,,,,,,,METERS,DBAR,ITS-90,PSS-78,,PSS-78,,UMOL/KG,,UMOL/KG,,UMOL/KG,,UMOL/KG,,UMOL/KG,,UMOL/KG,,PMOL/KG,,PMOL/KG,,PMOL/KG,,UMOL/KG,,UMOL/KG,,TU,,NMOL/KG,,PERCNT,,/MILLE,,/MILLE,,/MILLE,NMOL/KG,,NMOL/KG,UMOL/KG,,DBAR,TU,DEG C,NMOL/KG,,NMOL/KG,,NMOL/KG,,NMOL/KG,,NMOL/KG,,NMOL/KG,,NMOL/KG,,PMOL/L/H,,1/M,,1/M,,1/M,,1/M,,1/NM,,1/NM,,NMOL/KG,PERCNT
33RR20050106,       P16S,      76,          1,         36,         36,2,20050201,       1403,   -53.4995,  -149.9967,       4428,     7.2,   7.4408,  34.0116,2,  34.0135,2,    292.9,2,   294.0,2,    0.75,2,   17.84,2,    0.17,2,    1.25,2,   4.659,2,   2.429,2,   0.410,2,  2098.7,6,  2272.6,6,-999.000,9,-999.0000,9, -999.00,9, -999.00,9,  -999.0,9,  -999.0,-999.000,9,-999.000,-999.0000,9,     7.2,-999.000,   7.4401,     -999.0,9,     -999.0,9,     -999.0,9,     -999.0,9,     -999.0,9,     -999.0,9,     -999.0,9, -999.00,9,-999.0000,9,-999.0000,9,-999.0000,9,-999.0000,9,-999.0000,9,-999.0000,9,-999.0000, -999.00
33RR20050106,       P16S,      76,          1,         35,         35,2,20050201,       1403,   -53.4995,  -149.9967,       4428,    55.1,   7.4574,  34.0131,2,  34.0133,2,    293.7,2,   294.2,2,    0.74,2,   17.84,2,    0.17,2,    1.25,2,   4.567,6,   2.421,6,   0.409,6,  2100.0,2,  2272.5,2,-999.000,9,-999.0000,9, -999.00,9, -999.00,9,  -999.0,9,  -999.0,-999.000,9,-999.000,-999.0000,9,    55.1,-999.000,   7.4522,     -999.0,9,     -999.0,9,     -999.0,9,     -999.0,9,     -999.0,9,     -999.0,9,     -999.0,9, -999.00,9,-999.0000,9,-999.0000,9,-999.0000,9,-999.0000,9,-999.0000,9,-999.0000,9,-999.0000, -999.00
33RR20050106,       P16S,      76,          1,         34,         34,2,20050201,       1403,   -53.4995,  -149.9967,       4428,    87.3,   6.4603,  34.1827,2,  34.1793,2,    295.2,2,   295.7,2,    2.53,2,   18.43,2,    0.28,2,    1.37,2,-999.000,9,-999.000,9,-999.000,9,  2116.6,2,  2277.3,2,-999.000,9,-999.0000,9, -999.00,9, -999.00,9,  -999.0,9,  -999.0,-999.000,9,-999.000,-999.0000,9,    87.3,-999.000,   6.4527,     -999.0,9,     -999.0,9,     -999.0,9,     -999.0,9,     -999.0,9,     -999.0,9,     -999.0,9, -999.00,9,-999.0000,9,-999.0000,9,-999.0000,9,-999.0000,9,-999.0000,9,-999.0000,9,-999.0000, -999.00
33RR20050106,       P16S,      76,          1,         33,         33,2,20050201,       1403,   -53.4995,  -149.9967,       4428,   105.1,   6.2120,  34.1965,2,  34.1952,2,    292.9,2,   292.8,2,    4.52,2,   18.93,2,    0.45,2,    1.40,2,   4.732,2,   2.518,2,   0.429,2,  2120.5,2,  2274.7,2,-999.000,9,-999.0000,9, -999.00,9, -999.00,9,  -999.0,9,  -999.0,-999.000,9,-999.000,-999.0000,9,   105.1,-999.000,   6.2030,     -999.0,9,     -999.0,9,     -999.0,9,     -999.0,9,     -999.0,9,     -999.0,9,     -999.0,9, -999.00,9,-999.0000,9,-999.0000,9,-999.0000,9,-999.0000,9,-999.0000,9,-999.0000,9,-999.0000, -999.00
33RR20050106,       P16S,      76,          1,         32,         32,2,20050201,       1403,   -53.4995,  -149.9967,       4428,   154.5,   6.0607,  34.2006,2,  34.1950,2,    285.6,2,   286.7,2,    6.52,2,   20.48,2,    0.09,2,    1.43,2,   4.714,2,   2.444,2,   0.413,2,  2125.1,2,  2276.5,2,-999.000,9,-999.0000,9, -999.00,9, -999.00,9,  -999.0,9,  -999.0,-999.000,9,-999.000,-999.0000,9,   154.5,-999.000,   6.0476,     -999.0,9,     -999.0,9,     -999.0,9,     -999.0,9,     -999.0,9,     -999.0,9,     -999.0,9, -999.00,9,-999.0000,9,-999.0000,9,-999.0000,9,-999.0000,9,-999.0000,9,-999.0000,9,-999.0000, -999.00
33RR20050106,       P16S,      76,          1,         31,         31,2,20050201,       1403,   -53.4995,  -149.9967,       4428,   204.0,   5.7941,  34.1896,2,  34.1911,2,    282.9,2,   283.9,2,    7.11,2,   21.34,2,    0.02,2,    1.48,2,   4.654,2,   2.429,2,   0.411,2,  2128.8,2,  2275.6,2,-999.000,9,-999.0000,9, -999.00,9, -999.00,9,  -999.0,9,  -999.0,-999.000,9,-999.000,-999.0000,9,   204.0,-999.000,   5.7771,     -999.0,9,     -999.0,9,     -999.0,9,     -999.0,9,     -999.0,9,     -999.0,9,     -999.0,9, -999.00,9,-999.0000,9,-999.0000,9,-999.0000,9,-999.0000,9,-999.0000,9,-999.0000,9,-999.0000, -999.00
33RR20050106,       P16S,      76,          1,         30,         30,2,20050201,       1403,   -53.4995,  -149.9967,       4428,   258.6,   5.4219,  34.1609,2,  34.1621,2,    281.4,2,   284.9,2,    8.31,2,   22.42,2,    0.02,2,    1.54,2,   4.777,2,   2.489,2,   0.423,2,  2133.0,2,  2275.5,2,-999.000,9,-999.0000,9, -999.00,9, -999.00,9,  -999.0,9,  -999.0,-999.000,9,-999.000,-999.0000,9,   258.6,-999.000,   5.4010,     -999.0,9,     -999.0,9,     -999.0,9,     -999.0,9,     -999.0,9,     -999.0,9,     -999.0,9, -999.00,9,-999.0000,9,-999.0000,9,-999.0000,9,-999.0000,9,-999.0000,9,-999.0000,9,-999.0000, -999.00
33RR20050106,       P16S,      76,          1,         29,         29,2,20050201,       1403,   -53.4995,  -149.9967,       4428,   306.7,   5.1041,  34.1417,2,  34.1434,2,    280.5,2,   281.9,2,    9.30,2,   23.34,2,    0.01,2,    1.60,2,   4.632,2,   2.458,2,   0.399,2,  2138.2,2,  2277.4,2,-999.000,9,-999.0000,9, -999.00,9, -999.00,9,  -999.0,9,  -999.0,-999.000,9,-999.000,-999.0000,9,   306.7,-999.000,   5.0800,     -999.0,9,     -999.0,9,     -999.0,9,     -999.0,9,     -999.0,9,     -999.0,9,     -999.0,9, -999.00,9,-999.0000,9,-999.0000,9,-999.0000,9,-999.0000,9,-999.0000,9,-999.0000,9,-999.0000, -999.00
33RR20050106,       P16S,      76,          1,         28,         28,2,20050201,       1403,   -53.4995,  -149.9967,       4428,   357.6,   5.0713,  34.1697,2,  34.1689,2,    274.9,2,   268.0,2,   11.69,2,   24.52,2,    0.01,2,    1.68,2,   4.307,2,   2.243,2,   0.358,2,  2146.4,2,  2278.0,2,-999.000,9,-999.0000,9, -999.00,9, -999.00,9,  -999.0,9,  -999.0,-999.000,9,-999.000,-999.0000,9,   357.6,-999.000,   5.0432,     -999.0,9,     -999.0,9,     -999.0,9,     -999.0,9,     -999.0,9,     -999.0,9,     -999.0,9, -999.00,9,-999.0000,9,-999.0000,9,-999.0000,9,-999.0000,9,-999.0000,9,-999.0000,9,-999.0000, -999.00
33RR20050106,       P16S,      76,          1,         27,         27,2,20050201,       1403,   -53.4995,  -149.9967,       4428,   407.0,   5.3354,  34.2501,2,  34.2505,2,    261.1,2,   241.7,2,   15.90,2,   26.08,2,    0.00,2,    1.78,2,   3.610,2,   1.806,2,   0.273,2,  2161.0,2,  2283.1,2,-999.000,9,-999.0000,9, -999.00,9, -999.00,9,  -999.0,9,  -999.0,-999.000,9,-999.000,-999.0000,9,   407.0,-999.000,   5.3024,     -999.0,9,     -999.0,9,     -999.0,9,     -999.0,9,     -999.0,9,     -999.0,9,     -999.0,9, -999.00,9,-999.0000,9,-999.0000,9,-999.0000,9,-999.0000,9,-999.0000,9,-999.0000,9,-999.0000, -999.00
33RR20050106,       P16S,      76,          1,         26,         26,2,20050201,       1403,   -53.4995,  -149.9967,       4428,   457.1,   5.1078,  34.2554,2,  34.2574,2,    237.2,2,   235.5,2,   18.10,2,   27.00,2,    0.00,2,    1.85,2,   3.491,2,   1.749,2,   0.252,2,  2167.0,2,  2283.9,2,-999.000,9,-999.0000,9, -999.00,9, -999.00,9,  -999.0,9,  -999.0,-999.000,9,-999.000,-999.0000,9,   457.1,-999.000,   5.0713,     -999.0,9,     -999.0,9,     -999.0,9,     -999.0,9,     -999.0,9,     -999.0,9,     -999.0,9, -999.00,9,-999.0000,9,-999.0000,9,-999.0000,9,-999.0000,9,-999.0000,9,-999.0000,9,-999.0000, -999.00
33RR20050106,       P16S,      76,          1,         25,         25,2,20050201,       1403,   -53.4995,  -149.9967,       4428,   505.1,   4.7653,  34.2530,2,  34.2544,2,    233.0,2,   231.9,2,   21.12,2,   28.13,2,    0.00,2,    1.92,2,   3.411,2,   1.656,2,   0.236,2,  2174.1,2,  2286.3,2,-999.000,9,-999.0000,9, -999.00,9, -999.00,9,  -999.0,9,  -999.0,-999.000,9,-999.000,-999.0000,9,   505.1,-999.000,   4.7262,     -999.0,9,     -999.0,9,     -999.0,9,     -999.0,9,     -999.0,9,     -999.0,9,     -999.0,9, -999.00,9,-999.0000,9,-999.0000,9,-999.0000,9,-999.0000,9,-999.0000,9,-999.0000,9,-999.0000, -999.00
33RR20050106,       P16S,      76,          1,         24,         24,2,20050201,       1403,   -53.4995,  -149.9967,       4428,   604.3,   4.3832,  34.2892,2,  34.2911,2,    218.9,2,   219.6,2,   27.76,2,   29.75,2,    0.00,2,    2.04,2,   2.658,2,   1.316,2,   0.181,2,  2186.8,2,  2291.2,2,-999.000,9,-999.0000,9, -999.00,9, -999.00,9,  -999.0,9,  -999.0,-999.000,9,-999.000,-999.0000,9,   604.3,-999.000,   4.3377,     -999.0,9,     -999.0,9,     -999.0,9,     -999.0,9,     -999.0,9,     -999.0,9,     -999.0,9, -999.00,9,-999.0000,9,-999.0000,9,-999.0000,9,-999.0000,9,-999.0000,9,-999.0000,9,-999.0000, -999.00
33RR20050106,       P16S,      76,          1,         23,         23,2,20050201,       1403,   -53.4995,  -149.9967,       4428,   705.2,   3.8861,  34.3065,2,  34.3117,2,    211.4,2,   212.2,2,   34.42,2,   31.11,2,    0.00,2,    2.13,2,   2.302,2,   1.117,2,   0.160,2,  2199.2,2,  2296.6,2,-999.000,9,-999.0000,9, -999.00,9, -999.00,9,  -999.0,9,  -999.0,-999.000,9,-999.000,-999.0000,9,   705.2,-999.000,   3.8352,     -999.0,9,     -999.0,9,     -999.0,9,     -999.0,9,     -999.0,9,     -999.0,9,     -999.0,9, -999.00,9,-999.0000,9,-999.0000,9,-999.0000,9,-999.0000,9,-999.0000,9,-999.0000,9,-999.0000, -999.00
33RR20050106,       P16S,      76,          1,         22,         22,2,20050201,       1403,   -53.4995,  -149.9967,       4428,   804.9,   3.4698,  34.3290,2,  34.3299,2,    202.8,2,   205.2,2,   41.30,2,   32.30,2,    0.00,2,    2.22,2,   1.964,2,   0.964,2,   0.138,2,  2210.4,2,  2303.7,2,-999.000,9,-999.0000,9, -999.00,9, -999.00,9,  -999.0,9,  -999.0,-999.000,9,-999.000,-999.0000,9,   804.9,-999.000,   3.4136,     -999.0,9,     -999.0,9,     -999.0,9,     -999.0,9,     -999.0,9,     -999.0,9,     -999.0,9, -999.00,9,-999.0000,9,-999.0000,9,-999.0000,9,-999.0000,9,-999.0000,9,-999.0000,9,-999.0000, -999.00
33RR20050106,       P16S,      76,          1,         21,         21,2,20050201,       1403,   -53.4995,  -149.9967,       4428,   906.6,   3.2215,  34.3745,2,  34.3760,2,    193.7,2,   195.0,2,   48.99,2,   33.17,2,    0.00,2,    2.29,2,   1.510,2,   0.722,2,   0.093,2,  2220.8,2,  2309.6,2,-999.000,9,-999.0000,9, -999.00,9, -999.00,9,  -999.0,9,  -999.0,-999.000,9,-999.000,-999.0000,9,   906.6,-999.000,   3.1592,     -999.0,9,     -999.0,9,     -999.0,9,     -999.0,9,     -999.0,9,     -999.0,9,     -999.0,9, -999.00,9,-999.0000,9,-999.0000,9,-999.0000,9,-999.0000,9,-999.0000,9,-999.0000,9,-999.0000, -999.00
33RR20050106,       P16S,      76,          1,         20,         20,2,20050201,       1403,   -53.4995,  -149.9967,       4428,  1007.8,   2.9598,  34.4169,2,  34.4169,2,    185.8,2,   187.5,2,   56.10,2,   33.93,2,    0.00,2,    2.34,2,   1.228,2,   0.590,2,   0.071,2,  2231.7,2,  2317.7,2,-999.000,9,-999.0000,9, -999.00,9, -999.00,9,  -999.0,9,  -999.0,-999.000,9,-999.000,-999.0000,9,  1007.8,-999.000,   2.8918,     -999.0,9,     -999.0,9,     -999.0,9,     -999.0,9,     -999.0,9,     -999.0,9,     -999.0,9, -999.00,9,-999.0000,9,-999.0000,9,-999.0000,9,-999.0000,9,-999.0000,9,-999.0000,9,-999.0000, -999.00
33RR20050106,       P16S,      76,          1,         19,         19,2,20050201,       1403,   -53.4995,  -149.9967,       4428,  1110.0,   2.7497,  34.4645,2,  34.4648,2,    179.7,2,   180.9,2,   62.40,2,   34.26,2,    0.00,2,    2.37,2,   0.954,2,   0.465,2,   0.055,2,  2239.7,2,  2322.3,2,-999.000,9,-999.0000,9, -999.00,9, -999.00,9,  -999.0,9,  -999.0,-999.000,9,-999.000,-999.0000,9,  1110.0,-999.000,   2.6756,     -999.0,9,     -999.0,9,     -999.0,9,     -999.0,9,     -999.0,9,     -999.0,9,     -999.0,9, -999.00,9,-999.0000,9,-999.0000,9,-999.0000,9,-999.0000,9,-999.0000,9,-999.0000,9,-999.0000, -999.00
33RR20050106,       P16S,      76,          1,         18,         18,2,20050201,       1403,   -53.4995,  -149.9967,       4428,  1211.1,   2.6923,  34.5141,2,  34.5146,2,    174.8,2,   175.7,2,   68.92,2,   34.21,2,    0.00,2,    2.36,2,   0.651,2,   0.311,2,   0.034,2,  2247.4,6,  2330.9,2,-999.000,9,-999.0000,9, -999.00,9, -999.00,9,  -999.0,9,  -999.0,-999.000,9,-999.000,-999.0000,9,  1211.1,-999.000,   2.6109,     -999.0,9,     -999.0,9,     -999.0,9,     -999.0,9,     -999.0,9,     -999.0,9,     -999.0,9, -999.00,9,-999.0000,9,-999.0000,9,-999.0000,9,-999.0000,9,-999.0000,9,-999.0000,9,-999.0000, -999.00
33RR20050106,       P16S,      76,          1,         17,         17,2,20050201,       1403,   -53.4995,  -149.9967,       4428,  1312.5,   2.5855,  34.5486,2,  34.5492,2,    173.3,2,   174.4,2,   71.98,2,   34.10,2,    0.00,2,    2.36,2,   0.555,2,   0.254,2,   0.031,2,  -999.0,9,  -999.0,9,-999.000,9,-999.0000,9, -999.00,9, -999.00,9,  -999.0,9,  -999.0,-999.000,9,-999.000,-999.0000,9,  1312.5,-999.000,   2.4973,     -999.0,9,     -999.0,9,     -999.0,9,     -999.0,9,     -999.0,9,     -999.0,9,     -999.0,9, -999.00,9,-999.0000,9,-999.0000,9,-999.0000,9,-999.0000,9,-999.0000,9,-999.0000,9,-999.0000, -999.00
33RR20050106,       P16S,      76,          1,         16,         16,3,20050201,       1403,   -53.4995,  -149.9967,       4428,  1415.0,   2.4901,  34.5844,2,  34.6735,4,    173.3,2,   201.6,4,  110.13,4,   32.25,4,    0.00,4,    2.22,4,   0.098,4,   0.052,4,  -0.002,4,  -999.0,9,  -999.0,9,-999.000,9,-999.0000,9, -999.00,9, -999.00,9,  -999.0,9,  -999.0,-999.000,9,-999.000,-999.0000,9,  1415.0,-999.000,   2.3948,     -999.0,9,     -999.0,9,     -999.0,9,     -999.0,9,     -999.0,9,     -999.0,9,     -999.0,9, -999.00,9,-999.0000,9,-999.0000,9,-999.0000,9,-999.0000,9,-999.0000,9,-999.0000,9,-999.0000, -999.00
33RR20050106,       P16S,      76,          1,         15,         15,2,20050201,       1403,   -53.4995,  -149.9967,       4428,  1516.5,   2.4187,  34.6178,2,  34.6195,2,    173.2,2,   173.9,2,   77.29,2,   33.55,2,    0.00,2,    2.31,2,   0.355,2,   0.172,2,   0.018,2,  -999.0,9,  -999.0,9,-999.000,9,-999.0000,9, -999.00,9, -999.00,9,  -999.0,9,  -999.0,-999.000,9,-999.000,-999.0000,9,  1516.5,-999.000,   2.3161,     -999.0,9,     -999.0,9,     -999.0,9,     -999.0,9,     -999.0,9,     -999.0,9,     -999.0,9, -999.00,9,-999.0000,9,-999.0000,9,-999.0000,9,-999.0000,9,-999.0000,9,-999.0000,9,-999.0000, -999.00
33RR20050106,       P16S,      76,          1,         14,         14,2,20050201,       1403,   -53.4995,  -149.9967,       4428,  1618.1,   2.3509,  34.6440,2,  34.6457,2,    173.3,2,   173.5,2,   81.98,2,   33.12,2,    0.00,2,    2.31,2,   0.248,2,   0.116,2,   0.010,2,  -999.0,9,  -999.0,9,-999.000,9,-999.0000,9, -999.00,9, -999.00,9,  -999.0,9,  -999.0,-999.000,9,-999.000,-999.0000,9,  1618.1,-999.000,   2.2409,     -999.0,9,     -999.0,9,     -999.0,9,     -999.0,9,     -999.0,9,     -999.0,9,     -999.0,9, -999.00,9,-999.0000,9,-999.0000,9,-999.0000,9,-999.0000,9,-999.0000,9,-999.0000,9,-999.0000, -999.00
33RR20050106,       P16S,      76,          1,         13,         13,2,20050201,       1403,   -53.4995,  -149.9967,       4428,  1719.3,   2.2917,  34.6685,2,  34.6686,2,    175.0,2,   176.6,2,   81.97,2,   32.74,2,    0.00,2,    2.25,2,   0.221,2,   0.104,2,   0.012,2,  -999.0,9,  -999.0,9,-999.000,9,-999.0000,9, -999.00,9, -999.00,9,  -999.0,9,  -999.0,-999.000,9,-999.000,-999.0000,9,  1719.3,-999.000,   2.1742,     -999.0,9,     -999.0,9,     -999.0,9,     -999.0,9,     -999.0,9,     -999.0,9,     -999.0,9, -999.00,9,-999.0000,9,-999.0000,9,-999.0000,9,-999.0000,9,-999.0000,9,-999.0000,9,-999.0000, -999.00
33RR20050106,       P16S,      76,          1,         12,         12,2,20050201,       1403,   -53.4995,  -149.9967,       4428,  1820.7,   2.2439,  34.6854,2,  34.6875,2,    178.6,2,   179.1,2,   82.78,2,   32.36,2,    0.00,2,    2.23,2,   0.195,2,   0.094,2,   0.012,2,  -999.0,9,  -999.0,9,-999.000,9,-999.0000,9, -999.00,9, -999.00,9,  -999.0,9,  -999.0,-999.000,9,-999.000,-999.0000,9,  1820.7,-999.000,   2.1187,     -999.0,9,     -999.0,9,     -999.0,9,     -999.0,9,     -999.0,9,     -999.0,9,     -999.0,9, -999.00,9,-999.0000,9,-999.0000,9,-999.0000,9,-999.0000,9,-999.0000,9,-999.0000,9,-999.0000, -999.00
33RR20050106,       P16S,      76,          1,         11,         11,2,20050201,       1403,   -53.4995,  -149.9967,       4428,  2024.5,   2.1275,  34.7128,2,  34.7121,2,    183.5,2,   184.0,2,   85.44,2,   31.77,2,    0.00,2,    2.18,2,   0.159,2,   0.076,2,   0.015,2,  -999.0,9,  -999.0,9,-999.000,9,-999.0000,9, -999.00,9, -999.00,9,  -999.0,9,  -999.0,-999.000,9,-999.000,-999.0000,9,  2024.5,-999.000,   1.9867,     -999.0,9,     -999.0,9,     -999.0,9,     -999.0,9,     -999.0,9,     -999.0,9,     -999.0,9, -999.00,9,-999.0000,9,-999.0000,9,-999.0000,9,-999.0000,9,-999.0000,9,-999.0000,9,-999.0000, -999.00
33RR20050106,       P16S,      76,          1,         10,         10,2,20050201,       1403,   -53.4995,  -149.9967,       4428,  2279.0,   1.9604,  34.7295,2,  34.7296,2,    188.0,2,   188.5,2,   90.35,2,   31.49,2,    0.00,2,    2.16,2,   0.112,2,   0.055,2,  -0.002,2,  -999.0,9,  -999.0,9,-999.000,9,-999.0000,9, -999.00,9, -999.00,9,  -999.0,9,  -999.0,-999.000,9,-999.000,-999.0000,9,  2279.0,-999.000,   1.8003,     -999.0,9,     -999.0,9,     -999.0,9,     -999.0,9,     -999.0,9,     -999.0,9,     -999.0,9, -999.00,9,-999.0000,9,-999.0000,9,-999.0000,9,-999.0000,9,-999.0000,9,-999.0000,9,-999.0000, -999.00
33RR20050106,       P16S,      76,          1,          9,          9,2,20050201,       1403,   -53.4995,  -149.9967,       4428,  2533.5,   1.7912,  34.7383,2,  34.7384,2,    193.1,2,   193.9,2,   94.45,2,   31.23,2,    0.00,2,    2.13,2,   0.087,2,   0.039,2,  -0.002,2,  -999.0,9,  -999.0,9,-999.000,9,-999.0000,9, -999.00,9, -999.00,9,  -999.0,9,  -999.0,-999.000,9,-999.000,-999.0000,9,  2533.5,-999.000,   1.6114,     -999.0,9,     -999.0,9,     -999.0,9,     -999.0,9,     -999.0,9,     -999.0,9,     -999.0,9, -999.00,9,-999.0000,9,-999.0000,9,-999.0000,9,-999.0000,9,-999.0000,9,-999.0000,9,-999.0000, -999.00
33RR20050106,       P16S,      76,          1,          8,          8,2,20050201,       1403,   -53.4995,  -149.9967,       4428,  2787.2,   1.6038,  34.7360,2,  34.7358,2,    196.1,2,   196.8,2,  100.40,2,   31.45,2,    0.00,2,    2.14,2,   0.059,2,   0.025,2,  -0.002,2,  -999.0,9,  -999.0,9,-999.000,9,-999.0000,9, -999.00,9, -999.00,9,  -999.0,9,  -999.0,-999.000,9,-999.000,-999.0000,9,  2787.2,-999.000,   1.4045,     -999.0,9,     -999.0,9,     -999.0,9,     -999.0,9,     -999.0,9,     -999.0,9,     -999.0,9, -999.00,9,-999.0000,9,-999.0000,9,-999.0000,9,-999.0000,9,-999.0000,9,-999.0000,9,-999.0000, -999.00
33RR20050106,       P16S,      76,          1,          7,          7,2,20050201,       1403,   -53.4995,  -149.9967,       4428,  3042.7,   1.4306,  34.7315,2,  34.7331,2,    198.6,2,   199.5,2,  105.56,2,   31.56,2,    0.00,2,    2.16,2,   0.162,2,   0.086,2,  -0.002,2,  -999.0,9,  -999.0,9,-999.000,9,-999.0000,9, -999.00,9, -999.00,9,  -999.0,9,  -999.0,-999.000,9,-999.000,-999.0000,9,  3042.7,-999.000,   1.2109,     -999.0,9,     -999.0,9,     -999.0,9,     -999.0,9,     -999.0,9,     -999.0,9,     -999.0,9, -999.00,9,-999.0000,9,-999.0000,9,-999.0000,9,-999.0000,9,-999.0000,9,-999.0000,9,-999.0000, -999.00