BOTTLE,20201109CCHSIOCBG
EXPOCODE,SECT_ID,STNNBR,CASTNO,SAMPNO,BTLNBR,BTLNBR_FLAG_W,DATE,TIME,LATITUDE,LONGITUDE,DEPTH,CTDPRS,CTDTMP,CTDSAL,CTDSAL_FLAG_W,SALNTY,SALNTY_FLAG_W,CTDOXY,CTDOXY_FLAG_W,OXYGEN,OXYGEN_FLAG_W,SILCAT,SILCAT_FLAG_W,NITRAT,NITRAT_FLAG_W,NITRIT,NITRIT_FLAG_W,PHSPHT,PHSPHT_FLAG_W,CFC-11,CFC-11_FLAG_W,CFC-12,CFC-12_FLAG_W,CFC113,CFC113_FLAG_W,TCARBN,TCARBN_FLAG_W,ALKALI,ALKALI_FLAG_W,TRITUM,TRITUM_FLAG_W,HELIUM,HELIUM_FLAG_W,DELHE3,DELHE3_FLAG_W,DELC13,DELC13_FLAG_W,DELC14,DELC14_FLAG_W,C14ERR,NEON,NEON_FLAG_W,NEONER,DOC,DOC_FLAG_W,CTDRAW,TRITER,THETA,FUCO,FUCO_FLAG_W,RHAM,RHAM_FLAG_W,ARABA,ARABA_FLAG_W,GALA,GALA_FLAG_W,GLUC,GLUC_FLAG_W,MAN,MAN_FLAG_W,DCNS,DCNS_FLAG_W,BRDU,BRDU_FLAG_W,CDOM325,CDOM325_FLAG_W,CDOM340,CDOM340_FLAG_W,CDOM380,CDOM380_FLAG_W,CDOM412,CDOM412_FLAG_W,CDOMSL,CDOMSL_FLAG_W,CDOMSN,CDOMSN_FLAG_W,HELIER,DELHER
,,,,,,,,,,,METERS,DBAR,ITS-90,PSS-78,,PSS-78,,UMOL/KG,,UMOL/KG,,UMOL/KG,,UMOL/KG,,UMOL/KG,,UMOL/KG,,PMOL/KG,,PMOL/KG,,PMOL/KG,,UMOL/KG,,UMOL/KG,,TU,,NMOL/KG,,PERCNT,,/MILLE,,/MILLE,,/MILLE,NMOL/KG,,NMOL/KG,UMOL/KG,,DBAR,TU,DEG C,NMOL/KG,,NMOL/KG,,NMOL/KG,,NMOL/KG,,NMOL/KG,,NMOL/KG,,NMOL/KG,,PMOL/L/H,,1/M,,1/M,,1/M,,1/M,,1/NM,,1/NM,,NMOL/KG,PERCNT
33RR20050106,       P16S,      65,          1,          6,          6,2,20050128,       2056,   -47.9988,  -150.0003,       4675,  3403.5,   1.5786,  34.7263,2,  34.7270,2,    192.0,2,   192.9,2,  104.49,2,   31.69,2,    0.00,2,    2.20,2,   0.030,2,   0.017,2,  -0.002,2,  2263.4,2,  2357.9,2,-999.000,9,-999.0000,9, -999.00,9, -999.00,9,  -999.0,9,  -999.0,-999.000,9,-999.000,-999.0000,9,  3403.5,-999.000,   1.3200,     -999.0,9,     -999.0,9,     -999.0,9,     -999.0,9,     -999.0,9,     -999.0,9,     -999.0,9, -999.00,9,-999.0000,9,-999.0000,9,-999.0000,9,-999.0000,9,-999.0000,9,-999.0000,9,-999.0000, -999.00
33RR20050106,       P16S,      65,          1,          5,          5,2,20050128,       2056,   -47.9988,  -150.0003,       4675,  3659.9,   1.4167,  34.7253,2,  34.7250,2,    196.8,2,   197.9,2,  107.78,2,   31.69,2,    0.00,2,    2.19,2,-999.000,9,-999.000,9,-999.000,9,  2262.0,2,  2361.4,2,-999.000,9,-999.0000,9, -999.00,9, -999.00,9,  -999.0,9,  -999.0,-999.000,9,-999.000,  37.0760,2,  3659.9,-999.000,   1.1359,     -999.0,9,     -999.0,9,     -999.0,9,     -999.0,9,     -999.0,9,     -999.0,9,     -999.0,9, -999.00,9,   0.1150,2,   0.0780,2,   0.0420,2,   0.0300,2,   0.0153,2,   0.0178,2,-999.0000, -999.00
33RR20050106,       P16S,      65,          1,          4,          4,2,20050128,       2056,   -47.9988,  -150.0003,       4675,  3965.4,   1.2254,  34.7190,2,  34.7183,2,    199.9,2,   200.8,2,  114.37,2,   31.96,2,    0.00,2,    2.21,2,   0.011,2,   0.019,2,  -0.002,2,  2264.5,2,  2366.3,2,-999.000,9,-999.0000,9, -999.00,9, -999.00,9,  -999.0,9,  -999.0,-999.000,9,-999.000,-999.0000,9,  3965.4,-999.000,   0.9177,     -999.0,9,     -999.0,9,     -999.0,9,     -999.0,9,     -999.0,9,     -999.0,9,     -999.0,9, -999.00,9,-999.0000,9,-999.0000,9,-999.0000,9,-999.0000,9,-999.0000,9,-999.0000,9,-999.0000, -999.00
33RR20050106,       P16S,      65,          1,          3,          3,2,20050128,       2056,   -47.9988,  -150.0003,       4675,  4273.5,   1.1812,  34.7167,2,  34.7170,2,    201.1,2,   201.9,2,  116.84,2,   32.01,2,    0.00,2,    2.21,2,-999.000,9,-999.000,9,-999.000,9,  2266.7,2,  2368.4,2,-999.000,9,-999.0000,9, -999.00,9, -999.00,9,  -999.0,9,  -999.0,-999.000,9,-999.000,  38.0520,2,  4273.5,-999.000,   0.8413,     -999.0,9,     -999.0,9,     -999.0,9,     -999.0,9,     -999.0,9,     -999.0,9,     -999.0,9, -999.00,9,   0.1170,2,   0.0790,2,   0.0420,2,   0.0310,2,   0.0153,2,   0.0177,2,-999.0000, -999.00
33RR20050106,       P16S,      65,          1,          2,          2,2,20050128,       2056,   -47.9988,  -150.0003,       4675,  4529.5,   1.1797,  34.7157,2,  34.7172,2,    201.5,2,   202.2,2,  117.25,2,   32.06,2,    0.00,2,    2.22,2,   0.027,2,   0.022,2,   0.004,2,  2266.4,2,  2369.3,2,-999.000,9,-999.0000,9, -999.00,9, -999.00,9,  -999.0,9,  -999.0,-999.000,9,-999.000,-999.0000,9,  4529.5,-999.000,   0.8110,     -999.0,9,     -999.0,9,     -999.0,9,     -999.0,9,     -999.0,9,     -999.0,9,     -999.0,9, -999.00,9,-999.0000,9,-999.0000,9,-999.0000,9,-999.0000,9,-999.0000,9,-999.0000,9,-999.0000, -999.00
33RR20050106,       P16S,      65,          1,          1,          1,2,20050128,       2056,   -47.9988,  -150.0003,       4675,  4741.4,   1.1829,  34.7152,2,  34.7158,2,    201.7,2,   202.5,2,  118.49,2,   32.05,2,    0.00,2,    2.22,2,   0.033,2,   0.022,2,  -0.002,2,  2267.8,6,  2371.0,6,-999.000,9,-999.0000,9, -999.00,9, -999.00,9,  -999.0,9,  -999.0,-999.000,9,-999.000,  38.9872,2,  4741.4,-999.000,   0.7897,     -999.0,9,     -999.0,9,     -999.0,9,     -999.0,9,     -999.0,9,     -999.0,9,     -999.0,9, -999.00,9,   0.1160,2,   0.0780,2,   0.0420,2,   0.0310,2,   0.0154,2,   0.0179,2,-999.0000, -999.00