BOTTLE,20201109CCHSIOCBG
EXPOCODE,SECT_ID,STNNBR,CASTNO,SAMPNO,BTLNBR,BTLNBR_FLAG_W,DATE,TIME,LATITUDE,LONGITUDE,DEPTH,CTDPRS,CTDTMP,CTDSAL,CTDSAL_FLAG_W,SALNTY,SALNTY_FLAG_W,CTDOXY,CTDOXY_FLAG_W,OXYGEN,OXYGEN_FLAG_W,SILCAT,SILCAT_FLAG_W,NITRAT,NITRAT_FLAG_W,NITRIT,NITRIT_FLAG_W,PHSPHT,PHSPHT_FLAG_W,CFC-11,CFC-11_FLAG_W,CFC-12,CFC-12_FLAG_W,CFC113,CFC113_FLAG_W,TCARBN,TCARBN_FLAG_W,ALKALI,ALKALI_FLAG_W,TRITUM,TRITUM_FLAG_W,HELIUM,HELIUM_FLAG_W,DELHE3,DELHE3_FLAG_W,DELC13,DELC13_FLAG_W,DELC14,DELC14_FLAG_W,C14ERR,NEON,NEON_FLAG_W,NEONER,DOC,DOC_FLAG_W,CTDRAW,TRITER,THETA,FUCO,FUCO_FLAG_W,RHAM,RHAM_FLAG_W,ARABA,ARABA_FLAG_W,GALA,GALA_FLAG_W,GLUC,GLUC_FLAG_W,MAN,MAN_FLAG_W,DCNS,DCNS_FLAG_W,BRDU,BRDU_FLAG_W,CDOM325,CDOM325_FLAG_W,CDOM340,CDOM340_FLAG_W,CDOM380,CDOM380_FLAG_W,CDOM412,CDOM412_FLAG_W,CDOMSL,CDOMSL_FLAG_W,CDOMSN,CDOMSN_FLAG_W,HELIER,DELHER
,,,,,,,,,,,METERS,DBAR,ITS-90,PSS-78,,PSS-78,,UMOL/KG,,UMOL/KG,,UMOL/KG,,UMOL/KG,,UMOL/KG,,UMOL/KG,,PMOL/KG,,PMOL/KG,,PMOL/KG,,UMOL/KG,,UMOL/KG,,TU,,NMOL/KG,,PERCNT,,/MILLE,,/MILLE,,/MILLE,NMOL/KG,,NMOL/KG,UMOL/KG,,DBAR,TU,DEG C,NMOL/KG,,NMOL/KG,,NMOL/KG,,NMOL/KG,,NMOL/KG,,NMOL/KG,,NMOL/KG,,PMOL/L/H,,1/M,,1/M,,1/M,,1/M,,1/NM,,1/NM,,NMOL/KG,PERCNT
33RR20050106,       P16S,      31,          2,          6,          6,2,20050118,       1537,   -31.0000,  -150.0000,       4236,  3039.2,   1.6591,  34.6794,2,  34.6804,2,    159.3,2,   160.5,2,  127.68,2,   34.90,2,    0.00,2,    2.45,2,   0.009,2,   0.021,3,   0.002,2,  2304.4,2,  2397.1,2,   0.001,2,   1.8960,2,   21.09,2, -999.00,9,  -999.0,9,  -999.0,   8.028,2,   0.048,  34.4560,2,  3039.2,   0.006,   1.4350,     -999.0,9,     -999.0,9,     -999.0,9,     -999.0,9,     -999.0,9,     -999.0,9,     -999.0,9, -999.00,9,   0.0970,2,   0.0720,2,   0.0430,2,   0.0290,2,   0.0139,2,   0.0148,2,   0.0040,    0.21
33RR20050106,       P16S,      31,          2,          5,          5,2,20050118,       1537,   -31.0000,  -150.0000,       4236,  3296.2,   1.5456,  34.6895,2,  34.6892,2,    167.8,2,   169.2,2,  125.41,2,   34.23,2,    0.00,2,    2.41,2,   0.005,2,   0.014,3,   0.002,2,  2295.6,2,  2390.0,2,-999.000,9,-999.0000,9, -999.00,9, -999.00,9,  -999.0,9,  -999.0,-999.000,9,-999.000,-999.0000,9,  3296.2,-999.000,   1.2988,     -999.0,9,     -999.0,9,     -999.0,9,     -999.0,9,     -999.0,9,     -999.0,9,     -999.0,9, -999.00,9,-999.0000,9,-999.0000,9,-999.0000,9,-999.0000,9,-999.0000,9,-999.0000,9,-999.0000, -999.00
33RR20050106,       P16S,      31,          2,          4,          4,2,20050118,       1537,   -31.0000,  -150.0000,       4236,  3555.4,   1.4438,  34.6955,2,  34.6953,2,    176.6,2,   177.7,2,  123.54,2,   33.62,2,    0.00,2,    2.36,2,  -0.008,2,  -0.001,2,   0.002,2,  2287.7,2,  2385.1,2,-999.000,9,   1.9140,2,   16.29,2, -999.00,9,  -999.0,9,  -999.0,   8.099,2,   0.049,-999.0000,9,  3555.4,-999.000,   1.1733,     -999.0,9,     -999.0,9,     -999.0,9,     -999.0,9,     -999.0,9,     -999.0,9,     -999.0,9, -999.00,9,-999.0000,9,-999.0000,9,-999.0000,9,-999.0000,9,-999.0000,9,-999.0000,9,   0.0040,    0.21
33RR20050106,       P16S,      31,          2,          3,          3,2,20050118,       1537,   -31.0000,  -150.0000,       4236,  3809.7,   1.3640,  34.6995,2,  34.7000,2,    183.3,2,   184.4,2,  122.51,2,   33.29,2,    0.00,2,    2.33,2,  -0.021,2,  -0.001,2,   0.002,2,  2282.1,2,  2382.2,2,-999.000,9,   2.1730,4,   13.10,3, -999.00,9,  -999.0,9,  -999.0,   9.086,4,   0.054,  36.4745,2,  3809.7,-999.000,   1.0691,     -999.0,9,     -999.0,9,     -999.0,9,     -999.0,9,     -999.0,9,     -999.0,9,     -999.0,9, -999.00,9,   0.0930,2,   0.0690,2,   0.0400,2,   0.0280,2,   0.0144,2,   0.0153,2,   0.0050,    0.21
33RR20050106,       P16S,      31,          2,          2,          2,2,20050118,       1537,   -31.0000,  -150.0000,       4236,  4105.4,   1.2804,  34.7039,2,  34.7041,2,    189.9,2,   190.6,2,  121.06,2,   32.84,2,    0.00,2,    2.30,2,  -0.013,2,  -0.001,2,   0.002,2,  2275.7,2,  2377.5,2,   0.001,2,-999.0000,9, -999.00,9, -999.00,9,  -999.0,9,  -999.0,-999.000,9,-999.000,-999.0000,9,  4105.4,   0.010,   0.9561,     -999.0,9,     -999.0,9,     -999.0,9,     -999.0,9,     -999.0,9,     -999.0,9,     -999.0,9, -999.00,9,-999.0000,9,-999.0000,9,-999.0000,9,-999.0000,9,-999.0000,9,-999.0000,9,-999.0000, -999.00
33RR20050106,       P16S,      31,          2,          1,          1,2,20050118,       1537,   -31.0000,  -150.0000,       4236,  4316.5,   1.2709,  34.7051,2,  34.7053,2,    192.0,2,   192.5,2,  120.85,2,   32.67,2,    0.00,2,    2.28,2,  -0.017,2,  -0.001,2,   0.002,2,  2274.6,6,  2378.4,2,   0.001,2,-999.0000,9, -999.00,9, -999.00,9,  -999.0,9,  -999.0,-999.000,9,-999.000,  37.2818,2,  4316.5,   0.004,   0.9236,     -999.0,9,     -999.0,9,     -999.0,9,     -999.0,9,     -999.0,9,     -999.0,9,     -999.0,9, -999.00,9,   0.0920,2,   0.0680,2,   0.0390,2,   0.0270,2,   0.0147,2,   0.0156,2,-999.0000, -999.00