BOTTLE,20201109CCHSIOCBG
EXPOCODE,SECT_ID,STNNBR,CASTNO,SAMPNO,BTLNBR,BTLNBR_FLAG_W,DATE,TIME,LATITUDE,LONGITUDE,DEPTH,CTDPRS,CTDTMP,CTDSAL,CTDSAL_FLAG_W,SALNTY,SALNTY_FLAG_W,CTDOXY,CTDOXY_FLAG_W,OXYGEN,OXYGEN_FLAG_W,SILCAT,SILCAT_FLAG_W,NITRAT,NITRAT_FLAG_W,NITRIT,NITRIT_FLAG_W,PHSPHT,PHSPHT_FLAG_W,CFC-11,CFC-11_FLAG_W,CFC-12,CFC-12_FLAG_W,CFC113,CFC113_FLAG_W,TCARBN,TCARBN_FLAG_W,ALKALI,ALKALI_FLAG_W,TRITUM,TRITUM_FLAG_W,HELIUM,HELIUM_FLAG_W,DELHE3,DELHE3_FLAG_W,DELC13,DELC13_FLAG_W,DELC14,DELC14_FLAG_W,C14ERR,NEON,NEON_FLAG_W,NEONER,DOC,DOC_FLAG_W,CTDRAW,TRITER,THETA,FUCO,FUCO_FLAG_W,RHAM,RHAM_FLAG_W,ARABA,ARABA_FLAG_W,GALA,GALA_FLAG_W,GLUC,GLUC_FLAG_W,MAN,MAN_FLAG_W,DCNS,DCNS_FLAG_W,BRDU,BRDU_FLAG_W,CDOM325,CDOM325_FLAG_W,CDOM340,CDOM340_FLAG_W,CDOM380,CDOM380_FLAG_W,CDOM412,CDOM412_FLAG_W,CDOMSL,CDOMSL_FLAG_W,CDOMSN,CDOMSN_FLAG_W,HELIER,DELHER
,,,,,,,,,,,METERS,DBAR,ITS-90,PSS-78,,PSS-78,,UMOL/KG,,UMOL/KG,,UMOL/KG,,UMOL/KG,,UMOL/KG,,UMOL/KG,,PMOL/KG,,PMOL/KG,,PMOL/KG,,UMOL/KG,,UMOL/KG,,TU,,NMOL/KG,,PERCNT,,/MILLE,,/MILLE,,/MILLE,NMOL/KG,,NMOL/KG,UMOL/KG,,DBAR,TU,DEG C,NMOL/KG,,NMOL/KG,,NMOL/KG,,NMOL/KG,,NMOL/KG,,NMOL/KG,,NMOL/KG,,PMOL/L/H,,1/M,,1/M,,1/M,,1/M,,1/NM,,1/NM,,NMOL/KG,PERCNT
33RR20050106,       P16S,      39,          3,         36,         36,2,20050121,       0047,   -34.9993,  -150.0003,       5221,     2.2,  21.1332,  35.0441,2,  35.0465,2,    225.6,2,   225.6,2,    0.62,2,    0.11,2,    0.00,2,    0.13,2,   2.220,2,   1.335,2,   0.196,2,  2037.5,6,  2301.3,6,-999.000,9,-999.0000,9, -999.00,9, -999.00,9,  -999.0,9,  -999.0,-999.000,9,-999.000,  63.9865,2,     2.2,-999.000,  21.1328,     -999.0,9,     -999.0,9,     -999.0,9,     -999.0,9,     -999.0,9,     -999.0,9,     -999.0,9, -999.00,9,   0.0280,2,   0.0150,2,   0.0030,2,   0.0010,2,-999.0000,9,-999.0000,9,-999.0000, -999.00
33RR20050106,       P16S,      39,          3,         35,         35,2,20050121,       0047,   -34.9993,  -150.0003,       5221,    41.3,  17.3549,  35.0515,2,  35.0548,2,    252.6,2,   251.5,2,    0.41,2,    0.11,2,    0.00,2,    0.14,2,   2.739,2,   1.562,2,   0.209,2,  2043.4,2,  2303.5,2,-999.000,9,-999.0000,9, -999.00,9, -999.00,9,  -999.0,9,  -999.0,-999.000,9,-999.000,  63.7547,2,    41.3,-999.000,  17.3480,     -999.0,9,     -999.0,9,     -999.0,9,     -999.0,9,     -999.0,9,     -999.0,9,     -999.0,9, -999.00,9,   0.0580,2,   0.0380,2,   0.0130,2,   0.0070,2,   0.0288,2,   0.0289,2,-999.0000, -999.00
33RR20050106,       P16S,      39,          3,         34,         34,2,20050121,       0047,   -34.9993,  -150.0003,       5221,    86.4,  15.8309,  35.1401,2,  35.1416,2,    251.3,2,   251.4,2,    0.62,2,    0.10,2,    0.00,2,    0.14,2,   2.779,2,   1.609,2,   0.213,2,  2045.1,2,  2307.6,2,-999.000,9,-999.0000,9, -999.00,9, -999.00,9,  -999.0,9,  -999.0,-999.000,9,-999.000,  62.2973,2,    86.4,-999.000,  15.8174,     -999.0,9,     -999.0,9,     -999.0,9,     -999.0,9,     -999.0,9,     -999.0,9,     -999.0,9, -999.00,9,   0.0830,2,   0.0540,2,   0.0200,2,   0.0120,2,   0.0276,2,   0.0279,2,-999.0000, -999.00
33RR20050106,       P16S,      39,          3,         33,         33,2,20050121,       0047,   -34.9993,  -150.0003,       5221,   136.6,  14.8773,  35.0691,2,  35.0684,2,    241.6,2,   240.2,2,    0.62,2,    0.96,2,    0.13,2,    0.23,2,   2.856,2,   1.663,2,   0.237,2,  2059.5,2,  2305.1,2,-999.000,9,-999.0000,9, -999.00,9, -999.00,9,  -999.0,9,  -999.0,-999.000,9,-999.000,  55.6547,2,   136.6,-999.000,  14.8568,     -999.0,9,     -999.0,9,     -999.0,9,     -999.0,9,     -999.0,9,     -999.0,9,     -999.0,9, -999.00,9,   0.0680,2,   0.0460,2,   0.0190,2,   0.0130,2,   0.0252,2,   0.0255,2,-999.0000, -999.00
33RR20050106,       P16S,      39,          3,         32,         32,2,20050121,       0047,   -34.9993,  -150.0003,       5221,   186.8,  13.3636,  34.9646,2,  34.9655,2,    211.4,2,   211.7,2,    1.62,2,    7.27,2,    0.02,2,    0.61,2,   2.958,2,   1.642,2,   0.130,2,  2094.5,2,  2297.6,2,-999.000,9,-999.0000,9, -999.00,9, -999.00,9,  -999.0,9,  -999.0,-999.000,9,-999.000,  48.7768,2,   186.8,-999.000,  13.3374,     -999.0,9,     -999.0,9,     -999.0,9,     -999.0,9,     -999.0,9,     -999.0,9,     -999.0,9, -999.00,9,   0.0760,2,   0.0510,2,   0.0230,2,   0.0170,2,   0.0247,2,   0.0253,2,-999.0000, -999.00
33RR20050106,       P16S,      39,          3,         31,         31,2,20050121,       0047,   -34.9993,  -150.0003,       5221,   237.0,  11.7077,  34.7793,2,-999.0000,9,    212.0,2,   212.6,2,    2.03,2,   11.05,2,    0.00,2,    0.83,2,   3.115,2,   1.684,2,   0.122,2,  2107.6,2,  2289.8,2,-999.000,9,-999.0000,9, -999.00,9, -999.00,9,  -999.0,9,  -999.0,-999.000,9,-999.000,  50.2687,2,   237.0,-999.000,  11.6773,     -999.0,9,     -999.0,9,     -999.0,9,     -999.0,9,     -999.0,9,     -999.0,9,     -999.0,9, -999.00,9,   0.0770,2,   0.0510,2,   0.0220,2,   0.0160,2,   0.0252,2,   0.0260,2,-999.0000, -999.00
33RR20050106,       P16S,      39,          3,         30,         30,2,20050121,       0047,   -34.9993,  -150.0003,       5221,   287.2,   9.7480,  34.5855,2,-999.0000,9,    219.2,2,   220.6,2,    3.03,2,   15.36,2,    0.00,2,    1.11,2,   3.229,2,   1.723,2,   0.159,2,  2121.5,2,  2281.4,2,-999.000,9,-999.0000,9, -999.00,9, -999.00,9,  -999.0,9,  -999.0,-999.000,9,-999.000,  43.3887,2,   287.2,-999.000,   9.7152,     -999.0,9,     -999.0,9,     -999.0,9,     -999.0,9,     -999.0,9,     -999.0,9,     -999.0,9, -999.00,9,-999.0000,9,-999.0000,9,-999.0000,9,-999.0000,9,-999.0000,9,-999.0000,9,-999.0000, -999.00
33RR20050106,       P16S,      39,          3,         29,         29,2,20050121,       0047,   -34.9993,  -150.0003,       5221,   338.7,   8.4365,  34.4823,2,-999.0000,9,    227.5,2,   230.5,2,    4.84,3,   19.36,3,    0.00,3,    1.34,3,   3.430,2,   1.812,2,   0.215,2,  2128.5,2,  2280.7,2,-999.000,9,-999.0000,9, -999.00,9, -999.00,9,  -999.0,9,  -999.0,-999.000,9,-999.000,  46.1147,2,   338.7,-999.000,   8.4011,     -999.0,9,     -999.0,9,     -999.0,9,     -999.0,9,     -999.0,9,     -999.0,9,     -999.0,9, -999.00,9,-999.0000,9,-999.0000,9,-999.0000,9,-999.0000,9,-999.0000,9,-999.0000,9,-999.0000, -999.00
33RR20050106,       P16S,      39,          3,         28,         28,2,20050121,       0047,   -34.9993,  -150.0003,       5221,   389.2,   7.7563,  34.4390,2,-999.0000,9,    234.9,2,   240.0,2,    4.84,2,   19.42,2,    0.00,2,    1.35,2,   3.652,2,   1.834,2,   0.222,2,  2131.6,2,  2278.2,2,-999.000,9,-999.0000,9, -999.00,9, -999.00,9,  -999.0,9,  -999.0,-999.000,9,-999.000,  46.6110,2,   389.2,-999.000,   7.7175,     -999.0,9,     -999.0,9,     -999.0,9,     -999.0,9,     -999.0,9,     -999.0,9,     -999.0,9, -999.00,9,-999.0000,9,-999.0000,9,-999.0000,9,-999.0000,9,-999.0000,9,-999.0000,9,-999.0000, -999.00
33RR20050106,       P16S,      39,          3,         27,         27,2,20050121,       0047,   -34.9993,  -150.0003,       5221,   443.2,   7.4657,  34.4233,2,-999.0000,9,    242.9,2,   246.1,2,    5.25,2,   19.89,2,    0.00,2,    1.37,2,   3.746,2,   1.948,2,   0.274,2,  2132.6,2,  2279.9,2,-999.000,9,-999.0000,9, -999.00,9, -999.00,9,  -999.0,9,  -999.0,-999.000,9,-999.000,-999.0000,9,   443.2,-999.000,   7.4223,     -999.0,9,     -999.0,9,     -999.0,9,     -999.0,9,     -999.0,9,     -999.0,9,     -999.0,9, -999.00,9,-999.0000,9,-999.0000,9,-999.0000,9,-999.0000,9,-999.0000,9,-999.0000,9,-999.0000, -999.00
33RR20050106,       P16S,      39,          3,         26,         26,2,20050121,       0047,   -34.9993,  -150.0003,       5221,   493.2,   7.2096,  34.4034,2,-999.0000,9,    245.4,2,   247.3,2,    5.85,2,   20.62,2,    0.00,2,    1.43,2,   3.766,2,   1.872,2,   0.234,2,  2134.2,2,  2279.6,2,-999.000,9,-999.0000,9, -999.00,9, -999.00,9,  -999.0,9,  -999.0,-999.000,9,-999.000,  44.7664,2,   493.2,-999.000,   7.1621,     -999.0,9,     -999.0,9,     -999.0,9,     -999.0,9,     -999.0,9,     -999.0,9,     -999.0,9, -999.00,9,-999.0000,9,-999.0000,9,-999.0000,9,-999.0000,9,-999.0000,9,-999.0000,9,-999.0000, -999.00
33RR20050106,       P16S,      39,          3,         25,         25,2,20050121,       0047,   -34.9993,  -150.0003,       5221,   578.7,   6.8490,  34.3758,2,  34.3764,2,    246.4,2,   247.1,2,    7.07,2,   21.74,2,    0.00,2,    1.49,2,   3.303,2,   1.659,2,   0.173,2,  2135.8,2,  2278.0,2,-999.000,9,-999.0000,9, -999.00,9, -999.00,9,  -999.0,9,  -999.0,-999.000,9,-999.000,  42.4930,2,   578.7,-999.000,   6.7945,     -999.0,9,     -999.0,9,     -999.0,9,     -999.0,9,     -999.0,9,     -999.0,9,     -999.0,9, -999.00,9,-999.0000,9,-999.0000,9,-999.0000,9,-999.0000,9,-999.0000,9,-999.0000,9,-999.0000, -999.00
33RR20050106,       P16S,      39,          3,         24,         24,2,20050121,       0047,   -34.9993,  -150.0003,       5221,   679.7,   6.4481,  34.3499,2,  34.3499,2,    243.1,2,   242.3,2,    8.88,2,   23.28,2,    0.00,2,    1.60,2,   2.619,2,   1.320,2,   0.113,2,  2142.1,6,  2277.8,2,-999.000,9,-999.0000,9, -999.00,9, -999.00,9,  -999.0,9,  -999.0,-999.000,9,-999.000,  41.8034,2,   679.7,-999.000,   6.3857,     -999.0,9,     -999.0,9,     -999.0,9,     -999.0,9,     -999.0,9,     -999.0,9,     -999.0,9, -999.00,9,-999.0000,9,-999.0000,9,-999.0000,9,-999.0000,9,-999.0000,9,-999.0000,9,-999.0000, -999.00
33RR20050106,       P16S,      39,          3,         23,         23,2,20050121,       0047,   -34.9993,  -150.0003,       5221,   780.7,   5.9275,  34.3228,2,  34.3243,2,    234.5,2,   231.7,2,   12.52,2,   25.34,2,    0.00,2,    1.74,2,   2.052,2,   1.048,2,   0.094,2,  2151.8,2,  2281.9,2,-999.000,9,-999.0000,9, -999.00,9, -999.00,9,  -999.0,9,  -999.0,-999.000,9,-999.000,-999.0000,9,   780.7,-999.000,   5.8584,     -999.0,9,     -999.0,9,     -999.0,9,     -999.0,9,     -999.0,9,     -999.0,9,     -999.0,9, -999.00,9,-999.0000,9,-999.0000,9,-999.0000,9,-999.0000,9,-999.0000,9,-999.0000,9,-999.0000, -999.00
33RR20050106,       P16S,      39,          3,         22,         22,2,20050121,       0047,   -34.9993,  -150.0003,       5221,   880.6,   5.3491,  34.3096,2,  34.3112,2,    225.4,2,   221.1,2,   17.79,2,   27.48,2,    0.00,2,    1.89,2,   1.296,2,   0.682,2,   0.065,2,  2164.5,2,  2283.4,2,-999.000,9,-999.0000,9, -999.00,9, -999.00,9,  -999.0,9,  -999.0,-999.000,9,-999.000,-999.0000,9,   880.6,-999.000,   5.2744,     -999.0,9,     -999.0,9,     -999.0,9,     -999.0,9,     -999.0,9,     -999.0,9,     -999.0,9, -999.00,9,-999.0000,9,-999.0000,9,-999.0000,9,-999.0000,9,-999.0000,9,-999.0000,9,-999.0000, -999.00
33RR20050106,       P16S,      39,          3,         21,         21,2,20050121,       0047,   -34.9993,  -150.0003,       5221,   981.5,   4.7610,  34.3162,2,  34.3187,2,    211.9,2,   208.3,2,   25.70,2,   29.66,2,    0.00,2,    2.04,2,   0.837,2,   0.436,2,   0.043,2,  2181.2,2,  2290.8,2,-999.000,9,-999.0000,9, -999.00,9, -999.00,9,  -999.0,9,  -999.0,-999.000,9,-999.000,  41.2223,2,   981.5,-999.000,   4.6814,     -999.0,9,     -999.0,9,     -999.0,9,     -999.0,9,     -999.0,9,     -999.0,9,     -999.0,9, -999.00,9,-999.0000,9,-999.0000,9,-999.0000,9,-999.0000,9,-999.0000,9,-999.0000,9,-999.0000, -999.00
33RR20050106,       P16S,      39,          3,         20,         20,2,20050121,       0047,   -34.9993,  -150.0003,       5221,  1082.7,   4.1897,  34.3366,2,  34.3381,2,    199.5,2,   198.1,2,   34.45,2,   31.37,2,    0.00,2,    2.16,2,   0.547,2,   0.288,2,   0.001,2,  2197.1,2,  2298.8,2,-999.000,9,-999.0000,9, -999.00,9, -999.00,9,  -999.0,9,  -999.0,-999.000,9,-999.000,-999.0000,9,  1082.7,-999.000,   4.1058,     -999.0,9,     -999.0,9,     -999.0,9,     -999.0,9,     -999.0,9,     -999.0,9,     -999.0,9, -999.00,9,-999.0000,9,-999.0000,9,-999.0000,9,-999.0000,9,-999.0000,9,-999.0000,9,-999.0000, -999.00
33RR20050106,       P16S,      39,          3,         19,         19,2,20050121,       0047,   -34.9993,  -150.0003,       5221,  1183.2,   3.7256,  34.3677,2,  34.3682,2,    188.9,2,   189.7,2,   43.22,2,   32.61,2,    0.00,2,    2.25,2,   0.335,2,   0.172,2,   0.002,2,  2211.6,2,  2306.8,2,-999.000,9,-999.0000,9, -999.00,9, -999.00,9,  -999.0,9,  -999.0,-999.000,9,-999.000,  40.6833,2,  1183.2,-999.000,   3.6372,     -999.0,9,     -999.0,9,     -999.0,9,     -999.0,9,     -999.0,9,     -999.0,9,     -999.0,9, -999.00,9,-999.0000,9,-999.0000,9,-999.0000,9,-999.0000,9,-999.0000,9,-999.0000,9,-999.0000, -999.00
33RR20050106,       P16S,      39,          3,         18,         18,2,20050121,       0047,   -34.9993,  -150.0003,       5221,  1284.0,   3.3709,  34.4066,2,  34.4096,2,    180.3,2,   181.9,2,   52.22,2,   33.47,2,    0.00,2,    2.33,2,   0.189,2,   0.099,2,   0.002,2,  2225.8,2,  2315.4,6,-999.000,9,-999.0000,9, -999.00,9, -999.00,9,  -999.0,9,  -999.0,-999.000,9,-999.000,-999.0000,9,  1284.0,-999.000,   3.2774,     -999.0,9,     -999.0,9,     -999.0,9,     -999.0,9,     -999.0,9,     -999.0,9,     -999.0,9, -999.00,9,-999.0000,9,-999.0000,9,-999.0000,9,-999.0000,9,-999.0000,9,-999.0000,9,-999.0000, -999.00
33RR20050106,       P16S,      39,          3,         17,         17,2,20050121,       0047,   -34.9993,  -150.0003,       5221,  1385.0,   3.0888,  34.4517,2,  34.4540,2,    173.9,2,   175.3,2,   61.04,2,   33.99,2,    0.00,2,    2.36,2,-999.000,9,-999.000,9,-999.000,9,  2236.8,2,  2324.4,2,-999.000,9,-999.0000,9, -999.00,9, -999.00,9,  -999.0,9,  -999.0,-999.000,9,-999.000,  40.1563,2,  1385.0,-999.000,   2.9898,     -999.0,9,     -999.0,9,     -999.0,9,     -999.0,9,     -999.0,9,     -999.0,9,     -999.0,9, -999.00,9,-999.0000,9,-999.0000,9,-999.0000,9,-999.0000,9,-999.0000,9,-999.0000,9,-999.0000, -999.00
33RR20050106,       P16S,      39,          3,         16,         16,2,20050121,       0047,   -34.9993,  -150.0003,       5221,  1486.3,   2.8656,  34.5009,2,  34.5017,2,    167.6,2,   169.0,2,   70.08,2,   34.31,2,    0.00,2,    2.39,2,   0.059,2,   0.038,2,   0.002,2,  2247.7,2,  2334.6,2,-999.000,9,-999.0000,9, -999.00,9, -999.00,9,  -999.0,9,  -999.0,-999.000,9,-999.000,-999.0000,9,  1486.3,-999.000,   2.7606,     -999.0,9,     -999.0,9,     -999.0,9,     -999.0,9,     -999.0,9,     -999.0,9,     -999.0,9, -999.00,9,-999.0000,9,-999.0000,9,-999.0000,9,-999.0000,9,-999.0000,9,-999.0000,9,-999.0000, -999.00
33RR20050106,       P16S,      39,          3,         15,         15,2,20050121,       0047,   -34.9993,  -150.0003,       5221,  1587.8,   2.6801,  34.5486,2,  34.5495,2,    162.5,2,   162.8,2,   81.20,2,   34.53,2,    0.00,2,    2.42,2,-999.000,9,-999.000,9,-999.000,9,  2261.3,2,  2348.0,2,-999.000,9,-999.0000,9, -999.00,9, -999.00,9,  -999.0,9,  -999.0,-999.000,9,-999.000,  38.5002,2,  1587.8,-999.000,   2.5688,     -999.0,9,     -999.0,9,     -999.0,9,     -999.0,9,     -999.0,9,     -999.0,9,     -999.0,9, -999.00,9,-999.0000,9,-999.0000,9,-999.0000,9,-999.0000,9,-999.0000,9,-999.0000,9,-999.0000, -999.00
33RR20050106,       P16S,      39,          3,         14,         14,2,20050121,       0047,   -34.9993,  -150.0003,       5221,  1789.8,   2.4631,  34.6012,2,  34.6027,2,    155.2,2,   155.2,2,   96.91,2,   34.90,2,    0.00,2,    2.45,2,   0.016,2,   0.011,2,   0.002,2,  2279.6,2,  2367.9,2,-999.000,9,-999.0000,9, -999.00,9, -999.00,9,  -999.0,9,  -999.0,-999.000,9,-999.000,-999.0000,9,  1789.8,-999.000,   2.3377,     -999.0,9,     -999.0,9,     -999.0,9,     -999.0,9,     -999.0,9,     -999.0,9,     -999.0,9, -999.00,9,-999.0000,9,-999.0000,9,-999.0000,9,-999.0000,9,-999.0000,9,-999.0000,9,-999.0000, -999.00
33RR20050106,       P16S,      39,          3,         13,         13,2,20050121,       0047,   -34.9993,  -150.0003,       5221,  1992.2,   2.2714,  34.6277,2,  34.6295,2,    151.7,2,   152.0,2,  107.27,2,   35.17,2,    0.00,2,    2.47,2,-999.000,9,-999.000,9,-999.000,9,  2290.8,2,  2380.3,2,-999.000,9,-999.0000,9, -999.00,9, -999.00,9,  -999.0,9,  -999.0,-999.000,9,-999.000,  38.5936,2,  1992.2,-999.000,   2.1315,     -999.0,9,     -999.0,9,     -999.0,9,     -999.0,9,     -999.0,9,     -999.0,9,     -999.0,9, -999.00,9,-999.0000,9,-999.0000,9,-999.0000,9,-999.0000,9,-999.0000,9,-999.0000,9,-999.0000, -999.00
33RR20050106,       P16S,      39,          3,         12,         12,2,20050121,       0047,   -34.9993,  -150.0003,       5221,  2195.0,   2.1160,  34.6428,2,  34.6442,2,    151.0,2,   151.2,2,  114.53,2,   35.33,2,    0.00,2,    2.48,2,   0.003,2,  -0.002,2,   0.002,2,  2298.1,2,  2387.2,2,-999.000,9,-999.0000,9, -999.00,9, -999.00,9,  -999.0,9,  -999.0,-999.000,9,-999.000,-999.0000,9,  2195.0,-999.000,   1.9609,     -999.0,9,     -999.0,9,     -999.0,9,     -999.0,9,     -999.0,9,     -999.0,9,     -999.0,9, -999.00,9,-999.0000,9,-999.0000,9,-999.0000,9,-999.0000,9,-999.0000,9,-999.0000,9,-999.0000, -999.00
33RR20050106,       P16S,      39,          3,         11,         11,2,20050121,       0047,   -34.9993,  -150.0003,       5221,  2453.5,   1.9529,  34.6570,2,  34.6582,2,    150.3,2,   150.7,2,  121.80,2,   35.49,2,    0.00,2,    2.50,2,-999.000,9,-999.000,9,-999.000,9,  2305.1,2,  2394.9,2,-999.000,9,-999.0000,9, -999.00,9, -999.00,9,  -999.0,9,  -999.0,-999.000,9,-999.000,  37.8949,2,  2453.5,-999.000,   1.7776,     -999.0,9,     -999.0,9,     -999.0,9,     -999.0,9,     -999.0,9,     -999.0,9,     -999.0,9, -999.00,9,-999.0000,9,-999.0000,9,-999.0000,9,-999.0000,9,-999.0000,9,-999.0000,9,-999.0000, -999.00
33RR20050106,       P16S,      39,          3,         10,         10,2,20050121,       0047,   -34.9993,  -150.0003,       5221,  2706.8,   1.8431,  34.6659,2,  34.6669,2,    150.8,2,   151.5,2,  125.95,2,   35.49,2,    0.00,2,    2.49,2,  -0.002,2,  -0.002,2,   0.002,2,  2310.3,2,  2399.0,2,-999.000,9,-999.0000,9, -999.00,9, -999.00,9,  -999.0,9,  -999.0,-999.000,9,-999.000,  37.1843,2,  2706.8,-999.000,   1.6467,     -999.0,9,     -999.0,9,     -999.0,9,     -999.0,9,     -999.0,9,     -999.0,9,     -999.0,9, -999.00,9,-999.0000,9,-999.0000,9,-999.0000,9,-999.0000,9,-999.0000,9,-999.0000,9,-999.0000, -999.00
33RR20050106,       P16S,      39,          3,          9,          9,2,20050121,       0047,   -34.9993,  -150.0003,       5221,  3013.3,   1.7343,  34.6755,2,  34.6761,2,    155.4,2,   156.3,2,  127.62,2,   35.16,2,    0.00,2,    2.47,2,-999.000,9,-999.000,9,-999.000,9,  2307.8,2,  2397.2,2,-999.000,9,-999.0000,9, -999.00,9, -999.00,9,  -999.0,9,  -999.0,-999.000,9,-999.000,  36.5349,2,  3013.3,-999.000,   1.5110,     -999.0,9,     -999.0,9,     -999.0,9,     -999.0,9,     -999.0,9,     -999.0,9,     -999.0,9, -999.00,9,-999.0000,9,-999.0000,9,-999.0000,9,-999.0000,9,-999.0000,9,-999.0000,9,-999.0000, -999.00
33RR20050106,       P16S,      39,          3,          8,          8,2,20050121,       0047,   -34.9993,  -150.0003,       5221,  3320.1,   1.6354,  34.6875,2,  34.6889,2,    164.8,2,   165.5,2,  125.75,2,   34.40,2,    0.00,2,    2.41,2,  -0.004,2,  -0.002,2,   0.002,2,  2298.3,2,  2394.3,2,-999.000,9,-999.0000,9, -999.00,9, -999.00,9,  -999.0,9,  -999.0,-999.000,9,-999.000,-999.0000,9,  3320.1,-999.000,   1.3841,     -999.0,9,     -999.0,9,     -999.0,9,     -999.0,9,     -999.0,9,     -999.0,9,     -999.0,9, -999.00,9,-999.0000,9,-999.0000,9,-999.0000,9,-999.0000,9,-999.0000,9,-999.0000,9,-999.0000, -999.00
33RR20050106,       P16S,      39,          3,          7,          7,2,20050121,       0047,   -34.9993,  -150.0003,       5221,  3627.3,   1.5269,  34.7003,2,  34.7011,2,    177.2,2,   178.2,2,  120.14,2,   33.43,2,    0.00,2,    2.33,2,-999.000,9,-999.000,9,-999.000,9,  2283.2,2,  2382.3,2,-999.000,9,-999.0000,9, -999.00,9, -999.00,9,  -999.0,9,  -999.0,-999.000,9,-999.000,  37.8514,2,  3627.3,-999.000,   1.2468,     -999.0,9,     -999.0,9,     -999.0,9,     -999.0,9,     -999.0,9,     -999.0,9,     -999.0,9, -999.00,9,-999.0000,9,-999.0000,9,-999.0000,9,-999.0000,9,-999.0000,9,-999.0000,9,-999.0000, -999.00