BOTTLE,20201109CCHSIOCBG
EXPOCODE,SECT_ID,STNNBR,CASTNO,SAMPNO,BTLNBR,BTLNBR_FLAG_W,DATE,TIME,LATITUDE,LONGITUDE,DEPTH,CTDPRS,CTDTMP,CTDSAL,CTDSAL_FLAG_W,SALNTY,SALNTY_FLAG_W,CTDOXY,CTDOXY_FLAG_W,OXYGEN,OXYGEN_FLAG_W,SILCAT,SILCAT_FLAG_W,NITRAT,NITRAT_FLAG_W,NITRIT,NITRIT_FLAG_W,PHSPHT,PHSPHT_FLAG_W,CFC-11,CFC-11_FLAG_W,CFC-12,CFC-12_FLAG_W,CFC113,CFC113_FLAG_W,TCARBN,TCARBN_FLAG_W,ALKALI,ALKALI_FLAG_W,TRITUM,TRITUM_FLAG_W,HELIUM,HELIUM_FLAG_W,DELHE3,DELHE3_FLAG_W,DELC13,DELC13_FLAG_W,DELC14,DELC14_FLAG_W,C14ERR,NEON,NEON_FLAG_W,NEONER,DOC,DOC_FLAG_W,CTDRAW,TRITER,THETA,FUCO,FUCO_FLAG_W,RHAM,RHAM_FLAG_W,ARABA,ARABA_FLAG_W,GALA,GALA_FLAG_W,GLUC,GLUC_FLAG_W,MAN,MAN_FLAG_W,DCNS,DCNS_FLAG_W,BRDU,BRDU_FLAG_W,CDOM325,CDOM325_FLAG_W,CDOM340,CDOM340_FLAG_W,CDOM380,CDOM380_FLAG_W,CDOM412,CDOM412_FLAG_W,CDOMSL,CDOMSL_FLAG_W,CDOMSN,CDOMSN_FLAG_W,HELIER,DELHER
,,,,,,,,,,,METERS,DBAR,ITS-90,PSS-78,,PSS-78,,UMOL/KG,,UMOL/KG,,UMOL/KG,,UMOL/KG,,UMOL/KG,,UMOL/KG,,PMOL/KG,,PMOL/KG,,PMOL/KG,,UMOL/KG,,UMOL/KG,,TU,,NMOL/KG,,PERCNT,,/MILLE,,/MILLE,,/MILLE,NMOL/KG,,NMOL/KG,UMOL/KG,,DBAR,TU,DEG C,NMOL/KG,,NMOL/KG,,NMOL/KG,,NMOL/KG,,NMOL/KG,,NMOL/KG,,NMOL/KG,,PMOL/L/H,,1/M,,1/M,,1/M,,1/M,,1/NM,,1/NM,,NMOL/KG,PERCNT
33RR20050106,       P16S,       7,          1,         36,         36,2,20050112,       0142,   -18.9997,  -150.0002,       4260,     3.3,  28.5419,  36.0792,2,  36.0812,2,    280.6,4,   197.5,2,    0.66,2,    0.04,2,    0.00,2,    0.17,2,   1.577,2,   0.993,2,   0.171,2,  2006.6,2,  2373.2,6,-999.000,9,-999.0000,9, -999.00,9, -999.00,5,    77.4,2,     3.3,-999.000,9,-999.000,  73.7896,2,     3.3,-999.000,  28.5411,     -999.0,9,     -999.0,9,     -999.0,9,     -999.0,9,     -999.0,9,     -999.0,9,     -999.0,9, -999.00,9,-999.0000,9,-999.0000,9,-999.0000,9,-999.0000,9,-999.0000,9,-999.0000,9,-999.0000, -999.00
33RR20050106,       P16S,       7,          1,         35,         35,2,20050112,       0142,   -18.9997,  -150.0002,       4260,    56.2,  26.6157,  35.9482,2,  35.9618,2,    284.0,4,   209.4,2,    0.47,2,    0.04,2,    0.00,2,    0.16,2,   1.718,2,   1.089,2,   0.178,2,  2005.0,6,  2362.8,2,-999.000,9,-999.0000,9, -999.00,9, -999.00,9,  -999.0,9,  -999.0,-999.000,9,-999.000,  71.6321,2,    56.2,-999.000,  26.6029,     -999.0,9,     -999.0,9,     -999.0,9,     -999.0,9,     -999.0,9,     -999.0,9,     -999.0,9, -999.00,9,-999.0000,9,-999.0000,9,-999.0000,9,-999.0000,9,-999.0000,9,-999.0000,9,-999.0000, -999.00
33RR20050106,       P16S,       7,          1,         34,         34,2,20050112,       0142,   -18.9997,  -150.0002,       4260,   105.8,  26.0415,  36.1089,2,  36.1107,2,    281.5,4,   201.9,2,    0.67,2,    0.00,2,    0.00,2,    0.19,2,   1.733,2,   1.050,2,   0.170,2,  2018.6,2,  2374.6,2,-999.000,9,-999.0000,9, -999.00,9, -999.00,5,    70.9,2,     3.5,-999.000,9,-999.000,  69.8907,2,   105.8,-999.000,  26.0178,     -999.0,9,     -999.0,9,     -999.0,9,     -999.0,9,     -999.0,9,     -999.0,9,     -999.0,9, -999.00,9,-999.0000,9,-999.0000,9,-999.0000,9,-999.0000,9,-999.0000,9,-999.0000,9,-999.0000, -999.00
33RR20050106,       P16S,       7,          1,         33,         33,2,20050112,       0142,   -18.9997,  -150.0002,       4260,   156.1,  24.1928,  35.9408,2,  35.9430,2,    231.2,4,   184.9,2,    0.68,2,    0.65,2,    0.07,2,    0.26,2,   1.907,2,   1.155,2,   0.198,2,  2042.2,2,  2361.3,2,-999.000,9,-999.0000,9, -999.00,9, -999.00,9,  -999.0,9,  -999.0,-999.000,9,-999.000,  59.7429,2,   156.1,-999.000,  24.1596,     -999.0,9,     -999.0,9,     -999.0,9,     -999.0,9,     -999.0,9,     -999.0,9,     -999.0,9, -999.00,9,-999.0000,9,-999.0000,9,-999.0000,9,-999.0000,9,-999.0000,9,-999.0000,9,-999.0000, -999.00
33RR20050106,       P16S,       7,          1,         32,         32,2,20050112,       0142,   -18.9997,  -150.0002,       4260,   205.6,  21.1837,  35.8426,2,  35.8380,2,    190.0,4,   169.1,2,    0.89,2,    3.73,2,    0.01,2,    0.46,2,   2.159,2,   1.289,2,   0.050,2,  2085.8,2,  2354.0,2,-999.000,9,-999.0000,9, -999.00,9, -999.00,5,  -999.0,5,  -999.0,-999.000,9,-999.000,  50.8960,2,   205.6,-999.000,  21.1439,     -999.0,9,     -999.0,9,     -999.0,9,     -999.0,9,     -999.0,9,     -999.0,9,     -999.0,9, -999.00,9,-999.0000,9,-999.0000,9,-999.0000,9,-999.0000,9,-999.0000,9,-999.0000,9,-999.0000, -999.00
33RR20050106,       P16S,       7,          1,         31,         31,2,20050112,       0142,   -18.9997,  -150.0002,       4260,   255.7,  19.8386,  35.6985,2,  35.6807,2,    178.0,4,   171.6,2,    1.11,2,    4.72,2,    0.01,2,    0.52,2,   2.259,2,   1.278,2,   0.033,2,  2092.7,2,  2342.3,2,-999.000,9,-999.0000,9, -999.00,9, -999.00,9,  -999.0,9,  -999.0,-999.000,9,-999.000,  49.2839,2,   255.7,-999.000,  19.7913,     -999.0,9,     -999.0,9,     -999.0,9,     -999.0,9,     -999.0,9,     -999.0,9,     -999.0,9, -999.00,9,-999.0000,9,-999.0000,9,-999.0000,9,-999.0000,9,-999.0000,9,-999.0000,9,-999.0000, -999.00
33RR20050106,       P16S,       7,          1,         30,         30,2,20050112,       0142,   -18.9997,  -150.0002,       4260,   306.0,  17.6570,  35.4273,2,  35.4256,2,    173.8,3,   176.9,2,    1.73,2,    6.03,2,    0.00,2,    0.61,2,   2.327,2,   1.304,2,   0.015,2,  2096.0,2,  2327.7,2,-999.000,9,-999.0000,9, -999.00,9, -999.00,5,    99.7,6,     4.2,-999.000,9,-999.000,  47.6125,2,   306.0,-999.000,  17.6049,     -999.0,9,     -999.0,9,     -999.0,9,     -999.0,9,     -999.0,9,     -999.0,9,     -999.0,9, -999.00,9,-999.0000,9,-999.0000,9,-999.0000,9,-999.0000,9,-999.0000,9,-999.0000,9,-999.0000, -999.00
33RR20050106,       P16S,       7,          1,         29,         29,2,20050112,       0142,   -18.9997,  -150.0002,       4260,   356.0,  15.4454,  35.1453,2,  35.1374,2,    170.9,3,   170.7,2,    3.19,2,    9.42,2,    0.00,2,    0.84,2,   2.237,2,   1.218,2,   0.011,2,  2110.8,2,  2311.1,2,-999.000,9,-999.0000,9, -999.00,9, -999.00,9,  -999.0,9,  -999.0,-999.000,9,-999.000,  46.9516,2,   356.0,-999.000,  15.3901,     -999.0,9,     -999.0,9,     -999.0,9,     -999.0,9,     -999.0,9,     -999.0,9,     -999.0,9, -999.00,9,-999.0000,9,-999.0000,9,-999.0000,9,-999.0000,9,-999.0000,9,-999.0000,9,-999.0000, -999.00
33RR20050106,       P16S,       7,          1,         28,         28,2,20050112,       0142,   -18.9997,  -150.0002,       4260,   405.8,  12.8084,  34.8524,2,  34.8535,2,    159.9,3,   161.0,2,    6.12,2,   14.66,2,    0.00,2,    1.20,2,   1.927,2,   1.052,2,   0.035,2,  2133.7,2,  2295.5,2,-999.000,9,-999.0000,9, -999.00,9, -999.00,5,    61.1,2,     3.4,-999.000,9,-999.000,  47.1788,2,   405.8,-999.000,  12.7528,     -999.0,9,     -999.0,9,     -999.0,9,     -999.0,9,     -999.0,9,     -999.0,9,     -999.0,9, -999.00,9,-999.0000,9,-999.0000,9,-999.0000,9,-999.0000,9,-999.0000,9,-999.0000,9,-999.0000, -999.00
33RR20050106,       P16S,       7,          1,         27,         27,2,20050112,       0142,   -18.9997,  -150.0002,       4260,   456.4,  10.7724,  34.6638,2,  34.6611,2,    161.6,3,   162.6,2,    8.41,2,   18.81,2,    0.00,2,    1.47,2,   1.671,2,   0.863,2,   0.013,2,  2148.9,2,  2287.8,2,-999.000,9,-999.0000,9, -999.00,9, -999.00,5,    38.6,2,     3.4,-999.000,9,-999.000,  45.0424,2,   456.4,-999.000,  10.7164,     -999.0,9,     -999.0,9,     -999.0,9,     -999.0,9,     -999.0,9,     -999.0,9,     -999.0,9, -999.00,9,-999.0000,9,-999.0000,9,-999.0000,9,-999.0000,9,-999.0000,9,-999.0000,9,-999.0000, -999.00
33RR20050106,       P16S,       7,          1,         26,         26,2,20050112,       0142,   -18.9997,  -150.0002,       4260,   505.8,   8.8829,  34.5160,2,  34.5160,2,    159.7,3,   159.7,2,   12.38,2,   23.73,2,    0.00,2,    1.78,2,   1.245,2,   0.661,2,   0.008,2,  2169.8,6,  2285.3,2,-999.000,9,-999.0000,9, -999.00,9, -999.00,5,    -2.5,2,     3.4,-999.000,9,-999.000,  44.4164,2,   505.8,-999.000,   8.8278,     -999.0,9,     -999.0,9,     -999.0,9,     -999.0,9,     -999.0,9,     -999.0,9,     -999.0,9, -999.00,9,-999.0000,9,-999.0000,9,-999.0000,9,-999.0000,9,-999.0000,9,-999.0000,9,-999.0000, -999.00
33RR20050106,       P16S,       7,          1,         25,         25,2,20050112,       0142,   -18.9997,  -150.0002,       4260,   606.5,   6.7614,  34.4122,2,  34.4141,2,    167.1,3,   167.5,2,   20.13,2,   28.58,2,    0.00,2,    2.05,2,   0.669,2,   0.375,2,   0.001,2,  2185.9,2,  2286.6,2,-999.000,9,-999.0000,9, -999.00,9, -999.00,5,   -43.7,2,     2.8,-999.000,9,-999.000,  42.3288,2,   606.5,-999.000,   6.7045,     -999.0,9,     -999.0,9,     -999.0,9,     -999.0,9,     -999.0,9,     -999.0,9,     -999.0,9, -999.00,9,-999.0000,9,-999.0000,9,-999.0000,9,-999.0000,9,-999.0000,9,-999.0000,9,-999.0000, -999.00
33RR20050106,       P16S,       7,          1,         24,         24,2,20050112,       0142,   -18.9997,  -150.0002,       4260,   707.2,   5.9323,  34.4130,2,  34.4143,2,    165.8,3,   158.2,2,   29.36,2,   31.24,2,    0.00,2,    2.22,2,   0.358,2,   0.201,2,   0.001,2,  2203.5,2,  2296.4,2,-999.000,9,-999.0000,9, -999.00,9, -999.00,5,   -81.3,2,     2.6,-999.000,9,-999.000,  37.7725,2,   707.2,-999.000,   5.8699,     -999.0,9,     -999.0,9,     -999.0,9,     -999.0,9,     -999.0,9,     -999.0,9,     -999.0,9, -999.00,9,-999.0000,9,-999.0000,9,-999.0000,9,-999.0000,9,-999.0000,9,-999.0000,9,-999.0000, -999.00
33RR20050106,       P16S,       7,          1,         23,         23,2,20050112,       0142,   -18.9997,  -150.0002,       4260,   807.1,   5.1205,  34.4224,2,  34.4228,2,    159.8,3,   156.6,2,   40.52,2,   32.86,2,    0.00,2,    2.33,2,   0.182,2,   0.118,2,   0.001,2,  2218.8,2,  2304.9,2,-999.000,9,-999.0000,9, -999.00,9, -999.00,5,  -115.9,2,     3.0,-999.000,9,-999.000,-999.0000,9,   807.1,-999.000,   5.0537,     -999.0,9,     -999.0,9,     -999.0,9,     -999.0,9,     -999.0,9,     -999.0,9,     -999.0,9, -999.00,9,-999.0000,9,-999.0000,9,-999.0000,9,-999.0000,9,-999.0000,9,-999.0000,9,-999.0000, -999.00
33RR20050106,       P16S,       7,          1,         22,         22,2,20050112,       0142,   -18.9997,  -150.0002,       4260,   907.6,   4.5059,  34.4456,2,  34.4461,2,    154.5,3,   152.8,2,   51.51,2,   34.03,2,    0.00,2,    2.42,2,   0.064,2,   0.054,2,   0.001,2,  2232.3,2,  2318.2,2,-999.000,9,-999.0000,9, -999.00,9, -999.00,5,  -134.7,2,     2.9,-999.000,9,-999.000,  37.4368,2,   907.6,-999.000,   4.4344,     -999.0,9,     -999.0,9,     -999.0,9,     -999.0,9,     -999.0,9,     -999.0,9,     -999.0,9, -999.00,9,-999.0000,9,-999.0000,9,-999.0000,9,-999.0000,9,-999.0000,9,-999.0000,9,-999.0000, -999.00
33RR20050106,       P16S,       7,          1,         21,         21,2,20050112,       0142,   -18.9997,  -150.0002,       4260,  1008.1,   4.0486,  34.4709,2,  34.4728,2,    150.5,3,   151.4,2,   61.03,2,   34.57,2,    0.00,2,    2.46,2,   0.047,3,   0.027,2,   0.001,2,  2245.9,2,  2326.6,2,-999.000,9,-999.0000,9, -999.00,9, -999.00,5,  -155.8,2,     3.0,-999.000,9,-999.000,  37.6710,2,  1008.1,-999.000,   3.9719,     -999.0,9,     -999.0,9,     -999.0,9,     -999.0,9,     -999.0,9,     -999.0,9,     -999.0,9, -999.00,9,-999.0000,9,-999.0000,9,-999.0000,9,-999.0000,9,-999.0000,9,-999.0000,9,-999.0000, -999.00
33RR20050106,       P16S,       7,          1,         20,         20,2,20050112,       0142,   -18.9997,  -150.0002,       4260,  1108.9,   3.5765,  34.5037,2,  34.5044,2,    149.4,3,   149.7,2,   72.70,2,   35.17,2,    0.00,2,    2.50,2,   0.008,2,   0.011,2,   0.000,2,  2259.8,2,  2339.7,2,-999.000,9,-999.0000,9, -999.00,9, -999.00,5,  -176.0,2,     2.8,-999.000,9,-999.000,-999.0000,9,  1108.9,-999.000,   3.4953,     -999.0,9,     -999.0,9,     -999.0,9,     -999.0,9,     -999.0,9,     -999.0,9,     -999.0,9, -999.00,9,-999.0000,9,-999.0000,9,-999.0000,9,-999.0000,9,-999.0000,9,-999.0000,9,-999.0000, -999.00
33RR20050106,       P16S,       7,          1,         19,         19,2,20050112,       0142,   -18.9997,  -150.0002,       4260,  1209.5,   3.2041,  34.5324,2,  34.5330,2,    147.7,3,   149.3,2,   82.07,2,   35.43,2,    0.00,2,    2.52,2,   0.096,3,   0.087,3,   0.000,2,  2270.0,2,  2349.1,2,-999.000,9,-999.0000,9, -999.00,9, -999.00,5,  -179.9,2,     2.8,-999.000,9,-999.000,  36.0470,2,  1209.5,-999.000,   3.1180,     -999.0,9,     -999.0,9,     -999.0,9,     -999.0,9,     -999.0,9,     -999.0,9,     -999.0,9, -999.00,9,-999.0000,9,-999.0000,9,-999.0000,9,-999.0000,9,-999.0000,9,-999.0000,9,-999.0000, -999.00
33RR20050106,       P16S,       7,          1,         18,         18,2,20050112,       0142,   -18.9997,  -150.0002,       4260,  1310.4,   3.0258,  34.5481,2,  34.5493,2,    147.8,3,   148.9,2,   87.18,2,   35.49,2,    0.00,2,    2.53,2,   0.013,2,   0.009,2,   0.000,2,  2274.7,2,  2355.4,6,-999.000,9,-999.0000,9, -999.00,9, -999.00,5,  -189.3,2,     3.3,-999.000,9,-999.000,-999.0000,9,  1310.4,-999.000,   2.9333,     -999.0,9,     -999.0,9,     -999.0,9,     -999.0,9,     -999.0,9,     -999.0,9,     -999.0,9, -999.00,9,-999.0000,9,-999.0000,9,-999.0000,9,-999.0000,9,-999.0000,9,-999.0000,9,-999.0000, -999.00
33RR20050106,       P16S,       7,          1,         17,         17,2,20050112,       0142,   -18.9997,  -150.0002,       4260,  1411.0,   2.7765,  34.5718,2,  34.5735,2,    147.3,3,   148.5,2,   95.08,2,   35.59,2,    0.00,2,    2.55,2,   0.009,2,   0.009,2,   0.000,2,  2283.9,2,  2364.9,2,-999.000,9,-999.0000,9, -999.00,9, -999.00,5,  -192.8,2,     2.8,-999.000,9,-999.000,-999.0000,9,  1411.0,-999.000,   2.6784,     -999.0,9,     -999.0,9,     -999.0,9,     -999.0,9,     -999.0,9,     -999.0,9,     -999.0,9, -999.00,9,-999.0000,9,-999.0000,9,-999.0000,9,-999.0000,9,-999.0000,9,-999.0000,9,-999.0000, -999.00
33RR20050106,       P16S,       7,          1,         16,         16,2,20050112,       0142,   -18.9997,  -150.0002,       4260,  1511.9,   2.6259,  34.5871,2,  34.5880,2,    147.6,3,   148.2,2,   99.99,2,   35.75,2,    0.00,2,    2.55,2,   0.000,2,   0.005,2,   0.000,2,  2288.7,2,  2369.3,2,-999.000,9,-999.0000,9, -999.00,9, -999.00,5,  -192.0,2,     2.6,-999.000,9,-999.000,  35.7622,2,  1511.9,-999.000,   2.5214,     -999.0,9,     -999.0,9,     -999.0,9,     -999.0,9,     -999.0,9,     -999.0,9,     -999.0,9, -999.00,9,-999.0000,9,-999.0000,9,-999.0000,9,-999.0000,9,-999.0000,9,-999.0000,9,-999.0000, -999.00
33RR20050106,       P16S,       7,          1,         15,         15,2,20050112,       0142,   -18.9997,  -150.0002,       4260,  1612.4,   2.5010,  34.5998,2,  34.5998,2,    148.2,3,   148.0,2,  104.26,2,   35.80,2,    0.00,2,    2.55,2,-999.000,9,-999.000,9,-999.000,9,  2293.0,2,  2376.8,2,-999.000,9,-999.0000,9, -999.00,9, -999.00,5,  -190.7,2,     2.8,-999.000,9,-999.000,-999.0000,9,  1612.4,-999.000,   2.3898,     -999.0,9,     -999.0,9,     -999.0,9,     -999.0,9,     -999.0,9,     -999.0,9,     -999.0,9, -999.00,9,-999.0000,9,-999.0000,9,-999.0000,9,-999.0000,9,-999.0000,9,-999.0000,9,-999.0000, -999.00
33RR20050106,       P16S,       7,          1,         14,         14,2,20050112,       0142,   -18.9997,  -150.0002,       4260,  1713.6,   2.3853,  34.6111,2,  34.6125,2,    149.1,3,   148.4,2,  108.12,2,   35.69,2,    0.00,2,    2.55,2,   0.011,2,   0.011,2,   0.000,2,  2296.4,2,  2376.7,3,-999.000,9,-999.0000,9, -999.00,9, -999.00,5,  -192.5,2,     2.3,-999.000,9,-999.000,  35.9089,2,  1713.6,-999.000,   2.2672,     -999.0,9,     -999.0,9,     -999.0,9,     -999.0,9,     -999.0,9,     -999.0,9,     -999.0,9, -999.00,9,-999.0000,9,-999.0000,9,-999.0000,9,-999.0000,9,-999.0000,9,-999.0000,9,-999.0000, -999.00
33RR20050106,       P16S,       7,          1,         13,         13,2,20050112,       0142,   -18.9997,  -150.0002,       4260,  1814.4,   2.2699,  34.6214,2,  34.6247,2,    150.5,3,   149.5,2,  111.33,2,   35.69,2,    0.00,2,    2.55,2,-999.000,9,-999.000,9,-999.000,9,  2298.2,2,  2383.9,2,-999.000,9,-999.0000,9, -999.00,9, -999.00,5,  -200.7,2,     2.5,-999.000,9,-999.000,-999.0000,9,  1814.4,-999.000,   2.1450,     -999.0,9,     -999.0,9,     -999.0,9,     -999.0,9,     -999.0,9,     -999.0,9,     -999.0,9, -999.00,9,-999.0000,9,-999.0000,9,-999.0000,9,-999.0000,9,-999.0000,9,-999.0000,9,-999.0000, -999.00
33RR20050106,       P16S,       7,          1,         12,         12,2,20050112,       0142,   -18.9997,  -150.0002,       4260,  1915.6,   2.1725,  34.6304,2,  34.6314,2,    151.5,3,   150.6,2,  113.89,2,   35.59,2,    0.00,2,    2.54,2,   0.004,2,   0.006,2,   0.000,2,  2299.8,2,  2383.4,3,-999.000,9,-999.0000,9, -999.00,9, -999.00,5,  -204.1,2,     3.2,-999.000,9,-999.000,-999.0000,9,  1915.6,-999.000,   2.0405,     -999.0,9,     -999.0,9,     -999.0,9,     -999.0,9,     -999.0,9,     -999.0,9,     -999.0,9, -999.00,9,-999.0000,9,-999.0000,9,-999.0000,9,-999.0000,9,-999.0000,9,-999.0000,9,-999.0000, -999.00
33RR20050106,       P16S,       7,          1,         11,         11,2,20050112,       0142,   -18.9997,  -150.0002,       4260,  2016.6,   2.0807,  34.6382,2,  34.6377,2,    153.2,3,   147.9,3,  116.25,2,   35.59,2,    0.00,2,    2.54,2,-999.000,9,-999.000,9,-999.000,9,  2301.9,2,  2388.6,2,-999.000,9,-999.0000,9, -999.00,9, -999.00,5,  -190.2,2,     3.1,-999.000,9,-999.000,  35.3592,2,  2016.6,-999.000,   1.9416,     -999.0,9,     -999.0,9,     -999.0,9,     -999.0,9,     -999.0,9,     -999.0,9,     -999.0,9, -999.00,9,-999.0000,9,-999.0000,9,-999.0000,9,-999.0000,9,-999.0000,9,-999.0000,9,-999.0000, -999.00
33RR20050106,       P16S,       7,          1,         10,         10,2,20050112,       0142,   -18.9997,  -150.0002,       4260,  2269.0,   1.9236,  34.6519,2,  34.6534,2,    156.3,3,   155.6,2,  119.89,2,   35.48,2,    0.00,2,    2.52,2,   0.026,3,   0.012,2,   0.000,2,  2303.3,2,  2389.7,2,-999.000,9,-999.0000,9, -999.00,9, -999.00,5,  -201.9,2,     1.9,-999.000,9,-999.000,-999.0000,9,  2269.0,-999.000,   1.7653,     -999.0,9,     -999.0,9,     -999.0,9,     -999.0,9,     -999.0,9,     -999.0,9,     -999.0,9, -999.00,9,-999.0000,9,-999.0000,9,-999.0000,9,-999.0000,9,-999.0000,9,-999.0000,9,-999.0000, -999.00
33RR20050106,       P16S,       7,          1,          9,          9,2,20050112,       0142,   -18.9997,  -150.0002,       4260,  2521.8,   1.8067,  34.6622,2,  34.6619,2,    159.2,3,   158.7,2,  122.46,2,   35.32,2,    0.00,2,    2.50,2,-999.000,9,-999.000,9,-999.000,9,  2303.3,2,  2393.9,2,-999.000,9,-999.0000,9, -999.00,9, -999.00,5,  -208.2,2,     2.4,-999.000,9,-999.000,  36.5766,2,  2521.8,-999.000,   1.6280,     -999.0,9,     -999.0,9,     -999.0,9,     -999.0,9,     -999.0,9,     -999.0,9,     -999.0,9, -999.00,9,-999.0000,9,-999.0000,9,-999.0000,9,-999.0000,9,-999.0000,9,-999.0000,9,-999.0000, -999.00
33RR20050106,       P16S,       7,          1,          8,          8,2,20050112,       0142,   -18.9997,  -150.0002,       4260,  2775.7,   1.7106,  34.6704,2,  34.6707,2,    162.0,3,   162.3,2,  123.75,2,   35.15,2,    0.00,2,    2.48,2,   0.006,2,   0.011,2,   0.000,2,  2302.1,2,  2392.8,2,-999.000,9,-999.0000,9, -999.00,9, -999.00,5,  -208.7,2,     2.6,-999.000,9,-999.000,-999.0000,9,  2775.7,-999.000,   1.5104,     -999.0,9,     -999.0,9,     -999.0,9,     -999.0,9,     -999.0,9,     -999.0,9,     -999.0,9, -999.00,9,-999.0000,9,-999.0000,9,-999.0000,9,-999.0000,9,-999.0000,9,-999.0000,9,-999.0000, -999.00
33RR20050106,       P16S,       7,          1,          7,          7,2,20050112,       0142,   -18.9997,  -150.0002,       4260,  3029.7,   1.6134,  34.6783,2,  34.6796,2,    165.6,3,   167.0,2,  124.39,2,   34.72,2,    0.00,2,    2.45,2,-999.000,9,-999.000,9,-999.000,9,  2299.9,2,  2393.2,2,-999.000,9,-999.0000,9, -999.00,9, -999.00,5,  -196.1,2,     2.8,-999.000,9,-999.000,  35.1665,2,  3029.7,-999.000,   1.3912,     -999.0,9,     -999.0,9,     -999.0,9,     -999.0,9,     -999.0,9,     -999.0,9,     -999.0,9, -999.00,9,-999.0000,9,-999.0000,9,-999.0000,9,-999.0000,9,-999.0000,9,-999.0000,9,-999.0000, -999.00