BOTTLE,20201109CCHSIOCBG
EXPOCODE,SECT_ID,STNNBR,CASTNO,SAMPNO,BTLNBR,BTLNBR_FLAG_W,DATE,TIME,LATITUDE,LONGITUDE,DEPTH,CTDPRS,CTDTMP,CTDSAL,CTDSAL_FLAG_W,SALNTY,SALNTY_FLAG_W,CTDOXY,CTDOXY_FLAG_W,OXYGEN,OXYGEN_FLAG_W,SILCAT,SILCAT_FLAG_W,NITRAT,NITRAT_FLAG_W,NITRIT,NITRIT_FLAG_W,PHSPHT,PHSPHT_FLAG_W,CFC-11,CFC-11_FLAG_W,CFC-12,CFC-12_FLAG_W,CFC113,CFC113_FLAG_W,TCARBN,TCARBN_FLAG_W,ALKALI,ALKALI_FLAG_W,TRITUM,TRITUM_FLAG_W,HELIUM,HELIUM_FLAG_W,DELHE3,DELHE3_FLAG_W,DELC13,DELC13_FLAG_W,DELC14,DELC14_FLAG_W,C14ERR,NEON,NEON_FLAG_W,NEONER,DOC,DOC_FLAG_W,CTDRAW,TRITER,THETA,FUCO,FUCO_FLAG_W,RHAM,RHAM_FLAG_W,ARABA,ARABA_FLAG_W,GALA,GALA_FLAG_W,GLUC,GLUC_FLAG_W,MAN,MAN_FLAG_W,DCNS,DCNS_FLAG_W,BRDU,BRDU_FLAG_W,CDOM325,CDOM325_FLAG_W,CDOM340,CDOM340_FLAG_W,CDOM380,CDOM380_FLAG_W,CDOM412,CDOM412_FLAG_W,CDOMSL,CDOMSL_FLAG_W,CDOMSN,CDOMSN_FLAG_W,HELIER,DELHER
,,,,,,,,,,,METERS,DBAR,ITS-90,PSS-78,,PSS-78,,UMOL/KG,,UMOL/KG,,UMOL/KG,,UMOL/KG,,UMOL/KG,,UMOL/KG,,PMOL/KG,,PMOL/KG,,PMOL/KG,,UMOL/KG,,UMOL/KG,,TU,,NMOL/KG,,PERCNT,,/MILLE,,/MILLE,,/MILLE,NMOL/KG,,NMOL/KG,UMOL/KG,,DBAR,TU,DEG C,NMOL/KG,,NMOL/KG,,NMOL/KG,,NMOL/KG,,NMOL/KG,,NMOL/KG,,NMOL/KG,,PMOL/L/H,,1/M,,1/M,,1/M,,1/M,,1/NM,,1/NM,,NMOL/KG,PERCNT
33RR20050106,       P16S,     101,          1,         30,         30,2,20050208,       1001,   -66.0000,  -150.0002,       4358,     4.6,   0.4920,  33.9379,2,  33.9379,2,    339.7,2,   342.3,2,   46.57,2,   24.75,2,    0.28,2,    1.73,2,   5.752,2,   3.164,2,   0.526,2,  2169.3,2,  2295.2,6,   0.246,2,-999.0000,9, -999.00,9, -999.00,9,  -999.0,9,  -999.0,-999.000,9,-999.000,  42.3673,2,     4.6,   0.006,   0.4918,     -999.0,9,     -999.0,9,     -999.0,9,     -999.0,9,     -999.0,9,     -999.0,9,     -999.0,9, -999.00,9,-999.0000,9,-999.0000,9,-999.0000,9,-999.0000,9,-999.0000,9,-999.0000,9,-999.0000, -999.00
33RR20050106,       P16S,     101,          1,         29,         29,2,20050208,       1001,   -66.0000,  -150.0002,       4358,    35.7,   0.4935,  33.9383,2,  33.9379,2,    341.2,2,   341.0,2,   46.54,2,   24.84,2,    0.28,2,    1.73,2,   5.871,2,   3.203,2,   0.539,2,  2168.8,6,  2294.8,2,   0.094,2,   1.8100,2,   -1.16,2, -999.00,9,  -999.0,9,  -999.0,   8.106,2,   0.010,  43.4818,2,    35.7,   0.005,   0.4921,     -999.0,9,     -999.0,9,     -999.0,9,     -999.0,9,     -999.0,9,     -999.0,9,     -999.0,9, -999.00,9,-999.0000,9,-999.0000,9,-999.0000,9,-999.0000,9,-999.0000,9,-999.0000,9,   0.0010,    0.18
33RR20050106,       P16S,     101,          1,         28,         28,2,20050208,       1001,   -66.0000,  -150.0002,       4358,    71.0,  -0.2895,  34.0007,2,  34.0035,2,    341.2,2,   338.8,2,   49.02,2,   25.60,2,    0.24,2,    1.79,2,   5.809,2,   3.107,2,   0.529,2,  2179.6,2,  2298.6,2,   0.098,2,   1.8150,2,   -0.92,2, -999.00,9,  -999.0,9,  -999.0,   8.067,2,   0.010,  42.9743,2,    71.0,   0.004,  -0.2918,     -999.0,9,     -999.0,9,     -999.0,9,     -999.0,9,     -999.0,9,     -999.0,9,     -999.0,9, -999.00,9,-999.0000,9,-999.0000,9,-999.0000,9,-999.0000,9,-999.0000,9,-999.0000,9,   0.0010,    0.18
33RR20050106,       P16S,     101,          1,         27,         27,2,20050208,       1001,   -66.0000,  -150.0002,       4358,    91.0,  -1.5673,  34.1190,2,  34.1196,2,    313.7,2,   317.5,2,   52.75,2,   26.71,2,    0.22,2,    1.88,2,   5.080,2,   2.702,2,   0.484,2,  2194.6,2,  2305.7,2,   0.117,2,   1.8350,2,    0.40,2, -999.00,9,  -999.0,9,  -999.0,   8.211,2,   0.011,  41.9600,2,    91.0,   0.005,  -1.5693,     -999.0,9,     -999.0,9,     -999.0,9,     -999.0,9,     -999.0,9,     -999.0,9,     -999.0,9, -999.00,9,-999.0000,9,-999.0000,9,-999.0000,9,-999.0000,9,-999.0000,9,-999.0000,9,   0.0010,    0.19
33RR20050106,       P16S,     101,          1,         26,         26,2,20050208,       1001,   -66.0000,  -150.0002,       4358,   121.3,  -0.9239,  34.2567,2,  34.2480,2,    281.2,2,   277.9,2,   62.31,2,   28.83,2,    0.23,2,    2.00,2,   4.002,2,   2.152,2,   0.383,2,  2214.1,2,  2312.5,2,   0.074,2,-999.0000,9, -999.00,9, -999.00,9,  -999.0,9,  -999.0,-999.000,9,-999.000,  41.6218,2,   121.3,   0.004,  -0.9272,     -999.0,9,     -999.0,9,     -999.0,9,     -999.0,9,     -999.0,9,     -999.0,9,     -999.0,9, -999.00,9,-999.0000,9,-999.0000,9,-999.0000,9,-999.0000,9,-999.0000,9,-999.0000,9,-999.0000, -999.00
33RR20050106,       P16S,     101,          1,         25,         25,2,20050208,       1001,   -66.0000,  -150.0002,       4358,   171.7,   1.0260,  34.6231,2,  34.6172,2,    207.3,2,   194.5,2,   88.62,2,   32.54,2,    0.02,2,    2.23,2,   1.125,2,   0.588,2,   0.107,2,  2254.5,2,  2337.6,2,-999.000,9,-999.0000,9, -999.00,9, -999.00,9,  -999.0,9,  -999.0,-999.000,9,-999.000,  39.6923,2,   171.7,-999.000,   1.0182,     -999.0,9,     -999.0,9,     -999.0,9,     -999.0,9,     -999.0,9,     -999.0,9,     -999.0,9, -999.00,9,-999.0000,9,-999.0000,9,-999.0000,9,-999.0000,9,-999.0000,9,-999.0000,9,-999.0000, -999.00
33RR20050106,       P16S,     101,          1,         24,         24,2,20050208,       1001,   -66.0000,  -150.0002,       4358,   242.3,   1.4938,  34.7222,2,  34.7212,2,    177.3,2,   178.0,2,   98.24,2,   32.76,2,    0.01,2,    2.24,2,   0.260,2,   0.131,2,   0.025,2,  2263.2,2,  2345.9,2,-999.000,9,-999.0000,9, -999.00,9, -999.00,9,  -999.0,9,  -999.0,-999.000,9,-999.000,  44.4766,2,   242.3,-999.000,   1.4817,     -999.0,9,     -999.0,9,     -999.0,9,     -999.0,9,     -999.0,9,     -999.0,9,     -999.0,9, -999.00,9,-999.0000,9,-999.0000,9,-999.0000,9,-999.0000,9,-999.0000,9,-999.0000,9,-999.0000, -999.00
33RR20050106,       P16S,     101,          1,         23,         23,2,20050208,       1001,   -66.0000,  -150.0002,       4358,   348.2,   1.4131,  34.7307,2,  34.7300,2,    179.6,2,   180.4,2,  102.42,2,   32.55,2,    0.01,2,    2.23,2,-999.000,5,-999.000,5,-999.000,5,  2263.9,2,  2349.4,2,-999.000,9,   1.9880,3,    8.97,2, -999.00,9,  -999.0,9,  -999.0,   8.519,2,   0.010,  39.2243,2,   348.2,-999.000,   1.3956,     -999.0,9,     -999.0,9,     -999.0,9,     -999.0,9,     -999.0,9,     -999.0,9,     -999.0,9, -999.00,9,-999.0000,9,-999.0000,9,-999.0000,9,-999.0000,9,-999.0000,9,-999.0000,9,   0.0010,    0.20
33RR20050106,       P16S,     101,          1,         22,         22,2,20050208,       1001,   -66.0000,  -150.0002,       4358,   449.0,   1.3212,  34.7311,2,  34.7291,2,    182.0,2,   182.8,2,  106.18,2,   32.50,2,    0.00,2,    2.22,2,   0.222,2,   0.112,2,   0.027,2,  2263.3,6,  2351.2,2,   0.015,2,-999.0000,9, -999.00,9, -999.00,9,  -999.0,9,  -999.0,-999.000,9,-999.000,  39.8849,2,   449.0,   0.004,   1.2986,     -999.0,9,     -999.0,9,     -999.0,9,     -999.0,9,     -999.0,9,     -999.0,9,     -999.0,9, -999.00,9,-999.0000,9,-999.0000,9,-999.0000,9,-999.0000,9,-999.0000,9,-999.0000,9,-999.0000, -999.00
33RR20050106,       P16S,     101,          1,         21,         21,2,20050208,       1001,   -66.0000,  -150.0002,       4358,   550.1,   1.2438,  34.7299,2,  34.7291,2,    184.4,2,   184.8,2,  108.89,2,   32.50,2,    0.00,2,    2.22,2,   0.110,2,   0.050,2,   0.019,2,  2263.1,2,  2353.3,2,   0.016,2,   1.8920,2,   10.16,2, -999.00,9,  -999.0,9,  -999.0,   8.209,2,   0.011,  41.0508,2,   550.1,   0.004,   1.2160,     -999.0,9,     -999.0,9,     -999.0,9,     -999.0,9,     -999.0,9,     -999.0,9,     -999.0,9, -999.00,9,-999.0000,9,-999.0000,9,-999.0000,9,-999.0000,9,-999.0000,9,-999.0000,9,   0.0010,    0.19
33RR20050106,       P16S,     101,          1,         20,         20,2,20050208,       1001,   -66.0000,  -150.0002,       4358,   651.0,   1.1693,  34.7280,2,  34.7269,2,    187.0,2,   187.7,2,  111.18,2,   32.40,2,    0.00,2,    2.21,2,   0.109,2,   0.059,2,   0.019,2,  2261.9,2,  2354.9,2,   0.016,2,-999.0000,9, -999.00,9, -999.00,9,  -999.0,9,  -999.0,-999.000,9,-999.000,  39.4952,2,   651.0,   0.003,   1.1362,     -999.0,9,     -999.0,9,     -999.0,9,     -999.0,9,     -999.0,9,     -999.0,9,     -999.0,9, -999.00,9,-999.0000,9,-999.0000,9,-999.0000,9,-999.0000,9,-999.0000,9,-999.0000,9,-999.0000, -999.00
33RR20050106,       P16S,     101,          1,         19,         19,2,20050208,       1001,   -66.0000,  -150.0002,       4358,   752.3,   1.1030,  34.7257,2,  34.7261,2,    189.3,2,   190.2,2,  112.83,2,   32.34,2,    0.00,2,    2.21,2,   0.075,2,   0.037,2,   0.017,2,  2262.8,2,  2355.7,2,   0.089,2,-999.0000,9, -999.00,9, -999.00,9,  -999.0,9,  -999.0,-999.000,9,-999.000,  39.6505,2,   752.3,   0.005,   1.0645,     -999.0,9,     -999.0,9,     -999.0,9,     -999.0,9,     -999.0,9,     -999.0,9,     -999.0,9, -999.00,9,-999.0000,9,-999.0000,9,-999.0000,9,-999.0000,9,-999.0000,9,-999.0000,9,-999.0000, -999.00
33RR20050106,       P16S,     101,          1,         18,         18,2,20050208,       1001,   -66.0000,  -150.0002,       4358,   853.1,   1.0329,  34.7232,2,  34.7234,2,    192.4,2,   192.8,2,  114.91,2,   32.34,2,    0.00,2,    2.22,2,   0.063,2,   0.035,2,   0.012,2,  2262.8,2,  2355.6,6,   0.048,2,-999.0000,9, -999.00,9, -999.00,9,  -999.0,9,  -999.0,-999.000,9,-999.000,  42.7052,2,   853.1,   0.007,   0.9890,     -999.0,9,     -999.0,9,     -999.0,9,     -999.0,9,     -999.0,9,     -999.0,9,     -999.0,9, -999.00,9,-999.0000,9,-999.0000,9,-999.0000,9,-999.0000,9,-999.0000,9,-999.0000,9,-999.0000, -999.00
33RR20050106,       P16S,     101,          1,         17,         17,2,20050208,       1001,   -66.0000,  -150.0002,       4358,   954.2,   0.9810,  34.7211,2,  34.7210,2,    194.7,2,   195.0,2,  116.15,2,   32.23,2,    0.00,2,    2.22,2,   0.059,2,   0.025,2,   0.011,2,  2261.8,2,  2356.2,2,   0.035,2,   1.8970,2,   10.24,2, -999.00,9,  -999.0,9,  -999.0,   8.214,2,   0.011,  39.5512,2,   954.2,   0.005,   0.9315,     -999.0,9,     -999.0,9,     -999.0,9,     -999.0,9,     -999.0,9,     -999.0,9,     -999.0,9, -999.00,9,-999.0000,9,-999.0000,9,-999.0000,9,-999.0000,9,-999.0000,9,-999.0000,9,   0.0010,    0.18
33RR20050106,       P16S,     101,          1,         16,         16,2,20050208,       1001,   -66.0000,  -150.0002,       4358,  1054.7,   0.9168,  34.7185,2,  34.7183,2,    196.4,2,   197.2,2,  118.02,2,   32.28,2,    0.00,2,    2.22,2,   0.051,2,   0.032,2,   0.010,2,  2261.9,2,  2356.2,2,-999.000,9,-999.0000,9, -999.00,9, -999.00,9,  -999.0,9,  -999.0,-999.000,9,-999.000,  41.7043,2,  1054.7,-999.000,   0.8617,     -999.0,9,     -999.0,9,     -999.0,9,     -999.0,9,     -999.0,9,     -999.0,9,     -999.0,9, -999.00,9,-999.0000,9,-999.0000,9,-999.0000,9,-999.0000,9,-999.0000,9,-999.0000,9,-999.0000, -999.00
33RR20050106,       P16S,     101,          1,         15,         15,2,20050208,       1001,   -66.0000,  -150.0002,       4358,  1155.8,   0.8588,  34.7162,2,  34.7159,2,    198.1,2,   198.6,2,  120.09,2,   32.33,2,    0.00,2,    2.22,2,   0.061,2,   0.037,2,   0.007,2,  2262.6,2,  2356.9,2,   0.110,2,   1.8990,2,   10.60,2, -999.00,9,  -999.0,9,  -999.0,   8.186,2,   0.011,-999.0000,9,  1155.8,   0.004,   0.7980,     -999.0,9,     -999.0,9,     -999.0,9,     -999.0,9,     -999.0,9,     -999.0,9,     -999.0,9, -999.00,9,-999.0000,9,-999.0000,9,-999.0000,9,-999.0000,9,-999.0000,9,-999.0000,9,   0.0010,    0.19
33RR20050106,       P16S,     101,          1,         14,         14,2,20050208,       1001,   -66.0000,  -150.0002,       4358,  1358.9,   0.7673,  34.7124,2,  34.7116,2,    200.6,2,   201.9,2,  123.01,2,   32.38,2,    0.00,2,    2.22,2,   0.114,2,   0.055,2,   0.017,2,  2262.8,2,  2358.1,2,-999.000,9,-999.0000,9, -999.00,9, -999.00,9,  -999.0,9,  -999.0,-999.000,9,-999.000,  39.1616,2,  1358.9,-999.000,   0.6945,     -999.0,9,     -999.0,9,     -999.0,9,     -999.0,9,     -999.0,9,     -999.0,9,     -999.0,9, -999.00,9,-999.0000,9,-999.0000,9,-999.0000,9,-999.0000,9,-999.0000,9,-999.0000,9,-999.0000, -999.00
33RR20050106,       P16S,     101,          1,         13,         13,2,20050208,       1001,   -66.0000,  -150.0002,       4358,  1561.5,   0.6808,  34.7090,2,  34.7090,2,    202.7,2,   203.5,2,  125.72,2,   32.32,2,    0.00,2,    2.21,2,   0.079,2,   0.037,2,   0.014,2,  2262.4,2,  2358.7,2,   0.144,2,   1.9060,2,   11.28,2, -999.00,9,  -999.0,9,  -999.0,   8.284,2,   0.011,  41.0848,2,  1561.5,   0.009,   0.5956,     -999.0,9,     -999.0,9,     -999.0,9,     -999.0,9,     -999.0,9,     -999.0,9,     -999.0,9, -999.00,9,-999.0000,9,-999.0000,9,-999.0000,9,-999.0000,9,-999.0000,9,-999.0000,9,   0.0010,    0.18
33RR20050106,       P16S,     101,          1,         12,         12,2,20050208,       1001,   -66.0000,  -150.0002,       4358,  1764.2,   0.6064,  34.7069,2,  34.7069,2,    204.4,2,   205.4,2,  127.38,2,   32.32,2,    0.00,2,    2.22,2,   0.085,2,   0.040,2,   0.016,2,  2262.3,2,  2358.1,2,-999.000,9,-999.0000,9, -999.00,9, -999.00,9,  -999.0,9,  -999.0,-999.000,9,-999.000,-999.0000,9,  1764.2,-999.000,   0.5081,     -999.0,9,     -999.0,9,     -999.0,9,     -999.0,9,     -999.0,9,     -999.0,9,     -999.0,9, -999.00,9,-999.0000,9,-999.0000,9,-999.0000,9,-999.0000,9,-999.0000,9,-999.0000,9,-999.0000, -999.00
33RR20050106,       P16S,     101,          1,         11,         11,2,20050208,       1001,   -66.0000,  -150.0002,       4358,  1967.5,   0.5271,  34.7052,2,  34.7045,2,    206.1,2,   207.3,2,  128.40,2,   32.37,2,    0.00,2,    2.22,2,   0.107,2,   0.044,2,   0.016,2,  2262.4,2,  2358.6,2,-999.000,9,   1.9090,2,   10.72,2, -999.00,9,  -999.0,9,  -999.0,   8.234,2,   0.011,  41.5842,2,  1967.5,-999.000,   0.4154,     -999.0,9,     -999.0,9,     -999.0,9,     -999.0,9,     -999.0,9,     -999.0,9,     -999.0,9, -999.00,9,-999.0000,9,-999.0000,9,-999.0000,9,-999.0000,9,-999.0000,9,-999.0000,9,   0.0010,    0.19
33RR20050106,       P16S,     101,          1,         10,         10,2,20050208,       1001,   -66.0000,  -150.0002,       4358,  2129.8,   0.4618,  34.7045,2,  34.7047,2,    207.5,2,   208.8,2,  129.84,2,   32.41,2,    0.00,2,    2.22,2,   0.096,2,   0.048,2,   0.014,2,  2262.2,2,  2358.3,2,   0.063,2,-999.0000,9, -999.00,9, -999.00,9,  -999.0,9,  -999.0,-999.000,9,-999.000,  40.8636,2,  2129.8,   0.004,   0.3391,     -999.0,9,     -999.0,9,     -999.0,9,     -999.0,9,     -999.0,9,     -999.0,9,     -999.0,9, -999.00,9,-999.0000,9,-999.0000,9,-999.0000,9,-999.0000,9,-999.0000,9,-999.0000,9,-999.0000, -999.00
33RR20050106,       P16S,     101,          1,          9,          9,2,20050208,       1001,   -66.0000,  -150.0002,       4358,  2383.8,   0.3803,  34.7037,2,  34.7038,2,    209.6,2,   210.9,2,  131.07,2,   32.46,2,    0.00,2,    2.22,2,   0.173,2,   0.085,2,   0.023,2,  2262.6,2,  2359.5,2,   0.002,2,   2.0360,2,    9.54,2, -999.00,9,  -999.0,9,  -999.0,   8.590,2,   0.012,  42.3220,2,  2383.8,   0.004,   0.2395,     -999.0,9,     -999.0,9,     -999.0,9,     -999.0,9,     -999.0,9,     -999.0,9,     -999.0,9, -999.00,9,-999.0000,9,-999.0000,9,-999.0000,9,-999.0000,9,-999.0000,9,-999.0000,9,   0.0010,    0.19
33RR20050106,       P16S,     101,          1,          8,          8,2,20050208,       1001,   -66.0000,  -150.0002,       4358,  2638.1,   0.3213,  34.7031,2,  34.7022,2,    211.5,2,   212.8,2,  132.31,2,   32.45,2,    0.00,2,    2.22,2,   0.147,2,   0.072,2,   0.018,2,  2263.7,2,  2359.0,2,   0.021,2,-999.0000,9, -999.00,9, -999.00,9,  -999.0,9,  -999.0,-999.000,9,-999.000,-999.0000,9,  2638.1,   0.004,   0.1612,     -999.0,9,     -999.0,9,     -999.0,9,     -999.0,9,     -999.0,9,     -999.0,9,     -999.0,9, -999.00,9,-999.0000,9,-999.0000,9,-999.0000,9,-999.0000,9,-999.0000,9,-999.0000,9,-999.0000, -999.00
33RR20050106,       P16S,     101,          1,          7,          7,2,20050208,       1001,   -66.0000,  -150.0002,       4358,  2893.1,   0.2579,  34.7017,2,  34.7020,2,    214.0,2,   215.2,2,  131.66,2,   32.46,2,    0.00,2,    2.22,2,   0.261,2,   0.124,2,   0.025,2,  2264.1,2,  2358.1,2,   0.001,2,   2.0130,2,    9.28,2, -999.00,9,  -999.0,9,  -999.0,   8.593,2,   0.012,  40.8409,2,  2893.1,   0.005,   0.0778,     -999.0,9,     -999.0,9,     -999.0,9,     -999.0,9,     -999.0,9,     -999.0,9,     -999.0,9, -999.00,9,-999.0000,9,-999.0000,9,-999.0000,9,-999.0000,9,-999.0000,9,-999.0000,9,   0.0010,    0.18
33RR20050106,       P16S,     101,          1,          6,          6,2,20050208,       1001,   -66.0000,  -150.0002,       4358,  3148.0,   0.1935,  34.6991,2,  34.6987,2,    217.2,2,   218.3,2,  128.06,2,   32.30,2,    0.00,2,    2.21,2,   0.498,2,   0.240,2,   0.038,2,  2262.7,2,  2357.6,2,   0.003,2,   1.8710,2,    9.08,2, -999.00,9,  -999.0,9,  -999.0,   8.076,2,   0.011,-999.0000,9,  3148.0,   0.006,  -0.0074,     -999.0,9,     -999.0,9,     -999.0,9,     -999.0,9,     -999.0,9,     -999.0,9,     -999.0,9, -999.00,9,-999.0000,9,-999.0000,9,-999.0000,9,-999.0000,9,-999.0000,9,-999.0000,9,   0.0010,    0.19
33RR20050106,       P16S,     101,          1,          5,          5,2,20050208,       1001,   -66.0000,  -150.0002,       4358,  3455.1,   0.1556,  34.6968,2,  34.6961,2,    220.1,2,   221.1,2,  123.41,2,   32.29,2,    0.00,2,    2.21,2,   0.725,2,   0.368,2,   0.061,2,  2261.8,2,  2355.7,2,   0.007,2,   1.9180,2,    8.63,2, -999.00,9,  -999.0,9,  -999.0,   8.302,2,   0.011,  46.2283,4,  3455.1,   0.006,  -0.0723,     -999.0,9,     -999.0,9,     -999.0,9,     -999.0,9,     -999.0,9,     -999.0,9,     -999.0,9, -999.00,9,-999.0000,9,-999.0000,9,-999.0000,9,-999.0000,9,-999.0000,9,-999.0000,9,   0.0010,    0.18
33RR20050106,       P16S,     101,          1,          4,          4,2,20050208,       1001,   -66.0000,  -150.0002,       4358,  3761.5,   0.1607,  34.6970,2,  34.6951,2,    220.8,2,   221.7,2,  122.75,2,   32.25,2,    0.00,2,    2.22,2,   0.759,2,   0.376,2,   0.048,2,  2263.5,2,  2356.5,2,   0.016,2,-999.0000,9, -999.00,9, -999.00,9,  -999.0,9,  -999.0,-999.000,9,-999.000,-999.0000,9,  3761.5,   0.005,  -0.0966,     -999.0,9,     -999.0,9,     -999.0,9,     -999.0,9,     -999.0,9,     -999.0,9,     -999.0,9, -999.00,9,-999.0000,9,-999.0000,9,-999.0000,9,-999.0000,9,-999.0000,9,-999.0000,9,-999.0000, -999.00
33RR20050106,       P16S,     101,          1,          3,          3,2,20050208,       1001,   -66.0000,  -150.0002,       4358,  4120.0,   0.1871,  34.6974,2,  34.6973,2,    221.2,2,   221.8,2,  123.15,2,   32.29,2,    0.00,2,    2.22,2,   0.747,2,   0.365,2,   0.048,2,  2261.9,2,  2356.3,2,-999.000,9,   1.8820,2,    7.80,2, -999.00,9,  -999.0,9,  -999.0,   8.312,2,   0.011,  41.9902,2,  4120.0,-999.000,  -0.1068,     -999.0,9,     -999.0,9,     -999.0,9,     -999.0,9,     -999.0,9,     -999.0,9,     -999.0,9, -999.00,9,-999.0000,9,-999.0000,9,-999.0000,9,-999.0000,9,-999.0000,9,-999.0000,9,   0.0010,    0.22
33RR20050106,       P16S,     101,          1,          2,          2,2,20050208,       1001,   -66.0000,  -150.0002,       4358,  4315.3,   0.2063,  34.6975,2,  34.6977,2,    221.3,2,   221.5,2,  123.75,2,   32.34,2,    0.00,2,    2.22,2,   0.741,2,   0.357,2,   0.053,2,  2261.2,6,  2355.5,2,   0.020,2,-999.0000,9, -999.00,9, -999.00,9,  -999.0,9,  -999.0,-999.000,9,-999.000,-999.0000,9,  4315.3,   0.006,  -0.1086,     -999.0,9,     -999.0,9,     -999.0,9,     -999.0,9,     -999.0,9,     -999.0,9,     -999.0,9, -999.00,9,-999.0000,9,-999.0000,9,-999.0000,9,-999.0000,9,-999.0000,9,-999.0000,9,-999.0000, -999.00
33RR20050106,       P16S,     101,          1,          1,          1,2,20050208,       1001,   -66.0000,  -150.0002,       4358,  4417.6,   0.2169,  34.6975,2,  34.6969,2,    221.0,2,   222.5,2,  123.94,2,   32.29,2,    0.00,2,    2.22,2,   0.735,6,   0.360,6,   0.046,6,  2261.6,2,  2356.2,6,   0.020,2,-999.0000,9, -999.00,9, -999.00,9,  -999.0,9,  -999.0,-999.000,9,-999.000,  40.2352,2,  4417.6,   0.005,  -0.1092,     -999.0,9,     -999.0,9,     -999.0,9,     -999.0,9,     -999.0,9,     -999.0,9,     -999.0,9, -999.00,9,-999.0000,9,-999.0000,9,-999.0000,9,-999.0000,9,-999.0000,9,-999.0000,9,-999.0000, -999.00