BOTTLE,20201109CCHSIOCBG
EXPOCODE,SECT_ID,STNNBR,CASTNO,SAMPNO,BTLNBR,BTLNBR_FLAG_W,DATE,TIME,LATITUDE,LONGITUDE,DEPTH,CTDPRS,CTDTMP,CTDSAL,CTDSAL_FLAG_W,SALNTY,SALNTY_FLAG_W,CTDOXY,CTDOXY_FLAG_W,OXYGEN,OXYGEN_FLAG_W,SILCAT,SILCAT_FLAG_W,NITRAT,NITRAT_FLAG_W,NITRIT,NITRIT_FLAG_W,PHSPHT,PHSPHT_FLAG_W,CFC-11,CFC-11_FLAG_W,CFC-12,CFC-12_FLAG_W,CFC113,CFC113_FLAG_W,TCARBN,TCARBN_FLAG_W,ALKALI,ALKALI_FLAG_W,TRITUM,TRITUM_FLAG_W,HELIUM,HELIUM_FLAG_W,DELHE3,DELHE3_FLAG_W,DELC13,DELC13_FLAG_W,DELC14,DELC14_FLAG_W,C14ERR,NEON,NEON_FLAG_W,NEONER,DOC,DOC_FLAG_W,CTDRAW,TRITER,THETA,FUCO,FUCO_FLAG_W,RHAM,RHAM_FLAG_W,ARABA,ARABA_FLAG_W,GALA,GALA_FLAG_W,GLUC,GLUC_FLAG_W,MAN,MAN_FLAG_W,DCNS,DCNS_FLAG_W,BRDU,BRDU_FLAG_W,CDOM325,CDOM325_FLAG_W,CDOM340,CDOM340_FLAG_W,CDOM380,CDOM380_FLAG_W,CDOM412,CDOM412_FLAG_W,CDOMSL,CDOMSL_FLAG_W,CDOMSN,CDOMSN_FLAG_W,HELIER,DELHER
,,,,,,,,,,,METERS,DBAR,ITS-90,PSS-78,,PSS-78,,UMOL/KG,,UMOL/KG,,UMOL/KG,,UMOL/KG,,UMOL/KG,,UMOL/KG,,PMOL/KG,,PMOL/KG,,PMOL/KG,,UMOL/KG,,UMOL/KG,,TU,,NMOL/KG,,PERCNT,,/MILLE,,/MILLE,,/MILLE,NMOL/KG,,NMOL/KG,UMOL/KG,,DBAR,TU,DEG C,NMOL/KG,,NMOL/KG,,NMOL/KG,,NMOL/KG,,NMOL/KG,,NMOL/KG,,NMOL/KG,,PMOL/L/H,,1/M,,1/M,,1/M,,1/M,,1/NM,,1/NM,,NMOL/KG,PERCNT
33RR20050106,       P16S,      98,          1,         30,         30,2,20050207,       1232,   -64.4963,  -149.9983,       3569,     4.9,   0.7499,  34.0208,2,  34.0213,2,    340.8,2,   342.9,2,   44.48,2,   24.61,2,    0.27,2,    1.68,2,   5.881,2,   3.216,2,   0.544,2,  2170.7,6,  2300.6,6,-999.000,9,-999.0000,9, -999.00,9, -999.00,9,  -999.0,9,  -999.0,-999.000,9,-999.000,-999.0000,9,     4.9,-999.000,   0.7497,     -999.0,9,     -999.0,9,     -999.0,9,     -999.0,9,     -999.0,9,     -999.0,9,     -999.0,9, -999.00,9,-999.0000,9,-999.0000,9,-999.0000,9,-999.0000,9,-999.0000,9,-999.0000,9,-999.0000, -999.00
33RR20050106,       P16S,      98,          1,         29,         29,2,20050207,       1232,   -64.4963,  -149.9983,       3569,    35.0,   0.7467,  34.0205,2,  34.0207,2,    342.2,2,   341.8,2,   44.46,2,   24.61,2,    0.27,2,    1.69,2,   5.948,2,   3.226,2,   0.529,2,  -999.0,9,  -999.0,9,-999.000,9,-999.0000,9, -999.00,9, -999.00,9,  -999.0,9,  -999.0,-999.000,9,-999.000,-999.0000,9,    35.0,-999.000,   0.7453,     -999.0,9,     -999.0,9,     -999.0,9,     -999.0,9,     -999.0,9,     -999.0,9,     -999.0,9, -999.00,9,-999.0000,9,-999.0000,9,-999.0000,9,-999.0000,9,-999.0000,9,-999.0000,9,-999.0000, -999.00
33RR20050106,       P16S,      98,          1,         28,         28,2,20050207,       1232,   -64.4963,  -149.9983,       3569,    70.4,  -1.6849,  34.1511,2,  34.1530,2,    325.0,2,   326.4,2,   52.31,2,   26.65,2,    0.23,2,    1.89,2,   5.439,2,   2.881,2,   0.479,2,  2195.0,2,  2308.3,2,-999.000,9,-999.0000,9, -999.00,9, -999.00,9,  -999.0,9,  -999.0,-999.000,9,-999.000,-999.0000,9,    70.4,-999.000,  -1.6863,     -999.0,9,     -999.0,9,     -999.0,9,     -999.0,9,     -999.0,9,     -999.0,9,     -999.0,9, -999.00,9,-999.0000,9,-999.0000,9,-999.0000,9,-999.0000,9,-999.0000,9,-999.0000,9,-999.0000, -999.00
33RR20050106,       P16S,      98,          1,         27,         27,2,20050207,       1232,   -64.4963,  -149.9983,       3569,    90.8,  -1.7423,  34.1692,2,  34.1707,2,    323.0,2,   325.3,2,   53.33,2,   26.85,2,    0.25,2,    1.91,2,   5.500,2,   2.985,2,   0.488,2,  2197.8,2,  2309.3,2,-999.000,9,-999.0000,9, -999.00,9, -999.00,9,  -999.0,9,  -999.0,-999.000,9,-999.000,-999.0000,9,    90.8,-999.000,  -1.7441,     -999.0,9,     -999.0,9,     -999.0,9,     -999.0,9,     -999.0,9,     -999.0,9,     -999.0,9, -999.00,9,-999.0000,9,-999.0000,9,-999.0000,9,-999.0000,9,-999.0000,9,-999.0000,9,-999.0000, -999.00
33RR20050106,       P16S,      98,          1,         26,         26,2,20050207,       1232,   -64.4963,  -149.9983,       3569,   115.7,  -1.5502,  34.2260,2,  34.2274,2,    313.6,2,   313.2,2,   57.47,2,   27.64,2,    0.30,2,    1.96,2,   5.177,2,   2.788,2,   0.458,2,  2205.5,2,  2312.8,2,-999.000,9,-999.0000,9, -999.00,9, -999.00,9,  -999.0,9,  -999.0,-999.000,9,-999.000,-999.0000,9,   115.7,-999.000,  -1.5528,     -999.0,9,     -999.0,9,     -999.0,9,     -999.0,9,     -999.0,9,     -999.0,9,     -999.0,9, -999.00,9,-999.0000,9,-999.0000,9,-999.0000,9,-999.0000,9,-999.0000,9,-999.0000,9,-999.0000, -999.00
33RR20050106,       P16S,      98,          1,         25,         25,2,20050207,       1232,   -64.4963,  -149.9983,       3569,   146.1,  -0.0814,  34.4621,2,  34.4286,2,    260.6,2,   249.7,2,   74.51,2,   30.93,2,    0.03,2,    2.12,2,   3.136,2,   1.683,2,   0.276,2,  2232.8,2,  2324.4,2,-999.000,9,-999.0000,9, -999.00,9, -999.00,9,  -999.0,9,  -999.0,-999.000,9,-999.000,-999.0000,9,   146.1,-999.000,  -0.0866,     -999.0,9,     -999.0,9,     -999.0,9,     -999.0,9,     -999.0,9,     -999.0,9,     -999.0,9, -999.00,9,-999.0000,9,-999.0000,9,-999.0000,9,-999.0000,9,-999.0000,9,-999.0000,9,-999.0000, -999.00
33RR20050106,       P16S,      98,          1,         24,         24,2,20050207,       1232,   -64.4963,  -149.9983,       3569,   176.4,   1.1242,  34.6634,2,  34.6675,2,    187.7,2,   184.3,2,   95.17,2,   33.16,2,    0.03,2,    2.29,2,   0.746,2,   0.394,2,   0.063,2,  -999.0,9,  -999.0,9,-999.000,9,-999.0000,9, -999.00,9, -999.00,9,  -999.0,9,  -999.0,-999.000,9,-999.000,-999.0000,9,   176.4,-999.000,   1.1160,     -999.0,9,     -999.0,9,     -999.0,9,     -999.0,9,     -999.0,9,     -999.0,9,     -999.0,9, -999.00,9,-999.0000,9,-999.0000,9,-999.0000,9,-999.0000,9,-999.0000,9,-999.0000,9,-999.0000, -999.00
33RR20050106,       P16S,      98,          1,         23,         23,2,20050207,       1232,   -64.4963,  -149.9983,       3569,   226.5,   1.4130,  34.7257,2,  34.7250,2,    173.7,2,   174.9,2,  101.85,2,   33.18,2,    0.01,2,    2.29,2,   0.195,2,   0.111,2,   0.018,2,  2265.8,2,  2347.4,2,-999.000,9,-999.0000,9, -999.00,9, -999.00,9,  -999.0,9,  -999.0,-999.000,9,-999.000,-999.0000,9,   226.5,-999.000,   1.4019,     -999.0,9,     -999.0,9,     -999.0,9,     -999.0,9,     -999.0,9,     -999.0,9,     -999.0,9, -999.00,9,-999.0000,9,-999.0000,9,-999.0000,9,-999.0000,9,-999.0000,9,-999.0000,9,-999.0000, -999.00
33RR20050106,       P16S,      98,          1,         22,         22,2,20050207,       1232,   -64.4963,  -149.9983,       3569,   277.1,   1.3782,  34.7298,2,  34.7284,2,    175.4,2,   176.7,2,  103.93,2,   33.06,2,    0.01,2,    2.28,2,-999.000,9,-999.000,9,-999.000,9,  2266.0,2,  2349.4,2,-999.000,9,-999.0000,9, -999.00,9, -999.00,9,  -999.0,9,  -999.0,-999.000,9,-999.000,-999.0000,9,   277.1,-999.000,   1.3645,     -999.0,9,     -999.0,9,     -999.0,9,     -999.0,9,     -999.0,9,     -999.0,9,     -999.0,9, -999.00,9,-999.0000,9,-999.0000,9,-999.0000,9,-999.0000,9,-999.0000,9,-999.0000,9,-999.0000, -999.00
33RR20050106,       P16S,      98,          1,         21,         21,2,20050207,       1232,   -64.4963,  -149.9983,       3569,   327.6,   1.3373,  34.7306,2,  34.7292,2,    177.3,2,   178.3,2,  105.38,2,   33.01,2,    0.01,2,    2.27,2,   0.254,2,   0.141,2,   0.023,2,  2266.1,2,  2350.8,2,-999.000,9,-999.0000,9, -999.00,9, -999.00,9,  -999.0,9,  -999.0,-999.000,9,-999.000,-999.0000,9,   327.6,-999.000,   1.3211,     -999.0,9,     -999.0,9,     -999.0,9,     -999.0,9,     -999.0,9,     -999.0,9,     -999.0,9, -999.00,9,-999.0000,9,-999.0000,9,-999.0000,9,-999.0000,9,-999.0000,9,-999.0000,9,-999.0000, -999.00
33RR20050106,       P16S,      98,          1,         20,         20,2,20050207,       1232,   -64.4963,  -149.9983,       3569,   377.6,   1.2924,  34.7305,2,  34.7298,2,    179.3,2,   180.0,2,  107.04,2,   32.86,2,    0.00,2,    2.26,2,-999.000,9,-999.000,9,-999.000,9,  2265.5,2,  2352.5,2,-999.000,9,-999.0000,9, -999.00,9, -999.00,9,  -999.0,9,  -999.0,-999.000,9,-999.000,-999.0000,9,   377.6,-999.000,   1.2737,     -999.0,9,     -999.0,9,     -999.0,9,     -999.0,9,     -999.0,9,     -999.0,9,     -999.0,9, -999.00,9,-999.0000,9,-999.0000,9,-999.0000,9,-999.0000,9,-999.0000,9,-999.0000,9,-999.0000, -999.00
33RR20050106,       P16S,      98,          1,         19,         19,2,20050207,       1232,   -64.4963,  -149.9983,       3569,   428.4,   1.2516,  34.7300,2,  34.7292,2,    181.0,2,   181.4,2,  108.49,2,   32.85,2,    0.00,2,    2.26,2,   0.108,2,   0.059,2,   0.012,2,  2265.5,2,  2351.6,2,-999.000,9,-999.0000,9, -999.00,9, -999.00,9,  -999.0,9,  -999.0,-999.000,9,-999.000,-999.0000,9,   428.4,-999.000,   1.2304,     -999.0,9,     -999.0,9,     -999.0,9,     -999.0,9,     -999.0,9,     -999.0,9,     -999.0,9, -999.00,9,-999.0000,9,-999.0000,9,-999.0000,9,-999.0000,9,-999.0000,9,-999.0000,9,-999.0000, -999.00
33RR20050106,       P16S,      98,          1,         18,         18,2,20050207,       1232,   -64.4963,  -149.9983,       3569,   529.4,   1.1673,  34.7281,2,  34.7282,2,    184.3,2,   184.8,2,  111.20,2,   32.69,2,    0.00,2,    2.24,2,-999.000,9,-999.000,9,-999.000,9,  2265.0,2,  2353.2,2,-999.000,9,-999.0000,9, -999.00,9, -999.00,9,  -999.0,9,  -999.0,-999.000,9,-999.000,-999.0000,9,   529.4,-999.000,   1.1410,     -999.0,9,     -999.0,9,     -999.0,9,     -999.0,9,     -999.0,9,     -999.0,9,     -999.0,9, -999.00,9,-999.0000,9,-999.0000,9,-999.0000,9,-999.0000,9,-999.0000,9,-999.0000,9,-999.0000, -999.00
33RR20050106,       P16S,      98,          1,         17,         17,2,20050207,       1232,   -64.4963,  -149.9983,       3569,   650.3,   1.0842,  34.7255,2,  34.7249,2,    188.1,2,   188.2,2,  113.49,2,   32.63,2,    0.00,2,    2.24,2,   0.152,2,   0.084,2,   0.016,2,  -999.0,9,  -999.0,9,-999.000,9,-999.0000,9, -999.00,9, -999.00,9,  -999.0,9,  -999.0,-999.000,9,-999.000,-999.0000,9,   650.3,-999.000,   1.0516,     -999.0,9,     -999.0,9,     -999.0,9,     -999.0,9,     -999.0,9,     -999.0,9,     -999.0,9, -999.00,9,-999.0000,9,-999.0000,9,-999.0000,9,-999.0000,9,-999.0000,9,-999.0000,9,-999.0000, -999.00
33RR20050106,       P16S,      98,          1,         16,         16,2,20050207,       1232,   -64.4963,  -149.9983,       3569,   751.1,   1.0163,  34.7230,2,  34.7229,2,    190.5,2,   191.4,2,  115.36,2,   32.48,2,    0.00,2,    2.23,2,-999.000,9,-999.000,9,-999.000,9,  -999.0,9,  -999.0,9,-999.000,9,-999.0000,9, -999.00,9, -999.00,9,  -999.0,9,  -999.0,-999.000,9,-999.000,-999.0000,9,   751.1,-999.000,   0.9784,     -999.0,9,     -999.0,9,     -999.0,9,     -999.0,9,     -999.0,9,     -999.0,9,     -999.0,9, -999.00,9,-999.0000,9,-999.0000,9,-999.0000,9,-999.0000,9,-999.0000,9,-999.0000,9,-999.0000, -999.00
33RR20050106,       P16S,      98,          1,         15,         15,2,20050207,       1232,   -64.4963,  -149.9983,       3569,   852.4,   0.9613,  34.7207,2,  34.7209,2,    193.1,2,   193.8,2,  116.81,2,   32.42,2,    0.00,2,    2.23,2,   0.156,2,   0.087,2,   0.022,2,  2262.8,2,  2356.0,2,-999.000,9,-999.0000,9, -999.00,9, -999.00,9,  -999.0,9,  -999.0,-999.000,9,-999.000,-999.0000,9,   852.4,-999.000,   0.9180,     -999.0,9,     -999.0,9,     -999.0,9,     -999.0,9,     -999.0,9,     -999.0,9,     -999.0,9, -999.00,9,-999.0000,9,-999.0000,9,-999.0000,9,-999.0000,9,-999.0000,9,-999.0000,9,-999.0000, -999.00
33RR20050106,       P16S,      98,          1,         14,         14,2,20050207,       1232,   -64.4963,  -149.9983,       3569,   953.5,   0.9019,  34.7182,2,  34.7180,2,    195.7,2,   196.7,2,  117.85,2,   32.36,2,    0.00,2,    2.24,2,-999.000,9,-999.000,9,-999.000,9,  -999.0,9,  -999.0,9,-999.000,9,-999.0000,9, -999.00,9, -999.00,9,  -999.0,9,  -999.0,-999.000,9,-999.000,-999.0000,9,   953.5,-999.000,   0.8531,     -999.0,9,     -999.0,9,     -999.0,9,     -999.0,9,     -999.0,9,     -999.0,9,     -999.0,9, -999.00,9,-999.0000,9,-999.0000,9,-999.0000,9,-999.0000,9,-999.0000,9,-999.0000,9,-999.0000, -999.00
33RR20050106,       P16S,      98,          1,         13,         13,2,20050207,       1232,   -64.4963,  -149.9983,       3569,  1155.4,   0.7999,  34.7141,2,  34.7144,2,    199.0,2,   199.4,2,  121.62,2,   32.31,2,    0.00,2,    2.23,2,   0.125,2,   0.078,2,   0.018,2,  2261.0,2,  2357.2,2,-999.000,9,-999.0000,9, -999.00,9, -999.00,9,  -999.0,9,  -999.0,-999.000,9,-999.000,-999.0000,9,  1155.4,-999.000,   0.7397,     -999.0,9,     -999.0,9,     -999.0,9,     -999.0,9,     -999.0,9,     -999.0,9,     -999.0,9, -999.00,9,-999.0000,9,-999.0000,9,-999.0000,9,-999.0000,9,-999.0000,9,-999.0000,9,-999.0000, -999.00
33RR20050106,       P16S,      98,          1,         12,         12,2,20050207,       1232,   -64.4963,  -149.9983,       3569,  1358.7,   0.7074,  34.7103,2,  34.7099,2,    201.8,2,   202.2,2,  124.54,2,   32.30,2,    0.00,2,    2.23,2,-999.000,9,-999.000,9,-999.000,9,  -999.0,9,  -999.0,9,-999.000,9,-999.0000,9, -999.00,9, -999.00,9,  -999.0,9,  -999.0,-999.000,9,-999.000,-999.0000,9,  1358.7,-999.000,   0.6353,     -999.0,9,     -999.0,9,     -999.0,9,     -999.0,9,     -999.0,9,     -999.0,9,     -999.0,9, -999.00,9,-999.0000,9,-999.0000,9,-999.0000,9,-999.0000,9,-999.0000,9,-999.0000,9,-999.0000, -999.00
33RR20050106,       P16S,      98,          1,         11,         11,2,20050207,       1232,   -64.4963,  -149.9983,       3569,  1561.0,   0.6201,  34.7074,2,  34.7056,2,    203.8,2,   204.6,2,  126.42,2,   32.30,2,    0.00,2,    2.23,2,   0.092,2,   0.053,2,   0.015,2,  2260.5,2,  2358.8,2,-999.000,9,-999.0000,9, -999.00,9, -999.00,9,  -999.0,9,  -999.0,-999.000,9,-999.000,-999.0000,9,  1561.0,-999.000,   0.5356,     -999.0,9,     -999.0,9,     -999.0,9,     -999.0,9,     -999.0,9,     -999.0,9,     -999.0,9, -999.00,9,-999.0000,9,-999.0000,9,-999.0000,9,-999.0000,9,-999.0000,9,-999.0000,9,-999.0000, -999.00
33RR20050106,       P16S,      98,          1,         10,         10,2,20050207,       1232,   -64.4963,  -149.9983,       3569,  1763.7,   0.5444,  34.7057,2,  34.7058,2,    205.7,2,   206.7,2,  127.67,2,   32.31,2,    0.00,2,    2.22,2,-999.000,9,-999.000,9,-999.000,9,  -999.0,9,  -999.0,9,-999.000,9,-999.0000,9, -999.00,9, -999.00,9,  -999.0,9,  -999.0,-999.000,9,-999.000,-999.0000,9,  1763.7,-999.000,   0.4470,     -999.0,9,     -999.0,9,     -999.0,9,     -999.0,9,     -999.0,9,     -999.0,9,     -999.0,9, -999.00,9,-999.0000,9,-999.0000,9,-999.0000,9,-999.0000,9,-999.0000,9,-999.0000,9,-999.0000, -999.00
33RR20050106,       P16S,      98,          1,          9,          9,2,20050207,       1232,   -64.4963,  -149.9983,       3569,  1966.7,   0.4563,  34.7042,2,  34.7046,2,    207.7,2,   208.5,2,  129.12,2,   32.31,2,    0.00,2,    2.23,2,   0.092,2,   0.050,2,   0.017,2,  -999.0,9,  -999.0,9,-999.000,9,-999.0000,9, -999.00,9, -999.00,9,  -999.0,9,  -999.0,-999.000,9,-999.000,-999.0000,9,  1966.7,-999.000,   0.3458,     -999.0,9,     -999.0,9,     -999.0,9,     -999.0,9,     -999.0,9,     -999.0,9,     -999.0,9, -999.00,9,-999.0000,9,-999.0000,9,-999.0000,9,-999.0000,9,-999.0000,9,-999.0000,9,-999.0000, -999.00
33RR20050106,       P16S,      98,          1,          8,          8,2,20050207,       1232,   -64.4963,  -149.9983,       3569,  2128.9,   0.3990,  34.7037,2,  34.7036,2,    209.2,2,   210.2,2,  130.15,2,   32.25,2,    0.00,2,    2.23,2,   0.093,2,   0.049,2,   0.015,2,  2261.0,2,  2358.3,2,-999.000,9,-999.0000,9, -999.00,9, -999.00,9,  -999.0,9,  -999.0,-999.000,9,-999.000,-999.0000,9,  2128.9,-999.000,   0.2774,     -999.0,9,     -999.0,9,     -999.0,9,     -999.0,9,     -999.0,9,     -999.0,9,     -999.0,9, -999.00,9,-999.0000,9,-999.0000,9,-999.0000,9,-999.0000,9,-999.0000,9,-999.0000,9,-999.0000, -999.00
33RR20050106,       P16S,      98,          1,          7,          7,2,20050207,       1232,   -64.4963,  -149.9983,       3569,  2383.4,   0.3173,  34.7026,2,  34.7026,2,    211.5,2,   212.7,2,  131.19,2,   32.19,2,    0.00,2,    2.24,2,   0.169,2,   0.089,2,   0.022,2,  -999.0,9,  -999.0,9,-999.000,9,-999.0000,9, -999.00,9, -999.00,9,  -999.0,9,  -999.0,-999.000,9,-999.000,-999.0000,9,  2383.4,-999.000,   0.1777,     -999.0,9,     -999.0,9,     -999.0,9,     -999.0,9,     -999.0,9,     -999.0,9,     -999.0,9, -999.00,9,-999.0000,9,-999.0000,9,-999.0000,9,-999.0000,9,-999.0000,9,-999.0000,9,-999.0000, -999.00
33RR20050106,       P16S,      98,          1,          6,          6,2,20050207,       1232,   -64.4963,  -149.9983,       3569,  2637.9,   0.2343,  34.7001,2,  34.7005,2,    214.7,2,   215.8,2,  129.06,2,   32.24,2,    0.00,2,    2.24,2,   0.376,2,   0.195,2,   0.032,2,  2260.2,2,  2357.5,2,-999.000,9,-999.0000,9, -999.00,9, -999.00,9,  -999.0,9,  -999.0,-999.000,9,-999.000,-999.0000,9,  2637.9,-999.000,   0.0760,     -999.0,9,     -999.0,9,     -999.0,9,     -999.0,9,     -999.0,9,     -999.0,9,     -999.0,9, -999.00,9,-999.0000,9,-999.0000,9,-999.0000,9,-999.0000,9,-999.0000,9,-999.0000,9,-999.0000, -999.00
33RR20050106,       P16S,      98,          1,          5,          5,2,20050207,       1232,   -64.4963,  -149.9983,       3569,  2892.4,   0.1761,  34.6969,2,  34.6971,2,    218.0,2,   218.8,2,  125.05,2,   32.13,2,    0.00,2,    2.23,2,   0.674,2,   0.347,2,   0.054,2,  -999.0,9,  -999.0,9,-999.000,9,-999.0000,9, -999.00,9, -999.00,9,  -999.0,9,  -999.0,-999.000,9,-999.000,-999.0000,9,  2892.4,-999.000,  -0.0022,     -999.0,9,     -999.0,9,     -999.0,9,     -999.0,9,     -999.0,9,     -999.0,9,     -999.0,9, -999.00,9,-999.0000,9,-999.0000,9,-999.0000,9,-999.0000,9,-999.0000,9,-999.0000,9,-999.0000, -999.00
33RR20050106,       P16S,      98,          1,          4,          4,2,20050207,       1232,   -64.4963,  -149.9983,       3569,  3147.8,   0.1667,  34.6960,2,  34.6954,2,    219.3,2,   220.1,2,  123.77,2,   32.08,2,    0.00,2,    2.23,2,   0.760,2,   0.390,2,   0.063,2,  2259.5,2,  2356.6,2,-999.000,9,-999.0000,9, -999.00,9, -999.00,9,  -999.0,9,  -999.0,-999.000,9,-999.000,-999.0000,9,  3147.8,-999.000,  -0.0335,     -999.0,9,     -999.0,9,     -999.0,9,     -999.0,9,     -999.0,9,     -999.0,9,     -999.0,9, -999.00,9,-999.0000,9,-999.0000,9,-999.0000,9,-999.0000,9,-999.0000,9,-999.0000,9,-999.0000, -999.00
33RR20050106,       P16S,      98,          1,          3,          3,2,20050207,       1232,   -64.4963,  -149.9983,       3569,  3351.9,   0.1763,  34.6959,2,  34.6964,2,    219.7,2,   220.4,2,  123.33,2,   32.13,2,    0.00,2,    2.23,2,   0.756,2,   0.383,2,   0.062,2,  -999.0,9,  -999.0,9,-999.000,9,-999.0000,9, -999.00,9, -999.00,9,  -999.0,9,  -999.0,-999.000,9,-999.000,-999.0000,9,  3351.9,-999.000,  -0.0426,     -999.0,9,     -999.0,9,     -999.0,9,     -999.0,9,     -999.0,9,     -999.0,9,     -999.0,9, -999.00,9,-999.0000,9,-999.0000,9,-999.0000,9,-999.0000,9,-999.0000,9,-999.0000,9,-999.0000, -999.00
33RR20050106,       P16S,      98,          1,          2,          2,2,20050207,       1232,   -64.4963,  -149.9983,       3569,  3494.7,   0.1869,  34.6959,2,  34.6966,2,    219.9,2,   220.3,2,  123.72,2,   32.13,2,    0.00,2,    2.23,2,   0.783,2,   0.400,2,   0.064,2,  2259.4,2,  2356.6,2,-999.000,9,-999.0000,9, -999.00,9, -999.00,9,  -999.0,9,  -999.0,-999.000,9,-999.000,-999.0000,9,  3494.7,-999.000,  -0.0455,     -999.0,9,     -999.0,9,     -999.0,9,     -999.0,9,     -999.0,9,     -999.0,9,     -999.0,9, -999.00,9,-999.0000,9,-999.0000,9,-999.0000,9,-999.0000,9,-999.0000,9,-999.0000,9,-999.0000, -999.00
33RR20050106,       P16S,      98,          1,          1,          1,2,20050207,       1232,   -64.4963,  -149.9983,       3569,  3600.9,   0.1944,  34.6960,2,  34.6964,2,    219.9,2,   221.1,2,  124.12,2,   32.17,2,    0.00,2,    2.25,2,   0.768,2,   0.397,2,   0.067,2,  2259.4,6,  2356.5,6,-999.000,9,-999.0000,9, -999.00,9, -999.00,9,  -999.0,9,  -999.0,-999.000,9,-999.000,-999.0000,9,  3600.9,-999.000,  -0.0483,     -999.0,9,     -999.0,9,     -999.0,9,     -999.0,9,     -999.0,9,     -999.0,9,     -999.0,9, -999.00,9,-999.0000,9,-999.0000,9,-999.0000,9,-999.0000,9,-999.0000,9,-999.0000,9,-999.0000, -999.00