BOTTLE,20201109CCHSIOCBG
EXPOCODE,SECT_ID,STNNBR,CASTNO,SAMPNO,BTLNBR,BTLNBR_FLAG_W,DATE,TIME,LATITUDE,LONGITUDE,DEPTH,CTDPRS,CTDTMP,CTDSAL,CTDSAL_FLAG_W,SALNTY,SALNTY_FLAG_W,CTDOXY,CTDOXY_FLAG_W,OXYGEN,OXYGEN_FLAG_W,SILCAT,SILCAT_FLAG_W,NITRAT,NITRAT_FLAG_W,NITRIT,NITRIT_FLAG_W,PHSPHT,PHSPHT_FLAG_W,CFC-11,CFC-11_FLAG_W,CFC-12,CFC-12_FLAG_W,CFC113,CFC113_FLAG_W,TCARBN,TCARBN_FLAG_W,ALKALI,ALKALI_FLAG_W,TRITUM,TRITUM_FLAG_W,HELIUM,HELIUM_FLAG_W,DELHE3,DELHE3_FLAG_W,DELC13,DELC13_FLAG_W,DELC14,DELC14_FLAG_W,C14ERR,NEON,NEON_FLAG_W,NEONER,DOC,DOC_FLAG_W,CTDRAW,TRITER,THETA,FUCO,FUCO_FLAG_W,RHAM,RHAM_FLAG_W,ARABA,ARABA_FLAG_W,GALA,GALA_FLAG_W,GLUC,GLUC_FLAG_W,MAN,MAN_FLAG_W,DCNS,DCNS_FLAG_W,BRDU,BRDU_FLAG_W,CDOM325,CDOM325_FLAG_W,CDOM340,CDOM340_FLAG_W,CDOM380,CDOM380_FLAG_W,CDOM412,CDOM412_FLAG_W,CDOMSL,CDOMSL_FLAG_W,CDOMSN,CDOMSN_FLAG_W,HELIER,DELHER
,,,,,,,,,,,METERS,DBAR,ITS-90,PSS-78,,PSS-78,,UMOL/KG,,UMOL/KG,,UMOL/KG,,UMOL/KG,,UMOL/KG,,UMOL/KG,,PMOL/KG,,PMOL/KG,,PMOL/KG,,UMOL/KG,,UMOL/KG,,TU,,NMOL/KG,,PERCNT,,/MILLE,,/MILLE,,/MILLE,NMOL/KG,,NMOL/KG,UMOL/KG,,DBAR,TU,DEG C,NMOL/KG,,NMOL/KG,,NMOL/KG,,NMOL/KG,,NMOL/KG,,NMOL/KG,,NMOL/KG,,PMOL/L/H,,1/M,,1/M,,1/M,,1/M,,1/NM,,1/NM,,NMOL/KG,PERCNT
33RR20050106,       P16S,      33,          2,         36,         36,2,20050119,       0553,   -32.0005,  -149.9975,       4697,     1.9,  22.8903,  35.4488,2,  35.4573,2,    215.5,2,   215.7,2,    0.44,2,    0.07,2,    0.00,2,    0.08,2,   2.076,2,   1.239,2,   0.232,2,  2030.2,6,  2325.9,6,-999.000,9,-999.0000,9, -999.00,9, -999.00,9,  -999.0,9,  -999.0,-999.000,9,-999.000,  63.0110,2,     1.9,-999.000,  22.8899,     -999.0,9,     -999.0,9,     -999.0,9,     -999.0,9,     -999.0,9,     -999.0,9,     -999.0,9, -999.00,9,-999.0000,9,-999.0000,9,-999.0000,9,-999.0000,9,-999.0000,9,-999.0000,9,-999.0000, -999.00
33RR20050106,       P16S,      33,          2,         35,         35,2,20050119,       0553,   -32.0005,  -149.9975,       4697,    46.9,  19.3449,  35.5560,2,  35.5572,2,    237.4,2,   237.8,2,    0.44,2,    0.08,2,    0.00,2,    0.08,2,   2.560,2,   1.436,2,   0.252,2,  2043.6,2,  2327.9,2,-999.000,9,-999.0000,9, -999.00,9, -999.00,9,  -999.0,9,  -999.0,-999.000,9,-999.000,  59.3869,2,    46.9,-999.000,  19.3364,     -999.0,9,     -999.0,9,     -999.0,9,     -999.0,9,     -999.0,9,     -999.0,9,     -999.0,9, -999.00,9,-999.0000,9,-999.0000,9,-999.0000,9,-999.0000,9,-999.0000,9,-999.0000,9,-999.0000, -999.00
33RR20050106,       P16S,      33,          2,         34,         34,2,20050119,       0553,   -32.0005,  -149.9975,       4697,    91.9,  17.6128,  35.4785,2,  35.4789,2,    243.2,2,   241.2,2,    0.45,2,    0.08,2,    0.00,2,    0.09,2,   2.646,2,   1.522,2,   0.223,2,  2045.4,2,  2324.3,2,-999.000,9,-999.0000,9, -999.00,9, -999.00,9,  -999.0,9,  -999.0,-999.000,9,-999.000,  59.7033,2,    91.9,-999.000,  17.5972,     -999.0,9,     -999.0,9,     -999.0,9,     -999.0,9,     -999.0,9,     -999.0,9,     -999.0,9, -999.00,9,-999.0000,9,-999.0000,9,-999.0000,9,-999.0000,9,-999.0000,9,-999.0000,9,-999.0000, -999.00
33RR20050106,       P16S,      33,          2,         33,         33,2,20050119,       0553,   -32.0005,  -149.9975,       4697,   141.9,  16.4884,  35.4122,2,  35.4120,2,    230.5,2,   221.3,2,    0.65,2,    1.39,2,    0.09,2,    0.22,2,   2.692,2,   1.541,2,   0.184,2,  2067.7,2,  2322.6,2,-999.000,9,-999.0000,9, -999.00,9, -999.00,9,  -999.0,9,  -999.0,-999.000,9,-999.000,  54.7754,2,   141.9,-999.000,  16.4654,     -999.0,9,     -999.0,9,     -999.0,9,     -999.0,9,     -999.0,9,     -999.0,9,     -999.0,9, -999.00,9,-999.0000,9,-999.0000,9,-999.0000,9,-999.0000,9,-999.0000,9,-999.0000,9,-999.0000, -999.00
33RR20050106,       P16S,      33,          2,         32,         32,2,20050119,       0553,   -32.0005,  -149.9975,       4697,   192.2,  15.4592,  35.2822,2,  35.2888,2,    209.6,2,   211.7,2,    1.05,2,    3.71,2,    0.09,2,    0.37,2,   2.798,2,   1.587,2,   0.158,2,  2081.8,2,  2314.3,2,-999.000,9,-999.0000,9, -999.00,9, -999.00,9,  -999.0,9,  -999.0,-999.000,9,-999.000,  52.1357,2,   192.2,-999.000,  15.4294,     -999.0,9,     -999.0,9,     -999.0,9,     -999.0,9,     -999.0,9,     -999.0,9,     -999.0,9, -999.00,9,-999.0000,9,-999.0000,9,-999.0000,9,-999.0000,9,-999.0000,9,-999.0000,9,-999.0000, -999.00
33RR20050106,       P16S,      33,          2,         31,         31,2,20050119,       0553,   -32.0005,  -149.9975,       4697,   242.4,  13.9313,  35.1364,2,  35.1383,2,    204.9,2,   200.8,2,    1.84,2,    7.85,2,    0.00,2,    0.64,2,   2.873,2,   1.572,2,   0.105,2,  2101.9,2,  2306.3,2,-999.000,9,-999.0000,9, -999.00,9, -999.00,9,  -999.0,9,  -999.0,-999.000,9,-999.000,  46.5927,2,   242.4,-999.000,  13.8963,     -999.0,9,     -999.0,9,     -999.0,9,     -999.0,9,     -999.0,9,     -999.0,9,     -999.0,9, -999.00,9,-999.0000,9,-999.0000,9,-999.0000,9,-999.0000,9,-999.0000,9,-999.0000,9,-999.0000, -999.00
33RR20050106,       P16S,      33,          2,         30,         30,2,20050119,       0553,   -32.0005,  -149.9975,       4697,   292.5,  12.8292,  35.0227,2,-999.0000,9,    203.3,2,   202.6,2,    2.43,2,   10.07,2,    0.00,2,    0.77,2,   2.965,2,   1.570,2,   0.109,2,  2110.9,2,  2300.7,2,-999.000,9,-999.0000,9, -999.00,9, -999.00,9,  -999.0,9,  -999.0,-999.000,9,-999.000,  43.9881,2,   292.5,-999.000,  12.7892,     -999.0,9,     -999.0,9,     -999.0,9,     -999.0,9,     -999.0,9,     -999.0,9,     -999.0,9, -999.00,9,-999.0000,9,-999.0000,9,-999.0000,9,-999.0000,9,-999.0000,9,-999.0000,9,-999.0000, -999.00
33RR20050106,       P16S,      33,          2,         29,         29,2,20050119,       0553,   -32.0005,  -149.9975,       4697,   342.6,  11.2452,  34.8260,2,-999.0000,9,    207.3,2,   206.4,2,    3.03,2,   13.28,2,    0.00,2,    0.98,2,   3.011,2,   1.587,2,   0.142,2,  2121.1,2,  2292.4,2,-999.000,9,-999.0000,9, -999.00,9, -999.00,9,  -999.0,9,  -999.0,-999.000,9,-999.000,  42.9070,2,   342.6,-999.000,  11.2022,     -999.0,9,     -999.0,9,     -999.0,9,     -999.0,9,     -999.0,9,     -999.0,9,     -999.0,9, -999.00,9,-999.0000,9,-999.0000,9,-999.0000,9,-999.0000,9,-999.0000,9,-999.0000,9,-999.0000, -999.00
33RR20050106,       P16S,      33,          2,         28,         28,2,20050119,       0553,   -32.0005,  -149.9975,       4697,   392.9,   9.4020,  34.6016,2,-999.0000,9,    215.3,2,   217.0,2,    3.82,2,   16.65,2,    0.00,2,    1.18,2,   3.199,2,   1.605,2,   0.179,2,  2127.1,2,  2284.9,2,-999.000,9,-999.0000,9, -999.00,9, -999.00,9,  -999.0,9,  -999.0,-999.000,9,-999.000,  44.3633,2,   392.9,-999.000,   9.3579,     -999.0,9,     -999.0,9,     -999.0,9,     -999.0,9,     -999.0,9,     -999.0,9,     -999.0,9, -999.00,9,-999.0000,9,-999.0000,9,-999.0000,9,-999.0000,9,-999.0000,9,-999.0000,9,-999.0000, -999.00
33RR20050106,       P16S,      33,          2,         27,         27,2,20050119,       0553,   -32.0005,  -149.9975,       4697,   443.2,   8.3843,  34.5018,2,-999.0000,9,    225.2,2,   227.9,2,    4.42,2,   18.56,2,    0.00,2,    1.30,2,   3.399,2,   1.723,2,   0.190,2,  2135.6,2,  2281.1,2,-999.000,9,-999.0000,9, -999.00,9, -999.00,9,  -999.0,9,  -999.0,-999.000,9,-999.000,  44.2568,2,   443.2,-999.000,   8.3378,     -999.0,9,     -999.0,9,     -999.0,9,     -999.0,9,     -999.0,9,     -999.0,9,     -999.0,9, -999.00,9,-999.0000,9,-999.0000,9,-999.0000,9,-999.0000,9,-999.0000,9,-999.0000,9,-999.0000, -999.00
33RR20050106,       P16S,      33,          2,         26,         26,2,20050119,       0553,   -32.0005,  -149.9975,       4697,   493.7,   7.8201,  34.4528,2,-999.0000,9,    233.4,2,   234.9,2,    4.81,2,   19.66,2,    0.00,2,    1.37,2,   3.637,2,   1.767,2,   0.218,2,  2134.9,2,  2279.4,2,-999.000,9,-999.0000,9, -999.00,9, -999.00,9,  -999.0,9,  -999.0,-999.000,9,-999.000,  42.9532,2,   493.7,-999.000,   7.7702,     -999.0,9,     -999.0,9,     -999.0,9,     -999.0,9,     -999.0,9,     -999.0,9,     -999.0,9, -999.00,9,-999.0000,9,-999.0000,9,-999.0000,9,-999.0000,9,-999.0000,9,-999.0000,9,-999.0000, -999.00
33RR20050106,       P16S,      33,          2,         25,         25,2,20050119,       0553,   -32.0005,  -149.9975,       4697,   579.0,   7.2775,  34.4154,2,  34.4155,2,    239.4,2,   237.6,2,    6.01,2,   21.35,2,    0.00,2,    1.47,2,   3.248,2,   1.598,2,   0.201,2,  2137.2,2,  2279.2,2,-999.000,9,-999.0000,9, -999.00,9, -999.00,9,  -999.0,9,  -999.0,-999.000,9,-999.000,  42.3064,2,   579.0,-999.000,   7.2211,     -999.0,9,     -999.0,9,     -999.0,9,     -999.0,9,     -999.0,9,     -999.0,9,     -999.0,9, -999.00,9,-999.0000,9,-999.0000,9,-999.0000,9,-999.0000,9,-999.0000,9,-999.0000,9,-999.0000, -999.00
33RR20050106,       P16S,      33,          2,         24,         24,2,20050119,       0553,   -32.0005,  -149.9975,       4697,   679.1,   6.7353,  34.3720,2,  34.3728,2,    240.4,2,   241.0,2,    7.59,2,   22.66,2,    0.00,2,    1.56,2,   2.855,2,   1.327,2,   0.151,2,  2140.6,6,  2280.5,2,-999.000,9,-999.0000,9, -999.00,9, -999.00,9,  -999.0,9,  -999.0,-999.000,9,-999.000,  42.0076,2,   679.1,-999.000,   6.6715,     -999.0,9,     -999.0,9,     -999.0,9,     -999.0,9,     -999.0,9,     -999.0,9,     -999.0,9, -999.00,9,-999.0000,9,-999.0000,9,-999.0000,9,-999.0000,9,-999.0000,9,-999.0000,9,-999.0000, -999.00
33RR20050106,       P16S,      33,          2,         23,         23,2,20050119,       0553,   -32.0005,  -149.9975,       4697,   779.7,   6.1891,  34.3391,2,  34.3401,2,    232.3,2,   233.3,2,   10.56,2,   24.64,2,    0.00,2,    1.69,2,   1.976,2,   0.996,2,   0.093,2,  2148.0,2,  2280.5,2,-999.000,9,-999.0000,9, -999.00,9, -999.00,9,  -999.0,9,  -999.0,-999.000,9,-999.000,  42.4470,2,   779.7,-999.000,   6.1185,     -999.0,9,     -999.0,9,     -999.0,9,     -999.0,9,     -999.0,9,     -999.0,9,     -999.0,9, -999.00,9,-999.0000,9,-999.0000,9,-999.0000,9,-999.0000,9,-999.0000,9,-999.0000,9,-999.0000, -999.00
33RR20050106,       P16S,      33,          2,         22,         22,2,20050119,       0553,   -32.0005,  -149.9975,       4697,   880.7,   5.6426,  34.3136,2,  34.3142,2,    222.3,2,   225.4,2,   14.14,2,   26.51,2,    0.00,2,    1.84,2,   1.117,2,   0.581,2,   0.043,2,  2159.1,2,  2281.5,2,-999.000,9,-999.0000,9, -999.00,9, -999.00,9,  -999.0,9,  -999.0,-999.000,9,-999.000,  38.8962,2,   880.7,-999.000,   5.5659,     -999.0,9,     -999.0,9,     -999.0,9,     -999.0,9,     -999.0,9,     -999.0,9,     -999.0,9, -999.00,9,-999.0000,9,-999.0000,9,-999.0000,9,-999.0000,9,-999.0000,9,-999.0000,9,-999.0000, -999.00
33RR20050106,       P16S,      33,          2,         21,         21,2,20050119,       0553,   -32.0005,  -149.9975,       4697,   981.5,   5.0497,  34.3160,2,  34.3169,2,    209.6,2,   211.4,2,   21.69,2,   28.88,2,    0.00,2,    2.00,2,   0.760,2,   0.387,2,   0.040,2,  2175.8,2,  2287.9,2,-999.000,9,-999.0000,9, -999.00,9, -999.00,9,  -999.0,9,  -999.0,-999.000,9,-999.000,-999.0000,9,   981.5,-999.000,   4.9680,     -999.0,9,     -999.0,9,     -999.0,9,     -999.0,9,     -999.0,9,     -999.0,9,     -999.0,9, -999.00,9,-999.0000,9,-999.0000,9,-999.0000,9,-999.0000,9,-999.0000,9,-999.0000,9,-999.0000, -999.00
33RR20050106,       P16S,      33,          2,         20,         20,2,20050119,       0553,   -32.0005,  -149.9975,       4697,  1081.7,   4.4140,  34.3341,2,  34.3340,2,    197.7,2,   198.5,2,   31.25,2,   31.03,2,    0.00,2,    2.15,2,   0.441,2,   0.238,2,   0.036,2,  2195.3,2,  2295.9,2,-999.000,9,-999.0000,9, -999.00,9, -999.00,9,  -999.0,9,  -999.0,-999.000,9,-999.000,  39.0779,2,  1081.7,-999.000,   4.3284,     -999.0,9,     -999.0,9,     -999.0,9,     -999.0,9,     -999.0,9,     -999.0,9,     -999.0,9, -999.00,9,-999.0000,9,-999.0000,9,-999.0000,9,-999.0000,9,-999.0000,9,-999.0000,9,-999.0000, -999.00
33RR20050106,       P16S,      33,          2,         19,         19,2,20050119,       0553,   -32.0005,  -149.9975,       4697,  1182.7,   3.7553,  34.3806,2,  34.3810,2,    186.0,2,   184.7,2,   44.65,2,   32.92,2,    0.00,2,    2.30,2,   0.187,2,   0.108,2,   0.001,2,  2218.1,2,  2309.9,2,-999.000,9,-999.0000,9, -999.00,9, -999.00,9,  -999.0,9,  -999.0,-999.000,9,-999.000,-999.0000,9,  1182.7,-999.000,   3.6666,     -999.0,9,     -999.0,9,     -999.0,9,     -999.0,9,     -999.0,9,     -999.0,9,     -999.0,9, -999.00,9,-999.0000,9,-999.0000,9,-999.0000,9,-999.0000,9,-999.0000,9,-999.0000,9,-999.0000, -999.00
33RR20050106,       P16S,      33,          2,         18,         18,2,20050119,       0553,   -32.0005,  -149.9975,       4697,  1283.9,   3.3689,  34.4223,2,  34.4233,2,    179.9,2,   177.3,2,   54.49,2,   33.79,2,    0.00,2,    2.37,2,-999.000,9,-999.000,9,-999.000,9,  2231.0,2,  2319.5,6,-999.000,9,-999.0000,9, -999.00,9, -999.00,9,  -999.0,9,  -999.0,-999.000,9,-999.000,-999.0000,9,  1283.9,-999.000,   3.2754,     -999.0,9,     -999.0,9,     -999.0,9,     -999.0,9,     -999.0,9,     -999.0,9,     -999.0,9, -999.00,9,-999.0000,9,-999.0000,9,-999.0000,9,-999.0000,9,-999.0000,9,-999.0000,9,-999.0000, -999.00
33RR20050106,       P16S,      33,          2,         17,         17,2,20050119,       0553,   -32.0005,  -149.9975,       4697,  1385.0,   3.0357,  34.4766,2,  34.4772,2,    170.0,2,   169.5,2,   66.18,2,   34.46,2,    0.00,2,    2.42,2,   0.074,2,   0.039,2,   0.001,2,  2247.9,2,  2332.6,2,-999.000,9,-999.0000,9, -999.00,9, -999.00,9,  -999.0,9,  -999.0,-999.000,9,-999.000,  38.3864,2,  1385.0,-999.000,   2.9372,     -999.0,9,     -999.0,9,     -999.0,9,     -999.0,9,     -999.0,9,     -999.0,9,     -999.0,9, -999.00,9,-999.0000,9,-999.0000,9,-999.0000,9,-999.0000,9,-999.0000,9,-999.0000,9,-999.0000, -999.00
33RR20050106,       P16S,      33,          2,         16,         16,2,20050119,       0553,   -32.0005,  -149.9975,       4697,  1486.4,   2.8238,  34.5149,2,  34.5156,2,    164.8,2,   165.9,2,   73.44,2,   34.56,2,    0.00,2,    2.44,2,-999.000,9,-999.000,9,-999.000,9,  2256.3,2,  2339.4,2,-999.000,9,-999.0000,9, -999.00,9, -999.00,9,  -999.0,9,  -999.0,-999.000,9,-999.000,-999.0000,9,  1486.4,-999.000,   2.7192,     -999.0,9,     -999.0,9,     -999.0,9,     -999.0,9,     -999.0,9,     -999.0,9,     -999.0,9, -999.00,9,-999.0000,9,-999.0000,9,-999.0000,9,-999.0000,9,-999.0000,9,-999.0000,9,-999.0000, -999.00
33RR20050106,       P16S,      33,          2,         15,         15,2,20050119,       0553,   -32.0005,  -149.9975,       4697,  1588.0,   2.6530,  34.5552,2,  34.5552,2,    160.3,2,   161.0,2,   82.96,2,   34.84,2,    0.00,2,    2.46,2,   0.016,2,   0.018,2,   0.001,2,  2266.3,2,  2350.4,2,-999.000,9,-999.0000,9, -999.00,9, -999.00,9,  -999.0,9,  -999.0,-999.000,9,-999.000,-999.0000,9,  1588.0,-999.000,   2.5420,     -999.0,9,     -999.0,9,     -999.0,9,     -999.0,9,     -999.0,9,     -999.0,9,     -999.0,9, -999.00,9,-999.0000,9,-999.0000,9,-999.0000,9,-999.0000,9,-999.0000,9,-999.0000,9,-999.0000, -999.00
33RR20050106,       P16S,      33,          2,         14,         14,2,20050119,       0553,   -32.0005,  -149.9975,       4697,  1689.1,   2.5274,  34.5830,2,  34.5835,2,    157.1,2,   157.6,2,   90.86,2,   34.94,2,    0.00,2,    2.47,2,-999.000,9,-999.000,9,-999.000,9,  2274.5,2,  2360.7,2,-999.000,9,-999.0000,9, -999.00,9, -999.00,9,  -999.0,9,  -999.0,-999.000,9,-999.000,  36.3912,2,  1689.1,-999.000,   2.4096,     -999.0,9,     -999.0,9,     -999.0,9,     -999.0,9,     -999.0,9,     -999.0,9,     -999.0,9, -999.00,9,-999.0000,9,-999.0000,9,-999.0000,9,-999.0000,9,-999.0000,9,-999.0000,9,-999.0000, -999.00
33RR20050106,       P16S,      33,          2,         13,         13,2,20050119,       0553,   -32.0005,  -149.9975,       4697,  1789.8,   2.3727,  34.6095,2,  34.6095,2,    153.9,2,   153.8,2,  100.61,2,   35.22,2,    0.00,2,    2.48,2,  -0.003,2,  -0.001,2,   0.001,2,  2285.8,2,  2372.5,2,-999.000,9,-999.0000,9, -999.00,9, -999.00,9,  -999.0,9,  -999.0,-999.000,9,-999.000,-999.0000,9,  1789.8,-999.000,   2.2485,     -999.0,9,     -999.0,9,     -999.0,9,     -999.0,9,     -999.0,9,     -999.0,9,     -999.0,9, -999.00,9,-999.0000,9,-999.0000,9,-999.0000,9,-999.0000,9,-999.0000,9,-999.0000,9,-999.0000, -999.00
33RR20050106,       P16S,      33,          2,         12,         12,2,20050119,       0553,   -32.0005,  -149.9975,       4697,  1890.9,   2.2769,  34.6231,2,  34.6231,2,    152.0,2,   152.3,2,  105.50,2,   35.27,2,    0.00,2,    2.50,2,-999.000,9,-999.000,9,-999.000,9,  2291.4,2,  2378.2,2,-999.000,9,-999.0000,9, -999.00,9, -999.00,9,  -999.0,9,  -999.0,-999.000,9,-999.000,  36.6403,2,  1890.9,-999.000,   2.1455,     -999.0,9,     -999.0,9,     -999.0,9,     -999.0,9,     -999.0,9,     -999.0,9,     -999.0,9, -999.00,9,-999.0000,9,-999.0000,9,-999.0000,9,-999.0000,9,-999.0000,9,-999.0000,9,-999.0000, -999.00
33RR20050106,       P16S,      33,          2,         11,         11,2,20050119,       0553,   -32.0005,  -149.9975,       4697,  1992.1,   2.1870,  34.6330,2,  34.6331,2,    150.8,2,   151.2,2,  110.18,2,   35.49,2,    0.00,2,    2.51,2,   0.000,2,   0.006,2,   0.001,2,  2295.9,2,  2384.1,2,-999.000,9,-999.0000,9, -999.00,9, -999.00,9,  -999.0,9,  -999.0,-999.000,9,-999.000,-999.0000,9,  1992.1,-999.000,   2.0484,     -999.0,9,     -999.0,9,     -999.0,9,     -999.0,9,     -999.0,9,     -999.0,9,     -999.0,9, -999.00,9,-999.0000,9,-999.0000,9,-999.0000,9,-999.0000,9,-999.0000,9,-999.0000,9,-999.0000, -999.00
33RR20050106,       P16S,      33,          2,         10,         10,2,20050119,       0553,   -32.0005,  -149.9975,       4697,  2195.1,   2.0443,  34.6460,2,  34.6460,2,    149.3,2,   149.6,2,  117.52,2,   35.71,2,    0.00,2,    2.52,2,-999.000,9,-999.000,9,-999.000,9,  2303.8,2,  2392.1,2,-999.000,9,-999.0000,9, -999.00,9, -999.00,9,  -999.0,9,  -999.0,-999.000,9,-999.000,  36.4499,2,  2195.1,-999.000,   1.8904,     -999.0,9,     -999.0,9,     -999.0,9,     -999.0,9,     -999.0,9,     -999.0,9,     -999.0,9, -999.00,9,-999.0000,9,-999.0000,9,-999.0000,9,-999.0000,9,-999.0000,9,-999.0000,9,-999.0000, -999.00
33RR20050106,       P16S,      33,          2,          9,          9,2,20050119,       0553,   -32.0005,  -149.9975,       4697,  2449.2,   1.9179,  34.6565,2,  34.6572,2,    149.0,2,   149.6,2,  123.64,2,   35.75,2,    0.00,2,    2.53,2,   0.035,3,   0.025,3,   0.001,2,  2310.4,2,  2398.1,2,-999.000,9,-999.0000,9, -999.00,9, -999.00,9,  -999.0,9,  -999.0,-999.000,9,-999.000,-999.0000,9,  2449.2,-999.000,   1.7437,     -999.0,9,     -999.0,9,     -999.0,9,     -999.0,9,     -999.0,9,     -999.0,9,     -999.0,9, -999.00,9,-999.0000,9,-999.0000,9,-999.0000,9,-999.0000,9,-999.0000,9,-999.0000,9,-999.0000, -999.00
33RR20050106,       P16S,      33,          2,          8,          8,2,20050119,       0553,   -32.0005,  -149.9975,       4697,  2702.9,   1.8088,  34.6661,2,  34.6666,2,    150.8,2,   151.2,2,  127.12,2,   35.70,2,    0.00,2,    2.52,2,-999.000,9,-999.000,9,-999.000,9,  2312.4,2,  2401.7,2,-999.000,9,-999.0000,9, -999.00,9, -999.00,9,  -999.0,9,  -999.0,-999.000,9,-999.000,  35.6558,2,  2702.9,-999.000,   1.6134,     -999.0,9,     -999.0,9,     -999.0,9,     -999.0,9,     -999.0,9,     -999.0,9,     -999.0,9, -999.00,9,-999.0000,9,-999.0000,9,-999.0000,9,-999.0000,9,-999.0000,9,-999.0000,9,-999.0000, -999.00
33RR20050106,       P16S,      33,          2,          7,          7,2,20050119,       0553,   -32.0005,  -149.9975,       4697,  2957.5,   1.7187,  34.6749,2,  34.6744,2,    153.8,2,   154.8,2,  128.56,2,   35.47,2,    0.00,2,    2.50,2,   0.007,2,  -0.001,2,   0.001,2,  2310.4,2,  2401.8,2,-999.000,9,-999.0000,9, -999.00,9, -999.00,9,  -999.0,9,  -999.0,-999.000,9,-999.000,-999.0000,9,  2957.5,-999.000,   1.5011,     -999.0,9,     -999.0,9,     -999.0,9,     -999.0,9,     -999.0,9,     -999.0,9,     -999.0,9, -999.00,9,-999.0000,9,-999.0000,9,-999.0000,9,-999.0000,9,-999.0000,9,-999.0000,9,-999.0000, -999.00