BOTTLE,20201109CCHSIOCBG
EXPOCODE,SECT_ID,STNNBR,CASTNO,SAMPNO,BTLNBR,BTLNBR_FLAG_W,DATE,TIME,LATITUDE,LONGITUDE,DEPTH,CTDPRS,CTDTMP,CTDSAL,CTDSAL_FLAG_W,SALNTY,SALNTY_FLAG_W,CTDOXY,CTDOXY_FLAG_W,OXYGEN,OXYGEN_FLAG_W,SILCAT,SILCAT_FLAG_W,NITRAT,NITRAT_FLAG_W,NITRIT,NITRIT_FLAG_W,PHSPHT,PHSPHT_FLAG_W,CFC-11,CFC-11_FLAG_W,CFC-12,CFC-12_FLAG_W,CFC113,CFC113_FLAG_W,TCARBN,TCARBN_FLAG_W,ALKALI,ALKALI_FLAG_W,TRITUM,TRITUM_FLAG_W,HELIUM,HELIUM_FLAG_W,DELHE3,DELHE3_FLAG_W,DELC13,DELC13_FLAG_W,DELC14,DELC14_FLAG_W,C14ERR,NEON,NEON_FLAG_W,NEONER,DOC,DOC_FLAG_W,CTDRAW,TRITER,THETA,FUCO,FUCO_FLAG_W,RHAM,RHAM_FLAG_W,ARABA,ARABA_FLAG_W,GALA,GALA_FLAG_W,GLUC,GLUC_FLAG_W,MAN,MAN_FLAG_W,DCNS,DCNS_FLAG_W,BRDU,BRDU_FLAG_W,CDOM325,CDOM325_FLAG_W,CDOM340,CDOM340_FLAG_W,CDOM380,CDOM380_FLAG_W,CDOM412,CDOM412_FLAG_W,CDOMSL,CDOMSL_FLAG_W,CDOMSN,CDOMSN_FLAG_W,HELIER,DELHER
,,,,,,,,,,,METERS,DBAR,ITS-90,PSS-78,,PSS-78,,UMOL/KG,,UMOL/KG,,UMOL/KG,,UMOL/KG,,UMOL/KG,,UMOL/KG,,PMOL/KG,,PMOL/KG,,PMOL/KG,,UMOL/KG,,UMOL/KG,,TU,,NMOL/KG,,PERCNT,,/MILLE,,/MILLE,,/MILLE,NMOL/KG,,NMOL/KG,UMOL/KG,,DBAR,TU,DEG C,NMOL/KG,,NMOL/KG,,NMOL/KG,,NMOL/KG,,NMOL/KG,,NMOL/KG,,NMOL/KG,,PMOL/L/H,,1/M,,1/M,,1/M,,1/M,,1/NM,,1/NM,,NMOL/KG,PERCNT
33RR20050106,       P16S,      89,          3,         30,         30,2,20050205,       0042,   -60.0000,  -150.0000,       2809,     3.9,   1.5572,  34.1330,2,  34.1415,2,    334.9,2,   336.5,2,   52.18,2,   24.80,2,    0.33,2,    1.73,2,   5.722,2,   3.252,2,   0.560,2,  2177.3,6,  2309.2,2,-999.000,9,-999.0000,9, -999.00,9, -999.00,9,  -999.0,9,  -999.0,-999.000,9,-999.000,  45.3909,2,     3.9,-999.000,   1.5570,         46,2,         45,2,         21,2,         90,2,         84,2,        102,2,        389,2,    1.45,2,   0.0640,2,   0.0380,2,   0.0140,2,   0.0090,2,   0.0332,2,   0.0344,2,-999.0000, -999.00
33RR20050106,       P16S,      89,          3,         29,         29,2,20050205,       0042,   -60.0000,  -150.0000,       2809,    39.0,   1.5389,  34.1380,2,  34.1424,2,    336.6,2,   335.9,2,   51.97,2,   24.81,2,    0.33,2,    1.73,2,   5.842,2,   3.283,2,   0.584,2,  2177.6,2,  2309.3,2,-999.000,9,-999.0000,9, -999.00,9, -999.00,9,  -999.0,9,  -999.0,-999.000,9,-999.000,  44.7204,2,    39.0,-999.000,   1.5370,         45,2,         45,2,         63,2,        111,2,         94,2,        119,2,        478,2,    0.81,2,   0.0700,2,   0.0430,2,   0.0180,2,   0.0110,2,   0.0296,2,   0.0311,2,-999.0000, -999.00
33RR20050106,       P16S,      89,          3,         28,         28,2,20050205,       0042,   -60.0000,  -150.0000,       2809,    74.8,  -1.6689,  34.2729,2,  34.2748,2,    344.2,2,   347.3,2,   67.17,2,   28.08,2,    0.23,2,    2.04,2,   6.039,2,   3.414,2,   0.591,2,  2204.9,2,  2316.8,2,-999.000,9,-999.0000,9, -999.00,9, -999.00,9,  -999.0,9,  -999.0,-999.000,9,-999.000,  39.7250,2,    74.8,-999.000,  -1.6704,         31,2,         29,2,         45,2,         77,2,         88,2,         84,2,        354,2,    1.06,2,   0.0880,2,   0.0550,2,   0.0260,2,   0.0190,2,   0.0245,2,   0.0267,2,-999.0000, -999.00
33RR20050106,       P16S,      89,          3,         27,         27,2,20050205,       0042,   -60.0000,  -150.0000,       2809,    94.0,  -1.6802,  34.2885,2,  34.2876,2,    338.9,2,   346.1,2,   68.42,2,   28.35,2,    0.23,2,    2.03,2,   6.026,2,   3.410,2,   0.611,2,  2206.9,2,  2317.2,2,-999.000,9,-999.0000,9, -999.00,9, -999.00,9,  -999.0,9,  -999.0,-999.000,9,-999.000,  40.1575,2,    94.0,-999.000,  -1.6822,     -999.0,9,     -999.0,9,     -999.0,9,     -999.0,9,     -999.0,9,     -999.0,9,     -999.0,9,    0.37,2,   0.0880,2,   0.0550,2,   0.0270,2,   0.0190,2,   0.0236,2,   0.0259,2,-999.0000, -999.00
33RR20050106,       P16S,      89,          3,         26,         26,2,20050205,       0042,   -60.0000,  -150.0000,       2809,   124.3,  -1.1113,  34.3637,2,  34.3637,2,    321.3,2,   311.7,2,   72.38,2,   29.79,2,    0.17,2,    2.08,2,   4.887,2,   2.823,2,   0.455,2,  2217.2,2,  2319.1,2,-999.000,9,-999.0000,9, -999.00,9, -999.00,9,  -999.0,9,  -999.0,-999.000,9,-999.000,  39.0042,2,   124.3,-999.000,  -1.1146,         25,2,         23,2,         42,2,         73,2,         59,2,         65,2,        287,2,    0.25,2,   0.0970,2,   0.0620,2,   0.0310,2,   0.0230,2,   0.0206,2,   0.0231,2,-999.0000, -999.00
33RR20050106,       P16S,      89,          3,         25,         25,2,20050205,       0042,   -60.0000,  -150.0000,       2809,   145.0,  -0.1239,  34.4775,2,  34.4769,2,    281.0,2,   261.6,2,   77.60,2,   31.07,2,    0.01,2,    2.15,2,   3.314,2,   1.876,2,   0.302,2,  2231.7,2,  2326.3,2,-999.000,9,-999.0000,9, -999.00,9, -999.00,9,  -999.0,9,  -999.0,-999.000,9,-999.000,  39.6881,2,   145.0,-999.000,  -0.1290,     -999.0,9,     -999.0,9,     -999.0,9,     -999.0,9,     -999.0,9,     -999.0,9,     -999.0,9,    0.04,2,   0.1060,2,   0.0690,2,   0.0350,2,   0.0250,2,   0.0187,2,   0.0212,2,-999.0000, -999.00
33RR20050106,       P16S,      89,          3,         24,         24,2,20050205,       0042,   -60.0000,  -150.0000,       2809,   174.0,   1.0354,  34.6272,2,  34.6228,2,    224.4,2,   207.8,2,   84.28,2,   31.77,2,    0.01,2,    2.19,2,   1.390,2,   0.799,2,   0.113,2,  2248.2,2,  2333.1,2,-999.000,9,-999.0000,9, -999.00,9, -999.00,9,  -999.0,9,  -999.0,-999.000,9,-999.000,  40.6805,2,   174.0,-999.000,   1.0275,         20,2,         23,2,         37,2,         48,2,         96,2,         44,2,        268,2,    0.01,2,   0.1210,2,   0.0820,2,   0.0400,2,   0.0290,2,   0.0171,2,   0.0196,2,-999.0000, -999.00
33RR20050106,       P16S,      89,          3,         23,         23,2,20050205,       0042,   -60.0000,  -150.0000,       2809,   225.7,   1.5419,  34.7074,2,  34.7075,2,    189.1,2,   189.7,2,   88.67,2,   31.45,2,    0.01,2,    2.17,2,   0.526,2,   0.313,2,   0.049,2,  2252.1,2,  2344.4,2,-999.000,9,-999.0000,9, -999.00,9, -999.00,9,  -999.0,9,  -999.0,-999.000,9,-999.000,  44.7908,2,   225.7,-999.000,   1.5306,     -999.0,9,     -999.0,9,     -999.0,9,     -999.0,9,     -999.0,9,     -999.0,9,     -999.0,9,    0.01,2,   0.1210,2,   0.0830,2,   0.0400,2,   0.0280,2,   0.0178,2,   0.0201,2,-999.0000, -999.00
33RR20050106,       P16S,      89,          3,         22,         22,2,20050205,       0042,   -60.0000,  -150.0000,       2809,   275.9,   1.5416,  34.7198,2,  34.7187,2,    189.0,2,   190.6,2,   90.55,2,   31.29,2,    0.00,2,    2.15,2,   0.489,2,   0.274,2,   0.039,2,  2247.8,3,  2345.4,2,-999.000,9,-999.0000,9, -999.00,9, -999.00,9,  -999.0,9,  -999.0,-999.000,9,-999.000,  41.2203,2,   275.9,-999.000,   1.5276,         26,2,         18,2,         14,2,         36,2,        100,2,         53,2,        247,2, -999.00,9,   0.1190,2,   0.0810,2,   0.0420,2,   0.0300,2,   0.0158,2,   0.0183,2,-999.0000, -999.00
33RR20050106,       P16S,      89,          3,         21,         21,2,20050205,       0042,   -60.0000,  -150.0000,       2809,   326.2,   1.4862,  34.7249,2,  34.7231,2,    190.3,2,   191.3,2,   93.06,2,   31.20,2,    0.00,2,    2.16,2,   0.415,2,   0.230,2,  -0.002,2,  2258.8,3,  2348.1,2,-999.000,9,-999.0000,9, -999.00,9, -999.00,9,  -999.0,9,  -999.0,-999.000,9,-999.000,  38.8948,2,   326.2,-999.000,   1.4697,     -999.0,9,     -999.0,9,     -999.0,9,     -999.0,9,     -999.0,9,     -999.0,9,     -999.0,9, -999.00,9,   0.1210,2,   0.0830,2,   0.0430,2,   0.0310,2,   0.0156,2,   0.0181,2,-999.0000, -999.00
33RR20050106,       P16S,      89,          3,         20,         20,2,20050205,       0042,   -60.0000,  -150.0000,       2809,   376.7,   1.4442,  34.7279,2,  34.7272,2,    192.7,2,   192.9,2,   94.73,2,   31.21,2,    0.00,2,    2.15,2,   0.317,2,   0.176,2,  -0.024,2,  2253.6,2,  2349.9,2,-999.000,9,-999.0000,9, -999.00,9, -999.00,9,  -999.0,9,  -999.0,-999.000,9,-999.000,  39.9369,2,   376.7,-999.000,   1.4251,     -999.0,9,     -999.0,9,     -999.0,9,     -999.0,9,     -999.0,9,     -999.0,9,     -999.0,9, -999.00,9,   0.1230,2,   0.0840,2,   0.0450,2,   0.0320,2,   0.0149,2,   0.0173,2,-999.0000, -999.00
33RR20050106,       P16S,      89,          3,         19,         19,4,20050205,       0042,   -60.0000,  -150.0000,       2809,   427.3,   1.4139,  34.7298,2,-999.0000,9,    193.8,2,  -999.0,9, -999.00,9, -999.00,9, -999.00,9, -999.00,9,-999.000,9,-999.000,9,-999.000,9,  -999.0,9,  -999.0,9,-999.000,9,-999.0000,9, -999.00,9, -999.00,9,  -999.0,9,  -999.0,-999.000,9,-999.000,-999.0000,9,   427.3,-999.000,   1.3921,     -999.0,9,     -999.0,9,     -999.0,9,     -999.0,9,     -999.0,9,     -999.0,9,     -999.0,9, -999.00,9,-999.0000,9,-999.0000,9,-999.0000,9,-999.0000,9,-999.0000,9,-999.0000,9,-999.0000, -999.00
33RR20050106,       P16S,      89,          3,         18,         18,2,20050205,       0042,   -60.0000,  -150.0000,       2809,   477.5,   1.3759,  34.7307,2,  34.7295,2,    193.6,2,   194.1,2,   97.88,2,   31.10,2,    0.00,2,    2.15,2,   0.255,2,   0.139,2,  -0.019,2,  2253.7,2,  2350.9,2,-999.000,9,-999.0000,9, -999.00,9, -999.00,9,  -999.0,9,  -999.0,-999.000,9,-999.000,  39.4400,2,   477.5,-999.000,   1.3515,     -999.0,9,     -999.0,9,     -999.0,9,     -999.0,9,     -999.0,9,     -999.0,9,     -999.0,9, -999.00,9,   0.1240,2,   0.0860,2,   0.0460,2,   0.0330,2,   0.0147,2,   0.0170,2,-999.0000, -999.00
33RR20050106,       P16S,      89,          3,         17,         17,2,20050205,       0042,   -60.0000,  -150.0000,       2809,   527.2,   1.3230,  34.7301,2,  34.7276,2,    193.3,2,   193.9,2,  100.17,2,   31.21,2,    0.00,2,    2.16,2,   0.246,2,   0.136,2,  -0.016,2,  2256.2,6,  2351.4,2,-999.000,9,-999.0000,9, -999.00,9, -999.00,9,  -999.0,9,  -999.0,-999.000,9,-999.000,  40.1542,2,   527.2,-999.000,   1.2961,     -999.0,9,     -999.0,9,     -999.0,9,     -999.0,9,     -999.0,9,     -999.0,9,     -999.0,9, -999.00,9,   0.1310,2,   0.0930,2,   0.0500,2,   0.0360,2,   0.0143,2,   0.0163,2,-999.0000, -999.00
33RR20050106,       P16S,      89,          3,         16,         16,2,20050205,       0042,   -60.0000,  -150.0000,       2809,   648.5,   1.2281,  34.7291,2,  34.7283,2,    196.0,2,   196.8,2,  103.33,2,   31.20,2,    0.00,2,    2.16,2,   0.185,2,   0.103,2,  -0.010,2,  2256.3,2,  2353.6,2,-999.000,9,-999.0000,9, -999.00,9, -999.00,9,  -999.0,9,  -999.0,-999.000,9,-999.000,  39.4610,2,   648.5,-999.000,   1.1948,     -999.0,9,     -999.0,9,     -999.0,9,     -999.0,9,     -999.0,9,     -999.0,9,     -999.0,9, -999.00,9,   0.1240,2,   0.0860,2,   0.0460,2,   0.0330,2,   0.0146,2,   0.0168,2,-999.0000, -999.00
33RR20050106,       P16S,      89,          3,         15,         15,2,20050205,       0042,   -60.0000,  -150.0000,       2809,   749.8,   1.1473,  34.7267,2,  34.7264,2,    197.6,2,   198.3,2,  106.27,2,   31.26,2,    0.00,2,    2.16,2,   0.174,2,   0.098,2,  -0.007,2,  2257.1,2,  2354.6,2,-999.000,9,-999.0000,9, -999.00,9, -999.00,9,  -999.0,9,  -999.0,-999.000,9,-999.000,  38.5874,2,   749.8,-999.000,   1.1087,     -999.0,9,     -999.0,9,     -999.0,9,     -999.0,9,     -999.0,9,     -999.0,9,     -999.0,9, -999.00,9,   0.0970,2,   0.0600,2,   0.0250,2,   0.0180,2,   0.0262,2,   0.0281,2,-999.0000, -999.00
33RR20050106,       P16S,      89,          3,         14,         14,2,20050205,       0042,   -60.0000,  -150.0000,       2809,   850.9,   1.0846,  34.7246,2,  34.7230,2,    199.1,2,   200.1,2,  108.16,2,   31.27,2,    0.00,2,    2.16,2,   0.156,2,   0.089,2,   0.002,2,  2257.6,2,  2355.6,2,-999.000,9,-999.0000,9, -999.00,9, -999.00,9,  -999.0,9,  -999.0,-999.000,9,-999.000,  37.3799,2,   850.9,-999.000,   1.0405,     -999.0,9,     -999.0,9,     -999.0,9,     -999.0,9,     -999.0,9,     -999.0,9,     -999.0,9, -999.00,9,   0.0970,2,   0.0600,2,   0.0260,2,   0.0190,2,   0.0257,2,   0.0280,2,-999.0000, -999.00
33RR20050106,       P16S,      89,          3,         13,         13,2,20050205,       0042,   -60.0000,  -150.0000,       2809,   951.1,   1.0106,  34.7218,2,  34.7214,2,    200.0,2,   200.6,2,  110.47,2,   31.32,2,    0.00,2,    2.17,2,   0.151,2,   0.088,2,  -0.010,2,  2258.5,2,  2356.2,2,-999.000,9,-999.0000,9, -999.00,9, -999.00,9,  -999.0,9,  -999.0,-999.000,9,-999.000,  37.5817,2,   951.1,-999.000,   0.9611,     -999.0,9,     -999.0,9,     -999.0,9,     -999.0,9,     -999.0,9,     -999.0,9,     -999.0,9, -999.00,9,   0.1000,2,   0.0620,2,   0.0270,2,   0.0200,2,   0.0250,2,   0.0272,2,-999.0000, -999.00
33RR20050106,       P16S,      89,          3,         12,         12,2,20050205,       0042,   -60.0000,  -150.0000,       2809,  1051.6,   0.9352,  34.7191,2,  34.7181,2,    201.0,2,   201.7,2,  113.41,2,   31.44,2,    0.00,2,    2.18,2,   0.142,2,   0.081,2,   0.007,2,  2259.9,2,  2356.6,2,-999.000,9,-999.0000,9, -999.00,9, -999.00,9,  -999.0,9,  -999.0,-999.000,9,-999.000,  39.7054,2,  1051.6,-999.000,   0.8802,     -999.0,9,     -999.0,9,     -999.0,9,     -999.0,9,     -999.0,9,     -999.0,9,     -999.0,9, -999.00,9,   0.1050,2,   0.0670,2,   0.0310,2,   0.0230,2,   0.0225,2,   0.0248,2,-999.0000, -999.00
33RR20050106,       P16S,      89,          3,         11,         11,2,20050205,       0042,   -60.0000,  -150.0000,       2809,  1152.8,   0.8739,  34.7163,2,  34.7161,2,    201.1,2,   202.2,2,  115.92,2,   31.66,2,    0.00,2,    2.19,2,   0.133,2,   0.072,2,   0.011,2,  2259.9,2,  2357.0,2,-999.000,9,-999.0000,9, -999.00,9, -999.00,9,  -999.0,9,  -999.0,-999.000,9,-999.000,-999.0000,9,  1152.8,-999.000,   0.8132,     -999.0,9,     -999.0,9,     -999.0,9,     -999.0,9,     -999.0,9,     -999.0,9,     -999.0,9, -999.00,9,-999.0000,9,-999.0000,9,-999.0000,9,-999.0000,9,-999.0000,9,-999.0000,9,-999.0000, -999.00
33RR20050106,       P16S,      89,          3,         10,         10,2,20050205,       0042,   -60.0000,  -150.0000,       2809,  1255.1,   0.8079,  34.7137,2,  34.7124,2,    202.3,2,   203.1,2,  118.45,2,   31.66,2,    0.00,2,    2.20,2,   0.141,2,   0.075,2,   0.021,2,  2260.7,2,  2357.2,2,-999.000,9,-999.0000,9, -999.00,9, -999.00,9,  -999.0,9,  -999.0,-999.000,9,-999.000,  40.1067,2,  1255.1,-999.000,   0.7413,     -999.0,9,     -999.0,9,     -999.0,9,     -999.0,9,     -999.0,9,     -999.0,9,     -999.0,9, -999.00,9,   0.1010,2,   0.0640,2,   0.0300,2,   0.0220,2,   0.0226,2,   0.0250,2,-999.0000, -999.00
33RR20050106,       P16S,      89,          3,          9,          9,2,20050205,       0042,   -60.0000,  -150.0000,       2809,  1356.6,   0.7603,  34.7116,2,  34.7110,2,    202.9,2,   203.6,2,  119.28,2,   31.76,2,    0.00,2,    2.21,2,   0.122,2,   0.068,2,   0.034,3,  2260.9,2,  2357.5,2,-999.000,9,-999.0000,9, -999.00,9, -999.00,5,  -159.9,6,     2.1,-999.000,9,-999.000,-999.0000,9,  1356.6,-999.000,   0.6877,     -999.0,9,     -999.0,9,     -999.0,9,     -999.0,9,     -999.0,9,     -999.0,9,     -999.0,9, -999.00,9,-999.0000,9,-999.0000,9,-999.0000,9,-999.0000,9,-999.0000,9,-999.0000,9,-999.0000, -999.00
33RR20050106,       P16S,      89,          3,          8,          8,2,20050205,       0042,   -60.0000,  -150.0000,       2809,  1457.4,   0.7118,  34.7099,2,  34.7090,2,    203.8,2,   204.6,2,  122.22,2,   31.88,2,    0.00,2,    2.21,2,   0.124,2,   0.072,2,   0.025,3,  2261.7,2,  2357.6,2,-999.000,9,-999.0000,9, -999.00,9, -999.00,9,  -999.0,9,  -999.0,-999.000,9,-999.000,  39.0407,2,  1457.4,-999.000,   0.6332,     -999.0,9,     -999.0,9,     -999.0,9,     -999.0,9,     -999.0,9,     -999.0,9,     -999.0,9, -999.00,9,   0.1000,2,   0.0640,2,   0.0290,2,   0.0220,2,   0.0231,2,   0.0253,2,-999.0000, -999.00
33RR20050106,       P16S,      89,          3,          7,          7,2,20050205,       0042,   -60.0000,  -150.0000,       2809,  1557.9,   0.6731,  34.7087,2,  34.7082,2,    204.0,2,   204.9,2,  124.33,2,   31.99,2,    0.00,2,    2.22,2,   0.097,2,   0.053,2,   0.017,2,  2261.4,2,  2358.0,2,-999.000,9,-999.0000,9, -999.00,9, -999.00,9,  -999.0,9,  -999.0,-999.000,9,-999.000,-999.0000,9,  1557.9,-999.000,   0.5882,     -999.0,9,     -999.0,9,     -999.0,9,     -999.0,9,     -999.0,9,     -999.0,9,     -999.0,9, -999.00,9,-999.0000,9,-999.0000,9,-999.0000,9,-999.0000,9,-999.0000,9,-999.0000,9,-999.0000, -999.00
33RR20050106,       P16S,      89,          3,          6,          6,2,20050205,       0042,   -60.0000,  -150.0000,       2809,  1760.8,   0.5979,  34.7056,2,  34.7059,2,    206.5,2,   207.7,2,  125.18,2,   31.83,2,    0.00,2,    2.21,2,-999.000,5,-999.000,5,-999.000,5,  2260.8,2,  2358.7,2,-999.000,9,-999.0000,9, -999.00,9, -999.00,9,  -999.0,9,  -999.0,-999.000,9,-999.000,  38.2151,2,  1760.8,-999.000,   0.5000,     -999.0,9,     -999.0,9,     -999.0,9,     -999.0,9,     -999.0,9,     -999.0,9,     -999.0,9, -999.00,9,   0.1000,2,   0.0640,2,   0.0310,2,   0.0230,2,   0.0219,2,   0.0244,2,-999.0000, -999.00
33RR20050106,       P16S,      89,          3,          5,          5,2,20050205,       0042,   -60.0000,  -150.0000,       2809,  1975.0,   0.5290,  34.7038,2,  34.7029,2,    208.1,2,   208.8,2,  126.01,2,   31.99,2,    0.00,2,    2.22,2,-999.000,5,-999.000,5,-999.000,5,  2260.7,2,  2357.8,2,-999.000,9,-999.0000,9, -999.00,9, -999.00,9,  -999.0,9,  -999.0,-999.000,9,-999.000,  38.4625,2,  1975.0,-999.000,   0.4167,     -999.0,9,     -999.0,9,     -999.0,9,     -999.0,9,     -999.0,9,     -999.0,9,     -999.0,9, -999.00,9,   0.1010,2,   0.0650,2,   0.0310,2,   0.0230,2,   0.0215,2,   0.0239,2,-999.0000, -999.00
33RR20050106,       P16S,      89,          3,          4,          4,2,20050205,       0042,   -60.0000,  -150.0000,       2809,  2228.4,   0.4349,  34.7025,2,  34.7029,2,    209.8,2,   210.7,2,  127.70,2,   32.11,2,    0.00,2,    2.22,2,-999.000,5,-999.000,5,-999.000,5,  2261.1,2,  2358.1,2,-999.000,9,-999.0000,9, -999.00,9, -999.00,9,  -999.0,9,  -999.0,-999.000,9,-999.000,-999.0000,9,  2228.4,-999.000,   0.3052,     -999.0,9,     -999.0,9,     -999.0,9,     -999.0,9,     -999.0,9,     -999.0,9,     -999.0,9, -999.00,9,-999.0000,9,-999.0000,9,-999.0000,9,-999.0000,9,-999.0000,9,-999.0000,9,-999.0000, -999.00
33RR20050106,       P16S,      89,          3,          3,          3,2,20050205,       0042,   -60.0000,  -150.0000,       2809,  2482.6,   0.3601,  34.6999,2,  34.7010,2,    212.3,2,   213.1,2,  128.74,2,   32.11,2,    0.00,2,    2.23,2,   0.415,2,   0.207,2,   0.034,2,  2261.2,2,  2357.6,2,-999.000,9,-999.0000,9, -999.00,9, -999.00,9,  -999.0,9,  -999.0,-999.000,9,-999.000,  39.2214,2,  2482.6,-999.000,   0.2119,     -999.0,9,     -999.0,9,     -999.0,9,     -999.0,9,     -999.0,9,     -999.0,9,     -999.0,9, -999.00,9,   0.1020,2,   0.0650,2,   0.0320,2,   0.0240,2,   0.0208,2,   0.0232,2,-999.0000, -999.00
33RR20050106,       P16S,      89,          3,          2,          2,2,20050205,       0042,   -60.0000,  -150.0000,       2809,  2635.8,   0.3156,  34.6992,2,  34.6998,2,    213.7,2,   214.2,2,  127.90,2,   32.11,2,    0.00,2,    2.23,2,   0.427,2,   0.220,2,   0.030,2,  2260.5,2,  2357.4,2,-999.000,9,-999.0000,9, -999.00,9, -999.00,9,  -999.0,9,  -999.0,-999.000,9,-999.000,-999.0000,9,  2635.8,-999.000,   0.1558,     -999.0,9,     -999.0,9,     -999.0,9,     -999.0,9,     -999.0,9,     -999.0,9,     -999.0,9, -999.00,9,-999.0000,9,-999.0000,9,-999.0000,9,-999.0000,9,-999.0000,9,-999.0000,9,-999.0000, -999.00
33RR20050106,       P16S,      89,          3,          1,          1,2,20050205,       0042,   -60.0000,  -150.0000,       2809,  2736.7,   0.3139,  34.6990,2,  34.6990,2,    214.1,2,   215.5,2,  128.10,2,   32.12,2,    0.00,2,    2.23,2,   0.478,2,   0.230,2,   0.031,2,  2261.4,6,  2357.7,2,-999.000,9,-999.0000,9, -999.00,9, -999.00,9,  -999.0,9,  -999.0,-999.000,9,-999.000,  39.6271,2,  2736.7,-999.000,   0.1458,     -999.0,9,     -999.0,9,     -999.0,9,     -999.0,9,     -999.0,9,     -999.0,9,     -999.0,9, -999.00,9,   0.1040,2,   0.0670,2,   0.0340,2,   0.0250,2,   0.0198,2,   0.0223,2,-999.0000, -999.00