BOTTLE,20201109CCHSIOCBG
EXPOCODE,SECT_ID,STNNBR,CASTNO,SAMPNO,BTLNBR,BTLNBR_FLAG_W,DATE,TIME,LATITUDE,LONGITUDE,DEPTH,CTDPRS,CTDTMP,CTDSAL,CTDSAL_FLAG_W,SALNTY,SALNTY_FLAG_W,CTDOXY,CTDOXY_FLAG_W,OXYGEN,OXYGEN_FLAG_W,SILCAT,SILCAT_FLAG_W,NITRAT,NITRAT_FLAG_W,NITRIT,NITRIT_FLAG_W,PHSPHT,PHSPHT_FLAG_W,CFC-11,CFC-11_FLAG_W,CFC-12,CFC-12_FLAG_W,CFC113,CFC113_FLAG_W,TCARBN,TCARBN_FLAG_W,ALKALI,ALKALI_FLAG_W,TRITUM,TRITUM_FLAG_W,HELIUM,HELIUM_FLAG_W,DELHE3,DELHE3_FLAG_W,DELC13,DELC13_FLAG_W,DELC14,DELC14_FLAG_W,C14ERR,NEON,NEON_FLAG_W,NEONER,DOC,DOC_FLAG_W,CTDRAW,TRITER,THETA,FUCO,FUCO_FLAG_W,RHAM,RHAM_FLAG_W,ARABA,ARABA_FLAG_W,GALA,GALA_FLAG_W,GLUC,GLUC_FLAG_W,MAN,MAN_FLAG_W,DCNS,DCNS_FLAG_W,BRDU,BRDU_FLAG_W,CDOM325,CDOM325_FLAG_W,CDOM340,CDOM340_FLAG_W,CDOM380,CDOM380_FLAG_W,CDOM412,CDOM412_FLAG_W,CDOMSL,CDOMSL_FLAG_W,CDOMSN,CDOMSN_FLAG_W,HELIER,DELHER
,,,,,,,,,,,METERS,DBAR,ITS-90,PSS-78,,PSS-78,,UMOL/KG,,UMOL/KG,,UMOL/KG,,UMOL/KG,,UMOL/KG,,UMOL/KG,,PMOL/KG,,PMOL/KG,,PMOL/KG,,UMOL/KG,,UMOL/KG,,TU,,NMOL/KG,,PERCNT,,/MILLE,,/MILLE,,/MILLE,NMOL/KG,,NMOL/KG,UMOL/KG,,DBAR,TU,DEG C,NMOL/KG,,NMOL/KG,,NMOL/KG,,NMOL/KG,,NMOL/KG,,NMOL/KG,,NMOL/KG,,PMOL/L/H,,1/M,,1/M,,1/M,,1/M,,1/NM,,1/NM,,NMOL/KG,PERCNT
33RR20050106,       P16S,      21,          3,          6,          6,2,20050115,       2305,   -26.0002,  -150.0003,       4808,  3458.9,   1.5576,  34.6853,2,  34.6854,2,    169.4,2,   170.3,2,  124.48,2,   34.54,2,    0.00,2,    2.42,2,  -0.004,2,   0.001,2,   0.001,2,  2297.9,2,  2392.3,2,-999.000,9,-999.0000,9, -999.00,9, -999.00,9,  -999.0,9,  -999.0,-999.000,9,-999.000,  38.0695,2,  3458.9,-999.000,   1.2941,     -999.0,9,     -999.0,9,     -999.0,9,     -999.0,9,     -999.0,9,     -999.0,9,     -999.0,9, -999.00,9,   0.1000,2,   0.0730,2,   0.0410,2,   0.0280,2,   0.0150,2,   0.0158,2,-999.0000, -999.00
33RR20050106,       P16S,      21,          3,          5,          5,2,20050115,       2305,   -26.0002,  -150.0003,       4808,  3713.9,   1.5018,  34.6903,2,  34.6893,2,    173.9,2,   175.0,2,  123.45,2,   34.16,2,    0.00,2,    2.40,2,-999.000,9,-999.000,9,-999.000,9,  2292.3,2,  2390.6,2,-999.000,9,-999.0000,9, -999.00,9, -999.00,9,  -999.0,9,  -999.0,-999.000,9,-999.000,-999.0000,9,  3713.9,-999.000,   1.2134,     -999.0,9,     -999.0,9,     -999.0,9,     -999.0,9,     -999.0,9,     -999.0,9,     -999.0,9, -999.00,9,-999.0000,9,-999.0000,9,-999.0000,9,-999.0000,9,-999.0000,9,-999.0000,9,-999.0000, -999.00
33RR20050106,       P16S,      21,          3,          4,          4,2,20050115,       2305,   -26.0002,  -150.0003,       4808,  3968.3,   1.4427,  34.6953,2,  34.6952,2,    179.3,2,   180.5,2,  122.19,2,   33.72,2,    0.00,2,    2.36,2,   0.007,2,   0.004,2,   0.001,2,  2287.6,2,  2386.4,2,-999.000,9,-999.0000,9, -999.00,9, -999.00,9,  -999.0,9,  -999.0,-999.000,9,-999.000,  38.2988,2,  3968.3,-999.000,   1.1287,     -999.0,9,     -999.0,9,     -999.0,9,     -999.0,9,     -999.0,9,     -999.0,9,     -999.0,9, -999.00,9,   0.0970,2,   0.0710,2,   0.0400,2,   0.0270,2,   0.0151,2,   0.0160,2,-999.0000, -999.00
33RR20050106,       P16S,      21,          3,          3,          3,2,20050115,       2305,   -26.0002,  -150.0003,       4808,  4222.9,   1.3685,  34.7012,2,  34.7005,2,    185.3,2,   187.5,2,  120.73,2,   33.33,2,    0.00,2,    2.33,2,-999.000,9,-999.000,9,-999.000,9,  2281.2,2,  2380.2,2,-999.000,9,-999.0000,9, -999.00,9, -999.00,9,  -999.0,9,  -999.0,-999.000,9,-999.000,-999.0000,9,  4222.9,-999.000,   1.0287,     -999.0,9,     -999.0,9,     -999.0,9,     -999.0,9,     -999.0,9,     -999.0,9,     -999.0,9, -999.00,9,-999.0000,9,-999.0000,9,-999.0000,9,-999.0000,9,-999.0000,9,-999.0000,9,-999.0000, -999.00
33RR20050106,       P16S,      21,          3,          2,          2,2,20050115,       2305,   -26.0002,  -150.0003,       4808,  4539.9,   1.3196,  34.7056,2,  34.7050,2,    191.2,2,   192.1,2,  119.48,2,   32.89,2,    0.00,2,    2.30,2,   0.005,2,   0.001,2,   0.001,2,  2278.6,2,  2378.0,2,-999.000,9,-999.0000,9, -999.00,9, -999.00,9,  -999.0,9,  -999.0,-999.000,9,-999.000,-999.0000,9,  4539.9,-999.000,   0.9455,     -999.0,9,     -999.0,9,     -999.0,9,     -999.0,9,     -999.0,9,     -999.0,9,     -999.0,9, -999.00,9,-999.0000,9,-999.0000,9,-999.0000,9,-999.0000,9,-999.0000,9,-999.0000,9,-999.0000, -999.00
33RR20050106,       P16S,      21,          3,          1,          1,2,20050115,       2305,   -26.0002,  -150.0003,       4808,  4744.7,   1.3374,  34.7059,2,  34.7056,2,    192.1,2,   192.7,2,  119.49,2,   32.89,2,    0.00,2,    2.30,2,-999.000,9,-999.000,9,-999.000,9,  2277.3,6,  2377.8,6,-999.000,9,-999.0000,9, -999.00,9, -999.00,9,  -999.0,9,  -999.0,-999.000,9,-999.000,  38.7025,2,  4744.7,-999.000,   0.9389,     -999.0,9,     -999.0,9,     -999.0,9,     -999.0,9,     -999.0,9,     -999.0,9,     -999.0,9, -999.00,9,   0.0980,2,   0.0710,2,   0.0400,2,   0.0270,2,   0.0155,2,   0.0165,2,-999.0000, -999.00