BOTTLE,20201109CCHSIOCBG
EXPOCODE,SECT_ID,STNNBR,CASTNO,SAMPNO,BTLNBR,BTLNBR_FLAG_W,DATE,TIME,LATITUDE,LONGITUDE,DEPTH,CTDPRS,CTDTMP,CTDSAL,CTDSAL_FLAG_W,SALNTY,SALNTY_FLAG_W,CTDOXY,CTDOXY_FLAG_W,OXYGEN,OXYGEN_FLAG_W,SILCAT,SILCAT_FLAG_W,NITRAT,NITRAT_FLAG_W,NITRIT,NITRIT_FLAG_W,PHSPHT,PHSPHT_FLAG_W,CFC-11,CFC-11_FLAG_W,CFC-12,CFC-12_FLAG_W,CFC113,CFC113_FLAG_W,TCARBN,TCARBN_FLAG_W,ALKALI,ALKALI_FLAG_W,TRITUM,TRITUM_FLAG_W,HELIUM,HELIUM_FLAG_W,DELHE3,DELHE3_FLAG_W,DELC13,DELC13_FLAG_W,DELC14,DELC14_FLAG_W,C14ERR,NEON,NEON_FLAG_W,NEONER,DOC,DOC_FLAG_W,CTDRAW,TRITER,THETA,FUCO,FUCO_FLAG_W,RHAM,RHAM_FLAG_W,ARABA,ARABA_FLAG_W,GALA,GALA_FLAG_W,GLUC,GLUC_FLAG_W,MAN,MAN_FLAG_W,DCNS,DCNS_FLAG_W,BRDU,BRDU_FLAG_W,CDOM325,CDOM325_FLAG_W,CDOM340,CDOM340_FLAG_W,CDOM380,CDOM380_FLAG_W,CDOM412,CDOM412_FLAG_W,CDOMSL,CDOMSL_FLAG_W,CDOMSN,CDOMSN_FLAG_W,HELIER,DELHER
,,,,,,,,,,,METERS,DBAR,ITS-90,PSS-78,,PSS-78,,UMOL/KG,,UMOL/KG,,UMOL/KG,,UMOL/KG,,UMOL/KG,,UMOL/KG,,PMOL/KG,,PMOL/KG,,PMOL/KG,,UMOL/KG,,UMOL/KG,,TU,,NMOL/KG,,PERCNT,,/MILLE,,/MILLE,,/MILLE,NMOL/KG,,NMOL/KG,UMOL/KG,,DBAR,TU,DEG C,NMOL/KG,,NMOL/KG,,NMOL/KG,,NMOL/KG,,NMOL/KG,,NMOL/KG,,NMOL/KG,,PMOL/L/H,,1/M,,1/M,,1/M,,1/M,,1/NM,,1/NM,,NMOL/KG,PERCNT
33RR20050106,       P16S,      44,          1,         36,         36,2,20050122,       1146,   -37.4993,  -150.0000,       5500,     3.7,  19.5239,  34.7872,2,  34.7880,2,    231.8,2,   231.3,2,    0.34,2,    0.08,2,    0.00,2,    0.16,2,   2.334,2,   1.432,2,   0.183,2,  2035.2,6,  2287.9,6,-999.000,9,-999.0000,9, -999.00,9, -999.00,9,  -999.0,9,  -999.0,-999.000,9,-999.000,-999.0000,9,     3.7,-999.000,  19.5232,     -999.0,9,     -999.0,9,     -999.0,9,     -999.0,9,     -999.0,9,     -999.0,9,     -999.0,9, -999.00,9,-999.0000,9,-999.0000,9,-999.0000,9,-999.0000,9,-999.0000,9,-999.0000,9,-999.0000, -999.00
33RR20050106,       P16S,      44,          1,         35,         35,2,20050122,       1146,   -37.4993,  -150.0000,       5500,    37.2,  16.8592,  34.8228,2,  34.8222,2,    253.3,2,   253.2,2,    0.33,2,    0.08,2,    0.00,2,    0.16,2,   2.752,2,   1.652,2,   0.191,2,  2043.0,2,  2291.4,2,-999.000,9,-999.0000,9, -999.00,9, -999.00,9,  -999.0,9,  -999.0,-999.000,9,-999.000,-999.0000,9,    37.2,-999.000,  16.8531,     -999.0,9,     -999.0,9,     -999.0,9,     -999.0,9,     -999.0,9,     -999.0,9,     -999.0,9, -999.00,9,-999.0000,9,-999.0000,9,-999.0000,9,-999.0000,9,-999.0000,9,-999.0000,9,-999.0000, -999.00
33RR20050106,       P16S,      44,          1,         34,         34,2,20050122,       1146,   -37.4993,  -150.0000,       5500,    72.2,  14.6396,  34.8364,2,  34.8403,2,    264.6,2,   264.1,2,    0.33,2,    0.07,2,    0.00,2,    0.17,2,   3.042,2,   1.769,2,   0.204,2,  2046.3,2,  2293.0,2,-999.000,9,-999.0000,9, -999.00,9, -999.00,9,  -999.0,9,  -999.0,-999.000,9,-999.000,-999.0000,9,    72.2,-999.000,  14.6289,     -999.0,9,     -999.0,9,     -999.0,9,     -999.0,9,     -999.0,9,     -999.0,9,     -999.0,9, -999.00,9,-999.0000,9,-999.0000,9,-999.0000,9,-999.0000,9,-999.0000,9,-999.0000,9,-999.0000, -999.00
33RR20050106,       P16S,      44,          1,         33,         33,2,20050122,       1146,   -37.4993,  -150.0000,       5500,   122.1,  14.0561,  34.9006,2,  34.9017,2,    253.7,2,   249.3,2,    0.32,2,    0.91,2,    0.07,2,    0.24,2,   3.003,2,   1.734,2,   0.203,2,  2058.6,2,  2295.2,2,-999.000,9,-999.0000,9, -999.00,9, -999.00,9,  -999.0,9,  -999.0,-999.000,9,-999.000,-999.0000,9,   122.1,-999.000,  14.0385,     -999.0,9,     -999.0,9,     -999.0,9,     -999.0,9,     -999.0,9,     -999.0,9,     -999.0,9, -999.00,9,-999.0000,9,-999.0000,9,-999.0000,9,-999.0000,9,-999.0000,9,-999.0000,9,-999.0000, -999.00
33RR20050106,       P16S,      44,          1,         32,         32,2,20050122,       1146,   -37.4993,  -150.0000,       5500,   178.1,  11.8227,  34.7633,2,-999.0000,9,    225.6,2,   218.3,2,    1.53,2,    9.83,2,    0.02,2,    0.76,2,-999.000,9,-999.000,9,-999.000,9,  2104.6,2,  2289.0,2,-999.000,9,-999.0000,9, -999.00,9, -999.00,9,  -999.0,9,  -999.0,-999.000,9,-999.000,-999.0000,9,   178.1,-999.000,  11.7998,     -999.0,9,     -999.0,9,     -999.0,9,     -999.0,9,     -999.0,9,     -999.0,9,     -999.0,9, -999.00,9,-999.0000,9,-999.0000,9,-999.0000,9,-999.0000,9,-999.0000,9,-999.0000,9,-999.0000, -999.00
33RR20050106,       P16S,      44,          1,         31,         31,2,20050122,       1146,   -37.4993,  -150.0000,       5500,   228.2,  10.3059,  34.6314,2,-999.0000,9,    222.7,2,   220.4,2,    2.52,2,   13.80,2,    0.00,2,    1.01,2,   3.322,6,   1.672,6,   0.151,6,  2118.3,2,  2284.5,2,-999.000,9,-999.0000,9, -999.00,9, -999.00,9,  -999.0,9,  -999.0,-999.000,9,-999.000,-999.0000,9,   228.2,-999.000,  10.2790,     -999.0,9,     -999.0,9,     -999.0,9,     -999.0,9,     -999.0,9,     -999.0,9,     -999.0,9, -999.00,9,-999.0000,9,-999.0000,9,-999.0000,9,-999.0000,9,-999.0000,9,-999.0000,9,-999.0000, -999.00
33RR20050106,       P16S,      44,          1,         30,         30,2,20050122,       1146,   -37.4993,  -150.0000,       5500,   278.8,   8.8981,  34.5217,2,-999.0000,9,    228.0,2,   228.3,2,    3.52,2,   17.01,2,    0.00,2,    1.20,2,-999.000,9,-999.000,9,-999.000,9,  2130.2,2,  2280.4,2,-999.000,9,-999.0000,9, -999.00,9, -999.00,9,  -999.0,9,  -999.0,-999.000,9,-999.000,-999.0000,9,   278.8,-999.000,   8.8681,     -999.0,9,     -999.0,9,     -999.0,9,     -999.0,9,     -999.0,9,     -999.0,9,     -999.0,9, -999.00,9,-999.0000,9,-999.0000,9,-999.0000,9,-999.0000,9,-999.0000,9,-999.0000,9,-999.0000, -999.00
33RR20050106,       P16S,      44,          1,         29,         29,2,20050122,       1146,   -37.4993,  -150.0000,       5500,   328.6,   8.1300,  34.4651,2,-999.0000,9,    233.2,2,   235.6,2,    4.12,2,   18.53,2,    0.00,2,    1.29,2,   3.611,2,   1.665,2,   0.210,2,  2132.6,2,  2279.5,2,-999.000,9,-999.0000,9, -999.00,9, -999.00,9,  -999.0,9,  -999.0,-999.000,9,-999.000,-999.0000,9,   328.6,-999.000,   8.0964,     -999.0,9,     -999.0,9,     -999.0,9,     -999.0,9,     -999.0,9,     -999.0,9,     -999.0,9, -999.00,9,-999.0000,9,-999.0000,9,-999.0000,9,-999.0000,9,-999.0000,9,-999.0000,9,-999.0000, -999.00
33RR20050106,       P16S,      44,          1,         28,         28,2,20050122,       1146,   -37.4993,  -150.0000,       5500,   378.8,   7.7053,  34.4388,2,  34.4397,2,    239.1,2,   242.7,2,    4.72,2,   19.40,2,    0.00,2,    1.35,2,-999.000,9,-999.000,9,-999.000,9,  2134.8,2,  2279.2,2,-999.000,9,-999.0000,9, -999.00,9, -999.00,9,  -999.0,9,  -999.0,-999.000,9,-999.000,-999.0000,9,   378.8,-999.000,   7.6677,     -999.0,9,     -999.0,9,     -999.0,9,     -999.0,9,     -999.0,9,     -999.0,9,     -999.0,9, -999.00,9,-999.0000,9,-999.0000,9,-999.0000,9,-999.0000,9,-999.0000,9,-999.0000,9,-999.0000, -999.00
33RR20050106,       P16S,      44,          1,         27,         27,2,20050122,       1146,   -37.4993,  -150.0000,       5500,   428.7,   7.4441,  34.4208,2,  34.4209,2,    242.6,2,   244.0,2,    5.31,2,   20.15,2,    0.00,2,    1.39,2,   3.566,2,   1.641,2,   0.213,2,  2136.5,2,  2281.2,2,-999.000,9,-999.0000,9, -999.00,9, -999.00,9,  -999.0,9,  -999.0,-999.000,9,-999.000,-999.0000,9,   428.7,-999.000,   7.4022,     -999.0,9,     -999.0,9,     -999.0,9,     -999.0,9,     -999.0,9,     -999.0,9,     -999.0,9, -999.00,9,-999.0000,9,-999.0000,9,-999.0000,9,-999.0000,9,-999.0000,9,-999.0000,9,-999.0000, -999.00
33RR20050106,       P16S,      44,          1,         26,         26,2,20050122,       1146,   -37.4993,  -150.0000,       5500,   479.3,   7.2324,  34.4061,2,  34.4079,2,    245.0,2,   245.4,2,    5.91,2,   20.86,2,    0.00,2,    1.42,2,-999.000,9,-999.000,9,-999.000,9,  2137.2,2,  2279.6,2,-999.000,9,-999.0000,9, -999.00,9, -999.00,9,  -999.0,9,  -999.0,-999.000,9,-999.000,-999.0000,9,   479.3,-999.000,   7.1862,     -999.0,9,     -999.0,9,     -999.0,9,     -999.0,9,     -999.0,9,     -999.0,9,     -999.0,9, -999.00,9,-999.0000,9,-999.0000,9,-999.0000,9,-999.0000,9,-999.0000,9,-999.0000,9,-999.0000, -999.00
33RR20050106,       P16S,      44,          1,         25,         25,2,20050122,       1146,   -37.4993,  -150.0000,       5500,   529.9,   7.0330,  34.3906,2,  34.3932,2,    245.5,2,   246.5,2,    6.51,2,   21.56,2,    0.00,2,    1.47,2,   3.399,2,   1.573,2,   0.196,2,  2138.3,2,  2278.4,2,-999.000,9,-999.0000,9, -999.00,9, -999.00,9,  -999.0,9,  -999.0,-999.000,9,-999.000,-999.0000,9,   529.9,-999.000,   6.9825,     -999.0,9,     -999.0,9,     -999.0,9,     -999.0,9,     -999.0,9,     -999.0,9,     -999.0,9, -999.00,9,-999.0000,9,-999.0000,9,-999.0000,9,-999.0000,9,-999.0000,9,-999.0000,9,-999.0000, -999.00
33RR20050106,       P16S,      44,          1,         24,         24,2,20050122,       1146,   -37.4993,  -150.0000,       5500,   650.3,   6.6231,  34.3627,2,  34.3663,2,    244.1,2,   242.8,2,    8.11,2,   22.92,2,    0.00,2,    1.57,2,   2.841,2,   1.313,2,   0.129,2,  2141.6,2,  2279.9,2,-999.000,9,-999.0000,9, -999.00,9, -999.00,9,  -999.0,9,  -999.0,-999.000,9,-999.000,-999.0000,9,   650.3,-999.000,   6.5627,     -999.0,9,     -999.0,9,     -999.0,9,     -999.0,9,     -999.0,9,     -999.0,9,     -999.0,9, -999.00,9,-999.0000,9,-999.0000,9,-999.0000,9,-999.0000,9,-999.0000,9,-999.0000,9,-999.0000, -999.00
33RR20050106,       P16S,      44,          1,         23,         23,2,20050122,       1146,   -37.4993,  -150.0000,       5500,   751.3,   6.2074,  34.3361,2,  34.3371,2,    239.2,2,   236.0,2,   10.53,2,   24.50,2,    0.00,2,    1.67,2,   2.313,2,   1.009,2,   0.090,2,  2148.8,2,  2281.3,2,-999.000,9,-999.0000,9, -999.00,9, -999.00,9,  -999.0,9,  -999.0,-999.000,9,-999.000,-999.0000,9,   751.3,-999.000,   6.1395,     -999.0,9,     -999.0,9,     -999.0,9,     -999.0,9,     -999.0,9,     -999.0,9,     -999.0,9, -999.00,9,-999.0000,9,-999.0000,9,-999.0000,9,-999.0000,9,-999.0000,9,-999.0000,9,-999.0000, -999.00
33RR20050106,       P16S,      44,          1,         22,         22,2,20050122,       1146,   -37.4993,  -150.0000,       5500,   852.1,   5.7537,  34.3202,2,  34.3207,2,    228.3,2,   225.5,2,   14.77,2,   26.46,2,    0.00,2,    1.81,2,   1.759,2,   0.737,2,   0.075,2,  2160.0,2,  2283.8,2,-999.000,9,-999.0000,9, -999.00,9, -999.00,9,  -999.0,9,  -999.0,-999.000,9,-999.000,-999.0000,9,   852.1,-999.000,   5.6790,     -999.0,9,     -999.0,9,     -999.0,9,     -999.0,9,     -999.0,9,     -999.0,9,     -999.0,9, -999.00,9,-999.0000,9,-999.0000,9,-999.0000,9,-999.0000,9,-999.0000,9,-999.0000,9,-999.0000, -999.00
33RR20050106,       P16S,      44,          1,         21,         21,2,20050122,       1146,   -37.4993,  -150.0000,       5500,   952.7,   5.2359,  34.3160,2,  34.3167,2,    215.7,2,   215.3,2,   20.23,2,   28.38,2,    0.00,2,    1.94,2,   1.363,2,   0.589,2,   0.050,2,  2173.2,2,  2287.4,2,-999.000,9,-999.0000,9, -999.00,9, -999.00,9,  -999.0,9,  -999.0,-999.000,9,-999.000,-999.0000,9,   952.7,-999.000,   5.1554,     -999.0,9,     -999.0,9,     -999.0,9,     -999.0,9,     -999.0,9,     -999.0,9,     -999.0,9, -999.00,9,-999.0000,9,-999.0000,9,-999.0000,9,-999.0000,9,-999.0000,9,-999.0000,9,-999.0000, -999.00
33RR20050106,       P16S,      44,          1,         20,         20,2,20050122,       1146,   -37.4993,  -150.0000,       5500,  1053.3,   4.6073,  34.3240,2,  34.3246,2,    205.0,2,   205.5,2,   28.33,2,   30.41,2,    0.00,2,    2.08,2,   0.973,2,   0.429,2,   0.035,2,  2188.1,2,  2294.6,2,-999.000,9,-999.0000,9, -999.00,9, -999.00,9,  -999.0,9,  -999.0,-999.000,9,-999.000,-999.0000,9,  1053.3,-999.000,   4.5226,     -999.0,9,     -999.0,9,     -999.0,9,     -999.0,9,     -999.0,9,     -999.0,9,     -999.0,9, -999.00,9,-999.0000,9,-999.0000,9,-999.0000,9,-999.0000,9,-999.0000,9,-999.0000,9,-999.0000, -999.00
33RR20050106,       P16S,      44,          1,         19,         19,2,20050122,       1146,   -37.4993,  -150.0000,       5500,  1154.2,   4.0029,  34.3444,2,  34.3450,2,    196.4,2,   196.8,2,   37.28,2,   31.95,2,    0.00,2,    2.18,2,   0.645,2,   0.283,2,   0.020,2,  2203.3,2,  2301.0,2,-999.000,9,-999.0000,9, -999.00,9, -999.00,9,  -999.0,9,  -999.0,-999.000,9,-999.000,-999.0000,9,  1154.2,-999.000,   3.9145,     -999.0,9,     -999.0,9,     -999.0,9,     -999.0,9,     -999.0,9,     -999.0,9,     -999.0,9, -999.00,9,-999.0000,9,-999.0000,9,-999.0000,9,-999.0000,9,-999.0000,9,-999.0000,9,-999.0000, -999.00
33RR20050106,       P16S,      44,          1,         18,         18,2,20050122,       1146,   -37.4993,  -150.0000,       5500,  1254.5,   3.5198,  34.3815,2,  34.3819,2,    188.4,2,   188.1,2,   47.07,2,   33.21,2,    0.00,2,    2.29,2,-999.000,9,-999.000,9,-999.000,9,  2219.1,6,  2310.9,2,-999.000,9,-999.0000,9, -999.00,9, -999.00,9,  -999.0,9,  -999.0,-999.000,9,-999.000,-999.0000,9,  1254.5,-999.000,   3.4274,     -999.0,9,     -999.0,9,     -999.0,9,     -999.0,9,     -999.0,9,     -999.0,9,     -999.0,9, -999.00,9,-999.0000,9,-999.0000,9,-999.0000,9,-999.0000,9,-999.0000,9,-999.0000,9,-999.0000, -999.00
33RR20050106,       P16S,      44,          1,         17,         17,2,20050122,       1146,   -37.4993,  -150.0000,       5500,  1355.8,   3.2027,  34.4240,2,  34.4230,2,    180.6,2,   180.8,2,   55.44,2,   33.98,2,    0.00,2,    2.34,2,   0.287,2,   0.129,2,   0.010,2,  -999.0,9,  -999.0,9,-999.000,9,-999.0000,9, -999.00,9, -999.00,9,  -999.0,9,  -999.0,-999.000,9,-999.000,-999.0000,9,  1355.8,-999.000,   3.1050,     -999.0,9,     -999.0,9,     -999.0,9,     -999.0,9,     -999.0,9,     -999.0,9,     -999.0,9, -999.00,9,-999.0000,9,-999.0000,9,-999.0000,9,-999.0000,9,-999.0000,9,-999.0000,9,-999.0000, -999.00
33RR20050106,       P16S,      44,          1,         16,         16,2,20050122,       1146,   -37.4993,  -150.0000,       5500,  1558.4,   2.8034,  34.5301,2,  34.5309,2,    165.0,2,   164.8,2,   76.59,2,   34.74,2,    0.00,2,    2.42,2,-999.000,9,-999.000,9,-999.000,9,  -999.0,9,  -999.0,9,-999.000,9,-999.0000,9, -999.00,9, -999.00,9,  -999.0,9,  -999.0,-999.000,9,-999.000,-999.0000,9,  1558.4,-999.000,   2.6931,     -999.0,9,     -999.0,9,     -999.0,9,     -999.0,9,     -999.0,9,     -999.0,9,     -999.0,9, -999.00,9,-999.0000,9,-999.0000,9,-999.0000,9,-999.0000,9,-999.0000,9,-999.0000,9,-999.0000, -999.00
33RR20050106,       P16S,      44,          1,         15,         15,2,20050122,       1146,   -37.4993,  -150.0000,       5500,  1760.7,   2.5627,  34.5898,2,  34.5907,2,    156.1,2,   156.2,2,   93.68,2,   35.11,2,    0.00,2,    2.45,2,   0.036,2,   0.016,2,   0.002,2,  -999.0,9,  -999.0,9,-999.000,9,-999.0000,9, -999.00,9, -999.00,9,  -999.0,9,  -999.0,-999.000,9,-999.000,-999.0000,9,  1760.7,-999.000,   2.4384,     -999.0,9,     -999.0,9,     -999.0,9,     -999.0,9,     -999.0,9,     -999.0,9,     -999.0,9, -999.00,9,-999.0000,9,-999.0000,9,-999.0000,9,-999.0000,9,-999.0000,9,-999.0000,9,-999.0000, -999.00
33RR20050106,       P16S,      44,          1,         14,         14,2,20050122,       1146,   -37.4993,  -150.0000,       5500,  1963.2,   2.3516,  34.6194,2,  34.6193,2,    152.5,2,   152.9,2,  104.22,2,   35.43,2,    0.00,2,    2.47,2,-999.000,9,-999.000,9,-999.000,9,  -999.0,9,  -999.0,9,-999.000,9,-999.0000,9, -999.00,9, -999.00,9,  -999.0,9,  -999.0,-999.000,9,-999.000,-999.0000,9,  1963.2,-999.000,   2.2130,     -999.0,9,     -999.0,9,     -999.0,9,     -999.0,9,     -999.0,9,     -999.0,9,     -999.0,9, -999.00,9,-999.0000,9,-999.0000,9,-999.0000,9,-999.0000,9,-999.0000,9,-999.0000,9,-999.0000, -999.00
33RR20050106,       P16S,      44,          1,         13,         13,2,20050122,       1146,   -37.4993,  -150.0000,       5500,  2125.4,   2.2323,  34.6336,2,  34.6343,2,    150.8,2,   151.3,2,  110.62,2,   35.59,2,    0.00,2,    2.49,2,  -0.003,2,  -0.002,2,   0.002,2,  -999.0,9,  -999.0,9,-999.000,9,-999.0000,9, -999.00,9, -999.00,9,  -999.0,9,  -999.0,-999.000,9,-999.000,-999.0000,9,  2125.4,-999.000,   2.0815,     -999.0,9,     -999.0,9,     -999.0,9,     -999.0,9,     -999.0,9,     -999.0,9,     -999.0,9, -999.00,9,-999.0000,9,-999.0000,9,-999.0000,9,-999.0000,9,-999.0000,9,-999.0000,9,-999.0000, -999.00
33RR20050106,       P16S,      44,          1,         12,         12,2,20050122,       1146,   -37.4993,  -150.0000,       5500,  2380.3,   2.0831,  34.6480,2,  34.6490,2,    149.8,2,   150.2,2,  117.64,2,   35.74,2,    0.00,2,    2.50,2,-999.000,9,-999.000,9,-999.000,9,  -999.0,9,  -999.0,9,-999.000,9,-999.0000,9, -999.00,9, -999.00,9,  -999.0,9,  -999.0,-999.000,9,-999.000,-999.0000,9,  2380.3,-999.000,   1.9121,     -999.0,9,     -999.0,9,     -999.0,9,     -999.0,9,     -999.0,9,     -999.0,9,     -999.0,9, -999.00,9,-999.0000,9,-999.0000,9,-999.0000,9,-999.0000,9,-999.0000,9,-999.0000,9,-999.0000, -999.00
33RR20050106,       P16S,      44,          1,         11,         11,2,20050122,       1146,   -37.4993,  -150.0000,       5500,  2633.8,   1.9407,  34.6588,2,  34.6591,2,    149.6,2,   150.4,2,  123.64,2,   35.89,2,    0.00,2,    2.50,2,   0.001,2,  -0.002,2,   0.002,2,  -999.0,9,  -999.0,9,-999.000,9,-999.0000,9, -999.00,9, -999.00,9,  -999.0,9,  -999.0,-999.000,9,-999.000,-999.0000,9,  2633.8,-999.000,   1.7492,     -999.0,9,     -999.0,9,     -999.0,9,     -999.0,9,     -999.0,9,     -999.0,9,     -999.0,9, -999.00,9,-999.0000,9,-999.0000,9,-999.0000,9,-999.0000,9,-999.0000,9,-999.0000,9,-999.0000, -999.00
33RR20050106,       P16S,      44,          1,         10,         10,2,20050122,       1146,   -37.4993,  -150.0000,       5500,  2887.0,   1.8441,  34.6673,2,  34.6675,2,    150.9,2,   151.5,2,  126.12,2,   35.83,2,    0.00,2,    2.50,2,-999.000,9,-999.000,9,-999.000,9,  -999.0,9,  -999.0,9,-999.000,9,-999.0000,9, -999.00,9, -999.00,9,  -999.0,9,  -999.0,-999.000,9,-999.000,-999.0000,9,  2887.0,-999.000,   1.6306,     -999.0,9,     -999.0,9,     -999.0,9,     -999.0,9,     -999.0,9,     -999.0,9,     -999.0,9, -999.00,9,-999.0000,9,-999.0000,9,-999.0000,9,-999.0000,9,-999.0000,9,-999.0000,9,-999.0000, -999.00
33RR20050106,       P16S,      44,          1,          9,          9,2,20050122,       1146,   -37.4993,  -150.0000,       5500,  3141.8,   1.7657,  34.6768,2,  34.6776,2,    155.3,2,   156.4,2,  127.14,2,   35.32,2,    0.00,2,    2.47,2,  -0.002,2,  -0.002,2,   0.002,2,  -999.0,9,  -999.0,9,-999.000,9,-999.0000,9, -999.00,9, -999.00,9,  -999.0,9,  -999.0,-999.000,9,-999.000,-999.0000,9,  3141.8,-999.000,   1.5291,     -999.0,9,     -999.0,9,     -999.0,9,     -999.0,9,     -999.0,9,     -999.0,9,     -999.0,9, -999.00,9,-999.0000,9,-999.0000,9,-999.0000,9,-999.0000,9,-999.0000,9,-999.0000,9,-999.0000, -999.00
33RR20050106,       P16S,      44,          1,          8,          8,2,20050122,       1146,   -37.4993,  -150.0000,       5500,  3448.2,   1.6720,  34.6917,2,  34.6925,2,    167.3,2,   167.9,2,  122.34,2,   34.48,2,    0.00,2,    2.40,2,-999.000,9,-999.000,9,-999.000,9,  -999.0,9,  -999.0,9,-999.000,9,-999.0000,9, -999.00,9, -999.00,9,  -999.0,9,  -999.0,-999.000,9,-999.000,-999.0000,9,  3448.2,-999.000,   1.4067,     -999.0,9,     -999.0,9,     -999.0,9,     -999.0,9,     -999.0,9,     -999.0,9,     -999.0,9, -999.00,9,-999.0000,9,-999.0000,9,-999.0000,9,-999.0000,9,-999.0000,9,-999.0000,9,-999.0000, -999.00
33RR20050106,       P16S,      44,          1,          7,          7,2,20050122,       1146,   -37.4993,  -150.0000,       5500,  3753.8,   1.5586,  34.7052,2,  34.7055,2,    180.2,2,   181.1,2,  116.52,2,   33.35,2,    0.00,2,    2.31,2,   0.001,2,  -0.002,2,   0.002,2,  -999.0,9,  -999.0,9,-999.000,9,-999.0000,9, -999.00,9, -999.00,9,  -999.0,9,  -999.0,-999.000,9,-999.000,-999.0000,9,  3753.8,-999.000,   1.2643,     -999.0,9,     -999.0,9,     -999.0,9,     -999.0,9,     -999.0,9,     -999.0,9,     -999.0,9, -999.00,9,-999.0000,9,-999.0000,9,-999.0000,9,-999.0000,9,-999.0000,9,-999.0000,9,-999.0000, -999.00