BOTTLE,20201109CCHSIOCBG
EXPOCODE,SECT_ID,STNNBR,CASTNO,SAMPNO,BTLNBR,BTLNBR_FLAG_W,DATE,TIME,LATITUDE,LONGITUDE,DEPTH,CTDPRS,CTDTMP,CTDSAL,CTDSAL_FLAG_W,SALNTY,SALNTY_FLAG_W,CTDOXY,CTDOXY_FLAG_W,OXYGEN,OXYGEN_FLAG_W,SILCAT,SILCAT_FLAG_W,NITRAT,NITRAT_FLAG_W,NITRIT,NITRIT_FLAG_W,PHSPHT,PHSPHT_FLAG_W,CFC-11,CFC-11_FLAG_W,CFC-12,CFC-12_FLAG_W,CFC113,CFC113_FLAG_W,TCARBN,TCARBN_FLAG_W,ALKALI,ALKALI_FLAG_W,TRITUM,TRITUM_FLAG_W,HELIUM,HELIUM_FLAG_W,DELHE3,DELHE3_FLAG_W,DELC13,DELC13_FLAG_W,DELC14,DELC14_FLAG_W,C14ERR,NEON,NEON_FLAG_W,NEONER,DOC,DOC_FLAG_W,CTDRAW,TRITER,THETA,FUCO,FUCO_FLAG_W,RHAM,RHAM_FLAG_W,ARABA,ARABA_FLAG_W,GALA,GALA_FLAG_W,GLUC,GLUC_FLAG_W,MAN,MAN_FLAG_W,DCNS,DCNS_FLAG_W,BRDU,BRDU_FLAG_W,CDOM325,CDOM325_FLAG_W,CDOM340,CDOM340_FLAG_W,CDOM380,CDOM380_FLAG_W,CDOM412,CDOM412_FLAG_W,CDOMSL,CDOMSL_FLAG_W,CDOMSN,CDOMSN_FLAG_W,HELIER,DELHER
,,,,,,,,,,,METERS,DBAR,ITS-90,PSS-78,,PSS-78,,UMOL/KG,,UMOL/KG,,UMOL/KG,,UMOL/KG,,UMOL/KG,,UMOL/KG,,PMOL/KG,,PMOL/KG,,PMOL/KG,,UMOL/KG,,UMOL/KG,,TU,,NMOL/KG,,PERCNT,,/MILLE,,/MILLE,,/MILLE,NMOL/KG,,NMOL/KG,UMOL/KG,,DBAR,TU,DEG C,NMOL/KG,,NMOL/KG,,NMOL/KG,,NMOL/KG,,NMOL/KG,,NMOL/KG,,NMOL/KG,,PMOL/L/H,,1/M,,1/M,,1/M,,1/M,,1/NM,,1/NM,,NMOL/KG,PERCNT
33RR20050106,       P16S,     107,          1,         32,         32,2,20050210,       0142,   -69.0008,  -149.9938,       4386,     2.2,  -0.4998,  33.3609,2,  33.3618,2,    361.3,2,   362.7,2,   37.14,2,   20.11,2,    0.14,2,    1.35,2,-999.000,5,-999.000,5,-999.000,5,  2105.2,2,  2261.2,6,-999.000,9,-999.0000,9, -999.00,9, -999.00,5,   -97.3,2,     3.2,-999.000,9,-999.000,  47.7136,2,     2.2,-999.000,  -0.4999,        104,2,        102,2,         93,2,        237,2,        136,2,        253,2,        925,2, -999.00,9,   0.0930,2,   0.0620,2,   0.0200,2,   0.0120,2,   0.0300,2,   0.0292,2,-999.0000, -999.00
33RR20050106,       P16S,     107,          1,         31,         31,2,20050210,       0142,   -69.0008,  -149.9938,       4386,    30.3,  -1.0090,  33.5864,2,  33.5969,2,    358.2,2,   352.5,2,   38.98,2,   23.35,2,    0.19,2,    1.62,2,   5.936,2,   3.427,2,   0.568,2,  2137.1,2,  2274.5,2,-999.000,9,-999.0000,9, -999.00,9, -999.00,9,  -999.0,9,  -999.0,-999.000,9,-999.000,  45.3653,2,    30.3,-999.000,  -1.0097,         71,2,         37,2,         72,2,        153,2,        111,2,         91,2,        536,2, -999.00,9,   0.0880,2,   0.0570,2,   0.0220,2,   0.0150,2,   0.0285,2,   0.0288,2,-999.0000, -999.00
33RR20050106,       P16S,     107,          1,         30,         30,2,20050210,       0142,   -69.0008,  -149.9938,       4386,    60.5,  -1.7159,  34.0383,2,  34.0481,2,    322.0,2,   322.2,2,   46.62,2,   27.18,2,    0.29,2,    1.92,2,   5.138,2,   3.010,2,   0.508,2,  2186.4,2,  2298.8,2,-999.000,9,-999.0000,9, -999.00,9, -999.00,5,  -100.4,2,     3.6,-999.000,9,-999.000,  43.3546,2,    60.5,-999.000,  -1.7171,         34,2,         28,2,         72,2,         89,2,         94,2,         79,2,        395,2, -999.00,9,-999.0000,9,-999.0000,9,-999.0000,9,-999.0000,9,-999.0000,9,-999.0000,9,-999.0000, -999.00
33RR20050106,       P16S,     107,          1,         29,         29,2,20050210,       0142,   -69.0008,  -149.9938,       4386,    91.7,  -1.6855,  34.0735,2,  34.0791,2,    311.9,2,   314.9,2,   48.07,2,   27.70,2,    0.30,2,    1.94,2,   5.214,2,   2.986,2,   0.514,2,  2191.7,2,  2301.3,2,-999.000,9,-999.0000,9, -999.00,9, -999.00,9,  -999.0,9,  -999.0,-999.000,9,-999.000,  42.1007,2,    91.7,-999.000,  -1.6874,     -999.0,9,     -999.0,9,     -999.0,9,     -999.0,9,     -999.0,9,     -999.0,9,     -999.0,9, -999.00,9,   0.0860,2,   0.0580,2,   0.0320,2,   0.0230,2,   0.0175,2,   0.0196,2,-999.0000, -999.00
33RR20050106,       P16S,     107,          1,         28,         28,2,20050210,       0142,   -69.0008,  -149.9938,       4386,   122.0,  -1.2641,  34.1517,2,  34.1549,2,    295.8,2,   296.7,2,   53.86,2,   29.05,2,    0.06,2,    2.00,2,   4.625,2,   2.666,2,   0.462,2,  2200.4,2,  2306.3,2,-999.000,9,-999.0000,9, -999.00,9, -999.00,5,  -108.8,2,     2.5,-999.000,9,-999.000,  43.8299,2,   122.0,-999.000,  -1.2671,         30,2,         23,2,         55,2,         67,2,        158,2,        103,2,        437,2, -999.00,9,   0.0940,2,   0.0640,2,   0.0360,2,   0.0270,2,   0.0158,2,   0.0180,2,-999.0000, -999.00
33RR20050106,       P16S,     107,          1,         27,         27,2,20050210,       0142,   -69.0008,  -149.9938,       4386,   142.0,  -0.6237,  34.2626,2,  34.2701,2,    269.9,2,   269.3,2,   62.37,2,   30.35,2,    0.02,2,    2.08,2,   3.714,2,   2.101,2,   0.363,2,  2215.6,2,  2312.8,2,-999.000,9,-999.0000,9, -999.00,9, -999.00,9,  -999.0,9,  -999.0,-999.000,9,-999.000,  44.2083,2,   142.0,-999.000,  -0.6280,     -999.0,9,     -999.0,9,     -999.0,9,     -999.0,9,     -999.0,9,     -999.0,9,     -999.0,9, -999.00,9,   0.1090,2,   0.0770,2,   0.0430,2,   0.0330,2,   0.0135,2,   0.0155,2,-999.0000, -999.00
33RR20050106,       P16S,     107,          1,         26,         26,2,20050210,       0142,   -69.0008,  -149.9938,       4386,   172.4,   0.5221,  34.4729,2,  34.4850,2,    229.1,2,   219.7,2,   77.57,2,   32.32,2,    0.01,2,    2.23,2,   1.994,2,   1.129,2,   0.185,2,  2239.1,2,  2326.9,2,-999.000,9,-999.0000,9, -999.00,9, -999.00,5,  -118.0,2,     3.4,-999.000,9,-999.000,  56.4471,4,   172.4,-999.000,   0.5151,         19,2,         23,2,         60,2,         58,2,        117,2,         66,2,        343,2, -999.00,9,   0.1680,2,   0.1230,2,   0.0520,2,   0.0370,2,   0.0169,3,   0.0199,3,-999.0000, -999.00
33RR20050106,       P16S,     107,          1,         25,         25,2,20050210,       0142,   -69.0008,  -149.9938,       4386,   222.6,   1.5390,  34.6737,2,  34.6781,2,    183.5,2,   184.7,2,   88.62,2,   33.01,2,    0.01,2,    2.27,2,   0.594,2,   0.315,2,   0.044,2,  2254.6,2,  2340.6,2,-999.000,9,-999.0000,9, -999.00,9, -999.00,5,  -156.0,2,     2.3,-999.000,9,-999.000,  40.8062,2,   222.6,-999.000,   1.5278,     -999.0,9,     -999.0,9,     -999.0,9,     -999.0,9,     -999.0,9,     -999.0,9,     -999.0,9, -999.00,9,   0.1570,2,   0.1130,2,   0.0540,2,   0.0390,2,   0.0153,3,   0.0178,3,-999.0000, -999.00
33RR20050106,       P16S,     107,          1,         24,         24,2,20050210,       0142,   -69.0008,  -149.9938,       4386,   273.1,   1.6159,  34.7150,2,  34.7146,2,    182.6,2,   184.4,2,   92.16,2,   32.52,2,    0.00,2,    2.24,2,   0.316,2,   0.169,2,   0.024,2,  2258.3,2,  2344.8,2,-999.000,9,-999.0000,9, -999.00,9, -999.00,5,  -152.9,2,     2.8,-999.000,9,-999.000,  40.8905,2,   273.1,-999.000,   1.6019,         27,2,         21,2,         28,2,         44,2,         59,2,         46,2,        225,2, -999.00,9,   0.1330,2,   0.0950,2,   0.0530,2,   0.0390,2,   0.0136,2,   0.0154,2,-999.0000, -999.00
33RR20050106,       P16S,     107,          1,         23,         23,2,20050210,       0142,   -69.0008,  -149.9938,       4386,   324.5,   1.5798,  34.7241,2,  34.7225,2,    184.4,2,   185.2,2,   94.68,2,   32.48,2,    0.00,2,    2.23,2,   0.292,2,   0.150,2,   0.019,2,  2258.3,2,  2346.6,2,-999.000,9,-999.0000,9, -999.00,9, -999.00,5,  -168.3,2,     2.8,-999.000,9,-999.000,  40.7311,2,   324.5,-999.000,   1.5631,     -999.0,9,     -999.0,9,     -999.0,9,     -999.0,9,     -999.0,9,     -999.0,9,     -999.0,9, -999.00,9,-999.0000,9,-999.0000,9,-999.0000,9,-999.0000,9,-999.0000,9,-999.0000,9,-999.0000, -999.00
33RR20050106,       P16S,     107,          1,         22,         22,2,20050210,       0142,   -69.0008,  -149.9938,       4386,   448.7,   1.4475,  34.7314,2,  34.7306,2,    186.0,2,   186.2,2,  100.12,2,   32.48,2,    0.00,2,    2.24,2,-999.000,5,-999.000,5,-999.000,5,  2260.4,2,  2351.3,2,-999.000,9,-999.0000,9, -999.00,9, -999.00,5,  -153.1,2,     2.3,-999.000,9,-999.000,  39.3334,2,   448.7,-999.000,   1.4244,     -999.0,9,     -999.0,9,     -999.0,9,     -999.0,9,     -999.0,9,     -999.0,9,     -999.0,9, -999.00,9,   0.1310,2,   0.0920,2,   0.0520,2,   0.0380,2,   0.0135,2,   0.0153,2,-999.0000, -999.00
33RR20050106,       P16S,     107,          1,         21,         21,2,20050210,       0142,   -69.0008,  -149.9938,       4386,   549.6,   1.3496,  34.7318,2,  34.7309,2,    186.6,2,   186.8,2,  104.30,2,   32.64,2,    0.00,2,    2.25,2,   0.140,2,   0.072,2,   0.013,2,  2261.0,2,  2352.7,2,-999.000,9,-999.0000,9, -999.00,9, -999.00,5,  -154.4,2,     2.4,-999.000,9,-999.000,  41.4878,2,   549.6,-999.000,   1.3213,     -999.0,9,     -999.0,9,     -999.0,9,     -999.0,9,     -999.0,9,     -999.0,9,     -999.0,9, -999.00,9,   0.1310,2,   0.0930,2,   0.0520,2,   0.0380,2,   0.0135,2,   0.0153,2,-999.0000, -999.00
33RR20050106,       P16S,     107,          1,         20,         20,2,20050210,       0142,   -69.0008,  -149.9938,       4386,   650.5,   1.2722,  34.7307,2,  34.7302,2,    187.5,2,   188.0,2,  106.81,2,   32.64,2,    0.00,2,    2.24,2,   0.181,2,   0.106,2,   0.016,2,  2264.0,2,  2353.6,2,-999.000,9,-999.0000,9, -999.00,9, -999.00,5,  -154.7,2,     2.7,-999.000,9,-999.000,  41.8818,2,   650.5,-999.000,   1.2386,     -999.0,9,     -999.0,9,     -999.0,9,     -999.0,9,     -999.0,9,     -999.0,9,     -999.0,9, -999.00,9,   0.1280,2,   0.0910,2,   0.0510,2,   0.0380,2,   0.0132,2,   0.0151,2,-999.0000, -999.00
33RR20050106,       P16S,     107,          1,         19,         19,2,20050210,       0142,   -69.0008,  -149.9938,       4386,   751.3,   1.2002,  34.7288,2,  34.7286,2,    189.0,2,   189.8,2,  110.15,2,   32.75,2,    0.00,2,    2.24,2,   0.119,2,   0.067,2,   0.017,2,  2262.9,2,  2354.3,2,-999.000,9,-999.0000,9, -999.00,9, -999.00,5,  -160.3,2,     2.8,-999.000,9,-999.000,  40.8531,2,   751.3,-999.000,   1.1612,     -999.0,9,     -999.0,9,     -999.0,9,     -999.0,9,     -999.0,9,     -999.0,9,     -999.0,9, -999.00,9,   0.1290,2,   0.0920,2,   0.0520,2,   0.0390,2,   0.0131,2,   0.0148,2,-999.0000, -999.00
33RR20050106,       P16S,     107,          1,         17,         17,2,20050210,       0142,   -69.0008,  -149.9938,       4386,   852.3,   1.1248,  34.7262,2,  34.7257,2,    190.8,2,   191.3,2,  112.24,2,   32.69,2,    0.00,2,    2.25,2,-999.000,9,-999.000,9,-999.000,9,  2263.7,2,  2355.4,6,-999.000,9,-999.0000,9, -999.00,9, -999.00,5,  -159.6,2,     2.6,-999.000,9,-999.000,  40.2276,2,   852.3,-999.000,   1.0803,     -999.0,9,     -999.0,9,     -999.0,9,     -999.0,9,     -999.0,9,     -999.0,9,     -999.0,9, -999.00,9,   0.1270,2,   0.0900,2,   0.0510,2,   0.0380,2,   0.0132,2,   0.0151,2,-999.0000, -999.00
33RR20050106,       P16S,     107,          1,         18,         18,2,20050210,       0142,   -69.0008,  -149.9938,       4386,   852.5,   1.1242,  34.7264,2,  34.7267,2,    190.8,2,   191.5,2,  112.04,2,   32.69,2,    0.00,2,    2.25,2,   0.102,2,   0.062,2,   0.013,2,  -999.0,9,  -999.0,9,-999.000,9,-999.0000,9, -999.00,9, -999.00,9,  -999.0,9,  -999.0,-999.000,9,-999.000,-999.0000,9,   852.5,-999.000,   1.0797,     -999.0,9,     -999.0,9,     -999.0,9,     -999.0,9,     -999.0,9,     -999.0,9,     -999.0,9, -999.00,9,-999.0000,9,-999.0000,9,-999.0000,9,-999.0000,9,-999.0000,9,-999.0000,9,-999.0000, -999.00
33RR20050106,       P16S,     107,          1,         16,         16,2,20050210,       0142,   -69.0008,  -149.9938,       4386,   953.6,   1.0589,  34.7239,2,  34.7226,2,    192.9,2,   193.7,2,  113.50,2,   32.64,2,    0.00,2,    2.24,2,   0.077,2,   0.046,2,   0.016,2,  2261.3,6,  2356.1,2,-999.000,9,-999.0000,9, -999.00,9, -999.00,5,  -164.0,2,     3.5,-999.000,9,-999.000,  41.4566,2,   953.6,-999.000,   1.0088,     -999.0,9,     -999.0,9,     -999.0,9,     -999.0,9,     -999.0,9,     -999.0,9,     -999.0,9, -999.00,9,   0.1270,2,   0.0890,2,   0.0500,2,   0.0380,2,   0.0132,2,   0.0151,2,-999.0000, -999.00
33RR20050106,       P16S,     107,          1,         15,         15,2,20050210,       0142,   -69.0008,  -149.9938,       4386,  1155.9,   0.9368,  34.7190,2,  34.7191,2,    197.4,2,   197.4,2,  117.28,2,   32.64,2,    0.00,2,    2.24,2,   0.073,2,   0.042,2,   0.014,2,  2261.1,2,  2357.0,2,-999.000,9,-999.0000,9, -999.00,9, -999.00,5,  -158.7,2,     2.3,-999.000,9,-999.000,  40.2339,2,  1155.9,-999.000,   0.8753,     -999.0,9,     -999.0,9,     -999.0,9,     -999.0,9,     -999.0,9,     -999.0,9,     -999.0,9, -999.00,9,   0.1300,2,   0.0930,2,   0.0550,2,   0.0410,2,   0.0123,2,   0.0139,2,-999.0000, -999.00
33RR20050106,       P16S,     107,          1,         14,         14,2,20050210,       0142,   -69.0008,  -149.9938,       4386,  1358.5,   0.8253,  34.7145,2,  34.7134,2,    200.1,2,   200.7,2,  120.42,2,   32.64,2,    0.00,2,    2.25,2,   0.080,2,   0.041,2,   0.018,2,  2263.0,2,  2357.8,2,-999.000,9,-999.0000,9, -999.00,9, -999.00,5,  -166.3,2,     2.7,-999.000,9,-999.000,-999.0000,9,  1358.5,-999.000,   0.7519,     -999.0,9,     -999.0,9,     -999.0,9,     -999.0,9,     -999.0,9,     -999.0,9,     -999.0,9, -999.00,9,-999.0000,9,-999.0000,9,-999.0000,9,-999.0000,9,-999.0000,9,-999.0000,9,-999.0000, -999.00
33RR20050106,       P16S,     107,          1,         13,         13,2,20050210,       0142,   -69.0008,  -149.9938,       4386,  1561.1,   0.7357,  34.7109,2,  34.7103,2,    202.3,2,   203.0,2,  124.20,2,   32.69,2,    0.00,2,    2.25,2,   0.194,2,   0.109,2,   0.017,2,  2262.5,2,  2358.5,2,-999.000,9,-999.0000,9, -999.00,9, -999.00,5,  -164.9,2,     2.5,-999.000,9,-999.000,  40.8937,2,  1561.1,-999.000,   0.6498,     -999.0,9,     -999.0,9,     -999.0,9,     -999.0,9,     -999.0,9,     -999.0,9,     -999.0,9, -999.00,9,   0.1210,2,   0.0860,2,   0.0490,2,   0.0350,2,   0.0136,2,   0.0153,2,-999.0000, -999.00
33RR20050106,       P16S,     107,          1,         12,         12,2,20050210,       0142,   -69.0008,  -149.9938,       4386,  1764.0,   0.6666,  34.7082,2,  34.7084,2,    204.0,2,   204.8,2,  126.51,2,   32.75,2,    0.00,2,    2.25,2,   0.204,3,   0.117,3,   0.025,3,  2262.8,2,  2358.4,2,-999.000,9,-999.0000,9, -999.00,9, -999.00,9,  -999.0,9,  -999.0,-999.000,9,-999.000,-999.0000,9,  1764.0,-999.000,   0.5675,     -999.0,9,     -999.0,9,     -999.0,9,     -999.0,9,     -999.0,9,     -999.0,9,     -999.0,9, -999.00,9,-999.0000,9,-999.0000,9,-999.0000,9,-999.0000,9,-999.0000,9,-999.0000,9,-999.0000, -999.00
33RR20050106,       P16S,     107,          1,         11,         11,2,20050210,       0142,   -69.0008,  -149.9938,       4386,  1967.0,   0.5916,  34.7063,2,  34.7074,2,    205.7,2,   206.4,2,  127.55,2,   32.80,2,    0.00,2,    2.26,2,   0.089,2,   0.053,2,   0.006,2,  2262.4,2,  2357.9,2,-999.000,9,-999.0000,9, -999.00,9, -999.00,9,  -999.0,9,  -999.0,-999.000,9,-999.000,  40.4309,2,  1967.0,-999.000,   0.4790,     -999.0,9,     -999.0,9,     -999.0,9,     -999.0,9,     -999.0,9,     -999.0,9,     -999.0,9, -999.00,9,   0.1180,2,   0.0820,2,   0.0460,2,   0.0330,2,   0.0141,2,   0.0162,2,-999.0000, -999.00
33RR20050106,       P16S,     107,          1,         10,         10,2,20050210,       0142,   -69.0008,  -149.9938,       4386,  2129.5,   0.5333,  34.7052,2,  34.7060,2,    207.1,2,   207.7,2,  128.60,2,   32.80,2,    0.00,2,    2.26,2,   0.098,2,   0.050,2,   0.014,2,  2261.8,2,  2357.8,2,-999.000,9,-999.0000,9, -999.00,9, -999.00,9,  -999.0,9,  -999.0,-999.000,9,-999.000,-999.0000,9,  2129.5,-999.000,   0.4095,     -999.0,9,     -999.0,9,     -999.0,9,     -999.0,9,     -999.0,9,     -999.0,9,     -999.0,9, -999.00,9,-999.0000,9,-999.0000,9,-999.0000,9,-999.0000,9,-999.0000,9,-999.0000,9,-999.0000, -999.00
33RR20050106,       P16S,     107,          1,          9,          9,2,20050210,       0142,   -69.0008,  -149.9938,       4386,  2383.8,   0.4473,  34.7043,2,  34.7049,2,    209.1,2,   210.0,2,  130.27,2,   32.85,2,    0.00,2,    2.26,2,   0.146,2,   0.080,2,   0.016,2,  2260.6,2,  2358.1,2,-999.000,9,-999.0000,9, -999.00,9, -999.00,9,  -999.0,9,  -999.0,-999.000,9,-999.000,  40.7092,2,  2383.8,-999.000,   0.3053,     -999.0,9,     -999.0,9,     -999.0,9,     -999.0,9,     -999.0,9,     -999.0,9,     -999.0,9, -999.00,9,   0.1170,2,   0.0810,2,   0.0450,2,   0.0330,2,   0.0140,2,   0.0161,2,-999.0000, -999.00
33RR20050106,       P16S,     107,          1,          8,          8,2,20050210,       0142,   -69.0008,  -149.9938,       4386,  2638.4,   0.3714,  34.7037,2,  34.7053,3,    211.0,2,   211.8,2,  132.37,2,   32.85,2,    0.00,2,    2.26,2,   0.107,2,   0.069,2,   0.014,2,  2263.7,2,  2359.6,2,-999.000,9,-999.0000,9, -999.00,9, -999.00,9,  -999.0,9,  -999.0,-999.000,9,-999.000,-999.0000,9,  2638.4,-999.000,   0.2103,     -999.0,9,     -999.0,9,     -999.0,9,     -999.0,9,     -999.0,9,     -999.0,9,     -999.0,9, -999.00,9,-999.0000,9,-999.0000,9,-999.0000,9,-999.0000,9,-999.0000,9,-999.0000,9,-999.0000, -999.00
33RR20050106,       P16S,     107,          1,          7,          7,2,20050210,       0142,   -69.0008,  -149.9938,       4386,  2893.0,   0.3104,  34.7032,2,  34.7021,2,    213.1,2,   214.3,2,  133.42,2,   32.91,2,    0.00,2,    2.26,2,   0.282,2,   0.156,2,   0.023,2,  2263.2,2,  2358.5,2,-999.000,9,-999.0000,9, -999.00,9, -999.00,9,  -999.0,9,  -999.0,-999.000,9,-999.000,-999.0000,9,  2893.0,-999.000,   0.1291,     -999.0,9,     -999.0,9,     -999.0,9,     -999.0,9,     -999.0,9,     -999.0,9,     -999.0,9, -999.00,9,   0.1150,2,   0.0790,2,   0.0440,2,   0.0320,2,   0.0143,2,   0.0165,2,-999.0000, -999.00
33RR20050106,       P16S,     107,          1,          6,          6,2,20050210,       0142,   -69.0008,  -149.9938,       4386,  3148.1,   0.2512,  34.7017,2,  34.7014,2,    215.2,2,   216.3,2,  132.57,2,   32.91,2,    0.00,2,    2.27,2,   0.265,2,   0.139,2,   0.020,2,  2262.5,2,  2358.3,2,-999.000,9,-999.0000,9, -999.00,9, -999.00,9,  -999.0,9,  -999.0,-999.000,9,-999.000,-999.0000,9,  3148.1,-999.000,   0.0489,     -999.0,9,     -999.0,9,     -999.0,9,     -999.0,9,     -999.0,9,     -999.0,9,     -999.0,9, -999.00,9,-999.0000,9,-999.0000,9,-999.0000,9,-999.0000,9,-999.0000,9,-999.0000,9,-999.0000, -999.00
33RR20050106,       P16S,     107,          1,          5,          5,2,20050210,       0142,   -69.0008,  -149.9938,       4386,  3454.7,   0.1784,  34.6988,2,  34.6988,2,    219.7,2,   220.0,2,  126.24,2,   32.75,2,    0.00,2,    2.26,2,   0.587,2,   0.302,2,   0.038,2,  2260.6,2,  2355.9,2,-999.000,9,-999.0000,9, -999.00,9, -999.00,9,  -999.0,9,  -999.0,-999.000,9,-999.000,  39.0377,2,  3454.7,-999.000,  -0.0501,     -999.0,9,     -999.0,9,     -999.0,9,     -999.0,9,     -999.0,9,     -999.0,9,     -999.0,9, -999.00,9,   0.1150,2,   0.0790,2,   0.0440,2,   0.0330,2,   0.0140,2,   0.0162,2,-999.0000, -999.00
33RR20050106,       P16S,     107,          1,          4,          4,2,20050210,       0142,   -69.0008,  -149.9938,       4386,  3761.8,   0.1566,  34.6977,2,  34.6983,2,    221.7,2,   222.3,2,  122.45,2,   32.69,2,    0.00,2,    2.25,2,   0.717,2,   0.369,2,   0.045,2,  2259.1,2,  2356.1,2,-999.000,9,-999.0000,9, -999.00,9, -999.00,9,  -999.0,9,  -999.0,-999.000,9,-999.000,-999.0000,9,  3761.8,-999.000,  -0.1006,     -999.0,9,     -999.0,9,     -999.0,9,     -999.0,9,     -999.0,9,     -999.0,9,     -999.0,9, -999.00,9,-999.0000,9,-999.0000,9,-999.0000,9,-999.0000,9,-999.0000,9,-999.0000,9,-999.0000, -999.00
33RR20050106,       P16S,     107,          1,          3,          3,2,20050210,       0142,   -69.0008,  -149.9938,       4386,  4120.1,   0.1773,  34.6986,2,  34.6989,2,    222.1,2,   223.2,2,  123.28,2,   32.75,2,    0.00,2,    2.26,2,   0.648,2,   0.325,2,   0.045,2,  2258.2,2,  2355.4,2,-999.000,9,-999.0000,9, -999.00,9, -999.00,9,  -999.0,9,  -999.0,-999.000,9,-999.000,  38.5017,2,  4120.1,-999.000,  -0.1164,     -999.0,9,     -999.0,9,     -999.0,9,     -999.0,9,     -999.0,9,     -999.0,9,     -999.0,9, -999.00,9,   0.1060,3,   0.0700,3,   0.0360,3,   0.0270,3,   0.0181,3,   0.0202,3,-999.0000, -999.00