BOTTLE,20201109CCHSIOCBG
EXPOCODE,SECT_ID,STNNBR,CASTNO,SAMPNO,BTLNBR,BTLNBR_FLAG_W,DATE,TIME,LATITUDE,LONGITUDE,DEPTH,CTDPRS,CTDTMP,CTDSAL,CTDSAL_FLAG_W,SALNTY,SALNTY_FLAG_W,CTDOXY,CTDOXY_FLAG_W,OXYGEN,OXYGEN_FLAG_W,SILCAT,SILCAT_FLAG_W,NITRAT,NITRAT_FLAG_W,NITRIT,NITRIT_FLAG_W,PHSPHT,PHSPHT_FLAG_W,CFC-11,CFC-11_FLAG_W,CFC-12,CFC-12_FLAG_W,CFC113,CFC113_FLAG_W,TCARBN,TCARBN_FLAG_W,ALKALI,ALKALI_FLAG_W,TRITUM,TRITUM_FLAG_W,HELIUM,HELIUM_FLAG_W,DELHE3,DELHE3_FLAG_W,DELC13,DELC13_FLAG_W,DELC14,DELC14_FLAG_W,C14ERR,NEON,NEON_FLAG_W,NEONER,DOC,DOC_FLAG_W,CTDRAW,TRITER,THETA,FUCO,FUCO_FLAG_W,RHAM,RHAM_FLAG_W,ARABA,ARABA_FLAG_W,GALA,GALA_FLAG_W,GLUC,GLUC_FLAG_W,MAN,MAN_FLAG_W,DCNS,DCNS_FLAG_W,BRDU,BRDU_FLAG_W,CDOM325,CDOM325_FLAG_W,CDOM340,CDOM340_FLAG_W,CDOM380,CDOM380_FLAG_W,CDOM412,CDOM412_FLAG_W,CDOMSL,CDOMSL_FLAG_W,CDOMSN,CDOMSN_FLAG_W,HELIER,DELHER
,,,,,,,,,,,METERS,DBAR,ITS-90,PSS-78,,PSS-78,,UMOL/KG,,UMOL/KG,,UMOL/KG,,UMOL/KG,,UMOL/KG,,UMOL/KG,,PMOL/KG,,PMOL/KG,,PMOL/KG,,UMOL/KG,,UMOL/KG,,TU,,NMOL/KG,,PERCNT,,/MILLE,,/MILLE,,/MILLE,NMOL/KG,,NMOL/KG,UMOL/KG,,DBAR,TU,DEG C,NMOL/KG,,NMOL/KG,,NMOL/KG,,NMOL/KG,,NMOL/KG,,NMOL/KG,,NMOL/KG,,PMOL/L/H,,1/M,,1/M,,1/M,,1/M,,1/NM,,1/NM,,NMOL/KG,PERCNT
33RR20050106,       P16S,      21,          3,         36,         36,2,20050115,       2305,   -26.0002,  -150.0003,       4808,     2.5,  26.3192,  35.3219,2,  35.3303,2,    204.1,2,   206.9,2,    0.41,2,    0.06,2,    0.00,2,    0.09,2,   1.830,6,   1.186,6,   0.155,6,  2007.6,6,  2317.9,6,-999.000,9,-999.0000,9, -999.00,9, -999.00,9,  -999.0,9,  -999.0,-999.000,9,-999.000,  66.5531,2,     2.5,-999.000,  26.3186,        307,2,        195,2,        178,2,        563,2,        415,2,        730,2,       2389,2,    0.22,2,   0.0210,2,   0.0130,2,   0.0040,2,   0.0030,2,-999.0000,9,-999.0000,9,-999.0000, -999.00
33RR20050106,       P16S,      21,          3,         35,         35,2,20050115,       2305,   -26.0002,  -150.0003,       4808,    22.7,  23.8637,  35.3577,2,  35.3565,2,    214.2,2,   214.3,2,    0.41,2,    0.05,2,    0.00,2,    0.08,2,   1.974,2,   1.254,2,   0.157,2,  2010.1,2,  2320.0,2,-999.000,9,-999.0000,9, -999.00,9, -999.00,9,  -999.0,9,  -999.0,-999.000,9,-999.000,  65.8742,2,    22.7,-999.000,  23.8589,     -999.0,9,     -999.0,9,     -999.0,9,     -999.0,9,     -999.0,9,     -999.0,9,     -999.0,9,    0.25,2,   0.0080,3,   0.0020,3,  -0.0030,4,  -0.0020,4,-999.0000,9,-999.0000,9,-999.0000, -999.00
33RR20050106,       P16S,      21,          3,         34,         34,2,20050115,       2305,   -26.0002,  -150.0003,       4808,    47.5,  21.2586,  35.5944,2,  35.5906,2,    228.0,2,   227.3,2,    0.41,2,    0.05,2,    0.00,2,    0.09,2,   2.198,2,   1.358,2,   0.174,2,  2027.1,2,  2335.9,2,-999.000,9,-999.0000,9, -999.00,9, -999.00,9,  -999.0,9,  -999.0,-999.000,9,-999.000,  66.1922,2,    47.5,-999.000,  21.2494,        287,2,        170,2,        159,2,        534,2,        277,2,        593,2,       2021,2,    0.17,2,   0.0220,2,   0.0140,2,   0.0050,2,   0.0040,2,-999.0000,9,-999.0000,9,-999.0000, -999.00
33RR20050106,       P16S,      21,          3,         33,         33,2,20050115,       2305,   -26.0002,  -150.0003,       4808,    92.5,  20.0724,  35.5875,2,  35.5920,2,    231.0,2,   229.2,2,    0.41,2,    0.05,2,    0.00,2,    0.09,2,   2.271,2,   1.433,2,   0.176,2,  2031.0,2,  2333.1,2,-999.000,9,-999.0000,9, -999.00,9, -999.00,9,  -999.0,9,  -999.0,-999.000,9,-999.000,  64.8556,2,    92.5,-999.000,  20.0552,        271,2,        145,2,         66,2,        444,2,        295,2,        478,2,       1698,2,    0.12,2,   0.0490,2,   0.0330,2,   0.0150,2,   0.0100,2,   0.0248,2,   0.0249,2,-999.0000, -999.00
33RR20050106,       P16S,      21,          3,         32,         32,2,20050115,       2305,   -26.0002,  -150.0003,       4808,   142.3,  18.9109,  35.5390,2,  35.5387,2,    229.2,2,   226.9,2,    0.41,2,    0.05,2,    0.00,2,    0.09,2,  -0.020,4,  -0.001,4,   0.001,4,  2040.6,2,  2328.6,2,-999.000,9,-999.0000,9, -999.00,9, -999.00,9,  -999.0,9,  -999.0,-999.000,9,-999.000,  59.9847,2,   142.3,-999.000,  18.8855,        192,2,        151,2,        113,2,        314,2,        234,2,        389,2,       1394,2,    0.08,2,   0.0560,2,   0.0390,2,   0.0190,2,   0.0130,2,   0.0218,2,   0.0220,2,-999.0000, -999.00
33RR20050106,       P16S,      21,          3,         31,         31,2,20050115,       2305,   -26.0002,  -150.0003,       4808,   167.2,  18.6205,  35.5318,2,  35.5314,2,    228.9,2,   226.4,2,    0.41,2,    0.10,2,    0.00,2,    0.10,2,   2.429,2,   1.468,2,   0.164,2,  2045.7,2,  2328.8,2,-999.000,9,-999.0000,9, -999.00,9, -999.00,9,  -999.0,9,  -999.0,-999.000,9,-999.000,  58.0014,2,   167.2,-999.000,  18.5910,     -999.0,9,     -999.0,9,     -999.0,9,     -999.0,9,     -999.0,9,     -999.0,9,     -999.0,9,    0.06,2,   0.0610,2,   0.0430,2,   0.0210,2,   0.0150,2,   0.0214,2,   0.0217,2,-999.0000, -999.00
33RR20050106,       P16S,      21,          3,         30,         30,2,20050115,       2305,   -26.0002,  -150.0003,       4808,   192.8,  18.4609,  35.5266,2,  35.5269,2,    226.8,2,   227.1,2,    0.41,2,    0.10,2,    0.00,2,    0.10,2,   2.472,2,   1.416,2,   0.156,2,  2045.9,2,  2328.8,2,-999.000,9,-999.0000,9, -999.00,9, -999.00,9,  -999.0,9,  -999.0,-999.000,9,-999.000,  57.9835,2,   192.8,-999.000,  18.4271,        134,2,         95,2,         80,2,        231,2,        172,2,        265,2,        978,2,    0.15,2,   0.0640,2,   0.0450,2,   0.0210,2,   0.0150,2,   0.0223,2,   0.0223,2,-999.0000, -999.00
33RR20050106,       P16S,      21,          3,         29,         29,2,20050115,       2305,   -26.0002,  -150.0003,       4808,   242.5,  17.2699,  35.4495,2,  35.4497,2,    229.0,2,   225.1,2,    0.41,2,    0.61,2,    0.14,2,    0.16,2,   2.544,2,   1.516,2,   0.181,2,  2055.9,2,  2323.0,2,-999.000,9,-999.0000,9, -999.00,9, -999.00,9,  -999.0,9,  -999.0,-999.000,9,-999.000,  54.4991,2,   242.5,-999.000,  17.2293,     -999.0,9,     -999.0,9,     -999.0,9,     -999.0,9,     -999.0,9,     -999.0,9,     -999.0,9,    0.02,2,   0.0580,2,   0.0410,2,   0.0200,2,   0.0140,2,   0.0205,2,   0.0207,2,-999.0000, -999.00
33RR20050106,       P16S,      21,          3,         28,         28,2,20050115,       2305,   -26.0002,  -150.0003,       4808,   291.9,  15.9312,  35.3063,2,  35.3147,2,    208.9,2,   207.8,2,    0.81,2,    3.61,2,    0.01,2,    0.37,2,   2.617,2,   1.507,2,   0.091,2,  2077.1,2,  2315.9,2,-999.000,9,-999.0000,9, -999.00,9, -999.00,9,  -999.0,9,  -999.0,-999.000,9,-999.000,  48.3345,2,   291.9,-999.000,  15.8849,         67,2,         51,2,         53,2,        105,2,        131,2,        126,2,        533,2, -999.00,9,   0.0660,2,   0.0520,2,   0.0260,2,   0.0180,2,   0.0168,2,   0.0168,2,-999.0000, -999.00
33RR20050106,       P16S,      21,          3,         27,         27,2,20050115,       2305,   -26.0002,  -150.0003,       4808,   342.4,  13.6598,  35.0269,2,  35.0336,2,    205.8,2,   201.4,2,    1.81,2,    8.33,2,    0.00,2,    0.69,2,   2.678,2,   1.466,2,   0.050,2,  2098.5,2,  2303.6,2,-999.000,9,-999.0000,9, -999.00,9, -999.00,9,  -999.0,9,  -999.0,-999.000,9,-999.000,  44.7502,2,   342.4,-999.000,  13.6109,     -999.0,9,     -999.0,9,     -999.0,9,     -999.0,9,     -999.0,9,     -999.0,9,     -999.0,9, -999.00,9,   0.0530,2,   0.0380,2,   0.0160,2,   0.0120,3,   0.0212,2,   0.0213,2,-999.0000, -999.00
33RR20050106,       P16S,      21,          3,         26,         26,2,20050115,       2305,   -26.0002,  -150.0003,       4808,   392.8,  11.3756,  34.7796,2,  34.7718,2,    205.1,2,   204.7,2,    3.01,2,   13.27,2,    0.00,2,    0.99,2,   2.676,2,   1.442,2,   0.067,2,  2115.5,2,  2291.9,2,-999.000,9,-999.0000,9, -999.00,9, -999.00,9,  -999.0,9,  -999.0,-999.000,9,-999.000,-999.0000,9,   392.8,-999.000,  11.3258,     -999.0,9,     -999.0,9,     -999.0,9,     -999.0,9,     -999.0,9,     -999.0,9,     -999.0,9, -999.00,9,-999.0000,9,-999.0000,9,-999.0000,9,-999.0000,9,-999.0000,9,-999.0000,9,-999.0000, -999.00
33RR20050106,       P16S,      21,          3,         25,         25,2,20050115,       2305,   -26.0002,  -150.0003,       4808,   442.8,   9.8062,  34.5915,2,  34.5996,2,    209.7,2,   208.7,2,    4.02,2,   16.40,2,    0.00,2,    1.19,2,   2.620,2,   1.358,2,   0.062,2,  2125.1,2,  2285.2,2,-999.000,9,-999.0000,9, -999.00,9, -999.00,9,  -999.0,9,  -999.0,-999.000,9,-999.000,  45.9688,2,   442.8,-999.000,   9.7550,     -999.0,9,     -999.0,9,     -999.0,9,     -999.0,9,     -999.0,9,     -999.0,9,     -999.0,9, -999.00,9,-999.0000,9,-999.0000,9,-999.0000,9,-999.0000,9,-999.0000,9,-999.0000,9,-999.0000, -999.00
33RR20050106,       P16S,      21,          3,         24,         24,2,20050115,       2305,   -26.0002,  -150.0003,       4808,   492.9,   8.7027,  34.4973,2,  34.4900,2,    215.0,2,   218.1,2,    5.02,2,   19.10,2,    0.00,2,    1.37,2,   2.641,2,   1.338,2,   0.068,2,  2133.1,2,  2282.2,2,-999.000,9,-999.0000,9, -999.00,9, -999.00,9,  -999.0,9,  -999.0,-999.000,9,-999.000,  42.0414,2,   492.9,-999.000,   8.6497,     -999.0,9,     -999.0,9,     -999.0,9,     -999.0,9,     -999.0,9,     -999.0,9,     -999.0,9, -999.00,9,   0.0520,2,   0.0380,2,   0.0190,2,   0.0140,2,   0.0199,2,   0.0208,2,-999.0000, -999.00
33RR20050106,       P16S,      21,          3,         23,         23,2,20050115,       2305,   -26.0002,  -150.0003,       4808,   578.1,   7.1598,  34.3846,2,  34.3840,2,    227.8,2,   230.2,2,    7.04,2,   22.20,2,    0.00,2,    1.55,2,   2.408,2,   1.265,2,   0.094,2,  2140.7,2,  2279.4,2,-999.000,9,-999.0000,9, -999.00,9, -999.00,9,  -999.0,9,  -999.0,-999.000,9,-999.000,  43.4308,2,   578.1,-999.000,   7.1040,     -999.0,9,     -999.0,9,     -999.0,9,     -999.0,9,     -999.0,9,     -999.0,9,     -999.0,9, -999.00,9,   0.0500,2,   0.0350,2,   0.0180,2,   0.0130,2,   0.0213,2,   0.0225,2,-999.0000, -999.00
33RR20050106,       P16S,      21,          3,         22,         22,2,20050115,       2305,   -26.0002,  -150.0003,       4808,   678.8,   6.2374,  34.3326,2,  34.3336,2,    233.5,2,   235.3,2,    9.65,2,   24.31,2,    0.00,2,    1.67,2,   1.854,2,   0.948,2,   0.051,2,  2146.3,2,  2280.1,2,-999.000,9,-999.0000,9, -999.00,9, -999.00,9,  -999.0,9,  -999.0,-999.000,9,-999.000,  41.3123,2,   678.8,-999.000,   6.1762,     -999.0,9,     -999.0,9,     -999.0,9,     -999.0,9,     -999.0,9,     -999.0,9,     -999.0,9, -999.00,9,   0.0490,2,   0.0350,2,   0.0190,2,   0.0140,2,   0.0210,2,   0.0223,2,-999.0000, -999.00
33RR20050106,       P16S,      21,          3,         21,         21,2,20050115,       2305,   -26.0002,  -150.0003,       4808,   779.3,   5.5702,  34.3108,2,  34.3112,2,    226.6,2,   224.3,2,   14.88,2,   26.82,2,    0.00,2,    1.85,2,   1.103,2,   0.589,2,   0.023,2,  2159.9,6,  2283.3,2,-999.000,9,-999.0000,9, -999.00,9, -999.00,9,  -999.0,9,  -999.0,-999.000,9,-999.000,  40.9585,2,   779.3,-999.000,   5.5034,     -999.0,9,     -999.0,9,     -999.0,9,     -999.0,9,     -999.0,9,     -999.0,9,     -999.0,9, -999.00,9,   0.0520,2,   0.0370,2,   0.0200,2,   0.0150,2,   0.0207,2,   0.0222,2,-999.0000, -999.00
33RR20050106,       P16S,      21,          3,         20,         20,2,20050115,       2305,   -26.0002,  -150.0003,       4808,   879.5,   5.0174,  34.3310,2,  34.3308,2,    205.1,2,   196.0,2,   25.59,2,   30.38,2,    0.00,2,    2.11,2,   0.447,2,   0.231,2,   0.001,2,  2186.7,2,  2291.5,2,-999.000,9,-999.0000,9, -999.00,9, -999.00,9,  -999.0,9,  -999.0,-999.000,9,-999.000,  42.3023,2,   879.5,-999.000,   4.9450,     -999.0,9,     -999.0,9,     -999.0,9,     -999.0,9,     -999.0,9,     -999.0,9,     -999.0,9, -999.00,9,   0.0640,2,   0.0450,2,   0.0260,2,   0.0190,2,   0.0176,2,   0.0188,2,-999.0000, -999.00
33RR20050106,       P16S,      21,          3,         19,         19,2,20050115,       2305,   -26.0002,  -150.0003,       4808,   980.0,   4.5254,  34.3653,2,  34.3650,2,    185.7,2,   178.0,2,   36.94,2,   32.63,2,    0.00,2,    2.28,2,   0.225,2,   0.109,2,   0.001,2,  2208.6,2,  2303.2,2,-999.000,9,-999.0000,9, -999.00,9, -999.00,9,  -999.0,9,  -999.0,-999.000,9,-999.000,  36.2927,3,   980.0,-999.000,   4.4477,     -999.0,9,     -999.0,9,     -999.0,9,     -999.0,9,     -999.0,9,     -999.0,9,     -999.0,9, -999.00,9,   0.0710,2,   0.0510,2,   0.0290,2,   0.0210,2,   0.0167,2,   0.0179,2,-999.0000, -999.00
33RR20050106,       P16S,      21,          3,         18,         18,2,20050115,       2305,   -26.0002,  -150.0003,       4808,  1080.4,   3.9104,  34.4010,2,  34.4025,2,    173.2,2,   172.8,2,   48.94,2,   33.73,2,    0.00,2,    2.36,2,   0.121,2,   0.063,2,   0.001,2,  2225.2,2,  2314.7,6,-999.000,9,-999.0000,9, -999.00,9, -999.00,9,  -999.0,9,  -999.0,-999.000,9,-999.000,  41.7876,2,  1080.4,-999.000,   3.8289,     -999.0,9,     -999.0,9,     -999.0,9,     -999.0,9,     -999.0,9,     -999.0,9,     -999.0,9, -999.00,9,   0.0800,2,   0.0580,2,   0.0330,2,   0.0240,2,   0.0160,2,   0.0170,2,-999.0000, -999.00
33RR20050106,       P16S,      21,          3,         17,         17,2,20050115,       2305,   -26.0002,  -150.0003,       4808,  1175.4,   3.4835,  34.4487,2,  34.4478,2,    169.3,2,   165.4,2,   60.78,2,   34.50,2,    0.00,2,    2.42,2,   0.060,2,   0.030,2,   0.001,2,  2241.9,2,  2327.6,2,-999.000,9,-999.0000,9, -999.00,9, -999.00,9,  -999.0,9,  -999.0,-999.000,9,-999.000,-999.0000,9,  1175.4,-999.000,   3.3978,     -999.0,9,     -999.0,9,     -999.0,9,     -999.0,9,     -999.0,9,     -999.0,9,     -999.0,9, -999.00,9,-999.0000,9,-999.0000,9,-999.0000,9,-999.0000,9,-999.0000,9,-999.0000,9,-999.0000, -999.00
33RR20050106,       P16S,      21,          3,         16,         16,2,20050115,       2305,   -26.0002,  -150.0003,       4808,  1281.9,   3.2002,  34.4849,2,  34.4843,2,    162.9,2,   162.0,2,   69.56,2,   34.83,2,    0.00,2,    2.46,2,-999.000,9,-999.000,9,-999.000,9,  2253.0,2,  2338.3,2,-999.000,9,-999.0000,9, -999.00,9, -999.00,9,  -999.0,9,  -999.0,-999.000,9,-999.000,-999.0000,9,  1281.9,-999.000,   3.1084,     -999.0,9,     -999.0,9,     -999.0,9,     -999.0,9,     -999.0,9,     -999.0,9,     -999.0,9, -999.00,9,-999.0000,9,-999.0000,9,-999.0000,9,-999.0000,9,-999.0000,9,-999.0000,9,-999.0000, -999.00
33RR20050106,       P16S,      21,          3,         15,         15,2,20050115,       2305,   -26.0002,  -150.0003,       4808,  1382.9,   2.9324,  34.5184,2,  34.5173,2,    159.9,2,   160.0,2,   79.21,2,   35.00,2,    0.00,2,    2.47,2,-999.000,9,-999.000,9,-999.000,9,  2262.6,2,  2348.4,2,-999.000,9,-999.0000,9, -999.00,9, -999.00,9,  -999.0,9,  -999.0,-999.000,9,-999.000,  40.1938,2,  1382.9,-999.000,   2.8351,     -999.0,9,     -999.0,9,     -999.0,9,     -999.0,9,     -999.0,9,     -999.0,9,     -999.0,9, -999.00,9,   0.0840,2,   0.0600,2,   0.0340,2,   0.0250,2,   0.0155,2,   0.0167,2,-999.0000, -999.00
33RR20050106,       P16S,      21,          3,         14,         14,2,20050115,       2305,   -26.0002,  -150.0003,       4808,  1584.2,   2.5299,  34.5733,2,  34.5736,2,    156.1,2,   156.5,2,   95.03,2,   35.27,2,    0.00,2,    2.49,2,   0.007,2,   0.001,2,   0.001,2,  2280.5,2,  2366.1,2,-999.000,9,-999.0000,9, -999.00,9, -999.00,9,  -999.0,9,  -999.0,-999.000,9,-999.000,-999.0000,9,  1584.2,-999.000,   2.4207,     -999.0,9,     -999.0,9,     -999.0,9,     -999.0,9,     -999.0,9,     -999.0,9,     -999.0,9, -999.00,9,-999.0000,9,-999.0000,9,-999.0000,9,-999.0000,9,-999.0000,9,-999.0000,9,-999.0000, -999.00
33RR20050106,       P16S,      21,          3,         13,         13,2,20050115,       2305,   -26.0002,  -150.0003,       4808,  1786.1,   2.2764,  34.6078,2,  34.6074,2,    153.8,2,   154.2,2,  105.54,2,   35.44,2,    0.00,2,    2.51,2,-999.000,9,-999.000,9,-999.000,9,  2292.3,2,  2378.7,2,-999.000,9,-999.0000,9, -999.00,9, -999.00,9,  -999.0,9,  -999.0,-999.000,9,-999.000,-999.0000,9,  1786.1,-999.000,   2.1538,     -999.0,9,     -999.0,9,     -999.0,9,     -999.0,9,     -999.0,9,     -999.0,9,     -999.0,9, -999.00,9,-999.0000,9,-999.0000,9,-999.0000,9,-999.0000,9,-999.0000,9,-999.0000,9,-999.0000, -999.00
33RR20050106,       P16S,      21,          3,         12,         12,2,20050115,       2305,   -26.0002,  -150.0003,       4808,  1988.1,   2.1222,  34.6279,2,  34.6277,2,    152.7,2,   153.3,2,  113.17,2,   35.60,2,    0.00,2,    2.51,2,   0.004,2,   0.005,2,   0.001,2,  2298.5,2,  2385.5,2,-999.000,9,-999.0000,9, -999.00,9, -999.00,9,  -999.0,9,  -999.0,-999.000,9,-999.000,  35.7323,2,  1988.1,-999.000,   1.9849,     -999.0,9,     -999.0,9,     -999.0,9,     -999.0,9,     -999.0,9,     -999.0,9,     -999.0,9, -999.00,9,   0.0960,2,   0.0700,2,   0.0400,2,   0.0280,2,   0.0145,2,   0.0156,2,-999.0000, -999.00
33RR20050106,       P16S,      21,          3,         11,         11,2,20050115,       2305,   -26.0002,  -150.0003,       4808,  2190.7,   1.9801,  34.6451,2,  34.6449,2,    152.4,2,   152.7,2,  118.53,2,   35.54,2,    0.00,2,    2.52,2,-999.000,9,-999.000,9,-999.000,9,  2304.3,2,  2393.4,2,-999.000,9,-999.0000,9, -999.00,9, -999.00,9,  -999.0,9,  -999.0,-999.000,9,-999.000,-999.0000,9,  2190.7,-999.000,   1.8277,     -999.0,9,     -999.0,9,     -999.0,9,     -999.0,9,     -999.0,9,     -999.0,9,     -999.0,9, -999.00,9,-999.0000,9,-999.0000,9,-999.0000,9,-999.0000,9,-999.0000,9,-999.0000,9,-999.0000, -999.00
33RR20050106,       P16S,      21,          3,         10,         10,2,20050115,       2305,   -26.0002,  -150.0003,       4808,  2444.2,   1.8599,  34.6573,2,  34.6585,2,    154.4,2,   154.8,2,  122.04,2,   35.48,2,    0.00,2,    2.51,2,   0.027,3,   0.006,2,   0.001,2,  2306.0,2,  2396.0,2,-999.000,9,-999.0000,9, -999.00,9, -999.00,9,  -999.0,9,  -999.0,-999.000,9,-999.000,-999.0000,9,  2444.2,-999.000,   1.6872,     -999.0,9,     -999.0,9,     -999.0,9,     -999.0,9,     -999.0,9,     -999.0,9,     -999.0,9, -999.00,9,-999.0000,9,-999.0000,9,-999.0000,9,-999.0000,9,-999.0000,9,-999.0000,9,-999.0000, -999.00
33RR20050106,       P16S,      21,          3,          9,          9,2,20050115,       2305,   -26.0002,  -150.0003,       4808,  2697.0,   1.7675,  34.6664,2,  34.6656,2,    156.9,2,   157.2,2,  124.50,2,   35.43,2,    0.00,2,    2.50,2,-999.000,9,-999.000,9,-999.000,9,  2306.4,2,  2397.9,2,-999.000,9,-999.0000,9, -999.00,9, -999.00,9,  -999.0,9,  -999.0,-999.000,9,-999.000,  35.2084,2,  2697.0,-999.000,   1.5735,     -999.0,9,     -999.0,9,     -999.0,9,     -999.0,9,     -999.0,9,     -999.0,9,     -999.0,9, -999.00,9,   0.0980,2,   0.0720,2,   0.0410,2,   0.0290,2,   0.0145,2,   0.0156,2,-999.0000, -999.00
33RR20050106,       P16S,      21,          3,          8,          8,2,20050115,       2305,   -26.0002,  -150.0003,       4808,  2950.8,   1.6942,  34.6734,2,  34.6726,2,    160.1,2,   160.5,2,  125.33,2,   35.21,2,    0.00,2,    2.49,2,  -0.002,2,   0.004,2,   0.001,2,  2305.5,2,  2396.6,2,-999.000,9,-999.0000,9, -999.00,9, -999.00,9,  -999.0,9,  -999.0,-999.000,9,-999.000,-999.0000,9,  2950.8,-999.000,   1.4778,     -999.0,9,     -999.0,9,     -999.0,9,     -999.0,9,     -999.0,9,     -999.0,9,     -999.0,9, -999.00,9,-999.0000,9,-999.0000,9,-999.0000,9,-999.0000,9,-999.0000,9,-999.0000,9,-999.0000, -999.00
33RR20050106,       P16S,      21,          3,          7,          7,2,20050115,       2305,   -26.0002,  -150.0003,       4808,  3205.3,   1.6161,  34.6800,2,  34.6783,2,    164.9,2,   165.6,2,  125.31,2,   34.87,2,    0.00,2,    2.48,2,-999.000,9,-999.000,9,-999.000,9,  2302.2,2,  2393.9,2,-999.000,9,-999.0000,9, -999.00,9, -999.00,9,  -999.0,9,  -999.0,-999.000,9,-999.000,-999.0000,9,  3205.3,-999.000,   1.3767,     -999.0,9,     -999.0,9,     -999.0,9,     -999.0,9,     -999.0,9,     -999.0,9,     -999.0,9, -999.00,9,-999.0000,9,-999.0000,9,-999.0000,9,-999.0000,9,-999.0000,9,-999.0000,9,-999.0000, -999.00