BOTTLE,20201109CCHSIOCBG
EXPOCODE,SECT_ID,STNNBR,CASTNO,SAMPNO,BTLNBR,BTLNBR_FLAG_W,DATE,TIME,LATITUDE,LONGITUDE,DEPTH,CTDPRS,CTDTMP,CTDSAL,CTDSAL_FLAG_W,SALNTY,SALNTY_FLAG_W,CTDOXY,CTDOXY_FLAG_W,OXYGEN,OXYGEN_FLAG_W,SILCAT,SILCAT_FLAG_W,NITRAT,NITRAT_FLAG_W,NITRIT,NITRIT_FLAG_W,PHSPHT,PHSPHT_FLAG_W,CFC-11,CFC-11_FLAG_W,CFC-12,CFC-12_FLAG_W,CFC113,CFC113_FLAG_W,TCARBN,TCARBN_FLAG_W,ALKALI,ALKALI_FLAG_W,TRITUM,TRITUM_FLAG_W,HELIUM,HELIUM_FLAG_W,DELHE3,DELHE3_FLAG_W,DELC13,DELC13_FLAG_W,DELC14,DELC14_FLAG_W,C14ERR,NEON,NEON_FLAG_W,NEONER,DOC,DOC_FLAG_W,CTDRAW,TRITER,THETA,FUCO,FUCO_FLAG_W,RHAM,RHAM_FLAG_W,ARABA,ARABA_FLAG_W,GALA,GALA_FLAG_W,GLUC,GLUC_FLAG_W,MAN,MAN_FLAG_W,DCNS,DCNS_FLAG_W,BRDU,BRDU_FLAG_W,CDOM325,CDOM325_FLAG_W,CDOM340,CDOM340_FLAG_W,CDOM380,CDOM380_FLAG_W,CDOM412,CDOM412_FLAG_W,CDOMSL,CDOMSL_FLAG_W,CDOMSN,CDOMSN_FLAG_W,HELIER,DELHER
,,,,,,,,,,,METERS,DBAR,ITS-90,PSS-78,,PSS-78,,UMOL/KG,,UMOL/KG,,UMOL/KG,,UMOL/KG,,UMOL/KG,,UMOL/KG,,PMOL/KG,,PMOL/KG,,PMOL/KG,,UMOL/KG,,UMOL/KG,,TU,,NMOL/KG,,PERCNT,,/MILLE,,/MILLE,,/MILLE,NMOL/KG,,NMOL/KG,UMOL/KG,,DBAR,TU,DEG C,NMOL/KG,,NMOL/KG,,NMOL/KG,,NMOL/KG,,NMOL/KG,,NMOL/KG,,NMOL/KG,,PMOL/L/H,,1/M,,1/M,,1/M,,1/M,,1/NM,,1/NM,,NMOL/KG,PERCNT
33RR20050106,       P16S,      49,          3,          6,          6,2,20050124,       0007,   -39.9995,  -150.0005,       5178,  3959.2,   1.3818,  34.7174,2,  34.7178,2,    194.4,2,   195.6,2,  112.00,2,   32.26,2,    0.00,2,    2.22,2,-999.000,9,-999.000,9,-999.000,9,  2266.5,2,  2366.0,2,   0.017,2,-999.0000,9, -999.00,9, -999.00,9,  -999.0,9,  -999.0,-999.000,9,-999.000,  38.2380,2,  3959.2,   0.007,   1.0704,     -999.0,9,     -999.0,9,     -999.0,9,     -999.0,9,     -999.0,9,     -999.0,9,     -999.0,9, -999.00,9,   0.1030,2,   0.0670,2,   0.0320,2,   0.0210,2,   0.0212,2,   0.0233,2,-999.0000, -999.00
33RR20050106,       P16S,      49,          3,          5,          5,2,20050124,       0007,   -39.9995,  -150.0005,       5178,  4265.9,   1.2281,  34.7150,2,  34.7148,2,    198.7,2,   200.1,2,  115.49,2,   32.26,2,    0.00,2,    2.23,2,   0.029,3,   0.021,3,   0.002,2,  2266.6,2,  2368.8,2,   0.001,2,-999.0000,9, -999.00,9, -999.00,9,  -999.0,9,  -999.0,-999.000,9,-999.000,-999.0000,9,  4265.9,   0.005,   0.8876,     -999.0,9,     -999.0,9,     -999.0,9,     -999.0,9,     -999.0,9,     -999.0,9,     -999.0,9, -999.00,9,-999.0000,9,-999.0000,9,-999.0000,9,-999.0000,9,-999.0000,9,-999.0000,9,-999.0000, -999.00
33RR20050106,       P16S,      49,          3,          4,          4,2,20050124,       0007,   -39.9995,  -150.0005,       5178,  4624.4,   1.1679,  34.7134,2,  34.7133,2,    201.1,2,   201.9,2,  117.76,2,   32.31,2,    0.00,2,    2.22,2,-999.000,9,-999.000,9,-999.000,9,  2268.8,2,  2371.0,2,-999.000,9,-999.0000,9, -999.00,9, -999.00,9,  -999.0,9,  -999.0,-999.000,9,-999.000,  38.7720,2,  4624.4,-999.000,   0.7888,     -999.0,9,     -999.0,9,     -999.0,9,     -999.0,9,     -999.0,9,     -999.0,9,     -999.0,9, -999.00,9,   0.1050,2,   0.0680,2,   0.0320,2,   0.0210,2,   0.0211,2,   0.0233,2,-999.0000, -999.00
33RR20050106,       P16S,      49,          3,          3,          3,2,20050124,       0007,   -39.9995,  -150.0005,       5178,  4983.9,   1.1632,  34.7124,2,  34.7123,2,    202.3,2,   202.7,2,  118.79,2,   32.31,2,    0.00,2,    2.22,2,   0.006,2,   0.011,2,   0.002,2,  2267.7,2,  2370.7,2,   0.051,2,-999.0000,9, -999.00,9, -999.00,9,  -999.0,9,  -999.0,-999.000,9,-999.000,-999.0000,9,  4983.9,   0.007,   0.7420,     -999.0,9,     -999.0,9,     -999.0,9,     -999.0,9,     -999.0,9,     -999.0,9,     -999.0,9, -999.00,9,-999.0000,9,-999.0000,9,-999.0000,9,-999.0000,9,-999.0000,9,-999.0000,9,-999.0000, -999.00
33RR20050106,       P16S,      49,          3,          2,          2,2,20050124,       0007,   -39.9995,  -150.0005,       5178,  5188.8,   1.1616,  34.7115,2,  34.7115,2,    203.0,2,   203.1,2,  119.40,2,   32.29,2,    0.00,2,    2.22,2,-999.000,9,-999.000,9,-999.000,9,  2268.4,2,  2368.9,2,-999.000,9,-999.0000,9, -999.00,9, -999.00,9,  -999.0,9,  -999.0,-999.000,9,-999.000,-999.0000,9,  5188.8,-999.000,   0.7157,     -999.0,9,     -999.0,9,     -999.0,9,     -999.0,9,     -999.0,9,     -999.0,9,     -999.0,9, -999.00,9,-999.0000,9,-999.0000,9,-999.0000,9,-999.0000,9,-999.0000,9,-999.0000,9,-999.0000, -999.00
33RR20050106,       P16S,      49,          3,          1,          1,2,20050124,       0007,   -39.9995,  -150.0005,       5178,  5307.9,   1.1673,  34.7112,2,  34.7129,2,    203.3,2,   204.2,2,  119.59,2,   32.29,2,    0.00,2,    2.22,2,  -0.004,2,   0.009,2,   0.002,2,  2268.0,6,  2370.4,6,   0.010,2,-999.0000,9, -999.00,9, -999.00,9,  -999.0,9,  -999.0,-999.000,9,-999.000,  37.8099,2,  5307.9,   0.006,   0.7066,     -999.0,9,     -999.0,9,     -999.0,9,     -999.0,9,     -999.0,9,     -999.0,9,     -999.0,9, -999.00,9,   0.1070,2,   0.0700,2,   0.0340,2,   0.0240,2,   0.0198,2,   0.0219,2,-999.0000, -999.00