BOTTLE,20201109CCHSIOCBG
EXPOCODE,SECT_ID,STNNBR,CASTNO,SAMPNO,BTLNBR,BTLNBR_FLAG_W,DATE,TIME,LATITUDE,LONGITUDE,DEPTH,CTDPRS,CTDTMP,CTDSAL,CTDSAL_FLAG_W,SALNTY,SALNTY_FLAG_W,CTDOXY,CTDOXY_FLAG_W,OXYGEN,OXYGEN_FLAG_W,SILCAT,SILCAT_FLAG_W,NITRAT,NITRAT_FLAG_W,NITRIT,NITRIT_FLAG_W,PHSPHT,PHSPHT_FLAG_W,CFC-11,CFC-11_FLAG_W,CFC-12,CFC-12_FLAG_W,CFC113,CFC113_FLAG_W,TCARBN,TCARBN_FLAG_W,ALKALI,ALKALI_FLAG_W,TRITUM,TRITUM_FLAG_W,HELIUM,HELIUM_FLAG_W,DELHE3,DELHE3_FLAG_W,DELC13,DELC13_FLAG_W,DELC14,DELC14_FLAG_W,C14ERR,NEON,NEON_FLAG_W,NEONER,DOC,DOC_FLAG_W,CTDRAW,TRITER,THETA,FUCO,FUCO_FLAG_W,RHAM,RHAM_FLAG_W,ARABA,ARABA_FLAG_W,GALA,GALA_FLAG_W,GLUC,GLUC_FLAG_W,MAN,MAN_FLAG_W,DCNS,DCNS_FLAG_W,BRDU,BRDU_FLAG_W,CDOM325,CDOM325_FLAG_W,CDOM340,CDOM340_FLAG_W,CDOM380,CDOM380_FLAG_W,CDOM412,CDOM412_FLAG_W,CDOMSL,CDOMSL_FLAG_W,CDOMSN,CDOMSN_FLAG_W,HELIER,DELHER
,,,,,,,,,,,METERS,DBAR,ITS-90,PSS-78,,PSS-78,,UMOL/KG,,UMOL/KG,,UMOL/KG,,UMOL/KG,,UMOL/KG,,UMOL/KG,,PMOL/KG,,PMOL/KG,,PMOL/KG,,UMOL/KG,,UMOL/KG,,TU,,NMOL/KG,,PERCNT,,/MILLE,,/MILLE,,/MILLE,NMOL/KG,,NMOL/KG,UMOL/KG,,DBAR,TU,DEG C,NMOL/KG,,NMOL/KG,,NMOL/KG,,NMOL/KG,,NMOL/KG,,NMOL/KG,,NMOL/KG,,PMOL/L/H,,1/M,,1/M,,1/M,,1/M,,1/NM,,1/NM,,NMOL/KG,PERCNT
33RR20050106,       P16S,       1,          3,         15,         15,2,20050110,       1233,   -16.0000,  -149.9925,       4252,  1511.4,   2.6192,  34.5970,2,  34.5947,2,   -999.0,5,   144.8,2,  102.62,2,   36.23,2,    0.00,2,    2.53,2,   0.002,2,   0.028,3,  -0.004,2,  2290.4,2,  2372.9,2,-999.000,9,-999.0000,9, -999.00,9, -999.00,9,  -999.0,9,  -999.0,-999.000,9,-999.000,-999.0000,9,  1511.4,-999.000,   2.5148,     -999.0,9,     -999.0,9,     -999.0,9,     -999.0,9,     -999.0,9,     -999.0,9,     -999.0,9, -999.00,9,-999.0000,9,-999.0000,9,-999.0000,9,-999.0000,9,-999.0000,9,-999.0000,9,-999.0000, -999.00
33RR20050106,       P16S,       1,          3,         13,         13,2,20050110,       1233,   -16.0000,  -149.9925,       4252,  1612.0,   2.4888,  34.6068,2,  34.6049,2,   -999.0,5,   146.1,2,  106.30,2,   36.29,2,    0.00,2,    2.53,2,   0.000,2,   0.012,3,  -0.004,2,  2293.4,2,  2372.6,3,-999.000,9,-999.0000,9, -999.00,9, -999.00,9,  -999.0,9,  -999.0,-999.000,9,-999.000,-999.0000,9,  1612.0,-999.000,   2.3777,     -999.0,9,     -999.0,9,     -999.0,9,     -999.0,9,     -999.0,9,     -999.0,9,     -999.0,9, -999.00,9,   0.1010,2,   0.0720,2,   0.0400,2,   0.0300,2,   0.0143,2,   0.0158,2,-999.0000, -999.00
33RR20050106,       P16S,       1,          3,         12,         12,2,20050110,       1233,   -16.0000,  -149.9925,       4252,  1712.7,   2.3640,  34.6158,2,  34.6140,2,   -999.0,5,   148.1,2,  109.31,2,   36.24,2,    0.00,2,    2.52,2,   0.001,2,   0.040,3,  -0.005,2,  2296.6,2,  2376.5,2,-999.000,9,-999.0000,9, -999.00,9, -999.00,9,  -999.0,9,  -999.0,-999.000,9,-999.000,  36.7660,2,  1712.7,-999.000,   2.2463,     -999.0,9,     -999.0,9,     -999.0,9,     -999.0,9,     -999.0,9,     -999.0,9,     -999.0,9, -999.00,9,   0.0980,2,   0.0700,2,   0.0380,2,   0.0280,2,   0.0164,2,   0.0173,2,-999.0000, -999.00
33RR20050106,       P16S,       1,          3,         11,         11,2,20050110,       1233,   -16.0000,  -149.9925,       4252,  1814.0,   2.2708,  34.6240,2,  34.6234,2,   -999.0,5,   148.8,2,  111.89,2,   36.25,2,    0.00,2,    2.52,2,  -0.003,2,   0.016,3,  -0.006,2,  2299.0,2,  2381.2,2,-999.000,9,-999.0000,9, -999.00,9, -999.00,9,  -999.0,9,  -999.0,-999.000,9,-999.000,-999.0000,9,  1814.0,-999.000,   2.1459,     -999.0,9,     -999.0,9,     -999.0,9,     -999.0,9,     -999.0,9,     -999.0,9,     -999.0,9, -999.00,9,-999.0000,9,-999.0000,9,-999.0000,9,-999.0000,9,-999.0000,9,-999.0000,9,-999.0000, -999.00
33RR20050106,       P16S,       1,          3,         10,         10,2,20050110,       1233,   -16.0000,  -149.9925,       4252,  2015.8,   2.1155,  34.6375,2,  34.6359,2,   -999.0,5,   150.6,2,  115.99,2,   36.19,2,    0.00,2,    2.52,2,  -0.001,2,   0.007,2,  -0.007,2,  2303.6,2,  2385.5,2,-999.000,9,-999.0000,9, -999.00,9, -999.00,9,  -999.0,9,  -999.0,-999.000,9,-999.000,  35.6532,2,  2015.8,-999.000,   1.9759,     -999.0,9,     -999.0,9,     -999.0,9,     -999.0,9,     -999.0,9,     -999.0,9,     -999.0,9, -999.00,9,   0.1050,2,   0.0780,2,   0.0460,2,   0.0330,2,   0.0128,2,   0.0139,2,-999.0000, -999.00
33RR20050106,       P16S,       1,          3,          9,          9,2,20050110,       1233,   -16.0000,  -149.9925,       4252,  2268.3,   1.9404,  34.6535,2,  34.6514,2,   -999.0,5,   152.5,2,  121.60,2,   36.08,2,    0.00,2,    2.50,2,  -0.002,2,   0.007,2,  -0.007,2,  2308.1,2,  2392.2,2,-999.000,9,-999.0000,9, -999.00,9, -999.00,9,  -999.0,9,  -999.0,-999.000,9,-999.000,-999.0000,9,  2268.3,-999.000,   1.7818,     -999.0,9,     -999.0,9,     -999.0,9,     -999.0,9,     -999.0,9,     -999.0,9,     -999.0,9, -999.00,9,   0.1070,2,   0.0790,2,   0.0460,2,   0.0340,2,   0.0126,2,   0.0140,2,-999.0000, -999.00
33RR20050106,       P16S,       1,          3,          8,          8,2,20050110,       1233,   -16.0000,  -149.9925,       4252,  2521.5,   1.8212,  34.6644,2,  34.6628,2,   -999.0,5,   154.8,2,  125.28,2,   35.98,2,    0.00,2,    2.49,2,  -0.005,2,   0.008,2,  -0.008,2,  2309.6,2,  2393.8,2,-999.000,9,-999.0000,9, -999.00,9, -999.00,9,  -999.0,9,  -999.0,-999.000,9,-999.000,  38.4305,2,  2521.5,-999.000,   1.6422,     -999.0,9,     -999.0,9,     -999.0,9,     -999.0,9,     -999.0,9,     -999.0,9,     -999.0,9, -999.00,9,   0.1140,3,   0.0820,3,   0.0420,3,   0.0290,3,   0.0170,3,   0.0175,3,-999.0000, -999.00
33RR20050106,       P16S,       1,          3,          7,          7,2,20050110,       1233,   -16.0000,  -149.9925,       4252,  2774.7,   1.7358,  34.6699,2,  34.6701,2,   -999.0,5,   160.2,2,  125.06,2,   35.65,2,    0.00,2,    2.50,2,   0.003,6,   0.017,3,  -0.008,6,  2305.9,2,  2393.1,2,-999.000,9,-999.0000,9, -999.00,9, -999.00,9,  -999.0,9,  -999.0,-999.000,9,-999.000,-999.0000,9,  2774.7,-999.000,   1.5352,     -999.0,9,     -999.0,9,     -999.0,9,     -999.0,9,     -999.0,9,     -999.0,9,     -999.0,9, -999.00,9,   0.1070,2,   0.0790,2,   0.0460,2,   0.0340,2,   0.0124,2,   0.0138,2,-999.0000, -999.00
33RR20050106,       P16S,       1,          3,          6,          6,2,20050110,       1233,   -16.0000,  -149.9925,       4252,  3028.6,   1.6578,  34.6761,2,  34.6748,2,   -999.0,5,   164.8,2,  125.50,2,   35.38,2,    0.00,2,    2.52,2,  -0.004,2,   0.008,2,  -0.008,2,  2305.6,2,  2390.9,2,-999.000,9,-999.0000,9, -999.00,9, -999.00,9,  -999.0,9,  -999.0,-999.000,9,-999.000,  37.8314,2,  3028.6,-999.000,   1.4347,     -999.0,9,     -999.0,9,     -999.0,9,     -999.0,9,     -999.0,9,     -999.0,9,     -999.0,9, -999.00,9,   0.1050,2,   0.0770,2,   0.0440,2,   0.0320,2,   0.0132,2,   0.0145,2,-999.0000, -999.00
33RR20050106,       P16S,       1,          3,          5,          5,2,20050110,       1233,   -16.0000,  -149.9925,       4252,  3282.3,   1.5531,  34.6840,2,  34.6819,2,   -999.0,5,   170.8,2,  124.84,2,   34.94,2,    0.00,2,    2.45,2,  -0.004,2,   0.008,2,  -0.008,2,  2301.9,2,  2390.3,2,-999.000,9,-999.0000,9, -999.00,9, -999.00,9,  -999.0,9,  -999.0,-999.000,9,-999.000,-999.0000,9,  3282.3,-999.000,   1.3075,     -999.0,9,     -999.0,9,     -999.0,9,     -999.0,9,     -999.0,9,     -999.0,9,     -999.0,9, -999.00,9,   0.1150,2,   0.0850,2,   0.0500,2,   0.0360,2,   0.0124,2,   0.0136,2,-999.0000, -999.00
33RR20050106,       P16S,       1,          3,          4,          4,2,20050110,       1233,   -16.0000,  -149.9925,       4252,  3536.3,   1.4888,  34.6893,2,  34.6897,2,   -999.0,5,   175.8,2,  123.95,2,   34.67,2,    0.00,2,    2.38,2,  -0.006,2,   0.015,3,  -0.008,2,  2299.1,2,  2385.7,2,-999.000,9,-999.0000,9, -999.00,9, -999.00,9,  -999.0,9,  -999.0,-999.000,9,-999.000,  36.7624,2,  3536.3,-999.000,   1.2191,     -999.0,9,     -999.0,9,     -999.0,9,     -999.0,9,     -999.0,9,     -999.0,9,     -999.0,9, -999.00,9,   0.1060,2,   0.0780,2,   0.0450,2,   0.0330,2,   0.0130,2,   0.0143,2,-999.0000, -999.00
33RR20050106,       P16S,       1,          3,          3,          3,2,20050110,       1233,   -16.0000,  -149.9925,       4252,  3791.0,   1.4751,  34.6918,2,  34.6909,2,   -999.0,5,   178.0,2,  123.52,2,   34.45,2,    0.00,2,    2.37,2,  -0.004,2,  -0.007,2,  -0.008,2,  2292.1,2,  2385.0,2,-999.000,9,-999.0000,9, -999.00,9, -999.00,9,  -999.0,9,  -999.0,-999.000,9,-999.000,-999.0000,9,  3791.0,-999.000,   1.1792,     -999.0,9,     -999.0,9,     -999.0,9,     -999.0,9,     -999.0,9,     -999.0,9,     -999.0,9, -999.00,9,   0.1070,2,   0.0780,2,   0.0440,2,   0.0330,2,   0.0131,2,   0.0146,2,-999.0000, -999.00
33RR20050106,       P16S,       1,          3,          2,          2,2,20050110,       1233,   -16.0000,  -149.9925,       4252,  4046.0,   1.4717,  34.6936,2,  34.6933,2,   -999.0,5,   179.7,2,  123.52,2,   34.40,2,    0.00,2,    2.39,2,  -0.002,2,   0.016,3,  -0.007,2,  2289.9,2,  2384.7,2,-999.000,9,-999.0000,9, -999.00,9, -999.00,9,  -999.0,9,  -999.0,-999.000,9,-999.000,  38.2809,2,  4046.0,-999.000,   1.1485,     -999.0,9,     -999.0,9,     -999.0,9,     -999.0,9,     -999.0,9,     -999.0,9,     -999.0,9, -999.00,9,   0.1250,2,   0.0930,2,   0.0520,2,   0.0380,2,   0.0127,2,   0.0142,2,-999.0000, -999.00
33RR20050106,       P16S,       1,          3,          1,          1,2,20050110,       1233,   -16.0000,  -149.9925,       4252,  4326.2,   1.4344,  34.6967,2,  34.6958,2,   -999.0,5,   184.1,2,  123.07,2,   34.18,2,    0.00,2,    2.38,2,   0.002,2,   0.019,3,  -0.007,2,  2287.2,6,  2384.2,6,-999.000,9,-999.0000,9, -999.00,9, -999.00,9,  -999.0,9,  -999.0,-999.000,9,-999.000,  38.9618,2,  4326.2,-999.000,   1.0811,     -999.0,9,     -999.0,9,     -999.0,9,     -999.0,9,     -999.0,9,     -999.0,9,     -999.0,9, -999.00,9,-999.0000,9,-999.0000,9,-999.0000,9,-999.0000,9,-999.0000,9,-999.0000,9,-999.0000, -999.00