BOTTLE,20201109CCHSIOCBG
EXPOCODE,SECT_ID,STNNBR,CASTNO,SAMPNO,BTLNBR,BTLNBR_FLAG_W,DATE,TIME,LATITUDE,LONGITUDE,DEPTH,CTDPRS,CTDTMP,CTDSAL,CTDSAL_FLAG_W,SALNTY,SALNTY_FLAG_W,CTDOXY,CTDOXY_FLAG_W,OXYGEN,OXYGEN_FLAG_W,SILCAT,SILCAT_FLAG_W,NITRAT,NITRAT_FLAG_W,NITRIT,NITRIT_FLAG_W,PHSPHT,PHSPHT_FLAG_W,CFC-11,CFC-11_FLAG_W,CFC-12,CFC-12_FLAG_W,CFC113,CFC113_FLAG_W,TCARBN,TCARBN_FLAG_W,ALKALI,ALKALI_FLAG_W,TRITUM,TRITUM_FLAG_W,HELIUM,HELIUM_FLAG_W,DELHE3,DELHE3_FLAG_W,DELC13,DELC13_FLAG_W,DELC14,DELC14_FLAG_W,C14ERR,NEON,NEON_FLAG_W,NEONER,DOC,DOC_FLAG_W,CTDRAW,TRITER,THETA,FUCO,FUCO_FLAG_W,RHAM,RHAM_FLAG_W,ARABA,ARABA_FLAG_W,GALA,GALA_FLAG_W,GLUC,GLUC_FLAG_W,MAN,MAN_FLAG_W,DCNS,DCNS_FLAG_W,BRDU,BRDU_FLAG_W,CDOM325,CDOM325_FLAG_W,CDOM340,CDOM340_FLAG_W,CDOM380,CDOM380_FLAG_W,CDOM412,CDOM412_FLAG_W,CDOMSL,CDOMSL_FLAG_W,CDOMSN,CDOMSN_FLAG_W,HELIER,DELHER
,,,,,,,,,,,METERS,DBAR,ITS-90,PSS-78,,PSS-78,,UMOL/KG,,UMOL/KG,,UMOL/KG,,UMOL/KG,,UMOL/KG,,UMOL/KG,,PMOL/KG,,PMOL/KG,,PMOL/KG,,UMOL/KG,,UMOL/KG,,TU,,NMOL/KG,,PERCNT,,/MILLE,,/MILLE,,/MILLE,NMOL/KG,,NMOL/KG,UMOL/KG,,DBAR,TU,DEG C,NMOL/KG,,NMOL/KG,,NMOL/KG,,NMOL/KG,,NMOL/KG,,NMOL/KG,,NMOL/KG,,PMOL/L/H,,1/M,,1/M,,1/M,,1/M,,1/NM,,1/NM,,NMOL/KG,PERCNT
33RR20050106,       P16S,      69,          1,         36,         36,2,20050130,       1115,   -49.9985,  -150.0000,       4183,     4.6,  11.2604,  34.5823,2,  34.5846,2,    267.3,2,   268.8,2,    0.58,2,    6.25,2,    0.21,2,    0.60,2,   3.446,2,   2.064,2,  -0.002,4,  2074.1,6,  2289.1,6,-999.000,9,-999.0000,9, -999.00,9, -999.00,9,  -999.0,9,  -999.0,-999.000,9,-999.000,  51.9945,2,     4.6,-999.000,  11.2598,        128,2,         83,2,         62,2,        224,2,        181,2,        210,2,        890,2,    0.41,9,   0.0920,2,   0.0610,2,   0.0240,2,   0.0150,2,   0.0260,2,   0.0266,2,-999.0000, -999.00
33RR20050106,       P16S,      69,          1,         35,         35,2,20050130,       1115,   -49.9985,  -150.0000,       4183,    22.5,  11.2638,  34.5823,2,  34.5830,2,    268.0,2,   268.9,2,    0.58,2,    6.31,2,    0.21,2,    0.60,2,   3.512,2,   2.124,2,   0.414,4,  2072.3,2,  2289.0,2,-999.000,9,-999.0000,9, -999.00,9, -999.00,9,  -999.0,9,  -999.0,-999.000,9,-999.000,  24.7380,4,    22.5,-999.000,  11.2610,     -999.0,9,     -999.0,9,     -999.0,9,     -999.0,9,     -999.0,9,     -999.0,9,     -999.0,9,    1.09,9,   0.0900,2,   0.0590,2,   0.0240,2,   0.0160,2,   0.0255,2,   0.0263,2,-999.0000, -999.00
33RR20050106,       P16S,      69,          1,         34,         34,2,20050130,       1115,   -49.9985,  -150.0000,       4183,    42.0,  11.2665,  34.5821,2,  34.5826,2,    269.6,2,   268.9,2,    0.37,2,    6.25,2,    0.21,2,    0.60,2,-999.000,9,-999.000,9,-999.000,9,  2073.0,2,  2289.4,2,-999.000,9,-999.0000,9, -999.00,9, -999.00,9,  -999.0,9,  -999.0,-999.000,9,-999.000,  41.2429,4,    42.0,-999.000,  11.2613,        153,2,         99,2,         35,2,        266,2,        345,3,        301,2,       1199,3,    2.81,9,   0.0900,2,   0.0590,2,   0.0230,2,   0.0150,2,   0.0263,2,   0.0269,2,-999.0000, -999.00
33RR20050106,       P16S,      69,          1,         33,         33,2,20050130,       1115,   -49.9985,  -150.0000,       4183,    87.3,   9.6272,  34.6011,2,  34.6011,2,    262.4,2,   262.6,2,    2.36,2,   11.29,2,    0.05,2,    0.87,2,   3.773,2,   2.224,2,  -0.002,4,  2102.8,2,  2285.9,2,-999.000,9,-999.0000,9, -999.00,9, -999.00,9,  -999.0,9,  -999.0,-999.000,9,-999.000,  47.9845,2,    87.3,-999.000,   9.6174,         70,2,         58,2,         54,2,        122,2,         98,2,        127,2,        529,2,    0.69,9,   0.0760,2,   0.0490,2,   0.0220,2,   0.0170,2,   0.0259,2,   0.0270,2,-999.0000, -999.00
33RR20050106,       P16S,      69,          1,         32,         32,2,20050130,       1115,   -49.9985,  -150.0000,       4183,   137.8,   9.2230,  34.6083,2,  34.6079,2,    267.7,2,   267.7,2,    2.55,2,   11.64,2,    0.01,2,    0.88,2,-999.000,9,-999.000,9,-999.000,9,  2104.3,2,  2286.8,2,-999.000,9,-999.0000,9, -999.00,9, -999.00,9,  -999.0,9,  -999.0,-999.000,9,-999.000,  49.2991,2,   137.8,-999.000,   9.2079,         70,2,         45,2,         35,2,        104,2,        144,2,        104,2,        502,2,    0.54,9,   0.0710,2,   0.0450,2,   0.0210,2,   0.0160,2,   0.0268,2,   0.0280,2,-999.0000, -999.00
33RR20050106,       P16S,      69,          1,         31,         31,2,20050130,       1115,   -49.9985,  -150.0000,       4183,   188.5,   9.1820,  34.6087,2,  34.6091,2,    269.2,2,   268.9,2,    2.55,2,   11.58,2,    0.01,2,    0.88,2,   3.792,2,   2.225,2,  -0.002,4,  2103.9,2,  2286.6,2,-999.000,9,-999.0000,9, -999.00,9, -999.00,9,  -999.0,9,  -999.0,-999.000,9,-999.000,  54.8634,4,   188.5,-999.000,   9.1614,         67,2,         61,2,         59,2,        121,2,        137,2,        130,2,        574,2,    0.17,9,   0.0700,2,   0.0440,2,   0.0200,2,   0.0150,2,   0.0277,2,   0.0288,2,-999.0000, -999.00
33RR20050106,       P16S,      69,          1,         30,         30,2,20050130,       1115,   -49.9985,  -150.0000,       4183,   238.7,   9.1371,  34.6076,2,  34.6079,2,    269.8,2,   270.3,2,    2.54,2,   11.75,2,    0.01,2,    0.89,2,-999.000,9,-999.000,9,-999.000,9,  2107.2,2,  2287.6,2,-999.000,9,-999.0000,9, -999.00,9, -999.00,9,  -999.0,9,  -999.0,-999.000,9,-999.000,  47.1549,2,   238.7,-999.000,   9.1110,     -999.0,9,     -999.0,9,     -999.0,9,     -999.0,9,     -999.0,9,     -999.0,9,     -999.0,9,    0.08,9,   0.0720,2,   0.0450,2,   0.0190,2,   0.0150,2,   0.0293,2,   0.0299,2,-999.0000, -999.00
33RR20050106,       P16S,      69,          1,         29,         29,2,20050130,       1115,   -49.9985,  -150.0000,       4183,   288.3,   9.0899,  34.6053,2,  34.6050,2,    270.2,2,   269.5,2,    2.54,2,   11.96,2,    0.01,2,    0.90,2,   3.763,2,   2.217,2,  -0.002,4,  2101.3,2,  2286.9,2,-999.000,9,-999.0000,9, -999.00,9, -999.00,9,  -999.0,9,  -999.0,-999.000,9,-999.000,  45.7907,2,   288.3,-999.000,   9.0584,         57,2,         39,2,         39,2,        104,2,        111,2,        122,2,        471,2,    0.10,9,   0.0700,2,   0.0440,2,   0.0190,2,   0.0150,2,   0.0300,2,   0.0304,2,-999.0000, -999.00
33RR20050106,       P16S,      69,          1,         28,         28,2,20050130,       1115,   -49.9985,  -150.0000,       4183,   343.7,   8.8331,  34.5738,2,  34.5726,2,    263.1,2,   259.3,2,    3.53,2,   14.14,2,    0.01,2,    1.04,2,-999.000,9,-999.000,9,-999.000,9,  2113.2,2,  2285.9,2,-999.000,9,-999.0000,9, -999.00,9, -999.00,9,  -999.0,9,  -999.0,-999.000,9,-999.000,  45.5979,2,   343.7,-999.000,   8.7961,     -999.0,9,     -999.0,9,     -999.0,9,     -999.0,9,     -999.0,9,     -999.0,9,     -999.0,9, -999.00,9,   0.0690,2,   0.0430,2,   0.0190,2,   0.0160,2,   0.0293,2,   0.0306,2,-999.0000, -999.00
33RR20050106,       P16S,      69,          1,         27,         27,2,20050130,       1115,   -49.9985,  -150.0000,       4183,   394.7,   8.3775,  34.5202,2,  34.5203,2,    249.4,2,   246.8,2,    4.73,2,   17.39,2,    0.01,2,    1.23,2,   3.786,2,   2.144,2,  -0.002,4,  2121.0,2,  2282.9,2,-999.000,9,-999.0000,9, -999.00,9, -999.00,9,  -999.0,9,  -999.0,-999.000,9,-999.000,-999.0000,9,   394.7,-999.000,   8.3362,     -999.0,9,     -999.0,9,     -999.0,9,     -999.0,9,     -999.0,9,     -999.0,9,     -999.0,9, -999.00,9,-999.0000,9,-999.0000,9,-999.0000,9,-999.0000,9,-999.0000,9,-999.0000,9,-999.0000, -999.00
33RR20050106,       P16S,      69,          1,         26,         26,2,20050130,       1115,   -49.9985,  -150.0000,       4183,   444.4,   8.0409,  34.4806,2,  34.4846,2,    247.0,2,   246.4,2,    5.32,2,   18.56,2,    0.00,2,    1.31,2,   3.801,2,   2.159,2,  -0.002,4,  2131.0,2,  2281.9,2,-999.000,9,-999.0000,9, -999.00,9, -999.00,9,  -999.0,9,  -999.0,-999.000,9,-999.000,  44.1592,2,   444.4,-999.000,   7.9954,     -999.0,9,     -999.0,9,     -999.0,9,     -999.0,9,     -999.0,9,     -999.0,9,     -999.0,9, -999.00,9,   0.0720,2,   0.0460,2,   0.0210,2,   0.0170,2,   0.0284,2,   0.0295,2,-999.0000, -999.00
33RR20050106,       P16S,      69,          1,         25,         25,2,20050130,       1115,   -49.9985,  -150.0000,       4183,   494.6,   7.7540,  34.4478,2,  34.4485,2,    248.7,2,   248.9,2,    5.71,2,   19.31,2,    0.00,2,    1.36,2,   3.789,2,   2.171,2,   0.513,4,  2131.9,2,  2280.7,2,-999.000,9,-999.0000,9, -999.00,9, -999.00,9,  -999.0,9,  -999.0,-999.000,9,-999.000,-999.0000,9,   494.6,-999.000,   7.7043,     -999.0,9,     -999.0,9,     -999.0,9,     -999.0,9,     -999.0,9,     -999.0,9,     -999.0,9, -999.00,9,-999.0000,9,-999.0000,9,-999.0000,9,-999.0000,9,-999.0000,9,-999.0000,9,-999.0000, -999.00
33RR20050106,       P16S,      69,          1,         24,         24,2,20050130,       1115,   -49.9985,  -150.0000,       4183,   582.1,   7.4836,  34.4228,2,  34.4231,2,    250.2,2,   250.6,2,    6.31,2,   19.94,2,    0.00,2,    1.40,2,   3.795,2,   2.113,2,  -0.002,4,  2132.4,2,  2280.8,2,-999.000,9,-999.0000,9, -999.00,9, -999.00,9,  -999.0,9,  -999.0,-999.000,9,-999.000,  28.2617,4,   582.1,-999.000,   7.4260,     -999.0,9,     -999.0,9,     -999.0,9,     -999.0,9,     -999.0,9,     -999.0,9,     -999.0,9, -999.00,9,   0.0610,2,   0.0360,2,   0.0170,2,   0.0140,2,   0.0333,2,   0.0346,2,-999.0000, -999.00
33RR20050106,       P16S,      69,          1,         23,         23,2,20050130,       1115,   -49.9985,  -150.0000,       4183,   681.6,   7.1099,  34.3946,2,  34.3949,2,    242.5,2,   243.0,2,    8.10,2,   21.61,2,    0.00,2,    1.50,2,   3.531,2,   1.951,2,   0.352,4,  2139.4,2,  2281.3,2,-999.000,9,-999.0000,9, -999.00,9, -999.00,9,  -999.0,9,  -999.0,-999.000,9,-999.000,  44.9309,2,   681.6,-999.000,   7.0439,     -999.0,9,     -999.0,9,     -999.0,9,     -999.0,9,     -999.0,9,     -999.0,9,     -999.0,9, -999.00,9,   0.0630,2,   0.0380,2,   0.0180,2,   0.0150,2,   0.0315,2,   0.0330,2,-999.0000, -999.00
33RR20050106,       P16S,      69,          1,         22,         22,2,20050130,       1115,   -49.9985,  -150.0000,       4183,   781.5,   6.6596,  34.3715,2,  34.3715,2,    234.8,2,   233.4,2,   11.29,2,   23.48,2,    0.00,2,    1.62,2,   2.966,2,   1.619,2,  -0.002,4,  2148.0,2,  2282.0,2,-999.000,9,-999.0000,9, -999.00,9, -999.00,9,  -999.0,9,  -999.0,-999.000,9,-999.000,  41.7092,2,   781.5,-999.000,   6.5861,     -999.0,9,     -999.0,9,     -999.0,9,     -999.0,9,     -999.0,9,     -999.0,9,     -999.0,9, -999.00,9,   0.0670,2,   0.0410,2,   0.0200,2,   0.0170,2,   0.0286,2,   0.0304,2,-999.0000, -999.00
33RR20050106,       P16S,      69,          1,         21,         21,2,20050130,       1115,   -49.9985,  -150.0000,       4183,   882.6,   6.2383,  34.3616,2,  34.3619,2,    225.0,2,   223.0,2,   14.89,2,   25.25,2,    0.00,2,    1.74,2,   2.448,2,   1.303,2,  -0.002,4,  2159.9,2,  2284.2,2,-999.000,9,-999.0000,9, -999.00,9, -999.00,9,  -999.0,9,  -999.0,-999.000,9,-999.000,  40.7419,2,   882.6,-999.000,   6.1574,     -999.0,9,     -999.0,9,     -999.0,9,     -999.0,9,     -999.0,9,     -999.0,9,     -999.0,9, -999.00,9,   0.0700,2,   0.0430,2,   0.0200,2,   0.0160,2,   0.0291,2,   0.0309,2,-999.0000, -999.00
33RR20050106,       P16S,      69,          1,         20,         20,2,20050130,       1115,   -49.9985,  -150.0000,       4183,   982.8,   5.6559,  34.3471,2,  34.3476,2,    215.9,2,   215.2,2,   20.29,2,   27.19,2,    0.00,2,    1.88,2,   2.118,2,   1.126,2,  -0.002,4,  2171.2,6,  2288.1,2,-999.000,9,-999.0000,9, -999.00,9, -999.00,9,  -999.0,9,  -999.0,-999.000,9,-999.000,  39.3473,2,   982.8,-999.000,   5.5695,     -999.0,9,     -999.0,9,     -999.0,9,     -999.0,9,     -999.0,9,     -999.0,9,     -999.0,9, -999.00,9,   0.0720,2,   0.0450,2,   0.0220,2,   0.0170,2,   0.0276,2,   0.0296,2,-999.0000, -999.00
33RR20050106,       P16S,      69,          1,         19,         19,2,20050130,       1115,   -49.9985,  -150.0000,       4183,  1084.1,   5.0031,  34.3404,2,  34.3409,2,    208.9,2,   209.6,2,   26.50,2,   28.85,2,    0.00,2,    2.00,2,   1.916,2,   1.007,2,  -0.002,4,  2184.6,2,  2291.9,2,-999.000,9,-999.0000,9, -999.00,9, -999.00,9,  -999.0,9,  -999.0,-999.000,9,-999.000,  40.3560,2,  1084.1,-999.000,   4.9124,     -999.0,9,     -999.0,9,     -999.0,9,     -999.0,9,     -999.0,9,     -999.0,9,     -999.0,9, -999.00,9,   0.0760,2,   0.0470,2,   0.0230,2,   0.0180,2,   0.0261,2,   0.0282,2,-999.0000, -999.00
33RR20050106,       P16S,      69,          1,         18,         18,2,20050130,       1115,   -49.9985,  -150.0000,       4183,  1186.2,   4.4213,  34.3425,2,  34.3429,2,    204.3,2,   205.9,2,   33.35,2,   30.31,2,    0.00,2,    2.10,2,   1.723,2,   0.923,2,  -0.002,4,  2194.8,2,  2298.3,6,-999.000,9,-999.0000,9, -999.00,9, -999.00,9,  -999.0,9,  -999.0,-999.000,9,-999.000,-999.0000,9,  1186.2,-999.000,   4.3264,     -999.0,9,     -999.0,9,     -999.0,9,     -999.0,9,     -999.0,9,     -999.0,9,     -999.0,9, -999.00,9,-999.0000,9,-999.0000,9,-999.0000,9,-999.0000,9,-999.0000,9,-999.0000,9,-999.0000, -999.00
33RR20050106,       P16S,      69,          1,         17,         17,2,20050130,       1115,   -49.9985,  -150.0000,       4183,  1286.9,   3.9410,  34.3575,2,  34.3580,2,    198.3,2,   199.4,2,   40.19,2,   31.49,2,    0.00,2,    2.19,2,   1.430,2,   0.724,2,  -0.002,4,  2206.7,2,  2303.1,2,-999.000,9,-999.0000,9, -999.00,9, -999.00,9,  -999.0,9,  -999.0,-999.000,9,-999.000,  39.1214,2,  1286.9,-999.000,   3.8418,     -999.0,9,     -999.0,9,     -999.0,9,     -999.0,9,     -999.0,9,     -999.0,9,     -999.0,9, -999.00,9,   0.0860,2,   0.0550,2,   0.0280,2,   0.0220,2,   0.0220,2,   0.0245,2,-999.0000, -999.00
33RR20050106,       P16S,      69,          1,         16,         16,3,20050130,       1115,   -49.9985,  -150.0000,       4183,  1388.2,   3.5466,  34.3868,2,  34.4512,4,    192.1,2,   195.9,4,   64.07,4,   32.74,4,    0.00,4,    2.29,4,   0.070,4,   0.036,4,  -0.002,4,  2257.9,4,  2341.7,4,-999.000,9,-999.0000,9, -999.00,9, -999.00,9,  -999.0,9,  -999.0,-999.000,9,-999.000,-999.0000,9,  1388.2,-999.000,   3.4426,     -999.0,9,     -999.0,9,     -999.0,9,     -999.0,9,     -999.0,9,     -999.0,9,     -999.0,9, -999.00,9,-999.0000,9,-999.0000,9,-999.0000,9,-999.0000,9,-999.0000,9,-999.0000,9,-999.0000, -999.00
33RR20050106,       P16S,      69,          1,         15,         15,2,20050130,       1115,   -49.9985,  -150.0000,       4183,  1489.7,   3.2582,  34.4145,2,  34.4151,2,    186.2,2,   187.3,2,   53.72,2,   33.11,2,    0.00,2,    2.32,2,   1.067,2,   0.530,2,  -0.002,4,  2228.6,2,  2316.7,2,-999.000,9,-999.0000,9, -999.00,9, -999.00,9,  -999.0,9,  -999.0,-999.000,9,-999.000,  39.4713,2,  1489.7,-999.000,   3.1487,     -999.0,9,     -999.0,9,     -999.0,9,     -999.0,9,     -999.0,9,     -999.0,9,     -999.0,9, -999.00,9,   0.0990,2,   0.0650,2,   0.0350,2,   0.0270,2,   0.0169,2,   0.0196,2,-999.0000, -999.00
33RR20050106,       P16S,      69,          1,         14,         14,2,20050130,       1115,   -49.9985,  -150.0000,       4183,  1589.7,   3.0407,  34.4550,2,  34.4557,2,    181.1,2,   181.1,2,   61.21,2,   33.64,2,    0.00,2,    2.35,2,   0.792,2,   0.399,2,  -0.002,4,  2236.7,2,  2323.3,2,-999.000,9,-999.0000,9, -999.00,9, -999.00,9,  -999.0,9,  -999.0,-999.000,9,-999.000,-999.0000,9,  1589.7,-999.000,   2.9251,     -999.0,9,     -999.0,9,     -999.0,9,     -999.0,9,     -999.0,9,     -999.0,9,     -999.0,9, -999.00,9,-999.0000,9,-999.0000,9,-999.0000,9,-999.0000,9,-999.0000,9,-999.0000,9,-999.0000, -999.00
33RR20050106,       P16S,      69,          1,         13,         13,2,20050130,       1115,   -49.9985,  -150.0000,       4183,  1691.4,   2.8667,  34.4923,2,  34.4926,2,    176.8,2,   176.8,2,   66.69,2,   33.86,2,    0.00,2,    2.37,2,   0.655,2,   0.321,2,  -0.002,4,  2244.6,2,  2328.9,2,-999.000,9,-999.0000,9, -999.00,9, -999.00,9,  -999.0,9,  -999.0,-999.000,9,-999.000,  39.5210,2,  1691.4,-999.000,   2.7446,     -999.0,9,     -999.0,9,     -999.0,9,     -999.0,9,     -999.0,9,     -999.0,9,     -999.0,9, -999.00,9,   0.1010,2,   0.0670,2,   0.0350,2,   0.0260,3,   0.0178,2,   0.0203,2,-999.0000, -999.00
33RR20050106,       P16S,      69,          1,         12,         12,2,20050130,       1115,   -49.9985,  -150.0000,       4183,  1792.6,   2.7023,  34.5340,2,  34.5351,2,    173.0,2,   173.8,2,   71.97,2,   33.96,2,    0.00,2,    2.37,2,   0.512,2,   0.243,2,  -0.002,4,  2249.3,2,  2334.0,2,-999.000,9,-999.0000,9, -999.00,9, -999.00,9,  -999.0,9,  -999.0,-999.000,9,-999.000,-999.0000,9,  1792.6,-999.000,   2.5736,     -999.0,9,     -999.0,9,     -999.0,9,     -999.0,9,     -999.0,9,     -999.0,9,     -999.0,9, -999.00,9,-999.0000,9,-999.0000,9,-999.0000,9,-999.0000,9,-999.0000,9,-999.0000,9,-999.0000, -999.00
33RR20050106,       P16S,      69,          1,         11,         11,2,20050130,       1115,   -49.9985,  -150.0000,       4183,  1994.3,   2.5216,  34.5985,2,  34.5977,2,    170.6,2,   171.0,2,   79.28,2,   33.62,2,    0.00,2,    2.35,2,   0.317,2,   0.144,2,  -0.002,4,  2256.8,2,  2342.4,2,-999.000,9,-999.0000,9, -999.00,9, -999.00,9,  -999.0,9,  -999.0,-999.000,9,-999.000,  38.6556,2,  1994.3,-999.000,   2.3778,     -999.0,9,     -999.0,9,     -999.0,9,     -999.0,9,     -999.0,9,     -999.0,9,     -999.0,9, -999.00,9,   0.1120,2,   0.0750,2,   0.0380,2,   0.0280,2,   0.0169,2,   0.0196,2,-999.0000, -999.00
33RR20050106,       P16S,      69,          1,         10,         10,2,20050130,       1115,   -49.9985,  -150.0000,       4183,  2199.4,   2.3872,  34.6497,2,  34.6504,2,    174.2,2,   174.5,2,   81.10,2,   32.91,2,    0.00,2,    2.29,2,   0.228,2,   0.095,2,  -0.002,4,  2257.2,2,  2344.9,2,-999.000,9,-999.0000,9, -999.00,9, -999.00,9,  -999.0,9,  -999.0,-999.000,9,-999.000,-999.0000,9,  2199.4,-999.000,   2.2272,     -999.0,9,     -999.0,9,     -999.0,9,     -999.0,9,     -999.0,9,     -999.0,9,     -999.0,9, -999.00,9,-999.0000,9,-999.0000,9,-999.0000,9,-999.0000,9,-999.0000,9,-999.0000,9,-999.0000, -999.00
33RR20050106,       P16S,      69,          1,          9,          9,2,20050130,       1115,   -49.9985,  -150.0000,       4183,  2452.3,   2.2274,  34.6960,2,  34.6964,2,    179.1,2,   179.6,2,   85.58,2,   32.03,2,    0.00,2,    2.23,2,   0.131,2,   0.062,2,  -0.002,4,  2256.8,2,  2349.3,2,-999.000,9,-999.0000,9, -999.00,9, -999.00,9,  -999.0,9,  -999.0,-999.000,9,-999.000,  40.5021,2,  2452.3,-999.000,   2.0471,     -999.0,9,     -999.0,9,     -999.0,9,     -999.0,9,     -999.0,9,     -999.0,9,     -999.0,9, -999.00,9,   0.1110,2,   0.0750,2,   0.0390,2,   0.0290,2,   0.0164,2,   0.0190,2,-999.0000, -999.00
33RR20050106,       P16S,      69,          1,          8,          8,2,20050130,       1115,   -49.9985,  -150.0000,       4183,  2705.9,   2.0881,  34.7265,2,  34.7274,2,    186.8,2,   187.9,2,   86.80,2,   31.15,2,    0.00,2,    2.16,2,-999.000,9,-999.000,9,-999.000,9,  2251.7,2,  2349.4,2,-999.000,9,-999.0000,9, -999.00,9, -999.00,9,  -999.0,9,  -999.0,-999.000,9,-999.000,-999.0000,9,  2705.9,-999.000,   1.8866,     -999.0,9,     -999.0,9,     -999.0,9,     -999.0,9,     -999.0,9,     -999.0,9,     -999.0,9, -999.00,9,-999.0000,9,-999.0000,9,-999.0000,9,-999.0000,9,-999.0000,9,-999.0000,9,-999.0000, -999.00
33RR20050106,       P16S,      69,          1,          7,          7,2,20050130,       1115,   -49.9985,  -150.0000,       4183,  2960.4,   1.8902,  34.7351,2,  34.7357,2,    191.0,2,   192.2,2,   92.71,2,   31.05,2,    0.00,2,    2.15,2,   0.056,6,   0.027,6,  -0.002,4,  2253.5,2,  2352.7,2,-999.000,9,-999.0000,9, -999.00,9, -999.00,9,  -999.0,9,  -999.0,-999.000,9,-999.000,-999.0000,9,  2960.4,-999.000,   1.6684,     -999.0,9,     -999.0,9,     -999.0,9,     -999.0,9,     -999.0,9,     -999.0,9,     -999.0,9, -999.00,9,-999.0000,9,-999.0000,9,-999.0000,9,-999.0000,9,-999.0000,9,-999.0000,9,-999.0000, -999.00