BOTTLE,20201109CCHSIOCBG
EXPOCODE,SECT_ID,STNNBR,CASTNO,SAMPNO,BTLNBR,BTLNBR_FLAG_W,DATE,TIME,LATITUDE,LONGITUDE,DEPTH,CTDPRS,CTDTMP,CTDSAL,CTDSAL_FLAG_W,SALNTY,SALNTY_FLAG_W,CTDOXY,CTDOXY_FLAG_W,OXYGEN,OXYGEN_FLAG_W,SILCAT,SILCAT_FLAG_W,NITRAT,NITRAT_FLAG_W,NITRIT,NITRIT_FLAG_W,PHSPHT,PHSPHT_FLAG_W,CFC-11,CFC-11_FLAG_W,CFC-12,CFC-12_FLAG_W,CFC113,CFC113_FLAG_W,TCARBN,TCARBN_FLAG_W,ALKALI,ALKALI_FLAG_W,TRITUM,TRITUM_FLAG_W,HELIUM,HELIUM_FLAG_W,DELHE3,DELHE3_FLAG_W,DELC13,DELC13_FLAG_W,DELC14,DELC14_FLAG_W,C14ERR,NEON,NEON_FLAG_W,NEONER,DOC,DOC_FLAG_W,CTDRAW,TRITER,THETA,FUCO,FUCO_FLAG_W,RHAM,RHAM_FLAG_W,ARABA,ARABA_FLAG_W,GALA,GALA_FLAG_W,GLUC,GLUC_FLAG_W,MAN,MAN_FLAG_W,DCNS,DCNS_FLAG_W,BRDU,BRDU_FLAG_W,CDOM325,CDOM325_FLAG_W,CDOM340,CDOM340_FLAG_W,CDOM380,CDOM380_FLAG_W,CDOM412,CDOM412_FLAG_W,CDOMSL,CDOMSL_FLAG_W,CDOMSN,CDOMSN_FLAG_W,HELIER,DELHER
,,,,,,,,,,,METERS,DBAR,ITS-90,PSS-78,,PSS-78,,UMOL/KG,,UMOL/KG,,UMOL/KG,,UMOL/KG,,UMOL/KG,,UMOL/KG,,PMOL/KG,,PMOL/KG,,PMOL/KG,,UMOL/KG,,UMOL/KG,,TU,,NMOL/KG,,PERCNT,,/MILLE,,/MILLE,,/MILLE,NMOL/KG,,NMOL/KG,UMOL/KG,,DBAR,TU,DEG C,NMOL/KG,,NMOL/KG,,NMOL/KG,,NMOL/KG,,NMOL/KG,,NMOL/KG,,NMOL/KG,,PMOL/L/H,,1/M,,1/M,,1/M,,1/M,,1/NM,,1/NM,,NMOL/KG,PERCNT
33RR20050106,       P16S,      13,          1,          6,          6,2,20050113,       1641,   -22.0000,  -150.0000,       4545,  3285.5,   1.6005,  34.6812,2,  34.6819,2,    166.4,2,   167.1,2,  125.97,2,   34.73,2,    0.00,2,    2.45,2,   0.002,2,  -0.001,2,   0.001,2,  2298.7,2,  2394.2,2,   0.001,2,   1.9850,2,   20.10,2, -999.00,9,  -999.0,9,  -999.0,   8.332,2,   0.040,-999.0000,9,  3285.5,   0.005,   1.3535,     -999.0,9,     -999.0,9,     -999.0,9,     -999.0,9,     -999.0,9,     -999.0,9,     -999.0,9, -999.00,9,-999.0000,9,-999.0000,9,-999.0000,9,-999.0000,9,-999.0000,9,-999.0000,9,   0.0030,    0.17
33RR20050106,       P16S,      13,          1,          5,          5,2,20050113,       1641,   -22.0000,  -150.0000,       4545,  3539.7,   1.5135,  34.6880,2,  34.6878,2,    172.7,2,   173.7,2,  124.91,2,   34.24,2,    0.00,2,    2.41,2,   0.001,2,  -0.001,2,   0.001,2,  2293.4,2,  2389.4,2,   0.001,2,-999.0000,9, -999.00,9, -999.00,9,  -999.0,9,  -999.0,-999.000,9,-999.000,-999.0000,9,  3539.7,   0.008,   1.2429,     -999.0,9,     -999.0,9,     -999.0,9,     -999.0,9,     -999.0,9,     -999.0,9,     -999.0,9, -999.00,9,-999.0000,9,-999.0000,9,-999.0000,9,-999.0000,9,-999.0000,9,-999.0000,9,-999.0000, -999.00
33RR20050106,       P16S,      13,          1,          4,          4,2,20050113,       1641,   -22.0000,  -150.0000,       4545,  3794.5,   1.4548,  34.6930,2,  34.6932,2,    178.0,2,   178.7,2,  123.43,2,   33.92,2,    0.00,2,    2.38,2,   0.001,2,  -0.001,2,   0.001,2,  2288.7,2,  2387.1,2,-999.000,9,-999.0000,9, -999.00,9, -999.00,9,  -999.0,9,  -999.0,-999.000,9,-999.000,-999.0000,9,  3794.5,-999.000,   1.1591,     -999.0,9,     -999.0,9,     -999.0,9,     -999.0,9,     -999.0,9,     -999.0,9,     -999.0,9, -999.00,9,-999.0000,9,-999.0000,9,-999.0000,9,-999.0000,9,-999.0000,9,-999.0000,9,-999.0000, -999.00
33RR20050106,       P16S,      13,          1,          3,          3,2,20050113,       1641,   -22.0000,  -150.0000,       4545,  4100.1,   1.3950,  34.6982,2,  34.6987,2,    183.9,2,   184.3,2,  122.37,2,   33.49,2,    0.00,2,    2.35,2,   0.009,2,   0.010,2,   0.001,2,  2283.7,2,  2384.0,2,-999.000,9,-999.0000,9, -999.00,9, -999.00,9,  -999.0,9,  -999.0,-999.000,9,-999.000,  35.3140,2,  4100.1,-999.000,   1.0680,     -999.0,9,     -999.0,9,     -999.0,9,     -999.0,9,     -999.0,9,     -999.0,9,     -999.0,9, -999.00,9,   0.0980,2,   0.0730,2,   0.0430,2,   0.0320,2,   0.0130,2,   0.0140,2,-999.0000, -999.00
33RR20050106,       P16S,      13,          1,          2,          2,2,20050113,       1641,   -22.0000,  -150.0000,       4545,  4406.5,   1.3793,  34.7010,2,  34.7009,2,    187.1,2,   187.4,2,  121.74,2,   33.26,2,    0.00,2,    2.32,2,  -0.002,2,  -0.001,2,   0.001,2,  2280.5,2,  2381.3,2,   0.002,2,   1.8870,2,   14.14,2, -999.00,9,  -999.0,9,  -999.0,   8.072,2,   0.034,-999.0000,9,  4406.5,   0.006,   1.0186,     -999.0,9,     -999.0,9,     -999.0,9,     -999.0,9,     -999.0,9,     -999.0,9,     -999.0,9, -999.00,9,-999.0000,9,-999.0000,9,-999.0000,9,-999.0000,9,-999.0000,9,-999.0000,9,   0.0030,    0.15
33RR20050106,       P16S,      13,          1,          1,          1,2,20050113,       1641,   -22.0000,  -150.0000,       4545,  4633.2,   1.3882,  34.7019,2,  34.7021,2,    187.9,2,   188.7,2,  121.31,2,   33.20,2,    0.00,2,    2.33,2,   0.011,2,  -0.001,2,   0.001,2,  2280.2,2,  2379.6,6,   0.024,2,   1.9680,2,   11.82,2, -999.00,9,  -999.0,9,  -999.0,   8.394,2,   0.014,  34.7047,2,  4633.2,   0.006,   1.0011,     -999.0,9,     -999.0,9,     -999.0,9,     -999.0,9,     -999.0,9,     -999.0,9,     -999.0,9, -999.00,9,   0.0980,2,   0.0740,2,   0.0440,2,   0.0330,2,   0.0124,2,   0.0134,2,   0.0010,    0.22