BOTTLE,20201109CCHSIOCBG
EXPOCODE,SECT_ID,STNNBR,CASTNO,SAMPNO,BTLNBR,BTLNBR_FLAG_W,DATE,TIME,LATITUDE,LONGITUDE,DEPTH,CTDPRS,CTDTMP,CTDSAL,CTDSAL_FLAG_W,SALNTY,SALNTY_FLAG_W,CTDOXY,CTDOXY_FLAG_W,OXYGEN,OXYGEN_FLAG_W,SILCAT,SILCAT_FLAG_W,NITRAT,NITRAT_FLAG_W,NITRIT,NITRIT_FLAG_W,PHSPHT,PHSPHT_FLAG_W,CFC-11,CFC-11_FLAG_W,CFC-12,CFC-12_FLAG_W,CFC113,CFC113_FLAG_W,TCARBN,TCARBN_FLAG_W,ALKALI,ALKALI_FLAG_W,TRITUM,TRITUM_FLAG_W,HELIUM,HELIUM_FLAG_W,DELHE3,DELHE3_FLAG_W,DELC13,DELC13_FLAG_W,DELC14,DELC14_FLAG_W,C14ERR,NEON,NEON_FLAG_W,NEONER,DOC,DOC_FLAG_W,CTDRAW,TRITER,THETA,FUCO,FUCO_FLAG_W,RHAM,RHAM_FLAG_W,ARABA,ARABA_FLAG_W,GALA,GALA_FLAG_W,GLUC,GLUC_FLAG_W,MAN,MAN_FLAG_W,DCNS,DCNS_FLAG_W,BRDU,BRDU_FLAG_W,CDOM325,CDOM325_FLAG_W,CDOM340,CDOM340_FLAG_W,CDOM380,CDOM380_FLAG_W,CDOM412,CDOM412_FLAG_W,CDOMSL,CDOMSL_FLAG_W,CDOMSN,CDOMSN_FLAG_W,HELIER,DELHER
,,,,,,,,,,,METERS,DBAR,ITS-90,PSS-78,,PSS-78,,UMOL/KG,,UMOL/KG,,UMOL/KG,,UMOL/KG,,UMOL/KG,,UMOL/KG,,PMOL/KG,,PMOL/KG,,PMOL/KG,,UMOL/KG,,UMOL/KG,,TU,,NMOL/KG,,PERCNT,,/MILLE,,/MILLE,,/MILLE,NMOL/KG,,NMOL/KG,UMOL/KG,,DBAR,TU,DEG C,NMOL/KG,,NMOL/KG,,NMOL/KG,,NMOL/KG,,NMOL/KG,,NMOL/KG,,NMOL/KG,,PMOL/L/H,,1/M,,1/M,,1/M,,1/M,,1/NM,,1/NM,,NMOL/KG,PERCNT
33RR20050106,       P16S,      83,          1,         32,         32,2,20050203,       1039,   -56.9993,  -149.9998,       3200,     4.9,   2.6559,  33.8355,2,  33.8359,2,    329.1,2,   330.6,2,   17.54,2,   25.06,2,    0.28,2,    1.70,2,   5.591,2,   3.063,2,   0.690,2,  2146.0,6,  2283.2,2,-999.000,9,-999.0000,9, -999.00,9, -999.00,5,   -82.1,2,     3.0,-999.000,9,-999.000,  44.0368,2,     4.9,-999.000,   2.6556,     -999.0,9,     -999.0,9,     -999.0,9,     -999.0,9,     -999.0,9,     -999.0,9,     -999.0,9, -999.00,9,-999.0000,9,-999.0000,9,-999.0000,9,-999.0000,9,-999.0000,9,-999.0000,9,-999.0000, -999.00
33RR20050106,       P16S,      83,          1,         31,         31,2,20050203,       1039,   -56.9993,  -149.9998,       3200,    34.4,   2.6536,  33.8349,2,  33.8359,2,    330.8,2,   330.7,2,   17.53,2,   25.05,2,    0.28,2,    1.70,2,   5.629,2,   3.097,2,   0.666,2,  2144.8,2,  2283.8,2,-999.000,9,-999.0000,9, -999.00,9, -999.00,9,  -999.0,9,  -999.0,-999.000,9,-999.000,  44.4705,2,    34.4,-999.000,   2.6517,     -999.0,9,     -999.0,9,     -999.0,9,     -999.0,9,     -999.0,9,     -999.0,9,     -999.0,9, -999.00,9,-999.0000,9,-999.0000,9,-999.0000,9,-999.0000,9,-999.0000,9,-999.0000,9,-999.0000, -999.00
33RR20050106,       P16S,      83,          1,         30,         30,2,20050203,       1039,   -56.9993,  -149.9998,       3200,    69.6,   0.4982,  33.8605,2,  33.8662,2,    345.6,2,   346.2,2,   22.69,2,   26.07,2,    0.22,2,    1.95,2,   6.358,2,   3.374,2,   0.735,2,  2157.6,2,  2284.8,2,-999.000,9,-999.0000,9, -999.00,9, -999.00,5,   -93.5,2,     2.9,-999.000,9,-999.000,  42.4697,2,    69.6,-999.000,   0.4955,     -999.0,9,     -999.0,9,     -999.0,9,     -999.0,9,     -999.0,9,     -999.0,9,     -999.0,9, -999.00,9,-999.0000,9,-999.0000,9,-999.0000,9,-999.0000,9,-999.0000,9,-999.0000,9,-999.0000, -999.00
33RR20050106,       P16S,      83,          1,         29,         29,2,20050203,       1039,   -56.9993,  -149.9998,       3200,   114.2,  -0.5119,  33.9139,2,  33.9138,2,    338.8,2,   343.8,2,   34.46,2,   28.20,2,    0.18,2,    2.02,2,   6.277,6,   3.441,6,   0.749,6,  2171.0,2,  2284.6,2,-999.000,9,-999.0000,9, -999.00,9, -999.00,5,   -94.6,2,     3.1,-999.000,9,-999.000,  44.1050,2,   114.2,-999.000,  -0.5154,     -999.0,9,     -999.0,9,     -999.0,9,     -999.0,9,     -999.0,9,     -999.0,9,     -999.0,9, -999.00,9,-999.0000,9,-999.0000,9,-999.0000,9,-999.0000,9,-999.0000,9,-999.0000,9,-999.0000, -999.00
33RR20050106,       P16S,      83,          1,         28,         28,2,20050203,       1039,   -56.9993,  -149.9998,       3200,   139.9,  -0.7314,  33.9205,2,  33.9197,2,    338.4,2,   340.7,2,   38.44,2,   28.72,2,    0.20,2,    2.03,2,-999.000,9,-999.000,9,-999.000,9,  2173.3,2,  2285.8,2,-999.000,9,-999.0000,9, -999.00,9, -999.00,5,   -97.6,2,     3.0,-999.000,9,-999.000,  41.9679,2,   139.9,-999.000,  -0.7354,     -999.0,9,     -999.0,9,     -999.0,9,     -999.0,9,     -999.0,9,     -999.0,9,     -999.0,9, -999.00,9,-999.0000,9,-999.0000,9,-999.0000,9,-999.0000,9,-999.0000,9,-999.0000,9,-999.0000, -999.00
33RR20050106,       P16S,      83,          1,         27,         27,2,20050203,       1039,   -56.9993,  -149.9998,       3200,   169.9,   0.4121,  34.0700,2,  34.0742,2,    310.3,2,   290.4,2,   43.44,2,   31.32,2,    0.06,2,    2.16,2,   4.712,2,   2.616,2,   0.538,2,  2193.9,2,  2291.6,2,-999.000,9,-999.0000,9, -999.00,9, -999.00,5,   -99.4,2,     3.1,-999.000,9,-999.000,  42.9776,2,   169.9,-999.000,   0.4055,     -999.0,9,     -999.0,9,     -999.0,9,     -999.0,9,     -999.0,9,     -999.0,9,     -999.0,9, -999.00,9,-999.0000,9,-999.0000,9,-999.0000,9,-999.0000,9,-999.0000,9,-999.0000,9,-999.0000, -999.00
33RR20050106,       P16S,      83,          1,         26,         26,2,20050203,       1039,   -56.9993,  -149.9998,       3200,   220.5,   2.1521,  34.3241,2,  34.3195,2,    205.7,2,   206.0,2,   53.45,2,   33.90,2,    0.01,2,    2.33,2,   2.191,2,   1.184,2,   0.207,2,  2227.7,2,  2307.1,2,-999.000,9,-999.0000,9, -999.00,9, -999.00,5,  -113.3,2,     3.0,-999.000,9,-999.000,  40.0600,2,   220.5,-999.000,   2.1401,     -999.0,9,     -999.0,9,     -999.0,9,     -999.0,9,     -999.0,9,     -999.0,9,     -999.0,9, -999.00,9,-999.0000,9,-999.0000,9,-999.0000,9,-999.0000,9,-999.0000,9,-999.0000,9,-999.0000, -999.00
33RR20050106,       P16S,      83,          1,         25,         25,2,20050203,       1039,   -56.9993,  -149.9998,       3200,   275.1,   2.2651,  34.3987,2,  34.3959,2,    187.8,2,   189.3,2,   60.29,2,   34.55,2,    0.01,2,    2.37,2,   1.597,2,   0.872,2,   0.161,2,  2238.0,2,  2315.0,2,-999.000,9,-999.0000,9, -999.00,9, -999.00,5,  -135.8,2,     3.5,-999.000,9,-999.000,  39.3477,2,   275.1,-999.000,   2.2497,     -999.0,9,     -999.0,9,     -999.0,9,     -999.0,9,     -999.0,9,     -999.0,9,     -999.0,9, -999.00,9,-999.0000,9,-999.0000,9,-999.0000,9,-999.0000,9,-999.0000,9,-999.0000,9,-999.0000, -999.00
33RR20050106,       P16S,      83,          1,         24,         24,2,20050203,       1039,   -56.9993,  -149.9998,       3200,   326.2,   2.3857,  34.4624,2,  34.4622,2,    178.9,2,   178.6,2,   65.10,2,   34.71,2,    0.01,2,    2.38,2,-999.000,9,-999.000,9,-999.000,9,  2244.5,2,  2320.6,2,-999.000,9,-999.0000,9, -999.00,9, -999.00,5,  -128.5,2,     3.0,-999.000,9,-999.000,-999.0000,9,   326.2,-999.000,   2.3669,     -999.0,9,     -999.0,9,     -999.0,9,     -999.0,9,     -999.0,9,     -999.0,9,     -999.0,9, -999.00,9,-999.0000,9,-999.0000,9,-999.0000,9,-999.0000,9,-999.0000,9,-999.0000,9,-999.0000, -999.00
33RR20050106,       P16S,      83,          1,         23,         23,2,20050203,       1039,   -56.9993,  -149.9998,       3200,   376.2,   2.4018,  34.4985,2,  34.4975,2,    173.8,2,   174.2,2,   67.71,2,   34.70,2,    0.01,2,    2.38,2,   0.898,2,   0.468,2,   0.078,2,  2246.9,2,  2323.8,2,-999.000,9,-999.0000,9, -999.00,9, -999.00,5,  -132.9,2,     2.6,-999.000,9,-999.000,  39.7720,2,   376.2,-999.000,   2.3799,     -999.0,9,     -999.0,9,     -999.0,9,     -999.0,9,     -999.0,9,     -999.0,9,     -999.0,9, -999.00,9,-999.0000,9,-999.0000,9,-999.0000,9,-999.0000,9,-999.0000,9,-999.0000,9,-999.0000, -999.00
33RR20050106,       P16S,      83,          1,         22,         22,2,20050203,       1039,   -56.9993,  -149.9998,       3200,   427.1,   2.3668,  34.5368,2,  34.5352,2,    171.6,2,   172.3,2,   70.34,2,   34.38,2,    0.00,2,    2.36,2,-999.000,9,-999.000,9,-999.000,9,  2250.1,2,  2327.1,2,-999.000,9,-999.0000,9, -999.00,9, -999.00,5,  -129.0,2,     2.9,-999.000,9,-999.000,-999.0000,9,   427.1,-999.000,   2.3419,     -999.0,9,     -999.0,9,     -999.0,9,     -999.0,9,     -999.0,9,     -999.0,9,     -999.0,9, -999.00,9,-999.0000,9,-999.0000,9,-999.0000,9,-999.0000,9,-999.0000,9,-999.0000,9,-999.0000, -999.00
33RR20050106,       P16S,      83,          1,         21,         21,2,20050203,       1039,   -56.9993,  -149.9998,       3200,   476.4,   2.3034,  34.5636,2,  34.5616,2,    170.8,2,   171.3,2,   73.35,2,   34.26,2,    0.00,2,    2.34,2,   0.629,2,   0.315,2,   0.061,2,  2251.6,2,  2329.0,2,-999.000,9,-999.0000,9, -999.00,9, -999.00,9,  -999.0,9,  -999.0,-999.000,9,-999.000,  38.8645,2,   476.4,-999.000,   2.2756,     -999.0,9,     -999.0,9,     -999.0,9,     -999.0,9,     -999.0,9,     -999.0,9,     -999.0,9, -999.00,9,-999.0000,9,-999.0000,9,-999.0000,9,-999.0000,9,-999.0000,9,-999.0000,9,-999.0000, -999.00
33RR20050106,       P16S,      83,          1,         20,         20,2,20050203,       1039,   -56.9993,  -149.9998,       3200,   527.4,   2.2651,  34.5895,2,  34.5883,2,    169.9,2,   170.8,2,   74.75,2,   34.03,2,    0.00,2,    2.33,2,   0.646,2,   0.333,2,   0.060,2,  2253.7,6,  2331.8,2,-999.000,9,-999.0000,9, -999.00,9, -999.00,5,  -137.0,2,     4.0,-999.000,9,-999.000,  38.3225,2,   527.4,-999.000,   2.2343,     -999.0,9,     -999.0,9,     -999.0,9,     -999.0,9,     -999.0,9,     -999.0,9,     -999.0,9, -999.00,9,-999.0000,9,-999.0000,9,-999.0000,9,-999.0000,9,-999.0000,9,-999.0000,9,-999.0000, -999.00
33RR20050106,       P16S,      83,          1,         19,         19,2,20050203,       1039,   -56.9993,  -149.9998,       3200,   648.9,   2.2273,  34.6391,2,  34.6376,2,    171.8,2,   173.0,2,   77.17,2,   33.16,2,    0.00,2,    2.26,2,   0.394,2,   0.204,2,   0.042,2,  2253.8,2,  2335.5,2,-999.000,9,-999.0000,9, -999.00,9, -999.00,5,  -137.6,2,     2.9,-999.000,9,-999.000,  41.1192,2,   648.9,-999.000,   2.1889,     -999.0,9,     -999.0,9,     -999.0,9,     -999.0,9,     -999.0,9,     -999.0,9,     -999.0,9, -999.00,9,-999.0000,9,-999.0000,9,-999.0000,9,-999.0000,9,-999.0000,9,-999.0000,9,-999.0000, -999.00
33RR20050106,       P16S,      83,          1,         18,         18,2,20050203,       1039,   -56.9993,  -149.9998,       3200,   749.4,   2.1800,  34.6726,2,  34.6743,2,    175.9,2,   176.0,2,   79.18,2,   32.51,2,    0.00,2,    2.21,2,   0.312,2,   0.161,2,   0.037,2,  2252.0,2,  2338.3,2,-999.000,9,-999.0000,9, -999.00,9, -999.00,9,  -999.0,9,  -999.0,-999.000,9,-999.000,  41.7913,2,   749.4,-999.000,   2.1352,     -999.0,9,     -999.0,9,     -999.0,9,     -999.0,9,     -999.0,9,     -999.0,9,     -999.0,9, -999.00,9,-999.0000,9,-999.0000,9,-999.0000,9,-999.0000,9,-999.0000,9,-999.0000,9,-999.0000, -999.00
33RR20050106,       P16S,      83,          1,         17,         17,2,20050203,       1039,   -56.9993,  -149.9998,       3200,   851.9,   2.1235,  34.6996,2,  34.6995,2,    179.3,2,   180.2,2,   80.99,2,   31.80,2,    0.00,2,    2.16,2,   0.346,2,   0.182,2,   0.030,2,  2251.0,2,  2340.2,2,-999.000,9,-999.0000,9, -999.00,9, -999.00,5,  -142.2,2,     2.6,-999.000,9,-999.000,  40.3759,2,   851.9,-999.000,   2.0723,     -999.0,9,     -999.0,9,     -999.0,9,     -999.0,9,     -999.0,9,     -999.0,9,     -999.0,9, -999.00,9,-999.0000,9,-999.0000,9,-999.0000,9,-999.0000,9,-999.0000,9,-999.0000,9,-999.0000, -999.00
33RR20050106,       P16S,      83,          1,         16,         16,2,20050203,       1039,   -56.9993,  -149.9998,       3200,   951.2,   2.0546,  34.7149,2,  34.7150,2,    182.3,2,   183.2,2,   83.00,2,   31.42,2,    0.00,2,    2.13,2,   0.206,2,   0.110,2,   0.018,2,  2250.4,2,  2342.6,2,-999.000,9,-999.0000,9, -999.00,9, -999.00,9,  -999.0,9,  -999.0,-999.000,9,-999.000,  40.8684,2,   951.2,-999.000,   1.9971,     -999.0,9,     -999.0,9,     -999.0,9,     -999.0,9,     -999.0,9,     -999.0,9,     -999.0,9, -999.00,9,-999.0000,9,-999.0000,9,-999.0000,9,-999.0000,9,-999.0000,9,-999.0000,9,-999.0000, -999.00
33RR20050106,       P16S,      83,          1,         15,         15,2,20050203,       1039,   -56.9993,  -149.9998,       3200,  1053.2,   1.9871,  34.7251,2,  34.7246,2,    185.2,2,   186.1,2,   84.61,2,   31.10,2,    0.00,2,    2.11,2,   0.190,2,   0.096,2,   0.016,2,  2249.7,2,  2344.6,2,-999.000,9,-999.0000,9, -999.00,9, -999.00,5,  -148.3,2,     3.1,-999.000,9,-999.000,  38.8025,2,  1053.2,-999.000,   1.9231,     -999.0,9,     -999.0,9,     -999.0,9,     -999.0,9,     -999.0,9,     -999.0,9,     -999.0,9, -999.00,9,-999.0000,9,-999.0000,9,-999.0000,9,-999.0000,9,-999.0000,9,-999.0000,9,-999.0000, -999.00
33RR20050106,       P16S,      83,          1,         14,         14,2,20050203,       1039,   -56.9993,  -149.9998,       3200,  1154.4,   1.9077,  34.7308,2,  34.7306,2,    187.2,2,   188.6,2,   86.83,2,   30.92,2,    0.00,2,    2.10,2,   0.337,2,   0.192,2,   0.026,2,  2249.4,2,  2346.5,2,-999.000,9,-999.0000,9, -999.00,9, -999.00,9,  -999.0,9,  -999.0,-999.000,9,-999.000,-999.0000,9,  1154.4,-999.000,   1.8373,     -999.0,9,     -999.0,9,     -999.0,9,     -999.0,9,     -999.0,9,     -999.0,9,     -999.0,9, -999.00,9,-999.0000,9,-999.0000,9,-999.0000,9,-999.0000,9,-999.0000,9,-999.0000,9,-999.0000, -999.00
33RR20050106,       P16S,      83,          1,         13,         13,2,20050203,       1039,   -56.9993,  -149.9998,       3200,  1256.2,   1.8388,  34.7353,2,  34.7353,2,    189.5,2,   190.0,2,   88.86,2,   30.86,2,    0.00,2,    2.10,2,   0.289,2,   0.154,2,   0.025,2,  2250.4,2,  2347.6,2,-999.000,9,-999.0000,9, -999.00,9, -999.00,5,  -147.0,2,     2.3,-999.000,9,-999.000,  41.4445,2,  1256.2,-999.000,   1.7619,     -999.0,9,     -999.0,9,     -999.0,9,     -999.0,9,     -999.0,9,     -999.0,9,     -999.0,9, -999.00,9,-999.0000,9,-999.0000,9,-999.0000,9,-999.0000,9,-999.0000,9,-999.0000,9,-999.0000, -999.00
33RR20050106,       P16S,      83,          1,         12,         12,2,20050203,       1039,   -56.9993,  -149.9998,       3200,  1355.7,   1.7447,  34.7379,2,  34.7374,2,    191.7,2,   192.4,2,   91.07,2,   30.80,2,    0.00,2,    2.09,2,   0.283,2,   0.164,2,   0.014,2,  2249.4,2,  2348.8,2,-999.000,9,-999.0000,9, -999.00,9, -999.00,9,  -999.0,9,  -999.0,-999.000,9,-999.000,-999.0000,9,  1355.7,-999.000,   1.6616,     -999.0,9,     -999.0,9,     -999.0,9,     -999.0,9,     -999.0,9,     -999.0,9,     -999.0,9, -999.00,9,-999.0000,9,-999.0000,9,-999.0000,9,-999.0000,9,-999.0000,9,-999.0000,9,-999.0000, -999.00
33RR20050106,       P16S,      83,          1,         11,         11,2,20050203,       1039,   -56.9993,  -149.9998,       3200,  1457.4,   1.6712,  34.7392,2,  34.7398,2,    193.5,2,   194.0,2,   93.90,2,   30.75,2,    0.00,2,    2.09,2,   0.144,2,   0.076,2,   0.015,2,  2249.3,2,  2351.0,2,-999.000,9,-999.0000,9, -999.00,9, -999.00,5,  -152.4,2,     2.8,-999.000,9,-999.000,  41.5374,2,  1457.4,-999.000,   1.5815,     -999.0,9,     -999.0,9,     -999.0,9,     -999.0,9,     -999.0,9,     -999.0,9,     -999.0,9, -999.00,9,-999.0000,9,-999.0000,9,-999.0000,9,-999.0000,9,-999.0000,9,-999.0000,9,-999.0000, -999.00
33RR20050106,       P16S,      83,          1,         10,         10,2,20050203,       1039,   -56.9993,  -149.9998,       3200,  1557.9,   1.5868,  34.7384,2,  34.7382,2,    194.8,2,   195.6,2,   96.33,2,   30.80,2,    0.00,2,    2.09,2,   0.134,2,   0.075,2,   0.011,2,  2251.6,2,  2352.6,2,-999.000,9,-999.0000,9, -999.00,9, -999.00,9,  -999.0,9,  -999.0,-999.000,9,-999.000,  47.2486,4,  1557.9,-999.000,   1.4906,     -999.0,9,     -999.0,9,     -999.0,9,     -999.0,9,     -999.0,9,     -999.0,9,     -999.0,9, -999.00,9,-999.0000,9,-999.0000,9,-999.0000,9,-999.0000,9,-999.0000,9,-999.0000,9,-999.0000, -999.00
33RR20050106,       P16S,      83,          1,          9,          9,2,20050203,       1039,   -56.9993,  -149.9998,       3200,  1760.7,   1.4168,  34.7343,2,  34.7349,2,    197.2,2,   197.9,2,  101.81,2,   30.95,2,    0.00,2,    2.10,2,   0.117,2,   0.063,2,   0.013,2,  2253.1,2,  2355.0,2,-999.000,9,-999.0000,9, -999.00,9, -999.00,9,  -999.0,9,  -999.0,-999.000,9,-999.000,  41.0728,2,  1760.7,-999.000,   1.3076,     -999.0,9,     -999.0,9,     -999.0,9,     -999.0,9,     -999.0,9,     -999.0,9,     -999.0,9, -999.00,9,-999.0000,9,-999.0000,9,-999.0000,9,-999.0000,9,-999.0000,9,-999.0000,9,-999.0000, -999.00
33RR20050106,       P16S,      83,          1,          8,          8,2,20050203,       1039,   -56.9993,  -149.9998,       3200,  1964.5,   1.2386,  34.7282,2,  34.7286,2,    199.1,2,   200.0,2,  107.50,2,   31.17,2,    0.00,2,    2.13,2,   0.099,2,   0.046,2,   0.003,2,  2257.3,2,  2357.0,2,-999.000,9,-999.0000,9, -999.00,9, -999.00,9,  -999.0,9,  -999.0,-999.000,9,-999.000,-999.0000,9,  1964.5,-999.000,   1.1162,     -999.0,9,     -999.0,9,     -999.0,9,     -999.0,9,     -999.0,9,     -999.0,9,     -999.0,9, -999.00,9,-999.0000,9,-999.0000,9,-999.0000,9,-999.0000,9,-999.0000,9,-999.0000,9,-999.0000, -999.00
33RR20050106,       P16S,      83,          1,          7,          7,2,20050203,       1039,   -56.9993,  -149.9998,       3200,  2126.0,   1.1499,  34.7245,2,  34.7246,2,    200.7,2,   201.3,2,  110.34,2,   31.27,2,    0.00,2,    2.13,2,-999.000,5,-999.000,5,-999.000,5,  2258.5,2,  2358.0,2,-999.000,9,-999.0000,9, -999.00,9, -999.00,9,  -999.0,9,  -999.0,-999.000,9,-999.000,  40.9087,2,  2126.0,-999.000,   1.0162,     -999.0,9,     -999.0,9,     -999.0,9,     -999.0,9,     -999.0,9,     -999.0,9,     -999.0,9, -999.00,9,-999.0000,9,-999.0000,9,-999.0000,9,-999.0000,9,-999.0000,9,-999.0000,9,-999.0000, -999.00
33RR20050106,       P16S,      83,          1,          6,          6,2,20050203,       1039,   -56.9993,  -149.9998,       3200,  2380.7,   0.9776,  34.7170,2,  34.7178,2,    202.9,2,   203.8,2,  116.03,2,   31.64,2,    0.00,2,    2.16,2,-999.000,5,-999.000,5,-999.000,5,  2259.8,2,  2359.0,2,-999.000,9,-999.0000,9, -999.00,9, -999.00,9,  -999.0,9,  -999.0,-999.000,9,-999.000,-999.0000,9,  2380.7,-999.000,   0.8261,     -999.0,9,     -999.0,9,     -999.0,9,     -999.0,9,     -999.0,9,     -999.0,9,     -999.0,9, -999.00,9,-999.0000,9,-999.0000,9,-999.0000,9,-999.0000,9,-999.0000,9,-999.0000,9,-999.0000, -999.00
33RR20050106,       P16S,      83,          1,          5,          5,2,20050203,       1039,   -56.9993,  -149.9998,       3200,  2635.2,   0.8700,  34.7122,2,  34.7123,2,    205.2,2,   205.8,2,  121.75,2,   31.80,2,    0.00,2,    2.17,2,   0.116,2,   0.067,2,   0.014,2,  2262.7,2,  2361.8,2,-999.000,9,-999.0000,9, -999.00,9, -999.00,9,  -999.0,9,  -999.0,-999.000,9,-999.000,  42.0329,3,  2635.2,-999.000,   0.6992,     -999.0,9,     -999.0,9,     -999.0,9,     -999.0,9,     -999.0,9,     -999.0,9,     -999.0,9, -999.00,9,-999.0000,9,-999.0000,9,-999.0000,9,-999.0000,9,-999.0000,9,-999.0000,9,-999.0000, -999.00
33RR20050106,       P16S,      83,          1,          4,          4,2,20050203,       1039,   -56.9993,  -149.9998,       3200,  2787.5,   0.8390,  34.7104,2,  34.7095,2,    205.3,2,   205.9,2,  124.80,2,   31.91,2,    0.00,2,    2.18,2,   0.139,2,   0.076,2,   0.013,2,  2262.4,2,  2361.5,2,-999.000,9,-999.0000,9, -999.00,9, -999.00,9,  -999.0,9,  -999.0,-999.000,9,-999.000,-999.0000,9,  2787.5,-999.000,   0.6556,     -999.0,9,     -999.0,9,     -999.0,9,     -999.0,9,     -999.0,9,     -999.0,9,     -999.0,9, -999.00,9,-999.0000,9,-999.0000,9,-999.0000,9,-999.0000,9,-999.0000,9,-999.0000,9,-999.0000, -999.00
33RR20050106,       P16S,      83,          1,          3,          3,2,20050203,       1039,   -56.9993,  -149.9998,       3200,  2941.1,   0.8187,  34.7093,2,  34.7101,2,    205.6,2,   206.2,2,  127.24,2,   31.84,2,    0.00,2,    2.19,2,   0.099,2,   0.050,2,   0.011,2,  2262.2,2,  2362.7,2,-999.000,9,-999.0000,9, -999.00,9, -999.00,9,  -999.0,9,  -999.0,-999.000,9,-999.000,  39.1216,2,  2941.1,-999.000,   0.6221,     -999.0,9,     -999.0,9,     -999.0,9,     -999.0,9,     -999.0,9,     -999.0,9,     -999.0,9, -999.00,9,-999.0000,9,-999.0000,9,-999.0000,9,-999.0000,9,-999.0000,9,-999.0000,9,-999.0000, -999.00