BOTTLE,20201109CCHSIOCBG
EXPOCODE,SECT_ID,STNNBR,CASTNO,SAMPNO,BTLNBR,BTLNBR_FLAG_W,DATE,TIME,LATITUDE,LONGITUDE,DEPTH,CTDPRS,CTDTMP,CTDSAL,CTDSAL_FLAG_W,SALNTY,SALNTY_FLAG_W,CTDOXY,CTDOXY_FLAG_W,OXYGEN,OXYGEN_FLAG_W,SILCAT,SILCAT_FLAG_W,NITRAT,NITRAT_FLAG_W,NITRIT,NITRIT_FLAG_W,PHSPHT,PHSPHT_FLAG_W,CFC-11,CFC-11_FLAG_W,CFC-12,CFC-12_FLAG_W,CFC113,CFC113_FLAG_W,TCARBN,TCARBN_FLAG_W,ALKALI,ALKALI_FLAG_W,TRITUM,TRITUM_FLAG_W,HELIUM,HELIUM_FLAG_W,DELHE3,DELHE3_FLAG_W,DELC13,DELC13_FLAG_W,DELC14,DELC14_FLAG_W,C14ERR,NEON,NEON_FLAG_W,NEONER,DOC,DOC_FLAG_W,CTDRAW,TRITER,THETA,FUCO,FUCO_FLAG_W,RHAM,RHAM_FLAG_W,ARABA,ARABA_FLAG_W,GALA,GALA_FLAG_W,GLUC,GLUC_FLAG_W,MAN,MAN_FLAG_W,DCNS,DCNS_FLAG_W,BRDU,BRDU_FLAG_W,CDOM325,CDOM325_FLAG_W,CDOM340,CDOM340_FLAG_W,CDOM380,CDOM380_FLAG_W,CDOM412,CDOM412_FLAG_W,CDOMSL,CDOMSL_FLAG_W,CDOMSN,CDOMSN_FLAG_W,HELIER,DELHER
,,,,,,,,,,,METERS,DBAR,ITS-90,PSS-78,,PSS-78,,UMOL/KG,,UMOL/KG,,UMOL/KG,,UMOL/KG,,UMOL/KG,,UMOL/KG,,PMOL/KG,,PMOL/KG,,PMOL/KG,,UMOL/KG,,UMOL/KG,,TU,,NMOL/KG,,PERCNT,,/MILLE,,/MILLE,,/MILLE,NMOL/KG,,NMOL/KG,UMOL/KG,,DBAR,TU,DEG C,NMOL/KG,,NMOL/KG,,NMOL/KG,,NMOL/KG,,NMOL/KG,,NMOL/KG,,NMOL/KG,,PMOL/L/H,,1/M,,1/M,,1/M,,1/M,,1/NM,,1/NM,,NMOL/KG,PERCNT
33RR20050106,       P16S,      75,          1,         36,         36,2,20050201,       0746,   -53.0013,  -149.9977,       4119,     4.8,   9.2515,  34.2618,2,  34.2619,2,    280.2,2,   281.6,2,    0.78,2,   13.24,2,    0.21,2,    0.99,2,   3.954,2,   2.184,2,   0.313,2,  2090.3,6,  2281.1,6,-999.000,9,-999.0000,9, -999.00,9, -999.00,9,  -999.0,9,  -999.0,-999.000,9,-999.000,  45.7214,2,     4.8,-999.000,   9.2510,     -999.0,9,     -999.0,9,     -999.0,9,     -999.0,9,     -999.0,9,     -999.0,9,     -999.0,9, -999.00,9,-999.0000,9,-999.0000,9,-999.0000,9,-999.0000,9,-999.0000,9,-999.0000,9,-999.0000, -999.00
33RR20050106,       P16S,      75,          1,         35,         35,2,20050201,       0746,   -53.0013,  -149.9977,       4119,    41.7,   9.2555,  34.2642,2,  34.2650,2,    281.9,2,   281.0,2,    0.78,2,   13.24,2,    0.22,2,    0.99,2,   3.978,2,   2.223,2,   0.320,2,  2090.8,2,  2279.8,2,-999.000,9,-999.0000,9, -999.00,9, -999.00,9,  -999.0,9,  -999.0,-999.000,9,-999.000,  47.4657,2,    41.7,-999.000,   9.2510,     -999.0,9,     -999.0,9,     -999.0,9,     -999.0,9,     -999.0,9,     -999.0,9,     -999.0,9, -999.00,9,-999.0000,9,-999.0000,9,-999.0000,9,-999.0000,9,-999.0000,9,-999.0000,9,-999.0000, -999.00
33RR20050106,       P16S,      75,          1,         34,         34,2,20050201,       0746,   -53.0013,  -149.9977,       4119,    88.9,   8.1183,  34.4272,2,  34.4261,2,    271.2,2,   271.4,2,    3.80,2,   15.81,2,    0.27,2,    1.15,2,-999.000,9,-999.000,9,-999.000,9,  2115.9,2,  2281.1,2,-999.000,9,-999.0000,9, -999.00,9, -999.00,9,  -999.0,9,  -999.0,-999.000,9,-999.000,  49.2454,2,    88.9,-999.000,   8.1094,     -999.0,9,     -999.0,9,     -999.0,9,     -999.0,9,     -999.0,9,     -999.0,9,     -999.0,9, -999.00,9,-999.0000,9,-999.0000,9,-999.0000,9,-999.0000,9,-999.0000,9,-999.0000,9,-999.0000, -999.00
33RR20050106,       P16S,      75,          1,         33,         33,2,20050201,       0746,   -53.0013,  -149.9977,       4119,   137.9,   7.6437,  34.3907,2,  34.3931,2,    270.6,2,   272.4,2,    4.20,2,   16.96,2,    0.03,2,    1.20,2,   4.131,2,   2.289,2,   0.339,2,  2118.9,2,  2280.6,2,-999.000,9,-999.0000,9, -999.00,9, -999.00,9,  -999.0,9,  -999.0,-999.000,9,-999.000,  43.0281,2,   137.9,-999.000,   7.6303,     -999.0,9,     -999.0,9,     -999.0,9,     -999.0,9,     -999.0,9,     -999.0,9,     -999.0,9, -999.00,9,-999.0000,9,-999.0000,9,-999.0000,9,-999.0000,9,-999.0000,9,-999.0000,9,-999.0000, -999.00
33RR20050106,       P16S,      75,          1,         32,         32,2,20050201,       0746,   -53.0013,  -149.9977,       4119,   193.0,   7.4083,  34.3758,2,  34.3759,2,    272.0,2,   271.0,2,    4.80,2,   18.09,2,    0.03,2,    1.27,2,-999.000,9,-999.000,9,-999.000,9,  2123.3,2,  2280.0,2,-999.000,9,-999.0000,9, -999.00,9, -999.00,9,  -999.0,9,  -999.0,-999.000,9,-999.000,  45.5174,2,   193.0,-999.000,   7.3898,     -999.0,9,     -999.0,9,     -999.0,9,     -999.0,9,     -999.0,9,     -999.0,9,     -999.0,9, -999.00,9,-999.0000,9,-999.0000,9,-999.0000,9,-999.0000,9,-999.0000,9,-999.0000,9,-999.0000, -999.00
33RR20050106,       P16S,      75,          1,         31,         31,2,20050201,       0746,   -53.0013,  -149.9977,       4119,   241.6,   7.2376,  34.3640,2,  34.3645,2,    269.8,2,   270.4,2,    5.39,2,   18.78,2,    0.02,2,    1.32,2,   4.173,2,   2.283,2,   0.338,2,  2125.5,2,  2280.3,2,-999.000,9,-999.0000,9, -999.00,9, -999.00,9,  -999.0,9,  -999.0,-999.000,9,-999.000,  43.5395,2,   241.6,-999.000,   7.2147,     -999.0,9,     -999.0,9,     -999.0,9,     -999.0,9,     -999.0,9,     -999.0,9,     -999.0,9, -999.00,9,-999.0000,9,-999.0000,9,-999.0000,9,-999.0000,9,-999.0000,9,-999.0000,9,-999.0000, -999.00
33RR20050106,       P16S,      75,          1,         30,         30,2,20050201,       0746,   -53.0013,  -149.9977,       4119,   280.2,   7.1141,  34.3591,2,  34.3590,2,    267.6,2,   268.4,2,    6.00,2,   19.44,2,    0.01,2,    1.36,2,-999.000,9,-999.000,9,-999.000,9,  2128.9,2,  2281.1,2,-999.000,9,-999.0000,9, -999.00,9, -999.00,9,  -999.0,9,  -999.0,-999.000,9,-999.000,  43.0458,2,   280.2,-999.000,   7.0877,     -999.0,9,     -999.0,9,     -999.0,9,     -999.0,9,     -999.0,9,     -999.0,9,     -999.0,9, -999.00,9,-999.0000,9,-999.0000,9,-999.0000,9,-999.0000,9,-999.0000,9,-999.0000,9,-999.0000, -999.00
33RR20050106,       P16S,      75,          1,         29,         29,2,20050201,       0746,   -53.0013,  -149.9977,       4119,   340.3,   6.8013,  34.3271,2,  34.3274,2,    262.5,2,   267.0,2,    6.80,2,   20.19,2,    0.00,2,    1.42,2,   4.059,2,   2.176,2,   0.314,2,  2130.3,2,  2279.6,2,-999.000,9,-999.0000,9, -999.00,9, -999.00,9,  -999.0,9,  -999.0,-999.000,9,-999.000,-999.0000,9,   340.3,-999.000,   6.7700,     -999.0,9,     -999.0,9,     -999.0,9,     -999.0,9,     -999.0,9,     -999.0,9,     -999.0,9, -999.00,9,-999.0000,9,-999.0000,9,-999.0000,9,-999.0000,9,-999.0000,9,-999.0000,9,-999.0000, -999.00
33RR20050106,       P16S,      75,          1,         28,         28,2,20050201,       0746,   -53.0013,  -149.9977,       4119,   392.7,   6.3549,  34.2780,2,  34.2776,2,    265.0,2,   268.9,2,    7.61,2,   21.33,2,    0.00,2,    1.48,2,-999.000,9,-999.000,9,-999.000,9,  2132.9,2,  2279.9,2,-999.000,9,-999.0000,9, -999.00,9, -999.00,9,  -999.0,9,  -999.0,-999.000,9,-999.000,  43.1108,2,   392.7,-999.000,   6.3200,     -999.0,9,     -999.0,9,     -999.0,9,     -999.0,9,     -999.0,9,     -999.0,9,     -999.0,9, -999.00,9,-999.0000,9,-999.0000,9,-999.0000,9,-999.0000,9,-999.0000,9,-999.0000,9,-999.0000, -999.00
33RR20050106,       P16S,      75,          1,         27,         27,2,20050201,       0746,   -53.0013,  -149.9977,       4119,   441.5,   6.4637,  34.3274,2,  34.3272,2,    249.0,2,   247.1,2,   10.42,2,   23.00,2,    0.00,2,    1.59,2,   3.589,6,   1.906,6,   0.254,6,  2145.2,2,  2281.6,2,-999.000,9,-999.0000,9, -999.00,9, -999.00,9,  -999.0,9,  -999.0,-999.000,9,-999.000,-999.0000,9,   441.5,-999.000,   6.4239,     -999.0,9,     -999.0,9,     -999.0,9,     -999.0,9,     -999.0,9,     -999.0,9,     -999.0,9, -999.00,9,-999.0000,9,-999.0000,9,-999.0000,9,-999.0000,9,-999.0000,9,-999.0000,9,-999.0000, -999.00
33RR20050106,       P16S,      75,          1,         26,         26,2,20050201,       0746,   -53.0013,  -149.9977,       4119,   492.9,   6.2026,  34.3259,2,  34.3261,2,    239.9,2,   237.6,2,   13.04,2,   24.34,2,    0.00,2,    1.67,2,   3.188,2,   1.688,2,   0.226,2,  2153.4,2,  2282.8,2,-999.000,9,-999.0000,9, -999.00,9, -999.00,9,  -999.0,9,  -999.0,-999.000,9,-999.000,  40.4885,2,   492.9,-999.000,   6.1589,     -999.0,9,     -999.0,9,     -999.0,9,     -999.0,9,     -999.0,9,     -999.0,9,     -999.0,9, -999.00,9,-999.0000,9,-999.0000,9,-999.0000,9,-999.0000,9,-999.0000,9,-999.0000,9,-999.0000, -999.00
33RR20050106,       P16S,      75,          1,         25,         25,2,20050201,       0746,   -53.0013,  -149.9977,       4119,   578.5,   5.6468,  34.3005,2,  34.2978,2,    241.9,2,   233.6,2,   16.47,2,   26.07,2,    0.00,2,    1.78,2,   3.063,2,   1.600,2,   0.208,2,  2162.0,2,  2283.9,2,-999.000,9,-999.0000,9, -999.00,9, -999.00,9,  -999.0,9,  -999.0,-999.000,9,-999.000,  41.2809,2,   578.5,-999.000,   5.5977,     -999.0,9,     -999.0,9,     -999.0,9,     -999.0,9,     -999.0,9,     -999.0,9,     -999.0,9, -999.00,9,-999.0000,9,-999.0000,9,-999.0000,9,-999.0000,9,-999.0000,9,-999.0000,9,-999.0000, -999.00
33RR20050106,       P16S,      75,          1,         24,         24,2,20050201,       0746,   -53.0013,  -149.9977,       4119,   679.4,   5.0273,  34.2931,2,  34.2939,2,    220.9,2,   223.6,2,   21.93,2,   28.08,2,    0.00,2,    1.93,2,   2.814,2,   1.434,2,   0.195,2,  2173.5,2,  2286.7,2,-999.000,9,-999.0000,9, -999.00,9, -999.00,9,  -999.0,9,  -999.0,-999.000,9,-999.000,  40.7309,2,   679.4,-999.000,   4.9724,     -999.0,9,     -999.0,9,     -999.0,9,     -999.0,9,     -999.0,9,     -999.0,9,     -999.0,9, -999.00,9,-999.0000,9,-999.0000,9,-999.0000,9,-999.0000,9,-999.0000,9,-999.0000,9,-999.0000, -999.00
33RR20050106,       P16S,      75,          1,         23,         23,2,20050201,       0746,   -53.0013,  -149.9977,       4119,   779.2,   4.6351,  34.3247,2,  34.3257,2,    213.5,2,   211.7,2,   28.82,2,   29.71,2,    0.00,2,    2.05,2,   2.160,2,   1.075,2,   0.140,2,  2188.1,2,  2293.4,2,-999.000,9,-999.0000,9, -999.00,9, -999.00,9,  -999.0,9,  -999.0,-999.000,9,-999.000,  40.9588,2,   779.2,-999.000,   4.5738,     -999.0,9,     -999.0,9,     -999.0,9,     -999.0,9,     -999.0,9,     -999.0,9,     -999.0,9, -999.00,9,-999.0000,9,-999.0000,9,-999.0000,9,-999.0000,9,-999.0000,9,-999.0000,9,-999.0000, -999.00
33RR20050106,       P16S,      75,          1,         22,         22,2,20050201,       0746,   -53.0013,  -149.9977,       4119,   882.3,   3.9904,  34.3206,2,  34.3196,2,    208.5,2,   209.9,2,   34.91,2,   31.02,2,    0.00,2,    2.14,2,   2.067,2,   1.030,2,   0.135,2,  2199.2,2,  2296.9,2,-999.000,9,-999.0000,9, -999.00,9, -999.00,9,  -999.0,9,  -999.0,-999.000,9,-999.000,  40.8787,2,   882.3,-999.000,   3.9248,     -999.0,9,     -999.0,9,     -999.0,9,     -999.0,9,     -999.0,9,     -999.0,9,     -999.0,9, -999.00,9,-999.0000,9,-999.0000,9,-999.0000,9,-999.0000,9,-999.0000,9,-999.0000,9,-999.0000, -999.00
33RR20050106,       P16S,      75,          1,         21,         21,2,20050201,       0746,   -53.0013,  -149.9977,       4119,   981.7,   3.6152,  34.3452,2,  34.3447,2,    201.0,2,   202.6,2,   41.82,2,   32.10,2,    0.00,2,    2.22,2,   1.847,2,   0.937,2,   0.118,2,  2209.7,6,  2303.7,2,-999.000,9,-999.0000,9, -999.00,9, -999.00,9,  -999.0,9,  -999.0,-999.000,9,-999.000,  41.4283,2,   981.7,-999.000,   3.5442,     -999.0,9,     -999.0,9,     -999.0,9,     -999.0,9,     -999.0,9,     -999.0,9,     -999.0,9, -999.00,9,-999.0000,9,-999.0000,9,-999.0000,9,-999.0000,9,-999.0000,9,-999.0000,9,-999.0000, -999.00
33RR20050106,       P16S,      75,          1,         20,         20,2,20050201,       0746,   -53.0013,  -149.9977,       4119,  1079.3,   3.3958,  34.3931,2,  34.3930,2,    189.8,2,   192.4,2,   49.98,2,   32.81,2,    0.00,2,    2.29,2,   1.211,2,   0.582,2,   0.067,2,  2223.0,2,  2312.7,2,-999.000,9,-999.0000,9, -999.00,9, -999.00,9,  -999.0,9,  -999.0,-999.000,9,-999.000,  39.0482,2,  1079.3,-999.000,   3.3187,     -999.0,9,     -999.0,9,     -999.0,9,     -999.0,9,     -999.0,9,     -999.0,9,     -999.0,9, -999.00,9,-999.0000,9,-999.0000,9,-999.0000,9,-999.0000,9,-999.0000,9,-999.0000,9,-999.0000, -999.00
33RR20050106,       P16S,      75,          1,         19,         19,2,20050201,       0746,   -53.0013,  -149.9977,       4119,  1180.3,   3.1282,  34.4296,2,  34.4303,2,    184.8,2,   185.4,2,   56.93,2,   33.51,2,    0.00,2,    2.33,2,   0.997,2,   0.488,2,   0.051,2,  2232.4,2,  2318.4,2,-999.000,9,-999.0000,9, -999.00,9, -999.00,9,  -999.0,9,  -999.0,-999.000,9,-999.000,-999.0000,9,  1180.3,-999.000,   3.0454,     -999.0,9,     -999.0,9,     -999.0,9,     -999.0,9,     -999.0,9,     -999.0,9,     -999.0,9, -999.00,9,-999.0000,9,-999.0000,9,-999.0000,9,-999.0000,9,-999.0000,9,-999.0000,9,-999.0000, -999.00
33RR20050106,       P16S,      75,          1,         18,         18,2,20050201,       0746,   -53.0013,  -149.9977,       4119,  1282.8,   2.8680,  34.4615,2,  34.4615,2,    180.3,2,   181.3,2,   61.83,2,   33.95,2,    0.00,2,    2.36,2,   0.921,2,   0.447,2,   0.052,2,  2239.2,2,  2323.2,6,-999.000,9,-999.0000,9, -999.00,9, -999.00,9,  -999.0,9,  -999.0,-999.000,9,-999.000,  38.9237,2,  1282.8,-999.000,   2.7795,     -999.0,9,     -999.0,9,     -999.0,9,     -999.0,9,     -999.0,9,     -999.0,9,     -999.0,9, -999.00,9,-999.0000,9,-999.0000,9,-999.0000,9,-999.0000,9,-999.0000,9,-999.0000,9,-999.0000, -999.00
33RR20050106,       P16S,      75,          1,         17,         17,2,20050201,       0746,   -53.0013,  -149.9977,       4119,  1386.4,   2.7475,  34.5054,2,  34.5041,2,    175.5,2,   176.9,2,   67.34,2,   34.06,2,    0.00,2,    2.37,2,   0.677,2,   0.320,2,   0.039,2,  2246.3,2,  2327.8,2,-999.000,9,-999.0000,9, -999.00,9, -999.00,9,  -999.0,9,  -999.0,-999.000,9,-999.000,-999.0000,9,  1386.4,-999.000,   2.6519,     -999.0,9,     -999.0,9,     -999.0,9,     -999.0,9,     -999.0,9,     -999.0,9,     -999.0,9, -999.00,9,-999.0000,9,-999.0000,9,-999.0000,9,-999.0000,9,-999.0000,9,-999.0000,9,-999.0000, -999.00
33RR20050106,       P16S,      75,          1,         16,         16,3,20050201,       0746,   -53.0013,  -149.9977,       4119,  1486.2,   2.6227,  34.5435,2,  34.6446,4,    173.4,2,   199.3,4,   82.33,4,   33.33,4,    0.00,4,    2.32,4,   0.075,4,   0.036,4,  -0.002,4,  2261.9,4,  2359.3,4,-999.000,9,-999.0000,9, -999.00,9, -999.00,9,  -999.0,9,  -999.0,-999.000,9,-999.000,-999.0000,9,  1486.2,-999.000,   2.5204,     -999.0,9,     -999.0,9,     -999.0,9,     -999.0,9,     -999.0,9,     -999.0,9,     -999.0,9, -999.00,9,-999.0000,9,-999.0000,9,-999.0000,9,-999.0000,9,-999.0000,9,-999.0000,9,-999.0000, -999.00
33RR20050106,       P16S,      75,          1,         15,         15,2,20050201,       0746,   -53.0013,  -149.9977,       4119,  1589.9,   2.5319,  34.5772,2,  34.5762,2,    172.8,2,   173.6,2,   74.09,2,   33.82,2,    0.00,2,    2.35,2,   0.449,2,   0.214,2,   0.026,2,  2254.9,2,  2334.9,2,-999.000,9,-999.0000,9, -999.00,9, -999.00,9,  -999.0,9,  -999.0,-999.000,9,-999.000,  37.9676,2,  1589.9,-999.000,   2.4222,     -999.0,9,     -999.0,9,     -999.0,9,     -999.0,9,     -999.0,9,     -999.0,9,     -999.0,9, -999.00,9,-999.0000,9,-999.0000,9,-999.0000,9,-999.0000,9,-999.0000,9,-999.0000,9,-999.0000, -999.00
33RR20050106,       P16S,      75,          1,         14,         14,2,20050201,       0746,   -53.0013,  -149.9977,       4119,  1690.9,   2.4582,  34.6084,2,  34.6073,2,    172.6,2,   173.5,2,   77.15,2,   33.55,2,    0.00,2,    2.34,2,   0.355,2,   0.170,2,   0.025,2,  2255.6,2,  2354.8,4,-999.000,9,-999.0000,9, -999.00,9, -999.00,9,  -999.0,9,  -999.0,-999.000,9,-999.000,-999.0000,9,  1690.9,-999.000,   2.3411,     -999.0,9,     -999.0,9,     -999.0,9,     -999.0,9,     -999.0,9,     -999.0,9,     -999.0,9, -999.00,9,-999.0000,9,-999.0000,9,-999.0000,9,-999.0000,9,-999.0000,9,-999.0000,9,-999.0000, -999.00
33RR20050106,       P16S,      75,          1,         13,         13,2,20050201,       0746,   -53.0013,  -149.9977,       4119,  1790.4,   2.3851,  34.6390,2,  34.6385,2,    173.3,2,   174.0,2,   80.02,2,   33.27,2,    0.00,2,    2.31,2,   0.279,2,   0.128,2,   0.015,2,  2256.9,2,  2342.5,2,-999.000,9,-999.0000,9, -999.00,9, -999.00,9,  -999.0,9,  -999.0,-999.000,9,-999.000,  37.8564,2,  1790.4,-999.000,   2.2606,     -999.0,9,     -999.0,9,     -999.0,9,     -999.0,9,     -999.0,9,     -999.0,9,     -999.0,9, -999.00,9,-999.0000,9,-999.0000,9,-999.0000,9,-999.0000,9,-999.0000,9,-999.0000,9,-999.0000, -999.00
33RR20050106,       P16S,      75,          1,         12,         12,2,20050201,       0746,   -53.0013,  -149.9977,       4119,  1892.3,   2.3250,  34.6656,2,  34.6649,2,    175.5,2,   177.1,2,   80.42,2,   32.72,2,    0.00,2,    2.26,2,   0.236,2,   0.106,2,   0.013,2,  2254.4,2,  2342.4,2,-999.000,9,-999.0000,9, -999.00,9, -999.00,9,  -999.0,9,  -999.0,-999.000,9,-999.000,-999.0000,9,  1892.3,-999.000,   2.1927,     -999.0,9,     -999.0,9,     -999.0,9,     -999.0,9,     -999.0,9,     -999.0,9,     -999.0,9, -999.00,9,-999.0000,9,-999.0000,9,-999.0000,9,-999.0000,9,-999.0000,9,-999.0000,9,-999.0000, -999.00
33RR20050106,       P16S,      75,          1,         11,         11,2,20050201,       0746,   -53.0013,  -149.9977,       4119,  1993.0,   2.2662,  34.6816,2,  34.6816,2,    178.7,2,   178.2,2,   82.86,2,   32.44,2,    0.00,2,    2.26,2,   0.199,2,   0.093,2,   0.013,2,  2257.1,2,  2345.9,2,-999.000,9,-999.0000,9, -999.00,9, -999.00,9,  -999.0,9,  -999.0,-999.000,9,-999.000,  39.7586,2,  1993.0,-999.000,   2.1261,     -999.0,9,     -999.0,9,     -999.0,9,     -999.0,9,     -999.0,9,     -999.0,9,     -999.0,9, -999.00,9,-999.0000,9,-999.0000,9,-999.0000,9,-999.0000,9,-999.0000,9,-999.0000,9,-999.0000, -999.00
33RR20050106,       P16S,      75,          1,         10,         10,2,20050201,       0746,   -53.0013,  -149.9977,       4119,  2197.4,   2.1611,  34.7129,2,  34.7122,2,    183.9,2,   184.6,2,   84.08,2,   31.62,2,    0.00,2,    2.19,2,   0.159,2,   0.068,2,   0.013,2,  2252.6,2,  2345.9,2,-999.000,9,-999.0000,9, -999.00,9, -999.00,9,  -999.0,9,  -999.0,-999.000,9,-999.000,-999.0000,9,  2197.4,-999.000,   2.0048,     -999.0,9,     -999.0,9,     -999.0,9,     -999.0,9,     -999.0,9,     -999.0,9,     -999.0,9, -999.00,9,-999.0000,9,-999.0000,9,-999.0000,9,-999.0000,9,-999.0000,9,-999.0000,9,-999.0000, -999.00
33RR20050106,       P16S,      75,          1,          9,          9,2,20050201,       0746,   -53.0013,  -149.9977,       4119,  2399.8,   1.9980,  34.7268,2,  34.7260,2,    186.7,2,   187.5,2,   89.62,2,   31.40,2,    0.00,2,    2.17,2,   0.096,2,   0.045,2,  -0.002,2,  2254.0,2,  2350.6,2,-999.000,9,-999.0000,9, -999.00,9, -999.00,9,  -999.0,9,  -999.0,-999.000,9,-999.000,  39.9787,2,  2399.8,-999.000,   1.8265,     -999.0,9,     -999.0,9,     -999.0,9,     -999.0,9,     -999.0,9,     -999.0,9,     -999.0,9, -999.00,9,-999.0000,9,-999.0000,9,-999.0000,9,-999.0000,9,-999.0000,9,-999.0000,9,-999.0000, -999.00
33RR20050106,       P16S,      75,          1,          8,          8,2,20050201,       0746,   -53.0013,  -149.9977,       4119,  2604.3,   1.8694,  34.7370,2,  34.7360,2,    191.8,2,   192.3,2,   92.30,2,   31.12,2,    0.00,2,    2.14,2,   0.191,2,   0.100,2,  -0.002,2,  2253.1,2,  2351.4,2,-999.000,9,-999.0000,9, -999.00,9, -999.00,9,  -999.0,9,  -999.0,-999.000,9,-999.000,-999.0000,9,  2604.3,-999.000,   1.6817,     -999.0,9,     -999.0,9,     -999.0,9,     -999.0,9,     -999.0,9,     -999.0,9,     -999.0,9, -999.00,9,-999.0000,9,-999.0000,9,-999.0000,9,-999.0000,9,-999.0000,9,-999.0000,9,-999.0000, -999.00
33RR20050106,       P16S,      75,          1,          7,          7,2,20050201,       0746,   -53.0013,  -149.9977,       4119,  2805.1,   1.7336,  34.7387,2,  34.7382,2,    194.7,2,   195.3,2,   97.01,2,   31.06,2,    0.00,2,    2.14,2,   0.088,2,   0.040,2,  -0.002,2,  2253.2,2,  2352.2,2,-999.000,9,-999.0000,9, -999.00,9, -999.00,9,  -999.0,9,  -999.0,-999.000,9,-999.000,  39.3171,2,  2805.1,-999.000,   1.5299,     -999.0,9,     -999.0,9,     -999.0,9,     -999.0,9,     -999.0,9,     -999.0,9,     -999.0,9, -999.00,9,-999.0000,9,-999.0000,9,-999.0000,9,-999.0000,9,-999.0000,9,-999.0000,9,-999.0000, -999.00