BOTTLE,20201109CCHSIOCBG
EXPOCODE,SECT_ID,STNNBR,CASTNO,SAMPNO,BTLNBR,BTLNBR_FLAG_W,DATE,TIME,LATITUDE,LONGITUDE,DEPTH,CTDPRS,CTDTMP,CTDSAL,CTDSAL_FLAG_W,SALNTY,SALNTY_FLAG_W,CTDOXY,CTDOXY_FLAG_W,OXYGEN,OXYGEN_FLAG_W,SILCAT,SILCAT_FLAG_W,NITRAT,NITRAT_FLAG_W,NITRIT,NITRIT_FLAG_W,PHSPHT,PHSPHT_FLAG_W,CFC-11,CFC-11_FLAG_W,CFC-12,CFC-12_FLAG_W,CFC113,CFC113_FLAG_W,TCARBN,TCARBN_FLAG_W,ALKALI,ALKALI_FLAG_W,TRITUM,TRITUM_FLAG_W,HELIUM,HELIUM_FLAG_W,DELHE3,DELHE3_FLAG_W,DELC13,DELC13_FLAG_W,DELC14,DELC14_FLAG_W,C14ERR,NEON,NEON_FLAG_W,NEONER,DOC,DOC_FLAG_W,CTDRAW,TRITER,THETA,FUCO,FUCO_FLAG_W,RHAM,RHAM_FLAG_W,ARABA,ARABA_FLAG_W,GALA,GALA_FLAG_W,GLUC,GLUC_FLAG_W,MAN,MAN_FLAG_W,DCNS,DCNS_FLAG_W,BRDU,BRDU_FLAG_W,CDOM325,CDOM325_FLAG_W,CDOM340,CDOM340_FLAG_W,CDOM380,CDOM380_FLAG_W,CDOM412,CDOM412_FLAG_W,CDOMSL,CDOMSL_FLAG_W,CDOMSN,CDOMSN_FLAG_W,HELIER,DELHER
,,,,,,,,,,,METERS,DBAR,ITS-90,PSS-78,,PSS-78,,UMOL/KG,,UMOL/KG,,UMOL/KG,,UMOL/KG,,UMOL/KG,,UMOL/KG,,PMOL/KG,,PMOL/KG,,PMOL/KG,,UMOL/KG,,UMOL/KG,,TU,,NMOL/KG,,PERCNT,,/MILLE,,/MILLE,,/MILLE,NMOL/KG,,NMOL/KG,UMOL/KG,,DBAR,TU,DEG C,NMOL/KG,,NMOL/KG,,NMOL/KG,,NMOL/KG,,NMOL/KG,,NMOL/KG,,NMOL/KG,,PMOL/L/H,,1/M,,1/M,,1/M,,1/M,,1/NM,,1/NM,,NMOL/KG,PERCNT
33RR20050106,       P16S,      93,          2,         31,         31,2,20050206,       0548,   -62.0000,  -150.0377,       3541,     2.8,   1.3127,  34.1305,2,  34.1307,2,    336.2,2,   338.6,2,   47.26,2,   24.39,2,    0.34,2,    1.70,2,   5.846,2,   3.344,2,   0.672,2,  2174.9,6,  2308.8,6,-999.000,9,-999.0000,9, -999.00,9, -999.00,9,  -999.0,9,  -999.0,-999.000,9,-999.000,  42.2255,2,     2.8,-999.000,   1.3126,     -999.0,9,     -999.0,9,     -999.0,9,     -999.0,9,     -999.0,9,     -999.0,9,     -999.0,9, -999.00,9,   0.0610,2,   0.0370,2,   0.0150,2,   0.0120,2,   0.0335,2,   0.0348,2,-999.0000, -999.00
33RR20050106,       P16S,      93,          2,         30,         30,2,20050206,       0548,   -62.0000,  -150.0377,       3541,    19.1,   1.3073,  34.1301,2,  34.1307,2,    338.2,2,   338.6,2,   47.26,2,   24.34,2,    0.34,2,    1.71,2,   5.767,2,   3.249,2,   0.609,2,  2174.5,2,  2308.1,2,-999.000,9,-999.0000,9, -999.00,9, -999.00,9,  -999.0,9,  -999.0,-999.000,9,-999.000,  43.5323,2,    19.1,-999.000,   1.3064,     -999.0,9,     -999.0,9,     -999.0,9,     -999.0,9,     -999.0,9,     -999.0,9,     -999.0,9, -999.00,9,   0.0690,2,   0.0430,2,   0.0180,2,   0.0140,2,   0.0302,2,   0.0315,2,-999.0000, -999.00
33RR20050106,       P16S,      93,          2,         29,         29,2,20050206,       0548,   -62.0000,  -150.0377,       3541,    44.4,   1.2816,  34.1294,2,  34.1323,2,    338.8,2,   338.9,2,   47.05,2,   24.40,2,    0.34,2,    1.70,2,   5.765,2,   3.319,2,   0.627,2,  2174.5,2,  2306.7,2,-999.000,9,-999.0000,9, -999.00,9, -999.00,9,  -999.0,9,  -999.0,-999.000,9,-999.000,  44.3575,2,    44.4,-999.000,   1.2796,     -999.0,9,     -999.0,9,     -999.0,9,     -999.0,9,     -999.0,9,     -999.0,9,     -999.0,9, -999.00,9,   0.0610,2,   0.0360,2,   0.0150,2,   0.0120,2,   0.0342,2,   0.0357,2,-999.0000, -999.00
33RR20050106,       P16S,      93,          2,         28,         28,2,20050206,       0548,   -62.0000,  -150.0377,       3541,    89.4,  -1.3021,  34.2189,2,  34.2172,2,    349.4,2,   350.9,2,   58.91,2,   26.79,2,    0.28,2,    1.95,2,   6.290,2,   3.572,2,   0.677,2,  2198.3,2,  2312.0,2,-999.000,9,-999.0000,9, -999.00,9, -999.00,9,  -999.0,9,  -999.0,-999.000,9,-999.000,  42.2312,2,    89.4,-999.000,  -1.3042,     -999.0,9,     -999.0,9,     -999.0,9,     -999.0,9,     -999.0,9,     -999.0,9,     -999.0,9, -999.00,9,   0.0790,2,   0.0480,2,   0.0230,2,   0.0180,2,   0.0267,2,   0.0291,2,-999.0000, -999.00
33RR20050106,       P16S,      93,          2,         27,         27,2,20050206,       0548,   -62.0000,  -150.0377,       3541,   140.1,  -0.8823,  34.3593,2,  34.3547,2,    322.0,2,   298.7,2,   71.22,2,   29.63,2,    0.13,2,    2.07,2,   4.610,6,   2.629,6,   0.500,6,  2221.4,2,  2318.7,2,-999.000,9,-999.0000,9, -999.00,9, -999.00,9,  -999.0,9,  -999.0,-999.000,9,-999.000,  40.0222,2,   140.1,-999.000,  -0.8863,     -999.0,9,     -999.0,9,     -999.0,9,     -999.0,9,     -999.0,9,     -999.0,9,     -999.0,9, -999.00,9,   0.1010,2,   0.0680,2,   0.0280,2,   0.0210,2,   0.0252,2,   0.0261,2,-999.0000, -999.00
33RR20050106,       P16S,      93,          2,         26,         26,2,20050206,       0548,   -62.0000,  -150.0377,       3541,   164.9,   0.2415,  34.5426,2,  34.5555,2,    269.1,2,   224.8,2,   89.02,2,   32.04,2,    0.01,2,    2.23,2,   2.096,2,   1.226,2,   0.229,2,  2247.9,2,  2332.3,2,-999.000,9,-999.0000,9, -999.00,9, -999.00,9,  -999.0,9,  -999.0,-999.000,9,-999.000,-999.0000,9,   164.9,-999.000,   0.2351,     -999.0,9,     -999.0,9,     -999.0,9,     -999.0,9,     -999.0,9,     -999.0,9,     -999.0,9, -999.00,9,   0.1150,2,   0.0780,2,   0.0340,2,   0.0250,2,   0.0216,2,   0.0233,2,-999.0000, -999.00
33RR20050106,       P16S,      93,          2,         25,         25,2,20050206,       0548,   -62.0000,  -150.0377,       3541,   190.2,   0.8730,  34.6448,2,  34.6443,2,    216.9,2,   194.4,2,   96.78,2,   32.83,2,    0.01,2,    2.29,2,   1.011,2,   0.587,2,   0.100,2,  2259.6,2,  2339.4,2,-999.000,9,-999.0000,9, -999.00,9, -999.00,9,  -999.0,9,  -999.0,-999.000,9,-999.000,-999.0000,9,   190.2,-999.000,   0.8646,     -999.0,9,     -999.0,9,     -999.0,9,     -999.0,9,     -999.0,9,     -999.0,9,     -999.0,9, -999.00,9,   0.1230,2,   0.0830,2,   0.0380,2,   0.0280,2,   0.0188,2,   0.0215,2,-999.0000, -999.00
33RR20050106,       P16S,      93,          2,         24,         24,2,20050206,       0548,   -62.0000,  -150.0377,       3541,   240.7,   1.3298,  34.7250,2,  34.7233,2,    178.9,2,   174.2,2,  104.35,2,   33.10,2,    0.01,2,    2.31,2,   0.204,2,   0.108,2,   0.029,2,  2267.5,2,  2346.8,2,-999.000,9,-999.0000,9, -999.00,9, -999.00,9,  -999.0,9,  -999.0,-999.000,9,-999.000,-999.0000,9,   240.7,-999.000,   1.3181,     -999.0,9,     -999.0,9,     -999.0,9,     -999.0,9,     -999.0,9,     -999.0,9,     -999.0,9, -999.00,9,   0.1210,2,   0.0820,2,   0.0400,2,   0.0300,2,   0.0164,2,   0.0191,2,-999.0000, -999.00
33RR20050106,       P16S,      93,          2,         23,         23,2,20050206,       0548,   -62.0000,  -150.0377,       3541,   291.0,   1.3176,  34.7299,2,  34.7292,2,    175.7,2,   175.8,2,  106.45,2,   32.69,2,    0.01,2,    2.28,2,   0.311,2,   0.180,2,   0.030,2,  2266.9,6,  2348.5,2,-999.000,9,-999.0000,9, -999.00,9, -999.00,9,  -999.0,9,  -999.0,-999.000,9,-999.000,  43.4466,2,   291.0,-999.000,   1.3034,     -999.0,9,     -999.0,9,     -999.0,9,     -999.0,9,     -999.0,9,     -999.0,9,     -999.0,9, -999.00,9,   0.1210,2,   0.0820,2,   0.0410,2,   0.0310,2,   0.0157,2,   0.0186,2,-999.0000, -999.00
33RR20050106,       P16S,      93,          2,         22,         22,2,20050206,       0548,   -62.0000,  -150.0377,       3541,   341.5,   1.2828,  34.7304,2,  34.7292,2,    177.2,2,   178.0,2,  107.71,2,   32.69,2,    0.01,2,    2.27,2,   0.212,2,   0.123,2,   0.024,2,  2266.5,2,  2349.7,2,-999.000,9,-999.0000,9, -999.00,9, -999.00,9,  -999.0,9,  -999.0,-999.000,9,-999.000,  42.2515,2,   341.5,-999.000,   1.2660,     -999.0,9,     -999.0,9,     -999.0,9,     -999.0,9,     -999.0,9,     -999.0,9,     -999.0,9, -999.00,9,-999.0000,9,-999.0000,9,-999.0000,9,-999.0000,9,-999.0000,9,-999.0000,9,-999.0000, -999.00
33RR20050106,       P16S,      93,          2,         21,         21,2,20050206,       0548,   -62.0000,  -150.0377,       3541,   392.0,   1.2437,  34.7300,2,  34.7287,2,    178.7,2,   179.4,2,  109.19,2,   32.64,2,    0.01,2,    2.26,2,   0.109,2,   0.065,2,   0.020,2,  2265.0,2,  2350.4,2,-999.000,9,-999.0000,9, -999.00,9, -999.00,9,  -999.0,9,  -999.0,-999.000,9,-999.000,  40.3555,2,   392.0,-999.000,   1.2244,     -999.0,9,     -999.0,9,     -999.0,9,     -999.0,9,     -999.0,9,     -999.0,9,     -999.0,9, -999.00,9,-999.0000,9,-999.0000,9,-999.0000,9,-999.0000,9,-999.0000,9,-999.0000,9,-999.0000, -999.00
33RR20050106,       P16S,      93,          2,         20,         20,2,20050206,       0548,   -62.0000,  -150.0377,       3541,   442.4,   1.2082,  34.7293,2,  34.7287,2,    180.4,2,   181.4,2,  110.04,2,   32.43,2,    0.01,2,    2.25,2,   0.131,2,   0.080,2,   0.024,2,  2266.7,2,  2352.2,2,-999.000,9,-999.0000,9, -999.00,9, -999.00,9,  -999.0,9,  -999.0,-999.000,9,-999.000,-999.0000,9,   442.4,-999.000,   1.1864,     -999.0,9,     -999.0,9,     -999.0,9,     -999.0,9,     -999.0,9,     -999.0,9,     -999.0,9, -999.00,9,-999.0000,9,-999.0000,9,-999.0000,9,-999.0000,9,-999.0000,9,-999.0000,9,-999.0000, -999.00
33RR20050106,       P16S,      93,          2,         19,         19,2,20050206,       0548,   -62.0000,  -150.0377,       3541,   492.9,   1.1646,  34.7283,2,  34.7275,2,    182.3,2,   183.0,2,  111.51,2,   32.43,2,    0.01,2,    2.25,2,   0.072,2,   0.049,2,   0.016,2,  2267.4,2,  2352.2,2,-999.000,9,-999.0000,9, -999.00,9, -999.00,9,  -999.0,9,  -999.0,-999.000,9,-999.000,  40.5501,2,   492.9,-999.000,   1.1402,     -999.0,9,     -999.0,9,     -999.0,9,     -999.0,9,     -999.0,9,     -999.0,9,     -999.0,9, -999.00,9,-999.0000,9,-999.0000,9,-999.0000,9,-999.0000,9,-999.0000,9,-999.0000,9,-999.0000, -999.00
33RR20050106,       P16S,      93,          2,         18,         18,2,20050206,       0548,   -62.0000,  -150.0377,       3541,   578.2,   1.0972,  34.7263,2,  34.7245,2,    185.1,2,   186.2,2,  113.62,2,   32.23,2,    0.01,2,    2.24,2,   0.183,2,   0.110,2,   0.028,2,  2265.3,2,  2353.8,6,-999.000,9,-999.0000,9, -999.00,9, -999.00,9,  -999.0,9,  -999.0,-999.000,9,-999.000,  41.6233,2,   578.2,-999.000,   1.0685,     -999.0,9,     -999.0,9,     -999.0,9,     -999.0,9,     -999.0,9,     -999.0,9,     -999.0,9, -999.00,9,-999.0000,9,-999.0000,9,-999.0000,9,-999.0000,9,-999.0000,9,-999.0000,9,-999.0000, -999.00
33RR20050106,       P16S,      93,          2,         17,         17,2,20050206,       0548,   -62.0000,  -150.0377,       3541,   679.6,   1.0355,  34.7241,2,  34.7236,2,    188.6,2,   189.1,2,  114.88,2,   32.13,2,    0.00,2,    2.23,2,   0.178,2,   0.107,2,   0.024,2,  2264.2,2,  2354.3,2,-999.000,9,-999.0000,9, -999.00,9, -999.00,9,  -999.0,9,  -999.0,-999.000,9,-999.000,  40.2509,2,   679.6,-999.000,   1.0015,     -999.0,9,     -999.0,9,     -999.0,9,     -999.0,9,     -999.0,9,     -999.0,9,     -999.0,9, -999.00,9,-999.0000,9,-999.0000,9,-999.0000,9,-999.0000,9,-999.0000,9,-999.0000,9,-999.0000, -999.00
33RR20050106,       P16S,      93,          2,         16,         16,2,20050206,       0548,   -62.0000,  -150.0377,       3541,   780.0,   0.9702,  34.7217,2,  34.7212,2,    191.4,2,   191.9,2,  117.00,2,   32.18,2,    0.01,2,    2.23,2,   0.115,2,   0.070,2,   0.025,2,  2263.4,2,  2355.8,2,-999.000,9,-999.0000,9, -999.00,9, -999.00,9,  -999.0,9,  -999.0,-999.000,9,-999.000,  39.8706,2,   780.0,-999.000,   0.9310,     -999.0,9,     -999.0,9,     -999.0,9,     -999.0,9,     -999.0,9,     -999.0,9,     -999.0,9, -999.00,9,-999.0000,9,-999.0000,9,-999.0000,9,-999.0000,9,-999.0000,9,-999.0000,9,-999.0000, -999.00
33RR20050106,       P16S,      93,          2,         15,         15,2,20050206,       0548,   -62.0000,  -150.0377,       3541,   881.7,   0.9044,  34.7189,2,  34.7186,2,    194.2,2,   194.7,2,  118.68,2,   32.03,2,    0.00,2,    2.22,2,   0.073,2,   0.047,2,   0.018,2,  2263.8,2,  2355.6,2,-999.000,9,-999.0000,9, -999.00,9, -999.00,9,  -999.0,9,  -999.0,-999.000,9,-999.000,  40.4020,2,   881.7,-999.000,   0.8598,     -999.0,9,     -999.0,9,     -999.0,9,     -999.0,9,     -999.0,9,     -999.0,9,     -999.0,9, -999.00,9,-999.0000,9,-999.0000,9,-999.0000,9,-999.0000,9,-999.0000,9,-999.0000,9,-999.0000, -999.00
33RR20050106,       P16S,      93,          2,         14,         14,2,20050206,       0548,   -62.0000,  -150.0377,       3541,   982.6,   0.8396,  34.7163,2,  34.7163,2,    196.6,2,   197.2,2,  120.58,2,   32.03,2,    0.00,2,    2.22,2,   0.079,2,   0.052,2,   0.021,2,  2264.6,3,  2358.0,6,-999.000,9,-999.0000,9, -999.00,9, -999.00,9,  -999.0,9,  -999.0,-999.000,9,-999.000,  40.0652,2,   982.6,-999.000,   0.7895,     -999.0,9,     -999.0,9,     -999.0,9,     -999.0,9,     -999.0,9,     -999.0,9,     -999.0,9, -999.00,9,-999.0000,9,-999.0000,9,-999.0000,9,-999.0000,9,-999.0000,9,-999.0000,9,-999.0000, -999.00
33RR20050106,       P16S,      93,          2,         13,         13,2,20050206,       0548,   -62.0000,  -150.0377,       3541,  1083.3,   0.7865,  34.7142,2,  34.7145,2,    198.2,2,   199.1,2,  122.05,2,   32.09,2,    0.00,2,    2.23,2,   0.132,2,   0.082,2,   0.021,2,  2262.9,2,  2357.0,2,-999.000,9,-999.0000,9, -999.00,9, -999.00,9,  -999.0,9,  -999.0,-999.000,9,-999.000,  41.0669,2,  1083.3,-999.000,   0.7308,     -999.0,9,     -999.0,9,     -999.0,9,     -999.0,9,     -999.0,9,     -999.0,9,     -999.0,9, -999.00,9,-999.0000,9,-999.0000,9,-999.0000,9,-999.0000,9,-999.0000,9,-999.0000,9,-999.0000, -999.00
33RR20050106,       P16S,      93,          2,         12,         12,2,20050206,       0548,   -62.0000,  -150.0377,       3541,  1184.9,   0.7346,  34.7122,2,  34.7143,2,    199.9,2,   200.9,2,  123.53,2,   32.03,2,    0.00,2,    2.22,2,   0.076,2,   0.049,2,   0.013,2,  2263.0,2,  2357.2,2,-999.000,9,-999.0000,9, -999.00,9, -999.00,9,  -999.0,9,  -999.0,-999.000,9,-999.000,-999.0000,9,  1184.9,-999.000,   0.6732,     -999.0,9,     -999.0,9,     -999.0,9,     -999.0,9,     -999.0,9,     -999.0,9,     -999.0,9, -999.00,9,-999.0000,9,-999.0000,9,-999.0000,9,-999.0000,9,-999.0000,9,-999.0000,9,-999.0000, -999.00
33RR20050106,       P16S,      93,          2,         11,         11,2,20050206,       0548,   -62.0000,  -150.0377,       3541,  1387.4,   0.6454,  34.7088,2,  34.7096,2,    202.8,2,   203.7,2,  125.65,2,   32.04,2,    0.00,2,    2.22,2,   0.059,2,   0.043,2,   0.013,2,  2263.8,2,  2357.3,2,-999.000,9,-999.0000,9, -999.00,9, -999.00,9,  -999.0,9,  -999.0,-999.000,9,-999.000,  40.6548,2,  1387.4,-999.000,   0.5721,     -999.0,9,     -999.0,9,     -999.0,9,     -999.0,9,     -999.0,9,     -999.0,9,     -999.0,9, -999.00,9,-999.0000,9,-999.0000,9,-999.0000,9,-999.0000,9,-999.0000,9,-999.0000,9,-999.0000, -999.00
33RR20050106,       P16S,      93,          2,         10,         10,2,20050206,       0548,   -62.0000,  -150.0377,       3541,  1589.8,   0.5689,  34.7066,2,  34.7053,2,    205.0,2,   205.5,2,  126.90,2,   31.99,2,    0.00,2,    2.22,2,   0.068,2,   0.034,2,   0.012,2,  2262.6,2,  2358.1,2,-999.000,9,-999.0000,9, -999.00,9, -999.00,9,  -999.0,9,  -999.0,-999.000,9,-999.000,-999.0000,9,  1589.8,-999.000,   0.4831,     -999.0,9,     -999.0,9,     -999.0,9,     -999.0,9,     -999.0,9,     -999.0,9,     -999.0,9, -999.00,9,-999.0000,9,-999.0000,9,-999.0000,9,-999.0000,9,-999.0000,9,-999.0000,9,-999.0000, -999.00
33RR20050106,       P16S,      93,          2,          9,          9,2,20050206,       0548,   -62.0000,  -150.0377,       3541,  1793.0,   0.4857,  34.7050,2,  34.7047,2,    207.3,2,   208.2,2,  127.75,2,   31.93,2,    0.00,2,    2.22,2,   0.103,2,   0.051,2,   0.017,2,  2262.3,2,  2358.3,2,-999.000,9,-999.0000,9, -999.00,9, -999.00,9,  -999.0,9,  -999.0,-999.000,9,-999.000,  42.7800,3,  1793.0,-999.000,   0.3871,     -999.0,9,     -999.0,9,     -999.0,9,     -999.0,9,     -999.0,9,     -999.0,9,     -999.0,9, -999.00,9,-999.0000,9,-999.0000,9,-999.0000,9,-999.0000,9,-999.0000,9,-999.0000,9,-999.0000, -999.00
33RR20050106,       P16S,      93,          2,          8,          8,2,20050206,       0548,   -62.0000,  -150.0377,       3541,  1995.9,   0.4139,  34.7038,2,  34.7043,2,    209.3,2,   210.0,2,  128.81,2,   31.99,2,    0.00,2,    2.22,2,   0.150,2,   0.080,2,   0.019,2,  2262.5,2,  2358.0,2,-999.000,9,-999.0000,9, -999.00,9, -999.00,9,  -999.0,9,  -999.0,-999.000,9,-999.000,-999.0000,9,  1995.9,-999.000,   0.3019,     -999.0,9,     -999.0,9,     -999.0,9,     -999.0,9,     -999.0,9,     -999.0,9,     -999.0,9, -999.00,9,-999.0000,9,-999.0000,9,-999.0000,9,-999.0000,9,-999.0000,9,-999.0000,9,-999.0000, -999.00
33RR20050106,       P16S,      93,          2,          7,          7,2,20050206,       0548,   -62.0000,  -150.0377,       3541,  2199.1,   0.3493,  34.7027,2,  34.7033,2,    211.1,2,   211.9,2,  129.66,2,   31.99,2,    0.00,2,    2.22,2,   0.203,2,   0.107,2,   0.010,2,  2262.6,2,  2357.9,2,-999.000,9,-999.0000,9, -999.00,9, -999.00,9,  -999.0,9,  -999.0,-999.000,9,-999.000,  40.4455,2,  2199.1,-999.000,   0.2233,     -999.0,9,     -999.0,9,     -999.0,9,     -999.0,9,     -999.0,9,     -999.0,9,     -999.0,9, -999.00,9,-999.0000,9,-999.0000,9,-999.0000,9,-999.0000,9,-999.0000,9,-999.0000,9,-999.0000, -999.00
33RR20050106,       P16S,      93,          2,          6,          6,2,20050206,       0548,   -62.0000,  -150.0377,       3541,  2453.2,   0.2566,  34.6999,2,  34.7014,2,    214.4,2,   215.4,2,  127.96,2,   31.95,2,    0.00,2,    2.22,2,   0.452,2,   0.226,2,   0.046,2,  2262.0,2,  2357.2,2,-999.000,9,-999.0000,9, -999.00,9, -999.00,9,  -999.0,9,  -999.0,-999.000,9,-999.000,-999.0000,9,  2453.2,-999.000,   0.1126,     -999.0,9,     -999.0,9,     -999.0,9,     -999.0,9,     -999.0,9,     -999.0,9,     -999.0,9, -999.00,9,-999.0000,9,-999.0000,9,-999.0000,9,-999.0000,9,-999.0000,9,-999.0000,9,-999.0000, -999.00
33RR20050106,       P16S,      93,          2,          5,          5,2,20050206,       0548,   -62.0000,  -150.0377,       3541,  2707.2,   0.2157,  34.6980,2,  34.6980,2,    216.6,2,   217.3,2,  126.70,2,   31.90,2,    0.00,2,    2.22,2,   0.550,2,   0.278,2,   0.047,2,  2262.0,2,  2356.7,2,-999.000,9,-999.0000,9, -999.00,9, -999.00,9,  -999.0,9,  -999.0,-999.000,9,-999.000,  39.1302,2,  2707.2,-999.000,   0.0521,     -999.0,9,     -999.0,9,     -999.0,9,     -999.0,9,     -999.0,9,     -999.0,9,     -999.0,9, -999.00,9,-999.0000,9,-999.0000,9,-999.0000,9,-999.0000,9,-999.0000,9,-999.0000,9,-999.0000, -999.00
33RR20050106,       P16S,      93,          2,          4,          4,2,20050206,       0548,   -62.0000,  -150.0377,       3541,  2962.1,   0.2126,  34.6974,2,  34.6978,2,    217.4,2,   218.0,2,  126.70,2,   31.91,2,    0.00,2,    2.22,2,   0.612,2,   0.300,2,   0.054,2,  2260.4,2,  2356.3,2,-999.000,9,-999.0000,9, -999.00,9, -999.00,9,  -999.0,9,  -999.0,-999.000,9,-999.000,-999.0000,9,  2962.1,-999.000,   0.0276,     -999.0,9,     -999.0,9,     -999.0,9,     -999.0,9,     -999.0,9,     -999.0,9,     -999.0,9, -999.00,9,-999.0000,9,-999.0000,9,-999.0000,9,-999.0000,9,-999.0000,9,-999.0000,9,-999.0000, -999.00
33RR20050106,       P16S,      93,          2,          3,          3,2,20050206,       0548,   -62.0000,  -150.0377,       3541,  3227.0,   0.2241,  34.6973,2,  34.6963,2,    217.7,2,   218.5,2,  126.71,2,   31.91,2,    0.00,2,    2.22,2,   0.635,2,   0.320,2,   0.059,2,  2261.5,2,  2356.7,2,-999.000,9,-999.0000,9, -999.00,9, -999.00,9,  -999.0,9,  -999.0,-999.000,9,-999.000,  37.4403,2,  3227.0,-999.000,   0.0154,     -999.0,9,     -999.0,9,     -999.0,9,     -999.0,9,     -999.0,9,     -999.0,9,     -999.0,9, -999.00,9,-999.0000,9,-999.0000,9,-999.0000,9,-999.0000,9,-999.0000,9,-999.0000,9,-999.0000, -999.00
33RR20050106,       P16S,      93,          2,          2,          2,2,20050206,       0548,   -62.0000,  -150.0377,       3541,  3380.6,   0.2338,  34.6971,2,  34.6976,2,    217.6,2,   218.3,2,  126.71,2,   31.91,2,    0.00,2,    2.22,2,   0.642,2,   0.331,2,   0.069,2,  2261.6,2,  2356.4,2,-999.000,9,-999.0000,9, -999.00,9, -999.00,9,  -999.0,9,  -999.0,-999.000,9,-999.000,-999.0000,9,  3380.6,-999.000,   0.0108,     -999.0,9,     -999.0,9,     -999.0,9,     -999.0,9,     -999.0,9,     -999.0,9,     -999.0,9, -999.00,9,-999.0000,9,-999.0000,9,-999.0000,9,-999.0000,9,-999.0000,9,-999.0000,9,-999.0000, -999.00