BOTTLE,20201109CCHSIOCBG
EXPOCODE,SECT_ID,STNNBR,CASTNO,SAMPNO,BTLNBR,BTLNBR_FLAG_W,DATE,TIME,LATITUDE,LONGITUDE,DEPTH,CTDPRS,CTDTMP,CTDSAL,CTDSAL_FLAG_W,SALNTY,SALNTY_FLAG_W,CTDOXY,CTDOXY_FLAG_W,OXYGEN,OXYGEN_FLAG_W,SILCAT,SILCAT_FLAG_W,NITRAT,NITRAT_FLAG_W,NITRIT,NITRIT_FLAG_W,PHSPHT,PHSPHT_FLAG_W,CFC-11,CFC-11_FLAG_W,CFC-12,CFC-12_FLAG_W,CFC113,CFC113_FLAG_W,TCARBN,TCARBN_FLAG_W,ALKALI,ALKALI_FLAG_W,TRITUM,TRITUM_FLAG_W,HELIUM,HELIUM_FLAG_W,DELHE3,DELHE3_FLAG_W,DELC13,DELC13_FLAG_W,DELC14,DELC14_FLAG_W,C14ERR,NEON,NEON_FLAG_W,NEONER,DOC,DOC_FLAG_W,CTDRAW,TRITER,THETA,FUCO,FUCO_FLAG_W,RHAM,RHAM_FLAG_W,ARABA,ARABA_FLAG_W,GALA,GALA_FLAG_W,GLUC,GLUC_FLAG_W,MAN,MAN_FLAG_W,DCNS,DCNS_FLAG_W,BRDU,BRDU_FLAG_W,CDOM325,CDOM325_FLAG_W,CDOM340,CDOM340_FLAG_W,CDOM380,CDOM380_FLAG_W,CDOM412,CDOM412_FLAG_W,CDOMSL,CDOMSL_FLAG_W,CDOMSN,CDOMSN_FLAG_W,HELIER,DELHER
,,,,,,,,,,,METERS,DBAR,ITS-90,PSS-78,,PSS-78,,UMOL/KG,,UMOL/KG,,UMOL/KG,,UMOL/KG,,UMOL/KG,,UMOL/KG,,PMOL/KG,,PMOL/KG,,PMOL/KG,,UMOL/KG,,UMOL/KG,,TU,,NMOL/KG,,PERCNT,,/MILLE,,/MILLE,,/MILLE,NMOL/KG,,NMOL/KG,UMOL/KG,,DBAR,TU,DEG C,NMOL/KG,,NMOL/KG,,NMOL/KG,,NMOL/KG,,NMOL/KG,,NMOL/KG,,NMOL/KG,,PMOL/L/H,,1/M,,1/M,,1/M,,1/M,,1/NM,,1/NM,,NMOL/KG,PERCNT
33RR20050106,       P16S,      61,          3,         36,         36,2,20050127,       1414,   -45.9995,  -149.9985,       5198,     4.6,  13.3240,  34.3748,2,  34.3765,2,    263.3,2,   264.0,2,    0.35,2,    6.32,2,    0.10,2,    0.59,2,   3.084,2,   1.857,2,   0.239,2,  2061.2,6,  2279.4,6,-999.000,9,-999.0000,9, -999.00,9, -999.00,9,  -999.0,9,  -999.0,-999.000,9,-999.000,  47.7477,2,     4.6,-999.000,  13.3234,         92,2,         73,2,         51,2,        148,2,        215,2,        192,2,        771,2, -999.00,9,   0.0760,2,   0.0490,2,   0.0150,2,   0.0100,2,   0.0325,2,   0.0312,2,-999.0000, -999.00
33RR20050106,       P16S,      61,          3,         35,         35,2,20050127,       1414,   -45.9995,  -149.9985,       5198,    53.0,  11.4258,  34.3997,2,  34.4003,2,    271.1,2,   278.5,2,    1.37,2,    7.33,2,    0.10,2,    0.67,2,-999.000,9,-999.000,9,-999.000,9,  2069.6,2,  2280.6,2,-999.000,9,-999.0000,9, -999.00,9, -999.00,9,  -999.0,9,  -999.0,-999.000,9,-999.000,  47.1793,2,    53.0,-999.000,  11.4192,         61,2,         59,2,         63,2,        115,2,        160,2,        107,2,        566,2, -999.00,9,   0.0890,2,   0.0600,2,   0.0270,2,   0.0170,2,   0.0228,2,   0.0239,2,-999.0000, -999.00
33RR20050106,       P16S,      61,          3,         34,         34,2,20050127,       1414,   -45.9995,  -149.9985,       5198,    77.8,   9.4047,  34.4448,2,  34.4456,2,    279.3,2,   278.3,2,    1.77,2,    9.34,2,    0.32,2,    0.80,2,   3.721,2,   2.174,2,   0.296,2,  2091.5,2,  2281.9,2,-999.000,9,   1.7990,2,   -0.52,2, -999.00,9,  -999.0,9,  -999.0,   7.604,2,   0.010,  48.1768,2,    77.8,-999.000,   9.3961,     -999.0,9,     -999.0,9,     -999.0,9,     -999.0,9,     -999.0,9,     -999.0,9,     -999.0,9, -999.00,9,   0.0860,2,   0.0580,2,   0.0270,2,   0.0190,2,   0.0224,2,   0.0233,2,   0.0010,    0.20
33RR20050106,       P16S,      61,          3,         33,         33,2,20050127,       1414,   -45.9995,  -149.9985,       5198,   102.8,   8.9836,  34.4623,2,  34.4625,2,    271.1,2,   273.0,2,    1.76,2,   10.47,2,    0.78,2,    0.87,2,   3.740,2,   2.221,2,   0.309,2,  2098.5,2,  2280.3,2,-999.000,9,   3.9780,4,   -0.66,3, -999.00,9,  -999.0,9,  -999.0,  15.362,4,   0.050,-999.0000,9,   102.8,-999.000,   8.9726,     -999.0,9,     -999.0,9,     -999.0,9,     -999.0,9,     -999.0,9,     -999.0,9,     -999.0,9, -999.00,9,   0.0880,2,   0.0610,2,   0.0250,2,   0.0170,2,   0.0240,2,   0.0243,2,   0.0050,    0.18
33RR20050106,       P16S,      61,          3,         32,         32,2,20050127,       1414,   -45.9995,  -149.9985,       5198,   154.4,   8.7295,  34.5070,2,  34.5078,2,    267.3,2,   272.9,2,    2.16,2,   12.03,2,    0.03,2,    0.95,2,   3.787,2,   2.301,2,   0.312,2,  2102.6,2,  2282.9,2,-999.000,9,   1.8140,2,   -0.90,2, -999.00,9,  -999.0,9,  -999.0,   7.676,2,   0.010,-999.0000,9,   154.4,-999.000,   8.7132,     -999.0,9,     -999.0,9,     -999.0,9,     -999.0,9,     -999.0,9,     -999.0,9,     -999.0,9, -999.00,9,   0.0670,2,   0.0430,2,   0.0200,2,   0.0150,2,   0.0270,2,   0.0282,2,   0.0010,    0.19
33RR20050106,       P16S,      61,          3,         31,         31,2,20050127,       1414,   -45.9995,  -149.9985,       5198,   208.3,   8.6156,  34.5116,2,  34.5121,2,    268.6,2,   272.5,2,    2.36,2,   12.56,2,    0.03,2,    0.95,2,   3.754,2,   2.151,2,   0.305,2,  2103.9,2,  2283.4,2,-999.000,9,   3.8180,4,    0.63,3, -999.00,9,  -999.0,9,  -999.0,  14.838,4,   0.047,-999.0000,9,   208.3,-999.000,   8.5937,     -999.0,9,     -999.0,9,     -999.0,9,     -999.0,9,     -999.0,9,     -999.0,9,     -999.0,9, -999.00,9,   0.0690,2,   0.0450,2,   0.0210,2,   0.0160,2,   0.0259,2,   0.0272,2,   0.0040,    0.18
33RR20050106,       P16S,      61,          3,         30,         30,2,20050127,       1414,   -45.9995,  -149.9985,       5198,   255.2,   8.3754,  34.5047,2,  34.5052,2,    264.2,2,   262.4,2,    3.38,2,   15.08,2,    0.02,2,    1.11,2,   3.771,2,   2.113,2,   0.295,2,  2116.7,2,  2282.9,2,   0.231,2,   1.8120,2,   -0.13,2, -999.00,9,  -999.0,9,  -999.0,   7.680,2,   0.010,  46.0698,2,   255.2,   0.008,   8.3489,     -999.0,9,     -999.0,9,     -999.0,9,     -999.0,9,     -999.0,9,     -999.0,9,     -999.0,9, -999.00,9,   0.0800,2,   0.0520,2,   0.0220,2,   0.0170,2,   0.0272,2,   0.0280,2,   0.0010,    0.20
33RR20050106,       P16S,      61,          3,         29,         29,2,20050127,       1414,   -45.9995,  -149.9985,       5198,   306.1,   8.1086,  34.4899,2,  34.4911,2,    255.5,2,   258.3,2,    4.19,2,   16.79,2,    0.02,2,    1.19,2,   3.815,2,   2.133,2,   0.270,2,  2122.9,2,  2281.9,2,   0.211,2,   4.1150,4,   -1.29,3, -999.00,9,  -999.0,9,  -999.0,  17.976,4,   0.087,  46.5004,2,   306.1,   0.007,   8.0774,         54,2,         41,2,         26,2,         84,2,         85,2,         92,2,        381,2, -999.00,9,-999.0000,9,-999.0000,9,-999.0000,9,-999.0000,9,-999.0000,9,-999.0000,9,   0.0050,    0.18
33RR20050106,       P16S,      61,          3,         28,         28,2,20050127,       1414,   -45.9995,  -149.9985,       5198,   357.5,   7.8643,  34.4640,2,  34.4658,2,    257.3,2,   259.6,2,    4.38,2,   17.39,2,    0.01,2,    1.24,2,   3.836,2,   2.171,2,   0.291,2,  2123.7,2,  2282.2,2,   0.234,2,-999.0000,9, -999.00,9, -999.00,9,  -999.0,9,  -999.0,-999.000,9,-999.000,-999.0000,9,   357.5,   0.006,   7.8284,     -999.0,9,     -999.0,9,     -999.0,9,     -999.0,9,     -999.0,9,     -999.0,9,     -999.0,9, -999.00,9,-999.0000,9,-999.0000,9,-999.0000,9,-999.0000,9,-999.0000,9,-999.0000,9,-999.0000, -999.00
33RR20050106,       P16S,      61,          3,         27,         27,2,20050127,       1414,   -45.9995,  -149.9985,       5198,   408.8,   7.6495,  34.4405,2,  34.4414,2,    259.0,2,   261.8,2,    4.79,2,   17.98,2,    0.01,2,    1.27,2,   3.927,2,   2.136,2,   0.301,2,  2126.2,2,  2281.1,2,   0.230,2,   1.7970,2,   -1.88,2, -999.00,9,  -999.0,9,  -999.0,   7.766,2,   0.011,  45.7528,2,   408.8,   0.009,   7.6090,     -999.0,9,     -999.0,9,     -999.0,9,     -999.0,9,     -999.0,9,     -999.0,9,     -999.0,9, -999.00,9,   0.0710,2,   0.0450,2,   0.0210,2,   0.0160,2,   0.0273,2,   0.0287,2,   0.0010,    0.22
33RR20050106,       P16S,      61,          3,         26,         26,2,20050127,       1414,   -45.9995,  -149.9985,       5198,   460.1,   7.5078,  34.4244,2,  34.4243,2,    260.5,2,   260.8,2,    5.19,2,   18.58,2,    0.00,2,    1.31,2,   3.921,2,   2.115,2,   0.285,2,  2128.1,2,  2280.3,2,   0.201,2,   2.1280,4,   -0.64,3, -999.00,9,  -999.0,9,  -999.0,   8.885,4,   0.014,  43.8808,2,   460.1,   0.008,   7.4625,     -999.0,9,     -999.0,9,     -999.0,9,     -999.0,9,     -999.0,9,     -999.0,9,     -999.0,9, -999.00,9,   0.0670,2,   0.0420,2,   0.0200,2,   0.0150,2,   0.0285,2,   0.0299,2,   0.0010,    0.20
33RR20050106,       P16S,      61,          3,         25,         25,2,20050127,       1414,   -45.9995,  -149.9985,       5198,   510.9,   7.3297,  34.4048,2,  34.4053,2,    258.4,2,   257.5,2,    5.79,2,   19.38,2,    0.00,2,    1.37,2,   3.894,2,   2.101,2,   0.282,2,  2130.8,2,  2279.7,2,   0.200,2,   1.7860,2,   -1.08,2, -999.00,9,  -999.0,9,  -999.0,   7.758,2,   0.013,-999.0000,9,   510.9,   0.009,   7.2800,     -999.0,9,     -999.0,9,     -999.0,9,     -999.0,9,     -999.0,9,     -999.0,9,     -999.0,9, -999.00,9,-999.0000,9,-999.0000,9,-999.0000,9,-999.0000,9,-999.0000,9,-999.0000,9,   0.0010,    0.23
33RR20050106,       P16S,      61,          3,         24,         24,2,20050127,       1414,   -45.9995,  -149.9985,       5198,   609.8,   7.0529,  34.3808,2,  34.3825,2,    253.6,2,   253.9,2,    6.81,2,   20.67,2,    0.00,2,    1.45,2,   3.682,2,   2.019,2,   0.255,2,  2134.6,2,  2281.0,2,-999.000,9,   1.9030,3,   -0.88,2, -999.00,9,  -999.0,9,  -999.0,   8.146,2,   0.014,  44.0585,2,   609.8,-999.000,   6.9944,     -999.0,9,     -999.0,9,     -999.0,9,     -999.0,9,     -999.0,9,     -999.0,9,     -999.0,9, -999.00,9,   0.0670,2,   0.0420,2,   0.0210,2,   0.0160,2,   0.0270,2,   0.0289,2,   0.0010,    0.22
33RR20050106,       P16S,      61,          3,         23,         23,2,20050127,       1414,   -45.9995,  -149.9985,       5198,   711.7,   6.6835,  34.3522,2,  34.3531,2,    250.3,2,   249.1,2,    8.64,2,   22.13,2,    0.00,2,    1.54,2,   3.491,2,   1.859,2,   0.227,2,  2139.0,2,  2280.4,2,   0.174,2,   1.8080,2,   -0.47,2, -999.00,9,  -999.0,9,  -999.0,   7.856,2,   0.013,  42.8943,2,   711.7,   0.007,   6.6168,     -999.0,9,     -999.0,9,     -999.0,9,     -999.0,9,     -999.0,9,     -999.0,9,     -999.0,9, -999.00,9,   0.0680,2,   0.0420,2,   0.0210,2,   0.0170,2,   0.0274,2,   0.0293,2,   0.0010,    0.22
33RR20050106,       P16S,      61,          3,         22,         22,2,20050127,       1414,   -45.9995,  -149.9985,       5198,   809.7,   6.3029,  34.3319,2,  34.3331,2,    242.0,2,   239.2,2,   11.30,2,   23.85,2,    0.00,2,    1.65,2,-999.000,5,-999.000,5,-999.000,5,  2148.5,2,  2281.6,2,   0.157,2,   1.8190,2,   -0.25,2, -999.00,9,  -999.0,9,  -999.0,   7.882,2,   0.013,  43.0063,2,   809.7,   0.003,   6.2288,     -999.0,9,     -999.0,9,     -999.0,9,     -999.0,9,     -999.0,9,     -999.0,9,     -999.0,9, -999.00,9,   0.0720,2,   0.0450,2,   0.0220,2,   0.0170,2,   0.0267,2,   0.0286,2,   0.0010,    0.24
33RR20050106,       P16S,      61,          3,         21,         21,2,20050127,       1414,   -45.9995,  -149.9985,       5198,   909.1,   5.8191,  34.3234,2,  34.3250,2,    227.8,2,   225.8,2,   16.23,2,   26.06,2,    0.00,2,    1.80,2,   2.434,2,   1.332,2,   0.147,2,  2162.6,6,  2284.8,2,   0.082,2,   2.0380,4,    1.06,2, -999.00,9,  -999.0,9,  -999.0,   8.711,4,   0.015,  41.5114,2,   909.1,   0.006,   5.7386,     -999.0,9,     -999.0,9,     -999.0,9,     -999.0,9,     -999.0,9,     -999.0,9,     -999.0,9, -999.00,9,   0.0770,2,   0.0500,2,   0.0260,2,   0.0190,2,   0.0225,2,   0.0248,2,   0.0010,    0.21
33RR20050106,       P16S,      61,          3,         20,         20,2,20050127,       1414,   -45.9995,  -149.9985,       5198,  1012.4,   5.2335,  34.3259,2,  34.3272,2,    217.6,2,   215.0,2,   22.39,2,   28.13,2,    0.00,2,    1.95,2,   2.018,2,   1.032,2,   0.118,2,  2178.1,2,  2289.4,2,-999.000,9,   4.9560,4,   -2.80,3, -999.00,9,  -999.0,9,  -999.0,  16.257,4,   0.080,  39.3598,2,  1012.4,-999.000,   5.1476,     -999.0,9,     -999.0,9,     -999.0,9,     -999.0,9,     -999.0,9,     -999.0,9,     -999.0,9, -999.00,9,   0.0830,2,   0.0540,2,   0.0280,2,   0.0210,2,   0.0208,2,   0.0232,2,   0.0120,    0.24
33RR20050106,       P16S,      61,          3,         19,         19,2,20050127,       1414,   -45.9995,  -149.9985,       5198,  1114.7,   4.4820,  34.3216,2,  34.3222,2,    208.9,2,   210.2,2,   30.02,2,   29.92,2,    0.00,2,    2.08,2,-999.000,9,-999.000,9,-999.000,9,  2194.1,2,  2295.4,2,-999.000,9,-999.0000,9, -999.00,9, -999.00,9,  -999.0,9,  -999.0,-999.000,9,-999.000,-999.0000,9,  1114.7,-999.000,   4.3929,     -999.0,9,     -999.0,9,     -999.0,9,     -999.0,9,     -999.0,9,     -999.0,9,     -999.0,9, -999.00,9,-999.0000,9,-999.0000,9,-999.0000,9,-999.0000,9,-999.0000,9,-999.0000,9,-999.0000, -999.00
33RR20050106,       P16S,      61,          3,         18,         18,2,20050127,       1414,   -45.9995,  -149.9985,       5198,  1214.3,   4.0627,  34.3141,2,  34.3146,2,    209.1,2,   210.9,2,   33.52,2,   30.73,2,    0.00,2,    2.12,2,   2.071,3,   1.072,3,   0.158,3,  2197.2,3,  2297.4,6,   0.001,2,   1.8580,2,    2.67,2, -999.00,9,  -999.0,9,  -999.0,   8.135,2,   0.012,  40.1068,2,  1214.3,   0.002,   3.9687,     -999.0,9,     -999.0,9,     -999.0,9,     -999.0,9,     -999.0,9,     -999.0,9,     -999.0,9, -999.00,9,   0.0890,2,   0.0580,2,   0.0300,2,   0.0230,2,   0.0203,2,   0.0226,2,   0.0010,    0.22
33RR20050106,       P16S,      61,          3,         17,         17,2,20050127,       1414,   -45.9995,  -149.9985,       5198,  1315.6,   3.8298,  34.3274,2,  34.3289,2,    206.2,2,   206.8,2,   37.65,2,   31.33,2,    0.00,2,    2.17,2,-999.000,9,-999.000,9,-999.000,9,  2204.5,3,  2300.4,2,-999.000,9,-999.0000,9, -999.00,9, -999.00,9,  -999.0,9,  -999.0,-999.000,9,-999.000,-999.0000,9,  1315.6,-999.000,   3.7292,     -999.0,9,     -999.0,9,     -999.0,9,     -999.0,9,     -999.0,9,     -999.0,9,     -999.0,9, -999.00,9,-999.0000,9,-999.0000,9,-999.0000,9,-999.0000,9,-999.0000,9,-999.0000,9,-999.0000, -999.00
33RR20050106,       P16S,      61,          3,         16,         16,2,20050127,       1414,   -45.9995,  -149.9985,       5198,  1414.9,   3.5011,  34.3804,2,  34.3809,2,    192.0,2,   192.9,2,   47.38,2,   32.58,2,    0.00,2,    2.27,2,   0.997,2,   0.503,2,   0.065,2,  2219.3,2,  2311.2,2,-999.000,9,   1.8350,2,    5.22,2, -999.00,9,  -999.0,9,  -999.0,   8.010,2,   0.014,-999.0000,9,  1414.9,-999.000,   3.3953,     -999.0,9,     -999.0,9,     -999.0,9,     -999.0,9,     -999.0,9,     -999.0,9,     -999.0,9, -999.00,9,-999.0000,9,-999.0000,9,-999.0000,9,-999.0000,9,-999.0000,9,-999.0000,9,   0.0010,    0.23
33RR20050106,       P16S,      61,          3,         15,         15,2,20050127,       1414,   -45.9995,  -149.9985,       5198,  1616.4,   2.9267,  34.4753,2,  34.4759,2,    176.5,2,   176.7,2,   64.42,2,   33.89,2,    0.00,2,    2.38,2,   0.450,2,   0.232,2,   0.014,2,  2243.9,2,  2327.7,2,   0.001,2,   1.8930,2,    8.17,2, -999.00,9,  -999.0,9,  -999.0,   8.187,2,   0.014,  39.7160,2,  1616.4,   0.006,   2.8102,     -999.0,9,     -999.0,9,     -999.0,9,     -999.0,9,     -999.0,9,     -999.0,9,     -999.0,9, -999.00,9,   0.1060,2,   0.0710,2,   0.0380,2,   0.0280,2,   0.0169,2,   0.0193,2,   0.0010,    0.22
33RR20050106,       P16S,      61,          3,         14,         14,2,20050127,       1414,   -45.9995,  -149.9985,       5198,  1823.4,   2.6829,  34.5530,2,  34.5532,2,    166.9,2,   168.2,2,   77.77,2,   34.16,2,    0.00,2,    2.39,2,   0.215,2,   0.105,2,  -0.002,2,  2259.7,2,  2343.1,2,   0.015,2,   2.1270,4,   10.10,3, -999.00,9,  -999.0,9,  -999.0,   8.994,4,   0.017,-999.0000,9,  1823.4,   0.005,   2.5518,     -999.0,9,     -999.0,9,     -999.0,9,     -999.0,9,     -999.0,9,     -999.0,9,     -999.0,9, -999.00,9,-999.0000,9,-999.0000,9,-999.0000,9,-999.0000,9,-999.0000,9,-999.0000,9,   0.0010,    0.22
33RR20050106,       P16S,      61,          3,         13,         13,2,20050127,       1414,   -45.9995,  -149.9985,       5198,  2026.0,   2.4810,  34.6081,2,  34.6090,2,    160.7,2,   161.0,2,   91.16,2,   34.33,2,    0.00,2,    2.41,2,   0.066,2,   0.036,2,   0.005,2,  2274.3,2,  2358.6,2,   0.001,2,   1.8810,2,   15.93,2, -999.00,9,  -999.0,9,  -999.0,   8.156,2,   0.014,  37.8291,2,  2026.0,   0.006,   2.3351,     -999.0,9,     -999.0,9,     -999.0,9,     -999.0,9,     -999.0,9,     -999.0,9,     -999.0,9, -999.00,9,   0.1140,2,   0.0770,2,   0.0400,2,   0.0280,2,   0.0169,2,   0.0191,2,   0.0010,    0.23
33RR20050106,       P16S,      61,          3,         12,         12,2,20050127,       1414,   -45.9995,  -149.9985,       5198,  2279.6,   2.2654,  34.6425,2,  34.6436,2,    156.8,2,   157.0,2,  103.74,2,   34.60,2,    0.00,2,    2.44,2,   0.016,2,   0.017,2,  -0.002,2,  2287.4,2,  2374.1,2,   0.001,2,   1.9160,2,   18.76,2, -999.00,9,  -999.0,9,  -999.0,   8.190,2,   0.014,-999.0000,9,  2279.6,   0.005,   2.1003,     -999.0,9,     -999.0,9,     -999.0,9,     -999.0,9,     -999.0,9,     -999.0,9,     -999.0,9, -999.00,9,-999.0000,9,-999.0000,9,-999.0000,9,-999.0000,9,-999.0000,9,-999.0000,9,   0.0010,    0.24
33RR20050106,       P16S,      61,          3,         11,         11,2,20050127,       1414,   -45.9995,  -149.9985,       5198,  2533.3,   2.1061,  34.6588,2,  34.6587,2,    155.5,2,   155.7,2,  111.92,2,   34.71,2,    0.00,2,    2.45,2,   0.001,2,   0.001,2,  -0.002,2,  2296.1,2,  2383.1,2,   0.001,2,   2.2430,4,   18.07,3, -999.00,9,  -999.0,9,  -999.0,   9.348,4,   0.017,  37.6584,2,  2533.3,   0.007,   1.9207,     -999.0,9,     -999.0,9,     -999.0,9,     -999.0,9,     -999.0,9,     -999.0,9,     -999.0,9, -999.00,9,   0.1140,2,   0.0770,2,   0.0410,2,   0.0290,2,   0.0161,2,   0.0185,2,   0.0010,    0.22
33RR20050106,       P16S,      61,          3,         10,         10,2,20050127,       1414,   -45.9995,  -149.9985,       5198,  2783.3,   1.9649,  34.6740,2,  34.6744,2,    158.2,2,   158.5,2,  116.33,2,   34.60,2,    0.00,2,    2.43,2,   0.000,2,   0.014,2,  -0.002,2,  2300.2,2,  2386.6,2,-999.000,9,   1.9270,2,   20.67,2, -999.00,9,  -999.0,9,  -999.0,   8.228,2,   0.014,-999.0000,9,  2783.3,-999.000,   1.7588,     -999.0,9,     -999.0,9,     -999.0,9,     -999.0,9,     -999.0,9,     -999.0,9,     -999.0,9, -999.00,9,-999.0000,9,-999.0000,9,-999.0000,9,-999.0000,9,-999.0000,9,-999.0000,9,   0.0010,    0.24
33RR20050106,       P16S,      61,          3,          9,          9,2,20050127,       1414,   -45.9995,  -149.9985,       5198,  3042.1,   1.8624,  34.6901,2,  34.6905,2,    165.9,2,   165.7,2,  115.26,2,   33.89,2,    0.00,2,    2.38,2,   0.001,2,   0.001,2,  -0.002,2,  2291.5,2,  2382.6,2,   0.001,2,-999.0000,9, -999.00,9, -999.00,9,  -999.0,9,  -999.0,-999.000,9,-999.000,  37.6319,2,  3042.1,   0.005,   1.6334,     -999.0,9,     -999.0,9,     -999.0,9,     -999.0,9,     -999.0,9,     -999.0,9,     -999.0,9, -999.00,9,   0.1250,2,   0.0860,2,   0.0470,2,   0.0340,2,   0.0145,2,   0.0167,2,-999.0000, -999.00
33RR20050106,       P16S,      61,          3,          8,          8,2,20050127,       1414,   -45.9995,  -149.9985,       5198,  3297.7,   1.7840,  34.7158,2,  34.7161,2,    180.7,2,   181.6,2,  106.20,2,   32.36,2,    0.00,2,    2.25,2,   0.017,3,   0.019,3,  -0.002,2,  2271.8,2,  2368.5,2,-999.000,9,-999.0000,9, -999.00,9, -999.00,9,  -999.0,9,  -999.0,-999.000,9,-999.000,-999.0000,9,  3297.7,-999.000,   1.5312,     -999.0,9,     -999.0,9,     -999.0,9,     -999.0,9,     -999.0,9,     -999.0,9,     -999.0,9, -999.00,9,-999.0000,9,-999.0000,9,-999.0000,9,-999.0000,9,-999.0000,9,-999.0000,9,-999.0000, -999.00
33RR20050106,       P16S,      61,          3,          7,          7,2,20050127,       1414,   -45.9995,  -149.9985,       5198,  3552.8,   1.6355,  34.7237,2,  34.7239,2,    189.0,2,   190.4,2,  105.97,2,   31.81,2,    0.00,2,    2.21,2,   0.014,3,   0.013,3,  -0.002,2,  2264.4,2,  2364.6,2,   0.001,2,   1.8960,2,   11.66,2, -999.00,9,  -999.0,9,  -999.0,   8.248,2,   0.009,  38.4552,2,  3552.8,   0.006,   1.3602,     -999.0,9,     -999.0,9,     -999.0,9,     -999.0,9,     -999.0,9,     -999.0,9,     -999.0,9, -999.00,9,   0.1180,2,   0.0800,2,   0.0410,2,   0.0290,2,   0.0167,2,   0.0190,2,   0.0010,    0.22