BOTTLE,20201109CCHSIOCBG
EXPOCODE,SECT_ID,STNNBR,CASTNO,SAMPNO,BTLNBR,BTLNBR_FLAG_W,DATE,TIME,LATITUDE,LONGITUDE,DEPTH,CTDPRS,CTDTMP,CTDSAL,CTDSAL_FLAG_W,SALNTY,SALNTY_FLAG_W,CTDOXY,CTDOXY_FLAG_W,OXYGEN,OXYGEN_FLAG_W,SILCAT,SILCAT_FLAG_W,NITRAT,NITRAT_FLAG_W,NITRIT,NITRIT_FLAG_W,PHSPHT,PHSPHT_FLAG_W,CFC-11,CFC-11_FLAG_W,CFC-12,CFC-12_FLAG_W,CFC113,CFC113_FLAG_W,TCARBN,TCARBN_FLAG_W,ALKALI,ALKALI_FLAG_W,TRITUM,TRITUM_FLAG_W,HELIUM,HELIUM_FLAG_W,DELHE3,DELHE3_FLAG_W,DELC13,DELC13_FLAG_W,DELC14,DELC14_FLAG_W,C14ERR,NEON,NEON_FLAG_W,NEONER,DOC,DOC_FLAG_W,CTDRAW,TRITER,THETA,FUCO,FUCO_FLAG_W,RHAM,RHAM_FLAG_W,ARABA,ARABA_FLAG_W,GALA,GALA_FLAG_W,GLUC,GLUC_FLAG_W,MAN,MAN_FLAG_W,DCNS,DCNS_FLAG_W,BRDU,BRDU_FLAG_W,CDOM325,CDOM325_FLAG_W,CDOM340,CDOM340_FLAG_W,CDOM380,CDOM380_FLAG_W,CDOM412,CDOM412_FLAG_W,CDOMSL,CDOMSL_FLAG_W,CDOMSN,CDOMSN_FLAG_W,HELIER,DELHER
,,,,,,,,,,,METERS,DBAR,ITS-90,PSS-78,,PSS-78,,UMOL/KG,,UMOL/KG,,UMOL/KG,,UMOL/KG,,UMOL/KG,,UMOL/KG,,PMOL/KG,,PMOL/KG,,PMOL/KG,,UMOL/KG,,UMOL/KG,,TU,,NMOL/KG,,PERCNT,,/MILLE,,/MILLE,,/MILLE,NMOL/KG,,NMOL/KG,UMOL/KG,,DBAR,TU,DEG C,NMOL/KG,,NMOL/KG,,NMOL/KG,,NMOL/KG,,NMOL/KG,,NMOL/KG,,NMOL/KG,,PMOL/L/H,,1/M,,1/M,,1/M,,1/M,,1/NM,,1/NM,,NMOL/KG,PERCNT
33RR20050106,       P16S,      46,          1,         36,         36,2,20050123,       0215,   -38.5000,  -150.0000,       5299,     2.5,  18.4865,  34.5197,2,  34.5204,2,    238.8,2,   238.8,2,    0.00,2,    0.12,2,    0.00,2,    0.21,2,   2.497,2,   1.468,2,   0.233,2,  2035.4,6,  2281.1,6,-999.000,9,-999.0000,9, -999.00,9, -999.00,9,  -999.0,9,  -999.0,-999.000,9,-999.000,-999.0000,9,     2.5,-999.000,  18.4861,     -999.0,9,     -999.0,9,     -999.0,9,     -999.0,9,     -999.0,9,     -999.0,9,     -999.0,9, -999.00,9,-999.0000,9,-999.0000,9,-999.0000,9,-999.0000,9,-999.0000,9,-999.0000,9,-999.0000, -999.00
33RR20050106,       P16S,      46,          1,         35,         35,2,20050123,       0215,   -38.5000,  -150.0000,       5299,    51.4,  14.6175,  34.6742,2,  34.6705,2,    272.9,2,   272.3,2,    0.00,2,    0.06,2,    0.00,2,    0.20,2,   3.183,2,   1.756,2,   0.251,2,  2043.4,2,  2285.9,2,-999.000,9,-999.0000,9, -999.00,9, -999.00,9,  -999.0,9,  -999.0,-999.000,9,-999.000,-999.0000,9,    51.4,-999.000,  14.6099,     -999.0,9,     -999.0,9,     -999.0,9,     -999.0,9,     -999.0,9,     -999.0,9,     -999.0,9, -999.00,9,-999.0000,9,-999.0000,9,-999.0000,9,-999.0000,9,-999.0000,9,-999.0000,9,-999.0000, -999.00
33RR20050106,       P16S,      46,          1,         34,         34,2,20050123,       0215,   -38.5000,  -150.0000,       5299,   101.3,  12.8174,  34.6068,2,  34.6073,2,    259.3,2,   257.3,2,    0.57,2,    1.77,2,    0.09,2,    0.33,2,   3.183,2,   1.863,2,   0.285,2,  2060.4,2,  2284.2,2,-999.000,9,-999.0000,9, -999.00,9, -999.00,9,  -999.0,9,  -999.0,-999.000,9,-999.000,-999.0000,9,   101.3,-999.000,  12.8037,     -999.0,9,     -999.0,9,     -999.0,9,     -999.0,9,     -999.0,9,     -999.0,9,     -999.0,9, -999.00,9,-999.0000,9,-999.0000,9,-999.0000,9,-999.0000,9,-999.0000,9,-999.0000,9,-999.0000, -999.00
33RR20050106,       P16S,      46,          1,         33,         33,2,20050123,       0215,   -38.5000,  -150.0000,       5299,   151.7,  11.3597,  34.7335,2,-999.0000,9,    225.9,2,   222.3,2,    1.77,2,   10.77,2,    0.03,2,    0.81,2,   3.399,2,   1.882,2,   0.176,2,  2106.6,2,  2287.1,2,-999.000,9,-999.0000,9, -999.00,9, -999.00,9,  -999.0,9,  -999.0,-999.000,9,-999.000,-999.0000,9,   151.7,-999.000,  11.3407,     -999.0,9,     -999.0,9,     -999.0,9,     -999.0,9,     -999.0,9,     -999.0,9,     -999.0,9, -999.00,9,-999.0000,9,-999.0000,9,-999.0000,9,-999.0000,9,-999.0000,9,-999.0000,9,-999.0000, -999.00
33RR20050106,       P16S,      46,          1,         32,         32,2,20050123,       0215,   -38.5000,  -150.0000,       5299,   201.4,   9.4587,  34.5468,2,-999.0000,9,    223.8,2,   225.3,2,    2.77,2,   15.44,2,    0.00,2,    1.11,2,   3.444,2,   1.919,2,   0.167,2,  2122.7,2,  2280.9,2,-999.000,9,-999.0000,9, -999.00,9, -999.00,9,  -999.0,9,  -999.0,-999.000,9,-999.000,-999.0000,9,   201.4,-999.000,   9.4363,     -999.0,9,     -999.0,9,     -999.0,9,     -999.0,9,     -999.0,9,     -999.0,9,     -999.0,9, -999.00,9,-999.0000,9,-999.0000,9,-999.0000,9,-999.0000,9,-999.0000,9,-999.0000,9,-999.0000, -999.00
33RR20050106,       P16S,      46,          1,         31,         31,2,20050123,       0215,   -38.5000,  -150.0000,       5299,   252.2,   8.5475,  34.4939,2,-999.0000,9,    227.0,2,   229.8,2,    3.77,2,   17.84,2,    0.00,2,    1.26,2,   3.443,6,   1.825,6,   0.167,6,  2129.0,2,  2278.7,2,-999.000,9,-999.0000,9, -999.00,9, -999.00,9,  -999.0,9,  -999.0,-999.000,9,-999.000,-999.0000,9,   252.2,-999.000,   8.5210,     -999.0,9,     -999.0,9,     -999.0,9,     -999.0,9,     -999.0,9,     -999.0,9,     -999.0,9, -999.00,9,-999.0000,9,-999.0000,9,-999.0000,9,-999.0000,9,-999.0000,9,-999.0000,9,-999.0000, -999.00
33RR20050106,       P16S,      46,          1,         30,         30,2,20050123,       0215,   -38.5000,  -150.0000,       5299,   302.4,   8.0537,  34.4734,2,-999.0000,9,    234.1,2,   240.8,2,    4.37,2,   18.48,2,    0.00,2,    1.29,2,   3.699,2,   2.047,2,   0.222,2,  2131.7,2,  2280.1,2,-999.000,9,-999.0000,9, -999.00,9, -999.00,9,  -999.0,9,  -999.0,-999.000,9,-999.000,-999.0000,9,   302.4,-999.000,   8.0230,     -999.0,9,     -999.0,9,     -999.0,9,     -999.0,9,     -999.0,9,     -999.0,9,     -999.0,9, -999.00,9,-999.0000,9,-999.0000,9,-999.0000,9,-999.0000,9,-999.0000,9,-999.0000,9,-999.0000, -999.00
33RR20050106,       P16S,      46,          1,         29,         29,2,20050123,       0215,   -38.5000,  -150.0000,       5299,   352.5,   7.7439,  34.4515,2,  34.4508,2,    241.3,2,   243.9,2,    4.96,2,   19.23,2,    0.00,2,    1.34,2,-999.000,9,-999.000,9,-999.000,9,  2132.6,2,  2279.4,2,-999.000,9,-999.0000,9, -999.00,9, -999.00,9,  -999.0,9,  -999.0,-999.000,9,-999.000,-999.0000,9,   352.5,-999.000,   7.7088,     -999.0,9,     -999.0,9,     -999.0,9,     -999.0,9,     -999.0,9,     -999.0,9,     -999.0,9, -999.00,9,-999.0000,9,-999.0000,9,-999.0000,9,-999.0000,9,-999.0000,9,-999.0000,9,-999.0000, -999.00
33RR20050106,       P16S,      46,          1,         28,         28,2,20050123,       0215,   -38.5000,  -150.0000,       5299,   404.9,   7.5144,  34.4320,2,  34.4349,2,    243.9,2,   244.8,2,    5.36,2,   19.93,2,    0.00,2,    1.38,2,   3.727,2,   2.033,2,   0.237,2,  2133.7,2,  2279.9,2,-999.000,9,-999.0000,9, -999.00,9, -999.00,9,  -999.0,9,  -999.0,-999.000,9,-999.000,-999.0000,9,   404.9,-999.000,   7.4747,     -999.0,9,     -999.0,9,     -999.0,9,     -999.0,9,     -999.0,9,     -999.0,9,     -999.0,9, -999.00,9,-999.0000,9,-999.0000,9,-999.0000,9,-999.0000,9,-999.0000,9,-999.0000,9,-999.0000, -999.00
33RR20050106,       P16S,      46,          1,         27,         27,2,20050123,       0215,   -38.5000,  -150.0000,       5299,   458.1,   7.2892,  34.4127,2,  34.4119,2,    244.9,2,   246.1,2,    5.76,2,   20.63,2,    0.00,2,    1.42,2,-999.000,9,-999.000,9,-999.000,9,  2134.6,2,  2279.2,2,-999.000,9,-999.0000,9, -999.00,9, -999.00,9,  -999.0,9,  -999.0,-999.000,9,-999.000,-999.0000,9,   458.1,-999.000,   7.2449,     -999.0,9,     -999.0,9,     -999.0,9,     -999.0,9,     -999.0,9,     -999.0,9,     -999.0,9, -999.00,9,-999.0000,9,-999.0000,9,-999.0000,9,-999.0000,9,-999.0000,9,-999.0000,9,-999.0000, -999.00
33RR20050106,       P16S,      46,          1,         26,         26,2,20050123,       0215,   -38.5000,  -150.0000,       5299,   508.5,   7.1081,  34.3984,2,  34.3982,2,    243.6,2,   244.8,2,    6.35,2,   21.32,2,    0.00,2,    1.46,2,   3.465,2,   1.845,2,   0.210,2,  2136.5,2,  2279.1,2,-999.000,9,-999.0000,9, -999.00,9, -999.00,9,  -999.0,9,  -999.0,-999.000,9,-999.000,-999.0000,9,   508.5,-999.000,   7.0594,     -999.0,9,     -999.0,9,     -999.0,9,     -999.0,9,     -999.0,9,     -999.0,9,     -999.0,9, -999.00,9,-999.0000,9,-999.0000,9,-999.0000,9,-999.0000,9,-999.0000,9,-999.0000,9,-999.0000, -999.00
33RR20050106,       P16S,      46,          1,         25,         25,2,20050123,       0215,   -38.5000,  -150.0000,       5299,   608.9,   6.7827,  34.3740,2,  34.3745,2,    244.3,2,   243.9,2,    7.76,2,   22.24,2,    0.00,2,    1.54,2,   3.089,2,   1.598,2,   0.166,2,  2139.1,2,  2280.1,2,-999.000,9,-999.0000,9, -999.00,9, -999.00,9,  -999.0,9,  -999.0,-999.000,9,-999.000,-999.0000,9,   608.9,-999.000,   6.7255,     -999.0,9,     -999.0,9,     -999.0,9,     -999.0,9,     -999.0,9,     -999.0,9,     -999.0,9, -999.00,9,-999.0000,9,-999.0000,9,-999.0000,9,-999.0000,9,-999.0000,9,-999.0000,9,-999.0000, -999.00
33RR20050106,       P16S,      46,          1,         24,         24,2,20050123,       0215,   -38.5000,  -150.0000,       5299,   709.9,   6.3526,  34.3468,2,  34.3466,2,    238.4,2,   235.9,2,   10.17,2,   24.17,2,    0.00,2,    1.65,2,   2.526,2,   1.286,2,   0.123,2,  2146.9,2,  2280.1,2,-999.000,9,-999.0000,9, -999.00,9, -999.00,9,  -999.0,9,  -999.0,-999.000,9,-999.000,-999.0000,9,   709.9,-999.000,   6.2878,     -999.0,9,     -999.0,9,     -999.0,9,     -999.0,9,     -999.0,9,     -999.0,9,     -999.0,9, -999.00,9,-999.0000,9,-999.0000,9,-999.0000,9,-999.0000,9,-999.0000,9,-999.0000,9,-999.0000, -999.00
33RR20050106,       P16S,      46,          1,         23,         23,2,20050123,       0215,   -38.5000,  -150.0000,       5299,   810.5,   5.8556,  34.3267,2,  34.3276,2,    228.8,2,   224.9,2,   14.39,2,   26.17,2,    0.00,2,    1.80,2,   1.951,2,   1.009,2,   0.105,2,  2158.2,2,  2283.6,2,-999.000,9,-999.0000,9, -999.00,9, -999.00,9,  -999.0,9,  -999.0,-999.000,9,-999.000,-999.0000,9,   810.5,-999.000,   5.7841,     -999.0,9,     -999.0,9,     -999.0,9,     -999.0,9,     -999.0,9,     -999.0,9,     -999.0,9, -999.00,9,-999.0000,9,-999.0000,9,-999.0000,9,-999.0000,9,-999.0000,9,-999.0000,9,-999.0000, -999.00
33RR20050106,       P16S,      46,          1,         22,         22,2,20050123,       0215,   -38.5000,  -150.0000,       5299,   910.9,   5.2628,  34.3231,2,  34.3237,2,    216.1,2,   212.7,2,   20.83,2,   28.44,2,    0.00,2,    1.96,2,   1.354,2,   0.704,2,   0.087,2,  2174.2,2,  2287.6,2,-999.000,9,-999.0000,9, -999.00,9, -999.00,9,  -999.0,9,  -999.0,-999.000,9,-999.000,-999.0000,9,   910.9,-999.000,   5.1859,     -999.0,9,     -999.0,9,     -999.0,9,     -999.0,9,     -999.0,9,     -999.0,9,     -999.0,9, -999.00,9,-999.0000,9,-999.0000,9,-999.0000,9,-999.0000,9,-999.0000,9,-999.0000,9,-999.0000, -999.00
33RR20050106,       P16S,      46,          1,         21,         21,2,20050123,       0215,   -38.5000,  -150.0000,       5299,  1011.6,   4.6494,  34.3279,2,  34.3280,2,    205.1,2,   204.3,2,   27.90,2,   30.23,2,    0.00,2,    2.09,2,   0.971,2,   0.486,2,   0.050,2,  2186.7,2,  2291.8,2,-999.000,9,-999.0000,9, -999.00,9, -999.00,9,  -999.0,9,  -999.0,-999.000,9,-999.000,-999.0000,9,  1011.6,-999.000,   4.5680,     -999.0,9,     -999.0,9,     -999.0,9,     -999.0,9,     -999.0,9,     -999.0,9,     -999.0,9, -999.00,9,-999.0000,9,-999.0000,9,-999.0000,9,-999.0000,9,-999.0000,9,-999.0000,9,-999.0000, -999.00
33RR20050106,       P16S,      46,          1,         20,         20,2,20050123,       0215,   -38.5000,  -150.0000,       5299,  1113.3,   4.0748,  34.3456,2,  34.3455,2,    197.5,2,   196.6,2,   36.41,2,   31.81,2,    0.00,2,    2.19,2,   0.648,2,   0.319,2,   0.046,2,  2202.7,2,  2300.3,2,-999.000,9,-999.0000,9, -999.00,9, -999.00,9,  -999.0,9,  -999.0,-999.000,9,-999.000,-999.0000,9,  1113.3,-999.000,   3.9893,     -999.0,9,     -999.0,9,     -999.0,9,     -999.0,9,     -999.0,9,     -999.0,9,     -999.0,9, -999.00,9,-999.0000,9,-999.0000,9,-999.0000,9,-999.0000,9,-999.0000,9,-999.0000,9,-999.0000, -999.00
33RR20050106,       P16S,      46,          1,         19,         19,2,20050123,       0215,   -38.5000,  -150.0000,       5299,  1213.9,   3.6322,  34.3760,2,  34.3771,2,    189.1,2,   189.2,2,   45.14,2,   32.89,2,    0.00,2,    2.28,2,   0.417,2,   0.206,2,   0.026,2,  2214.2,2,  2308.8,2,-999.000,9,-999.0000,9, -999.00,9, -999.00,9,  -999.0,9,  -999.0,-999.000,9,-999.000,-999.0000,9,  1213.9,-999.000,   3.5421,     -999.0,9,     -999.0,9,     -999.0,9,     -999.0,9,     -999.0,9,     -999.0,9,     -999.0,9, -999.00,9,-999.0000,9,-999.0000,9,-999.0000,9,-999.0000,9,-999.0000,9,-999.0000,9,-999.0000, -999.00
33RR20050106,       P16S,      46,          1,         18,         18,2,20050123,       0215,   -38.5000,  -150.0000,       5299,  1314.1,   3.2683,  34.4207,2,  34.4207,2,    180.5,2,   180.7,2,   54.50,2,   33.70,2,    0.00,2,    2.34,2,   0.230,2,   0.120,2,   0.002,2,  2229.4,6,  2318.7,2,-999.000,9,-999.0000,9, -999.00,9, -999.00,9,  -999.0,9,  -999.0,-999.000,9,-999.000,-999.0000,9,  1314.1,-999.000,   3.1733,     -999.0,9,     -999.0,9,     -999.0,9,     -999.0,9,     -999.0,9,     -999.0,9,     -999.0,9, -999.00,9,-999.0000,9,-999.0000,9,-999.0000,9,-999.0000,9,-999.0000,9,-999.0000,9,-999.0000, -999.00
33RR20050106,       P16S,      46,          1,         17,         17,2,20050123,       0215,   -38.5000,  -150.0000,       5299,  1416.0,   3.0335,  34.4700,2,  34.4692,2,    172.7,2,   173.3,2,   63.68,2,   34.19,2,    0.00,2,    2.39,2,   0.126,2,   0.070,2,   0.002,2,  -999.0,9,  -999.0,9,-999.000,9,-999.0000,9, -999.00,9, -999.00,9,  -999.0,9,  -999.0,-999.000,9,-999.000,-999.0000,9,  1416.0,-999.000,   2.9325,     -999.0,9,     -999.0,9,     -999.0,9,     -999.0,9,     -999.0,9,     -999.0,9,     -999.0,9, -999.00,9,-999.0000,9,-999.0000,9,-999.0000,9,-999.0000,9,-999.0000,9,-999.0000,9,-999.0000, -999.00
33RR20050106,       P16S,      46,          1,         16,         16,2,20050123,       0215,   -38.5000,  -150.0000,       5299,  1515.9,   2.8769,  34.5149,2,  34.5144,2,    166.5,2,   167.0,2,   72.46,2,   34.47,2,    0.00,2,    2.41,2,-999.000,9,-999.000,9,-999.000,9,  -999.0,9,  -999.0,9,-999.000,9,-999.0000,9, -999.00,9, -999.00,9,  -999.0,9,  -999.0,-999.000,9,-999.000,-999.0000,9,  1515.9,-999.000,   2.7693,     -999.0,9,     -999.0,9,     -999.0,9,     -999.0,9,     -999.0,9,     -999.0,9,     -999.0,9, -999.00,9,-999.0000,9,-999.0000,9,-999.0000,9,-999.0000,9,-999.0000,9,-999.0000,9,-999.0000, -999.00
33RR20050106,       P16S,      46,          1,         15,         15,2,20050123,       0215,   -38.5000,  -150.0000,       5299,  1618.4,   2.7449,  34.5523,2,  34.5531,2,    161.3,2,   161.6,2,   81.89,2,   34.68,2,    0.00,2,    2.43,2,   0.055,2,   0.034,2,   0.002,2,  -999.0,9,  -999.0,9,-999.000,9,-999.0000,9, -999.00,9, -999.00,9,  -999.0,9,  -999.0,-999.000,9,-999.000,-999.0000,9,  1618.4,-999.000,   2.6303,     -999.0,9,     -999.0,9,     -999.0,9,     -999.0,9,     -999.0,9,     -999.0,9,     -999.0,9, -999.00,9,-999.0000,9,-999.0000,9,-999.0000,9,-999.0000,9,-999.0000,9,-999.0000,9,-999.0000, -999.00
33RR20050106,       P16S,      46,          1,         14,         14,2,20050123,       0215,   -38.5000,  -150.0000,       5299,  1820.8,   2.5063,  34.6001,2,  34.5998,2,    154.2,2,   154.4,2,   97.29,2,   35.06,2,    0.00,2,    2.46,2,   0.013,2,   0.006,2,   0.002,2,  -999.0,9,  -999.0,9,-999.000,9,-999.0000,9, -999.00,9, -999.00,9,  -999.0,9,  -999.0,-999.000,9,-999.000,-999.0000,9,  1820.8,-999.000,   2.3777,     -999.0,9,     -999.0,9,     -999.0,9,     -999.0,9,     -999.0,9,     -999.0,9,     -999.0,9, -999.00,9,-999.0000,9,-999.0000,9,-999.0000,9,-999.0000,9,-999.0000,9,-999.0000,9,-999.0000, -999.00
33RR20050106,       P16S,      46,          1,         13,         13,2,20050123,       0215,   -38.5000,  -150.0000,       5299,  2023.2,   2.3315,  34.6236,2,  34.6240,2,    151.3,2,   151.7,2,  106.14,2,   35.28,2,    0.00,2,    2.49,2,   0.028,2,   0.012,2,   0.002,2,  -999.0,9,  -999.0,9,-999.000,9,-999.0000,9, -999.00,9, -999.00,9,  -999.0,9,  -999.0,-999.000,9,-999.000,-999.0000,9,  2023.2,-999.000,   2.1880,     -999.0,9,     -999.0,9,     -999.0,9,     -999.0,9,     -999.0,9,     -999.0,9,     -999.0,9, -999.00,9,-999.0000,9,-999.0000,9,-999.0000,9,-999.0000,9,-999.0000,9,-999.0000,9,-999.0000, -999.00
33RR20050106,       P16S,      46,          1,         12,         12,2,20050123,       0215,   -38.5000,  -150.0000,       5299,  2277.2,   2.1523,  34.6422,2,  34.6421,2,    149.9,2,   150.6,2,  114.17,2,   35.50,2,    0.00,2,    2.50,2,   0.001,2,  -0.002,2,   0.002,2,  -999.0,9,  -999.0,9,-999.000,9,-999.0000,9, -999.00,9, -999.00,9,  -999.0,9,  -999.0,-999.000,9,-999.000,-999.0000,9,  2277.2,-999.000,   1.9894,     -999.0,9,     -999.0,9,     -999.0,9,     -999.0,9,     -999.0,9,     -999.0,9,     -999.0,9, -999.00,9,-999.0000,9,-999.0000,9,-999.0000,9,-999.0000,9,-999.0000,9,-999.0000,9,-999.0000, -999.00
33RR20050106,       P16S,      46,          1,         11,         11,2,20050123,       0215,   -38.5000,  -150.0000,       5299,  2530.8,   2.0066,  34.6545,2,  34.6545,2,    149.6,2,   150.2,2,  120.15,2,   35.55,2,    0.00,2,    2.51,2,-999.000,9,-999.000,9,-999.000,9,  -999.0,9,  -999.0,9,-999.000,9,-999.0000,9, -999.00,9, -999.00,9,  -999.0,9,  -999.0,-999.000,9,-999.000,-999.0000,9,  2530.8,-999.000,   1.8233,     -999.0,9,     -999.0,9,     -999.0,9,     -999.0,9,     -999.0,9,     -999.0,9,     -999.0,9, -999.00,9,-999.0000,9,-999.0000,9,-999.0000,9,-999.0000,9,-999.0000,9,-999.0000,9,-999.0000, -999.00
33RR20050106,       P16S,      46,          1,         10,         10,2,20050123,       0215,   -38.5000,  -150.0000,       5299,  2784.9,   1.9021,  34.6635,2,  34.6626,2,    150.3,2,   150.9,2,  124.68,2,   35.61,2,    0.00,2,    2.50,2,   0.012,2,  -0.002,2,   0.002,2,  -999.0,9,  -999.0,9,-999.000,9,-999.0000,9, -999.00,9, -999.00,9,  -999.0,9,  -999.0,-999.000,9,-999.000,-999.0000,9,  2784.9,-999.000,   1.6972,     -999.0,9,     -999.0,9,     -999.0,9,     -999.0,9,     -999.0,9,     -999.0,9,     -999.0,9, -999.00,9,-999.0000,9,-999.0000,9,-999.0000,9,-999.0000,9,-999.0000,9,-999.0000,9,-999.0000, -999.00
33RR20050106,       P16S,      46,          1,          9,          9,2,20050123,       0215,   -38.5000,  -150.0000,       5299,  3045.0,   1.8110,  34.6740,2,  34.6752,2,    154.3,2,   155.0,2,  125.08,2,   35.27,2,    0.00,2,    2.48,2,-999.000,9,-999.000,9,-999.000,9,  -999.0,9,  -999.0,9,-999.000,9,-999.0000,9, -999.00,9, -999.00,9,  -999.0,9,  -999.0,-999.000,9,-999.000,-999.0000,9,  3045.0,-999.000,   1.5829,     -999.0,9,     -999.0,9,     -999.0,9,     -999.0,9,     -999.0,9,     -999.0,9,     -999.0,9, -999.00,9,-999.0000,9,-999.0000,9,-999.0000,9,-999.0000,9,-999.0000,9,-999.0000,9,-999.0000, -999.00
33RR20050106,       P16S,      46,          1,          8,          8,2,20050123,       0215,   -38.5000,  -150.0000,       5299,  3352.5,   1.7180,  34.6927,2,  34.6927,2,    166.6,2,   167.9,2,  119.70,2,   34.13,2,    0.00,2,    2.38,2,   0.061,3,   0.037,3,   0.002,2,  -999.0,9,  -999.0,9,-999.000,9,-999.0000,9, -999.00,9, -999.00,9,  -999.0,9,  -999.0,-999.000,9,-999.000,-999.0000,9,  3352.5,-999.000,   1.4614,     -999.0,9,     -999.0,9,     -999.0,9,     -999.0,9,     -999.0,9,     -999.0,9,     -999.0,9, -999.00,9,-999.0000,9,-999.0000,9,-999.0000,9,-999.0000,9,-999.0000,9,-999.0000,9,-999.0000, -999.00
33RR20050106,       P16S,      46,          1,          7,          7,2,20050123,       0215,   -38.5000,  -150.0000,       5299,  3659.4,   1.5904,  34.7128,2,  34.7124,2,    183.1,2,   185.1,2,  111.44,2,   32.66,2,    0.00,2,    2.27,2,-999.000,9,-999.000,9,-999.000,9,  -999.0,9,  -999.0,9,-999.000,9,-999.0000,9, -999.00,9, -999.00,9,  -999.0,9,  -999.0,-999.000,9,-999.000,-999.0000,9,  3659.4,-999.000,   1.3052,     -999.0,9,     -999.0,9,     -999.0,9,     -999.0,9,     -999.0,9,     -999.0,9,     -999.0,9, -999.00,9,-999.0000,9,-999.0000,9,-999.0000,9,-999.0000,9,-999.0000,9,-999.0000,9,-999.0000, -999.00