BOTTLE,20201109CCHSIOCBG
EXPOCODE,SECT_ID,STNNBR,CASTNO,SAMPNO,BTLNBR,BTLNBR_FLAG_W,DATE,TIME,LATITUDE,LONGITUDE,DEPTH,CTDPRS,CTDTMP,CTDSAL,CTDSAL_FLAG_W,SALNTY,SALNTY_FLAG_W,CTDOXY,CTDOXY_FLAG_W,OXYGEN,OXYGEN_FLAG_W,SILCAT,SILCAT_FLAG_W,NITRAT,NITRAT_FLAG_W,NITRIT,NITRIT_FLAG_W,PHSPHT,PHSPHT_FLAG_W,CFC-11,CFC-11_FLAG_W,CFC-12,CFC-12_FLAG_W,CFC113,CFC113_FLAG_W,TCARBN,TCARBN_FLAG_W,ALKALI,ALKALI_FLAG_W,TRITUM,TRITUM_FLAG_W,HELIUM,HELIUM_FLAG_W,DELHE3,DELHE3_FLAG_W,DELC13,DELC13_FLAG_W,DELC14,DELC14_FLAG_W,C14ERR,NEON,NEON_FLAG_W,NEONER,DOC,DOC_FLAG_W,CTDRAW,TRITER,THETA,FUCO,FUCO_FLAG_W,RHAM,RHAM_FLAG_W,ARABA,ARABA_FLAG_W,GALA,GALA_FLAG_W,GLUC,GLUC_FLAG_W,MAN,MAN_FLAG_W,DCNS,DCNS_FLAG_W,BRDU,BRDU_FLAG_W,CDOM325,CDOM325_FLAG_W,CDOM340,CDOM340_FLAG_W,CDOM380,CDOM380_FLAG_W,CDOM412,CDOM412_FLAG_W,CDOMSL,CDOMSL_FLAG_W,CDOMSN,CDOMSN_FLAG_W,HELIER,DELHER
,,,,,,,,,,,METERS,DBAR,ITS-90,PSS-78,,PSS-78,,UMOL/KG,,UMOL/KG,,UMOL/KG,,UMOL/KG,,UMOL/KG,,UMOL/KG,,PMOL/KG,,PMOL/KG,,PMOL/KG,,UMOL/KG,,UMOL/KG,,TU,,NMOL/KG,,PERCNT,,/MILLE,,/MILLE,,/MILLE,NMOL/KG,,NMOL/KG,UMOL/KG,,DBAR,TU,DEG C,NMOL/KG,,NMOL/KG,,NMOL/KG,,NMOL/KG,,NMOL/KG,,NMOL/KG,,NMOL/KG,,PMOL/L/H,,1/M,,1/M,,1/M,,1/M,,1/NM,,1/NM,,NMOL/KG,PERCNT
33RR20050106,       P16S,      91,          1,         32,         32,2,20050205,       1526,   -60.9997,  -149.9998,       3278,     6.0,   1.5854,  34.0789,2,  34.0805,2,    335.1,2,   336.4,2,   43.87,2,   24.52,2,    0.35,2,    1.68,2,   5.752,2,   3.295,2,   0.646,2,  2170.9,6,  2303.7,6,-999.000,9,-999.0000,9, -999.00,9, -999.00,9,  -999.0,9,  -999.0,-999.000,9,-999.000,  44.6654,2,     6.0,-999.000,   1.5851,         46,2,         44,2,         19,2,         97,2,        103,2,        120,2,        429,2, -999.00,9,   0.0610,2,   0.0360,2,   0.0120,2,   0.0080,2,   0.0356,2,   0.0366,2,-999.0000, -999.00
33RR20050106,       P16S,      91,          1,         31,         31,2,20050205,       1526,   -60.9997,  -149.9998,       3278,    52.5,   1.5865,  34.0780,2,  34.0805,2,    336.5,2,   336.5,2,   43.86,2,   24.48,2,    0.35,2,    1.69,2,   5.668,2,   3.257,2,   0.625,2,  2171.6,2,  2304.1,2,-999.000,9,   1.8650,2,   -1.92,2, -999.00,9,  -999.0,9,  -999.0,   8.470,2,   0.022,  44.4756,2,    52.5,-999.000,   1.5840,         45,2,         44,2,         74,2,        116,2,        134,2,        116,2,        528,2, -999.00,9,   0.0600,2,   0.0360,2,   0.0110,2,   0.0060,2,   0.0357,2,   0.0365,2,   0.0010,    0.22
33RR20050106,       P16S,      91,          1,         30,         30,2,20050205,       1526,   -60.9997,  -149.9998,       3278,    76.9,  -0.5927,  34.1600,2,  34.1589,2,    350.6,2,   352.4,2,   53.01,2,   26.10,2,    0.30,2,    1.87,2,   6.276,2,   3.550,2,   0.690,2,  2186.3,2,  2309.5,2,   0.109,2,   1.8930,2,   10.21,3, -999.00,9,  -999.0,9,  -999.0,   8.204,2,   0.011,  44.8461,2,    76.9,   0.008,  -0.5950,         39,2,         34,2,         33,2,         83,2,         80,2,         95,2,        364,2, -999.00,9,   0.1130,2,   0.0740,2,   0.0300,2,   0.0180,2,   0.0244,2,   0.0256,2,   0.0010,    0.21
33RR20050106,       P16S,      91,          1,         29,         29,2,20050205,       1526,   -60.9997,  -149.9998,       3278,   102.7,  -1.3056,  34.2118,2,  34.2124,2,    351.1,2,   351.6,2,   59.03,2,   27.27,2,    0.29,2,    1.94,2,   6.135,2,   3.463,2,   0.671,2,  2199.3,2,  2312.6,2,   0.073,2,-999.0000,9, -999.00,9, -999.00,9,  -999.0,9,  -999.0,-999.000,9,-999.000,  43.0095,2,   102.7,   0.007,  -1.3081,         17,2,         23,2,         65,2,         55,2,         32,2,         47,2,        240,2, -999.00,9,   0.0680,2,   0.0390,2,   0.0160,2,   0.0110,2,   0.0352,2,   0.0370,2,-999.0000, -999.00
33RR20050106,       P16S,      91,          1,         28,         28,2,20050205,       1526,   -60.9997,  -149.9998,       3278,   127.8,  -1.3615,  34.2536,2,  34.2522,2,    346.5,2,   343.9,2,   62.57,2,   27.87,2,    0.27,2,    1.98,2,-999.000,5,-999.000,5,-999.000,5,  2204.3,2,  2313.3,2,-999.000,9,-999.0000,9, -999.00,9, -999.00,9,  -999.0,9,  -999.0,-999.000,9,-999.000,  43.0183,2,   127.8,-999.000,  -1.3645,     -999.0,9,     -999.0,9,     -999.0,9,     -999.0,9,     -999.0,9,     -999.0,9,     -999.0,9, -999.00,9,-999.0000,9,-999.0000,9,-999.0000,9,-999.0000,9,-999.0000,9,-999.0000,9,-999.0000, -999.00
33RR20050106,       P16S,      91,          1,         27,         27,2,20050205,       1526,   -60.9997,  -149.9998,       3278,   151.8,  -0.8194,  34.3589,2,  34.3443,2,    319.0,2,   304.6,2,   70.49,2,   29.79,2,    0.14,2,    2.07,2,   0.453,2,   0.396,2,   0.062,2,  2218.7,2,  2317.3,2,   0.081,2,   1.8630,2,   -0.67,2, -999.00,9,  -999.0,9,  -999.0,   8.332,2,   0.011,  42.5274,2,   151.8,   0.006,  -0.8238,         26,2,         26,2,         37,2,        101,2,        332,2,         87,2,        610,2, -999.00,9,   0.0760,2,   0.0450,2,   0.0190,2,   0.0140,2,   0.0313,2,   0.0334,2,   0.0010,    0.20
33RR20050106,       P16S,      91,          1,         26,         26,2,20050205,       1526,   -60.9997,  -149.9998,       3278,   202.8,   0.8966,  34.6481,2,  34.6481,2,    204.9,2,   192.9,2,   97.10,2,   33.20,2,    0.01,2,    2.30,2,   0.320,2,   0.291,2,   0.044,2,  2262.4,2,  2339.0,2,   0.001,2,   1.8070,2,   -0.35,2, -999.00,9,  -999.0,9,  -999.0,   7.975,2,   0.010,  40.3534,2,   202.8,   0.006,   0.8876,     -999.0,9,     -999.0,9,     -999.0,9,     -999.0,9,     -999.0,9,     -999.0,9,     -999.0,9, -999.00,9,   0.1360,2,   0.0960,2,   0.0420,2,   0.0300,2,   0.0183,2,   0.0205,2,   0.0010,    0.19
33RR20050106,       P16S,      91,          1,         25,         25,2,20050205,       1526,   -60.9997,  -149.9998,       3278,   253.5,   1.2850,  34.7221,2,  34.7208,2,    176.7,2,   174.7,2,  104.86,2,   33.47,2,    0.01,2,    2.31,2,   0.107,2,   0.096,2,   0.016,2,  2268.6,2,  2347.0,2,   0.101,2,   2.9970,4,   -1.37,3, -999.00,9,  -999.0,9,  -999.0,  16.060,4,   0.225,  39.9409,2,   253.5,   0.006,   1.2727,     -999.0,9,     -999.0,9,     -999.0,9,     -999.0,9,     -999.0,9,     -999.0,9,     -999.0,9, -999.00,9,   0.1190,2,   0.0790,2,   0.0300,2,   0.0210,2,   0.0254,2,   0.0262,2,   0.0090,    0.33
33RR20050106,       P16S,      91,          1,         24,         24,2,20050205,       1526,   -60.9997,  -149.9998,       3278,   307.7,   1.2787,  34.7294,2,  34.7282,2,    175.4,2,   176.8,2,  107.17,2,   33.26,2,    0.01,2,    2.29,2,   0.252,4,   0.173,4,   0.022,2,  2268.6,2,  2349.2,2,   0.042,2,   2.0060,3,   10.05,2, -999.00,9,  -999.0,9,  -999.0,   8.603,3,   0.012,  41.2216,2,   307.7,   0.007,   1.2637,         30,2,         21,2,         26,2,         64,2,        113,2,         37,2,        291,2, -999.00,9,   0.1220,2,   0.0830,2,   0.0340,2,   0.0240,2,   0.0226,2,   0.0238,2,   0.0010,    0.20
33RR20050106,       P16S,      91,          1,         23,         23,2,20050205,       1526,   -60.9997,  -149.9998,       3278,   359.1,   1.2315,  34.7293,2,  34.7290,2,    179.4,2,   180.2,2,  108.64,2,   32.93,2,    0.00,2,    2.27,2,   0.105,2,   0.073,2,   0.021,2,  2267.1,2,  2350.6,2,   0.074,2,   1.9050,2,   10.72,2, -999.00,9,  -999.0,9,  -999.0,   8.212,2,   0.011,  40.1546,2,   359.1,   0.008,   1.2140,     -999.0,9,     -999.0,9,     -999.0,9,     -999.0,9,     -999.0,9,     -999.0,9,     -999.0,9, -999.00,9,   0.1050,2,   0.0680,2,   0.0310,2,   0.0220,2,   0.0227,2,   0.0248,2,   0.0010,    0.19
33RR20050106,       P16S,      91,          1,         22,         22,2,20050205,       1526,   -60.9997,  -149.9998,       3278,   409.6,   1.1988,  34.7290,2,  34.7276,2,    180.5,2,   180.7,2,  110.09,2,   32.98,2,    0.00,2,    2.27,2,   0.188,2,   0.120,2,   0.015,2,  2266.8,2,  2351.8,2,   0.001,2,   1.9380,2,   10.77,2, -999.00,9,  -999.0,9,  -999.0,   8.373,2,   0.011,  41.2030,2,   409.6,   0.005,   1.1787,     -999.0,9,     -999.0,9,     -999.0,9,     -999.0,9,     -999.0,9,     -999.0,9,     -999.0,9, -999.00,9,   0.1050,2,   0.0670,2,   0.0310,2,   0.0220,2,   0.0222,2,   0.0245,2,   0.0010,    0.20
33RR20050106,       P16S,      91,          1,         21,         21,2,20050205,       1526,   -60.9997,  -149.9998,       3278,   460.4,   1.1656,  34.7279,2,  34.7278,2,    181.9,2,   183.1,2,  110.93,2,   32.83,2,    0.00,2,    2.26,2,   0.104,2,   0.066,2,   0.014,2,  2268.0,6,  2353.0,2,   0.154,2,   1.9290,2,   11.04,2, -999.00,9,  -999.0,9,  -999.0,   8.224,2,   0.010,-999.0000,9,   460.4,   0.008,   1.1430,     -999.0,9,     -999.0,9,     -999.0,9,     -999.0,9,     -999.0,9,     -999.0,9,     -999.0,9, -999.00,9,-999.0000,9,-999.0000,9,-999.0000,9,-999.0000,9,-999.0000,9,-999.0000,9,   0.0010,    0.20
33RR20050106,       P16S,      91,          1,         20,         20,2,20050205,       1526,   -60.9997,  -149.9998,       3278,   510.7,   1.1295,  34.7266,2,  34.7268,2,    184.7,2,   185.8,2,  111.55,2,   32.72,2,    0.00,2,    2.23,2,   0.177,2,   0.109,2,   0.017,2,  2265.6,2,  2353.2,2,   0.011,2,   2.8760,4,    7.67,3, -999.00,9,  -999.0,9,  -999.0,  11.708,4,   0.021,  40.9182,2,   510.7,   0.006,   1.1043,     -999.0,9,     -999.0,9,     -999.0,9,     -999.0,9,     -999.0,9,     -999.0,9,     -999.0,9, -999.00,9,   0.1040,2,   0.0660,2,   0.0310,2,   0.0220,2,   0.0222,2,   0.0245,2,   0.0020,    0.17
33RR20050106,       P16S,      91,          1,         19,         19,2,20050205,       1526,   -60.9997,  -149.9998,       3278,   611.5,   1.0598,  34.7244,2,  34.7240,2,    189.6,2,   189.7,2,  113.44,2,   32.45,2,    0.00,2,    2.23,2,   0.100,2,   0.066,2,  -0.002,2,  2263.1,2,  2354.2,2,   0.014,2,   2.1370,4,   10.06,3, -999.00,9,  -999.0,9,  -999.0,   9.000,3,   0.012,  40.1486,2,   611.5,   0.005,   1.0295,     -999.0,9,     -999.0,9,     -999.0,9,     -999.0,9,     -999.0,9,     -999.0,9,     -999.0,9, -999.00,9,   0.1070,2,   0.0690,2,   0.0310,2,   0.0220,2,   0.0226,2,   0.0247,2,   0.0010,    0.20
33RR20050106,       P16S,      91,          1,         18,         18,2,20050205,       1526,   -60.9997,  -149.9998,       3278,   712.7,   0.9913,  34.7220,2,  34.7222,2,    191.5,2,   191.3,2,  115.75,2,   32.50,2,    0.00,2,    2.23,2,   0.069,2,   0.049,2,   0.010,2,  2263.5,2,  2355.4,6,   0.011,2,   6.4010,4,    2.49,3, -999.00,9,  -999.0,9,  -999.0,  17.915,4,   0.089,  40.6663,2,   712.7,   0.010,   0.9557,     -999.0,9,     -999.0,9,     -999.0,9,     -999.0,9,     -999.0,9,     -999.0,9,     -999.0,9, -999.00,9,   0.1060,2,   0.0690,2,   0.0310,2,   0.0220,2,   0.0230,2,   0.0251,2,   0.0290,    0.27
33RR20050106,       P16S,      91,          1,         17,         17,2,20050205,       1526,   -60.9997,  -149.9998,       3278,   812.6,   0.9272,  34.7194,2,  34.7195,2,    195.1,2,   195.3,2,  116.58,2,   32.34,2,    0.00,2,    2.22,2,   0.085,2,   0.055,2,   0.015,2,  2265.5,2,  2356.0,2,-999.000,9,   1.9020,2,   10.56,2, -999.00,9,  -999.0,9,  -999.0,   8.271,2,   0.011,  40.4437,2,   812.6,-999.000,   0.8864,     -999.0,9,     -999.0,9,     -999.0,9,     -999.0,9,     -999.0,9,     -999.0,9,     -999.0,9, -999.00,9,   0.1040,2,   0.0670,2,   0.0310,2,   0.0220,2,   0.0220,2,   0.0243,2,   0.0010,    0.20
33RR20050106,       P16S,      91,          1,         16,         16,2,20050205,       1526,   -60.9997,  -149.9998,       3278,   914.8,   0.8720,  34.7171,2,  34.7177,2,    195.9,2,   196.2,2,  118.89,2,   32.34,2,    0.00,2,    2.23,2,   0.070,2,   0.054,2,   0.009,2,  2265.0,2,  2356.6,2,   0.089,2,   1.9100,2,   12.08,2, -999.00,9,  -999.0,9,  -999.0,   8.235,2,   0.010,  41.0086,2,   914.8,   0.006,   0.8257,     -999.0,9,     -999.0,9,     -999.0,9,     -999.0,9,     -999.0,9,     -999.0,9,     -999.0,9, -999.00,9,   0.1040,2,   0.0670,2,   0.0310,2,   0.0220,2,   0.0217,2,   0.0241,2,   0.0010,    0.19
33RR20050106,       P16S,      91,          1,         15,         15,2,20050205,       1526,   -60.9997,  -149.9998,       3278,  1015.5,   0.8097,  34.7148,2,  34.7143,2,    197.3,2,   197.9,2,  120.79,2,   32.45,2,    0.00,2,    2.23,2,   0.085,2,   0.055,2,   0.013,2,  2264.9,2,  2358.4,2,-999.000,9,   1.9280,2,   11.85,2, -999.00,9,  -999.0,9,  -999.0,   8.336,2,   0.011,  40.8510,2,  1015.5,-999.000,   0.7579,     -999.0,9,     -999.0,9,     -999.0,9,     -999.0,9,     -999.0,9,     -999.0,9,     -999.0,9, -999.00,9,   0.1020,2,   0.0650,2,   0.0300,2,   0.0220,2,   0.0224,2,   0.0247,2,   0.0010,    0.20
33RR20050106,       P16S,      91,          1,         14,         14,2,20050205,       1526,   -60.9997,  -149.9998,       3278,  1116.2,   0.7572,  34.7125,2,  34.7129,2,    199.1,2,   199.9,2,  122.46,2,   32.33,2,    0.00,2,    2.23,2,   0.065,2,   0.047,2,   0.013,2,  2265.2,2,  2359.0,2,   0.001,2,   2.1410,4,    9.37,3, -999.00,9,  -999.0,9,  -999.0,   9.112,4,   0.012,-999.0000,9,  1116.2,   0.003,   0.6998,     -999.0,9,     -999.0,9,     -999.0,9,     -999.0,9,     -999.0,9,     -999.0,9,     -999.0,9, -999.00,9,-999.0000,9,-999.0000,9,-999.0000,9,-999.0000,9,-999.0000,9,-999.0000,9,   0.0010,    0.18
33RR20050106,       P16S,      91,          1,         13,         13,2,20050205,       1526,   -60.9997,  -149.9998,       3278,  1218.1,   0.7068,  34.7107,2,  34.7107,2,    200.6,2,   201.3,2,  123.93,2,   32.33,2,    0.00,2,    2.23,2,   0.107,2,   0.069,2,   0.013,2,  2265.0,2,  2358.1,2,   0.002,2,   1.9280,2,   11.18,2, -999.00,9,  -999.0,9,  -999.0,   8.392,2,   0.011,  39.8807,2,  1218.1,   0.004,   0.6436,     -999.0,9,     -999.0,9,     -999.0,9,     -999.0,9,     -999.0,9,     -999.0,9,     -999.0,9, -999.00,9,   0.1020,2,   0.0660,2,   0.0310,2,   0.0220,2,   0.0218,2,   0.0242,2,   0.0010,    0.20
33RR20050106,       P16S,      91,          1,         12,         12,2,20050205,       1526,   -60.9997,  -149.9998,       3278,  1319.0,   0.6677,  34.7092,2,  34.7099,2,    202.1,2,   202.6,2,  124.98,2,   32.38,2,    0.00,2,    2.23,2,   0.148,2,   0.101,2,   0.010,2,  2264.9,2,  2358.3,2,   0.027,2,   1.9290,2,   11.74,2, -999.00,9,  -999.0,9,  -999.0,   8.212,2,   0.011,-999.0000,9,  1319.0,   0.004,   0.5985,     -999.0,9,     -999.0,9,     -999.0,9,     -999.0,9,     -999.0,9,     -999.0,9,     -999.0,9, -999.00,9,-999.0000,9,-999.0000,9,-999.0000,9,-999.0000,9,-999.0000,9,-999.0000,9,   0.0010,    0.21
33RR20050106,       P16S,      91,          1,         11,         11,2,20050205,       1526,   -60.9997,  -149.9998,       3278,  1420.9,   0.6271,  34.7077,2,  34.7073,2,    203.2,2,   204.0,2,  126.03,2,   32.33,2,    0.00,2,    2.23,2,   0.108,2,   0.070,2,   0.012,2,  2264.2,2,  2357.5,2,-999.000,9,   1.8860,2,   10.94,2, -999.00,9,  -999.0,9,  -999.0,   8.304,2,   0.007,  39.6548,2,  1420.9,-999.000,   0.5518,     -999.0,9,     -999.0,9,     -999.0,9,     -999.0,9,     -999.0,9,     -999.0,9,     -999.0,9, -999.00,9,   0.1020,2,   0.0650,2,   0.0300,2,   0.0210,2,   0.0227,2,   0.0251,2,   0.0010,    0.24
33RR20050106,       P16S,      91,          1,         10,         10,2,20050205,       1526,   -60.9997,  -149.9998,       3278,  1521.5,   0.5818,  34.7067,2,  34.7061,2,    204.7,2,   205.0,2,  126.66,2,   32.33,2,    0.00,2,    2.23,2,   0.075,2,   0.052,2,   0.011,2,  2263.3,2,  2358.0,2,-999.000,9,   1.9200,2,   10.73,2, -999.00,9,  -999.0,9,  -999.0,   8.353,2,   0.012,-999.0000,9,  1521.5,-999.000,   0.5004,     -999.0,9,     -999.0,9,     -999.0,9,     -999.0,9,     -999.0,9,     -999.0,9,     -999.0,9, -999.00,9,-999.0000,9,-999.0000,9,-999.0000,9,-999.0000,9,-999.0000,9,-999.0000,9,   0.0010,    0.19
33RR20050106,       P16S,      91,          1,          9,          9,2,20050205,       1526,   -60.9997,  -149.9998,       3278,  1622.7,   0.5367,  34.7057,2,  34.6981,4,    205.7,2,   206.5,2,  126.01,2,   32.38,2,    0.00,2,    2.22,2,   0.070,2,   0.041,2,   0.009,2,  2263.1,2,  2359.4,2,   0.053,2,   1.8910,2,   11.11,2, -999.00,9,  -999.0,9,  -999.0,   8.178,2,   0.010,  39.1098,2,  1622.7,   0.004,   0.4491,     -999.0,9,     -999.0,9,     -999.0,9,     -999.0,9,     -999.0,9,     -999.0,9,     -999.0,9, -999.00,9,   0.1060,2,   0.0680,2,   0.0320,2,   0.0230,2,   0.0214,2,   0.0238,2,   0.0010,    0.20
33RR20050106,       P16S,      91,          1,          8,          8,2,20050205,       1526,   -60.9997,  -149.9998,       3278,  1825.9,   0.4569,  34.7039,2,  34.7043,2,    207.8,2,   208.5,2,  128.11,2,   32.32,2,    0.00,2,    2.23,2,   0.097,2,   0.056,2,   0.009,2,  2263.0,2,  2358.5,2,   0.001,2,   1.9010,2,   10.11,2, -999.00,9,  -999.0,9,  -999.0,   8.346,2,   0.009,-999.0000,9,  1825.9,   0.004,   0.3564,     -999.0,9,     -999.0,9,     -999.0,9,     -999.0,9,     -999.0,9,     -999.0,9,     -999.0,9, -999.00,9,-999.0000,9,-999.0000,9,-999.0000,9,-999.0000,9,-999.0000,9,-999.0000,9,   0.0010,    0.19
33RR20050106,       P16S,      91,          1,          7,          7,2,20050205,       1526,   -60.9997,  -149.9998,       3278,  2029.1,   0.3775,  34.7030,2,  34.7035,2,    209.8,2,   210.7,2,  129.37,2,   32.37,2,    0.00,2,    2.23,2,   0.135,2,   0.086,2,   0.010,2,  2263.3,2,  2359.8,2,   0.033,2,   1.9340,2,    9.19,2, -999.00,9,  -999.0,9,  -999.0,   8.451,2,   0.010,  39.7511,2,  2029.1,   0.005,   0.2636,     -999.0,9,     -999.0,9,     -999.0,9,     -999.0,9,     -999.0,9,     -999.0,9,     -999.0,9, -999.00,9,   0.0990,2,   0.0630,2,   0.0300,2,   0.0210,2,   0.0221,2,   0.0246,2,   0.0020,    0.21
33RR20050106,       P16S,      91,          1,          6,          6,2,20050205,       1526,   -60.9997,  -149.9998,       3278,  2282.9,   0.2781,  34.6998,2,  34.6998,2,    213.3,2,   214.4,2,  127.66,2,   32.32,2,    0.00,2,    2.23,2,   0.346,2,   0.189,2,   0.032,2,  2263.3,2,  2357.4,2,   0.095,2,   1.9190,2,    8.73,2, -999.00,9,  -999.0,9,  -999.0,   8.388,2,   0.009,-999.0000,9,  2282.9,   0.008,   0.1470,     -999.0,9,     -999.0,9,     -999.0,9,     -999.0,9,     -999.0,9,     -999.0,9,     -999.0,9, -999.00,9,-999.0000,9,-999.0000,9,-999.0000,9,-999.0000,9,-999.0000,9,-999.0000,9,   0.0020,    0.25
33RR20050106,       P16S,      91,          1,          5,          5,2,20050205,       1526,   -60.9997,  -149.9998,       3278,  2536.3,   0.2276,  34.6981,2,  34.6984,2,    215.7,2,   216.3,2,  126.60,2,   32.22,2,    0.00,2,    2.23,2,   0.586,2,   0.325,2,   0.042,2,  2262.8,2,  2357.5,2,   0.001,2,   1.9120,2,    8.88,2, -999.00,9,  -999.0,9,  -999.0,   8.404,2,   0.010,  40.6915,2,  2536.3,   0.004,   0.0776,     -999.0,9,     -999.0,9,     -999.0,9,     -999.0,9,     -999.0,9,     -999.0,9,     -999.0,9, -999.00,9,   0.1010,2,   0.0650,2,   0.0310,2,   0.0220,2,   0.0219,2,   0.0244,2,   0.0010,    0.19
33RR20050106,       P16S,      91,          1,          4,          4,2,20050205,       1526,   -60.9997,  -149.9998,       3278,  2792.2,   0.2137,  34.6977,2,  34.6972,2,    216.5,2,   217.4,2,  126.81,2,   32.27,2,    0.00,2,    2.23,2,   0.657,2,   0.368,2,   0.052,2,  2262.8,2,  2358.1,2,-999.000,9,   2.4700,4,    7.48,3, -999.00,9,  -999.0,9,  -999.0,  10.386,4,   0.015,-999.0000,9,  2792.2,-999.000,   0.0431,     -999.0,9,     -999.0,9,     -999.0,9,     -999.0,9,     -999.0,9,     -999.0,9,     -999.0,9, -999.00,9,-999.0000,9,-999.0000,9,-999.0000,9,-999.0000,9,-999.0000,9,-999.0000,9,   0.0020,    0.18
33RR20050106,       P16S,      91,          1,          3,          3,2,20050205,       1526,   -60.9997,  -149.9998,       3278,  3045.1,   0.2093,  34.6974,2,  34.6970,2,    217.2,2,   218.8,2,  126.37,2,   32.32,2,    0.00,2,    2.23,2,   0.611,2,   0.325,2,   0.048,2,  2262.5,2,  2358.0,2,   0.015,2,   1.8820,2,    8.30,2, -999.00,9,  -999.0,9,  -999.0,   8.391,2,   0.010,  39.3492,2,  3045.1,   0.004,   0.0171,     -999.0,9,     -999.0,9,     -999.0,9,     -999.0,9,     -999.0,9,     -999.0,9,     -999.0,9, -999.00,9,   0.1020,2,   0.0660,2,   0.0320,2,   0.0240,2,   0.0206,2,   0.0231,2,   0.0010,    0.19