BOTTLE,20201109CCHSIOCBG
EXPOCODE,SECT_ID,STNNBR,CASTNO,SAMPNO,BTLNBR,BTLNBR_FLAG_W,DATE,TIME,LATITUDE,LONGITUDE,DEPTH,CTDPRS,CTDTMP,CTDSAL,CTDSAL_FLAG_W,SALNTY,SALNTY_FLAG_W,CTDOXY,CTDOXY_FLAG_W,OXYGEN,OXYGEN_FLAG_W,SILCAT,SILCAT_FLAG_W,NITRAT,NITRAT_FLAG_W,NITRIT,NITRIT_FLAG_W,PHSPHT,PHSPHT_FLAG_W,CFC-11,CFC-11_FLAG_W,CFC-12,CFC-12_FLAG_W,CFC113,CFC113_FLAG_W,TCARBN,TCARBN_FLAG_W,ALKALI,ALKALI_FLAG_W,TRITUM,TRITUM_FLAG_W,HELIUM,HELIUM_FLAG_W,DELHE3,DELHE3_FLAG_W,DELC13,DELC13_FLAG_W,DELC14,DELC14_FLAG_W,C14ERR,NEON,NEON_FLAG_W,NEONER,DOC,DOC_FLAG_W,CTDRAW,TRITER,THETA,FUCO,FUCO_FLAG_W,RHAM,RHAM_FLAG_W,ARABA,ARABA_FLAG_W,GALA,GALA_FLAG_W,GLUC,GLUC_FLAG_W,MAN,MAN_FLAG_W,DCNS,DCNS_FLAG_W,BRDU,BRDU_FLAG_W,CDOM325,CDOM325_FLAG_W,CDOM340,CDOM340_FLAG_W,CDOM380,CDOM380_FLAG_W,CDOM412,CDOM412_FLAG_W,CDOMSL,CDOMSL_FLAG_W,CDOMSN,CDOMSN_FLAG_W,HELIER,DELHER
,,,,,,,,,,,METERS,DBAR,ITS-90,PSS-78,,PSS-78,,UMOL/KG,,UMOL/KG,,UMOL/KG,,UMOL/KG,,UMOL/KG,,UMOL/KG,,PMOL/KG,,PMOL/KG,,PMOL/KG,,UMOL/KG,,UMOL/KG,,TU,,NMOL/KG,,PERCNT,,/MILLE,,/MILLE,,/MILLE,NMOL/KG,,NMOL/KG,UMOL/KG,,DBAR,TU,DEG C,NMOL/KG,,NMOL/KG,,NMOL/KG,,NMOL/KG,,NMOL/KG,,NMOL/KG,,NMOL/KG,,PMOL/L/H,,1/M,,1/M,,1/M,,1/M,,1/NM,,1/NM,,NMOL/KG,PERCNT
33RR20050106,       P16S,      23,          2,          6,          6,2,20050116,       1217,   -27.0002,  -150.0003,       4660,  3386.0,   1.5999,  34.6824,2,  34.6825,2,    166.3,2,   167.3,2,  125.57,2,   34.67,2,    0.00,2,    2.44,2,-999.000,9,-999.000,9,-999.000,9,  2299.6,2,  2393.7,2,-999.000,9,-999.0000,9, -999.00,9, -999.00,9,  -999.0,9,  -999.0,-999.000,9,-999.000,-999.0000,9,  3386.0,-999.000,   1.3428,     -999.0,9,     -999.0,9,     -999.0,9,     -999.0,9,     -999.0,9,     -999.0,9,     -999.0,9, -999.00,9,-999.0000,9,-999.0000,9,-999.0000,9,-999.0000,9,-999.0000,9,-999.0000,9,-999.0000, -999.00
33RR20050106,       P16S,      23,          2,          5,          5,2,20050116,       1217,   -27.0002,  -150.0003,       4660,  3691.9,   1.5197,  34.6891,2,  34.6896,2,    172.5,2,   173.7,2,  124.53,2,   34.18,2,    0.00,2,    2.40,2,  -0.003,2,  -0.001,2,   0.001,2,  2293.5,2,  2389.5,2,-999.000,9,-999.0000,9, -999.00,9, -999.00,9,  -999.0,9,  -999.0,-999.000,9,-999.000,-999.0000,9,  3691.9,-999.000,   1.2331,     -999.0,9,     -999.0,9,     -999.0,9,     -999.0,9,     -999.0,9,     -999.0,9,     -999.0,9, -999.00,9,-999.0000,9,-999.0000,9,-999.0000,9,-999.0000,9,-999.0000,9,-999.0000,9,-999.0000, -999.00
33RR20050106,       P16S,      23,          2,          4,          4,2,20050116,       1217,   -27.0002,  -150.0003,       4660,  3996.7,   1.4242,  34.6970,2,  34.6970,2,    180.8,2,   181.7,2,  122.65,2,   33.57,2,    0.00,2,    2.36,2,-999.000,9,-999.000,9,-999.000,9,  2286.2,2,  2386.2,2,-999.000,9,-999.0000,9, -999.00,9, -999.00,9,  -999.0,9,  -999.0,-999.000,9,-999.000,  39.0766,2,  3996.7,-999.000,   1.1076,     -999.0,9,     -999.0,9,     -999.0,9,     -999.0,9,     -999.0,9,     -999.0,9,     -999.0,9, -999.00,9,   0.1000,2,   0.0730,2,   0.0400,2,   0.0270,2,   0.0158,2,   0.0167,2,-999.0000, -999.00
33RR20050106,       P16S,      23,          2,          3,          3,2,20050116,       1217,   -27.0002,  -150.0003,       4660,  4303.6,   1.3528,  34.7026,2,  34.7029,2,    187.9,2,   189.2,2,  120.97,2,   33.14,2,    0.00,2,    2.32,2,   0.002,2,  -0.001,2,   0.001,2,  2279.5,2,  2379.9,2,-999.000,9,-999.0000,9, -999.00,9, -999.00,9,  -999.0,9,  -999.0,-999.000,9,-999.000,-999.0000,9,  4303.6,-999.000,   1.0045,     -999.0,9,     -999.0,9,     -999.0,9,     -999.0,9,     -999.0,9,     -999.0,9,     -999.0,9, -999.00,9,-999.0000,9,-999.0000,9,-999.0000,9,-999.0000,9,-999.0000,9,-999.0000,9,-999.0000, -999.00
33RR20050106,       P16S,      23,          2,          2,          2,2,20050116,       1217,   -27.0002,  -150.0003,       4660,  4558.7,   1.3243,  34.7055,2,  34.7056,2,    191.6,2,   192.0,2,  120.14,2,   32.91,2,    0.00,2,    2.29,2,-999.000,9,-999.000,9,-999.000,9,  2276.2,2,  2377.4,2,-999.000,9,-999.0000,9, -999.00,9, -999.00,9,  -999.0,9,  -999.0,-999.000,9,-999.000,-999.0000,9,  4558.7,-999.000,   0.9478,     -999.0,9,     -999.0,9,     -999.0,9,     -999.0,9,     -999.0,9,     -999.0,9,     -999.0,9, -999.00,9,-999.0000,9,-999.0000,9,-999.0000,9,-999.0000,9,-999.0000,9,-999.0000,9,-999.0000, -999.00
33RR20050106,       P16S,      23,          2,          1,          1,2,20050116,       1217,   -27.0002,  -150.0003,       4660,  4774.5,   1.3430,  34.7058,2,  34.7056,2,    192.1,2,   192.7,2,  120.14,2,   32.87,2,    0.00,2,    2.30,2,   0.004,2,  -0.001,2,   0.001,2,  2276.0,2,  2378.4,6,-999.000,9,-999.0000,9, -999.00,9, -999.00,9,  -999.0,9,  -999.0,-999.000,9,-999.000,  38.3347,2,  4774.5,-999.000,   0.9408,     -999.0,9,     -999.0,9,     -999.0,9,     -999.0,9,     -999.0,9,     -999.0,9,     -999.0,9, -999.00,9,   0.0970,2,   0.0710,2,   0.0380,2,   0.0270,2,   0.0158,2,   0.0169,2,-999.0000, -999.00