BOTTLE,20201109CCHSIOCBG
EXPOCODE,SECT_ID,STNNBR,CASTNO,SAMPNO,BTLNBR,BTLNBR_FLAG_W,DATE,TIME,LATITUDE,LONGITUDE,DEPTH,CTDPRS,CTDTMP,CTDSAL,CTDSAL_FLAG_W,SALNTY,SALNTY_FLAG_W,CTDOXY,CTDOXY_FLAG_W,OXYGEN,OXYGEN_FLAG_W,SILCAT,SILCAT_FLAG_W,NITRAT,NITRAT_FLAG_W,NITRIT,NITRIT_FLAG_W,PHSPHT,PHSPHT_FLAG_W,CFC-11,CFC-11_FLAG_W,CFC-12,CFC-12_FLAG_W,CFC113,CFC113_FLAG_W,TCARBN,TCARBN_FLAG_W,ALKALI,ALKALI_FLAG_W,TRITUM,TRITUM_FLAG_W,HELIUM,HELIUM_FLAG_W,DELHE3,DELHE3_FLAG_W,DELC13,DELC13_FLAG_W,DELC14,DELC14_FLAG_W,C14ERR,NEON,NEON_FLAG_W,NEONER,DOC,DOC_FLAG_W,CTDRAW,TRITER,THETA,FUCO,FUCO_FLAG_W,RHAM,RHAM_FLAG_W,ARABA,ARABA_FLAG_W,GALA,GALA_FLAG_W,GLUC,GLUC_FLAG_W,MAN,MAN_FLAG_W,DCNS,DCNS_FLAG_W,BRDU,BRDU_FLAG_W,CDOM325,CDOM325_FLAG_W,CDOM340,CDOM340_FLAG_W,CDOM380,CDOM380_FLAG_W,CDOM412,CDOM412_FLAG_W,CDOMSL,CDOMSL_FLAG_W,CDOMSN,CDOMSN_FLAG_W,HELIER,DELHER
,,,,,,,,,,,METERS,DBAR,ITS-90,PSS-78,,PSS-78,,UMOL/KG,,UMOL/KG,,UMOL/KG,,UMOL/KG,,UMOL/KG,,UMOL/KG,,PMOL/KG,,PMOL/KG,,PMOL/KG,,UMOL/KG,,UMOL/KG,,TU,,NMOL/KG,,PERCNT,,/MILLE,,/MILLE,,/MILLE,NMOL/KG,,NMOL/KG,UMOL/KG,,DBAR,TU,DEG C,NMOL/KG,,NMOL/KG,,NMOL/KG,,NMOL/KG,,NMOL/KG,,NMOL/KG,,NMOL/KG,,PMOL/L/H,,1/M,,1/M,,1/M,,1/M,,1/NM,,1/NM,,NMOL/KG,PERCNT
33RR20050106,       P16S,      37,          2,          6,          6,2,20050120,       1025,   -34.0000,  -149.9998,       5162,  3854.2,   1.3986,  34.7038,2,  34.7052,2,    184.1,3,   185.7,2,  119.77,2,   32.94,2,    0.00,2,    2.31,2,   0.036,3,   0.026,3,   0.002,2,  2280.2,2,  2378.2,2,   0.028,2,-999.0000,9, -999.00,9, -999.00,9,  -999.0,9,  -999.0,-999.000,9,-999.000,  36.1356,2,  3854.2,   0.006,   1.0980,     -999.0,9,     -999.0,9,     -999.0,9,     -999.0,9,     -999.0,9,     -999.0,9,     -999.0,9, -999.00,9,   0.1170,2,   0.0790,2,   0.0420,2,   0.0300,2,   0.0162,2,   0.0185,2,-999.0000, -999.00
33RR20050106,       P16S,      37,          2,          5,          5,2,20050120,       1025,   -34.0000,  -149.9998,       5162,  4160.5,   1.2955,  34.7052,2,  34.7060,2,    190.8,3,   191.5,2,  120.20,2,   32.72,2,    0.00,2,    2.29,2,   0.037,3,   0.025,3,   0.002,2,  2275.4,2,  2375.7,2,   0.001,2,   1.9020,2,   12.04,2, -999.00,9,  -999.0,9,  -999.0,   8.128,2,   0.040,-999.0000,9,  4160.5,   0.006,   0.9647,     -999.0,9,     -999.0,9,     -999.0,9,     -999.0,9,     -999.0,9,     -999.0,9,     -999.0,9, -999.00,9,-999.0000,9,-999.0000,9,-999.0000,9,-999.0000,9,-999.0000,9,-999.0000,9,   0.0050,    0.25
33RR20050106,       P16S,      37,          2,          4,          4,2,20050120,       1025,   -34.0000,  -149.9998,       5162,  4467.9,   1.2175,  34.7097,2,  34.7103,2,    197.1,3,   198.4,2,  118.75,2,   32.27,2,    0.00,2,    2.25,2,   0.004,2,  -0.002,2,   0.002,2,  2269.5,2,  2370.1,2,   0.001,2,   3.7920,4,    6.88,3, -999.00,9,  -999.0,9,  -999.0,  13.939,4,   0.068,-999.0000,9,  4467.9,   0.006,   0.8547,     -999.0,9,     -999.0,9,     -999.0,9,     -999.0,9,     -999.0,9,     -999.0,9,     -999.0,9, -999.00,9,-999.0000,9,-999.0000,9,-999.0000,9,-999.0000,9,-999.0000,9,-999.0000,9,   0.0090,    0.24
33RR20050106,       P16S,      37,          2,          3,          3,2,20050120,       1025,   -34.0000,  -149.9998,       5162,  4775.4,   1.1650,  34.7114,2,  34.7119,2,    201.5,3,   202.9,2,  118.95,2,   32.10,2,    0.00,2,    2.24,2,   0.001,2,   0.005,2,   0.002,2,  2266.9,2,  2368.1,2,   0.001,2,   1.8230,2,   10.68,2, -999.00,9,  -999.0,9,  -999.0,   7.821,4,   0.038,  37.9122,2,  4775.4,   0.006,   0.7685,     -999.0,9,     -999.0,9,     -999.0,9,     -999.0,9,     -999.0,9,     -999.0,9,     -999.0,9, -999.00,9,   0.1150,2,   0.0770,2,   0.0390,2,   0.0270,2,   0.0182,2,   0.0203,2,   0.0040,    0.25
33RR20050106,       P16S,      37,          2,          2,          2,2,20050120,       1025,   -34.0000,  -149.9998,       5162,  5032.3,   1.1411,  34.7109,2,  34.7115,2,    203.3,2,   203.8,2,  119.57,2,   32.09,2,    0.00,2,    2.24,2,-999.000,9,-999.000,9,-999.000,9,  2265.8,2,  2367.0,2,-999.000,9,-999.0000,9, -999.00,9, -999.00,9,  -999.0,9,  -999.0,-999.000,9,-999.000,-999.0000,9,  5032.3,-999.000,   0.7149,     -999.0,9,     -999.0,9,     -999.0,9,     -999.0,9,     -999.0,9,     -999.0,9,     -999.0,9, -999.00,9,-999.0000,9,-999.0000,9,-999.0000,9,-999.0000,9,-999.0000,9,-999.0000,9,-999.0000, -999.00
33RR20050106,       P16S,      37,          2,          1,          1,2,20050120,       1025,   -34.0000,  -149.9998,       5162,  5226.2,   1.1477,  34.7105,2,  34.7111,2,    203.7,2,   204.2,2,  119.96,2,   32.03,2,    0.00,2,    2.23,2,   0.013,2,   0.004,2,   0.002,2,  2265.8,6,  2368.3,6,   0.001,2,   1.9740,2,    8.80,2, -999.00,9,  -999.0,9,  -999.0,   8.393,2,   0.027,  38.3201,2,  5226.2,   0.007,   0.6977,     -999.0,9,     -999.0,9,     -999.0,9,     -999.0,9,     -999.0,9,     -999.0,9,     -999.0,9, -999.00,9,   0.1130,2,   0.0750,2,   0.0380,2,   0.0260,2,   0.0187,2,   0.0208,2,   0.0060,    0.33