BOTTLE,20201109CCHSIOCBG
EXPOCODE,SECT_ID,STNNBR,CASTNO,SAMPNO,BTLNBR,BTLNBR_FLAG_W,DATE,TIME,LATITUDE,LONGITUDE,DEPTH,CTDPRS,CTDTMP,CTDSAL,CTDSAL_FLAG_W,SALNTY,SALNTY_FLAG_W,CTDOXY,CTDOXY_FLAG_W,OXYGEN,OXYGEN_FLAG_W,SILCAT,SILCAT_FLAG_W,NITRAT,NITRAT_FLAG_W,NITRIT,NITRIT_FLAG_W,PHSPHT,PHSPHT_FLAG_W,CFC-11,CFC-11_FLAG_W,CFC-12,CFC-12_FLAG_W,CFC113,CFC113_FLAG_W,TCARBN,TCARBN_FLAG_W,ALKALI,ALKALI_FLAG_W,TRITUM,TRITUM_FLAG_W,HELIUM,HELIUM_FLAG_W,DELHE3,DELHE3_FLAG_W,DELC13,DELC13_FLAG_W,DELC14,DELC14_FLAG_W,C14ERR,NEON,NEON_FLAG_W,NEONER,DOC,DOC_FLAG_W,CTDRAW,TRITER,THETA,FUCO,FUCO_FLAG_W,RHAM,RHAM_FLAG_W,ARABA,ARABA_FLAG_W,GALA,GALA_FLAG_W,GLUC,GLUC_FLAG_W,MAN,MAN_FLAG_W,DCNS,DCNS_FLAG_W,BRDU,BRDU_FLAG_W,CDOM325,CDOM325_FLAG_W,CDOM340,CDOM340_FLAG_W,CDOM380,CDOM380_FLAG_W,CDOM412,CDOM412_FLAG_W,CDOMSL,CDOMSL_FLAG_W,CDOMSN,CDOMSN_FLAG_W,HELIER,DELHER
,,,,,,,,,,,METERS,DBAR,ITS-90,PSS-78,,PSS-78,,UMOL/KG,,UMOL/KG,,UMOL/KG,,UMOL/KG,,UMOL/KG,,UMOL/KG,,PMOL/KG,,PMOL/KG,,PMOL/KG,,UMOL/KG,,UMOL/KG,,TU,,NMOL/KG,,PERCNT,,/MILLE,,/MILLE,,/MILLE,NMOL/KG,,NMOL/KG,UMOL/KG,,DBAR,TU,DEG C,NMOL/KG,,NMOL/KG,,NMOL/KG,,NMOL/KG,,NMOL/KG,,NMOL/KG,,NMOL/KG,,PMOL/L/H,,1/M,,1/M,,1/M,,1/M,,1/NM,,1/NM,,NMOL/KG,PERCNT
33RR20050106,       P16S,      53,          2,         36,         36,2,20050125,       0433,   -42.0000,  -149.9982,       5217,     1.8,  15.5742,  34.2879,2,  34.2894,2,    255.7,2,   254.9,2,    0.00,2,    4.35,2,    0.07,2,    0.45,2,   2.908,2,   1.739,2,   0.271,2,  2048.3,6,  2274.2,6,-999.000,9,-999.0000,9, -999.00,9, -999.00,9,  -999.0,9,  -999.0,-999.000,9,-999.000,  58.0299,2,     1.8,-999.000,  15.5739,     -999.0,9,     -999.0,9,     -999.0,9,     -999.0,9,     -999.0,9,     -999.0,9,     -999.0,9, -999.00,9,-999.0000,9,-999.0000,9,-999.0000,9,-999.0000,9,-999.0000,9,-999.0000,9,-999.0000, -999.00
33RR20050106,       P16S,      53,          2,         35,         35,2,20050125,       0433,   -42.0000,  -149.9982,       5217,    36.0,  14.9549,  34.3035,2,  34.3309,4,    259.6,2,   262.7,2,    0.00,2,    4.20,2,    0.06,2,    0.44,2,   2.990,2,   1.801,2,   0.266,2,  2049.3,2,  2275.5,2,-999.000,9,-999.0000,9, -999.00,9, -999.00,9,  -999.0,9,  -999.0,-999.000,9,-999.000,  58.8900,2,    36.0,-999.000,  14.9495,     -999.0,9,     -999.0,9,     -999.0,9,     -999.0,9,     -999.0,9,     -999.0,9,     -999.0,9, -999.00,9,-999.0000,9,-999.0000,9,-999.0000,9,-999.0000,9,-999.0000,9,-999.0000,9,-999.0000, -999.00
33RR20050106,       P16S,      53,          2,         34,         34,2,20050125,       0433,   -42.0000,  -149.9982,       5217,    71.3,  10.7995,  34.3691,2,  34.3700,2,    280.8,2,   281.6,2,    0.58,2,    5.88,2,    0.10,2,    0.55,2,   3.581,2,   2.114,2,   0.342,2,  2070.3,2,  2277.1,2,-999.000,9,-999.0000,9, -999.00,9, -999.00,9,  -999.0,9,  -999.0,-999.000,9,-999.000,  54.3022,2,    71.3,-999.000,  10.7909,     -999.0,9,     -999.0,9,     -999.0,9,     -999.0,9,     -999.0,9,     -999.0,9,     -999.0,9, -999.00,9,-999.0000,9,-999.0000,9,-999.0000,9,-999.0000,9,-999.0000,9,-999.0000,9,-999.0000, -999.00
33RR20050106,       P16S,      53,          2,         33,         33,2,20050125,       0433,   -42.0000,  -149.9982,       5217,   121.4,   9.2861,  34.4296,2,  34.4298,2,    260.7,2,   260.7,2,    1.57,2,   11.24,2,    0.38,2,    0.86,2,   3.799,2,   2.143,2,   0.348,2,  2101.6,2,  2278.4,2,-999.000,9,-999.0000,9, -999.00,9, -999.00,9,  -999.0,9,  -999.0,-999.000,9,-999.000,  49.2252,2,   121.4,-999.000,   9.2728,     -999.0,9,     -999.0,9,     -999.0,9,     -999.0,9,     -999.0,9,     -999.0,9,     -999.0,9, -999.00,9,-999.0000,9,-999.0000,9,-999.0000,9,-999.0000,9,-999.0000,9,-999.0000,9,-999.0000, -999.00
33RR20050106,       P16S,      53,          2,         32,         32,2,20050125,       0433,   -42.0000,  -149.9982,       5217,   171.5,   8.4537,  34.4552,2,  34.4541,2,    252.8,2,   254.4,2,    2.94,2,   15.49,2,    0.01,2,    1.09,2,-999.000,9,-999.000,9,-999.000,9,  2118.7,2,  2279.6,2,-999.000,9,-999.0000,9, -999.00,9, -999.00,9,  -999.0,9,  -999.0,-999.000,9,-999.000,  47.7094,2,   171.5,-999.000,   8.4359,     -999.0,9,     -999.0,9,     -999.0,9,     -999.0,9,     -999.0,9,     -999.0,9,     -999.0,9, -999.00,9,-999.0000,9,-999.0000,9,-999.0000,9,-999.0000,9,-999.0000,9,-999.0000,9,-999.0000, -999.00
33RR20050106,       P16S,      53,          2,         31,         31,2,20050125,       0433,   -42.0000,  -149.9982,       5217,   221.9,   8.1094,  34.4719,2,  34.4708,2,    254.6,2,   257.0,2,    3.73,2,   16.50,2,    0.01,2,    1.16,2,   3.909,2,   2.233,2,   0.345,2,  2123.0,2,  2280.6,2,-999.000,9,-999.0000,9, -999.00,9, -999.00,9,  -999.0,9,  -999.0,-999.000,9,-999.000,  46.4408,2,   221.9,-999.000,   8.0869,     -999.0,9,     -999.0,9,     -999.0,9,     -999.0,9,     -999.0,9,     -999.0,9,     -999.0,9, -999.00,9,-999.0000,9,-999.0000,9,-999.0000,9,-999.0000,9,-999.0000,9,-999.0000,9,-999.0000, -999.00
33RR20050106,       P16S,      53,          2,         30,         30,2,20050125,       0433,   -42.0000,  -149.9982,       5217,   272.0,   7.8693,  34.4620,2,  34.4626,2,    256.5,2,   259.0,2,    4.12,2,   17.31,2,    0.01,2,    1.19,2,-999.000,9,-999.000,9,-999.000,9,  2126.0,2,  2281.1,2,-999.000,9,-999.0000,9, -999.00,9, -999.00,9,  -999.0,9,  -999.0,-999.000,9,-999.000,  45.2099,2,   272.0,-999.000,   7.8421,     -999.0,9,     -999.0,9,     -999.0,9,     -999.0,9,     -999.0,9,     -999.0,9,     -999.0,9, -999.00,9,-999.0000,9,-999.0000,9,-999.0000,9,-999.0000,9,-999.0000,9,-999.0000,9,-999.0000, -999.00
33RR20050106,       P16S,      53,          2,         29,         29,2,20050125,       0433,   -42.0000,  -149.9982,       5217,   322.9,   7.7302,  34.4505,2,  34.4508,2,    257.2,2,   258.4,2,    4.51,2,   17.94,2,    0.01,2,    1.23,2,   3.984,2,   2.219,2,   0.361,2,  2126.8,2,  2281.0,2,-999.000,9,-999.0000,9, -999.00,9, -999.00,9,  -999.0,9,  -999.0,-999.000,9,-999.000,  45.3281,2,   322.9,-999.000,   7.6982,     -999.0,9,     -999.0,9,     -999.0,9,     -999.0,9,     -999.0,9,     -999.0,9,     -999.0,9, -999.00,9,-999.0000,9,-999.0000,9,-999.0000,9,-999.0000,9,-999.0000,9,-999.0000,9,-999.0000, -999.00
33RR20050106,       P16S,      53,          2,         28,         28,2,20050125,       0433,   -42.0000,  -149.9982,       5217,   377.8,   7.4891,  34.4247,2,  34.4252,2,    256.0,2,   256.8,2,    5.10,2,   18.96,2,    0.00,2,    1.30,2,-999.000,9,-999.000,9,-999.000,9,  2130.0,2,  2280.9,2,-999.000,9,-999.0000,9, -999.00,9, -999.00,9,  -999.0,9,  -999.0,-999.000,9,-999.000,-999.0000,9,   377.8,-999.000,   7.4522,     -999.0,9,     -999.0,9,     -999.0,9,     -999.0,9,     -999.0,9,     -999.0,9,     -999.0,9, -999.00,9,-999.0000,9,-999.0000,9,-999.0000,9,-999.0000,9,-999.0000,9,-999.0000,9,-999.0000, -999.00
33RR20050106,       P16S,      53,          2,         27,         27,2,20050125,       0433,   -42.0000,  -149.9982,       5217,   428.4,   7.2998,  34.4050,2,  34.4056,2,    254.6,2,   255.2,2,    5.70,2,   19.82,2,    0.00,2,    1.35,2,   3.884,2,   2.145,2,   0.353,2,  2132.0,2,  2279.3,2,-999.000,9,-999.0000,9, -999.00,9, -999.00,9,  -999.0,9,  -999.0,-999.000,9,-999.000,  44.6401,2,   428.4,-999.000,   7.2584,     -999.0,9,     -999.0,9,     -999.0,9,     -999.0,9,     -999.0,9,     -999.0,9,     -999.0,9, -999.00,9,-999.0000,9,-999.0000,9,-999.0000,9,-999.0000,9,-999.0000,9,-999.0000,9,-999.0000, -999.00
33RR20050106,       P16S,      53,          2,         26,         26,2,20050125,       0433,   -42.0000,  -149.9982,       5217,   478.6,   7.1038,  34.3851,2,  34.3862,2,    255.2,2,   257.1,2,    6.09,2,   20.20,2,    0.00,2,    1.38,2,-999.000,9,-999.000,9,-999.000,9,  2132.9,2,  2279.0,2,-999.000,9,-999.0000,9, -999.00,9, -999.00,9,  -999.0,9,  -999.0,-999.000,9,-999.000,-999.0000,9,   478.6,-999.000,   7.0581,     -999.0,9,     -999.0,9,     -999.0,9,     -999.0,9,     -999.0,9,     -999.0,9,     -999.0,9, -999.00,9,-999.0000,9,-999.0000,9,-999.0000,9,-999.0000,9,-999.0000,9,-999.0000,9,-999.0000, -999.00
33RR20050106,       P16S,      53,          2,         25,         25,2,20050125,       0433,   -42.0000,  -149.9982,       5217,   528.9,   7.0003,  34.3781,2,  34.3779,2,    256.6,2,   255.1,2,    6.68,2,   20.84,2,    0.00,2,    1.43,2,   3.861,2,   2.109,2,   0.318,2,  2135.0,2,  2279.8,2,-999.000,9,-999.0000,9, -999.00,9, -999.00,9,  -999.0,9,  -999.0,-999.000,9,-999.000,  44.7262,2,   528.9,-999.000,   6.9501,     -999.0,9,     -999.0,9,     -999.0,9,     -999.0,9,     -999.0,9,     -999.0,9,     -999.0,9, -999.00,9,-999.0000,9,-999.0000,9,-999.0000,9,-999.0000,9,-999.0000,9,-999.0000,9,-999.0000, -999.00
33RR20050106,       P16S,      53,          2,         24,         24,2,20050125,       0433,   -42.0000,  -149.9982,       5217,   649.4,   6.5762,  34.3415,2,  34.3430,2,    256.9,2,   255.2,2,    7.86,2,   21.92,2,    0.00,2,    1.49,2,   3.748,2,   1.996,2,   0.267,2,  2137.9,2,  2279.2,2,-999.000,9,-999.0000,9, -999.00,9, -999.00,9,  -999.0,9,  -999.0,-999.000,9,-999.000,  43.2453,2,   649.4,-999.000,   6.5161,     -999.0,9,     -999.0,9,     -999.0,9,     -999.0,9,     -999.0,9,     -999.0,9,     -999.0,9, -999.00,9,-999.0000,9,-999.0000,9,-999.0000,9,-999.0000,9,-999.0000,9,-999.0000,9,-999.0000, -999.00
33RR20050106,       P16S,      53,          2,         23,         23,2,20050125,       0433,   -42.0000,  -149.9982,       5217,   750.1,   6.2270,  34.3256,2,  34.3261,2,    244.4,2,   240.2,2,   11.03,2,   24.02,2,    0.00,2,    1.63,2,   3.103,2,   1.682,2,   0.201,2,  2149.5,2,  2281.2,2,-999.000,9,-999.0000,9, -999.00,9, -999.00,9,  -999.0,9,  -999.0,-999.000,9,-999.000,  42.1057,2,   750.1,-999.000,   6.1591,     -999.0,9,     -999.0,9,     -999.0,9,     -999.0,9,     -999.0,9,     -999.0,9,     -999.0,9, -999.00,9,-999.0000,9,-999.0000,9,-999.0000,9,-999.0000,9,-999.0000,9,-999.0000,9,-999.0000, -999.00
33RR20050106,       P16S,      53,          2,         22,         22,2,20050125,       0433,   -42.0000,  -149.9982,       5217,   851.1,   5.7792,  34.3188,2,  34.3194,2,    228.1,2,   226.8,2,   15.62,2,   26.13,2,    0.00,2,    1.77,2,   2.492,2,   1.317,2,   0.157,2,  2161.3,6,  2283.1,2,-999.000,9,-999.0000,9, -999.00,9, -999.00,9,  -999.0,9,  -999.0,-999.000,9,-999.000,  43.4871,2,   851.1,-999.000,   5.7044,     -999.0,9,     -999.0,9,     -999.0,9,     -999.0,9,     -999.0,9,     -999.0,9,     -999.0,9, -999.00,9,-999.0000,9,-999.0000,9,-999.0000,9,-999.0000,9,-999.0000,9,-999.0000,9,-999.0000, -999.00
33RR20050106,       P16S,      53,          2,         21,         21,2,20050125,       0433,   -42.0000,  -149.9982,       5217,   952.0,   5.2149,  34.3168,2,  34.3172,2,    218.2,2,   215.7,2,   21.19,2,   28.24,2,    0.00,2,    1.92,2,   1.955,2,   1.015,2,   0.118,2,  2174.8,2,  2287.1,2,-999.000,9,-999.0000,9, -999.00,9, -999.00,9,  -999.0,9,  -999.0,-999.000,9,-999.000,  42.8233,2,   952.0,-999.000,   5.1346,     -999.0,9,     -999.0,9,     -999.0,9,     -999.0,9,     -999.0,9,     -999.0,9,     -999.0,9, -999.00,9,-999.0000,9,-999.0000,9,-999.0000,9,-999.0000,9,-999.0000,9,-999.0000,9,-999.0000, -999.00
33RR20050106,       P16S,      53,          2,         20,         20,2,20050125,       0433,   -42.0000,  -149.9982,       5217,  1052.8,   4.6918,  34.3259,2,  34.3266,2,    209.2,2,   209.3,2,   27.60,2,   29.76,2,    0.00,2,    2.04,2,   1.684,2,   0.858,2,   0.105,2,  2187.5,2,  2292.2,2,-999.000,9,-999.0000,9, -999.00,9, -999.00,9,  -999.0,9,  -999.0,-999.000,9,-999.000,  42.2834,2,  1052.8,-999.000,   4.6065,     -999.0,9,     -999.0,9,     -999.0,9,     -999.0,9,     -999.0,9,     -999.0,9,     -999.0,9, -999.00,9,-999.0000,9,-999.0000,9,-999.0000,9,-999.0000,9,-999.0000,9,-999.0000,9,-999.0000, -999.00
33RR20050106,       P16S,      53,          2,         19,         19,2,20050125,       0433,   -42.0000,  -149.9982,       5217,  1153.8,   4.0732,  34.3414,2,  34.3423,2,    201.5,2,   201.2,2,   36.23,2,   31.45,2,    0.00,2,    2.15,2,   1.296,2,   0.665,2,   0.080,2,  2201.9,2,  2299.9,2,-999.000,9,-999.0000,9, -999.00,9, -999.00,9,  -999.0,9,  -999.0,-999.000,9,-999.000,-999.0000,9,  1153.8,-999.000,   3.9842,     -999.0,9,     -999.0,9,     -999.0,9,     -999.0,9,     -999.0,9,     -999.0,9,     -999.0,9, -999.00,9,-999.0000,9,-999.0000,9,-999.0000,9,-999.0000,9,-999.0000,9,-999.0000,9,-999.0000, -999.00
33RR20050106,       P16S,      53,          2,         18,         18,2,20050125,       0433,   -42.0000,  -149.9982,       5217,  1254.5,   3.6131,  34.3660,2,  34.3662,2,    195.1,2,   195.1,2,   43.69,2,   32.59,2,    0.00,2,    2.24,2,   1.020,2,   0.518,2,   0.066,2,  2212.7,2,  2306.9,6,-999.000,9,-999.0000,9, -999.00,9, -999.00,9,  -999.0,9,  -999.0,-999.000,9,-999.000,  40.8317,2,  1254.5,-999.000,   3.5198,     -999.0,9,     -999.0,9,     -999.0,9,     -999.0,9,     -999.0,9,     -999.0,9,     -999.0,9, -999.00,9,-999.0000,9,-999.0000,9,-999.0000,9,-999.0000,9,-999.0000,9,-999.0000,9,-999.0000, -999.00
33RR20050106,       P16S,      53,          2,         17,         17,2,20050125,       0433,   -42.0000,  -149.9982,       5217,  1355.8,   3.2581,  34.4045,2,  34.4047,2,    187.0,2,   187.4,2,   51.79,2,   33.45,2,    0.00,2,    2.30,2,   0.795,2,   0.397,2,   0.060,2,  2225.5,2,  2315.4,2,-999.000,9,-999.0000,9, -999.00,9, -999.00,9,  -999.0,9,  -999.0,-999.000,9,-999.000,-999.0000,9,  1355.8,-999.000,   3.1598,     -999.0,9,     -999.0,9,     -999.0,9,     -999.0,9,     -999.0,9,     -999.0,9,     -999.0,9, -999.00,9,-999.0000,9,-999.0000,9,-999.0000,9,-999.0000,9,-999.0000,9,-999.0000,9,-999.0000, -999.00
33RR20050106,       P16S,      53,          2,         16,         16,2,20050125,       0433,   -42.0000,  -149.9982,       5217,  1456.5,   3.0236,  34.4452,2,  34.4469,2,    180.0,2,   180.5,2,   59.30,2,   33.94,2,    0.00,2,    2.34,2,-999.000,9,-999.000,9,-999.000,9,  2236.0,2,  2322.1,2,-999.000,9,-999.0000,9, -999.00,9, -999.00,9,  -999.0,9,  -999.0,-999.000,9,-999.000,-999.0000,9,  1456.5,-999.000,   2.9194,     -999.0,9,     -999.0,9,     -999.0,9,     -999.0,9,     -999.0,9,     -999.0,9,     -999.0,9, -999.00,9,-999.0000,9,-999.0000,9,-999.0000,9,-999.0000,9,-999.0000,9,-999.0000,9,-999.0000, -999.00
33RR20050106,       P16S,      53,          2,         15,         15,2,20050125,       0433,   -42.0000,  -149.9982,       5217,  1558.0,   2.8414,  34.4895,2,  34.4917,2,    173.0,2,   174.3,2,   66.23,2,   34.26,2,    0.00,2,    2.37,2,   0.343,2,   0.163,2,   0.001,2,  2245.4,2,  2328.6,2,-999.000,9,-999.0000,9, -999.00,9, -999.00,9,  -999.0,9,  -999.0,-999.000,9,-999.000,  39.9878,2,  1558.0,-999.000,   2.7308,     -999.0,9,     -999.0,9,     -999.0,9,     -999.0,9,     -999.0,9,     -999.0,9,     -999.0,9, -999.00,9,-999.0000,9,-999.0000,9,-999.0000,9,-999.0000,9,-999.0000,9,-999.0000,9,-999.0000, -999.00
33RR20050106,       P16S,      53,          2,         14,         14,2,20050125,       0433,   -42.0000,  -149.9982,       5217,  1760.5,   2.6248,  34.5698,2,  34.5710,2,    161.8,2,   162.8,2,   82.82,2,   34.58,2,    0.00,2,    2.41,2,   0.064,2,   0.030,2,   0.001,2,  2265.9,2,  2349.3,2,-999.000,9,-999.0000,9, -999.00,9, -999.00,9,  -999.0,9,  -999.0,-999.000,9,-999.000,-999.0000,9,  1760.5,-999.000,   2.4998,     -999.0,9,     -999.0,9,     -999.0,9,     -999.0,9,     -999.0,9,     -999.0,9,     -999.0,9, -999.00,9,-999.0000,9,-999.0000,9,-999.0000,9,-999.0000,9,-999.0000,9,-999.0000,9,-999.0000, -999.00
33RR20050106,       P16S,      53,          2,         13,         13,2,20050125,       0433,   -42.0000,  -149.9982,       5217,  1962.7,   2.4202,  34.6150,2,  34.6152,2,    156.0,2,   156.9,2,   96.62,2,   34.75,2,    0.00,2,    2.43,2,-999.000,9,-999.000,9,-999.000,9,  2280.5,2,  2366.8,2,-999.000,9,-999.0000,9, -999.00,9, -999.00,9,  -999.0,9,  -999.0,-999.000,9,-999.000,  40.1921,2,  1962.7,-999.000,   2.2806,     -999.0,9,     -999.0,9,     -999.0,9,     -999.0,9,     -999.0,9,     -999.0,9,     -999.0,9, -999.00,9,-999.0000,9,-999.0000,9,-999.0000,9,-999.0000,9,-999.0000,9,-999.0000,9,-999.0000, -999.00
33RR20050106,       P16S,      53,          2,         12,         12,2,20050125,       0433,   -42.0000,  -149.9982,       5217,  2125.1,   2.2951,  34.6326,2,  34.6330,2,    153.4,2,   154.1,2,  105.09,2,   35.07,2,    0.00,2,    2.45,2,   0.008,4,   0.005,4,   0.001,4,  2289.6,2,  2377.7,2,-999.000,9,-999.0000,9, -999.00,9, -999.00,9,  -999.0,9,  -999.0,-999.000,9,-999.000,-999.0000,9,  2125.1,-999.000,   2.1433,     -999.0,9,     -999.0,9,     -999.0,9,     -999.0,9,     -999.0,9,     -999.0,9,     -999.0,9, -999.00,9,-999.0000,9,-999.0000,9,-999.0000,9,-999.0000,9,-999.0000,9,-999.0000,9,-999.0000, -999.00
33RR20050106,       P16S,      53,          2,         11,         11,2,20050125,       0433,   -42.0000,  -149.9982,       5217,  2379.0,   2.1371,  34.6500,2,  34.6505,2,    152.4,2,   153.3,2,  112.15,2,   35.23,2,    0.00,2,    2.46,2,-999.000,9,-999.000,9,-999.000,9,  2296.6,2,  2384.9,2,-999.000,9,-999.0000,9, -999.00,9, -999.00,9,  -999.0,9,  -999.0,-999.000,9,-999.000,  37.8888,2,  2379.0,-999.000,   1.9653,     -999.0,9,     -999.0,9,     -999.0,9,     -999.0,9,     -999.0,9,     -999.0,9,     -999.0,9, -999.00,9,-999.0000,9,-999.0000,9,-999.0000,9,-999.0000,9,-999.0000,9,-999.0000,9,-999.0000, -999.00
33RR20050106,       P16S,      53,          2,         10,         10,2,20050125,       0433,   -42.0000,  -149.9982,       5217,  2633.3,   1.9969,  34.6657,2,  34.6654,2,    154.7,2,   155.3,2,  116.29,2,   35.06,2,    0.00,2,    2.45,2,   0.028,3,   0.017,3,   0.001,2,  2298.5,2,  2387.4,2,-999.000,9,-999.0000,9, -999.00,9, -999.00,9,  -999.0,9,  -999.0,-999.000,9,-999.000,-999.0000,9,  2633.3,-999.000,   1.8043,     -999.0,9,     -999.0,9,     -999.0,9,     -999.0,9,     -999.0,9,     -999.0,9,     -999.0,9, -999.00,9,-999.0000,9,-999.0000,9,-999.0000,9,-999.0000,9,-999.0000,9,-999.0000,9,-999.0000, -999.00
33RR20050106,       P16S,      53,          2,          9,          9,2,20050125,       0433,   -42.0000,  -149.9982,       5217,  2887.5,   1.8784,  34.6835,2,  34.6825,2,    162.1,2,   162.7,2,  116.10,2,   34.36,2,    0.00,2,    2.40,2,-999.000,9,-999.000,9,-999.000,9,  2293.6,2,  2385.3,2,-999.000,9,-999.0000,9, -999.00,9, -999.00,9,  -999.0,9,  -999.0,-999.000,9,-999.000,  37.2383,2,  2887.5,-999.000,   1.6641,     -999.0,9,     -999.0,9,     -999.0,9,     -999.0,9,     -999.0,9,     -999.0,9,     -999.0,9, -999.00,9,-999.0000,9,-999.0000,9,-999.0000,9,-999.0000,9,-999.0000,9,-999.0000,9,-999.0000, -999.00
33RR20050106,       P16S,      53,          2,          8,          8,2,20050125,       0433,   -42.0000,  -149.9982,       5217,  3141.4,   1.7636,  34.6986,2,  34.6978,2,    171.5,2,   171.5,2,  113.59,2,   33.64,2,    0.00,2,    2.34,2,   0.352,4,  -0.002,4,   0.205,4,  2284.9,2,  2379.8,2,-999.000,9,-999.0000,9, -999.00,9, -999.00,9,  -999.0,9,  -999.0,-999.000,9,-999.000,-999.0000,9,  3141.4,-999.000,   1.5270,     -999.0,9,     -999.0,9,     -999.0,9,     -999.0,9,     -999.0,9,     -999.0,9,     -999.0,9, -999.00,9,-999.0000,9,-999.0000,9,-999.0000,9,-999.0000,9,-999.0000,9,-999.0000,9,-999.0000, -999.00
33RR20050106,       P16S,      53,          2,          7,          7,2,20050125,       0433,   -42.0000,  -149.9982,       5217,  3448.0,   1.6057,  34.7129,2,  34.7145,2,    184.0,2,   184.1,2,  110.48,2,   32.61,2,    0.00,2,    2.26,2,-999.000,9,-999.000,9,-999.000,9,  2272.2,2,  2370.0,2,-999.000,9,-999.0000,9, -999.00,9, -999.00,9,  -999.0,9,  -999.0,-999.000,9,-999.000,  38.2893,2,  3448.0,-999.000,   1.3420,     -999.0,9,     -999.0,9,     -999.0,9,     -999.0,9,     -999.0,9,     -999.0,9,     -999.0,9, -999.00,9,-999.0000,9,-999.0000,9,-999.0000,9,-999.0000,9,-999.0000,9,-999.0000,9,-999.0000, -999.00