BOTTLE,20201109CCHSIOCBG
EXPOCODE,SECT_ID,STNNBR,CASTNO,SAMPNO,BTLNBR,BTLNBR_FLAG_W,DATE,TIME,LATITUDE,LONGITUDE,DEPTH,CTDPRS,CTDTMP,CTDSAL,CTDSAL_FLAG_W,SALNTY,SALNTY_FLAG_W,CTDOXY,CTDOXY_FLAG_W,OXYGEN,OXYGEN_FLAG_W,SILCAT,SILCAT_FLAG_W,NITRAT,NITRAT_FLAG_W,NITRIT,NITRIT_FLAG_W,PHSPHT,PHSPHT_FLAG_W,CFC-11,CFC-11_FLAG_W,CFC-12,CFC-12_FLAG_W,CFC113,CFC113_FLAG_W,TCARBN,TCARBN_FLAG_W,ALKALI,ALKALI_FLAG_W,TRITUM,TRITUM_FLAG_W,HELIUM,HELIUM_FLAG_W,DELHE3,DELHE3_FLAG_W,DELC13,DELC13_FLAG_W,DELC14,DELC14_FLAG_W,C14ERR,NEON,NEON_FLAG_W,NEONER,DOC,DOC_FLAG_W,CTDRAW,TRITER,THETA,FUCO,FUCO_FLAG_W,RHAM,RHAM_FLAG_W,ARABA,ARABA_FLAG_W,GALA,GALA_FLAG_W,GLUC,GLUC_FLAG_W,MAN,MAN_FLAG_W,DCNS,DCNS_FLAG_W,BRDU,BRDU_FLAG_W,CDOM325,CDOM325_FLAG_W,CDOM340,CDOM340_FLAG_W,CDOM380,CDOM380_FLAG_W,CDOM412,CDOM412_FLAG_W,CDOMSL,CDOMSL_FLAG_W,CDOMSN,CDOMSN_FLAG_W,HELIER,DELHER
,,,,,,,,,,,METERS,DBAR,ITS-90,PSS-78,,PSS-78,,UMOL/KG,,UMOL/KG,,UMOL/KG,,UMOL/KG,,UMOL/KG,,UMOL/KG,,PMOL/KG,,PMOL/KG,,PMOL/KG,,UMOL/KG,,UMOL/KG,,TU,,NMOL/KG,,PERCNT,,/MILLE,,/MILLE,,/MILLE,NMOL/KG,,NMOL/KG,UMOL/KG,,DBAR,TU,DEG C,NMOL/KG,,NMOL/KG,,NMOL/KG,,NMOL/KG,,NMOL/KG,,NMOL/KG,,NMOL/KG,,PMOL/L/H,,1/M,,1/M,,1/M,,1/M,,1/NM,,1/NM,,NMOL/KG,PERCNT
33RR20050106,       P16S,      50,          1,         36,         36,2,20050124,       0658,   -40.5000,  -149.9998,       5473,     2.2,  17.1741,  34.4040,2,  34.4041,2,    245.0,2,   245.3,2,    0.00,2,    0.68,2,    0.02,2,    0.25,2,   2.665,2,   1.552,2,   0.203,2,  2037.0,6,  2278.5,6,-999.000,9,-999.0000,9, -999.00,9, -999.00,9,  -999.0,9,  -999.0,-999.000,9,-999.000,-999.0000,9,     2.2,-999.000,  17.1737,     -999.0,9,     -999.0,9,     -999.0,9,     -999.0,9,     -999.0,9,     -999.0,9,     -999.0,9, -999.00,9,-999.0000,9,-999.0000,9,-999.0000,9,-999.0000,9,-999.0000,9,-999.0000,9,-999.0000, -999.00
33RR20050106,       P16S,      50,          1,         35,         35,2,20050124,       0658,   -40.5000,  -149.9998,       5473,    36.8,  16.7378,  34.3830,2,  34.3839,2,    248.4,2,   249.8,2,    0.00,2,    0.89,2,    0.02,2,    0.26,2,   2.749,2,   1.628,2,   0.252,2,  2037.5,2,  2275.5,2,-999.000,9,-999.0000,9, -999.00,9, -999.00,9,  -999.0,9,  -999.0,-999.000,9,-999.000,-999.0000,9,    36.8,-999.000,  16.7318,     -999.0,9,     -999.0,9,     -999.0,9,     -999.0,9,     -999.0,9,     -999.0,9,     -999.0,9, -999.00,9,-999.0000,9,-999.0000,9,-999.0000,9,-999.0000,9,-999.0000,9,-999.0000,9,-999.0000, -999.00
33RR20050106,       P16S,      50,          1,         34,         34,2,20050124,       0658,   -40.5000,  -149.9998,       5473,    71.6,  12.2674,  34.4015,2,  34.3998,2,    272.1,2,   269.8,2,    0.13,2,    2.86,2,    0.07,2,    0.39,2,   3.363,2,   1.968,2,   0.317,2,  2058.0,2,  2277.0,2,-999.000,9,-999.0000,9, -999.00,9, -999.00,9,  -999.0,9,  -999.0,-999.000,9,-999.000,-999.0000,9,    71.6,-999.000,  12.2580,     -999.0,9,     -999.0,9,     -999.0,9,     -999.0,9,     -999.0,9,     -999.0,9,     -999.0,9, -999.00,9,-999.0000,9,-999.0000,9,-999.0000,9,-999.0000,9,-999.0000,9,-999.0000,9,-999.0000, -999.00
33RR20050106,       P16S,      50,          1,         33,         33,2,20050124,       0658,   -40.5000,  -149.9998,       5473,   122.3,  11.3220,  34.3973,2,  34.3988,2,    266.3,2,   268.9,2,    0.52,2,    4.56,2,    0.11,2,    0.51,2,   3.566,2,   2.027,2,   0.336,2,  2071.1,2,  2277.9,2,-999.000,9,-999.0000,9, -999.00,9, -999.00,9,  -999.0,9,  -999.0,-999.000,9,-999.000,-999.0000,9,   122.3,-999.000,  11.3068,     -999.0,9,     -999.0,9,     -999.0,9,     -999.0,9,     -999.0,9,     -999.0,9,     -999.0,9, -999.00,9,-999.0000,9,-999.0000,9,-999.0000,9,-999.0000,9,-999.0000,9,-999.0000,9,-999.0000, -999.00
33RR20050106,       P16S,      50,          1,         32,         32,2,20050124,       0658,   -40.5000,  -149.9998,       5473,   171.8,   9.7636,  34.4754,2,  34.4697,2,    242.0,2,   243.5,2,    1.51,2,   12.18,2,    0.14,2,    0.92,2,   3.705,2,   2.051,2,   0.321,2,  2104.9,2,  2278.4,2,-999.000,9,-999.0000,9, -999.00,9, -999.00,9,  -999.0,9,  -999.0,-999.000,9,-999.000,-999.0000,9,   171.8,-999.000,   9.7441,     -999.0,9,     -999.0,9,     -999.0,9,     -999.0,9,     -999.0,9,     -999.0,9,     -999.0,9, -999.00,9,-999.0000,9,-999.0000,9,-999.0000,9,-999.0000,9,-999.0000,9,-999.0000,9,-999.0000, -999.00
33RR20050106,       P16S,      50,          1,         31,         31,2,20050124,       0658,   -40.5000,  -149.9998,       5473,   222.0,   8.5387,  34.4826,2,  34.4779,2,    241.2,2,   247.2,2,    2.90,2,   15.99,2,    0.01,2,    1.13,2,   3.897,2,   2.128,2,   0.306,2,  2121.7,2,  2280.2,2,-999.000,9,-999.0000,9, -999.00,9, -999.00,9,  -999.0,9,  -999.0,-999.000,9,-999.000,-999.0000,9,   222.0,-999.000,   8.5155,     -999.0,9,     -999.0,9,     -999.0,9,     -999.0,9,     -999.0,9,     -999.0,9,     -999.0,9, -999.00,9,-999.0000,9,-999.0000,9,-999.0000,9,-999.0000,9,-999.0000,9,-999.0000,9,-999.0000, -999.00
33RR20050106,       P16S,      50,          1,         30,         30,2,20050124,       0658,   -40.5000,  -149.9998,       5473,   272.7,   8.1290,  34.4818,2,  34.4828,2,    243.9,2,   247.2,2,    3.89,2,   17.60,2,    0.00,2,    1.22,2,-999.000,9,-999.000,9,-999.000,9,  2127.9,2,  2281.5,2,-999.000,9,-999.0000,9, -999.00,9, -999.00,9,  -999.0,9,  -999.0,-999.000,9,-999.000,-999.0000,9,   272.7,-999.000,   8.1012,     -999.0,9,     -999.0,9,     -999.0,9,     -999.0,9,     -999.0,9,     -999.0,9,     -999.0,9, -999.00,9,-999.0000,9,-999.0000,9,-999.0000,9,-999.0000,9,-999.0000,9,-999.0000,9,-999.0000, -999.00
33RR20050106,       P16S,      50,          1,         29,         29,2,20050124,       0658,   -40.5000,  -149.9998,       5473,   323.1,   7.7796,  34.4544,2,  34.4541,2,    247.7,2,   251.1,2,    4.48,2,   18.62,2,    0.00,2,    1.29,2,   4.105,2,   2.146,2,   0.306,2,  2129.3,2,  2280.9,2,-999.000,9,-999.0000,9, -999.00,9, -999.00,9,  -999.0,9,  -999.0,-999.000,9,-999.000,-999.0000,9,   323.1,-999.000,   7.7474,     -999.0,9,     -999.0,9,     -999.0,9,     -999.0,9,     -999.0,9,     -999.0,9,     -999.0,9, -999.00,9,-999.0000,9,-999.0000,9,-999.0000,9,-999.0000,9,-999.0000,9,-999.0000,9,-999.0000, -999.00
33RR20050106,       P16S,      50,          1,         28,         28,2,20050124,       0658,   -40.5000,  -149.9998,       5473,   378.4,   7.5625,  34.4344,2,  34.4337,2,    249.8,2,   251.4,2,    5.08,2,   19.37,2,    0.00,2,    1.34,2,-999.000,9,-999.000,9,-999.000,9,  2131.0,2,  2280.5,2,-999.000,9,-999.0000,9, -999.00,9, -999.00,9,  -999.0,9,  -999.0,-999.000,9,-999.000,-999.0000,9,   378.4,-999.000,   7.5253,     -999.0,9,     -999.0,9,     -999.0,9,     -999.0,9,     -999.0,9,     -999.0,9,     -999.0,9, -999.00,9,-999.0000,9,-999.0000,9,-999.0000,9,-999.0000,9,-999.0000,9,-999.0000,9,-999.0000, -999.00
33RR20050106,       P16S,      50,          1,         27,         27,2,20050124,       0658,   -40.5000,  -149.9998,       5473,   428.5,   7.3961,  34.4187,2,  34.4178,2,    249.4,2,   250.3,2,    5.47,2,   20.07,2,    0.00,2,    1.38,2,   3.957,2,   2.090,2,   0.325,2,  2133.5,2,  2279.4,2,-999.000,9,-999.0000,9, -999.00,9, -999.00,9,  -999.0,9,  -999.0,-999.000,9,-999.000,-999.0000,9,   428.5,-999.000,   7.3544,     -999.0,9,     -999.0,9,     -999.0,9,     -999.0,9,     -999.0,9,     -999.0,9,     -999.0,9, -999.00,9,-999.0000,9,-999.0000,9,-999.0000,9,-999.0000,9,-999.0000,9,-999.0000,9,-999.0000, -999.00
33RR20050106,       P16S,      50,          1,         26,         26,2,20050124,       0658,   -40.5000,  -149.9998,       5473,   478.9,   7.2351,  34.4048,2,  34.4043,2,    248.3,2,   249.3,2,    5.86,2,   20.66,2,    0.00,2,    1.42,2,-999.000,9,-999.000,9,-999.000,9,  2135.2,2,  2279.0,2,-999.000,9,-999.0000,9, -999.00,9, -999.00,9,  -999.0,9,  -999.0,-999.000,9,-999.000,-999.0000,9,   478.9,-999.000,   7.1889,     -999.0,9,     -999.0,9,     -999.0,9,     -999.0,9,     -999.0,9,     -999.0,9,     -999.0,9, -999.00,9,-999.0000,9,-999.0000,9,-999.0000,9,-999.0000,9,-999.0000,9,-999.0000,9,-999.0000, -999.00
33RR20050106,       P16S,      50,          1,         25,         25,2,20050124,       0658,   -40.5000,  -149.9998,       5473,   529.4,   7.0555,  34.3904,2,  34.3913,2,    247.6,2,   249.2,2,    6.46,2,   21.25,2,    0.00,2,    1.46,2,   3.735,2,   1.941,2,   0.274,2,  2137.9,2,  2278.4,2,-999.000,9,-999.0000,9, -999.00,9, -999.00,9,  -999.0,9,  -999.0,-999.000,9,-999.000,-999.0000,9,   529.4,-999.000,   7.0050,     -999.0,9,     -999.0,9,     -999.0,9,     -999.0,9,     -999.0,9,     -999.0,9,     -999.0,9, -999.00,9,-999.0000,9,-999.0000,9,-999.0000,9,-999.0000,9,-999.0000,9,-999.0000,9,-999.0000, -999.00
33RR20050106,       P16S,      50,          1,         24,         24,2,20050124,       0658,   -40.5000,  -149.9998,       5473,   649.4,   6.7027,  34.3642,2,  34.3632,2,    248.0,2,   246.7,2,    7.85,2,   22.43,2,    0.00,2,    1.54,2,   3.432,2,   1.673,2,   0.215,2,  2140.5,2,  2278.8,2,-999.000,9,-999.0000,9, -999.00,9, -999.00,9,  -999.0,9,  -999.0,-999.000,9,-999.000,-999.0000,9,   649.4,-999.000,   6.6420,     -999.0,9,     -999.0,9,     -999.0,9,     -999.0,9,     -999.0,9,     -999.0,9,     -999.0,9, -999.00,9,-999.0000,9,-999.0000,9,-999.0000,9,-999.0000,9,-999.0000,9,-999.0000,9,-999.0000, -999.00
33RR20050106,       P16S,      50,          1,         23,         23,2,20050124,       0658,   -40.5000,  -149.9998,       5473,   750.2,   6.2924,  34.3380,2,  34.3387,2,    239.4,2,   237.5,2,   10.44,2,   24.15,2,    0.00,2,    1.64,2,   2.766,2,   1.410,2,   0.160,2,  2147.5,2,  2280.6,2,-999.000,9,-999.0000,9, -999.00,9, -999.00,9,  -999.0,9,  -999.0,-999.000,9,-999.000,-999.0000,9,   750.2,-999.000,   6.2241,     -999.0,9,     -999.0,9,     -999.0,9,     -999.0,9,     -999.0,9,     -999.0,9,     -999.0,9, -999.00,9,-999.0000,9,-999.0000,9,-999.0000,9,-999.0000,9,-999.0000,9,-999.0000,9,-999.0000, -999.00
33RR20050106,       P16S,      50,          1,         22,         22,2,20050124,       0658,   -40.5000,  -149.9998,       5473,   851.3,   5.8037,  34.3228,2,  34.3226,2,    226.0,2,   225.0,2,   14.85,2,   26.36,2,    0.00,2,    1.80,2,   2.165,2,   1.096,2,   0.124,2,  2160.8,2,  2283.7,2,-999.000,9,-999.0000,9, -999.00,9, -999.00,9,  -999.0,9,  -999.0,-999.000,9,-999.000,-999.0000,9,   851.3,-999.000,   5.7287,     -999.0,9,     -999.0,9,     -999.0,9,     -999.0,9,     -999.0,9,     -999.0,9,     -999.0,9, -999.00,9,-999.0000,9,-999.0000,9,-999.0000,9,-999.0000,9,-999.0000,9,-999.0000,9,-999.0000, -999.00
33RR20050106,       P16S,      50,          1,         21,         21,2,20050124,       0658,   -40.5000,  -149.9998,       5473,   952.5,   5.2651,  34.3233,2,  34.3230,2,    213.5,2,   212.9,2,   21.06,2,   28.36,2,    0.00,2,    1.95,2,   1.610,2,   0.814,2,   0.110,2,  2174.2,2,  2287.7,2,-999.000,9,-999.0000,9, -999.00,9, -999.00,9,  -999.0,9,  -999.0,-999.000,9,-999.000,-999.0000,9,   952.5,-999.000,   5.1844,     -999.0,9,     -999.0,9,     -999.0,9,     -999.0,9,     -999.0,9,     -999.0,9,     -999.0,9, -999.00,9,-999.0000,9,-999.0000,9,-999.0000,9,-999.0000,9,-999.0000,9,-999.0000,9,-999.0000, -999.00
33RR20050106,       P16S,      50,          1,         20,         20,2,20050124,       0658,   -40.5000,  -149.9998,       5473,  1052.7,   4.6712,  34.3296,2,  34.3293,2,    204.2,2,   204.8,2,   28.10,2,   30.26,2,    0.00,2,    2.07,2,   1.038,2,   0.520,2,   0.061,2,  2188.0,2,  2293.1,2,-999.000,9,-999.0000,9, -999.00,9, -999.00,9,  -999.0,9,  -999.0,-999.000,9,-999.000,-999.0000,9,  1052.7,-999.000,   4.5860,     -999.0,9,     -999.0,9,     -999.0,9,     -999.0,9,     -999.0,9,     -999.0,9,     -999.0,9, -999.00,9,-999.0000,9,-999.0000,9,-999.0000,9,-999.0000,9,-999.0000,9,-999.0000,9,-999.0000, -999.00
33RR20050106,       P16S,      50,          1,         19,         19,2,20050124,       0658,   -40.5000,  -149.9998,       5473,  1154.3,   4.1049,  34.3460,2,  34.3454,2,    196.8,2,   196.8,2,   36.17,2,   31.72,2,    0.00,2,    2.18,2,   0.733,2,   0.359,2,   0.045,2,  2201.7,2,  2299.5,2,-999.000,9,-999.0000,9, -999.00,9, -999.00,9,  -999.0,9,  -999.0,-999.000,9,-999.000,-999.0000,9,  1154.3,-999.000,   4.0156,     -999.0,9,     -999.0,9,     -999.0,9,     -999.0,9,     -999.0,9,     -999.0,9,     -999.0,9, -999.00,9,-999.0000,9,-999.0000,9,-999.0000,9,-999.0000,9,-999.0000,9,-999.0000,9,-999.0000, -999.00
33RR20050106,       P16S,      50,          1,         18,         18,2,20050124,       0658,   -40.5000,  -149.9998,       5473,  1255.1,   3.6800,  34.3748,2,  34.3756,2,    189.2,2,   189.6,2,   44.67,2,   32.87,2,    0.00,2,    2.27,2,-999.000,9,-999.000,9,-999.000,9,  2214.9,2,  2307.2,2,-999.000,9,-999.0000,9, -999.00,9, -999.00,9,  -999.0,9,  -999.0,-999.000,9,-999.000,-999.0000,9,  1255.1,-999.000,   3.5860,     -999.0,9,     -999.0,9,     -999.0,9,     -999.0,9,     -999.0,9,     -999.0,9,     -999.0,9, -999.00,9,-999.0000,9,-999.0000,9,-999.0000,9,-999.0000,9,-999.0000,9,-999.0000,9,-999.0000, -999.00
33RR20050106,       P16S,      50,          1,         17,         17,2,20050124,       0658,   -40.5000,  -149.9998,       5473,  1356.4,   3.3323,  34.4166,2,  34.4172,2,    180.8,2,   181.7,2,   53.59,2,   33.68,2,    0.00,2,    2.34,2,   0.310,2,   0.153,2,   0.023,2,  2228.2,2,  2316.8,2,-999.000,9,-999.0000,9, -999.00,9, -999.00,9,  -999.0,9,  -999.0,-999.000,9,-999.000,-999.0000,9,  1356.4,-999.000,   3.2332,     -999.0,9,     -999.0,9,     -999.0,9,     -999.0,9,     -999.0,9,     -999.0,9,     -999.0,9, -999.00,9,-999.0000,9,-999.0000,9,-999.0000,9,-999.0000,9,-999.0000,9,-999.0000,9,-999.0000, -999.00
33RR20050106,       P16S,      50,          1,         16,         16,2,20050124,       0658,   -40.5000,  -149.9998,       5473,  1558.1,   2.9036,  34.5153,2,  34.5151,2,    165.8,2,   166.6,2,   72.94,2,   34.50,2,    0.00,2,    2.41,2,   0.079,2,   0.040,2,   0.017,2,  2253.9,2,  2340.3,2,-999.000,9,-999.0000,9, -999.00,9, -999.00,9,  -999.0,9,  -999.0,-999.000,9,-999.000,-999.0000,9,  1558.1,-999.000,   2.7922,     -999.0,9,     -999.0,9,     -999.0,9,     -999.0,9,     -999.0,9,     -999.0,9,     -999.0,9, -999.00,9,-999.0000,9,-999.0000,9,-999.0000,9,-999.0000,9,-999.0000,9,-999.0000,9,-999.0000, -999.00
33RR20050106,       P16S,      50,          1,         15,         15,2,20050124,       0658,   -40.5000,  -149.9998,       5473,  1761.0,   2.6476,  34.5786,2,  34.5784,2,    157.0,2,   157.7,2,   89.90,2,   34.88,2,    0.00,2,    2.44,2,   0.020,2,   0.018,2,   0.002,2,  2273.5,2,  2359.6,2,-999.000,9,-999.0000,9, -999.00,9, -999.00,9,  -999.0,9,  -999.0,-999.000,9,-999.000,-999.0000,9,  1761.0,-999.000,   2.5222,     -999.0,9,     -999.0,9,     -999.0,9,     -999.0,9,     -999.0,9,     -999.0,9,     -999.0,9, -999.00,9,-999.0000,9,-999.0000,9,-999.0000,9,-999.0000,9,-999.0000,9,-999.0000,9,-999.0000, -999.00
33RR20050106,       P16S,      50,          1,         14,         14,2,20050124,       0658,   -40.5000,  -149.9998,       5473,  1963.8,   2.4478,  34.6105,2,  34.6110,2,    152.5,2,   153.2,2,  101.60,2,   35.20,2,    0.00,2,    2.46,2,   0.042,2,   0.027,3,   0.002,2,  2286.4,6,  2372.1,2,-999.000,9,-999.0000,9, -999.00,9, -999.00,9,  -999.0,9,  -999.0,-999.000,9,-999.000,-999.0000,9,  1963.8,-999.000,   2.3078,     -999.0,9,     -999.0,9,     -999.0,9,     -999.0,9,     -999.0,9,     -999.0,9,     -999.0,9, -999.00,9,-999.0000,9,-999.0000,9,-999.0000,9,-999.0000,9,-999.0000,9,-999.0000,9,-999.0000, -999.00
33RR20050106,       P16S,      50,          1,         13,         13,2,20050124,       0658,   -40.5000,  -149.9998,       5473,  2125.7,   2.3176,  34.6257,2,  34.6261,2,    150.8,2,   151.4,2,  108.15,2,   35.36,2,    0.00,2,    2.47,2,   0.001,2,   0.009,2,   0.002,2,  -999.0,9,  -999.0,9,-999.000,9,-999.0000,9, -999.00,9, -999.00,9,  -999.0,9,  -999.0,-999.000,9,-999.000,-999.0000,9,  2125.7,-999.000,   2.1654,     -999.0,9,     -999.0,9,     -999.0,9,     -999.0,9,     -999.0,9,     -999.0,9,     -999.0,9, -999.00,9,-999.0000,9,-999.0000,9,-999.0000,9,-999.0000,9,-999.0000,9,-999.0000,9,-999.0000, -999.00
33RR20050106,       P16S,      50,          1,         12,         12,2,20050124,       0658,   -40.5000,  -149.9998,       5473,  2380.2,   2.1592,  34.6428,2,  34.6434,2,    150.0,2,   150.4,2,  114.73,2,   35.41,2,    0.00,2,    2.48,2,  -0.002,2,   0.006,2,   0.002,2,  -999.0,9,  -999.0,9,-999.000,9,-999.0000,9, -999.00,9, -999.00,9,  -999.0,9,  -999.0,-999.000,9,-999.000,-999.0000,9,  2380.2,-999.000,   1.9869,     -999.0,9,     -999.0,9,     -999.0,9,     -999.0,9,     -999.0,9,     -999.0,9,     -999.0,9, -999.00,9,-999.0000,9,-999.0000,9,-999.0000,9,-999.0000,9,-999.0000,9,-999.0000,9,-999.0000, -999.00
33RR20050106,       P16S,      50,          1,         11,         11,2,20050124,       0658,   -40.5000,  -149.9998,       5473,  2633.3,   2.0355,  34.6557,2,  34.6563,2,    150.5,2,   151.1,2,  119.05,2,   35.52,2,    0.00,2,    2.48,2,   0.010,2,   0.013,2,   0.002,2,  -999.0,9,  -999.0,9,-999.000,9,-999.0000,9, -999.00,9, -999.00,9,  -999.0,9,  -999.0,-999.000,9,-999.000,-999.0000,9,  2633.3,-999.000,   1.8422,     -999.0,9,     -999.0,9,     -999.0,9,     -999.0,9,     -999.0,9,     -999.0,9,     -999.0,9, -999.00,9,-999.0000,9,-999.0000,9,-999.0000,9,-999.0000,9,-999.0000,9,-999.0000,9,-999.0000, -999.00
33RR20050106,       P16S,      50,          1,         10,         10,2,20050124,       0658,   -40.5000,  -149.9998,       5473,  2887.8,   1.9133,  34.6686,2,  34.6695,2,    153.4,2,   154.0,2,  121.94,2,   35.25,2,    0.00,2,    2.46,2,   0.051,3,   0.024,3,   0.002,2,  -999.0,9,  -999.0,9,-999.000,9,-999.0000,9, -999.00,9, -999.00,9,  -999.0,9,  -999.0,-999.000,9,-999.000,-999.0000,9,  2887.8,-999.000,   1.6983,     -999.0,9,     -999.0,9,     -999.0,9,     -999.0,9,     -999.0,9,     -999.0,9,     -999.0,9, -999.00,9,-999.0000,9,-999.0000,9,-999.0000,9,-999.0000,9,-999.0000,9,-999.0000,9,-999.0000, -999.00
33RR20050106,       P16S,      50,          1,          9,          9,2,20050124,       0658,   -40.5000,  -149.9998,       5473,  3141.6,   1.8120,  34.6858,2,  34.6866,2,    161.8,2,   163.3,2,  120.68,2,   34.47,2,    0.00,2,    2.41,2,   0.062,3,   0.041,3,   0.002,2,  -999.0,9,  -999.0,9,-999.000,9,-999.0000,9, -999.00,9, -999.00,9,  -999.0,9,  -999.0,-999.000,9,-999.000,-999.0000,9,  3141.6,-999.000,   1.5744,     -999.0,9,     -999.0,9,     -999.0,9,     -999.0,9,     -999.0,9,     -999.0,9,     -999.0,9, -999.00,9,-999.0000,9,-999.0000,9,-999.0000,9,-999.0000,9,-999.0000,9,-999.0000,9,-999.0000, -999.00
33RR20050106,       P16S,      50,          1,          8,          8,2,20050124,       0658,   -40.5000,  -149.9998,       5473,  3447.4,   1.6933,  34.7070,2,  34.7076,2,    178.5,2,   178.4,2,  112.24,2,   33.06,2,    0.00,2,    2.30,2,   0.033,3,   0.023,3,   0.002,2,  -999.0,9,  -999.0,9,-999.000,9,-999.0000,9, -999.00,9, -999.00,9,  -999.0,9,  -999.0,-999.000,9,-999.000,-999.0000,9,  3447.4,-999.000,   1.4275,     -999.0,9,     -999.0,9,     -999.0,9,     -999.0,9,     -999.0,9,     -999.0,9,     -999.0,9, -999.00,9,-999.0000,9,-999.0000,9,-999.0000,9,-999.0000,9,-999.0000,9,-999.0000,9,-999.0000, -999.00
33RR20050106,       P16S,      50,          1,          7,          7,2,20050124,       0658,   -40.5000,  -149.9998,       5473,  3753.8,   1.5144,  34.7194,2,  34.7188,2,    190.8,2,   191.9,2,  109.35,2,   32.18,2,    0.00,2,    2.22,2,   0.003,2,   0.009,2,   0.002,2,  -999.0,9,  -999.0,9,-999.000,9,-999.0000,9, -999.00,9, -999.00,9,  -999.0,9,  -999.0,-999.000,9,-999.000,-999.0000,9,  3753.8,-999.000,   1.2212,     -999.0,9,     -999.0,9,     -999.0,9,     -999.0,9,     -999.0,9,     -999.0,9,     -999.0,9, -999.00,9,-999.0000,9,-999.0000,9,-999.0000,9,-999.0000,9,-999.0000,9,-999.0000,9,-999.0000, -999.00