BOTTLE,20201109CCHSIOCBG
EXPOCODE,SECT_ID,STNNBR,CASTNO,SAMPNO,BTLNBR,BTLNBR_FLAG_W,DATE,TIME,LATITUDE,LONGITUDE,DEPTH,CTDPRS,CTDTMP,CTDSAL,CTDSAL_FLAG_W,SALNTY,SALNTY_FLAG_W,CTDOXY,CTDOXY_FLAG_W,OXYGEN,OXYGEN_FLAG_W,SILCAT,SILCAT_FLAG_W,NITRAT,NITRAT_FLAG_W,NITRIT,NITRIT_FLAG_W,PHSPHT,PHSPHT_FLAG_W,CFC-11,CFC-11_FLAG_W,CFC-12,CFC-12_FLAG_W,CFC113,CFC113_FLAG_W,TCARBN,TCARBN_FLAG_W,ALKALI,ALKALI_FLAG_W,TRITUM,TRITUM_FLAG_W,HELIUM,HELIUM_FLAG_W,DELHE3,DELHE3_FLAG_W,DELC13,DELC13_FLAG_W,DELC14,DELC14_FLAG_W,C14ERR,NEON,NEON_FLAG_W,NEONER,DOC,DOC_FLAG_W,CTDRAW,TRITER,THETA,FUCO,FUCO_FLAG_W,RHAM,RHAM_FLAG_W,ARABA,ARABA_FLAG_W,GALA,GALA_FLAG_W,GLUC,GLUC_FLAG_W,MAN,MAN_FLAG_W,DCNS,DCNS_FLAG_W,BRDU,BRDU_FLAG_W,CDOM325,CDOM325_FLAG_W,CDOM340,CDOM340_FLAG_W,CDOM380,CDOM380_FLAG_W,CDOM412,CDOM412_FLAG_W,CDOMSL,CDOMSL_FLAG_W,CDOMSN,CDOMSN_FLAG_W,HELIER,DELHER
,,,,,,,,,,,METERS,DBAR,ITS-90,PSS-78,,PSS-78,,UMOL/KG,,UMOL/KG,,UMOL/KG,,UMOL/KG,,UMOL/KG,,UMOL/KG,,PMOL/KG,,PMOL/KG,,PMOL/KG,,UMOL/KG,,UMOL/KG,,TU,,NMOL/KG,,PERCNT,,/MILLE,,/MILLE,,/MILLE,NMOL/KG,,NMOL/KG,UMOL/KG,,DBAR,TU,DEG C,NMOL/KG,,NMOL/KG,,NMOL/KG,,NMOL/KG,,NMOL/KG,,NMOL/KG,,NMOL/KG,,PMOL/L/H,,1/M,,1/M,,1/M,,1/M,,1/NM,,1/NM,,NMOL/KG,PERCNT
33RR20050106,       P16S,      67,          1,          6,          6,2,20050129,       1148,   -48.9995,  -149.9968,       5038,  3654.3,   1.3855,  34.7271,2,  34.7280,2,    199.1,2,   200.1,2,  107.41,2,   31.18,2,    0.00,2,    2.17,2,-999.000,9,-999.000,9,-999.000,9,  2259.6,2,  2359.7,2,-999.000,9,-999.0000,9, -999.00,9, -999.00,5,  -163.5,2,     3.0,-999.000,9,-999.000,  39.6310,2,  3654.3,-999.000,   1.1061,     -999.0,9,     -999.0,9,     -999.0,9,     -999.0,9,     -999.0,9,     -999.0,9,     -999.0,9, -999.00,9,   0.1210,2,   0.0870,2,   0.0500,2,   0.0360,2,   0.0132,2,   0.0147,2,-999.0000, -999.00
33RR20050106,       P16S,      67,          1,          5,          5,2,20050129,       1148,   -48.9995,  -149.9968,       5038,  3960.6,   1.1936,  34.7182,2,  34.7185,2,    200.7,2,   201.7,2,  114.75,2,   31.61,2,    0.00,2,    2.20,2,   0.022,2,   0.015,2,   0.007,2,  2264.6,2,  2365.4,2,-999.000,9,-999.0000,9, -999.00,9, -999.00,5,  -167.6,2,     2.6,-999.000,9,-999.000,-999.0000,9,  3960.6,-999.000,   0.8873,     -999.0,9,     -999.0,9,     -999.0,9,     -999.0,9,     -999.0,9,     -999.0,9,     -999.0,9, -999.00,9,-999.0000,9,-999.0000,9,-999.0000,9,-999.0000,9,-999.0000,9,-999.0000,9,-999.0000, -999.00
33RR20050106,       P16S,      67,          1,          4,          4,2,20050129,       1148,   -48.9995,  -149.9968,       5038,  4268.6,   1.1668,  34.7164,2,  34.7161,2,    201.6,2,   202.3,2,  116.99,2,   31.67,2,    0.00,2,    2.20,2,   0.029,2,   0.022,2,  -0.002,2,  2266.3,2,  2366.3,2,-999.000,9,-999.0000,9, -999.00,9, -999.00,5,  -170.5,2,     2.7,-999.000,9,-999.000,-999.0000,9,  4268.6,-999.000,   0.8278,     -999.0,9,     -999.0,9,     -999.0,9,     -999.0,9,     -999.0,9,     -999.0,9,     -999.0,9, -999.00,9,-999.0000,9,-999.0000,9,-999.0000,9,-999.0000,9,-999.0000,9,-999.0000,9,-999.0000, -999.00
33RR20050106,       P16S,      67,          1,          3,          3,2,20050129,       1148,   -48.9995,  -149.9968,       5038,  4625.9,   1.1800,  34.7156,2,  34.7141,2,    202.0,2,   202.5,2,  117.80,2,   31.77,2,    0.00,2,    2.20,2,   0.031,2,   0.022,2,  -0.002,2,  2267.4,2,  2368.4,2,-999.000,9,-999.0000,9, -999.00,9, -999.00,5,  -171.6,2,     2.4,-999.000,9,-999.000,  39.7611,2,  4625.9,-999.000,   0.8003,     -999.0,9,     -999.0,9,     -999.0,9,     -999.0,9,     -999.0,9,     -999.0,9,     -999.0,9, -999.00,9,   0.1180,2,   0.0840,2,   0.0480,2,   0.0350,2,   0.0134,2,   0.0150,2,-999.0000, -999.00
33RR20050106,       P16S,      67,          1,          2,          2,2,20050129,       1148,   -48.9995,  -149.9968,       5038,  4936.0,   1.1942,  34.7146,2,  34.7157,2,    202.4,2,   202.8,2,  118.40,2,   31.77,2,    0.00,2,    2.20,2,-999.000,9,-999.000,9,-999.000,9,  2266.3,2,  2368.0,2,-999.000,9,-999.0000,9, -999.00,9, -999.00,5,  -170.6,2,     3.0,-999.000,9,-999.000,-999.0000,9,  4936.0,-999.000,   0.7777,     -999.0,9,     -999.0,9,     -999.0,9,     -999.0,9,     -999.0,9,     -999.0,9,     -999.0,9, -999.00,9,-999.0000,9,-999.0000,9,-999.0000,9,-999.0000,9,-999.0000,9,-999.0000,9,-999.0000, -999.00
33RR20050106,       P16S,      67,          1,          1,          1,2,20050129,       1148,   -48.9995,  -149.9968,       5038,  5177.4,   1.2121,  34.7144,2,  34.7154,2,    202.4,2,   203.8,2,  118.60,2,   31.82,2,    0.00,2,    2.20,2,   0.034,2,   0.019,2,  -0.002,2,  2266.1,6,  2368.9,6,-999.000,9,-999.0000,9, -999.00,9, -999.00,5,  -168.1,6,     1.9,-999.000,9,-999.000,  40.6044,2,  5177.4,-999.000,   0.7658,     -999.0,9,     -999.0,9,     -999.0,9,     -999.0,9,     -999.0,9,     -999.0,9,     -999.0,9, -999.00,9,   0.1230,2,   0.0870,2,   0.0490,2,   0.0350,2,   0.0138,2,   0.0156,2,-999.0000, -999.00