BOTTLE,20201109CCHSIOCBG
EXPOCODE,SECT_ID,STNNBR,CASTNO,SAMPNO,BTLNBR,BTLNBR_FLAG_W,DATE,TIME,LATITUDE,LONGITUDE,DEPTH,CTDPRS,CTDTMP,CTDSAL,CTDSAL_FLAG_W,SALNTY,SALNTY_FLAG_W,CTDOXY,CTDOXY_FLAG_W,OXYGEN,OXYGEN_FLAG_W,SILCAT,SILCAT_FLAG_W,NITRAT,NITRAT_FLAG_W,NITRIT,NITRIT_FLAG_W,PHSPHT,PHSPHT_FLAG_W,CFC-11,CFC-11_FLAG_W,CFC-12,CFC-12_FLAG_W,CFC113,CFC113_FLAG_W,TCARBN,TCARBN_FLAG_W,ALKALI,ALKALI_FLAG_W,TRITUM,TRITUM_FLAG_W,HELIUM,HELIUM_FLAG_W,DELHE3,DELHE3_FLAG_W,DELC13,DELC13_FLAG_W,DELC14,DELC14_FLAG_W,C14ERR,NEON,NEON_FLAG_W,NEONER,DOC,DOC_FLAG_W,CTDRAW,TRITER,THETA,FUCO,FUCO_FLAG_W,RHAM,RHAM_FLAG_W,ARABA,ARABA_FLAG_W,GALA,GALA_FLAG_W,GLUC,GLUC_FLAG_W,MAN,MAN_FLAG_W,DCNS,DCNS_FLAG_W,BRDU,BRDU_FLAG_W,CDOM325,CDOM325_FLAG_W,CDOM340,CDOM340_FLAG_W,CDOM380,CDOM380_FLAG_W,CDOM412,CDOM412_FLAG_W,CDOMSL,CDOMSL_FLAG_W,CDOMSN,CDOMSN_FLAG_W,HELIER,DELHER
,,,,,,,,,,,METERS,DBAR,ITS-90,PSS-78,,PSS-78,,UMOL/KG,,UMOL/KG,,UMOL/KG,,UMOL/KG,,UMOL/KG,,UMOL/KG,,PMOL/KG,,PMOL/KG,,PMOL/KG,,UMOL/KG,,UMOL/KG,,TU,,NMOL/KG,,PERCNT,,/MILLE,,/MILLE,,/MILLE,NMOL/KG,,NMOL/KG,UMOL/KG,,DBAR,TU,DEG C,NMOL/KG,,NMOL/KG,,NMOL/KG,,NMOL/KG,,NMOL/KG,,NMOL/KG,,NMOL/KG,,PMOL/L/H,,1/M,,1/M,,1/M,,1/M,,1/NM,,1/NM,,NMOL/KG,PERCNT
33RR20050106,       P16S,      58,          1,         36,         36,2,20050126,       1445,   -44.5000,  -150.0000,       5181,     5.4,  14.6343,  34.2850,2,  34.2859,2,    257.3,2,   257.6,2,    0.00,2,    5.01,2,    0.07,2,    0.50,2,   2.804,2,   1.667,2,   0.254,2,  2052.7,6,  2274.3,6,-999.000,9,-999.0000,9, -999.00,9, -999.00,9,  -999.0,9,  -999.0,-999.000,9,-999.000,-999.0000,9,     5.4,-999.000,  14.6335,     -999.0,9,     -999.0,9,     -999.0,9,     -999.0,9,     -999.0,9,     -999.0,9,     -999.0,9, -999.00,9,-999.0000,9,-999.0000,9,-999.0000,9,-999.0000,9,-999.0000,9,-999.0000,9,-999.0000, -999.00
33RR20050106,       P16S,      58,          1,         35,         35,2,20050126,       1445,   -44.5000,  -150.0000,       5181,    51.7,  13.9746,  34.3192,2,  34.3265,2,    261.2,2,   262.0,2,    0.18,2,    5.59,2,    0.08,2,    0.54,2,   2.975,2,   1.746,2,   0.272,2,  2058.5,2,  2276.4,2,-999.000,9,-999.0000,9, -999.00,9, -999.00,9,  -999.0,9,  -999.0,-999.000,9,-999.000,-999.0000,9,    51.7,-999.000,  13.9672,     -999.0,9,     -999.0,9,     -999.0,9,     -999.0,9,     -999.0,9,     -999.0,9,     -999.0,9, -999.00,9,-999.0000,9,-999.0000,9,-999.0000,9,-999.0000,9,-999.0000,9,-999.0000,9,-999.0000, -999.00
33RR20050106,       P16S,      58,          1,         34,         34,2,20050126,       1445,   -44.5000,  -150.0000,       5181,   101.9,   9.1962,  34.4037,2,  34.4070,2,    267.7,2,   268.3,2,    1.79,2,   10.99,2,    0.41,2,    0.89,2,-999.000,9,-999.000,9,-999.000,9,  2101.2,2,  2279.2,2,-999.000,9,-999.0000,9, -999.00,9, -999.00,9,  -999.0,9,  -999.0,-999.000,9,-999.000,-999.0000,9,   101.9,-999.000,   9.1851,     -999.0,9,     -999.0,9,     -999.0,9,     -999.0,9,     -999.0,9,     -999.0,9,     -999.0,9, -999.00,9,-999.0000,9,-999.0000,9,-999.0000,9,-999.0000,9,-999.0000,9,-999.0000,9,-999.0000, -999.00
33RR20050106,       P16S,      58,          1,         33,         33,2,20050126,       1445,   -44.5000,  -150.0000,       5181,   152.3,   8.2867,  34.4400,2,  34.4386,2,    256.8,2,   257.4,2,    3.00,2,   15.70,2,    0.02,2,    1.13,2,   3.761,2,   2.139,2,   0.333,2,  2119.3,2,  2279.9,2,-999.000,9,-999.0000,9, -999.00,9, -999.00,9,  -999.0,9,  -999.0,-999.000,9,-999.000,-999.0000,9,   152.3,-999.000,   8.2711,     -999.0,9,     -999.0,9,     -999.0,9,     -999.0,9,     -999.0,9,     -999.0,9,     -999.0,9, -999.00,9,-999.0000,9,-999.0000,9,-999.0000,9,-999.0000,9,-999.0000,9,-999.0000,9,-999.0000, -999.00
33RR20050106,       P16S,      58,          1,         32,         32,2,20050126,       1445,   -44.5000,  -150.0000,       5181,   202.6,   7.9305,  34.4497,2,  34.4498,2,    252.6,2,   254.6,2,    4.02,2,   17.42,2,    0.01,2,    1.22,2,-999.000,9,-999.000,9,-999.000,9,  2127.0,2,  2281.2,2,-999.000,9,-999.0000,9, -999.00,9, -999.00,9,  -999.0,9,  -999.0,-999.000,9,-999.000,-999.0000,9,   202.6,-999.000,   7.9103,     -999.0,9,     -999.0,9,     -999.0,9,     -999.0,9,     -999.0,9,     -999.0,9,     -999.0,9, -999.00,9,-999.0000,9,-999.0000,9,-999.0000,9,-999.0000,9,-999.0000,9,-999.0000,9,-999.0000, -999.00
33RR20050106,       P16S,      58,          1,         31,         31,2,20050126,       1445,   -44.5000,  -150.0000,       5181,   257.9,   7.7601,  34.4519,2,  34.4511,2,    253.8,2,   258.1,2,    4.63,2,   17.84,2,    0.01,2,    1.25,2,   3.754,6,   2.128,6,   0.327,6,  2128.6,2,  2281.4,2,-999.000,9,-999.0000,9, -999.00,9, -999.00,9,  -999.0,9,  -999.0,-999.000,9,-999.000,-999.0000,9,   257.9,-999.000,   7.7346,     -999.0,9,     -999.0,9,     -999.0,9,     -999.0,9,     -999.0,9,     -999.0,9,     -999.0,9, -999.00,9,-999.0000,9,-999.0000,9,-999.0000,9,-999.0000,9,-999.0000,9,-999.0000,9,-999.0000, -999.00
33RR20050106,       P16S,      58,          1,         30,         30,2,20050126,       1445,   -44.5000,  -150.0000,       5181,   307.9,   7.6027,  34.4357,2,  34.4366,2,    256.0,2,   259.5,2,    4.82,2,   18.38,2,    0.01,2,    1.28,2,-999.000,9,-999.000,9,-999.000,9,  2130.8,2,  2281.0,2,-999.000,9,-999.0000,9, -999.00,9, -999.00,9,  -999.0,9,  -999.0,-999.000,9,-999.000,-999.0000,9,   307.9,-999.000,   7.5725,     -999.0,9,     -999.0,9,     -999.0,9,     -999.0,9,     -999.0,9,     -999.0,9,     -999.0,9, -999.00,9,-999.0000,9,-999.0000,9,-999.0000,9,-999.0000,9,-999.0000,9,-999.0000,9,-999.0000, -999.00
33RR20050106,       P16S,      58,          1,         29,         29,2,20050126,       1445,   -44.5000,  -150.0000,       5181,   358.4,   7.4444,  34.4195,2,  34.4199,2,    256.4,2,   257.8,2,    5.23,2,   19.07,2,    0.01,2,    1.33,2,   3.729,2,   2.154,2,   0.339,2,  2131.7,2,  2281.4,2,-999.000,9,-999.0000,9, -999.00,9, -999.00,9,  -999.0,9,  -999.0,-999.000,9,-999.000,-999.0000,9,   358.4,-999.000,   7.4095,     -999.0,9,     -999.0,9,     -999.0,9,     -999.0,9,     -999.0,9,     -999.0,9,     -999.0,9, -999.00,9,-999.0000,9,-999.0000,9,-999.0000,9,-999.0000,9,-999.0000,9,-999.0000,9,-999.0000, -999.00
33RR20050106,       P16S,      58,          1,         28,         28,2,20050126,       1445,   -44.5000,  -150.0000,       5181,   408.6,   7.2566,  34.3998,2,  34.3989,2,    255.0,2,   255.9,2,    5.83,2,   19.87,2,    0.01,2,    1.38,2,-999.000,9,-999.000,9,-999.000,9,  2134.5,2,  2279.8,2,-999.000,9,-999.0000,9, -999.00,9, -999.00,9,  -999.0,9,  -999.0,-999.000,9,-999.000,-999.0000,9,   408.6,-999.000,   7.2173,     -999.0,9,     -999.0,9,     -999.0,9,     -999.0,9,     -999.0,9,     -999.0,9,     -999.0,9, -999.00,9,-999.0000,9,-999.0000,9,-999.0000,9,-999.0000,9,-999.0000,9,-999.0000,9,-999.0000, -999.00
33RR20050106,       P16S,      58,          1,         27,         27,2,20050126,       1445,   -44.5000,  -150.0000,       5181,   459.0,   7.1214,  34.3875,2,  34.3875,2,    253.4,2,   255.9,2,    6.23,2,   20.30,2,    0.00,2,    1.41,2,   3.652,2,   2.070,2,   0.316,2,  2135.2,2,  2280.0,2,-999.000,9,-999.0000,9, -999.00,9, -999.00,9,  -999.0,9,  -999.0,-999.000,9,-999.000,-999.0000,9,   459.0,-999.000,   7.0776,     -999.0,9,     -999.0,9,     -999.0,9,     -999.0,9,     -999.0,9,     -999.0,9,     -999.0,9, -999.00,9,-999.0000,9,-999.0000,9,-999.0000,9,-999.0000,9,-999.0000,9,-999.0000,9,-999.0000, -999.00
33RR20050106,       P16S,      58,          1,         26,         26,2,20050126,       1445,   -44.5000,  -150.0000,       5181,   509.2,   6.9787,  34.3760,2,  34.3756,2,    253.9,2,   254.4,2,    6.84,2,   20.90,2,    0.00,2,    1.45,2,-999.000,9,-999.000,9,-999.000,9,  2137.0,2,  2279.5,2,-999.000,9,-999.0000,9, -999.00,9, -999.00,9,  -999.0,9,  -999.0,-999.000,9,-999.000,-999.0000,9,   509.2,-999.000,   6.9305,     -999.0,9,     -999.0,9,     -999.0,9,     -999.0,9,     -999.0,9,     -999.0,9,     -999.0,9, -999.00,9,-999.0000,9,-999.0000,9,-999.0000,9,-999.0000,9,-999.0000,9,-999.0000,9,-999.0000, -999.00
33RR20050106,       P16S,      58,          1,         25,         25,2,20050126,       1445,   -44.5000,  -150.0000,       5181,   610.0,   6.7054,  34.3549,2,  34.3557,2,    251.8,2,   252.7,2,    7.86,2,   21.81,2,    0.00,2,    1.51,2,   3.413,2,   1.885,2,   0.268,2,  2139.9,2,  2280.6,2,-999.000,9,-999.0000,9, -999.00,9, -999.00,9,  -999.0,9,  -999.0,-999.000,9,-999.000,-999.0000,9,   610.0,-999.000,   6.6485,     -999.0,9,     -999.0,9,     -999.0,9,     -999.0,9,     -999.0,9,     -999.0,9,     -999.0,9, -999.00,9,-999.0000,9,-999.0000,9,-999.0000,9,-999.0000,9,-999.0000,9,-999.0000,9,-999.0000, -999.00
33RR20050106,       P16S,      58,          1,         24,         24,2,20050126,       1445,   -44.5000,  -150.0000,       5181,   710.6,   6.2770,  34.3239,2,  34.3249,2,    246.4,2,   245.6,2,   10.29,2,   23.53,2,    0.00,2,    1.62,2,-999.000,9,-999.000,9,-999.000,9,  2146.0,2,  2280.7,2,-999.000,9,-999.0000,9, -999.00,9, -999.00,9,  -999.0,9,  -999.0,-999.000,9,-999.000,-999.0000,9,   710.6,-999.000,   6.2126,     -999.0,9,     -999.0,9,     -999.0,9,     -999.0,9,     -999.0,9,     -999.0,9,     -999.0,9, -999.00,9,-999.0000,9,-999.0000,9,-999.0000,9,-999.0000,9,-999.0000,9,-999.0000,9,-999.0000, -999.00
33RR20050106,       P16S,      58,          1,         23,         23,2,20050126,       1445,   -44.5000,  -150.0000,       5181,   811.4,   5.9170,  34.3215,2,  34.3220,2,    231.0,2,   229.6,2,   14.36,2,   25.58,2,    0.00,2,    1.75,2,   2.481,2,   1.345,2,   0.153,2,  2159.3,2,  2283.6,2,-999.000,9,-999.0000,9, -999.00,9, -999.00,9,  -999.0,9,  -999.0,-999.000,9,-999.000,-999.0000,9,   811.4,-999.000,   5.8451,     -999.0,9,     -999.0,9,     -999.0,9,     -999.0,9,     -999.0,9,     -999.0,9,     -999.0,9, -999.00,9,-999.0000,9,-999.0000,9,-999.0000,9,-999.0000,9,-999.0000,9,-999.0000,9,-999.0000, -999.00
33RR20050106,       P16S,      58,          1,         22,         22,2,20050126,       1445,   -44.5000,  -150.0000,       5181,   912.1,   5.4125,  34.3216,2,  34.3220,2,    217.1,2,   217.6,2,   20.29,2,   27.63,2,    0.00,2,    1.90,2,-999.000,9,-999.000,9,-999.000,9,  2173.1,2,  2287.7,2,-999.000,9,-999.0000,9, -999.00,9, -999.00,9,  -999.0,9,  -999.0,-999.000,9,-999.000,-999.0000,9,   912.1,-999.000,   5.3345,     -999.0,9,     -999.0,9,     -999.0,9,     -999.0,9,     -999.0,9,     -999.0,9,     -999.0,9, -999.00,9,-999.0000,9,-999.0000,9,-999.0000,9,-999.0000,9,-999.0000,9,-999.0000,9,-999.0000, -999.00
33RR20050106,       P16S,      58,          1,         21,         21,2,20050126,       1445,   -44.5000,  -150.0000,       5181,  1013.0,   4.8623,  34.3269,2,  34.3269,2,    209.7,2,   209.7,2,   26.41,2,   29.31,2,    0.00,2,    2.02,2,   1.702,2,   0.920,2,   0.102,2,  2186.2,2,  2292.4,2,-999.000,9,-999.0000,9, -999.00,9, -999.00,9,  -999.0,9,  -999.0,-999.000,9,-999.000,-999.0000,9,  1013.0,-999.000,   4.7792,     -999.0,9,     -999.0,9,     -999.0,9,     -999.0,9,     -999.0,9,     -999.0,9,     -999.0,9, -999.00,9,-999.0000,9,-999.0000,9,-999.0000,9,-999.0000,9,-999.0000,9,-999.0000,9,-999.0000, -999.00
33RR20050106,       P16S,      58,          1,         20,         20,2,20050126,       1445,   -44.5000,  -150.0000,       5181,  1114.2,   4.2670,  34.3354,2,  34.3365,2,    203.8,2,   203.6,2,   34.00,2,   30.88,2,    0.00,2,    2.12,2,   1.413,2,   0.728,2,   0.083,2,  2198.0,2,  2298.1,2,-999.000,9,-999.0000,9, -999.00,9, -999.00,9,  -999.0,9,  -999.0,-999.000,9,-999.000,-999.0000,9,  1114.2,-999.000,   4.1798,     -999.0,9,     -999.0,9,     -999.0,9,     -999.0,9,     -999.0,9,     -999.0,9,     -999.0,9, -999.00,9,-999.0000,9,-999.0000,9,-999.0000,9,-999.0000,9,-999.0000,9,-999.0000,9,-999.0000, -999.00
33RR20050106,       P16S,      58,          1,         19,         19,2,20050126,       1445,   -44.5000,  -150.0000,       5181,  1215.2,   3.7592,  34.3570,2,  34.3565,2,    197.0,2,   197.9,2,   41.60,2,   32.08,2,    0.00,2,    2.21,2,   1.139,2,   0.580,2,   0.069,2,  2208.0,2,  2304.6,2,-999.000,9,-999.0000,9, -999.00,9, -999.00,9,  -999.0,9,  -999.0,-999.000,9,-999.000,-999.0000,9,  1215.2,-999.000,   3.6678,     -999.0,9,     -999.0,9,     -999.0,9,     -999.0,9,     -999.0,9,     -999.0,9,     -999.0,9, -999.00,9,-999.0000,9,-999.0000,9,-999.0000,9,-999.0000,9,-999.0000,9,-999.0000,9,-999.0000, -999.00
33RR20050106,       P16S,      58,          1,         18,         18,2,20050126,       1445,   -44.5000,  -150.0000,       5181,  1316.3,   3.4482,  34.3843,2,  34.3851,2,    190.8,2,   192.1,2,   48.60,2,   32.78,2,    0.00,2,    2.27,2,   0.995,2,   0.524,2,   0.054,2,  2221.2,6,  2310.8,2,-999.000,9,-999.0000,9, -999.00,9, -999.00,9,  -999.0,9,  -999.0,-999.000,9,-999.000,-999.0000,9,  1316.3,-999.000,   3.3513,     -999.0,9,     -999.0,9,     -999.0,9,     -999.0,9,     -999.0,9,     -999.0,9,     -999.0,9, -999.00,9,-999.0000,9,-999.0000,9,-999.0000,9,-999.0000,9,-999.0000,9,-999.0000,9,-999.0000, -999.00
33RR20050106,       P16S,      58,          1,         17,         17,2,20050126,       1445,   -44.5000,  -150.0000,       5181,  1416.9,   3.1367,  34.4302,2,  34.4297,2,    182.3,2,   183.7,2,   57.05,2,   33.54,2,    0.00,2,    2.32,2,   0.711,2,   0.372,2,   0.034,2,  -999.0,9,  -999.0,9,-999.000,9,-999.0000,9, -999.00,9, -999.00,9,  -999.0,9,  -999.0,-999.000,9,-999.000,-999.0000,9,  1416.9,-999.000,   3.0346,     -999.0,9,     -999.0,9,     -999.0,9,     -999.0,9,     -999.0,9,     -999.0,9,     -999.0,9, -999.00,9,-999.0000,9,-999.0000,9,-999.0000,9,-999.0000,9,-999.0000,9,-999.0000,9,-999.0000, -999.00
33RR20050106,       P16S,      58,          1,         16,         16,2,20050126,       1445,   -44.5000,  -150.0000,       5181,  1518.4,   2.9313,  34.4750,2,  34.4752,2,    176.0,2,   177.0,2,   64.50,2,   33.98,2,    0.00,2,    2.36,2,   0.485,2,   0.235,2,   0.023,2,  -999.0,9,  -999.0,9,-999.000,9,-999.0000,9, -999.00,9, -999.00,9,  -999.0,9,  -999.0,-999.000,9,-999.000,-999.0000,9,  1518.4,-999.000,   2.8230,     -999.0,9,     -999.0,9,     -999.0,9,     -999.0,9,     -999.0,9,     -999.0,9,     -999.0,9, -999.00,9,-999.0000,9,-999.0000,9,-999.0000,9,-999.0000,9,-999.0000,9,-999.0000,9,-999.0000, -999.00
33RR20050106,       P16S,      58,          1,         15,         15,2,20050126,       1445,   -44.5000,  -150.0000,       5181,  1619.3,   2.7871,  34.5212,2,  34.5214,2,    170.2,2,   170.6,2,   72.36,2,   34.19,2,    0.00,2,    2.38,2,   0.291,2,   0.149,2,   0.017,2,  -999.0,9,  -999.0,9,-999.000,9,-999.0000,9, -999.00,9, -999.00,9,  -999.0,9,  -999.0,-999.000,9,-999.000,-999.0000,9,  1619.3,-999.000,   2.6720,     -999.0,9,     -999.0,9,     -999.0,9,     -999.0,9,     -999.0,9,     -999.0,9,     -999.0,9, -999.00,9,-999.0000,9,-999.0000,9,-999.0000,9,-999.0000,9,-999.0000,9,-999.0000,9,-999.0000, -999.00
33RR20050106,       P16S,      58,          1,         14,         14,2,20050126,       1445,   -44.5000,  -150.0000,       5181,  1822.2,   2.5713,  34.5837,2,  34.5840,2,    163.5,2,   164.4,2,   84.61,2,   34.36,2,    0.00,2,    2.40,2,   0.115,2,   0.065,2,  -0.002,2,  -999.0,9,  -999.0,9,-999.000,9,-999.0000,9, -999.00,9, -999.00,9,  -999.0,9,  -999.0,-999.000,9,-999.000,-999.0000,9,  1822.2,-999.000,   2.4417,     -999.0,9,     -999.0,9,     -999.0,9,     -999.0,9,     -999.0,9,     -999.0,9,     -999.0,9, -999.00,9,-999.0000,9,-999.0000,9,-999.0000,9,-999.0000,9,-999.0000,9,-999.0000,9,-999.0000, -999.00
33RR20050106,       P16S,      58,          1,         13,         13,2,20050126,       1445,   -44.5000,  -150.0000,       5181,  2024.9,   2.3719,  34.6257,2,  34.6257,2,    158.3,2,   158.7,2,   96.68,2,   34.57,2,    0.00,2,    2.43,2,   0.038,2,   0.029,2,   0.002,2,  -999.0,9,  -999.0,9,-999.000,9,-999.0000,9, -999.00,9, -999.00,9,  -999.0,9,  -999.0,-999.000,9,-999.000,-999.0000,9,  2024.9,-999.000,   2.2277,     -999.0,9,     -999.0,9,     -999.0,9,     -999.0,9,     -999.0,9,     -999.0,9,     -999.0,9, -999.00,9,-999.0000,9,-999.0000,9,-999.0000,9,-999.0000,9,-999.0000,9,-999.0000,9,-999.0000, -999.00
33RR20050106,       P16S,      58,          1,         12,         12,2,20050126,       1445,   -44.5000,  -150.0000,       5181,  2278.7,   2.1790,  34.6508,2,  34.6516,2,    155.8,2,   156.1,2,  106.89,2,   34.84,2,    0.00,2,    2.44,2,   0.011,2,   0.008,2,  -0.002,2,  -999.0,9,  -999.0,9,-999.000,9,-999.0000,9, -999.00,9, -999.00,9,  -999.0,9,  -999.0,-999.000,9,-999.000,-999.0000,9,  2278.7,-999.000,   2.0155,     -999.0,9,     -999.0,9,     -999.0,9,     -999.0,9,     -999.0,9,     -999.0,9,     -999.0,9, -999.00,9,-999.0000,9,-999.0000,9,-999.0000,9,-999.0000,9,-999.0000,9,-999.0000,9,-999.0000, -999.00
33RR20050106,       P16S,      58,          1,         11,         11,2,20050126,       1445,   -44.5000,  -150.0000,       5181,  2532.5,   2.0247,  34.6639,2,  34.6642,2,    155.0,2,   155.3,2,  115.67,2,   34.94,2,    0.00,2,    2.46,2,   0.124,3,   0.077,3,   0.012,3,  -999.0,9,  -999.0,9,-999.000,9,-999.0000,9, -999.00,9, -999.00,9,  -999.0,9,  -999.0,-999.000,9,-999.000,-999.0000,9,  2532.5,-999.000,   1.8409,     -999.0,9,     -999.0,9,     -999.0,9,     -999.0,9,     -999.0,9,     -999.0,9,     -999.0,9, -999.00,9,-999.0000,9,-999.0000,9,-999.0000,9,-999.0000,9,-999.0000,9,-999.0000,9,-999.0000, -999.00
33RR20050106,       P16S,      58,          1,         10,         10,2,20050126,       1445,   -44.5000,  -150.0000,       5181,  2786.5,   1.9055,  34.6799,2,  34.6805,2,    159.5,2,   160.7,2,  116.71,2,   34.45,2,    0.00,2,    2.42,2,-999.000,9,-999.000,9,-999.000,9,  -999.0,9,  -999.0,9,-999.000,9,-999.0000,9, -999.00,9, -999.00,9,  -999.0,9,  -999.0,-999.000,9,-999.000,-999.0000,9,  2786.5,-999.000,   1.7003,     -999.0,9,     -999.0,9,     -999.0,9,     -999.0,9,     -999.0,9,     -999.0,9,     -999.0,9, -999.00,9,-999.0000,9,-999.0000,9,-999.0000,9,-999.0000,9,-999.0000,9,-999.0000,9,-999.0000, -999.00
33RR20050106,       P16S,      58,          1,          9,          9,2,20050126,       1445,   -44.5000,  -150.0000,       5181,  3040.6,   1.8086,  34.6940,2,  34.6946,2,    166.8,2,   168.3,2,  115.23,2,   33.79,2,    0.00,2,    2.36,2,   0.008,2,   0.017,3,  -0.002,2,  -999.0,9,  -999.0,9,-999.000,9,-999.0000,9, -999.00,9, -999.00,9,  -999.0,9,  -999.0,-999.000,9,-999.000,-999.0000,9,  3040.6,-999.000,   1.5809,     -999.0,9,     -999.0,9,     -999.0,9,     -999.0,9,     -999.0,9,     -999.0,9,     -999.0,9, -999.00,9,-999.0000,9,-999.0000,9,-999.0000,9,-999.0000,9,-999.0000,9,-999.0000,9,-999.0000, -999.00
33RR20050106,       P16S,      58,          1,          8,          8,2,20050126,       1445,   -44.5000,  -150.0000,       5181,  3346.4,   1.6747,  34.7088,2,  34.7096,2,    178.2,2,   179.5,2,  112.30,2,   32.92,2,    0.00,2,    2.29,2,-999.000,9,-999.000,9,-999.000,9,  -999.0,9,  -999.0,9,-999.000,9,-999.0000,9, -999.00,9, -999.00,9,  -999.0,9,  -999.0,-999.000,9,-999.000,-999.0000,9,  3346.4,-999.000,   1.4197,     -999.0,9,     -999.0,9,     -999.0,9,     -999.0,9,     -999.0,9,     -999.0,9,     -999.0,9, -999.00,9,-999.0000,9,-999.0000,9,-999.0000,9,-999.0000,9,-999.0000,9,-999.0000,9,-999.0000, -999.00
33RR20050106,       P16S,      58,          1,          7,          7,2,20050126,       1445,   -44.5000,  -150.0000,       5181,  3652.9,   1.5169,  34.7178,2,  34.7180,2,    189.2,2,   190.1,2,  110.83,2,   32.21,2,    0.00,2,    2.24,2,   0.016,2,   0.024,3,   0.002,2,  -999.0,9,  -999.0,9,-999.000,9,-999.0000,9, -999.00,9, -999.00,9,  -999.0,9,  -999.0,-999.000,9,-999.000,-999.0000,9,  3652.9,-999.000,   1.2343,     -999.0,9,     -999.0,9,     -999.0,9,     -999.0,9,     -999.0,9,     -999.0,9,     -999.0,9, -999.00,9,-999.0000,9,-999.0000,9,-999.0000,9,-999.0000,9,-999.0000,9,-999.0000,9,-999.0000, -999.00