BOTTLE,20201109CCHSIOCBG
EXPOCODE,SECT_ID,STNNBR,CASTNO,SAMPNO,BTLNBR,BTLNBR_FLAG_W,DATE,TIME,LATITUDE,LONGITUDE,DEPTH,CTDPRS,CTDTMP,CTDSAL,CTDSAL_FLAG_W,SALNTY,SALNTY_FLAG_W,CTDOXY,CTDOXY_FLAG_W,OXYGEN,OXYGEN_FLAG_W,SILCAT,SILCAT_FLAG_W,NITRAT,NITRAT_FLAG_W,NITRIT,NITRIT_FLAG_W,PHSPHT,PHSPHT_FLAG_W,CFC-11,CFC-11_FLAG_W,CFC-12,CFC-12_FLAG_W,CFC113,CFC113_FLAG_W,TCARBN,TCARBN_FLAG_W,ALKALI,ALKALI_FLAG_W,TRITUM,TRITUM_FLAG_W,HELIUM,HELIUM_FLAG_W,DELHE3,DELHE3_FLAG_W,DELC13,DELC13_FLAG_W,DELC14,DELC14_FLAG_W,C14ERR,NEON,NEON_FLAG_W,NEONER,DOC,DOC_FLAG_W,CTDRAW,TRITER,THETA,FUCO,FUCO_FLAG_W,RHAM,RHAM_FLAG_W,ARABA,ARABA_FLAG_W,GALA,GALA_FLAG_W,GLUC,GLUC_FLAG_W,MAN,MAN_FLAG_W,DCNS,DCNS_FLAG_W,BRDU,BRDU_FLAG_W,CDOM325,CDOM325_FLAG_W,CDOM340,CDOM340_FLAG_W,CDOM380,CDOM380_FLAG_W,CDOM412,CDOM412_FLAG_W,CDOMSL,CDOMSL_FLAG_W,CDOMSN,CDOMSN_FLAG_W,HELIER,DELHER
,,,,,,,,,,,METERS,DBAR,ITS-90,PSS-78,,PSS-78,,UMOL/KG,,UMOL/KG,,UMOL/KG,,UMOL/KG,,UMOL/KG,,UMOL/KG,,PMOL/KG,,PMOL/KG,,PMOL/KG,,UMOL/KG,,UMOL/KG,,TU,,NMOL/KG,,PERCNT,,/MILLE,,/MILLE,,/MILLE,NMOL/KG,,NMOL/KG,UMOL/KG,,DBAR,TU,DEG C,NMOL/KG,,NMOL/KG,,NMOL/KG,,NMOL/KG,,NMOL/KG,,NMOL/KG,,NMOL/KG,,PMOL/L/H,,1/M,,1/M,,1/M,,1/M,,1/NM,,1/NM,,NMOL/KG,PERCNT
33RR20050106,       P16S,      20,          1,         36,         36,2,20050115,       1538,   -25.5000,  -150.0000,       4636,     3.9,  26.6478,  35.5516,2,  35.5481,2,    205.0,2,   204.1,2,    0.49,2,    0.09,2,    0.00,2,    0.09,2,   1.773,2,   1.133,2,   0.164,2,  2009.0,2,  2333.7,6,-999.000,9,-999.0000,9, -999.00,9, -999.00,9,  -999.0,9,  -999.0,-999.000,9,-999.000,-999.0000,9,     3.9,-999.000,  26.6469,     -999.0,9,     -999.0,9,     -999.0,9,     -999.0,9,     -999.0,9,     -999.0,9,     -999.0,9, -999.00,9,-999.0000,9,-999.0000,9,-999.0000,9,-999.0000,9,-999.0000,9,-999.0000,9,-999.0000, -999.00
33RR20050106,       P16S,      20,          1,         35,         35,2,20050115,       1538,   -25.5000,  -150.0000,       4636,    41.0,  23.4036,  35.5435,2,  35.5363,2,    218.7,2,   218.6,2,    0.50,2,    0.09,2,    0.00,2,    0.08,2,   2.033,2,   1.271,2,   0.186,2,  2013.9,2,  2332.1,2,-999.000,9,-999.0000,9, -999.00,9, -999.00,9,  -999.0,9,  -999.0,-999.000,9,-999.000,-999.0000,9,    41.0,-999.000,  23.3951,     -999.0,9,     -999.0,9,     -999.0,9,     -999.0,9,     -999.0,9,     -999.0,9,     -999.0,9, -999.00,9,-999.0000,9,-999.0000,9,-999.0000,9,-999.0000,9,-999.0000,9,-999.0000,9,-999.0000, -999.00
33RR20050106,       P16S,      20,          1,         34,         34,2,20050115,       1538,   -25.5000,  -150.0000,       4636,    76.4,  20.6158,  35.5904,2,  35.5882,2,    228.4,2,   228.4,2,    0.51,2,    0.04,2,    0.00,2,    0.08,2,   2.278,2,   1.390,2,   0.181,2,  2030.0,2,  2333.7,2,-999.000,9,-999.0000,9, -999.00,9, -999.00,9,  -999.0,9,  -999.0,-999.000,9,-999.000,-999.0000,9,    76.4,-999.000,  20.6013,     -999.0,9,     -999.0,9,     -999.0,9,     -999.0,9,     -999.0,9,     -999.0,9,     -999.0,9, -999.00,9,-999.0000,9,-999.0000,9,-999.0000,9,-999.0000,9,-999.0000,9,-999.0000,9,-999.0000, -999.00
33RR20050106,       P16S,      20,          1,         33,         33,2,20050115,       1538,   -25.5000,  -150.0000,       4636,   126.4,  19.6202,  35.5605,2,  35.5581,2,    224.7,2,   223.7,2,    0.51,2,    0.05,2,    0.00,2,    0.09,2,   2.316,2,   1.431,2,   0.173,2,  2037.9,2,  2331.3,2,-999.000,9,-999.0000,9, -999.00,9, -999.00,9,  -999.0,9,  -999.0,-999.000,9,-999.000,-999.0000,9,   126.4,-999.000,  19.5971,     -999.0,9,     -999.0,9,     -999.0,9,     -999.0,9,     -999.0,9,     -999.0,9,     -999.0,9, -999.00,9,-999.0000,9,-999.0000,9,-999.0000,9,-999.0000,9,-999.0000,9,-999.0000,9,-999.0000, -999.00
33RR20050106,       P16S,      20,          1,         32,         32,2,20050115,       1538,   -25.5000,  -150.0000,       4636,   175.6,  18.4948,  35.5073,2,  35.5044,2,    214.5,2,   214.1,2,    0.52,2,    0.53,2,    0.05,2,    0.16,2,   2.398,6,   1.469,6,   0.130,6,  -999.0,9,  -999.0,9,-999.000,9,-999.0000,9, -999.00,9, -999.00,9,  -999.0,9,  -999.0,-999.000,9,-999.000,-999.0000,9,   175.6,-999.000,  18.4640,     -999.0,9,     -999.0,9,     -999.0,9,     -999.0,9,     -999.0,9,     -999.0,9,     -999.0,9, -999.00,9,-999.0000,9,-999.0000,9,-999.0000,9,-999.0000,9,-999.0000,9,-999.0000,9,-999.0000, -999.00
33RR20050106,       P16S,      20,          1,         31,         31,2,20050115,       1538,   -25.5000,  -150.0000,       4636,   225.8,  17.3571,  35.4280,2,  35.4288,2,    205.8,2,   205.3,2,    0.73,2,    2.29,2,    0.03,2,    0.28,2,   2.480,2,   1.477,2,   0.067,2,  2070.4,2,  2322.9,2,-999.000,9,-999.0000,9, -999.00,9, -999.00,9,  -999.0,9,  -999.0,-999.000,9,-999.000,-999.0000,9,   225.8,-999.000,  17.3192,     -999.0,9,     -999.0,9,     -999.0,9,     -999.0,9,     -999.0,9,     -999.0,9,     -999.0,9, -999.00,9,-999.0000,9,-999.0000,9,-999.0000,9,-999.0000,9,-999.0000,9,-999.0000,9,-999.0000, -999.00
33RR20050106,       P16S,      20,          1,         30,         30,2,20050115,       1538,   -25.5000,  -150.0000,       4636,   275.7,  16.1589,  35.3223,2,  35.3018,2,    202.8,2,   202.1,2,    1.14,2,    4.44,2,    0.01,2,    0.42,2,   2.547,2,   1.476,2,   0.030,2,  -999.0,9,  -999.0,9,-999.000,9,-999.0000,9, -999.00,9, -999.00,9,  -999.0,9,  -999.0,-999.000,9,-999.000,-999.0000,9,   275.7,-999.000,  16.1148,     -999.0,9,     -999.0,9,     -999.0,9,     -999.0,9,     -999.0,9,     -999.0,9,     -999.0,9, -999.00,9,-999.0000,9,-999.0000,9,-999.0000,9,-999.0000,9,-999.0000,9,-999.0000,9,-999.0000, -999.00
33RR20050106,       P16S,      20,          1,         29,         29,2,20050115,       1538,   -25.5000,  -150.0000,       4636,   325.9,  14.0898,  35.0891,2,  35.0882,2,    200.2,2,   199.6,2,    1.98,2,    7.95,2,    0.00,2,    0.65,2,   2.638,2,   1.394,2,   0.027,2,  2098.9,2,  2305.9,2,-999.000,9,-999.0000,9, -999.00,9, -999.00,9,  -999.0,9,  -999.0,-999.000,9,-999.000,-999.0000,9,   325.9,-999.000,  14.0422,     -999.0,9,     -999.0,9,     -999.0,9,     -999.0,9,     -999.0,9,     -999.0,9,     -999.0,9, -999.00,9,-999.0000,9,-999.0000,9,-999.0000,9,-999.0000,9,-999.0000,9,-999.0000,9,-999.0000, -999.00
33RR20050106,       P16S,      20,          1,         28,         28,2,20050115,       1538,   -25.5000,  -150.0000,       4636,   376.4,  12.8200,  34.9496,2,  34.9412,2,    199.7,2,   200.0,2,    2.59,2,   10.66,2,    0.00,2,    0.82,2,   2.571,2,   1.414,2,   0.036,2,  -999.0,9,  -999.0,9,-999.000,9,-999.0000,9, -999.00,9, -999.00,9,  -999.0,9,  -999.0,-999.000,9,-999.000,-999.0000,9,   376.4,-999.000,  12.7684,     -999.0,9,     -999.0,9,     -999.0,9,     -999.0,9,     -999.0,9,     -999.0,9,     -999.0,9, -999.00,9,-999.0000,9,-999.0000,9,-999.0000,9,-999.0000,9,-999.0000,9,-999.0000,9,-999.0000, -999.00
33RR20050106,       P16S,      20,          1,         27,         27,2,20050115,       1538,   -25.5000,  -150.0000,       4636,   426.3,  11.0437,  34.7478,2,  34.7463,2,    202.8,2,   203.8,2,    3.43,2,   14.14,2,    0.00,2,    1.05,2,   2.548,2,   1.343,2,   0.058,2,  2120.3,2,  2289.2,2,-999.000,9,-999.0000,9, -999.00,9, -999.00,9,  -999.0,9,  -999.0,-999.000,9,-999.000,-999.0000,9,   426.3,-999.000,  10.9906,     -999.0,9,     -999.0,9,     -999.0,9,     -999.0,9,     -999.0,9,     -999.0,9,     -999.0,9, -999.00,9,-999.0000,9,-999.0000,9,-999.0000,9,-999.0000,9,-999.0000,9,-999.0000,9,-999.0000, -999.00
33RR20050106,       P16S,      20,          1,         26,         26,2,20050115,       1538,   -25.5000,  -150.0000,       4636,   476.6,   9.4589,  34.5755,2,  34.5784,4,    207.7,2,   209.1,2,    4.66,2,   17.46,2,    0.00,2,    1.26,2,   2.443,2,   1.300,2,   0.055,2,  -999.0,9,  -999.0,9,-999.000,9,-999.0000,9, -999.00,9, -999.00,9,  -999.0,9,  -999.0,-999.000,9,-999.000,-999.0000,9,   476.6,-999.000,   9.4050,     -999.0,9,     -999.0,9,     -999.0,9,     -999.0,9,     -999.0,9,     -999.0,9,     -999.0,9, -999.00,9,-999.0000,9,-999.0000,9,-999.0000,9,-999.0000,9,-999.0000,9,-999.0000,9,-999.0000, -999.00
33RR20050106,       P16S,      20,          1,         25,         25,2,20050115,       1538,   -25.5000,  -150.0000,       4636,   526.6,   8.0703,  34.4459,2,  34.4459,2,    215.3,2,   219.3,2,    6.10,2,   20.47,2,    0.00,2,    1.45,2,   2.431,2,   1.261,2,   0.069,2,  2138.0,2,  2280.3,2,-999.000,9,-999.0000,9, -999.00,9, -999.00,9,  -999.0,9,  -999.0,-999.000,9,-999.000,-999.0000,9,   526.6,-999.000,   8.0160,     -999.0,9,     -999.0,9,     -999.0,9,     -999.0,9,     -999.0,9,     -999.0,9,     -999.0,9, -999.00,9,-999.0000,9,-999.0000,9,-999.0000,9,-999.0000,9,-999.0000,9,-999.0000,9,-999.0000, -999.00
33RR20050106,       P16S,      20,          1,         24,         24,2,20050115,       1538,   -25.5000,  -150.0000,       4636,   647.0,   6.4743,  34.3448,2,  34.3427,2,    228.0,2,   232.4,2,    9.18,2,   23.98,2,    0.00,2,    1.65,2,   1.862,2,   0.948,2,   0.050,2,  2147.0,2,  2279.0,2,-999.000,9,-999.0000,9, -999.00,9, -999.00,9,  -999.0,9,  -999.0,-999.000,9,-999.000,-999.0000,9,   647.0,-999.000,   6.4149,     -999.0,9,     -999.0,9,     -999.0,9,     -999.0,9,     -999.0,9,     -999.0,9,     -999.0,9, -999.00,9,-999.0000,9,-999.0000,9,-999.0000,9,-999.0000,9,-999.0000,9,-999.0000,9,-999.0000, -999.00
33RR20050106,       P16S,      20,          1,         23,         23,2,20050115,       1538,   -25.5000,  -150.0000,       4636,   747.6,   5.7617,  34.3122,2,  34.3102,2,    227.2,2,   225.5,2,   13.49,2,   26.36,2,    0.00,2,    1.82,2,   1.140,2,   0.586,2,   0.022,2,  -999.0,9,  -999.0,9,-999.000,9,-999.0000,9, -999.00,9, -999.00,9,  -999.0,9,  -999.0,-999.000,9,-999.000,-999.0000,9,   747.6,-999.000,   5.6967,     -999.0,9,     -999.0,9,     -999.0,9,     -999.0,9,     -999.0,9,     -999.0,9,     -999.0,9, -999.00,9,-999.0000,9,-999.0000,9,-999.0000,9,-999.0000,9,-999.0000,9,-999.0000,9,-999.0000, -999.00
33RR20050106,       P16S,      20,          1,         22,         22,2,20050115,       1538,   -25.5000,  -150.0000,       4636,   848.1,   5.2261,  34.3104,2,  34.3081,2,    212.7,2,   212.1,2,   19.88,2,   28.64,2,    0.00,2,    1.99,2,   0.679,2,   0.376,2,   0.001,2,  2172.9,2,  2284.9,2,-999.000,9,-999.0000,9, -999.00,9, -999.00,9,  -999.0,9,  -999.0,-999.000,9,-999.000,-999.0000,9,   848.1,-999.000,   5.1552,     -999.0,9,     -999.0,9,     -999.0,9,     -999.0,9,     -999.0,9,     -999.0,9,     -999.0,9, -999.00,9,-999.0000,9,-999.0000,9,-999.0000,9,-999.0000,9,-999.0000,9,-999.0000,9,-999.0000, -999.00
33RR20050106,       P16S,      20,          1,         21,         21,2,20050115,       1538,   -25.5000,  -150.0000,       4636,   948.5,   4.7183,  34.3366,2,  34.3358,2,    194.3,2,   192.2,2,   30.80,2,   31.20,2,    0.00,2,    2.17,2,   0.381,2,   0.211,2,   0.001,2,  -999.0,9,  -999.0,9,-999.000,9,-999.0000,9, -999.00,9, -999.00,9,  -999.0,9,  -999.0,-999.000,9,-999.000,-999.0000,9,   948.5,-999.000,   4.6419,     -999.0,9,     -999.0,9,     -999.0,9,     -999.0,9,     -999.0,9,     -999.0,9,     -999.0,9, -999.00,9,-999.0000,9,-999.0000,9,-999.0000,9,-999.0000,9,-999.0000,9,-999.0000,9,-999.0000, -999.00
33RR20050106,       P16S,      20,          1,         20,         20,2,20050115,       1538,   -25.5000,  -150.0000,       4636,  1048.8,   4.2391,  34.3772,2,  34.3753,2,    177.2,2,   176.7,2,   42.39,2,   33.11,2,    0.00,2,    2.31,2,   0.206,2,   0.117,2,   0.001,2,  2216.5,6,  2307.1,2,-999.000,9,-999.0000,9, -999.00,9, -999.00,9,  -999.0,9,  -999.0,-999.000,9,-999.000,-999.0000,9,  1048.8,-999.000,   4.1577,     -999.0,9,     -999.0,9,     -999.0,9,     -999.0,9,     -999.0,9,     -999.0,9,     -999.0,9, -999.00,9,-999.0000,9,-999.0000,9,-999.0000,9,-999.0000,9,-999.0000,9,-999.0000,9,-999.0000, -999.00
33RR20050106,       P16S,      20,          1,         19,         19,2,20050115,       1538,   -25.5000,  -150.0000,       4636,  1149.5,   3.7110,  34.4261,2,  34.4249,2,    167.6,2,   167.5,2,   56.31,2,   34.27,2,    0.00,2,    2.39,2,   0.125,2,   0.083,2,   0.001,2,  -999.0,9,  -999.0,9,-999.000,9,-999.0000,9, -999.00,9, -999.00,9,  -999.0,9,  -999.0,-999.000,9,-999.000,-999.0000,9,  1149.5,-999.000,   3.6254,     -999.0,9,     -999.0,9,     -999.0,9,     -999.0,9,     -999.0,9,     -999.0,9,     -999.0,9, -999.00,9,-999.0000,9,-999.0000,9,-999.0000,9,-999.0000,9,-999.0000,9,-999.0000,9,-999.0000, -999.00
33RR20050106,       P16S,      20,          1,         18,         18,2,20050115,       1538,   -25.5000,  -150.0000,       4636,  1250.4,   3.3122,  34.4681,2,  34.4666,2,    163.7,2,   164.7,2,   67.14,2,   34.60,2,    0.00,2,    2.42,2,   0.049,2,   0.043,2,   0.001,2,  -999.0,9,  -999.0,9,-999.000,9,-999.0000,9, -999.00,9, -999.00,9,  -999.0,9,  -999.0,-999.000,9,-999.000,-999.0000,9,  1250.4,-999.000,   3.2219,     -999.0,9,     -999.0,9,     -999.0,9,     -999.0,9,     -999.0,9,     -999.0,9,     -999.0,9, -999.00,9,-999.0000,9,-999.0000,9,-999.0000,9,-999.0000,9,-999.0000,9,-999.0000,9,-999.0000, -999.00
33RR20050106,       P16S,      20,          1,         17,         17,2,20050115,       1538,   -25.5000,  -150.0000,       4636,  1350.9,   2.9784,  34.5100,2,  34.5085,2,    160.8,2,   161.6,2,   78.41,2,   34.93,2,    0.00,2,    2.45,2,   0.030,2,   0.028,2,   0.001,2,  -999.0,9,  -999.0,9,-999.000,9,-999.0000,9, -999.00,9, -999.00,9,  -999.0,9,  -999.0,-999.000,9,-999.000,-999.0000,9,  1350.9,-999.000,   2.8832,     -999.0,9,     -999.0,9,     -999.0,9,     -999.0,9,     -999.0,9,     -999.0,9,     -999.0,9, -999.00,9,-999.0000,9,-999.0000,9,-999.0000,9,-999.0000,9,-999.0000,9,-999.0000,9,-999.0000, -999.00
33RR20050106,       P16S,      20,          1,         16,         16,2,20050115,       1538,   -25.5000,  -150.0000,       4636,  1451.7,   2.7331,  34.5445,2,  34.5419,2,    158.5,2,   158.9,2,   87.62,2,   35.16,2,    0.00,2,    2.47,2,-999.000,9,-999.000,9,-999.000,9,  -999.0,9,  -999.0,9,-999.000,9,-999.0000,9, -999.00,9, -999.00,9,  -999.0,9,  -999.0,-999.000,9,-999.000,-999.0000,9,  1451.7,-999.000,   2.6323,     -999.0,9,     -999.0,9,     -999.0,9,     -999.0,9,     -999.0,9,     -999.0,9,     -999.0,9, -999.00,9,-999.0000,9,-999.0000,9,-999.0000,9,-999.0000,9,-999.0000,9,-999.0000,9,-999.0000, -999.00
33RR20050106,       P16S,      20,          1,         15,         15,2,20050115,       1538,   -25.5000,  -150.0000,       4636,  1552.4,   2.5688,  34.5675,2,  34.5657,2,    156.5,2,   156.9,2,   94.54,2,   35.27,2,    0.00,2,    2.47,2,   0.012,2,   0.006,2,   0.001,2,  -999.0,9,  -999.0,9,-999.000,9,-999.0000,9, -999.00,9, -999.00,9,  -999.0,9,  -999.0,-999.000,9,-999.000,-999.0000,9,  1552.4,-999.000,   2.4617,     -999.0,9,     -999.0,9,     -999.0,9,     -999.0,9,     -999.0,9,     -999.0,9,     -999.0,9, -999.00,9,-999.0000,9,-999.0000,9,-999.0000,9,-999.0000,9,-999.0000,9,-999.0000,9,-999.0000, -999.00
33RR20050106,       P16S,      20,          1,         14,         14,2,20050115,       1538,   -25.5000,  -150.0000,       4636,  1653.3,   2.4239,  34.5878,2,  34.5866,2,    155.1,2,   155.6,2,  100.62,2,   35.38,2,    0.00,2,    2.49,2,-999.000,9,-999.000,9,-999.000,9,  -999.0,9,  -999.0,9,-999.000,9,-999.0000,9, -999.00,9, -999.00,9,  -999.0,9,  -999.0,-999.000,9,-999.000,-999.0000,9,  1653.3,-999.000,   2.3103,     -999.0,9,     -999.0,9,     -999.0,9,     -999.0,9,     -999.0,9,     -999.0,9,     -999.0,9, -999.00,9,-999.0000,9,-999.0000,9,-999.0000,9,-999.0000,9,-999.0000,9,-999.0000,9,-999.0000, -999.00
33RR20050106,       P16S,      20,          1,         13,         13,2,20050115,       1538,   -25.5000,  -150.0000,       4636,  1754.5,   2.3043,  34.6040,2,  34.6033,2,    154.0,2,   154.5,2,  106.08,2,   35.45,2,    0.00,2,    2.50,2,   0.019,3,   0.009,2,   0.001,2,  -999.0,9,  -999.0,9,-999.000,9,-999.0000,9, -999.00,9, -999.00,9,  -999.0,9,  -999.0,-999.000,9,-999.000,-999.0000,9,  1754.5,-999.000,   2.1840,     -999.0,9,     -999.0,9,     -999.0,9,     -999.0,9,     -999.0,9,     -999.0,9,     -999.0,9, -999.00,9,-999.0000,9,-999.0000,9,-999.0000,9,-999.0000,9,-999.0000,9,-999.0000,9,-999.0000, -999.00
33RR20050106,       P16S,      20,          1,         12,         12,2,20050115,       1538,   -25.5000,  -150.0000,       4636,  1956.1,   2.1386,  34.6269,2,  34.6261,2,    152.1,2,   152.6,2,  114.07,2,   35.68,2,    0.00,2,    2.51,2,-999.000,9,-999.000,9,-999.000,9,  -999.0,9,  -999.0,9,-999.000,9,-999.0000,9, -999.00,9, -999.00,9,  -999.0,9,  -999.0,-999.000,9,-999.000,-999.0000,9,  1956.1,-999.000,   2.0038,     -999.0,9,     -999.0,9,     -999.0,9,     -999.0,9,     -999.0,9,     -999.0,9,     -999.0,9, -999.00,9,-999.0000,9,-999.0000,9,-999.0000,9,-999.0000,9,-999.0000,9,-999.0000,9,-999.0000, -999.00
33RR20050106,       P16S,      20,          1,         11,         11,2,20050115,       1538,   -25.5000,  -150.0000,       4636,  2118.1,   2.0400,  34.6390,2,  34.6380,2,    151.5,2,   152.0,2,  118.47,2,   35.78,2,    0.00,2,    2.52,2,   0.007,2,   0.005,2,   0.001,2,  -999.0,9,  -999.0,9,-999.000,9,-999.0000,9, -999.00,9, -999.00,9,  -999.0,9,  -999.0,-999.000,9,-999.000,-999.0000,9,  2118.1,-999.000,   1.8929,     -999.0,9,     -999.0,9,     -999.0,9,     -999.0,9,     -999.0,9,     -999.0,9,     -999.0,9, -999.00,9,-999.0000,9,-999.0000,9,-999.0000,9,-999.0000,9,-999.0000,9,-999.0000,9,-999.0000, -999.00
33RR20050106,       P16S,      20,          1,         10,         10,2,20050115,       1538,   -25.5000,  -150.0000,       4636,  2370.8,   1.9008,  34.6545,2,  34.6527,2,    151.7,2,   152.5,2,  123.94,2,   35.73,2,    0.00,2,    2.53,2,-999.000,9,-999.000,9,-999.000,9,  -999.0,9,  -999.0,9,-999.000,9,-999.0000,9, -999.00,9, -999.00,9,  -999.0,9,  -999.0,-999.000,9,-999.000,-999.0000,9,  2370.8,-999.000,   1.7339,     -999.0,9,     -999.0,9,     -999.0,9,     -999.0,9,     -999.0,9,     -999.0,9,     -999.0,9, -999.00,9,-999.0000,9,-999.0000,9,-999.0000,9,-999.0000,9,-999.0000,9,-999.0000,9,-999.0000, -999.00
33RR20050106,       P16S,      20,          1,          9,          9,2,20050115,       1538,   -25.5000,  -150.0000,       4636,  2624.7,   1.8136,  34.6630,2,  34.6612,2,    154.3,2,   154.8,2,  126.04,2,   35.57,2,    0.00,2,    2.51,2,   0.005,2,   0.005,2,   0.001,2,  -999.0,9,  -999.0,9,-999.000,9,-999.0000,9, -999.00,9, -999.00,9,  -999.0,9,  -999.0,-999.000,9,-999.000,-999.0000,9,  2624.7,-999.000,   1.6254,     -999.0,9,     -999.0,9,     -999.0,9,     -999.0,9,     -999.0,9,     -999.0,9,     -999.0,9, -999.00,9,-999.0000,9,-999.0000,9,-999.0000,9,-999.0000,9,-999.0000,9,-999.0000,9,-999.0000, -999.00
33RR20050106,       P16S,      20,          1,          8,          8,2,20050115,       1538,   -25.5000,  -150.0000,       4636,  2877.9,   1.7207,  34.6712,2,  34.6701,2,    158.6,2,   158.7,2,  127.30,2,   35.36,2,    0.00,2,    2.49,2,-999.000,9,-999.000,9,-999.000,9,  -999.0,9,  -999.0,9,-999.000,9,-999.0000,9, -999.00,9, -999.00,9,  -999.0,9,  -999.0,-999.000,9,-999.000,-999.0000,9,  2877.9,-999.000,   1.5107,     -999.0,9,     -999.0,9,     -999.0,9,     -999.0,9,     -999.0,9,     -999.0,9,     -999.0,9, -999.00,9,-999.0000,9,-999.0000,9,-999.0000,9,-999.0000,9,-999.0000,9,-999.0000,9,-999.0000, -999.00
33RR20050106,       P16S,      20,          1,          7,          7,2,20050115,       1538,   -25.5000,  -150.0000,       4636,  3131.8,   1.6473,  34.6777,2,  34.6765,2,    162.7,2,   163.6,2,  127.08,2,   34.98,2,    0.00,2,    2.46,2,   0.034,3,   0.019,3,   0.001,2,  -999.0,9,  -999.0,9,-999.000,9,-999.0000,9, -999.00,9, -999.00,9,  -999.0,9,  -999.0,-999.000,9,-999.000,-999.0000,9,  3131.8,-999.000,   1.4144,     -999.0,9,     -999.0,9,     -999.0,9,     -999.0,9,     -999.0,9,     -999.0,9,     -999.0,9, -999.00,9,-999.0000,9,-999.0000,9,-999.0000,9,-999.0000,9,-999.0000,9,-999.0000,9,-999.0000, -999.00