BOTTLE,20201109CCHSIOCBG
EXPOCODE,SECT_ID,STNNBR,CASTNO,SAMPNO,BTLNBR,BTLNBR_FLAG_W,DATE,TIME,LATITUDE,LONGITUDE,DEPTH,CTDPRS,CTDTMP,CTDSAL,CTDSAL_FLAG_W,SALNTY,SALNTY_FLAG_W,CTDOXY,CTDOXY_FLAG_W,OXYGEN,OXYGEN_FLAG_W,SILCAT,SILCAT_FLAG_W,NITRAT,NITRAT_FLAG_W,NITRIT,NITRIT_FLAG_W,PHSPHT,PHSPHT_FLAG_W,CFC-11,CFC-11_FLAG_W,CFC-12,CFC-12_FLAG_W,CFC113,CFC113_FLAG_W,TCARBN,TCARBN_FLAG_W,ALKALI,ALKALI_FLAG_W,TRITUM,TRITUM_FLAG_W,HELIUM,HELIUM_FLAG_W,DELHE3,DELHE3_FLAG_W,DELC13,DELC13_FLAG_W,DELC14,DELC14_FLAG_W,C14ERR,NEON,NEON_FLAG_W,NEONER,DOC,DOC_FLAG_W,CTDRAW,TRITER,THETA,FUCO,FUCO_FLAG_W,RHAM,RHAM_FLAG_W,ARABA,ARABA_FLAG_W,GALA,GALA_FLAG_W,GLUC,GLUC_FLAG_W,MAN,MAN_FLAG_W,DCNS,DCNS_FLAG_W,BRDU,BRDU_FLAG_W,CDOM325,CDOM325_FLAG_W,CDOM340,CDOM340_FLAG_W,CDOM380,CDOM380_FLAG_W,CDOM412,CDOM412_FLAG_W,CDOMSL,CDOMSL_FLAG_W,CDOMSN,CDOMSN_FLAG_W,HELIER,DELHER
,,,,,,,,,,,METERS,DBAR,ITS-90,PSS-78,,PSS-78,,UMOL/KG,,UMOL/KG,,UMOL/KG,,UMOL/KG,,UMOL/KG,,UMOL/KG,,PMOL/KG,,PMOL/KG,,PMOL/KG,,UMOL/KG,,UMOL/KG,,TU,,NMOL/KG,,PERCNT,,/MILLE,,/MILLE,,/MILLE,NMOL/KG,,NMOL/KG,UMOL/KG,,DBAR,TU,DEG C,NMOL/KG,,NMOL/KG,,NMOL/KG,,NMOL/KG,,NMOL/KG,,NMOL/KG,,NMOL/KG,,PMOL/L/H,,1/M,,1/M,,1/M,,1/M,,1/NM,,1/NM,,NMOL/KG,PERCNT
33RR20050106,       P16S,      25,          3,         36,         36,2,20050117,       0123,   -28.0002,  -149.9992,       3500,     1.8,  26.5534,  35.5626,2,  35.5645,2,    205.8,2,   207.7,2,    0.41,2,    0.11,2,    0.00,2,    0.08,2,   1.870,2,   1.132,2,   0.164,2,  2021.6,6,  2332.8,6,   0.525,2,-999.0000,9, -999.00,9, -999.00,9,  -999.0,9,  -999.0,-999.000,9,-999.000,  65.5921,2,     1.8,   0.009,  26.5530,     -999.0,9,     -999.0,9,     -999.0,9,     -999.0,9,     -999.0,9,     -999.0,9,     -999.0,9, -999.00,9,   0.0100,3,   0.0020,3,  -0.0050,4,  -0.0050,4,-999.0000,9,-999.0000,9,-999.0000, -999.00
33RR20050106,       P16S,      25,          3,         35,         35,2,20050117,       0123,   -28.0002,  -149.9992,       3500,    29.7,  23.6524,  35.5054,2,  35.5060,2,    217.5,2,   216.9,2,    0.41,2,    0.11,2,    0.00,2,    0.09,2,   2.036,2,   1.198,2,   0.183,2,  2018.4,2,  2329.9,2,   0.519,2,-999.0000,9, -999.00,9, -999.00,9,  -999.0,9,  -999.0,-999.000,9,-999.000,  67.7426,2,    29.7,   0.010,  23.6462,     -999.0,9,     -999.0,9,     -999.0,9,     -999.0,9,     -999.0,9,     -999.0,9,     -999.0,9, -999.00,9,   0.0190,3,   0.0080,3,  -0.0040,4,  -0.0050,4,-999.0000,9,-999.0000,9,-999.0000, -999.00
33RR20050106,       P16S,      25,          3,         34,         34,2,20050117,       0123,   -28.0002,  -149.9992,       3500,    54.7,  21.4176,  35.5915,2,  35.5941,2,    224.5,2,   227.4,2,    0.41,2,    0.11,2,    0.00,2,    0.09,2,   2.239,2,   1.344,2,   0.194,2,  2025.8,2,  2334.0,2,   0.497,2,-999.0000,9, -999.00,9, -999.00,9,  -999.0,9,  -999.0,-999.000,9,-999.000,  66.7516,2,    54.7,   0.009,  21.4070,     -999.0,9,     -999.0,9,     -999.0,9,     -999.0,9,     -999.0,9,     -999.0,9,     -999.0,9, -999.00,9,   0.0240,3,   0.0080,3,  -0.0050,4,  -0.0050,4,-999.0000,9,-999.0000,9,-999.0000, -999.00
33RR20050106,       P16S,      25,          3,         33,         33,2,20050117,       0123,   -28.0002,  -149.9992,       3500,    79.7,  20.7098,  35.5940,2,  35.5945,2,    229.5,2,   228.8,2,    0.41,2,    0.10,2,    0.00,2,    0.08,2,   2.274,2,   1.362,2,   0.220,2,  2028.4,2,  2334.9,2,   0.505,2,   1.7050,2,   -1.45,2, -999.00,9,  -999.0,9,  -999.0,   6.924,2,   0.041,  63.7317,2,    79.7,   0.010,  20.6947,     -999.0,9,     -999.0,9,     -999.0,9,     -999.0,9,     -999.0,9,     -999.0,9,     -999.0,9, -999.00,9,   0.0290,2,   0.0130,3,  -0.0010,4,  -0.0040,4,   0.0444,2,   0.0443,2,   0.0030,    0.22
33RR20050106,       P16S,      25,          3,         32,         32,2,20050117,       0123,   -28.0002,  -149.9992,       3500,   104.6,  20.0341,  35.5722,2,  35.5713,2,    223.8,2,   221.1,2,    0.41,2,    0.10,2,    0.00,2,    0.10,2,   2.298,2,   1.380,2,   0.188,2,  2036.8,2,  2332.2,2,   0.516,2,   1.7000,2,   -1.42,2, -999.00,9,  -999.0,9,  -999.0,   6.831,2,   0.036,  61.8975,2,   104.6,   0.010,  20.0147,     -999.0,9,     -999.0,9,     -999.0,9,     -999.0,9,     -999.0,9,     -999.0,9,     -999.0,9, -999.00,9,   0.0570,2,   0.0340,2,   0.0090,2,   0.0030,2,   0.0343,2,   0.0340,2,   0.0030,    0.16
33RR20050106,       P16S,      25,          3,         31,         31,2,20050117,       0123,   -28.0002,  -149.9992,       3500,   154.8,  18.7416,  35.5131,2,  35.5086,2,    219.8,2,   217.3,2,    0.41,2,    0.32,2,    0.04,2,    0.14,2,   2.392,2,   1.454,2,   0.177,2,  2050.8,2,  2328.2,2,   0.494,2,   1.7000,2,   -1.23,2, -999.00,9,  -999.0,9,  -999.0,   6.963,2,   0.037,  57.3972,2,   154.8,   0.011,  18.7142,     -999.0,9,     -999.0,9,     -999.0,9,     -999.0,9,     -999.0,9,     -999.0,9,     -999.0,9, -999.00,9,   0.0620,2,   0.0390,2,   0.0130,2,   0.0080,2,   0.0306,2,   0.0305,2,   0.0040,    0.16
33RR20050106,       P16S,      25,          3,         30,         30,2,20050117,       0123,   -28.0002,  -149.9992,       3500,   204.4,  17.6506,  35.4516,2,  35.4541,2,    216.2,2,   216.8,2,    0.62,2,    1.02,2,    0.09,2,    0.19,2,   2.539,2,   1.455,2,   0.168,2,  2060.2,2,  2324.9,2,   0.454,2,-999.0000,9, -999.00,9, -999.00,9,  -999.0,9,  -999.0,-999.000,9,-999.000,  54.8412,2,   204.4,   0.009,  17.6159,     -999.0,9,     -999.0,9,     -999.0,9,     -999.0,9,     -999.0,9,     -999.0,9,     -999.0,9, -999.00,9,-999.0000,9,-999.0000,9,-999.0000,9,-999.0000,9,-999.0000,9,-999.0000,9,-999.0000, -999.00
33RR20050106,       P16S,      25,          3,         29,         29,2,20050117,       0123,   -28.0002,  -149.9992,       3500,   254.6,  16.8805,  35.4188,2,  35.4163,2,    219.4,2,   213.7,2,    0.62,2,    2.01,2,    0.08,2,    0.25,2,   2.593,2,   1.497,2,   0.151,2,  2068.0,2,  2322.4,2,   0.477,2,   3.6430,4,    1.09,3, -999.00,9,  -999.0,9,  -999.0,  12.684,4,   0.067,  49.1720,2,   254.6,   0.008,  16.8385,     -999.0,9,     -999.0,9,     -999.0,9,     -999.0,9,     -999.0,9,     -999.0,9,     -999.0,9, -999.00,9,-999.0000,9,-999.0000,9,-999.0000,9,-999.0000,9,-999.0000,9,-999.0000,9,   0.0070,    0.15
33RR20050106,       P16S,      25,          3,         28,         28,2,20050117,       0123,   -28.0002,  -149.9992,       3500,   304.8,  15.0136,  35.2189,2,-999.0000,9,    207.8,2,   203.2,2,    1.42,2,    5.67,2,    0.00,2,    0.50,2,   2.697,2,   1.486,2,   0.096,2,  2088.5,2,  2312.5,2,   0.427,2,   1.7410,2,   -0.43,2, -999.00,9,  -999.0,9,  -999.0,   7.171,4,   0.038,-999.0000,9,   304.8,   0.009,  14.9672,     -999.0,9,     -999.0,9,     -999.0,9,     -999.0,9,     -999.0,9,     -999.0,9,     -999.0,9, -999.00,9,-999.0000,9,-999.0000,9,-999.0000,9,-999.0000,9,-999.0000,9,-999.0000,9,   0.0030,    0.16
33RR20050106,       P16S,      25,          3,         27,         27,2,20050117,       0123,   -28.0002,  -149.9992,       3500,   354.8,  13.0249,  34.9611,2,-999.0000,9,    201.0,2,   200.5,2,    2.22,2,    9.95,2,    0.00,2,    0.78,2,   2.667,2,   1.413,2,   0.084,2,  2105.7,2,  2299.7,2,   0.314,2,-999.0000,9, -999.00,9, -999.00,9,  -999.0,9,  -999.0,-999.000,9,-999.000,  40.7319,2,   354.8,   0.007,  12.9758,     -999.0,9,     -999.0,9,     -999.0,9,     -999.0,9,     -999.0,9,     -999.0,9,     -999.0,9, -999.00,9,-999.0000,9,-999.0000,9,-999.0000,9,-999.0000,9,-999.0000,9,-999.0000,9,-999.0000, -999.00
33RR20050106,       P16S,      25,          3,         26,         26,2,20050117,       0123,   -28.0002,  -149.9992,       3500,   405.0,  11.5506,  34.7824,2,-999.0000,9,    203.1,2,   205.3,2,    2.82,2,   12.87,2,    0.00,2,    0.96,2,   2.753,2,   1.443,2,   0.093,2,  2114.9,2,  2291.9,2,   0.254,2,   1.7500,2,    0.07,2, -999.00,9,  -999.0,9,  -999.0,   7.386,4,   0.016,  43.0385,2,   405.0,   0.006,  11.4987,     -999.0,9,     -999.0,9,     -999.0,9,     -999.0,9,     -999.0,9,     -999.0,9,     -999.0,9, -999.00,9,-999.0000,9,-999.0000,9,-999.0000,9,-999.0000,9,-999.0000,9,-999.0000,9,   0.0020,    0.11
33RR20050106,       P16S,      25,          3,         25,         25,2,20050117,       0123,   -28.0002,  -149.9992,       3500,   455.2,  10.2118,  34.6486,2,-999.0000,9,    207.6,2,   209.7,2,    3.63,2,   15.52,2,    0.00,2,    1.13,2,   2.740,2,   1.414,2,   0.111,2,  2123.8,2,  2286.5,2,   0.209,2,   0.7830,4,   -2.63,3, -999.00,9,  -999.0,9,  -999.0,   3.732,4,   0.005,-999.0000,9,   455.2,   0.005,  10.1578,     -999.0,9,     -999.0,9,     -999.0,9,     -999.0,9,     -999.0,9,     -999.0,9,     -999.0,9, -999.00,9,-999.0000,9,-999.0000,9,-999.0000,9,-999.0000,9,-999.0000,9,-999.0000,9,   0.0020,    0.17
33RR20050106,       P16S,      25,          3,         24,         24,2,20050117,       0123,   -28.0002,  -149.9992,       3500,   505.2,   8.9283,  34.5275,2,  34.5277,2,    215.0,2,   218.0,2,    4.63,2,   18.23,2,    0.00,2,    1.30,2,   2.831,2,   1.374,2,   0.096,2,  2131.3,2,  2282.8,2,   0.204,2,   1.7590,2,    0.26,2, -999.00,9,  -999.0,9,  -999.0,   7.484,2,   0.011,  41.4504,2,   505.2,   0.006,   8.8730,     -999.0,9,     -999.0,9,     -999.0,9,     -999.0,9,     -999.0,9,     -999.0,9,     -999.0,9, -999.00,9,-999.0000,9,-999.0000,9,-999.0000,9,-999.0000,9,-999.0000,9,-999.0000,9,   0.0010,    0.19
33RR20050106,       P16S,      25,          3,         23,         23,2,20050117,       0123,   -28.0002,  -149.9992,       3500,   605.6,   7.1665,  34.3872,2,  34.3873,2,    229.2,2,   231.1,2,    7.05,2,   22.13,2,    0.00,2,    1.55,2,   2.453,2,   1.216,2,   0.126,2,  2140.8,2,  2278.6,2,   0.418,2,-999.0000,9, -999.00,9, -999.00,9,  -999.0,9,  -999.0,-999.000,9,-999.000,  40.8848,2,   605.6,   0.009,   7.1079,     -999.0,9,     -999.0,9,     -999.0,9,     -999.0,9,     -999.0,9,     -999.0,9,     -999.0,9, -999.00,9,-999.0000,9,-999.0000,9,-999.0000,9,-999.0000,9,-999.0000,9,-999.0000,9,-999.0000, -999.00
33RR20050106,       P16S,      25,          3,         22,         22,2,20050117,       0123,   -28.0002,  -149.9992,       3500,   705.9,   6.4437,  34.3454,2,  34.3439,2,    233.5,2,   234.6,2,    9.26,2,   23.90,2,    0.00,2,    1.65,2,   1.963,2,   0.951,2,   0.066,2,  2145.5,6,  2279.2,2,   0.118,2,   1.7860,2,    0.46,2, -999.00,9,  -999.0,9,  -999.0,   7.685,2,   0.016,  39.4510,2,   705.9,   0.006,   6.3788,     -999.0,9,     -999.0,9,     -999.0,9,     -999.0,9,     -999.0,9,     -999.0,9,     -999.0,9, -999.00,9,-999.0000,9,-999.0000,9,-999.0000,9,-999.0000,9,-999.0000,9,-999.0000,9,   0.0020,    0.11
33RR20050106,       P16S,      25,          3,         21,         21,2,20050117,       0123,   -28.0002,  -149.9992,       3500,   806.3,   5.7912,  34.3129,2,  34.3139,2,    229.1,2,   229.8,2,   12.69,2,   25.95,2,    0.00,2,    1.79,2,   1.335,2,   0.674,2,   0.041,2,  2153.9,2,  2282.1,2,   0.084,2,   1.7830,2,    0.97,2, -999.00,9,  -999.0,9,  -999.0,   7.714,2,   0.016,  38.0402,2,   806.3,   0.005,   5.7205,     -999.0,9,     -999.0,9,     -999.0,9,     -999.0,9,     -999.0,9,     -999.0,9,     -999.0,9, -999.00,9,-999.0000,9,-999.0000,9,-999.0000,9,-999.0000,9,-999.0000,9,-999.0000,9,   0.0020,    0.11
33RR20050106,       P16S,      25,          3,         20,         20,2,20050117,       0123,   -28.0002,  -149.9992,       3500,   906.8,   5.2167,  34.3100,2,  34.3090,2,    214.9,2,   215.6,2,   19.55,2,   28.37,2,    0.00,2,    1.97,2,   0.761,2,   0.393,2,   0.018,2,  2170.4,2,  2286.7,2,-999.000,9,   1.7770,2,    1.41,2, -999.00,9,  -999.0,9,  -999.0,   7.761,2,   0.015,  38.5715,2,   906.8,-999.000,   5.1405,     -999.0,9,     -999.0,9,     -999.0,9,     -999.0,9,     -999.0,9,     -999.0,9,     -999.0,9, -999.00,9,-999.0000,9,-999.0000,9,-999.0000,9,-999.0000,9,-999.0000,9,-999.0000,9,   0.0010,    0.13
33RR20050106,       P16S,      25,          3,         19,         19,2,20050117,       0123,   -28.0002,  -149.9992,       3500,  1007.4,   4.6596,  34.3279,2,  34.3269,2,    198.2,2,   197.7,2,   28.65,2,   30.85,2,    0.00,2,    2.14,2,   0.391,2,   0.210,2,   0.001,2,  2190.6,2,  2294.5,2,   0.054,2,-999.0000,9, -999.00,9, -999.00,9,  -999.0,9,  -999.0,-999.000,9,-999.000,  37.2730,2,  1007.4,   0.006,   4.5785,     -999.0,9,     -999.0,9,     -999.0,9,     -999.0,9,     -999.0,9,     -999.0,9,     -999.0,9, -999.00,9,-999.0000,9,-999.0000,9,-999.0000,9,-999.0000,9,-999.0000,9,-999.0000,9,-999.0000, -999.00
33RR20050106,       P16S,      25,          3,         18,         18,2,20050117,       0123,   -28.0002,  -149.9992,       3500,  1108.2,   4.2111,  34.3622,2,  34.3618,2,    183.0,2,   183.0,2,   39.41,2,   32.70,2,    0.00,2,    2.28,2,-999.000,9,-999.000,9,-999.000,9,  2210.0,2,  2304.8,6,-999.000,9,-999.0000,9, -999.00,9, -999.00,9,  -999.0,9,  -999.0,-999.000,9,-999.000,-999.0000,9,  1108.2,-999.000,   4.1248,     -999.0,9,     -999.0,9,     -999.0,9,     -999.0,9,     -999.0,9,     -999.0,9,     -999.0,9, -999.00,9,-999.0000,9,-999.0000,9,-999.0000,9,-999.0000,9,-999.0000,9,-999.0000,9,-999.0000, -999.00
33RR20050106,       P16S,      25,          3,         17,         17,2,20050117,       0123,   -28.0002,  -149.9992,       3500,  1208.8,   3.7599,  34.4067,2,  34.4057,2,    173.9,2,   174.0,2,   50.81,2,   33.79,2,    0.00,2,    2.36,2,   0.090,2,   0.049,2,   0.001,2,  2226.7,2,  2317.1,2,-999.000,9,   1.8050,2,    9.20,2, -999.00,9,  -999.0,9,  -999.0,   7.815,2,   0.016,  38.8801,2,  1208.8,-999.000,   3.6690,     -999.0,9,     -999.0,9,     -999.0,9,     -999.0,9,     -999.0,9,     -999.0,9,     -999.0,9, -999.00,9,-999.0000,9,-999.0000,9,-999.0000,9,-999.0000,9,-999.0000,9,-999.0000,9,   0.0020,    0.11
33RR20050106,       P16S,      25,          3,         16,         16,2,20050117,       0123,   -28.0002,  -149.9992,       3500,  1309.6,   3.3577,  34.4561,2,  34.4561,2,    166.8,2,   167.5,2,   63.06,2,   34.43,2,    0.00,2,    2.42,2,   0.068,2,   0.051,2,   0.001,2,  2243.1,2,  2330.3,2,-999.000,9,   1.8430,2,   12.69,2, -999.00,9,  -999.0,9,  -999.0,   7.915,2,   0.030,-999.0000,9,  1309.6,-999.000,   3.2621,     -999.0,9,     -999.0,9,     -999.0,9,     -999.0,9,     -999.0,9,     -999.0,9,     -999.0,9, -999.00,9,-999.0000,9,-999.0000,9,-999.0000,9,-999.0000,9,-999.0000,9,-999.0000,9,   0.0020,    0.12
33RR20050106,       P16S,      25,          3,         15,         15,2,20050117,       0123,   -28.0002,  -149.9992,       3500,  1410.4,   3.0797,  34.4945,2,  34.4947,2,    163.4,2,   163.6,2,   72.89,2,   34.76,2,    0.00,2,    2.45,2,   0.026,2,   0.020,2,   0.001,2,  2254.2,2,  2341.0,2,   0.067,2,   1.8520,2,   14.43,2, -999.00,9,  -999.0,9,  -999.0,   7.910,2,   0.030,  41.7353,3,  1410.4,   0.009,   2.9786,     -999.0,9,     -999.0,9,     -999.0,9,     -999.0,9,     -999.0,9,     -999.0,9,     -999.0,9, -999.00,9,-999.0000,9,-999.0000,9,-999.0000,9,-999.0000,9,-999.0000,9,-999.0000,9,   0.0020,    0.12
33RR20050106,       P16S,      25,          3,         14,         14,2,20050117,       0123,   -28.0002,  -149.9992,       3500,  1510.6,   2.8271,  34.5308,2,  34.5306,2,    159.7,2,   160.8,2,   81.70,2,   34.98,2,    0.00,2,    2.45,2,-999.000,9,-999.000,9,-999.000,9,  2262.9,2,  2350.4,2,-999.000,9,-999.0000,9, -999.00,9, -999.00,9,  -999.0,9,  -999.0,-999.000,9,-999.000,-999.0000,9,  1510.6,-999.000,   2.7205,     -999.0,9,     -999.0,9,     -999.0,9,     -999.0,9,     -999.0,9,     -999.0,9,     -999.0,9, -999.00,9,-999.0000,9,-999.0000,9,-999.0000,9,-999.0000,9,-999.0000,9,-999.0000,9,-999.0000, -999.00
33RR20050106,       P16S,      25,          3,         13,         13,2,20050117,       0123,   -28.0002,  -149.9992,       3500,  1611.7,   2.6036,  34.5652,2,  34.5649,2,    157.6,2,   157.8,2,   90.73,2,   35.19,2,    0.00,2,    2.47,2,   0.007,2,  -0.001,2,   0.001,2,  2275.1,2,  2361.9,2,   0.001,2,   1.8720,2,   16.97,2, -999.00,9,  -999.0,9,  -999.0,   7.967,2,   0.030,  36.4312,2,  1611.7,   0.005,   2.4913,     -999.0,9,     -999.0,9,     -999.0,9,     -999.0,9,     -999.0,9,     -999.0,9,     -999.0,9, -999.00,9,-999.0000,9,-999.0000,9,-999.0000,9,-999.0000,9,-999.0000,9,-999.0000,9,   0.0020,    0.12
33RR20050106,       P16S,      25,          3,         12,         12,2,20050117,       0123,   -28.0002,  -149.9992,       3500,  1712.6,   2.4509,  34.5913,2,  34.5900,2,    155.1,2,   155.5,2,   97.32,2,   35.30,2,    0.00,2,    2.48,2,   0.012,2,  -0.001,2,   0.001,2,  2283.0,2,  2368.7,2,-999.000,9,   3.8430,4,    5.60,3, -999.00,9,  -999.0,9,  -999.0,  14.738,4,   0.056,-999.0000,9,  1712.6,-999.000,   2.3321,     -999.0,9,     -999.0,9,     -999.0,9,     -999.0,9,     -999.0,9,     -999.0,9,     -999.0,9, -999.00,9,-999.0000,9,-999.0000,9,-999.0000,9,-999.0000,9,-999.0000,9,-999.0000,9,   0.0050,    0.11
33RR20050106,       P16S,      25,          3,         11,         11,2,20050117,       0123,   -28.0002,  -149.9992,       3500,  1814.0,   2.3688,  34.6054,2,  34.6052,2,    153.3,2,   153.8,2,  101.62,2,   35.42,2,    0.00,2,    2.50,2,   0.016,2,   0.006,2,   0.001,2,  2288.2,2,  2375.0,2,-999.000,9,   1.8400,2,   20.17,2, -999.00,9,  -999.0,9,  -999.0,   7.834,2,   0.030,  36.6468,2,  1814.0,-999.000,   2.2426,     -999.0,9,     -999.0,9,     -999.0,9,     -999.0,9,     -999.0,9,     -999.0,9,     -999.0,9, -999.00,9,-999.0000,9,-999.0000,9,-999.0000,9,-999.0000,9,-999.0000,9,-999.0000,9,   0.0020,    0.12
33RR20050106,       P16S,      25,          3,         10,         10,2,20050117,       0123,   -28.0002,  -149.9992,       3500,  1914.5,   2.2433,  34.6232,2,  34.6223,2,    151.3,2,   152.0,2,  108.43,2,   35.57,2,    0.00,2,    2.51,2,   0.136,4,   0.089,4,   0.027,4,  2295.5,2,  2381.8,2,   0.001,2,   0.7140,4,   18.49,3, -999.00,9,  -999.0,9,  -999.0,   3.641,4,   0.003,-999.0000,9,  1914.5,   0.005,   2.1104,     -999.0,9,     -999.0,9,     -999.0,9,     -999.0,9,     -999.0,9,     -999.0,9,     -999.0,9, -999.00,9,-999.0000,9,-999.0000,9,-999.0000,9,-999.0000,9,-999.0000,9,-999.0000,9,   0.0010,    0.32
33RR20050106,       P16S,      25,          3,          9,          9,2,20050117,       0123,   -28.0002,  -149.9992,       3500,  2015.4,   2.1647,  34.6330,2,  34.6327,2,    150.1,2,   150.1,2,  112.74,2,   35.68,2,    0.00,2,    2.52,2,   0.046,3,   0.035,3,   0.001,2,  2300.4,2,  2386.9,2,   0.043,2,   1.8860,2,   24.18,2, -999.00,9,  -999.0,9,  -999.0,   8.057,2,   0.020,  36.5143,2,  2015.4,   0.008,   2.0244,     -999.0,9,     -999.0,9,     -999.0,9,     -999.0,9,     -999.0,9,     -999.0,9,     -999.0,9, -999.00,9,-999.0000,9,-999.0000,9,-999.0000,9,-999.0000,9,-999.0000,9,-999.0000,9,   0.0010,    0.18
33RR20050106,       P16S,      25,          3,          8,          8,2,20050117,       0123,   -28.0002,  -149.9992,       3500,  2268.7,   1.9952,  34.6502,2,  34.6494,2,    147.6,2,   148.0,2,  121.81,2,   35.95,2,    0.00,2,    2.54,2,  -0.003,2,  -0.001,2,   0.001,2,  2310.0,2,  2395.9,2,-999.000,9,   1.8750,2,   24.66,2, -999.00,9,  -999.0,9,  -999.0,   8.091,2,   0.021,-999.0000,9,  2268.7,-999.000,   1.8357,     -999.0,9,     -999.0,9,     -999.0,9,     -999.0,9,     -999.0,9,     -999.0,9,     -999.0,9, -999.00,9,-999.0000,9,-999.0000,9,-999.0000,9,-999.0000,9,-999.0000,9,-999.0000,9,   0.0020,    0.17
33RR20050106,       P16S,      25,          3,          7,          7,2,20050117,       0123,   -28.0002,  -149.9992,       3500,  2521.8,   1.8412,  34.6628,2,  34.6611,2,    148.7,2,   149.3,2,  127.37,2,   35.95,2,    0.00,2,    2.54,2,   0.022,3,   0.021,3,   0.001,2,  2313.3,2,  2402.4,2,-999.000,9,   1.9060,2,   24.79,2, -999.00,9,  -999.0,9,  -999.0,   8.010,2,   0.012,  35.8716,2,  2521.8,-999.000,   1.6618,     -999.0,9,     -999.0,9,     -999.0,9,     -999.0,9,     -999.0,9,     -999.0,9,     -999.0,9, -999.00,9,-999.0000,9,-999.0000,9,-999.0000,9,-999.0000,9,-999.0000,9,-999.0000,9,   0.0020,    0.17