BOTTLE,20201109CCHSIOCBG
EXPOCODE,SECT_ID,STNNBR,CASTNO,SAMPNO,BTLNBR,BTLNBR_FLAG_W,DATE,TIME,LATITUDE,LONGITUDE,DEPTH,CTDPRS,CTDTMP,CTDSAL,CTDSAL_FLAG_W,SALNTY,SALNTY_FLAG_W,CTDOXY,CTDOXY_FLAG_W,OXYGEN,OXYGEN_FLAG_W,SILCAT,SILCAT_FLAG_W,NITRAT,NITRAT_FLAG_W,NITRIT,NITRIT_FLAG_W,PHSPHT,PHSPHT_FLAG_W,CFC-11,CFC-11_FLAG_W,CFC-12,CFC-12_FLAG_W,CFC113,CFC113_FLAG_W,TCARBN,TCARBN_FLAG_W,ALKALI,ALKALI_FLAG_W,TRITUM,TRITUM_FLAG_W,HELIUM,HELIUM_FLAG_W,DELHE3,DELHE3_FLAG_W,DELC13,DELC13_FLAG_W,DELC14,DELC14_FLAG_W,C14ERR,NEON,NEON_FLAG_W,NEONER,DOC,DOC_FLAG_W,CTDRAW,TRITER,THETA,FUCO,FUCO_FLAG_W,RHAM,RHAM_FLAG_W,ARABA,ARABA_FLAG_W,GALA,GALA_FLAG_W,GLUC,GLUC_FLAG_W,MAN,MAN_FLAG_W,DCNS,DCNS_FLAG_W,BRDU,BRDU_FLAG_W,CDOM325,CDOM325_FLAG_W,CDOM340,CDOM340_FLAG_W,CDOM380,CDOM380_FLAG_W,CDOM412,CDOM412_FLAG_W,CDOMSL,CDOMSL_FLAG_W,CDOMSN,CDOMSN_FLAG_W,HELIER,DELHER
,,,,,,,,,,,METERS,DBAR,ITS-90,PSS-78,,PSS-78,,UMOL/KG,,UMOL/KG,,UMOL/KG,,UMOL/KG,,UMOL/KG,,UMOL/KG,,PMOL/KG,,PMOL/KG,,PMOL/KG,,UMOL/KG,,UMOL/KG,,TU,,NMOL/KG,,PERCNT,,/MILLE,,/MILLE,,/MILLE,NMOL/KG,,NMOL/KG,UMOL/KG,,DBAR,TU,DEG C,NMOL/KG,,NMOL/KG,,NMOL/KG,,NMOL/KG,,NMOL/KG,,NMOL/KG,,NMOL/KG,,PMOL/L/H,,1/M,,1/M,,1/M,,1/M,,1/NM,,1/NM,,NMOL/KG,PERCNT
33RR20050106,       P16S,      38,          1,         36,         36,2,20050120,       1652,   -34.5000,  -150.0000,       5152,     4.6,  21.4254,  35.0364,2,  35.0608,2,    223.5,2,   223.4,2,    0.27,2,    0.05,2,    0.00,2,    0.14,2,   2.180,2,   1.385,2,   0.189,2,  2035.8,6,  2300.4,6,-999.000,9,-999.0000,9, -999.00,9, -999.00,9,  -999.0,9,  -999.0,-999.000,9,-999.000,-999.0000,9,     4.6,-999.000,  21.4245,     -999.0,9,     -999.0,9,     -999.0,9,     -999.0,9,     -999.0,9,     -999.0,9,     -999.0,9, -999.00,9,-999.0000,9,-999.0000,9,-999.0000,9,-999.0000,9,-999.0000,9,-999.0000,9,-999.0000, -999.00
33RR20050106,       P16S,      38,          1,         35,         35,2,20050120,       1652,   -34.5000,  -150.0000,       5152,    43.1,  18.1615,  35.1024,2,  35.1033,2,    247.3,2,   246.4,2,    0.28,2,    0.05,2,    0.00,2,    0.13,2,   2.642,2,   1.630,2,   0.223,2,  2044.2,2,  2303.9,2,-999.000,9,-999.0000,9, -999.00,9, -999.00,9,  -999.0,9,  -999.0,-999.000,9,-999.000,-999.0000,9,    43.1,-999.000,  18.1541,     -999.0,9,     -999.0,9,     -999.0,9,     -999.0,9,     -999.0,9,     -999.0,9,     -999.0,9, -999.00,9,-999.0000,9,-999.0000,9,-999.0000,9,-999.0000,9,-999.0000,9,-999.0000,9,-999.0000, -999.00
33RR20050106,       P16S,      38,          1,         34,         34,2,20050120,       1652,   -34.5000,  -150.0000,       5152,    78.2,  16.4221,  35.1769,2,  35.1847,2,    254.5,2,   252.6,2,    0.29,2,    0.00,2,    0.00,2,    0.13,2,   2.742,2,   1.658,2,   0.225,2,  2044.6,2,  2309.0,2,-999.000,9,-999.0000,9, -999.00,9, -999.00,9,  -999.0,9,  -999.0,-999.000,9,-999.000,-999.0000,9,    78.2,-999.000,  16.4095,     -999.0,9,     -999.0,9,     -999.0,9,     -999.0,9,     -999.0,9,     -999.0,9,     -999.0,9, -999.00,9,-999.0000,9,-999.0000,9,-999.0000,9,-999.0000,9,-999.0000,9,-999.0000,9,-999.0000, -999.00
33RR20050106,       P16S,      38,          1,         33,         33,2,20050120,       1652,   -34.5000,  -150.0000,       5152,   128.3,  15.0337,  35.0902,2,  35.0880,2,    245.3,2,   236.6,2,    0.50,2,    1.14,2,    0.06,2,    0.24,2,   2.854,2,   1.691,2,   0.227,2,  2063.0,2,  2304.9,2,-999.000,9,-999.0000,9, -999.00,9, -999.00,9,  -999.0,9,  -999.0,-999.000,9,-999.000,-999.0000,9,   128.3,-999.000,  15.0143,     -999.0,9,     -999.0,9,     -999.0,9,     -999.0,9,     -999.0,9,     -999.0,9,     -999.0,9, -999.00,9,-999.0000,9,-999.0000,9,-999.0000,9,-999.0000,9,-999.0000,9,-999.0000,9,-999.0000, -999.00
33RR20050106,       P16S,      38,          1,         32,         32,2,20050120,       1652,   -34.5000,  -150.0000,       5152,   178.5,  13.3714,  34.9339,2,-999.0000,9,    216.8,2,   215.4,2,    1.11,2,    6.61,2,    0.06,2,    0.58,2,   3.005,2,   1.750,2,   0.144,2,  2090.9,2,  2299.2,2,-999.000,9,-999.0000,9, -999.00,9, -999.00,9,  -999.0,9,  -999.0,-999.000,9,-999.000,-999.0000,9,   178.5,-999.000,  13.3464,     -999.0,9,     -999.0,9,     -999.0,9,     -999.0,9,     -999.0,9,     -999.0,9,     -999.0,9, -999.00,9,-999.0000,9,-999.0000,9,-999.0000,9,-999.0000,9,-999.0000,9,-999.0000,9,-999.0000, -999.00
33RR20050106,       P16S,      38,          1,         31,         31,2,20050120,       1652,   -34.5000,  -150.0000,       5152,   228.8,  11.6128,  34.7563,2,-999.0000,9,    213.9,2,   214.1,2,    1.92,2,   11.06,2,    0.00,2,    0.84,2,   3.202,6,   1.738,6,   0.126,6,  2108.2,2,  2288.2,2,-999.000,9,-999.0000,9, -999.00,9, -999.00,9,  -999.0,9,  -999.0,-999.000,9,-999.000,-999.0000,9,   228.8,-999.000,  11.5836,     -999.0,9,     -999.0,9,     -999.0,9,     -999.0,9,     -999.0,9,     -999.0,9,     -999.0,9, -999.00,9,-999.0000,9,-999.0000,9,-999.0000,9,-999.0000,9,-999.0000,9,-999.0000,9,-999.0000, -999.00
33RR20050106,       P16S,      38,          1,         30,         30,2,20050120,       1652,   -34.5000,  -150.0000,       5152,   279.1,  10.1146,  34.6132,2,-999.0000,9,    218.7,2,   219.5,2,    2.52,2,   14.44,2,    0.00,2,    1.06,2,-999.000,9,-999.000,9,-999.000,9,  2118.9,2,  2283.6,2,-999.000,9,-999.0000,9, -999.00,9, -999.00,9,  -999.0,9,  -999.0,-999.000,9,-999.000,-999.0000,9,   279.1,-999.000,  10.0820,     -999.0,9,     -999.0,9,     -999.0,9,     -999.0,9,     -999.0,9,     -999.0,9,     -999.0,9, -999.00,9,-999.0000,9,-999.0000,9,-999.0000,9,-999.0000,9,-999.0000,9,-999.0000,9,-999.0000, -999.00
33RR20050106,       P16S,      38,          1,         29,         29,2,20050120,       1652,   -34.5000,  -150.0000,       5152,   329.3,   8.6577,  34.4911,2,  34.4919,2,    224.5,2,   227.2,2,    3.74,2,   17.69,2,    0.00,2,    1.25,2,   3.307,2,   1.775,2,   0.198,2,  -999.0,9,  -999.0,9,-999.000,9,-999.0000,9, -999.00,9, -999.00,9,  -999.0,9,  -999.0,-999.000,9,-999.000,-999.0000,9,   329.3,-999.000,   8.6227,     -999.0,9,     -999.0,9,     -999.0,9,     -999.0,9,     -999.0,9,     -999.0,9,     -999.0,9, -999.00,9,-999.0000,9,-999.0000,9,-999.0000,9,-999.0000,9,-999.0000,9,-999.0000,9,-999.0000, -999.00
33RR20050106,       P16S,      38,          1,         28,         28,2,20050120,       1652,   -34.5000,  -150.0000,       5152,   379.4,   7.8685,  34.4458,2,  34.4458,2,    233.0,2,   237.7,2,    4.54,2,   19.18,2,    0.00,2,    1.34,2,-999.000,9,-999.000,9,-999.000,9,  2131.9,2,  2278.6,2,-999.000,9,-999.0000,9, -999.00,9, -999.00,9,  -999.0,9,  -999.0,-999.000,9,-999.000,-999.0000,9,   379.4,-999.000,   7.8303,     -999.0,9,     -999.0,9,     -999.0,9,     -999.0,9,     -999.0,9,     -999.0,9,     -999.0,9, -999.00,9,-999.0000,9,-999.0000,9,-999.0000,9,-999.0000,9,-999.0000,9,-999.0000,9,-999.0000, -999.00
33RR20050106,       P16S,      38,          1,         27,         27,2,20050120,       1652,   -34.5000,  -150.0000,       5152,   429.8,   7.5192,  34.4224,2,  34.4232,2,    239.1,2,   242.9,2,    4.95,2,   19.94,2,    0.00,2,    1.39,2,   3.562,2,   1.906,2,   0.253,2,  -999.0,9,  -999.0,9,-999.000,9,-999.0000,9, -999.00,9, -999.00,9,  -999.0,9,  -999.0,-999.000,9,-999.000,-999.0000,9,   429.8,-999.000,   7.4770,     -999.0,9,     -999.0,9,     -999.0,9,     -999.0,9,     -999.0,9,     -999.0,9,     -999.0,9, -999.00,9,-999.0000,9,-999.0000,9,-999.0000,9,-999.0000,9,-999.0000,9,-999.0000,9,-999.0000, -999.00
33RR20050106,       P16S,      38,          1,         26,         26,2,20050120,       1652,   -34.5000,  -150.0000,       5152,   480.0,   7.2263,  34.4032,2,  34.4036,2,    242.7,2,   244.5,2,    5.76,2,   20.74,2,    0.00,2,    1.44,2,-999.000,9,-999.000,9,-999.000,9,  2133.9,2,  2279.3,2,-999.000,9,-999.0000,9, -999.00,9, -999.00,9,  -999.0,9,  -999.0,-999.000,9,-999.000,-999.0000,9,   480.0,-999.000,   7.1800,     -999.0,9,     -999.0,9,     -999.0,9,     -999.0,9,     -999.0,9,     -999.0,9,     -999.0,9, -999.00,9,-999.0000,9,-999.0000,9,-999.0000,9,-999.0000,9,-999.0000,9,-999.0000,9,-999.0000, -999.00
33RR20050106,       P16S,      38,          1,         25,         25,2,20050120,       1652,   -34.5000,  -150.0000,       5152,   530.1,   7.0150,  34.3884,2,  34.3899,2,    243.3,2,   245.2,2,    6.18,2,   21.33,2,    0.00,2,    1.48,2,   3.292,2,   1.737,2,   0.165,2,  2135.0,2,  2278.0,2,-999.000,9,-999.0000,9, -999.00,9, -999.00,9,  -999.0,9,  -999.0,-999.000,9,-999.000,-999.0000,9,   530.1,-999.000,   6.9646,     -999.0,9,     -999.0,9,     -999.0,9,     -999.0,9,     -999.0,9,     -999.0,9,     -999.0,9, -999.00,9,-999.0000,9,-999.0000,9,-999.0000,9,-999.0000,9,-999.0000,9,-999.0000,9,-999.0000, -999.00
33RR20050106,       P16S,      38,          1,         24,         24,2,20050120,       1652,   -34.5000,  -150.0000,       5152,   651.1,   6.5197,  34.3546,2,  34.3563,2,    243.7,2,   243.0,2,    8.19,2,   22.99,2,    0.00,2,    1.59,2,   2.601,2,   1.378,2,   0.127,2,  2141.2,2,  2282.1,2,-999.000,9,-999.0000,9, -999.00,9, -999.00,9,  -999.0,9,  -999.0,-999.000,9,-999.000,-999.0000,9,   651.1,-999.000,   6.4597,     -999.0,9,     -999.0,9,     -999.0,9,     -999.0,9,     -999.0,9,     -999.0,9,     -999.0,9, -999.00,9,-999.0000,9,-999.0000,9,-999.0000,9,-999.0000,9,-999.0000,9,-999.0000,9,-999.0000, -999.00
33RR20050106,       P16S,      38,          1,         23,         23,2,20050120,       1652,   -34.5000,  -150.0000,       5152,   751.9,   5.9993,  34.3231,2,  34.3244,2,    239.0,2,   236.0,2,   11.22,2,   24.81,2,    0.00,2,    1.71,2,   1.989,2,   1.007,2,   0.086,2,  -999.0,9,  -999.0,9,-999.000,9,-999.0000,9, -999.00,9, -999.00,9,  -999.0,9,  -999.0,-999.000,9,-999.000,-999.0000,9,   751.9,-999.000,   5.9325,     -999.0,9,     -999.0,9,     -999.0,9,     -999.0,9,     -999.0,9,     -999.0,9,     -999.0,9, -999.00,9,-999.0000,9,-999.0000,9,-999.0000,9,-999.0000,9,-999.0000,9,-999.0000,9,-999.0000, -999.00
33RR20050106,       P16S,      38,          1,         22,         22,2,20050120,       1652,   -34.5000,  -150.0000,       5152,   852.6,   5.4814,  34.3150,2,  34.3161,2,    228.9,2,   221.2,2,   16.67,2,   27.18,2,    0.00,2,    1.88,2,-999.000,9,-999.000,9,-999.000,9,  2163.0,2,  2284.2,2,-999.000,9,-999.0000,9, -999.00,9, -999.00,9,  -999.0,9,  -999.0,-999.000,9,-999.000,-999.0000,9,   852.6,-999.000,   5.4084,     -999.0,9,     -999.0,9,     -999.0,9,     -999.0,9,     -999.0,9,     -999.0,9,     -999.0,9, -999.00,9,-999.0000,9,-999.0000,9,-999.0000,9,-999.0000,9,-999.0000,9,-999.0000,9,-999.0000, -999.00
33RR20050106,       P16S,      38,          1,         21,         21,2,20050120,       1652,   -34.5000,  -150.0000,       5152,   953.1,   4.7928,  34.3192,2,  34.3242,3,    213.3,2,   207.9,2,   25.37,2,   29.67,2,    0.00,2,    2.05,2,   0.928,2,   0.487,2,   0.049,2,  -999.0,9,  -999.0,9,-999.000,9,-999.0000,9, -999.00,9, -999.00,9,  -999.0,9,  -999.0,-999.000,9,-999.000,-999.0000,9,   953.1,-999.000,   4.7155,     -999.0,9,     -999.0,9,     -999.0,9,     -999.0,9,     -999.0,9,     -999.0,9,     -999.0,9, -999.00,9,-999.0000,9,-999.0000,9,-999.0000,9,-999.0000,9,-999.0000,9,-999.0000,9,-999.0000, -999.00
33RR20050106,       P16S,      38,          1,         20,         20,2,20050120,       1652,   -34.5000,  -150.0000,       5152,  1054.1,   4.1897,  34.3373,2,  34.3377,2,    202.1,2,   198.8,2,   34.09,2,   31.40,2,    0.00,2,    2.17,2,-999.000,9,-999.000,9,-999.000,9,  2197.1,2,  2300.6,2,-999.000,9,-999.0000,9, -999.00,9, -999.00,9,  -999.0,9,  -999.0,-999.000,9,-999.000,-999.0000,9,  1054.1,-999.000,   4.1083,     -999.0,9,     -999.0,9,     -999.0,9,     -999.0,9,     -999.0,9,     -999.0,9,     -999.0,9, -999.00,9,-999.0000,9,-999.0000,9,-999.0000,9,-999.0000,9,-999.0000,9,-999.0000,9,-999.0000, -999.00
33RR20050106,       P16S,      38,          1,         19,         19,2,20050120,       1652,   -34.5000,  -150.0000,       5152,  1155.2,   3.6360,  34.3760,2,  34.3766,2,    191.7,2,   188.5,2,   45.29,2,   32.87,2,    0.00,2,    2.28,2,   0.318,2,   0.166,2,   0.018,2,  2214.9,2,  2307.4,2,-999.000,9,-999.0000,9, -999.00,9, -999.00,9,  -999.0,9,  -999.0,-999.000,9,-999.000,-999.0000,9,  1155.2,-999.000,   3.5507,     -999.0,9,     -999.0,9,     -999.0,9,     -999.0,9,     -999.0,9,     -999.0,9,     -999.0,9, -999.00,9,-999.0000,9,-999.0000,9,-999.0000,9,-999.0000,9,-999.0000,9,-999.0000,9,-999.0000, -999.00
33RR20050106,       P16S,      38,          1,         18,         18,2,20050120,       1652,   -34.5000,  -150.0000,       5152,  1255.8,   3.2378,  34.4244,2,  34.4243,2,    182.7,2,   180.0,2,   55.10,2,   33.74,2,    0.00,2,    2.35,2,-999.000,9,-999.000,9,-999.000,9,  2229.4,6,  2319.2,2,-999.000,9,-999.0000,9, -999.00,9, -999.00,9,  -999.0,9,  -999.0,-999.000,9,-999.000,-999.0000,9,  1255.8,-999.000,   3.1479,     -999.0,9,     -999.0,9,     -999.0,9,     -999.0,9,     -999.0,9,     -999.0,9,     -999.0,9, -999.00,9,-999.0000,9,-999.0000,9,-999.0000,9,-999.0000,9,-999.0000,9,-999.0000,9,-999.0000, -999.00
33RR20050106,       P16S,      38,          1,         17,         17,2,20050120,       1652,   -34.5000,  -150.0000,       5152,  1356.8,   2.9884,  34.4719,2,  34.4718,2,    174.8,2,   173.0,2,   64.32,2,   34.28,2,    0.00,2,    2.39,2,   0.107,2,   0.051,2,   0.009,2,  -999.0,9,  -999.0,9,-999.000,9,-999.0000,9, -999.00,9, -999.00,9,  -999.0,9,  -999.0,-999.000,9,-999.000,-999.0000,9,  1356.8,-999.000,   2.8927,     -999.0,9,     -999.0,9,     -999.0,9,     -999.0,9,     -999.0,9,     -999.0,9,     -999.0,9, -999.00,9,-999.0000,9,-999.0000,9,-999.0000,9,-999.0000,9,-999.0000,9,-999.0000,9,-999.0000, -999.00
33RR20050106,       P16S,      38,          1,         16,         16,2,20050120,       1652,   -34.5000,  -150.0000,       5152,  1458.2,   2.8031,  34.5200,2,  34.5207,2,    167.9,2,   166.3,2,   74.39,2,   34.51,2,    0.00,2,    2.41,2,-999.000,9,-999.000,9,-999.000,9,  -999.0,9,  -999.0,9,-999.000,9,-999.0000,9, -999.00,9, -999.00,9,  -999.0,9,  -999.0,-999.000,9,-999.000,-999.0000,9,  1458.2,-999.000,   2.7011,     -999.0,9,     -999.0,9,     -999.0,9,     -999.0,9,     -999.0,9,     -999.0,9,     -999.0,9, -999.00,9,-999.0000,9,-999.0000,9,-999.0000,9,-999.0000,9,-999.0000,9,-999.0000,9,-999.0000, -999.00
33RR20050106,       P16S,      38,          1,         15,         15,2,20050120,       1652,   -34.5000,  -150.0000,       5152,  1559.2,   2.6621,  34.5575,2,  34.5581,2,    161.4,2,   161.5,2,   83.26,2,   34.68,2,    0.00,2,    2.43,2,   0.023,2,   0.010,2,   0.002,2,  -999.0,9,  -999.0,9,-999.000,9,-999.0000,9, -999.00,9, -999.00,9,  -999.0,9,  -999.0,-999.000,9,-999.000,-999.0000,9,  1559.2,-999.000,   2.5534,     -999.0,9,     -999.0,9,     -999.0,9,     -999.0,9,     -999.0,9,     -999.0,9,     -999.0,9, -999.00,9,-999.0000,9,-999.0000,9,-999.0000,9,-999.0000,9,-999.0000,9,-999.0000,9,-999.0000, -999.00
33RR20050106,       P16S,      38,          1,         14,         14,2,20050120,       1652,   -34.5000,  -150.0000,       5152,  1761.5,   2.4261,  34.6068,2,  34.6080,2,    154.4,2,   154.5,2,   98.94,2,   35.16,2,    0.00,2,    2.47,2,-999.000,9,-999.000,9,-999.000,9,  -999.0,9,  -999.0,9,-999.000,9,-999.0000,9, -999.00,9, -999.00,9,  -999.0,9,  -999.0,-999.000,9,-999.000,-999.0000,9,  1761.5,-999.000,   2.3035,     -999.0,9,     -999.0,9,     -999.0,9,     -999.0,9,     -999.0,9,     -999.0,9,     -999.0,9, -999.00,9,-999.0000,9,-999.0000,9,-999.0000,9,-999.0000,9,-999.0000,9,-999.0000,9,-999.0000, -999.00
33RR20050106,       P16S,      38,          1,         13,         13,2,20050120,       1652,   -34.5000,  -150.0000,       5152,  1964.4,   2.2462,  34.6299,2,  34.6310,2,    151.6,2,   152.1,2,  108.68,2,   35.39,2,    0.00,2,    2.48,2,   0.003,2,   0.002,2,   0.002,2,  -999.0,9,  -999.0,9,-999.000,9,-999.0000,9, -999.00,9, -999.00,9,  -999.0,9,  -999.0,-999.000,9,-999.000,-999.0000,9,  1964.4,-999.000,   2.1090,     -999.0,9,     -999.0,9,     -999.0,9,     -999.0,9,     -999.0,9,     -999.0,9,     -999.0,9, -999.00,9,-999.0000,9,-999.0000,9,-999.0000,9,-999.0000,9,-999.0000,9,-999.0000,9,-999.0000, -999.00
33RR20050106,       P16S,      38,          1,         12,         12,2,20050120,       1652,   -34.5000,  -150.0000,       5152,  2126.2,   2.1183,  34.6420,2,  34.6433,2,    150.7,2,   151.4,2,  114.30,2,   35.44,2,    0.00,2,    2.49,2,-999.000,9,-999.000,9,-999.000,9,  -999.0,9,  -999.0,9,-999.000,9,-999.0000,9, -999.00,9, -999.00,9,  -999.0,9,  -999.0,-999.000,9,-999.000,-999.0000,9,  2126.2,-999.000,   1.9692,     -999.0,9,     -999.0,9,     -999.0,9,     -999.0,9,     -999.0,9,     -999.0,9,     -999.0,9, -999.00,9,-999.0000,9,-999.0000,9,-999.0000,9,-999.0000,9,-999.0000,9,-999.0000,9,-999.0000, -999.00
33RR20050106,       P16S,      38,          1,         11,         11,2,20050120,       1652,   -34.5000,  -150.0000,       5152,  2379.9,   1.9660,  34.6548,2,  34.6557,2,    150.5,2,   151.2,2,  120.94,2,   35.55,2,    0.00,2,    2.50,2,  -0.002,2,  -0.002,2,   0.002,2,  -999.0,9,  -999.0,9,-999.000,9,-999.0000,9, -999.00,9, -999.00,9,  -999.0,9,  -999.0,-999.000,9,-999.000,-999.0000,9,  2379.9,-999.000,   1.7971,     -999.0,9,     -999.0,9,     -999.0,9,     -999.0,9,     -999.0,9,     -999.0,9,     -999.0,9, -999.00,9,-999.0000,9,-999.0000,9,-999.0000,9,-999.0000,9,-999.0000,9,-999.0000,9,-999.0000, -999.00
33RR20050106,       P16S,      38,          1,         10,         10,2,20050120,       1652,   -34.5000,  -150.0000,       5152,  2634.0,   1.8415,  34.6645,2,  34.6650,2,    151.4,2,   152.1,2,  125.75,2,   35.55,2,    0.00,2,    2.50,2,-999.000,9,-999.000,9,-999.000,9,  -999.0,9,  -999.0,9,-999.000,9,-999.0000,9, -999.00,9, -999.00,9,  -999.0,9,  -999.0,-999.000,9,-999.000,-999.0000,9,  2634.0,-999.000,   1.6519,     -999.0,9,     -999.0,9,     -999.0,9,     -999.0,9,     -999.0,9,     -999.0,9,     -999.0,9, -999.00,9,-999.0000,9,-999.0000,9,-999.0000,9,-999.0000,9,-999.0000,9,-999.0000,9,-999.0000, -999.00
33RR20050106,       P16S,      38,          1,          9,          9,2,20050120,       1652,   -34.5000,  -150.0000,       5152,  2939.2,   1.7362,  34.6739,2,  34.6744,2,    154.8,2,   155.8,2,  128.89,2,   35.39,2,    0.00,2,    2.49,2,   0.005,2,   0.006,2,   0.002,2,  -999.0,9,  -999.0,9,-999.000,9,-999.0000,9, -999.00,9, -999.00,9,  -999.0,9,  -999.0,-999.000,9,-999.000,-999.0000,9,  2939.2,-999.000,   1.5200,     -999.0,9,     -999.0,9,     -999.0,9,     -999.0,9,     -999.0,9,     -999.0,9,     -999.0,9, -999.00,9,-999.0000,9,-999.0000,9,-999.0000,9,-999.0000,9,-999.0000,9,-999.0000,9,-999.0000, -999.00
33RR20050106,       P16S,      38,          1,          8,          8,2,20050120,       1652,   -34.5000,  -150.0000,       5152,  3244.2,   1.6332,  34.6850,2,  34.6860,2,    162.5,2,   164.0,2,  126.63,2,   34.74,2,    0.00,2,    2.43,2,-999.000,9,-999.000,9,-999.000,9,  -999.0,9,  -999.0,9,-999.000,9,-999.0000,9, -999.00,9, -999.00,9,  -999.0,9,  -999.0,-999.000,9,-999.000,-999.0000,9,  3244.2,-999.000,   1.3895,     -999.0,9,     -999.0,9,     -999.0,9,     -999.0,9,     -999.0,9,     -999.0,9,     -999.0,9, -999.00,9,-999.0000,9,-999.0000,9,-999.0000,9,-999.0000,9,-999.0000,9,-999.0000,9,-999.0000, -999.00
33RR20050106,       P16S,      38,          1,          7,          7,2,20050120,       1652,   -34.5000,  -150.0000,       5152,  3550.2,   1.5186,  34.6963,2,  34.6978,2,    174.1,2,   175.8,2,  122.52,2,   33.82,2,    0.00,2,    2.36,2,   0.004,2,   0.009,2,   0.002,2,  -999.0,9,  -999.0,9,-999.000,9,-999.0000,9, -999.00,9, -999.00,9,  -999.0,9,  -999.0,-999.000,9,-999.000,-999.0000,9,  3550.2,-999.000,   1.2467,     -999.0,9,     -999.0,9,     -999.0,9,     -999.0,9,     -999.0,9,     -999.0,9,     -999.0,9, -999.00,9,-999.0000,9,-999.0000,9,-999.0000,9,-999.0000,9,-999.0000,9,-999.0000,9,-999.0000, -999.00