BOTTLE,20201109CCHSIOCBG
EXPOCODE,SECT_ID,STNNBR,CASTNO,SAMPNO,BTLNBR,BTLNBR_FLAG_W,DATE,TIME,LATITUDE,LONGITUDE,DEPTH,CTDPRS,CTDTMP,CTDSAL,CTDSAL_FLAG_W,SALNTY,SALNTY_FLAG_W,CTDOXY,CTDOXY_FLAG_W,OXYGEN,OXYGEN_FLAG_W,SILCAT,SILCAT_FLAG_W,NITRAT,NITRAT_FLAG_W,NITRIT,NITRIT_FLAG_W,PHSPHT,PHSPHT_FLAG_W,CFC-11,CFC-11_FLAG_W,CFC-12,CFC-12_FLAG_W,CFC113,CFC113_FLAG_W,TCARBN,TCARBN_FLAG_W,ALKALI,ALKALI_FLAG_W,TRITUM,TRITUM_FLAG_W,HELIUM,HELIUM_FLAG_W,DELHE3,DELHE3_FLAG_W,DELC13,DELC13_FLAG_W,DELC14,DELC14_FLAG_W,C14ERR,NEON,NEON_FLAG_W,NEONER,DOC,DOC_FLAG_W,CTDRAW,TRITER,THETA,FUCO,FUCO_FLAG_W,RHAM,RHAM_FLAG_W,ARABA,ARABA_FLAG_W,GALA,GALA_FLAG_W,GLUC,GLUC_FLAG_W,MAN,MAN_FLAG_W,DCNS,DCNS_FLAG_W,BRDU,BRDU_FLAG_W,CDOM325,CDOM325_FLAG_W,CDOM340,CDOM340_FLAG_W,CDOM380,CDOM380_FLAG_W,CDOM412,CDOM412_FLAG_W,CDOMSL,CDOMSL_FLAG_W,CDOMSN,CDOMSN_FLAG_W,HELIER,DELHER
,,,,,,,,,,,METERS,DBAR,ITS-90,PSS-78,,PSS-78,,UMOL/KG,,UMOL/KG,,UMOL/KG,,UMOL/KG,,UMOL/KG,,UMOL/KG,,PMOL/KG,,PMOL/KG,,PMOL/KG,,UMOL/KG,,UMOL/KG,,TU,,NMOL/KG,,PERCNT,,/MILLE,,/MILLE,,/MILLE,NMOL/KG,,NMOL/KG,UMOL/KG,,DBAR,TU,DEG C,NMOL/KG,,NMOL/KG,,NMOL/KG,,NMOL/KG,,NMOL/KG,,NMOL/KG,,NMOL/KG,,PMOL/L/H,,1/M,,1/M,,1/M,,1/M,,1/NM,,1/NM,,NMOL/KG,PERCNT
33RR20050106,       P16S,     111,          2,         31,         31,2,20050211,       0417,   -70.9995,  -150.0025,       4292,     2.5,  -0.4417,  33.3664,2,  33.3678,2,    362.7,2,   364.3,2,   37.58,2,   19.45,2,    0.09,2,    1.33,2,   6.092,2,   3.455,2,   0.630,2,  2096.9,6,  2262.4,6,-999.000,9,-999.0000,9, -999.00,9, -999.00,5,   -92.2,2,     2.9,-999.000,9,-999.000,  45.5408,2,     2.5,-999.000,  -0.4418,     -999.0,9,     -999.0,9,     -999.0,9,     -999.0,9,     -999.0,9,     -999.0,9,     -999.0,9, -999.00,9,-999.0000,9,-999.0000,9,-999.0000,9,-999.0000,9,-999.0000,9,-999.0000,9,-999.0000, -999.00
33RR20050106,       P16S,     111,          2,         30,         30,2,20050211,       0417,   -70.9995,  -150.0025,       4292,    50.2,  -1.7720,  34.0377,2,  34.0375,2,    316.2,2,   314.6,2,   42.70,2,   26.42,2,    0.25,2,    1.95,2,   5.362,2,   3.017,2,   0.542,2,  2191.3,2,  2300.9,2,-999.000,9,-999.0000,9, -999.00,9, -999.00,5,   -90.3,2,     2.8,-999.000,9,-999.000,-999.0000,9,    50.2,-999.000,  -1.7730,     -999.0,9,     -999.0,9,     -999.0,9,     -999.0,9,     -999.0,9,     -999.0,9,     -999.0,9, -999.00,9,-999.0000,9,-999.0000,9,-999.0000,9,-999.0000,9,-999.0000,9,-999.0000,9,-999.0000, -999.00
33RR20050106,       P16S,     111,          2,         29,         29,2,20050211,       0417,   -70.9995,  -150.0025,       4292,    75.4,  -1.7160,  34.0716,2,  34.0685,2,    305.1,2,   309.0,2,   43.73,2,   27.26,2,    0.25,2,    1.95,2,   5.139,2,   2.885,2,   0.539,2,  2192.1,2,  2300.8,2,-999.000,9,-999.0000,9, -999.00,9, -999.00,5,  -101.5,2,     3.9,-999.000,9,-999.000,-999.0000,9,    75.4,-999.000,  -1.7175,     -999.0,9,     -999.0,9,     -999.0,9,     -999.0,9,     -999.0,9,     -999.0,9,     -999.0,9, -999.00,9,-999.0000,9,-999.0000,9,-999.0000,9,-999.0000,9,-999.0000,9,-999.0000,9,-999.0000, -999.00
33RR20050106,       P16S,     111,          2,         28,         28,2,20050211,       0417,   -70.9995,  -150.0025,       4292,   141.4,  -0.2295,  34.2969,2,  34.2975,2,    257.6,2,   253.5,2,   62.53,2,   30.75,2,    0.02,2,    2.13,2,   3.291,2,   1.827,2,   0.320,2,  2218.9,2,  2313.6,2,-999.000,9,-999.0000,9, -999.00,9, -999.00,5,  -117.3,2,     2.4,-999.000,9,-999.000,-999.0000,9,   141.4,-999.000,  -0.2343,     -999.0,9,     -999.0,9,     -999.0,9,     -999.0,9,     -999.0,9,     -999.0,9,     -999.0,9, -999.00,9,-999.0000,9,-999.0000,9,-999.0000,9,-999.0000,9,-999.0000,9,-999.0000,9,-999.0000, -999.00
33RR20050106,       P16S,     111,          2,         27,         27,2,20050211,       0417,   -70.9995,  -150.0025,       4292,   191.6,   0.9749,  34.5403,2,  34.5350,2,    207.1,2,   206.5,2,   79.33,2,   32.59,2,    0.02,2,    2.26,2,   1.605,2,   0.911,2,   0.159,2,  2244.4,2,  2330.1,2,-999.000,9,-999.0000,9, -999.00,9, -999.00,5,  -129.9,2,     2.7,-999.000,9,-999.000,-999.0000,9,   191.6,-999.000,   0.9663,     -999.0,9,     -999.0,9,     -999.0,9,     -999.0,9,     -999.0,9,     -999.0,9,     -999.0,9, -999.00,9,-999.0000,9,-999.0000,9,-999.0000,9,-999.0000,9,-999.0000,9,-999.0000,9,-999.0000, -999.00
33RR20050106,       P16S,     111,          2,         26,         26,2,20050211,       0417,   -70.9995,  -150.0025,       4292,   252.0,   1.6312,  34.6860,2,  34.6834,2,    182.0,2,   183.1,2,   87.84,2,   32.71,2,    0.01,2,    2.25,2,   0.590,2,   0.332,2,   0.051,2,  2257.7,2,  2341.8,2,-999.000,9,-999.0000,9, -999.00,9, -999.00,5,  -133.9,2,     2.9,-999.000,9,-999.000,  40.4151,2,   252.0,-999.000,   1.6183,     -999.0,9,     -999.0,9,     -999.0,9,     -999.0,9,     -999.0,9,     -999.0,9,     -999.0,9, -999.00,9,-999.0000,9,-999.0000,9,-999.0000,9,-999.0000,9,-999.0000,9,-999.0000,9,-999.0000, -999.00
33RR20050106,       P16S,     111,          2,         25,         25,2,20050211,       0417,   -70.9995,  -150.0025,       4292,   292.3,   1.6587,  34.7079,2,  34.7050,2,    182.2,2,   183.3,2,   89.91,2,   32.44,2,    0.00,2,    2.22,2,   0.422,2,   0.230,2,   0.033,2,  2255.8,2,  2344.7,2,-999.000,9,-999.0000,9, -999.00,9, -999.00,5,  -139.1,2,     2.8,-999.000,9,-999.000,  39.5827,2,   292.3,-999.000,   1.6436,     -999.0,9,     -999.0,9,     -999.0,9,     -999.0,9,     -999.0,9,     -999.0,9,     -999.0,9, -999.00,9,-999.0000,9,-999.0000,9,-999.0000,9,-999.0000,9,-999.0000,9,-999.0000,9,-999.0000, -999.00
33RR20050106,       P16S,     111,          2,         24,         24,2,20050211,       0417,   -70.9995,  -150.0025,       4292,   343.3,   1.6106,  34.7197,2,  34.7178,2,    183.3,2,   184.4,2,   92.62,2,   32.29,2,    0.00,2,    2.21,2,   0.457,2,   0.244,2,   0.041,2,  2256.1,2,  2345.9,2,-999.000,9,-999.0000,9, -999.00,9, -999.00,5,  -142.0,2,     3.0,-999.000,9,-999.000,  40.5705,2,   343.3,-999.000,   1.5928,     -999.0,9,     -999.0,9,     -999.0,9,     -999.0,9,     -999.0,9,     -999.0,9,     -999.0,9, -999.00,9,-999.0000,9,-999.0000,9,-999.0000,9,-999.0000,9,-999.0000,9,-999.0000,9,-999.0000, -999.00
33RR20050106,       P16S,     111,          2,         23,         23,2,20050211,       0417,   -70.9995,  -150.0025,       4292,   392.8,   1.5569,  34.7253,2,  34.7237,2,    184.0,2,   184.5,2,   95.32,2,   32.29,2,    0.00,2,    2.21,2,   0.281,2,   0.147,2,   0.024,2,  2257.9,2,  2347.3,2,-999.000,9,-999.0000,9, -999.00,9, -999.00,5,  -149.6,2,     3.1,-999.000,9,-999.000,  40.0193,2,   392.8,-999.000,   1.5366,     -999.0,9,     -999.0,9,     -999.0,9,     -999.0,9,     -999.0,9,     -999.0,9,     -999.0,9, -999.00,9,-999.0000,9,-999.0000,9,-999.0000,9,-999.0000,9,-999.0000,9,-999.0000,9,-999.0000, -999.00
33RR20050106,       P16S,     111,          2,         22,         22,2,20050211,       0417,   -70.9995,  -150.0025,       4292,   443.5,   1.4959,  34.7295,2,  34.7269,2,    184.6,2,   185.5,2,   97.62,2,   32.28,2,    0.00,2,    2.22,2,   0.206,2,   0.114,2,   0.021,2,  2257.3,2,  2349.1,2,-999.000,9,-999.0000,9, -999.00,9, -999.00,5,  -149.6,2,     2.9,-999.000,9,-999.000,  39.6215,2,   443.5,-999.000,   1.4730,     -999.0,9,     -999.0,9,     -999.0,9,     -999.0,9,     -999.0,9,     -999.0,9,     -999.0,9, -999.00,9,-999.0000,9,-999.0000,9,-999.0000,9,-999.0000,9,-999.0000,9,-999.0000,9,-999.0000, -999.00
33RR20050106,       P16S,     111,          2,         21,         21,2,20050211,       0417,   -70.9995,  -150.0025,       4292,   494.2,   1.4570,  34.7311,2,  34.7291,2,    184.9,2,   186.4,2,   99.47,2,   32.23,2,    0.00,2,    2.20,2,   0.196,2,   0.107,2,   0.019,2,  2259.1,2,  2349.5,2,-999.000,9,-999.0000,9, -999.00,9, -999.00,5,  -147.5,2,     3.0,-999.000,9,-999.000,  40.7762,2,   494.2,-999.000,   1.4314,     -999.0,9,     -999.0,9,     -999.0,9,     -999.0,9,     -999.0,9,     -999.0,9,     -999.0,9, -999.00,9,-999.0000,9,-999.0000,9,-999.0000,9,-999.0000,9,-999.0000,9,-999.0000,9,-999.0000, -999.00
33RR20050106,       P16S,     111,          2,         20,         20,2,20050211,       0417,   -70.9995,  -150.0025,       4292,   579.5,   1.3811,  34.7316,2,  34.7297,2,    185.4,2,   186.0,2,  102.60,2,   32.43,2,    0.00,2,    2.22,2,   0.214,2,   0.120,2,   0.019,2,  2261.1,2,  2351.1,2,-999.000,9,-999.0000,9, -999.00,9, -999.00,5,  -153.1,2,     2.6,-999.000,9,-999.000,  39.7150,2,   579.5,-999.000,   1.3510,     -999.0,9,     -999.0,9,     -999.0,9,     -999.0,9,     -999.0,9,     -999.0,9,     -999.0,9, -999.00,9,-999.0000,9,-999.0000,9,-999.0000,9,-999.0000,9,-999.0000,9,-999.0000,9,-999.0000, -999.00
33RR20050106,       P16S,     111,          2,         19,         19,2,20050211,       0417,   -70.9995,  -150.0025,       4292,   680.7,   1.3014,  34.7308,2,  34.7297,2,    186.2,2,   186.6,2,  105.72,2,   32.43,2,    0.00,2,    2.23,2,   0.199,2,   0.107,2,   0.021,2,  2262.1,2,  2352.0,2,-999.000,9,-999.0000,9, -999.00,9, -999.00,5,  -154.1,2,     2.5,-999.000,9,-999.000,  40.6566,2,   680.7,-999.000,   1.2659,     -999.0,9,     -999.0,9,     -999.0,9,     -999.0,9,     -999.0,9,     -999.0,9,     -999.0,9, -999.00,9,-999.0000,9,-999.0000,9,-999.0000,9,-999.0000,9,-999.0000,9,-999.0000,9,-999.0000, -999.00
33RR20050106,       P16S,     111,          2,         18,         18,2,20050211,       0417,   -70.9995,  -150.0025,       4292,   781.8,   1.2363,  34.7294,2,  34.7284,2,    188.0,2,   188.4,2,  108.22,2,   32.49,2,    0.00,2,    2.24,2,   0.101,2,   0.059,2,   0.014,2,  2262.2,2,  2353.7,6,-999.000,9,-999.0000,9, -999.00,9, -999.00,5,  -156.2,2,     3.0,-999.000,9,-999.000,  39.4683,2,   781.8,-999.000,   1.1953,     -999.0,9,     -999.0,9,     -999.0,9,     -999.0,9,     -999.0,9,     -999.0,9,     -999.0,9, -999.00,9,-999.0000,9,-999.0000,9,-999.0000,9,-999.0000,9,-999.0000,9,-999.0000,9,-999.0000, -999.00
33RR20050106,       P16S,     111,          2,         17,         17,2,20050211,       0417,   -70.9995,  -150.0025,       4292,   883.0,   1.1709,  34.7276,2,  34.7263,2,    189.9,2,   190.9,2,  110.30,2,   32.38,2,    0.00,2,    2.23,2,   0.100,2,   0.056,2,   0.011,2,  2262.0,2,  2354.8,2,-999.000,9,-999.0000,9, -999.00,9, -999.00,5,  -154.2,2,     2.9,-999.000,9,-999.000,-999.0000,9,   883.0,-999.000,   1.1243,     -999.0,9,     -999.0,9,     -999.0,9,     -999.0,9,     -999.0,9,     -999.0,9,     -999.0,9, -999.00,9,-999.0000,9,-999.0000,9,-999.0000,9,-999.0000,9,-999.0000,9,-999.0000,9,-999.0000, -999.00
33RR20050106,       P16S,     111,          2,         16,         16,2,20050211,       0417,   -70.9995,  -150.0025,       4292,   983.8,   1.1113,  34.7254,2,  34.7249,2,    192.3,2,   193.4,2,  111.76,2,   32.32,2,    0.00,2,    2.22,2,   0.113,2,   0.064,2,   0.013,2,  2261.7,6,  2355.1,2,-999.000,9,-999.0000,9, -999.00,9, -999.00,5,  -161.1,2,     3.3,-999.000,9,-999.000,  39.7128,2,   983.8,-999.000,   1.0590,     -999.0,9,     -999.0,9,     -999.0,9,     -999.0,9,     -999.0,9,     -999.0,9,     -999.0,9, -999.00,9,-999.0000,9,-999.0000,9,-999.0000,9,-999.0000,9,-999.0000,9,-999.0000,9,-999.0000, -999.00
33RR20050106,       P16S,     111,          2,         15,         15,2,20050211,       0417,   -70.9995,  -150.0025,       4292,  1186.6,   0.9925,  34.7208,2,  34.7186,2,    196.1,2,   196.7,2,  115.30,2,   32.33,2,    0.00,2,    2.22,2,   0.077,2,   0.044,2,   0.007,2,  2262.1,2,  2356.2,2,-999.000,9,-999.0000,9, -999.00,9, -999.00,5,  -161.6,2,     4.3,-999.000,9,-999.000,  40.1947,2,  1186.6,-999.000,   0.9285,     -999.0,9,     -999.0,9,     -999.0,9,     -999.0,9,     -999.0,9,     -999.0,9,     -999.0,9, -999.00,9,-999.0000,9,-999.0000,9,-999.0000,9,-999.0000,9,-999.0000,9,-999.0000,9,-999.0000, -999.00
33RR20050106,       P16S,     111,          2,         14,         14,2,20050211,       0417,   -70.9995,  -150.0025,       4292,  1389.2,   0.8824,  34.7162,2,  34.7120,4,    199.3,2,   200.5,2,  118.86,2,   32.33,2,    0.00,2,    2.22,2,   0.134,2,   0.070,2,   0.013,2,  2262.1,2,  2357.1,2,-999.000,9,-999.0000,9, -999.00,9, -999.00,5,  -161.2,2,     2.6,-999.000,9,-999.000,  39.6274,2,  1389.2,-999.000,   0.8063,     -999.0,9,     -999.0,9,     -999.0,9,     -999.0,9,     -999.0,9,     -999.0,9,     -999.0,9, -999.00,9,-999.0000,9,-999.0000,9,-999.0000,9,-999.0000,9,-999.0000,9,-999.0000,9,-999.0000, -999.00
33RR20050106,       P16S,     111,          2,         13,         13,2,20050211,       0417,   -70.9995,  -150.0025,       4292,  1591.7,   0.7929,  34.7126,2,  34.7126,2,    201.5,2,   202.1,2,  121.58,2,   32.38,2,    0.00,2,    2.22,2,   0.133,2,   0.080,2,   0.016,2,  2261.8,2,  2357.9,2,-999.000,9,-999.0000,9, -999.00,9, -999.00,5,  -162.4,2,     2.6,-999.000,9,-999.000,  40.1168,2,  1591.7,-999.000,   0.7042,     -999.0,9,     -999.0,9,     -999.0,9,     -999.0,9,     -999.0,9,     -999.0,9,     -999.0,9, -999.00,9,-999.0000,9,-999.0000,9,-999.0000,9,-999.0000,9,-999.0000,9,-999.0000,9,-999.0000, -999.00
33RR20050106,       P16S,     111,          2,         12,         12,2,20050211,       0417,   -70.9995,  -150.0025,       4292,  1794.8,   0.7197,  34.7096,2,  34.7093,2,    203.4,2,   203.8,2,  124.49,2,   32.42,2,    0.00,2,    2.23,2,   0.079,2,   0.041,2,   0.012,2,  2262.3,2,  2358.1,2,-999.000,9,-999.0000,9, -999.00,9, -999.00,5,  -159.8,2,     3.5,-999.000,9,-999.000,  39.5320,2,  1794.8,-999.000,   0.6177,     -999.0,9,     -999.0,9,     -999.0,9,     -999.0,9,     -999.0,9,     -999.0,9,     -999.0,9, -999.00,9,-999.0000,9,-999.0000,9,-999.0000,9,-999.0000,9,-999.0000,9,-999.0000,9,-999.0000, -999.00
33RR20050106,       P16S,     111,          2,         11,         11,2,20050211,       0417,   -70.9995,  -150.0025,       4292,  1997.7,   0.6522,  34.7073,2,  34.7073,2,    204.9,2,   205.4,2,  126.58,2,   32.58,2,    0.00,2,    2.23,2,   0.130,2,   0.073,2,   0.020,2,  2262.8,2,  2358.2,2,-999.000,9,-999.0000,9, -999.00,9, -999.00,5,  -170.2,6,     7.4,-999.000,9,-999.000,  39.9439,2,  1997.7,-999.000,   0.5363,     -999.0,9,     -999.0,9,     -999.0,9,     -999.0,9,     -999.0,9,     -999.0,9,     -999.0,9, -999.00,9,-999.0000,9,-999.0000,9,-999.0000,9,-999.0000,9,-999.0000,9,-999.0000,9,-999.0000, -999.00
33RR20050106,       P16S,     111,          2,         10,         10,2,20050211,       0417,   -70.9995,  -150.0025,       4292,  2201.0,   0.5782,  34.7057,2,  34.7038,2,    206.3,2,   207.3,2,  127.61,2,   32.58,2,    0.00,2,    2.24,2,   0.223,2,   0.127,2,   0.020,2,  2262.1,2,  2358.1,2,-999.000,9,-999.0000,9, -999.00,9, -999.00,5,  -162.3,2,     2.6,-999.000,9,-999.000,  41.2132,2,  2201.0,-999.000,   0.4482,     -999.0,9,     -999.0,9,     -999.0,9,     -999.0,9,     -999.0,9,     -999.0,9,     -999.0,9, -999.00,9,-999.0000,9,-999.0000,9,-999.0000,9,-999.0000,9,-999.0000,9,-999.0000,9,-999.0000, -999.00
33RR20050106,       P16S,     111,          2,          9,          9,2,20050211,       0417,   -70.9995,  -150.0025,       4292,  2455.1,   0.4840,  34.7045,2,  34.7038,2,    208.5,2,   209.4,2,  129.50,2,   32.58,2,    0.00,2,    2.25,2,   0.120,2,   0.070,2,   0.012,2,  2261.3,2,  2358.1,2,-999.000,9,-999.0000,9, -999.00,9, -999.00,5,  -160.3,2,     3.1,-999.000,9,-999.000,-999.0000,9,  2455.1,-999.000,   0.3356,     -999.0,9,     -999.0,9,     -999.0,9,     -999.0,9,     -999.0,9,     -999.0,9,     -999.0,9, -999.00,9,-999.0000,9,-999.0000,9,-999.0000,9,-999.0000,9,-999.0000,9,-999.0000,9,-999.0000, -999.00
33RR20050106,       P16S,     111,          2,          8,          8,2,20050211,       0417,   -70.9995,  -150.0025,       4292,  2710.0,   0.4136,  34.7043,2,  34.7035,2,    210.3,2,   211.3,2,  131.79,2,   32.68,2,    0.00,2,    2.26,2,   0.139,2,   0.077,2,   0.012,2,  2262.0,2,  2358.8,2,-999.000,9,-999.0000,9, -999.00,9, -999.00,5,  -161.8,2,     3.1,-999.000,9,-999.000,  40.5704,2,  2710.0,-999.000,   0.2457,     -999.0,9,     -999.0,9,     -999.0,9,     -999.0,9,     -999.0,9,     -999.0,9,     -999.0,9, -999.00,9,-999.0000,9,-999.0000,9,-999.0000,9,-999.0000,9,-999.0000,9,-999.0000,9,-999.0000, -999.00
33RR20050106,       P16S,     111,          2,          7,          7,2,20050211,       0417,   -70.9995,  -150.0025,       4292,  2964.8,   0.3643,  34.7041,2,  34.7035,2,    211.7,2,   212.5,2,  134.10,2,   32.74,2,    0.00,2,    2.26,2,-999.000,9,-999.000,9,-999.000,9,  2262.6,2,  2359.3,2,-999.000,9,-999.0000,9, -999.00,9, -999.00,5,  -158.7,2,     3.1,-999.000,9,-999.000,  40.2740,2,  2964.8,-999.000,   0.1756,     -999.0,9,     -999.0,9,     -999.0,9,     -999.0,9,     -999.0,9,     -999.0,9,     -999.0,9, -999.00,9,-999.0000,9,-999.0000,9,-999.0000,9,-999.0000,9,-999.0000,9,-999.0000,9,-999.0000, -999.00
33RR20050106,       P16S,     111,          2,          6,          6,2,20050211,       0417,   -70.9995,  -150.0025,       4292,  3301.4,   0.3092,  34.7034,2,  34.7011,2,    213.6,2,   214.3,2,  134.92,2,   32.74,2,    0.00,2,    2.26,2,   0.183,2,   0.104,2,   0.011,2,  2262.4,2,  2358.9,2,-999.000,9,-999.0000,9, -999.00,9, -999.00,5,  -162.1,2,     2.8,-999.000,9,-999.000,  39.7567,2,  3301.4,-999.000,   0.0917,     -999.0,9,     -999.0,9,     -999.0,9,     -999.0,9,     -999.0,9,     -999.0,9,     -999.0,9, -999.00,9,-999.0000,9,-999.0000,9,-999.0000,9,-999.0000,9,-999.0000,9,-999.0000,9,-999.0000, -999.00
33RR20050106,       P16S,     111,          2,          5,          5,2,20050211,       0417,   -70.9995,  -150.0025,       4292,  3608.3,   0.2726,  34.7029,2,  34.7023,2,    215.3,2,   216.0,2,  136.80,2,   32.68,2,    0.00,2,    2.26,2,-999.000,9,-999.000,9,-999.000,9,  2262.7,2,  2359.7,6,-999.000,9,-999.0000,9, -999.00,9, -999.00,5,  -161.9,2,     3.2,-999.000,9,-999.000,  39.5310,2,  3608.3,-999.000,   0.0271,     -999.0,9,     -999.0,9,     -999.0,9,     -999.0,9,     -999.0,9,     -999.0,9,     -999.0,9, -999.00,9,-999.0000,9,-999.0000,9,-999.0000,9,-999.0000,9,-999.0000,9,-999.0000,9,-999.0000, -999.00
33RR20050106,       P16S,     111,          2,          4,          4,2,20050211,       0417,   -70.9995,  -150.0025,       4292,  3864.3,   0.2089,  34.6996,2,  34.6996,2,    219.3,2,   220.2,2,  127.14,2,   32.57,2,    0.00,2,    2.25,2,   0.508,2,   0.265,2,   0.028,2,  2259.6,2,  2355.9,2,-999.000,9,-999.0000,9, -999.00,9, -999.00,5,  -160.0,6,     3.5,-999.000,9,-999.000,-999.0000,9,  3864.3,-999.000,  -0.0598,     -999.0,9,     -999.0,9,     -999.0,9,     -999.0,9,     -999.0,9,     -999.0,9,     -999.0,9, -999.00,9,-999.0000,9,-999.0000,9,-999.0000,9,-999.0000,9,-999.0000,9,-999.0000,9,-999.0000, -999.00
33RR20050106,       P16S,     111,          2,          3,          3,2,20050211,       0417,   -70.9995,  -150.0025,       4292,  4084.3,   0.1772,  34.6990,2,  34.6955,4,    221.5,2,   222.1,2,  122.94,2,   32.58,2,    0.00,2,    2.25,2,   0.656,2,   0.343,2,   0.036,2,  2258.7,2,  2356.0,2,-999.000,9,-999.0000,9, -999.00,9, -999.00,5,  -156.0,2,     2.7,-999.000,9,-999.000,  40.2075,2,  4084.3,-999.000,  -0.1128,     -999.0,9,     -999.0,9,     -999.0,9,     -999.0,9,     -999.0,9,     -999.0,9,     -999.0,9, -999.00,9,-999.0000,9,-999.0000,9,-999.0000,9,-999.0000,9,-999.0000,9,-999.0000,9,-999.0000, -999.00
33RR20050106,       P16S,     111,          2,          2,          2,2,20050211,       0417,   -70.9995,  -150.0025,       4292,  4238.3,   0.1861,  34.6992,2,  34.6875,4,    220.7,2,   220.9,2,  126.08,2,   32.58,2,    0.00,2,    2.25,2,   0.677,2,   0.358,2,   0.036,2,  2260.0,6,  2355.7,2,-999.000,9,-999.0000,9, -999.00,9, -999.00,5,  -155.3,2,     3.1,-999.000,9,-999.000,  39.3594,2,  4238.3,-999.000,  -0.1201,     -999.0,9,     -999.0,9,     -999.0,9,     -999.0,9,     -999.0,9,     -999.0,9,     -999.0,9, -999.00,9,-999.0000,9,-999.0000,9,-999.0000,9,-999.0000,9,-999.0000,9,-999.0000,9,-999.0000, -999.00