BOTTLE,20201109CCHSIOCBG
EXPOCODE,SECT_ID,STNNBR,CASTNO,SAMPNO,BTLNBR,BTLNBR_FLAG_W,DATE,TIME,LATITUDE,LONGITUDE,DEPTH,CTDPRS,CTDTMP,CTDSAL,CTDSAL_FLAG_W,SALNTY,SALNTY_FLAG_W,CTDOXY,CTDOXY_FLAG_W,OXYGEN,OXYGEN_FLAG_W,SILCAT,SILCAT_FLAG_W,NITRAT,NITRAT_FLAG_W,NITRIT,NITRIT_FLAG_W,PHSPHT,PHSPHT_FLAG_W,CFC-11,CFC-11_FLAG_W,CFC-12,CFC-12_FLAG_W,CFC113,CFC113_FLAG_W,TCARBN,TCARBN_FLAG_W,ALKALI,ALKALI_FLAG_W,TRITUM,TRITUM_FLAG_W,HELIUM,HELIUM_FLAG_W,DELHE3,DELHE3_FLAG_W,DELC13,DELC13_FLAG_W,DELC14,DELC14_FLAG_W,C14ERR,NEON,NEON_FLAG_W,NEONER,DOC,DOC_FLAG_W,CTDRAW,TRITER,THETA,FUCO,FUCO_FLAG_W,RHAM,RHAM_FLAG_W,ARABA,ARABA_FLAG_W,GALA,GALA_FLAG_W,GLUC,GLUC_FLAG_W,MAN,MAN_FLAG_W,DCNS,DCNS_FLAG_W,BRDU,BRDU_FLAG_W,CDOM325,CDOM325_FLAG_W,CDOM340,CDOM340_FLAG_W,CDOM380,CDOM380_FLAG_W,CDOM412,CDOM412_FLAG_W,CDOMSL,CDOMSL_FLAG_W,CDOMSN,CDOMSN_FLAG_W,HELIER,DELHER
,,,,,,,,,,,METERS,DBAR,ITS-90,PSS-78,,PSS-78,,UMOL/KG,,UMOL/KG,,UMOL/KG,,UMOL/KG,,UMOL/KG,,UMOL/KG,,PMOL/KG,,PMOL/KG,,PMOL/KG,,UMOL/KG,,UMOL/KG,,TU,,NMOL/KG,,PERCNT,,/MILLE,,/MILLE,,/MILLE,NMOL/KG,,NMOL/KG,UMOL/KG,,DBAR,TU,DEG C,NMOL/KG,,NMOL/KG,,NMOL/KG,,NMOL/KG,,NMOL/KG,,NMOL/KG,,NMOL/KG,,PMOL/L/H,,1/M,,1/M,,1/M,,1/M,,1/NM,,1/NM,,NMOL/KG,PERCNT
33RR20050106,       P16S,      82,          1,         31,         31,2,20050203,       0338,   -56.5002,  -150.0022,       2782,     3.7,   2.8045,  33.8163,2,  33.8169,2,    327.3,2,   328.5,2,   11.65,2,   24.54,2,    0.26,2,    1.67,2,   5.719,2,   3.058,2,   0.561,2,  2141.9,2,  2282.1,2,-999.000,9,-999.0000,9, -999.00,9, -999.00,9,  -999.0,9,  -999.0,-999.000,9,-999.000,-999.0000,9,     3.7,-999.000,   2.8043,     -999.0,9,     -999.0,9,     -999.0,9,     -999.0,9,     -999.0,9,     -999.0,9,     -999.0,9, -999.00,9,-999.0000,9,-999.0000,9,-999.0000,9,-999.0000,9,-999.0000,9,-999.0000,9,-999.0000, -999.00
33RR20050106,       P16S,      82,          1,         30,         30,2,20050203,       0338,   -56.5002,  -150.0022,       2782,    30.1,   2.8073,  33.8165,2,  33.8173,2,    328.8,2,   330.0,2,   11.43,2,   24.54,2,    0.26,2,    1.67,2,   5.753,2,   3.070,2,   0.541,2,  -999.0,9,  -999.0,9,-999.000,9,-999.0000,9, -999.00,9, -999.00,9,  -999.0,9,  -999.0,-999.000,9,-999.000,-999.0000,9,    30.1,-999.000,   2.8056,     -999.0,9,     -999.0,9,     -999.0,9,     -999.0,9,     -999.0,9,     -999.0,9,     -999.0,9, -999.00,9,-999.0000,9,-999.0000,9,-999.0000,9,-999.0000,9,-999.0000,9,-999.0000,9,-999.0000, -999.00
33RR20050106,       P16S,      82,          1,         29,         29,2,20050203,       0338,   -56.5002,  -150.0022,       2782,    54.3,   2.7597,  33.8248,2,  33.8261,2,    329.1,2,   328.0,2,   11.80,2,   24.55,2,    0.25,2,    1.69,2,-999.000,5,-999.000,5,-999.000,5,  2144.9,2,  2282.2,2,-999.000,9,-999.0000,9, -999.00,9, -999.00,9,  -999.0,9,  -999.0,-999.000,9,-999.000,-999.0000,9,    54.3,-999.000,   2.7566,     -999.0,9,     -999.0,9,     -999.0,9,     -999.0,9,     -999.0,9,     -999.0,9,     -999.0,9, -999.00,9,-999.0000,9,-999.0000,9,-999.0000,9,-999.0000,9,-999.0000,9,-999.0000,9,-999.0000, -999.00
33RR20050106,       P16S,      82,          1,         28,         28,2,20050203,       0338,   -56.5002,  -150.0022,       2782,    79.7,   1.1029,  33.9565,2,  33.9565,2,    325.3,2,   325.1,2,   26.38,2,   27.71,2,    0.22,2,    2.07,2,   5.716,2,   3.163,2,   0.550,2,  -999.0,9,  -999.0,9,-999.000,9,-999.0000,9, -999.00,9, -999.00,9,  -999.0,9,  -999.0,-999.000,9,-999.000,-999.0000,9,    79.7,-999.000,   1.0994,     -999.0,9,     -999.0,9,     -999.0,9,     -999.0,9,     -999.0,9,     -999.0,9,     -999.0,9, -999.00,9,-999.0000,9,-999.0000,9,-999.0000,9,-999.0000,9,-999.0000,9,-999.0000,9,-999.0000, -999.00
33RR20050106,       P16S,      82,          1,         27,         27,2,20050203,       0338,   -56.5002,  -150.0022,       2782,   105.4,   0.8159,  33.9608,2,  33.9605,2,    323.9,2,   326.6,2,   27.94,2,   28.44,2,    0.28,2,    2.01,2,   5.826,2,   3.140,2,   0.574,2,  2167.1,2,  2283.5,2,-999.000,9,-999.0000,9, -999.00,9, -999.00,9,  -999.0,9,  -999.0,-999.000,9,-999.000,-999.0000,9,   105.4,-999.000,   0.8115,     -999.0,9,     -999.0,9,     -999.0,9,     -999.0,9,     -999.0,9,     -999.0,9,     -999.0,9, -999.00,9,-999.0000,9,-999.0000,9,-999.0000,9,-999.0000,9,-999.0000,9,-999.0000,9,-999.0000, -999.00
33RR20050106,       P16S,      82,          1,         26,         26,2,20050203,       0338,   -56.5002,  -150.0022,       2782,   155.3,   1.2001,  34.0390,2,  34.0398,2,    295.8,2,   295.9,2,   32.28,2,   30.25,2,    0.02,2,    2.07,2,   5.092,2,   2.661,2,   0.458,2,  2180.3,2,  2286.7,2,-999.000,9,-999.0000,9, -999.00,9, -999.00,9,  -999.0,9,  -999.0,-999.000,9,-999.000,-999.0000,9,   155.3,-999.000,   1.1930,     -999.0,9,     -999.0,9,     -999.0,9,     -999.0,9,     -999.0,9,     -999.0,9,     -999.0,9, -999.00,9,-999.0000,9,-999.0000,9,-999.0000,9,-999.0000,9,-999.0000,9,-999.0000,9,-999.0000, -999.00
33RR20050106,       P16S,      82,          1,         25,         25,2,20050203,       0338,   -56.5002,  -150.0022,       2782,   205.5,   1.9232,  34.1593,2,  34.1598,2,    251.5,2,   253.6,2,   38.00,2,   31.69,2,    0.01,2,    2.17,2,   3.793,2,   2.018,2,   0.326,2,  2196.9,2,  2293.5,2,-999.000,9,-999.0000,9, -999.00,9, -999.00,9,  -999.0,9,  -999.0,-999.000,9,-999.000,-999.0000,9,   205.5,-999.000,   1.9125,     -999.0,9,     -999.0,9,     -999.0,9,     -999.0,9,     -999.0,9,     -999.0,9,     -999.0,9, -999.00,9,-999.0000,9,-999.0000,9,-999.0000,9,-999.0000,9,-999.0000,9,-999.0000,9,-999.0000, -999.00
33RR20050106,       P16S,      82,          1,         24,         24,2,20050203,       0338,   -56.5002,  -150.0022,       2782,   255.9,   2.4812,  34.2679,2,  34.2674,2,    223.4,2,   219.2,2,   44.94,2,   33.03,2,    0.01,2,    2.26,2,-999.000,9,-999.000,9,-999.000,9,  2213.7,2,  2301.1,2,-999.000,9,-999.0000,9, -999.00,9, -999.00,9,  -999.0,9,  -999.0,-999.000,9,-999.000,-999.0000,9,   255.9,-999.000,   2.4665,     -999.0,9,     -999.0,9,     -999.0,9,     -999.0,9,     -999.0,9,     -999.0,9,     -999.0,9, -999.00,9,-999.0000,9,-999.0000,9,-999.0000,9,-999.0000,9,-999.0000,9,-999.0000,9,-999.0000, -999.00
33RR20050106,       P16S,      82,          1,         23,         23,2,20050203,       0338,   -56.5002,  -150.0022,       2782,   305.3,   2.5895,  34.3289,2,  34.3278,2,    203.7,2,   202.5,2,   50.51,2,   33.63,2,    0.01,2,    2.30,2,   2.094,2,   1.063,2,   0.156,2,  2224.9,2,  2306.5,2,-999.000,9,-999.0000,9, -999.00,9, -999.00,9,  -999.0,9,  -999.0,-999.000,9,-999.000,-999.0000,9,   305.3,-999.000,   2.5716,     -999.0,9,     -999.0,9,     -999.0,9,     -999.0,9,     -999.0,9,     -999.0,9,     -999.0,9, -999.00,9,-999.0000,9,-999.0000,9,-999.0000,9,-999.0000,9,-999.0000,9,-999.0000,9,-999.0000, -999.00
33RR20050106,       P16S,      82,          1,         22,         22,2,20050203,       0338,   -56.5002,  -150.0022,       2782,   356.8,   2.6058,  34.3834,2,  34.3822,2,    191.8,2,   190.9,2,   55.67,2,   34.16,2,    0.00,2,    2.34,2,-999.000,9,-999.000,9,-999.000,9,  -999.0,9,  -999.0,9,-999.000,9,-999.0000,9, -999.00,9, -999.00,9,  -999.0,9,  -999.0,-999.000,9,-999.000,-999.0000,9,   356.8,-999.000,   2.5846,     -999.0,9,     -999.0,9,     -999.0,9,     -999.0,9,     -999.0,9,     -999.0,9,     -999.0,9, -999.00,9,-999.0000,9,-999.0000,9,-999.0000,9,-999.0000,9,-999.0000,9,-999.0000,9,-999.0000, -999.00
33RR20050106,       P16S,      82,          1,         21,         21,2,20050203,       0338,   -56.5002,  -150.0022,       2782,   406.7,   2.5841,  34.4252,2,  34.4254,2,    182.8,2,   183.1,2,   60.04,2,   34.33,2,    0.00,2,    2.36,2,   1.306,2,   0.659,2,   0.082,2,  2238.7,2,  2316.4,2,-999.000,9,-999.0000,9, -999.00,9, -999.00,9,  -999.0,9,  -999.0,-999.000,9,-999.000,-999.0000,9,   406.7,-999.000,   2.5598,     -999.0,9,     -999.0,9,     -999.0,9,     -999.0,9,     -999.0,9,     -999.0,9,     -999.0,9, -999.00,9,-999.0000,9,-999.0000,9,-999.0000,9,-999.0000,9,-999.0000,9,-999.0000,9,-999.0000, -999.00
33RR20050106,       P16S,      82,          1,         20,         20,2,20050203,       0338,   -56.5002,  -150.0022,       2782,   457.1,   2.5056,  34.4561,2,  34.4562,2,    178.7,2,   178.9,2,   63.42,2,   34.60,2,    0.00,2,    2.38,2,-999.000,9,-999.000,9,-999.000,9,  -999.0,9,  -999.0,9,-999.000,9,-999.0000,9, -999.00,9, -999.00,9,  -999.0,9,  -999.0,-999.000,9,-999.000,-999.0000,9,   457.1,-999.000,   2.4784,     -999.0,9,     -999.0,9,     -999.0,9,     -999.0,9,     -999.0,9,     -999.0,9,     -999.0,9, -999.00,9,-999.0000,9,-999.0000,9,-999.0000,9,-999.0000,9,-999.0000,9,-999.0000,9,-999.0000, -999.00
33RR20050106,       P16S,      82,          1,         19,         19,2,20050203,       0338,   -56.5002,  -150.0022,       2782,   507.7,   2.4682,  34.4866,2,  34.4862,2,    174.5,2,   175.7,2,   66.00,2,   34.60,2,    0.00,2,    2.38,2,   0.960,2,   0.504,2,   0.065,2,  2246.7,2,  2322.4,2,-999.000,9,-999.0000,9, -999.00,9, -999.00,9,  -999.0,9,  -999.0,-999.000,9,-999.000,-999.0000,9,   507.7,-999.000,   2.4379,     -999.0,9,     -999.0,9,     -999.0,9,     -999.0,9,     -999.0,9,     -999.0,9,     -999.0,9, -999.00,9,-999.0000,9,-999.0000,9,-999.0000,9,-999.0000,9,-999.0000,9,-999.0000,9,-999.0000, -999.00
33RR20050106,       P16S,      82,          1,         18,         18,2,20050203,       0338,   -56.5002,  -150.0022,       2782,   608.7,   2.4138,  34.5487,2,  34.5481,2,    171.0,2,   172.2,2,   70.79,2,   34.28,2,    0.00,2,    2.36,2,   0.707,2,   0.354,2,   0.047,2,  -999.0,9,  -999.0,9,-999.000,9,-999.0000,9, -999.00,9, -999.00,9,  -999.0,9,  -999.0,-999.000,9,-999.000,-999.0000,9,   608.7,-999.000,   2.3771,     -999.0,9,     -999.0,9,     -999.0,9,     -999.0,9,     -999.0,9,     -999.0,9,     -999.0,9, -999.00,9,-999.0000,9,-999.0000,9,-999.0000,9,-999.0000,9,-999.0000,9,-999.0000,9,-999.0000, -999.00
33RR20050106,       P16S,      82,          1,         17,         17,2,20050203,       0338,   -56.5002,  -150.0022,       2782,   708.8,   2.3656,  34.5949,2,  34.5941,2,    171.5,2,   172.7,2,   73.59,2,   33.64,2,    0.00,2,    2.31,2,   0.497,2,   0.248,2,   0.031,2,  -999.0,9,  -999.0,9,-999.000,9,-999.0000,9, -999.00,9, -999.00,9,  -999.0,9,  -999.0,-999.000,9,-999.000,-999.0000,9,   708.8,-999.000,   2.3226,     -999.0,9,     -999.0,9,     -999.0,9,     -999.0,9,     -999.0,9,     -999.0,9,     -999.0,9, -999.00,9,-999.0000,9,-999.0000,9,-999.0000,9,-999.0000,9,-999.0000,9,-999.0000,9,-999.0000, -999.00
33RR20050106,       P16S,      82,          1,         16,         16,2,20050203,       0338,   -56.5002,  -150.0022,       2782,   810.2,   2.3130,  34.6295,2,  34.6287,2,    172.9,2,   173.6,2,   75.57,2,   33.22,2,    0.00,2,    2.28,2,   0.399,2,   0.207,2,   0.025,2,  -999.0,9,  -999.0,9,-999.000,9,-999.0000,9, -999.00,9, -999.00,9,  -999.0,9,  -999.0,-999.000,9,-999.000,-999.0000,9,   810.2,-999.000,   2.2634,     -999.0,9,     -999.0,9,     -999.0,9,     -999.0,9,     -999.0,9,     -999.0,9,     -999.0,9, -999.00,9,-999.0000,9,-999.0000,9,-999.0000,9,-999.0000,9,-999.0000,9,-999.0000,9,-999.0000, -999.00
33RR20050106,       P16S,      82,          1,         15,         15,2,20050203,       0338,   -56.5002,  -150.0022,       2782,   911.8,   2.2606,  34.6588,2,  34.6582,2,    175.1,2,   175.9,2,   77.77,2,   32.57,2,    0.00,2,    2.24,2,   0.314,2,   0.169,2,   0.020,2,  -999.0,9,  -999.0,9,-999.000,9,-999.0000,9, -999.00,9, -999.00,9,  -999.0,9,  -999.0,-999.000,9,-999.000,-999.0000,9,   911.8,-999.000,   2.2044,     -999.0,9,     -999.0,9,     -999.0,9,     -999.0,9,     -999.0,9,     -999.0,9,     -999.0,9, -999.00,9,-999.0000,9,-999.0000,9,-999.0000,9,-999.0000,9,-999.0000,9,-999.0000,9,-999.0000, -999.00
33RR20050106,       P16S,      82,          1,         14,         14,2,20050203,       0338,   -56.5002,  -150.0022,       2782,  1012.1,   2.2046,  34.6847,2,  34.6837,2,    178.3,2,   179.0,2,   79.36,2,   32.15,2,    0.00,2,    2.20,2,   0.247,2,   0.124,2,   0.028,2,  -999.0,9,  -999.0,9,-999.000,9,-999.0000,9, -999.00,9, -999.00,9,  -999.0,9,  -999.0,-999.000,9,-999.000,-999.0000,9,  1012.1,-999.000,   2.1418,     -999.0,9,     -999.0,9,     -999.0,9,     -999.0,9,     -999.0,9,     -999.0,9,     -999.0,9, -999.00,9,-999.0000,9,-999.0000,9,-999.0000,9,-999.0000,9,-999.0000,9,-999.0000,9,-999.0000, -999.00
33RR20050106,       P16S,      82,          1,         13,         13,2,20050203,       0338,   -56.5002,  -150.0022,       2782,  1113.0,   2.1425,  34.7033,2,  34.7038,2,    181.0,2,   181.9,2,   81.35,2,   31.61,2,    0.00,2,    2.16,2,   0.200,2,   0.106,2,   0.015,2,  -999.0,9,  -999.0,9,-999.000,9,-999.0000,9, -999.00,9, -999.00,9,  -999.0,9,  -999.0,-999.000,9,-999.000,-999.0000,9,  1113.0,-999.000,   2.0730,     -999.0,9,     -999.0,9,     -999.0,9,     -999.0,9,     -999.0,9,     -999.0,9,     -999.0,9, -999.00,9,-999.0000,9,-999.0000,9,-999.0000,9,-999.0000,9,-999.0000,9,-999.0000,9,-999.0000, -999.00
33RR20050106,       P16S,      82,          1,         12,         12,2,20050203,       0338,   -56.5002,  -150.0022,       2782,  1214.9,   2.0701,  34.7165,2,  34.7164,2,    183.6,2,   184.2,2,   83.15,2,   31.41,2,    0.00,2,    2.15,2,   0.236,2,   0.135,2,   0.024,2,  -999.0,9,  -999.0,9,-999.000,9,-999.0000,9, -999.00,9, -999.00,9,  -999.0,9,  -999.0,-999.000,9,-999.000,-999.0000,9,  1214.9,-999.000,   1.9939,     -999.0,9,     -999.0,9,     -999.0,9,     -999.0,9,     -999.0,9,     -999.0,9,     -999.0,9, -999.00,9,-999.0000,9,-999.0000,9,-999.0000,9,-999.0000,9,-999.0000,9,-999.0000,9,-999.0000, -999.00
33RR20050106,       P16S,      82,          1,         11,         11,2,20050203,       0338,   -56.5002,  -150.0022,       2782,  1316.1,   1.9919,  34.7268,2,  34.7274,2,    186.3,2,   186.8,2,   85.35,2,   31.19,2,    0.00,2,    2.13,2,   0.208,2,   0.114,2,   0.015,2,  -999.0,9,  -999.0,9,-999.000,9,-999.0000,9, -999.00,9, -999.00,9,  -999.0,9,  -999.0,-999.000,9,-999.000,-999.0000,9,  1316.1,-999.000,   1.9091,     -999.0,9,     -999.0,9,     -999.0,9,     -999.0,9,     -999.0,9,     -999.0,9,     -999.0,9, -999.00,9,-999.0000,9,-999.0000,9,-999.0000,9,-999.0000,9,-999.0000,9,-999.0000,9,-999.0000, -999.00
33RR20050106,       P16S,      82,          1,         10,         10,2,20050203,       0338,   -56.5002,  -150.0022,       2782,  1416.8,   1.9094,  34.7335,2,  34.7335,2,    188.4,2,   189.3,2,   87.75,2,   30.99,2,    0.00,2,    2.12,2,   0.248,2,   0.141,2,   0.021,2,  -999.0,9,  -999.0,9,-999.000,9,-999.0000,9, -999.00,9, -999.00,9,  -999.0,9,  -999.0,-999.000,9,-999.000,-999.0000,9,  1416.8,-999.000,   1.8200,     -999.0,9,     -999.0,9,     -999.0,9,     -999.0,9,     -999.0,9,     -999.0,9,     -999.0,9, -999.00,9,-999.0000,9,-999.0000,9,-999.0000,9,-999.0000,9,-999.0000,9,-999.0000,9,-999.0000, -999.00
33RR20050106,       P16S,      82,          1,          9,          9,2,20050203,       0338,   -56.5002,  -150.0022,       2782,  1517.2,   1.8355,  34.7372,2,  34.7375,2,    190.7,2,   191.3,2,   89.95,2,   30.83,2,    0.00,2,    2.11,2,   0.141,2,   0.069,2,   0.021,2,  -999.0,9,  -999.0,9,-999.000,9,-999.0000,9, -999.00,9, -999.00,9,  -999.0,9,  -999.0,-999.000,9,-999.000,-999.0000,9,  1517.2,-999.000,   1.7394,     -999.0,9,     -999.0,9,     -999.0,9,     -999.0,9,     -999.0,9,     -999.0,9,     -999.0,9, -999.00,9,-999.0000,9,-999.0000,9,-999.0000,9,-999.0000,9,-999.0000,9,-999.0000,9,-999.0000, -999.00
33RR20050106,       P16S,      82,          1,          8,          8,2,20050203,       0338,   -56.5002,  -150.0022,       2782,  1619.3,   1.7504,  34.7388,2,  34.7394,2,    192.3,2,   192.8,2,   92.75,2,   30.88,2,    0.00,2,    2.11,2,   0.171,2,   0.094,2,   1.188,4,  -999.0,9,  -999.0,9,-999.000,9,-999.0000,9, -999.00,9, -999.00,9,  -999.0,9,  -999.0,-999.000,9,-999.000,-999.0000,9,  1619.3,-999.000,   1.6476,     -999.0,9,     -999.0,9,     -999.0,9,     -999.0,9,     -999.0,9,     -999.0,9,     -999.0,9, -999.00,9,-999.0000,9,-999.0000,9,-999.0000,9,-999.0000,9,-999.0000,9,-999.0000,9,-999.0000, -999.00
33RR20050106,       P16S,      82,          1,          7,          7,2,20050203,       0338,   -56.5002,  -150.0022,       2782,  1822.6,   1.5854,  34.7380,2,  34.7388,2,    195.2,2,   195.9,2,   97.17,2,   30.89,2,    0.00,2,    2.12,2,   0.198,3,   0.128,3,   0.014,2,  -999.0,9,  -999.0,9,-999.000,9,-999.0000,9, -999.00,9, -999.00,9,  -999.0,9,  -999.0,-999.000,9,-999.000,-999.0000,9,  1822.6,-999.000,   1.4690,     -999.0,9,     -999.0,9,     -999.0,9,     -999.0,9,     -999.0,9,     -999.0,9,     -999.0,9, -999.00,9,-999.0000,9,-999.0000,9,-999.0000,9,-999.0000,9,-999.0000,9,-999.0000,9,-999.0000, -999.00
33RR20050106,       P16S,      82,          1,          6,          6,2,20050203,       0338,   -56.5002,  -150.0022,       2782,  2025.1,   1.4144,  34.7339,2,  34.7351,2,    197.4,2,   198.7,2,  102.80,2,   31.10,2,    0.00,2,    2.13,2,   0.081,2,   0.055,2,   0.011,2,  -999.0,9,  -999.0,9,-999.000,9,-999.0000,9, -999.00,9, -999.00,9,  -999.0,9,  -999.0,-999.000,9,-999.000,-999.0000,9,  2025.1,-999.000,   1.2845,     -999.0,9,     -999.0,9,     -999.0,9,     -999.0,9,     -999.0,9,     -999.0,9,     -999.0,9, -999.00,9,-999.0000,9,-999.0000,9,-999.0000,9,-999.0000,9,-999.0000,9,-999.0000,9,-999.0000, -999.00
33RR20050106,       P16S,      82,          1,          5,          5,2,20050203,       0338,   -56.5002,  -150.0022,       2782,  2279.3,   1.2296,  34.7270,2,  34.7278,2,    199.8,2,   200.5,2,  108.44,2,   31.26,2,    0.00,2,    2.15,2,   0.081,2,   0.053,2,  -0.002,2,  -999.0,9,  -999.0,9,-999.000,9,-999.0000,9, -999.00,9, -999.00,9,  -999.0,9,  -999.0,-999.000,9,-999.000,-999.0000,9,  2279.3,-999.000,   1.0820,     -999.0,9,     -999.0,9,     -999.0,9,     -999.0,9,     -999.0,9,     -999.0,9,     -999.0,9, -999.00,9,-999.0000,9,-999.0000,9,-999.0000,9,-999.0000,9,-999.0000,9,-999.0000,9,-999.0000, -999.00
33RR20050106,       P16S,      82,          1,          4,          4,2,20050203,       0338,   -56.5002,  -150.0022,       2782,  2482.6,   1.1163,  34.7220,2,  34.7231,2,    201.3,2,   202.1,2,  111.68,2,   31.49,2,    0.00,2,    2.17,2,   0.141,2,   0.090,2,  -0.002,2,  -999.0,9,  -999.0,9,-999.000,9,-999.0000,9, -999.00,9, -999.00,9,  -999.0,9,  -999.0,-999.000,9,-999.000,-999.0000,9,  2482.6,-999.000,   0.9537,     -999.0,9,     -999.0,9,     -999.0,9,     -999.0,9,     -999.0,9,     -999.0,9,     -999.0,9, -999.00,9,-999.0000,9,-999.0000,9,-999.0000,9,-999.0000,9,-999.0000,9,-999.0000,9,-999.0000, -999.00
33RR20050106,       P16S,      82,          1,          3,          3,2,20050203,       0338,   -56.5002,  -150.0022,       2782,  2644.9,   1.0182,  34.7178,2,  34.7190,2,    203.0,2,   204.1,2,  115.91,2,   31.70,2,    0.00,2,    2.18,2,   0.083,2,   0.049,2,  -0.002,2,  -999.0,9,  -999.0,9,-999.000,9,-999.0000,9, -999.00,9, -999.00,9,  -999.0,9,  -999.0,-999.000,9,-999.000,-999.0000,9,  2644.9,-999.000,   0.8436,     -999.0,9,     -999.0,9,     -999.0,9,     -999.0,9,     -999.0,9,     -999.0,9,     -999.0,9, -999.00,9,-999.0000,9,-999.0000,9,-999.0000,9,-999.0000,9,-999.0000,9,-999.0000,9,-999.0000, -999.00
33RR20050106,       P16S,      82,          1,          2,          2,2,20050203,       0338,   -56.5002,  -150.0022,       2782,  2696.5,   0.9664,  34.7157,2,  34.7171,2,    203.4,2,   204.2,2,  118.32,2,   31.75,2,    0.00,2,    2.18,2,   0.092,2,   0.058,2,  -0.002,2,  -999.0,9,  -999.0,9,-999.000,9,-999.0000,9, -999.00,9, -999.00,9,  -999.0,9,  -999.0,-999.000,9,-999.000,-999.0000,9,  2696.5,-999.000,   0.7883,     -999.0,9,     -999.0,9,     -999.0,9,     -999.0,9,     -999.0,9,     -999.0,9,     -999.0,9, -999.00,9,-999.0000,9,-999.0000,9,-999.0000,9,-999.0000,9,-999.0000,9,-999.0000,9,-999.0000, -999.00