BOTTLE,20201109CCHSIOCBG
EXPOCODE,SECT_ID,STNNBR,CASTNO,SAMPNO,BTLNBR,BTLNBR_FLAG_W,DATE,TIME,LATITUDE,LONGITUDE,DEPTH,CTDPRS,CTDTMP,CTDSAL,CTDSAL_FLAG_W,SALNTY,SALNTY_FLAG_W,CTDOXY,CTDOXY_FLAG_W,OXYGEN,OXYGEN_FLAG_W,SILCAT,SILCAT_FLAG_W,NITRAT,NITRAT_FLAG_W,NITRIT,NITRIT_FLAG_W,PHSPHT,PHSPHT_FLAG_W,CFC-11,CFC-11_FLAG_W,CFC-12,CFC-12_FLAG_W,CFC113,CFC113_FLAG_W,TCARBN,TCARBN_FLAG_W,ALKALI,ALKALI_FLAG_W,TRITUM,TRITUM_FLAG_W,HELIUM,HELIUM_FLAG_W,DELHE3,DELHE3_FLAG_W,DELC13,DELC13_FLAG_W,DELC14,DELC14_FLAG_W,C14ERR,NEON,NEON_FLAG_W,NEONER,DOC,DOC_FLAG_W,CTDRAW,TRITER,THETA,FUCO,FUCO_FLAG_W,RHAM,RHAM_FLAG_W,ARABA,ARABA_FLAG_W,GALA,GALA_FLAG_W,GLUC,GLUC_FLAG_W,MAN,MAN_FLAG_W,DCNS,DCNS_FLAG_W,BRDU,BRDU_FLAG_W,CDOM325,CDOM325_FLAG_W,CDOM340,CDOM340_FLAG_W,CDOM380,CDOM380_FLAG_W,CDOM412,CDOM412_FLAG_W,CDOMSL,CDOMSL_FLAG_W,CDOMSN,CDOMSN_FLAG_W,HELIER,DELHER
,,,,,,,,,,,METERS,DBAR,ITS-90,PSS-78,,PSS-78,,UMOL/KG,,UMOL/KG,,UMOL/KG,,UMOL/KG,,UMOL/KG,,UMOL/KG,,PMOL/KG,,PMOL/KG,,PMOL/KG,,UMOL/KG,,UMOL/KG,,TU,,NMOL/KG,,PERCNT,,/MILLE,,/MILLE,,/MILLE,NMOL/KG,,NMOL/KG,UMOL/KG,,DBAR,TU,DEG C,NMOL/KG,,NMOL/KG,,NMOL/KG,,NMOL/KG,,NMOL/KG,,NMOL/KG,,NMOL/KG,,PMOL/L/H,,1/M,,1/M,,1/M,,1/M,,1/NM,,1/NM,,NMOL/KG,PERCNT
33RR20050106,       P16S,      13,          1,         36,         36,2,20050113,       1641,   -22.0000,  -150.0000,       4545,     3.7,  27.6659,  35.7277,2,  35.7221,2,    200.1,2,   200.4,2,    0.66,2,    0.02,2,    0.00,2,    0.13,2,   1.678,2,   1.053,2,   0.132,2,  1999.8,2,  2346.1,2,   0.464,2,-999.0000,9, -999.00,9, -999.00,9,  -999.0,9,  -999.0,-999.000,9,-999.000,  73.5896,2,     3.7,   0.009,  27.6650,        366,2,        239,2,        209,2,        632,2,        483,2,        880,2,       2809,2,    0.17,2,  -0.0040,4,   0.0010,3,  -0.0010,4,  -0.0020,4,-999.0000,9,-999.0000,9,-999.0000, -999.00
33RR20050106,       P16S,      13,          1,         35,         35,2,20050113,       1641,   -22.0000,  -150.0000,       4545,    33.1,  26.3192,  35.7939,2,  35.7935,2,    206.3,2,   205.8,2,    0.66,2,    0.02,2,    0.00,2,    0.13,2,-999.000,9,-999.000,9,-999.000,9,  2003.4,6,  2352.6,6,-999.000,9,-999.0000,9, -999.00,9, -999.00,9,  -999.0,9,  -999.0,-999.000,9,-999.000,  73.1450,2,    33.1,-999.000,  26.3117,     -999.0,9,     -999.0,9,     -999.0,9,     -999.0,9,     -999.0,9,     -999.0,9,     -999.0,9,    0.42,2,   0.0020,3,   0.0060,2,   0.0020,3,   0.0010,3,-999.0000,9,-999.0000,9,-999.0000, -999.00
33RR20050106,       P16S,      13,          1,         34,         34,2,20050113,       1641,   -22.0000,  -150.0000,       4545,    57.8,  24.4669,  35.7907,2,  35.7821,2,    213.3,2,   212.8,2,    0.67,2,    0.02,2,    0.00,2,    0.13,2,   1.861,2,   1.201,2,   0.162,2,  2007.0,2,  2349.2,2,   0.513,2,   1.6990,2,   -1.71,2, -999.00,9,  -999.0,9,  -999.0,   6.761,2,   0.008,  71.7145,2,    57.8,   0.011,  24.4545,        358,2,        202,2,        185,2,        626,2,        399,2,        712,2,       2482,2,    0.11,2,   0.0180,2,   0.0170,2,   0.0070,2,   0.0030,2,-999.0000,9,-999.0000,9,   0.0010,    0.11
33RR20050106,       P16S,      13,          1,         33,         33,2,20050113,       1641,   -22.0000,  -150.0000,       4545,    82.6,  23.4582,  35.7103,2,  35.7020,2,    211.4,2,   211.0,2,    0.47,2,    0.02,2,    0.00,2,    0.13,2,-999.000,9,-999.000,9,-999.000,9,  2013.4,2,  2343.4,2,-999.000,9,-999.0000,9, -999.00,9, -999.00,9,  -999.0,9,  -999.0,-999.000,9,-999.000,  69.7194,2,    82.6,-999.000,  23.4411,        306,2,        160,2,         77,2,        490,2,        974,3,        614,2,       2622,2,    0.09,2,   0.0410,2,   0.0320,2,   0.0160,2,   0.0100,2,   0.0171,2,   0.0174,2,-999.0000, -999.00
33RR20050106,       P16S,      13,          1,         32,         32,2,20050113,       1641,   -22.0000,  -150.0000,       4545,   107.6,  22.5380,  35.6410,2,  35.6398,2,    212.1,2,   210.6,2,    0.47,2,    0.02,2,    0.00,2,    0.12,2,   2.011,2,   1.289,2,   0.160,2,  2018.8,2,  2340.1,2,   0.548,2,   1.7090,2,   -1.71,2, -999.00,9,  -999.0,9,  -999.0,   6.820,2,   0.010,  65.8341,2,   107.6,   0.015,  22.5163,        250,2,        160,2,         94,2,        411,2,        334,2,        503,2,       1752,2,    0.09,2,   0.0470,2,   0.0380,2,   0.0200,2,   0.0150,2,   0.0144,2,   0.0145,2,   0.0020,    0.14
33RR20050106,       P16S,      13,          1,         31,         31,2,20050113,       1641,   -22.0000,  -150.0000,       4545,   157.9,  20.8002,  35.6321,2,  35.6457,2,    195.8,2,   195.0,2,    0.68,2,    0.94,2,    0.07,2,    0.23,2,   2.149,2,   1.345,2,   0.104,2,  2051.4,2,  2337.3,2,   0.498,2,-999.0000,9, -999.00,9, -999.00,9,  -999.0,9,  -999.0,-999.000,9,-999.000,  55.6868,2,   157.9,   0.015,  20.7701,        117,2,         79,2,         67,2,        182,2,        147,2,        174,2,        766,2,    0.05,2,   0.0640,2,   0.0530,2,   0.0280,2,   0.0220,2,   0.0150,2,   0.0147,2,-999.0000, -999.00
33RR20050106,       P16S,      13,          1,         30,         30,2,20050113,       1641,   -22.0000,  -150.0000,       4545,   207.7,  19.0803,  35.5436,2,  35.5432,2,    196.7,2,   197.5,2,    0.68,2,    1.72,2,    0.02,2,    0.28,2,-999.000,5,-999.000,5,-999.000,5,  2062.3,2,  2329.4,2,-999.000,9,   0.2500,5,   -1.87,3, -999.00,9,  -999.0,9,  -999.0,   1.088,4,   0.002,  53.3086,2,   207.7,-999.000,  19.0430,     -999.0,9,     -999.0,9,     -999.0,9,     -999.0,9,     -999.0,9,     -999.0,9,     -999.0,9,    0.02,2,   0.0600,2,   0.0490,2,   0.0290,2,   0.0210,2,   0.0130,2,   0.0129,2,   0.0010,    0.35
33RR20050106,       P16S,      13,          1,         29,         29,2,20050113,       1641,   -22.0000,  -150.0000,       4545,   257.7,  17.4992,  35.4191,2,  35.4180,2,    197.8,2,   197.8,2,    0.90,2,    3.03,2,    0.01,2,    0.36,2,   2.427,2,   1.470,2,   0.022,2,  2073.9,2,  2321.7,2,   0.461,2,   1.7840,2,   -0.89,2, -999.00,9,  -999.0,9,  -999.0,   7.250,2,   0.012,  50.9233,2,   257.7,   0.013,  17.4556,     -999.0,9,     -999.0,9,     -999.0,9,     -999.0,9,     -999.0,9,     -999.0,9,     -999.0,9,    0.00,4,   0.0570,2,   0.0460,2,   0.0250,2,   0.0180,2,   0.0152,2,   0.0152,2,   0.0010,    0.12
33RR20050106,       P16S,      13,          1,         28,         28,2,20050113,       1641,   -22.0000,  -150.0000,       4545,   307.6,  15.8070,  35.2542,2,  35.2535,2,    199.0,2,   198.2,2,    1.31,2,    5.07,2,    0.00,2,    0.49,2,   2.517,2,   1.481,2,   0.019,2,  2084.3,2,  2313.4,2,   0.361,2,   1.7430,2,   -0.40,2, -999.00,9,  -999.0,9,  -999.0,   7.173,2,   0.011,  47.6931,2,   307.6,   0.012,  15.7585,         45,2,         37,2,         34,2,         76,2,        105,2,         98,2,        394,2, -999.00,9,   0.0530,2,   0.0430,2,   0.0230,2,   0.0180,2,   0.0141,2,   0.0140,2,   0.0010,    0.14
33RR20050106,       P16S,      13,          1,         27,         27,2,20050113,       1641,   -22.0000,  -150.0000,       4545,   357.9,  13.9850,  35.0477,2,  35.0464,2,    198.0,2,   198.6,2,    2.14,2,    8.25,2,    0.00,2,    0.69,2,   2.480,2,   1.419,2,   0.031,2,  2098.5,2,  2301.9,2,   0.350,2,   1.7710,2,   -0.30,2, -999.00,9,  -999.0,9,  -999.0,   7.389,2,   0.011,  47.3788,2,   357.9,   0.015,  13.9330,     -999.0,9,     -999.0,9,     -999.0,9,     -999.0,9,     -999.0,9,     -999.0,9,     -999.0,9, -999.00,9,   0.0520,2,   0.0420,2,   0.0230,2,   0.0180,2,   0.0136,2,   0.0137,2,   0.0010,    0.14
33RR20050106,       P16S,      13,          1,         26,         26,2,20050113,       1641,   -22.0000,  -150.0000,       4545,   408.1,  11.9711,  34.8278,2,  34.8201,2,    201.0,2,   202.1,2,    2.97,2,   12.22,2,    0.00,2,    0.95,2,   2.549,2,   1.428,2,   0.033,2,  2112.2,2,  2291.8,2,-999.000,9,   1.7720,2,   -0.23,2, -999.00,9,  -999.0,9,  -999.0,   7.399,2,   0.012,  44.7892,2,   408.1,-999.000,  11.9176,     -999.0,9,     -999.0,9,     -999.0,9,     -999.0,9,     -999.0,9,     -999.0,9,     -999.0,9, -999.00,9,   0.0530,2,   0.0430,2,   0.0240,2,   0.0200,2,   0.0135,2,   0.0139,2,   0.0010,    0.19
33RR20050106,       P16S,      13,          1,         25,         25,2,20050113,       1641,   -22.0000,  -150.0000,       4545,   458.1,   9.7175,  34.5939,2,  34.5966,2,    204.1,2,   206.8,2,    4.84,2,   17.06,2,    0.00,2,    1.25,2,   2.434,2,   1.262,2,   0.039,2,  2127.3,2,  2282.3,2,   0.219,2,-999.0000,9, -999.00,9, -999.00,9,  -999.0,9,  -999.0,-999.000,9,-999.000,-999.0000,9,   458.1,   0.013,   9.6648,     -999.0,9,     -999.0,9,     -999.0,9,     -999.0,9,     -999.0,9,     -999.0,9,     -999.0,9, -999.00,9,-999.0000,9,-999.0000,9,-999.0000,9,-999.0000,9,-999.0000,9,-999.0000,9,-999.0000, -999.00
33RR20050106,       P16S,      13,          1,         24,         24,2,20050113,       1641,   -22.0000,  -150.0000,       4545,   508.3,   8.1952,  34.4581,2,  34.4586,2,    214.0,2,   215.2,2,    6.28,2,   20.43,2,    0.00,2,    1.47,2,   2.253,2,   1.186,2,   0.041,2,  2137.4,2,  2277.7,2,   0.150,2,   1.7810,2,    0.16,2, -999.00,9,  -999.0,9,  -999.0,   7.665,2,   0.045,  41.8278,2,   508.3,   0.009,   8.1424,     -999.0,9,     -999.0,9,     -999.0,9,     -999.0,9,     -999.0,9,     -999.0,9,     -999.0,9, -999.00,9,   0.0600,2,   0.0460,2,   0.0260,2,   0.0200,2,   0.0141,2,   0.0148,2,   0.0010,    0.11
33RR20050106,       P16S,      13,          1,         23,         23,2,20050113,       1641,   -22.0000,  -150.0000,       4545,   608.5,   6.6496,  34.3574,2,  34.3577,2,    203.6,2,   204.5,2,   11.89,2,   25.84,2,    0.00,2,    1.83,2,   1.300,2,   0.682,2,   0.021,2,  2161.0,2,  2277.3,2,   0.142,2,-999.0000,9, -999.00,9, -999.00,9,  -999.0,9,  -999.0,-999.000,9,-999.000,  39.6627,2,   608.5,   0.012,   6.5931,     -999.0,9,     -999.0,9,     -999.0,9,     -999.0,9,     -999.0,9,     -999.0,9,     -999.0,9, -999.00,9,   0.0640,2,   0.0480,2,   0.0290,2,   0.0230,2,   0.0139,2,   0.0146,2,-999.0000, -999.00
33RR20050106,       P16S,      13,          1,         22,         22,2,20050113,       1641,   -22.0000,  -150.0000,       4545,   708.9,   5.6617,  34.3198,2,  34.3210,2,    207.2,2,   209.3,2,   16.86,2,   27.96,2,    0.00,2,    1.96,2,   0.800,2,   0.436,2,   0.001,2,  2167.8,2,  2281.5,2,   0.076,2,   1.7760,2,    1.92,2, -999.00,9,  -999.0,9,  -999.0,   7.749,2,   0.032,  39.2355,2,   708.9,   0.012,   5.6007,     -999.0,9,     -999.0,9,     -999.0,9,     -999.0,9,     -999.0,9,     -999.0,9,     -999.0,9, -999.00,9,   0.0620,2,   0.0470,2,   0.0290,2,   0.0230,2,   0.0132,2,   0.0140,2,   0.0030,    0.15
33RR20050106,       P16S,      13,          1,         21,         21,2,20050113,       1641,   -22.0000,  -150.0000,       4545,   809.2,   5.0476,  34.3235,2,  34.3222,2,    197.9,2,   202.0,2,   23.52,2,   29.71,2,    0.00,2,    2.08,2,   0.503,2,   0.279,2,   0.001,2,  2180.1,2,  2288.8,2,   0.001,2,   1.8370,2,    2.78,2, -999.00,9,  -999.0,9,  -999.0,   7.837,2,   0.033,  39.8002,2,   809.2,   0.011,   4.9812,     -999.0,9,     -999.0,9,     -999.0,9,     -999.0,9,     -999.0,9,     -999.0,9,     -999.0,9, -999.00,9,   0.0650,2,   0.0480,2,   0.0280,2,   0.0230,2,   0.0146,2,   0.0156,2,   0.0030,    0.15
33RR20050106,       P16S,      13,          1,         20,         20,2,20050113,       1641,   -22.0000,  -150.0000,       4545,   909.6,   4.6972,  34.4015,2,  34.4014,2,    159.2,2,   159.2,2,   42.29,2,   33.78,2,    0.00,2,    2.39,2,   0.170,2,   0.101,2,   0.001,2,  2221.2,2,  2307.0,2,-999.000,9,   1.8440,2,    9.01,2, -999.00,9,  -999.0,9,  -999.0,   7.902,2,   0.033,  38.8242,2,   909.6,-999.000,   4.6243,     -999.0,9,     -999.0,9,     -999.0,9,     -999.0,9,     -999.0,9,     -999.0,9,     -999.0,9, -999.00,9,   0.0800,2,   0.0590,2,   0.0350,2,   0.0280,2,   0.0139,2,   0.0147,2,   0.0030,    0.15
33RR20050106,       P16S,      13,          1,         19,         19,2,20050113,       1641,   -22.0000,  -150.0000,       4545,  1010.5,   3.9955,  34.4343,2,  34.4351,2,    156.4,2,   156.2,2,   55.49,2,   34.85,2,    0.00,2,    2.47,2,   0.057,2,   0.040,2,   0.001,2,  2238.7,2,  2319.4,2,-999.000,9,-999.0000,9, -999.00,9, -999.00,9,  -999.0,9,  -999.0,-999.000,9,-999.000,  39.0638,2,  1010.5,-999.000,   3.9191,     -999.0,9,     -999.0,9,     -999.0,9,     -999.0,9,     -999.0,9,     -999.0,9,     -999.0,9, -999.00,9,   0.0850,2,   0.0640,2,   0.0380,2,   0.0290,2,   0.0133,2,   0.0141,2,-999.0000, -999.00
33RR20050106,       P16S,      13,          1,         18,         18,2,20050113,       1641,   -22.0000,  -150.0000,       4545,  1110.7,   3.6399,  34.4770,2,  34.4778,2,    150.6,2,   151.7,2,   66.86,2,   35.28,2,    0.00,2,    2.51,2,   0.029,6,   0.022,6,   0.001,6,  2251.1,2,  2333.2,2,   0.001,2,-999.0000,9, -999.00,9, -999.00,9,  -999.0,9,  -999.0,-999.000,9,-999.000,-999.0000,9,  1110.7,   0.006,   3.5581,     -999.0,9,     -999.0,9,     -999.0,9,     -999.0,9,     -999.0,9,     -999.0,9,     -999.0,9, -999.00,9,-999.0000,9,-999.0000,9,-999.0000,9,-999.0000,9,-999.0000,9,-999.0000,9,-999.0000, -999.00
33RR20050106,       P16S,      13,          1,         17,         17,2,20050113,       1641,   -22.0000,  -150.0000,       4545,  1211.5,   3.1791,  34.5261,2,  34.5270,2,    150.1,2,   150.7,2,   81.20,2,   35.48,2,    0.00,2,    2.52,2,   0.025,2,   0.024,2,   0.001,2,  2264.4,2,  2350.4,2,   0.001,2,   0.3930,4,   24.14,3, -999.00,9,  -999.0,9,  -999.0,   1.392,4,   0.003,  36.2367,2,  1211.5,   0.008,   3.0931,     -999.0,9,     -999.0,9,     -999.0,9,     -999.0,9,     -999.0,9,     -999.0,9,     -999.0,9, -999.00,9,   0.0930,2,   0.0700,2,   0.0410,2,   0.0310,2,   0.0126,2,   0.0136,2,   0.0010,    0.28
33RR20050106,       P16S,      13,          1,         16,         16,2,20050113,       1641,   -22.0000,  -150.0000,       4545,  1312.4,   2.9934,  34.5459,2,  34.5474,2,    149.8,2,   150.2,2,   87.12,2,   35.53,2,    0.00,2,    2.52,2,-999.000,9,-999.000,9,-999.000,9,  2271.4,6,  2356.6,2,-999.000,9,-999.0000,9, -999.00,9, -999.00,9,  -999.0,9,  -999.0,-999.000,9,-999.000,-999.0000,9,  1312.4,-999.000,   2.9011,     -999.0,9,     -999.0,9,     -999.0,9,     -999.0,9,     -999.0,9,     -999.0,9,     -999.0,9, -999.00,9,-999.0000,9,-999.0000,9,-999.0000,9,-999.0000,9,-999.0000,9,-999.0000,9,-999.0000, -999.00
33RR20050106,       P16S,      13,          1,         15,         15,2,20050113,       1641,   -22.0000,  -150.0000,       4545,  1412.9,   2.7770,  34.5683,2,  34.5682,2,    149.1,2,   149.6,2,   94.31,2,   35.69,2,    0.00,2,    2.54,2,   0.004,2,   0.007,2,   0.001,2,  2278.7,2,  2362.3,2,   0.020,2,-999.0000,9, -999.00,9, -999.00,9,  -999.0,9,  -999.0,-999.000,9,-999.000,-999.0000,9,  1412.9,   0.006,   2.6788,     -999.0,9,     -999.0,9,     -999.0,9,     -999.0,9,     -999.0,9,     -999.0,9,     -999.0,9, -999.00,9,-999.0000,9,-999.0000,9,-999.0000,9,-999.0000,9,-999.0000,9,-999.0000,9,-999.0000, -999.00
33RR20050106,       P16S,      13,          1,         14,         14,2,20050113,       1641,   -22.0000,  -150.0000,       4545,  1513.4,   2.6080,  34.5856,2,  34.5863,2,    148.9,2,   148.9,2,   99.82,2,   35.69,2,    0.00,2,    2.54,2,-999.000,9,-999.000,9,-999.000,9,  2285.8,6,  2371.4,6,-999.000,9,-999.0000,9, -999.00,9, -999.00,9,  -999.0,9,  -999.0,-999.000,9,-999.000,  35.5989,2,  1513.4,-999.000,   2.5036,     -999.0,9,     -999.0,9,     -999.0,9,     -999.0,9,     -999.0,9,     -999.0,9,     -999.0,9, -999.00,9,   0.0950,2,   0.0710,2,   0.0440,2,   0.0330,2,   0.0119,2,   0.0129,2,-999.0000, -999.00
33RR20050106,       P16S,      13,          1,         13,         13,2,20050113,       1641,   -22.0000,  -150.0000,       4545,  1614.6,   2.4668,  34.6000,2,  34.6012,2,    148.7,2,   149.1,2,  104.71,2,   35.74,2,    0.00,2,    2.54,2,   0.005,2,   0.003,2,   0.001,2,  2289.4,2,  2375.7,2,   0.001,2,   1.9050,2,   24.05,2, -999.00,9,  -999.0,9,  -999.0,   8.041,2,   0.015,-999.0000,9,  1614.6,   0.005,   2.3558,     -999.0,9,     -999.0,9,     -999.0,9,     -999.0,9,     -999.0,9,     -999.0,9,     -999.0,9, -999.00,9,-999.0000,9,-999.0000,9,-999.0000,9,-999.0000,9,-999.0000,9,-999.0000,9,   0.0010,    0.18
33RR20050106,       P16S,      13,          1,         12,         12,2,20050113,       1641,   -22.0000,  -150.0000,       4545,  1816.7,   2.2595,  34.6213,2,  34.6216,2,    148.9,2,   149.4,2,  112.14,2,   35.79,2,    0.00,2,    2.54,2,   0.016,2,   0.010,2,   0.001,2,  2296.9,2,  2384.7,2,   0.001,2,   1.9020,2,   26.19,2, -999.00,9,  -999.0,9,  -999.0,   8.077,2,   0.011,-999.0000,9,  1816.7,   0.004,   2.1346,     -999.0,9,     -999.0,9,     -999.0,9,     -999.0,9,     -999.0,9,     -999.0,9,     -999.0,9, -999.00,9,-999.0000,9,-999.0000,9,-999.0000,9,-999.0000,9,-999.0000,9,-999.0000,9,   0.0010,    0.13
33RR20050106,       P16S,      13,          1,         11,         11,2,20050113,       1641,   -22.0000,  -150.0000,       4545,  2018.6,   2.1237,  34.6347,2,  34.6363,2,    149.9,2,   150.5,2,  116.18,2,   35.78,2,    0.00,2,    2.54,2,   0.015,2,   0.011,2,   0.001,2,  2301.1,2,  2387.9,2,   0.001,2,   1.8990,2,   26.34,2, -999.00,9,  -999.0,9,  -999.0,   8.069,2,   0.011,  35.1748,2,  2018.6,   0.005,   1.9838,     -999.0,9,     -999.0,9,     -999.0,9,     -999.0,9,     -999.0,9,     -999.0,9,     -999.0,9, -999.00,9,   0.0960,2,   0.0720,2,   0.0440,2,   0.0320,2,   0.0126,2,   0.0134,2,   0.0010,    0.16
33RR20050106,       P16S,      13,          1,         10,         10,2,20050113,       1641,   -22.0000,  -150.0000,       4545,  2271.4,   1.9795,  34.6481,2,  34.6485,2,    151.8,2,   152.3,2,  120.66,2,   35.66,2,    0.00,2,    2.54,2,   0.026,3,   0.020,3,   0.008,3,  2303.3,2,  2392.7,2,   0.001,2,   1.9200,2,   26.06,2, -999.00,9,  -999.0,9,  -999.0,   8.077,2,   0.011,-999.0000,9,  2271.4,   0.004,   1.8200,     -999.0,9,     -999.0,9,     -999.0,9,     -999.0,9,     -999.0,9,     -999.0,9,     -999.0,9, -999.00,9,-999.0000,9,-999.0000,9,-999.0000,9,-999.0000,9,-999.0000,9,-999.0000,9,   0.0010,    0.14
33RR20050106,       P16S,      13,          1,          9,          9,2,20050113,       1641,   -22.0000,  -150.0000,       4545,  2524.3,   1.8631,  34.6589,2,  34.6585,2,    153.1,2,   153.5,2,  124.27,2,   35.66,2,    0.00,2,    2.53,2,   0.008,2,   0.004,2,   0.001,2,  2305.3,2,  2395.6,2,   0.001,2,   1.8290,2,   22.92,2, -999.00,9,  -999.0,9,  -999.0,   7.714,4,   0.010,  35.8438,2,  2524.3,   0.006,   1.6831,     -999.0,9,     -999.0,9,     -999.0,9,     -999.0,9,     -999.0,9,     -999.0,9,     -999.0,9, -999.00,9,   0.1030,2,   0.0760,2,   0.0440,2,   0.0330,2,   0.0127,2,   0.0139,2,   0.0010,    0.11
33RR20050106,       P16S,      13,          1,          8,          8,2,20050113,       1641,   -22.0000,  -150.0000,       4545,  2777.8,   1.7603,  34.6677,2,  34.6679,2,    156.9,2,   157.8,2,  125.76,2,   35.38,2,    0.00,2,    2.50,2,   0.009,2,   0.006,2,   0.001,2,  2305.4,2,  2397.1,2,-999.000,9,   1.9120,2,   23.63,2, -999.00,9,  -999.0,9,  -999.0,   8.111,2,   0.039,-999.0000,9,  2777.8,-999.000,   1.5589,     -999.0,9,     -999.0,9,     -999.0,9,     -999.0,9,     -999.0,9,     -999.0,9,     -999.0,9, -999.00,9,-999.0000,9,-999.0000,9,-999.0000,9,-999.0000,9,-999.0000,9,-999.0000,9,   0.0030,    0.17
33RR20050106,       P16S,      13,          1,          7,          7,2,20050113,       1641,   -22.0000,  -150.0000,       4545,  3031.4,   1.6678,  34.6753,2,  34.6767,2,    160.9,2,   162.3,2,  126.19,2,   35.06,2,    0.00,2,    2.48,2,   0.023,3,   0.012,2,   0.001,2,  2304.3,2,  2395.0,2,   0.001,2,   1.9240,2,   22.20,2, -999.00,9,  -999.0,9,  -999.0,   8.138,2,   0.040,  36.8317,2,  3031.4,   0.005,   1.4442,     -999.0,9,     -999.0,9,     -999.0,9,     -999.0,9,     -999.0,9,     -999.0,9,     -999.0,9, -999.00,9,   0.0980,2,   0.0730,2,   0.0430,2,   0.0320,2,   0.0130,2,   0.0140,2,   0.0030,    0.17