BOTTLE,20201109CCHSIOCBG
EXPOCODE,SECT_ID,STNNBR,CASTNO,SAMPNO,BTLNBR,BTLNBR_FLAG_W,DATE,TIME,LATITUDE,LONGITUDE,DEPTH,CTDPRS,CTDTMP,CTDSAL,CTDSAL_FLAG_W,SALNTY,SALNTY_FLAG_W,CTDOXY,CTDOXY_FLAG_W,OXYGEN,OXYGEN_FLAG_W,SILCAT,SILCAT_FLAG_W,NITRAT,NITRAT_FLAG_W,NITRIT,NITRIT_FLAG_W,PHSPHT,PHSPHT_FLAG_W,CFC-11,CFC-11_FLAG_W,CFC-12,CFC-12_FLAG_W,CFC113,CFC113_FLAG_W,TCARBN,TCARBN_FLAG_W,ALKALI,ALKALI_FLAG_W,TRITUM,TRITUM_FLAG_W,HELIUM,HELIUM_FLAG_W,DELHE3,DELHE3_FLAG_W,DELC13,DELC13_FLAG_W,DELC14,DELC14_FLAG_W,C14ERR,NEON,NEON_FLAG_W,NEONER,DOC,DOC_FLAG_W,CTDRAW,TRITER,THETA,FUCO,FUCO_FLAG_W,RHAM,RHAM_FLAG_W,ARABA,ARABA_FLAG_W,GALA,GALA_FLAG_W,GLUC,GLUC_FLAG_W,MAN,MAN_FLAG_W,DCNS,DCNS_FLAG_W,BRDU,BRDU_FLAG_W,CDOM325,CDOM325_FLAG_W,CDOM340,CDOM340_FLAG_W,CDOM380,CDOM380_FLAG_W,CDOM412,CDOM412_FLAG_W,CDOMSL,CDOMSL_FLAG_W,CDOMSN,CDOMSN_FLAG_W,HELIER,DELHER
,,,,,,,,,,,METERS,DBAR,ITS-90,PSS-78,,PSS-78,,UMOL/KG,,UMOL/KG,,UMOL/KG,,UMOL/KG,,UMOL/KG,,UMOL/KG,,PMOL/KG,,PMOL/KG,,PMOL/KG,,UMOL/KG,,UMOL/KG,,TU,,NMOL/KG,,PERCNT,,/MILLE,,/MILLE,,/MILLE,NMOL/KG,,NMOL/KG,UMOL/KG,,DBAR,TU,DEG C,NMOL/KG,,NMOL/KG,,NMOL/KG,,NMOL/KG,,NMOL/KG,,NMOL/KG,,NMOL/KG,,PMOL/L/H,,1/M,,1/M,,1/M,,1/M,,1/NM,,1/NM,,NMOL/KG,PERCNT
33RR20050106,       P16S,      19,          2,         36,         36,2,20050115,       0941,   -24.9995,  -149.9985,       4556,     2.7,  27.5540,  35.6244,2,  35.6242,2,    200.1,2,   200.2,2,    0.63,2,    0.06,2,    0.00,2,    0.12,2,   1.663,2,   1.114,2,   0.165,2,  1999.4,6,  2341.1,2,   0.519,2,   5.3550,4,   -1.55,2, -999.00,9,  -999.0,9,  -999.0,  17.311,4,   0.124,  66.0634,2,     2.7,   0.009,  27.5534,     -999.0,9,     -999.0,9,     -999.0,9,     -999.0,9,     -999.0,9,     -999.0,9,     -999.0,9, -999.00,9,-999.0000,9,-999.0000,9,-999.0000,9,-999.0000,9,-999.0000,9,-999.0000,9,   0.0700,    0.22
33RR20050106,       P16S,      19,          2,         35,         35,2,20050115,       0941,   -24.9995,  -149.9985,       4556,    55.4,  22.4548,  35.6387,2,  35.6372,2,    214.9,2,   215.6,2,    0.42,2,    0.00,2,    0.00,2,    0.11,2,   2.049,2,   1.309,2,   0.166,2,  2016.5,2,  2338.7,2,   0.541,2,   0.3780,4,    2.58,3, -999.00,9,  -999.0,9,  -999.0,   1.252,4,   0.002,  67.4385,2,    55.4,   0.010,  22.4437,     -999.0,9,     -999.0,9,     -999.0,9,     -999.0,9,     -999.0,9,     -999.0,9,     -999.0,9, -999.00,9,-999.0000,9,-999.0000,9,-999.0000,9,-999.0000,9,-999.0000,9,-999.0000,9,   0.0010,    0.29
33RR20050106,       P16S,      19,          2,         34,         34,2,20050115,       0941,   -24.9995,  -149.9985,       4556,   105.3,  21.1399,  35.5911,2,  35.5922,2,    213.2,2,   212.6,2,    0.42,2,    0.00,2,    0.00,2,    0.11,2,   2.133,2,   1.362,2,   0.188,2,  2028.8,2,  2334.1,2,   0.501,2,-999.0000,9, -999.00,9, -999.00,9,  -999.0,9,  -999.0,-999.000,9,-999.000,  64.4413,2,   105.3,   0.010,  21.1196,     -999.0,9,     -999.0,9,     -999.0,9,     -999.0,9,     -999.0,9,     -999.0,9,     -999.0,9, -999.00,9,-999.0000,9,-999.0000,9,-999.0000,9,-999.0000,9,-999.0000,9,-999.0000,9,-999.0000, -999.00
33RR20050106,       P16S,      19,          2,         33,         33,2,20050115,       0941,   -24.9995,  -149.9985,       4556,   155.4,  19.7775,  35.5745,2,  35.5746,2,    202.6,2,   199.9,2,    0.63,2,    0.70,2,    0.07,2,    0.20,2,   2.273,2,   1.404,2,   0.121,2,  2053.3,2,  2332.9,2,   0.522,2,   1.7340,2,   -1.08,2, -999.00,9,  -999.0,9,  -999.0,   7.032,2,   0.008,  54.7291,2,   155.4,   0.010,  19.7489,     -999.0,9,     -999.0,9,     -999.0,9,     -999.0,9,     -999.0,9,     -999.0,9,     -999.0,9, -999.00,9,-999.0000,9,-999.0000,9,-999.0000,9,-999.0000,9,-999.0000,9,-999.0000,9,   0.0010,    0.16
33RR20050106,       P16S,      19,          2,         32,         32,2,20050115,       0941,   -24.9995,  -149.9985,       4556,   205.4,  18.5941,  35.5254,2,  35.5245,2,    193.9,2,   193.2,2,    0.83,2,    2.56,2,    0.01,2,    0.32,2,   2.340,2,   1.445,2,   0.065,2,  2067.9,2,  2327.8,2,   0.467,2,   1.7200,2,   -0.55,2, -999.00,9,  -999.0,9,  -999.0,   6.979,2,   0.008,  53.4049,2,   205.4,   0.009,  18.5579,     -999.0,9,     -999.0,9,     -999.0,9,     -999.0,9,     -999.0,9,     -999.0,9,     -999.0,9, -999.00,9,-999.0000,9,-999.0000,9,-999.0000,9,-999.0000,9,-999.0000,9,-999.0000,9,   0.0010,    0.18
33RR20050106,       P16S,      19,          2,         31,         31,2,20050115,       0941,   -24.9995,  -149.9985,       4556,   255.3,  17.1058,  35.4110,2,  35.4125,2,    208.2,2,   207.1,2,    0.83,2,    2.41,2,    0.01,2,    0.29,2,   2.534,2,   1.496,2,   0.072,2,  2068.5,2,  2320.9,2,   0.540,2,-999.0000,9, -999.00,9, -999.00,9,  -999.0,9,  -999.0,-999.000,9,-999.000,  53.7048,2,   255.3,   0.012,  17.0633,     -999.0,9,     -999.0,9,     -999.0,9,     -999.0,9,     -999.0,9,     -999.0,9,     -999.0,9, -999.00,9,-999.0000,9,-999.0000,9,-999.0000,9,-999.0000,9,-999.0000,9,-999.0000,9,-999.0000, -999.00
33RR20050106,       P16S,      19,          2,         30,         30,2,20050115,       0941,   -24.9995,  -149.9985,       4556,   304.8,  15.5247,  35.2589,2,  35.2571,2,    204.9,2,   203.5,2,    1.24,2,    4.88,2,    0.00,2,    0.45,2,   2.615,2,   1.540,2,   0.048,2,  2083.2,2,  2311.4,2,-999.000,9,   1.7230,2,   -0.54,2, -999.00,9,  -999.0,9,  -999.0,   7.128,2,   0.010,  26.3603,4,   304.8,-999.000,  15.4772,     -999.0,9,     -999.0,9,     -999.0,9,     -999.0,9,     -999.0,9,     -999.0,9,     -999.0,9, -999.00,9,-999.0000,9,-999.0000,9,-999.0000,9,-999.0000,9,-999.0000,9,-999.0000,9,   0.0010,    0.16
33RR20050106,       P16S,      19,          2,         29,         29,2,20050115,       0941,   -24.9995,  -149.9985,       4556,   355.6,  13.5890,  35.0177,2,  35.0102,2,    201.0,2,   199.8,2,    2.06,2,    9.01,2,    0.00,2,    0.72,2,   2.574,6,   1.456,6,   0.030,6,  2099.5,2,  2301.4,2,   0.365,2,   1.7310,2,   -0.05,2, -999.00,9,  -999.0,9,  -999.0,   7.284,2,   0.011,  44.4399,2,   355.6,   0.007,  13.5383,     -999.0,9,     -999.0,9,     -999.0,9,     -999.0,9,     -999.0,9,     -999.0,9,     -999.0,9, -999.00,9,-999.0000,9,-999.0000,9,-999.0000,9,-999.0000,9,-999.0000,9,-999.0000,9,   0.0010,    0.20
33RR20050106,       P16S,      19,          2,         28,         28,2,20050115,       0941,   -24.9995,  -149.9985,       4556,   405.4,  12.1223,  34.8598,2,  34.8571,2,    199.4,2,   199.9,2,    2.89,2,   12.12,2,    0.00,2,    0.92,2,   2.560,2,   1.364,2,   0.023,2,  2110.5,2,  2293.9,2,   0.434,2,-999.0000,9, -999.00,9, -999.00,9,  -999.0,9,  -999.0,-999.000,9,-999.000,  45.7331,2,   405.4,   0.009,  12.0687,     -999.0,9,     -999.0,9,     -999.0,9,     -999.0,9,     -999.0,9,     -999.0,9,     -999.0,9, -999.00,9,-999.0000,9,-999.0000,9,-999.0000,9,-999.0000,9,-999.0000,9,-999.0000,9,-999.0000, -999.00
33RR20050106,       P16S,      19,          2,         27,         27,2,20050115,       0941,   -24.9995,  -149.9985,       4556,   455.6,  10.5814,  34.7039,2,  34.7108,2,    204.3,2,   205.8,2,    3.72,2,   14.87,2,    0.00,2,    1.10,2,   2.610,2,   1.394,2,   0.043,2,  2119.5,2,  2287.5,2,   0.242,2,-999.0000,9, -999.00,9, -999.00,9,  -999.0,9,  -999.0,-999.000,9,-999.000,  45.1945,2,   455.6,   0.007,  10.5261,     -999.0,9,     -999.0,9,     -999.0,9,     -999.0,9,     -999.0,9,     -999.0,9,     -999.0,9, -999.00,9,-999.0000,9,-999.0000,9,-999.0000,9,-999.0000,9,-999.0000,9,-999.0000,9,-999.0000, -999.00
33RR20050106,       P16S,      19,          2,         26,         26,2,20050115,       0941,   -24.9995,  -149.9985,       4556,   505.8,   8.9279,  34.5348,2,  34.5368,2,    212.2,2,   215.4,2,    4.75,2,   18.25,2,    0.00,2,    1.31,2,   2.615,2,   1.435,2,   0.075,2,  2128.6,2,  2281.1,2,   0.196,2,   1.8010,2,    0.64,2, -999.00,9,  -999.0,9,  -999.0,   7.746,2,   0.038,  44.5340,2,   505.8,   0.006,   8.8726,     -999.0,9,     -999.0,9,     -999.0,9,     -999.0,9,     -999.0,9,     -999.0,9,     -999.0,9, -999.00,9,-999.0000,9,-999.0000,9,-999.0000,9,-999.0000,9,-999.0000,9,-999.0000,9,   0.0030,    0.18
33RR20050106,       P16S,      19,          2,         25,         25,2,20050115,       0941,   -24.9995,  -149.9985,       4556,   605.9,   6.8670,  34.3678,2,  34.3672,2,    227.2,2,   231.0,2,    7.84,2,   22.95,2,    0.00,2,    1.60,2,   2.123,2,   1.107,2,   0.044,2,  2140.3,2,  2279.3,2,   0.136,2,-999.0000,9, -999.00,9, -999.00,9,  -999.0,9,  -999.0,-999.000,9,-999.000,  44.7753,2,   605.9,   0.007,   6.8098,     -999.0,9,     -999.0,9,     -999.0,9,     -999.0,9,     -999.0,9,     -999.0,9,     -999.0,9, -999.00,9,-999.0000,9,-999.0000,9,-999.0000,9,-999.0000,9,-999.0000,9,-999.0000,9,-999.0000, -999.00
33RR20050106,       P16S,      19,          2,         24,         24,2,20050115,       0941,   -24.9995,  -149.9985,       4556,   707.2,   6.0801,  34.3293,2,  34.3275,2,    228.7,2,   229.8,2,   11.55,2,   25.21,2,    0.00,2,    1.75,2,   1.392,2,   0.747,2,   0.028,2,  2148.6,2,  2280.3,2,   0.097,2,   1.8960,2,    1.93,2, -999.00,9,  -999.0,9,  -999.0,   8.079,2,   0.039,  43.1315,2,   707.2,   0.004,   6.0170,     -999.0,9,     -999.0,9,     -999.0,9,     -999.0,9,     -999.0,9,     -999.0,9,     -999.0,9, -999.00,9,-999.0000,9,-999.0000,9,-999.0000,9,-999.0000,9,-999.0000,9,-999.0000,9,   0.0030,    0.17
33RR20050106,       P16S,      19,          2,         23,         23,2,20050115,       0941,   -24.9995,  -149.9985,       4556,   806.5,   5.3038,  34.3158,2,  34.3156,2,    216.5,2,   211.0,2,   19.62,2,   28.53,2,    0.00,2,    1.99,2,   0.726,2,   0.389,2,   0.019,2,  2169.6,2,  2284.6,2,-999.000,9,   1.8030,2,    3.54,2, -999.00,9,  -999.0,9,  -999.0,   7.782,2,   0.038,  40.4377,2,   806.5,-999.000,   5.2361,     -999.0,9,     -999.0,9,     -999.0,9,     -999.0,9,     -999.0,9,     -999.0,9,     -999.0,9, -999.00,9,-999.0000,9,-999.0000,9,-999.0000,9,-999.0000,9,-999.0000,9,-999.0000,9,   0.0030,    0.17
33RR20050106,       P16S,      19,          2,         22,         22,2,20050115,       0941,   -24.9995,  -149.9985,       4556,   906.5,   4.7922,  34.3296,2,  34.3289,2,    199.3,2,   198.0,2,   27.70,2,   30.54,2,    0.00,2,    2.13,2,   0.422,2,   0.228,2,   0.001,2,  2187.9,2,  2293.1,2,-999.000,9,   1.8020,2,    6.47,2, -999.00,9,  -999.0,9,  -999.0,   7.758,2,   0.038,  44.1808,2,   906.5,-999.000,   4.7190,     -999.0,9,     -999.0,9,     -999.0,9,     -999.0,9,     -999.0,9,     -999.0,9,     -999.0,9, -999.00,9,-999.0000,9,-999.0000,9,-999.0000,9,-999.0000,9,-999.0000,9,-999.0000,9,   0.0030,    0.17
33RR20050106,       P16S,      19,          2,         21,         21,2,20050115,       0941,   -24.9995,  -149.9985,       4556,  1007.6,   4.2616,  34.3647,2,  34.3642,2,    184.0,2,   182.9,2,   39.14,2,   32.50,2,    0.00,2,    2.27,2,   0.206,2,   0.117,2,   0.001,2,  2207.9,2,  2304.2,2,   0.025,2,   1.8450,2,   10.14,2, -999.00,9,  -999.0,9,  -999.0,   7.907,2,   0.038,  43.1645,2,  1007.6,   0.010,   4.1835,     -999.0,9,     -999.0,9,     -999.0,9,     -999.0,9,     -999.0,9,     -999.0,9,     -999.0,9, -999.00,9,-999.0000,9,-999.0000,9,-999.0000,9,-999.0000,9,-999.0000,9,-999.0000,9,   0.0030,    0.17
33RR20050106,       P16S,      19,          2,         20,         20,2,20050115,       0941,   -24.9995,  -149.9985,       4556,  1108.4,   3.7623,  34.4103,2,  34.4095,2,    173.3,2,   172.6,2,   51.87,2,   33.72,2,    0.00,2,    2.37,2,   0.135,2,   0.085,2,   0.001,2,  2227.8,6,  2317.1,2,   0.094,2,   1.8500,2,   13.21,2, -999.00,9,  -999.0,9,  -999.0,   7.932,2,   0.040,-999.0000,9,  1108.4,   0.006,   3.6797,     -999.0,9,     -999.0,9,     -999.0,9,     -999.0,9,     -999.0,9,     -999.0,9,     -999.0,9, -999.00,9,-999.0000,9,-999.0000,9,-999.0000,9,-999.0000,9,-999.0000,9,-999.0000,9,   0.0030,    0.20
33RR20050106,       P16S,      19,          2,         19,         19,2,20050115,       0941,   -24.9995,  -149.9985,       4556,  1209.2,   3.3604,  34.4585,2,  34.4568,2,    166.5,2,   166.7,2,   64.01,2,   34.41,2,    0.00,2,    2.43,2,   0.058,2,   0.032,2,   0.001,2,  2242.1,2,  2331.7,2,-999.000,9,   1.8510,2,   16.98,2, -999.00,9,  -999.0,9,  -999.0,   7.927,2,   0.040,  43.3576,2,  1209.2,-999.000,   3.2730,     -999.0,9,     -999.0,9,     -999.0,9,     -999.0,9,     -999.0,9,     -999.0,9,     -999.0,9, -999.00,9,-999.0000,9,-999.0000,9,-999.0000,9,-999.0000,9,-999.0000,9,-999.0000,9,   0.0030,    0.20
33RR20050106,       P16S,      19,          2,         18,         18,2,20050115,       0941,   -24.9995,  -149.9985,       4556,  1309.7,   3.0781,  34.4958,2,  34.4959,2,    162.7,2,   163.2,2,   73.86,2,   34.73,2,    0.00,2,    2.44,2,-999.000,9,-999.000,9,-999.000,9,  2253.3,2,  2341.5,6,-999.000,9,-999.0000,9, -999.00,9, -999.00,9,  -999.0,9,  -999.0,-999.000,9,-999.000,-999.0000,9,  1309.7,-999.000,   2.9852,     -999.0,9,     -999.0,9,     -999.0,9,     -999.0,9,     -999.0,9,     -999.0,9,     -999.0,9, -999.00,9,-999.0000,9,-999.0000,9,-999.0000,9,-999.0000,9,-999.0000,9,-999.0000,9,-999.0000, -999.00
33RR20050106,       P16S,      19,          2,         17,         17,2,20050115,       0941,   -24.9995,  -149.9985,       4556,  1410.3,   2.8114,  34.5323,2,  34.5320,2,    159.8,2,   160.1,2,   83.74,2,   35.00,2,    0.00,2,    2.47,2,   0.017,2,   0.009,2,   0.001,2,  2264.6,2,  2352.3,2,   0.001,2,-999.0000,9, -999.00,9, -999.00,9,  -999.0,9,  -999.0,-999.000,9,-999.000,  39.7194,2,  1410.3,   0.004,   2.7131,     -999.0,9,     -999.0,9,     -999.0,9,     -999.0,9,     -999.0,9,     -999.0,9,     -999.0,9, -999.00,9,-999.0000,9,-999.0000,9,-999.0000,9,-999.0000,9,-999.0000,9,-999.0000,9,-999.0000, -999.00
33RR20050106,       P16S,      19,          2,         16,         16,2,20050115,       0941,   -24.9995,  -149.9985,       4556,  1510.5,   2.6382,  34.5563,2,  34.5560,2,    157.5,2,   158.4,2,   90.47,2,   35.04,2,    0.00,2,    2.48,2,-999.000,9,-999.000,9,-999.000,9,  2272.0,2,  2362.5,2,-999.000,9,-999.0000,9, -999.00,9, -999.00,9,  -999.0,9,  -999.0,-999.000,9,-999.000,-999.0000,9,  1510.5,-999.000,   2.5337,     -999.0,9,     -999.0,9,     -999.0,9,     -999.0,9,     -999.0,9,     -999.0,9,     -999.0,9, -999.00,9,-999.0000,9,-999.0000,9,-999.0000,9,-999.0000,9,-999.0000,9,-999.0000,9,-999.0000, -999.00
33RR20050106,       P16S,      19,          2,         15,         15,2,20050115,       0941,   -24.9995,  -149.9985,       4556,  1612.1,   2.5238,  34.5727,2,  34.5727,2,    156.7,2,   156.9,2,   95.11,2,   35.21,2,    0.00,2,    2.49,2,   0.024,3,   0.016,2,   0.001,2,  2277.6,2,  2366.0,2,   0.004,2,   1.8350,2,   21.99,2, -999.00,9,  -999.0,9,  -999.0,   7.779,2,   0.040,-999.0000,9,  1612.1,   0.004,   2.4124,     -999.0,9,     -999.0,9,     -999.0,9,     -999.0,9,     -999.0,9,     -999.0,9,     -999.0,9, -999.00,9,-999.0000,9,-999.0000,9,-999.0000,9,-999.0000,9,-999.0000,9,-999.0000,9,   0.0030,    0.20
33RR20050106,       P16S,      19,          2,         14,         14,2,20050115,       0941,   -24.9995,  -149.9985,       4556,  1713.3,   2.3875,  34.5933,2,  34.5951,2,    154.8,2,   155.0,2,  101.85,2,   35.32,2,    0.00,2,    2.50,2,-999.000,9,-999.000,9,-999.000,9,  2284.4,2,  2373.4,2,-999.000,9,-999.0000,9, -999.00,9, -999.00,9,  -999.0,9,  -999.0,-999.000,9,-999.000,-999.0000,9,  1713.3,-999.000,   2.2695,     -999.0,9,     -999.0,9,     -999.0,9,     -999.0,9,     -999.0,9,     -999.0,9,     -999.0,9, -999.00,9,-999.0000,9,-999.0000,9,-999.0000,9,-999.0000,9,-999.0000,9,-999.0000,9,-999.0000, -999.00
33RR20050106,       P16S,      19,          2,         13,         13,2,20050115,       0941,   -24.9995,  -149.9985,       4556,  1813.8,   2.3022,  34.6080,2,  34.6094,2,    152.4,2,   152.9,2,  106.91,2,   35.53,2,    0.00,2,    2.52,2,   0.003,2,  -0.001,2,   0.001,2,  2290.2,2,  2381.4,2,   0.006,2,   1.8850,2,   25.29,2, -999.00,9,  -999.0,9,  -999.0,   7.915,2,   0.041,  39.5466,2,  1813.8,   0.004,   2.1770,     -999.0,9,     -999.0,9,     -999.0,9,     -999.0,9,     -999.0,9,     -999.0,9,     -999.0,9, -999.00,9,-999.0000,9,-999.0000,9,-999.0000,9,-999.0000,9,-999.0000,9,-999.0000,9,   0.0040,    0.19
33RR20050106,       P16S,      19,          2,         12,         12,2,20050115,       0941,   -24.9995,  -149.9985,       4556,  2015.8,   2.0947,  34.6354,2,  34.6343,2,    149.7,2,   150.1,2,  116.85,2,   35.74,2,    0.00,2,    2.54,2,   0.025,3,   0.010,2,   0.001,2,  2302.3,2,  2390.3,2,-999.000,9,   1.9160,2,   26.12,2, -999.00,9,  -999.0,9,  -999.0,   8.019,2,   0.041,-999.0000,9,  2015.8,-999.000,   1.9555,     -999.0,9,     -999.0,9,     -999.0,9,     -999.0,9,     -999.0,9,     -999.0,9,     -999.0,9, -999.00,9,-999.0000,9,-999.0000,9,-999.0000,9,-999.0000,9,-999.0000,9,-999.0000,9,   0.0040,    0.19
33RR20050106,       P16S,      19,          2,         11,         11,2,20050115,       0941,   -24.9995,  -149.9985,       4556,  2268.9,   1.9530,  34.6511,2,  34.6506,2,    149.1,2,   149.4,2,  123.18,2,   35.84,2,    0.00,2,    2.54,2,   0.010,2,   0.055,3,   0.004,3,  2307.5,2,  2395.3,2,   0.001,2,-999.0000,9, -999.00,9, -999.00,9,  -999.0,9,  -999.0,-999.000,9,-999.000,  38.2204,2,  2268.9,   0.005,   1.7942,     -999.0,9,     -999.0,9,     -999.0,9,     -999.0,9,     -999.0,9,     -999.0,9,     -999.0,9, -999.00,9,-999.0000,9,-999.0000,9,-999.0000,9,-999.0000,9,-999.0000,9,-999.0000,9,-999.0000, -999.00
33RR20050106,       P16S,      19,          2,         10,         10,2,20050115,       0941,   -24.9995,  -149.9985,       4556,  2522.1,   1.8580,  34.6596,2,  34.6585,2,    151.3,2,   152.2,2,  125.29,2,   35.69,2,    0.00,2,    2.54,2,  -0.003,2,  -0.001,2,   0.001,2,  2308.9,2,  2398.8,2,-999.000,9,-999.0000,9, -999.00,9, -999.00,9,  -999.0,9,  -999.0,-999.000,9,-999.000,-999.0000,9,  2522.1,-999.000,   1.6783,     -999.0,9,     -999.0,9,     -999.0,9,     -999.0,9,     -999.0,9,     -999.0,9,     -999.0,9, -999.00,9,-999.0000,9,-999.0000,9,-999.0000,9,-999.0000,9,-999.0000,9,-999.0000,9,-999.0000, -999.00
33RR20050106,       P16S,      19,          2,          9,          9,2,20050115,       0941,   -24.9995,  -149.9985,       4556,  2775.5,   1.7741,  34.6673,2,  34.6664,2,    153.9,2,   154.8,2,  127.41,2,   35.58,2,    0.00,2,    2.52,2,  -0.004,2,  -0.001,2,   0.001,2,  2310.3,2,  2400.1,2,-999.000,9,   1.8740,2,   24.20,2, -999.00,9,  -999.0,9,  -999.0,   7.854,2,   0.040,  37.8723,2,  2775.5,-999.000,   1.5727,     -999.0,9,     -999.0,9,     -999.0,9,     -999.0,9,     -999.0,9,     -999.0,9,     -999.0,9, -999.00,9,-999.0000,9,-999.0000,9,-999.0000,9,-999.0000,9,-999.0000,9,-999.0000,9,   0.0030,    0.19
33RR20050106,       P16S,      19,          2,          8,          8,2,20050115,       0941,   -24.9995,  -149.9985,       4556,  3029.2,   1.6977,  34.6738,2,  34.6726,2,    159.0,2,   159.7,2,  126.75,2,   35.21,2,    0.00,2,    2.49,2,   0.000,2,  -0.001,2,   0.001,2,  2305.3,2,  2398.8,2,   0.001,2,-999.0000,9, -999.00,9, -999.00,9,  -999.0,9,  -999.0,-999.000,9,-999.000,-999.0000,9,  3029.2,   0.004,   1.4737,     -999.0,9,     -999.0,9,     -999.0,9,     -999.0,9,     -999.0,9,     -999.0,9,     -999.0,9, -999.00,9,-999.0000,9,-999.0000,9,-999.0000,9,-999.0000,9,-999.0000,9,-999.0000,9,-999.0000, -999.00
33RR20050106,       P16S,      19,          2,          7,          7,2,20050115,       0941,   -24.9995,  -149.9985,       4556,  3283.4,   1.6144,  34.6806,2,  34.6799,2,    164.2,2,   165.8,2,  126.31,2,   34.79,2,    0.00,2,    2.46,2,   0.000,2,   0.006,2,   0.001,2,  2300.9,2,  2394.7,2,-999.000,9,   1.9140,2,   20.54,2, -999.00,9,  -999.0,9,  -999.0,   8.235,2,   0.023,  37.3865,2,  3283.4,-999.000,   1.3673,     -999.0,9,     -999.0,9,     -999.0,9,     -999.0,9,     -999.0,9,     -999.0,9,     -999.0,9, -999.00,9,-999.0000,9,-999.0000,9,-999.0000,9,-999.0000,9,-999.0000,9,-999.0000,9,   0.0010,    0.17