BOTTLE,20201109CCHSIOCBG
EXPOCODE,SECT_ID,STNNBR,CASTNO,SAMPNO,BTLNBR,BTLNBR_FLAG_W,DATE,TIME,LATITUDE,LONGITUDE,DEPTH,CTDPRS,CTDTMP,CTDSAL,CTDSAL_FLAG_W,SALNTY,SALNTY_FLAG_W,CTDOXY,CTDOXY_FLAG_W,OXYGEN,OXYGEN_FLAG_W,SILCAT,SILCAT_FLAG_W,NITRAT,NITRAT_FLAG_W,NITRIT,NITRIT_FLAG_W,PHSPHT,PHSPHT_FLAG_W,CFC-11,CFC-11_FLAG_W,CFC-12,CFC-12_FLAG_W,CFC113,CFC113_FLAG_W,TCARBN,TCARBN_FLAG_W,ALKALI,ALKALI_FLAG_W,TRITUM,TRITUM_FLAG_W,HELIUM,HELIUM_FLAG_W,DELHE3,DELHE3_FLAG_W,DELC13,DELC13_FLAG_W,DELC14,DELC14_FLAG_W,C14ERR,NEON,NEON_FLAG_W,NEONER,DOC,DOC_FLAG_W,CTDRAW,TRITER,THETA,FUCO,FUCO_FLAG_W,RHAM,RHAM_FLAG_W,ARABA,ARABA_FLAG_W,GALA,GALA_FLAG_W,GLUC,GLUC_FLAG_W,MAN,MAN_FLAG_W,DCNS,DCNS_FLAG_W,BRDU,BRDU_FLAG_W,CDOM325,CDOM325_FLAG_W,CDOM340,CDOM340_FLAG_W,CDOM380,CDOM380_FLAG_W,CDOM412,CDOM412_FLAG_W,CDOMSL,CDOMSL_FLAG_W,CDOMSN,CDOMSN_FLAG_W,HELIER,DELHER
,,,,,,,,,,,METERS,DBAR,ITS-90,PSS-78,,PSS-78,,UMOL/KG,,UMOL/KG,,UMOL/KG,,UMOL/KG,,UMOL/KG,,UMOL/KG,,PMOL/KG,,PMOL/KG,,PMOL/KG,,UMOL/KG,,UMOL/KG,,TU,,NMOL/KG,,PERCNT,,/MILLE,,/MILLE,,/MILLE,NMOL/KG,,NMOL/KG,UMOL/KG,,DBAR,TU,DEG C,NMOL/KG,,NMOL/KG,,NMOL/KG,,NMOL/KG,,NMOL/KG,,NMOL/KG,,NMOL/KG,,PMOL/L/H,,1/M,,1/M,,1/M,,1/M,,1/NM,,1/NM,,NMOL/KG,PERCNT
33RR20050106,       P16S,     106,          1,         29,         29,2,20050209,       1841,   -68.5003,  -149.9993,       4387,     3.7,  -0.6099,  33.4961,2,  33.4973,2,    360.3,2,   361.9,2,   37.49,2,   20.73,2,    0.14,2,    1.40,2,   6.014,2,   3.207,2,   0.631,2,  2115.6,2,  2268.2,6,-999.000,9,-999.0000,9, -999.00,9, -999.00,9,  -999.0,9,  -999.0,-999.000,9,-999.000,-999.0000,9,     3.7,-999.000,  -0.6100,     -999.0,9,     -999.0,9,     -999.0,9,     -999.0,9,     -999.0,9,     -999.0,9,     -999.0,9, -999.00,9,-999.0000,9,-999.0000,9,-999.0000,9,-999.0000,9,-999.0000,9,-999.0000,9,-999.0000, -999.00
33RR20050106,       P16S,     106,          1,         28,         28,2,20050209,       1841,   -68.5003,  -149.9993,       4387,    26.4,  -0.7359,  33.5422,2,  33.5584,2,    361.7,2,   356.8,2,   38.51,2,   21.24,2,    0.14,2,    1.48,2,   5.856,2,   3.113,2,   0.625,2,  2123.8,2,  2274.2,2,-999.000,9,-999.0000,9, -999.00,9, -999.00,9,  -999.0,9,  -999.0,-999.000,9,-999.000,-999.0000,9,    26.4,-999.000,  -0.7366,     -999.0,9,     -999.0,9,     -999.0,9,     -999.0,9,     -999.0,9,     -999.0,9,     -999.0,9, -999.00,9,-999.0000,9,-999.0000,9,-999.0000,9,-999.0000,9,-999.0000,9,-999.0000,9,-999.0000, -999.00
33RR20050106,       P16S,     106,          1,         27,         27,2,20050209,       1841,   -68.5003,  -149.9993,       4387,    51.6,  -1.6627,  33.9947,2,  33.9831,2,    327.9,2,   325.4,2,   45.88,2,   25.48,2,    0.20,2,    1.88,2,   5.431,2,   2.813,2,   0.602,2,  2179.0,2,  2297.5,2,-999.000,9,-999.0000,9, -999.00,9, -999.00,9,  -999.0,9,  -999.0,-999.000,9,-999.000,-999.0000,9,    51.6,-999.000,  -1.6637,     -999.0,9,     -999.0,9,     -999.0,9,     -999.0,9,     -999.0,9,     -999.0,9,     -999.0,9, -999.00,9,-999.0000,9,-999.0000,9,-999.0000,9,-999.0000,9,-999.0000,9,-999.0000,9,-999.0000, -999.00
33RR20050106,       P16S,     106,          1,         26,         26,2,20050209,       1841,   -68.5003,  -149.9993,       4387,    76.7,  -1.7123,  34.0698,2,  34.0754,2,    309.8,2,   312.7,2,   47.31,2,   26.63,2,    0.28,2,    1.91,2,   5.254,2,   2.750,2,   0.568,2,  2191.7,2,  2301.5,2,-999.000,9,-999.0000,9, -999.00,9, -999.00,9,  -999.0,9,  -999.0,-999.000,9,-999.000,-999.0000,9,    76.7,-999.000,  -1.7138,     -999.0,9,     -999.0,9,     -999.0,9,     -999.0,9,     -999.0,9,     -999.0,9,     -999.0,9, -999.00,9,-999.0000,9,-999.0000,9,-999.0000,9,-999.0000,9,-999.0000,9,-999.0000,9,-999.0000, -999.00
33RR20050106,       P16S,     106,          1,         25,         25,2,20050209,       1841,   -68.5003,  -149.9993,       4387,   101.9,  -1.4666,  34.1262,2,  34.1290,2,    299.2,2,   301.9,2,   51.21,2,   27.71,2,    0.18,2,    1.95,2,   4.848,2,   2.545,2,   0.515,2,  2197.9,2,  2305.5,2,-999.000,9,-999.0000,9, -999.00,9, -999.00,9,  -999.0,9,  -999.0,-999.000,9,-999.000,-999.0000,9,   101.9,-999.000,  -1.4689,     -999.0,9,     -999.0,9,     -999.0,9,     -999.0,9,     -999.0,9,     -999.0,9,     -999.0,9, -999.00,9,-999.0000,9,-999.0000,9,-999.0000,9,-999.0000,9,-999.0000,9,-999.0000,9,-999.0000, -999.00
33RR20050106,       P16S,     106,          1,         24,         24,2,20050209,       1841,   -68.5003,  -149.9993,       4387,   152.1,   0.0302,  34.3832,2,  34.3843,2,    243.2,2,   242.3,2,   69.98,2,   29.94,2,    0.72,2,    2.12,2,   2.884,2,   1.526,2,   0.307,2,  2229.1,2,  2320.1,2,-999.000,9,-999.0000,9, -999.00,9, -999.00,9,  -999.0,9,  -999.0,-999.000,9,-999.000,-999.0000,9,   152.1,-999.000,   0.0247,     -999.0,9,     -999.0,9,     -999.0,9,     -999.0,9,     -999.0,9,     -999.0,9,     -999.0,9, -999.00,9,-999.0000,9,-999.0000,9,-999.0000,9,-999.0000,9,-999.0000,9,-999.0000,9,-999.0000, -999.00
33RR20050106,       P16S,     106,          1,         23,         23,2,20050209,       1841,   -68.5003,  -149.9993,       4387,   202.6,   1.3657,  34.6306,2,  34.6276,2,    192.9,2,   191.7,2,   84.68,2,   32.37,2,    0.01,2,    2.23,2,   0.974,2,   0.521,2,   0.097,2,  2252.0,2,  2336.6,2,-999.000,9,-999.0000,9, -999.00,9, -999.00,9,  -999.0,9,  -999.0,-999.000,9,-999.000,-999.0000,9,   202.6,-999.000,   1.3559,     -999.0,9,     -999.0,9,     -999.0,9,     -999.0,9,     -999.0,9,     -999.0,9,     -999.0,9, -999.00,9,-999.0000,9,-999.0000,9,-999.0000,9,-999.0000,9,-999.0000,9,-999.0000,9,-999.0000, -999.00
33RR20050106,       P16S,     106,          1,         22,         22,2,20050209,       1841,   -68.5003,  -149.9993,       4387,   253.0,   1.6071,  34.7045,2,  34.7032,2,    182.5,2,   183.6,2,   90.26,2,   32.00,2,    0.01,2,    2.21,2,   0.409,2,   0.222,2,   0.036,2,  2256.6,2,  2343.9,2,-999.000,9,-999.0000,9, -999.00,9, -999.00,9,  -999.0,9,  -999.0,-999.000,9,-999.000,-999.0000,9,   253.0,-999.000,   1.5942,     -999.0,9,     -999.0,9,     -999.0,9,     -999.0,9,     -999.0,9,     -999.0,9,     -999.0,9, -999.00,9,-999.0000,9,-999.0000,9,-999.0000,9,-999.0000,9,-999.0000,9,-999.0000,9,-999.0000, -999.00
33RR20050106,       P16S,     106,          1,         21,         21,2,20050209,       1841,   -68.5003,  -149.9993,       4387,   308.5,   1.5693,  34.7220,2,  34.7205,2,    183.6,2,   184.4,2,   93.57,2,   31.84,2,    0.00,2,    2.20,2,   0.286,2,   0.147,2,   0.028,2,  2257.0,2,  2346.3,2,-999.000,9,-999.0000,9, -999.00,9, -999.00,9,  -999.0,9,  -999.0,-999.000,9,-999.000,-999.0000,9,   308.5,-999.000,   1.5535,     -999.0,9,     -999.0,9,     -999.0,9,     -999.0,9,     -999.0,9,     -999.0,9,     -999.0,9, -999.00,9,-999.0000,9,-999.0000,9,-999.0000,9,-999.0000,9,-999.0000,9,-999.0000,9,-999.0000, -999.00
33RR20050106,       P16S,     106,          1,         20,         20,2,20050209,       1841,   -68.5003,  -149.9993,       4387,   409.4,   1.4576,  34.7303,2,  34.7297,2,    184.6,2,   186.6,2,   98.96,2,   31.85,2,    0.00,2,    2.19,2,   0.250,2,   0.138,2,   0.019,2,  2258.5,2,  2350.4,2,-999.000,9,-999.0000,9, -999.00,9, -999.00,9,  -999.0,9,  -999.0,-999.000,9,-999.000,-999.0000,9,   409.4,-999.000,   1.4367,     -999.0,9,     -999.0,9,     -999.0,9,     -999.0,9,     -999.0,9,     -999.0,9,     -999.0,9, -999.00,9,-999.0000,9,-999.0000,9,-999.0000,9,-999.0000,9,-999.0000,9,-999.0000,9,-999.0000, -999.00
33RR20050106,       P16S,     106,          1,         19,         19,2,20050209,       1841,   -68.5003,  -149.9993,       4387,   510.3,   1.3728,  34.7317,2,  34.7305,2,    185.7,2,   186.5,2,  102.49,2,   31.90,2,    0.00,2,    2.20,2,-999.000,9,-999.000,9,-999.000,9,  -999.0,9,  2352.9,2,-999.000,9,-999.0000,9, -999.00,9, -999.00,9,  -999.0,9,  -999.0,-999.000,9,-999.000,-999.0000,9,   510.3,-999.000,   1.3466,     -999.0,9,     -999.0,9,     -999.0,9,     -999.0,9,     -999.0,9,     -999.0,9,     -999.0,9, -999.00,9,-999.0000,9,-999.0000,9,-999.0000,9,-999.0000,9,-999.0000,9,-999.0000,9,-999.0000, -999.00
33RR20050106,       P16S,     106,          1,         18,         18,2,20050209,       1841,   -68.5003,  -149.9993,       4387,   611.2,   1.2961,  34.7309,2,  34.7309,2,    186.5,2,   186.5,2,  105.39,2,   32.11,2,    0.00,2,    2.21,2,   0.150,2,   0.083,2,   0.016,2,  2262.4,2,  -999.0,9,-999.000,9,-999.0000,9, -999.00,9, -999.00,9,  -999.0,9,  -999.0,-999.000,9,-999.000,-999.0000,9,   611.2,-999.000,   1.2646,     -999.0,9,     -999.0,9,     -999.0,9,     -999.0,9,     -999.0,9,     -999.0,9,     -999.0,9, -999.00,9,-999.0000,9,-999.0000,9,-999.0000,9,-999.0000,9,-999.0000,9,-999.0000,9,-999.0000, -999.00
33RR20050106,       P16S,     106,          1,         17,         17,2,20050209,       1841,   -68.5003,  -149.9993,       4387,   813.3,   1.1546,  34.7272,2,  34.7273,2,    190.6,2,   191.0,2,  109.96,2,   32.00,2,    0.00,2,    2.20,2,   0.095,2,   0.061,2,   0.010,2,  2262.3,2,  2354.9,2,-999.000,9,-999.0000,9, -999.00,9, -999.00,9,  -999.0,9,  -999.0,-999.000,9,-999.000,-999.0000,9,   813.3,-999.000,   1.1122,     -999.0,9,     -999.0,9,     -999.0,9,     -999.0,9,     -999.0,9,     -999.0,9,     -999.0,9, -999.00,9,-999.0000,9,-999.0000,9,-999.0000,9,-999.0000,9,-999.0000,9,-999.0000,9,-999.0000, -999.00
33RR20050106,       P16S,     106,          1,         16,         16,2,20050209,       1841,   -68.5003,  -149.9993,       4387,  1015.3,   1.0166,  34.7222,2,  34.7222,2,    194.4,2,   194.8,2,  114.12,2,   32.00,2,    0.00,2,    2.20,2,-999.000,9,-999.000,9,-999.000,9,  2261.8,6,  2356.1,2,-999.000,9,-999.0000,9, -999.00,9, -999.00,9,  -999.0,9,  -999.0,-999.000,9,-999.000,-999.0000,9,  1015.3,-999.000,   0.9631,     -999.0,9,     -999.0,9,     -999.0,9,     -999.0,9,     -999.0,9,     -999.0,9,     -999.0,9, -999.00,9,-999.0000,9,-999.0000,9,-999.0000,9,-999.0000,9,-999.0000,9,-999.0000,9,-999.0000, -999.00
33RR20050106,       P16S,     106,          1,         15,         15,2,20050209,       1841,   -68.5003,  -149.9993,       4387,  1217.9,   0.9019,  34.7175,2,  34.7177,2,    198.0,2,   198.3,2,  117.64,2,   31.95,2,    0.00,2,    2.20,2,   0.072,2,   0.051,2,  -0.002,2,  -999.0,9,  -999.0,9,-999.000,9,-999.0000,9, -999.00,9, -999.00,9,  -999.0,9,  -999.0,-999.000,9,-999.000,-999.0000,9,  1217.9,-999.000,   0.8368,     -999.0,9,     -999.0,9,     -999.0,9,     -999.0,9,     -999.0,9,     -999.0,9,     -999.0,9, -999.00,9,-999.0000,9,-999.0000,9,-999.0000,9,-999.0000,9,-999.0000,9,-999.0000,9,-999.0000, -999.00
33RR20050106,       P16S,     106,          1,         14,         14,2,20050209,       1841,   -68.5003,  -149.9993,       4387,  1420.1,   0.7955,  34.7132,2,  34.7133,2,    200.9,2,   201.6,2,  121.59,2,   31.90,2,    0.00,2,    2.20,2,-999.000,9,-999.000,9,-999.000,9,  -999.0,9,  -999.0,9,-999.000,9,-999.0000,9, -999.00,9, -999.00,9,  -999.0,9,  -999.0,-999.000,9,-999.000,-999.0000,9,  1420.1,-999.000,   0.7184,     -999.0,9,     -999.0,9,     -999.0,9,     -999.0,9,     -999.0,9,     -999.0,9,     -999.0,9, -999.00,9,-999.0000,9,-999.0000,9,-999.0000,9,-999.0000,9,-999.0000,9,-999.0000,9,-999.0000, -999.00
33RR20050106,       P16S,     106,          1,         13,         13,2,20050209,       1841,   -68.5003,  -149.9993,       4387,  1623.0,   0.7172,  34.7100,2,  34.7092,2,    202.9,2,   203.6,2,  124.30,2,   32.00,2,    0.00,2,    2.21,2,   0.137,2,   0.077,2,   0.010,2,  -999.0,9,  -999.0,9,-999.000,9,-999.0000,9, -999.00,9, -999.00,9,  -999.0,9,  -999.0,-999.000,9,-999.000,-999.0000,9,  1623.0,-999.000,   0.6273,     -999.0,9,     -999.0,9,     -999.0,9,     -999.0,9,     -999.0,9,     -999.0,9,     -999.0,9, -999.00,9,-999.0000,9,-999.0000,9,-999.0000,9,-999.0000,9,-999.0000,9,-999.0000,9,-999.0000, -999.00
33RR20050106,       P16S,     106,          1,         12,         12,2,20050209,       1841,   -68.5003,  -149.9993,       4387,  1826.0,   0.6409,  34.7074,2,  34.7078,2,    204.9,2,   205.7,2,  126.36,2,   32.05,2,    0.00,2,    2.20,2,-999.000,9,-999.000,9,-999.000,9,  -999.0,9,  -999.0,9,-999.000,9,-999.0000,9, -999.00,9, -999.00,9,  -999.0,9,  -999.0,-999.000,9,-999.000,-999.0000,9,  1826.0,-999.000,   0.5378,     -999.0,9,     -999.0,9,     -999.0,9,     -999.0,9,     -999.0,9,     -999.0,9,     -999.0,9, -999.00,9,-999.0000,9,-999.0000,9,-999.0000,9,-999.0000,9,-999.0000,9,-999.0000,9,-999.0000, -999.00
33RR20050106,       P16S,     106,          1,         11,         11,2,20050209,       1841,   -68.5003,  -149.9993,       4387,  2029.0,   0.5687,  34.7058,2,  34.7050,2,    206.3,2,   207.2,2,  126.97,2,   32.16,2,    0.00,2,    2.22,2,   0.126,2,   0.077,2,   0.011,2,  -999.0,9,  -999.0,9,-999.000,9,-999.0000,9, -999.00,9, -999.00,9,  -999.0,9,  -999.0,-999.000,9,-999.000,-999.0000,9,  2029.0,-999.000,   0.4518,     -999.0,9,     -999.0,9,     -999.0,9,     -999.0,9,     -999.0,9,     -999.0,9,     -999.0,9, -999.00,9,-999.0000,9,-999.0000,9,-999.0000,9,-999.0000,9,-999.0000,9,-999.0000,9,-999.0000, -999.00
33RR20050106,       P16S,     106,          1,         10,         10,2,20050209,       1841,   -68.5003,  -149.9993,       4387,  2283.2,   0.4781,  34.7045,2,  34.7044,2,    208.4,2,   209.3,2,  128.62,2,   32.21,2,    0.00,2,    2.23,2,-999.000,9,-999.000,9,-999.000,9,  -999.0,9,  -999.0,9,-999.000,9,-999.0000,9, -999.00,9, -999.00,9,  -999.0,9,  -999.0,-999.000,9,-999.000,-999.0000,9,  2283.2,-999.000,   0.3434,     -999.0,9,     -999.0,9,     -999.0,9,     -999.0,9,     -999.0,9,     -999.0,9,     -999.0,9, -999.00,9,-999.0000,9,-999.0000,9,-999.0000,9,-999.0000,9,-999.0000,9,-999.0000,9,-999.0000, -999.00
33RR20050106,       P16S,     106,          1,          9,          9,2,20050209,       1841,   -68.5003,  -149.9993,       4387,  2537.5,   0.3979,  34.7038,2,  34.7034,2,    210.4,2,   211.4,2,  130.49,2,   32.21,2,    0.00,2,    2.22,2,   0.111,2,   0.064,2,   0.008,2,  -999.0,9,  -999.0,9,-999.000,9,-999.0000,9, -999.00,9, -999.00,9,  -999.0,9,  -999.0,-999.000,9,-999.000,-999.0000,9,  2537.5,-999.000,   0.2445,     -999.0,9,     -999.0,9,     -999.0,9,     -999.0,9,     -999.0,9,     -999.0,9,     -999.0,9, -999.00,9,-999.0000,9,-999.0000,9,-999.0000,9,-999.0000,9,-999.0000,9,-999.0000,9,-999.0000, -999.00
33RR20050106,       P16S,     106,          1,          8,          8,2,20050209,       1841,   -68.5003,  -149.9993,       4387,  2792.0,   0.3347,  34.7034,2,  34.7046,2,    212.2,2,   213.0,2,  132.35,2,   32.21,2,    0.00,2,    2.23,2,   0.114,2,   0.066,2,   0.011,2,  -999.0,9,  -999.0,9,-999.000,9,-999.0000,9, -999.00,9, -999.00,9,  -999.0,9,  -999.0,-999.000,9,-999.000,-999.0000,9,  2792.0,-999.000,   0.1615,     -999.0,9,     -999.0,9,     -999.0,9,     -999.0,9,     -999.0,9,     -999.0,9,     -999.0,9, -999.00,9,-999.0000,9,-999.0000,9,-999.0000,9,-999.0000,9,-999.0000,9,-999.0000,9,-999.0000, -999.00
33RR20050106,       P16S,     106,          1,          7,          7,2,20050209,       1841,   -68.5003,  -149.9993,       4387,  3046.8,   0.2814,  34.7025,2,  34.7030,2,    214.2,2,   215.1,2,  132.11,2,   32.16,2,    0.00,2,    2.23,2,   0.184,2,   0.104,2,   0.018,2,  -999.0,9,  -999.0,9,-999.000,9,-999.0000,9, -999.00,9, -999.00,9,  -999.0,9,  -999.0,-999.000,9,-999.000,-999.0000,9,  3046.8,-999.000,   0.0874,     -999.0,9,     -999.0,9,     -999.0,9,     -999.0,9,     -999.0,9,     -999.0,9,     -999.0,9, -999.00,9,-999.0000,9,-999.0000,9,-999.0000,9,-999.0000,9,-999.0000,9,-999.0000,9,-999.0000, -999.00
33RR20050106,       P16S,     106,          1,          6,          6,2,20050209,       1841,   -68.5003,  -149.9993,       4387,  3302.4,   0.2309,  34.7015,2,  34.7020,2,    216.4,2,   217.5,2,  131.27,2,   32.00,2,    0.00,2,    2.23,2,   0.295,2,   0.163,2,   0.015,2,  -999.0,9,  -999.0,9,-999.000,9,-999.0000,9, -999.00,9, -999.00,9,  -999.0,9,  -999.0,-999.000,9,-999.000,-999.0000,9,  3302.4,-999.000,   0.0152,     -999.0,9,     -999.0,9,     -999.0,9,     -999.0,9,     -999.0,9,     -999.0,9,     -999.0,9, -999.00,9,-999.0000,9,-999.0000,9,-999.0000,9,-999.0000,9,-999.0000,9,-999.0000,9,-999.0000, -999.00
33RR20050106,       P16S,     106,          1,          5,          5,2,20050209,       1841,   -68.5003,  -149.9993,       4387,  3558.2,   0.1772,  34.6987,2,  34.6996,2,    220.1,2,   220.9,2,  124.15,2,   32.01,2,    0.00,2,    2.21,2,   0.564,6,   0.294,6,   0.036,6,  -999.0,9,  -999.0,9,-999.000,9,-999.0000,9, -999.00,9, -999.00,9,  -999.0,9,  -999.0,-999.000,9,-999.000,-999.0000,9,  3558.2,-999.000,  -0.0610,     -999.0,9,     -999.0,9,     -999.0,9,     -999.0,9,     -999.0,9,     -999.0,9,     -999.0,9, -999.00,9,-999.0000,9,-999.0000,9,-999.0000,9,-999.0000,9,-999.0000,9,-999.0000,9,-999.0000, -999.00
33RR20050106,       P16S,     106,          1,          4,          4,2,20050209,       1841,   -68.5003,  -149.9993,       4387,  3813.9,   0.1626,  34.6980,2,  34.6972,2,    221.7,2,   222.2,2,  122.05,2,   31.95,2,    0.00,2,    2.21,2,   0.677,2,   0.336,2,   0.042,2,  -999.0,9,  -999.0,9,-999.000,9,-999.0000,9, -999.00,9, -999.00,9,  -999.0,9,  -999.0,-999.000,9,-999.000,-999.0000,9,  3813.9,-999.000,  -0.0999,     -999.0,9,     -999.0,9,     -999.0,9,     -999.0,9,     -999.0,9,     -999.0,9,     -999.0,9, -999.00,9,-999.0000,9,-999.0000,9,-999.0000,9,-999.0000,9,-999.0000,9,-999.0000,9,-999.0000, -999.00
33RR20050106,       P16S,     106,          1,          3,          3,2,20050209,       1841,   -68.5003,  -149.9993,       4387,  4070.1,   0.1718,  34.6985,2,  34.6978,2,    221.8,2,   222.6,2,  121.82,2,   32.01,2,    0.00,2,    2.22,2,   0.641,2,   0.331,2,   0.039,2,  -999.0,9,  -999.0,9,-999.000,9,-999.0000,9, -999.00,9, -999.00,9,  -999.0,9,  -999.0,-999.000,9,-999.000,-999.0000,9,  4070.1,-999.000,  -0.1166,     -999.0,9,     -999.0,9,     -999.0,9,     -999.0,9,     -999.0,9,     -999.0,9,     -999.0,9, -999.00,9,-999.0000,9,-999.0000,9,-999.0000,9,-999.0000,9,-999.0000,9,-999.0000,9,-999.0000, -999.00
33RR20050106,       P16S,     106,          1,          2,          2,2,20050209,       1841,   -68.5003,  -149.9993,       4387,  4326.5,   0.1938,  34.6991,2,  34.6983,2,    221.1,2,   221.7,2,  124.94,2,   31.90,2,    0.00,2,    2.21,2,   0.600,2,   0.313,2,   0.027,2,  -999.0,9,  -999.0,9,-999.000,9,-999.0000,9, -999.00,9, -999.00,9,  -999.0,9,  -999.0,-999.000,9,-999.000,-999.0000,9,  4326.5,-999.000,  -0.1219,     -999.0,9,     -999.0,9,     -999.0,9,     -999.0,9,     -999.0,9,     -999.0,9,     -999.0,9, -999.00,9,-999.0000,9,-999.0000,9,-999.0000,9,-999.0000,9,-999.0000,9,-999.0000,9,-999.0000, -999.00
33RR20050106,       P16S,     106,          1,          1,          1,2,20050209,       1841,   -68.5003,  -149.9993,       4387,  4437.3,   0.2062,  34.6992,2,  34.6985,2,    220.4,2,   221.7,2,  125.34,2,   32.11,2,    0.00,2,    2.23,2,   0.607,2,   0.325,2,   0.025,2,  -999.0,9,  -999.0,9,-999.000,9,-999.0000,9, -999.00,9, -999.00,9,  -999.0,9,  -999.0,-999.000,9,-999.000,-999.0000,9,  4437.3,-999.000,  -0.1216,     -999.0,9,     -999.0,9,     -999.0,9,     -999.0,9,     -999.0,9,     -999.0,9,     -999.0,9, -999.00,9,-999.0000,9,-999.0000,9,-999.0000,9,-999.0000,9,-999.0000,9,-999.0000,9,-999.0000, -999.00