BOTTLE,20201109CCHSIOCBG
EXPOCODE,SECT_ID,STNNBR,CASTNO,SAMPNO,BTLNBR,BTLNBR_FLAG_W,DATE,TIME,LATITUDE,LONGITUDE,DEPTH,CTDPRS,CTDTMP,CTDSAL,CTDSAL_FLAG_W,SALNTY,SALNTY_FLAG_W,CTDOXY,CTDOXY_FLAG_W,OXYGEN,OXYGEN_FLAG_W,SILCAT,SILCAT_FLAG_W,NITRAT,NITRAT_FLAG_W,NITRIT,NITRIT_FLAG_W,PHSPHT,PHSPHT_FLAG_W,CFC-11,CFC-11_FLAG_W,CFC-12,CFC-12_FLAG_W,CFC113,CFC113_FLAG_W,TCARBN,TCARBN_FLAG_W,ALKALI,ALKALI_FLAG_W,TRITUM,TRITUM_FLAG_W,HELIUM,HELIUM_FLAG_W,DELHE3,DELHE3_FLAG_W,DELC13,DELC13_FLAG_W,DELC14,DELC14_FLAG_W,C14ERR,NEON,NEON_FLAG_W,NEONER,DOC,DOC_FLAG_W,CTDRAW,TRITER,THETA,FUCO,FUCO_FLAG_W,RHAM,RHAM_FLAG_W,ARABA,ARABA_FLAG_W,GALA,GALA_FLAG_W,GLUC,GLUC_FLAG_W,MAN,MAN_FLAG_W,DCNS,DCNS_FLAG_W,BRDU,BRDU_FLAG_W,CDOM325,CDOM325_FLAG_W,CDOM340,CDOM340_FLAG_W,CDOM380,CDOM380_FLAG_W,CDOM412,CDOM412_FLAG_W,CDOMSL,CDOMSL_FLAG_W,CDOMSN,CDOMSN_FLAG_W,HELIER,DELHER
,,,,,,,,,,,METERS,DBAR,ITS-90,PSS-78,,PSS-78,,UMOL/KG,,UMOL/KG,,UMOL/KG,,UMOL/KG,,UMOL/KG,,UMOL/KG,,PMOL/KG,,PMOL/KG,,PMOL/KG,,UMOL/KG,,UMOL/KG,,TU,,NMOL/KG,,PERCNT,,/MILLE,,/MILLE,,/MILLE,NMOL/KG,,NMOL/KG,UMOL/KG,,DBAR,TU,DEG C,NMOL/KG,,NMOL/KG,,NMOL/KG,,NMOL/KG,,NMOL/KG,,NMOL/KG,,NMOL/KG,,PMOL/L/H,,1/M,,1/M,,1/M,,1/M,,1/NM,,1/NM,,NMOL/KG,PERCNT
33RR20050106,       P16S,      35,          1,          6,          6,2,20050119,       1911,   -32.9988,  -150.0008,       5526,  3959.1,   1.3791,  34.7060,2,  34.7047,2,    187.5,2,   188.0,2,  118.90,2,   32.86,2,    0.00,2,    2.31,2,-999.000,9,-999.000,9,-999.000,9,  2277.6,2,  2374.2,2,-999.000,9,-999.0000,9, -999.00,9, -999.00,5,  -183.0,2,     2.8,-999.000,9,-999.000,-999.0000,9,  3959.1,-999.000,   1.0678,     -999.0,9,     -999.0,9,     -999.0,9,     -999.0,9,     -999.0,9,     -999.0,9,     -999.0,9, -999.00,9,-999.0000,9,-999.0000,9,-999.0000,9,-999.0000,9,-999.0000,9,-999.0000,9,-999.0000, -999.00
33RR20050106,       P16S,      35,          1,          5,          5,2,20050119,       1911,   -32.9988,  -150.0008,       5526,  4368.3,   1.2365,  34.7096,2,  34.7089,2,    196.5,2,   196.8,2,  118.70,2,   32.41,2,    0.00,2,    2.27,2,   0.023,3,   0.017,3,   0.001,2,  2269.7,2,  2370.2,2,-999.000,9,-999.0000,9, -999.00,9, -999.00,5,  -172.0,6,     4.7,-999.000,9,-999.000,  38.0331,2,  4368.3,-999.000,   0.8844,     -999.0,9,     -999.0,9,     -999.0,9,     -999.0,9,     -999.0,9,     -999.0,9,     -999.0,9, -999.00,9,   0.1120,2,   0.0800,2,   0.0450,2,   0.0330,2,   0.0140,2,   0.0157,2,-999.0000, -999.00
33RR20050106,       P16S,      35,          1,          4,          4,2,20050119,       1911,   -32.9988,  -150.0008,       5526,  4778.4,   1.1487,  34.7112,2,  34.7093,2,    202.3,2,   202.6,2,  119.13,2,   32.19,2,    0.00,2,    2.25,2,-999.000,9,-999.000,9,-999.000,9,  2265.2,2,  2366.1,2,-999.000,9,-999.0000,9, -999.00,9, -999.00,5,  -161.7,6,     2.1,-999.000,9,-999.000,-999.0000,9,  4778.4,-999.000,   0.7524,     -999.0,9,     -999.0,9,     -999.0,9,     -999.0,9,     -999.0,9,     -999.0,9,     -999.0,9, -999.00,9,-999.0000,9,-999.0000,9,-999.0000,9,-999.0000,9,-999.0000,9,-999.0000,9,-999.0000, -999.00
33RR20050106,       P16S,      35,          1,          3,          3,2,20050119,       1911,   -32.9988,  -150.0008,       5526,  5138.2,   1.1595,  34.7111,2,  34.7093,2,    203.7,2,   204.5,2,  119.55,2,   32.13,2,    0.00,2,    2.25,2,   0.003,2,  -0.001,2,   0.001,2,  2263.8,2,  2367.1,2,-999.000,9,-999.0000,9, -999.00,9, -999.00,5,  -168.7,2,     2.8,-999.000,9,-999.000,  37.5713,2,  5138.2,-999.000,   0.7199,     -999.0,9,     -999.0,9,     -999.0,9,     -999.0,9,     -999.0,9,     -999.0,9,     -999.0,9, -999.00,9,   0.1130,2,   0.0800,2,   0.0440,2,   0.0320,2,   0.0143,2,   0.0161,2,-999.0000, -999.00
33RR20050106,       P16S,      35,          1,          2,          2,2,20050119,       1911,   -32.9988,  -150.0008,       5526,  5363.9,   1.1779,  34.7112,2,  34.7097,2,    204.3,2,   204.4,2,  119.76,2,   32.18,2,    0.00,2,    2.24,2,-999.000,9,-999.000,9,-999.000,9,  2263.0,2,  2367.5,2,-999.000,9,-999.0000,9, -999.00,9, -999.00,5,  -166.2,6,     2.1,-999.000,9,-999.000,-999.0000,9,  5363.9,-999.000,   0.7099,     -999.0,9,     -999.0,9,     -999.0,9,     -999.0,9,     -999.0,9,     -999.0,9,     -999.0,9, -999.00,9,-999.0000,9,-999.0000,9,-999.0000,9,-999.0000,9,-999.0000,9,-999.0000,9,-999.0000, -999.00
33RR20050106,       P16S,      35,          1,          1,          1,2,20050119,       1911,   -32.9988,  -150.0008,       5526,  5570.6,   1.1998,  34.7110,2,  34.7099,2,    204.3,2,   204.9,2,  119.77,2,   32.12,2,    0.00,2,    2.25,2,   0.013,2,   0.009,2,   0.001,2,  2264.7,6,  2367.0,6,-999.000,9,-999.0000,9, -999.00,9, -999.00,5,  -162.9,6,     2.5,-999.000,9,-999.000,  37.9129,2,  5570.6,-999.000,   0.7050,     -999.0,9,     -999.0,9,     -999.0,9,     -999.0,9,     -999.0,9,     -999.0,9,     -999.0,9, -999.00,9,   0.1150,2,   0.0820,2,   0.0460,2,   0.0340,2,   0.0137,2,   0.0155,2,-999.0000, -999.00