BOTTLE,20201109CCHSIOCBG
EXPOCODE,SECT_ID,STNNBR,CASTNO,SAMPNO,BTLNBR,BTLNBR_FLAG_W,DATE,TIME,LATITUDE,LONGITUDE,DEPTH,CTDPRS,CTDTMP,CTDSAL,CTDSAL_FLAG_W,SALNTY,SALNTY_FLAG_W,CTDOXY,CTDOXY_FLAG_W,OXYGEN,OXYGEN_FLAG_W,SILCAT,SILCAT_FLAG_W,NITRAT,NITRAT_FLAG_W,NITRIT,NITRIT_FLAG_W,PHSPHT,PHSPHT_FLAG_W,CFC-11,CFC-11_FLAG_W,CFC-12,CFC-12_FLAG_W,CFC113,CFC113_FLAG_W,TCARBN,TCARBN_FLAG_W,ALKALI,ALKALI_FLAG_W,TRITUM,TRITUM_FLAG_W,HELIUM,HELIUM_FLAG_W,DELHE3,DELHE3_FLAG_W,DELC13,DELC13_FLAG_W,DELC14,DELC14_FLAG_W,C14ERR,NEON,NEON_FLAG_W,NEONER,DOC,DOC_FLAG_W,CTDRAW,TRITER,THETA,FUCO,FUCO_FLAG_W,RHAM,RHAM_FLAG_W,ARABA,ARABA_FLAG_W,GALA,GALA_FLAG_W,GLUC,GLUC_FLAG_W,MAN,MAN_FLAG_W,DCNS,DCNS_FLAG_W,BRDU,BRDU_FLAG_W,CDOM325,CDOM325_FLAG_W,CDOM340,CDOM340_FLAG_W,CDOM380,CDOM380_FLAG_W,CDOM412,CDOM412_FLAG_W,CDOMSL,CDOMSL_FLAG_W,CDOMSN,CDOMSN_FLAG_W,HELIER,DELHER
,,,,,,,,,,,METERS,DBAR,ITS-90,PSS-78,,PSS-78,,UMOL/KG,,UMOL/KG,,UMOL/KG,,UMOL/KG,,UMOL/KG,,UMOL/KG,,PMOL/KG,,PMOL/KG,,PMOL/KG,,UMOL/KG,,UMOL/KG,,TU,,NMOL/KG,,PERCNT,,/MILLE,,/MILLE,,/MILLE,NMOL/KG,,NMOL/KG,UMOL/KG,,DBAR,TU,DEG C,NMOL/KG,,NMOL/KG,,NMOL/KG,,NMOL/KG,,NMOL/KG,,NMOL/KG,,NMOL/KG,,PMOL/L/H,,1/M,,1/M,,1/M,,1/M,,1/NM,,1/NM,,NMOL/KG,PERCNT
33RR20050106,       P16S,      68,          1,          6,          6,2,20050129,       2059,   -49.4990,  -149.9995,       4176,  3146.9,   1.7484,  34.7371,2,  34.7380,2,    193.9,2,   194.8,2,   96.04,2,   31.10,2,    0.00,2,    2.16,2,   0.048,2,   0.020,2,  -0.002,4,  -999.0,9,  -999.0,9,   0.001,2,-999.0000,9, -999.00,9, -999.00,9,  -999.0,9,  -999.0,-999.000,9,-999.000,-999.0000,9,  3146.9,   0.002,   1.5114,     -999.0,9,     -999.0,9,     -999.0,9,     -999.0,9,     -999.0,9,     -999.0,9,     -999.0,9, -999.00,9,-999.0000,9,-999.0000,9,-999.0000,9,-999.0000,9,-999.0000,9,-999.0000,9,-999.0000, -999.00
33RR20050106,       P16S,      68,          1,          5,          5,2,20050129,       2059,   -49.4990,  -149.9995,       4176,  3401.9,   1.5545,  34.7334,2,  34.7335,2,    196.9,2,   197.9,2,  101.72,2,   31.26,2,    0.00,2,    2.17,2,   0.040,2,   0.035,2,  -0.002,4,  -999.0,9,  -999.0,9,   0.001,2,   1.9310,2,   11.15,2, -999.00,9,  -999.0,9,  -999.0,   8.293,2,   0.011,-999.0000,9,  3401.9,   0.001,   1.2966,     -999.0,9,     -999.0,9,     -999.0,9,     -999.0,9,     -999.0,9,     -999.0,9,     -999.0,9, -999.00,9,-999.0000,9,-999.0000,9,-999.0000,9,-999.0000,9,-999.0000,9,-999.0000,9,   0.0010,    0.20
33RR20050106,       P16S,      68,          1,          4,          4,2,20050129,       2059,   -49.4990,  -149.9995,       4176,  3632.7,   1.3704,  34.7267,2,  34.7266,2,    199.2,2,   200.2,2,  107.62,2,   31.47,2,    0.00,2,    2.18,2,   0.027,2,   0.018,2,  -0.002,4,  -999.0,9,  -999.0,9,   0.001,2,   1.9640,2,   10.85,2, -999.00,9,  -999.0,9,  -999.0,   8.468,2,   0.012,-999.0000,9,  3632.7,   0.002,   1.0936,     -999.0,9,     -999.0,9,     -999.0,9,     -999.0,9,     -999.0,9,     -999.0,9,     -999.0,9, -999.00,9,-999.0000,9,-999.0000,9,-999.0000,9,-999.0000,9,-999.0000,9,-999.0000,9,   0.0010,    0.20
33RR20050106,       P16S,      68,          1,          3,          3,2,20050129,       2059,   -49.4990,  -149.9995,       4176,  3834.1,   1.2104,  34.7203,2,  34.7203,2,    201.1,2,   202.0,2,  113.30,2,   31.73,2,    0.00,2,    2.20,2,   0.050,2,   0.039,2,  -0.002,4,  -999.0,9,  -999.0,9,   0.001,2,-999.0000,9, -999.00,9, -999.00,9,  -999.0,9,  -999.0,-999.000,9,-999.000,-999.0000,9,  3834.1,   0.002,   0.9170,     -999.0,9,     -999.0,9,     -999.0,9,     -999.0,9,     -999.0,9,     -999.0,9,     -999.0,9, -999.00,9,-999.0000,9,-999.0000,9,-999.0000,9,-999.0000,9,-999.0000,9,-999.0000,9,-999.0000, -999.00
33RR20050106,       P16S,      68,          1,          2,          2,2,20050129,       2059,   -49.4990,  -149.9995,       4176,  4042.3,   1.1576,  34.7171,2,  34.7178,2,    201.7,2,   202.4,2,  115.73,2,   31.93,2,    0.00,2,    2.21,2,   0.020,2,   0.038,2,  -0.002,4,  -999.0,9,  -999.0,9,   0.001,2,   1.9940,2,   10.87,2, -999.00,9,  -999.0,9,  -999.0,   8.564,2,   0.012,-999.0000,9,  4042.3,   0.003,   0.8436,     -999.0,9,     -999.0,9,     -999.0,9,     -999.0,9,     -999.0,9,     -999.0,9,     -999.0,9, -999.00,9,-999.0000,9,-999.0000,9,-999.0000,9,-999.0000,9,-999.0000,9,-999.0000,9,   0.0010,    0.20
33RR20050106,       P16S,      68,          1,          1,          1,2,20050129,       2059,   -49.4990,  -149.9995,       4176,  4243.6,   1.1364,  34.7158,2,  34.7160,2,    202.3,2,   203.1,2,  117.74,2,   31.92,2,    0.00,2,    2.21,2,   0.029,2,   0.013,2,  -0.002,4,  -999.0,9,  -999.0,9,   0.001,2,   1.9730,2,   10.96,2, -999.00,9,  -999.0,9,  -999.0,   8.448,2,   0.012,-999.0000,9,  4243.6,   0.004,   0.8011,     -999.0,9,     -999.0,9,     -999.0,9,     -999.0,9,     -999.0,9,     -999.0,9,     -999.0,9, -999.00,9,-999.0000,9,-999.0000,9,-999.0000,9,-999.0000,9,-999.0000,9,-999.0000,9,   0.0010,    0.20