BOTTLE,20201109CCHSIOCBG
EXPOCODE,SECT_ID,STNNBR,CASTNO,SAMPNO,BTLNBR,BTLNBR_FLAG_W,DATE,TIME,LATITUDE,LONGITUDE,DEPTH,CTDPRS,CTDTMP,CTDSAL,CTDSAL_FLAG_W,SALNTY,SALNTY_FLAG_W,CTDOXY,CTDOXY_FLAG_W,OXYGEN,OXYGEN_FLAG_W,SILCAT,SILCAT_FLAG_W,NITRAT,NITRAT_FLAG_W,NITRIT,NITRIT_FLAG_W,PHSPHT,PHSPHT_FLAG_W,CFC-11,CFC-11_FLAG_W,CFC-12,CFC-12_FLAG_W,CFC113,CFC113_FLAG_W,TCARBN,TCARBN_FLAG_W,ALKALI,ALKALI_FLAG_W,TRITUM,TRITUM_FLAG_W,HELIUM,HELIUM_FLAG_W,DELHE3,DELHE3_FLAG_W,DELC13,DELC13_FLAG_W,DELC14,DELC14_FLAG_W,C14ERR,NEON,NEON_FLAG_W,NEONER,DOC,DOC_FLAG_W,CTDRAW,TRITER,THETA,FUCO,FUCO_FLAG_W,RHAM,RHAM_FLAG_W,ARABA,ARABA_FLAG_W,GALA,GALA_FLAG_W,GLUC,GLUC_FLAG_W,MAN,MAN_FLAG_W,DCNS,DCNS_FLAG_W,BRDU,BRDU_FLAG_W,CDOM325,CDOM325_FLAG_W,CDOM340,CDOM340_FLAG_W,CDOM380,CDOM380_FLAG_W,CDOM412,CDOM412_FLAG_W,CDOMSL,CDOMSL_FLAG_W,CDOMSN,CDOMSN_FLAG_W,HELIER,DELHER
,,,,,,,,,,,METERS,DBAR,ITS-90,PSS-78,,PSS-78,,UMOL/KG,,UMOL/KG,,UMOL/KG,,UMOL/KG,,UMOL/KG,,UMOL/KG,,PMOL/KG,,PMOL/KG,,PMOL/KG,,UMOL/KG,,UMOL/KG,,TU,,NMOL/KG,,PERCNT,,/MILLE,,/MILLE,,/MILLE,NMOL/KG,,NMOL/KG,UMOL/KG,,DBAR,TU,DEG C,NMOL/KG,,NMOL/KG,,NMOL/KG,,NMOL/KG,,NMOL/KG,,NMOL/KG,,NMOL/KG,,PMOL/L/H,,1/M,,1/M,,1/M,,1/M,,1/NM,,1/NM,,NMOL/KG,PERCNT
33RR20050106,       P16S,      43,          2,          6,          6,2,20050122,       0452,   -37.0003,  -149.9995,       5530,  3957.7,   1.4668,  34.7117,2,  34.7123,2,    187.8,2,   189.1,2,  114.31,2,   32.55,2,    0.00,2,    2.26,2,  -0.001,2,  -0.002,2,   0.002,2,  2272.4,2,  2369.9,2,-999.000,9,   1.9160,2,   12.39,2, -999.00,9,  -999.0,9,  -999.0,   8.108,2,   0.015,-999.0000,9,  3957.7,-999.000,   1.1532,     -999.0,9,     -999.0,9,     -999.0,9,     -999.0,9,     -999.0,9,     -999.0,9,     -999.0,9, -999.00,9,-999.0000,9,-999.0000,9,-999.0000,9,-999.0000,9,-999.0000,9,-999.0000,9,   0.0020,    0.16
33RR20050106,       P16S,      43,          2,          5,          5,2,20050122,       0452,   -37.0003,  -149.9995,       5530,  4265.5,   1.3220,  34.7151,2,  34.7153,2,    196.1,2,   197.3,2,  113.88,2,   32.11,2,    0.00,2,    2.23,2,   0.016,2,   0.013,2,   0.002,2,  2266.8,2,  2367.4,2,   0.005,2,-999.0000,9, -999.00,9, -999.00,9,  -999.0,9,  -999.0,-999.000,9,-999.000,  38.5487,2,  4265.5,   0.006,   0.9788,     -999.0,9,     -999.0,9,     -999.0,9,     -999.0,9,     -999.0,9,     -999.0,9,     -999.0,9, -999.00,9,-999.0000,9,-999.0000,9,-999.0000,9,-999.0000,9,-999.0000,9,-999.0000,9,-999.0000, -999.00
33RR20050106,       P16S,      43,          2,          4,          4,2,20050122,       0452,   -37.0003,  -149.9995,       5530,  4623.2,   1.1910,  34.7138,2,  34.7137,2,    200.6,2,   201.7,2,  116.96,2,   32.16,2,    0.00,2,    2.22,2,-999.000,9,-999.000,9,-999.000,9,  2266.2,2,  2369.4,2,-999.000,9,-999.0000,9, -999.00,9, -999.00,9,  -999.0,9,  -999.0,-999.000,9,-999.000,-999.0000,9,  4623.2,-999.000,   0.8113,     -999.0,9,     -999.0,9,     -999.0,9,     -999.0,9,     -999.0,9,     -999.0,9,     -999.0,9, -999.00,9,-999.0000,9,-999.0000,9,-999.0000,9,-999.0000,9,-999.0000,9,-999.0000,9,-999.0000, -999.00
33RR20050106,       P16S,      43,          2,          3,          3,2,20050122,       0452,   -37.0003,  -149.9995,       5530,  4982.4,   1.1448,  34.7119,2,  34.7121,2,    203.0,2,   203.8,2,  118.82,2,   32.16,2,    0.00,2,    2.23,2,   0.001,2,   0.006,2,   0.002,2,  2265.5,2,  2368.8,2,   0.001,2,   1.8160,2,    9.41,2, -999.00,9,  -999.0,9,  -999.0,   7.675,4,   0.012,  38.2735,2,  4982.4,   0.004,   0.7244,     -999.0,9,     -999.0,9,     -999.0,9,     -999.0,9,     -999.0,9,     -999.0,9,     -999.0,9, -999.00,9,-999.0000,9,-999.0000,9,-999.0000,9,-999.0000,9,-999.0000,9,-999.0000,9,   0.0020,    0.16
33RR20050106,       P16S,      43,          2,          2,          2,2,20050122,       0452,   -37.0003,  -149.9995,       5530,  5343.2,   1.1371,  34.7104,2,  34.7109,2,    204.7,2,   205.0,2,  119.63,2,   32.15,2,    0.00,2,    2.22,2,-999.000,9,-999.000,9,-999.000,9,  2265.1,2,  2367.2,2,-999.000,9,-999.0000,9, -999.00,9, -999.00,9,  -999.0,9,  -999.0,-999.000,9,-999.000,-999.0000,9,  5343.2,-999.000,   0.6731,     -999.0,9,     -999.0,9,     -999.0,9,     -999.0,9,     -999.0,9,     -999.0,9,     -999.0,9, -999.00,9,-999.0000,9,-999.0000,9,-999.0000,9,-999.0000,9,-999.0000,9,-999.0000,9,-999.0000, -999.00
33RR20050106,       P16S,      43,          2,          1,          1,2,20050122,       0452,   -37.0003,  -149.9995,       5530,  5651.4,   1.1673,  34.7100,2,  34.7105,2,    205.2,2,   205.9,2,  119.81,2,   32.20,2,    0.00,2,    2.23,2,   0.020,3,   0.014,3,   0.002,2,  2265.6,6,  2368.1,6,   0.001,2,-999.0000,9, -999.00,9, -999.00,9,  -999.0,9,  -999.0,-999.000,9,-999.000,  39.7383,2,  5651.4,   0.003,   0.6634,     -999.0,9,     -999.0,9,     -999.0,9,     -999.0,9,     -999.0,9,     -999.0,9,     -999.0,9, -999.00,9,-999.0000,9,-999.0000,9,-999.0000,9,-999.0000,9,-999.0000,9,-999.0000,9,-999.0000, -999.00