BOTTLE,20201109CCHSIOCBG
EXPOCODE,SECT_ID,STNNBR,CASTNO,SAMPNO,BTLNBR,BTLNBR_FLAG_W,DATE,TIME,LATITUDE,LONGITUDE,DEPTH,CTDPRS,CTDTMP,CTDSAL,CTDSAL_FLAG_W,SALNTY,SALNTY_FLAG_W,CTDOXY,CTDOXY_FLAG_W,OXYGEN,OXYGEN_FLAG_W,SILCAT,SILCAT_FLAG_W,NITRAT,NITRAT_FLAG_W,NITRIT,NITRIT_FLAG_W,PHSPHT,PHSPHT_FLAG_W,CFC-11,CFC-11_FLAG_W,CFC-12,CFC-12_FLAG_W,CFC113,CFC113_FLAG_W,TCARBN,TCARBN_FLAG_W,ALKALI,ALKALI_FLAG_W,TRITUM,TRITUM_FLAG_W,HELIUM,HELIUM_FLAG_W,DELHE3,DELHE3_FLAG_W,DELC13,DELC13_FLAG_W,DELC14,DELC14_FLAG_W,C14ERR,NEON,NEON_FLAG_W,NEONER,DOC,DOC_FLAG_W,CTDRAW,TRITER,THETA,FUCO,FUCO_FLAG_W,RHAM,RHAM_FLAG_W,ARABA,ARABA_FLAG_W,GALA,GALA_FLAG_W,GLUC,GLUC_FLAG_W,MAN,MAN_FLAG_W,DCNS,DCNS_FLAG_W,BRDU,BRDU_FLAG_W,CDOM325,CDOM325_FLAG_W,CDOM340,CDOM340_FLAG_W,CDOM380,CDOM380_FLAG_W,CDOM412,CDOM412_FLAG_W,CDOMSL,CDOMSL_FLAG_W,CDOMSN,CDOMSN_FLAG_W,HELIER,DELHER
,,,,,,,,,,,METERS,DBAR,ITS-90,PSS-78,,PSS-78,,UMOL/KG,,UMOL/KG,,UMOL/KG,,UMOL/KG,,UMOL/KG,,UMOL/KG,,PMOL/KG,,PMOL/KG,,PMOL/KG,,UMOL/KG,,UMOL/KG,,TU,,NMOL/KG,,PERCNT,,/MILLE,,/MILLE,,/MILLE,NMOL/KG,,NMOL/KG,UMOL/KG,,DBAR,TU,DEG C,NMOL/KG,,NMOL/KG,,NMOL/KG,,NMOL/KG,,NMOL/KG,,NMOL/KG,,NMOL/KG,,PMOL/L/H,,1/M,,1/M,,1/M,,1/M,,1/NM,,1/NM,,NMOL/KG,PERCNT
33RR20050106,       P16S,     102,          1,         31,         31,2,20050208,       1629,   -66.5000,  -150.1025,       4556,     4.7,   0.3302,  33.7517,2,  33.7518,2,    342.2,2,   344.2,2,   42.61,2,   21.96,2,    0.14,2,    1.59,2,   5.765,2,   3.278,2,   0.621,2,  2139.6,6,  2284.5,6,-999.000,9,-999.0000,9, -999.00,9, -999.00,9,  -999.0,9,  -999.0,-999.000,9,-999.000,-999.0000,9,     4.7,-999.000,   0.3300,     -999.0,9,     -999.0,9,     -999.0,9,     -999.0,9,     -999.0,9,     -999.0,9,     -999.0,9, -999.00,9,-999.0000,9,-999.0000,9,-999.0000,9,-999.0000,9,-999.0000,9,-999.0000,9,-999.0000, -999.00
33RR20050106,       P16S,     102,          1,         30,         30,2,20050208,       1629,   -66.5000,  -150.1025,       4556,    43.9,   0.2698,  33.7715,2,  33.7724,2,    344.0,2,   343.8,2,   43.00,2,   22.36,2,    0.15,2,    1.61,2,   5.693,2,   3.184,2,   0.631,2,  -999.0,9,  -999.0,9,-999.000,9,-999.0000,9, -999.00,9, -999.00,9,  -999.0,9,  -999.0,-999.000,9,-999.000,-999.0000,9,    43.9,-999.000,   0.2682,     -999.0,9,     -999.0,9,     -999.0,9,     -999.0,9,     -999.0,9,     -999.0,9,     -999.0,9, -999.00,9,-999.0000,9,-999.0000,9,-999.0000,9,-999.0000,9,-999.0000,9,-999.0000,9,-999.0000, -999.00
33RR20050106,       P16S,     102,          1,         29,         29,2,20050208,       1629,   -66.5000,  -150.1025,       4556,    64.0,  -1.4126,  34.0300,2,  34.0326,2,    329.5,2,   322.1,2,   48.75,2,   26.27,2,    0.22,2,    1.87,2,   5.189,2,   2.829,2,   0.561,2,  2184.9,2,  2300.3,2,-999.000,9,-999.0000,9, -999.00,9, -999.00,9,  -999.0,9,  -999.0,-999.000,9,-999.000,-999.0000,9,    64.0,-999.000,  -1.4140,     -999.0,9,     -999.0,9,     -999.0,9,     -999.0,9,     -999.0,9,     -999.0,9,     -999.0,9, -999.00,9,-999.0000,9,-999.0000,9,-999.0000,9,-999.0000,9,-999.0000,9,-999.0000,9,-999.0000, -999.00
33RR20050106,       P16S,     102,          1,         28,         28,2,20050208,       1629,   -66.5000,  -150.1025,       4556,    89.4,  -1.5737,  34.0776,2,  34.0747,2,    312.7,2,   312.1,2,   51.21,2,   26.93,2,    0.24,2,    1.90,2,   4.949,2,   2.725,2,   0.526,2,  2191.5,2,  2301.4,2,-999.000,9,-999.0000,9, -999.00,9, -999.00,9,  -999.0,9,  -999.0,-999.000,9,-999.000,-999.0000,9,    89.4,-999.000,  -1.5756,     -999.0,9,     -999.0,9,     -999.0,9,     -999.0,9,     -999.0,9,     -999.0,9,     -999.0,9, -999.00,9,-999.0000,9,-999.0000,9,-999.0000,9,-999.0000,9,-999.0000,9,-999.0000,9,-999.0000, -999.00
33RR20050106,       P16S,     102,          1,         27,         27,2,20050208,       1629,   -66.5000,  -150.1025,       4556,   134.6,  -0.2778,  34.3603,2,  34.3663,2,    252.6,2,   246.5,2,   70.40,2,   30.53,2,    0.07,2,    2.10,2,   2.902,2,   1.619,2,   0.303,2,  2225.4,2,  2320.5,2,-999.000,9,-999.0000,9, -999.00,9, -999.00,9,  -999.0,9,  -999.0,-999.000,9,-999.000,-999.0000,9,   134.6,-999.000,  -0.2823,     -999.0,9,     -999.0,9,     -999.0,9,     -999.0,9,     -999.0,9,     -999.0,9,     -999.0,9, -999.00,9,-999.0000,9,-999.0000,9,-999.0000,9,-999.0000,9,-999.0000,9,-999.0000,9,-999.0000, -999.00
33RR20050106,       P16S,     102,          1,         26,         26,2,20050208,       1629,   -66.5000,  -150.1025,       4556,   164.7,   0.8744,  34.5777,2,  34.6112,2,    203.9,2,   194.9,2,   87.17,2,   32.60,2,    0.03,2,    2.24,2,   1.167,2,   0.644,2,   0.119,2,  -999.0,9,  -999.0,9,-999.000,9,-999.0000,9, -999.00,9, -999.00,9,  -999.0,9,  -999.0,-999.000,9,-999.000,-999.0000,9,   164.7,-999.000,   0.8672,     -999.0,9,     -999.0,9,     -999.0,9,     -999.0,9,     -999.0,9,     -999.0,9,     -999.0,9, -999.00,9,-999.0000,9,-999.0000,9,-999.0000,9,-999.0000,9,-999.0000,9,-999.0000,9,-999.0000, -999.00
33RR20050106,       P16S,     102,          1,         25,         25,2,20050208,       1629,   -66.5000,  -150.1025,       4556,   190.1,   1.4380,  34.6906,2,  34.6931,2,    183.0,2,   181.2,2,   93.18,2,   32.87,2,    0.02,2,    2.26,2,   0.586,2,   0.335,2,   0.052,2,  2258.2,2,  2342.2,2,-999.000,9,-999.0000,9, -999.00,9, -999.00,9,  -999.0,9,  -999.0,-999.000,9,-999.000,-999.0000,9,   190.1,-999.000,   1.4287,     -999.0,9,     -999.0,9,     -999.0,9,     -999.0,9,     -999.0,9,     -999.0,9,     -999.0,9, -999.00,9,-999.0000,9,-999.0000,9,-999.0000,9,-999.0000,9,-999.0000,9,-999.0000,9,-999.0000, -999.00
33RR20050106,       P16S,     102,          1,         24,         24,2,20050208,       1629,   -66.5000,  -150.1025,       4556,   215.1,   1.5246,  34.7154,2,  34.7120,2,    178.5,2,   179.1,2,   95.03,2,   32.82,2,    0.01,2,    2.25,2,   0.329,2,   0.177,2,   0.026,2,  2260.2,2,  2345.4,2,-999.000,9,-999.0000,9, -999.00,9, -999.00,9,  -999.0,9,  -999.0,-999.000,9,-999.000,-999.0000,9,   215.1,-999.000,   1.5139,     -999.0,9,     -999.0,9,     -999.0,9,     -999.0,9,     -999.0,9,     -999.0,9,     -999.0,9, -999.00,9,-999.0000,9,-999.0000,9,-999.0000,9,-999.0000,9,-999.0000,9,-999.0000,9,-999.0000, -999.00
33RR20050106,       P16S,     102,          1,         23,         23,2,20050208,       1629,   -66.5000,  -150.1025,       4556,   240.2,   1.5168,  34.7238,2,  34.7218,2,    178.7,2,   179.5,2,   97.32,2,   32.73,2,    0.01,2,    2.25,2,   0.302,2,   0.161,2,   0.024,2,  2261.4,2,  2346.8,2,-999.000,9,-999.0000,9, -999.00,9, -999.00,9,  -999.0,9,  -999.0,-999.000,9,-999.000,-999.0000,9,   240.2,-999.000,   1.5048,     -999.0,9,     -999.0,9,     -999.0,9,     -999.0,9,     -999.0,9,     -999.0,9,     -999.0,9, -999.00,9,-999.0000,9,-999.0000,9,-999.0000,9,-999.0000,9,-999.0000,9,-999.0000,9,-999.0000, -999.00
33RR20050106,       P16S,     102,          1,         22,         22,2,20050208,       1629,   -66.5000,  -150.1025,       4556,   295.9,   1.4676,  34.7293,2,  34.7277,2,    179.6,2,   181.2,2,   99.38,2,   32.57,2,    0.01,2,    2.24,2,   0.302,2,   0.166,2,   0.024,2,  -999.0,9,  -999.0,9,-999.000,9,-999.0000,9, -999.00,9, -999.00,9,  -999.0,9,  -999.0,-999.000,9,-999.000,-999.0000,9,   295.9,-999.000,   1.4527,     -999.0,9,     -999.0,9,     -999.0,9,     -999.0,9,     -999.0,9,     -999.0,9,     -999.0,9, -999.00,9,-999.0000,9,-999.0000,9,-999.0000,9,-999.0000,9,-999.0000,9,-999.0000,9,-999.0000, -999.00
33RR20050106,       P16S,     102,          1,         21,         21,2,20050208,       1629,   -66.5000,  -150.1025,       4556,   396.7,   1.3733,  34.7314,2,  34.7296,2,    181.8,2,   182.8,2,  103.10,2,   32.52,2,    0.00,2,    2.23,2,   0.149,2,   0.081,2,   0.013,2,  2261.6,2,  2350.2,2,-999.000,9,-999.0000,9, -999.00,9, -999.00,9,  -999.0,9,  -999.0,-999.000,9,-999.000,-999.0000,9,   396.7,-999.000,   1.3533,     -999.0,9,     -999.0,9,     -999.0,9,     -999.0,9,     -999.0,9,     -999.0,9,     -999.0,9, -999.00,9,-999.0000,9,-999.0000,9,-999.0000,9,-999.0000,9,-999.0000,9,-999.0000,9,-999.0000, -999.00
33RR20050106,       P16S,     102,          1,         20,         20,2,20050208,       1629,   -66.5000,  -150.1025,       4556,   497.7,   1.2836,  34.7308,2,  34.7298,2,    183.4,2,   185.0,2,  106.41,2,   32.52,2,    0.00,2,    2.23,2,   0.197,2,   0.105,2,   0.019,2,  -999.0,9,  -999.0,9,-999.000,9,-999.0000,9, -999.00,9, -999.00,9,  -999.0,9,  -999.0,-999.000,9,-999.000,-999.0000,9,   497.7,-999.000,   1.2585,     -999.0,9,     -999.0,9,     -999.0,9,     -999.0,9,     -999.0,9,     -999.0,9,     -999.0,9, -999.00,9,-999.0000,9,-999.0000,9,-999.0000,9,-999.0000,9,-999.0000,9,-999.0000,9,-999.0000, -999.00
33RR20050106,       P16S,     102,          1,         19,         19,2,20050208,       1629,   -66.5000,  -150.1025,       4556,   583.2,   1.2265,  34.7295,2,  34.7292,2,    185.1,2,   186.3,2,  108.28,2,   32.52,2,    0.00,2,    2.23,2,   0.212,2,   0.119,2,   0.018,2,  2261.1,2,  2352.0,2,-999.000,9,-999.0000,9, -999.00,9, -999.00,9,  -999.0,9,  -999.0,-999.000,9,-999.000,-999.0000,9,   583.2,-999.000,   1.1969,     -999.0,9,     -999.0,9,     -999.0,9,     -999.0,9,     -999.0,9,     -999.0,9,     -999.0,9, -999.00,9,-999.0000,9,-999.0000,9,-999.0000,9,-999.0000,9,-999.0000,9,-999.0000,9,-999.0000, -999.00
33RR20050106,       P16S,     102,          1,         18,         18,2,20050208,       1629,   -66.5000,  -150.1025,       4556,   785.4,   1.0916,  34.7253,2,  34.7231,2,    190.7,2,   191.0,2,  112.64,2,   32.36,2,    0.00,2,    2.22,2,-999.000,9,-999.000,9,-999.000,9,  2262.1,2,  2355.3,2,-999.000,9,-999.0000,9, -999.00,9, -999.00,9,  -999.0,9,  -999.0,-999.000,9,-999.000,-999.0000,9,   785.4,-999.000,   1.0513,     -999.0,9,     -999.0,9,     -999.0,9,     -999.0,9,     -999.0,9,     -999.0,9,     -999.0,9, -999.00,9,-999.0000,9,-999.0000,9,-999.0000,9,-999.0000,9,-999.0000,9,-999.0000,9,-999.0000, -999.00
33RR20050106,       P16S,     102,          1,         17,         17,2,20050208,       1629,   -66.5000,  -150.1025,       4556,   987.4,   0.9575,  34.7201,2,  34.7186,2,    194.9,2,   196.0,2,  115.97,2,   32.32,2,    0.00,2,    2.22,2,   0.095,2,   0.055,2,   0.013,2,  -999.0,9,  -999.0,9,-999.000,9,-999.0000,9, -999.00,9, -999.00,9,  -999.0,9,  -999.0,-999.000,9,-999.000,-999.0000,9,   987.4,-999.000,   0.9062,     -999.0,9,     -999.0,9,     -999.0,9,     -999.0,9,     -999.0,9,     -999.0,9,     -999.0,9, -999.00,9,-999.0000,9,-999.0000,9,-999.0000,9,-999.0000,9,-999.0000,9,-999.0000,9,-999.0000, -999.00
33RR20050106,       P16S,     102,          1,         16,         16,2,20050208,       1629,   -66.5000,  -150.1025,       4556,  1189.9,   0.8522,  34.7159,2,  34.7159,2,    198.3,2,   198.9,2,  119.28,2,   32.32,2,    0.00,2,    2.21,2,-999.000,9,-999.000,9,-999.000,9,  2261.5,2,  2357.6,2,-999.000,9,-999.0000,9, -999.00,9, -999.00,9,  -999.0,9,  -999.0,-999.000,9,-999.000,-999.0000,9,  1189.9,-999.000,   0.7893,     -999.0,9,     -999.0,9,     -999.0,9,     -999.0,9,     -999.0,9,     -999.0,9,     -999.0,9, -999.00,9,-999.0000,9,-999.0000,9,-999.0000,9,-999.0000,9,-999.0000,9,-999.0000,9,-999.0000, -999.00
33RR20050106,       P16S,     102,          1,         15,         15,2,20050208,       1629,   -66.5000,  -150.1025,       4556,  1392.4,   0.7564,  34.7119,2,  34.7111,2,    200.7,2,   201.5,2,  122.83,2,   32.37,2,    0.00,2,    2.22,2,   0.217,2,   0.125,2,   0.017,2,  -999.0,9,  -999.0,9,-999.000,9,-999.0000,9, -999.00,9, -999.00,9,  -999.0,9,  -999.0,-999.000,9,-999.000,-999.0000,9,  1392.4,-999.000,   0.6815,     -999.0,9,     -999.0,9,     -999.0,9,     -999.0,9,     -999.0,9,     -999.0,9,     -999.0,9, -999.00,9,-999.0000,9,-999.0000,9,-999.0000,9,-999.0000,9,-999.0000,9,-999.0000,9,-999.0000, -999.00
33RR20050106,       P16S,     102,          1,         14,         14,2,20050208,       1629,   -66.5000,  -150.1025,       4556,  1595.0,   0.6791,  34.7089,2,  34.7086,2,    202.9,2,   203.6,2,  125.31,2,   32.38,2,    0.00,2,    2.23,2,-999.000,9,-999.000,9,-999.000,9,  2262.5,2,  2357.5,2,-999.000,9,-999.0000,9, -999.00,9, -999.00,9,  -999.0,9,  -999.0,-999.000,9,-999.000,-999.0000,9,  1595.0,-999.000,   0.5916,     -999.0,9,     -999.0,9,     -999.0,9,     -999.0,9,     -999.0,9,     -999.0,9,     -999.0,9, -999.00,9,-999.0000,9,-999.0000,9,-999.0000,9,-999.0000,9,-999.0000,9,-999.0000,9,-999.0000, -999.00
33RR20050106,       P16S,     102,          1,         13,         13,2,20050208,       1629,   -66.5000,  -150.1025,       4556,  1797.9,   0.5980,  34.7067,2,  34.7076,2,    204.7,2,   205.6,2,  126.77,2,   32.43,2,    0.00,2,    2.23,2,   0.177,2,   0.102,2,   0.011,2,  -999.0,9,  -999.0,9,-999.000,9,-999.0000,9, -999.00,9, -999.00,9,  -999.0,9,  -999.0,-999.000,9,-999.000,-999.0000,9,  1797.9,-999.000,   0.4975,     -999.0,9,     -999.0,9,     -999.0,9,     -999.0,9,     -999.0,9,     -999.0,9,     -999.0,9, -999.00,9,-999.0000,9,-999.0000,9,-999.0000,9,-999.0000,9,-999.0000,9,-999.0000,9,-999.0000, -999.00
33RR20050106,       P16S,     102,          1,         12,         12,2,20050208,       1629,   -66.5000,  -150.1025,       4556,  2000.8,   0.5283,  34.7053,2,  34.7052,2,    206.2,2,   207.1,2,  127.17,2,   32.48,2,    0.00,2,    2.23,2,   0.091,2,   0.049,2,   0.008,2,  2262.0,2,  2357.5,2,-999.000,9,-999.0000,9, -999.00,9, -999.00,9,  -999.0,9,  -999.0,-999.000,9,-999.000,-999.0000,9,  2000.8,-999.000,   0.4141,     -999.0,9,     -999.0,9,     -999.0,9,     -999.0,9,     -999.0,9,     -999.0,9,     -999.0,9, -999.00,9,-999.0000,9,-999.0000,9,-999.0000,9,-999.0000,9,-999.0000,9,-999.0000,9,-999.0000, -999.00
33RR20050106,       P16S,     102,          1,         11,         11,2,20050208,       1629,   -66.5000,  -150.1025,       4556,  2204.3,   0.4576,  34.7043,2,  34.6987,2,    208.1,2,   209.2,2,  129.25,2,   32.48,2,    0.00,2,    2.23,2,   0.084,2,   0.051,2,   0.006,2,  -999.0,9,  -999.0,9,-999.000,9,-999.0000,9, -999.00,9, -999.00,9,  -999.0,9,  -999.0,-999.000,9,-999.000,-999.0000,9,  2204.3,-999.000,   0.3294,     -999.0,9,     -999.0,9,     -999.0,9,     -999.0,9,     -999.0,9,     -999.0,9,     -999.0,9, -999.00,9,-999.0000,9,-999.0000,9,-999.0000,9,-999.0000,9,-999.0000,9,-999.0000,9,-999.0000, -999.00
33RR20050106,       P16S,     102,          1,         10,         10,2,20050208,       1629,   -66.5000,  -150.1025,       4556,  2458.2,   0.3769,  34.7037,2,  34.7031,2,    210.0,2,   210.8,2,  130.69,2,   32.48,2,    0.00,2,    2.24,2,   0.115,2,   0.065,2,   0.010,2,  2261.5,2,  2358.1,2,-999.000,9,-999.0000,9, -999.00,9, -999.00,9,  -999.0,9,  -999.0,-999.000,9,-999.000,-999.0000,9,  2458.2,-999.000,   0.2303,     -999.0,9,     -999.0,9,     -999.0,9,     -999.0,9,     -999.0,9,     -999.0,9,     -999.0,9, -999.00,9,-999.0000,9,-999.0000,9,-999.0000,9,-999.0000,9,-999.0000,9,-999.0000,9,-999.0000, -999.00
33RR20050106,       P16S,     102,          1,          9,          9,2,20050208,       1629,   -66.5000,  -150.1025,       4556,  2713.0,   0.3112,  34.7029,2,  34.7023,2,    212.0,2,   213.0,2,  131.93,2,   32.54,2,    0.00,2,    2.24,2,   0.252,2,   0.130,2,   0.018,2,  -999.0,9,  -999.0,9,-999.000,9,-999.0000,9, -999.00,9, -999.00,9,  -999.0,9,  -999.0,-999.000,9,-999.000,-999.0000,9,  2713.0,-999.000,   0.1451,     -999.0,9,     -999.0,9,     -999.0,9,     -999.0,9,     -999.0,9,     -999.0,9,     -999.0,9, -999.00,9,-999.0000,9,-999.0000,9,-999.0000,9,-999.0000,9,-999.0000,9,-999.0000,9,-999.0000, -999.00
33RR20050106,       P16S,     102,          1,          8,          8,2,20050208,       1629,   -66.5000,  -150.1025,       4556,  2968.0,   0.2568,  34.7017,2,  34.7015,2,    214.1,2,   215.1,2,  131.28,2,   32.59,2,    0.00,2,    2.25,2,   0.165,2,   0.098,2,   0.014,2,  2261.7,2,  2358.8,2,-999.000,9,-999.0000,9, -999.00,9, -999.00,9,  -999.0,9,  -999.0,-999.000,9,-999.000,-999.0000,9,  2968.0,-999.000,   0.0702,     -999.0,9,     -999.0,9,     -999.0,9,     -999.0,9,     -999.0,9,     -999.0,9,     -999.0,9, -999.00,9,-999.0000,9,-999.0000,9,-999.0000,9,-999.0000,9,-999.0000,9,-999.0000,9,-999.0000, -999.00
33RR20050106,       P16S,     102,          1,          7,          7,2,20050208,       1629,   -66.5000,  -150.1025,       4556,  3222.8,   0.1932,  34.6990,2,  34.6987,2,    217.3,2,   218.5,2,  127.08,2,   32.48,2,    0.00,2,    2.24,2,   0.493,2,   0.254,2,   0.038,2,  -999.0,9,  -999.0,9,-999.000,9,-999.0000,9, -999.00,9, -999.00,9,  -999.0,9,  -999.0,-999.000,9,-999.000,-999.0000,9,  3222.8,-999.000,  -0.0144,     -999.0,9,     -999.0,9,     -999.0,9,     -999.0,9,     -999.0,9,     -999.0,9,     -999.0,9, -999.00,9,-999.0000,9,-999.0000,9,-999.0000,9,-999.0000,9,-999.0000,9,-999.0000,9,-999.0000, -999.00
33RR20050106,       P16S,     102,          1,          6,          6,2,20050208,       1629,   -66.5000,  -150.1025,       4556,  3478.7,   0.1618,  34.6972,2,  34.6975,2,    219.8,2,   220.9,2,  123.31,2,   32.32,2,    0.00,2,    2.24,2,   0.680,2,   0.338,2,   0.044,2,  2259.4,2,  2356.0,2,-999.000,9,-999.0000,9, -999.00,9, -999.00,9,  -999.0,9,  -999.0,-999.000,9,-999.000,-999.0000,9,  3478.7,-999.000,  -0.0685,     -999.0,9,     -999.0,9,     -999.0,9,     -999.0,9,     -999.0,9,     -999.0,9,     -999.0,9, -999.00,9,-999.0000,9,-999.0000,9,-999.0000,9,-999.0000,9,-999.0000,9,-999.0000,9,-999.0000, -999.00
33RR20050106,       P16S,     102,          1,          5,          5,2,20050208,       1629,   -66.5000,  -150.1025,       4556,  3734.2,   0.1591,  34.6969,2,  34.6948,2,    220.8,2,   221.8,2,  122.44,2,   32.32,2,    0.00,2,    2.24,2,   0.741,2,   0.393,2,   0.046,2,  -999.0,9,  -999.0,9,-999.000,9,-999.0000,9, -999.00,9, -999.00,9,  -999.0,9,  -999.0,-999.000,9,-999.000,-999.0000,9,  3734.2,-999.000,  -0.0955,     -999.0,9,     -999.0,9,     -999.0,9,     -999.0,9,     -999.0,9,     -999.0,9,     -999.0,9, -999.00,9,-999.0000,9,-999.0000,9,-999.0000,9,-999.0000,9,-999.0000,9,-999.0000,9,-999.0000, -999.00
33RR20050106,       P16S,     102,          1,          4,          4,2,20050208,       1629,   -66.5000,  -150.1025,       4556,  3990.2,   0.1760,  34.6974,2,  34.6956,2,    221.0,2,   221.6,2,  122.42,2,   32.38,2,    0.00,2,    2.24,2,   0.727,2,   0.375,2,   0.036,2,  2259.5,2,  2352.9,3,-999.000,9,-999.0000,9, -999.00,9, -999.00,9,  -999.0,9,  -999.0,-999.000,9,-999.000,-999.0000,9,  3990.2,-999.000,  -0.1044,     -999.0,9,     -999.0,9,     -999.0,9,     -999.0,9,     -999.0,9,     -999.0,9,     -999.0,9, -999.00,9,-999.0000,9,-999.0000,9,-999.0000,9,-999.0000,9,-999.0000,9,-999.0000,9,-999.0000, -999.00
33RR20050106,       P16S,     102,          1,          3,          3,2,20050208,       1629,   -66.5000,  -150.1025,       4556,  4246.6,   0.1981,  34.6976,2,  34.6950,2,    221.1,2,   221.7,2,  122.62,2,   32.32,2,    0.00,2,    2.24,2,   0.699,2,   0.352,2,   0.036,2,  -999.0,9,  -999.0,9,-999.000,9,-999.0000,9, -999.00,9, -999.00,9,  -999.0,9,  -999.0,-999.000,9,-999.000,-999.0000,9,  4246.6,-999.000,  -0.1093,     -999.0,9,     -999.0,9,     -999.0,9,     -999.0,9,     -999.0,9,     -999.0,9,     -999.0,9, -999.00,9,-999.0000,9,-999.0000,9,-999.0000,9,-999.0000,9,-999.0000,9,-999.0000,9,-999.0000, -999.00
33RR20050106,       P16S,     102,          1,          2,          2,2,20050208,       1629,   -66.5000,  -150.1025,       4556,  4482.6,   0.2225,  34.6977,2,  34.6987,2,    221.1,2,   221.5,2,  123.03,2,   32.32,2,    0.00,2,    2.24,2,-999.000,5,-999.000,5,-999.000,5,  2259.4,2,  2354.9,2,-999.000,9,-999.0000,9, -999.00,9, -999.00,9,  -999.0,9,  -999.0,-999.000,9,-999.000,-999.0000,9,  4482.6,-999.000,  -0.1107,     -999.0,9,     -999.0,9,     -999.0,9,     -999.0,9,     -999.0,9,     -999.0,9,     -999.0,9, -999.00,9,-999.0000,9,-999.0000,9,-999.0000,9,-999.0000,9,-999.0000,9,-999.0000,9,-999.0000, -999.00