BOTTLE,20201109CCHSIOCBG
EXPOCODE,SECT_ID,STNNBR,CASTNO,SAMPNO,BTLNBR,BTLNBR_FLAG_W,DATE,TIME,LATITUDE,LONGITUDE,DEPTH,CTDPRS,CTDTMP,CTDSAL,CTDSAL_FLAG_W,SALNTY,SALNTY_FLAG_W,CTDOXY,CTDOXY_FLAG_W,OXYGEN,OXYGEN_FLAG_W,SILCAT,SILCAT_FLAG_W,NITRAT,NITRAT_FLAG_W,NITRIT,NITRIT_FLAG_W,PHSPHT,PHSPHT_FLAG_W,CFC-11,CFC-11_FLAG_W,CFC-12,CFC-12_FLAG_W,CFC113,CFC113_FLAG_W,TCARBN,TCARBN_FLAG_W,ALKALI,ALKALI_FLAG_W,TRITUM,TRITUM_FLAG_W,HELIUM,HELIUM_FLAG_W,DELHE3,DELHE3_FLAG_W,DELC13,DELC13_FLAG_W,DELC14,DELC14_FLAG_W,C14ERR,NEON,NEON_FLAG_W,NEONER,DOC,DOC_FLAG_W,CTDRAW,TRITER,THETA,FUCO,FUCO_FLAG_W,RHAM,RHAM_FLAG_W,ARABA,ARABA_FLAG_W,GALA,GALA_FLAG_W,GLUC,GLUC_FLAG_W,MAN,MAN_FLAG_W,DCNS,DCNS_FLAG_W,BRDU,BRDU_FLAG_W,CDOM325,CDOM325_FLAG_W,CDOM340,CDOM340_FLAG_W,CDOM380,CDOM380_FLAG_W,CDOM412,CDOM412_FLAG_W,CDOMSL,CDOMSL_FLAG_W,CDOMSN,CDOMSN_FLAG_W,HELIER,DELHER
,,,,,,,,,,,METERS,DBAR,ITS-90,PSS-78,,PSS-78,,UMOL/KG,,UMOL/KG,,UMOL/KG,,UMOL/KG,,UMOL/KG,,UMOL/KG,,PMOL/KG,,PMOL/KG,,PMOL/KG,,UMOL/KG,,UMOL/KG,,TU,,NMOL/KG,,PERCNT,,/MILLE,,/MILLE,,/MILLE,NMOL/KG,,NMOL/KG,UMOL/KG,,DBAR,TU,DEG C,NMOL/KG,,NMOL/KG,,NMOL/KG,,NMOL/KG,,NMOL/KG,,NMOL/KG,,NMOL/KG,,PMOL/L/H,,1/M,,1/M,,1/M,,1/M,,1/NM,,1/NM,,NMOL/KG,PERCNT
33RR20050106,       P16S,      86,          2,         31,         31,2,20050204,       0447,   -58.4993,  -150.0012,       2866,     3.0,   1.8348,  33.9705,2,  33.9719,2,    336.3,2,   337.4,2,   30.61,2,   23.98,2,    0.22,2,    1.57,2,   5.802,2,   3.175,2,   0.591,2,  2155.6,6,  2297.7,2,   0.287,2,   1.8090,2,   -2.31,2, -999.00,9,  -999.0,9,  -999.0,   8.039,2,   0.008,-999.0000,9,     3.0,   0.009,   1.8347,     -999.0,9,     -999.0,9,     -999.0,9,     -999.0,9,     -999.0,9,     -999.0,9,     -999.0,9, -999.00,9,-999.0000,9,-999.0000,9,-999.0000,9,-999.0000,9,-999.0000,9,-999.0000,9,   0.0010,    0.20
33RR20050106,       P16S,      86,          2,         30,         30,2,20050204,       0447,   -58.4993,  -150.0012,       2866,    40.1,   1.8264,  33.9722,2,  33.9726,2,    337.7,2,   338.7,2,   30.81,2,   23.92,2,    0.22,2,    1.57,2,   5.820,2,   3.224,2,   0.595,2,  2156.1,2,  2298.9,2,-999.000,9,   1.8230,2,   -2.15,2, -999.00,9,  -999.0,9,  -999.0,   8.088,2,   0.009,-999.0000,9,    40.1,-999.000,   1.8244,     -999.0,9,     -999.0,9,     -999.0,9,     -999.0,9,     -999.0,9,     -999.0,9,     -999.0,9, -999.00,9,-999.0000,9,-999.0000,9,-999.0000,9,-999.0000,9,-999.0000,9,-999.0000,9,   0.0010,    0.19
33RR20050106,       P16S,      86,          2,         29,         29,2,20050204,       0447,   -58.4993,  -150.0012,       2866,    75.2,  -0.9697,  33.9573,2,  33.9562,2,    340.1,2,   344.0,2,   45.32,2,   28.60,2,    0.19,2,    2.09,2,   6.189,6,   3.402,6,   0.646,6,  2181.1,2,  2291.8,2,   0.087,2,   1.8450,2,   -0.91,2, -999.00,9,  -999.0,9,  -999.0,   8.295,2,   0.009,-999.0000,9,    75.2,   0.007,  -0.9717,     -999.0,9,     -999.0,9,     -999.0,9,     -999.0,9,     -999.0,9,     -999.0,9,     -999.0,9, -999.00,9,-999.0000,9,-999.0000,9,-999.0000,9,-999.0000,9,-999.0000,9,-999.0000,9,   0.0010,    0.19
33RR20050106,       P16S,      86,          2,         28,         28,2,20050204,       0447,   -58.4993,  -150.0012,       2866,    95.3,  -0.7633,  34.0335,2,  34.0328,2,    323.2,2,   320.6,2,   50.58,2,   30.34,2,    0.16,2,    2.14,2,   5.369,2,   2.954,2,   0.559,2,  2191.9,2,  2293.4,2,-999.000,9,   2.0440,3,   -1.97,2, -999.00,9,  -999.0,9,  -999.0,  10.233,4,   1.378,-999.0000,9,    95.3,-999.000,  -0.7660,     -999.0,9,     -999.0,9,     -999.0,9,     -999.0,9,     -999.0,9,     -999.0,9,     -999.0,9, -999.00,9,-999.0000,9,-999.0000,9,-999.0000,9,-999.0000,9,-999.0000,9,-999.0000,9,   0.2210,    1.29
33RR20050106,       P16S,      86,          2,         27,         27,2,20050204,       0447,   -58.4993,  -150.0012,       2866,   125.3,   0.1748,  34.2074,2,  34.2084,2,    284.3,2,   268.1,2,   59.02,2,   32.51,2,    0.12,2,    2.26,2,   3.827,2,   2.072,2,   0.380,2,  2215.4,2,  2304.3,2,   0.210,2,   1.8500,2,    1.52,2, -999.00,9,  -999.0,9,  -999.0,   8.273,2,   0.009,-999.0000,9,   125.3,   0.012,   0.1702,     -999.0,9,     -999.0,9,     -999.0,9,     -999.0,9,     -999.0,9,     -999.0,9,     -999.0,9, -999.00,9,-999.0000,9,-999.0000,9,-999.0000,9,-999.0000,9,-999.0000,9,-999.0000,9,   0.0010,    0.22
33RR20050106,       P16S,      86,          2,         26,         26,2,20050204,       0447,   -58.4993,  -150.0012,       2866,   145.5,   0.8660,  34.3021,2,  34.2994,2,    268.1,2,   232.6,2,   61.33,2,   33.74,2,    0.06,2,    2.33,2,   2.945,2,   1.625,2,   0.283,2,  2227.9,2,  2309.1,2,-999.000,9,-999.0000,9, -999.00,9, -999.00,9,  -999.0,9,  -999.0,-999.000,9,-999.000,-999.0000,9,   145.5,-999.000,   0.8597,     -999.0,9,     -999.0,9,     -999.0,9,     -999.0,9,     -999.0,9,     -999.0,9,     -999.0,9, -999.00,9,-999.0000,9,-999.0000,9,-999.0000,9,-999.0000,9,-999.0000,9,-999.0000,9,-999.0000, -999.00
33RR20050106,       P16S,      86,          2,         25,         25,2,20050204,       0447,   -58.4993,  -150.0012,       2866,   175.2,   1.6803,  34.4083,2,  34.4072,2,    203.5,2,   196.2,2,   65.12,2,   34.67,2,    0.03,2,    2.39,2,   1.753,2,   0.944,2,   0.170,2,  2240.9,2,  2316.0,2,   0.034,2,   1.8580,2,    5.89,2, -999.00,9,  -999.0,9,  -999.0,   8.218,2,   0.009,-999.0000,9,   175.2,   0.006,   1.6715,     -999.0,9,     -999.0,9,     -999.0,9,     -999.0,9,     -999.0,9,     -999.0,9,     -999.0,9, -999.00,9,-999.0000,9,-999.0000,9,-999.0000,9,-999.0000,9,-999.0000,9,-999.0000,9,   0.0010,    0.19
33RR20050106,       P16S,      86,          2,         24,         24,2,20050204,       0447,   -58.4993,  -150.0012,       2866,   225.5,   1.8422,  34.4833,2,  34.4819,2,    177.2,2,   184.7,2,   69.99,2,   34.63,2,    0.02,2,    2.39,2,   1.292,2,   0.689,2,   0.132,2,  2248.0,2,  2322.2,2,-999.000,9,-999.0000,9, -999.00,9, -999.00,9,  -999.0,9,  -999.0,-999.000,9,-999.000,-999.0000,9,   225.5,-999.000,   1.8304,     -999.0,9,     -999.0,9,     -999.0,9,     -999.0,9,     -999.0,9,     -999.0,9,     -999.0,9, -999.00,9,-999.0000,9,-999.0000,9,-999.0000,9,-999.0000,9,-999.0000,9,-999.0000,9,-999.0000, -999.00
33RR20050106,       P16S,      86,          2,         23,         23,2,20050204,       0447,   -58.4993,  -150.0012,       2866,   276.0,   2.1548,  34.5614,2,  34.5605,2,    172.9,2,   172.7,2,   73.59,2,   34.48,2,    0.01,2,    2.37,2,   0.729,2,   0.379,2,   0.080,2,  2254.1,2,  2328.1,2,   0.058,2,   1.4940,4,    0.13,4, -999.00,9,  -999.0,9,  -999.0,   8.675,3,   1.668,-999.0000,9,   276.0,   0.007,   2.1395,     -999.0,9,     -999.0,9,     -999.0,9,     -999.0,9,     -999.0,9,     -999.0,9,     -999.0,9, -999.00,9,-999.0000,9,-999.0000,9,-999.0000,9,-999.0000,9,-999.0000,9,-999.0000,9,   0.2410,    1.27
33RR20050106,       P16S,      86,          2,         22,         22,2,20050204,       0447,   -58.4993,  -150.0012,       2866,   325.2,   2.1801,  34.5983,2,  34.5964,2,    169.7,2,   171.9,2,   75.71,2,   34.06,2,    0.01,2,    2.35,2,   0.596,2,   0.296,2,   0.062,2,  2254.2,2,  2332.0,2,   0.035,2,   1.8590,2,    7.52,2, -999.00,9,  -999.0,9,  -999.0,   8.061,2,   0.036,-999.0000,9,   325.2,   0.009,   2.1619,     -999.0,9,     -999.0,9,     -999.0,9,     -999.0,9,     -999.0,9,     -999.0,9,     -999.0,9, -999.00,9,-999.0000,9,-999.0000,9,-999.0000,9,-999.0000,9,-999.0000,9,-999.0000,9,   0.0040,    0.20
33RR20050106,       P16S,      86,          2,         21,         21,2,20050204,       0447,   -58.4993,  -150.0012,       2866,   374.9,   2.1658,  34.6318,2,  34.6293,2,    171.1,2,   172.4,2,   77.18,2,   33.53,2,    0.00,2,    2.31,2,   0.473,2,   0.240,2,   0.054,2,  2254.3,2,  2334.9,2,   0.064,2,   1.8530,2,    8.54,2, -999.00,9,  -999.0,9,  -999.0,   8.003,2,   0.011,-999.0000,9,   374.9,   0.008,   2.1446,     -999.0,9,     -999.0,9,     -999.0,9,     -999.0,9,     -999.0,9,     -999.0,9,     -999.0,9, -999.00,9,-999.0000,9,-999.0000,9,-999.0000,9,-999.0000,9,-999.0000,9,-999.0000,9,   0.0030,    0.10
33RR20050106,       P16S,      86,          2,         20,         20,2,20050204,       0447,   -58.4993,  -150.0012,       2866,   424.9,   2.1438,  34.6584,2,  34.6578,2,    172.8,2,   174.2,2,   78.87,2,   32.94,2,    0.00,2,    2.27,2,   0.380,2,   0.205,2,   0.054,2,  2254.3,2,  2336.8,2,   0.029,2,   1.8510,2,    8.65,2, -999.00,9,  -999.0,9,  -999.0,   7.987,2,   0.036,-999.0000,9,   424.9,   0.009,   2.1197,     -999.0,9,     -999.0,9,     -999.0,9,     -999.0,9,     -999.0,9,     -999.0,9,     -999.0,9, -999.00,9,-999.0000,9,-999.0000,9,-999.0000,9,-999.0000,9,-999.0000,9,-999.0000,9,   0.0040,    0.20
33RR20050106,       P16S,      86,          2,         19,         19,2,20050204,       0447,   -58.4993,  -150.0012,       2866,   474.5,   2.1306,  34.6765,2,  34.6798,2,    175.3,2,   176.3,2,   79.93,2,   32.57,2,    0.00,2,    2.24,2,   0.300,2,   0.158,2,   0.052,2,  2253.8,2,  2339.0,2,   0.034,2,   1.8530,2,    8.88,2, -999.00,9,  -999.0,9,  -999.0,   7.935,2,   0.036,-999.0000,9,   474.5,   0.007,   2.1035,     -999.0,9,     -999.0,9,     -999.0,9,     -999.0,9,     -999.0,9,     -999.0,9,     -999.0,9, -999.00,9,-999.0000,9,-999.0000,9,-999.0000,9,-999.0000,9,-999.0000,9,-999.0000,9,   0.0040,    0.20
33RR20050106,       P16S,      86,          2,         18,         18,2,20050204,       0447,   -58.4993,  -150.0012,       2866,   524.1,   2.1170,  34.6864,2,  34.6863,2,    177.5,2,   177.9,2,   80.34,2,   32.24,2,    0.00,2,    2.22,2,   0.242,2,   0.147,2,   0.036,2,  2252.3,2,  2339.7,2,   0.019,2,-999.0000,9, -999.00,9, -999.00,9,  -999.0,9,  -999.0,-999.000,9,-999.000,-999.0000,9,   524.1,   0.006,   2.0869,     -999.0,9,     -999.0,9,     -999.0,9,     -999.0,9,     -999.0,9,     -999.0,9,     -999.0,9, -999.00,9,-999.0000,9,-999.0000,9,-999.0000,9,-999.0000,9,-999.0000,9,-999.0000,9,-999.0000, -999.00
33RR20050106,       P16S,      86,          2,         17,         17,2,20050204,       0447,   -58.4993,  -150.0012,       2866,   645.1,   2.0201,  34.7087,2,  34.7089,2,    181.0,2,   181.4,2,   82.46,2,   31.77,2,    0.00,2,    2.19,2,   0.205,2,   0.126,2,   0.041,2,  2258.2,4,  2342.4,2,   0.029,2,   1.8580,2,    8.75,2, -999.00,9,  -999.0,9,  -999.0,   8.074,2,   0.044,-999.0000,9,   645.1,   0.007,   1.9829,     -999.0,9,     -999.0,9,     -999.0,9,     -999.0,9,     -999.0,9,     -999.0,9,     -999.0,9, -999.00,9,-999.0000,9,-999.0000,9,-999.0000,9,-999.0000,9,-999.0000,9,-999.0000,9,   0.0040,    0.16
33RR20050106,       P16S,      86,          2,         16,         16,2,20050204,       0447,   -58.4993,  -150.0012,       2866,   745.6,   1.9526,  34.7253,2,  34.7248,2,    185.2,2,   186.1,2,   84.57,2,   31.19,2,    0.00,2,    2.15,2,   0.220,2,   0.126,2,   0.054,2,  2251.8,2,  2344.7,2,   0.057,2,-999.0000,9, -999.00,9, -999.00,9,  -999.0,9,  -999.0,-999.000,9,-999.000,-999.0000,9,   745.6,   0.006,   1.9094,     -999.0,9,     -999.0,9,     -999.0,9,     -999.0,9,     -999.0,9,     -999.0,9,     -999.0,9, -999.00,9,-999.0000,9,-999.0000,9,-999.0000,9,-999.0000,9,-999.0000,9,-999.0000,9,-999.0000, -999.00
33RR20050106,       P16S,      86,          2,         15,         15,2,20050204,       0447,   -58.4993,  -150.0012,       2866,   846.6,   1.8476,  34.7304,2,  34.7289,2,    187.8,2,   188.4,2,   87.12,2,   31.08,2,    0.00,2,    2.14,2,   0.170,2,   0.107,2,   0.042,2,  2254.5,2,  2346.1,2,   0.004,2,-999.0000,9, -999.00,9, -999.00,9,  -999.0,9,  -999.0,-999.000,9,-999.000,-999.0000,9,   846.6,   0.005,   1.7985,     -999.0,9,     -999.0,9,     -999.0,9,     -999.0,9,     -999.0,9,     -999.0,9,     -999.0,9, -999.00,9,-999.0000,9,-999.0000,9,-999.0000,9,-999.0000,9,-999.0000,9,-999.0000,9,-999.0000, -999.00
33RR20050106,       P16S,      86,          2,         14,         14,2,20050204,       0447,   -58.4993,  -150.0012,       2866,   947.5,   1.7681,  34.7345,2,  34.7346,2,    190.6,2,   191.1,2,   89.25,2,   30.98,2,    0.00,2,    2.13,2,   0.166,2,   0.103,2,   0.039,2,  2254.0,2,  2347.0,2,   0.001,2,-999.0000,9, -999.00,9, -999.00,9,  -999.0,9,  -999.0,-999.000,9,-999.000,-999.0000,9,   947.5,   0.004,   1.7130,     -999.0,9,     -999.0,9,     -999.0,9,     -999.0,9,     -999.0,9,     -999.0,9,     -999.0,9, -999.00,9,-999.0000,9,-999.0000,9,-999.0000,9,-999.0000,9,-999.0000,9,-999.0000,9,-999.0000, -999.00
33RR20050106,       P16S,      86,          2,         13,         13,2,20050204,       0447,   -58.4993,  -150.0012,       2866,  1047.9,   1.6768,  34.7381,2,  34.7378,2,    193.0,2,   193.2,2,   92.01,2,   30.77,2,    0.00,2,    2.12,2,   0.080,4,   0.060,4,   0.029,4,  2251.7,2,  2350.0,2,   0.001,2,-999.0000,9, -999.00,9, -999.00,9,  -999.0,9,  -999.0,-999.000,9,-999.000,-999.0000,9,  1047.9,   0.004,   1.6157,     -999.0,9,     -999.0,9,     -999.0,9,     -999.0,9,     -999.0,9,     -999.0,9,     -999.0,9, -999.00,9,-999.0000,9,-999.0000,9,-999.0000,9,-999.0000,9,-999.0000,9,-999.0000,9,-999.0000, -999.00
33RR20050106,       P16S,      86,          2,         12,         12,2,20050204,       0447,   -58.4993,  -150.0012,       2866,  1149.3,   1.5988,  34.7391,2,  34.7394,2,    194.6,2,   195.0,2,   94.77,2,   30.72,2,    0.00,2,    2.12,2,   0.153,2,   0.089,2,   0.035,2,  -999.0,9,  -999.0,9,   0.045,2,   1.9280,2,    8.89,2, -999.00,9,  -999.0,9,  -999.0,   8.504,2,   0.113,-999.0000,9,  1149.3,   0.005,   1.5316,     -999.0,9,     -999.0,9,     -999.0,9,     -999.0,9,     -999.0,9,     -999.0,9,     -999.0,9, -999.00,9,-999.0000,9,-999.0000,9,-999.0000,9,-999.0000,9,-999.0000,9,-999.0000,9,   0.0160,    0.22
33RR20050106,       P16S,      86,          2,         11,         11,2,20050204,       0447,   -58.4993,  -150.0012,       2866,  1251.4,   1.5004,  34.7377,2,  34.7386,2,    196.2,2,   196.5,2,   97.96,2,   30.87,2,    0.00,2,    2.13,2,   0.118,2,   0.066,2,   0.037,2,  -999.0,9,  -999.0,9,   0.001,2,   1.8500,2,    9.44,2, -999.00,9,  -999.0,9,  -999.0,   8.036,2,   0.025,-999.0000,9,  1251.4,   0.004,   1.4271,     -999.0,9,     -999.0,9,     -999.0,9,     -999.0,9,     -999.0,9,     -999.0,9,     -999.0,9, -999.00,9,-999.0000,9,-999.0000,9,-999.0000,9,-999.0000,9,-999.0000,9,-999.0000,9,   0.0040,    0.19
33RR20050106,       P16S,      86,          2,         10,         10,2,20050204,       0447,   -58.4993,  -150.0012,       2866,  1353.4,   1.3906,  34.7347,2,  34.7352,2,    197.2,2,   198.3,2,  101.16,2,   30.93,2,    0.00,2,    2.14,2,   0.179,2,   0.103,2,   0.051,3,  -999.0,9,  -999.0,9,   0.028,2,   1.8720,2,    9.40,2, -999.00,9,  -999.0,9,  -999.0,   8.107,2,   0.037,-999.0000,9,  1353.4,   0.005,   1.3114,     -999.0,9,     -999.0,9,     -999.0,9,     -999.0,9,     -999.0,9,     -999.0,9,     -999.0,9, -999.00,9,-999.0000,9,-999.0000,9,-999.0000,9,-999.0000,9,-999.0000,9,-999.0000,9,   0.0040,    0.20
33RR20050106,       P16S,      86,          2,          9,          9,2,20050204,       0447,   -58.4993,  -150.0012,       2866,  1454.6,   1.3134,  34.7318,2,  34.7321,2,    198.1,2,   198.6,2,  103.07,2,   31.10,2,    0.00,2,    2.14,2,   0.134,2,   0.073,2,   0.031,2,  -999.0,9,  -999.0,9,   0.078,2,-999.0000,9, -999.00,9, -999.00,9,  -999.0,9,  -999.0,-999.000,9,-999.000,-999.0000,9,  1454.6,   0.007,   1.2280,     -999.0,9,     -999.0,9,     -999.0,9,     -999.0,9,     -999.0,9,     -999.0,9,     -999.0,9, -999.00,9,-999.0000,9,-999.0000,9,-999.0000,9,-999.0000,9,-999.0000,9,-999.0000,9,-999.0000, -999.00
33RR20050106,       P16S,      86,          2,          8,          8,2,20050204,       0447,   -58.4993,  -150.0012,       2866,  1554.8,   1.2333,  34.7292,2,  34.7286,2,    199.2,2,   199.9,2,  105.85,2,   31.21,2,    0.00,2,    2.16,2,   0.132,2,   0.074,2,   0.024,2,  -999.0,9,  -999.0,9,-999.000,9,   1.8780,2,    9.70,2, -999.00,9,  -999.0,9,  -999.0,   8.118,2,   0.018,-999.0000,9,  1554.8,-999.000,   1.1417,     -999.0,9,     -999.0,9,     -999.0,9,     -999.0,9,     -999.0,9,     -999.0,9,     -999.0,9, -999.00,9,-999.0000,9,-999.0000,9,-999.0000,9,-999.0000,9,-999.0000,9,-999.0000,9,   0.0040,    0.16
33RR20050106,       P16S,      86,          2,          7,          7,2,20050204,       0447,   -58.4993,  -150.0012,       2866,  1759.0,   1.0618,  34.7225,2,  34.7223,2,    201.3,2,   202.5,2,  111.62,2,   31.42,2,    0.00,2,    2.17,2,   0.137,2,   0.075,2,   0.029,2,  -999.0,9,  -999.0,9,-999.000,9,-999.0000,9, -999.00,9, -999.00,9,  -999.0,9,  -999.0,-999.000,9,-999.000,-999.0000,9,  1759.0,-999.000,   0.9576,     -999.0,9,     -999.0,9,     -999.0,9,     -999.0,9,     -999.0,9,     -999.0,9,     -999.0,9, -999.00,9,-999.0000,9,-999.0000,9,-999.0000,9,-999.0000,9,-999.0000,9,-999.0000,9,-999.0000, -999.00
33RR20050106,       P16S,      86,          2,          6,          6,2,20050204,       0447,   -58.4993,  -150.0012,       2866,  1961.4,   0.9414,  34.7174,2,  34.7180,2,    203.3,2,   204.2,2,  115.46,2,   31.64,2,    0.00,2,    2.19,2,   0.132,2,   0.083,2,   0.023,2,  -999.0,9,  -999.0,9,   0.051,2,   1.8930,2,    9.53,2, -999.00,9,  -999.0,9,  -999.0,   8.185,2,   0.031,-999.0000,9,  1961.4,   0.006,   0.8238,     -999.0,9,     -999.0,9,     -999.0,9,     -999.0,9,     -999.0,9,     -999.0,9,     -999.0,9, -999.00,9,-999.0000,9,-999.0000,9,-999.0000,9,-999.0000,9,-999.0000,9,-999.0000,9,   0.0020,    0.12
33RR20050106,       P16S,      86,          2,          5,          5,2,20050204,       0447,   -58.4993,  -150.0012,       2866,  2174.6,   0.8323,  34.7123,2,  34.7130,2,    204.7,2,   205.7,2,  121.03,2,   31.80,2,    0.00,2,    2.20,2,   0.107,2,   0.069,2,   0.024,2,  -999.0,9,  -999.0,9,-999.000,9,   1.8730,2,    9.10,2, -999.00,9,  -999.0,9,  -999.0,   8.137,2,   0.031,-999.0000,9,  2174.6,-999.000,   0.7000,     -999.0,9,     -999.0,9,     -999.0,9,     -999.0,9,     -999.0,9,     -999.0,9,     -999.0,9, -999.00,9,-999.0000,9,-999.0000,9,-999.0000,9,-999.0000,9,-999.0000,9,-999.0000,9,   0.0020,    0.12
33RR20050106,       P16S,      86,          2,          4,          4,2,20050204,       0447,   -58.4993,  -150.0012,       2866,  2413.8,   0.7694,  34.7091,2,  34.7089,2,    205.3,2,   206.1,2,  124.68,2,   31.96,2,    0.00,2,    2.21,2,   0.104,2,   0.058,2,   0.026,2,  -999.0,9,  -999.0,9,   0.001,2,   1.9480,2,    9.65,2, -999.00,9,  -999.0,9,  -999.0,   8.392,2,   0.032,-999.0000,9,  2413.8,   0.005,   0.6191,     -999.0,9,     -999.0,9,     -999.0,9,     -999.0,9,     -999.0,9,     -999.0,9,     -999.0,9, -999.00,9,-999.0000,9,-999.0000,9,-999.0000,9,-999.0000,9,-999.0000,9,-999.0000,9,   0.0020,    0.12
33RR20050106,       P16S,      86,          2,          3,          3,2,20050204,       0447,   -58.4993,  -150.0012,       2866,  2617.2,   0.7287,  34.7072,2,  34.7079,2,    205.9,2,   206.8,2,  129.18,2,   32.01,2,    0.00,2,    2.21,2,   0.132,2,   0.082,2,   0.026,2,  -999.0,9,  -999.0,9,   0.048,2,   1.9440,2,   10.29,2, -999.00,9,  -999.0,9,  -999.0,   8.342,2,   0.020,-999.0000,9,  2617.2,   0.005,   0.5622,     -999.0,9,     -999.0,9,     -999.0,9,     -999.0,9,     -999.0,9,     -999.0,9,     -999.0,9, -999.00,9,-999.0000,9,-999.0000,9,-999.0000,9,-999.0000,9,-999.0000,9,-999.0000,9,   0.0050,    0.21
33RR20050106,       P16S,      86,          2,          2,          2,2,20050204,       0447,   -58.4993,  -150.0012,       2866,  2769.3,   0.7407,  34.7073,2,  34.7081,2,    206.3,2,   206.5,2,  129.39,2,   32.07,2,    0.00,2,    2.22,2,   0.185,2,   0.120,2,   0.022,2,  -999.0,9,  -999.0,9,-999.000,9,   1.8970,2,   10.46,2, -999.00,9,  -999.0,9,  -999.0,   8.158,2,   0.020,-999.0000,9,  2769.3,-999.000,   0.5610,     -999.0,9,     -999.0,9,     -999.0,9,     -999.0,9,     -999.0,9,     -999.0,9,     -999.0,9, -999.00,9,-999.0000,9,-999.0000,9,-999.0000,9,-999.0000,9,-999.0000,9,-999.0000,9,   0.0040,    0.21