BOTTLE,20201109CCHSIOCBG
EXPOCODE,SECT_ID,STNNBR,CASTNO,SAMPNO,BTLNBR,BTLNBR_FLAG_W,DATE,TIME,LATITUDE,LONGITUDE,DEPTH,CTDPRS,CTDTMP,CTDSAL,CTDSAL_FLAG_W,SALNTY,SALNTY_FLAG_W,CTDOXY,CTDOXY_FLAG_W,OXYGEN,OXYGEN_FLAG_W,SILCAT,SILCAT_FLAG_W,NITRAT,NITRAT_FLAG_W,NITRIT,NITRIT_FLAG_W,PHSPHT,PHSPHT_FLAG_W,CFC-11,CFC-11_FLAG_W,CFC-12,CFC-12_FLAG_W,CFC113,CFC113_FLAG_W,TCARBN,TCARBN_FLAG_W,ALKALI,ALKALI_FLAG_W,TRITUM,TRITUM_FLAG_W,HELIUM,HELIUM_FLAG_W,DELHE3,DELHE3_FLAG_W,DELC13,DELC13_FLAG_W,DELC14,DELC14_FLAG_W,C14ERR,NEON,NEON_FLAG_W,NEONER,DOC,DOC_FLAG_W,CTDRAW,TRITER,THETA,FUCO,FUCO_FLAG_W,RHAM,RHAM_FLAG_W,ARABA,ARABA_FLAG_W,GALA,GALA_FLAG_W,GLUC,GLUC_FLAG_W,MAN,MAN_FLAG_W,DCNS,DCNS_FLAG_W,BRDU,BRDU_FLAG_W,CDOM325,CDOM325_FLAG_W,CDOM340,CDOM340_FLAG_W,CDOM380,CDOM380_FLAG_W,CDOM412,CDOM412_FLAG_W,CDOMSL,CDOMSL_FLAG_W,CDOMSN,CDOMSN_FLAG_W,HELIER,DELHER
,,,,,,,,,,,METERS,DBAR,ITS-90,PSS-78,,PSS-78,,UMOL/KG,,UMOL/KG,,UMOL/KG,,UMOL/KG,,UMOL/KG,,UMOL/KG,,PMOL/KG,,PMOL/KG,,PMOL/KG,,UMOL/KG,,UMOL/KG,,TU,,NMOL/KG,,PERCNT,,/MILLE,,/MILLE,,/MILLE,NMOL/KG,,NMOL/KG,UMOL/KG,,DBAR,TU,DEG C,NMOL/KG,,NMOL/KG,,NMOL/KG,,NMOL/KG,,NMOL/KG,,NMOL/KG,,NMOL/KG,,PMOL/L/H,,1/M,,1/M,,1/M,,1/M,,1/NM,,1/NM,,NMOL/KG,PERCNT
33RR20050106,       P16S,      63,          1,         36,         36,2,20050128,       0723,   -46.9998,  -149.9998,       5081,     1.4,  13.4455,  34.3987,2,  34.3982,2,    260.6,2,   261.4,2,    0.00,2,    5.31,2,    0.07,2,    0.52,2,   3.017,6,   1.779,6,   0.247,6,  2059.2,6,  2280.4,6,-999.000,9,-999.0000,9, -999.00,9, -999.00,9,  -999.0,9,  -999.0,-999.000,9,-999.000,  57.2387,2,     1.4,-999.000,  13.4453,     -999.0,9,     -999.0,9,     -999.0,9,     -999.0,9,     -999.0,9,     -999.0,9,     -999.0,9, -999.00,9,-999.0000,9,-999.0000,9,-999.0000,9,-999.0000,9,-999.0000,9,-999.0000,9,-999.0000, -999.00
33RR20050106,       P16S,      63,          1,         35,         35,2,20050128,       0723,   -46.9998,  -149.9998,       5081,    41.1,  13.4469,  34.3980,2,  34.3992,2,    261.9,2,   261.5,2,    0.00,2,    5.26,2,    0.07,2,    0.52,2,   3.020,2,   1.817,2,   0.241,2,  2060.0,2,  2280.4,2,-999.000,9,-999.0000,9, -999.00,9, -999.00,9,  -999.0,9,  -999.0,-999.000,9,-999.000,  54.2162,2,    41.1,-999.000,  13.4412,     -999.0,9,     -999.0,9,     -999.0,9,     -999.0,9,     -999.0,9,     -999.0,9,     -999.0,9, -999.00,9,-999.0000,9,-999.0000,9,-999.0000,9,-999.0000,9,-999.0000,9,-999.0000,9,-999.0000, -999.00
33RR20050106,       P16S,      63,          1,         34,         34,2,20050128,       0723,   -46.9998,  -149.9998,       5081,    85.8,   9.5486,  34.4599,2,  34.4585,2,    281.0,2,   282.5,2,    1.53,2,    8.75,2,    0.18,2,    0.75,2,   3.693,2,   2.186,2,   0.310,2,  2088.2,2,  2282.5,2,-999.000,9,-999.0000,9, -999.00,9, -999.00,9,  -999.0,9,  -999.0,-999.000,9,-999.000,  50.9779,2,    85.8,-999.000,   9.5391,     -999.0,9,     -999.0,9,     -999.0,9,     -999.0,9,     -999.0,9,     -999.0,9,     -999.0,9, -999.00,9,-999.0000,9,-999.0000,9,-999.0000,9,-999.0000,9,-999.0000,9,-999.0000,9,-999.0000, -999.00
33RR20050106,       P16S,      63,          1,         33,         33,2,20050128,       0723,   -46.9998,  -149.9998,       5081,   135.8,   8.8197,  34.4726,2,  34.4718,2,    272.5,2,   272.5,2,    1.92,2,   11.56,2,    0.31,2,    0.90,2,   3.761,2,   2.211,2,   0.309,2,  2102.8,2,  2281.1,2,-999.000,9,-999.0000,9, -999.00,9, -999.00,9,  -999.0,9,  -999.0,-999.000,9,-999.000,  47.1301,2,   135.8,-999.000,   8.8053,     -999.0,9,     -999.0,9,     -999.0,9,     -999.0,9,     -999.0,9,     -999.0,9,     -999.0,9, -999.00,9,-999.0000,9,-999.0000,9,-999.0000,9,-999.0000,9,-999.0000,9,-999.0000,9,-999.0000, -999.00
33RR20050106,       P16S,      63,          1,         32,         32,2,20050128,       0723,   -46.9998,  -149.9998,       5081,   185.8,   8.6155,  34.5124,2,  34.5121,2,    260.5,2,   266.2,2,    2.52,2,   13.40,2,    0.01,2,    0.99,2,   3.755,2,   2.195,2,   0.300,2,  2111.5,2,  2283.0,2,-999.000,9,-999.0000,9, -999.00,9, -999.00,9,  -999.0,9,  -999.0,-999.000,9,-999.000,  46.2638,2,   185.8,-999.000,   8.5960,     -999.0,9,     -999.0,9,     -999.0,9,     -999.0,9,     -999.0,9,     -999.0,9,     -999.0,9, -999.00,9,-999.0000,9,-999.0000,9,-999.0000,9,-999.0000,9,-999.0000,9,-999.0000,9,-999.0000, -999.00
33RR20050106,       P16S,      63,          1,         31,         31,2,20050128,       0723,   -46.9998,  -149.9998,       5081,   241.8,   8.4224,  34.5233,2,  34.5235,2,    256.5,2,   254.7,2,    3.71,2,   15.76,2,    0.01,2,    1.13,2,   3.746,2,   2.100,2,   0.278,2,  2122.7,2,  2283.0,2,-999.000,9,-999.0000,9, -999.00,9, -999.00,9,  -999.0,9,  -999.0,-999.000,9,-999.000,  45.1980,2,   241.8,-999.000,   8.3973,     -999.0,9,     -999.0,9,     -999.0,9,     -999.0,9,     -999.0,9,     -999.0,9,     -999.0,9, -999.00,9,-999.0000,9,-999.0000,9,-999.0000,9,-999.0000,9,-999.0000,9,-999.0000,9,-999.0000, -999.00
33RR20050106,       P16S,      63,          1,         30,         30,2,20050128,       0723,   -46.9998,  -149.9998,       5081,   292.3,   8.0896,  34.4910,2,  34.4909,2,    254.6,2,   256.3,2,    4.31,2,   16.91,2,    0.01,2,    1.20,2,   3.749,2,   2.141,2,   0.294,2,  2127.6,2,  2281.7,2,-999.000,9,-999.0000,9, -999.00,9, -999.00,9,  -999.0,9,  -999.0,-999.000,9,-999.000,  43.5638,2,   292.3,-999.000,   8.0599,     -999.0,9,     -999.0,9,     -999.0,9,     -999.0,9,     -999.0,9,     -999.0,9,     -999.0,9, -999.00,9,-999.0000,9,-999.0000,9,-999.0000,9,-999.0000,9,-999.0000,9,-999.0000,9,-999.0000, -999.00
33RR20050106,       P16S,      63,          1,         29,         29,2,20050128,       0723,   -46.9998,  -149.9998,       5081,   342.3,   7.8636,  34.4642,2,  34.4632,2,    256.2,2,   258.8,2,    4.49,2,   17.41,2,    0.01,2,    1.23,2,   3.815,2,   2.122,2,   0.286,2,  2126.7,2,  2281.4,2,-999.000,9,-999.0000,9, -999.00,9, -999.00,9,  -999.0,9,  -999.0,-999.000,9,-999.000,-999.0000,9,   342.3,-999.000,   7.8292,     -999.0,9,     -999.0,9,     -999.0,9,     -999.0,9,     -999.0,9,     -999.0,9,     -999.0,9, -999.00,9,-999.0000,9,-999.0000,9,-999.0000,9,-999.0000,9,-999.0000,9,-999.0000,9,-999.0000, -999.00
33RR20050106,       P16S,      63,          1,         28,         28,2,20050128,       0723,   -46.9998,  -149.9998,       5081,   392.9,   7.6790,  34.4444,2,  34.4432,2,    254.6,2,   257.6,2,    4.89,2,   18.18,2,    0.01,2,    1.28,2,   3.768,2,   2.140,2,   0.301,2,  2130.1,2,  2280.6,2,-999.000,9,-999.0000,9, -999.00,9, -999.00,9,  -999.0,9,  -999.0,-999.000,9,-999.000,  44.4386,2,   392.9,-999.000,   7.6400,     -999.0,9,     -999.0,9,     -999.0,9,     -999.0,9,     -999.0,9,     -999.0,9,     -999.0,9, -999.00,9,-999.0000,9,-999.0000,9,-999.0000,9,-999.0000,9,-999.0000,9,-999.0000,9,-999.0000, -999.00
33RR20050106,       P16S,      63,          1,         27,         27,2,20050128,       0723,   -46.9998,  -149.9998,       5081,   442.5,   7.5106,  34.4263,2,  34.4249,2,    253.1,2,   253.8,2,    5.48,2,   19.18,2,    0.01,2,    1.35,2,   3.864,2,   2.052,2,   0.295,2,  2133.1,2,  2280.3,2,-999.000,9,-999.0000,9, -999.00,9, -999.00,9,  -999.0,9,  -999.0,-999.000,9,-999.000,-999.0000,9,   442.5,-999.000,   7.4671,     -999.0,9,     -999.0,9,     -999.0,9,     -999.0,9,     -999.0,9,     -999.0,9,     -999.0,9, -999.00,9,-999.0000,9,-999.0000,9,-999.0000,9,-999.0000,9,-999.0000,9,-999.0000,9,-999.0000, -999.00
33RR20050106,       P16S,      63,          1,         26,         26,2,20050128,       0723,   -46.9998,  -149.9998,       5081,   493.5,   7.3703,  34.4116,2,  34.4118,2,    250.1,2,   252.4,2,    5.88,2,   19.73,2,    0.00,2,    1.38,2,   3.728,2,   2.098,2,   0.300,2,  2133.9,2,  2280.3,2,-999.000,9,-999.0000,9, -999.00,9, -999.00,9,  -999.0,9,  -999.0,-999.000,9,-999.000,  46.8563,2,   493.5,-999.000,   7.3222,     -999.0,9,     -999.0,9,     -999.0,9,     -999.0,9,     -999.0,9,     -999.0,9,     -999.0,9, -999.00,9,-999.0000,9,-999.0000,9,-999.0000,9,-999.0000,9,-999.0000,9,-999.0000,9,-999.0000, -999.00
33RR20050106,       P16S,      63,          1,         25,         25,2,20050128,       0723,   -46.9998,  -149.9998,       5081,   578.8,   7.1227,  34.3912,2,  34.3916,2,    251.1,2,   249.6,2,    6.88,2,   20.79,2,    0.00,2,    1.45,2,   3.552,2,   1.931,2,   0.274,2,  2138.3,2,  2279.8,2,-999.000,9,-999.0000,9, -999.00,9, -999.00,9,  -999.0,9,  -999.0,-999.000,9,-999.000,  42.3887,2,   578.8,-999.000,   7.0670,     -999.0,9,     -999.0,9,     -999.0,9,     -999.0,9,     -999.0,9,     -999.0,9,     -999.0,9, -999.00,9,-999.0000,9,-999.0000,9,-999.0000,9,-999.0000,9,-999.0000,9,-999.0000,9,-999.0000, -999.00
33RR20050106,       P16S,      63,          1,         24,         24,2,20050128,       0723,   -46.9998,  -149.9998,       5081,   679.4,   6.7520,  34.3583,2,  34.3588,2,    249.5,2,   251.3,2,    7.88,2,   21.67,2,    0.00,2,    1.51,2,   3.506,2,   1.892,2,   0.255,2,  2140.5,2,  2279.8,2,-999.000,9,-999.0000,9, -999.00,9, -999.00,9,  -999.0,9,  -999.0,-999.000,9,-999.000,  43.1184,2,   679.4,-999.000,   6.6881,     -999.0,9,     -999.0,9,     -999.0,9,     -999.0,9,     -999.0,9,     -999.0,9,     -999.0,9, -999.00,9,-999.0000,9,-999.0000,9,-999.0000,9,-999.0000,9,-999.0000,9,-999.0000,9,-999.0000, -999.00
33RR20050106,       P16S,      63,          1,         23,         23,2,20050128,       0723,   -46.9998,  -149.9998,       5081,   780.5,   6.3477,  34.3331,2,  34.3337,2,    240.3,2,   243.2,2,   10.48,2,   23.39,2,    0.00,2,    1.62,2,   3.072,2,   1.674,2,   0.184,2,  2147.7,2,  2280.5,2,-999.000,9,-999.0000,9, -999.00,9, -999.00,9,  -999.0,9,  -999.0,-999.000,9,-999.000,  42.0608,2,   780.5,-999.000,   6.2761,     -999.0,9,     -999.0,9,     -999.0,9,     -999.0,9,     -999.0,9,     -999.0,9,     -999.0,9, -999.00,9,-999.0000,9,-999.0000,9,-999.0000,9,-999.0000,9,-999.0000,9,-999.0000,9,-999.0000, -999.00
33RR20050106,       P16S,      63,          1,         22,         22,2,20050128,       0723,   -46.9998,  -149.9998,       5081,   881.8,   5.8771,  34.3188,2,  34.3188,2,    230.5,2,   229.5,2,   14.51,2,   25.45,2,    0.00,2,    1.75,2,   2.533,2,   1.342,2,   0.158,2,  2159.2,2,  2283.1,2,-999.000,9,-999.0000,9, -999.00,9, -999.00,9,  -999.0,9,  -999.0,-999.000,9,-999.000,  41.3092,2,   881.8,-999.000,   5.7988,     -999.0,9,     -999.0,9,     -999.0,9,     -999.0,9,     -999.0,9,     -999.0,9,     -999.0,9, -999.00,9,-999.0000,9,-999.0000,9,-999.0000,9,-999.0000,9,-999.0000,9,-999.0000,9,-999.0000, -999.00
33RR20050106,       P16S,      63,          1,         21,         21,2,20050128,       0723,   -46.9998,  -149.9998,       5081,   982.5,   5.4187,  34.3284,2,  34.3284,2,    217.0,2,   215.7,2,   20.55,2,   27.52,2,    0.00,2,    1.90,2,   2.047,2,   1.023,2,   0.125,2,  2173.9,6,  2287.4,2,-999.000,9,-999.0000,9, -999.00,9, -999.00,9,  -999.0,9,  -999.0,-999.000,9,-999.000,  39.9319,2,   982.5,-999.000,   5.3341,     -999.0,9,     -999.0,9,     -999.0,9,     -999.0,9,     -999.0,9,     -999.0,9,     -999.0,9, -999.00,9,-999.0000,9,-999.0000,9,-999.0000,9,-999.0000,9,-999.0000,9,-999.0000,9,-999.0000, -999.00
33RR20050106,       P16S,      63,          1,         20,         20,2,20050128,       0723,   -46.9998,  -149.9998,       5081,  1082.1,   4.8259,  34.3303,2,  34.3301,2,    209.3,2,   209.1,2,   26.81,2,   29.19,2,    0.00,2,    2.01,2,   1.705,2,   0.877,2,   0.112,2,  2186.9,2,  2292.7,2,-999.000,9,-999.0000,9, -999.00,9, -999.00,9,  -999.0,9,  -999.0,-999.000,9,-999.000,  40.2270,2,  1082.1,-999.000,   4.7368,     -999.0,9,     -999.0,9,     -999.0,9,     -999.0,9,     -999.0,9,     -999.0,9,     -999.0,9, -999.00,9,-999.0000,9,-999.0000,9,-999.0000,9,-999.0000,9,-999.0000,9,-999.0000,9,-999.0000, -999.00
33RR20050106,       P16S,      63,          1,         19,         19,2,20050128,       0723,   -46.9998,  -149.9998,       5081,  1183.7,   4.2264,  34.3396,2,  34.3396,2,    204.0,2,   204.7,2,   34.51,2,   30.77,2,    0.00,2,    2.12,2,   1.459,2,   0.741,2,   0.104,2,  2200.3,2,  2298.9,2,-999.000,9,-999.0000,9, -999.00,9, -999.00,9,  -999.0,9,  -999.0,-999.000,9,-999.000,-999.0000,9,  1183.7,-999.000,   4.1335,     -999.0,9,     -999.0,9,     -999.0,9,     -999.0,9,     -999.0,9,     -999.0,9,     -999.0,9, -999.00,9,-999.0000,9,-999.0000,9,-999.0000,9,-999.0000,9,-999.0000,9,-999.0000,9,-999.0000, -999.00
33RR20050106,       P16S,      63,          1,         18,         18,2,20050128,       0723,   -46.9998,  -149.9998,       5081,  1285.2,   3.7689,  34.3596,2,  34.3596,2,    197.8,2,   197.1,2,   41.43,2,   31.88,2,    0.00,2,    2.21,2,   1.124,2,   0.557,2,   0.063,2,  2209.5,2,  2305.6,6,-999.000,9,-999.0000,9, -999.00,9, -999.00,9,  -999.0,9,  -999.0,-999.000,9,-999.000,  38.2212,2,  1285.2,-999.000,   3.6715,     -999.0,9,     -999.0,9,     -999.0,9,     -999.0,9,     -999.0,9,     -999.0,9,     -999.0,9, -999.00,9,-999.0000,9,-999.0000,9,-999.0000,9,-999.0000,9,-999.0000,9,-999.0000,9,-999.0000, -999.00
33RR20050106,       P16S,      63,          1,         17,         17,2,20050128,       0723,   -46.9998,  -149.9998,       5081,  1386.3,   3.4357,  34.3923,2,  34.3949,2,    190.7,2,   190.0,2,   48.95,2,   32.73,2,    0.00,2,    2.27,2,   0.858,2,   0.420,2,   0.056,2,  2221.8,2,  2312.8,2,-999.000,9,-999.0000,9, -999.00,9, -999.00,9,  -999.0,9,  -999.0,-999.000,9,-999.000,-999.0000,9,  1386.3,-999.000,   3.3330,     -999.0,9,     -999.0,9,     -999.0,9,     -999.0,9,     -999.0,9,     -999.0,9,     -999.0,9, -999.00,9,-999.0000,9,-999.0000,9,-999.0000,9,-999.0000,9,-999.0000,9,-999.0000,9,-999.0000, -999.00
33RR20050106,       P16S,      63,          1,         16,         16,2,20050128,       0723,   -46.9998,  -149.9998,       5081,  1487.1,   3.1497,  34.4325,2,  34.4334,2,    184.0,2,   182.5,2,   56.71,2,   33.41,2,    0.00,2,    2.33,2,   0.621,2,   0.313,2,   0.044,2,  2234.2,2,  2319.5,2,-999.000,9,-999.0000,9, -999.00,9, -999.00,9,  -999.0,9,  -999.0,-999.000,9,-999.000,  38.2649,2,  1487.1,-999.000,   3.0416,     -999.0,9,     -999.0,9,     -999.0,9,     -999.0,9,     -999.0,9,     -999.0,9,     -999.0,9, -999.00,9,-999.0000,9,-999.0000,9,-999.0000,9,-999.0000,9,-999.0000,9,-999.0000,9,-999.0000, -999.00
33RR20050106,       P16S,      63,          1,         15,         15,2,20050128,       0723,   -46.9998,  -149.9998,       5081,  1588.1,   2.9544,  34.4763,2,  34.4750,2,    177.0,2,   176.1,2,   63.67,2,   33.75,2,    0.00,2,    2.36,2,   0.407,2,   0.196,2,   0.030,2,  2243.3,2,  2327.4,2,-999.000,9,-999.0000,9, -999.00,9, -999.00,9,  -999.0,9,  -999.0,-999.000,9,-999.000,-999.0000,9,  1588.1,-999.000,   2.8400,     -999.0,9,     -999.0,9,     -999.0,9,     -999.0,9,     -999.0,9,     -999.0,9,     -999.0,9, -999.00,9,-999.0000,9,-999.0000,9,-999.0000,9,-999.0000,9,-999.0000,9,-999.0000,9,-999.0000, -999.00
33RR20050106,       P16S,      63,          1,         14,         14,2,20050128,       0723,   -46.9998,  -149.9998,       5081,  1791.0,   2.6900,  34.5510,2,  34.5504,2,    167.6,2,   167.2,2,   76.60,2,   33.86,2,    0.00,2,    2.38,2,   0.184,2,   0.086,2,   0.018,2,  2258.9,2,  2342.0,2,-999.000,9,-999.0000,9, -999.00,9, -999.00,9,  -999.0,9,  -999.0,-999.000,9,-999.000,  39.6095,2,  1791.0,-999.000,   2.5615,     -999.0,9,     -999.0,9,     -999.0,9,     -999.0,9,     -999.0,9,     -999.0,9,     -999.0,9, -999.00,9,-999.0000,9,-999.0000,9,-999.0000,9,-999.0000,9,-999.0000,9,-999.0000,9,-999.0000, -999.00
33RR20050106,       P16S,      63,          1,         13,         13,2,20050128,       0723,   -46.9998,  -149.9998,       5081,  1994.7,   2.4997,  34.6056,2,  34.6056,2,    161.0,2,   162.4,2,   90.18,2,   34.27,2,    0.00,2,    2.40,2,   0.171,2,   0.094,2,   0.015,2,  2271.8,2,  2358.8,2,-999.000,9,-999.0000,9, -999.00,9, -999.00,9,  -999.0,9,  -999.0,-999.000,9,-999.000,-999.0000,9,  1994.7,-999.000,   2.3562,     -999.0,9,     -999.0,9,     -999.0,9,     -999.0,9,     -999.0,9,     -999.0,9,     -999.0,9, -999.00,9,-999.0000,9,-999.0000,9,-999.0000,9,-999.0000,9,-999.0000,9,-999.0000,9,-999.0000, -999.00
33RR20050106,       P16S,      63,          1,         12,         12,2,20050128,       0723,   -46.9998,  -149.9998,       5081,  2196.4,   2.3284,  34.6347,2,  34.6347,2,    157.7,2,   157.9,2,   99.47,2,   34.44,2,    0.00,2,    2.42,2,   0.108,2,   0.057,2,  -0.002,2,  2285.2,2,  2369.7,2,-999.000,9,-999.0000,9, -999.00,9, -999.00,9,  -999.0,9,  -999.0,-999.000,9,-999.000,  30.2325,4,  2196.4,-999.000,   2.1697,     -999.0,9,     -999.0,9,     -999.0,9,     -999.0,9,     -999.0,9,     -999.0,9,     -999.0,9, -999.00,9,-999.0000,9,-999.0000,9,-999.0000,9,-999.0000,9,-999.0000,9,-999.0000,9,-999.0000, -999.00
33RR20050106,       P16S,      63,          1,         11,         11,2,20050128,       0723,   -46.9998,  -149.9998,       5081,  2450.6,   2.1504,  34.6571,2,  34.6568,2,    157.1,2,   157.8,2,  107.95,2,   34.44,2,    0.00,2,    2.43,2,   0.025,2,   0.077,3,  -0.002,2,  2292.3,2,  2379.4,2,-999.000,9,-999.0000,9, -999.00,9, -999.00,9,  -999.0,9,  -999.0,-999.000,9,-999.000,-999.0000,9,  2450.6,-999.000,   1.9718,     -999.0,9,     -999.0,9,     -999.0,9,     -999.0,9,     -999.0,9,     -999.0,9,     -999.0,9, -999.00,9,-999.0000,9,-999.0000,9,-999.0000,9,-999.0000,9,-999.0000,9,-999.0000,9,-999.0000, -999.00
33RR20050106,       P16S,      63,          1,         10,         10,2,20050128,       0723,   -46.9998,  -149.9998,       5081,  2704.4,   2.0488,  34.6821,2,  34.6816,2,    163.8,2,   165.4,2,  105.67,2,   33.71,2,    0.00,2,    2.36,2,   0.093,3,   0.045,3,  -0.002,2,  2281.9,2,  2374.9,2,-999.000,9,-999.0000,9, -999.00,9, -999.00,9,  -999.0,9,  -999.0,-999.000,9,-999.000,  36.9753,2,  2704.4,-999.000,   1.8484,     -999.0,9,     -999.0,9,     -999.0,9,     -999.0,9,     -999.0,9,     -999.0,9,     -999.0,9, -999.00,9,-999.0000,9,-999.0000,9,-999.0000,9,-999.0000,9,-999.0000,9,-999.0000,9,-999.0000, -999.00
33RR20050106,       P16S,      63,          1,          9,          9,2,20050128,       0723,   -46.9998,  -149.9998,       5081,  2959.5,   1.9317,  34.7024,2,  34.7054,2,    172.7,2,   173.7,2,  104.43,2,   32.87,2,    0.00,2,    2.30,2,   0.031,3,   0.024,3,  -0.002,2,  2277.9,2,  2370.6,2,-999.000,9,-999.0000,9, -999.00,9, -999.00,9,  -999.0,9,  -999.0,-999.000,9,-999.000,-999.0000,9,  2959.5,-999.000,   1.7092,     -999.0,9,     -999.0,9,     -999.0,9,     -999.0,9,     -999.0,9,     -999.0,9,     -999.0,9, -999.00,9,-999.0000,9,-999.0000,9,-999.0000,9,-999.0000,9,-999.0000,9,-999.0000,9,-999.0000, -999.00
33RR20050106,       P16S,      63,          1,          8,          8,2,20050128,       0723,   -46.9998,  -149.9998,       5081,  3296.7,   1.7585,  34.7226,2,  34.7223,2,    184.3,2,   186.3,2,  101.96,2,   31.81,2,    0.00,2,    2.22,2,   0.028,3,   0.019,3,  -0.002,2,  2264.6,2,  2363.5,2,-999.000,9,-999.0000,9, -999.00,9, -999.00,9,  -999.0,9,  -999.0,-999.000,9,-999.000,  38.6040,2,  3296.7,-999.000,   1.5064,     -999.0,9,     -999.0,9,     -999.0,9,     -999.0,9,     -999.0,9,     -999.0,9,     -999.0,9, -999.00,9,-999.0000,9,-999.0000,9,-999.0000,9,-999.0000,9,-999.0000,9,-999.0000,9,-999.0000, -999.00
33RR20050106,       P16S,      63,          1,          7,          7,2,20050128,       0723,   -46.9998,  -149.9998,       5081,  3601.7,   1.5463,  34.7256,2,  34.7250,2,    192.9,2,   193.9,2,  105.29,2,   31.59,2,    0.00,2,    2.20,2,   0.040,3,   0.028,3,  -0.002,2,  2261.5,2,  2362.1,2,-999.000,9,-999.0000,9, -999.00,9, -999.00,9,  -999.0,9,  -999.0,-999.000,9,-999.000,-999.0000,9,  3601.7,-999.000,   1.2682,     -999.0,9,     -999.0,9,     -999.0,9,     -999.0,9,     -999.0,9,     -999.0,9,     -999.0,9, -999.00,9,-999.0000,9,-999.0000,9,-999.0000,9,-999.0000,9,-999.0000,9,-999.0000,9,-999.0000, -999.00