BOTTLE,20201022CCHSIOLMM
EXPOCODE,SECT_ID,STNNBR,CASTNO,SAMPNO,BTLNBR,BTLNBR_FLAG_W,DATE,TIME,LATITUDE,LONGITUDE,DEPTH,CTDPRS,CTDTMP,CTDSAL,CTDSAL_FLAG_W,SALNTY,SALNTY_FLAG_W,CTDOXY,CTDOXY_FLAG_W,OXYGEN,OXYGEN_FLAG_W,SILCAT,SILCAT_FLAG_W,NITRAT,NITRAT_FLAG_W,NITRIT,NITRIT_FLAG_W,PHSPHT,PHSPHT_FLAG_W,FE,FE_FLAG_W,ALUM,ALUM_FLAG_W
,,,,,,,,,,,,DBAR,ITS-90,PSS-78,,PSS-78,,UMOL/KG,,UMOL/KG,,UMOL/KG,,UMOL/KG,,UMOL/KG,,UMOL/KG,,NMOL/L,,NMOL/L,
318M200406,P02,66,2,12,12,2,20040709,2318,30.0093,168.0803,5827,14.4,25.0952,35.0541,2,35.0618,2,-999,9,-999,9,1.73,2,0.11,2,0,2,0.02,2,0.18,2,4.52,2
318M200406,P02,66,2,11,11,2,20040709,2317,30.0092,168.0807,5827,40,20.9865,35.0236,2,35.015,2,-999,9,-999,9,1.69,2,0.11,2,0,2,0.03,2,0.15,2,4.32,2
318M200406,P02,66,2,10,10,2,20040709,2315,30.009,168.0811,5826,65.1,19.0754,34.874,2,34.8859,2,-999,9,-999,9,1.83,2,0.15,2,0.02,2,0.06,2,0.14,2,3.59,2
318M200406,P02,66,2,9,9,2,20040709,2314,30.009,168.0815,5825,85,18.3394,34.8872,2,34.8922,2,-999,9,-999,9,2.15,2,1.38,2,0.15,2,0.15,2,0.17,2,4.74,2
318M200406,P02,66,2,8,8,2,20040709,2312,30.0089,168.0818,5824,106.3,17.7926,34.8172,2,34.8226,2,-999,9,-999,9,3.01,2,2.9,2,0.04,2,0.22,2,0.33,3,5.88,2
318M200406,P02,66,2,7,7,2,20040709,2312,30.0088,168.082,5824,134.3,17.3349,34.7893,2,34.7945,2,-999,9,-999,9,3.16,2,3.63,2,0.02,2,0.26,2,0.26,2,6.18,2
318M200406,P02,66,2,6,6,2,20040709,2310,30.0087,168.0823,5824,185.5,16.8526,34.7576,2,34.7637,2,-999,9,-999,9,4.02,2,4.4,2,0.01,2,0.3,2,0.32,2,7.28,2
318M200406,P02,66,2,13,13,2,20040709,2309,30.0086,168.0826,5824,235.8,16.469,34.7279,2,34.7332,2,-999,9,-999,9,4.88,2,5.11,2,0.01,2,0.35,2,0.33,2,7.3,2
318M200406,P02,66,2,4,4,2,20040709,2307,30.0085,168.0828,5823,277.4,16.0954,34.6949,2,34.699,2,-999,9,-999,9,5.2,2,5.11,2,0.01,2,0.36,2,0.33,2,6.41,2
318M200406,P02,66,2,3,3,2,20040709,2303,30.008,168.0837,5823,473.3,11.6551,34.3465,2,34.3454,2,-999,9,-999,9,19.62,2,14.81,2,0,2,1.04,2,0.43,2,5.39,2
318M200406,P02,66,2,2,2,2,20040709,2257,30.0075,168.0846,5821,675.2,6.3125,34.0116,2,34.017,2,-999,9,-999,9,55.9,2,28.91,2,0,2,2.1,2,0.55,2,3.05,2
318M200406,P02,66,2,1,1,2,20040709,2249,30.0068,168.086,5822,976.8,3.8832,34.248,2,34.2567,2,-999,9,-999,9,114.35,2,41.14,2,0,2,2.96,2,0.72,2,2.12,2
318M200406,P02,68,1,12,12,2,20040710,1022,30.004,169.4029,5659,13.5,23.5979,34.815,2,-999,1,-999,9,-999,9,-999,1,-999,1,-999,1,-999,1,0.23,2,4.44,2
318M200406,P02,68,1,11,11,2,20040710,1020,30.0038,169.4028,5659,34.8,20.8936,34.756,2,-999,1,-999,9,-999,9,-999,1,-999,1,-999,1,-999,1,0.17,2,3.04,2
318M200406,P02,68,1,10,10,2,20040710,1020,30.0038,169.4028,5658,49.6,19.9233,34.7944,2,-999,1,-999,9,-999,9,-999,1,-999,1,-999,1,-999,1,0.19,2,4.16,2
318M200406,P02,68,1,9,9,2,20040710,1018,30.0036,169.4027,5658,69.8,19.0048,34.7997,2,-999,1,-999,9,-999,9,-999,1,-999,1,-999,1,-999,1,0.27,3,6.05,3
318M200406,P02,68,1,8,8,2,20040710,1017,30.0035,169.4025,5658,91.4,18.3515,34.8489,2,-999,1,-999,9,-999,9,-999,1,-999,1,-999,1,-999,1,0.22,2,5.27,2
318M200406,P02,68,1,7,7,2,20040710,1015,30.0033,169.4024,5658,120.2,17.6991,34.8131,2,-999,1,-999,9,-999,9,-999,1,-999,1,-999,1,-999,1,0.34,2,6.65,2
318M200406,P02,68,1,6,6,2,20040710,1013,30.0031,169.4022,5657,169.9,16.9406,34.7751,2,-999,1,-999,9,-999,9,-999,1,-999,1,-999,1,-999,1,0.35,2,7.24,2
318M200406,P02,68,1,13,13,2,20040710,1011,30.0029,169.402,5656,221.7,16.3752,34.7217,2,-999,1,-999,9,-999,9,-999,1,-999,1,-999,1,-999,1,0.33,2,6.95,2
318M200406,P02,68,1,4,4,2,20040710,1009,30.0028,169.4018,5655,271.4,15.7082,34.6631,2,-999,1,-999,9,-999,9,-999,1,-999,1,-999,1,-999,1,0.38,2,6.97,2
318M200406,P02,68,1,3,3,2,20040710,1004,30.0026,169.4014,5703,443.5,11.5448,34.3339,2,-999,1,-999,9,-999,9,-999,1,-999,1,-999,1,-999,1,0.43,2,5.05,2
318M200406,P02,68,1,2,2,2,20040710,957,30.0021,169.401,5674,644.6,6.3434,33.9879,2,-999,1,-999,9,-999,9,-999,1,-999,1,-999,1,-999,1,0.69,2,3.03,2
318M200406,P02,68,1,1,1,2,20040710,947,30.0008,169.4011,5651,946.1,3.8981,34.2469,2,-999,1,-999,9,-999,9,-999,1,-999,1,-999,5,-999,1,0.81,2,2.52,2
318M200406,P02,70,1,12,12,2,20040711,216,30.0078,170.6971,5505,15.4,24.7627,35.2533,2,35.2024,2,-999,9,-999,9,0.91,2,0.14,2,0,2,0.02,2,0.17,2,4.44,2
318M200406,P02,70,1,11,11,2,20040711,215,30.0075,170.6973,5504,39.1,21.7162,35.1064,2,35.1116,2,-999,9,-999,9,1.08,2,0.14,2,0,2,0.02,2,0.17,2,4.17,2
318M200406,P02,70,1,10,10,2,20040711,214,30.0073,170.6974,5505,59.6,19.9789,35.024,2,35.0144,2,-999,9,-999,9,1.42,2,0.19,2,0,2,0.04,2,0.15,2,3.83,2
318M200406,P02,70,1,9,9,2,20040711,213,30.0071,170.6975,5505,78.4,18.9249,34.9359,2,34.9363,2,-999,9,-999,9,1.58,2,0.19,2,0,2,0.06,2,0.16,2,4.09,2
318M200406,P02,70,1,8,8,2,20040711,212,30.007,170.6976,5505,100.2,18.0957,34.8514,2,34.8468,2,-999,9,-999,9,1.93,2,0.79,2,0.14,2,0.12,2,0.18,2,3.89,2
318M200406,P02,70,1,7,7,2,20040711,211,30.0068,170.6977,5505,125.3,17.3218,34.7859,2,34.7891,2,-999,9,-999,9,2.62,2,3.03,2,0.03,2,0.22,2,0.16,2,4.78,2
318M200406,P02,70,1,6,6,2,20040711,210,30.0067,170.6978,5505,150.7,16.9031,34.7471,2,34.7488,2,-999,9,-999,9,3.31,2,4.11,2,0.02,2,0.29,2,0.22,2,6,2
318M200406,P02,70,1,13,13,2,20040711,208,30.0064,170.6979,5502,202.1,16.4977,34.7242,2,34.7298,2,-999,9,-999,9,3.65,2,4.43,2,0.01,2,0.31,2,0.27,2,6.93,2
318M200406,P02,70,1,4,4,2,20040711,206,30.0061,170.6981,5503,251.7,16.1234,34.7154,2,34.718,2,-999,9,-999,9,4.69,2,5.49,2,0.01,2,0.38,2,0.45,2,7.54,2
318M200406,P02,70,1,3,3,2,20040711,159,30.0052,170.6992,5506,501.8,10.7757,34.268,2,34.2691,2,-999,9,-999,9,18.31,2,13.06,2,0.01,2,0.95,2,0.54,2,4.48,2
318M200406,P02,70,1,2,2,2,20040711,153,30.0045,170.7008,5525,704,6.0367,34.0157,2,34.0194,2,-999,9,-999,9,59.48,2,30.17,2,0,2,2.2,2,0.62,2,2.75,2
318M200406,P02,70,1,1,1,2,20040711,145,30.0033,170.7014,5536,1008,3.7906,34.2698,2,34.2744,2,-999,9,-999,9,116.2,2,41.56,2,0,2,2.98,2,0.78,2,2.15,2
318M200406,P02,72,2,12,12,2,20040711,2142,29.9998,172.0086,5128,15.1,24.6478,35.3013,2,35.2335,2,-999,9,-999,9,1.31,2,0.05,2,0,2,0.02,2,0.19,2,4.67,2
318M200406,P02,72,2,11,11,2,20040711,2141,29.9998,172.0086,5133,40.1,20.7255,35.0672,2,35.0665,2,-999,9,-999,9,1.65,2,0.05,2,0,2,0.04,2,0.13,2,3.95,2
318M200406,P02,72,2,10,10,2,20040711,2140,29.9997,172.0086,5134,64.3,18.7248,34.879,2,34.8644,2,-999,9,-999,9,2.17,2,0.14,2,0.02,2,0.07,2,0.15,2,3.67,2
318M200406,P02,72,2,9,9,2,20040711,2139,29.9997,172.0085,5128,83.9,18.0485,34.833,2,34.8387,2,-999,9,-999,9,2.17,2,0.12,2,0.03,2,0.08,2,0.18,2,3.85,2
318M200406,P02,72,2,8,8,2,20040711,2138,29.9997,172.0086,5133,105,17.4346,34.7892,2,34.7874,2,-999,9,-999,9,2.86,2,2.58,2,0.15,2,0.22,2,0.22,2,4.75,2
318M200406,P02,72,2,7,7,2,20040711,2137,29.9997,172.0085,5133,135.5,17.0471,34.7553,2,34.7646,2,-999,9,-999,9,3.21,2,3.59,2,0.04,2,0.26,2,0.22,2,5.68,2
318M200406,P02,72,2,6,6,2,20040711,2136,29.9996,172.0085,5133,184.6,16.5346,34.7276,2,34.7382,2,-999,9,-999,9,3.9,2,4.18,2,0.02,2,0.3,2,0.25,2,6.59,2
318M200406,P02,72,2,13,13,2,20040711,2135,29.9996,172.0085,5133,236.3,16.0696,34.6857,2,34.6921,2,-999,9,-999,9,4.59,2,4.82,2,0.01,2,0.35,2,0.25,2,6.45,2
318M200406,P02,72,2,4,4,2,20040711,2134,29.9995,172.0085,5133,283.4,15.464,34.6347,2,34.6425,2,-999,9,-999,9,5.97,2,6.02,2,0.01,2,0.43,2,0.28,2,6.17,2
318M200406,P02,72,2,3,3,2,20040711,2129,29.9995,172.0086,5133,472.3,11.7379,34.3513,2,34.3547,2,-999,9,-999,9,17.96,2,13.91,2,0.01,2,0.98,2,0.4,2,5.02,2
318M200406,P02,72,2,2,2,2,20040711,2125,29.9994,172.0086,5133,673.3,6.5716,34.0305,2,34.0276,2,-999,9,-999,9,51.1,2,27.7,2,0,2,2,2,0.52,2,2.85,2
318M200406,P02,72,2,1,1,2,20040711,2118,29.9995,172.0088,5136,975.9,4.0128,34.2208,2,34.2264,2,-999,9,-999,9,107.78,2,40.49,2,0,2,2.88,2,0.66,3,3.86,3
318M200406,P02,74,1,12,12,2,20040712,827,29.9979,173.3216,4520,14.4,25.153,35.0595,2,35.0937,2,-999,9,-999,9,1.65,2,0.12,2,0,2,0.02,2,0.29,2,4.18,2
318M200406,P02,74,1,11,11,2,20040712,826,29.998,173.3216,4508,34.4,21.9343,35.1313,2,35.0864,2,-999,9,-999,9,1.65,2,0.12,2,0,2,0.02,2,0.19,2,3.79,2
318M200406,P02,74,1,10,10,2,20040712,825,29.998,173.3216,4520,49.6,19.9614,34.9596,2,34.9687,2,-999,9,-999,9,1.83,2,0.12,2,0,2,0.03,2,0.18,2,3.54,2
318M200406,P02,74,1,9,9,2,20040712,824,29.9981,173.3216,4509,69.8,18.6033,34.9003,2,34.902,2,-999,9,-999,9,1.99,2,0.12,2,0,2,0.06,2,0.17,2,3.7,2
318M200406,P02,74,1,8,8,2,20040712,823,29.9982,173.3216,4519,88.9,17.9854,34.8551,2,34.8538,2,-999,9,-999,9,2.35,2,0.2,2,0.03,2,0.09,2,0.19,2,3.94,2
318M200406,P02,74,1,7,7,2,20040712,822,29.9982,173.3216,4518,118.6,17.2486,34.7745,2,34.7803,2,-999,9,-999,9,3.21,2,3.01,2,0.07,2,0.22,2,0.25,2,5.01,2
318M200406,P02,74,1,6,6,2,20040712,820,29.9983,173.3215,4511,170.8,16.8304,34.7463,2,34.7522,2,-999,9,-999,9,4.08,2,4.04,2,0.02,2,0.29,2,0.28,2,5.95,2
318M200406,P02,74,1,13,13,2,20040712,819,29.9983,173.3215,4513,219.7,16.4813,34.7205,2,34.7263,2,-999,9,-999,9,3.74,2,3.57,2,0.02,2,0.26,2,0.31,2,6.46,2
318M200406,P02,74,1,4,4,2,20040712,817,29.9984,173.3215,4494,270.6,15.9482,34.6784,2,-999,5,-999,9,-999,9,5.29,2,5.21,2,0.02,2,0.37,2,0.33,2,6.19,2
318M200406,P02,74,1,3,3,2,20040712,813,29.9987,173.3216,4509,441.5,12.6113,34.4007,2,34.4047,2,-999,9,-999,9,13.82,2,11.64,2,0.01,2,0.82,2,0.41,2,4.39,2
318M200406,P02,74,1,2,2,2,20040712,807,29.9991,173.3215,4518,644,7.365,34.0243,2,34.0261,2,-999,9,-999,9,43.08,2,24.21,2,0.01,2,1.76,2,0.61,2,2.84,2
318M200406,P02,74,1,1,1,2,20040712,800,29.9993,173.3214,4507,945.6,4.3228,34.1716,2,34.1827,2,-999,9,-999,9,99.47,2,39.74,2,0.01,2,2.85,2,0.78,2,1.67,2
318M200406,P02,76,2,12,12,2,20040713,256,30.0064,174.6337,5372,14.2,25.8256,35.2463,2,35.2115,2,-999,9,-999,9,1.03,2,0.1,2,0,2,0.02,2,0.23,2,4.23,2
318M200406,P02,76,2,11,11,2,20040713,255,30.0063,174.6338,5376,39.3,21.9148,35.1197,2,35.0764,2,-999,9,-999,9,1.36,2,0.1,2,0,2,0.03,2,0.18,2,3.5,2
318M200406,P02,76,2,10,10,2,20040713,254,30.0063,174.6338,5366,58.8,19.3811,34.9292,2,34.9475,2,-999,9,-999,9,1.51,2,0.05,2,0,2,0.04,2,0.17,2,3.19,2
318M200406,P02,76,2,9,9,2,20040713,253,30.0063,174.6339,0,79.3,18.5917,34.9155,2,34.9186,2,-999,9,-999,9,1.86,2,0.05,2,0,2,0.06,2,0.17,4,3.5,4
318M200406,P02,76,2,8,8,2,20040713,252,30.0062,174.634,5343,104,17.8137,34.8432,2,34.8429,2,-999,9,-999,9,2.19,2,0.9,2,0.18,2,0.13,2,0.16,2,3.67,2
318M200406,P02,76,2,7,7,2,20040713,251,30.0062,174.634,5344,124.6,17.3927,34.7986,2,34.8004,2,-999,9,-999,9,2.7,2,2.75,2,0.08,2,0.22,2,0.18,2,4.57,2
318M200406,P02,76,2,6,6,2,20040713,251,30.0062,174.6341,5344,151.2,16.9999,34.758,2,34.7621,2,-999,9,-999,9,3.21,2,3.67,2,0.03,2,0.26,2,0.23,2,5.51,2
318M200406,P02,76,2,13,13,2,20040713,249,30.0062,174.6341,5344,200.8,16.5286,34.7324,2,34.7351,2,-999,9,-999,9,3.88,2,4.24,2,0.01,2,0.3,2,0.25,2,6.65,2
318M200406,P02,76,2,4,4,2,20040713,248,30.0062,174.6342,5393,250.4,15.8624,34.6701,2,34.6709,2,-999,9,-999,9,5.08,2,5.53,2,0.01,2,0.39,2,0.31,2,6.07,2
318M200406,P02,76,2,3,3,2,20040713,242,30.0061,174.6344,5367,502.5,10.8211,34.2709,2,34.27,2,-999,9,-999,9,19.85,2,15.23,2,0,2,1.08,2,0.41,2,3.99,2
318M200406,P02,76,2,2,2,2,20040713,237,30.006,174.6344,5376,703.7,6.2258,33.998,2,34.0015,2,-999,9,-999,9,55.14,2,28.23,2,0,2,2.07,2,0.59,2,2.68,2
318M200406,P02,76,2,1,1,2,20040713,229,30.0059,174.6345,5388,1007.6,3.8371,34.2547,2,34.2606,2,-999,9,-999,9,114.03,2,41.57,2,0,2,2.98,2,0.68,2,1.78,2
318M200406,P02,78,2,12,12,2,20040713,1737,29.9849,175.8652,5241,14.8,24.1391,35.1499,2,35.1036,2,-999,9,-999,9,1.25,2,0.05,2,0,2,0.02,2,0.26,2,4.31,2
318M200406,P02,78,2,11,11,2,20040713,1736,29.985,175.8652,5242,39.6,19.7538,34.9119,2,34.9101,2,-999,9,-999,9,1.42,2,0.05,2,0,2,0.04,2,0.19,2,3.26,2
318M200406,P02,78,2,10,10,2,20040713,1734,29.9852,175.8651,5241,65.1,18.4477,34.8861,2,34.8769,2,-999,9,-999,9,1.93,2,0.34,2,0.01,2,0.08,2,0.19,2,3.56,2
318M200406,P02,78,2,9,9,2,20040713,1733,29.9853,175.8651,5241,84.4,17.7058,34.8309,2,34.8434,2,-999,9,-999,9,2.09,2,1,2,0.08,2,0.13,2,0.19,4,3.89,4
318M200406,P02,78,2,8,8,2,20040713,1732,29.9854,175.8651,5241,105.5,17.0413,34.7538,2,34.7555,2,-999,9,-999,9,2.95,2,3.56,2,0.06,2,0.25,2,0.24,2,5.47,2
318M200406,P02,78,2,7,7,2,20040713,1731,29.9855,175.865,5241,136,16.6571,34.7305,2,34.7359,2,-999,9,-999,9,3.29,2,4.06,2,0.02,2,0.28,2,0.3,3,6.29,2
318M200406,P02,78,2,6,6,2,20040713,1730,29.9857,175.865,5241,185.4,16.4345,34.7225,2,34.7292,2,-999,9,-999,9,3.63,2,4.12,2,0.01,2,0.29,2,0.29,2,7.38,2
318M200406,P02,78,2,13,13,2,20040713,1728,29.9859,175.8649,5241,235,15.9004,34.6864,2,34.6915,2,-999,9,-999,9,5.01,2,5.35,2,0.01,2,0.37,2,0.33,2,6.67,2
318M200406,P02,78,2,4,4,2,20040713,1726,29.986,175.8648,5240,286.3,15.1011,34.5906,2,34.6013,2,-999,9,-999,9,6.56,2,7,2,0.01,2,0.49,2,0.34,2,5.71,2
318M200406,P02,78,2,3,3,2,20040713,1722,29.9866,175.8646,5240,472.5,10.9902,34.2748,2,34.2776,2,-999,9,-999,9,18.35,2,14.74,2,0,2,1.04,2,0.39,2,3.79,2
318M200406,P02,78,2,2,2,2,20040713,1717,29.9873,175.8644,5240,674,6.1185,34.0173,2,34.0224,2,-999,9,-999,9,58.33,2,30.02,2,0,2,2.16,2,0.56,2,2.37,2
318M200406,P02,78,2,1,1,2,20040713,1709,29.9882,175.864,5240,977.5,3.7701,34.2634,2,34.2712,2,-999,9,-999,9,115.53,2,41.63,2,0,2,2.98,2,0.63,2,1.87,2
318M200406,P02,80,1,12,12,2,20040714,408,29.9971,177.1006,0,14.3,24.1034,34.7016,2,34.7911,2,-999,9,-999,9,2.29,2,0.05,2,0,2,0.04,2,0.37,2,3.95,2
318M200406,P02,80,1,11,11,2,20040714,407,29.9971,177.1005,0,34.4,19.4044,34.7761,2,34.7756,2,-999,9,-999,9,2.45,2,0.05,2,0,2,0.05,2,0.21,2,3.15,2
318M200406,P02,80,1,10,10,2,20040714,406,29.9971,177.1004,0,48.8,18.0585,34.7225,2,34.714,2,-999,9,-999,9,2.8,2,0.1,2,0,2,0.06,2,0.23,2,3.08,2
318M200406,P02,80,1,9,9,2,20040714,406,29.9971,177.1003,5163,68.3,16.6531,34.6735,2,34.6767,2,-999,9,-999,9,3.13,2,0.23,2,0.02,2,0.11,2,0.26,2,2.99,2
318M200406,P02,80,1,8,8,2,20040714,405,29.9971,177.1002,5191,88.7,15.9195,34.6542,2,34.6564,2,-999,9,-999,9,4.34,2,4.42,2,0.22,2,0.33,2,0.27,2,4.09,2
318M200406,P02,80,1,7,7,2,20040714,404,29.9971,177.1001,5163,119,15.4467,34.6292,2,34.6342,2,-999,9,-999,9,5.2,2,5.66,2,0.02,2,0.4,2,0.28,2,4.86,2
318M200406,P02,80,1,6,6,2,20040714,403,29.9972,177.1,5170,169.7,14.8363,34.5814,2,34.5859,2,-999,9,-999,9,6.93,2,6.76,2,0.01,2,0.48,2,0.34,2,5.13,2
318M200406,P02,80,1,13,13,2,20040714,401,29.9973,177.0998,5170,220.5,13.9155,34.5032,2,34.5072,2,-999,9,-999,9,9.71,2,8.89,2,0.01,2,0.64,2,0.38,2,5.18,2
318M200406,P02,80,1,4,4,2,20040714,400,29.9974,177.0997,0,271.1,12.9665,34.4378,2,34.4381,2,-999,9,-999,9,12.48,2,10.6,2,0.01,2,0.75,2,0.38,2,4.53,2
318M200406,P02,80,1,3,3,2,20040714,355,29.9982,177.0989,0,442,8.9619,34.1163,2,34.1209,2,-999,9,-999,9,28.9,2,19.17,2,0.01,2,1.38,2,0.45,2,3.03,2
318M200406,P02,80,1,2,2,2,20040714,351,29.9982,177.0979,5175,644.1,5.3907,34.0267,2,34.0331,2,-999,9,-999,9,70.92,2,33.16,2,0,2,2.42,2,0.63,3,1.95,2
318M200406,P02,80,1,1,1,2,20040714,344,29.9981,177.0966,5138,946.4,3.6649,34.2846,2,34.2903,2,-999,9,-999,9,119.5,2,42.54,2,0,2,3.07,2,0.61,2,1.46,2
318M200406,P02,82,2,12,12,2,20040714,2301,30.0006,178.3238,5228,13.8,21.5056,34.8164,2,34.8023,2,-999,9,-999,9,2.24,2,0.19,2,0,2,0.04,2,0.24,2,2.99,2
318M200406,P02,82,2,11,11,2,20040714,2300,30.0007,178.3237,5226,38.9,18.2342,34.7226,2,34.7195,2,-999,9,-999,9,2.63,2,0.19,2,0,2,0.05,2,0.21,2,2.74,2
318M200406,P02,82,2,10,10,2,20040714,2259,30.0008,178.3237,5208,59.5,17.3492,34.7465,2,34.7475,2,-999,9,-999,9,2.82,2,0.19,2,0,2,0.08,2,0.22,2,2.94,2
318M200406,P02,82,2,9,9,2,20040714,2258,30.0008,178.3237,5226,77.2,16.6276,34.7256,2,34.7308,2,-999,9,-999,9,3.8,2,3.19,2,0.17,2,0.26,2,0.23,2,4.45,2
318M200406,P02,82,2,8,8,2,20040714,2258,30.0008,178.3237,5231,99,16.2624,34.6868,2,34.6899,2,-999,9,-999,9,4.98,2,5.07,2,0.02,2,0.36,2,0.28,4,6.12,4
318M200406,P02,82,2,7,7,2,20040714,2257,30.0009,178.3237,5231,124,15.8796,34.6606,2,34.6651,2,-999,9,-999,9,4.98,2,4.65,2,0.02,2,0.34,2,0.27,2,4.9,2
318M200406,P02,82,2,6,6,2,20040714,2256,30.0009,178.3237,5231,149.9,15.6609,34.6413,2,34.6445,2,-999,9,-999,9,5.38,2,4.81,2,0.01,2,0.35,2,0.3,2,5.31,2
318M200406,P02,82,2,13,13,2,20040714,2255,30.001,178.3237,5227,200.6,14.9578,34.5907,2,34.5946,2,-999,9,-999,9,7.16,2,6.59,2,0.01,2,0.48,2,0.32,2,5.9,2
318M200406,P02,82,2,4,4,2,20040714,2253,30.001,178.3236,5226,249.1,14.075,34.5223,2,34.5286,2,-999,9,-999,9,9.92,2,8.77,2,0.01,2,0.63,2,0.32,2,5.65,2
318M200406,P02,82,2,3,3,2,20040714,2248,30.0012,178.3235,5228,501.7,8.7305,34.0963,2,34.1031,2,-999,9,-999,9,29.52,2,19.82,2,0.01,2,1.43,2,0.51,2,3.05,2
318M200406,P02,82,2,2,2,2,20040714,2243,30.0011,178.3234,5232,704.9,5.1534,34.063,2,34.0682,2,-999,9,-999,9,77.75,2,34.92,2,0.01,2,2.54,2,0.74,2,1.98,2
318M200406,P02,82,2,1,1,2,20040714,2235,30.001,178.3229,5233,1008.2,3.4727,34.3186,2,34.3243,2,-999,9,-999,9,124.89,2,42.37,2,0.01,2,3.04,2,0.79,4,2.28,4
318M200406,P02,84,1,12,12,2,20040715,850,30.0029,179.5447,5133,14.3,25.9431,35.2385,2,35.3053,2,-999,9,-999,9,1.19,2,0.16,2,0,2,0.02,2,0.27,2,4.87,2
318M200406,P02,84,1,11,11,2,20040715,849,30.0031,179.545,5134,39.2,23.0252,35.2652,2,35.2546,2,-999,9,-999,9,1.39,2,0.16,2,0,2,0.02,2,0.2,2,4.14,2
318M200406,P02,84,1,10,10,2,20040715,847,30.0033,179.5452,5140,64.4,21.0736,35.128,2,35.1148,2,-999,9,-999,9,1.57,2,0.16,2,0,2,0.03,2,0.17,2,3.36,2
318M200406,P02,84,1,9,9,2,20040715,846,30.0034,179.5454,5136,85.7,19.8512,35.0452,2,35.0437,2,-999,9,-999,9,1.77,2,0.15,2,0,2,0.06,2,0.15,2,3.08,2
318M200406,P02,84,1,8,8,2,20040715,844,30.0036,179.5456,5137,105.2,18.9708,34.9676,2,34.9689,2,-999,9,-999,9,1.96,2,0.14,2,0.01,2,0.09,2,0.18,2,2.93,2
318M200406,P02,84,1,7,7,2,20040715,843,30.0037,179.5458,5138,135.6,17.8809,34.8484,2,34.8474,2,-999,9,-999,9,2.95,2,2.42,2,0.11,2,0.22,2,0.2,2,3.8,2
318M200406,P02,84,1,6,6,2,20040715,842,30.0038,179.5461,5142,186.4,16.5885,34.713,2,34.7163,2,-999,9,-999,9,4.52,2,4.99,2,0.02,2,0.37,2,0.24,2,4.72,2
318M200406,P02,84,1,13,13,2,20040715,840,30.0039,179.5463,5143,236.7,15.7067,34.636,2,34.6435,2,-999,9,-999,9,5.9,2,5.93,2,0.01,2,0.43,2,0.34,3,5.57,2
318M200406,P02,84,1,4,4,2,20040715,838,30.004,179.5466,5150,286.9,14.8326,34.5705,2,34.5738,2,-999,9,-999,9,7.49,2,7.13,2,0.01,2,0.52,2,0.26,2,5.01,2
318M200406,P02,84,1,3,3,2,20040715,832,30.0038,179.5475,5157,473.6,10.8086,34.2399,2,34.2396,2,-999,9,-999,9,18.84,2,15.43,2,0.01,2,1.09,2,0.33,2,2.97,2
318M200406,P02,84,1,2,2,2,20040715,827,30.0035,179.5482,5147,674.6,6.5183,34.0232,2,34.0267,2,-999,9,-999,9,54.18,2,28.52,2,0.01,2,2.07,2,0.46,2,2.22,2
318M200406,P02,84,1,1,1,2,20040715,820,30.0033,179.5495,5152,975.8,3.805,34.2483,2,34.2494,2,-999,9,-999,9,115.33,2,41.16,2,0.01,2,2.98,2,0.58,2,1.45,2