BOTTLE,20201022CCHSIOLMM
EXPOCODE,SECT_ID,STNNBR,CASTNO,SAMPNO,BTLNBR,BTLNBR_FLAG_W,DATE,TIME,LATITUDE,LONGITUDE,DEPTH,CTDPRS,CTDTMP,CTDSAL,CTDSAL_FLAG_W,SALNTY,SALNTY_FLAG_W,CTDOXY,CTDOXY_FLAG_W,OXYGEN,OXYGEN_FLAG_W,SILCAT,SILCAT_FLAG_W,NITRAT,NITRAT_FLAG_W,NITRIT,NITRIT_FLAG_W,PHSPHT,PHSPHT_FLAG_W,FE,FE_FLAG_W,ALUM,ALUM_FLAG_W
,,,,,,,,,,,,DBAR,ITS-90,PSS-78,,PSS-78,,UMOL/KG,,UMOL/KG,,UMOL/KG,,UMOL/KG,,UMOL/KG,,UMOL/KG,,NMOL/L,,NMOL/L,
318M200406,P02,141,2,12,12,2,20040814,1811,30.0029,-143.6397,5163,15.8,24.5908,35.3154,2,35.2915,2,-999,9,-999,9,1.27,2,0.16,2,0,2,0.02,2,0.24,2,4.52,2
318M200406,P02,141,2,11,11,2,20040814,1809,30.0029,-143.6398,5163,38.9,22.3672,35.0369,2,35.0025,2,-999,9,-999,9,1.63,2,0.16,2,0,2,0.02,2,0.21,2,3.58,2
318M200406,P02,141,2,10,10,2,20040814,1808,30.0028,-143.6399,5163,63.4,19.2549,34.6918,2,34.6831,2,-999,9,-999,9,2,2,0.15,2,0,2,0.06,2,0.18,2,2.65,2
318M200406,P02,141,2,9,9,2,20040814,1807,30.0028,-143.64,5164,85.3,18.0849,34.5633,2,34.569,2,-999,9,-999,9,2.16,2,0.15,2,0,2,0.08,2,0.24,3,3.23,3
318M200406,P02,141,2,8,8,2,20040814,1806,30.0028,-143.6401,5164,104.2,17.2121,34.4996,2,34.5035,2,-999,9,-999,9,2.72,2,0.2,2,0,2,0.1,2,0.21,2,2.16,2
318M200406,P02,141,2,15,15,2,20040814,1805,30.0028,-143.6401,5164,135.2,15.6083,34.2988,2,34.3102,2,-999,9,-999,9,3.47,2,1.16,2,0.16,2,0.21,2,0.25,2,2.06,2
318M200406,P02,141,2,14,14,2,20040814,1803,30.0027,-143.6402,5165,185.7,12.983,34.1379,2,34.1519,2,-999,9,-999,9,6.37,2,6.72,2,0.01,2,0.55,2,0.28,2,2.32,2
318M200406,P02,141,2,5,5,2,20040814,1801,30.0026,-143.6404,5166,236.5,11.5638,34.0627,2,34.0799,2,-999,9,-999,9,8.88,2,9.5,2,0.01,2,0.71,2,0.29,2,2.08,2
318M200406,P02,141,2,4,4,2,20040814,1759,30.0026,-143.6405,5165,286.2,10.3703,34.055,2,34.0734,2,-999,9,-999,9,14.71,2,13.95,2,0,2,0.99,2,0.34,2,2.07,2
318M200406,P02,141,2,3,3,2,20040814,1754,30.0025,-143.641,5167,473.5,7.031,33.9991,2,34.0086,2,-999,9,-999,9,45.29,2,28.78,2,0,2,1.99,2,0.48,2,1.74,2
318M200406,P02,141,2,2,2,2,20040814,1745,30.0024,-143.6418,5171,675,4.6914,34.1185,2,34.1309,2,-999,9,-999,9,90.82,2,41.73,2,0,2,2.98,2,0.73,2,1.55,2
318M200406,P02,141,2,1,1,2,20040814,1730,30.0021,-143.643,5174,976.2,3.754,34.3929,2,34.4012,2,-999,9,-999,9,121.6,2,44.13,2,0,2,3.18,2,0.74,2,1.69,2
318M200406,P02,143,1,12,12,2,20040815,515,29.9999,-142.1393,4885,17.4,24.9226,35.3972,2,35.3333,2,-999,9,-999,9,1.55,2,0.12,2,0,2,0.02,2,0.22,2,4.36,2
318M200406,P02,143,1,11,11,2,20040815,515,29.9999,-142.1392,4885,33.9,24.1135,35.2811,2,35.2037,2,-999,9,-999,9,1.88,2,0.07,2,0,2,0.02,2,0.21,2,4.08,2
318M200406,P02,143,1,10,10,2,20040815,514,29.9999,-142.1391,4885,49.6,20.762,34.8032,2,34.7503,2,-999,9,-999,9,2.21,2,0.12,2,0,2,0.03,2,0.15,2,2.79,2
318M200406,P02,143,1,9,9,2,20040815,513,29.9998,-142.1391,4885,70.2,19.3141,34.6698,2,34.6622,2,-999,9,-999,9,2.35,2,0.12,2,0,2,0.06,2,0.15,2,2.44,2
318M200406,P02,143,1,8,8,2,20040815,512,29.9998,-142.139,4884,90.2,18.3199,34.5659,2,34.5514,2,-999,9,-999,9,2.48,2,0.12,2,0,2,0.08,2,0.16,2,2.4,2
318M200406,P02,143,1,15,15,2,20040815,510,29.9998,-142.139,4884,120.1,16.8496,34.3598,2,34.3673,2,-999,9,-999,9,3,2,0.46,2,0.06,2,0.17,2,0.17,2,2.09,2
318M200406,P02,143,1,14,14,2,20040815,509,29.9998,-142.1391,4885,170.5,13.6471,34.065,2,34.0669,2,-999,9,-999,9,5.86,2,5.24,2,0.01,2,0.48,2,0.2,2,2.02,2
318M200406,P02,143,1,5,5,2,20040815,505,29.9997,-142.1393,4886,221.4,11.4024,34.006,2,34.0075,2,-999,9,-999,9,9.31,2,9.08,2,0.01,2,0.7,2,0.24,2,1.82,2
318M200406,P02,143,1,4,4,2,20040815,504,29.9997,-142.1394,4885,271.6,10.5752,34.0904,2,34.1031,2,-999,9,-999,9,15.29,2,13.6,2,0,2,0.97,2,0.31,2,2.09,2
318M200406,P02,143,1,3,3,2,20040815,459,29.9995,-142.1394,4886,442.8,7.4018,34.0227,2,34.0292,2,-999,9,-999,9,42.24,2,26.79,2,0,2,1.87,2,0.43,2,1.86,2
318M200406,P02,143,1,2,2,2,20040815,453,29.9994,-142.1394,4885,644.6,4.753,34.0968,2,34.0972,2,-999,9,-999,9,87.24,2,40.53,2,0,2,2.9,2,0.65,2,1.44,2
318M200406,P02,143,1,1,1,2,20040815,444,29.9998,-142.1387,4883,946.1,3.7588,34.3811,2,34.3863,2,-999,9,-999,9,121.51,2,43.83,2,0,2,3.18,2,0.75,2,1.69,2
318M200406,P02,145,1,12,12,2,20040815,2004,29.9988,-140.6394,4761,14.9,24.5511,34.8915,2,34.7827,2,-999,9,-999,9,1.26,2,0.12,2,0,2,0.04,2,0.15,2,2.76,2
318M200406,P02,145,1,11,11,2,20040815,2003,29.9987,-140.6396,4761,39.7,20.5928,34.5111,2,34.5145,2,-999,9,-999,9,1.65,2,0.17,2,0,2,0.08,2,0.12,2,2.35,2
318M200406,P02,145,1,10,10,2,20040815,2002,29.9987,-140.6398,4760,59.7,19.3684,34.5045,2,34.5229,2,-999,9,-999,9,1.84,2,0.12,2,0,2,0.08,2,0.12,2,2.36,2
318M200406,P02,145,1,9,9,2,20040815,2000,29.9986,-140.64,4760,80.6,19.2573,34.6824,2,34.6266,2,-999,9,-999,9,2.03,2,0.12,2,0,2,0.08,2,0.11,2,2.41,2
318M200406,P02,145,1,8,8,2,20040815,1959,29.9986,-140.6402,4802,101,17.6761,34.4222,2,34.433,2,-999,9,-999,9,2.22,2,0.12,2,0,2,0.11,2,0.14,2,2.14,2
318M200406,P02,145,1,15,15,2,20040815,1958,29.9986,-140.6402,4802,125.3,16.5462,34.298,2,34.258,2,-999,9,-999,9,2.8,2,0.37,2,0.1,2,0.17,2,0.23,3,2.17,2
318M200406,P02,145,1,14,14,2,20040815,1958,29.9986,-140.6402,4760,151.1,14.8607,34.0362,2,34.0471,2,-999,9,-999,9,3.77,2,2.42,2,0.02,2,0.31,2,0.18,2,2.26,2
318M200406,P02,145,1,5,5,2,20040815,1956,29.9987,-140.64,4760,201.7,12.3277,33.8711,2,33.8716,2,-999,9,-999,9,7.49,2,7.65,2,0.01,2,0.65,2,0.19,2,1.88,2
318M200406,P02,145,1,4,4,2,20040815,1954,29.9987,-140.6398,4760,250.3,10.6546,33.9131,2,33.929,2,-999,9,-999,9,12.19,2,12.05,2,0,2,0.9,2,0.24,2,1.77,2
318M200406,P02,145,1,3,3,2,20040815,1947,29.9993,-140.6393,4764,503,5.9097,34.0012,2,34.0095,2,-999,9,-999,9,61.52,2,34.5,2,0,2,2.47,2,0.43,2,1.46,2
318M200406,P02,145,1,2,2,2,20040815,1942,29.9996,-140.6391,4763,704.5,4.6202,34.2094,2,34.2175,2,-999,9,-999,9,97.66,2,42.26,2,0,2,3.11,2,0.66,3,1.54,2
318M200406,P02,145,1,1,1,2,20040815,1933,29.9995,-140.6388,4764,1009.1,3.6584,34.4231,2,34.431,2,-999,9,-999,9,124.2,2,43.33,2,0,2,3.17,2,0.53,2,1.6,2
318M200406,P02,147,2,12,12,2,20040816,1426,30.0036,-139.1395,4847,16.8,24.6507,35.1697,2,35.1096,2,-999,9,-999,9,1.59,2,0.16,2,0,2,0.02,2,0.32,2,4.44,2
318M200406,P02,147,2,11,11,2,20040816,1425,30.0035,-139.1394,4847,40.5,22.0291,34.7568,2,34.7385,2,-999,9,-999,9,1.57,2,0.15,2,0,2,0.03,2,0.26,2,3.9,2
318M200406,P02,147,2,10,10,2,20040816,1424,30.0034,-139.1393,4846,63.6,18.7171,34.501,2,34.5045,2,-999,9,-999,9,2.31,2,0.15,2,0,2,0.06,2,0.23,2,3.31,2
318M200406,P02,147,2,9,9,2,20040816,1423,30.0034,-139.1392,4847,83.4,17.544,34.4307,2,34.4317,2,-999,9,-999,9,2.47,2,0.15,2,0,2,0.08,2,0.22,2,3.16,2
318M200406,P02,147,2,8,8,2,20040816,1422,30.0033,-139.1392,4847,105,16.5014,34.3367,2,34.3408,2,-999,9,-999,9,2.83,2,0.19,2,0.01,2,0.14,2,0.23,2,2.63,2
318M200406,P02,147,2,15,15,2,20040816,1421,30.0033,-139.1391,4847,136.1,14.6679,34.1163,2,34.1152,2,-999,9,-999,9,4.15,2,2.95,2,0.03,2,0.34,2,0.26,2,2.72,2
318M200406,P02,147,2,14,14,2,20040816,1419,30.0033,-139.139,4847,185.6,13.0034,34.1725,2,34.1874,2,-999,9,-999,9,7.23,2,7.17,2,0.01,2,0.57,2,0.3,2,3.24,3
318M200406,P02,147,2,5,5,2,20040816,1417,30.0034,-139.1389,4847,236.3,11.7407,34.1363,2,34.1426,2,-999,9,-999,9,10.32,2,10.38,2,0,2,0.76,2,0.32,2,2.87,2
318M200406,P02,147,2,4,4,2,20040816,1416,30.0034,-139.1388,4846,285.5,10.1374,34.0442,2,34.0554,2,-999,9,-999,9,16.14,2,14.43,2,0,2,1.04,2,0.37,2,2.64,2
318M200406,P02,147,2,3,3,2,20040816,1411,30.0034,-139.1385,4846,471.8,6.6437,33.9945,2,34.0032,2,-999,9,-999,9,50.83,2,30.73,2,0,2,2.18,2,0.56,2,2.46,2
318M200406,P02,147,2,2,2,2,20040816,1407,30.0033,-139.1383,4846,673.7,4.6093,34.1447,2,34.1521,2,-999,9,-999,9,93.4,2,41.4,2,0,2,3,2,0.75,2,2.2,2
318M200406,P02,147,2,1,1,2,20040816,1358,30.0031,-139.1377,4846,973.3,3.7366,34.4176,2,34.4279,2,-999,9,-999,9,121.6,2,43.4,2,0,2,3.17,2,0.73,2,2.17,2
318M200406,P02,149,1,12,12,2,20040817,114,29.9977,-137.6365,4216,16.1,24.4089,34.8851,2,34.7332,2,-999,9,-999,9,1.08,2,0.16,2,0,2,0.07,2,0.22,2,3.32,2
318M200406,P02,149,1,11,11,2,20040817,114,29.9978,-137.6364,4216,30.6,21.6997,34.3944,2,34.236,2,-999,9,-999,9,1.45,2,0.16,2,0,2,0.13,2,0.2,2,2.84,3
318M200406,P02,149,1,10,10,2,20040817,113,29.9978,-137.6363,4215,46.4,19.402,34.0994,2,34.3347,2,-999,9,-999,9,1.81,2,0.15,2,0,2,0.09,2,0.22,2,3.09,2
318M200406,P02,149,1,9,9,2,20040817,112,29.9978,-137.6362,4215,67.6,18.5046,34.2423,2,34.2316,2,-999,9,-999,9,1.98,2,0.15,2,0,2,0.13,2,0.21,2,2.98,2
318M200406,P02,149,1,8,8,2,20040817,111,29.9979,-137.6362,4216,86.1,17.5481,34.2249,2,34.2567,2,-999,9,-999,9,1.95,2,0.15,2,0,2,0.14,2,0.22,2,2.82,2
318M200406,P02,149,1,15,15,2,20040817,110,29.9979,-137.6361,4215,115.8,16.3917,34.1923,2,34.1626,2,-999,9,-999,9,2.51,2,0.54,2,0.11,2,0.2,2,0.23,2,2.74,2
318M200406,P02,149,1,14,14,2,20040817,108,29.9979,-137.636,4216,169,13.7131,34.0241,2,34.0187,2,-999,9,-999,9,5.02,2,4.95,2,0.01,2,0.47,2,0.28,2,2.91,3
318M200406,P02,149,1,5,5,2,20040817,106,29.998,-137.6358,4215,216.2,10.9198,33.8911,2,33.9157,2,-999,9,-999,9,11.06,2,11.44,2,0,2,0.86,2,0.31,2,2.71,2
318M200406,P02,149,1,4,4,2,20040817,104,29.998,-137.6357,4216,266.5,9.7391,33.994,2,34.0027,2,-999,9,-999,9,17.3,2,15.77,2,0,2,1.13,2,0.39,2,2.75,2
318M200406,P02,149,1,3,3,2,20040817,100,29.9982,-137.6354,4217,440.8,6.7463,34.0067,2,34.0144,2,-999,9,-999,9,49.18,2,30.93,2,0,2,2.16,2,0.63,2,2.67,2
318M200406,P02,149,1,2,2,2,20040817,55,29.9982,-137.6351,4215,641.2,4.8964,34.1231,2,34.1293,2,-999,9,-999,9,86.71,2,41.16,2,0,2,2.94,2,0.81,2,2.47,2
318M200406,P02,149,1,1,1,2,20040817,46,29.9983,-137.6356,4330,944.9,3.7965,34.3952,2,34.4031,2,-999,9,-999,9,120.18,2,44.24,2,0,2,3.19,2,0.78,2,2.46,2
318M200406,P02,151,2,12,12,2,20040817,1859,30,-136.136,4509,14.4,24.2603,35.2037,2,35.1972,2,-999,9,-999,9,1.01,2,0,2,0,2,0.04,2,0.18,2,3.77,2
318M200406,P02,151,2,11,11,2,20040817,1858,30,-136.136,4509,38.5,21.8049,34.8302,2,34.8367,2,-999,9,-999,9,1.39,2,0,2,0,2,0.08,2,0.14,2,3.4,2
318M200406,P02,151,2,10,10,2,20040817,1857,30,-136.1359,4509,59.1,20.8662,34.7819,2,34.7879,2,-999,9,-999,9,1.57,2,0,2,0,2,0.09,2,0.14,2,3.5,2
318M200406,P02,151,2,9,9,2,20040817,1855,30.0001,-136.1358,4511,79.4,20.0878,34.8276,2,34.8376,2,-999,9,-999,9,1.75,2,0.04,2,0,2,0.08,2,0.14,2,3.39,2
318M200406,P02,151,2,8,8,2,20040817,1854,30.0001,-136.1356,4511,100.1,19.4634,34.7855,2,34.7866,2,-999,9,-999,9,1.94,2,0.04,2,0,2,0.09,2,0.16,2,3.08,2
318M200406,P02,151,2,15,15,2,20040817,1853,30.0001,-136.1356,4511,124.9,17.5124,34.4363,2,34.4528,2,-999,9,-999,9,2.11,2,0.06,2,0.03,2,0.13,2,0.18,2,3.02,2
318M200406,P02,151,2,14,14,2,20040817,1852,30.0002,-136.1355,4512,150.3,16.1512,34.1932,2,34.1726,2,-999,9,-999,9,2.69,2,0.95,2,0.12,2,0.24,2,0.19,2,3.36,3
318M200406,P02,151,2,5,5,2,20040817,1851,30.0002,-136.1355,4512,200.8,13.0062,33.8604,2,33.8637,2,-999,9,-999,9,5.81,2,5.82,2,0.01,2,0.56,2,0.22,2,2.55,2
318M200406,P02,151,2,4,4,2,20040817,1849,30.0002,-136.1356,4511,252.8,10.6997,33.83,2,33.8503,2,-999,9,-999,9,11.87,2,12,2,0,2,0.92,2,0.33,2,2.73,2
318M200406,P02,151,2,3,3,2,20040817,1842,30,-136.1365,4506,503.2,5.9544,34.0148,2,34.0197,2,-999,9,-999,9,59.99,2,34.13,2,0,2,2.42,2,0.52,2,2.61,2
318M200406,P02,151,2,2,2,2,20040817,1838,29.9999,-136.1372,4502,700.3,4.6211,34.1932,2,34.1998,2,-999,9,-999,9,96.85,2,42.81,2,0,2,3.09,2,0.68,2,2.48,2
318M200406,P02,151,2,1,1,2,20040817,1829,29.9997,-136.1378,4498,1006.6,3.7315,34.4292,2,34.4379,2,-999,9,-999,9,122.14,2,44.02,2,0,2,3.18,2,0.61,2,2.57,2
318M200406,P02,153,1,12,12,2,20040818,527,29.9986,-134.7401,4475,17.4,24.214,34.5483,2,34.7711,2,-999,9,-999,9,1.42,2,0.2,2,0,2,0.09,2,0.17,2,3.19,2
318M200406,P02,153,1,11,11,2,20040818,526,29.9986,-134.7402,4506,39.1,23.0724,35.095,2,33.1376,2,-999,9,-999,9,1.4,2,0.2,2,0,2,0.06,2,0.16,2,4.13,3
318M200406,P02,153,1,10,10,2,20040818,525,29.9986,-134.7403,4485,63.8,20.7268,34.6821,2,34.6895,2,-999,9,-999,9,1.78,2,0.19,2,0,2,0.1,2,0.13,2,3.3,2
318M200406,P02,153,1,9,9,2,20040818,524,29.9985,-134.7404,4484,84.4,20.1074,34.6966,2,34.7223,2,-999,9,-999,9,1.57,2,0.19,2,0,2,0.11,2,0.13,2,3.45,2
318M200406,P02,153,1,8,8,2,20040818,523,29.9985,-134.7405,4520,105,20.004,34.9031,2,34.9538,2,-999,9,-999,9,1.76,2,0.19,2,0,2,0.07,2,0.15,2,3.53,2
318M200406,P02,153,1,15,15,2,20040818,522,29.9985,-134.7406,4520,134.4,19.3172,34.8461,2,34.8563,2,-999,9,-999,9,1.94,2,0.22,2,0.01,2,0.09,2,0.23,2,3.55,2
318M200406,P02,153,1,14,14,2,20040818,520,29.9985,-134.7408,4484,185.9,14.948,34.0761,2,34.0718,2,-999,9,-999,9,4.09,2,3.59,2,0.02,2,0.4,2,0.28,2,3.62,2
318M200406,P02,153,1,5,5,2,20040818,518,29.9985,-134.7411,4482,235.3,11.3954,33.795,2,33.8078,2,-999,9,-999,9,9.79,2,10.27,2,0,2,0.82,2,0.29,2,2.55,2
318M200406,P02,153,1,4,4,2,20040818,517,29.9984,-134.7412,4483,284.4,9.7189,33.8338,2,33.8464,2,-999,9,-999,9,16.67,2,15.68,2,0,2,1.16,2,0.38,2,2.38,2
318M200406,P02,153,1,3,3,2,20040818,511,29.9982,-134.7414,4515,473.1,6.6131,33.9985,2,34.017,2,-999,9,-999,9,53.77,2,32.54,2,0,2,2.32,2,0.62,2,2.26,2
318M200406,P02,153,1,2,2,2,20040818,507,29.9981,-134.7409,4486,673.1,4.6944,34.1648,2,34.1706,2,-999,9,-999,9,93.9,2,41.68,2,0,2,3.04,2,0.78,2,2.33,2
318M200406,P02,153,1,1,1,2,20040818,458,29.9983,-134.7399,4488,977.1,3.8316,34.4162,2,34.4253,2,-999,9,-999,9,120.35,2,43.44,2,0,2,3.19,2,0.73,2,2.54,2
318M200406,P02,155,2,12,12,2,20040818,2212,29.992,-133.578,4715,17.4,23.1593,33.9342,2,33.8754,2,-999,9,-999,9,1.82,2,0.26,2,0,2,0.2,2,0.11,2,2.58,2
318M200406,P02,155,2,11,11,2,20040818,2211,29.9921,-133.578,4714,35.2,22.5834,34.4737,2,34.399,2,-999,9,-999,9,1.79,2,0.25,2,0,2,0.14,2,0.11,2,2.57,2
318M200406,P02,155,2,10,10,2,20040818,2211,29.9921,-133.5781,4714,48.5,18.4521,33.6182,2,33.7108,2,-999,9,-999,9,1.76,2,0.25,2,0,2,0.22,2,0.11,2,2.35,2
318M200406,P02,155,2,9,9,2,20040818,2210,29.9922,-133.5781,4714,69.6,17.4092,33.6246,2,33.6365,2,-999,9,-999,9,1.94,2,0.25,2,0,2,0.22,2,0.1,2,2.37,2
318M200406,P02,155,2,8,8,2,20040818,2209,29.9923,-133.5782,4714,89.8,16.4005,33.661,2,33.6639,2,-999,9,-999,9,2.12,2,0.24,2,0,2,0.22,2,0.11,2,2.36,2
318M200406,P02,155,2,15,15,2,20040818,2208,29.9924,-133.5783,4718,119.7,15.8447,33.7168,2,33.7175,2,-999,9,-999,9,2.3,2,0.22,2,0.02,2,0.23,2,0.1,2,2.34,2
318M200406,P02,155,2,14,14,2,20040818,2206,29.9926,-133.5784,4717,170.9,13.1451,33.7609,2,33.7636,2,-999,9,-999,9,5.4,2,4.82,2,0.01,2,0.51,2,0.12,2,2.57,2
318M200406,P02,155,2,5,5,2,20040818,2204,29.9927,-133.5786,4715,220.6,10.6445,33.7649,2,33.7063,2,-999,9,-999,9,10.16,2,10.55,2,0.01,2,0.86,2,0.18,2,2.29,2
318M200406,P02,155,2,4,4,2,20040818,2203,29.9929,-133.5787,4715,269.8,9.8603,33.9311,2,33.9465,2,-999,9,-999,9,16.19,2,14.86,2,0,2,1.09,2,0.3,2,2.5,2
318M200406,P02,155,2,3,3,2,20040818,2159,29.9933,-133.5791,4714,441,6.3407,33.9986,2,34.0105,2,-999,9,-999,9,56.48,2,34.24,2,0,2,2.42,2,0.62,2,2.4,2
318M200406,P02,155,2,2,2,2,20040818,2153,29.9937,-133.5796,4712,644.2,4.7595,34.1665,2,34.1757,2,-999,9,-999,9,92.71,2,42.73,2,0,2,3.05,2,0.75,2,2.42,2
318M200406,P02,155,2,1,1,2,20040818,2145,29.9942,-133.5804,4701,945.3,3.8174,34.4123,2,34.4184,2,-999,9,-999,9,119.85,2,44.48,2,0,2,3.19,2,0.72,2,2.47,2
318M200406,P02,157,1,12,12,2,20040819,739,30.0007,-132.4297,4576,15.3,23.2692,34.0887,2,34.186,2,-999,9,-999,9,1.02,2,0.15,2,0,2,0.16,2,0.12,2,2.81,2
318M200406,P02,157,1,11,11,2,20040819,738,30.0007,-132.4296,4601,39,21.8293,34.5356,2,34.5783,2,-999,9,-999,9,1.23,2,0.15,2,0,2,0.12,2,0.11,2,2.96,2
318M200406,P02,157,1,10,10,2,20040819,737,30.0008,-132.4296,4576,59.7,20.4267,34.4302,2,34.3925,2,-999,9,-999,9,1.23,2,0.15,2,0,2,0.14,2,0.11,2,2.73,2
318M200406,P02,157,1,9,9,2,20040819,736,30.0008,-132.4295,4576,79.2,18.982,34.2901,2,34.3003,2,-999,9,-999,9,1.44,2,0.1,2,0,2,0.14,2,0.11,2,2.78,2
318M200406,P02,157,1,8,8,2,20040819,735,30.0009,-132.4295,4576,100.3,18.3703,34.3332,2,34.3305,2,-999,9,-999,9,1.64,2,0.15,2,0,2,0.14,2,0.18,3,2.67,2
318M200406,P02,157,1,15,15,2,20040819,734,30.0009,-132.4295,4576,125.4,17.0437,34.1876,2,34.2034,2,-999,9,-999,9,2.05,2,0.18,2,0.07,2,0.2,2,2.53,4,2.71,2
318M200406,P02,157,1,14,14,2,20040819,733,30.0009,-132.4295,4576,150.7,15.8997,34.0898,2,34.0811,2,-999,9,-999,9,2.88,2,1,2,0.11,2,0.24,2,0.16,2,2.91,2
318M200406,P02,157,1,5,5,2,20040819,731,30.0007,-132.4296,4576,200.1,10.6764,33.5006,2,33.5114,2,-999,9,-999,9,9.28,2,10.31,2,0.01,2,0.88,2,0.2,2,2.05,2
318M200406,P02,157,1,4,4,2,20040819,729,30.0005,-132.4297,4575,250.7,9.326,33.8249,2,33.8439,2,-999,9,-999,9,18.79,2,17.28,2,0,2,1.28,2,0.31,2,2.29,2
318M200406,P02,157,1,3,3,2,20040819,723,30.0003,-132.4302,4576,504.3,5.6513,34.0371,2,34.0499,2,-999,9,-999,9,69.2,2,37.14,2,0,2,2.7,2,0.65,2,2.19,2
318M200406,P02,157,1,2,2,2,20040819,718,30.0005,-132.4301,4576,706,4.5984,34.2683,2,34.2736,2,-999,9,-999,9,100.15,2,42.64,2,0,2,3.16,2,0.72,2,2.34,2
318M200406,P02,157,1,1,1,2,20040819,710,29.9998,-132.4308,4575,1008.6,3.7356,34.4489,2,34.4552,2,-999,9,-999,9,121.15,2,43.75,2,0,2,3.17,2,0.63,2,2.23,2
318M200406,P02,159,2,12,12,2,20040820,31,30.0041,-131.2736,5085,16.2,22.561,33.6464,2,33.6166,2,-999,9,-999,9,1.2,2,0.14,2,0,2,0.24,2,0.1,2,2.51,2
318M200406,P02,159,2,11,11,2,20040820,30,30.0041,-131.2736,5151,39,19.513,33.4579,2,33.495,2,-999,9,-999,9,1.22,2,0.13,2,0,2,0.24,2,0.1,2,2.46,2
318M200406,P02,159,2,10,10,2,20040820,28,30.004,-131.2735,5082,65.7,17.7814,33.5541,2,33.581,2,-999,9,-999,9,1.05,2,0.13,2,0,2,0.23,2,0.11,2,2.5,2
318M200406,P02,159,2,9,9,2,20040820,27,30.004,-131.2734,5079,84.8,17.2414,33.6942,2,33.711,2,-999,9,-999,9,1.27,2,0.13,2,0,2,0.23,2,0.11,2,2.43,2
318M200406,P02,159,2,8,8,2,20040820,26,30.0041,-131.2733,5089,105.2,16.4395,33.6949,2,33.7007,2,-999,9,-999,9,1.5,2,0.12,2,0,2,0.25,2,0.12,2,2.4,2
318M200406,P02,159,2,15,15,2,20040820,25,30.0041,-131.2731,5082,135.4,15.4234,33.7375,2,33.7425,2,-999,9,-999,9,2.13,2,0.81,2,0.18,2,0.31,2,0.15,2,2.44,2
318M200406,P02,159,2,14,14,2,20040820,24,30.0041,-131.273,5081,185.2,10.6349,33.3537,2,33.3656,2,-999,9,-999,9,9.33,2,10.94,2,0.01,2,0.96,2,0.2,2,2.36,2
318M200406,P02,159,2,5,5,2,20040820,22,30.0042,-131.2729,5171,235.2,9.1772,33.733,2,33.7281,2,-999,9,-999,9,19,2,18.78,2,0,2,1.41,2,0.29,2,2.34,2
318M200406,P02,159,2,4,4,2,20040820,20,30.0042,-131.273,5081,285.4,8.5467,33.9757,2,33.9882,2,-999,9,-999,9,29.52,2,24.39,2,0,2,1.74,2,0.45,2,2.36,2
318M200406,P02,159,2,3,3,2,20040820,15,30.0046,-131.2737,5087,471.8,6.0263,34.0686,2,34.0778,2,-999,9,-999,9,65.35,2,37.49,2,0,2,2.73,2,0.66,2,2.19,2
318M200406,P02,159,2,2,2,2,20040820,11,30.0052,-131.2739,5087,673.1,4.9248,34.2661,2,34.2742,2,-999,9,-999,9,94.18,2,42.47,2,0,2,3.15,2,0.7,2,2.41,2
318M200406,P02,159,2,1,1,2,20040820,2,30.0056,-131.2731,5090,976.2,3.9321,34.4407,2,34.4477,2,-999,9,-999,9,116.7,2,43.57,2,0,2,3.18,2,0.53,2,2.33,2