BOTTLE,20201022CCHSIOLMM
EXPOCODE,SECT_ID,STNNBR,CASTNO,SAMPNO,BTLNBR,BTLNBR_FLAG_W,DATE,TIME,LATITUDE,LONGITUDE,DEPTH,CTDPRS,CTDTMP,CTDSAL,CTDSAL_FLAG_W,SALNTY,SALNTY_FLAG_W,CTDOXY,CTDOXY_FLAG_W,OXYGEN,OXYGEN_FLAG_W,SILCAT,SILCAT_FLAG_W,NITRAT,NITRAT_FLAG_W,NITRIT,NITRIT_FLAG_W,PHSPHT,PHSPHT_FLAG_W,FE,FE_FLAG_W,ALUM,ALUM_FLAG_W
,,,,,,,,,,,,DBAR,ITS-90,PSS-78,,PSS-78,,UMOL/KG,,UMOL/KG,,UMOL/KG,,UMOL/KG,,UMOL/KG,,UMOL/KG,,NMOL/L,,NMOL/L,
318M200406,P02,104,2,12,12,2,20040721,2343,30.0019,-167.7529,5519,15.1,25.0817,35.243,2,35.1927,2,-999,9,-999,9,1.78,2,0.12,2,0,2,0.02,2,0.21,2,2.97,2
318M200406,P02,104,2,11,11,2,20040721,2342,30.0019,-167.7529,0,34.2,20.8593,35.0944,2,35.0886,2,-999,9,-999,9,1.76,2,0.12,2,0,2,0.02,2,0.26,2,2.8,2
318M200406,P02,104,2,10,10,2,20040721,2341,30.0018,-167.7529,5520,49.5,19.3199,35.0544,2,35.0262,2,-999,9,-999,9,1.94,2,0.11,2,0,2,0.05,2,0.22,2,2.33,2
318M200406,P02,104,2,9,9,2,20040721,2340,30.0018,-167.7528,5520,69.5,18.3772,34.9514,2,34.9583,2,-999,9,-999,9,2.33,2,0.11,2,0,2,0.07,2,0.28,2,1.87,2
318M200406,P02,104,2,8,8,2,20040721,2339,30.0017,-167.7528,0,89.2,17.3172,34.8439,2,34.854,2,-999,9,-999,9,2.71,2,0.39,2,0.07,2,0.12,2,0.22,2,1.95,2
318M200406,P02,104,2,15,15,2,20040721,2337,30.0017,-167.7527,5520,122.4,16.47,34.7434,2,34.7341,2,-999,9,-999,9,3.71,2,2.85,2,0.03,2,0.24,2,0.34,2,2.56,2
318M200406,P02,104,2,14,14,2,20040721,2336,30.0016,-167.7527,5520,170.5,14.8502,34.5377,2,34.5419,2,-999,9,-999,9,6.13,2,6.27,2,0.01,2,0.46,2,0.33,2,4.58,3
318M200406,P02,104,2,5,5,2,20040721,2334,30.0016,-167.7526,0,220.2,13.6654,34.4577,2,34.4626,2,-999,9,-999,9,8.96,2,8.62,2,0.01,2,0.62,2,0.31,2,3.46,2
318M200406,P02,104,2,4,4,2,20040721,2332,30.0015,-167.7526,0,271.6,12.9003,34.4107,2,34.4161,2,-999,9,-999,9,10.78,2,9.83,2,0.01,2,0.69,2,0.31,2,3.46,2
318M200406,P02,104,2,3,3,2,20040721,2329,30.0013,-167.7525,0,441.8,9.418,34.1402,2,34.1452,2,-999,9,-999,9,24.79,2,18.21,2,0,2,1.29,2,0.39,2,2.27,2
318M200406,P02,104,2,2,2,2,20040721,2324,30.0013,-167.7525,5669,644.7,5.5843,34.0232,2,34.0276,2,-999,9,-999,9,68.34,2,33.39,2,0,2,2.43,2,0.67,2,1.37,2
318M200406,P02,104,2,1,1,2,20040721,2317,30.0012,-167.7524,5521,948.4,3.8236,34.2811,2,34.2846,2,-999,9,-999,9,117.64,2,43.37,2,0,2,3.13,2,0.72,2,1.07,2
318M200406,P02,106,1,12,12,2,20040722,1041,29.9982,-166.4437,5554,18,25.1716,35.4397,2,35.3135,2,-999,9,-999,9,1.44,2,0.15,2,0,2,0.03,2,0.25,2,3.48,2
318M200406,P02,106,1,11,11,2,20040722,1040,29.9982,-166.4437,5553,38.9,21.9898,35.2014,2,35.2326,2,-999,9,-999,9,1.4,2,0.1,2,0,2,0.03,2,0.2,2,3.17,2
318M200406,P02,106,1,10,10,2,20040722,1039,29.9982,-166.4437,5553,59.7,19.5315,34.9733,2,34.9695,2,-999,9,-999,9,2.17,2,0.09,2,0,2,0.06,2,0.18,2,2.23,2
318M200406,P02,106,1,9,9,2,20040722,1038,29.9981,-166.4436,5552,78.4,18.4352,34.9311,2,34.9376,2,-999,9,-999,9,2.34,2,0.09,2,0,2,0.07,2,0.18,2,2.03,2
318M200406,P02,106,1,8,8,2,20040722,1037,29.9981,-166.4436,0,99.5,17.4249,34.8571,2,34.8648,2,-999,9,-999,9,2.7,2,0.22,2,0.02,2,0.12,2,0.18,2,1.75,2
318M200406,P02,106,1,15,15,2,20040722,1036,29.9981,-166.4436,5566,124.2,16.7037,34.7684,2,34.7744,2,-999,9,-999,9,3.27,2,1.71,2,0.17,2,0.21,2,0.21,2,2.23,2
318M200406,P02,106,1,14,14,2,20040722,1035,29.9981,-166.4436,5566,149.3,16.2439,34.7216,2,34.7148,2,-999,9,-999,9,3.85,2,3.04,2,0.04,2,0.27,2,0.24,2,3.38,3
318M200406,P02,106,1,5,5,2,20040722,1034,29.998,-166.4436,5553,200,14.8372,34.541,2,34.5335,2,-999,9,-999,9,5.82,2,5.97,2,0.01,2,0.46,2,0.24,2,2.73,2
318M200406,P02,106,1,4,4,2,20040722,1032,29.998,-166.4435,5553,250.8,13.6843,34.4238,2,34.4402,2,-999,9,-999,9,8,2,8.27,2,0.01,2,0.62,2,0.29,2,3.03,2
318M200406,P02,106,1,3,3,2,20040722,1026,29.9979,-166.4435,5566,501.5,8.7377,34.1006,2,34.1083,2,-999,9,-999,9,29.62,2,20.85,2,0.01,2,1.49,2,0.4,2,2.11,2
318M200406,P02,106,1,2,2,2,20040722,1021,29.9979,-166.4439,0,704.1,5.3775,34.0573,2,34.0643,2,-999,9,-999,9,74.12,2,36.01,2,0.01,2,2.61,2,0.53,2,1.42,2
318M200406,P02,106,1,1,1,2,20040722,1014,29.9982,-166.4453,5567,1006.8,3.8571,34.3223,2,34.3282,2,-999,9,-999,9,116.16,2,42.95,2,0.01,2,3.13,2,0.59,2,1.46,2
318M200406,P02,108,1,12,12,2,20040723,205,29.9923,-165.1276,5315,18.7,24.9782,35.4134,2,35.4076,2,-999,9,-999,9,1.17,2,0.12,2,0,2,0.03,2,0.26,2,3.37,2
318M200406,P02,108,1,11,11,2,20040723,204,29.9924,-165.1277,5315,38.5,24.1997,35.4367,2,35.3673,2,-999,9,-999,9,1.35,2,0.12,2,0,2,0.03,2,0.25,2,4.09,3
318M200406,P02,108,1,10,10,2,20040723,203,29.9925,-165.1279,5314,64,20.1004,35.1423,2,35.1471,2,-999,9,-999,9,1.94,2,0.12,2,0,2,0.05,2,0.17,2,2.45,2
318M200406,P02,108,1,9,9,2,20040723,202,29.9926,-165.1281,5313,84,19.0425,35.0467,2,35.0329,2,-999,9,-999,9,2.32,2,0.06,2,0,2,0.07,2,0.18,2,2.27,2
318M200406,P02,108,1,8,8,2,20040723,201,29.9927,-165.1282,5313,106.1,18.0626,34.9255,2,34.9152,2,-999,9,-999,9,2.49,2,0.11,2,0,2,0.09,2,0.19,2,2.31,2
318M200406,P02,108,1,15,15,2,20040723,200,29.9928,-165.1284,5312,135.4,16.8265,34.8013,2,34.8005,2,-999,9,-999,9,3.08,2,0.97,2,0.21,2,0.17,2,0.25,2,2.09,2
318M200406,P02,108,1,14,14,2,20040723,159,29.993,-165.1286,5311,184.3,15.9159,34.6931,2,34.6999,2,-999,9,-999,9,3.87,2,2.9,2,0.01,2,0.26,2,0.27,2,5.31,3
318M200406,P02,108,1,5,5,2,20040723,157,29.9933,-165.1288,5310,235.9,14.8365,34.5505,2,34.5303,2,-999,9,-999,9,5.87,2,5.64,2,0.01,2,0.44,2,0.25,3,2.49,3
318M200406,P02,108,1,4,4,2,20040723,156,29.9936,-165.1289,5308,284.8,13.6217,34.4286,2,34.4353,2,-999,9,-999,9,8.08,2,8.23,2,0,2,0.61,2,0.3,2,3.18,2
318M200406,P02,108,1,3,3,2,20040723,151,29.9943,-165.1288,5331,473,9.8006,34.1501,2,34.1617,2,-999,9,-999,9,22.59,2,17.77,2,0,2,1.26,2,0.36,2,2.18,2
318M200406,P02,108,1,2,2,2,20040723,146,29.995,-165.1286,5333,676.1,5.9566,34.036,2,34.0396,2,-999,9,-999,9,63.28,2,33.21,2,0,2,2.4,2,0.48,2,1.56,2
318M200406,P02,108,1,1,1,2,20040723,138,29.9957,-165.1287,5330,976.5,3.7315,34.2583,2,34.2646,2,-999,9,-999,9,119.25,2,44.07,2,0,2,3.15,2,0.56,2,1.46,2
318M200406,P02,108,3,1,1,9,20040723,611,29.983,-165.1308,5352,49.4,21.8497,35.2721,2,-999,9,-999,9,-999,9,-999,9,-999,9,-999,9,-999,9,-999,9,-999,9
318M200406,P02,108,3,5,5,9,20040723,612,29.9829,-165.1309,0,49.5,21.7442,35.2664,2,-999,9,-999,9,-999,9,-999,9,-999,9,-999,9,-999,9,-999,9,-999,9
318M200406,P02,108,3,2,2,9,20040723,611,29.983,-165.1308,5352,49.8,21.7819,35.2667,2,-999,9,-999,9,-999,9,-999,9,-999,9,-999,9,-999,9,-999,9,-999,9
318M200406,P02,108,3,12,12,9,20040723,613,29.9828,-165.131,5334,49.9,21.6761,35.2619,2,-999,9,-999,9,-999,9,-999,9,-999,9,-999,9,-999,9,-999,9,-999,9
318M200406,P02,108,3,3,3,9,20040723,612,29.9829,-165.1309,5353,50,21.7094,35.2604,2,-999,9,-999,9,-999,9,-999,9,-999,9,-999,9,-999,9,-999,9,-999,9
318M200406,P02,108,3,11,11,9,20040723,613,29.9828,-165.131,0,50.1,21.6025,35.2525,2,-999,9,-999,9,-999,9,-999,9,-999,9,-999,9,-999,9,-999,9,-999,9
318M200406,P02,108,3,4,4,9,20040723,612,29.9829,-165.1309,0,50.2,21.6103,35.2534,2,-999,9,-999,9,-999,9,-999,9,-999,9,-999,9,-999,9,-999,9,-999,9
318M200406,P02,108,3,8,8,9,20040723,612,29.9829,-165.1309,5335,50.4,21.5567,35.2475,2,-999,9,-999,9,-999,9,-999,9,-999,9,-999,9,-999,9,-999,9,-999,9
318M200406,P02,108,3,15,15,9,20040723,612,29.9829,-165.1309,5327,50.4,21.6304,35.2531,2,-999,9,-999,9,-999,9,-999,9,-999,9,-999,9,-999,9,-999,9,-999,9
318M200406,P02,108,3,10,10,9,20040723,612,29.9828,-165.131,5349,50.5,21.6674,35.2544,2,-999,9,-999,9,-999,9,-999,9,-999,9,-999,9,-999,9,-999,9,-999,9
318M200406,P02,108,3,9,9,9,20040723,612,29.9829,-165.1309,5335,50.8,21.5219,35.2469,2,-999,9,-999,9,-999,9,-999,9,-999,9,-999,9,-999,9,-999,9,-999,9
318M200406,P02,108,3,14,14,9,20040723,612,29.9829,-165.1309,5337,50.8,21.5259,35.2486,2,-999,9,-999,9,-999,9,-999,9,-999,9,-999,9,-999,9,-999,9,-999,9
318M200406,P02,109,2,12,12,2,20040731,1936,30.0052,-166.4411,5553,19.4,26.0439,35.3543,2,35.3425,2,-999,9,-999,9,1.05,2,0.11,2,0.01,2,0.04,2,0.37,2,3.8,2
318M200406,P02,109,2,11,11,2,20040731,1935,30.0052,-166.4412,5554,40.3,22.5805,35.2467,2,35.2475,2,-999,9,-999,9,1.23,2,0.11,2,0.01,2,0.04,2,0.3,2,3.1,2
318M200406,P02,109,2,10,10,2,20040731,1934,30.0052,-166.4412,5545,59.5,20.6738,35.1411,2,35.1347,2,-999,9,-999,9,1.61,2,0.06,2,0,2,0.06,2,0.29,2,4.8,3
318M200406,P02,109,2,9,9,2,20040731,1932,30.0052,-166.4413,5546,78.8,18.8662,34.9715,2,34.9845,2,-999,9,-999,9,2,2,0.1,2,0,2,0.07,2,0.29,2,2.76,2
318M200406,P02,109,2,8,8,2,20040731,1931,30.0051,-166.4414,5546,99.9,17.9714,34.8879,2,34.8854,2,-999,9,-999,9,2.57,2,0.77,2,0.08,2,0.16,2,0.31,2,2.33,2
318M200406,P02,109,2,15,15,2,20040731,1930,30.0051,-166.4415,5546,124.4,16.9107,34.7508,2,34.7713,2,-999,9,-999,9,3.74,2,3.59,2,0.06,2,0.3,2,0.36,2,3.29,3
318M200406,P02,109,2,14,14,2,20040731,1930,30.0051,-166.4415,5547,150.4,16.3562,34.6985,2,34.6937,2,-999,9,-999,9,4.7,2,4.98,2,0.03,2,0.4,2,0.38,2,3.64,3
318M200406,P02,109,2,5,5,2,20040731,1928,30.0051,-166.4417,5547,201,14.7413,34.523,2,34.523,2,-999,9,-999,9,6.84,2,7.39,2,0.01,2,0.56,2,0.4,2,2.99,2
318M200406,P02,109,2,4,4,2,20040731,1926,30.0051,-166.4418,5547,252.1,13.5507,34.4148,2,34.4184,2,-999,9,-999,9,8.78,2,9.04,2,0.01,2,0.67,2,0.42,2,3.18,2
318M200406,P02,109,2,3,3,2,20040731,1921,30.0051,-166.4423,5549,502.9,8.7153,34.0975,2,34.1059,2,-999,9,-999,9,30.65,2,21.98,2,0.01,2,1.57,2,0.51,2,2.09,2
318M200406,P02,109,2,2,2,2,20040731,1916,30.005,-166.4426,5550,704.6,5.3679,34.0429,2,34.0505,2,-999,9,-999,9,73.79,2,35.91,2,0.01,2,2.59,2,0.63,2,1.48,2
318M200406,P02,109,2,1,1,2,20040731,1908,30.0047,-166.4431,5552,1007.7,3.8919,34.3202,2,34.3246,2,-999,9,-999,9,116,2,43.43,2,0.01,2,3.16,2,0.65,2,1.41,2
318M200406,P02,111,1,12,12,2,20040801,715,29.9962,-165.1203,5290,15.8,25.6736,35.3565,2,35.2996,2,-999,9,-999,9,1.35,2,0.13,2,0,2,0.03,2,0.41,2,3.24,2
318M200406,P02,111,1,11,11,2,20040801,714,29.9962,-165.1205,5270,38.9,22.6205,35.3141,2,35.3252,2,-999,9,-999,9,1.32,2,0.12,2,0,2,0.03,2,0.35,2,3.16,2
318M200406,P02,111,1,10,10,2,20040801,712,29.9962,-165.1207,5283,63.2,20.4313,35.2571,2,35.2462,2,-999,9,-999,9,1.48,2,0.12,2,0,2,0.05,2,0.31,2,2.79,2
318M200406,P02,111,1,9,9,2,20040801,711,29.9962,-165.1208,5281,84.5,19.0313,35.0381,2,35.0554,2,-999,9,-999,9,1.83,2,0.16,2,0,2,0.07,2,0.33,2,2.41,2
318M200406,P02,111,1,8,8,2,20040801,710,29.9963,-165.1209,5283,104.6,17.6161,34.8614,2,34.8706,2,-999,9,-999,9,2.17,2,0.15,2,0.01,2,0.09,2,0.31,2,2.09,2
318M200406,P02,111,1,15,15,2,20040801,709,29.9963,-165.1211,0,135.4,16.478,34.7468,2,34.7582,2,-999,9,-999,9,2.71,2,0.4,2,0.09,2,0.14,2,0.35,2,2.17,2
318M200406,P02,111,1,14,14,2,20040801,708,29.9963,-165.1213,5279,185.2,15.5879,34.6509,2,34.6568,2,-999,9,-999,9,3.64,2,3.25,2,0.02,2,0.28,2,0.34,2,2.84,2
318M200406,P02,111,1,5,5,2,20040801,705,29.9962,-165.1213,5267,236.1,14.3418,34.4928,2,34.4933,2,-999,9,-999,9,6.47,2,6.96,2,0.01,2,0.52,2,0.37,2,2.94,2
318M200406,P02,111,1,4,4,2,20040801,704,29.9962,-165.1213,5267,286.3,13.4092,34.4245,2,34.4337,2,-999,9,-999,9,8.54,2,8.69,2,0.01,2,0.63,2,0.4,2,3.3,2
318M200406,P02,111,1,3,3,2,20040801,658,29.996,-165.1215,5371,473,9.673,34.153,2,34.1553,2,-999,9,-999,9,23.48,2,18.1,2,0,2,1.28,2,0.49,2,2.4,2
318M200406,P02,111,1,2,2,2,20040801,653,29.9958,-165.1211,5270,674.4,5.8594,34.0373,2,34.0446,2,-999,9,-999,9,65.05,2,33.63,2,0,2,2.42,2,0.59,2,1.56,2
318M200406,P02,111,1,1,1,2,20040801,644,29.9959,-165.1221,5284,977.1,3.6689,34.2668,2,34.2734,2,-999,9,-999,9,120.73,2,43.48,2,0,2,3.12,2,0.67,2,1.26,2
318M200406,P02,113,1,12,12,2,20040801,2315,29.9962,-163.8437,5531,17.7,25.3355,35.3652,2,35.3417,2,-999,9,-999,9,1.06,2,0,2,0,2,0.02,2,0.34,2,3.5,2
318M200406,P02,113,1,11,11,2,20040801,2314,29.9962,-163.8439,5530,34.2,21.3603,35.1916,2,35.19,2,-999,9,-999,9,1.58,2,0.03,2,0,2,0.04,2,0.32,2,2.9,2
318M200406,P02,113,1,10,10,2,20040801,2313,29.9963,-163.8441,5529,49.9,19.7169,35.0745,2,35.0592,2,-999,9,-999,9,2.11,2,0.03,2,0,2,0.06,2,0.31,2,2.45,2
318M200406,P02,113,1,9,9,2,20040801,2312,29.9964,-163.8444,5632,69.5,18.363,34.9368,2,34.9407,2,-999,9,-999,9,2.44,2,0.03,2,0,2,0.08,2,0.3,2,2.28,2
318M200406,P02,113,1,8,8,2,20040801,2311,29.9965,-163.8447,5529,90.5,17.2782,34.8401,2,34.8427,2,-999,9,-999,9,2.59,2,0.76,2,0.12,2,0.17,2,0.36,2,2.11,2
318M200406,P02,113,1,15,15,2,20040801,2310,29.9965,-163.845,5530,119.5,16.5124,34.7562,2,34.7625,2,-999,9,-999,9,2.92,2,1.84,2,0.05,2,0.22,2,0.41,2,2.54,2
318M200406,P02,113,1,14,14,2,20040801,2309,29.9967,-163.8454,5621,170.3,15.0569,34.5543,2,34.5546,2,-999,9,-999,9,5.19,2,5.74,2,0.02,2,0.45,2,0.43,2,4.02,3
318M200406,P02,113,1,5,5,2,20040801,2307,29.9969,-163.8459,5616,220.8,14.0523,34.4557,2,34.4541,2,-999,9,-999,9,7.26,2,8.16,2,0.01,2,0.61,2,0.46,2,3.42,2
318M200406,P02,113,1,4,4,2,20040801,2305,29.997,-163.8462,5616,269.7,12.9847,34.3861,2,34.3922,2,-999,9,-999,9,9.53,2,9.67,2,0.01,2,0.7,2,0.47,2,3.59,2
318M200406,P02,113,1,3,3,2,20040801,2300,29.9974,-163.8473,5604,443.8,9.864,34.1622,2,34.1684,2,-999,9,-999,9,21.46,2,16.67,2,0,2,1.18,2,0.51,2,2.92,2
318M200406,P02,113,1,2,2,2,20040801,2255,29.998,-163.8485,5600,643.8,5.9099,34.0067,2,34.0108,2,-999,9,-999,9,63.63,2,32.34,2,0,2,2.33,2,0.63,2,1.69,2
318M200406,P02,113,1,1,1,2,20040801,2248,29.999,-163.8502,5585,945.7,3.9005,34.2907,2,34.297,2,-999,9,-999,9,115.37,2,43.34,2,0,2,3.13,2,0.77,2,1.65,2
318M200406,P02,115,2,12,12,2,20040802,1951,30.0013,-162.4609,5610,15.9,25.4949,35.3889,2,35.3195,2,-999,9,-999,9,1.35,2,0,2,0,2,0.03,2,0.3,2,3.29,2
318M200406,P02,115,2,11,11,2,20040802,1950,30.0014,-162.4611,5609,39.2,20.1649,35.0476,2,35.0465,2,-999,9,-999,9,1.91,2,0,2,0,2,0.05,2,0.24,2,2.34,2
318M200406,P02,115,2,10,10,2,20040802,1949,30.0015,-162.4613,5610,58.2,18.3916,34.8814,2,34.8694,2,-999,9,-999,9,2.28,2,0,2,0,2,0.07,2,0.21,2,2.04,2
318M200406,P02,115,2,9,9,2,20040802,1948,30.0015,-162.4615,5610,78.7,17.5686,34.8023,2,34.803,2,-999,9,-999,9,2.45,2,0.02,2,0,2,0.08,2,0.22,2,1.71,2
318M200406,P02,115,2,8,8,2,20040802,1947,30.0016,-162.4616,5610,101.5,16.7203,34.7013,2,34.6974,2,-999,9,-999,9,2.63,2,0.11,2,0.02,2,0.12,2,0.24,2,1.82,2
318M200406,P02,115,2,15,15,2,20040802,1946,30.0017,-162.4618,5610,125.4,16.1117,34.6227,2,34.6355,2,-999,9,-999,9,2.81,2,0.48,2,0.21,2,0.17,2,0.28,2,1.76,2
318M200406,P02,115,2,14,14,2,20040802,1945,30.0017,-162.4619,5610,151.8,15.434,34.5768,2,34.5789,2,-999,9,-999,9,3.76,2,3.09,2,0.04,2,0.29,2,0.28,2,2.7,3
318M200406,P02,115,2,5,5,2,20040802,1942,30.0019,-162.4623,5610,201.6,13.8343,34.4025,2,34.3983,2,-999,9,-999,9,6.61,2,7.02,2,0.01,2,0.54,2,0.3,2,2.29,2
318M200406,P02,115,2,4,4,2,20040802,1941,30.002,-162.4626,5611,252.5,12.6334,34.3306,2,34.3287,2,-999,9,-999,9,9.47,2,9.61,2,0.01,2,0.7,2,0.36,2,2.61,2
318M200406,P02,115,2,3,3,2,20040802,1934,30.0025,-162.464,5610,503.7,8.0628,34.0653,2,34.0665,2,-999,9,-999,9,36.01,2,23.7,2,0.01,2,1.67,2,0.5,2,2.11,2
318M200406,P02,115,2,2,2,2,20040802,1928,30.0026,-162.465,5609,703.9,5.018,34.0473,2,34.0521,2,-999,9,-999,9,79.7,2,37.29,2,0.01,2,2.67,2,0.62,2,1.36,2
318M200406,P02,115,2,1,1,2,20040802,1920,30.0025,-162.4666,5609,1008.4,3.5168,34.3192,2,34.3248,2,-999,9,-999,9,126.69,2,44.3,2,0.01,2,3.18,2,0.69,2,1.23,2
318M200406,P02,117,1,12,12,2,20040803,836,29.9985,-161.0828,5426,16.2,25.2592,35.2793,2,35.2345,2,-999,9,-999,9,1.85,2,0.01,2,0,2,0.04,2,0.29,2,2.92,2
318M200406,P02,117,1,11,11,2,20040803,835,29.9985,-161.0829,5426,35.9,22.2397,35.0382,2,35.0442,2,-999,9,-999,9,2.03,2,0.01,2,0,2,0.04,2,0.27,2,2.6,2
318M200406,P02,117,1,10,10,2,20040803,833,29.9984,-161.0831,5424,61.4,18.966,34.89,2,34.783,2,-999,9,-999,9,2.61,2,0.06,2,0,2,0.07,2,0.24,2,1.89,2
318M200406,P02,117,1,9,9,2,20040803,832,29.9983,-161.0833,5424,82.3,17.3341,34.6926,2,34.6911,2,-999,9,-999,9,2.61,2,0.11,2,0,2,0.09,2,0.26,3,4.3,3
318M200406,P02,117,1,8,8,2,20040803,831,29.9982,-161.0835,5423,101.5,16.9392,34.6637,2,34.6821,2,-999,9,-999,9,2.61,2,0.11,2,0,2,0.1,2,0.24,2,1.6,2
318M200406,P02,117,1,15,15,2,20040803,830,29.9982,-161.0836,5422,128.8,16.2564,34.6587,2,34.6372,2,-999,9,-999,9,2.98,2,0.89,2,0.18,2,0.19,2,0.28,2,1.69,2
318M200406,P02,117,1,14,14,2,20040803,829,29.9982,-161.0838,5422,180.4,14.8468,34.5332,2,34.4815,2,-999,9,-999,9,5.46,2,5.47,2,0.01,2,0.44,2,0.28,2,2.7,3
318M200406,P02,117,1,5,5,2,20040803,826,29.998,-161.0841,5420,231.9,12.7229,34.2883,2,34.2938,2,-999,9,-999,9,8.7,2,9.02,2,0.01,2,0.68,2,0.31,2,2.28,2
318M200406,P02,117,1,4,4,2,20040803,825,29.998,-161.0843,5412,282.6,12.0922,34.2774,2,34.2904,2,-999,9,-999,9,11.18,2,10.74,2,0,2,0.78,2,0.35,2,2.58,2
318M200406,P02,117,1,3,3,2,20040803,819,29.998,-161.0847,5412,471,8.6459,34.0935,2,34.0959,2,-999,9,-999,9,30.69,2,21.46,2,0,2,1.51,2,0.47,2,2.12,2
318M200406,P02,117,1,2,2,2,20040803,814,29.9979,-161.0855,5417,673.6,5.2618,34.0177,2,34.0236,2,-999,9,-999,9,72.75,2,35.5,2,0,2,2.54,2,0.59,2,1.19,2
318M200406,P02,117,1,1,1,2,20040803,805,29.9973,-161.0864,5420,974.2,3.5901,34.2938,2,34.3021,2,-999,9,-999,9,124.53,2,44.23,2,0,2,3.18,2,0.67,2,0.97,2
318M200406,P02,119,1,12,12,2,20040804,127,30.0012,-159.7013,5690,18.9,25.4314,35.3271,2,33.3074,2,-999,9,-999,9,1.27,2,0.06,2,0,2,0.03,2,0.26,2,3.82,2
318M200406,P02,119,1,11,11,2,20040804,126,30.0012,-159.7013,5691,33.7,23.7502,35.1752,2,33.1645,2,-999,9,-999,9,1.85,2,0.06,2,0,2,0.03,2,0.22,2,2.96,2
318M200406,P02,119,1,10,10,2,20040804,125,30.0011,-159.7014,5690,50.4,20.607,34.9816,2,34.9645,2,-999,9,-999,9,2.22,2,0.06,2,0,2,0.05,2,0.19,2,2.48,2
318M200406,P02,119,1,9,9,2,20040804,124,30.0011,-159.7015,5689,70.4,18.2856,34.8147,2,34.826,2,-999,9,-999,9,2.6,2,0.06,2,0,2,0.07,2,0.21,2,2.24,2
318M200406,P02,119,1,8,8,2,20040804,123,30.0011,-159.7016,5689,88.8,17.1707,34.7409,2,34.7475,2,-999,9,-999,9,2.8,2,0.11,2,0,2,0.1,2,0.23,2,1.9,2
318M200406,P02,119,1,15,15,2,20040804,122,30.0011,-159.7016,5689,120,16.0383,34.6556,2,34.6579,2,-999,9,-999,9,3.55,2,1.7,2,0.16,2,0.22,2,0.26,2,2.02,2
318M200406,P02,119,1,14,14,2,20040804,121,30.0011,-159.7017,5689,169.1,14.2649,34.4583,2,34.4648,2,-999,9,-999,9,6.41,2,6.58,2,0.01,2,0.51,2,0.32,3,3.56,3
318M200406,P02,119,1,5,5,2,20040804,118,30.0008,-159.7019,5688,220.7,13.0849,34.3587,2,34.3454,2,-999,9,-999,9,8.7,2,8.81,2,0.01,2,0.66,2,0.31,2,2.72,2
318M200406,P02,119,1,4,4,2,20040804,117,30.0007,-159.7022,5687,271,11.8797,34.2646,2,34.2716,2,-999,9,-999,9,11.37,2,11.02,2,0,2,0.8,2,0.35,2,2.64,2
318M200406,P02,119,1,3,3,2,20040804,113,30.0002,-159.7022,5688,442.4,9.217,34.1233,2,34.1273,2,-999,9,-999,9,25.7,2,19.14,2,0,2,1.35,2,0.44,2,2.16,2
318M200406,P02,119,1,2,2,2,20040804,105,30,-159.7021,5687,643.9,5.4377,34.0112,2,34.0171,2,-999,9,-999,9,69.23,2,34.59,2,0,2,2.48,2,0.61,2,1.41,2
318M200406,P02,119,1,1,1,2,20040804,58,29.9995,-159.7034,5685,948,3.6358,34.2912,2,34.297,2,-999,9,-999,9,122.53,2,44.01,2,0,2,3.17,2,0.7,2,1.01,2