BOTTLE,20201022CCHSIOLMM
EXPOCODE,SECT_ID,STNNBR,CASTNO,SAMPNO,BTLNBR,BTLNBR_FLAG_W,DATE,TIME,LATITUDE,LONGITUDE,DEPTH,CTDPRS,CTDTMP,CTDSAL,CTDSAL_FLAG_W,SALNTY,SALNTY_FLAG_W,CTDOXY,CTDOXY_FLAG_W,OXYGEN,OXYGEN_FLAG_W,SILCAT,SILCAT_FLAG_W,NITRAT,NITRAT_FLAG_W,NITRIT,NITRIT_FLAG_W,PHSPHT,PHSPHT_FLAG_W,FE,FE_FLAG_W,ALUM,ALUM_FLAG_W
,,,,,,,,,,,,DBAR,ITS-90,PSS-78,,PSS-78,,UMOL/KG,,UMOL/KG,,UMOL/KG,,UMOL/KG,,UMOL/KG,,UMOL/KG,,NMOL/L,,NMOL/L,
318M200406,P02,44,2,12,12,2,20040701,2254,30.0004,152.4039,5902,18.7,25.4864,34.8956,2,34.9132,2,-999,9,-999,9,1.09,2,0.05,2,0,2,0.02,2,0.3,2,4.95,2
318M200406,P02,44,2,11,11,2,20040701,2254,30.0004,152.4039,5899,33.9,22.7924,35.006,2,35.0333,2,-999,9,-999,9,1.09,2,0.05,2,0,2,0.02,2,0.2,2,5.23,2
318M200406,P02,44,2,10,10,2,20040701,2253,30.0003,152.4039,5899,49.4,21.6442,35.0942,2,35.0966,2,-999,9,-999,9,1.27,2,0.05,2,0,2,0.02,2,0.21,2,5.32,2
318M200406,P02,44,2,9,9,2,20040701,2251,30.0003,152.4039,5898,73.5,20.3338,35.036,2,35.051,2,-999,9,-999,9,1.46,2,0.05,2,0,2,0.03,2,0.19,2,4.92,2
318M200406,P02,44,2,8,8,2,20040701,2250,30.0004,152.4038,5898,92.8,19.0846,34.9073,2,34.9286,2,-999,9,-999,9,1.63,2,0.05,2,0,2,0.05,2,0.24,2,4.91,2
318M200406,P02,44,2,7,7,2,20040701,2249,30.0003,152.4039,5898,119.2,18.2363,34.8489,2,34.8519,2,-999,9,-999,9,1.99,2,1.39,2,0.15,2,0.14,2,0.24,2,5.46,2
318M200406,P02,44,2,6,6,2,20040701,2247,30.0005,152.4039,5901,169.2,17.3859,34.7688,2,34.7756,2,-999,9,-999,9,3.27,2,3.91,2,0.01,2,0.28,2,0.35,2,6.69,2
318M200406,P02,44,2,13,13,2,20040701,2246,30.0004,152.4039,5896,221.9,17.069,34.7727,2,34.7779,2,-999,9,-999,9,3.63,2,3.91,2,0.01,2,0.28,2,0.4,2,7.58,2
318M200406,P02,44,2,4,4,2,20040701,2244,30.0004,152.4039,0,269.8,16.717,34.7437,2,34.7498,2,-999,9,-999,9,4.17,2,4.65,2,0.01,2,0.33,2,0.46,2,7.9,2
318M200406,P02,44,2,3,3,2,20040701,2239,30.0004,152.4039,5898,440.3,13.8662,34.5059,2,34.514,2,-999,9,-999,9,11.95,2,10.98,2,0,2,0.77,2,0.55,2,6.13,2
318M200406,P02,44,2,2,2,2,20040701,2233,30.0004,152.4038,5899,646,8.8237,34.1372,2,34.146,2,-999,9,-999,9,33.63,2,21.17,2,0,2,1.53,2,0.62,2,3.9,2
318M200406,P02,44,2,1,1,2,20040701,2224,30.0004,152.4038,5897,943.6,4.4472,34.1636,2,34.1736,2,-999,9,-999,9,97.15,2,39.04,2,0,2,2.81,2,0.87,2,2.12,2
318M200406,P02,46,1,12,12,2,20040702,1238,29.9948,153.9117,5813,21,26.2801,34.7206,2,34.8003,2,-999,9,-999,9,1.42,2,0.16,2,0,2,0.03,2,0.37,2,5.92,2
318M200406,P02,46,1,11,11,2,20040702,1237,29.9949,153.9117,0,39.6,22.8722,34.8625,2,34.8605,2,-999,9,-999,9,1.58,2,0.16,2,0,2,0.03,2,0.24,2,4.55,2
318M200406,P02,46,1,10,10,2,20040702,1236,29.9949,153.9117,5813,57.3,20.815,34.8433,2,34.8385,2,-999,9,-999,9,1.74,2,0.1,2,0,2,0.04,2,0.24,2,4.64,2
318M200406,P02,46,1,9,9,2,20040702,1235,29.9948,153.9117,5813,80.6,19.4077,34.8077,2,34.8111,2,-999,9,-999,9,1.9,2,0.1,2,0,2,0.06,2,0.24,2,3.94,2
318M200406,P02,46,1,8,8,2,20040702,1233,29.9948,153.9117,5812,94.5,18.7588,34.8308,2,34.8332,2,-999,9,-999,9,2.24,2,0.42,2,0.1,2,0.1,2,0.27,2,4.81,2
318M200406,P02,46,1,7,7,2,20040702,1232,29.9948,153.9117,0,124.6,17.8665,34.7934,2,34.7984,2,-999,9,-999,9,2.58,2,1.65,2,0.2,2,0.18,2,0.32,2,4.86,2
318M200406,P02,46,1,6,6,2,20040702,1231,29.9948,153.9117,5813,152.2,17.463,34.7874,2,34.7968,2,-999,9,-999,9,3.66,2,3.58,2,0.03,2,0.27,2,0.47,2,6.94,2
318M200406,P02,46,1,13,13,2,20040702,1229,29.9949,153.9117,5811,202.6,17.1374,34.7815,2,34.7868,2,-999,9,-999,9,3.44,2,3.22,2,0.02,2,0.25,2,0.39,2,6.15,2
318M200406,P02,46,1,4,4,2,20040702,1227,29.9948,153.9117,5812,251.4,16.818,34.7507,2,34.753,2,-999,9,-999,9,5.25,2,5.29,2,0.01,2,0.39,2,0.52,2,9.37,2
318M200406,P02,46,1,3,3,2,20040702,1218,29.9948,153.9117,5812,503.7,12.2184,34.3919,2,34.4002,2,-999,9,-999,9,18.25,2,13.78,2,0.01,2,1,2,0.53,2,5.76,2
318M200406,P02,46,1,2,2,2,20040702,1211,29.9948,153.9118,5813,706.9,6.4778,33.976,2,33.9798,2,-999,9,-999,9,50.24,2,25.89,2,0,2,1.94,2,0.73,2,3.24,2
318M200406,P02,46,1,1,1,2,20040702,1202,29.9948,153.9118,5811,1009,3.9746,34.2457,2,34.2515,2,-999,9,-999,9,111.37,2,40.55,2,0,2,2.92,2,0.82,2,2.19,2
318M200406,P02,50,2,12,12,2,20040704,906,29.9985,156.8488,5706,17.2,25.6544,34.6088,2,34.5854,2,-999,9,-999,9,1.54,2,0.17,2,0,2,0.03,2,0.49,2,8.63,2
318M200406,P02,50,2,11,11,2,20040704,905,29.9985,156.8489,5705,33.8,23.3111,34.6719,2,34.6822,2,-999,9,-999,9,1.52,2,0.16,2,0,2,0.04,2,0.35,2,6.95,2
318M200406,P02,50,2,10,10,2,20040704,904,29.9985,156.8489,5705,49.9,22.7095,34.7184,2,34.7263,2,-999,9,-999,9,1.66,2,0.2,2,0.01,2,0.06,2,0.34,2,6.73,2
318M200406,P02,50,2,9,9,2,20040704,903,29.9985,156.8489,5706,70.2,21.9397,34.7608,2,34.7635,2,-999,9,-999,9,2.74,2,1.33,2,0.55,2,0.18,2,0.38,2,7.2,2
318M200406,P02,50,2,8,8,2,20040704,902,29.9985,156.8489,5706,89.2,21.3473,34.7766,2,34.7755,2,-999,9,-999,9,2.88,2,1.79,2,0.25,2,0.19,2,0.53,2,8.17,2
318M200406,P02,50,2,7,7,2,20040704,901,29.9985,156.8489,5707,119.7,19.9917,34.7994,2,34.7853,2,-999,9,-999,9,3.76,2,3.22,2,0.03,2,0.26,2,0.56,2,8.55,2
318M200406,P02,50,2,6,6,2,20040704,859,29.9985,156.8489,5707,171.6,18.0154,34.7811,2,34.784,2,-999,9,-999,9,3.36,2,2.21,2,0.2,2,0.22,2,0.52,3,6.39,3
318M200406,P02,50,2,13,13,2,20040704,856,29.9985,156.8489,5706,221,17.036,34.7549,2,34.7569,2,-999,9,-999,9,5.53,2,5.01,2,0.01,2,0.38,2,0.67,2,9.38,2
318M200406,P02,50,2,4,4,2,20040704,854,29.9985,156.8488,5706,271.5,16.2877,34.6783,2,34.6863,2,-999,9,-999,9,8.61,2,7.45,2,0.01,2,0.54,2,0.7,2,9.38,2
318M200406,P02,50,2,3,3,2,20040704,847,29.9985,156.8489,5707,445.2,13.0809,34.4644,2,34.4679,2,-999,9,-999,9,17.36,2,13.47,2,0,2,0.95,2,0.71,2,7.19,2
318M200406,P02,50,2,2,2,2,20040704,840,29.9985,156.8489,5706,644.7,6.5645,33.9913,2,33.9916,2,-999,9,-999,9,51.26,2,26.45,2,0,2,1.96,2,0.92,2,4,2
318M200406,P02,50,2,1,1,2,20040704,829,29.9985,156.8488,5707,949.4,4.0426,34.2306,2,34.2353,2,-999,9,-999,9,110.02,2,40.35,2,0,2,2.91,2,1.09,2,2.87,2
318M200406,P02,52,2,12,12,2,20040705,244,29.9944,158.345,5603,16.2,26.7451,35.0851,2,34.969,2,-999,9,-999,9,1.79,2,0.09,2,0,2,0.02,2,0.29,2,5.79,2
318M200406,P02,52,2,11,11,2,20040705,243,29.9944,158.3451,5604,39.7,19.9908,34.7956,2,34.7947,2,-999,9,-999,9,2.15,2,0.04,2,0,2,0.03,2,0.24,2,4.43,2
318M200406,P02,52,2,10,10,2,20040705,242,29.9944,158.3451,5600,58.6,18.8837,34.7865,2,34.8009,2,-999,9,-999,9,2.33,2,0.04,2,0,2,0.06,2,0.25,2,4.35,2
318M200406,P02,52,2,9,9,2,20040705,242,29.9944,158.3452,5600,79.2,18.1309,34.8009,2,34.8035,2,-999,9,-999,9,1.95,2,0.15,2,0,2,0.07,2,0.46,3,3.96,3
318M200406,P02,52,2,8,8,2,20040705,241,29.9944,158.3452,5600,101.3,17.7073,34.7989,2,34.8017,2,-999,9,-999,9,3.05,2,1.64,2,0.16,2,0.17,2,0.28,2,5.15,2
318M200406,P02,52,2,7,7,2,20040705,240,29.9944,158.3453,5600,124.6,17.2565,34.7822,2,34.7867,2,-999,9,-999,9,3.96,2,3.76,2,0.06,2,0.27,2,0.38,2,7.79,2
318M200406,P02,52,2,6,6,2,20040705,239,29.9944,158.3453,5600,149.5,17.0068,34.7754,2,34.7812,2,-999,9,-999,9,4.32,2,4.23,2,0.02,2,0.3,2,0.48,2,9.24,2
318M200406,P02,52,2,13,13,2,20040705,237,29.9944,158.3455,5601,201.7,16.6368,34.75,2,34.7539,2,-999,9,-999,9,4.68,2,4.83,2,0.01,2,0.33,2,0.49,2,9.87,2
318M200406,P02,52,2,4,4,2,20040705,235,29.9944,158.3457,5604,252.3,16.1291,34.6984,2,34.6975,2,-999,9,-999,9,6.33,2,6.28,2,0.01,2,0.44,2,0.56,2,9.37,2
318M200406,P02,52,2,3,3,2,20040705,227,29.9944,158.3462,5602,502.6,10.5129,34.2751,2,34.2753,2,-999,9,-999,9,27.06,2,17.83,2,0,2,1.28,2,0.74,2,5.91,2
318M200406,P02,52,2,2,2,2,20040705,221,29.9945,158.3468,5605,705.7,6.2769,34.0537,2,34.0579,2,-999,9,-999,9,60.93,2,31.14,2,0,2,2.25,2,0.82,2,3.25,2
318M200406,P02,52,2,1,1,2,20040705,210,29.9947,158.3474,5602,1007,3.976,34.2458,2,34.2512,2,-999,9,-999,9,111.58,2,41.44,2,0,2,2.96,2,1.69,3,3.01,3
318M200406,P02,54,2,12,12,2,20040705,1942,29.9954,159.8387,5624,14.4,26.1524,34.8113,2,34.8525,2,-999,9,-999,9,1.24,2,0.08,2,0,2,0.02,2,0.37,2,5.84,2
318M200406,P02,54,2,11,11,2,20040705,1941,29.9953,159.8388,5624,39,21.6957,34.8085,2,34.808,2,-999,9,-999,9,1.59,2,0.08,2,0,2,0.03,2,0.29,2,4.96,2
318M200406,P02,54,2,10,10,2,20040705,1939,29.9952,159.839,5602,64.3,19.62,34.8184,2,34.8189,2,-999,9,-999,9,1.76,2,0.1,2,0.04,2,0.07,2,0.27,2,4.66,2
318M200406,P02,54,2,9,9,2,20040705,1938,29.995,159.8392,5602,86.3,18.6556,34.8279,2,34.824,2,-999,9,-999,9,2.29,2,0.78,2,0.25,2,0.13,2,0.29,2,4.87,2
318M200406,P02,54,2,8,8,2,20040705,1937,29.9948,159.8393,5646,105.5,18.1087,34.8157,2,34.8185,2,-999,9,-999,9,2.63,2,2.21,2,0.04,2,0.19,2,0.36,2,5.9,2
318M200406,P02,54,2,7,7,2,20040705,1936,29.9947,159.8394,5602,135.2,17.6066,34.8026,2,34.8052,2,-999,9,-999,9,2.8,2,3.19,2,0.02,2,0.24,2,0.38,2,6.47,2
318M200406,P02,54,2,6,6,2,20040705,1934,29.9944,159.8396,5602,187.3,17.0617,34.7753,2,34.7804,2,-999,9,-999,9,3.15,2,3.77,2,0.02,2,0.27,2,0.45,2,7.12,2
318M200406,P02,54,2,13,13,2,20040705,1932,29.9943,159.8396,5604,238.2,16.6339,34.7491,2,34.7533,2,-999,9,-999,9,4.21,2,4.57,2,0.01,2,0.32,2,0.49,2,7.89,2
318M200406,P02,54,2,4,4,2,20040705,1931,29.9941,159.8397,5603,289.2,16.2477,34.7203,2,34.7327,2,-999,9,-999,9,5.64,2,5.75,2,0.01,2,0.4,2,0.56,2,8.36,2
318M200406,P02,54,2,3,3,2,20040705,1926,29.9935,159.8397,5651,474.6,12.5821,34.4154,2,34.4192,2,-999,9,-999,9,17.55,2,13.23,2,0.01,2,0.93,2,0.67,2,6.62,2
318M200406,P02,54,2,2,2,2,20040705,1921,29.9926,159.8398,5605,676.2,6.8349,34.0078,2,34.0113,2,-999,9,-999,9,48.09,2,25.45,2,0,2,1.88,2,0.85,2,3.87,2
318M200406,P02,54,2,1,1,2,20040705,1913,29.9913,159.8396,5607,977.1,4.0728,34.2231,2,34.2287,2,-999,9,-999,9,109.09,2,40,2,0,2,2.9,2,0.99,2,2.66,2
318M200406,P02,56,1,12,12,2,20040706,826,30.0038,161.3499,5929,17.1,26.1894,35.3303,2,35.3267,2,-999,9,-999,9,0.76,2,0.1,2,0,2,0.02,2,0.35,2,5.99,2
318M200406,P02,56,1,11,11,2,20040706,824,30.0038,161.3501,5928,38,23.2501,35.1059,2,35.1239,2,-999,9,-999,9,1.11,2,0.15,2,0,2,0.01,2,0.28,2,5.38,2
318M200406,P02,56,1,10,10,2,20040706,823,30.0037,161.3502,5929,51.7,21.4201,35.0645,2,35.06,2,-999,9,-999,9,1.1,2,0.05,2,0,2,0.02,2,0.42,3,4.81,2
318M200406,P02,56,1,9,9,2,20040706,822,30.0036,161.3503,5928,72.3,20.1003,35.0204,2,35.0294,2,-999,9,-999,9,1.46,2,0,2,0,2,0.04,2,0.19,2,4.47,2
318M200406,P02,56,1,8,8,2,20040706,821,30.0035,161.3506,5928,92.2,19.033,34.9312,2,34.9541,2,-999,9,-999,9,1.81,2,-0.01,2,0.01,2,0.07,2,0.24,2,4.08,2
318M200406,P02,56,1,7,7,2,20040706,820,30.0035,161.3508,5929,123.5,18.2297,34.8749,2,34.8793,2,-999,9,-999,9,2.16,2,1.12,2,0.21,2,0.15,2,0.26,2,4.89,2
318M200406,P02,56,1,6,6,2,20040706,818,30.0035,161.351,5929,173.5,17.0769,34.7722,2,34.7818,2,-999,9,-999,9,3.06,2,3.39,2,0.02,2,0.25,2,0.32,2,6.43,2
318M200406,P02,56,1,13,13,2,20040706,816,30.0035,161.3512,5929,222.1,16.6479,34.744,2,34.7507,2,-999,9,-999,9,3.76,2,4.1,2,0.01,2,0.29,2,0.35,2,7.47,2
318M200406,P02,56,1,4,4,2,20040706,815,30.0034,161.3514,5928,274.4,16.2493,34.7085,2,34.7113,2,-999,9,-999,9,4.66,2,5.05,2,0.01,2,0.36,2,0.36,2,7.4,2
318M200406,P02,56,1,3,3,2,20040706,810,30.0034,161.3518,5929,444.4,13.602,34.4753,2,34.4869,2,-999,9,-999,9,10.41,2,9.72,2,0.01,2,0.69,2,0.36,2,5.53,2
318M200406,P02,56,1,2,2,2,20040706,805,30.0034,161.352,5929,645.5,8.5382,34.1009,2,34.1101,2,-999,9,-999,9,32.83,2,20.53,2,0,2,1.5,2,0.55,2,4.27,2
318M200406,P02,56,1,1,1,2,20040706,756,30.0033,161.352,5928,947,4.6903,34.1504,2,34.1634,2,-999,9,-999,9,92.01,2,38.51,2,0,2,2.82,2,0.65,2,2.61,2
318M200406,P02,58,2,12,12,2,20040707,601,29.9987,162.8572,5987,14.3,25.8896,35.1591,2,35.1473,2,-999,9,-999,9,1.31,2,0.08,2,0,2,0.01,2,0.24,2,5.19,2
318M200406,P02,58,2,11,11,2,20040707,600,29.9988,162.857,5987,40.1,22.7012,35.1124,2,35.1187,2,-999,9,-999,9,1.47,2,0.08,2,0,2,0.01,2,0.19,2,4.82,2
318M200406,P02,58,2,10,10,2,20040707,558,29.9988,162.8568,5986,61,20.2832,34.9924,2,34.9935,2,-999,9,-999,9,1.61,2,0.08,2,0,2,0.04,2,0.19,2,4.49,2
318M200406,P02,58,2,9,9,2,20040707,557,29.9988,162.8567,5996,80,19.1981,34.9517,2,34.9581,2,-999,9,-999,9,1.77,2,0.08,2,0,2,0.04,2,0.2,2,4.54,2
318M200406,P02,58,2,8,8,2,20040707,556,29.9989,162.8565,5986,101.6,18.5716,34.9133,2,34.9146,2,-999,9,-999,9,2.1,2,0.25,2,0.02,2,0.07,2,0.26,2,4.75,2
318M200406,P02,58,2,7,7,2,20040707,555,29.9989,162.8564,5997,125.2,18.0017,34.8557,2,34.859,2,-999,9,-999,9,2.62,2,2.14,2,0.07,2,0.18,2,0.25,2,5.81,2
318M200406,P02,58,2,6,6,2,20040707,554,29.9989,162.8563,5989,150.7,17.6932,34.8331,2,34.8399,2,-999,9,-999,9,2.59,2,2.63,2,0.03,2,0.2,2,0.29,2,6.02,2
318M200406,P02,58,2,13,13,2,20040707,553,29.999,162.8561,5985,201.6,17.1141,34.775,2,34.7815,2,-999,9,-999,9,3.11,2,3.59,2,0.02,2,0.25,2,0.28,2,6.86,2
318M200406,P02,58,2,4,4,2,20040707,551,29.9991,162.8558,5996,250.6,16.6232,34.7271,2,34.7349,2,-999,9,-999,9,3.79,2,4.48,2,0.01,2,0.31,2,0.33,2,7.6,2
318M200406,P02,58,2,3,3,2,20040707,545,29.9995,162.8547,5959,503.9,13.0964,34.4465,2,34.4453,2,-999,9,-999,9,12.74,2,11.5,2,0,2,0.79,2,0.41,2,5.75,2
318M200406,P02,58,2,2,2,2,20040707,540,29.9999,162.854,5987,696.1,8.4887,34.1052,2,34.1121,2,-999,9,-999,9,34.57,2,22.6,2,0,2,1.6,2,0.52,2,3.53,2
318M200406,P02,58,2,1,1,2,20040707,531,30.0006,162.8528,5960,1007,4.4298,34.1788,2,34.1878,2,-999,9,-999,9,97.94,2,39.62,2,0,2,2.84,2,0.71,2,2.38,2
318M200406,P02,60,2,12,12,2,20040707,2215,29.9991,164.1468,5910,14.3,25.6837,35.2214,2,35.206,2,-999,9,-999,9,1.11,2,0.08,2,0,2,0.02,2,0.23,2,5.07,2
318M200406,P02,60,2,11,11,2,20040707,2214,29.9991,164.1468,5909,39.5,23.0289,35.1642,2,35.1325,2,-999,9,-999,9,1.29,2,0.08,2,0,2,0.02,2,0.18,2,4.64,2
318M200406,P02,60,2,10,10,2,20040707,2212,29.9991,164.1469,5909,63.9,20.3019,34.97,2,34.9705,2,-999,9,-999,9,1.64,2,0.08,2,0,2,0.04,2,0.16,2,4.54,2
318M200406,P02,60,2,9,9,2,20040707,2211,29.9992,164.1469,5909,86.2,19.06,34.8906,2,34.8989,2,-999,9,-999,9,1.99,2,0.08,2,0,2,0.06,2,0.18,2,4.58,2
318M200406,P02,60,2,8,8,2,20040707,2210,29.9992,164.1469,5910,103.3,18.5121,34.8974,2,34.9109,2,-999,9,-999,9,2.34,2,0.89,2,0.13,2,0.12,2,0.21,2,4.81,2
318M200406,P02,60,2,7,7,2,20040707,2208,29.9992,164.1469,5944,134.3,17.9143,34.8542,2,34.8635,2,-999,9,-999,9,2.51,2,1.98,2,0.03,2,0.17,2,0.24,2,4.98,2
318M200406,P02,60,2,6,6,2,20040707,2207,29.9992,164.1469,0,186.2,16.9423,34.7562,2,34.7622,2,-999,9,-999,9,3.75,2,4.29,2,0.01,2,0.3,2,0.34,2,7.2,2
318M200406,P02,60,2,13,13,2,20040707,2204,29.9992,164.1469,5944,234.9,16.6021,34.7367,2,34.7429,2,-999,9,-999,9,3.93,2,4.64,2,0.01,2,0.32,2,0.35,2,7.19,2
318M200406,P02,60,2,4,4,2,20040707,2203,29.9992,164.1469,5949,286.1,16.2069,34.7073,2,34.7148,2,-999,9,-999,9,4.82,2,5.38,2,0.01,2,0.38,2,0.38,2,7.48,2
318M200406,P02,60,2,3,3,2,20040707,2156,29.9993,164.147,5944,473.6,13.0805,34.4437,2,34.4467,2,-999,9,-999,9,13.05,2,11.65,2,0,2,0.82,2,0.56,2,5.76,2
318M200406,P02,60,2,2,2,2,20040707,2150,29.9992,164.1473,5947,674.3,8.0482,34.0755,2,34.0813,2,-999,9,-999,9,37.23,2,22.86,2,0,2,1.65,2,0.6,2,3.73,2
318M200406,P02,60,2,1,1,2,20040707,2139,29.9994,164.1473,5909,980.5,4.3863,34.1725,2,34.1789,2,-999,9,-999,9,99.26,2,39.64,2,0,2,2.84,2,0.87,2,2.39,2
318M200406,P02,62,1,12,12,2,20040708,927,30.0008,165.4721,5796,14.2,24.6578,35.18,2,35.1572,2,-999,9,-999,9,1.53,2,0.1,2,0,2,0.02,2,0.29,2,4.89,2
318M200406,P02,62,1,11,11,2,20040708,926,30.0007,165.472,0,35.2,22.9016,35.0644,2,35.0273,2,-999,9,-999,9,1.36,2,0.05,2,0,2,0.02,2,0.23,4,7.75,4
318M200406,P02,62,1,10,10,2,20040708,925,30.0007,165.4719,5848,49.4,20.6972,34.8844,2,34.887,2,-999,9,-999,9,1.36,2,0.05,2,0,2,0.04,2,0.18,2,3.46,2
318M200406,P02,62,1,9,9,2,20040708,923,30.0007,165.4717,5796,69.8,19.1398,34.856,2,34.8583,2,-999,9,-999,9,1.36,2,0.05,2,0,2,0.06,2,0.19,2,3.31,2
318M200406,P02,62,1,8,8,2,20040708,922,30.0007,165.4716,5796,91.7,18.2601,34.8514,2,34.8506,2,-999,9,-999,9,2.26,2,0.38,2,0.07,2,0.1,2,0.22,2,4.2,2
318M200406,P02,62,1,7,7,2,20040708,921,30.0007,165.4715,5796,120.8,17.3745,34.7936,2,34.7972,2,-999,9,-999,9,2.62,2,2.84,2,0.08,2,0.22,2,0.27,2,5.39,2
318M200406,P02,62,1,6,6,2,20040708,919,30.0006,165.4713,5796,170.6,16.7622,34.7668,2,34.7704,2,-999,9,-999,9,3.88,2,4.28,2,0.01,2,0.29,2,0.39,2,7.56,2
318M200406,P02,62,1,13,13,2,20040708,917,30.0006,165.4712,5797,221.1,16.3685,34.7309,2,34.7352,2,-999,9,-999,9,4.78,2,5.05,2,0.01,2,0.35,2,0.41,2,8.13,2
318M200406,P02,62,1,4,4,2,20040708,916,30.0006,165.4711,5797,273.5,15.8397,34.6834,2,34.6934,2,-999,9,-999,9,5.32,2,5.51,2,0.01,2,0.38,2,0.38,2,7.65,2
318M200406,P02,62,1,3,3,2,20040708,911,30.0004,165.4708,5797,441.7,12.893,34.4372,2,34.4376,2,-999,9,-999,9,14.16,2,11.72,2,0,2,0.82,2,0.47,2,5.68,2
318M200406,P02,62,1,2,2,2,20040708,905,30.0002,165.4705,5798,644.6,7.6663,34.0504,2,34.054,2,-999,9,-999,9,40.9,2,23.22,2,0,2,1.7,2,0.62,2,3.79,2
318M200406,P02,62,1,1,1,2,20040708,857,30,165.47,5798,947.3,4.1928,34.2027,2,34.2064,2,-999,9,-999,9,105.31,2,39.61,2,0,2,2.88,2,0.82,2,2.46,2
318M200406,P02,64,1,12,12,2,20040709,153,29.9986,166.7512,6007,14.4,26.0014,35.2104,2,35.1736,2,-999,9,-999,9,1.29,2,0.05,2,0,2,0.01,2,0.2,2,4.53,2
318M200406,P02,64,1,11,11,2,20040709,152,29.9986,166.7517,6008,39.3,21.5804,34.9997,2,34.9814,2,-999,9,-999,9,1.49,2,0.1,2,0,2,0.02,2,0.19,2,4.02,2
318M200406,P02,64,1,10,10,2,20040709,151,29.9988,166.7521,6009,59.1,19.3908,34.9042,2,34.898,2,-999,9,-999,9,1.86,2,0.1,2,0,2,0.05,2,0.21,2,3.61,2
318M200406,P02,64,1,9,9,2,20040709,150,29.9989,166.7526,6007,80.1,18.1105,34.8076,2,34.8111,2,-999,9,-999,9,2.05,2,0,2,0,2,0.07,2,0.17,2,3.49,2
318M200406,P02,64,1,8,8,2,20040709,149,29.999,166.753,6007,100.4,17.3265,34.7763,2,34.7777,2,-999,9,-999,9,2.96,2,2.89,2,0.15,2,0.24,2,0.18,2,4.69,2
318M200406,P02,64,1,7,7,2,20040709,148,29.999,166.7534,6007,125.3,16.8288,34.7384,2,34.7419,2,-999,9,-999,9,3.33,2,4.08,2,0.03,2,0.29,2,0.21,2,6,2
318M200406,P02,64,1,6,6,2,20040709,147,29.999,166.7538,0,150.9,16.5171,34.7206,2,34.7248,2,-999,9,-999,9,3.88,2,4.36,2,0.02,2,0.31,2,0.26,2,6.65,2
318M200406,P02,64,1,13,13,2,20040709,144,29.9991,166.7548,6043,200.5,16.0373,34.6836,2,34.6879,2,-999,9,-999,9,4.98,2,5.47,2,0.01,2,0.38,2,0.31,2,6.68,2
318M200406,P02,64,1,4,4,2,20040709,143,29.9991,166.7555,6135,251.7,15.3718,34.6337,2,34.6323,2,-999,9,-999,9,6.78,2,6.92,2,0.01,2,0.5,2,0.37,2,6.63,2
318M200406,P02,64,1,3,3,2,20040709,134,29.9994,166.7588,6019,502.2,10.0656,34.2188,2,34.2199,2,-999,9,-999,9,24.5,2,16.94,2,0,2,1.2,2,0.53,2,4.51,2
318M200406,P02,64,1,2,2,2,20040709,128,29.9994,166.7611,6022,705.3,5.665,34.0231,2,34.0288,2,-999,9,-999,9,66.84,2,32.18,2,0,2,2.33,2,0.73,2,2.64,2
318M200406,P02,64,1,1,1,2,20040709,120,29.9997,166.7641,6040,1006.6,3.7051,34.2829,2,34.2932,2,-999,9,-999,9,119.25,2,41.52,2,0,2,2.99,2,0.9,2,2.19,2