BOTTLE,20201022CCHSIOLMM
EXPOCODE,SECT_ID,STNNBR,CASTNO,SAMPNO,BTLNBR,BTLNBR_FLAG_W,DATE,TIME,LATITUDE,LONGITUDE,DEPTH,CTDPRS,CTDTMP,CTDSAL,CTDSAL_FLAG_W,SALNTY,SALNTY_FLAG_W,CTDOXY,CTDOXY_FLAG_W,OXYGEN,OXYGEN_FLAG_W,SILCAT,SILCAT_FLAG_W,NITRAT,NITRAT_FLAG_W,NITRIT,NITRIT_FLAG_W,PHSPHT,PHSPHT_FLAG_W,FE,FE_FLAG_W,ALUM,ALUM_FLAG_W
,,,,,,,,,,,,DBAR,ITS-90,PSS-78,,PSS-78,,UMOL/KG,,UMOL/KG,,UMOL/KG,,UMOL/KG,,UMOL/KG,,UMOL/KG,,NMOL/L,,NMOL/L,
318M200406,P02,121,2,12,12,2,20040807,2301,29.9989,-158.3109,5774,19.6,24.6126,35.363,2,35.344,2,-999,9,-999,9,1.2,2,0,2,0,2,0.02,2,0.21,2,3.64,2
318M200406,P02,121,2,11,11,2,20040807,2300,29.9987,-158.3107,5776,39.6,21.2747,35.263,2,35.2482,2,-999,9,-999,9,1.41,2,0,2,0,2,0.03,2,0.19,2,3.36,2
318M200406,P02,121,2,10,10,2,20040807,2259,29.9986,-158.3105,5777,58.3,19.4338,35.0608,2,35.0542,2,-999,9,-999,9,1.8,2,0,2,0,2,0.06,2,0.19,2,2.98,2
318M200406,P02,121,2,9,9,2,20040807,2258,29.9984,-158.3103,5813,79.4,18.4267,34.9408,2,34.9573,2,-999,9,-999,9,2,2,0,2,0,2,0.08,2,0.2,2,2.72,2
318M200406,P02,121,2,8,8,2,20040807,2257,29.9983,-158.3101,5780,100.1,17.534,34.8461,2,34.8618,2,-999,9,-999,9,2.4,2,0.21,2,0.13,2,0.13,2,0.23,2,2.6,2
318M200406,P02,121,2,15,15,2,20040807,2256,29.9981,-158.3099,5809,125.6,16.2896,34.6495,2,34.645,2,-999,9,-999,9,3.55,2,2.83,2,0.04,2,0.28,2,0.27,4,2.86,4
318M200406,P02,121,2,14,14,2,20040807,2255,29.998,-158.3097,5783,150.9,14.8593,34.499,2,34.5039,2,-999,9,-999,9,5.66,2,6.09,2,0.01,2,0.48,2,0.3,4,3.9,4
318M200406,P02,121,2,5,5,2,20040807,2253,29.9978,-158.3095,5785,199.6,13.8322,34.4165,2,34.4214,2,-999,9,-999,9,5.28,2,4.32,2,0.01,2,0.38,2,0.25,2,2.36,2
318M200406,P02,121,2,4,4,2,20040807,2251,29.9978,-158.3095,5784,251.2,12.879,34.3438,2,34.3509,2,-999,9,-999,9,7.58,2,7.05,2,0,2,0.55,2,0.27,2,2.58,2
318M200406,P02,121,2,3,3,2,20040807,2245,29.9981,-158.3101,5814,503,8.369,34.0777,2,34.0806,2,-999,9,-999,9,33.39,2,22.73,2,0,2,1.6,2,0.42,2,2.41,2
318M200406,P02,121,2,2,2,2,20040807,2240,29.9975,-158.3094,5785,704.9,4.9625,34.0411,2,34.0433,2,-999,9,-999,9,78.95,2,36.99,2,0,2,2.65,2,0.57,2,1.73,2
318M200406,P02,121,2,1,1,2,20040807,2233,29.9976,-158.3093,5786,1008.3,3.5626,34.3177,2,34.3246,2,-999,9,-999,9,125.87,2,44.13,2,0,2,3.19,2,0.63,2,1.56,2
318M200406,P02,123,2,12,12,2,20040808,1503,29.9927,-156.9192,5799,15.3,24.5393,35.2879,2,35.2627,2,-999,9,-999,9,1.53,2,0.06,2,0,2,0.03,2,0.27,2,3.86,2
318M200406,P02,123,2,11,11,2,20040808,1502,29.9927,-156.9193,5799,38.8,21.1,35.0115,2,34.8489,2,-999,9,-999,9,2.46,2,0.06,2,0,2,0.06,2,0.23,2,2.82,2
318M200406,P02,123,2,10,10,2,20040808,1500,29.9927,-156.9194,5799,65.9,17.1537,34.5754,2,34.6005,2,-999,9,-999,9,2.64,2,0.06,2,0,2,0.09,2,0.23,2,2.03,2
318M200406,P02,123,2,9,9,2,20040808,1459,29.9927,-156.9195,5799,84.8,16.0688,34.5837,2,34.5875,2,-999,9,-999,9,2.82,2,0.05,2,0.01,2,0.11,2,0.21,2,2.04,2
318M200406,P02,123,2,8,8,2,20040808,1458,29.9927,-156.9195,5799,105.7,15.1657,34.4945,2,34.4988,2,-999,9,-999,9,3.56,2,2.18,2,0.06,2,0.25,2,0.21,2,2.2,2
318M200406,P02,123,2,15,15,2,20040808,1457,29.9927,-156.9196,5798,135.3,14.1647,34.4087,2,34.4156,2,-999,9,-999,9,5.64,2,5.59,2,0.02,2,0.47,2,0.26,3,2.54,2
318M200406,P02,123,2,14,14,2,20040808,1455,29.9927,-156.9197,5798,185.3,13.2631,34.3661,2,34.3697,2,-999,9,-999,9,6.57,2,6.36,2,0.01,2,0.52,2,0.26,2,3.24,3
318M200406,P02,123,2,5,5,2,20040808,1453,29.9926,-156.9198,5798,236.8,12.2625,34.2905,2,34.3117,2,-999,9,-999,9,9.59,2,9.57,2,0.01,2,0.71,2,0.28,2,2.76,2
318M200406,P02,123,2,4,4,2,20040808,1451,29.9926,-156.9199,5798,285.4,11.5485,34.2528,2,34.2605,2,-999,9,-999,9,12.23,2,11.45,2,0.01,2,0.83,2,0.31,2,2.83,2
318M200406,P02,123,2,3,3,2,20040808,1446,29.9925,-156.9201,5798,472.5,8.2295,34.0643,2,34.0759,2,-999,9,-999,9,33.38,2,23.27,2,0.01,2,1.62,2,0.44,2,2.1,2
318M200406,P02,123,2,2,2,2,20040808,1442,29.9926,-156.9202,5798,674.6,5.0517,34.0302,2,34.0363,2,-999,9,-999,9,76.83,2,37.39,2,0.01,2,2.65,2,0.58,2,1.72,2
318M200406,P02,123,2,1,1,2,20040808,1433,29.9929,-156.9205,5798,978.5,3.6022,34.3249,2,34.3344,2,-999,9,-999,9,124.32,2,44.41,2,0.01,2,3.19,2,0.71,2,1.61,2
318M200406,P02,125,1,12,12,2,20040809,347,30.002,-155.5299,5618,16.6,24.589,35.3779,2,35.3031,2,-999,9,-999,9,1.4,2,0.06,2,0,2,0.03,2,0.27,2,4.33,2
318M200406,P02,125,1,11,11,2,20040809,347,30.002,-155.53,5613,32.9,21.6852,35.1913,2,35.1928,2,-999,9,-999,9,1.39,2,0.06,2,0,2,0.03,2,0.19,2,3.28,2
318M200406,P02,125,1,10,10,2,20040809,346,30.002,-155.5301,5617,48.8,20.4803,35.0991,2,35.055,2,-999,9,-999,9,1.77,2,0.06,2,0,2,0.04,2,0.2,2,3.08,2
318M200406,P02,125,1,9,9,2,20040809,345,30.002,-155.5301,5616,69.6,19.136,34.9382,2,34.9423,2,-999,9,-999,9,1.95,2,0,2,0,2,0.05,2,0.2,2,2.71,2
318M200406,P02,125,1,8,8,2,20040809,344,30.002,-155.5302,5616,88.9,18.4263,34.9331,2,34.918,2,-999,9,-999,9,2.13,2,0,2,0,2,0.07,2,0.21,2,2.57,2
318M200406,P02,125,1,15,15,2,20040809,343,30.0019,-155.5303,5615,119.1,17.1475,34.748,2,34.7586,2,-999,9,-999,9,2.69,2,0.92,2,0.19,2,0.18,2,0.32,4,3.26,4
318M200406,P02,125,1,14,14,2,20040809,342,30.0019,-155.5304,5613,170.3,14.7445,34.482,2,34.4737,2,-999,9,-999,9,5.71,2,6.4,2,0.01,2,0.5,2,0.27,2,3.93,3
318M200406,P02,125,1,5,5,2,20040809,341,30.0019,-155.5306,5613,220.7,13.0019,34.2661,2,34.2852,2,-999,9,-999,9,7.41,2,7.99,2,0.01,2,0.62,2,0.29,2,2.8,2
318M200406,P02,125,1,4,4,2,20040809,339,30.0019,-155.5308,5612,271.1,12.1791,34.267,2,34.277,2,-999,9,-999,9,10.06,2,10.24,2,0.01,2,0.75,2,0.33,2,2.9,2
318M200406,P02,125,1,3,3,2,20040809,335,30.0018,-155.5314,5611,442.2,9.0677,34.1102,2,34.1193,2,-999,9,-999,9,25.25,2,19.21,2,0,2,1.36,2,0.4,2,2.55,2
318M200406,P02,125,1,2,2,2,20040809,329,30.0018,-155.5323,5611,642.6,5.3329,34.0049,2,34.0118,2,-999,9,-999,9,70.49,2,35.16,2,0,2,2.54,2,0.53,2,1.78,2
318M200406,P02,125,1,1,1,2,20040809,322,30.0016,-155.534,5647,946.6,3.7642,34.2846,2,34.2894,2,-999,9,-999,9,118.6,2,43.61,2,0,2,3.18,2,0.64,2,1.82,2
318M200406,P02,127,1,12,12,2,20040809,2029,30.0005,-154.1438,5454,16.9,24.9645,35.4267,2,35.4052,2,-999,9,-999,9,1.34,2,0.17,2,0,2,0.02,2,0.22,2,4.62,2
318M200406,P02,127,1,11,11,2,20040809,2028,30.0004,-154.1439,5453,38.8,22.236,35.2341,2,35.2117,2,-999,9,-999,9,1.54,2,0.17,2,0,2,0.02,2,0.17,2,3.36,2
318M200406,P02,127,1,10,10,2,20040809,2027,30.0003,-154.144,5455,60.8,20.4453,35.1037,2,35.1154,2,-999,9,-999,9,1.74,2,0.17,2,0,2,0.03,2,0.16,2,3.08,2
318M200406,P02,127,1,9,9,2,20040809,2026,30.0002,-154.1441,5454,79.5,19.4994,35.0297,2,35.0463,2,-999,9,-999,9,1.94,2,0.07,2,0,2,0.05,2,0.16,2,2.78,2
318M200406,P02,127,1,8,8,2,20040809,2025,30.0001,-154.1442,5453,100,18.4648,34.8904,2,34.9127,2,-999,9,-999,9,2.33,2,0,2,0,2,0.07,2,0.19,2,2.5,2
318M200406,P02,127,1,15,15,2,20040809,2024,30,-154.1443,5453,124.6,17.1158,34.6915,2,34.697,2,-999,9,-999,9,2.92,2,0.11,2,0.06,2,0.11,2,0.2,3,2.15,2
318M200406,P02,127,1,14,14,2,20040809,2023,30,-154.1444,5454,151.9,15.9448,34.5452,2,34.5406,2,-999,9,-999,9,4.11,2,2.91,2,0.04,2,0.29,2,0.19,2,2.96,3
318M200406,P02,127,1,5,5,2,20040809,2022,29.9998,-154.1446,5454,201.7,13.937,34.3928,2,34.3946,2,-999,9,-999,9,7.28,2,7.39,2,0.01,2,0.56,2,0.23,2,2.59,2
318M200406,P02,127,1,4,4,2,20040809,2020,29.9997,-154.1447,5454,252.2,12.7951,34.3223,2,34.3312,2,-999,9,-999,9,9.46,2,9.34,2,0.01,2,0.69,2,0.28,2,2.77,2
318M200406,P02,127,1,3,3,2,20040809,2013,29.9995,-154.1459,5373,503.9,7.747,34.0468,2,34.0522,2,-999,9,-999,9,38.92,2,25.01,2,0,2,1.78,2,0.37,2,1.85,2
318M200406,P02,127,1,2,2,2,20040809,2007,30.0001,-154.1472,5362,704.3,4.7635,34.0634,2,34.0692,2,-999,9,-999,9,85.15,2,38.7,2,0,2,2.8,2,0.48,2,1.36,2
318M200406,P02,127,1,1,1,2,20040809,2000,30.0004,-154.1487,5379,1008.5,3.5208,34.3589,2,34.3632,2,-999,9,-999,9,128.65,2,44.14,2,0,2,3.23,2,0.56,2,1.28,2
318M200406,P02,129,2,12,12,2,20040810,2022,29.9959,-152.6535,5313,17.4,25.0588,35.3996,2,35.3942,2,-999,9,-999,9,1.27,2,0.16,2,0,2,0.02,2,0.23,2,4.16,2
318M200406,P02,129,2,11,11,2,20040810,2021,29.9959,-152.6534,5313,38.1,24.523,35.3789,2,35.2439,2,-999,9,-999,9,1.65,2,0.15,2,0,2,0.02,2,0.21,2,3.69,2
318M200406,P02,129,2,10,10,2,20040810,2020,29.9959,-152.6533,5314,63.4,19.2408,34.8436,2,34.8429,2,-999,9,-999,9,2.44,2,0.15,2,0,2,0.05,2,0.16,2,2.44,2
318M200406,P02,129,2,9,9,2,20040810,2019,29.9959,-152.6532,5314,82.9,18.0842,34.7668,2,34.7619,2,-999,9,-999,9,2.62,2,0.1,2,0,2,0.07,2,0.16,2,2.24,2
318M200406,P02,129,2,8,8,2,20040810,2019,29.996,-152.6531,5314,103.9,16.7878,34.6037,2,34.6287,2,-999,9,-999,9,3,2,0.23,2,0.02,2,0.11,2,0.18,2,1.95,2
318M200406,P02,129,2,15,15,2,20040810,2018,29.996,-152.653,5313,133.2,15.8841,34.555,2,34.5682,2,-999,9,-999,9,3.98,2,2.88,2,0.2,2,0.28,2,0.25,3,2.45,3
318M200406,P02,129,2,14,14,2,20040810,2016,29.996,-152.6529,5314,185.6,13.7254,34.3606,2,34.3713,2,-999,9,-999,9,5.94,2,5.69,2,0.02,2,0.45,2,0.26,3,2.58,3
318M200406,P02,129,2,5,5,2,20040810,2015,29.996,-152.6528,5313,235.2,12.7664,34.3009,2,34.3095,2,-999,9,-999,9,8.48,2,8.28,2,0.02,2,0.62,2,0.21,2,2.32,2
318M200406,P02,129,2,4,4,2,20040810,2014,29.996,-152.6527,5313,286.9,11.8328,34.2522,2,34.2657,2,-999,9,-999,9,11.42,2,11.08,2,0.02,2,0.78,2,0.26,2,2.53,2
318M200406,P02,129,2,3,3,2,20040810,2008,29.9961,-152.6522,5314,472,8.4673,34.0681,2,34.0748,2,-999,9,-999,9,32.11,2,22.41,2,0.02,2,1.55,2,0.36,2,2,2
318M200406,P02,129,2,2,2,2,20040810,2000,29.9966,-152.652,5314,673,4.9252,34.0325,2,34.0427,2,-999,9,-999,9,80.84,2,38.39,2,0.02,2,2.71,2,0.5,2,1.34,2
318M200406,P02,129,2,1,1,2,20040810,1953,29.9974,-152.6516,5313,974.8,3.6912,34.3342,2,34.3423,2,-999,9,-999,9,123.89,2,44.81,2,0.02,2,3.22,2,0.66,2,1.22,2
318M200406,P02,131,1,12,12,2,20040811,806,29.9986,-151.1537,5622,16.6,24.559,35.1663,2,35.2239,2,-999,9,-999,9,1.25,2,0.12,2,0,2,0.02,2,0.25,2,4.78,2
318M200406,P02,131,1,11,11,2,20040811,806,29.9986,-151.1536,5622,33.8,24.5298,35.2282,2,35.2339,2,-999,9,-999,9,1.46,2,0.12,2,0,2,0.02,2,0.22,2,5.01,2
318M200406,P02,131,1,10,10,2,20040811,805,29.9986,-151.1536,5622,49.9,21.2958,35.0168,2,35.0207,2,-999,9,-999,9,2.05,2,0.12,2,0,2,0.03,2,0.15,2,2.86,2
318M200406,P02,131,1,9,9,2,20040811,804,29.9985,-151.1537,5622,69.4,19.6649,34.9543,2,34.952,2,-999,9,-999,9,2.26,2,0.17,2,0,2,0.05,2,0.16,2,2.71,2
318M200406,P02,131,1,8,8,2,20040811,802,29.9985,-151.1537,5622,90.5,18.0488,34.7391,2,34.7492,2,-999,9,-999,9,2.87,2,0.17,2,0,2,0.08,2,0.15,2,2,2
318M200406,P02,131,1,15,15,2,20040811,801,29.9985,-151.1538,5622,120.8,16.4611,34.5523,2,34.5258,2,-999,9,-999,9,3.27,2,0.16,2,0.01,2,0.12,2,0.21,3,2.02,2
318M200406,P02,131,1,14,14,2,20040811,759,29.9985,-151.154,5622,170.5,14.0151,34.3435,2,34.3492,2,-999,9,-999,9,6.01,2,5.68,2,0.02,2,0.46,2,0.18,2,2.39,2
318M200406,P02,131,1,5,5,2,20040811,757,29.9986,-151.1543,5622,220.4,12.546,34.2196,2,34.2285,2,-999,9,-999,9,8.56,2,8.7,2,0.01,2,0.66,2,0.21,2,2.49,2
318M200406,P02,131,1,4,4,2,20040811,755,29.9985,-151.1544,5623,271.2,11.7256,34.2125,2,34.2211,2,-999,9,-999,9,11.5,2,11.31,2,0.01,2,0.81,2,0.23,2,2.29,2
318M200406,P02,131,1,3,3,2,20040811,751,29.9982,-151.1543,5622,443,8.8117,34.0821,2,34.0932,2,-999,9,-999,9,28.74,2,20.92,2,0.01,2,1.46,2,0.3,2,1.88,2
318M200406,P02,131,1,2,2,2,20040811,745,29.9979,-151.1545,5641,644.3,5.0948,34.0237,2,34.0327,2,-999,9,-999,9,76.52,2,37.95,2,0.01,2,2.67,2,0.45,2,1.33,2
318M200406,P02,131,1,1,1,2,20040811,737,29.9978,-151.155,5622,946.6,3.7782,34.3303,2,34.3366,2,-999,9,-999,9,120.66,2,44.7,2,0.01,2,3.19,2,0.56,2,1.49,2
318M200406,P02,133,1,12,12,2,20040812,35,30.0008,-149.6553,5691,15.1,24.1815,34.9236,2,34.854,2,-999,9,-999,9,1.84,2,0.16,2,0,2,0.02,2,0.18,2,2.73,2
318M200406,P02,133,1,11,11,2,20040812,33,30.0008,-149.6552,5691,39.6,19.8835,34.5474,2,34.5545,2,-999,9,-999,9,2.22,2,0.1,2,0,2,0.02,2,0.16,2,2.21,2
318M200406,P02,133,1,10,10,2,20040812,33,30.0007,-149.6551,5692,58.9,18.2016,34.4838,2,34.4701,2,-999,9,-999,9,2.6,2,0.1,2,0,2,0.05,2,0.15,2,2.18,2
318M200406,P02,133,1,9,9,2,20040812,32,30.0007,-149.655,5692,78.9,16.6361,34.3526,2,34.367,2,-999,9,-999,9,2.8,2,0.1,2,0,2,0.09,2,0.15,2,1.67,2
318M200406,P02,133,1,8,8,2,20040812,31,30.0007,-149.6548,5692,100.1,15.6146,34.2802,2,34.2911,2,-999,9,-999,9,3.18,2,0.14,2,0.01,2,0.14,2,0.16,2,1.51,2
318M200406,P02,133,1,15,15,2,20040812,30,30.0006,-149.6547,5701,124.7,14.426,34.2021,2,34.2111,2,-999,9,-999,9,4.33,2,2.94,2,0.15,2,0.34,2,0.17,2,1.69,2
318M200406,P02,133,1,14,14,2,20040812,29,30.0006,-149.6546,5699,150.3,12.8532,34.0527,2,34.0548,2,-999,9,-999,9,6.66,2,7,2,0.01,2,0.59,2,0.19,2,1.91,2
318M200406,P02,133,1,5,5,2,20040812,28,30.0005,-149.6545,5698,201.5,11.3134,34.0353,2,34.028,2,-999,9,-999,9,10.55,2,10.94,2,0.01,2,0.82,2,0.22,2,1.84,2
318M200406,P02,133,1,4,4,2,20040812,26,30.0004,-149.6543,5697,251.8,10.3594,34.0602,2,34.0834,2,-999,9,-999,9,14.83,2,13.93,2,0,2,1.01,2,0.27,2,1.92,2
318M200406,P02,133,1,3,3,2,20040812,20,30.0002,-149.6539,5686,504.3,6.2359,33.9885,2,33.9969,2,-999,9,-999,9,55.18,2,31.85,2,0,2,2.25,2,0.41,2,1.53,2
318M200406,P02,133,1,2,2,2,20040812,14,30.0001,-149.6543,5695,704.1,4.3825,34.1352,2,34.1438,2,-999,9,-999,9,97.95,2,42.75,2,0,2,3.02,2,0.57,3,1.69,2
318M200406,P02,133,1,1,1,2,20040812,6,30,-149.6555,5726,1008.6,3.5426,34.4021,2,34.4088,2,-999,9,-999,9,127.7,2,44.81,2,0,2,3.2,2,0.55,2,1.37,2
318M200406,P02,135,2,12,12,2,20040812,2010,29.9988,-148.1531,4926,15.8,24.9209,35.1469,2,35.1128,2,-999,9,-999,9,1.32,2,0,2,0,2,0.02,2,0.23,2,4.86,2
318M200406,P02,135,2,11,11,2,20040812,2009,29.9988,-148.1531,4926,38.8,22.8601,34.908,2,34.6889,2,-999,9,-999,9,2.29,2,0,2,0,2,0.02,2,0.17,2,2.92,2
318M200406,P02,135,2,10,10,2,20040812,2008,29.9987,-148.1532,4801,64.8,18.2035,34.4738,2,34.4873,2,-999,9,-999,9,2.68,2,0,2,0,2,0.06,2,0.13,2,1.91,2
318M200406,P02,135,2,9,9,2,20040812,2007,29.9987,-148.1533,4808,84.7,17.1112,34.4269,2,34.4332,2,-999,9,-999,9,2.88,2,0.05,2,0,2,0.08,2,0.14,2,1.74,2
318M200406,P02,135,2,8,8,2,20040812,2006,29.9987,-148.1534,4808,104.3,15.9672,34.3191,2,34.3258,2,-999,9,-999,9,3.06,2,0.25,2,0.05,2,0.15,2,0.16,2,1.44,2
318M200406,P02,135,2,15,15,2,20040812,2005,29.9986,-148.1534,4799,135.8,14.3511,34.2058,2,34.2152,2,-999,9,-999,9,4.81,2,3.89,2,0.04,2,0.38,2,0.31,3,2.03,2
318M200406,P02,135,2,14,14,2,20040812,2004,29.9986,-148.1535,4799,184.8,12.7657,34.1592,2,34.1707,2,-999,9,-999,9,7.54,2,7.5,2,0.02,2,0.59,2,0.27,2,2.59,3
318M200406,P02,135,2,5,5,2,20040812,2002,29.9985,-148.1535,4799,235.1,11.6833,34.1298,2,34.1689,2,-999,9,-999,9,10.07,2,10.03,2,0.02,2,0.74,2,0.29,2,1.92,2
318M200406,P02,135,2,4,4,2,20040812,2001,29.9984,-148.1535,4807,285.8,10.8544,34.1324,2,34.1417,2,-999,9,-999,9,14.16,2,13.03,2,0.02,2,0.94,2,0.32,2,2.03,2
318M200406,P02,135,2,3,3,2,20040812,1956,29.9985,-148.1534,4807,472,7.516,34.0319,2,34.0398,2,-999,9,-999,9,40.96,2,26.28,2,0.02,2,1.86,2,0.47,2,1.62,2
318M200406,P02,135,2,2,2,2,20040812,1951,29.9988,-148.153,4799,674.5,4.7511,34.0803,2,34.0862,2,-999,9,-999,9,86.98,2,39.63,2,0.02,2,2.85,2,0.69,2,1.22,2
318M200406,P02,135,2,1,1,2,20040812,1942,29.9993,-148.1517,4916,977.9,3.6514,34.3698,2,34.3762,2,-999,9,-999,9,124.1,2,43.88,2,0.02,2,3.19,2,0.74,2,1.23,2
318M200406,P02,137,1,12,12,2,20040813,723,29.9966,-146.6509,5000,15.8,24.056,35.0557,2,35.0401,2,-999,9,-999,9,1.12,2,0.21,2,0,2,0.02,2,0.22,2,3.13,2
318M200406,P02,137,1,11,11,2,20040813,722,29.9967,-146.6509,5000,33.4,23.4466,35.0507,2,35.0335,2,-999,9,-999,9,1.12,2,0.16,2,0,2,0.01,2,0.2,2,3.13,2
318M200406,P02,137,1,10,10,2,20040813,721,29.9968,-146.6508,5000,49,21.1195,34.8456,2,34.874,2,-999,9,-999,9,1.51,2,0.15,2,0,2,0.01,2,0.22,3,2.65,2
318M200406,P02,137,1,9,9,2,20040813,721,29.9968,-146.6507,5000,69.4,19.8366,34.847,2,34.8478,2,-999,9,-999,9,1.7,2,0.15,2,0,2,0.03,2,0.14,2,2.57,2
318M200406,P02,137,1,8,8,2,20040813,719,29.9969,-146.6507,4999,91.2,18.9089,34.7371,2,34.7322,2,-999,9,-999,9,1.9,2,0.2,2,0,2,0.06,2,0.16,2,2.32,2
318M200406,P02,137,1,15,15,2,20040813,718,29.997,-146.6506,4999,120,17.6062,34.5807,2,34.5889,2,-999,9,-999,9,2.29,2,0.15,2,0,2,0.09,2,0.16,2,2.02,2
318M200406,P02,137,1,14,14,2,20040813,717,29.9971,-146.6505,4998,170.4,13.7949,34.0699,2,34.0743,2,-999,9,-999,9,4.8,2,4.73,2,0.01,2,0.45,2,0.18,2,1.95,2
318M200406,P02,137,1,5,5,2,20040813,715,29.9972,-146.6503,4997,220.7,11.8952,34.0004,2,34.0073,2,-999,9,-999,9,8.31,2,8.83,2,0.01,2,0.69,2,0.21,2,1.46,2
318M200406,P02,137,1,4,4,2,20040813,714,29.9973,-146.6501,4997,270.9,10.7172,34.0529,2,34.051,2,-999,9,-999,9,13.17,2,13,2,0.01,2,0.95,2,0.3,2,1.64,2
318M200406,P02,137,1,3,3,2,20040813,709,29.9974,-146.6497,5022,441.3,7.6191,34.023,2,34.03,2,-999,9,-999,9,39.14,2,26.53,2,0.01,2,1.86,2,0.46,2,1.36,2
318M200406,P02,137,1,2,2,2,20040813,704,29.9978,-146.6493,4949,644.9,4.877,34.0956,2,34.1009,2,-999,9,-999,9,84.87,2,40.57,2,0.01,2,2.92,2,0.69,2,1.14,2
318M200406,P02,137,1,1,1,2,20040813,656,29.9982,-146.6486,4986,947.1,3.8145,34.3744,2,34.3816,2,-999,9,-999,9,119.93,2,44.43,2,0.01,2,3.21,2,0.76,2,1.2,2
318M200406,P02,139,1,12,12,2,20040813,2249,29.9995,-145.1423,5217,16.6,24.4987,35.1663,2,35.1309,2,-999,9,-999,9,1.57,2,0.14,2,0,2,0.02,2,0.21,2,3.53,2
318M200406,P02,139,1,11,11,2,20040813,2248,29.9995,-145.1425,5218,40,23.5727,35.0999,2,34.9431,2,-999,9,-999,9,1.57,2,0.09,2,0,2,0.02,2,0.18,2,2.89,2
318M200406,P02,139,1,10,10,2,20040813,2247,29.9995,-145.1427,5217,59.6,19.9256,34.6665,2,34.6861,2,-999,9,-999,9,1.74,2,0.08,2,0,2,0.04,2,0.15,2,2.36,2
318M200406,P02,139,1,9,9,2,20040813,2246,29.9995,-145.1429,5218,78.8,19.0401,34.6976,2,34.7,2,-999,9,-999,9,1.93,2,0.08,2,0,2,0.04,2,0.16,2,2.24,2
318M200406,P02,139,1,8,8,2,20040813,2245,29.9995,-145.143,5218,100,17.7046,34.5326,2,34.5488,2,-999,9,-999,9,2.3,2,0.08,2,0,2,0.11,2,0.18,2,1.92,2
318M200406,P02,139,1,15,15,2,20040813,2244,29.9996,-145.1432,5218,124.5,16.4338,34.4,2,34.4084,2,-999,9,-999,9,2.67,2,0.54,2,0.1,2,0.16,2,0.19,2,1.97,2
318M200406,P02,139,1,14,14,2,20040813,2243,29.9996,-145.1434,5218,150.8,14.9434,34.2215,2,34.213,2,-999,9,-999,9,4.01,2,3,2,0.02,2,0.32,2,0.24,3,2.99,3
318M200406,P02,139,1,5,5,2,20040813,2241,29.9996,-145.1437,5218,200.4,11.891,33.9494,2,34.0199,2,-999,9,-999,9,6.52,2,6.74,2,0.01,2,0.56,2,0.22,2,1.7,2
318M200406,P02,139,1,4,4,2,20040813,2239,29.9996,-145.144,5219,250.3,10.8252,34.0353,2,34.0466,2,-999,9,-999,9,12.52,2,12.36,2,0,2,0.89,2,0.26,2,1.74,2
318M200406,P02,139,1,3,3,2,20040813,2232,29.9997,-145.1451,5220,503.4,6.3282,33.9932,2,34.004,2,-999,9,-999,9,54.83,2,32.21,2,0,2,2.27,2,0.46,2,1.4,2
318M200406,P02,139,1,2,2,2,20040813,2226,29.9997,-145.1462,5222,704.5,4.4329,34.158,2,34.169,2,-999,9,-999,9,98.23,2,42.38,2,0,2,3.05,2,0.55,2,1.15,2
318M200406,P02,139,1,1,1,2,20040813,2219,29.9997,-145.148,5223,1007.9,3.6052,34.416,2,34.4248,2,-999,9,-999,9,125.49,2,43.91,2,0,2,3.17,2,0.57,2,1.24,2