BOTTLE,20201022CCHSIOLMM
#BOTTLE,20040824STSSIOODF
#
# Please cite data downloaded from CCHDO as: 
# [Data providers of the parameter(s) used]. [Year of file access]. [CTD/Bottle] data from cruise [expocode], [format version used]. Accessed from CCHDO [url of cruise data page]. Access date [date of download]. [Applicable CCHDO cruise DOI if provided].
#
# For example: Swift, J. and Becker, S. 2019. CTD data from Cruise I09N, exchange version. Accessed from CCHDO https://cchdo.ucsd.edu/cruise/33RR20160321. Access date 2019-08-21. CCHDO cruise DOI: 10.7942/C2008W
#
# Information on the scientists who provided the different parameters can be found
# in the cruise report. Additionally, for US GO-SHIP cruises, this information is
# usually in the comments section in the text headers of the Exchange bottle files.
#
# Users are also encouraged to acknowledge the funding program that supported the
# data collection in their publication. For US GO-SHIP data this is the
# NSF/NOAA funded U.S Repeat Hydrography Program.
#
# Modifications to Original file
#
# The parameter name AL was changed to ALUM
#
# In the first row, a character of <0x19> was replaced with -999
# 
# The first row is listed below and was removed from the data section
# due to empty latitude and longitude values along with empty values for
# many parameters.
# 318M200406,P02,2,2,-999,-999,9,-999,-999,-999,-999,-999,-999,-999,-999,9,-999,9,-999,9,-999,9,-999,9,-999,9,-999,9,-999,9,-999,9,-999,9
#
# Any nan cells were replaced with -999 and a corresponding flag of 1.
# nan cells were found for STNNBR = 68 for the following columns:
# SALNTY, SILCAT, NITRAT, NITRIT, PHSPHT
#
# Changed units of Pressure from DBARS to DBAR
#
# For data citation, please use the data providers listed below. 
#
#|  PARAMETER/PROGRAM     NAME                    EMAIL ADDRESS 
#|  -----------------     ----                    -------------- 
#|  Chief Scientists
#|        Leg 1           Paul Robbins-SIO        probbins@ucsd.edu 
#|                        Andreas Thurnherr-LDEO  ant@ldeo.columbia.edu 
#|  
#|        Leg 2           Jim Swift-SIO           jswift@ucsd.edu
#|                        Dong-Ha Min             dmin@geosc.psu.edu
#|
#|  Trace elements        Chris Measures-SOEST    chrism@soest.hawaii.edu
#|                        Bill Landing-FSU        landing@ocean.fsu.edu
#
EXPOCODE,SECT_ID,STNNBR,CASTNO,SAMPNO,BTLNBR,BTLNBR_FLAG_W,DATE,TIME,LATITUDE,LONGITUDE,DEPTH,CTDPRS,CTDTMP,CTDSAL,CTDSAL_FLAG_W,SALNTY,SALNTY_FLAG_W,CTDOXY,CTDOXY_FLAG_W,OXYGEN,OXYGEN_FLAG_W,SILCAT,SILCAT_FLAG_W,NITRAT,NITRAT_FLAG_W,NITRIT,NITRIT_FLAG_W,PHSPHT,PHSPHT_FLAG_W,FE,FE_FLAG_W,ALUM,ALUM_FLAG_W
,,,,,,,,,,,,DBAR,ITS-90,PSS-78,,PSS-78,,UMOL/KG,,UMOL/KG,,UMOL/KG,,UMOL/KG,,UMOL/KG,,UMOL/KG,,NMOL/L,,NMOL/L,
318M200406,P02,4,2,12,12,2,20040616,2333,32.7487,133.1123,145,15.1,24.4007,34.5204,2,34.5334,2,-999,9,-999,9,1.25,2,0.08,2,0,2,0.07,2,1.09,2,9.63,2
318M200406,P02,4,2,11,11,2,20040616,2332,32.7488,133.1122,141,38.6,23.8746,34.5564,2,34.5542,2,-999,9,-999,9,1.25,2,0.08,2,0,2,0.05,2,0.86,2,8.26,2
318M200406,P02,4,2,10,10,2,20040616,2330,32.7489,133.1122,144,61,21.7103,34.6652,2,34.6722,2,-999,9,-999,9,2.88,2,1.13,2,0.11,2,0.16,2,0.67,2,8.04,2
318M200406,P02,4,2,9,9,2,20040616,2329,32.749,133.1122,285,80.1,20.466,34.6903,2,34.7033,2,-999,9,-999,9,3.79,2,2.69,2,0.17,2,0.25,2,0.83,2,8.5,2
318M200406,P02,4,2,8,8,2,20040616,2328,32.7491,133.1122,140,100.2,19.4262,34.6616,2,34.6686,2,-999,9,-999,9,5.61,2,4.53,2,0.06,2,0.37,2,1.03,2,9.97,2
318M200406,P02,4,2,7,7,2,20040616,2326,32.7492,133.1124,144,125.6,18.0423,34.6721,2,34.6761,2,-999,9,-999,9,6.7,2,5.46,2,0.04,2,0.43,2,1.06,2,9.11,2
318M200406,P02,4,2,6,6,2,20040616,2325,32.7491,133.1124,0,150.9,16.0474,34.6325,2,34.6288,2,-999,9,-999,9,11.42,2,9.31,2,0.01,2,0.68,2,1.09,2,9.57,2
318M200406,P02,4,2,13,13,2,20040616,2323,32.749,133.1125,140,201.5,14.3596,34.5494,2,34.5507,2,-999,9,-999,9,17.24,2,12.63,2,0,2,0.92,2,1.07,2,8.17,2
318M200406,P02,4,2,4,4,2,20040616,2321,32.7489,133.1126,144,251.1,11.7643,34.4206,2,34.421,2,-999,9,-999,9,29.46,2,18.27,2,0,2,1.32,2,1.16,2,5.76,2
318M200406,P02,4,2,3,3,2,20040616,2314,32.7483,133.1132,290,503.4,6.2168,34.2649,2,34.2609,2,-999,9,-999,9,77.17,2,33.17,2,0,2,2.41,2,1.19,2,3.35,2
318M200406,P02,4,2,2,2,2,20040616,2306,32.7483,133.1146,141,704.9,4.074,34.3691,2,34.371,2,-999,9,-999,9,112.71,2,38.66,2,0,2,2.81,2,1.43,2,2.6,2
318M200406,P02,4,2,1,1,2,20040616,2246,32.7592,133.1774,200,1007.5,3.3028,34.4422,2,34.4422,2,-999,9,-999,9,127.95,2,39.84,2,0,2,2.87,2,1.26,2,2.82,2
318M200406,P02,6,1,12,12,2,20040617,505,32.413,133.2927,958,19.5,23.1533,34.4183,2,34.6853,4,-999,9,-999,9,0.98,2,0.08,2,0,2,0.07,2,0.69,2,5.74,2
318M200406,P02,6,1,11,11,2,20040617,503,32.413,133.2929,958,39.7,22.2362,34.4873,2,34.5284,2,-999,9,-999,9,1.71,2,0.17,2,0.01,2,0.09,2,0.62,2,7.03,2
318M200406,P02,6,1,10,10,2,20040617,501,32.4129,133.2931,958,63.9,18.9291,34.7111,2,34.7166,2,-999,9,-999,9,4.79,2,3.76,2,0.11,2,0.33,2,0.61,2,5.7,2
318M200406,P02,6,1,9,9,2,20040617,459,32.4129,133.2932,958,84.3,18.2562,34.7015,2,34.7072,2,-999,9,-999,9,5.88,2,4.96,2,0.04,2,0.42,2,0.8,2,7.93,2
318M200406,P02,6,1,8,8,2,20040617,458,32.4129,133.2932,958,105.1,17.4575,34.6789,2,34.4284,4,-999,9,-999,9,7.52,2,6.44,2,0.02,2,0.51,2,0.82,2,10.21,2
318M200406,P02,6,1,7,7,2,20040617,457,32.413,133.2932,958,136.3,16.798,34.6672,2,34.6694,2,-999,9,-999,9,9.15,2,7.87,2,0.01,2,0.61,2,0.83,2,9.47,2
318M200406,P02,6,1,6,6,2,20040617,455,32.413,133.2932,958,185.3,14.491,34.5572,2,34.559,2,-999,9,-999,9,16.38,2,12.37,2,0,2,0.92,2,0.87,2,7.14,2
318M200406,P02,6,1,13,13,2,20040617,453,32.4131,133.2931,958,235.2,12.8597,34.4745,2,34.482,2,-999,9,-999,9,24.36,2,15.99,2,0,2,1.16,2,1.06,2,6.71,2
318M200406,P02,6,1,4,4,2,20040617,450,32.4141,133.2928,954,287.9,11.6129,34.4177,2,34.4216,2,-999,9,-999,9,30.72,2,18.83,2,0,2,1.38,2,1.05,2,6.02,2
318M200406,P02,6,1,3,3,9,20040617,443,32.4326,133.2832,939,473.4,6.1233,34.2717,2,-999,9,-999,9,-999,9,-999,9,-999,9,-999,9,-999,9,-999,9,-999,9
318M200406,P02,6,1,2,2,2,20040617,435,32.4532,133.2721,922,674.9,4.4116,34.3273,2,34.3372,2,-999,9,-999,9,105.22,2,38.31,2,0,2,2.79,2,1.19,2,2.81,2
318M200406,P02,6,1,1,1,2,20040617,417,32.5035,133.2453,793,976.1,3.2148,34.4399,2,34.4438,2,-999,9,-999,9,129.82,2,40.3,2,0,2,2.89,2,1.15,2,2.69,2
318M200406,P02,8,2,12,12,2,20040617,1905,32.0031,133.5176,2274,15.2,23.7858,34.426,2,34.4247,2,-999,9,-999,9,1.23,2,0.13,2,0,2,0.08,2,0.67,2,6.84,2
318M200406,P02,8,2,11,11,2,20040617,1903,32.003,133.5174,2270,38.4,23.01,34.483,2,34.4873,2,-999,9,-999,9,1.44,2,0.07,2,0,2,0.07,2,0.59,2,6.68,2
318M200406,P02,8,2,10,10,2,20040617,1902,32.003,133.5172,2271,64.1,21.2471,34.5935,2,34.6469,2,-999,9,-999,9,2.91,2,0.83,2,0.14,2,0.18,2,0.66,2,6.24,2
318M200406,P02,8,2,9,9,2,20040617,1900,32.0029,133.5171,2270,84.7,18.9374,34.6903,2,34.6901,2,-999,9,-999,9,4.93,2,3.71,2,0.12,2,0.34,2,0.74,2,7.39,2
318M200406,P02,8,2,8,8,2,20040617,1859,32.0029,133.517,2274,105.2,17.8167,34.6898,2,34.684,2,-999,9,-999,9,7.5,2,6.36,2,0.02,2,0.51,2,0.89,2,9.91,2
318M200406,P02,8,2,7,7,2,20040617,1858,32.0029,133.5169,2270,136.6,16.6389,34.6623,2,34.6637,2,-999,9,-999,9,9.16,2,7.92,2,0.01,2,0.61,2,0.86,2,7.55,2
318M200406,P02,8,2,6,6,2,20040617,1857,32.0029,133.5168,2270,186.9,15.2174,34.5972,2,34.599,2,-999,9,-999,9,13.55,2,10.86,2,0.01,2,0.8,2,0.86,2,9.66,2
318M200406,P02,8,2,13,13,2,20040617,1854,32.0028,133.5165,2283,234.8,13.6162,34.5117,2,34.5137,2,-999,9,-999,9,20.7,2,14.29,2,0,2,1.06,2,0.96,2,7.21,2
318M200406,P02,8,2,4,4,2,20040617,1851,32.0027,133.5162,2276,286.4,11.8013,34.4011,2,34.4051,2,-999,9,-999,9,25.66,2,17.43,2,0,2,1.27,2,0.9,2,5.41,2
318M200406,P02,8,2,3,3,2,20040617,1844,32.0025,133.5154,2269,474.7,7.1119,34.2623,2,34.2652,2,-999,9,-999,9,66.3,2,30.4,2,0,2,2.22,2,1,2,3.62,2
318M200406,P02,8,2,2,2,2,20040617,1836,32.0024,133.5147,2268,674.4,4.6696,34.3074,2,34.3108,2,-999,9,-999,9,101.16,2,37.71,2,0,2,2.73,2,1.06,2,2.81,2
318M200406,P02,8,2,1,1,2,20040617,1826,32.0026,133.5137,2267,979,3.2865,34.4374,2,34.4397,2,-999,9,-999,9,128.96,2,40.15,2,0,2,2.89,2,1.13,2,2.43,2
318M200406,P02,10,1,12,12,2,20040618,1407,31.4738,133.8589,4760,16.3,25.6692,34.4649,2,34.4704,2,-999,9,-999,9,1.46,2,0.06,2,0,2,0.07,2,0.97,2,10.48,2
318M200406,P02,10,1,11,11,2,20040618,1404,31.4724,133.8569,4747,39.8,24.9993,34.5535,2,34.5704,2,-999,9,-999,9,1.48,2,0.06,2,0,2,0.07,2,0.77,2,10.22,2
318M200406,P02,10,1,10,10,2,20040618,1403,31.472,133.8565,4746,58.9,24.0926,34.6414,2,34.6696,2,-999,9,-999,9,1.5,2,0.29,2,0.12,2,0.1,2,0.64,2,8.85,2
318M200406,P02,10,1,9,9,2,20040618,1403,31.4718,133.8562,4747,79.1,22.8933,34.6882,2,34.6785,2,-999,9,-999,9,2.42,2,1.16,2,0.19,2,0.16,2,0.66,2,8.31,2
318M200406,P02,10,1,8,8,2,20040618,1402,31.4714,133.8559,4747,99.3,21.2255,34.6054,2,34.6124,2,-999,9,-999,9,3.89,2,2.47,2,0.18,2,0.24,2,0.77,2,8.61,2
318M200406,P02,10,1,7,7,2,20040618,1401,31.4711,133.8558,4755,123.9,19.4819,34.6115,2,34.6105,2,-999,9,-999,9,7.01,2,5.26,2,0.06,2,0.43,2,0.87,2,9.76,2
318M200406,P02,10,1,6,6,2,20040618,1400,31.4708,133.8558,4747,149.8,18.8693,34.8009,2,34.8037,2,-999,9,-999,9,4.48,2,4.5,2,0.01,2,0.35,2,0.89,2,7.83,2
318M200406,P02,10,1,13,13,2,20040618,1359,31.4706,133.8556,4747,199.6,16.5306,34.67,2,34.6763,2,-999,9,-999,9,9.04,2,8.17,2,0.01,2,0.61,2,0.88,2,7.96,2
318M200406,P02,10,1,4,4,2,20040618,1357,31.4706,133.8553,4769,250,15.0731,34.5995,2,34.605,2,-999,9,-999,9,11.26,2,10.19,2,0,2,0.73,2,0.93,2,7.54,2
318M200406,P02,10,1,3,3,2,20040618,1348,31.4706,133.8519,4750,505.7,7.5202,34.2853,2,34.2887,2,-999,9,-999,9,63.2,2,29.46,2,0,2,2.14,2,1.23,2,3.44,2
318M200406,P02,10,1,2,2,2,20040618,1335,31.4705,133.846,4758,706.1,4.753,34.3044,2,34.3095,2,-999,9,-999,9,99.91,2,37.56,2,0,2,2.72,2,1.21,2,2.5,2
318M200406,P02,10,1,1,1,2,20040618,1328,31.4712,133.8425,4761,866,3.8261,34.3942,2,34.408,2,-999,9,-999,9,117.62,2,39.41,2,0,2,2.86,2,1.2,2,2.41,2
318M200406,P02,12,1,12,12,2,20040618,1738,31.4682,133.8176,4795,19.1,26.115,34.7422,2,34.753,2,-999,9,-999,9,1.32,2,0.04,2,0,2,0.04,2,0.78,2,8.02,2
318M200406,P02,12,1,11,11,2,20040618,1737,31.4683,133.8177,4801,39.6,25.3726,34.7619,2,34.7976,2,-999,9,-999,9,1.33,2,0.04,2,0,2,0.04,2,0.68,2,7.91,2
318M200406,P02,12,1,10,10,2,20040618,1736,31.4684,133.8179,0,64.8,23.2584,34.8992,2,34.9237,2,-999,9,-999,9,1.33,2,0.04,2,0,2,0.04,2,0.6,2,7.45,2
318M200406,P02,12,1,9,9,2,20040618,1735,31.4685,133.818,4795,83.5,21.7801,34.8522,2,34.8568,2,-999,9,-999,9,1.7,2,0.48,2,0.1,2,0.1,2,0.6,2,7.52,2
318M200406,P02,12,1,8,8,2,20040618,1734,31.4685,133.8181,4795,105.3,21.039,34.8736,2,34.8759,2,-999,9,-999,9,1.9,2,1.3,2,0.07,2,0.14,2,0.76,2,7.68,2
318M200406,P02,12,1,7,7,2,20040618,1733,31.4686,133.8183,4795,134.8,20.4599,34.8749,2,34.8798,2,-999,9,-999,9,2.27,2,1.89,2,0.03,2,0.17,2,0.68,2,7.78,2
318M200406,P02,12,1,6,6,2,20040618,1731,31.4687,133.8184,4797,187.2,19.3729,34.8336,2,34.8377,2,-999,9,-999,9,3.55,2,3.49,2,0.01,2,0.28,2,0.78,2,7.93,2
318M200406,P02,12,1,13,13,2,20040618,1729,31.4687,133.8185,4806,235.1,18.4019,34.8211,2,34.8259,2,-999,9,-999,9,3.56,2,3.7,2,0.01,2,0.27,2,0.68,2,8.96,2
318M200406,P02,12,1,4,4,2,20040618,1728,31.4688,133.8186,4794,288.4,17.2678,34.7336,2,34.7357,2,-999,9,-999,9,6.13,2,6.23,2,0,2,0.45,2,0.85,2,8.46,2
318M200406,P02,12,1,3,3,2,20040618,1723,31.469,133.8187,4798,475.2,12.2183,34.4007,2,34.4016,2,-999,9,-999,9,20.26,2,15.47,2,0,2,1.1,2,0.92,2,5.44,2
318M200406,P02,12,1,2,2,2,20040618,1717,31.4693,133.8187,4817,675.4,6.9949,34.1793,2,34.1791,2,-999,9,-999,9,61.62,2,30.23,2,0,2,2.18,2,0.97,2,3.08,2
318M200406,P02,12,1,1,1,2,20040618,1709,31.4694,133.8184,4804,978.1,4.0982,34.3724,2,34.3757,2,-999,9,-999,9,112.88,2,38.89,2,0,2,2.81,2,1.2,2,2.09,2
318M200406,P02,14,1,12,12,2,20040623,42,30.2359,134.4713,4497,19.9,24.9269,34.5944,2,34.6028,2,-999,9,-999,9,1.28,2,0.09,2,0,2,0.06,2,0.6,2,8.48,2
318M200406,P02,14,1,11,11,2,20040623,42,30.2357,134.4713,4492,33.9,24.7798,34.6202,2,34.6233,2,-999,9,-999,9,1.29,2,0.14,2,0,2,0.06,2,0.63,4,14.85,4
318M200406,P02,14,1,10,10,2,20040623,41,30.2355,134.4713,4492,50.1,24.6284,34.6508,2,34.6858,2,-999,9,-999,9,1.29,2,0.14,2,0,2,0.05,2,0.56,2,8.02,2
318M200406,P02,14,1,9,9,2,20040623,39,30.2352,134.4717,4484,69.8,23.6501,34.7681,2,34.7867,2,-999,9,-999,9,1.3,2,0.14,2,0,2,0.06,2,0.5,2,7.4,2
318M200406,P02,14,1,8,8,2,20040623,38,30.235,134.4727,4488,90.8,22.2061,34.8793,2,34.8817,2,-999,9,-999,9,1.66,2,0.19,2,0.06,2,0.07,2,0.47,2,7.18,2
318M200406,P02,14,1,7,7,2,20040623,36,30.2334,134.4757,4500,120.9,21.349,34.8943,2,34.8941,2,-999,9,-999,9,1.67,2,0.89,2,0.06,2,0.11,2,0.51,2,7.77,2
318M200406,P02,14,1,6,6,2,20040623,35,30.2307,134.4803,4516,170.3,20.7788,34.8991,2,34.8969,2,-999,9,-999,9,1.67,2,1.17,2,0.04,2,0.13,2,0.52,2,7.61,2
318M200406,P02,14,1,13,13,2,20040623,33,30.2278,134.4853,4532,220.7,19.9002,34.8842,2,34.8831,2,-999,9,-999,9,2.03,2,1.75,2,0.02,2,0.17,2,0.51,2,7.34,2
318M200406,P02,14,1,4,4,2,20040623,32,30.2255,134.4892,4544,271.6,18.9575,34.8509,2,34.8501,2,-999,9,-999,9,2.58,2,2.73,2,0.02,2,0.22,2,0.65,2,8.11,2
318M200406,P02,14,1,3,3,2,20040623,27,30.2179,134.5021,4550,440.9,16.4012,34.6921,2,34.6856,2,-999,9,-999,9,7.03,2,7.2,2,0.01,2,0.53,2,0.69,2,8.14,2
318M200406,P02,14,1,2,2,2,20040623,21,30.2067,134.5214,4555,643.6,11.1239,34.3392,2,34.3372,2,-999,9,-999,9,27.02,2,18.51,2,0.01,2,1.33,2,0.81,2,5.04,2
318M200406,P02,14,1,1,1,2,20040623,11,30.1888,134.5521,4574,906.6,5.6348,34.2096,2,34.2131,2,-999,9,-999,9,81.6,2,35.16,2,0.01,2,2.54,2,0.88,2,2.65,2
318M200406,P02,16,1,12,12,2,20040622,22,29.994,136.6072,4403,17.1,25.2338,34.6283,2,34.6113,2,-999,9,-999,9,1.06,2,0,2,0,2,0.04,2,0.58,2,7.71,2
318M200406,P02,16,1,11,11,2,20040622,21,29.9942,136.6074,4416,37.7,24.5694,34.586,2,34.5971,2,-999,9,-999,9,1.06,2,0,2,0,2,0.03,2,0.5,2,7.25,2
318M200406,P02,16,1,10,10,2,20040622,20,29.9943,136.6076,4403,55.8,23.1316,34.7072,2,34.7657,2,-999,9,-999,9,1.06,2,0,2,0,2,0.02,2,0.45,2,6.83,2
318M200406,P02,16,1,9,9,2,20040622,19,29.9945,136.6077,4407,78,21.6198,34.8673,2,34.8684,2,-999,9,-999,9,1.23,2,0,2,0,2,0.04,2,0.42,2,6.55,2
318M200406,P02,16,1,8,8,2,20040622,18,29.9946,136.6079,4418,96.3,20.6251,34.8686,2,34.876,2,-999,9,-999,9,1.41,2,0,2,0,2,0.06,2,0.43,2,5.81,2
318M200406,P02,16,1,7,7,2,20040622,16,29.9948,136.6081,4407,124.1,19.6633,34.8398,2,34.8385,2,-999,9,-999,9,3.2,2,2.84,2,0.05,2,0.26,2,0.58,2,7.34,2
318M200406,P02,16,1,6,6,2,20040622,15,29.9949,136.6082,4417,148.5,19.2124,34.8559,2,34.8668,2,-999,9,-999,9,2.31,2,2.01,2,0.03,2,0.21,2,0.59,2,6.86,2
318M200406,P02,16,1,13,13,2,20040622,13,29.9952,136.6085,4404,200.4,18.6778,34.8748,2,34.8768,2,-999,9,-999,9,2.48,2,2.13,2,0.02,2,0.21,2,0.68,2,7.96,2
318M200406,P02,16,1,4,4,2,20040622,10,29.9956,136.6088,4407,251.3,18.1473,34.8348,2,34.8389,2,-999,9,-999,9,3.2,2,2.93,2,0.02,2,0.24,2,0.73,2,7.88,2
318M200406,P02,16,1,3,3,2,20040622,1,29.9963,136.6096,4404,502.4,14.33,34.5515,2,34.5494,2,-999,9,-999,9,13.41,2,11.42,2,0.01,2,0.84,2,0.88,2,7.15,2
318M200406,P02,16,1,2,2,2,20040621,2354,29.9957,136.6093,4407,705.4,8.3354,34.2009,2,34.1999,2,-999,9,-999,9,47.64,2,25.19,2,0.01,2,1.88,2,1.07,2,4.53,2
318M200406,P02,16,1,1,1,2,20040621,2343,29.996,136.6095,4419,996.2,4.5251,34.2925,2,34.2948,2,-999,9,-999,9,102.58,2,37.94,2,0.01,2,2.79,2,1.11,2,3.07,2
318M200406,P02,18,2,12,12,2,20040621,1330,29.9674,137.1517,4355,18,24.2215,34.5085,2,34.5294,2,-999,9,-999,9,1.41,2,0.09,2,0,2,0.03,2,0.69,2,6.62,2
318M200406,P02,18,2,11,11,2,20040621,1329,29.9675,137.1521,4354,38.3,23.716,34.5745,2,34.6638,2,-999,9,-999,9,1.41,2,0.09,2,0,2,0.02,2,0.65,2,6.73,2
318M200406,P02,18,2,10,10,2,20040621,1327,29.9675,137.1526,4354,63,21.9238,34.76,2,34.8154,2,-999,9,-999,9,1.41,2,0.13,2,0.01,2,0.04,2,0.63,2,6.25,2
318M200406,P02,18,2,9,9,2,20040621,1326,29.9676,137.1529,4354,82.3,20.7919,34.876,2,34.8784,2,-999,9,-999,9,1.23,2,0.03,2,0,2,0.03,2,0.68,2,5.75,2
318M200406,P02,18,2,8,8,2,20040621,1325,29.9676,137.1532,4357,101.9,20.0633,34.8758,2,34.882,2,-999,9,-999,9,1.41,2,0.04,2,0.1,2,0.08,2,0.84,2,5.79,2
318M200406,P02,18,2,7,7,2,20040621,1324,29.9676,137.1536,4354,133.5,19.2006,34.8752,2,34.8754,2,-999,9,-999,9,1.94,2,1.7,2,0.04,2,0.17,2,0.92,2,6.58,2
318M200406,P02,18,2,6,6,2,20040621,1322,29.9678,137.1541,4359,183.8,18.7184,34.8752,2,34.8782,2,-999,9,-999,9,2.31,2,2.12,2,0.02,2,0.18,2,6.49,4,8.21,2
318M200406,P02,18,2,13,13,2,20040621,1321,29.9679,137.1548,4363,234,18.3705,34.8506,2,34.8519,2,-999,9,-999,9,2.84,2,2.53,2,0.02,2,0.21,2,2.77,3,8.07,2
318M200406,P02,18,2,4,4,2,20040621,1319,29.9681,137.1554,4357,285.5,17.9051,34.8178,2,34.8209,2,-999,9,-999,9,3.38,2,3.23,2,0.01,2,0.26,2,3.48,3,8.08,2
318M200406,P02,18,2,3,3,2,20040621,1314,29.9687,137.1565,4356,471.2,14.6649,34.5688,2,34.5719,2,-999,9,-999,9,11.97,2,10.79,2,0.01,2,0.78,2,2.18,3,7.29,2
318M200406,P02,18,2,2,2,2,20040621,1309,29.9693,137.1573,4355,674,9.0595,34.2297,2,34.2311,2,-999,9,-999,9,40.93,2,23.27,2,0.01,2,1.71,2,2.08,3,4.25,2
318M200406,P02,18,2,1,1,2,20040621,1300,29.9702,137.1588,4354,974.4,4.6515,34.2911,2,34.2947,2,-999,9,-999,9,100.51,2,37.49,2,0.01,2,2.76,2,2.16,3,2.59,2
318M200406,P02,20,2,12,12,2,20040623,2115,29.9995,137.7595,3998,14.6,25.1248,34.7433,2,34.7571,2,-999,9,-999,9,1.26,2,0.09,2,0,2,0.07,2,0.45,2,6.29,2
318M200406,P02,20,2,11,11,2,20040623,2114,29.9999,137.7581,4000,34.6,23.559,34.7645,2,34.8279,2,-999,9,-999,9,1.08,2,0.09,2,0,2,0.06,2,0.42,2,6.21,2
318M200406,P02,20,2,10,10,2,20040623,2113,30.0001,137.7555,4133,49,22.006,34.8666,2,34.8694,2,-999,9,-999,9,1.08,2,0.04,2,0,2,0.07,2,0.41,2,5.64,2
318M200406,P02,20,2,9,9,2,20040623,2112,30.0004,137.7517,4102,68,20.4758,34.8797,2,34.8755,2,-999,9,-999,9,1.08,2,0,2,0,2,0.06,2,0.38,2,5.03,2
318M200406,P02,20,2,8,8,2,20040623,2111,30.0008,137.747,4114,89.6,19.2242,34.8658,2,34.8647,2,-999,9,-999,9,1.45,2,0.08,2,0.06,2,0.12,2,0.38,2,5.25,2
318M200406,P02,20,2,7,7,2,20040623,2109,30.0013,137.7402,4132,120,18.7539,34.8536,2,34.8535,2,-999,9,-999,9,1.99,2,1.37,2,0.17,2,0.18,2,0.53,2,7.05,2
318M200406,P02,20,2,6,6,2,20040623,2107,30.0019,137.7328,4130,170.4,17.9586,34.8031,2,34.7964,2,-999,9,-999,9,3.45,2,4.16,2,0.01,2,0.35,2,0.64,4,10.35,4
318M200406,P02,20,2,13,13,2,20040623,2106,30.002,137.725,4133,220.4,17.3178,34.7602,2,34.7591,2,-999,9,-999,9,4.37,2,5.1,2,0.01,2,0.42,2,0.64,2,8.51,2
318M200406,P02,20,2,4,4,2,20040623,2104,30.002,137.7194,4141,270.4,16.7162,34.7181,2,34.7198,2,-999,9,-999,9,5.65,2,6.45,2,0,2,0.47,2,0.68,2,8.96,2
318M200406,P02,20,2,3,3,2,20040623,2059,30.0021,137.6974,4158,441.9,13.0525,34.4632,2,34.4634,2,-999,9,-999,9,17.55,2,13.84,2,0,2,1.01,2,0.76,2,6.53,2
318M200406,P02,20,2,2,2,2,20040623,2052,30.0023,137.6709,4194,643.4,7.8802,34.1839,2,34.185,2,-999,9,-999,9,50.67,2,26.38,2,0,2,1.96,2,0.86,2,3.87,2
318M200406,P02,20,2,1,1,2,20040623,2043,30.0026,137.6351,4178,945.4,4.2678,34.2795,2,34.2813,2,-999,9,-999,9,106.57,2,38.55,2,0,2,2.83,2,1.31,2,2.82,2