BOTTLE,20201022CCHSIOLMM
EXPOCODE,SECT_ID,STNNBR,CASTNO,SAMPNO,BTLNBR,BTLNBR_FLAG_W,DATE,TIME,LATITUDE,LONGITUDE,DEPTH,CTDPRS,CTDTMP,CTDSAL,CTDSAL_FLAG_W,SALNTY,SALNTY_FLAG_W,CTDOXY,CTDOXY_FLAG_W,OXYGEN,OXYGEN_FLAG_W,SILCAT,SILCAT_FLAG_W,NITRAT,NITRAT_FLAG_W,NITRIT,NITRIT_FLAG_W,PHSPHT,PHSPHT_FLAG_W,FE,FE_FLAG_W,ALUM,ALUM_FLAG_W
,,,,,,,,,,,,DBAR,ITS-90,PSS-78,,PSS-78,,UMOL/KG,,UMOL/KG,,UMOL/KG,,UMOL/KG,,UMOL/KG,,UMOL/KG,,NMOL/L,,NMOL/L,
318M200406,P02,182,1,12,12,2,20040825,2157,32.0575,-119.649,1635,17.9,17.3541,33.1932,2,33.1622,2,-999,9,-999,9,1.39,2,0.38,2,0.02,2,0.3,2,0.15,2,0.61,2
318M200406,P02,182,1,11,11,2,20040825,2155,32.0575,-119.6488,1636,54,11.029,33.1854,2,33.2095,2,-999,9,-999,9,9.2,2,12.85,2,0.26,2,1.13,2,0.19,2,0.54,2
318M200406,P02,182,1,10,10,2,20040825,2154,32.0575,-119.6487,1635,78.5,9.936,33.4541,2,33.521,2,-999,9,-999,9,19.23,2,21.1,2,0.01,2,1.65,2,0.38,2,0.66,2
318M200406,P02,182,1,9,9,2,20040825,2152,32.0573,-119.6486,0,105.2,9.3579,33.7342,2,33.7581,2,-999,9,-999,9,24.85,2,24.33,2,0.01,2,1.85,2,0.54,2,0.72,2
318M200406,P02,182,1,8,8,2,20040825,2151,32.0572,-119.6484,1634,131.1,9.1023,33.9094,2,33.9253,2,-999,9,-999,9,28.88,2,26.15,2,0.01,2,1.97,2,0.71,2,0.87,2
318M200406,P02,182,1,15,15,2,20040825,2150,32.0572,-119.6482,1634,156.7,8.8982,34.0483,2,34.0568,2,-999,9,-999,9,33.31,2,27.89,2,0.01,2,2.11,2,0.87,2,0.72,2
318M200406,P02,182,1,14,14,2,20040825,2148,32.0573,-119.6481,1634,214.5,8.1345,34.1259,2,34.135,2,-999,9,-999,9,42.19,2,31.06,2,0.01,2,2.36,2,1.03,2,1.08,2
318M200406,P02,182,1,5,5,2,20040825,2146,32.0573,-119.6482,1635,251.5,7.9016,34.1745,2,34.1827,2,-999,9,-999,9,47.24,2,32.6,2,0.01,2,2.52,2,1.25,2,0.86,2
318M200406,P02,182,1,4,4,2,20040825,2144,32.0575,-119.648,1634,351.8,7.0615,34.2274,2,34.2348,2,-999,9,-999,9,59.4,2,35.88,2,0,2,2.8,2,1.44,2,0.75,2
318M200406,P02,182,1,3,3,2,20040825,2140,32.0579,-119.6475,0,502.1,6.2845,34.3087,2,34.3155,2,-999,9,-999,9,74.25,2,39.06,2,0,2,3.04,2,1.73,2,0.87,2
318M200406,P02,182,1,2,2,2,20040825,2134,32.0581,-119.6467,1632,704.8,5.1067,34.3971,2,34.4024,2,-999,9,-999,9,96.33,2,42.17,2,0,2,3.2,2,1.49,2,0.79,2
318M200406,P02,182,1,1,1,2,20040825,2126,32.0576,-119.6469,1631,1007.6,4.164,34.4619,2,34.4678,2,-999,9,-999,9,114.45,2,43.54,2,0,2,3.21,2,1.19,2,0.81,2
318M200406,P02,184,1,12,12,2,20040826,609,32.3094,-119.1504,1150,15.5,17.2181,33.3598,2,33.4121,2,-999,9,-999,9,1.64,2,1.48,2,0.06,2,0.38,2,0.2,2,0.52,2
318M200406,P02,184,1,11,11,2,20040826,607,32.3096,-119.1503,1150,44.6,12.0867,33.2094,2,33.2223,2,-999,9,-999,9,7.82,2,12.14,2,0.29,2,1.1,2,0.26,2,0.53,2
318M200406,P02,184,1,10,10,2,20040826,605,32.3098,-119.1505,1147,84.3,9.8039,33.5374,2,33.562,2,-999,9,-999,9,20.4,2,21.92,2,0.02,2,1.7,2,0.45,2,0.61,2
318M200406,P02,184,1,9,9,2,20040826,604,32.3099,-119.1506,1147,110.2,9.4086,33.7544,2,33.7762,2,-999,9,-999,9,25.59,2,24.72,2,0.01,2,1.88,2,0.59,2,0.57,2
318M200406,P02,184,1,8,8,2,20040826,603,32.3098,-119.1506,1147,134.3,9.0205,33.9163,2,33.924,2,-999,9,-999,9,29.6,2,26.38,2,0.01,2,1.98,2,0.78,2,0.65,2
318M200406,P02,184,1,15,15,2,20040826,601,32.3097,-119.1506,1154,183.7,8.4525,34.0969,2,34.1036,2,-999,9,-999,9,38.4,2,29.56,2,0.01,2,2.24,2,0.92,3,0.85,2
318M200406,P02,184,1,14,14,2,20040826,600,32.3096,-119.1506,1148,236.3,7.8324,34.1599,2,34.1621,2,-999,9,-999,9,46.84,2,31.93,2,0.01,2,2.48,2,0.9,2,0.9,2
318M200406,P02,184,1,5,5,2,20040826,558,32.3096,-119.1507,1149,287.3,7.4467,34.2037,2,34.1893,2,-999,9,-999,9,48.86,2,32.57,2,0.01,2,2.56,2,1,2,0.95,2
318M200406,P02,184,1,4,4,2,20040826,555,32.3098,-119.1511,0,386.1,6.9066,34.2603,2,34.2677,2,-999,9,-999,9,63.37,2,36.31,2,0.01,2,2.89,2,1.15,2,1.48,3
318M200406,P02,184,1,3,3,2,20040826,552,32.3099,-119.1513,0,486.3,6.3995,34.3111,2,34.3164,2,-999,9,-999,9,72.86,2,38.18,2,0,2,3.03,2,1.23,2,1.07,2
318M200406,P02,184,1,2,2,2,20040826,548,32.3096,-119.1509,1153,673.7,5.5294,34.3682,2,34.3743,2,-999,9,-999,9,88.07,2,40.66,2,0,2,3.17,2,1.17,2,1.02,2
318M200406,P02,184,1,1,1,2,20040826,540,32.3093,-119.1506,1153,976.5,4.179,34.461,2,34.4665,2,-999,9,-999,9,115.23,2,42.83,2,0,2,3.2,2,0.92,2,0.75,2