BOTTLE,20201022CCHSIOLMM
EXPOCODE,SECT_ID,STNNBR,CASTNO,SAMPNO,BTLNBR,BTLNBR_FLAG_W,DATE,TIME,LATITUDE,LONGITUDE,DEPTH,CTDPRS,CTDTMP,CTDSAL,CTDSAL_FLAG_W,SALNTY,SALNTY_FLAG_W,CTDOXY,CTDOXY_FLAG_W,OXYGEN,OXYGEN_FLAG_W,SILCAT,SILCAT_FLAG_W,NITRAT,NITRAT_FLAG_W,NITRIT,NITRIT_FLAG_W,PHSPHT,PHSPHT_FLAG_W,FE,FE_FLAG_W,ALUM,ALUM_FLAG_W
,,,,,,,,,,,,DBAR,ITS-90,PSS-78,,PSS-78,,UMOL/KG,,UMOL/KG,,UMOL/KG,,UMOL/KG,,UMOL/KG,,UMOL/KG,,NMOL/L,,NMOL/L,
318M200406,P02,161,1,12,12,2,20040820,1013,29.9976,-130.1128,4663,17.3,22.5689,33.4247,2,33.4334,2,-999,9,-999,9,1.64,2,0.12,2,0,2,0.28,2,0.11,2,1.94,2
318M200406,P02,161,1,11,11,2,20040820,1012,29.9976,-130.113,4664,33.6,19.6284,33.6235,2,33.6021,2,-999,9,-999,9,1.62,2,0.12,2,0,2,0.22,2,0.09,2,1.83,2
318M200406,P02,161,1,10,10,2,20040820,1011,29.9977,-130.1131,4664,49.2,18.1572,33.5356,2,33.5564,2,-999,9,-999,9,1.8,2,0.11,2,0,2,0.23,2,0.09,2,1.88,2
318M200406,P02,161,1,9,9,2,20040820,1010,29.9977,-130.1134,4665,69.5,16.8595,33.5791,2,33.6076,2,-999,9,-999,9,1.99,2,0.11,2,0,2,0.23,2,0.1,2,1.99,2
318M200406,P02,161,1,8,8,2,20040820,1009,29.9977,-130.1137,4666,89.6,16.3483,33.695,2,33.6817,2,-999,9,-999,9,2.17,2,0.1,2,0,2,0.23,2,0.14,2,1.89,2
318M200406,P02,161,1,15,15,2,20040820,1008,29.9978,-130.1141,4667,119.5,14.1994,33.6348,2,33.6444,2,-999,9,-999,9,3.58,2,2.27,2,0.13,2,0.4,2,0.17,2,1.95,2
318M200406,P02,161,1,14,14,2,20040820,1006,29.9979,-130.1146,4684,170.2,10.7799,33.4587,2,33.4653,2,-999,9,-999,9,9.7,2,10.41,2,0,2,0.9,2,0.38,4,3.15,4
318M200406,P02,161,1,5,5,2,20040820,1003,29.998,-130.1152,4681,221.8,9.2703,33.7891,2,33.7874,2,-999,9,-999,9,18.5,2,17.11,2,0,2,1.29,2,0.32,2,2.04,2
318M200406,P02,161,1,4,4,2,20040820,1002,29.9981,-130.1157,4678,271.1,8.6193,33.9856,2,33.9955,2,-999,9,-999,9,28.53,2,22.78,2,0,2,1.65,2,0.48,2,2.06,2
318M200406,P02,161,1,3,3,2,20040820,957,29.9981,-130.1168,4672,442.8,6.2653,34.0637,2,34.0715,2,-999,9,-999,9,61.57,2,35.94,2,0,2,2.66,2,0.67,2,1.77,2
318M200406,P02,161,1,2,2,2,20040820,950,29.9989,-130.118,4670,643.4,4.8956,34.236,2,34.2446,2,-999,9,-999,9,93.65,2,42,2,0,2,3.13,2,0.75,2,1.92,2
318M200406,P02,161,1,1,1,2,20040820,937,30.0001,-130.1186,4670,946,3.9741,34.4369,2,34.4436,2,-999,9,-999,9,116.95,2,43.7,2,0,2,3.2,2,0.7,2,2.17,2
318M200406,P02,163,1,12,12,2,20040820,2353,30,-128.9595,4435,19,22.5974,33.4117,2,33.4201,2,-999,9,-999,9,1.63,2,0.14,2,0,2,0.3,2,0.11,2,1.94,2
318M200406,P02,163,1,11,11,2,20040820,2352,29.9998,-128.9594,4440,39.2,20.6386,33.5819,2,33.5862,2,-999,9,-999,9,1.8,2,0.08,2,0,2,0.22,2,0.12,2,2.18,2
318M200406,P02,163,1,10,10,2,20040820,2351,29.9995,-128.9593,4439,60.3,18.0466,33.4369,2,33.4461,2,-999,9,-999,9,1.78,2,0.13,2,0,2,0.23,2,0.11,2,2.11,2
318M200406,P02,163,1,9,9,2,20040820,2350,29.9993,-128.9592,4441,79.4,16.4306,33.4112,2,33.4926,2,-999,9,-999,9,1.97,2,0.08,2,0,2,0.23,2,0.12,2,2.06,2
318M200406,P02,163,1,8,8,2,20040820,2348,29.9991,-128.9591,4490,99.8,15.7068,33.5641,2,33.5587,2,-999,9,-999,9,2.35,2,0.08,2,0,2,0.26,2,0.12,2,1.91,2
318M200406,P02,163,1,15,15,2,20040820,2347,29.9989,-128.9589,4444,125.4,14.1399,33.5027,2,33.5174,2,-999,9,-999,9,3.34,2,1.48,2,0.19,2,0.39,2,0.13,2,2.06,2
318M200406,P02,163,1,14,14,2,20040820,2347,29.9988,-128.9588,4446,150.7,12.0796,33.3996,2,33.4033,2,-999,9,-999,9,6.16,2,6.56,2,0.02,2,0.69,2,0.17,2,2.13,2
318M200406,P02,163,1,5,5,2,20040820,2345,29.9987,-128.9586,4449,200.5,9.3956,33.6055,2,33.5176,2,-999,9,-999,9,14.65,2,14.94,2,0,2,1.19,2,0.26,2,1.87,2
318M200406,P02,163,1,4,4,2,20040820,2343,29.9985,-128.9583,4445,251.5,8.8037,33.9704,2,33.9831,2,-999,9,-999,9,25.2,2,20.59,2,0,2,1.49,2,0.41,2,1.88,2
318M200406,P02,163,1,3,3,2,20040820,2337,29.9987,-128.9581,4444,503,5.6867,34.1343,2,34.1099,2,-999,9,-999,9,72.48,2,38.53,2,0,2,2.86,2,0.85,2,1.91,2
318M200406,P02,163,1,2,2,2,20040820,2332,29.9988,-128.9582,4443,705.6,4.6194,34.3115,2,34.3193,2,-999,9,-999,9,101.85,2,42.73,2,0,2,3.19,2,0.83,2,1.97,2
318M200406,P02,163,1,1,1,2,20040820,2320,29.9991,-128.9586,4438,1007.3,3.8157,34.4706,2,34.4773,2,-999,9,-999,9,119.75,2,43.59,2,0,2,3.19,2,0.72,2,1.84,2
318M200406,P02,165,2,12,12,2,20040821,1648,30.003,-127.802,4528,18.2,21.9453,33.4247,2,33.4327,2,-999,9,-999,9,1.34,2,0.13,2,0,2,0.29,2,0.15,2,2.19,2
318M200406,P02,165,2,11,11,2,20040821,1647,30.0029,-127.8021,4529,39.7,19.3182,33.1725,2,33.2306,2,-999,9,-999,9,1.34,2,0.13,2,0,2,0.29,2,0.14,2,2.09,2
318M200406,P02,165,2,10,10,2,20040821,1646,30.0028,-127.8023,4547,64.2,17.2996,33.194,2,33.2422,2,-999,9,-999,9,1.33,2,0.14,2,0,2,0.26,2,0.13,2,2.21,2
318M200406,P02,165,2,9,9,2,20040821,1645,30.0027,-127.8025,4541,84,16.2296,33.3008,2,33.3107,2,-999,9,-999,9,1.53,2,0.04,2,0,2,0.26,2,0.14,2,2.04,2
318M200406,P02,165,2,8,8,2,20040821,1644,30.0026,-127.8026,4541,105.7,15.5177,33.3783,2,33.3864,2,-999,9,-999,9,1.72,2,0.09,2,0,2,0.27,2,0.19,2,2.21,2
318M200406,P02,165,2,15,15,2,20040821,1643,30.0025,-127.8028,4542,135.2,13.0161,33.2167,2,33.2623,2,-999,9,-999,9,3.94,2,3.38,2,0.18,2,0.55,2,0.25,2,2.08,2
318M200406,P02,165,2,14,14,2,20040821,1642,30.0024,-127.8029,4543,186.1,9.8283,33.4136,2,33.4351,2,-999,9,-999,9,13.26,2,14.69,2,0.01,2,1.18,2,0.37,2,2.21,2
318M200406,P02,165,2,5,5,2,20040821,1638,30.0022,-127.8031,4544,236,8.9485,33.8681,2,33.881,2,-999,9,-999,9,23.2,2,20.62,2,0,2,1.51,2,0.48,2,1.99,2
318M200406,P02,165,2,4,4,2,20040821,1636,30.0022,-127.8031,4544,285.2,8.2129,34.0093,2,34.0186,2,-999,9,-999,9,34.18,2,26.27,2,0,2,1.89,2,0.62,2,1.99,2
318M200406,P02,165,2,3,3,2,20040821,1631,30.0022,-127.8033,4545,474.5,6.137,34.1318,2,34.1375,2,-999,9,-999,9,66.94,2,37.87,2,0,2,2.84,2,0.86,2,2.08,2
318M200406,P02,165,2,2,2,2,20040821,1626,30.0023,-127.8033,4543,674.1,4.819,34.2874,2,34.2939,2,-999,9,-999,9,96.69,2,42.52,2,0,2,3.18,2,0.81,2,1.84,2
318M200406,P02,165,2,1,1,2,20040821,1617,30.0023,-127.8033,4544,976.6,3.955,34.4537,2,34.4634,2,-999,9,-999,9,116.69,2,43.46,2,0,2,3.2,2,0.79,2,2.12,2
318M200406,P02,167,2,12,12,2,20040822,513,29.9974,-126.658,4282,19.6,20.9496,33.3733,2,33.3816,2,-999,9,-999,9,1.56,2,0.13,2,0,2,0.3,2,0.22,2,2.38,2
318M200406,P02,167,2,11,11,2,20040822,512,29.9974,-126.6579,4282,34.2,20.1786,33.4067,2,33.4364,2,-999,9,-999,9,1.53,2,0.08,2,0,2,0.28,2,0.17,2,2.3,2
318M200406,P02,167,2,10,10,2,20040822,511,29.9974,-126.6579,4286,49.1,19.9206,33.4195,2,33.4481,2,-999,9,-999,9,1.5,2,0.08,2,0,2,0.28,2,0.18,2,2.36,2
318M200406,P02,167,2,9,9,2,20040822,510,29.9975,-126.6579,4275,70.4,17.4636,33.2369,2,33.262,2,-999,9,-999,9,1.47,2,0.08,2,0,2,0.29,2,0.21,2,2.18,2
318M200406,P02,167,2,8,8,2,20040822,508,29.9975,-126.6578,4273,89.9,15.9861,33.1773,2,33.2352,2,-999,9,-999,9,1.84,2,0.18,2,0,2,0.32,2,0.23,2,2.05,2
318M200406,P02,167,2,15,15,2,20040822,507,29.9975,-126.6578,4274,119.9,13.4604,33.1824,2,33.1856,2,-999,9,-999,9,4.64,2,4.34,2,0.11,2,0.65,2,0.29,2,1.91,2
318M200406,P02,167,2,14,14,2,20040822,506,29.9975,-126.6578,4274,170.3,10.073,33.5646,2,33.574,2,-999,9,-999,9,19.74,2,21.21,2,0.01,2,1.7,2,0.79,2,2.06,2
318M200406,P02,167,2,5,5,2,20040822,504,29.9976,-126.6578,4275,220.8,9.7002,33.9532,2,33.9374,2,-999,9,-999,9,28.42,2,26.5,2,0.01,2,2.1,2,1.75,2,2.14,2
318M200406,P02,167,2,4,4,2,20040822,502,29.9976,-126.6577,4274,270.1,9.2172,34.1115,2,34.1227,2,-999,9,-999,9,35.08,2,29.09,2,0.01,2,2.31,2,1.94,2,2.34,2
318M200406,P02,167,2,3,3,2,20040822,458,29.9973,-126.6573,4285,442.3,7.6291,34.2212,2,34.2283,2,-999,9,-999,9,53.35,2,34.21,2,0.01,2,2.71,2,1.61,2,2.15,2
318M200406,P02,167,2,2,2,2,20040822,453,29.997,-126.6568,4285,643.6,5.6829,34.2449,2,34.2522,2,-999,9,-999,9,80.56,2,40.45,2,0,2,3.08,2,0.99,2,2.05,2
318M200406,P02,167,2,1,1,2,20040822,444,29.9963,-126.6565,4289,945.2,4.3521,34.4305,2,34.4376,2,-999,9,-999,9,109.02,2,43.52,2,0,2,3.21,2,0.86,2,2.05,2
318M200406,P02,169,2,12,12,2,20040822,1832,30.0011,-125.4916,4509,19.7,20.9744,33.4262,2,33.4344,2,-999,9,-999,9,1.27,2,0.13,2,0,2,0.3,2,0.15,2,2.22,2
318M200406,P02,169,2,11,11,2,20040822,1831,30.0013,-125.4917,4508,40.4,20.1842,33.5423,2,33.5569,2,-999,9,-999,9,1.26,2,0.13,2,0,2,0.27,2,0.14,2,2.48,2
318M200406,P02,169,2,10,10,2,20040822,1830,30.0014,-125.4918,4509,59.2,18.6937,33.5964,2,33.5634,2,-999,9,-999,9,1.45,2,0.08,2,0,2,0.24,2,0.15,2,2.25,2
318M200406,P02,169,2,9,9,2,20040822,1829,30.0015,-125.4919,4510,81,16.8374,33.4255,2,33.4256,2,-999,9,-999,9,1.64,2,0.08,2,0,2,0.26,2,0.12,2,2.06,2
318M200406,P02,169,2,8,8,2,20040822,1828,30.0015,-125.492,4503,101.2,15.7758,33.3874,2,33.3955,2,-999,9,-999,9,1.82,2,0.12,2,0,2,0.28,2,0.16,2,2.13,2
318M200406,P02,169,2,15,15,2,20040822,1826,30.0014,-125.4921,4504,125.7,14.548,33.3926,2,33.3904,2,-999,9,-999,9,2.81,2,1.03,2,0.14,2,0.4,2,0.2,2,2.21,2
318M200406,P02,169,2,14,14,2,20040822,1825,30.0013,-125.4921,4505,150.2,12.2071,33.2144,2,33.2209,2,-999,9,-999,9,6.41,2,7.3,2,0.02,2,0.77,2,0.25,2,2.35,2
318M200406,P02,169,2,5,5,2,20040822,1824,30.0012,-125.4923,4506,200.6,9.4949,33.5265,2,33.5333,2,-999,9,-999,9,17.88,2,18.55,2,0,2,1.45,2,0.32,2,2.05,2
318M200406,P02,169,2,4,4,2,20040822,1822,30.0012,-125.4925,4526,252.8,8.8561,33.9205,2,33.9305,2,-999,9,-999,9,28.35,2,24.81,2,0,2,1.84,2,0.62,2,2.13,2
318M200406,P02,169,2,3,3,2,20040822,1815,30.0017,-125.4932,4515,502.6,6.1248,34.202,2,34.204,2,-999,9,-999,9,71.01,2,38.66,2,0,2,2.94,2,0.85,2,2.15,2
318M200406,P02,169,2,2,2,2,20040822,1810,30.0014,-125.4929,4514,706.2,5.0657,34.3443,2,34.3499,2,-999,9,-999,9,93.97,2,42.24,2,0,2,3.19,2,0.88,2,2.28,2
318M200406,P02,169,2,1,1,2,20040822,1802,30.0012,-125.4932,4518,1008.7,4.0748,34.461,2,34.4659,2,-999,9,-999,9,114.63,2,43.77,2,0,2,3.22,2,0.72,2,2.28,2
318M200406,P02,171,1,12,12,2,20040823,348,30,-124.3401,4528,18.8,20.6721,33.2936,2,33.3023,2,-999,9,-999,9,1.2,2,0.1,2,0,2,0.31,2,0.22,2,1.26,2
318M200406,P02,171,1,11,11,2,20040823,347,30,-124.3401,4528,37.8,19.5914,33.336,2,33.3445,2,-999,9,-999,9,1.39,2,0.1,2,0,2,0.29,2,0.2,2,1.24,2
318M200406,P02,171,1,10,10,2,20040823,345,29.9999,-124.34,4545,65.2,17.5406,33.298,2,33.2919,2,-999,9,-999,9,1.36,2,0.1,2,0,2,0.28,2,0.22,2,1.21,2
318M200406,P02,171,1,9,9,2,20040823,344,29.9999,-124.34,4545,83.8,16.522,33.3191,2,33.3204,2,-999,9,-999,9,1.55,2,0.1,2,0,2,0.3,2,0.27,2,1.24,2
318M200406,P02,171,1,8,8,2,20040823,344,30,-124.3399,4548,105.7,15.354,33.3473,2,33.3327,2,-999,9,-999,9,2.32,2,0.49,2,0.05,2,0.38,2,0.32,2,0.97,2
318M200406,P02,171,1,15,15,2,20040823,343,30,-124.3399,4527,134.8,11.7532,33.1177,2,33.1298,2,-999,9,-999,9,6.11,2,7.34,2,0.03,2,0.8,2,1.23,4,3.27,4
318M200406,P02,171,1,14,14,2,20040823,341,30,-124.3398,4529,186,9.531,33.4748,2,33.4981,2,-999,9,-999,9,17.93,2,18.32,2,0,2,1.45,2,0.61,2,1.24,2
318M200406,P02,171,1,5,5,2,20040823,339,30.0001,-124.3397,4527,234.9,8.8637,33.9094,2,33.9162,2,-999,9,-999,9,27.77,2,24.43,2,0,2,1.8,2,0.87,2,1.2,2
318M200406,P02,171,1,4,4,2,20040823,337,30.0001,-124.3397,4529,286,8.2547,34.028,2,34.0371,2,-999,9,-999,9,35.81,2,27.46,2,0,2,1.99,2,0.95,2,1.1,2
318M200406,P02,171,1,3,3,2,20040823,331,29.9998,-124.3391,4504,471.5,6.2924,34.1788,2,34.186,2,-999,9,-999,9,68.01,2,38.28,2,0,2,2.9,2,1.42,2,1.12,2
318M200406,P02,171,1,2,2,2,20040823,326,29.9998,-124.339,4503,673.8,5.1784,34.3278,2,34.3336,2,-999,9,-999,9,91.48,2,42.25,2,0,2,3.18,2,1.37,2,1.15,2
318M200406,P02,171,1,1,1,2,20040823,318,30.0001,-124.3392,4549,977.9,4.0931,34.4588,2,34.4653,2,-999,9,-999,9,114.72,2,43.78,2,0,2,3.21,2,1.36,2,1.4,2
318M200406,P02,173,2,12,12,2,20040823,1958,30.26,-123.2648,4251,18.6,19.7431,33.1025,2,33.1363,2,-999,9,-999,9,1.61,2,0.13,2,0,2,0.31,2,0.19,2,1.13,2
318M200406,P02,173,2,11,11,2,20040823,1958,30.2599,-123.2647,4271,32.5,19.2586,33.3343,2,33.3617,2,-999,9,-999,9,1.61,2,0.13,2,0,2,0.28,2,0.18,2,1.21,2
318M200406,P02,173,2,10,10,2,20040823,1957,30.2599,-123.2647,4280,49.1,17.2257,33.2226,2,33.2439,2,-999,9,-999,9,1.61,2,0.13,2,0,2,0.29,2,0.19,2,1.17,2
318M200406,P02,173,2,9,9,2,20040823,1956,30.2598,-123.2647,4272,69,17,33.3619,2,33.2788,2,-999,9,-999,9,1.81,2,0.08,2,0,2,0.27,2,0.19,2,1.21,2
318M200406,P02,173,2,8,8,2,20040823,1955,30.2598,-123.2646,4271,88.4,15.1178,33.2141,2,33.228,2,-999,9,-999,9,2.02,2,0.12,2,0,2,0.28,2,0.21,2,1.06,2
318M200406,P02,173,2,15,15,2,20040823,1954,30.2597,-123.2646,4272,118.8,13.5609,33.2871,2,33.3,2,-999,9,-999,9,3.23,2,2.07,2,0.2,2,0.44,2,0.24,2,1.04,2
318M200406,P02,173,2,14,14,2,20040823,1953,30.2596,-123.2646,4272,169.9,9.6471,33.3209,2,33.3539,2,-999,9,-999,9,14.38,2,15.62,2,0,2,1.26,2,0.47,2,1.66,3
318M200406,P02,173,2,5,5,2,20040823,1951,30.2594,-123.2646,4253,220.7,8.9676,33.8495,2,33.8188,2,-999,9,-999,9,24.74,2,22.93,2,0,2,1.7,2,0.73,2,1.16,2
318M200406,P02,173,2,4,4,2,20040823,1949,30.2593,-123.2646,4271,271.4,8.2198,34.0279,2,34.0337,2,-999,9,-999,9,36.35,2,28.15,2,0,2,2.04,2,1.02,2,1.21,2
318M200406,P02,173,2,3,3,2,20040823,1946,30.259,-123.2645,4283,442.1,6.3958,34.1521,2,34.1585,2,-999,9,-999,9,64.83,2,37.41,2,0,2,2.81,2,1.31,2,1.23,2
318M200406,P02,173,2,2,2,2,20040823,1940,30.2586,-123.2645,4254,643.7,5.2566,34.3146,2,34.3244,2,-999,9,-999,9,89.8,2,41.7,2,0,2,3.16,2,1.29,2,1.25,2
318M200406,P02,173,2,1,1,2,20040823,1933,30.2582,-123.2647,4258,946.7,4.0987,34.4463,2,34.4536,2,-999,9,-999,9,114.36,2,43.57,2,0,2,3.2,2,1.13,2,1.27,2
318M200406,P02,175,1,12,12,2,20040824,427,30.7733,-122.2734,4140,19.2,18.241,33.0219,2,33.0478,2,-999,9,-999,9,1,2,0.13,2,0,2,0.28,2,0.14,2,0.88,2
318M200406,P02,175,1,11,11,2,20040824,425,30.7732,-122.2734,4140,56.3,16.6854,33.0547,2,33.0734,2,-999,9,-999,9,1.2,2,0.13,2,0,2,0.31,2,0.15,2,0.89,2
318M200406,P02,175,1,10,10,2,20040824,424,30.7731,-122.2733,4157,81.5,14.5566,33.0018,2,33.0241,2,-999,9,-999,9,1.81,2,0.22,2,0.01,2,0.38,2,0.15,2,0.82,2
318M200406,P02,175,1,9,9,2,20040824,422,30.773,-122.2733,4140,106.8,12.8934,33.2404,2,33.2156,2,-999,9,-999,9,4.84,2,8.3,2,0.39,2,0.87,2,0.19,2,0.74,2
318M200406,P02,175,1,8,8,2,20040824,421,30.773,-122.2733,4140,132.8,10.1099,33.2756,2,33.2552,2,-999,9,-999,9,12.73,2,15.16,2,0.01,2,1.26,2,0.3,2,0.96,2
318M200406,P02,175,1,15,15,2,20040824,421,30.773,-122.2732,4153,156.9,9.2887,33.5672,2,33.5038,2,-999,9,-999,9,18.61,2,19.38,2,0.01,2,1.51,2,0.45,2,1.02,2
318M200406,P02,175,1,14,14,2,20040824,418,30.7729,-122.2732,4193,217.8,8.6098,33.9719,2,33.9799,2,-999,9,-999,9,30.58,2,25.52,2,0,2,1.86,2,0.63,3,1.38,3
318M200406,P02,175,1,5,5,2,20040824,417,30.7728,-122.2732,4193,252.2,8.2413,34.0259,2,33.9998,2,-999,9,-999,9,32.41,2,26.4,2,0,2,1.93,2,0.65,2,1.16,2
318M200406,P02,175,1,4,4,2,20040824,414,30.7728,-122.2734,4194,353.2,7.1445,34.088,2,34.0946,2,-999,9,-999,9,52.18,2,33.98,2,0,2,2.52,2,0.91,2,1.06,2
318M200406,P02,175,1,3,3,2,20040824,409,30.7727,-122.2737,4137,504.2,5.7244,34.1685,2,34.1671,2,-999,9,-999,9,75.36,2,39.64,2,0,2,2.96,2,0.97,2,1.11,2
318M200406,P02,175,1,2,2,2,20040824,405,30.7727,-122.274,4137,705.5,4.9202,34.359,2,34.3645,2,-999,9,-999,9,97.26,2,42.69,2,0,2,3.21,2,0.96,2,1.17,2
318M200406,P02,175,1,1,1,2,20040824,357,30.7727,-122.2747,4139,1007.7,4.0149,34.4718,2,34.4795,2,-999,9,-999,9,117.83,2,43.77,2,0,2,3.23,2,0.98,2,1.28,2
318M200406,P02,177,2,12,12,2,20040824,1958,31.2714,-121.2686,3861,17,17.7267,33.2797,2,33.2846,2,-999,9,-999,9,1,2,0.13,2,0,2,0.25,2,0.19,2,0.78,2
318M200406,P02,177,2,11,11,2,20040824,1956,31.2718,-121.2684,3861,44.5,12.4466,32.8254,2,32.8359,2,-999,9,-999,9,3.41,2,3.19,2,0.16,2,0.61,2,0.23,2,0.81,2
318M200406,P02,177,2,10,10,2,20040824,1954,31.2723,-121.2682,3862,85.8,10.5163,33.3105,2,33.3777,2,-999,9,-999,9,15.67,2,18.67,2,0.02,2,1.5,2,0.36,2,0.78,2
318M200406,P02,177,2,9,9,2,20040824,1953,31.2724,-121.2681,3857,111.2,9.5501,33.5395,2,33.6126,2,-999,9,-999,9,21.71,2,22.21,2,0.02,2,1.72,2,0.45,2,0.94,2
318M200406,P02,177,2,8,8,2,20040824,1952,31.2726,-121.2681,3862,134.8,9.209,33.7523,2,33.7661,2,-999,9,-999,9,25.15,2,24.22,2,0.02,2,1.84,2,0.6,2,0.83,2
318M200406,P02,177,2,15,15,2,20040824,1950,31.2728,-121.2679,3863,185.1,8.8276,34.0358,2,34.0401,2,-999,9,-999,9,34.04,2,28.32,2,0.01,2,2.15,2,0.77,2,0.91,2
318M200406,P02,177,2,14,14,2,20040824,1948,31.273,-121.2679,3863,235.6,7.9437,34.0654,2,34.0706,2,-999,9,-999,9,41.12,2,30.62,2,0.01,2,2.26,2,0.81,2,1.24,2
318M200406,P02,177,2,5,5,2,20040824,1947,31.2732,-121.2678,3858,286.4,7.5079,34.1086,2,34.1012,2,-999,9,-999,9,47.01,2,32.79,2,0.01,2,2.45,2,0.96,2,1.01,2
318M200406,P02,177,2,4,4,2,20040824,1944,31.2734,-121.2678,3864,386.5,6.151,34.0931,2,34.0998,2,-999,9,-999,9,65.54,2,37.85,2,0,2,2.79,2,1.04,2,0.96,2
318M200406,P02,177,2,3,3,2,20040824,1941,31.2736,-121.2678,3865,487.4,5.6542,34.2036,2,34.2068,2,-999,9,-999,9,78.83,2,40.21,2,0,2,3.02,2,1.01,2,1.02,2
318M200406,P02,177,2,2,2,2,20040824,1936,31.274,-121.2678,3865,674.2,4.7632,34.3263,2,34.3308,2,-999,9,-999,9,99.18,2,42.65,2,0,2,3.2,2,0.91,2,1.05,2
318M200406,P02,177,2,1,1,2,20040824,1928,31.2746,-121.268,3865,976.3,3.8956,34.4741,2,34.4799,2,-999,9,-999,9,118.85,2,43.36,2,0,2,3.2,2,0.87,2,1.22,2
318M200406,P02,179,1,12,12,2,20040825,520,31.7791,-120.2501,3925,17,18.0069,33.2155,2,33.2258,2,-999,9,-999,9,1,2,0.15,2,0,2,0.26,2,0.17,2,0.55,2
318M200406,P02,179,1,11,11,2,20040825,519,31.7791,-120.2502,3925,33.1,15.715,33.2173,2,33.2016,2,-999,9,-999,9,1.6,2,1.67,2,0.06,2,0.41,2,0.19,2,0.59,2
318M200406,P02,179,1,10,10,2,20040825,517,31.7792,-120.2502,3927,69.2,11.6053,33.1122,2,33.1943,2,-999,9,-999,9,9.24,2,12.39,2,0.23,2,1.12,2,0.24,2,0.52,2
318M200406,P02,179,1,9,9,2,20040825,516,31.7792,-120.2503,3927,94.7,9.9537,33.5043,2,33.5517,2,-999,9,-999,9,20.53,2,22.27,2,0.02,2,1.75,2,0.42,2,0.58,2
318M200406,P02,179,1,8,8,2,20040825,515,31.7791,-120.2503,3927,119.1,9.242,33.7943,2,33.8068,2,-999,9,-999,9,26.17,2,24.66,2,0.01,2,1.89,2,0.67,3,0.72,2
318M200406,P02,179,1,15,15,2,20040825,514,31.779,-120.2502,3927,144,8.8713,33.9062,2,33.9219,2,-999,9,-999,9,28.19,2,24.81,2,0.01,2,1.84,2,0.63,2,0.83,2
318M200406,P02,179,1,14,14,2,20040825,513,31.7789,-120.2502,3928,169,8.5709,34.0088,2,34.0227,2,-999,9,-999,9,33.84,2,27.94,2,0.01,2,2.06,2,0.79,2,0.78,2
318M200406,P02,179,1,5,5,2,20040825,511,31.7786,-120.2501,3929,220.6,7.9353,34.0794,2,34.0774,2,-999,9,-999,9,39.51,2,30.21,2,0,2,2.23,2,0.86,2,0.8,2
318M200406,P02,179,1,4,4,2,20040825,510,31.7785,-120.25,3943,270.4,7.2447,34.1145,2,34.1228,2,-999,9,-999,9,51.47,2,34.07,2,0,2,2.54,2,0.91,2,0.78,2
318M200406,P02,179,1,3,3,2,20040825,506,31.778,-120.25,3937,421.5,6.2177,34.2175,2,34.2253,2,-999,9,-999,9,70.62,2,38.68,2,0,2,2.95,2,0.92,2,1.39,2
318M200406,P02,179,1,2,2,2,20040825,500,31.7773,-120.2505,3955,644.3,5.1424,34.3621,2,34.3704,2,-999,9,-999,9,92.52,2,42.21,2,0,2,3.19,2,0.96,2,0.9,2
318M200406,P02,179,1,1,1,2,20040825,451,31.7778,-120.2496,3936,945.2,4.0768,34.4694,2,34.4764,2,-999,9,-999,9,113.96,2,43.57,2,0,2,3.2,2,0.89,2,1.29,2