BOTTLE,20201022CCHSIOLMM
EXPOCODE,SECT_ID,STNNBR,CASTNO,SAMPNO,BTLNBR,BTLNBR_FLAG_W,DATE,TIME,LATITUDE,LONGITUDE,DEPTH,CTDPRS,CTDTMP,CTDSAL,CTDSAL_FLAG_W,SALNTY,SALNTY_FLAG_W,CTDOXY,CTDOXY_FLAG_W,OXYGEN,OXYGEN_FLAG_W,SILCAT,SILCAT_FLAG_W,NITRAT,NITRAT_FLAG_W,NITRIT,NITRIT_FLAG_W,PHSPHT,PHSPHT_FLAG_W,FE,FE_FLAG_W,ALUM,ALUM_FLAG_W
,,,,,,,,,,,,DBAR,ITS-90,PSS-78,,PSS-78,,UMOL/KG,,UMOL/KG,,UMOL/KG,,UMOL/KG,,UMOL/KG,,UMOL/KG,,NMOL/L,,NMOL/L,
318M200406,P02,22,2,12,12,2,20040624,616,30.0002,138.8017,2338,16.1,25.49,34.782,2,34.8023,2,-999,9,-999,9,1.64,2,0.21,2,0,2,0.06,2,0.47,2,5.62,2
318M200406,P02,22,2,11,11,2,20040624,615,30.0003,138.8018,2338,38.8,22.7963,34.8448,2,34.8461,2,-999,9,-999,9,1.64,2,0.21,2,0,2,0.06,2,0.37,2,5.44,2
318M200406,P02,22,2,10,10,2,20040624,614,30.0004,138.8018,2337,59.4,20.6563,34.8678,2,34.8656,2,-999,9,-999,9,1.83,2,0.21,2,0,2,0.07,2,0.36,2,5.01,2
318M200406,P02,22,2,9,9,2,20040624,613,30.0005,138.8018,2337,78.8,19.3846,34.86,2,34.8589,2,-999,9,-999,9,2.18,2,0.52,2,0.05,2,0.12,2,1.16,3,13.13,3
318M200406,P02,22,2,8,8,2,20040624,612,30.0006,138.8018,2336,99.6,18.7399,34.8637,2,34.8654,2,-999,9,-999,9,2.54,2,2.14,2,0.11,2,0.22,2,0.53,2,7.08,2
318M200406,P02,22,2,7,7,2,20040624,611,30.0006,138.8018,2336,124.5,18.4359,34.848,2,34.8479,2,-999,9,-999,9,2.55,2,2.3,2,0.11,2,0.22,2,0.5,2,6.65,2
318M200406,P02,22,2,6,6,2,20040624,610,30.0007,138.8018,2336,150,17.986,34.8213,2,34.82,2,-999,9,-999,9,2.73,2,2.68,2,0.04,2,0.25,2,0.5,2,6.66,2
318M200406,P02,22,2,13,13,2,20040624,609,30.0008,138.8017,2335,201.1,17.5025,34.805,2,34.8054,2,-999,9,-999,9,3.09,2,3.17,2,0.02,2,0.28,2,0.47,2,7.23,2
318M200406,P02,22,2,4,4,2,20040624,607,30.0009,138.8016,2335,249.9,17.2412,34.8007,2,34.8025,2,-999,9,-999,9,3.09,2,3.23,2,0.01,2,0.28,2,0.49,2,7.39,2
318M200406,P02,22,2,3,3,2,20040624,601,30.0013,138.8012,2334,501.8,13.1983,34.4769,2,34.4716,2,-999,9,-999,9,17.12,2,13.62,2,0,2,1.01,2,0.65,2,6.35,2
318M200406,P02,22,2,2,2,2,20040624,556,30.0017,138.8013,2331,704.4,8.1722,34.1876,2,34.1918,2,-999,9,-999,9,48.17,2,25.64,2,0,2,1.9,2,0.76,2,3.99,2
318M200406,P02,22,2,1,1,2,20040624,548,30.0022,138.8016,2328,1006.6,4.3171,34.2912,2,34.2942,2,-999,9,-999,9,105.99,2,38.73,2,0,2,2.85,2,1.08,2,2.45,2
318M200406,P02,24,1,12,12,2,20040624,1458,29.9962,139.9358,2981,15.7,23.8487,34.6664,2,34.6814,2,-999,9,-999,9,1.51,2,0.22,2,0,2,0.07,2,0.6,2,8.81,2
318M200406,P02,24,1,11,11,2,20040624,1455,29.9963,139.9361,2968,38,22.5779,34.7283,2,34.7553,2,-999,9,-999,9,1.69,2,0.22,2,0,2,0.06,2,0.51,2,7.87,2
318M200406,P02,24,1,10,10,2,20040624,1454,29.9963,139.9362,2969,64.5,20.5812,34.809,2,34.8188,2,-999,9,-999,9,1.88,2,0.27,2,0.01,2,0.08,2,0.41,2,6.83,2
318M200406,P02,24,1,9,9,2,20040624,1453,29.9964,139.9364,2969,83.7,19.8639,34.824,2,34.8291,2,-999,9,-999,9,2.05,2,0.45,2,0.03,2,0.1,2,0.45,2,7.09,2
318M200406,P02,24,1,8,8,2,20040624,1452,29.9964,139.9365,2972,105.2,19.3447,34.831,2,34.835,2,-999,9,-999,9,2.06,2,0.88,2,0.06,2,0.13,2,0.55,2,6.7,2
318M200406,P02,24,1,7,7,2,20040624,1451,29.9965,139.9366,2972,136.3,18.5037,34.828,2,34.836,2,-999,9,-999,9,2.41,2,1.87,2,0.1,2,0.2,2,0.7,2,7.77,2
318M200406,P02,24,1,6,6,2,20040624,1449,29.9966,139.9368,2969,184.7,17.8315,34.8039,2,34.801,2,-999,9,-999,9,3.48,2,3.81,2,0.01,2,0.32,2,0.9,2,8.55,2
318M200406,P02,24,1,13,13,2,20040624,1448,29.9966,139.9371,2969,235.4,17.2556,34.7699,2,34.7865,2,-999,9,-999,9,4.19,2,4.6,2,0.01,2,0.36,2,0.78,2,8.73,2
318M200406,P02,24,1,4,4,2,20040624,1447,29.9967,139.9373,2969,285.2,16.9651,34.7611,2,34.7633,2,-999,9,-999,9,4.55,2,4.81,2,0.01,2,0.38,2,0.74,2,9.14,2
318M200406,P02,24,1,3,3,2,20040624,1441,29.997,139.9382,2972,471.8,13.7532,34.5085,2,34.5132,2,-999,9,-999,9,14.48,2,12.3,2,0,2,0.9,2,0.8,2,7.17,2
318M200406,P02,24,1,2,2,2,20040624,1435,29.9972,139.939,2969,674.3,8.213,34.2013,2,34.2063,2,-999,9,-999,9,49.21,2,25.86,2,0,2,1.9,2,0.96,2,4.83,2
318M200406,P02,24,1,1,1,2,20040624,1427,29.9978,139.9404,2971,977.4,4.3303,34.2978,2,34.3038,2,-999,9,-999,9,107.33,2,38.61,2,0,2,2.83,2,1.11,2,3.5,2
318M200406,P02,26,1,12,12,2,20040625,320,30.0077,141.1127,3552,17.4,24.5,34.7438,2,34.7561,2,-999,9,-999,9,1.35,2,0.14,2,0,2,0.06,2,0.51,2,7.36,2
318M200406,P02,26,1,11,11,2,20040625,319,30.0076,141.1126,3551,34.4,22.5476,34.7329,2,34.7738,2,-999,9,-999,9,1.35,2,0.15,2,0,2,0.07,2,0.43,2,6.8,2
318M200406,P02,26,1,10,10,2,20040625,318,30.0075,141.1125,3552,49.6,20.8794,34.7924,2,34.8086,2,-999,9,-999,9,1.69,2,0.15,2,0,2,0.08,2,0.37,2,5.71,2
318M200406,P02,26,1,9,9,2,20040625,317,30.0074,141.1125,3551,68.9,19.2723,34.8442,2,34.8574,2,-999,9,-999,9,1.87,2,0.15,2,0,2,0.09,2,0.38,2,5.33,2
318M200406,P02,26,1,8,8,2,20040625,316,30.0073,141.1124,3553,89.5,18.3533,34.8312,2,34.8374,2,-999,9,-999,9,2.56,2,1.14,2,0.11,2,0.17,2,0.47,2,6.39,2
318M200406,P02,26,1,7,7,2,20040625,315,30.0071,141.1123,3552,119.3,17.9684,34.8167,2,34.8228,2,-999,9,-999,9,3.25,2,3.05,2,0.03,2,0.27,2,0.61,2,8.59,2
318M200406,P02,26,1,6,6,2,20040625,314,30.0069,141.1121,3552,169.6,17.3419,34.7981,2,34.8042,2,-999,9,-999,9,3.43,2,3.42,2,0.02,2,0.28,2,0.6,2,8.93,2
318M200406,P02,26,1,13,13,2,20040625,312,30.0067,141.1119,3552,220,17.093,34.7946,2,34.8006,2,-999,9,-999,9,3.6,2,3.58,2,0.01,2,0.29,2,0.55,2,9.87,2
318M200406,P02,26,1,4,4,2,20040625,310,30.0065,141.1118,3553,271,16.6257,34.7318,2,34.7381,2,-999,9,-999,9,5.53,2,5.58,2,0.01,2,0.43,2,0.68,2,10.12,3
318M200406,P02,26,1,3,3,2,20040625,306,30.0057,141.1112,3556,441.4,12.7478,34.4382,2,34.4417,2,-999,9,-999,9,18.07,2,14.08,2,0,2,1.03,2,0.73,2,7.47,2
318M200406,P02,26,1,2,2,2,20040625,301,30.0047,141.1104,3556,643,7.4702,34.1489,2,34.1583,2,-999,9,-999,9,55.19,2,27.63,2,0,2,2.04,2,1,2,5.08,2
318M200406,P02,26,1,1,1,2,20040625,253,30.0036,141.1092,3557,946.8,4.1792,34.262,2,34.2717,2,-999,9,-999,9,108.16,2,39.38,2,0,2,2.88,2,1.53,2,3.8,2
318M200406,P02,28,2,12,12,2,20040625,2141,30.0059,142.2655,0,18.8,26.5118,34.9202,2,34.9349,2,-999,9,-999,9,1.35,2,0.22,2,0,2,0.06,2,0.6,2,7.86,2
318M200406,P02,28,2,11,11,2,20040625,2140,30.0061,142.2654,5847,39.3,22.1925,34.9259,2,34.932,2,-999,9,-999,9,1.51,2,0.22,2,0,2,0.07,2,0.41,2,7.3,2
318M200406,P02,28,2,10,10,2,20040625,2139,30.0063,142.2653,5845,59.3,21.0725,34.9117,2,34.9066,2,-999,9,-999,9,1.69,2,0.22,2,0,2,0.09,2,0.39,2,6.78,2
318M200406,P02,28,2,9,9,2,20040625,2138,30.0064,142.2652,5841,78.4,19.5726,34.8615,2,34.8643,2,-999,9,-999,9,1.86,2,0.3,2,0.02,2,0.1,2,0.37,2,6.09,2
318M200406,P02,28,2,8,8,2,20040625,2137,30.0065,142.2651,5814,100.2,18.7864,34.8451,2,34.8492,2,-999,9,-999,9,2.2,2,0.73,2,0.19,2,0.15,2,0.42,2,5.71,2
318M200406,P02,28,2,7,7,2,20040625,2136,30.0066,142.265,5838,125.3,18.4582,34.837,2,34.8406,2,-999,9,-999,9,2.73,2,2.18,2,0.12,2,0.22,2,0.56,2,7.28,2
318M200406,P02,28,2,6,6,2,20040625,2135,30.0068,142.2649,5956,150.6,18.0449,34.815,2,34.8144,2,-999,9,-999,9,3.25,2,3.12,2,0.04,2,0.28,2,0.73,2,8.32,2
318M200406,P02,28,2,13,13,2,20040625,2134,30.0069,142.2647,5835,200.3,17.3138,34.7753,2,34.7803,2,-999,9,-999,9,4.12,2,4.27,2,0.01,2,0.37,2,0.75,2,9.83,2
318M200406,P02,28,2,4,4,2,20040625,2132,30.007,142.2644,5796,251.5,16.8659,34.7486,2,34.7535,2,-999,9,-999,9,4.81,2,4.99,2,0.01,2,0.42,2,0.72,3,17.88,3
318M200406,P02,28,2,3,3,2,20040625,2126,30.0065,142.2635,5799,503,11.7509,34.3759,2,34.3776,2,-999,9,-999,9,22.94,2,16.35,2,0,2,1.22,2,0.79,2,7.25,2
318M200406,P02,28,2,2,2,2,20040625,2121,30.006,142.2627,5990,703.7,6.3879,34.0639,2,34.0708,2,-999,9,-999,9,59.62,2,29.39,2,0,2,2.19,2,0.85,2,5.2,2
318M200406,P02,28,2,1,1,2,20040625,2115,30.0052,142.2622,0,1006.3,3.9427,34.2668,2,34.2733,2,-999,9,-999,9,112.97,2,40.42,2,0,2,2.96,2,0.95,2,3.96,2
318M200406,P02,30,2,12,12,2,20040626,2056,30.0001,143.1773,5953,15.8,25.3189,34.8534,2,34.8186,2,-999,9,-999,9,1.5,2,0.19,2,0.01,2,0.04,2,0.56,2,5.74,2
318M200406,P02,30,2,11,11,2,20040626,2054,30.0001,143.1772,5953,39.1,21.4189,34.8048,2,34.8385,2,-999,9,-999,9,1.66,2,0.09,2,0.01,2,0.06,2,0.35,2,4.78,2
318M200406,P02,30,2,10,10,2,20040626,2053,30.0001,143.1772,5953,63.5,19.9884,34.8595,2,34.8529,2,-999,9,-999,9,2,2,0.61,2,0.04,2,0.11,2,0.38,2,5.07,2
318M200406,P02,30,2,9,9,2,20040626,2052,30.0001,143.1772,5953,83.6,18.7563,34.8438,2,34.8468,2,-999,9,-999,9,2.17,2,1.18,2,0.12,2,0.11,2,0.4,2,5.26,2
318M200406,P02,30,2,8,8,2,20040626,2051,30.0001,143.1773,5953,105.6,18.2155,34.8118,2,34.8192,2,-999,9,-999,9,3.04,2,2.94,2,0.04,2,0.22,2,0.57,2,6.41,2
318M200406,P02,30,2,7,7,2,20040626,2050,30.0001,143.1773,5953,135.6,17.7859,34.7951,2,34.8019,2,-999,9,-999,9,3.39,2,3.52,2,0.03,2,0.26,2,0.55,2,7.16,2
318M200406,P02,30,2,6,6,2,20040626,2048,30.0001,143.1773,5953,186.2,17.2168,34.7666,2,34.7726,2,-999,9,-999,9,3.91,2,4.3,2,0.02,2,0.3,2,0.76,2,7.04,2
318M200406,P02,30,2,13,13,2,20040626,2047,30.0001,143.1773,5953,234.7,16.8753,34.7592,2,34.7626,2,-999,9,-999,9,4.25,2,4.6,2,0.02,2,0.33,2,0.68,3,10.7,3
318M200406,P02,30,2,4,4,2,20040626,2045,30.0001,143.1773,5953,285.4,16.2153,34.6946,2,34.7058,2,-999,9,-999,9,6.37,2,6.68,2,0.02,2,0.47,2,0.7,2,8.48,2
318M200406,P02,30,2,3,3,2,20040626,2041,30.0001,143.1773,5953,460.4,12.1121,34.3853,2,34.391,2,-999,9,-999,9,19.05,2,14.75,2,0.01,2,1.05,2,0.72,2,5.4,2
318M200406,P02,30,2,2,2,2,20040626,2036,30.0001,143.1773,5953,673.6,6.7281,34.0481,2,34.0521,2,-999,9,-999,9,52.79,2,27.8,2,0.01,2,2.03,2,0.84,2,2.95,2
318M200406,P02,30,2,1,1,2,20040626,2029,30.0001,143.1773,5954,977,4.0754,34.2453,2,34.2482,2,-999,9,-999,9,108.6,2,40.15,2,0.01,2,2.9,2,1.03,2,2.5,2
318M200406,P02,32,1,12,12,2,20040627,825,29.9958,144.3242,5684,16.8,27.2779,34.9663,2,34.9163,2,-25.2,2,-999,9,1.39,2,0.03,2,0,2,0.03,2,0.53,2,6.18,2
318M200406,P02,32,1,11,11,2,20040627,824,29.9957,144.3244,5685,34.3,22.4258,34.9067,2,34.9018,2,-26.1,2,-999,9,1.39,2,0.09,2,0,2,0.03,2,0.41,2,4.95,2
318M200406,P02,32,1,10,10,2,20040627,824,29.9957,144.3244,5675,49.6,20.6358,34.9052,2,34.9045,2,-26.1,2,-999,9,1.56,2,0.09,2,0,2,0.04,2,0.37,2,4.81,2
318M200406,P02,32,1,9,9,2,20040627,822,29.9957,144.3245,5696,70.1,19.7419,34.8891,2,34.8851,2,-21.6,2,-999,9,1.73,2,0.13,2,0.02,2,0.08,2,0.35,2,4.76,2
318M200406,P02,32,1,8,8,2,20040627,821,29.9957,144.3246,5695,89.7,19.1177,34.8595,2,34.8581,2,-16.4,2,-999,9,2.44,2,1.92,2,0.07,2,0.18,2,0.49,2,6.52,2
318M200406,P02,32,1,7,7,2,20040627,820,29.9957,144.3247,5696,119.5,18.1293,34.8123,2,34.8143,2,-26.7,2,-999,9,3.16,2,3.34,2,0.02,2,0.25,2,0.65,2,6.47,2
318M200406,P02,32,1,6,6,2,20040627,819,29.9958,144.3249,5690,169.9,17.3642,34.7843,2,34.7891,2,-29.2,2,-999,9,3.33,2,3.61,2,0.02,2,0.26,2,0.51,2,6.1,2
318M200406,P02,32,1,13,13,2,20040627,817,29.9958,144.325,5689,221.3,17.1356,34.8003,2,34.8037,2,-30.3,2,-999,9,3.32,2,3.35,2,0.01,2,0.25,2,0.52,2,6.88,2
318M200406,P02,32,1,4,4,2,20040627,816,29.9958,144.3251,5689,270.8,16.6588,34.7384,2,34.7415,2,-30.7,2,-999,9,4.76,2,5.25,2,0.01,2,0.37,2,0.58,2,7.81,2
318M200406,P02,32,1,3,3,2,20040627,811,29.9958,144.3256,5676,441.8,13.1744,34.4614,2,34.4616,2,-33.3,2,-999,9,15.36,2,12.95,2,0,2,0.92,2,0.7,2,5.58,2
318M200406,P02,32,1,2,2,2,20040627,805,29.996,144.3263,5675,643.2,8.1012,34.1011,2,34.0995,2,-37.3,2,-999,9,40.64,2,24.06,2,0,2,1.73,2,0.65,2,3.2,2
318M200406,P02,32,1,1,1,2,20040627,759,29.9965,144.3278,5695,946.2,4.3552,34.1979,2,34.2009,2,-41.6,2,-999,9,101.23,2,39.62,2,0,2,2.86,2,0.82,2,2.13,2
318M200406,P02,34,2,12,12,2,20040628,858,30.013,145.4849,5888,14.8,27.8651,34.9504,2,34.9357,2,-999,9,-999,9,1.62,2,0.16,2,0,2,0.03,2,0.77,2,7.6,2
318M200406,P02,34,2,11,11,2,20040628,856,30.0128,145.485,5889,38.6,22.3446,34.829,2,34.8436,2,-999,9,-999,9,1.98,2,0.11,2,0,2,0.03,2,0.31,2,4.91,2
318M200406,P02,34,2,10,10,2,20040628,855,30.0126,145.4851,5890,58.6,20.7631,34.922,2,34.9052,2,-999,9,-999,9,1.8,2,0.1,2,0,2,0.04,2,0.32,2,4.82,2
318M200406,P02,34,2,9,9,2,20040628,854,30.0124,145.4851,5891,79.7,19.6952,34.9301,2,34.9304,2,-999,9,-999,9,1.98,2,0.1,2,0,2,0.05,2,0.32,2,5.44,2
318M200406,P02,34,2,8,8,2,20040628,853,30.0122,145.4853,5885,100.9,19.0872,34.903,2,34.9013,2,-999,9,-999,9,2.16,2,0.54,2,0.13,2,0.09,2,0.34,2,4.94,2
318M200406,P02,34,2,7,7,2,20040628,852,30.012,145.4854,5893,124.4,18.4749,34.8545,2,34.8545,2,-999,9,-999,9,2.52,2,2.28,2,0.07,2,0.19,2,0.41,2,5.71,2
318M200406,P02,34,2,6,6,2,20040628,850,30.0117,145.4854,5894,150.1,17.9672,34.8144,2,34.8089,2,-999,9,-999,9,3.07,2,3.17,2,0.03,2,0.23,2,0.45,2,5.78,2
318M200406,P02,34,2,13,13,2,20040628,848,30.0111,145.4857,5890,201.1,17.3849,34.8099,2,34.8103,2,-999,9,-999,9,3.07,2,3.07,2,0.01,2,0.23,2,0.58,2,6.31,2
318M200406,P02,34,2,4,4,2,20040628,846,30.0108,145.4858,5890,251.7,17.0663,34.7755,2,34.7773,2,-999,9,-999,9,3.79,2,3.97,2,0.01,2,0.29,2,0.55,2,5.15,2
318M200406,P02,34,2,3,3,2,20040628,838,30.0098,145.4863,5912,502.5,12.4855,34.4057,2,34.4029,2,-999,9,-999,9,16.75,2,13.45,2,0,2,0.95,2,0.61,2,2.75,3
318M200406,P02,34,2,2,2,2,20040628,832,30.0087,145.4868,5910,705.1,7.1291,34.0603,2,34.0623,2,-999,9,-999,9,49.28,2,26.8,2,0,2,1.97,2,0.52,3,7.37,3
318M200406,P02,34,2,1,1,2,20040628,821,30.0071,145.4877,5909,1008.5,4.1019,34.2363,2,34.2393,2,-999,9,-999,9,107.97,2,40.05,2,0,2,2.92,2,0.86,2,2.53,2
318M200406,P02,36,2,12,12,2,20040629,117,29.9806,146.6723,6152,16.9,25.6524,34.8447,2,34.8631,2,-999,9,-999,9,1.27,2,0.14,2,0,2,0.03,2,0.35,2,5.99,2
318M200406,P02,36,2,11,11,2,20040629,115,29.9809,146.6722,6152,43.4,22.3953,34.8805,2,34.875,2,-999,9,-999,9,1.46,2,0.09,2,0,2,0.03,2,0.28,2,5.38,2
318M200406,P02,36,2,10,10,2,20040629,114,29.9813,146.6721,6151,67.6,20.0363,34.9173,2,34.9134,2,-999,9,-999,9,1.63,2,0,2,0,2,0.04,2,0.26,2,5.27,2
318M200406,P02,36,2,9,9,2,20040629,113,29.9816,146.672,6152,87.7,19.1428,34.8927,2,34.8882,2,-999,9,-999,9,1.99,2,0.04,2,0,2,0.06,2,0.26,2,5.49,2
318M200406,P02,36,2,8,8,2,20040629,112,29.9818,146.6719,6152,107.9,18.5697,34.8498,2,34.8541,2,-999,9,-999,9,2.17,2,0.73,2,0.14,2,0.12,2,0.35,2,5.18,2
318M200406,P02,36,2,7,7,2,20040629,110,29.9821,146.6719,6152,138.7,17.8441,34.8152,2,34.8177,2,-999,9,-999,9,3.08,2,2.69,2,0.07,2,0.22,2,0.51,2,6.79,2
318M200406,P02,36,2,6,6,2,20040629,108,29.9827,146.6718,6151,188.3,17.2787,34.7997,2,34.8038,2,-999,9,-999,9,3.26,2,3.42,2,0.02,2,0.25,2,0.53,2,8.62,2
318M200406,P02,36,2,13,13,2,20040629,107,29.9831,146.6717,6151,238.5,17.1159,34.8043,2,34.8083,2,-999,9,-999,9,3.43,2,3.43,2,0.01,2,0.24,2,0.52,2,8.13,2
318M200406,P02,36,2,4,4,2,20040629,105,29.9834,146.6717,6151,288.9,16.8062,34.7651,2,34.7678,2,-999,9,-999,9,4.52,2,4.58,2,0.01,2,0.33,2,0.53,2,8.71,2
318M200406,P02,36,2,3,3,2,20040629,100,29.9846,146.6716,6151,465.3,13.5834,34.5022,2,34.5052,2,-999,9,-999,9,15.87,2,12.87,2,0.01,2,0.91,2,0.67,2,7.13,2
318M200406,P02,36,2,2,2,2,20040629,55,29.9857,146.6718,6152,676.2,7.8226,34.0978,2,34.1084,2,-999,9,-999,9,43.54,2,24.21,2,0,2,1.75,2,0.78,2,4.27,2
318M200406,P02,36,2,1,1,2,20040629,46,29.9871,146.6721,6152,978.8,4.1111,34.2294,2,34.2328,2,-999,9,-999,9,108.08,2,40.41,2,0,2,2.89,2,0.97,2,2.69,2
318M200406,P02,38,1,12,12,2,20040629,1231,30.0045,147.9637,6118,18.1,25.9168,35.0283,2,35.0138,2,-999,9,-999,9,1.39,2,0.12,2,0,2,0.03,2,0.48,2,6.75,2
318M200406,P02,38,1,11,11,2,20040629,1230,30.0045,147.9634,6117,36.5,23.2815,34.9866,2,34.9815,2,-999,9,-999,9,1.4,2,0.07,2,0,2,0.02,2,0.29,2,6.16,2
318M200406,P02,38,1,10,10,2,20040629,1229,30.0046,147.9632,6117,52.3,21.6437,34.9504,2,34.9487,2,-999,9,-999,9,1.42,2,0.12,2,0,2,0.03,2,0.26,2,5.57,2
318M200406,P02,38,1,9,9,2,20040629,1228,30.0046,147.963,6117,73,20.447,34.8955,2,34.9044,2,-999,9,-999,9,1.43,2,0.07,2,0,2,0.03,2,0.24,2,5.1,2
318M200406,P02,38,1,8,8,2,20040629,1227,30.0046,147.9628,6116,93.6,19.6183,34.9043,2,34.9082,2,-999,9,-999,9,1.62,2,0.07,2,0,2,0.04,2,0.28,2,5.09,2
318M200406,P02,38,1,7,7,2,20040629,1226,30.0047,147.9626,6116,121.8,18.9279,34.8769,2,34.8895,2,-999,9,-999,9,2.18,2,1.54,2,0.04,2,0.14,2,0.26,2,5.98,2
318M200406,P02,38,1,6,6,2,20040629,1224,30.0047,147.9623,6115,173.6,18.0566,34.825,2,34.8211,2,-999,9,-999,9,2.92,2,2.98,2,0.02,2,0.22,2,0.36,2,6.64,2
318M200406,P02,38,1,13,13,2,20040629,1220,30.0049,147.9613,6115,222.1,17.4213,34.785,2,34.7867,2,-999,9,-999,9,3.29,2,3.56,2,0.01,2,0.26,2,0.36,2,7,2
318M200406,P02,38,1,4,4,2,20040629,1218,30.0049,147.961,6114,273.4,16.9976,34.7671,2,34.77,2,-999,9,-999,9,3.85,2,4.19,2,0.01,2,0.29,2,0.44,2,7.61,2
318M200406,P02,38,1,3,3,2,20040629,1214,30.0049,147.9605,6115,443.8,14.4357,34.546,2,34.5445,2,-999,9,-999,9,10.94,2,10.32,2,0.01,2,0.71,2,0.48,2,6.28,2
318M200406,P02,38,1,2,2,2,20040629,1208,30.0049,147.9594,6113,645.1,9.3438,34.1762,2,34.178,2,-999,9,-999,9,31.06,2,20.24,2,0,2,1.45,2,0.56,2,4.2,2
318M200406,P02,38,1,1,1,2,20040629,1200,30.0039,147.9579,6113,947.3,4.5652,34.1745,2,34.1756,2,-999,9,-999,9,95.84,2,38.73,2,0,2,2.79,2,0.78,2,2.31,2
318M200406,P02,40,1,12,12,2,20040630,621,29.9915,149.2608,6125,15.7,27.9377,35.0215,2,35.0069,2,-999,9,-999,9,1.09,2,0.07,2,0,2,0.02,2,0.53,2,7.32,2
318M200406,P02,40,1,11,11,2,20040630,620,29.9915,149.2609,6127,38.6,22.5925,34.9637,2,34.9668,2,-999,9,-999,9,1.28,2,0.08,2,0,2,0.02,2,0.27,2,6.19,2
318M200406,P02,40,1,10,10,2,20040630,618,29.9915,149.2611,6127,58.6,21.411,34.9506,2,34.9221,2,-999,9,-999,9,1.46,2,0.14,2,0,2,0.03,2,0.26,2,5.54,2
318M200406,P02,40,1,9,9,2,20040630,617,29.9915,149.2611,6127,81,19.8926,34.8251,2,34.8265,2,-999,9,-999,9,1.83,2,0.14,2,0,2,0.05,2,0.24,2,4.65,2
318M200406,P02,40,1,8,8,2,20040630,615,29.9916,149.2613,6125,103.9,19.077,34.8302,2,34.8307,2,-999,9,-999,9,2,2,0.36,2,0.1,2,0.09,2,0.3,2,4.18,2
318M200406,P02,40,1,7,7,2,20040630,614,29.9916,149.2613,6127,128.2,18.3427,34.8197,2,34.824,2,-999,9,-999,9,2.55,2,1.26,2,0.26,2,0.15,2,0.34,2,5.44,2
318M200406,P02,40,1,6,6,2,20040630,613,29.9917,149.2613,6127,152.1,17.728,34.8032,2,34.8067,2,-999,9,-999,9,2.55,2,2.36,2,0.17,2,0.2,2,0.34,2,5.28,2
318M200406,P02,40,1,13,13,2,20040630,612,29.9918,149.2613,6126,202.4,17.2503,34.7997,2,34.8029,2,-999,9,-999,9,3.27,2,3.51,2,0.01,2,0.24,2,0.41,2,7.11,2
318M200406,P02,40,1,4,4,2,20040630,611,29.9919,149.2613,6126,252.4,17.1064,34.7958,2,34.7996,2,-999,9,-999,9,3.46,2,3.68,2,0.01,2,0.25,2,0.44,2,7.96,2
318M200406,P02,40,1,3,3,2,20040630,604,29.9928,149.2613,6126,502.3,13.2573,34.4737,2,34.4681,2,-999,9,-999,9,15.44,2,12.86,2,0,2,0.88,2,0.51,2,6.3,2
318M200406,P02,40,1,2,2,2,20040630,559,29.9933,149.2609,6125,708.1,8.1029,34.0932,2,34.0999,2,-999,9,-999,9,38.79,2,23.29,2,0,2,1.65,2,0.53,2,3.75,2
318M200406,P02,40,1,1,1,2,20040630,549,29.9945,149.2611,6125,1006.5,4.3762,34.1845,2,34.1917,2,-999,9,-999,9,100.71,2,39.71,2,0,2,2.81,2,0.65,2,2.44,2