BOTTLE,20201022CCHSIOLMM
EXPOCODE,SECT_ID,STNNBR,CASTNO,SAMPNO,BTLNBR,BTLNBR_FLAG_W,DATE,TIME,LATITUDE,LONGITUDE,DEPTH,CTDPRS,CTDTMP,CTDSAL,CTDSAL_FLAG_W,SALNTY,SALNTY_FLAG_W,CTDOXY,CTDOXY_FLAG_W,OXYGEN,OXYGEN_FLAG_W,SILCAT,SILCAT_FLAG_W,NITRAT,NITRAT_FLAG_W,NITRIT,NITRIT_FLAG_W,PHSPHT,PHSPHT_FLAG_W,FE,FE_FLAG_W,ALUM,ALUM_FLAG_W
,,,,,,,,,,,,DBAR,ITS-90,PSS-78,,PSS-78,,UMOL/KG,,UMOL/KG,,UMOL/KG,,UMOL/KG,,UMOL/KG,,UMOL/KG,,NMOL/L,,NMOL/L,
318M200406,P02,86,1,12,12,2,20040715,2344,29.9861,-179.2169,5422,14.6,24.8854,35.123,2,35.1303,2,-999,9,-999,9,1.3,2,0.15,2,0,2,0.02,2,0.31,2,3.65,2
318M200406,P02,86,1,11,11,2,20040715,2343,29.9863,-179.217,5420,34.2,22.0833,35.1387,2,35.1451,2,-999,9,-999,9,1.46,2,0.14,2,0,2,0.02,2,0.32,2,5.3,3
318M200406,P02,86,1,10,10,2,20040715,2342,29.9865,-179.2171,5420,49.2,21.2038,35.1266,2,35.0748,2,-999,9,-999,9,1.61,2,0.14,2,0,2,0.03,2,0.29,2,3.08,2
318M200406,P02,86,1,9,9,2,20040715,2341,29.9867,-179.2171,5407,68.6,19.4546,34.9902,2,34.9965,2,-999,9,-999,9,1.96,2,0.14,2,0,2,0.05,2,0.29,2,2.99,2
318M200406,P02,86,1,8,8,2,20040715,2340,29.987,-179.2172,5420,89.6,18.3503,34.8856,2,34.8802,2,-999,9,-999,9,2.51,2,0.78,2,0.05,2,0.14,2,0.31,2,2.95,2
318M200406,P02,86,1,7,7,2,20040715,2339,29.9873,-179.2172,5419,121.4,17.2643,34.7734,2,34.7756,2,-999,9,-999,9,3.06,2,1.68,2,0.27,2,0.19,2,0.31,2,3.44,2
318M200406,P02,86,1,6,6,2,20040715,2338,29.9876,-179.2172,5420,170.2,16.5176,34.7208,2,34.7194,2,-999,9,-999,9,4.2,2,4.21,2,0.02,2,0.31,2,0.35,2,6.63,3
318M200406,P02,86,1,13,13,2,20040715,2335,29.9883,-179.2172,5419,223.3,15.9013,34.6742,2,34.6785,2,-999,9,-999,9,5.15,2,4.91,2,0.01,2,0.36,2,0.35,2,5.71,2
318M200406,P02,86,1,4,4,2,20040715,2334,29.9887,-179.2172,5420,270.9,15.3407,34.6307,2,34.6353,2,-999,9,-999,9,5.91,2,5.59,2,0.01,2,0.41,2,0.42,2,5.9,2
318M200406,P02,86,1,3,3,2,20040715,2329,29.9901,-179.2173,5407,442.3,11.9483,34.3619,2,34.3661,2,-999,9,-999,9,16.39,2,13.12,2,0.01,2,0.93,2,0.52,2,4.64,2
318M200406,P02,86,1,2,2,2,20040715,2322,29.9917,-179.2175,5419,644.3,7.0795,34.0237,2,34.0271,2,-999,9,-999,9,46.71,2,25.89,2,0.01,2,1.89,2,0.62,2,2.68,2
318M200406,P02,86,1,1,1,2,20040715,2315,29.9937,-179.2175,5420,946.7,3.9967,34.2169,2,34.2243,2,-999,9,-999,9,109.85,2,41.15,2,0.01,2,2.96,2,0.72,2,4.13,3
318M200406,P02,88,2,12,12,2,20040716,1944,30.0205,-177.9846,5245,13.8,24.994,34.6885,2,34.7525,2,-999,9,-999,9,2.19,2,0.16,2,0,2,0.03,2,0.29,2,2.63,2
318M200406,P02,88,2,11,11,2,20040716,1943,30.0201,-177.9844,5242,38.8,18.9576,34.7574,2,34.7468,2,-999,9,-999,9,2.38,2,0.16,2,0,2,0.05,2,0.3,2,2.67,2
318M200406,P02,88,2,10,10,2,20040716,1942,30.0198,-177.9844,5240,58.3,17.622,34.7312,2,34.7315,2,-999,9,-999,9,2.37,2,0.11,2,0,2,0.07,2,0.4,3,2.75,2
318M200406,P02,88,2,9,9,2,20040716,1941,30.0195,-177.9843,5241,79.2,16.7916,34.706,2,34.7085,2,-999,9,-999,9,2.76,2,0.44,2,0.03,2,0.11,2,0.24,2,2.53,2
318M200406,P02,88,2,8,8,2,20040716,1939,30.019,-177.9841,5242,101.1,16.2796,34.6784,2,34.6816,2,-999,9,-999,9,3.53,2,2.77,2,0.31,2,0.25,2,0.25,2,3.22,2
318M200406,P02,88,2,7,7,2,20040716,1938,30.0187,-177.984,5244,124.8,15.9274,34.656,2,34.6599,2,-999,9,-999,9,4.31,2,4.16,2,0.24,2,0.31,2,0.28,2,3.43,2
318M200406,P02,88,2,6,6,2,20040716,1938,30.0184,-177.984,5243,150.1,15.5977,34.627,2,34.6297,2,-999,9,-999,9,4.89,2,4.55,2,0.02,2,0.33,2,0.33,2,4.08,2
318M200406,P02,88,2,13,13,2,20040716,1934,30.0175,-177.9836,5231,201.4,14.7675,34.5668,2,34.5699,2,-999,9,-999,9,7.04,2,7.18,2,0.01,2,0.5,2,0.31,2,4.19,2
318M200406,P02,88,2,4,4,2,20040716,1932,30.0169,-177.9833,5225,251.3,13.8339,34.4946,2,34.4982,2,-999,9,-999,9,8.99,2,8.56,2,0,2,0.6,2,0.39,2,4.04,2
318M200406,P02,88,2,3,3,2,20040716,1920,30.0132,-177.9825,5170,502.9,9.0463,34.115,2,34.1186,2,-999,9,-999,9,26.79,2,18.14,2,0,2,1.31,2,0.49,2,2.78,2
318M200406,P02,88,2,2,2,2,20040716,1915,30.0111,-177.9824,5171,703.4,5.4081,34.0282,2,34.0344,2,-999,9,-999,9,71.48,2,33.24,2,0.52,2,2.47,2,0.66,2,1.47,2
318M200406,P02,88,2,1,1,2,20040716,1909,30.0086,-177.9822,5158,914.7,4.0313,34.2221,2,34.2252,2,-999,9,-999,9,107.87,2,40.84,2,0,2,2.99,2,0.7,2,1.31,2
318M200406,P02,90,1,12,12,2,20040717,631,29.9994,-176.7547,5391,14.5,24.5518,35.1782,2,35.1798,2,-999,9,-999,9,0.74,2,0.17,2,0,2,0.02,2,0.2,2,3.81,2
318M200406,P02,90,1,11,11,2,20040717,630,29.9993,-176.7547,5392,40.5,21.2675,35.1245,2,35.1038,2,-999,9,-999,9,0.97,2,0.12,2,0,2,0.03,2,0.16,2,3.16,2
318M200406,P02,90,1,10,10,2,20040717,629,29.9993,-176.7547,5376,63.6,18.2949,34.8503,2,34.8458,2,-999,9,-999,9,1.57,2,0.12,2,0,2,0.07,2,0.15,2,2.99,2
318M200406,P02,90,1,9,9,2,20040717,627,29.9991,-176.7547,5388,83.5,17.5346,34.793,2,34.7947,2,-999,9,-999,9,1.99,2,0.43,2,0.05,2,0.11,2,0.15,2,2.8,2
318M200406,P02,90,1,8,8,2,20040717,626,29.9991,-176.7546,5391,105.9,16.9879,34.7513,2,34.7507,2,-999,9,-999,9,2.61,2,1.81,2,0.11,2,0.19,2,0.18,2,3.25,2
318M200406,P02,90,1,7,7,2,20040717,626,29.999,-176.7545,5388,135.1,16.4009,34.7133,2,34.7112,2,-999,9,-999,9,3.42,2,3.72,2,0.02,2,0.28,2,0.22,2,4.44,2
318M200406,P02,90,1,6,6,2,20040717,624,29.9989,-176.7544,5392,184.8,15.5055,34.6211,2,34.6188,2,-999,9,-999,9,5.41,2,6.3,2,0.01,2,0.45,2,0.28,2,4.99,2
318M200406,P02,90,1,13,13,2,20040717,622,29.999,-176.7543,5392,238.7,14.6373,34.5536,2,34.5607,2,-999,9,-999,9,7.2,2,7.71,2,0,2,0.54,2,0.32,2,5.88,2
318M200406,P02,90,1,4,4,2,20040717,621,29.9991,-176.7542,5391,286.1,13.7088,34.4814,2,34.4875,2,-999,9,-999,9,9.2,2,9.17,2,0,2,0.65,2,0.33,2,5.42,2
318M200406,P02,90,1,3,3,2,20040717,616,29.9994,-176.7537,5391,473.5,9.7834,34.1727,2,34.1769,2,-999,9,-999,9,22.49,2,16.57,2,0,2,1.18,2,0.37,2,4.1,2
318M200406,P02,90,1,2,2,2,20040717,611,29.9997,-176.7539,5391,674.2,5.8573,34.0038,2,34.007,2,-999,9,-999,9,60.86,2,30.5,2,0,2,2.24,2,0.56,2,2.4,2
318M200406,P02,90,1,1,1,2,20040717,603,30.0003,-176.7542,5375,976.5,3.691,34.2805,2,34.2844,2,-999,9,-999,9,118.55,2,42.37,2,0,2,3.08,2,0.66,2,1.58,2
318M200406,P02,92,2,12,12,2,20040718,210,29.9883,-175.5111,5217,13.6,24.7716,34.714,2,34.7823,2,-999,9,-999,9,2.32,2,0.13,2,0,2,0.04,2,0.21,2,2.91,2
318M200406,P02,92,2,11,11,2,20040718,209,29.9886,-175.5113,5216,34.6,20.7761,34.8487,2,34.8247,2,-999,9,-999,9,2.31,2,0.13,2,0,2,0.05,2,0.21,2,2.76,2
318M200406,P02,92,2,10,10,2,20040718,208,29.9888,-175.5114,5197,49.1,19.0873,34.7896,2,34.7756,2,-999,9,-999,9,2.3,2,0.13,2,0,2,0.05,2,0.12,2,2.49,2
318M200406,P02,92,2,9,9,2,20040718,207,29.989,-175.5116,5216,68.8,17.4703,34.7186,2,34.7126,2,-999,9,-999,9,2.49,2,0.13,2,0,2,0.08,2,0.13,2,2.63,2
318M200406,P02,92,2,8,8,2,20040718,206,29.9892,-175.5118,5217,91,16.4432,34.6821,2,34.6849,2,-999,9,-999,9,2.89,2,1.37,2,0.22,2,0.19,2,0.14,2,2.72,2
318M200406,P02,92,2,7,7,9,20040718,205,29.9894,-175.5119,5217,120.2,15.9888,34.6595,2,-999,9,-999,9,-999,9,-999,9,-999,9,-999,9,-999,9,-999,9,-999,9
318M200406,P02,92,2,6,6,9,20040718,204,29.9897,-175.5122,5216,169.6,15.5532,34.6251,2,-999,9,-999,9,-999,9,-999,9,-999,9,-999,9,-999,9,-999,9,-999,9
318M200406,P02,92,2,13,13,9,20040718,202,29.9901,-175.5125,5215,222.1,14.5502,34.5476,2,-999,9,-999,9,-999,9,-999,9,-999,9,-999,9,-999,9,-999,9,-999,9
318M200406,P02,92,2,4,4,2,20040718,200,29.9904,-175.5126,5215,271.2,13.5198,34.4697,2,34.4755,2,-999,9,-999,9,9.41,2,8.87,2,0.01,2,0.63,2,0.28,2,4.2,2
318M200406,P02,92,2,3,3,2,20040718,154,29.9916,-175.5134,5214,441.8,10.0271,34.1854,2,34.1923,2,-999,9,-999,9,20.93,2,15.87,2,0,2,1.12,2,0.34,2,3.3,2
318M200406,P02,92,2,2,2,2,20040718,148,29.9929,-175.5142,5213,643.2,5.8907,34.0132,2,34.0197,2,-999,9,-999,9,61.64,2,30.98,2,0,2,2.24,2,0.48,2,2.13,2
318M200406,P02,92,2,1,1,2,20040718,140,29.9947,-175.5156,5212,947.9,3.8276,34.2669,2,34.274,2,-999,9,-999,9,113.66,2,42.11,2,0,2,3,2,0.5,2,1.5,2
318M200406,P02,94,2,6,6,9,20040718,1656,30.0028,-174.304,5254,30.1,20.8576,34.9265,2,-999,9,-999,9,-999,9,-999,9,-999,9,-999,9,-999,9,-999,9,-999,9
318M200406,P02,94,2,7,7,9,20040718,1656,30.0028,-174.3041,5254,30.2,20.836,34.9245,2,-999,9,-999,9,-999,9,-999,9,-999,9,-999,9,-999,9,-999,9,-999,9
318M200406,P02,94,2,1,1,9,20040718,1655,30.0028,-174.304,5253,30.3,20.8975,34.9264,2,-999,9,-999,9,-999,9,-999,9,-999,9,-999,9,-999,9,-999,9,-999,9
318M200406,P02,94,2,3,3,9,20040718,1655,30.0028,-174.304,5253,30.7,20.8073,34.9168,2,-999,9,-999,9,-999,9,-999,9,-999,9,-999,9,-999,9,-999,9,-999,9
318M200406,P02,94,2,9,9,9,20040718,1656,30.0028,-174.3041,5253,31,20.74,34.9191,2,-999,9,-999,9,-999,9,-999,9,-999,9,-999,9,-999,9,-999,9,-999,9
318M200406,P02,94,2,10,10,9,20040718,1656,30.0028,-174.3041,5253,31.4,20.7154,34.9159,2,-999,9,-999,9,-999,9,-999,9,-999,9,-999,9,-999,9,-999,9,-999,9
318M200406,P02,94,2,13,13,9,20040718,1656,30.0028,-174.304,5253,31.4,20.7367,34.9158,2,-999,9,-999,9,-999,9,-999,9,-999,9,-999,9,-999,9,-999,9,-999,9
318M200406,P02,94,2,12,12,9,20040718,1656,30.0029,-174.3041,5253,31.5,20.749,34.9168,2,-999,9,-999,9,-999,9,-999,9,-999,9,-999,9,-999,9,-999,9,-999,9
318M200406,P02,94,2,2,2,9,20040718,1655,30.0028,-174.304,5253,31.6,20.8263,34.9221,2,-999,9,-999,9,-999,9,-999,9,-999,9,-999,9,-999,9,-999,9,-999,9
318M200406,P02,94,2,4,4,9,20040718,1655,30.0028,-174.304,5253,31.8,20.6695,34.9141,2,-999,9,-999,9,-999,9,-999,9,-999,9,-999,9,-999,9,-999,9,-999,9
318M200406,P02,94,2,8,8,9,20040718,1656,30.0028,-174.3041,5253,31.8,20.6749,34.9102,2,-999,9,-999,9,-999,9,-999,9,-999,9,-999,9,-999,9,-999,9,-999,9
318M200406,P02,94,2,11,11,9,20040718,1656,30.0028,-174.3041,5253,31.9,20.6336,34.9126,2,-999,9,-999,9,-999,9,-999,9,-999,9,-999,9,-999,9,-999,9,-999,9
318M200406,P02,94,3,12,12,2,20040718,1758,30.001,-174.3043,5256,14.9,22.8135,34.8615,2,34.8727,2,-999,9,-999,9,2.06,2,0.17,2,0,2,0.04,2,0.18,2,2.71,2
318M200406,P02,94,3,11,11,2,20040718,1757,30.001,-174.3041,5255,40.2,18.4959,34.7812,2,34.7695,2,-999,9,-999,9,2.67,2,0.12,2,0,2,0.06,2,0.18,2,2.44,2
318M200406,P02,94,3,10,10,2,20040718,1756,30.001,-174.3041,5255,59.4,17.0623,34.716,2,34.7178,2,-999,9,-999,9,3.06,2,0.25,2,0.01,2,0.1,2,0.19,2,2.37,2
318M200406,P02,94,3,9,9,2,20040718,1755,30.001,-174.304,5255,80.8,16.4045,34.6872,2,34.6918,2,-999,9,-999,9,3.86,2,2.61,2,0.22,2,0.23,2,0.2,2,3.39,2
318M200406,P02,94,3,8,8,2,20040718,1754,30.0011,-174.3039,5254,100.6,16.139,34.6769,2,34.6822,2,-999,9,-999,9,4.06,2,3.48,2,0.05,2,0.27,2,0.24,2,3.38,2
318M200406,P02,94,3,15,15,2,20040718,1753,30.0011,-174.3039,5255,125.6,15.9035,34.6593,2,34.6616,2,-999,9,-999,9,4.65,2,3.71,2,0.02,2,0.29,2,0.42,4,4.98,4
318M200406,P02,94,3,14,14,2,20040718,1753,30.0011,-174.3038,5254,151.2,15.6296,34.6337,2,34.6386,2,-999,9,-999,9,5.04,2,4.44,2,0.02,2,0.33,2,0.35,4,5.95,4
318M200406,P02,94,3,5,5,2,20040718,1751,30.0011,-174.3038,5254,200.4,14.6625,34.5567,2,34.5582,2,-999,9,-999,9,7.5,2,7.18,2,0.01,2,0.52,2,0.32,4,4.31,4
318M200406,P02,94,3,4,4,2,20040718,1750,30.0012,-174.3037,5254,252.9,13.6267,34.4789,2,34.4824,2,-999,9,-999,9,9.53,2,8.86,2,0.01,2,0.63,2,0.31,2,4.13,2
318M200406,P02,94,3,3,3,2,20040718,1744,30.0011,-174.3032,5253,504.7,8.6216,34.0908,2,34.0962,2,-999,9,-999,9,30.29,2,19.93,2,0,2,1.43,2,0.42,2,2.83,2
318M200406,P02,94,3,2,2,2,20040718,1738,30.0013,-174.303,5253,704.5,5.248,34.0423,2,34.0492,2,-999,9,-999,9,75.06,2,34.86,2,0,2,2.51,2,0.57,2,1.8,2
318M200406,P02,94,3,1,1,2,20040718,1730,30.0017,-174.3042,5271,1008,3.5229,34.3311,2,34.3331,2,-999,9,-999,9,125.06,2,43.72,2,0,2,3.1,2,0.59,2,1.39,2
318M200406,P02,96,1,12,12,2,20040719,525,30.0003,-172.9817,5368,16.2,25.3488,35.2154,2,35.1865,2,-999,9,-999,9,1.74,2,0.07,2,0,2,0.03,2,0.22,2,3.68,2
318M200406,P02,96,1,11,11,2,20040719,523,30.0003,-172.9818,5368,39.5,20.0335,34.8764,2,34.8532,2,-999,9,-999,9,2.3,2,0.12,2,0,2,0.05,2,0.18,2,2.6,2
318M200406,P02,96,1,10,10,2,20040719,522,30.0003,-172.9818,5368,64.7,17.8783,34.7694,2,34.7693,2,-999,9,-999,9,2.66,2,0.12,2,0,2,0.08,2,0.19,2,2.3,2
318M200406,P02,96,1,9,9,2,20040719,521,30.0004,-172.9818,5369,86.3,17.0496,34.7445,2,34.7502,2,-999,9,-999,9,3.22,2,0.17,2,0,2,0.1,2,0.17,2,2.41,2
318M200406,P02,96,1,8,8,2,20040719,520,30.0004,-172.9818,5370,106.2,16.6523,34.7318,2,34.7388,2,-999,9,-999,9,3.58,2,1.65,2,0.17,2,0.2,2,0.19,2,2.53,2
318M200406,P02,96,1,15,15,2,20040719,519,30.0004,-172.9818,5370,135.9,16.0979,34.6788,2,34.6836,2,-999,9,-999,9,4.96,2,4.69,2,0.06,2,0.35,2,0.32,4,4.61,4
318M200406,P02,96,1,14,14,2,20040719,517,30.0004,-172.9819,5364,186.1,14.7785,34.5707,2,34.5741,2,-999,9,-999,9,7.56,2,7.52,2,0.01,2,0.54,2,0.38,4,7.34,4
318M200406,P02,96,1,5,5,2,20040719,515,30.0004,-172.9819,5364,236.5,13.961,34.5063,2,34.5076,2,-999,9,-999,9,9.36,2,9.06,2,0.01,2,0.65,2,0.28,2,4.1,2
318M200406,P02,96,1,4,4,2,20040719,514,30.0004,-172.982,5372,286.1,12.8827,34.423,2,34.4267,2,-999,9,-999,9,11.56,2,10.45,2,0.01,2,0.74,2,0.29,2,3.69,2
318M200406,P02,96,1,3,3,2,20040719,509,30.0007,-172.9822,5370,474,9.1568,34.1277,2,34.1328,2,-999,9,-999,9,26.82,2,18.91,2,0,2,1.34,2,0.36,2,2.7,2
318M200406,P02,96,1,2,2,2,20040719,503,30.001,-172.9822,5371,672.3,5.7306,34.0361,2,34.0417,2,-999,9,-999,9,67.04,2,33.36,2,0,2,2.4,2,0.51,2,1.62,2
318M200406,P02,96,1,1,1,2,20040719,454,30.0006,-172.9828,5367,978.1,3.7995,34.2818,2,34.2872,2,-999,9,-999,9,117.63,2,43.32,2,0,2,3.1,2,0.6,2,1.27,2
318M200406,P02,98,2,12,12,2,20040720,119,29.9966,-171.6758,5340,17,25.7542,35.3475,2,35.3139,2,-999,9,-999,9,1.64,2,0.08,2,0,2,0.02,2,0.21,2,4,2
318M200406,P02,98,2,11,11,2,20040720,118,29.9967,-171.6758,5341,29.2,24.6967,35.2957,2,35.245,2,-999,9,-999,9,1.83,2,0.08,2,0,2,0.02,2,0.19,2,3.67,2
318M200406,P02,98,2,10,10,2,20040720,117,29.9967,-171.6759,5341,47.3,22.4071,35.1628,2,35.1404,2,-999,9,-999,9,2.02,2,0.08,2,0,2,0.03,2,0.18,2,3.19,2
318M200406,P02,98,2,9,9,2,20040720,116,29.9968,-171.6759,5340,67.4,19.9246,35.056,2,35.0535,2,-999,9,-999,9,2.21,2,0.14,2,0,2,0.05,2,0.17,2,2.84,2
318M200406,P02,98,2,8,8,2,20040720,115,29.9969,-171.676,5340,88.9,18.9488,34.9793,2,34.9742,2,-999,9,-999,9,2.39,2,0.13,2,0,2,0.09,2,0.17,2,2.56,2
318M200406,P02,98,2,15,15,2,20040720,114,29.997,-171.676,5341,115.5,17.7476,34.839,2,-999,5,-999,9,-999,9,-999,5,-999,5,-999,5,-999,5,-999,1,-999,1
318M200406,P02,98,2,14,14,2,20040720,113,29.9972,-171.676,5340,166.6,16.1758,34.6884,2,-999,5,-999,9,-999,9,-999,5,-999,5,-999,5,-999,5,-999,1,-999,1
318M200406,P02,98,2,5,5,2,20040720,111,29.9973,-171.676,5341,217,15.1138,34.5825,2,-999,5,-999,9,-999,9,-999,5,-999,1,-999,5,-999,5,-999,1,-999,1
318M200406,P02,98,2,4,4,2,20040720,110,29.9973,-171.6761,5341,265.5,14.2647,34.5251,2,34.5254,2,-999,9,-999,9,8.95,2,8.31,2,0.01,2,0.59,2,0.29,2,4.32,2
318M200406,P02,98,2,3,3,2,20040720,106,29.9977,-171.6763,5340,437.5,10.7712,34.2417,2,34.2407,2,-999,9,-999,9,19.5,2,15.15,2,0.01,2,1.08,2,0.36,2,3.2,2
318M200406,P02,98,2,2,2,2,20040720,101,29.9981,-171.6765,5341,642,6.2794,34.0278,2,34.0358,2,-999,9,-999,9,59.82,2,30.53,2,0,2,2.22,2,0.53,2,1.94,2
318M200406,P02,98,2,1,1,2,20040720,53,29.9988,-171.6769,5341,944.9,3.912,34.259,2,34.275,2,-999,9,-999,9,115.06,2,42.66,2,0,2,3.09,2,0.69,2,1.59,2
318M200406,P02,100,2,12,12,2,20040720,1638,29.9936,-170.3724,5314,16.4,25.0635,35.1789,2,35.1888,2,-999,9,-999,9,2.11,2,0.12,2,0,2,0.03,2,0.24,2,3.33,2
318M200406,P02,100,2,11,11,2,20040720,1637,29.9937,-170.3723,5315,38.6,21.2244,35.1149,2,35.1382,2,-999,9,-999,9,2.31,2,0.11,2,0,2,0.03,2,0.2,2,2.86,2
318M200406,P02,100,2,10,10,2,20040720,1637,29.9939,-170.3723,5311,60.1,20.2422,35.1105,2,35.0551,2,-999,9,-999,9,2.3,2,0.11,2,0,2,0.05,2,0.19,2,2.47,2
318M200406,P02,100,2,9,9,2,20040720,1636,29.9941,-170.3722,5316,79.7,18.4709,34.9146,2,34.9109,2,-999,9,-999,9,2.49,2,0.06,2,0,2,0.07,2,0.17,2,2.25,2
318M200406,P02,100,2,8,8,2,20040720,1635,29.9943,-170.3721,5317,100.4,17.5383,34.8255,2,34.8178,2,-999,9,-999,9,2.89,2,0.4,2,0.06,2,0.12,2,0.17,2,2.06,2
318M200406,P02,100,2,15,15,2,20040720,1634,29.9945,-170.372,5317,124.2,16.5079,34.7182,2,34.7219,2,-999,9,-999,9,4.11,2,2.91,2,0.21,2,0.25,2,0.19,2,2.82,2
318M200406,P02,100,2,14,14,2,20040720,1633,29.9947,-170.3719,5312,148.3,15.7955,34.6509,2,34.6523,2,-999,9,-999,9,5.11,2,4.34,2,0.04,2,0.33,2,0.27,4,4.88,4
318M200406,P02,100,2,5,5,2,20040720,1632,29.995,-170.3716,5318,201.1,14.7365,34.5604,2,34.558,2,-999,9,-999,9,6.53,2,5.41,2,0.01,2,0.41,2,0.26,2,3.16,2
318M200406,P02,100,2,4,4,2,20040720,1630,29.9953,-170.3714,5319,248.5,13.7476,34.4748,2,34.4787,2,-999,9,-999,9,9.38,2,8.55,2,0.01,2,0.62,2,0.29,2,3.53,2
318M200406,P02,100,2,3,3,2,20040720,1624,29.996,-170.3709,5321,502.3,8.8348,34.1092,2,34.1156,2,-999,9,-999,9,30.42,2,20.4,2,0.01,2,1.46,2,0.4,2,2.4,2
318M200406,P02,100,2,2,2,2,20040720,1619,29.9956,-170.3709,5320,705.8,5.3301,34.0321,2,34.038,2,-999,9,-999,9,73.25,2,34.56,2,0.01,2,2.51,2,0.55,2,1.32,2
318M200406,P02,100,2,1,1,2,20040720,1611,29.9957,-170.3706,5321,1009.1,3.6965,34.3004,2,34.3068,2,-999,9,-999,9,121.29,2,43.28,2,0.01,2,3.13,2,0.6,2,1.36,2
318M200406,P02,102,1,12,12,2,20040721,401,29.9996,-169.0562,5332,14.8,23.8525,34.8718,2,-999,5,-999,9,-999,9,2.5,2,0.08,2,0,2,0.04,2,0.17,2,2.81,2
318M200406,P02,102,1,11,11,2,20040721,400,29.9997,-169.0559,5331,38.6,19.9152,34.926,2,34.9695,2,-999,9,-999,9,2.49,2,0.08,2,0,2,0.04,2,0.17,2,2.46,2
318M200406,P02,102,1,10,10,2,20040721,359,29.9997,-169.0558,5330,63,17.4473,34.7896,2,34.8851,2,-999,9,-999,9,3.09,2,0.22,2,0.01,2,0.09,2,0.15,2,2.22,2
318M200406,P02,102,1,9,9,2,20040721,359,29.9997,-169.0557,5331,82.8,16.7407,34.7168,2,34.7653,2,-999,9,-999,9,3.28,2,0.26,2,0.02,2,0.11,2,0.15,2,2.18,2
318M200406,P02,102,1,8,8,2,20040721,358,29.9997,-169.0556,5330,104.5,16.147,34.6626,2,34.6692,2,-999,9,-999,9,3.68,2,1.84,2,0.16,2,0.21,2,0.18,2,1.95,2
318M200406,P02,102,1,15,15,2,20040721,357,29.9996,-169.0555,0,134.8,15.6233,34.6323,2,34.6347,2,-999,9,-999,9,5.09,2,4.62,2,0.06,2,0.35,2,0.26,2,3.35,3
318M200406,P02,102,1,14,14,2,20040721,356,29.9996,-169.0553,5341,185.3,14.5822,34.5405,2,34.5494,2,-999,9,-999,9,6.3,2,5.37,2,0.01,2,0.41,2,0.25,2,3.57,2
318M200406,P02,102,1,5,5,2,20040721,354,29.9996,-169.0551,5328,236,13.8324,34.4752,2,34.4726,2,-999,9,-999,9,8.32,2,7.43,2,0.01,2,0.55,2,0.24,2,2.8,2
318M200406,P02,102,1,4,4,2,20040721,353,29.9996,-169.0549,5339,286.1,12.9412,34.4009,2,34.4065,2,-999,9,-999,9,9.54,2,8.44,2,0.01,2,0.62,2,0.25,2,2.49,2
318M200406,P02,102,1,3,3,2,20040721,348,29.9995,-169.0548,0,471.8,9.4134,34.1354,2,34.1377,2,-999,9,-999,9,25.11,2,18.26,2,0,2,1.3,2,0.35,2,2.38,2
318M200406,P02,102,1,2,2,2,20040721,344,29.9992,-169.0555,5341,672.9,5.5223,34.0196,2,34.0272,2,-999,9,-999,9,69.47,2,33.43,2,0,2,2.44,2,0.54,2,1.37,2
318M200406,P02,102,1,1,1,2,20040721,337,29.9983,-169.0571,5334,974.5,3.761,34.281,2,34.2866,2,-999,9,-999,9,118.91,2,43.21,2,0,2,3.13,2,0.57,2,1.11,2