BOTTLE,20191018JMAGEMD
EXPOCODE,SECT_ID,STNNBR,CASTNO,SAMPNO,BTLNBR,BTLNBR_FLAG_U,DATE,TIME,BTL_TIME,LATITUDE,LONGITUDE,DEPTH,CTDPRS,CTDDEP,CTDTMP,CTDSAL,CTDSAL_FLAG_W,CTDOXY,CTDOXY_FLAG_W,SALNTY,SALNTY_FLAG_W,OXYGEN,OXYGEN_FLAG_W,SILCAT,SILCAT_FLAG_W,NO2+NO3,NO2+NO3_FLAG_W,NITRIT,NITRIT_FLAG_W,PHSPHT,PHSPHT_FLAG_W,CFC-11,CFC-11_FLAG_W,CFC-12,CFC-12_FLAG_W,TCARBN,TCARBN_FLAG_W,ALKALI,ALKALI_FLAG_W,PH_TS,PH_TS_FLAG_W,PH_TS_TMP,CFC113,CFC113_FLAG_W,CHLORA,CHLORA_FLAG_W,PPHYTN,PPHYTN_FLAG_W,THETA,THETA_FLAG_W,SIGTHT,SIGTHT_FLAG_W,SBE35,SBE35_FLAG_W
,,,,,,,,UTC,,,,METER,DBAR,METERS,ITS-90,PSS-78,,UMOL/KG,,PSS78,,UMOL/KG,,UMOL/KG,,UMOL/KG,,UMOL/KG,,UMOL/KG,,PMOL/KG,,PMOL/KG,,UMOL/KG,,UMOL/KG,,,,ITS-90,PMOL/KG,,UG/KG,,UG/KG,,ITS-90,,KG/M3,,ITS-90,
49UP20180806_1,   P13,    63,  1,      0,      -9,0,20180822,0830,1013, 13.9923, 164.9947, 5315,      0.0,        0,  29.5537,  34.0165,2,    195.3,2,  34.0228,2,   195.80,2,     1.24,3,     0.00,2,     0.00,2,    0.090,3, -999.000,9, -999.000,9,   1912.6,2,   2235.2,2,   8.1110,2,    25.00, -999.000,9,     0.03,2,     0.01,2,  29.5531,2,  21.1405,2,-999.0000,9
49UP20180806_1,   P13,    63,  1,     36,     845,2,20180822,0830,1055, 13.9923, 164.9947, 5315,     11.4,       11,  29.5606,  34.0152,2,    195.2,2,  34.0157,2,   195.46,2,     1.24,3,     0.00,2,     0.00,2,    0.060,3,    1.473,2,    0.848,2,   1912.7,2,   2236.7,2,   8.1105,2,    25.00,    0.133,2,     0.03,2,     0.01,2,  29.5578,2,  21.1379,2,  29.5632,2
49UP20180806_1,   P13,    63,  1,     35,     844,2,20180822,0830,1051, 13.9923, 164.9947, 5315,     50.8,       50,  28.7822,  34.3167,2,    203.6,2,  34.3104,2,   203.44,2,     1.24,3,     0.00,2,     0.00,2,    0.060,3,    1.553,2,    0.881,2,   1932.0,2,   2257.6,2,   8.1055,2,    25.00,    0.129,2,     0.05,2,     0.02,2,  28.7700,2,  21.6276,2,  28.7785,2
49UP20180806_1,   P13,    63,  1,     34,     843,2,20180822,0830,1049, 13.9923, 164.9947, 5315,    101.9,      101,  25.7530,  34.8948,2,    207.3,2,  34.8906,2,   207.09,6,     1.24,3,     0.00,6,     0.00,6,    0.070,3,    1.724,2,    0.974,2,   1982.9,6,   2298.4,6,   8.0788,2,    25.00,    0.146,2,     0.10,2,     0.06,2,  25.7304,2,  23.0377,2,  25.7451,2
49UP20180806_1,   P13,    63,  1,     24,     833,4,20180822,0830,1047, 13.9923, 164.9947, 5315,    126.2,      125,  24.0716,  34.9776,2,    197.2,2,-999.0000,9,  -999.00,9,  -999.00,9,  -999.00,9,  -999.00,9, -999.000,9, -999.000,9, -999.000,9,   -999.0,9,   -999.0,9,-999.0000,9,  -999.00, -999.000,9,  -999.00,9,  -999.00,9,  24.0450,2,  23.6111,2,  24.0675,2
49UP20180806_1,   P13,    63,  1,     33,     842,2,20180822,0830,1046, 13.9923, 164.9947, 5315,    151.4,      150,  21.4431,  34.9702,2,    180.6,2,  34.9687,2,   181.11,2,     2.57,3,     0.99,2,     0.18,2,    0.260,3,    2.044,2,    1.160,2,   2056.2,2,   2308.5,2,   7.9566,6,    25.00,    0.090,2,     0.12,2,     0.29,2,  21.4137,2,  24.3580,2,  21.4317,2
49UP20180806_1,   P13,    63,  1,     32,     841,2,20180822,0830,1044, 13.9923, 164.9947, 5315,    202.6,      201,  16.7876,  34.6560,2,    175.8,2,  34.6564,2,   176.07,2,     6.14,3,     7.12,2,     0.01,2,    0.580,3,    2.452,6,    1.343,6,   2083.6,2,   2283.8,2,   7.8650,2,    25.00,    0.027,6,     0.01,2,     0.03,2,  16.7546,2,  25.3081,2,  16.7871,2
49UP20180806_1,   P13,    63,  1,     31,     840,2,20180822,0830,1042, 13.9923, 164.9947, 5315,    252.7,      251,  12.3945,  34.3205,2,    169.6,2,  34.3194,2,   168.88,2,    15.33,3,    14.75,2,     0.00,2,    1.100,3,    2.795,2,    1.490,2,   2119.3,2,   2268.9,2,   7.7544,2,    25.00,    0.049,2,  -999.00,9,  -999.00,9,  12.3610,2,  25.9921,2,  12.3944,2
49UP20180806_1,   P13,    63,  1,     30,     839,2,20180822,0830,1039, 13.9923, 164.9947, 5315,    332.6,      330,   9.5065,  34.3313,2,     76.9,2,  34.3267,2,    76.64,2,    35.03,3,    28.32,2,     0.00,2,    2.160,3, -999.000,9, -999.000,9,   2230.2,2,   2286.0,2,   7.5175,2,    25.00, -999.000,9,  -999.00,9,  -999.00,9,   9.4691,2,  26.5185,2,   9.5076,2
49UP20180806_1,   P13,    63,  1,     29,     838,2,20180822,0830,1036, 13.9923, 164.9947, 5315,    383.8,      381,   8.6858,  34.4366,2,     40.7,2,  34.4340,2,    40.14,2,    42.88,3,    33.59,2,     0.00,2,    2.510,3,    0.839,2,    0.373,2,   2261.6,2,   2299.9,2,   7.4469,2,    25.00,    0.009,2,  -999.00,9,  -999.00,9,   8.6449,2,  26.7330,2,   8.6875,2
49UP20180806_1,   P13,    63,  1,     28,     837,2,20180822,0830,1034, 13.9923, 164.9947, 5315,    433.8,      431,   8.0725,  34.4729,2,     37.2,2,  34.4696,6,    36.91,2,    47.63,3,    35.48,2,     0.00,2,    2.610,3, -999.000,9, -999.000,9,   2285.1,2,   2306.8,2,   7.4371,2,    25.00, -999.000,9,  -999.00,9,  -999.00,9,   8.0280,2,  26.8557,2,   8.0705,2
49UP20180806_1,   P13,    63,  1,     27,     661,2,20180822,0830,1032, 13.9923, 164.9947, 5315,    484.6,      481,   7.6631,  34.4733,2,     39.5,2,  34.4732,2,    39.24,2,    51.56,3,    36.37,2,     0.00,2,    2.660,3,    0.343,2,    0.150,2,   2276.7,2,   2312.7,2,   7.4375,2,    25.00,    0.009,2,  -999.00,9,  -999.00,9,   7.6147,2,  26.9168,2,   7.6618,2
49UP20180806_1,   P13,    63,  1,     26,     835,2,20180822,0830,1030, 13.9923, 164.9947, 5315,    534.8,      531,   7.2652,  34.4815,2,     39.3,2,  34.4809,2,    38.82,6,    55.49,3,    37.25,6,     0.00,6,    2.710,3,    0.226,2,    0.100,2,   2280.9,2,   2316.8,2,   7.4347,2,    25.00,    0.003,2,  -999.00,9,  -999.00,9,   7.2132,2,  26.9806,2,   7.2631,2
49UP20180806_1,   P13,    63,  1,     25,     834,2,20180822,0830,1026, 13.9923, 164.9947, 5315,    638.4,      634,   6.2751,  34.4913,2,     44.7,2,  34.4909,2,    44.71,2,    67.08,3,    39.01,2,     0.00,2,    2.800,3,    0.102,2,    0.042,2,   2291.8,2,   2330.8,2,   7.4347,2,    25.00,    0.000,2,  -999.00,9,  -999.00,9,   6.2174,2,  27.1228,2,   6.2752,2
49UP20180806_1,   P13,    63,  1,     23,     832,3,20180822,0830,1023, 13.9923, 164.9947, 5315,    736.7,      731,   5.7243,  34.5027,2,     50.6,2,  34.5025,2,    50.03,2,    74.98,3,    39.60,2,     0.00,2,    2.840,3,    0.074,2,    0.024,2,   2303.3,2,   2339.7,2,   7.4390,2,    25.00,    0.003,2,  -999.00,9,  -999.00,9,   5.6603,2,  27.2022,2,   5.7247,2
49UP20180806_1,   P13,    63,  1,     22,     831,2,20180822,0830,1019, 13.9923, 164.9947, 5315,    837.4,      831,   5.1920,  34.5190,2,     53.2,2,  34.5190,2,    52.66,2,    84.76,3,    40.42,2,     0.00,2,    2.920,3,    0.034,2,    0.009,2,   2316.4,2,   2349.6,2,   7.4395,2,    25.00,    0.000,2,  -999.00,9,  -999.00,9,   5.1220,2,  27.2797,2,   5.1921,2
49UP20180806_1,   P13,    63,  1,     21,     830,2,20180822,0830,1016, 13.9923, 164.9947, 5315,    941.6,      934,   4.6623,  34.5349,2,     56.9,2,  34.5346,2,    56.99,2,    93.76,3,    40.84,2,     0.00,2,    2.950,3,    0.017,2,    0.006,2,   2325.4,2,   2361.4,2,   7.4431,2,    25.00,    0.000,2,  -999.00,9,  -999.00,9,   4.5866,2,  27.3533,2,   4.6626,2
49UP20180806_1,   P13,    63,  1,     20,     829,2,20180822,0830,1011, 13.9923, 164.9947, 5315,   1083.3,     1074,   4.0456,  34.5533,2,     64.9,2,  34.5535,2,    64.96,2,   105.40,3,    40.89,2,     0.00,2,    2.930,3,    0.006,2,    0.003,2,   2330.9,2,   2374.2,2,   7.4494,2,    25.00,    0.000,2,  -999.00,9,  -999.00,9,   3.9625,2,  27.4347,2,   4.0459,2
49UP20180806_1,   P13,    63,  1,     19,     828,3,20180822,0830,1006, 13.9923, 164.9947, 5315,   1285.1,     1274,   3.4303,  34.5703,2,     73.4,2,  34.5713,2,    73.22,2,   118.69,3,    40.74,2,     0.00,2,    2.900,3,    0.004,2,    0.000,2,   2344.0,2,   2387.3,2,   7.4623,2,    25.00,    0.000,2,  -999.00,9,  -999.00,9,   3.3358,2,  27.5106,2,   3.4305,2
49UP20180806_1,   P13,    63,  1,     18,     660,2,20180822,0830,1000, 13.9923, 164.9947, 5315,   1486.4,     1473,   3.0041,  34.5870,2,     81.6,2,  34.5865,2,    81.27,2,   127.87,3,    40.25,2,     0.00,2,    2.860,3,    0.000,2,    0.001,2,   2345.9,6,   2397.6,6,   7.4763,2,    25.00,    0.000,2,  -999.00,9,  -999.00,9,   2.8973,2,  27.5647,2,   3.0042,2
49UP20180806_1,   P13,    63,  1,     17,     826,2,20180822,0830,0955, 13.9923, 164.9947, 5315,   1689.8,     1673,   2.5828,  34.6066,2,     90.6,2,  34.6062,2,    90.30,2,   136.37,3,    39.75,2,     0.00,2,    2.810,3,    0.002,6,    0.000,6,   2346.5,2,   2406.6,2,   7.4885,6,    25.00,    0.002,6,  -999.00,9,  -999.00,9,   2.4641,2,  27.6184,2,   2.5830,2
49UP20180806_1,   P13,    63,  1,     16,     825,2,20180822,0830,0950, 13.9923, 164.9947, 5315,   1890.5,     1871,   2.3076,  34.6227,2,    100.0,2,  34.6222,2,    99.74,6,   141.52,3,    39.27,6,     0.00,6,    2.760,3,    0.000,2,    0.000,2,   2354.4,2,   2413.4,2,   7.5037,2,    25.00,    0.000,2,  -999.00,9,  -999.00,9,   2.1758,2,  27.6553,2,   2.3080,2
49UP20180806_1,   P13,    63,  1,     15,     824,2,20180822,0830,0943, 13.9923, 164.9947, 5315,   2094.4,     2072,   2.0868,  34.6358,2,    106.9,2,  34.6360,2,   106.52,2,   145.85,3,    38.92,2,     0.00,2,    2.730,3,    0.000,4,    0.000,4,   2351.1,2,   2417.5,2,   7.5129,2,    25.00,    0.000,4,  -999.00,9,  -999.00,9,   1.9410,2,  27.6845,2,   2.0868,2
49UP20180806_1,   P13,    63,  1,     14,     823,2,20180822,0830,0938, 13.9923, 164.9947, 5315,   2298.1,     2272,   1.9534,  34.6475,2,    113.4,2,  34.6479,2,   113.06,2,   147.87,3,    38.48,2,     0.00,2,    2.700,3,    0.000,2,    0.000,2,   2352.6,2,   2422.6,2,   7.5286,2,    25.00,    0.002,2,  -999.00,9,  -999.00,9,   1.7921,2,  27.7055,2,   1.9535,2
49UP20180806_1,   P13,    63,  1,     13,     822,2,20180822,0830,0933, 13.9923, 164.9947, 5315,   2499.8,     2471,   1.8781,  34.6526,2,    117.2,2,  34.6534,2,   117.15,2,   151.08,3,    38.33,2,     0.00,2,    2.690,3,   -0.000,2,    0.000,2,   2351.7,2,   2424.0,2,   7.5331,2,    25.00,    0.003,2,  -999.00,9,  -999.00,9,   1.7001,2,  27.7165,2,   1.8782,2
49UP20180806_1,   P13,    63,  1,     12,     821,2,20180822,0830,0928, 13.9923, 164.9947, 5315,   2702.2,     2669,   1.7807,  34.6595,2,    122.4,2,  34.6598,2,   122.22,2,   153.01,3,    37.97,2,     0.00,2,    2.660,3,    0.002,2,   -0.000,2,   2347.5,2,   2425.5,2,   7.5417,2,    25.00,    0.000,2,  -999.00,9,  -999.00,9,   1.5860,2,  27.7306,2,   1.7807,2
49UP20180806_1,   P13,    63,  1,     11,     820,2,20180822,0830,0923, 13.9923, 164.9947, 5315,   2905.0,     2868,   1.7047,  34.6648,2,    126.6,2,  34.6638,6,   125.95,2,   153.51,3,    37.66,2,     0.00,2,    2.640,3,    0.000,2,    0.000,2,   2349.4,2,   2425.3,2,   7.5470,2,    25.00,    0.002,2,  -999.00,9,  -999.00,9,   1.4926,2,  27.7417,2,   1.7047,2
49UP20180806_1,   P13,    63,  1,     10,     819,2,20180822,0830,0918, 13.9923, 164.9947, 5315,   3120.1,     3079,   1.6172,  34.6705,2,    133.0,2,  34.6709,2,   132.39,2,   153.30,3,    37.29,2,     0.00,2,    2.600,3, -999.000,9, -999.000,9,   2341.0,2,   2427.7,2,   7.5582,2,    25.00, -999.000,9,  -999.00,9,  -999.00,9,   1.3862,2,  27.7539,2,   1.6172,2
49UP20180806_1,   P13,    63,  1,      9,     818,2,20180822,0830,0913, 13.9923, 164.9947, 5315,   3375.4,     3329,   1.5495,  34.6761,2,    140.2,2,  34.6763,2,   139.94,2,   151.26,3,    36.83,2,     0.00,2,    2.550,3, -999.000,9, -999.000,9,   2335.9,2,   2425.1,2,   7.5679,2,    25.00, -999.000,9,  -999.00,9,  -999.00,9,   1.2948,2,  27.7649,2,   1.5494,2
49UP20180806_1,   P13,    63,  1,      8,     817,2,20180822,0830,0908, 13.9923, 164.9947, 5315,   3630.1,     3578,   1.4967,  34.6807,2,    147.2,2,  34.6797,6,   146.69,2,   149.05,3,    36.31,2,     0.00,2,    2.510,3, -999.000,9, -999.000,9,   2338.6,2,   2423.1,2,   7.5778,2,    25.00, -999.000,9,  -999.00,9,  -999.00,9,   1.2172,2,  27.7740,2,   1.4967,2
49UP20180806_1,   P13,    63,  1,      7,     816,2,20180822,0830,0903, 13.9923, 164.9947, 5315,   3886.9,     3829,   1.4553,  34.6851,2,    154.4,2,  34.6851,2,   154.47,6,   146.23,3,    35.82,6,     0.00,6,    2.470,3, -999.000,9, -999.000,9,   2325.5,2,   2419.1,2,   7.5870,2,    25.00, -999.000,9,  -999.00,9,  -999.00,9,   1.1499,2,  27.7822,2,   1.4552,2
49UP20180806_1,   P13,    63,  1,      6,     815,2,20180822,0830,0857, 13.9923, 164.9947, 5315,   4142.5,     4079,   1.4263,  34.6892,2,    162.3,2,  34.6894,2,   162.19,2,   141.77,3,    35.17,2,     0.00,2,    2.430,3,    0.001,2,    0.000,2,   2320.6,6,   2414.4,6,   7.5960,2,    25.00,    0.003,2,  -999.00,9,  -999.00,9,   1.0938,2,  27.7893,2,   1.4263,2
49UP20180806_1,   P13,    63,  1,      5,     814,2,20180822,0830,0852, 13.9923, 164.9947, 5315,   4398.6,     4328,   1.4141,  34.6923,2,    167.9,2,  34.6923,2,   168.07,2,   138.28,3,    34.82,2,     0.00,2,    2.400,3, -999.000,9, -999.000,9,   2314.1,2,   2410.6,2,   7.6012,6,    25.00, -999.000,9,  -999.00,9,  -999.00,9,   1.0533,2,  27.7945,2,   1.4141,2
49UP20180806_1,   P13,    63,  1,      4,     813,2,20180822,0830,0847, 13.9923, 164.9947, 5315,   4654.9,     4578,   1.4029,  34.6951,2,    173.2,2,  34.6952,2,   173.26,2,   135.11,3,    34.44,2,     0.00,2,    2.370,3, -999.000,9, -999.000,9,   2308.0,2,   2405.3,2,   7.6062,2,    25.00, -999.000,9,  -999.00,9,  -999.00,9,   1.0130,2,  27.7995,2,   1.4030,2
49UP20180806_1,   P13,    63,  1,      3,     812,2,20180822,0830,0842, 13.9923, 164.9947, 5315,   4912.0,     4828,   1.3837,  34.6976,2,    178.6,2,  34.6963,2,   177.15,3,   132.75,3,    34.19,2,     0.00,2,    2.350,3, -999.000,9, -999.000,9,   2301.3,2,   2401.5,2,   7.6082,2,    25.00, -999.000,9,  -999.00,9,  -999.00,9,   0.9639,2,  27.8048,2,   1.3837,2
49UP20180806_1,   P13,    63,  1,      2,     811,2,20180822,0830,0836, 13.9923, 164.9947, 5315,   5171.0,     5080,   1.3830,  34.6996,2,    182.3,2,  34.7001,6,   182.59,2,   130.19,3,    33.85,2,     0.00,2,    2.330,3,    0.004,2,    0.002,2,   2296.2,2,   2397.6,2,   7.6134,2,    25.00,    0.001,2,  -999.00,9,  -999.00,9,   0.9317,2,  27.8084,2,   1.3831,2
49UP20180806_1,   P13,    63,  1,      1,     810,2,20180822,0830,0831, 13.9923, 164.9947, 5315,   5420.4,     5322,   1.3965,  34.7006,2,    184.6,2,  34.6999,2,   183.66,2,   129.48,3,    33.73,2,     0.00,2,    2.320,3,    0.006,2,   -0.000,2,   2294.5,2,   2396.1,2,   7.6138,2,    25.00,    0.000,2,  -999.00,9,  -999.00,9,   0.9137,2,  27.8104,2,   1.3965,2