BOTTLE,20191018JMAGEMD
EXPOCODE,SECT_ID,STNNBR,CASTNO,SAMPNO,BTLNBR,BTLNBR_FLAG_U,DATE,TIME,BTL_TIME,LATITUDE,LONGITUDE,DEPTH,CTDPRS,CTDDEP,CTDTMP,CTDSAL,CTDSAL_FLAG_W,CTDOXY,CTDOXY_FLAG_W,SALNTY,SALNTY_FLAG_W,OXYGEN,OXYGEN_FLAG_W,SILCAT,SILCAT_FLAG_W,NO2+NO3,NO2+NO3_FLAG_W,NITRIT,NITRIT_FLAG_W,PHSPHT,PHSPHT_FLAG_W,CFC-11,CFC-11_FLAG_W,CFC-12,CFC-12_FLAG_W,TCARBN,TCARBN_FLAG_W,ALKALI,ALKALI_FLAG_W,PH_TS,PH_TS_FLAG_W,PH_TS_TMP,CFC113,CFC113_FLAG_W,CHLORA,CHLORA_FLAG_W,PPHYTN,PPHYTN_FLAG_W,THETA,THETA_FLAG_W,SIGTHT,SIGTHT_FLAG_W,SBE35,SBE35_FLAG_W
,,,,,,,,UTC,,,,METER,DBAR,METERS,ITS-90,PSS-78,,UMOL/KG,,PSS78,,UMOL/KG,,UMOL/KG,,UMOL/KG,,UMOL/KG,,UMOL/KG,,PMOL/KG,,PMOL/KG,,UMOL/KG,,UMOL/KG,,,,ITS-90,PMOL/KG,,UG/KG,,UG/KG,,ITS-90,,KG/M3,,ITS-90,
49UP20180806_1,   P13,    57,  1,      0,      -9,0,20180819,2135,2157, 19.0023, 165.0013, 1852,      0.0,        0,  29.3436,  34.3041,2,    195.0,2,  34.3213,2,   195.46,2,     0.00,3,     0.00,2,     0.00,2,    0.100,3, -999.000,9, -999.000,9,   1936.6,2,   2255.7,2,   8.1065,2,    25.00, -999.000,9,     0.05,2,     0.02,2,  29.3430,2,  21.4269,2,-999.0000,9
49UP20180806_1,   P13,    57,  1,     36,     845,2,20180819,2135,2236, 19.0023, 165.0013, 1852,     12.3,       12,  29.3307,  34.3039,2,    194.9,2,  34.3037,2,   195.79,2,     0.00,3,     0.00,2,     0.00,2,    0.060,3,    1.479,6,    0.846,6,   1936.6,2,   2253.2,2,   8.1092,2,    25.00,    0.126,6,     0.05,2,     0.02,2,  29.3277,2,  21.4318,2,  29.3313,2
49UP20180806_1,   P13,    57,  1,     35,     844,2,20180819,2135,2235, 19.0023, 165.0013, 1852,     27.2,       27,  29.3136,  34.3200,2,    195.0,2,  34.3114,4,   195.67,2,     0.00,3,     0.00,2,     0.00,2,    0.050,3, -999.000,9, -999.000,9,   1936.3,2,   2255.7,2,   8.1107,2,    25.00, -999.000,9,     0.06,2,     0.02,2,  29.3070,2,  21.4508,2,  29.3140,2
49UP20180806_1,   P13,    57,  1,     34,     843,2,20180819,2135,2232, 19.0023, 165.0013, 1852,     51.9,       52,  27.2063,  35.0580,2,    210.5,2,  35.0546,2,   210.79,2,     0.13,3,     0.00,2,     0.00,2,    0.030,3,    1.677,2,    0.929,2,   1979.5,2,   2304.6,2,   8.1022,2,    25.00,    0.134,2,     0.07,2,     0.03,2,  27.1944,2,  22.6992,2,  27.2096,2
49UP20180806_1,   P13,    57,  1,     33,     842,2,20180819,2135,2230, 19.0023, 165.0013, 1852,     75.8,       75,  26.4716,  35.1513,2,    209.2,2,  35.1483,2,   208.96,2,     0.20,3,     0.00,2,     0.00,2,    0.020,3, -999.000,9, -999.000,9,   1985.8,6,   2309.4,6,   8.0995,3,    25.00, -999.000,9,     0.08,2,     0.04,2,  26.4544,2,  23.0049,2,  26.4723,2
49UP20180806_1,   P13,    57,  1,     32,     841,2,20180819,2135,2229, 19.0023, 165.0013, 1852,    101.3,      101,  25.1957,  35.2032,2,    200.8,2,  35.2021,2,   201.14,2,     0.31,3,     0.00,2,     0.00,2,    0.030,3,    1.731,2,    0.976,2,   2002.7,2,   2316.4,2,   8.0785,6,    25.00,    0.144,2,     0.09,2,     0.12,2,  25.1736,2,  23.4419,2,  25.1955,2
49UP20180806_1,   P13,    57,  1,     31,     840,2,20180819,2135,2227, 19.0023, 165.0013, 1852,    126.3,      125,  23.7380,  35.2004,2,    195.3,2,  35.1999,2,   195.64,2,     0.56,3,     0.19,2,     0.09,2,    0.070,3, -999.000,9, -999.000,9,   2022.6,2,   2313.5,2,   8.0419,2,    25.00, -999.000,9,     0.20,2,     0.34,2,  23.7116,2,  23.8782,2,  23.7435,2
49UP20180806_1,   P13,    57,  1,     27,     661,2,20180819,2135,2226, 19.0023, 165.0013, 1852,    151.5,      151,  21.9767,  35.1371,2,    186.3,2,  35.1368,2,   187.11,2,     1.19,3,     1.14,2,     0.03,2,    0.170,3,    2.010,2,    1.131,2,   2047.9,2,   2310.6,2,   7.9941,2,    25.00,    0.085,2,     0.08,2,     0.21,2,  21.9468,2,  24.3369,2,  21.9848,2
49UP20180806_1,   P13,    57,  1,     26,     835,2,20180819,2135,2223, 19.0023, 165.0013, 1852,    203.1,      202,  18.6984,  34.8979,2,    198.4,2,  34.8999,2,   198.18,2,     2.16,3,     2.55,2,     0.02,2,    0.210,3,    2.277,2,    1.268,2,   2053.3,2,   2291.3,2,   7.9582,2,    25.00,    0.064,2,     0.03,2,     0.11,2,  18.6626,2,  25.0287,2,  18.7131,2
49UP20180806_1,   P13,    57,  1,     25,     834,2,20180819,2135,2221, 19.0023, 165.0013, 1852,    253.5,      252,  16.4968,  34.6981,2,    194.3,2,  34.7057,2,   194.10,6,     4.62,3,     6.07,6,     0.01,6,    0.450,3,    2.491,2,    1.368,2,   2073.5,2,   2281.2,2,   7.8993,2,    25.00,    0.024,2,  -999.00,9,  -999.00,9,  16.4559,2,  25.4103,2,  16.5008,2
49UP20180806_1,   P13,    57,  1,     22,     831,2,20180819,2135,2219, 19.0023, 165.0013, 1852,    305.4,      303,  14.0675,  34.4654,2,    192.8,2,  34.4639,2,   192.28,2,     9.13,3,     9.90,2,     0.00,2,    0.710,3, -999.000,9, -999.000,9,   2092.9,2,   2270.6,2,   7.8379,2,    25.00, -999.000,9,  -999.00,9,  -999.00,9,  14.0232,2,  25.7691,2,  14.0673,2
49UP20180806_1,   P13,    57,  1,     23,     832,2,20180819,2135,2220, 19.0023, 165.0013, 1852,    305.7,      304,  14.0681,  34.4654,2,    192.7,2,  34.4644,2,   192.16,2,     9.03,3,     9.93,2,     0.00,2,    0.710,3,    2.755,2,    1.510,2,   2088.3,2,   2270.1,2,   7.8395,2,    25.00,    0.035,2,  -999.00,9,  -999.00,9,  14.0238,2,  25.7689,2,  14.0682,2
49UP20180806_1,   P13,    57,  1,     21,     830,2,20180819,2135,2217, 19.0023, 165.0013, 1852,    352.3,      350,  12.4404,  34.3294,2,    192.4,2,  34.3318,2,   191.93,2,    13.20,3,    12.72,2,     0.00,2,    0.900,3, -999.000,9, -999.000,9,   2102.9,2,   2267.6,2,   7.7958,2,    25.00, -999.000,9,  -999.00,9,  -999.00,9,  12.3934,2,  25.9927,2,  12.4469,2
49UP20180806_1,   P13,    57,  1,     18,     660,2,20180819,2135,2215, 19.0023, 165.0013, 1852,    404.0,      401,  10.3177,  34.1930,2,    172.0,2,  34.1961,2,   172.21,2,    22.68,3,    18.48,2,     0.00,2,    1.310,3,    2.961,2,    1.533,2,   2143.8,2,   2267.7,2,   7.7079,2,    25.00,    0.079,2,  -999.00,9,  -999.00,9,  10.2699,2,  26.2756,2,  10.3176,2
49UP20180806_1,   P13,    57,  1,     17,     826,2,20180819,2135,2213, 19.0023, 165.0013, 1852,    454.0,      451,   9.0964,  34.1592,2,    140.4,2,  34.1585,2,   139.07,2,    32.93,3,    23.73,2,     0.00,2,    1.720,3, -999.000,9, -999.000,9,   2181.8,2,   2275.3,2,   7.6215,2,    25.00, -999.000,9,  -999.00,9,  -999.00,9,   9.0465,2,  26.4523,2,   9.0964,2
49UP20180806_1,   P13,    57,  1,     16,     825,2,20180819,2135,2211, 19.0023, 165.0013, 1852,    504.6,      501,   8.0886,  34.1497,2,    114.2,2,  34.1488,2,   113.84,2,    42.70,3,    28.03,2,     0.00,2,    2.020,3,    2.228,2,    1.052,2,   2216.1,2,   2280.0,2,   7.5518,2,    25.00,    0.058,2,  -999.00,9,  -999.00,9,   8.0368,2,  26.6005,2,   8.0928,2
49UP20180806_1,   P13,    57,  1,     15,     824,2,20180819,2135,2208, 19.0023, 165.0013, 1852,    606.0,      601,   6.2922,  34.2194,2,     65.0,2,  34.2197,2,    65.40,2,    67.26,3,    35.87,2,     0.00,2,    2.600,3,    0.987,2,    0.429,2,   2277.3,2,   2309.3,2,   7.4367,2,    25.00,    0.016,2,  -999.00,9,  -999.00,9,   6.2377,2,  26.9055,2,   6.2907,2
49UP20180806_1,   P13,    57,  1,     14,     823,2,20180819,2135,2206, 19.0023, 165.0013, 1852,    705.7,      700,   5.4850,  34.3419,2,     56.3,2,  34.3419,2,    57.33,2,    81.44,3,    38.44,2,     0.00,2,    2.770,3,    0.341,2,    0.149,2,   2299.9,2,   2331.4,2,   7.4263,2,    25.00,    0.003,2,  -999.00,9,  -999.00,9,   5.4253,2,  27.1035,2,   5.4846,2
49UP20180806_1,   P13,    57,  1,     13,     822,2,20180819,2135,2203, 19.0023, 165.0013, 1852,    807.6,      801,   4.9104,  34.4209,2,     61.1,2,  34.4204,2,    61.00,6,    91.90,3,    39.13,6,     0.00,6,    2.810,3,    0.161,2,    0.066,2,   2303.3,2,   2347.1,2,   7.4424,2,    25.00,    0.000,2,  -999.00,9,  -999.00,9,   4.8449,2,  27.2339,2,   4.9105,2
49UP20180806_1,   P13,    57,  1,      9,     818,2,20180819,2135,2200, 19.0023, 165.0013, 1852,    907.3,      900,   4.4670,  34.4711,2,     66.0,2,  34.4719,2,    65.55,2,    99.92,3,    39.44,2,     0.00,2,    2.820,3,    0.090,6,    0.034,6,   2320.3,2,   2360.2,2,   7.4530,2,    25.00,    0.000,6,  -999.00,9,  -999.00,9,   4.3957,2,  27.3235,2,   4.4670,2
49UP20180806_1,   P13,    57,  1,      8,     817,2,20180819,2135,2157, 19.0023, 165.0013, 1852,   1009.7,     1001,   4.0278,  34.5078,2,     74.3,2,  34.5082,2,    74.09,2,   108.18,3,    39.32,2,     0.00,2,    2.800,3,    0.063,2,    0.028,2,   2323.9,2,   2369.0,2,   7.4673,2,    25.00,    0.000,2,  -999.00,9,  -999.00,9,   3.9511,2,  27.3997,2,   4.0279,2
49UP20180806_1,   P13,    57,  1,      7,     816,2,20180819,2135,2152, 19.0023, 165.0013, 1852,   1212.7,     1202,   3.3865,  34.5436,2,     80.6,2,  34.5444,2,    80.49,2,   120.86,3,    39.55,2,     0.00,2,    2.810,3,    0.029,2,    0.011,2,   2339.2,2,   2380.9,2,   7.4747,2,    25.00,    0.000,2,  -999.00,9,  -999.00,9,   3.2985,2,  27.4929,2,   3.3864,2
49UP20180806_1,   P13,    57,  1,      6,     815,2,20180819,2135,2147, 19.0023, 165.0013, 1852,   1414.5,     1401,   2.9732,  34.5658,2,     82.9,2,  34.5692,4,    82.84,2,   129.63,3,    39.86,2,     0.00,2,    2.830,3,    0.005,2,    0.003,2,   2346.8,2,   2393.3,6,   7.4764,2,    25.00,    0.000,2,  -999.00,9,  -999.00,9,   2.8728,2,  27.5501,2,   2.9732,2
49UP20180806_1,   P13,    57,  1,      5,     814,2,20180819,2135,2143, 19.0023, 165.0013, 1852,   1616.0,     1600,   2.6669,  34.5830,2,     88.4,2,  34.5842,2,    88.01,2,   135.78,3,    39.69,2,     0.00,2,    2.800,3,    0.002,2,    0.001,2,   2348.5,2,   2398.6,2,   7.4818,6,    25.00,    0.000,2,  -999.00,9,  -999.00,9,   2.5534,2,  27.5919,2,   2.6669,2
49UP20180806_1,   P13,    57,  1,      4,     813,2,20180819,2135,2136, 19.0023, 165.0013, 1852,   1842.9,     1824,   2.2152,  34.6106,2,     99.7,2,  34.6118,2,    99.09,2,   144.60,3,    39.24,2,     0.00,2,    2.750,3,    0.000,2,    0.000,2,   2344.6,3,   2408.6,2,   7.5003,2,    25.00,    0.000,2,  -999.00,9,  -999.00,9,   2.0888,2,  27.6526,2,   2.2145,2
49UP20180806_1,   P13,    57,  1,      3,     812,2,20180819,2135,2135, 19.0023, 165.0013, 1852,   1842.9,     1824,   2.2165,  34.6104,2,     99.6,2,  34.6113,2,    99.23,2,   144.31,3,    39.23,2,     0.00,2,    2.750,3, -999.000,9, -999.000,9,   2353.8,2,   2407.9,2,   7.4980,2,    25.00, -999.000,9,  -999.00,9,  -999.00,9,   2.0901,2,  27.6524,2,   2.2165,2
49UP20180806_1,   P13,    58,  1,      0,      -9,0,20180820,0358,0420, 18.5020, 164.9920, 1610,      0.0,        0,  29.5297,  34.1873,2,    195.1,2,-999.0000,9,   195.49,2,  -999.00,9,  -999.00,9,  -999.00,9, -999.000,9, -999.000,9, -999.000,9,   -999.0,9,   -999.0,9,-999.0000,9,  -999.00, -999.000,9,  -999.00,9,  -999.00,9,  29.5291,2,  21.2766,2,-999.0000,9
49UP20180806_1,   P13,    58,  1,     36,     845,2,20180820,0358,0458, 18.5020, 164.9920, 1610,     11.0,       11,  29.5377,  34.1875,2,    195.1,2,  34.1870,2,   196.20,2,  -999.00,9,  -999.00,9,  -999.00,9, -999.000,9, -999.000,9, -999.000,9,   -999.0,9,   -999.0,9,-999.0000,9,  -999.00, -999.000,9,  -999.00,9,  -999.00,9,  29.5350,2,  21.2748,2,  29.5398,2
49UP20180806_1,   P13,    58,  1,     35,     844,2,20180820,0358,0456, 18.5020, 164.9920, 1610,     27.2,       27,  29.3705,  34.1722,2,    195.4,2,  34.1714,2,   196.75,2,  -999.00,9,  -999.00,9,  -999.00,9, -999.000,9, -999.000,9, -999.000,9,   -999.0,9,   -999.0,9,-999.0000,9,  -999.00, -999.000,9,  -999.00,9,  -999.00,9,  29.3639,2,  21.3209,2,  29.3709,2
49UP20180806_1,   P13,    58,  1,     34,     843,2,20180820,0358,0453, 18.5020, 164.9920, 1610,     50.6,       50,  28.4834,  34.9472,2,    210.4,2,  34.9294,4,   209.62,2,  -999.00,9,  -999.00,9,  -999.00,9, -999.000,9, -999.000,9, -999.000,9,   -999.0,9,   -999.0,9,-999.0000,9,  -999.00, -999.000,9,  -999.00,9,  -999.00,9,  28.4713,2,  22.2001,2,  28.4688,2
49UP20180806_1,   P13,    58,  1,     33,     842,2,20180820,0358,0451, 18.5020, 164.9920, 1610,     76.2,       76,  26.6781,  35.0603,2,    208.9,2,  35.0569,2,   209.45,2,  -999.00,9,  -999.00,9,  -999.00,9, -999.000,9, -999.000,9, -999.000,9,   -999.0,9,   -999.0,9,-999.0000,9,  -999.00, -999.000,9,  -999.00,9,  -999.00,9,  26.6608,2,  22.8711,2,  26.6774,2
49UP20180806_1,   P13,    58,  1,     32,     841,2,20180820,0358,0449, 18.5020, 164.9920, 1610,    101.1,      100,  25.9201,  35.1516,2,    206.6,2,  35.1461,2,   207.57,2,  -999.00,9,  -999.00,9,  -999.00,9, -999.000,9, -999.000,9, -999.000,9,   -999.0,9,   -999.0,9,-999.0000,9,  -999.00, -999.000,9,  -999.00,9,  -999.00,9,  25.8976,2,  23.1796,2,  25.9309,2
49UP20180806_1,   P13,    58,  1,     31,     840,2,20180820,0358,0447, 18.5020, 164.9920, 1610,    126.1,      125,  24.6831,  35.1529,2,    197.4,2,  35.1595,2,   198.97,2,  -999.00,9,  -999.00,9,  -999.00,9, -999.000,9, -999.000,9, -999.000,9,   -999.0,9,   -999.0,9,-999.0000,9,  -999.00, -999.000,9,  -999.00,9,  -999.00,9,  24.6560,2,  23.5610,2,  24.6885,2
49UP20180806_1,   P13,    58,  1,     27,     661,2,20180820,0358,0445, 18.5020, 164.9920, 1610,    152.8,      152,  22.3807,  35.0835,2,    183.4,2,  35.0901,2,   185.20,2,  -999.00,9,  -999.00,9,  -999.00,9, -999.000,9, -999.000,9, -999.000,9,   -999.0,9,   -999.0,9,-999.0000,9,  -999.00, -999.000,9,  -999.00,9,  -999.00,9,  22.3501,2,  24.1826,2,  22.3836,2
49UP20180806_1,   P13,    58,  1,     26,     835,2,20180820,0358,0443, 18.5020, 164.9920, 1610,    203.3,      202,  18.8137,  34.9198,2,    193.2,2,  34.9248,2,   192.84,6,  -999.00,9,  -999.00,9,  -999.00,9, -999.000,9, -999.000,9, -999.000,9,   -999.0,9,   -999.0,9,-999.0000,9,  -999.00, -999.000,9,  -999.00,9,  -999.00,9,  18.7777,2,  25.0163,2,  18.8124,2
49UP20180806_1,   P13,    58,  1,     23,     832,2,20180820,0358,0440, 18.5020, 164.9920, 1610,    251.8,      250,  16.6880,  34.7231,2,    197.8,2,  34.7281,2,   197.00,2,  -999.00,9,  -999.00,9,  -999.00,9, -999.000,9, -999.000,9, -999.000,9,   -999.0,9,   -999.0,9,-999.0000,9,  -999.00, -999.000,9,  -999.00,9,  -999.00,9,  16.6470,2,  25.3849,2,  16.6877,2
49UP20180806_1,   P13,    58,  1,     25,     834,2,20180820,0358,0441, 18.5020, 164.9920, 1610,    252.0,      250,  16.6729,  34.7216,2,    197.8,2,  34.7243,2,   197.30,2,  -999.00,9,  -999.00,9,  -999.00,9, -999.000,9, -999.000,9, -999.000,9,   -999.0,9,   -999.0,9,-999.0000,9,  -999.00, -999.000,9,  -999.00,9,  -999.00,9,  16.6319,2,  25.3873,2,  16.6738,2
49UP20180806_1,   P13,    58,  1,     22,     831,2,20180820,0358,0437, 18.5020, 164.9920, 1610,    333.8,      332,  13.4708,  34.4151,2,    199.1,2,  34.4167,2,   199.05,2,  -999.00,9,  -999.00,9,  -999.00,9, -999.000,9, -999.000,9, -999.000,9,   -999.0,9,   -999.0,9,-999.0000,9,  -999.00, -999.000,9,  -999.00,9,  -999.00,9,  13.4238,2,  25.8542,2,  13.4742,2
49UP20180806_1,   P13,    58,  1,     21,     830,2,20180820,0358,0435, 18.5020, 164.9920, 1610,    382.6,      380,  11.6615,  34.2749,2,    178.7,2,  34.2750,2,   178.76,2,  -999.00,9,  -999.00,9,  -999.00,9, -999.000,9, -999.000,9, -999.000,9,   -999.0,9,   -999.0,9,-999.0000,9,  -999.00, -999.000,9,  -999.00,9,  -999.00,9,  11.6125,2,  26.0987,2,  11.6615,2
49UP20180806_1,   P13,    58,  1,     18,     660,2,20180820,0358,0432, 18.5020, 164.9920, 1610,    434.4,      431,  10.2478,  34.2128,2,    152.0,2,  34.2130,2,   151.64,2,  -999.00,9,  -999.00,9,  -999.00,9, -999.000,9, -999.000,9, -999.000,9,   -999.0,9,   -999.0,9,-999.0000,9,  -999.00, -999.000,9,  -999.00,9,  -999.00,9,  10.1965,2,  26.3037,2,  10.2521,2
49UP20180806_1,   P13,    58,  1,     17,     826,2,20180820,0358,0430, 18.5020, 164.9920, 1610,    485.7,      482,   8.9928,  34.1989,2,    119.4,2,  34.2028,2,   120.08,2,  -999.00,9,  -999.00,9,  -999.00,9, -999.000,9, -999.000,9, -999.000,9,   -999.0,9,   -999.0,9,-999.0000,9,  -999.00, -999.000,9,  -999.00,9,  -999.00,9,   8.9398,2,  26.5004,2,   8.9982,2
49UP20180806_1,   P13,    58,  1,     16,     825,2,20180820,0358,0427, 18.5020, 164.9920, 1610,    535.4,      531,   7.9062,  34.2436,2,     81.4,2,  34.2430,2,    81.36,2,  -999.00,9,  -999.00,9,  -999.00,9, -999.000,9, -999.000,9, -999.000,9,   -999.0,9,   -999.0,9,-999.0000,9,  -999.00, -999.000,9,  -999.00,9,  -999.00,9,   7.8519,2,  26.7017,2,   7.9071,2
49UP20180806_1,   P13,    58,  1,     15,     824,2,20180820,0358,0424, 18.5020, 164.9920, 1610,    635.7,      631,   6.0753,  34.2182,2,     63.7,2,  34.2172,2,    64.15,2,  -999.00,9,  -999.00,9,  -999.00,9, -999.000,9, -999.000,9, -999.000,9,   -999.0,9,   -999.0,9,-999.0000,9,  -999.00, -999.000,9,  -999.00,9,  -999.00,9,   6.0191,2,  26.9325,2,   6.0771,2
49UP20180806_1,   P13,    58,  1,     14,     823,2,20180820,0358,0421, 18.5020, 164.9920, 1610,    735.9,      730,   5.2756,  34.3397,2,     54.1,2,  34.3394,2,    54.24,2,  -999.00,9,  -999.00,9,  -999.00,9, -999.000,9, -999.000,9, -999.000,9,   -999.0,9,   -999.0,9,-999.0000,9,  -999.00, -999.000,9,  -999.00,9,  -999.00,9,   5.2144,2,  27.1268,2,   5.2758,2
49UP20180806_1,   P13,    58,  1,     13,     822,2,20180820,0358,0418, 18.5020, 164.9920, 1610,    836.1,      829,   4.8509,  34.4147,2,     58.6,2,  34.4140,2,    58.76,2,  -999.00,9,  -999.00,9,  -999.00,9, -999.000,9, -999.000,9, -999.000,9,   -999.0,9,   -999.0,9,-999.0000,9,  -999.00, -999.000,9,  -999.00,9,  -999.00,9,   4.7833,2,  27.2359,2,   4.8494,2
49UP20180806_1,   P13,    58,  1,      9,     818,2,20180820,0358,0415, 18.5020, 164.9920, 1610,    938.0,      930,   4.3169,  34.4763,2,     69.2,2,  34.4761,2,    69.00,2,  -999.00,9,  -999.00,9,  -999.00,9, -999.000,9, -999.000,9, -999.000,9,   -999.0,9,   -999.0,9,-999.0000,9,  -999.00, -999.000,9,  -999.00,9,  -999.00,9,   4.2441,2,  27.3439,2,   4.3179,2
49UP20180806_1,   P13,    58,  1,      8,     817,2,20180820,0358,0411, 18.5020, 164.9920, 1610,   1083.0,     1074,   3.7555,  34.5249,2,     77.1,2,  34.5257,2,    77.21,2,  -999.00,9,  -999.00,9,  -999.00,9, -999.000,9, -999.000,9, -999.000,9,   -999.0,9,   -999.0,9,-999.0000,9,  -999.00, -999.000,9,  -999.00,9,  -999.00,9,   3.6749,2,  27.4413,2,   3.7556,2
49UP20180806_1,   P13,    58,  1,      7,     816,2,20180820,0358,0406, 18.5020, 164.9920, 1610,   1281.6,     1270,   3.2915,  34.5553,2,     83.1,2,  34.5540,2,    82.92,2,  -999.00,9,  -999.00,9,  -999.00,9, -999.000,9, -999.000,9, -999.000,9,   -999.0,9,   -999.0,9,-999.0000,9,  -999.00, -999.000,9,  -999.00,9,  -999.00,9,   3.1987,2,  27.5116,2,   3.2917,2
49UP20180806_1,   P13,    58,  1,      6,     815,2,20180820,0358,0401, 18.5020, 164.9920, 1610,   1481.1,     1467,   2.8361,  34.5734,2,     87.2,2,  34.5738,2,    86.95,6,  -999.00,9,  -999.00,9,  -999.00,9, -999.000,9, -999.000,9, -999.000,9,   -999.0,9,   -999.0,9,-999.0000,9,  -999.00, -999.000,9,  -999.00,9,  -999.00,9,   2.7317,2,  27.5687,2,   2.8362,2
49UP20180806_1,   P13,    58,  1,      5,     814,2,20180820,0358,0358, 18.5020, 164.9920, 1610,   1606.4,     1591,   2.5905,  34.5889,2,     91.2,2,  34.5893,2,    90.97,2,  -999.00,9,  -999.00,9,  -999.00,9, -999.000,9, -999.000,9, -999.000,9,   -999.0,9,   -999.0,9,-999.0000,9,  -999.00, -999.000,9,  -999.00,9,  -999.00,9,   2.4787,2,  27.6030,2,   2.5906,2
49UP20180806_1,   P13,    58,  1,      4,     813,2,20180820,0358,0358, 18.5020, 164.9920, 1610,   1606.6,     1591,   2.5897,  34.5889,2,     91.3,2,  34.5897,2,    90.97,2,  -999.00,9,  -999.00,9,  -999.00,9, -999.000,9, -999.000,9, -999.000,9,   -999.0,9,   -999.0,9,-999.0000,9,  -999.00, -999.000,9,  -999.00,9,  -999.00,9,   2.4779,2,  27.6031,2,   2.5895,2