BOTTLE,20191018JMAGEMD
EXPOCODE,SECT_ID,STNNBR,CASTNO,SAMPNO,BTLNBR,BTLNBR_FLAG_U,DATE,TIME,BTL_TIME,LATITUDE,LONGITUDE,DEPTH,CTDPRS,CTDDEP,CTDTMP,CTDSAL,CTDSAL_FLAG_W,CTDOXY,CTDOXY_FLAG_W,SALNTY,SALNTY_FLAG_W,OXYGEN,OXYGEN_FLAG_W,SILCAT,SILCAT_FLAG_W,NO2+NO3,NO2+NO3_FLAG_W,NITRIT,NITRIT_FLAG_W,PHSPHT,PHSPHT_FLAG_W,CFC-11,CFC-11_FLAG_W,CFC-12,CFC-12_FLAG_W,TCARBN,TCARBN_FLAG_W,ALKALI,ALKALI_FLAG_W,PH_TS,PH_TS_FLAG_W,PH_TS_TMP,CFC113,CFC113_FLAG_W,CHLORA,CHLORA_FLAG_W,PPHYTN,PPHYTN_FLAG_W,THETA,THETA_FLAG_W,SIGTHT,SIGTHT_FLAG_W,SBE35,SBE35_FLAG_W
,,,,,,,,UTC,,,,METER,DBAR,METERS,ITS-90,PSS-78,,UMOL/KG,,PSS78,,UMOL/KG,,UMOL/KG,,UMOL/KG,,UMOL/KG,,UMOL/KG,,PMOL/KG,,PMOL/KG,,UMOL/KG,,UMOL/KG,,,,ITS-90,PMOL/KG,,UG/KG,,UG/KG,,ITS-90,,KG/M3,,ITS-90,
49UP20180806_1,   P13,    54,  1,      0,      -9,0,20180818,2048,2242, 20.4978, 164.9918, 5419,      0.0,        0,  28.9841,  34.7014,2,    196.1,2,-999.0000,9,   196.42,2,  -999.00,9,  -999.00,9,  -999.00,9, -999.000,9, -999.000,9, -999.000,9,   -999.0,9,   -999.0,9,-999.0000,9,  -999.00, -999.000,9,  -999.00,9,  -999.00,9,  28.9835,2,  21.8454,2,-999.0000,9
49UP20180806_1,   P13,    54,  1,     36,     845,3,20180818,2048,2310, 20.4978, 164.9918, 5419,     11.3,       11,  28.9236,  34.7035,2,    195.9,2,  34.7039,2,   196.21,6,  -999.00,9,  -999.00,9,  -999.00,9, -999.000,9, -999.000,9, -999.000,9,   -999.0,9,   -999.0,9,-999.0000,9,  -999.00, -999.000,9,  -999.00,9,  -999.00,9,  28.9209,2,  21.8679,2,  28.9276,2
49UP20180806_1,   P13,    54,  1,     35,     844,2,20180818,2048,2305, 20.4978, 164.9918, 5419,     51.2,       51,  27.9209,  35.1051,2,    209.7,2,  35.1085,2,   209.20,2,  -999.00,9,  -999.00,9,  -999.00,9, -999.000,9, -999.000,9, -999.000,9,   -999.0,9,   -999.0,9,-999.0000,9,  -999.00, -999.000,9,  -999.00,9,  -999.00,9,  27.9088,2,  22.5034,2,  27.9180,2
49UP20180806_1,   P13,    54,  1,     24,     833,2,20180818,2048,2304, 20.4978, 164.9918, 5419,     75.5,       75,  26.1636,  35.1704,2,    212.6,2,  35.1723,2,   212.36,2,  -999.00,9,  -999.00,9,  -999.00,9, -999.000,9, -999.000,9, -999.000,9,   -999.0,9,   -999.0,9,-999.0000,9,  -999.00, -999.000,9,  -999.00,9,  -999.00,9,  26.1467,2,  23.1161,2,  26.1636,2
49UP20180806_1,   P13,    54,  1,     34,     843,2,20180818,2048,2302, 20.4978, 164.9918, 5419,    102.6,      102,  24.8111,  35.1942,2,    210.9,2,  35.1925,2,   209.98,2,  -999.00,9,  -999.00,9,  -999.00,9, -999.000,9, -999.000,9, -999.000,9,   -999.0,9,   -999.0,9,-999.0000,9,  -999.00, -999.000,9,  -999.00,9,  -999.00,9,  24.7889,2,  23.5520,2,  24.8126,2
49UP20180806_1,   P13,    54,  1,     33,     842,2,20180818,2048,2301, 20.4978, 164.9918, 5419,    127.3,      126,  23.7957,  35.1560,2,    196.1,2,  35.1521,2,   195.76,2,  -999.00,9,  -999.00,9,  -999.00,9, -999.000,9, -999.000,9, -999.000,9,   -999.0,9,   -999.0,9,-999.0000,9,  -999.00, -999.000,9,  -999.00,9,  -999.00,9,  23.7690,2,  23.8277,2,  23.7966,2
49UP20180806_1,   P13,    54,  1,     32,     841,2,20180818,2048,2259, 20.4978, 164.9918, 5419,    153.0,      152,  22.2917,  35.1016,2,    184.9,2,  35.1041,2,   185.47,2,  -999.00,9,  -999.00,9,  -999.00,9, -999.000,9, -999.000,9, -999.000,9,   -999.0,9,   -999.0,9,-999.0000,9,  -999.00, -999.000,9,  -999.00,9,  -999.00,9,  22.2611,2,  24.2215,2,  22.3026,2
49UP20180806_1,   P13,    54,  1,     31,     840,2,20180818,2048,2257, 20.4978, 164.9918, 5419,    203.8,      202,  18.9985,  34.9300,2,    193.1,2,  34.9269,2,   193.07,2,  -999.00,9,  -999.00,9,  -999.00,9, -999.000,9, -999.000,9, -999.000,9,   -999.0,9,   -999.0,9,-999.0000,9,  -999.00, -999.000,9,  -999.00,9,  -999.00,9,  18.9622,2,  24.9773,2,  18.9737,2
49UP20180806_1,   P13,    54,  1,     30,     839,3,20180818,2048,2255, 20.4978, 164.9918, 5419,    251.9,      250,  16.7911,  34.7314,2,    197.7,2,  34.7306,2,   197.76,2,  -999.00,9,  -999.00,9,  -999.00,9, -999.000,9, -999.000,9, -999.000,9,   -999.0,9,   -999.0,9,-999.0000,9,  -999.00, -999.000,9,  -999.00,9,  -999.00,9,  16.7499,2,  25.3672,2,  16.7906,2
49UP20180806_1,   P13,    54,  1,     29,     838,2,20180818,2048,2253, 20.4978, 164.9918, 5419,    303.3,      301,  14.9999,  34.5576,2,    201.1,2,  34.5556,2,   201.21,2,  -999.00,9,  -999.00,9,  -999.00,9, -999.000,9, -999.000,9, -999.000,9,   -999.0,9,   -999.0,9,-999.0000,9,  -999.00, -999.000,9,  -999.00,9,  -999.00,9,  14.9540,2,  25.6409,2,  14.9997,2
49UP20180806_1,   P13,    54,  1,     28,     837,2,20180818,2048,2251, 20.4978, 164.9918, 5419,    404.2,      401,  11.3928,  34.2545,2,    191.9,2,  34.2587,2,   192.16,2,  -999.00,9,  -999.00,9,  -999.00,9, -999.000,9, -999.000,9, -999.000,9,   -999.0,9,   -999.0,9,-999.0000,9,  -999.00, -999.000,9,  -999.00,9,  -999.00,9,  11.3418,2,  26.1328,2,  11.3911,2
49UP20180806_1,   P13,    54,  1,     27,     661,2,20180818,2048,2248, 20.4978, 164.9918, 5419,    505.4,      502,   8.2752,  34.1207,2,    132.2,2,  34.1218,2,   131.20,6,  -999.00,9,  -999.00,9,  -999.00,9, -999.000,9, -999.000,9, -999.000,9,   -999.0,9,   -999.0,9,-999.0000,9,  -999.00, -999.000,9,  -999.00,9,  -999.00,9,   8.2227,2,  26.5499,2,   8.2751,2
49UP20180806_1,   P13,    54,  1,     26,     835,2,20180818,2048,2245, 20.4978, 164.9918, 5419,    608.8,      604,   6.4627,  34.1646,2,     76.8,2,  34.1594,2,    77.15,2,  -999.00,9,  -999.00,9,  -999.00,9, -999.000,9, -999.000,9, -999.000,9,   -999.0,9,   -999.0,9,-999.0000,9,  -999.00, -999.000,9,  -999.00,9,  -999.00,9,   6.4073,2,  26.8402,2,   6.4691,2
49UP20180806_1,   P13,    54,  1,     25,     834,2,20180818,2048,2242, 20.4978, 164.9918, 5419,    707.0,      701,   5.2388,  34.2159,2,     54.4,2,  34.2160,2,    53.76,2,  -999.00,9,  -999.00,9,  -999.00,9, -999.000,9, -999.000,9, -999.000,9,   -999.0,9,   -999.0,9,-999.0000,9,  -999.00, -999.000,9,  -999.00,9,  -999.00,9,   5.1804,2,  27.0327,2,   5.2390,2
49UP20180806_1,   P13,    54,  1,     23,     832,2,20180818,2048,2239, 20.4978, 164.9918, 5419,    809.9,      803,   4.7982,  34.3264,2,     48.5,2,  34.3228,2,    48.05,2,  -999.00,9,  -999.00,9,  -999.00,9, -999.000,9, -999.000,9, -999.000,9,   -999.0,9,   -999.0,9,-999.0000,9,  -999.00, -999.000,9,  -999.00,9,  -999.00,9,   4.7333,2,  27.1715,2,   4.7985,2
49UP20180806_1,   P13,    54,  1,     22,     831,2,20180818,2048,2236, 20.4978, 164.9918, 5419,    910.8,      903,   4.3934,  34.4306,2,     57.4,2,  34.4297,2,    57.43,2,  -999.00,9,  -999.00,9,  -999.00,9, -999.000,9, -999.000,9, -999.000,9,   -999.0,9,   -999.0,9,-999.0000,9,  -999.00, -999.000,9,  -999.00,9,  -999.00,9,   4.3224,2,  27.2992,2,   4.3932,2
49UP20180806_1,   P13,    54,  1,     21,     830,2,20180818,2048,2233, 20.4978, 164.9918, 5419,   1012.6,     1004,   4.0586,  34.4826,2,     65.6,2,  34.4835,2,    65.75,2,  -999.00,9,  -999.00,9,  -999.00,9, -999.000,9, -999.000,9, -999.000,9,   -999.0,9,   -999.0,9,-999.0000,9,  -999.00, -999.000,9,  -999.00,9,  -999.00,9,   3.9815,2,  27.3765,2,   4.0589,2
49UP20180806_1,   P13,    54,  1,     20,     829,2,20180818,2048,2227, 20.4978, 164.9918, 5419,   1214.9,     1204,   3.3798,  34.5366,2,     75.5,2,  34.5369,2,    76.11,2,  -999.00,9,  -999.00,9,  -999.00,9, -999.000,9, -999.000,9, -999.000,9,   -999.0,9,   -999.0,9,-999.0000,9,  -999.00, -999.000,9,  -999.00,9,  -999.00,9,   3.2917,2,  27.4879,2,   3.3800,2
49UP20180806_1,   P13,    54,  1,     19,     828,2,20180818,2048,2223, 20.4978, 164.9918, 5419,   1417.8,     1404,   2.9089,  34.5580,2,     81.3,2,  34.5587,2,    81.68,2,  -999.00,9,  -999.00,9,  -999.00,9, -999.000,9, -999.000,9, -999.000,9,   -999.0,9,   -999.0,9,-999.0000,9,  -999.00, -999.000,9,  -999.00,9,  -999.00,9,   2.8089,2,  27.5495,2,   2.9089,2
49UP20180806_1,   P13,    54,  1,     18,     660,2,20180818,2048,2216, 20.4978, 164.9918, 5419,   1619.0,     1603,   2.5466,  34.5790,2,     88.0,2,  34.5795,2,    88.27,2,  -999.00,9,  -999.00,9,  -999.00,9, -999.000,9, -999.000,9, -999.000,9,   -999.0,9,   -999.0,9,-999.0000,9,  -999.00, -999.000,9,  -999.00,9,  -999.00,9,   2.4343,2,  27.5989,2,   2.5466,2
49UP20180806_1,   P13,    54,  1,     17,     826,2,20180818,2048,2212, 20.4978, 164.9918, 5419,   1821.1,     1802,   2.2517,  34.6018,2,     96.0,2,  34.6018,2,    96.17,6,  -999.00,9,  -999.00,9,  -999.00,9, -999.000,9, -999.000,9, -999.000,9,   -999.0,9,   -999.0,9,-999.0000,9,  -999.00, -999.000,9,  -999.00,9,  -999.00,9,   2.1266,2,  27.6425,2,   2.2523,2
49UP20180806_1,   P13,    54,  1,     16,     825,2,20180818,2048,2207, 20.4978, 164.9918, 5419,   2024.3,     2002,   2.0885,  34.6167,2,    101.8,2,  34.6176,6,   101.80,2,  -999.00,9,  -999.00,9,  -999.00,9, -999.000,9, -999.000,9, -999.000,9,   -999.0,9,   -999.0,9,-999.0000,9,  -999.00, -999.000,9,  -999.00,9,  -999.00,9,   1.9487,2,  27.6687,2,   2.0885,2
49UP20180806_1,   P13,    54,  1,     15,     824,2,20180818,2048,2201, 20.4978, 164.9918, 5419,   2226.2,     2201,   1.8935,  34.6338,2,    110.5,2,  34.6340,2,   110.46,2,  -999.00,9,  -999.00,9,  -999.00,9, -999.000,9, -999.000,9, -999.000,9,   -999.0,9,   -999.0,9,-999.0000,9,  -999.00, -999.000,9,  -999.00,9,  -999.00,9,   1.7395,2,  27.6985,2,   1.8936,2
49UP20180806_1,   P13,    54,  1,     14,     823,2,20180818,2048,2157, 20.4978, 164.9918, 5419,   2430.0,     2401,   1.8047,  34.6435,2,    116.2,2,  34.6438,2,   116.12,2,  -999.00,9,  -999.00,9,  -999.00,9, -999.000,9, -999.000,9, -999.000,9,   -999.0,9,   -999.0,9,-999.0000,9,  -999.00, -999.000,9,  -999.00,9,  -999.00,9,   1.6343,2,  27.7141,2,   1.8048,2
49UP20180806_1,   P13,    54,  1,     13,     822,2,20180818,2048,2152, 20.4978, 164.9918, 5419,   2633.3,     2601,   1.7333,  34.6509,2,    121.2,2,  34.6513,2,   121.99,2,  -999.00,9,  -999.00,9,  -999.00,9, -999.000,9, -999.000,9, -999.000,9,   -999.0,9,   -999.0,9,-999.0000,9,  -999.00, -999.000,9,  -999.00,9,  -999.00,9,   1.5459,2,  27.7267,2,   1.7333,2
49UP20180806_1,   P13,    54,  1,     12,     821,2,20180818,2048,2147, 20.4978, 164.9918, 5419,   2837.1,     2801,   1.6530,  34.6590,2,    127.3,2,  34.6597,2,   127.40,2,  -999.00,9,  -999.00,9,  -999.00,9, -999.000,9, -999.000,9, -999.000,9,   -999.0,9,   -999.0,9,-999.0000,9,  -999.00, -999.000,9,  -999.00,9,  -999.00,9,   1.4484,2,  27.7403,2,   1.6531,2
49UP20180806_1,   P13,    54,  1,     11,     820,2,20180818,2048,2143, 20.4978, 164.9918, 5419,   3040.5,     3000,   1.5985,  34.6651,2,    132.6,2,  34.6656,6,   132.96,2,  -999.00,9,  -999.00,9,  -999.00,9, -999.000,9, -999.000,9, -999.000,9,   -999.0,9,   -999.0,9,-999.0000,9,  -999.00, -999.000,9,  -999.00,9,  -999.00,9,   1.3757,2,  27.7503,2,   1.5985,2
49UP20180806_1,   P13,    54,  1,     10,     819,2,20180818,2048,2137, 20.4978, 164.9918, 5419,   3295.2,     3250,   1.5464,  34.6714,2,    138.8,2,  34.6708,2,   138.66,2,  -999.00,9,  -999.00,9,  -999.00,9, -999.000,9, -999.000,9, -999.000,9,   -999.0,9,   -999.0,9,-999.0000,9,  -999.00, -999.000,9,  -999.00,9,  -999.00,9,   1.2999,2,  27.7608,2,   1.5464,2
49UP20180806_1,   P13,    54,  1,      9,     818,2,20180818,2048,2132, 20.4978, 164.9918, 5419,   3550.6,     3499,   1.5047,  34.6767,2,    145.0,2,  34.6770,2,   144.84,6,  -999.00,9,  -999.00,9,  -999.00,9, -999.000,9, -999.000,9, -999.000,9,   -999.0,9,   -999.0,9,-999.0000,9,  -999.00, -999.000,9,  -999.00,9,  -999.00,9,   1.2333,2,  27.7697,2,   1.5048,2
49UP20180806_1,   P13,    54,  1,      8,     817,2,20180818,2048,2126, 20.4978, 164.9918, 5419,   3807.1,     3750,   1.4735,  34.6812,2,    151.0,2,  34.6802,6,   150.91,2,  -999.00,9,  -999.00,9,  -999.00,9, -999.000,9, -999.000,9, -999.000,9,   -999.0,9,   -999.0,9,-999.0000,9,  -999.00, -999.000,9,  -999.00,9,  -999.00,9,   1.1761,2,  27.7773,2,   1.4735,2
49UP20180806_1,   P13,    54,  1,      7,     816,2,20180818,2048,2121, 20.4978, 164.9918, 5419,   4063.3,     4000,   1.4500,  34.6853,2,    156.8,2,  34.6844,2,   156.46,2,  -999.00,9,  -999.00,9,  -999.00,9, -999.000,9, -999.000,9, -999.000,9,   -999.0,9,   -999.0,9,-999.0000,9,  -999.00, -999.000,9,  -999.00,9,  -999.00,9,   1.1256,2,  27.7840,2,   1.4500,2
49UP20180806_1,   P13,    54,  1,      6,     815,2,20180818,2048,2115, 20.4978, 164.9918, 5419,   4319.9,     4250,   1.4357,  34.6888,2,    162.2,2,  34.6892,2,   162.32,2,  -999.00,9,  -999.00,9,  -999.00,9, -999.000,9, -999.000,9, -999.000,9,   -999.0,9,   -999.0,9,-999.0000,9,  -999.00, -999.000,9,  -999.00,9,  -999.00,9,   1.0832,2,  27.7897,2,   1.4357,2
49UP20180806_1,   P13,    54,  1,      5,     814,2,20180818,2048,2110, 20.4978, 164.9918, 5419,   4575.3,     4499,   1.4283,  34.6919,2,    167.3,2,  34.6916,2,   166.96,2,  -999.00,9,  -999.00,9,  -999.00,9, -999.000,9, -999.000,9, -999.000,9,   -999.0,9,   -999.0,9,-999.0000,9,  -999.00, -999.000,9,  -999.00,9,  -999.00,9,   1.0468,2,  27.7947,2,   1.4283,2
49UP20180806_1,   P13,    54,  1,      4,     813,2,20180818,2048,2104, 20.4978, 164.9918, 5419,   4833.8,     4750,   1.4245,  34.6946,2,    172.0,2,  34.6946,2,   172.31,2,  -999.00,9,  -999.00,9,  -999.00,9, -999.000,9, -999.000,9, -999.000,9,   -999.0,9,   -999.0,9,-999.0000,9,  -999.00, -999.000,9,  -999.00,9,  -999.00,9,   1.0127,2,  27.7991,2,   1.4246,2
49UP20180806_1,   P13,    54,  1,      3,     812,2,20180818,2048,2059, 20.4978, 164.9918, 5419,   5090.9,     5000,   1.4283,  34.6963,2,    175.6,2,  34.6957,2,   174.69,2,  -999.00,9,  -999.00,9,  -999.00,9, -999.000,9, -999.000,9, -999.000,9,   -999.0,9,   -999.0,9,-999.0000,9,  -999.00, -999.000,9,  -999.00,9,  -999.00,9,   0.9854,2,  27.8023,2,   1.4284,2
49UP20180806_1,   P13,    54,  1,      2,     811,2,20180818,2048,2053, 20.4978, 164.9918, 5419,   5347.7,     5249,   1.4475,  34.6974,2,    177.5,2,  34.6973,2,   177.88,2,  -999.00,9,  -999.00,9,  -999.00,9, -999.000,9, -999.000,9, -999.000,9,   -999.0,9,   -999.0,9,-999.0000,9,  -999.00, -999.000,9,  -999.00,9,  -999.00,9,   0.9721,2,  27.8040,2,   1.4476,2
49UP20180806_1,   P13,    54,  1,      1,     810,2,20180818,2048,2049, 20.4978, 164.9918, 5419,   5535.5,     5431,   1.4643,  34.6979,2,    178.6,2,  34.6983,6,   178.26,2,  -999.00,9,  -999.00,9,  -999.00,9, -999.000,9, -999.000,9, -999.000,9,   -999.0,9,   -999.0,9,-999.0000,9,  -999.00, -999.000,9,  -999.00,9,  -999.00,9,   0.9645,2,  27.8049,2,   1.4644,2