BOTTLE,20191018JMAGEMD
EXPOCODE,SECT_ID,STNNBR,CASTNO,SAMPNO,BTLNBR,BTLNBR_FLAG_U,DATE,TIME,BTL_TIME,LATITUDE,LONGITUDE,DEPTH,CTDPRS,CTDDEP,CTDTMP,CTDSAL,CTDSAL_FLAG_W,CTDOXY,CTDOXY_FLAG_W,SALNTY,SALNTY_FLAG_W,OXYGEN,OXYGEN_FLAG_W,SILCAT,SILCAT_FLAG_W,NO2+NO3,NO2+NO3_FLAG_W,NITRIT,NITRIT_FLAG_W,PHSPHT,PHSPHT_FLAG_W,CFC-11,CFC-11_FLAG_W,CFC-12,CFC-12_FLAG_W,TCARBN,TCARBN_FLAG_W,ALKALI,ALKALI_FLAG_W,PH_TS,PH_TS_FLAG_W,PH_TS_TMP,CFC113,CFC113_FLAG_W,CHLORA,CHLORA_FLAG_W,PPHYTN,PPHYTN_FLAG_W,THETA,THETA_FLAG_W,SIGTHT,SIGTHT_FLAG_W,SBE35,SBE35_FLAG_W
,,,,,,,,UTC,,,,METER,DBAR,METERS,ITS-90,PSS-78,,UMOL/KG,,PSS78,,UMOL/KG,,UMOL/KG,,UMOL/KG,,UMOL/KG,,UMOL/KG,,PMOL/KG,,PMOL/KG,,UMOL/KG,,UMOL/KG,,,,ITS-90,PMOL/KG,,UG/KG,,UG/KG,,ITS-90,,KG/M3,,ITS-90,
49UP20180806_2,   P13,    96,  1,      0,      -9,0,20180911,0732,0910, -2.9842, 164.9987, 4128,      0.0,        0,  30.5578,  34.8341,2,    193.1,2,  34.8353,2,   192.58,2,     1.28,3,     0.00,2,     0.00,2,    0.160,3, -999.000,9, -999.000,9,   1952.4,2,   2292.1,2,   8.1188,2,    25.00, -999.000,9,     0.05,2,     0.02,2,  30.5572,2,  21.4105,2,-999.0000,9
49UP20180806_2,   P13,    96,  1,     36,     845,2,20180911,0732,0935, -2.9842, 164.9987, 4128,     11.4,       11,  30.5395,  34.8309,2,    193.2,2,  34.8300,2,   192.02,2,     1.30,3,     0.00,2,     0.00,2,    0.130,3,    1.397,2,    0.804,2,   1954.3,2,   2291.1,2,   8.1198,2,    25.00,    0.126,2,     0.05,2,     0.02,2,  30.5366,2,  21.4153,2,  30.5362,2
49UP20180806_2,   P13,    96,  1,     35,     844,2,20180911,0732,0933, -2.9842, 164.9987, 4128,     27.3,       27,  30.4326,  35.0189,2,    194.2,2,  35.0175,2,   193.20,2,     1.25,3,     0.00,2,     0.00,2,    0.140,3, -999.000,9, -999.000,9,   1964.7,2,   2307.5,2,   8.1199,2,    25.00, -999.000,9,     0.05,2,     0.03,2,  30.4258,2,  21.5943,2,  30.4341,2
49UP20180806_2,   P13,    96,  1,     34,     843,2,20180911,0732,0930, -2.9842, 164.9987, 4128,     50.9,       51,  30.2193,  35.4264,2,    196.1,2,  35.4270,2,   195.27,2,     1.30,3,     0.00,2,     0.00,2,    0.180,3,    1.420,2,    0.805,2,   1991.1,2,   2336.0,2,   8.1129,6,    25.00,    0.122,2,     0.08,2,     0.05,2,  30.2066,2,  21.9751,2,  30.2189,2
49UP20180806_2,   P13,    96,  1,     33,     842,2,20180911,0732,0928, -2.9842, 164.9987, 4128,     76.5,       76,  29.9328,  35.5185,2,    196.0,2,  35.5171,2,   195.55,6,     1.35,3,     0.00,6,     0.00,6,    0.200,3, -999.000,9, -999.000,9,   1996.4,2,   2340.5,2,   8.1077,2,    25.00, -999.000,9,     0.13,2,     0.09,2,  29.9138,2,  22.1444,2,  29.9360,2
49UP20180806_2,   P13,    96,  1,     32,     841,2,20180911,0732,0926, -2.9842, 164.9987, 4128,    101.8,      101,  29.3180,  35.5794,2,    184.0,2,  35.5858,2,   184.50,2,     1.57,3,     1.54,2,     0.78,2,    0.350,3,    1.452,2,    0.832,2,   2023.2,2,   2346.2,2,   8.0749,2,    25.00,    0.123,2,     0.20,2,     0.34,2,  29.2931,2,  22.4007,2,  29.3119,2
49UP20180806_2,   P13,    96,  1,     31,     840,2,20180911,0732,0925, -2.9842, 164.9987, 4128,    126.9,      126,  29.0098,  35.7003,2,    182.7,2,  35.6985,2,   182.58,2,     1.65,3,     1.18,2,     0.17,2,    0.380,3, -999.000,9, -999.000,9,   2034.3,6,   2354.5,6,   8.0694,2,    25.00, -999.000,9,     0.17,2,     0.30,2,  28.9790,2,  22.5970,2,  29.0119,2
49UP20180806_2,   P13,    96,  1,     30,     839,2,20180911,0732,0923, -2.9842, 164.9987, 4128,    151.5,      151,  27.5615,  35.8297,2,    162.9,2,  35.8299,2,   163.60,2,     1.84,3,     4.93,2,     0.18,2,    0.560,3,    1.543,2,    0.892,2,   2061.7,2,   2360.3,2,   8.0220,2,    25.00,    0.127,2,     0.06,2,     0.08,2,  27.5261,2,  23.1733,2,  27.5664,2
49UP20180806_2,   P13,    96,  1,     29,     838,2,20180911,0732,0921, -2.9842, 164.9987, 4128,    203.1,      202,  18.6452,  35.5384,2,    114.0,2,  35.5459,2,   113.78,2,     6.54,3,    14.66,2,     0.01,2,    1.210,3,    1.869,2,    1.029,2,   2154.4,2,   2343.6,2,   7.8143,2,    25.00,    0.024,2,     0.01,2,     0.03,2,  18.6094,2,  25.5321,2,  18.6282,2
49UP20180806_2,   P13,    96,  1,     28,     837,2,20180911,0732,0919, -2.9842, 164.9987, 4128,    251.7,      250,  12.1416,  34.9178,2,    116.1,2,  34.9191,2,   115.97,2,    15.71,3,    22.75,2,     0.00,2,    1.680,3,    1.621,2,    0.808,2,   2190.7,2,   2312.9,2,   7.6862,2,    25.00,    0.004,2,  -999.00,9,  -999.00,9,  12.1084,2,  26.5045,2,  12.1473,2
49UP20180806_2,   P13,    96,  1,     27,     661,2,20180911,0732,0917, -2.9842, 164.9987, 4128,    282.0,      280,  10.8552,  34.8028,2,    123.2,2,  34.8098,2,   122.21,2,    18.02,3,    24.19,2,     0.00,2,    1.760,3,    1.534,2,    0.746,2,   2186.3,2,   2306.5,2,   7.6681,2,    25.00,    0.012,2,  -999.00,9,  -999.00,9,  10.8207,2,  26.6542,2,  10.8389,2
49UP20180806_2,   P13,    96,  1,     26,     835,2,20180911,0732,0916, -2.9842, 164.9987, 4128,    323.3,      321,  10.1541,  34.7433,2,    119.1,2,  34.7457,2,   119.80,2,    20.40,3,    25.89,2,     0.00,2,    1.810,3, -999.000,9, -999.000,9,   2193.0,2,   2306.3,2,   7.6455,2,    25.00, -999.000,9,  -999.00,9,  -999.00,9,  10.1161,2,  26.7316,2,  10.1472,2
49UP20180806_2,   P13,    96,  1,     25,     834,2,20180911,0732,0913, -2.9842, 164.9987, 4128,    372.1,      370,   9.5139,  34.6957,2,    107.3,2,  34.6961,2,   106.64,2,    24.21,3,    28.59,2,     0.00,2,    1.980,3,    1.129,6,    0.530,6,   2214.2,2,   2306.1,2,   7.6057,2,    25.00,    0.013,6,  -999.00,9,  -999.00,9,   9.4718,2,  26.8031,2,   9.5135,2
49UP20180806_2,   P13,    96,  1,     23,     832,2,20180911,0732,0912, -2.9842, 164.9987, 4128,    423.1,      420,   9.1572,  34.6708,2,    108.8,2,  34.6700,6,   108.91,2,    25.36,3,    29.17,2,     0.00,2,    2.010,3, -999.000,9, -999.000,9,   2211.9,2,   2305.2,2,   7.6009,2,    25.00, -999.000,9,  -999.00,9,  -999.00,9,   9.1104,2,  26.8426,2,   9.1584,2
49UP20180806_2,   P13,    96,  1,     22,     831,2,20180911,0732,0909, -2.9842, 164.9987, 4128,    474.0,      471,   8.7112,  34.6476,2,     94.4,2,  34.6488,2,    94.19,6,    28.68,3,    31.61,6,     0.00,6,    2.170,3,    0.795,2,    0.362,2,   2226.1,2,   2306.1,2,   7.5670,2,    25.00,    0.002,2,  -999.00,9,  -999.00,9,   8.6601,2,  26.8960,2,   8.7147,2
49UP20180806_2,   P13,    96,  1,     20,     829,2,20180911,0732,0906, -2.9842, 164.9987, 4128,    573.7,      570,   7.6143,  34.5848,2,    100.3,2,  34.5856,2,   100.67,2,    34.40,3,    33.38,2,     0.00,2,    2.310,3, -999.000,9, -999.000,9,   2231.1,2,   2308.4,2,   7.5518,2,    25.00, -999.000,9,  -999.00,9,  -999.00,9,   7.5569,2,  27.0129,2,   7.6150,2
49UP20180806_2,   P13,    96,  1,     21,     830,2,20180911,0732,0906, -2.9842, 164.9987, 4128,    573.9,      570,   7.6148,  34.5848,2,    100.3,2,  34.5838,2,   100.05,2,    34.51,3,    33.37,2,     0.00,2,    2.310,3,    0.562,2,    0.260,2,   2236.4,2,   2307.8,2,   7.5510,2,    25.00,    0.007,2,  -999.00,9,  -999.00,9,   7.5573,2,  27.0128,2,   7.6152,2
49UP20180806_2,   P13,    96,  1,     19,     828,2,20180911,0732,0903, -2.9842, 164.9987, 4128,    675.5,      671,   6.6182,  34.5417,2,    104.9,2,  34.5424,2,   105.37,2,    43.22,3,    34.78,2,     0.00,2,    2.430,3,    0.403,2,    0.182,2,   2242.3,2,   2315.0,2,   7.5432,2,    25.00,    0.008,2,  -999.00,9,  -999.00,9,   6.5551,2,  27.1182,2,   6.6184,2
49UP20180806_2,   P13,    96,  1,     18,     660,2,20180911,0732,0900, -2.9842, 164.9987, 4128,    776.6,      771,   5.8092,  34.5303,2,    100.5,2,  34.5300,2,   100.20,2,    54.59,3,    36.67,2,     0.00,2,    2.570,3,    0.194,2,    0.083,2,   2259.6,2,   2326.0,2,   7.5247,2,    25.00,    0.011,2,  -999.00,9,  -999.00,9,   5.7410,2,  27.2140,2,   5.8042,2
49UP20180806_2,   P13,    96,  1,     17,     826,2,20180911,0732,0858, -2.9842, 164.9987, 4128,    877.4,      871,   5.2380,  34.5400,2,     85.6,2,  34.5413,2,    85.78,2,    67.64,3,    38.74,2,     0.00,2,    2.740,3,    0.064,2,    0.024,2,   2284.4,2,   2339.9,2,   7.4958,6,    25.00,    0.004,2,  -999.00,9,  -999.00,9,   5.1640,2,  27.2914,2,   5.2369,2
49UP20180806_2,   P13,    96,  1,     16,     825,2,20180911,0732,0855, -2.9842, 164.9987, 4128,    978.1,      970,   4.6659,  34.5342,2,    111.6,2,  34.5354,2,   111.79,2,    73.14,3,    36.72,2,     0.00,2,    2.590,3,    0.103,2,    0.042,2,   2276.6,6,   2347.0,6,   7.5346,2,    25.00,    0.000,2,  -999.00,9,  -999.00,9,   4.5870,2,  27.3527,2,   4.6676,2
49UP20180806_2,   P13,    96,  1,     15,     824,2,20180911,0732,0849, -2.9842, 164.9987, 4128,   1140.1,     1131,   4.0880,  34.5595,2,     93.3,2,  34.5611,6,    93.32,2,    91.11,3,    39.00,2,     0.00,2,    2.780,3,    0.017,2,    0.005,2,   2303.1,2,   2363.9,2,   7.5007,2,    25.00,    0.000,2,  -999.00,9,  -999.00,9,   3.9997,2,  27.4358,2,   4.0869,2
49UP20180806_2,   P13,    96,  1,     14,     823,2,20180911,0732,0844, -2.9842, 164.9987, 4128,   1344.5,     1333,   3.5975,  34.5753,2,    100.1,2,  34.5766,6,   100.04,2,   102.05,3,    38.71,2,     0.00,2,    2.750,3,    0.008,2,    0.002,2,   2314.5,2,   2376.9,2,   7.5111,2,    25.00,    0.001,2,  -999.00,9,  -999.00,9,   3.4962,2,  27.4991,2,   3.5974,2
49UP20180806_2,   P13,    96,  1,     13,     822,2,20180911,0732,0839, -2.9842, 164.9987, 4128,   1546.0,     1532,   3.1329,  34.5933,2,    104.9,2,  34.5945,2,   104.92,6,   112.42,3,    38.61,6,     0.00,6,    2.740,3,    0.002,2,   -0.000,2,   2319.4,2,   2386.6,2,   7.5192,2,    25.00,    0.003,2,  -999.00,9,  -999.00,9,   3.0196,2,  27.5587,2,   3.1331,2
49UP20180806_2,   P13,    96,  1,     12,     821,2,20180911,0732,0833, -2.9842, 164.9987, 4128,   1750.5,     1734,   2.6701,  34.6143,2,    112.5,2,  34.6143,2,   112.61,2,   123.12,3,    38.29,2,     0.00,2,    2.710,3,    0.001,2,    0.000,2,   2331.4,2,   2401.2,2,   7.5302,2,    25.00,    0.000,2,  -999.00,9,  -999.00,9,   2.5452,2,  27.6176,2,   2.6701,2
49UP20180806_2,   P13,    96,  1,     11,     820,2,20180911,0732,0828, -2.9842, 164.9987, 4128,   1952.0,     1932,   2.3603,  34.6304,2,    118.8,2,  34.6314,6,   118.91,2,   129.38,3,    37.92,2,     0.00,2,    2.670,3,    0.004,2,    0.001,2,   2326.5,3,   2406.3,2,   7.5395,2,    25.00,    0.000,2,  -999.00,9,  -999.00,9,   2.2225,2,  27.6576,2,   2.3601,2
49UP20180806_2,   P13,    96,  1,     10,     819,2,20180911,0732,0823, -2.9842, 164.9987, 4128,   2155.7,     2133,   2.1236,  34.6437,2,    122.6,2,  34.6443,2,   122.67,2,   136.11,3,    37.81,2,     0.00,2,    2.650,3,    0.002,2,    0.001,2,   2338.0,2,   2414.5,2,   7.5480,2,    25.00,    0.000,2,  -999.00,9,  -999.00,9,   1.9719,2,  27.6884,2,   2.1236,2
49UP20180806_2,   P13,    96,  1,      9,     818,2,20180911,0732,0813, -2.9842, 164.9987, 4128,   2358.8,     2333,   1.9903,  34.6513,2,    125.6,2,  34.6531,4,   125.30,2,   139.34,3,    37.62,2,     0.00,2,    2.630,3,    0.002,2,    0.000,2,   2337.2,2,   2417.9,2,   7.5518,2,    25.00,    0.001,2,  -999.00,9,  -999.00,9,   1.8230,2,  27.7061,2,   1.9906,2
49UP20180806_2,   P13,    96,  1,      8,     817,2,20180911,0732,0808, -2.9842, 164.9987, 4128,   2562.8,     2533,   1.8479,  34.6590,2,    131.4,2,  34.6584,2,   131.73,2,   141.49,3,    37.26,2,     0.00,2,    2.600,3,    0.000,2,    0.000,2,   2337.0,2,   2419.1,2,   7.5606,2,    25.00,    0.000,2,  -999.00,9,  -999.00,9,   1.6647,2,  27.7244,2,   1.8483,2
49UP20180806_2,   P13,    96,  1,      7,     816,2,20180911,0732,0803, -2.9842, 164.9987, 4128,   2762.7,     2730,   1.7645,  34.6634,2,    131.9,2,  34.6645,2,   131.70,2,   144.40,3,    37.20,2,     0.00,2,    2.590,3,    0.000,6,    0.000,6,   2335.9,2,   2423.5,2,   7.5607,2,    25.00,    0.000,6,  -999.00,9,  -999.00,9,   1.5645,2,  27.7354,2,   1.7645,2
49UP20180806_2,   P13,    96,  1,      6,     815,2,20180911,0732,0758, -2.9842, 164.9987, 4128,   2969.0,     2932,   1.6901,  34.6680,2,    135.4,2,  34.6688,2,   135.40,2,   145.91,3,    36.99,2,     0.00,2,    2.570,3, -999.000,9, -999.000,9,   2337.8,2,   2422.5,2,   7.5661,6,    25.00, -999.000,9,  -999.00,9,  -999.00,9,   1.4721,2,  27.7457,2,   1.6898,2
49UP20180806_2,   P13,    96,  1,      5,     814,2,20180911,0732,0753, -2.9842, 164.9987, 4128,   3214.2,     3172,   1.5969,  34.6742,2,    142.5,2,  34.6751,2,   142.22,2,   145.29,3,    36.55,2,     0.00,2,    2.540,3,    0.002,2,    0.000,2,   2335.6,6,   2422.4,6,   7.5756,2,    25.00,    0.000,2,  -999.00,9,  -999.00,9,   1.3571,2,  27.7590,2,   1.5968,2
49UP20180806_2,   P13,    96,  1,      4,     813,2,20180911,0732,0748, -2.9842, 164.9987, 4128,   3467.3,     3420,   1.5321,  34.6794,2,    148.7,2,  34.6798,2,   148.76,6,   144.56,3,    36.16,6,     0.00,6,    2.500,3,    0.000,2,    0.000,2,   2332.1,2,   2421.6,2,   7.5845,2,    25.00,    0.002,2,  -999.00,9,  -999.00,9,   1.2685,2,  27.7694,2,   1.5320,2
49UP20180806_2,   P13,    96,  1,      3,     812,2,20180911,0732,0742, -2.9842, 164.9987, 4128,   3723.7,     3671,   1.4968,  34.6838,2,    154.6,2,  34.6841,2,   154.49,2,   142.10,3,    35.76,2,     0.00,2,    2.470,3,   -0.000,2,    0.002,2,   2326.8,2,   2418.1,2,   7.5899,2,    25.00,    0.004,2,  -999.00,9,  -999.00,9,   1.2075,2,  27.7772,2,   1.4970,2
49UP20180806_2,   P13,    96,  1,      2,     811,2,20180911,0732,0737, -2.9842, 164.9987, 4128,   3977.9,     3919,   1.4458,  34.6893,2,    162.9,2,  34.6881,2,   163.03,2,   138.91,3,    35.18,2,     0.00,2,    2.430,3,    0.001,2,    0.000,2,   2316.4,2,   2416.6,2,   7.6008,2,    25.00,    0.010,2,  -999.00,9,  -999.00,9,   1.1308,2,  27.7868,2,   1.4458,2
49UP20180806_2,   P13,    96,  1,      1,     810,2,20180911,0732,0733, -2.9842, 164.9987, 4128,   4173.4,     4110,   1.4099,  34.6930,2,    169.5,2,  34.6940,2,   169.55,2,   135.62,3,    34.73,2,     0.00,2,    2.390,3,    0.012,2,    0.003,2,   2312.5,2,   2410.5,2,   7.6078,2,    25.00,    0.000,2,  -999.00,9,  -999.00,9,   1.0745,2,  27.7937,2,   1.4097,2