BOTTLE,20191018JMAGEMD
EXPOCODE,SECT_ID,STNNBR,CASTNO,SAMPNO,BTLNBR,BTLNBR_FLAG_U,DATE,TIME,BTL_TIME,LATITUDE,LONGITUDE,DEPTH,CTDPRS,CTDDEP,CTDTMP,CTDSAL,CTDSAL_FLAG_W,CTDOXY,CTDOXY_FLAG_W,SALNTY,SALNTY_FLAG_W,OXYGEN,OXYGEN_FLAG_W,SILCAT,SILCAT_FLAG_W,NO2+NO3,NO2+NO3_FLAG_W,NITRIT,NITRIT_FLAG_W,PHSPHT,PHSPHT_FLAG_W,CFC-11,CFC-11_FLAG_W,CFC-12,CFC-12_FLAG_W,TCARBN,TCARBN_FLAG_W,ALKALI,ALKALI_FLAG_W,PH_TS,PH_TS_FLAG_W,PH_TS_TMP,CFC113,CFC113_FLAG_W,CHLORA,CHLORA_FLAG_W,PPHYTN,PPHYTN_FLAG_W,THETA,THETA_FLAG_W,SIGTHT,SIGTHT_FLAG_W,SBE35,SBE35_FLAG_W
,,,,,,,,UTC,,,,METER,DBAR,METERS,ITS-90,PSS-78,,UMOL/KG,,PSS78,,UMOL/KG,,UMOL/KG,,UMOL/KG,,UMOL/KG,,UMOL/KG,,PMOL/KG,,PMOL/KG,,UMOL/KG,,UMOL/KG,,,,ITS-90,PMOL/KG,,UG/KG,,UG/KG,,ITS-90,,KG/M3,,ITS-90,
49UP20180806_2,   P13,    86,  1,      0,      -9,0,20180907,2114,2250,  1.9942, 165.0010, 4171,      0.0,        0,  30.2024,  34.2083,2,    194.8,2,  34.2095,2,   193.62,2,     1.25,3,     0.00,2,     0.00,2,    0.100,3, -999.000,9, -999.000,9,   1920.6,2,   2250.1,2,   8.1208,2,    25.00, -999.000,9,     0.07,2,     0.01,2,  30.2018,2,  21.0639,2,-999.0000,9
49UP20180806_2,   P13,    86,  1,     36,     845,2,20180907,2114,2314,  1.9942, 165.0010, 4171,     10.5,       10,  30.1995,  34.2066,2,    194.7,2,  34.2078,2,   194.18,2,     1.26,3,     0.00,2,     0.00,2,    0.080,3,    1.397,2,    0.809,2,   1923.3,6,   2250.2,6,   8.1215,2,    25.00,    0.121,2,     0.06,2,     0.02,2,  30.1969,2,  21.0643,2,  30.2009,2
49UP20180806_2,   P13,    86,  1,     35,     844,2,20180907,2114,2312,  1.9942, 165.0010, 4171,     25.3,       25,  30.2336,  34.2630,2,    195.3,2,  34.2588,2,   194.56,2,     1.19,3,     0.00,2,     0.00,2,    0.080,3, -999.000,9, -999.000,9,   1924.7,2,   2254.4,2,   8.1189,2,    25.00, -999.000,9,     0.06,2,     0.02,2,  30.2273,2,  21.0961,2,  30.2372,2
49UP20180806_2,   P13,    86,  1,     34,     843,2,20180907,2114,2309,  1.9942, 165.0010, 4171,     49.3,       49,  30.4330,  34.6954,2,    198.0,2,  34.6935,2,   197.47,2,     1.22,3,     0.04,2,     0.00,2,    0.110,3,    1.423,2,    0.817,2,   1952.9,2,   2282.5,2,   8.1168,2,    25.00,    0.121,2,     0.08,2,     0.04,2,  30.4206,2,  21.3537,2,  30.4352,2
49UP20180806_2,   P13,    86,  1,     33,     842,2,20180907,2114,2308,  1.9942, 165.0010, 4171,     75.6,       75,  30.1919,  35.1613,2,    200.3,2,  35.1582,2,   199.98,2,     1.27,3,     0.00,2,     0.00,2,    0.170,3, -999.000,9, -999.000,9,   1984.9,2,   2313.9,2,   8.0980,2,    25.00, -999.000,9,     0.14,2,     0.08,2,  30.1731,2,  21.7878,2,  30.1892,2
49UP20180806_2,   P13,    86,  1,     32,     841,2,20180907,2114,2306,  1.9942, 165.0010, 4171,    103.1,      103,  29.4820,  35.3196,2,    194.7,2,  35.3184,2,   195.16,2,     1.35,3,     0.00,2,     0.00,2,    0.230,3,    1.482,2,    0.843,2,   2009.3,2,   2324.9,2,   8.0762,2,    25.00,    0.121,2,     0.26,2,     0.25,2,  29.4567,2,  22.1505,2,  29.4812,2
49UP20180806_2,   P13,    86,  1,     31,     840,2,20180907,2114,2304,  1.9942, 165.0010, 4171,    128.1,      127,  27.3274,  35.3638,2,    161.1,2,  35.3596,2,   163.70,2,     2.18,3,     5.06,2,     0.54,2,    0.510,3, -999.000,9, -999.000,9,   2047.6,2,   2324.8,2,   8.0069,2,    25.00, -999.000,9,     0.17,2,     0.38,2,  27.2977,2,  22.8963,2,  27.2651,2
49UP20180806_2,   P13,    86,  1,     30,     839,2,20180907,2114,2303,  1.9942, 165.0010, 4171,    150.8,      150,  24.7579,  35.2350,2,    143.7,2,  35.2323,2,   143.92,2,     3.90,3,     7.72,2,     0.07,2,    0.650,3,    1.686,2,    0.963,2,   2072.0,2,   2316.3,2,   7.9562,2,    25.00,    0.055,2,     0.06,2,     0.27,2,  24.7253,2,  23.6022,2,  24.8013,2
49UP20180806_2,   P13,    86,  1,     29,     838,2,20180907,2114,2301,  1.9942, 165.0010, 4171,    204.1,      203,  14.0486,  34.7152,2,    136.8,2,  34.7069,2,   137.35,6,    16.84,3,    16.95,6,     0.01,6,    1.230,3,    2.049,2,    1.072,2,   2150.2,2,   2295.9,2,   7.7630,2,    25.00,    0.022,2,     0.00,2,     0.02,2,  14.0191,2,  25.9630,2,  14.0936,2
49UP20180806_2,   P13,    86,  1,     28,     837,2,20180907,2114,2259,  1.9942, 165.0010, 4171,    252.8,      251,  11.9264,  34.8231,2,    132.5,2,  34.8221,2,   132.57,2,    18.55,3,    21.44,2,     0.00,2,    1.530,3,    1.745,2,    0.874,2,   2174.3,2,   2307.3,2,   7.7122,2,    25.00,    0.019,2,  -999.00,9,  -999.00,9,  11.8936,2,  26.4720,2,  11.9274,2
49UP20180806_2,   P13,    86,  1,     27,     661,2,20180907,2114,2256,  1.9942, 165.0010, 4171,    333.2,      331,  10.7707,  34.7544,2,     99.8,2,  34.7531,2,    99.53,2,    23.73,3,    26.84,2,     0.00,2,    1.880,3,    1.329,2,    0.648,2,   2204.9,2,   2306.4,2,   7.6263,6,    25.00,    0.011,2,  -999.00,9,  -999.00,9,  10.7300,2,  26.6328,2,  10.7710,2
49UP20180806_2,   P13,    86,  1,     26,     835,2,20180907,2114,2254,  1.9942, 165.0010, 4171,    382.4,      380,  10.1114,  34.7117,2,     84.2,2,  34.7105,2,    84.54,2,    27.42,3,    29.63,2,     0.00,2,    2.060,3, -999.000,9, -999.000,9,   2223.3,6,   2305.8,6,   7.5822,2,    25.00, -999.000,9,  -999.00,9,  -999.00,9,  10.0665,2,  26.7155,2,  10.1110,2
49UP20180806_2,   P13,    86,  1,     25,     834,2,20180907,2114,2252,  1.9942, 165.0010, 4171,    433.1,      430,   9.4301,  34.6660,2,    107.0,2,  34.6647,2,   106.89,2,    27.92,3,    28.71,2,     0.00,2,    2.000,3,    1.126,2,    0.536,2,   2209.7,2,   2306.0,2,   7.6061,2,    25.00,    0.019,2,  -999.00,9,  -999.00,9,   9.3812,2,  26.7947,2,   9.4295,2
49UP20180806_2,   P13,    86,  1,     23,     832,2,20180907,2114,2249,  1.9942, 165.0010, 4171,    483.7,      480,   8.7456,  34.6244,2,    101.2,2,  34.6241,6,   100.80,2,    31.68,3,    30.51,2,     0.00,2,    2.120,3, -999.000,9, -999.000,9,   2221.1,2,   2306.8,2,   7.5838,2,    25.00, -999.000,9,  -999.00,9,  -999.00,9,   8.6934,2,  26.8726,2,   8.7434,2
49UP20180806_2,   P13,    86,  1,     22,     831,2,20180907,2114,2247,  1.9942, 165.0010, 4171,    535.0,      531,   7.6472,  34.5732,2,     92.6,2,  34.5737,2,    93.14,2,    40.11,3,    33.36,2,     0.00,2,    2.330,3,    0.510,2,    0.241,2,   2240.5,2,   2312.8,2,   7.5489,2,    25.00,    0.004,2,  -999.00,9,  -999.00,9,   7.5936,2,  26.9985,2,   7.6472,2
49UP20180806_2,   P13,    86,  1,     21,     830,2,20180907,2114,2244,  1.9942, 165.0010, 4171,    635.4,      631,   6.7671,  34.5547,2,     90.2,2,  34.5551,2,    90.11,2,    46.53,3,    35.74,2,     0.00,2,    2.510,3,    0.316,2,    0.144,2,   2258.2,2,   2319.3,2,   7.5220,2,    25.00,    0.002,2,  -999.00,9,  -999.00,9,   6.7072,2,  27.1080,2,   6.7678,2
49UP20180806_2,   P13,    86,  1,     20,     829,2,20180907,2114,2241,  1.9942, 165.0010, 4171,    736.8,      731,   6.1494,  34.5317,2,    102.0,2,  34.5314,2,   102.84,2,    54.88,3,    35.24,2,     0.00,2,    2.480,3,    0.317,2,    0.145,2,   2256.5,2,   2326.4,2,   7.5385,2,    25.00,    0.005,2,  -999.00,9,  -999.00,9,   6.0830,2,  27.1721,2,   6.1443,2
49UP20180806_2,   P13,    86,  1,     19,     828,2,20180907,2114,2238,  1.9942, 165.0010, 4171,    835.9,      830,   5.4115,  34.5360,2,     98.2,2,  34.5368,2,    98.35,2,    69.15,3,    36.61,2,     0.00,2,    2.580,3,    0.178,2,    0.076,2,   2275.1,2,   2340.1,2,   7.5249,2,    25.00,    0.005,2,  -999.00,9,  -999.00,9,   5.3402,2,  27.2674,2,   5.4114,2
49UP20180806_2,   P13,    86,  1,     18,     660,2,20180907,2114,2235,  1.9942, 165.0010, 4171,    938.4,      931,   4.8264,  34.5467,2,     94.3,2,  34.5467,2,    94.40,6,    80.54,3,    37.74,6,     0.00,6,    2.670,3,    0.083,2,    0.035,2,   2292.0,2,   2352.6,2,   7.5151,2,    25.00,    0.002,2,  -999.00,9,  -999.00,9,   4.7498,2,  27.3444,2,   4.8264,2
49UP20180806_2,   P13,    86,  1,     16,     825,2,20180907,2114,2231,  1.9942, 165.0010, 4171,   1082.4,     1074,   4.2313,  34.5599,2,     94.6,2,  34.5599,2,    94.72,2,    91.81,3,    38.38,2,     0.00,2,    2.720,3, -999.000,9, -999.000,9,   2304.8,2,   2363.9,2,   7.5098,2,    25.00, -999.000,9,  -999.00,9,  -999.00,9,   4.1467,2,  27.4207,2,   4.2310,2
49UP20180806_2,   P13,    86,  1,     17,     826,2,20180907,2114,2231,  1.9942, 165.0010, 4171,   1083.2,     1074,   4.2305,  34.5599,2,     94.6,2,  34.5601,2,    94.74,2,    91.94,3,    38.34,2,     0.00,2,    2.730,3,    0.045,2,    0.016,2,   2305.3,2,   2364.7,2,   7.5126,2,    25.00,    0.007,2,  -999.00,9,  -999.00,9,   4.1459,2,  27.4208,2,   4.2303,2
49UP20180806_2,   P13,    86,  1,     15,     824,2,20180907,2114,2226,  1.9942, 165.0010, 4171,   1284.7,     1274,   3.6076,  34.5793,2,     94.8,2,  34.5797,2,    94.52,2,   105.72,3,    38.90,2,     0.00,2,    2.760,3,    0.015,2,    0.006,2,   2319.0,2,   2380.5,2,   7.5075,2,    25.00,    0.005,2,  -999.00,9,  -999.00,9,   3.5113,2,  27.5008,2,   3.6068,2
49UP20180806_2,   P13,    86,  1,     14,     823,2,20180907,2114,2221,  1.9942, 165.0010, 4171,   1485.8,     1472,   3.1599,  34.5950,2,     97.7,2,  34.5948,6,    97.87,2,   115.90,3,    39.04,2,     0.00,2,    2.760,3,    0.001,2,    0.000,2,   2329.4,2,   2392.0,2,   7.5083,2,    25.00,    0.000,2,  -999.00,9,  -999.00,9,   3.0514,2,  27.5571,2,   3.1597,2
49UP20180806_2,   P13,    86,  1,     13,     822,2,20180907,2114,2215,  1.9942, 165.0010, 4171,   1686.1,     1670,   2.7757,  34.6107,2,    101.1,2,  34.6107,6,   101.43,2,   125.02,3,    39.08,2,     0.00,2,    2.750,3,    0.005,2,    0.001,2,   2342.1,2,   2400.9,2,   7.5110,2,    25.00,    0.004,2,  -999.00,9,  -999.00,9,   2.6549,2,  27.6052,2,   2.7755,2
49UP20180806_2,   P13,    86,  1,     12,     821,2,20180907,2114,2210,  1.9942, 165.0010, 4171,   1890.5,     1872,   2.4537,  34.6260,2,    106.0,2,  34.6256,2,   107.02,2,   133.50,3,    38.91,2,     0.00,2,    2.730,3,    0.001,2,   -0.000,2,   2348.8,2,   2409.2,2,   7.5211,2,    25.00,    0.000,2,  -999.00,9,  -999.00,9,   2.3198,2,  27.6461,2,   2.4541,2
49UP20180806_2,   P13,    86,  1,     11,     820,2,20180907,2114,2205,  1.9942, 165.0010, 4171,   2091.5,     2070,   2.1708,  34.6398,2,    115.3,2,  34.6403,2,   115.55,6,   140.02,3,    38.34,6,     0.00,6,    2.690,3,    0.000,2,    0.000,2,   2341.4,2,   2413.6,2,   7.5352,6,    25.00,    0.000,2,  -999.00,9,  -999.00,9,   2.0239,2,  27.6812,2,   2.1713,2
49UP20180806_2,   P13,    86,  1,     10,     819,2,20180907,2114,2159,  1.9942, 165.0010, 4171,   2294.5,     2269,   2.0136,  34.6499,2,    118.4,2,  34.6506,2,   119.18,2,   144.30,3,    38.21,2,     0.00,2,    2.690,3,    0.002,2,    0.000,2,   2344.3,6,   2419.8,6,   7.5412,2,    25.00,    0.000,2,  -999.00,9,  -999.00,9,   1.8515,2,  27.7028,2,   2.0138,2
49UP20180806_2,   P13,    86,  1,      9,     818,2,20180907,2114,2155,  1.9942, 165.0010, 4171,   2497.5,     2469,   1.8817,  34.6581,2,    121.7,2,  34.6587,6,   121.51,2,   146.92,3,    38.05,2,     0.00,2,    2.660,3,    0.000,2,    0.000,2,   2344.1,2,   2423.3,2,   7.5471,2,    25.00,    0.000,2,  -999.00,9,  -999.00,9,   1.7039,2,  27.7206,2,   1.8817,2
49UP20180806_2,   P13,    86,  1,      8,     817,2,20180907,2114,2150,  1.9942, 165.0010, 4171,   2701.8,     2670,   1.8078,  34.6617,2,    126.0,2,  34.6625,2,   126.12,2,   147.14,3,    37.79,2,     0.00,2,    2.630,3,    0.000,2,    0.003,2,   2345.1,2,   2424.7,2,   7.5507,2,    25.00,    0.000,2,  -999.00,9,  -999.00,9,   1.6127,2,  27.7304,2,   1.8078,2
49UP20180806_2,   P13,    86,  1,      7,     816,2,20180907,2114,2145,  1.9942, 165.0010, 4171,   2904.6,     2869,   1.7231,  34.6666,2,    131.3,2,  34.6667,2,   131.25,2,   147.34,3,    37.43,2,     0.00,2,    2.590,3,    0.001,2,    0.002,2,   2343.0,2,   2425.1,2,   7.5597,2,    25.00,    0.000,2,  -999.00,9,  -999.00,9,   1.5106,2,  27.7418,2,   1.7230,2
49UP20180806_2,   P13,    86,  1,      6,     815,2,20180907,2114,2140,  1.9942, 165.0010, 4171,   3118.5,     3079,   1.6436,  34.6710,2,    137.9,2,  34.6711,2,   138.44,2,   146.50,3,    36.94,2,     0.00,2,    2.560,3, -999.000,9, -999.000,9,   2337.4,2,   2422.9,2,   7.5707,2,    25.00, -999.000,9,  -999.00,9,  -999.00,9,   1.4121,2,  27.7525,2,   1.6435,2
49UP20180806_2,   P13,    86,  1,      5,     814,2,20180907,2114,2134,  1.9942, 165.0010, 4171,   3374.3,     3329,   1.5560,  34.6772,2,    145.9,2,  34.6778,2,   146.01,2,   145.13,3,    36.42,2,     0.00,2,    2.520,3,    0.000,2,    0.004,2,   2342.7,3,   2422.7,2,   7.5812,2,    25.00,    0.000,2,  -999.00,9,  -999.00,9,   1.3012,2,  27.7653,2,   1.5559,2
49UP20180806_2,   P13,    86,  1,      4,     813,2,20180907,2114,2128,  1.9942, 165.0010, 4171,   3630.8,     3580,   1.5224,  34.6812,2,    150.5,2,  34.6807,2,   150.78,2,   143.96,3,    36.05,2,     0.00,2,    2.490,3,    0.000,2,    0.004,2,   2329.2,2,   2421.2,2,   7.5879,6,    25.00,    0.000,2,  -999.00,9,  -999.00,9,   1.2422,2,  27.7727,2,   1.5223,2
49UP20180806_2,   P13,    86,  1,      3,     812,2,20180907,2114,2122,  1.9942, 165.0010, 4171,   3887.4,     3831,   1.4762,  34.6860,2,    157.5,2,  34.6867,6,   157.56,2,   141.28,3,    35.61,2,     0.00,2,    2.450,3,    0.008,2,    0.004,2,   2322.6,2,   2418.2,2,   7.5962,2,    25.00,    0.004,2,  -999.00,9,  -999.00,9,   1.1702,2,  27.7815,2,   1.4761,2
49UP20180806_2,   P13,    86,  1,      2,     811,2,20180907,2114,2117,  1.9942, 165.0010, 4171,   4142.1,     4080,   1.4065,  34.6928,2,    169.0,2,  34.6933,2,   169.24,6,   135.88,3,    34.83,6,     0.00,6,    2.390,3,    0.013,2,    0.007,2,   2315.2,2,   2410.1,2,   7.6078,2,    25.00,    0.004,2,  -999.00,9,  -999.00,9,   1.0746,2,  27.7935,2,   1.4064,2
49UP20180806_2,   P13,    86,  1,      1,     810,2,20180907,2114,2114,  1.9942, 165.0010, 4171,   4222.3,     4158,   1.3492,  34.6972,2,    176.6,2,  34.6979,2,   176.77,2,   131.72,3,    34.21,2,     0.00,2,    2.350,3,    0.018,2,    0.011,2,   2303.7,2,   2403.6,2,   7.6137,2,    25.00,    0.000,2,  -999.00,9,  -999.00,9,   1.0102,2,  27.8013,2,   1.3491,2