BOTTLE,20191018JMAGEMD
EXPOCODE,SECT_ID,STNNBR,CASTNO,SAMPNO,BTLNBR,BTLNBR_FLAG_U,DATE,TIME,BTL_TIME,LATITUDE,LONGITUDE,DEPTH,CTDPRS,CTDDEP,CTDTMP,CTDSAL,CTDSAL_FLAG_W,CTDOXY,CTDOXY_FLAG_W,SALNTY,SALNTY_FLAG_W,OXYGEN,OXYGEN_FLAG_W,SILCAT,SILCAT_FLAG_W,NO2+NO3,NO2+NO3_FLAG_W,NITRIT,NITRIT_FLAG_W,PHSPHT,PHSPHT_FLAG_W,CFC-11,CFC-11_FLAG_W,CFC-12,CFC-12_FLAG_W,TCARBN,TCARBN_FLAG_W,ALKALI,ALKALI_FLAG_W,PH_TS,PH_TS_FLAG_W,PH_TS_TMP,CFC113,CFC113_FLAG_W,CHLORA,CHLORA_FLAG_W,PPHYTN,PPHYTN_FLAG_W,THETA,THETA_FLAG_W,SIGTHT,SIGTHT_FLAG_W,SBE35,SBE35_FLAG_W
,,,,,,,,UTC,,,,METER,DBAR,METERS,ITS-90,PSS-78,,UMOL/KG,,PSS78,,UMOL/KG,,UMOL/KG,,UMOL/KG,,UMOL/KG,,UMOL/KG,,PMOL/KG,,PMOL/KG,,UMOL/KG,,UMOL/KG,,,,ITS-90,PMOL/KG,,UG/KG,,UG/KG,,ITS-90,,KG/M3,,ITS-90,
49UP20180806_2,   P13,    98,  1,      0,      -9,0,20180912,0744,0840, -4.9937, 164.9937, 2382,      0.0,        0,  30.1960,  35.3377,2,    195.0,2,  35.3428,2,   193.92,2,     1.36,3,     0.00,2,     0.00,2,    0.210,3, -999.000,9, -999.000,9,   1985.5,2,   2327.3,2,   8.1064,2,    25.00, -999.000,9,     0.07,2,     0.04,2,  30.1953,2,  21.9125,2,-999.0000,9
49UP20180806_2,   P13,    98,  1,     36,     845,2,20180912,0744,0907, -4.9937, 164.9937, 2382,     11.9,       12,  30.1944,  35.3372,2,    194.9,2,  35.3373,2,   194.05,2,     1.25,3,     0.02,2,     0.00,2,    0.190,3,    1.416,2,    0.806,2,   1988.7,2,   2327.3,2,   8.1110,2,    25.00,    0.133,2,     0.08,2,     0.04,2,  30.1914,2,  21.9134,2,  30.1943,2
49UP20180806_2,   P13,    98,  1,     35,     844,2,20180912,0744,0906, -4.9937, 164.9937, 2382,     26.3,       26,  30.2008,  35.3384,2,    195.2,2,  35.3386,2,   194.04,6,     1.27,3,     0.00,6,     0.00,6,    0.190,3, -999.000,9, -999.000,9,   1986.5,2,   2328.1,2,   8.1083,2,    25.00, -999.000,9,     0.07,2,     0.04,2,  30.1942,2,  21.9134,2,  30.2013,2
49UP20180806_2,   P13,    98,  1,     33,     842,2,20180912,0744,0902, -4.9937, 164.9937, 2382,     51.4,       51,  29.9913,  35.3565,2,    198.1,2,  35.3545,2,   197.26,2,     1.35,3,     0.02,2,     0.00,2,    0.190,3, -999.000,9, -999.000,9,   1991.2,2,   2332.7,2,   8.1087,2,    25.00, -999.000,9,     0.12,2,     0.07,2,  29.9786,2,  22.0008,2,  29.9913,2
49UP20180806_2,   P13,    98,  1,     34,     843,2,20180912,0744,0902, -4.9937, 164.9937, 2382,     51.6,       51,  29.9902,  35.3567,2,    198.0,2,  35.3554,2,   197.21,2,     1.30,3,     0.00,2,     0.00,2,    0.190,3,    1.435,2,    0.812,2,   1989.5,2,   2329.0,2,   8.1063,2,    25.00,    0.128,2,  -999.00,9,  -999.00,9,  29.9774,2,  22.0013,2,  29.9903,2
49UP20180806_2,   P13,    98,  1,     32,     841,2,20180912,0744,0901, -4.9937, 164.9937, 2382,     75.1,       75,  29.7757,  35.4492,2,    198.0,2,  35.4493,2,   197.24,2,     1.44,3,     0.00,2,     0.01,2,    0.220,3, -999.000,9, -999.000,9,   2003.6,6,   2337.1,6,   8.1000,2,    25.00, -999.000,9,     0.23,2,     0.19,2,  29.7572,2,  22.1458,2,  29.7766,2
49UP20180806_2,   P13,    98,  1,     31,     840,2,20180912,0744,0859, -4.9937, 164.9937, 2382,    101.1,      101,  29.4365,  35.4499,2,    189.3,2,  35.4492,2,   188.92,2,     1.54,3,     0.79,2,     0.33,2,    0.290,3,    1.463,2,    0.828,2,   2013.2,2,   2336.8,2,   8.0784,6,    25.00,    0.134,2,     0.24,2,     0.36,2,  29.4117,2,  22.2635,2,  29.4359,2
49UP20180806_2,   P13,    98,  1,     27,     661,2,20180912,0744,0858, -4.9937, 164.9937, 2382,    126.7,      126,  28.9718,  35.5595,2,    176.1,2,  35.5592,2,   177.36,2,     1.71,3,     3.16,2,     1.72,2,    0.420,3, -999.000,9, -999.000,9,   2031.1,2,   2341.1,2,   8.0532,2,    25.00, -999.000,9,     0.15,2,     0.31,2,  28.9412,2,  22.5040,2,  28.9704,2
49UP20180806_2,   P13,    98,  1,     26,     835,2,20180912,0744,0856, -4.9937, 164.9937, 2382,    153.8,      153,  27.9234,  35.6759,2,    164.1,2,  35.6628,2,   164.33,2,     1.76,3,     5.12,2,     0.74,2,    0.550,3,    1.531,6,    0.886,6,   2056.7,2,   2346.9,2,   8.0198,2,    25.00,    0.132,6,     0.07,2,     0.16,2,  27.8871,2,  22.9399,2,  27.9202,2
49UP20180806_2,   P13,    98,  1,     25,     834,2,20180912,0744,0854, -4.9937, 164.9937, 2382,    207.2,      206,  17.8272,  35.4969,2,    117.7,2,  35.5309,4,   118.65,2,     5.60,3,    13.52,2,     0.01,2,    1.180,3,    1.970,2,    1.083,2,   2165.2,2,   2345.8,2,   7.8106,2,    25.00,    0.028,2,     0.01,2,     0.02,2,  17.7917,2,  25.7041,2,  17.8557,2
49UP20180806_2,   P13,    98,  1,     21,     830,2,20180912,0744,0851, -4.9937, 164.9937, 2382,    255.4,      254,  12.7864,  34.9675,2,     94.3,2,  34.9713,2,    93.40,2,    14.90,3,    23.32,2,     0.00,2,    1.760,3,    1.547,2,    0.774,2,   2199.2,2,   2316.3,2,   7.6612,2,    25.00,    0.011,2,  -999.00,9,  -999.00,9,  12.7516,2,  26.4174,2,  12.7888,2
49UP20180806_2,   P13,    98,  1,     20,     829,2,20180912,0744,0848, -4.9937, 164.9937, 2382,    334.3,      332,   9.8765,  34.7225,2,    121.4,2,  34.7233,2,   121.25,2,    20.66,3,    26.30,2,     0.00,2,    1.860,3,    1.368,2,    0.649,2,   2197.2,2,   2304.3,2,   7.6410,2,    25.00,    0.016,2,  -999.00,9,  -999.00,9,   9.8378,2,  26.7628,2,   9.8739,2
49UP20180806_2,   P13,    98,  1,     19,     828,2,20180912,0744,0846, -4.9937, 164.9937, 2382,    385.6,      383,   9.2454,  34.6782,2,    112.5,2,  34.6787,2,   112.02,2,    24.23,3,    28.60,2,     0.00,2,    2.000,3, -999.000,9, -999.000,9,   2208.2,2,   2306.1,2,   7.6104,2,    25.00, -999.000,9,  -999.00,9,  -999.00,9,   9.2025,2,  26.8335,2,   9.2461,2
49UP20180806_2,   P13,    98,  1,     18,     660,2,20180912,0744,0844, -4.9937, 164.9937, 2382,    438.9,      436,   8.7593,  34.6444,2,    115.8,2,  34.6436,2,   115.26,2,    25.81,3,    29.37,2,     0.00,2,    2.050,3,    1.052,2,    0.490,2,   2209.4,2,   2304.8,2,   7.6033,2,    25.00,    0.007,2,  -999.00,9,  -999.00,9,   8.7120,2,  26.8854,2,   8.7594,2
49UP20180806_2,   P13,    98,  1,     17,     826,2,20180912,0744,0842, -4.9937, 164.9937, 2382,    487.9,      485,   8.3212,  34.6170,2,    118.8,2,  34.6179,2,   118.63,2,    27.44,3,    29.97,2,     0.00,2,    2.080,3, -999.000,9, -999.000,9,   2211.9,2,   2307.0,2,   7.6013,2,    25.00, -999.000,9,  -999.00,9,  -999.00,9,   8.2700,2,  26.9323,2,   8.3217,2
49UP20180806_2,   P13,    98,  1,     16,     825,2,20180912,0744,0839, -4.9937, 164.9937, 2382,    538.7,      535,   7.8917,  34.5898,2,    123.4,2,  34.5910,2,   123.25,2,    29.22,3,    30.42,2,     0.00,2,    2.110,3,    0.911,2,    0.415,2,   2214.1,2,   2309.2,2,   7.6003,2,    25.00,    0.014,2,  -999.00,9,  -999.00,9,   7.8367,2,  26.9760,2,   7.8918,2
49UP20180806_2,   P13,    98,  1,     15,     824,2,20180912,0744,0836, -4.9937, 164.9937, 2382,    637.5,      633,   7.0651,  34.5432,2,    130.8,2,  34.5425,2,   130.53,2,    33.84,3,    31.47,2,     0.00,2,    2.180,3,    0.789,2,    0.358,2,   2221.1,2,   2308.1,2,   7.5903,2,    25.00,    0.006,2,  -999.00,9,  -999.00,9,   7.0037,2,  27.0584,2,   7.0650,2
49UP20180806_2,   P13,    98,  1,     14,     823,2,20180912,0744,0833, -4.9937, 164.9937, 2382,    738.9,      734,   6.2047,  34.5378,2,     98.3,2,  34.5365,2,    98.47,2,    48.95,3,    36.29,2,     0.00,2,    2.540,3,    0.237,2,    0.103,2,   2257.0,2,   2324.1,2,   7.5273,2,    25.00,    0.007,2,  -999.00,9,  -999.00,9,   6.1378,2,  27.1698,2,   6.2049,2
49UP20180806_2,   P13,    98,  1,     13,     822,2,20180912,0744,0830, -4.9937, 164.9937, 2382,    839.1,      833,   5.4109,  34.5318,2,     99.7,2,  34.5307,2,    99.32,6,    60.86,3,    37.28,6,     0.00,6,    2.610,3,    0.120,2,    0.054,2,   2269.3,2,   2337.8,2,   7.5204,2,    25.00,    0.011,2,  -999.00,9,  -999.00,9,   5.3393,2,  27.2642,2,   5.4114,2
49UP20180806_2,   P13,    98,  1,     12,     821,2,20180912,0744,0822, -4.9937, 164.9937, 2382,    936.5,      929,   4.9387,  34.5314,2,    107.4,2,  34.5305,2,   107.34,2,    68.86,3,    37.00,2,     0.00,2,    2.610,3,    0.105,2,    0.045,2,   2274.1,2,   2345.5,2,   7.5301,2,    25.00,    0.005,2,  -999.00,9,  -999.00,9,   4.8615,2,  27.3196,2,   4.9388,2
49UP20180806_2,   P13,    98,  1,     11,     820,2,20180912,0744,0822, -4.9937, 164.9937, 2382,    936.9,      930,   4.9386,  34.5315,2,    107.3,2,  34.5322,2,   107.45,2,    69.60,3,    36.99,2,     0.00,2,    2.630,3, -999.000,9, -999.000,9,   2270.6,2,   2342.2,2,   7.5289,2,    25.00, -999.000,9,  -999.00,9,  -999.00,9,   4.8613,2,  27.3197,2,   4.9387,2
49UP20180806_2,   P13,    98,  1,     10,     819,2,20180912,0744,0816, -4.9937, 164.9937, 2382,   1078.2,     1069,   4.4117,  34.5401,2,    112.1,2,  34.5405,2,   112.08,2,    78.54,3,    37.05,2,     0.00,2,    2.640,3,    0.066,2,    0.024,2,   2279.0,2,   2354.1,2,   7.5341,6,    25.00,    0.000,2,  -999.00,9,  -999.00,9,   4.3260,2,  27.3859,2,   4.4118,2
49UP20180806_2,   P13,    98,  1,      9,     818,2,20180912,0744,0811, -4.9937, 164.9937, 2382,   1279.6,     1269,   3.6605,  34.5639,2,    111.1,2,  34.5652,2,   110.80,2,    94.39,3,    37.85,2,     0.00,2,    2.690,3,    0.012,6,    0.004,6,   2300.9,6,   2370.5,6,   7.5259,2,    25.00,    0.007,6,  -999.00,9,  -999.00,9,   3.5642,2,  27.4834,2,   3.6606,2
49UP20180806_2,   P13,    98,  1,      8,     817,2,20180912,0744,0807, -4.9937, 164.9937, 2382,   1479.9,     1467,   3.0710,  34.5898,2,    116.4,2,  34.5907,2,   116.51,2,   107.85,3,    37.81,2,     0.00,2,    2.670,3,    0.004,2,    0.005,2,   2311.7,2,   2384.8,2,   7.5346,2,    25.00,    0.000,2,  -999.00,9,  -999.00,9,   2.9640,2,  27.5609,2,   3.0710,2
49UP20180806_2,   P13,    98,  1,      7,     816,2,20180912,0744,0801, -4.9937, 164.9937, 2382,   1683.3,     1667,   2.6204,  34.6103,2,    126.7,2,  34.6109,6,   125.17,3,   116.05,3,    37.33,2,     0.00,2,    2.620,3,    0.006,2,    0.003,2,   2316.5,2,   2394.5,2,   7.5490,2,    25.00,    0.007,2,  -999.00,9,  -999.00,9,   2.5018,2,  27.6181,2,   2.6204,2
49UP20180806_2,   P13,    98,  1,      6,     815,3,20180912,0744,0757, -4.9937, 164.9937, 2382,   1888.2,     1869,   2.3356,  34.6299,2,    123.6,2,  34.6307,2,   123.77,2,   127.72,3,    37.65,2,     0.00,2,    2.640,3,    0.001,2,   -0.000,2,   2323.8,2,   2405.6,2,   7.5486,6,    25.00,    0.001,2,  -999.00,9,  -999.00,9,   2.2036,2,  27.6588,2,   2.3356,2
49UP20180806_2,   P13,    98,  1,      5,     814,2,20180912,0744,0753, -4.9937, 164.9937, 2382,   2089.4,     2068,   2.1968,  34.6387,2,    124.4,2,  34.6408,4,   124.32,2,   132.37,3,    37.60,2,     0.00,2,    2.640,3,    0.000,2,    0.000,2,   2331.3,6,   2410.9,6,   7.5485,2,    25.00,    0.001,2,  -999.00,9,  -999.00,9,   2.0497,2,  27.6783,2,   2.1967,2
49UP20180806_2,   P13,    98,  1,      4,     813,2,20180912,0744,0747, -4.9937, 164.9937, 2382,   2293.5,     2268,   2.0219,  34.6488,2,    129.0,2,  34.6500,6,   128.61,6,   136.09,3,    37.36,6,     0.00,6,    2.620,3,    0.001,2,    0.000,2,   2333.9,2,   2413.6,2,   7.5565,2,    25.00,    0.004,2,  -999.00,9,  -999.00,9,   1.8598,2,  27.7013,2,   2.0218,2
49UP20180806_2,   P13,    98,  1,      3,     812,2,20180912,0744,0745, -4.9937, 164.9937, 2382,   2377.0,     2351,   1.9977,  34.6502,2,    129.6,2,  34.6505,2,   128.91,2,   137.18,3,    37.44,2,     0.00,2,    2.630,3, -999.000,9, -999.000,9,   2332.0,2,   2418.4,2,   7.5573,2,    25.00, -999.000,9,  -999.00,9,  -999.00,9,   1.8286,2,  27.7048,2,   1.9976,2
49UP20180806_2,   P13,    98,  1,      2,     811,2,20180912,0744,0745, -4.9937, 164.9937, 2382,   2377.4,     2351,   1.9976,  34.6503,2,    129.6,2,  34.6499,2,   129.35,2,   137.35,3,    37.34,2,     0.00,2,    2.610,3,    0.000,2,   -0.000,2,   2333.9,2,   2416.7,2,   7.5564,2,    25.00,    0.000,2,  -999.00,9,  -999.00,9,   1.8285,2,  27.7049,2,   1.9977,2