BOTTLE,20191018JMAGEMD
EXPOCODE,SECT_ID,STNNBR,CASTNO,SAMPNO,BTLNBR,BTLNBR_FLAG_U,DATE,TIME,BTL_TIME,LATITUDE,LONGITUDE,DEPTH,CTDPRS,CTDDEP,CTDTMP,CTDSAL,CTDSAL_FLAG_W,CTDOXY,CTDOXY_FLAG_W,SALNTY,SALNTY_FLAG_W,OXYGEN,OXYGEN_FLAG_W,SILCAT,SILCAT_FLAG_W,NO2+NO3,NO2+NO3_FLAG_W,NITRIT,NITRIT_FLAG_W,PHSPHT,PHSPHT_FLAG_W,CFC-11,CFC-11_FLAG_W,CFC-12,CFC-12_FLAG_W,TCARBN,TCARBN_FLAG_W,ALKALI,ALKALI_FLAG_W,PH_TS,PH_TS_FLAG_W,PH_TS_TMP,CFC113,CFC113_FLAG_W,CHLORA,CHLORA_FLAG_W,PPHYTN,PPHYTN_FLAG_W,THETA,THETA_FLAG_W,SIGTHT,SIGTHT_FLAG_W,SBE35,SBE35_FLAG_W
,,,,,,,,UTC,,,,METER,DBAR,METERS,ITS-90,PSS-78,,UMOL/KG,,PSS78,,UMOL/KG,,UMOL/KG,,UMOL/KG,,UMOL/KG,,UMOL/KG,,PMOL/KG,,PMOL/KG,,UMOL/KG,,UMOL/KG,,,,ITS-90,PMOL/KG,,UG/KG,,UG/KG,,ITS-90,,KG/M3,,ITS-90,
49UP20180614_2,   P13,    24,  1,      0,      -9,0,20180712,1552,1740, 44.9998, 164.9705, 5973,      0.0,        0,   8.5632,  32.8869,2,    299.1,2,  32.8823,2,   298.99,2,    22.94,2,    13.76,2,     0.17,2,    1.230,3, -999.000,9, -999.000,9,   2069.1,2,   2219.8,2,   7.7806,2,    25.00, -999.000,9,     0.25,2,     0.04,2,   8.5629,2,  25.5310,2,-999.0000,9
49UP20180614_2,   P13,    24,  1,     36,     845,2,20180712,1552,1828, 44.9998, 164.9705, 5973,     10.5,       10,   8.5590,  32.8879,2,    298.8,2,  32.8894,2,   299.44,2,    23.01,2,    13.74,2,     0.17,2,    1.220,3,    3.517,2,    1.995,2,   2068.9,2,   2220.1,2,   7.7799,2,    25.00,    0.333,2,     0.26,2,     0.03,2,   8.5580,2,  25.5325,2,   8.5464,2
49UP20180614_2,   P13,    24,  1,     35,     844,2,20180712,1552,1825, 44.9998, 164.9705, 5973,     51.1,       51,   6.2894,  33.0453,2,    310.3,2,  33.0450,2,   311.17,2,    23.06,2,    14.63,2,     0.21,2,    1.290,3,    3.825,2,    2.153,2,   2084.2,2,   2230.4,2,   7.7646,2,    25.00,    0.364,2,     0.40,2,     0.16,2,   6.2851,2,  25.9726,2,   6.2889,2
49UP20180614_2,   P13,    24,  1,     34,     843,2,20180712,1552,1823, 44.9998, 164.9705, 5973,     77.1,       76,   5.0314,  33.1716,2,    306.6,2,  33.1716,2,   306.46,2,    24.89,2,    17.13,2,     0.10,2,    1.380,3, -999.000,9, -999.000,9,   2110.7,2,   2235.5,2,   7.7268,2,    25.00, -999.000,9,     0.16,2,     0.07,2,   5.0256,2,  26.2230,2,   5.0302,2
49UP20180614_2,   P13,    24,  1,     33,     842,2,20180712,1552,1822, 44.9998, 164.9705, 5973,    101.6,      101,   4.4165,  33.2757,2,    300.8,2,  33.2724,2,   301.70,2,    27.85,2,    18.51,2,     0.01,2,    1.450,3,    3.985,2,    2.229,2,   2119.0,2,   2240.7,2,   7.7035,2,    25.00,    0.368,2,     0.03,2,     0.05,2,   4.4094,2,  26.3725,2,   4.4176,2
49UP20180614_2,   P13,    24,  1,     32,     841,2,20180712,1552,1820, 44.9998, 164.9705, 5973,    127.0,      126,   4.3671,  33.4476,2,    253.9,2,  33.4455,2,   254.76,6,    39.09,6,    22.78,6,     0.01,6,    1.720,3, -999.000,9, -999.000,9,   2156.4,2,   2252.8,2,   7.6257,2,    25.00, -999.000,9,     0.01,2,     0.04,2,   4.3582,2,  26.5144,2,   4.3681,2
49UP20180614_2,   P13,    24,  1,     31,     840,2,20180712,1552,1819, 44.9998, 164.9705, 5973,    151.3,      150,   4.1116,  33.5621,2,    205.7,2,  33.5633,2,   205.63,2,    52.04,2,    27.67,2,     0.00,2,    2.050,3,    3.352,2,    1.868,2,   2195.2,2,   2264.6,2,   7.5394,2,    25.00,    0.251,2,     0.01,2,     0.04,2,   4.1013,2,  26.6321,2,   4.1123,2
49UP20180614_2,   P13,    24,  1,     30,     839,2,20180712,1552,1817, 44.9998, 164.9705, 5973,    204.4,      203,   3.8909,  33.6929,2,    141.4,2,  33.6944,2,   145.06,2,    69.66,2,    33.85,2,     0.00,2,    2.460,3,    2.800,2,    1.534,2,   2248.1,2,   2279.3,2,   7.4286,2,    25.00,    0.194,2,     0.00,2,     0.03,2,   3.8771,2,  26.7588,2,   3.8907,2
49UP20180614_2,   P13,    24,  1,     29,     838,2,20180712,1552,1815, 44.9998, 164.9705, 5973,    252.6,      250,   3.8271,  33.7755,2,    106.1,2,  33.7748,2,   105.87,2,    80.43,2,    37.20,2,     0.00,2,    2.680,3,    2.460,2,    1.296,2,   2273.2,6,   2289.6,6,   7.3702,2,    25.00,    0.176,2,  -999.00,9,  -999.00,9,   3.8101,2,  26.8311,2,   3.8292,2
49UP20180614_2,   P13,    24,  1,     28,     837,3,20180712,1552,1814, 44.9998, 164.9705, 5973,    283.6,      281,   3.7218,  33.8147,2,     86.3,2,  33.8112,2,    86.47,2,    86.77,2,    39.00,2,     0.00,2,    2.810,3,    2.274,2,    1.188,2,   2290.1,2,   2293.4,2,   7.3304,6,    25.00,    0.147,2,  -999.00,9,  -999.00,9,   3.7028,2,  26.8730,2,   3.7217,2
49UP20180614_2,   P13,    24,  1,     27,     661,2,20180712,1552,1811, 44.9998, 164.9705, 5973,    373.8,      370,   3.7988,  33.9639,2,     55.0,2,  33.9675,2,    55.66,2,    99.18,2,    41.16,2,     0.00,2,    2.940,3,    1.697,2,    0.854,2,   2310.9,2,   2311.0,2,   7.3026,2,    25.00,    0.108,2,  -999.00,9,  -999.00,9,   3.7733,2,  26.9848,2,   3.7995,2
49UP20180614_2,   P13,    24,  1,     26,     835,2,20180712,1552,1806, 44.9998, 164.9705, 5973,    476.5,      472,   3.7862,  34.1034,2,     44.0,2,  34.1025,2,    44.04,2,   109.64,2,    41.62,2,     0.00,2,    2.960,3,    1.171,2,    0.572,2,   2331.5,2,   2328.3,2,   7.3155,2,    25.00,    0.056,2,  -999.00,9,  -999.00,9,   3.7532,2,  27.0978,2,   3.7881,2
49UP20180614_2,   P13,    24,  1,     25,     834,3,20180712,1552,1802, 44.9998, 164.9705, 5973,    576.9,      571,   3.5016,  34.1644,2,     29.7,2,  34.1648,2,    31.38,2,   121.86,2,    43.11,2,     0.00,2,    3.040,3,    0.861,6,    0.412,6,   2350.3,2,   2340.5,2,   7.2944,2,    25.00,    0.040,6,  -999.00,9,  -999.00,9,   3.4624,2,  27.1749,2,   3.5017,2
49UP20180614_2,   P13,    24,  1,     24,     833,2,20180712,1552,1759, 44.9998, 164.9705, 5973,    678.6,      672,   3.3260,  34.2355,2,     25.9,2,  34.2347,2,    25.30,6,   130.43,6,    43.27,6,     0.00,6,    3.060,3,    0.566,2,    0.286,2,   2361.0,2,   2351.7,2,   7.3027,2,    25.00,    0.029,2,  -999.00,9,  -999.00,9,   3.2802,2,  27.2489,2,   3.3260,2
49UP20180614_2,   P13,    24,  1,     23,     832,2,20180712,1552,1756, 44.9998, 164.9705, 5973,    778.4,      771,   3.1627,  34.2912,2,     26.4,2,  34.2905,2,    26.17,2,   136.58,2,    43.27,2,     0.00,2,    3.050,3,    0.408,2,    0.200,2,   2365.5,2,   2362.6,2,   7.3062,2,    25.00,    0.021,2,  -999.00,9,  -999.00,9,   3.1105,2,  27.3091,2,   3.1628,2
49UP20180614_2,   P13,    24,  1,     22,     831,3,20180712,1552,1754, 44.9998, 164.9705, 5973,    879.8,      871,   3.0214,  34.3372,2,     28.3,2,  34.3386,2,    27.99,2,   141.36,2,    43.16,2,     0.00,2,    3.030,3,    0.301,2,    0.147,2,   2368.8,2,   2370.1,2,   7.3196,2,    25.00,    0.012,2,  -999.00,9,  -999.00,9,   2.9626,2,  27.3593,2,   3.0215,2
49UP20180614_2,   P13,    24,  1,     21,     830,2,20180712,1552,1751, 44.9998, 164.9705, 5973,    981.4,      971,   2.8658,  34.3750,2,     28.6,2,  34.3757,2,    28.32,2,   146.49,2,    43.20,2,     0.00,2,    3.040,3,    0.223,2,    0.111,2,   2374.8,2,   2377.5,2,   7.3236,2,    25.00,    0.008,2,  -999.00,9,  -999.00,9,   2.8006,2,  27.4040,2,   2.8660,2
49UP20180614_2,   P13,    24,  1,     20,     829,2,20180712,1552,1743, 44.9998, 164.9705, 5973,   1143.6,     1131,   2.6468,  34.4265,2,     31.8,2,  34.4256,2,    31.83,2,   153.13,2,    43.14,2,     0.00,2,    3.050,3,    0.145,2,    0.068,2,   2387.1,2,   2387.4,2,   7.3390,2,    25.00,    0.002,2,  -999.00,9,  -999.00,9,   2.5712,2,  27.4652,2,   2.6468,2
49UP20180614_2,   P13,    24,  1,     19,     828,2,20180712,1552,1736, 44.9998, 164.9705, 5973,   1347.5,     1332,   2.4066,  34.4814,2,     38.9,2,  34.4813,2,    38.59,6,   159.75,6,    42.95,6,     0.00,6,    3.010,3,    0.082,2,    0.040,2,   2387.2,2,   2394.2,2,   7.3591,2,    25.00,    0.002,2,  -999.00,9,  -999.00,9,   2.3177,2,  27.5305,2,   2.4066,2
49UP20180614_2,   P13,    24,  1,     18,     827,2,20180712,1552,1732, 44.9998, 164.9705, 5973,   1549.5,     1531,   2.2478,  34.5175,2,     45.6,2,  34.5177,6,    45.67,2,   163.76,2,    42.59,2,     0.00,2,    3.010,3,    0.049,2,    0.026,2,   2382.8,2,   2402.5,2,   7.3738,2,    25.00,    0.000,2,  -999.00,9,  -999.00,9,   2.1449,2,  27.5735,2,   2.2478,2
49UP20180614_2,   P13,    24,  1,     17,     826,2,20180712,1552,1727, 44.9998, 164.9705, 5973,   1752.1,     1731,   2.0947,  34.5527,2,     54.2,2,  34.5525,2,    54.33,2,   166.87,2,    42.08,2,     0.00,2,    2.950,3,    0.019,2,    0.010,2,   2382.8,2,   2407.7,2,   7.3935,2,    25.00,    0.000,2,  -999.00,9,  -999.00,9,   1.9775,2,  27.6150,2,   2.0947,2
49UP20180614_2,   P13,    24,  1,     16,     825,2,20180712,1552,1723, 44.9998, 164.9705, 5973,   1955.2,     1930,   1.9686,  34.5814,2,     65.1,2,  34.5813,2,    65.16,2,   168.10,2,    41.45,2,     0.00,2,    2.900,3,    0.004,2,    0.001,2,   2383.5,2,   2411.5,2,   7.4191,2,    25.00,    0.001,2,  -999.00,9,  -999.00,9,   1.8365,2,  27.6490,2,   1.9687,2
49UP20180614_2,   P13,    24,  1,     15,     824,2,20180712,1552,1718, 44.9998, 164.9705, 5973,   2160.0,     2131,   1.8589,  34.6034,2,     76.2,2,  34.6035,2,    77.26,3,   168.81,2,    40.69,2,     0.00,2,    2.860,3,    0.000,2,    0.002,2,   2372.7,6,   2415.1,6,   7.4375,2,    25.00,    0.000,2,  -999.00,9,  -999.00,9,   1.7113,2,  27.6763,2,   1.8590,2
49UP20180614_2,   P13,    24,  1,     14,     823,2,20180712,1552,1713, 44.9998, 164.9705, 5973,   2363.4,     2331,   1.7638,  34.6217,2,     88.4,2,  34.6217,2,    88.22,2,   168.41,2,    39.97,2,     0.00,2,    2.810,3,    0.004,6,    0.003,6,   2372.0,2,   2416.9,2,   7.4664,6,    25.00,    0.000,6,  -999.00,9,  -999.00,9,   1.6002,2,  27.6993,2,   1.7638,2
49UP20180614_2,   P13,    24,  1,     13,     822,2,20180712,1552,1709, 44.9998, 164.9705, 5973,   2567.2,     2531,   1.6942,  34.6355,2,     99.4,2,  34.6355,2,    99.97,2,   166.51,2,    39.35,2,     0.00,2,    2.750,3,    0.000,2,    0.000,2,   2361.1,2,   2417.9,2,   7.4881,2,    25.00,    0.006,2,  -999.00,9,  -999.00,9,   1.5137,2,  27.7166,2,   1.6942,2
49UP20180614_2,   P13,    24,  1,     12,     821,2,20180712,1552,1704, 44.9998, 164.9705, 5973,   2771.7,     2731,   1.6295,  34.6478,2,    110.7,2,  34.6480,2,   110.66,2,   163.44,2,    38.62,2,     0.00,2,    2.690,3,    0.000,2,    0.000,2,   2356.3,2,   2418.4,2,   7.5064,2,    25.00,    0.000,2,  -999.00,9,  -999.00,9,   1.4315,2,  27.7324,2,   1.6296,2
49UP20180614_2,   P13,    24,  1,     11,     820,2,20180712,1552,1659, 44.9998, 164.9705, 5973,   2977.3,     2932,   1.5797,  34.6569,2,    119.7,2,  34.6569,2,   119.71,2,   161.84,2,    38.10,2,     0.00,2,    2.650,3, -999.000,9, -999.000,9,   2346.5,2,   2419.8,2,   7.5268,2,    25.00, -999.000,9,  -999.00,9,  -999.00,9,   1.3634,2,  27.7446,2,   1.5797,2
49UP20180614_2,   P13,    24,  1,     10,     819,2,20180712,1552,1653, 44.9998, 164.9705, 5973,   3221.8,     3171,   1.5369,  34.6652,2,    128.7,2,  34.6644,2,   128.67,2,   159.45,2,    37.49,2,     0.00,2,    2.610,3, -999.000,9, -999.000,9,   2344.8,2,   2420.0,2,   7.5381,2,    25.00, -999.000,9,  -999.00,9,  -999.00,9,   1.2979,2,  27.7559,2,   1.5369,2
49UP20180614_2,   P13,    24,  1,      9,     818,3,20180712,1552,1648, 44.9998, 164.9705, 5973,   3477.9,     3422,   1.5086,  34.6714,2,    135.9,2,  34.6711,6,   135.62,2,   157.27,2,    37.05,2,     0.00,2,    2.560,3, -999.000,9, -999.000,9,   2336.5,2,   2420.3,2,   7.5551,2,    25.00, -999.000,9,  -999.00,9,  -999.00,9,   1.2445,2,  27.7647,2,   1.5085,2
49UP20180614_2,   P13,    24,  1,      8,     817,2,20180712,1552,1637, 44.9998, 164.9705, 5973,   3992.0,     3923,   1.4849,  34.6801,2,    146.1,2,  34.6793,2,   146.05,6,   154.64,6,    36.35,6,     0.00,6,    2.500,3,    0.000,2,    0.000,2,   2329.9,2,   2418.4,2,   7.5703,2,    25.00,    0.000,2,  -999.00,9,  -999.00,9,   1.1673,2,  27.7770,2,   1.4850,2
49UP20180614_2,   P13,    24,  1,      7,     816,2,20180712,1552,1632, 44.9998, 164.9705, 5973,   4248.3,     4172,   1.4841,  34.6831,2,    150.0,2,  34.6829,2,   150.01,2,   153.53,2,    36.06,2,     0.00,2,    2.500,3, -999.000,9, -999.000,9,   2325.5,2,   2419.4,2,   7.5788,2,    25.00, -999.000,9,  -999.00,9,  -999.00,9,   1.1383,2,  27.7814,2,   1.4841,2
49UP20180614_2,   P13,    24,  1,      6,     815,2,20180712,1552,1626, 44.9998, 164.9705, 5973,   4504.3,     4421,   1.4912,  34.6854,2,    153.0,2,  34.6852,2,   153.01,2,   152.86,2,    35.89,2,     0.00,2,    2.470,3, -999.000,9, -999.000,9,   2324.3,2,   2417.7,2,   7.5844,2,    25.00, -999.000,9,  -999.00,9,  -999.00,9,   1.1160,2,  27.7847,2,   1.4912,2
49UP20180614_2,   P13,    24,  1,      5,     814,2,20180712,1552,1616, 44.9998, 164.9705, 5973,   5019.4,     4921,   1.5242,  34.6886,2,    156.8,2,  34.6887,2,   156.71,2,   152.44,2,    35.60,2,     0.00,2,    2.450,3,    0.000,2,    0.000,2,   2322.0,6,   2418.2,6,   7.5905,2,    25.00,    0.000,2,  -999.00,9,  -999.00,9,   1.0868,2,  27.7893,2,   1.5241,2
49UP20180614_2,   P13,    24,  1,      4,     813,2,20180712,1552,1610, 44.9998, 164.9705, 5973,   5278.0,     5171,   1.5519,  34.6893,2,    157.4,2,  34.6898,2,   157.71,2,   152.94,2,    35.63,2,     0.00,2,    2.440,3, -999.000,9, -999.000,9,   2320.3,2,   2416.6,2,   7.5921,6,    25.00, -999.000,9,  -999.00,9,  -999.00,9,   1.0815,2,  27.7902,2,   1.5518,2
49UP20180614_2,   P13,    24,  1,      3,     812,2,20180712,1552,1605, 44.9998, 164.9705, 5973,   5535.7,     5421,   1.5834,  34.6895,2,    157.6,2,  34.6897,6,   157.99,2,   152.86,2,    35.56,2,     0.00,2,    2.440,3, -999.000,9, -999.000,9,   2320.4,2,   2417.7,2,   7.5930,2,    25.00, -999.000,9,  -999.00,9,  -999.00,9,   1.0792,2,  27.7905,2,   1.5834,2
49UP20180614_2,   P13,    24,  1,      2,     811,2,20180712,1552,1559, 44.9998, 164.9705, 5973,   5794.5,     5671,   1.6175,  34.6895,2,    157.7,2,  34.6897,2,   157.88,2,   152.89,2,    35.57,2,     0.00,2,    2.440,3, -999.000,9, -999.000,9,   2320.5,2,   2418.0,2,   7.5945,2,    25.00, -999.000,9,  -999.00,9,  -999.00,9,   1.0783,2,  27.7906,2,   1.6173,2
49UP20180614_2,   P13,    24,  1,      1,     810,2,20180712,1552,1552, 44.9998, 164.9705, 5973,   6118.9,     5984,   1.6613,  34.6895,2,    157.9,2,  34.6893,6,   157.93,2,   152.99,2,    35.55,2,     0.00,2,    2.440,3,    0.006,2,    0.001,2,   2320.7,2,   2417.3,2,   7.5933,2,    25.00,    0.013,2,  -999.00,9,  -999.00,9,   1.0771,2,  27.7907,2,   1.6612,2