BOTTLE,20191018JMAGEMD
EXPOCODE,SECT_ID,STNNBR,CASTNO,SAMPNO,BTLNBR,BTLNBR_FLAG_U,DATE,TIME,BTL_TIME,LATITUDE,LONGITUDE,DEPTH,CTDPRS,CTDDEP,CTDTMP,CTDSAL,CTDSAL_FLAG_W,CTDOXY,CTDOXY_FLAG_W,SALNTY,SALNTY_FLAG_W,OXYGEN,OXYGEN_FLAG_W,SILCAT,SILCAT_FLAG_W,NO2+NO3,NO2+NO3_FLAG_W,NITRIT,NITRIT_FLAG_W,PHSPHT,PHSPHT_FLAG_W,CFC-11,CFC-11_FLAG_W,CFC-12,CFC-12_FLAG_W,TCARBN,TCARBN_FLAG_W,ALKALI,ALKALI_FLAG_W,PH_TS,PH_TS_FLAG_W,PH_TS_TMP,CFC113,CFC113_FLAG_W,CHLORA,CHLORA_FLAG_W,PPHYTN,PPHYTN_FLAG_W,THETA,THETA_FLAG_W,SIGTHT,SIGTHT_FLAG_W,SBE35,SBE35_FLAG_W
,,,,,,,,UTC,,,,METER,DBAR,METERS,ITS-90,PSS-78,,UMOL/KG,,PSS78,,UMOL/KG,,UMOL/KG,,UMOL/KG,,UMOL/KG,,UMOL/KG,,PMOL/KG,,PMOL/KG,,UMOL/KG,,UMOL/KG,,,,ITS-90,PMOL/KG,,UG/KG,,UG/KG,,ITS-90,,KG/M3,,ITS-90,
49UP20180806_2,   P13,    93,  1,      0,      -9,0,20180910,0926,1058, -1.5017, 164.9982, 4447,      0.0,        0,  30.3984,  34.2843,2,    194.2,2,-999.0000,9,   192.94,2,     1.45,3,     0.00,2,     0.00,2,    0.100,3, -999.000,9, -999.000,9,   -999.0,9,   -999.0,9,-999.0000,9,  -999.00, -999.000,9,  -999.00,9,  -999.00,9,  30.3978,2,  21.0536,2,-999.0000,9
49UP20180806_2,   P13,    93,  1,     36,     845,2,20180910,0926,1138, -1.5017, 164.9982, 4447,     11.5,       11,  30.3843,  34.2825,2,    194.2,2,  34.2827,6,   192.98,2,     1.49,3,     0.00,2,     0.00,2,    0.080,3, -999.000,9, -999.000,9,   -999.0,9,   -999.0,9,-999.0000,9,  -999.00, -999.000,9,  -999.00,9,  -999.00,9,  30.3814,2,  21.0579,2,  30.3860,2
49UP20180806_2,   P13,    93,  1,     35,     844,2,20180910,0926,1136, -1.5017, 164.9982, 4447,     26.3,       26,  30.2787,  34.4047,2,    194.9,2,  34.4401,4,   193.85,2,     1.33,3,     0.00,2,     0.00,2,    0.090,3, -999.000,9, -999.000,9,   -999.0,9,   -999.0,9,-999.0000,9,  -999.00, -999.000,9,  -999.00,9,  -999.00,9,  30.2721,2,  21.1870,2,  30.2797,2
49UP20180806_2,   P13,    93,  1,     34,     843,2,20180910,0926,1133, -1.5017, 164.9982, 4447,     51.1,       51,  30.3573,  35.1345,2,    199.0,2,  35.1177,4,   197.49,2,     1.35,3,     0.00,2,     0.00,2,    0.150,3, -999.000,9, -999.000,9,   -999.0,9,   -999.0,9,-999.0000,9,  -999.00, -999.000,9,  -999.00,9,  -999.00,9,  30.3445,2,  21.7089,2,  30.3542,2
49UP20180806_2,   P13,    93,  1,     33,     842,2,20180910,0926,1131, -1.5017, 164.9982, 4447,     77.4,       77,  30.1002,  35.3298,2,    200.8,2,  35.3202,2,   199.77,2,     1.33,3,     0.00,2,     0.00,2,    0.180,3, -999.000,9, -999.000,9,   -999.0,9,   -999.0,9,-999.0000,9,  -999.00, -999.000,9,  -999.00,9,  -999.00,9,  30.0809,2,  21.9457,2,  30.1051,2
49UP20180806_2,   P13,    93,  1,     32,     841,2,20180910,0926,1129, -1.5017, 164.9982, 4447,    104.3,      104,  29.7455,  35.3552,2,    197.9,2,  35.3551,2,   197.19,2,     1.44,3,     0.22,2,     0.04,2,    0.220,3, -999.000,9, -999.000,9,   -999.0,9,   -999.0,9,-999.0000,9,  -999.00, -999.000,9,  -999.00,9,  -999.00,9,  29.7197,2,  22.0881,2,  29.7453,2
49UP20180806_2,   P13,    93,  1,     31,     840,2,20180910,0926,1127, -1.5017, 164.9982, 4447,    125.4,      125,  29.2330,  35.4265,2,    183.4,2,  35.4242,2,   183.73,6,     1.62,3,     2.14,6,     1.12,6,    0.340,3, -999.000,9, -999.000,9,   -999.0,9,   -999.0,9,-999.0000,9,  -999.00, -999.000,9,  -999.00,9,  -999.00,9,  29.2024,2,  22.3165,2,  29.2322,2
49UP20180806_2,   P13,    93,  1,     30,     839,2,20180910,0926,1125, -1.5017, 164.9982, 4447,    151.8,      151,  27.0564,  35.4762,2,    156.9,2,  35.4812,2,   157.28,2,     2.32,3,     6.30,2,     0.11,2,    0.600,3, -999.000,9, -999.000,9,   -999.0,9,   -999.0,9,-999.0000,9,  -999.00, -999.000,9,  -999.00,9,  -999.00,9,  27.0214,2,  23.0697,2,  27.0691,2
49UP20180806_2,   P13,    93,  1,     29,     838,2,20180910,0926,1123, -1.5017, 164.9982, 4447,    201.7,      200,  16.2334,  35.2853,2,    127.9,2,  35.2925,2,   126.83,2,     7.75,3,    15.52,2,     0.01,2,    1.210,3, -999.000,9, -999.000,9,   -999.0,9,   -999.0,9,-999.0000,9,  -999.00, -999.000,9,  -999.00,9,  -999.00,9,  16.2011,2,  25.9209,2,  16.2282,2
49UP20180806_2,   P13,    93,  1,     28,     837,2,20180910,0926,1121, -1.5017, 164.9982, 4447,    251.6,      250,  11.9469,  34.8605,2,    135.5,2,  34.8603,2,   134.89,2,    16.79,3,    21.13,2,     0.00,2,    1.520,3, -999.000,9, -999.000,9,   -999.0,9,   -999.0,9,-999.0000,9,  -999.00, -999.000,9,  -999.00,9,  -999.00,9,  11.9142,2,  26.4971,2,  11.9476,2
49UP20180806_2,   P13,    93,  1,     27,     661,2,20180910,0926,1118, -1.5017, 164.9982, 4447,    282.6,      281,  11.5812,  34.8221,2,    128.2,2,  34.8207,2,   127.54,2,    18.69,3,    22.54,2,     0.00,2,    1.610,3, -999.000,9, -999.000,9,   -999.0,9,   -999.0,9,-999.0000,9,  -999.00, -999.000,9,  -999.00,9,  -999.00,9,  11.5451,2,  26.5368,2,  11.5794,2
49UP20180806_2,   P13,    93,  1,     26,     835,2,20180910,0926,1116, -1.5017, 164.9982, 4447,    323.1,      321,  11.0166,  34.7844,2,    115.9,2,  34.7818,2,   114.50,2,    20.67,3,    24.90,2,     0.00,2,    1.760,3, -999.000,9, -999.000,9,   -999.0,9,   -999.0,9,-999.0000,9,  -999.00, -999.000,9,  -999.00,9,  -999.00,9,  10.9766,2,  26.6118,2,  11.0162,2
49UP20180806_2,   P13,    93,  1,     25,     834,2,20180910,0926,1114, -1.5017, 164.9982, 4447,    375.2,      373,  10.3692,  34.7452,2,    111.4,2,  34.7440,2,   110.18,2,    21.99,3,    26.54,2,     0.00,2,    1.870,3, -999.000,9, -999.000,9,   -999.0,9,   -999.0,9,-999.0000,9,  -999.00, -999.000,9,  -999.00,9,  -999.00,9,  10.3244,2,  26.6970,2,  10.3694,2
49UP20180806_2,   P13,    93,  1,     23,     832,2,20180910,0926,1111, -1.5017, 164.9982, 4447,    422.5,      420,   9.1274,  34.6641,2,     84.8,2,  34.6630,2,    85.28,2,    29.85,3,    31.57,2,     0.00,2,    2.190,3, -999.000,9, -999.000,9,   -999.0,9,   -999.0,9,-999.0000,9,  -999.00, -999.000,9,  -999.00,9,  -999.00,9,   9.0808,2,  26.8421,2,   9.1266,2
49UP20180806_2,   P13,    93,  1,     22,     831,2,20180910,0926,1109, -1.5017, 164.9982, 4447,    473.1,      470,   8.5276,  34.6269,2,     91.9,2,  34.6269,2,    91.59,2,    32.32,3,    32.04,2,     0.00,2,    2.220,3, -999.000,9, -999.000,9,   -999.0,9,   -999.0,9,-999.0000,9,  -999.00, -999.000,9,  -999.00,9,  -999.00,9,   8.4773,2,  26.9083,2,   8.5260,2
49UP20180806_2,   P13,    93,  1,     21,     830,2,20180910,0926,1105, -1.5017, 164.9982, 4447,    575.5,      572,   7.2196,  34.5621,2,    109.0,2,  34.5620,2,   108.46,6,    38.52,3,    33.03,6,     0.00,6,    2.310,3, -999.000,9, -999.000,9,   -999.0,9,   -999.0,9,-999.0000,9,  -999.00, -999.000,9,  -999.00,9,  -999.00,9,   7.1637,2,  27.0510,2,   7.2188,2
49UP20180806_2,   P13,    93,  1,     20,     829,2,20180910,0926,1102, -1.5017, 164.9982, 4447,    675.3,      670,   6.7472,  34.5592,2,     81.0,2,  34.5594,2,    81.16,2,    48.35,3,    36.70,2,     0.00,2,    2.590,3, -999.000,9, -999.000,9,   -999.0,9,   -999.0,9,-999.0000,9,  -999.00, -999.000,9,  -999.00,9,  -999.00,9,   6.6835,2,  27.1147,2,   6.7458,2
49UP20180806_2,   P13,    93,  1,     19,     828,2,20180910,0926,1058, -1.5017, 164.9982, 4447,    776.3,      771,   6.1955,  34.5447,2,     86.6,2,  34.5440,2,    86.75,2,    53.97,3,    37.22,2,     0.00,2,    2.620,3, -999.000,9, -999.000,9,   -999.0,9,   -999.0,9,-999.0000,9,  -999.00, -999.000,9,  -999.00,9,  -999.00,9,   6.1250,2,  27.1769,2,   6.1956,2
49UP20180806_2,   P13,    93,  1,     18,     660,2,20180910,0926,1055, -1.5017, 164.9982, 4447,    877.2,      871,   5.2518,  34.5232,2,    115.7,2,  34.5227,2,   115.66,2,    60.94,3,    35.65,2,     0.00,2,    2.510,3, -999.000,9, -999.000,9,   -999.0,9,   -999.0,9,-999.0000,9,  -999.00, -999.000,9,  -999.00,9,  -999.00,9,   5.1778,2,  27.2765,2,   5.2519,2
49UP20180806_2,   P13,    93,  1,     17,     826,2,20180910,0926,1052, -1.5017, 164.9982, 4447,    978.5,      971,   4.5704,  34.5427,2,    105.3,2,  34.5428,2,   105.18,2,    78.35,3,    37.25,2,     0.00,2,    2.640,3, -999.000,9, -999.000,9,   -999.0,9,   -999.0,9,-999.0000,9,  -999.00, -999.000,9,  -999.00,9,  -999.00,9,   4.4922,2,  27.3699,2,   4.5704,2
49UP20180806_2,   P13,    93,  1,     16,     825,2,20180910,0926,1046, -1.5017, 164.9982, 4447,   1139.3,     1130,   4.1094,  34.5622,2,     92.8,2,  34.5617,2,    93.01,2,    93.23,3,    38.86,2,     0.00,2,    2.770,3, -999.000,9, -999.000,9,   -999.0,9,   -999.0,9,-999.0000,9,  -999.00, -999.000,9,  -999.00,9,  -999.00,9,   4.0209,2,  27.4358,2,   4.1103,2
49UP20180806_2,   P13,    93,  1,     15,     824,2,20180910,0926,1041, -1.5017, 164.9982, 4447,   1343.1,     1331,   3.5814,  34.5787,2,     96.5,2,  34.5792,2,    96.73,2,   104.81,3,    38.87,2,     0.00,2,    2.770,3, -999.000,9, -999.000,9,   -999.0,9,   -999.0,9,-999.0000,9,  -999.00, -999.000,9,  -999.00,9,  -999.00,9,   3.4805,2,  27.5033,2,   3.5815,2
49UP20180806_2,   P13,    93,  1,     14,     823,2,20180910,0926,1036, -1.5017, 164.9982, 4447,   1545.0,     1531,   3.1849,  34.5939,2,    100.1,2,  34.5941,2,    99.82,2,   114.51,3,    38.95,2,     0.00,2,    2.760,3, -999.000,9, -999.000,9,   -999.0,9,   -999.0,9,-999.0000,9,  -999.00, -999.000,9,  -999.00,9,  -999.00,9,   3.0711,2,  27.5543,2,   3.1849,2
49UP20180806_2,   P13,    93,  1,     13,     822,2,20180910,0926,1030, -1.5017, 164.9982, 4447,   1748.2,     1731,   2.7368,  34.6113,2,    112.0,2,  34.6111,2,   111.73,2,   122.15,3,    38.23,2,     0.00,2,    2.700,3, -999.000,9, -999.000,9,   -999.0,9,   -999.0,9,-999.0000,9,  -999.00, -999.000,9,  -999.00,9,  -999.00,9,   2.6112,2,  27.6095,2,   2.7373,2
49UP20180806_2,   P13,    93,  1,     12,     821,2,20180910,0926,1026, -1.5017, 164.9982, 4447,   1951.6,     1932,   2.3199,  34.6329,2,    116.9,2,  34.6339,2,   116.81,6,   132.00,3,    38.09,6,     0.00,6,    2.680,3, -999.000,9, -999.000,9,   -999.0,9,   -999.0,9,-999.0000,9,  -999.00, -999.000,9,  -999.00,9,  -999.00,9,   2.1828,2,  27.6629,2,   2.3208,2
49UP20180806_2,   P13,    93,  1,     11,     820,2,20180910,0926,1021, -1.5017, 164.9982, 4447,   2154.9,     2132,   2.1073,  34.6442,2,    121.1,2,  34.6451,6,   121.09,2,   137.50,3,    37.86,2,     0.00,2,    2.660,3, -999.000,9, -999.000,9,   -999.0,9,   -999.0,9,-999.0000,9,  -999.00, -999.000,9,  -999.00,9,  -999.00,9,   1.9559,2,  27.6901,2,   2.1072,2
49UP20180806_2,   P13,    93,  1,     10,     819,2,20180910,0926,1015, -1.5017, 164.9982, 4447,   2358.6,     2333,   2.0008,  34.6506,2,    122.8,2,  34.6504,6,   122.65,2,   140.78,3,    37.81,2,     0.00,2,    2.650,3, -999.000,9, -999.000,9,   -999.0,9,   -999.0,9,-999.0000,9,  -999.00, -999.000,9,  -999.00,9,  -999.00,9,   1.8333,2,  27.7048,2,   2.0006,2
49UP20180806_2,   P13,    93,  1,      9,     818,2,20180910,0926,1011, -1.5017, 164.9982, 4447,   2560.0,     2531,   1.8614,  34.6577,2,    127.0,2,  34.6573,2,   126.50,2,   143.64,3,    37.66,2,     0.00,2,    2.630,3, -999.000,9, -999.000,9,   -999.0,9,   -999.0,9,-999.0000,9,  -999.00, -999.000,9,  -999.00,9,  -999.00,9,   1.6783,2,  27.7223,2,   1.8615,2
49UP20180806_2,   P13,    93,  1,      8,     817,2,20180910,0926,1006, -1.5017, 164.9982, 4447,   2765.1,     2732,   1.7671,  34.6636,2,    130.7,2,  34.6632,2,   130.59,2,   145.69,3,    37.31,2,     0.00,2,    2.610,3, -999.000,9, -999.000,9,   -999.0,9,   -999.0,9,-999.0000,9,  -999.00, -999.000,9,  -999.00,9,  -999.00,9,   1.5668,2,  27.7353,2,   1.7670,2
49UP20180806_2,   P13,    93,  1,      7,     816,2,20180910,0926,1001, -1.5017, 164.9982, 4447,   2968.4,     2931,   1.6975,  34.6674,2,    134.9,2,  34.6679,6,   134.24,2,   146.21,3,    37.03,2,     0.00,2,    2.580,3, -999.000,9, -999.000,9,   -999.0,9,   -999.0,9,-999.0000,9,  -999.00, -999.000,9,  -999.00,9,  -999.00,9,   1.4794,2,  27.7448,2,   1.6975,2
49UP20180806_2,   P13,    93,  1,      6,     815,2,20180910,0926,0955, -1.5017, 164.9982, 4447,   3211.2,     3169,   1.6195,  34.6729,2,    140.7,2,  34.6737,2,   140.59,2,   145.66,3,    36.66,2,     0.00,2,    2.550,3, -999.000,9, -999.000,9,   -999.0,9,   -999.0,9,-999.0000,9,  -999.00, -999.000,9,  -999.00,9,  -999.00,9,   1.3796,2,  27.7564,2,   1.6195,2
49UP20180806_2,   P13,    93,  1,      5,     814,2,20180910,0926,0950, -1.5017, 164.9982, 4447,   3467.5,     3420,   1.5690,  34.6774,2,    146.1,2,  34.6773,6,   145.82,2,   145.00,3,    36.37,2,     0.00,2,    2.520,3, -999.000,9, -999.000,9,   -999.0,9,   -999.0,9,-999.0000,9,  -999.00, -999.000,9,  -999.00,9,  -999.00,9,   1.3045,2,  27.7653,2,   1.5687,2
49UP20180806_2,   P13,    93,  1,      4,     813,4,20180910,0926,0944, -1.5017, 164.9982, 4447,   3723.4,     3671,   1.5142,  34.6827,2,    152.9,2,  35.0778,4,   122.17,4,    17.20,4,    19.99,4,     0.01,4,    1.480,4, -999.000,9, -999.000,9,   -999.0,9,   -999.0,9,-999.0000,9,  -999.00, -999.000,9,  -999.00,9,  -999.00,9,   1.2245,2,  27.7751,2,   1.5141,2
49UP20180806_2,   P13,    93,  1,      3,     812,2,20180910,0926,0938, -1.5017, 164.9982, 4447,   3978.7,     3920,   1.4572,  34.6886,2,    161.8,2,  34.6889,2,   161.77,6,   139.47,3,    35.28,6,     0.00,6,    2.430,3, -999.000,9, -999.000,9,   -999.0,9,   -999.0,9,-999.0000,9,  -999.00, -999.000,9,  -999.00,9,  -999.00,9,   1.1418,2,  27.7855,2,   1.4572,2
49UP20180806_2,   P13,    93,  1,      2,     811,2,20180910,0926,0933, -1.5017, 164.9982, 4447,   4235.2,     4170,   1.3975,  34.6943,2,    171.5,2,  34.6953,2,   171.15,2,   137.45,3,    34.51,2,     0.00,2,    2.400,3, -999.000,9, -999.000,9,   -999.0,9,   -999.0,9,-999.0000,9,  -999.00, -999.000,9,  -999.00,9,  -999.00,9,   1.0556,2,  27.7960,2,   1.3976,2
49UP20180806_2,   P13,    93,  1,      1,     810,2,20180910,0926,0926, -1.5017, 164.9982, 4447,   4512.2,     4440,   1.3607,  34.6988,2,    179.2,2,  34.6990,2,   178.75,2,   134.24,3,    34.01,2,     0.00,2,    2.380,3, -999.000,9, -999.000,9,   -999.0,9,   -999.0,9,-999.0000,9,  -999.00, -999.000,9,  -999.00,9,  -999.00,9,   0.9885,2,  27.8041,2,   1.3605,2