BOTTLE,20191018JMAGEMD
EXPOCODE,SECT_ID,STNNBR,CASTNO,SAMPNO,BTLNBR,BTLNBR_FLAG_U,DATE,TIME,BTL_TIME,LATITUDE,LONGITUDE,DEPTH,CTDPRS,CTDDEP,CTDTMP,CTDSAL,CTDSAL_FLAG_W,CTDOXY,CTDOXY_FLAG_W,SALNTY,SALNTY_FLAG_W,OXYGEN,OXYGEN_FLAG_W,SILCAT,SILCAT_FLAG_W,NO2+NO3,NO2+NO3_FLAG_W,NITRIT,NITRIT_FLAG_W,PHSPHT,PHSPHT_FLAG_W,CFC-11,CFC-11_FLAG_W,CFC-12,CFC-12_FLAG_W,TCARBN,TCARBN_FLAG_W,ALKALI,ALKALI_FLAG_W,PH_TS,PH_TS_FLAG_W,PH_TS_TMP,CFC113,CFC113_FLAG_W,CHLORA,CHLORA_FLAG_W,PPHYTN,PPHYTN_FLAG_W,THETA,THETA_FLAG_W,SIGTHT,SIGTHT_FLAG_W,SBE35,SBE35_FLAG_W
,,,,,,,,UTC,,,,METER,DBAR,METERS,ITS-90,PSS-78,,UMOL/KG,,PSS78,,UMOL/KG,,UMOL/KG,,UMOL/KG,,UMOL/KG,,UMOL/KG,,PMOL/KG,,PMOL/KG,,UMOL/KG,,UMOL/KG,,,,ITS-90,PMOL/KG,,UG/KG,,UG/KG,,ITS-90,,KG/M3,,ITS-90,
49UP20180614_2,   P13,    25,  1,      0,      -9,0,20180713,0211,0405, 44.0223, 165.0167, 5738,      0.0,        0,   9.0649,  32.8318,2,    297.5,2,  32.8261,2,   297.68,2,    22.08,2,    13.53,2,     0.18,2,    1.220,3, -999.000,9, -999.000,9,   2058.6,2,   2217.0,2,   7.7878,2,    25.00, -999.000,9,     0.25,2,     0.07,2,   9.0647,2,  25.4105,2,-999.0000,9
49UP20180614_2,   P13,    25,  1,     36,     845,2,20180713,0211,0440, 44.0223, 165.0167, 5738,     10.9,       11,   9.0408,  32.8343,2,    297.4,2,  32.8348,2,   297.89,2,    22.01,2,    13.52,2,     0.18,2,    1.200,3,    3.433,2,    1.977,2,   2062.0,2,   2215.9,2,   7.7892,2,    25.00,    0.325,2,     0.24,2,     0.06,2,   9.0397,2,  25.4164,2,   9.0428,2
49UP20180614_2,   P13,    25,  1,     35,     844,2,20180713,0211,0436, 44.0223, 165.0167, 5738,     51.5,       51,   6.1423,  33.2113,2,    306.7,2,  33.2123,2,   307.01,6,    19.21,6,    15.26,6,     0.26,6,    1.310,3,    3.766,2,    2.137,2,   2099.5,2,   2238.8,2,   7.7607,2,    25.00,    0.358,2,     0.36,2,     0.25,2,   6.1380,2,  26.1222,2,   6.1437,2
49UP20180614_2,   P13,    25,  1,     34,     843,2,20180713,0211,0435, 44.0223, 165.0167, 5738,     75.9,       75,   5.7896,  33.4119,2,    294.8,2,  33.4096,2,   295.27,2,    22.75,2,    15.90,2,     0.01,2,    1.260,3, -999.000,9, -999.000,9,   2105.2,2,   2244.9,2,   7.7405,2,    25.00, -999.000,9,     0.08,2,     0.06,2,   5.7835,2,  26.3245,2,   5.7894,2
49UP20180614_2,   P13,    25,  1,     33,     842,2,20180713,0211,0433, 44.0223, 165.0167, 5738,    101.0,      100,   5.0682,  33.4071,2,    296.8,2,  33.4054,2,   297.19,2,    25.82,2,    17.40,2,     0.01,2,    1.360,3,    3.782,2,    2.167,2,   2113.0,2,   2247.2,2,   7.7088,2,    25.00,    0.348,2,     0.01,2,     0.05,2,   5.0606,2,  26.4056,2,   5.0752,2
49UP20180614_2,   P13,    25,  1,     32,     841,2,20180713,0211,0432, 44.0223, 165.0167, 5738,    127.0,      126,   5.3215,  33.5549,2,    277.3,2,  33.5565,2,   277.68,2,    31.28,2,    19.43,2,     0.01,2,    1.480,3, -999.000,9, -999.000,9,   2128.5,2,   2252.1,2,   7.6879,2,    25.00, -999.000,9,     0.01,2,     0.03,2,   5.3116,2,  26.4938,2,   5.3270,2
49UP20180614_2,   P13,    25,  1,     31,     840,2,20180713,0211,0430, 44.0223, 165.0167, 5738,    154.7,      153,   4.8785,  33.5604,2,    258.7,2,  33.5726,4,   257.92,2,    36.93,2,    21.57,2,     0.01,2,    1.620,3,    3.525,2,    2.010,2,   2150.8,2,   2264.4,2,   7.6548,2,    25.00,    0.295,2,     0.01,2,     0.03,2,   4.8670,2,  26.5489,2,   4.8613,2
49UP20180614_2,   P13,    25,  1,     30,     839,2,20180713,0211,0428, 44.0223, 165.0167, 5738,    205.1,      203,   4.5149,  33.6291,2,    202.1,2,  33.6299,2,   202.35,2,    50.84,2,    27.09,2,     0.00,2,    2.000,3,    3.226,2,    1.813,2,   2191.9,2,   2266.4,2,   7.5560,2,    25.00,    0.241,2,     0.00,2,     0.03,2,   4.5001,2,  26.6435,2,   4.5155,2
49UP20180614_2,   P13,    25,  1,     29,     838,2,20180713,0211,0426, 44.0223, 165.0167, 5738,    253.6,      251,   4.3591,  33.7108,2,    160.1,2,  33.7065,2,   162.03,2,    62.13,2,    30.77,2,     0.01,2,    2.260,3,    2.856,2,    1.580,2,   2228.5,2,   2276.1,2,   7.4850,2,    25.00,    0.196,2,  -999.00,9,  -999.00,9,   4.3410,2,  26.7253,2,   4.3589,2
49UP20180614_2,   P13,    25,  1,     28,     837,2,20180713,0211,0424, 44.0223, 165.0167, 5738,    303.7,      301,   4.3099,  33.8162,2,    121.0,2,  33.8155,2,   120.96,2,    74.06,2,    34.73,2,     0.00,2,    2.510,3,    2.447,2,    1.313,2,   2260.4,2,   2289.6,2,   7.4223,2,    25.00,    0.168,2,  -999.00,9,  -999.00,9,   4.2881,2,  26.8147,2,   4.3100,2
49UP20180614_2,   P13,    25,  1,     27,     661,2,20180713,0211,0421, 44.0223, 165.0167, 5738,    405.6,      402,   4.1019,  33.9693,2,     75.9,2,  33.9676,2,    76.01,6,    92.16,6,    38.92,6,     0.00,6,    2.790,3,    1.786,2,    0.916,2,   2299.4,2,   2306.9,2,   7.3580,2,    25.00,    0.114,2,  -999.00,9,  -999.00,9,   4.0731,2,  26.9587,2,   4.1010,2
49UP20180614_2,   P13,    25,  1,     26,     835,2,20180713,0211,0417, 44.0223, 165.0167, 5738,    507.7,      503,   3.8367,  34.0680,2,     47.1,2,  34.0675,2,    47.14,2,   106.55,2,    41.50,2,     0.00,2,    2.940,3,    1.299,2,    0.644,2,   2331.1,2,   2323.6,2,   7.3205,2,    25.00,    0.078,2,  -999.00,9,  -999.00,9,   3.8012,2,  27.0648,2,   3.8346,2
49UP20180614_2,   P13,    25,  1,     25,     834,2,20180713,0211,0414, 44.0223, 165.0167, 5738,    608.3,      603,   3.6113,  34.1563,2,     35.0,2,  34.1554,2,    34.78,2,   117.99,2,    42.43,2,     0.00,2,    2.990,3,    0.914,6,    0.441,6,   2346.8,2,   2339.5,2,   7.3069,2,    25.00,    0.052,6,  -999.00,9,  -999.00,9,   3.5693,2,  27.1581,2,   3.6114,2
49UP20180614_2,   P13,    25,  1,     24,     833,2,20180713,0211,0411, 44.0223, 165.0167, 5738,    708.6,      702,   3.3550,  34.2286,2,     26.8,2,  34.2268,2,    26.50,2,   128.69,2,    43.29,2,     0.00,2,    3.050,3,    0.582,2,    0.290,2,   2362.5,2,   2348.8,2,   7.3018,2,    25.00,    0.032,2,  -999.00,9,  -999.00,9,   3.3069,2,  27.2409,2,   3.3566,2
49UP20180614_2,   P13,    25,  1,     23,     832,2,20180713,0211,0408, 44.0223, 165.0167, 5738,    810.3,      802,   3.1997,  34.2889,2,     28.3,2,  34.2887,2,    28.57,2,   135.00,2,    43.06,2,     0.00,2,    3.040,3,    0.425,2,    0.215,2,   2368.2,2,   2362.2,2,   7.3168,2,    25.00,    0.020,2,  -999.00,9,  -999.00,9,   3.1449,2,  27.3042,2,   3.1982,2
49UP20180614_2,   P13,    25,  1,     22,     831,3,20180713,0211,0405, 44.0223, 165.0167, 5738,    912.6,      903,   2.9661,  34.3358,2,     25.7,2,  34.3338,2,    25.28,2,   143.23,2,    43.55,2,     0.00,2,    3.070,3,    0.307,2,    0.148,2,   2373.4,2,   2370.8,2,   7.3195,2,    25.00,    0.013,2,  -999.00,9,  -999.00,9,   2.9053,2,  27.3634,2,   2.9665,2
49UP20180614_2,   P13,    25,  1,     21,     830,2,20180713,0211,0401, 44.0223, 165.0167, 5738,   1012.3,     1002,   2.8484,  34.3833,2,     30.1,2,  34.3824,2,    29.76,2,   146.63,2,    43.28,2,     0.00,2,    3.050,3,    0.209,2,    0.097,2,   2370.8,2,   2376.8,2,   7.3302,2,    25.00,    0.014,2,  -999.00,9,  -999.00,9,   2.7810,2,  27.4124,2,   2.8484,2
49UP20180614_2,   P13,    25,  1,     20,     829,2,20180713,0211,0356, 44.0223, 165.0167, 5738,   1215.2,     1202,   2.5869,  34.4405,2,     33.0,2,  34.4408,6,    33.47,2,   155.40,2,    43.10,2,     0.00,2,    3.040,3,    0.123,2,    0.053,2,   2382.6,2,   2390.8,2,   7.3423,2,    25.00,    0.000,2,  -999.00,9,  -999.00,9,   2.5064,2,  27.4819,2,   2.5869,2
49UP20180614_2,   P13,    25,  1,     19,     828,2,20180713,0211,0351, 44.0223, 165.0167, 5738,   1418.8,     1403,   2.3709,  34.4900,2,     39.8,2,  34.4895,2,    39.84,2,   161.43,2,    42.97,2,     0.00,2,    3.030,3,    0.072,2,    0.027,2,   2383.1,2,   2397.2,2,   7.3636,2,    25.00,    0.000,2,  -999.00,9,  -999.00,9,   2.2769,2,  27.5407,2,   2.3713,2
49UP20180614_2,   P13,    25,  1,     18,     827,2,20180713,0211,0346, 44.0223, 165.0167, 5738,   1621.5,     1602,   2.2161,  34.5315,2,     49.8,2,  34.5327,2,    49.56,6,   163.85,6,    42.46,6,     0.00,6,    2.990,3,    0.034,2,    0.016,2,   2378.7,2,   2403.0,2,   7.3827,2,    25.00,    0.000,2,  -999.00,9,  -999.00,9,   2.1079,2,  27.5877,2,   2.2152,2
49UP20180614_2,   P13,    25,  1,     17,     826,3,20180713,0211,0341, 44.0223, 165.0167, 5738,   1826.8,     1804,   2.0554,  34.5651,2,     59.1,2,  34.5641,2,    59.18,2,   166.69,2,    41.97,2,     0.00,2,    2.930,3,    0.020,2,    0.014,2,   2380.6,6,   2409.4,6,   7.4091,2,    25.00,    0.002,2,  -999.00,9,  -999.00,9,   1.9327,2,  27.6285,2,   2.0554,2
49UP20180614_2,   P13,    25,  1,     16,     825,2,20180713,0211,0336, 44.0223, 165.0167, 5738,   2026.7,     2001,   1.9333,  34.5890,2,     68.5,2,  34.5887,2,    69.18,2,   168.22,2,    41.31,2,     0.00,2,    2.880,3,    0.174,4,    0.390,4,   2379.4,2,   2412.3,2,   7.4249,6,    25.00,    0.130,4,  -999.00,9,  -999.00,9,   1.7958,2,  27.6583,2,   1.9332,2
49UP20180614_2,   P13,    25,  1,     15,     824,2,20180713,0211,0331, 44.0223, 165.0167, 5738,   2230.8,     2201,   1.8315,  34.6101,2,     81.2,2,  34.6101,2,    81.91,2,   167.48,2,    40.44,2,     0.00,2,    2.820,3,    0.012,2,    0.004,2,   2368.8,2,   2417.9,2,   7.4498,2,    25.00,    0.004,2,  -999.00,9,  -999.00,9,   1.6782,2,  27.6841,2,   1.8318,2
49UP20180614_2,   P13,    25,  1,     14,     823,2,20180713,0211,0326, 44.0223, 165.0167, 5738,   2436.5,     2403,   1.7349,  34.6278,2,     93.4,2,  34.6271,2,    93.78,2,   166.80,2,    39.62,2,     0.00,2,    2.770,3,    0.000,6,    0.000,6,   2368.1,2,   2416.7,2,   7.4764,2,    25.00,    0.000,6,  -999.00,9,  -999.00,9,   1.5653,2,  27.7067,2,   1.7350,2
49UP20180614_2,   P13,    25,  1,     13,     822,2,20180713,0211,0321, 44.0223, 165.0167, 5738,   2639.1,     2602,   1.6701,  34.6407,2,    104.2,2,  34.6409,2,   104.19,2,   164.60,2,    39.07,2,     0.00,2,    2.710,3,    0.000,2,    0.000,2,   2360.0,2,   2422.1,2,   7.4981,2,    25.00,   -0.000,2,  -999.00,9,  -999.00,9,   1.4835,2,  27.7230,2,   1.6701,2
49UP20180614_2,   P13,    25,  1,     12,     821,2,20180713,0211,0316, 44.0223, 165.0167, 5738,   2843.7,     2802,   1.6101,  34.6515,2,    114.4,2,  34.6518,2,   114.38,2,   161.94,2,    38.38,2,     0.00,2,    2.670,3,    0.000,2,    0.000,2,   2348.2,6,   2418.5,6,   7.5149,2,    25.00,    0.000,2,  -999.00,9,  -999.00,9,   1.4058,2,  27.7373,2,   1.6102,2
49UP20180614_2,   P13,    25,  1,     11,     820,3,20180713,0211,0311, 44.0223, 165.0167, 5738,   3048.2,     3002,   1.5691,  34.6593,2,    122.4,2,  34.6583,2,   122.16,2,   161.04,2,    37.92,2,     0.00,2,    2.640,3, -999.000,9, -999.000,9,   2342.0,2,   2421.4,2,   7.5324,6,    25.00, -999.000,9,  -999.00,9,  -999.00,9,   1.3463,2,  27.7478,2,   1.5693,2
49UP20180614_2,   P13,    25,  1,     10,     819,2,20180713,0211,0301, 44.0223, 165.0167, 5738,   3558.2,     3500,   1.4994,  34.6734,2,    138.3,2,  34.6739,2,   138.41,2,   156.84,2,    36.98,2,     0.00,2,    2.560,3, -999.000,9, -999.000,9,   2339.9,2,   2418.8,2,   7.5600,2,    25.00, -999.000,9,  -999.00,9,  -999.00,9,   1.2274,2,  27.7675,2,   1.4992,2
49UP20180614_2,   P13,    25,  1,      9,     818,2,20180713,0211,0255, 44.0223, 165.0167, 5738,   3813.3,     3749,   1.4880,  34.6777,2,    143.3,2,  34.6780,2,   143.05,6,   155.72,6,    36.60,6,     0.00,6,    2.540,3,    0.130,4,    0.304,4,   2335.3,2,   2418.1,2,   7.5648,2,    25.00,    0.069,4,  -999.00,9,  -999.00,9,   1.1896,2,  27.7735,2,   1.4880,2
49UP20180614_2,   P13,    25,  1,      8,     817,2,20180713,0211,0250, 44.0223, 165.0167, 5738,   4068.9,     3998,   1.4805,  34.6813,2,    147.9,2,  34.6814,6,   147.89,2,   153.88,2,    36.30,2,     0.00,2,    2.500,3, -999.000,9, -999.000,9,   2325.3,2,   2419.2,2,   7.5769,2,    25.00, -999.000,9,  -999.00,9,  -999.00,9,   1.1547,2,  27.7788,2,   1.4806,2
49UP20180614_2,   P13,    25,  1,      7,     816,3,20180713,0211,0244, 44.0223, 165.0167, 5738,   4325.8,     4248,   1.4822,  34.6843,2,    151.5,2,  34.6823,4,   150.94,2,   153.02,2,    36.11,2,     0.00,2,    2.480,3, -999.000,9, -999.000,9,   2326.4,6,   2417.4,6,   7.5806,2,    25.00, -999.000,9,  -999.00,9,  -999.00,9,   1.1277,2,  27.7831,2,   1.4823,2
49UP20180614_2,   P13,    25,  1,      6,     815,2,20180713,0211,0239, 44.0223, 165.0167, 5738,   4582.4,     4497,   1.4916,  34.6864,2,    154.3,2,  34.6863,2,   154.25,2,   152.24,2,    35.83,2,     0.00,2,    2.460,3, -999.000,9, -999.000,9,   2327.4,2,   2416.6,2,   7.5889,6,    25.00, -999.000,9,  -999.00,9,  -999.00,9,   1.1074,2,  27.7861,2,   1.4917,2
49UP20180614_2,   P13,    25,  1,      5,     814,2,20180713,0211,0233, 44.0223, 165.0167, 5738,   4839.7,     4747,   1.5069,  34.6880,2,    156.2,2,  34.6880,2,   156.04,2,   152.02,2,    35.65,2,     0.00,2,    2.460,3,    0.004,2,    0.005,2,   2321.6,2,   2415.9,2,   7.5880,2,    25.00,    0.001,2,  -999.00,9,  -999.00,9,   1.0918,2,  27.7885,2,   1.5070,2
49UP20180614_2,   P13,    25,  1,      4,     813,2,20180713,0211,0228, 44.0223, 165.0167, 5738,   5099.5,     4999,   1.5305,  34.6890,2,    157.2,2,  34.6891,2,   157.20,2,   152.44,2,    35.64,2,     0.00,2,    2.450,3, -999.000,9, -999.000,9,   2318.9,2,   2416.9,2,   7.5926,2,    25.00, -999.000,9,  -999.00,9,  -999.00,9,   1.0830,2,  27.7899,2,   1.5304,2
49UP20180614_2,   P13,    25,  1,      3,     812,2,20180713,0211,0223, 44.0223, 165.0167, 5738,   5358.0,     5249,   1.5595,  34.6895,2,    157.7,2,  34.6897,2,   157.49,2,   152.65,2,    35.58,2,     0.00,2,    2.440,3, -999.000,9, -999.000,9,   2318.3,2,   2416.6,2,   7.5936,2,    25.00, -999.000,9,  -999.00,9,  -999.00,9,   1.0788,2,  27.7905,2,   1.5594,2
49UP20180614_2,   P13,    25,  1,      2,     811,2,20180713,0211,0217, 44.0223, 165.0167, 5738,   5614.7,     5498,   1.5909,  34.6897,2,    158.1,2,  34.6903,2,   158.00,2,   152.35,2,    35.65,2,     0.00,2,    2.440,3, -999.000,9, -999.000,9,   2318.2,2,   2419.0,2,   7.5942,2,    25.00, -999.000,9,  -999.00,9,  -999.00,9,   1.0763,2,  27.7909,2,   1.5909,2
49UP20180614_2,   P13,    25,  1,      1,     810,2,20180713,0211,0212, 44.0223, 165.0167, 5738,   5847.4,     5723,   1.6201,  34.6899,2,    158.6,2,  34.6906,2,   158.55,2,   151.59,2,    35.64,2,     0.00,2,    2.440,3,    0.007,2,    0.001,2,   2317.5,2,   2420.1,2,   7.5947,2,    25.00,    0.001,2,  -999.00,9,  -999.00,9,   1.0739,2,  27.7912,2,   1.6200,2