BOTTLE,20191018JMAGEMD
EXPOCODE,SECT_ID,STNNBR,CASTNO,SAMPNO,BTLNBR,BTLNBR_FLAG_U,DATE,TIME,BTL_TIME,LATITUDE,LONGITUDE,DEPTH,CTDPRS,CTDDEP,CTDTMP,CTDSAL,CTDSAL_FLAG_W,CTDOXY,CTDOXY_FLAG_W,SALNTY,SALNTY_FLAG_W,OXYGEN,OXYGEN_FLAG_W,SILCAT,SILCAT_FLAG_W,NO2+NO3,NO2+NO3_FLAG_W,NITRIT,NITRIT_FLAG_W,PHSPHT,PHSPHT_FLAG_W,CFC-11,CFC-11_FLAG_W,CFC-12,CFC-12_FLAG_W,TCARBN,TCARBN_FLAG_W,ALKALI,ALKALI_FLAG_W,PH_TS,PH_TS_FLAG_W,PH_TS_TMP,CFC113,CFC113_FLAG_W,CHLORA,CHLORA_FLAG_W,PPHYTN,PPHYTN_FLAG_W,THETA,THETA_FLAG_W,SIGTHT,SIGTHT_FLAG_W,SBE35,SBE35_FLAG_W
,,,,,,,,UTC,,,,METER,DBAR,METERS,ITS-90,PSS-78,,UMOL/KG,,PSS78,,UMOL/KG,,UMOL/KG,,UMOL/KG,,UMOL/KG,,UMOL/KG,,PMOL/KG,,PMOL/KG,,UMOL/KG,,UMOL/KG,,,,ITS-90,PMOL/KG,,UG/KG,,UG/KG,,ITS-90,,KG/M3,,ITS-90,
49UP20180614_1,   P13,     1,  1,      0,      -9,0,20180616,0755,0805, 42.8363, 145.6080, 1408,      0.0,        0,   9.9001,  33.3475,2,    296.9,2,-999.0000,9,   293.00,2,     1.33,2,     2.26,2,     0.11,2,    0.280,2, -999.000,9, -999.000,9,   -999.0,9,   -999.0,9,-999.0000,9,  -999.00, -999.000,9,     1.62,2,     0.39,2,   9.8999,2,  25.6785,2,-999.0000,9
49UP20180614_1,   P13,     1,  1,     36,     845,2,20180616,0755,0845, 42.8363, 145.6080, 1408,     10.1,       10,   9.9034,  33.3435,2,    296.6,2,  33.3476,2,   297.30,2,     1.12,2,     2.11,2,     0.09,2,    0.280,2, -999.000,9, -999.000,9,   -999.0,9,   -999.0,9,-999.0000,9,  -999.00, -999.000,9,     1.46,2,     0.47,2,   9.9023,2,  25.6750,2,   9.8978,2
49UP20180614_1,   P13,     1,  1,     35,     844,2,20180616,0755,0844, 42.8363, 145.6080, 1408,     25.5,       25,   9.9165,  33.3510,2,    296.2,2,  33.3565,2,   297.29,2,     1.18,2,     2.12,2,     0.09,2,    0.270,2, -999.000,9, -999.000,9,   -999.0,9,   -999.0,9,-999.0000,9,  -999.00, -999.000,9,     1.44,2,     0.45,2,   9.9137,2,  25.6789,2,   9.9157,2
49UP20180614_1,   P13,     1,  1,     34,     843,2,20180616,0755,0840, 42.8363, 145.6080, 1408,     50.2,       50,   8.2348,  33.6131,2,    282.8,2,  33.6129,2,   284.61,2,     5.93,2,     6.61,2,     0.26,2,    0.770,2, -999.000,9, -999.000,9,   -999.0,9,   -999.0,9,-999.0000,9,  -999.00, -999.000,9,     0.33,2,     0.28,2,   8.2298,2,  26.1506,2,   8.2251,2
49UP20180614_1,   P13,     1,  1,     27,     661,2,20180616,0755,0838, 42.8363, 145.6080, 1408,     76.6,       76,   5.4213,  33.4250,2,    284.7,2,  33.4247,2,   285.72,2,    16.95,2,    14.12,2,     0.31,2,    1.280,2, -999.000,9, -999.000,9,   -999.0,9,   -999.0,9,-999.0000,9,  -999.00, -999.000,9,     0.15,2,     0.30,2,   5.4153,2,  26.3789,2,   5.4326,2
49UP20180614_1,   P13,     1,  1,     26,     835,2,20180616,0755,0837, 42.8363, 145.6080, 1408,    101.6,      101,   4.3664,  33.4210,2,    285.8,2,  33.4228,2,   286.22,2,    26.03,2,    17.55,2,     0.10,2,    1.410,2, -999.000,9, -999.000,9,   -999.0,9,   -999.0,9,-999.0000,9,  -999.00, -999.000,9,     0.05,2,     0.19,2,   4.3593,2,  26.4932,2,   4.3649,2
49UP20180614_1,   P13,     1,  1,     25,     834,2,20180616,0755,0835, 42.8363, 145.6080, 1408,    126.0,      125,   3.9300,  33.4165,2,    285.3,2,  33.4166,2,   285.69,2,    30.39,2,    18.60,2,     0.02,2,    1.490,2, -999.000,9, -999.000,9,   -999.0,9,   -999.0,9,-999.0000,9,  -999.00, -999.000,9,     0.03,2,     0.18,2,   3.9216,2,  26.5344,2,   3.9328,2
49UP20180614_1,   P13,     1,  1,     21,     830,2,20180616,0755,0833, 42.8363, 145.6080, 1408,    151.5,      150,   4.1144,  33.4720,2,    281.0,2,  33.4732,2,   281.67,2,    31.00,2,    18.38,2,     0.02,2,    1.450,2, -999.000,9, -999.000,9,   -999.0,9,   -999.0,9,-999.0000,9,  -999.00, -999.000,9,     0.03,2,     0.16,2,   4.1040,2,  26.5602,2,   4.1171,2
49UP20180614_1,   P13,     1,  1,     20,     829,2,20180616,0755,0831, 42.8363, 145.6080, 1408,    204.4,      203,   4.0645,  33.5251,2,    267.4,2,  33.5276,2,   267.69,6,    34.90,6,    19.35,6,     0.04,6,    1.510,6, -999.000,9, -999.000,9,   -999.0,9,   -999.0,9,-999.0000,9,  -999.00, -999.000,9,     0.04,2,     0.15,2,   4.0505,2,  26.6078,2,   4.0671,2
49UP20180614_1,   P13,     1,  1,     19,     828,2,20180616,0755,0829, 42.8363, 145.6080, 1408,    253.4,      251,   3.6240,  33.5060,2,    249.3,2,  33.5055,2,   249.35,2,    42.83,2,    22.40,2,     0.03,2,    1.730,2, -999.000,9, -999.000,9,   -999.0,9,   -999.0,9,-999.0000,9,  -999.00, -999.000,9,  -999.00,9,  -999.00,9,   3.6075,2,  26.6364,2,   3.6252,2
49UP20180614_1,   P13,     1,  1,     18,     827,2,20180616,0755,0827, 42.8363, 145.6080, 1408,    332.9,      330,   3.2602,  33.5941,2,    174.8,2,  33.5960,2,   174.06,2,    66.77,2,    31.23,2,     0.01,2,    2.350,2, -999.000,9, -999.000,9,   -999.0,9,   -999.0,9,-999.0000,9,  -999.00, -999.000,9,  -999.00,9,  -999.00,9,   3.2392,2,  26.7412,2,   3.2697,2
49UP20180614_1,   P13,     1,  1,     17,     826,2,20180616,0755,0824, 42.8363, 145.6080, 1408,    434.5,      431,   3.7555,  33.8048,2,    115.1,2,  33.7948,4,   115.66,2,    82.30,2,    35.74,2,     0.00,2,    2.620,2, -999.000,9, -999.000,9,   -999.0,9,   -999.0,9,-999.0000,9,  -999.00, -999.000,9,  -999.00,9,  -999.00,9,   3.7258,2,  26.8628,2,   3.7529,2
49UP20180614_1,   P13,     1,  1,     16,     825,2,20180616,0755,0821, 42.8363, 145.6080, 1408,    535.0,      530,   3.9329,  33.9895,2,     71.2,2,  33.9899,2,    71.33,2,    96.95,2,    39.01,2,     0.00,2,    2.820,2, -999.000,9, -999.000,9,   -999.0,9,   -999.0,9,-999.0000,9,  -999.00, -999.000,9,  -999.00,9,  -999.00,9,   3.8950,2,  26.9930,2,   3.9337,2
49UP20180614_1,   P13,     1,  1,     12,     821,2,20180616,0755,0818, 42.8363, 145.6080, 1408,    635.7,      630,   3.6312,  34.0706,2,     48.8,2,  34.0697,2,    49.48,2,   110.39,2,    41.07,2,     0.00,2,    2.990,2, -999.000,9, -999.000,9,   -999.0,9,   -999.0,9,-999.0000,9,  -999.00, -999.000,9,  -999.00,9,  -999.00,9,   3.5872,2,  27.0881,2,   3.6313,2
49UP20180614_1,   P13,     1,  1,     11,     820,2,20180616,0755,0815, 42.8363, 145.6080, 1408,    738.4,      731,   3.6731,  34.2148,2,     40.8,2,  34.2134,2,    41.49,2,   119.38,2,    41.24,2,     0.00,2,    2.970,2, -999.000,9, -999.000,9,   -999.0,9,   -999.0,9,-999.0000,9,  -999.00, -999.000,9,  -999.00,9,  -999.00,9,   3.6210,2,  27.1996,2,   3.6745,2
49UP20180614_1,   P13,     1,  1,     10,     819,2,20180616,0755,0812, 42.8363, 145.6080, 1408,    839.4,      831,   3.4053,  34.2766,2,     35.7,2,  34.2753,6,    35.68,2,   129.06,2,    41.92,2,     0.00,2,    3.010,2, -999.000,9, -999.000,9,   -999.0,9,   -999.0,9,-999.0000,9,  -999.00, -999.000,9,  -999.00,9,  -999.00,9,   3.3470,2,  27.2754,2,   3.4057,2
49UP20180614_1,   P13,     1,  1,      9,     818,2,20180616,0755,0809, 42.8363, 145.6080, 1408,    939.9,      930,   3.3311,  34.3382,2,     39.3,2,  34.3382,2,    39.41,2,   131.62,2,    41.80,2,     0.00,2,    2.990,2, -999.000,9, -999.000,9,   -999.0,9,   -999.0,9,-999.0000,9,  -999.00, -999.000,9,  -999.00,9,  -999.00,9,   3.2656,2,  27.3322,2,   3.3321,2
49UP20180614_1,   P13,     1,  1,      8,     817,2,20180616,0755,0806, 42.8363, 145.6080, 1408,   1081.3,     1070,   2.9607,  34.3782,2,     34.6,2,  34.3781,2,    34.73,2,   142.93,2,    42.42,2,     0.00,2,    3.030,2, -999.000,9, -999.000,9,   -999.0,9,   -999.0,9,-999.0000,9,  -999.00, -999.000,9,  -999.00,9,  -999.00,9,   2.8871,2,  27.3989,2,   2.9608,2
49UP20180614_1,   P13,     1,  1,      7,     816,2,20180616,0755,0806, 42.8363, 145.6080, 1408,   1081.4,     1070,   2.9600,  34.3783,2,     34.6,2,  34.3785,2,    34.76,2,   142.93,2,    42.47,2,     0.00,2,    3.030,2, -999.000,9, -999.000,9,   -999.0,9,   -999.0,9,-999.0000,9,  -999.00, -999.000,9,  -999.00,9,  -999.00,9,   2.8864,2,  27.3991,2,   2.9599,2
49UP20180614_1,   P13,     1,  1,      3,     812,2,20180616,0755,0801, 42.8363, 145.6080, 1408,   1286.6,     1272,   2.6608,  34.4289,2,     35.6,2,  34.4292,6,    35.69,6,   152.68,6,    42.58,6,     0.01,6,    3.050,6, -999.000,9, -999.000,9,   -999.0,9,   -999.0,9,-999.0000,9,  -999.00, -999.000,9,  -999.00,9,  -999.00,9,   2.5742,2,  27.4669,2,   2.6608,2
49UP20180614_1,   P13,     1,  1,      2,     811,2,20180616,0755,0756, 42.8363, 145.6080, 1408,   1479.3,     1462,   2.5118,  34.4584,2,     38.3,2,  34.4585,2,    38.63,2,   157.61,2,    42.43,2,     0.01,2,    3.040,2, -999.000,9, -999.000,9,   -999.0,9,   -999.0,9,-999.0000,9,  -999.00, -999.000,9,  -999.00,9,  -999.00,9,   2.4115,2,  27.5043,2,   2.5117,2
49UP20180614_1,   P13,     1,  1,      1,     810,2,20180616,0755,0756, 42.8363, 145.6080, 1408,   1479.5,     1463,   2.5091,  34.4585,2,     38.3,2,  34.4581,2,    39.05,2,   157.51,2,    42.47,2,     0.01,2,    3.040,2, -999.000,9, -999.000,9,   -999.0,9,   -999.0,9,-999.0000,9,  -999.00, -999.000,9,  -999.00,9,  -999.00,9,   2.4089,2,  27.5046,2,   2.5090,2