BOTTLE,20191018JMAGEMD
EXPOCODE,SECT_ID,STNNBR,CASTNO,SAMPNO,BTLNBR,BTLNBR_FLAG_U,DATE,TIME,BTL_TIME,LATITUDE,LONGITUDE,DEPTH,CTDPRS,CTDDEP,CTDTMP,CTDSAL,CTDSAL_FLAG_W,CTDOXY,CTDOXY_FLAG_W,SALNTY,SALNTY_FLAG_W,OXYGEN,OXYGEN_FLAG_W,SILCAT,SILCAT_FLAG_W,NO2+NO3,NO2+NO3_FLAG_W,NITRIT,NITRIT_FLAG_W,PHSPHT,PHSPHT_FLAG_W,CFC-11,CFC-11_FLAG_W,CFC-12,CFC-12_FLAG_W,TCARBN,TCARBN_FLAG_W,ALKALI,ALKALI_FLAG_W,PH_TS,PH_TS_FLAG_W,PH_TS_TMP,CFC113,CFC113_FLAG_W,CHLORA,CHLORA_FLAG_W,PPHYTN,PPHYTN_FLAG_W,THETA,THETA_FLAG_W,SIGTHT,SIGTHT_FLAG_W,SBE35,SBE35_FLAG_W
,,,,,,,,UTC,,,,METER,DBAR,METERS,ITS-90,PSS-78,,UMOL/KG,,PSS78,,UMOL/KG,,UMOL/KG,,UMOL/KG,,UMOL/KG,,UMOL/KG,,PMOL/KG,,PMOL/KG,,UMOL/KG,,UMOL/KG,,,,ITS-90,PMOL/KG,,UG/KG,,UG/KG,,ITS-90,,KG/M3,,ITS-90,
49UP20180806_1,   P13,    52,  1,      0,      -9,0,20180818,0328,0519, 21.9873, 164.9927, 5314,      0.0,        0,  28.8829,  35.0394,2,    197.2,2,  35.0494,2,   197.50,2,     0.56,3,     0.00,2,     0.00,2,    0.030,3, -999.000,9, -999.000,9,   1967.8,2,   2305.3,2,   8.1078,2,    25.00, -999.000,9,     0.05,2,     0.02,2,  28.8822,2,  22.1330,2,-999.0000,9
49UP20180806_1,   P13,    52,  1,     36,     845,2,20180818,0328,0603, 21.9873, 164.9927, 5314,     10.9,       11,  28.8846,  35.0391,2,    197.1,2,  35.0393,2,   197.76,2,     0.56,3,     0.00,2,     0.00,2,    0.000,3,    1.505,2,    0.870,2,   1967.6,2,   2305.4,2,   8.1092,2,    25.00,    0.132,2,     0.05,2,     0.02,2,  28.8820,2,  22.1328,2,  28.8871,2
49UP20180806_1,   P13,    52,  1,     35,     844,2,20180818,0328,0559, 21.9873, 164.9927, 5314,     49.2,       49,  27.0121,  35.1323,2,    217.1,2,  35.1319,2,   216.42,2,     1.13,3,     0.00,2,     0.00,2,    0.000,3,    1.713,2,    0.961,2,   1983.4,2,   2311.8,2,   8.1010,2,    25.00,    0.140,2,     0.06,2,     0.03,2,  27.0008,2,  22.8171,2,  27.0050,2
49UP20180806_1,   P13,    52,  1,     24,     833,2,20180818,0328,0557, 21.9873, 164.9927, 5314,     72.9,       72,  26.1210,  35.1589,2,    215.9,2,  35.1580,2,   215.30,6,     1.23,3,     0.00,6,     0.00,6,    0.010,3,    1.747,2,    0.980,2,   1986.3,2,   2314.4,2,   8.0963,2,    25.00,    0.148,2,     0.02,2,     0.08,2,  26.1047,2,  23.1206,2,  26.1240,2
49UP20180806_1,   P13,    52,  1,     34,     843,2,20180818,0328,0554, 21.9873, 164.9927, 5314,    100.1,       99,  24.8699,  35.1933,2,    211.0,2,  35.1921,2,   210.91,2,     1.23,3,     0.00,2,     0.00,2,    0.010,3,    1.781,2,    1.008,2,   1991.9,2,   2318.1,2,   8.0775,2,    25.00,    0.150,2,     0.08,2,     0.04,2,  24.8483,2,  23.5334,2,  24.8702,2
49UP20180806_1,   P13,    52,  1,     33,     842,2,20180818,0328,0552, 21.9873, 164.9927, 5314,    125.4,      125,  24.0268,  35.2410,2,    210.6,2,  35.2374,2,   211.62,2,     1.32,3,     0.00,2,     0.00,2,    0.020,3, -999.000,9, -999.000,9,   2012.6,2,   2318.3,2,   8.0653,2,    25.00, -999.000,9,     0.18,2,     0.12,2,  24.0004,2,  23.8237,2,  24.0298,2
49UP20180806_1,   P13,    52,  1,     32,     841,2,20180818,0328,0550, 21.9873, 164.9927, 5314,    152.3,      151,  22.5886,  35.2029,2,    201.8,2,  35.2048,2,   201.49,2,     1.62,3,     0.28,2,     0.24,2,    0.060,3,    1.930,2,    1.099,2,   2020.6,2,   2316.2,2,   8.0336,2,    25.00,    0.146,2,     0.17,2,     0.36,2,  22.5579,2,  24.2143,2,  22.6065,2
49UP20180806_1,   P13,    52,  1,     31,     840,2,20180818,0328,0548, 21.9873, 164.9927, 5314,    200.8,      199,  19.2984,  34.9593,2,    192.8,2,  34.9642,2,   192.05,2,     3.04,3,     2.40,2,     0.01,2,    0.230,3,    2.227,2,    1.264,2,   2054.9,2,   2299.4,2,   7.9532,2,    25.00,    0.062,2,     0.06,2,     0.19,2,  19.2622,2,  24.9229,2,  19.3052,2
49UP20180806_1,   P13,    52,  1,     30,     839,2,20180818,0328,0545, 21.9873, 164.9927, 5314,    253.5,      252,  16.6809,  34.7240,2,    201.4,2,  34.7268,2,   201.52,2,     4.88,3,     5.38,2,     0.00,2,    0.380,3,    2.453,2,    1.373,2,   2061.1,2,   2284.9,2,   7.9166,2,    25.00,    0.031,2,  -999.00,9,  -999.00,9,  16.6396,2,  25.3873,2,  16.6770,2
49UP20180806_1,   P13,    52,  1,     29,     838,2,20180818,0328,0542, 21.9873, 164.9927, 5314,    332.7,      330,  14.4133,  34.5020,2,    201.6,2,  34.5027,2,   201.72,2,     8.57,3,     8.58,2,     0.00,2,    0.610,3,    2.728,2,    1.523,2,   2079.6,2,   2273.9,2,   7.8611,2,    25.00,    0.047,2,  -999.00,9,  -999.00,9,  14.3642,2,  25.7253,2,  14.4120,2
49UP20180806_1,   P13,    52,  1,     28,     837,2,20180818,0328,0539, 21.9873, 164.9927, 5314,    435.4,      432,  11.0117,  34.2273,2,    186.8,2,  34.2277,2,   187.22,2,    19.33,3,    15.89,2,     0.00,2,    1.130,3,    3.031,2,    1.604,2,   2124.8,2,   2270.9,2,   7.7469,2,    25.00,    0.070,2,  -999.00,9,  -999.00,9,  10.9579,2,  26.1813,2,  11.0120,2
49UP20180806_1,   P13,    52,  1,     27,     661,2,20180818,0328,0535, 21.9873, 164.9927, 5314,    539.5,      535,   8.1973,  34.0941,2,    148.4,2,  34.0956,2,   150.18,2,    38.36,3,    24.61,2,     0.00,2,    1.750,3,    2.746,2,    1.353,2,   2182.9,2,   2278.0,2,   7.6172,2,    25.00,    0.080,2,  -999.00,9,  -999.00,9,   8.1414,2,  26.5413,2,   8.2060,2
49UP20180806_1,   P13,    52,  1,     26,     835,2,20180818,0328,0531, 21.9873, 164.9927, 5314,    642.2,      637,   6.3604,  34.1109,2,     90.0,2,  34.1113,2,    91.81,6,    62.61,3,    33.29,6,     0.00,6,    2.400,3,    1.712,2,    0.786,2,   2248.6,2,   2299.3,2,   7.4750,2,    25.00,    0.043,2,  -999.00,9,  -999.00,9,   6.3023,2,  26.8115,2,   6.3578,2
49UP20180806_1,   P13,    52,  1,     25,     834,2,20180818,0328,0527, 21.9873, 164.9927, 5314,    740.7,      735,   5.2194,  34.1895,2,     57.4,2,  34.1888,6,    58.19,2,    84.03,3,    38.34,2,     0.00,2,    2.770,3,    0.829,6,    0.359,6,   2295.6,2,   2322.8,2,   7.4054,2,    25.00,    0.022,6,  -999.00,9,  -999.00,9,   5.1583,2,  27.0144,2,   5.2236,2
49UP20180806_1,   P13,    52,  1,     23,     832,2,20180818,0328,0523, 21.9873, 164.9927, 5314,    841.8,      835,   4.7824,  34.3071,2,     46.8,2,  34.3054,2,    47.22,2,    94.56,3,    40.10,2,     0.00,2,    2.900,3,    0.302,2,    0.133,2,   2315.8,6,   2340.4,6,   7.3949,2,    25.00,    0.004,2,  -999.00,9,  -999.00,9,   4.7149,2,  27.1582,2,   4.7826,2
49UP20180806_1,   P13,    52,  1,     22,     831,2,20180818,0328,0518, 21.9873, 164.9927, 5314,    942.1,      934,   4.2572,  34.3873,2,     47.0,2,  34.3853,2,    46.94,2,   106.14,3,    40.96,2,     0.00,2,    2.950,3,    0.110,2,    0.046,2,   2329.8,2,   2358.3,2,   7.3982,6,    25.00,    0.002,2,  -999.00,9,  -999.00,9,   4.1846,2,  27.2795,2,   4.2579,2
49UP20180806_1,   P13,    52,  1,     21,     830,2,20180818,0328,0514, 21.9873, 164.9927, 5314,   1084.1,     1075,   3.7650,  34.4662,2,     57.0,2,  34.4656,2,    57.56,2,   116.21,3,    40.83,2,     0.00,2,    2.930,3,    0.032,2,    0.013,2,   2345.5,2,   2373.9,2,   7.4250,2,    25.00,    0.005,2,  -999.00,9,  -999.00,9,   3.6843,2,  27.3936,2,   3.7650,2
49UP20180806_1,   P13,    52,  1,     20,     829,3,20180818,0328,0508, 21.9873, 164.9927, 5314,   1286.4,     1274,   3.1669,  34.5184,2,     69.1,2,  34.5181,2,    69.55,2,   128.08,3,    40.53,2,     0.00,2,    2.880,3,    0.013,2,    0.008,2,   2350.7,2,   2387.3,2,   7.4440,2,    25.00,    0.000,2,  -999.00,9,  -999.00,9,   3.0750,2,  27.4937,2,   3.1671,2
49UP20180806_1,   P13,    52,  1,     19,     828,2,20180818,0328,0501, 21.9873, 164.9927, 5314,   1485.7,     1471,   2.7367,  34.5538,2,     79.4,2,  34.5541,2,    80.02,2,   136.14,3,    40.09,2,     0.00,2,    2.840,3,    0.005,2,    0.001,2,   2348.7,2,   2398.1,2,   7.4615,2,    25.00,    0.000,2,  -999.00,9,  -999.00,9,   2.6331,2,  27.5616,2,   2.7368,2
49UP20180806_1,   P13,    52,  1,     18,     660,2,20180818,0328,0456, 21.9873, 164.9927, 5314,   1687.0,     1670,   2.3948,  34.5812,2,     89.0,2,  34.5820,2,    89.50,2,   141.89,3,    39.73,2,     0.00,2,    2.790,3,    0.005,2,    0.002,2,   2361.7,2,   2405.6,2,   7.4748,2,    25.00,    0.000,2,  -999.00,9,  -999.00,9,   2.2789,2,  27.6136,2,   2.3949,2
49UP20180806_1,   P13,    52,  1,     17,     826,2,20180818,0328,0450, 21.9873, 164.9927, 5314,   1892.7,     1872,   2.1630,  34.6039,2,     98.0,2,  34.6040,2,    97.97,2,   145.82,3,    39.19,2,     0.00,2,    2.760,3,    0.004,2,    0.004,2,   2349.5,2,   2410.9,2,   7.4942,2,    25.00,    0.000,2,  -999.00,9,  -999.00,9,   2.0332,2,  27.6517,2,   2.1636,2
49UP20180806_1,   P13,    52,  1,     16,     825,2,20180818,0328,0445, 21.9873, 164.9927, 5314,   2091.7,     2068,   1.9856,  34.6205,2,    104.0,2,  34.6216,2,   104.64,6,   151.93,3,    38.96,6,     0.00,6,    2.750,3,    0.004,2,    0.002,2,   2355.3,2,   2414.8,2,   7.5026,2,    25.00,    0.006,2,  -999.00,9,  -999.00,9,   1.8417,2,  27.6800,2,   1.9857,2
49UP20180806_1,   P13,    52,  1,     15,     824,2,20180818,0328,0440, 21.9873, 164.9927, 5314,   2295.3,     2269,   1.8552,  34.6385,2,    113.1,2,  34.6380,2,   112.69,2,   153.36,3,    38.44,2,     0.00,2,    2.730,3,   -0.000,2,    0.004,2,   2346.0,2,   2418.5,2,   7.5189,2,    25.00,    0.000,2,  -999.00,9,  -999.00,9,   1.6959,2,  27.7055,2,   1.8554,2
49UP20180806_1,   P13,    52,  1,     14,     823,2,20180818,0328,0435, 21.9873, 164.9927, 5314,   2497.8,     2468,   1.7664,  34.6477,2,    118.5,2,  34.6487,2,   118.70,2,   153.50,3,    38.04,2,     0.00,2,    2.690,3,    0.000,2,    0.001,2,   2355.6,2,   2420.6,2,   7.5281,2,    25.00,    0.000,2,  -999.00,9,  -999.00,9,   1.5907,2,  27.7208,2,   1.7664,2
49UP20180806_1,   P13,    52,  1,     13,     822,2,20180818,0328,0430, 21.9873, 164.9927, 5314,   2700.8,     2667,   1.6953,  34.6539,2,    123.9,2,  34.6548,2,   124.35,2,   152.77,3,    37.75,2,     0.00,2,    2.650,3,    0.000,6,    0.000,6,   2343.3,2,   2421.5,2,   7.5374,2,    25.00,    0.000,6,  -999.00,9,  -999.00,9,   1.5025,2,  27.7322,2,   1.6954,2
49UP20180806_1,   P13,    52,  1,     12,     821,2,20180818,0328,0425, 21.9873, 164.9927, 5314,   2903.8,     2866,   1.6414,  34.6599,2,    128.6,2,  34.6600,2,   128.97,2,   152.15,3,    37.41,2,     0.00,2,    2.610,3,    0.002,2,    0.000,2,   2344.2,6,   2421.5,6,   7.5451,2,    25.00,    0.001,2,  -999.00,9,  -999.00,9,   1.4308,2,  27.7422,2,   1.6415,2
49UP20180806_1,   P13,    52,  1,     11,     820,2,20180818,0328,0420, 21.9873, 164.9927, 5314,   3118.6,     3076,   1.5913,  34.6657,2,    134.1,2,  34.6650,2,   133.92,2,   151.35,3,    37.10,2,     0.00,2,    2.580,3, -999.000,9, -999.000,9,   2336.3,2,   2421.3,2,   7.5544,6,    25.00, -999.000,9,  -999.00,9,  -999.00,9,   1.3611,2,  27.7519,2,   1.5912,2
49UP20180806_1,   P13,    52,  1,     10,     819,2,20180818,0328,0414, 21.9873, 164.9927, 5314,   3373.4,     3326,   1.5435,  34.6724,2,    139.9,2,  34.6729,6,   140.12,2,   151.05,3,    36.75,2,     0.00,2,    2.550,3, -999.000,9, -999.000,9,   2337.2,2,   2420.3,2,   7.5626,2,    25.00, -999.000,9,  -999.00,9,  -999.00,9,   1.2891,2,  27.7624,2,   1.5437,2
49UP20180806_1,   P13,    52,  1,      9,     818,2,20180818,0328,0409, 21.9873, 164.9927, 5314,   3629.9,     3577,   1.5141,  34.6767,2,    144.9,2,  34.6772,2,   144.98,2,   150.11,3,    36.39,2,     0.00,2,    2.530,3, -999.000,9, -999.000,9,   2337.4,2,   2420.7,2,   7.5719,2,    25.00, -999.000,9,  -999.00,9,  -999.00,9,   1.2343,2,  27.7696,2,   1.5142,2
49UP20180806_1,   P13,    52,  1,      8,     817,2,20180818,0328,0403, 21.9873, 164.9927, 5314,   3884.0,     3825,   1.4977,  34.6804,2,    149.5,2,  34.6800,6,   149.30,2,   148.26,3,    36.08,2,     0.00,2,    2.510,3,   -0.000,2,    0.000,2,   2327.7,2,   2418.1,2,   7.5758,2,    25.00,    0.000,2,  -999.00,9,  -999.00,9,   1.1914,2,  27.7755,2,   1.4978,2
49UP20180806_1,   P13,    52,  1,      7,     816,2,20180818,0328,0358, 21.9873, 164.9927, 5314,   4141.7,     4076,   1.4771,  34.6842,2,    154.9,2,  34.6833,2,   154.00,6,   146.01,3,    35.74,6,     0.00,6,    2.480,3, -999.000,9, -999.000,9,   2324.7,2,   2416.5,2,   7.5819,2,    25.00, -999.000,9,  -999.00,9,  -999.00,9,   1.1433,2,  27.7819,2,   1.4770,2
49UP20180806_1,   P13,    52,  1,      6,     815,2,20180818,0328,0353, 21.9873, 164.9927, 5314,   4400.2,     4328,   1.4629,  34.6876,2,    160.1,2,  34.6879,2,   160.20,2,   143.72,3,    35.32,2,     0.00,2,    2.450,3, -999.000,9, -999.000,9,   2322.7,2,   2414.1,2,   7.5921,2,    25.00, -999.000,9,  -999.00,9,  -999.00,9,   1.1005,2,  27.7875,2,   1.4630,2
49UP20180806_1,   P13,    52,  1,      5,     814,2,20180818,0328,0347, 21.9873, 164.9927, 5314,   4656.5,     4578,   1.4557,  34.6906,2,    164.9,2,  34.6924,4,   164.84,2,   140.97,3,    35.00,2,     0.00,2,    2.430,3, -999.000,9, -999.000,9,   2315.9,2,   2412.3,2,   7.5960,2,    25.00, -999.000,9,  -999.00,9,  -999.00,9,   1.0639,2,  27.7925,2,   1.4558,2
49UP20180806_1,   P13,    52,  1,      4,     813,2,20180818,0328,0342, 21.9873, 164.9927, 5314,   4915.2,     4829,   1.4579,  34.6929,2,    169.0,2,  34.6938,4,   169.28,2,   138.40,3,    34.71,2,     0.00,2,    2.400,3,    0.000,2,    0.000,2,   2312.0,2,   2409.3,2,   7.6020,2,    25.00,    0.000,2,  -999.00,9,  -999.00,9,   1.0353,2,  27.7962,2,   1.4577,2
49UP20180806_1,   P13,    52,  1,      3,     812,2,20180818,0328,0337, 21.9873, 164.9927, 5314,   5174.0,     5080,   1.4564,  34.6954,2,    173.5,2,  34.6897,4,   170.12,4,   135.96,3,    34.57,2,     0.00,2,    2.390,3, -999.000,9, -999.000,9,   2303.8,2,   2404.3,2,   7.6013,2,    25.00, -999.000,9,  -999.00,9,  -999.00,9,   1.0023,2,  27.8005,2,   1.4566,2
49UP20180806_1,   P13,    52,  1,      2,     811,2,20180818,0328,0332, 21.9873, 164.9927, 5314,   5430.7,     5329,   1.4563,  34.6978,2,    177.9,2,  34.6982,2,   178.03,2,   133.15,3,    34.08,2,     0.00,2,    2.350,3, -999.000,9, -999.000,9,   2307.2,6,   2402.2,6,   7.6099,2,    25.00, -999.000,9,  -999.00,9,  -999.00,9,   0.9701,2,  27.8045,2,   1.4563,2
49UP20180806_1,   P13,    52,  1,      1,     810,2,20180818,0328,0329, 21.9873, 164.9927, 5314,   5520.4,     5416,   1.4631,  34.6978,2,    178.7,2,  34.7010,4,   178.11,2,   132.38,3,    34.02,2,     0.00,2,    2.350,3,    0.004,2,   -0.000,2,   2301.3,2,   2400.6,2,   7.6097,6,    25.00,    0.000,2,  -999.00,9,  -999.00,9,   0.9652,2,  27.8048,2,   1.4631,2