BOTTLE,20191018JMAGEMD
EXPOCODE,SECT_ID,STNNBR,CASTNO,SAMPNO,BTLNBR,BTLNBR_FLAG_U,DATE,TIME,BTL_TIME,LATITUDE,LONGITUDE,DEPTH,CTDPRS,CTDDEP,CTDTMP,CTDSAL,CTDSAL_FLAG_W,CTDOXY,CTDOXY_FLAG_W,SALNTY,SALNTY_FLAG_W,OXYGEN,OXYGEN_FLAG_W,SILCAT,SILCAT_FLAG_W,NO2+NO3,NO2+NO3_FLAG_W,NITRIT,NITRIT_FLAG_W,PHSPHT,PHSPHT_FLAG_W,CFC-11,CFC-11_FLAG_W,CFC-12,CFC-12_FLAG_W,TCARBN,TCARBN_FLAG_W,ALKALI,ALKALI_FLAG_W,PH_TS,PH_TS_FLAG_W,PH_TS_TMP,CFC113,CFC113_FLAG_W,CHLORA,CHLORA_FLAG_W,PPHYTN,PPHYTN_FLAG_W,THETA,THETA_FLAG_W,SIGTHT,SIGTHT_FLAG_W,SBE35,SBE35_FLAG_W
,,,,,,,,UTC,,,,METER,DBAR,METERS,ITS-90,PSS-78,,UMOL/KG,,PSS78,,UMOL/KG,,UMOL/KG,,UMOL/KG,,UMOL/KG,,UMOL/KG,,PMOL/KG,,PMOL/KG,,UMOL/KG,,UMOL/KG,,,,ITS-90,PMOL/KG,,UG/KG,,UG/KG,,ITS-90,,KG/M3,,ITS-90,
49UP20180806_1,   P13,    38,  1,      0,      -9,0,20180811,2144,0005, 34.9627, 164.9882, 5898,      0.0,        0,  26.1825,  34.5230,2,    207.5,2,  34.5235,2,   207.01,2,     1.58,3,     0.15,2,     0.00,2,    0.020,3, -999.000,9, -999.000,9,   1969.1,2,   2272.4,2,   8.0702,2,    25.00, -999.000,9,     0.10,2,     0.04,2,  26.1819,2,  22.6168,2,-999.0000,9
49UP20180806_1,   P13,    38,  1,     36,     845,2,20180811,2144,0015, 34.9627, 164.9882, 5898,     11.8,       12,  26.1701,  34.5232,2,    207.5,2,  34.5229,2,   207.39,2,     1.57,3,     0.00,2,     0.00,2,    0.000,3,    1.742,2,    1.014,2,   1967.0,2,   2272.5,2,   8.0669,2,    25.00,    0.159,2,     0.10,2,     0.03,2,  26.1674,2,  22.6214,2,  26.1704,2
49UP20180806_1,   P13,    38,  1,     35,     844,2,20180811,2144,0012, 34.9627, 164.9882, 5898,     51.6,       51,  23.0992,  34.5610,2,    225.1,2,  34.5368,4,   224.99,2,     2.20,3,     0.00,2,     0.00,2,    0.010,3,    2.047,2,    1.161,2,   1984.9,2,   2276.3,2,   8.0413,2,    25.00,    0.153,2,     0.21,2,     0.09,2,  23.0886,2,  23.5751,2,  23.0943,2
49UP20180806_1,   P13,    38,  1,     34,     843,2,20180811,2144,0008, 34.9627, 164.9882, 5898,    101.0,      100,  18.4587,  34.5395,2,    235.7,2,  34.5367,2,   235.13,2,     3.24,3,     0.28,2,     0.04,2,    0.090,3,    2.415,2,    1.348,2,   2011.2,2,   2278.9,2,   8.0002,2,    25.00,    0.187,2,     0.26,2,     0.40,2,  18.4411,2,  24.8101,2,  18.4584,2
49UP20180806_1,   P13,    38,  1,     33,     842,2,20180811,2144,0007, 34.9627, 164.9882, 5898,    151.0,      150,  16.2244,  34.6687,2,    202.9,2,  34.6687,2,   202.66,2,     7.87,3,     6.79,2,     0.02,2,    0.460,3,    2.490,2,    1.392,2,   2061.0,6,   2284.9,6,   7.9171,2,    25.00,    0.101,2,     0.07,2,     0.06,2,  16.2003,2,  25.4468,2,  16.2228,2
49UP20180806_1,   P13,    38,  1,     32,     841,2,20180811,2144,0005, 34.9627, 164.9882, 5898,    204.9,      203,  14.5302,  34.5302,2,    217.6,2,  34.5300,2,   217.41,2,     9.63,3,     7.73,2,     0.02,2,    0.530,3,    2.730,2,    1.511,2,   2067.8,2,   2279.1,2,   7.8925,6,    25.00,    0.159,2,     0.05,2,     0.05,2,  14.4999,2,  25.7180,2,  14.5279,2
49UP20180806_1,   P13,    38,  1,     31,     840,2,20180811,2144,0003, 34.9627, 164.9882, 5898,    252.3,      250,  13.5348,  34.4516,2,    226.1,2,  34.4519,2,   225.87,6,    10.55,3,     8.21,6,     0.01,6,    0.570,3,    2.845,2,    1.600,2,   2072.2,2,   2276.0,2,   7.8780,2,    25.00,    0.178,2,  -999.00,9,  -999.00,9,  13.4993,2,  25.8670,2,  13.5328,2
49UP20180806_1,   P13,    38,  1,     30,     839,2,20180811,2144,0001, 34.9627, 164.9882, 5898,    304.7,      302,  12.5650,  34.3779,2,    222.3,2,  34.3737,2,   225.28,2,    13.03,3,     9.83,2,     0.01,2,    0.690,3,    2.949,2,    1.648,2,   2090.1,2,   2275.8,2,   7.8514,2,    25.00,    0.185,2,  -999.00,9,  -999.00,9,  12.5241,2,  26.0049,2,  12.5623,2
49UP20180806_1,   P13,    38,  1,     29,     838,2,20180811,2144,2358, 34.9627, 164.9882, 5898,    406.2,      403,  10.4473,  34.1998,2,    215.7,2,  34.2059,2,   215.44,2,    20.49,3,    14.46,2,     0.00,2,    1.010,3,    3.129,2,    1.704,2,   2112.2,2,   2274.3,2,   7.7804,2,    25.00,    0.164,2,  -999.00,9,  -999.00,9,  10.3988,2,  26.2586,2,  10.4564,2
49UP20180806_1,   P13,    38,  1,     28,     837,2,20180811,2144,2355, 34.9627, 164.9882, 5898,    506.8,      503,   7.9296,  34.0183,2,    181.4,2,  34.0196,2,   181.85,2,    38.00,3,    22.15,2,     0.00,2,    1.590,3,    3.115,2,    1.644,2,   2174.2,2,   2277.7,2,   7.6580,2,    25.00,    0.151,2,  -999.00,9,  -999.00,9,   7.8783,2,  26.5208,2,   7.9270,2
49UP20180806_1,   P13,    38,  1,     27,     661,2,20180811,2144,2352, 34.9627, 164.9882, 5898,    603.8,      599,   6.1169,  33.9639,2,    142.1,2,  33.9637,2,   141.43,2,    58.33,3,    29.37,2,     0.00,2,    2.110,3,    2.791,2,    1.397,2,   2220.6,2,   2289.0,2,   7.5391,2,    25.00,    0.146,2,  -999.00,9,  -999.00,9,   6.0637,2,  26.7259,2,   6.1198,2
49UP20180806_1,   P13,    38,  1,     26,     835,2,20180811,2144,2350, 34.9627, 164.9882, 5898,    706.4,      700,   5.1021,  34.0451,2,     98.2,2,  34.0449,2,    98.06,2,    79.48,3,    34.90,2,     0.00,2,    2.510,3,    2.068,2,    1.000,2,   2268.5,2,   2308.6,2,   7.4488,2,    25.00,    0.108,2,  -999.00,9,  -999.00,9,   5.0447,2,  26.9131,2,   5.1072,2
49UP20180806_1,   P13,    38,  1,     25,     834,2,20180811,2144,2347, 34.9627, 164.9882, 5898,    806.3,      799,   4.5431,  34.1265,2,     70.3,2,  34.1273,2,    70.27,2,    95.69,3,    38.17,2,     0.00,2,    2.740,3,    1.459,2,    0.688,2,   2301.0,2,   2327.6,2,   7.3979,2,    25.00,    0.075,2,  -999.00,9,  -999.00,9,   4.4804,2,  27.0406,2,   4.5437,2
49UP20180806_1,   P13,    38,  1,     24,     833,2,20180811,2144,2344, 34.9627, 164.9882, 5898,    908.7,      900,   4.0273,  34.2103,2,     49.9,2,  34.2095,2,    49.86,2,   110.96,3,    40.52,2,     0.00,2,    2.890,3,    0.931,2,    0.422,2,   2331.5,2,   2343.3,2,   7.3658,2,    25.00,    0.045,2,  -999.00,9,  -999.00,9,   3.9594,2,  27.1621,2,   4.0276,2
49UP20180806_1,   P13,    38,  1,     23,     832,2,20180811,2144,2341, 34.9627, 164.9882, 5898,   1011.3,     1002,   3.6074,  34.2783,2,     38.5,2,  34.2777,2,    38.88,2,   123.72,3,    41.93,2,     0.00,2,    2.980,3,    0.547,2,    0.245,2,   2350.5,2,   2357.5,2,   7.3482,2,    25.00,    0.021,2,  -999.00,9,  -999.00,9,   3.5342,2,  27.2587,2,   3.6072,2
49UP20180806_1,   P13,    38,  1,     22,     831,2,20180811,2144,2337, 34.9627, 164.9882, 5898,   1211.9,     1200,   3.0692,  34.3834,2,     34.4,2,  34.3835,2,    34.12,6,   139.93,3,    42.69,6,     0.00,6,    3.040,3,    0.227,2,    0.097,2,   2370.2,2,   2377.3,2,   7.3503,2,    25.00,    0.016,2,  -999.00,9,  -999.00,9,   2.9845,2,  27.3942,2,   3.0697,2
49UP20180806_1,   P13,    38,  1,     21,     830,2,20180811,2144,2331, 34.9627, 164.9882, 5898,   1415.4,     1400,   2.6649,  34.4563,2,     34.4,2,  34.4547,2,    34.26,2,   151.33,3,    43.11,2,     0.00,2,    3.060,3,    0.094,2,    0.040,2,   2381.3,2,   2392.8,2,   7.3591,2,    25.00,    0.000,2,  -999.00,9,  -999.00,9,   2.5680,2,  27.4893,2,   2.6642,2
49UP20180806_1,   P13,    38,  1,     20,     829,2,20180811,2144,2326, 34.9627, 164.9882, 5898,   1624.8,     1607,   2.3420,  34.5126,2,     42.9,2,  34.5120,6,    43.07,2,   160.12,3,    42.77,2,     0.00,2,    3.030,3,    0.045,2,    0.016,2,   2384.7,2,   2404.2,2,   7.3739,2,    25.00,    0.000,2,  -999.00,9,  -999.00,9,   2.2320,2,  27.5626,2,   2.3423,2
49UP20180806_1,   P13,    38,  1,     19,     828,2,20180811,2144,2321, 34.9627, 164.9882, 5898,   1821.1,     1800,   2.1836,  34.5481,2,     52.7,2,  34.5478,2,    52.22,2,   163.08,3,    42.19,2,     0.00,2,    2.980,3,    0.021,2,    0.008,2,   2381.4,2,   2411.2,2,   7.3954,2,    25.00,    0.000,2,  -999.00,9,  -999.00,9,   2.0597,2,  27.6049,2,   2.1837,2
49UP20180806_1,   P13,    38,  1,     18,     827,2,20180811,2144,2316, 34.9627, 164.9882, 5898,   2024.2,     2000,   2.0185,  34.5815,2,     66.4,2,  34.5820,2,    66.61,2,   165.00,3,    41.45,2,     0.00,2,    2.920,3,    0.003,2,    0.002,2,   2377.2,2,   2415.2,6,   7.4251,2,    25.00,    0.001,2,  -999.00,9,  -999.00,9,   1.8799,2,  27.6458,2,   2.0185,2
49UP20180806_1,   P13,    38,  1,     17,     826,2,20180811,2144,2311, 34.9627, 164.9882, 5898,   2227.8,     2200,   1.8937,  34.6057,2,     80.7,2,  34.6044,4,    80.73,2,   164.88,3,    40.61,2,     0.00,2,    2.860,3,   -0.000,2,    0.000,2,   2374.6,2,   2416.8,2,   7.4524,6,    25.00,    0.000,2,  -999.00,9,  -999.00,9,   1.7397,2,  27.6759,2,   1.8945,2
49UP20180806_1,   P13,    38,  1,     16,     825,2,20180811,2144,2306, 34.9627, 164.9882, 5898,   2427.8,     2396,   1.7725,  34.6252,2,     94.5,2,  34.6254,2,    94.68,2,   164.14,3,    39.62,2,     0.00,2,    2.790,3,    0.001,2,    0.000,2,   2371.0,2,   2419.9,2,   7.4773,2,    25.00,    0.005,2,  -999.00,9,  -999.00,9,   1.6030,2,  27.7018,2,   1.7727,2
49UP20180806_1,   P13,    38,  1,     15,     824,2,20180811,2144,2301, 34.9627, 164.9882, 5898,   2635.2,     2600,   1.6858,  34.6394,2,    105.9,2,  34.6388,2,   106.10,2,   162.61,3,    39.06,2,     0.00,2,    2.730,3,    0.008,2,    0.001,2,   2357.4,2,   2421.5,2,   7.4998,2,    25.00,    0.000,2,  -999.00,9,  -999.00,9,   1.4993,2,  27.7208,2,   1.6864,2
49UP20180806_1,   P13,    38,  1,     14,     823,2,20180811,2144,2256, 34.9627, 164.9882, 5898,   2839.7,     2800,   1.6276,  34.6492,2,    114.3,2,  34.6495,2,   114.25,2,   161.04,3,    38.41,2,     0.00,2,    2.680,3,    0.000,2,    0.000,2,   2350.2,2,   2423.4,2,   7.5159,2,    25.00,    0.001,2,  -999.00,9,  -999.00,9,   1.4233,2,  27.7342,2,   1.6276,2
49UP20180806_1,   P13,    38,  1,     13,     822,2,20180811,2144,2252, 34.9627, 164.9882, 5898,   3046.0,     3002,   1.5780,  34.6578,2,    122.5,2,  34.6579,2,   122.38,6,   159.90,3,    37.91,6,     0.00,6,    2.650,3, -999.000,9, -999.000,9,   2357.5,2,   2422.1,2,   7.5300,2,    25.00, -999.000,9,  -999.00,9,  -999.00,9,   1.3552,2,  27.7460,2,   1.5779,2
49UP20180806_1,   P13,    38,  1,     12,     821,2,20180811,2144,2246, 34.9627, 164.9882, 5898,   3300.9,     3252,   1.5454,  34.6649,2,    129.9,2,  34.6650,2,   130.23,2,   157.51,3,    37.40,2,     0.00,2,    2.600,3,    0.000,2,    0.000,2,   2340.5,2,   2421.2,2,   7.5457,2,    25.00,    0.000,2,  -999.00,9,  -999.00,9,   1.2984,2,  27.7557,2,   1.5453,2
49UP20180806_1,   P13,    38,  1,     11,     820,2,20180811,2144,2240, 34.9627, 164.9882, 5898,   3555.1,     3500,   1.5084,  34.6719,2,    137.4,2,  34.6688,4,   135.93,3,   155.98,3,    36.96,2,     0.00,2,    2.570,3, -999.000,9, -999.000,9,   2343.1,2,   2419.9,2,   7.5557,2,    25.00, -999.000,9,  -999.00,9,  -999.00,9,   1.2364,2,  27.7656,2,   1.5083,2
49UP20180806_1,   P13,    38,  1,     10,     819,2,20180811,2144,2235, 34.9627, 164.9882, 5898,   3812.3,     3751,   1.4880,  34.6770,2,    143.1,2,  34.6772,2,   142.80,2,   155.14,3,    36.56,2,     0.00,2,    2.530,3, -999.000,9, -999.000,9,   2333.2,2,   2420.5,2,   7.5661,2,    25.00, -999.000,9,  -999.00,9,  -999.00,9,   1.1897,2,  27.7730,2,   1.4881,2
49UP20180806_1,   P13,    38,  1,      9,     818,2,20180811,2144,2229, 34.9627, 164.9882, 5898,   4069.5,     4002,   1.4775,  34.6812,2,    148.0,2,  34.6805,6,   147.43,2,   154.22,3,    36.16,2,     0.00,2,    2.520,3,    0.000,2,    0.000,2,   2332.8,2,   2420.7,2,   7.5727,2,    25.00,    0.000,2,  -999.00,9,  -999.00,9,   1.1517,2,  27.7789,2,   1.4777,2
49UP20180806_1,   P13,    38,  1,      8,     817,2,20180811,2144,2223, 34.9627, 164.9882, 5898,   4327.7,     4253,   1.4785,  34.6844,2,    151.9,2,  34.6840,2,   151.66,2,   153.46,3,    35.97,2,     0.00,2,    2.490,3,    0.000,2,    0.000,2,   2325.7,2,   2420.7,2,   7.5808,2,    25.00,    0.000,2,  -999.00,9,  -999.00,9,   1.1239,2,  27.7834,2,   1.4786,2
49UP20180806_1,   P13,    38,  1,      7,     816,2,20180811,2144,2218, 34.9627, 164.9882, 5898,   4582.1,     4501,   1.4901,  34.6863,2,    154.5,2,  34.6827,4,   152.74,3,   152.30,3,    35.90,2,     0.00,2,    2.480,3,    0.001,2,    0.000,2,   2328.8,2,   2419.8,6,   7.5825,2,    25.00,    0.002,2,  -999.00,9,  -999.00,9,   1.1059,2,  27.7861,2,   1.4901,2
49UP20180806_1,   P13,    38,  1,      6,     815,2,20180811,2144,2212, 34.9627, 164.9882, 5898,   4841.5,     4753,   1.5070,  34.6882,2,    156.4,2,  34.6878,2,   156.47,2,   151.94,3,    35.60,2,     0.00,2,    2.470,3,    0.004,2,    0.001,2,   2325.3,2,   2418.2,2,   7.5893,6,    25.00,    0.021,3,  -999.00,9,  -999.00,9,   1.0917,2,  27.7886,2,   1.5071,2
49UP20180806_1,   P13,    38,  1,      5,     814,2,20180811,2144,2206, 34.9627, 164.9882, 5898,   5095.0,     4999,   1.5245,  34.6894,2,    158.8,2,  34.6881,2,   158.39,2,   150.28,3,    35.39,2,     0.00,2,    2.450,3,    0.004,2,    0.005,2,   2323.7,2,   2419.0,2,   7.5922,2,    25.00,    0.000,2,  -999.00,9,  -999.00,9,   1.0778,2,  27.7905,2,   1.5248,2
49UP20180806_1,   P13,    38,  1,      4,     813,2,20180811,2144,2200, 34.9627, 164.9882, 5898,   5354.1,     5250,   1.5337,  34.6912,2,    163.7,2,  34.6910,2,   163.77,6,   145.20,3,    35.03,6,     0.00,6,    2.420,3,    0.000,2,    0.000,2,   2313.6,2,   2415.6,2,   7.5967,2,    25.00,    0.001,2,  -999.00,9,  -999.00,9,   1.0544,2,  27.7936,2,   1.5338,2
49UP20180806_1,   P13,    38,  1,      3,     812,2,20180811,2144,2154, 34.9627, 164.9882, 5898,   5614.4,     5502,   1.5424,  34.6933,2,    167.7,2,  34.6926,2,   167.49,2,   141.30,3,    34.78,2,     0.00,2,    2.400,3,    0.000,2,    0.002,2,   2312.7,2,   2412.0,2,   7.6004,2,    25.00,    0.003,2,  -999.00,9,  -999.00,9,   1.0296,2,  27.7969,2,   1.5425,2
49UP20180806_1,   P13,    38,  1,      2,     811,2,20180811,2144,2149, 34.9627, 164.9882, 5898,   5871.1,     5750,   1.5585,  34.6948,2,    170.7,2,  34.6944,2,   170.85,2,   138.66,3,    34.60,2,     0.00,2,    2.390,3,    0.000,2,    0.000,2,   2309.9,2,   2411.1,2,   7.6061,2,    25.00,    0.000,2,  -999.00,9,  -999.00,9,   1.0115,2,  27.7993,2,   1.5585,2
49UP20180806_1,   P13,    38,  1,      1,     810,2,20180811,2144,2144, 34.9627, 164.9882, 5898,   6051.1,     5924,   1.5699,  34.6958,2,    173.1,2,  34.6957,6,   172.99,2,   136.47,3,    34.34,2,     0.00,2,    2.370,3,    0.004,2,   -0.000,2,   2306.6,2,   2408.7,2,   7.6078,2,    25.00,    0.007,2,  -999.00,9,  -999.00,9,   0.9984,2,  27.8011,2,   1.5699,2