BOTTLE,20191018JMAGEMD
EXPOCODE,SECT_ID,STNNBR,CASTNO,SAMPNO,BTLNBR,BTLNBR_FLAG_U,DATE,TIME,BTL_TIME,LATITUDE,LONGITUDE,DEPTH,CTDPRS,CTDDEP,CTDTMP,CTDSAL,CTDSAL_FLAG_W,CTDOXY,CTDOXY_FLAG_W,SALNTY,SALNTY_FLAG_W,OXYGEN,OXYGEN_FLAG_W,SILCAT,SILCAT_FLAG_W,NO2+NO3,NO2+NO3_FLAG_W,NITRIT,NITRIT_FLAG_W,PHSPHT,PHSPHT_FLAG_W,CFC-11,CFC-11_FLAG_W,CFC-12,CFC-12_FLAG_W,TCARBN,TCARBN_FLAG_W,ALKALI,ALKALI_FLAG_W,PH_TS,PH_TS_FLAG_W,PH_TS_TMP,CFC113,CFC113_FLAG_W,CHLORA,CHLORA_FLAG_W,PPHYTN,PPHYTN_FLAG_W,THETA,THETA_FLAG_W,SIGTHT,SIGTHT_FLAG_W,SBE35,SBE35_FLAG_W
,,,,,,,,UTC,,,,METER,DBAR,METERS,ITS-90,PSS-78,,UMOL/KG,,PSS78,,UMOL/KG,,UMOL/KG,,UMOL/KG,,UMOL/KG,,UMOL/KG,,PMOL/KG,,PMOL/KG,,UMOL/KG,,UMOL/KG,,,,ITS-90,PMOL/KG,,UG/KG,,UG/KG,,ITS-90,,KG/M3,,ITS-90,
49UP20180614_1,   P13,    18,  1,      0,      -9,0,20180626,1756,1942, 49.9892, 165.0027, 5485,      0.0,        0,   5.4642,  32.9596,2,    325.2,2,  32.9442,2,   324.35,2,    31.32,2,    19.61,2,     0.19,2,    1.650,2, -999.000,9, -999.000,9,   2093.0,2,   2232.0,2,   7.7640,2,    25.00, -999.000,9,     0.50,2,     0.17,2,   5.4640,2,  26.0049,2,-999.0000,9
49UP20180614_1,   P13,    18,  1,     36,     845,2,20180626,1756,2017, 49.9892, 165.0027, 5485,     10.8,       11,   5.4659,  32.9599,2,    324.8,2,  32.9624,2,   324.06,2,    32.42,2,    19.98,2,     0.19,2,    1.660,2,    4.249,6,    2.310,6,   2095.8,2,   2238.8,2,   7.7612,2,    25.00,    0.405,6,     0.49,2,     0.15,2,   5.4651,2,  26.0050,2,   5.4650,2
49UP20180614_1,   P13,    18,  1,     35,     844,2,20180626,1756,2016, 49.9892, 165.0027, 5485,     26.5,       26,   5.3809,  32.9753,2,    324.5,2,  32.9779,2,   324.30,2,    34.73,2,    20.71,2,     0.20,2,    1.710,2, -999.000,9, -999.000,9,   2097.3,2,   2239.1,2,   7.7494,2,    25.00, -999.000,9,     0.53,2,     0.18,2,   5.3789,2,  26.0272,2,   5.3750,2
49UP20180614_1,   P13,    18,  1,     34,     843,2,20180626,1756,2012, 49.9892, 165.0027, 5485,     51.2,       51,   3.2566,  33.0535,2,    328.1,2,  33.0601,4,   329.19,2,    34.51,2,    21.87,2,     0.29,2,    1.820,2,    4.601,2,    2.478,2,   2116.1,2,   2244.0,2,   7.7147,2,    25.00,    0.435,2,     0.37,2,     0.45,2,   3.2535,2,  26.3088,2,   3.2348,2
49UP20180614_1,   P13,    18,  1,     33,     842,2,20180626,1756,2011, 49.9892, 165.0027, 5485,     76.7,       76,   2.2232,  33.1700,2,    314.4,2,  33.1692,2,   315.08,2,    49.89,2,    28.17,2,     0.49,2,    2.210,2, -999.000,9, -999.000,9,   2155.3,2,   2246.0,2,   7.6053,2,    25.00, -999.000,9,     0.13,2,     0.10,2,   2.2192,2,  26.4889,2,   2.2255,2
49UP20180614_1,   P13,    18,  1,     32,     841,3,20180626,1756,2010, 49.9892, 165.0027, 5485,    101.2,      100,   2.2498,  33.2456,2,    275.2,2,  33.2491,2,   275.15,2,    55.77,2,    30.86,2,     0.34,2,    2.330,2,    4.271,2,    2.310,2,   2180.3,2,   2248.7,2,   7.5420,2,    25.00,    0.401,2,     0.03,2,     0.06,2,   2.2445,2,  26.5475,2,   2.2482,2
49UP20180614_1,   P13,    18,  1,     31,     840,3,20180626,1756,2008, 49.9892, 165.0027, 5485,    126.8,      126,   3.3191,  33.6432,2,    102.2,2,  33.6444,2,   103.27,2,    83.14,2,    40.54,2,     0.02,2,    2.900,2, -999.000,9, -999.000,9,   2290.9,2,   2279.6,2,   7.3135,2,    25.00, -999.000,9,     0.02,2,     0.06,2,   3.3113,2,  26.7737,2,   3.3211,2
49UP20180614_1,   P13,    18,  1,     30,     839,2,20180626,1756,2007, 49.9892, 165.0027, 5485,    151.9,      151,   3.7610,  33.8628,2,     33.7,2,  33.8648,4,    32.89,6,    95.67,6,    44.74,6,     0.03,6,    3.150,6,    2.016,2,    1.007,2,   2329.0,2,   2297.2,2,   7.2257,2,    25.00,    0.147,2,     0.01,2,     0.05,2,   3.7509,2,  26.9065,2,   3.7609,2
49UP20180614_1,   P13,    18,  1,     29,     838,2,20180626,1756,2005, 49.9892, 165.0027, 5485,    204.3,      202,   3.8039,  33.9933,2,     15.6,2,  33.9932,2,    15.20,2,   104.72,2,    45.13,2,     0.01,2,    3.180,2,    1.527,2,    0.723,2,   2346.2,2,   2313.1,2,   7.2265,2,    25.00,    0.094,2,     0.00,2,     0.03,2,   3.7902,2,  27.0065,2,   3.8034,2
49UP20180614_1,   P13,    18,  1,     28,     837,3,20180626,1756,2003, 49.9892, 165.0027, 5485,    255.3,      253,   3.7604,  34.0426,2,     14.5,2,  34.0409,2,    13.93,2,   108.89,2,    44.96,2,     0.01,2,    3.180,2,    1.309,2,    0.613,2,   2347.9,2,   2320.8,2,   7.2348,2,    25.00,    0.094,2,  -999.00,9,  -999.00,9,   3.7432,2,  27.0504,2,   3.7603,2
49UP20180614_1,   P13,    18,  1,     27,     661,2,20180626,1756,2001, 49.9892, 165.0027, 5485,    303.0,      300,   3.6762,  34.0925,2,     14.5,2,  34.0928,2,    13.81,2,   114.54,2,    44.75,2,     0.00,2,    3.150,2,    1.081,2,    0.497,2,   2358.3,2,   2328.6,2,   7.2426,2,    25.00,    0.069,2,  -999.00,9,  -999.00,9,   3.6558,2,  27.0988,2,   3.6779,2
49UP20180614_1,   P13,    18,  1,     26,     835,2,20180626,1756,1958, 49.9892, 165.0027, 5485,    404.3,      400,   3.5407,  34.1755,2,     13.9,2,  34.1757,2,    14.00,2,   122.85,2,    44.40,2,     0.00,2,    3.130,2,    1.153,3,    1.262,3,   2358.3,2,   2341.8,2,   7.2713,2,    25.00,    0.317,3,  -999.00,9,  -999.00,9,   3.5137,2,  27.1788,2,   3.5425,2
49UP20180614_1,   P13,    18,  1,     25,     834,2,20180626,1756,1955, 49.9892, 165.0027, 5485,    508.4,      503,   3.3692,  34.2472,2,     13.1,2,  34.2451,2,    13.33,2,   130.61,2,    44.38,2,     0.00,2,    3.130,2,    0.441,2,    0.202,2,   2373.7,2,   2354.1,2,   7.2757,2,    25.00,    0.023,2,  -999.00,9,  -999.00,9,   3.3354,2,  27.2530,2,   3.3692,2
49UP20180614_1,   P13,    18,  1,     24,     833,2,20180626,1756,1953, 49.9892, 165.0027, 5485,    605.7,      600,   3.1946,  34.2953,2,     14.1,2,  34.2956,2,    13.64,6,   137.19,6,    44.31,6,     0.00,6,    3.130,6,    0.297,2,    0.136,2,   2376.8,2,   2362.5,2,   7.2866,2,    25.00,    0.008,2,  -999.00,9,  -999.00,9,   3.1546,2,  27.3084,2,   3.1943,2
49UP20180614_1,   P13,    18,  1,     23,     832,3,20180626,1756,1950, 49.9892, 165.0027, 5485,    707.6,      700,   3.0664,  34.3303,2,     14.6,2,  34.3304,6,    15.10,2,   141.74,2,    44.29,2,     0.00,2,    3.130,2,    0.219,6,    0.098,6,   2376.8,2,   2371.3,2,   7.2916,2,    25.00,    0.002,6,  -999.00,9,  -999.00,9,   3.0198,2,  27.3486,2,   3.0662,2
49UP20180614_1,   P13,    18,  1,     22,     831,2,20180626,1756,1947, 49.9892, 165.0027, 5485,    809.2,      801,   2.8814,  34.3685,2,     16.2,2,  34.3677,2,    15.45,2,   148.05,2,    44.21,2,     0.00,2,    3.130,2,    0.161,2,    0.069,2,   2389.6,2,   2377.9,2,   7.3011,2,    25.00,    0.001,2,  -999.00,9,  -999.00,9,   2.8286,2,  27.3964,2,   2.8814,2
49UP20180614_1,   P13,    18,  1,     21,     830,2,20180626,1756,1944, 49.9892, 165.0027, 5485,    910.1,      900,   2.7146,  34.4075,2,     17.8,2,  34.4077,2,    16.90,6,   153.50,6,    44.21,6,     0.00,6,    3.120,6,    0.101,2,    0.041,2,   2386.7,2,   2386.1,2,   7.3051,2,    25.00,    0.006,2,  -999.00,9,  -999.00,9,   2.6556,2,  27.4428,2,   2.7136,2
49UP20180614_1,   P13,    18,  1,     20,     829,2,20180626,1756,1941, 49.9892, 165.0027, 5485,   1011.7,     1001,   2.5819,  34.4384,2,     20.6,2,  34.4390,2,    23.10,3,   157.29,2,    44.17,2,     0.00,2,    3.100,2,    0.069,2,    0.031,2,   2390.1,2,   2389.9,2,   7.3088,2,    25.00,    0.000,2,  -999.00,9,  -999.00,9,   2.5165,2,  27.4794,2,   2.5818,2
49UP20180614_1,   P13,    18,  1,     19,     828,2,20180626,1756,1936, 49.9892, 165.0027, 5485,   1214.7,     1201,   2.3229,  34.4928,2,     29.7,2,  34.4934,2,    30.04,2,   164.60,2,    43.70,2,     0.00,2,    3.060,2,    0.034,2,    0.007,2,   2390.5,2,   2399.4,2,   7.3361,6,    25.00,    0.005,2,  -999.00,9,  -999.00,9,   2.2448,2,  27.5457,2,   2.3230,2
49UP20180614_1,   P13,    18,  1,     18,     827,2,20180626,1756,1931, 49.9892, 165.0027, 5485,   1417.7,     1401,   2.1132,  34.5371,2,     42.1,2,  34.5376,2,    41.92,2,   170.04,2,    42.77,2,     0.00,2,    3.010,2,    0.024,2,    0.010,2,   2390.3,6,   2407.3,6,   7.3702,2,    25.00,    0.000,2,  -999.00,9,  -999.00,9,   2.0220,2,  27.5991,2,   2.1130,2
49UP20180614_1,   P13,    18,  1,     17,     826,3,20180626,1756,1927, 49.9892, 165.0027, 5485,   1621.1,     1601,   1.9812,  34.5675,2,     54.5,2,  34.5662,2,    55.08,2,   171.73,2,    41.95,2,     0.00,2,    2.960,2,    0.015,2,    0.011,2,   2382.8,2,   2411.1,2,   7.3940,6,    25.00,    0.000,2,  -999.00,9,  -999.00,9,   1.8759,2,  27.6349,2,   1.9811,2
49UP20180614_1,   P13,    18,  1,     16,     825,2,20180626,1756,1922, 49.9892, 165.0027, 5485,   1824.1,     1801,   1.8684,  34.5932,2,     68.3,2,  34.5933,2,    68.32,2,   171.68,2,    41.15,2,     0.00,2,    2.900,2,    0.000,2,    0.000,2,   2378.2,6,   2414.9,6,   7.4197,2,    25.00,    0.000,2,  -999.00,9,  -999.00,9,   1.7484,2,  27.6652,2,   1.8682,2
49UP20180614_1,   P13,    18,  1,     15,     824,2,20180626,1756,1918, 49.9892, 165.0027, 5485,   2027.8,     2001,   1.7697,  34.6133,2,     80.7,2,  34.6129,2,    80.51,2,   171.45,2,    40.53,2,     0.00,2,    2.840,2,    0.000,2,    0.002,2,   2370.5,2,   2418.3,2,   7.4486,2,    25.00,    0.000,2,  -999.00,9,  -999.00,9,   1.6346,2,  27.6899,2,   1.7696,2
49UP20180614_1,   P13,    18,  1,     14,     823,2,20180626,1756,1913, 49.9892, 165.0027, 5485,   2232.5,     2202,   1.6944,  34.6289,2,     92.5,2,  34.6290,6,    93.47,3,   169.91,2,    39.63,2,     0.00,2,    2.790,2,    0.000,2,    0.002,2,   2368.7,2,   2417.4,2,   7.4743,2,    25.00,    0.000,2,  -999.00,9,  -999.00,9,   1.5432,2,  27.7092,2,   1.6942,2
49UP20180614_1,   P13,    18,  1,     13,     822,2,20180626,1756,1908, 49.9892, 165.0027, 5485,   2435.3,     2400,   1.6302,  34.6414,2,    103.7,2,  34.6415,2,   104.08,2,   167.47,2,    39.02,2,     0.00,2,    2.740,2,    0.000,2,    0.003,2,   2356.3,2,   2417.4,2,   7.4887,2,    25.00,    0.001,2,  -999.00,9,  -999.00,9,   1.4626,2,  27.7251,2,   1.6301,2
49UP20180614_1,   P13,    18,  1,     12,     821,2,20180626,1756,1904, 49.9892, 165.0027, 5485,   2640.0,     2601,   1.5822,  34.6511,2,    113.5,2,  34.6515,2,   113.38,2,   164.39,2,    38.43,2,     0.00,2,    2.680,2,    0.168,3,    0.386,3,   2357.5,2,   2420.5,2,   7.5090,2,    25.00,    0.129,3,  -999.00,9,  -999.00,9,   1.3972,2,  27.7376,2,   1.5821,2
49UP20180614_1,   P13,    18,  1,     11,     820,2,20180626,1756,1859, 49.9892, 165.0027, 5485,   2842.3,     2799,   1.5452,  34.6587,2,    121.8,2,  34.6572,4,   121.63,2,   161.98,2,    37.97,2,     0.00,2,    2.640,2,    0.248,3,    0.585,3,   2345.0,2,   2419.3,2,   7.5230,2,    25.00,    0.171,3,  -999.00,9,  -999.00,9,   1.3424,2,  27.7476,2,   1.5451,2
49UP20180614_1,   P13,    18,  1,     10,     819,2,20180626,1756,1853, 49.9892, 165.0027, 5485,   3049.4,     3002,   1.5160,  34.6650,2,    128.6,2,  34.6654,2,   128.52,2,   159.79,6,    37.47,6,     0.00,6,    2.610,6, -999.000,9, -999.000,9,   2344.2,2,   2418.3,2,   7.5383,2,    25.00, -999.000,9,  -999.00,9,  -999.00,9,   1.2942,2,  27.7560,2,   1.5157,2
49UP20180614_1,   P13,    18,  1,      9,     818,2,20180626,1756,1843, 49.9892, 165.0027, 5485,   3562.2,     3502,   1.4739,  34.6759,2,    141.2,2,  34.6760,6,   141.49,2,   156.12,2,    36.73,2,     0.00,2,    2.540,2, -999.000,9, -999.000,9,   2339.8,2,   2420.3,2,   7.5608,2,    25.00, -999.000,9,  -999.00,9,  -999.00,9,   1.2021,2,  27.7712,2,   1.4739,2
49UP20180614_1,   P13,    18,  1,      8,     817,2,20180626,1756,1837, 49.9892, 165.0027, 5485,   3817.3,     3751,   1.4665,  34.6795,2,    146.1,2,  34.6792,2,   145.96,2,   154.70,2,    36.38,2,     0.00,2,    2.520,2,    0.332,3,    0.783,3,   2333.7,2,   2419.6,2,   7.5677,2,    25.00,    0.216,3,  -999.00,9,  -999.00,9,   1.1682,2,  27.7765,2,   1.4664,2
49UP20180614_1,   P13,    18,  1,      7,     816,2,20180626,1756,1831, 49.9892, 165.0027, 5485,   4074.1,     4001,   1.4664,  34.6827,2,    149.7,2,  34.6827,2,   149.62,2,   153.81,2,    36.20,2,     0.00,2,    2.500,2, -999.000,9, -999.000,9,   2332.4,2,   2417.1,2,   7.5755,2,    25.00, -999.000,9,  -999.00,9,  -999.00,9,   1.1404,2,  27.7809,2,   1.4665,2
49UP20180614_1,   P13,    18,  1,      6,     815,2,20180626,1756,1825, 49.9892, 165.0027, 5485,   4330.4,     4250,   1.4738,  34.6850,2,    152.7,2,  34.6850,2,   152.46,2,   153.02,2,    35.99,2,     0.00,2,    2.480,2, -999.000,9, -999.000,9,   2322.2,2,   2417.6,2,   7.5775,2,    25.00, -999.000,9,  -999.00,9,  -999.00,9,   1.1190,2,  27.7842,2,   1.4737,2
49UP20180614_1,   P13,    18,  1,      5,     814,2,20180626,1756,1820, 49.9892, 165.0027, 5485,   4588.6,     4501,   1.4862,  34.6869,2,    155.2,2,  34.6871,2,   155.20,2,   152.44,2,    35.82,2,     0.00,2,    2.470,2, -999.000,9, -999.000,9,   2328.6,2,   2417.8,2,   7.5844,2,    25.00, -999.000,9,  -999.00,9,  -999.00,9,   1.1014,2,  27.7869,2,   1.4860,2
49UP20180614_1,   P13,    18,  1,      4,     813,2,20180626,1756,1814, 49.9892, 165.0027, 5485,   4845.1,     4750,   1.5064,  34.6881,2,    156.6,2,  34.6883,2,   156.62,2,   152.21,2,    35.72,2,     0.00,2,    2.460,2,    0.269,3,    0.603,3,   2324.3,2,   2418.2,2,   7.5860,2,    25.00,    0.172,3,  -999.00,9,  -999.00,9,   1.0906,2,  27.7886,2,   1.5061,2
49UP20180614_1,   P13,    18,  1,      3,     812,2,20180626,1756,1808, 49.9892, 165.0027, 5485,   5103.5,     5000,   1.5307,  34.6893,2,    157.5,2,  34.6883,2,   157.28,2,   152.52,2,    35.63,2,     0.00,2,    2.460,2, -999.000,9, -999.000,9,   2317.6,2,   2417.0,2,   7.5888,2,    25.00, -999.000,9,  -999.00,9,  -999.00,9,   1.0827,2,  27.7902,2,   1.5307,2
49UP20180614_1,   P13,    18,  1,      2,     811,2,20180626,1756,1802, 49.9892, 165.0027, 5485,   5362.0,     5250,   1.5623,  34.6895,2,    157.5,2,  34.6896,2,   157.35,2,   153.94,2,    35.70,2,     0.00,2,    2.450,2, -999.000,9, -999.000,9,   2320.1,6,   2418.8,6,   7.5899,2,    25.00, -999.000,9,  -999.00,9,  -999.00,9,   1.0810,2,  27.7905,2,   1.5621,2
49UP20180614_1,   P13,    18,  1,      1,     810,2,20180626,1756,1757, 49.9892, 165.0027, 5485,   5595.2,     5476,   1.5899,  34.6899,2,    157.8,2,  34.6895,6,   157.82,2,   153.29,2,    35.61,2,     0.00,2,    2.450,2,    0.007,2,    0.005,2,   2318.8,2,   2416.5,2,   7.5906,6,    25.00,    0.001,2,  -999.00,9,  -999.00,9,   1.0778,2,  27.7910,2,   1.5898,2