BOTTLE,20191018JMAGEMD
EXPOCODE,SECT_ID,STNNBR,CASTNO,SAMPNO,BTLNBR,BTLNBR_FLAG_U,DATE,TIME,BTL_TIME,LATITUDE,LONGITUDE,DEPTH,CTDPRS,CTDDEP,CTDTMP,CTDSAL,CTDSAL_FLAG_W,CTDOXY,CTDOXY_FLAG_W,SALNTY,SALNTY_FLAG_W,OXYGEN,OXYGEN_FLAG_W,SILCAT,SILCAT_FLAG_W,NO2+NO3,NO2+NO3_FLAG_W,NITRIT,NITRIT_FLAG_W,PHSPHT,PHSPHT_FLAG_W,CFC-11,CFC-11_FLAG_W,CFC-12,CFC-12_FLAG_W,TCARBN,TCARBN_FLAG_W,ALKALI,ALKALI_FLAG_W,PH_TS,PH_TS_FLAG_W,PH_TS_TMP,CFC113,CFC113_FLAG_W,CHLORA,CHLORA_FLAG_W,PPHYTN,PPHYTN_FLAG_W,THETA,THETA_FLAG_W,SIGTHT,SIGTHT_FLAG_W,SBE35,SBE35_FLAG_W
,,,,,,,,UTC,,,,METER,DBAR,METERS,ITS-90,PSS-78,,UMOL/KG,,PSS78,,UMOL/KG,,UMOL/KG,,UMOL/KG,,UMOL/KG,,UMOL/KG,,PMOL/KG,,PMOL/KG,,UMOL/KG,,UMOL/KG,,,,ITS-90,PMOL/KG,,UG/KG,,UG/KG,,ITS-90,,KG/M3,,ITS-90,
49UP20180806_1,   P13,    39,  1,      0,      -9,0,20180812,0533,0743, 34.4762, 164.9902, 5976,      0.0,        0,  26.2838,  34.5769,2,    207.1,2,-999.0000,9,   207.39,2,     1.54,3,     0.05,2,     0.00,2,    0.020,3, -999.000,9, -999.000,9,   -999.0,9,   -999.0,9,-999.0000,9,  -999.00, -999.000,9,  -999.00,9,  -999.00,9,  26.2832,2,  22.6257,2,-999.0000,9
49UP20180806_1,   P13,    39,  1,     36,     845,2,20180812,0533,0809, 34.4762, 164.9902, 5976,     10.7,       11,  26.2821,  34.5784,2,    206.8,2,  34.5772,2,   207.45,2,     1.58,3,     0.00,2,     0.00,2,    0.000,3, -999.000,9, -999.000,9,   -999.0,9,   -999.0,9,-999.0000,9,  -999.00, -999.000,9,  -999.00,9,  -999.00,9,  26.2797,2,  22.6280,2,  26.2817,2
49UP20180806_1,   P13,    39,  1,     35,     844,2,20180812,0533,0807, 34.4762, 164.9902, 5976,     52.1,       52,  23.3959,  34.4941,2,    224.9,2,  34.5022,2,   224.60,2,     1.99,3,     0.05,2,     0.00,2,    0.010,3, -999.000,9, -999.000,9,   -999.0,9,   -999.0,9,-999.0000,9,  -999.00, -999.000,9,  -999.00,9,  -999.00,9,  23.3852,2,  23.4386,2,  23.2108,2
49UP20180806_1,   P13,    39,  1,     34,     843,2,20180812,0533,0803, 34.4762, 164.9902, 5976,    101.6,      101,  16.7894,  34.5516,2,    270.1,2,  34.5518,2,   268.74,2,     4.38,3,     0.00,2,     0.00,2,    0.070,3, -999.000,9, -999.000,9,   -999.0,9,   -999.0,9,-999.0000,9,  -999.00, -999.000,9,  -999.00,9,  -999.00,9,  16.7728,2,  25.2237,2,  16.8107,2
49UP20180806_1,   P13,    39,  1,     33,     842,2,20180812,0533,0801, 34.4762, 164.9902, 5976,    151.0,      150,  14.7757,  34.5501,2,    216.5,2,  34.5461,2,   216.98,2,     9.37,3,     7.52,2,     0.02,2,    0.510,3, -999.000,9, -999.000,9,   -999.0,9,   -999.0,9,-999.0000,9,  -999.00, -999.000,9,  -999.00,9,  -999.00,9,  14.7532,2,  25.6788,2,  14.7762,2
49UP20180806_1,   P13,    39,  1,     32,     841,2,20180812,0533,0759, 34.4762, 164.9902, 5976,    203.0,      201,  13.6259,  34.4489,2,    225.3,2,  34.4479,2,   225.10,6,    10.46,3,     8.17,6,     0.01,6,    0.570,3, -999.000,9, -999.000,9,   -999.0,9,   -999.0,9,-999.0000,9,  -999.00, -999.000,9,  -999.00,9,  -999.00,9,  13.5972,2,  25.8448,2,  13.6252,2
49UP20180806_1,   P13,    39,  1,     31,     840,2,20180812,0533,0757, 34.4762, 164.9902, 5976,    253.3,      251,  12.8533,  34.4038,2,    224.4,2,  34.4059,2,   224.38,2,    12.73,3,     9.48,2,     0.01,2,    0.660,3, -999.000,9, -999.000,9,   -999.0,9,   -999.0,9,-999.0000,9,  -999.00, -999.000,9,  -999.00,9,  -999.00,9,  12.8188,2,  25.9670,2,  12.8519,2
49UP20180806_1,   P13,    39,  1,     30,     839,2,20180812,0533,0754, 34.4762, 164.9902, 5976,    336.6,      334,  11.1081,  34.2686,2,    211.5,2,  34.2762,2,   211.63,2,    19.10,3,    13.51,2,     0.01,2,    0.950,3, -999.000,9, -999.000,9,   -999.0,9,   -999.0,9,-999.0000,9,  -999.00, -999.000,9,  -999.00,9,  -999.00,9,  11.0664,2,  26.1939,2,  11.1088,2
49UP20180806_1,   P13,    39,  1,     29,     838,2,20180812,0533,0751, 34.4762, 164.9902, 5976,    435.1,      432,   8.9800,  34.0775,2,    201.5,2,  34.0822,2,   201.46,2,    28.73,3,    18.29,2,     0.00,2,    1.310,3, -999.000,9, -999.000,9,   -999.0,9,   -999.0,9,-999.0000,9,  -999.00, -999.000,9,  -999.00,9,  -999.00,9,   8.9328,2,  26.4064,2,   8.9742,2
49UP20180806_1,   P13,    39,  1,     28,     837,3,20180812,0533,0748, 34.4762, 164.9902, 5976,    537.6,      533,   6.7740,  33.9654,2,    161.3,2,  33.9710,2,   161.55,2,    49.00,3,    26.02,2,     0.00,2,    1.900,3, -999.000,9, -999.000,9,   -999.0,9,   -999.0,9,-999.0000,9,  -999.00, -999.000,9,  -999.00,9,  -999.00,9,   6.7242,2,  26.6411,2,   6.7759,2
49UP20180806_1,   P13,    39,  1,     27,     661,2,20180812,0533,0745, 34.4762, 164.9902, 5976,    637.2,      632,   5.3991,  34.0077,2,    113.6,2,  34.0026,2,   114.42,2,    71.78,3,    32.94,2,     0.00,2,    2.390,3, -999.000,9, -999.000,9,   -999.0,9,   -999.0,9,-999.0000,9,  -999.00, -999.000,9,  -999.00,9,  -999.00,9,   5.3462,2,  26.8483,2,   5.3992,2
49UP20180806_1,   P13,    39,  1,     26,     835,2,20180812,0533,0742, 34.4762, 164.9902, 5976,    737.8,      731,   4.6933,  34.0962,2,     78.8,2,  34.0957,2,    79.53,2,    90.77,3,    37.16,2,     0.00,2,    2.680,3, -999.000,9, -999.000,9,   -999.0,9,   -999.0,9,-999.0000,9,  -999.00, -999.000,9,  -999.00,9,  -999.00,9,   4.6355,2,  26.9997,2,   4.6947,2
49UP20180806_1,   P13,    39,  1,     25,     834,2,20180812,0533,0739, 34.4762, 164.9902, 5976,    838.2,      831,   4.1480,  34.1782,2,     55.0,2,  34.1772,2,    55.73,2,   106.62,3,    39.91,2,     0.00,2,    2.860,3, -999.000,9, -999.000,9,   -999.0,9,   -999.0,9,-999.0000,9,  -999.00, -999.000,9,  -999.00,9,  -999.00,9,   4.0851,2,  27.1236,2,   4.1497,2
49UP20180806_1,   P13,    39,  1,     24,     833,4,20180812,0533,0736, 34.4762, 164.9902, 5976,    941.1,      932,   3.7164,  34.2513,2,     40.9,2,-999.0000,9,  -999.00,9,  -999.00,9,  -999.00,9,  -999.00,9, -999.000,9, -999.000,9, -999.000,9,   -999.0,9,   -999.0,9,-999.0000,9,  -999.00, -999.000,9,  -999.00,9,  -999.00,9,   3.6481,2,  27.2260,2,   3.7175,2
49UP20180806_1,   P13,    39,  1,     23,     832,2,20180812,0533,0732, 34.4762, 164.9902, 5976,   1084.9,     1074,   3.3279,  34.3443,2,     33.8,2,  34.3432,2,    34.07,6,   132.33,3,    42.42,6,     0.00,6,    3.040,3, -999.000,9, -999.000,9,   -999.0,9,   -999.0,9,-999.0000,9,  -999.00, -999.000,9,  -999.00,9,  -999.00,9,   3.2511,2,  27.3384,2,   3.3276,2
49UP20180806_1,   P13,    39,  1,     22,     831,2,20180812,0533,0727, 34.4762, 164.9902, 5976,   1285.8,     1273,   2.8448,  34.4248,2,     32.4,2,  34.4247,2,    32.23,2,   146.79,3,    43.02,2,     0.00,2,    3.070,3, -999.000,9, -999.000,9,   -999.0,9,   -999.0,9,-999.0000,9,  -999.00, -999.000,9,  -999.00,9,  -999.00,9,   2.7564,2,  27.4478,2,   2.8452,2
49UP20180806_1,   P13,    39,  1,     21,     830,2,20180812,0533,0722, 34.4762, 164.9902, 5976,   1486.3,     1470,   2.5218,  34.4870,2,     38.3,2,  34.4852,2,    37.86,2,   155.82,3,    42.72,2,     0.00,2,    3.050,3, -999.000,9, -999.000,9,   -999.0,9,   -999.0,9,-999.0000,9,  -999.00, -999.000,9,  -999.00,9,  -999.00,9,   2.4208,2,  27.5264,2,   2.5217,2
49UP20180806_1,   P13,    39,  1,     20,     829,2,20180812,0533,0717, 34.4762, 164.9902, 5976,   1690.4,     1672,   2.2498,  34.5316,2,     47.3,2,  34.5315,2,    46.67,2,   162.77,3,    42.55,2,     0.00,2,    3.010,3, -999.000,9, -999.000,9,   -999.0,9,   -999.0,9,-999.0000,9,  -999.00, -999.000,9,  -999.00,9,  -999.00,9,   2.1356,2,  27.5856,2,   2.2490,2
49UP20180806_1,   P13,    39,  1,     19,     828,2,20180812,0533,0712, 34.4762, 164.9902, 5976,   1891.9,     1870,   2.0737,  34.5647,2,     58.4,2,  34.5649,6,    58.03,2,   165.73,3,    41.78,2,     0.00,2,    2.960,3, -999.000,9, -999.000,9,   -999.0,9,   -999.0,9,-999.0000,9,  -999.00, -999.000,9,  -999.00,9,  -999.00,9,   1.9454,2,  27.6272,2,   2.0738,2
49UP20180806_1,   P13,    39,  1,     18,     827,2,20180812,0533,0707, 34.4762, 164.9902, 5976,   2098.3,     2073,   1.9210,  34.5973,2,     75.0,2,  34.5976,2,    74.64,2,   165.51,3,    40.94,2,     0.00,2,    2.880,3, -999.000,9, -999.000,9,   -999.0,9,   -999.0,9,-999.0000,9,  -999.00, -999.000,9,  -999.00,9,  -999.00,9,   1.7777,2,  27.6663,2,   1.9211,2
49UP20180806_1,   P13,    39,  1,     17,     826,2,20180812,0533,0701, 34.4762, 164.9902, 5976,   2301.4,     2272,   1.8042,  34.6192,2,     90.0,2,  34.6172,4,    89.51,2,   163.87,3,    39.83,2,     0.00,2,    2.810,3, -999.000,9, -999.000,9,   -999.0,9,   -999.0,9,-999.0000,9,  -999.00, -999.000,9,  -999.00,9,  -999.00,9,   1.6453,2,  27.6939,2,   1.8044,2
49UP20180806_1,   P13,    39,  1,     16,     825,2,20180812,0533,0656, 34.4762, 164.9902, 5976,   2505.7,     2473,   1.7147,  34.6339,2,    101.5,2,  34.6345,2,   101.51,2,   163.08,3,    39.03,2,     0.00,2,    2.750,3, -999.000,9, -999.000,9,   -999.0,9,   -999.0,9,-999.0000,9,  -999.00, -999.000,9,  -999.00,9,  -999.00,9,   1.5394,2,  27.7135,2,   1.7149,2
49UP20180806_1,   P13,    39,  1,     15,     824,2,20180812,0533,0650, 34.4762, 164.9902, 5976,   2714.6,     2678,   1.6433,  34.6454,2,    111.0,2,  34.6440,2,   110.21,2,   161.79,3,    38.67,2,     0.00,2,    2.700,3, -999.000,9, -999.000,9,   -999.0,9,   -999.0,9,-999.0000,9,  -999.00, -999.000,9,  -999.00,9,  -999.00,9,   1.4504,2,  27.7292,2,   1.6434,2
49UP20180806_1,   P13,    39,  1,     14,     823,2,20180812,0533,0645, 34.4762, 164.9902, 5976,   2906.8,     2866,   1.5940,  34.6537,2,    118.6,2,  34.6540,2,   118.53,6,   160.72,3,    38.08,6,     0.00,6,    2.670,3, -999.000,9, -999.000,9,   -999.0,9,   -999.0,9,-999.0000,9,  -999.00, -999.000,9,  -999.00,9,  -999.00,9,   1.3841,2,  27.7406,2,   1.5940,2
49UP20180806_1,   P13,    39,  1,     13,     822,2,20180812,0533,0640, 34.4762, 164.9902, 5976,   3126.6,     3081,   1.5520,  34.6625,2,    127.8,2,  34.6632,2,   128.12,2,   158.04,3,    37.50,2,     0.00,2,    2.620,3, -999.000,9, -999.000,9,   -999.0,9,   -999.0,9,-999.0000,9,  -999.00, -999.000,9,  -999.00,9,  -999.00,9,   1.3220,2,  27.7521,2,   1.5525,2
49UP20180806_1,   P13,    39,  1,     12,     821,2,20180812,0533,0634, 34.4762, 164.9902, 5976,   3382.1,     3331,   1.5222,  34.6695,2,    135.6,2,  34.6697,2,   135.50,2,   155.59,3,    37.02,2,     0.00,2,    2.590,3, -999.000,9, -999.000,9,   -999.0,9,   -999.0,9,-999.0000,9,  -999.00, -999.000,9,  -999.00,9,  -999.00,9,   1.2675,2,  27.7615,2,   1.5222,2
49UP20180806_1,   P13,    39,  1,     11,     820,2,20180812,0533,0628, 34.4762, 164.9902, 5976,   3635.2,     3578,   1.4972,  34.6745,2,    141.1,2,  34.6741,6,   140.42,2,   155.03,3,    36.79,2,     0.00,2,    2.560,3, -999.000,9, -999.000,9,   -999.0,9,   -999.0,9,-999.0000,9,  -999.00, -999.000,9,  -999.00,9,  -999.00,9,   1.2173,2,  27.7690,2,   1.4972,2
49UP20180806_1,   P13,    39,  1,     10,     819,2,20180812,0533,0622, 34.4762, 164.9902, 5976,   3886.8,     3824,   1.4848,  34.6784,2,    145.3,2,  34.6787,2,   145.29,2,   154.05,3,    36.27,2,     0.00,2,    2.530,3, -999.000,9, -999.000,9,   -999.0,9,   -999.0,9,-999.0000,9,  -999.00, -999.000,9,  -999.00,9,  -999.00,9,   1.1786,2,  27.7748,2,   1.4847,2
49UP20180806_1,   P13,    39,  1,      9,     818,3,20180812,0533,0617, 34.4762, 164.9902, 5976,   4144.8,     4075,   1.4782,  34.6822,2,    150.2,2,  34.6820,2,   149.68,2,   152.55,3,    36.04,2,     0.00,2,    2.510,3, -999.000,9, -999.000,9,   -999.0,9,   -999.0,9,-999.0000,9,  -999.00, -999.000,9,  -999.00,9,  -999.00,9,   1.1441,2,  27.7802,2,   1.4782,2
49UP20180806_1,   P13,    39,  1,      8,     817,2,20180812,0533,0612, 34.4762, 164.9902, 5976,   4402.8,     4326,   1.4836,  34.6846,2,    153.2,2,  34.6835,2,   153.10,2,   151.51,3,    35.71,2,     0.00,2,    2.490,3, -999.000,9, -999.000,9,   -999.0,9,   -999.0,9,-999.0000,9,  -999.00, -999.000,9,  -999.00,9,  -999.00,9,   1.1203,2,  27.7838,2,   1.4837,2
49UP20180806_1,   P13,    39,  1,      7,     816,2,20180812,0533,0606, 34.4762, 164.9902, 5976,   4664.7,     4581,   1.4937,  34.6869,2,    156.2,2,  34.6845,4,   154.41,3,   150.67,3,    35.69,2,     0.00,2,    2.480,3, -999.000,9, -999.000,9,   -999.0,9,   -999.0,9,-999.0000,9,  -999.00, -999.000,9,  -999.00,9,  -999.00,9,   1.0998,2,  27.7871,2,   1.4936,2
49UP20180806_1,   P13,    39,  1,      6,     815,2,20180812,0533,0601, 34.4762, 164.9902, 5976,   4919.3,     4828,   1.5067,  34.6886,2,    158.7,2,  34.6888,2,   158.41,2,   149.71,3,    35.39,2,     0.00,2,    2.460,3, -999.000,9, -999.000,9,   -999.0,9,   -999.0,9,-999.0000,9,  -999.00, -999.000,9,  -999.00,9,  -999.00,9,   1.0821,2,  27.7896,2,   1.5066,2
49UP20180806_1,   P13,    39,  1,      5,     814,2,20180812,0533,0555, 34.4762, 164.9902, 5976,   5175.4,     5077,   1.5157,  34.6907,2,    163.4,2,  34.6901,2,   163.14,6,   144.82,3,    35.00,6,     0.00,6,    2.430,3, -999.000,9, -999.000,9,   -999.0,9,   -999.0,9,-999.0000,9,  -999.00, -999.000,9,  -999.00,9,  -999.00,9,   1.0594,2,  27.7928,2,   1.5157,2
49UP20180806_1,   P13,    39,  1,      4,     813,2,20180812,0533,0549, 34.4762, 164.9902, 5976,   5432.4,     5326,   1.5249,  34.6926,2,    167.3,2,  34.6922,2,   167.49,2,   141.25,3,    34.71,2,     0.00,2,    2.410,3, -999.000,9, -999.000,9,   -999.0,9,   -999.0,9,-999.0000,9,  -999.00, -999.000,9,  -999.00,9,  -999.00,9,   1.0360,2,  27.7959,2,   1.5248,2
49UP20180806_1,   P13,    39,  1,      3,     812,2,20180812,0533,0544, 34.4762, 164.9902, 5976,   5694.7,     5580,   1.5418,  34.6941,2,    170.2,2,  34.6930,2,   169.05,3,   139.91,3,    34.66,2,     0.00,2,    2.400,3, -999.000,9, -999.000,9,   -999.0,9,   -999.0,9,-999.0000,9,  -999.00, -999.000,9,  -999.00,9,  -999.00,9,   1.0186,2,  27.7983,2,   1.5418,2
49UP20180806_1,   P13,    39,  1,      2,     811,2,20180812,0533,0538, 34.4762, 164.9902, 5976,   5955.7,     5832,   1.5627,  34.6952,2,    172.4,2,  34.6953,2,   172.52,2,   137.75,3,    34.39,2,     0.00,2,    2.380,3, -999.000,9, -999.000,9,   -999.0,9,   -999.0,9,-999.0000,9,  -999.00, -999.000,9,  -999.00,9,  -999.00,9,   1.0043,2,  27.8001,2,   1.5625,2
49UP20180806_1,   P13,    39,  1,      1,     810,2,20180812,0533,0534, 34.4762, 164.9902, 5976,   6134.2,     6005,   1.5779,  34.6959,2,    173.7,2,  34.6947,4,   172.57,3,   137.05,3,    34.44,2,     0.00,2,    2.380,3, -999.000,9, -999.000,9,   -999.0,9,   -999.0,9,-999.0000,9,  -999.00, -999.000,9,  -999.00,9,  -999.00,9,   0.9949,2,  27.8013,2,   1.5779,2