BOTTLE,20191018JMAGEMD
EXPOCODE,SECT_ID,STNNBR,CASTNO,SAMPNO,BTLNBR,BTLNBR_FLAG_U,DATE,TIME,BTL_TIME,LATITUDE,LONGITUDE,DEPTH,CTDPRS,CTDDEP,CTDTMP,CTDSAL,CTDSAL_FLAG_W,CTDOXY,CTDOXY_FLAG_W,SALNTY,SALNTY_FLAG_W,OXYGEN,OXYGEN_FLAG_W,SILCAT,SILCAT_FLAG_W,NO2+NO3,NO2+NO3_FLAG_W,NITRIT,NITRIT_FLAG_W,PHSPHT,PHSPHT_FLAG_W,CFC-11,CFC-11_FLAG_W,CFC-12,CFC-12_FLAG_W,TCARBN,TCARBN_FLAG_W,ALKALI,ALKALI_FLAG_W,PH_TS,PH_TS_FLAG_W,PH_TS_TMP,CFC113,CFC113_FLAG_W,CHLORA,CHLORA_FLAG_W,PPHYTN,PPHYTN_FLAG_W,THETA,THETA_FLAG_W,SIGTHT,SIGTHT_FLAG_W,SBE35,SBE35_FLAG_W
,,,,,,,,UTC,,,,METER,DBAR,METERS,ITS-90,PSS-78,,UMOL/KG,,PSS78,,UMOL/KG,,UMOL/KG,,UMOL/KG,,UMOL/KG,,UMOL/KG,,PMOL/KG,,PMOL/KG,,UMOL/KG,,UMOL/KG,,,,ITS-90,PMOL/KG,,UG/KG,,UG/KG,,ITS-90,,KG/M3,,ITS-90,
49UP20180806_1,   P13,    60,  1,      0,      -9,0,20180820,2139,2340, 16.9933, 164.9972, 5406,      0.0,        0,  29.3471,  34.2107,2,    196.4,2,  34.2054,2,   196.59,2,     1.03,3,     0.00,2,     0.00,2,    0.080,3, -999.000,9, -999.000,9,   1931.5,2,   2248.8,2,   8.1066,2,    25.00, -999.000,9,     0.05,2,     0.02,2,  29.3465,2,  21.3556,2,-999.0000,9
49UP20180806_1,   P13,    60,  1,     36,     845,2,20180820,2139,0000, 16.9933, 164.9972, 5406,     11.8,       12,  29.3458,  34.2108,2,    196.4,2,  34.2109,2,   196.50,2,     1.03,3,     0.00,2,     0.00,2,    0.060,3,    1.483,2,    0.851,2,   1923.5,2,   2250.6,2,   8.1071,2,    25.00,    0.135,2,     0.05,2,     0.02,2,  29.3430,2,  21.3569,2,  29.3461,2
49UP20180806_1,   P13,    60,  1,     35,     844,2,20180820,2139,2357, 16.9933, 164.9972, 5406,     50.8,       50,  28.4167,  34.6703,2,    207.6,2,  34.6647,2,   206.97,2,     0.99,3,     0.00,2,     0.00,2,    0.060,3,    1.600,2,    0.898,2,   1960.4,2,   2277.8,2,   8.1035,2,    25.00,    0.128,2,     0.07,2,     0.02,2,  28.4046,2,  22.0140,2,  28.4205,2
49UP20180806_1,   P13,    60,  1,     34,     843,2,20180820,2139,2355, 16.9933, 164.9972, 5406,    100.7,      100,  26.1532,  34.9866,2,    208.5,2,  34.9846,2,   208.73,2,     1.10,3,     0.00,2,     0.00,2,    0.060,3,    1.706,6,    0.957,6,   1984.3,2,   2302.5,2,   8.0866,2,    25.00,    0.143,6,     0.13,2,     0.09,2,  26.1306,2,  22.9825,2,  26.1548,2
49UP20180806_1,   P13,    60,  1,     33,     842,2,20180820,2139,2353, 16.9933, 164.9972, 5406,    152.3,      151,  23.9096,  35.0926,2,    192.1,2,  35.0897,2,   192.31,2,     1.43,3,     0.18,2,     0.16,2,    0.120,3,    1.848,2,    1.058,2,   2029.4,2,   2310.4,2,   8.0279,2,    25.00,    0.132,2,     0.12,2,     0.31,2,  23.8776,2,  23.7477,2,  23.9133,2
49UP20180806_1,   P13,    60,  1,     32,     841,2,20180820,2139,2351, 16.9933, 164.9972, 5406,    203.1,      202,  20.0918,  34.9346,2,    178.2,2,  34.9431,2,   178.15,2,     3.05,3,     3.07,2,     0.01,2,    0.340,3,    2.162,2,    1.217,2,   2071.3,2,   2303.5,2,   7.9312,2,    25.00,    0.051,2,     0.02,2,     0.09,2,  20.0541,2,  24.6976,2,  20.1039,2
49UP20180806_1,   P13,    60,  1,     31,     840,2,20180820,2139,2349, 16.9933, 164.9972, 5406,    251.2,      250,  16.3521,  34.6505,2,    185.1,2,  34.6503,2,   184.85,2,     6.11,3,     6.93,2,     0.01,2,    0.540,3,    2.511,2,    1.379,2,   2086.1,2,   2283.1,2,   7.8737,2,    25.00,    0.025,2,  -999.00,9,  -999.00,9,  16.3118,2,  25.4071,2,  16.3504,2
49UP20180806_1,   P13,    60,  1,     30,     839,2,20180820,2139,2347, 16.9933, 164.9972, 5406,    302.7,      301,  13.2312,  34.3748,2,    172.6,2,  34.3758,2,   172.13,6,    12.66,3,    12.77,6,     0.00,6,    0.960,3,    2.756,2,    1.487,2,   2117.8,2,   2272.1,2,   7.7772,2,    25.00,    0.042,2,  -999.00,9,  -999.00,9,  13.1891,2,  25.8705,2,  13.2244,2
49UP20180806_1,   P13,    60,  1,     29,     838,2,20180820,2139,2345, 16.9933, 164.9972, 5406,    351.6,      349,  11.3644,  34.2614,2,    157.7,2,  34.2612,2,   157.59,2,    19.67,3,    17.67,2,     0.00,2,    1.310,3, -999.000,9, -999.000,9,   2136.7,2,   2269.4,2,   7.7040,2,    25.00, -999.000,9,  -999.00,9,  -999.00,9,  11.3202,2,  26.1422,2,  11.3621,2
49UP20180806_1,   P13,    60,  1,     28,     837,2,20180820,2139,2343, 16.9933, 164.9972, 5406,    403.5,      401,   9.7408,  34.2370,2,    117.1,2,  34.2368,2,   116.55,2,    30.91,3,    24.36,2,     0.00,2,    1.820,3,    2.370,2,    1.155,2,   2193.9,2,   2278.0,2,   7.5918,2,    25.00,    0.046,2,  -999.00,9,  -999.00,9,   9.6947,2,  26.4075,2,   9.7405,2
49UP20180806_1,   P13,    60,  1,     27,     661,2,20180820,2139,2341, 16.9933, 164.9972, 5406,    452.9,      450,   8.3746,  34.2035,2,     99.9,2,  34.2079,2,    97.70,2,    42.07,3,    28.67,2,     0.00,2,    2.110,3, -999.000,9, -999.000,9,   2219.4,2,   2284.4,2,   7.5314,2,    25.00, -999.000,9,  -999.00,9,  -999.00,9,   8.3273,2,  26.5991,2,   8.3686,2
49UP20180806_1,   P13,    60,  1,     26,     835,2,20180820,2139,2339, 16.9933, 164.9972, 5406,    504.1,      500,   7.3249,  34.2108,2,     77.7,2,  34.2096,2,    77.44,2,    53.85,3,    32.75,2,     0.00,2,    2.390,3,    1.434,2,    0.649,2,   2250.5,2,   2295.7,2,   7.4740,2,    25.00,    0.023,2,  -999.00,9,  -999.00,9,   7.2760,2,  26.7587,2,   7.3256,2
49UP20180806_1,   P13,    60,  1,     25,     834,2,20180820,2139,2336, 16.9933, 164.9972, 5406,    606.8,      602,   6.3028,  34.3300,2,     58.3,2,  34.3255,2,    58.23,2,    68.60,3,    36.70,2,     0.00,2,    2.660,3,    0.539,2,    0.241,2,   2281.8,2,   2316.6,6,   7.4415,2,    25.00,    0.018,2,  -999.00,9,  -999.00,9,   6.2481,2,  26.9915,2,   6.3028,2
49UP20180806_1,   P13,    60,  1,     23,     832,2,20180820,2139,2333, 16.9933, 164.9972, 5406,    708.6,      703,   5.6459,  34.4297,2,     60.9,2,  34.4265,2,    60.64,2,    78.54,3,    38.12,2,     0.00,2,    2.750,3,    0.210,2,    0.092,2,   2299.6,2,   2335.2,2,   7.4493,6,    25.00,    0.001,2,  -999.00,9,  -999.00,9,   5.5850,2,  27.1537,2,   5.6463,2
49UP20180806_1,   P13,    60,  1,     22,     831,2,20180820,2139,2330, 16.9933, 164.9972, 5406,    807.4,      801,   5.0840,  34.4850,2,     60.8,2,  34.4837,6,    60.87,2,    87.32,3,    39.24,2,     0.00,2,    2.820,3,    0.084,2,    0.027,2,   2311.7,2,   2348.8,2,   7.4521,2,    25.00,    0.003,2,  -999.00,9,  -999.00,9,   5.0174,2,  27.2650,2,   5.0831,2
49UP20180806_1,   P13,    60,  1,     21,     830,2,20180820,2139,2328, 16.9933, 164.9972, 5406,    910.7,      903,   4.7104,  34.5110,2,     66.2,2,  34.5114,2,    66.51,2,    93.51,3,    39.55,2,     0.00,2,    2.830,3,    0.055,2,    0.017,2,   2314.4,2,   2358.9,2,   7.4564,2,    25.00,    0.003,2,  -999.00,9,  -999.00,9,   4.6371,2,  27.3287,2,   4.7105,2
49UP20180806_1,   P13,    60,  1,     20,     829,3,20180820,2139,2325, 16.9933, 164.9972, 5406,   1010.1,     1002,   4.3294,  34.5244,2,     69.5,2,  34.5247,2,    69.78,6,   101.08,3,    39.69,6,     0.00,6,    2.840,3,    0.032,2,    0.009,2,   2323.8,2,   2366.6,2,   7.4631,2,    25.00,    0.001,2,  -999.00,9,  -999.00,9,   4.2503,2,  27.3815,2,   4.3299,2
49UP20180806_1,   P13,    60,  1,     19,     828,2,20180820,2139,2320, 16.9933, 164.9972, 5406,   1211.9,     1201,   3.5927,  34.5536,2,     75.4,2,  34.5537,2,    76.18,2,   115.61,3,    40.01,2,     0.00,2,    2.850,3,    0.011,6,    0.002,6,   2335.1,2,   2382.7,2,   7.4676,2,    25.00,    0.003,6,  -999.00,9,  -999.00,9,   3.5028,2,  27.4812,2,   3.5922,2
49UP20180806_1,   P13,    60,  1,     18,     660,2,20180820,2139,2315, 16.9933, 164.9972, 5406,   1412.6,     1399,   3.1150,  34.5698,2,     82.3,2,  34.5703,2,    82.61,2,   126.44,3,    39.86,2,     0.00,2,    2.830,3,    0.005,2,    0.004,2,   2344.9,2,   2394.1,2,   7.4735,2,    25.00,    0.006,2,  -999.00,9,  -999.00,9,   3.0132,2,  27.5405,2,   3.1152,2
49UP20180806_1,   P13,    60,  1,     17,     826,2,20180820,2139,2308, 16.9933, 164.9972, 5406,   1616.1,     1600,   2.7361,  34.5885,2,     88.5,2,  34.5873,2,    88.55,2,   133.41,3,    39.63,2,     0.00,2,    2.810,3,    0.006,2,   -0.000,2,   2347.0,2,   2400.9,2,   7.4842,2,    25.00,    0.000,2,  -999.00,9,  -999.00,9,   2.6217,2,  27.5904,2,   2.7360,2
49UP20180806_1,   P13,    60,  1,     16,     825,2,20180820,2139,2303, 16.9933, 164.9972, 5406,   1817.8,     1799,   2.4512,  34.6027,2,     93.9,2,  34.6020,2,    93.84,2,   140.17,3,    39.51,2,     0.00,2,    2.790,3,    0.000,2,    0.000,2,   2352.9,2,   2404.0,2,   7.4924,2,    25.00,    0.000,2,  -999.00,9,  -999.00,9,   2.3236,2,  27.6271,2,   2.4512,2
49UP20180806_1,   P13,    60,  1,     15,     824,2,20180820,2139,2259, 16.9933, 164.9972, 5406,   2023.2,     2001,   2.1855,  34.6210,2,    102.2,2,  34.6218,2,   102.15,2,   144.91,3,    39.07,2,     0.00,2,    2.740,3,    0.000,2,    0.000,2,   2344.8,2,   2414.1,2,   7.5071,2,    25.00,    0.000,2,  -999.00,9,  -999.00,9,   2.0443,2,  27.6645,2,   2.1856,2
49UP20180806_1,   P13,    60,  1,     14,     823,2,20180820,2139,2252, 16.9933, 164.9972, 5406,   2225.7,     2201,   1.9901,  34.6344,2,    109.2,2,  34.6344,2,   109.03,2,   148.59,3,    38.64,2,     0.00,2,    2.710,3,    0.000,2,    0.000,2,   2352.8,2,   2417.8,2,   7.5170,2,    25.00,    0.004,2,  -999.00,9,  -999.00,9,   1.8345,2,  27.6917,2,   1.9901,2
49UP20180806_1,   P13,    60,  1,     13,     822,2,20180820,2139,2247, 16.9933, 164.9972, 5406,   2429.1,     2401,   1.8487,  34.6442,2,    115.5,2,  34.6443,2,   115.65,2,   151.14,3,    38.40,2,     0.00,2,    2.680,3,    0.000,2,    0.000,2,   2350.6,2,   2418.5,2,   7.5259,2,    25.00,    0.000,2,  -999.00,9,  -999.00,9,   1.6776,2,  27.7115,2,   1.8488,2
49UP20180806_1,   P13,    60,  1,     12,     821,2,20180820,2139,2242, 16.9933, 164.9972, 5406,   2631.5,     2600,   1.7497,  34.6529,2,    121.2,2,  34.6538,2,   121.06,2,   151.97,3,    37.99,2,     0.00,2,    2.640,3,    0.002,2,   -0.000,2,   2341.4,6,   2419.9,6,   7.5336,2,    25.00,   -0.000,2,  -999.00,9,  -999.00,9,   1.5622,2,  27.7271,2,   1.7498,2
49UP20180806_1,   P13,    60,  1,     11,     820,2,20180820,2139,2238, 16.9933, 164.9972, 5406,   2836.2,     2800,   1.6580,  34.6610,2,    127.6,2,  34.6614,2,   127.45,6,   152.49,3,    37.61,6,     0.00,6,    2.610,3,    0.002,2,    0.000,2,   2346.3,2,   2421.7,2,   7.5473,6,    25.00,    0.000,2,  -999.00,9,  -999.00,9,   1.4533,2,  27.7415,2,   1.6580,2
49UP20180806_1,   P13,    60,  1,     10,     819,2,20180820,2139,2233, 16.9933, 164.9972, 5406,   3039.6,     3000,   1.6040,  34.6674,2,    132.7,2,  34.6674,2,   132.44,2,   152.89,3,    37.20,2,     0.00,2,    2.590,3, -999.000,9, -999.000,9,   2340.9,2,   2423.6,2,   7.5554,2,    25.00, -999.000,9,  -999.00,9,  -999.00,9,   1.3811,2,  27.7518,2,   1.6039,2
49UP20180806_1,   P13,    60,  1,      9,     818,2,20180820,2139,2228, 16.9933, 164.9972, 5406,   3296.2,     3251,   1.5479,  34.6739,2,    139.0,2,  34.6728,6,   138.87,2,   152.07,3,    36.84,2,     0.00,2,    2.550,3, -999.000,9, -999.000,9,   2342.1,2,   2423.0,2,   7.5653,2,    25.00, -999.000,9,  -999.00,9,  -999.00,9,   1.3012,2,  27.7627,2,   1.5479,2
49UP20180806_1,   P13,    60,  1,      8,     817,2,20180820,2139,2222, 16.9933, 164.9972, 5406,   3551.8,     3501,   1.5056,  34.6784,2,    144.9,2,  34.6784,2,   144.95,2,   150.49,3,    36.45,2,     0.00,2,    2.520,3, -999.000,9, -999.000,9,   2333.8,2,   2420.6,2,   7.5748,2,    25.00, -999.000,9,  -999.00,9,  -999.00,9,   1.2340,2,  27.7710,2,   1.5057,2
49UP20180806_1,   P13,    60,  1,     24,     833,4,20180820,2139,2217, 16.9933, 164.9972, 5406,   3811.1,     3755,   1.4753,  34.6828,2,    150.8,2,-999.0000,9,  -999.00,9,  -999.00,9,  -999.00,9,  -999.00,9, -999.000,9, -999.000,9, -999.000,9,   -999.0,9,   -999.0,9,-999.0000,9,  -999.00, -999.000,9,  -999.00,9,  -999.00,9,   1.1774,2,  27.7784,2,   1.4754,2
49UP20180806_1,   P13,    60,  1,      7,     816,2,20180820,2139,2211, 16.9933, 164.9972, 5406,   4061.3,     3999,   1.4537,  34.6861,2,    156.4,2,  34.6828,4,   154.51,3,   145.45,3,    35.74,2,     0.00,2,    2.460,3,    0.000,2,    0.000,2,   2326.5,2,   2416.4,2,   7.5858,2,    25.00,    0.000,2,  -999.00,9,  -999.00,9,   1.1294,2,  27.7844,2,   1.4537,2
49UP20180806_1,   P13,    60,  1,      6,     815,2,20180820,2139,2206, 16.9933, 164.9972, 5406,   4317.8,     4249,   1.4334,  34.6895,2,    162.6,2,  34.6891,6,   162.74,2,   142.10,3,    35.18,2,     0.00,2,    2.420,3, -999.000,9, -999.000,9,   2320.5,2,   2413.3,2,   7.5954,2,    25.00, -999.000,9,  -999.00,9,  -999.00,9,   1.0813,2,  27.7904,2,   1.4334,2
49UP20180806_1,   P13,    60,  1,      5,     814,2,20180820,2139,2200, 16.9933, 164.9972, 5406,   4576.6,     4501,   1.4061,  34.6936,2,    170.3,2,  34.6933,2,   170.30,2,   137.62,3,    34.65,2,     0.00,2,    2.380,3, -999.000,9, -999.000,9,   2304.1,2,   2405.8,2,   7.6052,2,    25.00, -999.000,9,  -999.00,9,  -999.00,9,   1.0251,2,  27.7974,2,   1.4061,2
49UP20180806_1,   P13,    60,  1,      4,     813,2,20180820,2139,2155, 16.9933, 164.9972, 5406,   4831.0,     4749,   1.3950,  34.6964,2,    175.8,2,  34.6958,6,   176.13,2,   134.34,3,    34.23,2,     0.00,2,    2.350,3, -999.000,9, -999.000,9,   2303.8,2,   2401.1,2,   7.6076,2,    25.00, -999.000,9,  -999.00,9,  -999.00,9,   0.9845,2,  27.8024,2,   1.3953,2
49UP20180806_1,   P13,    60,  1,      3,     812,2,20180820,2139,2149, 16.9933, 164.9972, 5406,   5090.1,     5000,   1.3889,  34.6987,2,    180.4,2,  34.6982,2,   180.32,6,   131.99,3,    33.96,6,     0.00,6,    2.330,3,    0.001,2,    0.000,2,   2299.9,2,   2400.6,2,   7.6139,2,    25.00,    0.000,2,  -999.00,9,  -999.00,9,   0.9474,2,  27.8067,2,   1.3888,2
49UP20180806_1,   P13,    60,  1,      2,     811,2,20180820,2139,2143, 16.9933, 164.9972, 5406,   5346.5,     5249,   1.3997,  34.7001,2,    182.9,2,  34.6990,2,   183.20,2,   130.72,3,    33.76,2,     0.00,2,    2.320,3, -999.000,9, -999.000,9,   2297.1,6,   2396.5,6,   7.6140,2,    25.00, -999.000,9,  -999.00,9,  -999.00,9,   0.9261,2,  27.8092,2,   1.3998,2
49UP20180806_1,   P13,    60,  1,      1,     810,2,20180820,2139,2139, 16.9933, 164.9972, 5406,   5523.4,     5421,   1.4129,  34.7005,2,    184.2,2,  34.6988,4,   183.02,4,   129.93,3,    33.70,2,     0.00,2,    2.310,3,    0.008,2,    0.000,2,   2295.4,2,   2396.6,2,   7.6134,6,    25.00,    0.000,2,  -999.00,9,  -999.00,9,   0.9164,2,  27.8102,2,   1.4128,2