BOTTLE,20191018JMAGEMD
EXPOCODE,SECT_ID,STNNBR,CASTNO,SAMPNO,BTLNBR,BTLNBR_FLAG_U,DATE,TIME,BTL_TIME,LATITUDE,LONGITUDE,DEPTH,CTDPRS,CTDDEP,CTDTMP,CTDSAL,CTDSAL_FLAG_W,CTDOXY,CTDOXY_FLAG_W,SALNTY,SALNTY_FLAG_W,OXYGEN,OXYGEN_FLAG_W,SILCAT,SILCAT_FLAG_W,NO2+NO3,NO2+NO3_FLAG_W,NITRIT,NITRIT_FLAG_W,PHSPHT,PHSPHT_FLAG_W,CFC-11,CFC-11_FLAG_W,CFC-12,CFC-12_FLAG_W,TCARBN,TCARBN_FLAG_W,ALKALI,ALKALI_FLAG_W,PH_TS,PH_TS_FLAG_W,PH_TS_TMP,CFC113,CFC113_FLAG_W,CHLORA,CHLORA_FLAG_W,PPHYTN,PPHYTN_FLAG_W,THETA,THETA_FLAG_W,SIGTHT,SIGTHT_FLAG_W,SBE35,SBE35_FLAG_W
,,,,,,,,UTC,,,,METER,DBAR,METERS,ITS-90,PSS-78,,UMOL/KG,,PSS78,,UMOL/KG,,UMOL/KG,,UMOL/KG,,UMOL/KG,,UMOL/KG,,PMOL/KG,,PMOL/KG,,UMOL/KG,,UMOL/KG,,,,ITS-90,PMOL/KG,,UG/KG,,UG/KG,,ITS-90,,KG/M3,,ITS-90,
49UP20180614_2,   P13,    29,  1,      0,      -9,0,20180714,1728,1925, 40.0075, 164.9937, 5458,      0.0,        0,  18.1670,  33.9203,2,    247.7,2,  33.9239,2,   247.06,2,     1.42,3,     0.00,2,     0.00,2,    0.040,3, -999.000,9, -999.000,9,   1997.3,2,   2253.7,2,   7.9934,2,    25.00, -999.000,9,     0.37,2,     0.13,2,  18.1666,2,  24.4044,2,-999.0000,9
49UP20180614_2,   P13,    29,  1,     36,     845,2,20180714,1728,1950, 40.0075, 164.9937, 5458,     10.6,       11,  18.1633,  33.9188,2,    247.3,2,  33.9228,2,   247.76,2,     1.37,3,     0.02,2,     0.01,2,    0.030,3,    2.139,6,    1.275,6,   1996.5,2,   2254.6,2,   7.9874,2,    25.00,    0.187,6,     0.34,2,     0.11,2,  18.1615,2,  24.4045,2,  18.1607,2
49UP20180614_2,   P13,    29,  1,     35,     844,3,20180714,1728,1945, 40.0075, 164.9937, 5458,     49.0,       49,  13.7070,  34.1981,2,    253.5,2,  34.2007,2,   253.20,2,     2.78,3,     3.25,2,     0.23,2,    0.290,3,    2.488,2,    1.480,2,   2047.6,6,   2272.9,6,   7.9316,2,    25.00,    0.210,2,     0.43,2,     0.32,2,  13.7001,2,  25.6296,2,  13.7022,2
49UP20180614_2,   P13,    29,  1,     34,     843,2,20180714,1728,1943, 40.0075, 164.9937, 5458,     77.4,       77,  11.5753,  34.2850,2,    240.1,2,  34.2835,2,   239.85,2,    13.79,3,    10.39,2,     0.02,2,    0.690,3, -999.000,9, -999.000,9,   2088.0,2,   2271.8,2,   7.8420,6,    25.00, -999.000,9,     0.09,2,     0.07,2,  11.5655,2,  26.1153,2,  11.5683,2
49UP20180614_2,   P13,    29,  1,     33,     842,2,20180714,1728,1941, 40.0075, 164.9937, 5458,    104.3,      103,  10.4942,  34.1869,2,    240.0,2,  34.1892,2,   239.71,2,    16.38,3,    12.10,2,     0.01,2,    0.810,3,    2.682,2,    1.592,2,   2095.9,2,   2269.2,2,   7.8099,2,    25.00,    0.194,2,     0.02,2,     0.05,2,  10.4819,2,  26.2341,2,  10.4945,2
49UP20180614_2,   P13,    29,  1,     32,     841,2,20180714,1728,1940, 40.0075, 164.9937, 5458,    126.1,      125,   9.9099,  34.1282,2,    240.5,2,  34.1297,2,   239.99,2,    17.90,3,    13.03,2,     0.01,2,    0.870,3, -999.000,9, -999.000,9,   2109.4,2,   2267.9,2,   7.7955,2,    25.00, -999.000,9,     0.01,2,     0.04,2,   9.8956,2,  26.2888,2,   9.9112,2
49UP20180614_2,   P13,    29,  1,     31,     840,2,20180714,1728,1938, 40.0075, 164.9937, 5458,    151.4,      150,   9.3427,  34.0559,2,    259.4,2,  34.0582,2,   259.31,6,    17.79,3,    12.61,6,     0.01,6,    0.870,3,    2.933,2,    1.726,2,   2104.8,2,   2264.3,2,   7.8011,2,    25.00,    0.240,2,     0.01,2,     0.06,2,   9.3261,2,  26.3265,2,   9.3437,2
49UP20180614_2,   P13,    29,  1,     30,     839,2,20180714,1728,1936, 40.0075, 164.9937, 5458,    205.4,      204,   8.2486,  33.9473,2,    249.0,2,  33.9469,2,   249.56,2,    23.94,3,    15.43,2,     0.01,2,    1.110,3,    3.001,2,    1.743,2,   2123.7,2,   2264.5,2,   7.7567,2,    25.00,    0.232,2,     0.00,2,     0.06,2,   8.2278,2,  26.4131,2,   8.2492,2
49UP20180614_2,   P13,    29,  1,     29,     838,2,20180714,1728,1934, 40.0075, 164.9937, 5458,    254.1,      252,   7.1267,  33.8263,2,    260.9,2,  33.8320,4,   258.56,2,    27.08,3,    16.82,2,     0.01,2,    1.240,3,    3.211,2,    1.849,2,   2127.5,2,   2262.4,2,   7.7322,2,    25.00,    0.256,2,  -999.00,9,  -999.00,9,   7.1030,2,  26.4801,2,   7.1280,2
49UP20180614_2,   P13,    29,  1,     28,     837,2,20180714,1728,1931, 40.0075, 164.9937, 5458,    336.0,      333,   5.8327,  33.8029,2,    187.0,2,  33.8091,4,   186.74,2,    48.09,3,    25.41,2,     0.01,2,    1.850,3,    2.850,2,    1.592,2,   2186.8,2,   2273.8,2,   7.5888,2,    25.00,    0.192,2,  -999.00,9,  -999.00,9,   5.8046,2,  26.6310,2,   5.8380,2
49UP20180614_2,   P13,    29,  1,     27,     661,2,20180714,1728,1928, 40.0075, 164.9937, 5458,    435.7,      432,   4.9196,  33.8847,2,    129.2,2,  33.8891,2,   129.35,2,    69.23,3,    32.30,2,     0.00,2,    2.320,3,    2.310,2,    1.235,2,   2243.8,2,   2288.2,2,   7.4711,2,    25.00,    0.142,2,  -999.00,9,  -999.00,9,   4.8858,2,  26.8039,2,   4.9251,2
49UP20180614_2,   P13,    29,  1,     26,     835,2,20180714,1728,1925, 40.0075, 164.9937, 5458,    537.7,      533,   4.6198,  34.0275,2,     85.6,2,  34.0255,6,    85.83,2,    87.49,3,    36.68,2,     0.00,2,    2.610,3,    1.665,2,    0.863,2,   2281.2,2,   2310.7,2,   7.4031,2,    25.00,    0.091,2,  -999.00,9,  -999.00,9,   4.5788,2,  26.9513,2,   4.6202,2
49UP20180614_2,   P13,    29,  1,     25,     834,2,20180714,1728,1921, 40.0075, 164.9937, 5458,    638.0,      632,   4.1530,  34.1045,2,     58.9,2,  34.1034,2,    58.93,2,   103.01,3,    39.57,2,     0.00,2,    2.810,3,    1.238,2,    0.615,2,   2311.9,2,   2323.9,2,   7.3560,2,    25.00,    0.081,2,  -999.00,9,  -999.00,9,   4.1062,2,  27.0628,2,   4.1532,2
49UP20180614_2,   P13,    29,  1,     24,     833,2,20180714,1728,1918, 40.0075, 164.9937, 5458,    740.0,      733,   3.9271,  34.2234,2,     48.2,2,  34.2297,4,    47.98,2,   114.96,3,    40.54,2,     0.00,2,    2.900,3,    0.712,2,    0.339,2,   2333.1,2,   2343.3,2,   7.3609,2,    25.00,    0.028,2,  -999.00,9,  -999.00,9,   3.8733,2,  27.1813,2,   3.9236,2
49UP20180614_2,   P13,    29,  1,     23,     832,2,20180714,1728,1915, 40.0075, 164.9937, 5458,    840.4,      832,   3.6298,  34.2821,2,     41.0,2,  34.2804,2,    41.10,2,   124.27,3,    41.48,2,     0.00,2,    2.980,3,    0.455,2,    0.221,2,   2350.8,2,   2354.6,2,   7.3503,2,    25.00,    0.021,2,  -999.00,9,  -999.00,9,   3.5699,2,  27.2583,2,   3.6297,2
49UP20180614_2,   P13,    29,  1,     22,     831,2,20180714,1728,1912, 40.0075, 164.9937, 5458,    942.6,      933,   3.3643,  34.3235,2,     37.6,2,  34.3240,2,    37.25,6,   133.02,3,    41.82,6,     0.00,6,    3.040,3,    0.331,2,    0.162,2,   2359.6,2,   2363.9,2,   7.3468,2,    25.00,    0.010,2,  -999.00,9,  -999.00,9,   3.2984,2,  27.3174,2,   3.3646,2
49UP20180614_2,   P13,    29,  1,     21,     830,2,20180714,1728,1907, 40.0075, 164.9937, 5458,   1084.9,     1074,   3.0547,  34.3732,2,     34.7,2,  34.3710,2,    35.21,2,   141.49,3,    42.46,2,     0.00,2,    3.070,3,    0.223,6,    0.106,6,   2369.8,2,   2373.0,2,   7.3451,2,    25.00,    0.009,6,  -999.00,9,  -999.00,9,   2.9801,2,  27.3865,2,   3.0552,2
49UP20180614_2,   P13,    29,  1,     20,     829,2,20180714,1728,1902, 40.0075, 164.9937, 5458,   1284.9,     1271,   2.7138,  34.4405,2,     34.2,2,  34.4416,2,    33.58,2,   151.20,3,    42.90,2,     0.00,2,    3.000,3,    0.091,2,    0.044,2,   2382.7,2,   2388.0,2,   7.3474,2,    25.00,    0.005,2,  -999.00,9,  -999.00,9,   2.6267,2,  27.4716,2,   2.7139,2
49UP20180614_2,   P13,    29,  1,     19,     828,2,20180714,1728,1857, 40.0075, 164.9937, 5458,   1490.3,     1474,   2.4428,  34.4874,2,     38.0,2,  34.4877,2,    37.57,2,   159.00,3,    42.94,2,     0.00,2,    2.970,3,    0.052,2,    0.021,2,   2381.9,2,   2399.1,2,   7.3594,2,    25.00,    0.007,2,  -999.00,9,  -999.00,9,   2.3423,2,  27.5333,2,   2.4428,2
49UP20180614_2,   P13,    29,  1,     18,     827,2,20180714,1728,1852, 40.0075, 164.9937, 5458,   1691.8,     1672,   2.2498,  34.5294,2,     48.6,2,  34.5292,2,    48.10,2,   163.04,3,    42.28,2,     0.00,2,    2.930,3,    0.026,2,    0.014,2,   2385.3,2,   2404.0,2,   7.3864,2,    25.00,    0.003,2,  -999.00,9,  -999.00,9,   2.1356,2,  27.5838,2,   2.2504,2
49UP20180614_2,   P13,    29,  1,     17,     826,2,20180714,1728,1848, 40.0075, 164.9937, 5458,   1892.6,     1870,   2.0910,  34.5613,2,     58.0,2,  34.5603,2,    57.88,2,   165.71,3,    41.74,2,     0.00,2,    2.890,3,    0.013,2,    0.006,2,   2382.7,2,   2407.6,2,   7.4054,2,    25.00,    0.003,2,  -999.00,9,  -999.00,9,   1.9624,2,  27.6232,2,   2.0910,2
49UP20180614_2,   P13,    29,  1,     16,     825,2,20180714,1728,1844, 40.0075, 164.9937, 5458,   2095.9,     2069,   1.9430,  34.5889,2,     69.2,2,  34.5887,2,    69.28,2,   168.21,3,    41.07,2,     0.00,2,    2.840,3,    0.003,2,    0.002,2,   2379.6,2,   2411.5,6,   7.4302,2,    25.00,   -0.000,2,  -999.00,9,  -999.00,9,   1.7995,2,  27.6579,2,   1.9432,2
49UP20180614_2,   P13,    29,  1,     15,     824,2,20180714,1728,1840, 40.0075, 164.9937, 5458,   2297.0,     2267,   1.8193,  34.6132,2,     83.5,2,  34.6130,2,    83.43,2,   167.94,3,    40.20,2,     0.00,2,    2.780,3,    0.000,2,    0.001,2,   2373.7,2,   2415.1,2,   7.4574,2,    25.00,    0.000,2,  -999.00,9,  -999.00,9,   1.6605,2,  27.6879,2,   1.8194,2
49UP20180614_2,   P13,    29,  1,     14,     823,2,20180714,1728,1835, 40.0075, 164.9937, 5458,   2502.5,     2469,   1.7364,  34.6288,2,     94.8,2,  34.6292,6,    94.81,2,   167.18,3,    39.54,2,     0.00,2,    2.740,3,    0.004,2,    0.002,2,   2360.6,2,   2419.0,2,   7.4803,2,    25.00,    0.005,2,  -999.00,9,  -999.00,9,   1.5609,2,  27.7078,2,   1.7365,2
49UP20180614_2,   P13,    29,  1,     13,     822,2,20180714,1728,1831, 40.0075, 164.9937, 5458,   2704.5,     2667,   1.6616,  34.6424,2,    106.3,2,  34.6428,2,   106.28,6,   165.25,3,    38.86,6,     0.00,6,    2.690,3,    0.000,2,    0.000,2,   2361.5,2,   2416.9,2,   7.4990,2,    25.00,   -0.000,2,  -999.00,9,  -999.00,9,   1.4692,2,  27.7254,2,   1.6617,2
49UP20180614_2,   P13,    29,  1,     12,     821,2,20180714,1728,1827, 40.0075, 164.9937, 5458,   2910.1,     2868,   1.6095,  34.6519,2,    115.1,2,  34.6513,2,   115.06,2,   163.30,3,    38.16,2,     0.00,2,    2.640,3,    0.000,2,    0.000,2,   2356.5,2,   2420.9,2,   7.5180,2,    25.00,   -0.000,2,  -999.00,9,  -999.00,9,   1.3989,2,  27.7381,2,   1.6095,2
49UP20180614_2,   P13,    29,  1,     11,     820,2,20180714,1728,1822, 40.0075, 164.9937, 5458,   3125.3,     3079,   1.5593,  34.6610,2,    124.4,2,  34.6584,4,   123.85,2,   161.04,3,    37.69,2,     0.00,2,    2.590,3, -999.000,9, -999.000,9,   2348.8,2,   2418.8,2,   7.5353,2,    25.00, -999.000,9,  -999.00,9,  -999.00,9,   1.3292,2,  27.7504,2,   1.5594,2
49UP20180614_2,   P13,    29,  1,     10,     819,2,20180714,1728,1817, 40.0075, 164.9937, 5458,   3383.6,     3331,   1.5188,  34.6689,2,    133.1,2,  34.6686,2,   133.20,2,   158.49,3,    37.15,2,     0.00,2,    2.530,3, -999.000,9, -999.000,9,   2346.3,2,   2418.9,2,   7.5496,6,    25.00, -999.000,9,  -999.00,9,  -999.00,9,   1.2641,2,  27.7613,2,   1.5189,2
49UP20180614_2,   P13,    29,  1,      9,     818,2,20180714,1728,1811, 40.0075, 164.9937, 5458,   3640.0,     3581,   1.4873,  34.6756,2,    140.8,2,  34.6755,2,   140.57,2,   156.50,3,    36.59,2,     0.00,2,    2.480,3, -999.000,9, -999.000,9,   2338.7,2,   2419.7,2,   7.5650,2,    25.00, -999.000,9,  -999.00,9,  -999.00,9,   1.2071,2,  27.7706,2,   1.4873,2
49UP20180614_2,   P13,    29,  1,      8,     817,2,20180714,1728,1806, 40.0075, 164.9937, 5458,   3896.9,     3832,   1.4770,  34.6796,2,    146.0,2,  34.6789,2,   145.84,2,   154.92,3,    36.13,2,     0.00,2,    2.460,3,    0.000,2,    0.000,2,   2335.9,6,   2418.6,6,   7.5721,2,    25.00,    0.000,2,  -999.00,9,  -999.00,9,   1.1699,2,  27.7764,2,   1.4771,2
49UP20180614_2,   P13,    29,  1,      7,     816,2,20180714,1728,1800, 40.0075, 164.9937, 5458,   4151.4,     4080,   1.4728,  34.6831,2,    150.1,2,  34.6826,2,   149.41,2,   154.33,3,    35.97,2,     0.00,2,    2.460,3, -999.000,9, -999.000,9,   2332.2,2,   2419.5,2,   7.5802,2,    25.00, -999.000,9,  -999.00,9,  -999.00,9,   1.1380,2,  27.7814,2,   1.4729,2
49UP20180614_2,   P13,    29,  1,      6,     815,2,20180714,1728,1754, 40.0075, 164.9937, 5458,   4408.7,     4330,   1.4774,  34.6856,2,    153.4,2,  34.6855,2,   152.97,2,   154.10,3,    35.78,2,     0.00,2,    2.450,3, -999.000,9, -999.000,9,   2328.7,2,   2419.5,2,   7.5865,2,    25.00, -999.000,9,  -999.00,9,  -999.00,9,   1.1136,2,  27.7851,2,   1.4773,2
49UP20180614_2,   P13,    29,  1,      5,     814,2,20180714,1728,1749, 40.0075, 164.9937, 5458,   4666.0,     4580,   1.4915,  34.6874,2,    155.4,2,  34.6873,6,   155.23,2,   154.17,3,    35.68,2,     0.00,2,    2.440,3, -999.000,9, -999.000,9,   2327.9,2,   2417.6,2,   7.5888,2,    25.00, -999.000,9,  -999.00,9,  -999.00,9,   1.0974,2,  27.7876,2,   1.4915,2
49UP20180614_2,   P13,    29,  1,      4,     813,2,20180714,1728,1743, 40.0075, 164.9937, 5458,   4923.6,     4830,   1.5133,  34.6885,2,    156.6,2,  34.6888,2,   156.59,6,   154.21,3,    35.57,6,     0.00,6,    2.430,3,    0.005,2,    0.003,2,   2327.6,2,   2418.6,2,   7.5902,2,    25.00,    0.001,2,  -999.00,9,  -999.00,9,   1.0879,2,  27.7891,2,   1.5134,2
49UP20180614_2,   P13,    29,  1,      3,     812,2,20180714,1728,1738, 40.0075, 164.9937, 5458,   5181.6,     5080,   1.5398,  34.6892,2,    157.2,2,  34.6890,2,   157.24,2,   153.91,3,    35.50,2,     0.00,2,    2.420,3, -999.000,9, -999.000,9,   2328.0,2,   2417.9,2,   7.5927,2,    25.00, -999.000,9,  -999.00,9,  -999.00,9,   1.0819,2,  27.7901,2,   1.5398,2
49UP20180614_2,   P13,    29,  1,      2,     811,2,20180714,1728,1732, 40.0075, 164.9937, 5458,   5439.5,     5330,   1.5699,  34.6895,2,    157.6,2,  34.6895,2,   157.76,2,   154.32,3,    35.40,2,     0.00,2,    2.410,3, -999.000,9, -999.000,9,   2320.8,2,   2416.8,2,   7.5929,6,    25.00, -999.000,9,  -999.00,9,  -999.00,9,   1.0786,2,  27.7906,2,   1.5699,2
49UP20180614_2,   P13,    29,  1,      1,     810,3,20180714,1728,1728, 40.0075, 164.9937, 5458,   5568.6,     5455,   1.5871,  34.6896,2,    157.6,2,  34.6887,2,   157.23,2,   154.80,3,    35.51,2,     0.00,2,    2.420,3,    0.010,2,    0.001,2,   2328.1,2,   2417.3,2,   7.5950,2,    25.00,    0.017,2,  -999.00,9,  -999.00,9,   1.0786,2,  27.7907,2,   1.5871,2