BOTTLE,20191018JMAGEMD
EXPOCODE,SECT_ID,STNNBR,CASTNO,SAMPNO,BTLNBR,BTLNBR_FLAG_U,DATE,TIME,BTL_TIME,LATITUDE,LONGITUDE,DEPTH,CTDPRS,CTDDEP,CTDTMP,CTDSAL,CTDSAL_FLAG_W,CTDOXY,CTDOXY_FLAG_W,SALNTY,SALNTY_FLAG_W,OXYGEN,OXYGEN_FLAG_W,SILCAT,SILCAT_FLAG_W,NO2+NO3,NO2+NO3_FLAG_W,NITRIT,NITRIT_FLAG_W,PHSPHT,PHSPHT_FLAG_W,CFC-11,CFC-11_FLAG_W,CFC-12,CFC-12_FLAG_W,TCARBN,TCARBN_FLAG_W,ALKALI,ALKALI_FLAG_W,PH_TS,PH_TS_FLAG_W,PH_TS_TMP,CFC113,CFC113_FLAG_W,CHLORA,CHLORA_FLAG_W,PPHYTN,PPHYTN_FLAG_W,THETA,THETA_FLAG_W,SIGTHT,SIGTHT_FLAG_W,SBE35,SBE35_FLAG_W
,,,,,,,,UTC,,,,METER,DBAR,METERS,ITS-90,PSS-78,,UMOL/KG,,PSS78,,UMOL/KG,,UMOL/KG,,UMOL/KG,,UMOL/KG,,UMOL/KG,,PMOL/KG,,PMOL/KG,,UMOL/KG,,UMOL/KG,,,,ITS-90,PMOL/KG,,UG/KG,,UG/KG,,ITS-90,,KG/M3,,ITS-90,
49UP20180806_2,   P13,    83,  1,      0,      -9,0,20180906,2332,0105,  3.5052, 165.0135, 4272,      0.0,        0,  29.8605,  33.9394,2,    196.3,2,-999.0000,9,   195.34,2,     1.04,3,     0.02,2,     0.00,2,    0.070,3, -999.000,9, -999.000,9,   -999.0,9,   -999.0,9,-999.0000,9,  -999.00, -999.000,9,  -999.00,9,  -999.00,9,  29.8599,2,  20.9789,2,-999.0000,9
49UP20180806_2,   P13,    83,  1,     36,     845,2,20180906,2332,0142,  3.5052, 165.0135, 4272,     11.2,       11,  29.7713,  33.9408,2,    196.4,2,  33.9422,2,   195.36,2,     1.09,3,     0.00,2,     0.00,2,    0.040,3, -999.000,9, -999.000,9,   -999.0,9,   -999.0,9,-999.0000,9,  -999.00, -999.000,9,  -999.00,9,  -999.00,9,  29.7686,2,  21.0109,2,  29.7737,2
49UP20180806_2,   P13,    83,  1,     35,     844,2,20180906,2332,0140,  3.5052, 165.0135, 4272,     25.8,       26,  29.7501,  33.9431,2,    196.4,2,  33.9519,2,   195.42,2,     1.02,3,     0.00,2,     0.00,2,    0.040,3, -999.000,9, -999.000,9,   -999.0,9,   -999.0,9,-999.0000,9,  -999.00, -999.000,9,  -999.00,9,  -999.00,9,  29.7438,2,  21.0210,2,  29.7544,2
49UP20180806_2,   P13,    83,  1,     34,     843,2,20180906,2332,0137,  3.5052, 165.0135, 4272,     50.7,       50,  30.1247,  34.4956,2,    198.2,2,  34.4977,2,   197.70,6,     1.06,3,     0.02,6,     0.00,6,    0.090,3, -999.000,9, -999.000,9,   -999.0,9,   -999.0,9,-999.0000,9,  -999.00, -999.000,9,  -999.00,9,  -999.00,9,  30.1121,2,  21.3099,2,  30.1289,2
49UP20180806_2,   P13,    83,  1,     33,     842,2,20180906,2332,0135,  3.5052, 165.0135, 4272,     76.1,       76,  30.1874,  35.0146,2,    198.2,2,  34.9566,4,   198.11,2,     1.06,3,     0.00,2,     0.00,2,    0.140,3, -999.000,9, -999.000,9,   -999.0,9,   -999.0,9,-999.0000,9,  -999.00, -999.000,9,  -999.00,9,  -999.00,9,  30.1684,2,  21.6795,2,  30.1917,2
49UP20180806_2,   P13,    83,  1,     32,     841,2,20180906,2332,0133,  3.5052, 165.0135, 4272,    101.7,      101,  29.1032,  35.3312,2,    184.8,2,  35.3275,2,   185.39,2,     1.37,3,     1.18,2,     0.28,2,    0.290,3, -999.000,9, -999.000,9,   -999.0,9,   -999.0,9,-999.0000,9,  -999.00, -999.000,9,  -999.00,9,  -999.00,9,  29.0785,2,  22.2865,2,  29.0953,2
49UP20180806_2,   P13,    83,  1,     31,     840,2,20180906,2332,0131,  3.5052, 165.0135, 4272,    132.3,      132,  26.8571,  35.1899,2,    152.1,2,  35.1849,2,   152.57,2,     2.62,3,     5.97,2,     0.10,2,    0.530,3, -999.000,9, -999.000,9,   -999.0,9,   -999.0,9,-999.0000,9,  -999.00, -999.000,9,  -999.00,9,  -999.00,9,  26.8268,2,  22.9161,2,  26.8474,2
49UP20180806_2,   P13,    83,  1,     30,     839,2,20180906,2332,0130,  3.5052, 165.0135, 4272,    152.7,      152,  23.8259,  35.0593,2,    135.8,2,  35.0576,2,   136.24,2,     4.60,3,     8.29,2,     0.02,2,    0.650,3, -999.000,9, -999.000,9,   -999.0,9,   -999.0,9,-999.0000,9,  -999.00, -999.000,9,  -999.00,9,  -999.00,9,  23.7939,2,  23.7472,2,  23.8291,2
49UP20180806_2,   P13,    83,  1,     29,     838,2,20180906,2332,0127,  3.5052, 165.0135, 4272,    201.9,      201,  12.0439,  34.5261,2,    104.0,2,  34.5292,2,   103.56,2,    25.10,3,    23.19,2,     0.00,2,    1.660,3, -999.000,9, -999.000,9,   -999.0,9,   -999.0,9,-999.0000,9,  -999.00, -999.000,9,  -999.00,9,  -999.00,9,  12.0177,2,  26.2176,2,  12.0384,2
49UP20180806_2,   P13,    83,  1,     28,     837,3,20180906,2332,0125,  3.5052, 165.0135, 4272,    252.8,      251,  10.8526,  34.7193,2,    126.6,2,  34.7210,2,   126.50,2,    22.90,3,    23.79,2,     0.00,2,    1.670,3, -999.000,9, -999.000,9,   -999.0,9,   -999.0,9,-999.0000,9,  -999.00, -999.000,9,  -999.00,9,  -999.00,9,  10.8218,2,  26.5890,2,  10.8480,2
49UP20180806_2,   P13,    83,  1,     27,     661,2,20180906,2332,0122,  3.5052, 165.0135, 4272,    332.5,      330,   9.8648,  34.6921,2,    109.4,2,  34.6915,2,   110.17,2,    25.81,3,    27.54,2,     0.00,2,    1.910,3, -999.000,9, -999.000,9,   -999.0,9,   -999.0,9,-999.0000,9,  -999.00, -999.000,9,  -999.00,9,  -999.00,9,   9.8264,2,  26.7410,2,   9.8643,2
49UP20180806_2,   P13,    83,  1,     26,     835,2,20180906,2332,0120,  3.5052, 165.0135, 4272,    383.7,      381,   9.3195,  34.6544,2,    120.3,2,  34.6539,2,   120.04,2,    26.67,3,    27.60,2,     0.00,2,    1.910,3, -999.000,9, -999.000,9,   -999.0,9,   -999.0,9,-999.0000,9,  -999.00, -999.000,9,  -999.00,9,  -999.00,9,   9.2767,2,  26.8028,2,   9.3197,2
49UP20180806_2,   P13,    83,  1,     25,     834,2,20180906,2332,0118,  3.5052, 165.0135, 4272,    432.9,      430,   8.7211,  34.6118,2,    112.3,2,  34.6120,2,   112.31,6,    31.30,3,    29.40,6,     0.00,6,    2.040,3, -999.000,9, -999.000,9,   -999.0,9,   -999.0,9,-999.0000,9,  -999.00, -999.000,9,  -999.00,9,  -999.00,9,   8.6746,2,  26.8657,2,   8.7204,2
49UP20180806_2,   P13,    83,  1,     23,     832,2,20180906,2332,0115,  3.5052, 165.0135, 4272,    484.4,      481,   8.3116,  34.5917,2,    102.9,2,  34.5920,2,   102.93,2,    34.90,3,    31.05,2,     0.00,2,    2.170,3, -999.000,9, -999.000,9,   -999.0,9,   -999.0,9,-999.0000,9,  -999.00, -999.000,9,  -999.00,9,  -999.00,9,   8.2609,2,  26.9139,2,   8.3114,2
49UP20180806_2,   P13,    83,  1,     22,     831,2,20180906,2332,0113,  3.5052, 165.0135, 4272,    533.9,      530,   7.7901,  34.5762,2,     85.7,2,  34.5773,2,    86.66,2,    40.08,3,    33.44,2,     0.00,2,    2.350,3, -999.000,9, -999.000,9,   -999.0,9,   -999.0,9,-999.0000,9,  -999.00, -999.000,9,  -999.00,9,  -999.00,9,   7.7361,2,  26.9800,2,   7.7849,2
49UP20180806_2,   P13,    83,  1,     21,     830,2,20180906,2332,0109,  3.5052, 165.0135, 4272,    635.3,      631,   6.9087,  34.5583,2,     63.7,2,  34.5584,2,    63.27,2,    51.01,3,    37.52,2,     0.00,2,    2.650,3, -999.000,9, -999.000,9,   -999.0,9,   -999.0,9,-999.0000,9,  -999.00, -999.000,9,  -999.00,9,  -999.00,9,   6.8482,2,  27.0917,2,   6.9087,2
49UP20180806_2,   P13,    83,  1,     20,     829,2,20180906,2332,0105,  3.5052, 165.0135, 4272,    739.0,      734,   6.0722,  34.5414,2,     76.6,2,  34.5410,2,    76.37,2,    59.49,3,    37.72,2,     0.00,2,    2.660,3, -999.000,9, -999.000,9,   -999.0,9,   -999.0,9,-999.0000,9,  -999.00, -999.000,9,  -999.00,9,  -999.00,9,   6.0059,2,  27.1895,2,   6.0717,2
49UP20180806_2,   P13,    83,  1,     19,     828,2,20180906,2332,0101,  3.5052, 165.0135, 4272,    838.4,      832,   5.2632,  34.5404,2,     86.7,2,  34.5403,2,    86.92,2,    71.61,3,    38.05,2,     0.00,2,    2.680,3, -999.000,9, -999.000,9,   -999.0,9,   -999.0,9,-999.0000,9,  -999.00, -999.000,9,  -999.00,9,  -999.00,9,   5.1926,2,  27.2884,2,   5.2624,2
49UP20180806_2,   P13,    83,  1,     18,     660,2,20180906,2332,0057,  3.5052, 165.0135, 4272,    941.7,      934,   4.7081,  34.5492,2,     89.0,2,  34.5490,2,    89.15,2,    84.73,3,    38.26,2,     0.00,2,    2.710,3, -999.000,9, -999.000,9,   -999.0,9,   -999.0,9,-999.0000,9,  -999.00, -999.000,9,  -999.00,9,  -999.00,9,   4.6320,2,  27.3596,2,   4.7080,2
49UP20180806_2,   P13,    83,  1,     17,     826,2,20180906,2332,0052,  3.5052, 165.0135, 4272,   1082.1,     1073,   4.2079,  34.5613,2,     89.4,2,  34.5617,2,    89.37,2,    93.86,3,    39.01,2,     0.00,2,    2.770,3, -999.000,9, -999.000,9,   -999.0,9,   -999.0,9,-999.0000,9,  -999.00, -999.000,9,  -999.00,9,  -999.00,9,   4.1235,2,  27.4243,2,   4.2078,2
49UP20180806_2,   P13,    83,  1,     16,     825,2,20180906,2332,0046,  3.5052, 165.0135, 4272,   1283.7,     1273,   3.5716,  34.5803,2,     94.9,2,  34.5804,6,    94.78,2,   106.65,3,    38.97,2,     0.00,2,    2.750,3, -999.000,9, -999.000,9,   -999.0,9,   -999.0,9,-999.0000,9,  -999.00, -999.000,9,  -999.00,9,  -999.00,9,   3.4758,2,  27.5051,2,   3.5717,2
49UP20180806_2,   P13,    83,  1,     15,     824,2,20180906,2332,0039,  3.5052, 165.0135, 4272,   1485.6,     1472,   3.1562,  34.5952,2,     98.9,2,  34.5952,2,    99.43,6,   115.45,3,    38.89,6,     0.00,6,    2.730,3, -999.000,9, -999.000,9,   -999.0,9,   -999.0,9,-999.0000,9,  -999.00, -999.000,9,  -999.00,9,  -999.00,9,   3.0478,2,  27.5576,2,   3.1575,2
49UP20180806_2,   P13,    83,  1,     13,     822,2,20180906,2332,0034,  3.5052, 165.0135, 4272,   1689.7,     1674,   2.7220,  34.6128,2,    103.8,2,  34.6136,2,   104.49,2,   126.02,3,    38.84,2,     0.00,2,    2.730,3, -999.000,9, -999.000,9,   -999.0,9,   -999.0,9,-999.0000,9,  -999.00, -999.000,9,  -999.00,9,  -999.00,9,   2.6016,2,  27.6116,2,   2.7219,2
49UP20180806_2,   P13,    83,  1,     14,     823,2,20180906,2332,0034,  3.5052, 165.0135, 4272,   1689.9,     1674,   2.7220,  34.6128,2,    103.8,2,  34.6134,2,   103.87,2,   125.86,3,    38.89,2,     0.00,2,    2.730,3, -999.000,9, -999.000,9,   -999.0,9,   -999.0,9,-999.0000,9,  -999.00, -999.000,9,  -999.00,9,  -999.00,9,   2.6015,2,  27.6116,2,   2.7220,2
49UP20180806_2,   P13,    83,  1,     12,     821,2,20180906,2332,0028,  3.5052, 165.0135, 4272,   1890.6,     1872,   2.3964,  34.6279,2,    110.2,2,  34.6280,2,   109.86,2,   134.19,3,    38.44,2,     0.00,2,    2.710,3, -999.000,9, -999.000,9,   -999.0,9,   -999.0,9,-999.0000,9,  -999.00, -999.000,9,  -999.00,9,  -999.00,9,   2.2633,2,  27.6523,2,   2.3964,2
49UP20180806_2,   P13,    83,  1,     11,     820,2,20180906,2332,0022,  3.5052, 165.0135, 4272,   2094.5,     2073,   2.1648,  34.6400,2,    116.4,2,  34.6408,2,   116.24,2,  -999.00,9,  -999.00,9,  -999.00,9, -999.000,9, -999.000,9, -999.000,9,   -999.0,9,   -999.0,9,-999.0000,9,  -999.00, -999.000,9,  -999.00,9,  -999.00,9,   2.0177,2,  27.6819,2,   2.1649,2
49UP20180806_2,   P13,    83,  1,     10,     819,2,20180906,2332,0017,  3.5052, 165.0135, 4272,   2292.7,     2268,   1.9962,  34.6500,2,    119.5,2,  34.6506,6,   119.67,2,  -999.00,9,  -999.00,9,  -999.00,9, -999.000,9, -999.000,9, -999.000,9,   -999.0,9,   -999.0,9,-999.0000,9,  -999.00, -999.000,9,  -999.00,9,  -999.00,9,   1.8346,2,  27.7042,2,   1.9961,2
49UP20180806_2,   P13,    83,  1,      9,     818,2,20180906,2332,0013,  3.5052, 165.0135, 4272,   2496.6,     2468,   1.8819,  34.6572,2,    123.2,2,  34.6573,2,   123.49,2,  -999.00,9,  -999.00,9,  -999.00,9, -999.000,9, -999.000,9, -999.000,9,   -999.0,9,   -999.0,9,-999.0000,9,  -999.00, -999.000,9,  -999.00,9,  -999.00,9,   1.7041,2,  27.7199,2,   1.8817,2
49UP20180806_2,   P13,    83,  1,      8,     817,3,20180906,2332,0008,  3.5052, 165.0135, 4272,   2702.2,     2670,   1.7844,  34.6629,2,    127.7,2,  34.6640,2,   127.67,2,  -999.00,9,  -999.00,9,  -999.00,9, -999.000,9, -999.000,9, -999.000,9,   -999.0,9,   -999.0,9,-999.0000,9,  -999.00, -999.000,9,  -999.00,9,  -999.00,9,   1.5897,2,  27.7330,2,   1.7843,2
49UP20180806_2,   P13,    83,  1,      7,     816,2,20180906,2332,0004,  3.5052, 165.0135, 4272,   2903.5,     2868,   1.7274,  34.6660,2,    131.7,2,  34.6663,6,   131.37,6,  -999.00,9,  -999.00,9,  -999.00,9, -999.000,9, -999.000,9, -999.000,9,   -999.0,9,   -999.0,9,-999.0000,9,  -999.00, -999.000,9,  -999.00,9,  -999.00,9,   1.5149,2,  27.7411,2,   1.7274,2
49UP20180806_2,   P13,    83,  1,      6,     815,2,20180906,2332,2359,  3.5052, 165.0135, 4272,   3119.1,     3079,   1.6643,  34.6701,2,    136.1,2,  34.6701,2,   136.10,2,  -999.00,9,  -999.00,9,  -999.00,9, -999.000,9, -999.000,9, -999.000,9,   -999.0,9,   -999.0,9,-999.0000,9,  -999.00, -999.000,9,  -999.00,9,  -999.00,9,   1.4324,2,  27.7503,2,   1.6642,2
49UP20180806_2,   P13,    83,  1,      5,     814,2,20180906,2332,2354,  3.5052, 165.0135, 4272,   3373.7,     3329,   1.5758,  34.6762,2,    143.8,2,  34.6765,2,   144.20,2,  -999.00,9,  -999.00,9,  -999.00,9, -999.000,9, -999.000,9, -999.000,9,   -999.0,9,   -999.0,9,-999.0000,9,  -999.00, -999.000,9,  -999.00,9,  -999.00,9,   1.3206,2,  27.7632,2,   1.5757,2
49UP20180806_2,   P13,    83,  1,      4,     813,2,20180906,2332,2348,  3.5052, 165.0135, 4272,   3628.8,     3578,   1.5127,  34.6816,2,    151.2,2,  34.6824,6,   151.49,2,  -999.00,9,  -999.00,9,  -999.00,9, -999.000,9, -999.000,9, -999.000,9,   -999.0,9,   -999.0,9,-999.0000,9,  -999.00, -999.000,9,  -999.00,9,  -999.00,9,   1.2329,2,  27.7737,2,   1.5125,2
49UP20180806_2,   P13,    83,  1,      3,     812,2,20180906,2332,2343,  3.5052, 165.0135, 4272,   3885.1,     3829,   1.4646,  34.6869,2,    158.7,2,  34.6865,2,   159.04,2,  -999.00,9,  -999.00,9,  -999.00,9, -999.000,9, -999.000,9, -999.000,9,   -999.0,9,   -999.0,9,-999.0000,9,  -999.00, -999.000,9,  -999.00,9,  -999.00,9,   1.1591,2,  27.7830,2,   1.4645,2
49UP20180806_2,   P13,    83,  1,      2,     811,2,20180906,2332,2337,  3.5052, 165.0135, 4272,   4142.3,     4080,   1.4303,  34.6912,2,    166.2,2,  34.6907,2,   166.63,2,  -999.00,9,  -999.00,9,  -999.00,9, -999.000,9, -999.000,9, -999.000,9,   -999.0,9,   -999.0,9,-999.0000,9,  -999.00, -999.000,9,  -999.00,9,  -999.00,9,   1.0978,2,  27.7907,2,   1.4302,2
49UP20180806_2,   P13,    83,  1,      1,     810,3,20180906,2332,2333,  3.5052, 165.0135, 4272,   4323.0,     4256,   1.4180,  34.6934,2,    170.1,2,  34.6932,6,   169.81,2,  -999.00,9,  -999.00,9,  -999.00,9, -999.000,9, -999.000,9, -999.000,9,   -999.0,9,   -999.0,9,-999.0000,9,  -999.00, -999.000,9,  -999.00,9,  -999.00,9,   1.0657,2,  27.7946,2,   1.4179,2