BOTTLE,20191018JMAGEMD
EXPOCODE,SECT_ID,STNNBR,CASTNO,SAMPNO,BTLNBR,BTLNBR_FLAG_U,DATE,TIME,BTL_TIME,LATITUDE,LONGITUDE,DEPTH,CTDPRS,CTDDEP,CTDTMP,CTDSAL,CTDSAL_FLAG_W,CTDOXY,CTDOXY_FLAG_W,SALNTY,SALNTY_FLAG_W,OXYGEN,OXYGEN_FLAG_W,SILCAT,SILCAT_FLAG_W,NO2+NO3,NO2+NO3_FLAG_W,NITRIT,NITRIT_FLAG_W,PHSPHT,PHSPHT_FLAG_W,CFC-11,CFC-11_FLAG_W,CFC-12,CFC-12_FLAG_W,TCARBN,TCARBN_FLAG_W,ALKALI,ALKALI_FLAG_W,PH_TS,PH_TS_FLAG_W,PH_TS_TMP,CFC113,CFC113_FLAG_W,CHLORA,CHLORA_FLAG_W,PPHYTN,PPHYTN_FLAG_W,THETA,THETA_FLAG_W,SIGTHT,SIGTHT_FLAG_W,SBE35,SBE35_FLAG_W
,,,,,,,,UTC,,,,METER,DBAR,METERS,ITS-90,PSS-78,,UMOL/KG,,PSS78,,UMOL/KG,,UMOL/KG,,UMOL/KG,,UMOL/KG,,UMOL/KG,,PMOL/KG,,PMOL/KG,,UMOL/KG,,UMOL/KG,,,,ITS-90,PMOL/KG,,UG/KG,,UG/KG,,ITS-90,,KG/M3,,ITS-90,
49UP20180806_1,   P13,    42,  1,      0,      -9,0,20180813,1024,1230, 32.0060, 165.0132, 5981,      0.0,        0,  27.3054,  35.0501,2,    202.9,2,  35.0543,2,   203.76,2,     1.92,3,     0.00,2,     0.00,2,    0.020,3, -999.000,9, -999.000,9,   2001.0,2,   2304.8,2,   8.0575,2,    25.00, -999.000,9,     0.04,2,     0.01,2,  27.3047,2,  22.6578,2,-999.0000,9
49UP20180806_1,   P13,    42,  1,     36,     845,2,20180813,1024,1255, 32.0060, 165.0132, 5981,     10.3,       10,  27.2230,  35.0456,2,    203.3,2,  35.0451,2,   203.55,2,     1.92,3,     0.05,2,     0.00,2,    0.000,3,    1.651,2,    0.954,2,   1998.4,2,   2303.9,2,   8.0585,6,    25.00,    0.145,2,     0.03,2,     0.01,2,  27.2206,2,  22.6815,2,  27.2224,2
49UP20180806_1,   P13,    42,  1,     35,     844,2,20180813,1024,1251, 32.0060, 165.0132, 5981,     50.8,       50,  20.6626,  34.8862,2,    252.1,2,  34.8915,2,   250.83,2,     2.13,3,     0.00,2,     0.00,2,    0.000,3,    2.334,2,    1.281,2,   2004.4,2,   2294.8,2,   8.0333,2,    25.00,    0.194,2,     0.07,2,     0.02,2,  20.6530,2,  24.5011,2,  20.6162,2
49UP20180806_1,   P13,    42,  1,     34,     843,2,20180813,1024,1249, 32.0060, 165.0132, 5981,    101.3,      101,  18.0171,  34.8207,2,    238.8,2,  34.8174,2,   237.96,6,     2.48,3,     0.00,6,     0.00,6,    0.050,3,    2.374,2,    1.311,2,   2019.6,2,   2289.9,2,   8.0023,2,    25.00,    0.184,2,     0.16,2,     0.20,2,  17.9998,2,  25.1348,2,  18.0147,2
49UP20180806_1,   P13,    42,  1,     33,     842,2,20180813,1024,1247, 32.0060, 165.0132, 5981,    152.0,      151,  17.2657,  34.7935,2,    219.5,2,  34.7922,2,   218.94,2,     3.65,3,     3.46,2,     0.03,2,    0.220,3,    2.392,2,    1.333,2,   2035.9,2,   2287.4,2,   7.9650,2,    25.00,    0.148,2,     0.07,2,     0.25,2,  17.2404,2,  25.2984,2,  17.2657,2
49UP20180806_1,   P13,    42,  1,     32,     841,2,20180813,1024,1245, 32.0060, 165.0132, 5981,    205.0,      203,  16.7477,  34.7571,2,    216.5,2,  34.7554,2,   215.97,2,     4.77,3,     4.71,2,     0.01,2,    0.300,3,    2.436,2,    1.355,2,   2043.8,2,   2287.4,2,   7.9484,2,    25.00,    0.106,2,     0.00,2,     0.02,2,  16.7143,2,  25.3953,2,  16.7487,2
49UP20180806_1,   P13,    42,  1,     31,     840,2,20180813,1024,1244, 32.0060, 165.0132, 5981,    251.9,      250,  16.2541,  34.6990,2,    217.3,2,  34.6969,2,   216.83,2,     5.53,3,     5.21,2,     0.01,2,    0.340,3,    2.504,2,    1.390,2,   2047.7,2,   2283.0,2,   7.9365,2,    25.00,    0.106,2,  -999.00,9,  -999.00,9,  16.2139,2,  25.4670,2,  16.2540,2
49UP20180806_1,   P13,    42,  1,     30,     839,2,20180813,1024,1242, 32.0060, 165.0132, 5981,    302.6,      300,  15.3671,  34.6123,2,    209.9,2,  34.6123,2,   210.13,2,     7.70,3,     7.12,2,     0.00,2,    0.470,3,    2.590,2,    1.429,2,   2061.3,2,   2281.3,2,   7.9052,2,    25.00,    0.079,2,  -999.00,9,  -999.00,9,  15.3205,2,  25.6023,2,  15.3676,2
49UP20180806_1,   P13,    42,  1,     29,     838,2,20180813,1024,1239, 32.0060, 165.0132, 5981,    404.6,      401,  13.1578,  34.4209,2,    202.0,2,  34.4187,2,   202.38,2,    13.25,3,    11.22,2,     0.00,2,    0.760,3,    2.836,2,    1.556,2,   2086.5,2,   2274.5,2,   7.8344,2,    25.00,    0.060,2,  -999.00,9,  -999.00,9,  13.1016,2,  25.9239,2,  13.1556,2
49UP20180806_1,   P13,    42,  1,     28,     837,2,20180813,1024,1236, 32.0060, 165.0132, 5981,    505.0,      501,  10.5510,  34.2293,2,    196.7,2,  34.2311,2,   196.93,2,    23.87,3,    16.25,2,     0.00,2,    1.130,3,    2.966,2,    1.580,2,   2131.7,2,   2275.5,2,   7.7565,2,    25.00,    0.132,2,  -999.00,9,  -999.00,9,  10.4900,2,  26.2657,2,  10.5484,2
49UP20180806_1,   P13,    42,  1,     27,     661,2,20180813,1024,1233, 32.0060, 165.0132, 5981,    604.4,      599,   7.7740,  34.0162,2,    176.6,2,  34.0162,2,   177.52,2,    40.47,3,    23.02,2,     0.00,2,    1.640,3,    3.019,6,    1.562,6,   2173.7,2,   2280.3,2,   7.6446,2,    25.00,    0.166,6,  -999.00,9,  -999.00,9,   7.7132,2,  26.5432,2,   7.7745,2
49UP20180806_1,   P13,    42,  1,     26,     835,2,20180813,1024,1230, 32.0060, 165.0132, 5981,    707.2,      701,   5.6510,  33.9955,2,    122.9,2,  33.9968,6,   122.74,2,    67.40,3,    31.78,2,     0.00,2,    2.290,3,    2.468,2,    1.195,2,   2242.7,2,   2298.2,2,   7.5010,2,    25.00,    0.124,2,  -999.00,9,  -999.00,9,   5.5907,2,  26.8094,2,   5.6540,2
49UP20180806_1,   P13,    42,  1,     25,     834,2,20180813,1024,1227, 32.0060, 165.0132, 5981,    807.8,      801,   4.7271,  34.0867,2,     80.7,2,  34.0871,2,    80.84,6,    89.30,3,    37.09,6,     0.00,6,    2.660,3,    1.701,2,    0.786,2,   2287.3,2,   2319.6,2,   7.4162,2,    25.00,    0.091,2,  -999.00,9,  -999.00,9,   4.6632,2,  26.9890,2,   4.7272,2
49UP20180806_1,   P13,    42,  1,     24,     833,2,20180813,1024,1224, 32.0060, 165.0132, 5981,    909.2,      901,   4.2320,  34.1825,2,     57.2,2,  34.1823,2,    57.14,2,   105.47,3,    39.66,2,     0.00,2,    2.830,3,    1.096,2,    0.496,2,   2317.3,6,   2336.8,6,   7.3783,2,    25.00,    0.052,2,  -999.00,9,  -999.00,9,   4.1626,2,  27.1190,2,   4.2319,2
49UP20180806_1,   P13,    42,  1,     23,     832,2,20180813,1024,1221, 32.0060, 165.0132, 5981,   1010.0,     1001,   3.7694,  34.2747,2,     45.0,2,  34.2753,2,    45.28,2,   119.86,3,    41.06,2,     0.00,2,    2.940,3,    0.613,2,    0.280,2,   2346.9,2,   2354.7,2,   7.3634,6,    25.00,    0.026,2,  -999.00,9,  -999.00,9,   3.6950,2,  27.2401,2,   3.7692,2
49UP20180806_1,   P13,    42,  1,     22,     831,2,20180813,1024,1216, 32.0060, 165.0132, 5981,   1213.7,     1202,   3.1019,  34.3752,2,     34.7,2,  34.3750,2,    34.84,2,   138.82,3,    42.62,2,     0.00,2,    3.030,3,    0.254,2,    0.106,2,   2373.3,2,   2376.8,2,   7.3509,2,    25.00,    0.017,2,  -999.00,9,  -999.00,9,   3.0168,2,  27.3848,2,   3.1014,2
49UP20180806_1,   P13,    42,  1,     21,     830,2,20180813,1024,1211, 32.0060, 165.0132, 5981,   1417.6,     1403,   2.6748,  34.4610,2,     33.5,2,  34.4602,2,    33.51,2,   151.74,3,    43.25,2,     0.00,2,    3.070,3,    0.080,2,    0.035,2,   2377.6,3,   2393.7,2,   7.3559,2,    25.00,    0.000,2,  -999.00,9,  -999.00,9,   2.5776,2,  27.4923,2,   2.6748,2
49UP20180806_1,   P13,    42,  1,     20,     829,2,20180813,1024,1206, 32.0060, 165.0132, 5981,   1618.3,     1601,   2.3960,  34.5115,2,     41.6,2,  34.5116,2,    41.49,2,   158.83,3,    42.91,2,     0.00,2,    3.030,3,    0.034,2,    0.011,2,   2384.5,2,   2403.7,2,   7.3746,2,    25.00,    0.000,2,  -999.00,9,  -999.00,9,   2.2859,2,  27.5573,2,   2.3960,2
49UP20180806_1,   P13,    42,  1,     19,     828,2,20180813,1024,1201, 32.0060, 165.0132, 5981,   1823.5,     1803,   2.1643,  34.5536,2,     53.7,2,  34.5537,2,    53.35,2,   163.52,3,    42.25,2,     0.00,2,    2.980,3,    0.013,2,    0.007,2,   2378.6,2,   2412.0,2,   7.3973,2,    25.00,    0.004,2,  -999.00,9,  -999.00,9,   2.0404,2,  27.6109,2,   2.1644,2
49UP20180806_1,   P13,    42,  1,     18,     827,2,20180813,1024,1157, 32.0060, 165.0132, 5981,   2024.7,     2001,   1.9861,  34.5878,2,     69.6,2,  34.5879,2,    70.20,2,   165.01,3,    41.30,2,     0.00,2,    2.900,3,    0.003,2,    0.003,2,   2371.7,2,   2416.6,2,   7.4309,2,    25.00,    0.000,2,  -999.00,9,  -999.00,9,   1.8479,2,  27.6533,2,   1.9860,2
49UP20180806_1,   P13,    42,  1,     17,     826,2,20180813,1024,1151, 32.0060, 165.0132, 5981,   2228.6,     2201,   1.8537,  34.6109,2,     84.0,2,  34.6103,2,    84.18,2,   164.48,3,    40.29,2,     0.00,2,    2.830,3,    0.002,2,    0.004,2,   2367.7,2,   2417.4,2,   7.4602,2,    25.00,    0.003,2,  -999.00,9,  -999.00,9,   1.7003,2,  27.6831,2,   1.8537,2
49UP20180806_1,   P13,    42,  1,     16,     825,2,20180813,1024,1146, 32.0060, 165.0132, 5981,   2431.6,     2401,   1.7432,  34.6295,2,     97.7,2,  34.6298,2,    97.81,6,   163.33,3,    39.61,6,     0.00,6,    2.760,3,    0.000,2,    0.002,2,   2362.3,2,   2420.4,2,   7.4858,2,    25.00,   -0.000,2,  -999.00,9,  -999.00,9,   1.5739,2,  27.7074,2,   1.7433,2
49UP20180806_1,   P13,    42,  1,     15,     824,2,20180813,1024,1141, 32.0060, 165.0132, 5981,   2636.3,     2602,   1.6571,  34.6442,2,    110.4,2,  34.6432,2,   110.52,2,   161.24,3,    38.81,2,     0.00,2,    2.700,3,    0.000,2,    0.001,2,   2349.9,2,   2421.3,2,   7.5094,2,    25.00,    0.001,2,  -999.00,9,  -999.00,9,   1.4710,2,  27.7267,2,   1.6572,2
49UP20180806_1,   P13,    42,  1,     14,     823,2,20180813,1024,1137, 32.0060, 165.0132, 5981,   2840.4,     2802,   1.6015,  34.6538,2,    119.5,2,  34.6542,2,   119.52,2,   159.41,3,    38.16,2,     0.00,2,    2.660,3,    0.000,6,    0.001,6,   2344.1,2,   2423.7,2,   7.5250,2,    25.00,    0.000,6,  -999.00,9,  -999.00,9,   1.3977,2,  27.7397,2,   1.6016,2
49UP20180806_1,   P13,    42,  1,     13,     822,2,20180813,1024,1132, 32.0060, 165.0132, 5981,   3044.0,     3001,   1.5658,  34.6607,2,    126.4,2,  34.6615,6,   126.77,2,   157.49,3,    37.76,2,     0.00,2,    2.610,3, -999.000,9, -999.000,9,   2346.7,2,   2422.4,2,   7.5392,2,    25.00, -999.000,9,  -999.00,9,  -999.00,9,   1.3434,2,  27.7491,2,   1.5656,2
49UP20180806_1,   P13,    42,  1,     12,     821,2,20180813,1024,1126, 32.0060, 165.0132, 5981,   3299.2,     3251,   1.5218,  34.6687,2,    134.9,2,  34.6692,2,   135.34,2,   155.25,3,    37.14,2,     0.00,2,    2.570,3, -999.000,9, -999.000,9,   2340.4,6,   2422.1,6,   7.5540,2,    25.00, -999.000,9,  -999.00,9,  -999.00,9,   1.2755,2,  27.7603,2,   1.5219,2
49UP20180806_1,   P13,    42,  1,     11,     820,2,20180813,1024,1120, 32.0060, 165.0132, 5981,   3555.6,     3501,   1.4972,  34.6743,2,    140.9,2,  34.6728,2,   140.18,2,   153.55,3,    36.71,2,     0.00,2,    2.540,3, -999.000,9, -999.000,9,   2335.0,2,   2421.2,2,   7.5649,6,    25.00, -999.000,9,  -999.00,9,  -999.00,9,   1.2255,2,  27.7683,2,   1.4972,2
49UP20180806_1,   P13,    42,  1,     10,     819,2,20180813,1024,1115, 32.0060, 165.0132, 5981,   3812.0,     3752,   1.4870,  34.6784,2,    145.5,2,  34.6782,2,   145.55,2,   152.43,3,    36.42,2,     0.00,2,    2.510,3,    0.000,2,    0.000,2,   2331.4,2,   2422.7,2,   7.5712,2,    25.00,    0.004,2,  -999.00,9,  -999.00,9,   1.1887,2,  27.7742,2,   1.4872,2
49UP20180806_1,   P13,    42,  1,      9,     818,2,20180813,1024,1109, 32.0060, 165.0132, 5981,   4066.3,     4000,   1.4779,  34.6818,2,    150.0,2,  34.6822,2,   150.26,2,   151.59,3,    36.17,2,     0.00,2,    2.500,3, -999.000,9, -999.000,9,   2328.6,2,   2420.7,2,   7.5793,2,    25.00, -999.000,9,  -999.00,9,  -999.00,9,   1.1524,2,  27.7793,2,   1.4779,2
49UP20180806_1,   P13,    42,  1,      8,     817,2,20180813,1024,1104, 32.0060, 165.0132, 5981,   4323.8,     4250,   1.4782,  34.6846,2,    153.8,2,  34.6846,6,   153.85,2,   149.95,3,    35.91,2,     0.00,2,    2.470,3, -999.000,9, -999.000,9,   2324.2,2,   2419.5,2,   7.5852,2,    25.00, -999.000,9,  -999.00,9,  -999.00,9,   1.1240,2,  27.7835,2,   1.4782,2
49UP20180806_1,   P13,    42,  1,      7,     816,2,20180813,1024,1058, 32.0060, 165.0132, 5981,   4579.7,     4499,   1.4813,  34.6873,2,    157.5,2,  34.6846,4,   155.87,3,   148.39,3,    35.71,6,     0.00,6,    2.460,3, -999.000,9, -999.000,9,   2319.5,2,   2418.0,2,   7.5872,2,    25.00, -999.000,9,  -999.00,9,  -999.00,9,   1.0977,2,  27.7875,2,   1.4813,2
49UP20180806_1,   P13,    42,  1,      6,     815,2,20180813,1024,1052, 32.0060, 165.0132, 5981,   4837.4,     4750,   1.4864,  34.6896,2,    161.8,2,  34.6896,2,   161.94,2,   144.85,3,    35.29,2,     0.00,2,    2.430,3,    0.001,2,    0.001,2,   2321.6,2,   2415.0,2,   7.5976,2,    25.00,    0.003,2,  -999.00,9,  -999.00,9,   1.0722,2,  27.7911,2,   1.4864,2
49UP20180806_1,   P13,    42,  1,      5,     814,2,20180813,1024,1047, 32.0060, 165.0132, 5981,   5095.9,     5001,   1.4944,  34.6916,2,    165.6,2,  34.6905,2,   164.76,2,   142.21,3,    34.94,2,     0.00,2,    2.410,3, -999.000,9, -999.000,9,   2320.5,2,   2413.2,2,   7.5993,2,    25.00, -999.000,9,  -999.00,9,  -999.00,9,   1.0486,2,  27.7943,2,   1.4945,2
49UP20180806_1,   P13,    42,  1,      4,     813,2,20180813,1024,1041, 32.0060, 165.0132, 5981,   5352.3,     5249,   1.5070,  34.6934,2,    169.2,2,  34.6932,6,   169.54,2,   139.29,3,    34.82,2,     0.00,2,    2.390,3, -999.000,9, -999.000,9,   2313.4,2,   2410.9,2,   7.6055,2,    25.00, -999.000,9,  -999.00,9,  -999.00,9,   1.0289,2,  27.7970,2,   1.5070,2
49UP20180806_1,   P13,    42,  1,      3,     812,2,20180813,1024,1036, 32.0060, 165.0132, 5981,   5610.3,     5499,   1.5238,  34.6946,2,    171.5,2,  34.6937,2,   170.09,3,   138.20,3,    34.60,2,     0.00,2,    2.380,3, -999.000,9, -999.000,9,   2307.8,2,   2409.2,2,   7.6067,2,    25.00, -999.000,9,  -999.00,9,  -999.00,9,   1.0122,2,  27.7991,2,   1.5238,2
49UP20180806_1,   P13,    42,  1,      2,     811,2,20180813,1024,1030, 32.0060, 165.0132, 5981,   5869.4,     5750,   1.5457,  34.6957,2,    173.2,2,  34.6955,2,   173.36,2,   136.62,3,    34.45,2,     0.00,2,    2.360,3, -999.000,9, -999.000,9,   2307.5,2,   2407.5,2,   7.6066,2,    25.00, -999.000,9,  -999.00,9,  -999.00,9,   0.9994,2,  27.8009,2,   1.5456,2
49UP20180806_1,   P13,    42,  1,      1,     810,2,20180813,1024,1024, 32.0060, 165.0132, 5981,   6132.1,     6004,   1.5714,  34.6965,2,    174.8,2,  34.6959,2,   174.40,2,   135.67,3,    34.32,2,     0.00,2,    2.360,3,    0.000,2,    0.000,2,   2301.3,6,   2407.2,6,   7.6093,2,    25.00,    0.000,2,  -999.00,9,  -999.00,9,   0.9889,2,  27.8022,2,   1.5713,2