BOTTLE,20191018JMAGEMD
EXPOCODE,SECT_ID,STNNBR,CASTNO,SAMPNO,BTLNBR,BTLNBR_FLAG_U,DATE,TIME,BTL_TIME,LATITUDE,LONGITUDE,DEPTH,CTDPRS,CTDDEP,CTDTMP,CTDSAL,CTDSAL_FLAG_W,CTDOXY,CTDOXY_FLAG_W,SALNTY,SALNTY_FLAG_W,OXYGEN,OXYGEN_FLAG_W,SILCAT,SILCAT_FLAG_W,NO2+NO3,NO2+NO3_FLAG_W,NITRIT,NITRIT_FLAG_W,PHSPHT,PHSPHT_FLAG_W,CFC-11,CFC-11_FLAG_W,CFC-12,CFC-12_FLAG_W,TCARBN,TCARBN_FLAG_W,ALKALI,ALKALI_FLAG_W,PH_TS,PH_TS_FLAG_W,PH_TS_TMP,CFC113,CFC113_FLAG_W,CHLORA,CHLORA_FLAG_W,PPHYTN,PPHYTN_FLAG_W,THETA,THETA_FLAG_W,SIGTHT,SIGTHT_FLAG_W,SBE35,SBE35_FLAG_W
,,,,,,,,UTC,,,,METER,DBAR,METERS,ITS-90,PSS-78,,UMOL/KG,,PSS78,,UMOL/KG,,UMOL/KG,,UMOL/KG,,UMOL/KG,,UMOL/KG,,PMOL/KG,,PMOL/KG,,UMOL/KG,,UMOL/KG,,,,ITS-90,PMOL/KG,,UG/KG,,UG/KG,,ITS-90,,KG/M3,,ITS-90,
49UP20180806_1,   P13,    36,  1,      0,      -9,0,20180811,0057,0255, 36.0137, 165.0440, 5637,      0.0,        0,  26.4234,  34.4659,2,    207.8,2,  34.4794,2,   207.16,2,     1.75,3,     0.00,2,     0.00,2,    0.030,3, -999.000,9, -999.000,9,   1968.8,2,   2267.5,2,   8.0700,2,    25.00, -999.000,9,     0.09,2,     0.03,2,  26.4227,2,  22.4983,2,-999.0000,9
49UP20180806_1,   P13,    36,  1,     36,     845,2,20180811,0057,0328, 36.0137, 165.0440, 5637,     10.4,       10,  26.3597,  34.4727,2,    208.1,2,  34.4717,2,   208.22,2,     1.80,3,     0.00,2,     0.00,2,    0.000,3,    1.771,2,    1.037,2,   1962.0,2,   2267.6,2,   8.0720,2,    25.00,    0.160,2,     0.10,2,     0.03,2,  26.3574,2,  22.5239,2,  26.3607,2
49UP20180806_1,   P13,    36,  1,     35,     844,2,20180811,0057,0323, 36.0137, 165.0440, 5637,     50.2,       50,  23.5619,  34.6204,2,    221.3,2,  34.6199,2,   221.38,2,     1.97,3,     0.00,2,     0.00,2,    0.010,3,    1.993,2,    1.145,2,   1975.1,2,   2278.7,2,   8.0583,2,    25.00,    0.142,2,     0.19,2,     0.07,2,  23.5515,2,  23.4858,2,  23.5603,2
49UP20180806_1,   P13,    36,  1,     34,     843,2,20180811,0057,0322, 36.0137, 165.0440, 5637,     75.0,       74,  20.6291,  34.7977,2,    201.6,2,  34.7865,4,   203.06,2,     3.67,3,     1.75,2,     0.14,2,    0.150,3, -999.000,9, -999.000,9,   2015.0,6,   2290.2,6,   8.0050,2,    25.00, -999.000,9,     0.82,2,     0.72,2,  20.6150,2,  24.4439,2,  20.6033,2
49UP20180806_1,   P13,    36,  1,     33,     842,2,20180811,0057,0320, 36.0137, 165.0440, 5637,    100.5,      100,  18.6971,  34.7202,2,    185.5,2,  34.7203,2,   185.42,2,     7.31,3,     5.89,2,     0.02,2,    0.410,3,    2.275,2,    1.303,2,   2053.1,2,   2284.6,2,   7.9400,6,    25.00,    0.046,2,     0.13,2,     0.15,2,  18.6795,2,  24.8885,2,  18.6938,2
49UP20180806_1,   P13,    36,  1,     32,     841,2,20180811,0057,0318, 36.0137, 165.0440, 5637,    127.3,      126,  17.7552,  34.7425,2,    190.7,2,  34.7437,2,   190.08,2,     7.45,3,     6.13,2,     0.01,2,    0.420,3, -999.000,9, -999.000,9,   2049.9,2,   2285.9,2,   7.9334,2,    25.00, -999.000,9,     0.01,2,     0.04,2,  17.7336,2,  25.1401,2,  17.7649,2
49UP20180806_1,   P13,    36,  1,     31,     840,2,20180811,0057,0316, 36.0137, 165.0440, 5637,    151.7,      151,  17.2200,  34.7555,2,    200.6,2,  34.7537,2,   200.17,2,     5.87,3,     5.69,2,     0.01,2,    0.380,3,    2.422,2,    1.375,2,   2055.6,2,   2286.6,2,   7.9371,2,    25.00,    0.069,2,     0.00,2,     0.02,2,  17.1948,2,  25.2801,2,  17.2264,2
49UP20180806_1,   P13,    36,  1,     30,     839,2,20180811,0057,0314, 36.0137, 165.0440, 5637,    204.5,      203,  16.0280,  34.6619,2,    192.9,2,  34.6706,6,   195.44,2,     8.24,3,     7.74,2,     0.01,2,    0.520,3,    2.510,2,    1.411,2,   2068.7,2,   2282.7,2,   7.9051,2,    25.00,    0.058,2,     0.00,2,     0.02,2,  15.9956,2,  25.4885,2,  16.0329,2
49UP20180806_1,   P13,    36,  1,     29,     838,2,20180811,0057,0312, 36.0137, 165.0440, 5637,    254.2,      252,  14.3213,  34.5239,2,    213.0,2,  34.5233,2,   212.35,6,    10.44,3,     8.60,6,     0.00,6,    0.600,3,    2.753,2,    1.528,2,   2070.1,2,   2276.0,2,   7.8815,2,    25.00,    0.128,2,  -999.00,9,  -999.00,9,  14.2841,2,  25.7592,2,  14.3235,2
49UP20180806_1,   P13,    36,  1,     28,     837,3,20180811,0057,0309, 36.0137, 165.0440, 5637,    334.8,      332,  12.1960,  34.3877,2,    213.2,2,  34.3918,2,   212.91,2,    16.36,3,    12.09,2,     0.00,2,    0.830,3,    2.895,2,    1.618,2,   2094.7,2,   2278.8,2,   7.8282,2,    25.00,    0.145,2,  -999.00,9,  -999.00,9,  12.1519,2,  26.0845,2,  12.2012,2
49UP20180806_1,   P13,    36,  1,     27,     661,2,20180811,0057,0305, 36.0137, 165.0440, 5637,    441.4,      438,   9.6856,  34.1352,2,    220.6,2,  34.1376,2,   221.74,2,    22.54,3,    15.37,2,     0.00,2,    1.090,3,    3.253,2,    1.788,2,   2121.0,2,   2272.5,2,   7.7652,2,    25.00,    0.193,2,  -999.00,9,  -999.00,9,   9.6353,2,  26.3378,2,   9.6891,2
49UP20180806_1,   P13,    36,  1,     26,     835,2,20180811,0057,0302, 36.0137, 165.0440, 5637,    531.0,      526,   6.6589,  33.8830,2,    189.7,2,  33.8859,2,   189.38,2,    42.18,3,    23.85,2,     0.00,2,    1.730,3,    3.382,2,    1.793,2,   2179.9,2,   2277.0,2,   7.6235,2,    25.00,    0.216,2,  -999.00,9,  -999.00,9,   6.6103,2,  26.5913,2,   6.6674,2
49UP20180806_1,   P13,    36,  1,     25,     834,2,20180811,0057,0259, 36.0137, 165.0440, 5637,    637.4,      632,   5.6715,  33.9952,2,    123.7,2,  33.9928,2,   124.95,2,    66.15,3,    31.62,2,     0.00,2,    2.270,3,    2.534,2,    1.262,2,   2235.9,2,   2294.7,2,   7.5046,2,    25.00,    0.121,2,  -999.00,9,  -999.00,9,   5.6173,2,  26.8059,2,   5.6718,2
49UP20180806_1,   P13,    36,  1,     24,     833,2,20180811,0057,0255, 36.0137, 165.0440, 5637,    739.8,      733,   4.9101,  34.0737,2,     88.0,2,  34.0736,2,    88.52,2,    84.59,3,    36.15,2,     0.00,2,    2.590,3,    1.887,2,    0.894,2,   2283.2,2,   2313.6,2,   7.4291,2,    25.00,    0.099,2,  -999.00,9,  -999.00,9,   4.8508,2,  26.9578,2,   4.9113,2
49UP20180806_1,   P13,    36,  1,     23,     832,2,20180811,0057,0252, 36.0137, 165.0440, 5637,    838.8,      831,   4.3248,  34.1769,2,     60.5,2,  34.1771,2,    61.40,2,   102.54,3,    39.29,2,     0.00,2,    2.800,3,    1.188,2,    0.552,2,   2312.8,2,   2337.1,2,   7.3853,2,    25.00,    0.068,2,  -999.00,9,  -999.00,9,   4.2607,2,  27.1042,2,   4.3249,2
49UP20180806_1,   P13,    36,  1,     22,     831,2,20180811,0057,0249, 36.0137, 165.0440, 5637,    939.2,      930,   3.8721,  34.2603,2,     47.4,2,  34.2605,2,    47.11,2,   116.25,3,    40.85,2,     0.00,2,    2.920,3,    0.692,2,    0.317,2,   2336.6,2,   2349.0,2,   7.3677,2,    25.00,    0.029,2,  -999.00,9,  -999.00,9,   3.8028,2,  27.2178,2,   3.8721,2
49UP20180806_1,   P13,    36,  1,     21,     830,2,20180811,0057,0245, 36.0137, 165.0440, 5637,   1081.4,     1071,   3.3882,  34.3321,2,     38.9,2,  34.3313,2,    39.47,2,   129.85,3,    42.07,2,     0.00,2,    2.990,3,    0.387,2,    0.177,2,   2352.2,2,   2364.5,2,   7.3581,2,    25.00,    0.016,2,  -999.00,9,  -999.00,9,   3.3111,2,  27.3230,2,   3.3884,2
49UP20180806_1,   P13,    36,  1,     20,     829,2,20180811,0057,0241, 36.0137, 165.0440, 5637,   1289.1,     1276,   2.9675,  34.4097,2,     37.6,2,  34.4104,2,    37.60,6,   142.57,3,    42.65,6,     0.00,6,    3.030,3,    0.177,2,    0.072,2,   2371.4,2,   2379.9,2,   7.3589,2,    25.00,    0.008,2,  -999.00,9,  -999.00,9,   2.8776,2,  27.4249,2,   2.9676,2
49UP20180806_1,   P13,    36,  1,     19,     828,2,20180811,0057,0235, 36.0137, 165.0440, 5637,   1489.1,     1473,   2.6027,  34.4715,2,     40.2,2,  34.4710,2,    40.47,2,   152.58,3,    42.81,2,     0.00,2,    3.030,3,    0.084,2,    0.033,2,   2378.4,2,   2394.5,2,   7.3649,2,    25.00,    0.000,2,  -999.00,9,  -999.00,9,   2.5006,2,  27.5073,2,   2.6033,2
49UP20180806_1,   P13,    36,  1,     18,     827,2,20180811,0057,0230, 36.0137, 165.0440, 5637,   1686.0,     1667,   2.3530,  34.5200,2,     44.7,2,  34.5207,2,    44.36,2,   159.72,3,    42.86,2,     0.00,2,    3.020,3,    0.024,2,    0.009,2,   2381.2,6,   2403.2,6,   7.3826,2,    25.00,    0.006,2,  -999.00,9,  -999.00,9,   2.2379,2,  27.5679,2,   2.3532,2
49UP20180806_1,   P13,    36,  1,     17,     826,2,20180811,0057,0225, 36.0137, 165.0440, 5637,   1895.5,     1873,   2.1112,  34.5604,2,     57.4,2,  34.5584,4,    57.14,2,   164.26,3,    42.01,2,     0.00,2,    2.950,3,    0.013,2,    0.006,2,   2385.5,2,   2410.6,2,   7.4065,6,    25.00,    0.006,2,  -999.00,9,  -999.00,9,   1.9821,2,  27.6209,2,   2.1113,2
49UP20180806_1,   P13,    36,  1,     16,     825,2,20180811,0057,0220, 36.0137, 165.0440, 5637,   2096.2,     2071,   1.9470,  34.5904,2,     70.3,2,  34.5906,2,    70.57,2,   166.78,3,    41.36,2,     0.00,2,    2.890,3,    0.003,2,    0.007,2,   2375.3,2,   2417.9,2,   7.4290,2,    25.00,    0.006,2,  -999.00,9,  -999.00,9,   1.8034,2,  27.6588,2,   1.9473,2
49UP20180806_1,   P13,    36,  1,     15,     824,2,20180811,0057,0215, 36.0137, 165.0440, 5637,   2302.4,     2273,   1.8043,  34.6140,2,     84.7,2,  34.6131,2,    84.66,2,   166.94,3,    40.39,2,     0.00,2,    2.810,3,    0.002,2,    0.002,2,   2367.4,2,   2418.0,2,   7.4585,2,    25.00,    0.001,2,  -999.00,9,  -999.00,9,   1.6452,2,  27.6897,2,   1.8043,2
49UP20180806_1,   P13,    36,  1,     14,     823,2,20180811,0057,0210, 36.0137, 165.0440, 5637,   2503.9,     2471,   1.7173,  34.6304,2,     97.3,2,  34.6307,2,    97.35,2,   165.44,3,    39.61,2,     0.00,2,    2.760,3,    0.000,2,    0.002,2,   2362.3,2,   2418.4,2,   7.4831,2,    25.00,    0.000,2,  -999.00,9,  -999.00,9,   1.5420,2,  27.7105,2,   1.7176,2
49UP20180806_1,   P13,    36,  1,     13,     822,2,20180811,0057,0205, 36.0137, 165.0440, 5637,   2715.3,     2678,   1.6314,  34.6453,2,    109.9,2,  34.6459,2,   109.83,2,   163.53,3,    38.83,2,     0.00,2,    2.700,3,    0.000,2,   -0.000,2,   2353.7,2,   2420.8,2,   7.5071,2,    25.00,    0.000,2,  -999.00,9,  -999.00,9,   1.4386,2,  27.7300,2,   1.6315,2
49UP20180806_1,   P13,    36,  1,     12,     821,2,20180811,0057,0159, 36.0137, 165.0440, 5637,   2916.6,     2875,   1.5772,  34.6555,2,    120.0,2,  34.6553,2,   120.28,2,   160.65,3,    38.15,2,     0.00,2,    2.650,3,    0.003,2,    0.001,2,   2344.0,2,   2420.9,2,   7.5277,2,    25.00,    0.000,2,  -999.00,9,  -999.00,9,   1.3667,2,  27.7433,2,   1.5772,2
49UP20180806_1,   P13,    36,  1,     11,     820,2,20180811,0057,0154, 36.0137, 165.0440, 5637,   3126.9,     3081,   1.5328,  34.6632,2,    127.8,2,  34.6627,6,   127.39,6,   159.33,3,    37.71,6,     0.00,6,    2.610,3, -999.000,9, -999.000,9,   2342.7,2,   2419.7,2,   7.5404,2,    25.00, -999.000,9,  -999.00,9,  -999.00,9,   1.3032,2,  27.7539,2,   1.5328,2
49UP20180806_1,   P13,    36,  1,     10,     819,2,20180811,0057,0149, 36.0137, 165.0440, 5637,   3385.1,     3334,   1.4908,  34.6714,2,    136.7,2,  34.6711,2,   136.85,2,   156.89,3,    37.06,2,     0.00,2,    2.560,3,    0.000,2,    0.001,2,   2334.3,2,   2418.0,2,   7.5568,2,    25.00,    0.000,2,  -999.00,9,  -999.00,9,   1.2366,2,  27.7652,2,   1.4909,2
49UP20180806_1,   P13,    36,  1,      9,     818,2,20180811,0057,0143, 36.0137, 165.0440, 5637,   3636.0,     3579,   1.4695,  34.6766,2,    143.0,2,  34.6761,2,   142.66,2,   155.60,3,    36.65,2,     0.00,2,    2.530,3, -999.000,9, -999.000,9,   2335.6,2,   2419.9,2,   7.5666,2,    25.00, -999.000,9,  -999.00,9,  -999.00,9,   1.1902,2,  27.7726,2,   1.4695,2
49UP20180806_1,   P13,    36,  1,      8,     817,2,20180811,0057,0138, 36.0137, 165.0440, 5637,   3893.1,     3829,   1.4587,  34.6810,2,    148.1,2,  34.6806,2,   148.00,2,   154.03,3,    36.36,2,     0.00,2,    2.510,3, -999.000,9, -999.000,9,   2332.2,2,   2419.7,2,   7.5750,2,    25.00, -999.000,9,  -999.00,9,  -999.00,9,   1.1525,2,  27.7787,2,   1.4589,2
49UP20180806_1,   P13,    36,  1,      7,     816,2,20180811,0057,0132, 36.0137, 165.0440, 5637,   4151.4,     4081,   1.4580,  34.6841,2,    152.0,2,  34.6789,4,   150.89,3,   152.72,3,    36.12,2,     0.00,2,    2.490,3,    0.002,2,    0.001,2,   2331.2,2,   2418.6,2,   7.5786,2,    25.00,    0.000,2,  -999.00,9,  -999.00,9,   1.1237,2,  27.7832,2,   1.4581,2
49UP20180806_1,   P13,    36,  1,      6,     815,2,20180811,0057,0127, 36.0137, 165.0440, 5637,   4402.7,     4326,   1.4662,  34.6864,2,    154.6,2,  34.6863,2,   154.95,2,   153.44,3,    35.91,2,     0.00,2,    2.470,3,   -0.000,2,    0.000,2,   2328.6,2,   2417.7,2,   7.5875,6,    25.00,    0.000,2,  -999.00,9,  -999.00,9,   1.1034,2,  27.7864,2,   1.4662,2
49UP20180806_1,   P13,    36,  1,      5,     814,2,20180811,0057,0122, 36.0137, 165.0440, 5637,   4661.2,     4577,   1.4833,  34.6879,2,    156.5,2,  34.6869,2,   156.38,2,   152.65,3,    35.80,2,     0.00,2,    2.460,3,    0.008,2,    0.002,2,   2325.8,2,   2418.6,2,   7.5907,2,    25.00,    0.002,2,  -999.00,9,  -999.00,9,   1.0901,2,  27.7886,2,   1.4834,2
49UP20180806_1,   P13,    36,  1,      4,     813,2,20180811,0057,0116, 36.0137, 165.0440, 5637,   4921.4,     4830,   1.4976,  34.6897,2,    159.8,2,  34.6898,2,   160.31,2,   149.34,3,    35.56,2,     0.00,2,    2.450,3,   -0.000,2,    0.000,2,   2325.1,2,   2417.3,2,   7.5950,2,    25.00,    0.004,2,  -999.00,9,  -999.00,9,   1.0730,2,  27.7911,2,   1.4976,2
49UP20180806_1,   P13,    36,  1,      3,     812,2,20180811,0057,0111, 36.0137, 165.0440, 5637,   5173.2,     5074,   1.4991,  34.6921,2,    165.3,2,  34.6888,4,   162.90,3,   144.52,3,    35.24,2,     0.00,2,    2.430,3,    0.002,2,   -0.000,2,   2311.3,2,   2411.3,2,   7.5959,2,    25.00,    0.000,2,  -999.00,9,  -999.00,9,   1.0436,2,  27.7950,2,   1.4991,2
49UP20180806_1,   P13,    36,  1,      2,     811,2,20180811,0057,0105, 36.0137, 165.0440, 5637,   5437.3,     5330,   1.5099,  34.6939,2,    169.3,2,  34.6940,6,   169.76,6,   140.12,3,    34.84,6,     0.00,6,    2.380,3,    0.000,2,    0.000,2,   2307.2,2,   2409.2,2,   7.6047,2,    25.00,    0.001,2,  -999.00,9,  -999.00,9,   1.0209,2,  27.7980,2,   1.5099,2
49UP20180806_1,   P13,    36,  1,      1,     810,2,20180811,0057,0058, 36.0137, 165.0440, 5637,   5752.1,     5635,   1.5416,  34.6948,2,    170.9,2,  34.6948,6,   171.18,2,   138.57,3,    34.71,2,     0.00,2,    2.370,3,    0.001,2,    0.002,2,   2305.0,2,   2405.2,2,   7.6099,2,    25.00,    0.000,2,  -999.00,9,  -999.00,9,   1.0109,2,  27.7993,2,   1.5416,2