BOTTLE,20191018JMAGEMD
EXPOCODE,SECT_ID,STNNBR,CASTNO,SAMPNO,BTLNBR,BTLNBR_FLAG_U,DATE,TIME,BTL_TIME,LATITUDE,LONGITUDE,DEPTH,CTDPRS,CTDDEP,CTDTMP,CTDSAL,CTDSAL_FLAG_W,CTDOXY,CTDOXY_FLAG_W,SALNTY,SALNTY_FLAG_W,OXYGEN,OXYGEN_FLAG_W,SILCAT,SILCAT_FLAG_W,NO2+NO3,NO2+NO3_FLAG_W,NITRIT,NITRIT_FLAG_W,PHSPHT,PHSPHT_FLAG_W,CFC-11,CFC-11_FLAG_W,CFC-12,CFC-12_FLAG_W,TCARBN,TCARBN_FLAG_W,ALKALI,ALKALI_FLAG_W,PH_TS,PH_TS_FLAG_W,PH_TS_TMP,CFC113,CFC113_FLAG_W,CHLORA,CHLORA_FLAG_W,PPHYTN,PPHYTN_FLAG_W,THETA,THETA_FLAG_W,SIGTHT,SIGTHT_FLAG_W,SBE35,SBE35_FLAG_W
,,,,,,,,UTC,,,,METER,DBAR,METERS,ITS-90,PSS-78,,UMOL/KG,,PSS78,,UMOL/KG,,UMOL/KG,,UMOL/KG,,UMOL/KG,,UMOL/KG,,PMOL/KG,,PMOL/KG,,UMOL/KG,,UMOL/KG,,,,ITS-90,PMOL/KG,,UG/KG,,UG/KG,,ITS-90,,KG/M3,,ITS-90,
49UP20180806_2,   P13,    75,  1,      0,      -9,0,20180904,1123,1310,  7.5007, 164.2583, 5127,      0.0,        0,  29.7541,  33.4034,2,    196.5,2,-999.0000,9,   196.33,2,     1.23,3,     0.00,2,     0.00,2,    0.050,3, -999.000,9, -999.000,9,   -999.0,9,   -999.0,9,-999.0000,9,  -999.00, -999.000,9,  -999.00,9,  -999.00,9,  29.7535,2,  20.6133,2,-999.0000,9
49UP20180806_2,   P13,    75,  1,     36,     845,2,20180904,1123,1345,  7.5007, 164.2583, 5127,     11.2,       11,  29.7648,  33.4201,2,    196.4,2,  33.4240,2,   195.97,2,     1.23,3,     0.00,2,     0.00,2,    0.040,3, -999.000,9, -999.000,9,   -999.0,9,   -999.0,9,-999.0000,9,  -999.00, -999.000,9,  -999.00,9,  -999.00,9,  29.7620,2,  20.6229,2,  29.7628,2
49UP20180806_2,   P13,    75,  1,     35,     844,3,20180904,1123,1341,  7.5007, 164.2583, 5127,     50.5,       50,  27.4637,  34.4789,2,    199.5,2,  34.4794,2,   200.06,6,     1.62,3,     0.00,6,     0.00,6,    0.110,3, -999.000,9, -999.000,9,   -999.0,9,   -999.0,9,-999.0000,9,  -999.00, -999.000,9,  -999.00,9,  -999.00,9,  27.4520,2,  22.1805,2,  27.4614,2
49UP20180806_2,   P13,    75,  1,     34,     843,2,20180904,1123,1339,  7.5007, 164.2583, 5127,    101.6,      101,  20.7880,  34.8231,2,    172.5,2,  34.8366,2,   173.60,2,     3.94,3,     2.66,2,     0.18,2,    0.400,3, -999.000,9, -999.000,9,   -999.0,9,   -999.0,9,-999.0000,9,  -999.00, -999.000,9,  -999.00,9,  -999.00,9,  20.7688,2,  24.4219,2,  20.8555,2
49UP20180806_2,   P13,    75,  1,     33,     842,2,20180904,1123,1337,  7.5007, 164.2583, 5127,    150.6,      150,  12.9878,  34.4984,2,     97.6,2,  34.5013,2,    98.53,2,    19.73,3,    21.12,2,     0.01,2,    1.590,3, -999.000,9, -999.000,9,   -999.0,9,   -999.0,9,-999.0000,9,  -999.00, -999.000,9,  -999.00,9,  -999.00,9,  12.9672,2,  26.0108,2,  12.9666,2
49UP20180806_2,   P13,    75,  1,     32,     841,2,20180904,1123,1334,  7.5007, 164.2583, 5127,    204.1,      203,  10.7350,  34.6049,2,     42.7,2,  34.6029,2,    42.22,2,    30.77,3,    31.23,2,     0.00,2,    2.280,3, -999.000,9, -999.000,9,   -999.0,9,   -999.0,9,-999.0000,9,  -999.00, -999.000,9,  -999.00,9,  -999.00,9,  10.7103,2,  26.5197,2,  10.7307,2
49UP20180806_2,   P13,    75,  1,     31,     840,2,20180904,1123,1332,  7.5007, 164.2583, 5127,    253.0,      251,   9.9125,  34.6291,2,     37.8,2,  34.6286,2,    37.10,2,    33.82,3,    33.39,2,     0.00,2,    2.390,3, -999.000,9, -999.000,9,   -999.0,9,   -999.0,9,-999.0000,9,  -999.00, -999.000,9,  -999.00,9,  -999.00,9,   9.8833,2,  26.6822,2,   9.9108,2
49UP20180806_2,   P13,    75,  1,     30,     839,2,20180904,1123,1330,  7.5007, 164.2583, 5127,    284.7,      283,   9.5430,  34.6306,2,     41.7,2,  34.6282,2,    41.51,2,    35.07,3,    33.85,2,     0.00,2,    2.410,3, -999.000,9, -999.000,9,   -999.0,9,   -999.0,9,-999.0000,9,  -999.00, -999.000,9,  -999.00,9,  -999.00,9,   9.5109,2,  26.7457,2,   9.5413,2
49UP20180806_2,   P13,    75,  1,     29,     838,2,20180904,1123,1328,  7.5007, 164.2583, 5127,    324.1,      322,   9.1740,  34.6257,2,     48.8,2,  34.6243,2,    48.79,2,    36.15,3,    34.07,2,     0.00,2,    2.430,3, -999.000,9, -999.000,9,   -999.0,9,   -999.0,9,-999.0000,9,  -999.00, -999.000,9,  -999.00,9,  -999.00,9,   9.1383,2,  26.8028,2,   9.1738,2
49UP20180806_2,   P13,    75,  1,     28,     837,2,20180904,1123,1326,  7.5007, 164.2583, 5127,    372.8,      370,   8.6777,  34.5964,2,     53.5,2,  34.5961,2,    53.47,2,    39.26,3,    34.52,2,     0.00,2,    2.450,3, -999.000,9, -999.000,9,   -999.0,9,   -999.0,9,-999.0000,9,  -999.00, -999.000,9,  -999.00,9,  -999.00,9,   8.6379,2,  26.8593,2,   8.6785,2
49UP20180806_2,   P13,    75,  1,     27,     661,2,20180904,1123,1324,  7.5007, 164.2583, 5127,    422.8,      420,   8.3519,  34.6013,2,     53.7,2,  34.6008,2,    53.17,6,    40.57,3,    35.41,6,     0.00,6,    2.510,3, -999.000,9, -999.000,9,   -999.0,9,   -999.0,9,-999.0000,9,  -999.00, -999.000,9,  -999.00,9,  -999.00,9,   8.3076,2,  26.9142,2,   8.3521,2
49UP20180806_2,   P13,    75,  1,     26,     835,2,20180904,1123,1322,  7.5007, 164.2583, 5127,    472.1,      469,   7.9672,  34.5882,2,     49.2,2,  34.5874,2,    48.76,2,    44.03,3,    36.47,2,     0.00,2,    2.600,3, -999.000,9, -999.000,9,   -999.0,9,   -999.0,9,-999.0000,9,  -999.00, -999.000,9,  -999.00,9,  -999.00,9,   7.9190,2,  26.9625,2,   7.9674,2
49UP20180806_2,   P13,    75,  1,     25,     834,2,20180904,1123,1319,  7.5007, 164.2583, 5127,    572.7,      569,   7.2345,  34.5625,2,     42.4,2,  34.5621,6,    42.66,2,    52.38,3,    38.37,2,     0.00,2,    2.760,3, -999.000,9, -999.000,9,   -999.0,9,   -999.0,9,-999.0000,9,  -999.00, -999.000,9,  -999.00,9,  -999.00,9,   7.1788,2,  27.0492,2,   7.2342,2
49UP20180806_2,   P13,    75,  1,     23,     832,2,20180904,1123,1316,  7.5007, 164.2583, 5127,    676.1,      671,   6.4654,  34.5467,2,     41.1,2,  34.5464,2,    41.02,2,    62.01,3,    40.08,2,     0.00,2,    2.890,3, -999.000,9, -999.000,9,   -999.0,9,   -999.0,9,-999.0000,9,  -999.00, -999.000,9,  -999.00,9,  -999.00,9,   6.4030,2,  27.1423,2,   6.4656,2
49UP20180806_2,   P13,    75,  1,     22,     831,2,20180904,1123,1313,  7.5007, 164.2583, 5127,    776.8,      771,   5.7117,  34.5443,2,     46.1,2,  34.5439,2,    46.23,2,    71.70,3,    41.13,2,     0.00,2,    2.940,3, -999.000,9, -999.000,9,   -999.0,9,   -999.0,9,-999.0000,9,  -999.00, -999.000,9,  -999.00,9,  -999.00,9,   5.6440,2,  27.2371,2,   5.7119,2
49UP20180806_2,   P13,    75,  1,     21,     830,2,20180904,1123,1310,  7.5007, 164.2583, 5127,    877.1,      870,   5.1599,  34.5449,2,     59.5,2,  34.5446,2,    60.16,2,    80.67,3,    40.50,2,     0.00,2,    2.890,3, -999.000,9, -999.000,9,   -999.0,9,   -999.0,9,-999.0000,9,  -999.00, -999.000,9,  -999.00,9,  -999.00,9,   5.0864,2,  27.3044,2,   5.1609,2
49UP20180806_2,   P13,    75,  1,     20,     829,2,20180904,1123,1307,  7.5007, 164.2583, 5127,    978.4,      971,   4.6948,  34.5520,2,     65.3,2,  34.5525,2,    65.77,2,    88.98,3,    40.44,2,     0.00,2,    2.900,3, -999.000,9, -999.000,9,   -999.0,9,   -999.0,9,-999.0000,9,  -999.00, -999.000,9,  -999.00,9,  -999.00,9,   4.6156,2,  27.3636,2,   4.6936,2
49UP20180806_2,   P13,    75,  1,     19,     828,2,20180904,1123,1303,  7.5007, 164.2583, 5127,   1141.7,     1132,   4.0686,  34.5660,2,     76.8,2,  34.5657,2,  -999.00,5,   101.16,3,    40.07,2,     0.00,2,    2.860,3, -999.000,9, -999.000,9,   -999.0,9,   -999.0,9,-999.0000,9,  -999.00, -999.000,9,  -999.00,9,  -999.00,9,   3.9803,2,  27.4430,2,   4.0680,2
49UP20180806_2,   P13,    75,  1,     18,     660,2,20180904,1123,1258,  7.5007, 164.2583, 5127,   1342.4,     1331,   3.4714,  34.5836,2,     81.9,2,  34.5833,2,    81.91,2,   114.44,3,    40.24,2,     0.00,2,    2.860,3, -999.000,9, -999.000,9,   -999.0,9,   -999.0,9,-999.0000,9,  -999.00, -999.000,9,  -999.00,9,  -999.00,9,   3.3716,2,  27.5178,2,   3.4712,2
49UP20180806_2,   P13,    75,  1,     17,     826,2,20180904,1123,1253,  7.5007, 164.2583, 5127,   1545.2,     1531,   2.9660,  34.6012,2,     91.0,2,  34.6012,2,    91.11,6,   124.78,3,    39.65,6,     0.00,6,    2.810,3, -999.000,9, -999.000,9,   -999.0,9,   -999.0,9,-999.0000,9,  -999.00, -999.000,9,  -999.00,9,  -999.00,9,   2.8547,2,  27.5799,2,   2.9657,2
49UP20180806_2,   P13,    75,  1,     16,     825,2,20180904,1123,1247,  7.5007, 164.2583, 5127,   1748.6,     1732,   2.5458,  34.6167,2,     97.0,2,  34.6167,2,    97.30,2,   135.54,3,    39.42,2,     0.00,2,    2.780,3, -999.000,9, -999.000,9,   -999.0,9,   -999.0,9,-999.0000,9,  -999.00, -999.000,9,  -999.00,9,  -999.00,9,   2.4227,2,  27.6300,2,   2.5460,2
49UP20180806_2,   P13,    75,  1,     15,     824,2,20180904,1123,1242,  7.5007, 164.2583, 5127,   1950.9,     1931,   2.2642,  34.6324,2,    103.9,2,  34.6324,6,   104.04,2,   140.36,3,    39.13,2,     0.00,2,    2.730,3, -999.000,9, -999.000,9,   -999.0,9,   -999.0,9,-999.0000,9,  -999.00, -999.000,9,  -999.00,9,  -999.00,9,   2.1280,2,  27.6669,2,   2.2641,2
49UP20180806_2,   P13,    75,  1,     14,     823,2,20180904,1123,1237,  7.5007, 164.2583, 5127,   2153.5,     2131,   2.0756,  34.6434,2,    110.0,2,  34.6435,2,   110.08,2,  -999.00,9,  -999.00,9,  -999.00,9, -999.000,9, -999.000,9, -999.000,9,   -999.0,9,   -999.0,9,-999.0000,9,  -999.00, -999.000,9,  -999.00,9,  -999.00,9,   1.9248,2,  27.6919,2,   2.0755,2
49UP20180806_2,   P13,    75,  1,     13,     822,2,20180904,1123,1231,  7.5007, 164.2583, 5127,   2357.4,     2331,   1.9337,  34.6526,2,    116.3,2,  34.6519,2,   116.32,2,  -999.00,9,  -999.00,9,  -999.00,9, -999.000,9, -999.000,9, -999.000,9,   -999.0,9,   -999.0,9,-999.0000,9,  -999.00, -999.000,9,  -999.00,9,  -999.00,9,   1.7675,2,  27.7114,2,   1.9338,2
49UP20180806_2,   P13,    75,  1,     12,     821,2,20180904,1123,1226,  7.5007, 164.2583, 5127,   2560.4,     2531,   1.8477,  34.6587,2,    121.6,2,  34.6583,2,   122.06,2,  -999.00,9,  -999.00,9,  -999.00,9, -999.000,9, -999.000,9, -999.000,9,   -999.0,9,   -999.0,9,-999.0000,9,  -999.00, -999.000,9,  -999.00,9,  -999.00,9,   1.6647,2,  27.7241,2,   1.8476,2
49UP20180806_2,   P13,    75,  1,     11,     820,2,20180904,1123,1221,  7.5007, 164.2583, 5127,   2764.9,     2732,   1.7462,  34.6642,2,    127.7,2,  34.6643,2,   127.70,2,  -999.00,9,  -999.00,9,  -999.00,9, -999.000,9, -999.000,9, -999.000,9,   -999.0,9,   -999.0,9,-999.0000,9,  -999.00, -999.000,9,  -999.00,9,  -999.00,9,   1.5464,2,  27.7373,2,   1.7461,2
49UP20180806_2,   P13,    75,  1,     10,     819,2,20180904,1123,1215,  7.5007, 164.2583, 5127,   2967.2,     2930,   1.6597,  34.6694,2,    134.2,2,  34.6696,2,   134.25,2,  -999.00,9,  -999.00,9,  -999.00,9, -999.000,9, -999.000,9, -999.000,9,   -999.0,9,   -999.0,9,-999.0000,9,  -999.00, -999.000,9,  -999.00,9,  -999.00,9,   1.4426,2,  27.7490,2,   1.6598,2
49UP20180806_2,   P13,    75,  1,      9,     818,2,20180904,1123,1209,  7.5007, 164.2583, 5127,   3212.6,     3171,   1.5839,  34.6750,2,    140.7,2,  34.6755,2,   140.91,2,  -999.00,9,  -999.00,9,  -999.00,9, -999.000,9, -999.000,9, -999.000,9,   -999.0,9,   -999.0,9,-999.0000,9,  -999.00, -999.000,9,  -999.00,9,  -999.00,9,   1.3447,2,  27.7605,2,   1.5839,2
49UP20180806_2,   P13,    75,  1,      8,     817,2,20180904,1123,1204,  7.5007, 164.2583, 5127,   3467.4,     3420,   1.5096,  34.6809,2,    148.5,2,  34.6814,2,   148.77,6,  -999.00,9,  -999.00,9,  -999.00,9, -999.000,9, -999.000,9, -999.000,9,   -999.0,9,   -999.0,9,-999.0000,9,  -999.00, -999.000,9,  -999.00,9,  -999.00,9,   1.2465,2,  27.7721,2,   1.5096,2
49UP20180806_2,   P13,    75,  1,      7,     816,2,20180904,1123,1158,  7.5007, 164.2583, 5127,   3723.7,     3671,   1.4626,  34.6854,2,    155.8,2,  34.6843,2,   155.02,2,  -999.00,9,  -999.00,9,  -999.00,9, -999.000,9, -999.000,9, -999.000,9,   -999.0,9,   -999.0,9,-999.0000,9,  -999.00, -999.000,9,  -999.00,9,  -999.00,9,   1.1743,2,  27.7808,2,   1.4626,2
49UP20180806_2,   P13,    75,  1,      6,     815,2,20180904,1123,1152,  7.5007, 164.2583, 5127,   3979.8,     3921,   1.4260,  34.6899,2,    163.4,2,  34.6899,2,   163.62,2,  -999.00,9,  -999.00,9,  -999.00,9, -999.000,9, -999.000,9, -999.000,9,   -999.0,9,   -999.0,9,-999.0000,9,  -999.00, -999.000,9,  -999.00,9,  -999.00,9,   1.1114,2,  27.7886,2,   1.4260,2
49UP20180806_2,   P13,    75,  1,      5,     814,2,20180904,1123,1146,  7.5007, 164.2583, 5127,   4235.8,     4171,   1.4090,  34.6931,2,    169.2,2,  34.6931,2,   169.67,2,  -999.00,9,  -999.00,9,  -999.00,9, -999.000,9, -999.000,9, -999.000,9,   -999.0,9,   -999.0,9,-999.0000,9,  -999.00, -999.000,9,  -999.00,9,  -999.00,9,   1.0667,2,  27.7943,2,   1.4090,2
49UP20180806_2,   P13,    75,  1,      4,     813,2,20180904,1123,1140,  7.5007, 164.2583, 5127,   4491.8,     4420,   1.4017,  34.6956,2,    173.7,2,  34.6957,2,   174.03,2,  -999.00,9,  -999.00,9,  -999.00,9, -999.000,9, -999.000,9, -999.000,9,   -999.0,9,   -999.0,9,-999.0000,9,  -999.00, -999.000,9,  -999.00,9,  -999.00,9,   1.0306,2,  27.7987,2,   1.4016,2
49UP20180806_2,   P13,    75,  1,      3,     812,2,20180904,1123,1135,  7.5007, 164.2583, 5127,   4748.5,     4670,   1.4041,  34.6971,2,    177.0,2,  34.6969,6,   177.17,2,  -999.00,9,  -999.00,9,  -999.00,9, -999.000,9, -999.000,9, -999.000,9,   -999.0,9,   -999.0,9,-999.0000,9,  -999.00, -999.000,9,  -999.00,9,  -999.00,9,   1.0031,2,  27.8017,2,   1.4040,2
49UP20180806_2,   P13,    75,  1,      2,     811,2,20180904,1123,1129,  7.5007, 164.2583, 5127,   5007.0,     4921,   1.3984,  34.6993,2,    181.4,2,  34.6989,6,   181.57,2,  -999.00,9,  -999.00,9,  -999.00,9, -999.000,9, -999.000,9, -999.000,9,   -999.0,9,   -999.0,9,-999.0000,9,  -999.00, -999.000,9,  -999.00,9,  -999.00,9,   0.9666,2,  27.8060,2,   1.3984,2
49UP20180806_2,   P13,    75,  1,      1,     810,2,20180904,1123,1124,  7.5007, 164.2583, 5127,   5220.0,     5128,   1.4113,  34.7003,2,    183.2,2,  34.7007,6,   183.34,2,  -999.00,9,  -999.00,9,  -999.00,9, -999.000,9, -999.000,9, -999.000,9,   -999.0,9,   -999.0,9,-999.0000,9,  -999.00, -999.000,9,  -999.00,9,  -999.00,9,   0.9530,2,  27.8077,2,   1.4114,2