BOTTLE,20191018JMAGEMD
EXPOCODE,SECT_ID,STNNBR,CASTNO,SAMPNO,BTLNBR,BTLNBR_FLAG_U,DATE,TIME,BTL_TIME,LATITUDE,LONGITUDE,DEPTH,CTDPRS,CTDDEP,CTDTMP,CTDSAL,CTDSAL_FLAG_W,CTDOXY,CTDOXY_FLAG_W,SALNTY,SALNTY_FLAG_W,OXYGEN,OXYGEN_FLAG_W,SILCAT,SILCAT_FLAG_W,NO2+NO3,NO2+NO3_FLAG_W,NITRIT,NITRIT_FLAG_W,PHSPHT,PHSPHT_FLAG_W,CFC-11,CFC-11_FLAG_W,CFC-12,CFC-12_FLAG_W,TCARBN,TCARBN_FLAG_W,ALKALI,ALKALI_FLAG_W,PH_TS,PH_TS_FLAG_W,PH_TS_TMP,CFC113,CFC113_FLAG_W,CHLORA,CHLORA_FLAG_W,PPHYTN,PPHYTN_FLAG_W,THETA,THETA_FLAG_W,SIGTHT,SIGTHT_FLAG_W,SBE35,SBE35_FLAG_W
,,,,,,,,UTC,,,,METER,DBAR,METERS,ITS-90,PSS-78,,UMOL/KG,,PSS78,,UMOL/KG,,UMOL/KG,,UMOL/KG,,UMOL/KG,,UMOL/KG,,PMOL/KG,,PMOL/KG,,UMOL/KG,,UMOL/KG,,,,ITS-90,PMOL/KG,,UG/KG,,UG/KG,,ITS-90,,KG/M3,,ITS-90,
49UP20180614_1,   P13,     9,  1,      0,      -9,0,20180622,2116,2255, 42.3428, 152.0768, 5084,      0.0,        0,   8.9214,  32.9070,2,    320.2,2,  32.9043,2,   316.36,2,     1.82,2,    10.29,2,     0.21,2,    1.000,2, -999.000,9, -999.000,9,   2038.6,2,   2236.8,2,   7.8941,2,    25.00, -999.000,9,     0.96,2,     0.32,2,   8.9211,2,  25.4918,2,-999.0000,9
49UP20180614_1,   P13,     9,  1,     36,     845,3,20180622,2116,2332, 42.3428, 152.0768, 5084,     11.3,       11,   8.8968,  32.9038,2,    320.2,2,  32.9088,2,   319.80,2,     1.72,2,    10.31,2,     0.21,2,    0.990,2,    3.846,2,    2.301,2,   2036.9,2,   2243.1,2,   7.8953,2,    25.00,    0.358,2,     0.77,2,     0.26,2,   8.8956,2,  25.4932,2,   8.8861,2
49UP20180614_1,   P13,     9,  1,     35,     844,3,20180622,2116,2330, 42.3428, 152.0768, 5084,     25.2,       25,   6.8390,  32.8943,2,    331.7,2,  32.8982,2,   330.77,2,     2.05,2,    11.50,2,     0.24,2,    1.120,2, -999.000,9, -999.000,9,   2042.9,2,   2240.8,2,   7.8858,2,    25.00, -999.000,9,     1.23,2,     0.72,2,   6.8368,2,  25.7820,2,   6.8449,2
49UP20180614_1,   P13,     9,  1,     34,     843,2,20180622,2116,2326, 42.3428, 152.0768, 5084,     49.8,       49,   3.0073,  33.0249,2,    337.9,2,  33.0256,2,   338.14,6,    24.85,6,    17.39,6,     0.28,6,    1.690,6,    4.852,2,    2.820,2,   2105.4,2,   2246.7,2,   7.7465,2,    25.00,    0.470,2,     0.25,2,     0.20,2,   3.0044,2,  26.3082,2,   3.0073,2
49UP20180614_1,   P13,     9,  1,     33,     842,3,20180622,2116,2325, 42.3428, 152.0768, 5084,     73.6,       73,   2.5162,  33.0510,2,    332.6,2,  33.0526,2,   332.73,2,    34.13,2,    20.34,2,     0.29,2,    1.870,2, -999.000,9, -999.000,9,   2125.2,2,   2246.0,2,   7.6929,2,    25.00, -999.000,9,     0.07,2,     0.20,2,   2.5123,2,  26.3705,2,   2.5238,2
49UP20180614_1,   P13,     9,  1,     32,     841,2,20180622,2116,2323, 42.3428, 152.0768, 5084,    101.8,      101,   1.6943,  33.1221,2,    312.8,2,  33.1195,2,   313.26,2,    46.70,2,    26.49,2,     0.22,2,    2.070,2,    4.848,2,    2.814,2,   2156.7,2,   2241.7,2,   7.5984,2,    25.00,    0.478,2,     0.03,2,     0.13,2,   1.6894,2,  26.4899,2,   1.6949,2
49UP20180614_1,   P13,     9,  1,     31,     840,2,20180622,2116,2322, 42.3428, 152.0768, 5084,    125.4,      124,   1.8454,  33.2273,2,    268.1,2,  33.2248,2,   270.22,2,    55.66,2,    29.42,2,     0.02,2,    2.230,2, -999.000,9, -999.000,9,   2184.7,2,   2250.0,2,   7.5368,2,    25.00, -999.000,9,     0.03,2,     0.13,2,   1.8392,2,  26.5634,2,   1.8426,2
49UP20180614_1,   P13,     9,  1,     30,     839,2,20180622,2116,2320, 42.3428, 152.0768, 5084,    152.3,      151,   2.3887,  33.4116,2,    196.3,2,  33.4050,2,   196.19,2,    69.08,2,    33.64,2,     0.01,2,    2.520,2,    3.685,2,    2.132,2,   2233.5,2,   2264.5,2,   7.4406,2,    25.00,    0.318,2,     0.03,2,     0.19,2,   2.3804,2,  26.6695,2,   2.3831,2
49UP20180614_1,   P13,     9,  1,     29,     838,2,20180622,2116,2318, 42.3428, 152.0768, 5084,    202.4,      201,   3.3926,  33.6965,2,    125.6,2,  33.6953,2,   124.91,2,    80.00,2,    35.92,2,     0.01,2,    2.630,2,    2.831,6,    1.611,6,   2266.5,2,   2284.2,2,   7.3814,2,    25.00,    0.216,6,     0.02,2,     0.13,2,   3.3798,2,  26.8098,2,   3.3921,2
49UP20180614_1,   P13,     9,  1,     28,     837,3,20180622,2116,2316, 42.3428, 152.0768, 5084,    252.2,      250,   3.3698,  33.7941,2,     89.8,2,  33.7927,2,    89.52,2,    91.08,2,    39.04,2,     0.02,2,    2.820,2,    2.405,2,    1.324,2,   2294.4,2,   2295.8,2,   7.3264,2,    25.00,    0.180,2,  -999.00,9,  -999.00,9,   3.3537,2,  26.8900,2,   3.3697,2
49UP20180614_1,   P13,     9,  1,     27,     661,2,20180622,2116,2314, 42.3428, 152.0768, 5084,    304.2,      302,   3.3354,  33.8857,2,     57.5,2,  33.8845,2,    57.07,2,   102.03,2,    41.84,2,     0.00,2,    2.990,2,    2.009,2,    1.069,2,   2327.3,2,   2307.3,2,   7.2807,2,    25.00,    0.155,2,  -999.00,9,  -999.00,9,   3.3160,2,  26.9666,2,   3.3347,2
49UP20180614_1,   P13,     9,  1,     26,     835,2,20180622,2116,2311, 42.3428, 152.0768, 5084,    404.9,      401,   3.4581,  34.0349,2,     43.9,2,  34.0337,2,    43.68,2,   111.85,2,    41.99,2,     0.01,2,    3.010,2,    1.458,2,    0.764,2,   2333.0,2,   2323.4,2,   7.2861,2,    25.00,    0.103,2,  -999.00,9,  -999.00,9,   3.4313,2,  27.0747,2,   3.4583,2
49UP20180614_1,   P13,     9,  1,     25,     834,3,20180622,2116,2308, 42.3428, 152.0768, 5084,    505.3,      501,   3.3028,  34.1291,2,     25.4,2,  34.1261,2,    27.85,6,   124.14,6,    43.56,6,     0.00,6,    3.090,6,    1.039,2,    0.526,2,   2353.0,2,   2335.2,2,   7.2746,2,    25.00,    0.076,2,  -999.00,9,  -999.00,9,   3.2695,2,  27.1650,2,   3.3019,2
49UP20180614_1,   P13,     9,  1,     24,     833,2,20180622,2116,2305, 42.3428, 152.0768, 5084,    608.4,      603,   3.1275,  34.2088,2,     22.9,2,  34.2051,2,    23.36,2,   133.45,2,    43.63,2,     0.00,2,    3.100,2,    0.749,2,    0.388,2,   2363.0,6,   2350.9,6,   7.2857,2,    25.00,    0.051,2,  -999.00,9,  -999.00,9,   3.0877,2,  27.2455,2,   3.1273,2
49UP20180614_1,   P13,     9,  1,     23,     832,2,20180622,2116,2301, 42.3428, 152.0768, 5084,    711.1,      704,   2.9777,  34.2678,2,     26.5,2,  34.2662,2,    25.94,2,   139.54,2,    43.27,2,     0.00,2,    3.080,2,    0.557,2,    0.295,2,   2370.3,2,   2360.9,2,   7.2997,6,    25.00,    0.046,2,  -999.00,9,  -999.00,9,   2.9315,2,  27.3068,2,   2.9778,2
49UP20180614_1,   P13,     9,  1,     22,     831,2,20180622,2116,2258, 42.3428, 152.0768, 5084,    810.3,      802,   2.9235,  34.3311,2,     31.1,2,  34.3291,2,    30.83,2,   142.81,2,    42.83,2,     0.00,2,    3.060,2,    0.393,2,    0.213,2,   2371.1,2,   2370.5,2,   7.3245,3,    25.00,    0.029,2,  -999.00,9,  -999.00,9,   2.8704,2,  27.3628,2,   2.9236,2
49UP20180614_1,   P13,     9,  1,     21,     830,2,20180622,2116,2255, 42.3428, 152.0768, 5084,    911.4,      902,   2.7259,  34.3696,2,     30.5,2,  34.3667,2,    30.49,2,   149.61,2,    43.00,2,     0.00,2,    3.070,2,    0.310,2,    0.164,2,   2376.6,2,   2376.8,2,   7.3221,2,    25.00,    0.025,2,  -999.00,9,  -999.00,9,   2.6668,2,  27.4115,2,   2.7251,2
49UP20180614_1,   P13,     9,  1,     20,     829,2,20180622,2116,2252, 42.3428, 152.0768, 5084,   1013.6,     1003,   2.5813,  34.4080,2,     33.4,2,  34.4067,2,    33.11,2,   154.16,2,    42.94,2,     0.00,2,    3.060,2,    0.237,2,    0.126,2,   2375.5,2,   2383.8,2,   7.3307,2,    25.00,    0.023,2,  -999.00,9,  -999.00,9,   2.5159,2,  27.4552,2,   2.5813,2
49UP20180614_1,   P13,     9,  1,     19,     828,2,20180622,2116,2246, 42.3428, 152.0768, 5084,   1214.8,     1202,   2.4095,  34.4712,2,     38.7,2,  34.4687,4,    38.56,2,   159.44,2,    42.77,2,     0.00,2,    3.030,2,    0.121,2,    0.061,2,   2378.7,2,   2394.0,2,   7.3520,2,    25.00,    0.008,2,  -999.00,9,  -999.00,9,   2.3306,2,  27.5213,2,   2.4095,2
49UP20180614_1,   P13,     9,  1,     18,     827,2,20180622,2116,2242, 42.3428, 152.0768, 5084,   1418.5,     1403,   2.2559,  34.5139,2,     47.1,2,  34.5137,2,    46.60,2,   162.67,2,    42.33,2,     0.00,2,    3.000,2,    0.064,2,    0.034,2,   2381.8,2,   2402.0,2,   7.3749,2,    25.00,    0.008,2,  -999.00,9,  -999.00,9,   2.1631,2,  27.5692,2,   2.2561,2
49UP20180614_1,   P13,     9,  1,     17,     826,2,20180622,2116,2237, 42.3428, 152.0768, 5084,   1622.4,     1603,   2.1182,  34.5500,2,     56.4,2,  34.5485,4,    56.42,2,   164.61,2,    41.80,2,     0.00,2,    2.960,2,    0.028,2,    0.012,2,   2381.0,2,   2407.2,2,   7.3986,2,    25.00,    0.021,2,  -999.00,9,  -999.00,9,   2.0111,2,  27.6102,2,   2.1180,2
49UP20180614_1,   P13,     9,  1,     16,     825,3,20180622,2116,2232, 42.3428, 152.0768, 5084,   1823.8,     1802,   1.9772,  34.5772,2,     63.8,2,  34.5756,4,    63.48,6,   168.30,6,    41.41,6,     0.00,6,    2.920,6,    0.011,2,   -0.000,2,   2384.8,2,   2413.2,2,   7.4124,2,    25.00,    0.010,2,  -999.00,9,  -999.00,9,   1.8558,2,  27.6442,2,   1.9774,2
49UP20180614_1,   P13,     9,  1,     15,     824,2,20180622,2116,2227, 42.3428, 152.0768, 5084,   2027.2,     2002,   1.8463,  34.6042,2,     78.1,2,  34.6041,2,    78.07,2,   168.07,2,    40.61,2,     0.00,2,    2.860,2,    0.004,6,    0.003,6,   2372.9,2,   2416.2,2,   7.4433,2,    25.00,    0.007,6,  -999.00,9,  -999.00,9,   1.7101,2,  27.6770,2,   1.8460,2
49UP20180614_1,   P13,     9,  1,     14,     823,2,20180622,2116,2222, 42.3428, 152.0768, 5084,   2229.4,     2200,   1.7571,  34.6224,2,     91.4,2,  34.6229,2,    91.33,2,   165.90,2,    39.90,2,     0.00,2,    2.790,2,   -0.000,2,    0.001,2,   2366.8,2,   2416.8,2,   7.4683,2,    25.00,    0.004,2,  -999.00,9,  -999.00,9,   1.6051,2,  27.6994,2,   1.7570,2
49UP20180614_1,   P13,     9,  1,     13,     822,2,20180622,2116,2217, 42.3428, 152.0768, 5084,   2433.4,     2400,   1.6705,  34.6378,2,    103.4,2,  34.6382,2,   103.14,2,   164.32,2,    39.11,2,     0.00,2,    2.730,2,   -0.000,2,    0.000,2,   2361.1,2,   2416.9,2,   7.4903,2,    25.00,   -0.000,2,  -999.00,9,  -999.00,9,   1.5024,2,  27.7194,2,   1.6705,2
49UP20180614_1,   P13,     9,  1,     12,     821,2,20180622,2116,2213, 42.3428, 152.0768, 5084,   2636.8,     2600,   1.6050,  34.6493,2,    113.8,2,  34.6493,2,   113.28,2,   162.27,2,    38.34,2,     0.00,2,    2.680,2,    0.000,2,    0.000,2,   2353.7,2,   2416.6,2,   7.5156,2,    25.00,    0.006,2,  -999.00,9,  -999.00,9,   1.4199,2,  27.7345,2,   1.6050,2
49UP20180614_1,   P13,     9,  1,     11,     820,2,20180622,2116,2208, 42.3428, 152.0768, 5084,   2841.1,     2800,   1.5597,  34.6576,2,    121.9,2,  34.6565,4,   121.72,2,   160.34,2,    37.89,2,     0.00,2,    2.640,2,    0.001,2,    0.000,2,   2344.3,2,   2419.7,2,   7.5265,2,    25.00,    0.009,2,  -999.00,9,  -999.00,9,   1.3567,2,  27.7457,2,   1.5596,2
49UP20180614_1,   P13,     9,  1,     10,     819,2,20180622,2116,2204, 42.3428, 152.0768, 5084,   3043.8,     2998,   1.5200,  34.6648,2,    129.5,2,  34.6651,2,   129.15,2,   158.63,2,    37.40,2,     0.00,2,    2.600,2, -999.000,9, -999.000,9,   2344.2,6,   2418.9,6,   7.5390,2,    25.00, -999.000,9,  -999.00,9,  -999.00,9,   1.2986,2,  27.7556,2,   1.5200,2
49UP20180614_1,   P13,     9,  1,      9,     818,2,20180622,2116,2158, 42.3428, 152.0768, 5084,   3299.8,     3248,   1.4886,  34.6714,2,    136.7,2,  34.6693,4,   136.02,2,   156.89,2,    37.06,2,     0.00,2,    2.570,2, -999.000,9, -999.000,9,   2336.6,2,   2418.8,2,   7.5504,6,    25.00, -999.000,9,  -999.00,9,  -999.00,9,   1.2430,2,  27.7648,2,   1.4886,2
49UP20180614_1,   P13,     9,  1,      8,     817,2,20180622,2116,2153, 42.3428, 152.0768, 5084,   3556.1,     3499,   1.4697,  34.6764,2,    142.7,2,  34.6755,2,   142.72,2,   154.82,2,    36.57,2,     0.00,2,    2.530,2, -999.000,9, -999.000,9,   2329.8,2,   2416.5,2,   7.5670,2,    25.00, -999.000,9,  -999.00,9,  -999.00,9,   1.1986,2,  27.7719,2,   1.4698,2
49UP20180614_1,   P13,     9,  1,      7,     816,3,20180622,2116,2148, 42.3428, 152.0768, 5084,   3810.8,     3747,   1.4578,  34.6804,2,    147.5,2,  34.6804,2,   147.10,6,   153.98,6,    36.25,6,     0.00,6,    2.510,6,    0.000,2,    0.000,2,   2333.1,2,   2418.0,2,   7.5742,2,    25.00,    0.003,2,  -999.00,9,  -999.00,9,   1.1604,2,  27.7777,2,   1.4580,2
49UP20180614_1,   P13,     9,  1,      6,     815,2,20180622,2116,2142, 42.3428, 152.0768, 5084,   4068.8,     3998,   1.4524,  34.6840,2,    151.8,2,  34.6841,6,   151.48,2,   152.87,2,    36.00,2,     0.00,2,    2.490,2, -999.000,9, -999.000,9,   2324.5,2,   2416.2,2,   7.5792,2,    25.00, -999.000,9,  -999.00,9,  -999.00,9,   1.1273,2,  27.7828,2,   1.4524,2
49UP20180614_1,   P13,     9,  1,      5,     814,2,20180622,2116,2137, 42.3428, 152.0768, 5084,   4327.2,     4250,   1.4577,  34.6866,2,    154.7,2,  34.6850,4,   153.92,2,   152.59,2,    35.77,2,     0.00,2,    2.470,2, -999.000,9, -999.000,9,   2323.5,2,   2417.8,2,   7.5847,2,    25.00, -999.000,9,  -999.00,9,  -999.00,9,   1.1038,2,  27.7866,2,   1.4578,2
49UP20180614_1,   P13,     9,  1,      4,     813,2,20180622,2116,2131, 42.3428, 152.0768, 5084,   4583.7,     4499,   1.4750,  34.6881,2,    156.2,2,  34.6879,6,   156.13,2,   152.81,2,    35.65,2,     0.00,2,    2.460,2, -999.000,9, -999.000,9,   2324.2,6,   2416.1,6,   7.5887,2,    25.00, -999.000,9,  -999.00,9,  -999.00,9,   1.0911,2,  27.7886,2,   1.4751,2
49UP20180614_1,   P13,     9,  1,      3,     812,2,20180622,2116,2126, 42.3428, 152.0768, 5084,   4840.4,     4748,   1.4986,  34.6889,2,    157.2,2,  34.6889,2,   156.81,2,   152.29,2,    35.54,2,     0.00,2,    2.460,2,    0.004,2,    0.000,2,   2320.6,2,   2417.9,2,   7.5896,2,    25.00,    0.000,2,  -999.00,9,  -999.00,9,   1.0837,2,  27.7898,2,   1.4984,2
49UP20180614_1,   P13,     9,  1,      2,     811,2,20180622,2116,2120, 42.3428, 152.0768, 5084,   5100.8,     5001,   1.5265,  34.6895,2,    157.8,2,  34.6896,6,   157.73,2,   152.42,2,    35.53,2,     0.00,2,    2.450,2, -999.000,9, -999.000,9,   2327.2,2,   2416.0,2,   7.5888,6,    25.00, -999.000,9,  -999.00,9,  -999.00,9,   1.0790,2,  27.7905,2,   1.5265,2
49UP20180614_1,   P13,     9,  1,      1,     810,2,20180622,2116,2117, 42.3428, 152.0768, 5084,   5172.6,     5071,   1.5353,  34.6896,2,    157.6,2,  34.6886,2,   157.67,2,   153.41,2,    35.50,2,     0.00,2,    2.460,2,    0.005,2,    0.002,2,   2326.6,2,   2416.8,2,   7.5929,2,    25.00,    0.005,2,  -999.00,9,  -999.00,9,   1.0786,2,  27.7907,2,   1.5351,2