BOTTLE,20191018JMAGEMD
EXPOCODE,SECT_ID,STNNBR,CASTNO,SAMPNO,BTLNBR,BTLNBR_FLAG_U,DATE,TIME,BTL_TIME,LATITUDE,LONGITUDE,DEPTH,CTDPRS,CTDDEP,CTDTMP,CTDSAL,CTDSAL_FLAG_W,CTDOXY,CTDOXY_FLAG_W,SALNTY,SALNTY_FLAG_W,OXYGEN,OXYGEN_FLAG_W,SILCAT,SILCAT_FLAG_W,NO2+NO3,NO2+NO3_FLAG_W,NITRIT,NITRIT_FLAG_W,PHSPHT,PHSPHT_FLAG_W,CFC-11,CFC-11_FLAG_W,CFC-12,CFC-12_FLAG_W,TCARBN,TCARBN_FLAG_W,ALKALI,ALKALI_FLAG_W,PH_TS,PH_TS_FLAG_W,PH_TS_TMP,CFC113,CFC113_FLAG_W,CHLORA,CHLORA_FLAG_W,PPHYTN,PPHYTN_FLAG_W,THETA,THETA_FLAG_W,SIGTHT,SIGTHT_FLAG_W,SBE35,SBE35_FLAG_W
,,,,,,,,UTC,,,,METER,DBAR,METERS,ITS-90,PSS-78,,UMOL/KG,,PSS78,,UMOL/KG,,UMOL/KG,,UMOL/KG,,UMOL/KG,,UMOL/KG,,PMOL/KG,,PMOL/KG,,UMOL/KG,,UMOL/KG,,,,ITS-90,PMOL/KG,,UG/KG,,UG/KG,,ITS-90,,KG/M3,,ITS-90,
49UP20180806_2,   P13,    97,  1,      0,      -9,0,20180911,1932,2055, -3.9917, 164.9807, 3306,      0.0,        0,  30.2045,  35.2523,2,    194.0,2,  35.2598,2,   193.11,2,     1.12,3,     0.01,2,     0.00,2,    0.190,3, -999.000,9, -999.000,9,   1974.8,2,   2321.6,2,   8.1207,2,    25.00, -999.000,9,     0.05,2,     0.03,2,  30.2038,2,  21.8455,2,-999.0000,9
49UP20180806_2,   P13,    97,  1,     36,     845,2,20180911,1932,2119, -3.9917, 164.9807, 3306,     11.6,       12,  30.1946,  35.2508,2,    194.1,2,  35.2520,2,   192.98,2,     1.17,3,     0.00,2,     0.00,2,    0.160,3,    1.416,6,    0.814,6,   1976.1,2,   2322.7,2,   8.1203,2,    25.00,    0.133,6,     0.05,2,     0.02,2,  30.1917,2,  21.8486,2,  30.1955,2
49UP20180806_2,   P13,    97,  1,     35,     844,2,20180911,1932,2118, -3.9917, 164.9807, 3306,     26.3,       26,  30.1483,  35.2782,2,    194.5,2,  35.2782,2,   193.66,2,     0.99,3,     0.00,2,     0.00,2,    0.160,3, -999.000,9, -999.000,9,   1975.1,2,   2323.8,2,   8.1228,2,    25.00, -999.000,9,     0.05,2,     0.03,2,  30.1418,2,  21.8862,2,  30.1470,2
49UP20180806_2,   P13,    97,  1,     34,     843,2,20180911,1932,2114, -3.9917, 164.9807, 3306,     49.8,       50,  30.0777,  35.2932,2,    195.4,2,  35.2989,2,   194.93,6,     0.98,3,     0.00,6,     0.00,6,    0.160,3,    1.430,2,    0.813,2,   1976.1,2,   2324.5,2,   8.1194,2,    25.00,    0.124,2,     0.08,2,     0.04,2,  30.0653,2,  21.9237,2,  30.0781,2
49UP20180806_2,   P13,    97,  1,     33,     842,2,20180911,1932,2113, -3.9917, 164.9807, 3306,     75.6,       75,  29.7169,  35.4365,2,    197.2,2,  35.4356,2,   196.63,2,     1.04,3,     0.00,2,     0.00,2,    0.180,3, -999.000,9, -999.000,9,   1998.9,3,   2336.1,2,   8.1152,2,    25.00, -999.000,9,  -999.00,9,  -999.00,9,  29.6982,2,  22.1564,2,  29.7156,2
49UP20180806_2,   P13,    97,  1,     32,     841,2,20180911,1932,2113, -3.9917, 164.9807, 3306,     75.9,       75,  29.7190,  35.4363,2,    197.2,2,  35.4369,2,   196.10,2,     1.04,3,     0.00,2,     0.00,2,    0.180,3, -999.000,9, -999.000,9,   1987.6,2,   2332.9,2,   8.1172,2,    25.00, -999.000,9,     0.15,2,     0.10,2,  29.7003,2,  22.1555,2,  29.7181,2
49UP20180806_2,   P13,    97,  1,     31,     840,2,20180911,1932,2111, -3.9917, 164.9807, 3306,    100.3,      100,  29.2107,  35.5150,2,    189.4,2,  35.5136,2,   189.56,2,     1.36,3,     1.22,2,     0.30,2,    0.310,3,    1.475,2,    0.848,2,   2019.8,2,   2340.6,2,   8.0715,2,    25.00,    0.132,2,     0.22,2,     0.29,2,  29.1863,2,  22.3883,2,  29.2098,2
49UP20180806_2,   P13,    97,  1,     30,     839,2,20180911,1932,2110, -3.9917, 164.9807, 3306,    126.6,      126,  28.5980,  35.7084,2,    176.3,2,  35.7096,2,   176.82,2,     1.46,3,     3.27,2,     1.41,2,    0.440,3, -999.000,9, -999.000,9,   2049.7,2,   2352.6,2,   8.0531,2,    25.00, -999.000,9,     0.13,2,     0.29,2,  28.5676,2,  22.7403,2,  28.6026,2
49UP20180806_2,   P13,    97,  1,     29,     838,2,20180911,1932,2108, -3.9917, 164.9807, 3306,    153.0,      152,  27.1147,  35.7314,2,    153.0,2,  35.7240,2,   154.22,2,     1.67,3,     6.30,2,     0.03,2,    0.620,3,    1.586,2,    0.907,2,   2074.7,2,   2351.3,2,   7.9955,6,    25.00,    0.108,2,     0.05,2,     0.11,2,  27.0794,2,  23.2434,2,  27.1024,2
49UP20180806_2,   P13,    97,  1,     28,     837,2,20180911,1932,2106, -3.9917, 164.9807, 3306,    204.1,      203,  18.4309,  35.5526,2,    115.8,2,  35.5782,4,   117.35,2,     5.27,3,    13.61,2,     0.01,2,    1.160,3,    1.939,2,    1.067,2,   2162.0,6,   2349.4,6,   7.8156,2,    25.00,    0.025,2,     0.01,2,     0.02,2,  18.3951,2,  25.5969,2,  18.4090,2
49UP20180806_2,   P13,    97,  1,     27,     661,2,20180911,1932,2104, -3.9917, 164.9807, 3306,    252.9,      251,  13.7835,  35.0617,2,     90.6,2,  35.0676,2,    90.09,2,    12.73,3,    21.71,2,     0.00,2,    1.680,3,    1.668,2,    0.853,2,   2194.8,2,   2320.8,2,   7.6767,2,    25.00,    0.011,2,  -999.00,9,  -999.00,9,  13.7472,2,  26.2877,2,  13.7900,2
49UP20180806_2,   P13,    97,  1,     26,     835,2,20180911,1932,2102, -3.9917, 164.9807, 3306,    300.6,      299,  10.7978,  34.7996,2,    108.0,2,  34.7984,2,   107.44,2,    18.89,3,    25.80,2,     0.00,2,    1.840,3,    1.385,2,    0.665,2,   2200.2,2,   2306.9,2,   7.6387,2,    25.00,    0.009,2,  -999.00,9,  -999.00,9,  10.7610,2,  26.6624,2,  10.7972,2
49UP20180806_2,   P13,    97,  1,     25,     834,2,20180911,1932,2100, -3.9917, 164.9807, 3306,    352.1,      350,   9.8470,  34.7217,2,    110.7,2,  34.7220,2,   110.37,2,    21.91,3,    27.52,2,     0.00,2,    1.930,3, -999.000,9, -999.000,9,   2206.6,2,   2305.3,2,   7.6222,2,    25.00, -999.000,9,  -999.00,9,  -999.00,9,   9.8064,2,  26.7675,2,   9.8468,2
49UP20180806_2,   P13,    97,  1,     23,     832,2,20180911,1932,2058, -3.9917, 164.9807, 3306,    404.6,      402,   9.3422,  34.6862,2,    104.4,2,  34.6870,2,   103.97,2,    24.52,3,    29.16,2,     0.00,2,    2.030,3,    1.051,2,    0.488,2,   2215.1,2,   2305.1,2,   7.5979,2,    25.00,    0.011,2,  -999.00,9,  -999.00,9,   9.2968,2,  26.8244,2,   9.3423,2
49UP20180806_2,   P13,    97,  1,     22,     831,2,20180911,1932,2056, -3.9917, 164.9807, 3306,    453.4,      450,   8.8955,  34.6570,2,    103.8,2,  34.6580,2,   103.70,6,    26.28,3,    30.14,6,     0.00,6,    2.100,3, -999.000,9, -999.000,9,   2216.8,2,   2304.8,2,   7.5868,2,    25.00, -999.000,9,  -999.00,9,  -999.00,9,   8.8460,2,  26.8741,2,   8.8964,2
49UP20180806_2,   P13,    97,  1,     20,     829,2,20180911,1932,2054, -3.9917, 164.9807, 3306,    504.0,      501,   8.4488,  34.6320,2,     96.8,2,  34.6321,2,    96.30,2,    29.29,3,    31.91,2,     0.00,2,    2.210,3, -999.000,9, -999.000,9,   2232.5,2,   2311.1,2,   7.5632,2,    25.00, -999.000,9,  -999.00,9,  -999.00,9,   8.3953,2,  26.9249,2,   8.4475,2
49UP20180806_2,   P13,    97,  1,     21,     830,2,20180911,1932,2054, -3.9917, 164.9807, 3306,    504.9,      502,   8.4436,  34.6316,2,     97.0,2,  34.6319,2,    96.48,2,    29.32,3,    31.90,2,     0.00,2,    2.210,3,    0.747,2,    0.343,2,   2226.9,2,   2306.8,2,   7.5634,2,    25.00,    0.011,2,  -999.00,9,  -999.00,9,   8.3901,2,  26.9254,2,   8.4437,2
49UP20180806_2,   P13,    97,  1,     19,     828,3,20180911,1932,2051, -3.9917, 164.9807, 3306,    604.6,      600,   7.4418,  34.5809,2,     91.9,2,  34.5821,2,    92.17,2,    36.71,3,    34.58,2,     0.00,2,    2.400,3,    0.442,2,    0.204,2,   2239.9,2,   2312.1,2,   7.5350,2,    25.00,    0.008,2,  -999.00,9,  -999.00,9,   7.3819,2,  27.0350,2,   7.4418,2
49UP20180806_2,   P13,    97,  1,     18,     660,2,20180911,1932,2048, -3.9917, 164.9807, 3306,    708.5,      703,   6.3102,  34.5422,2,     93.7,2,  34.5419,2,    93.20,2,    48.39,3,    36.59,2,     0.00,2,    2.560,3,    0.217,2,    0.092,2,   2255.4,2,   2321.2,2,   7.5184,6,    25.00,    0.008,2,  -999.00,9,  -999.00,9,   6.2456,2,  27.1593,2,   6.3103,2
49UP20180806_2,   P13,    97,  1,     17,     826,2,20180911,1932,2045, -3.9917, 164.9807, 3306,    809.1,      803,   5.4540,  34.5352,2,     92.8,2,  34.5358,2,    93.79,2,    61.31,3,    37.71,2,     0.00,2,    2.650,3,    0.109,2,    0.044,2,   2272.3,6,   2334.4,6,   7.5129,2,    25.00,    0.003,2,  -999.00,9,  -999.00,9,   5.3849,2,  27.2614,2,   5.4526,2
49UP20180806_2,   P13,    97,  1,     16,     825,2,20180911,1932,2041, -3.9917, 164.9807, 3306,    909.1,      902,   4.9608,  34.5343,2,    101.8,2,  34.5351,6,   101.86,2,    68.84,3,    37.49,2,     0.00,2,    2.640,3,    0.076,2,    0.028,2,   2274.8,2,   2347.1,2,   7.5204,2,    25.00,    0.009,2,  -999.00,9,  -999.00,9,   4.8859,2,  27.3191,2,   4.9618,2
49UP20180806_2,   P13,    97,  1,     15,     824,2,20180911,1932,2038, -3.9917, 164.9807, 3306,   1008.8,     1001,   4.5822,  34.5436,2,     98.8,2,  34.5447,2,    98.64,2,    77.99,3,    38.10,2,     0.00,2,    2.700,3,    0.039,6,    0.013,6,   2292.9,2,   2352.7,2,   7.5115,2,    25.00,    0.001,6,  -999.00,9,  -999.00,9,   4.5012,2,  27.3696,2,   4.5819,2
49UP20180806_2,   P13,    97,  1,     14,     823,2,20180911,1932,2032, -3.9917, 164.9807, 3306,   1210.9,     1201,   3.8593,  34.5646,2,     99.5,2,  34.5650,6,    99.40,2,    95.03,3,    38.62,2,     0.00,2,    2.740,3,    0.013,2,    0.004,2,   2307.7,2,   2370.7,2,   7.5091,2,    25.00,    0.000,2,  -999.00,9,  -999.00,9,   3.7670,2,  27.4637,2,   3.8591,2
49UP20180806_2,   P13,    97,  1,     13,     822,2,20180911,1932,2027, -3.9917, 164.9807, 3306,   1413.3,     1401,   3.3576,  34.5842,2,    102.1,2,  34.5844,2,   102.09,6,   107.33,3,    38.72,6,     0.00,6,    2.750,3,    0.003,2,    0.000,2,   2325.5,2,   2384.4,2,   7.5147,2,    25.00,    0.004,2,  -999.00,9,  -999.00,9,   3.2531,2,  27.5296,2,   3.3580,2
49UP20180806_2,   P13,    97,  1,     12,     821,2,20180911,1932,2022, -3.9917, 164.9807, 3306,   1615.6,     1600,   2.8666,  34.6044,2,    110.5,2,  34.6043,2,   110.38,2,   117.42,3,    38.33,2,     0.00,2,    2.710,3,    0.000,2,    0.002,2,   2326.0,2,   2395.1,2,   7.5266,2,    25.00,    0.000,2,  -999.00,9,  -999.00,9,   2.7506,2,  27.5917,2,   2.8667,2
49UP20180806_2,   P13,    97,  1,     11,     820,2,20180911,1932,2012, -3.9917, 164.9807, 3306,   1820.1,     1802,   2.5907,  34.6178,2,    116.0,2,  34.6184,6,   116.09,2,   123.05,3,    38.00,2,     0.00,2,    2.670,3,    0.000,2,    0.000,2,   2330.0,2,   2401.0,2,   7.5324,2,    25.00,    0.001,2,  -999.00,9,  -999.00,9,   2.4610,2,  27.6276,2,   2.5901,2
49UP20180806_2,   P13,    97,  1,     10,     819,2,20180911,1932,2007, -3.9917, 164.9807, 3306,   2023.3,     2002,   2.3337,  34.6322,2,    118.8,2,  34.6327,2,   118.66,2,   130.58,3,    37.93,2,     0.00,2,    2.670,3,    0.000,2,    0.000,2,   2337.7,2,   2410.9,2,   7.5417,2,    25.00,    0.007,2,  -999.00,9,  -999.00,9,   2.1902,2,  27.6617,2,   2.3336,2
49UP20180806_2,   P13,    97,  1,      9,     818,2,20180911,1932,2002, -3.9917, 164.9807, 3306,   2224.8,     2201,   2.1618,  34.6418,2,    123.5,2,  34.6431,2,   123.20,2,   134.05,3,    37.67,2,     0.00,2,    2.640,3,    0.000,2,    0.000,2,   2336.5,2,   2413.7,2,   7.5478,2,    25.00,    0.000,2,  -999.00,9,  -999.00,9,   2.0034,2,  27.6845,2,   2.1617,2
49UP20180806_2,   P13,    97,  1,      8,     817,2,20180911,1932,1956, -3.9917, 164.9807, 3306,   2428.7,     2401,   2.0078,  34.6503,2,    128.8,2,  34.6503,6,   128.73,2,   136.75,3,    37.34,2,     0.00,2,    2.610,3,    0.001,2,    0.000,2,   2336.7,2,   2416.9,2,   7.5558,2,    25.00,    0.003,2,  -999.00,9,  -999.00,9,   1.8338,2,  27.7045,2,   2.0077,2
49UP20180806_2,   P13,    97,  1,      7,     816,2,20180911,1932,1951, -3.9917, 164.9807, 3306,   2634.5,     2604,   1.8948,  34.6570,2,    131.2,2,  34.6582,2,   130.83,2,   139.79,3,    37.23,2,     0.00,2,    2.590,3,    0.000,2,    0.000,2,   2337.8,2,   2417.7,2,   7.5593,6,    25.00,    0.000,2,  -999.00,9,  -999.00,9,   1.7042,2,  27.7198,2,   1.8948,2
49UP20180806_2,   P13,    97,  1,      6,     815,2,20180911,1932,1946, -3.9917, 164.9807, 3306,   2838.2,     2804,   1.7867,  34.6632,2,    134.3,2,  34.6645,2,   134.24,2,   143.21,3,    37.06,2,     0.00,2,    2.570,3,    0.004,2,    0.002,2,   2340.1,6,   2422.2,6,   7.5633,2,    25.00,    0.000,2,  -999.00,9,  -999.00,9,   1.5792,2,  27.7341,2,   1.7867,2
49UP20180806_2,   P13,    97,  1,      5,     814,2,20180911,1932,1941, -3.9917, 164.9807, 3306,   3040.6,     3002,   1.7123,  34.6676,2,    136.6,2,  34.6677,2,   136.53,2,   146.45,3,    36.91,2,     0.00,2,    2.570,3,    0.000,2,    0.000,2,   2340.3,2,   2422.6,2,   7.5683,2,    25.00,    0.001,2,  -999.00,9,  -999.00,9,   1.4870,2,  27.7444,2,   1.7121,2
49UP20180806_2,   P13,    97,  1,      4,     813,2,20180911,1932,1935, -3.9917, 164.9807, 3306,   3294.9,     3251,   1.5695,  34.6769,2,    146.4,2,  34.6783,4,   146.33,6,   146.25,3,    36.24,6,     0.00,6,    2.520,3,    0.003,2,    0.001,2,   2336.5,2,   2422.0,2,   7.5772,2,    25.00,    0.000,2,  -999.00,9,  -999.00,9,   1.3223,2,  27.7637,2,   1.5695,2
49UP20180806_2,   P13,    97,  1,      3,     812,2,20180911,1932,1933, -3.9917, 164.9807, 3306,   3357.1,     3312,   1.5540,  34.6782,2,    148.0,2,  34.6789,2,   147.59,2,   142.86,3,    36.23,2,     0.00,2,    2.500,3, -999.000,9, -999.000,9,   2326.7,2,   2422.1,2,   7.5834,2,    25.00, -999.000,9,  -999.00,9,  -999.00,9,   1.3010,2,  27.7662,2,   1.5539,2
49UP20180806_2,   P13,    97,  1,      2,     811,2,20180911,1932,1932, -3.9917, 164.9807, 3306,   3358.0,     3313,   1.5537,  34.6782,2,    148.0,2,  34.6780,2,   147.78,2,   142.55,3,    36.23,2,     0.00,2,    2.500,3,    0.000,2,    0.001,2,   2329.4,2,   2421.7,2,   7.5837,2,    25.00,    0.000,2,  -999.00,9,  -999.00,9,   1.3006,2,  27.7662,2,   1.5538,2