BOTTLE,20191018JMAGEMD
EXPOCODE,SECT_ID,STNNBR,CASTNO,SAMPNO,BTLNBR,BTLNBR_FLAG_U,DATE,TIME,BTL_TIME,LATITUDE,LONGITUDE,DEPTH,CTDPRS,CTDDEP,CTDTMP,CTDSAL,CTDSAL_FLAG_W,CTDOXY,CTDOXY_FLAG_W,SALNTY,SALNTY_FLAG_W,OXYGEN,OXYGEN_FLAG_W,SILCAT,SILCAT_FLAG_W,NO2+NO3,NO2+NO3_FLAG_W,NITRIT,NITRIT_FLAG_W,PHSPHT,PHSPHT_FLAG_W,CFC-11,CFC-11_FLAG_W,CFC-12,CFC-12_FLAG_W,TCARBN,TCARBN_FLAG_W,ALKALI,ALKALI_FLAG_W,PH_TS,PH_TS_FLAG_W,PH_TS_TMP,CFC113,CFC113_FLAG_W,CHLORA,CHLORA_FLAG_W,PPHYTN,PPHYTN_FLAG_W,THETA,THETA_FLAG_W,SIGTHT,SIGTHT_FLAG_W,SBE35,SBE35_FLAG_W
,,,,,,,,UTC,,,,METER,DBAR,METERS,ITS-90,PSS-78,,UMOL/KG,,PSS78,,UMOL/KG,,UMOL/KG,,UMOL/KG,,UMOL/KG,,UMOL/KG,,PMOL/KG,,PMOL/KG,,UMOL/KG,,UMOL/KG,,,,ITS-90,PMOL/KG,,UG/KG,,UG/KG,,ITS-90,,KG/M3,,ITS-90,
49UP20180806_2,   P13,    79,  1,      0,      -9,0,20180905,1711,1850,  5.4912, 165.0205, 4869,      0.0,        0,  29.5861,  33.3023,2,    196.8,2,-999.0000,9,   196.04,2,     1.53,3,     0.01,2,     0.00,2,    0.030,3, -999.000,9, -999.000,9,   -999.0,9,   -999.0,9,-999.0000,9,  -999.00, -999.000,9,  -999.00,9,  -999.00,9,  29.5855,2,  20.5942,2,-999.0000,9
49UP20180806_2,   P13,    79,  1,     36,     845,3,20180905,1711,1924,  5.4912, 165.0205, 4869,     10.4,       10,  29.5948,  33.3045,2,    196.8,2,  33.3072,2,   195.78,2,     1.48,3,     0.00,2,     0.00,2,    0.020,3, -999.000,9, -999.000,9,   -999.0,9,   -999.0,9,-999.0000,9,  -999.00, -999.000,9,  -999.00,9,  -999.00,9,  29.5923,2,  20.5936,2,  29.5972,2
49UP20180806_2,   P13,    79,  1,     35,     844,2,20180905,1711,1920,  5.4912, 165.0205, 4869,     51.7,       51,  29.4945,  33.8993,2,    199.9,2,  33.8972,2,   199.53,2,     1.55,3,     0.00,2,     0.00,2,    0.030,3, -999.000,9, -999.000,9,   -999.0,9,   -999.0,9,-999.0000,9,  -999.00, -999.000,9,  -999.00,9,  -999.00,9,  29.4819,2,  21.0766,2,  29.4886,2
49UP20180806_2,   P13,    79,  1,     34,     843,2,20180905,1711,1918,  5.4912, 165.0205, 4869,    101.4,      101,  24.8205,  34.8233,2,    161.3,2,  34.8288,2,   160.16,2,     3.92,3,     3.94,2,     0.30,2,    0.410,3, -999.000,9, -999.000,9,   -999.0,9,   -999.0,9,-999.0000,9,  -999.00, -999.000,9,  -999.00,9,  -999.00,9,  24.7987,2,  23.2687,2,  24.8228,2
49UP20180806_2,   P13,    79,  1,     33,     842,2,20180905,1711,1916,  5.4912, 165.0205, 4869,    125.8,      125,  22.2351,  34.9495,2,    142.0,2,  34.9602,2,   142.19,2,     5.85,3,     8.05,2,     0.07,2,    0.660,3, -999.000,9, -999.000,9,   -999.0,9,   -999.0,9,-999.0000,9,  -999.00, -999.000,9,  -999.00,9,  -999.00,9,  22.2100,2,  24.1204,2,  22.1677,2
49UP20180806_2,   P13,    79,  1,     32,     841,2,20180905,1711,1915,  5.4912, 165.0205, 4869,    152.3,      151,  17.9899,  34.7122,2,    138.0,2,  34.7149,2,   137.22,2,    10.86,3,    11.75,2,     0.01,2,    0.890,3, -999.000,9, -999.000,9,   -999.0,9,   -999.0,9,-999.0000,9,  -999.00, -999.000,9,  -999.00,9,  -999.00,9,  17.9638,2,  25.0606,2,  18.0169,2
49UP20180806_2,   P13,    79,  1,     31,     840,2,20180905,1711,1913,  5.4912, 165.0205, 4869,    203.0,      202,  11.9859,  34.5384,2,     76.8,2,  34.5373,2,    76.44,6,    24.68,3,    25.62,6,     0.00,6,    1.860,3, -999.000,9, -999.000,9,   -999.0,9,   -999.0,9,-999.0000,9,  -999.00, -999.000,9,  -999.00,9,  -999.00,9,  11.9596,2,  26.2382,2,  11.9841,2
49UP20180806_2,   P13,    79,  1,     30,     839,2,20180905,1711,1911,  5.4912, 165.0205, 4869,    252.3,      251,  10.3191,  34.6245,2,     39.4,2,  34.6234,2,    38.93,2,    31.84,3,    32.53,2,     0.00,2,    2.320,3, -999.000,9, -999.000,9,   -999.0,9,   -999.0,9,-999.0000,9,  -999.00, -999.000,9,  -999.00,9,  -999.00,9,  10.2893,2,  26.6090,2,  10.3186,2
49UP20180806_2,   P13,    79,  1,     29,     838,2,20180905,1711,1909,  5.4912, 165.0205, 4869,    303.3,      301,   9.5368,  34.6345,2,     58.7,2,  34.6327,2,    58.04,2,    33.82,3,    32.48,2,     0.00,2,    2.310,3, -999.000,9, -999.000,9,   -999.0,9,   -999.0,9,-999.0000,9,  -999.00, -999.000,9,  -999.00,9,  -999.00,9,   9.5026,2,  26.7501,2,   9.5359,2
49UP20180806_2,   P13,    79,  1,     28,     837,2,20180905,1711,1907,  5.4912, 165.0205, 4869,    353.4,      351,   9.1244,  34.6290,2,     50.2,2,  34.6280,2,    51.22,2,    36.24,3,    33.96,2,     0.00,2,    2.420,3, -999.000,9, -999.000,9,   -999.0,9,   -999.0,9,-999.0000,9,  -999.00, -999.000,9,  -999.00,9,  -999.00,9,   9.0856,2,  26.8139,2,   9.1244,2
49UP20180806_2,   P13,    79,  1,     27,     661,2,20180905,1711,1905,  5.4912, 165.0205, 4869,    405.7,      403,   8.7249,  34.6165,2,     49.6,2,  34.6154,2,    49.13,2,    38.40,3,    34.94,2,     0.00,2,    2.500,3, -999.000,9, -999.000,9,   -999.0,9,   -999.0,9,-999.0000,9,  -999.00, -999.000,9,  -999.00,9,  -999.00,9,   8.6813,2,  26.8683,2,   8.7264,2
49UP20180806_2,   P13,    79,  1,     26,     835,2,20180905,1711,1902,  5.4912, 165.0205, 4869,    455.4,      452,   8.3429,  34.5994,2,     48.7,2,  34.5983,2,    48.34,2,    41.06,3,    35.78,2,     0.00,2,    2.550,3, -999.000,9, -999.000,9,   -999.0,9,   -999.0,9,-999.0000,9,  -999.00, -999.000,9,  -999.00,9,  -999.00,9,   8.2952,2,  26.9146,2,   8.3429,2
49UP20180806_2,   P13,    79,  1,     25,     834,2,20180905,1711,1900,  5.4912, 165.0205, 4869,    505.6,      502,   7.9234,  34.5848,2,     46.7,2,  34.5834,2,    46.12,2,    44.48,3,    36.81,2,     0.00,2,    2.620,3, -999.000,9, -999.000,9,   -999.0,9,   -999.0,9,-999.0000,9,  -999.00, -999.000,9,  -999.00,9,  -999.00,9,   7.8718,2,  26.9668,2,   7.9236,2
49UP20180806_2,   P13,    79,  1,     23,     832,2,20180905,1711,1857,  5.4912, 165.0205, 4869,    605.6,      601,   7.1675,  34.5612,2,     42.1,2,  34.5600,2,    41.38,2,    52.40,3,    38.53,2,     0.00,2,    2.770,3, -999.000,9, -999.000,9,   -999.0,9,   -999.0,9,-999.0000,9,  -999.00, -999.000,9,  -999.00,9,  -999.00,9,   7.1088,2,  27.0580,2,   7.1681,2
49UP20180806_2,   P13,    79,  1,     22,     831,2,20180905,1711,1855,  5.4912, 165.0205, 4869,    705.5,      700,   6.3332,  34.5466,2,     44.1,2,  34.5457,2,    43.81,2,    62.23,3,    40.08,2,     0.00,2,    2.870,3, -999.000,9, -999.000,9,   -999.0,9,   -999.0,9,-999.0000,9,  -999.00, -999.000,9,  -999.00,9,  -999.00,9,   6.2687,2,  27.1598,2,   6.3330,2
49UP20180806_2,   P13,    79,  1,     21,     830,2,20180905,1711,1852,  5.4912, 165.0205, 4869,    805.5,      799,   5.6584,  34.5422,2,     54.2,2,  34.5413,2,    53.96,6,    70.93,3,    40.36,6,     0.00,6,    2.880,3, -999.000,9, -999.000,9,   -999.0,9,   -999.0,9,-999.0000,9,  -999.00, -999.000,9,  -999.00,9,  -999.00,9,   5.5884,2,  27.2423,2,   5.6583,2
49UP20180806_2,   P13,    79,  1,     20,     829,2,20180905,1711,1849,  5.4912, 165.0205, 4869,    909.4,      902,   4.9915,  34.5481,2,     60.1,2,  34.5467,2,    59.93,2,    82.02,3,    40.73,2,     0.00,2,    2.900,3, -999.000,9, -999.000,9,   -999.0,9,   -999.0,9,-999.0000,9,  -999.00, -999.000,9,  -999.00,9,  -999.00,9,   4.9163,2,  27.3266,2,   4.9922,2
49UP20180806_2,   P13,    79,  1,     19,     828,2,20180905,1711,1845,  5.4912, 165.0205, 4869,   1011.7,     1004,   4.4311,  34.5574,2,     68.8,2,  34.5569,2,    68.46,2,    92.80,3,    40.38,2,     0.00,2,    2.890,3, -999.000,9, -999.000,9,   -999.0,9,   -999.0,9,-999.0000,9,  -999.00, -999.000,9,  -999.00,9,  -999.00,9,   4.3511,2,  27.3969,2,   4.4312,2
49UP20180806_2,   P13,    79,  1,     18,     660,2,20180905,1711,1840,  5.4912, 165.0205, 4869,   1211.8,     1202,   3.6753,  34.5773,2,     78.9,2,  34.5766,2,    78.51,2,   108.74,3,    40.17,2,     0.00,2,    2.860,3, -999.000,9, -999.000,9,   -999.0,9,   -999.0,9,-999.0000,9,  -999.00, -999.000,9,  -999.00,9,  -999.00,9,   3.5846,2,  27.4920,2,   3.6751,2
49UP20180806_2,   P13,    79,  1,     17,     826,2,20180905,1711,1835,  5.4912, 165.0205, 4869,   1412.6,     1400,   3.2260,  34.5932,2,     85.6,2,  34.5926,2,    85.38,2,   118.04,3,    39.94,2,     0.00,2,    2.840,3, -999.000,9, -999.000,9,   -999.0,9,   -999.0,9,-999.0000,9,  -999.00, -999.000,9,  -999.00,9,  -999.00,9,   3.1229,2,  27.5490,2,   3.2261,2
49UP20180806_2,   P13,    79,  1,     16,     825,2,20180905,1711,1831,  5.4912, 165.0205, 4869,   1615.8,     1601,   2.7905,  34.6097,2,     95.8,2,  34.6090,2,    95.48,2,   127.14,3,    39.34,2,     0.00,2,    2.790,3, -999.000,9, -999.000,9,   -999.0,9,   -999.0,9,-999.0000,9,  -999.00, -999.000,9,  -999.00,9,  -999.00,9,   2.6754,2,  27.6026,2,   2.7909,2
49UP20180806_2,   P13,    79,  1,     15,     824,2,20180905,1711,1824,  5.4912, 165.0205, 4869,   1819.1,     1801,   2.4636,  34.6240,2,    101.8,2,  34.6243,2,   101.54,2,   134.91,3,    39.12,2,     0.00,2,    2.760,3, -999.000,9, -999.000,9,   -999.0,9,   -999.0,9,-999.0000,9,  -999.00, -999.000,9,  -999.00,9,  -999.00,9,   2.3356,2,  27.6432,2,   2.4638,2
49UP20180806_2,   P13,    79,  1,     14,     823,2,20180905,1711,1819,  5.4912, 165.0205, 4869,   2023.3,     2002,   2.2092,  34.6377,2,    107.8,2,  34.6380,2,   107.72,2,   140.79,3,    38.87,2,     0.00,2,    2.730,3, -999.000,9, -999.000,9,   -999.0,9,   -999.0,9,-999.0000,9,  -999.00, -999.000,9,  -999.00,9,  -999.00,9,   2.0676,2,  27.6760,2,   2.2090,2
49UP20180806_2,   P13,    79,  1,     13,     822,2,20180905,1711,1814,  5.4912, 165.0205, 4869,   2224.6,     2201,   2.0197,  34.6480,2,    112.9,2,  34.6474,2,   112.63,2,  -999.00,9,  -999.00,9,  -999.00,9, -999.000,9, -999.000,9, -999.000,9,   -999.0,9,   -999.0,9,-999.0000,9,  -999.00, -999.000,9,  -999.00,9,  -999.00,9,   1.8637,2,  27.7004,2,   2.0196,2
49UP20180806_2,   P13,    79,  1,     12,     821,2,20180905,1711,1809,  5.4912, 165.0205, 4869,   2426.2,     2399,   1.8947,  34.6556,2,    120.4,2,  34.6548,2,   120.21,6,  -999.00,9,  -999.00,9,  -999.00,9, -999.000,9, -999.000,9, -999.000,9,   -999.0,9,   -999.0,9,-999.0000,9,  -999.00, -999.000,9,  -999.00,9,  -999.00,9,   1.7230,2,  27.7172,2,   1.8947,2
49UP20180806_2,   P13,    79,  1,     11,     820,2,20180905,1711,1805,  5.4912, 165.0205, 4869,   2630.3,     2599,   1.8007,  34.6617,2,    124.1,2,  34.6618,2,   123.90,2,  -999.00,9,  -999.00,9,  -999.00,9, -999.000,9, -999.000,9, -999.000,9,   -999.0,9,   -999.0,9,-999.0000,9,  -999.00, -999.000,9,  -999.00,9,  -999.00,9,   1.6123,2,  27.7304,2,   1.8006,2
49UP20180806_2,   P13,    79,  1,     10,     819,2,20180905,1711,1800,  5.4912, 165.0205, 4869,   2833.1,     2799,   1.7274,  34.6658,2,    130.0,2,  34.6649,2,   129.63,2,  -999.00,9,  -999.00,9,  -999.00,9, -999.000,9, -999.000,9, -999.000,9,   -999.0,9,   -999.0,9,-999.0000,9,  -999.00, -999.000,9,  -999.00,9,  -999.00,9,   1.5216,2,  27.7404,2,   1.7273,2
49UP20180806_2,   P13,    79,  1,      9,     818,2,20180905,1711,1754,  5.4912, 165.0205, 4869,   3038.9,     3000,   1.6685,  34.6696,2,    134.6,2,  34.6681,4,   134.34,2,  -999.00,9,  -999.00,9,  -999.00,9, -999.000,9, -999.000,9, -999.000,9,   -999.0,9,   -999.0,9,-999.0000,9,  -999.00, -999.000,9,  -999.00,9,  -999.00,9,   1.4443,2,  27.7490,2,   1.6685,2
49UP20180806_2,   P13,    79,  1,      8,     817,2,20180905,1711,1749,  5.4912, 165.0205, 4869,   3293.9,     3250,   1.5905,  34.6748,2,    142.0,2,  34.6735,4,   141.81,2,  -999.00,9,  -999.00,9,  -999.00,9, -999.000,9, -999.000,9, -999.000,9,   -999.0,9,   -999.0,9,-999.0000,9,  -999.00, -999.000,9,  -999.00,9,  -999.00,9,   1.3430,2,  27.7605,2,   1.5905,2
49UP20180806_2,   P13,    79,  1,      7,     816,2,20180905,1711,1743,  5.4912, 165.0205, 4869,   3549.6,     3501,   1.5298,  34.6800,2,    148.7,2,  34.6787,2,   148.56,2,  -999.00,9,  -999.00,9,  -999.00,9, -999.000,9, -999.000,9, -999.000,9,   -999.0,9,   -999.0,9,-999.0000,9,  -999.00, -999.000,9,  -999.00,9,  -999.00,9,   1.2578,2,  27.7707,2,   1.5296,2
49UP20180806_2,   P13,    79,  1,      6,     815,2,20180905,1711,1737,  5.4912, 165.0205, 4869,   3806.4,     3752,   1.4864,  34.6846,2,    155.0,2,  34.6837,2,   155.00,2,  -999.00,9,  -999.00,9,  -999.00,9, -999.000,9, -999.000,9, -999.000,9,   -999.0,9,   -999.0,9,-999.0000,9,  -999.00, -999.000,9,  -999.00,9,  -999.00,9,   1.1886,2,  27.7791,2,   1.4863,2
49UP20180806_2,   P13,    79,  1,      5,     814,2,20180905,1711,1732,  5.4912, 165.0205, 4869,   4061.7,     4001,   1.4587,  34.6883,2,    161.2,2,  34.6872,2,   160.91,2,  -999.00,9,  -999.00,9,  -999.00,9, -999.000,9, -999.000,9, -999.000,9,   -999.0,9,   -999.0,9,-999.0000,9,  -999.00, -999.000,9,  -999.00,9,  -999.00,9,   1.1342,2,  27.7859,2,   1.4585,2
49UP20180806_2,   P13,    79,  1,      4,     813,2,20180905,1711,1726,  5.4912, 165.0205, 4869,   4316.9,     4250,   1.4343,  34.6920,2,    167.3,2,  34.6909,6,   167.73,2,  -999.00,9,  -999.00,9,  -999.00,9, -999.000,9, -999.000,9, -999.000,9,   -999.0,9,   -999.0,9,-999.0000,9,  -999.00, -999.000,9,  -999.00,9,  -999.00,9,   1.0822,2,  27.7924,2,   1.4342,2
49UP20180806_2,   P13,    79,  1,      3,     812,2,20180905,1711,1720,  5.4912, 165.0205, 4869,   4573.8,     4500,   1.4107,  34.6955,2,    173.7,2,  34.6948,2,   174.00,6,  -999.00,9,  -999.00,9,  -999.00,9, -999.000,9, -999.000,9, -999.000,9,   -999.0,9,   -999.0,9,-999.0000,9,  -999.00, -999.000,9,  -999.00,9,  -999.00,9,   1.0300,2,  27.7987,2,   1.4106,2
49UP20180806_2,   P13,    79,  1,      2,     811,2,20180905,1711,1715,  5.4912, 165.0205, 4869,   4831.5,     4751,   1.3859,  34.6988,2,    180.2,2,  34.6986,6,   180.48,2,  -999.00,9,  -999.00,9,  -999.00,9, -999.000,9, -999.000,9, -999.000,9,   -999.0,9,   -999.0,9,-999.0000,9,  -999.00, -999.000,9,  -999.00,9,  -999.00,9,   0.9757,2,  27.8049,2,   1.3859,2
49UP20180806_2,   P13,    79,  1,      1,     810,2,20180905,1711,1711,  5.4912, 165.0205, 4869,   4950.1,     4866,   1.3760,  34.7003,2,    183.1,2,  34.6995,2,   182.28,2,  -999.00,9,  -999.00,9,  -999.00,9, -999.000,9, -999.000,9, -999.000,9,   -999.0,9,   -999.0,9,-999.0000,9,  -999.00, -999.000,9,  -999.00,9,  -999.00,9,   0.9519,2,  27.8077,2,   1.3758,2