BOTTLE,20191018JMAGEMD
EXPOCODE,SECT_ID,STNNBR,CASTNO,SAMPNO,BTLNBR,BTLNBR_FLAG_U,DATE,TIME,BTL_TIME,LATITUDE,LONGITUDE,DEPTH,CTDPRS,CTDDEP,CTDTMP,CTDSAL,CTDSAL_FLAG_W,CTDOXY,CTDOXY_FLAG_W,SALNTY,SALNTY_FLAG_W,OXYGEN,OXYGEN_FLAG_W,SILCAT,SILCAT_FLAG_W,NO2+NO3,NO2+NO3_FLAG_W,NITRIT,NITRIT_FLAG_W,PHSPHT,PHSPHT_FLAG_W,CFC-11,CFC-11_FLAG_W,CFC-12,CFC-12_FLAG_W,TCARBN,TCARBN_FLAG_W,ALKALI,ALKALI_FLAG_W,PH_TS,PH_TS_FLAG_W,PH_TS_TMP,CFC113,CFC113_FLAG_W,CHLORA,CHLORA_FLAG_W,PPHYTN,PPHYTN_FLAG_W,THETA,THETA_FLAG_W,SIGTHT,SIGTHT_FLAG_W,SBE35,SBE35_FLAG_W
,,,,,,,,UTC,,,,METER,DBAR,METERS,ITS-90,PSS-78,,UMOL/KG,,PSS78,,UMOL/KG,,UMOL/KG,,UMOL/KG,,UMOL/KG,,UMOL/KG,,PMOL/KG,,PMOL/KG,,UMOL/KG,,UMOL/KG,,,,ITS-90,PMOL/KG,,UG/KG,,UG/KG,,ITS-90,,KG/M3,,ITS-90,
49UP20180614_2,   P13,    22,  1,      0,      -9,0,20180711,2027,2232, 47.0045, 165.0070, 5874,      0.0,        0,   8.2190,  32.9545,2,    304.7,2,  32.9533,2,   304.07,2,    21.05,2,    16.27,2,     0.20,2,    1.420,3, -999.000,9, -999.000,9,   2079.7,2,   2227.4,2,   7.7717,2,    25.00, -999.000,9,     0.24,2,     0.02,2,   8.2188,2,  25.6355,2,-999.0000,9
49UP20180614_2,   P13,    22,  1,     36,     845,2,20180711,2027,2258, 47.0045, 165.0070, 5874,     10.6,       11,   7.9940,  32.9513,2,    305.6,2,  32.9560,2,   307.88,2,    21.70,2,    16.32,2,     0.19,2,    1.390,3, -999.000,9, -999.000,9,   2080.7,2,   2228.5,2,   7.7725,2,    25.00, -999.000,9,     0.26,2,     0.02,2,   7.9929,2,  25.6662,2,   8.0103,2
49UP20180614_2,   P13,    22,  1,     35,     844,2,20180711,2027,2253, 47.0045, 165.0070, 5874,     51.1,       51,   5.1358,  33.0294,2,    322.0,2,  33.0345,2,   321.65,2,    25.97,2,    17.11,2,     0.24,2,    1.450,3, -999.000,9, -999.000,9,   2092.5,2,   2233.9,2,   7.7480,2,    25.00, -999.000,9,     0.45,2,     0.16,2,   5.1319,2,  26.0983,2,   5.1320,2
49UP20180614_2,   P13,    22,  1,     34,     843,2,20180711,2027,2251, 47.0045, 165.0070, 5874,     75.7,       75,   4.1975,  33.1264,2,    312.6,2,  33.1189,4,   312.35,2,    29.37,2,    19.91,2,     0.04,2,    1.590,3, -999.000,9, -999.000,9,   2113.9,2,   2234.9,2,   7.7006,2,    25.00, -999.000,9,     0.22,2,     0.09,2,   4.1924,2,  26.2765,2,   4.1902,2
49UP20180614_2,   P13,    22,  1,     33,     842,2,20180711,2027,2250, 47.0045, 165.0070, 5874,    101.0,      100,   4.5322,  33.4103,2,    294.1,2,  33.4121,2,   293.66,2,    32.16,2,    19.94,2,     0.01,2,    1.540,3, -999.000,9, -999.000,9,   2133.9,2,   2247.4,2,   7.6887,2,    25.00, -999.000,9,     0.02,2,     0.04,2,   4.5250,2,  26.4672,2,   4.5424,2
49UP20180614_2,   P13,    22,  1,     32,     841,2,20180711,2027,2248, 47.0045, 165.0070, 5874,    125.8,      125,   3.6673,  33.4001,2,    287.4,2,  33.4024,2,   285.13,2,    40.40,2,    22.98,2,     0.01,2,    1.760,3, -999.000,9, -999.000,9,   2150.0,2,   2252.8,2,   7.6444,2,    25.00, -999.000,9,     0.01,2,     0.03,2,   3.6592,2,  26.5471,2,   3.6703,2
49UP20180614_2,   P13,    22,  1,     31,     840,2,20180711,2027,2247, 47.0045, 165.0070, 5874,    151.4,      150,   4.1816,  33.5574,2,    214.2,2,  33.5580,2,   211.49,2,    51.90,2,    27.31,2,     0.01,2,    2.030,3, -999.000,9, -999.000,9,   2192.6,2,   2262.4,2,   7.5516,2,    25.00, -999.000,9,     0.01,2,     0.04,2,   4.1711,2,  26.6212,2,   4.1828,2
49UP20180614_2,   P13,    22,  1,     30,     839,2,20180711,2027,2245, 47.0045, 165.0070, 5874,    204.2,      202,   3.9659,  33.6857,2,    154.4,2,  33.6866,2,   157.60,3,    66.64,2,    32.35,2,     0.00,2,    2.360,3, -999.000,9, -999.000,9,   2245.0,2,   2278.1,2,   7.4592,2,    25.00, -999.000,9,     0.00,2,     0.04,2,   3.9520,2,  26.7455,2,   3.9844,2
49UP20180614_2,   P13,    22,  1,     29,     838,2,20180711,2027,2243, 47.0045, 165.0070, 5874,    252.2,      250,   4.0201,  33.7991,2,    114.9,2,  33.7979,2,   114.19,2,    77.87,2,    35.87,2,     0.00,2,    2.570,3, -999.000,9, -999.000,9,   2269.3,2,   2289.0,2,   7.3976,2,    25.00, -999.000,9,  -999.00,9,  -999.00,9,   4.0027,2,  26.8306,2,   4.0196,2
49UP20180614_2,   P13,    22,  1,     28,     837,2,20180711,2027,2241, 47.0045, 165.0070, 5874,    303.3,      301,   3.8464,  33.8796,2,     78.0,2,  33.8795,2,    77.38,2,    89.86,2,    39.47,2,     0.00,2,    2.790,3, -999.000,9, -999.000,9,   2300.7,2,   2300.0,2,   7.3318,2,    25.00, -999.000,9,  -999.00,9,  -999.00,9,   3.8257,2,  26.9124,2,   3.8461,2
49UP20180614_2,   P13,    22,  1,     27,     661,2,20180711,2027,2238, 47.0045, 165.0070, 5874,    405.1,      401,   3.7213,  33.9994,2,     27.8,2,  33.9972,2,    26.99,2,   106.54,2,    44.09,2,     0.00,2,    3.080,3, -999.000,9, -999.000,9,   2339.5,2,   2315.5,2,   7.2538,2,    25.00, -999.000,9,  -999.00,9,  -999.00,9,   3.6937,2,  27.0209,2,   3.7213,2
49UP20180614_2,   P13,    22,  1,     26,     835,3,20180711,2027,2235, 47.0045, 165.0070, 5874,    506.9,      502,   3.5977,  34.0912,2,     14.0,2,  34.0902,2,    12.94,2,   118.07,2,    44.92,2,     0.00,2,    3.160,3, -999.000,9, -999.000,9,   2358.1,6,   2328.7,6,   7.2487,2,    25.00, -999.000,9,  -999.00,9,  -999.00,9,   3.5632,2,  27.1068,2,   3.5976,2
49UP20180614_2,   P13,    22,  1,     25,     834,2,20180711,2027,2232, 47.0045, 165.0070, 5874,    607.8,      602,   3.4872,  34.1545,2,     15.2,2,  34.1540,2,    13.73,2,   124.35,2,    44.54,2,     0.00,2,    3.150,3, -999.000,9, -999.000,9,   2361.0,2,   2339.5,2,   7.2633,6,    25.00, -999.000,9,  -999.00,9,  -999.00,9,   3.4458,2,  27.1686,2,   3.4871,2
49UP20180614_2,   P13,    22,  1,     24,     833,2,20180711,2027,2229, 47.0045, 165.0070, 5874,    708.7,      702,   3.3387,  34.2235,2,     15.6,2,  34.2221,2,    14.43,6,   131.56,6,    44.34,6,     0.00,6,    3.130,3, -999.000,9, -999.000,9,   2368.4,2,   2349.5,2,   7.2713,2,    25.00, -999.000,9,  -999.00,9,  -999.00,9,   3.2906,2,  27.2383,2,   3.3387,2
49UP20180614_2,   P13,    22,  1,     23,     832,2,20180711,2027,2226, 47.0045, 165.0070, 5874,    810.9,      803,   3.1982,  34.2765,2,     21.7,2,  34.2742,2,    21.07,2,   135.83,2,    43.74,2,     0.00,2,    3.080,3, -999.000,9, -999.000,9,   2370.9,2,   2358.0,2,   7.2966,2,    25.00, -999.000,9,  -999.00,9,  -999.00,9,   3.1434,2,  27.2944,2,   3.1983,2
49UP20180614_2,   P13,    22,  1,     22,     831,2,20180711,2027,2223, 47.0045, 165.0070, 5874,    912.1,      903,   3.0725,  34.3352,2,     30.2,2,  34.3343,2,    29.53,2,   139.28,2,    43.00,2,     0.00,2,    3.040,3, -999.000,9, -999.000,9,   2373.7,6,   2369.4,6,   7.3246,2,    25.00, -999.000,9,  -999.00,9,  -999.00,9,   3.0109,2,  27.3534,2,   3.0727,2
49UP20180614_2,   P13,    22,  1,     21,     830,2,20180711,2027,2219, 47.0045, 165.0070, 5874,   1014.4,     1004,   2.8146,  34.3818,2,     28.0,2,  34.3807,2,    27.42,2,   148.23,2,    43.37,2,     0.00,2,    3.060,3, -999.000,9, -999.000,9,   2377.8,2,   2377.9,2,   7.3251,6,    25.00, -999.000,9,  -999.00,9,  -999.00,9,   2.7473,2,  27.4142,2,   2.8145,2
49UP20180614_2,   P13,    22,  1,     20,     829,2,20180711,2027,2214, 47.0045, 165.0070, 5874,   1215.5,     1202,   2.5275,  34.4469,2,     33.8,2,  34.4487,2,    33.72,6,   157.02,6,    43.18,6,     0.00,6,    3.040,3, -999.000,9, -999.000,9,   2384.1,2,   2389.2,2,   7.3456,2,    25.00, -999.000,9,  -999.00,9,  -999.00,9,   2.4475,2,  27.4920,2,   2.5273,2
49UP20180614_2,   P13,    22,  1,     19,     828,2,20180711,2027,2209, 47.0045, 165.0070, 5874,   1418.8,     1402,   2.3441,  34.4939,2,     40.4,2,  34.4940,6,    39.88,2,   162.11,2,    42.95,2,     0.00,2,    3.050,3, -999.000,9, -999.000,9,   2385.3,2,   2396.3,2,   7.3623,2,    25.00, -999.000,9,  -999.00,9,  -999.00,9,   2.2504,2,  27.5461,2,   2.3439,2
49UP20180614_2,   P13,    22,  1,     18,     827,2,20180711,2027,2204, 47.0045, 165.0070, 5874,   1621.5,     1602,   2.1966,  34.5281,2,     46.1,2,  34.5282,2,    45.84,2,   166.00,2,    42.56,2,     0.00,2,    3.020,3, -999.000,9, -999.000,9,   2385.9,2,   2404.9,2,   7.3739,2,    25.00, -999.000,9,  -999.00,9,  -999.00,9,   2.0887,2,  27.5866,2,   2.1965,2
49UP20180614_2,   P13,    22,  1,     17,     826,2,20180711,2027,2159, 47.0045, 165.0070, 5874,   1824.5,     1801,   2.0302,  34.5666,2,     57.7,2,  34.5666,2,    57.35,2,   168.47,2,    41.95,2,     0.00,2,    2.960,3, -999.000,9, -999.000,9,   2384.1,2,   2411.9,2,   7.4044,2,    25.00, -999.000,9,  -999.00,9,  -999.00,9,   1.9080,2,  27.6316,2,   2.0295,2
49UP20180614_2,   P13,    22,  1,     16,     825,2,20180711,2027,2155, 47.0045, 165.0070, 5874,   2028.5,     2002,   1.9131,  34.5925,2,     70.1,2,  34.5916,2,    70.12,2,   168.35,2,    41.22,2,     0.00,2,    2.890,3, -999.000,9, -999.000,9,   2378.7,2,   2414.7,2,   7.4285,2,    25.00, -999.000,9,  -999.00,9,  -999.00,9,   1.7757,2,  27.6626,2,   1.9131,2
49UP20180614_2,   P13,    22,  1,     15,     824,2,20180711,2027,2150, 47.0045, 165.0070, 5874,   2230.5,     2200,   1.8152,  34.6129,2,     83.3,2,  34.6133,2,    83.14,2,   166.85,2,    40.48,2,     0.00,2,    2.820,3, -999.000,9, -999.000,9,   2375.5,2,   2417.7,2,   7.4575,2,    25.00, -999.000,9,  -999.00,9,  -999.00,9,   1.6622,2,  27.6875,2,   1.8150,2
49UP20180614_2,   P13,    22,  1,     14,     823,2,20180711,2027,2145, 47.0045, 165.0070, 5874,   2435.3,     2401,   1.7379,  34.6275,2,     93.4,2,  34.6278,2,    93.42,2,   166.20,2,    39.77,2,     0.00,2,    2.770,3, -999.000,9, -999.000,9,   2365.7,2,   2419.3,2,   7.4774,2,    25.00, -999.000,9,  -999.00,9,  -999.00,9,   1.5684,2,  27.7063,2,   1.7378,2
49UP20180614_2,   P13,    22,  1,     13,     822,2,20180711,2027,2140, 47.0045, 165.0070, 5874,   2638.7,     2600,   1.6709,  34.6405,2,    104.4,2,  34.6421,4,   104.50,6,   164.21,6,    39.17,6,     0.00,6,    2.720,3, -999.000,9, -999.000,9,   2363.3,2,   2419.6,2,   7.4951,2,    25.00, -999.000,9,  -999.00,9,  -999.00,9,   1.4843,2,  27.7228,2,   1.6709,2
49UP20180614_2,   P13,    22,  1,     12,     821,3,20180711,2027,2136, 47.0045, 165.0070, 5874,   2841.4,     2799,   1.6191,  34.6495,2,    112.0,2,  34.6506,2,   111.98,2,   163.59,2,    38.67,2,     0.00,2,    2.670,3, -999.000,9, -999.000,9,   2355.9,2,   2420.1,2,   7.5146,2,    25.00, -999.000,9,  -999.00,9,  -999.00,9,   1.4148,2,  27.7351,2,   1.6189,2
49UP20180614_2,   P13,    22,  1,     11,     820,2,20180711,2027,2131, 47.0045, 165.0070, 5874,   3047.1,     3000,   1.5746,  34.6583,2,    121.0,2,  34.6590,2,   120.83,2,   161.96,2,    38.08,2,     0.00,2,    2.650,3, -999.000,9, -999.000,9,   2350.3,2,   2419.4,2,   7.5262,2,    25.00, -999.000,9,  -999.00,9,  -999.00,9,   1.3517,2,  27.7466,2,   1.5746,2
49UP20180614_2,   P13,    22,  1,     10,     819,2,20180711,2027,2126, 47.0045, 165.0070, 5874,   3301.7,     3249,   1.5365,  34.6662,2,    129.9,2,  34.6663,2,   129.58,2,   159.20,2,    37.55,2,     0.00,2,    2.610,3, -999.000,9, -999.000,9,   2342.3,2,   2420.9,2,   7.5458,2,    25.00, -999.000,9,  -999.00,9,  -999.00,9,   1.2896,2,  27.7574,2,   1.5366,2
49UP20180614_2,   P13,    22,  1,      9,     818,2,20180711,2027,2120, 47.0045, 165.0070, 5874,   3559.0,     3500,   1.5062,  34.6725,2,    137.1,2,  34.6722,6,   136.52,2,   157.03,2,    37.09,2,     0.00,2,    2.570,3, -999.000,9, -999.000,9,   2342.7,2,   2420.0,2,   7.5560,2,    25.00, -999.000,9,  -999.00,9,  -999.00,9,   1.2339,2,  27.7663,2,   1.5060,2
49UP20180614_2,   P13,    22,  1,      8,     817,2,20180711,2027,2110, 47.0045, 165.0070, 5874,   4072.2,     4000,   1.4878,  34.6806,2,    146.9,2,  34.6803,2,   146.52,2,   154.43,2,    36.40,2,     0.00,2,    2.500,3, -999.000,9, -999.000,9,   2330.9,6,   2418.7,6,   7.5718,2,    25.00, -999.000,9,  -999.00,9,  -999.00,9,   1.1614,2,  27.7778,2,   1.4879,2
49UP20180614_2,   P13,    22,  1,      7,     816,2,20180711,2027,2105, 47.0045, 165.0070, 5874,   4328.5,     4249,   1.4895,  34.6835,2,    150.8,2,  34.6835,6,   150.58,2,   153.36,2,    36.14,2,     0.00,2,    2.480,3, -999.000,9, -999.000,9,   2326.7,2,   2418.1,2,   7.5805,6,    25.00, -999.000,9,  -999.00,9,  -999.00,9,   1.1344,2,  27.7820,2,   1.4895,2
49UP20180614_2,   P13,    22,  1,      6,     815,2,20180711,2027,2059, 47.0045, 165.0070, 5874,   4586.2,     4500,   1.5009,  34.6855,2,    153.3,2,  34.6850,2,   152.87,6,   152.49,6,    36.03,6,     0.00,6,    2.460,3, -999.000,9, -999.000,9,   2325.9,2,   2418.0,2,   7.5872,2,    25.00, -999.000,9,  -999.00,9,  -999.00,9,   1.1159,2,  27.7848,2,   1.5007,2
49UP20180614_2,   P13,    22,  1,      5,     814,2,20180711,2027,2048, 47.0045, 165.0070, 5874,   5103.6,     5002,   1.5363,  34.6886,2,    156.8,2,  34.6883,2,   156.19,2,   152.68,2,    35.77,2,     0.00,2,    2.440,3, -999.000,9, -999.000,9,   2326.0,2,   2418.8,2,   7.5886,2,    25.00, -999.000,9,  -999.00,9,  -999.00,9,   1.0882,2,  27.7892,2,   1.5364,2
49UP20180614_2,   P13,    22,  1,      4,     813,2,20180711,2027,2043, 47.0045, 165.0070, 5874,   5359.9,     5250,   1.5626,  34.6894,2,    157.4,2,  34.6896,2,   157.33,2,   154.30,2,    35.82,2,     0.00,2,    2.450,3, -999.000,9, -999.000,9,   2324.6,2,   2418.8,2,   7.5929,2,    25.00, -999.000,9,  -999.00,9,  -999.00,9,   1.0815,2,  27.7903,2,   1.5625,2
49UP20180614_2,   P13,    22,  1,      3,     812,2,20180711,2027,2037, 47.0045, 165.0070, 5874,   5620.1,     5501,   1.5965,  34.6894,2,    157.4,2,  34.6893,2,   157.17,2,   154.87,2,    35.75,2,     0.00,2,    2.450,3, -999.000,9, -999.000,9,   2323.3,2,   2418.7,2,   7.5920,2,    25.00, -999.000,9,  -999.00,9,  -999.00,9,   1.0810,2,  27.7904,2,   1.5965,2
49UP20180614_2,   P13,    22,  1,      2,     811,2,20180711,2027,2031, 47.0045, 165.0070, 5874,   5878.6,     5751,   1.6316,  34.6894,2,    157.5,2,  34.6901,2,   157.37,2,   154.61,2,    35.72,2,     0.00,2,    2.440,3, -999.000,9, -999.000,9,   2323.1,2,   2418.1,2,   7.5927,2,    25.00, -999.000,9,  -999.00,9,  -999.00,9,   1.0809,2,  27.7903,2,   1.6317,2
49UP20180614_2,   P13,    22,  1,      1,     810,2,20180711,2027,2027, 47.0045, 165.0070, 5874,   6019.5,     5887,   1.6511,  34.6892,2,    157.4,2,  34.6905,2,   157.79,2,   154.21,2,    35.76,2,     0.00,2,    2.440,3, -999.000,9, -999.000,9,   2324.1,2,   2419.1,2,   7.5951,2,    25.00, -999.000,9,  -999.00,9,  -999.00,9,   1.0808,2,  27.7902,2,   1.6511,2