BOTTLE,20191018JMAGEMD
EXPOCODE,SECT_ID,STNNBR,CASTNO,SAMPNO,BTLNBR,BTLNBR_FLAG_U,DATE,TIME,BTL_TIME,LATITUDE,LONGITUDE,DEPTH,CTDPRS,CTDDEP,CTDTMP,CTDSAL,CTDSAL_FLAG_W,CTDOXY,CTDOXY_FLAG_W,SALNTY,SALNTY_FLAG_W,OXYGEN,OXYGEN_FLAG_W,SILCAT,SILCAT_FLAG_W,NO2+NO3,NO2+NO3_FLAG_W,NITRIT,NITRIT_FLAG_W,PHSPHT,PHSPHT_FLAG_W,CFC-11,CFC-11_FLAG_W,CFC-12,CFC-12_FLAG_W,TCARBN,TCARBN_FLAG_W,ALKALI,ALKALI_FLAG_W,PH_TS,PH_TS_FLAG_W,PH_TS_TMP,CFC113,CFC113_FLAG_W,CHLORA,CHLORA_FLAG_W,PPHYTN,PPHYTN_FLAG_W,THETA,THETA_FLAG_W,SIGTHT,SIGTHT_FLAG_W,SBE35,SBE35_FLAG_W
,,,,,,,,UTC,,,,METER,DBAR,METERS,ITS-90,PSS-78,,UMOL/KG,,PSS78,,UMOL/KG,,UMOL/KG,,UMOL/KG,,UMOL/KG,,UMOL/KG,,PMOL/KG,,PMOL/KG,,UMOL/KG,,UMOL/KG,,,,ITS-90,PMOL/KG,,UG/KG,,UG/KG,,ITS-90,,KG/M3,,ITS-90,
49UP20180806_1,   P13,    41,  1,      0,      -9,0,20180812,2336,0155, 32.9945, 165.0238, 6220,      0.0,        0,  26.8928,  34.5505,2,    205.6,2,  34.5532,2,   205.96,2,     2.63,3,     0.00,2,     0.00,2,    0.050,3, -999.000,9, -999.000,9,   1987.4,2,   2277.3,2,   8.0427,2,    25.00, -999.000,9,     0.06,2,     0.02,2,  26.8923,2,  22.4135,2,-999.0000,9
49UP20180806_1,   P13,    41,  1,     36,     845,2,20180812,2336,0207, 32.9945, 165.0238, 6220,     11.5,       11,  26.5866,  34.5466,2,    205.8,2,  34.5468,2,   206.46,2,     2.67,3,     0.00,2,     0.00,2,    0.010,3,    1.723,2,    0.973,2,   1980.4,2,   2276.0,2,   8.0412,2,    25.00,    0.155,2,     0.05,2,     0.02,2,  26.5840,2,  22.5083,2,  26.5860,2
49UP20180806_1,   P13,    41,  1,     35,     844,2,20180812,2336,0202, 32.9945, 165.0238, 6220,     50.3,       50,  18.2050,  34.5898,2,    283.5,2,  34.5852,6,   281.24,2,     4.22,3,     0.02,2,     0.00,2,    0.040,3,    2.647,2,    1.414,2,   1992.3,2,   2281.1,2,   8.0326,2,    25.00,    0.204,2,     0.12,2,     0.06,2,  18.1963,2,  24.9094,2,  18.2666,2
49UP20180806_1,   P13,    41,  1,     34,     843,2,20180812,2336,0201, 32.9945, 165.0238, 6220,    102.0,      101,  14.0058,  34.4859,2,    224.3,2,  34.4856,2,   224.28,6,     9.40,3,     7.66,6,     0.02,6,    0.520,3,    2.779,2,    1.520,2,   2071.5,2,   2276.6,2,   7.8882,2,    25.00,    0.175,2,     0.19,2,     0.16,2,  13.9911,2,  25.7916,2,  14.0068,2
49UP20180806_1,   P13,    41,  1,     33,     842,2,20180812,2336,0159, 32.9945, 165.0238, 6220,    151.8,      151,  13.0905,  34.4196,2,    219.8,2,  34.4187,2,   219.69,2,    12.29,3,     9.53,2,     0.01,2,    0.660,3,    2.842,2,    1.549,2,   2083.0,2,   2275.8,2,   7.8566,2,    25.00,    0.160,2,     0.02,2,     0.03,2,  13.0697,2,  25.9293,2,  13.0912,2
49UP20180806_1,   P13,    41,  1,     32,     841,2,20180812,2336,0157, 32.9945, 165.0238, 6220,    201.2,      200,  12.0436,  34.3421,2,    215.2,2,  34.3423,2,   215.26,2,    15.65,3,    11.75,2,     0.00,2,    0.810,3,    2.940,2,    1.591,2,   2099.7,2,   2277.2,2,   7.8235,2,    25.00,    0.142,2,     0.00,2,     0.02,2,  12.0175,2,  26.0748,2,  12.0440,2
49UP20180806_1,   P13,    41,  1,     31,     840,2,20180812,2336,0155, 32.9945, 165.0238, 6220,    252.8,      251,  11.0226,  34.2574,2,    219.0,2,  34.2586,2,   219.01,2,    18.09,3,    13.04,2,     0.00,2,    0.910,3,    3.067,2,    1.643,2,   2108.9,2,   2272.6,2,   7.7989,2,    25.00,    0.174,2,  -999.00,9,  -999.00,9,  10.9916,2,  26.1987,2,  11.0154,2
49UP20180806_1,   P13,    41,  1,     30,     839,3,20180812,2336,0152, 32.9945, 165.0238, 6220,    333.0,      330,   9.4074,  34.1178,2,    203.5,2,  34.1190,2,   204.11,2,    26.32,3,    17.34,2,     0.00,2,    1.230,3,    3.164,2,    1.657,2,   2139.8,2,   2273.9,2,   7.7305,2,    25.00,    0.170,2,  -999.00,9,  -999.00,9,   9.3703,2,  26.3677,2,   9.4071,2
49UP20180806_1,   P13,    41,  1,     29,     838,2,20180812,2336,0150, 32.9945, 165.0238, 6220,    436.0,      432,   7.1280,  33.9731,2,    170.3,2,  33.9729,2,   170.67,2,    44.56,3,    24.59,2,     0.00,2,    1.780,3,    3.049,6,    1.548,6,   2187.7,2,   2278.2,2,   7.6151,2,    25.00,    0.167,6,  -999.00,9,  -999.00,9,   7.0868,2,  26.5979,2,   7.1280,2
49UP20180806_1,   P13,    41,  1,     28,     837,2,20180812,2336,0147, 32.9945, 165.0238, 6220,    535.8,      531,   5.8923,  33.9845,2,    131.4,2,  33.9852,2,   131.16,2,    62.74,3,    30.40,2,     0.00,2,    2.210,3,    2.599,2,    1.259,2,   2234.2,2,   2292.5,2,   7.5188,2,    25.00,    0.135,2,  -999.00,9,  -999.00,9,   5.8462,2,  26.7694,2,   5.8917,2
49UP20180806_1,   P13,    41,  1,     27,     661,2,20180812,2336,0144, 32.9945, 165.0238, 6220,    636.9,      631,   4.9609,  34.0611,2,     91.4,2,  34.0610,2,    91.43,2,    82.86,3,    35.67,2,     0.00,2,    2.570,3,    1.929,2,    0.900,2,   2281.0,6,   2312.1,6,   7.4326,2,    25.00,    0.095,2,  -999.00,9,  -999.00,9,   4.9102,2,  26.9411,2,   4.9620,2
49UP20180806_1,   P13,    41,  1,     26,     835,2,20180812,2336,0141, 32.9945, 165.0238, 6220,    738.5,      732,   4.3899,  34.1541,2,     63.3,2,  34.1542,2,    63.12,2,    99.76,3,    38.87,2,     0.00,2,    2.790,3,    1.255,2,    0.564,2,   2311.0,2,   2329.8,2,   7.3885,2,    25.00,    0.070,2,  -999.00,9,  -999.00,9,   4.3337,2,  27.0783,2,   4.3902,2
49UP20180806_1,   P13,    41,  1,     25,     834,2,20180812,2336,0138, 32.9945, 165.0238, 6220,    839.3,      832,   3.9455,  34.2361,2,     46.9,2,  34.2353,2,    47.37,6,   113.05,3,    40.56,6,     0.00,6,    2.910,3,    0.772,2,    0.344,2,   2337.2,2,   2344.8,2,   7.3649,2,    25.00,    0.043,2,  -999.00,9,  -999.00,9,   3.8837,2,  27.1904,2,   3.9443,2
49UP20180806_1,   P13,    41,  1,     24,     833,4,20180812,2336,0135, 32.9945, 165.0238, 6220,    941.1,      932,   3.5843,  34.3087,2,     42.0,2,-999.0000,9,  -999.00,9,  -999.00,9,  -999.00,9,  -999.00,9, -999.000,9, -999.000,9, -999.000,9,   -999.0,9,   -999.0,9,-999.0000,9,  -999.00, -999.000,9,  -999.00,9,  -999.00,9,   3.5168,2,  27.2846,2,   3.5842,2
49UP20180806_1,   P13,    41,  1,     23,     832,2,20180812,2336,0131, 32.9945, 165.0238, 6220,   1082.8,     1072,   3.1845,  34.3718,2,     36.1,2,  34.3710,2,    36.39,2,   136.46,3,    42.28,2,     0.00,2,    3.040,3,    0.244,2,    0.105,2,   2367.2,2,   2373.7,2,   7.3543,2,    25.00,    0.008,2,  -999.00,9,  -999.00,9,   3.1090,2,  27.3736,2,   3.1861,2
49UP20180806_1,   P13,    41,  1,     22,     831,3,20180812,2336,0126, 32.9945, 165.0238, 6220,   1285.9,     1273,   2.7645,  34.4428,2,     33.4,2,  34.4396,4,    35.63,3,   148.50,3,    42.96,2,     0.00,2,    3.060,3,    0.111,2,    0.045,2,   2373.4,2,   2387.5,2,   7.3568,2,    25.00,    0.012,2,  -999.00,9,  -999.00,9,   2.6768,2,  27.4691,2,   2.7649,2
49UP20180806_1,   P13,    41,  1,     21,     830,2,20180812,2336,0121, 32.9945, 165.0238, 6220,   1488.0,     1472,   2.4203,  34.5054,2,     40.2,2,  34.5021,4,    40.90,2,   158.11,3,    42.86,2,     0.00,2,    3.040,3,    0.041,2,    0.020,2,   2381.4,2,   2399.0,2,   7.3700,2,    25.00,    0.003,2,  -999.00,9,  -999.00,9,   2.3203,2,  27.5495,2,   2.4204,2
49UP20180806_1,   P13,    41,  1,     20,     829,2,20180812,2336,0116, 32.9945, 165.0238, 6220,   1692.3,     1674,   2.1815,  34.5483,2,     51.6,2,  34.5486,2,    51.10,2,   164.14,3,    42.34,2,     0.00,2,    2.990,3,    0.014,2,   -0.000,2,   2387.4,2,   2408.3,2,   7.3949,2,    25.00,    0.004,2,  -999.00,9,  -999.00,9,   2.0680,2,  27.6044,2,   2.1816,2
49UP20180806_1,   P13,    41,  1,     19,     828,2,20180812,2336,0111, 32.9945, 165.0238, 6220,   1894.3,     1872,   1.9955,  34.5829,2,     67.2,2,  34.5830,2,    67.05,2,   165.85,3,    41.34,2,     0.00,2,    2.920,3,    0.004,2,    0.001,2,   2378.8,2,   2413.7,2,   7.4265,2,    25.00,    0.000,2,  -999.00,9,  -999.00,9,   1.8681,2,  27.6478,2,   1.9955,2
49UP20180806_1,   P13,    41,  1,     18,     827,2,20180812,2336,0106, 32.9945, 165.0238, 6220,   2098.7,     2074,   1.8519,  34.6082,2,     81.3,2,  34.6090,2,    81.50,2,   166.37,3,    40.50,2,     0.00,2,    2.850,3,    0.000,2,    0.000,2,   2375.7,2,   2417.8,2,   7.4542,2,    25.00,    0.007,2,  -999.00,9,  -999.00,9,   1.7095,2,  27.6802,2,   1.8519,2
49UP20180806_1,   P13,    41,  1,     17,     826,2,20180812,2336,0101, 32.9945, 165.0238, 6220,   2303.2,     2274,   1.7612,  34.6249,2,     93.7,2,  34.6242,2,    94.20,2,   164.45,3,    39.70,2,     0.00,2,    2.790,3,    0.002,2,    0.002,2,   2361.7,2,   2421.0,2,   7.4788,2,    25.00,    0.001,2,  -999.00,9,  -999.00,9,   1.6028,2,  27.7016,2,   1.7615,2
49UP20180806_1,   P13,    41,  1,     16,     825,2,20180812,2336,0056, 32.9945, 165.0238, 6220,   2503.5,     2471,   1.6763,  34.6380,2,    103.9,2,  34.6381,6,   103.88,6,   163.94,3,    39.04,6,     0.00,6,    2.730,3,    0.000,2,    0.000,2,   2359.7,2,   2422.0,2,   7.4976,2,    25.00,    0.000,2,  -999.00,9,  -999.00,9,   1.5018,2,  27.7195,2,   1.6763,2
49UP20180806_1,   P13,    41,  1,     15,     824,2,20180812,2336,0051, 32.9945, 165.0238, 6220,   2708.5,     2672,   1.6134,  34.6489,2,    113.7,2,  34.6470,4,   113.35,2,   161.87,3,    38.43,2,     0.00,2,    2.690,3,    0.000,6,    0.000,6,   2352.7,2,   2421.1,2,   7.5125,2,    25.00,    0.000,6,  -999.00,9,  -999.00,9,   1.4216,2,  27.7341,2,   1.6134,2
49UP20180806_1,   P13,    41,  1,     14,     823,2,20180812,2336,0046, 32.9945, 165.0238, 6220,   2912.3,     2872,   1.5743,  34.6578,2,    123.5,2,  34.6580,2,   123.56,2,   158.80,3,    37.78,2,     0.00,2,    2.630,3,   -0.000,2,    0.000,2,   2346.6,2,   2421.0,2,   7.5356,2,    25.00,    0.002,2,  -999.00,9,  -999.00,9,   1.3643,2,  27.7453,2,   1.5742,2
49UP20180806_1,   P13,    41,  1,     13,     822,2,20180812,2336,0041, 32.9945, 165.0238, 6220,   3126.7,     3082,   1.5418,  34.6644,2,    130.3,2,  34.6646,2,   130.24,2,   157.02,3,    37.37,2,     0.00,2,    2.600,3, -999.000,9, -999.000,9,   2345.7,6,   2421.2,6,   7.5471,2,    25.00, -999.000,9,  -999.00,9,  -999.00,9,   1.3119,2,  27.7543,2,   1.5416,2
49UP20180806_1,   P13,    41,  1,     12,     821,2,20180812,2336,0036, 32.9945, 165.0238, 6220,   3382.9,     3332,   1.5181,  34.6706,2,    137.2,2,  34.6704,2,   137.37,2,   154.43,3,    36.89,2,     0.00,2,    2.560,3, -999.000,9, -999.000,9,   2342.8,2,   2422.1,2,   7.5593,6,    25.00, -999.000,9,  -999.00,9,  -999.00,9,   1.2635,2,  27.7627,2,   1.5183,2
49UP20180806_1,   P13,    41,  1,     11,     820,2,20180812,2336,0030, 32.9945, 165.0238, 6220,   3637.5,     3581,   1.4965,  34.6756,2,    142.5,2,  34.6751,2,   142.15,2,   153.32,3,    36.47,2,     0.00,2,    2.540,3, -999.000,9, -999.000,9,   2330.8,2,   2420.3,2,   7.5670,2,    25.00, -999.000,9,  -999.00,9,  -999.00,9,   1.2163,2,  27.7700,2,   1.4967,2
49UP20180806_1,   P13,    41,  1,     10,     819,2,20180812,2336,0024, 32.9945, 165.0238, 6220,   3896.0,     3833,   1.4841,  34.6796,2,    147.5,2,  34.6785,2,   148.06,2,   151.49,3,    36.21,2,     0.00,2,    2.510,3,    0.003,2,    0.003,2,   2324.6,2,   2420.4,2,   7.5739,2,    25.00,   -0.000,2,  -999.00,9,  -999.00,9,   1.1769,2,  27.7759,2,   1.4841,2
49UP20180806_1,   P13,    41,  1,      9,     818,2,20180812,2336,0019, 32.9945, 165.0238, 6220,   4150.7,     4082,   1.4776,  34.6828,2,    151.8,2,  34.6806,4,   150.59,3,   150.60,3,    35.92,2,     0.00,2,    2.490,3, -999.000,9, -999.000,9,   2324.5,2,   2418.3,2,   7.5792,2,    25.00, -999.000,9,  -999.00,9,  -999.00,9,   1.1428,2,  27.7808,2,   1.4775,2
49UP20180806_1,   P13,    41,  1,      8,     817,3,20180812,2336,0013, 32.9945, 165.0238, 6220,   4405.2,     4329,   1.4788,  34.6854,2,    155.5,2,  34.6830,4,   159.07,3,   148.41,3,    35.55,2,     0.00,2,    2.460,3, -999.000,9, -999.000,9,   2319.3,2,   2418.6,2,   7.5858,2,    25.00, -999.000,9,  -999.00,9,  -999.00,9,   1.1154,2,  27.7848,2,   1.4787,2
49UP20180806_1,   P13,    41,  1,      7,     816,2,20180812,2336,0008, 32.9945, 165.0238, 6220,   4664.2,     4581,   1.4860,  34.6878,2,    158.8,2,  34.6850,4,   157.31,3,   147.60,3,    35.51,6,     0.00,6,    2.460,3, -999.000,9, -999.000,9,   2326.4,2,   2416.9,2,   7.5895,2,    25.00, -999.000,9,  -999.00,9,  -999.00,9,   1.0924,2,  27.7883,2,   1.4861,2
49UP20180806_1,   P13,    41,  1,      6,     815,2,20180812,2336,0002, 32.9945, 165.0238, 6220,   4920.9,     4831,   1.4970,  34.6896,2,    162.0,2,  34.6890,2,   161.96,2,   144.60,3,    35.11,2,     0.00,2,    2.430,3,    0.004,2,    0.000,2,   2318.9,2,   2414.8,2,   7.5965,2,    25.00,    0.000,2,  -999.00,9,  -999.00,9,   1.0725,2,  27.7910,2,   1.4971,2
49UP20180806_1,   P13,    41,  1,      5,     814,2,20180812,2336,2357, 32.9945, 165.0238, 6220,   5174.7,     5077,   1.5068,  34.6915,2,    165.5,2,  34.6907,2,   165.86,2,   142.15,3,    34.88,2,     0.00,2,    2.410,3, -999.000,9, -999.000,9,   2312.3,2,   2411.9,2,   7.5996,2,    25.00, -999.000,9,  -999.00,9,  -999.00,9,   1.0508,2,  27.7940,2,   1.5067,2
49UP20180806_1,   P13,    41,  1,      4,     813,2,20180812,2336,2351, 32.9945, 165.0238, 6220,   5433.7,     5328,   1.5188,  34.6934,2,    169.0,2,  34.6933,2,   169.25,2,   139.46,3,    34.69,2,     0.00,2,    2.390,3, -999.000,9, -999.000,9,   2311.2,2,   2410.1,2,   7.6034,2,    25.00, -999.000,9,  -999.00,9,  -999.00,9,   1.0299,2,  27.7970,2,   1.5189,2
49UP20180806_1,   P13,    41,  1,      3,     812,2,20180812,2336,2346, 32.9945, 165.0238, 6220,   5695.2,     5581,   1.5352,  34.6947,2,    171.5,2,  34.6938,2,   171.41,2,   138.13,3,    34.56,2,     0.00,2,    2.380,3, -999.000,9, -999.000,9,   2301.8,6,   2407.4,6,   7.6051,2,    25.00, -999.000,9,  -999.00,9,  -999.00,9,   1.0122,2,  27.7992,2,   1.5352,2
49UP20180806_1,   P13,    41,  1,      2,     811,2,20180812,2336,2340, 32.9945, 165.0238, 6220,   5951.9,     5829,   1.5581,  34.6956,2,    173.3,2,  34.6953,2,   173.38,2,   136.62,3,    34.32,2,     0.00,2,    2.370,3, -999.000,9, -999.000,9,   2298.7,2,   2405.1,2,   7.6076,6,    25.00, -999.000,9,  -999.00,9,  -999.00,9,   1.0003,2,  27.8007,2,   1.5581,2
49UP20180806_1,   P13,    41,  1,      1,     810,2,20180812,2336,2336, 32.9945, 165.0238, 6220,   6128.7,     6000,   1.5765,  34.6960,2,    174.1,2,  34.6951,2,   173.89,2,   135.97,3,    34.30,2,     0.00,2,    2.360,3,    0.004,2,    0.002,2,   2300.9,2,   2403.5,2,   7.6087,2,    25.00,    0.000,2,  -999.00,9,  -999.00,9,   0.9944,2,  27.8015,2,   1.5765,2