BOTTLE,20191018JMAGEMD
EXPOCODE,SECT_ID,STNNBR,CASTNO,SAMPNO,BTLNBR,BTLNBR_FLAG_U,DATE,TIME,BTL_TIME,LATITUDE,LONGITUDE,DEPTH,CTDPRS,CTDDEP,CTDTMP,CTDSAL,CTDSAL_FLAG_W,CTDOXY,CTDOXY_FLAG_W,SALNTY,SALNTY_FLAG_W,OXYGEN,OXYGEN_FLAG_W,SILCAT,SILCAT_FLAG_W,NO2+NO3,NO2+NO3_FLAG_W,NITRIT,NITRIT_FLAG_W,PHSPHT,PHSPHT_FLAG_W,CFC-11,CFC-11_FLAG_W,CFC-12,CFC-12_FLAG_W,TCARBN,TCARBN_FLAG_W,ALKALI,ALKALI_FLAG_W,PH_TS,PH_TS_FLAG_W,PH_TS_TMP,CFC113,CFC113_FLAG_W,CHLORA,CHLORA_FLAG_W,PPHYTN,PPHYTN_FLAG_W,THETA,THETA_FLAG_W,SIGTHT,SIGTHT_FLAG_W,SBE35,SBE35_FLAG_W
,,,,,,,,UTC,,,,METER,DBAR,METERS,ITS-90,PSS-78,,UMOL/KG,,PSS78,,UMOL/KG,,UMOL/KG,,UMOL/KG,,UMOL/KG,,UMOL/KG,,PMOL/KG,,PMOL/KG,,UMOL/KG,,UMOL/KG,,,,ITS-90,PMOL/KG,,UG/KG,,UG/KG,,ITS-90,,KG/M3,,ITS-90,
49UP20180806_2,   P13,    82,  1,      0,      -9,0,20180906,1520,1645,  4.0133, 165.0147, 4490,      0.0,        0,  29.6554,  33.8173,2,    196.5,2,  33.8332,2,   195.30,2,     1.71,3,     0.01,2,     0.00,2,    0.070,3, -999.000,9, -999.000,9,   1902.2,2,   2225.1,2,   8.1144,2,    25.00, -999.000,9,     0.11,2,     0.06,2,  29.6547,2,  20.9569,2,-999.0000,9
49UP20180806_2,   P13,    82,  1,     36,     845,2,20180906,1520,1721,  4.0133, 165.0147, 4490,     11.0,       11,  29.6613,  33.8167,2,    196.5,2,  33.8183,2,   195.71,6,     1.63,3,     0.00,6,     0.00,6,    0.040,3,    1.458,2,    0.840,2,   1898.8,2,   2224.7,2,   8.1166,2,    25.00,    0.129,2,     0.10,2,     0.04,2,  29.6586,2,  20.9550,2,  29.6623,2
49UP20180806_2,   P13,    82,  1,     35,     844,2,20180906,1520,1720,  4.0133, 165.0147, 4490,     26.1,       26,  29.6951,  33.8352,2,    196.5,2,  33.8317,2,   195.48,2,     1.49,3,     0.00,2,     0.00,2,    0.030,3, -999.000,9, -999.000,9,   1905.1,2,   2225.5,2,   8.1200,2,    25.00, -999.000,9,     0.10,2,     0.05,2,  29.6887,2,  20.9588,2,  29.6927,2
49UP20180806_2,   P13,    82,  1,     34,     843,2,20180906,1520,1716,  4.0133, 165.0147, 4490,     51.1,       51,  30.0399,  34.9353,2,    198.4,2,  34.9287,2,   198.18,2,     1.30,3,     0.02,2,     0.00,2,    0.160,3,    1.481,2,    0.842,2,   1969.7,2,   2296.5,2,   8.0995,2,    25.00,    0.121,2,     0.16,2,     0.07,2,  30.0272,2,  21.6684,2,  30.0371,2
49UP20180806_2,   P13,    82,  1,     33,     842,2,20180906,1520,1715,  4.0133, 165.0147, 4490,     76.2,       76,  29.1680,  35.2217,2,    192.2,2,  35.2179,2,   191.57,2,     1.47,3,     0.03,2,     0.00,2,    0.240,3, -999.000,9, -999.000,9,   2003.8,2,   2316.8,2,   8.0704,6,    25.00, -999.000,9,     0.18,2,     0.33,2,  29.1495,2,  22.1805,2,  29.1770,2
49UP20180806_2,   P13,    82,  1,     32,     841,2,20180906,1520,1713,  4.0133, 165.0147, 4490,    101.3,      101,  26.7153,  34.9719,2,    149.2,2,  34.9723,2,   149.39,2,     2.70,3,     5.47,2,     0.13,2,    0.490,3,    1.602,2,    0.919,2,   2031.6,6,   2296.9,6,   7.9977,2,    25.00,    0.094,2,     0.20,2,     0.24,2,  26.6922,2,  22.7945,2,  26.7599,2
49UP20180806_2,   P13,    82,  1,     31,     840,2,20180906,1520,1712,  4.0133, 165.0147, 4490,    125.4,      125,  25.1241,  35.0196,2,    136.5,2,  35.0197,6,   136.43,2,     3.97,3,     7.80,2,     0.03,2,    0.610,3, -999.000,9, -999.000,9,   2050.5,2,   2299.9,2,   7.9591,2,    25.00, -999.000,9,     0.07,2,     0.21,2,  25.0968,2,  23.3266,2,  25.1478,2
49UP20180806_2,   P13,    82,  1,     30,     839,2,20180906,1520,1711,  4.0133, 165.0147, 4490,    151.0,      150,  23.3298,  35.0771,2,    136.1,2,  35.0764,2,   138.16,2,     5.19,3,     8.60,2,     0.02,2,    0.670,3,    1.811,2,    1.028,2,   2075.7,2,   2306.7,2,   7.9275,2,    25.00,    0.032,2,     0.02,2,     0.04,2,  23.2986,2,  23.9056,2,  23.3434,2
49UP20180806_2,   P13,    82,  1,     29,     838,2,20180906,1520,1709,  4.0133, 165.0147, 4490,    206.2,      205,  13.0062,  34.5413,2,    112.0,2,  34.5426,2,   111.79,2,    21.59,3,    20.90,2,     0.00,2,    1.490,3,    1.918,2,    0.979,2,   2167.3,2,   2289.1,2,   7.6898,2,    25.00,    0.009,2,     0.00,2,     0.04,2,  12.9779,2,  26.0419,2,  13.0108,2
49UP20180806_2,   P13,    82,  1,     28,     837,2,20180906,1520,1707,  4.0133, 165.0147, 4490,    252.1,      251,  10.6174,  34.5598,2,     73.2,2,  34.5471,2,    78.68,2,    30.76,3,    28.38,2,     0.00,2,    2.000,3,    1.324,2,    0.648,2,   2216.1,2,   2296.4,2,   7.5715,2,    25.00,    0.009,2,  -999.00,9,  -999.00,9,  10.5871,2,  26.5064,2,  10.6155,2
49UP20180806_2,   P13,    82,  1,     27,     661,2,20180906,1520,1705,  4.0133, 165.0147, 4490,    302.3,      300,   9.4898,  34.5859,2,     72.2,2,  34.5849,2,    72.82,6,    34.43,3,    31.14,6,     0.00,6,    2.180,3,    0.944,2,    0.448,2,   2234.3,2,   2303.3,2,   7.5398,2,    25.00,    0.003,2,  -999.00,9,  -999.00,9,   9.4559,2,  26.7198,2,   9.4895,2
49UP20180806_2,   P13,    82,  1,     26,     835,2,20180906,1520,1703,  4.0133, 165.0147, 4490,    353.6,      351,   8.9260,  34.5996,2,     83.2,2,  34.5987,2,    83.08,2,    35.68,3,    31.51,2,     0.00,2,    2.220,3, -999.000,9, -999.000,9,   2232.7,2,   2307.1,2,   7.5502,2,    25.00, -999.000,9,  -999.00,9,  -999.00,9,   8.8876,2,  26.8225,2,   8.9258,2
49UP20180806_2,   P13,    82,  1,     25,     834,2,20180906,1520,1702,  4.0133, 165.0147, 4490,    402.6,      400,   8.5968,  34.6057,2,     76.3,2,  34.6053,2,    76.69,2,    36.52,3,    32.91,2,     0.00,2,    2.310,3,    0.636,2,    0.305,2,   2237.8,2,   2308.3,2,   7.5343,2,    25.00,    0.003,2,  -999.00,9,  -999.00,9,   8.5540,2,  26.8797,2,   8.5966,2
49UP20180806_2,   P13,    82,  1,     23,     832,2,20180906,1520,1700,  4.0133, 165.0147, 4490,    456.6,      454,   8.1528,  34.5905,2,     75.7,2,  34.5912,2,    75.05,2,    38.86,3,    33.87,2,     0.00,2,    2.380,3, -999.000,9, -999.000,9,   2249.2,2,   2311.2,2,   7.5209,2,    25.00, -999.000,9,  -999.00,9,  -999.00,9,   8.1056,2,  26.9364,2,   8.1525,2
49UP20180806_2,   P13,    82,  1,     22,     831,2,20180906,1520,1658,  4.0133, 165.0147, 4490,    507.3,      504,   7.8734,  34.5835,2,     75.3,2,  34.5835,2,    75.13,2,    40.42,3,    34.56,2,     0.00,2,    2.410,3,    0.434,2,    0.200,2,   2247.0,2,   2312.7,2,   7.5175,2,    25.00,    0.007,2,  -999.00,9,  -999.00,9,   7.8218,2,  26.9732,2,   7.8745,2
49UP20180806_2,   P13,    82,  1,     21,     830,2,20180906,1520,1655,  4.0133, 165.0147, 4490,    604.3,      600,   7.1027,  34.5631,2,     58.6,2,  34.5629,2,    58.44,2,    49.56,3,    37.69,2,     0.00,2,    2.660,3,    0.182,2,    0.083,2,   2272.0,2,   2318.3,2,   7.4719,2,    25.00,    0.001,2,  -999.00,9,  -999.00,9,   7.0444,2,  27.0684,2,   7.1034,2
49UP20180806_2,   P13,    82,  1,     20,     829,2,20180906,1520,1652,  4.0133, 165.0147, 4490,    705.0,      700,   6.2902,  34.5428,2,     75.8,2,  34.5430,2,    76.59,2,    56.47,3,    37.53,2,     0.00,2,    2.640,3,    0.160,2,    0.074,2,   2271.4,2,   2325.3,2,   7.4941,2,    25.00,   -0.000,2,  -999.00,9,  -999.00,9,   6.2260,2,  27.1623,2,   6.2906,2
49UP20180806_2,   P13,    82,  1,     19,     828,2,20180906,1520,1650,  4.0133, 165.0147, 4490,    806.0,      800,   5.4389,  34.5373,2,     90.8,2,  34.5371,2,    90.71,2,    66.94,3,    37.57,2,     0.00,2,    2.640,3,    0.122,2,    0.052,2,   2288.0,2,   2338.0,2,   7.5070,2,    25.00,    0.008,2,  -999.00,9,  -999.00,9,   5.3702,2,  27.2648,2,   5.4385,2
49UP20180806_2,   P13,    82,  1,     18,     660,2,20180906,1520,1647,  4.0133, 165.0147, 4490,    909.2,      902,   4.8947,  34.5452,2,     88.7,2,  34.5457,2,    88.61,2,    77.87,3,    38.39,2,     0.00,2,    2.710,3,    0.064,2,    0.025,2,   2292.9,2,   2348.7,2,   7.5002,2,    25.00,    0.002,2,  -999.00,9,  -999.00,9,   4.8202,2,  27.3353,2,   4.8949,2
49UP20180806_2,   P13,    82,  1,     17,     826,2,20180906,1520,1644,  4.0133, 165.0147, 4490,   1012.0,     1004,   4.5156,  34.5535,2,     86.6,2,  34.5544,2,    86.85,6,    87.00,3,    38.75,6,     0.00,6,    2.740,3,    0.045,2,    0.017,2,   2309.8,2,   2359.7,2,   7.4957,6,    25.00,    0.004,2,  -999.00,9,  -999.00,9,   4.4349,2,  27.3847,2,   4.5156,2
49UP20180806_2,   P13,    82,  1,     16,     825,2,20180906,1520,1639,  4.0133, 165.0147, 4490,   1211.7,     1202,   3.7687,  34.5737,2,     94.4,2,  34.5739,2,    94.60,2,   102.48,3,    38.90,2,     0.00,2,    2.740,3,    0.024,2,    0.006,2,   2316.0,6,   2374.9,6,   7.5033,2,    25.00,    0.000,2,  -999.00,9,  -999.00,9,   3.6771,2,  27.4799,2,   3.7685,2
49UP20180806_2,   P13,    82,  1,     15,     824,2,20180906,1520,1635,  4.0133, 165.0147, 4490,   1415.5,     1403,   3.2148,  34.5931,2,     96.3,2,  34.5938,2,    96.76,2,   114.67,3,    39.17,2,     0.00,2,    2.770,3,    0.001,2,    0.004,2,   2332.3,2,   2389.9,2,   7.5036,2,    25.00,    0.000,2,  -999.00,9,  -999.00,9,   3.1116,2,  27.5500,2,   3.2148,2
49UP20180806_2,   P13,    82,  1,     14,     823,2,20180906,1520,1630,  4.0133, 165.0147, 4490,   1616.4,     1601,   2.9204,  34.6046,2,     99.5,2,  34.6051,2,    99.98,2,   122.31,3,    39.09,2,     0.00,2,    2.750,3,    0.002,2,    0.001,2,   2331.4,2,   2396.9,2,   7.5089,2,    25.00,    0.001,2,  -999.00,9,  -999.00,9,   2.8036,2,  27.5872,2,   2.9201,2
49UP20180806_2,   P13,    82,  1,     13,     822,2,20180906,1520,1624,  4.0133, 165.0147, 4490,   1821.4,     1803,   2.5969,  34.6181,2,    103.8,2,  34.6187,2,   104.30,2,   130.40,3,    39.04,2,     0.00,2,    2.730,3,    0.001,2,    0.000,2,   2337.6,2,   2405.8,2,   7.5149,2,    25.00,    0.004,2,  -999.00,9,  -999.00,9,   2.4669,2,  27.6274,2,   2.5977,2
49UP20180806_2,   P13,    82,  1,     12,     821,2,20180906,1520,1620,  4.0133, 165.0147, 4490,   2023.0,     2002,   2.2696,  34.6344,2,    111.5,2,  34.6353,2,   111.55,2,   137.42,3,    38.62,2,     0.00,2,    2.690,3,    0.000,2,    0.000,2,   2352.9,2,   2413.2,2,   7.5263,2,    25.00,    0.000,2,  -999.00,9,  -999.00,9,   2.1271,2,  27.6686,2,   2.2696,2
49UP20180806_2,   P13,    82,  1,     11,     820,2,20180906,1520,1615,  4.0133, 165.0147, 4490,   2226.1,     2202,   2.0601,  34.6463,2,    115.4,2,  34.6470,2,   115.53,2,   142.82,3,    38.37,2,     0.00,2,    2.670,3,    0.000,2,    0.000,2,   2347.0,2,   2419.2,2,   7.5380,2,    25.00,    0.000,2,  -999.00,9,  -999.00,9,   1.9033,2,  27.6959,2,   2.0602,2
49UP20180806_2,   P13,    82,  1,     10,     819,2,20180906,1520,1608,  4.0133, 165.0147, 4490,   2428.8,     2401,   1.9089,  34.6551,2,    120.5,2,  34.6558,2,   120.51,2,   146.02,3,    38.20,2,     0.00,2,    2.640,3,    0.000,2,    0.000,2,   2346.2,2,   2423.0,2,   7.5413,2,    25.00,    0.002,2,  -999.00,9,  -999.00,9,   1.7368,2,  27.7158,2,   1.9089,2
49UP20180806_2,   P13,    82,  1,      9,     818,2,20180906,1520,1603,  4.0133, 165.0147, 4490,   2633.0,     2602,   1.8099,  34.6607,2,    125.7,2,  34.6614,2,   125.42,2,   147.01,3,    37.81,2,     0.00,2,    2.610,3,    0.001,2,    0.000,2,   2347.3,2,   2423.8,2,   7.5507,2,    25.00,    0.000,2,  -999.00,9,  -999.00,9,   1.6210,2,  27.7290,2,   1.8098,2
49UP20180806_2,   P13,    82,  1,      8,     817,2,20180906,1520,1558,  4.0133, 165.0147, 4490,   2836.5,     2802,   1.7369,  34.6655,2,    129.9,2,  34.6661,2,   129.62,6,   147.97,3,    37.53,6,     0.00,6,    2.590,3,    0.000,2,    0.000,2,   2346.1,2,   2425.5,2,   7.5553,2,    25.00,    0.000,2,  -999.00,9,  -999.00,9,   1.5306,2,  27.7395,2,   1.7368,2
49UP20180806_2,   P13,    82,  1,      7,     816,2,20180906,1520,1554,  4.0133, 165.0147, 4490,   3041.1,     3003,   1.6709,  34.6692,2,    135.4,2,  34.6692,2,   134.78,2,   146.87,3,    37.17,2,     0.00,2,    2.550,3, -999.000,9, -999.000,9,   2340.7,2,   2423.4,2,   7.5638,2,    25.00, -999.000,9,  -999.00,9,  -999.00,9,   1.4464,2,  27.7486,2,   1.6708,2
49UP20180806_2,   P13,    82,  1,      6,     815,2,20180906,1520,1548,  4.0133, 165.0147, 4490,   3297.1,     3253,   1.5762,  34.6758,2,    142.8,2,  34.6751,6,   142.70,2,   146.85,3,    36.66,2,     0.00,2,    2.510,3, -999.000,9, -999.000,9,   2336.1,2,   2420.8,2,   7.5733,2,    25.00, -999.000,9,  -999.00,9,  -999.00,9,   1.3287,2,  27.7623,2,   1.5761,2
49UP20180806_2,   P13,    82,  1,      5,     814,2,20180906,1520,1542,  4.0133, 165.0147, 4490,   3549.1,     3500,   1.5211,  34.6806,2,    149.6,2,  34.6797,6,   149.02,2,   144.32,3,    36.23,2,     0.00,2,    2.480,3,   -0.000,2,   -0.000,2,   2323.0,3,   2420.4,2,   7.5831,6,    25.00,    0.000,2,  -999.00,9,  -999.00,9,   1.2494,2,  27.7717,2,   1.5210,2
49UP20180806_2,   P13,    82,  1,      4,     813,2,20180906,1520,1537,  4.0133, 165.0147, 4490,   3804.6,     3750,   1.4950,  34.6841,2,    154.0,2,  34.6841,2,   154.04,2,   143.23,3,    35.88,2,     0.00,2,    2.450,3,    0.003,2,   -0.000,2,   2324.5,6,   2417.8,6,   7.5871,2,    25.00,    0.000,2,  -999.00,9,  -999.00,9,   1.1972,2,  27.7781,2,   1.4949,2
49UP20180806_2,   P13,    82,  1,      3,     812,2,20180906,1520,1531,  4.0133, 165.0147, 4490,   4060.4,     4000,   1.4869,  34.6865,2,    158.4,2,  34.6869,6,   158.31,2,   141.10,3,    35.64,2,     0.00,2,    2.430,3,   -0.000,2,    0.000,2,   2321.9,2,   2417.2,2,   7.5931,2,    25.00,    0.000,2,  -999.00,9,  -999.00,9,   1.1617,2,  27.7825,2,   1.4868,2
49UP20180806_2,   P13,    82,  1,      2,     811,2,20180906,1520,1526,  4.0133, 165.0147, 4490,   4316.6,     4250,   1.4724,  34.6897,2,    163.6,2,  34.6899,6,   163.58,2,   139.47,3,    35.32,2,     0.00,2,    2.400,3,    0.000,2,    0.000,2,   2317.3,2,   2414.9,2,   7.6022,2,    25.00,    0.002,2,  -999.00,9,  -999.00,9,   1.1192,2,  27.7880,2,   1.4724,2
49UP20180806_2,   P13,    82,  1,      1,     810,2,20180906,1520,1521,  4.0133, 165.0147, 4490,   4550.7,     4478,   1.4028,  34.6963,2,    174.8,2,  34.6967,2,   174.87,2,   134.93,3,    34.47,2,     0.00,2,    2.350,3,    0.004,2,   -0.000,2,   2307.6,2,   2406.8,2,   7.6141,2,    25.00,    0.001,2,  -999.00,9,  -999.00,9,   1.0250,2,  27.7996,2,   1.4027,2