BOTTLE,20191018JMAGEMD
EXPOCODE,SECT_ID,STNNBR,CASTNO,SAMPNO,BTLNBR,BTLNBR_FLAG_U,DATE,TIME,BTL_TIME,LATITUDE,LONGITUDE,DEPTH,CTDPRS,CTDDEP,CTDTMP,CTDSAL,CTDSAL_FLAG_W,CTDOXY,CTDOXY_FLAG_W,SALNTY,SALNTY_FLAG_W,OXYGEN,OXYGEN_FLAG_W,SILCAT,SILCAT_FLAG_W,NO2+NO3,NO2+NO3_FLAG_W,NITRIT,NITRIT_FLAG_W,PHSPHT,PHSPHT_FLAG_W,CFC-11,CFC-11_FLAG_W,CFC-12,CFC-12_FLAG_W,TCARBN,TCARBN_FLAG_W,ALKALI,ALKALI_FLAG_W,PH_TS,PH_TS_FLAG_W,PH_TS_TMP,CFC113,CFC113_FLAG_W,CHLORA,CHLORA_FLAG_W,PPHYTN,PPHYTN_FLAG_W,THETA,THETA_FLAG_W,SIGTHT,SIGTHT_FLAG_W,SBE35,SBE35_FLAG_W
,,,,,,,,UTC,,,,METER,DBAR,METERS,ITS-90,PSS-78,,UMOL/KG,,PSS78,,UMOL/KG,,UMOL/KG,,UMOL/KG,,UMOL/KG,,UMOL/KG,,PMOL/KG,,PMOL/KG,,UMOL/KG,,UMOL/KG,,,,ITS-90,PMOL/KG,,UG/KG,,UG/KG,,ITS-90,,KG/M3,,ITS-90,
49UP20180806_1,   P13,    44,  1,      0,      -9,0,20180814,1022,1230, 29.9937, 164.9727, 5831,      0.0,        0,  27.3739,  34.9796,2,    203.8,2,  34.9778,2,   203.58,2,     1.89,3,     0.07,2,     0.00,2,    0.040,3, -999.000,9, -999.000,9,   2004.8,2,   2298.8,2,   8.0447,2,    25.00, -999.000,9,     0.04,2,     0.02,2,  27.3734,2,  22.5826,2,-999.0000,9
49UP20180806_1,   P13,    44,  1,     36,     845,2,20180814,1022,1258, 29.9937, 164.9727, 5831,     11.0,       11,  27.3582,  34.9799,2,    203.6,2,  34.9792,2,   204.19,2,     1.95,3,     0.06,2,     0.00,2,    0.010,3,    1.668,6,    0.948,6,   2003.1,6,   2300.6,6,   8.0456,2,    25.00,    0.138,6,     0.04,2,     0.02,2,  27.3556,2,  22.5886,2,  27.3648,2
49UP20180806_1,   P13,    44,  1,     35,     844,2,20180814,1022,1253, 29.9937, 164.9727, 5831,     50.4,       50,  21.2179,  34.8949,2,    251.2,2,  34.9000,2,   249.21,2,     2.08,3,     0.00,2,     0.00,2,    0.000,3,    2.289,2,    1.266,2,   2001.9,2,   2296.0,2,   8.0364,6,    25.00,    0.184,2,     0.07,2,     0.03,2,  21.2082,2,  24.3571,2,  21.2441,2
49UP20180806_1,   P13,    44,  1,     34,     843,2,20180814,1022,1251, 29.9937, 164.9727, 5831,    100.1,       99,  18.0735,  34.8168,2,    242.6,2,  34.8157,2,   242.13,2,     2.21,3,     0.00,2,     0.00,2,    0.040,3,    2.379,2,    1.299,2,   2021.1,2,   2290.9,2,   8.0097,2,    25.00,    0.171,2,     0.13,2,     0.12,2,  18.0563,2,  25.1178,2,  18.0718,2
49UP20180806_1,   P13,    44,  1,     33,     842,2,20180814,1022,1249, 29.9937, 164.9727, 5831,    152.5,      151,  17.1691,  34.7773,2,    217.4,2,  34.7775,2,   216.89,2,     3.81,3,     3.65,2,     0.02,2,    0.240,3,    2.399,2,    1.325,2,   2041.9,2,   2287.9,2,   7.9576,2,    25.00,    0.137,2,     0.06,2,     0.11,2,  17.1438,2,  25.3090,2,  17.1758,2
49UP20180806_1,   P13,    44,  1,     32,     841,2,20180814,1022,1247, 29.9937, 164.9727, 5831,    203.1,      202,  16.7901,  34.7637,2,    217.3,2,  34.7625,6,   216.68,2,     4.66,3,     4.50,2,     0.01,2,    0.290,3,    2.427,2,    1.336,2,   2043.5,2,   2287.5,2,   7.9501,2,    25.00,    0.109,2,     0.00,2,     0.01,2,  16.7569,2,  25.3903,2,  16.7906,2
49UP20180806_1,   P13,    44,  1,     31,     840,2,20180814,1022,1245, 29.9937, 164.9727, 5831,    253.5,      252,  16.1831,  34.6866,2,    213.2,2,  34.6891,2,   212.90,2,     5.54,3,     5.58,2,     0.01,2,    0.360,3,    2.495,2,    1.373,2,   2052.6,2,   2283.2,2,   7.9292,2,    25.00,    0.072,2,  -999.00,9,  -999.00,9,  16.1427,2,  25.4738,2,  16.1842,2
49UP20180806_1,   P13,    44,  1,     30,     839,2,20180814,1022,1243, 29.9937, 164.9727, 5831,    283.8,      282,  15.7008,  34.6434,2,    210.7,2,  34.6442,2,   210.72,2,     6.83,3,     6.51,2,     0.00,2,    0.430,3,    2.548,2,    1.395,2,   2061.3,2,   2281.6,2,   7.9126,2,    25.00,    0.080,2,  -999.00,9,  -999.00,9,  15.6565,2,  25.5511,2,  15.7041,2
49UP20180806_1,   P13,    44,  1,     29,     838,2,20180814,1022,1241, 29.9937, 164.9727, 5831,    372.5,      370,  14.0433,  34.4953,2,    219.4,2,  34.4947,2,   219.54,2,    10.03,3,     8.19,2,     0.00,2,    0.560,3,    2.729,2,    1.499,2,   2070.1,2,   2278.1,2,   7.8833,2,    25.00,    0.127,2,  -999.00,9,  -999.00,9,  13.9893,2,  25.7993,2,  14.0395,2
49UP20180806_1,   P13,    44,  1,     28,     837,2,20180814,1022,1237, 29.9937, 164.9727, 5831,    475.7,      472,  11.7971,  34.3184,2,    208.0,2,  34.3188,2,   208.14,6,    17.15,3,    12.97,6,     0.00,6,    0.890,3,    2.946,2,    1.591,2,   2108.2,2,   2274.4,2,   7.8062,2,    25.00,    0.120,2,  -999.00,9,  -999.00,9,  11.7354,2,  26.1096,2,  11.7918,2
49UP20180806_1,   P13,    44,  1,     27,     661,3,20180814,1022,1234, 29.9937, 164.9727, 5831,    577.2,      572,   8.8941,  34.0854,2,    193.8,2,  34.0879,2,   194.32,2,    30.91,3,    19.22,2,     0.00,2,    1.370,3,    3.096,2,    1.625,2,   2148.3,2,   2275.6,2,   7.7048,2,    25.00,    0.152,2,  -999.00,9,  -999.00,9,   8.8312,2,  26.4286,2,   8.8910,2
49UP20180806_1,   P13,    44,  1,     26,     835,3,20180814,1022,1230, 29.9937, 164.9727, 5831,    677.5,      672,   6.5293,  33.9965,2,    144.5,2,  33.9976,2,   144.91,2,    54.92,3,    28.14,2,     0.00,2,    2.030,3,    2.723,2,    1.335,2,   2211.8,2,   2289.0,2,   7.5597,2,    25.00,    0.137,2,  -999.00,9,  -999.00,9,   6.4671,2,  26.6997,2,   6.5290,2
49UP20180806_1,   P13,    44,  1,     25,     834,2,20180814,1022,1227, 29.9937, 164.9727, 5831,    779.2,      772,   5.1936,  34.0482,2,     97.5,2,  34.0485,2,    98.09,2,    78.10,3,    34.88,2,     0.00,2,    2.500,3,    1.977,6,    0.933,6,   2276.3,2,   2308.8,2,   7.4528,2,    25.00,    0.093,6,  -999.00,9,  -999.00,9,   5.1293,2,  26.9058,2,   5.1924,2
49UP20180806_1,   P13,    44,  1,     24,     833,2,20180814,1022,1224, 29.9937, 164.9727, 5831,    880.5,      873,   4.4487,  34.1415,2,     61.8,2,  34.1405,2,    62.13,2,    97.74,3,    39.07,2,     0.00,2,    2.790,3,    1.203,2,    0.542,2,   2311.4,2,   2329.8,2,   7.3853,2,    25.00,    0.059,2,  -999.00,9,  -999.00,9,   4.3803,2,  27.0633,2,   4.4501,2
49UP20180806_1,   P13,    44,  1,     23,     832,2,20180814,1022,1221, 29.9937, 164.9727, 5831,    983.3,      974,   3.9744,  34.2242,2,     43.3,2,  34.2230,2,    43.94,2,   112.28,3,    41.17,2,     0.00,2,    2.930,3,    0.674,2,    0.302,2,   2330.3,2,   2346.3,2,   7.3576,2,    25.00,    0.023,2,  -999.00,9,  -999.00,9,   3.9008,2,  27.1792,2,   3.9744,2
49UP20180806_1,   P13,    44,  1,     22,     831,2,20180814,1022,1216, 29.9937, 164.9727, 5831,   1142.0,     1131,   3.4276,  34.3416,2,     31.5,2,  34.3413,2,    31.99,2,   129.51,3,    42.74,2,     0.00,2,    3.050,3,    0.233,2,    0.098,2,   2360.6,2,   2367.9,2,   7.3476,2,    25.00,    0.004,2,  -999.00,9,  -999.00,9,   3.3454,2,  27.3273,2,   3.4277,2
49UP20180806_1,   P13,    44,  1,     21,     830,2,20180814,1022,1211, 29.9937, 164.9727, 5831,   1344.1,     1331,   2.9198,  34.4335,2,     30.4,2,  34.4324,2,    30.31,2,   144.73,3,    43.49,2,     0.00,2,    3.080,3,    0.072,2,    0.031,2,   2379.4,6,   2387.1,6,   7.3463,2,    25.00,    0.000,2,  -999.00,9,  -999.00,9,   2.8260,2,  27.4485,2,   2.9198,2
49UP20180806_1,   P13,    44,  1,     20,     829,2,20180814,1022,1206, 29.9937, 164.9727, 5831,   1547.4,     1531,   2.5278,  34.4941,2,     36.6,2,  34.4947,2,    36.57,2,   155.70,3,    43.29,2,     0.00,2,    3.050,3,    0.031,2,    0.010,2,   2390.4,2,   2400.2,2,   7.3652,6,    25.00,    0.000,2,  -999.00,9,  -999.00,9,   2.4218,2,  27.5320,2,   2.5277,2
49UP20180806_1,   P13,    44,  1,     19,     828,2,20180814,1022,1201, 29.9937, 164.9727, 5831,   1749.9,     1731,   2.2539,  34.5412,2,     49.0,2,  34.5413,2,    48.84,6,   162.26,3,    42.62,6,     0.00,6,    2.990,3,    0.011,2,    0.007,2,   2382.0,2,   2408.9,2,   7.3900,2,    25.00,    0.000,2,  -999.00,9,  -999.00,9,   2.1348,2,  27.5934,2,   2.2544,2
49UP20180806_1,   P13,    44,  1,     18,     827,4,20180814,1022,1156, 29.9937, 164.9727, 5831,   1952.6,     1930,   2.0371,  34.5808,2,     65.7,2,-999.0000,9,  -999.00,9,  -999.00,9,  -999.00,9,  -999.00,9, -999.000,9, -999.000,9, -999.000,9,   -999.0,9,   -999.0,9,-999.0000,9,  -999.00, -999.000,9,  -999.00,9,  -999.00,9,   1.9042,2,  27.6433,2,   2.0375,2
49UP20180806_1,   P13,    44,  1,     17,     826,2,20180814,1022,1151, 29.9937, 164.9727, 5831,   2154.9,     2129,   1.8647,  34.6087,2,     82.6,2,  34.6093,2,    82.79,2,   164.89,3,    40.47,2,     0.00,2,    2.840,3,    0.004,2,    0.002,2,   2369.4,2,   2419.1,2,   7.4550,2,    25.00,    0.000,2,  -999.00,9,  -999.00,9,   1.7174,2,  27.6800,2,   1.8648,2
49UP20180806_1,   P13,    44,  1,     16,     825,2,20180814,1022,1146, 29.9937, 164.9727, 5831,   2361.4,     2332,   1.7405,  34.6301,2,     99.1,2,  34.6307,2,    99.37,2,   163.27,3,    39.46,2,     0.00,2,    2.760,3,    0.000,2,   -0.000,2,   2358.9,2,   2421.6,2,   7.4887,2,    25.00,    0.000,2,  -999.00,9,  -999.00,9,   1.5774,2,  27.7077,2,   1.7407,2
49UP20180806_1,   P13,    44,  1,     15,     824,2,20180814,1022,1142, 29.9937, 164.9727, 5831,   2563.5,     2531,   1.6583,  34.6442,2,    111.4,2,  34.6439,2,   111.11,2,   159.77,3,    38.50,2,     0.00,2,    2.690,3,    0.000,2,    0.003,2,   2361.8,2,   2421.2,2,   7.5110,2,    25.00,    0.000,2,  -999.00,9,  -999.00,9,   1.4788,2,  27.7261,2,   1.6583,2
49UP20180806_1,   P13,    44,  1,     14,     823,2,20180814,1022,1137, 29.9937, 164.9727, 5831,   2769.5,     2733,   1.6026,  34.6535,2,    119.6,2,  34.6539,2,   119.83,2,   158.76,3,    38.16,2,     0.00,2,    2.640,3,    0.000,2,    0.000,2,   2348.4,2,   2423.2,2,   7.5281,2,    25.00,    0.000,2,  -999.00,9,  -999.00,9,   1.4053,2,  27.7390,2,   1.6026,2
49UP20180806_1,   P13,    44,  1,     13,     822,2,20180814,1022,1132, 29.9937, 164.9727, 5831,   2972.0,     2931,   1.5664,  34.6606,2,    126.7,2,  34.6613,2,   126.60,2,   157.10,3,    37.69,2,     0.00,2,    2.610,3, -999.000,9, -999.000,9,   2344.4,2,   2423.8,2,   7.5390,2,    25.00, -999.000,9,  -999.00,9,  -999.00,9,   1.3509,2,  27.7485,2,   1.5666,2
49UP20180806_1,   P13,    44,  1,     12,     821,2,20180814,1022,1126, 29.9937, 164.9727, 5831,   3218.0,     3172,   1.5231,  34.6684,2,    134.5,2,  34.6682,6,   135.01,2,   155.36,3,    37.12,2,     0.00,2,    2.570,3, -999.000,9, -999.000,9,   2343.1,2,   2421.8,2,   7.5524,2,    25.00, -999.000,9,  -999.00,9,  -999.00,9,   1.2847,2,  27.7594,2,   1.5231,2
49UP20180806_1,   P13,    44,  1,     11,     820,2,20180814,1022,1120, 29.9937, 164.9727, 5831,   3473.9,     3422,   1.4962,  34.6735,2,    140.4,2,  34.6691,4,   139.64,2,   154.12,3,    36.80,2,     0.00,2,    2.540,3, -999.000,9, -999.000,9,   2336.5,2,   2421.9,2,   7.5601,2,    25.00, -999.000,9,  -999.00,9,  -999.00,9,   1.2328,2,  27.7672,2,   1.4962,2
49UP20180806_1,   P13,    44,  1,     10,     819,2,20180814,1022,1114, 29.9937, 164.9727, 5831,   3730.4,     3673,   1.4789,  34.6779,2,    145.1,2,  34.6778,2,   145.31,6,   152.95,3,    36.45,6,     0.00,6,    2.510,3,    0.000,2,    0.000,2,   2332.7,6,   2421.1,6,   7.5722,2,    25.00,    0.002,2,  -999.00,9,  -999.00,9,   1.1894,2,  27.7737,2,   1.4788,2
49UP20180806_1,   P13,    44,  1,      9,     818,2,20180814,1022,1108, 29.9937, 164.9727, 5831,   3985.2,     3921,   1.4699,  34.6816,2,    149.8,2,  34.6816,2,   149.77,2,   151.30,3,    36.19,2,     0.00,2,    2.490,3, -999.000,9, -999.000,9,   2331.0,2,   2421.1,2,   7.5782,6,    25.00, -999.000,9,  -999.00,9,  -999.00,9,   1.1535,2,  27.7791,2,   1.4699,2
49UP20180806_1,   P13,    44,  1,      8,     817,2,20180814,1022,1102, 29.9937, 164.9727, 5831,   4241.2,     4171,   1.4653,  34.6848,2,    154.1,2,  34.6849,2,   154.63,2,   149.65,3,    35.82,2,     0.00,2,    2.470,3, -999.000,9, -999.000,9,   2324.3,2,   2420.8,2,   7.5880,2,    25.00, -999.000,9,  -999.00,9,  -999.00,9,   1.1208,2,  27.7839,2,   1.4652,2
49UP20180806_1,   P13,    44,  1,      7,     816,2,20180814,1022,1056, 29.9937, 164.9727, 5831,   4496.0,     4419,   1.4665,  34.6874,2,    158.1,2,  34.6828,4,   155.92,3,   148.61,3,    35.75,2,     0.00,2,    2.460,3, -999.000,9, -999.000,9,   2322.4,2,   2417.8,2,   7.5861,2,    25.00, -999.000,9,  -999.00,9,  -999.00,9,   1.0930,2,  27.7880,2,   1.4663,2
49UP20180806_1,   P13,    44,  1,      6,     815,2,20180814,1022,1051, 29.9937, 164.9727, 5831,   4753.2,     4669,   1.4672,  34.6903,2,    163.2,2,  34.6904,2,   163.33,2,   144.01,3,    35.06,2,     0.00,2,    2.420,3,    0.002,2,    0.000,2,   2317.1,2,   2414.5,2,   7.5984,2,    25.00,    0.001,2,  -999.00,9,  -999.00,9,   1.0637,2,  27.7922,2,   1.4672,2
49UP20180806_1,   P13,    44,  1,      5,     814,2,20180814,1022,1046, 29.9937, 164.9727, 5831,   5011.2,     4919,   1.4745,  34.6924,2,    167.3,2,  34.6928,2,   167.45,2,   140.54,3,    34.91,2,     0.00,2,    2.390,3, -999.000,9, -999.000,9,   2312.0,2,   2412.1,2,   7.6019,2,    25.00, -999.000,9,  -999.00,9,  -999.00,9,   1.0398,2,  27.7956,2,   1.4746,2
49UP20180806_1,   P13,    44,  1,      4,     813,2,20180814,1022,1040, 29.9937, 164.9727, 5831,   5270.9,     5171,   1.4851,  34.6943,2,    170.6,2,  34.6943,2,   170.66,2,   137.98,3,    34.61,2,     0.00,2,    2.370,3, -999.000,9, -999.000,9,   2310.7,2,   2409.7,2,   7.6044,2,    25.00, -999.000,9,  -999.00,9,  -999.00,9,   1.0180,2,  27.7985,2,   1.4850,2
49UP20180806_1,   P13,    44,  1,      3,     812,2,20180814,1022,1034, 29.9937, 164.9727, 5831,   5526.9,     5419,   1.5058,  34.6952,2,    172.3,2,  34.6934,4,   170.89,3,   137.58,3,    34.63,2,     0.00,2,    2.370,3, -999.000,9, -999.000,9,   2307.8,2,   2408.3,2,   7.6047,2,    25.00, -999.000,9,  -999.00,9,  -999.00,9,   1.0055,2,  27.8001,2,   1.5056,2
49UP20180806_1,   P13,    44,  1,      2,     811,2,20180814,1022,1028, 29.9937, 164.9727, 5831,   5788.9,     5673,   1.5346,  34.6958,2,    173.1,2,  34.6961,6,   173.21,2,   136.80,3,    34.45,2,     0.00,2,    2.360,3, -999.000,9, -999.000,9,   2307.7,2,   2407.9,2,   7.6040,2,    25.00, -999.000,9,  -999.00,9,  -999.00,9,   0.9993,2,  27.8009,2,   1.5346,2
49UP20180806_1,   P13,    44,  1,      1,     810,2,20180814,1022,1022, 29.9937, 164.9727, 5831,   6013.3,     5890,   1.5646,  34.6957,2,    173.3,2,  34.6947,4,   172.26,6,   136.77,3,    34.47,6,     0.00,6,    2.360,3,    0.002,2,    0.000,2,   2308.7,2,   2409.2,2,   7.6081,2,    25.00,    0.000,2,  -999.00,9,  -999.00,9,   0.9984,2,  27.8010,2,   1.5645,2