BOTTLE,20191018JMAGEMD
EXPOCODE,SECT_ID,STNNBR,CASTNO,SAMPNO,BTLNBR,BTLNBR_FLAG_U,DATE,TIME,BTL_TIME,LATITUDE,LONGITUDE,DEPTH,CTDPRS,CTDDEP,CTDTMP,CTDSAL,CTDSAL_FLAG_W,CTDOXY,CTDOXY_FLAG_W,SALNTY,SALNTY_FLAG_W,OXYGEN,OXYGEN_FLAG_W,SILCAT,SILCAT_FLAG_W,NO2+NO3,NO2+NO3_FLAG_W,NITRIT,NITRIT_FLAG_W,PHSPHT,PHSPHT_FLAG_W,CFC-11,CFC-11_FLAG_W,CFC-12,CFC-12_FLAG_W,TCARBN,TCARBN_FLAG_W,ALKALI,ALKALI_FLAG_W,PH_TS,PH_TS_FLAG_W,PH_TS_TMP,CFC113,CFC113_FLAG_W,CHLORA,CHLORA_FLAG_W,PPHYTN,PPHYTN_FLAG_W,THETA,THETA_FLAG_W,SIGTHT,SIGTHT_FLAG_W,SBE35,SBE35_FLAG_W
,,,,,,,,UTC,,,,METER,DBAR,METERS,ITS-90,PSS-78,,UMOL/KG,,PSS78,,UMOL/KG,,UMOL/KG,,UMOL/KG,,UMOL/KG,,UMOL/KG,,PMOL/KG,,PMOL/KG,,UMOL/KG,,UMOL/KG,,,,ITS-90,PMOL/KG,,UG/KG,,UG/KG,,ITS-90,,KG/M3,,ITS-90,
49UP20180614_2,   P13,    32,  1,      0,      -9,0,20180715,2105,2301, 37.5148, 164.9847, 5300,      0.0,        0,  22.6073,  34.1236,2,    224.0,2,-999.0000,9,   225.28,2,     5.01,3,     0.00,2,     0.00,2,    0.080,3, -999.000,9, -999.000,9,   -999.0,9,   -999.0,9,-999.0000,9,  -999.00, -999.000,9,  -999.00,9,  -999.00,9,  22.6067,2,  23.3813,2,-999.0000,9
49UP20180614_2,   P13,    32,  1,     36,     845,2,20180715,2105,2328, 37.5148, 164.9847, 5300,     11.4,       11,  22.0073,  34.1656,2,    226.4,2,  34.1555,4,   227.25,2,     4.90,3,     0.00,2,     0.00,2,    0.060,3, -999.000,9, -999.000,9,   -999.0,9,   -999.0,9,-999.0000,9,  -999.00, -999.000,9,  -999.00,9,  -999.00,9,  22.0050,2,  23.5825,2,  22.0164,2
49UP20180614_2,   P13,    32,  1,     35,     844,2,20180715,2105,2327, 37.5148, 164.9847, 5300,     27.3,       27,  17.6798,  34.3797,2,    249.7,2,  34.3764,2,   249.63,2,     4.15,3,     0.00,2,     0.00,2,    0.070,3, -999.000,9, -999.000,9,   -999.0,9,   -999.0,9,-999.0000,9,  -999.00, -999.000,9,  -999.00,9,  -999.00,9,  17.6752,2,  24.8763,2,  17.6767,2
49UP20180614_2,   P13,    32,  1,     34,     843,2,20180715,2105,2325, 37.5148, 164.9847, 5300,     53.2,       53,  14.6098,  34.3982,2,    265.6,2,  34.3971,2,   265.40,6,     6.94,3,     3.14,6,     0.19,6,    0.290,3, -999.000,9, -999.000,9,   -999.0,9,   -999.0,9,-999.0000,9,  -999.00, -999.000,9,  -999.00,9,  -999.00,9,  14.6020,2,  25.5943,2,  14.6109,2
49UP20180614_2,   P13,    32,  1,     33,     842,2,20180715,2105,2324, 37.5148, 164.9847, 5300,     76.8,       76,  13.2562,  34.3596,2,    252.5,2,  34.3579,2,   252.31,2,    10.60,3,     6.74,2,     0.51,2,    0.500,3, -999.000,9, -999.000,9,   -999.0,9,   -999.0,9,-999.0000,9,  -999.00, -999.000,9,  -999.00,9,  -999.00,9,  13.2457,2,  25.8473,2,  13.2572,2
49UP20180614_2,   P13,    32,  1,     32,     841,2,20180715,2105,2321, 37.5148, 164.9847, 5300,    101.1,      100,  13.0009,  34.4175,2,    224.7,2,  34.4151,2,   225.49,2,    12.17,3,     9.33,2,     0.04,2,    0.640,3, -999.000,9, -999.000,9,   -999.0,9,   -999.0,9,-999.0000,9,  -999.00, -999.000,9,  -999.00,9,  -999.00,9,  12.9871,2,  25.9442,2,  13.0016,2
49UP20180614_2,   P13,    32,  1,     31,     840,2,20180715,2105,2319, 37.5148, 164.9847, 5300,    128.1,      127,  12.3296,  34.3600,2,    227.6,2,  34.3613,2,   226.87,2,    13.79,3,    10.13,2,     0.01,2,    0.710,3, -999.000,9, -999.000,9,   -999.0,9,   -999.0,9,-999.0000,9,  -999.00, -999.000,9,  -999.00,9,  -999.00,9,  12.3127,2,  26.0320,2,  12.3322,2
49UP20180614_2,   P13,    32,  1,     30,     839,2,20180715,2105,2317, 37.5148, 164.9847, 5300,    150.9,      150,  11.8709,  34.3308,2,    224.3,2,  34.3276,2,   225.11,2,    15.36,3,    11.18,2,     0.01,2,    0.780,3, -999.000,9, -999.000,9,   -999.0,9,   -999.0,9,-999.0000,9,  -999.00, -999.000,9,  -999.00,9,  -999.00,9,  11.8516,2,  26.0974,2,  11.8704,2
49UP20180614_2,   P13,    32,  1,     29,     838,2,20180715,2105,2315, 37.5148, 164.9847, 5300,    202.1,      200,  10.9359,  34.2289,2,    234.6,2,  34.2291,6,   234.43,2,    15.79,3,    11.61,2,     0.01,2,    0.800,3, -999.000,9, -999.000,9,   -999.0,9,   -999.0,9,-999.0000,9,  -999.00, -999.000,9,  -999.00,9,  -999.00,9,  10.9112,2,  26.1910,2,  10.9355,2
49UP20180614_2,   P13,    32,  1,     28,     837,2,20180715,2105,2313, 37.5148, 164.9847, 5300,    254.5,      252,   9.9642,  34.1507,2,    219.3,2,  34.1511,2,   219.08,2,    21.18,3,    14.85,2,     0.01,2,    1.040,3, -999.000,9, -999.000,9,   -999.0,9,   -999.0,9,-999.0000,9,  -999.00, -999.000,9,  -999.00,9,  -999.00,9,   9.9349,2,  26.2998,2,   9.9616,2
49UP20180614_2,   P13,    32,  1,     27,     661,2,20180715,2105,2311, 37.5148, 164.9847, 5300,    333.7,      331,   8.0322,  33.9941,2,    197.8,2,  33.9963,2,   198.18,2,    33.13,3,    20.34,2,     0.01,2,    1.430,3, -999.000,9, -999.000,9,   -999.0,9,   -999.0,9,-999.0000,9,  -999.00, -999.000,9,  -999.00,9,  -999.00,9,   7.9985,2,  26.4840,2,   8.0347,2
49UP20180614_2,   P13,    32,  1,     26,     835,2,20180715,2105,2308, 37.5148, 164.9847, 5300,    433.9,      430,   6.1373,  33.9295,2,    152.1,2,  33.9348,4,   151.98,2,    54.45,3,    28.25,2,     0.00,2,    2.010,3, -999.000,9, -999.000,9,   -999.0,9,   -999.0,9,-999.0000,9,  -999.00, -999.000,9,  -999.00,9,  -999.00,9,   6.0996,2,  26.6942,2,   6.1388,2
49UP20180614_2,   P13,    32,  1,     25,     834,2,20180715,2105,2305, 37.5148, 164.9847, 5300,    534.8,      530,   5.0230,  33.9864,2,    107.2,2,  33.9862,2,   106.64,6,    75.74,3,    34.33,6,     0.00,6,    2.430,3, -999.000,9, -999.000,9,   -999.0,9,   -999.0,9,-999.0000,9,  -999.00, -999.000,9,  -999.00,9,  -999.00,9,   4.9807,2,  26.8739,2,   5.0226,2
49UP20180614_2,   P13,    32,  1,     24,     833,2,20180715,2105,2302, 37.5148, 164.9847, 5300,    637.2,      631,   4.3967,  34.0831,2,     71.2,2,  34.0828,2,    71.37,2,    94.85,3,    38.47,2,     0.00,2,    2.720,3, -999.000,9, -999.000,9,   -999.0,9,   -999.0,9,-999.0000,9,  -999.00, -999.000,9,  -999.00,9,  -999.00,9,   4.3487,2,  27.0203,2,   4.3971,2
49UP20180614_2,   P13,    32,  1,     23,     832,2,20180715,2105,2259, 37.5148, 164.9847, 5300,    737.1,      730,   4.0535,  34.1686,2,     52.3,2,  34.1679,2,    52.41,2,   108.38,3,    40.32,2,     0.00,2,    2.860,3, -999.000,9, -999.000,9,   -999.0,9,   -999.0,9,-999.0000,9,  -999.00, -999.000,9,  -999.00,9,  -999.00,9,   3.9993,2,  27.1248,2,   4.0536,2
49UP20180614_2,   P13,    32,  1,     22,     831,2,20180715,2105,2256, 37.5148, 164.9847, 5300,    840.1,      832,   3.6920,  34.2516,2,     40.7,2,  34.2543,2,    40.78,2,   121.61,3,    41.52,2,     0.00,2,    2.960,3, -999.000,9, -999.000,9,   -999.0,9,   -999.0,9,-999.0000,9,  -999.00, -999.000,9,  -999.00,9,  -999.00,9,   3.6319,2,  27.2279,2,   3.6919,2
49UP20180614_2,   P13,    32,  1,     21,     830,2,20180715,2105,2253, 37.5148, 164.9847, 5300,    940.5,      931,   3.4085,  34.3113,2,     36.4,2,  34.3099,2,    36.27,2,   130.44,3,    42.21,2,     0.00,2,    3.010,3, -999.000,9, -999.000,9,   -999.0,9,   -999.0,9,-999.0000,9,  -999.00, -999.000,9,  -999.00,9,  -999.00,9,   3.3424,2,  27.3035,2,   3.4090,2
49UP20180614_2,   P13,    32,  1,     20,     829,2,20180715,2105,2249, 37.5148, 164.9847, 5300,   1081.9,     1071,   3.0636,  34.3724,2,     33.4,2,  34.3735,6,    33.54,2,   140.52,3,    42.72,2,     0.00,2,    3.020,3, -999.000,9, -999.000,9,   -999.0,9,   -999.0,9,-999.0000,9,  -999.00, -999.000,9,  -999.00,9,  -999.00,9,   2.9891,2,  27.3851,2,   3.0636,2
49UP20180614_2,   P13,    32,  1,     19,     828,2,20180715,2105,2244, 37.5148, 164.9847, 5300,   1284.9,     1271,   2.6767,  34.4424,2,     33.3,2,  34.4415,2,    33.47,2,   152.21,3,    43.16,2,     0.00,2,    3.020,3, -999.000,9, -999.000,9,   -999.0,9,   -999.0,9,-999.0000,9,  -999.00, -999.000,9,  -999.00,9,  -999.00,9,   2.5900,2,  27.4763,2,   2.6767,2
49UP20180614_2,   P13,    32,  1,     18,     827,2,20180715,2105,2239, 37.5148, 164.9847, 5300,   1486.6,     1470,   2.4000,  34.4964,2,     39.6,2,  34.4962,2,    38.93,2,   160.08,3,    42.96,2,     0.00,2,    2.990,3, -999.000,9, -999.000,9,   -999.0,9,   -999.0,9,-999.0000,9,  -999.00, -999.000,9,  -999.00,9,  -999.00,9,   2.3004,2,  27.5439,2,   2.4000,2
49UP20180614_2,   P13,    32,  1,     17,     826,2,20180715,2105,2234, 37.5148, 164.9847, 5300,   1690.0,     1671,   2.2096,  34.5369,2,     49.0,2,  34.5359,2,    48.88,2,   163.73,3,    42.31,2,     0.00,2,    2.950,3, -999.000,9, -999.000,9,   -999.0,9,   -999.0,9,-999.0000,9,  -999.00, -999.000,9,  -999.00,9,  -999.00,9,   2.0959,2,  27.5930,2,   2.2099,2
49UP20180614_2,   P13,    32,  1,     16,     825,2,20180715,2105,2229, 37.5148, 164.9847, 5300,   1894.8,     1872,   2.0325,  34.5719,2,     61.4,2,  34.5718,2,    61.42,6,   166.85,3,    41.80,6,     0.00,6,    2.910,3, -999.000,9, -999.000,9,   -999.0,9,   -999.0,9,-999.0000,9,  -999.00, -999.000,9,  -999.00,9,  -999.00,9,   1.9045,2,  27.6362,2,   2.0326,2
49UP20180614_2,   P13,    32,  1,     15,     824,2,20180715,2105,2224, 37.5148, 164.9847, 5300,   2098.4,     2072,   1.8873,  34.5985,2,     74.2,2,  34.5971,2,    74.11,2,   168.43,3,    40.96,2,     0.00,2,    2.850,3, -999.000,9, -999.000,9,   -999.0,9,   -999.0,9,-999.0000,9,  -999.00, -999.000,9,  -999.00,9,  -999.00,9,   1.7444,2,  27.6698,2,   1.8874,2
49UP20180614_2,   P13,    32,  1,     14,     823,2,20180715,2105,2219, 37.5148, 164.9847, 5300,   2300.8,     2271,   1.7751,  34.6191,2,     87.2,2,  34.6184,6,    87.76,2,   167.87,3,    40.28,2,     0.00,2,    2.790,3, -999.000,9, -999.000,9,   -999.0,9,   -999.0,9,-999.0000,9,  -999.00, -999.000,9,  -999.00,9,  -999.00,9,   1.6167,2,  27.6959,2,   1.7752,2
49UP20180614_2,   P13,    32,  1,     13,     822,2,20180715,2105,2214, 37.5148, 164.9847, 5300,   2504.6,     2471,   1.6828,  34.6358,2,    100.3,2,  34.6354,2,   100.79,2,   166.68,3,    39.40,2,     0.00,2,    2.740,3, -999.000,9, -999.000,9,   -999.0,9,   -999.0,9,-999.0000,9,  -999.00, -999.000,9,  -999.00,9,  -999.00,9,   1.5081,2,  27.7173,2,   1.6830,2
49UP20180614_2,   P13,    32,  1,     12,     821,2,20180715,2105,2209, 37.5148, 164.9847, 5300,   2709.8,     2672,   1.6101,  34.6487,2,    112.1,2,  34.6481,2,   112.14,2,   163.93,3,    38.60,2,     0.00,2,    2.670,3, -999.000,9, -999.000,9,   -999.0,9,   -999.0,9,-999.0000,9,  -999.00, -999.000,9,  -999.00,9,  -999.00,9,   1.4182,2,  27.7342,2,   1.6102,2
49UP20180614_2,   P13,    32,  1,     11,     820,2,20180715,2105,2204, 37.5148, 164.9847, 5300,   2911.9,     2870,   1.5511,  34.6591,2,    122.7,2,  34.6578,2,   122.23,2,   162.55,3,    37.95,2,     0.00,2,    2.650,3, -999.000,9, -999.000,9,   -999.0,9,   -999.0,9,-999.0000,9,  -999.00, -999.000,9,  -999.00,9,  -999.00,9,   1.3416,2,  27.7480,2,   1.5511,2
49UP20180614_2,   P13,    32,  1,     10,     819,2,20180715,2105,2158, 37.5148, 164.9847, 5300,   3128.3,     3082,   1.5096,  34.6667,2,    130.9,2,  34.6659,2,   130.73,2,   161.40,3,    37.36,2,     0.00,2,    2.620,3, -999.000,9, -999.000,9,   -999.0,9,   -999.0,9,-999.0000,9,  -999.00, -999.000,9,  -999.00,9,  -999.00,9,   1.2803,2,  27.7584,2,   1.5095,2
49UP20180614_2,   P13,    32,  1,      9,     818,2,20180715,2105,2152, 37.5148, 164.9847, 5300,   3382.5,     3331,   1.4770,  34.6736,2,    138.4,2,  34.6730,2,   137.76,2,   159.51,3,    36.92,2,     0.00,2,    2.600,3, -999.000,9, -999.000,9,   -999.0,9,   -999.0,9,-999.0000,9,  -999.00, -999.000,9,  -999.00,9,  -999.00,9,   1.2234,2,  27.7679,2,   1.4773,2
49UP20180614_2,   P13,    32,  1,      8,     817,2,20180715,2105,2146, 37.5148, 164.9847, 5300,   3638.7,     3581,   1.4600,  34.6783,2,    144.2,2,  34.6777,2,   144.07,2,   156.76,3,    36.51,2,     0.00,2,    2.550,3, -999.000,9, -999.000,9,   -999.0,9,   -999.0,9,-999.0000,9,  -999.00, -999.000,9,  -999.00,9,  -999.00,9,   1.1806,2,  27.7746,2,   1.4601,2
49UP20180614_2,   P13,    32,  1,      7,     816,2,20180715,2105,2141, 37.5148, 164.9847, 5300,   3895.8,     3832,   1.4498,  34.6825,2,    149.3,2,  34.6826,2,   149.17,6,   155.54,3,    36.17,6,     0.00,6,    2.510,3, -999.000,9, -999.000,9,   -999.0,9,   -999.0,9,-999.0000,9,  -999.00, -999.000,9,  -999.00,9,  -999.00,9,   1.1436,2,  27.7805,2,   1.4501,2
49UP20180614_2,   P13,    32,  1,      6,     815,2,20180715,2105,2135, 37.5148, 164.9847, 5300,   4150.7,     4080,   1.4538,  34.6850,2,    152.5,2,  34.6853,2,   152.66,2,   154.44,3,    36.01,2,     0.00,2,    2.480,3, -999.000,9, -999.000,9,   -999.0,9,   -999.0,9,-999.0000,9,  -999.00, -999.000,9,  -999.00,9,  -999.00,9,   1.1197,2,  27.7842,2,   1.4538,2
49UP20180614_2,   P13,    32,  1,      5,     814,2,20180715,2105,2129, 37.5148, 164.9847, 5300,   4407.0,     4329,   1.4661,  34.6869,2,    154.6,2,  34.6877,2,   154.47,2,   153.80,3,    35.94,2,     0.00,2,    2.460,3, -999.000,9, -999.000,9,   -999.0,9,   -999.0,9,-999.0000,9,  -999.00, -999.000,9,  -999.00,9,  -999.00,9,   1.1028,2,  27.7868,2,   1.4661,2
49UP20180614_2,   P13,    32,  1,      4,     813,2,20180715,2105,2123, 37.5148, 164.9847, 5300,   4665.2,     4580,   1.4856,  34.6880,2,    156.1,2,  34.6877,2,   156.08,2,   153.78,3,    35.80,2,     0.00,2,    2.440,3, -999.000,9, -999.000,9,   -999.0,9,   -999.0,9,-999.0000,9,  -999.00, -999.000,9,  -999.00,9,  -999.00,9,   1.0918,2,  27.7885,2,   1.4857,2
49UP20180614_2,   P13,    32,  1,      3,     812,2,20180715,2105,2117, 37.5148, 164.9847, 5300,   4922.8,     4831,   1.5101,  34.6889,2,    156.9,2,  34.6886,2,   157.15,2,   153.58,3,    35.54,2,     0.00,2,    2.430,3, -999.000,9, -999.000,9,   -999.0,9,   -999.0,9,-999.0000,9,  -999.00, -999.000,9,  -999.00,9,  -999.00,9,   1.0849,2,  27.7897,2,   1.5102,2
49UP20180614_2,   P13,    32,  1,      2,     811,2,20180715,2105,2111, 37.5148, 164.9847, 5300,   5178.5,     5079,   1.5396,  34.6892,2,    157.1,2,  34.6897,6,   157.48,2,   154.01,3,    35.63,2,     0.00,2,    2.420,3, -999.000,9, -999.000,9,   -999.0,9,   -999.0,9,-999.0000,9,  -999.00, -999.000,9,  -999.00,9,  -999.00,9,   1.0821,2,  27.7901,2,   1.5397,2
49UP20180614_2,   P13,    32,  1,      1,     810,2,20180715,2105,2106, 37.5148, 164.9847, 5300,   5420.5,     5313,   1.5668,  34.6895,2,    157.8,2,  34.6890,2,   157.77,2,   152.75,3,    35.66,2,     0.00,2,    2.420,3, -999.000,9, -999.000,9,   -999.0,9,   -999.0,9,-999.0000,9,  -999.00, -999.000,9,  -999.00,9,  -999.00,9,   1.0780,2,  27.7906,2,   1.5670,2