BOTTLE,20191018JMAGEMD
EXPOCODE,SECT_ID,STNNBR,CASTNO,SAMPNO,BTLNBR,BTLNBR_FLAG_U,DATE,TIME,BTL_TIME,LATITUDE,LONGITUDE,DEPTH,CTDPRS,CTDDEP,CTDTMP,CTDSAL,CTDSAL_FLAG_W,CTDOXY,CTDOXY_FLAG_W,SALNTY,SALNTY_FLAG_W,OXYGEN,OXYGEN_FLAG_W,SILCAT,SILCAT_FLAG_W,NO2+NO3,NO2+NO3_FLAG_W,NITRIT,NITRIT_FLAG_W,PHSPHT,PHSPHT_FLAG_W,CFC-11,CFC-11_FLAG_W,CFC-12,CFC-12_FLAG_W,TCARBN,TCARBN_FLAG_W,ALKALI,ALKALI_FLAG_W,PH_TS,PH_TS_FLAG_W,PH_TS_TMP,CFC113,CFC113_FLAG_W,CHLORA,CHLORA_FLAG_W,PPHYTN,PPHYTN_FLAG_W,THETA,THETA_FLAG_W,SIGTHT,SIGTHT_FLAG_W,SBE35,SBE35_FLAG_W
,,,,,,,,UTC,,,,METER,DBAR,METERS,ITS-90,PSS-78,,UMOL/KG,,PSS78,,UMOL/KG,,UMOL/KG,,UMOL/KG,,UMOL/KG,,UMOL/KG,,PMOL/KG,,PMOL/KG,,UMOL/KG,,UMOL/KG,,,,ITS-90,PMOL/KG,,UG/KG,,UG/KG,,ITS-90,,KG/M3,,ITS-90,
49UP20180806_1,   P13,    53,  1,      0,      -9,0,20180818,1317,1509, 20.9905, 164.9898, 5506,      0.0,        0,  28.9287,  34.9669,2,    195.6,2,  34.9726,2,   196.02,2,     0.83,3,     0.00,2,     0.00,2,    0.040,3, -999.000,9, -999.000,9,   1971.3,2,   2298.5,2,   8.1089,2,    25.00, -999.000,9,     0.04,2,     0.02,2,  28.9280,2,  22.0633,2,-999.0000,9
49UP20180806_1,   P13,    53,  1,     36,     845,2,20180818,1317,1548, 20.9905, 164.9898, 5506,     10.4,       10,  28.9297,  34.9674,2,    195.6,2,  34.9672,2,   196.01,2,     0.86,3,     0.00,2,     0.00,2,    0.020,3, -999.000,9, -999.000,9,   1970.1,6,   2298.1,6,   8.1076,2,    25.00, -999.000,9,     0.05,2,     0.02,2,  28.9272,2,  22.0639,2,  28.9281,2
49UP20180806_1,   P13,    53,  1,     35,     844,2,20180818,1317,1544, 20.9905, 164.9898, 5506,     49.6,       49,  26.8072,  35.1597,2,    217.9,2,  35.1600,2,   217.47,6,     1.33,3,     0.00,6,     0.00,6,    0.010,3, -999.000,9, -999.000,9,   1989.2,2,   2311.5,2,   8.0956,2,    25.00, -999.000,9,     0.07,2,     0.03,2,  26.7959,2,  22.9031,2,  26.8004,2
49UP20180806_1,   P13,    53,  1,     34,     843,2,20180818,1317,1542, 20.9905, 164.9898, 5506,     99.1,       98,  24.1649,  35.2061,2,    208.3,2,  35.2049,2,   207.95,2,     1.72,3,     0.00,2,     0.00,2,    0.040,3, -999.000,9, -999.000,9,   2009.0,2,   2315.1,2,   8.0633,2,    25.00, -999.000,9,     0.16,2,     0.13,2,  24.1439,2,  23.7547,2,  24.1661,2
49UP20180806_1,   P13,    53,  1,     24,     833,4,20180818,1317,1540, 20.9905, 164.9898, 5506,    126.2,      125,  23.4676,  35.2140,2,    203.1,2,-999.0000,9,  -999.00,9,  -999.00,9,  -999.00,9,  -999.00,9, -999.000,9, -999.000,9, -999.000,9,   -999.0,9,   -999.0,9,-999.0000,9,  -999.00, -999.000,9,  -999.00,9,  -999.00,9,  23.4414,2,  23.9678,2,  23.4687,2
49UP20180806_1,   P13,    53,  1,     33,     842,2,20180818,1317,1538, 20.9905, 164.9898, 5506,    154.0,      153,  22.1958,  35.1602,2,    192.9,2,  35.1597,2,   193.29,2,     2.28,3,     0.64,2,     0.06,2,    0.130,3, -999.000,9, -999.000,9,   2041.9,2,   2309.7,2,   8.0087,2,    25.00, -999.000,9,     0.07,2,     0.27,2,  22.1651,2,  24.2932,2,  22.1956,2
49UP20180806_1,   P13,    53,  1,     32,     841,2,20180818,1317,1535, 20.9905, 164.9898, 5506,    202.9,      202,  19.1806,  34.9449,2,    190.5,2,  34.9431,2,   190.64,2,     3.56,3,     2.97,2,     0.01,2,    0.270,3, -999.000,9, -999.000,9,   2055.9,2,   2296.6,2,   7.9436,2,    25.00, -999.000,9,     0.02,2,     0.05,2,  19.1441,2,  24.9422,2,  19.1396,2
49UP20180806_1,   P13,    53,  1,     31,     840,2,20180818,1317,1533, 20.9905, 164.9898, 5506,    252.7,      251,  16.6157,  34.7150,2,    198.3,2,  34.7143,2,   198.42,2,     5.39,3,     5.57,2,     0.01,2,    0.410,3, -999.000,9, -999.000,9,   2061.9,2,   2281.2,2,   7.9085,2,    25.00, -999.000,9,  -999.00,9,  -999.00,9,  16.5747,2,  25.3957,2,  16.6154,2
49UP20180806_1,   P13,    53,  1,     30,     839,2,20180818,1317,1531, 20.9905, 164.9898, 5506,    284.5,      283,  15.7217,  34.6306,2,    201.5,2,  34.6330,2,   201.24,2,     6.42,3,     6.68,2,     0.00,2,    0.470,3, -999.000,9, -999.000,9,   2071.2,2,   2274.5,2,   7.8947,2,    25.00, -999.000,9,  -999.00,9,  -999.00,9,  15.6772,2,  25.5366,2,  15.7208,2
49UP20180806_1,   P13,    53,  1,     29,     838,2,20180818,1317,1528, 20.9905, 164.9898, 5506,    377.8,      375,  12.5516,  34.3383,2,    195.8,2,  34.3419,2,   195.85,2,    13.33,3,    12.07,2,     0.00,2,    0.850,3, -999.000,9, -999.000,9,   2097.3,2,   2266.3,2,   7.8061,2,    25.00, -999.000,9,  -999.00,9,  -999.00,9,  12.5008,2,  25.9787,2,  12.5540,2
49UP20180806_1,   P13,    53,  1,     28,     837,2,20180818,1317,1523, 20.9905, 164.9898, 5506,    476.8,      473,   9.3462,  34.1480,2,    155.5,2,  34.1500,2,   155.90,2,    29.91,3,    21.70,2,     0.00,2,    1.550,3, -999.000,9, -999.000,9,   2171.2,2,   2273.1,2,   7.6535,2,    25.00, -999.000,9,  -999.00,9,  -999.00,9,   9.2929,2,  26.4039,2,   9.3392,2
49UP20180806_1,   P13,    53,  1,     27,     661,2,20180818,1317,1519, 20.9905, 164.9898, 5506,    577.7,      573,   7.3134,  34.1315,2,    100.3,2,  34.1309,2,   100.65,6,    51.18,3,    30.53,6,     0.00,6,    2.210,3, -999.000,9, -999.000,9,   2227.0,2,   2286.4,2,   7.5107,2,    25.00, -999.000,9,  -999.00,9,  -999.00,9,   7.2572,2,  26.6989,2,   7.3055,2
49UP20180806_1,   P13,    53,  1,     26,     835,2,20180818,1317,1515, 20.9905, 164.9898, 5506,    678.4,      673,   5.9532,  34.1801,2,     66.6,2,  34.1821,2,    66.09,2,    71.45,3,    36.21,2,     0.00,2,    2.620,3, -999.000,9, -999.000,9,   2276.5,2,   2306.7,2,   7.4302,2,    25.00, -999.000,9,  -999.00,9,  -999.00,9,   5.8936,2,  26.9181,2,   5.9507,2
49UP20180806_1,   P13,    53,  1,     25,     834,2,20180818,1317,1512, 20.9905, 164.9898, 5506,    779.8,      774,   5.0360,  34.2926,2,     48.5,2,  34.2927,6,    48.21,2,    89.56,3,    39.50,2,     0.00,2,    2.860,3, -999.000,9, -999.000,9,   2312.3,2,   2333.9,2,   7.3985,2,    25.00, -999.000,9,  -999.00,9,  -999.00,9,   4.9723,2,  27.1176,2,   5.0354,2
49UP20180806_1,   P13,    53,  1,     23,     832,2,20180818,1317,1508, 20.9905, 164.9898, 5506,    880.7,      873,   4.6577,  34.3843,2,     51.5,2,  34.3810,2,    51.47,2,    97.10,3,    39.97,2,     0.00,2,    2.890,3, -999.000,9, -999.000,9,   2326.0,2,   2348.3,2,   7.4147,2,    25.00, -999.000,9,  -999.00,9,  -999.00,9,   4.5876,2,  27.2336,2,   4.6583,2
49UP20180806_1,   P13,    53,  1,     22,     831,2,20180818,1317,1504, 20.9905, 164.9898, 5506,    979.2,      971,   4.1485,  34.4594,2,     61.1,2,  34.4593,2,    60.84,2,   107.05,3,    39.98,2,     0.00,2,    2.870,3, -999.000,9, -999.000,9,   2326.2,2,   2363.1,2,   7.4366,2,    25.00, -999.000,9,  -999.00,9,  -999.00,9,   4.0735,2,  27.3484,2,   4.1491,2
49UP20180806_1,   P13,    53,  1,     21,     830,2,20180818,1317,1500, 20.9905, 164.9898, 5506,   1140.8,     1131,   3.6412,  34.5140,2,     71.4,2,  34.5143,2,    71.16,2,   116.84,3,    39.84,2,     0.00,2,    2.840,3, -999.000,9, -999.000,9,   2333.8,2,   2377.7,2,   7.4543,6,    25.00, -999.000,9,  -999.00,9,  -999.00,9,   3.5568,2,  27.4443,2,   3.6415,2
49UP20180806_1,   P13,    53,  1,     20,     829,2,20180818,1317,1455, 20.9905, 164.9898, 5506,   1345.4,     1333,   3.1070,  34.5511,2,     78.8,2,  34.5514,6,    79.40,2,   127.44,3,    39.77,2,     0.00,2,    2.830,3, -999.000,9, -999.000,9,   2340.7,2,   2389.3,2,   7.4660,2,    25.00, -999.000,9,  -999.00,9,  -999.00,9,   3.0108,2,  27.5258,2,   3.1073,2
49UP20180806_1,   P13,    53,  1,     19,     828,2,20180818,1317,1450, 20.9905, 164.9898, 5506,   1548.1,     1533,   2.7059,  34.5719,2,     84.8,2,  34.5723,2,    85.12,2,   135.85,3,    39.72,2,     0.00,2,    2.810,3, -999.000,9, -999.000,9,   2353.6,2,   2399.1,2,   7.4735,2,    25.00, -999.000,9,  -999.00,9,  -999.00,9,   2.5975,2,  27.5792,2,   2.7064,2
49UP20180806_1,   P13,    53,  1,     18,     660,2,20180818,1317,1444, 20.9905, 164.9898, 5506,   1752.0,     1734,   2.3787,  34.5906,2,     92.3,2,  34.5928,4,    92.34,2,   142.48,3,    39.45,2,     0.00,2,    2.780,3, -999.000,9, -999.000,9,   2354.9,2,   2404.6,2,   7.4844,2,    25.00, -999.000,9,  -999.00,9,  -999.00,9,   2.2576,2,  27.6229,2,   2.3806,2
49UP20180806_1,   P13,    53,  1,     17,     826,2,20180818,1317,1439, 20.9905, 164.9898, 5506,   1954.6,     1934,   2.1305,  34.6103,2,    100.4,2,  34.6102,2,   100.23,6,   146.37,3,    39.02,6,     0.00,6,    2.750,3, -999.000,9, -999.000,9,   2355.4,2,   2408.6,2,   7.4981,2,    25.00, -999.000,9,  -999.00,9,  -999.00,9,   1.9960,2,  27.6598,2,   2.1305,2
49UP20180806_1,   P13,    53,  1,     16,     825,2,20180818,1317,1434, 20.9905, 164.9898, 5506,   2156.6,     2132,   1.9545,  34.6283,2,    107.9,2,  34.6288,6,   108.21,2,   150.12,3,    38.66,2,     0.00,2,    2.700,3, -999.000,9, -999.000,9,   2347.0,2,   2413.9,2,   7.5125,2,    25.00, -999.000,9,  -999.00,9,  -999.00,9,   1.8055,2,  27.6891,2,   1.9546,2
49UP20180806_1,   P13,    53,  1,     15,     824,2,20180818,1317,1429, 20.9905, 164.9898, 5506,   2359.4,     2332,   1.8179,  34.6418,2,    115.0,2,  34.6402,4,   114.47,2,   152.56,3,    38.29,2,     0.00,2,    2.680,3, -999.000,9, -999.000,9,   2350.6,2,   2416.1,2,   7.5224,2,    25.00, -999.000,9,  -999.00,9,  -999.00,9,   1.6535,2,  27.7114,2,   1.8180,2
49UP20180806_1,   P13,    53,  1,     14,     823,2,20180818,1317,1424, 20.9905, 164.9898, 5506,   2566.4,     2535,   1.7418,  34.6498,2,    120.3,2,  34.6501,2,   120.17,2,   153.13,3,    37.95,2,     0.00,2,    2.650,3, -999.000,9, -999.000,9,   2344.8,2,   2419.3,2,   7.5345,2,    25.00, -999.000,9,  -999.00,9,  -999.00,9,   1.5604,2,  27.7247,2,   1.7420,2
49UP20180806_1,   P13,    53,  1,     13,     822,2,20180818,1317,1418, 20.9905, 164.9898, 5506,   2767.9,     2733,   1.6754,  34.6568,2,    125.4,2,  34.6569,2,   125.62,2,   153.45,3,    37.70,2,     0.00,2,    2.630,3, -999.000,9, -999.000,9,   2341.1,2,   2419.2,2,   7.5413,2,    25.00, -999.000,9,  -999.00,9,  -999.00,9,   1.4768,2,  27.7364,2,   1.6756,2
49UP20180806_1,   P13,    53,  1,     12,     821,2,20180818,1317,1413, 20.9905, 164.9898, 5506,   2970.3,     2931,   1.6140,  34.6635,2,    131.0,2,  34.6636,6,   130.83,2,   151.83,3,    37.26,2,     0.00,2,    2.590,3, -999.000,9, -999.000,9,   2340.1,2,   2421.2,2,   7.5502,2,    25.00, -999.000,9,  -999.00,9,  -999.00,9,   1.3976,2,  27.7475,2,   1.6141,2
49UP20180806_1,   P13,    53,  1,     11,     820,3,20180818,1317,1408, 20.9905, 164.9898, 5506,   3215.0,     3171,   1.5632,  34.6694,2,    136.8,2,  34.6692,2,   136.60,2,   150.41,3,    36.85,2,     0.00,2,    2.550,3, -999.000,9, -999.000,9,   2338.3,6,   2419.8,6,   7.5610,2,    25.00, -999.000,9,  -999.00,9,  -999.00,9,   1.3242,2,  27.7575,2,   1.5632,2
49UP20180806_1,   P13,    53,  1,     10,     819,2,20180818,1317,1403, 20.9905, 164.9898, 5506,   3470.7,     3421,   1.5302,  34.6741,2,    141.9,2,  34.6739,2,   141.59,2,   149.28,3,    36.63,2,     0.00,2,    2.520,3, -999.000,9, -999.000,9,   2338.9,2,   2417.9,2,   7.5685,6,    25.00, -999.000,9,  -999.00,9,  -999.00,9,   1.2663,2,  27.7654,2,   1.5303,2
49UP20180806_1,   P13,    53,  1,      9,     818,2,20180818,1317,1357, 20.9905, 164.9898, 5506,   3726.6,     3671,   1.4953,  34.6791,2,    147.9,2,  34.6789,2,   147.78,2,   147.84,3,    36.25,2,     0.00,2,    2.490,3, -999.000,9, -999.000,9,   2333.7,2,   2415.4,2,   7.5733,2,    25.00, -999.000,9,  -999.00,9,  -999.00,9,   1.2058,2,  27.7735,2,   1.4952,2
49UP20180806_1,   P13,    53,  1,      8,     817,2,20180818,1317,1352, 20.9905, 164.9898, 5506,   3979.0,     3918,   1.4817,  34.6824,2,    152.2,2,  34.6819,2,   152.11,6,   146.43,3,    35.87,6,     0.00,6,    2.470,3, -999.000,9, -999.000,9,   2324.9,2,   2416.5,2,   7.5831,2,    25.00, -999.000,9,  -999.00,9,  -999.00,9,   1.1656,2,  27.7789,2,   1.4818,2
49UP20180806_1,   P13,    53,  1,      7,     816,2,20180818,1317,1346, 20.9905, 164.9898, 5506,   4236.8,     4169,   1.4578,  34.6860,2,    157.8,2,  34.6840,4,   156.43,3,   144.04,3,    35.53,2,     0.00,2,    2.450,3, -999.000,9, -999.000,9,   2328.1,2,   2413.4,2,   7.5867,2,    25.00, -999.000,9,  -999.00,9,  -999.00,9,   1.1140,2,  27.7854,2,   1.4577,2
49UP20180806_1,   P13,    53,  1,      6,     815,3,20180818,1317,1341, 20.9905, 164.9898, 5506,   4495.1,     4421,   1.4496,  34.6893,2,    162.9,2,  34.6895,2,   162.78,2,   140.71,3,    35.13,2,     0.00,2,    2.410,3, -999.000,9, -999.000,9,   2313.4,2,   2410.5,2,   7.5952,2,    25.00, -999.000,9,  -999.00,9,  -999.00,9,   1.0767,2,  27.7905,2,   1.4496,2
49UP20180806_1,   P13,    53,  1,      5,     814,2,20180818,1317,1336, 20.9905, 164.9898, 5506,   4749.0,     4668,   1.4456,  34.6920,2,    167.6,2,  34.6918,2,   167.92,2,   138.06,3,    34.84,2,     0.00,2,    2.380,3, -999.000,9, -999.000,9,   2308.1,2,   2406.3,2,   7.6018,2,    25.00, -999.000,9,  -999.00,9,  -999.00,9,   1.0433,2,  27.7949,2,   1.4455,2
49UP20180806_1,   P13,    53,  1,      4,     813,2,20180818,1317,1331, 20.9905, 164.9898, 5506,   5005.8,     4917,   1.4444,  34.6945,2,    172.0,2,  34.6948,2,   172.47,2,   136.12,3,    34.52,2,     0.00,2,    2.360,3, -999.000,9, -999.000,9,   2302.0,2,   2403.5,2,   7.6061,2,    25.00, -999.000,9,  -999.00,9,  -999.00,9,   1.0113,2,  27.7991,2,   1.4444,2
49UP20180806_1,   P13,    53,  1,      3,     812,2,20180818,1317,1325, 20.9905, 164.9898, 5506,   5264.9,     5169,   1.4478,  34.6966,2,    176.1,2,  34.6960,2,   175.50,2,   135.31,3,    34.23,2,     0.00,2,    2.370,3, -999.000,9, -999.000,9,   2306.8,2,   2400.4,2,   7.6071,2,    25.00, -999.000,9,  -999.00,9,  -999.00,9,   0.9827,2,  27.8027,2,   1.4478,2
49UP20180806_1,   P13,    53,  1,      2,     811,2,20180818,1317,1320, 20.9905, 164.9898, 5506,   5523.8,     5420,   1.4683,  34.6976,2,    177.8,2,  34.6976,2,   177.85,2,   134.91,3,    34.14,2,     0.00,2,    2.360,3, -999.000,9, -999.000,9,   2299.8,2,   2399.2,2,   7.6100,2,    25.00, -999.000,9,  -999.00,9,  -999.00,9,   0.9698,2,  27.8043,2,   1.4684,2
49UP20180806_1,   P13,    53,  1,      1,     810,2,20180818,1317,1317, 20.9905, 164.9898, 5506,   5626.9,     5520,   1.4800,  34.6976,2,    178.3,2,  34.6974,2,   177.80,2,   134.44,3,    34.08,2,     0.00,2,    2.360,3, -999.000,9, -999.000,9,   2301.2,2,   2397.9,6,   7.6124,2,    25.00, -999.000,9,  -999.00,9,  -999.00,9,   0.9678,2,  27.8045,2,   1.4800,2