BOTTLE,20191018JMAGEMD
EXPOCODE,SECT_ID,STNNBR,CASTNO,SAMPNO,BTLNBR,BTLNBR_FLAG_U,DATE,TIME,BTL_TIME,LATITUDE,LONGITUDE,DEPTH,CTDPRS,CTDDEP,CTDTMP,CTDSAL,CTDSAL_FLAG_W,CTDOXY,CTDOXY_FLAG_W,SALNTY,SALNTY_FLAG_W,OXYGEN,OXYGEN_FLAG_W,SILCAT,SILCAT_FLAG_W,NO2+NO3,NO2+NO3_FLAG_W,NITRIT,NITRIT_FLAG_W,PHSPHT,PHSPHT_FLAG_W,CFC-11,CFC-11_FLAG_W,CFC-12,CFC-12_FLAG_W,TCARBN,TCARBN_FLAG_W,ALKALI,ALKALI_FLAG_W,PH_TS,PH_TS_FLAG_W,PH_TS_TMP,CFC113,CFC113_FLAG_W,CHLORA,CHLORA_FLAG_W,PPHYTN,PPHYTN_FLAG_W,THETA,THETA_FLAG_W,SIGTHT,SIGTHT_FLAG_W,SBE35,SBE35_FLAG_W
,,,,,,,,UTC,,,,METER,DBAR,METERS,ITS-90,PSS-78,,UMOL/KG,,PSS78,,UMOL/KG,,UMOL/KG,,UMOL/KG,,UMOL/KG,,UMOL/KG,,PMOL/KG,,PMOL/KG,,UMOL/KG,,UMOL/KG,,,,ITS-90,PMOL/KG,,UG/KG,,UG/KG,,ITS-90,,KG/M3,,ITS-90,
49UP20180806_2,   P13,    87,  1,      0,      -9,0,20180908,0520,0647,  1.4955, 164.9847, 4264,      0.0,        0,  30.2475,  34.1039,2,    195.0,2,-999.0000,9,   193.86,2,     1.16,3,     0.00,2,     0.00,2,    0.100,3, -999.000,9, -999.000,9,   -999.0,9,   -999.0,9,-999.0000,9,  -999.00, -999.000,9,  -999.00,9,  -999.00,9,  30.2469,2,  20.9703,2,-999.0000,9
49UP20180806_2,   P13,    87,  1,     36,     845,2,20180908,0520,0721,  1.4955, 164.9847, 4264,     11.1,       11,  30.2056,  34.1866,2,    195.3,2,  34.1838,2,   193.76,6,     1.29,3,     0.00,6,     0.00,6,    0.090,3, -999.000,9, -999.000,9,   -999.0,9,   -999.0,9,-999.0000,9,  -999.00, -999.000,9,  -999.00,9,  -999.00,9,  30.2028,2,  21.0473,2,  30.2060,2
49UP20180806_2,   P13,    87,  1,     35,     844,2,20180908,0520,0719,  1.4955, 164.9847, 4264,     26.7,       27,  30.5449,  34.4777,2,    195.5,2,  34.4642,2,   194.46,2,     1.55,3,     0.00,2,     0.00,2,    0.100,3, -999.000,9, -999.000,9,   -999.0,9,   -999.0,9,-999.0000,9,  -999.00, -999.000,9,  -999.00,9,  -999.00,9,  30.5382,2,  21.1501,2,  30.5493,2
49UP20180806_2,   P13,    87,  1,     34,     843,2,20180908,0520,0715,  1.4955, 164.9847, 4264,     51.9,       52,  30.6250,  34.8114,2,    197.4,2,  34.8180,6,   196.44,2,     1.88,3,     0.00,2,     0.00,2,    0.140,3, -999.000,9, -999.000,9,   -999.0,9,   -999.0,9,-999.0000,9,  -999.00, -999.000,9,  -999.00,9,  -999.00,9,  30.6119,2,  21.3746,2,  30.6236,2
49UP20180806_2,   P13,    87,  1,     33,     842,2,20180908,0520,0714,  1.4955, 164.9847, 4264,     76.0,       76,  30.0066,  35.1575,2,    199.3,2,  35.1563,2,   198.53,2,     1.68,3,     0.03,2,     0.00,2,    0.190,3, -999.000,9, -999.000,9,   -999.0,9,   -999.0,9,-999.0000,9,  -999.00, -999.000,9,  -999.00,9,  -999.00,9,  29.9878,2,  21.8484,2,  30.0089,2
49UP20180806_2,   P13,    87,  1,     32,     841,2,20180908,0520,0712,  1.4955, 164.9847, 4264,    101.2,      101,  29.4399,  35.3722,2,    192.2,2,  35.3738,2,   192.17,2,     1.64,3,     0.40,2,     0.12,2,    0.260,3, -999.000,9, -999.000,9,   -999.0,9,   -999.0,9,-999.0000,9,  -999.00, -999.000,9,  -999.00,9,  -999.00,9,  29.4152,2,  22.2040,2,  29.4478,2
49UP20180806_2,   P13,    87,  1,     31,     840,2,20180908,0520,0711,  1.4955, 164.9847, 4264,    130.0,      129,  25.9598,  35.3730,2,    152.5,2,  35.3738,2,   154.04,2,     2.97,3,     6.56,2,     0.19,2,    0.600,3, -999.000,9, -999.000,9,   -999.0,9,   -999.0,9,-999.0000,9,  -999.00, -999.000,9,  -999.00,9,  -999.00,9,  25.9307,2,  23.3364,2,  25.9306,2
49UP20180806_2,   P13,    87,  1,     30,     839,2,20180908,0520,0709,  1.4955, 164.9847, 4264,    153.6,      153,  25.1621,  35.2800,2,    145.0,2,  35.2809,2,   145.37,2,     3.55,3,     7.45,2,     0.11,2,    0.630,3, -999.000,9, -999.000,9,   -999.0,9,   -999.0,9,-999.0000,9,  -999.00, -999.000,9,  -999.00,9,  -999.00,9,  25.1286,2,  23.5136,2,  25.1601,2
49UP20180806_2,   P13,    87,  1,     29,     838,2,20180908,0520,0707,  1.4955, 164.9847, 4264,    203.6,      202,  15.0331,  34.7844,2,    136.3,2,  34.7523,4,   136.59,2,    15.14,3,    15.52,2,     0.01,2,    1.140,3, -999.000,9, -999.000,9,   -999.0,9,   -999.0,9,-999.0000,9,  -999.00, -999.000,9,  -999.00,9,  -999.00,9,  15.0023,2,  25.8052,2,  15.0638,2
49UP20180806_2,   P13,    87,  1,     28,     837,2,20180908,0520,0705,  1.4955, 164.9847, 4264,    252.4,      251,  12.0421,  34.8185,2,    135.9,2,  34.8192,2,   135.71,2,    18.29,3,    20.84,2,     0.00,2,    1.490,3, -999.000,9, -999.000,9,   -999.0,9,   -999.0,9,-999.0000,9,  -999.00, -999.000,9,  -999.00,9,  -999.00,9,  12.0091,2,  26.4464,2,  12.0421,2
49UP20180806_2,   P13,    87,  1,     27,     661,2,20180908,0520,0704,  1.4955, 164.9847, 4264,    285.1,      283,  11.8165,  34.8232,2,    130.7,2,  34.8234,2,   130.14,6,    18.55,3,    21.87,6,     0.00,6,    1.560,3, -999.000,9, -999.000,9,   -999.0,9,   -999.0,9,-999.0000,9,  -999.00, -999.000,9,  -999.00,9,  -999.00,9,  11.7796,2,  26.4936,2,  11.8169,2
49UP20180806_2,   P13,    87,  1,     26,     835,2,20180908,0520,0702,  1.4955, 164.9847, 4264,    323.2,      321,  11.3936,  34.7904,2,    126.8,2,  34.7904,2,   126.17,2,    20.13,3,    22.94,2,     0.00,2,    1.630,3, -999.000,9, -999.000,9,   -999.0,9,   -999.0,9,-999.0000,9,  -999.00, -999.000,9,  -999.00,9,  -999.00,9,  11.3527,2,  26.5478,2,  11.3938,2
49UP20180806_2,   P13,    87,  1,     25,     834,2,20180908,0520,0700,  1.4955, 164.9847, 4264,    373.5,      371,  10.7444,  34.7522,2,     94.6,2,  34.7518,2,    93.80,2,    24.28,3,    27.44,2,     0.00,2,    1.920,3, -999.000,9, -999.000,9,   -999.0,9,   -999.0,9,-999.0000,9,  -999.00, -999.000,9,  -999.00,9,  -999.00,9,  10.6988,2,  26.6366,2,  10.7448,2
49UP20180806_2,   P13,    87,  1,     23,     832,2,20180908,0520,0658,  1.4955, 164.9847, 4264,    427.3,      425,  10.0497,  34.6998,2,     98.4,2,  34.7009,2,    96.67,2,    26.87,3,    28.46,2,     0.00,2,    1.990,3, -999.000,9, -999.000,9,   -999.0,9,   -999.0,9,-999.0000,9,  -999.00, -999.000,9,  -999.00,9,  -999.00,9,   9.9996,2,  26.7176,2,  10.0506,2
49UP20180806_2,   P13,    87,  1,     22,     831,2,20180908,0520,0656,  1.4955, 164.9847, 4264,    476.8,      474,   8.9848,  34.6377,2,    102.1,2,  34.6378,2,   101.48,2,    30.44,3,    29.99,2,     0.00,2,    2.090,3, -999.000,9, -999.000,9,   -999.0,9,   -999.0,9,-999.0000,9,  -999.00, -999.000,9,  -999.00,9,  -999.00,9,   8.9325,2,  26.8452,2,   8.9843,2
49UP20180806_2,   P13,    87,  1,     21,     830,2,20180908,0520,0654,  1.4955, 164.9847, 4264,    575.8,      572,   7.1034,  34.5541,2,    100.6,2,  34.5545,2,   100.32,2,    42.73,3,    33.82,2,     0.00,2,    2.370,3, -999.000,9, -999.000,9,   -999.0,9,   -999.0,9,-999.0000,9,  -999.00, -999.000,9,  -999.00,9,  -999.00,9,   7.0480,2,  27.0608,2,   7.1032,2
49UP20180806_2,   P13,    87,  1,     20,     829,2,20180908,0520,0651,  1.4955, 164.9847, 4264,    678.3,      673,   6.4434,  34.5506,2,     82.4,2,  34.5499,2,    82.40,2,    51.52,3,    37.00,2,     0.00,2,    2.600,3, -999.000,9, -999.000,9,   -999.0,9,   -999.0,9,-999.0000,9,  -999.00, -999.000,9,  -999.00,9,  -999.00,9,   6.3809,2,  27.1483,2,   6.4458,2
49UP20180806_2,   P13,    87,  1,     19,     828,2,20180908,0520,0648,  1.4955, 164.9847, 4264,    776.9,      771,   5.5683,  34.5379,2,     92.4,2,  34.5379,2,    91.87,2,    63.00,3,    37.42,2,     0.00,2,    2.640,3, -999.000,9, -999.000,9,   -999.0,9,   -999.0,9,-999.0000,9,  -999.00, -999.000,9,  -999.00,9,  -999.00,9,   5.5014,2,  27.2495,2,   5.5683,2
49UP20180806_2,   P13,    87,  1,     18,     660,2,20180908,0520,0645,  1.4955, 164.9847, 4264,    878.6,      872,   4.9071,  34.5414,2,     98.4,2,  34.5405,2,    98.20,2,    74.68,3,    37.57,2,     0.00,2,    2.660,3, -999.000,9, -999.000,9,   -999.0,9,   -999.0,9,-999.0000,9,  -999.00, -999.000,9,  -999.00,9,  -999.00,9,   4.8352,2,  27.3305,2,   4.9073,2
49UP20180806_2,   P13,    87,  1,     17,     826,2,20180908,0520,0642,  1.4955, 164.9847, 4264,    981.0,      973,   4.5588,  34.5496,2,     98.1,2,  34.5499,6,    97.75,2,    82.77,3,    37.82,2,     0.00,2,    2.680,3, -999.000,9, -999.000,9,   -999.0,9,   -999.0,9,-999.0000,9,  -999.00, -999.000,9,  -999.00,9,  -999.00,9,   4.4804,2,  27.3766,2,   4.5587,2
49UP20180806_2,   P13,    87,  1,     16,     825,2,20180908,0520,0638,  1.4955, 164.9847, 4264,   1143.5,     1134,   3.9606,  34.5666,2,     98.4,2,  34.5703,4,    97.96,6,    96.80,3,    38.29,6,     0.00,6,    2.710,3, -999.000,9, -999.000,9,   -999.0,9,   -999.0,9,-999.0000,9,  -999.00, -999.000,9,  -999.00,9,  -999.00,9,   3.8731,2,  27.4545,2,   3.9611,2
49UP20180806_2,   P13,    87,  1,     15,     824,2,20180908,0520,0633,  1.4955, 164.9847, 4264,   1344.4,     1333,   3.5012,  34.5820,2,     96.3,2,  34.5831,2,    95.91,2,   107.11,3,    38.99,2,     0.00,2,    2.770,3, -999.000,9, -999.000,9,   -999.0,9,   -999.0,9,-999.0000,9,  -999.00, -999.000,9,  -999.00,9,  -999.00,9,   3.4010,2,  27.5137,2,   3.5012,2
49UP20180806_2,   P13,    87,  1,     14,     823,2,20180908,0520,0628,  1.4955, 164.9847, 4264,   1545.9,     1532,   3.0238,  34.5997,2,    102.3,2,  34.6006,2,   102.46,2,   119.03,3,    38.71,2,     0.00,2,    2.740,3, -999.000,9, -999.000,9,   -999.0,9,   -999.0,9,-999.0000,9,  -999.00, -999.000,9,  -999.00,9,  -999.00,9,   2.9118,2,  27.5736,2,   3.0234,2
49UP20180806_2,   P13,    87,  1,     13,     822,2,20180908,0520,0622,  1.4955, 164.9847, 4264,   1748.5,     1732,   2.6904,  34.6142,2,    105.1,2,  34.6154,2,   105.12,2,   127.06,3,    38.77,2,     0.00,2,    2.730,3, -999.000,9, -999.000,9,   -999.0,9,   -999.0,9,-999.0000,9,  -999.00, -999.000,9,  -999.00,9,  -999.00,9,   2.5653,2,  27.6158,2,   2.6909,2
49UP20180806_2,   P13,    87,  1,     12,     821,2,20180908,0520,0616,  1.4955, 164.9847, 4264,   1952.6,     1933,   2.3765,  34.6290,2,    110.1,2,  34.6303,2,   109.96,2,   134.65,3,    38.58,2,     0.00,2,    2.710,3, -999.000,9, -999.000,9,   -999.0,9,   -999.0,9,-999.0000,9,  -999.00, -999.000,9,  -999.00,9,  -999.00,9,   2.2384,2,  27.6552,2,   2.3764,2
49UP20180806_2,   P13,    87,  1,     11,     820,2,20180908,0520,0611,  1.4955, 164.9847, 4264,   2155.5,     2133,   2.1213,  34.6424,2,    118.1,2,  34.6427,6,   117.85,2,   138.77,3,    38.12,2,     0.00,2,    2.670,3, -999.000,9, -999.000,9,   -999.0,9,   -999.0,9,-999.0000,9,  -999.00, -999.000,9,  -999.00,9,  -999.00,9,   1.9696,2,  27.6876,2,   2.1212,2
49UP20180806_2,   P13,    87,  1,     10,     819,2,20180908,0520,0605,  1.4955, 164.9847, 4264,   2357.9,     2332,   1.9532,  34.6522,2,    122.8,2,  34.6520,2,   122.21,2,   142.24,3,    37.89,2,     0.00,2,    2.650,3, -999.000,9, -999.000,9,   -999.0,9,   -999.0,9,-999.0000,9,  -999.00, -999.000,9,  -999.00,9,  -999.00,9,   1.7865,2,  27.7096,2,   1.9534,2
49UP20180806_2,   P13,    87,  1,      9,     818,2,20180908,0520,0600,  1.4955, 164.9847, 4264,   2561.3,     2532,   1.8551,  34.6582,2,    126.2,2,  34.6596,2,   125.80,6,   144.20,3,    37.69,6,     0.00,6,    2.630,3, -999.000,9, -999.000,9,   -999.0,9,   -999.0,9,-999.0000,9,  -999.00, -999.000,9,  -999.00,9,  -999.00,9,   1.6719,2,  27.7231,2,   1.8550,2
49UP20180806_2,   P13,    87,  1,      8,     817,2,20180908,0520,0555,  1.4955, 164.9847, 4264,   2764.5,     2731,   1.8094,  34.6613,2,    128.4,2,  34.6620,2,   127.85,2,   145.41,3,    37.55,2,     0.00,2,    2.620,3, -999.000,9, -999.000,9,   -999.0,9,   -999.0,9,-999.0000,9,  -999.00, -999.000,9,  -999.00,9,  -999.00,9,   1.6083,2,  27.7304,2,   1.8093,2
49UP20180806_2,   P13,    87,  1,      7,     816,2,20180908,0520,0550,  1.4955, 164.9847, 4264,   2968.7,     2932,   1.7172,  34.6663,2,    133.4,2,  34.6668,2,   132.75,2,   145.82,3,    37.06,2,     0.00,2,    2.580,3, -999.000,9, -999.000,9,   -999.0,9,   -999.0,9,-999.0000,9,  -999.00, -999.000,9,  -999.00,9,  -999.00,9,   1.4987,2,  27.7425,2,   1.7171,2
49UP20180806_2,   P13,    87,  1,      6,     815,2,20180908,0520,0545,  1.4955, 164.9847, 4264,   3213.0,     3171,   1.6410,  34.6714,2,    139.3,2,  34.6721,6,   139.14,2,   144.89,3,    36.88,2,     0.00,2,    2.550,3, -999.000,9, -999.000,9,   -999.0,9,   -999.0,9,-999.0000,9,  -999.00, -999.000,9,  -999.00,9,  -999.00,9,   1.4004,2,  27.7537,2,   1.6410,2
49UP20180806_2,   P13,    87,  1,      5,     814,2,20180908,0520,0539,  1.4955, 164.9847, 4264,   3467.9,     3421,   1.5639,  34.6773,2,    145.9,2,  34.6777,2,   145.58,2,   143.44,3,    36.32,2,     0.00,2,    2.510,3, -999.000,9, -999.000,9,   -999.0,9,   -999.0,9,-999.0000,9,  -999.00, -999.000,9,  -999.00,9,  -999.00,9,   1.2995,2,  27.7656,2,   1.5638,2
49UP20180806_2,   P13,    87,  1,      4,     813,2,20180908,0520,0534,  1.4955, 164.9847, 4264,   3722.7,     3670,   1.5175,  34.6819,2,    151.9,2,  34.6826,2,   152.08,2,   142.22,3,    35.97,2,     0.00,2,    2.470,3, -999.000,9, -999.000,9,   -999.0,9,   -999.0,9,-999.0000,9,  -999.00, -999.000,9,  -999.00,9,  -999.00,9,   1.2278,2,  27.7743,2,   1.5176,2
49UP20180806_2,   P13,    87,  1,      3,     812,2,20180908,0520,0529,  1.4955, 164.9847, 4264,   3977.7,     3919,   1.4590,  34.6881,2,    160.9,2,  34.6881,2,   161.09,2,   139.12,3,    35.29,2,     0.00,2,    2.430,3, -999.000,9, -999.000,9,   -999.0,9,   -999.0,9,-999.0000,9,  -999.00, -999.000,9,  -999.00,9,  -999.00,9,   1.1436,2,  27.7850,2,   1.4589,2
49UP20180806_2,   P13,    87,  1,      2,     811,2,20180908,0520,0523,  1.4955, 164.9847, 4264,   4234.5,     4170,   1.3806,  34.6949,2,    173.3,2,  34.6943,2,   173.57,2,   135.19,3,    34.38,2,     0.00,2,    2.380,3, -999.000,9, -999.000,9,   -999.0,9,   -999.0,9,-999.0000,9,  -999.00, -999.000,9,  -999.00,9,  -999.00,9,   1.0393,2,  27.7976,2,   1.3806,2
49UP20180806_2,   P13,    87,  1,      1,     810,2,20180908,0520,0521,  1.4955, 164.9847, 4264,   4315.8,     4249,   1.3448,  34.6978,2,    178.2,2,  34.6972,6,   177.81,2,   133.42,3,    34.01,2,     0.00,2,    2.370,3, -999.000,9, -999.000,9,   -999.0,9,   -999.0,9,-999.0000,9,  -999.00, -999.000,9,  -999.00,9,  -999.00,9,   0.9954,2,  27.8028,2,   1.3446,2