BOTTLE,20191018JMAGEMD
EXPOCODE,SECT_ID,STNNBR,CASTNO,SAMPNO,BTLNBR,BTLNBR_FLAG_U,DATE,TIME,BTL_TIME,LATITUDE,LONGITUDE,DEPTH,CTDPRS,CTDDEP,CTDTMP,CTDSAL,CTDSAL_FLAG_W,CTDOXY,CTDOXY_FLAG_W,SALNTY,SALNTY_FLAG_W,OXYGEN,OXYGEN_FLAG_W,SILCAT,SILCAT_FLAG_W,NO2+NO3,NO2+NO3_FLAG_W,NITRIT,NITRIT_FLAG_W,PHSPHT,PHSPHT_FLAG_W,CFC-11,CFC-11_FLAG_W,CFC-12,CFC-12_FLAG_W,TCARBN,TCARBN_FLAG_W,ALKALI,ALKALI_FLAG_W,PH_TS,PH_TS_FLAG_W,PH_TS_TMP,CFC113,CFC113_FLAG_W,CHLORA,CHLORA_FLAG_W,PPHYTN,PPHYTN_FLAG_W,THETA,THETA_FLAG_W,SIGTHT,SIGTHT_FLAG_W,SBE35,SBE35_FLAG_W
,,,,,,,,UTC,,,,METER,DBAR,METERS,ITS-90,PSS-78,,UMOL/KG,,PSS78,,UMOL/KG,,UMOL/KG,,UMOL/KG,,UMOL/KG,,UMOL/KG,,PMOL/KG,,PMOL/KG,,UMOL/KG,,UMOL/KG,,,,ITS-90,PMOL/KG,,UG/KG,,UG/KG,,ITS-90,,KG/M3,,ITS-90,
49UP20180806_2,   P13,    78,  1,      0,      -9,0,20180905,0850,1040,  6.0125, 165.0153, 4988,      0.0,        0,  29.7245,  33.3466,2,    197.2,2,  33.3768,2,   196.31,2,     1.28,3,     0.00,2,     0.00,2,    0.030,3, -999.000,9, -999.000,9,   1871.9,2,   2195.1,2,   8.1292,2,    25.00, -999.000,9,     0.06,2,     0.03,2,  29.7238,2,  20.5807,2,-999.0000,9
49UP20180806_2,   P13,    78,  1,     36,     845,2,20180905,0850,1111,  6.0125, 165.0153, 4988,     11.9,       12,  29.7374,  33.3531,2,    197.0,2,  33.3550,2,   196.71,2,     1.32,3,     0.00,2,     0.00,2,    0.020,3,    1.454,2,    0.837,2,   1876.0,2,   2195.1,2,   8.1279,2,    25.00,    0.136,2,     0.05,2,     0.03,2,  29.7345,2,  20.5820,2,  29.7378,2
49UP20180806_2,   P13,    78,  1,     35,     844,2,20180905,0850,1107,  6.0125, 165.0153, 4988,     51.7,       51,  29.2926,  34.0756,2,    199.6,2,  34.0341,4,   200.24,2,     1.42,3,     0.00,2,     0.00,2,    0.050,3,    1.526,2,    0.872,2,   1922.4,2,   2241.2,2,   8.1130,2,    25.00,    0.119,2,     0.11,2,     0.06,2,  29.2800,2,  21.2766,2,  29.2935,2
49UP20180806_2,   P13,    78,  1,     34,     843,2,20180905,0850,1105,  6.0125, 165.0153, 4988,    101.2,      101,  22.1723,  34.8983,2,    144.7,2,  34.8959,2,   145.00,2,     6.22,3,     7.60,2,     0.09,2,    0.630,3,    1.852,2,    1.050,2,   2068.7,2,   2297.0,2,   7.9241,2,    25.00,    0.049,2,     0.12,2,     0.37,2,  22.1522,2,  24.0978,2,  22.1691,2
49UP20180806_2,   P13,    78,  1,     33,     842,2,20180905,0850,1103,  6.0125, 165.0153, 4988,    150.5,      150,  17.9092,  34.7014,2,    137.2,2,  34.7018,2,   137.62,2,    11.02,3,    11.62,2,     0.02,2,    0.910,3,    2.062,2,    1.123,2,   2103.6,2,   2288.8,2,   7.8300,2,    25.00,    0.022,2,     0.05,2,     0.16,2,  17.8835,2,  25.0720,2,  17.9091,2
49UP20180806_2,   P13,    78,  1,     32,     841,2,20180905,0850,1100,  6.0125, 165.0153, 4988,    205.0,      204,  12.7528,  34.5114,2,     92.1,2,  34.5125,2,    92.43,2,    21.58,3,    22.30,2,     0.01,2,    1.680,3,    1.882,2,    0.983,2,   2186.1,2,   2285.4,2,   7.6379,2,    25.00,    0.014,2,     0.02,2,     0.05,2,  12.7251,2,  26.0690,2,  12.7236,2
49UP20180806_2,   P13,    78,  1,     31,     840,2,20180905,0850,1058,  6.0125, 165.0153, 4988,    253.1,      252,  10.3653,  34.5950,2,     64.0,2,  34.5932,2,    61.73,2,    31.72,3,    30.09,2,     0.00,2,    2.190,3,    1.095,2,    0.541,2,   2228.3,2,   2299.8,2,   7.5418,2,    25.00,    0.013,2,  -999.00,9,  -999.00,9,  10.3353,2,  26.5780,2,  10.3666,2
49UP20180806_2,   P13,    78,  1,     30,     839,2,20180905,0850,1056,  6.0125, 165.0153, 4988,    282.8,      281,   9.9379,  34.6266,2,     52.1,2,  34.6243,2,    50.45,6,    32.88,3,    32.16,6,     0.00,6,    2.290,3,    0.845,2,    0.404,2,   2245.0,2,   2303.7,2,   7.5132,2,    25.00,    0.004,2,  -999.00,9,  -999.00,9,   9.9052,2,  26.6765,2,   9.9453,2
49UP20180806_2,   P13,    78,  1,     29,     838,2,20180905,0850,1054,  6.0125, 165.0153, 4988,    325.7,      324,   9.4571,  34.6363,2,     43.6,2,  34.6344,6,    45.86,2,    34.53,3,    33.63,2,     0.00,2,    2.390,3, -999.000,9, -999.000,9,   2249.8,2,   2306.2,2,   7.4944,2,    25.00, -999.000,9,  -999.00,9,  -999.00,9,   9.4205,2,  26.7650,2,   9.4530,2
49UP20180806_2,   P13,    78,  1,     28,     837,2,20180905,0850,1051,  6.0125, 165.0153, 4988,    375.2,      373,   9.0226,  34.6280,2,     62.0,2,  34.6268,2,    61.17,2,    34.98,3,    33.31,2,     0.00,2,    2.350,3,    0.600,2,    0.296,2,   2247.2,2,   2307.9,2,   7.5144,2,    25.00,    0.000,2,  -999.00,9,  -999.00,9,   8.9816,2,  26.8298,2,   9.0242,2
49UP20180806_2,   P13,    78,  1,     27,     661,2,20180905,0850,1048,  6.0125, 165.0153, 4988,    430.7,      428,   8.6260,  34.6128,2,     49.1,2,  34.6111,2,    48.94,2,    38.58,3,    35.17,2,     0.00,2,    2.490,3, -999.000,9, -999.000,9,   2261.0,2,   2311.5,2,   7.4857,2,    25.00, -999.000,9,  -999.00,9,  -999.00,9,   8.5800,2,  26.8813,2,   8.6258,2
49UP20180806_2,   P13,    78,  1,     26,     835,2,20180905,0850,1046,  6.0125, 165.0153, 4988,    475.8,      473,   8.2404,  34.5928,2,     49.2,2,  34.5917,2,    49.45,2,    41.70,3,    35.75,2,     0.00,2,    2.540,3,    0.327,2,    0.155,2,   2261.1,2,   2312.9,2,   7.4793,2,    25.00,    0.001,2,  -999.00,9,  -999.00,9,   8.1908,2,  26.9253,2,   8.2395,2
49UP20180806_2,   P13,    78,  1,     25,     834,2,20180905,0850,1043,  6.0125, 165.0153, 4988,    575.6,      572,   7.5162,  34.5715,2,     42.1,2,  34.5709,2,    42.21,2,    49.02,3,    37.90,2,     0.00,2,    2.720,3,    0.153,2,    0.069,2,   2275.9,2,   2319.7,2,   7.4553,2,    25.00,    0.000,2,  -999.00,9,  -999.00,9,   7.4590,2,  27.0165,2,   7.5150,2
49UP20180806_2,   P13,    78,  1,     23,     832,2,20180905,0850,1040,  6.0125, 165.0153, 4988,    672.4,      668,   6.5957,  34.5495,2,     40.2,2,  34.5494,2,    40.37,2,    59.87,3,    39.82,2,     0.00,2,    2.860,3,    0.057,2,    0.026,2,   2292.3,2,   2329.4,2,   7.4377,2,    25.00,   -0.000,2,  -999.00,9,  -999.00,9,   6.5330,2,  27.1273,2,   6.5958,2
49UP20180806_2,   P13,    78,  1,     22,     831,2,20180905,0850,1038,  6.0125, 165.0153, 4988,    769.4,      764,   5.9290,  34.5432,2,     46.2,2,  34.5427,2,    47.02,2,    68.42,3,    40.57,2,     0.00,2,    2.910,3,    0.040,2,    0.020,2,   2299.3,2,   2337.0,2,   7.4404,6,    25.00,    0.003,2,  -999.00,9,  -999.00,9,   5.8607,2,  27.2093,2,   5.9285,2
49UP20180806_2,   P13,    78,  1,     21,     830,2,20180905,0850,1035,  6.0125, 165.0153, 4988,    870.2,      864,   5.1562,  34.5461,2,     57.1,2,  34.5468,2,    57.47,2,    80.35,3,    40.83,2,     0.00,2,    2.920,3,    0.020,2,    0.009,2,   2309.9,6,   2350.8,6,   7.4512,2,    25.00,    0.000,2,  -999.00,9,  -999.00,9,   5.0834,2,  27.3057,2,   5.1571,2
49UP20180806_2,   P13,    78,  1,     20,     829,2,20180905,0850,1032,  6.0125, 165.0153, 4988,    980.2,      972,   4.5638,  34.5553,2,     65.1,2,  34.5557,2,    65.43,6,    90.65,3,    40.76,6,     0.00,6,    2.910,3,    0.010,2,    0.003,2,   2318.9,2,   2362.5,2,   7.4604,2,    25.00,    0.000,2,  -999.00,9,  -999.00,9,   4.4855,2,  27.3806,2,   4.5629,2
49UP20180806_2,   P13,    78,  1,     19,     828,2,20180905,0850,1028,  6.0125, 165.0153, 4988,   1140.0,     1131,   3.9365,  34.5701,2,     73.8,2,  34.5696,2,    74.46,2,   102.78,3,    40.38,2,     0.00,2,    2.880,3,    0.004,2,    0.000,2,   2327.5,2,   2376.9,2,   7.4733,2,    25.00,    0.000,2,  -999.00,9,  -999.00,9,   3.8495,2,  27.4597,2,   3.9363,2
49UP20180806_2,   P13,    78,  1,     18,     660,2,20180905,0850,1022,  6.0125, 165.0153, 4988,   1342.2,     1330,   3.3238,  34.5895,2,     81.7,2,  34.5893,6,    82.04,2,   116.82,3,    40.44,2,     0.00,2,    2.870,3,   -0.000,2,    0.001,2,   2337.6,2,   2391.6,2,   7.4830,2,    25.00,    0.000,2,  -999.00,9,  -999.00,9,   3.2256,2,  27.5364,2,   3.3237,2
49UP20180806_2,   P13,    78,  1,     17,     826,2,20180905,0850,1018,  6.0125, 165.0153, 4988,   1542.0,     1528,   2.8936,  34.6041,2,     92.2,2,  34.6041,2,    92.00,2,   125.69,3,    39.64,2,     0.00,2,    2.810,3,    0.000,2,    0.000,2,   2340.8,2,   2399.9,2,   7.5003,2,    25.00,    0.002,2,  -999.00,9,  -999.00,9,   2.7835,2,  27.5886,2,   2.8936,2
49UP20180806_2,   P13,    78,  1,     16,     825,2,20180905,0850,1011,  6.0125, 165.0153, 4988,   1749.1,     1732,   2.4935,  34.6217,2,    100.5,2,  34.6236,4,   100.81,2,   134.57,3,    39.12,2,     0.00,2,    2.760,3,   -0.000,2,    0.000,2,   2347.1,2,   2410.9,2,   7.5140,2,    25.00,    0.000,2,  -999.00,9,  -999.00,9,   2.3711,2,  27.6383,2,   2.4935,2
49UP20180806_2,   P13,    78,  1,     15,     824,2,20180905,0850,1006,  6.0125, 165.0153, 4988,   1949.6,     1930,   2.2495,  34.6346,2,    106.7,2,  34.6345,2,   106.69,2,   140.21,3,    38.88,2,     0.00,2,    2.740,3,    0.000,2,    0.000,2,   2346.5,2,   2416.1,2,   7.5226,2,    25.00,    0.002,2,  -999.00,9,  -999.00,9,   2.1135,2,  27.6698,2,   2.2497,2
49UP20180806_2,   P13,    78,  1,     14,     823,2,20180905,0850,0959,  6.0125, 165.0153, 4988,   2152.1,     2129,   2.0413,  34.6465,2,    113.4,2,  34.6466,2,   113.72,2,   144.46,3,    38.43,2,     0.00,2,    2.700,3,    0.000,2,   -0.000,2,   2349.0,2,   2422.1,2,   7.5332,2,    25.00,    0.000,2,  -999.00,9,  -999.00,9,   1.8912,2,  27.6970,2,   2.0413,2
49UP20180806_2,   P13,    78,  1,     13,     822,2,20180905,0850,0954,  6.0125, 165.0153, 4988,   2355.8,     2330,   1.9206,  34.6527,2,    116.2,2,  34.6524,2,   116.64,2,   148.06,3,    38.30,2,     0.00,2,    2.680,3,    0.000,2,    0.003,2,   2349.2,2,   2424.1,2,   7.5385,6,    25.00,    0.003,2,  -999.00,9,  -999.00,9,   1.7548,2,  27.7125,2,   1.9206,2
49UP20180806_2,   P13,    78,  1,     12,     821,2,20180905,0850,0949,  6.0125, 165.0153, 4988,   2559.7,     2530,   1.8212,  34.6604,2,    122.8,2,  34.6609,2,   123.43,2,   148.08,3,    37.89,2,     0.00,2,    2.640,3,    0.000,2,    0.000,2,   2345.8,6,   2425.1,6,   7.5496,2,    25.00,    0.005,2,  -999.00,9,  -999.00,9,   1.6388,2,  27.7274,2,   1.8211,2
49UP20180806_2,   P13,    78,  1,     11,     820,2,20180905,0850,0944,  6.0125, 165.0153, 4988,   2770.6,     2737,   1.7475,  34.6649,2,    128.2,2,  34.6640,2,   127.98,6,   147.64,3,    37.55,6,     0.00,6,    2.610,3,    0.000,2,    0.001,2,   2349.9,2,   2425.8,2,   7.5556,2,    25.00,    0.005,2,  -999.00,9,  -999.00,9,   1.5471,2,  27.7378,2,   1.7476,2
49UP20180806_2,   P13,    78,  1,     10,     819,2,20180905,0850,0938,  6.0125, 165.0153, 4988,   2973.9,     2937,   1.6851,  34.6682,2,    133.7,2,  34.6681,2,   133.88,2,   146.38,3,    37.18,2,     0.00,2,    2.570,3, -999.000,9, -999.000,9,   2338.0,2,   2424.3,2,   7.5644,2,    25.00, -999.000,9,  -999.00,9,  -999.00,9,   1.4668,2,  27.7463,2,   1.6850,2
49UP20180806_2,   P13,    78,  1,      9,     818,2,20180905,0850,0932,  6.0125, 165.0153, 4988,   3213.6,     3172,   1.6131,  34.6732,2,    139.6,2,  34.6732,6,   139.51,2,   146.27,3,    36.78,2,     0.00,2,    2.540,3, -999.000,9, -999.000,9,   2339.2,2,   2423.7,2,   7.5721,2,    25.00, -999.000,9,  -999.00,9,  -999.00,9,   1.3730,2,  27.7571,2,   1.6130,2
49UP20180806_2,   P13,    78,  1,      8,     817,2,20180905,0850,0927,  6.0125, 165.0153, 4988,   3467.3,     3420,   1.5486,  34.6785,2,    145.7,2,  34.6783,2,   145.80,2,   145.61,3,    36.27,2,     0.00,2,    2.510,3,    0.003,2,    0.000,2,   2339.3,2,   2423.1,2,   7.5789,2,    25.00,    0.005,2,  -999.00,9,  -999.00,9,   1.2846,2,  27.7676,2,   1.5484,2
49UP20180806_2,   P13,    78,  1,      7,     816,2,20180905,0850,0920,  6.0125, 165.0153, 4988,   3724.8,     3672,   1.4891,  34.6838,2,    153.2,2,  34.6826,2,   152.98,2,   143.04,3,    35.81,2,     0.00,2,    2.470,3,    0.002,2,   -0.000,2,   2329.6,2,   2420.6,2,   7.5904,2,    25.00,    0.010,2,  -999.00,9,  -999.00,9,   1.2000,2,  27.7777,2,   1.4891,2
49UP20180806_2,   P13,    78,  1,      6,     815,2,20180905,0850,0915,  6.0125, 165.0153, 4988,   3975.8,     3917,   1.4472,  34.6884,2,    161.3,2,  34.6880,6,   161.69,2,   138.97,3,    35.22,2,     0.00,2,    2.430,3,    0.004,2,    0.000,2,   2326.3,2,   2415.2,2,   7.6024,2,    25.00,    0.000,3,  -999.00,9,  -999.00,9,   1.1324,2,  27.7861,2,   1.4469,2
49UP20180806_2,   P13,    78,  1,      5,     814,2,20180905,0850,0909,  6.0125, 165.0153, 4988,   4229.9,     4165,   1.4289,  34.6917,2,    166.7,2,  34.6909,2,   167.12,2,   136.08,3,    34.85,2,     0.00,2,    2.390,3,   -0.000,2,    0.000,2,   2311.3,2,   2412.0,2,   7.6069,2,    25.00,    0.004,2,  -999.00,9,  -999.00,9,   1.0867,2,  27.7918,2,   1.4289,2
49UP20180806_2,   P13,    78,  1,      4,     813,2,20180905,0850,0904,  6.0125, 165.0153, 4988,   4490.3,     4419,   1.4156,  34.6946,2,    172.1,2,  34.6943,2,   172.53,2,   133.23,3,    34.38,2,     0.00,2,    2.360,3,    0.004,2,    0.000,2,   2307.4,2,   2407.2,2,   7.6112,2,    25.00,   -0.000,2,  -999.00,9,  -999.00,9,   1.0443,2,  27.7969,2,   1.4156,2
49UP20180806_2,   P13,    78,  1,      3,     812,2,20180905,0850,0858,  6.0125, 165.0153, 4988,   4746.9,     4669,   1.4093,  34.6969,2,    176.5,2,  34.6962,6,   176.83,2,   131.64,3,    34.06,2,     0.00,2,    2.350,3,    0.004,2,    0.004,2,   2306.8,2,   2403.5,2,   7.6130,2,    25.00,    0.000,2,  -999.00,9,  -999.00,9,   1.0084,2,  27.8012,2,   1.4092,2
49UP20180806_2,   P13,    78,  1,      2,     811,2,20180905,0850,0853,  6.0125, 165.0153, 4988,   5000.6,     4915,   1.3848,  34.7003,2,    182.7,2,  34.6997,2,   183.02,6,   129.31,3,    33.57,6,     0.00,6,    2.310,3,    0.010,2,    0.001,2,   2295.7,2,   2398.4,2,   7.6176,2,    25.00,    0.005,2,  -999.00,9,  -999.00,9,   0.9543,2,  27.8076,2,   1.3848,2
49UP20180806_2,   P13,    78,  1,      1,     810,2,20180905,0850,0851,  6.0125, 165.0153, 4988,   5071.8,     4985,   1.3918,  34.7004,2,    183.0,2,  34.6998,2,   182.45,2,   130.33,3,    33.63,2,     0.00,2,    2.330,3,    0.013,2,    0.002,2,   2297.5,6,   2397.6,6,   7.6179,2,    25.00,    0.000,2,  -999.00,9,  -999.00,9,   0.9524,2,  27.8077,2,   1.3917,2