BOTTLE,20191018JMAGEMD
EXPOCODE,SECT_ID,STNNBR,CASTNO,SAMPNO,BTLNBR,BTLNBR_FLAG_U,DATE,TIME,BTL_TIME,LATITUDE,LONGITUDE,DEPTH,CTDPRS,CTDDEP,CTDTMP,CTDSAL,CTDSAL_FLAG_W,CTDOXY,CTDOXY_FLAG_W,SALNTY,SALNTY_FLAG_W,OXYGEN,OXYGEN_FLAG_W,SILCAT,SILCAT_FLAG_W,NO2+NO3,NO2+NO3_FLAG_W,NITRIT,NITRIT_FLAG_W,PHSPHT,PHSPHT_FLAG_W,CFC-11,CFC-11_FLAG_W,CFC-12,CFC-12_FLAG_W,TCARBN,TCARBN_FLAG_W,ALKALI,ALKALI_FLAG_W,PH_TS,PH_TS_FLAG_W,PH_TS_TMP,CFC113,CFC113_FLAG_W,CHLORA,CHLORA_FLAG_W,PPHYTN,PPHYTN_FLAG_W,THETA,THETA_FLAG_W,SIGTHT,SIGTHT_FLAG_W,SBE35,SBE35_FLAG_W
,,,,,,,,UTC,,,,METER,DBAR,METERS,ITS-90,PSS-78,,UMOL/KG,,PSS78,,UMOL/KG,,UMOL/KG,,UMOL/KG,,UMOL/KG,,UMOL/KG,,PMOL/KG,,PMOL/KG,,UMOL/KG,,UMOL/KG,,,,ITS-90,PMOL/KG,,UG/KG,,UG/KG,,ITS-90,,KG/M3,,ITS-90,
49UP20180806_1,   P13,    61,  1,      0,      -9,0,20180821,0934,1140, 15.9987, 164.9918, 5366,      0.0,        0,  29.5119,  34.2704,2,    195.1,2,  34.2856,2,   195.56,2,     3.69,4,     0.00,2,     0.00,2,    0.090,3, -999.000,9, -999.000,9,   1938.2,2,   2255.6,2,   8.1059,2,    25.00, -999.000,9,     0.04,2,     0.02,2,  29.5113,2,  21.3449,2,-999.0000,9
49UP20180806_1,   P13,    61,  1,     36,     845,2,20180821,0934,1155, 15.9987, 164.9918, 5366,     11.6,       12,  29.5148,  34.2706,2,    194.9,2,  34.2715,2,   194.90,2,     4.11,4,     0.00,2,     0.00,2,    0.080,3,    1.454,2,    0.844,2,   1933.1,2,   2254.6,2,   8.1057,2,    25.00,    0.131,2,     0.04,2,     0.02,2,  29.5119,2,  21.3449,2,  29.5156,2
49UP20180806_1,   P13,    61,  1,     35,     844,2,20180821,0934,1151, 15.9987, 164.9918, 5366,     50.1,       50,  29.0851,  34.6382,2,    200.8,2,  34.6543,4,   202.66,2,     2.58,4,     0.00,2,     0.00,2,    0.050,3,    1.537,2,    0.876,2,   1951.9,2,   2281.0,2,   8.1047,2,    25.00,    0.125,2,     0.07,2,     0.03,2,  29.0730,2,  21.7681,2,  29.0918,2
49UP20180806_1,   P13,    61,  1,     34,     843,2,20180821,0934,1150, 15.9987, 164.9918, 5366,    101.1,      100,  26.4701,  35.0364,2,    209.7,2,  35.0383,2,   209.41,2,     1.22,3,     0.00,2,     0.00,2,    0.040,3,    1.702,2,    0.953,2,   1978.1,2,   2306.2,2,   8.0919,2,    25.00,    0.148,2,     0.18,2,     0.10,2,  26.4473,2,  22.9206,2,  26.4688,2
49UP20180806_1,   P13,    61,  1,     33,     842,2,20180821,0934,1148, 15.9987, 164.9918, 5366,    151.4,      150,  23.3290,  35.1515,2,    189.8,2,  35.1521,2,   189.74,2,     1.66,3,     0.47,2,     0.13,2,    0.130,3,    1.878,6,    1.076,6,   2030.1,2,   2315.7,2,   8.0177,2,    25.00,    0.133,6,     0.05,2,     0.17,2,  23.2977,2,  23.9623,2,  23.3104,2
49UP20180806_1,   P13,    61,  1,     32,     841,2,20180821,0934,1146, 15.9987, 164.9918, 5366,    204.2,      203,  19.2782,  34.9506,2,    189.9,2,  34.9464,2,   190.11,2,     3.23,3,     2.98,2,     0.01,2,    0.270,3,    2.236,2,    1.257,2,   2065.6,2,   2299.1,2,   7.9445,2,    25.00,    0.043,2,     0.01,2,     0.04,2,  19.2414,2,  24.9215,2,  19.2785,2
49UP20180806_1,   P13,    61,  1,     31,     840,2,20180821,0934,1144, 15.9987, 164.9918, 5366,    250.9,      249,  16.1186,  34.6443,2,    191.6,2,  34.6418,2,   191.08,6,     6.22,3,     6.82,6,     0.01,6,    0.520,3,    2.532,2,    1.397,2,   2078.7,2,   2281.6,2,   7.8794,2,    25.00,    0.031,2,  -999.00,9,  -999.00,9,  16.0788,2,  25.4560,2,  16.1160,2
49UP20180806_1,   P13,    61,  1,     30,     839,2,20180821,0934,1141, 15.9987, 164.9918, 5366,    332.5,      330,  11.5591,  34.2924,2,    136.4,2,  34.2908,2,   135.11,2,    20.78,3,    19.24,2,     0.00,2,    1.470,3,    2.581,2,    1.330,2,   2157.1,2,   2271.3,2,   7.6698,2,    25.00,    0.032,2,  -999.00,9,  -999.00,9,  11.5168,2,  26.1301,2,  11.5617,2
49UP20180806_1,   P13,    61,  1,     29,     838,2,20180821,0934,1139, 15.9987, 164.9918, 5366,    383.3,      381,  10.0750,  34.2909,2,    100.8,2,  34.2890,2,    99.89,2,    30.41,3,    25.23,2,     0.00,2,    1.920,3, -999.000,9, -999.000,9,   2199.3,2,   2279.8,2,   7.5704,2,    25.00, -999.000,9,  -999.00,9,  -999.00,9,  10.0303,2,  26.3931,2,  10.0739,2
49UP20180806_1,   P13,    61,  1,     28,     837,2,20180821,0934,1137, 15.9987, 164.9918, 5366,    432.1,      429,   8.1212,  34.1757,2,    104.7,2,  34.1767,2,   103.59,2,    43.95,3,    28.86,2,     0.00,2,    2.100,3,    2.020,2,    0.967,2,   2223.9,2,   2286.6,2,   7.5334,2,    25.00,    0.031,2,  -999.00,9,  -999.00,9,   8.0769,2,  26.6150,2,   8.1202,2
49UP20180806_1,   P13,    61,  1,     27,     661,2,20180821,0934,1135, 15.9987, 164.9918, 5366,    485.5,      482,   7.6089,  34.2971,2,     64.6,2,  34.2918,2,    64.55,2,    52.04,3,    33.46,2,     0.00,2,    2.460,3, -999.000,9, -999.000,9,   2261.6,2,   2300.6,2,   7.4623,2,    25.00, -999.000,9,  -999.00,9,  -999.00,9,   7.5608,2,  26.7861,2,   7.6094,2
49UP20180806_1,   P13,    61,  1,     26,     835,2,20180821,0934,1133, 15.9987, 164.9918, 5366,    534.4,      531,   6.7783,  34.3221,2,     57.1,2,  34.3220,2,    56.41,2,    62.04,3,    35.97,2,     0.00,2,    2.620,3,    0.653,2,    0.290,2,   2270.3,2,   2313.0,2,   7.4397,2,    25.00,    0.015,2,  -999.00,9,  -999.00,9,   6.7285,2,  26.9218,2,   6.7785,2
49UP20180806_1,   P13,    61,  1,     25,     834,2,20180821,0934,1131, 15.9987, 164.9918, 5366,    634.3,      630,   5.9001,  34.3894,2,     58.6,2,  34.3887,2,    58.33,2,    74.57,3,    37.66,2,     0.00,2,    2.720,3,    0.309,2,    0.133,2,   2289.9,2,   2329.8,2,   7.4449,2,    25.00,    0.009,2,  -999.00,9,  -999.00,9,   5.8447,2,  27.0897,2,   5.8990,2
49UP20180806_1,   P13,    61,  1,     23,     832,2,20180821,0934,1128, 15.9987, 164.9918, 5366,    736.0,      730,   5.3744,  34.4530,2,     62.5,2,  34.4523,2,    62.21,2,    82.27,3,    38.46,2,     0.00,2,    2.760,3,    0.154,2,    0.061,2,   2299.3,2,   2343.0,2,   7.4554,2,    25.00,    0.004,2,  -999.00,9,  -999.00,9,   5.3125,2,  27.2050,2,   5.3746,2
49UP20180806_1,   P13,    61,  1,     22,     831,2,20180821,0934,1125, 15.9987, 164.9918, 5366,    837.8,      831,   4.9253,  34.4924,2,     65.5,2,  34.4926,6,    65.67,2,    89.39,3,    39.13,2,     0.00,2,    2.800,3,    0.079,2,    0.032,2,   2305.3,2,   2355.1,2,   7.4586,2,    25.00,    0.004,2,  -999.00,9,  -999.00,9,   4.8569,2,  27.2892,2,   4.9255,2
49UP20180806_1,   P13,    61,  1,     21,     830,2,20180821,0934,1122, 15.9987, 164.9918, 5366,    936.8,      929,   4.5688,  34.5159,2,     67.1,2,  34.5161,2,    66.89,6,    95.41,3,    39.63,6,     0.00,6,    2.830,3,    0.048,2,    0.018,2,   2313.7,6,   2360.6,6,   7.4579,2,    25.00,    0.008,2,  -999.00,9,  -999.00,9,   4.4943,2,  27.3484,2,   4.5685,2
49UP20180806_1,   P13,    61,  1,     20,     829,3,20180821,0934,1118, 15.9987, 164.9918, 5366,   1080.4,     1071,   4.0336,  34.5376,2,     71.3,2,  34.5380,2,    71.28,2,   106.26,3,    39.88,2,     0.00,2,    2.840,3,    0.022,2,    0.008,2,   2327.8,2,   2374.2,2,   7.4629,6,    25.00,    0.001,2,  -999.00,9,  -999.00,9,   3.9508,2,  27.4234,2,   4.0337,2
49UP20180806_1,   P13,    61,  1,     19,     828,2,20180821,0934,1114, 15.9987, 164.9918, 5366,   1281.3,     1270,   3.4060,  34.5610,2,     77.1,2,  34.5606,6,    77.11,2,   120.89,3,    40.07,2,     0.00,2,    2.860,3,    0.011,2,    0.004,2,   2338.6,2,   2387.1,2,   7.4690,2,    25.00,    0.000,2,  -999.00,9,  -999.00,9,   3.3121,2,  27.5054,2,   3.4060,2
49UP20180806_1,   P13,    61,  1,     18,     660,2,20180821,0934,1109, 15.9987, 164.9918, 5366,   1483.2,     1469,   2.9021,  34.5816,2,     85.4,2,  34.5820,2,    85.32,2,   132.03,3,    39.86,2,     0.00,2,    2.840,3,    0.004,6,    0.000,6,   2347.5,2,   2398.3,2,   7.4784,2,    25.00,    0.000,2,  -999.00,9,  -999.00,9,   2.7967,2,  27.5694,2,   2.9021,2
49UP20180806_1,   P13,    61,  1,     17,     826,2,20180821,0934,1103, 15.9987, 164.9918, 5366,   1685.6,     1669,   2.6010,  34.6033,2,     89.0,2,  34.6037,6,    88.70,2,   137.34,3,    39.79,2,     0.00,2,    2.820,3,    0.003,2,    0.000,2,   2351.0,2,   2405.1,2,   7.4855,2,    25.00,    0.000,2,  -999.00,9,  -999.00,9,   2.4825,2,  27.6142,2,   2.6012,2
49UP20180806_1,   P13,    61,  1,     16,     825,2,20180821,0934,1059, 15.9987, 164.9918, 5366,   1890.0,     1870,   2.2909,  34.6163,2,     99.2,2,  34.6168,2,    99.32,2,   143.12,3,    39.17,2,     0.00,2,    2.760,3,    0.001,2,   -0.000,2,   2346.5,2,   2411.9,2,   7.5020,2,    25.00,    0.005,2,  -999.00,9,  -999.00,9,   2.1595,2,  27.6515,2,   2.2905,2
49UP20180806_1,   P13,    61,  1,     15,     824,2,20180821,0934,1054, 15.9987, 164.9918, 5366,   2093.8,     2071,   2.0591,  34.6312,2,    106.6,2,  34.6319,2,   106.29,2,   147.12,3,    38.87,2,     0.00,2,    2.720,3,    0.000,2,    0.001,2,   2351.6,2,   2417.1,2,   7.5133,2,    25.00,    0.001,2,  -999.00,9,  -999.00,9,   1.9138,2,  27.6830,2,   2.0592,2
49UP20180806_1,   P13,    61,  1,     14,     823,2,20180821,0934,1048, 15.9987, 164.9918, 5366,   2299.1,     2273,   1.8857,  34.6461,2,    114.8,2,  34.6467,2,   114.59,2,   149.31,3,    38.37,2,     0.00,2,    2.670,3,    0.000,2,    0.000,2,   2347.3,2,   2421.0,2,   7.5301,2,    25.00,    0.004,2,  -999.00,9,  -999.00,9,   1.7254,2,  27.7094,2,   1.8856,2
49UP20180806_1,   P13,    61,  1,     13,     822,2,20180821,0934,1043, 15.9987, 164.9918, 5366,   2499.5,     2470,   1.7751,  34.6552,2,    120.6,2,  34.6559,2,   120.39,2,   151.02,3,    38.03,2,     0.00,2,    2.640,3,    0.001,2,    0.001,2,   2345.2,2,   2423.6,2,   7.5358,2,    25.00,    0.000,2,  -999.00,9,  -999.00,9,   1.5991,2,  27.7262,2,   1.7751,2
49UP20180806_1,   P13,    61,  1,     12,     821,2,20180821,0934,1038, 15.9987, 164.9918, 5366,   2704.3,     2671,   1.7098,  34.6604,2,    124.8,2,  34.6614,2,   124.83,6,   151.79,3,    37.75,6,     0.00,6,    2.620,3,    0.000,2,    0.000,2,   2345.8,2,   2424.4,2,   7.5445,2,    25.00,    0.000,2,  -999.00,9,  -999.00,9,   1.5163,2,  27.7364,2,   1.7098,2
49UP20180806_1,   P13,    61,  1,     11,     820,2,20180821,0934,1034, 15.9987, 164.9918, 5366,   2907.6,     2871,   1.6573,  34.6645,2,    128.9,2,  34.6629,2,   128.31,2,   151.84,3,    37.51,2,     0.00,2,    2.600,3,    0.000,2,    0.004,2,   2342.5,2,   2422.6,2,   7.5509,2,    25.00,   -0.000,2,  -999.00,9,  -999.00,9,   1.4459,2,  27.7449,2,   1.6573,2
49UP20180806_1,   P13,    61,  1,     10,     819,2,20180821,0934,1029, 15.9987, 164.9918, 5366,   3122.9,     3082,   1.6049,  34.6693,2,    133.5,2,  34.6691,2,   133.30,2,   152.30,3,    37.22,2,     0.00,2,    2.570,3, -999.000,9, -999.000,9,   2339.6,6,   2424.1,6,   7.5560,2,    25.00, -999.000,9,  -999.00,9,  -999.00,9,   1.3740,2,  27.7539,2,   1.6052,2
49UP20180806_1,   P13,    61,  1,      9,     818,2,20180821,0934,1023, 15.9987, 164.9918, 5366,   3377.0,     3330,   1.5542,  34.6743,2,    139.1,2,  34.6732,2,   138.46,2,   151.26,3,    36.84,2,     0.00,2,    2.550,3, -999.000,9, -999.000,9,   2339.6,2,   2424.3,2,   7.5661,6,    25.00, -999.000,9,  -999.00,9,  -999.00,9,   1.2992,2,  27.7632,2,   1.5542,2
49UP20180806_1,   P13,    61,  1,      8,     817,2,20180821,0934,1017, 15.9987, 164.9918, 5366,   3632.4,     3580,   1.5105,  34.6791,2,    145.3,2,  34.6786,2,   145.23,2,   149.54,3,    36.44,2,     0.00,2,    2.510,3, -999.000,9, -999.000,9,   2339.4,2,   2421.7,2,   7.5753,2,    25.00, -999.000,9,  -999.00,9,  -999.00,9,   1.2305,2,  27.7718,2,   1.5106,2
49UP20180806_1,   P13,    61,  1,      7,     816,2,20180821,0934,1011, 15.9987, 164.9918, 5366,   3889.6,     3832,   1.4771,  34.6831,2,    151.5,2,  34.6789,4,   149.05,3,   146.78,3,    36.08,2,     0.00,2,    2.490,3, -999.000,9, -999.000,9,   2328.0,2,   2419.2,2,   7.5786,2,    25.00, -999.000,9,  -999.00,9,  -999.00,9,   1.1707,2,  27.7792,2,   1.4771,2
49UP20180806_1,   P13,    61,  1,      6,     815,2,20180821,0934,1005, 15.9987, 164.9918, 5366,   4144.0,     4080,   1.4603,  34.6863,2,    156.7,2,  34.6853,2,   156.59,2,   144.58,3,    35.59,2,     0.00,2,    2.450,3,    0.000,2,    0.002,2,   2328.7,2,   2416.1,2,   7.5886,2,    25.00,    0.009,2,  -999.00,9,  -999.00,9,   1.1267,2,  27.7848,2,   1.4604,2
49UP20180806_1,   P13,    61,  1,      5,     814,2,20180821,0934,0959, 15.9987, 164.9918, 5366,   4402.1,     4331,   1.4265,  34.6908,2,    164.9,2,  34.6894,2,   163.97,2,   141.46,3,    35.00,2,     0.00,2,    2.410,3, -999.000,9, -999.000,9,   2313.1,2,   2411.4,2,   7.5982,2,    25.00, -999.000,9,  -999.00,9,  -999.00,9,   1.0650,2,  27.7926,2,   1.4265,2
49UP20180806_1,   P13,    61,  1,     24,     833,4,20180821,0934,1000, 15.9987, 164.9918, 5366,   4402.6,     4332,   1.4264,  34.6908,2,    164.9,2,-999.0000,9,  -999.00,9,  -999.00,9,  -999.00,9,  -999.00,9, -999.000,9, -999.000,9, -999.000,9,   -999.0,9,   -999.0,9,-999.0000,9,  -999.00, -999.000,9,  -999.00,9,  -999.00,9,   1.0648,2,  27.7926,2,   1.4264,2
49UP20180806_1,   P13,    61,  1,      4,     813,2,20180821,0934,0953, 15.9987, 164.9918, 5366,   4659.0,     4581,   1.4080,  34.6945,2,    171.7,2,  34.6942,2,   171.74,6,   138.02,3,    34.52,6,     0.00,6,    2.380,3, -999.000,9, -999.000,9,   2301.7,3,   2407.2,2,   7.6047,2,    25.00, -999.000,9,  -999.00,9,  -999.00,9,   1.0174,2,  27.7987,2,   1.4081,2
49UP20180806_1,   P13,    61,  1,      3,     812,2,20180821,0934,0948, 15.9987, 164.9918, 5366,   4915.4,     4831,   1.3883,  34.6974,2,    177.9,2,  34.6962,2,   176.88,2,   134.21,3,    34.15,2,     0.00,2,    2.350,3, -999.000,9, -999.000,9,   2303.1,6,   2401.2,6,   7.6100,2,    25.00, -999.000,9,  -999.00,9,  -999.00,9,   0.9680,2,  27.8043,2,   1.3884,2
49UP20180806_1,   P13,    61,  1,      2,     811,2,20180821,0934,0942, 15.9987, 164.9918, 5366,   5174.9,     5083,   1.3895,  34.6994,2,    181.6,2,  34.6991,2,   181.72,2,   130.72,3,    33.75,2,     0.00,2,    2.310,3,    0.000,2,    0.000,2,   2295.4,2,   2399.4,2,   7.6128,6,    25.00,    0.003,2,  -999.00,9,  -999.00,9,   0.9376,2,  27.8079,2,   1.3896,2
49UP20180806_1,   P13,    61,  1,      1,     810,2,20180821,0934,0935, 15.9987, 164.9918, 5366,   5480.5,     5379,   1.4036,  34.7006,2,    184.6,2,  34.7008,6,   184.74,2,   129.20,3,    33.52,2,     0.00,2,    2.300,3,    0.007,2,    0.001,2,   2293.7,2,   2396.4,2,   7.6163,2,    25.00,    0.005,2,  -999.00,9,  -999.00,9,   0.9130,2,  27.8105,2,   1.4036,2