BOTTLE,20191018JMAGEMD
EXPOCODE,SECT_ID,STNNBR,CASTNO,SAMPNO,BTLNBR,BTLNBR_FLAG_U,DATE,TIME,BTL_TIME,LATITUDE,LONGITUDE,DEPTH,CTDPRS,CTDDEP,CTDTMP,CTDSAL,CTDSAL_FLAG_W,CTDOXY,CTDOXY_FLAG_W,SALNTY,SALNTY_FLAG_W,OXYGEN,OXYGEN_FLAG_W,SILCAT,SILCAT_FLAG_W,NO2+NO3,NO2+NO3_FLAG_W,NITRIT,NITRIT_FLAG_W,PHSPHT,PHSPHT_FLAG_W,CFC-11,CFC-11_FLAG_W,CFC-12,CFC-12_FLAG_W,TCARBN,TCARBN_FLAG_W,ALKALI,ALKALI_FLAG_W,PH_TS,PH_TS_FLAG_W,PH_TS_TMP,CFC113,CFC113_FLAG_W,CHLORA,CHLORA_FLAG_W,PPHYTN,PPHYTN_FLAG_W,THETA,THETA_FLAG_W,SIGTHT,SIGTHT_FLAG_W,SBE35,SBE35_FLAG_W
,,,,,,,,UTC,,,,METER,DBAR,METERS,ITS-90,PSS-78,,UMOL/KG,,PSS78,,UMOL/KG,,UMOL/KG,,UMOL/KG,,UMOL/KG,,UMOL/KG,,PMOL/KG,,PMOL/KG,,UMOL/KG,,UMOL/KG,,,,ITS-90,PMOL/KG,,UG/KG,,UG/KG,,ITS-90,,KG/M3,,ITS-90,
49UP20180806_1,   P13,    40,  1,      0,      -9,0,20180812,1210,1425, 33.9813, 165.0033, 6075,      0.0,        0,  26.1552,  34.5914,2,    207.1,2,  34.5872,2,   207.15,2,     1.94,3,     0.03,2,     0.00,2,    0.030,3, -999.000,9, -999.000,9,   1981.9,2,   2275.4,2,   8.0571,2,    25.00, -999.000,9,     0.07,2,     0.03,2,  26.1546,2,  22.6769,2,-999.0000,9
49UP20180806_1,   P13,    40,  1,     36,     845,2,20180812,1210,1442, 33.9813, 165.0033, 6075,     10.4,       10,  26.1646,  34.5901,2,    206.7,2,  34.5916,2,   207.66,2,     1.95,3,     0.03,2,     0.00,2,    0.010,3,    1.741,2,    1.007,2,   1976.3,2,   2278.0,2,   8.0553,2,    25.00,    0.160,2,     0.08,2,     0.02,2,  26.1623,2,  22.6735,2,  26.1581,2
49UP20180806_1,   P13,    40,  1,     35,     844,2,20180812,1210,1438, 33.9813, 165.0033, 6075,     51.0,       51,  19.3728,  34.4575,2,    248.5,2,  34.4597,2,   248.60,2,     3.62,3,     0.00,2,     0.00,2,    0.030,3,    2.445,2,    1.343,2,   1999.5,2,   2272.6,2,   8.0068,2,    25.00,    0.213,2,     0.12,2,     0.05,2,  19.3637,2,  24.5135,2,  19.3786,2
49UP20180806_1,   P13,    40,  1,     34,     843,2,20180812,1210,1436, 33.9813, 165.0033, 6075,    105.6,      105,  15.8029,  34.6077,2,    226.4,2,  34.6068,2,   226.19,2,     6.54,3,     4.52,2,     0.50,2,    0.330,3,    2.619,2,    1.443,2,   2052.4,2,   2281.0,2,   7.9368,2,    25.00,    0.172,2,     0.27,2,     0.39,2,  15.7864,2,  25.4944,2,  15.8097,2
49UP20180806_1,   P13,    40,  1,     33,     842,2,20180812,1210,1434, 33.9813, 165.0033, 6075,    155.7,      155,  13.9930,  34.4869,2,    223.1,2,  34.4854,2,   222.90,6,     9.95,3,     7.98,6,     0.02,6,    0.540,3,    2.764,2,    1.552,2,   2068.0,2,   2275.1,2,   7.8864,2,    25.00,    0.177,2,     0.01,4,     0.03,4,  13.9706,2,  25.7967,2,  13.9856,2
49UP20180806_1,   P13,    40,  1,     32,     841,2,20180812,1210,1432, 33.9813, 165.0033, 6075,    208.1,      207,  12.9255,  34.4147,2,    219.4,2,  34.4140,2,   219.10,2,    13.11,3,    10.04,2,     0.01,2,    0.680,3,    2.847,2,    1.579,2,   2088.0,2,   2274.5,2,   7.8519,2,    25.00,    0.156,2,     0.00,2,     0.03,2,  12.8972,2,  25.9599,2,  12.9246,2
49UP20180806_1,   P13,    40,  1,     31,     840,2,20180812,1210,1430, 33.9813, 165.0033, 6075,    254.7,      253,  12.0283,  34.3349,2,    220.5,2,  34.3408,2,   219.73,2,    14.99,3,    11.35,2,     0.01,2,    0.770,3,    2.943,2,    1.630,2,   2088.7,2,   2273.8,2,   7.8280,2,    25.00,    0.163,2,  -999.00,9,  -999.00,9,  11.9952,2,  26.0735,2,  12.0402,2
49UP20180806_1,   P13,    40,  1,     30,     839,2,20180812,1210,1428, 33.9813, 165.0033, 6075,    284.5,      282,  11.4014,  34.2655,2,    234.6,2,  34.2652,2,   234.74,2,    14.53,3,    10.79,2,     0.01,2,    0.750,3,    3.117,2,    1.718,2,   2095.0,2,   2270.3,6,   7.8277,2,    25.00,    0.204,2,  -999.00,9,  -999.00,9,  11.3656,2,  26.1370,2,  11.3973,2
49UP20180806_1,   P13,    40,  1,     29,     838,2,20180812,1210,1425, 33.9813, 165.0033, 6075,    375.7,      373,   9.9887,  34.1496,2,    216.1,2,  34.1489,2,   217.85,2,    21.50,3,    15.12,2,     0.01,2,    1.050,3,    3.198,2,    1.739,2,   2121.1,2,   2270.1,2,   7.7663,6,    25.00,    0.185,2,  -999.00,9,  -999.00,9,   9.9452,2,  26.2972,2,   9.9896,2
49UP20180806_1,   P13,    40,  1,     28,     837,2,20180812,1210,1423, 33.9813, 165.0033, 6075,    474.6,      471,   7.5703,  33.9909,2,    178.6,2,  33.9923,2,   178.65,2,    40.13,3,    23.31,2,     0.00,2,    1.650,3,    3.082,2,    1.610,2,   2179.2,2,   2277.6,2,   7.6395,2,    25.00,    0.170,2,  -999.00,9,  -999.00,9,   7.5237,2,  26.5506,2,   7.5729,2
49UP20180806_1,   P13,    40,  1,     27,     661,2,20180812,1210,1420, 33.9813, 165.0033, 6075,    576.2,      571,   5.7365,  33.9773,2,    128.7,2,  33.9760,2,   128.33,2,    64.38,3,    31.38,2,     0.00,2,    2.240,3,    2.582,2,    1.268,2,   2238.9,2,   2291.4,2,   7.5057,2,    25.00,    0.146,2,  -999.00,9,  -999.00,9,   5.6875,2,  26.7833,2,   5.7483,2
49UP20180806_1,   P13,    40,  1,     26,     835,2,20180812,1210,1417, 33.9813, 165.0033, 6075,    677.2,      671,   4.8253,  34.0812,2,     84.0,2,  34.0810,2,    84.56,2,    86.40,3,    36.71,2,     0.00,2,    2.620,3,    1.750,2,    0.828,2,   2286.5,2,   2314.3,2,   7.4240,2,    25.00,    0.088,2,  -999.00,9,  -999.00,9,   4.7718,2,  26.9726,2,   4.8261,2
49UP20180806_1,   P13,    40,  1,     25,     834,2,20180812,1210,1414, 33.9813, 165.0033, 6075,    778.8,      772,   4.2676,  34.1574,2,     59.9,2,  34.1564,2,    60.47,2,   102.01,3,    39.46,2,     0.00,2,    2.810,3,    1.243,2,    0.565,2,   2316.9,2,   2331.5,2,   7.3778,2,    25.00,    0.065,2,  -999.00,9,  -999.00,9,   4.2088,2,  27.0942,2,   4.2684,2
49UP20180806_1,   P13,    40,  1,     24,     833,2,20180812,1210,1411, 33.9813, 165.0033, 6075,    881.0,      873,   3.8991,  34.2391,2,     46.0,2,  34.2382,2,    46.78,2,   114.55,3,    41.05,6,     0.00,6,    2.920,3,    0.729,2,    0.341,2,   2330.5,2,   2345.6,2,   7.3607,2,    25.00,    0.034,2,  -999.00,9,  -999.00,9,   3.8343,2,  27.1977,2,   3.8984,2
49UP20180806_1,   P13,    40,  1,     23,     832,2,20180812,1210,1409, 33.9813, 165.0033, 6075,    981.3,      972,   3.5249,  34.3072,2,     37.8,2,  34.3063,2,    38.31,2,   125.93,3,    42.04,2,     0.00,2,    2.990,3,    0.417,2,    0.187,2,   2354.3,2,   2361.4,2,   7.3530,2,    25.00,    0.020,2,  -999.00,9,  -999.00,9,   3.4547,2,  27.2894,2,   3.5249,2
49UP20180806_1,   P13,    40,  1,     22,     831,2,20180812,1210,1405, 33.9813, 165.0033, 6075,   1145.6,     1134,   3.0907,  34.3870,2,     35.9,2,  34.3860,6,    36.26,2,   138.49,3,    42.59,2,     0.00,2,    3.030,3,    0.212,2,    0.082,2,   2369.5,2,   2376.2,2,   7.3543,2,    25.00,    0.008,2,  -999.00,9,  -999.00,9,   3.0110,2,  27.3947,2,   3.0909,2
49UP20180806_1,   P13,    40,  1,     21,     830,2,20180812,1210,1400, 33.9813, 165.0033, 6075,   1345.6,     1332,   2.6501,  34.4549,2,     34.6,2,  34.4534,2,    34.71,2,   151.90,3,    43.20,2,     0.00,2,    3.060,3,    0.098,2,    0.042,2,   2374.3,2,   2390.5,2,   7.3565,2,    25.00,    0.009,2,  -999.00,9,  -999.00,9,   2.5589,2,  27.4890,2,   2.6501,2
49UP20180806_1,   P13,    40,  1,     20,     829,2,20180812,1210,1355, 33.9813, 165.0033, 6075,   1548.5,     1532,   2.4071,  34.5138,2,     41.6,2,  34.5127,2,    41.53,2,   158.56,3,    43.11,2,     0.00,2,    3.030,3,    0.022,3,    0.008,2,   2386.6,2,   2400.5,2,   7.3743,2,    25.00,    0.002,2,  -999.00,9,  -999.00,9,   2.3024,2,  27.5577,2,   2.4068,2
49UP20180806_1,   P13,    40,  1,     19,     828,2,20180812,1210,1350, 33.9813, 165.0033, 6075,   1753.7,     1734,   2.1370,  34.5521,2,     54.1,2,  34.5498,4,    54.17,2,   164.16,3,    42.26,2,     0.00,2,    2.970,3,    0.019,2,    0.010,2,   2377.1,2,   2406.3,2,   7.3952,2,    25.00,    0.007,2,  -999.00,9,  -999.00,9,   2.0191,2,  27.6113,2,   2.1370,2
49UP20180806_1,   P13,    40,  1,     18,     827,2,20180812,1210,1345, 33.9813, 165.0033, 6075,   1953.3,     1930,   1.9639,  34.5847,2,     67.7,2,  34.5841,2,    68.16,2,   167.04,3,    41.49,2,     0.00,2,    2.910,3,    0.005,2,    0.005,2,   2377.2,2,   2411.9,2,   7.4254,2,    25.00,    0.003,2,  -999.00,9,  -999.00,9,   1.8321,2,  27.6520,2,   1.9639,2
49UP20180806_1,   P13,    40,  1,     17,     826,2,20180812,1210,1340, 33.9813, 165.0033, 6075,   2157.6,     2131,   1.8285,  34.6107,2,     82.5,2,  34.6051,4,    82.63,2,   165.89,3,    40.55,2,     0.00,2,    2.830,3,    0.002,2,    0.008,2,   2372.7,2,   2416.4,2,   7.4554,2,    25.00,    0.000,2,  -999.00,9,  -999.00,9,   1.6816,2,  27.6843,2,   1.8286,2
49UP20180806_1,   P13,    40,  1,     16,     825,2,20180812,1210,1335, 33.9813, 165.0033, 6075,   2362.5,     2333,   1.7214,  34.6290,2,     96.0,2,  34.6291,2,    96.38,2,   164.86,3,    39.70,2,     0.00,2,    2.780,3,    0.000,2,    0.002,2,   2367.0,2,   2419.6,2,   7.4803,2,    25.00,    0.000,2,  -999.00,9,  -999.00,9,   1.5585,2,  27.7082,2,   1.7215,2
49UP20180806_1,   P13,    40,  1,     15,     824,2,20180812,1210,1330, 33.9813, 165.0033, 6075,   2565.7,     2532,   1.6464,  34.6417,2,    106.9,2,  34.6392,4,   106.38,6,   163.36,3,    39.01,6,     0.00,6,    2.710,3,    0.000,2,    0.000,2,   2359.9,2,   2419.1,2,   7.5003,2,    25.00,    0.000,2,  -999.00,9,  -999.00,9,   1.4669,2,  27.7250,2,   1.6464,2
49UP20180806_1,   P13,    40,  1,     14,     823,2,20180812,1210,1325, 33.9813, 165.0033, 6075,   2769.6,     2732,   1.5890,  34.6529,2,    117.4,2,  34.6529,2,   117.38,2,   161.78,3,    38.37,2,     0.00,2,    2.660,3,    0.000,2,    0.000,2,   2345.6,6,   2419.8,6,   7.5215,2,    25.00,    0.000,2,  -999.00,9,  -999.00,9,   1.3920,2,  27.7394,2,   1.5890,2
49UP20180806_1,   P13,    40,  1,     13,     822,2,20180812,1210,1320, 33.9813, 165.0033, 6075,   2971.6,     2930,   1.5467,  34.6608,2,    126.0,2,  34.6614,2,   126.92,2,   158.95,3,    37.83,2,     0.00,2,    2.610,3, -999.000,9, -999.000,9,   2341.1,2,   2421.4,2,   7.5359,6,    25.00, -999.000,9,  -999.00,9,  -999.00,9,   1.3316,2,  27.7501,2,   1.5468,2
49UP20180806_1,   P13,    40,  1,     12,     821,2,20180812,1210,1314, 33.9813, 165.0033, 6075,   3216.6,     3169,   1.5133,  34.6675,2,    133.1,2,  34.6680,6,   133.32,2,   156.96,3,    37.26,2,     0.00,2,    2.570,3,    0.000,2,    0.000,2,   2344.8,2,   2420.2,2,   7.5506,2,    25.00,    0.000,2,  -999.00,9,  -999.00,9,   1.2753,2,  27.7594,2,   1.5133,2
49UP20180806_1,   P13,    40,  1,     11,     820,2,20180812,1210,1309, 33.9813, 165.0033, 6075,   3476.5,     3424,   1.4820,  34.6740,2,    139.4,2,  34.6702,4,   138.17,3,   155.83,3,    37.01,2,     0.00,2,    2.550,3, -999.000,9, -999.000,9,   2334.1,2,   2419.6,2,   7.5595,2,    25.00, -999.000,9,  -999.00,9,  -999.00,9,   1.2188,2,  27.7685,2,   1.4821,2
49UP20180806_1,   P13,    40,  1,     10,     819,2,20180812,1210,1303, 33.9813, 165.0033, 6075,   3727.6,     3669,   1.4733,  34.6780,2,    145.3,2,  34.6774,2,   145.41,2,   153.26,3,    36.46,2,     0.00,2,    2.510,3, -999.000,9, -999.000,9,   2328.3,2,   2419.5,2,   7.5713,2,    25.00, -999.000,9,  -999.00,9,  -999.00,9,   1.1843,2,  27.7741,2,   1.4731,2
49UP20180806_1,   P13,    40,  1,      9,     818,2,20180812,1210,1257, 33.9813, 165.0033, 6075,   3985.7,     3920,   1.4683,  34.6817,2,    150.0,2,  34.6782,4,   148.47,3,   150.87,3,    36.21,2,     0.00,2,    2.490,3,    0.002,2,    0.001,2,   2330.3,2,   2416.0,2,   7.5761,2,    25.00,    0.000,2,  -999.00,9,  -999.00,9,   1.1519,2,  27.7793,2,   1.4683,2
49UP20180806_1,   P13,    40,  1,      8,     817,2,20180812,1210,1251, 33.9813, 165.0033, 6075,   4245.1,     4173,   1.4678,  34.6845,2,    153.2,2,  34.6837,2,   153.07,2,   150.81,3,    35.90,2,     0.00,2,    2.460,3,    0.002,2,    0.000,2,   2322.7,2,   2417.5,2,   7.5833,2,    25.00,    0.000,2,  -999.00,9,  -999.00,9,   1.1228,2,  27.7835,2,   1.4678,2
49UP20180806_1,   P13,    40,  1,      7,     816,2,20180812,1210,1246, 33.9813, 165.0033, 6075,   4498.6,     4420,   1.4725,  34.6870,2,    157.5,2,  34.6825,4,   155.10,3,   148.47,3,    35.80,2,     0.00,2,    2.450,3,    0.002,2,    0.006,2,   2322.7,2,   2417.4,2,   7.5865,2,    25.00,    0.000,2,  -999.00,9,  -999.00,9,   1.0985,2,  27.7872,2,   1.4725,2
49UP20180806_1,   P13,    40,  1,      6,     815,2,20180812,1210,1240, 33.9813, 165.0033, 6075,   4754.3,     4668,   1.4806,  34.6891,2,    161.3,2,  34.6887,2,   161.75,6,   144.86,3,    35.41,6,     0.00,6,    2.420,3,   -0.000,2,    0.000,2,   2320.3,2,   2415.8,2,   7.5950,2,    25.00,    0.000,2,  -999.00,9,  -999.00,9,   1.0765,2,  27.7904,2,   1.4807,2
49UP20180806_1,   P13,    40,  1,      5,     814,2,20180812,1210,1235, 33.9813, 165.0033, 6075,   5012.9,     4919,   1.4883,  34.6911,2,    165.3,2,  34.6895,4,   164.64,2,   142.31,3,    35.13,2,     0.00,2,    2.400,3,    0.000,2,    0.001,2,   2317.5,6,   2409.9,6,   7.5986,2,    25.00,    0.013,3,  -999.00,9,  -999.00,9,   1.0529,2,  27.7936,2,   1.4881,2
49UP20180806_1,   P13,    40,  1,      4,     813,4,20180812,1210,1229, 33.9813, 165.0033, 6075,   5270.2,     5169,   1.5002,  34.6930,2,    168.6,2,  34.6117,4,    88.83,4,   164.31,4,    40.07,4,     0.00,4,    2.800,4,    0.005,4,    0.005,4,   2365.3,4,   2413.7,4,   7.4714,4,    25.00,    0.000,4,  -999.00,9,  -999.00,9,   1.0326,2,  27.7965,2,   1.5000,2
49UP20180806_1,   P13,    40,  1,      3,     812,2,20180812,1210,1224, 33.9813, 165.0033, 6075,   5527.7,     5418,   1.5160,  34.6945,2,    171.1,2,  34.6941,6,   171.31,2,   138.77,3,    34.66,2,     0.00,2,    2.370,3,    0.002,2,    0.001,2,   2311.9,2,   2407.2,2,   7.6016,2,    25.00,    0.005,2,  -999.00,9,  -999.00,9,   1.0153,2,  27.7988,2,   1.5161,2
49UP20180806_1,   P13,    40,  1,      2,     811,2,20180812,1210,1218, 33.9813, 165.0033, 6075,   5786.9,     5669,   1.5390,  34.6952,2,    172.7,2,  34.6952,2,   172.87,2,   137.02,3,    34.51,2,     0.00,2,    2.360,3,    0.000,2,    0.000,2,   2310.5,2,   2403.9,2,   7.6053,2,    25.00,    0.000,2,  -999.00,9,  -999.00,9,   1.0038,2,  27.8002,2,   1.5392,2
49UP20180806_1,   P13,    40,  1,      1,     810,2,20180812,1210,1211, 33.9813, 165.0033, 6075,   6132.5,     6003,   1.5739,  34.6961,2,    174.7,2,  34.6959,2,   174.78,2,   135.71,3,    34.36,2,     0.00,2,    2.350,3,    0.004,2,    0.000,2,   2305.9,2,   2403.3,2,   7.6075,2,    25.00,    0.012,3,  -999.00,9,  -999.00,9,   0.9913,2,  27.8018,2,   1.5738,2