BOTTLE,20191018JMAGEMD
EXPOCODE,SECT_ID,STNNBR,CASTNO,SAMPNO,BTLNBR,BTLNBR_FLAG_U,DATE,TIME,BTL_TIME,LATITUDE,LONGITUDE,DEPTH,CTDPRS,CTDDEP,CTDTMP,CTDSAL,CTDSAL_FLAG_W,CTDOXY,CTDOXY_FLAG_W,SALNTY,SALNTY_FLAG_W,OXYGEN,OXYGEN_FLAG_W,SILCAT,SILCAT_FLAG_W,NO2+NO3,NO2+NO3_FLAG_W,NITRIT,NITRIT_FLAG_W,PHSPHT,PHSPHT_FLAG_W,CFC-11,CFC-11_FLAG_W,CFC-12,CFC-12_FLAG_W,TCARBN,TCARBN_FLAG_W,ALKALI,ALKALI_FLAG_W,PH_TS,PH_TS_FLAG_W,PH_TS_TMP,CFC113,CFC113_FLAG_W,CHLORA,CHLORA_FLAG_W,PPHYTN,PPHYTN_FLAG_W,THETA,THETA_FLAG_W,SIGTHT,SIGTHT_FLAG_W,SBE35,SBE35_FLAG_W
,,,,,,,,UTC,,,,METER,DBAR,METERS,ITS-90,PSS-78,,UMOL/KG,,PSS78,,UMOL/KG,,UMOL/KG,,UMOL/KG,,UMOL/KG,,UMOL/KG,,PMOL/KG,,PMOL/KG,,UMOL/KG,,UMOL/KG,,,,ITS-90,PMOL/KG,,UG/KG,,UG/KG,,ITS-90,,KG/M3,,ITS-90,
49UP20180614_1,   P13,     3,  1,      0,      -9,0,20180616,2229,0041, 41.9953, 146.1548, 5852,      0.0,        0,   8.6159,  33.2571,2,    304.0,2,  33.2455,2,   304.85,2,     1.42,2,     2.80,2,     0.10,2,    0.400,2, -999.000,9, -999.000,9,   2035.1,2,   2250.9,2,   7.9257,2,    25.00, -999.000,9,     0.69,2,     0.36,2,   8.6156,2,  25.8131,2,-999.0000,9
49UP20180614_1,   P13,     3,  1,     36,     845,2,20180616,2229,0110, 41.9953, 146.1548, 5852,     11.6,       12,   8.5036,  33.2497,2,    304.5,2,  33.2524,2,   305.17,2,     1.42,2,     2.78,2,     0.10,2,    0.400,2,    6.816,4,   12.577,4,   2038.2,2,   2252.3,2,   7.9271,2,    25.00,    2.472,4,     0.73,2,     0.36,2,   8.5024,2,  25.8245,2,   8.5030,2
49UP20180614_1,   P13,     3,  1,     35,     844,2,20180616,2229,0108, 41.9953, 146.1548, 5852,     52.5,       52,   6.8091,  33.5997,2,    274.5,2,  33.6318,4,   274.86,2,    14.15,2,    13.27,2,     0.25,2,    1.090,2,    3.782,2,    2.146,2,   2112.6,2,   2259.8,2,   7.7658,2,    25.00,    0.332,2,     0.15,2,     0.19,2,   6.8044,2,  26.3421,2,   6.8127,2
49UP20180614_1,   P13,     3,  1,     34,     843,2,20180616,2229,0106, 41.9953, 146.1548, 5852,     75.6,       75,   4.3476,  33.3531,2,    291.6,2,  33.3517,2,   292.50,2,    23.64,2,    16.41,2,     0.19,2,    1.400,2,    4.351,2,    2.407,2,   2133.6,2,   2251.6,2,   7.6940,2,    25.00,    0.399,2,     0.14,2,     0.19,2,   4.3424,2,  26.4410,2,   4.3509,2
49UP20180614_1,   P13,     3,  1,     33,     842,2,20180616,2229,0101, 41.9953, 146.1548, 5852,    102.4,      102,   4.1114,  33.3159,2,    287.7,2,  33.3550,4,   290.55,2,    28.33,2,    17.90,2,     0.18,2,    1.480,2,    4.362,2,    2.428,2,   2142.7,2,   2253.2,2,   7.6768,2,    25.00,    0.398,2,     0.11,2,     0.19,2,   4.1045,2,  26.4361,2,   4.1209,2
49UP20180614_1,   P13,     3,  1,     32,     841,2,20180616,2229,0059, 41.9953, 146.1548, 5852,    126.7,      126,   5.1425,  33.5753,2,    278.5,2,  33.5686,2,   279.30,2,    26.33,2,    16.74,2,     0.05,2,    1.320,2, -999.000,9, -999.000,9,   2137.5,2,   2259.1,2,   7.7004,2,    25.00, -999.000,9,     0.07,2,     0.17,2,   5.1328,2,  26.5306,2,   5.1442,2
49UP20180614_1,   P13,     3,  1,     31,     840,2,20180616,2229,0057, 41.9953, 146.1548, 5852,    153.2,      152,   4.4003,  33.5058,2,    279.3,2,  33.5066,2,   279.86,2,    30.41,2,    18.03,2,     0.05,2,    1.420,2,    4.107,6,    2.294,6,   2142.3,2,   2258.7,2,   7.6776,2,    25.00,    0.354,6,     0.04,2,     0.16,2,   4.3894,2,  26.5574,2,   4.4001,2
49UP20180614_1,   P13,     3,  1,     30,     839,2,20180616,2229,0055, 41.9953, 146.1548, 5852,    204.4,      203,   4.9129,  33.6224,2,    267.1,2,  33.6234,2,   267.64,2,    30.22,2,    17.33,2,     0.04,2,    1.340,2,    3.900,2,    2.170,2,   2143.8,2,   2260.8,2,   7.6907,2,    25.00,    0.338,2,     0.02,2,     0.12,2,   4.8975,2,  26.5947,2,   4.9128,2
49UP20180614_1,   P13,     3,  1,     29,     838,2,20180616,2229,0053, 41.9953, 146.1548, 5852,    253.8,      252,   3.7274,  33.5195,2,    247.5,2,  33.5209,2,   248.71,2,    42.24,2,    22.14,2,     0.04,2,    1.700,2,    3.956,2,    2.199,2,   2165.5,2,   2262.8,2,   7.6119,2,    25.00,    0.336,2,  -999.00,9,  -999.00,9,   3.7106,2,  26.6372,2,   3.7285,2
49UP20180614_1,   P13,     3,  1,     28,     837,2,20180616,2229,0051, 41.9953, 146.1548, 5852,    304.5,      302,   3.7827,  33.6194,2,    190.5,2,  33.6166,2,   191.31,6,    58.01,6,    28.28,6,     0.03,6,    2.130,6,    3.421,2,    1.871,2,   2218.3,2,   2274.2,2,   7.5162,2,    25.00,    0.265,2,  -999.00,9,  -999.00,9,   3.7622,2,  26.7116,2,   3.7859,2
49UP20180614_1,   P13,     3,  1,     27,     661,2,20180616,2229,0047, 41.9953, 146.1548, 5852,    406.2,      403,   4.0730,  33.8268,2,    120.0,2,  33.8241,2,   119.95,2,    78.38,2,    34.80,2,     0.00,2,    2.550,2,    2.519,2,    1.326,2,   2270.7,2,   2296.3,2,   7.4121,2,    25.00,    0.161,2,  -999.00,9,  -999.00,9,   4.0443,2,  26.8483,2,   4.0714,2
49UP20180614_1,   P13,     3,  1,     26,     835,2,20180616,2229,0044, 41.9953, 146.1548, 5852,    507.1,      503,   4.4034,  34.0326,2,     78.0,2,  34.0293,6,    78.12,2,    91.69,2,    37.74,2,     0.00,2,    2.730,2,    1.704,2,    0.869,2,   2301.4,2,   2313.1,2,   7.3760,2,    25.00,    0.105,2,  -999.00,9,  -999.00,9,   4.3657,2,  26.9784,2,   4.4019,2
49UP20180614_1,   P13,     3,  1,     25,     834,2,20180616,2229,0041, 41.9953, 146.1548, 5852,    608.7,      603,   3.7297,  34.1035,2,     50.5,2,  34.1081,2,    51.18,2,   109.62,2,    40.74,2,     0.00,2,    2.920,2,    1.241,2,    0.612,2,   2332.3,6,   2330.4,6,   7.3281,2,    25.00,    0.071,2,  -999.00,9,  -999.00,9,   3.6872,2,  27.1045,2,   3.7347,2
49UP20180614_1,   P13,     3,  1,     24,     833,2,20180616,2229,0038, 41.9953, 146.1548, 5852,    708.4,      702,   3.3126,  34.1503,2,     32.9,2,  34.1474,2,    33.02,2,   124.41,2,    42.77,2,     0.00,2,    3.050,2,    1.001,2,    0.487,2,   2356.5,2,   2341.2,2,   7.2943,6,    25.00,    0.060,2,  -999.00,9,  -999.00,9,   3.2648,2,  27.1824,2,   3.3108,2
49UP20180614_1,   P13,     3,  1,     23,     832,2,20180616,2229,0034, 41.9953, 146.1548, 5852,    810.3,      802,   3.4755,  34.2708,2,     37.5,2,  34.2707,2,    37.46,2,   126.98,2,    41.91,2,     0.00,2,    2.990,2,    0.543,6,    0.276,6,   2357.4,2,   2358.9,2,   7.3354,2,    25.00,    0.029,6,  -999.00,9,  -999.00,9,   3.4190,2,  27.2639,2,   3.4760,2
49UP20180614_1,   P13,     3,  1,     22,     831,2,20180616,2229,0031, 41.9953, 146.1548, 5852,    911.8,      903,   3.1806,  34.3158,2,     33.6,2,  34.3148,2,    33.74,2,   136.04,2,    42.37,2,     0.00,2,    3.030,2,    0.408,2,    0.204,2,   2364.7,2,   2366.7,2,   7.3331,2,    25.00,    0.025,2,  -999.00,9,  -999.00,9,   3.1184,2,  27.3281,2,   3.1806,2
49UP20180614_1,   P13,     3,  1,     21,     830,2,20180616,2229,0028, 41.9953, 146.1548, 5852,   1014.4,     1004,   3.0126,  34.3644,2,     34.8,2,  34.3637,2,    34.46,2,   141.42,2,    42.48,2,     0.00,2,    3.030,2,    0.282,2,    0.146,2,   2369.9,2,   2373.5,2,   7.3391,2,    25.00,    0.019,2,  -999.00,9,  -999.00,9,   2.9438,2,  27.3828,2,   3.0116,2
49UP20180614_1,   P13,     3,  1,     20,     829,2,20180616,2229,0022, 41.9953, 146.1548, 5852,   1215.8,     1203,   2.7569,  34.4393,2,     39.3,2,  34.4394,2,    39.02,2,   148.62,2,    42.38,2,     0.00,2,    3.030,2,    0.119,2,    0.063,2,   2378.8,2,   2387.1,2,   7.3539,2,    25.00,    0.003,2,  -999.00,9,  -999.00,9,   2.6747,2,  27.4665,2,   2.7591,2
49UP20180614_1,   P13,     3,  1,     19,     828,2,20180616,2229,0017, 41.9953, 146.1548, 5852,   1418.2,     1402,   2.4938,  34.4851,2,     41.7,2,  34.4846,2,    41.63,6,   156.20,6,    42.57,6,     0.00,6,    3.020,6,    0.061,2,    0.037,2,   2378.7,2,   2396.9,2,   7.3648,2,    25.00,    0.002,2,  -999.00,9,  -999.00,9,   2.3985,2,  27.5268,2,   2.4937,2
49UP20180614_1,   P13,     3,  1,     18,     827,2,20180616,2229,0012, 41.9953, 146.1548, 5852,   1620.7,     1602,   2.2991,  34.5252,2,     49.7,2,  34.5254,2,    49.32,2,   160.50,2,    42.20,2,     0.00,2,    3.000,2,    0.029,2,    0.011,2,   2380.7,2,   2404.1,2,   7.3817,2,    25.00,    0.000,2,  -999.00,9,  -999.00,9,   2.1900,2,  27.5761,2,   2.2992,2
49UP20180614_1,   P13,     3,  1,     17,     826,2,20180616,2229,0007, 41.9953, 146.1548, 5852,   1824.2,     1802,   2.1398,  34.5574,2,     59.0,2,  34.5575,2,    59.13,2,   163.07,2,    41.66,2,     0.00,2,    2.940,2,    0.012,2,    0.005,2,   2380.0,2,   2408.7,2,   7.4075,2,    25.00,    0.001,2,  -999.00,9,  -999.00,9,   2.0162,2,  27.6158,2,   2.1397,2
49UP20180614_1,   P13,     3,  1,     16,     825,2,20180616,2229,0001, 41.9953, 146.1548, 5852,   2029.3,     2004,   1.9886,  34.5854,2,     70.5,2,  34.5848,6,    70.67,2,   164.46,2,    41.00,2,     0.00,2,    2.890,2,    0.004,2,    0.004,2,   2379.4,2,   2413.8,2,   7.4302,2,    25.00,    0.004,2,  -999.00,9,  -999.00,9,   1.8500,2,  27.6512,2,   1.9885,2
49UP20180614_1,   P13,     3,  1,     15,     824,2,20180616,2229,2357, 41.9953, 146.1548, 5852,   2230.0,     2201,   1.8816,  34.6057,2,     82.2,2,  34.6061,2,    85.26,3,   164.37,2,    40.30,2,     0.00,2,    2.840,2,    0.002,2,    0.001,2,   2368.9,2,   2414.5,2,   7.4503,2,    25.00,    0.000,2,  -999.00,9,  -999.00,9,   1.7275,2,  27.6768,2,   1.8813,2
49UP20180614_1,   P13,     3,  1,     14,     823,2,20180616,2229,2352, 41.9953, 146.1548, 5852,   2434.0,     2401,   1.7878,  34.6228,2,     93.4,2,  34.6219,4,    93.44,2,   163.30,2,    39.57,2,     0.00,2,    2.780,2,   -0.000,2,    0.000,2,   2363.7,2,   2416.7,2,   7.4740,2,    25.00,    0.001,2,  -999.00,9,  -999.00,9,   1.6175,2,  27.6988,2,   1.7879,2
49UP20180614_1,   P13,     3,  1,     13,     822,2,20180616,2229,2347, 41.9953, 146.1548, 5852,   2639.7,     2603,   1.7079,  34.6375,2,    105.8,2,  34.6381,2,   105.97,2,   161.14,2,    38.80,2,     0.00,2,    2.720,2,    0.000,2,    0.000,2,   2358.8,6,   2416.5,6,   7.4967,2,    25.00,    0.000,2,  -999.00,9,  -999.00,9,   1.5206,2,  27.7177,2,   1.7080,2
49UP20180614_1,   P13,     3,  1,     12,     821,2,20180616,2229,2342, 41.9953, 146.1548, 5852,   2843.0,     2802,   1.6483,  34.6478,2,    114.0,2,  34.6490,2,   114.27,2,   160.04,2,    38.23,2,     0.00,2,    2.680,2,    0.000,2,    0.001,2,   2349.5,2,   2419.1,2,   7.5135,2,    25.00,    0.004,2,  -999.00,9,  -999.00,9,   1.4433,2,  27.7316,2,   1.6484,2
49UP20180614_1,   P13,     3,  1,     11,     820,2,20180616,2229,2337, 41.9953, 146.1548, 5852,   3047.6,     3002,   1.6110,  34.6547,2,    120.0,2,  34.6548,2,   120.39,2,   159.28,2,    37.99,2,     0.00,2,    2.650,2, -999.000,9, -999.000,9,   2346.9,2,   2419.8,2,   7.5223,6,    25.00, -999.000,9,  -999.00,9,  -999.00,9,   1.3873,2,  27.7412,2,   1.6110,2
49UP20180614_1,   P13,     3,  1,     10,     819,2,20180616,2229,2326, 41.9953, 146.1548, 5852,   3560.9,     3503,   1.5292,  34.6704,2,    136.4,2,  34.6707,2,   136.26,6,   155.44,6,    36.92,6,     0.00,6,    2.570,6, -999.000,9, -999.000,9,   2337.9,2,   2417.3,2,   7.5529,2,    25.00, -999.000,9,  -999.00,9,  -999.00,9,   1.2562,2,  27.7631,2,   1.5293,2
49UP20180614_1,   P13,     3,  1,      9,     818,2,20180616,2229,2321, 41.9953, 146.1548, 5852,   3816.4,     3753,   1.5085,  34.6755,2,    141.7,2,  34.6764,2,   141.65,2,   154.45,2,    36.58,2,     0.00,2,    2.540,2,    0.000,2,    0.000,2,   2339.8,2,   2420.6,2,   7.5646,2,    25.00,    0.004,2,  -999.00,9,  -999.00,9,   1.2092,2,  27.7704,2,   1.5085,2
49UP20180614_1,   P13,     3,  1,      8,     817,2,20180616,2229,2314, 41.9953, 146.1548, 5852,   4073.5,     4003,   1.4887,  34.6805,2,    147.3,2,  34.6800,6,   147.53,2,   153.10,2,    36.18,2,     0.00,2,    2.510,2, -999.000,9, -999.000,9,   2332.0,2,   2418.1,2,   7.5714,2,    25.00, -999.000,9,  -999.00,9,  -999.00,9,   1.1621,2,  27.7777,2,   1.4887,2
49UP20180614_1,   P13,     3,  1,      7,     816,2,20180616,2229,2303, 41.9953, 146.1548, 5852,   4586.2,     4502,   1.4837,  34.6870,2,    155.3,2,  34.6872,2,   155.27,2,   151.18,2,    35.61,2,     0.00,2,    2.470,2, -999.000,9, -999.000,9,   2326.7,2,   2417.0,2,   7.5862,2,    25.00, -999.000,9,  -999.00,9,  -999.00,9,   1.0993,2,  27.7872,2,   1.4836,2
49UP20180614_1,   P13,     3,  1,      6,     815,2,20180616,2229,2257, 41.9953, 146.1548, 5852,   4842.6,     4751,   1.4978,  34.6888,2,    157.5,2,  34.6899,4,   157.76,2,   150.21,2,    35.48,2,     0.00,2,    2.460,2,    0.007,2,    0.004,2,   2323.9,2,   2415.8,2,   7.5881,2,    25.00,    0.005,2,  -999.00,9,  -999.00,9,   1.0826,2,  27.7898,2,   1.4979,2
49UP20180614_1,   P13,     3,  1,      5,     814,2,20180616,2229,2251, 41.9953, 146.1548, 5852,   5101.7,     5002,   1.5180,  34.6902,2,    159.3,2,  34.6899,2,   159.44,2,   149.48,2,    35.37,2,     0.00,2,    2.450,2, -999.000,9, -999.000,9,   2324.0,2,   2414.5,2,   7.5892,2,    25.00, -999.000,9,  -999.00,9,  -999.00,9,   1.0707,2,  27.7917,2,   1.5180,2
49UP20180614_1,   P13,     3,  1,      4,     813,2,20180616,2229,2245, 41.9953, 146.1548, 5852,   5359.4,     5252,   1.5448,  34.6909,2,    160.2,2,  34.6905,2,   160.78,2,   148.83,2,    35.26,2,     0.00,2,    2.450,2, -999.000,9, -999.000,9,   2322.6,6,   2414.4,6,   7.5913,2,    25.00, -999.000,9,  -999.00,9,  -999.00,9,   1.0645,2,  27.7926,2,   1.5448,2
49UP20180614_1,   P13,     3,  1,      3,     812,3,20180616,2229,2239, 41.9953, 146.1548, 5852,   5616.3,     5500,   1.5768,  34.6911,2,    160.3,2,  34.6899,4,   160.14,2,   149.30,2,    35.32,2,     0.00,2,    2.450,2, -999.000,9, -999.000,9,   2322.4,2,   2414.5,2,   7.5905,6,    25.00, -999.000,9,  -999.00,9,  -999.00,9,   1.0624,2,  27.7930,2,   1.5769,2
49UP20180614_1,   P13,     3,  1,      2,     811,2,20180616,2229,2234, 41.9953, 146.1548, 5852,   5873.9,     5749,   1.6115,  34.6912,2,    160.4,2,  34.6917,4,   161.12,2,   149.11,2,    35.35,2,     0.00,2,    2.440,2, -999.000,9, -999.000,9,   2323.2,2,   2413.9,2,   7.5923,2,    25.00, -999.000,9,  -999.00,9,  -999.00,9,   1.0621,2,  27.7930,2,   1.6115,2
49UP20180614_1,   P13,     3,  1,      1,     810,2,20180616,2229,2230, 41.9953, 146.1548, 5852,   5984.1,     5856,   1.6267,  34.6912,2,    160.4,2,  34.6910,6,   160.58,6,   149.18,6,    35.32,6,     0.00,6,    2.450,6,    0.006,2,    0.002,2,   2323.5,2,   2414.3,2,   7.5896,2,    25.00,    0.000,2,  -999.00,9,  -999.00,9,   1.0621,2,  27.7930,2,   1.6267,2