BOTTLE,20191018JMAGEMD
EXPOCODE,SECT_ID,STNNBR,CASTNO,SAMPNO,BTLNBR,BTLNBR_FLAG_U,DATE,TIME,BTL_TIME,LATITUDE,LONGITUDE,DEPTH,CTDPRS,CTDDEP,CTDTMP,CTDSAL,CTDSAL_FLAG_W,CTDOXY,CTDOXY_FLAG_W,SALNTY,SALNTY_FLAG_W,OXYGEN,OXYGEN_FLAG_W,SILCAT,SILCAT_FLAG_W,NO2+NO3,NO2+NO3_FLAG_W,NITRIT,NITRIT_FLAG_W,PHSPHT,PHSPHT_FLAG_W,CFC-11,CFC-11_FLAG_W,CFC-12,CFC-12_FLAG_W,TCARBN,TCARBN_FLAG_W,ALKALI,ALKALI_FLAG_W,PH_TS,PH_TS_FLAG_W,PH_TS_TMP,CFC113,CFC113_FLAG_W,CHLORA,CHLORA_FLAG_W,PPHYTN,PPHYTN_FLAG_W,THETA,THETA_FLAG_W,SIGTHT,SIGTHT_FLAG_W,SBE35,SBE35_FLAG_W
,,,,,,,,UTC,,,,METER,DBAR,METERS,ITS-90,PSS-78,,UMOL/KG,,PSS78,,UMOL/KG,,UMOL/KG,,UMOL/KG,,UMOL/KG,,UMOL/KG,,PMOL/KG,,PMOL/KG,,UMOL/KG,,UMOL/KG,,,,ITS-90,PMOL/KG,,UG/KG,,UG/KG,,ITS-90,,KG/M3,,ITS-90,
49UP20180614_1,   P13,     8,  1,      0,      -9,0,20180622,1144,1340, 41.5838, 150.8718, 5225,      0.0,        0,  15.1783,  34.3759,2,    261.3,2,  34.4039,2,   260.43,2,     2.52,2,     0.92,2,     0.07,2,    0.080,2, -999.000,9, -999.000,9,   2020.0,2,   2278.5,2,   7.9889,2,    25.00, -999.000,9,     1.28,2,     0.36,2,  15.1780,2,  25.4517,2,-999.0000,9
49UP20180614_1,   P13,     8,  1,     36,     845,2,20180622,1144,1405, 41.5838, 150.8718, 5225,     10.5,       10,  15.1843,  34.3766,2,    261.2,2,  34.3762,2,   260.72,2,     2.37,2,     0.74,2,     0.06,2,    0.080,2,    2.402,2,    1.528,2,   2019.4,2,   2279.4,2,   7.9913,2,    25.00,    0.213,2,     1.21,2,     0.39,2,  15.1827,2,  25.4512,2,  15.1852,2
49UP20180614_1,   P13,     8,  1,     35,     844,2,20180622,1144,1403, 41.5838, 150.8718, 5225,     27.5,       27,  15.2195,  34.4140,2,    259.7,2,  34.4098,2,   259.85,2,     2.60,2,     0.94,2,     0.07,2,    0.100,2, -999.000,9, -999.000,9,   2020.8,2,   2280.4,2,   7.9883,2,    25.00, -999.000,9,     1.35,2,     0.40,2,  15.2153,2,  25.4729,2,  15.2196,2
49UP20180614_1,   P13,     8,  1,     34,     843,3,20180622,1144,1358, 41.5838, 150.8718, 5225,     58.3,       58,  12.6220,  34.4318,2,    229.2,2,  34.4351,2,   231.81,2,    13.92,2,     9.54,2,     0.04,2,    0.670,2,    2.558,2,    1.613,2,   2082.8,2,   2276.3,2,   7.8639,2,    25.00,    0.179,2,     0.09,2,     0.10,2,  12.6142,2,  26.0291,2,  12.6183,2
49UP20180614_1,   P13,     8,  1,     33,     842,2,20180622,1144,1357, 41.5838, 150.8718, 5225,     80.2,       80,  11.9771,  34.3854,2,    220.7,2,  34.3879,2,   219.39,6,    17.16,6,    11.71,6,     0.03,6,    0.820,6, -999.000,9, -999.000,9,   2095.5,2,   2277.5,2,   7.8317,2,    25.00, -999.000,9,     0.02,2,     0.06,2,  11.9667,2,  26.1180,2,  11.9785,2
49UP20180614_1,   P13,     8,  1,     32,     841,2,20180622,1144,1355, 41.5838, 150.8718, 5225,     98.7,       98,  11.3645,  34.3266,2,    229.0,2,  34.3292,2,   228.53,2,    17.23,2,    11.87,2,     0.03,2,    0.840,2,    2.634,2,    1.650,2,   2101.8,2,   2275.9,2,   7.8229,2,    25.00,    0.176,2,     0.01,2,     0.08,2,  11.3522,2,  26.1871,2,  11.3682,2
49UP20180614_1,   P13,     8,  1,     31,     840,2,20180622,1144,1353, 41.5838, 150.8718, 5225,    130.1,      129,  10.3619,  34.2240,2,    228.5,2,  34.2401,4,   229.52,2,    19.36,2,    13.09,2,     0.02,2,    0.930,2, -999.000,9, -999.000,9,   2106.0,2,   2275.0,2,   7.7998,2,    25.00, -999.000,9,     0.01,2,     0.08,2,  10.3467,2,  26.2866,2,  10.3662,2
49UP20180614_1,   P13,     8,  1,     30,     839,2,20180622,1144,1351, 41.5838, 150.8718, 5225,    152.1,      151,   9.3984,  34.1190,2,    222.0,2,  34.1248,2,   221.86,2,    24.30,2,    15.52,2,     0.03,2,    1.110,2,    2.798,2,    1.722,2,   2123.0,2,   2272.5,2,   7.7605,2,    25.00,    0.177,2,     0.01,2,     0.06,2,   9.3816,2,  26.3668,2,   9.4030,2
49UP20180614_1,   P13,     8,  1,     29,     838,2,20180622,1144,1350, 41.5838, 150.8718, 5225,    206.1,      204,   7.6733,  33.9287,2,    211.7,2,  33.9451,4,   208.50,2,    33.22,2,    19.71,2,     0.04,2,    1.440,2,    2.935,2,    1.771,2,   2153.8,2,   2273.3,2,   7.6875,2,    25.00,    0.177,2,     0.00,2,     0.05,2,   7.6533,2,  26.4831,2,   7.6783,2
49UP20180614_1,   P13,     8,  1,     28,     837,3,20180622,1144,1347, 41.5838, 150.8718, 5225,    254.7,      253,   7.0268,  33.9743,2,    168.2,2,  33.9771,2,   166.73,2,    46.83,2,    25.04,2,     0.02,2,    1.820,2,    2.589,6,    1.532,6,   2191.1,2,   2281.3,2,   7.6058,2,    25.00,    0.137,6,  -999.00,9,  -999.00,9,   7.0032,2,  26.6103,2,   7.0265,2
49UP20180614_1,   P13,     8,  1,     27,     661,2,20180622,1144,1346, 41.5838, 150.8718, 5225,    282.1,      280,   6.6038,  33.9740,2,    155.6,2,  33.9744,2,   155.08,2,    52.49,2,    27.05,2,     0.02,2,    1.960,2,    2.491,2,    1.450,2,   2203.2,2,   2286.5,2,   7.5743,2,    25.00,    0.133,2,  -999.00,9,  -999.00,9,   6.5786,2,  26.6673,2,   6.6028,2
49UP20180614_1,   P13,     8,  1,     26,     835,2,20180622,1144,1343, 41.5838, 150.8718, 5225,    372.6,      369,   5.3840,  34.0203,2,    111.4,2,  34.0200,2,   111.18,2,    73.31,2,    33.19,2,     0.01,2,    2.390,2,    1.981,2,    1.098,2,   2257.7,2,   2301.5,2,   7.4692,2,    25.00,    0.101,2,  -999.00,9,  -999.00,9,   5.3539,2,  26.8574,2,   5.3846,2
49UP20180614_1,   P13,     8,  1,     25,     834,2,20180622,1144,1340, 41.5838, 150.8718, 5225,    473.4,      469,   4.6411,  34.0997,2,     76.2,2,  34.0997,2,    76.11,2,    91.41,2,    37.36,2,     0.00,2,    2.680,2,    1.454,2,    0.777,2,   2295.2,2,   2316.9,2,   7.4036,2,    25.00,    0.068,2,  -999.00,9,  -999.00,9,   4.6051,2,  27.0057,2,   4.6462,2
49UP20180614_1,   P13,     8,  1,     24,     833,2,20180622,1144,1337, 41.5838, 150.8718, 5225,    576.9,      572,   4.0997,  34.1741,2,     54.6,2,  34.1707,2,    54.65,6,   106.90,6,    39.95,6,     0.00,6,    2.850,6,    1.036,2,    0.543,2,   2323.6,2,   2334.3,2,   7.3643,2,    25.00,    0.056,2,  -999.00,9,  -999.00,9,   4.0578,2,  27.1232,2,   4.0995,2
49UP20180614_1,   P13,     8,  1,     23,     832,2,20180622,1144,1334, 41.5838, 150.8718, 5225,    683.3,      677,   3.7370,  34.2523,2,     44.2,2,  34.2496,2,    43.77,2,   119.41,2,    41.11,2,     0.00,2,    2.940,2,    0.674,2,    0.333,2,   2339.8,2,   2348.6,2,   7.3493,2,    25.00,    0.035,2,  -999.00,9,  -999.00,9,   3.6886,2,  27.2228,2,   3.7373,2
49UP20180614_1,   P13,     8,  1,     22,     831,2,20180622,1144,1331, 41.5838, 150.8718, 5225,    778.2,      771,   3.1949,  34.2533,2,     30.1,2,  34.2545,2,    30.83,2,   132.22,2,    42.73,2,     0.00,2,    3.050,2,    0.593,2,    0.309,2,   2364.8,2,   2355.9,2,   7.3153,6,    25.00,    0.041,2,  -999.00,9,  -999.00,9,   3.1426,2,  27.2760,2,   3.1962,2
49UP20180614_1,   P13,     8,  1,     21,     830,2,20180622,1144,1329, 41.5838, 150.8718, 5225,    877.3,      869,   3.0197,  34.3194,2,     30.6,2,  34.3190,2,    30.81,2,   139.82,2,    42.85,2,     0.00,2,    3.050,2,    0.402,2,    0.211,2,   2367.9,6,   2366.7,6,   7.3246,2,    25.00,    0.014,2,  -999.00,9,  -999.00,9,   2.9612,2,  27.3453,2,   3.0198,2
49UP20180614_1,   P13,     8,  1,     20,     829,2,20180622,1144,1325, 41.5838, 150.8718, 5225,    977.0,      967,   2.8199,  34.3670,2,     31.7,2,  34.3665,2,    31.61,2,   146.49,2,    42.88,2,     0.00,2,    3.050,2,    0.295,2,    0.153,2,   2378.6,2,   2376.3,2,   7.3279,2,    25.00,    0.012,2,  -999.00,9,  -999.00,9,   2.7554,2,  27.4017,2,   2.8201,2
49UP20180614_1,   P13,     8,  1,     19,     828,2,20180622,1144,1321, 41.5838, 150.8718, 5225,   1144.5,     1132,   2.6143,  34.4214,2,     33.8,2,  34.4203,2,    33.94,2,   153.41,2,    42.88,2,     0.00,2,    3.050,2,    0.192,2,    0.098,2,   2380.4,2,   2385.0,2,   7.3368,2,    25.00,    0.017,2,  -999.00,9,  -999.00,9,   2.5389,2,  27.4639,2,   2.6143,2
49UP20180614_1,   P13,     8,  1,     18,     827,2,20180622,1144,1316, 41.5838, 150.8718, 5225,   1347.1,     1332,   2.3970,  34.4743,2,     40.1,2,  34.4740,2,    39.94,2,   159.58,2,    42.62,2,     0.00,2,    3.020,2,    0.117,2,    0.061,2,   2388.6,2,   2394.4,2,   7.3588,2,    25.00,    0.001,2,  -999.00,9,  -999.00,9,   2.3083,2,  27.5256,2,   2.3971,2
49UP20180614_1,   P13,     8,  1,     17,     826,3,20180622,1144,1311, 41.5838, 150.8718, 5225,   1543.5,     1526,   2.2572,  34.5274,2,     49.6,2,  34.5263,2,    49.60,2,   161.05,2,    42.24,2,     0.00,2,    2.980,2,    0.036,2,    0.007,2,   2390.2,2,   2404.1,2,   7.3831,2,    25.00,    0.000,2,  -999.00,9,  -999.00,9,   2.1547,2,  27.5807,2,   2.2572,2
49UP20180614_1,   P13,     8,  1,     16,     825,2,20180622,1144,1307, 41.5838, 150.8718, 5225,   1754.6,     1734,   2.0922,  34.5614,2,     60.0,2,  34.5608,2,    60.48,2,   163.66,2,    41.68,2,     0.00,2,    2.930,2,    0.018,6,    0.005,6,   2377.5,2,   2408.4,2,   7.4063,2,    25.00,    0.000,6,  -999.00,9,  -999.00,9,   1.9748,2,  27.6223,2,   2.0921,2
49UP20180614_1,   P13,     8,  1,     15,     824,2,20180622,1144,1301, 41.5838, 150.8718, 5225,   1959.3,     1935,   1.9536,  34.5890,2,     71.9,2,  34.5882,2,    71.88,2,   164.75,6,    41.04,6,     0.00,6,    2.880,6,    0.002,2,    0.003,2,   2377.5,2,   2411.7,2,   7.4332,2,    25.00,    0.000,2,  -999.00,9,  -999.00,9,   1.8214,2,  27.6563,2,   1.9537,2
49UP20180614_1,   P13,     8,  1,     14,     823,2,20180622,1144,1256, 41.5838, 150.8718, 5225,   2160.1,     2132,   1.8368,  34.6111,2,     85.1,2,  34.6108,6,    85.03,2,   164.15,2,    40.27,2,     0.00,2,    2.820,2,    0.000,2,    0.000,2,   2368.4,2,   2416.1,2,   7.4561,2,    25.00,    0.003,2,  -999.00,9,  -999.00,9,   1.6895,2,  27.6841,2,   1.8369,2
49UP20180614_1,   P13,     8,  1,     13,     822,2,20180622,1144,1252, 41.5838, 150.8718, 5225,   2356.8,     2325,   1.7385,  34.6279,2,     96.1,2,  34.6278,2,    96.38,2,   164.18,2,    39.58,2,     0.00,2,    2.760,2,    0.000,2,    0.000,2,   2363.4,6,   2418.1,6,   7.4754,2,    25.00,    0.004,2,  -999.00,9,  -999.00,9,   1.5759,2,  27.7060,2,   1.7388,2
49UP20180614_1,   P13,     8,  1,     12,     821,2,20180622,1144,1247, 41.5838, 150.8718, 5225,   2567.4,     2532,   1.6534,  34.6423,2,    107.4,2,  34.6420,2,   107.20,2,   162.91,2,    38.89,2,     0.00,2,    2.710,2,    0.000,2,    0.000,2,   2362.0,2,   2419.2,2,   7.5004,2,    25.00,   -0.000,2,  -999.00,9,  -999.00,9,   1.4736,2,  27.7250,2,   1.6536,2
49UP20180614_1,   P13,     8,  1,     11,     820,2,20180622,1144,1242, 41.5838, 150.8718, 5225,   2767.4,     2728,   1.6007,  34.6518,2,    116.1,2,  34.6511,2,   115.67,2,   161.21,2,    38.33,2,     0.00,2,    2.670,2,    0.000,2,    0.000,2,   2354.1,2,   2418.2,2,   7.5165,2,    25.00,    0.000,2,  -999.00,9,  -999.00,9,   1.4037,2,  27.7377,2,   1.6007,2
49UP20180614_1,   P13,     8,  1,     10,     819,2,20180622,1144,1237, 41.5838, 150.8718, 5225,   2976.2,     2932,   1.5578,  34.6597,2,    124.1,2,  34.6595,2,   123.98,2,   159.38,2,    37.83,2,     0.00,2,    2.630,2, -999.000,9, -999.000,9,   2351.9,2,   2419.7,2,   7.5325,2,    25.00, -999.000,9,  -999.00,9,  -999.00,9,   1.3421,2,  27.7484,2,   1.5579,2
49UP20180614_1,   P13,     8,  1,      9,     818,2,20180622,1144,1231, 41.5838, 150.8718, 5225,   3221.2,     3172,   1.5120,  34.6680,2,    132.8,2,  34.6669,4,   132.23,2,   157.54,2,    37.31,2,     0.00,2,    2.580,2, -999.000,9, -999.000,9,   2343.5,2,   2420.8,2,   7.5503,2,    25.00, -999.000,9,  -999.00,9,  -999.00,9,   1.2736,2,  27.7599,2,   1.5122,2
49UP20180614_1,   P13,     8,  1,      8,     817,2,20180622,1144,1225, 41.5838, 150.8718, 5225,   3477.8,     3423,   1.4834,  34.6740,2,    139.7,2,  34.6735,6,   139.41,2,   155.63,2,    36.82,2,     0.00,2,    2.540,2, -999.000,9, -999.000,9,   2336.1,2,   2419.2,2,   7.5610,2,    25.00, -999.000,9,  -999.00,9,  -999.00,9,   1.2200,2,  27.7685,2,   1.4833,2
49UP20180614_1,   P13,     8,  1,      7,     816,2,20180622,1144,1219, 41.5838, 150.8718, 5225,   3734.2,     3673,   1.4688,  34.6786,2,    145.1,2,  34.6782,2,   144.82,2,   154.24,2,    36.44,2,     0.00,2,    2.520,2,    0.000,2,    0.002,2,   2340.4,3,   2418.7,2,   7.5694,6,    25.00,    0.000,2,  -999.00,9,  -999.00,9,   1.1792,2,  27.7749,2,   1.4690,2
49UP20180614_1,   P13,     8,  1,      6,     815,2,20180622,1144,1214, 41.5838, 150.8718, 5225,   3985.1,     3917,   1.4610,  34.6822,2,    149.6,2,  34.6814,2,   149.42,6,   153.03,6,    36.17,6,     0.00,6,    2.500,6, -999.000,9, -999.000,9,   2330.0,2,   2417.9,2,   7.5761,2,    25.00, -999.000,9,  -999.00,9,  -999.00,9,   1.1448,2,  27.7802,2,   1.4610,2
49UP20180614_1,   P13,     8,  1,      5,     814,2,20180622,1144,1208, 41.5838, 150.8718, 5225,   4251.3,     4176,   1.4624,  34.6852,2,    153.2,2,  34.6837,4,   153.00,2,   152.29,2,    35.97,2,     0.00,2,    2.470,2, -999.000,9, -999.000,9,   2329.3,6,   2417.9,6,   7.5790,2,    25.00, -999.000,9,  -999.00,9,  -999.00,9,   1.1169,2,  27.7846,2,   1.4624,2
49UP20180614_1,   P13,     8,  1,      4,     813,2,20180622,1144,1201, 41.5838, 150.8718, 5225,   4503.4,     4422,   1.4733,  34.6872,2,    155.4,2,  34.6865,2,   156.96,3,   152.13,2,    35.83,2,     0.00,2,    2.460,2, -999.000,9, -999.000,9,   2326.8,2,   2417.3,2,   7.5845,2,    25.00, -999.000,9,  -999.00,9,  -999.00,9,   1.0988,2,  27.7874,2,   1.4734,2
49UP20180614_1,   P13,     8,  1,      3,     812,2,20180622,1144,1155, 41.5838, 150.8718, 5225,   4759.6,     4670,   1.4928,  34.6886,2,    156.7,2,  34.6864,4,   156.49,2,   152.31,2,    35.76,2,     0.00,2,    2.460,2,    0.001,2,    0.002,2,   2327.5,2,   2418.2,2,   7.5875,2,    25.00,    0.003,2,  -999.00,9,  -999.00,9,   1.0876,2,  27.7892,2,   1.4928,2
49UP20180614_1,   P13,     8,  1,      2,     811,2,20180622,1144,1150, 41.5838, 150.8718, 5225,   5013.0,     4916,   1.5183,  34.6892,2,    157.3,2,  34.6886,2,   157.47,2,   152.29,2,    35.61,2,     0.00,2,    2.450,2, -999.000,9, -999.000,9,   2323.8,2,   2417.1,2,   7.5883,2,    25.00, -999.000,9,  -999.00,9,  -999.00,9,   1.0818,2,  27.7901,2,   1.5184,2
49UP20180614_1,   P13,     8,  1,      1,     810,2,20180622,1144,1144, 41.5838, 150.8718, 5225,   5318.2,     5212,   1.5520,  34.6900,2,    157.3,2,  34.6879,4,   157.06,2,   154.65,2,    35.61,2,     0.01,2,    2.450,2,    0.006,2,    0.004,2,   2326.7,2,   2417.8,2,   7.5880,2,    25.00,    0.000,2,  -999.00,9,  -999.00,9,   1.0766,2,  27.7911,2,   1.5520,2