BOTTLE,20191018JMAGEMD
EXPOCODE,SECT_ID,STNNBR,CASTNO,SAMPNO,BTLNBR,BTLNBR_FLAG_U,DATE,TIME,BTL_TIME,LATITUDE,LONGITUDE,DEPTH,CTDPRS,CTDDEP,CTDTMP,CTDSAL,CTDSAL_FLAG_W,CTDOXY,CTDOXY_FLAG_W,SALNTY,SALNTY_FLAG_W,OXYGEN,OXYGEN_FLAG_W,SILCAT,SILCAT_FLAG_W,NO2+NO3,NO2+NO3_FLAG_W,NITRIT,NITRIT_FLAG_W,PHSPHT,PHSPHT_FLAG_W,CFC-11,CFC-11_FLAG_W,CFC-12,CFC-12_FLAG_W,TCARBN,TCARBN_FLAG_W,ALKALI,ALKALI_FLAG_W,PH_TS,PH_TS_FLAG_W,PH_TS_TMP,CFC113,CFC113_FLAG_W,CHLORA,CHLORA_FLAG_W,PPHYTN,PPHYTN_FLAG_W,THETA,THETA_FLAG_W,SIGTHT,SIGTHT_FLAG_W,SBE35,SBE35_FLAG_W
,,,,,,,,UTC,,,,METER,DBAR,METERS,ITS-90,PSS-78,,UMOL/KG,,PSS78,,UMOL/KG,,UMOL/KG,,UMOL/KG,,UMOL/KG,,UMOL/KG,,PMOL/KG,,PMOL/KG,,UMOL/KG,,UMOL/KG,,,,ITS-90,PMOL/KG,,UG/KG,,UG/KG,,ITS-90,,KG/M3,,ITS-90,
49UP20180806_1,   P13,    46,  1,      0,      -9,0,20180815,0613,0810, 27.9975, 165.0068, 5613,      0.0,        0,  27.9501,  35.0783,2,    201.0,2,  35.0814,2,   200.70,2,     1.13,3,     0.05,2,     0.00,2,    0.040,3, -999.000,9, -999.000,9,   1985.6,2,   2304.9,2,   8.0909,2,    25.00, -999.000,9,     0.03,2,     0.01,2,  27.9496,2,  22.4700,2,-999.0000,9
49UP20180806_1,   P13,    46,  1,     36,     845,2,20180815,0613,0842, 27.9975, 165.0068, 5613,     11.6,       12,  27.9421,  35.0762,2,    200.9,2,  35.0772,2,   200.92,2,     1.12,3,     0.09,2,     0.00,2,    0.000,3,    1.591,2,    0.911,2,   1984.7,2,   2303.8,2,   8.0912,2,    25.00,    0.131,2,     0.03,2,     0.01,2,  27.9393,2,  22.4717,2,  27.9447,2
49UP20180806_1,   P13,    46,  1,     35,     844,3,20180815,0613,0838, 27.9975, 165.0068, 5613,     50.8,       50,  23.8079,  35.2032,2,    227.0,2,  35.2050,2,   226.28,2,     1.30,3,     0.04,2,     0.00,2,    0.010,3,    1.947,2,    1.090,2,   2003.3,2,   2315.6,2,   8.0734,2,    25.00,    0.165,2,     0.06,2,     0.02,2,  23.7972,2,  23.8552,2,  23.8085,2
49UP20180806_1,   P13,    46,  1,     34,     843,2,20180815,0613,0836, 27.9975, 165.0068, 5613,    100.6,      100,  20.3279,  34.9876,2,    214.7,2,  34.9868,2,   214.73,2,     2.01,3,     0.13,2,     0.00,2,    0.040,3,    2.151,6,    1.204,6,   2029.3,2,   2298.5,2,   8.0092,2,    25.00,    0.141,6,     0.12,2,     0.10,2,  20.3091,2,  24.6704,2,  20.3188,2
49UP20180806_1,   P13,    46,  1,     33,     842,2,20180815,0613,0835, 27.9975, 165.0068, 5613,    125.7,      125,  19.2057,  34.9227,2,    214.4,2,  34.9222,2,   213.55,2,     2.34,3,     0.54,2,     0.03,2,    0.080,3, -999.000,9, -999.000,9,   2037.4,2,   2295.2,2,   7.9892,2,    25.00, -999.000,9,     0.22,2,     0.43,2,  19.1831,2,  24.9152,2,  19.2065,2
49UP20180806_1,   P13,    46,  1,     32,     841,2,20180815,0613,0833, 27.9975, 165.0068, 5613,    151.8,      151,  18.0488,  34.8444,2,    202.3,2,  34.8451,2,   200.32,2,     3.25,3,     3.33,2,     0.02,2,    0.250,3,    2.336,2,    1.313,2,   2055.4,2,   2286.9,2,   7.9443,2,    25.00,    0.071,2,     0.08,2,     0.22,2,  18.0227,2,  25.1473,2,  18.0487,2
49UP20180806_1,   P13,    46,  1,     31,     840,2,20180815,0613,0831, 27.9975, 165.0068, 5613,    202.6,      201,  17.0524,  34.7626,2,    203.8,2,  34.7609,2,   203.83,2,     4.20,3,     4.90,2,     0.00,2,    0.330,3,    2.424,2,    1.355,2,   2056.9,2,   2285.3,2,   7.9296,2,    25.00,    0.046,2,     0.02,2,     0.02,2,  17.0190,2,  25.3275,2,  17.0523,2
49UP20180806_1,   P13,    46,  1,     30,     839,2,20180815,0613,0829, 27.9975, 165.0068, 5613,    252.9,      251,  16.4170,  34.7177,2,    209.6,2,  34.7168,2,   209.32,2,     5.03,3,     5.55,2,     0.00,2,    0.370,3,    2.462,2,    1.367,2,   2058.3,2,   2281.8,2,   7.9269,2,    25.00,    0.061,2,  -999.00,9,  -999.00,9,  16.3762,2,  25.4439,2,  16.4148,2
49UP20180806_1,   P13,    46,  1,     29,     838,2,20180815,0613,0827, 27.9975, 165.0068, 5613,    334.0,      332,  14.9061,  34.5675,2,    205.4,2,  34.5674,2,   205.23,2,     8.89,3,     8.34,2,     0.00,2,    0.560,3,    2.602,2,    1.425,2,   2073.6,2,   2277.2,2,   7.8859,2,    25.00,    0.061,2,  -999.00,9,  -999.00,9,  14.8557,2,  25.6699,2,  14.9054,2
49UP20180806_1,   P13,    46,  1,     28,     837,3,20180815,0613,0824, 27.9975, 165.0068, 5613,    433.4,      430,  12.5349,  34.3734,2,    203.5,2,  34.3741,2,   203.55,6,    14.93,3,    12.27,6,     0.00,6,    0.840,3,    2.845,2,    1.557,2,   2100.2,6,   2273.3,6,   7.8181,2,    25.00,    0.083,2,  -999.00,9,  -999.00,9,  12.4765,2,  26.0107,2,  12.5357,2
49UP20180806_1,   P13,    46,  1,     27,     661,3,20180815,0613,0821, 27.9975, 165.0068, 5613,    535.8,      532,   9.6044,  34.1393,2,    193.9,2,  34.1397,2,   193.94,2,    26.56,3,    18.20,2,     0.00,2,    1.270,3,    3.066,2,    1.622,2,   2140.1,2,   2272.6,2,   7.7246,6,    25.00,    0.125,2,  -999.00,9,  -999.00,9,   9.5434,2,  26.3562,2,   9.6025,2
49UP20180806_1,   P13,    46,  1,     26,     835,2,20180815,0613,0818, 27.9975, 165.0068, 5613,    636.0,      631,   7.2914,  34.0399,2,    149.6,2,  34.0418,2,   149.35,2,    47.40,3,    26.59,2,     0.00,2,    1.890,3,    2.724,2,    1.346,2,   2198.7,2,   2285.2,2,   7.5889,2,    25.00,    0.112,2,  -999.00,9,  -999.00,9,   7.2295,2,  26.6307,2,   7.2924,2
49UP20180806_1,   P13,    46,  1,     25,     834,2,20180815,0613,0815, 27.9975, 165.0068, 5613,    737.5,      731,   5.3713,  34.0363,2,    104.2,2,  34.0386,2,   103.70,2,    74.38,3,    34.14,2,     0.00,2,    2.450,3,    2.066,2,    0.979,2,   2262.6,2,   2303.3,2,   7.4634,2,    25.00,    0.101,2,  -999.00,9,  -999.00,9,   5.3097,2,  26.8753,2,   5.3715,2
49UP20180806_1,   P13,    46,  1,     24,     833,4,20180815,0613,0813, 27.9975, 165.0068, 5613,    838.0,      831,   4.5777,  34.1229,2,     68.9,2,-999.0000,9,  -999.00,9,  -999.00,9,  -999.00,9,  -999.00,9, -999.000,9, -999.000,9, -999.000,9,   -999.0,9,   -999.0,9,-999.0000,9,  -999.00, -999.000,9,  -999.00,9,  -999.00,9,   4.5121,2,  27.0343,2,   4.5780,2
49UP20180806_1,   P13,    46,  1,     23,     832,2,20180815,0613,0810, 27.9975, 165.0068, 5613,    938.5,      930,   3.9525,  34.2332,2,     41.4,2,  34.2349,2,    40.92,2,   113.47,3,    41.43,2,     0.00,2,    2.960,3,    0.588,2,    0.268,2,   2341.0,2,   2346.2,2,   7.3597,2,    25.00,    0.030,2,  -999.00,9,  -999.00,9,   3.8827,2,  27.1881,2,   3.9537,2
49UP20180806_1,   P13,    46,  1,     22,     831,2,20180815,0613,0806, 27.9975, 165.0068, 5613,   1081.3,     1071,   3.4111,  34.3441,2,     31.0,2,  34.3447,2,    30.84,2,   129.53,3,    42.83,2,     0.00,2,    3.060,3,    0.215,2,    0.094,2,   2363.9,2,   2367.1,2,   7.3513,2,    25.00,    0.011,2,  -999.00,9,  -999.00,9,   3.3338,2,  27.3304,2,   3.4105,2
49UP20180806_1,   P13,    46,  1,     21,     830,2,20180815,0613,0802, 27.9975, 165.0068, 5613,   1283.7,     1271,   2.8877,  34.4568,2,     37.4,2,  34.4578,2,    37.38,2,   144.18,3,    42.96,2,     0.00,2,    3.050,3,    0.048,2,    0.016,2,   2375.5,2,   2389.0,2,   7.3711,2,    25.00,    0.001,2,  -999.00,9,  -999.00,9,   2.7990,2,  27.4695,2,   2.8875,2
49UP20180806_1,   P13,    46,  1,     20,     829,2,20180815,0613,0757, 27.9975, 165.0068, 5613,   1485.7,     1471,   2.5358,  34.5217,2,     51.8,2,  34.5233,2,    52.54,2,   151.21,3,    42.29,2,     0.00,2,    2.990,3,    0.015,6,    0.006,6,   2375.7,2,   2400.7,2,   7.4029,2,    25.00,    0.003,6,  -999.00,9,  -999.00,9,   2.4346,2,  27.5530,2,   2.5360,2
49UP20180806_1,   P13,    46,  1,     19,     828,2,20180815,0613,0749, 27.9975, 165.0068, 5613,   1689.2,     1671,   2.2347,  34.5659,2,     68.3,2,  34.5665,2,    68.53,6,   155.13,3,    41.33,6,     0.00,6,    2.910,3,    0.008,2,    0.006,2,   2372.8,2,   2406.1,2,   7.4330,2,    25.00,    0.007,2,  -999.00,9,  -999.00,9,   2.1207,2,  27.6142,2,   2.2346,2
49UP20180806_1,   P13,    46,  1,     18,     660,2,20180815,0613,0744, 27.9975, 165.0068, 5613,   1891.8,     1871,   2.0196,  34.5966,2,     83.9,2,  34.5982,6,    84.20,2,   156.91,3,    40.41,2,     0.00,2,    2.840,3,    0.005,2,    0.002,2,   2365.6,2,   2411.0,2,   7.4653,2,    25.00,    0.021,3,  -999.00,9,  -999.00,9,   1.8919,2,  27.6569,2,   2.0195,2
49UP20180806_1,   P13,    46,  1,     17,     826,2,20180815,0613,0740, 27.9975, 165.0068, 5613,   2095.6,     2071,   1.8581,  34.6209,2,     99.9,2,  34.6211,2,    99.76,2,   155.99,3,    39.45,2,     0.00,2,    2.760,3,    0.002,2,    0.002,2,   2360.0,2,   2414.3,2,   7.4946,2,    25.00,    0.002,2,  -999.00,9,  -999.00,9,   1.7158,2,  27.6899,2,   1.8580,2
49UP20180806_1,   P13,    46,  1,     16,     825,2,20180815,0613,0735, 27.9975, 165.0068, 5613,   2297.9,     2270,   1.7579,  34.6359,2,    110.5,2,  34.6370,2,   110.56,2,   155.02,3,    38.68,2,     0.00,2,    2.700,3,    0.000,2,    0.002,2,   2352.8,2,   2417.7,2,   7.5144,2,    25.00,    0.000,2,  -999.00,9,  -999.00,9,   1.6000,2,  27.7106,2,   1.7581,2
49UP20180806_1,   P13,    46,  1,     15,     824,2,20180815,0613,0730, 27.9975, 165.0068, 5613,   2502.1,     2471,   1.6801,  34.6471,2,    118.3,2,  34.6475,2,   118.31,2,   154.98,3,    38.33,2,     0.00,2,    2.670,3,    0.000,2,    0.002,2,   2349.5,2,   2418.5,2,   7.5311,2,    25.00,   -0.000,2,  -999.00,9,  -999.00,9,   1.5056,2,  27.7265,2,   1.6803,2
49UP20180806_1,   P13,    46,  1,     14,     823,2,20180815,0613,0725, 27.9975, 165.0068, 5613,   2704.5,     2669,   1.6302,  34.6547,2,    124.4,2,  34.6555,2,   124.36,2,   154.37,3,    37.94,2,     0.00,2,    2.630,3,   -0.000,2,    0.002,2,   2348.9,6,   2417.9,6,   7.5395,2,    25.00,    0.002,2,  -999.00,9,  -999.00,9,   1.4384,2,  27.7376,2,   1.6301,2
49UP20180806_1,   P13,    46,  1,     13,     822,2,20180815,0613,0720, 27.9975, 165.0068, 5613,   2910.4,     2871,   1.5818,  34.6611,2,    129.5,2,  34.6611,2,   129.16,2,   154.02,3,    37.42,2,     0.00,2,    2.610,3,    0.000,2,    0.001,2,   2346.3,2,   2419.1,2,   7.5499,6,    25.00,    0.007,2,  -999.00,9,  -999.00,9,   1.3718,2,  27.7474,2,   1.5818,2
49UP20180806_1,   P13,    46,  1,     12,     821,2,20180815,0613,0716, 27.9975, 165.0068, 5613,   3124.1,     3081,   1.5467,  34.6665,2,    134.4,2,  34.6664,2,   134.93,2,   153.48,3,    37.12,2,     0.00,2,    2.580,3,    0.006,2,    0.004,2,   2342.9,2,   2420.8,2,   7.5590,2,    25.00,    0.004,2,  -999.00,9,  -999.00,9,   1.3169,2,  27.7557,2,   1.5467,2
49UP20180806_1,   P13,    46,  1,     11,     820,2,20180815,0613,0710, 27.9975, 165.0068, 5613,   3379.9,     3331,   1.5163,  34.6719,2,    139.3,2,  34.6669,4,   139.60,2,   152.73,3,    36.94,2,     0.00,2,    2.550,3, -999.000,9, -999.000,9,   2340.1,2,   2417.0,2,   7.5643,2,    25.00, -999.000,9,  -999.00,9,  -999.00,9,   1.2619,2,  27.7638,2,   1.5163,2
49UP20180806_1,   P13,    46,  1,     10,     819,2,20180815,0613,0704, 27.9975, 165.0068, 5613,   3636.7,     3582,   1.4956,  34.6766,2,    144.8,2,  34.6767,2,   145.65,6,   150.96,3,    36.56,6,     0.00,6,    2.520,3, -999.000,9, -999.000,9,   2336.1,2,   2418.3,2,   7.5751,2,    25.00, -999.000,9,  -999.00,9,  -999.00,9,   1.2155,2,  27.7709,2,   1.4956,2
49UP20180806_1,   P13,    46,  1,      9,     818,2,20180815,0613,0658, 27.9975, 165.0068, 5613,   3891.1,     3830,   1.4753,  34.6809,2,    150.3,2,  34.6804,2,   149.95,2,   149.18,3,    36.24,2,     0.00,2,    2.500,3, -999.000,9, -999.000,9,   2330.2,2,   2417.1,2,   7.5824,2,    25.00, -999.000,9,  -999.00,9,  -999.00,9,   1.1689,2,  27.7775,2,   1.4753,2
49UP20180806_1,   P13,    46,  1,      8,     817,2,20180815,0613,0652, 27.9975, 165.0068, 5613,   4146.1,     4079,   1.4597,  34.6848,2,    155.7,2,  34.6852,6,   156.11,2,   146.45,3,    35.76,2,     0.00,2,    2.460,3,    0.002,2,    0.003,2,   2327.1,2,   2413.5,2,   7.5908,2,    25.00,    0.001,2,  -999.00,9,  -999.00,9,   1.1259,2,  27.7836,2,   1.4596,2
49UP20180806_1,   P13,    46,  1,      7,     816,2,20180815,0613,0646, 27.9975, 165.0068, 5613,   4403.9,     4330,   1.4588,  34.6875,2,    159.6,2,  34.6870,2,   158.69,2,   144.72,3,    35.61,2,     0.00,2,    2.450,3, -999.000,9, -999.000,9,   2322.2,2,   2412.9,2,   7.5941,2,    25.00, -999.000,9,  -999.00,9,  -999.00,9,   1.0961,2,  27.7878,2,   1.4587,2
49UP20180806_1,   P13,    46,  1,      6,     815,2,20180815,0613,0640, 27.9975, 165.0068, 5613,   4659.6,     4579,   1.4624,  34.6897,2,    163.4,2,  34.6898,2,   163.51,2,   142.13,3,    35.28,2,     0.00,2,    2.420,3, -999.000,9, -999.000,9,   2314.1,2,   2410.8,2,   7.5994,2,    25.00, -999.000,9,  -999.00,9,  -999.00,9,   1.0701,2,  27.7914,2,   1.4625,2
49UP20180806_1,   P13,    46,  1,      5,     814,2,20180815,0613,0635, 27.9975, 165.0068, 5613,   4918.8,     4830,   1.4678,  34.6922,2,    167.4,2,  34.6920,2,   167.55,2,   139.77,3,    34.99,2,     0.00,2,    2.400,3, -999.000,9, -999.000,9,   2315.1,2,   2409.1,2,   7.6059,2,    25.00, -999.000,9,  -999.00,9,  -999.00,9,   1.0444,2,  27.7950,2,   1.4678,2
49UP20180806_1,   P13,    46,  1,      4,     813,2,20180815,0613,0628, 27.9975, 165.0068, 5613,   5175.9,     5080,   1.4741,  34.6941,2,    171.0,2,  34.6938,2,   171.33,2,   137.38,3,    34.69,2,     0.00,2,    2.380,3,    0.000,2,    0.002,2,   2303.8,2,   2404.8,2,   7.6070,2,    25.00,    0.003,2,  -999.00,9,  -999.00,9,   1.0191,2,  27.7982,2,   1.4741,2
49UP20180806_1,   P13,    46,  1,      3,     812,2,20180815,0613,0622, 27.9975, 165.0068, 5613,   5432.9,     5329,   1.4813,  34.6958,2,    174.4,2,  34.6951,2,   173.89,2,   135.79,3,    34.47,2,     0.00,2,    2.370,3, -999.000,9, -999.000,9,   2307.9,2,   2403.6,6,   7.6100,2,    25.00, -999.000,9,  -999.00,9,  -999.00,9,   0.9940,2,  27.8013,2,   1.4813,2
49UP20180806_1,   P13,    46,  1,      2,     811,3,20180815,0613,0617, 27.9975, 165.0068, 5613,   5691.8,     5580,   1.4960,  34.6972,2,    177.1,2,  34.6972,2,   177.48,2,   133.94,3,    34.27,2,     0.00,2,    2.350,3, -999.000,9, -999.000,9,   2303.4,2,   2400.7,2,   7.6135,6,    25.00, -999.000,9,  -999.00,9,  -999.00,9,   0.9748,2,  27.8037,2,   1.4960,2
49UP20180806_1,   P13,    46,  1,      1,     810,2,20180815,0613,0613, 27.9975, 165.0068, 5613,   5795.6,     5680,   1.5069,  34.6973,2,    177.6,2,  34.6976,2,   177.79,6,   133.86,3,    34.22,6,     0.00,6,    2.350,3,    0.002,2,    0.002,2,   2304.3,2,   2398.3,2,   7.6143,2,    25.00,    0.007,2,  -999.00,9,  -999.00,9,   0.9717,2,  27.8040,2,   1.5068,2