BOTTLE,20191018JMAGEMD
EXPOCODE,SECT_ID,STNNBR,CASTNO,SAMPNO,BTLNBR,BTLNBR_FLAG_U,DATE,TIME,BTL_TIME,LATITUDE,LONGITUDE,DEPTH,CTDPRS,CTDDEP,CTDTMP,CTDSAL,CTDSAL_FLAG_W,CTDOXY,CTDOXY_FLAG_W,SALNTY,SALNTY_FLAG_W,OXYGEN,OXYGEN_FLAG_W,SILCAT,SILCAT_FLAG_W,NO2+NO3,NO2+NO3_FLAG_W,NITRIT,NITRIT_FLAG_W,PHSPHT,PHSPHT_FLAG_W,CFC-11,CFC-11_FLAG_W,CFC-12,CFC-12_FLAG_W,TCARBN,TCARBN_FLAG_W,ALKALI,ALKALI_FLAG_W,PH_TS,PH_TS_FLAG_W,PH_TS_TMP,CFC113,CFC113_FLAG_W,CHLORA,CHLORA_FLAG_W,PPHYTN,PPHYTN_FLAG_W,THETA,THETA_FLAG_W,SIGTHT,SIGTHT_FLAG_W,SBE35,SBE35_FLAG_W
,,,,,,,,UTC,,,,METER,DBAR,METERS,ITS-90,PSS-78,,UMOL/KG,,PSS78,,UMOL/KG,,UMOL/KG,,UMOL/KG,,UMOL/KG,,UMOL/KG,,PMOL/KG,,PMOL/KG,,UMOL/KG,,UMOL/KG,,,,ITS-90,PMOL/KG,,UG/KG,,UG/KG,,ITS-90,,KG/M3,,ITS-90,
49UP20180614_1,   P13,     6,  1,      0,      -9,0,20180621,1222,1416, 39.6558, 147.8825, 5338,      0.0,        0,  17.5494,  34.4247,2,    241.0,2,  34.4145,2,   244.05,2,     2.30,2,     0.00,2,     0.00,2,    0.040,2, -999.000,9, -999.000,9,   2012.1,2,   2277.0,2,   8.0012,2,    25.00, -999.000,9,     0.24,2,     0.07,2,  17.5489,2,  24.9414,2,-999.0000,9
49UP20180614_1,   P13,     6,  1,     36,     845,2,20180621,1222,1448, 39.6558, 147.8825, 5338,     11.1,       11,  17.4817,  34.4243,2,    241.6,2,  34.4244,2,   244.21,2,     2.35,2,     0.04,2,     0.00,2,    0.040,2,    2.220,2,    1.387,2,   2014.8,2,   2277.3,2,   8.0004,2,    25.00,    0.196,2,     0.22,2,     0.07,2,  17.4799,2,  24.9577,2,  17.4801,2
49UP20180614_1,   P13,     6,  1,     35,     844,2,20180621,1222,1443, 39.6558, 147.8825, 5338,     51.4,       51,  14.0597,  34.4913,2,    221.9,2,  34.4923,2,   222.53,2,    12.37,2,     8.26,2,     0.05,2,    0.590,2,    2.411,2,    1.523,2,   2074.4,2,   2280.2,2,   7.8868,2,    25.00,    0.183,2,     0.52,2,     0.33,2,  14.0523,2,  25.7830,2,  14.0586,2
49UP20180614_1,   P13,     6,  1,     34,     843,2,20180621,1222,1442, 39.6558, 147.8825, 5338,     76.6,       76,  12.9921,  34.4855,2,    223.9,2,  34.4866,2,   224.43,2,    14.69,2,     9.81,2,     0.03,2,    0.690,2, -999.000,9, -999.000,9,   2086.0,2,   2281.2,2,   7.8614,2,    25.00, -999.000,9,     0.07,2,     0.09,2,  12.9816,2,  25.9979,2,  13.0079,2
49UP20180614_1,   P13,     6,  1,     33,     842,2,20180621,1222,1440, 39.6558, 147.8825, 5338,    101.3,      101,  12.3209,  34.4308,2,    220.1,2,  34.4329,2,   220.41,2,    16.73,2,    11.24,2,     0.02,2,    0.790,2,    2.486,6,    1.566,6,   2094.1,2,   2281.8,2,   7.8389,2,    25.00,    0.159,6,     0.02,2,     0.05,2,  12.3076,2,  26.0880,2,  12.3311,2
49UP20180614_1,   P13,     6,  1,     32,     841,2,20180621,1222,1438, 39.6558, 147.8825, 5338,    126.4,      125,  11.4849,  34.3387,2,    220.0,2,  34.3379,2,   220.17,2,    18.29,2,    12.43,2,     0.02,2,    0.880,2, -999.000,9, -999.000,9,   2104.2,2,   2278.1,2,   7.8176,2,    25.00, -999.000,9,     0.01,2,     0.05,2,  11.4690,2,  26.1750,2,  11.4844,2
49UP20180614_1,   P13,     6,  1,     31,     840,2,20180621,1222,1437, 39.6558, 147.8825, 5338,    152.8,      152,  10.4603,  34.2209,2,    223.2,2,  34.2220,2,   223.46,6,    19.86,6,    13.46,6,     0.01,6,    0.970,6,    2.716,2,    1.701,2,   2111.7,2,   2276.5,2,   7.7932,2,    25.00,    0.191,2,     0.01,2,     0.05,2,  10.4423,2,  26.2675,2,  10.4600,2
49UP20180614_1,   P13,     6,  1,     30,     839,3,20180621,1222,1434, 39.6558, 147.8825, 5338,    203.7,      202,   7.7669,  33.9108,2,    236.5,2,  33.9135,2,   235.78,2,    25.77,2,    16.28,2,     0.02,2,    1.210,2,    3.131,2,    1.912,2,   2132.6,2,   2268.9,2,   7.7301,2,    25.00,    0.218,2,     0.01,2,     0.05,2,   7.7470,2,  26.4554,2,   7.7688,2
49UP20180614_1,   P13,     6,  1,     29,     838,2,20180621,1222,1432, 39.6558, 147.8825, 5338,    253.3,      251,   6.9114,  33.8815,2,    206.2,2,  33.8846,2,   205.45,2,    38.46,2,    21.27,2,     0.02,2,    1.570,2,    2.958,2,    1.759,2,   2165.2,2,   2272.8,2,   7.6557,2,    25.00,    0.177,2,  -999.00,9,  -999.00,9,   6.8882,2,  26.5529,2,   6.9057,2
49UP20180614_1,   P13,     6,  1,     28,     837,2,20180621,1222,1430, 39.6558, 147.8825, 5338,    304.9,      302,   5.5929,  33.8051,2,    186.1,2,  33.8040,2,   186.29,2,    49.95,2,    25.62,2,     0.01,2,    1.900,2,    2.967,2,    1.753,2,   2201.2,2,   2276.5,2,   7.5793,2,    25.00,    0.204,2,  -999.00,9,  -999.00,9,   5.5680,2,  26.6615,2,   5.5927,2
49UP20180614_1,   P13,     6,  1,     27,     661,2,20180621,1222,1426, 39.6558, 147.8825, 5338,    405.0,      402,   3.6486,  33.7391,2,    134.6,2,  33.7045,4,   138.15,2,    76.79,2,    34.25,2,     0.00,2,    2.530,2,    2.869,2,    1.671,2,   2265.1,2,   2285.9,2,   7.4125,2,    25.00,    0.223,2,  -999.00,9,  -999.00,9,   3.6215,2,  26.8207,2,   3.6285,2
49UP20180614_1,   P13,     6,  1,     26,     835,2,20180621,1222,1423, 39.6558, 147.8825, 5338,    505.4,      501,   4.2709,  34.0271,2,     75.8,2,  34.0250,2,    76.15,2,    93.09,2,    37.94,2,     0.00,2,    2.740,2,    1.695,2,    0.928,2,   2305.7,6,   2313.6,6,   7.3741,2,    25.00,    0.101,2,  -999.00,9,  -999.00,9,   4.2338,2,  26.9879,2,   4.2733,2
49UP20180614_1,   P13,     6,  1,     25,     834,2,20180621,1222,1419, 39.6558, 147.8825, 5338,    608.5,      603,   3.8450,  34.1114,2,     50.2,2,  34.1111,2,    50.25,2,   108.47,2,    40.71,2,     0.00,2,    2.920,2,    5.713,4,   12.927,4,   2333.2,2,   2329.5,2,   7.3328,6,    25.00,    1.790,4,  -999.00,9,  -999.00,9,   3.8019,2,  27.0994,2,   3.8455,2
49UP20180614_1,   P13,     6,  1,     24,     833,2,20180621,1222,1416, 39.6558, 147.8825, 5338,    711.7,      705,   3.7835,  34.2479,2,     45.3,2,  34.2479,2,    45.54,2,   117.69,2,    41.00,2,     0.00,2,    2.920,2,    0.682,2,    0.344,2,   2341.0,2,   2348.4,2,   7.3533,2,    25.00,    0.030,2,  -999.00,9,  -999.00,9,   3.7327,2,  27.2149,2,   3.7845,2
49UP20180614_1,   P13,     6,  1,     23,     832,2,20180621,1222,1412, 39.6558, 147.8825, 5338,    810.7,      803,   3.2906,  34.2893,2,     34.1,2,  34.2872,2,    34.31,2,   131.63,2,    42.25,2,     0.00,2,    3.020,2,    0.498,2,    0.265,2,   2366.6,2,   2360.0,2,   7.3309,2,    25.00,    0.042,2,  -999.00,9,  -999.00,9,   3.2352,2,  27.2961,2,   3.2903,2
49UP20180614_1,   P13,     6,  1,     22,     831,2,20180621,1222,1409, 39.6558, 147.8825, 5338,    912.8,      904,   3.1995,  34.3548,2,     38.7,2,  34.3567,2,    39.81,6,   134.50,6,    42.00,6,     0.00,6,    2.990,6,    0.298,2,    0.161,2,   2359.6,2,   2368.8,2,   7.3526,2,    25.00,    0.014,2,  -999.00,9,  -999.00,9,   3.1369,2,  27.3575,2,   3.1998,2
49UP20180614_1,   P13,     6,  1,     21,     830,2,20180621,1222,1406, 39.6558, 147.8825, 5338,   1013.3,     1003,   2.9798,  34.3926,2,     37.4,2,  34.3918,6,    37.40,2,   141.42,2,    42.41,2,     0.00,2,    3.020,2,    0.216,2,    0.113,2,   2375.0,2,   2377.0,2,   7.3544,2,    25.00,    0.004,2,  -999.00,9,  -999.00,9,   2.9112,2,  27.4082,2,   2.9798,2
49UP20180614_1,   P13,     6,  1,     20,     829,2,20180621,1222,1401, 39.6558, 147.8825, 5338,   1215.5,     1203,   2.6324,  34.4548,2,     39.0,2,  34.4541,2,    39.13,2,   151.83,2,    42.49,2,     0.00,2,    3.030,2,    0.112,2,    0.059,2,   2386.2,2,   2390.9,2,   7.3608,2,    25.00,    0.007,2,  -999.00,9,  -999.00,9,   2.5514,2,  27.4896,2,   2.6321,2
49UP20180614_1,   P13,     6,  1,     19,     828,2,20180621,1222,1355, 39.6558, 147.8825, 5338,   1417.0,     1401,   2.3783,  34.5015,2,     44.7,2,  34.5016,2,    44.38,2,   158.82,2,    42.37,2,     0.00,2,    3.010,2,    0.063,2,    0.040,2,   2385.0,2,   2399.2,2,   7.3727,2,    25.00,    0.004,2,  -999.00,9,  -999.00,9,   2.2843,2,  27.5494,2,   2.3784,2
49UP20180614_1,   P13,     6,  1,     18,     827,2,20180621,1222,1350, 39.6558, 147.8825, 5338,   1619.2,     1601,   2.1854,  34.5388,2,     52.7,2,  34.5388,2,    52.58,2,   163.29,2,    42.07,2,     0.00,2,    2.970,2,    0.033,6,    0.020,6,   2385.5,6,   2405.0,6,   7.3880,2,    25.00,    0.009,6,  -999.00,9,  -999.00,9,   2.0777,2,  27.5960,2,   2.1855,2
49UP20180614_1,   P13,     6,  1,     17,     826,2,20180621,1222,1345, 39.6558, 147.8825, 5338,   1822.4,     1801,   2.0500,  34.5698,2,     63.4,2,  34.5682,4,    62.92,2,   163.96,2,    41.44,2,     0.00,2,    2.920,2,    0.012,2,    0.003,2,   2381.8,2,   2410.4,2,   7.4140,6,    25.00,   -0.000,2,  -999.00,9,  -999.00,9,   1.9277,2,  27.6327,2,   2.0500,2
49UP20180614_1,   P13,     6,  1,     16,     825,3,20180621,1222,1341, 39.6558, 147.8825, 5338,   2027.8,     2003,   1.9145,  34.5971,2,     76.6,2,  34.5964,2,    76.73,2,   164.54,2,    40.72,2,     0.00,2,    2.860,2,    0.005,2,   -0.000,2,   2380.9,2,   2413.3,2,   7.4391,2,    25.00,    0.000,2,  -999.00,9,  -999.00,9,   1.7771,2,  27.6662,2,   1.9146,2
49UP20180614_1,   P13,     6,  1,     15,     824,2,20180621,1222,1336, 39.6558, 147.8825, 5338,   2230.9,     2202,   1.8060,  34.6165,2,     88.4,2,  34.6163,2,    88.15,2,   164.30,2,    39.98,2,     0.00,2,    2.800,2,    0.003,2,    0.000,2,   2371.8,2,   2415.6,2,   7.4636,2,    25.00,    0.000,2,  -999.00,9,  -999.00,9,   1.6531,2,  27.6911,2,   1.8060,2
49UP20180614_1,   P13,     6,  1,     14,     823,2,20180621,1222,1330, 39.6558, 147.8825, 5338,   2435.5,     2403,   1.7261,  34.6309,2,     98.5,2,  34.6306,2,    97.93,2,   163.67,2,    39.31,2,     0.00,2,    2.750,2,    0.000,2,    0.000,2,   2364.9,2,   2417.6,2,   7.4801,2,    25.00,    0.000,2,  -999.00,9,  -999.00,9,   1.5568,2,  27.7098,2,   1.7262,2
49UP20180614_1,   P13,     6,  1,     13,     822,2,20180621,1222,1325, 39.6558, 147.8825, 5338,   2636.5,     2600,   1.6503,  34.6442,2,    110.0,2,  34.6444,2,   109.63,6,   161.66,6,    38.68,6,     0.00,6,    2.700,6,    0.000,2,    0.006,2,   2352.0,2,   2418.8,2,   7.5030,2,    25.00,    0.001,2,  -999.00,9,  -999.00,9,   1.4643,2,  27.7272,2,   1.6504,2
49UP20180614_1,   P13,     6,  1,     12,     821,2,20180621,1222,1321, 39.6558, 147.8825, 5338,   2841.3,     2801,   1.6013,  34.6531,2,    118.2,2,  34.6532,2,   117.75,2,   159.96,2,    38.10,2,     0.00,2,    2.660,2,    0.000,2,    0.000,2,   2353.1,2,   2419.0,2,   7.5183,2,    25.00,    0.000,2,  -999.00,9,  -999.00,9,   1.3974,2,  27.7392,2,   1.6013,2
49UP20180614_1,   P13,     6,  1,     11,     820,2,20180621,1222,1316, 39.6558, 147.8825, 5338,   3045.1,     3000,   1.5576,  34.6611,2,    126.2,2,  34.6608,2,   125.24,2,   158.00,2,    37.61,2,     0.00,2,    2.620,2, -999.000,9, -999.000,9,   2348.9,2,   2420.5,2,   7.5361,2,    25.00, -999.000,9,  -999.00,9,  -999.00,9,   1.3352,2,  27.7500,2,   1.5576,2
49UP20180614_1,   P13,     6,  1,     10,     819,2,20180621,1222,1310, 39.6558, 147.8825, 5338,   3300.7,     3250,   1.5145,  34.6690,2,    134.2,2,  34.6684,2,   134.03,2,   156.32,2,    37.10,2,     0.00,2,    2.580,2, -999.000,9, -999.000,9,   2345.6,2,   2420.8,2,   7.5460,2,    25.00, -999.000,9,  -999.00,9,  -999.00,9,   1.2682,2,  27.7611,2,   1.5147,2
49UP20180614_1,   P13,     6,  1,      9,     818,2,20180621,1222,1305, 39.6558, 147.8825, 5338,   3555.8,     3499,   1.4923,  34.6742,2,    140.0,2,  34.6741,6,   139.70,2,   155.12,2,    36.60,2,     0.00,2,    2.540,2, -999.000,9, -999.000,9,   2336.1,2,   2420.4,2,   7.5547,2,    25.00, -999.000,9,  -999.00,9,  -999.00,9,   1.2207,2,  27.7686,2,   1.4924,2
49UP20180614_1,   P13,     6,  1,      8,     817,2,20180621,1222,1259, 39.6558, 147.8825, 5338,   3812.3,     3749,   1.4803,  34.6784,2,    145.1,2,  34.6782,2,   144.74,2,   153.43,2,    36.33,2,     0.00,2,    2.510,2,    0.000,2,    0.000,2,   2336.5,2,   2419.1,2,   7.5661,2,    25.00,    0.009,2,  -999.00,9,  -999.00,9,   1.1821,2,  27.7746,2,   1.4801,2
49UP20180614_1,   P13,     6,  1,      7,     816,2,20180621,1222,1254, 39.6558, 147.8825, 5338,   4068.1,     3999,   1.4712,  34.6823,2,    149.8,2,  34.6822,2,   149.42,2,   152.16,2,    36.04,2,     0.00,2,    2.490,2, -999.000,9, -999.000,9,   2333.3,2,   2419.4,2,   7.5741,2,    25.00, -999.000,9,  -999.00,9,  -999.00,9,   1.1457,2,  27.7803,2,   1.4713,2
49UP20180614_1,   P13,     6,  1,      6,     815,2,20180621,1222,1248, 39.6558, 147.8825, 5338,   4325.8,     4250,   1.4706,  34.6853,2,    153.6,2,  34.6851,2,   153.11,2,   151.27,2,    35.76,2,     0.00,2,    2.480,2, -999.000,9, -999.000,9,   2328.1,2,   2418.9,2,   7.5787,2,    25.00, -999.000,9,  -999.00,9,  -999.00,9,   1.1164,2,  27.7847,2,   1.4706,2
49UP20180614_1,   P13,     6,  1,      5,     814,2,20180621,1222,1242, 39.6558, 147.8825, 5338,   4584.3,     4501,   1.4808,  34.6875,2,    156.1,2,  34.6868,6,   155.43,2,   150.76,2,    35.47,2,     0.00,2,    2.460,2, -999.000,9, -999.000,9,   2328.6,2,   2418.4,2,   7.5849,2,    25.00, -999.000,9,  -999.00,9,  -999.00,9,   1.0967,2,  27.7878,2,   1.4810,2
49UP20180614_1,   P13,     6,  1,      4,     813,2,20180621,1222,1236, 39.6558, 147.8825, 5338,   4840.8,     4750,   1.4990,  34.6889,2,    157.7,2,  34.6885,2,   157.66,6,   150.35,6,    35.45,6,     0.00,6,    2.450,6,    0.004,2,    0.000,2,   2327.7,2,   2416.0,2,   7.5874,2,    25.00,    0.004,2,  -999.00,9,  -999.00,9,   1.0840,2,  27.7897,2,   1.4990,2
49UP20180614_1,   P13,     6,  1,      3,     812,2,20180621,1222,1230, 39.6558, 147.8825, 5338,   5098.2,     5000,   1.5207,  34.6900,2,    159.1,2,  34.6895,2,   158.92,2,   149.57,2,    35.32,2,     0.00,2,    2.440,2, -999.000,9, -999.000,9,   2324.4,6,   2417.1,6,   7.5901,2,    25.00, -999.000,9,  -999.00,9,  -999.00,9,   1.0738,2,  27.7913,2,   1.5208,2
49UP20180614_1,   P13,     6,  1,      2,     811,2,20180621,1222,1225, 39.6558, 147.8825, 5338,   5355.8,     5249,   1.5450,  34.6912,2,    160.3,2,  34.6906,2,   160.27,2,   148.83,2,    35.23,2,     0.01,2,    2.440,2, -999.000,9, -999.000,9,   2322.2,2,   2416.7,2,   7.5880,6,    25.00, -999.000,9,  -999.00,9,  -999.00,9,   1.0651,2,  27.7929,2,   1.5451,2
49UP20180614_1,   P13,     6,  1,      1,     810,2,20180621,1222,1222, 39.6558, 147.8825, 5338,   5422.1,     5314,   1.5525,  34.6912,2,    160.3,2,  34.6900,4,   159.75,2,   148.92,2,    35.23,2,     0.00,2,    2.440,2,    0.009,2,    0.001,2,   2323.9,2,   2415.4,2,   7.5919,2,    25.00,    0.006,2,  -999.00,9,  -999.00,9,   1.0640,2,  27.7929,2,   1.5525,2