BOTTLE,20191018JMAGEMD
EXPOCODE,SECT_ID,STNNBR,CASTNO,SAMPNO,BTLNBR,BTLNBR_FLAG_U,DATE,TIME,BTL_TIME,LATITUDE,LONGITUDE,DEPTH,CTDPRS,CTDDEP,CTDTMP,CTDSAL,CTDSAL_FLAG_W,CTDOXY,CTDOXY_FLAG_W,SALNTY,SALNTY_FLAG_W,OXYGEN,OXYGEN_FLAG_W,SILCAT,SILCAT_FLAG_W,NO2+NO3,NO2+NO3_FLAG_W,NITRIT,NITRIT_FLAG_W,PHSPHT,PHSPHT_FLAG_W,CFC-11,CFC-11_FLAG_W,CFC-12,CFC-12_FLAG_W,TCARBN,TCARBN_FLAG_W,ALKALI,ALKALI_FLAG_W,PH_TS,PH_TS_FLAG_W,PH_TS_TMP,CFC113,CFC113_FLAG_W,CHLORA,CHLORA_FLAG_W,PPHYTN,PPHYTN_FLAG_W,THETA,THETA_FLAG_W,SIGTHT,SIGTHT_FLAG_W,SBE35,SBE35_FLAG_W
,,,,,,,,UTC,,,,METER,DBAR,METERS,ITS-90,PSS-78,,UMOL/KG,,PSS78,,UMOL/KG,,UMOL/KG,,UMOL/KG,,UMOL/KG,,UMOL/KG,,PMOL/KG,,PMOL/KG,,UMOL/KG,,UMOL/KG,,,,ITS-90,PMOL/KG,,UG/KG,,UG/KG,,ITS-90,,KG/M3,,ITS-90,
49UP20180614_1,   P13,     7,  1,      0,      -9,0,20180622,0137,0335, 40.9297, 149.8693, 5362,      0.0,        0,  11.2551,  33.0351,2,    297.4,2,  33.0270,2,   296.25,2,     0.94,2,     3.69,2,     0.10,2,    0.450,2, -999.000,9, -999.000,9,   2013.0,2,   2245.9,2,   7.9427,2,    25.00, -999.000,9,     0.60,2,     0.13,2,  11.2548,2,  25.2002,2,-999.0000,9
49UP20180614_1,   P13,     7,  1,     36,     845,2,20180622,0137,0402, 40.9297, 149.8693, 5362,      8.8,        9,  11.1866,  33.0306,2,    296.8,2,  33.0345,2,   299.78,2,     0.91,2,     3.66,2,     0.10,2,    0.430,2,    3.414,2,    2.081,2,   2014.8,2,   2244.5,2,   7.9469,2,    25.00,    0.320,2,     0.48,2,     0.12,2,  11.1855,2,  25.2091,2,  11.1822,2
49UP20180614_1,   P13,     7,  1,     35,     844,2,20180622,0137,0400, 40.9297, 149.8693, 5362,     27.2,       27,   6.8758,  33.3590,2,    309.7,2,  33.2191,4,   314.79,2,     2.90,2,    10.53,2,     0.27,2,    0.960,2, -999.000,9, -999.000,9,   2072.5,2,   2250.1,2,   7.8304,2,    25.00, -999.000,9,     4.97,2,     2.45,2,   6.8734,2,  26.1432,2,   6.8698,2
49UP20180614_1,   P13,     7,  1,     34,     843,2,20180622,0137,0356, 40.9297, 149.8693, 5362,     50.0,       50,   4.5074,  33.3367,2,    289.9,2,  33.3314,2,   289.84,2,    23.76,2,    16.59,2,     0.27,2,    1.410,2,    4.255,2,    2.504,2,   2125.4,2,   2251.9,2,   7.6980,2,    25.00,    0.381,2,     0.49,2,     0.31,2,   4.5038,2,  26.4109,2,   4.5016,2
49UP20180614_1,   P13,     7,  1,     33,     842,3,20180622,0137,0355, 40.9297, 149.8693, 5362,     75.6,       75,   4.3761,  33.4297,2,    278.2,2,  33.4319,2,   277.62,2,    28.57,2,    18.66,2,     0.17,2,    1.510,2, -999.000,9, -999.000,9,   2145.1,2,   2256.6,2,   7.6729,2,    25.00, -999.000,9,     0.11,2,     0.19,2,   4.3708,2,  26.4989,2,   4.3775,2
49UP20180614_1,   P13,     7,  1,     32,     841,2,20180622,0137,0353, 40.9297, 149.8693, 5362,    101.2,      100,   4.9327,  33.5814,2,    260.6,2,  33.5823,2,   260.72,2,    32.27,6,    19.06,6,     0.07,6,    1.480,6,    3.783,2,    2.251,2,   2149.0,2,   2261.1,2,   7.6676,2,    25.00,    0.313,2,     0.06,2,     0.15,2,   4.9251,2,  26.5590,2,   4.9081,2
49UP20180614_1,   P13,     7,  1,     31,     840,2,20180622,0137,0351, 40.9297, 149.8693, 5362,    127.3,      126,   4.2530,  33.5495,2,    253.6,2,  33.5456,2,   252.92,2,    38.76,2,    21.13,2,     0.05,2,    1.630,2, -999.000,9, -999.000,9,   2159.5,2,   2264.0,2,   7.6310,2,    25.00, -999.000,9,     0.06,2,     0.13,2,   4.2442,2,  26.6074,2,   4.2293,2
49UP20180614_1,   P13,     7,  1,     30,     839,2,20180622,0137,0350, 40.9297, 149.8693, 5362,    153.4,      152,   3.6908,  33.5182,2,    247.2,2,  33.5239,2,   247.38,2,    42.42,2,    22.41,2,     0.03,2,    1.730,2,    3.854,2,    2.289,2,   2169.2,2,   2263.6,2,   7.6075,2,    25.00,    0.329,2,     0.05,2,     0.12,2,   3.6808,2,  26.6390,2,   3.7230,2
49UP20180614_1,   P13,     7,  1,     29,     838,2,20180622,0137,0348, 40.9297, 149.8693, 5362,    202.6,      201,   3.6901,  33.6082,2,    195.5,2,  33.6023,2,   196.15,2,    57.17,2,    27.87,2,     0.02,2,    2.100,2,    3.408,2,    2.008,2,   2208.6,2,   2273.5,2,   7.5193,2,    25.00,    0.264,2,     0.03,2,     0.10,2,   3.6768,2,  26.7111,2,   3.6886,2
49UP20180614_1,   P13,     7,  1,     28,     837,3,20180622,0137,0346, 40.9297, 149.8693, 5362,    253.3,      251,   3.1856,  33.6081,2,    166.3,2,  33.6067,2,   166.29,2,    69.75,2,    32.10,2,     0.01,2,    2.400,2,    3.227,2,    1.882,2,   2239.1,2,   2278.5,2,   7.4442,2,    25.00,    0.241,2,  -999.00,9,  -999.00,9,   3.1699,2,  26.7587,2,   3.1860,2
49UP20180614_1,   P13,     7,  1,     27,     661,2,20180622,0137,0343, 40.9297, 149.8693, 5362,    334.9,      332,   2.6456,  33.6722,2,    126.4,2,  33.6703,2,   126.08,2,    86.84,2,    36.68,2,     0.01,2,    2.710,2,    0.094,4,    0.068,4,   2285.4,2,   2289.9,2,   7.3568,2,    25.00,    0.000,4,  -999.00,9,  -999.00,9,   2.6260,2,  26.8576,2,   2.6429,2
49UP20180614_1,   P13,     7,  1,     26,     835,2,20180622,0137,0340, 40.9297, 149.8693, 5362,    435.8,      432,   3.7017,  33.9772,2,     65.7,2,  33.9767,2,    66.10,2,   100.55,2,    39.92,2,     0.01,2,    2.870,2,    1.756,2,    0.945,2,   2311.6,2,   2318.0,2,   7.3294,6,    25.00,    0.117,2,  -999.00,9,  -999.00,9,   3.6721,2,  27.0054,2,   3.6999,2
49UP20180614_1,   P13,     7,  1,     25,     834,2,20180622,0137,0337, 40.9297, 149.8693, 5362,    535.4,      531,   3.9600,  34.1510,2,     50.9,2,  34.1496,2,    53.99,2,   108.87,2,    40.29,2,     0.01,2,    2.890,2,    1.105,2,    0.578,2,   2322.2,6,   2334.9,6,   7.3440,2,    25.00,    0.064,2,  -999.00,9,  -999.00,9,   3.9218,2,  27.1187,2,   3.9598,2
49UP20180614_1,   P13,     7,  1,     24,     833,2,20180622,0137,0334, 40.9297, 149.8693, 5362,    637.5,      632,   3.3531,  34.1782,2,     33.4,2,  34.1776,2,    34.18,2,   124.55,2,    42.45,2,     0.00,2,    3.030,2,    0.891,2,    0.458,2,   2350.4,2,   2346.1,2,   7.3018,2,    25.00,    0.064,2,  -999.00,9,  -999.00,9,   3.3103,2,  27.2004,2,   3.3540,2
49UP20180614_1,   P13,     7,  1,     23,     832,2,20180622,0137,0331, 40.9297, 149.8693, 5362,    738.1,      731,   3.1141,  34.2457,2,     28.4,2,  34.2450,2,    29.17,6,   134.65,6,    42.95,6,     0.00,6,    3.070,6,    0.644,2,    0.328,2,   2358.5,2,   2357.8,2,   7.3067,2,    25.00,    0.041,2,  -999.00,9,  -999.00,9,   3.0652,2,  27.2770,2,   3.1149,2
49UP20180614_1,   P13,     7,  1,     22,     831,2,20180622,0137,0327, 40.9297, 149.8693, 5362,    839.6,      831,   3.0292,  34.3159,2,     30.7,2,  34.3137,2,    34.18,2,   139.45,2,    42.74,2,     0.00,2,    3.050,2,    0.470,2,    0.248,2,   2361.8,2,   2367.6,2,   7.3237,2,    25.00,    0.032,2,  -999.00,9,  -999.00,9,   2.9734,2,  27.3414,2,   3.0292,2
49UP20180614_1,   P13,     7,  1,     21,     830,2,20180622,0137,0324, 40.9297, 149.8693, 5362,    940.9,      932,   2.8982,  34.3653,2,     32.1,2,  34.3643,2,    32.48,2,   144.36,2,    42.77,2,     0.00,2,    3.050,2,    0.293,2,    0.155,2,   2373.2,2,   2375.6,2,   7.3311,2,    25.00,    0.012,2,  -999.00,9,  -999.00,9,   2.8357,2,  27.3932,2,   2.8982,2
49UP20180614_1,   P13,     7,  1,     20,     829,2,20180622,0137,0319, 40.9297, 149.8693, 5362,   1082.6,     1071,   2.6960,  34.4202,2,     33.9,2,  34.4202,2,    35.81,3,   150.78,2,    42.88,2,     0.00,2,    3.040,2,    0.169,2,    0.092,2,   2384.5,2,   2386.1,2,   7.3460,2,    25.00,    0.007,2,  -999.00,9,  -999.00,9,   2.6245,2,  27.4556,2,   2.6958,2
49UP20180614_1,   P13,     7,  1,     19,     828,2,20180622,0137,0314, 40.9297, 149.8693, 5362,   1284.6,     1271,   2.4750,  34.4777,2,     40.5,2,  34.4769,2,    40.57,2,   156.53,2,    42.58,2,     0.00,2,    3.020,2,    0.085,2,    0.043,2,   2384.2,2,   2395.8,2,   7.3614,2,    25.00,    0.004,2,  -999.00,9,  -999.00,9,   2.3902,2,  27.5215,2,   2.4750,2
49UP20180614_1,   P13,     7,  1,     18,     827,2,20180622,0137,0309, 40.9297, 149.8693, 5362,   1489.1,     1472,   2.2678,  34.5234,2,     49.0,2,  34.5230,2,    49.06,2,   161.12,2,    42.25,2,     0.00,2,    2.990,2,    0.040,6,    0.017,6,   2382.7,2,   2401.6,2,   7.3824,2,    25.00,    0.000,6,  -999.00,9,  -999.00,9,   2.1694,2,  27.5763,2,   2.2679,2
49UP20180614_1,   P13,     7,  1,     17,     826,2,20180622,0137,0305, 40.9297, 149.8693, 5362,   1690.6,     1671,   2.1151,  34.5548,2,     57.8,2,  34.5526,4,    58.01,2,   163.69,2,    41.74,2,     0.00,2,    2.950,2,    0.024,2,    0.010,2,   2379.8,2,   2410.2,2,   7.4011,2,    25.00,    0.001,2,  -999.00,9,  -999.00,9,   2.0026,2,  27.6148,2,   2.1152,2
49UP20180614_1,   P13,     7,  1,     16,     825,3,20180622,0137,0300, 40.9297, 149.8693, 5362,   1893.3,     1870,   1.9842,  34.5835,2,     69.6,2,  34.5819,4,    69.78,2,   164.25,2,    41.07,2,     0.00,2,    2.890,2,    0.006,2,    0.007,2,   2372.1,2,   2412.5,2,   7.4257,6,    25.00,    0.007,2,  -999.00,9,  -999.00,9,   1.8571,2,  27.6492,2,   1.9843,2
49UP20180614_1,   P13,     7,  1,     15,     824,2,20180622,0137,0255, 40.9297, 149.8693, 5362,   2097.4,     2071,   1.8668,  34.6062,2,     82.5,2,  34.6061,6,    82.86,2,   163.93,2,    40.33,2,     0.00,2,    2.830,2,   -0.000,2,    0.003,2,   2367.5,6,   2415.0,6,   7.4490,2,    25.00,    0.003,2,  -999.00,9,  -999.00,9,   1.7244,2,  27.6775,2,   1.8667,2
49UP20180614_1,   P13,     7,  1,     14,     823,2,20180622,0137,0250, 40.9297, 149.8693, 5362,   2298.3,     2268,   1.7550,  34.6252,2,     94.8,2,  34.6240,4,    95.15,6,   163.42,6,    39.47,6,     0.00,6,    2.770,6,    0.000,2,    0.000,2,   2361.3,2,   2416.5,2,   7.4777,2,    25.00,    0.002,2,  -999.00,9,  -999.00,9,   1.5972,2,  27.7022,2,   1.7550,2
49UP20180614_1,   P13,     7,  1,     13,     822,2,20180622,0137,0246, 40.9297, 149.8693, 5362,   2502.8,     2469,   1.6661,  34.6407,2,    106.9,2,  34.6401,2,   107.19,2,   161.93,2,    38.80,2,     0.00,2,    2.710,2,    0.000,2,    0.000,2,   2353.0,2,   2419.1,2,   7.5007,2,    25.00,    0.003,2,  -999.00,9,  -999.00,9,   1.4919,2,  27.7224,2,   1.6664,2
49UP20180614_1,   P13,     7,  1,     12,     821,2,20180622,0137,0241, 40.9297, 149.8693, 5362,   2709.0,     2671,   1.6174,  34.6495,2,    114.8,2,  34.6483,4,   115.09,2,   160.33,2,    38.23,2,     0.00,2,    2.670,2,    0.002,2,    0.000,2,   2350.3,2,   2421.1,2,   7.5095,2,    25.00,    0.004,2,  -999.00,9,  -999.00,9,   1.4255,2,  27.7342,2,   1.6175,2
49UP20180614_1,   P13,     7,  1,     11,     820,2,20180622,0137,0236, 40.9297, 149.8693, 5362,   2912.9,     2870,   1.5627,  34.6588,2,    123.8,2,  34.6584,2,   124.58,2,   158.53,2,    37.66,2,     0.00,2,    2.630,2,    0.001,2,   -0.000,2,   2347.4,2,   2419.0,2,   7.5298,2,    25.00,    0.008,2,  -999.00,9,  -999.00,9,   1.3529,2,  27.7469,2,   1.5627,2
49UP20180614_1,   P13,     7,  1,     10,     819,2,20180622,0137,0232, 40.9297, 149.8693, 5362,   3127.2,     3080,   1.5267,  34.6654,2,    130.7,2,  34.6638,4,   131.13,2,   156.97,2,    37.19,2,     0.00,2,    2.590,2, -999.000,9, -999.000,9,   2347.1,2,   2417.9,2,   7.5416,2,    25.00, -999.000,9,  -999.00,9,  -999.00,9,   1.2972,2,  27.7562,2,   1.5268,2
49UP20180614_1,   P13,     7,  1,      9,     818,2,20180622,0137,0225, 40.9297, 149.8693, 5362,   3383.3,     3330,   1.4982,  34.6716,2,    137.2,2,  34.6713,2,   137.32,2,   155.51,2,    36.85,2,     0.00,2,    2.560,2, -999.000,9, -999.000,9,   2339.7,2,   2420.9,2,   7.5580,2,    25.00, -999.000,9,  -999.00,9,  -999.00,9,   1.2440,2,  27.7649,2,   1.4983,2
49UP20180614_1,   P13,     7,  1,      8,     817,2,20180622,0137,0220, 40.9297, 149.8693, 5362,   3638.3,     3579,   1.4804,  34.6765,2,    142.5,2,  34.6762,2,   142.91,2,   154.17,2,    36.45,2,     0.00,2,    2.530,2, -999.000,9, -999.000,9,   2331.1,2,   2420.0,2,   7.5650,2,    25.00, -999.000,9,  -999.00,9,  -999.00,9,   1.2006,2,  27.7718,2,   1.4805,2
49UP20180614_1,   P13,     7,  1,      7,     816,2,20180622,0137,0212, 40.9297, 149.8693, 5362,   3895.5,     3830,   1.4696,  34.6803,2,    147.4,2,  34.6797,2,   147.70,2,   152.93,2,    36.18,2,     0.00,2,    2.500,2,    0.000,2,    0.000,2,   2337.2,3,   2419.1,2,   7.5734,6,    25.00,    0.004,2,  -999.00,9,  -999.00,9,   1.1628,2,  27.7775,2,   1.4695,2
49UP20180614_1,   P13,     7,  1,      6,     815,2,20180622,0137,0206, 40.9297, 149.8693, 5362,   4151.8,     4080,   1.4682,  34.6834,2,    151.2,2,  34.6834,6,   151.46,2,   151.74,2,    35.87,2,     0.00,2,    2.480,2, -999.000,9, -999.000,9,   2324.9,6,   2417.9,6,   7.5776,2,    25.00, -999.000,9,  -999.00,9,  -999.00,9,   1.1335,2,  27.7819,2,   1.4683,2
49UP20180614_1,   P13,     7,  1,      5,     814,2,20180622,0137,0201, 40.9297, 149.8693, 5362,   4409.6,     4331,   1.4709,  34.6863,2,    154.5,2,  34.6855,2,   154.82,6,   151.29,6,    35.65,6,     0.00,6,    2.470,6, -999.000,9, -999.000,9,   2324.1,2,   2419.6,2,   7.5855,2,    25.00, -999.000,9,  -999.00,9,  -999.00,9,   1.1072,2,  27.7861,2,   1.4711,2
49UP20180614_1,   P13,     7,  1,      4,     813,2,20180622,0137,0155, 40.9297, 149.8693, 5362,   4667.2,     4581,   1.4833,  34.6881,2,    156.8,2,  34.6876,2,   157.40,2,   151.00,2,    35.45,2,     0.00,2,    2.450,2, -999.000,9, -999.000,9,   2320.5,2,   2416.9,2,   7.5879,2,    25.00, -999.000,9,  -999.00,9,  -999.00,9,   1.0894,2,  27.7888,2,   1.4835,2
49UP20180614_1,   P13,     7,  1,      3,     812,2,20180622,0137,0150, 40.9297, 149.8693, 5362,   4923.8,     4830,   1.5022,  34.6897,2,    158.4,2,  34.6874,4,   158.10,2,   150.35,2,    35.35,2,     0.00,2,    2.450,2,    0.001,2,    0.000,2,   2319.0,2,   2417.2,2,   7.5906,2,    25.00,    0.007,2,  -999.00,9,  -999.00,9,   1.0771,2,  27.7909,2,   1.5022,2
49UP20180614_1,   P13,     7,  1,      2,     811,2,20180622,0137,0144, 40.9297, 149.8693, 5362,   5181.6,     5080,   1.5287,  34.6904,2,    159.4,2,  34.6900,2,   159.78,2,   149.68,2,    35.25,2,     0.00,2,    2.430,2, -999.000,9, -999.000,9,   2314.7,2,   2416.3,2,   7.5872,2,    25.00, -999.000,9,  -999.00,9,  -999.00,9,   1.0712,2,  27.7918,2,   1.5288,2
49UP20180614_1,   P13,     7,  1,      1,     810,2,20180622,0137,0138, 40.9297, 149.8693, 5362,   5467.3,     5357,   1.5642,  34.6905,2,    159.8,2,  34.6885,4,   159.37,2,   149.44,2,    35.30,2,     0.00,2,    2.440,2,    0.003,2,    0.000,2,   2325.5,2,   2415.5,2,   7.5923,2,    25.00,    0.000,2,  -999.00,9,  -999.00,9,   1.0695,2,  27.7920,2,   1.5642,2