BOTTLE,20191018JMAGEMD
EXPOCODE,SECT_ID,STNNBR,CASTNO,SAMPNO,BTLNBR,BTLNBR_FLAG_U,DATE,TIME,BTL_TIME,LATITUDE,LONGITUDE,DEPTH,CTDPRS,CTDDEP,CTDTMP,CTDSAL,CTDSAL_FLAG_W,CTDOXY,CTDOXY_FLAG_W,SALNTY,SALNTY_FLAG_W,OXYGEN,OXYGEN_FLAG_W,SILCAT,SILCAT_FLAG_W,NO2+NO3,NO2+NO3_FLAG_W,NITRIT,NITRIT_FLAG_W,PHSPHT,PHSPHT_FLAG_W,CFC-11,CFC-11_FLAG_W,CFC-12,CFC-12_FLAG_W,TCARBN,TCARBN_FLAG_W,ALKALI,ALKALI_FLAG_W,PH_TS,PH_TS_FLAG_W,PH_TS_TMP,CFC113,CFC113_FLAG_W,CHLORA,CHLORA_FLAG_W,PPHYTN,PPHYTN_FLAG_W,THETA,THETA_FLAG_W,SIGTHT,SIGTHT_FLAG_W,SBE35,SBE35_FLAG_W
,,,,,,,,UTC,,,,METER,DBAR,METERS,ITS-90,PSS-78,,UMOL/KG,,PSS78,,UMOL/KG,,UMOL/KG,,UMOL/KG,,UMOL/KG,,UMOL/KG,,PMOL/KG,,PMOL/KG,,UMOL/KG,,UMOL/KG,,,,ITS-90,PMOL/KG,,UG/KG,,UG/KG,,ITS-90,,KG/M3,,ITS-90,
49UP20180806_1,   P13,    68,  1,      0,      -9,0,20180824,0401,0555, 10.4907, 163.9782, 4858,      0.0,        0,  29.8720,  33.8219,2,    195.1,2,-999.0000,9,   195.89,2,  -999.00,9,  -999.00,9,  -999.00,9, -999.000,9, -999.000,9, -999.000,9,   -999.0,9,   -999.0,9,-999.0000,9,  -999.00, -999.000,9,  -999.00,9,  -999.00,9,  29.8714,2,  20.8869,2,-999.0000,9
49UP20180806_1,   P13,    68,  1,     36,     845,2,20180824,0401,0632, 10.4907, 163.9782, 4858,     11.0,       11,  29.8129,  33.8214,2,    195.2,2,  33.8214,2,   196.43,2,  -999.00,9,  -999.00,9,  -999.00,9, -999.000,9, -999.000,9, -999.000,9,   -999.0,9,   -999.0,9,-999.0000,9,  -999.00, -999.000,9,  -999.00,9,  -999.00,9,  29.8102,2,  20.9073,2,  29.8145,2
49UP20180806_1,   P13,    68,  1,     35,     844,2,20180824,0401,0628, 10.4907, 163.9782, 4858,     50.8,       51,  27.1010,  34.7328,2,    212.7,2,  34.7414,4,   213.47,2,  -999.00,9,  -999.00,9,  -999.00,9, -999.000,9, -999.000,9, -999.000,9,   -999.0,9,   -999.0,9,-999.0000,9,  -999.00, -999.000,9,  -999.00,9,  -999.00,9,  27.0893,2,  22.4880,2,  27.0992,2
49UP20180806_1,   P13,    68,  1,     24,     833,4,20180824,0401,0627, 10.4907, 163.9782, 4858,     76.1,       76,  24.4270,  34.9496,2,    201.5,2,-999.0000,9,  -999.00,9,  -999.00,9,  -999.00,9,  -999.00,9, -999.000,9, -999.000,9, -999.000,9,   -999.0,9,   -999.0,9,-999.0000,9,  -999.00, -999.000,9,  -999.00,9,  -999.00,9,  24.4108,2,  23.4809,2,  24.4427,2
49UP20180806_1,   P13,    68,  1,     34,     843,2,20180824,0401,0625, 10.4907, 163.9782, 4858,    101.3,      101,  21.4765,  34.9251,2,    182.6,2,  34.9277,2,   183.77,2,  -999.00,9,  -999.00,9,  -999.00,9, -999.000,9, -999.000,9, -999.000,9,   -999.0,9,   -999.0,9,-999.0000,9,  -999.00, -999.000,9,  -999.00,9,  -999.00,9,  21.4568,2,  24.3119,2,  21.4942,2
49UP20180806_1,   P13,    68,  1,     33,     842,2,20180824,0401,0623, 10.4907, 163.9782, 4858,    126.6,      126,  17.4146,  34.6593,2,    166.4,2,  34.6608,2,   166.86,2,  -999.00,9,  -999.00,9,  -999.00,9, -999.000,9, -999.000,9, -999.000,9,   -999.0,9,   -999.0,9,-999.0000,9,  -999.00, -999.000,9,  -999.00,9,  -999.00,9,  17.3934,2,  25.1587,2,  17.4264,2
49UP20180806_1,   P13,    68,  1,     32,     841,2,20180824,0401,0621, 10.4907, 163.9782, 4858,    152.2,      151,  16.4812,  34.5857,2,    164.7,2,  34.5847,2,   165.15,2,  -999.00,9,  -999.00,9,  -999.00,9, -999.000,9, -999.000,9, -999.000,9,   -999.0,9,   -999.0,9,-999.0000,9,  -999.00, -999.000,9,  -999.00,9,  -999.00,9,  16.4567,2,  25.3237,2,  16.4805,2
49UP20180806_1,   P13,    68,  1,     31,     840,2,20180824,0401,0619, 10.4907, 163.9782, 4858,    202.9,      202,  12.1911,  34.4009,2,    119.5,2,  34.3996,2,   119.07,2,  -999.00,9,  -999.00,9,  -999.00,9, -999.000,9, -999.000,9, -999.000,9,   -999.0,9,   -999.0,9,-999.0000,9,  -999.00, -999.000,9,  -999.00,9,  -999.00,9,  12.1645,2,  26.0923,2,  12.1913,2
49UP20180806_1,   P13,    68,  1,     30,     839,2,20180824,0401,0616, 10.4907, 163.9782, 4858,    252.0,      250,  10.3274,  34.4256,2,     76.4,2,  34.4237,2,    76.62,2,  -999.00,9,  -999.00,9,  -999.00,9, -999.000,9, -999.000,9, -999.000,9,   -999.0,9,   -999.0,9,-999.0000,9,  -999.00, -999.000,9,  -999.00,9,  -999.00,9,  10.2976,2,  26.4523,2,  10.3299,2
49UP20180806_1,   P13,    68,  1,     29,     838,2,20180824,0401,0614, 10.4907, 163.9782, 4858,    284.3,      282,   9.4734,  34.4911,2,     60.9,2,  34.4816,2,    61.00,6,  -999.00,9,  -999.00,9,  -999.00,9, -999.000,9, -999.000,9, -999.000,9,   -999.0,9,   -999.0,9,-999.0000,9,  -999.00, -999.000,9,  -999.00,9,  -999.00,9,   9.4416,2,  26.6480,2,   9.4745,2
49UP20180806_1,   P13,    68,  1,     28,     837,2,20180824,0401,0612, 10.4907, 163.9782, 4858,    324.6,      323,   8.5185,  34.5073,2,     55.0,2,  34.5059,2,    55.41,2,  -999.00,9,  -999.00,9,  -999.00,9, -999.000,9, -999.000,9, -999.000,9,   -999.0,9,   -999.0,9,-999.0000,9,  -999.00, -999.000,9,  -999.00,9,  -999.00,9,   8.4843,2,  26.8134,2,   8.5186,2
49UP20180806_1,   P13,    68,  1,     27,     661,2,20180824,0401,0610, 10.4907, 163.9782, 4858,    374.4,      372,   7.8244,  34.5139,2,     63.5,2,  34.5114,2,    63.95,2,  -999.00,9,  -999.00,9,  -999.00,9, -999.000,9, -999.000,9, -999.000,9,   -999.0,9,   -999.0,9,-999.0000,9,  -999.00, -999.000,9,  -999.00,9,  -999.00,9,   7.7868,2,  26.9236,2,   7.8255,2
49UP20180806_1,   P13,    68,  1,     26,     835,2,20180824,0401,0607, 10.4907, 163.9782, 4858,    424.7,      422,   7.4269,  34.5126,2,     74.5,2,  34.5102,2,    74.09,2,  -999.00,9,  -999.00,9,  -999.00,9, -999.000,9, -999.000,9, -999.000,9,   -999.0,9,   -999.0,9,-999.0000,9,  -999.00, -999.000,9,  -999.00,9,  -999.00,9,   7.3855,2,  26.9807,2,   7.4270,2
49UP20180806_1,   P13,    68,  1,     25,     834,2,20180824,0401,0604, 10.4907, 163.9782, 4858,    475.9,      473,   7.1627,  34.5110,2,     74.7,2,  34.5107,2,    74.59,2,  -999.00,9,  -999.00,9,  -999.00,9, -999.000,9, -999.000,9, -999.000,9,   -999.0,9,   -999.0,9,-999.0000,9,  -999.00, -999.000,9,  -999.00,9,  -999.00,9,   7.1170,2,  27.0173,2,   7.1645,2
49UP20180806_1,   P13,    68,  1,     23,     832,2,20180824,0401,0601, 10.4907, 163.9782, 4858,    572.9,      569,   6.5152,  34.5204,2,     69.7,2,  34.5199,2,    70.05,2,  -999.00,9,  -999.00,9,  -999.00,9, -999.000,9, -999.000,9, -999.000,9,   -999.0,9,   -999.0,9,-999.0000,9,  -999.00, -999.000,9,  -999.00,9,  -999.00,9,   6.4626,2,  27.1136,2,   6.5155,2
49UP20180806_1,   P13,    68,  1,     22,     831,2,20180824,0401,0558, 10.4907, 163.9782, 4858,    675.9,      671,   5.9580,  34.5264,2,     60.8,2,  34.5261,6,    61.10,2,  -999.00,9,  -999.00,9,  -999.00,9, -999.000,9, -999.000,9, -999.000,9,   -999.0,9,   -999.0,9,-999.0000,9,  -999.00, -999.000,9,  -999.00,9,  -999.00,9,   5.8983,2,  27.1913,2,   5.9572,2
49UP20180806_1,   P13,    68,  1,     21,     830,2,20180824,0401,0554, 10.4907, 163.9782, 4858,    776.6,      771,   5.4830,  34.5310,2,     61.9,2,  34.5304,2,    62.59,2,  -999.00,9,  -999.00,9,  -999.00,9, -999.000,9, -999.000,9, -999.000,9,   -999.0,9,   -999.0,9,-999.0000,9,  -999.00, -999.000,9,  -999.00,9,  -999.00,9,   5.4167,2,  27.2542,2,   5.4835,2
49UP20180806_1,   P13,    68,  1,     20,     829,2,20180824,0401,0551, 10.4907, 163.9782, 4858,    877.8,      871,   4.9726,  34.5392,2,     59.9,2,  34.5390,2,    60.16,2,  -999.00,9,  -999.00,9,  -999.00,9, -999.000,9, -999.000,9, -999.000,9,   -999.0,9,   -999.0,9,-999.0000,9,  -999.00, -999.000,9,  -999.00,9,  -999.00,9,   4.9004,2,  27.3214,2,   4.9726,2
49UP20180806_1,   P13,    68,  1,     19,     828,2,20180824,0401,0547, 10.4907, 163.9782, 4858,    976.9,      969,   4.5076,  34.5488,2,     61.8,2,  34.5490,2,    62.06,6,  -999.00,9,  -999.00,9,  -999.00,9, -999.000,9, -999.000,9, -999.000,9,   -999.0,9,   -999.0,9,-999.0000,9,  -999.00, -999.000,9,  -999.00,9,  -999.00,9,   4.4300,2,  27.3815,2,   4.5074,2
49UP20180806_1,   P13,    68,  1,     18,     660,2,20180824,0401,0541, 10.4907, 163.9782, 4858,   1142.7,     1133,   3.9769,  34.5636,2,     74.8,2,  34.5638,2,    75.28,2,  -999.00,9,  -999.00,9,  -999.00,9, -999.000,9, -999.000,9, -999.000,9,   -999.0,9,   -999.0,9,-999.0000,9,  -999.00, -999.000,9,  -999.00,9,  -999.00,9,   3.8893,2,  27.4504,2,   3.9768,2
49UP20180806_1,   P13,    68,  1,     17,     826,2,20180824,0401,0535, 10.4907, 163.9782, 4858,   1343.5,     1332,   3.3181,  34.5830,2,     81.5,2,  34.5838,2,    81.80,2,  -999.00,9,  -999.00,9,  -999.00,9, -999.000,9, -999.000,9, -999.000,9,   -999.0,9,   -999.0,9,-999.0000,9,  -999.00, -999.000,9,  -999.00,9,  -999.00,9,   3.2198,2,  27.5317,2,   3.3182,2
49UP20180806_1,   P13,    68,  1,     16,     825,2,20180824,0401,0529, 10.4907, 163.9782, 4858,   1548.5,     1534,   2.8001,  34.6020,2,     90.1,2,  34.6022,2,    91.08,2,  -999.00,9,  -999.00,9,  -999.00,9, -999.000,9, -999.000,9, -999.000,9,   -999.0,9,   -999.0,9,-999.0000,9,  -999.00, -999.000,9,  -999.00,9,  -999.00,9,   2.6905,2,  27.5952,2,   2.8007,2
49UP20180806_1,   P13,    68,  1,     15,     824,2,20180824,0401,0522, 10.4907, 163.9782, 4858,   1751.6,     1734,   2.4863,  34.6173,2,     97.7,2,  34.6179,2,    97.75,2,  -999.00,9,  -999.00,9,  -999.00,9, -999.000,9, -999.000,9, -999.000,9,   -999.0,9,   -999.0,9,-999.0000,9,  -999.00, -999.000,9,  -999.00,9,  -999.00,9,   2.3637,2,  27.6354,2,   2.4865,2
49UP20180806_1,   P13,    68,  1,     14,     823,2,20180824,0401,0517, 10.4907, 163.9782, 4858,   1953.3,     1933,   2.2494,  34.6300,2,    103.1,2,  34.6307,2,   103.07,2,  -999.00,9,  -999.00,9,  -999.00,9, -999.000,9, -999.000,9, -999.000,9,   -999.0,9,   -999.0,9,-999.0000,9,  -999.00, -999.000,9,  -999.00,9,  -999.00,9,   2.1132,2,  27.6662,2,   2.2494,2
49UP20180806_1,   P13,    68,  1,     13,     822,2,20180824,0401,0510, 10.4907, 163.9782, 4858,   2158.3,     2135,   2.0504,  34.6423,2,    110.3,2,  34.6432,2,   110.75,2,  -999.00,9,  -999.00,9,  -999.00,9, -999.000,9, -999.000,9, -999.000,9,   -999.0,9,   -999.0,9,-999.0000,9,  -999.00, -999.000,9,  -999.00,9,  -999.00,9,   1.8997,2,  27.6930,2,   2.0504,2
49UP20180806_1,   P13,    68,  1,     12,     821,2,20180824,0401,0504, 10.4907, 163.9782, 4858,   2363.2,     2337,   1.9181,  34.6510,2,    116.6,2,  34.6518,6,   117.13,2,  -999.00,9,  -999.00,9,  -999.00,9, -999.000,9, -999.000,9, -999.000,9,   -999.0,9,   -999.0,9,-999.0000,9,  -999.00, -999.000,9,  -999.00,9,  -999.00,9,   1.7516,2,  27.7113,2,   1.9181,2
49UP20180806_1,   P13,    68,  1,     11,     820,2,20180824,0401,0458, 10.4907, 163.9782, 4858,   2562.3,     2532,   1.8221,  34.6580,2,    122.5,2,  34.6576,2,   122.25,2,  -999.00,9,  -999.00,9,  -999.00,9, -999.000,9, -999.000,9, -999.000,9,   -999.0,9,   -999.0,9,-999.0000,9,  -999.00, -999.000,9,  -999.00,9,  -999.00,9,   1.6395,2,  27.7254,2,   1.8220,2
49UP20180806_1,   P13,    68,  1,     10,     819,2,20180824,0401,0452, 10.4907, 163.9782, 4858,   2765.0,     2731,   1.7526,  34.6627,2,    127.2,2,  34.6636,2,   127.27,6,  -999.00,9,  -999.00,9,  -999.00,9, -999.000,9, -999.000,9, -999.000,9,   -999.0,9,   -999.0,9,-999.0000,9,  -999.00, -999.000,9,  -999.00,9,  -999.00,9,   1.5527,2,  27.7357,2,   1.7527,2
49UP20180806_1,   P13,    68,  1,      9,     818,2,20180824,0401,0447, 10.4907, 163.9782, 4858,   2965.4,     2928,   1.6850,  34.6673,2,    132.1,2,  34.6677,2,   132.04,2,  -999.00,9,  -999.00,9,  -999.00,9, -999.000,9, -999.000,9, -999.000,9,   -999.0,9,   -999.0,9,-999.0000,9,  -999.00, -999.000,9,  -999.00,9,  -999.00,9,   1.4675,2,  27.7455,2,   1.6851,2
49UP20180806_1,   P13,    68,  1,      8,     817,2,20180824,0401,0441, 10.4907, 163.9782, 4858,   3209.2,     3167,   1.6104,  34.6727,2,    138.7,2,  34.6737,2,   138.90,2,  -999.00,9,  -999.00,9,  -999.00,9, -999.000,9, -999.000,9, -999.000,9,   -999.0,9,   -999.0,9,-999.0000,9,  -999.00, -999.000,9,  -999.00,9,  -999.00,9,   1.3708,2,  27.7568,2,   1.6104,2
49UP20180806_1,   P13,    68,  1,      7,     816,2,20180824,0401,0435, 10.4907, 163.9782, 4858,   3467.3,     3420,   1.5569,  34.6774,2,    145.0,2,  34.6777,2,   144.89,2,  -999.00,9,  -999.00,9,  -999.00,9, -999.000,9, -999.000,9, -999.000,9,   -999.0,9,   -999.0,9,-999.0000,9,  -999.00, -999.000,9,  -999.00,9,  -999.00,9,   1.2927,2,  27.7661,2,   1.5569,2
49UP20180806_1,   P13,    68,  1,      6,     815,2,20180824,0401,0429, 10.4907, 163.9782, 4858,   3722.7,     3669,   1.4913,  34.6826,2,    151.6,2,  34.6829,2,   151.58,2,  -999.00,9,  -999.00,9,  -999.00,9, -999.000,9, -999.000,9, -999.000,9,   -999.0,9,   -999.0,9,-999.0000,9,  -999.00, -999.000,9,  -999.00,9,  -999.00,9,   1.2023,2,  27.7766,2,   1.4913,2
49UP20180806_1,   P13,    68,  1,      5,     814,2,20180824,0401,0423, 10.4907, 163.9782, 4858,   3978.2,     3919,   1.4638,  34.6862,2,    157.7,2,  34.6866,2,   157.63,2,  -999.00,9,  -999.00,9,  -999.00,9, -999.000,9, -999.000,9, -999.000,9,   -999.0,9,   -999.0,9,-999.0000,9,  -999.00, -999.000,9,  -999.00,9,  -999.00,9,   1.1483,2,  27.7832,2,   1.4638,2
49UP20180806_1,   P13,    68,  1,      4,     813,2,20180824,0401,0417, 10.4907, 163.9782, 4858,   4235.5,     4170,   1.4433,  34.6898,2,    164.0,2,  34.6900,6,   164.22,2,  -999.00,9,  -999.00,9,  -999.00,9, -999.000,9, -999.000,9, -999.000,9,   -999.0,9,   -999.0,9,-999.0000,9,  -999.00, -999.000,9,  -999.00,9,  -999.00,9,   1.1001,2,  27.7894,2,   1.4434,2
49UP20180806_1,   P13,    68,  1,      3,     812,2,20180824,0401,0411, 10.4907, 163.9782, 4858,   4492.7,     4421,   1.4336,  34.6926,2,    169.1,2,  34.6932,2,   169.11,2,  -999.00,9,  -999.00,9,  -999.00,9, -999.000,9, -999.000,9, -999.000,9,   -999.0,9,   -999.0,9,-999.0000,9,  -999.00, -999.000,9,  -999.00,9,  -999.00,9,   1.0614,2,  27.7942,2,   1.4334,2
49UP20180806_1,   P13,    68,  1,      2,     811,2,20180824,0401,0406, 10.4907, 163.9782, 4858,   4748.4,     4670,   1.3808,  34.6982,2,    179.6,2,  34.6985,6,   179.96,2,  -999.00,9,  -999.00,9,  -999.00,9, -999.000,9, -999.000,9, -999.000,9,   -999.0,9,   -999.0,9,-999.0000,9,  -999.00, -999.000,9,  -999.00,9,  -999.00,9,   0.9806,2,  27.8041,2,   1.3806,2
49UP20180806_1,   P13,    68,  1,      1,     810,2,20180824,0401,0401, 10.4907, 163.9782, 4858,   4950.0,     4866,   1.3840,  34.6996,2,    182.4,2,  34.6995,2,   181.86,6,  -999.00,9,  -999.00,9,  -999.00,9, -999.000,9, -999.000,9, -999.000,9,   -999.0,9,   -999.0,9,-999.0000,9,  -999.00, -999.000,9,  -999.00,9,  -999.00,9,   0.9597,2,  27.8066,2,   1.3839,2