BOTTLE,20191018JMAGEMD
EXPOCODE,SECT_ID,STNNBR,CASTNO,SAMPNO,BTLNBR,BTLNBR_FLAG_U,DATE,TIME,BTL_TIME,LATITUDE,LONGITUDE,DEPTH,CTDPRS,CTDDEP,CTDTMP,CTDSAL,CTDSAL_FLAG_W,CTDOXY,CTDOXY_FLAG_W,SALNTY,SALNTY_FLAG_W,OXYGEN,OXYGEN_FLAG_W,SILCAT,SILCAT_FLAG_W,NO2+NO3,NO2+NO3_FLAG_W,NITRIT,NITRIT_FLAG_W,PHSPHT,PHSPHT_FLAG_W,CFC-11,CFC-11_FLAG_W,CFC-12,CFC-12_FLAG_W,TCARBN,TCARBN_FLAG_W,ALKALI,ALKALI_FLAG_W,PH_TS,PH_TS_FLAG_W,PH_TS_TMP,CFC113,CFC113_FLAG_W,CHLORA,CHLORA_FLAG_W,PPHYTN,PPHYTN_FLAG_W,THETA,THETA_FLAG_W,SIGTHT,SIGTHT_FLAG_W,SBE35,SBE35_FLAG_W
,,,,,,,,UTC,,,,METER,DBAR,METERS,ITS-90,PSS-78,,UMOL/KG,,PSS78,,UMOL/KG,,UMOL/KG,,UMOL/KG,,UMOL/KG,,UMOL/KG,,PMOL/KG,,PMOL/KG,,UMOL/KG,,UMOL/KG,,,,ITS-90,PMOL/KG,,UG/KG,,UG/KG,,ITS-90,,KG/M3,,ITS-90,
49UP20180806_1,   P13,    47,  1,      0,      -9,0,20180815,1518,1725, 26.9930, 164.9835, 5785,      0.0,        0,  27.7414,  35.1033,2,    200.6,2,  35.1018,2,   200.67,2,     1.11,3,     0.13,2,     0.00,2,    0.020,3, -999.000,9, -999.000,9,   1984.2,2,   2308.0,2,   8.0892,2,    25.00, -999.000,9,     0.04,2,     0.01,2,  27.7408,2,  22.5568,2,-999.0000,9
49UP20180806_1,   P13,    47,  1,     36,     845,2,20180815,1518,1759, 26.9930, 164.9835, 5785,     11.0,       11,  27.7787,  35.1036,2,    200.3,2,  35.1034,2,   201.49,2,     1.11,3,     0.02,2,     0.00,2,    0.000,3, -999.000,9, -999.000,9,   1982.6,2,   2309.6,2,   8.0897,2,    25.00, -999.000,9,     0.04,2,     0.01,2,  27.7761,2,  22.5456,2,  27.7725,2
49UP20180806_1,   P13,    47,  1,     35,     844,2,20180815,1518,1755, 26.9930, 164.9835, 5785,     52.7,       52,  24.2256,  35.2716,2,    219.1,2,  35.2719,2,   219.47,2,     1.19,3,     0.01,2,     0.00,2,    0.000,3, -999.000,9, -999.000,9,   2010.8,2,   2321.3,2,   8.0827,2,    25.00, -999.000,9,     0.06,4,     0.02,4,  24.2145,2,  23.7832,2,  24.2233,2
49UP20180806_1,   P13,    47,  1,     34,     843,2,20180815,1518,1753, 26.9930, 164.9835, 5785,    101.6,      101,  20.9241,  35.0831,2,    227.8,2,  35.0892,2,   226.71,2,     1.69,3,     0.02,2,     0.00,2,    0.010,3, -999.000,9, -999.000,9,   1998.3,2,   2308.3,2,   8.0359,2,    25.00, -999.000,9,     0.20,2,     0.13,2,  20.9047,2,  24.5831,2,  20.9318,2
49UP20180806_1,   P13,    47,  1,     33,     842,2,20180815,1518,1751, 26.9930, 164.9835, 5785,    127.0,      126,  20.0887,  35.0208,2,    224.9,2,  35.0201,2,   224.67,2,     1.85,3,     0.08,2,     0.00,2,    0.010,3, -999.000,9, -999.000,9,   2015.0,2,   2303.9,2,   8.0277,2,    25.00, -999.000,9,     0.17,2,     0.31,2,  20.0651,2,  24.7604,2,  20.0887,2
49UP20180806_1,   P13,    47,  1,     32,     841,2,20180815,1518,1749, 26.9930, 164.9835, 5785,    152.9,      152,  19.1401,  34.9268,2,    216.2,2,  34.9257,2,   216.04,2,     2.26,3,     0.62,2,     0.05,2,    0.070,3, -999.000,9, -999.000,9,   2031.6,2,   2298.4,2,   7.9922,2,    25.00, -999.000,9,     0.10,2,     0.27,2,  19.1127,2,  24.9364,2,  19.1397,2
49UP20180806_1,   P13,    47,  1,     31,     840,2,20180815,1518,1747, 26.9930, 164.9835, 5785,    203.1,      202,  17.5931,  34.8023,2,    212.8,2,  34.8042,2,   212.66,2,     3.29,3,     3.15,2,     0.01,2,    0.210,3, -999.000,9, -999.000,9,   2039.7,2,   2290.0,2,   7.9619,2,    25.00, -999.000,9,     0.02,2,     0.05,2,  17.5588,2,  25.2285,2,  17.5880,2
49UP20180806_1,   P13,    47,  1,     30,     839,2,20180815,1518,1745, 26.9930, 164.9835, 5785,    255.4,      254,  17.0604,  34.7685,2,    210.2,2,  34.7678,2,   210.26,2,     4.15,3,     4.58,2,     0.01,2,    0.290,3, -999.000,9, -999.000,9,   2046.3,2,   2285.8,2,   7.9441,2,    25.00, -999.000,9,  -999.00,9,  -999.00,9,  17.0182,2,  25.3322,2,  17.0604,2
49UP20180806_1,   P13,    47,  1,     29,     838,2,20180815,1518,1743, 26.9930, 164.9835, 5785,    335.2,      333,  15.7412,  34.6453,2,    206.2,2,  34.6545,4,   206.69,6,     6.36,3,     6.65,6,     0.00,6,    0.430,3, -999.000,9, -999.000,9,   2058.3,2,   2280.4,2,   7.9099,2,    25.00, -999.000,9,  -999.00,9,  -999.00,9,  15.6887,2,  25.5454,2,  15.7416,2
49UP20180806_1,   P13,    47,  1,     28,     837,2,20180815,1518,1739, 26.9930, 164.9835, 5785,    434.8,      431,  12.8834,  34.3833,2,    202.9,2,  34.3850,2,   203.65,2,    12.86,3,    11.57,2,     0.00,2,    0.770,3, -999.000,9, -999.000,9,   2090.2,2,   2274.2,2,   7.8273,2,    25.00, -999.000,9,  -999.00,9,  -999.00,9,  12.8237,2,  25.9502,2,  12.8812,2
49UP20180806_1,   P13,    47,  1,     27,     661,2,20180815,1518,1736, 26.9930, 164.9835, 5785,    534.6,      530,  10.1146,  34.1761,2,    194.2,2,  34.1772,2,   194.88,2,    23.78,3,    17.27,2,     0.00,2,    1.190,3, -999.000,9, -999.000,9,   2137.3,2,   2273.0,2,   7.7378,2,    25.00, -999.000,9,  -999.00,9,  -999.00,9,  10.0517,2,  26.2998,2,  10.1146,2
49UP20180806_1,   P13,    47,  1,     26,     835,2,20180815,1518,1733, 26.9930, 164.9835, 5785,    633.7,      629,   7.3699,  34.0476,2,    147.4,2,  34.0484,2,   146.98,2,    46.51,3,    26.74,2,     0.00,2,    1.880,3, -999.000,9, -999.000,9,   2197.7,2,   2285.2,2,   7.5893,2,    25.00, -999.000,9,  -999.00,9,  -999.00,9,   7.3078,2,  26.6258,2,   7.3714,2
49UP20180806_1,   P13,    47,  1,     25,     834,2,20180815,1518,1730, 26.9930, 164.9835, 5785,    736.7,      731,   5.5548,  34.0711,2,     94.0,2,  34.0708,2,    95.48,2,    73.33,3,    34.59,2,     0.00,2,    2.460,3, -999.000,9, -999.000,9,   2262.0,6,   2306.4,6,   7.4588,2,    25.00, -999.000,9,  -999.00,9,  -999.00,9,   5.4922,2,  26.8811,2,   5.5555,2
49UP20180806_1,   P13,    47,  1,     23,     832,2,20180815,1518,1726, 26.9930, 164.9835, 5785,    838.0,      831,   4.6973,  34.1603,2,     59.7,2,  34.1609,2,    59.71,2,    92.92,3,    38.93,2,     0.00,2,    2.780,3, -999.000,9, -999.000,9,   2302.7,2,   2330.5,2,   7.3919,6,    25.00, -999.000,9,  -999.00,9,  -999.00,9,   4.6309,2,  27.0510,2,   4.6964,2
49UP20180806_1,   P13,    47,  1,     22,     831,2,20180815,1518,1723, 26.9930, 164.9835, 5785,    939.3,      931,   4.0402,  34.2761,2,     38.8,2,  34.2772,6,    38.79,2,   111.37,3,    41.64,2,     0.00,2,    2.970,3, -999.000,9, -999.000,9,   2340.6,2,   2352.3,2,   7.3602,2,    25.00, -999.000,9,  -999.00,9,  -999.00,9,   3.9696,2,  27.2134,2,   4.0396,2
49UP20180806_1,   P13,    47,  1,     21,     830,2,20180815,1518,1718, 26.9930, 164.9835, 5785,   1081.3,     1071,   3.4768,  34.3739,2,     34.3,2,  34.3749,2,    35.27,2,   127.29,3,    42.66,2,     0.00,2,    3.040,3, -999.000,9, -999.000,9,   2358.1,2,   2372.0,2,   7.3617,2,    25.00, -999.000,9,  -999.00,9,  -999.00,9,   3.3990,2,  27.3479,2,   3.4769,2
49UP20180806_1,   P13,    47,  1,     20,     829,2,20180815,1518,1713, 26.9930, 164.9835, 5785,   1282.7,     1270,   2.9695,  34.4624,2,     40.9,2,  34.4629,2,    40.63,2,   140.35,3,    42.76,2,     0.00,2,    3.030,3, -999.000,9, -999.000,9,   2368.8,2,   2390.5,2,   7.3781,2,    25.00, -999.000,9,  -999.00,9,  -999.00,9,   2.8800,2,  27.4668,2,   2.9679,2
49UP20180806_1,   P13,    47,  1,     19,     828,2,20180815,1518,1708, 26.9930, 164.9835, 5785,   1485.4,     1470,   2.5542,  34.5247,2,     54.1,2,  34.5256,2,    54.91,6,   149.06,3,    42.09,6,     0.00,6,    2.970,3, -999.000,9, -999.000,9,   2373.7,2,   2401.3,2,   7.4057,2,    25.00, -999.000,9,  -999.00,9,  -999.00,9,   2.4528,2,  27.5538,2,   2.5541,2
49UP20180806_1,   P13,    47,  1,     18,     660,2,20180815,1518,1703, 26.9930, 164.9835, 5785,   1688.9,     1671,   2.2699,  34.5613,2,     65.8,2,  34.5623,2,    66.15,2,   155.05,3,    41.50,2,     0.00,2,    2.920,3, -999.000,9, -999.000,9,   2371.2,2,   2410.2,2,   7.4283,2,    25.00, -999.000,9,  -999.00,9,  -999.00,9,   2.1555,2,  27.6078,2,   2.2698,2
49UP20180806_1,   P13,    47,  1,     17,     826,2,20180815,1518,1657, 26.9930, 164.9835, 5785,   1891.5,     1871,   2.0349,  34.5941,2,     81.7,2,  34.5942,6,    81.82,2,   157.26,3,    40.55,2,     0.00,2,    2.840,3, -999.000,9, -999.000,9,   2364.1,2,   2415.6,2,   7.4581,2,    25.00, -999.000,9,  -999.00,9,  -999.00,9,   1.9071,2,  27.6538,2,   2.0350,2
49UP20180806_1,   P13,    47,  1,     16,     825,2,20180815,1518,1652, 26.9930, 164.9835, 5785,   2094.2,     2070,   1.8900,  34.6152,2,     94.1,2,  34.6164,2,    95.11,3,   157.86,3,    39.82,2,     0.00,2,    2.770,3, -999.000,9, -999.000,9,   2359.0,2,   2416.4,2,   7.4827,2,    25.00, -999.000,9,  -999.00,9,  -999.00,9,   1.7474,2,  27.6830,2,   1.8899,2
49UP20180806_1,   P13,    47,  1,     15,     824,2,20180815,1518,1645, 26.9930, 164.9835, 5785,   2298.1,     2271,   1.7753,  34.6319,2,    105.3,2,  34.6316,2,   105.66,2,   156.75,3,    39.11,2,     0.00,2,    2.720,3, -999.000,9, -999.000,9,   2350.6,2,   2419.4,2,   7.5014,2,    25.00, -999.000,9,  -999.00,9,  -999.00,9,   1.6171,2,  27.7061,2,   1.7753,2
49UP20180806_1,   P13,    47,  1,     14,     823,2,20180815,1518,1640, 26.9930, 164.9835, 5785,   2500.8,     2470,   1.6932,  34.6442,2,    115.0,2,  34.6448,2,   115.59,2,   156.27,3,    38.49,2,     0.00,2,    2.670,3, -999.000,9, -999.000,9,   2351.2,2,   2421.4,2,   7.5201,2,    25.00, -999.000,9,  -999.00,9,  -999.00,9,   1.5186,2,  27.7233,2,   1.6932,2
49UP20180806_1,   P13,    47,  1,     13,     822,2,20180815,1518,1635, 26.9930, 164.9835, 5785,   2706.5,     2672,   1.6346,  34.6528,2,    121.3,2,  34.6535,2,   122.02,2,   155.67,3,    38.00,2,     0.00,2,    2.640,3, -999.000,9, -999.000,9,   2347.7,2,   2424.6,2,   7.5304,2,    25.00, -999.000,9,  -999.00,9,  -999.00,9,   1.4425,2,  27.7357,2,   1.6346,2
49UP20180806_1,   P13,    47,  1,     12,     821,2,20180815,1518,1630, 26.9930, 164.9835, 5785,   2908.6,     2870,   1.5861,  34.6599,2,    127.4,2,  34.6603,2,   127.63,2,   155.18,3,    37.76,2,     0.00,2,    2.610,3, -999.000,9, -999.000,9,   2342.3,2,   2422.1,2,   7.5442,2,    25.00, -999.000,9,  -999.00,9,  -999.00,9,   1.3762,2,  27.7462,2,   1.5861,2
49UP20180806_1,   P13,    47,  1,     11,     820,2,20180815,1518,1624, 26.9930, 164.9835, 5785,   3122.9,     3080,   1.5510,  34.6659,2,    133.2,2,  34.6655,2,   133.22,2,   154.09,3,    37.27,2,     0.00,2,    2.580,3, -999.000,9, -999.000,9,   2338.5,6,   2421.4,6,   7.5512,2,    25.00, -999.000,9,  -999.00,9,  -999.00,9,   1.3213,2,  27.7549,2,   1.5512,2
49UP20180806_1,   P13,    47,  1,     10,     819,2,20180815,1518,1618, 26.9930, 164.9835, 5785,   3379.2,     3330,   1.5125,  34.6722,2,    139.6,2,  34.6725,2,   139.96,6,   152.19,3,    36.90,6,     0.00,6,    2.540,3, -999.000,9, -999.000,9,   2336.1,2,   2420.6,2,   7.5651,6,    25.00, -999.000,9,  -999.00,9,  -999.00,9,   1.2583,2,  27.7643,2,   1.5124,2
49UP20180806_1,   P13,    47,  1,     24,     833,4,20180815,1518,1612, 26.9930, 164.9835, 5785,   3634.0,     3579,   1.4862,  34.6773,2,    145.5,2,-999.0000,9,  -999.00,9,  -999.00,9,  -999.00,9,  -999.00,9, -999.000,9, -999.000,9, -999.000,9,   -999.0,9,   -999.0,9,-999.0000,9,  -999.00, -999.000,9,  -999.00,9,  -999.00,9,   1.2067,2,  27.7720,2,   1.4862,2
49UP20180806_1,   P13,    47,  1,      9,     818,2,20180815,1518,1606, 26.9930, 164.9835, 5785,   3890.4,     3830,   1.4720,  34.6812,2,    150.3,2,  34.6810,2,   150.50,2,   149.08,3,    36.19,2,     0.00,2,    2.490,3, -999.000,9, -999.000,9,   2327.0,2,   2418.3,2,   7.5823,2,    25.00, -999.000,9,  -999.00,9,  -999.00,9,   1.1657,2,  27.7780,2,   1.4720,2
49UP20180806_1,   P13,    47,  1,      8,     817,2,20180815,1518,1600, 26.9930, 164.9835, 5785,   4147.5,     4080,   1.4602,  34.6847,2,    155.1,2,  34.6850,2,   155.43,2,   146.83,3,    35.91,2,     0.00,2,    2.460,3, -999.000,9, -999.000,9,   2323.9,2,   2418.7,2,   7.5855,2,    25.00, -999.000,9,  -999.00,9,  -999.00,9,   1.1263,2,  27.7835,2,   1.4602,2
49UP20180806_1,   P13,    47,  1,      7,     816,2,20180815,1518,1554, 26.9930, 164.9835, 5785,   4404.8,     4331,   1.4547,  34.6878,2,    159.9,2,  34.6873,6,   160.32,2,   144.34,3,    35.64,2,     0.00,2,    2.430,3, -999.000,9, -999.000,9,   2318.9,2,   2416.8,2,   7.5934,2,    25.00, -999.000,9,  -999.00,9,  -999.00,9,   1.0920,2,  27.7883,2,   1.4548,2
49UP20180806_1,   P13,    47,  1,      6,     815,2,20180815,1518,1548, 26.9930, 164.9835, 5785,   4660.4,     4580,   1.4574,  34.6901,2,    164.1,2,  34.6900,2,   164.68,2,   141.49,3,    35.18,2,     0.00,2,    2.410,3, -999.000,9, -999.000,9,   2314.9,2,   2412.7,2,   7.5971,2,    25.00, -999.000,9,  -999.00,9,  -999.00,9,   1.0651,2,  27.7920,2,   1.4574,2
49UP20180806_1,   P13,    47,  1,      5,     814,2,20180815,1518,1542, 26.9930, 164.9835, 5785,   4918.4,     4830,   1.4620,  34.6924,2,    168.2,2,  34.6927,6,   168.30,2,   139.36,3,    34.94,2,     0.00,2,    2.390,3, -999.000,9, -999.000,9,   2309.0,2,   2417.4,3,   7.6020,2,    25.00, -999.000,9,  -999.00,9,  -999.00,9,   1.0389,2,  27.7956,2,   1.4619,2
49UP20180806_1,   P13,    47,  1,      4,     813,2,20180815,1518,1536, 26.9930, 164.9835, 5785,   5175.5,     5080,   1.4698,  34.6942,2,    171.6,2,  34.6947,2,   172.88,3,   136.91,3,    34.69,2,     0.00,2,    2.370,3, -999.000,9, -999.000,9,   2306.7,2,   2408.3,2,   7.6056,2,    25.00, -999.000,9,  -999.00,9,  -999.00,9,   1.0150,2,  27.7986,2,   1.4698,2
49UP20180806_1,   P13,    47,  1,      3,     812,2,20180815,1518,1530, 26.9930, 164.9835, 5785,   5434.1,     5331,   1.4773,  34.6960,2,    174.9,2,  34.6961,2,   175.61,2,   135.20,3,    34.39,2,     0.00,2,    2.350,3, -999.000,9, -999.000,9,   2304.1,2,   2405.7,2,   7.6080,2,    25.00, -999.000,9,  -999.00,9,  -999.00,9,   0.9899,2,  27.8017,2,   1.4773,2
49UP20180806_1,   P13,    47,  1,      2,     811,2,20180815,1518,1524, 26.9930, 164.9835, 5785,   5693.2,     5582,   1.4951,  34.6972,2,    177.2,2,  34.6975,2,   177.92,6,   134.13,3,    34.32,6,     0.00,6,    2.340,3, -999.000,9, -999.000,9,   2305.7,2,   2403.8,2,   7.6122,2,    25.00, -999.000,9,  -999.00,9,  -999.00,9,   0.9738,2,  27.8037,2,   1.4950,2
49UP20180806_1,   P13,    47,  1,      1,     810,2,20180815,1518,1519, 26.9930, 164.9835, 5785,   5930.8,     5812,   1.5225,  34.6975,2,    178.0,2,  34.6971,2,   177.80,2,   133.51,3,    34.20,2,     0.00,2,    2.330,3, -999.000,9, -999.000,9,   2301.9,2,   2401.6,2,   7.6131,2,    25.00, -999.000,9,  -999.00,9,  -999.00,9,   0.9689,2,  27.8044,2,   1.5226,2