BOTTLE,20191018JMAGEMD
EXPOCODE,SECT_ID,STNNBR,CASTNO,SAMPNO,BTLNBR,BTLNBR_FLAG_U,DATE,TIME,BTL_TIME,LATITUDE,LONGITUDE,DEPTH,CTDPRS,CTDDEP,CTDTMP,CTDSAL,CTDSAL_FLAG_W,CTDOXY,CTDOXY_FLAG_W,SALNTY,SALNTY_FLAG_W,OXYGEN,OXYGEN_FLAG_W,SILCAT,SILCAT_FLAG_W,NO2+NO3,NO2+NO3_FLAG_W,NITRIT,NITRIT_FLAG_W,PHSPHT,PHSPHT_FLAG_W,CFC-11,CFC-11_FLAG_W,CFC-12,CFC-12_FLAG_W,TCARBN,TCARBN_FLAG_W,ALKALI,ALKALI_FLAG_W,PH_TS,PH_TS_FLAG_W,PH_TS_TMP,CFC113,CFC113_FLAG_W,CHLORA,CHLORA_FLAG_W,PPHYTN,PPHYTN_FLAG_W,THETA,THETA_FLAG_W,SIGTHT,SIGTHT_FLAG_W,SBE35,SBE35_FLAG_W
,,,,,,,,UTC,,,,METER,DBAR,METERS,ITS-90,PSS-78,,UMOL/KG,,PSS78,,UMOL/KG,,UMOL/KG,,UMOL/KG,,UMOL/KG,,UMOL/KG,,PMOL/KG,,PMOL/KG,,UMOL/KG,,UMOL/KG,,,,ITS-90,PMOL/KG,,UG/KG,,UG/KG,,ITS-90,,KG/M3,,ITS-90,
49UP20180806_2,   P13,   100,  1,      0,      -9,0,20180913,0707,0830, -6.5107, 163.0018, 3513,      0.0,        0,  30.1257,  34.8990,2,    194.4,2,  34.9018,2,   192.80,2,     1.20,3,     0.00,2,     0.00,2,    0.160,3, -999.000,9, -999.000,9,   1952.9,2,   2296.5,2,   8.1237,2,    25.00, -999.000,9,     0.05,2,     0.02,2,  30.1250,2,  21.6077,2,-999.0000,9
49UP20180806_2,   P13,   100,  1,     36,     845,2,20180913,0707,0852, -6.5107, 163.0018, 3513,     11.8,       12,  30.1238,  34.8988,2,    194.4,2,  34.8993,2,   192.91,2,     1.21,3,     0.00,2,     0.00,2,    0.130,3,    1.408,2,    0.813,2,   1954.1,2,   2297.1,2,   8.1277,2,    25.00,    0.131,2,  -999.00,9,  -999.00,9,  30.1208,2,  21.6090,2,  30.1245,2
49UP20180806_2,   P13,   100,  1,     35,     844,3,20180913,0707,0852, -6.5107, 163.0018, 3513,     12.2,       12,  30.1215,  34.8987,2,    194.3,2,  34.8985,2,   192.57,2,     1.19,3,     0.00,2,     0.00,2,    0.130,3, -999.000,9, -999.000,9,   1954.6,2,   2297.8,2,   8.1264,2,    25.00, -999.000,9,     0.05,2,     0.02,2,  30.1185,2,  21.6097,2,  30.1227,2
49UP20180806_2,   P13,   100,  1,     34,     843,2,20180913,0707,0850, -6.5107, 163.0018, 3513,     27.3,       27,  30.1420,  34.9026,2,    194.2,2,  34.8989,2,   192.80,6,     1.15,3,     0.00,6,     0.00,6,    0.120,3, -999.000,9, -999.000,9,   1954.5,2,   2294.5,2,   8.1258,2,    25.00, -999.000,9,     0.04,2,     0.02,2,  30.1353,2,  21.6069,2,  30.1439,2
49UP20180806_2,   P13,   100,  1,     33,     842,2,20180913,0707,0846, -6.5107, 163.0018, 3513,     53.6,       53,  30.1272,  35.4748,2,    200.6,2,  35.4537,4,   199.07,2,     1.28,3,     0.00,2,     0.00,2,    0.200,3,    1.478,2,    0.832,2,   1997.8,2,   2335.6,2,   8.1064,6,    25.00,    0.126,2,     0.10,2,     0.06,2,  30.1138,2,  22.0432,2,  30.1243,2
49UP20180806_2,   P13,   100,  1,     32,     841,2,20180913,0707,0845, -6.5107, 163.0018, 3513,     75.8,       75,  29.4323,  35.5371,2,    193.3,2,  35.5343,2,   192.29,2,     1.32,3,     0.04,2,     0.03,2,    0.250,3, -999.000,9, -999.000,9,   2016.3,6,   2343.4,6,   8.0782,2,    25.00, -999.000,9,     0.19,2,     0.13,2,  29.4138,2,  22.3282,2,  29.4340,2
49UP20180806_2,   P13,   100,  1,     31,     840,2,20180913,0707,0843, -6.5107, 163.0018, 3513,    101.3,      101,  29.0720,  35.6468,2,    185.1,2,  35.6451,2,   184.72,2,     1.63,3,     1.72,2,     0.63,2,    0.350,3,    1.474,2,    0.837,2,   2031.0,2,   2348.2,2,   8.0683,2,    25.00,    0.129,2,     0.19,2,     0.26,2,  29.0474,2,  22.5340,2,  29.0718,2
49UP20180806_2,   P13,   100,  1,     30,     839,2,20180913,0707,0842, -6.5107, 163.0018, 3513,    126.3,      126,  28.6987,  35.7085,2,    178.7,2,  35.7077,2,   178.73,2,     1.68,3,     3.20,2,     1.64,2,    0.430,3, -999.000,9, -999.000,9,   2042.3,2,   2352.6,2,   8.0535,2,    25.00, -999.000,9,     0.15,2,     0.30,2,  28.6684,2,  22.7069,2,  28.6989,2
49UP20180806_2,   P13,   100,  1,     29,     838,2,20180913,0707,0840, -6.5107, 163.0018, 3513,    149.6,      149,  28.0606,  35.7574,2,    170.4,2,  35.7570,2,   170.94,2,     1.72,3,     4.54,2,     1.40,2,    0.520,3,    1.516,6,    0.863,6,   2054.3,2,   2354.4,2,   8.0349,2,    25.00,    0.136,6,     0.11,2,     0.22,2,  28.0252,2,  22.9561,2,  28.0658,2
49UP20180806_2,   P13,   100,  1,     28,     837,2,20180913,0707,0838, -6.5107, 163.0018, 3513,    203.4,      202,  23.7477,  36.0597,2,    143.3,2,  36.0593,2,   143.67,2,     1.86,3,     7.21,2,     0.02,2,    0.730,3,    1.829,2,    1.031,2,   2124.2,2,   2374.7,2,   7.9477,2,    25.00,    0.089,2,     0.03,2,     0.07,2,  23.7050,2,  24.5313,2,  23.7409,2
49UP20180806_2,   P13,   100,  1,     27,     661,2,20180913,0707,0836, -6.5107, 163.0018, 3513,    251.8,      250,  18.4051,  35.5581,2,    127.1,2,  35.5677,2,   126.98,2,     4.61,3,    11.98,2,     0.01,2,    1.080,3,    2.039,2,    1.105,2,   2155.6,2,   2348.7,2,   7.8312,2,    25.00,    0.022,2,  -999.00,9,  -999.00,9,  18.3610,2,  25.6097,2,  18.3556,2
49UP20180806_2,   P13,   100,  1,     26,     835,2,20180913,0707,0834, -6.5107, 163.0018, 3513,    301.0,      299,  13.0539,  34.9757,2,     89.7,2,  34.9768,2,    89.47,2,    14.05,3,    22.80,2,     0.00,2,    1.770,3,    1.558,2,    0.782,2,   2199.4,2,   2312.6,2,   7.6597,2,    25.00,    0.009,2,  -999.00,9,  -999.00,9,  13.0123,2,  26.3716,2,  13.0482,2
49UP20180806_2,   P13,   100,  1,     25,     834,2,20180913,0707,0832, -6.5107, 163.0018, 3513,    352.3,      350,  10.9579,  34.8057,2,     99.7,2,  34.8056,2,    99.55,6,    18.61,3,    26.01,6,     0.00,6,    1.900,3, -999.000,9, -999.000,9,   2202.6,2,   2309.5,2,   7.6296,2,    25.00, -999.000,9,  -999.00,9,  -999.00,9,  10.9143,2,  26.6397,2,  10.9587,2
49UP20180806_2,   P13,   100,  1,     23,     832,2,20180913,0707,0830, -6.5107, 163.0018, 3513,    404.1,      401,   9.5340,  34.7034,2,    111.4,2,  34.7054,2,   111.08,2,    22.41,3,    27.88,2,     0.00,2,    1.980,3,    1.053,2,    0.485,2,   2205.3,2,   2307.8,2,   7.6201,2,    25.00,    0.015,2,  -999.00,9,  -999.00,9,   9.4882,2,  26.8063,2,   9.5356,2
49UP20180806_2,   P13,   100,  1,     22,     831,2,20180913,0707,0828, -6.5107, 163.0018, 3513,    453.5,      450,   8.4546,  34.6310,2,    114.6,2,  34.6292,6,   114.40,2,    26.84,3,    29.93,2,     0.00,2,    2.090,3, -999.000,9, -999.000,9,   2214.5,2,   2305.3,2,   7.5979,2,    25.00, -999.000,9,  -999.00,9,  -999.00,9,   8.4067,2,  26.9224,2,   8.4494,2
49UP20180806_2,   P13,   100,  1,     21,     830,2,20180913,0707,0826, -6.5107, 163.0018, 3513,    505.1,      502,   7.8198,  34.5937,2,    115.1,2,  34.5954,2,   115.20,2,    30.51,3,    31.33,2,     0.00,2,    2.180,3,    0.634,2,    0.294,2,   2219.9,2,   2307.3,2,   7.5890,2,    25.00,    0.009,2,  -999.00,9,  -999.00,9,   7.7686,2,  26.9890,2,   7.8181,2
49UP20180806_2,   P13,   100,  1,     20,     829,2,20180913,0707,0823, -6.5107, 163.0018, 3513,    604.9,      601,   6.8936,  34.5388,2,    128.0,2,  34.5383,2,   128.48,2,    35.52,3,    31.97,2,     0.00,2,    2.230,3,    0.620,2,    0.281,2,   2223.8,2,   2311.8,2,   7.5878,6,    25.00,    0.011,2,  -999.00,9,  -999.00,9,   6.8361,2,  27.0780,2,   6.8940,2
49UP20180806_2,   P13,   100,  1,     19,     828,2,20180913,0707,0820, -6.5107, 163.0018, 3513,    707.3,      702,   6.1687,  34.5253,2,    118.7,2,  34.5272,2,   118.57,2,    44.71,3,    34.15,2,     0.00,2,    2.390,3,    0.283,2,    0.126,2,   2237.5,6,   2317.4,6,   7.5608,2,    25.00,    0.013,2,  -999.00,9,  -999.00,9,   6.1050,2,  27.1642,2,   6.1689,2
49UP20180806_2,   P13,   100,  1,     18,     660,2,20180913,0707,0817, -6.5107, 163.0018, 3513,    806.6,      801,   5.4864,  34.5162,2,    119.0,2,  34.5167,2,   119.01,2,    54.09,3,    35.39,2,     0.00,2,    2.480,3,    0.166,2,    0.070,2,   2253.5,2,   2329.3,2,   7.5530,2,    25.00,    0.012,2,  -999.00,9,  -999.00,9,   5.4173,2,  27.2424,2,   5.4838,2
49UP20180806_2,   P13,   100,  1,     17,     826,2,20180913,0707,0814, -6.5107, 163.0018, 3513,    906.1,      899,   4.8313,  34.5149,2,    131.2,2,  34.5162,2,   131.04,2,    62.87,3,    34.94,2,     0.00,2,    2.450,3,    0.174,2,    0.078,2,   2255.0,2,   2337.0,2,   7.5672,2,    25.00,    0.012,2,  -999.00,9,  -999.00,9,   4.7576,2,  27.3183,2,   4.8313,2
49UP20180806_2,   P13,   100,  1,     16,     825,2,20180913,0707,0811, -6.5107, 163.0018, 3513,   1008.6,     1001,   4.4200,  34.5300,2,    124.5,2,  34.5315,6,   124.62,2,    73.08,3,    35.98,2,     0.00,2,    2.530,3,    0.092,2,    0.039,2,   2269.6,2,   2346.4,2,   7.5522,2,    25.00,    0.008,2,  -999.00,9,  -999.00,9,   4.3403,2,  27.3763,2,   4.4212,2
49UP20180806_2,   P13,   100,  1,     15,     824,2,20180913,0707,0803, -6.5107, 163.0018, 3513,   1210.4,     1200,   3.5600,  34.5634,2,    118.6,2,  34.5641,2,   119.11,2,    93.88,3,    37.36,2,     0.00,2,    2.630,3,    0.022,6,    0.005,6,   2297.9,2,   2367.3,2,   7.5394,2,    25.00,    0.005,6,  -999.00,9,  -999.00,9,   3.4705,2,  27.4921,2,   3.5602,2
49UP20180806_2,   P13,   100,  1,     14,     823,2,20180913,0707,0759, -6.5107, 163.0018, 3513,   1411.0,     1398,   3.0902,  34.5880,2,    116.1,2,  34.5893,2,   116.20,6,   107.33,3,    37.83,6,     0.00,6,    2.670,3,    0.003,2,    0.001,2,   2312.4,2,   2383.0,2,   7.5376,2,    25.00,    0.002,2,  -999.00,9,  -999.00,9,   2.9887,2,  27.5572,2,   3.0903,2
49UP20180806_2,   P13,   100,  1,     12,     821,2,20180913,0707,0754, -6.5107, 163.0018, 3513,   1614.4,     1599,   2.7266,  34.6058,2,    122.2,2,  34.6074,2,   122.30,2,   115.33,3,    37.51,2,     0.00,2,    2.640,3, -999.000,9, -999.000,9,   2318.1,2,   2392.7,2,   7.5450,2,    25.00, -999.000,9,  -999.00,9,  -999.00,9,   2.6124,2,  27.6050,2,   2.7266,2
49UP20180806_2,   P13,   100,  1,     13,     822,2,20180913,0707,0754, -6.5107, 163.0018, 3513,   1614.7,     1600,   2.7260,  34.6061,2,    122.2,2,  34.6063,2,   122.30,2,   115.63,3,    37.60,2,     0.00,2,    2.640,3,    0.001,2,    0.000,2,   2316.8,2,   2392.0,2,   7.5435,2,    25.00,    0.001,2,  -999.00,9,  -999.00,9,   2.6117,2,  27.6053,2,   2.7255,2
49UP20180806_2,   P13,   100,  1,     11,     820,2,20180913,0707,0746, -6.5107, 163.0018, 3513,   1817.7,     1800,   2.4661,  34.6217,2,    123.8,2,  34.6235,4,   123.64,2,   123.01,3,    37.53,2,     0.00,2,    2.640,3,    0.000,2,    0.000,2,   2324.4,2,   2397.7,2,   7.5466,2,    25.00,    0.001,2,  -999.00,9,  -999.00,9,   2.3382,2,  27.6411,2,   2.4660,2
49UP20180806_2,   P13,   100,  1,     10,     819,2,20180913,0707,0742, -6.5107, 163.0018, 3513,   2022.1,     2001,   2.2835,  34.6332,2,    124.9,2,  34.6340,6,   124.92,2,   128.92,3,    37.53,2,     0.00,2,    2.630,3,    0.000,2,    0.000,2,   2326.9,2,   2407.6,2,   7.5503,2,    25.00,   -0.000,2,  -999.00,9,  -999.00,9,   2.1409,2,  27.6665,2,   2.2836,2
49UP20180806_2,   P13,   100,  1,      9,     818,2,20180913,0707,0737, -6.5107, 163.0018, 3513,   2224.3,     2200,   2.1275,  34.6434,2,    123.9,2,  34.6449,6,   123.69,2,   135.42,3,    37.64,2,     0.00,2,    2.640,3,    0.002,2,    0.000,2,   2337.5,2,   2412.2,2,   7.5482,2,    25.00,    0.006,2,  -999.00,9,  -999.00,9,   1.9698,2,  27.6884,2,   2.1275,2
49UP20180806_2,   P13,   100,  1,      8,     817,4,20180913,0707,0732, -6.5107, 163.0018, 3513,   2428.0,     2401,   1.9876,  34.6513,2,    127.7,2,-999.0000,9,  -999.00,9,  -999.00,9,  -999.00,9,  -999.00,9, -999.000,9, -999.000,9, -999.000,9,   -999.0,9,   -999.0,9,-999.0000,9,  -999.00, -999.000,9,  -999.00,9,  -999.00,9,   1.8140,2,  27.7068,2,   1.9876,2
49UP20180806_2,   P13,   100,  1,      7,     816,2,20180913,0707,0727, -6.5107, 163.0018, 3513,   2631.1,     2600,   1.8840,  34.6572,2,    132.6,2,  34.6578,2,   132.06,2,   139.66,3,    37.13,2,     0.00,2,    2.600,3,    0.000,2,    0.000,2,   2335.1,2,   2418.9,2,   7.5627,6,    25.00,    0.002,2,  -999.00,9,  -999.00,9,   1.6939,2,  27.7207,2,   1.8840,2
49UP20180806_2,   P13,   100,  1,      6,     815,2,20180913,0707,0723, -6.5107, 163.0018, 3513,   2835.2,     2801,   1.7716,  34.6636,2,    133.9,2,  34.6645,2,   133.88,2,   143.43,3,    37.09,2,     0.00,2,    2.590,3,    0.001,2,    0.000,2,   2337.0,6,   2421.4,6,   7.5659,2,    25.00,    0.000,2,  -999.00,9,  -999.00,9,   1.5646,2,  27.7355,2,   1.7716,2
49UP20180806_2,   P13,   100,  1,      5,     814,2,20180913,0707,0718, -6.5107, 163.0018, 3513,   3040.4,     3002,   1.6880,  34.6697,2,    140.1,2,  34.6705,6,   140.06,6,   142.70,3,    36.68,6,     0.00,6,    2.560,3,    0.000,2,    0.002,2,   2332.7,2,   2418.7,2,   7.5741,2,    25.00,    0.002,2,  -999.00,9,  -999.00,9,   1.4632,2,  27.7477,2,   1.6881,2
49UP20180806_2,   P13,   100,  1,      4,     813,2,20180913,0707,0713, -6.5107, 163.0018, 3513,   3295.0,     3251,   1.6001,  34.6760,2,    146.7,2,  34.6763,2,   146.50,2,   142.70,3,    36.31,2,     0.00,2,    2.520,3, -999.000,9, -999.000,9,   2329.0,2,   2418.3,2,   7.5829,2,    25.00, -999.000,9,  -999.00,9,  -999.00,9,   1.3522,2,  27.7608,2,   1.5999,2
49UP20180806_2,   P13,   100,  1,      3,     812,2,20180913,0707,0712, -6.5107, 163.0018, 3513,   3295.1,     3251,   1.6000,  34.6759,2,    146.7,2,  34.6766,2,   147.09,2,   142.79,3,    36.26,2,     0.00,2,    2.520,3,    0.004,2,    0.001,2,   2328.3,2,   2416.4,2,   7.5831,2,    25.00,    0.002,2,  -999.00,9,  -999.00,9,   1.3521,2,  27.7607,2,   1.5999,2
49UP20180806_2,   P13,   100,  1,      2,     811,2,20180913,0707,0707, -6.5107, 163.0018, 3513,   3541.0,     3492,   1.4706,  34.6856,2,    159.9,2,  34.6855,2,   160.02,2,   138.37,3,    35.34,2,     0.00,2,    2.440,3,    0.003,2,    0.002,2,   2311.7,2,   2412.1,2,   7.5977,2,    25.00,    0.002,2,  -999.00,9,  -999.00,9,   1.2010,2,  27.7791,2,   1.4706,2