BOTTLE,20191018JMAGEMD
EXPOCODE,SECT_ID,STNNBR,CASTNO,SAMPNO,BTLNBR,BTLNBR_FLAG_U,DATE,TIME,BTL_TIME,LATITUDE,LONGITUDE,DEPTH,CTDPRS,CTDDEP,CTDTMP,CTDSAL,CTDSAL_FLAG_W,CTDOXY,CTDOXY_FLAG_W,SALNTY,SALNTY_FLAG_W,OXYGEN,OXYGEN_FLAG_W,SILCAT,SILCAT_FLAG_W,NO2+NO3,NO2+NO3_FLAG_W,NITRIT,NITRIT_FLAG_W,PHSPHT,PHSPHT_FLAG_W,CFC-11,CFC-11_FLAG_W,CFC-12,CFC-12_FLAG_W,TCARBN,TCARBN_FLAG_W,ALKALI,ALKALI_FLAG_W,PH_TS,PH_TS_FLAG_W,PH_TS_TMP,CFC113,CFC113_FLAG_W,CHLORA,CHLORA_FLAG_W,PPHYTN,PPHYTN_FLAG_W,THETA,THETA_FLAG_W,SIGTHT,SIGTHT_FLAG_W,SBE35,SBE35_FLAG_W
,,,,,,,,UTC,,,,METER,DBAR,METERS,ITS-90,PSS-78,,UMOL/KG,,PSS78,,UMOL/KG,,UMOL/KG,,UMOL/KG,,UMOL/KG,,UMOL/KG,,PMOL/KG,,PMOL/KG,,UMOL/KG,,UMOL/KG,,,,ITS-90,PMOL/KG,,UG/KG,,UG/KG,,ITS-90,,KG/M3,,ITS-90,
49UP20180806_2,   P13,    92,  1,      0,      -9,0,20180910,0121,0255, -1.0003, 165.0070, 4425,      0.0,        0,  30.5861,  34.2413,2,    194.6,2,  34.2520,2,   193.52,2,     1.30,3,     0.00,2,     0.00,2,    0.100,3, -999.000,9, -999.000,9,   1920.2,2,   2252.3,2,   8.1228,2,    25.00, -999.000,9,     0.05,2,     0.01,2,  30.5855,2,  20.9568,2,-999.0000,9
49UP20180806_2,   P13,    92,  1,     36,     845,2,20180910,0121,0330, -1.0003, 165.0070, 4425,     11.1,       11,  30.3022,  34.2345,2,    194.8,2,  34.2326,2,   193.87,2,     1.37,3,     0.00,2,     0.00,2,    0.090,3,    1.405,2,    0.811,2,   1920.2,2,   2253.3,2,   8.1247,2,    25.00,    0.110,2,     0.06,2,     0.02,2,  30.2994,2,  21.0501,2,  30.3041,2
49UP20180806_2,   P13,    92,  1,     35,     844,2,20180910,0121,0329, -1.0003, 165.0070, 4425,     25.8,       26,  30.2265,  34.2827,2,    195.5,2,  34.2865,2,   194.26,2,     1.46,3,     0.00,2,     0.00,2,    0.080,3, -999.000,9, -999.000,9,   1923.0,2,   2256.0,2,   8.1271,2,    25.00, -999.000,9,     0.05,2,     0.02,2,  30.2201,2,  21.1133,2,  30.2291,2
49UP20180806_2,   P13,    92,  1,     34,     843,2,20180910,0121,0325, -1.0003, 165.0070, 4425,     51.6,       51,  30.4745,  34.7499,2,    196.1,2,  34.7698,4,   195.59,2,     1.53,3,     0.00,2,     0.00,2,    0.130,3,    1.415,2,    0.814,2,   1953.5,2,   2286.7,2,   8.1187,2,    25.00,    0.122,2,     0.06,2,     0.03,2,  30.4616,2,  21.3804,2,  30.4748,2
49UP20180806_2,   P13,    92,  1,     33,     842,2,20180910,0121,0324, -1.0003, 165.0070, 4425,     76.4,       76,  30.1170,  35.1867,2,    200.8,2,  35.1729,4,   199.91,2,     1.61,3,     0.00,2,     0.00,2,    0.190,3, -999.000,9, -999.000,9,   1986.9,2,   2312.3,2,   8.0978,2,    25.00, -999.000,9,     0.15,2,     0.09,2,  30.0980,2,  21.8326,2,  30.1253,2
49UP20180806_2,   P13,    92,  1,     32,     841,2,20180910,0121,0322, -1.0003, 165.0070, 4425,    100.5,      100,  29.8247,  35.3562,2,    198.0,2,  35.3542,2,   198.21,2,     1.75,3,     0.17,2,     0.03,2,    0.230,3,    1.462,2,    0.829,2,   2003.4,2,   2325.6,2,   8.0833,2,    25.00,    0.112,2,     0.35,2,     0.28,2,  29.7999,2,  22.0616,2,  29.8241,2
49UP20180806_2,   P13,    92,  1,     31,     840,2,20180910,0121,0321, -1.0003, 165.0070, 4425,    125.2,      124,  28.2334,  35.4387,2,    165.8,2,  35.4207,4,   163.79,6,     2.84,3,     5.26,6,     0.19,6,    0.530,3, -999.000,9, -999.000,9,   2045.3,2,   2326.9,2,   8.0138,2,    25.00, -999.000,9,     0.17,2,     0.35,2,  28.2037,2,  22.6578,2,  28.2215,2
49UP20180806_2,   P13,    92,  1,     30,     839,2,20180910,0121,0319, -1.0003, 165.0070, 4425,    151.5,      151,  25.0036,  35.6444,2,    138.7,2,  35.6306,2,   141.35,2,     2.81,3,     8.19,2,     0.05,2,    0.740,3,    1.679,2,    0.964,2,   2084.0,2,   2342.3,2,   7.9570,2,    25.00,    0.064,2,     0.07,2,     0.27,2,  24.9706,2,  23.8373,2,  25.0094,2
49UP20180806_2,   P13,    92,  1,     29,     838,2,20180910,0121,0317, -1.0003, 165.0070, 4425,    203.0,      202,  16.8717,  35.3414,2,    128.5,2,  35.3163,4,   130.85,2,     7.43,3,    14.64,2,     0.01,2,    1.150,3,    1.978,2,    1.053,2,   2150.1,2,   2329.2,2,   7.8111,2,    25.00,    0.017,2,     0.00,2,     0.02,2,  16.8383,2,  25.8148,2,  16.8677,2
49UP20180806_2,   P13,    92,  1,     28,     837,2,20180910,0121,0316, -1.0003, 165.0070, 4425,    253.5,      252,  14.2572,  35.0861,2,    145.6,2,  35.0897,2,   145.61,2,     9.56,3,    16.46,2,     0.00,2,    1.230,3,    2.021,2,    1.039,2,   2148.6,2,   2316.6,2,   7.7820,2,    25.00,    0.015,2,  -999.00,9,  -999.00,9,  14.2200,2,  26.2071,2,  14.2507,2
49UP20180806_2,   P13,    92,  1,     27,     661,2,20180910,0121,0313, -1.0003, 165.0070, 4425,    332.2,      330,  11.4015,  34.8136,2,    129.0,2,  34.8121,2,   128.85,2,    19.13,3,    22.74,2,     0.00,2,    1.630,3,    1.663,6,    0.813,6,   2182.3,2,   2305.4,2,   7.6906,2,    25.00,    0.011,6,  -999.00,9,  -999.00,9,  11.3594,2,  26.5647,2,  11.4018,2
49UP20180806_2,   P13,    92,  1,     26,     835,2,20180910,0121,0311, -1.0003, 165.0070, 4425,    383.5,      381,  10.7000,  34.7660,2,    106.1,2,  34.7638,2,   104.11,2,    22.28,3,    26.57,2,     0.00,2,    1.880,3, -999.000,9, -999.000,9,   2199.6,2,   2305.0,2,   7.6275,6,    25.00, -999.000,9,  -999.00,9,  -999.00,9,  10.6533,2,  26.6554,2,  10.7008,2
49UP20180806_2,   P13,    92,  1,     25,     834,2,20180910,0121,0309, -1.0003, 165.0070, 4425,    433.5,      431,   9.5062,  34.6892,2,     75.0,2,  34.6876,2,    76.31,2,    29.11,3,    31.65,2,     0.00,2,    2.210,3,    0.880,2,    0.411,2,   2230.6,2,   2304.8,2,   7.5517,2,    25.00,    0.006,2,  -999.00,9,  -999.00,9,   9.4570,2,  26.8004,2,   9.5060,2
49UP20180806_2,   P13,    92,  1,     23,     832,3,20180910,0121,0307, -1.0003, 165.0070, 4425,    484.6,      481,   8.6297,  34.6321,2,     91.5,2,  34.6324,2,    91.73,2,    32.02,3,    31.83,2,     0.00,2,    2.220,3, -999.000,9, -999.000,9,   2228.8,6,   2307.6,6,   7.5602,2,    25.00, -999.000,9,  -999.00,9,  -999.00,9,   8.5778,2,  26.8967,2,   8.6301,2
49UP20180806_2,   P13,    92,  1,     22,     831,2,20180910,0121,0305, -1.0003, 165.0070, 4425,    533.3,      530,   7.8348,  34.5840,2,    116.6,2,  34.5854,2,   116.80,6,    32.72,3,    30.98,6,     0.00,6,    2.160,3,    0.867,2,    0.393,2,   2210.8,2,   2307.0,2,   7.5880,2,    25.00,    0.011,2,  -999.00,9,  -999.00,9,   7.7807,2,  26.9796,2,   7.8363,2
49UP20180806_2,   P13,    92,  1,     21,     830,2,20180910,0121,0302, -1.0003, 165.0070, 4425,    635.6,      631,   7.0109,  34.5660,2,     83.4,2,  34.5661,2,    83.55,2,    45.23,3,    36.01,2,     0.00,2,    2.530,3,    0.340,2,    0.153,2,   2256.0,2,   2317.9,2,   7.5170,2,    25.00,    0.000,2,  -999.00,9,  -999.00,9,   6.9499,2,  27.0838,2,   7.0115,2
49UP20180806_2,   P13,    92,  1,     20,     829,2,20180910,0121,0259, -1.0003, 165.0070, 4425,    737.1,      732,   6.2250,  34.5430,2,     90.4,2,  34.5423,2,    90.55,2,    52.91,3,    36.77,2,     0.00,2,    2.600,3,    0.225,2,    0.103,2,   2261.8,2,   2322.7,2,   7.5101,2,    25.00,    0.001,2,  -999.00,9,  -999.00,9,   6.1580,2,  27.1713,2,   6.2248,2
49UP20180806_2,   P13,    92,  1,     19,     828,2,20180910,0121,0256, -1.0003, 165.0070, 4425,    836.2,      830,   5.6367,  34.5291,2,    104.2,2,  34.5299,2,   104.69,2,    57.92,3,    36.28,2,     0.00,2,    2.560,3,    0.214,2,    0.098,2,   2259.4,2,   2328.9,2,   7.5297,2,    25.00,    0.000,2,  -999.00,9,  -999.00,9,   5.5639,2,  27.2349,2,   5.6367,2
49UP20180806_2,   P13,    92,  1,     18,     660,2,20180910,0121,0253, -1.0003, 165.0070, 4425,    938.5,      931,   4.9167,  34.5385,2,    101.2,2,  34.5382,2,   101.31,2,    73.06,3,    37.39,2,     0.00,2,    2.650,3,    0.097,2,    0.040,2,   2282.0,2,   2343.6,2,   7.5213,2,    25.00,    0.005,2,  -999.00,9,  -999.00,9,   4.8395,2,  27.3277,2,   4.9167,2
49UP20180806_2,   P13,    92,  1,     17,     826,2,20180910,0121,0247, -1.0003, 165.0070, 4425,   1079.6,     1071,   4.3661,  34.5529,2,     96.5,2,  34.5537,2,    97.29,2,    85.74,3,    38.31,2,     0.00,2,    2.730,3,    0.043,2,    0.018,2,   2295.0,2,   2358.9,2,   7.5112,2,    25.00,    0.000,2,  -999.00,9,  -999.00,9,   4.2807,2,  27.4009,2,   4.3667,2
49UP20180806_2,   P13,    92,  1,     16,     825,2,20180910,0121,0242, -1.0003, 165.0070, 4425,   1281.7,     1271,   3.7182,  34.5754,2,     92.7,2,  34.5755,6,    92.96,2,   103.33,3,    39.15,2,     0.00,2,    2.790,3,    0.015,2,    0.007,2,   2316.3,2,   2375.1,2,   7.5019,2,    25.00,    0.002,2,  -999.00,9,  -999.00,9,   3.6211,2,  27.4869,2,   3.7180,2
49UP20180806_2,   P13,    92,  1,     15,     824,2,20180910,0121,0237, -1.0003, 165.0070, 4425,   1483.4,     1470,   3.2442,  34.5924,2,     97.2,2,  34.5920,2,    97.12,2,   113.82,3,    39.19,2,     0.00,2,    2.790,3,    0.005,2,    0.005,2,   2322.1,2,   2386.2,2,   7.5053,6,    25.00,    0.000,2,  -999.00,9,  -999.00,9,   3.1349,2,  27.5473,2,   3.2443,2
49UP20180806_2,   P13,    92,  1,     14,     823,2,20180910,0121,0231, -1.0003, 165.0070, 4425,   1687.2,     1671,   2.8562,  34.6078,2,    103.5,2,  34.6084,2,   103.65,2,   122.26,3,    38.79,2,     0.00,2,    2.750,3,    0.004,2,    0.005,2,   2332.6,6,   2398.2,6,   7.5192,2,    25.00,    0.000,2,  -999.00,9,  -999.00,9,   2.7343,2,  27.5960,2,   2.8562,2
49UP20180806_2,   P13,    92,  1,     13,     822,2,20180910,0121,0226, -1.0003, 165.0070, 4425,   1889.8,     1871,   2.3966,  34.6287,2,    114.5,2,  34.6284,2,   114.73,6,   130.96,3,    38.25,6,     0.00,6,    2.700,3,    0.003,2,    0.004,2,   2331.9,2,   2407.7,2,   7.5364,2,    25.00,    0.000,2,  -999.00,9,  -999.00,9,   2.2636,2,  27.6529,2,   2.3967,2
49UP20180806_2,   P13,    92,  1,     12,     821,2,20180910,0121,0220, -1.0003, 165.0070, 4425,   2092.9,     2071,   2.1473,  34.6421,2,    119.0,2,  34.6424,2,   119.25,2,   136.82,3,    38.05,2,     0.00,2,    2.670,3,    0.000,2,    0.002,2,   2339.1,2,   2413.8,2,   7.5420,2,    25.00,    0.000,2,  -999.00,9,  -999.00,9,   2.0006,2,  27.6849,2,   2.1479,2
49UP20180806_2,   P13,    92,  1,     11,     820,2,20180910,0121,0214, -1.0003, 165.0070, 4425,   2296.2,     2271,   1.9930,  34.6507,2,    122.7,2,  34.6508,6,   123.24,2,   140.86,3,    37.88,2,     0.00,2,    2.660,3,    0.004,2,    0.003,2,   2337.1,2,   2416.8,2,   7.5480,2,    25.00,    0.002,2,  -999.00,9,  -999.00,9,   1.8311,2,  27.7051,2,   1.9927,2
49UP20180806_2,   P13,    92,  1,     10,     819,2,20180910,0121,0209, -1.0003, 165.0070, 4425,   2498.9,     2470,   1.9073,  34.6560,2,    125.1,2,  34.6556,2,   125.36,2,   143.12,3,    37.77,2,     0.00,2,    2.650,3,    0.000,6,    0.001,6,   2341.7,2,   2418.6,2,   7.5511,2,    25.00,    0.002,6,  -999.00,9,  -999.00,9,   1.7288,2,  27.7171,2,   1.9078,2
49UP20180806_2,   P13,    92,  1,      9,     818,2,20180910,0121,0204, -1.0003, 165.0070, 4425,   2702.5,     2670,   1.7885,  34.6620,2,    129.5,2,  34.6620,2,   129.49,2,   145.45,3,    37.46,2,     0.00,2,    2.620,3,    0.000,2,    0.000,2,   2339.2,2,   2421.3,2,   7.5554,2,    25.00,    0.008,2,  -999.00,9,  -999.00,9,   1.5937,2,  27.7321,2,   1.7886,2
49UP20180806_2,   P13,    92,  1,      8,     817,2,20180910,0121,0159, -1.0003, 165.0070, 4425,   2906.2,     2870,   1.7074,  34.6667,2,    133.9,2,  34.6670,6,   134.04,2,   146.24,3,    37.18,2,     0.00,2,    2.590,3,    0.002,2,    0.004,2,   2337.8,2,   2423.5,2,   7.5643,2,    25.00,    0.001,2,  -999.00,9,  -999.00,9,   1.4951,2,  27.7431,2,   1.7073,2
49UP20180806_2,   P13,    92,  1,      7,     816,2,20180910,0121,0154, -1.0003, 165.0070, 4425,   3122.1,     3082,   1.6319,  34.6720,2,    139.6,2,  34.6718,2,   139.66,2,   146.48,3,    36.83,2,     0.00,2,    2.560,3, -999.000,9, -999.000,9,   2335.7,2,   2421.7,2,   7.5713,2,    25.00, -999.000,9,  -999.00,9,  -999.00,9,   1.4004,2,  27.7541,2,   1.6319,2
49UP20180806_2,   P13,    92,  1,      6,     815,2,20180910,0121,0148, -1.0003, 165.0070, 4425,   3374.7,     3330,   1.5717,  34.6766,2,    145.1,2,  34.6764,6,   145.43,2,   145.50,3,    36.39,2,     0.00,2,    2.530,3, -999.000,9, -999.000,9,   2331.2,2,   2420.5,2,   7.5790,2,    25.00, -999.000,9,  -999.00,9,  -999.00,9,   1.3165,2,  27.7638,2,   1.5717,2
49UP20180806_2,   P13,    92,  1,      5,     814,2,20180910,0121,0142, -1.0003, 165.0070, 4425,   3629.7,     3579,   1.5351,  34.6805,2,    150.2,2,  34.6804,2,   149.93,2,   143.94,3,    36.14,2,     0.00,2,    2.500,3,    0.000,2,   -0.000,2,   2325.8,2,   2419.0,2,   7.5874,6,    25.00,    0.000,2,  -999.00,9,  -999.00,9,   1.2547,2,  27.7713,2,   1.5349,2
49UP20180806_2,   P13,    92,  1,      4,     813,2,20180910,0121,0137, -1.0003, 165.0070, 4425,   3886.8,     3830,   1.4852,  34.6859,2,    157.6,2,  34.6866,2,   157.93,6,   141.14,3,    35.54,6,     0.00,6,    2.450,3,    0.001,4,    0.002,4,   2314.2,2,   2418.0,2,   7.5976,2,    25.00,    0.003,4,  -999.00,9,  -999.00,9,   1.1789,2,  27.7808,2,   1.4850,2
49UP20180806_2,   P13,    92,  1,      3,     812,2,20180910,0121,0131, -1.0003, 165.0070, 4425,   4143.0,     4080,   1.4180,  34.6922,2,    167.7,2,  34.6916,2,   167.35,2,   136.19,3,    34.90,2,     0.00,2,    2.400,3,    0.009,2,    0.004,2,   2310.5,6,   2408.6,6,   7.6061,2,    25.00,    0.000,2,  -999.00,9,  -999.00,9,   1.0857,2,  27.7923,2,   1.4179,2
49UP20180806_2,   P13,    92,  1,      2,     811,2,20180910,0121,0125, -1.0003, 165.0070, 4425,   4400.5,     4332,   1.3524,  34.6982,2,    178.7,2,  34.6975,6,   178.82,2,   131.24,3,    34.06,2,     0.00,2,    2.350,3,    0.013,2,    0.004,2,   2300.0,2,   2400.5,2,   7.6146,2,    25.00,    0.000,2,  -999.00,9,  -999.00,9,   0.9933,2,  27.8033,2,   1.3523,2
49UP20180806_2,   P13,    92,  1,      1,     810,2,20180910,0121,0122, -1.0003, 165.0070, 4425,   4487.0,     4416,   1.3582,  34.6986,2,    179.2,2,  34.6993,2,   179.02,2,   130.61,3,    34.03,2,     0.00,2,    2.340,3,    0.011,2,    0.000,2,   2299.2,2,   2401.5,2,   7.6151,2,    25.00,    0.000,2,  -999.00,9,  -999.00,9,   0.9890,2,  27.8039,2,   1.3580,2