BOTTLE,20191018JMAGEMD
EXPOCODE,SECT_ID,STNNBR,CASTNO,SAMPNO,BTLNBR,BTLNBR_FLAG_U,DATE,TIME,BTL_TIME,LATITUDE,LONGITUDE,DEPTH,CTDPRS,CTDDEP,CTDTMP,CTDSAL,CTDSAL_FLAG_W,CTDOXY,CTDOXY_FLAG_W,SALNTY,SALNTY_FLAG_W,OXYGEN,OXYGEN_FLAG_W,SILCAT,SILCAT_FLAG_W,NO2+NO3,NO2+NO3_FLAG_W,NITRIT,NITRIT_FLAG_W,PHSPHT,PHSPHT_FLAG_W,CFC-11,CFC-11_FLAG_W,CFC-12,CFC-12_FLAG_W,TCARBN,TCARBN_FLAG_W,ALKALI,ALKALI_FLAG_W,PH_TS,PH_TS_FLAG_W,PH_TS_TMP,CFC113,CFC113_FLAG_W,CHLORA,CHLORA_FLAG_W,PPHYTN,PPHYTN_FLAG_W,THETA,THETA_FLAG_W,SIGTHT,SIGTHT_FLAG_W,SBE35,SBE35_FLAG_W
,,,,,,,,UTC,,,,METER,DBAR,METERS,ITS-90,PSS-78,,UMOL/KG,,PSS78,,UMOL/KG,,UMOL/KG,,UMOL/KG,,UMOL/KG,,UMOL/KG,,PMOL/KG,,PMOL/KG,,UMOL/KG,,UMOL/KG,,,,ITS-90,PMOL/KG,,UG/KG,,UG/KG,,ITS-90,,KG/M3,,ITS-90,
49UP20180806_1,   P13,    34,  1,      0,      -9,0,20180810,0944,1130, 37.0183, 164.9895, 4793,      0.0,        0,  25.6749,  34.4948,2,    210.0,2,  34.5161,2,   209.27,2,     1.88,3,     0.00,2,     0.00,2,    0.040,3, -999.000,9, -999.000,9,   1977.9,2,   2273.5,2,   8.0569,3,    25.00, -999.000,9,     0.09,2,     0.04,2,  25.6744,2,  22.7531,2,-999.0000,9
49UP20180806_1,   P13,    34,  1,     36,     845,2,20180810,0944,1159, 37.0183, 164.9895, 4793,     10.2,       10,  25.6801,  34.4946,2,    209.9,2,  34.4935,2,   209.67,2,     1.92,3,     0.02,2,     0.00,2,    0.010,3,    1.835,2,    1.057,2,   1977.2,6,   2273.6,6,   8.0575,2,    25.00,    0.151,2,     0.08,2,     0.03,2,  25.6778,2,  22.7519,2,  25.6802,2
49UP20180806_1,   P13,    34,  1,     35,     844,2,20180810,0944,1157, 37.0183, 164.9895, 4793,     26.3,       26,  25.1749,  34.4698,2,    212.2,2,  34.4711,2,   211.91,2,     1.97,3,     0.02,2,     0.00,2,    0.020,3, -999.000,9, -999.000,9,   1977.6,2,   2274.0,2,   8.0541,6,    25.00, -999.000,9,     0.09,2,     0.04,2,  25.1692,2,  22.8891,2,  25.1743,2
49UP20180806_1,   P13,    34,  1,     34,     843,2,20180810,0944,1153, 37.0183, 164.9895, 4793,     49.6,       49,  18.7216,  34.4476,2,    252.4,2,  34.4441,2,   250.70,2,     3.66,3,     0.12,2,     0.01,2,    0.070,3,    2.533,2,    1.414,2,   2007.3,2,   2276.0,2,   8.0187,2,    25.00,    0.179,2,     0.39,2,     0.26,2,  18.7129,2,  24.6716,2,  18.7198,2
49UP20180806_1,   P13,    34,  1,     33,     842,2,20180810,0944,1152, 37.0183, 164.9895, 4793,     74.5,       74,  16.3955,  34.5962,2,    225.3,2,  34.5933,2,   224.95,2,     7.31,3,     4.24,2,     0.35,2,    0.340,3, -999.000,9, -999.000,9,   2046.3,2,   2283.6,2,   7.9476,2,    25.00, -999.000,9,     0.27,2,     0.32,2,  16.3835,2,  25.3488,2,  16.4091,2
49UP20180806_1,   P13,    34,  1,     32,     841,2,20180810,0944,1150, 37.0183, 164.9895, 4793,    101.6,      101,  14.5429,  34.5451,2,    194.8,2,  34.5435,2,   194.63,6,    12.19,3,    10.01,6,     0.01,6,    0.680,3,    2.682,2,    1.479,2,   2083.9,2,   2281.1,2,   7.8634,2,    25.00,    0.057,2,     0.02,2,     0.03,2,  14.5280,2,  25.7235,2,  14.5458,2
49UP20180806_1,   P13,    34,  1,     31,     840,2,20180810,0944,1149, 37.0183, 164.9895, 4793,    125.5,      125,  13.8925,  34.5092,2,    185.9,2,  34.5079,2,   185.26,2,    16.29,3,    12.08,2,     0.01,2,    0.840,3, -999.000,9, -999.000,9,   2106.4,2,   2283.4,2,   7.8347,2,    25.00, -999.000,9,     0.01,2,     0.03,2,  13.8746,2,  25.8340,2,  13.8927,2
49UP20180806_1,   P13,    34,  1,     30,     839,3,20180810,0944,1147, 37.0183, 164.9895, 4793,    152.7,      152,  12.9432,  34.4532,2,    200.5,2,  34.4526,2,   199.05,2,    17.60,3,    12.25,2,     0.01,2,    0.870,3,    2.774,6,    1.504,6,   2096.5,2,   2282.4,2,   7.8274,2,    25.00,    0.135,6,     0.01,2,     0.03,2,  12.9224,2,  25.9848,2,  12.9527,2
49UP20180806_1,   P13,    34,  1,     29,     838,2,20180810,0944,1145, 37.0183, 164.9895, 4793,    204.8,      203,  11.5497,  34.3249,2,    210.4,2,  34.3249,2,   209.94,2,    18.83,3,    13.35,2,     0.00,2,    0.930,3,    3.009,2,    1.653,2,   2108.9,2,   2277.5,2,   7.8028,2,    25.00,    0.141,2,     0.00,2,     0.03,2,  11.5239,2,  26.1541,2,  11.5508,2
49UP20180806_1,   P13,    34,  1,     28,     837,2,20180810,0944,1143, 37.0183, 164.9895, 4793,    254.8,      253,  10.0877,  34.1834,2,    199.7,2,  34.1848,2,   198.79,2,    23.98,3,    16.82,2,     0.00,2,    1.190,3,    3.170,2,    1.719,2,   2137.8,2,   2274.5,2,   7.7431,2,    25.00,    0.138,2,  -999.00,9,  -999.00,9,  10.0582,2,  26.3044,2,  10.0973,2
49UP20180806_1,   P13,    34,  1,     27,     661,2,20180810,0944,1141, 37.0183, 164.9895, 4793,    285.4,      283,   9.5483,  34.1415,2,    195.9,2,  34.1434,2,   195.50,2,    26.92,3,    18.00,2,     0.00,2,    1.270,3,    3.176,2,    1.720,2,   2144.9,2,   2275.3,2,   7.7233,2,    25.00,    0.132,2,  -999.00,9,  -999.00,9,   9.5163,2,  26.3623,2,   9.5516,2
49UP20180806_1,   P13,    34,  1,     26,     835,3,20180810,0944,1138, 37.0183, 164.9895, 4793,    373.9,      371,   7.3974,  33.9782,2,    178.5,2,  33.9786,6,   177.96,2,    41.52,3,    23.48,2,     0.00,2,    1.700,3,    3.176,2,    1.675,2,   2176.2,2,   2281.4,2,   7.6310,2,    25.00,    0.169,2,  -999.00,9,  -999.00,9,   7.3614,2,  26.5636,2,   7.3971,2
49UP20180806_1,   P13,    34,  1,     25,     834,2,20180810,0944,1135, 37.0183, 164.9895, 4793,    472.9,      469,   5.7056,  33.9815,2,    128.5,2,  33.9827,2,   128.48,6,    64.77,3,    31.15,6,     0.00,6,    2.260,3,    2.630,2,    1.291,2,   2244.2,2,   2294.9,2,   7.5054,2,    25.00,    0.132,2,  -999.00,9,  -999.00,9,   5.6658,2,  26.7892,2,   5.7069,2
49UP20180806_1,   P13,    34,  1,     24,     833,2,20180810,0944,1132, 37.0183, 164.9895, 4793,    576.1,      571,   5.0282,  34.0625,2,     93.6,2,  34.0618,2,    93.46,2,    81.71,3,    35.41,2,     0.00,2,    2.550,3,    2.016,2,    0.967,2,   2277.3,2,   2310.2,2,   7.4387,2,    25.00,    0.100,2,  -999.00,9,  -999.00,9,   4.9822,2,  26.9340,2,   5.0277,2
49UP20180806_1,   P13,    34,  1,     23,     832,2,20180810,0944,1132, 37.0183, 164.9895, 4793,    576.2,      571,   5.0315,  34.0621,2,     94.0,2,  34.0617,2,    93.83,2,    81.83,3,    35.41,2,     0.00,2,    2.550,3, -999.000,9, -999.000,9,   2280.0,2,   2311.1,2,   7.4358,2,    25.00, -999.000,9,  -999.00,9,  -999.00,9,   4.9855,2,  26.9333,2,   5.0290,2
49UP20180806_1,   P13,    34,  1,     22,     831,2,20180810,0944,1129, 37.0183, 164.9895, 4793,    677.8,      672,   4.4187,  34.1614,2,     64.4,2,  34.1606,2,    64.94,2,   100.07,3,    38.75,2,     0.00,2,    2.780,3,    1.342,2,    0.605,2,   2309.5,2,   2328.8,2,   7.3913,2,    25.00,    0.056,2,  -999.00,9,  -999.00,9,   4.3672,2,  27.0805,2,   4.4190,2
49UP20180806_1,   P13,    34,  1,     21,     830,2,20180810,0944,1126, 37.0183, 164.9895, 4793,    778.3,      771,   3.9367,  34.2351,2,     48.3,2,  34.2343,2,    48.16,2,   113.73,3,    40.77,2,     0.00,2,    2.910,3,    0.842,2,    0.372,2,   2333.1,2,   2347.6,2,   7.3661,2,    25.00,    0.036,2,  -999.00,9,  -999.00,9,   3.8799,2,  27.1899,2,   3.9371,2
49UP20180806_1,   P13,    34,  1,     20,     829,2,20180810,0944,1123, 37.0183, 164.9895, 4793,    878.1,      870,   3.6371,  34.2994,2,     43.3,2,  34.2989,2,    42.81,2,   123.44,3,    41.57,2,     0.00,2,    2.960,3,    0.531,2,    0.241,2,   2346.5,2,   2360.0,2,   7.3612,2,    25.00,    0.027,2,  -999.00,9,  -999.00,9,   3.5742,2,  27.2716,2,   3.6344,2
49UP20180806_1,   P13,    34,  1,     19,     828,2,20180810,0944,1119, 37.0183, 164.9895, 4793,    980.1,      971,   3.2989,  34.3478,2,     38.3,2,  34.3485,2,    38.45,2,   132.92,3,    42.11,2,     0.00,2,    3.020,3,    0.344,2,    0.154,2,   2358.9,2,   2369.8,2,   7.3540,2,    25.00,    0.010,2,  -999.00,9,  -999.00,9,   3.2305,2,  27.3432,2,   3.2990,2
49UP20180806_1,   P13,    34,  1,     18,     827,2,20180810,0944,1115, 37.0183, 164.9895, 4793,   1143.3,     1132,   2.9170,  34.4142,2,     32.5,2,  34.4155,2,    31.83,2,   145.05,3,    43.07,2,     0.00,2,    3.080,3,    0.134,2,    0.059,2,   2375.8,2,   2385.4,6,   7.3507,2,    25.00,    0.000,2,  -999.00,9,  -999.00,9,   2.8390,2,  27.4320,2,   2.9171,2
49UP20180806_1,   P13,    34,  1,     17,     826,2,20180810,0944,1110, 37.0183, 164.9895, 4793,   1344.0,     1330,   2.6215,  34.4706,2,     36.4,2,  34.4710,2,    36.18,2,   153.26,3,    43.26,2,     0.00,2,    3.060,3,    0.063,2,    0.018,2,   2384.7,2,   2396.1,2,   7.3610,6,    25.00,    0.000,2,  -999.00,9,  -999.00,9,   2.5306,2,  27.5040,2,   2.6216,2
49UP20180806_1,   P13,    34,  1,     16,     825,2,20180810,0944,1105, 37.0183, 164.9895, 4793,   1547.4,     1530,   2.3561,  34.5099,2,     42.0,2,  34.5093,2,    42.13,2,   160.70,3,    43.02,2,     0.00,2,    3.030,3,    0.038,2,    0.012,2,   2387.6,2,   2402.9,2,   7.3716,2,    25.00,    0.002,2,  -999.00,9,  -999.00,9,   2.2521,2,  27.5587,2,   2.3572,2
49UP20180806_1,   P13,    34,  1,     15,     824,2,20180810,0944,1100, 37.0183, 164.9895, 4793,   1749.6,     1729,   2.1428,  34.5512,2,     53.4,2,  34.5510,2,    53.12,2,   164.66,3,    42.19,2,     0.00,2,    2.980,3,    0.017,6,    0.005,6,   2383.4,2,   2409.0,2,   7.3958,2,    25.00,    0.001,6,  -999.00,9,  -999.00,9,   2.0252,2,  27.6101,2,   2.1428,2
49UP20180806_1,   P13,    34,  1,     14,     823,2,20180810,0944,1056, 37.0183, 164.9895, 4793,   1952.4,     1929,   1.9760,  34.5824,2,     66.4,2,  34.5826,2,    66.72,2,   167.12,3,    41.52,2,     0.00,2,    2.920,3,    0.006,2,    0.002,2,   2379.5,2,   2416.6,2,   7.4204,2,    25.00,    0.005,2,  -999.00,9,  -999.00,9,   1.8441,2,  27.6493,2,   1.9761,2
49UP20180806_1,   P13,    34,  1,     13,     822,2,20180810,0944,1051, 37.0183, 164.9895, 4793,   2159.1,     2132,   1.8358,  34.6072,2,     80.4,2,  34.6087,6,    80.18,2,   167.79,3,    40.73,2,     0.00,2,    2.850,3,    0.002,2,    0.000,2,   2374.3,2,   2418.6,2,   7.4476,2,    25.00,    0.000,2,  -999.00,9,  -999.00,9,   1.6886,2,  27.6810,2,   1.8359,2
49UP20180806_1,   P13,    34,  1,     12,     821,2,20180810,0944,1046, 37.0183, 164.9895, 4793,   2359.4,     2329,   1.7270,  34.6261,2,     93.6,2,  34.6252,2,    93.69,2,   166.33,3,    39.80,2,     0.00,2,    2.790,3,   -0.000,2,    0.000,2,   2365.6,2,   2417.7,2,   7.4731,2,    25.00,    0.007,2,  -999.00,9,  -999.00,9,   1.5643,2,  27.7054,2,   1.7270,2
49UP20180806_1,   P13,    34,  1,     11,     820,2,20180810,0944,1041, 37.0183, 164.9895, 4793,   2563.8,     2529,   1.6418,  34.6419,2,    107.3,2,  34.6396,4,   106.36,2,   163.76,3,    38.82,2,     0.00,2,    2.730,3,    0.003,2,   -0.000,2,   2358.6,2,   2421.8,2,   7.4985,2,    25.00,    0.008,2,  -999.00,9,  -999.00,9,   1.4625,2,  27.7255,2,   1.6420,2
49UP20180806_1,   P13,    34,  1,     10,     819,2,20180810,0944,1035, 37.0183, 164.9895, 4793,   2767.7,     2729,   1.5927,  34.6514,2,    116.0,2,  34.6500,2,   115.40,2,   161.99,3,    38.42,2,     0.00,2,    2.670,3,    0.000,2,    0.001,2,   2354.7,2,   2422.4,2,   7.5173,2,    25.00,    0.004,2,  -999.00,9,  -999.00,9,   1.3958,2,  27.7379,2,   1.5930,2
49UP20180806_1,   P13,    34,  1,      9,     818,2,20180810,0944,1030, 37.0183, 164.9895, 4793,   2973.7,     2931,   1.5415,  34.6603,2,    125.0,2,  34.6590,2,   124.01,3,   160.40,3,    37.90,6,     0.00,6,    2.630,3, -999.000,9, -999.000,9,   2344.1,2,   2422.7,2,   7.5352,2,    25.00, -999.000,9,  -999.00,9,  -999.00,9,   1.3264,2,  27.7500,2,   1.5419,2
49UP20180806_1,   P13,    34,  1,      7,     816,2,20180810,0944,1023, 37.0183, 164.9895, 4793,   3217.2,     3169,   1.5054,  34.6674,2,    132.6,2,  34.6602,4,   129.91,4,   157.89,3,    37.42,2,     0.00,2,    2.600,3, -999.000,9, -999.000,9,   2340.9,2,   2421.4,2,   7.5433,2,    25.00, -999.000,9,  -999.00,9,  -999.00,9,   1.2676,2,  27.7599,2,   1.5054,2
49UP20180806_1,   P13,    34,  1,      8,     817,2,20180810,0944,1024, 37.0183, 164.9895, 4793,   3218.1,     3170,   1.5056,  34.6676,2,    132.7,2,  34.6658,4,   132.16,2,   158.09,3,    37.35,2,     0.00,2,    2.590,3, -999.000,9, -999.000,9,   2339.4,2,   2422.5,2,   7.5460,2,    25.00, -999.000,9,  -999.00,9,  -999.00,9,   1.2676,2,  27.7600,2,   1.5058,2
49UP20180806_1,   P13,    34,  1,      6,     815,2,20180810,0944,1017, 37.0183, 164.9895, 4793,   3473.1,     3419,   1.4765,  34.6739,2,    139.8,2,  34.6740,6,   139.74,2,   156.21,3,    36.89,2,     0.00,2,    2.560,3, -999.000,9, -999.000,9,   2339.6,6,   2422.6,6,   7.5587,2,    25.00, -999.000,9,  -999.00,9,  -999.00,9,   1.2137,2,  27.7688,2,   1.4765,2
49UP20180806_1,   P13,    34,  1,      5,     814,2,20180810,0944,1010, 37.0183, 164.9895, 4793,   3728.3,     3668,   1.4559,  34.6791,2,    146.0,2,  34.6790,2,   145.95,2,   155.29,3,    36.51,2,     0.00,2,    2.530,3,    0.000,2,    0.000,2,   2332.2,2,   2421.3,2,   7.5723,6,    25.00,    0.000,2,  -999.00,9,  -999.00,9,   1.1673,2,  27.7762,2,   1.4560,2
49UP20180806_1,   P13,    34,  1,      4,     813,2,20180810,0944,1003, 37.0183, 164.9895, 4793,   3986.7,     3920,   1.4465,  34.6833,2,    151.1,2,  34.6829,2,   150.77,2,   153.65,3,    36.07,2,     0.00,2,    2.500,3, -999.000,9, -999.000,9,   2327.5,2,   2419.9,2,   7.5803,2,    25.00, -999.000,9,  -999.00,9,  -999.00,9,   1.1305,2,  27.7820,2,   1.4466,2
49UP20180806_1,   P13,    34,  1,      3,     812,2,20180810,0944,0957, 37.0183, 164.9895, 4793,   4242.8,     4170,   1.4561,  34.6855,2,    153.6,2,  34.6839,4,   152.57,3,   153.35,3,    35.95,2,     0.00,2,    2.490,3, -999.000,9, -999.000,9,   2325.8,2,   2421.0,2,   7.5833,2,    25.00, -999.000,9,  -999.00,9,  -999.00,9,   1.1117,2,  27.7851,2,   1.4561,2
49UP20180806_1,   P13,    34,  1,      2,     811,2,20180810,0944,0951, 37.0183, 164.9895, 4793,   4501.8,     4422,   1.4764,  34.6866,2,    154.8,2,  34.6860,6,   154.51,2,   153.19,3,    35.85,2,     0.00,2,    2.480,3, -999.000,9, -999.000,9,   2325.5,2,   2420.6,2,   7.5853,2,    25.00, -999.000,9,  -999.00,9,  -999.00,9,   1.1019,2,  27.7867,2,   1.4766,2
49UP20180806_1,   P13,    34,  1,      1,     810,2,20180810,0944,0945, 37.0183, 164.9895, 4793,   4800.8,     4712,   1.5040,  34.6875,2,    156.0,2,  34.6861,2,   155.67,6,   152.79,3,    35.75,6,     0.00,6,    2.470,3,    0.007,2,    0.000,2,   2328.3,2,   2420.2,2,   7.5885,2,    25.00,    0.001,2,  -999.00,9,  -999.00,9,   1.0936,2,  27.7880,2,   1.5040,2