BOTTLE,20191018JMAGEMD
EXPOCODE,SECT_ID,STNNBR,CASTNO,SAMPNO,BTLNBR,BTLNBR_FLAG_U,DATE,TIME,BTL_TIME,LATITUDE,LONGITUDE,DEPTH,CTDPRS,CTDDEP,CTDTMP,CTDSAL,CTDSAL_FLAG_W,CTDOXY,CTDOXY_FLAG_W,SALNTY,SALNTY_FLAG_W,OXYGEN,OXYGEN_FLAG_W,SILCAT,SILCAT_FLAG_W,NO2+NO3,NO2+NO3_FLAG_W,NITRIT,NITRIT_FLAG_W,PHSPHT,PHSPHT_FLAG_W,CFC-11,CFC-11_FLAG_W,CFC-12,CFC-12_FLAG_W,TCARBN,TCARBN_FLAG_W,ALKALI,ALKALI_FLAG_W,PH_TS,PH_TS_FLAG_W,PH_TS_TMP,CFC113,CFC113_FLAG_W,CHLORA,CHLORA_FLAG_W,PPHYTN,PPHYTN_FLAG_W,THETA,THETA_FLAG_W,SIGTHT,SIGTHT_FLAG_W,SBE35,SBE35_FLAG_W
,,,,,,,,UTC,,,,METER,DBAR,METERS,ITS-90,PSS-78,,UMOL/KG,,PSS78,,UMOL/KG,,UMOL/KG,,UMOL/KG,,UMOL/KG,,UMOL/KG,,PMOL/KG,,PMOL/KG,,UMOL/KG,,UMOL/KG,,,,ITS-90,PMOL/KG,,UG/KG,,UG/KG,,ITS-90,,KG/M3,,ITS-90,
49UP20180806_1,   P13,    62,  1,      0,      -9,0,20180821,2110,2310, 14.9898, 164.9800, 5198,      0.0,        0,  29.4633,  34.1166,2,    195.4,2,  34.0832,2,   195.37,2,     1.10,3,     0.00,2,     0.00,2,    0.070,3, -999.000,9, -999.000,9,   1923.7,2,   2245.7,2,   8.1047,2,    25.00, -999.000,9,     0.05,2,     0.01,2,  29.4628,2,  21.2460,2,-999.0000,9
49UP20180806_1,   P13,    62,  1,     36,     845,2,20180821,2110,2336, 14.9898, 164.9800, 5198,     12.5,       12,  29.4416,  34.1332,2,    195.5,2,  34.1330,2,   195.51,2,     1.11,3,     0.00,2,     0.00,2,    0.050,3,    1.478,2,    0.848,2,   1925.9,2,   2247.1,2,   8.1082,2,    25.00,    0.126,2,     0.05,2,     0.02,2,  29.4386,2,  21.2665,2,  29.4595,2
49UP20180806_1,   P13,    62,  1,     35,     844,2,20180821,2110,2332, 14.9898, 164.9800, 5198,     51.0,       51,  29.2669,  34.7531,2,    200.1,2,  34.7541,2,   200.49,2,     0.71,3,     0.00,2,     0.00,2,    0.050,3,    1.527,2,    0.860,2,   1962.2,2,   2287.8,2,   8.1067,2,    25.00,    0.136,2,     0.07,2,     0.02,2,  29.2545,2,  21.7935,2,  29.2651,2
49UP20180806_1,   P13,    62,  1,     34,     843,2,20180821,2110,2330, 14.9898, 164.9800, 5198,    100.3,      100,  26.3512,  35.0619,2,    208.4,2,  35.0585,2,   208.39,2,     1.15,3,     0.00,2,     0.00,2,    0.030,3,    1.690,2,    0.945,2,   1983.8,2,   2309.3,2,   8.0969,2,    25.00,    0.147,2,     0.14,2,     0.08,2,  26.3286,2,  22.9772,2,  26.3568,2
49UP20180806_1,   P13,    62,  1,     33,     842,2,20180821,2110,2328, 14.9898, 164.9800, 5198,    151.4,      150,  23.7462,  35.1392,2,    192.3,2,  35.1418,2,   193.33,2,     1.50,3,     0.20,2,     0.19,2,    0.100,3,    1.844,2,    1.046,2,   2027.0,2,   2314.1,2,   8.0311,2,    25.00,    0.135,2,     0.14,2,     0.28,2,  23.7146,2,  23.8310,2,  23.7559,2
49UP20180806_1,   P13,    62,  1,     32,     841,2,20180821,2110,2326, 14.9898, 164.9800, 5198,    205.1,      204,  17.7060,  34.7658,2,    181.7,2,  34.7661,2,   182.09,6,     4.83,3,     5.48,6,     0.01,6,    0.450,3,    2.370,2,    1.319,2,   2079.8,2,   2289.2,2,   7.8950,2,    25.00,    0.020,2,     0.01,2,     0.03,2,  17.6712,2,  25.1731,2,  17.7071,2
49UP20180806_1,   P13,    62,  1,     31,     840,2,20180821,2110,2324, 14.9898, 164.9800, 5198,    252.5,      251,  13.8775,  34.4090,2,    163.8,2,  34.4091,2,   163.73,2,    11.81,3,    12.39,2,     0.00,2,    0.950,3,    2.662,6,    1.446,6,   2119.9,2,   2271.8,2,   7.7776,2,    25.00,    0.031,6,  -999.00,9,  -999.00,9,  13.8413,2,  25.7635,2,  13.8777,2
49UP20180806_1,   P13,    62,  1,     30,     839,2,20180821,2110,2322, 14.9898, 164.9800, 5198,    282.6,      281,  11.8156,  34.2951,2,    142.5,2,  34.2941,2,   142.71,2,    19.12,3,    17.97,2,     0.00,2,    1.370,3,    2.644,2,    1.360,2,   2151.6,2,   2271.6,2,   7.6876,2,    25.00,    0.041,2,  -999.00,9,  -999.00,9,  11.7792,2,  26.0833,2,  11.7924,2
49UP20180806_1,   P13,    62,  1,     29,     838,2,20180821,2110,2321, 14.9898, 164.9800, 5198,    323.3,      321,  10.4632,  34.2684,2,    119.6,2,  34.2675,2,   118.69,2,    26.72,3,    22.75,2,     0.00,2,    1.720,3, -999.000,9, -999.000,9,   2184.4,2,   2276.4,2,   7.6132,2,    25.00, -999.000,9,  -999.00,9,  -999.00,9,  10.4247,2,  26.3076,2,  10.4633,2
49UP20180806_1,   P13,    62,  1,     28,     837,2,20180821,2110,2318, 14.9898, 164.9800, 5198,    373.1,      371,   9.0086,  34.3843,2,     59.1,2,  34.3790,2,    59.96,2,    39.96,3,    31.25,2,     0.00,2,    2.330,3,    1.301,2,    0.596,2,   2246.2,6,   2292.1,6,   7.4834,2,    25.00,    0.017,2,  -999.00,9,  -999.00,9,   8.9680,2,  26.6411,2,   9.0087,2
49UP20180806_1,   P13,    62,  1,     27,     661,2,20180821,2110,2316, 14.9898, 164.9800, 5198,    421.2,      418,   8.0962,  34.3727,2,     55.5,2,  34.3715,2,    54.71,2,    48.08,3,    33.69,2,     0.00,2,    2.480,3, -999.000,9, -999.000,9,   2262.2,2,   2300.7,2,   7.4614,6,    25.00, -999.000,9,  -999.00,9,  -999.00,9,   8.0531,2,  26.7733,2,   8.1011,2
49UP20180806_1,   P13,    62,  1,     26,     835,2,20180821,2110,2314, 14.9898, 164.9800, 5198,    475.0,      472,   7.6796,  34.4614,2,     44.9,2,  34.4598,2,    44.53,2,    51.96,3,    35.91,2,     0.00,2,    2.620,3,    0.418,2,    0.187,2,   2268.3,2,   2311.1,2,   7.4431,2,    25.00,    0.006,2,  -999.00,9,  -999.00,9,   7.6321,2,  26.9050,2,   7.6791,2
49UP20180806_1,   P13,    62,  1,     25,     834,2,20180821,2110,2311, 14.9898, 164.9800, 5198,    574.8,      571,   6.6163,  34.4750,2,     52.4,2,  34.4729,2,    52.00,2,    63.13,3,    37.54,2,     0.00,2,    2.710,3,    0.211,2,    0.087,2,   2287.7,2,   2324.5,2,   7.4500,2,    25.00,    0.003,2,  -999.00,9,  -999.00,9,   6.5631,2,  27.0645,2,   6.6159,2
49UP20180806_1,   P13,    62,  1,     23,     832,2,20180821,2110,2307, 14.9898, 164.9800, 5198,    675.7,      671,   5.9110,  34.4823,2,     63.6,2,  34.4816,2,    63.58,2,    72.45,3,    37.90,2,     0.00,2,    2.720,3,    0.170,2,    0.067,2,   2292.9,2,   2336.9,2,   7.4654,2,    25.00,    0.000,2,  -999.00,9,  -999.00,9,   5.8516,2,  27.1623,2,   5.9104,2
49UP20180806_1,   P13,    62,  1,     22,     831,2,20180821,2110,2304, 14.9898, 164.9800, 5198,    777.9,      772,   5.4221,  34.5013,2,     64.2,2,  34.4997,2,    63.79,6,    80.13,3,    38.74,6,     0.00,6,    2.780,3,    0.104,2,    0.043,2,   2298.3,2,   2344.6,2,   7.4612,2,    25.00,    0.001,2,  -999.00,9,  -999.00,9,   5.3560,2,  27.2380,2,   5.4225,2
49UP20180806_1,   P13,    62,  1,     21,     830,2,20180821,2110,2301, 14.9898, 164.9800, 5198,    879.0,      872,   4.9575,  34.5166,2,     64.4,2,  34.5156,2,    64.34,2,    88.34,3,    39.46,2,     0.00,2,    2.830,3,    0.055,2,    0.019,2,   2313.6,2,   2353.3,2,   7.4548,2,    25.00,    0.000,2,  -999.00,9,  -999.00,9,   4.8853,2,  27.3051,2,   4.9569,2
49UP20180806_1,   P13,    62,  1,     20,     829,2,20180821,2110,2257, 14.9898, 164.9800, 5198,    983.7,      976,   4.5522,  34.5346,2,     57.6,2,  34.5340,2,    56.97,2,    96.18,3,    40.93,2,     0.00,2,    2.940,3,    0.011,2,    0.004,2,   2318.0,2,   2360.9,2,   7.4420,2,    25.00,   -0.000,2,  -999.00,9,  -999.00,9,   4.4736,2,  27.3655,2,   4.5512,2
49UP20180806_1,   P13,    62,  1,     19,     828,2,20180821,2110,2252, 14.9898, 164.9800, 5198,   1144.9,     1135,   3.9806,  34.5501,2,     65.0,2,  34.5506,2,    65.46,2,   107.81,3,    40.70,2,     0.00,2,    2.920,3,    0.009,2,    0.003,2,   2335.8,6,   2375.6,6,   7.4503,2,    25.00,    0.000,2,  -999.00,9,  -999.00,9,   3.8928,2,  27.4393,2,   3.9810,2
49UP20180806_1,   P13,    62,  1,     18,     660,2,20180821,2110,2247, 14.9898, 164.9800, 5198,   1348.9,     1337,   3.3699,  34.5697,2,     76.3,2,  34.5689,2,    76.65,2,   120.76,3,    40.22,2,     0.00,2,    2.860,3,    0.003,2,    0.000,2,   2343.2,2,   2389.0,2,   7.4681,6,    25.00,    0.005,2,  -999.00,9,  -999.00,9,   3.2707,2,  27.5163,2,   3.3701,2
49UP20180806_1,   P13,    62,  1,     17,     826,2,20180821,2110,2240, 14.9898, 164.9800, 5198,   1546.9,     1532,   2.8737,  34.5882,2,     85.3,2,  34.5889,2,    85.17,2,   130.80,3,    39.94,2,     0.00,2,    2.830,3,    0.003,2,    0.000,2,   2349.9,2,   2399.1,2,   7.4805,2,    25.00,    0.001,2,  -999.00,9,  -999.00,9,   2.7634,2,  27.5777,2,   2.8740,2
49UP20180806_1,   P13,    62,  1,     16,     825,2,20180821,2110,2235, 14.9898, 164.9800, 5198,   1747.4,     1730,   2.5029,  34.6058,2,     94.1,2,  34.6070,2,    94.07,2,   138.88,3,    39.47,2,     0.00,2,    2.790,3,    0.002,6,    0.000,6,   2350.4,2,   2407.3,2,   7.4941,2,    25.00,    0.000,6,  -999.00,9,  -999.00,9,   2.3805,2,  27.6248,2,   2.5031,2
49UP20180806_1,   P13,    62,  1,     15,     824,2,20180821,2110,2230, 14.9898, 164.9800, 5198,   1951.3,     1931,   2.2278,  34.6234,2,    101.5,2,  34.6236,6,   101.56,2,   143.80,3,    39.11,2,     0.00,2,    2.750,3,    0.001,2,    0.003,2,   2346.4,2,   2411.6,2,   7.5060,2,    25.00,   -0.000,2,  -999.00,9,  -999.00,9,   2.0920,2,  27.6626,2,   2.2282,2
49UP20180806_1,   P13,    62,  1,     14,     823,2,20180821,2110,2223, 14.9898, 164.9800, 5198,   2153.7,     2130,   2.0210,  34.6391,2,    108.5,2,  34.6394,6,   107.86,2,   148.28,3,    38.72,2,     0.00,2,    2.710,3,    0.002,2,    0.000,2,   2356.5,2,   2420.2,2,   7.5187,2,    25.00,    0.001,2,  -999.00,9,  -999.00,9,   1.8712,2,  27.6926,2,   2.0211,2
49UP20180806_1,   P13,    62,  1,     13,     822,2,20180821,2110,2218, 14.9898, 164.9800, 5198,   2360.0,     2333,   1.8913,  34.6488,2,    114.2,2,  34.6494,2,   114.07,6,   150.51,3,    38.45,6,     0.00,6,    2.680,3,    0.001,2,    0.000,2,   2345.7,2,   2422.9,2,   7.5290,2,    25.00,    0.000,2,  -999.00,9,  -999.00,9,   1.7256,2,  27.7115,2,   1.8914,2
49UP20180806_1,   P13,    62,  1,     12,     821,2,20180821,2110,2213, 14.9898, 164.9800, 5198,   2562.9,     2532,   1.8046,  34.6550,2,    119.2,2,  34.6562,2,   118.95,2,   151.71,3,    38.12,2,     0.00,2,    2.650,3,    0.000,2,    0.000,2,   2352.1,2,   2424.2,2,   7.5345,2,    25.00,    0.003,2,  -999.00,9,  -999.00,9,   1.6223,2,  27.7243,2,   1.8047,2
49UP20180806_1,   P13,    62,  1,     11,     820,2,20180821,2110,2208, 14.9898, 164.9800, 5198,   2766.6,     2732,   1.7284,  34.6605,2,    123.8,2,  34.6596,2,   123.05,2,   152.18,3,    37.80,2,     0.00,2,    2.630,3,    0.001,2,   -0.000,2,   2349.1,2,   2424.3,2,   7.5433,2,    25.00,    0.000,2,  -999.00,9,  -999.00,9,   1.5288,2,  27.7356,2,   1.7287,2
49UP20180806_1,   P13,    62,  1,     10,     819,2,20180821,2110,2202, 14.9898, 164.9800, 5198,   2969.4,     2931,   1.6674,  34.6647,2,    128.2,2,  34.6650,6,   128.15,2,   153.23,3,    37.50,2,     0.00,2,    2.610,3, -999.000,9, -999.000,9,   2339.1,2,   2426.2,2,   7.5497,2,    25.00, -999.000,9,  -999.00,9,  -999.00,9,   1.4499,2,  27.7447,2,   1.6675,2
49UP20180806_1,   P13,    62,  1,      9,     818,2,20180821,2110,2156, 14.9898, 164.9800, 5198,   3215.5,     3173,   1.5904,  34.6709,2,    134.6,2,  34.6708,2,   134.38,2,   153.29,3,    37.08,2,     0.00,2,    2.570,3, -999.000,9, -999.000,9,   2347.3,2,   2425.5,2,   7.5581,2,    25.00, -999.000,9,  -999.00,9,  -999.00,9,   1.3507,2,  27.7568,2,   1.5905,2
49UP20180806_1,   P13,    62,  1,      8,     817,2,20180821,2110,2151, 14.9898, 164.9800, 5198,   3468.9,     3421,   1.5400,  34.6755,2,    140.6,2,  34.6751,2,   140.15,2,   151.60,3,    36.66,2,     0.00,2,    2.540,3, -999.000,9, -999.000,9,   2342.2,2,   2425.1,2,   7.5681,2,    25.00, -999.000,9,  -999.00,9,  -999.00,9,   1.2761,2,  27.7658,2,   1.5399,2
49UP20180806_1,   P13,    62,  1,      7,     816,2,20180821,2110,2145, 14.9898, 164.9800, 5198,   3726.1,     3672,   1.5080,  34.6797,2,    146.0,2,  34.6801,2,   145.83,2,   150.44,3,    36.27,2,     0.00,2,    2.510,3, -999.000,9, -999.000,9,   2329.7,2,   2422.4,2,   7.5752,2,    25.00, -999.000,9,  -999.00,9,  -999.00,9,   1.2182,2,  27.7732,2,   1.5079,2
49UP20180806_1,   P13,    62,  1,      6,     815,2,20180821,2110,2140, 14.9898, 164.9800, 5198,   3979.9,     3920,   1.4805,  34.6834,2,    151.9,2,  34.6835,2,   151.90,2,   148.27,3,    35.95,2,     0.00,2,    2.480,3,    0.000,2,    0.000,2,   2328.2,2,   2420.0,2,   7.5833,2,    25.00,    0.000,2,  -999.00,9,  -999.00,9,   1.1644,2,  27.7799,2,   1.4805,2
49UP20180806_1,   P13,    62,  1,      5,     814,2,20180821,2110,2134, 14.9898, 164.9800, 5198,   4236.5,     4170,   1.4340,  34.6888,2,    161.3,2,  34.6891,2,   161.10,2,   142.91,3,    35.29,2,     0.00,2,    2.430,3, -999.000,9, -999.000,9,   2316.5,2,   2414.9,2,   7.5955,2,    25.00, -999.000,9,  -999.00,9,  -999.00,9,   1.0909,2,  27.7892,2,   1.4341,2
49UP20180806_1,   P13,    62,  1,      4,     813,3,20180821,2110,2128, 14.9898, 164.9800, 5198,   4492.6,     4420,   1.4119,  34.6926,2,    168.3,2,  34.6929,2,   168.46,6,   138.68,3,    34.74,6,     0.00,6,    2.390,3, -999.000,9, -999.000,9,   2312.7,6,   2411.1,6,   7.6036,2,    25.00, -999.000,9,  -999.00,9,  -999.00,9,   1.0405,2,  27.7957,2,   1.4120,2
49UP20180806_1,   P13,    62,  1,      3,     812,2,20180821,2110,2122, 14.9898, 164.9800, 5198,   4749.2,     4669,   1.4010,  34.6954,2,    174.1,2,  34.6962,2,   174.57,2,   135.37,3,    34.31,2,     0.00,2,    2.360,3,    0.004,2,    0.000,2,   2307.9,2,   2405.2,2,   7.6073,6,    25.00,   -0.000,2,  -999.00,9,  -999.00,9,   1.0001,2,  27.8006,2,   1.4009,2
49UP20180806_1,   P13,    62,  1,     24,     833,4,20180821,2110,2123, 14.9898, 164.9800, 5198,   4749.4,     4670,   1.4009,  34.6954,2,    174.1,2,-999.0000,9,  -999.00,9,  -999.00,9,  -999.00,9,  -999.00,9, -999.000,9, -999.000,9, -999.000,9,   -999.0,9,   -999.0,9,-999.0000,9,  -999.00, -999.000,9,  -999.00,9,  -999.00,9,   0.9999,2,  27.8006,2,   1.4009,2
49UP20180806_1,   P13,    62,  1,      2,     811,2,20180821,2110,2117, 14.9898, 164.9800, 5198,   5007.8,     4921,   1.3868,  34.6982,2,    179.5,2,  34.6982,6,   179.30,2,   132.58,3,    33.90,2,     0.00,2,    2.340,3, -999.000,9, -999.000,9,   2300.1,2,   2396.9,2,   7.6127,2,    25.00, -999.000,9,  -999.00,9,  -999.00,9,   0.9554,2,  27.8058,2,   1.3868,2
49UP20180806_1,   P13,    62,  1,      1,     810,2,20180821,2110,2110, 14.9898, 164.9800, 5198,   5309.5,     5214,   1.3910,  34.7002,2,    183.5,2,  34.7002,2,   182.96,2,   130.43,3,    33.70,2,     0.00,2,    2.320,3,   -0.000,2,    0.000,2,   2291.1,2,   2397.3,2,   7.6148,2,    25.00,    0.000,2,  -999.00,9,  -999.00,9,   0.9224,2,  27.8095,2,   1.3911,2