BOTTLE,20191018JMAGEMD
EXPOCODE,SECT_ID,STNNBR,CASTNO,SAMPNO,BTLNBR,BTLNBR_FLAG_U,DATE,TIME,BTL_TIME,LATITUDE,LONGITUDE,DEPTH,CTDPRS,CTDDEP,CTDTMP,CTDSAL,CTDSAL_FLAG_W,CTDOXY,CTDOXY_FLAG_W,SALNTY,SALNTY_FLAG_W,OXYGEN,OXYGEN_FLAG_W,SILCAT,SILCAT_FLAG_W,NO2+NO3,NO2+NO3_FLAG_W,NITRIT,NITRIT_FLAG_W,PHSPHT,PHSPHT_FLAG_W,CFC-11,CFC-11_FLAG_W,CFC-12,CFC-12_FLAG_W,TCARBN,TCARBN_FLAG_W,ALKALI,ALKALI_FLAG_W,PH_TS,PH_TS_FLAG_W,PH_TS_TMP,CFC113,CFC113_FLAG_W,CHLORA,CHLORA_FLAG_W,PPHYTN,PPHYTN_FLAG_W,THETA,THETA_FLAG_W,SIGTHT,SIGTHT_FLAG_W,SBE35,SBE35_FLAG_W
,,,,,,,,UTC,,,,METER,DBAR,METERS,ITS-90,PSS-78,,UMOL/KG,,PSS78,,UMOL/KG,,UMOL/KG,,UMOL/KG,,UMOL/KG,,UMOL/KG,,PMOL/KG,,PMOL/KG,,UMOL/KG,,UMOL/KG,,,,ITS-90,PMOL/KG,,UG/KG,,UG/KG,,ITS-90,,KG/M3,,ITS-90,
49UP20180806_1,   P13,    48,  1,      0,      -9,0,20180816,0028,0230, 25.9887, 164.9915, 5721,      0.0,        0,  28.4585,  35.1274,2,    199.2,2,  35.1281,2,   199.49,2,     1.20,3,     0.11,2,     0.00,2,    0.020,3, -999.000,9, -999.000,9,   1982.0,2,   2308.2,2,   8.0976,2,    25.00, -999.000,9,     0.03,2,     0.01,2,  28.4578,2,  22.3400,2,-999.0000,9
49UP20180806_1,   P13,    48,  1,     36,     845,2,20180816,0028,0252, 25.9887, 164.9915, 5721,     11.3,       11,  28.1740,  35.1158,2,    199.5,2,  35.1161,2,   199.90,2,     1.20,3,     0.09,2,     0.00,2,    0.010,3,    1.553,2,    0.913,2,   1978.9,2,   2308.6,2,   8.0968,2,    25.00,    0.127,2,     0.04,2,     0.01,2,  28.1713,2,  22.4256,2,  28.1761,2
49UP20180806_1,   P13,    48,  1,     35,     844,2,20180816,0028,0248, 25.9887, 164.9915, 5721,     50.9,       51,  25.5477,  35.1359,2,    222.8,2,  35.1445,2,   220.49,2,     1.33,3,     0.08,2,     0.00,2,    0.000,3,    1.818,2,    1.037,2,   1986.5,6,   2310.0,6,   8.0889,2,    25.00,    0.147,2,     0.05,2,     0.02,2,  25.5364,2,  23.2796,2,  25.5817,2
49UP20180806_1,   P13,    48,  1,     34,     843,2,20180816,0028,0247, 25.9887, 164.9915, 5721,    100.3,      100,  21.8377,  35.0932,2,    229.8,2,  35.0969,2,   229.42,2,     1.68,3,     0.01,2,     0.00,2,    0.000,3,    2.038,2,    1.167,2,   1995.1,2,   2305.3,2,   8.0588,6,    25.00,    0.159,2,     0.16,2,     0.09,2,  21.8180,2,  24.3395,2,  21.8369,2
49UP20180806_1,   P13,    48,  1,     24,     833,4,20180816,0028,0245, 25.9887, 164.9915, 5721,    125.2,      124,  20.2153,  34.9626,2,    222.4,2,-999.0000,9,  -999.00,9,  -999.00,9,  -999.00,9,  -999.00,9, -999.000,9, -999.000,9, -999.000,9,   -999.0,9,   -999.0,9,-999.0000,9,  -999.00, -999.000,9,  -999.00,9,  -999.00,9,  20.1920,2,  24.6825,2,  20.2185,2
49UP20180806_1,   P13,    48,  1,     33,     842,2,20180816,0028,0244, 25.9887, 164.9915, 5721,    151.7,      151,  19.3081,  34.9284,2,    215.1,2,  34.9281,2,   215.49,2,     2.37,3,     0.62,2,     0.11,2,    0.070,3,    2.209,2,    1.257,2,   2031.3,2,   2295.7,2,   7.9926,2,    25.00,    0.142,2,     0.22,2,     0.29,2,  19.2808,2,  24.8945,2,  19.3123,2
49UP20180806_1,   P13,    48,  1,     32,     841,2,20180816,0028,0242, 25.9887, 164.9915, 5721,    204.1,      203,  17.6266,  34.8099,2,    202.1,2,  34.8103,2,   202.10,2,     3.75,3,     4.01,2,     0.01,2,    0.280,3,    2.364,6,    1.356,6,   2046.7,2,   2287.1,2,   7.9424,2,    25.00,    0.054,6,     0.03,2,     0.04,2,  17.5921,2,  25.2262,2,  17.6241,2
49UP20180806_1,   P13,    48,  1,     31,     840,2,20180816,0028,0240, 25.9887, 164.9915, 5721,    252.8,      251,  16.7546,  34.7516,2,    209.7,2,  34.7507,2,   209.56,6,     4.58,3,     5.08,6,     0.00,6,    0.330,3,    2.436,2,    1.385,2,   2052.1,2,   2284.5,2,   7.9383,2,    25.00,    0.051,2,  -999.00,9,  -999.00,9,  16.7133,2,  25.3913,2,  16.7531,2
49UP20180806_1,   P13,    48,  1,     30,     839,2,20180816,0028,0238, 25.9887, 164.9915, 5721,    333.1,      331,  15.0764,  34.5742,2,    202.2,2,  34.5733,2,   202.53,2,     8.35,3,     8.11,2,     0.00,2,    0.540,3,    2.217,4,    1.234,4,   2073.1,2,   2276.0,2,   7.8830,2,    25.00,    0.022,4,  -999.00,9,  -999.00,9,  15.0257,2,  25.6380,2,  15.0750,2
49UP20180806_1,   P13,    48,  1,     29,     838,2,20180816,0028,0235, 25.9887, 164.9915, 5721,    433.9,      431,  12.6167,  34.3620,2,    196.5,2,  34.3612,2,   196.49,2,    14.73,3,    12.58,2,     0.00,2,    0.850,3,    2.883,2,    1.601,2,   2100.2,2,   2272.5,2,   7.8113,2,    25.00,    0.057,2,  -999.00,9,  -999.00,9,  12.5580,2,  25.9859,2,  12.6220,2
49UP20180806_1,   P13,    48,  1,     28,     837,3,20180816,0028,0232, 25.9887, 164.9915, 5721,    536.0,      532,   9.9531,  34.1689,2,    181.4,2,  34.1687,2,   181.65,2,    25.59,3,    18.73,2,     0.00,2,    1.300,3,    3.036,2,    1.619,2,   2141.9,2,   2269.5,2,   7.7139,2,    25.00,    0.087,2,  -999.00,9,  -999.00,9,   9.8906,2,  26.3214,2,   9.9530,2
49UP20180806_1,   P13,    48,  1,     27,     661,2,20180816,0028,0229, 25.9887, 164.9915, 5721,    637.5,      632,   7.4625,  34.0762,2,    133.2,2,  34.0748,2,   133.80,2,    47.02,3,    27.53,2,     0.00,2,    1.950,3,    2.522,2,    1.238,2,   2198.1,2,   2283.3,2,   7.5687,2,    25.00,    0.074,2,  -999.00,9,  -999.00,9,   7.3996,2,  26.6353,2,   7.4610,2
49UP20180806_1,   P13,    48,  1,     26,     835,2,20180816,0028,0226, 25.9887, 164.9915, 5721,    738.0,      732,   5.6779,  34.0826,2,     92.0,2,  34.0834,2,    91.79,2,    72.57,3,    34.64,2,     0.00,2,    2.470,3,    1.696,2,    0.797,2,   2266.6,2,   2304.9,2,   7.4598,2,    25.00,    0.057,2,  -999.00,9,  -999.00,9,   5.6144,2,  26.8754,2,   5.6738,2
49UP20180806_1,   P13,    48,  1,     25,     834,2,20180816,0028,0223, 25.9887, 164.9915, 5721,    837.4,      830,   4.7488,  34.1584,2,     60.0,2,  34.1601,2,    59.97,2,    92.63,3,    38.79,2,     0.00,2,    2.770,3,    0.976,2,    0.428,2,   2307.5,2,   2324.1,2,   7.3920,2,    25.00,    0.031,2,  -999.00,9,  -999.00,9,   4.6821,2,  27.0438,2,   4.7488,2
49UP20180806_1,   P13,    48,  1,     23,     832,2,20180816,0028,0221, 25.9887, 164.9915, 5721,    939.3,      931,   4.1876,  34.2620,2,     41.3,2,  34.2627,2,    40.86,2,   107.97,3,    41.30,2,     0.00,2,    2.940,3,    0.397,2,    0.169,2,   2327.5,2,   2344.3,2,   7.3630,2,    25.00,    0.021,2,  -999.00,9,  -999.00,9,   4.1160,2,  27.1871,2,   4.1879,2
49UP20180806_1,   P13,    48,  1,     22,     831,2,20180816,0028,0217, 25.9887, 164.9915, 5721,   1081.4,     1072,   3.6006,  34.3809,2,     39.0,2,  34.3819,6,    39.00,2,   123.51,3,    42.06,2,     0.00,2,    3.000,3,    0.105,2,    0.044,2,   2355.8,2,   2366.7,2,   7.3718,2,    25.00,    0.000,2,  -999.00,9,  -999.00,9,   3.5216,2,  27.3417,2,   3.6010,2
49UP20180806_1,   P13,    48,  1,     21,     830,2,20180816,0028,0212, 25.9887, 164.9915, 5721,   1283.6,     1271,   3.0256,  34.4740,2,     48.4,2,  34.4740,2,    48.58,6,   137.12,3,    42.10,6,     0.00,6,    2.970,3,    0.038,2,    0.010,2,   2368.2,2,   2385.7,6,   7.3965,2,    25.00,    0.000,2,  -999.00,9,  -999.00,9,   2.9354,2,  27.4711,2,   3.0255,2
49UP20180806_1,   P13,    48,  1,     20,     829,2,20180816,0028,0207, 25.9887, 164.9915, 5721,   1486.6,     1472,   2.5873,  34.5272,2,     60.2,2,  34.5278,2,    60.75,2,   146.90,3,    41.60,2,     0.00,2,    2.920,3,    0.012,6,    0.007,6,   2370.9,2,   2399.1,2,   7.4154,6,    25.00,    0.001,6,  -999.00,9,  -999.00,9,   2.4854,2,  27.5531,2,   2.5873,2
49UP20180806_1,   P13,    48,  1,     19,     828,2,20180816,0028,0203, 25.9887, 164.9915, 5721,   1689.4,     1672,   2.2536,  34.5633,2,     68.0,2,  34.5628,2,    68.53,2,   154.54,3,    41.24,2,     0.00,2,    2.890,3,    0.005,2,    0.005,2,   2366.4,2,   2406.5,2,   7.4278,2,    25.00,    0.000,2,  -999.00,9,  -999.00,9,   2.1394,2,  27.6107,2,   2.2539,2
49UP20180806_1,   P13,    48,  1,     18,     660,2,20180816,0028,0158, 25.9887, 164.9915, 5721,   1892.8,     1872,   2.0457,  34.5918,2,     81.3,2,  34.5915,2,    82.02,2,   157.22,3,    40.59,2,     0.00,2,    2.830,3,   -0.000,2,    0.004,2,   2370.7,2,   2409.7,2,   7.4565,2,    25.00,    0.000,2,  -999.00,9,  -999.00,9,   1.9176,2,  27.6511,2,   2.0456,2
49UP20180806_1,   P13,    48,  1,     17,     826,2,20180816,0028,0153, 25.9887, 164.9915, 5721,   2095.1,     2071,   1.8932,  34.6163,2,     96.9,2,  34.6160,2,    97.20,2,   155.99,3,    39.55,2,     0.00,2,    2.750,3,    0.000,2,    0.010,2,   2351.6,3,   2415.5,2,   7.4849,2,    25.00,    0.000,2,  -999.00,9,  -999.00,9,   1.7505,2,  27.6836,2,   1.8931,2
49UP20180806_1,   P13,    48,  1,     16,     825,2,20180816,0028,0148, 25.9887, 164.9915, 5721,   2298.3,     2271,   1.7848,  34.6317,2,    107.3,2,  34.6335,4,   107.48,2,   155.61,3,    38.87,2,     0.00,2,    2.700,3,    0.000,2,    0.005,2,   2355.6,2,   2415.1,2,   7.5065,2,    25.00,    0.000,2,  -999.00,9,  -999.00,9,   1.6264,2,  27.7053,2,   1.7847,2
49UP20180806_1,   P13,    48,  1,     15,     824,2,20180816,0028,0143, 25.9887, 164.9915, 5721,   2503.9,     2473,   1.6967,  34.6444,2,    116.2,2,  34.6439,2,   116.10,2,   154.92,3,    38.34,2,     0.00,2,    2.660,3,    0.001,2,    0.003,2,   2351.9,2,   2418.4,2,   7.5216,2,    25.00,    0.000,2,  -999.00,9,  -999.00,9,   1.5218,2,  27.7232,2,   1.6969,2
49UP20180806_1,   P13,    48,  1,     14,     823,2,20180816,0028,0138, 25.9887, 164.9915, 5721,   2706.2,     2671,   1.6302,  34.6539,2,    123.7,2,  34.6544,2,   123.61,2,   154.30,3,    37.79,2,     0.00,2,    2.610,3,    0.000,2,    0.001,2,   2348.0,2,   2416.4,2,   7.5334,2,    25.00,    0.000,2,  -999.00,9,  -999.00,9,   1.4382,2,  27.7369,2,   1.6302,2
49UP20180806_1,   P13,    48,  1,     13,     822,2,20180816,0028,0134, 25.9887, 164.9915, 5721,   2909.7,     2871,   1.5822,  34.6611,2,    129.6,2,  34.6609,2,   129.60,2,   153.34,3,    37.48,2,     0.00,2,    2.580,3,    0.000,2,    0.002,2,   2344.0,2,   2419.2,2,   7.5432,2,    25.00,    0.000,2,  -999.00,9,  -999.00,9,   1.3722,2,  27.7474,2,   1.5823,2
49UP20180806_1,   P13,    48,  1,     12,     821,2,20180816,0028,0129, 25.9887, 164.9915, 5721,   3123.2,     3080,   1.5445,  34.6668,2,    134.9,2,  34.6674,2,   134.99,6,   152.88,3,    37.11,6,     0.00,6,    2.560,3, -999.000,9, -999.000,9,   2336.1,2,   2418.9,2,   7.5533,2,    25.00, -999.000,9,  -999.00,9,  -999.00,9,   1.3149,2,  27.7560,2,   1.5444,2
49UP20180806_1,   P13,    48,  1,     11,     820,2,20180816,0028,0121, 25.9887, 164.9915, 5721,   3379.8,     3331,   1.5149,  34.6726,2,    140.5,2,  34.6724,2,   140.13,2,   151.21,3,    36.73,2,     0.00,2,    2.520,3, -999.000,9, -999.000,9,   2334.7,2,   2419.1,2,   7.5639,2,    25.00, -999.000,9,  -999.00,9,  -999.00,9,   1.2606,2,  27.7645,2,   1.5148,2
49UP20180806_1,   P13,    48,  1,     10,     819,2,20180816,0028,0115, 25.9887, 164.9915, 5721,   3636.1,     3582,   1.4966,  34.6770,2,    145.3,2,  34.6773,2,   145.87,2,   149.39,3,    36.37,2,     0.00,2,    2.500,3, -999.000,9, -999.000,9,   2332.4,6,   2418.0,6,   7.5701,2,    25.00, -999.000,9,  -999.00,9,  -999.00,9,   1.2166,2,  27.7711,2,   1.4967,2
49UP20180806_1,   P13,    48,  1,      9,     818,2,20180816,0028,0110, 25.9887, 164.9915, 5721,   3890.9,     3830,   1.4745,  34.6817,2,    151.0,2,  34.6806,2,   150.36,2,   147.07,3,    36.09,2,     0.00,2,    2.460,3,    0.000,2,   -0.000,2,   2331.9,2,   2415.6,2,   7.5792,6,    25.00,    0.002,2,  -999.00,9,  -999.00,9,   1.1681,2,  27.7782,2,   1.4745,2
49UP20180806_1,   P13,    48,  1,      8,     817,3,20180816,0028,0104, 25.9887, 164.9915, 5721,   4147.6,     4081,   1.4594,  34.6849,2,    155.9,2,  34.6846,2,   155.74,2,   144.62,3,    35.60,2,     0.00,2,    2.430,3, -999.000,9, -999.000,9,   2324.0,2,   2414.7,2,   7.5854,2,    25.00, -999.000,9,  -999.00,9,  -999.00,9,   1.1254,2,  27.7837,2,   1.4593,2
49UP20180806_1,   P13,    48,  1,      7,     816,2,20180816,0028,0059, 25.9887, 164.9915, 5721,   4404.7,     4331,   1.4561,  34.6877,2,    160.0,2,  34.6865,2,   159.29,2,   142.54,3,    35.49,2,     0.00,2,    2.410,3, -999.000,9, -999.000,9,   2315.0,2,   2412.5,2,   7.5899,2,    25.00, -999.000,9,  -999.00,9,  -999.00,9,   1.0934,2,  27.7881,2,   1.4562,2
49UP20180806_1,   P13,    48,  1,      6,     815,2,20180816,0028,0054, 25.9887, 164.9915, 5721,   4659.2,     4579,   1.4521,  34.6906,2,    164.9,2,  34.6910,6,   165.25,2,   139.14,3,    35.09,2,     0.00,2,    2.380,3, -999.000,9, -999.000,9,   2307.1,2,   2409.8,2,   7.5978,2,    25.00, -999.000,9,  -999.00,9,  -999.00,9,   1.0601,2,  27.7927,2,   1.4521,2
49UP20180806_1,   P13,    48,  1,      5,     814,2,20180816,0028,0048, 25.9887, 164.9915, 5721,   4918.2,     4831,   1.4575,  34.6929,2,    168.8,2,  34.6930,2,   169.18,2,   137.18,3,    34.76,2,     0.00,2,    2.360,3,    0.000,2,    0.000,2,   2312.8,2,   2405.8,2,   7.6012,2,    25.00,    0.001,2,  -999.00,9,  -999.00,9,   1.0345,2,  27.7962,2,   1.4575,2
49UP20180806_1,   P13,    48,  1,      4,     813,2,20180816,0028,0043, 25.9887, 164.9915, 5721,   5173.4,     5078,   1.4624,  34.6947,2,    172.4,2,  34.6950,2,   172.89,2,   135.63,3,    34.47,2,     0.00,2,    2.340,3, -999.000,9, -999.000,9,   2306.8,2,   2402.5,2,   7.6024,2,    25.00, -999.000,9,  -999.00,9,  -999.00,9,   1.0082,2,  27.7995,2,   1.4624,2
49UP20180806_1,   P13,    48,  1,      3,     812,2,20180816,0028,0037, 25.9887, 164.9915, 5721,   5432.1,     5329,   1.4703,  34.6966,2,    175.8,2,  34.6983,4,   175.71,6,   134.84,3,    34.25,6,     0.00,6,    2.330,3, -999.000,9, -999.000,9,   2306.9,2,   2400.9,2,   7.6072,2,    25.00, -999.000,9,  -999.00,9,  -999.00,9,   0.9834,2,  27.8027,2,   1.4704,2
49UP20180806_1,   P13,    48,  1,      2,     811,2,20180816,0028,0032, 25.9887, 164.9915, 5721,   5690.4,     5580,   1.4926,  34.6972,2,    177.4,2,  34.6975,2,   177.63,2,   132.82,3,    34.11,2,     0.00,2,    2.320,3, -999.000,9, -999.000,9,   2304.0,2,   2398.2,2,   7.6078,2,    25.00, -999.000,9,  -999.00,9,  -999.00,9,   0.9718,2,  27.8039,2,   1.4926,2
49UP20180806_1,   P13,    48,  1,      1,     810,2,20180816,0028,0028, 25.9887, 164.9915, 5721,   5848.6,     5733,   1.5098,  34.6976,2,    178.2,2,  34.6985,4,   178.45,2,   131.99,3,    34.12,2,     0.00,2,    2.310,3,    0.002,2,    0.000,2,   2301.2,2,   2398.8,2,   7.6091,2,    25.00,    0.000,2,  -999.00,9,  -999.00,9,   0.9676,2,  27.8045,2,   1.5097,2