BOTTLE,20191018JMAGEMD
EXPOCODE,SECT_ID,STNNBR,CASTNO,SAMPNO,BTLNBR,BTLNBR_FLAG_U,DATE,TIME,BTL_TIME,LATITUDE,LONGITUDE,DEPTH,CTDPRS,CTDDEP,CTDTMP,CTDSAL,CTDSAL_FLAG_W,CTDOXY,CTDOXY_FLAG_W,SALNTY,SALNTY_FLAG_W,OXYGEN,OXYGEN_FLAG_W,SILCAT,SILCAT_FLAG_W,NO2+NO3,NO2+NO3_FLAG_W,NITRIT,NITRIT_FLAG_W,PHSPHT,PHSPHT_FLAG_W,CFC-11,CFC-11_FLAG_W,CFC-12,CFC-12_FLAG_W,TCARBN,TCARBN_FLAG_W,ALKALI,ALKALI_FLAG_W,PH_TS,PH_TS_FLAG_W,PH_TS_TMP,CFC113,CFC113_FLAG_W,CHLORA,CHLORA_FLAG_W,PPHYTN,PPHYTN_FLAG_W,THETA,THETA_FLAG_W,SIGTHT,SIGTHT_FLAG_W,SBE35,SBE35_FLAG_W
,,,,,,,,UTC,,,,METER,DBAR,METERS,ITS-90,PSS-78,,UMOL/KG,,PSS78,,UMOL/KG,,UMOL/KG,,UMOL/KG,,UMOL/KG,,UMOL/KG,,PMOL/KG,,PMOL/KG,,UMOL/KG,,UMOL/KG,,,,ITS-90,PMOL/KG,,UG/KG,,UG/KG,,ITS-90,,KG/M3,,ITS-90,
49UP20180614_2,   P13,    23,  1,      0,      -9,0,20180712,0539,0745, 46.0008, 164.9897, 5779,      0.0,        0,   9.3478,  32.9200,2,    300.5,2,  32.9257,2,   300.88,2,    23.95,2,    16.55,2,     0.21,2,    1.450,3, -999.000,9, -999.000,9,   2076.7,2,   2228.8,2,   7.7715,2,    25.00, -999.000,9,     0.15,2,     0.02,2,   9.3475,2,  25.4347,2,-999.0000,9
49UP20180614_2,   P13,    23,  1,     36,     845,2,20180712,0539,0808, 46.0008, 164.9897, 5779,     11.0,       11,   8.2390,  32.9289,2,    305.6,2,  32.9299,2,   306.29,2,    23.72,2,    16.59,2,     0.18,2,    1.430,3,    3.646,2,    2.083,2,   2078.2,2,   2228.4,2,   7.7703,2,    25.00,    0.333,2,     0.19,2,     0.01,2,   8.2379,2,  25.6126,2,   8.1878,2
49UP20180614_2,   P13,    23,  1,     35,     844,2,20180712,0539,0803, 46.0008, 164.9897, 5779,     51.2,       51,   5.4828,  33.1699,2,    311.9,2,  33.1709,2,   311.21,2,    24.42,2,    17.45,2,     0.31,2,    1.420,3,    3.893,2,    2.209,2,   2099.8,2,   2240.6,2,   7.7406,2,    25.00,    0.357,2,     0.44,2,     0.23,2,   5.4788,2,  26.1695,2,   5.4844,2
49UP20180614_2,   P13,    23,  1,     34,     843,2,20180712,0539,0801, 46.0008, 164.9897, 5779,     77.0,       76,   4.7274,  33.3879,2,    300.6,2,  33.3900,2,   299.72,2,    29.23,2,    19.36,2,     0.01,2,    1.490,3, -999.000,9, -999.000,9,   2125.1,2,   2248.2,2,   7.7032,2,    25.00, -999.000,9,     0.13,2,     0.07,2,   4.7218,2,  26.4281,2,   4.7282,2
49UP20180614_2,   P13,    23,  1,     33,     842,3,20180712,0539,0759, 46.0008, 164.9897, 5779,    102.8,      102,   4.9024,  33.4705,2,    292.7,2,  33.4739,2,   292.22,2,    30.75,2,    19.51,2,     0.00,2,    1.480,3,    3.784,2,    2.145,2,   2135.1,2,   2252.6,2,   7.6981,2,    25.00,    0.322,2,     0.03,2,     0.03,2,   4.8948,2,  26.4745,2,   4.9028,2
49UP20180614_2,   P13,    23,  1,     32,     841,3,20180712,0539,0758, 46.0008, 164.9897, 5779,    128.2,      127,   4.8317,  33.5380,2,    267.6,2,  33.5389,2,   267.57,2,    36.42,2,    21.39,2,     0.01,2,    1.600,3, -999.000,9, -999.000,9,   2149.3,2,   2257.9,2,   7.6629,2,    25.00, -999.000,9,     0.01,2,     0.03,2,   4.8222,2,  26.5361,2,   4.8333,2
49UP20180614_2,   P13,    23,  1,     31,     840,2,20180712,0539,0756, 46.0008, 164.9897, 5779,    152.2,      151,   4.7328,  33.5955,2,    229.5,2,  33.5937,2,   229.01,6,    44.51,6,    24.54,6,     0.00,6,    1.810,3,    3.348,2,    1.887,2,   2176.3,2,   2262.5,2,   7.6033,2,    25.00,    0.246,2,     0.00,2,     0.03,2,   4.7216,2,  26.5928,2,   4.7333,2
49UP20180614_2,   P13,    23,  1,     30,     839,2,20180712,0539,0754, 46.0008, 164.9897, 5779,    203.8,      202,   4.2271,  33.7004,2,    160.4,2,  33.6988,2,   159.36,2,    63.75,2,    31.36,2,     0.00,2,    2.280,3,    2.852,2,    1.580,2,   2228.3,2,   2277.6,2,   7.4781,2,    25.00,    0.194,2,     0.00,2,     0.03,2,   4.2128,2,  26.7305,2,   4.2222,2
49UP20180614_2,   P13,    23,  1,     29,     838,2,20180712,0539,0752, 46.0008, 164.9897, 5779,    252.1,      250,   4.1830,  33.7860,2,    129.3,2,-999.0000,5,   127.90,2,    73.28,2,    34.18,2,     0.00,2,    2.480,3,    2.495,2,    1.366,2,   2261.0,2,   2286.9,2,   7.4303,2,    25.00,    0.167,2,  -999.00,9,  -999.00,9,   4.1653,2,  26.8035,2,   4.1833,2
49UP20180614_2,   P13,    23,  1,     28,     837,3,20180712,0539,0749, 46.0008, 164.9897, 5779,    333.6,      331,   4.0020,  33.9092,2,     85.1,2,  33.9096,6,    85.06,2,    88.54,2,    38.35,2,     0.00,2,    2.730,3,    1.980,2,    1.032,2,   2293.0,2,   2302.2,2,   7.3597,2,    25.00,    0.129,2,  -999.00,9,  -999.00,9,   3.9788,2,  26.9206,2,   4.0033,2
49UP20180614_2,   P13,    23,  1,     27,     661,2,20180712,0539,0746, 46.0008, 164.9897, 5779,    434.7,      431,   3.7570,  34.0087,2,     56.0,2,  34.0083,2,    55.70,2,   102.66,2,    41.00,2,     0.00,2,    2.890,3,    1.522,6,    0.769,6,   2318.9,2,   2316.4,2,   7.3178,2,    25.00,    0.095,6,  -999.00,9,  -999.00,9,   3.7272,2,  27.0250,2,   3.7574,2
49UP20180614_2,   P13,    23,  1,     26,     835,2,20180712,0539,0743, 46.0008, 164.9897, 5779,    535.0,      530,   3.7204,  34.1291,2,     42.3,2,  34.1273,2,    42.48,2,   112.47,2,    41.71,2,     0.00,2,    2.930,3,    1.051,2,    0.518,2,   2338.0,2,   2334.3,2,   7.3176,2,    25.00,    0.049,2,  -999.00,9,  -999.00,9,   3.6834,2,  27.1252,2,   3.7208,2
49UP20180614_2,   P13,    23,  1,     25,     834,2,20180712,0539,0740, 46.0008, 164.9897, 5779,    636.1,      630,   3.4626,  34.2088,2,     30.3,2,  34.2092,2,    31.55,2,   124.30,2,    42.99,2,     0.00,2,    3.000,3,    0.713,2,    0.336,2,   2357.8,2,   2345.9,2,   7.3070,2,    25.00,    0.033,2,  -999.00,9,  -999.00,9,   3.4192,2,  27.2144,2,   3.4619,2
49UP20180614_2,   P13,    23,  1,     24,     833,2,20180712,0539,0737, 46.0008, 164.9897, 5779,    737.3,      730,   3.3527,  34.2790,2,     33.2,2,  34.2785,2,    33.21,2,   129.90,2,    42.76,2,     0.00,2,    2.980,3,    0.000,4,    0.000,4,   2368.8,2,   2365.6,2,   7.3259,2,    25.00,    0.000,4,  -999.00,9,  -999.00,9,   3.3024,2,  27.2815,2,   3.3528,2
49UP20180614_2,   P13,    23,  1,     23,     832,2,20180712,0539,0734, 46.0008, 164.9897, 5779,    838.1,      830,   3.1043,  34.3144,2,     27.1,2,  34.3143,2,    26.78,2,   138.69,2,    43.28,2,     0.00,2,    3.040,3,    0.354,2,    0.173,2,   2360.4,2,   2356.8,2,   7.3180,2,    25.00,    0.011,2,  -999.00,9,  -999.00,9,   3.0481,2,  27.3334,2,   3.1046,2
49UP20180614_2,   P13,    23,  1,     22,     831,2,20180712,0539,0731, 46.0008, 164.9897, 5779,    940.6,      931,   2.9510,  34.3495,2,     27.4,2,  34.3486,2,    29.29,6,   143.84,6,    43.37,6,     0.00,6,    3.060,3,    0.278,2,    0.141,2,   2379.9,2,   2371.6,2,   7.3204,2,    25.00,    0.010,2,  -999.00,9,  -999.00,9,   2.8882,2,  27.3759,2,   2.9515,2
49UP20180614_2,   P13,    23,  1,     21,     830,3,20180712,0539,0727, 46.0008, 164.9897, 5779,   1081.7,     1070,   2.7358,  34.4026,2,     29.2,2,  34.4019,2,    29.68,2,   150.94,2,    43.44,2,     0.00,2,    3.070,3,    0.181,2,    0.093,2,   2385.0,2,   2383.2,2,   7.3306,2,    25.00,    0.006,2,  -999.00,9,  -999.00,9,   2.6641,2,  27.4381,2,   2.7359,2
49UP20180614_2,   P13,    23,  1,     20,     829,2,20180712,0539,0722, 46.0008, 164.9897, 5779,   1285.6,     1271,   2.4855,  34.4584,2,     34.5,2,  34.4589,2,    34.23,2,   158.07,2,    43.22,2,     0.00,2,    3.040,3,    0.108,2,    0.046,2,   2389.8,2,   2391.9,2,   7.3493,2,    25.00,    0.003,2,  -999.00,9,  -999.00,9,   2.4006,2,  27.5052,2,   2.4857,2
49UP20180614_2,   P13,    23,  1,     19,     828,2,20180712,0539,0717, 46.0008, 164.9897, 5779,   1488.3,     1471,   2.3053,  34.5034,2,     42.1,2,  34.5034,2,    41.79,2,   162.28,2,    42.83,2,     0.00,2,    2.990,3,    0.056,2,    0.024,2,   2388.1,6,   2400.4,6,   7.3670,2,    25.00,    0.000,2,  -999.00,9,  -999.00,9,   2.2066,2,  27.5572,2,   2.3056,2
49UP20180614_2,   P13,    23,  1,     18,     827,2,20180712,0539,0712, 46.0008, 164.9897, 5779,   1691.7,     1671,   2.1309,  34.5441,2,     50.8,2,  34.5445,2,    50.90,2,   166.10,2,    42.42,2,     0.00,2,    2.950,3,    0.022,6,    0.010,6,   2380.1,2,   2405.7,2,   7.3904,2,    25.00,    0.000,6,  -999.00,9,  -999.00,9,   2.0181,2,  27.6049,2,   2.1310,2
49UP20180614_2,   P13,    23,  1,     17,     826,2,20180712,0539,0707, 46.0008, 164.9897, 5779,   1895.2,     1871,   1.9965,  34.5750,2,     62.2,2,  34.5751,2,    62.12,2,   167.55,2,    41.66,2,     0.00,2,    2.890,3,    0.007,2,    0.006,2,   2386.6,2,   2408.9,2,   7.4165,2,    25.00,    0.000,2,  -999.00,9,  -999.00,9,   1.8690,2,  27.6414,2,   1.9966,2
49UP20180614_2,   P13,    23,  1,     16,     825,2,20180712,0539,0702, 46.0008, 164.9897, 5779,   2098.9,     2071,   1.8871,  34.5986,2,     74.2,2,  34.5980,6,    74.30,2,   167.62,2,    41.02,2,     0.00,2,    2.840,3,    0.005,2,    0.006,2,   2377.9,2,   2414.6,2,   7.4366,2,    25.00,    0.000,2,  -999.00,9,  -999.00,9,   1.7442,2,  27.6699,2,   1.8871,2
49UP20180614_2,   P13,    23,  1,     15,     824,2,20180712,0539,0657, 46.0008, 164.9897, 5779,   2303.9,     2272,   1.7795,  34.6180,2,     85.4,2,  34.6184,2,    85.15,6,   168.80,6,    40.30,6,     0.00,6,    2.800,3,    0.001,2,   -0.000,2,   2366.8,2,   2417.2,2,   7.4590,2,    25.00,    0.000,2,  -999.00,9,  -999.00,9,   1.6208,2,  27.6948,2,   1.7796,2
49UP20180614_2,   P13,    23,  1,     14,     823,2,20180712,0539,0653, 46.0008, 164.9897, 5779,   2507.1,     2472,   1.7038,  34.6335,2,     97.7,2,  34.6340,2,    97.57,2,   166.49,2,    39.52,2,     0.00,2,    2.760,3,    0.000,2,    0.001,2,   2363.2,2,   2420.0,2,   7.4832,2,    25.00,    0.000,2,  -999.00,9,  -999.00,9,   1.5285,2,  27.7140,2,   1.7040,2
49UP20180614_2,   P13,    23,  1,     13,     822,2,20180712,0539,0648, 46.0008, 164.9897, 5779,   2711.2,     2672,   1.6416,  34.6452,2,    108.3,2,  34.6461,2,   108.08,2,   163.81,2,    39.00,2,     0.00,2,    2.690,3,    0.000,2,    0.000,2,   2354.1,2,   2418.8,2,   7.5044,2,    25.00,   -0.000,2,  -999.00,9,  -999.00,9,   1.4490,2,  27.7291,2,   1.6418,2
49UP20180614_2,   P13,    23,  1,     12,     821,2,20180712,0539,0644, 46.0008, 164.9897, 5779,   2913.6,     2870,   1.5990,  34.6534,2,    116.1,2,  34.6536,2,   115.73,2,   162.20,2,    38.43,2,     0.00,2,    2.660,3,    0.000,2,    0.000,2,   2348.5,2,   2419.5,2,   7.5188,2,    25.00,    0.000,2,  -999.00,9,  -999.00,9,   1.3884,2,  27.7400,2,   1.5990,2
49UP20180614_2,   P13,    23,  1,     11,     820,2,20180712,0539,0639, 46.0008, 164.9897, 5779,   3131.2,     3083,   1.5526,  34.6621,2,    125.2,2,  34.6622,2,   124.74,2,   159.73,2,    37.87,2,     0.00,2,    2.610,3, -999.000,9, -999.000,9,   2351.0,6,   2419.1,6,   7.5360,2,    25.00, -999.000,9,  -999.00,9,  -999.00,9,   1.3221,2,  27.7518,2,   1.5526,2
49UP20180614_2,   P13,    23,  1,     10,     819,2,20180712,0539,0629, 46.0008, 164.9897, 5779,   3641.3,     3581,   1.4985,  34.6743,2,    139.2,2,  34.6745,2,   138.73,2,   156.21,2,    36.96,2,     0.00,2,    2.530,3, -999.000,9, -999.000,9,   2338.6,2,   2419.7,2,   7.5593,6,    25.00, -999.000,9,  -999.00,9,  -999.00,9,   1.2179,2,  27.7689,2,   1.4986,2
49UP20180614_2,   P13,    23,  1,      9,     818,2,20180712,0539,0623, 46.0008, 164.9897, 5779,   3897.2,     3830,   1.4873,  34.6787,2,    144.4,2,  34.6775,2,   144.11,2,   155.37,2,    36.55,2,     0.00,2,    2.530,3,    0.008,2,    0.002,2,   2331.2,2,   2419.9,2,   7.5693,2,    25.00,    0.007,2,  -999.00,9,  -999.00,9,   1.1799,2,  27.7750,2,   1.4873,2
49UP20180614_2,   P13,    23,  1,      8,     817,2,20180712,0539,0618, 46.0008, 164.9897, 5779,   4155.7,     4082,   1.4834,  34.6821,2,    148.9,2,  34.6822,2,   148.38,2,   153.90,2,    36.37,2,     0.00,2,    2.510,3, -999.000,9, -999.000,9,   2327.0,2,   2417.6,2,   7.5778,2,    25.00, -999.000,9,  -999.00,9,  -999.00,9,   1.1479,2,  27.7800,2,   1.4836,2
49UP20180614_2,   P13,    23,  1,      7,     816,2,20180712,0539,0612, 46.0008, 164.9897, 5779,   4410.6,     4330,   1.4907,  34.6843,2,    151.6,2,  34.6841,2,   151.28,6,   153.45,6,    36.09,6,     0.00,6,    2.500,3, -999.000,9, -999.000,9,   2331.4,2,   2417.5,2,   7.5810,2,    25.00, -999.000,9,  -999.00,9,  -999.00,9,   1.1263,2,  27.7832,2,   1.4907,2
49UP20180614_2,   P13,    23,  1,      6,     815,2,20180712,0539,0607, 46.0008, 164.9897, 5779,   4668.9,     4580,   1.5012,  34.6864,2,    154.3,2,  34.6863,2,   153.88,2,   152.42,2,    35.87,2,     0.00,2,    2.450,3, -999.000,9, -999.000,9,   2326.5,2,   2421.5,3,   7.5871,2,    25.00, -999.000,9,  -999.00,9,  -999.00,9,   1.1065,2,  27.7862,2,   1.5012,2
49UP20180614_2,   P13,    23,  1,      5,     814,2,20180712,0539,0601, 46.0008, 164.9897, 5779,   4926.7,     4831,   1.5193,  34.6878,2,    155.9,2,  34.6878,2,   156.05,2,   152.31,2,    35.85,2,     0.00,2,    2.440,3,    0.012,2,    0.004,2,   2329.5,2,   2416.7,2,   7.5915,2,    25.00,    0.009,2,  -999.00,9,  -999.00,9,   1.0934,2,  27.7882,2,   1.5193,2
49UP20180614_2,   P13,    23,  1,      4,     813,2,20180712,0539,0556, 46.0008, 164.9897, 5779,   5185.1,     5081,   1.5421,  34.6890,2,    157.0,2,  34.6896,6,   156.83,2,   153.40,2,    35.74,2,     0.00,2,    2.440,3, -999.000,9, -999.000,9,   2322.3,2,   2417.8,2,   7.5912,2,    25.00, -999.000,9,  -999.00,9,  -999.00,9,   1.0837,2,  27.7898,2,   1.5422,2
49UP20180614_2,   P13,    23,  1,      3,     812,2,20180712,0539,0551, 46.0008, 164.9897, 5779,   5442.5,     5330,   1.5731,  34.6894,2,    157.1,2,  34.6897,2,   157.13,2,   154.77,2,    35.75,2,     0.00,2,    2.450,3, -999.000,9, -999.000,9,   2324.5,6,   2417.9,6,   7.5934,2,    25.00, -999.000,9,  -999.00,9,  -999.00,9,   1.0812,2,  27.7903,2,   1.5732,2
49UP20180614_2,   P13,    23,  1,      2,     811,2,20180712,0539,0545, 46.0008, 164.9897, 5779,   5701.5,     5581,   1.6077,  34.6893,2,    157.1,2,  34.6896,6,   157.00,2,   155.01,2,    35.67,2,     0.00,2,    2.450,3, -999.000,9, -999.000,9,   2321.9,2,   2419.9,2,   7.5940,2,    25.00, -999.000,9,  -999.00,9,  -999.00,9,   1.0811,2,  27.7903,2,   1.6076,2
49UP20180614_2,   P13,    23,  1,      1,     810,2,20180712,0539,0540, 46.0008, 164.9897, 5779,   5913.0,     5785,   1.6350,  34.6894,2,    157.5,2,  34.6892,2,   157.24,2,   154.15,2,    35.68,2,     0.00,2,    2.450,3,    0.003,2,    0.000,2,   2323.3,2,   2417.6,2,   7.5944,6,    25.00,    0.017,2,  -999.00,9,  -999.00,9,   1.0795,2,  27.7904,2,   1.6350,2