BOTTLE,20191018JMAGEMD
EXPOCODE,SECT_ID,STNNBR,CASTNO,SAMPNO,BTLNBR,BTLNBR_FLAG_U,DATE,TIME,BTL_TIME,LATITUDE,LONGITUDE,DEPTH,CTDPRS,CTDDEP,CTDTMP,CTDSAL,CTDSAL_FLAG_W,CTDOXY,CTDOXY_FLAG_W,SALNTY,SALNTY_FLAG_W,OXYGEN,OXYGEN_FLAG_W,SILCAT,SILCAT_FLAG_W,NO2+NO3,NO2+NO3_FLAG_W,NITRIT,NITRIT_FLAG_W,PHSPHT,PHSPHT_FLAG_W,CFC-11,CFC-11_FLAG_W,CFC-12,CFC-12_FLAG_W,TCARBN,TCARBN_FLAG_W,ALKALI,ALKALI_FLAG_W,PH_TS,PH_TS_FLAG_W,PH_TS_TMP,CFC113,CFC113_FLAG_W,CHLORA,CHLORA_FLAG_W,PPHYTN,PPHYTN_FLAG_W,THETA,THETA_FLAG_W,SIGTHT,SIGTHT_FLAG_W,SBE35,SBE35_FLAG_W
,,,,,,,,UTC,,,,METER,DBAR,METERS,ITS-90,PSS-78,,UMOL/KG,,PSS78,,UMOL/KG,,UMOL/KG,,UMOL/KG,,UMOL/KG,,UMOL/KG,,PMOL/KG,,PMOL/KG,,UMOL/KG,,UMOL/KG,,,,ITS-90,PMOL/KG,,UG/KG,,UG/KG,,ITS-90,,KG/M3,,ITS-90,
49UP20180614_1,   P13,     2,  1,      0,      -9,0,20180616,1335,1440, 42.5155, 145.8053, 3100,      0.0,        0,  11.2251,  33.8284,2,    276.4,2,  33.8229,2,   277.21,2,     2.26,2,     3.16,2,     0.18,2,    0.270,2, -999.000,9, -999.000,9,   2042.9,2,   2262.8,2,   7.9396,2,    25.00, -999.000,9,     2.36,2,     0.54,2,  11.2248,2,  25.8227,2,-999.0000,9
49UP20180614_1,   P13,     2,  1,     36,     845,2,20180616,1335,1510, 42.5155, 145.8053, 3100,      9.9,       10,  11.2284,  33.8282,2,    276.0,2,  33.8286,2,   276.17,2,     2.33,2,     3.19,2,     0.19,2,    0.260,2,    3.016,6,    1.816,6,   2034.3,2,   2263.0,2,   7.9390,2,    25.00,    0.266,6,     2.32,2,     0.51,2,  11.2272,2,  25.8221,2,  11.2313,2
49UP20180614_1,   P13,     2,  1,     35,     844,2,20180616,1335,1509, 42.5155, 145.8053, 3100,     25.9,       26,  11.2272,  33.8280,2,    276.1,2,  33.8288,2,   276.65,2,     2.35,2,     3.17,2,     0.19,2,    0.250,2, -999.000,9, -999.000,9,   2039.7,2,   2265.1,2,   7.9371,2,    25.00, -999.000,9,     2.34,2,     0.49,2,  11.2240,2,  25.8225,2,  11.2271,2
49UP20180614_1,   P13,     2,  1,     34,     843,2,20180616,1335,1505, 42.5155, 145.8053, 3100,     51.1,       51,   9.4411,  33.8310,2,    277.2,2,  33.8255,4,   274.00,2,     5.73,2,     5.70,2,     0.27,2,    0.570,2,    3.208,2,    1.920,2,   2067.6,2,   2265.0,2,   7.8772,2,    25.00,    0.291,2,     0.90,2,     0.48,2,   9.4356,2,  26.1327,2,   9.6052,2
49UP20180614_1,   P13,     2,  1,     30,     839,2,20180616,1335,1503, 42.5155, 145.8053, 3100,     75.0,       74,   7.6954,  33.8272,2,    269.5,2,  33.8274,2,   270.21,2,    11.61,2,    12.43,2,     0.04,2,    0.950,2, -999.000,9, -999.000,9,   2109.9,2,   2263.0,2,   7.7874,2,    25.00, -999.000,9,     0.05,2,     0.17,2,   7.6882,2,  26.3983,2,   7.6933,2
49UP20180614_1,   P13,     2,  1,     29,     838,2,20180616,1335,1502, 42.5155, 145.8053, 3100,    100.0,       99,   6.8901,  33.7715,2,    272.7,2,  33.7724,2,   272.49,6,    16.63,6,    13.84,6,     0.02,6,    1.070,6,    3.611,2,    2.149,2,   2116.7,2,   2262.8,2,   7.7566,2,    25.00,    0.323,2,     0.02,2,     0.15,2,   6.8811,2,  26.4672,2,   6.8913,2
49UP20180614_1,   P13,     2,  1,     28,     837,2,20180616,1335,1500, 42.5155, 145.8053, 3100,    125.2,      124,   6.4924,  33.7541,2,    278.8,2,  33.7575,2,   278.81,2,    22.00,2,    14.38,2,     0.03,2,    1.110,2, -999.000,9, -999.000,9,   2120.3,2,   2260.5,2,   7.7452,2,    25.00, -999.000,9,     0.02,2,     0.15,2,   6.4814,2,  26.5066,2,   6.4923,2
49UP20180614_1,   P13,     2,  1,     27,     661,2,20180616,1335,1459, 42.5155, 145.8053, 3100,    152.1,      151,   6.4200,  33.7487,2,    279.7,2,  33.7503,2,   280.37,2,    22.42,2,    14.34,2,     0.04,2,    1.100,2,    3.612,2,    2.154,2,   2122.5,2,   2262.1,2,   7.7438,2,    25.00,    0.300,2,     0.01,2,     0.10,2,   6.4068,2,  26.5121,2,   6.4114,2
49UP20180614_1,   P13,     2,  1,     26,     835,2,20180616,1335,1456, 42.5155, 145.8053, 3100,    202.1,      200,   5.2409,  33.6002,2,    279.5,2,  33.6014,6,   280.40,2,    28.34,2,    16.70,2,     0.04,2,    1.290,2,    3.886,2,    2.262,2,   2131.7,2,   2259.9,2,   7.7065,2,    25.00,    0.326,2,     0.01,2,     0.08,2,   5.2252,2,  26.5398,2,   5.2403,2
49UP20180614_1,   P13,     2,  1,     25,     834,2,20180616,1335,1454, 42.5155, 145.8053, 3100,    253.5,      251,   4.6665,  33.5851,2,    258.1,2,  33.5866,2,   258.47,2,    35.62,2,    19.56,2,     0.04,2,    1.490,2,    3.811,2,    2.208,2,   2154.7,2,   2260.6,2,   7.6599,2,    25.00,    0.305,2,  -999.00,9,  -999.00,9,   4.6479,2,  26.5926,2,   4.6609,2
49UP20180614_1,   P13,     2,  1,     24,     833,2,20180616,1335,1453, 42.5155, 145.8053, 3100,    283.6,      281,   2.9510,  33.4085,2,    257.2,2,  33.4285,4,   257.66,2,    43.47,2,    22.84,2,     0.03,2,    1.770,2,    4.165,2,    2.374,2,   2174.0,2,   2258.8,2,   7.5943,2,    25.00,    0.368,2,  -999.00,9,  -999.00,9,   2.9341,2,  26.6205,2,   2.9539,2
49UP20180614_1,   P13,     2,  1,     23,     832,2,20180616,1335,1450, 42.5155, 145.8053, 3100,    373.7,      370,   2.4489,  33.4659,2,    203.6,2,  33.4658,2,   204.13,2,    63.41,2,    30.00,2,     0.02,2,    2.280,2,    3.778,2,    2.161,2,   2224.4,2,   2268.6,2,   7.4745,2,    25.00,    0.311,2,  -999.00,9,  -999.00,9,   2.4277,2,  26.7090,2,   2.4460,2
49UP20180614_1,   P13,     2,  1,     22,     831,2,20180616,1335,1446, 42.5155, 145.8053, 3100,    474.4,      470,   2.8605,  33.6364,2,    141.8,2,  33.6346,2,   141.31,2,    79.59,2,    34.99,2,     0.01,2,    2.600,2,    3.056,2,    1.737,2,   2264.5,2,   2283.7,2,   7.3906,2,    25.00,    0.240,2,  -999.00,9,  -999.00,9,   2.8315,2,  26.8114,2,   2.8603,2
49UP20180614_1,   P13,     2,  1,     21,     830,2,20180616,1335,1443, 42.5155, 145.8053, 3100,    576.1,      571,   3.3106,  33.8628,2,     81.5,2,  33.8613,2,    82.52,2,    96.18,2,    39.28,2,     0.00,2,    2.840,2,    2.199,2,    1.187,2,   2305.4,6,   2305.2,6,   7.3244,2,    25.00,    0.161,2,  -999.00,9,  -999.00,9,   3.2727,2,  26.9524,2,   3.3100,2
49UP20180614_1,   P13,     2,  1,     20,     829,2,20180616,1335,1440, 42.5155, 145.8053, 3100,    677.3,      671,   3.9315,  34.0923,2,     54.4,2,  34.0925,2,    54.91,2,   105.53,2,    40.42,2,     0.00,2,    2.890,2,    1.303,2,    0.679,2,   2322.6,2,   2327.0,2,   7.3409,6,    25.00,    0.079,2,  -999.00,9,  -999.00,9,   3.8827,2,  27.0760,2,   3.9316,2
49UP20180614_1,   P13,     2,  1,     19,     828,2,20180616,1335,1437, 42.5155, 145.8053, 3100,    778.5,      771,   3.3852,  34.1643,2,     33.9,2,  34.1664,2,    34.25,2,   122.93,2,    42.52,2,     0.00,2,    3.030,2,    0.934,6,    0.477,6,   2352.6,2,   2342.1,2,   7.3025,2,    25.00,    0.062,6,  -999.00,9,  -999.00,9,   3.3318,2,  27.1873,2,   3.3797,2
49UP20180614_1,   P13,     2,  1,     18,     827,2,20180616,1335,1434, 42.5155, 145.8053, 3100,    879.6,      871,   3.0688,  34.2170,2,     25.5,2,  34.2168,2,    25.32,6,   135.09,6,    43.39,6,     0.00,6,    3.090,6,    0.727,2,    0.369,2,   2363.8,2,   2351.9,2,   7.2872,2,    25.00,    0.056,2,  -999.00,9,  -999.00,9,   3.0099,2,  27.2591,2,   3.0671,2
49UP20180614_1,   P13,     2,  1,     16,     825,2,20180616,1335,1431, 42.5155, 145.8053, 3100,    982.4,      972,   3.1251,  34.3108,2,     32.4,2,  34.3123,2,    47.94,3,   136.38,2,    42.57,2,     0.00,2,    3.040,2, -999.000,9, -999.000,9,   2363.2,2,   2365.7,2,   7.3263,2,    25.00, -999.000,9,  -999.00,9,  -999.00,9,   3.0579,2,  27.3296,2,   3.1172,2
49UP20180614_1,   P13,     2,  1,     17,     826,2,20180616,1335,1431, 42.5155, 145.8053, 3100,    982.8,      973,   3.1170,  34.3101,2,     32.0,2,  34.3101,2,    32.43,2,   136.91,2,    42.67,2,     0.00,2,    3.040,2,    0.441,2,    0.230,2,   2363.9,2,   2366.3,2,   7.3297,2,    25.00,    0.035,2,  -999.00,9,  -999.00,9,   3.0498,2,  27.3298,2,   3.1185,2
49UP20180614_1,   P13,     2,  1,     12,     821,2,20180616,1335,1426, 42.5155, 145.8053, 3100,   1144.8,     1133,   2.9266,  34.3927,2,     35.6,2,  34.3923,6,    35.24,2,   143.75,2,    42.56,2,     0.00,2,    3.030,2,    0.201,2,    0.107,2,   2374.3,2,   2378.5,2,   7.3429,2,    25.00,    0.016,2,  -999.00,9,  -999.00,9,   2.8485,2,  27.4139,2,   2.9263,2
49UP20180614_1,   P13,     2,  1,     11,     820,2,20180616,1335,1421, 42.5155, 145.8053, 3100,   1346.9,     1332,   2.6356,  34.4532,2,     38.2,2,  34.4533,2,    38.06,2,   152.65,2,    42.57,2,     0.00,2,    3.040,2,    0.117,2,    0.062,2,   2380.7,6,   2391.5,6,   7.3581,2,    25.00,    0.015,2,  -999.00,9,  -999.00,9,   2.5445,2,  27.4888,2,   2.6357,2
49UP20180614_1,   P13,     2,  1,     10,     819,2,20180616,1335,1415, 42.5155, 145.8053, 3100,   1549.3,     1531,   2.4251,  34.4985,2,     43.9,2,  34.4987,2,    44.25,2,   157.88,2,    42.31,2,     0.00,2,    3.020,2,    0.058,2,    0.029,2,   2384.6,2,   2399.4,2,   7.3754,2,    25.00,    0.001,2,  -999.00,9,  -999.00,9,   2.3202,2,  27.5440,2,   2.4252,2
49UP20180614_1,   P13,     2,  1,      9,     818,2,20180616,1335,1410, 42.5155, 145.8053, 3100,   1752.0,     1731,   2.2320,  34.5384,2,     52.9,2,  34.5385,2,    53.37,2,   161.86,2,    41.88,2,     0.00,2,    2.970,2,    0.020,2,    0.018,2,   2378.6,2,   2408.5,2,   7.3939,6,    25.00,    0.000,2,  -999.00,9,  -999.00,9,   2.1130,2,  27.5928,2,   2.2320,2
49UP20180614_1,   P13,     2,  1,      8,     817,2,20180616,1335,1404, 42.5155, 145.8053, 3100,   1954.8,     1930,   2.0752,  34.5708,2,     64.5,2,  34.5710,2,    66.57,3,   162.85,2,    41.37,2,     0.00,2,    2.910,2,    0.008,2,    0.003,2,   2381.8,2,   2411.4,2,   7.4207,2,    25.00,    0.002,2,  -999.00,9,  -999.00,9,   1.9416,2,  27.6324,2,   2.0751,2
49UP20180614_1,   P13,     2,  1,      7,     816,2,20180616,1335,1359, 42.5155, 145.8053, 3100,   2159.5,     2131,   1.9375,  34.5982,2,     79.8,2,  34.5979,2,    81.10,2,   162.13,2,    40.48,2,     0.00,2,    2.840,2,    0.004,2,    0.003,2,   2372.7,2,   2414.8,2,   7.4474,2,    25.00,    0.000,2,  -999.00,9,  -999.00,9,   1.7886,2,  27.6662,2,   1.9373,2
49UP20180614_1,   P13,     2,  1,      6,     815,2,20180616,1335,1354, 42.5155, 145.8053, 3100,   2362.6,     2331,   1.8254,  34.6169,2,     89.8,2,  34.6174,2,    89.97,2,   162.56,2,    39.87,2,     0.00,2,    2.790,2,    0.000,2,    0.000,2,   2362.3,6,   2417.7,6,   7.4696,2,    25.00,    0.002,2,  -999.00,9,  -999.00,9,   1.6607,2,  27.6909,2,   1.8256,2
49UP20180614_1,   P13,     2,  1,      5,     814,2,20180616,1335,1349, 42.5155, 145.8053, 3100,   2567.9,     2532,   1.7386,  34.6323,2,    101.5,2,  34.6324,6,   102.01,2,   161.16,2,    39.13,2,     0.00,2,    2.750,2,    0.000,2,    0.000,2,   2368.3,3,   2417.3,2,   7.4904,6,    25.00,    0.000,2,  -999.00,9,  -999.00,9,   1.5572,2,  27.7109,2,   1.7387,2
49UP20180614_1,   P13,     2,  1,      4,     813,2,20180616,1335,1344, 42.5155, 145.8053, 3100,   2771.2,     2731,   1.6747,  34.6433,2,    110.2,2,  34.6434,2,   110.82,2,   160.11,6,    38.58,6,     0.00,6,    2.690,6,    0.000,2,    0.000,2,   2354.7,2,   2420.6,2,   7.5081,2,    25.00,    0.000,2,  -999.00,9,  -999.00,9,   1.4759,2,  27.7257,2,   1.6747,2
49UP20180614_1,   P13,     2,  1,      3,     812,2,20180616,1335,1339, 42.5155, 145.8053, 3100,   2974.3,     2930,   1.5646,  34.6590,2,    123.4,2,  34.6594,2,   123.46,2,   159.82,2,    37.64,2,     0.00,2,    2.640,2, -999.000,9, -999.000,9,   2345.0,3,   2421.3,2,   7.5310,2,    25.00, -999.000,9,  -999.00,9,  -999.00,9,   1.3490,2,  27.7474,2,   1.5649,2
49UP20180614_1,   P13,     2,  1,      2,     811,2,20180616,1335,1339, 42.5155, 145.8053, 3100,   2975.0,     2931,   1.5638,  34.6592,2,    123.5,2,  34.6598,2,   123.82,2,   159.92,2,    37.67,2,     0.00,2,    2.630,2, -999.000,9, -999.000,9,   2350.2,2,   2420.2,2,   7.5301,2,    25.00, -999.000,9,  -999.00,9,  -999.00,9,   1.3480,2,  27.7476,2,   1.5640,2
49UP20180614_1,   P13,     2,  1,      1,     810,2,20180616,1335,1335, 42.5155, 145.8053, 3100,   3113.0,     3066,   1.4993,  34.6681,2,    133.0,2,  34.6681,6,   133.39,2,   157.03,2,    37.07,2,     0.00,2,    2.580,2,    0.002,2,    0.000,2,   2348.6,2,   2420.2,2,   7.5498,2,    25.00,   -0.000,2,  -999.00,9,  -999.00,9,   1.2717,2,  27.7601,2,   1.4993,2