BOTTLE,20191018JMAGEMD
EXPOCODE,SECT_ID,STNNBR,CASTNO,SAMPNO,BTLNBR,BTLNBR_FLAG_U,DATE,TIME,BTL_TIME,LATITUDE,LONGITUDE,DEPTH,CTDPRS,CTDDEP,CTDTMP,CTDSAL,CTDSAL_FLAG_W,CTDOXY,CTDOXY_FLAG_W,SALNTY,SALNTY_FLAG_W,OXYGEN,OXYGEN_FLAG_W,SILCAT,SILCAT_FLAG_W,NO2+NO3,NO2+NO3_FLAG_W,NITRIT,NITRIT_FLAG_W,PHSPHT,PHSPHT_FLAG_W,CFC-11,CFC-11_FLAG_W,CFC-12,CFC-12_FLAG_W,TCARBN,TCARBN_FLAG_W,ALKALI,ALKALI_FLAG_W,PH_TS,PH_TS_FLAG_W,PH_TS_TMP,CFC113,CFC113_FLAG_W,CHLORA,CHLORA_FLAG_W,PPHYTN,PPHYTN_FLAG_W,THETA,THETA_FLAG_W,SIGTHT,SIGTHT_FLAG_W,SBE35,SBE35_FLAG_W
,,,,,,,,UTC,,,,METER,DBAR,METERS,ITS-90,PSS-78,,UMOL/KG,,PSS78,,UMOL/KG,,UMOL/KG,,UMOL/KG,,UMOL/KG,,UMOL/KG,,PMOL/KG,,PMOL/KG,,UMOL/KG,,UMOL/KG,,,,ITS-90,PMOL/KG,,UG/KG,,UG/KG,,ITS-90,,KG/M3,,ITS-90,
49UP20180806_1,   P13,    67,  1,      0,      -9,0,20180823,2117,2251, 10.9952, 163.9882, 4806,      0.0,        0,  29.7285,  33.8540,2,    195.2,2,  33.8615,2,   195.34,2,     1.21,3,     0.00,2,     0.00,2,    0.090,3, -999.000,9, -999.000,9,   1909.9,2,   2223.1,2,   8.1128,2,    25.00, -999.000,9,     0.04,2,     0.01,2,  29.7279,2,  20.9596,2,-999.0000,9
49UP20180806_1,   P13,    67,  1,     36,     845,2,20180823,2117,2332, 10.9952, 163.9882, 4806,     11.0,       11,  29.6821,  33.8521,2,    195.2,2,  33.8529,2,   195.42,2,     1.26,3,     0.00,2,     0.00,2,    0.070,3,    1.466,2,    0.847,2,   1908.7,2,   2225.8,2,   8.1128,2,    25.00,    0.131,2,     0.04,2,     0.01,2,  29.6794,2,  20.9746,2,  29.6831,2
49UP20180806_1,   P13,    67,  1,     35,     844,2,20180823,2117,2331, 10.9952, 163.9882, 4806,     26.4,       26,  29.5655,  33.8884,2,    196.8,2,  33.8717,4,   196.12,2,     1.06,3,     0.00,2,     0.00,2,    0.060,3, -999.000,9, -999.000,9,   1908.9,2,   2226.9,2,   8.1096,2,    25.00, -999.000,9,     0.05,2,     0.02,2,  29.5590,2,  21.0425,2,  29.5541,2
49UP20180806_1,   P13,    67,  1,     34,     843,2,20180823,2117,2327, 10.9952, 163.9882, 4806,     49.5,       49,  27.3563,  34.6400,2,    211.4,2,  34.6506,4,   211.69,2,     1.08,3,     0.00,2,     0.00,2,    0.090,3,    1.688,2,    0.947,2,   1957.9,2,   2284.5,2,   8.0881,2,    25.00,    0.152,2,     0.07,2,     0.02,2,  27.3449,2,  22.3362,2,  27.3542,2
49UP20180806_1,   P13,    67,  1,     33,     842,2,20180823,2117,2326, 10.9952, 163.9882, 4806,     74.5,       74,  25.3033,  34.9113,2,    204.1,2,  34.9132,2,   204.49,2,     1.17,3,     0.00,2,     0.00,2,    0.100,3, -999.000,9, -999.000,9,   2003.4,2,   2300.9,2,   8.0576,2,    25.00, -999.000,9,     0.11,2,     0.06,2,  25.2871,2,  23.1866,2,  25.2944,2
49UP20180806_1,   P13,    67,  1,     32,     841,2,20180823,2117,2325, 10.9952, 163.9882, 4806,    100.8,      100,  21.2445,  34.9144,2,    179.3,2,  34.9087,2,   179.49,2,     2.74,3,     1.39,2,     0.11,2,    0.300,3,    2.090,2,    1.175,2,   2065.8,2,   2304.8,2,   7.9472,2,    25.00,    0.083,2,     0.21,2,     0.32,2,  21.2251,2,  24.3674,2,  21.2389,2
49UP20180806_1,   P13,    67,  1,     24,     833,4,20180823,2117,2323, 10.9952, 163.9882, 4806,    125.4,      125,  18.0319,  34.7061,2,    165.7,2,-999.0000,9,  -999.00,9,  -999.00,9,  -999.00,9,  -999.00,9, -999.000,9, -999.000,9, -999.000,9,   -999.0,9,   -999.0,9,-999.0000,9,  -999.00, -999.000,9,  -999.00,9,  -999.00,9,  18.0104,2,  25.0444,2,  18.0262,2
49UP20180806_1,   P13,    67,  1,     31,     840,2,20180823,2117,2321, 10.9952, 163.9882, 4806,    151.9,      151,  14.5584,  34.4933,2,    143.5,2,  34.4932,2,   141.86,2,    12.85,3,    14.20,2,     0.01,2,    1.100,3,    2.415,2,    1.275,2,   2125.4,2,   2279.4,6,   7.7554,2,    25.00,    0.034,2,     0.04,2,     0.15,2,  14.5360,2,  25.6818,2,  14.5588,2
49UP20180806_1,   P13,    67,  1,     30,     839,2,20180823,2117,2319, 10.9952, 163.9882, 4806,    205.6,      204,  10.9236,  34.3347,2,    108.5,2,  34.3326,2,   108.73,2,    25.10,3,    23.02,2,     0.00,2,    1.750,3,    2.236,2,    1.121,2,   2187.6,2,   2277.2,2,   7.6102,6,    25.00,    0.041,2,     0.00,2,     0.02,2,  10.8986,2,  26.2756,2,  10.9236,2
49UP20180806_1,   P13,    67,  1,     29,     838,2,20180823,2117,2318, 10.9952, 163.9882, 4806,    253.3,      252,  10.1154,  34.4911,2,     61.3,2,  34.4879,2,    60.90,6,    32.64,3,    30.09,6,     0.00,6,    2.200,3,    1.281,2,    0.608,2,   2231.6,2,   2293.6,2,   7.5159,2,    25.00,    0.014,2,  -999.00,9,  -999.00,9,  10.0859,2,  26.5399,2,  10.1137,2
49UP20180806_1,   P13,    67,  1,     28,     837,2,20180823,2117,2315, 10.9952, 163.9882, 4806,    333.2,      331,   8.7163,  34.5112,2,     56.4,2,  34.5105,2,    56.00,2,    41.35,3,    33.49,2,     0.00,2,    2.410,3,    0.683,2,    0.321,2,   2252.3,2,   2305.4,2,   7.4911,2,    25.00,    0.006,2,  -999.00,9,  -999.00,9,   8.6808,2,  26.7859,2,   8.7166,2
49UP20180806_1,   P13,    67,  1,     27,     661,2,20180823,2117,2313, 10.9952, 163.9882, 4806,    382.8,      380,   8.0990,  34.5179,2,     64.1,2,  34.5168,2,    63.08,2,    45.25,3,    34.28,2,     0.00,2,    2.450,3, -999.000,9, -999.000,9,   2252.7,2,   2309.7,2,   7.4939,2,    25.00, -999.000,9,  -999.00,9,  -999.00,9,   8.0598,2,  26.8863,2,   8.0993,2
49UP20180806_1,   P13,    67,  1,     26,     835,2,20180823,2117,2311, 10.9952, 163.9882, 4806,    433.9,      431,   7.6251,  34.5137,2,     70.8,2,  34.5138,2,    70.12,2,    48.60,3,    34.62,2,     0.00,2,    2.470,3,    0.459,2,    0.216,2,   2251.9,2,   2314.2,2,   7.5009,2,    25.00,    0.013,2,  -999.00,9,  -999.00,9,   7.5820,2,  26.9533,2,   7.6251,2
49UP20180806_1,   P13,    67,  1,     25,     834,2,20180823,2117,2309, 10.9952, 163.9882, 4806,    485.5,      482,   7.2883,  34.5140,2,     68.7,2,  34.5131,6,    68.66,2,    51.72,3,    35.29,2,     0.00,2,    2.520,3, -999.000,9, -999.000,9,   2261.9,2,   2315.1,2,   7.4949,2,    25.00, -999.000,9,  -999.00,9,  -999.00,9,   7.2412,2,  27.0022,2,   7.2884,2
49UP20180806_1,   P13,    67,  1,     23,     832,2,20180823,2117,2307, 10.9952, 163.9882, 4806,    534.2,      530,   6.9928,  34.5195,2,     67.9,2,  34.5192,2,    67.41,2,    54.84,3,    36.09,2,     0.00,2,    2.580,3,    0.295,2,    0.132,2,   2261.9,2,   2320.7,2,   7.4890,2,    25.00,    0.008,2,  -999.00,9,  -999.00,9,   6.9420,2,  27.0482,2,   6.9931,2
49UP20180806_1,   P13,    67,  1,     22,     831,2,20180823,2117,2304, 10.9952, 163.9882, 4806,    636.2,      632,   6.4204,  34.5214,2,     60.6,2,  34.5210,2,    60.70,2,    62.67,3,    37.77,2,     0.00,2,    2.710,3,    0.153,2,    0.066,2,   2276.6,2,   2329.7,2,   7.4712,2,    25.00,    0.000,2,  -999.00,9,  -999.00,9,   6.3621,2,  27.1277,2,   6.4202,2
49UP20180806_1,   P13,    67,  1,     21,     830,2,20180823,2117,2300, 10.9952, 163.9882, 4806,    736.6,      731,   5.8358,  34.5251,2,     61.8,2,  34.5249,2,    61.48,2,    71.00,3,    38.82,2,     0.00,2,    2.790,3,    0.087,2,    0.034,2,   2287.6,2,   2337.9,6,   7.4623,2,    25.00,    0.002,2,  -999.00,9,  -999.00,9,   5.7712,2,  27.2061,2,   5.8363,2
49UP20180806_1,   P13,    67,  1,     20,     829,2,20180823,2117,2257, 10.9952, 163.9882, 4806,    839.1,      833,   5.3759,  34.5327,2,     58.8,2,  34.5324,2,    58.61,2,    78.47,3,    39.97,2,     0.00,2,    2.860,3,    0.033,2,    0.014,2,   2301.9,2,   2348.2,2,   7.4495,6,    25.00,    0.003,2,  -999.00,9,  -999.00,9,   5.3045,2,  27.2691,2,   5.3760,2
49UP20180806_1,   P13,    67,  1,     19,     828,2,20180823,2117,2255, 10.9952, 163.9882, 4806,    938.3,      931,   4.8444,  34.5421,2,     59.9,2,  34.5419,2,    59.59,6,    87.54,3,    40.65,6,     0.00,6,    2.900,3,    0.021,2,    0.007,2,   2312.5,2,   2356.7,2,   7.4482,2,    25.00,    0.000,2,  -999.00,9,  -999.00,9,   4.7677,2,  27.3387,2,   4.8449,2
49UP20180806_1,   P13,    67,  1,     18,     660,2,20180823,2117,2251, 10.9952, 163.9882, 4806,   1082.6,     1074,   4.1537,  34.5579,2,     65.2,2,  34.5587,2,    65.84,2,   100.92,3,    40.96,2,     0.00,2,    2.920,3,    0.013,2,    0.006,2,   2321.0,2,   2370.6,2,   7.4542,2,    25.00,    0.000,2,  -999.00,9,  -999.00,9,   4.0698,2,  27.4272,2,   4.1539,2
49UP20180806_1,   P13,    67,  1,     17,     826,2,20180823,2117,2246, 10.9952, 163.9882, 4806,   1281.8,     1271,   3.5060,  34.5769,2,     75.5,2,  34.5764,2,    75.59,2,   113.81,3,    40.50,2,     0.00,2,    2.870,3,    0.004,2,    0.001,2,   2332.2,2,   2386.7,2,   7.4693,2,    25.00,    0.002,2,  -999.00,9,  -999.00,9,   3.4110,2,  27.5086,2,   3.5066,2
49UP20180806_1,   P13,    67,  1,     16,     825,2,20180823,2117,2240, 10.9952, 163.9882, 4806,   1484.4,     1471,   2.9893,  34.5939,2,     84.0,2,  34.5944,2,    83.87,2,   126.31,3,    40.25,2,     0.00,2,    2.850,3,    0.000,2,    0.001,2,   2348.5,2,   2398.0,2,   7.4792,2,    25.00,    0.001,2,  -999.00,9,  -999.00,9,   2.8828,2,  27.5716,2,   2.9894,2
49UP20180806_1,   P13,    67,  1,     15,     824,2,20180823,2117,2233, 10.9952, 163.9882, 4806,   1688.4,     1672,   2.5645,  34.6126,2,     94.2,2,  34.6123,2,    94.23,2,   136.54,3,    39.57,2,     0.00,2,    2.820,3,    0.006,2,    0.000,2,   2342.7,2,   2405.6,2,   7.4978,2,    25.00,   -0.000,2,  -999.00,9,  -999.00,9,   2.4462,2,  27.6248,2,   2.5646,2
49UP20180806_1,   P13,    67,  1,     14,     823,2,20180823,2117,2227, 10.9952, 163.9882, 4806,   1891.7,     1872,   2.2895,  34.6275,2,    101.9,2,  34.6286,2,   101.74,2,   141.60,3,    39.24,2,     0.00,2,    2.790,3,    0.000,2,    0.001,2,   2345.9,2,   2413.8,2,   7.5128,2,    25.00,    0.003,2,  -999.00,9,  -999.00,9,   2.1579,2,  27.6606,2,   2.2895,2
49UP20180806_1,   P13,    67,  1,     13,     822,2,20180823,2117,2220, 10.9952, 163.9882, 4806,   2096.6,     2074,   2.1079,  34.6380,2,    106.7,2,  34.6390,2,   106.49,2,   145.72,3,    39.04,2,     0.00,2,    2.750,3,    0.004,2,    0.000,2,   2353.1,2,   2419.9,2,   7.5179,2,    25.00,    0.006,2,  -999.00,9,  -999.00,9,   1.9615,2,  27.6847,2,   2.1083,2
49UP20180806_1,   P13,    67,  1,     12,     821,2,20180823,2117,2215, 10.9952, 163.9882, 4806,   2298.0,     2272,   1.9768,  34.6463,2,    112.7,2,  34.6467,2,   112.33,2,   147.03,3,    38.59,2,     0.00,2,    2.710,3,    0.000,2,    0.000,2,   2346.0,2,   2421.5,2,   7.5271,2,    25.00,    0.003,2,  -999.00,9,  -999.00,9,   1.8150,2,  27.7027,2,   1.9769,2
49UP20180806_1,   P13,    67,  1,     11,     820,2,20180823,2117,2210, 10.9952, 163.9882, 4806,   2499.2,     2470,   1.8766,  34.6535,2,    117.7,2,  34.6537,2,   117.06,2,   148.43,3,    38.30,2,     0.00,2,    2.680,3,    0.000,2,    0.000,2,   2342.8,2,   2423.4,2,   7.5334,2,    25.00,    0.003,2,  -999.00,9,  -999.00,9,   1.6987,2,  27.7174,2,   1.8766,2
49UP20180806_1,   P13,    67,  1,     10,     819,2,20180823,2117,2203, 10.9952, 163.9882, 4806,   2703.1,     2671,   1.7616,  34.6614,2,    124.0,2,  34.6620,2,   123.67,6,   150.16,3,    37.91,6,     0.00,6,    2.630,3,    0.000,2,    0.000,2,   2341.3,2,   2424.0,6,   7.5450,2,    25.00,    0.003,2,  -999.00,9,  -999.00,9,   1.5673,2,  27.7335,2,   1.7617,2
49UP20180806_1,   P13,    67,  1,      9,     818,2,20180823,2117,2159, 10.9952, 163.9882, 4806,   2907.0,     2871,   1.6645,  34.6676,2,    130.5,2,  34.6659,2,   129.59,2,   150.16,3,    37.52,2,     0.00,2,    2.600,3,    0.000,2,    0.000,2,   2338.5,2,   2426.6,2,   7.5546,6,    25.00,    0.009,2,  -999.00,9,  -999.00,9,   1.4530,2,  27.7468,2,   1.6645,2
49UP20180806_1,   P13,    67,  1,      8,     817,2,20180823,2117,2154, 10.9952, 163.9882, 4806,   3120.8,     3080,   1.5834,  34.6732,2,    137.3,2,  34.6728,6,   137.01,2,   151.07,3,    37.03,2,     0.00,2,    2.570,3, -999.000,9, -999.000,9,   2334.4,2,   2424.0,2,   7.5650,2,    25.00, -999.000,9,  -999.00,9,  -999.00,9,   1.3531,2,  27.7585,2,   1.5834,2
49UP20180806_1,   P13,    67,  1,      7,     816,3,20180823,2117,2149, 10.9952, 163.9882, 4806,   3374.9,     3329,   1.5198,  34.6785,2,    145.0,2,  34.6768,4,   143.78,3,   148.66,3,    36.51,2,     0.00,2,    2.540,3, -999.000,9, -999.000,9,   2334.9,2,   2422.7,2,   7.5736,2,    25.00, -999.000,9,  -999.00,9,  -999.00,9,   1.2658,2,  27.7689,2,   1.5198,2
49UP20180806_1,   P13,    67,  1,      6,     815,3,20180823,2117,2144, 10.9952, 163.9882, 4806,   3631.4,     3580,   1.4800,  34.6825,2,    151.7,2,  34.6829,2,   151.92,2,   145.13,3,    36.02,2,     0.00,2,    2.490,3,    0.000,2,    0.000,2,   2320.1,2,   2420.2,2,   7.5831,2,    25.00,    0.000,2,  -999.00,9,  -999.00,9,   1.2008,2,  27.7766,2,   1.4799,2
49UP20180806_1,   P13,    67,  1,      5,     814,3,20180823,2117,2138, 10.9952, 163.9882, 4806,   3887.5,     3830,   1.4484,  34.6865,2,    158.2,2,  34.6869,2,   158.37,2,   141.41,3,    35.52,2,     0.00,2,    2.450,3,    0.000,2,    0.001,2,   2313.3,2,   2415.4,2,   7.5890,2,    25.00,    0.007,2,  -999.00,9,  -999.00,9,   1.1431,2,  27.7838,2,   1.4484,2
49UP20180806_1,   P13,    67,  1,      4,     813,2,20180823,2117,2133, 10.9952, 163.9882, 4806,   4143.2,     4080,   1.4391,  34.6892,2,    163.1,2,  34.6898,2,   163.53,2,   139.28,3,    35.25,2,     0.00,2,    2.420,3,    0.000,2,    0.000,2,   2320.7,2,   2411.9,2,   7.5960,2,    25.00,    0.008,2,  -999.00,9,  -999.00,9,   1.1063,2,  27.7885,2,   1.4392,2
49UP20180806_1,   P13,    67,  1,      3,     812,3,20180823,2117,2128, 10.9952, 163.9882, 4806,   4399.2,     4329,   1.4289,  34.6923,2,    168.6,2,  34.6920,6,   168.32,2,   135.83,3,    34.77,2,     0.00,2,    2.400,3,    0.006,2,    0.001,2,   2306.5,2,   2409.9,2,   7.6012,2,    25.00,    0.003,2,  -999.00,9,  -999.00,9,   1.0677,2,  27.7935,2,   1.4290,2
49UP20180806_1,   P13,    67,  1,      2,     811,2,20180823,2117,2122, 10.9952, 163.9882, 4806,   4654.6,     4578,   1.4211,  34.6949,2,    173.5,2,  34.6954,2,   173.59,2,   133.23,3,    34.48,2,     0.00,2,    2.360,3,    0.005,2,    0.000,2,   2299.5,2,   2406.5,2,   7.6079,2,    25.00,    0.004,2,  -999.00,9,  -999.00,9,   1.0306,2,  27.7982,2,   1.4211,2
49UP20180806_1,   P13,    67,  1,      1,     810,2,20180823,2117,2117, 10.9952, 163.9882, 4806,   4886.6,     4804,   1.3942,  34.6986,2,    180.3,2,  34.6984,2,   180.04,6,   130.06,3,    33.98,6,     0.00,6,    2.330,3,    0.008,2,    0.001,2,   2301.2,2,   2400.4,2,   7.6121,2,    25.00,   -0.000,2,  -999.00,9,  -999.00,9,   0.9771,2,  27.8047,2,   1.3943,2