BOTTLE,20191018JMAGEMD
EXPOCODE,SECT_ID,STNNBR,CASTNO,SAMPNO,BTLNBR,BTLNBR_FLAG_U,DATE,TIME,BTL_TIME,LATITUDE,LONGITUDE,DEPTH,CTDPRS,CTDDEP,CTDTMP,CTDSAL,CTDSAL_FLAG_W,CTDOXY,CTDOXY_FLAG_W,SALNTY,SALNTY_FLAG_W,OXYGEN,OXYGEN_FLAG_W,SILCAT,SILCAT_FLAG_W,NO2+NO3,NO2+NO3_FLAG_W,NITRIT,NITRIT_FLAG_W,PHSPHT,PHSPHT_FLAG_W,CFC-11,CFC-11_FLAG_W,CFC-12,CFC-12_FLAG_W,TCARBN,TCARBN_FLAG_W,ALKALI,ALKALI_FLAG_W,PH_TS,PH_TS_FLAG_W,PH_TS_TMP,CFC113,CFC113_FLAG_W,CHLORA,CHLORA_FLAG_W,PPHYTN,PPHYTN_FLAG_W,THETA,THETA_FLAG_W,SIGTHT,SIGTHT_FLAG_W,SBE35,SBE35_FLAG_W
,,,,,,,,UTC,,,,METER,DBAR,METERS,ITS-90,PSS-78,,UMOL/KG,,PSS78,,UMOL/KG,,UMOL/KG,,UMOL/KG,,UMOL/KG,,UMOL/KG,,PMOL/KG,,PMOL/KG,,UMOL/KG,,UMOL/KG,,,,ITS-90,PMOL/KG,,UG/KG,,UG/KG,,ITS-90,,KG/M3,,ITS-90,
49UP20180806_2,   P13,    94,  1,      0,      -9,0,20180910,1639,1800, -1.9267, 165.0138, 4460,      0.0,        0,  30.2663,  34.2059,2,    193.9,2,  34.2101,2,   192.76,2,     1.23,3,     0.00,2,     0.00,2,    0.110,3, -999.000,9, -999.000,9,   1920.5,2,   2249.5,2,   8.1237,2,    25.00, -999.000,9,     0.06,2,     0.02,2,  30.2656,2,  21.0403,2,-999.0000,9
49UP20180806_2,   P13,    94,  1,     36,     845,2,20180910,1639,1835, -1.9267, 165.0138, 4460,     11.3,       11,  30.2826,  34.2080,2,    193.9,2,  34.2088,2,   192.87,2,     1.23,3,     0.00,2,     0.00,2,    0.080,3,    1.411,2,    0.817,2,   1920.9,2,   2250.9,2,   8.1261,2,    25.00,    0.120,2,     0.06,2,     0.02,2,  30.2798,2,  21.0370,2,  30.2824,2
49UP20180806_2,   P13,    94,  1,     35,     844,2,20180910,1639,1834, -1.9267, 165.0138, 4460,     26.7,       27,  30.2578,  34.4827,2,    194.8,2,  34.5471,4,   193.54,2,     1.23,3,     0.00,2,     0.00,2,    0.110,3, -999.000,9, -999.000,9,   1940.3,2,   2273.9,2,   8.1207,2,    25.00, -999.000,9,     0.07,2,     0.12,2,  30.2511,2,  21.2526,2,  30.2566,2
49UP20180806_2,   P13,    94,  1,     34,     843,2,20180910,1639,1831, -1.9267, 165.0138, 4460,     52.3,       52,  30.2329,  35.2450,2,    196.3,2,  35.2454,2,   195.45,2,     1.23,3,     0.00,2,     0.00,2,    0.180,3,    1.431,2,    0.812,2,   1977.7,2,   2322.5,2,   8.1118,2,    25.00,    0.123,2,     0.06,2,     0.04,2,  30.2199,2,  21.8345,2,  30.2327,2
49UP20180806_2,   P13,    94,  1,     33,     842,2,20180910,1639,1830, -1.9267, 165.0138, 4460,     77.9,       77,  29.6014,  35.3739,2,    195.8,2,  35.3736,2,   195.12,2,     1.41,3,     0.41,2,     0.14,2,    0.250,3, -999.000,9, -999.000,9,   2007.7,2,   2327.4,2,   8.0805,2,    25.00, -999.000,9,     0.23,2,     0.20,2,  29.5822,2,  22.1487,2,  29.6013,2
49UP20180806_2,   P13,    94,  1,     32,     841,2,20180910,1639,1828, -1.9267, 165.0138, 4460,    102.0,      101,  29.4291,  35.3954,2,    190.3,2,  35.3943,2,   189.78,6,     1.55,3,     1.21,6,     0.52,6,    0.300,3,    1.469,2,    0.842,2,   2014.6,2,   2328.2,2,   8.0687,2,    25.00,    0.129,2,     0.26,2,     0.35,2,  29.4041,2,  22.2251,2,  29.4279,2
49UP20180806_2,   P13,    94,  1,     31,     840,2,20180910,1639,1827, -1.9267, 165.0138, 4460,    125.8,      125,  28.8105,  35.5281,2,    172.1,2,  35.5283,2,   172.90,2,     1.68,3,     3.79,2,     1.17,2,    0.460,3, -999.000,9, -999.000,9,   2036.2,2,   2336.9,2,   8.0403,2,    25.00, -999.000,9,     0.18,2,     0.35,2,  28.7801,2,  22.5341,2,  28.8083,2
49UP20180806_2,   P13,    94,  1,     30,     839,2,20180910,1639,1826, -1.9267, 165.0138, 4460,    151.2,      150,  25.6201,  35.7096,2,    138.7,2,  35.7096,2,   139.06,2,     2.39,3,     8.29,2,     0.04,2,    0.750,3,    1.675,2,    0.959,2,   2096.3,2,   2348.1,2,   7.9556,2,    25.00,    0.052,2,     0.06,2,     0.21,2,  25.5866,2,  23.6974,2,  25.5942,2
49UP20180806_2,   P13,    94,  1,     29,     838,2,20180910,1639,1824, -1.9267, 165.0138, 4460,    203.8,      203,  16.9816,  35.3759,2,    112.0,2,  35.3597,2,   111.64,2,     8.04,3,    16.65,2,     0.01,2,    1.330,3,    1.872,2,    1.003,2,   2168.3,2,   2332.4,2,   7.7752,6,    25.00,    0.014,2,     0.01,2,     0.02,2,  16.9479,2,  25.8152,2,  16.9770,2
49UP20180806_2,   P13,    94,  1,     28,     837,2,20180910,1639,1823, -1.9267, 165.0138, 4460,    253.6,      252,  12.2667,  34.8951,2,    129.6,2,  34.9012,2,   129.18,2,    16.15,3,    21.20,2,     0.00,2,    1.540,3,    1.774,2,    0.893,2,   2174.8,6,   2309.7,6,   7.7140,2,    25.00,    0.018,2,  -999.00,9,  -999.00,9,  12.2331,2,  26.4628,2,  12.2665,2
49UP20180806_2,   P13,    94,  1,     27,     661,2,20180910,1639,1821, -1.9267, 165.0138, 4460,    303.3,      301,  11.2661,  34.8010,2,    128.0,2,  34.7996,2,   127.42,2,    20.05,3,    23.22,2,     0.00,2,    1.660,3,    1.649,2,    0.813,2,   2175.8,2,   2307.5,2,   7.6860,2,    25.00,    0.021,2,  -999.00,9,  -999.00,9,  11.2280,2,  26.5790,2,  11.2663,2
49UP20180806_2,   P13,    94,  1,     26,     835,2,20180910,1639,1819, -1.9267, 165.0138, 4460,    353.6,      351,  10.4761,  34.7518,2,    106.8,2,  34.7516,2,   105.78,2,    23.07,3,    26.81,2,     0.00,2,    1.900,3, -999.000,9, -999.000,9,   2203.3,2,   2306.2,2,   7.6301,2,    25.00, -999.000,9,  -999.00,9,  -999.00,9,  10.4337,2,  26.6831,2,  10.4765,2
49UP20180806_2,   P13,    94,  1,     25,     834,2,20180910,1639,1817, -1.9267, 165.0138, 4460,    403.3,      401,   9.8077,  34.7070,2,    100.5,2,  34.7060,2,   100.58,2,    25.47,3,    28.66,2,     0.00,2,    2.020,3,    1.170,2,    0.546,2,   2212.4,2,   2304.5,2,   7.6033,2,    25.00,    0.009,2,  -999.00,9,  -999.00,9,   9.7611,2,  26.7637,2,   9.8076,2
49UP20180806_2,   P13,    94,  1,     23,     832,2,20180910,1639,1816, -1.9267, 165.0138, 4460,    453.8,      451,   9.1175,  34.6620,2,     82.0,2,  34.6588,2,    84.86,6,    30.27,3,    31.62,6,     0.00,6,    2.190,3, -999.000,9, -999.000,9,   2226.4,2,   2307.3,2,   7.5563,2,    25.00, -999.000,9,  -999.00,9,  -999.00,9,   9.0673,2,  26.8427,2,   9.1167,2
49UP20180806_2,   P13,    94,  1,     22,     831,3,20180910,1639,1814, -1.9267, 165.0138, 4460,    504.4,      501,   8.3319,  34.6116,2,    124.4,2,  34.6121,2,   124.31,2,    27.77,3,    29.40,2,     0.00,2,    2.040,3,    1.055,6,    0.486,6,   2208.6,2,   2305.9,2,   7.6089,2,    25.00,    0.013,6,  -999.00,9,  -999.00,9,   8.2789,2,  26.9267,2,   8.3316,2
49UP20180806_2,   P13,    94,  1,     21,     830,2,20180910,1639,1811, -1.9267, 165.0138, 4460,    605.6,      601,   7.1194,  34.5503,2,    123.8,2,  34.5510,2,   123.85,2,    36.88,3,    31.76,2,     0.00,2,    2.210,3,    0.743,2,    0.326,2,   2223.9,2,   2311.7,2,   7.5863,2,    25.00,    0.004,2,  -999.00,9,  -999.00,9,   7.0608,2,  27.0561,2,   7.1191,2
49UP20180806_2,   P13,    94,  1,     20,     829,2,20180910,1639,1809, -1.9267, 165.0138, 4460,    705.3,      700,   6.6706,  34.5587,2,     76.8,2,  34.5590,2,    77.07,2,    49.98,3,    37.33,2,     0.00,2,    2.630,3,    0.225,2,    0.099,2,   2262.9,2,   2321.6,2,   7.4985,2,    25.00,    0.001,2,  -999.00,9,  -999.00,9,   6.6043,2,  27.1250,2,   6.6713,2
49UP20180806_2,   P13,    94,  1,     19,     828,2,20180910,1639,1806, -1.9267, 165.0138, 4460,    807.1,      801,   5.9939,  34.5291,2,    107.2,2,  34.5301,2,   107.40,2,    51.60,3,    35.55,2,     0.00,2,    2.500,3,    0.306,2,    0.134,2,   2251.2,2,   2325.7,2,   7.5398,2,    25.00,    0.001,2,  -999.00,9,  -999.00,9,   5.9217,2,  27.1905,2,   5.9943,2
49UP20180806_2,   P13,    94,  1,     18,     660,2,20180910,1639,1804, -1.9267, 165.0138, 4460,    908.5,      902,   4.9706,  34.5215,2,    122.1,2,  34.5208,2,   122.13,2,    65.42,3,    35.51,2,     0.00,2,    2.500,3,    0.210,2,    0.092,2,   2270.4,2,   2338.4,2,   7.5514,2,    25.00,    0.003,2,  -999.00,9,  -999.00,9,   4.8957,2,  27.3079,2,   4.9706,2
49UP20180806_2,   P13,    94,  1,     17,     826,2,20180910,1639,1801, -1.9267, 165.0138, 4460,   1008.2,     1000,   4.5003,  34.5436,2,    106.2,2,  34.5436,2,   106.19,2,    79.97,3,    37.34,2,     0.00,2,    2.650,3,    0.085,2,    0.034,2,   2293.9,2,   2353.9,2,   7.5275,2,    25.00,    0.000,2,  -999.00,9,  -999.00,9,   4.4200,2,  27.3785,2,   4.5003,2
49UP20180806_2,   P13,    94,  1,     16,     825,2,20180910,1639,1755, -1.9267, 165.0138, 4460,   1211.6,     1201,   3.9192,  34.5671,2,     95.2,2,  34.5669,2,    95.67,2,    97.40,3,    38.89,2,     0.00,2,    2.760,3,    0.022,2,    0.005,2,   2307.5,2,   2372.2,2,   7.5078,2,    25.00,    0.000,2,  -999.00,9,  -999.00,9,   3.8263,2,  27.4596,2,   3.9190,2
49UP20180806_2,   P13,    94,  1,     15,     824,2,20180910,1639,1750, -1.9267, 165.0138, 4460,   1414.1,     1402,   3.4027,  34.5847,2,     99.4,2,  34.5860,6,    98.42,2,   108.81,3,    38.94,2,     0.00,2,    2.770,3,    0.011,2,    0.005,2,   2323.7,2,   2384.1,2,   7.5093,2,    25.00,    0.000,2,  -999.00,9,  -999.00,9,   3.2976,2,  27.5258,2,   3.4021,2
49UP20180806_2,   P13,    94,  1,     14,     823,2,20180910,1639,1746, -1.9267, 165.0138, 4460,   1616.0,     1601,   2.9766,  34.6001,2,    108.9,2,  34.5998,2,   108.66,6,   117.03,3,    38.36,6,     0.00,6,    2.720,3,    0.001,2,    0.003,2,   2322.1,2,   2393.5,2,   7.5247,2,    25.00,    0.000,2,  -999.00,9,  -999.00,9,   2.8592,2,  27.5787,2,   2.9771,2
49UP20180806_2,   P13,    94,  1,     13,     822,2,20180910,1639,1739, -1.9267, 165.0138, 4460,   1820.8,     1803,   2.4960,  34.6230,2,    115.1,2,  34.6231,2,   115.19,2,   127.36,3,    38.17,2,     0.00,2,    2.690,3,    0.001,2,    0.001,2,   2330.4,2,   2405.2,2,   7.5353,6,    25.00,    0.002,2,  -999.00,9,  -999.00,9,   2.3675,2,  27.6397,2,   2.4960,2
49UP20180806_2,   P13,    94,  1,     12,     821,2,20180910,1639,1735, -1.9267, 165.0138, 4460,   2023.5,     2003,   2.2947,  34.6342,2,    118.0,2,  34.6338,6,   117.78,2,   132.73,3,    38.09,2,     0.00,2,    2.680,3,    0.003,2,    0.000,2,   2336.5,6,   2411.3,6,   7.5398,2,    25.00,    0.001,2,  -999.00,9,  -999.00,9,   2.1518,2,  27.6664,2,   2.2948,2
49UP20180806_2,   P13,    94,  1,     11,     820,2,20180910,1639,1730, -1.9267, 165.0138, 4460,   2226.3,     2202,   2.0750,  34.6465,2,    122.7,2,  34.6469,2,   122.67,2,   137.73,3,    37.84,2,     0.00,2,    2.650,3,    0.001,2,    0.000,2,   2340.9,2,   2415.7,2,   7.5468,2,    25.00,    0.000,2,  -999.00,9,  -999.00,9,   1.9179,2,  27.6949,2,   2.0748,2
49UP20180806_2,   P13,    94,  1,     10,     819,2,20180910,1639,1725, -1.9267, 165.0138, 4460,   2428.7,     2401,   1.9227,  34.6545,2,    127.7,2,  34.6548,6,   127.67,2,   140.47,3,    37.52,2,     0.00,2,    2.620,3,    0.000,2,    0.000,2,   2346.0,2,   2418.6,2,   7.5523,2,    25.00,    0.001,2,  -999.00,9,  -999.00,9,   1.7503,2,  27.7143,2,   1.9226,2
49UP20180806_2,   P13,    94,  1,      9,     818,2,20180910,1639,1721, -1.9267, 165.0138, 4460,   2633.9,     2603,   1.8464,  34.6591,2,    129.6,2,  34.6601,2,   129.40,2,   142.70,3,    37.37,2,     0.00,2,    2.610,3,    0.000,6,    0.000,6,   2338.3,2,   2420.5,2,   7.5575,2,    25.00,    0.007,6,  -999.00,9,  -999.00,9,   1.6568,2,  27.7250,2,   1.8465,2
49UP20180806_2,   P13,    94,  1,      8,     817,2,20180910,1639,1715, -1.9267, 165.0138, 4460,   2839.1,     2805,   1.7528,  34.6644,2,    132.8,2,  34.6646,2,   132.92,2,   144.80,3,    37.23,2,     0.00,2,    2.590,3,    0.002,2,    0.000,2,   2343.2,2,   2422.6,2,   7.5608,2,    25.00,    0.000,2,  -999.00,9,  -999.00,9,   1.5459,2,  27.7375,2,   1.7527,2
49UP20180806_2,   P13,    94,  1,      7,     816,2,20180910,1639,1711, -1.9267, 165.0138, 4460,   3039.4,     3001,   1.6688,  34.6693,2,    136.9,2,  34.6697,6,   137.44,2,   145.68,3,    37.00,2,     0.00,2,    2.570,3, -999.000,9, -999.000,9,   2338.2,2,   2423.6,2,   7.5674,2,    25.00, -999.000,9,  -999.00,9,  -999.00,9,   1.4446,2,  27.7488,2,   1.6687,2
49UP20180806_2,   P13,    94,  1,      6,     815,2,20180910,1639,1705, -1.9267, 165.0138, 4460,   3296.1,     3253,   1.6071,  34.6742,2,    142.3,2,  34.6743,2,   142.18,2,   145.57,3,    36.62,2,     0.00,2,    2.540,3, -999.000,9, -999.000,9,   2336.4,2,   2422.9,2,   7.5772,2,    25.00, -999.000,9,  -999.00,9,  -999.00,9,   1.3590,2,  27.7588,2,   1.6070,2
49UP20180806_2,   P13,    94,  1,      5,     814,2,20180910,1639,1700, -1.9267, 165.0138, 4460,   3551.1,     3502,   1.5621,  34.6782,2,    147.0,2,  34.6779,2,   146.79,6,   144.80,3,    36.33,6,     0.00,6,    2.520,3,    0.001,2,    0.000,2,   2336.9,2,   2422.9,2,   7.5834,2,    25.00,    0.005,2,  -999.00,9,  -999.00,9,   1.2892,2,  27.7670,2,   1.5621,2
49UP20180806_2,   P13,    94,  1,      4,     813,2,20180910,1639,1655, -1.9267, 165.0138, 4460,   3805.0,     3750,   1.5092,  34.6838,2,    154.5,2,  34.6830,6,   155.32,2,   142.62,3,    35.82,2,     0.00,2,    2.480,3,    0.001,2,    0.001,2,   2327.4,2,   2419.5,2,   7.5932,2,    25.00,    0.000,2,  -999.00,9,  -999.00,9,   1.2110,2,  27.7769,2,   1.5091,2
49UP20180806_2,   P13,    94,  1,      3,     812,2,20180910,1639,1650, -1.9267, 165.0138, 4460,   4061.0,     4000,   1.4409,  34.6902,2,    164.4,2,  34.6899,2,   164.57,2,   138.54,3,    35.13,2,     0.00,2,    2.420,3,    0.000,2,    0.000,2,   2316.8,2,   2415.1,2,   7.6032,2,    25.00,   -0.000,2,  -999.00,9,  -999.00,9,   1.1170,2,  27.7886,2,   1.4409,2
49UP20180806_2,   P13,    94,  1,      2,     811,2,20180910,1639,1645, -1.9267, 165.0138, 4460,   4316.4,     4250,   1.3696,  34.6966,2,    175.6,2,  34.6959,2,   175.69,2,   132.98,3,    34.33,2,     0.00,2,    2.370,3,    0.004,2,    0.000,2,   2310.2,2,   2406.3,2,   7.6136,6,    25.00,    0.002,2,  -999.00,9,  -999.00,9,   1.0194,2,  27.8003,2,   1.3694,2
49UP20180806_2,   P13,    94,  1,      1,     810,3,20180910,1639,1640, -1.9267, 165.0138, 4460,   4520.2,     4448,   1.3571,  34.6991,2,    180.0,2,  34.6997,2,   179.82,2,   129.82,3,    34.02,2,     0.00,2,    2.340,3,    0.015,2,    0.000,2,   2299.5,6,   2402.3,6,   7.6165,2,    25.00,    0.003,2,  -999.00,9,  -999.00,9,   0.9842,2,  27.8046,2,   1.3570,2