BOTTLE,20191018JMAGEMD
EXPOCODE,SECT_ID,STNNBR,CASTNO,SAMPNO,BTLNBR,BTLNBR_FLAG_U,DATE,TIME,BTL_TIME,LATITUDE,LONGITUDE,DEPTH,CTDPRS,CTDDEP,CTDTMP,CTDSAL,CTDSAL_FLAG_W,CTDOXY,CTDOXY_FLAG_W,SALNTY,SALNTY_FLAG_W,OXYGEN,OXYGEN_FLAG_W,SILCAT,SILCAT_FLAG_W,NO2+NO3,NO2+NO3_FLAG_W,NITRIT,NITRIT_FLAG_W,PHSPHT,PHSPHT_FLAG_W,CFC-11,CFC-11_FLAG_W,CFC-12,CFC-12_FLAG_W,TCARBN,TCARBN_FLAG_W,ALKALI,ALKALI_FLAG_W,PH_TS,PH_TS_FLAG_W,PH_TS_TMP,CFC113,CFC113_FLAG_W,CHLORA,CHLORA_FLAG_W,PPHYTN,PPHYTN_FLAG_W,THETA,THETA_FLAG_W,SIGTHT,SIGTHT_FLAG_W,SBE35,SBE35_FLAG_W
,,,,,,,,UTC,,,,METER,DBAR,METERS,ITS-90,PSS-78,,UMOL/KG,,PSS78,,UMOL/KG,,UMOL/KG,,UMOL/KG,,UMOL/KG,,UMOL/KG,,PMOL/KG,,PMOL/KG,,UMOL/KG,,UMOL/KG,,,,ITS-90,PMOL/KG,,UG/KG,,UG/KG,,ITS-90,,KG/M3,,ITS-90,
49UP20180806_2,   P13,    85,  1,      0,      -9,0,20180907,1435,1603,  2.4977, 165.0050, 4123,      0.0,        0,  30.0092,  34.1646,2,    195.1,2,-999.0000,9,   194.61,2,     1.09,3,     0.00,2,     0.00,2,    0.100,3, -999.000,9, -999.000,9,   -999.0,9,   -999.0,9,-999.0000,9,  -999.00, -999.000,9,  -999.00,9,  -999.00,9,  30.0086,2,  21.0971,2,-999.0000,9
49UP20180806_2,   P13,    85,  1,     36,     845,2,20180907,1435,1635,  2.4977, 165.0050, 4123,     11.5,       11,  30.0122,  34.1650,2,    195.1,2,  34.1657,2,   194.40,2,     0.97,3,     0.00,2,     0.00,2,    0.080,3, -999.000,9, -999.000,9,   -999.0,9,   -999.0,9,-999.0000,9,  -999.00, -999.000,9,  -999.00,9,  -999.00,9,  30.0094,2,  21.0971,2,  30.0116,2
49UP20180806_2,   P13,    85,  1,     35,     844,2,20180907,1435,1634,  2.4977, 165.0050, 4123,     25.6,       25,  30.0162,  34.1655,2,    195.2,2,  34.1684,2,   194.40,2,     0.92,3,     0.00,2,     0.00,2,    0.070,3, -999.000,9, -999.000,9,   -999.0,9,   -999.0,9,-999.0000,9,  -999.00, -999.000,9,  -999.00,9,  -999.00,9,  30.0098,2,  21.0974,2,  30.0182,2
49UP20180806_2,   P13,    85,  1,     34,     843,2,20180907,1435,1629,  2.4977, 165.0050, 4123,     50.6,       50,  30.3789,  34.9907,2,    198.7,2,  35.0261,4,   198.49,2,     0.93,3,     0.03,2,     0.00,2,    0.140,3, -999.000,9, -999.000,9,   -999.0,9,   -999.0,9,-999.0000,9,  -999.00, -999.000,9,  -999.00,9,  -999.00,9,  30.3662,2,  21.5937,2,  30.3493,2
49UP20180806_2,   P13,    85,  1,     33,     842,2,20180907,1435,1628,  2.4977, 165.0050, 4123,     75.3,       75,  29.8959,  35.2951,2,    198.9,2,  35.2920,2,   198.25,2,     0.98,3,     0.03,2,     0.00,2,    0.200,3, -999.000,9, -999.000,9,   -999.0,9,   -999.0,9,-999.0000,9,  -999.00, -999.000,9,  -999.00,9,  -999.00,9,  29.8773,2,  21.9893,2,  29.9071,2
49UP20180806_2,   P13,    85,  1,     32,     841,2,20180907,1435,1626,  2.4977, 165.0050, 4123,    103.6,      103,  28.7576,  35.3909,2,    176.4,2,  35.3897,2,   176.56,6,     1.38,3,     3.01,6,     0.93,6,    0.410,3, -999.000,9, -999.000,9,   -999.0,9,   -999.0,9,-999.0000,9,  -999.00, -999.000,9,  -999.00,9,  -999.00,9,  28.7326,2,  22.4468,2,  28.7520,2
49UP20180806_2,   P13,    85,  1,     31,     840,2,20180907,1435,1625,  2.4977, 165.0050, 4123,    126.0,      125,  26.7993,  35.3681,2,    155.0,2,  35.3580,2,   155.90,2,     2.30,3,     6.35,2,     0.07,2,    0.590,3, -999.000,9, -999.000,9,   -999.0,9,   -999.0,9,-999.0000,9,  -999.00, -999.000,9,  -999.00,9,  -999.00,9,  26.7705,2,  23.0682,2,  26.7969,2
49UP20180806_2,   P13,    85,  1,     30,     839,3,20180907,1435,1623,  2.4977, 165.0050, 4123,    151.6,      151,  24.0902,  35.1014,2,    141.5,2,  35.1016,2,   142.07,2,     4.39,3,     7.90,2,     0.04,2,    0.640,3, -999.000,9, -999.000,9,   -999.0,9,   -999.0,9,-999.0000,9,  -999.00, -999.000,9,  -999.00,9,  -999.00,9,  24.0582,2,  23.7009,2,  24.0857,2
49UP20180806_2,   P13,    85,  1,     29,     838,2,20180907,1435,1621,  2.4977, 165.0050, 4123,    205.9,      205,  14.3783,  34.6084,2,    131.8,2,  34.6081,2,   128.74,2,    17.49,3,    17.04,2,     0.01,2,    1.240,3, -999.000,9, -999.000,9,   -999.0,9,   -999.0,9,-999.0000,9,  -999.00, -999.000,9,  -999.00,9,  -999.00,9,  14.3481,2,  25.8108,2,  14.3906,2
49UP20180806_2,   P13,    85,  1,     28,     837,2,20180907,1435,1619,  2.4977, 165.0050, 4123,    252.5,      251,  11.9492,  34.8300,2,    133.4,2,  34.8285,2,   132.13,2,    18.06,3,    21.42,2,     0.00,2,    1.530,3, -999.000,9, -999.000,9,   -999.0,9,   -999.0,9,-999.0000,9,  -999.00, -999.000,9,  -999.00,9,  -999.00,9,  11.9164,2,  26.4730,2,  11.9510,2
49UP20180806_2,   P13,    85,  1,     27,     661,2,20180907,1435,1617,  2.4977, 165.0050, 4123,    304.8,      303,  11.1877,  34.7817,2,    101.0,2,  34.7835,2,   100.27,2,    22.01,3,    25.77,2,     0.00,2,    1.820,3, -999.000,9, -999.000,9,   -999.0,9,   -999.0,9,-999.0000,9,  -999.00, -999.000,9,  -999.00,9,  -999.00,9,  11.1496,2,  26.5784,2,  11.1922,2
49UP20180806_2,   P13,    85,  1,     26,     835,2,20180907,1435,1615,  2.4977, 165.0050, 4123,    352.8,      351,  10.5339,  34.7352,2,    101.2,2,  34.7351,2,   101.09,2,    24.23,3,    27.07,2,     0.00,2,    1.910,3, -999.000,9, -999.000,9,   -999.0,9,   -999.0,9,-999.0000,9,  -999.00, -999.000,9,  -999.00,9,  -999.00,9,  10.4914,2,  26.6600,2,  10.5348,2
49UP20180806_2,   P13,    85,  1,     25,     834,2,20180907,1435,1613,  2.4977, 165.0050, 4123,    403.4,      401,   9.8133,  34.6830,2,    105.1,2,  34.6810,2,   105.28,2,    26.86,3,    27.98,2,     0.00,2,    1.950,3, -999.000,9, -999.000,9,   -999.0,9,   -999.0,9,-999.0000,9,  -999.00, -999.000,9,  -999.00,9,  -999.00,9,   9.7668,2,  26.7440,2,   9.8134,2
49UP20180806_2,   P13,    85,  1,     23,     832,2,20180907,1435,1611,  2.4977, 165.0050, 4123,    453.6,      451,   9.3479,  34.6663,2,    101.0,2,  34.6658,2,   100.62,2,    27.70,3,    29.42,2,     0.00,2,    2.030,3, -999.000,9, -999.000,9,   -999.0,9,   -999.0,9,-999.0000,9,  -999.00, -999.000,9,  -999.00,9,  -999.00,9,   9.2970,2,  26.8087,2,   9.3492,2
49UP20180806_2,   P13,    85,  1,     22,     831,3,20180907,1435,1609,  2.4977, 165.0050, 4123,    503.5,      500,   8.7563,  34.6157,2,    110.7,2,  34.6158,2,   110.81,6,    31.49,3,    29.36,6,     0.00,6,    2.040,3, -999.000,9, -999.000,9,   -999.0,9,   -999.0,9,-999.0000,9,  -999.00, -999.000,9,  -999.00,9,  -999.00,9,   8.7018,2,  26.8645,2,   8.7572,2
49UP20180806_2,   P13,    85,  1,     21,     830,2,20180907,1435,1606,  2.4977, 165.0050, 4123,    605.9,      602,   7.3198,  34.5653,2,     77.6,2,  34.5644,6,    77.46,2,    45.19,3,    35.24,2,     0.00,2,    2.490,3, -999.000,9, -999.000,9,   -999.0,9,   -999.0,9,-999.0000,9,  -999.00, -999.000,9,  -999.00,9,  -999.00,9,   7.2603,2,  27.0399,2,   7.3205,2
49UP20180806_2,   P13,    85,  1,     20,     829,2,20180907,1435,1603,  2.4977, 165.0050, 4123,    705.1,      700,   6.4594,  34.5444,2,     82.7,2,  34.5444,2,    82.45,2,    53.21,3,    36.54,2,     0.00,2,    2.580,3, -999.000,9, -999.000,9,   -999.0,9,   -999.0,9,-999.0000,9,  -999.00, -999.000,9,  -999.00,9,  -999.00,9,   6.3943,2,  27.1416,2,   6.4587,2
49UP20180806_2,   P13,    85,  1,     19,     828,2,20180907,1435,1600,  2.4977, 165.0050, 4123,    806.3,      800,   5.5565,  34.5365,2,     91.0,2,  34.5372,2,    90.30,2,    65.56,3,    37.15,2,     0.00,2,    2.630,3, -999.000,9, -999.000,9,   -999.0,9,   -999.0,9,-999.0000,9,  -999.00, -999.000,9,  -999.00,9,  -999.00,9,   5.4870,2,  27.2501,2,   5.5564,2
49UP20180806_2,   P13,    85,  1,     18,     660,2,20180907,1435,1557,  2.4977, 165.0050, 4123,    908.3,      901,   4.9741,  34.5432,2,     95.5,2,  34.5421,2,    95.36,2,    76.43,3,    37.38,2,     0.00,2,    2.650,3, -999.000,9, -999.000,9,   -999.0,9,   -999.0,9,-999.0000,9,  -999.00, -999.000,9,  -999.00,9,  -999.00,9,   4.8992,2,  27.3247,2,   4.9745,2
49UP20180806_2,   P13,    85,  1,     17,     826,2,20180907,1435,1554,  2.4977, 165.0050, 4123,   1008.3,     1000,   4.4667,  34.5544,2,     93.9,2,  34.5547,2,    93.61,2,    87.09,3,    38.05,2,     0.00,2,    2.700,3, -999.000,9, -999.000,9,   -999.0,9,   -999.0,9,-999.0000,9,  -999.00, -999.000,9,  -999.00,9,  -999.00,9,   4.3867,2,  27.3907,2,   4.4673,2
49UP20180806_2,   P13,    85,  1,     16,     825,2,20180907,1435,1549,  2.4977, 165.0050, 4123,   1211.7,     1202,   3.8392,  34.5725,2,     87.2,2,  34.5720,2,    87.65,2,   102.02,3,    39.40,2,     0.00,2,    2.810,3, -999.000,9, -999.000,9,   -999.0,9,   -999.0,9,-999.0000,9,  -999.00, -999.000,9,  -999.00,9,  -999.00,9,   3.7469,2,  27.4720,2,   3.8392,2
49UP20180806_2,   P13,    85,  1,     15,     824,2,20180907,1435,1545,  2.4977, 165.0050, 4123,   1413.6,     1401,   3.3773,  34.5873,2,     95.0,2,  34.5880,2,    95.05,2,   111.64,3,    39.00,2,     0.00,2,    2.770,3, -999.000,9, -999.000,9,   -999.0,9,   -999.0,9,-999.0000,9,  -999.00, -999.000,9,  -999.00,9,  -999.00,9,   3.2725,2,  27.5302,2,   3.3776,2
49UP20180806_2,   P13,    85,  1,     14,     823,2,20180907,1435,1540,  2.4977, 165.0050, 4123,   1615.6,     1601,   2.8631,  34.6069,2,    100.2,2,  34.6068,2,   100.14,6,   123.63,3,    39.04,6,     0.00,6,    2.760,3, -999.000,9, -999.000,9,   -999.0,9,   -999.0,9,-999.0000,9,  -999.00, -999.000,9,  -999.00,9,  -999.00,9,   2.7471,2,  27.5941,2,   2.8630,2
49UP20180806_2,   P13,    85,  1,     13,     822,2,20180907,1435,1531,  2.4977, 165.0050, 4123,   1820.3,     1802,   2.5005,  34.6233,2,    106.5,2,  34.6234,6,   106.25,2,   131.84,3,    38.79,2,     0.00,2,    2.730,3, -999.000,9, -999.000,9,   -999.0,9,   -999.0,9,-999.0000,9,  -999.00, -999.000,9,  -999.00,9,  -999.00,9,   2.3719,2,  27.6396,2,   2.5003,2
49UP20180806_2,   P13,    85,  1,     12,     821,2,20180907,1435,1526,  2.4977, 165.0050, 4123,   2022.4,     2002,   2.2181,  34.6378,2,    112.7,2,  34.6375,6,   112.70,2,   137.61,3,    38.41,2,     0.00,2,    2.690,3, -999.000,9, -999.000,9,   -999.0,9,   -999.0,9,-999.0000,9,  -999.00, -999.000,9,  -999.00,9,  -999.00,9,   2.0764,2,  27.6754,2,   2.2182,2
49UP20180806_2,   P13,    85,  1,     11,     820,2,20180907,1435,1522,  2.4977, 165.0050, 4123,   2224.9,     2201,   2.0790,  34.6454,2,    118.7,2,  34.6455,2,   118.93,2,   139.77,3,    37.97,2,     0.00,2,    2.650,3, -999.000,9, -999.000,9,   -999.0,9,   -999.0,9,-999.0000,9,  -999.00, -999.000,9,  -999.00,9,  -999.00,9,   1.9219,2,  27.6937,2,   2.0791,2
49UP20180806_2,   P13,    85,  1,     10,     819,2,20180907,1435,1521,  2.4977, 165.0050, 4123,   2225.1,     2201,   2.0787,  34.6454,2,    118.6,2,  34.6457,2,   118.87,2,   140.67,3,    38.02,2,     0.00,2,    2.660,3, -999.000,9, -999.000,9,   -999.0,9,   -999.0,9,-999.0000,9,  -999.00, -999.000,9,  -999.00,9,  -999.00,9,   1.9217,2,  27.6937,2,   2.0788,2
49UP20180806_2,   P13,    85,  1,      9,     818,2,20180907,1435,1516,  2.4977, 165.0050, 4123,   2429.2,     2402,   1.9553,  34.6538,2,    119.0,2,  34.6540,2,   118.58,6,   145.79,3,    38.06,6,     0.00,6,    2.660,3, -999.000,9, -999.000,9,   -999.0,9,   -999.0,9,-999.0000,9,  -999.00, -999.000,9,  -999.00,9,  -999.00,9,   1.7823,2,  27.7112,2,   1.9553,2
49UP20180806_2,   P13,    85,  1,      8,     817,2,20180907,1435,1511,  2.4977, 165.0050, 4123,   2631.2,     2600,   1.8372,  34.6605,2,    123.5,2,  34.6611,2,   123.11,2,   145.93,3,    37.81,2,     0.00,2,    2.620,3, -999.000,9, -999.000,9,   -999.0,9,   -999.0,9,-999.0000,9,  -999.00, -999.000,9,  -999.00,9,  -999.00,9,   1.6480,2,  27.7268,2,   1.8372,2
49UP20180806_2,   P13,    85,  1,      7,     816,2,20180907,1435,1506,  2.4977, 165.0050, 4123,   2834.7,     2800,   1.7339,  34.6660,2,    129.9,2,  34.6658,2,   129.26,2,   145.50,3,    37.47,2,     0.00,2,    2.590,3, -999.000,9, -999.000,9,   -999.0,9,   -999.0,9,-999.0000,9,  -999.00, -999.000,9,  -999.00,9,  -999.00,9,   1.5277,2,  27.7401,2,   1.7339,2
49UP20180806_2,   P13,    85,  1,      6,     815,2,20180907,1435,1502,  2.4977, 165.0050, 4123,   3037.4,     2999,   1.6470,  34.6708,2,    136.6,2,  34.6693,4,   136.17,2,   145.41,3,    36.95,2,     0.00,2,    2.550,3, -999.000,9, -999.000,9,   -999.0,9,   -999.0,9,-999.0000,9,  -999.00, -999.000,9,  -999.00,9,  -999.00,9,   1.4234,2,  27.7515,2,   1.6470,2
49UP20180806_2,   P13,    85,  1,      5,     814,2,20180907,1435,1456,  2.4977, 165.0050, 4123,   3294.0,     3251,   1.5795,  34.6753,2,    143.6,2,  34.6759,2,   143.34,2,   144.22,3,    36.43,2,     0.00,2,    2.520,3, -999.000,9, -999.000,9,   -999.0,9,   -999.0,9,-999.0000,9,  -999.00, -999.000,9,  -999.00,9,  -999.00,9,   1.3322,2,  27.7616,2,   1.5793,2
49UP20180806_2,   P13,    85,  1,      4,     813,2,20180907,1435,1450,  2.4977, 165.0050, 4123,   3550.6,     3502,   1.5450,  34.6790,2,    148.0,2,  34.6791,2,   147.84,2,   143.88,3,    36.19,2,     0.00,2,    2.500,3, -999.000,9, -999.000,9,   -999.0,9,   -999.0,9,-999.0000,9,  -999.00, -999.000,9,  -999.00,9,  -999.00,9,   1.2726,2,  27.7689,2,   1.5449,2
49UP20180806_2,   P13,    85,  1,      3,     812,2,20180907,1435,1445,  2.4977, 165.0050, 4123,   3805.5,     3751,   1.4835,  34.6849,2,    155.5,2,  34.6847,6,   155.38,2,   141.80,3,    35.68,2,     0.00,2,    2.460,3, -999.000,9, -999.000,9,   -999.0,9,   -999.0,9,-999.0000,9,  -999.00, -999.000,9,  -999.00,9,  -999.00,9,   1.1860,2,  27.7796,2,   1.4834,2
49UP20180806_2,   P13,    85,  1,      2,     811,2,20180907,1435,1439,  2.4977, 165.0050, 4123,   4061.2,     4001,   1.4418,  34.6897,2,    163.5,2,  34.6897,2,   163.44,2,   137.97,3,    35.13,2,     0.00,2,    2.410,3, -999.000,9, -999.000,9,   -999.0,9,   -999.0,9,-999.0000,9,  -999.00, -999.000,9,  -999.00,9,  -999.00,9,   1.1178,2,  27.7881,2,   1.4417,2
49UP20180806_2,   P13,    85,  1,      1,     810,2,20180907,1435,1435,  2.4977, 165.0050, 4123,   4169.7,     4106,   1.4129,  34.6926,2,    168.7,2,  34.6916,2,   168.07,2,   134.84,3,    34.75,2,     0.00,2,    2.380,3, -999.000,9, -999.000,9,   -999.0,9,   -999.0,9,-999.0000,9,  -999.00, -999.000,9,  -999.00,9,  -999.00,9,   1.0779,2,  27.7931,2,   1.4130,2