BOTTLE,20191018JMAGEMD
EXPOCODE,SECT_ID,STNNBR,CASTNO,SAMPNO,BTLNBR,BTLNBR_FLAG_U,DATE,TIME,BTL_TIME,LATITUDE,LONGITUDE,DEPTH,CTDPRS,CTDDEP,CTDTMP,CTDSAL,CTDSAL_FLAG_W,CTDOXY,CTDOXY_FLAG_W,SALNTY,SALNTY_FLAG_W,OXYGEN,OXYGEN_FLAG_W,SILCAT,SILCAT_FLAG_W,NO2+NO3,NO2+NO3_FLAG_W,NITRIT,NITRIT_FLAG_W,PHSPHT,PHSPHT_FLAG_W,CFC-11,CFC-11_FLAG_W,CFC-12,CFC-12_FLAG_W,TCARBN,TCARBN_FLAG_W,ALKALI,ALKALI_FLAG_W,PH_TS,PH_TS_FLAG_W,PH_TS_TMP,CFC113,CFC113_FLAG_W,CHLORA,CHLORA_FLAG_W,PPHYTN,PPHYTN_FLAG_W,THETA,THETA_FLAG_W,SIGTHT,SIGTHT_FLAG_W,SBE35,SBE35_FLAG_W
,,,,,,,,UTC,,,,METER,DBAR,METERS,ITS-90,PSS-78,,UMOL/KG,,PSS78,,UMOL/KG,,UMOL/KG,,UMOL/KG,,UMOL/KG,,UMOL/KG,,PMOL/KG,,PMOL/KG,,UMOL/KG,,UMOL/KG,,,,ITS-90,PMOL/KG,,UG/KG,,UG/KG,,ITS-90,,KG/M3,,ITS-90,
49UP20180806_1,   P13,    65,  1,      0,      -9,0,20180823,0751,0924, 11.9880, 164.4972, 4634,      0.0,        0,  29.6868,  33.7664,2,    195.2,2,  33.7645,2,   194.93,2,     1.12,3,     0.00,2,     0.00,2,    0.080,3, -999.000,9, -999.000,9,   1900.9,2,   2218.1,2,   8.1122,2,    25.00, -999.000,9,     0.04,2,     0.01,2,  29.6862,2,  20.9080,2,-999.0000,9
49UP20180806_1,   P13,    65,  1,     36,     845,2,20180823,0751,1004, 11.9880, 164.4972, 4634,     12.1,       12,  29.6996,  33.7664,2,    195.1,2,  33.7661,2,   194.82,2,     1.17,3,     0.00,2,     0.00,2,    0.060,3,    1.459,2,    0.844,2,   1900.0,2,   2219.7,2,   8.1136,2,    25.00,    0.130,2,     0.04,2,     0.01,2,  29.6966,2,  20.9045,2,  29.6998,2
49UP20180806_1,   P13,    65,  1,     35,     844,2,20180823,0751,1002, 11.9880, 164.4972, 4634,     26.8,       27,  29.6734,  33.7875,2,    195.2,2,  33.7851,2,   195.27,2,     1.09,3,     0.00,2,     0.00,2,    0.060,3, -999.000,9, -999.000,9,   1900.0,2,   2219.7,2,   8.1152,2,    25.00, -999.000,9,     0.04,2,     0.01,2,  29.6668,2,  20.9304,2,  29.6743,2
49UP20180806_1,   P13,    65,  1,     34,     843,2,20180823,0751,0959, 11.9880, 164.4972, 4634,     51.7,       51,  28.8040,  34.1568,2,    203.3,2,  34.1558,2,   203.55,2,     1.17,3,     0.00,2,     0.00,2,    0.070,3,    1.565,2,    0.897,2,   1925.8,2,   2247.1,2,   8.1067,2,    25.00,    0.132,2,     0.06,2,     0.02,2,  28.7916,2,  21.5004,2,  28.8024,2
49UP20180806_1,   P13,    65,  1,     33,     842,2,20180823,0751,0958, 11.9880, 164.4972, 4634,     76.8,       76,  26.2905,  34.7372,2,    207.6,2,  34.7183,4,   207.05,2,     1.43,3,     0.00,2,     0.00,2,    0.100,3, -999.000,9, -999.000,9,   1980.2,2,   2288.1,2,   8.0682,2,    25.00, -999.000,9,     0.09,2,     0.05,2,  26.2733,2,  22.7497,2,  26.3547,2
49UP20180806_1,   P13,    65,  1,     32,     841,2,20180823,0751,0956, 11.9880, 164.4972, 4634,    102.9,      102,  22.8511,  34.8826,2,    190.6,2,  34.8837,2,   191.42,2,     2.41,3,     0.02,2,     0.01,2,    0.210,3,    1.980,2,    1.111,2,   2038.9,2,   2304.2,2,   7.9908,2,    25.00,    0.117,2,     0.21,2,     0.23,2,  22.8302,2,  23.8934,2,  22.8608,2
49UP20180806_1,   P13,    65,  1,     24,     833,4,20180823,0751,0954, 11.9880, 164.4972, 4634,    127.3,      127,  18.9269,  34.7490,2,    168.5,2,-999.0000,9,  -999.00,9,  -999.00,9,  -999.00,9,  -999.00,9, -999.000,9, -999.000,9, -999.000,9,   -999.0,9,   -999.0,9,-999.0000,9,  -999.00, -999.000,9,  -999.00,9,  -999.00,9,  18.9043,2,  24.8536,2,  18.9648,2
49UP20180806_1,   P13,    65,  1,     31,     840,2,20180823,0751,0953, 11.9880, 164.4972, 4634,    150.7,      150,  15.5876,  34.5195,2,    163.9,2,  34.5234,6,   163.18,6,     8.95,3,     9.86,6,     0.01,6,    0.810,3,    2.513,2,    1.361,2,   2102.6,2,   2279.5,2,   7.8139,2,    25.00,    0.029,2,     0.05,2,     0.14,2,  15.5643,2,  25.4765,2,  15.5811,2
49UP20180806_1,   P13,    65,  1,     30,     839,2,20180823,0751,0951, 11.9880, 164.4972, 4634,    202.9,      202,  11.1876,  34.3006,2,    129.7,2,  34.3027,2,   128.43,2,    23.11,3,    20.54,2,     0.00,2,    1.570,3,    2.472,2,    1.259,2,   2166.6,2,   2274.5,2,   7.6565,2,    25.00,    0.048,2,     0.00,2,     0.02,2,  11.1625,2,  26.2015,2,  11.1859,2
49UP20180806_1,   P13,    65,  1,     29,     838,2,20180823,0751,0949, 11.9880, 164.4972, 4634,    253.6,      252,   9.6713,  34.3910,2,     68.3,2,  34.3761,4,    71.24,2,    34.80,3,    28.91,2,     0.00,2,    2.190,3,    1.590,2,    0.756,2,   2226.9,2,   2288.7,2,   7.5216,2,    25.00,    0.027,2,  -999.00,9,  -999.00,9,   9.6426,2,  26.5365,2,   9.6698,2
49UP20180806_1,   P13,    65,  1,     28,     837,2,20180823,0751,0947, 11.9880, 164.4972, 4634,    283.7,      282,   9.2865,  34.4836,2,     43.8,2,  34.4813,2,    43.36,2,    38.65,3,    32.64,2,     0.00,2,    2.430,3,    0.922,2,    0.424,2,   2248.5,2,   2299.0,2,   7.4724,2,    25.00,    0.010,2,  -999.00,9,  -999.00,9,   9.2551,2,  26.6726,2,   9.2866,2
49UP20180806_1,   P13,    65,  1,     27,     661,2,20180823,0751,0945, 11.9880, 164.4972, 4634,    323.6,      321,   8.7288,  34.5227,2,     50.9,2,  34.5202,2,    49.42,2,    41.53,3,    33.78,2,     0.00,2,    2.450,3, -999.000,9, -999.000,9,   2253.6,2,   2307.1,2,   7.4829,2,    25.00, -999.000,9,  -999.00,9,  -999.00,9,   8.6943,2,  26.7928,2,   8.7300,2
49UP20180806_1,   P13,    65,  1,     26,     835,2,20180823,0751,0943, 11.9880, 164.4972, 4634,    372.7,      370,   8.1199,  34.5308,2,     53.3,2,  34.5302,2,    52.79,2,    45.79,3,    35.08,2,     0.00,2,    2.510,3,    0.432,2,    0.197,2,   2264.3,2,   2312.2,2,   7.4790,2,    25.00,    0.000,2,  -999.00,9,  -999.00,9,   8.0817,2,  26.8931,2,   8.1216,2
49UP20180806_1,   P13,    65,  1,     25,     834,2,20180823,0751,0941, 11.9880, 164.4972, 4634,    420.7,      418,   7.5536,  34.5265,2,     56.4,2,  34.5262,2,    55.65,2,    50.47,3,    35.92,2,     0.00,2,    2.560,3, -999.000,9, -999.000,9,   2271.7,2,   2317.4,6,   7.4791,2,    25.00, -999.000,9,  -999.00,9,  -999.00,9,   7.5121,2,  26.9735,2,   7.5539,2
49UP20180806_1,   P13,    65,  1,     23,     832,2,20180823,0751,0939, 11.9880, 164.4972, 4634,    471.0,      468,   7.1081,  34.5212,2,     57.0,2,  34.5206,2,    56.64,2,    54.90,3,    36.68,2,     0.00,2,    2.640,3,    0.242,2,    0.104,2,   2274.1,2,   2324.3,2,   7.4763,6,    25.00,    0.008,2,  -999.00,9,  -999.00,9,   7.0631,2,  27.0329,2,   7.1071,2
49UP20180806_1,   P13,    65,  1,     22,     831,2,20180823,0751,0936, 11.9880, 164.4972, 4634,    574.9,      571,   6.4526,  34.5183,2,     53.0,2,  34.5180,2,    52.62,6,    63.41,3,    38.34,6,     0.00,6,    2.750,3,    0.125,6,    0.052,6,   2285.3,2,   2330.0,2,   7.4583,2,    25.00,    0.007,6,  -999.00,9,  -999.00,9,   6.4001,2,  27.1203,2,   6.4524,2
49UP20180806_1,   P13,    65,  1,     21,     830,2,20180823,0751,0932, 11.9880, 164.4972, 4634,    676.5,      672,   5.7730,  34.5264,2,     48.5,2,  34.5268,2,    48.02,2,    73.02,3,    40.25,2,     0.00,2,    2.880,3,    0.051,2,    0.012,2,   2303.0,2,   2340.5,2,   7.4415,2,    25.00,    0.003,2,  -999.00,9,  -999.00,9,   5.7142,2,  27.2143,2,   5.7735,2
49UP20180806_1,   P13,    65,  1,     20,     829,2,20180823,0751,0929, 11.9880, 164.4972, 4634,    779.2,      773,   5.3162,  34.5332,2,     48.3,2,  34.5327,2,    48.23,2,    80.44,3,    41.06,2,     0.00,2,    2.940,3,    0.024,2,    0.007,2,   2318.8,2,   2348.6,2,   7.4359,2,    25.00,    0.001,2,  -999.00,9,  -999.00,9,   5.2506,2,  27.2759,2,   5.3164,2
49UP20180806_1,   P13,    65,  1,     19,     828,2,20180823,0751,0925, 11.9880, 164.4972, 4634,    881.2,      874,   4.7851,  34.5421,2,     55.0,2,  34.5419,2,    54.60,2,    90.05,3,    41.20,2,     0.00,2,    2.950,3,    0.012,2,    0.003,2,   2317.0,2,   2359.0,2,   7.4435,2,    25.00,    0.000,2,  -999.00,9,  -999.00,9,   4.7138,2,  27.3449,2,   4.7857,2
49UP20180806_1,   P13,    65,  1,     18,     660,2,20180823,0751,0922, 11.9880, 164.4972, 4634,    979.3,      971,   4.4786,  34.5494,2,     59.2,2,  34.5494,2,    59.15,2,    95.71,3,    41.18,2,     0.00,2,    2.950,3,    0.006,2,    0.002,2,   2325.5,2,   2366.9,2,   7.4473,2,    25.00,   -0.000,2,  -999.00,9,  -999.00,9,   4.4010,2,  27.3851,2,   4.4795,2
49UP20180806_1,   P13,    65,  1,     17,     826,2,20180823,0751,0918, 11.9880, 164.4972, 4634,   1141.9,     1132,   3.9594,  34.5640,2,     68.4,2,  34.5641,2,    68.16,2,   105.78,3,    40.84,2,     0.00,2,    2.920,3,    0.004,2,    0.001,2,   2334.8,2,   2378.2,2,   7.4620,2,    25.00,    0.002,2,  -999.00,9,  -999.00,9,   3.8720,2,  27.4525,2,   3.9595,2
49UP20180806_1,   P13,    65,  1,     16,     825,2,20180823,0751,0913, 11.9880, 164.4972, 4634,   1344.4,     1332,   3.3785,  34.5804,2,     78.2,2,  34.5820,6,    78.01,2,   118.43,3,    40.46,2,     0.00,2,    2.880,3,    0.002,2,    0.001,2,   2333.9,2,   2388.6,2,   7.4737,2,    25.00,    0.006,2,  -999.00,9,  -999.00,9,   3.2796,2,  27.5241,2,   3.3789,2
49UP20180806_1,   P13,    65,  1,     15,     824,2,20180823,0751,0908, 11.9880, 164.4972, 4634,   1547.3,     1533,   2.8801,  34.5978,2,     85.9,2,  34.5986,2,    85.90,2,   129.04,3,    40.14,2,     0.00,2,    2.850,3,    0.002,2,   -0.000,2,   2342.6,2,   2401.7,2,   7.4853,2,    25.00,   -0.000,2,  -999.00,9,  -999.00,9,   2.7696,2,  27.5849,2,   2.8803,2
49UP20180806_1,   P13,    65,  1,     14,     823,2,20180823,0751,0901, 11.9880, 164.4972, 4634,   1748.1,     1731,   2.5196,  34.6143,2,     94.1,2,  34.6150,2,    93.95,2,   137.08,3,    39.75,2,     0.00,2,    2.800,3,    0.002,2,   -0.000,2,   2359.2,3,   2410.4,2,   7.5002,2,    25.00,    0.000,2,  -999.00,9,  -999.00,9,   2.3969,2,  27.6302,2,   2.5199,2
49UP20180806_1,   P13,    65,  1,     13,     822,2,20180823,0751,0856, 11.9880, 164.4972, 4634,   1948.7,     1929,   2.2467,  34.6295,2,    102.4,2,  34.6303,2,   102.40,6,   142.48,3,    39.26,6,     0.00,6,    2.760,3,   -0.000,2,    0.000,2,   2348.8,2,   2418.3,2,   7.5163,2,    25.00,    0.000,2,  -999.00,9,  -999.00,9,   2.1109,2,  27.6660,2,   2.2467,2
49UP20180806_1,   P13,    65,  1,     12,     821,2,20180823,0751,0852, 11.9880, 164.4972, 4634,   2150.3,     2127,   2.0712,  34.6396,2,    108.7,2,  34.6410,2,   108.77,2,   145.90,3,    38.86,2,     0.00,2,    2.720,3,    0.001,2,    0.000,2,   2345.1,6,   2420.8,6,   7.5270,2,    25.00,   -0.000,2,  -999.00,9,  -999.00,9,   1.9208,2,  27.6892,2,   2.0714,2
49UP20180806_1,   P13,    65,  1,     11,     820,2,20180823,0751,0846, 11.9880, 164.4972, 4634,   2356.3,     2330,   1.9415,  34.6488,2,    114.4,2,  34.6497,2,   113.80,2,   147.76,3,    38.59,2,     0.00,2,    2.690,3,    0.000,6,    0.000,6,   2351.8,2,   2422.9,2,   7.5349,6,    25.00,    0.000,6,  -999.00,9,  -999.00,9,   1.7752,2,  27.7078,2,   1.9416,2
49UP20180806_1,   P13,    65,  1,     10,     819,2,20180823,0751,0841, 11.9880, 164.4972, 4634,   2560.2,     2530,   1.8447,  34.6557,2,    119.6,2,  34.6569,2,   119.31,2,   148.82,3,    38.16,2,     0.00,2,    2.660,3,    0.000,2,    0.000,2,   2350.4,2,   2425.2,2,   7.5439,2,    25.00,    0.000,2,  -999.00,9,  -999.00,9,   1.6618,2,  27.7219,2,   1.8447,2
49UP20180806_1,   P13,    65,  1,      9,     818,2,20180823,0751,0837, 11.9880, 164.4972, 4634,   2764.5,     2731,   1.7405,  34.6629,2,    125.8,2,  34.6633,2,   125.47,2,   150.28,3,    37.80,2,     0.00,2,    2.630,3,    0.000,2,    0.000,2,   2343.6,2,   2425.9,2,   7.5518,2,    25.00,    0.002,2,  -999.00,9,  -999.00,9,   1.5409,2,  27.7366,2,   1.7404,2
49UP20180806_1,   P13,    65,  1,      8,     817,2,20180823,0751,0832, 11.9880, 164.4972, 4634,   2968.5,     2931,   1.6602,  34.6684,2,    131.3,2,  34.6688,2,   130.83,2,   150.75,3,    37.36,2,     0.00,2,    2.600,3,    0.001,2,    0.000,2,   2341.6,2,   2427.2,2,   7.5618,2,    25.00,    0.000,2,  -999.00,9,  -999.00,9,   1.4430,2,  27.7482,2,   1.6602,2
49UP20180806_1,   P13,    65,  1,      7,     816,2,20180823,0751,0826, 11.9880, 164.4972, 4634,   3214.9,     3172,   1.5845,  34.6739,2,    138.4,2,  34.6730,6,   137.27,3,   149.92,3,    37.09,2,     0.00,2,    2.560,3, -999.000,9, -999.000,9,   2341.1,2,   2426.0,2,   7.5698,2,    25.00, -999.000,9,  -999.00,9,  -999.00,9,   1.3450,2,  27.7596,2,   1.5845,2
49UP20180806_1,   P13,    65,  1,      6,     815,2,20180823,0751,0820, 11.9880, 164.4972, 4634,   3471.4,     3423,   1.5301,  34.6785,2,    144.6,2,  34.6785,2,   144.52,2,   148.61,3,    36.53,2,     0.00,2,    2.530,3, -999.000,9, -999.000,9,   2336.3,2,   2423.4,2,   7.5788,2,    25.00, -999.000,9,  -999.00,9,  -999.00,9,   1.2661,2,  27.7688,2,   1.5300,2
49UP20180806_1,   P13,    65,  1,      5,     814,2,20180823,0751,0814, 11.9880, 164.4972, 4634,   3724.8,     3671,   1.4886,  34.6828,2,    151.4,2,  34.6830,2,   151.19,2,   145.98,3,    36.08,2,     0.00,2,    2.490,3, -999.000,9, -999.000,9,   2319.7,2,   2421.6,2,   7.5888,2,    25.00, -999.000,9,  -999.00,9,  -999.00,9,   1.1995,2,  27.7769,2,   1.4886,2
49UP20180806_1,   P13,    65,  1,      4,     813,2,20180823,0751,0807, 11.9880, 164.4972, 4634,   3990.3,     3931,   1.4485,  34.6876,2,    159.6,2,  34.6876,2,   159.30,6,   141.63,3,    35.45,6,     0.00,6,    2.450,3,    0.001,2,    0.000,2,   2320.1,2,   2418.3,2,   7.5978,2,    25.00,    0.000,2,  -999.00,9,  -999.00,9,   1.1321,2,  27.7854,2,   1.4488,2
49UP20180806_1,   P13,    65,  1,      3,     812,2,20180823,0751,0802, 11.9880, 164.4972, 4634,   4232.5,     4167,   1.4156,  34.6917,2,    167.6,2,  34.6922,6,   166.89,2,   137.46,3,    34.90,2,     0.00,2,    2.400,3, -999.000,9, -999.000,9,   2305.2,2,   2411.5,2,   7.6076,2,    25.00, -999.000,9,  -999.00,9,  -999.00,9,   1.0734,2,  27.7927,2,   1.4155,2
49UP20180806_1,   P13,    65,  1,      2,     811,2,20180823,0751,0757, 11.9880, 164.4972, 4634,   4491.9,     4420,   1.3883,  34.6957,2,    175.1,2,  34.6961,2,   174.83,2,   134.57,3,    34.36,2,     0.00,2,    2.370,3, -999.000,9, -999.000,9,   2300.6,2,   2404.9,2,   7.6134,6,    25.00, -999.000,9,  -999.00,9,  -999.00,9,   1.0177,2,  27.7996,2,   1.3882,2
49UP20180806_1,   P13,    65,  1,      1,     810,2,20180823,0751,0752, 11.9880, 164.4972, 4634,   4703.1,     4625,   1.3964,  34.6970,2,    177.4,2,  34.6970,2,   176.74,2,   134.43,3,    34.19,2,     0.00,2,    2.370,3,    0.020,2,    0.003,2,   2297.7,6,   2403.3,6,   7.6150,2,    25.00,    0.000,2,  -999.00,9,  -999.00,9,   1.0010,2,  27.8018,2,   1.3964,2