BOTTLE,20191018JMAGEMD
EXPOCODE,SECT_ID,STNNBR,CASTNO,SAMPNO,BTLNBR,BTLNBR_FLAG_U,DATE,TIME,BTL_TIME,LATITUDE,LONGITUDE,DEPTH,CTDPRS,CTDDEP,CTDTMP,CTDSAL,CTDSAL_FLAG_W,CTDOXY,CTDOXY_FLAG_W,SALNTY,SALNTY_FLAG_W,OXYGEN,OXYGEN_FLAG_W,SILCAT,SILCAT_FLAG_W,NO2+NO3,NO2+NO3_FLAG_W,NITRIT,NITRIT_FLAG_W,PHSPHT,PHSPHT_FLAG_W,CFC-11,CFC-11_FLAG_W,CFC-12,CFC-12_FLAG_W,TCARBN,TCARBN_FLAG_W,ALKALI,ALKALI_FLAG_W,PH_TS,PH_TS_FLAG_W,PH_TS_TMP,CFC113,CFC113_FLAG_W,CHLORA,CHLORA_FLAG_W,PPHYTN,PPHYTN_FLAG_W,THETA,THETA_FLAG_W,SIGTHT,SIGTHT_FLAG_W,SBE35,SBE35_FLAG_W
,,,,,,,,UTC,,,,METER,DBAR,METERS,ITS-90,PSS-78,,UMOL/KG,,PSS78,,UMOL/KG,,UMOL/KG,,UMOL/KG,,UMOL/KG,,UMOL/KG,,PMOL/KG,,PMOL/KG,,UMOL/KG,,UMOL/KG,,,,ITS-90,PMOL/KG,,UG/KG,,UG/KG,,ITS-90,,KG/M3,,ITS-90,
49UP20180614_1,   P13,    16,  1,      0,      -9,0,20180625,1911,2108, 47.9882, 161.6657, 5655,      0.0,        0,   5.2770,  32.8640,2,    324.9,2,  32.8531,2,   323.63,2,    31.02,2,    18.74,2,     0.20,2,    1.610,2, -999.000,9, -999.000,9,   2086.5,2,   2228.6,2,   7.7469,2,    25.00, -999.000,9,     0.58,2,     0.18,2,   5.2768,2,  25.9508,2,-999.0000,9
49UP20180614_1,   P13,    16,  1,     36,     845,2,20180625,1911,2137, 47.9882, 161.6657, 5655,     10.9,       11,   5.2703,  32.8652,2,    324.7,2,  32.8660,2,   323.94,2,    31.02,2,    18.74,2,     0.20,2,    1.600,2,    4.292,2,    2.402,2,   2092.1,2,   2228.7,2,   7.7449,2,    25.00,    0.403,2,     0.54,2,     0.16,2,   5.2695,2,  25.9526,2,   5.2717,2
49UP20180614_1,   P13,    16,  1,     35,     844,2,20180625,1911,2132, 47.9882, 161.6657, 5655,     51.0,       51,   4.2576,  32.9050,2,    328.0,2,  32.9079,2,   327.73,2,    35.35,2,    20.63,2,     0.24,2,    1.730,2,    4.492,2,    2.512,2,   2102.3,2,   2230.0,2,   7.7144,2,    25.00,    0.423,2,     0.54,2,     0.30,2,   4.2541,2,  26.0942,2,   4.2487,2
49UP20180614_1,   P13,    16,  1,     34,     843,2,20180625,1911,2131, 47.9882, 161.6657, 5655,     76.4,       76,   3.1509,  32.9547,2,    326.2,2,  32.9563,2,   326.50,2,    39.37,2,    22.89,2,     0.38,2,    1.860,2, -999.000,9, -999.000,9,   2117.2,2,   2232.1,2,   7.6743,2,    25.00, -999.000,9,     0.17,2,     0.19,2,   3.1464,2,  26.2397,2,   3.1501,2
49UP20180614_1,   P13,    16,  1,     33,     842,2,20180625,1911,2129, 47.9882, 161.6657, 5655,    100.8,      100,   2.5107,  32.9957,2,    324.8,2,  32.9960,2,   326.37,2,    41.17,2,    24.62,2,     0.53,2,    1.920,2,    4.734,2,    2.630,2,   2125.1,2,   2231.3,2,   7.6509,2,    25.00,    0.444,2,     0.08,2,     0.11,2,   2.5053,2,  26.3268,2,   2.5099,2
49UP20180614_1,   P13,    16,  1,     32,     841,2,20180625,1911,2128, 47.9882, 161.6657, 5655,    127.3,      126,   2.1647,  33.0813,2,    315.5,2,  33.0825,2,   316.26,6,    44.83,6,    26.20,6,     0.07,6,    2.020,6, -999.000,9, -999.000,9,   2147.7,2,   2238.7,2,   7.6208,2,    25.00, -999.000,9,     0.03,2,     0.07,2,   2.1581,2,  26.4226,2,   2.1645,2
49UP20180614_1,   P13,    16,  1,     31,     840,2,20180625,1911,2126, 47.9882, 161.6657, 5655,    152.8,      151,   2.6348,  33.2791,2,    248.3,2,  33.2770,2,   249.93,2,    54.90,2,    29.47,2,     0.01,2,    2.220,2,    4.060,2,    2.259,2,   2183.5,2,   2249.3,2,   7.5376,2,    25.00,    0.343,2,     0.01,2,     0.06,2,   2.6263,2,  26.5434,2,   2.6328,2
49UP20180614_1,   P13,    16,  1,     30,     839,2,20180625,1911,2124, 47.9882, 161.6657, 5655,    205.5,      204,   3.1074,  33.6409,2,    113.3,2,  33.6400,2,   113.28,2,    83.19,2,    38.19,2,     0.00,2,    2.780,2,    2.835,2,    1.538,2,   2275.3,2,   2279.7,2,   7.3400,2,    25.00,    0.197,2,     0.00,2,     0.05,2,   3.0949,2,  26.7917,2,   3.1073,2
49UP20180614_1,   P13,    16,  1,     29,     838,2,20180625,1911,2122, 47.9882, 161.6657, 5655,    252.8,      251,   3.3053,  33.7820,2,     67.9,2,  33.7821,2,    68.42,2,    94.42,2,    41.45,2,     0.00,2,    2.980,2,    2.335,2,    1.216,2,   2308.6,6,   2295.9,6,   7.2767,2,    25.00,    0.161,2,  -999.00,9,  -999.00,9,   3.2893,2,  26.8864,2,   3.3058,2
49UP20180614_1,   P13,    16,  1,     28,     837,3,20180625,1911,2120, 47.9882, 161.6657, 5655,    335.7,      333,   3.5987,  33.9742,2,     26.3,2,  33.9718,2,    26.33,2,   106.49,2,    44.16,2,     0.00,2,    3.120,2,    1.615,2,    0.808,2,   2343.2,2,   2313.1,2,   7.2424,6,    25.00,    0.111,2,  -999.00,9,  -999.00,9,   3.5764,2,  27.0123,2,   3.5984,2
49UP20180614_1,   P13,    16,  1,     27,     661,2,20180625,1911,2117, 47.9882, 161.6657, 5655,    436.0,      432,   3.5655,  34.1130,2,     18.8,2,  34.1119,2,    18.68,2,   118.28,2,    43.96,2,     0.00,2,    3.110,2,    1.035,2,    0.486,2,   2352.8,2,   2331.2,2,   7.2616,2,    25.00,    0.066,2,  -999.00,9,  -999.00,9,   3.5362,2,  27.1268,2,   3.5644,2
49UP20180614_1,   P13,    16,  1,     26,     835,2,20180625,1911,2114, 47.9882, 161.6657, 5655,    537.6,      532,   3.4277,  34.1964,2,     17.3,2,  34.1907,4,    18.00,2,   126.51,2,    43.93,2,     0.00,2,    3.110,2,    0.695,2,    0.327,2,   2364.1,2,   2346.2,2,   7.2766,2,    25.00,    0.038,2,  -999.00,9,  -999.00,9,   3.3916,2,  27.2072,2,   3.4287,2
49UP20180614_1,   P13,    16,  1,     25,     834,2,20180625,1911,2111, 47.9882, 161.6657, 5655,    637.6,      631,   3.2342,  34.2633,2,     15.9,2,  34.2632,2,    15.50,2,   135.39,2,    44.03,2,     0.00,2,    3.110,2,    0.430,2,    0.216,2,   2368.5,2,   2355.1,2,   7.2830,2,    25.00,    0.019,2,  -999.00,9,  -999.00,9,   3.1918,2,  27.2793,2,   3.2341,2
49UP20180614_1,   P13,    16,  1,     24,     833,2,20180625,1911,2108, 47.9882, 161.6657, 5655,    739.1,      732,   3.0720,  34.3127,2,     17.3,2,  34.3125,2,    16.80,6,   141.45,6,    43.89,6,     0.00,6,    3.110,6,    0.308,2,    0.146,2,   2371.8,2,   2365.8,2,   7.2900,2,    25.00,    0.011,2,  -999.00,9,  -999.00,9,   3.0232,2,  27.3343,2,   3.0720,2
49UP20180614_1,   P13,    16,  1,     23,     832,2,20180625,1911,2105, 47.9882, 161.6657, 5655,    840.0,      831,   2.8958,  34.3532,2,     22.0,2,  34.3529,2,    21.49,2,   146.82,2,    43.47,2,     0.00,2,    3.090,2,    0.254,2,    0.122,2,   2376.3,2,   2374.1,2,   7.3058,2,    25.00,    0.010,2,  -999.00,9,  -999.00,9,   2.8407,2,  27.3831,2,   2.8959,2
49UP20180614_1,   P13,    16,  1,     22,     831,2,20180625,1911,2102, 47.9882, 161.6657, 5655,    941.8,      932,   2.7744,  34.3877,2,     19.9,2,  34.3864,2,    19.74,2,   151.80,2,    43.82,2,     0.00,2,    3.110,2,    0.165,6,    0.080,6,   2381.3,2,   2380.5,2,   7.3074,2,    25.00,    0.003,6,  -999.00,9,  -999.00,9,   2.7127,2,  27.4220,2,   2.7744,2
49UP20180614_1,   P13,    16,  1,     21,     830,2,20180625,1911,2057, 47.9882, 161.6657, 5655,   1085.1,     1073,   2.5824,  34.4317,2,     21.5,2,  34.4310,6,    20.93,2,   158.69,2,    43.88,2,     0.00,2,    3.100,2,    0.101,2,    0.053,2,   2387.9,2,   2387.9,2,   7.3181,2,    25.00,    0.000,2,  -999.00,9,  -999.00,9,   2.5117,2,  27.4745,2,   2.5826,2
49UP20180614_1,   P13,    16,  1,     20,     829,2,20180625,1911,2052, 47.9882, 161.6657, 5655,   1286.2,     1271,   2.3446,  34.4849,2,     28.8,2,  34.4855,2,    28.44,2,   166.14,2,    43.37,2,     0.00,2,    3.070,2,    0.050,2,    0.018,2,   2387.7,2,   2395.1,2,   7.3375,2,    25.00,    0.000,2,  -999.00,9,  -999.00,9,   2.2610,2,  27.5380,2,   2.3445,2
49UP20180614_1,   P13,    16,  1,     19,     828,2,20180625,1911,2048, 47.9882, 161.6657, 5655,   1490.1,     1472,   2.1523,  34.5296,2,     41.0,2,  34.5300,2,    40.44,6,   170.11,6,    42.69,6,     0.00,6,    3.020,6,    0.027,2,    0.012,2,   2385.4,2,   2403.9,2,   7.3675,2,    25.00,   -0.000,2,  -999.00,9,  -999.00,9,   2.0551,2,  27.5904,2,   2.1524,2
49UP20180614_1,   P13,    16,  1,     18,     827,2,20180625,1911,2041, 47.9882, 161.6657, 5655,   1692.2,     1671,   2.0100,  34.5627,2,     52.4,2,  34.5631,6,    52.69,2,   172.08,2,    41.97,2,     0.00,2,    2.960,2,    5.273,4,    5.282,4,   2388.7,2,   2409.7,2,   7.3890,6,    25.00,    2.059,4,  -999.00,9,  -999.00,9,   1.8987,2,  27.6293,2,   2.0099,2
49UP20180614_1,   P13,    16,  1,     17,     826,2,20180625,1911,2037, 47.9882, 161.6657, 5655,   1895.6,     1871,   1.8935,  34.5887,2,     65.1,2,  34.5897,2,    64.87,2,   172.63,2,    41.29,2,     0.00,2,    2.910,2,   -0.000,2,    0.002,2,   2376.9,6,   2415.3,6,   7.4114,2,    25.00,   -0.000,2,  -999.00,9,  -999.00,9,   1.7674,2,  27.6602,2,   1.8934,2
49UP20180614_1,   P13,    16,  1,     16,     825,2,20180625,1911,2032, 47.9882, 161.6657, 5655,   2098.9,     2071,   1.8037,  34.6088,2,     78.2,2,  34.6095,2,    78.18,2,   171.58,2,    40.41,2,     0.00,2,    2.850,2,    0.006,2,    0.007,2,   2371.6,2,   2415.8,2,   7.4400,2,    25.00,    0.000,2,  -999.00,9,  -999.00,9,   1.6621,2,  27.6843,2,   1.8037,2
49UP20180614_1,   P13,    16,  1,     15,     824,2,20180625,1911,2027, 47.9882, 161.6657, 5655,   2300.6,     2269,   1.7233,  34.6255,2,     90.3,2,  34.6258,2,    90.72,2,   170.39,2,    39.63,2,     0.00,2,    2.790,2,    0.000,2,    0.002,2,   2364.4,2,   2418.4,2,   7.4672,2,    25.00,    0.000,2,  -999.00,9,  -999.00,9,   1.5658,2,  27.7048,2,   1.7232,2
49UP20180614_1,   P13,    16,  1,     14,     823,2,20180625,1911,2023, 47.9882, 161.6657, 5655,   2506.1,     2470,   1.6566,  34.6390,2,    102.4,2,  34.6399,2,   102.66,2,   167.58,2,    38.92,2,     0.00,2,    2.730,2,    0.000,2,    0.003,2,   2364.4,2,   2420.2,2,   7.4914,2,    25.00,    0.001,2,  -999.00,9,  -999.00,9,   1.4823,2,  27.7217,2,   1.6564,2
49UP20180614_1,   P13,    16,  1,     13,     822,2,20180625,1911,2018, 47.9882, 161.6657, 5655,   2709.8,     2670,   1.6020,  34.6498,2,    113.0,2,  34.6507,2,   113.13,2,   164.36,2,    38.32,2,     0.00,2,    2.680,2,    0.000,2,    0.005,2,   2348.9,2,   2420.2,2,   7.5089,2,    25.00,    0.000,2,  -999.00,9,  -999.00,9,   1.4102,2,  27.7356,2,   1.6019,2
49UP20180614_1,   P13,    16,  1,     12,     821,2,20180625,1911,2014, 47.9882, 161.6657, 5655,   2913.1,     2869,   1.5576,  34.6584,2,    122.2,2,  34.6591,6,   122.09,2,   161.54,2,    37.79,2,     0.00,2,    2.630,2,    0.000,6,    0.000,6,   2343.7,2,   2419.6,2,   7.5236,2,    25.00,    0.000,6,  -999.00,9,  -999.00,9,   1.3479,2,  27.7470,2,   1.5576,2
49UP20180614_1,   P13,    16,  1,     11,     820,2,20180625,1911,2009, 47.9882, 161.6657, 5655,   3128.4,     3079,   1.5250,  34.6648,2,    128.8,2,  34.6652,2,   129.00,2,   160.02,2,    37.26,2,     0.00,2,    2.600,2, -999.000,9, -999.000,9,   2344.3,2,   2420.7,2,   7.5390,6,    25.00, -999.000,9,  -999.00,9,  -999.00,9,   1.2954,2,  27.7558,2,   1.5249,2
49UP20180614_1,   P13,    16,  1,     10,     819,2,20180625,1911,1959, 47.9882, 161.6657, 5655,   3643.0,     3582,   1.4864,  34.6753,2,    141.1,2,  34.6759,2,   141.19,2,   156.35,2,    36.57,2,     0.00,2,    2.530,2, -999.000,9, -999.000,9,   2335.2,6,   2418.8,6,   7.5623,2,    25.00, -999.000,9,  -999.00,9,  -999.00,9,   1.2059,2,  27.7705,2,   1.4864,2
49UP20180614_1,   P13,    16,  1,      9,     818,2,20180625,1911,1953, 47.9882, 161.6657, 5655,   3898.4,     3830,   1.4754,  34.6795,2,    146.2,2,  34.6800,6,   146.31,2,   154.92,2,    36.20,2,     0.00,2,    2.520,2,    0.000,2,    0.002,2,   2333.7,2,   2419.4,2,   7.5674,2,    25.00,    0.003,2,  -999.00,9,  -999.00,9,   1.1682,2,  27.7765,2,   1.4754,2
49UP20180614_1,   P13,    16,  1,      8,     817,2,20180625,1911,1948, 47.9882, 161.6657, 5655,   4155.1,     4080,   1.4777,  34.6823,2,    149.5,2,  34.6825,2,   149.34,2,   154.35,2,    35.92,2,     0.00,2,    2.490,2, -999.000,9, -999.000,9,   2325.8,2,   2418.1,2,   7.5753,2,    25.00, -999.000,9,  -999.00,9,  -999.00,9,   1.1425,2,  27.7805,2,   1.4775,2
49UP20180614_1,   P13,    16,  1,      7,     816,2,20180625,1911,1942, 47.9882, 161.6657, 5655,   4412.4,     4330,   1.4841,  34.6848,2,    153.0,2,  34.6852,2,   152.76,6,   152.86,6,    35.76,6,     0.00,6,    2.480,6, -999.000,9, -999.000,9,   2323.7,2,   2417.9,2,   7.5815,2,    25.00, -999.000,9,  -999.00,9,  -999.00,9,   1.1197,2,  27.7841,2,   1.4840,2
49UP20180614_1,   P13,    16,  1,      6,     815,2,20180625,1911,1937, 47.9882, 161.6657, 5655,   4669.4,     4580,   1.4948,  34.6869,2,    155.5,2,  34.6871,2,   155.32,2,   152.19,2,    35.56,2,     0.00,2,    2.460,2, -999.000,9, -999.000,9,   2324.4,2,   2417.5,2,   7.5839,2,    25.00, -999.000,9,  -999.00,9,  -999.00,9,   1.1003,2,  27.7870,2,   1.4947,2
49UP20180614_1,   P13,    16,  1,      5,     814,2,20180625,1911,1931, 47.9882, 161.6657, 5655,   4927.2,     4830,   1.5144,  34.6883,2,    157.0,2,  34.6887,2,   157.07,2,   152.30,2,    35.51,2,     0.00,2,    2.470,2,    0.000,2,    0.000,2,   2322.3,2,   2417.4,2,   7.5839,2,    25.00,    0.000,2,  -999.00,9,  -999.00,9,   1.0885,2,  27.7890,2,   1.5144,2
49UP20180614_1,   P13,    16,  1,      4,     813,2,20180625,1911,1925, 47.9882, 161.6657, 5655,   5185.3,     5080,   1.5401,  34.6893,2,    157.6,2,  34.6896,2,   158.09,2,   153.21,2,    35.37,2,     0.00,2,    2.440,2, -999.000,9, -999.000,9,   2316.7,2,   2416.8,2,   7.5859,2,    25.00, -999.000,9,  -999.00,9,  -999.00,9,   1.0817,2,  27.7902,2,   1.5401,2
49UP20180614_1,   P13,    16,  1,      3,     812,2,20180625,1911,1920, 47.9882, 161.6657, 5655,   5443.9,     5331,   1.5698,  34.6898,2,    158.2,2,  34.6900,2,   158.22,2,   152.67,2,    35.34,2,     0.00,2,    2.440,2, -999.000,9, -999.000,9,   2323.3,2,   2416.4,2,   7.5910,2,    25.00, -999.000,9,  -999.00,9,  -999.00,9,   1.0779,2,  27.7909,2,   1.5698,2
49UP20180614_1,   P13,    16,  1,      2,     811,2,20180625,1911,1914, 47.9882, 161.6657, 5655,   5702.5,     5581,   1.6008,  34.6901,2,    158.8,2,  34.6905,2,   158.67,2,   152.07,2,    35.39,2,     0.00,2,    2.440,2, -999.000,9, -999.000,9,   2316.8,2,   2416.9,2,   7.5870,2,    25.00, -999.000,9,  -999.00,9,  -999.00,9,   1.0744,2,  27.7914,2,   1.6007,2
49UP20180614_1,   P13,    16,  1,      1,     810,2,20180625,1911,1911, 47.9882, 161.6657, 5655,   5780.9,     5656,   1.6111,  34.6903,2,    158.9,2,  34.6904,2,   158.93,2,   152.13,2,    35.37,2,     0.00,2,    2.440,2,    0.002,2,    0.000,2,   2318.4,2,   2417.2,2,   7.5883,2,    25.00,    0.000,2,  -999.00,9,  -999.00,9,   1.0740,2,  27.7915,2,   1.6110,2