BOTTLE,20191018JMAGEMD
EXPOCODE,SECT_ID,STNNBR,CASTNO,SAMPNO,BTLNBR,BTLNBR_FLAG_U,DATE,TIME,BTL_TIME,LATITUDE,LONGITUDE,DEPTH,CTDPRS,CTDDEP,CTDTMP,CTDSAL,CTDSAL_FLAG_W,CTDOXY,CTDOXY_FLAG_W,SALNTY,SALNTY_FLAG_W,OXYGEN,OXYGEN_FLAG_W,SILCAT,SILCAT_FLAG_W,NO2+NO3,NO2+NO3_FLAG_W,NITRIT,NITRIT_FLAG_W,PHSPHT,PHSPHT_FLAG_W,CFC-11,CFC-11_FLAG_W,CFC-12,CFC-12_FLAG_W,TCARBN,TCARBN_FLAG_W,ALKALI,ALKALI_FLAG_W,PH_TS,PH_TS_FLAG_W,PH_TS_TMP,CFC113,CFC113_FLAG_W,CHLORA,CHLORA_FLAG_W,PPHYTN,PPHYTN_FLAG_W,THETA,THETA_FLAG_W,SIGTHT,SIGTHT_FLAG_W,SBE35,SBE35_FLAG_W
,,,,,,,,UTC,,,,METER,DBAR,METERS,ITS-90,PSS-78,,UMOL/KG,,PSS78,,UMOL/KG,,UMOL/KG,,UMOL/KG,,UMOL/KG,,UMOL/KG,,PMOL/KG,,PMOL/KG,,UMOL/KG,,UMOL/KG,,,,ITS-90,PMOL/KG,,UG/KG,,UG/KG,,ITS-90,,KG/M3,,ITS-90,
49UP20180614_1,   P13,    17,  1,      0,      -9,0,20180626,0646,0831, 48.9945, 163.3382, 5583,      0.0,        0,   5.3818,  32.8767,2,    337.7,2,  32.8713,2,   333.35,2,    31.75,2,    19.05,2,     0.21,2,    1.590,2, -999.000,9, -999.000,9,   2081.5,2,   2226.7,2,   7.7702,2,    25.00, -999.000,9,     1.46,2,     0.37,2,   5.3816,2,  25.9488,2,-999.0000,9
49UP20180614_1,   P13,    17,  1,     36,     845,2,20180626,0646,0902, 48.9945, 163.3382, 5583,     10.8,       11,   5.3776,  32.8764,2,    337.6,2,  32.8782,2,   336.24,2,    31.63,2,    18.97,2,     0.21,2,    1.560,2,    4.293,2,    2.406,2,   2080.3,2,   2228.4,2,   7.7734,2,    25.00,    0.403,2,     1.42,2,     0.36,2,   5.3768,2,  25.9491,2,   5.3774,2
49UP20180614_1,   P13,    17,  1,     35,     844,2,20180626,0646,0859, 48.9945, 163.3382, 5583,     51.8,       51,   3.5896,  32.9546,2,    326.7,2,  32.9572,2,   326.14,2,    40.11,2,    22.80,2,     0.32,2,    1.850,2,    4.581,2,    2.555,2,   2111.5,2,   2229.7,2,   7.6849,2,    25.00,    0.429,2,     0.36,2,     0.31,2,   3.5864,2,  26.1994,2,   3.5894,2
49UP20180614_1,   P13,    17,  1,     34,     843,2,20180626,0646,0858, 48.9945, 163.3382, 5583,     75.9,       75,   2.9213,  32.9765,2,    325.0,2,  32.9763,2,   326.02,2,    40.67,2,    23.78,2,     0.49,2,    1.900,2, -999.000,9, -999.000,9,   2123.9,2,   2229.1,2,   7.6649,2,    25.00, -999.000,9,     0.14,2,     0.18,2,   2.9170,2,  26.2771,2,   2.9157,2
49UP20180614_1,   P13,    17,  1,     33,     842,2,20180626,0646,0856, 48.9945, 163.3382, 5583,    101.2,      100,   2.4765,  33.0268,2,    323.3,2,  33.0253,2,   323.45,6,    42.97,6,    25.47,6,     0.44,6,    1.970,6,    4.649,2,    2.604,2,   2128.6,2,   2231.7,2,   7.6432,2,    25.00,    0.432,2,     0.07,2,     0.12,2,   2.4710,2,  26.3544,2,   2.4758,2
49UP20180614_1,   P13,    17,  1,     32,     841,2,20180626,0646,0855, 48.9945, 163.3382, 5583,    127.4,      126,   2.3671,  33.0696,2,    312.2,2,  33.0984,4,   304.08,2,    46.37,2,    26.85,2,     0.01,2,    2.050,2, -999.000,9, -999.000,9,   2148.4,2,   2234.8,2,   7.6086,2,    25.00, -999.000,9,     0.02,2,     0.07,2,   2.3603,2,  26.3976,2,   2.3688,2
49UP20180614_1,   P13,    17,  1,     31,     840,2,20180626,0646,0853, 48.9945, 163.3382, 5583,    151.8,      150,   2.8818,  33.3420,2,    218.5,2,  33.3635,4,   209.22,2,    61.02,2,    32.08,2,     0.01,2,    2.360,2,    3.675,2,    2.064,2,   2208.2,2,   2254.3,2,   7.4840,2,    25.00,    0.309,2,     0.01,2,     0.05,2,   2.8730,2,  26.5727,2,   2.8613,2
49UP20180614_1,   P13,    17,  1,     30,     839,2,20180626,0646,0852, 48.9945, 163.3382, 5583,    204.3,      202,   4.3171,  33.8045,2,     58.3,2,  33.8035,2,    59.32,2,    84.24,2,    41.37,2,     0.00,2,    2.890,2,    2.256,6,    1.185,6,   2300.5,2,   2283.5,2,   7.2887,2,    25.00,    0.149,6,     0.00,2,     0.04,2,   4.3026,2,  26.8039,2,   4.3164,2
49UP20180614_1,   P13,    17,  1,     29,     838,2,20180626,0646,0850, 48.9945, 163.3382, 5583,    252.8,      251,   4.1597,  33.8881,2,     39.1,2,  33.8916,2,    39.05,2,    91.42,2,    42.99,2,     0.00,2,    3.000,2,    1.973,2,    1.005,2,   2327.4,2,   2295.2,2,   7.2619,2,    25.00,    0.124,2,  -999.00,9,  -999.00,9,   4.1419,2,  26.8870,2,   4.1592,2
49UP20180614_1,   P13,    17,  1,     28,     837,2,20180626,0646,0849, 48.9945, 163.3382, 5583,    282.2,      280,   4.0283,  33.9350,2,     31.0,2,  33.9309,2,    32.52,2,    95.62,2,    43.52,2,     0.00,2,    3.040,2,    1.948,3,    1.244,3,   2330.9,2,   2301.1,2,   7.2534,2,    25.00,    0.219,3,  -999.00,9,  -999.00,9,   4.0087,2,  26.9381,2,   4.0290,2
49UP20180614_1,   P13,    17,  1,     27,     661,2,20180626,0646,0846, 48.9945, 163.3382, 5583,    374.6,      371,   3.8426,  34.0374,2,     19.8,2,  34.0380,2,    20.14,2,   107.11,2,    44.19,2,     0.00,2,    3.100,2,    1.340,2,    0.651,2,   2348.6,2,   2317.1,2,   7.2472,6,    25.00,    0.079,2,  -999.00,9,  -999.00,9,   3.8168,2,  27.0389,2,   3.8436,2
49UP20180614_1,   P13,    17,  1,     26,     835,2,20180626,0646,0843, 48.9945, 163.3382, 5583,    474.7,      470,   3.6083,  34.1194,2,     18.8,2,  34.1199,2,    18.52,2,   117.43,2,    44.04,2,     0.00,2,    3.100,2,    0.972,2,    0.463,2,   2357.6,6,   2330.4,6,   7.2643,2,    25.00,    0.068,2,  -999.00,9,  -999.00,9,   3.5760,2,  27.1280,2,   3.6077,2
49UP20180614_1,   P13,    17,  1,     25,     834,3,20180626,0646,0841, 48.9945, 163.3382, 5583,    576.3,      571,   3.5283,  34.1980,2,     14.3,2,  34.1985,2,    13.69,2,   124.35,2,    44.17,2,     0.00,2,    3.110,2,    0.598,2,    0.288,2,   2364.5,2,   2342.7,2,   7.2772,2,    25.00,    0.035,2,  -999.00,9,  -999.00,9,   3.4890,2,  27.1991,2,   3.5287,2
49UP20180614_1,   P13,    17,  1,     24,     833,4,20180626,0646,0838, 48.9945, 163.3382, 5583,    677.6,      671,   3.3967,  34.2447,2,     13.7,2,-999.0000,5,  -999.00,9,  -999.00,9,  -999.00,9,  -999.00,9, -999.000,9, -999.000,9, -999.000,9,   -999.0,9,   -999.0,9,-999.0000,9,  -999.00, -999.000,9,  -999.00,9,  -999.00,9,   3.3506,2,  27.2496,2,   3.3964,2
49UP20180614_1,   P13,    17,  1,     23,     832,2,20180626,0646,0835, 48.9945, 163.3382, 5583,    779.1,      771,   3.1630,  34.2906,2,     16.4,2,  34.2906,2,    16.02,6,   138.09,6,    44.06,6,     0.00,6,    3.110,6,    0.345,2,    0.168,2,   2372.2,2,   2360.6,2,   7.2920,2,    25.00,    0.017,2,  -999.00,9,  -999.00,9,   3.1108,2,  27.3087,2,   3.1629,2
49UP20180614_1,   P13,    17,  1,     22,     831,2,20180626,0646,0833, 48.9945, 163.3382, 5583,    878.7,      869,   3.0086,  34.3378,2,     16.2,2,  34.3376,2,    15.68,2,   144.18,2,    44.09,2,     0.00,2,    3.120,2,    0.222,2,    0.107,2,   2378.0,2,   2367.1,2,   7.3016,2,    25.00,    0.009,2,  -999.00,9,  -999.00,9,   2.9500,2,  27.3610,2,   3.0088,2
49UP20180614_1,   P13,    17,  1,     21,     830,2,20180626,0646,0830, 48.9945, 163.3382, 5583,    981.1,      970,   2.8294,  34.3790,2,     18.2,2,  34.3795,2,    18.01,2,   150.09,2,    44.01,2,     0.00,2,    3.110,2,    0.155,6,    0.070,6,   2386.5,2,   2375.7,2,   7.3038,2,    25.00,    0.005,6,  -999.00,9,  -999.00,9,   2.7645,2,  27.4105,2,   2.8293,2
49UP20180614_1,   P13,    17,  1,     20,     829,2,20180626,0646,0826, 48.9945, 163.3382, 5583,   1144.0,     1131,   2.6076,  34.4289,2,     21.4,2,  34.4297,2,    20.68,6,   157.60,6,    43.88,6,     0.00,6,    3.090,6,    0.095,2,    0.044,2,   2392.9,2,   2385.0,2,   7.3167,2,    25.00,    0.007,2,  -999.00,9,  -999.00,9,   2.5323,2,  27.4704,2,   2.6076,2
49UP20180614_1,   P13,    17,  1,     19,     828,2,20180626,0646,0822, 48.9945, 163.3382, 5583,   1346.7,     1331,   2.3710,  34.4811,2,     29.3,2,  34.4819,6,    28.95,2,   164.61,2,    43.45,2,     0.00,2,    3.060,2,    0.058,2,    0.024,2,   2392.6,2,   2393.5,2,   7.3374,2,    25.00,    0.002,2,  -999.00,9,  -999.00,9,   2.2826,2,  27.5331,2,   2.3711,2
49UP20180614_1,   P13,    17,  1,     18,     827,2,20180626,0646,0817, 48.9945, 163.3382, 5583,   1549.3,     1530,   2.1803,  34.5260,2,     40.8,2,  34.5272,2,    40.68,2,   168.66,2,    42.77,2,     0.00,2,    3.010,2,    0.029,2,    0.008,2,   2392.5,2,   2403.0,2,   7.3631,2,    25.00,    0.000,2,  -999.00,9,  -999.00,9,   2.0782,2,  27.5857,2,   2.1804,2
49UP20180614_1,   P13,    17,  1,     17,     826,3,20180626,0646,0813, 48.9945, 163.3382, 5583,   1753.4,     1731,   2.0173,  34.5627,2,     53.4,2,  34.5635,2,    53.47,2,   171.55,2,    42.01,2,     0.00,2,    2.950,2,    0.007,2,    0.000,2,   2384.7,2,   2409.4,2,   7.3931,2,    25.00,    0.000,2,  -999.00,9,  -999.00,9,   1.9011,2,  27.6290,2,   2.0171,2
49UP20180614_1,   P13,    17,  1,     16,     825,2,20180626,0646,0808, 48.9945, 163.3382, 5583,   1955.9,     1930,   1.8928,  34.5906,2,     67.1,2,  34.5912,2,    67.32,2,   172.32,2,    41.16,2,     0.00,2,    2.890,2,    0.003,2,   -0.000,2,   2380.9,2,   2412.8,2,   7.4210,2,    25.00,    0.006,2,  -999.00,9,  -999.00,9,   1.7617,2,  27.6621,2,   1.8928,2
49UP20180614_1,   P13,    17,  1,     15,     824,2,20180626,0646,0804, 48.9945, 163.3382, 5583,   2160.5,     2131,   1.8019,  34.6122,2,     82.3,2,  34.6126,6,    82.30,2,   169.15,2,    40.16,2,     0.00,2,    2.820,2,   -0.000,2,   -0.000,2,   2372.9,2,   2415.1,2,   7.4532,2,    25.00,    0.004,2,  -999.00,9,  -999.00,9,   1.6551,2,  27.6875,2,   1.8019,2
49UP20180614_1,   P13,    17,  1,     14,     823,3,20180626,0646,0759, 48.9945, 163.3382, 5583,   2364.4,     2331,   1.7304,  34.6257,2,     91.2,2,  34.6262,2,    90.53,2,   169.38,2,    39.55,2,     0.00,2,    2.790,2,    0.001,2,    0.000,2,   2373.3,2,   2417.0,2,   7.4679,6,    25.00,    0.001,2,  -999.00,9,  -999.00,9,   1.5672,2,  27.7049,2,   1.7303,2
49UP20180614_1,   P13,    17,  1,     13,     822,2,20180626,0646,0754, 48.9945, 163.3382, 5583,   2569.3,     2532,   1.6619,  34.6391,2,    102.0,2,  34.6390,2,   101.77,2,   167.61,2,    39.00,2,     0.00,2,    2.740,2,    0.000,2,    0.000,2,   2360.9,6,   2417.8,6,   7.4870,2,    25.00,    0.004,2,  -999.00,9,  -999.00,9,   1.4818,2,  27.7218,2,   1.6619,2
49UP20180614_1,   P13,    17,  1,     12,     821,2,20180626,0646,0750, 48.9945, 163.3382, 5583,   2772.5,     2731,   1.6051,  34.6506,2,    114.4,2,  34.6513,2,   114.20,2,   163.26,2,    38.24,2,     0.00,2,    2.670,2,    0.000,2,    0.000,2,   2351.5,2,   2418.0,2,   7.5127,2,    25.00,   -0.000,2,  -999.00,9,  -999.00,9,   1.4075,2,  27.7365,2,   1.6050,2
49UP20180614_1,   P13,    17,  1,     11,     820,2,20180626,0646,0745, 48.9945, 163.3382, 5583,   2977.5,     2932,   1.5643,  34.6581,2,    121.2,2,  34.6582,2,   121.00,2,   162.19,2,    37.96,2,     0.00,2,    2.640,2, -999.000,9, -999.000,9,   2349.3,2,   2418.8,2,   7.5237,2,    25.00, -999.000,9,  -999.00,9,  -999.00,9,   1.3483,2,  27.7467,2,   1.5644,2
49UP20180614_1,   P13,    17,  1,     10,     819,2,20180626,0646,0740, 48.9945, 163.3382, 5583,   3221.7,     3170,   1.5260,  34.6657,2,    129.8,2,  34.6663,2,   129.58,2,   159.55,2,    37.36,2,     0.00,2,    2.600,2, -999.000,9, -999.000,9,   2340.0,2,   2417.1,2,   7.5447,2,    25.00, -999.000,9,  -999.00,9,  -999.00,9,   1.2872,2,  27.7571,2,   1.5258,2
49UP20180614_1,   P13,    17,  1,      9,     818,2,20180626,0646,0734, 48.9945, 163.3382, 5583,   3478.0,     3420,   1.5002,  34.6716,2,    136.5,2,  34.6722,2,   136.25,6,   158.17,6,    36.92,6,     0.00,6,    2.560,6, -999.000,9, -999.000,9,   2338.1,2,   2417.2,2,   7.5528,2,    25.00, -999.000,9,  -999.00,9,  -999.00,9,   1.2363,2,  27.7654,2,   1.4999,2
49UP20180614_1,   P13,    17,  1,      8,     817,2,20180626,0646,0725, 48.9945, 163.3382, 5583,   3991.8,     3921,   1.4755,  34.6805,2,    147.3,2,  34.6804,2,   147.43,2,   154.98,2,    36.23,2,     0.00,2,    2.510,2,    0.000,2,    0.000,2,   2332.2,2,   2417.0,2,   7.5708,2,    25.00,    0.007,2,  -999.00,9,  -999.00,9,   1.1582,2,  27.7780,2,   1.4755,2
49UP20180614_1,   P13,    17,  1,      7,     816,2,20180626,0646,0719, 48.9945, 163.3382, 5583,   4248.5,     4171,   1.4798,  34.6831,2,    150.7,2,  34.6834,2,   150.29,2,   154.01,2,    36.07,2,     0.00,2,    2.490,2, -999.000,9, -999.000,9,   2328.5,6,   2417.4,6,   7.5792,2,    25.00, -999.000,9,  -999.00,9,  -999.00,9,   1.1340,2,  27.7817,2,   1.4797,2
49UP20180614_1,   P13,    17,  1,      6,     815,2,20180626,0646,0714, 48.9945, 163.3382, 5583,   4505.1,     4420,   1.4903,  34.6853,2,    153.5,2,  34.6852,2,   153.23,2,   152.68,2,    35.82,2,     0.00,2,    2.470,2, -999.000,9, -999.000,9,   2324.8,2,   2416.4,2,   7.5845,6,    25.00, -999.000,9,  -999.00,9,  -999.00,9,   1.1150,2,  27.7847,2,   1.4901,2
49UP20180614_1,   P13,    17,  1,      5,     814,2,20180626,0646,0708, 48.9945, 163.3382, 5583,   4764.5,     4672,   1.5064,  34.6870,2,    155.3,2,  34.6869,2,   154.69,2,   152.70,2,    35.74,2,     0.00,2,    2.460,2, -999.000,9, -999.000,9,   2325.2,2,   2417.0,2,   7.5832,2,    25.00, -999.000,9,  -999.00,9,  -999.00,9,   1.1003,2,  27.7871,2,   1.5064,2
49UP20180614_1,   P13,    17,  1,      4,     813,2,20180626,0646,0702, 48.9945, 163.3382, 5583,   5021.3,     4921,   1.5245,  34.6886,2,    157.0,2,  34.6887,2,   157.06,2,   152.65,2,    35.59,2,     0.00,2,    2.450,2,    0.133,3,    0.294,3,   2323.5,2,   2415.5,2,   7.5882,2,    25.00,    0.107,3,  -999.00,9,  -999.00,9,   1.0868,2,  27.7893,2,   1.5244,2
49UP20180614_1,   P13,    17,  1,      3,     812,2,20180626,0646,0657, 48.9945, 163.3382, 5583,   5277.5,     5169,   1.5517,  34.6894,2,    157.6,2,  34.6894,6,   157.22,2,   153.22,2,    35.53,2,     0.00,2,    2.450,2, -999.000,9, -999.000,9,   2324.3,2,   2415.6,2,   7.5904,2,    25.00, -999.000,9,  -999.00,9,  -999.00,9,   1.0815,2,  27.7903,2,   1.5516,2
49UP20180614_1,   P13,    17,  1,      2,     811,2,20180626,0646,0651, 48.9945, 163.3382, 5583,   5536.4,     5420,   1.5837,  34.6897,2,    157.9,2,  34.6898,2,   157.70,2,   153.06,2,    35.52,2,     0.00,2,    2.450,2, -999.000,9, -999.000,9,   2324.2,2,   2416.6,2,   7.5902,2,    25.00, -999.000,9,  -999.00,9,  -999.00,9,   1.0794,2,  27.7907,2,   1.5837,2
49UP20180614_1,   P13,    17,  1,      1,     810,2,20180626,0646,0646, 48.9945, 163.3382, 5583,   5701.4,     5579,   1.6052,  34.6897,2,    158.1,2,  34.6897,6,   158.45,2,   152.72,2,    35.52,2,     0.00,2,    2.450,2,    0.012,2,    0.001,2,   2322.4,2,   2416.0,2,   7.5905,2,    25.00,    0.002,2,  -999.00,9,  -999.00,9,   1.0787,2,  27.7908,2,   1.6051,2