BOTTLE,20191018JMAGEMD
EXPOCODE,SECT_ID,STNNBR,CASTNO,SAMPNO,BTLNBR,BTLNBR_FLAG_U,DATE,TIME,BTL_TIME,LATITUDE,LONGITUDE,DEPTH,CTDPRS,CTDDEP,CTDTMP,CTDSAL,CTDSAL_FLAG_W,CTDOXY,CTDOXY_FLAG_W,SALNTY,SALNTY_FLAG_W,OXYGEN,OXYGEN_FLAG_W,SILCAT,SILCAT_FLAG_W,NO2+NO3,NO2+NO3_FLAG_W,NITRIT,NITRIT_FLAG_W,PHSPHT,PHSPHT_FLAG_W,CFC-11,CFC-11_FLAG_W,CFC-12,CFC-12_FLAG_W,TCARBN,TCARBN_FLAG_W,ALKALI,ALKALI_FLAG_W,PH_TS,PH_TS_FLAG_W,PH_TS_TMP,CFC113,CFC113_FLAG_W,CHLORA,CHLORA_FLAG_W,PPHYTN,PPHYTN_FLAG_W,THETA,THETA_FLAG_W,SIGTHT,SIGTHT_FLAG_W,SBE35,SBE35_FLAG_W
,,,,,,,,UTC,,,,METER,DBAR,METERS,ITS-90,PSS-78,,UMOL/KG,,PSS78,,UMOL/KG,,UMOL/KG,,UMOL/KG,,UMOL/KG,,UMOL/KG,,PMOL/KG,,PMOL/KG,,UMOL/KG,,UMOL/KG,,,,ITS-90,PMOL/KG,,UG/KG,,UG/KG,,ITS-90,,KG/M3,,ITS-90,
49UP20180806_1,   P13,    64,  1,      0,      -9,0,20180822,2002,2148, 12.9910, 164.9918, 5198,      0.0,        0,  29.5453,  33.8374,2,    195.5,2,  33.8355,2,   195.49,2,     1.20,3,     0.00,2,     0.00,2,    0.090,3, -999.000,9, -999.000,9,   1907.1,2,   2225.1,2,   8.1102,2,    25.00, -999.000,9,     0.06,2,     0.02,2,  29.5446,2,  21.0091,2,-999.0000,9
49UP20180806_1,   P13,    64,  1,     36,     845,2,20180822,2002,2223, 12.9910, 164.9918, 5198,     11.7,       12,  29.5283,  33.8370,2,    195.3,2,  33.8378,2,   195.47,6,     1.22,3,     0.00,6,     0.00,6,    0.060,3,    1.473,2,    0.843,2,   1903.7,2,   2227.3,2,   8.1125,2,    25.00,    0.131,2,     0.05,2,     0.01,2,  29.5254,2,  21.0153,2,  29.5297,2
49UP20180806_1,   P13,    64,  1,     35,     844,2,20180822,2002,2220, 12.9910, 164.9918, 5198,     51.5,       51,  28.6734,  34.3952,2,    205.0,2,  34.3873,4,   204.86,2,     1.34,3,     0.00,2,     0.00,2,    0.070,3,    1.584,2,    0.884,2,   1942.7,2,   2264.1,2,   8.1039,2,    25.00,    0.146,2,     0.07,2,     0.02,2,  28.6611,2,  21.7226,2,  28.6740,2
49UP20180806_1,   P13,    64,  1,     34,     843,2,20180822,2002,2218, 12.9910, 164.9918, 5198,    102.5,      102,  25.6111,  34.8551,2,    208.8,2,  34.8573,2,   207.53,2,     1.47,3,     0.00,2,     0.00,2,    0.100,3,    1.785,2,    0.986,2,   1992.9,2,   2298.8,2,   8.0677,2,    25.00,    0.154,2,     0.15,2,     0.09,2,  25.5885,2,  23.0516,2,  25.6207,2
49UP20180806_1,   P13,    64,  1,     24,     833,4,20180822,2002,2216, 12.9910, 164.9918, 5198,    125.6,      125,  22.7247,  34.8735,2,    192.3,2,-999.0000,9,  -999.00,9,  -999.00,9,  -999.00,9,  -999.00,9, -999.000,9, -999.000,9, -999.000,9,   -999.0,9,   -999.0,9,-999.0000,9,  -999.00, -999.000,9,  -999.00,9,  -999.00,9,  22.6993,2,  23.9239,2,  22.7429,2
49UP20180806_1,   P13,    64,  1,     33,     842,2,20180822,2002,2214, 12.9910, 164.9918, 5198,    152.0,      151,  18.8852,  34.7300,2,    163.2,2,  34.7343,2,   164.23,2,     5.29,3,     5.77,2,     0.07,2,    0.560,3,    2.269,2,    1.245,2,   2092.1,2,   2293.5,2,   7.8737,2,    25.00,    0.061,2,     0.08,2,     0.22,2,  18.8583,2,  24.8508,2,  18.8818,2
49UP20180806_1,   P13,    64,  1,     32,     841,2,20180822,2002,2212, 12.9910, 164.9918, 5198,    202.8,      202,  13.6229,  34.3877,2,    155.1,2,  34.3915,2,   154.28,2,    13.01,3,    13.68,2,     0.01,2,    1.060,3,    2.622,2,    1.378,2,   2127.9,6,   2274.4,6,   7.7538,2,    25.00,    0.031,2,     0.02,2,     0.07,2,  13.5943,2,  25.7980,2,  13.5971,2
49UP20180806_1,   P13,    64,  1,     31,     840,2,20180822,2002,2210, 12.9910, 164.9918, 5198,    252.8,      251,  10.7543,  34.3521,2,     96.7,2,  34.3521,2,    95.52,2,    27.26,3,    24.73,2,     0.00,2,    1.870,3,    2.080,2,    1.022,2,   2199.5,2,   2281.2,2,   7.5794,6,    25.00,    0.029,2,  -999.00,9,  -999.00,9,  10.7237,2,  26.3204,2,  10.7539,2
49UP20180806_1,   P13,    64,  1,     30,     839,2,20180822,2002,2208, 12.9910, 164.9918, 5198,    302.8,      301,   8.8102,  34.2792,2,     86.6,2,  34.2770,2,    86.63,2,    39.84,3,    29.11,2,     0.00,2,    2.160,3,    1.753,6,    0.822,6,   2226.4,2,   2284.9,2,   7.5243,2,    25.00,    0.031,6,  -999.00,9,  -999.00,9,   8.7779,2,  26.5888,2,   8.8092,2
49UP20180806_1,   P13,    64,  1,     29,     838,2,20180822,2002,2207, 12.9910, 164.9918, 5198,    351.5,      349,   8.0474,  34.3793,2,     56.0,2,  34.3782,2,    55.10,2,    48.01,3,    33.76,2,     0.00,2,    2.480,3, -999.000,9, -999.000,9,   2260.7,2,   2303.8,2,   7.4632,2,    25.00, -999.000,9,  -999.00,9,  -999.00,9,   8.0117,2,  26.7846,2,   8.0472,2
49UP20180806_1,   P13,    64,  1,     28,     837,3,20180822,2002,2205, 12.9910, 164.9918, 5198,    403.8,      401,   7.7839,  34.4866,2,     42.7,2,  34.4829,2,    42.37,6,    50.46,3,    35.96,6,     0.00,6,    2.620,3,    0.372,2,    0.172,2,   2276.0,2,   2311.9,2,   7.4467,2,    25.00,    0.002,2,  -999.00,9,  -999.00,9,   7.7434,2,  26.9085,2,   7.7838,2
49UP20180806_1,   P13,    64,  1,     27,     661,2,20180822,2002,2203, 12.9910, 164.9918, 5198,    452.6,      450,   7.2103,  34.4837,2,     43.0,2,  34.4827,2,    42.20,2,    56.49,3,    37.11,2,     0.00,2,    2.710,3, -999.000,9, -999.000,9,   2282.9,2,   2319.3,2,   7.4378,2,    25.00, -999.000,9,  -999.00,9,  -999.00,9,   7.1668,2,  26.9888,2,   7.2103,2
49UP20180806_1,   P13,    64,  1,     26,     835,2,20180822,2002,2201, 12.9910, 164.9918, 5198,    502.8,      499,   6.8694,  34.4926,2,     47.0,2,  34.4912,2,    46.41,2,    59.99,3,    37.59,2,     0.00,2,    2.720,3,    0.184,2,    0.073,2,   2287.4,2,   2325.3,2,   7.4427,2,    25.00,    0.000,2,  -999.00,9,  -999.00,9,   6.8222,2,  27.0435,2,   6.8693,2
49UP20180806_1,   P13,    64,  1,     25,     834,2,20180822,2002,2158, 12.9910, 164.9918, 5198,    605.3,      601,   6.1573,  34.4964,2,     50.5,2,  34.4950,2,    49.93,2,    68.94,3,    38.68,2,     0.00,2,    2.800,3,    0.104,2,    0.039,2,   2296.6,2,   2335.9,2,   7.4426,2,    25.00,    0.000,2,  -999.00,9,  -999.00,9,   6.1032,2,  27.1415,2,   6.1574,2
49UP20180806_1,   P13,    64,  1,     23,     832,2,20180822,2002,2155, 12.9910, 164.9918, 5198,    704.9,      700,   5.5197,  34.5089,2,     51.0,2,  34.5088,2,    50.69,2,    78.57,3,    39.98,2,     0.00,2,    2.880,3,    0.050,2,    0.019,2,   2303.8,2,   2345.1,2,   7.4366,2,    25.00,    0.000,2,  -999.00,9,  -999.00,9,   5.4597,2,  27.2315,2,   5.5195,2
49UP20180806_1,   P13,    64,  1,     22,     831,2,20180822,2002,2152, 12.9910, 164.9918, 5198,    807.1,      801,   5.1127,  34.5260,2,     56.3,2,  34.5264,2,    56.16,2,    84.49,3,    40.23,2,     0.00,2,    2.890,3,    0.033,2,    0.009,2,   2314.6,2,   2356.6,2,   7.4411,2,    25.00,    0.008,2,  -999.00,9,  -999.00,9,   5.0459,2,  27.2942,2,   5.1126,2
49UP20180806_1,   P13,    64,  1,     21,     830,2,20180822,2002,2149, 12.9910, 164.9918, 5198,    906.2,      899,   4.6053,  34.5393,2,     59.7,2,  34.5398,2,    60.12,2,    93.85,3,    40.66,2,     0.00,2,    2.920,3,    0.015,2,    0.005,2,   2322.4,2,   2363.4,2,   7.4451,2,    25.00,    0.003,2,  -999.00,9,  -999.00,9,   4.5330,2,  27.3627,2,   4.6055,2
49UP20180806_1,   P13,    64,  1,     20,     829,2,20180822,2002,2146, 12.9910, 164.9918, 5198,   1010.2,     1002,   4.2538,  34.5533,2,     65.0,2,  34.5540,2,    65.06,2,    99.91,3,    40.67,2,     0.00,2,    2.910,3,    0.006,2,    0.002,2,   2328.0,2,   2370.8,2,   7.4516,2,    25.00,    0.000,2,  -999.00,9,  -999.00,9,   4.1753,2,  27.4124,2,   4.2545,2
49UP20180806_1,   P13,    64,  1,     19,     828,2,20180822,2002,2141, 12.9910, 164.9918, 5198,   1210.4,     1200,   3.5854,  34.5669,2,     73.0,2,  34.5673,6,    73.01,2,   114.97,3,    40.47,2,     0.00,2,    2.890,3,   -0.000,2,    0.002,2,   2337.8,2,   2383.4,2,   7.4589,2,    25.00,    0.000,2,  -999.00,9,  -999.00,9,   3.4956,2,  27.4924,2,   3.5854,2
49UP20180806_1,   P13,    64,  1,     18,     660,2,20180822,2002,2136, 12.9910, 164.9918, 5198,   1415.0,     1402,   3.1198,  34.5881,2,     82.5,2,  34.5887,2,    82.35,6,   124.36,3,    40.16,6,     0.00,6,    2.850,3,    0.000,2,    0.001,2,   2343.9,2,   2398.3,2,   7.4784,2,    25.00,    0.004,2,  -999.00,9,  -999.00,9,   3.0177,2,  27.5547,2,   3.1197,2
49UP20180806_1,   P13,    64,  1,     17,     826,2,20180822,2002,2131, 12.9910, 164.9918, 5198,   1617.2,     1602,   2.7846,  34.6021,2,     88.9,2,  34.6023,2,    89.62,2,   131.11,3,    39.90,2,     0.00,2,    2.820,3,    0.006,2,    0.004,2,   2348.1,2,   2406.2,2,   7.4851,2,    25.00,    0.000,2,  -999.00,9,  -999.00,9,   2.6695,2,  27.5970,2,   2.7849,2
49UP20180806_1,   P13,    64,  1,     16,     825,2,20180822,2002,2124, 12.9910, 164.9918, 5198,   1815.8,     1798,   2.4196,  34.6168,2,     96.8,2,  34.6178,2,    97.27,2,   139.42,3,    39.44,2,     0.00,2,    2.770,3,    0.000,2,    0.000,2,   2351.1,6,   2412.6,6,   7.4984,2,    25.00,    0.000,2,  -999.00,9,  -999.00,9,   2.2926,2,  27.6410,2,   2.4195,2
49UP20180806_1,   P13,    64,  1,     15,     824,2,20180822,2002,2118, 12.9910, 164.9918, 5198,   2024.3,     2003,   2.1783,  34.6328,2,    104.5,2,  34.6332,2,   104.39,2,   143.77,3,    39.04,2,     0.00,2,    2.740,3,    0.002,6,    0.001,6,   2354.1,2,   2418.2,2,   7.5114,6,    25.00,    0.000,6,  -999.00,9,  -999.00,9,   2.0371,2,  27.6745,2,   2.1786,2
49UP20180806_1,   P13,    64,  1,     14,     823,2,20180822,2002,2112, 12.9910, 164.9918, 5198,   2226.5,     2202,   2.0563,  34.6407,2,    109.2,2,  34.6416,2,   109.03,2,   146.82,3,    38.69,2,     0.00,2,    2.710,3,    0.000,2,    0.000,2,   2350.5,2,   2421.0,2,   7.5218,2,    25.00,    0.000,2,  -999.00,9,  -999.00,9,   1.8995,2,  27.6917,2,   2.0564,2
49UP20180806_1,   P13,    64,  1,     13,     822,2,20180822,2002,2107, 12.9910, 164.9918, 5198,   2431.7,     2404,   1.9199,  34.6500,2,    115.2,2,  34.6507,6,   114.92,2,   148.95,3,    38.40,2,     0.00,2,    2.680,3,    0.001,2,    0.000,2,   2351.0,2,   2424.8,2,   7.5322,2,    25.00,   -0.000,2,  -999.00,9,  -999.00,9,   1.7473,2,  27.7109,2,   1.9200,2
49UP20180806_1,   P13,    64,  1,     12,     821,2,20180822,2002,2102, 12.9910, 164.9918, 5198,   2635.5,     2604,   1.8156,  34.6580,2,    120.7,2,  34.6581,2,   120.46,2,   150.54,3,    38.05,2,     0.00,2,    2.660,3,    0.000,2,    0.000,2,   2343.2,2,   2426.6,2,   7.5403,2,    25.00,    0.000,2,  -999.00,9,  -999.00,9,   1.6264,2,  27.7264,2,   1.8158,2
49UP20180806_1,   P13,    64,  1,     11,     820,2,20180822,2002,2057, 12.9910, 164.9918, 5198,   2835.1,     2800,   1.7268,  34.6634,2,    125.8,2,  34.6624,2,   125.29,2,   151.09,3,    37.77,2,     0.00,2,    2.630,3,    0.013,3,    0.001,2,   2345.3,2,   2426.8,2,   7.5435,2,    25.00,    0.002,2,  -999.00,9,  -999.00,9,   1.5208,2,  27.7385,2,   1.7269,2
49UP20180806_1,   P13,    64,  1,     10,     819,2,20180822,2002,2053, 12.9910, 164.9918, 5198,   3039.4,     3000,   1.6666,  34.6682,2,    131.0,2,  34.6681,2,   130.77,2,   150.90,3,    37.40,2,     0.00,2,    2.600,3, -999.000,9, -999.000,9,   2335.2,2,   2428.1,2,   7.5548,2,    25.00, -999.000,9,  -999.00,9,  -999.00,9,   1.4424,2,  27.7481,2,   1.6665,2
49UP20180806_1,   P13,    64,  1,      9,     818,2,20180822,2002,2047, 12.9910, 164.9918, 5198,   3293.2,     3249,   1.5807,  34.6739,2,    137.8,2,  34.6741,2,   137.63,6,   151.13,3,    37.03,6,     0.00,6,    2.560,3, -999.000,9, -999.000,9,   2341.8,2,   2426.3,2,   7.5627,2,    25.00, -999.000,9,  -999.00,9,  -999.00,9,   1.3335,2,  27.7604,2,   1.5808,2
49UP20180806_1,   P13,    64,  1,      8,     817,2,20180822,2002,2041, 12.9910, 164.9918, 5198,   3552.7,     3503,   1.5307,  34.6785,2,    144.1,2,  34.6779,2,   144.13,2,   149.74,3,    36.56,2,     0.00,2,    2.530,3, -999.000,9, -999.000,9,   2337.8,2,   2421.9,2,   7.5722,2,    25.00, -999.000,9,  -999.00,9,  -999.00,9,   1.2584,2,  27.7694,2,   1.5307,2
49UP20180806_1,   P13,    64,  1,      7,     816,2,20180822,2002,2036, 12.9910, 164.9918, 5198,   3803.7,     3748,   1.4818,  34.6827,2,    150.1,2,  34.6809,4,   149.10,2,   148.23,3,    36.17,2,     0.00,2,    2.500,3, -999.000,9, -999.000,9,   2323.8,2,   2424.3,2,   7.5796,2,    25.00, -999.000,9,  -999.00,9,  -999.00,9,   1.1845,2,  27.7779,2,   1.4819,2
49UP20180806_1,   P13,    64,  1,      6,     815,2,20180822,2002,2030, 12.9910, 164.9918, 5198,   4062.6,     4001,   1.4586,  34.6861,2,    155.9,2,  34.6860,2,   155.79,2,   145.26,3,    35.59,2,     0.00,2,    2.460,3,    0.002,2,    0.001,2,   2316.9,2,   2414.7,2,   7.5894,2,    25.00,    0.002,2,  -999.00,9,  -999.00,9,   1.1340,2,  27.7841,2,   1.4588,2
49UP20180806_1,   P13,    64,  1,      5,     814,2,20180822,2002,2024, 12.9910, 164.9918, 5198,   4316.9,     4249,   1.4315,  34.6900,2,    163.4,2,  34.6900,6,   163.53,2,   140.72,3,    35.16,2,     0.00,2,    2.420,3, -999.000,9, -999.000,9,   2319.3,2,   2416.0,2,   7.5971,2,    25.00, -999.000,9,  -999.00,9,  -999.00,9,   1.0795,2,  27.7909,2,   1.4316,2
49UP20180806_1,   P13,    64,  1,      4,     813,2,20180822,2002,2019, 12.9910, 164.9918, 5198,   4572.9,     4498,   1.4118,  34.6933,2,    169.8,2,  34.6932,2,   170.07,2,   136.92,3,    34.67,2,     0.00,2,    2.390,3, -999.000,9, -999.000,9,   2312.1,6,   2411.3,6,   7.6022,2,    25.00, -999.000,9,  -999.00,9,  -999.00,9,   1.0311,2,  27.7968,2,   1.4120,2
49UP20180806_1,   P13,    64,  1,      3,     812,2,20180822,2002,2014, 12.9910, 164.9918, 5198,   4831.9,     4750,   1.3987,  34.6963,2,    175.6,2,  34.6961,2,   175.52,2,   133.44,3,    34.36,2,     0.00,2,    2.350,3, -999.000,9, -999.000,9,   2306.7,2,   2405.5,2,   7.6043,6,    25.00, -999.000,9,  -999.00,9,  -999.00,9,   0.9880,2,  27.8021,2,   1.3988,2
49UP20180806_1,   P13,    64,  1,      2,     811,2,20180822,2002,2008, 12.9910, 164.9918, 5198,   5090.1,     5001,   1.3822,  34.6991,2,    181.1,2,  34.6988,2,   181.48,2,   132.30,3,    33.99,2,     0.00,2,    2.330,3,    0.006,2,    0.002,2,   2300.6,2,   2403.7,2,   7.6118,2,    25.00,   -0.000,2,  -999.00,9,  -999.00,9,   0.9409,2,  27.8075,2,   1.3823,2
49UP20180806_1,   P13,    64,  1,      1,     810,2,20180822,2002,2003, 12.9910, 164.9918, 5198,   5296.9,     5202,   1.3825,  34.7006,2,    184.4,2,  34.7006,6,   184.31,2,   131.15,3,    33.59,2,     0.00,2,    2.320,3,    0.014,2,    0.003,2,   2294.3,2,   2400.0,2,   7.6127,2,    25.00,    0.006,2,  -999.00,9,  -999.00,9,   0.9157,2,  27.8103,2,   1.3824,2