BOTTLE,20191018JMAGEMD
EXPOCODE,SECT_ID,STNNBR,CASTNO,SAMPNO,BTLNBR,BTLNBR_FLAG_U,DATE,TIME,BTL_TIME,LATITUDE,LONGITUDE,DEPTH,CTDPRS,CTDDEP,CTDTMP,CTDSAL,CTDSAL_FLAG_W,CTDOXY,CTDOXY_FLAG_W,SALNTY,SALNTY_FLAG_W,OXYGEN,OXYGEN_FLAG_W,SILCAT,SILCAT_FLAG_W,NO2+NO3,NO2+NO3_FLAG_W,NITRIT,NITRIT_FLAG_W,PHSPHT,PHSPHT_FLAG_W,CFC-11,CFC-11_FLAG_W,CFC-12,CFC-12_FLAG_W,TCARBN,TCARBN_FLAG_W,ALKALI,ALKALI_FLAG_W,PH_TS,PH_TS_FLAG_W,PH_TS_TMP,CFC113,CFC113_FLAG_W,CHLORA,CHLORA_FLAG_W,PPHYTN,PPHYTN_FLAG_W,THETA,THETA_FLAG_W,SIGTHT,SIGTHT_FLAG_W,SBE35,SBE35_FLAG_W
,,,,,,,,UTC,,,,METER,DBAR,METERS,ITS-90,PSS-78,,UMOL/KG,,PSS78,,UMOL/KG,,UMOL/KG,,UMOL/KG,,UMOL/KG,,UMOL/KG,,PMOL/KG,,PMOL/KG,,UMOL/KG,,UMOL/KG,,,,ITS-90,PMOL/KG,,UG/KG,,UG/KG,,ITS-90,,KG/M3,,ITS-90,
49UP20180806_1,   P13,    66,  1,      0,      -9,0,20180823,1429,1550, 11.4927, 164.2385, 3612,      0.0,        0,  29.7284,  33.8314,2,    194.7,2,-999.0000,9,   195.54,2,  -999.00,9,  -999.00,9,  -999.00,9, -999.000,9, -999.000,9, -999.000,9,   -999.0,9,   -999.0,9,-999.0000,9,  -999.00, -999.000,9,  -999.00,9,  -999.00,9,  29.7278,2,  20.9427,2,-999.0000,9
49UP20180806_1,   P13,    66,  1,     36,     845,2,20180823,1429,1626, 11.4927, 164.2385, 3612,     11.1,       11,  29.7303,  33.8306,2,    194.6,2,  33.8309,2,   195.16,2,  -999.00,9,  -999.00,9,  -999.00,9, -999.000,9, -999.000,9, -999.000,9,   -999.0,9,   -999.0,9,-999.0000,9,  -999.00, -999.000,9,  -999.00,9,  -999.00,9,  29.7275,2,  20.9422,2,  29.7303,2
49UP20180806_1,   P13,    66,  1,     35,     844,2,20180823,1429,1625, 11.4927, 164.2385, 3612,     26.7,       27,  29.7110,  33.8537,2,    194.7,2,  33.8515,2,   195.23,2,  -999.00,9,  -999.00,9,  -999.00,9, -999.000,9, -999.000,9, -999.000,9,   -999.0,9,   -999.0,9,-999.0000,9,  -999.00, -999.000,9,  -999.00,9,  -999.00,9,  29.7044,2,  20.9674,2,  29.7107,2
49UP20180806_1,   P13,    66,  1,     34,     843,2,20180823,1429,1620, 11.4927, 164.2385, 3612,     51.1,       51,  28.6007,  34.2497,2,    205.9,2,  34.2494,2,   206.38,2,  -999.00,9,  -999.00,9,  -999.00,9, -999.000,9, -999.000,9, -999.000,9,   -999.0,9,   -999.0,9,-999.0000,9,  -999.00, -999.000,9,  -999.00,9,  -999.00,9,  28.5885,2,  21.6374,2,  28.6005,2
49UP20180806_1,   P13,    66,  1,     33,     842,2,20180823,1429,1619, 11.4927, 164.2385, 3612,     76.1,       76,  26.3406,  34.8063,2,    210.6,2,  34.8054,2,   210.82,2,  -999.00,9,  -999.00,9,  -999.00,9, -999.000,9, -999.000,9, -999.000,9,   -999.0,9,   -999.0,9,-999.0000,9,  -999.00, -999.000,9,  -999.00,9,  -999.00,9,  26.3235,2,  22.7860,2,  26.3403,2
49UP20180806_1,   P13,    66,  1,     32,     841,2,20180823,1429,1617, 11.4927, 164.2385, 3612,    101.9,      101,  23.8351,  34.9798,2,    196.2,2,  34.9657,4,   198.56,2,  -999.00,9,  -999.00,9,  -999.00,9, -999.000,9, -999.000,9, -999.000,9,   -999.0,9,   -999.0,9,-999.0000,9,  -999.00, -999.000,9,  -999.00,9,  -999.00,9,  23.8138,2,  23.6811,2,  23.8382,2
49UP20180806_1,   P13,    66,  1,     31,     840,2,20180823,1429,1615, 11.4927, 164.2385, 3612,    127.8,      127,  19.3544,  34.8033,2,    171.4,2,  34.8112,2,   172.35,2,  -999.00,9,  -999.00,9,  -999.00,9, -999.000,9, -999.000,9, -999.000,9,   -999.0,9,   -999.0,9,-999.0000,9,  -999.00, -999.000,9,  -999.00,9,  -999.00,9,  19.3313,2,  24.7859,2,  19.3655,2
49UP20180806_1,   P13,    66,  1,     30,     839,2,20180823,1429,1613, 11.4927, 164.2385, 3612,    152.1,      151,  15.4110,  34.5059,2,    163.4,2,  34.5175,4,   163.52,2,  -999.00,9,  -999.00,9,  -999.00,9, -999.000,9, -999.000,9, -999.000,9,   -999.0,9,   -999.0,9,-999.0000,9,  -999.00, -999.000,9,  -999.00,9,  -999.00,9,  15.3877,2,  25.5055,2,  15.4401,2
49UP20180806_1,   P13,    66,  1,     29,     838,2,20180823,1429,1611, 11.4927, 164.2385, 3612,    202.7,      201,  10.9506,  34.2823,2,    135.5,2,  34.2788,2,   135.52,2,  -999.00,9,  -999.00,9,  -999.00,9, -999.000,9, -999.000,9, -999.000,9,   -999.0,9,   -999.0,9,-999.0000,9,  -999.00, -999.000,9,  -999.00,9,  -999.00,9,  10.9259,2,  26.2299,2,  10.9498,2
49UP20180806_1,   P13,    66,  1,     28,     837,2,20180823,1429,1608, 11.4927, 164.2385, 3612,    252.0,      250,   9.8345,  34.4361,2,     58.6,2,  34.4317,2,    60.35,6,  -999.00,9,  -999.00,9,  -999.00,9, -999.000,9, -999.000,9, -999.000,9,   -999.0,9,   -999.0,9,-999.0000,9,  -999.00, -999.000,9,  -999.00,9,  -999.00,9,   9.8057,2,  26.5445,2,   9.8356,2
49UP20180806_1,   P13,    66,  1,      2,     811,2,20180823,1429,1605, 11.4927, 164.2385, 3612,    304.4,      302,   9.0675,  34.5025,2,     44.1,2,  34.5009,2,    44.42,2,  -999.00,9,  -999.00,9,  -999.00,9, -999.000,9, -999.000,9, -999.000,9,   -999.0,9,   -999.0,9,-999.0000,9,  -999.00, -999.000,9,  -999.00,9,  -999.00,9,   9.0343,2,  26.7231,2,   9.0679,2
49UP20180806_1,   P13,    66,  1,     27,     661,2,20180823,1429,1605, 11.4927, 164.2385, 3612,    304.9,      303,   9.0681,  34.5045,2,     44.2,2,  34.5013,2,    44.19,2,  -999.00,9,  -999.00,9,  -999.00,9, -999.000,9, -999.000,9, -999.000,9,   -999.0,9,   -999.0,9,-999.0000,9,  -999.00, -999.000,9,  -999.00,9,  -999.00,9,   9.0348,2,  26.7245,2,   9.0682,2
49UP20180806_1,   P13,    66,  1,     26,     835,2,20180823,1429,1602, 11.4927, 164.2385, 3612,    354.1,      352,   8.3985,  34.5335,2,     61.5,2,  34.5330,2,    61.79,2,  -999.00,9,  -999.00,9,  -999.00,9, -999.000,9, -999.000,9, -999.000,9,   -999.0,9,   -999.0,9,-999.0000,9,  -999.00, -999.000,9,  -999.00,9,  -999.00,9,   8.3615,2,  26.8528,2,   8.3995,2
49UP20180806_1,   P13,    66,  1,     25,     834,2,20180823,1429,1600, 11.4927, 164.2385, 3612,    403.6,      401,   7.8592,  34.5287,2,     53.7,2,  34.5279,2,    53.45,2,  -999.00,9,  -999.00,9,  -999.00,9, -999.000,9, -999.000,9, -999.000,9,   -999.0,9,   -999.0,9,-999.0000,9,  -999.00, -999.000,9,  -999.00,9,  -999.00,9,   7.8185,2,  26.9306,2,   7.8610,2
49UP20180806_1,   P13,    66,  1,     23,     832,2,20180823,1429,1558, 11.4927, 164.2385, 3612,    453.1,      450,   7.4912,  34.5304,2,     53.6,2,  34.5295,2,    53.41,2,  -999.00,9,  -999.00,9,  -999.00,9, -999.000,9, -999.000,9, -999.000,9,   -999.0,9,   -999.0,9,-999.0000,9,  -999.00, -999.000,9,  -999.00,9,  -999.00,9,   7.4467,2,  26.9860,2,   7.4923,2
49UP20180806_1,   P13,    66,  1,     22,     831,2,20180823,1429,1555, 11.4927, 164.2385, 3612,    504.2,      501,   6.9954,  34.5267,2,     51.8,2,  34.5257,2,    51.54,2,  -999.00,9,  -999.00,9,  -999.00,9, -999.000,9, -999.000,9, -999.000,9,   -999.0,9,   -999.0,9,-999.0000,9,  -999.00, -999.000,9,  -999.00,9,  -999.00,9,   6.9475,2,  27.0532,2,   6.9955,2
49UP20180806_1,   P13,    66,  1,     21,     830,2,20180823,1429,1552, 11.4927, 164.2385, 3612,    605.5,      601,   6.3366,  34.5225,2,     50.6,2,  34.5216,2,    50.35,6,  -999.00,9,  -999.00,9,  -999.00,9, -999.000,9, -999.000,9, -999.000,9,   -999.0,9,   -999.0,9,-999.0000,9,  -999.00, -999.000,9,  -999.00,9,  -999.00,9,   6.2817,2,  27.1391,2,   6.3372,2
49UP20180806_1,   P13,    66,  1,     20,     829,2,20180823,1429,1548, 11.4927, 164.2385, 3612,    708.0,      703,   5.6838,  34.5264,2,     50.2,2,  34.5260,2,    49.16,2,  -999.00,9,  -999.00,9,  -999.00,9, -999.000,9, -999.000,9, -999.000,9,   -999.0,9,   -999.0,9,-999.0000,9,  -999.00, -999.000,9,  -999.00,9,  -999.00,9,   5.6226,2,  27.2256,2,   5.6843,2
49UP20180806_1,   P13,    66,  1,     19,     828,2,20180823,1429,1545, 11.4927, 164.2385, 3612,    806.2,      800,   5.2185,  34.5327,2,     54.2,2,  34.5323,2,    53.97,2,  -999.00,9,  -999.00,9,  -999.00,9, -999.000,9, -999.000,9, -999.000,9,   -999.0,9,   -999.0,9,-999.0000,9,  -999.00, -999.000,9,  -999.00,9,  -999.00,9,   5.1511,2,  27.2872,2,   5.2148,2
49UP20180806_1,   P13,    66,  1,     18,     660,2,20180823,1429,1542, 11.4927, 164.2385, 3612,    907.5,      900,   4.9548,  34.5402,2,     57.9,2,  34.5397,2,    57.49,2,  -999.00,9,  -999.00,9,  -999.00,9, -999.000,9, -999.000,9, -999.000,9,   -999.0,9,   -999.0,9,-999.0000,9,  -999.00, -999.000,9,  -999.00,9,  -999.00,9,   4.8800,2,  27.3245,2,   4.9545,2
49UP20180806_1,   P13,    66,  1,     17,     826,2,20180823,1429,1538, 11.4927, 164.2385, 3612,   1009.5,     1001,   4.3969,  34.5526,2,     64.8,2,  34.5521,6,    65.05,2,  -999.00,9,  -999.00,9,  -999.00,9, -999.000,9, -999.000,9, -999.000,9,   -999.0,9,   -999.0,9,-999.0000,9,  -999.00, -999.000,9,  -999.00,9,  -999.00,9,   4.3173,2,  27.3968,2,   4.3969,2
49UP20180806_1,   P13,    66,  1,     16,     825,2,20180823,1429,1532, 11.4927, 164.2385, 3612,   1210.6,     1200,   3.7615,  34.5703,2,     79.9,2,  34.5705,6,    79.71,2,  -999.00,9,  -999.00,9,  -999.00,9, -999.000,9, -999.000,9, -999.000,9,   -999.0,9,   -999.0,9,-999.0000,9,  -999.00, -999.000,9,  -999.00,9,  -999.00,9,   3.6701,2,  27.4779,2,   3.7616,2
49UP20180806_1,   P13,    66,  1,     15,     824,2,20180823,1429,1527, 11.4927, 164.2385, 3612,   1415.0,     1402,   3.2793,  34.5853,2,     85.7,2,  34.5858,2,    85.54,6,  -999.00,9,  -999.00,9,  -999.00,9, -999.000,9, -999.000,9, -999.000,9,   -999.0,9,   -999.0,9,-999.0000,9,  -999.00, -999.000,9,  -999.00,9,  -999.00,9,   3.1754,2,  27.5378,2,   3.2794,2
49UP20180806_1,   P13,    66,  1,     13,     822,2,20180823,1429,1520, 11.4927, 164.2385, 3612,   1617.1,     1602,   2.8528,  34.6000,2,     88.0,2,  34.6003,2,    88.21,2,  -999.00,9,  -999.00,9,  -999.00,9, -999.000,9, -999.000,9, -999.000,9,   -999.0,9,   -999.0,9,-999.0000,9,  -999.00, -999.000,9,  -999.00,9,  -999.00,9,   2.7368,2,  27.5895,2,   2.8531,2
49UP20180806_1,   P13,    66,  1,     14,     823,2,20180823,1429,1521, 11.4927, 164.2385, 3612,   1617.4,     1602,   2.8521,  34.5999,2,     88.1,2,  34.6009,2,    87.98,2,  -999.00,9,  -999.00,9,  -999.00,9, -999.000,9, -999.000,9, -999.000,9,   -999.0,9,   -999.0,9,-999.0000,9,  -999.00, -999.000,9,  -999.00,9,  -999.00,9,   2.7362,2,  27.5895,2,   2.8523,2
49UP20180806_1,   P13,    66,  1,     12,     821,2,20180823,1429,1516, 11.4927, 164.2385, 3612,   1819.0,     1801,   2.4477,  34.6183,2,     95.5,2,  34.6190,2,    95.39,2,  -999.00,9,  -999.00,9,  -999.00,9, -999.000,9, -999.000,9, -999.000,9,   -999.0,9,   -999.0,9,-999.0000,9,  -999.00, -999.000,9,  -999.00,9,  -999.00,9,   2.3200,2,  27.6399,2,   2.4478,2
49UP20180806_1,   P13,    66,  1,     11,     820,2,20180823,1429,1510, 11.4927, 164.2385, 3612,   2023.3,     2002,   2.1969,  34.6330,2,    103.1,2,  34.6336,2,   103.27,2,  -999.00,9,  -999.00,9,  -999.00,9, -999.000,9, -999.000,9, -999.000,9,   -999.0,9,   -999.0,9,-999.0000,9,  -999.00, -999.000,9,  -999.00,9,  -999.00,9,   2.0555,2,  27.6732,2,   2.1969,2
49UP20180806_1,   P13,    66,  1,     10,     819,2,20180823,1429,1505, 11.4927, 164.2385, 3612,   2223.3,     2199,   2.0004,  34.6456,2,    110.9,2,  34.6462,6,   111.61,2,  -999.00,9,  -999.00,9,  -999.00,9, -999.000,9, -999.000,9, -999.000,9,   -999.0,9,   -999.0,9,-999.0000,9,  -999.00, -999.000,9,  -999.00,9,  -999.00,9,   1.8448,2,  27.6999,2,   2.0006,2
49UP20180806_1,   P13,    66,  1,      9,     818,2,20180823,1429,1500, 11.4927, 164.2385, 3612,   2428.5,     2401,   1.8718,  34.6541,2,    117.3,2,  34.6546,2,   116.72,2,  -999.00,9,  -999.00,9,  -999.00,9, -999.000,9, -999.000,9, -999.000,9,   -999.0,9,   -999.0,9,-999.0000,9,  -999.00, -999.000,9,  -999.00,9,  -999.00,9,   1.7003,2,  27.7177,2,   1.8718,2
49UP20180806_1,   P13,    66,  1,      8,     817,2,20180823,1429,1455, 11.4927, 164.2385, 3612,   2632.7,     2601,   1.7944,  34.6593,2,    122.0,2,  34.6596,2,   122.07,6,  -999.00,9,  -999.00,9,  -999.00,9, -999.000,9, -999.000,9, -999.000,9,   -999.0,9,   -999.0,9,-999.0000,9,  -999.00, -999.000,9,  -999.00,9,  -999.00,9,   1.6059,2,  27.7289,2,   1.7943,2
49UP20180806_1,   P13,    66,  1,      6,     815,2,20180823,1429,1450, 11.4927, 164.2385, 3612,   2836.6,     2802,   1.6970,  34.6657,2,    128.4,2,  34.6663,2,   128.11,2,  -999.00,9,  -999.00,9,  -999.00,9, -999.000,9, -999.000,9, -999.000,9,   -999.0,9,   -999.0,9,-999.0000,9,  -999.00, -999.000,9,  -999.00,9,  -999.00,9,   1.4915,2,  27.7425,2,   1.6968,2
49UP20180806_1,   P13,    66,  1,      7,     816,2,20180823,1429,1451, 11.4927, 164.2385, 3612,   2837.3,     2802,   1.6971,  34.6656,2,    128.4,2,  34.6658,2,   128.59,2,  -999.00,9,  -999.00,9,  -999.00,9, -999.000,9, -999.000,9, -999.000,9,   -999.0,9,   -999.0,9,-999.0000,9,  -999.00, -999.000,9,  -999.00,9,  -999.00,9,   1.4915,2,  27.7424,2,   1.6971,2
49UP20180806_1,   P13,    66,  1,      5,     814,2,20180823,1429,1446, 11.4927, 164.2385, 3612,   3040.2,     3001,   1.6593,  34.6688,2,    132.0,2,  34.6702,4,   131.87,2,  -999.00,9,  -999.00,9,  -999.00,9, -999.000,9, -999.000,9, -999.000,9,   -999.0,9,   -999.0,9,-999.0000,9,  -999.00, -999.000,9,  -999.00,9,  -999.00,9,   1.4351,2,  27.7491,2,   1.6593,2
49UP20180806_1,   P13,    66,  1,      4,     813,2,20180823,1429,1440, 11.4927, 164.2385, 3612,   3288.9,     3245,   1.5870,  34.6740,2,    138.7,2,  34.6745,2,   138.66,2,  -999.00,9,  -999.00,9,  -999.00,9, -999.000,9, -999.000,9, -999.000,9,   -999.0,9,   -999.0,9,-999.0000,9,  -999.00, -999.000,9,  -999.00,9,  -999.00,9,   1.3401,2,  27.7600,2,   1.5870,2
49UP20180806_1,   P13,    66,  1,      3,     812,2,20180823,1429,1434, 11.4927, 164.2385, 3612,   3549.2,     3500,   1.5361,  34.6786,2,    145.6,2,  34.6790,2,   145.02,2,  -999.00,9,  -999.00,9,  -999.00,9, -999.000,9, -999.000,9, -999.000,9,   -999.0,9,   -999.0,9,-999.0000,9,  -999.00, -999.000,9,  -999.00,9,  -999.00,9,   1.2640,2,  27.7691,2,   1.5362,2
49UP20180806_1,   P13,    66,  1,      1,     810,2,20180823,1429,1429, 11.4927, 164.2385, 3612,   3783.1,     3728,   1.4685,  34.6844,2,    155.0,2,  34.6843,6,   154.84,2,  -999.00,9,  -999.00,9,  -999.00,9, -999.000,9, -999.000,9, -999.000,9,   -999.0,9,   -999.0,9,-999.0000,9,  -999.00, -999.000,9,  -999.00,9,  -999.00,9,   1.1738,2,  27.7800,2,   1.4679,2