BOTTLE,20191018JMAGEMD
EXPOCODE,SECT_ID,STNNBR,CASTNO,SAMPNO,BTLNBR,BTLNBR_FLAG_U,DATE,TIME,BTL_TIME,LATITUDE,LONGITUDE,DEPTH,CTDPRS,CTDDEP,CTDTMP,CTDSAL,CTDSAL_FLAG_W,CTDOXY,CTDOXY_FLAG_W,SALNTY,SALNTY_FLAG_W,OXYGEN,OXYGEN_FLAG_W,SILCAT,SILCAT_FLAG_W,NO2+NO3,NO2+NO3_FLAG_W,NITRIT,NITRIT_FLAG_W,PHSPHT,PHSPHT_FLAG_W,CFC-11,CFC-11_FLAG_W,CFC-12,CFC-12_FLAG_W,TCARBN,TCARBN_FLAG_W,ALKALI,ALKALI_FLAG_W,PH_TS,PH_TS_FLAG_W,PH_TS_TMP,CFC113,CFC113_FLAG_W,CHLORA,CHLORA_FLAG_W,PPHYTN,PPHYTN_FLAG_W,THETA,THETA_FLAG_W,SIGTHT,SIGTHT_FLAG_W,SBE35,SBE35_FLAG_W
,,,,,,,,UTC,,,,METER,DBAR,METERS,ITS-90,PSS-78,,UMOL/KG,,PSS78,,UMOL/KG,,UMOL/KG,,UMOL/KG,,UMOL/KG,,UMOL/KG,,PMOL/KG,,PMOL/KG,,UMOL/KG,,UMOL/KG,,,,ITS-90,PMOL/KG,,UG/KG,,UG/KG,,ITS-90,,KG/M3,,ITS-90,
49UP20180806_2,   P13,    80,  1,      0,      -9,0,20180905,2358,0140,  5.0062, 165.0135, 4760,      0.0,        0,  29.5390,  33.3081,2,    197.4,2,  33.3501,2,   196.88,2,     1.49,3,     0.00,2,     0.00,2,    0.040,3, -999.000,9, -999.000,9,   1872.8,2,   2192.7,2,   8.1264,2,    25.00, -999.000,9,     0.10,2,     0.04,2,  29.5384,2,  20.6144,2,-999.0000,9
49UP20180806_2,   P13,    80,  1,     36,     845,3,20180905,2358,0219,  5.0062, 165.0135, 4760,     11.0,       11,  29.5466,  33.3151,2,    197.3,2,  33.3355,4,   197.68,2,     1.53,3,     0.00,2,     0.00,2,    0.020,3,    1.445,2,    0.853,2,   1872.7,2,   2192.0,2,   8.1294,6,    25.00,    0.139,2,     0.10,2,     0.03,2,  29.5440,2,  20.6178,2,  29.5460,2
49UP20180806_2,   P13,    80,  1,     35,     844,2,20180905,2358,0215,  5.0062, 165.0135, 4760,     51.3,       51,  29.2819,  34.0209,2,    199.4,2,  34.0074,2,   199.90,2,     1.68,3,     0.00,2,     0.00,2,    0.050,3,    1.494,2,    0.858,2,   1917.0,2,   2238.3,6,   8.1138,2,    25.00,    0.127,2,     0.13,2,     0.06,2,  29.2695,2,  21.2391,2,  29.2836,2
49UP20180806_2,   P13,    80,  1,     34,     843,2,20180905,2358,0213,  5.0062, 165.0135, 4760,     77.0,       77,  27.6335,  34.9299,2,    167.7,2,  34.9153,2,   168.35,2,     2.35,3,     2.69,2,     0.25,2,    0.350,3, -999.000,9, -999.000,9,   2009.9,2,   2295.6,2,   8.0346,2,    25.00, -999.000,9,     0.32,2,     0.40,2,  27.6156,2,  22.4670,2,  27.6371,2
49UP20180806_2,   P13,    80,  1,     33,     842,2,20180905,2358,0212,  5.0062, 165.0135, 4760,    100.2,      100,  26.4747,  35.1076,2,    148.0,2,  35.1074,2,   148.79,2,     3.05,3,     6.02,2,     0.27,2,    0.540,3,    1.606,2,    0.930,2,   2043.2,2,   2307.1,2,   7.9924,2,    25.00,    0.086,2,     0.20,2,     0.44,2,  26.4520,2,  22.9728,2,  26.4765,2
49UP20180806_2,   P13,    80,  1,     32,     841,2,20180905,2358,0210,  5.0062, 165.0135, 4760,    126.6,      126,  23.2225,  35.0775,2,    139.2,2,  35.0805,2,   140.34,6,     4.71,3,     7.97,6,     0.04,6,    0.650,3, -999.000,9, -999.000,9,   2066.3,2,   2306.0,2,   7.9366,2,    25.00, -999.000,9,     0.05,2,     0.19,2,  23.1964,2,  23.9356,2,  23.2101,2
49UP20180806_2,   P13,    80,  1,     31,     840,2,20180905,2358,0208,  5.0062, 165.0135, 4760,    152.6,      152,  20.6948,  35.0085,2,    140.2,2,  35.0089,2,   141.19,2,     6.93,3,     9.43,2,     0.02,2,    0.750,3,    0.000,4,    0.000,4,   2091.4,2,   2305.3,2,   7.8926,2,    25.00,    0.000,4,     0.03,2,     0.08,2,  20.6660,2,  24.5908,2,  20.6789,2
49UP20180806_2,   P13,    80,  1,     30,     839,2,20180905,2358,0205,  5.0062, 165.0135, 4760,    205.7,      204,  11.8614,  34.5419,2,     71.2,2,  34.5405,2,    72.32,2,    25.66,3,    26.27,2,     0.00,2,    1.940,3,    1.594,2,    0.803,2,   2208.7,2,   2288.4,2,   7.5791,2,    25.00,    0.013,2,     0.00,2,     0.03,2,  11.8349,2,  26.2646,2,  11.8604,2
49UP20180806_2,   P13,    80,  1,     29,     838,2,20180905,2358,0203,  5.0062, 165.0135, 4760,    253.0,      251,  10.0547,  34.5396,2,     88.7,2,  34.5399,2,    88.46,2,    33.35,3,    28.45,2,     0.00,2,    2.030,3,    1.285,2,    0.631,2,   2217.1,2,   2298.6,2,   7.5827,2,    25.00,    0.015,2,  -999.00,9,  -999.00,9,  10.0253,2,  26.5881,2,  10.0549,2
49UP20180806_2,   P13,    80,  1,     28,     837,2,20180905,2358,0200,  5.0062, 165.0135, 4760,    330.1,      328,   9.1907,  34.6091,2,     75.4,2,  34.6084,2,    75.15,2,    34.90,3,    31.69,2,     0.00,2,    2.230,3,    0.830,2,    0.396,2,   2229.2,2,   2305.6,2,   7.5451,2,    25.00,    0.006,2,  -999.00,9,  -999.00,9,   9.1542,2,  26.7872,2,   9.1910,2
49UP20180806_2,   P13,    80,  1,     27,     661,2,20180905,2358,0158,  5.0062, 165.0135, 4760,    382.5,      380,   8.9355,  34.6169,2,    110.7,2,  34.6155,2,   110.24,2,    31.81,3,    29.13,2,     0.00,2,    2.040,3, -999.000,9, -999.000,9,   2210.8,2,   2308.2,2,   7.6032,2,    25.00, -999.000,9,  -999.00,9,  -999.00,9,   8.8939,2,  26.8351,2,   8.9355,2
49UP20180806_2,   P13,    80,  1,     26,     835,2,20180905,2358,0156,  5.0062, 165.0135, 4760,    436.4,      434,   8.6140,  34.6065,2,    109.3,2,  34.6081,2,   109.68,2,    32.44,3,    29.73,2,     0.00,2,    2.080,3,    0.976,2,    0.469,2,   2211.2,2,   2307.1,2,   7.5949,2,    25.00,    0.008,2,  -999.00,9,  -999.00,9,   8.5674,2,  26.8783,2,   8.6147,2
49UP20180806_2,   P13,    80,  1,     25,     834,2,20180905,2358,0153,  5.0062, 165.0135, 4760,    484.0,      481,   8.3420,  34.5957,2,     81.9,2,  34.5956,2,    81.69,2,    37.30,3,    32.90,2,     0.00,2,    2.310,3, -999.000,9, -999.000,9,   2232.4,2,   2308.1,2,   7.5382,2,    25.00, -999.000,9,  -999.00,9,  -999.00,9,   8.2911,2,  26.9124,2,   8.3418,2
49UP20180806_2,   P13,    80,  1,     23,     832,2,20180905,2358,0150,  5.0062, 165.0135, 4760,    533.2,      530,   8.0314,  34.5891,2,     75.9,2,  34.5886,2,    76.63,2,    39.76,3,    34.09,2,     0.00,2,    2.390,3,    0.467,2,    0.226,2,   2246.5,2,   2310.6,2,   7.5257,2,    25.00,    0.004,2,  -999.00,9,  -999.00,9,   7.9764,2,  26.9547,2,   8.0318,2
49UP20180806_2,   P13,    80,  1,     22,     831,2,20180905,2358,0147,  5.0062, 165.0135, 4760,    635.5,      631,   7.2299,  34.5661,2,     57.1,2,  34.5658,2,    57.29,6,    49.78,3,    37.46,6,     0.00,6,    2.660,3,    0.188,2,    0.089,2,   2267.8,2,   2319.5,2,   7.4736,2,    25.00,    0.000,2,  -999.00,9,  -999.00,9,   7.1678,2,  27.0536,2,   7.2303,2
49UP20180806_2,   P13,    80,  1,     21,     830,2,20180905,2358,0144,  5.0062, 165.0135, 4760,    736.4,      731,   6.4406,  34.5466,2,     68.3,2,  34.5468,2,    69.05,2,    57.59,3,    38.04,2,     0.00,2,    2.710,3,    0.142,2,    0.058,2,   2268.1,2,   2325.0,2,   7.4838,2,    25.00,   -0.000,2,  -999.00,9,  -999.00,9,   6.3726,2,  27.1463,2,   6.4412,2
49UP20180806_2,   P13,    80,  1,     20,     829,2,20180905,2358,0140,  5.0062, 165.0135, 4760,    840.3,      834,   5.4304,  34.5429,2,     60.3,2,  34.5421,2,    60.35,2,    75.70,3,    40.25,2,     0.00,2,    2.880,3,    0.038,2,    0.012,2,   2302.0,2,   2342.9,2,   7.4580,2,    25.00,    0.004,2,  -999.00,9,  -999.00,9,   5.3586,2,  27.2707,2,   5.4323,2
49UP20180806_2,   P13,    80,  1,     19,     828,2,20180905,2358,0137,  5.0062, 165.0135, 4760,    937.9,      931,   4.8674,  34.5482,2,     73.3,2,  34.5486,2,    74.08,2,    84.53,3,    39.58,2,     0.00,2,    2.820,3,    0.038,2,    0.013,2,   2305.1,2,   2353.3,2,   7.4790,2,    25.00,    0.000,2,  -999.00,9,  -999.00,9,   4.7905,2,  27.3410,2,   4.8673,2
49UP20180806_2,   P13,    80,  1,     18,     660,2,20180905,2358,0131,  5.0062, 165.0135, 4760,   1081.3,     1073,   4.2243,  34.5622,2,     77.9,2,  34.5619,2,    78.92,2,    97.22,3,    39.81,2,     0.00,2,    2.840,3,    0.013,2,    0.005,2,   2316.6,2,   2368.1,2,   7.4804,2,    25.00,    0.003,2,  -999.00,9,  -999.00,9,   4.1399,2,  27.4233,2,   4.2248,2
49UP20180806_2,   P13,    80,  1,     17,     826,3,20180905,2358,0126,  5.0062, 165.0135, 4760,   1282.3,     1271,   3.5728,  34.5808,2,     79.5,2,  34.5815,2,    80.28,2,   111.74,3,    40.26,2,     0.00,2,    2.870,3,    0.007,2,    0.004,2,   2329.4,2,   2379.5,2,   7.4804,2,    25.00,    0.005,2,  -999.00,9,  -999.00,9,   3.4771,2,  27.5054,2,   3.5729,2
49UP20180806_2,   P13,    80,  1,     16,     825,2,20180905,2358,0121,  5.0062, 165.0135, 4760,   1485.5,     1472,   3.0746,  34.5980,2,     91.8,2,  34.5981,2,    92.00,2,   121.76,3,    39.67,2,     0.00,2,    2.810,3,    0.000,2,   -0.000,2,   2337.0,2,   2394.3,2,   7.4992,2,    25.00,    0.000,2,  -999.00,9,  -999.00,9,   2.9671,2,  27.5672,2,   3.0745,2
49UP20180806_2,   P13,    80,  1,     15,     824,2,20180905,2358,0115,  5.0062, 165.0135, 4760,   1686.8,     1671,   2.6087,  34.6172,2,    100.5,2,  34.6174,2,   100.74,2,   131.46,3,    39.31,2,     0.00,2,    2.770,3,    0.002,2,   -0.000,2,   2340.0,2,   2403.1,2,   7.5142,2,    25.00,    0.000,2,  -999.00,9,  -999.00,9,   2.4900,2,  27.6247,2,   2.6086,2
49UP20180806_2,   P13,    80,  1,     14,     823,2,20180905,2358,0110,  5.0062, 165.0135, 4760,   1890.9,     1872,   2.3358,  34.6306,2,    105.7,2,  34.6308,6,   106.16,2,   137.80,3,    39.06,2,     0.00,2,    2.740,3,    0.000,2,    0.000,2,   2342.8,2,   2409.2,2,   7.5206,2,    25.00,    0.000,2,  -999.00,9,  -999.00,9,   2.2036,2,  27.6593,2,   2.3358,2
49UP20180806_2,   P13,    80,  1,     13,     822,2,20180905,2358,0105,  5.0062, 165.0135, 4760,   2093.3,     2071,   2.1069,  34.6440,2,    111.1,2,  34.6440,2,   111.43,6,   143.24,3,    38.75,6,     0.00,6,    2.710,3,    0.000,2,    0.000,2,   2346.8,2,   2418.1,2,   7.5304,2,    25.00,    0.000,2,  -999.00,9,  -999.00,9,   1.9609,2,  27.6895,2,   2.1067,2
49UP20180806_2,   P13,    80,  1,     12,     821,2,20180905,2358,0058,  5.0062, 165.0135, 4760,   2296.9,     2272,   1.9741,  34.6518,2,    115.7,2,  34.6524,2,   115.75,2,   145.89,3,    38.42,2,     0.00,2,    2.680,3,    0.000,2,    0.000,2,   2352.0,2,   2420.1,2,   7.5385,2,    25.00,    0.000,2,  -999.00,9,  -999.00,9,   1.8125,2,  27.7073,2,   1.9742,2
49UP20180806_2,   P13,    80,  1,     11,     820,2,20180905,2358,0053,  5.0062, 165.0135, 4760,   2499.7,     2471,   1.8782,  34.6579,2,    120.5,2,  34.6582,2,   120.73,2,   147.35,3,    38.17,2,     0.00,2,    2.660,3,    0.000,2,    0.002,2,   2336.5,3,   2424.3,2,   7.5456,2,    25.00,    0.005,2,  -999.00,9,  -999.00,9,   1.7002,2,  27.7208,2,   1.8780,2
49UP20180806_2,   P13,    80,  1,     10,     819,2,20180905,2358,0048,  5.0062, 165.0135, 4760,   2703.5,     2671,   1.7788,  34.6628,2,    126.0,2,  34.6629,6,   126.31,2,   149.09,3,    37.84,2,     0.00,2,    2.630,3,    0.000,2,    0.000,2,   2343.8,2,   2422.3,2,   7.5509,2,    25.00,    0.000,2,  -999.00,9,  -999.00,9,   1.5840,2,  27.7334,2,   1.7788,2
49UP20180806_2,   P13,    80,  1,      9,     818,2,20180905,2358,0043,  5.0062, 165.0135, 4760,   2907.0,     2871,   1.7021,  34.6672,2,    132.3,2,  34.6672,6,   132.16,2,   148.27,3,    37.36,2,     0.00,2,    2.600,3,    0.002,2,    0.002,2,   2341.2,2,   2422.5,2,   7.5603,2,    25.00,    0.007,2,  -999.00,9,  -999.00,9,   1.4898,2,  27.7438,2,   1.7020,2
49UP20180806_2,   P13,    80,  1,      8,     817,2,20180905,2358,0038,  5.0062, 165.0135, 4760,   3121.0,     3081,   1.6469,  34.6711,2,    136.8,2,  34.6707,2,   136.80,2,   148.53,3,    37.03,2,     0.00,2,    2.570,3, -999.000,9, -999.000,9,   2337.6,2,   2422.2,2,   7.5668,6,    25.00, -999.000,9,  -999.00,9,  -999.00,9,   1.4151,2,  27.7524,2,   1.6468,2
49UP20180806_2,   P13,    80,  1,      7,     816,2,20180905,2358,0032,  5.0062, 165.0135, 4760,   3375.7,     3330,   1.5822,  34.6759,2,    143.1,2,  34.6747,2,   143.07,2,   146.07,3,    36.54,2,     0.00,2,    2.540,3, -999.000,9, -999.000,9,   2334.9,6,   2420.5,6,   7.5756,2,    25.00, -999.000,9,  -999.00,9,  -999.00,9,   1.3266,2,  27.7625,2,   1.5821,2
49UP20180806_2,   P13,    80,  1,      6,     815,2,20180905,2358,0026,  5.0062, 165.0135, 4760,   3630.6,     3580,   1.5221,  34.6811,2,    150.1,2,  34.6811,6,   150.02,2,   143.93,3,    36.10,2,     0.00,2,    2.490,3,   -0.000,2,    0.001,2,   2329.8,2,   2419.3,2,   7.5850,2,    25.00,    0.000,2,  -999.00,9,  -999.00,9,   1.2420,2,  27.7726,2,   1.5220,2
49UP20180806_2,   P13,    80,  1,      5,     814,2,20180905,2358,0020,  5.0062, 165.0135, 4760,   3887.1,     3830,   1.4878,  34.6851,2,    155.8,2,  34.6852,2,   156.05,2,   141.93,3,    35.71,2,     0.00,2,    2.460,3,    0.001,2,    0.000,2,   2323.1,2,   2415.9,2,   7.5922,2,    25.00,    0.003,2,  -999.00,9,  -999.00,9,   1.1815,2,  27.7801,2,   1.4878,2
49UP20180806_2,   P13,    80,  1,      4,     813,2,20180905,2358,0014,  5.0062, 165.0135, 4760,   4143.5,     4081,   1.4621,  34.6888,2,    162.0,2,  34.6884,2,   162.60,6,   139.12,3,    35.31,6,     0.00,6,    2.430,3,    0.000,2,    0.000,2,   2315.4,2,   2412.6,2,   7.5994,2,    25.00,    0.005,2,  -999.00,9,  -999.00,9,   1.1285,2,  27.7866,2,   1.4619,2
49UP20180806_2,   P13,    80,  1,      3,     812,2,20180905,2358,0008,  5.0062, 165.0135, 4760,   4399.9,     4331,   1.4359,  34.6927,2,    168.7,2,  34.6930,6,   169.18,2,   136.27,3,    34.81,2,     0.00,2,    2.390,3,    0.010,2,    0.004,2,   2313.8,2,   2410.0,2,   7.6088,2,    25.00,    0.000,2,  -999.00,9,  -999.00,9,   1.0744,2,  27.7935,2,   1.4358,2
49UP20180806_2,   P13,    80,  1,      2,     811,2,20180905,2358,0003,  5.0062, 165.0135, 4760,   4656.8,     4581,   1.4189,  34.6958,2,    174.1,2,  34.6960,2,   174.46,2,   133.36,3,    34.42,2,     0.00,2,    2.370,3,    0.012,2,    0.000,2,   2302.1,2,   2402.6,2,   7.6113,6,    25.00,    0.000,2,  -999.00,9,  -999.00,9,   1.0282,2,  27.7990,2,   1.4189,2
49UP20180806_2,   P13,    80,  1,      1,     810,2,20180905,2358,2358,  5.0062, 165.0135, 4760,   4833.0,     4752,   1.3702,  34.6998,2,    182.2,2,  34.7005,2,   182.39,2,   129.43,3,    33.88,2,     0.00,2,    2.330,3,    0.011,2,    0.001,2,   2295.5,6,   2396.8,6,   7.6174,2,    25.00,    0.000,2,  -999.00,9,  -999.00,9,   0.9603,2,  27.8068,2,   1.3701,2