BOTTLE,20191018JMAGEMD
EXPOCODE,SECT_ID,STNNBR,CASTNO,SAMPNO,BTLNBR,BTLNBR_FLAG_U,DATE,TIME,BTL_TIME,LATITUDE,LONGITUDE,DEPTH,CTDPRS,CTDDEP,CTDTMP,CTDSAL,CTDSAL_FLAG_W,CTDOXY,CTDOXY_FLAG_W,SALNTY,SALNTY_FLAG_W,OXYGEN,OXYGEN_FLAG_W,SILCAT,SILCAT_FLAG_W,NO2+NO3,NO2+NO3_FLAG_W,NITRIT,NITRIT_FLAG_W,PHSPHT,PHSPHT_FLAG_W,CFC-11,CFC-11_FLAG_W,CFC-12,CFC-12_FLAG_W,TCARBN,TCARBN_FLAG_W,ALKALI,ALKALI_FLAG_W,PH_TS,PH_TS_FLAG_W,PH_TS_TMP,CFC113,CFC113_FLAG_W,CHLORA,CHLORA_FLAG_W,PPHYTN,PPHYTN_FLAG_W,THETA,THETA_FLAG_W,SIGTHT,SIGTHT_FLAG_W,SBE35,SBE35_FLAG_W
,,,,,,,,UTC,,,,METER,DBAR,METERS,ITS-90,PSS-78,,UMOL/KG,,PSS78,,UMOL/KG,,UMOL/KG,,UMOL/KG,,UMOL/KG,,UMOL/KG,,PMOL/KG,,PMOL/KG,,UMOL/KG,,UMOL/KG,,,,ITS-90,PMOL/KG,,UG/KG,,UG/KG,,ITS-90,,KG/M3,,ITS-90,
49UP20180614_1,   P13,    11,  1,      0,      -9,0,20180623,1749,1935, 44.0843, 154.9515, 5342,      0.0,        0,   6.9912,  32.8778,2,    318.0,2,  32.8302,2,   315.33,2,    30.24,2,    18.66,2,     0.21,2,    1.680,2, -999.000,9, -999.000,9,   2083.4,2,   2231.8,2,   7.7706,2,    25.00, -999.000,9,     0.45,2,     0.08,2,   6.9910,2,  25.7485,2,-999.0000,9
49UP20180614_1,   P13,    11,  1,     36,     845,2,20180623,1749,2012, 44.0843, 154.9515, 5342,     11.5,       11,   6.9779,  32.8775,2,    317.8,2,  32.8799,2,   317.27,6,    30.07,6,    18.47,6,     0.20,6,    1.620,6,    4.201,2,    2.353,2,   2080.1,2,   2234.7,2,   7.7742,2,    25.00,    0.398,2,     0.44,2,     0.06,2,   6.9768,2,  25.7502,2,   6.9805,2
49UP20180614_1,   P13,    11,  1,     35,     844,3,20180623,1749,2008, 44.0843, 154.9515, 5342,     50.9,       50,   3.1436,  32.9826,2,    337.0,2,  32.9827,2,   337.55,2,    35.99,2,    22.36,2,     0.27,2,    1.830,2,    4.862,2,    2.677,2,   2115.3,2,   2239.2,2,   7.6995,2,    25.00,    0.476,2,     0.68,2,     0.30,2,   3.1406,2,  26.2625,2,   3.1441,2
49UP20180614_1,   P13,    11,  1,     34,     843,2,20180623,1749,2006, 44.0843, 154.9515, 5342,     75.7,       75,   2.7311,  32.9862,2,    332.1,2,  32.9861,2,   332.86,2,    36.33,2,    22.82,2,     0.32,2,    1.870,2, -999.000,9, -999.000,9,   2126.9,2,   2236.8,2,   7.6797,2,    25.00, -999.000,9,     0.49,2,     0.30,2,   2.7269,2,  26.3010,2,   2.7321,2
49UP20180614_1,   P13,    11,  1,     33,     842,2,20180623,1749,2005, 44.0843, 154.9515, 5342,    101.4,      101,   2.1796,  33.0266,2,    327.2,2,  33.0283,2,   328.31,2,    40.42,2,    24.94,2,     0.32,2,    1.960,2,    4.945,2,    2.731,2,   2137.5,2,   2237.7,2,   7.6475,2,    25.00,    0.468,2,     0.10,2,     0.11,2,   2.1744,2,  26.3776,2,   2.1785,2
49UP20180614_1,   P13,    11,  1,     32,     841,2,20180623,1749,2003, 44.0843, 154.9515, 5342,    125.4,      124,   1.6542,  33.1046,2,    311.7,2,  33.1014,2,   313.24,2,    47.29,2,    27.10,2,     0.01,2,    2.080,2, -999.000,9, -999.000,9,   2153.7,2,   2240.1,2,   7.6028,2,    25.00, -999.000,9,     0.04,2,     0.09,2,   1.6482,2,  26.4787,2,   1.6581,2
49UP20180614_1,   P13,    11,  1,     31,     840,2,20180623,1749,2002, 44.0843, 154.9515, 5342,    151.5,      150,   2.4801,  33.4004,2,    190.6,2,  33.3991,2,   190.70,2,    68.94,2,    34.49,2,     0.00,2,    2.530,2,    3.672,2,    2.027,2,   2229.0,2,   2262.3,2,   7.4341,2,    25.00,    0.312,2,     0.01,2,     0.09,2,   2.4718,2,  26.6531,2,   2.4763,2
49UP20180614_1,   P13,    11,  1,     30,     839,3,20180623,1749,2000, 44.0843, 154.9515, 5342,    203.8,      202,   3.5196,  33.7980,2,     48.6,2,  33.7916,2,    49.66,2,    94.98,2,    43.40,2,     0.00,2,    3.070,2,    2.290,2,    1.180,2,   2322.9,2,   2295.3,2,   7.2456,2,    25.00,    0.180,2,     0.01,2,     0.08,2,   3.5064,2,  26.8787,2,   3.5112,2
49UP20180614_1,   P13,    11,  1,     29,     838,2,20180623,1749,1958, 44.0843, 154.9515, 5342,    252.8,      251,   3.6225,  33.9387,2,     21.4,2,  33.9365,2,    21.56,2,   105.21,2,    44.94,2,     0.00,2,    3.170,2,    1.758,2,    0.879,2,   2341.8,2,   2307.0,2,   7.2183,2,    25.00,    0.131,2,  -999.00,9,  -999.00,9,   3.6058,2,  26.9812,2,   3.6225,2
49UP20180614_1,   P13,    11,  1,     28,     837,2,20180623,1749,1956, 44.0843, 154.9515, 5342,    286.6,      284,   3.5333,  33.9879,2,     23.3,2,  33.9869,2,    21.93,2,   109.66,2,    44.54,2,     0.00,2,    3.150,2,    1.565,2,    0.776,2,   2342.7,2,   2316.2,2,   7.2364,2,    25.00,    0.115,2,  -999.00,9,  -999.00,9,   3.5145,2,  27.0292,2,   3.5310,2
49UP20180614_1,   P13,    11,  1,     27,     661,2,20180623,1749,1953, 44.0843, 154.9515, 5342,    374.7,      371,   3.3771,  34.0965,2,     23.7,2,  34.0949,2,    23.52,6,   120.36,6,    43.77,6,     0.00,6,    3.100,6,    1.136,2,    0.553,2,   2355.6,2,   2333.9,2,   7.2669,2,    25.00,    0.084,2,  -999.00,9,  -999.00,9,   3.3526,2,  27.1312,2,   3.3782,2
49UP20180614_1,   P13,    11,  1,     26,     835,2,20180623,1749,1950, 44.0843, 154.9515, 5342,    476.2,      472,   3.2818,  34.1965,2,     17.6,2,  34.1957,2,    17.70,2,   130.06,2,    44.06,2,     0.00,2,    3.110,2,    0.728,2,    0.352,2,   2362.8,2,   2346.7,2,   7.2718,2,    25.00,    0.046,2,  -999.00,9,  -999.00,9,   3.2506,2,  27.2206,2,   3.2806,2
49UP20180614_1,   P13,    11,  1,     25,     834,2,20180623,1749,1947, 44.0843, 154.9515, 5342,    578.9,      573,   3.1303,  34.2608,2,     17.0,2,  34.2594,2,    16.95,2,   137.32,2,    44.03,2,     0.00,2,    3.110,2,    0.490,2,    0.246,2,   2369.8,2,   2357.0,2,   7.2793,2,    25.00,    0.033,2,  -999.00,9,  -999.00,9,   3.0925,2,  27.2865,2,   3.1302,2
49UP20180614_1,   P13,    11,  1,     24,     833,2,20180623,1749,1944, 44.0843, 154.9515, 5342,    679.9,      673,   2.9559,  34.3149,2,     18.5,2,  34.3143,2,    18.20,2,   144.23,2,    43.91,2,     0.00,2,    3.110,2,    0.345,2,    0.173,2,   2374.0,2,   2369.5,2,   7.2931,2,    25.00,    0.023,2,  -999.00,9,  -999.00,9,   2.9119,2,  27.3461,2,   2.9558,2
49UP20180614_1,   P13,    11,  1,     23,     832,2,20180623,1749,1941, 44.0843, 154.9515, 5342,    780.0,      772,   2.8079,  34.3580,2,     20.0,2,  34.3569,2,    19.44,2,   149.46,2,    43.85,2,     0.00,2,    3.100,2,    0.260,2,    0.132,2,   2378.1,2,   2375.1,2,   7.2957,2,    25.00,    0.017,2,  -999.00,9,  -999.00,9,   2.7577,2,  27.3943,2,   2.8072,2
49UP20180614_1,   P13,    11,  1,     22,     831,3,20180623,1749,1938, 44.0843, 154.9515, 5342,    880.3,      871,   2.6610,  34.3973,2,     23.1,2,  34.3960,2,    23.08,2,   154.34,2,    43.69,2,     0.00,2,    3.090,2,    0.192,2,    0.097,2,   2385.2,6,   2382.2,6,   7.3153,2,    25.00,    0.013,2,  -999.00,9,  -999.00,9,   2.6046,2,  27.4390,2,   2.6611,2
49UP20180614_1,   P13,    11,  1,     21,     830,2,20180623,1749,1935, 44.0843, 154.9515, 5342,    981.4,      971,   2.5363,  34.4304,2,     26.0,2,  34.4308,2,    25.76,2,   158.49,2,    43.52,2,     0.00,2,    3.080,2,    0.143,2,    0.077,2,   2384.6,2,   2387.3,2,   7.3228,6,    25.00,    0.012,2,  -999.00,9,  -999.00,9,   2.4735,2,  27.4767,2,   2.5361,2
49UP20180614_1,   P13,    11,  1,     20,     829,2,20180623,1749,1928, 44.0843, 154.9515, 5342,   1143.5,     1131,   2.3611,  34.4731,2,     37.6,2,  34.4734,2,    37.37,2,   161.61,2,    42.84,2,     0.00,2,    3.030,2,    0.080,2,    0.023,2,   2389.6,2,   2394.9,2,   7.3469,2,    25.00,    0.019,2,  -999.00,9,  -999.00,9,   2.2880,2,  27.5263,2,   2.3610,2
49UP20180614_1,   P13,    11,  1,     19,     828,2,20180623,1749,1923, 44.0843, 154.9515, 5342,   1346.4,     1331,   2.1899,  34.5212,2,     45.0,2,  34.5203,2,    44.57,2,   165.84,2,    42.49,2,     0.00,2,    3.000,2,    0.051,2,    0.021,2,   2381.8,2,   2402.8,2,   7.3737,2,    25.00,    0.007,2,  -999.00,9,  -999.00,9,   2.1033,2,  27.5798,2,   2.1896,2
49UP20180614_1,   P13,    11,  1,     18,     827,2,20180623,1749,1918, 44.0843, 154.9515, 5342,   1550.4,     1532,   2.0567,  34.5544,2,     53.7,2,  34.5545,2,    53.53,6,   168.37,6,    42.01,6,     0.00,6,    2.960,6,    0.022,2,    0.009,2,   2381.1,2,   2408.6,2,   7.3915,2,    25.00,    0.000,2,  -999.00,9,  -999.00,9,   1.9560,2,  27.6181,2,   2.0565,2
49UP20180614_1,   P13,    11,  1,     17,     826,2,20180623,1749,1913, 44.0843, 154.9515, 5342,   1753.8,     1732,   1.9430,  34.5833,2,     67.8,2,  34.5836,2,    67.45,2,   167.33,2,    41.27,2,     0.00,2,    2.890,2,    0.007,2,    0.004,2,   2374.3,2,   2411.9,2,   7.4196,2,    25.00,    0.009,2,  -999.00,9,  -999.00,9,   1.8277,2,  27.6513,2,   1.9430,2
49UP20180614_1,   P13,    11,  1,     16,     825,2,20180623,1749,1908, 44.0843, 154.9515, 5342,   1953.8,     1929,   1.8192,  34.6086,2,     82.1,2,  34.6079,2,    82.33,2,   166.31,2,    40.36,2,     0.00,2,    2.820,2,    0.001,6,    0.004,6,   2364.7,3,   2413.7,2,   7.4501,2,    25.00,    0.001,6,  -999.00,9,  -999.00,9,   1.6894,2,  27.6821,2,   1.8193,2
49UP20180614_1,   P13,    11,  1,     15,     824,2,20180623,1749,1904, 44.0843, 154.9515, 5342,   2158.0,     2130,   1.7195,  34.6273,2,     95.1,2,  34.6277,2,    94.99,2,   165.02,2,    39.56,2,     0.00,2,    2.770,2,    0.000,2,    0.001,2,   2363.7,2,   2416.0,2,   7.4736,2,    25.00,    0.000,2,  -999.00,9,  -999.00,9,   1.5742,2,  27.7056,2,   1.7195,2
49UP20180614_1,   P13,    11,  1,     14,     823,2,20180623,1749,1859, 44.0843, 154.9515, 5342,   2362.8,     2331,   1.6533,  34.6395,2,    104.7,2,  34.6401,2,   104.60,2,   163.65,2,    39.01,2,     0.00,2,    2.720,2,    0.000,2,    0.000,2,   2355.8,2,   2419.1,2,   7.4928,2,    25.00,    0.001,2,  -999.00,9,  -999.00,9,   1.4916,2,  27.7214,2,   1.6534,2
49UP20180614_1,   P13,    11,  1,     13,     822,2,20180623,1749,1854, 44.0843, 154.9515, 5342,   2564.0,     2528,   1.6003,  34.6490,2,    113.2,2,  34.6495,6,   113.23,2,   162.15,2,    38.53,2,     0.00,2,    2.680,2,    0.000,2,    0.001,2,   2350.3,2,   2418.2,2,   7.5098,2,    25.00,    0.000,2,  -999.00,9,  -999.00,9,   1.4218,2,  27.7341,2,   1.6004,2
49UP20180614_1,   P13,    11,  1,     12,     821,2,20180623,1749,1849, 44.0843, 154.9515, 5342,   2769.4,     2729,   1.5553,  34.6576,2,    121.5,2,  34.6571,2,   121.82,2,   160.16,2,    38.01,2,     0.00,2,    2.640,2,    0.004,2,    0.001,2,   2343.7,2,   2418.2,2,   7.5264,2,    25.00,   -0.000,2,  -999.00,9,  -999.00,9,   1.3590,2,  27.7455,2,   1.5553,2
49UP20180614_1,   P13,    11,  1,     11,     820,3,20180623,1749,1844, 44.0843, 154.9515, 5342,   2973.8,     2929,   1.5175,  34.6644,2,    128.8,2,  34.6628,4,   129.09,2,   158.37,2,    37.56,2,     0.00,2,    2.600,2, -999.000,9, -999.000,9,   2341.6,6,   2418.9,6,   7.5379,2,    25.00, -999.000,9,  -999.00,9,  -999.00,9,   1.3029,2,  27.7550,2,   1.5174,2
49UP20180614_1,   P13,    11,  1,     10,     819,2,20180623,1749,1839, 44.0843, 154.9515, 5342,   3219.5,     3169,   1.4927,  34.6700,2,    135.1,2,  34.6703,6,   134.66,2,   156.94,2,    37.04,2,     0.00,2,    2.570,2, -999.000,9, -999.000,9,   2339.9,2,   2419.8,2,   7.5516,2,    25.00, -999.000,9,  -999.00,9,  -999.00,9,   1.2548,2,  27.7628,2,   1.4927,2
49UP20180614_1,   P13,    11,  1,      9,     818,2,20180623,1749,1834, 44.0843, 154.9515, 5342,   3475.4,     3419,   1.4740,  34.6748,2,    140.8,2,  34.6750,2,   140.51,6,   155.50,6,    36.78,6,     0.00,6,    2.540,6, -999.000,9, -999.000,9,   2332.3,2,   2418.1,2,   7.5619,2,    25.00, -999.000,9,  -999.00,9,  -999.00,9,   1.2111,2,  27.7698,2,   1.4740,2
49UP20180614_1,   P13,    11,  1,      8,     817,2,20180623,1749,1828, 44.0843, 154.9515, 5342,   3731.3,     3669,   1.4593,  34.6794,2,    146.1,2,  34.6787,2,   146.33,2,   153.88,2,    36.45,2,     0.00,2,    2.510,2,    0.000,2,    0.002,2,   2335.1,2,   2419.4,2,   7.5715,2,    25.00,    0.006,2,  -999.00,9,  -999.00,9,   1.1702,2,  27.7762,2,   1.4592,2
49UP20180614_1,   P13,    11,  1,      7,     816,2,20180623,1749,1823, 44.0843, 154.9515, 5342,   3988.2,     3919,   1.4608,  34.6823,2,    149.5,2,  34.6825,2,   149.29,2,   152.91,2,    36.18,2,     0.00,2,    2.490,2, -999.000,9, -999.000,9,   2326.9,2,   2417.6,2,   7.5768,2,    25.00, -999.000,9,  -999.00,9,  -999.00,9,   1.1443,2,  27.7804,2,   1.4608,2
49UP20180614_1,   P13,    11,  1,      6,     815,2,20180623,1749,1817, 44.0843, 154.9515, 5342,   4245.5,     4170,   1.4650,  34.6849,2,    152.8,2,  34.6848,2,   152.92,2,   152.27,2,    36.01,2,     0.00,2,    2.480,2, -999.000,9, -999.000,9,   2329.3,2,   2417.8,2,   7.5807,2,    25.00, -999.000,9,  -999.00,9,  -999.00,9,   1.1200,2,  27.7840,2,   1.4650,2
49UP20180614_1,   P13,    11,  1,      5,     814,2,20180623,1749,1811, 44.0843, 154.9515, 5342,   4503.1,     4420,   1.4712,  34.6873,2,    155.7,2,  34.6862,2,   155.65,2,   152.01,2,    35.79,2,     0.00,2,    2.460,2, -999.000,9, -999.000,9,   2325.8,2,   2418.4,2,   7.5850,2,    25.00, -999.000,9,  -999.00,9,  -999.00,9,   1.0968,2,  27.7876,2,   1.4712,2
49UP20180614_1,   P13,    11,  1,      4,     813,2,20180623,1749,1805, 44.0843, 154.9515, 5342,   4760.1,     4670,   1.4943,  34.6883,2,    156.6,2,  34.6885,6,   156.88,2,   152.11,2,    35.73,2,     0.00,2,    2.450,2,    0.004,2,    0.002,2,   2328.0,2,   2416.6,2,   7.5883,2,    25.00,    0.000,2,  -999.00,9,  -999.00,9,   1.0890,2,  27.7889,2,   1.4941,2
49UP20180614_1,   P13,    11,  1,      3,     812,2,20180623,1749,1800, 44.0843, 154.9515, 5342,   5017.8,     4920,   1.5195,  34.6891,2,    157.3,2,  34.6882,2,   157.46,2,   152.21,2,    35.67,2,     0.00,2,    2.450,2, -999.000,9, -999.000,9,   2321.2,6,   2418.1,6,   7.5908,2,    25.00, -999.000,9,  -999.00,9,  -999.00,9,   1.0824,2,  27.7900,2,   1.5196,2
49UP20180614_1,   P13,    11,  1,      2,     811,2,20180623,1749,1754, 44.0843, 154.9515, 5342,   5277.7,     5172,   1.5479,  34.6897,2,    157.9,2,  34.6899,2,   157.54,2,   152.62,2,    35.61,2,     0.00,2,    2.450,2, -999.000,9, -999.000,9,   2321.9,2,   2416.1,2,   7.5896,6,    25.00, -999.000,9,  -999.00,9,  -999.00,9,   1.0778,2,  27.7908,2,   1.5479,2
49UP20180614_1,   P13,    11,  1,      1,     810,2,20180623,1749,1750, 44.0843, 154.9515, 5342,   5446.6,     5335,   1.5664,  34.6903,2,    158.4,2,  34.6890,4,   158.16,2,   152.38,2,    35.65,2,     0.00,2,    2.450,2,    0.006,2,    0.002,2,   2320.8,2,   2417.6,2,   7.5916,2,    25.00,    0.010,2,  -999.00,9,  -999.00,9,   1.0742,2,  27.7915,2,   1.5664,2