BOTTLE,20191018JMAGEMD
EXPOCODE,SECT_ID,STNNBR,CASTNO,SAMPNO,BTLNBR,BTLNBR_FLAG_U,DATE,TIME,BTL_TIME,LATITUDE,LONGITUDE,DEPTH,CTDPRS,CTDDEP,CTDTMP,CTDSAL,CTDSAL_FLAG_W,CTDOXY,CTDOXY_FLAG_W,SALNTY,SALNTY_FLAG_W,OXYGEN,OXYGEN_FLAG_W,SILCAT,SILCAT_FLAG_W,NO2+NO3,NO2+NO3_FLAG_W,NITRIT,NITRIT_FLAG_W,PHSPHT,PHSPHT_FLAG_W,CFC-11,CFC-11_FLAG_W,CFC-12,CFC-12_FLAG_W,TCARBN,TCARBN_FLAG_W,ALKALI,ALKALI_FLAG_W,PH_TS,PH_TS_FLAG_W,PH_TS_TMP,CFC113,CFC113_FLAG_W,CHLORA,CHLORA_FLAG_W,PPHYTN,PPHYTN_FLAG_W,THETA,THETA_FLAG_W,SIGTHT,SIGTHT_FLAG_W,SBE35,SBE35_FLAG_W
,,,,,,,,UTC,,,,METER,DBAR,METERS,ITS-90,PSS-78,,UMOL/KG,,PSS78,,UMOL/KG,,UMOL/KG,,UMOL/KG,,UMOL/KG,,UMOL/KG,,PMOL/KG,,PMOL/KG,,UMOL/KG,,UMOL/KG,,,,ITS-90,PMOL/KG,,UG/KG,,UG/KG,,ITS-90,,KG/M3,,ITS-90,
49UP20180614_2,   P13,    33,  1,      0,      -9,0,20180716,0431,0602, 37.0227, 164.9862, 4859,      0.0,        0,  24.0117,  34.5418,2,    218.0,2,  34.5291,2,   218.87,2,     3.02,3,     0.00,2,     0.00,2,    0.070,3, -999.000,9, -999.000,9,   1994.5,2,   2274.3,2,   8.0284,2,    25.00, -999.000,9,     0.07,2,     0.01,2,  24.0113,2,  23.2912,2,-999.0000,9
49UP20180614_2,   P13,    33,  1,     36,     845,2,20180716,0431,0641, 37.0227, 164.9862, 4859,     11.2,       11,  23.8193,  34.5383,2,    218.3,2,  34.5388,2,   219.25,2,     2.67,3,     0.00,2,     0.00,2,    0.030,3,    1.641,2,    1.000,2,   1993.7,2,   2275.7,2,   8.0232,2,    25.00,    0.140,2,     0.07,2,     0.01,2,  23.8170,2,  23.3458,2,  23.8192,2
49UP20180614_2,   P13,    33,  1,     35,     844,2,20180716,0431,0639, 37.0227, 164.9862, 4859,     25.7,       26,  19.3851,  34.3241,2,    239.9,2,  34.3210,2,   239.69,6,     4.66,3,     0.00,6,     0.00,6,    0.050,3, -999.000,9, -999.000,9,   1997.4,2,   2264.2,2,   8.0115,2,    25.00, -999.000,9,     0.09,2,     0.02,2,  19.3805,2,  24.4073,2,  19.3847,2
49UP20180614_2,   P13,    33,  1,     34,     843,2,20180716,0431,0637, 37.0227, 164.9862, 4859,     51.4,       51,  16.0921,  34.5735,2,    257.8,2,  34.5708,2,   257.79,2,     5.93,3,     1.02,2,     0.07,2,    0.160,3,    2.186,2,    1.311,2,   2018.1,2,   2281.1,2,   7.9898,2,    25.00,    0.159,2,     0.68,2,     0.33,2,  16.0840,2,  25.4003,2,  16.1064,2
49UP20180614_2,   P13,    33,  1,     33,     842,2,20180716,0431,0636, 37.0227, 164.9862, 4859,     76.3,       76,  14.8154,  34.5556,2,    230.6,2,  34.5549,2,   230.13,2,     8.05,3,     5.85,2,     0.20,2,    0.410,3, -999.000,9, -999.000,9,   2050.7,2,   2277.3,2,   7.9209,2,    25.00, -999.000,9,     0.36,2,     0.25,2,  14.8040,2,  25.6720,2,  14.8263,2
49UP20180614_2,   P13,    33,  1,     32,     841,2,20180716,0431,0634, 37.0227, 164.9862, 4859,    101.8,      101,  13.9916,  34.4893,2,    224.2,2,  34.4891,2,   223.94,2,     9.77,3,     7.82,2,     0.02,2,    0.540,3,    2.282,2,    1.348,2,   2064.9,2,   2275.4,2,   7.8938,2,    25.00,    0.142,2,     0.16,2,     0.08,2,  13.9770,2,  25.7972,2,  13.9920,2
49UP20180614_2,   P13,    33,  1,     31,     840,2,20180716,0431,0632, 37.0227, 164.9862, 4859,    126.7,      126,  13.6271,  34.4630,2,    224.9,2,  34.4620,2,   224.53,2,    10.52,3,     8.28,2,     0.02,2,    0.580,3, -999.000,9, -999.000,9,   2074.3,2,   2275.5,2,   7.8796,2,    25.00, -999.000,9,     0.06,2,     0.05,2,  13.6093,2,  25.8532,2,  13.6302,2
49UP20180614_2,   P13,    33,  1,     30,     839,2,20180716,0431,0631, 37.0227, 164.9862, 4859,    150.5,      149,  13.1234,  34.4278,2,    219.0,2,  34.4287,2,   218.81,2,    12.38,3,     9.69,2,     0.01,2,    0.660,3,    2.311,6,    1.361,6,   2077.3,2,   2275.6,2,   7.8624,2,    25.00,    0.127,6,     0.01,2,     0.03,2,  13.1027,2,  25.9289,2,  13.1177,2
49UP20180614_2,   P13,    33,  1,     29,     838,2,20180716,0431,0629, 37.0227, 164.9862, 4859,    204.9,      203,  11.7525,  34.3348,2,    209.9,2,  34.3351,2,   209.87,2,    17.99,3,    12.86,2,     0.01,2,    0.890,3,    2.382,2,    1.382,2,   2102.3,2,   2275.3,2,   7.8123,2,    25.00,    0.120,2,     0.00,2,     0.02,2,  11.7263,2,  26.1240,2,  11.7413,2
49UP20180614_2,   P13,    33,  1,     28,     837,2,20180716,0431,0627, 37.0227, 164.9862, 4859,    253.1,      251,  10.4629,  34.2279,2,    204.2,2,  34.2278,2,   204.24,2,    23.08,3,    15.56,2,     0.00,2,    1.080,3,    2.468,2,    1.413,2,   2120.4,2,   2274.3,2,   7.7692,2,    25.00,    0.122,2,  -999.00,9,  -999.00,9,  10.4328,2,  26.2747,2,  10.4578,2
49UP20180614_2,   P13,    33,  1,     27,     661,2,20180716,0431,0623, 37.0227, 164.9862, 4859,    280.6,      278,   9.9048,  34.1817,2,    203.9,2,  34.1825,2,   203.19,2,    25.73,3,    16.51,2,     0.01,2,    1.160,3,    2.485,2,    1.411,2,   2127.9,2,   2274.6,2,   7.7515,2,    25.00,    0.115,2,  -999.00,9,  -999.00,9,   9.8726,2,  26.3344,2,   9.9057,2
49UP20180614_2,   P13,    33,  1,     26,     835,2,20180716,0431,0620, 37.0227, 164.9862, 4859,    373.7,      371,   7.3225,  33.9523,2,    187.0,2,  33.9536,2,   185.77,6,    40.24,3,    22.93,6,     0.00,6,    1.650,3,    2.637,2,    1.453,2,   2175.7,2,   2276.1,2,   7.6440,2,    25.00,    0.146,2,  -999.00,9,  -999.00,9,   7.2868,2,  26.5537,2,   7.3233,2
49UP20180614_2,   P13,    33,  1,     25,     834,2,20180716,0431,0617, 37.0227, 164.9862, 4859,    473.2,      469,   6.0493,  33.9768,2,    139.4,2,  33.9771,2,   138.12,2,    61.05,3,    29.61,2,     0.00,2,    2.150,3,    2.206,2,    1.153,2,   2222.3,2,   2289.5,2,   7.5315,6,    25.00,    0.108,2,  -999.00,9,  -999.00,9,   6.0083,2,  26.7430,2,   6.0509,2
49UP20180614_2,   P13,    33,  1,     23,     832,2,20180716,0431,0614, 37.0227, 164.9862, 4859,    575.0,      570,   5.0362,  34.0616,2,     94.1,2,  34.0617,2,    93.70,2,    83.14,3,    35.26,2,     0.00,2,    2.570,3,    1.590,2,    0.794,2,   2268.3,2,   2311.1,2,   7.4370,2,    25.00,    0.061,2,  -999.00,9,  -999.00,9,   4.9903,2,  26.9324,2,   5.0366,2
49UP20180614_2,   P13,    33,  1,     24,     833,2,20180716,0431,0614, 37.0227, 164.9862, 4859,    575.1,      570,   5.0368,  34.0615,2,     94.2,2,  34.0601,2,    93.54,2,    83.10,3,    35.30,2,     0.00,2,    2.570,3,    1.580,2,    0.785,2,   2272.9,2,   2309.8,2,   7.4415,2,    25.00,    0.068,2,  -999.00,9,  -999.00,9,   4.9909,2,  26.9322,2,   5.0393,2
49UP20180614_2,   P13,    33,  1,     22,     831,2,20180716,0431,0611, 37.0227, 164.9862, 4859,    676.7,      671,   4.5275,  34.1410,2,     68.8,2,  34.1396,2,    68.86,2,    97.52,3,    38.21,2,     0.00,2,    2.760,3,    1.132,2,    0.550,2,   2303.7,2,   2325.5,2,   7.3908,2,    25.00,    0.047,2,  -999.00,9,  -999.00,9,   4.4756,2,  27.0527,2,   4.5281,2
49UP20180614_2,   P13,    33,  1,     21,     830,2,20180716,0431,0608, 37.0227, 164.9862, 4859,    776.2,      769,   4.0335,  34.2052,2,     50.6,2,  34.2046,2,    50.69,2,   111.13,3,    40.30,2,     0.00,2,    2.880,3,    0.773,2,    0.353,2,   2327.5,2,   2339.4,2,   7.3628,2,    25.00,    0.027,2,  -999.00,9,  -999.00,9,   3.9763,2,  27.1563,2,   4.0332,2
49UP20180614_2,   P13,    33,  1,     20,     829,2,20180716,0431,0605, 37.0227, 164.9862, 4859,    879.1,      871,   3.6169,  34.2720,2,     39.8,2,  34.2720,6,    39.48,2,   123.82,3,    41.42,2,     0.00,2,    2.950,3,    0.476,2,    0.227,2,   2346.0,2,   2355.7,2,   7.3448,2,    25.00,    0.019,2,  -999.00,9,  -999.00,9,   3.5542,2,  27.2518,2,   3.6170,2
49UP20180614_2,   P13,    33,  1,     19,     828,2,20180716,0431,0602, 37.0227, 164.9862, 4859,    979.4,      970,   3.3046,  34.3278,2,     34.9,2,  34.3290,2,    34.63,2,   133.22,3,    42.22,2,     0.00,2,    2.990,3,    0.300,2,    0.145,2,   2359.9,2,   2367.5,2,   7.3476,2,    25.00,    0.005,2,  -999.00,9,  -999.00,9,   3.2362,2,  27.3266,2,   3.3046,2
49UP20180614_2,   P13,    33,  1,     18,     827,2,20180716,0431,0557, 37.0227, 164.9862, 4859,   1142.8,     1131,   2.9451,  34.3959,2,     33.4,2,  34.3961,2,    33.02,2,   144.26,3,    42.75,2,     0.00,2,    3.010,3,    0.156,2,    0.076,2,   2373.5,2,   2379.3,2,   7.3442,2,    25.00,    0.000,2,  -999.00,9,  -999.00,9,   2.8670,2,  27.4149,2,   2.9453,2
49UP20180614_2,   P13,    33,  1,     17,     826,2,20180716,0431,0552, 37.0227, 164.9862, 4859,   1345.2,     1331,   2.6107,  34.4622,2,     35.0,2,  34.4612,2,    34.86,6,   154.19,3,    43.00,6,     0.00,6,    3.020,3,    0.065,2,    0.030,2,   2384.7,2,   2393.7,2,   7.3538,2,    25.00,    0.000,2,  -999.00,9,  -999.00,9,   2.5199,2,  27.4982,2,   2.6106,2
49UP20180614_2,   P13,    33,  1,     16,     825,2,20180716,0431,0547, 37.0227, 164.9862, 4859,   1548.4,     1531,   2.3598,  34.5090,2,     42.0,2,  34.5088,2,    41.77,2,   161.20,3,    42.79,2,     0.00,2,    3.010,3,    0.029,2,    0.012,2,   2390.1,2,   2402.6,2,   7.3692,2,    25.00,    0.000,2,  -999.00,9,  -999.00,9,   2.2557,2,  27.5577,2,   2.3597,2
49UP20180614_2,   P13,    33,  1,     15,     824,3,20180716,0431,0542, 37.0227, 164.9862, 4859,   1752.1,     1732,   2.1558,  34.5489,2,     52.3,2,  34.5472,2,    51.91,2,   165.27,3,    42.19,2,     0.00,2,    2.960,3,    0.015,6,    0.008,6,   2382.7,2,   2408.4,2,   7.3927,2,    25.00,    0.000,6,  -999.00,9,  -999.00,9,   2.0379,2,  27.6072,2,   2.1559,2
49UP20180614_2,   P13,    33,  1,     14,     823,2,20180716,0431,0537, 37.0227, 164.9862, 4859,   1955.6,     1932,   1.9952,  34.5793,2,     64.4,2,  34.5794,6,    64.12,2,   168.25,3,    41.61,2,     0.00,2,    2.900,3,    0.000,2,    0.003,2,   2380.3,2,   2414.5,2,   7.4174,2,    25.00,    0.000,2,  -999.00,9,  -999.00,9,   1.8627,2,  27.6453,2,   1.9954,2
49UP20180614_2,   P13,    33,  1,     13,     822,2,20180716,0431,0532, 37.0227, 164.9862, 4859,   2158.1,     2131,   1.8559,  34.6052,2,     78.4,2,  34.6046,2,    78.01,2,   168.70,3,    40.69,2,     0.00,2,    2.840,3,    0.000,2,    0.003,2,   2371.8,2,   2414.4,2,   7.4465,2,    25.00,    0.000,2,  -999.00,9,  -999.00,9,   1.7085,2,  27.6779,2,   1.8560,2
49UP20180614_2,   P13,    33,  1,     12,     821,2,20180716,0431,0527, 37.0227, 164.9862, 4859,   2361.5,     2331,   1.7437,  34.6254,2,     92.4,2,  34.6257,2,    91.74,2,   167.76,3,    39.69,2,     0.00,2,    2.780,3,    0.932,4,    2.086,4,   2364.8,6,   2419.0,6,   7.4738,2,    25.00,    0.385,4,  -999.00,9,  -999.00,9,   1.5805,2,  27.7036,2,   1.7438,2
49UP20180614_2,   P13,    33,  1,     11,     820,2,20180716,0431,0522, 37.0227, 164.9862, 4859,   2566.1,     2532,   1.6620,  34.6401,2,    104.2,2,  34.6353,4,   103.52,2,   165.37,3,    39.10,2,     0.00,2,    2.720,3,    0.140,4,    0.303,4,   2357.3,2,   2419.9,2,   7.4984,2,    25.00,    0.068,4,  -999.00,9,  -999.00,9,   1.4821,2,  27.7226,2,   1.6622,2
49UP20180614_2,   P13,    33,  1,     10,     819,2,20180716,0431,0517, 37.0227, 164.9862, 4859,   2770.4,     2732,   1.5945,  34.6519,2,    115.2,2,  34.6520,2,   114.91,2,   162.96,3,    38.34,2,     0.00,2,    2.660,3,    0.105,4,    0.226,4,   2352.0,2,   2419.1,2,   7.5165,2,    25.00,    0.045,4,  -999.00,9,  -999.00,9,   1.3974,2,  27.7382,2,   1.5947,2
49UP20180614_2,   P13,    33,  1,      9,     818,2,20180716,0431,0512, 37.0227, 164.9862, 4859,   2974.8,     2932,   1.5366,  34.6619,2,    125.4,2,  34.6619,2,   124.87,6,   160.72,3,    37.59,6,     0.00,6,    2.610,3, -999.000,9, -999.000,9,   2346.3,2,   2420.5,2,   7.5379,2,    25.00, -999.000,9,  -999.00,9,  -999.00,9,   1.3214,2,  27.7516,2,   1.5369,2
49UP20180614_2,   P13,    33,  1,      7,     816,2,20180716,0431,0506, 37.0227, 164.9862, 4859,   3218.1,     3170,   1.4925,  34.6698,2,    134.3,2,  34.6698,2,   133.89,2,   158.03,3,    37.12,2,     0.00,2,    2.540,3, -999.000,9, -999.000,9,   2336.1,2,   2419.8,2,   7.5534,2,    25.00, -999.000,9,  -999.00,9,  -999.00,9,   1.2549,2,  27.7626,2,   1.4926,2
49UP20180614_2,   P13,    33,  1,      8,     817,2,20180716,0431,0506, 37.0227, 164.9862, 4859,   3219.3,     3171,   1.4924,  34.6700,2,    134.3,2,  34.6697,2,   134.00,2,   158.15,3,    37.22,2,     0.00,2,    2.550,3, -999.000,9, -999.000,9,   2338.7,2,   2419.8,2,   7.5531,2,    25.00, -999.000,9,  -999.00,9,  -999.00,9,   1.2546,2,  27.7629,2,   1.4926,2
49UP20180614_2,   P13,    33,  1,      6,     815,2,20180716,0431,0500, 37.0227, 164.9862, 4859,   3475.9,     3422,   1.4671,  34.6758,2,    141.0,2,  34.6756,2,   140.47,2,   155.97,3,    36.61,2,     0.00,2,    2.510,3, -999.000,9, -999.000,9,   2333.7,6,   2420.3,6,   7.5644,2,    25.00, -999.000,9,  -999.00,9,  -999.00,9,   1.2043,2,  27.7710,2,   1.4674,2
49UP20180614_2,   P13,    33,  1,      5,     814,2,20180716,0431,0454, 37.0227, 164.9862, 4859,   3731.7,     3672,   1.4471,  34.6808,2,    147.2,2,  34.6809,2,   147.56,2,   154.26,3,    36.11,2,     0.00,2,    2.470,3,    0.000,2,    0.000,2,   2327.3,2,   2420.0,2,   7.5753,6,    25.00,    0.000,2,  -999.00,9,  -999.00,9,   1.1584,2,  27.7782,2,   1.4473,2
49UP20180614_2,   P13,    33,  1,      4,     813,2,20180716,0431,0448, 37.0227, 164.9862, 4859,   3987.9,     3922,   1.4454,  34.6840,2,    151.1,2,  34.6841,6,   150.88,2,   153.41,3,    36.10,2,     0.00,2,    2.450,3, -999.000,9, -999.000,9,   2326.1,2,   2422.1,2,   7.5827,2,    25.00, -999.000,9,  -999.00,9,  -999.00,9,   1.1293,2,  27.7827,2,   1.4455,2
49UP20180614_2,   P13,    33,  1,      3,     812,2,20180716,0431,0443, 37.0227, 164.9862, 4859,   4242.3,     4169,   1.4515,  34.6863,2,    154.0,2,  34.6870,2,   153.62,2,   153.32,3,    35.85,2,     0.00,2,    2.440,3, -999.000,9, -999.000,9,   2323.0,2,   2419.9,6,   7.5888,2,    25.00, -999.000,9,  -999.00,9,  -999.00,9,   1.1073,2,  27.7861,2,   1.4516,2
49UP20180614_2,   P13,    33,  1,      2,     811,2,20180716,0431,0437, 37.0227, 164.9862, 4859,   4500.7,     4421,   1.4635,  34.6882,2,    156.2,2,  34.6888,2,   155.93,2,   154.73,3,    35.58,2,     0.00,2,    2.460,3, -999.000,9, -999.000,9,   2323.2,2,   2421.4,2,   7.5919,6,    25.00, -999.000,9,  -999.00,9,  -999.00,9,   1.0896,2,  27.7888,2,   1.4636,2
49UP20180614_2,   P13,    33,  1,      1,     810,2,20180716,0431,0431, 37.0227, 164.9862, 4859,   4744.8,     4658,   1.4864,  34.6890,2,    156.9,2,  34.6895,6,   157.02,2,   154.62,3,    35.66,2,     0.00,2,    2.460,3,    0.002,2,    0.001,2,   2325.7,2,   2420.5,2,   7.5946,2,    25.00,   -0.000,2,  -999.00,9,  -999.00,9,   1.0833,2,  27.7899,2,   1.4865,2