BOTTLE,20191018JMAGEMD
EXPOCODE,SECT_ID,STNNBR,CASTNO,SAMPNO,BTLNBR,BTLNBR_FLAG_U,DATE,TIME,BTL_TIME,LATITUDE,LONGITUDE,DEPTH,CTDPRS,CTDDEP,CTDTMP,CTDSAL,CTDSAL_FLAG_W,CTDOXY,CTDOXY_FLAG_W,SALNTY,SALNTY_FLAG_W,OXYGEN,OXYGEN_FLAG_W,SILCAT,SILCAT_FLAG_W,NO2+NO3,NO2+NO3_FLAG_W,NITRIT,NITRIT_FLAG_W,PHSPHT,PHSPHT_FLAG_W,CFC-11,CFC-11_FLAG_W,CFC-12,CFC-12_FLAG_W,TCARBN,TCARBN_FLAG_W,ALKALI,ALKALI_FLAG_W,PH_TS,PH_TS_FLAG_W,PH_TS_TMP,CFC113,CFC113_FLAG_W,CHLORA,CHLORA_FLAG_W,PPHYTN,PPHYTN_FLAG_W,THETA,THETA_FLAG_W,SIGTHT,SIGTHT_FLAG_W,SBE35,SBE35_FLAG_W
,,,,,,,,UTC,,,,METER,DBAR,METERS,ITS-90,PSS-78,,UMOL/KG,,PSS78,,UMOL/KG,,UMOL/KG,,UMOL/KG,,UMOL/KG,,UMOL/KG,,PMOL/KG,,PMOL/KG,,UMOL/KG,,UMOL/KG,,,,ITS-90,PMOL/KG,,UG/KG,,UG/KG,,ITS-90,,KG/M3,,ITS-90,
49UP20180614_1,   P13,    13,  1,      0,      -9,0,20180624,1553,1737, 46.0612, 158.3380, 4827,      0.0,        0,   4.9940,  32.9903,2,    331.4,2,  32.9806,2,   329.43,2,    32.65,2,    20.59,2,     0.20,2,    1.700,2, -999.000,9, -999.000,9,   2097.7,2,   2237.9,2,   7.7521,2,    25.00, -999.000,9,     0.75,2,     0.19,2,   4.9938,2,  26.0829,2,-999.0000,9
49UP20180614_1,   P13,    13,  1,     36,     845,2,20180624,1553,1805, 46.0612, 158.3380, 4827,     11.5,       11,   4.8266,  32.9923,2,    332.8,2,  32.9941,2,   332.66,2,    32.70,2,    20.66,2,     0.20,2,    1.690,2,    4.519,2,    2.511,2,   2094.9,2,   2238.8,2,   7.7539,2,    25.00,    0.426,2,     0.77,2,     0.16,2,   4.8257,2,  26.1030,2,   4.8257,2
49UP20180614_1,   P13,    13,  1,     35,     844,2,20180624,1553,1803, 46.0612, 158.3380, 4827,     25.5,       25,   4.7130,  32.9969,2,    332.0,2,  32.9964,2,   332.09,2,    32.27,2,    20.32,2,     0.19,2,    1.680,2, -999.000,9, -999.000,9,   2098.0,2,   2239.2,2,   7.7526,2,    25.00, -999.000,9,     0.78,2,     0.19,2,   4.7112,2,  26.1191,2,   4.7138,2
49UP20180614_1,   P13,    13,  1,     34,     843,3,20180624,1553,1759, 46.0612, 158.3380, 4827,     50.9,       50,   3.3339,  33.0449,2,    333.6,2,  33.0438,2,   333.46,2,    36.19,2,    22.09,2,     0.25,2,    1.840,2,    4.747,2,    2.641,2,   2113.1,6,   2243.1,6,   7.7170,2,    25.00,    0.447,2,     0.59,2,     0.37,2,   3.3309,2,  26.2950,2,   3.3273,2
49UP20180614_1,   P13,    13,  1,     33,     842,2,20180624,1553,1758, 46.0612, 158.3380, 4827,     76.3,       76,   2.1551,  33.1056,2,    328.6,2,  33.1081,2,   328.90,2,    43.62,2,    25.12,2,     0.39,2,    2.030,2, -999.000,9, -999.000,9,   2142.6,2,   2248.1,2,   7.6504,6,    25.00, -999.000,9,     0.14,2,     0.14,2,   2.1512,2,  26.4426,2,   2.1543,2
49UP20180614_1,   P13,    13,  1,     32,     841,2,20180624,1553,1756, 46.0612, 158.3380, 4827,    106.7,      106,   2.3851,  33.3275,2,    241.8,2,  33.2973,4,   246.58,2,    59.84,2,    32.09,2,     0.14,2,    2.370,2,    4.152,2,    2.288,2,   2192.6,2,   2253.6,2,   7.5108,2,    25.00,    0.375,2,     0.04,2,     0.12,2,   2.3794,2,  26.6022,2,   2.3822,2
49UP20180614_1,   P13,    13,  1,     31,     840,2,20180624,1553,1755, 46.0612, 158.3380, 4827,    128.2,      127,   3.5257,  33.6715,2,     96.7,2,  33.6595,4,    98.12,2,    84.71,2,    40.52,2,     0.01,2,    2.870,2, -999.000,9, -999.000,9,   2284.3,2,   2280.3,2,   7.3179,2,    25.00, -999.000,9,     0.02,2,     0.10,2,   3.5175,2,  26.7768,2,   3.5269,2
49UP20180614_1,   P13,    13,  1,     30,     839,2,20180624,1553,1753, 46.0612, 158.3380, 4827,    152.2,      151,   3.8146,  33.8632,2,     29.5,2,  33.8559,2,    31.84,2,    97.68,2,    44.65,2,     0.01,2,    3.120,2,    2.016,2,    1.052,2,   2326.1,2,   2302.0,2,   7.2307,2,    25.00,    0.147,2,     0.01,2,     0.12,2,   3.8045,2,  26.9015,2,   3.8153,2
49UP20180614_1,   P13,    13,  1,     29,     838,2,20180624,1553,1751, 46.0612, 158.3380, 4827,    201.7,      200,   3.7968,  33.9523,2,     16.2,2,  33.9537,2,    16.47,6,   104.83,6,    45.43,6,     0.00,6,    3.180,6,    1.675,2,    0.837,2,   2342.3,2,   2307.1,2,   7.2148,2,    25.00,    0.110,2,     0.01,2,     0.09,2,   3.7833,2,  26.9746,2,   3.7966,2
49UP20180614_1,   P13,    13,  1,     28,     837,2,20180624,1553,1749, 46.0612, 158.3380, 4827,    251.7,      249,   3.7315,  34.0230,2,     13.8,2,  34.0235,6,    13.86,2,   110.66,2,    45.38,2,     0.00,2,    3.170,2,    1.378,2,    0.674,2,   2345.7,2,   2317.9,2,   7.2214,2,    25.00,    0.086,2,  -999.00,9,  -999.00,9,   3.7147,2,  27.0377,2,   3.7315,2
49UP20180614_1,   P13,    13,  1,     27,     661,2,20180624,1553,1747, 46.0612, 158.3380, 4827,    332.6,      330,   3.5918,  34.1214,2,     13.0,2,  34.1208,2,    12.86,2,   120.28,2,    44.73,2,     0.00,2,    3.140,2,    0.953,2,    0.450,2,   2357.0,6,   2332.5,6,   7.2481,2,    25.00,    0.051,2,  -999.00,9,  -999.00,9,   3.5697,2,  27.1302,2,   3.5920,2
49UP20180614_1,   P13,    13,  1,     26,     835,2,20180624,1553,1744, 46.0612, 158.3380, 4827,    434.6,      431,   3.4168,  34.1929,2,     11.8,2,  34.1920,2,    11.94,2,   128.76,2,    44.58,2,     0.00,2,    3.140,2,    0.666,2,    0.316,2,   2361.4,2,   2344.9,2,   7.2622,6,    25.00,    0.043,2,  -999.00,9,  -999.00,9,   3.3880,2,  27.2047,2,   3.4166,2
49UP20180614_1,   P13,    13,  1,     25,     834,2,20180624,1553,1741, 46.0612, 158.3380, 4827,    535.3,      530,   3.2224,  34.2541,2,     11.6,2,  34.2535,2,    11.32,2,   137.54,2,    44.61,2,     0.00,2,    3.150,2,    0.443,2,    0.218,2,   2367.6,2,   2355.1,2,   7.2679,2,    25.00,    0.022,2,  -999.00,9,  -999.00,9,   3.1873,2,  27.2724,2,   3.2226,2
49UP20180614_1,   P13,    13,  1,     24,     833,2,20180624,1553,1738, 46.0612, 158.3380, 4827,    637.5,      631,   3.0938,  34.2949,2,     11.7,2,  34.2941,2,    11.39,2,   142.60,2,    44.58,2,     0.00,2,    3.140,2,    0.331,2,    0.167,2,   2381.1,2,   2361.1,2,   7.2766,2,    25.00,    0.013,2,  -999.00,9,  -999.00,9,   3.0521,2,  27.3175,2,   3.0935,2
49UP20180614_1,   P13,    13,  1,     23,     832,2,20180624,1553,1735, 46.0612, 158.3380, 4827,    738.5,      731,   2.9309,  34.3455,2,     13.3,2,  34.3451,2,    13.26,2,   148.05,2,    44.44,2,     0.00,2,    3.140,2,    0.217,6,    0.103,6,   2381.4,2,   2370.3,2,   7.2925,2,    25.00,    0.005,6,  -999.00,9,  -999.00,9,   2.8828,2,  27.3732,2,   2.9308,2
49UP20180614_1,   P13,    13,  1,     22,     831,2,20180624,1553,1732, 46.0612, 158.3380, 4827,    838.8,      830,   2.7708,  34.3860,2,     15.3,2,  34.3860,2,    15.49,2,   153.45,2,    44.43,2,     0.00,2,    3.130,2,    0.144,2,    0.069,2,   2389.7,2,   2379.2,2,   7.3006,2,    25.00,    0.005,2,  -999.00,9,  -999.00,9,   2.7166,2,  27.4203,2,   2.7707,2
49UP20180614_1,   P13,    13,  1,     21,     830,2,20180624,1553,1729, 46.0612, 158.3380, 4827,    938.4,      929,   2.6390,  34.4149,2,     17.5,2,  34.4151,2,    17.73,2,   157.99,2,    44.35,2,     0.00,2,    3.120,2,    0.114,2,    0.057,2,   2393.6,2,   2384.2,2,   7.3084,2,    25.00,    0.003,2,  -999.00,9,  -999.00,9,   2.5785,2,  27.4553,2,   2.6390,2
49UP20180614_1,   P13,    13,  1,     20,     829,2,20180624,1553,1724, 46.0612, 158.3380, 4827,   1082.6,     1071,   2.4127,  34.4636,2,     24.5,2,  34.4641,2,    24.87,6,   165.20,6,    43.83,6,     0.00,6,    3.090,6,    0.077,2,    0.037,2,   2396.1,2,   2392.1,2,   7.3222,2,    25.00,    0.000,2,  -999.00,9,  -999.00,9,   2.3435,2,  27.5141,2,   2.4130,2
49UP20180614_1,   P13,    13,  1,     19,     828,3,20180624,1553,1720, 46.0612, 158.3380, 4827,   1286.4,     1272,   2.1912,  34.5148,2,     38.5,2,  34.5149,2,    38.77,2,   169.19,2,    43.05,2,     0.00,2,    3.030,2,    0.049,2,    0.019,2,   2392.6,2,   2401.8,2,   7.3516,2,    25.00,   -0.000,2,  -999.00,9,  -999.00,9,   2.1090,2,  27.5742,2,   2.1911,2
49UP20180614_1,   P13,    13,  1,     18,     827,2,20180624,1553,1715, 46.0612, 158.3380, 4827,   1487.5,     1470,   2.0245,  34.5560,2,     52.6,2,  34.5566,2,    53.02,2,   171.36,2,    42.16,2,     0.00,2,    2.970,2,    0.027,2,    0.009,2,   2386.0,2,   2408.1,2,   7.3873,2,    25.00,    0.000,2,  -999.00,9,  -999.00,9,   1.9290,2,  27.6215,2,   2.0245,2
49UP20180614_1,   P13,    13,  1,     17,     826,2,20180624,1553,1710, 46.0612, 158.3380, 4827,   1692.3,     1672,   1.9138,  34.5847,2,     67.3,2,  34.5848,2,    67.95,2,   169.48,2,    41.37,2,     0.00,2,    2.900,2,    0.010,2,    0.006,2,   2374.8,2,   2413.5,2,   7.4178,2,    25.00,    0.000,2,  -999.00,9,  -999.00,9,   1.8037,2,  27.6542,2,   1.9138,2
49UP20180614_1,   P13,    13,  1,     16,     825,2,20180624,1553,1705, 46.0612, 158.3380, 4827,   1895.3,     1871,   1.8292,  34.6045,2,     79.1,2,  34.6049,2,    79.53,2,   168.20,2,    40.74,2,     0.00,2,    2.850,2,    0.004,2,    0.003,2,   2369.8,2,   2413.6,2,   7.4410,2,    25.00,    0.002,2,  -999.00,9,  -999.00,9,   1.7041,2,  27.6777,2,   1.8294,2
49UP20180614_1,   P13,    13,  1,     15,     824,2,20180624,1553,1700, 46.0612, 158.3380, 4827,   2097.3,     2070,   1.7429,  34.6224,2,     91.9,2,  34.6234,6,    92.32,2,   166.12,2,    39.98,2,     0.00,2,    2.790,2,    0.000,2,    0.002,2,   2362.6,2,   2417.3,2,   7.4683,2,    25.00,    0.000,2,  -999.00,9,  -999.00,9,   1.6024,2,  27.6996,2,   1.7429,2
49UP20180614_1,   P13,    13,  1,     13,     822,2,20180624,1553,1654, 46.0612, 158.3380, 4827,   2301.9,     2271,   1.6644,  34.6366,2,    102.4,2,  34.6377,2,   102.61,2,   165.05,2,    39.27,2,     0.00,2,    2.740,2, -999.000,9, -999.000,9,   2356.8,2,   2419.1,2,   7.4833,3,    25.00, -999.000,9,  -999.00,9,  -999.00,9,   1.5077,2,  27.7180,2,   1.6642,2
49UP20180614_1,   P13,    13,  1,     14,     823,2,20180624,1553,1654, 46.0612, 158.3380, 4827,   2302.5,     2271,   1.6643,  34.6366,2,    102.4,2,  34.6376,2,   102.74,2,   165.08,2,    39.27,2,     0.00,2,    2.740,2,    0.000,2,   -0.000,2,   2355.9,2,   2418.8,2,   7.4888,2,    25.00,    0.000,2,  -999.00,9,  -999.00,9,   1.5077,2,  27.7180,2,   1.6644,2
49UP20180614_1,   P13,    13,  1,     12,     821,2,20180624,1553,1649, 46.0612, 158.3380, 4827,   2504.4,     2469,   1.5983,  34.6489,2,    114.3,2,  34.6500,2,   114.73,2,   161.78,2,    38.58,2,     0.00,2,    2.680,2,    0.000,6,    0.000,6,   2354.3,2,   2417.9,2,   7.5175,2,    25.00,    0.000,6,  -999.00,9,  -999.00,9,   1.4251,2,  27.7338,2,   1.5981,2
49UP20180614_1,   P13,    13,  1,     11,     820,2,20180624,1553,1644, 46.0612, 158.3380, 4827,   2710.0,     2671,   1.5519,  34.6572,2,    122.0,2,  34.6584,2,   122.66,6,   160.10,6,    38.01,6,     0.00,6,    2.640,6,    0.000,2,    0.001,2,   2348.6,2,   2418.2,2,   7.5285,2,    25.00,    0.001,2,  -999.00,9,  -999.00,9,   1.3612,2,  27.7451,2,   1.5519,2
49UP20180614_1,   P13,    13,  1,     10,     819,2,20180624,1553,1639, 46.0612, 158.3380, 4827,   2914.5,     2871,   1.5199,  34.6632,2,    128.1,2,  34.6647,4,   128.28,2,   158.85,2,    37.69,2,     0.00,2,    2.610,2,    0.000,2,    0.001,2,   2342.1,2,   2417.1,2,   7.5369,2,    25.00,    0.000,2,  -999.00,9,  -999.00,9,   1.3108,2,  27.7535,2,   1.5198,2
49UP20180614_1,   P13,    13,  1,      9,     818,2,20180624,1553,1634, 46.0612, 158.3380, 4827,   3129.7,     3081,   1.4925,  34.6688,2,    134.2,2,  34.6697,2,   134.41,2,   157.27,2,    37.23,2,     0.00,2,    2.580,2, -999.000,9, -999.000,9,   2336.3,2,   2417.2,2,   7.5514,2,    25.00, -999.000,9,  -999.00,9,  -999.00,9,   1.2635,2,  27.7613,2,   1.4924,2
49UP20180614_1,   P13,    13,  1,      8,     817,2,20180624,1553,1628, 46.0612, 158.3380, 4827,   3384.9,     3330,   1.4667,  34.6745,2,    140.5,2,  34.6749,2,   140.75,2,   155.57,2,    36.83,2,     0.00,2,    2.540,2, -999.000,9, -999.000,9,   2331.1,2,   2418.4,2,   7.5584,6,    25.00, -999.000,9,  -999.00,9,  -999.00,9,   1.2131,2,  27.7694,2,   1.4667,2
49UP20180614_1,   P13,    13,  1,      7,     816,2,20180624,1553,1623, 46.0612, 158.3380, 4827,   3641.0,     3580,   1.4516,  34.6789,2,    145.8,2,  34.6796,2,   145.58,2,   154.43,2,    36.57,2,     0.00,2,    2.520,2, -999.000,9, -999.000,9,   2329.6,2,   2420.1,2,   7.5669,2,    25.00, -999.000,9,  -999.00,9,  -999.00,9,   1.1722,2,  27.7757,2,   1.4515,2
49UP20180614_1,   P13,    13,  1,      6,     815,2,20180624,1553,1617, 46.0612, 158.3380, 4827,   3897.5,     3830,   1.4477,  34.6823,2,    149.7,2,  34.6828,2,   150.38,2,   153.86,2,    36.21,2,     0.00,2,    2.500,2,   -0.000,2,    0.003,2,   2325.1,6,   2417.2,6,   7.5761,2,    25.00,    0.000,2,  -999.00,9,  -999.00,9,   1.1414,2,  27.7806,2,   1.4478,2
49UP20180614_1,   P13,    13,  1,      5,     814,2,20180624,1553,1611, 46.0612, 158.3380, 4827,   4153.7,     4080,   1.4505,  34.6850,2,    152.9,2,  34.6856,2,   152.87,6,   153.37,6,    36.00,6,     0.00,6,    2.480,6, -999.000,9, -999.000,9,   2329.5,2,   2417.2,2,   7.5810,2,    25.00, -999.000,9,  -999.00,9,  -999.00,9,   1.1162,2,  27.7844,2,   1.4504,2
49UP20180614_1,   P13,    13,  1,      4,     813,2,20180624,1553,1605, 46.0612, 158.3380, 4827,   4411.0,     4330,   1.4651,  34.6867,2,    154.6,2,  34.6873,6,   155.14,2,   153.38,2,    35.87,2,     0.00,2,    2.470,2, -999.000,9, -999.000,9,   2320.5,2,   2417.8,2,   7.5859,2,    25.00, -999.000,9,  -999.00,9,  -999.00,9,   1.1014,2,  27.7868,2,   1.4650,2
49UP20180614_1,   P13,    13,  1,      3,     812,2,20180624,1553,1559, 46.0612, 158.3380, 4827,   4669.7,     4581,   1.4869,  34.6878,2,    155.5,2,  34.6883,2,   155.58,2,   153.89,2,    35.88,2,     0.00,2,    2.470,2, -999.000,9, -999.000,9,   2324.4,2,   2417.5,2,   7.5874,2,    25.00, -999.000,9,  -999.00,9,  -999.00,9,   1.0926,2,  27.7883,2,   1.4868,2
49UP20180614_1,   P13,    13,  1,      2,     811,2,20180624,1553,1559, 46.0612, 158.3380, 4827,   4669.8,     4581,   1.4868,  34.6879,2,    155.6,2,  34.6883,2,   155.75,2,   153.93,2,    35.90,2,     0.00,2,    2.470,2, -999.000,9, -999.000,9,   2328.5,2,   2417.6,2,   7.5841,2,    25.00, -999.000,9,  -999.00,9,  -999.00,9,   1.0924,2,  27.7884,2,   1.4868,2
49UP20180614_1,   P13,    13,  1,      1,     810,2,20180624,1553,1554, 46.0612, 158.3380, 4827,   4897.1,     4802,   1.5067,  34.6889,2,    156.5,2,  34.6892,6,   156.83,2,   154.83,2,    35.82,2,     0.00,2,    2.460,2,    0.008,2,    0.000,2,   2321.0,2,   2417.3,2,   7.5850,2,    25.00,    0.000,2,  -999.00,9,  -999.00,9,   1.0847,2,  27.7897,2,   1.5066,2