BOTTLE,20191018JMAGEMD
EXPOCODE,SECT_ID,STNNBR,CASTNO,SAMPNO,BTLNBR,BTLNBR_FLAG_U,DATE,TIME,BTL_TIME,LATITUDE,LONGITUDE,DEPTH,CTDPRS,CTDDEP,CTDTMP,CTDSAL,CTDSAL_FLAG_W,CTDOXY,CTDOXY_FLAG_W,SALNTY,SALNTY_FLAG_W,OXYGEN,OXYGEN_FLAG_W,SILCAT,SILCAT_FLAG_W,NO2+NO3,NO2+NO3_FLAG_W,NITRIT,NITRIT_FLAG_W,PHSPHT,PHSPHT_FLAG_W,CFC-11,CFC-11_FLAG_W,CFC-12,CFC-12_FLAG_W,TCARBN,TCARBN_FLAG_W,ALKALI,ALKALI_FLAG_W,PH_TS,PH_TS_FLAG_W,PH_TS_TMP,CFC113,CFC113_FLAG_W,CHLORA,CHLORA_FLAG_W,PPHYTN,PPHYTN_FLAG_W,THETA,THETA_FLAG_W,SIGTHT,SIGTHT_FLAG_W,SBE35,SBE35_FLAG_W
,,,,,,,,UTC,,,,METER,DBAR,METERS,ITS-90,PSS-78,,UMOL/KG,,PSS78,,UMOL/KG,,UMOL/KG,,UMOL/KG,,UMOL/KG,,UMOL/KG,,PMOL/KG,,PMOL/KG,,UMOL/KG,,UMOL/KG,,,,ITS-90,PMOL/KG,,UG/KG,,UG/KG,,ITS-90,,KG/M3,,ITS-90,
49UP20180614_2,   P13,    30,  1,      0,      -9,0,20180715,0310,0453, 39.0100, 164.9752, 5292,      0.0,        0,  20.0394,  34.3612,2,    235.6,2,  34.3554,2,   235.56,2,     4.07,3,     0.03,2,     0.00,2,    0.100,3, -999.000,9, -999.000,9,   2013.3,2,   2267.6,2,   7.9827,2,    25.00, -999.000,9,     0.09,2,     0.01,2,  20.0389,2,  24.2643,2,-999.0000,9
49UP20180614_2,   P13,    30,  1,     36,     845,2,20180715,0310,0527, 39.0100, 164.9752, 5292,     10.4,       10,  19.3217,  34.3454,2,    238.3,2,  34.3539,4,   237.83,2,     4.21,3,     0.02,2,     0.00,2,    0.080,3,    1.989,2,    1.158,2,   2010.5,2,   2266.9,2,   7.9902,2,    25.00,    0.173,2,     0.10,2,     0.00,2,  19.3198,2,  24.4392,2,  19.3231,2
49UP20180614_2,   P13,    30,  1,     35,     844,2,20180715,0310,0521, 39.0100, 164.9752, 5292,     51.5,       51,  14.8780,  34.4801,2,    251.4,2,  34.4710,4,   250.61,2,     6.91,3,     3.45,2,     0.56,2,    0.280,3,    2.300,2,    1.353,2,   2034.8,2,   2272.7,2,   7.9439,2,    25.00,    0.189,2,     0.03,2,     0.58,2,  14.8703,2,  25.5994,2,  14.9054,2
49UP20180614_2,   P13,    30,  1,     34,     843,2,20180715,0310,0520, 39.0100, 164.9752, 5292,     76.4,       76,  13.9746,  34.4824,2,    237.1,2,  34.4828,2,   236.93,2,     8.69,3,     6.41,2,     0.12,2,    0.450,3, -999.000,9, -999.000,9,   2057.9,2,   2274.2,2,   7.9031,2,    25.00, -999.000,9,     0.03,2,     0.89,2,  13.9636,2,  25.7947,2,  13.9768,2
49UP20180614_2,   P13,    30,  1,     33,     842,2,20180715,0310,0518, 39.0100, 164.9752, 5292,    101.5,      101,  13.4235,  34.4341,2,    235.2,2,  34.4323,2,   234.58,2,     9.89,3,     7.33,2,     0.03,2,    0.520,3,    2.377,2,    1.389,2,   2064.3,2,   2271.8,2,   7.8904,2,    25.00,    0.178,2,     0.19,2,     0.10,2,  13.4094,2,  25.8718,2,  13.4300,2
49UP20180614_2,   P13,    30,  1,     32,     841,2,20180715,0310,0517, 39.0100, 164.9752, 5292,    126.2,      125,  12.9333,  34.3911,2,    232.9,2,  34.3914,2,   232.62,6,    11.34,3,     8.39,6,     0.02,6,    0.600,3, -999.000,9, -999.000,9,   2067.6,2,   2270.9,2,   7.8729,2,    25.00, -999.000,9,     0.05,2,     0.04,2,  12.9161,2,  25.9379,2,  12.9338,2
49UP20180614_2,   P13,    30,  1,     31,     840,2,20180715,0310,0516, 39.0100, 164.9752, 5292,    150.6,      149,  12.3395,  34.3396,2,    234.5,2,  34.3391,2,   234.03,2,    12.36,3,     9.10,2,     0.01,2,    0.650,3,    2.479,2,    1.439,2,   2079.1,2,   2271.4,2,   7.8596,2,    25.00,    0.164,2,     0.00,2,     0.06,2,  12.3197,2,  26.0149,2,  12.3422,2
49UP20180614_2,   P13,    30,  1,     30,     839,2,20180715,0310,0514, 39.0100, 164.9752, 5292,    205.8,      204,  11.3371,  34.2642,2,    254.9,2,  34.2636,2,   254.48,2,    12.25,3,     8.70,2,     0.01,2,    0.640,3,    2.670,2,    1.547,2,   2074.2,2,   2267.5,2,   7.8565,2,    25.00,    0.203,2,     0.00,2,     0.03,2,  11.3115,2,  26.1460,2,  11.3375,2
49UP20180614_2,   P13,    30,  1,     29,     838,2,20180715,0310,0512, 39.0100, 164.9752, 5292,    253.2,      251,  11.1706,  34.2585,2,    261.7,2,  34.2577,2,   261.06,2,    11.39,3,     8.29,2,     0.01,2,    0.600,3,    2.696,2,    1.570,2,   2075.4,2,   2266.5,2,   7.8614,2,    25.00,    0.221,2,  -999.00,9,  -999.00,9,  11.1392,2,  26.1730,2,  11.1712,2
49UP20180614_2,   P13,    30,  1,     28,     837,2,20180715,0310,0510, 39.0100, 164.9752, 5292,    283.7,      281,  10.9650,  34.2266,2,    256.4,2,  34.2288,2,   256.55,2,    12.73,3,     9.11,2,     0.01,2,    0.670,3,    2.707,2,    1.571,2,   2076.6,2,   2265.3,2,   7.8503,2,    25.00,    0.208,2,  -999.00,9,  -999.00,9,  10.9302,2,  26.1857,2,  10.9646,2
49UP20180614_2,   P13,    30,  1,     27,     661,2,20180715,0310,0507, 39.0100, 164.9752, 5292,    374.1,      371,   8.9395,  34.0395,2,    222.1,2,  34.0411,2,   222.12,2,    24.78,3,    16.43,2,     0.01,2,    1.180,3,    2.784,2,    1.573,2,   2125.5,2,   2267.4,2,   7.7424,2,    25.00,    0.180,2,  -999.00,9,  -999.00,9,   8.8991,2,  26.3820,2,   8.9406,2
49UP20180614_2,   P13,    30,  1,     26,     835,2,20180715,0310,0504, 39.0100, 164.9752, 5292,    478.1,      474,   6.6687,  33.9652,2,    158.7,2,  33.9642,2,   159.14,2,    50.34,3,    26.49,2,     0.00,2,    1.910,3,    2.426,2,    1.314,2,   2201.8,2,   2284.5,2,   7.5872,2,    25.00,    0.124,2,  -999.00,9,  -999.00,9,   6.6249,2,  26.6542,2,   6.6648,2
49UP20180614_2,   P13,    30,  1,     25,     834,2,20180715,0310,0501, 39.0100, 164.9752, 5292,    575.0,      570,   5.2480,  33.9953,2,    112.0,2,  33.9944,2,   112.10,2,    73.60,3,    33.36,2,     0.00,2,    2.400,3,    1.940,2,    0.997,2,   2252.2,2,   2298.5,2,   7.4658,2,    25.00,    0.102,2,  -999.00,9,  -999.00,9,   5.2012,2,  26.8555,2,   5.2474,2
49UP20180614_2,   P13,    30,  1,     24,     833,2,20180715,0310,0458, 39.0100, 164.9752, 5292,    677.2,      671,   4.6303,  34.0891,2,     77.8,2,  34.0857,2,    77.73,2,    91.53,3,    37.28,2,     0.00,2,    2.670,3,    1.393,2,    0.681,2,   2290.2,6,   2316.5,6,   7.4071,2,    25.00,    0.064,2,  -999.00,9,  -999.00,9,   4.5778,2,  27.0003,2,   4.6304,2
49UP20180614_2,   P13,    30,  1,     23,     832,2,20180715,0310,0456, 39.0100, 164.9752, 5292,    780.6,      773,   4.1177,  34.1639,2,     54.6,2,  34.1626,2,    54.71,6,   106.69,3,    39.87,6,     0.00,6,    2.840,3,    0.966,2,    0.462,2,   2318.2,2,   2332.1,2,   7.3654,2,    25.00,    0.050,2,  -999.00,9,  -999.00,9,   4.0597,2,  27.1149,2,   4.1182,2
49UP20180614_2,   P13,    30,  1,     22,     831,2,20180715,0310,0453, 39.0100, 164.9752, 5292,    879.4,      871,   3.7274,  34.2263,2,     40.6,2,  34.2260,2,    40.43,2,   119.54,3,    41.55,2,     0.00,2,    2.950,3,    0.659,2,    0.301,2,   2341.4,2,   2346.5,2,   7.3405,6,    25.00,    0.030,2,  -999.00,9,  -999.00,9,   3.6639,2,  27.2046,2,   3.7274,2
49UP20180614_2,   P13,    30,  1,     21,     830,2,20180715,0310,0450, 39.0100, 164.9752, 5292,    982.3,      973,   3.4171,  34.2972,2,     34.8,2,  34.3023,4,    34.64,2,   129.86,3,    42.14,2,     0.00,2,    3.000,3,    0.386,2,    0.185,2,   2352.3,2,   2358.9,2,   7.3370,2,    25.00,    0.015,2,  -999.00,9,  -999.00,9,   3.3476,2,  27.2917,2,   3.4162,2
49UP20180614_2,   P13,    30,  1,     20,     829,2,20180715,0310,0446, 39.0100, 164.9752, 5292,   1143.3,     1132,   3.0687,  34.3721,2,     32.9,2,  34.3716,2,    32.95,2,   141.06,3,    42.71,2,     0.00,2,    3.030,3,    0.202,6,    0.095,6,   2365.1,2,   2373.8,2,   7.3392,2,    25.00,    0.001,6,  -999.00,9,  -999.00,9,   2.9895,2,  27.3848,2,   3.0696,2
49UP20180614_2,   P13,    30,  1,     19,     828,2,20180715,0310,0441, 39.0100, 164.9752, 5292,   1344.8,     1330,   2.7166,  34.4340,2,     32.8,2,  34.4337,2,    32.59,2,   152.21,3,    42.96,2,     0.00,2,    3.050,3,    0.108,2,    0.048,2,   2374.4,2,   2386.9,2,   7.3464,2,    25.00,    0.000,2,  -999.00,9,  -999.00,9,   2.6248,2,  27.4666,2,   2.7168,2
49UP20180614_2,   P13,    30,  1,     18,     827,2,20180715,0310,0436, 39.0100, 164.9752, 5292,   1548.0,     1531,   2.4725,  34.4818,2,     37.2,2,  34.4816,2,    36.67,2,   159.17,3,    42.95,2,     0.00,2,    3.040,3,    0.062,2,    0.022,2,   2382.6,2,   2395.2,2,   7.3582,2,    25.00,    0.000,2,  -999.00,9,  -999.00,9,   2.3672,2,  27.5267,2,   2.4726,2
49UP20180614_2,   P13,    30,  1,     17,     826,2,20180715,0310,0431, 39.0100, 164.9752, 5292,   1752.3,     1732,   2.2399,  34.5278,2,     46.4,2,  34.5231,4,    46.12,2,   164.27,3,    42.31,2,     0.00,2,    2.990,3,    0.032,2,    0.013,2,   2380.5,2,   2402.6,2,   7.3795,2,    25.00,    0.000,2,  -999.00,9,  -999.00,9,   2.1208,2,  27.5837,2,   2.2399,2
49UP20180614_2,   P13,    30,  1,     16,     825,2,20180715,0310,0427, 39.0100, 164.9752, 5292,   1955.5,     1932,   2.0509,  34.5668,2,     59.0,2,  34.5664,2,    58.75,2,   168.03,3,    41.74,2,     0.00,2,    2.940,3,    0.012,2,    0.008,2,   2383.7,2,   2410.0,2,   7.4038,2,    25.00,    0.000,2,  -999.00,9,  -999.00,9,   1.9176,2,  27.6311,2,   2.0510,2
49UP20180614_2,   P13,    30,  1,     15,     824,2,20180715,0310,0422, 39.0100, 164.9752, 5292,   2157.9,     2131,   1.9124,  34.5940,2,     71.7,2,  34.5930,6,    71.47,2,   168.94,3,    40.92,2,     0.00,2,    2.880,3,    0.002,2,    0.002,2,   2372.8,2,   2412.3,2,   7.4324,2,    25.00,    0.000,2,  -999.00,9,  -999.00,9,   1.7641,2,  27.6647,2,   1.9124,2
49UP20180614_2,   P13,    30,  1,     14,     823,2,20180715,0310,0417, 39.0100, 164.9752, 5292,   2361.6,     2331,   1.8103,  34.6139,2,     83.7,2,  34.6140,2,    83.40,2,   169.31,3,    40.17,6,     0.00,6,    2.830,3,    0.001,2,    0.001,2,   2370.9,2,   2417.2,2,   7.4555,2,    25.00,    0.000,2,  -999.00,9,  -999.00,9,   1.6460,2,  27.6896,2,   1.8103,2
49UP20180614_2,   P13,    30,  1,     13,     822,2,20180715,0310,0412, 39.0100, 164.9752, 5292,   2564.9,     2530,   1.7117,  34.6323,2,     97.5,2,  34.6320,2,    97.42,2,   167.81,3,    39.19,2,     0.00,2,    2.780,3,    0.000,2,    0.000,2,   2360.3,2,   2417.4,2,   7.4841,6,    25.00,    0.000,2,  -999.00,9,  -999.00,9,   1.5311,2,  27.7128,2,   1.7120,2
49UP20180614_2,   P13,    30,  1,     12,     821,2,20180715,0310,0408, 39.0100, 164.9752, 5292,   2768.9,     2730,   1.6464,  34.6451,2,    108.9,2,  34.6446,2,   108.72,2,   164.94,3,    38.58,2,     0.00,2,    2.700,3,    0.000,2,    0.000,2,   2352.2,2,   2419.2,2,   7.5080,2,    25.00,    0.001,2,  -999.00,9,  -999.00,9,   1.4484,2,  27.7291,2,   1.6464,2
49UP20180614_2,   P13,    30,  1,     11,     820,2,20180715,0310,0403, 39.0100, 164.9752, 5292,   2972.0,     2929,   1.5940,  34.6546,2,    118.0,2,  34.6530,2,   117.08,2,   163.62,3,    38.14,2,     0.00,2,    2.680,3, -999.000,9, -999.000,9,   2345.8,6,   2419.4,6,   7.5217,2,    25.00, -999.000,9,  -999.00,9,  -999.00,9,   1.3779,2,  27.7418,2,   1.5939,2
49UP20180614_2,   P13,    30,  1,     10,     819,2,20180715,0310,0358, 39.0100, 164.9752, 5292,   3219.5,     3171,   1.5408,  34.6644,2,    128.1,2,  34.6642,6,   127.60,2,   161.17,3,    37.47,2,     0.00,2,    2.620,3, -999.000,9, -999.000,9,   2342.0,2,   2419.3,2,   7.5406,2,    25.00, -999.000,9,  -999.00,9,  -999.00,9,   1.3019,2,  27.7550,2,   1.5408,2
49UP20180614_2,   P13,    30,  1,      9,     818,2,20180715,0310,0353, 39.0100, 164.9752, 5292,   3475.1,     3421,   1.5021,  34.6720,2,    136.7,2,  34.6698,4,   135.55,3,   158.80,3,    36.81,2,     0.00,2,    2.590,3, -999.000,9, -999.000,9,   2337.5,2,   2419.9,2,   7.5574,2,    25.00, -999.000,9,  -999.00,9,  -999.00,9,   1.2385,2,  27.7656,2,   1.5022,2
49UP20180614_2,   P13,    30,  1,      8,     817,2,20180715,0310,0347, 39.0100, 164.9752, 5292,   3730.3,     3670,   1.4828,  34.6771,2,    142.7,2,  34.6764,2,   142.66,2,   156.92,3,    36.48,2,     0.00,2,    2.550,3,    0.000,2,    0.000,2,   2328.3,2,   2419.1,2,   7.5670,2,    25.00,    0.000,2,  -999.00,9,  -999.00,9,   1.1933,2,  27.7728,2,   1.4828,2
49UP20180614_2,   P13,    30,  1,      7,     816,2,20180715,0310,0341, 39.0100, 164.9752, 5292,   3988.5,     3921,   1.4696,  34.6814,2,    148.0,2,  34.6774,4,   146.08,3,   156.07,3,    36.19,2,     0.00,2,    2.560,3, -999.000,9, -999.000,9,   2328.6,2,   2417.7,2,   7.5747,2,    25.00, -999.000,9,  -999.00,9,  -999.00,9,   1.1528,2,  27.7790,2,   1.4696,2
49UP20180614_2,   P13,    30,  1,      6,     815,2,20180715,0310,0336, 39.0100, 164.9752, 5292,   4244.8,     4171,   1.4711,  34.6845,2,    151.6,2,  34.6839,6,   151.87,2,   154.91,3,    35.88,2,     0.00,2,    2.520,3, -999.000,9, -999.000,9,   2323.2,2,   2417.4,2,   7.5826,6,    25.00, -999.000,9,  -999.00,9,  -999.00,9,   1.1260,2,  27.7833,2,   1.4712,2
49UP20180614_2,   P13,    30,  1,      5,     814,2,20180715,0310,0330, 39.0100, 164.9752, 5292,   4501.4,     4421,   1.4756,  34.6870,2,    154.8,2,  34.6871,2,   154.62,6,   155.32,3,    35.70,6,     0.00,6,    2.530,3, -999.000,9, -999.000,9,   2319.8,2,   2418.2,2,   7.5908,2,    25.00, -999.000,9,  -999.00,9,  -999.00,9,   1.1013,2,  27.7870,2,   1.4757,2
49UP20180614_2,   P13,    30,  1,      4,     813,2,20180715,0310,0325, 39.0100, 164.9752, 5292,   4759.3,     4671,   1.4965,  34.6881,2,    156.1,2,  34.6883,2,   156.24,2,   154.99,3,    35.57,2,     0.00,2,    2.510,3,    0.000,2,   -0.000,2,   2320.9,2,   2417.8,2,   7.5894,2,    25.00,    0.000,2,  -999.00,9,  -999.00,9,   1.0913,2,  27.7886,2,   1.4967,2
49UP20180614_2,   P13,    30,  1,      3,     812,2,20180715,0310,0319, 39.0100, 164.9752, 5292,   5015.9,     4920,   1.5209,  34.6890,2,    157.0,2,  34.6883,2,   156.24,2,   154.67,3,    35.58,2,     0.00,2,    2.500,3, -999.000,9, -999.000,9,   2325.9,2,   2416.8,2,   7.5899,2,    25.00, -999.000,9,  -999.00,9,  -999.00,9,   1.0840,2,  27.7898,2,   1.5210,2
49UP20180614_2,   P13,    30,  1,      2,     811,2,20180715,0310,0314, 39.0100, 164.9752, 5292,   5274.9,     5171,   1.5504,  34.6894,2,    157.3,2,  34.6929,4,   157.06,2,   155.61,3,    35.31,2,     0.00,2,    2.530,3, -999.000,9, -999.000,9,   2319.7,6,   2417.9,6,   7.5955,2,    25.00, -999.000,9,  -999.00,9,  -999.00,9,   1.0805,2,  27.7904,2,   1.5505,2
49UP20180614_2,   P13,    30,  1,      1,     810,2,20180715,0310,0311, 39.0100, 164.9752, 5292,   5382.3,     5275,   1.5641,  34.6894,2,    157.4,2,  34.6893,2,   157.25,2,   155.76,3,    35.47,2,     0.00,2,    2.550,3,    0.004,2,    0.000,2,   2319.1,2,   2416.9,2,   7.5941,2,    25.00,    0.000,2,  -999.00,9,  -999.00,9,   1.0802,2,  27.7904,2,   1.5640,2