BOTTLE,20191018JMAGEMD
EXPOCODE,SECT_ID,STNNBR,CASTNO,SAMPNO,BTLNBR,BTLNBR_FLAG_U,DATE,TIME,BTL_TIME,LATITUDE,LONGITUDE,DEPTH,CTDPRS,CTDDEP,CTDTMP,CTDSAL,CTDSAL_FLAG_W,CTDOXY,CTDOXY_FLAG_W,SALNTY,SALNTY_FLAG_W,OXYGEN,OXYGEN_FLAG_W,SILCAT,SILCAT_FLAG_W,NO2+NO3,NO2+NO3_FLAG_W,NITRIT,NITRIT_FLAG_W,PHSPHT,PHSPHT_FLAG_W,CFC-11,CFC-11_FLAG_W,CFC-12,CFC-12_FLAG_W,TCARBN,TCARBN_FLAG_W,ALKALI,ALKALI_FLAG_W,PH_TS,PH_TS_FLAG_W,PH_TS_TMP,CFC113,CFC113_FLAG_W,CHLORA,CHLORA_FLAG_W,PPHYTN,PPHYTN_FLAG_W,THETA,THETA_FLAG_W,SIGTHT,SIGTHT_FLAG_W,SBE35,SBE35_FLAG_W
,,,,,,,,UTC,,,,METER,DBAR,METERS,ITS-90,PSS-78,,UMOL/KG,,PSS78,,UMOL/KG,,UMOL/KG,,UMOL/KG,,UMOL/KG,,UMOL/KG,,PMOL/KG,,PMOL/KG,,UMOL/KG,,UMOL/KG,,,,ITS-90,PMOL/KG,,UG/KG,,UG/KG,,ITS-90,,KG/M3,,ITS-90,
49UP20180614_1,   P13,    21,  1,      0,      -9,0,20180627,2341,0149, 47.0008, 164.9995, 5863,      0.0,        0,   6.4466,  33.0264,2,    315.7,2,  33.0253,2,   314.08,2,    23.83,2,    16.50,2,     0.19,2,    1.440,3, -999.000,9, -999.000,9,   2093.6,2,   2232.7,2,   7.7606,2,    25.00, -999.000,9,     0.30,2,     0.09,2,   6.4464,2,  25.9371,2,-999.0000,9
49UP20180614_1,   P13,    21,  1,     36,     845,2,20180627,2341,0211, 47.0008, 164.9995, 5863,     11.2,       11,   6.4064,  33.0244,2,    315.7,2,  33.0283,2,   314.29,2,    23.88,2,    16.50,2,     0.19,2,    1.430,3,    3.980,2,    2.230,2,   2087.5,2,   2232.0,2,   7.7592,2,    25.00,    0.378,2,     0.29,2,     0.07,2,   6.4054,2,  25.9407,2,   6.4068,2
49UP20180614_1,   P13,    21,  1,     35,     844,3,20180627,2341,0206, 47.0008, 164.9995, 5863,     50.5,       50,   5.3906,  33.1255,2,    315.0,2,  33.1222,2,   314.44,2,    24.39,2,    16.95,2,     0.24,2,    1.430,3,    4.099,2,    2.291,2,   2098.2,2,   2235.1,2,   7.7420,2,    25.00,    0.401,2,     0.51,2,     0.26,2,   5.3867,2,  26.1451,2,   5.3893,2
49UP20180614_1,   P13,    21,  1,     34,     843,2,20180627,2341,0204, 47.0008, 164.9995, 5863,     74.9,       74,   4.7730,  33.3830,2,    301.4,2,  33.3846,2,   300.06,2,    28.74,2,    18.78,2,     0.01,2,    1.470,3, -999.000,9, -999.000,9,   2118.0,2,   2244.6,2,   7.7019,2,    25.00, -999.000,9,     0.07,2,     0.05,2,   4.7675,2,  26.4192,2,   4.7747,2
49UP20180614_1,   P13,    21,  1,     33,     842,2,20180627,2341,0203, 47.0008, 164.9995, 5863,    101.2,      100,   5.4402,  33.5312,2,    292.7,2,  33.5313,2,   291.73,2,    28.08,2,    18.17,2,     0.01,2,    1.410,3,    3.840,6,    2.163,6,   2121.9,2,   2249.7,2,   7.7101,2,    25.00,    0.340,6,     0.04,2,     0.04,2,   5.4322,2,  26.4609,2,   5.4390,2
49UP20180614_1,   P13,    21,  1,     32,     841,2,20180627,2341,0201, 47.0008, 164.9995, 5863,    126.4,      125,   4.9102,  33.5111,2,    281.6,2,  33.5169,2,   280.57,2,    33.63,2,    20.19,2,     0.01,2,    1.550,3, -999.000,9, -999.000,9,   2137.0,2,   2251.0,2,   7.6784,2,    25.00, -999.000,9,     0.01,2,     0.04,2,   4.9008,2,  26.5060,2,   4.9121,2
49UP20180614_1,   P13,    21,  1,     31,     840,2,20180627,2341,0200, 47.0008, 164.9995, 5863,    153.2,      152,   4.6799,  33.5625,2,    245.2,2,  33.5627,2,   244.30,2,    41.59,2,    23.24,2,     0.01,2,    1.770,3,    3.621,2,    2.019,2,   2163.0,2,   2258.2,2,   7.6193,2,    25.00,    0.286,2,     0.00,2,     0.04,2,   4.6687,2,  26.5724,2,   4.6803,2
49UP20180614_1,   P13,    21,  1,     30,     839,2,20180627,2341,0158, 47.0008, 164.9995, 5863,    203.6,      202,   4.4333,  33.6598,2,    183.4,2,  33.6575,2,   182.83,2,    56.37,2,    28.76,2,     0.00,2,    2.140,3,    3.161,2,    1.737,2,   2208.3,2,   2269.2,2,   7.5188,2,    25.00,    0.231,2,     0.00,2,     0.04,2,   4.4187,2,  26.6766,2,   4.4328,2
49UP20180614_1,   P13,    21,  1,     29,     838,2,20180627,2341,0156, 47.0008, 164.9995, 5863,    251.1,      249,   4.3829,  33.7601,2,    141.7,2,  33.7598,2,   141.28,2,    66.99,2,    32.50,2,     0.00,2,    2.380,3,    2.764,2,    1.494,2,   2239.5,2,   2280.3,2,   7.4556,2,    25.00,    0.197,2,  -999.00,9,  -999.00,9,   4.3649,2,  26.7619,2,   4.3829,2
49UP20180614_1,   P13,    21,  1,     28,     837,2,20180627,2341,0154, 47.0008, 164.9995, 5863,    302.5,      300,   4.3168,  33.8554,2,    109.8,2,  33.8545,2,   109.64,2,    77.21,2,    35.46,2,     0.00,2,    2.560,3,    2.378,2,    1.233,2,   2264.2,2,   2289.9,2,   7.4027,2,    25.00,    0.165,2,  -999.00,9,  -999.00,9,   4.2951,2,  26.8451,2,   4.3167,2
49UP20180614_1,   P13,    21,  1,     27,     661,2,20180627,2341,0151, 47.0008, 164.9995, 5863,    404.9,      401,   4.1327,  33.9987,2,     71.2,2,  33.9983,2,    72.01,2,    93.74,2,    38.91,2,     0.00,2,    2.800,3,    1.723,2,    0.859,2,   2306.1,2,   2309.0,2,   7.3449,2,    25.00,    0.116,2,  -999.00,9,  -999.00,9,   4.1038,2,  26.9789,2,   4.1303,2
49UP20180614_1,   P13,    21,  1,     26,     835,3,20180627,2341,0148, 47.0008, 164.9995, 5863,    505.5,      501,   3.8392,  34.0990,2,     48.4,2,  34.0991,2,    49.02,2,   108.31,2,    41.02,2,     0.00,2,    2.960,3,    1.234,2,    0.603,2,   2326.9,2,   2327.1,2,   7.3259,2,    25.00,    0.081,2,  -999.00,9,  -999.00,9,   3.8039,2,  27.0893,2,   3.8391,2
49UP20180614_1,   P13,    21,  1,     25,     834,2,20180627,2341,0145, 47.0008, 164.9995, 5863,    608.2,      602,   3.6125,  34.1959,2,     37.5,2,  34.1955,2,    37.29,2,   119.96,2,    41.89,2,     0.00,2,    3.010,3,    0.810,2,    0.385,2,   2343.4,2,   2343.8,2,   7.3200,2,    25.00,    0.047,2,  -999.00,9,  -999.00,9,   3.5705,2,  27.1895,2,   3.6124,2
49UP20180614_1,   P13,    21,  1,     24,     833,2,20180627,2341,0142, 47.0008, 164.9995, 5863,    708.1,      701,   3.4526,  34.2560,2,     34.9,2,  34.2557,2,    34.98,6,   126.50,6,    42.07,6,     0.00,6,    3.020,3,    0.564,2,    0.275,2,   2351.0,2,   2353.7,2,   7.3210,2,    25.00,    0.035,2,  -999.00,9,  -999.00,9,   3.4039,2,  27.2535,2,   3.4512,2
49UP20180614_1,   P13,    21,  1,     23,     832,2,20180627,2341,0139, 47.0008, 164.9995, 5863,    811.1,      803,   3.1887,  34.2993,2,     29.1,2,  34.2987,2,    29.67,2,   135.93,2,    42.69,2,     0.00,2,    3.070,3,    0.417,2,    0.202,2,   2362.1,6,   2361.6,6,   7.3157,2,    25.00,    0.027,2,  -999.00,9,  -999.00,9,   3.1339,2,  27.3135,2,   3.1870,2
49UP20180614_1,   P13,    21,  1,     22,     831,2,20180627,2341,0136, 47.0008, 164.9995, 5863,    910.2,      901,   3.0040,  34.3510,2,     29.9,2,  34.3515,2,    29.98,2,   142.30,2,    42.88,2,     0.00,2,    3.080,3,    0.287,6,    0.140,6,   2369.0,2,   2370.9,2,   7.3253,2,    25.00,    0.014,6,  -999.00,9,  -999.00,9,   2.9430,2,  27.3722,2,   3.0036,2
49UP20180614_1,   P13,    21,  1,     21,     830,2,20180627,2341,0133, 47.0008, 164.9995, 5863,   1011.3,     1000,   2.8075,  34.3862,2,     29.1,2,  34.3867,2,    29.11,2,   148.73,2,    43.11,2,     0.00,2,    3.090,3,    0.217,2,    0.104,2,   2375.3,2,   2377.5,2,   7.3318,2,    25.00,    0.017,2,  -999.00,9,  -999.00,9,   2.7405,2,  27.4183,2,   2.8075,2
49UP20180614_1,   P13,    21,  1,     20,     829,2,20180627,2341,0128, 47.0008, 164.9995, 5863,   1214.1,     1201,   2.5368,  34.4415,2,     33.1,2,  34.4417,2,    33.11,6,   157.21,6,    42.95,6,     0.00,6,    3.070,3,    0.142,2,    0.066,2,   2378.7,2,   2388.2,2,   7.3410,2,    25.00,    0.011,2,  -999.00,9,  -999.00,9,   2.4569,2,  27.4870,2,   2.5368,2
49UP20180614_1,   P13,    21,  1,     19,     828,2,20180627,2341,0123, 47.0008, 164.9995, 5863,   1417.4,     1401,   2.3465,  34.4896,2,     39.7,2,  34.4898,6,    39.67,2,   162.35,2,    42.74,2,     0.00,2,    3.030,3,    0.089,2,    0.035,2,   2383.2,2,   2397.7,2,   7.3551,6,    25.00,    0.012,2,  -999.00,9,  -999.00,9,   2.2529,2,  27.5424,2,   2.3465,2
49UP20180614_1,   P13,    21,  1,     18,     827,2,20180627,2341,0119, 47.0008, 164.9995, 5863,   1618.9,     1599,   2.2053,  34.5271,2,     47.4,2,  34.5276,2,    47.32,2,   165.56,2,    42.35,2,     0.00,2,    3.020,3,    0.046,2,    0.013,2,   2383.2,2,   2402.1,2,   7.3760,2,    25.00,    0.001,2,  -999.00,9,  -999.00,9,   2.0974,2,  27.5850,2,   2.2050,2
49UP20180614_1,   P13,    21,  1,     17,     826,3,20180627,2341,0114, 47.0008, 164.9995, 5863,   1822.5,     1800,   2.0562,  34.5588,2,     54.2,2,  34.5595,2,    54.10,2,   169.77,2,    42.04,2,     0.00,2,    3.000,3,    0.019,2,    0.007,2,   2381.8,2,   2407.6,2,   7.3953,2,    25.00,    0.010,2,  -999.00,9,  -999.00,9,   1.9338,2,  27.6234,2,   2.0558,2
49UP20180614_1,   P13,    21,  1,     16,     825,2,20180627,2341,0109, 47.0008, 164.9995, 5863,   2027.7,     2001,   1.9174,  34.5895,2,     67.5,2,  34.5899,2,    67.74,2,   170.52,2,    41.17,2,     0.00,2,    2.910,3,    0.008,2,    0.003,2,   2382.5,2,   2413.6,2,   7.4178,2,    25.00,    0.000,2,  -999.00,9,  -999.00,9,   1.7801,2,  27.6599,2,   1.9174,2
49UP20180614_1,   P13,    21,  1,     15,     824,2,20180627,2341,0105, 47.0008, 164.9995, 5863,   2230.1,     2200,   1.8163,  34.6098,2,     79.3,2,  34.6106,2,    79.05,2,   170.48,2,    40.36,2,     0.00,2,    2.850,3,    0.004,2,    0.000,2,   2371.1,6,   2415.2,6,   7.4480,2,    25.00,    0.000,2,  -999.00,9,  -999.00,9,   1.6633,2,  27.6850,2,   1.8163,2
49UP20180614_1,   P13,    21,  1,     14,     823,2,20180627,2341,0100, 47.0008, 164.9995, 5863,   2434.3,     2400,   1.7308,  34.6278,2,     93.2,2,  34.6282,2,    92.89,2,   167.79,2,    39.59,2,     0.00,2,    2.780,3,    0.002,2,    0.005,2,   2362.9,2,   2417.0,2,   7.4723,6,    25.00,    0.000,2,  -999.00,9,  -999.00,9,   1.5615,2,  27.7069,2,   1.7307,2
49UP20180614_1,   P13,    21,  1,     13,     822,2,20180627,2341,0055, 47.0008, 164.9995, 5863,   2637.9,     2600,   1.6745,  34.6387,2,    102.3,2,  34.6393,2,   102.22,6,   166.60,6,    39.08,6,     0.00,6,    2.750,3,    0.001,2,    0.000,2,   2356.9,2,   2418.1,2,   7.4903,2,    25.00,    0.000,2,  -999.00,9,  -999.00,9,   1.4879,2,  27.7211,2,   1.6743,2
49UP20180614_1,   P13,    21,  1,     12,     821,2,20180627,2341,0051, 47.0008, 164.9995, 5863,   2843.5,     2801,   1.6172,  34.6496,2,    112.4,2,  34.6503,2,   112.10,2,   164.05,2,    38.39,2,     0.00,2,    2.710,3,    0.000,2,    0.000,2,   2354.2,2,   2419.6,2,   7.5099,2,    25.00,    0.000,2,  -999.00,9,  -999.00,9,   1.4128,2,  27.7353,2,   1.6171,2
49UP20180614_1,   P13,    21,  1,     11,     820,2,20180627,2341,0046, 47.0008, 164.9995, 5863,   3047.7,     3001,   1.5682,  34.6587,2,    121.8,2,  34.6590,2,   121.64,2,   161.55,2,    37.75,2,     0.00,2,    2.640,3, -999.000,9, -999.000,9,   2342.3,2,   2419.4,2,   7.5265,2,    25.00, -999.000,9,  -999.00,9,  -999.00,9,   1.3454,2,  27.7473,2,   1.5681,2
49UP20180614_1,   P13,    21,  1,     10,     819,2,20180627,2341,0040, 47.0008, 164.9995, 5863,   3302.4,     3250,   1.5252,  34.6670,2,    131.0,2,  34.6671,2,   130.92,2,   159.02,2,    37.26,2,     0.00,2,    2.590,3, -999.000,9, -999.000,9,   2340.2,2,   2419.3,2,   7.5419,2,    25.00, -999.000,9,  -999.00,9,  -999.00,9,   1.2785,2,  27.7587,2,   1.5250,2
49UP20180614_1,   P13,    21,  1,      9,     818,2,20180627,2341,0034, 47.0008, 164.9995, 5863,   3559.6,     3501,   1.5001,  34.6730,2,    138.2,2,  34.6735,6,   137.61,2,   156.78,2,    36.78,2,     0.00,2,    2.570,3,    0.000,2,    0.000,2,   2333.3,2,   2418.3,2,   7.5563,2,    25.00,    0.000,2,  -999.00,9,  -999.00,9,   1.2279,2,  27.7671,2,   1.5000,2
49UP20180614_1,   P13,    21,  1,      8,     817,2,20180627,2341,0024, 47.0008, 164.9995, 5863,   4073.2,     4001,   1.4847,  34.6807,2,    147.3,2,  34.6810,2,   147.31,2,   154.65,2,    36.27,2,     0.00,2,    2.520,3, -999.000,9, -999.000,9,   2329.1,2,   2418.1,2,   7.5739,2,    25.00, -999.000,9,  -999.00,9,  -999.00,9,   1.1582,2,  27.7781,2,   1.4846,2
49UP20180614_1,   P13,    21,  1,      7,     816,2,20180627,2341,0018, 47.0008, 164.9995, 5863,   4329.1,     4250,   1.4886,  34.6833,2,    150.8,2,  34.6838,6,   150.72,2,   153.84,2,    35.98,2,     0.00,2,    2.500,3, -999.000,9, -999.000,9,   2324.8,2,   2418.1,2,   7.5798,2,    25.00, -999.000,9,  -999.00,9,  -999.00,9,   1.1335,2,  27.7819,2,   1.4885,2
49UP20180614_1,   P13,    21,  1,      6,     815,2,20180627,2341,0012, 47.0008, 164.9995, 5863,   4587.2,     4501,   1.4994,  34.6855,2,    153.4,2,  34.6852,2,   153.22,6,   153.10,6,    35.77,6,     0.00,6,    2.480,3,    0.000,2,   -0.000,2,   2322.0,2,   2419.0,2,   7.5805,2,    25.00,    0.000,2,  -999.00,9,  -999.00,9,   1.1144,2,  27.7850,2,   1.4993,2
49UP20180614_1,   P13,    21,  1,      5,     814,3,20180627,2341,0002, 47.0008, 164.9995, 5863,   5102.7,     5001,   1.5353,  34.6887,2,    156.9,2,  34.6891,2,   157.16,2,   153.21,2,    35.62,2,     0.00,2,    2.460,3, -999.000,9, -999.000,9,   2321.5,2,   2417.3,2,   7.5893,2,    25.00, -999.000,9,  -999.00,9,  -999.00,9,   1.0873,2,  27.7893,2,   1.5352,2
49UP20180614_1,   P13,    21,  1,      4,     813,2,20180627,2341,2356, 47.0008, 164.9995, 5863,   5361.1,     5251,   1.5626,  34.6896,2,    157.5,2,  34.6896,2,   157.27,2,   154.47,2,    35.58,2,     0.00,2,    2.470,3, -999.000,9, -999.000,9,   2328.9,3,   2417.8,2,   7.5868,2,    25.00, -999.000,9,  -999.00,9,  -999.00,9,   1.0814,2,  27.7905,2,   1.5624,2
49UP20180614_1,   P13,    21,  1,      3,     812,2,20180627,2341,2350, 47.0008, 164.9995, 5863,   5619.0,     5500,   1.5967,  34.6897,2,    157.5,2,  34.6897,2,   156.90,2,   154.48,2,    35.53,2,     0.00,2,    2.460,3, -999.000,9, -999.000,9,   2322.4,2,   2417.5,2,   7.5894,2,    25.00, -999.000,9,  -999.00,9,  -999.00,9,   1.0813,2,  27.7905,2,   1.5964,2
49UP20180614_1,   P13,    21,  1,      2,     811,2,20180627,2341,2345, 47.0008, 164.9995, 5863,   5876.9,     5750,   1.6312,  34.6897,2,    157.6,2,  34.6901,2,   157.62,2,   154.40,2,    35.45,2,     0.00,2,    2.450,3, -999.000,9, -999.000,9,   2323.6,6,   2418.5,6,   7.5945,2,    25.00, -999.000,9,  -999.00,9,  -999.00,9,   1.0807,2,  27.7906,2,   1.6309,2
49UP20180614_1,   P13,    21,  1,      1,     810,2,20180627,2341,2341, 47.0008, 164.9995, 5863,   6007.4,     5876,   1.6492,  34.6898,2,    157.5,2,  34.6901,6,   157.22,2,   154.30,2,    35.54,2,     0.00,2,    2.450,3,    0.004,2,    0.002,2,   2324.9,2,   2417.9,2,   7.5895,2,    25.00,    0.005,2,  -999.00,9,  -999.00,9,   1.0806,2,  27.7907,2,   1.6490,2