BOTTLE,20191018JMAGEMD
EXPOCODE,SECT_ID,STNNBR,CASTNO,SAMPNO,BTLNBR,BTLNBR_FLAG_U,DATE,TIME,BTL_TIME,LATITUDE,LONGITUDE,DEPTH,CTDPRS,CTDDEP,CTDTMP,CTDSAL,CTDSAL_FLAG_W,CTDOXY,CTDOXY_FLAG_W,SALNTY,SALNTY_FLAG_W,OXYGEN,OXYGEN_FLAG_W,SILCAT,SILCAT_FLAG_W,NO2+NO3,NO2+NO3_FLAG_W,NITRIT,NITRIT_FLAG_W,PHSPHT,PHSPHT_FLAG_W,CFC-11,CFC-11_FLAG_W,CFC-12,CFC-12_FLAG_W,TCARBN,TCARBN_FLAG_W,ALKALI,ALKALI_FLAG_W,PH_TS,PH_TS_FLAG_W,PH_TS_TMP,CFC113,CFC113_FLAG_W,CHLORA,CHLORA_FLAG_W,PPHYTN,PPHYTN_FLAG_W,THETA,THETA_FLAG_W,SIGTHT,SIGTHT_FLAG_W,SBE35,SBE35_FLAG_W
,,,,,,,,UTC,,,,METER,DBAR,METERS,ITS-90,PSS-78,,UMOL/KG,,PSS78,,UMOL/KG,,UMOL/KG,,UMOL/KG,,UMOL/KG,,UMOL/KG,,PMOL/KG,,PMOL/KG,,UMOL/KG,,UMOL/KG,,,,ITS-90,PMOL/KG,,UG/KG,,UG/KG,,ITS-90,,KG/M3,,ITS-90,
49UP20180614_1,   P13,    12,  1,      0,      -9,0,20180624,0451,0630, 45.0828, 156.6377, 4759,      0.0,        0,   5.7754,  32.8930,2,    330.0,2,  32.8872,2,   327.02,2,    35.42,2,    19.61,2,     0.20,2,    1.680,2, -999.000,9, -999.000,9,   2093.3,2,   2233.9,2,   7.7640,2,    25.00, -999.000,9,     0.71,2,     0.15,2,   5.7752,2,  25.9152,2,-999.0000,9
49UP20180614_1,   P13,    12,  1,     36,     845,2,20180624,0451,0702, 45.0828, 156.6377, 4759,     10.6,       11,   5.6139,  32.8928,2,    331.1,2,  32.8935,2,   329.65,2,    35.46,2,    19.57,2,     0.20,2,    1.670,2,    4.437,2,    2.470,2,   2091.1,2,   2234.0,2,   7.7629,2,    25.00,    0.424,2,     0.72,2,     0.14,2,   5.6131,2,  25.9345,2,   5.6158,2
49UP20180614_1,   P13,    12,  1,     35,     844,3,20180624,0451,0700, 45.0828, 156.6377, 4759,     25.8,       26,   5.1614,  32.8939,2,    330.8,2,  32.8954,2,   330.25,2,    35.04,2,    19.79,2,     0.20,2,    1.690,2, -999.000,9, -999.000,9,   2094.1,2,   2233.3,2,   7.7568,2,    25.00, -999.000,9,     0.84,2,     0.23,2,   5.1595,2,  25.9878,2,   5.1662,2
49UP20180614_1,   P13,    12,  1,     34,     843,3,20180624,0451,0656, 45.0828, 156.6377, 4759,     50.3,       50,   2.7779,  32.9901,2,    332.7,2,  32.9898,2,   332.32,2,    39.29,2,    23.42,2,     0.31,2,    1.910,2,    4.909,2,    2.700,2,   2123.5,2,   2234.3,2,   7.6738,2,    25.00,    0.475,2,     0.32,2,     0.29,2,   2.7751,2,  26.3001,2,   2.7777,2
49UP20180614_1,   P13,    12,  1,     33,     842,2,20180624,0451,0654, 45.0828, 156.6377, 4759,     75.4,       75,   2.0641,  33.0356,2,    324.5,2,  33.0364,2,   324.62,2,    42.12,2,    25.49,2,     0.33,2,    1.990,2, -999.000,9, -999.000,9,   2138.3,2,   2236.0,2,   7.6370,2,    25.00, -999.000,9,     0.10,2,     0.12,2,   2.0603,2,  26.3934,2,   2.0639,2
49UP20180614_1,   P13,    12,  1,     32,     841,2,20180624,0451,0653, 45.0828, 156.6377, 4759,    100.3,       99,   1.8767,  33.1528,2,    288.6,2,  33.1424,4,   290.42,2,    50.58,2,    28.28,2,     0.01,2,    2.150,2,    4.623,2,    2.558,2,   2170.5,2,   2241.7,2,   7.5747,2,    25.00,    0.427,2,     0.03,2,     0.07,2,   1.8717,2,  26.5013,2,   1.8684,2
49UP20180614_1,   P13,    12,  1,     31,     840,2,20180624,0451,0651, 45.0828, 156.6377, 4759,    126.1,      125,   2.6723,  33.4455,2,    169.8,2,  33.4365,4,   173.18,2,    71.53,2,    35.68,2,     0.01,2,    2.600,2, -999.000,9, -999.000,9,   2242.5,2,   2263.1,2,   7.4090,2,    25.00, -999.000,9,     0.01,2,     0.07,2,   2.6652,2,  26.6731,2,   2.6769,2
49UP20180614_1,   P13,    12,  1,     30,     839,3,20180624,0451,0649, 45.0828, 156.6377, 4759,    151.1,      150,   3.3516,  33.7046,2,     77.1,2,  33.7039,2,    77.00,2,    88.94,2,    41.81,2,     0.01,2,    2.960,2,    2.578,2,    1.353,2,   2307.1,2,   2283.5,2,   7.2819,2,    25.00,    0.195,2,     0.01,2,     0.07,2,   3.3421,2,  26.8198,2,   3.3532,2
49UP20180614_1,   P13,    12,  1,     29,     838,2,20180624,0451,0647, 45.0828, 156.6377, 4759,    203.2,      201,   3.6947,  33.8961,2,     22.0,2,  33.8948,2,    21.70,2,   101.64,2,    45.29,2,     0.01,2,    3.170,2,    1.911,2,    0.964,2,   2339.0,2,   2301.0,2,   7.2165,2,    25.00,    0.136,2,     0.01,2,     0.06,2,   3.6812,2,  26.9399,2,   3.6944,2
49UP20180614_1,   P13,    12,  1,     28,     837,2,20180624,0451,0645, 45.0828, 156.6377, 4759,    252.9,      251,   3.6800,  33.9963,2,     13.7,2,  33.9937,2,    13.85,6,   109.21,6,    45.36,6,     0.00,6,    3.190,6,    1.524,2,    0.743,2,   2352.3,2,   2312.8,2,   7.2143,2,    25.00,    0.107,2,  -999.00,9,  -999.00,9,   3.6632,2,  27.0215,2,   3.6804,2
49UP20180614_1,   P13,    12,  1,     27,     661,2,20180624,0451,0643, 45.0828, 156.6377, 4759,    303.9,      301,   3.5851,  34.0474,2,     15.4,2,  34.0473,2,    14.91,2,   114.35,2,    44.83,2,     0.00,2,    3.160,2,    1.296,2,    0.625,2,   2354.5,2,   2323.6,2,   7.2337,6,    25.00,    0.086,2,  -999.00,9,  -999.00,9,   3.5649,2,  27.0717,2,   3.5848,2
49UP20180614_1,   P13,    12,  1,     26,     835,2,20180624,0451,0640, 45.0828, 156.6377, 4759,    405.7,      402,   3.4472,  34.1626,2,     13.3,2,  34.1624,2,    12.91,2,   125.59,2,    44.54,2,     0.00,2,    3.130,2,    0.807,2,    0.379,2,   2364.7,2,   2339.4,2,   7.2582,2,    25.00,    0.050,2,  -999.00,9,  -999.00,9,   3.4203,2,  27.1775,2,   3.4471,2
49UP20180614_1,   P13,    12,  1,     25,     834,3,20180624,0451,0637, 45.0828, 156.6377, 4759,    506.1,      501,   3.2499,  34.2370,2,     14.1,2,  34.2353,2,    14.64,2,   134.22,2,    44.21,2,     0.00,2,    3.120,2,    0.530,6,    0.265,6,   2373.1,2,   2354.0,2,   7.2778,2,    25.00,    0.034,6,  -999.00,9,  -999.00,9,   3.2167,2,  27.2560,2,   3.2500,2
49UP20180614_1,   P13,    12,  1,     24,     833,2,20180624,0451,0634, 45.0828, 156.6377, 4759,    608.6,      603,   3.0793,  34.2924,2,     14.3,2,  34.2915,2,    13.83,6,   141.30,6,    44.16,6,     0.00,6,    3.120,6,    0.364,2,    0.173,2,   2379.0,2,   2362.6,2,   7.2793,2,    25.00,    0.024,2,  -999.00,9,  -999.00,9,   3.0397,2,  27.3166,2,   3.0793,2
49UP20180614_1,   P13,    12,  1,     23,     832,2,20180624,0451,0631, 45.0828, 156.6377, 4759,    709.6,      703,   2.9285,  34.3364,2,     15.4,2,  34.3361,2,    15.18,2,   147.09,2,    44.08,2,     0.00,2,    3.120,2,    0.263,2,    0.128,2,   2384.2,2,   2369.9,2,   7.2905,2,    25.00,    0.016,2,  -999.00,9,  -999.00,9,   2.8825,2,  27.3659,2,   2.9281,2
49UP20180614_1,   P13,    12,  1,     22,     831,2,20180624,0451,0628, 45.0828, 156.6377, 4759,    808.8,      801,   2.7950,  34.3739,2,     15.9,2,  34.3733,2,    15.04,2,   152.30,2,    44.13,2,     0.00,2,    3.120,2,    0.182,2,    0.104,2,   2388.3,2,   2377.1,2,   7.2980,2,    25.00,    0.019,2,  -999.00,9,  -999.00,9,   2.7428,2,  27.4083,2,   2.7951,2
49UP20180614_1,   P13,    12,  1,     21,     830,2,20180624,0451,0625, 45.0828, 156.6377, 4759,    909.9,      901,   2.6485,  34.4113,2,     17.4,2,  34.4114,2,    17.33,2,   157.62,2,    44.06,2,     0.00,2,    3.110,2,    0.121,2,    0.061,2,   2392.2,2,   2383.2,2,   7.3120,2,    25.00,    0.009,2,  -999.00,9,  -999.00,9,   2.5900,2,  27.4515,2,   2.6484,2
49UP20180614_1,   P13,    12,  1,     20,     829,2,20180624,0451,0622, 45.0828, 156.6377, 4759,   1014.8,     1004,   2.5214,  34.4406,2,     20.5,2,  34.4403,6,    20.10,2,   161.68,2,    43.78,2,     0.00,2,    3.100,2,    0.087,2,    0.041,2,   2395.1,2,   2392.4,2,   7.3138,2,    25.00,    0.002,2,  -999.00,9,  -999.00,9,   2.4563,2,  27.4863,2,   2.5213,2
49UP20180614_1,   P13,    12,  1,     19,     828,3,20180624,0451,0617, 45.0828, 156.6377, 4759,   1215.5,     1202,   2.2772,  34.4947,2,     32.3,2,  34.4940,2,    34.29,4,   167.78,6,    43.10,6,     0.00,6,    3.050,6,    0.061,2,    0.033,2,   2392.5,2,   2398.5,2,   7.3393,2,    25.00,    0.007,2,  -999.00,9,  -999.00,9,   2.1995,2,  27.5509,2,   2.2771,2
49UP20180614_1,   P13,    12,  1,     18,     827,2,20180624,0451,0612, 45.0828, 156.6377, 4759,   1419.3,     1403,   2.0995,  34.5387,2,     46.4,2,  34.5390,2,    46.01,2,   170.38,2,    42.37,2,     0.00,2,    2.990,2,    0.037,2,    0.012,2,   2389.3,2,   2406.2,2,   7.3778,2,    25.00,    0.007,2,  -999.00,9,  -999.00,9,   2.0083,2,  27.6015,2,   2.0995,2
49UP20180614_1,   P13,    12,  1,     17,     826,2,20180624,0451,0607, 45.0828, 156.6377, 4759,   1621.5,     1602,   1.9553,  34.5740,2,     60.5,2,  34.5747,2,    61.19,2,   171.20,2,    41.62,2,     0.00,2,    2.930,2,    0.013,2,    0.010,2,   2385.6,2,   2409.5,2,   7.4058,6,    25.00,    0.006,2,  -999.00,9,  -999.00,9,   1.8503,2,  27.6420,2,   1.9552,2
49UP20180614_1,   P13,    12,  1,     16,     825,2,20180624,0451,0602, 45.0828, 156.6377, 4759,   1825.4,     1803,   1.8436,  34.6002,2,     75.4,2,  34.6001,2,    76.87,2,   169.51,2,    40.61,2,     0.00,2,    2.850,2,    0.005,2,    0.003,2,   2375.7,6,   2416.9,6,   7.4312,2,    25.00,    0.002,2,  -999.00,9,  -999.00,9,   1.7239,2,  27.6727,2,   1.8437,2
49UP20180614_1,   P13,    12,  1,     15,     824,2,20180624,0451,0557, 45.0828, 156.6377, 4759,   2028.9,     2003,   1.7449,  34.6208,2,     90.2,2,  34.6218,6,    90.37,2,   166.94,2,    39.78,2,     0.00,2,    2.790,2,    0.000,2,    0.000,2,   2368.6,2,   2418.3,2,   7.4620,2,    25.00,    0.000,2,  -999.00,9,  -999.00,9,   1.6100,2,  27.6978,2,   1.7449,2
49UP20180614_1,   P13,    12,  1,     14,     823,2,20180624,0451,0552, 45.0828, 156.6377, 4759,   2232.1,     2202,   1.6648,  34.6359,2,    102.1,2,  34.6365,2,   102.12,2,   164.78,2,    39.03,2,     0.00,2,    2.730,2,    0.000,6,    0.001,6,   2360.0,2,   2418.8,2,   7.4834,2,    25.00,    0.003,6,  -999.00,9,  -999.00,9,   1.5141,2,  27.7170,2,   1.6647,2
49UP20180614_1,   P13,    12,  1,     13,     822,2,20180624,0451,0547, 45.0828, 156.6377, 4759,   2434.5,     2401,   1.6111,  34.6460,2,    111.1,2,  34.6465,2,   111.59,2,   162.94,2,    38.50,2,     0.00,2,    2.690,2,    0.000,2,   -0.000,2,   2354.1,2,   2419.5,2,   7.5052,2,    25.00,    0.000,2,  -999.00,9,  -999.00,9,   1.4439,2,  27.7301,2,   1.6111,2
49UP20180614_1,   P13,    12,  1,     12,     821,2,20180624,0451,0542, 45.0828, 156.6377, 4759,   2638.4,     2601,   1.5618,  34.6549,2,    119.6,2,  34.6560,6,   119.64,2,   161.03,2,    37.94,2,     0.00,2,    2.650,2,    0.000,2,    0.000,2,   2347.4,2,   2416.4,2,   7.5268,2,    25.00,    0.003,2,  -999.00,9,  -999.00,9,   1.3774,2,  27.7421,2,   1.5618,2
49UP20180614_1,   P13,    12,  1,     11,     820,2,20180624,0451,0537, 45.0828, 156.6377, 4759,   2843.7,     2802,   1.5212,  34.6623,2,    127.2,2,  34.6624,2,   126.72,2,   159.18,2,    37.53,2,     0.00,2,    2.610,2,    0.000,2,    0.000,2,   2344.1,2,   2415.5,2,   7.5352,6,    25.00,    0.000,2,  -999.00,9,  -999.00,9,   1.3187,2,  27.7521,2,   1.5211,2
49UP20180614_1,   P13,    12,  1,      9,     818,3,20180624,0451,0532, 45.0828, 156.6377, 4759,   3048.1,     3002,   1.4889,  34.6684,2,    133.7,2,  34.6691,2,   133.42,2,   157.52,2,    37.08,2,     0.00,2,    2.570,2, -999.000,9, -999.000,9,   2343.2,2,   2420.3,2,   7.5484,2,    25.00, -999.000,9,  -999.00,9,  -999.00,9,   1.2678,2,  27.7606,2,   1.4886,2
49UP20180614_1,   P13,    12,  1,     10,     819,2,20180624,0451,0532, 45.0828, 156.6377, 4759,   3048.8,     3002,   1.4888,  34.6683,2,    133.7,2,  34.6684,2,   133.80,2,   157.56,2,    37.06,2,     0.00,2,    2.570,2, -999.000,9, -999.000,9,   2347.8,2,   2421.7,2,   7.5447,2,    25.00, -999.000,9,  -999.00,9,  -999.00,9,   1.2676,2,  27.7605,2,   1.4887,2
49UP20180614_1,   P13,    12,  1,      8,     817,2,20180624,0451,0526, 45.0828, 156.6377, 4759,   3304.0,     3252,   1.4627,  34.6740,2,    140.1,2,  34.6738,2,   139.70,2,   156.00,2,    36.55,2,     0.00,2,    2.540,2, -999.000,9, -999.000,9,   2337.1,6,   2421.4,6,   7.5586,2,    25.00, -999.000,9,  -999.00,9,  -999.00,9,   1.2172,2,  27.7686,2,   1.4625,2
49UP20180614_1,   P13,    12,  1,      7,     816,2,20180624,0451,0520, 45.0828, 156.6377, 4759,   3560.0,     3502,   1.4468,  34.6785,2,    145.5,2,  34.6793,2,   145.26,2,   154.34,2,    36.21,2,     0.00,2,    2.510,2,    0.000,2,    0.002,2,   2338.1,2,   2422.0,2,   7.5685,2,    25.00,    0.007,2,  -999.00,9,  -999.00,9,   1.1759,2,  27.7751,2,   1.4467,2
49UP20180614_1,   P13,    12,  1,      6,     815,2,20180624,0451,0514, 45.0828, 156.6377, 4759,   3816.0,     3751,   1.4417,  34.6820,2,    149.5,2,  34.6822,2,   149.54,2,   153.29,2,    36.03,2,     0.00,2,    2.490,2, -999.000,9, -999.000,9,   2332.2,6,   2420.0,6,   7.5741,2,    25.00, -999.000,9,  -999.00,9,  -999.00,9,   1.1442,2,  27.7801,2,   1.4417,2
49UP20180614_1,   P13,    12,  1,      5,     814,3,20180624,0451,0509, 45.0828, 156.6377, 4759,   4072.1,     4001,   1.4424,  34.6849,2,    153.0,2,  34.6835,4,   152.90,2,   152.77,2,    35.78,2,     0.00,2,    2.470,2, -999.000,9, -999.000,9,   2330.5,2,   2418.8,2,   7.5813,2,    25.00, -999.000,9,  -999.00,9,  -999.00,9,   1.1172,2,  27.7843,2,   1.4424,2
49UP20180614_1,   P13,    12,  1,      4,     813,2,20180624,0451,0503, 45.0828, 156.6377, 4759,   4329.6,     4251,   1.4541,  34.6868,2,    155.1,2,  34.6873,2,   155.55,2,   152.78,2,    35.65,2,     0.00,2,    2.460,2, -999.000,9, -999.000,9,   2328.4,2,   2420.1,2,   7.5865,2,    25.00, -999.000,9,  -999.00,9,  -999.00,9,   1.1000,2,  27.7870,2,   1.4540,2
49UP20180614_1,   P13,    12,  1,      3,     812,2,20180624,0451,0457, 45.0828, 156.6377, 4759,   4585.6,     4500,   1.4752,  34.6878,2,    156.1,2,  34.6878,2,   156.11,6,   153.10,6,    35.53,6,     0.00,6,    2.460,6, -999.000,9, -999.000,9,   2326.3,2,   2418.3,2,   7.5857,2,    25.00, -999.000,9,  -999.00,9,  -999.00,9,   1.0911,2,  27.7884,2,   1.4751,2
49UP20180614_1,   P13,    12,  1,      1,     810,2,20180624,0451,0451, 45.0828, 156.6377, 4759,   4840.1,     4747,   1.5029,  34.6883,2,    156.4,2,  34.6883,2,   156.81,2,   153.80,2,    35.57,2,     0.00,2,    2.460,2,    0.009,2,    0.000,2,   2329.8,2,   2417.8,2,   7.5892,2,    25.00,    0.000,2,  -999.00,9,  -999.00,9,   1.0878,2,  27.7890,2,   1.5028,2
49UP20180614_1,   P13,    12,  1,      2,     811,2,20180624,0451,0451, 45.0828, 156.6377, 4759,   4840.5,     4747,   1.5030,  34.6883,2,    156.4,2,  34.6884,2,   156.31,2,   154.03,2,    35.53,2,     0.00,2,    2.460,2, -999.000,9, -999.000,9,   2326.6,2,   2418.6,2,   7.5880,2,    25.00, -999.000,9,  -999.00,9,  -999.00,9,   1.0879,2,  27.7890,2,   1.5029,2