BOTTLE,20191018JMAGEMD
EXPOCODE,SECT_ID,STNNBR,CASTNO,SAMPNO,BTLNBR,BTLNBR_FLAG_U,DATE,TIME,BTL_TIME,LATITUDE,LONGITUDE,DEPTH,CTDPRS,CTDDEP,CTDTMP,CTDSAL,CTDSAL_FLAG_W,CTDOXY,CTDOXY_FLAG_W,SALNTY,SALNTY_FLAG_W,OXYGEN,OXYGEN_FLAG_W,SILCAT,SILCAT_FLAG_W,NO2+NO3,NO2+NO3_FLAG_W,NITRIT,NITRIT_FLAG_W,PHSPHT,PHSPHT_FLAG_W,CFC-11,CFC-11_FLAG_W,CFC-12,CFC-12_FLAG_W,TCARBN,TCARBN_FLAG_W,ALKALI,ALKALI_FLAG_W,PH_TS,PH_TS_FLAG_W,PH_TS_TMP,CFC113,CFC113_FLAG_W,CHLORA,CHLORA_FLAG_W,PPHYTN,PPHYTN_FLAG_W,THETA,THETA_FLAG_W,SIGTHT,SIGTHT_FLAG_W,SBE35,SBE35_FLAG_W
,,,,,,,,UTC,,,,METER,DBAR,METERS,ITS-90,PSS-78,,UMOL/KG,,PSS78,,UMOL/KG,,UMOL/KG,,UMOL/KG,,UMOL/KG,,UMOL/KG,,PMOL/KG,,PMOL/KG,,UMOL/KG,,UMOL/KG,,,,ITS-90,PMOL/KG,,UG/KG,,UG/KG,,ITS-90,,KG/M3,,ITS-90,
49UP20180806_2,   P13,    76,  1,      0,      -9,0,20180904,1807,2010,  7.0007, 164.5032, 5089,      0.0,        0,  29.7270,  33.5252,2,    196.2,2,  33.5290,2,   195.34,2,     1.27,3,     0.01,2,     0.00,2,    0.080,3, -999.000,9, -999.000,9,   1883.1,2,   2204.9,2,   8.1249,2,    25.00, -999.000,9,     0.05,2,     0.02,2,  29.7264,2,  20.7137,2,-999.0000,9
49UP20180806_2,   P13,    76,  1,     36,     845,2,20180904,1807,2029,  7.0007, 164.5032, 5089,     10.6,       11,  29.7372,  33.5248,2,    196.0,2,  33.5265,2,   195.28,6,     1.27,3,     0.00,6,     0.00,6,    0.050,3,    1.454,2,    0.840,2,   1878.2,2,   2203.3,2,   8.1234,2,    25.00,    0.142,2,     0.05,2,     0.02,2,  29.7346,2,  20.7106,2,  29.7367,2
49UP20180806_2,   P13,    76,  1,     35,     844,3,20180904,1807,2024,  7.0007, 164.5032, 5089,     52.9,       53,  29.2367,  34.1596,2,    204.2,2,  34.1204,4,   204.08,2,     1.34,3,     0.01,2,     0.00,2,    0.070,3,    1.555,2,    0.882,2,   1922.3,2,   2245.6,2,   8.1106,2,    25.00,    0.136,2,     0.08,2,     0.03,2,  29.2239,2,  21.3584,2,  29.2251,2
49UP20180806_2,   P13,    76,  1,     34,     843,2,20180904,1807,2023,  7.0007, 164.5032, 5089,    101.9,      101,  21.6122,  34.8588,2,    175.5,2,  34.8596,2,   177.11,2,     3.44,3,     1.37,2,     0.10,2,    0.340,3,    2.023,2,    1.145,2,   2060.7,2,   2302.2,2,   7.9534,2,    25.00,    0.093,2,     0.21,2,     0.38,2,  21.5923,2,  24.2240,2,  21.6232,2
49UP20180806_2,   P13,    76,  1,     33,     842,2,20180904,1807,2021,  7.0007, 164.5032, 5089,    152.8,      152,  14.4022,  34.5445,2,    114.8,2,  34.5455,2,   114.79,2,    16.15,3,    17.63,2,     0.02,2,    1.330,3,    2.144,2,    1.138,2,   2150.6,2,   2285.8,2,   7.7134,2,    25.00,    0.027,2,     0.06,2,     0.19,2,  14.3798,2,  25.7548,2,  14.4046,2
49UP20180806_2,   P13,    76,  1,     32,     841,2,20180904,1807,2019,  7.0007, 164.5032, 5089,    203.2,      202,  11.0221,  34.5768,2,     48.9,2,  34.5756,2,    48.65,2,    29.60,3,    30.04,2,     0.00,2,    2.190,3,    1.230,2,    0.600,2,   2231.4,2,   2296.0,2,   7.5230,2,    25.00,    0.006,2,     0.00,2,     0.03,2,  10.9971,2,  26.4465,2,  11.0219,2
49UP20180806_2,   P13,    76,  1,     31,     840,2,20180904,1807,2017,  7.0007, 164.5032, 5089,    252.4,      251,  10.0162,  34.6256,2,     37.7,2,  34.6253,2,    37.90,2,    33.63,3,    33.18,2,     0.00,2,    2.370,3,    0.768,2,    0.352,2,   2251.9,2,   2304.1,2,   7.4827,2,    25.00,    0.009,2,  -999.00,9,  -999.00,9,   9.9869,2,  26.6618,2,  10.0161,2
49UP20180806_2,   P13,    76,  1,     30,     839,2,20180904,1807,2015,  7.0007, 164.5032, 5089,    304.2,      302,   9.3119,  34.6358,2,     57.6,2,  34.6346,2,    57.29,2,    34.69,3,    33.14,2,     0.00,2,    2.320,3,    0.658,2,    0.321,2,   2245.8,2,   2307.5,2,   7.5112,2,    25.00,    0.004,2,  -999.00,9,  -999.00,9,   9.2781,2,  26.7880,2,   9.3120,2
49UP20180806_2,   P13,    76,  1,     29,     838,2,20180904,1807,2012,  7.0007, 164.5032, 5089,    354.4,      352,   9.0084,  34.6253,2,     53.4,2,  34.6243,2,    52.91,2,    36.87,3,    34.12,2,     0.00,2,    2.400,3, -999.000,9, -999.000,9,   2250.4,2,   2309.3,2,   7.4975,2,    25.00, -999.000,9,  -999.00,9,  -999.00,9,   8.9697,2,  26.8296,2,   9.0088,2
49UP20180806_2,   P13,    76,  1,     28,     837,2,20180904,1807,2010,  7.0007, 164.5032, 5089,    403.9,      401,   8.7405,  34.6143,2,     53.9,2,  34.6129,2,    53.35,6,    38.68,3,    34.54,6,     0.00,6,    2.440,3,    0.475,2,    0.227,2,   2252.5,2,   2311.5,2,   7.4936,2,    25.00,    0.005,2,  -999.00,9,  -999.00,9,   8.6971,2,  26.8641,2,   8.7400,2
49UP20180806_2,   P13,    76,  1,     27,     661,2,20180904,1807,2008,  7.0007, 164.5032, 5089,    455.2,      452,   8.3080,  34.6000,2,     49.7,2,  34.5991,2,    49.70,2,    41.55,3,    35.78,2,     0.00,2,    2.520,3, -999.000,9, -999.000,9,   2260.2,2,   2311.7,2,   7.4771,2,    25.00, -999.000,9,  -999.00,9,  -999.00,9,   8.2603,2,  26.9204,2,   8.3081,2
49UP20180806_2,   P13,    76,  1,     26,     835,2,20180904,1807,2006,  7.0007, 164.5032, 5089,    507.1,      504,   7.7916,  34.5791,2,     46.8,2,  34.5786,2,    45.42,2,    46.08,3,    36.95,2,     0.00,2,    2.620,3,    0.230,2,    0.106,2,   2270.2,2,   2315.2,2,   7.4627,6,    25.00,    0.000,2,  -999.00,9,  -999.00,9,   7.7404,2,  26.9817,2,   7.7860,2
49UP20180806_2,   P13,    76,  1,     25,     834,2,20180904,1807,2003,  7.0007, 164.5032, 5089,    605.7,      601,   7.1377,  34.5601,2,     42.5,2,  34.5604,2,    42.63,2,    53.33,3,    38.56,2,     0.00,2,    2.760,3,    0.122,2,    0.049,2,   2282.3,6,   2322.8,6,   7.4469,2,    25.00,    0.000,2,  -999.00,9,  -999.00,9,   7.0790,2,  27.0612,2,   7.1387,2
49UP20180806_2,   P13,    76,  1,     23,     832,2,20180904,1807,2000,  7.0007, 164.5032, 5089,    707.7,      703,   6.2865,  34.5450,2,     43.0,2,  34.5444,2,    42.74,2,    63.95,3,    40.19,2,     0.00,2,    2.870,3,    0.051,2,    0.020,2,   2290.1,2,   2333.5,2,   7.4338,2,    25.00,    0.005,2,  -999.00,9,  -999.00,9,   6.2221,2,  27.1646,2,   6.2851,2
49UP20180806_2,   P13,    76,  1,     22,     831,2,20180904,1807,1957,  7.0007, 164.5032, 5089,    807.1,      801,   5.5477,  34.5428,2,     50.7,2,  34.5422,2,    50.50,2,    74.17,3,    40.81,2,     0.00,2,    2.910,3,    0.026,2,    0.010,2,   2304.9,2,   2345.4,2,   7.4388,2,    25.00,    0.007,2,  -999.00,9,  -999.00,9,   5.4782,2,  27.2562,2,   5.5478,2
49UP20180806_2,   P13,    76,  1,     21,     830,2,20180904,1807,1954,  7.0007, 164.5032, 5089,    909.5,      902,   5.0459,  34.5469,2,     58.9,2,  34.5467,2,    59.41,2,    82.71,3,    40.71,2,     0.00,2,    2.910,3,    0.019,2,    0.011,2,   2310.8,2,   2353.5,2,   7.4512,2,    25.00,    0.006,2,  -999.00,9,  -999.00,9,   4.9703,2,  27.3195,2,   5.0459,2
49UP20180806_2,   P13,    76,  1,     20,     829,2,20180904,1807,1949,  7.0007, 164.5032, 5089,   1009.8,     1002,   4.6433,  34.5531,2,     69.8,2,  34.5531,6,    67.28,3,    89.40,3,    40.45,2,     0.00,2,    2.890,3,    0.015,2,    0.004,2,   2311.4,2,   2361.1,2,   7.4615,2,    25.00,    0.011,2,  -999.00,9,  -999.00,9,   4.5618,2,  27.3705,2,   4.6433,2
49UP20180806_2,   P13,    76,  1,     19,     828,2,20180904,1807,1944,  7.0007, 164.5032, 5089,   1213.3,     1203,   3.8053,  34.5733,2,     79.3,2,  34.5731,2,    79.43,2,   106.72,3,    40.03,2,     0.00,2,    2.860,3,    0.001,2,    0.003,2,   2323.2,2,   2380.9,2,   7.4805,2,    25.00,    0.000,2,  -999.00,9,  -999.00,9,   3.7132,2,  27.4760,2,   3.8052,2
49UP20180806_2,   P13,    76,  1,     18,     660,2,20180904,1807,1939,  7.0007, 164.5032, 5089,   1415.3,     1403,   3.2270,  34.5916,2,     84.2,2,  34.5921,6,    84.09,6,   120.18,3,    40.14,6,     0.00,6,    2.850,3,    0.000,2,    0.000,2,   2340.6,2,   2393.6,2,   7.4843,2,    25.00,    0.008,2,  -999.00,9,  -999.00,9,   3.1237,2,  27.5477,2,   3.2271,2
49UP20180806_2,   P13,    76,  1,     17,     826,2,20180904,1807,1932,  7.0007, 164.5032, 5089,   1617.7,     1602,   2.7612,  34.6065,2,     92.5,2,  34.6066,6,    92.39,2,   130.96,3,    39.65,2,     0.00,2,    2.800,3,    0.000,2,    0.000,2,   2344.0,2,   2405.9,2,   7.4992,2,    25.00,    0.001,2,  -999.00,9,  -999.00,9,   2.6464,2,  27.6026,2,   2.7616,2
49UP20180806_2,   P13,    76,  1,     16,     825,2,20180904,1807,1927,  7.0007, 164.5032, 5089,   1819.5,     1802,   2.4252,  34.6246,2,    100.5,2,  34.6253,2,   100.66,2,   137.49,3,    39.31,2,     0.00,2,    2.770,3,    0.000,2,    0.000,2,   2344.9,2,   2414.3,2,   7.5112,2,    25.00,    0.000,2,  -999.00,9,  -999.00,9,   2.2978,2,  27.6468,2,   2.4253,2
49UP20180806_2,   P13,    76,  1,     15,     824,2,20180904,1807,1922,  7.0007, 164.5032, 5089,   2022.0,     2001,   2.1775,  34.6371,2,    106.6,2,  34.6366,2,   106.37,2,   142.74,3,    38.87,2,     0.00,2,    2.730,3,    0.000,2,    0.000,2,   2347.0,2,   2418.4,2,   7.5234,6,    25.00,    0.000,2,  -999.00,9,  -999.00,9,   2.0365,2,  27.6780,2,   2.1776,2
49UP20180806_2,   P13,    76,  1,     14,     823,2,20180904,1807,1916,  7.0007, 164.5032, 5089,   2225.8,     2202,   2.0148,  34.6479,2,    113.5,2,  34.6480,2,   113.61,2,   145.55,3,    38.51,2,     0.00,2,    2.690,3,    0.000,2,    0.000,2,   2346.7,2,   2421.9,2,   7.5319,2,    25.00,    0.000,2,  -999.00,9,  -999.00,9,   1.8588,2,  27.7007,2,   2.0148,2
49UP20180806_2,   P13,    76,  1,     13,     822,2,20180904,1807,1911,  7.0007, 164.5032, 5089,   2428.2,     2401,   1.8919,  34.6558,2,    119.0,2,  34.6559,2,   119.26,2,   147.53,3,    38.18,2,     0.00,2,    2.660,3,    0.000,2,    0.000,2,   2346.4,6,   2425.3,6,   7.5418,2,    25.00,    0.000,2,  -999.00,9,  -999.00,9,   1.7201,2,  27.7176,2,   1.8920,2
49UP20180806_2,   P13,    76,  1,     12,     821,2,20180904,1807,1906,  7.0007, 164.5032, 5089,   2632.6,     2602,   1.8072,  34.6608,2,    123.7,2,  34.6604,2,   123.74,2,   148.36,3,    37.85,2,     0.00,2,    2.640,3,    0.000,2,    0.000,2,   2345.3,2,   2425.7,2,   7.5479,2,    25.00,    0.000,2,  -999.00,9,  -999.00,9,   1.6184,2,  27.7292,2,   1.8071,2
49UP20180806_2,   P13,    76,  1,     11,     820,2,20180904,1807,1901,  7.0007, 164.5032, 5089,   2835.7,     2801,   1.7264,  34.6654,2,    129.6,2,  34.6660,2,   129.82,2,   148.06,3,    37.45,2,     0.00,2,    2.600,3,    0.000,2,    0.000,2,   2342.8,2,   2421.7,2,   7.5577,2,    25.00,    0.000,2,  -999.00,9,  -999.00,9,   1.5203,2,  27.7402,2,   1.7263,2
49UP20180806_2,   P13,    76,  1,     10,     819,2,20180904,1807,1856,  7.0007, 164.5032, 5089,   3041.3,     3003,   1.6547,  34.6700,2,    135.3,2,  34.6700,2,   135.18,2,   147.97,3,    37.13,2,     0.00,2,    2.570,3, -999.000,9, -999.000,9,   2338.9,2,   2426.4,2,   7.5649,2,    25.00, -999.000,9,  -999.00,9,  -999.00,9,   1.4305,2,  27.7504,2,   1.6546,2
49UP20180806_2,   P13,    76,  1,      9,     818,2,20180904,1807,1850,  7.0007, 164.5032, 5089,   3296.2,     3252,   1.5647,  34.6765,2,    143.0,2,  34.6755,2,   142.98,6,   147.34,3,    36.62,6,     0.00,6,    2.530,3, -999.000,9, -999.000,9,   2331.9,2,   2419.2,2,   7.5761,2,    25.00, -999.000,9,  -999.00,9,  -999.00,9,   1.3176,2,  27.7637,2,   1.5646,2
49UP20180806_2,   P13,    76,  1,      8,     817,2,20180904,1807,1845,  7.0007, 164.5032, 5089,   3550.2,     3501,   1.5013,  34.6818,2,    150.6,2,  34.6811,2,   150.88,2,   144.17,3,    36.02,2,     0.00,2,    2.480,3,    0.000,2,    0.000,2,   2326.3,2,   2418.2,2,   7.5870,2,    25.00,    0.000,2,  -999.00,9,  -999.00,9,   1.2300,2,  27.7740,2,   1.5013,2
49UP20180806_2,   P13,    76,  1,      7,     816,2,20180904,1807,1839,  7.0007, 164.5032, 5089,   3804.7,     3750,   1.4612,  34.6859,2,    156.9,2,  34.6842,4,   155.89,3,   141.44,3,    35.68,2,     0.00,2,    2.450,3,    0.001,2,   -0.000,2,   2321.2,2,   2418.8,2,   7.5937,2,    25.00,    0.000,2,  -999.00,9,  -999.00,9,   1.1644,2,  27.7819,2,   1.4611,2
49UP20180806_2,   P13,    76,  1,      6,     815,2,20180904,1807,1833,  7.0007, 164.5032, 5089,   4061.7,     4001,   1.4372,  34.6897,2,    163.5,2,  34.6890,2,   163.49,2,   138.30,3,    35.20,2,     0.00,2,    2.410,3,    0.003,2,    0.000,2,   2315.3,2,   2409.9,2,   7.6006,2,    25.00,    0.008,2,  -999.00,9,  -999.00,9,   1.1133,2,  27.7884,2,   1.4372,2
49UP20180806_2,   P13,    76,  1,      5,     814,2,20180904,1807,1827,  7.0007, 164.5032, 5089,   4318.0,     4251,   1.4224,  34.6926,2,    168.5,2,  34.6915,2,   168.00,2,   136.00,3,    34.79,2,     0.00,2,    2.380,3,    0.000,2,    0.000,2,   2305.0,2,   2411.8,2,   7.6075,2,    25.00,    0.001,2,  -999.00,9,  -999.00,9,   1.0705,2,  27.7936,2,   1.4224,2
49UP20180806_2,   P13,    76,  1,      4,     813,2,20180904,1807,1822,  7.0007, 164.5032, 5089,   4574.2,     4500,   1.4086,  34.6956,2,    173.9,2,  34.6950,2,   174.61,2,   133.65,3,    34.37,2,     0.00,2,    2.360,3,    0.000,2,    0.000,2,   2306.1,2,   2403.5,2,   7.6117,2,    25.00,    0.002,2,  -999.00,9,  -999.00,9,   1.0278,2,  27.7989,2,   1.4085,2
49UP20180806_2,   P13,    76,  1,      3,     812,2,20180904,1807,1816,  7.0007, 164.5032, 5089,   4830.3,     4750,   1.3995,  34.6980,2,    178.7,2,  34.6975,6,   179.00,2,   132.18,3,    34.04,2,     0.00,2,    2.340,3,    0.012,2,    0.002,2,   2298.3,2,   2397.6,2,   7.6141,2,    25.00,    0.000,3,  -999.00,9,  -999.00,9,   0.9890,2,  27.8034,2,   1.3995,2
49UP20180806_2,   P13,    76,  1,      2,     811,2,20180904,1807,1811,  7.0007, 164.5032, 5089,   5087.1,     4999,   1.4010,  34.6998,2,    182.3,2,  34.6998,2,   182.52,2,   129.73,3,    33.75,2,     0.00,2,    2.330,3,    0.021,2,    0.007,2,   2291.4,2,   2395.8,2,   7.6158,6,    25.00,    0.000,2,  -999.00,9,  -999.00,9,   0.9594,2,  27.8068,2,   1.4009,2
49UP20180806_2,   P13,    76,  1,      1,     810,2,20180904,1807,1808,  7.0007, 164.5032, 5089,   5180.0,     5090,   1.4053,  34.7003,2,    183.2,2,  34.6998,2,   182.38,2,   128.68,3,    33.78,2,     0.00,2,    2.320,3,    0.014,2,    0.001,2,   2288.0,2,   2393.2,6,   7.6169,2,    25.00,    0.000,2,  -999.00,9,  -999.00,9,   0.9522,2,  27.8077,2,   1.4052,2