BOTTLE,20191018JMAGEMD
EXPOCODE,SECT_ID,STNNBR,CASTNO,SAMPNO,BTLNBR,BTLNBR_FLAG_U,DATE,TIME,BTL_TIME,LATITUDE,LONGITUDE,DEPTH,CTDPRS,CTDDEP,CTDTMP,CTDSAL,CTDSAL_FLAG_W,CTDOXY,CTDOXY_FLAG_W,SALNTY,SALNTY_FLAG_W,OXYGEN,OXYGEN_FLAG_W,SILCAT,SILCAT_FLAG_W,NO2+NO3,NO2+NO3_FLAG_W,NITRIT,NITRIT_FLAG_W,PHSPHT,PHSPHT_FLAG_W,CFC-11,CFC-11_FLAG_W,CFC-12,CFC-12_FLAG_W,TCARBN,TCARBN_FLAG_W,ALKALI,ALKALI_FLAG_W,PH_TS,PH_TS_FLAG_W,PH_TS_TMP,CFC113,CFC113_FLAG_W,CHLORA,CHLORA_FLAG_W,PPHYTN,PPHYTN_FLAG_W,THETA,THETA_FLAG_W,SIGTHT,SIGTHT_FLAG_W,SBE35,SBE35_FLAG_W
,,,,,,,,UTC,,,,METER,DBAR,METERS,ITS-90,PSS-78,,UMOL/KG,,PSS78,,UMOL/KG,,UMOL/KG,,UMOL/KG,,UMOL/KG,,UMOL/KG,,PMOL/KG,,PMOL/KG,,UMOL/KG,,UMOL/KG,,,,ITS-90,PMOL/KG,,UG/KG,,UG/KG,,ITS-90,,KG/M3,,ITS-90,
49UP20180806_2,   P13,    81,  1,      0,      -9,0,20180906,0817,1005,  4.5167, 165.0195, 4642,      0.0,        0,  29.3897,  33.5086,2,    197.7,2,-999.0000,9,   196.75,2,     1.38,3,     0.00,2,     0.00,2,    0.040,3, -999.000,9, -999.000,9,   -999.0,9,   -999.0,9,-999.0000,9,  -999.00, -999.000,9,  -999.00,9,  -999.00,9,  29.3891,2,  20.8148,2,-999.0000,9
49UP20180806_2,   P13,    81,  1,     36,     845,2,20180906,0817,1031,  4.5167, 165.0195, 4642,     10.9,       11,  29.4745,  33.7172,2,    199.0,2,  33.6511,4,   198.08,2,     1.39,3,     0.00,2,     0.00,2,    0.030,3, -999.000,9, -999.000,9,   -999.0,9,   -999.0,9,-999.0000,9,  -999.00, -999.000,9,  -999.00,9,  -999.00,9,  29.4718,2,  20.9435,2,  29.4695,2
49UP20180806_2,   P13,    81,  1,     35,     844,2,20180906,0817,1027,  4.5167, 165.0195, 4642,     53.5,       53,  28.9416,  34.6813,2,    187.6,2,  34.6468,4,   188.15,2,     1.38,3,     0.00,2,     0.00,2,    0.150,3, -999.000,9, -999.000,9,   -999.0,9,   -999.0,9,-999.0000,9,  -999.00, -999.000,9,  -999.00,9,  -999.00,9,  28.9286,2,  21.8486,2,  28.9385,2
49UP20180806_2,   P13,    81,  1,     34,     843,2,20180906,0817,1025,  4.5167, 165.0195, 4642,     75.0,       75,  28.1507,  34.9377,2,    170.0,2,  34.9382,2,   170.24,2,     1.71,3,     1.51,2,     0.12,2,    0.300,3, -999.000,9, -999.000,9,   -999.0,9,   -999.0,9,-999.0000,9,  -999.00, -999.000,9,  -999.00,9,  -999.00,9,  28.1330,2,  22.3043,2,  28.1502,2
49UP20180806_2,   P13,    81,  1,     33,     842,2,20180906,0817,1024,  4.5167, 165.0195, 4642,    100.0,       99,  26.9009,  35.0865,2,    150.6,2,  35.0784,2,   150.37,2,     2.76,3,     5.68,2,     0.13,2,    0.520,3, -999.000,9, -999.000,9,   -999.0,9,   -999.0,9,-999.0000,9,  -999.00, -999.000,9,  -999.00,9,  -999.00,9,  26.8780,2,  22.8218,2,  26.8974,2
49UP20180806_2,   P13,    81,  1,     32,     841,2,20180906,0817,1022,  4.5167, 165.0195, 4642,    126.6,      126,  25.0866,  35.0850,2,    139.7,2,  35.0852,2,   139.95,2,     3.68,3,     7.43,2,     0.04,2,    0.620,3, -999.000,9, -999.000,9,   -999.0,9,   -999.0,9,-999.0000,9,  -999.00, -999.000,9,  -999.00,9,  -999.00,9,  25.0591,2,  23.3875,2,  25.0860,2
49UP20180806_2,   P13,    81,  1,     31,     840,2,20180906,0817,1020,  4.5167, 165.0195, 4642,    154.1,      153,  23.2532,  35.1026,2,    135.3,2,  35.0997,2,   136.07,6,     4.96,3,     8.64,6,     0.02,6,    0.680,3, -999.000,9, -999.000,9,   -999.0,9,   -999.0,9,-999.0000,9,  -999.00, -999.000,9,  -999.00,9,  -999.00,9,  23.2214,2,  23.9474,2,  23.2485,2
49UP20180806_2,   P13,    81,  1,     30,     839,2,20180906,0817,1018,  4.5167, 165.0195, 4642,    206.0,      205,  13.8409,  34.5630,2,    119.4,2,  34.5671,2,   119.73,2,    19.74,3,    18.86,2,     0.01,2,    1.370,3, -999.000,9, -999.000,9,   -999.0,9,   -999.0,9,-999.0000,9,  -999.00, -999.000,9,  -999.00,9,  -999.00,9,  13.8115,2,  25.8887,2,  13.8369,2
49UP20180806_2,   P13,    81,  1,     29,     838,2,20180906,0817,1016,  4.5167, 165.0195, 4642,    253.9,      252,  10.4029,  34.5920,2,     59.1,2,  34.5870,2,    59.79,2,    31.83,3,    30.42,2,     0.00,2,    2.180,3, -999.000,9, -999.000,9,   -999.0,9,   -999.0,9,-999.0000,9,  -999.00, -999.000,9,  -999.00,9,  -999.00,9,  10.3727,2,  26.5691,2,  10.4013,2
49UP20180806_2,   P13,    81,  1,     28,     837,2,20180906,0817,1014,  4.5167, 165.0195, 4642,    285.7,      284,   9.7542,  34.6261,2,     52.2,2,  34.6164,2,    57.29,2,    33.97,3,    32.04,2,     0.00,2,    2.270,3, -999.000,9, -999.000,9,   -999.0,9,   -999.0,9,-999.0000,9,  -999.00, -999.000,9,  -999.00,9,  -999.00,9,   9.7216,2,  26.7070,2,   9.7541,2
49UP20180806_2,   P13,    81,  1,     27,     661,2,20180906,0817,1012,  4.5167, 165.0195, 4642,    325.4,      323,   9.2402,  34.6181,2,     70.1,2,  34.6165,2,    70.25,2,    34.73,3,    32.07,2,     0.00,2,    2.260,3, -999.000,9, -999.000,9,   -999.0,9,   -999.0,9,-999.0000,9,  -999.00, -999.000,9,  -999.00,9,  -999.00,9,   9.2042,2,  26.7862,2,   9.2405,2
49UP20180806_2,   P13,    81,  1,     26,     835,3,20180906,0817,1010,  4.5167, 165.0195, 4642,    374.5,      372,   8.8763,  34.6224,2,     65.1,2,  34.6219,2,    65.47,2,    35.62,3,    33.24,2,     0.00,2,    2.330,3, -999.000,9, -999.000,9,   -999.0,9,   -999.0,9,-999.0000,9,  -999.00, -999.000,9,  -999.00,9,  -999.00,9,   8.8357,2,  26.8486,2,   8.8747,2
49UP20180806_2,   P13,    81,  1,     25,     834,2,20180906,0817,1008,  4.5167, 165.0195, 4642,    426.7,      424,   8.5463,  34.6053,2,     79.7,2,  34.6054,2,    76.43,2,    36.35,3,    33.00,2,     0.00,2,    2.300,3, -999.000,9, -999.000,9,   -999.0,9,   -999.0,9,-999.0000,9,  -999.00, -999.000,9,  -999.00,9,  -999.00,9,   8.5010,2,  26.8876,2,   8.5466,2
49UP20180806_2,   P13,    81,  1,     23,     832,2,20180906,0817,1005,  4.5167, 165.0195, 4642,    473.4,      470,   8.3272,  34.5943,2,     99.8,2,  34.5936,2,    99.42,2,    35.18,3,    31.33,2,     0.00,2,    2.170,3, -999.000,9, -999.000,9,   -999.0,9,   -999.0,9,-999.0000,9,  -999.00, -999.000,9,  -999.00,9,  -999.00,9,   8.2776,2,  26.9133,2,   8.3274,2
49UP20180806_2,   P13,    81,  1,     22,     831,2,20180906,0817,1002,  4.5167, 165.0195, 4642,    571.8,      568,   7.6000,  34.5750,2,     74.0,2,  34.5741,2,    74.45,2,    43.55,3,    35.27,2,     0.00,2,    2.470,3, -999.000,9, -999.000,9,   -999.0,9,   -999.0,9,-999.0000,9,  -999.00, -999.000,9,  -999.00,9,  -999.00,9,   7.5428,2,  27.0072,2,   7.5998,2
49UP20180806_2,   P13,    81,  1,     21,     830,2,20180906,0817,0959,  4.5167, 165.0195, 4642,    673.1,      668,   6.7735,  34.5540,2,     65.1,2,  34.5536,2,    65.20,6,    53.32,3,    37.68,6,     0.00,6,    2.670,3, -999.000,9, -999.000,9,   -999.0,9,   -999.0,9,-999.0000,9,  -999.00, -999.000,9,  -999.00,9,  -999.00,9,   6.7099,2,  27.1071,2,   6.7736,2
49UP20180806_2,   P13,    81,  1,     20,     829,2,20180906,0817,0956,  4.5167, 165.0195, 4642,    779.6,      774,   5.8737,  34.5380,2,     77.2,2,  34.5373,2,    76.90,2,    65.45,3,    37.90,2,     0.00,2,    2.710,3, -999.000,9, -999.000,9,   -999.0,9,   -999.0,9,-999.0000,9,  -999.00, -999.000,9,  -999.00,9,  -999.00,9,   5.8048,2,  27.2122,2,   5.8743,2
49UP20180806_2,   P13,    81,  1,     19,     828,2,20180906,0817,0953,  4.5167, 165.0195, 4642,    872.0,      865,   5.3333,  34.5397,2,     82.9,2,  34.5402,2,    82.71,2,    72.29,3,    38.37,2,     0.00,2,    2.720,3, -999.000,9, -999.000,9,   -999.0,9,   -999.0,9,-999.0000,9,  -999.00, -999.000,9,  -999.00,9,  -999.00,9,   5.2592,2,  27.2800,2,   5.3332,2
49UP20180806_2,   P13,    81,  1,     18,     660,2,20180906,0817,0951,  4.5167, 165.0195, 4642,    975.3,      968,   4.7610,  34.5503,2,     72.3,2,  34.5497,2,    72.33,2,    86.50,3,    39.81,2,     0.00,2,    2.840,3, -999.000,9, -999.000,9,   -999.0,9,   -999.0,9,-999.0000,9,  -999.00, -999.000,9,  -999.00,9,  -999.00,9,   4.6816,2,  27.3549,2,   4.7602,2
49UP20180806_2,   P13,    81,  1,     17,     826,2,20180906,0817,0946,  4.5167, 165.0195, 4642,   1138.0,     1129,   4.0449,  34.5667,2,     81.7,2,  34.5664,2,    81.94,2,   100.20,3,    39.65,2,     0.00,2,    2.820,3, -999.000,9, -999.000,9,   -999.0,9,   -999.0,9,-999.0000,9,  -999.00, -999.000,9,  -999.00,9,  -999.00,9,   3.9571,2,  27.4460,2,   4.0453,2
49UP20180806_2,   P13,    81,  1,     16,     825,2,20180906,0817,0941,  4.5167, 165.0195, 4642,   1352.1,     1340,   3.3993,  34.5867,2,     86.6,2,  34.5861,2,    86.95,2,   114.52,3,    39.81,2,     0.00,2,    2.830,3, -999.000,9, -999.000,9,   -999.0,9,   -999.0,9,-999.0000,9,  -999.00, -999.000,9,  -999.00,9,  -999.00,9,   3.2994,2,  27.5272,2,   3.3996,2
49UP20180806_2,   P13,    81,  1,     15,     824,2,20180906,0817,0935,  4.5167, 165.0195, 4642,   1540.0,     1526,   3.0236,  34.6001,2,     93.4,2,  34.6010,2,    94.09,2,   122.18,3,    39.64,2,     0.00,2,    2.800,3, -999.000,9, -999.000,9,   -999.0,9,   -999.0,9,-999.0000,9,  -999.00, -999.000,9,  -999.00,9,  -999.00,9,   2.9121,2,  27.5739,2,   3.0235,2
49UP20180806_2,   P13,    81,  1,     14,     823,2,20180906,0817,0929,  4.5167, 165.0195, 4642,   1744.0,     1727,   2.6623,  34.6151,2,     99.0,2,  34.6154,2,    98.98,2,   130.72,3,    39.40,2,     0.00,2,    2.780,3, -999.000,9, -999.000,9,   -999.0,9,   -999.0,9,-999.0000,9,  -999.00, -999.000,9,  -999.00,9,  -999.00,9,   2.5380,2,  27.6189,2,   2.6623,2
49UP20180806_2,   P13,    81,  1,     13,     822,2,20180906,0817,0924,  4.5167, 165.0195, 4642,   1946.7,     1927,   2.3326,  34.6311,2,    106.6,2,  34.6314,2,   106.71,2,   137.49,3,    38.98,2,     0.00,2,    2.740,3, -999.000,9, -999.000,9,   -999.0,9,   -999.0,9,-999.0000,9,  -999.00, -999.000,9,  -999.00,9,  -999.00,9,   2.1957,2,  27.6603,2,   2.3326,2
49UP20180806_2,   P13,    81,  1,     12,     821,2,20180906,0817,0919,  4.5167, 165.0195, 4642,   2156.4,     2133,   2.1272,  34.6433,2,    111.5,2,  34.6436,2,   111.75,6,  -999.00,9,  -999.00,9,  -999.00,9, -999.000,9, -999.000,9, -999.000,9,   -999.0,9,   -999.0,9,-999.0000,9,  -999.00, -999.000,9,  -999.00,9,  -999.00,9,   1.9754,2,  27.6879,2,   2.1271,2
49UP20180806_2,   P13,    81,  1,     11,     820,2,20180906,0817,0911,  4.5167, 165.0195, 4642,   2364.8,     2339,   1.9665,  34.6527,2,    117.2,2,  34.6533,2,   117.21,2,  -999.00,9,  -999.00,9,  -999.00,9, -999.000,9, -999.000,9, -999.000,9,   -999.0,9,   -999.0,9,-999.0000,9,  -999.00, -999.000,9,  -999.00,9,  -999.00,9,   1.7990,2,  27.7091,2,   1.9663,2
49UP20180806_2,   P13,    81,  1,     10,     819,2,20180906,0817,0906,  4.5167, 165.0195, 4642,   2554.0,     2525,   1.8685,  34.6582,2,    121.6,2,  34.6585,2,   121.40,2,  -999.00,9,  -999.00,9,  -999.00,9, -999.000,9, -999.000,9, -999.000,9,   -999.0,9,   -999.0,9,-999.0000,9,  -999.00, -999.000,9,  -999.00,9,  -999.00,9,   1.6858,2,  27.7221,2,   1.8684,2
49UP20180806_2,   P13,    81,  1,      9,     818,2,20180906,0817,0902,  4.5167, 165.0195, 4642,   2761.6,     2728,   1.7912,  34.6629,2,    125.4,2,  34.6634,2,   125.40,2,  -999.00,9,  -999.00,9,  -999.00,9, -999.000,9, -999.000,9, -999.000,9,   -999.0,9,   -999.0,9,-999.0000,9,  -999.00, -999.000,9,  -999.00,9,  -999.00,9,   1.5908,2,  27.7330,2,   1.7913,2
49UP20180806_2,   P13,    81,  1,      8,     817,2,20180906,0817,0857,  4.5167, 165.0195, 4642,   2959.1,     2922,   1.7121,  34.6673,2,    131.3,2,  34.6676,6,   131.46,2,  -999.00,9,  -999.00,9,  -999.00,9, -999.000,9, -999.000,9, -999.000,9,   -999.0,9,   -999.0,9,-999.0000,9,  -999.00, -999.000,9,  -999.00,9,  -999.00,9,   1.4946,2,  27.7436,2,   1.7121,2
49UP20180806_2,   P13,    81,  1,      7,     816,2,20180906,0817,0852,  4.5167, 165.0195, 4642,   3208.7,     3167,   1.6196,  34.6732,2,    139.0,2,  34.6728,2,   138.33,2,  -999.00,9,  -999.00,9,  -999.00,9, -999.000,9, -999.000,9, -999.000,9,   -999.0,9,   -999.0,9,-999.0000,9,  -999.00, -999.000,9,  -999.00,9,  -999.00,9,   1.3799,2,  27.7566,2,   1.6195,2
49UP20180806_2,   P13,    81,  1,      6,     815,2,20180906,0817,0845,  4.5167, 165.0195, 4642,   3470.8,     3424,   1.5573,  34.6781,2,    145.7,2,  34.6779,6,   145.77,2,  -999.00,9,  -999.00,9,  -999.00,9, -999.000,9, -999.000,9, -999.000,9,   -999.0,9,   -999.0,9,-999.0000,9,  -999.00, -999.000,9,  -999.00,9,  -999.00,9,   1.2927,2,  27.7666,2,   1.5571,2
49UP20180806_2,   P13,    81,  1,      5,     814,2,20180906,0817,0839,  4.5167, 165.0195, 4642,   3721.5,     3669,   1.5053,  34.6828,2,    152.5,2,  34.6830,6,   152.15,2,  -999.00,9,  -999.00,9,  -999.00,9, -999.000,9, -999.000,9, -999.000,9,   -999.0,9,   -999.0,9,-999.0000,9,  -999.00, -999.000,9,  -999.00,9,  -999.00,9,   1.2161,2,  27.7758,2,   1.5052,2
49UP20180806_2,   P13,    81,  1,      4,     813,2,20180906,0817,0834,  4.5167, 165.0195, 4642,   3978.7,     3920,   1.4836,  34.6862,2,    157.7,2,  34.6865,6,   157.83,2,  -999.00,9,  -999.00,9,  -999.00,9, -999.000,9, -999.000,9, -999.000,9,   -999.0,9,   -999.0,9,-999.0000,9,  -999.00, -999.000,9,  -999.00,9,  -999.00,9,   1.1674,2,  27.7819,2,   1.4835,2
49UP20180806_2,   P13,    81,  1,      3,     812,2,20180906,0817,0828,  4.5167, 165.0195, 4642,   4232.1,     4167,   1.4830,  34.6884,2,    160.9,2,  34.6884,2,   161.09,6,  -999.00,9,  -999.00,9,  -999.00,9, -999.000,9, -999.000,9, -999.000,9,   -999.0,9,   -999.0,9,-999.0000,9,  -999.00, -999.000,9,  -999.00,9,  -999.00,9,   1.1389,2,  27.7856,2,   1.4830,2
49UP20180806_2,   P13,    81,  1,      2,     811,2,20180906,0817,0823,  4.5167, 165.0195, 4642,   4487.2,     4416,   1.4421,  34.6930,2,    169.3,2,  34.6927,2,   169.69,2,  -999.00,9,  -999.00,9,  -999.00,9, -999.000,9, -999.000,9, -999.000,9,   -999.0,9,   -999.0,9,-999.0000,9,  -999.00, -999.000,9,  -999.00,9,  -999.00,9,   1.0704,2,  27.7940,2,   1.4421,2
49UP20180806_2,   P13,    81,  1,      1,     810,2,20180906,0817,0818,  4.5167, 165.0195, 4642,   4708.7,     4632,   1.4130,  34.6967,2,    175.8,2,  34.6972,6,   175.98,2,  -999.00,9,  -999.00,9,  -999.00,9, -999.000,9, -999.000,9, -999.000,9,   -999.0,9,   -999.0,9,-999.0000,9,  -999.00, -999.000,9,  -999.00,9,  -999.00,9,   1.0164,2,  27.8006,2,   1.4129,2