BOTTLE,20191018JMAGEMD
EXPOCODE,SECT_ID,STNNBR,CASTNO,SAMPNO,BTLNBR,BTLNBR_FLAG_U,DATE,TIME,BTL_TIME,LATITUDE,LONGITUDE,DEPTH,CTDPRS,CTDDEP,CTDTMP,CTDSAL,CTDSAL_FLAG_W,CTDOXY,CTDOXY_FLAG_W,SALNTY,SALNTY_FLAG_W,OXYGEN,OXYGEN_FLAG_W,SILCAT,SILCAT_FLAG_W,NO2+NO3,NO2+NO3_FLAG_W,NITRIT,NITRIT_FLAG_W,PHSPHT,PHSPHT_FLAG_W,CFC-11,CFC-11_FLAG_W,CFC-12,CFC-12_FLAG_W,TCARBN,TCARBN_FLAG_W,ALKALI,ALKALI_FLAG_W,PH_TS,PH_TS_FLAG_W,PH_TS_TMP,CFC113,CFC113_FLAG_W,CHLORA,CHLORA_FLAG_W,PPHYTN,PPHYTN_FLAG_W,THETA,THETA_FLAG_W,SIGTHT,SIGTHT_FLAG_W,SBE35,SBE35_FLAG_W
,,,,,,,,UTC,,,,METER,DBAR,METERS,ITS-90,PSS-78,,UMOL/KG,,PSS78,,UMOL/KG,,UMOL/KG,,UMOL/KG,,UMOL/KG,,UMOL/KG,,PMOL/KG,,PMOL/KG,,UMOL/KG,,UMOL/KG,,,,ITS-90,PMOL/KG,,UG/KG,,UG/KG,,ITS-90,,KG/M3,,ITS-90,
49UP20180806_1,   P13,    45,  1,      0,      -9,0,20180814,1929,2132, 28.9923, 164.9902, 5812,      0.0,        0,  27.7152,  35.0901,2,    201.3,2,  35.0728,2,   201.77,2,     1.24,3,     0.06,2,     0.00,2,    0.040,3, -999.000,9, -999.000,9,   1991.8,2,   2307.0,2,   8.0808,2,    25.00, -999.000,9,     0.05,2,     0.01,2,  27.7146,2,  22.5554,2,-999.0000,9
49UP20180806_1,   P13,    45,  1,     36,     845,2,20180814,1929,2203, 28.9923, 164.9902, 5812,     12.4,       12,  27.7118,  35.0891,2,    201.0,2,  35.0898,2,   201.76,2,     1.20,3,     0.04,2,     0.00,2,    0.000,3, -999.000,9, -999.000,9,   1990.9,2,   2304.6,2,   8.0781,2,    25.00, -999.000,9,     0.04,2,     0.01,2,  27.7089,2,  22.5565,2,  27.7118,2
49UP20180806_1,   P13,    45,  1,     35,     844,2,20180814,1929,2159, 28.9923, 164.9902, 5812,     49.8,       49,  22.6566,  35.1714,2,    232.9,2,  35.1728,2,  -999.00,5,     1.41,3,     0.00,2,     0.00,2,    0.010,3, -999.000,9, -999.000,9,   2006.8,2,   2309.6,2,   8.0628,2,    25.00, -999.000,9,     0.07,2,     0.02,2,  22.6465,2,  24.1651,2,  22.6907,2
49UP20180806_1,   P13,    45,  1,     34,     843,2,20180814,1929,2157, 28.9923, 164.9902, 5812,    101.2,      100,  18.3032,  34.8490,2,    217.9,2,  34.8475,2,   217.54,2,     2.62,3,     1.06,2,     0.07,2,    0.110,3, -999.000,9, -999.000,9,   2032.0,2,   2290.9,2,   7.9797,2,    25.00, -999.000,9,     0.27,2,     0.46,2,  18.2857,2,  25.0856,2,  18.3121,2
49UP20180806_1,   P13,    45,  1,     33,     842,2,20180814,1929,2155, 28.9923, 164.9902, 5812,    151.9,      151,  17.3046,  34.7879,2,    215.3,2,  34.7871,2,   214.69,2,     3.50,3,     3.72,2,     0.02,2,    0.240,3, -999.000,9, -999.000,9,   2035.7,2,   2285.0,2,   7.9620,2,    25.00, -999.000,9,     0.04,2,     0.17,2,  17.2793,2,  25.2848,2,  17.3042,2
49UP20180806_1,   P13,    45,  1,     32,     841,2,20180814,1929,2153, 28.9923, 164.9902, 5812,    203.3,      202,  16.8293,  34.7614,2,    211.5,2,  34.7598,2,   211.13,2,     4.34,3,     4.95,2,     0.01,2,    0.320,3, -999.000,9, -999.000,9,   2046.1,6,   2282.9,6,   7.9422,2,    25.00, -999.000,9,     0.00,2,     0.01,2,  16.7960,2,  25.3794,2,  16.8299,2
49UP20180806_1,   P13,    45,  1,     31,     840,2,20180814,1929,2151, 28.9923, 164.9902, 5812,    252.9,      251,  16.2178,  34.6978,2,    214.1,2,  34.6989,2,   213.76,2,     5.42,3,     5.50,2,     0.01,2,    0.360,3, -999.000,9, -999.000,9,   2056.4,2,   2280.3,2,   7.9330,6,    25.00, -999.000,9,  -999.00,9,  -999.00,9,  16.1774,2,  25.4744,2,  16.2299,2
49UP20180806_1,   P13,    45,  1,     30,     839,2,20180814,1929,2149, 28.9923, 164.9902, 5812,    303.5,      301,  15.1649,  34.5898,2,    209.8,2,  34.5901,2,   209.89,2,     7.85,3,     7.43,2,     0.00,2,    0.490,3, -999.000,9, -999.000,9,   2061.4,2,   2279.5,2,   7.8990,2,    25.00, -999.000,9,  -999.00,9,  -999.00,9,  15.1186,2,  25.6296,2,  15.1645,2
49UP20180806_1,   P13,    45,  1,     29,     838,2,20180814,1929,2146, 28.9923, 164.9902, 5812,    404.0,      401,  12.5452,  34.3665,2,    207.8,2,  34.3692,2,   207.33,6,    13.71,3,    11.67,6,     0.00,6,    0.790,3, -999.000,9, -999.000,9,   2089.0,2,   2272.1,2,   7.8248,2,    25.00, -999.000,9,  -999.00,9,  -999.00,9,  12.4908,2,  26.0026,2,  12.5491,2
49UP20180806_1,   P13,    45,  1,     28,     837,2,20180814,1929,2143, 28.9923, 164.9902, 5812,    505.7,      502,   9.9718,  34.1601,2,    200.5,2,  34.1633,2,   201.36,2,    23.33,3,    16.81,2,     0.00,2,    1.170,3, -999.000,9, -999.000,9,   2125.9,2,   2269.2,2,   7.7452,2,    25.00, -999.000,9,  -999.00,9,  -999.00,9,   9.9129,2,  26.3108,2,   9.9756,2
49UP20180806_1,   P13,    45,  1,     27,     661,2,20180814,1929,2139, 28.9923, 164.9902, 5812,    606.0,      601,   7.4550,  34.0286,2,    159.4,2,  34.0294,2,   159.31,2,    44.38,3,    25.39,2,     0.00,2,    1.800,3, -999.000,9, -999.000,9,   2191.8,2,   2280.6,2,   7.6111,2,    25.00, -999.000,9,  -999.00,9,  -999.00,9,   7.3954,2,  26.5985,2,   7.4530,2
49UP20180806_1,   P13,    45,  1,     26,     835,2,20180814,1929,2136, 28.9923, 164.9902, 5812,    707.7,      702,   5.7936,  34.0308,2,    114.0,2,  34.0310,6,   113.59,2,    67.22,3,    32.46,2,     0.00,2,    2.330,3, -999.000,9, -999.000,9,   2250.5,2,   2296.5,2,   7.4921,2,    25.00, -999.000,9,  -999.00,9,  -999.00,9,   5.7324,2,  26.8200,2,   5.7940,2
49UP20180806_1,   P13,    45,  1,     25,     834,2,20180814,1929,2133, 28.9923, 164.9902, 5812,    808.7,      802,   4.9294,  34.1210,2,     71.2,2,  34.1214,2,    71.35,2,    86.81,3,    37.55,2,     0.00,2,    2.700,3, -999.000,9, -999.000,9,   2288.5,2,   2318.0,2,   7.4090,2,    25.00, -999.000,9,  -999.00,9,  -999.00,9,   4.8641,2,  26.9938,2,   4.9295,2
49UP20180806_1,   P13,    45,  1,     24,     833,4,20180814,1929,2130, 28.9923, 164.9902, 5812,    910.7,      903,   4.4383,  34.2143,2,     48.0,2,-999.0000,9,  -999.00,9,  -999.00,9,  -999.00,9,  -999.00,9, -999.000,9, -999.000,9, -999.000,9,   -999.0,9,   -999.0,9,-999.0000,9,  -999.00, -999.000,9,  -999.00,9,  -999.00,9,   4.3674,2,  27.1226,2,   4.4345,2
49UP20180806_1,   P13,    45,  1,     23,     832,2,20180814,1929,2126, 28.9923, 164.9902, 5812,   1013.8,     1005,   3.7737,  34.2721,2,     36.5,2,  34.2721,2,    36.22,2,   118.42,3,    41.93,2,     0.00,2,    3.000,3, -999.000,9, -999.000,9,   2349.8,2,   2353.9,2,   7.3511,2,    25.00, -999.000,9,  -999.00,9,  -999.00,9,   3.6990,2,  27.2375,2,   3.7740,2
49UP20180806_1,   P13,    45,  1,     22,     831,2,20180814,1929,2120, 28.9923, 164.9902, 5812,   1217.5,     1206,   3.0887,  34.4065,2,     30.4,2,  34.4068,2,    29.85,2,   139.20,3,    43.20,2,     0.00,2,    3.080,3, -999.000,9, -999.000,9,   2376.7,2,   2378.2,2,   7.3513,2,    25.00, -999.000,9,  -999.00,9,  -999.00,9,   3.0033,2,  27.4110,2,   3.0887,2
49UP20180806_1,   P13,    45,  1,     21,     830,2,20180814,1929,2113, 28.9923, 164.9902, 5812,   1416.5,     1402,   2.6732,  34.4806,2,     36.1,2,  34.4806,2,    35.31,2,   151.20,3,    43.11,2,     0.00,2,    3.070,3, -999.000,9, -999.000,9,   2387.2,2,   2394.8,2,   7.3654,2,    25.00, -999.000,9,  -999.00,9,  -999.00,9,   2.5760,2,  27.5080,2,   2.6730,2
49UP20180806_1,   P13,    45,  1,     20,     829,2,20180814,1929,2108, 28.9923, 164.9902, 5812,   1618.7,     1602,   2.3209,  34.5352,2,     49.0,2,  34.5352,2,    48.46,6,   159.26,3,    42.48,6,     0.00,6,    3.010,3, -999.000,9, -999.000,9,   2386.5,2,   2403.4,2,   7.3858,2,    25.00, -999.000,9,  -999.00,9,  -999.00,9,   2.2116,2,  27.5823,2,   2.3211,2
49UP20180806_1,   P13,    45,  1,     19,     828,2,20180814,1929,2102, 28.9923, 164.9902, 5812,   1821.4,     1801,   2.0989,  34.5728,2,     64.1,2,  34.5730,2,    63.78,2,   162.08,3,    41.67,2,     0.00,2,    2.930,3, -999.000,9, -999.000,9,   2378.3,6,   2412.8,6,   7.4206,2,    25.00, -999.000,9,  -999.00,9,  -999.00,9,   1.9760,2,  27.6313,2,   2.0989,2
49UP20180806_1,   P13,    45,  1,     18,     660,2,20180814,1929,2057, 28.9923, 164.9902, 5812,   2027.6,     2004,   1.9153,  34.6026,2,     80.5,2,  34.6033,2,    80.70,2,   162.82,3,    40.48,2,     0.00,2,    2.850,3, -999.000,9, -999.000,9,   2375.7,2,   2414.9,2,   7.4537,6,    25.00, -999.000,9,  -999.00,9,  -999.00,9,   1.7780,2,  27.6705,2,   1.9154,2
49UP20180806_1,   P13,    45,  1,     17,     826,2,20180814,1929,2051, 28.9923, 164.9902, 5812,   2227.8,     2201,   1.7905,  34.6244,2,     97.0,2,  34.6239,2,    96.85,2,   160.14,3,    39.48,2,     0.00,2,    2.760,3, -999.000,9, -999.000,9,   2359.0,2,   2415.1,2,   7.4856,2,    25.00, -999.000,9,  -999.00,9,  -999.00,9,   1.6381,2,  27.6986,2,   1.7905,2
49UP20180806_1,   P13,    45,  1,     16,     825,2,20180814,1929,2046, 28.9923, 164.9902, 5812,   2430.6,     2400,   1.7049,  34.6391,2,    109.4,2,  34.6398,2,   109.56,2,   158.08,3,    38.76,2,     0.00,2,    2.700,3, -999.000,9, -999.000,9,   -999.0,5,   -999.0,5,   7.5102,2,    25.00, -999.000,9,  -999.00,9,  -999.00,9,   1.5364,2,  27.7179,2,   1.7049,2
49UP20180806_1,   P13,    45,  1,     15,     824,2,20180814,1929,2041, 28.9923, 164.9902, 5812,   2635.0,     2601,   1.6328,  34.6513,2,    120.3,2,  34.6513,2,   119.92,2,   155.86,3,    38.04,2,     0.00,2,    2.650,3, -999.000,9, -999.000,9,   2347.2,2,   2417.8,2,   7.5289,2,    25.00, -999.000,9,  -999.00,9,  -999.00,9,   1.4473,2,  27.7342,2,   1.6329,2
49UP20180806_1,   P13,    45,  1,     14,     823,2,20180814,1929,2036, 28.9923, 164.9902, 5812,   2837.9,     2800,   1.5843,  34.6590,2,    127.3,2,  34.6594,6,   127.13,2,   154.35,3,    37.57,2,     0.00,2,    2.610,3, -999.000,9, -999.000,9,   2343.4,2,   2420.3,2,   7.5408,2,    25.00, -999.000,9,  -999.00,9,  -999.00,9,   1.3811,2,  27.7451,2,   1.5843,2
49UP20180806_1,   P13,    45,  1,     13,     822,2,20180814,1929,2031, 28.9923, 164.9902, 5812,   3043.3,     3001,   1.5448,  34.6654,2,    133.1,2,  34.6659,2,   133.08,2,   154.04,3,    37.17,2,     0.00,2,    2.580,3, -999.000,9, -999.000,9,   2340.4,2,   2418.5,2,   7.5539,2,    25.00, -999.000,9,  -999.00,9,  -999.00,9,   1.3229,2,  27.7543,2,   1.5449,2
49UP20180806_1,   P13,    45,  1,     12,     821,2,20180814,1929,2025, 28.9923, 164.9902, 5812,   3299.2,     3252,   1.5208,  34.6702,2,    138.1,2,  34.6700,2,   138.30,2,   152.93,3,    36.92,2,     0.00,2,    2.560,3, -999.000,9, -999.000,9,   2334.0,2,   2421.1,2,   7.5586,2,    25.00, -999.000,9,  -999.00,9,  -999.00,9,   1.2745,2,  27.7616,2,   1.5207,2
49UP20180806_1,   P13,    45,  1,     11,     820,2,20180814,1929,2020, 28.9923, 164.9902, 5812,   3553.3,     3500,   1.4968,  34.6751,2,    143.2,2,  34.6741,2,   142.75,6,   151.61,3,    36.57,6,     0.00,6,    2.540,3, -999.000,9, -999.000,9,   2336.2,2,   2417.3,2,   7.5664,2,    25.00, -999.000,9,  -999.00,9,  -999.00,9,   1.2253,2,  27.7690,2,   1.4968,2
49UP20180806_1,   P13,    45,  1,     10,     819,2,20180814,1929,2014, 28.9923, 164.9902, 5812,   3808.5,     3749,   1.4775,  34.6794,2,    148.3,2,  34.6793,2,   147.90,2,   150.32,3,    36.12,2,     0.00,2,    2.510,3, -999.000,9, -999.000,9,   2328.7,2,   2417.0,2,   7.5758,2,    25.00, -999.000,9,  -999.00,9,  -999.00,9,   1.1799,2,  27.7756,2,   1.4775,2
49UP20180806_1,   P13,    45,  1,      9,     818,2,20180814,1929,2009, 28.9923, 164.9902, 5812,   4067.3,     4002,   1.4629,  34.6835,2,    153.4,2,  34.6837,2,   153.45,2,   148.32,3,    35.87,2,     0.00,2,    2.480,3, -999.000,9, -999.000,9,   2330.5,2,   2414.5,2,   7.5825,2,    25.00, -999.000,9,  -999.00,9,  -999.00,9,   1.1377,2,  27.7818,2,   1.4629,2
49UP20180806_1,   P13,    45,  1,      8,     817,2,20180814,1929,2003, 28.9923, 164.9902, 5812,   4321.0,     4249,   1.4614,  34.6862,2,    156.7,2,  34.6870,2,   156.49,2,   147.59,3,    35.62,2,     0.00,2,    2.450,3, -999.000,9, -999.000,9,   2327.7,2,   2414.9,2,   7.5894,2,    25.00, -999.000,9,  -999.00,9,  -999.00,9,   1.1080,2,  27.7859,2,   1.4613,2
49UP20180806_1,   P13,    45,  1,      7,     816,2,20180814,1929,1958, 28.9923, 164.9902, 5812,   4580.3,     4501,   1.4653,  34.6887,2,    160.7,2,  34.6856,4,   158.13,3,   145.53,3,    35.60,2,     0.00,2,    2.450,3, -999.000,9, -999.000,9,   2324.2,2,   2412.1,2,   7.5898,2,    25.00, -999.000,9,  -999.00,9,  -999.00,9,   1.0821,2,  27.7897,2,   1.4653,2
49UP20180806_1,   P13,    45,  1,      6,     815,3,20180814,1929,1953, 28.9923, 164.9902, 5812,   4836.0,     4750,   1.4707,  34.6911,2,    165.2,2,  34.6908,2,   165.21,2,   141.89,3,    35.00,2,     0.00,2,    2.410,3, -999.000,9, -999.000,9,   2321.1,2,   2410.8,6,   7.5979,2,    25.00, -999.000,9,  -999.00,9,  -999.00,9,   1.0572,2,  27.7933,2,   1.4708,2
49UP20180806_1,   P13,    45,  1,      5,     814,2,20180814,1929,1947, 28.9923, 164.9902, 5812,   5092.2,     4998,   1.4819,  34.6932,2,    168.9,2,  34.6926,2,   167.66,3,   139.28,3,    34.80,2,     0.00,2,    2.400,3, -999.000,9, -999.000,9,   2314.7,2,   2407.9,2,   7.6046,2,    25.00, -999.000,9,  -999.00,9,  -999.00,9,   1.0370,2,  27.7963,2,   1.4819,2
49UP20180806_1,   P13,    45,  1,      4,     813,2,20180814,1929,1942, 28.9923, 164.9902, 5812,   5349.1,     5248,   1.5033,  34.6940,2,    170.5,2,  34.6942,2,   170.51,2,   138.33,3,    34.55,2,     0.00,2,    2.380,3, -999.000,9, -999.000,9,   2303.8,3,   2406.7,2,   7.6034,2,    25.00, -999.000,9,  -999.00,9,  -999.00,9,   1.0257,2,  27.7978,2,   1.5034,2
49UP20180806_1,   P13,    45,  1,      3,     812,2,20180814,1929,1937, 28.9923, 164.9902, 5812,   5606.8,     5497,   1.5239,  34.6948,2,    171.7,2,  34.6946,2,   171.53,2,   137.84,3,    34.47,2,     0.00,2,    2.380,3, -999.000,9, -999.000,9,   2311.7,2,   2405.9,2,   7.6036,2,    25.00, -999.000,9,  -999.00,9,  -999.00,9,   1.0127,2,  27.7993,2,   1.5239,2
49UP20180806_1,   P13,    45,  1,      2,     811,2,20180814,1929,1932, 28.9923, 164.9902, 5812,   5865.4,     5748,   1.5360,  34.6962,2,    175.0,2,  34.6963,2,   175.15,6,   135.42,3,    34.30,6,     0.00,6,    2.350,3, -999.000,9, -999.000,9,   2308.2,2,   2401.5,2,   7.6105,2,    25.00, -999.000,9,  -999.00,9,  -999.00,9,   0.9906,2,  27.8019,2,   1.5361,2
49UP20180806_1,   P13,    45,  1,      1,     810,2,20180814,1929,1929, 28.9923, 164.9902, 5812,   5949.1,     5829,   1.5297,  34.6972,2,    177.5,2,  34.6978,4,   177.09,2,   134.27,3,    34.15,2,     0.00,2,    2.350,3, -999.000,9, -999.000,9,   2301.5,2,   2399.4,2,   7.6118,2,    25.00, -999.000,9,  -999.00,9,  -999.00,9,   0.9734,2,  27.8038,2,   1.5295,2