BOTTLE,20191018JMAGEMD
EXPOCODE,SECT_ID,STNNBR,CASTNO,SAMPNO,BTLNBR,BTLNBR_FLAG_U,DATE,TIME,BTL_TIME,LATITUDE,LONGITUDE,DEPTH,CTDPRS,CTDDEP,CTDTMP,CTDSAL,CTDSAL_FLAG_W,CTDOXY,CTDOXY_FLAG_W,SALNTY,SALNTY_FLAG_W,OXYGEN,OXYGEN_FLAG_W,SILCAT,SILCAT_FLAG_W,NO2+NO3,NO2+NO3_FLAG_W,NITRIT,NITRIT_FLAG_W,PHSPHT,PHSPHT_FLAG_W,CFC-11,CFC-11_FLAG_W,CFC-12,CFC-12_FLAG_W,TCARBN,TCARBN_FLAG_W,ALKALI,ALKALI_FLAG_W,PH_TS,PH_TS_FLAG_W,PH_TS_TMP,CFC113,CFC113_FLAG_W,CHLORA,CHLORA_FLAG_W,PPHYTN,PPHYTN_FLAG_W,THETA,THETA_FLAG_W,SIGTHT,SIGTHT_FLAG_W,SBE35,SBE35_FLAG_W
,,,,,,,,UTC,,,,METER,DBAR,METERS,ITS-90,PSS-78,,UMOL/KG,,PSS78,,UMOL/KG,,UMOL/KG,,UMOL/KG,,UMOL/KG,,UMOL/KG,,PMOL/KG,,PMOL/KG,,UMOL/KG,,UMOL/KG,,,,ITS-90,PMOL/KG,,UG/KG,,UG/KG,,ITS-90,,KG/M3,,ITS-90,
49UP20180806_1,   P13,    59,  1,      0,      -9,0,20180820,0939,1140, 17.9910, 165.0052, 5433,      0.0,        0,  29.5375,  34.2300,2,    195.0,2,  34.2186,2,   194.82,2,     0.99,3,     0.00,2,     0.00,2,    0.080,3, -999.000,9, -999.000,9,   1923.8,2,   2251.0,2,   8.1045,2,    25.00, -999.000,9,     0.04,2,     0.01,2,  29.5368,2,  21.3060,2,-999.0000,9
49UP20180806_1,   P13,    59,  1,     36,     845,2,20180820,0939,1203, 17.9910, 165.0052, 5433,     10.1,       10,  29.5322,  34.2296,2,    194.8,2,  34.2346,2,   195.00,2,     0.94,3,     0.00,2,     0.00,2,    0.050,3,    1.471,2,    0.844,2,   1927.3,2,   2252.4,2,   8.1098,2,    25.00,    0.138,2,     0.04,2,     0.01,2,  29.5297,2,  21.3082,2,  29.5325,2
49UP20180806_1,   P13,    59,  1,     35,     844,2,20180820,0939,1159, 17.9910, 165.0052, 5433,     50.4,       50,  28.0921,  34.9797,2,    211.6,2,  34.9614,4,   211.03,2,     0.90,3,     0.00,2,     0.00,2,    0.030,3,    1.631,6,    0.912,6,   1965.0,2,   2301.4,2,   8.1056,2,    25.00,    0.142,6,     0.05,2,     0.02,2,  28.0802,2,  22.3532,2,  28.0839,2
49UP20180806_1,   P13,    59,  1,     34,     843,2,20180820,0939,1157, 17.9910, 165.0052, 5433,    101.5,      101,  25.7457,  35.0910,2,    206.4,2,  35.0882,2,   206.25,2,     1.03,3,     0.00,2,     0.00,2,    0.040,3,    1.713,2,    0.971,2,   1989.4,2,   2309.6,2,   8.0852,2,    25.00,    0.146,2,     0.12,2,     0.09,2,  25.7232,2,  23.1880,2,  25.7497,2
49UP20180806_1,   P13,    59,  1,     33,     842,2,20180820,0939,1155, 17.9910, 165.0052, 5433,    151.7,      151,  23.1382,  35.1662,2,    190.5,2,  35.1597,2,   190.48,2,     1.64,3,     0.43,2,     0.11,2,    0.120,3,    1.898,2,    1.085,2,   2028.8,2,   2315.3,2,   8.0126,2,    25.00,    0.129,2,     0.09,2,     0.25,2,  23.1071,2,  24.0287,2,  23.1376,2
49UP20180806_1,   P13,    59,  1,     32,     841,2,20180820,0939,1153, 17.9910, 165.0052, 5433,    202.7,      201,  19.2870,  34.9521,2,    192.8,2,  34.9541,2,   192.21,2,     2.82,3,     2.47,2,     0.01,2,    0.230,3,    2.215,2,    1.250,2,   2052.5,2,   2298.9,2,   7.9534,2,    25.00,    0.072,2,     0.02,2,     0.07,2,  19.2504,2,  24.9204,2,  19.2874,2
49UP20180806_1,   P13,    59,  1,     31,     840,2,20180820,0939,1151, 17.9910, 165.0052, 5433,    252.3,      251,  16.5545,  34.7100,2,    198.2,2,  34.7165,2,   197.53,2,     5.09,3,     5.65,2,     0.00,2,    0.410,3,    2.460,2,    1.370,2,   2060.4,2,   2285.0,2,   7.9067,2,    25.00,    0.033,2,  -999.00,9,  -999.00,9,  16.5136,2,  25.4060,2,  16.5567,2
49UP20180806_1,   P13,    59,  1,     30,     839,2,20180820,0939,1149, 17.9910, 165.0052, 5433,    282.6,      281,  15.0659,  34.5644,2,    200.0,2,  34.5650,2,   199.54,2,     7.31,3,     7.68,2,     0.00,2,    0.550,3,    2.637,2,    1.445,2,   2073.9,6,   2276.4,6,   7.8727,2,    25.00,    0.035,2,  -999.00,9,  -999.00,9,  15.0231,2,  25.6310,2,  15.0662,2
49UP20180806_1,   P13,    59,  1,     29,     838,2,20180820,0939,1147, 17.9910, 165.0052, 5433,    325.4,      323,  13.5475,  34.4243,2,    200.6,2,  34.4306,2,   199.90,6,    10.49,3,     9.97,6,     0.00,6,    0.700,3, -999.000,9, -999.000,9,   2086.4,2,   2272.6,2,   7.8382,6,    25.00, -999.000,9,  -999.00,9,  -999.00,9,  13.5015,2,  25.8454,2,  13.5575,2
49UP20180806_1,   P13,    59,  1,     28,     837,3,20180820,0939,1145, 17.9910, 165.0052, 5433,    373.4,      371,  11.5632,  34.2653,2,    191.3,2,  34.2660,2,   191.69,2,    17.01,3,    14.25,2,     0.00,2,    1.040,3,    2.946,2,    1.589,2,   2114.6,2,   2269.8,2,   7.7687,2,    25.00,    0.083,2,  -999.00,9,  -999.00,9,  11.5157,2,  26.1092,2,  11.5627,2
49UP20180806_1,   P13,    59,  1,     27,     661,2,20180820,0939,1143, 17.9910, 165.0052, 5433,    424.5,      422,   9.7554,  34.1721,2,    159.3,2,  34.1747,2,   159.72,2,    27.53,3,    20.38,2,     0.00,2,    1.490,3, -999.000,9, -999.000,9,   2155.0,2,   2273.1,2,   7.6704,2,    25.00, -999.000,9,  -999.00,9,  -999.00,9,   9.7069,2,  26.3547,2,   9.7663,2
49UP20180806_1,   P13,    59,  1,     26,     835,2,20180820,0939,1140, 17.9910, 165.0052, 5433,    476.3,      473,   8.5115,  34.1559,2,    123.4,2,  34.1548,6,   123.13,2,    39.19,3,    26.20,2,     0.00,2,    1.920,3,    2.373,2,    1.155,2,   2194.0,2,   2281.4,2,   7.5782,2,    25.00,    0.063,2,  -999.00,9,  -999.00,9,   8.4612,2,  26.5413,2,   8.5124,2
49UP20180806_1,   P13,    59,  1,     25,     834,2,20180820,0939,1137, 17.9910, 165.0052, 5433,    577.6,      573,   7.1813,  34.3033,2,     60.4,2,  34.3037,2,    60.27,2,    56.91,3,    34.66,2,     0.00,2,    2.550,3,    0.889,2,    0.395,2,   2265.0,2,   2306.4,2,   7.4536,2,    25.00,    0.019,2,  -999.00,9,  -999.00,9,   7.1255,2,  26.8525,2,   7.1816,2
49UP20180806_1,   P13,    59,  1,     23,     832,2,20180820,0939,1134, 17.9910, 165.0052, 5433,    676.4,      671,   6.2667,  34.3957,2,     56.0,2,  34.3940,2,    55.46,2,    68.77,3,    37.22,2,     0.00,2,    2.690,3,    0.336,2,    0.151,2,   2290.7,2,   2325.8,2,   7.4450,2,    25.00,    0.004,2,  -999.00,9,  -999.00,9,   6.2055,2,  27.0488,2,   6.2677,2
49UP20180806_1,   P13,    59,  1,     22,     831,2,20180820,0939,1131, 17.9910, 165.0052, 5433,    780.3,      774,   5.5476,  34.4574,2,     60.8,2,  34.4565,2,    60.39,2,    79.35,3,    38.35,2,     0.00,2,    2.760,3,    0.144,2,    0.062,2,   2296.3,2,   2340.6,2,   7.4520,2,    25.00,    0.003,2,  -999.00,9,  -999.00,9,   5.4807,2,  27.1883,2,   5.5482,2
49UP20180806_1,   P13,    59,  1,     21,     830,2,20180820,0939,1128, 17.9910, 165.0052, 5433,    879.5,      872,   4.9599,  34.4820,2,     67.5,2,  34.4819,2,    67.51,2,    89.07,3,    38.51,2,     0.00,2,    2.770,3,    0.114,2,    0.051,2,   2308.7,2,   2353.5,2,   7.4642,2,    25.00,    0.007,2,  -999.00,9,  -999.00,9,   4.8877,2,  27.2775,2,   4.9611,2
49UP20180806_1,   P13,    59,  1,     20,     829,2,20180820,0939,1124, 17.9910, 165.0052, 5433,    978.9,      971,   4.4500,  34.4950,2,     76.7,2,  34.4955,2,    76.42,2,    99.79,3,    38.47,2,     0.00,2,    2.750,3,    0.117,6,    0.049,6,   2311.6,2,   2364.9,2,   7.4738,2,    25.00,    0.002,6,  -999.00,9,  -999.00,9,   4.3728,2,  27.3450,2,   4.4502,2
49UP20180806_1,   P13,    59,  1,     19,     828,2,20180820,0939,1120, 17.9910, 165.0052, 5433,   1142.4,     1132,   3.7335,  34.5250,2,     75.8,2,  34.5246,2,    75.73,6,   114.22,3,    39.40,6,     0.00,6,    2.810,3,    0.036,2,    0.011,2,   2336.0,2,   2379.9,2,   7.4669,2,    25.00,    0.004,2,  -999.00,9,  -999.00,9,   3.6482,2,  27.4440,2,   3.7332,2
49UP20180806_1,   P13,    59,  1,     18,     660,2,20180820,0939,1116, 17.9910, 165.0052, 5433,   1341.2,     1329,   3.2029,  34.5543,2,     80.3,2,  34.5555,6,    80.19,2,   125.27,3,    39.71,2,     0.00,2,    2.830,3,    0.007,2,    0.004,2,   2340.5,2,   2389.1,2,   7.4725,2,    25.00,    0.006,2,  -999.00,9,  -999.00,9,   3.1060,2,  27.5195,2,   3.2034,2
49UP20180806_1,   P13,    59,  1,     17,     826,2,20180820,0939,1109, 17.9910, 165.0052, 5433,   1546.0,     1531,   2.7380,  34.5785,2,     87.0,2,  34.5789,2,    87.27,2,   134.53,3,    39.61,2,     0.00,2,    2.810,3,    0.001,2,    0.003,2,   2354.7,2,   2401.0,2,   7.4802,2,    25.00,    0.003,2,  -999.00,9,  -999.00,9,   2.6295,2,  27.5817,2,   2.7384,2
49UP20180806_1,   P13,    59,  1,     16,     825,2,20180820,0939,1104, 17.9910, 165.0052, 5433,   1750.4,     1733,   2.3978,  34.5987,2,     94.0,2,  34.5990,2,    94.03,2,   141.22,3,    39.45,2,     0.00,2,    2.780,3,   -0.000,2,    0.001,2,   2350.6,2,   2408.5,2,   7.4878,2,    25.00,    0.000,2,  -999.00,9,  -999.00,9,   2.2766,2,  27.6278,2,   2.3979,2
49UP20180806_1,   P13,    59,  1,     15,     824,2,20180820,0939,1059, 17.9910, 165.0052, 5433,   1949.1,     1928,   2.2085,  34.6191,2,    101.5,2,  34.6185,6,   101.37,2,   143.98,3,    39.05,2,     0.00,2,    2.750,3,    0.000,2,    0.002,2,   2351.0,2,   2413.6,2,   7.5019,2,    25.00,    0.000,2,  -999.00,9,  -999.00,9,   2.0733,2,  27.6607,2,   2.2087,2
49UP20180806_1,   P13,    59,  1,     14,     823,2,20180820,0939,1054, 17.9910, 165.0052, 5433,   2155.7,     2132,   1.9915,  34.6308,2,    108.1,2,  34.6310,2,   108.05,2,   148.63,3,    38.68,2,     0.00,2,    2.710,3,    0.000,2,    0.000,2,   2348.8,6,   2417.7,6,   7.5146,2,    25.00,    0.005,2,  -999.00,9,  -999.00,9,   1.8419,2,  27.6882,2,   1.9916,2
49UP20180806_1,   P13,    59,  1,     13,     822,2,20180820,0939,1049, 17.9910, 165.0052, 5433,   2357.4,     2330,   1.8546,  34.6414,2,    114.5,2,  34.6420,2,   115.01,2,   150.93,3,    38.36,2,     0.00,2,    2.680,3,    0.000,2,    0.000,2,   2351.7,2,   2421.2,2,   7.5257,6,    25.00,    0.006,2,  -999.00,9,  -999.00,9,   1.6898,2,  27.7083,2,   1.8547,2
49UP20180806_1,   P13,    59,  1,     12,     821,2,20180820,0939,1045, 17.9910, 165.0052, 5433,   2561.6,     2531,   1.7421,  34.6527,2,    121.5,2,  34.6533,2,   121.45,2,   151.87,3,    37.94,2,     0.00,2,    2.640,3,    0.000,2,    0.000,2,   2346.9,2,   2422.8,2,   7.5366,2,    25.00,    0.000,2,  -999.00,9,  -999.00,9,   1.5611,2,  27.7270,2,   1.7422,2
49UP20180806_1,   P13,    59,  1,     11,     820,2,20180820,0939,1040, 17.9910, 165.0052, 5433,   2764.9,     2730,   1.6663,  34.6590,2,    126.9,2,  34.6579,2,   126.73,2,   152.15,3,    37.61,2,     0.00,2,    2.620,3,    0.004,2,    0.004,2,   2341.4,2,   2421.8,2,   7.5442,2,    25.00,    0.004,2,  -999.00,9,  -999.00,9,   1.4681,2,  27.7388,2,   1.6662,2
49UP20180806_1,   P13,    59,  1,     10,     819,2,20180820,0939,1035, 17.9910, 165.0052, 5433,   2968.9,     2930,   1.6123,  34.6647,2,    131.6,2,  34.6647,2,   131.58,6,   152.59,3,    37.28,6,     0.00,6,    2.590,3, -999.000,9, -999.000,9,   2338.0,2,   2423.3,2,   7.5523,2,    25.00, -999.000,9,  -999.00,9,  -999.00,9,   1.3961,2,  27.7486,2,   1.6122,2
49UP20180806_1,   P13,    59,  1,     24,     833,2,20180820,0939,1030, 17.9910, 165.0052, 5433,   3212.3,     3169,   1.5629,  34.6706,2,    137.1,2,  34.6702,2,   136.69,2,   154.21,3,    36.85,2,     0.00,2,    2.580,3, -999.000,9, -999.000,9,   2333.3,2,   2423.1,2,   7.5607,2,    25.00, -999.000,9,  -999.00,9,  -999.00,9,   1.3241,2,  27.7585,2,   1.5629,2
49UP20180806_1,   P13,    59,  1,      9,     818,2,20180820,0939,1024, 17.9910, 165.0052, 5433,   3466.4,     3418,   1.5251,  34.6756,2,    142.5,2,  34.6752,2,   142.64,2,   153.72,3,    36.53,2,     0.00,2,    2.550,3, -999.000,9, -999.000,9,   2330.9,2,   2421.3,2,   7.5698,2,    25.00, -999.000,9,  -999.00,9,  -999.00,9,   1.2618,2,  27.7668,2,   1.5251,2
49UP20180806_1,   P13,    59,  1,      8,     817,2,20180820,0939,1018, 17.9910, 165.0052, 5433,   3725.8,     3671,   1.4927,  34.6802,2,    148.2,2,  34.6791,2,   148.22,2,   150.23,3,    36.11,2,     0.00,2,    2.530,3, -999.000,9, -999.000,9,   2332.8,2,   2419.5,2,   7.5775,2,    25.00, -999.000,9,  -999.00,9,  -999.00,9,   1.2034,2,  27.7746,2,   1.4929,2
49UP20180806_1,   P13,    59,  1,      7,     816,2,20180820,0939,1013, 17.9910, 165.0052, 5433,   3976.9,     3916,   1.4649,  34.6844,2,    154.3,2,  34.6843,6,   154.33,2,   145.60,3,    35.70,2,     0.00,2,    2.460,3,    0.002,2,    0.002,2,   2319.5,2,   2417.9,2,   7.5849,2,    25.00,    0.006,2,  -999.00,9,  -999.00,9,   1.1495,2,  27.7817,2,   1.4650,2
49UP20180806_1,   P13,    59,  1,      6,     815,2,20180820,0939,1007, 17.9910, 165.0052, 5433,   4234.2,     4167,   1.4425,  34.6882,2,    160.5,2,  34.6881,2,   160.44,2,   142.58,3,    35.33,2,     0.00,2,    2.430,3, -999.000,9, -999.000,9,   2316.2,2,   2414.8,2,   7.5942,2,    25.00, -999.000,9,  -999.00,9,  -999.00,9,   1.0995,2,  27.7881,2,   1.4426,2
49UP20180806_1,   P13,    59,  1,      5,     814,2,20180820,0939,1002, 17.9910, 165.0052, 5433,   4492.6,     4419,   1.4199,  34.6918,2,    167.4,2,  34.6913,2,   167.26,2,   138.74,3,    34.86,2,     0.00,2,    2.400,3, -999.000,9, -999.000,9,   2309.8,2,   2409.5,2,   7.6014,2,    25.00, -999.000,9,  -999.00,9,  -999.00,9,   1.0483,2,  27.7945,2,   1.4199,2
49UP20180806_1,   P13,    59,  1,      4,     813,2,20180820,0939,0956, 17.9910, 165.0052, 5433,   4748.9,     4668,   1.3958,  34.6957,2,    174.5,2,  34.6960,2,   174.74,2,   134.48,3,    34.29,2,     0.00,2,    2.360,3, -999.000,9, -999.000,9,   2301.8,6,   2404.1,6,   7.6075,2,    25.00, -999.000,9,  -999.00,9,  -999.00,9,   0.9950,2,  27.8011,2,   1.3958,2
49UP20180806_1,   P13,    59,  1,      3,     812,2,20180820,0939,0951, 17.9910, 165.0052, 5433,   5007.2,     4920,   1.3879,  34.6981,2,    179.3,2,  34.6963,4,   177.75,3,   132.39,3,    34.04,2,     0.00,2,    2.340,3,    0.004,2,    0.000,2,   2301.1,2,   2399.6,2,   7.6094,6,    25.00,    0.002,2,  -999.00,9,  -999.00,9,   0.9565,2,  27.8057,2,   1.3878,2
49UP20180806_1,   P13,    59,  1,      2,     811,2,20180820,0939,0945, 17.9910, 165.0052, 5433,   5265.5,     5170,   1.4004,  34.6994,2,    181.7,2,  34.6991,2,   181.80,6,   130.88,3,    33.71,6,     0.00,6,    2.320,3, -999.000,9, -999.000,9,   2292.9,2,   2396.9,2,   7.6131,2,    25.00, -999.000,9,  -999.00,9,  -999.00,9,   0.9369,2,  27.8080,2,   1.4004,2
49UP20180806_1,   P13,    59,  1,      1,     810,2,20180820,0939,0939, 17.9910, 165.0052, 5433,   5548.4,     5445,   1.4222,  34.7002,2,    183.5,2,  34.6995,2,   182.97,2,   130.31,3,    33.60,2,     0.00,2,    2.310,3,    0.005,2,    0.002,2,   2292.6,2,   2395.8,2,   7.6123,2,    25.00,    0.004,2,  -999.00,9,  -999.00,9,   0.9223,2,  27.8096,2,   1.4222,2