BOTTLE,20191018JMAGEMD
EXPOCODE,SECT_ID,STNNBR,CASTNO,SAMPNO,BTLNBR,BTLNBR_FLAG_U,DATE,TIME,BTL_TIME,LATITUDE,LONGITUDE,DEPTH,CTDPRS,CTDDEP,CTDTMP,CTDSAL,CTDSAL_FLAG_W,CTDOXY,CTDOXY_FLAG_W,SALNTY,SALNTY_FLAG_W,OXYGEN,OXYGEN_FLAG_W,SILCAT,SILCAT_FLAG_W,NO2+NO3,NO2+NO3_FLAG_W,NITRIT,NITRIT_FLAG_W,PHSPHT,PHSPHT_FLAG_W,CFC-11,CFC-11_FLAG_W,CFC-12,CFC-12_FLAG_W,TCARBN,TCARBN_FLAG_W,ALKALI,ALKALI_FLAG_W,PH_TS,PH_TS_FLAG_W,PH_TS_TMP,CFC113,CFC113_FLAG_W,CHLORA,CHLORA_FLAG_W,PPHYTN,PPHYTN_FLAG_W,THETA,THETA_FLAG_W,SIGTHT,SIGTHT_FLAG_W,SBE35,SBE35_FLAG_W
,,,,,,,,UTC,,,,METER,DBAR,METERS,ITS-90,PSS-78,,UMOL/KG,,PSS78,,UMOL/KG,,UMOL/KG,,UMOL/KG,,UMOL/KG,,UMOL/KG,,PMOL/KG,,PMOL/KG,,UMOL/KG,,UMOL/KG,,,,ITS-90,PMOL/KG,,UG/KG,,UG/KG,,ITS-90,,KG/M3,,ITS-90,
49UP20180806_1,   P13,    56,  1,      0,      -9,0,20180819,1320,1435, 19.5013, 164.9842, 3108,      0.0,        0,  29.1964,  34.3775,2,    195.0,2,-999.0000,9,   195.78,2,     1.08,3,     0.00,2,     0.00,2,    0.050,3, -999.000,9, -999.000,9,   -999.0,9,   -999.0,9,-999.0000,9,  -999.00, -999.000,9,  -999.00,9,  -999.00,9,  29.1957,2,  21.5313,2,-999.0000,9
49UP20180806_1,   P13,    56,  1,     36,     845,2,20180819,1320,1501, 19.5013, 164.9842, 3108,     10.6,       11,  29.2004,  34.3772,2,    195.1,2,  34.3768,2,   195.93,2,     1.17,3,     0.00,2,     0.00,2,    0.030,3, -999.000,9, -999.000,9,   -999.0,9,   -999.0,9,-999.0000,9,  -999.00, -999.000,9,  -999.00,9,  -999.00,9,  29.1978,2,  21.5304,2,  29.2009,2
49UP20180806_1,   P13,    56,  1,     35,     844,2,20180819,1320,1459, 19.5013, 164.9842, 3108,     26.7,       27,  29.1823,  34.4234,2,    195.2,2,  34.4156,4,   196.11,2,     0.96,3,     0.00,2,     0.00,2,    0.030,3, -999.000,9, -999.000,9,   -999.0,9,   -999.0,9,-999.0000,9,  -999.00, -999.000,9,  -999.00,9,  -999.00,9,  29.1758,2,  21.5725,2,  29.1831,2
49UP20180806_1,   P13,    56,  1,     34,     843,2,20180819,1320,1456, 19.5013, 164.9842, 3108,     50.4,       50,  28.1573,  35.1350,2,    209.8,2,  35.1312,2,   210.46,2,     1.01,3,     0.00,2,     0.00,2,    0.010,3, -999.000,9, -999.000,9,   -999.0,9,   -999.0,9,-999.0000,9,  -999.00, -999.000,9,  -999.00,9,  -999.00,9,  28.1454,2,  22.4485,2,  28.1439,2
49UP20180806_1,   P13,    56,  1,     33,     842,2,20180819,1320,1454, 19.5013, 164.9842, 3108,     77.2,       77,  25.8204,  35.1776,2,    213.9,2,  35.1767,2,   214.10,2,     1.19,3,     0.00,2,     0.00,2,    0.010,3, -999.000,9, -999.000,9,   -999.0,9,   -999.0,9,-999.0000,9,  -999.00, -999.000,9,  -999.00,9,  -999.00,9,  25.8033,2,  23.2286,2,  25.8268,2
49UP20180806_1,   P13,    56,  1,     32,     841,2,20180819,1320,1453, 19.5013, 164.9842, 3108,    101.1,      100,  24.3437,  35.1963,2,    214.1,2,  35.1997,2,   214.21,6,     1.32,3,     0.00,6,     0.00,6,    0.010,3, -999.000,9, -999.000,9,   -999.0,9,   -999.0,9,-999.0000,9,  -999.00, -999.000,9,  -999.00,9,  -999.00,9,  24.3222,2,  23.6941,2,  24.3373,2
49UP20180806_1,   P13,    56,  1,     31,     840,2,20180819,1320,1451, 19.5013, 164.9842, 3108,    126.8,      126,  23.0635,  35.2094,2,    215.2,2,  35.2080,2,   214.99,2,     1.36,3,     0.00,2,     0.00,2,    0.020,3, -999.000,9, -999.000,9,   -999.0,9,   -999.0,9,-999.0000,9,  -999.00, -999.000,9,  -999.00,9,  -999.00,9,  23.0375,2,  24.0816,2,  23.0644,2
49UP20180806_1,   P13,    56,  1,     30,     839,2,20180819,1320,1450, 19.5013, 164.9842, 3108,    152.3,      151,  21.2158,  35.0929,2,    198.6,2,  35.0936,2,   199.75,2,     1.95,3,     0.52,2,     0.08,2,    0.090,3, -999.000,9, -999.000,9,   -999.0,9,   -999.0,9,-999.0000,9,  -999.00, -999.000,9,  -999.00,9,  -999.00,9,  21.1865,2,  24.5137,2,  21.2219,2
49UP20180806_1,   P13,    56,  1,     29,     838,2,20180819,1320,1448, 19.5013, 164.9842, 3108,    202.4,      201,  18.1199,  34.8535,2,    197.9,2,  34.8519,2,   197.77,2,     3.33,3,     3.44,2,     0.01,2,    0.260,3, -999.000,9, -999.000,9,   -999.0,9,   -999.0,9,-999.0000,9,  -999.00, -999.000,9,  -999.00,9,  -999.00,9,  18.0850,2,  25.1389,2,  18.1192,2
49UP20180806_1,   P13,    56,  1,     28,     837,2,20180819,1320,1446, 19.5013, 164.9842, 3108,    253.0,      251,  16.2954,  34.6834,2,    197.4,2,  34.6795,2,   197.16,2,     5.48,3,     6.19,2,     0.01,2,    0.440,3, -999.000,9, -999.000,9,   -999.0,9,   -999.0,9,-999.0000,9,  -999.00, -999.000,9,  -999.00,9,  -999.00,9,  16.2548,2,  25.4456,2,  16.2998,2
49UP20180806_1,   P13,    56,  1,     27,     661,2,20180819,1320,1444, 19.5013, 164.9842, 3108,    283.5,      282,  15.0205,  34.5578,2,    198.5,2,  34.5590,2,   198.33,2,     7.41,3,     7.88,2,     0.00,2,    0.550,3, -999.000,9, -999.000,9,   -999.0,9,   -999.0,9,-999.0000,9,  -999.00, -999.000,9,  -999.00,9,  -999.00,9,  14.9775,2,  25.6359,2,  15.0224,2
49UP20180806_1,   P13,    56,  1,     26,     835,2,20180819,1320,1443, 19.5013, 164.9842, 3108,    322.5,      320,  13.5283,  34.4200,2,    196.2,2,  34.4213,2,   195.95,2,    10.97,3,    10.40,2,     0.00,2,    0.740,3, -999.000,9, -999.000,9,   -999.0,9,   -999.0,9,-999.0000,9,  -999.00, -999.000,9,  -999.00,9,  -999.00,9,  13.4828,2,  25.8459,2,  13.5296,2
49UP20180806_1,   P13,    56,  1,     25,     834,2,20180819,1320,1441, 19.5013, 164.9842, 3108,    374.2,      372,  11.7234,  34.2795,2,    182.7,2,  34.2815,2,   182.41,2,    17.30,3,    14.78,2,     0.00,2,    1.080,3, -999.000,9, -999.000,9,   -999.0,9,   -999.0,9,-999.0000,9,  -999.00, -999.000,9,  -999.00,9,  -999.00,9,  11.6754,2,  26.0906,2,  11.7372,2
49UP20180806_1,   P13,    56,  1,     23,     832,2,20180819,1320,1438, 19.5013, 164.9842, 3108,    424.6,      422,  10.0504,  34.1920,2,    156.6,2,  34.1922,2,   156.19,2,    26.43,3,    20.32,2,     0.00,2,    1.480,3, -999.000,9, -999.000,9,   -999.0,9,   -999.0,9,-999.0000,9,  -999.00, -999.000,9,  -999.00,9,  -999.00,9,  10.0009,2,  26.3209,2,  10.0509,2
49UP20180806_1,   P13,    56,  1,      3,     812,2,20180819,1320,1439, 19.5013, 164.9842, 3108,    426.0,      423,  10.0440,  34.1917,2,    156.6,2,  34.1915,2,   156.12,2,    26.83,3,    20.36,2,     0.00,2,    1.490,3, -999.000,9, -999.000,9,   -999.0,9,   -999.0,9,-999.0000,9,  -999.00, -999.000,9,  -999.00,9,  -999.00,9,   9.9943,2,  26.3217,2,  10.0455,2
49UP20180806_1,   P13,    56,  1,     22,     831,2,20180819,1320,1436, 19.5013, 164.9842, 3108,    474.8,      471,   8.7377,  34.1461,2,    133.7,2,  34.1477,2,   133.22,6,    36.14,3,    24.87,6,     0.00,6,    1.810,3, -999.000,9, -999.000,9,   -999.0,9,   -999.0,9,-999.0000,9,  -999.00, -999.000,9,  -999.00,9,  -999.00,9,   8.6868,2,  26.4988,2,   8.7368,2
49UP20180806_1,   P13,    56,  1,     21,     830,2,20180819,1320,1433, 19.5013, 164.9842, 3108,    576.6,      572,   6.3792,  34.1682,2,     74.4,2,  34.1679,2,    74.57,2,    64.44,3,    34.57,2,     0.00,2,    2.510,3, -999.000,9, -999.000,9,   -999.0,9,   -999.0,9,-999.0000,9,  -999.00, -999.000,9,  -999.00,9,  -999.00,9,   6.3271,2,  26.8534,2,   6.3887,2
49UP20180806_1,   P13,    56,  1,     20,     829,2,20180819,1320,1430, 19.5013, 164.9842, 3108,    677.0,      672,   5.5919,  34.2412,2,     54.7,2,  34.2398,2,    54.56,2,    78.96,3,    38.01,2,     0.00,2,    2.760,3, -999.000,9, -999.000,9,   -999.0,9,   -999.0,9,-999.0000,9,  -999.00, -999.000,9,  -999.00,9,  -999.00,9,   5.5343,2,  27.0106,2,   5.5918,2
49UP20180806_1,   P13,    56,  1,     19,     828,2,20180819,1320,1427, 19.5013, 164.9842, 3108,    777.4,      771,   4.9779,  34.3510,2,     48.4,2,  34.3490,2,    48.00,2,    90.84,3,    39.75,2,     0.00,2,    2.880,3, -999.000,9, -999.000,9,   -999.0,9,   -999.0,9,-999.0000,9,  -999.00, -999.000,9,  -999.00,9,  -999.00,9,   4.9147,2,  27.1705,2,   4.9786,2
49UP20180806_1,   P13,    56,  1,     18,     660,2,20180819,1320,1425, 19.5013, 164.9842, 3108,    878.3,      871,   4.5622,  34.4375,2,     56.9,2,  34.4349,2,    56.86,2,    98.65,3,    39.88,2,     0.00,2,    2.880,3, -999.000,9, -999.000,9,   -999.0,9,   -999.0,9,-999.0000,9,  -999.00, -999.000,9,  -999.00,9,  -999.00,9,   4.4928,2,  27.2863,2,   4.5656,2
49UP20180806_1,   P13,    56,  1,     17,     826,2,20180819,1320,1422, 19.5013, 164.9842, 3108,    982.6,      974,   4.2171,  34.4827,2,     64.8,2,  34.4815,2,    64.01,2,   104.64,3,    39.74,2,     0.00,2,    2.860,3, -999.000,9, -999.000,9,   -999.0,9,   -999.0,9,-999.0000,9,  -999.00, -999.000,9,  -999.00,9,  -999.00,9,   4.1412,2,  27.3599,2,   4.2153,2
49UP20180806_1,   P13,    56,  1,     16,     825,2,20180819,1320,1417, 19.5013, 164.9842, 3108,   1144.0,     1134,   3.6517,  34.5290,2,     73.8,2,  34.5299,2,    73.66,2,   116.25,3,    39.70,2,     0.00,2,    2.850,3, -999.000,9, -999.000,9,   -999.0,9,   -999.0,9,-999.0000,9,  -999.00, -999.000,9,  -999.00,9,  -999.00,9,   3.5669,2,  27.4553,2,   3.6519,2
49UP20180806_1,   P13,    56,  1,     15,     824,2,20180819,1320,1412, 19.5013, 164.9842, 3108,   1345.6,     1333,   3.0584,  34.5543,2,     78.9,2,  34.5542,2,    78.66,2,   129.04,3,    39.89,2,     0.00,2,    2.840,3, -999.000,9, -999.000,9,   -999.0,9,   -999.0,9,-999.0000,9,  -999.00, -999.000,9,  -999.00,9,  -999.00,9,   2.9628,2,  27.5327,2,   3.0586,2
49UP20180806_1,   P13,    56,  1,     14,     823,2,20180819,1320,1405, 19.5013, 164.9842, 3108,   1546.7,     1532,   2.6645,  34.5767,2,     85.5,2,  34.5773,6,    85.42,2,   137.24,3,    39.75,2,     0.00,2,    2.820,3, -999.000,9, -999.000,9,   -999.0,9,   -999.0,9,-999.0000,9,  -999.00, -999.000,9,  -999.00,9,  -999.00,9,   2.5567,2,  27.5866,2,   2.6645,2
49UP20180806_1,   P13,    56,  1,     13,     822,2,20180819,1320,1400, 19.5013, 164.9842, 3108,   1748.0,     1730,   2.3473,  34.5972,2,     93.0,2,  34.5971,2,    92.91,6,   143.19,3,    39.42,6,     0.00,6,    2.790,3, -999.000,9, -999.000,9,   -999.0,9,   -999.0,9,-999.0000,9,  -999.00, -999.000,9,  -999.00,9,  -999.00,9,   2.2270,2,  27.6307,2,   2.3474,2
49UP20180806_1,   P13,    56,  1,     12,     821,2,20180819,1320,1356, 19.5013, 164.9842, 3108,   1951.3,     1930,   2.1087,  34.6144,2,    101.2,2,  34.6154,2,   101.29,2,   147.35,3,    39.13,2,     0.00,2,    2.750,3, -999.000,9, -999.000,9,   -999.0,9,   -999.0,9,-999.0000,9,  -999.00, -999.000,9,  -999.00,9,  -999.00,9,   1.9747,2,  27.6647,2,   2.1091,2
49UP20180806_1,   P13,    56,  1,     11,     820,2,20180819,1320,1356, 19.5013, 164.9842, 3108,   1952.0,     1931,   2.1077,  34.6146,2,    101.2,2,  34.6146,2,   100.99,2,   147.24,3,    39.08,2,     0.00,2,    2.750,3, -999.000,9, -999.000,9,   -999.0,9,   -999.0,9,-999.0000,9,  -999.00, -999.000,9,  -999.00,9,  -999.00,9,   1.9737,2,  27.6649,2,   2.1078,2
49UP20180806_1,   P13,    56,  1,     10,     819,2,20180819,1320,1351, 19.5013, 164.9842, 3108,   2154.2,     2130,   1.9133,  34.6329,2,    109.8,2,  34.6331,2,   109.53,2,   149.95,3,    38.55,2,     0.00,2,    2.700,3, -999.000,9, -999.000,9,   -999.0,9,   -999.0,9,-999.0000,9,  -999.00, -999.000,9,  -999.00,9,  -999.00,9,   1.7652,2,  27.6958,2,   1.9134,2
49UP20180806_1,   P13,    56,  1,      9,     818,2,20180819,1320,1345, 19.5013, 164.9842, 3108,   2357.3,     2330,   1.7977,  34.6437,2,    116.3,2,  34.6437,2,   115.83,2,   151.20,3,    38.25,2,     0.00,2,    2.670,3, -999.000,9, -999.000,9,   -999.0,9,   -999.0,9,-999.0000,9,  -999.00, -999.000,9,  -999.00,9,  -999.00,9,   1.6339,2,  27.7144,2,   1.7979,2
49UP20180806_1,   P13,    56,  1,      8,     817,2,20180819,1320,1340, 19.5013, 164.9842, 3108,   2560.5,     2530,   1.6997,  34.6532,2,    123.1,2,  34.6540,6,   122.89,2,   153.91,3,    37.75,2,     0.00,2,    2.640,3, -999.000,9, -999.000,9,   -999.0,9,   -999.0,9,-999.0000,9,  -999.00, -999.000,9,  -999.00,9,  -999.00,9,   1.5196,2,  27.7304,2,   1.6998,2
49UP20180806_1,   P13,    56,  1,      7,     816,2,20180819,1320,1329, 19.5013, 164.9842, 3108,   2763.2,     2728,   1.6411,  34.6597,2,    128.2,2,  34.6589,6,   127.30,2,   154.81,3,    37.52,2,     0.00,2,    2.630,3, -999.000,9, -999.000,9,   -999.0,9,   -999.0,9,-999.0000,9,  -999.00, -999.000,9,  -999.00,9,  -999.00,9,   1.4436,2,  27.7411,2,   1.6410,2
49UP20180806_1,   P13,    56,  1,      6,     815,2,20180819,1320,1325, 19.5013, 164.9842, 3108,   2967.3,     2929,   1.5833,  34.6659,2,    134.0,2,  34.6661,6,   133.63,6,   154.95,3,    37.16,6,     0.00,6,    2.610,3, -999.000,9, -999.000,9,   -999.0,9,   -999.0,9,-999.0000,9,  -999.00, -999.000,9,  -999.00,9,  -999.00,9,   1.3678,2,  27.7516,2,   1.5835,2
49UP20180806_1,   P13,    56,  1,      2,     811,2,20180819,1320,1321, 19.5013, 164.9842, 3108,   3144.5,     3102,   1.5554,  34.6695,2,    137.7,2,  34.6696,2,   137.36,2,   152.63,3,    36.90,2,     0.00,2,    2.570,3, -999.000,9, -999.000,9,   -999.0,9,   -999.0,9,-999.0000,9,  -999.00, -999.000,9,  -999.00,9,  -999.00,9,   1.3235,2,  27.7576,2,   1.5553,2
49UP20180806_1,   P13,    56,  1,      1,     810,2,20180819,1320,1320, 19.5013, 164.9842, 3108,   3145.1,     3103,   1.5552,  34.6697,2,    137.7,2,  34.6700,2,   137.41,2,   150.62,3,    36.88,2,     0.00,2,    2.550,3, -999.000,9, -999.000,9,   -999.0,9,   -999.0,9,-999.0000,9,  -999.00, -999.000,9,  -999.00,9,  -999.00,9,   1.3232,2,  27.7578,2,   1.5551,2