BOTTLE,20191018JMAGEMD
EXPOCODE,SECT_ID,STNNBR,CASTNO,SAMPNO,BTLNBR,BTLNBR_FLAG_U,DATE,TIME,BTL_TIME,LATITUDE,LONGITUDE,DEPTH,CTDPRS,CTDDEP,CTDTMP,CTDSAL,CTDSAL_FLAG_W,CTDOXY,CTDOXY_FLAG_W,SALNTY,SALNTY_FLAG_W,OXYGEN,OXYGEN_FLAG_W,SILCAT,SILCAT_FLAG_W,NO2+NO3,NO2+NO3_FLAG_W,NITRIT,NITRIT_FLAG_W,PHSPHT,PHSPHT_FLAG_W,CFC-11,CFC-11_FLAG_W,CFC-12,CFC-12_FLAG_W,TCARBN,TCARBN_FLAG_W,ALKALI,ALKALI_FLAG_W,PH_TS,PH_TS_FLAG_W,PH_TS_TMP,CFC113,CFC113_FLAG_W,CHLORA,CHLORA_FLAG_W,PPHYTN,PPHYTN_FLAG_W,THETA,THETA_FLAG_W,SIGTHT,SIGTHT_FLAG_W,SBE35,SBE35_FLAG_W
,,,,,,,,UTC,,,,METER,DBAR,METERS,ITS-90,PSS-78,,UMOL/KG,,PSS78,,UMOL/KG,,UMOL/KG,,UMOL/KG,,UMOL/KG,,UMOL/KG,,PMOL/KG,,PMOL/KG,,UMOL/KG,,UMOL/KG,,,,ITS-90,PMOL/KG,,UG/KG,,UG/KG,,ITS-90,,KG/M3,,ITS-90,
49UP20180806_2,   P13,    95,  1,      0,      -9,0,20180911,0136,0220, -2.4955, 165.0000, 2364,      0.0,        0,  30.5798,  34.4065,2,    193.4,2,-999.0000,9,   192.68,2,     1.26,3,     0.00,2,     0.00,2,    0.130,3, -999.000,9, -999.000,9,   -999.0,9,   -999.0,9,-999.0000,9,  -999.00, -999.000,9,  -999.00,9,  -999.00,9,  30.5791,2,  21.0827,2,-999.0000,9
49UP20180806_2,   P13,    95,  1,     36,     845,2,20180911,0136,0259, -2.4955, 165.0000, 2364,     11.7,       12,  30.3452,  34.4119,2,    193.8,2,  34.4112,2,   192.93,2,     1.24,3,     0.00,2,     0.00,2,    0.090,3, -999.000,9, -999.000,9,   -999.0,9,   -999.0,9,-999.0000,9,  -999.00, -999.000,9,  -999.00,9,  -999.00,9,  30.3423,2,  21.1682,2,  30.3499,2
49UP20180806_2,   P13,    95,  1,     35,     844,2,20180911,0136,0258, -2.4955, 165.0000, 2364,     26.0,       26,  30.2521,  34.4188,2,    193.8,2,  34.4196,2,   193.07,2,     1.30,3,     0.00,2,     0.00,2,    0.090,3, -999.000,9, -999.000,9,   -999.0,9,   -999.0,9,-999.0000,9,  -999.00, -999.000,9,  -999.00,9,  -999.00,9,  30.2457,2,  21.2065,2,  30.2533,2
49UP20180806_2,   P13,    95,  1,     34,     843,2,20180911,0136,0254, -2.4955, 165.0000, 2364,     50.6,       50,  30.3664,  35.4287,2,    200.3,2,  35.4286,2,   200.22,2,     1.42,3,     0.00,2,     0.00,2,    0.190,3, -999.000,9, -999.000,9,   -999.0,9,   -999.0,9,-999.0000,9,  -999.00, -999.000,9,  -999.00,9,  -999.00,9,  30.3537,2,  21.9262,2,  30.3635,2
49UP20180806_2,   P13,    95,  1,     32,     841,2,20180911,0136,0253, -2.4955, 165.0000, 2364,     75.8,       75,  29.9439,  35.4881,2,    199.6,2,  35.4880,2,   199.46,6,     1.51,3,     0.00,6,     0.00,6,    0.210,3, -999.000,9, -999.000,9,   -999.0,9,   -999.0,9,-999.0000,9,  -999.00, -999.000,9,  -999.00,9,  -999.00,9,  29.9251,2,  22.1177,2,  29.9455,2
49UP20180806_2,   P13,    95,  1,     31,     840,2,20180911,0136,0251, -2.4955, 165.0000, 2364,    105.3,      105,  29.3971,  35.4938,2,    189.9,2,  35.4918,2,   190.54,2,     1.69,3,     0.84,2,     0.07,2,    0.310,3, -999.000,9, -999.000,9,   -999.0,9,   -999.0,9,-999.0000,9,  -999.00, -999.000,9,  -999.00,9,  -999.00,9,  29.3713,2,  22.3101,2,  29.3963,2
49UP20180806_2,   P13,    95,  1,     30,     839,2,20180911,0136,0251, -2.4955, 165.0000, 2364,    106.0,      105,  29.3904,  35.4955,2,    189.5,2,  35.4889,2,   190.66,2,     1.58,3,     0.79,2,     0.06,2,    0.310,3, -999.000,9, -999.000,9,   -999.0,9,   -999.0,9,-999.0000,9,  -999.00, -999.000,9,  -999.00,9,  -999.00,9,  29.3644,2,  22.3137,2,  29.3896,2
49UP20180806_2,   P13,    95,  1,     29,     838,2,20180911,0136,0250, -2.4955, 165.0000, 2364,    127.5,      127,  29.0762,  35.5682,2,    180.5,2,  35.5643,2,   181.97,2,     1.70,3,     2.76,2,     1.56,2,    0.400,3, -999.000,9, -999.000,9,   -999.0,9,   -999.0,9,-999.0000,9,  -999.00, -999.000,9,  -999.00,9,  -999.00,9,  29.0452,2,  22.4756,2,  29.0749,2
49UP20180806_2,   P13,    95,  1,     28,     837,2,20180911,0136,0249, -2.4955, 165.0000, 2364,    152.3,      151,  27.7719,  35.7846,2,    163.5,2,  35.7862,2,   165.40,2,     1.66,3,     4.84,2,     0.46,2,    0.540,3, -999.000,9, -999.000,9,   -999.0,9,   -999.0,9,-999.0000,9,  -999.00, -999.000,9,  -999.00,9,  -999.00,9,  27.7361,2,  23.0710,2,  27.7828,2
49UP20180806_2,   P13,    95,  1,     27,     661,2,20180911,0136,0247, -2.4955, 165.0000, 2364,    201.1,      200,  16.9973,  35.3717,2,    110.9,2,  35.3810,2,   110.90,2,     8.08,3,    16.61,2,     0.01,2,    1.330,3, -999.000,9, -999.000,9,   -999.0,9,   -999.0,9,-999.0000,9,  -999.00, -999.000,9,  -999.00,9,  -999.00,9,  16.9640,2,  25.8082,2,  17.0012,2
49UP20180806_2,   P13,    95,  1,     26,     835,2,20180911,0136,0244, -2.4955, 165.0000, 2364,    254.0,      252,  11.8451,  34.8779,2,    122.5,2,  34.8856,6,   121.29,2,    16.30,3,    22.52,2,     0.00,2,    1.640,3, -999.000,9, -999.000,9,   -999.0,9,   -999.0,9,-999.0000,9,  -999.00, -999.000,9,  -999.00,9,  -999.00,9,  11.8122,2,  26.5300,2,  11.8486,2
49UP20180806_2,   P13,    95,  1,     25,     834,2,20180911,0136,0242, -2.4955, 165.0000, 2364,    332.0,      330,  10.1204,  34.7359,2,    123.2,2,  34.7354,2,   122.46,2,    20.84,3,    25.77,2,     0.00,2,    1.820,3, -999.000,9, -999.000,9,   -999.0,9,   -999.0,9,-999.0000,9,  -999.00, -999.000,9,  -999.00,9,  -999.00,9,  10.0815,2,  26.7318,2,  10.1206,2
49UP20180806_2,   P13,    95,  1,     21,     830,2,20180911,0136,0239, -2.4955, 165.0000, 2364,    381.7,      379,   9.6762,  34.6992,2,    109.8,2,  34.6984,2,   109.98,6,    24.24,3,    27.95,6,     0.00,6,    1.960,3, -999.000,9, -999.000,9,   -999.0,9,   -999.0,9,-999.0000,9,  -999.00, -999.000,9,  -999.00,9,  -999.00,9,   9.6325,2,  26.7791,2,   9.6762,2
49UP20180806_2,   P13,    95,  1,     19,     828,2,20180911,0136,0237, -2.4955, 165.0000, 2364,    432.7,      430,   9.1877,  34.6685,2,    116.3,2,  34.6697,2,   115.80,2,    24.88,3,    28.34,2,     0.00,2,    1.980,3, -999.000,9, -999.000,9,   -999.0,9,   -999.0,9,-999.0000,9,  -999.00, -999.000,9,  -999.00,9,  -999.00,9,   9.1397,2,  26.8360,2,   9.1880,2
49UP20180806_2,   P13,    95,  1,     20,     829,2,20180911,0136,0237, -2.4955, 165.0000, 2364,    433.9,      431,   9.1808,  34.6682,2,    116.4,2,  34.6679,2,   116.20,2,    24.83,3,    28.34,2,     0.00,2,    1.980,3, -999.000,9, -999.000,9,   -999.0,9,   -999.0,9,-999.0000,9,  -999.00, -999.000,9,  -999.00,9,  -999.00,9,   9.1326,2,  26.8370,2,   9.1830,2
49UP20180806_2,   P13,    95,  1,     18,     660,2,20180911,0136,0234, -2.4955, 165.0000, 2364,    485.2,      482,   8.3692,  34.6227,2,    107.4,2,  34.6232,2,   107.26,2,    28.94,3,    30.98,2,     0.00,2,    2.150,3, -999.000,9, -999.000,9,   -999.0,9,   -999.0,9,-999.0000,9,  -999.00, -999.000,9,  -999.00,9,  -999.00,9,   8.3181,2,  26.9294,2,   8.3699,2
49UP20180806_2,   P13,    95,  1,     17,     826,2,20180911,0136,0232, -2.4955, 165.0000, 2364,    534.5,      531,   7.3871,  34.5715,2,    105.3,2,  34.5734,2,   104.06,2,    35.67,3,    33.29,2,     0.00,2,    2.320,3, -999.000,9, -999.000,9,   -999.0,9,   -999.0,9,-999.0000,9,  -999.00, -999.000,9,  -999.00,9,  -999.00,9,   7.3346,2,  27.0343,2,   7.3922,2
49UP20180806_2,   P13,    95,  1,     16,     825,2,20180911,0136,0229, -2.4955, 165.0000, 2364,    634.9,      630,   6.7427,  34.5444,2,    110.5,2,  34.5450,2,   110.80,2,    41.76,3,    33.94,2,     0.00,2,    2.370,3, -999.000,9, -999.000,9,   -999.0,9,   -999.0,9,-999.0000,9,  -999.00, -999.000,9,  -999.00,9,  -999.00,9,   6.6830,2,  27.1032,2,   6.7428,2
49UP20180806_2,   P13,    95,  1,     15,     824,2,20180911,0136,0225, -2.4955, 165.0000, 2364,    736.4,      731,   6.3349,  34.5307,2,    113.2,2,  34.5305,2,   112.89,2,    45.81,3,    34.44,2,     0.00,2,    2.410,3, -999.000,9, -999.000,9,   -999.0,9,   -999.0,9,-999.0000,9,  -999.00, -999.000,9,  -999.00,9,  -999.00,9,   6.2674,2,  27.1474,2,   6.3351,2
49UP20180806_2,   P13,    95,  1,     14,     823,2,20180911,0136,0222, -2.4955, 165.0000, 2364,    837.4,      831,   5.5964,  34.5240,2,    109.1,2,  34.5250,2,   108.91,2,    56.07,3,    36.06,2,     0.00,2,    2.530,3, -999.000,9, -999.000,9,   -999.0,9,   -999.0,9,-999.0000,9,  -999.00, -999.000,9,  -999.00,9,  -999.00,9,   5.5238,2,  27.2358,2,   5.5962,2
49UP20180806_2,   P13,    95,  1,     13,     822,2,20180911,0136,0218, -2.4955, 165.0000, 2364,    937.6,      930,   4.7487,  34.5295,2,    117.2,2,  34.5291,2,   116.99,2,    70.95,3,    36.11,2,     0.00,2,    2.550,3, -999.000,9, -999.000,9,   -999.0,9,   -999.0,9,-999.0000,9,  -999.00, -999.000,9,  -999.00,9,  -999.00,9,   4.6728,2,  27.3394,2,   4.7471,2
49UP20180806_2,   P13,    95,  1,     12,     821,2,20180911,0136,0213, -2.4955, 165.0000, 2364,   1079.6,     1071,   4.2266,  34.5493,2,    106.8,2,  34.5496,2,   107.27,2,    84.54,3,    37.66,2,     0.00,2,    2.680,3, -999.000,9, -999.000,9,   -999.0,9,   -999.0,9,-999.0000,9,  -999.00, -999.000,9,  -999.00,9,  -999.00,9,   4.1423,2,  27.4127,2,   4.2267,2
49UP20180806_2,   P13,    95,  1,     11,     820,2,20180911,0136,0207, -2.4955, 165.0000, 2364,   1281.9,     1271,   3.7058,  34.5704,2,    100.9,2,  34.5704,2,   100.74,2,    98.95,3,    38.65,2,     0.00,2,    2.750,3, -999.000,9, -999.000,9,   -999.0,9,   -999.0,9,-999.0000,9,  -999.00, -999.000,9,  -999.00,9,  -999.00,9,   3.6089,2,  27.4841,2,   3.7050,2
49UP20180806_2,   P13,    95,  1,     10,     819,2,20180911,0136,0202, -2.4955, 165.0000, 2364,   1484.3,     1471,   3.2227,  34.5885,2,    108.3,2,  34.5879,2,   108.33,2,   109.36,3,    38.27,2,     0.00,2,    2.710,3, -999.000,9, -999.000,9,   -999.0,9,   -999.0,9,-999.0000,9,  -999.00, -999.000,9,  -999.00,9,  -999.00,9,   3.1136,2,  27.5461,2,   3.2230,2
49UP20180806_2,   P13,    95,  1,      9,     818,2,20180911,0136,0156, -2.4955, 165.0000, 2364,   1686.4,     1670,   2.8158,  34.6072,2,    110.9,2,  34.6061,4,   110.72,2,   119.74,3,    38.34,2,     0.00,2,    2.710,3, -999.000,9, -999.000,9,   -999.0,9,   -999.0,9,-999.0000,9,  -999.00, -999.000,9,  -999.00,9,  -999.00,9,   2.6944,2,  27.5989,2,   2.8158,2
49UP20180806_2,   P13,    95,  1,      8,     817,2,20180911,0136,0151, -2.4955, 165.0000, 2364,   1890.5,     1872,   2.5121,  34.6226,2,    115.2,2,  34.6226,2,   115.09,6,   127.01,3,    38.21,6,     0.00,6,    2.690,3, -999.000,9, -999.000,9,   -999.0,9,   -999.0,9,-999.0000,9,  -999.00, -999.000,9,  -999.00,9,  -999.00,9,   2.3774,2,  27.6385,2,   2.5115,2
49UP20180806_2,   P13,    95,  1,      7,     816,2,20180911,0136,0146, -2.4955, 165.0000, 2364,   2092.9,     2071,   2.2527,  34.6369,2,    118.5,2,  34.6378,2,   118.32,2,   133.86,3,    38.08,2,     0.00,2,    2.670,3, -999.000,9, -999.000,9,   -999.0,9,   -999.0,9,-999.0000,9,  -999.00, -999.000,9,  -999.00,9,  -999.00,9,   2.1044,2,  27.6724,2,   2.2524,2
49UP20180806_2,   P13,    95,  1,      3,     812,2,20180911,0136,0140, -2.4955, 165.0000, 2364,   2298.1,     2273,   2.0162,  34.6493,2,    125.1,2,  34.6504,2,   125.45,2,   138.78,3,    37.70,2,     0.00,2,    2.630,3, -999.000,9, -999.000,9,   -999.0,9,   -999.0,9,-999.0000,9,  -999.00, -999.000,9,  -999.00,9,  -999.00,9,   1.8538,2,  27.7022,2,   2.0163,2
49UP20180806_2,   P13,    95,  1,      1,     810,2,20180911,0136,0136, -2.4955, 165.0000, 2364,   2413.6,     2387,   1.9296,  34.6540,2,    127.8,2,  34.6545,2,   127.90,2,   140.13,3,    37.59,2,     0.00,2,    2.620,3, -999.000,9, -999.000,9,   -999.0,9,   -999.0,9,-999.0000,9,  -999.00, -999.000,9,  -999.00,9,  -999.00,9,   1.7584,2,  27.7133,2,   1.9290,2
49UP20180806_2,   P13,    95,  1,      2,     811,2,20180911,0136,0136, -2.4955, 165.0000, 2364,   2414.8,     2388,   1.9255,  34.6544,2,    127.8,2,  34.6539,2,   127.84,2,   140.74,3,    37.60,2,     0.00,2,    2.620,3, -999.000,9, -999.000,9,   -999.0,9,   -999.0,9,-999.0000,9,  -999.00, -999.000,9,  -999.00,9,  -999.00,9,   1.7543,2,  27.7138,2,   1.9248,2