BOTTLE,20191018JMAGEMD
EXPOCODE,SECT_ID,STNNBR,CASTNO,SAMPNO,BTLNBR,BTLNBR_FLAG_U,DATE,TIME,BTL_TIME,LATITUDE,LONGITUDE,DEPTH,CTDPRS,CTDDEP,CTDTMP,CTDSAL,CTDSAL_FLAG_W,CTDOXY,CTDOXY_FLAG_W,SALNTY,SALNTY_FLAG_W,OXYGEN,OXYGEN_FLAG_W,SILCAT,SILCAT_FLAG_W,NO2+NO3,NO2+NO3_FLAG_W,NITRIT,NITRIT_FLAG_W,PHSPHT,PHSPHT_FLAG_W,CFC-11,CFC-11_FLAG_W,CFC-12,CFC-12_FLAG_W,TCARBN,TCARBN_FLAG_W,ALKALI,ALKALI_FLAG_W,PH_TS,PH_TS_FLAG_W,PH_TS_TMP,CFC113,CFC113_FLAG_W,CHLORA,CHLORA_FLAG_W,PPHYTN,PPHYTN_FLAG_W,THETA,THETA_FLAG_W,SIGTHT,SIGTHT_FLAG_W,SBE35,SBE35_FLAG_W
,,,,,,,,UTC,,,,METER,DBAR,METERS,ITS-90,PSS-78,,UMOL/KG,,PSS78,,UMOL/KG,,UMOL/KG,,UMOL/KG,,UMOL/KG,,UMOL/KG,,PMOL/KG,,PMOL/KG,,UMOL/KG,,UMOL/KG,,,,ITS-90,PMOL/KG,,UG/KG,,UG/KG,,ITS-90,,KG/M3,,ITS-90,
49UP20180806_2,   P13,    91,  1,      0,      -9,0,20180909,1813,1955, -0.5110, 165.0067, 4432,      0.0,        0,  30.2523,  34.2773,2,    194.4,2,-999.0000,9,   193.10,2,     1.42,3,     0.00,2,     0.00,2,    0.110,3, -999.000,9, -999.000,9,   -999.0,9,   -999.0,9,-999.0000,9,  -999.00, -999.000,9,  -999.00,9,  -999.00,9,  30.2516,2,  21.0985,2,-999.0000,9
49UP20180806_2,   P13,    91,  1,     36,     845,2,20180909,1813,2020, -0.5110, 165.0067, 4432,     11.1,       11,  30.2534,  34.2770,2,    194.5,2,  34.2777,2,   193.27,2,     1.40,3,     0.03,2,     0.00,2,    0.080,3, -999.000,9, -999.000,9,   -999.0,9,   -999.0,9,-999.0000,9,  -999.00, -999.000,9,  -999.00,9,  -999.00,9,  30.2507,2,  21.0986,2,  30.2527,2
49UP20180806_2,   P13,    91,  1,     35,     844,2,20180909,1813,2019, -0.5110, 165.0067, 4432,     26.5,       26,  30.2665,  34.2802,2,    194.5,2,  34.2817,2,   193.20,2,     1.38,3,     0.00,2,     0.00,2,    0.080,3, -999.000,9, -999.000,9,   -999.0,9,   -999.0,9,-999.0000,9,  -999.00, -999.000,9,  -999.00,9,  -999.00,9,  30.2599,2,  21.0979,2,  30.2659,2
49UP20180806_2,   P13,    91,  1,     34,     843,2,20180909,1813,2015, -0.5110, 165.0067, 4432,     49.5,       49,  30.2852,  34.4131,2,    195.9,2,  34.4164,2,   194.85,2,     1.34,3,     0.03,2,     0.00,2,    0.090,3, -999.000,9, -999.000,9,   -999.0,9,   -999.0,9,-999.0000,9,  -999.00, -999.000,9,  -999.00,9,  -999.00,9,  30.2729,2,  21.1930,2,  30.2846,2
49UP20180806_2,   P13,    91,  1,     33,     842,2,20180909,1813,2013, -0.5110, 165.0067, 4432,     76.1,       76,  30.4657,  34.9066,2,    196.4,2,  34.9067,2,   195.64,2,     1.32,3,     0.00,2,     0.00,2,    0.130,3, -999.000,9, -999.000,9,   -999.0,9,   -999.0,9,-999.0000,9,  -999.00, -999.000,9,  -999.00,9,  -999.00,9,  30.4466,2,  21.5030,2,  30.4640,2
49UP20180806_2,   P13,    91,  1,     32,     841,2,20180909,1813,2012, -0.5110, 165.0067, 4432,    101.0,      100,  29.8682,  35.2595,2,    197.4,2,  35.2638,2,   196.69,2,     1.52,3,     0.34,2,     0.08,2,    0.220,3, -999.000,9, -999.000,9,   -999.0,9,   -999.0,9,-999.0000,9,  -999.00, -999.000,9,  -999.00,9,  -999.00,9,  29.8432,2,  21.9742,2,  29.8687,2
49UP20180806_2,   P13,    91,  1,     31,     840,2,20180909,1813,2010, -0.5110, 165.0067, 4432,    125.5,      125,  27.5265,  35.3845,2,    159.8,2,  35.3893,2,   161.48,2,     2.27,3,     5.36,2,     0.15,2,    0.530,3, -999.000,9, -999.000,9,   -999.0,9,   -999.0,9,-999.0000,9,  -999.00, -999.000,9,  -999.00,9,  -999.00,9,  27.4972,2,  22.8474,2,  27.5120,2
49UP20180806_2,   P13,    91,  1,     30,     839,2,20180909,1813,2009, -0.5110, 165.0067, 4432,    152.5,      152,  23.9951,  35.6277,2,    133.2,2,  35.6270,2,   132.78,6,     3.19,3,     9.09,6,     0.03,6,    0.780,3, -999.000,9, -999.000,9,   -999.0,9,   -999.0,9,-999.0000,9,  -999.00, -999.000,9,  -999.00,9,  -999.00,9,  23.9629,2,  24.1277,2,  24.0255,2
49UP20180806_2,   P13,    91,  1,     29,     838,2,20180909,1813,2007, -0.5110, 165.0067, 4432,    201.7,      200,  17.3657,  35.3828,2,    128.0,2,  35.3750,2,   127.37,2,     6.65,3,    14.11,2,     0.01,2,    1.120,3, -999.000,9, -999.000,9,   -999.0,9,   -999.0,9,-999.0000,9,  -999.00, -999.000,9,  -999.00,9,  -999.00,9,  17.3318,2,  25.7286,2,  17.3657,2
49UP20180806_2,   P13,    91,  1,     28,     837,2,20180909,1813,2005, -0.5110, 165.0067, 4432,    252.8,      251,  14.2339,  35.0518,2,    144.2,2,  35.0516,6,   144.48,2,    11.01,3,    16.63,2,     0.00,2,    1.230,3, -999.000,9, -999.000,9,   -999.0,9,   -999.0,9,-999.0000,9,  -999.00, -999.000,9,  -999.00,9,  -999.00,9,  14.1969,2,  26.1855,2,  14.2373,2
49UP20180806_2,   P13,    91,  1,     27,     661,2,20180909,1813,2003, -0.5110, 165.0067, 4432,    301.2,      299,  11.7015,  34.8319,2,    121.7,2,  34.8305,2,   121.13,2,    18.92,3,    22.94,2,     0.00,2,    1.630,3, -999.000,9, -999.000,9,   -999.0,9,   -999.0,9,-999.0000,9,  -999.00, -999.000,9,  -999.00,9,  -999.00,9,  11.6627,2,  26.5224,2,  11.7009,2
49UP20180806_2,   P13,    91,  1,     26,     835,2,20180909,1813,2001, -0.5110, 165.0067, 4432,    353.3,      351,  10.5760,  34.7541,2,     83.6,2,  34.7539,2,    82.58,2,    25.08,3,    28.77,2,     0.00,2,    2.010,3, -999.000,9, -999.000,9,   -999.0,9,   -999.0,9,-999.0000,9,  -999.00, -999.000,9,  -999.00,9,  -999.00,9,  10.5333,2,  26.6674,2,  10.5756,2
49UP20180806_2,   P13,    91,  1,     25,     834,2,20180909,1813,1959, -0.5110, 165.0067, 4432,    403.1,      400,   9.8565,  34.7086,2,     68.5,2,  34.7072,2,    68.42,2,    29.05,3,    31.63,2,     0.00,2,    2.200,3, -999.000,9, -999.000,9,   -999.0,9,   -999.0,9,-999.0000,9,  -999.00, -999.000,9,  -999.00,9,  -999.00,9,   9.8098,2,  26.7567,2,   9.8561,2
49UP20180806_2,   P13,    91,  1,     23,     832,2,20180909,1813,1957, -0.5110, 165.0067, 4432,    454.0,      451,   8.6136,  34.6265,2,    102.6,2,  34.6265,2,   102.23,2,    30.72,3,    30.68,2,     0.00,2,    2.130,3, -999.000,9, -999.000,9,   -999.0,9,   -999.0,9,-999.0000,9,  -999.00, -999.000,9,  -999.00,9,  -999.00,9,   8.5651,2,  26.8943,2,   8.6136,2
49UP20180806_2,   P13,    91,  1,     22,     831,2,20180909,1813,1955, -0.5110, 165.0067, 4432,    504.9,      502,   7.8324,  34.5889,2,    109.5,2,  34.5890,2,   109.04,2,    33.81,3,    31.71,2,     0.00,2,    2.200,3, -999.000,9, -999.000,9,   -999.0,9,   -999.0,9,-999.0000,9,  -999.00, -999.000,9,  -999.00,9,  -999.00,9,   7.7812,2,  26.9834,2,   7.8321,2
49UP20180806_2,   P13,    91,  1,     21,     830,2,20180909,1813,1952, -0.5110, 165.0067, 4432,    605.4,      601,   7.0205,  34.5646,2,     87.6,2,  34.5631,2,    86.97,6,    44.40,3,    35.54,6,     0.00,6,    2.490,3, -999.000,9, -999.000,9,   -999.0,9,   -999.0,9,-999.0000,9,  -999.00, -999.000,9,  -999.00,9,  -999.00,9,   6.9624,2,  27.0810,2,   7.0206,2
49UP20180806_2,   P13,    91,  1,     20,     829,2,20180909,1813,1949, -0.5110, 165.0067, 4432,    706.3,      701,   6.5135,  34.5500,2,     87.6,2,  34.5489,2,    88.60,2,    49.29,3,    36.41,2,     0.00,2,    2.550,3, -999.000,9, -999.000,9,   -999.0,9,   -999.0,9,-999.0000,9,  -999.00, -999.000,9,  -999.00,9,  -999.00,9,   6.4480,2,  27.1390,2,   6.5138,2
49UP20180806_2,   P13,    91,  1,     19,     828,2,20180909,1813,1946, -0.5110, 165.0067, 4432,    808.3,      802,   5.7112,  34.5354,2,     96.2,2,  34.5347,2,    96.98,2,    58.98,3,    36.81,2,     0.00,2,    2.590,3, -999.000,9, -999.000,9,   -999.0,9,   -999.0,9,-999.0000,9,  -999.00, -999.000,9,  -999.00,9,  -999.00,9,   5.6405,2,  27.2305,2,   5.7114,2
49UP20180806_2,   P13,    91,  1,     18,     660,2,20180909,1813,1943, -0.5110, 165.0067, 4432,    908.9,      902,   5.1170,  34.5374,2,     99.4,2,  34.5362,2,    98.77,2,    70.03,3,    37.25,2,     0.00,2,    2.630,3, -999.000,9, -999.000,9,   -999.0,9,   -999.0,9,-999.0000,9,  -999.00, -999.000,9,  -999.00,9,  -999.00,9,   5.0410,2,  27.3038,2,   5.1172,2
49UP20180806_2,   P13,    91,  1,     17,     826,2,20180909,1813,1940, -0.5110, 165.0067, 4432,   1009.5,     1002,   4.6093,  34.5467,2,     96.6,2,  34.5470,2,    96.33,2,    80.22,3,    38.13,2,     0.00,2,    2.690,3, -999.000,9, -999.000,9,   -999.0,9,   -999.0,9,-999.0000,9,  -999.00, -999.000,9,  -999.00,9,  -999.00,9,   4.5280,2,  27.3692,2,   4.6093,2
49UP20180806_2,   P13,    91,  1,     16,     825,2,20180909,1813,1933, -0.5110, 165.0067, 4432,   1211.3,     1201,   3.8126,  34.5721,2,     92.0,2,  34.5726,2,    91.73,2,   100.05,3,    39.21,2,     0.00,2,    2.780,3, -999.000,9, -999.000,9,   -999.0,9,   -999.0,9,-999.0000,9,  -999.00, -999.000,9,  -999.00,9,  -999.00,9,   3.7207,2,  27.4743,2,   3.8127,2
49UP20180806_2,   P13,    91,  1,     15,     824,2,20180909,1813,1928, -0.5110, 165.0067, 4432,   1413.6,     1401,   3.3272,  34.5893,2,     95.6,2,  34.5885,2,    95.28,2,   112.11,3,    39.34,2,     0.00,2,    2.790,3, -999.000,9, -999.000,9,   -999.0,9,   -999.0,9,-999.0000,9,  -999.00, -999.000,9,  -999.00,9,  -999.00,9,   3.2229,2,  27.5365,2,   3.3272,2
49UP20180806_2,   P13,    91,  1,     14,     823,2,20180909,1813,1923, -0.5110, 165.0067, 4432,   1615.8,     1601,   2.9555,  34.6037,2,    101.9,2,  34.6037,2,   101.66,2,   120.09,3,    39.02,2,     0.00,2,    2.750,3, -999.000,9, -999.000,9,   -999.0,9,   -999.0,9,-999.0000,9,  -999.00, -999.000,9,  -999.00,9,  -999.00,9,   2.8384,2,  27.5834,2,   2.9555,2
49UP20180806_2,   P13,    91,  1,     13,     822,2,20180909,1813,1917, -0.5110, 165.0067, 4432,   1819.7,     1802,   2.4842,  34.6248,2,    110.1,2,  34.6245,2,   109.85,2,   130.42,3,    38.53,2,     0.00,2,    2.710,3, -999.000,9, -999.000,9,   -999.0,9,   -999.0,9,-999.0000,9,  -999.00, -999.000,9,  -999.00,9,  -999.00,9,   2.3559,2,  27.6421,2,   2.4843,2
49UP20180806_2,   P13,    91,  1,     12,     821,2,20180909,1813,1912, -0.5110, 165.0067, 4432,   2022.2,     2001,   2.2073,  34.6391,2,    116.8,2,  34.6399,2,   116.59,6,   135.42,3,    38.12,6,     0.00,6,    2.670,3, -999.000,9, -999.000,9,   -999.0,9,   -999.0,9,-999.0000,9,  -999.00, -999.000,9,  -999.00,9,  -999.00,9,   2.0658,2,  27.6773,2,   2.2072,2
49UP20180806_2,   P13,    91,  1,     11,     820,2,20180909,1813,1908, -0.5110, 165.0067, 4432,   2224.8,     2201,   2.0584,  34.6470,2,    120.9,2,  34.6475,2,   120.83,2,   139.23,3,    37.88,2,     0.00,2,    2.650,3, -999.000,9, -999.000,9,   -999.0,9,   -999.0,9,-999.0000,9,  -999.00, -999.000,9,  -999.00,9,  -999.00,9,   1.9017,2,  27.6966,2,   2.0584,2
49UP20180806_2,   P13,    91,  1,     10,     819,2,20180909,1813,1901, -0.5110, 165.0067, 4432,   2428.2,     2401,   1.9701,  34.6524,2,    123.5,2,  34.6529,2,   123.28,2,   141.90,3,    37.80,2,     0.00,2,    2.640,3, -999.000,9, -999.000,9,   -999.0,9,   -999.0,9,-999.0000,9,  -999.00, -999.000,9,  -999.00,9,  -999.00,9,   1.7969,2,  27.7091,2,   1.9701,2
49UP20180806_2,   P13,    91,  1,      9,     818,2,20180909,1813,1857, -0.5110, 165.0067, 4432,   2632.0,     2601,   1.8615,  34.6589,2,    126.3,2,  34.6589,6,   126.18,2,   144.25,3,    37.73,2,     0.00,2,    2.620,3, -999.000,9, -999.000,9,   -999.0,9,   -999.0,9,-999.0000,9,  -999.00, -999.000,9,  -999.00,9,  -999.00,9,   1.6717,2,  27.7237,2,   1.8621,2
49UP20180806_2,   P13,    91,  1,      8,     817,2,20180909,1813,1852, -0.5110, 165.0067, 4432,   2835.1,     2801,   1.7774,  34.6635,2,    130.4,2,  34.6629,2,   129.94,2,   145.53,3,    37.40,2,     0.00,2,    2.600,3, -999.000,9, -999.000,9,   -999.0,9,   -999.0,9,-999.0000,9,  -999.00, -999.000,9,  -999.00,9,  -999.00,9,   1.5704,2,  27.7349,2,   1.7773,2
49UP20180806_2,   P13,    91,  1,      7,     816,2,20180909,1813,1847, -0.5110, 165.0067, 4432,   3040.0,     3002,   1.7078,  34.6675,2,    134.5,2,  34.6679,2,   133.94,2,   145.66,3,    37.11,2,     0.00,2,    2.570,3, -999.000,9, -999.000,9,   -999.0,9,   -999.0,9,-999.0000,9,  -999.00, -999.000,9,  -999.00,9,  -999.00,9,   1.4826,2,  27.7446,2,   1.7078,2
49UP20180806_2,   P13,    91,  1,      6,     815,2,20180909,1813,1841, -0.5110, 165.0067, 4432,   3293.7,     3250,   1.6022,  34.6743,2,    142.4,2,  34.6742,6,   142.56,2,   145.43,3,    36.65,2,     0.00,2,    2.530,3, -999.000,9, -999.000,9,   -999.0,9,   -999.0,9,-999.0000,9,  -999.00, -999.000,9,  -999.00,9,  -999.00,9,   1.3545,2,  27.7593,2,   1.6023,2
49UP20180806_2,   P13,    91,  1,      5,     814,2,20180909,1813,1835, -0.5110, 165.0067, 4432,   3550.3,     3501,   1.5325,  34.6801,2,    149.4,2,  34.6801,6,   148.88,2,   143.83,3,    36.09,2,     0.00,2,    2.490,3, -999.000,9, -999.000,9,   -999.0,9,   -999.0,9,-999.0000,9,  -999.00, -999.000,9,  -999.00,9,  -999.00,9,   1.2604,2,  27.7705,2,   1.5324,2
49UP20180806_2,   P13,    91,  1,      4,     813,2,20180909,1813,1829, -0.5110, 165.0067, 4432,   3805.3,     3751,   1.4851,  34.6853,2,    156.6,2,  34.6852,2,   157.06,2,   142.00,3,    35.65,2,     0.00,2,    2.450,3, -999.000,9, -999.000,9,   -999.0,9,   -999.0,9,-999.0000,9,  -999.00, -999.000,9,  -999.00,9,  -999.00,9,   1.1875,2,  27.7798,2,   1.4851,2
49UP20180806_2,   P13,    91,  1,      3,     812,2,20180909,1813,1823, -0.5110, 165.0067, 4432,   4061.9,     4001,   1.4476,  34.6897,2,    163.4,2,  34.6895,2,   163.72,6,   138.85,3,    35.11,6,     0.00,6,    2.420,3, -999.000,9, -999.000,9,   -999.0,9,   -999.0,9,-999.0000,9,  -999.00, -999.000,9,  -999.00,9,  -999.00,9,   1.1234,2,  27.7877,2,   1.4475,2
49UP20180806_2,   P13,    91,  1,      2,     811,2,20180909,1813,1817, -0.5110, 165.0067, 4432,   4319.4,     4252,   1.3684,  34.6965,2,    175.9,2,  34.6971,2,   176.30,2,   132.56,3,    34.22,2,     0.00,2,    2.350,3, -999.000,9, -999.000,9,   -999.0,9,   -999.0,9,-999.0000,9,  -999.00, -999.000,9,  -999.00,9,  -999.00,9,   1.0180,2,  27.8003,2,   1.3679,2
49UP20180806_2,   P13,    91,  1,      1,     810,2,20180909,1813,1813, -0.5110, 165.0067, 4432,   4492.0,     4421,   1.3540,  34.6987,2,    179.9,2,  34.6981,6,   179.92,2,   131.00,3,    33.90,2,     0.00,2,    2.330,3, -999.000,9, -999.000,9,   -999.0,9,   -999.0,9,-999.0000,9,  -999.00, -999.000,9,  -999.00,9,  -999.00,9,   0.9844,2,  27.8043,2,   1.3539,2