BOTTLE,20191018JMAGEMD
EXPOCODE,SECT_ID,STNNBR,CASTNO,SAMPNO,BTLNBR,BTLNBR_FLAG_U,DATE,TIME,BTL_TIME,LATITUDE,LONGITUDE,DEPTH,CTDPRS,CTDDEP,CTDTMP,CTDSAL,CTDSAL_FLAG_W,CTDOXY,CTDOXY_FLAG_W,SALNTY,SALNTY_FLAG_W,OXYGEN,OXYGEN_FLAG_W,SILCAT,SILCAT_FLAG_W,NO2+NO3,NO2+NO3_FLAG_W,NITRIT,NITRIT_FLAG_W,PHSPHT,PHSPHT_FLAG_W,CFC-11,CFC-11_FLAG_W,CFC-12,CFC-12_FLAG_W,TCARBN,TCARBN_FLAG_W,ALKALI,ALKALI_FLAG_W,PH_TS,PH_TS_FLAG_W,PH_TS_TMP,CFC113,CFC113_FLAG_W,CHLORA,CHLORA_FLAG_W,PPHYTN,PPHYTN_FLAG_W,THETA,THETA_FLAG_W,SIGTHT,SIGTHT_FLAG_W,SBE35,SBE35_FLAG_W
,,,,,,,,UTC,,,,METER,DBAR,METERS,ITS-90,PSS-78,,UMOL/KG,,PSS78,,UMOL/KG,,UMOL/KG,,UMOL/KG,,UMOL/KG,,UMOL/KG,,PMOL/KG,,PMOL/KG,,UMOL/KG,,UMOL/KG,,,,ITS-90,PMOL/KG,,UG/KG,,UG/KG,,ITS-90,,KG/M3,,ITS-90,
49UP20180614_2,   P13,    28,  1,      0,      -9,0,20180714,0751,0946, 41.0050, 164.9998, 5286,      0.0,        0,  14.4757,  33.0912,2,    281.9,2,  33.0256,2,   280.35,2,    13.93,3,     6.76,2,     0.11,2,    0.670,3, -999.000,9, -999.000,9,   2014.0,2,   2218.9,2,   7.9037,2,    25.00, -999.000,9,     0.99,2,     0.20,2,  14.4753,2,  24.6128,2,-999.0000,9
49UP20180614_2,   P13,    28,  1,     36,     845,2,20180714,0751,1013, 41.0050, 164.9998, 5286,     10.7,       11,  13.6347,  33.2845,2,    291.9,2,  33.2386,4,   289.33,2,    12.08,3,     6.05,2,     0.10,2,    0.580,3, -999.000,9, -999.000,9,   2018.8,2,   2231.2,2,   7.9145,2,    25.00, -999.000,9,     0.97,2,     0.21,2,  13.6332,2,  24.9370,2,  13.6461,2
49UP20180614_2,   P13,    28,  1,     35,     844,2,20180714,0751,1012, 41.0050, 164.9998, 5286,     25.1,       25,  11.1315,  33.3792,2,    296.1,2,  33.3756,2,   295.36,2,    13.89,3,     8.04,2,     0.10,2,    0.740,3, -999.000,9, -999.000,9,   2046.2,2,   2240.4,2,   7.8774,2,    25.00, -999.000,9,     1.12,2,     0.56,2,  11.1284,2,  25.4905,2,  11.1314,2
49UP20180614_2,   P13,    28,  1,     34,     843,2,20180714,0751,1007, 41.0050, 164.9998, 5286,     49.5,       49,  10.1816,  34.0939,2,    252.3,2,  34.0915,2,   253.10,2,    15.84,3,    12.00,2,     0.03,2,    0.880,3, -999.000,9, -999.000,9,   2092.9,2,   2267.1,2,   7.8164,2,    25.00, -999.000,9,     0.15,2,     0.13,2,  10.1759,2,  26.2144,2,  10.1821,2
49UP20180614_2,   P13,    28,  1,     33,     842,2,20180714,0751,1005, 41.0050, 164.9998, 5286,     76.0,       75,   9.5882,  34.0914,2,    254.0,2,  34.0923,2,   254.46,2,    18.60,3,    12.83,2,     0.02,2,    0.930,3, -999.000,9, -999.000,9,   2096.7,2,   2266.3,2,   7.7984,2,    25.00, -999.000,9,     0.03,2,     0.07,2,   9.5797,2,  26.3127,2,   9.5889,2
49UP20180614_2,   P13,    28,  1,     32,     841,2,20180714,0751,1003, 41.0050, 164.9998, 5286,    103.3,      102,   8.8884,  34.0115,2,    254.4,2,  34.0198,4,   254.45,2,    21.04,3,    13.97,2,     0.02,2,    1.040,3, -999.000,9, -999.000,9,   2105.4,2,   2266.1,2,   7.7805,2,    25.00, -999.000,9,     0.00,2,     0.09,2,   8.8775,2,  26.3634,2,   8.8892,2
49UP20180614_2,   P13,    28,  1,     31,     840,2,20180714,0751,1002, 41.0050, 164.9998, 5286,    128.1,      127,   8.2402,  33.9342,2,    257.0,2,  33.9343,2,   257.13,2,    22.20,3,    14.97,2,     0.02,2,    1.100,3, -999.000,9, -999.000,9,   2116.2,2,   2261.9,2,   7.7629,2,    25.00, -999.000,9,     0.01,2,     0.06,2,   8.2273,2,  26.4029,2,   8.2405,2
49UP20180614_2,   P13,    28,  1,     30,     839,2,20180714,0751,1000, 41.0050, 164.9998, 5286,    154.5,      153,   7.7415,  33.8810,2,    253.5,2,  33.8836,2,   254.80,6,    24.02,3,    15.92,6,     0.02,6,    1.170,3, -999.000,9, -999.000,9,   2118.2,2,   2260.7,2,   7.7480,2,    25.00, -999.000,9,     0.00,2,     0.07,2,   7.7264,2,  26.4350,2,   7.7420,2
49UP20180614_2,   P13,    28,  1,     29,     838,2,20180714,0751,0958, 41.0050, 164.9998, 5286,    203.4,      202,   6.8857,  33.8149,2,    237.0,2,  33.8157,2,   236.97,2,    31.51,3,    19.31,2,     0.02,2,    1.420,3, -999.000,9, -999.000,9,   2139.0,2,   2263.9,2,   7.6940,2,    25.00, -999.000,9,     0.00,2,     0.05,2,   6.8672,2,  26.5033,2,   6.8860,2
49UP20180614_2,   P13,    28,  1,     28,     837,2,20180714,0751,0956, 41.0050, 164.9998, 5286,    254.3,      252,   6.1635,  33.8172,2,    193.3,2,  33.8148,2,   194.12,2,    44.09,3,    24.56,2,     0.02,2,    1.800,3, -999.000,9, -999.000,9,   2175.8,2,   2271.9,2,   7.6116,2,    25.00, -999.000,9,  -999.00,9,  -999.00,9,   6.1416,2,  26.6002,2,   6.1637,2
49UP20180614_2,   P13,    28,  1,     27,     661,2,20180714,0751,0954, 41.0050, 164.9998, 5286,    305.4,      303,   5.3889,  33.8289,2,    162.0,2,  33.8281,2,   161.94,2,    56.92,3,    28.97,2,     0.01,2,    2.100,3, -999.000,9, -999.000,9,   2215.3,2,   2281.1,2,   7.5341,2,    25.00, -999.000,9,  -999.00,9,  -999.00,9,   5.3644,2,  26.7046,2,   5.3890,2
49UP20180614_2,   P13,    28,  1,     26,     835,2,20180714,0751,0951, 41.0050, 164.9998, 5286,    404.0,      400,   4.6857,  33.9016,2,    115.4,2,  33.8998,2,   115.40,2,    74.48,3,    34.46,2,     0.00,2,    2.480,3, -999.000,9, -999.000,9,   2256.4,2,   2294.6,2,   7.4407,2,    25.00, -999.000,9,  -999.00,9,  -999.00,9,   4.6552,2,  26.8430,2,   4.6862,2
49UP20180614_2,   P13,    28,  1,     25,     834,2,20180714,0751,0948, 41.0050, 164.9998, 5286,    506.9,      502,   4.0794,  34.0109,2,     66.2,2,  34.0094,2,    67.06,2,    95.69,3,    39.81,2,     0.00,2,    2.830,3, -999.000,9, -999.000,9,   2303.7,2,   2314.1,2,   7.3484,2,    25.00, -999.000,9,  -999.00,9,  -999.00,9,   4.0431,2,  26.9950,2,   4.0797,2
49UP20180614_2,   P13,    28,  1,     24,     833,2,20180714,0751,0945, 41.0050, 164.9998, 5286,    607.5,      602,   4.2252,  34.1730,2,     57.9,2,  34.1722,2,    57.79,2,   104.18,3,    39.79,2,     0.00,2,    2.830,3, -999.000,9, -999.000,9,   2314.9,2,   2331.4,2,   7.3746,3,    25.00, -999.000,9,  -999.00,9,  -999.00,9,   4.1803,2,  27.1096,2,   4.2253,2
49UP20180614_2,   P13,    28,  1,     23,     832,2,20180714,0751,0942, 41.0050, 164.9998, 5286,    708.8,      702,   3.6667,  34.2169,2,     39.9,2,  34.2161,2,    39.74,2,   119.47,3,    41.95,2,     0.00,2,    2.980,3, -999.000,9, -999.000,9,   2339.7,2,   2344.6,2,   7.3342,2,    25.00, -999.000,9,  -999.00,9,  -999.00,9,   3.6168,2,  27.2017,2,   3.6668,2
49UP20180614_2,   P13,    28,  1,     22,     831,3,20180714,0751,0939, 41.0050, 164.9998, 5286,    808.6,      801,   3.4094,  34.2834,2,     35.9,2,  34.2814,2,    35.65,2,   128.33,3,    42.45,2,     0.00,2,    3.010,3, -999.000,9, -999.000,9,   2351.0,2,   2356.2,2,   7.3385,2,    25.00, -999.000,9,  -999.00,9,  -999.00,9,   3.3534,2,  27.2801,2,   3.4095,2
49UP20180614_2,   P13,    28,  1,     21,     830,2,20180714,0751,0936, 41.0050, 164.9998, 5286,    910.8,      902,   3.2095,  34.3326,2,     34.1,2,  34.3321,2,    34.04,6,   135.30,3,    42.83,6,     0.00,6,    3.020,3, -999.000,9, -999.000,9,   2360.1,2,   2364.7,2,   7.3399,2,    25.00, -999.000,9,  -999.00,9,  -999.00,9,   3.1471,2,  27.3388,2,   3.2096,2
49UP20180614_2,   P13,    28,  1,     20,     829,2,20180714,0751,0933, 41.0050, 164.9998, 5286,   1011.3,     1001,   3.0428,  34.3768,2,     34.7,2,  34.3767,2,    35.13,2,   139.89,3,    42.93,2,     0.00,2,    3.010,3, -999.000,9, -999.000,9,   2365.8,6,   2375.0,6,   7.3434,2,    25.00, -999.000,9,  -999.00,9,  -999.00,9,   2.9739,2,  27.3900,2,   3.0429,2
49UP20180614_2,   P13,    28,  1,     19,     828,2,20180714,0751,0928, 41.0050, 164.9998, 5286,   1213.9,     1201,   2.6889,  34.4445,2,     34.6,2,  34.4444,6,    34.78,2,   150.97,3,    43.11,2,     0.00,2,    3.030,3, -999.000,9, -999.000,9,   2376.1,2,   2389.2,2,   7.3526,6,    25.00, -999.000,9,  -999.00,9,  -999.00,9,   2.6075,2,  27.4765,2,   2.6889,2
49UP20180614_2,   P13,    28,  1,     18,     827,2,20180714,0751,0923, 41.0050, 164.9998, 5286,   1417.0,     1401,   2.3842,  34.4889,2,     39.7,2,  34.4889,2,    40.25,2,   160.35,3,    43.06,2,     0.00,2,    3.020,3, -999.000,9, -999.000,9,   2382.9,2,   2396.5,2,   7.3648,2,    25.00, -999.000,9,  -999.00,9,  -999.00,9,   2.2901,2,  27.5388,2,   2.3842,2
49UP20180614_2,   P13,    28,  1,     17,     826,3,20180714,0751,0918, 41.0050, 164.9998, 5286,   1619.4,     1601,   2.2180,  34.5304,2,     47.6,2,  34.5294,2,    47.74,2,   163.64,3,    42.76,2,     0.00,2,    2.990,3, -999.000,9, -999.000,9,   2380.8,2,   2403.6,2,   7.3827,6,    25.00, -999.000,9,  -999.00,9,  -999.00,9,   2.1100,2,  27.5867,2,   2.2184,2
49UP20180614_2,   P13,    28,  1,     16,     825,2,20180714,0751,0914, 41.0050, 164.9998, 5286,   1821.8,     1800,   2.0608,  34.5637,2,     57.8,2,  34.5629,2,    58.08,2,   166.56,3,    42.10,2,     0.00,2,    2.940,3, -999.000,9, -999.000,9,   2379.8,2,   2407.4,2,   7.4035,2,    25.00, -999.000,9,  -999.00,9,  -999.00,9,   1.9384,2,  27.6269,2,   2.0608,2
49UP20180614_2,   P13,    28,  1,     15,     824,2,20180714,0751,0908, 41.0050, 164.9998, 5286,   2028.1,     2003,   1.9194,  34.5919,2,     70.5,2,  34.5910,2,    70.26,2,   167.75,3,    41.33,2,     0.00,2,    2.890,3, -999.000,9, -999.000,9,   2376.3,2,   2411.5,2,   7.4316,2,    25.00, -999.000,9,  -999.00,9,  -999.00,9,   1.7820,2,  27.6617,2,   1.9197,2
49UP20180614_2,   P13,    28,  1,     14,     823,2,20180714,0751,0903, 41.0050, 164.9998, 5286,   2230.4,     2201,   1.8074,  34.6134,2,     83.5,2,  34.6137,2,    83.43,2,   167.54,3,    40.63,2,     0.00,2,    2.830,3, -999.000,9, -999.000,9,   2367.5,2,   2416.8,2,   7.4599,2,    25.00, -999.000,9,  -999.00,9,  -999.00,9,   1.6545,2,  27.6885,2,   1.8073,2
49UP20180614_2,   P13,    28,  1,     13,     822,2,20180714,0751,0859, 41.0050, 164.9998, 5286,   2433.4,     2401,   1.7133,  34.6311,2,     96.6,2,  34.6312,6,    96.87,2,   165.90,3,    39.77,2,     0.00,2,    2.780,3, -999.000,9, -999.000,9,   2362.2,2,   2417.5,2,   7.4840,2,    25.00, -999.000,9,  -999.00,9,  -999.00,9,   1.5444,2,  27.7109,2,   1.7133,2
49UP20180614_2,   P13,    28,  1,     12,     821,2,20180714,0751,0854, 41.0050, 164.9998, 5286,   2636.0,     2599,   1.6509,  34.6419,2,    106.0,2,  34.6415,2,   106.13,6,   164.36,3,    39.22,6,     0.00,6,    2.730,3, -999.000,9, -999.000,9,   2353.9,2,   2417.7,2,   7.5012,2,    25.00, -999.000,9,  -999.00,9,  -999.00,9,   1.4649,2,  27.7253,2,   1.6509,2
49UP20180614_2,   P13,    28,  1,     11,     820,2,20180714,0751,0849, 41.0050, 164.9998, 5286,   2840.9,     2800,   1.5977,  34.6519,2,    115.3,2,  34.6506,2,   115.02,2,   161.46,3,    38.52,2,     0.00,2,    2.670,3, -999.000,9, -999.000,9,   2347.8,2,   2416.9,2,   7.5197,2,    25.00, -999.000,9,  -999.00,9,  -999.00,9,   1.3939,2,  27.7385,2,   1.5977,2
49UP20180614_2,   P13,    28,  1,     10,     819,2,20180714,0751,0844, 41.0050, 164.9998, 5286,   3045.1,     3000,   1.5592,  34.6597,2,    123.2,2,  34.6597,2,   122.93,2,   159.60,3,    38.12,2,     0.00,2,    2.620,3, -999.000,9, -999.000,9,   2344.2,6,   2418.0,6,   7.5343,2,    25.00, -999.000,9,  -999.00,9,  -999.00,9,   1.3368,2,  27.7488,2,   1.5592,2
49UP20180614_2,   P13,    28,  1,      9,     818,2,20180714,0751,0839, 41.0050, 164.9998, 5286,   3301.7,     3251,   1.5162,  34.6684,2,    132.4,2,  34.6674,2,   134.54,3,   157.82,3,    37.46,2,     0.00,2,    2.590,3, -999.000,9, -999.000,9,   2335.8,2,   2418.1,2,   7.5490,2,    25.00, -999.000,9,  -999.00,9,  -999.00,9,   1.2697,2,  27.7605,2,   1.5163,2
49UP20180614_2,   P13,    28,  1,      8,     817,2,20180714,0751,0833, 41.0050, 164.9998, 5286,   3557.5,     3500,   1.4903,  34.6743,2,    139.2,2,  34.6740,2,   139.16,2,   156.17,3,    37.02,2,     0.00,2,    2.550,3, -999.000,9, -999.000,9,   2332.1,2,   2419.1,2,   7.5631,2,    25.00, -999.000,9,  -999.00,9,  -999.00,9,   1.2186,2,  27.7688,2,   1.4904,2
49UP20180614_2,   P13,    28,  1,      7,     816,2,20180714,0751,0827, 41.0050, 164.9998, 5286,   3812.5,     3749,   1.4753,  34.6789,2,    144.8,2,  34.6782,2,   144.46,2,   154.72,3,    36.70,2,     0.00,2,    2.530,3, -999.000,9, -999.000,9,   2333.1,2,   2418.7,2,   7.5714,2,    25.00, -999.000,9,  -999.00,9,  -999.00,9,   1.1773,2,  27.7753,2,   1.4755,2
49UP20180614_2,   P13,    28,  1,      6,     815,2,20180714,0751,0822, 41.0050, 164.9998, 5286,   4071.0,     4001,   1.4697,  34.6824,2,    149.1,2,  34.6823,6,   148.94,2,   153.54,3,    36.35,2,     0.00,2,    2.490,3, -999.000,9, -999.000,9,   2328.2,2,   2418.7,2,   7.5810,2,    25.00, -999.000,9,  -999.00,9,  -999.00,9,   1.1440,2,  27.7805,2,   1.4699,2
49UP20180614_2,   P13,    28,  1,      5,     814,2,20180714,0751,0816, 41.0050, 164.9998, 5286,   4328.0,     4251,   1.4738,  34.6851,2,    152.3,2,  34.6862,2,   152.27,2,   153.11,3,    36.11,2,     0.00,2,    2.480,3, -999.000,9, -999.000,9,   2325.0,6,   2417.7,6,   7.5834,2,    25.00, -999.000,9,  -999.00,9,  -999.00,9,   1.1193,2,  27.7843,2,   1.4738,2
49UP20180614_2,   P13,    28,  1,      4,     813,2,20180714,0751,0810, 41.0050, 164.9998, 5286,   4584.7,     4501,   1.4856,  34.6871,2,    154.8,2,  34.6872,2,   154.76,2,   152.75,3,    36.01,2,     0.00,2,    2.460,3, -999.000,9, -999.000,9,   2320.0,2,   2418.1,2,   7.5875,6,    25.00, -999.000,9,  -999.00,9,  -999.00,9,   1.1013,2,  27.7871,2,   1.4856,2
49UP20180614_2,   P13,    28,  1,      3,     812,2,20180714,0751,0804, 41.0050, 164.9998, 5286,   4841.3,     4750,   1.5053,  34.6883,2,    156.2,2,  34.6882,2,   156.39,6,   152.66,3,    35.84,6,     0.00,6,    2.460,3, -999.000,9, -999.000,9,   2320.1,2,   2417.1,2,   7.5938,2,    25.00, -999.000,9,  -999.00,9,  -999.00,9,   1.0901,2,  27.7888,2,   1.5053,2
49UP20180614_2,   P13,    28,  1,      2,     811,2,20180714,0751,0758, 41.0050, 164.9998, 5286,   5099.9,     5001,   1.5303,  34.6891,2,    157.0,2,  34.6892,2,   157.23,2,   152.68,3,    35.69,2,     0.00,2,    2.460,3, -999.000,9, -999.000,9,   2325.9,2,   2416.0,2,   7.5948,2,    25.00, -999.000,9,  -999.00,9,  -999.00,9,   1.0828,2,  27.7900,2,   1.5303,2
49UP20180614_2,   P13,    28,  1,      1,     810,2,20180714,0751,0752, 41.0050, 164.9998, 5286,   5388.0,     5280,   1.5618,  34.6898,2,    157.8,2,  34.6918,4,   157.85,2,   153.33,3,    35.70,2,     0.00,2,    2.450,3, -999.000,9, -999.000,9,   2326.3,2,   2416.6,2,   7.5985,2,    25.00, -999.000,9,  -999.00,9,  -999.00,9,   1.0773,2,  27.7909,2,   1.5619,2