BOTTLE,20191018JMAGEMD
EXPOCODE,SECT_ID,STNNBR,CASTNO,SAMPNO,BTLNBR,BTLNBR_FLAG_U,DATE,TIME,BTL_TIME,LATITUDE,LONGITUDE,DEPTH,CTDPRS,CTDDEP,CTDTMP,CTDSAL,CTDSAL_FLAG_W,CTDOXY,CTDOXY_FLAG_W,SALNTY,SALNTY_FLAG_W,OXYGEN,OXYGEN_FLAG_W,SILCAT,SILCAT_FLAG_W,NO2+NO3,NO2+NO3_FLAG_W,NITRIT,NITRIT_FLAG_W,PHSPHT,PHSPHT_FLAG_W,CFC-11,CFC-11_FLAG_W,CFC-12,CFC-12_FLAG_W,TCARBN,TCARBN_FLAG_W,ALKALI,ALKALI_FLAG_W,PH_TS,PH_TS_FLAG_W,PH_TS_TMP,CFC113,CFC113_FLAG_W,CHLORA,CHLORA_FLAG_W,PPHYTN,PPHYTN_FLAG_W,THETA,THETA_FLAG_W,SIGTHT,SIGTHT_FLAG_W,SBE35,SBE35_FLAG_W
,,,,,,,,UTC,,,,METER,DBAR,METERS,ITS-90,PSS-78,,UMOL/KG,,PSS78,,UMOL/KG,,UMOL/KG,,UMOL/KG,,UMOL/KG,,UMOL/KG,,PMOL/KG,,PMOL/KG,,UMOL/KG,,UMOL/KG,,,,ITS-90,PMOL/KG,,UG/KG,,UG/KG,,ITS-90,,KG/M3,,ITS-90,
49UP20180806_1,   P13,    43,  1,      0,      -9,0,20180813,2136,2335, 31.0107, 164.9990, 5998,      0.0,        0,  27.3014,  34.9475,2,    204.2,2,  34.9582,2,   204.16,2,     1.66,3,     0.00,2,     0.00,2,    0.020,3, -999.000,9, -999.000,9,   2000.7,2,   2297.5,2,   8.0431,2,    25.00, -999.000,9,     0.07,2,     0.00,2,  27.3008,2,  22.5818,2,-999.0000,9
49UP20180806_1,   P13,    43,  1,     36,     845,2,20180813,2136,0009, 31.0107, 164.9990, 5998,     11.5,       11,  26.8200,  34.9180,2,    205.4,2,  34.9196,2,   206.10,6,     1.66,3,     0.00,6,     0.00,6,    0.000,3,    1.702,2,    0.959,2,   2007.0,3,   2293.3,2,   8.0421,2,    25.00,    0.147,2,     0.04,2,     0.01,2,  26.8174,2,  22.7141,2,  26.8216,2
49UP20180806_1,   P13,    43,  1,     35,     844,2,20180813,2136,0004, 31.0107, 164.9990, 5998,     51.1,       51,  20.9145,  34.9774,2,    247.6,2,  34.9737,2,   245.58,2,     2.00,3,     0.00,2,     0.00,2,    0.000,3,    2.292,2,    1.244,2,   2002.9,6,   2298.2,6,   8.0343,2,    25.00,    0.182,2,     0.07,2,     0.02,2,  20.9048,2,  24.5026,2,  20.9036,2
49UP20180806_1,   P13,    43,  1,     34,     843,2,20180813,2136,0002, 31.0107, 164.9990, 5998,    103.9,      103,  17.9953,  34.8354,2,    233.7,2,  34.8356,2,   232.89,2,     2.34,3,     0.00,2,     0.00,2,    0.040,3,    2.370,2,    1.293,2,   2029.6,2,   2290.3,2,   7.9945,2,    25.00,    0.192,2,     0.14,2,     0.18,2,  17.9775,2,  25.1515,2,  17.9950,2
49UP20180806_1,   P13,    43,  1,     33,     842,2,20180813,2136,0000, 31.0107, 164.9990, 5998,    151.7,      151,  17.4585,  34.8005,2,    223.8,2,  34.7980,2,   222.97,2,     3.02,3,     2.22,2,     0.02,2,    0.160,3,    2.402,2,    1.327,2,   2040.1,2,   2289.5,2,   7.9705,2,    25.00,    0.177,2,     0.06,2,     0.09,2,  17.4331,2,  25.2574,2,  17.4582,2
49UP20180806_1,   P13,    43,  1,     32,     841,2,20180813,2136,2358, 31.0107, 164.9990, 5998,    204.7,      203,  17.1080,  34.7794,2,    218.9,2,  34.7785,2,   218.53,2,     3.95,3,     3.49,2,     0.01,2,    0.240,3,    2.419,2,    1.326,2,   2040.4,2,   2286.2,2,   7.9604,2,    25.00,    0.132,2,     0.02,2,     0.02,2,  17.0741,2,  25.3273,2,  17.1085,2
49UP20180806_1,   P13,    43,  1,     31,     840,2,20180813,2136,2356, 31.0107, 164.9990, 5998,    252.6,      251,  16.4187,  34.7111,2,    219.5,2,  34.7104,2,   218.98,2,     4.83,3,     4.47,2,     0.01,2,    0.310,3,    2.502,2,    1.373,2,   2046.8,2,   2284.0,2,   7.9437,2,    25.00,    0.097,2,  -999.00,9,  -999.00,9,  16.3780,2,  25.4384,2,  16.4186,2
49UP20180806_1,   P13,    43,  1,     30,     839,2,20180813,2136,2353, 31.0107, 164.9990, 5998,    332.8,      330,  15.1379,  34.5900,2,    211.2,2,  34.5893,2,   210.99,2,     8.34,3,     7.32,3,     0.00,2,    0.510,3,    2.623,2,    1.421,2,   2069.6,2,   2278.9,2,   7.8979,2,    25.00,    0.074,2,  -999.00,9,  -999.00,9,  15.0872,2,  25.6367,2,  15.1394,2
49UP20180806_1,   P13,    43,  1,     29,     838,2,20180813,2136,2350, 31.0107, 164.9990, 5998,    434.6,      431,  13.1851,  34.4274,2,    208.9,2,  34.4261,2,   208.58,2,    13.55,3,    10.44,2,     0.00,2,    0.740,3,    2.801,2,    1.528,2,   2092.6,2,   2273.3,2,   7.8451,2,    25.00,    0.111,2,  -999.00,9,  -999.00,9,  13.1246,2,  25.9243,2,  13.1864,2
49UP20180806_1,   P13,    43,  1,     28,     837,2,20180813,2136,2347, 31.0107, 164.9990, 5998,    536.8,      532,  11.3931,  34.2907,2,    204.4,2,  34.2904,2,   204.68,2,    19.60,3,    14.02,2,     0.00,2,    0.990,3,    2.969,2,    1.583,2,   2115.5,2,   2274.8,2,   7.7886,2,    25.00,    0.115,2,  -999.00,9,  -999.00,9,  11.3249,2,  26.1641,2,  11.3915,2
49UP20180806_1,   P13,    43,  1,     27,     661,2,20180813,2136,2344, 31.0107, 164.9990, 5998,    634.9,      630,   9.2452,  34.1070,2,    195.7,2,  34.1053,2,   194.74,6,    28.64,3,    18.75,6,     0.00,6,    1.340,3,    3.154,2,    1.646,2,   2145.6,2,   2273.4,2,   7.7105,2,    25.00,    0.147,2,  -999.00,9,  -999.00,9,   9.1742,2,  26.3910,2,   9.2493,2
49UP20180806_1,   P13,    43,  1,     26,     835,2,20180813,2136,2342, 31.0107, 164.9990, 5998,    739.4,      733,   6.7302,  34.0168,2,    142.5,2,  34.0196,2,   141.90,2,    53.57,3,    27.91,2,     0.00,2,    2.030,3,    2.682,2,    1.292,2,   2209.9,2,   2286.4,2,   7.5651,2,    25.00,    0.121,2,  -999.00,9,  -999.00,9,   6.6609,2,  26.6901,2,   6.7275,2
49UP20180806_1,   P13,    43,  1,     25,     834,2,20180813,2136,2339, 31.0107, 164.9990, 5998,    838.3,      831,   5.2546,  34.0579,2,     94.5,2,  34.0591,2,    93.88,2,    78.80,3,    35.16,2,     0.00,2,    2.540,3,    1.884,2,    0.873,2,   2274.6,2,   2309.6,2,   7.4499,2,    25.00,    0.090,2,  -999.00,9,  -999.00,9,   5.1847,2,  26.9070,2,   5.2547,2
49UP20180806_1,   P13,    43,  1,     24,     833,4,20180813,2136,2336, 31.0107, 164.9990, 5998,    939.4,      931,   4.5070,  34.1432,2,     63.1,2,-999.0000,9,  -999.00,9,  -999.00,9,  -999.00,9,  -999.00,9, -999.000,9, -999.000,9, -999.000,9,   -999.0,9,   -999.0,9,-999.0000,9,  -999.00, -999.000,9,  -999.00,9,  -999.00,9,   4.4333,2,  27.0590,2,   4.5073,2
49UP20180806_1,   P13,    43,  1,     23,     832,2,20180813,2136,2331, 31.0107, 164.9990, 5998,   1082.0,     1072,   3.7776,  34.2597,2,     37.2,2,  34.2603,2,    37.22,2,   118.82,3,    41.94,2,     0.00,2,    3.000,3,    0.496,6,    0.222,6,   2352.4,2,   2352.2,2,   7.3514,2,    25.00,    0.024,6,  -999.00,9,  -999.00,9,   3.6974,2,  27.2278,2,   3.7778,2
49UP20180806_1,   P13,    43,  1,     22,     831,2,20180813,2136,2326, 31.0107, 164.9990, 5998,   1284.2,     1271,   3.1319,  34.3959,2,     30.8,2,  34.3968,2,    29.99,2,   138.25,3,    43.06,2,     0.00,2,    3.080,3,    0.127,2,    0.050,2,   2370.3,2,   2377.9,2,   7.3507,2,    25.00,    0.013,2,  -999.00,9,  -999.00,9,   3.0408,2,  27.3991,2,   3.1318,2
49UP20180806_1,   P13,    43,  1,     21,     830,2,20180813,2136,2322, 31.0107, 164.9990, 5998,   1485.3,     1470,   2.7524,  34.4709,2,     33.4,2,  34.4703,2,    33.20,2,   148.58,3,    43.25,2,     0.00,2,    3.080,3,    0.034,2,    0.013,2,   2384.4,6,   2393.9,6,   7.3636,2,    25.00,    0.003,2,  -999.00,9,  -999.00,9,   2.6488,2,  27.4940,2,   2.7523,2
49UP20180806_1,   P13,    43,  1,     20,     829,3,20180813,2136,2317, 31.0107, 164.9990, 5998,   1688.0,     1670,   2.3621,  34.5275,2,     46.4,2,  34.5275,2,    46.10,2,   158.76,3,    42.65,2,     0.00,2,    3.020,3,    0.015,2,    0.007,2,   2382.5,2,   2403.5,2,   7.3846,6,    25.00,    0.000,2,  -999.00,9,  -999.00,9,   2.2467,2,  27.5732,2,   2.3620,2
49UP20180806_1,   P13,    43,  1,     19,     828,2,20180813,2136,2312, 31.0107, 164.9990, 5998,   1892.3,     1871,   2.1285,  34.5690,2,     61.1,2,  34.5688,6,    61.02,2,   162.23,3,    41.74,2,     0.00,2,    2.950,3,    0.005,2,    0.001,2,   2376.9,2,   2411.5,2,   7.4174,2,    25.00,    0.002,2,  -999.00,9,  -999.00,9,   1.9994,2,  27.6264,2,   2.1286,2
49UP20180806_1,   P13,    43,  1,     18,     827,2,20180813,2136,2307, 31.0107, 164.9990, 5998,   2096.2,     2071,   1.9471,  34.5980,2,     76.5,2,  34.5983,2,    76.74,6,   164.53,3,    40.78,6,     0.00,6,    2.880,3,   -0.000,2,    0.000,2,   2369.6,2,   2417.0,2,   7.4464,2,    25.00,    0.004,2,  -999.00,9,  -999.00,9,   1.8035,2,  27.6649,2,   1.9473,2
49UP20180806_1,   P13,    43,  1,     17,     826,2,20180813,2136,2301, 31.0107, 164.9990, 5998,   2299.4,     2271,   1.8206,  34.6190,2,     91.0,2,  34.5986,4,    90.79,2,   163.85,4,    40.79,4,     0.00,4,    2.880,4,    0.000,2,    0.001,2,   2373.7,3,   2416.8,3,   7.4488,3,    25.00,    0.008,2,  -999.00,9,  -999.00,9,   1.6616,2,  27.6924,2,   1.8205,2
49UP20180806_1,   P13,    43,  1,     16,     825,2,20180813,2136,2257, 31.0107, 164.9990, 5998,   2503.5,     2472,   1.7253,  34.6346,2,    103.2,2,  34.6355,2,   103.72,2,   161.85,3,    39.12,2,     0.00,2,    2.750,3,    0.006,6,    0.001,6,   2361.8,2,   2421.2,2,   7.4982,2,    25.00,    0.005,6,  -999.00,9,  -999.00,9,   1.5499,2,  27.7133,2,   1.7251,2
49UP20180806_1,   P13,    43,  1,     15,     824,2,20180813,2136,2252, 31.0107, 164.9990, 5998,   2706.2,     2670,   1.6530,  34.6470,2,    114.3,2,  34.6469,6,   114.66,2,   159.09,3,    38.37,2,     0.00,2,    2.690,3,    0.000,2,    0.002,2,   2354.7,2,   2418.9,2,   7.5170,2,    25.00,    0.001,2,  -999.00,9,  -999.00,9,   1.4606,2,  27.7298,2,   1.6530,2
49UP20180806_1,   P13,    43,  1,     14,     823,2,20180813,2136,2247, 31.0107, 164.9990, 5998,   2909.1,     2869,   1.5952,  34.6560,2,    121.9,2,  34.6567,2,   122.26,2,   158.15,3,    37.82,2,     0.00,2,    2.650,3,    0.000,2,    0.000,2,   2350.9,2,   2421.4,2,   7.5312,2,    25.00,   -0.000,2,  -999.00,9,  -999.00,9,   1.3850,2,  27.7424,2,   1.5952,2
49UP20180806_1,   P13,    43,  1,     13,     822,2,20180813,2136,2242, 31.0107, 164.9990, 5998,   3124.7,     3080,   1.5581,  34.6635,2,    129.8,2,  34.6633,2,   130.14,2,   155.81,3,    37.39,2,     0.00,2,    2.610,3, -999.000,9, -999.000,9,   2346.1,2,   2422.8,2,   7.5457,2,    25.00, -999.000,9,  -999.00,9,  -999.00,9,   1.3281,2,  27.7525,2,   1.5581,2
49UP20180806_1,   P13,    43,  1,     12,     821,2,20180813,2136,2236, 31.0107, 164.9990, 5998,   3380.3,     3330,   1.5226,  34.6696,2,    135.7,2,  34.6697,2,   136.12,2,   154.67,3,    36.89,2,     0.00,2,    2.570,3, -999.000,9, -999.000,9,   2335.7,2,   2421.9,2,   7.5580,2,    25.00, -999.000,9,  -999.00,9,  -999.00,9,   1.2681,2,  27.7616,2,   1.5226,2
49UP20180806_1,   P13,    43,  1,     11,     820,2,20180813,2136,2231, 31.0107, 164.9990, 5998,   3635.9,     3580,   1.5005,  34.6747,2,    141.5,2,  34.6742,6,   141.57,2,   153.48,3,    36.58,2,     0.00,2,    2.550,3, -999.000,9, -999.000,9,   2333.1,2,   2420.3,2,   7.5670,2,    25.00, -999.000,9,  -999.00,9,  -999.00,9,   1.2204,2,  27.7690,2,   1.5005,2
49UP20180806_1,   P13,    43,  1,     10,     819,2,20180813,2136,2225, 31.0107, 164.9990, 5998,   3892.7,     3831,   1.4872,  34.6789,2,    146.5,2,  34.6792,2,   146.65,6,   152.35,3,    36.19,6,     0.00,6,    2.530,3,    0.000,2,    0.001,2,   2331.5,2,   2421.1,2,   7.5754,2,    25.00,    0.004,2,  -999.00,9,  -999.00,9,   1.1802,2,  27.7752,2,   1.4872,2
49UP20180806_1,   P13,    43,  1,      9,     818,2,20180813,2136,2219, 31.0107, 164.9990, 5998,   4148.5,     4080,   1.4822,  34.6821,2,    150.7,2,  34.6823,2,   150.53,2,   151.19,3,    35.96,2,     0.00,2,    2.500,3, -999.000,9, -999.000,9,   2325.3,6,   2418.5,6,   7.5798,2,    25.00, -999.000,9,  -999.00,9,  -999.00,9,   1.1476,2,  27.7800,2,   1.4821,2
49UP20180806_1,   P13,    43,  1,      8,     817,2,20180813,2136,2214, 31.0107, 164.9990, 5998,   4405.4,     4330,   1.4816,  34.6851,2,    154.6,2,  34.6840,2,   154.57,2,   149.68,3,    35.64,2,     0.00,2,    2.480,3, -999.000,9, -999.000,9,   2328.8,2,   2418.8,2,   7.5866,2,    25.00, -999.000,9,  -999.00,9,  -999.00,9,   1.1181,2,  27.7844,2,   1.4816,2
49UP20180806_1,   P13,    43,  1,      7,     816,2,20180813,2136,2208, 31.0107, 164.9990, 5998,   4663.1,     4581,   1.4893,  34.6873,2,    157.8,2,  34.6873,2,   158.01,2,   147.85,3,    35.45,2,     0.00,2,    2.460,3, -999.000,9, -999.000,9,   2324.3,2,   2417.8,2,   7.5915,6,    25.00, -999.000,9,  -999.00,9,  -999.00,9,   1.0957,2,  27.7877,2,   1.4892,2
49UP20180806_1,   P13,    43,  1,      6,     815,2,20180813,2136,2203, 31.0107, 164.9990, 5998,   4920.1,     4831,   1.4954,  34.6896,2,    162.0,2,  34.6891,2,   161.96,2,   145.29,3,    35.16,2,     0.00,2,    2.440,3,    0.001,2,    0.003,2,   2314.7,3,   2413.6,2,   7.5969,2,    25.00,    0.000,2,  -999.00,9,  -999.00,9,   1.0710,2,  27.7912,2,   1.4953,2
49UP20180806_1,   P13,    43,  1,      5,     814,2,20180813,2136,2157, 31.0107, 164.9990, 5998,   5177.3,     5080,   1.5053,  34.6916,2,    165.5,2,  34.6916,2,   165.66,2,   142.17,3,    34.87,2,     0.00,2,    2.420,3, -999.000,9, -999.000,9,   2316.0,2,   2412.2,2,   7.5999,2,    25.00, -999.000,9,  -999.00,9,  -999.00,9,   1.0491,2,  27.7943,2,   1.5052,2
49UP20180806_1,   P13,    43,  1,      4,     813,2,20180813,2136,2152, 31.0107, 164.9990, 5998,   5434.7,     5330,   1.5179,  34.6934,2,    168.8,2,  34.6933,2,   169.09,2,   139.64,3,    34.68,2,     0.00,2,    2.400,3, -999.000,9, -999.000,9,   2313.0,2,   2410.6,2,   7.6009,2,    25.00, -999.000,9,  -999.00,9,  -999.00,9,   1.0290,2,  27.7970,2,   1.5179,2
49UP20180806_1,   P13,    43,  1,      3,     812,2,20180813,2136,2146, 31.0107, 164.9990, 5998,   5692.7,     5580,   1.5347,  34.6947,2,    171.4,2,  34.6941,2,   171.60,2,   137.89,3,    34.50,2,     0.00,2,    2.390,3, -999.000,9, -999.000,9,   2310.8,2,   2407.7,2,   7.6059,2,    25.00, -999.000,9,  -999.00,9,  -999.00,9,   1.0119,2,  27.7992,2,   1.5346,2
49UP20180806_1,   P13,    43,  1,      2,     811,2,20180813,2136,2140, 31.0107, 164.9990, 5998,   5951.7,     5830,   1.5579,  34.6955,2,    173.1,2,  34.6952,2,   173.83,2,   136.59,3,    34.33,2,     0.00,2,    2.380,3, -999.000,9, -999.000,9,   2308.7,2,   2406.7,2,   7.6077,2,    25.00, -999.000,9,  -999.00,9,  -999.00,9,   1.0002,2,  27.8007,2,   1.5577,2
49UP20180806_1,   P13,    43,  1,      1,     810,2,20180813,2136,2136, 31.0107, 164.9990, 5998,   6130.9,     6003,   1.5759,  34.6962,2,    174.0,2,  34.6959,6,   173.94,2,   135.88,3,    34.20,2,     0.00,2,    2.370,3,    0.002,2,    0.001,2,   2304.8,2,   2406.7,2,   7.6089,2,    25.00,    0.000,2,  -999.00,9,  -999.00,9,   0.9934,2,  27.8017,2,   1.5760,2