BOTTLE,20191018JMAGEMD
EXPOCODE,SECT_ID,STNNBR,CASTNO,SAMPNO,BTLNBR,BTLNBR_FLAG_U,DATE,TIME,BTL_TIME,LATITUDE,LONGITUDE,DEPTH,CTDPRS,CTDDEP,CTDTMP,CTDSAL,CTDSAL_FLAG_W,CTDOXY,CTDOXY_FLAG_W,SALNTY,SALNTY_FLAG_W,OXYGEN,OXYGEN_FLAG_W,SILCAT,SILCAT_FLAG_W,NO2+NO3,NO2+NO3_FLAG_W,NITRIT,NITRIT_FLAG_W,PHSPHT,PHSPHT_FLAG_W,CFC-11,CFC-11_FLAG_W,CFC-12,CFC-12_FLAG_W,TCARBN,TCARBN_FLAG_W,ALKALI,ALKALI_FLAG_W,PH_TS,PH_TS_FLAG_W,PH_TS_TMP,CFC113,CFC113_FLAG_W,CHLORA,CHLORA_FLAG_W,PPHYTN,PPHYTN_FLAG_W,THETA,THETA_FLAG_W,SIGTHT,SIGTHT_FLAG_W,SBE35,SBE35_FLAG_W
,,,,,,,,UTC,,,,METER,DBAR,METERS,ITS-90,PSS-78,,UMOL/KG,,PSS78,,UMOL/KG,,UMOL/KG,,UMOL/KG,,UMOL/KG,,UMOL/KG,,PMOL/KG,,PMOL/KG,,UMOL/KG,,UMOL/KG,,,,ITS-90,PMOL/KG,,UG/KG,,UG/KG,,ITS-90,,KG/M3,,ITS-90,
49UP20180614_1,   P13,    10,  1,      0,      -9,0,20180623,0636,0820, 43.0880, 153.3200, 5153,      0.0,        0,   7.0906,  32.9637,2,    321.6,2,  32.9301,2,   318.00,2,    20.60,2,    16.15,2,     0.22,2,    1.510,2, -999.000,9, -999.000,9,   2076.5,2,   2234.7,2,   7.8008,2,    25.00, -999.000,9,     0.37,2,     0.09,2,   7.0904,2,  25.8027,2,-999.0000,9
49UP20180614_1,   P13,    10,  1,     36,     845,2,20180623,0636,0855, 43.0880, 153.3200, 5153,     11.0,       11,   6.9767,  32.9491,2,    322.1,2,  32.9537,2,   320.74,2,    18.56,2,    15.69,2,     0.22,2,    1.450,2,    4.201,2,    2.489,2,   2081.3,2,   2239.5,2,   7.8051,2,    25.00,    0.399,2,     0.40,2,     0.09,2,   6.9757,2,  25.8067,2,   6.9740,2
49UP20180614_1,   P13,    10,  1,     35,     844,3,20180623,0636,0853, 43.0880, 153.3200, 5153,     26.5,       26,   5.3015,  32.9817,2,    339.3,2,  32.9725,4,   338.17,6,    14.77,6,    15.04,6,     0.23,6,    1.430,6, -999.000,9, -999.000,9,   2075.2,2,   2241.8,2,   7.8216,2,    25.00, -999.000,9,     0.56,2,     0.15,2,   5.2995,2,  26.0414,2,   5.3014,2
49UP20180614_1,   P13,    10,  1,     34,     843,3,20180623,0636,0849, 43.0880, 153.3200, 5153,     51.4,       51,   3.3051,  33.0342,2,    340.5,2,  33.0319,2,   338.54,2,    24.32,2,    17.62,2,     0.27,2,    1.650,2,    4.743,2,    2.783,2,   2104.7,2,   2243.0,2,   7.7532,2,    25.00,    0.448,2,     0.63,2,     0.34,2,   3.3020,2,  26.2890,2,   3.3836,2
49UP20180614_1,   P13,    10,  1,     33,     842,2,20180623,0636,0847, 43.0880, 153.3200, 5153,     76.7,       76,   2.4835,  33.0579,2,    337.7,2,  33.0563,2,   338.77,2,    28.02,2,    18.69,2,     0.28,2,    1.730,2, -999.000,9, -999.000,9,   2113.3,2,   2244.8,2,   7.7296,2,    25.00, -999.000,9,     0.20,2,     0.17,2,   2.4793,2,  26.3787,2,   2.4822,2
49UP20180614_1,   P13,    10,  1,     32,     841,2,20180623,0636,0845, 43.0880, 153.3200, 5153,    100.8,      100,   1.7428,  33.1376,2,    308.7,2,  33.1369,2,   310.48,2,    48.05,2,    27.43,2,     0.37,2,    2.130,2,    4.745,2,    2.762,2,   2160.0,2,   2240.8,2,   7.6043,2,    25.00,    0.445,2,     0.05,2,     0.13,2,   1.7380,2,  26.4989,2,   1.7434,2
49UP20180614_1,   P13,    10,  1,     31,     840,2,20180623,0636,0844, 43.0880, 153.3200, 5153,    126.8,      126,   2.2043,  33.3047,2,    239.6,2,  33.3034,2,   239.15,2,    60.90,2,    31.94,2,     0.04,2,    2.380,2, -999.000,9, -999.000,9,   2203.7,2,   2254.5,2,   7.4995,2,    25.00, -999.000,9,     0.03,2,     0.15,2,   2.1977,2,  26.5984,2,   2.2074,2
49UP20180614_1,   P13,    10,  1,     30,     839,2,20180623,0636,0842, 43.0880, 153.3200, 5153,    151.8,      151,   2.8033,  33.4986,2,    160.7,2,  33.4940,2,   161.77,2,    74.50,2,    36.13,2,     0.01,2,    2.640,2,    3.306,2,    1.907,2,   2252.6,2,   2267.9,2,   7.3953,2,    25.00,    0.283,2,     0.03,2,     0.15,2,   2.7945,2,  26.7045,2,   2.8050,2
49UP20180614_1,   P13,    10,  1,     29,     838,2,20180623,0636,0840, 43.0880, 153.3200, 5153,    203.7,      202,   2.6930,  33.6623,2,    129.9,2,  33.6600,2,   129.10,2,    88.73,2,    37.47,2,     0.01,2,    2.740,2,    2.815,2,    1.618,2,   2281.7,2,   2288.4,2,   7.3594,2,    25.00,    0.237,2,     0.03,2,     0.17,2,   2.6813,2,  26.8450,2,   2.6927,2
49UP20180614_1,   P13,    10,  1,     28,     837,2,20180623,0636,0838, 43.0880, 153.3200, 5153,    252.6,      250,   3.1336,  33.7966,2,     80.5,2,  33.7958,2,    79.49,2,    97.09,2,    40.79,2,     0.01,2,    2.920,2,    2.299,2,    1.264,2,   2311.1,2,   2296.8,2,   7.3009,2,    25.00,    0.187,2,  -999.00,9,  -999.00,9,   3.1180,2,  26.9138,2,   3.1343,2
49UP20180614_1,   P13,    10,  1,     27,     661,2,20180623,0636,0836, 43.0880, 153.3200, 5153,    334.1,      331,   3.6147,  34.0059,2,     20.9,2,  34.0053,2,    20.70,2,   110.44,2,    44.55,2,     0.01,2,    3.140,2,    1.453,6,    0.753,6,   2348.4,2,   2316.2,2,   7.2386,2,    25.00,    0.107,6,  -999.00,9,  -999.00,9,   3.5924,2,  27.0360,2,   3.6148,2
49UP20180614_1,   P13,    10,  1,     26,     835,2,20180623,0636,0833, 43.0880, 153.3200, 5153,    434.2,      430,   3.5070,  34.1241,2,     15.1,2,  34.1234,2,    14.50,6,   121.56,6,    44.37,6,     0.00,6,    3.130,6,    0.961,2,    0.498,2,   2363.0,2,   2332.4,2,   7.2532,2,    25.00,    0.075,2,  -999.00,9,  -999.00,9,   3.4780,2,  27.1413,2,   3.5068,2
49UP20180614_1,   P13,    10,  1,     25,     834,2,20180623,0636,0830, 43.0880, 153.3200, 5153,    536.1,      531,   3.2719,  34.1913,2,     20.5,2,  34.1897,2,    20.57,2,   129.51,2,    43.84,2,     0.00,2,    3.100,2,    0.762,2,    0.380,2,   2363.1,2,   2345.3,2,   7.2755,2,    25.00,    0.052,2,  -999.00,9,  -999.00,9,   3.2366,2,  27.2177,2,   3.2719,2
49UP20180614_1,   P13,    10,  1,     24,     833,2,20180623,0636,0827, 43.0880, 153.3200, 5153,    637.6,      632,   3.0955,  34.2476,2,     28.4,2,  34.2464,2,    28.31,2,   135.19,2,    43.01,2,     0.00,2,    3.060,2,    0.613,2,    0.329,2,   2368.3,2,   2354.6,2,   7.2972,2,    25.00,    0.049,2,  -999.00,9,  -999.00,9,   3.0538,2,  27.2796,2,   3.0960,2
49UP20180614_1,   P13,    10,  1,     23,     832,3,20180623,0636,0824, 43.0880, 153.3200, 5153,    737.9,      731,   2.9757,  34.3021,2,     29.7,2,  34.3012,2,    34.62,4,   140.35,2,    42.90,2,     0.00,2,    3.060,2,    0.470,2,    0.255,2,   2370.0,6,   2364.3,6,   7.3148,2,    25.00,    0.035,2,  -999.00,9,  -999.00,9,   2.9275,2,  27.3345,2,   2.9756,2
49UP20180614_1,   P13,    10,  1,     22,     831,3,20180623,0636,0821, 43.0880, 153.3200, 5153,    838.2,      830,   2.8655,  34.3453,2,     30.5,2,  34.3438,2,    31.83,2,   144.87,2,    42.87,2,     0.00,2,    3.050,2,    0.356,2,    0.184,2,   2378.4,2,   2370.7,2,   7.3219,6,    25.00,    0.031,2,  -999.00,9,  -999.00,9,   2.8107,2,  27.3795,2,   2.8655,2
49UP20180614_1,   P13,    10,  1,     21,     830,2,20180623,0636,0818, 43.0880, 153.3200, 5153,    940.2,      931,   2.7070,  34.3925,2,     32.6,2,  34.3921,2,    32.37,2,   150.20,2,    43.03,2,     0.00,2,    3.050,2,    0.244,2,    0.130,2,   2379.8,2,   2378.7,2,   7.3339,2,    25.00,    0.022,2,  -999.00,9,  -999.00,9,   2.6460,2,  27.4316,2,   2.7068,2
49UP20180614_1,   P13,    10,  1,     20,     829,2,20180623,0636,0813, 43.0880, 153.3200, 5153,   1083.7,     1072,   2.5165,  34.4343,2,     35.8,2,  34.4342,6,    35.93,2,   156.34,2,    42.91,2,     0.00,2,    3.040,2,    0.184,2,    0.095,2,   2383.1,2,   2386.5,2,   7.3413,2,    25.00,    0.017,2,  -999.00,9,  -999.00,9,   2.4464,2,  27.4821,2,   2.5163,2
49UP20180614_1,   P13,    10,  1,     19,     828,2,20180623,0636,0808, 43.0880, 153.3200, 5153,   1285.8,     1272,   2.3550,  34.4809,2,     42.0,2,  34.4801,2,    41.61,2,   160.48,2,    42.57,2,     0.00,2,    3.010,2,    0.117,2,    0.060,2,   2388.4,2,   2392.8,2,   7.3539,2,    25.00,    0.015,2,  -999.00,9,  -999.00,9,   2.2714,2,  27.5339,2,   2.3550,2
49UP20180614_1,   P13,    10,  1,     18,     827,2,20180623,0636,0804, 43.0880, 153.3200, 5153,   1487.3,     1470,   2.2097,  34.5229,2,     49.6,2,  34.5228,2,    49.81,2,   163.53,2,    42.19,2,     0.00,2,    2.980,2,    0.061,2,    0.027,2,   2385.2,2,   2401.4,2,   7.3811,2,    25.00,    0.010,2,  -999.00,9,  -999.00,9,   2.1121,2,  27.5805,2,   2.2096,2
49UP20180614_1,   P13,    10,  1,     17,     826,2,20180623,0636,0758, 43.0880, 153.3200, 5153,   1690.4,     1670,   2.0916,  34.5580,2,     59.0,2,  34.5577,2,    58.88,6,   164.55,6,    41.72,6,     0.00,6,    2.940,6,    0.026,2,    0.009,2,   2379.5,2,   2407.2,2,   7.4023,2,    25.00,    0.007,2,  -999.00,9,  -999.00,9,   1.9795,2,  27.6192,2,   2.0917,2
49UP20180614_1,   P13,    10,  1,     16,     825,3,20180623,0636,0753, 43.0880, 153.3200, 5153,   1895.3,     1872,   1.9538,  34.5868,2,     71.3,2,  34.5855,4,    71.26,2,   165.28,2,    41.04,2,     0.00,2,    2.880,2,    0.008,2,    0.001,2,   2379.3,2,   2412.0,2,   7.4297,2,    25.00,    0.008,2,  -999.00,9,  -999.00,9,   1.8269,2,  27.6541,2,   1.9537,2
49UP20180614_1,   P13,    10,  1,     15,     824,3,20180623,0636,0748, 43.0880, 153.3200, 5153,   2098.6,     2072,   1.8585,  34.6064,2,     82.5,2,  34.6065,2,    82.51,2,   164.70,2,    40.35,2,     0.00,2,    2.830,2,    0.008,6,    0.002,6,   2372.6,2,   2414.1,2,   7.4457,2,    25.00,    0.002,6,  -999.00,9,  -999.00,9,   1.7161,2,  27.6783,2,   1.8585,2
49UP20180614_1,   P13,    10,  1,     14,     823,2,20180623,0636,0743, 43.0880, 153.3200, 5153,   2300.9,     2270,   1.7591,  34.6246,2,     95.0,2,  34.6256,2,    95.16,2,   163.68,2,    39.59,2,     0.00,2,    2.770,2,    0.000,2,    0.000,2,   2364.3,6,   2416.4,6,   7.4759,2,    25.00,    0.006,2,  -999.00,9,  -999.00,9,   1.6010,2,  27.7015,2,   1.7590,2
49UP20180614_1,   P13,    10,  1,     13,     822,2,20180623,0636,0739, 43.0880, 153.3200, 5153,   2503.7,     2469,   1.6838,  34.6379,2,    104.9,2,  34.6386,2,   105.17,2,   162.57,2,    38.93,2,     0.00,2,    2.720,2,    0.011,3,    0.001,2,   2364.5,2,   2416.9,2,   7.4937,6,    25.00,    0.014,3,  -999.00,9,  -999.00,9,   1.5091,2,  27.7189,2,   1.6839,2
49UP20180614_1,   P13,    10,  1,     12,     821,2,20180623,0636,0734, 43.0880, 153.3200, 5153,   2709.6,     2671,   1.6218,  34.6479,2,    112.1,2,  34.6486,6,   112.29,2,   162.85,2,    38.50,2,     0.00,2,    2.680,2,    0.000,2,    0.000,2,   2352.6,2,   2419.1,2,   7.5084,2,    25.00,    0.000,2,  -999.00,9,  -999.00,9,   1.4297,2,  27.7327,2,   1.6216,2
49UP20180614_1,   P13,    10,  1,     11,     820,2,20180623,0636,0729, 43.0880, 153.3200, 5153,   2913.6,     2871,   1.5724,  34.6569,2,    121.0,2,  34.6565,2,   120.21,2,   160.72,2,    37.96,2,     0.00,2,    2.640,2,    0.028,3,    0.081,3,   2349.4,2,   2418.9,2,   7.5235,2,    25.00,    0.027,3,  -999.00,9,  -999.00,9,   1.3623,2,  27.7447,2,   1.5724,2
49UP20180614_1,   P13,    10,  1,     10,     819,2,20180623,0636,0724, 43.0880, 153.3200, 5153,   3126.9,     3079,   1.5355,  34.6643,2,    129.0,2,  34.6646,2,   128.62,2,   158.21,2,    37.39,2,     0.00,2,    2.600,2, -999.000,9, -999.000,9,   2344.7,2,   2419.0,2,   7.5400,2,    25.00, -999.000,9,  -999.00,9,  -999.00,9,   1.3058,2,  27.7547,2,   1.5355,2
49UP20180614_1,   P13,    10,  1,      9,     818,2,20180623,0636,0719, 43.0880, 153.3200, 5153,   3383.7,     3330,   1.5044,  34.6706,2,    136.0,2,  34.6712,2,   135.48,2,   156.65,2,    37.06,2,     0.00,2,    2.560,2, -999.000,9, -999.000,9,   2344.8,3,   2420.0,2,   7.5502,2,    25.00, -999.000,9,  -999.00,9,  -999.00,9,   1.2500,2,  27.7637,2,   1.5044,2
49UP20180614_1,   P13,    10,  1,      8,     817,2,20180623,0636,0713, 43.0880, 153.3200, 5153,   3639.4,     3580,   1.4806,  34.6760,2,    142.2,2,  34.6757,2,   141.85,6,   155.02,6,    36.52,6,     0.00,6,    2.530,6, -999.000,9, -999.000,9,   2332.4,2,   2417.3,2,   7.5617,2,    25.00, -999.000,9,  -999.00,9,  -999.00,9,   1.2006,2,  27.7714,2,   1.4804,2
49UP20180614_1,   P13,    10,  1,      7,     816,3,20180623,0636,0708, 43.0880, 153.3200, 5153,   3895.2,     3829,   1.4677,  34.6804,2,    147.4,2,  34.6803,6,   147.07,2,   153.74,2,    36.21,2,     0.00,2,    2.500,2,    0.000,2,    0.002,2,   2333.7,2,   2417.7,2,   7.5706,2,    25.00,    0.000,2,  -999.00,9,  -999.00,9,   1.1610,2,  27.7777,2,   1.4677,2
49UP20180614_1,   P13,    10,  1,      6,     815,2,20180623,0636,0702, 43.0880, 153.3200, 5153,   4152.7,     4080,   1.4644,  34.6837,2,    151.5,2,  34.6833,2,   151.32,2,   152.64,2,    35.97,2,     0.00,2,    2.480,2, -999.000,9, -999.000,9,   2328.9,2,   2418.0,2,   7.5793,2,    25.00, -999.000,9,  -999.00,9,  -999.00,9,   1.1298,2,  27.7825,2,   1.4644,2
49UP20180614_1,   P13,    10,  1,      5,     814,2,20180623,0636,0657, 43.0880, 153.3200, 5153,   4408.3,     4328,   1.4702,  34.6863,2,    154.5,2,  34.6856,2,   154.47,2,   152.04,2,    35.79,2,     0.00,2,    2.460,2, -999.000,9, -999.000,9,   2328.5,6,   2417.7,6,   7.5833,2,    25.00, -999.000,9,  -999.00,9,  -999.00,9,   1.1067,2,  27.7861,2,   1.4702,2
49UP20180614_1,   P13,    10,  1,      4,     813,2,20180623,0636,0651, 43.0880, 153.3200, 5153,   4669.1,     4582,   1.4865,  34.6880,2,    156.2,2,  34.6883,2,   156.30,2,   152.20,2,    35.69,2,     0.00,2,    2.460,2, -999.000,9, -999.000,9,   2325.2,2,   2416.7,2,   7.5853,6,    25.00, -999.000,9,  -999.00,9,  -999.00,9,   1.0923,2,  27.7885,2,   1.4865,2
49UP20180614_1,   P13,    10,  1,      3,     812,2,20180623,0636,0645, 43.0880, 153.3200, 5153,   4925.4,     4831,   1.5100,  34.6888,2,    157.1,2,  34.6881,2,   156.55,2,   152.40,2,    35.63,2,     0.00,2,    2.450,2,    0.001,2,    0.001,2,   2327.4,2,   2416.9,2,   7.5893,2,    25.00,    0.000,2,  -999.00,9,  -999.00,9,   1.0845,2,  27.7896,2,   1.5100,2
49UP20180614_1,   P13,    10,  1,      2,     811,2,20180623,0636,0639, 43.0880, 153.3200, 5153,   5183.3,     5081,   1.5374,  34.6895,2,    157.7,2,  34.6896,6,   157.68,2,   152.62,2,    35.58,2,     0.00,2,    2.450,2, -999.000,9, -999.000,9,   2323.8,2,   2416.2,2,   7.5858,2,    25.00, -999.000,9,  -999.00,9,  -999.00,9,   1.0793,2,  27.7906,2,   1.5373,2
49UP20180614_1,   P13,    10,  1,      1,     810,2,20180623,0636,0637, 43.0880, 153.3200, 5153,   5256.2,     5151,   1.5466,  34.6895,2,    157.8,2,  34.6897,2,   157.55,2,   152.65,2,    35.58,2,     0.00,2,    2.450,2,    0.001,2,    0.000,2,   2327.0,2,   2417.1,2,   7.5864,2,    25.00,    0.000,2,  -999.00,9,  -999.00,9,   1.0792,2,  27.7906,2,   1.5465,2