BOTTLE,20191018JMAGEMD
EXPOCODE,SECT_ID,STNNBR,CASTNO,SAMPNO,BTLNBR,BTLNBR_FLAG_U,DATE,TIME,BTL_TIME,LATITUDE,LONGITUDE,DEPTH,CTDPRS,CTDDEP,CTDTMP,CTDSAL,CTDSAL_FLAG_W,CTDOXY,CTDOXY_FLAG_W,SALNTY,SALNTY_FLAG_W,OXYGEN,OXYGEN_FLAG_W,SILCAT,SILCAT_FLAG_W,NO2+NO3,NO2+NO3_FLAG_W,NITRIT,NITRIT_FLAG_W,PHSPHT,PHSPHT_FLAG_W,CFC-11,CFC-11_FLAG_W,CFC-12,CFC-12_FLAG_W,TCARBN,TCARBN_FLAG_W,ALKALI,ALKALI_FLAG_W,PH_TS,PH_TS_FLAG_W,PH_TS_TMP,CFC113,CFC113_FLAG_W,CHLORA,CHLORA_FLAG_W,PPHYTN,PPHYTN_FLAG_W,THETA,THETA_FLAG_W,SIGTHT,SIGTHT_FLAG_W,SBE35,SBE35_FLAG_W
,,,,,,,,UTC,,,,METER,DBAR,METERS,ITS-90,PSS-78,,UMOL/KG,,PSS78,,UMOL/KG,,UMOL/KG,,UMOL/KG,,UMOL/KG,,UMOL/KG,,PMOL/KG,,PMOL/KG,,UMOL/KG,,UMOL/KG,,,,ITS-90,PMOL/KG,,UG/KG,,UG/KG,,ITS-90,,KG/M3,,ITS-90,
49UP20180614_2,   P13,    27,  1,      0,      -9,0,20180713,2158,2338, 42.0012, 164.9850, 4761,      0.0,        0,  12.0720,  32.9037,2,    286.6,2,  32.9086,2,   286.05,2,    16.81,2,     7.66,2,     0.10,2,    0.770,3, -999.000,9, -999.000,9,   2025.7,2,   2218.9,2,   7.8740,2,    25.00, -999.000,9,     2.21,2,     0.27,2,  12.0716,2,  24.9479,2,-999.0000,9
49UP20180614_2,   P13,    27,  1,     36,     845,2,20180713,2158,0013, 42.0012, 164.9850, 4761,     10.3,       10,  11.9028,  32.9494,2,    288.9,2,  32.9455,2,   289.38,2,    16.90,2,     7.64,2,     0.10,2,    0.750,3,    2.945,2,    1.733,2,   2032.4,2,   2220.0,2,   7.8759,2,    25.00,    0.275,2,     0.85,2,     0.35,2,  11.9015,2,  25.0152,2,  11.8967,2
49UP20180614_2,   P13,    27,  1,     35,     844,2,20180713,2158,0011, 42.0012, 164.9850, 4761,     25.1,       25,  10.1757,  33.0514,2,    297.9,2,  33.0454,2,   297.80,2,    18.09,2,     8.89,2,     0.10,2,    0.840,3, -999.000,9, -999.000,9,   2041.5,2,   2225.9,2,   7.8544,2,    25.00, -999.000,9,     0.86,2,     0.55,2,  10.1729,2,  25.4016,2,  10.2018,2
49UP20180614_2,   P13,    27,  1,     34,     843,2,20180713,2158,0009, 42.0012, 164.9850, 4761,     50.6,       50,   7.1497,  32.9821,2,    306.2,2,  32.9820,2,   306.91,2,    21.56,2,    12.73,2,     0.18,2,    1.160,3,    3.658,2,    2.094,2,   2077.9,2,   2227.4,2,   7.7819,2,    25.00,    0.346,2,     0.33,2,     0.26,2,   7.1451,2,  25.8098,2,   7.1519,2
49UP20180614_2,   P13,    27,  1,     33,     842,2,20180713,2158,0007, 42.0012, 164.9850, 4761,     76.9,       76,   5.4115,  33.0535,2,    306.6,2,  33.0562,2,   306.64,2,    23.27,2,    15.52,2,     0.24,2,    1.290,3, -999.000,9, -999.000,9,   2096.3,2,   2230.5,2,   7.7445,2,    25.00, -999.000,9,     0.25,2,     0.18,2,   5.4056,2,  26.0860,2,   5.4386,2
49UP20180614_2,   P13,    27,  1,     32,     841,2,20180713,2158,0002, 42.0012, 164.9850, 4761,    101.0,      100,   4.4195,  33.1396,2,    308.0,2,  33.1217,4,   309.14,2,    27.46,2,    18.43,2,     0.01,2,    1.460,3,    4.045,2,    2.291,2,   2111.3,6,   2233.8,6,   7.7068,2,    25.00,    0.375,2,     0.03,2,     0.06,2,   4.4124,2,  26.2642,2,   4.4188,2
49UP20180614_2,   P13,    27,  1,     31,     840,2,20180713,2158,0000, 42.0012, 164.9850, 4761,    125.1,      124,   5.4608,  33.4212,2,    286.7,2,  33.4188,2,   287.33,2,    26.16,2,    17.39,2,     0.01,2,    1.350,3, -999.000,9, -999.000,9,   2112.6,2,   2245.5,2,   7.7186,6,    25.00, -999.000,9,     0.02,2,     0.06,2,   5.4509,2,  26.3717,2,   5.4610,2
49UP20180614_2,   P13,    27,  1,     30,     839,2,20180713,2158,2359, 42.0012, 164.9850, 4761,    152.0,      151,   6.4011,  33.6538,2,    268.7,2,  33.6595,4,   269.57,2,    26.08,2,    17.11,2,     0.01,2,    1.290,3,    3.417,2,    1.967,2,   2125.5,2,   2254.9,2,   7.7228,2,    25.00,    0.281,2,     0.01,2,     0.05,2,   6.3879,2,  26.4396,2,   6.3865,2
49UP20180614_2,   P13,    27,  1,     29,     838,2,20180713,2158,2356, 42.0012, 164.9850, 4761,    201.1,      199,   5.1177,  33.6472,2,    217.9,2,  33.6475,2,   218.09,6,    43.15,6,    24.49,6,     0.01,6,    1.800,3,    3.250,2,    1.854,2,   2174.6,2,   2264.3,2,   7.6019,2,    25.00,    0.234,2,     0.00,2,     0.05,2,   5.1023,2,  26.5911,2,   5.1178,2
49UP20180614_2,   P13,    27,  1,     28,     837,2,20180713,2158,2354, 42.0012, 164.9850, 4761,    253.2,      251,   4.3761,  33.6693,2,    169.3,2,  33.6686,2,   169.40,2,    58.31,2,    30.38,2,     0.00,2,    2.200,3,    3.022,2,    1.700,2,   2224.9,2,   2279.0,2,   7.4935,2,    25.00,    0.211,2,  -999.00,9,  -999.00,9,   4.3580,2,  26.6906,2,   4.3763,2
49UP20180614_2,   P13,    27,  1,     27,     661,2,20180713,2158,2352, 42.0012, 164.9850, 4761,    282.5,      280,   4.2813,  33.7229,2,    143.7,2,  33.7208,2,   144.59,2,    65.25,2,    32.76,2,     0.00,2,    2.360,3,    2.802,2,    1.558,2,   2245.1,2,   2278.9,2,   7.4503,2,    25.00,    0.198,2,  -999.00,9,  -999.00,9,   4.2612,2,  26.7433,2,   4.2814,2
49UP20180614_2,   P13,    27,  1,     26,     835,2,20180713,2158,2349, 42.0012, 164.9850, 4761,    373.4,      370,   4.1217,  33.8950,2,     89.4,2,  33.8932,2,    89.43,2,    84.66,2,    37.91,2,     0.00,2,    2.690,3,    2.102,2,    1.110,2,   2283.3,2,   2298.7,2,   7.3668,2,    25.00,    0.138,2,  -999.00,9,  -999.00,9,   4.0952,2,  26.8973,2,   4.1239,2
49UP20180614_2,   P13,    27,  1,     25,     834,2,20180713,2158,2346, 42.0012, 164.9850, 4761,    476.0,      472,   4.0510,  34.0252,2,     62.2,2,  34.0239,2,    62.75,2,    97.76,2,    40.00,2,     0.00,2,    2.830,3,    1.539,2,    0.781,2,   2306.4,2,   2316.6,2,   7.3391,2,    25.00,    0.093,2,  -999.00,9,  -999.00,9,   4.0171,2,  27.0089,2,   4.0420,2
49UP20180614_2,   P13,    27,  1,     24,     833,2,20180713,2158,2343, 42.0012, 164.9850, 4761,    574.9,      570,   3.8458,  34.1257,2,     45.4,2,  34.1257,2,    45.54,2,   109.94,2,    41.42,2,     0.00,2,    2.920,3,    1.087,2,    0.538,2,   2334.8,2,   2332.1,2,   7.3274,2,    25.00,    0.072,2,  -999.00,9,  -999.00,9,   3.8052,2,  27.1104,2,   3.8453,2
49UP20180614_2,   P13,    27,  1,     23,     832,2,20180713,2158,2340, 42.0012, 164.9850, 4761,    679.7,      673,   3.5891,  34.2227,2,     37.3,2,  34.2217,2,    37.55,2,   121.82,2,    42.15,2,     0.00,2,    2.970,3,    0.684,2,    0.330,2,   2350.4,2,   2349.7,2,   7.3337,2,    25.00,    0.033,2,  -999.00,9,  -999.00,9,   3.5418,2,  27.2136,2,   3.5890,2
49UP20180614_2,   P13,    27,  1,     22,     831,2,20180713,2158,2336, 42.0012, 164.9850, 4761,    779.1,      772,   3.3972,  34.2920,2,     35.3,2,  34.2903,2,    36.15,2,   129.02,2,    42.42,2,     0.00,2,    2.990,3,    0.418,6,    0.208,6,   2359.2,2,   2361.4,2,   7.3387,2,    25.00,    0.020,6,  -999.00,9,  -999.00,9,   3.3435,2,  27.2879,2,   3.3970,2
49UP20180614_2,   P13,    27,  1,     21,     830,2,20180713,2158,2333, 42.0012, 164.9850, 4761,    879.1,      870,   3.1720,  34.3404,2,     33.6,2,  34.3385,6,    33.75,2,   136.18,2,    42.76,2,     0.00,2,    3.020,3,    0.283,2,    0.139,2,   2368.7,2,   2372.3,2,   7.3416,2,    25.00,    0.015,2,  -999.00,9,  -999.00,9,   3.1122,2,  27.3483,2,   3.1720,2
49UP20180614_2,   P13,    27,  1,     20,     829,2,20180713,2158,2331, 42.0012, 164.9850, 4761,    979.6,      970,   2.9661,  34.3796,2,     32.2,2,  34.3791,2,    33.16,6,   142.70,6,    43.07,6,     0.00,6,    3.040,3,    0.215,2,    0.102,2,   2367.7,2,   2379.7,2,   7.3427,2,    25.00,    0.021,2,  -999.00,9,  -999.00,9,   2.9002,2,  27.3989,2,   2.9662,2
49UP20180614_2,   P13,    27,  1,     19,     828,2,20180713,2158,2325, 42.0012, 164.9850, 4761,   1143.6,     1132,   2.6575,  34.4372,2,     33.3,2,  34.4358,2,    33.29,2,   152.34,2,    43.26,2,     0.00,2,    3.040,3,    0.112,2,    0.055,2,   2385.5,2,   2390.0,2,   7.3448,2,    25.00,    0.002,2,  -999.00,9,  -999.00,9,   2.5818,2,  27.4728,2,   2.6576,2
49UP20180614_2,   P13,    27,  1,     17,     826,2,20180713,2158,2320, 42.0012, 164.9850, 4761,   1345.2,     1330,   2.4122,  34.4837,2,     37.7,2,  34.4828,2,    38.27,2,   159.66,2,    43.10,2,     0.00,2,    3.020,3, -999.000,9, -999.000,9,   2389.3,2,   2397.8,2,   7.3585,2,    25.00, -999.000,9,  -999.00,9,  -999.00,9,   2.3234,2,  27.5319,2,   2.4123,2
49UP20180614_2,   P13,    27,  1,     18,     827,2,20180713,2158,2320, 42.0012, 164.9850, 4761,   1345.4,     1331,   2.4121,  34.4838,2,     37.7,2,  34.4837,2,    38.22,2,   159.95,2,    43.09,2,     0.00,2,    3.030,3,    0.067,2,    0.029,2,   2382.4,3,   2400.1,2,   7.3610,2,    25.00,    0.000,2,  -999.00,9,  -999.00,9,   2.3233,2,  27.5320,2,   2.4120,2
49UP20180614_2,   P13,    27,  1,     16,     825,2,20180713,2158,2315, 42.0012, 164.9850, 4761,   1546.6,     1529,   2.2302,  34.5241,2,     45.8,2,  34.5239,2,    46.01,2,   164.09,2,    42.76,2,     0.00,2,    2.990,3,    0.036,2,    0.019,2,   2386.4,2,   2407.0,2,   7.3773,2,    25.00,    0.006,2,  -999.00,9,  -999.00,9,   2.1277,2,  27.5802,2,   2.2301,2
49UP20180614_2,   P13,    27,  1,     15,     824,3,20180713,2158,2311, 42.0012, 164.9850, 4761,   1751.5,     1731,   2.0797,  34.5588,2,     56.3,2,  34.5569,6,    57.06,2,   166.39,2,    42.15,2,     0.00,2,    2.940,3,    0.019,2,    0.006,2,   2377.1,2,   2408.9,2,   7.3998,2,    25.00,    0.005,2,  -999.00,9,  -999.00,9,   1.9628,2,  27.6211,2,   2.0797,2
49UP20180614_2,   P13,    27,  1,     14,     823,2,20180713,2158,2306, 42.0012, 164.9850, 4761,   1954.4,     1930,   1.9438,  34.5874,2,     68.4,2,  34.5868,2,    68.94,2,   167.72,2,    41.52,2,     0.00,2,    2.890,3,    0.002,2,    0.000,2,   2381.1,2,   2413.7,2,   7.4277,2,    25.00,    0.000,2,  -999.00,9,  -999.00,9,   1.8121,2,  27.6558,2,   1.9438,2
49UP20180614_2,   P13,    27,  1,     13,     822,2,20180713,2158,2301, 42.0012, 164.9850, 4761,   2157.2,     2129,   1.8274,  34.6099,2,     81.2,2,  34.6103,2,    82.25,2,   167.56,2,    40.61,2,     0.00,2,    2.830,3,    0.000,2,    0.001,2,   2376.8,2,   2414.9,2,   7.4551,2,    25.00,   -0.000,2,  -999.00,9,  -999.00,9,   1.6805,2,  27.6838,2,   1.8274,2
49UP20180614_2,   P13,    27,  1,     12,     821,2,20180713,2158,2256, 42.0012, 164.9850, 4761,   2362.0,     2330,   1.7319,  34.6278,2,     94.1,2,  34.6277,2,    94.80,2,   165.94,2,    39.93,2,     0.00,2,    2.750,3,    0.000,2,    0.001,2,   2365.0,2,   2416.8,2,   7.4787,2,    25.00,    0.003,2,  -999.00,9,  -999.00,9,   1.5689,2,  27.7065,2,   1.7321,2
49UP20180614_2,   P13,    27,  1,     11,     820,4,20180713,2158,2251, 42.0012, 164.9850, 4761,   2566.0,     2530,   1.6432,  34.6430,2,    106.6,2,  34.6277,4,    96.22,4,   165.53,4,    39.68,4,     0.00,4,    2.760,4,    0.000,4,    0.000,4,   2361.0,4,   2419.1,4,   7.4826,4,    25.00,    0.000,4,  -999.00,9,  -999.00,9,   1.4638,2,  27.7263,2,   1.6434,2
49UP20180614_2,   P13,    27,  1,     10,     819,2,20180713,2158,2246, 42.0012, 164.9850, 4761,   2770.3,     2731,   1.5900,  34.6530,2,    116.0,2,  34.6535,2,   116.29,2,   162.01,2,    38.40,2,     0.00,2,    2.660,3,    0.000,2,    0.000,2,   2354.2,2,   2418.9,2,   7.5188,6,    25.00,    0.000,2,  -999.00,9,  -999.00,9,   1.3930,2,  27.7394,2,   1.5901,2
49UP20180614_2,   P13,    27,  1,      9,     818,2,20180713,2158,2242, 42.0012, 164.9850, 4761,   2976.5,     2932,   1.5475,  34.6610,2,    124.1,2,  34.6602,2,   124.11,2,   160.01,2,    37.88,2,     0.00,2,    2.620,3, -999.000,9, -999.000,9,   2351.0,2,   2418.2,2,   7.5353,2,    25.00, -999.000,9,  -999.00,9,  -999.00,9,   1.3319,2,  27.7502,2,   1.5477,2
49UP20180614_2,   P13,    27,  1,      8,     817,2,20180713,2158,2236, 42.0012, 164.9850, 4761,   3220.9,     3171,   1.5028,  34.6692,2,    133.1,2,  34.6676,2,   133.31,2,   157.67,2,    37.28,2,     0.00,2,    2.570,3, -999.000,9, -999.000,9,   2339.8,2,   2422.8,3,   7.5476,2,    25.00, -999.000,9,  -999.00,9,  -999.00,9,   1.2646,2,  27.7615,2,   1.5027,2
49UP20180614_2,   P13,    27,  1,      7,     816,2,20180713,2158,2231, 42.0012, 164.9850, 4761,   3475.5,     3420,   1.4785,  34.6746,2,    139.5,2,  34.6738,2,   140.26,2,   156.05,2,    36.96,2,     0.00,2,    2.540,3, -999.000,9, -999.000,9,   2337.9,2,   2421.1,2,   7.5624,2,    25.00, -999.000,9,  -999.00,9,  -999.00,9,   1.2155,2,  27.7693,2,   1.4786,2
49UP20180614_2,   P13,    27,  1,      6,     815,2,20180713,2158,2225, 42.0012, 164.9850, 4761,   3730.1,     3669,   1.4666,  34.6788,2,    144.5,2,  34.6775,2,   145.00,2,   154.59,2,    36.60,2,     0.00,2,    2.510,3,    0.000,2,    0.000,2,   2334.4,6,   2418.3,6,   7.5726,2,    25.00,    0.000,2,  -999.00,9,  -999.00,9,   1.1775,2,  27.7752,2,   1.4666,2
49UP20180614_2,   P13,    27,  1,      5,     814,2,20180713,2158,2219, 42.0012, 164.9850, 4761,   3989.4,     3921,   1.4548,  34.6830,2,    149.6,2,  34.6827,2,   150.05,2,   153.11,2,    36.25,2,     0.00,2,    2.470,3, -999.000,9, -999.000,9,   2332.3,2,   2417.6,2,   7.5825,6,    25.00, -999.000,9,  -999.00,9,  -999.00,9,   1.1384,2,  27.7813,2,   1.4549,2
49UP20180614_2,   P13,    27,  1,      4,     813,2,20180713,2158,2214, 42.0012, 164.9850, 4761,   4246.7,     4172,   1.4591,  34.6858,2,    152.8,2,  34.6860,2,   153.18,2,   153.28,2,    36.05,2,     0.00,2,    2.460,3, -999.000,9, -999.000,9,   2326.8,2,   2418.2,2,   7.5862,2,    25.00, -999.000,9,  -999.00,9,  -999.00,9,   1.1142,2,  27.7852,2,   1.4591,2
49UP20180614_2,   P13,    27,  1,      3,     812,2,20180713,2158,2208, 42.0012, 164.9850, 4761,   4503.2,     4421,   1.4740,  34.6875,2,    154.5,2,  34.6871,2,   154.98,2,   153.23,2,    35.97,2,     0.00,2,    2.460,3, -999.000,9, -999.000,9,   2330.8,2,   2418.4,2,   7.5918,2,    25.00, -999.000,9,  -999.00,9,  -999.00,9,   1.0995,2,  27.7875,2,   1.4742,2
49UP20180614_2,   P13,    27,  1,      2,     811,2,20180713,2158,2202, 42.0012, 164.9850, 4761,   4759.7,     4670,   1.5018,  34.6876,2,    154.9,2,  34.6883,2,   155.66,6,   153.77,6,    35.94,6,     0.00,6,    2.450,3,    0.080,4,    0.198,4,   2329.4,2,   2417.7,2,   7.5917,2,    25.00,    0.075,4,  -999.00,9,  -999.00,9,   1.0963,2,  27.7879,2,   1.5018,2
49UP20180614_2,   P13,    27,  1,      1,     810,2,20180713,2158,2159, 42.0012, 164.9850, 4761,   4870.7,     4778,   1.5150,  34.6877,2,    155.0,2,  34.6874,6,   155.67,2,   153.44,2,    35.89,2,     0.00,2,    2.460,3,    0.001,2,    0.000,2,   2323.4,6,   2418.6,6,   7.5902,2,    25.00,    0.013,2,  -999.00,9,  -999.00,9,   1.0959,2,  27.7880,2,   1.5150,2