BOTTLE,20191018JMAGEMD
EXPOCODE,SECT_ID,STNNBR,CASTNO,SAMPNO,BTLNBR,BTLNBR_FLAG_U,DATE,TIME,BTL_TIME,LATITUDE,LONGITUDE,DEPTH,CTDPRS,CTDDEP,CTDTMP,CTDSAL,CTDSAL_FLAG_W,CTDOXY,CTDOXY_FLAG_W,SALNTY,SALNTY_FLAG_W,OXYGEN,OXYGEN_FLAG_W,SILCAT,SILCAT_FLAG_W,NO2+NO3,NO2+NO3_FLAG_W,NITRIT,NITRIT_FLAG_W,PHSPHT,PHSPHT_FLAG_W,CFC-11,CFC-11_FLAG_W,CFC-12,CFC-12_FLAG_W,TCARBN,TCARBN_FLAG_W,ALKALI,ALKALI_FLAG_W,PH_TS,PH_TS_FLAG_W,PH_TS_TMP,CFC113,CFC113_FLAG_W,CHLORA,CHLORA_FLAG_W,PPHYTN,PPHYTN_FLAG_W,THETA,THETA_FLAG_W,SIGTHT,SIGTHT_FLAG_W,SBE35,SBE35_FLAG_W
,,,,,,,,UTC,,,,METER,DBAR,METERS,ITS-90,PSS-78,,UMOL/KG,,PSS78,,UMOL/KG,,UMOL/KG,,UMOL/KG,,UMOL/KG,,UMOL/KG,,PMOL/KG,,PMOL/KG,,UMOL/KG,,UMOL/KG,,,,ITS-90,PMOL/KG,,UG/KG,,UG/KG,,ITS-90,,KG/M3,,ITS-90,
49UP20180806_2,   P13,    84,  1,      0,      -9,0,20180907,0625,0755,  3.0030, 165.0090, 4258,      0.0,        0,  30.0401,  34.1319,2,    196.1,2,  34.1258,2,   195.01,2,     1.03,3,     0.00,2,     0.00,2,    0.100,3, -999.000,9, -999.000,9,   1918.0,2,   2243.8,2,   8.1184,2,    25.00, -999.000,9,     0.06,2,     0.02,2,  30.0395,2,  21.0621,2,-999.0000,9
49UP20180806_2,   P13,    84,  1,     36,     845,2,20180907,0625,0823,  3.0030, 165.0090, 4258,     10.3,       10,  30.0092,  34.1403,2,    196.3,2,  34.1377,2,   194.92,2,     1.03,3,     0.00,2,     0.00,2,    0.070,3,    1.426,2,    0.823,2,   1921.1,2,   2247.1,2,   8.1222,2,    25.00,    0.121,2,     0.06,2,     0.03,2,  30.0067,2,  21.0795,2,  30.0103,2
49UP20180806_2,   P13,    84,  1,     35,     844,2,20180907,0625,0821,  3.0030, 165.0090, 4258,     25.8,       26,  29.9468,  34.1517,2,    196.3,2,  34.1526,2,   195.34,6,     0.99,3,     0.00,6,     0.00,6,    0.080,3, -999.000,9, -999.000,9,   1919.2,2,   2247.2,2,   8.1215,2,    25.00, -999.000,9,     0.06,2,     0.02,2,  29.9404,2,  21.1107,2,  29.9486,2
49UP20180806_2,   P13,    84,  1,     34,     843,2,20180907,0625,0818,  3.0030, 165.0090, 4258,     51.9,       52,  30.3607,  34.9070,2,    198.6,2,  34.9002,2,   197.77,2,     1.03,3,     0.06,2,     0.00,2,    0.140,3,    1.428,2,    0.821,2,   1962.3,2,   2294.0,2,   8.1143,2,    25.00,    0.116,2,     0.09,2,     0.06,2,  30.3477,2,  21.5373,2,  30.3573,2
49UP20180806_2,   P13,    84,  1,     33,     842,2,20180907,0625,0816,  3.0030, 165.0090, 4258,     74.7,       74,  29.7397,  35.3678,2,    198.4,2,  35.3728,2,   196.59,2,     1.24,3,     0.18,2,     0.04,2,    0.230,3, -999.000,9, -999.000,9,   2007.2,2,   2326.4,2,   8.0825,2,    25.00, -999.000,9,     0.27,2,     0.23,2,  29.7212,2,  22.0970,2,  29.7579,2
49UP20180806_2,   P13,    84,  1,     32,     841,2,20180907,0625,0815,  3.0030, 165.0090, 4258,    101.2,      101,  29.0465,  35.3496,2,    181.6,2,  35.3510,2,   181.89,2,     1.54,3,     1.53,2,     0.42,2,    0.340,3,    1.483,2,    0.855,2,   2023.5,2,   2323.7,2,   8.0504,2,    25.00,    0.114,2,     0.28,2,     0.47,2,  29.0220,2,  22.3193,2,  29.0473,2
49UP20180806_2,   P13,    84,  1,     31,     840,2,20180907,0625,0813,  3.0030, 165.0090, 4258,    124.9,      124,  27.8914,  35.3126,2,    160.4,2,  35.3161,2,   161.95,2,     2.14,3,     5.04,2,     0.53,2,    0.520,3, -999.000,9, -999.000,9,   2042.8,2,   2318.8,2,   8.0113,2,    25.00, -999.000,9,     0.14,2,     0.33,2,  27.8621,2,  22.6748,2,  27.8839,2
49UP20180806_2,   P13,    84,  1,     30,     839,2,20180907,0625,0812,  3.0030, 165.0090, 4258,    151.8,      151,  23.9820,  35.0257,2,    135.4,2,  35.0306,2,   135.86,2,     5.23,3,     8.16,2,     0.02,2,    0.670,3,    1.717,2,    0.985,2,   2064.2,2,   2299.6,2,   7.9407,6,    25.00,    0.034,2,     0.05,2,     0.13,2,  23.9500,2,  23.6756,2,  23.9793,2
49UP20180806_2,   P13,    84,  1,     29,     838,2,20180907,0625,0810,  3.0030, 165.0090, 4258,    203.7,      202,  12.9229,  34.8469,2,    136.4,2,  34.8452,2,   136.25,2,    17.27,3,    19.21,2,     0.00,2,    1.420,3,    1.900,2,    0.977,2,   2160.4,6,   2304.8,6,   7.7421,2,    25.00,    0.023,2,     0.00,2,     0.02,2,  12.8950,2,  26.2953,2,  12.9215,2
49UP20180806_2,   P13,    84,  1,     28,     837,2,20180907,0625,0808,  3.0030, 165.0090, 4258,    250.9,      249,  11.4913,  34.8090,2,    121.5,2,  34.8012,2,   119.75,2,    20.24,3,    23.58,2,     0.00,2,    1.690,3,    1.587,2,    0.790,2,   2182.5,2,   2304.0,2,   7.6781,2,    25.00,    0.015,2,  -999.00,9,  -999.00,9,  11.4594,2,  26.5425,2,  11.4923,2
49UP20180806_2,   P13,    84,  1,     27,     661,2,20180907,0625,0807,  3.0030, 165.0090, 4258,    281.2,      279,  10.9601,  34.7690,2,    104.4,2,  34.7677,2,   103.75,2,    22.81,3,    25.99,2,     0.00,2,    1.840,3,    1.400,2,    0.693,2,   2198.4,2,   2305.5,2,   7.6393,2,    25.00,    0.007,2,  -999.00,9,  -999.00,9,  10.9254,2,  26.6091,2,  10.9616,2
49UP20180806_2,   P13,    84,  1,     26,     835,2,20180907,0625,0805,  3.0030, 165.0090, 4258,    322.2,      320,  10.4302,  34.7377,2,    106.6,2,  34.7358,2,   105.89,6,    23.86,3,    26.79,6,     0.00,6,    1.900,3, -999.000,9, -999.000,9,   2202.8,2,   2302.5,2,   7.6291,2,    25.00, -999.000,9,  -999.00,9,  -999.00,9,  10.3917,2,  26.6794,2,  10.4302,2
49UP20180806_2,   P13,    84,  1,     25,     834,2,20180907,0625,0803,  3.0030, 165.0090, 4258,    372.4,      370,   9.6727,  34.6778,2,    108.4,2,  34.6758,2,   108.44,2,    27.66,3,    27.98,2,     0.00,2,    1.980,3,    1.200,2,    0.572,2,   2207.1,2,   2304.5,2,   7.6182,2,    25.00,    0.013,2,  -999.00,9,  -999.00,9,   9.6302,2,  26.7628,2,   9.6732,2
49UP20180806_2,   P13,    84,  1,     23,     832,2,20180907,0625,0801,  3.0030, 165.0090, 4258,    422.9,      420,   9.0498,  34.6368,2,    117.8,2,  34.6361,2,   117.21,2,    29.41,3,    28.18,2,     0.00,2,    1.990,3, -999.000,9, -999.000,9,   2205.9,2,   2303.6,2,   7.6168,2,    25.00, -999.000,9,  -999.00,9,  -999.00,9,   9.0033,2,  26.8332,2,   9.0506,2
49UP20180806_2,   P13,    84,  1,     22,     831,2,20180907,0625,0759,  3.0030, 165.0090, 4258,    473.3,      470,   8.4493,  34.5966,2,    112.0,2,  34.5964,2,   111.59,2,    33.81,3,    29.84,2,     0.00,2,    2.110,3,    0.970,2,    0.457,2,   2217.8,2,   2308.8,2,   7.5946,2,    25.00,    0.017,2,  -999.00,9,  -999.00,9,   8.3992,2,  26.8965,2,   8.4503,2
49UP20180806_2,   P13,    84,  1,     21,     830,2,20180907,0625,0757,  3.0030, 165.0090, 4258,    573.5,      570,   7.1515,  34.5634,2,     70.7,2,  34.5628,2,    70.40,2,    48.37,3,    36.41,2,     0.00,2,    2.600,3,    0.242,2,    0.112,2,   2261.8,2,   2316.8,2,   7.4983,2,    25.00,   -0.000,2,  -999.00,9,  -999.00,9,   7.0960,2,  27.0615,2,   7.1518,2
49UP20180806_2,   P13,    84,  1,     20,     829,2,20180907,0625,0754,  3.0030, 165.0090, 4258,    675.8,      671,   6.3447,  34.5479,2,     65.9,2,  34.5475,2,    66.04,2,    58.12,3,    38.31,2,     0.00,2,    2.730,3,    0.122,2,    0.046,2,   2275.9,2,   2330.3,2,   7.4758,2,    25.00,    0.000,2,  -999.00,9,  -999.00,9,   6.2830,2,  27.1590,2,   6.3420,2
49UP20180806_2,   P13,    84,  1,     19,     828,2,20180907,0625,0751,  3.0030, 165.0090, 4258,    775.9,      770,   5.6056,  34.5395,2,     82.0,2,  34.5401,2,    81.62,2,    67.47,3,    38.06,2,     0.00,2,    2.700,3,    0.099,2,    0.042,2,   2277.9,2,   2337.8,2,   7.4989,2,    25.00,    0.000,2,  -999.00,9,  -999.00,9,   5.5385,2,  27.2462,2,   5.6081,2
49UP20180806_2,   P13,    84,  1,     18,     660,2,20180907,0625,0748,  3.0030, 165.0090, 4258,    877.6,      871,   5.0755,  34.5410,2,     94.7,2,  34.5407,2,    94.34,2,    76.11,3,    37.44,2,     0.00,2,    2.670,3,    0.110,2,    0.041,2,   2281.2,2,   2344.0,2,   7.5173,2,    25.00,    0.000,2,  -999.00,9,  -999.00,9,   5.0026,2,  27.3111,2,   5.0750,2
49UP20180806_2,   P13,    84,  1,     17,     826,2,20180907,0625,0745,  3.0030, 165.0090, 4258,    979.4,      972,   4.6646,  34.5502,2,     88.1,2,  34.5510,6,    87.89,2,    85.65,3,    38.63,2,     0.00,2,    2.770,3,    0.056,2,    0.024,2,   2296.3,2,   2352.5,2,   7.5010,2,    25.00,    0.008,2,  -999.00,9,  -999.00,9,   4.5856,2,  27.3656,2,   4.6646,2
49UP20180806_2,   P13,    84,  1,     16,     825,2,20180907,0625,0741,  3.0030, 165.0090, 4258,   1140.2,     1131,   4.0200,  34.5665,2,     89.4,2,  34.5668,2,    89.49,6,   100.22,3,    39.06,6,     0.00,6,    2.820,3,    0.020,2,    0.004,2,   2310.7,2,   2370.3,2,   7.5035,2,    25.00,    0.000,2,  -999.00,9,  -999.00,9,   3.9323,2,  27.4483,2,   4.0200,2
49UP20180806_2,   P13,    84,  1,     15,     824,2,20180907,0625,0736,  3.0030, 165.0090, 4258,   1342.5,     1331,   3.4373,  34.5850,2,     94.7,2,  34.5847,6,    94.34,2,   110.48,3,    39.06,2,     0.00,2,    2.770,3,    0.008,2,    0.005,2,   2322.0,2,   2383.1,2,   7.5041,2,    25.00,    0.000,2,  -999.00,9,  -999.00,9,   3.3379,2,  27.5221,2,   3.4373,2
49UP20180806_2,   P13,    84,  1,     14,     823,2,20180907,0625,0732,  3.0030, 165.0090, 4258,   1543.4,     1529,   3.0446,  34.5989,2,    101.6,2,  34.5986,2,   101.42,2,   119.00,3,    38.73,2,     0.00,2,    2.740,3,    0.001,2,    0.000,2,   2327.0,2,   2395.0,2,   7.5152,6,    25.00,    0.000,2,  -999.00,9,  -999.00,9,   2.9326,2,  27.5711,2,   3.0447,2
49UP20180806_2,   P13,    84,  1,     13,     822,2,20180907,0625,0726,  3.0030, 165.0090, 4258,   1748.0,     1731,   2.6984,  34.6139,2,    103.3,2,  34.6140,2,   102.87,2,   127.70,3,    38.89,2,     0.00,2,    2.750,3,    0.004,2,    0.001,2,   2337.4,2,   2402.6,6,   7.5195,2,    25.00,    0.006,2,  -999.00,9,  -999.00,9,   2.5733,2,  27.6149,2,   2.6984,2
49UP20180806_2,   P13,    84,  1,     12,     821,2,20180907,0625,0721,  3.0030, 165.0090, 4258,   1952.4,     1933,   2.3643,  34.6293,2,    111.1,2,  34.6294,2,   110.80,2,   134.84,3,    38.42,2,     0.00,2,    2.720,3,    0.000,2,    0.000,2,   2339.1,2,   2407.7,2,   7.5295,2,    25.00,    0.007,2,  -999.00,9,  -999.00,9,   2.2264,2,  27.6564,2,   2.3642,2
49UP20180806_2,   P13,    84,  1,     11,     820,2,20180907,0625,0716,  3.0030, 165.0090, 4258,   2155.4,     2133,   2.1363,  34.6419,2,    118.0,2,  34.6428,2,   117.99,2,   138.69,3,    38.00,2,     0.00,2,    2.690,3,    0.000,2,    0.000,2,   2341.7,2,   2414.7,2,   7.5383,2,    25.00,    0.000,2,  -999.00,9,  -999.00,9,   1.9844,2,  27.6860,2,   2.1361,2
49UP20180806_2,   P13,    84,  1,     10,     819,2,20180907,0625,0710,  3.0030, 165.0090, 4258,   2358.1,     2332,   1.9658,  34.6525,2,    119.9,2,  34.6533,6,   119.81,2,   144.13,3,    38.02,2,     0.00,2,    2.680,3,    0.000,2,    0.000,2,   2344.2,2,   2418.5,2,   7.5437,2,    25.00,    0.000,2,  -999.00,9,  -999.00,9,   1.7989,2,  27.7089,2,   1.9658,2
49UP20180806_2,   P13,    84,  1,      9,     818,2,20180907,0625,0705,  3.0030, 165.0090, 4258,   2560.8,     2531,   1.8436,  34.6594,2,    123.5,2,  34.6605,2,   123.32,2,   146.84,3,    37.83,2,     0.00,2,    2.660,3,    0.001,2,    0.000,2,   2344.1,2,   2421.9,2,   7.5500,2,    25.00,    0.000,2,  -999.00,9,  -999.00,9,   1.6607,2,  27.7249,2,   1.8433,2
49UP20180806_2,   P13,    84,  1,      8,     817,2,20180907,0625,0701,  3.0030, 165.0090, 4258,   2764.5,     2731,   1.7566,  34.6645,2,    128.4,2,  34.6647,2,   128.18,6,   147.97,3,    37.53,6,     0.00,6,    2.640,3,    0.000,2,    0.000,2,   2342.5,2,   2422.6,2,   7.5579,2,    25.00,    0.001,2,  -999.00,9,  -999.00,9,   1.5566,2,  27.7368,2,   1.7565,2
49UP20180806_2,   P13,    84,  1,      7,     816,2,20180907,0625,0656,  3.0030, 165.0090, 4258,   2968.0,     2931,   1.6945,  34.6675,2,    134.2,2,  34.6674,6,   133.88,2,   146.41,3,    37.09,2,     0.00,2,    2.600,3, -999.000,9, -999.000,9,   2338.3,2,   2423.3,2,   7.5622,2,    25.00, -999.000,9,  -999.00,9,  -999.00,9,   1.4765,2,  27.7451,2,   1.6944,2
49UP20180806_2,   P13,    84,  1,      6,     815,2,20180907,0625,0651,  3.0030, 165.0090, 4258,   3213.6,     3172,   1.6366,  34.6717,2,    139.1,2,  34.6718,2,   138.99,2,   146.60,3,    36.78,2,     0.00,2,    2.570,3, -999.000,9, -999.000,9,   2334.3,2,   2420.1,2,   7.5718,2,    25.00, -999.000,9,  -999.00,9,  -999.00,9,   1.3959,2,  27.7543,2,   1.6364,2
49UP20180806_2,   P13,    84,  1,      5,     814,2,20180907,0625,0645,  3.0030, 165.0090, 4258,   3468.2,     3421,   1.5746,  34.6766,2,    145.1,2,  34.6770,6,   144.44,2,   145.66,3,    36.43,2,     0.00,2,    2.540,3,    0.001,2,    0.000,2,   2331.3,2,   2419.1,2,   7.5819,2,    25.00,    0.009,2,  -999.00,9,  -999.00,9,   1.3099,2,  27.7643,2,   1.5745,2
49UP20180806_2,   P13,    84,  1,      4,     813,2,20180907,0625,0639,  3.0030, 165.0090, 4258,   3724.1,     3671,   1.4921,  34.6837,2,    153.9,2,  34.6838,2,   153.99,2,   143.79,3,    35.83,2,     0.00,2,    2.500,3,    0.000,2,    0.000,2,   2327.5,2,   2418.7,2,   7.5925,2,    25.00,    0.004,2,  -999.00,9,  -999.00,9,   1.2030,2,  27.7774,2,   1.4921,2
49UP20180806_2,   P13,    84,  1,      3,     812,2,20180907,0625,0634,  3.0030, 165.0090, 4258,   3979.1,     3920,   1.4657,  34.6874,2,    159.8,2,  34.6883,2,   159.86,2,   140.96,3,    35.30,2,     0.00,2,    2.460,3,    0.000,2,    0.000,2,   2318.5,2,   2413.3,2,   7.5987,6,    25.00,    0.000,2,  -999.00,9,  -999.00,9,   1.1500,2,  27.7841,2,   1.4657,2
49UP20180806_2,   P13,    84,  1,      2,     811,2,20180907,0625,0628,  3.0030, 165.0090, 4258,   4238.0,     4173,   1.4196,  34.6927,2,    168.6,2,  34.6927,2,   168.57,2,   136.66,3,    34.67,2,     0.00,2,    2.410,3,    0.000,2,    0.000,2,   2311.8,6,   2409.8,6,   7.6058,2,    25.00,    0.000,2,  -999.00,9,  -999.00,9,   1.0767,2,  27.7933,2,   1.4195,2
49UP20180806_2,   P13,    84,  1,      1,     810,2,20180907,0625,0625,  3.0030, 165.0090, 4258,   4310.8,     4244,   1.4229,  34.6930,2,    169.5,2,  34.6935,2,   169.17,2,   136.20,3,    34.71,2,     0.00,2,    2.410,3,    0.002,2,    0.000,2,   2310.0,2,   2407.9,2,   7.6083,2,    25.00,    0.000,2,  -999.00,9,  -999.00,9,   1.0718,2,  27.7939,2,   1.4228,2