BOTTLE,20191018JMAGEMD
EXPOCODE,SECT_ID,STNNBR,CASTNO,SAMPNO,BTLNBR,BTLNBR_FLAG_U,DATE,TIME,BTL_TIME,LATITUDE,LONGITUDE,DEPTH,CTDPRS,CTDDEP,CTDTMP,CTDSAL,CTDSAL_FLAG_W,CTDOXY,CTDOXY_FLAG_W,SALNTY,SALNTY_FLAG_W,OXYGEN,OXYGEN_FLAG_W,SILCAT,SILCAT_FLAG_W,NO2+NO3,NO2+NO3_FLAG_W,NITRIT,NITRIT_FLAG_W,PHSPHT,PHSPHT_FLAG_W,CFC-11,CFC-11_FLAG_W,CFC-12,CFC-12_FLAG_W,TCARBN,TCARBN_FLAG_W,ALKALI,ALKALI_FLAG_W,PH_TS,PH_TS_FLAG_W,PH_TS_TMP,CFC113,CFC113_FLAG_W,CHLORA,CHLORA_FLAG_W,PPHYTN,PPHYTN_FLAG_W,THETA,THETA_FLAG_W,SIGTHT,SIGTHT_FLAG_W,SBE35,SBE35_FLAG_W
,,,,,,,,UTC,,,,METER,DBAR,METERS,ITS-90,PSS-78,,UMOL/KG,,PSS78,,UMOL/KG,,UMOL/KG,,UMOL/KG,,UMOL/KG,,UMOL/KG,,PMOL/KG,,PMOL/KG,,UMOL/KG,,UMOL/KG,,,,ITS-90,PMOL/KG,,UG/KG,,UG/KG,,ITS-90,,KG/M3,,ITS-90,
49UP20180806_2,   P13,   103,  1,      0,      -9,0,20180913,2214,2314, -8.0028, 160.9950, 3140,      0.0,        0,  29.3396,  34.8869,2,    195.1,2,  34.9003,2,   194.47,2,     1.66,3,     0.00,2,     0.00,2,    0.190,3, -999.000,9, -999.000,9,   1950.3,2,   2295.2,2,   8.1196,2,    25.00, -999.000,9,     0.10,2,     0.05,2,  29.3390,2,  21.8654,2,-999.0000,9
49UP20180806_2,   P13,   103,  1,     36,     845,2,20180913,2214,2354, -8.0028, 160.9950, 3140,     11.7,       12,  29.3697,  34.8866,2,    194.9,2,  34.8895,2,   194.86,2,     1.74,3,     0.00,2,     0.00,2,    0.170,3,    1.429,2,    0.820,2,   1956.9,2,   2295.9,2,   8.1203,2,    25.00,    0.133,2,     0.10,2,     0.04,2,  29.3668,2,  21.8559,2,  29.3617,2
49UP20180806_2,   P13,   103,  1,     35,     844,2,20180913,2214,2353, -8.0028, 160.9950, 3140,     25.9,       26,  29.3474,  34.8893,2,    194.9,2,  34.8900,2,   194.08,2,     1.52,3,     0.00,2,     0.00,2,    0.170,3, -999.000,9, -999.000,9,   1954.9,2,   2295.2,2,   8.1196,2,    25.00, -999.000,9,     0.09,2,     0.04,2,  29.3411,2,  21.8666,2,  29.3482,2
49UP20180806_2,   P13,   103,  1,     34,     843,2,20180913,2214,2350, -8.0028, 160.9950, 3140,     51.5,       51,  29.3545,  34.8908,2,    194.7,2,  34.8911,2,   194.61,2,     1.54,3,     0.02,2,     0.00,2,    0.160,3,    1.439,2,    0.819,2,   1955.4,2,   2295.9,2,   8.1209,2,    25.00,    0.126,2,     0.09,2,     0.04,2,  29.3420,2,  21.8674,2,  29.3562,2
49UP20180806_2,   P13,   103,  1,     33,     842,2,20180913,2214,2348, -8.0028, 160.9950, 3140,     75.5,       75,  28.8683,  35.0012,2,    190.8,2,  34.9818,4,   190.69,2,     1.50,3,     0.02,2,     0.00,2,    0.200,3, -999.000,9, -999.000,9,   1972.9,2,   2301.3,2,   8.1040,2,    25.00, -999.000,9,     0.23,2,     0.17,2,  28.8501,2,  22.1150,2,  28.8704,2
49UP20180806_2,   P13,   103,  1,     32,     841,2,20180913,2214,2346, -8.0028, 160.9950, 3140,    101.6,      101,  28.3981,  35.5093,2,    162.0,2,  35.5088,2,   161.69,2,     1.90,3,     3.79,2,     0.43,2,    0.490,3,    1.517,2,    0.865,2,   2043.5,2,   2332.9,2,   8.0271,2,    25.00,    0.124,2,     0.31,2,     0.48,2,  28.3739,2,  22.6547,2,  28.4053,2
49UP20180806_2,   P13,   103,  1,     31,     840,3,20180913,2214,2344, -8.0028, 160.9950, 3140,    125.5,      125,  26.7087,  35.6912,2,    133.5,2,  35.6877,2,   133.72,6,     2.25,3,     7.58,6,     0.06,6,    0.700,3, -999.000,9, -999.000,9,   2077.4,2,   2343.1,2,   7.9713,2,    25.00, -999.000,9,     0.08,2,     0.29,2,  26.6800,2,  23.3406,2,  26.7095,2
49UP20180806_2,   P13,   103,  1,     29,     838,2,20180913,2214,2342, -8.0028, 160.9950, 3140,    150.7,      150,  25.8455,  35.9849,2,    134.7,2,  35.9848,2,   134.84,2,     2.04,3,     7.76,2,     0.03,2,    0.740,3, -999.000,9, -999.000,9,   2103.5,2,   2367.7,2,   7.9663,2,    25.00, -999.000,9,     0.03,2,     0.19,2,  25.8119,2,  23.8354,2,  25.8451,2
49UP20180806_2,   P13,   103,  1,     30,     839,2,20180913,2214,2342, -8.0028, 160.9950, 3140,    151.2,      150,  25.8421,  35.9859,2,    134.8,2,  35.9843,2,   134.78,2,     2.06,3,     7.75,2,     0.04,2,    0.750,3,    1.676,2,    0.959,2,   2104.1,2,   2358.6,3,   7.9644,2,    25.00,    0.093,2,  -999.00,9,  -999.00,9,  25.8084,2,  23.8372,2,  25.8405,2
49UP20180806_2,   P13,   103,  1,     28,     837,2,20180913,2214,2340, -8.0028, 160.9950, 3140,    201.7,      200,  22.2513,  36.0188,2,    138.1,2,  36.0181,6,   138.84,2,     2.28,3,     8.42,2,     0.01,2,    0.800,3,    1.933,2,    1.081,2,   2143.1,2,   2370.6,2,   7.9192,2,    25.00,    0.064,2,     0.01,2,     0.03,2,  22.2108,2,  24.9326,2,  22.2530,2
49UP20180806_2,   P13,   103,  1,     27,     661,2,20180913,2214,2338, -8.0028, 160.9950, 3140,    252.0,      250,  17.2136,  35.4135,2,    112.5,2,  35.4022,2,   111.86,2,     6.92,3,    15.44,2,     0.01,2,    1.290,3,    1.925,6,    1.024,6,   2168.6,2,   2332.9,2,   7.7795,2,    25.00,    0.017,6,  -999.00,9,  -999.00,9,  17.1715,2,  25.7907,2,  17.2175,2
49UP20180806_2,   P13,   103,  1,     26,     835,2,20180913,2214,2335, -8.0028, 160.9950, 3140,    302.4,      300,  13.0265,  34.9876,2,    106.4,2,  34.9908,2,   106.31,2,    13.59,3,    22.07,2,     0.00,2,    1.650,3,    1.618,2,    0.809,2,   2190.5,2,   2314.2,2,   7.6879,2,    25.00,    0.010,2,  -999.00,9,  -999.00,9,  12.9847,2,  26.3864,2,  13.0415,2
49UP20180806_2,   P13,   103,  1,     25,     834,2,20180913,2214,2333, -8.0028, 160.9950, 3140,    351.7,      349,  11.0260,  34.8276,2,    117.1,2,  34.8298,2,   116.63,2,    18.72,3,    24.85,2,     0.00,2,    1.790,3, -999.000,9, -999.000,9,   2194.3,2,   2312.1,2,   7.6613,2,    25.00, -999.000,9,  -999.00,9,  -999.00,9,  10.9824,2,  26.6445,2,  11.0187,2
49UP20180806_2,   P13,   103,  1,     23,     832,2,20180913,2214,2330, -8.0028, 160.9950, 3140,    403.9,      401,   9.7949,  34.7314,2,    123.1,2,  34.7338,2,   122.96,2,    21.98,3,    26.59,2,     0.00,2,    1.880,3,    1.223,2,    0.577,2,   2201.6,2,   2309.5,2,   7.6427,6,    25.00,    0.011,2,  -999.00,9,  -999.00,9,   9.7482,2,  26.7849,2,   9.7974,2
49UP20180806_2,   P13,   103,  1,     22,     831,2,20180913,2214,2328, -8.0028, 160.9950, 3140,    456.9,      454,   8.6547,  34.6407,2,    137.7,2,  34.6405,2,   137.87,2,    24.61,3,    27.42,2,     0.00,2,    1.930,3, -999.000,9, -999.000,9,   2196.4,2,   2306.5,2,   7.6413,2,    25.00, -999.000,9,  -999.00,9,  -999.00,9,   8.6057,2,  26.8991,2,   8.6550,2
49UP20180806_2,   P13,   103,  1,     21,     830,2,20180913,2214,2325, -8.0028, 160.9950, 3140,    507.8,      504,   7.5195,  34.5611,2,    146.8,2,  34.5495,4,   153.06,2,    27.51,3,    28.40,2,     0.00,2,    1.970,3,    1.121,2,    0.507,2,   2197.9,6,   2306.5,6,   7.6388,2,    25.00,    0.012,2,  -999.00,9,  -999.00,9,   7.4692,2,  27.0069,2,   7.5265,2
49UP20180806_2,   P13,   103,  1,     20,     829,2,20180913,2214,2322, -8.0028, 160.9950, 3140,    605.5,      601,   6.4377,  34.5002,2,    155.9,2,  34.4999,2,   156.79,2,    34.47,3,    30.15,2,     0.00,2,    2.100,3,    0.837,2,    0.371,2,   2207.0,2,   2309.2,2,   7.6227,2,    25.00,    0.018,2,  -999.00,9,  -999.00,9,   6.3823,2,  27.1083,2,   6.4380,2
49UP20180806_2,   P13,   103,  1,     19,     828,2,20180913,2214,2319, -8.0028, 160.9950, 3140,    704.9,      700,   5.4514,  34.5007,2,    146.8,2,  34.5020,2,   147.07,6,    48.72,3,    32.63,6,     0.00,6,    2.270,3,    0.444,2,    0.202,2,   2232.9,2,   2325.1,2,   7.5974,2,    25.00,    0.014,2,  -999.00,9,  -999.00,9,   5.3918,2,  27.2333,2,   5.4522,2
49UP20180806_2,   P13,   103,  1,     18,     660,2,20180913,2214,2315, -8.0028, 160.9950, 3140,    805.0,      799,   5.1133,  34.5136,2,    141.4,2,  34.5141,2,   141.78,2,    55.93,3,    33.52,2,     0.00,2,    2.330,3,    0.337,2,    0.152,2,   2252.6,3,   2331.1,2,   7.5894,2,    25.00,    0.014,2,  -999.00,9,  -999.00,9,   5.0466,2,  27.2842,2,   5.1133,2
49UP20180806_2,   P13,   103,  1,     17,     826,2,20180913,2214,2315, -8.0028, 160.9950, 3140,    805.7,      800,   5.1136,  34.5135,2,    141.4,2,  34.5149,2,   141.77,2,    56.16,3,    33.51,2,     0.00,2,    2.330,3, -999.000,9, -999.000,9,   2242.0,2,   2331.0,2,   7.5857,2,    25.00, -999.000,9,  -999.00,9,  -999.00,9,   5.0469,2,  27.2841,2,   5.1138,2
49UP20180806_2,   P13,   103,  1,     16,     825,2,20180913,2214,2312, -8.0028, 160.9950, 3140,    905.7,      899,   4.6607,  34.5224,2,    134.8,2,  34.5230,2,   135.35,2,    65.23,3,    34.81,2,     0.00,2,    2.420,3,    0.204,2,    0.083,2,   2256.7,2,   2340.6,2,   7.5706,2,    25.00,    0.004,2,  -999.00,9,  -999.00,9,   4.5882,2,  27.3432,2,   4.6604,2
49UP20180806_2,   P13,   103,  1,     15,     824,2,20180913,2214,2309, -8.0028, 160.9950, 3140,   1008.4,     1000,   4.1439,  34.5278,2,    136.4,2,  34.5282,2,   137.00,2,    73.46,3,    35.28,2,     0.00,2,    2.460,3,    0.121,2,    0.053,2,   2266.9,2,   2349.2,2,   7.5692,6,    25.00,    0.004,2,  -999.00,9,  -999.00,9,   4.0663,2,  27.4036,2,   4.1454,2
49UP20180806_2,   P13,   103,  1,     14,     823,2,20180913,2214,2302, -8.0028, 160.9950, 3140,   1212.9,     1203,   3.5756,  34.5518,2,    135.1,2,  34.5521,6,   135.70,2,    86.15,3,    36.02,2,     0.00,2,    2.510,3,    0.053,2,    0.018,2,   2279.8,6,   2362.1,6,   7.5655,2,    25.00,    0.000,2,  -999.00,9,  -999.00,9,   3.4857,2,  27.4814,2,   3.5756,2
49UP20180806_2,   P13,   103,  1,     13,     822,2,20180913,2214,2257, -8.0028, 160.9950, 3140,   1413.9,     1401,   3.0979,  34.5778,2,    132.1,2,  34.5785,2,   132.97,2,    98.90,3,    36.63,2,     0.00,2,    2.560,3,    0.016,2,    0.005,2,   2300.0,2,   2375.4,2,   7.5599,2,    25.00,    0.001,2,  -999.00,9,  -999.00,9,   2.9962,2,  27.5484,2,   3.0976,2
49UP20180806_2,   P13,   103,  1,      9,     818,2,20180913,2214,2252, -8.0028, 160.9950, 3140,   1614.0,     1599,   2.8012,  34.5979,2,    128.9,2,  34.6011,4,   129.25,2,   108.92,3,    37.07,2,     0.00,2,    2.590,3,    0.008,2,    0.001,2,   2306.0,2,   2385.8,2,   7.5556,2,    25.00,    0.000,2,  -999.00,9,  -999.00,9,   2.6862,2,  27.5923,2,   2.8012,2
49UP20180806_2,   P13,   103,  1,      8,     817,2,20180913,2214,2246, -8.0028, 160.9950, 3140,   1819.1,     1801,   2.5296,  34.6168,2,    126.4,2,  34.6185,2,   126.77,2,   118.60,3,    37.31,2,     0.00,2,    2.610,3,    0.010,2,    0.001,2,   2320.6,2,   2398.8,2,   7.5520,2,    25.00,    0.001,2,  -999.00,9,  -999.00,9,   2.4008,2,  27.6319,2,   2.5290,2
49UP20180806_2,   P13,   103,  1,      7,     816,2,20180913,2214,2241, -8.0028, 160.9950, 3140,   2023.8,     2003,   2.2788,  34.6309,2,    134.7,2,  34.6321,2,   134.83,2,   122.31,3,    36.81,2,     0.00,2,    2.560,3,    0.007,6,    0.001,6,   2317.7,2,   2401.0,2,   7.5621,2,    25.00,    0.003,6,  -999.00,9,  -999.00,9,   2.1360,2,  27.6651,2,   2.2788,2
49UP20180806_2,   P13,   103,  1,      6,     815,2,20180913,2214,2236, -8.0028, 160.9950, 3140,   2224.5,     2200,   2.1037,  34.6428,2,    134.6,2,  34.6440,2,   134.88,2,   129.00,3,    36.92,2,     0.00,2,    2.570,3,    0.009,2,    0.002,2,   2325.3,2,   2407.7,2,   7.5638,2,    25.00,   -0.000,2,  -999.00,9,  -999.00,9,   1.9463,2,  27.6897,2,   2.1036,2
49UP20180806_2,   P13,   103,  1,      5,     814,2,20180913,2214,2232, -8.0028, 160.9950, 3140,   2426.2,     2399,   1.9916,  34.6502,2,    133.4,2,  34.6508,6,   133.59,2,   134.17,3,    37.08,2,     0.00,2,    2.580,3,    0.000,2,    0.000,2,   2332.0,2,   2412.9,2,   7.5621,2,    25.00,    0.000,2,  -999.00,9,  -999.00,9,   1.8181,2,  27.7056,2,   1.9916,2
49UP20180806_2,   P13,   103,  1,      4,     813,2,20180913,2214,2227, -8.0028, 160.9950, 3140,   2629.9,     2599,   1.8815,  34.6558,2,    132.1,2,  34.6569,2,   132.19,6,   139.38,3,    37.29,6,     0.00,6,    2.590,3,    0.000,2,    0.001,2,   2335.1,2,   2418.4,2,   7.5625,2,    25.00,    0.000,2,  -999.00,9,  -999.00,9,   1.6915,2,  27.7197,2,   1.8815,2
49UP20180806_2,   P13,   103,  1,      3,     812,2,20180913,2214,2223, -8.0028, 160.9950, 3140,   2833.7,     2799,   1.7683,  34.6623,2,    136.1,2,  34.6622,2,   136.17,2,   141.23,3,    37.04,2,     0.00,2,    2.570,3,    0.000,2,   -0.000,2,   2339.3,2,   2419.6,2,   7.5671,2,    25.00,   -0.000,2,  -999.00,9,  -999.00,9,   1.5616,2,  27.7346,2,   1.7684,2
49UP20180806_2,   P13,   103,  1,      2,     811,3,20180913,2214,2218, -8.0028, 160.9950, 3140,   3038.4,     3000,   1.6975,  34.6671,2,    140.0,2,  34.6686,4,   140.30,2,   141.73,3,    36.74,2,     0.00,2,    2.540,3,    0.000,2,    0.001,2,   2336.0,2,   2420.9,2,   7.5724,2,    25.00,    0.000,2,  -999.00,9,  -999.00,9,   1.4727,2,  27.7450,2,   1.6974,2
49UP20180806_2,   P13,   103,  1,      1,     810,2,20180913,2214,2215, -8.0028, 160.9950, 3140,   3145.9,     3105,   1.6265,  34.6720,2,    144.8,2,  34.6730,6,   144.44,2,   142.48,3,    36.42,2,     0.00,2,    2.530,3,    0.003,2,    0.001,2,   2330.5,6,   2420.4,6,   7.5785,2,    25.00,    0.003,2,  -999.00,9,  -999.00,9,   1.3928,2,  27.7547,2,   1.6262,2