BOTTLE,20191018JMAGEMD
EXPOCODE,SECT_ID,STNNBR,CASTNO,SAMPNO,BTLNBR,BTLNBR_FLAG_U,DATE,TIME,BTL_TIME,LATITUDE,LONGITUDE,DEPTH,CTDPRS,CTDDEP,CTDTMP,CTDSAL,CTDSAL_FLAG_W,CTDOXY,CTDOXY_FLAG_W,SALNTY,SALNTY_FLAG_W,OXYGEN,OXYGEN_FLAG_W,SILCAT,SILCAT_FLAG_W,NO2+NO3,NO2+NO3_FLAG_W,NITRIT,NITRIT_FLAG_W,PHSPHT,PHSPHT_FLAG_W,CFC-11,CFC-11_FLAG_W,CFC-12,CFC-12_FLAG_W,TCARBN,TCARBN_FLAG_W,ALKALI,ALKALI_FLAG_W,PH_TS,PH_TS_FLAG_W,PH_TS_TMP,CFC113,CFC113_FLAG_W,CHLORA,CHLORA_FLAG_W,PPHYTN,PPHYTN_FLAG_W,THETA,THETA_FLAG_W,SIGTHT,SIGTHT_FLAG_W,SBE35,SBE35_FLAG_W
,,,,,,,,UTC,,,,METER,DBAR,METERS,ITS-90,PSS-78,,UMOL/KG,,PSS78,,UMOL/KG,,UMOL/KG,,UMOL/KG,,UMOL/KG,,UMOL/KG,,PMOL/KG,,PMOL/KG,,UMOL/KG,,UMOL/KG,,,,ITS-90,PMOL/KG,,UG/KG,,UG/KG,,ITS-90,,KG/M3,,ITS-90,
49UP20180806_1,   P13,    73,  1,      0,      -9,0,20180825,1633,1825,  8.0188, 164.0125, 5148,      0.0,        0,  29.6046,  33.6100,2,    194.8,2,  33.6119,2,   196.30,2,     1.66,3,     0.00,2,     0.00,2,    0.050,3, -999.000,9, -999.000,9,   1884.0,2,   2210.4,2,   8.1201,2,    25.00, -999.000,9,     0.08,2,     0.03,2,  29.6040,2,  20.8186,2,-999.0000,9
49UP20180806_1,   P13,    73,  1,     36,     845,2,20180825,1633,1858,  8.0188, 164.0125, 5148,     11.6,       12,  29.6145,  33.6112,2,    194.5,2,  33.6166,2,   196.14,2,     1.58,3,     0.00,2,     0.00,2,    0.050,3,    1.465,2,    0.826,2,   1887.0,2,   2211.7,2,   8.1205,2,    25.00,    0.136,2,     0.08,2,     0.03,2,  29.6117,2,  20.8169,2,  29.6134,2
49UP20180806_1,   P13,    73,  1,     35,     844,2,20180825,1633,1856,  8.0188, 164.0125, 5148,     52.4,       52,  27.5483,  34.5438,2,    198.9,2,  34.5406,2,   200.08,2,     1.61,3,     0.00,2,     0.00,2,    0.110,3,    1.679,2,    0.929,2,   1965.9,2,   2272.0,2,   8.0764,2,    25.00,    0.127,2,     0.13,2,     0.06,2,  27.5361,2,  22.2022,2,  27.5420,2
49UP20180806_1,   P13,    73,  1,     34,     843,2,20180825,1633,1853,  8.0188, 164.0125, 5148,    100.6,      100,  19.3475,  34.7439,2,    162.5,2,  34.7441,2,   163.15,2,     5.76,3,     6.01,2,     0.25,2,    0.570,3,    2.173,2,    1.180,2,   2079.8,2,   2293.9,2,   7.8868,2,    25.00,    0.066,2,     0.20,2,     0.30,2,  19.3294,2,  24.7411,2,  19.3595,2
49UP20180806_1,   P13,    73,  1,     24,     833,4,20180825,1633,1851,  8.0188, 164.0125, 5148,    125.1,      124,  15.1313,  34.5152,2,    157.5,2,-999.0000,9,  -999.00,9,  -999.00,9,  -999.00,9,  -999.00,9, -999.000,9, -999.000,9, -999.000,9,   -999.0,9,   -999.0,9,-999.0000,9,  -999.00, -999.000,9,  -999.00,9,  -999.00,9,  15.1124,2,  25.5735,2,  15.1133,2
49UP20180806_1,   P13,    73,  1,     33,     842,2,20180825,1633,1850,  8.0188, 164.0125, 5148,    150.5,      150,  12.4609,  34.4608,2,    102.0,2,  34.4623,2,   102.24,6,    20.19,3,    21.52,6,     0.01,6,    1.580,3,    2.082,2,    1.048,2,   2176.2,2,   2280.1,2,   7.6435,2,    25.00,    0.028,2,     0.05,2,     0.13,2,  12.4409,2,  26.0854,2,  12.4867,2
49UP20180806_1,   P13,    73,  1,     32,     841,2,20180825,1633,1847,  8.0188, 164.0125, 5148,    202.6,      201,  10.6820,  34.5816,2,     42.2,2,  34.5791,2,    41.64,2,    29.94,3,    31.35,2,     0.00,2,    2.250,3,    1.093,2,    0.518,2,   2239.3,2,   2296.0,2,   7.4977,2,    25.00,    0.008,2,     0.00,2,     0.02,2,  10.6576,2,  26.5110,2,  10.6807,2
49UP20180806_1,   P13,    73,  1,     31,     840,2,20180825,1633,1845,  8.0188, 164.0125, 5148,    254.0,      252,   9.9263,  34.6265,2,     35.1,2,  34.6212,2,    33.44,2,    33.01,3,    33.78,2,     0.00,2,    2.390,3,    0.667,2,    0.324,2,   2249.5,6,   2302.2,6,   7.4699,2,    25.00,    0.004,2,  -999.00,9,  -999.00,9,   9.8970,2,  26.6778,2,   9.9207,2
49UP20180806_1,   P13,    73,  1,     30,     839,2,20180825,1633,1843,  8.0188, 164.0125, 5148,    332.7,      331,   9.1998,  34.6140,2,     47.7,2,  34.6123,2,    47.96,2,    35.44,3,    34.07,2,     0.00,2,    2.380,3,    0.543,2,    0.258,2,   2249.6,2,   2306.6,2,   7.4867,6,    25.00,    0.009,2,  -999.00,9,  -999.00,9,   9.1630,2,  26.7897,2,   9.2004,2
49UP20180806_1,   P13,    73,  1,     29,     838,2,20180825,1633,1841,  8.0188, 164.0125, 5148,    383.8,      381,   8.7806,  34.6031,2,     57.2,2,  34.6009,2,    58.16,2,    37.26,3,    34.21,2,     0.00,2,    2.380,3,    0.513,2,    0.242,2,   2243.2,2,   2309.2,2,   7.4968,2,    25.00,    0.000,2,  -999.00,9,  -999.00,9,   8.7393,2,  26.8487,2,   8.7807,2
49UP20180806_1,   P13,    73,  1,     28,     837,2,20180825,1633,1838,  8.0188, 164.0125, 5148,    438.1,      435,   8.3198,  34.5880,2,     61.2,2,  34.5872,2,    60.95,2,    39.99,3,    34.69,2,     0.00,2,    2.420,3, -999.000,9, -999.000,9,   2247.7,2,   2311.0,2,   7.4951,2,    25.00, -999.000,9,  -999.00,9,  -999.00,9,   8.2740,2,  26.9089,2,   8.3188,2
49UP20180806_1,   P13,    73,  1,     27,     661,2,20180825,1633,1836,  8.0188, 164.0125, 5148,    484.5,      481,   7.9848,  34.5752,2,     62.0,2,  34.5739,6,    62.06,2,    43.27,3,    35.24,2,     0.00,2,    2.490,3,    0.372,2,    0.172,2,   2256.2,2,   2313.1,2,   7.4912,2,    25.00,    0.007,2,  -999.00,9,  -999.00,9,   7.9352,2,  26.9499,2,   7.9851,2
49UP20180806_1,   P13,    73,  1,     26,     835,2,20180825,1633,1834,  8.0188, 164.0125, 5148,    534.1,      530,   7.6870,  34.5630,2,     62.1,2,  34.5616,2,    62.16,2,    46.62,3,    35.74,2,     0.00,2,    2.550,3, -999.000,9, -999.000,9,   2256.5,2,   2316.4,2,   7.4894,2,    25.00, -999.000,9,  -999.00,9,  -999.00,9,   7.6334,2,  26.9846,2,   7.6874,2
49UP20180806_1,   P13,    73,  1,     25,     834,2,20180825,1633,1831,  8.0188, 164.0125, 5148,    635.8,      631,   6.8796,  34.5387,2,     63.9,2,  34.5378,2,    64.29,6,    55.91,3,    37.00,6,     0.00,6,    2.650,3,    0.205,2,    0.091,2,   2266.3,2,   2323.6,2,   7.4793,2,    25.00,   -0.000,2,  -999.00,9,  -999.00,9,   6.8191,2,  27.0802,2,   6.8798,2
49UP20180806_1,   P13,    73,  1,     23,     832,2,20180825,1633,1828,  8.0188, 164.0125, 5148,    735.4,      730,   5.9372,  34.5338,2,     64.1,2,  34.5331,2,    64.32,2,    67.61,3,    38.72,2,     0.00,2,    2.750,3,    0.092,2,    0.039,2,   2285.3,2,   2336.7,2,   7.4657,2,    25.00,   -0.000,2,  -999.00,9,  -999.00,9,   5.8720,2,  27.2004,2,   5.9373,2
49UP20180806_1,   P13,    73,  1,     22,     831,2,20180825,1633,1825,  8.0188, 164.0125, 5148,    834.7,      828,   5.3809,  34.5397,2,     67.3,2,  34.5390,2,    67.64,2,    75.63,3,    39.33,2,     0.00,2,    2.780,3,    0.056,2,    0.025,2,   2291.8,2,   2347.1,2,   7.4686,2,    25.00,    0.006,2,  -999.00,9,  -999.00,9,   5.3099,2,  27.2740,2,   5.3810,2
49UP20180806_1,   P13,    73,  1,     21,     830,2,20180825,1633,1822,  8.0188, 164.0125, 5148,    940.6,      933,   4.9655,  34.5447,2,     72.2,2,  34.5451,2,    72.89,2,    82.74,3,    39.39,2,     0.00,2,    2.780,3,    0.043,2,    0.018,2,   2302.3,2,   2353.4,2,   7.4716,2,    25.00,    0.005,2,  -999.00,9,  -999.00,9,   4.8878,2,  27.3272,2,   4.9654,2
49UP20180806_1,   P13,    73,  1,     20,     829,2,20180825,1633,1816,  8.0188, 164.0125, 5148,   1079.0,     1070,   4.4270,  34.5540,2,     76.8,2,  34.5544,2,    77.28,2,    93.62,3,    39.54,2,     0.00,2,    2.800,3,    0.024,2,    0.007,2,   2311.3,2,   2364.4,2,   7.4773,2,    25.00,    0.000,2,  -999.00,9,  -999.00,9,   4.3412,2,  27.3953,2,   4.4271,2
49UP20180806_1,   P13,    73,  1,     19,     828,2,20180825,1633,1811,  8.0188, 164.0125, 5148,   1282.0,     1271,   3.6367,  34.5765,2,     84.0,2,  34.5763,2,    84.41,2,   109.22,3,    39.74,2,     0.00,2,    2.810,3,    0.009,2,    0.003,2,   2324.4,2,   2382.1,2,   7.4856,2,    25.00,    0.000,2,  -999.00,9,  -999.00,9,   3.5404,2,  27.4957,2,   3.6387,2
49UP20180806_1,   P13,    73,  1,     18,     660,2,20180825,1633,1806,  8.0188, 164.0125, 5148,   1490.2,     1477,   3.0628,  34.5935,2,     88.4,2,  34.5944,2,    88.93,2,   123.06,3,    39.86,2,     0.00,2,    2.810,3,    0.000,2,    0.001,2,   2330.9,2,   2396.1,2,   7.4874,2,    25.00,    0.004,2,  -999.00,9,  -999.00,9,   2.9551,2,  27.5647,2,   3.0629,2
49UP20180806_1,   P13,    73,  1,     17,     826,2,20180825,1633,1800,  8.0188, 164.0125, 5148,   1686.5,     1670,   2.6571,  34.6100,2,     94.3,2,  34.6103,2,    94.74,2,   131.74,3,    39.59,2,     0.00,2,    2.770,3,    0.002,2,    0.002,2,   2343.5,2,   2402.9,2,   7.4991,2,    25.00,    0.004,2,  -999.00,9,  -999.00,9,   2.5377,2,  27.6149,2,   2.6573,2
49UP20180806_1,   P13,    73,  1,     16,     825,2,20180825,1633,1755,  8.0188, 164.0125, 5148,   1895.6,     1876,   2.3078,  34.6284,2,    102.6,2,  34.6288,2,   102.98,2,   140.15,3,    39.27,2,     0.00,2,    2.730,3,    0.000,2,    0.000,2,   2346.5,2,   2413.0,6,   7.5104,2,    25.00,    0.000,2,  -999.00,9,  -999.00,9,   2.1756,2,  27.6598,2,   2.3078,2
49UP20180806_1,   P13,    73,  1,     15,     824,2,20180825,1633,1749,  8.0188, 164.0125, 5148,   2093.9,     2072,   2.0938,  34.6413,2,    108.6,2,  34.6422,2,   108.56,6,   144.95,3,    38.87,6,     0.00,6,    2.700,3,    0.000,2,    0.000,2,   2344.8,2,   2418.9,2,   7.5191,6,    25.00,    0.000,2,  -999.00,9,  -999.00,9,   1.9479,2,  27.6884,2,   2.0939,2
49UP20180806_1,   P13,    73,  1,     14,     823,2,20180825,1633,1743,  8.0188, 164.0125, 5148,   2295.4,     2270,   1.9513,  34.6509,2,    114.9,2,  34.6517,2,   115.16,2,   147.50,3,    38.48,2,     0.00,2,    2.680,3,    0.002,2,    0.000,2,   2347.7,2,   2420.4,2,   7.5305,2,    25.00,    0.003,2,  -999.00,9,  -999.00,9,   1.7902,2,  27.7083,2,   1.9513,2
49UP20180806_1,   P13,    73,  1,     13,     822,2,20180825,1633,1738,  8.0188, 164.0125, 5148,   2506.7,     2478,   1.8344,  34.6576,2,    121.0,2,  34.6582,6,   121.53,2,   149.10,3,    38.17,2,     0.00,2,    2.640,3,    0.007,2,    0.002,2,   2342.6,2,   2424.9,2,   7.5395,2,    25.00,    0.006,2,  -999.00,9,  -999.00,9,   1.6566,2,  27.7238,2,   1.8347,2
49UP20180806_1,   P13,    73,  1,     12,     821,2,20180825,1633,1733,  8.0188, 164.0125, 5148,   2698.7,     2666,   1.7547,  34.6623,2,    126.8,2,  34.6629,2,   127.18,2,   149.74,3,    37.83,2,     0.00,2,    2.620,3,    0.000,2,    0.000,2,   2345.7,2,   2422.1,2,   7.5501,2,    25.00,    0.001,2,  -999.00,9,  -999.00,9,   1.5609,2,  27.7347,2,   1.7547,2
49UP20180806_1,   P13,    73,  1,     11,     820,2,20180825,1633,1728,  8.0188, 164.0125, 5148,   2906.9,     2871,   1.6841,  34.6671,2,    132.2,2,  34.6672,2,   131.89,2,   149.30,3,    37.45,2,     0.00,2,    2.600,3,    0.000,2,    0.000,2,   2336.8,2,   2424.3,2,   7.5571,2,    25.00,    0.005,2,  -999.00,9,  -999.00,9,   1.4722,2,  27.7451,2,   1.6842,2
49UP20180806_1,   P13,    73,  1,     10,     819,2,20180825,1633,1722,  8.0188, 164.0125, 5148,   3114.7,     3075,   1.6169,  34.6719,2,    137.6,2,  34.6725,2,   137.78,2,   148.57,3,    37.13,2,     0.00,2,    2.550,3, -999.000,9, -999.000,9,   2334.9,2,   2420.9,2,   7.5632,2,    25.00, -999.000,9,  -999.00,9,  -999.00,9,   1.3864,2,  27.7551,2,   1.6169,2
49UP20180806_1,   P13,    73,  1,      9,     818,2,20180825,1633,1717,  8.0188, 164.0125, 5148,   3371.3,     3326,   1.5483,  34.6774,2,    144.3,2,  34.6778,2,   144.68,2,   147.25,3,    36.66,2,     0.00,2,    2.510,3, -999.000,9, -999.000,9,   2336.5,2,   2419.8,2,   7.5744,2,    25.00, -999.000,9,  -999.00,9,  -999.00,9,   1.2941,2,  27.7660,2,   1.5483,2
49UP20180806_1,   P13,    73,  1,      8,     817,2,20180825,1633,1710,  8.0188, 164.0125, 5148,   3632.1,     3581,   1.4944,  34.6820,2,    150.5,2,  34.6820,2,   150.69,2,   145.51,3,    36.20,2,     0.00,2,    2.470,3,    0.000,2,    0.000,2,   2319.9,2,   2420.4,2,   7.5834,2,    25.00,    0.000,2,  -999.00,9,  -999.00,9,   1.2148,2,  27.7753,2,   1.4944,2
49UP20180806_1,   P13,    73,  1,      7,     816,3,20180825,1633,1705,  8.0188, 164.0125, 5148,   3882.5,     3826,   1.4499,  34.6866,2,    158.6,2,  34.6863,2,   158.48,2,   141.75,3,    35.67,2,     0.00,2,    2.440,3,    0.000,2,    0.000,2,   2315.2,2,   2414.5,2,   7.5894,2,    25.00,    0.000,2,  -999.00,9,  -999.00,9,   1.1450,2,  27.7838,2,   1.4498,2
49UP20180806_1,   P13,    73,  1,      6,     815,3,20180825,1633,1659,  8.0188, 164.0125, 5148,   4142.0,     4079,   1.4238,  34.6907,2,    165.2,2,  34.6906,2,   165.31,6,   138.41,3,    35.14,6,     0.00,6,    2.400,3,    0.000,2,    0.000,2,   2309.3,2,   2411.5,2,   7.6012,2,    25.00,    0.000,2,  -999.00,9,  -999.00,9,   1.0915,2,  27.7907,2,   1.4239,2
49UP20180806_1,   P13,    73,  1,      5,     814,2,20180825,1633,1653,  8.0188, 164.0125, 5148,   4398.9,     4330,   1.4065,  34.6941,2,    171.5,2,  34.6943,2,   171.62,2,   134.74,3,    34.69,2,     0.00,2,    2.360,3,    0.001,2,   -0.000,2,   2310.6,2,   2408.7,2,   7.6057,2,    25.00,    0.001,2,  -999.00,9,  -999.00,9,   1.0459,2,  27.7965,2,   1.4064,2
49UP20180806_1,   P13,    73,  1,      4,     813,2,20180825,1633,1648,  8.0188, 164.0125, 5148,   4654.2,     4578,   1.3998,  34.6965,2,    176.2,2,  34.6967,6,   176.43,2,   132.33,3,    34.35,2,     0.00,2,    2.330,3,    0.005,2,    0.000,2,   2296.8,2,   2404.0,2,   7.6068,2,    25.00,    0.000,2,  -999.00,9,  -999.00,9,   1.0100,2,  27.8008,2,   1.3998,2
49UP20180806_1,   P13,    73,  1,      3,     812,3,20180825,1633,1642,  8.0188, 164.0125, 5148,   4912.0,     4829,   1.4025,  34.6982,2,    179.4,2,  34.6986,6,   179.91,2,   130.77,3,    34.01,2,     0.00,2,    2.320,3,    0.005,2,    0.001,2,   2295.3,2,   2398.4,2,   7.6111,2,    25.00,    0.000,2,  -999.00,9,  -999.00,9,   0.9821,2,  27.8040,2,   1.4024,2
49UP20180806_1,   P13,    73,  1,      2,     811,2,20180825,1633,1636,  8.0188, 164.0125, 5148,   5166.8,     5077,   1.4081,  34.7000,2,    182.6,2,  34.7004,2,   182.69,2,   129.04,3,    33.93,2,     0.00,2,    2.300,3,    0.008,2,    0.002,2,   2292.2,6,   2397.2,6,   7.6127,2,    25.00,    0.001,2,  -999.00,9,  -999.00,9,   0.9565,2,  27.8072,2,   1.4081,2
49UP20180806_1,   P13,    73,  1,      1,     810,2,20180825,1633,1633,  8.0188, 164.0125, 5148,   5236.7,     5144,   1.4158,  34.7001,2,    182.8,2,  34.7003,2,   182.81,2,   128.68,3,    33.89,2,     0.00,2,    2.300,3,    0.015,2,    0.004,2,   2290.2,2,   2396.2,2,   7.6157,6,    25.00,    0.004,2,  -999.00,9,  -999.00,9,   0.9553,2,  27.8073,2,   1.4158,2