BOTTLE,20191018JMAGEMD
EXPOCODE,SECT_ID,STNNBR,CASTNO,SAMPNO,BTLNBR,BTLNBR_FLAG_U,DATE,TIME,BTL_TIME,LATITUDE,LONGITUDE,DEPTH,CTDPRS,CTDDEP,CTDTMP,CTDSAL,CTDSAL_FLAG_W,CTDOXY,CTDOXY_FLAG_W,SALNTY,SALNTY_FLAG_W,OXYGEN,OXYGEN_FLAG_W,SILCAT,SILCAT_FLAG_W,NO2+NO3,NO2+NO3_FLAG_W,NITRIT,NITRIT_FLAG_W,PHSPHT,PHSPHT_FLAG_W,CFC-11,CFC-11_FLAG_W,CFC-12,CFC-12_FLAG_W,TCARBN,TCARBN_FLAG_W,ALKALI,ALKALI_FLAG_W,PH_TS,PH_TS_FLAG_W,PH_TS_TMP,CFC113,CFC113_FLAG_W,CHLORA,CHLORA_FLAG_W,PPHYTN,PPHYTN_FLAG_W,THETA,THETA_FLAG_W,SIGTHT,SIGTHT_FLAG_W,SBE35,SBE35_FLAG_W
,,,,,,,,UTC,,,,METER,DBAR,METERS,ITS-90,PSS-78,,UMOL/KG,,PSS78,,UMOL/KG,,UMOL/KG,,UMOL/KG,,UMOL/KG,,UMOL/KG,,PMOL/KG,,PMOL/KG,,UMOL/KG,,UMOL/KG,,,,ITS-90,PMOL/KG,,UG/KG,,UG/KG,,ITS-90,,KG/M3,,ITS-90,
49UP20180614_2,   P13,    26,  1,      0,      -9,0,20180713,1220,1417, 43.0147, 164.9743, 5457,      0.0,        0,  10.8189,  32.7538,2,    289.1,2,  32.7558,2,   289.52,2,    18.79,3,     9.71,2,     0.11,2,    0.920,3, -999.000,9, -999.000,9,   2036.6,2,   2207.7,2,   7.8379,2,    25.00, -999.000,9,     0.52,2,     0.21,2,  10.8186,2,  25.0587,2,-999.0000,9
49UP20180614_2,   P13,    26,  1,     36,     845,3,20180713,1220,1448, 43.0147, 164.9743, 5457,     11.6,       12,  10.8219,  32.7528,2,    289.1,2,  32.7540,2,   289.87,2,    18.82,3,     9.81,2,     0.11,2,    0.920,3, -999.000,9, -999.000,9,   2036.2,2,   2206.9,2,   7.8371,2,    25.00, -999.000,9,     0.50,2,     0.21,2,  10.8206,2,  25.0576,2,  10.8289,2
49UP20180614_2,   P13,    26,  1,     35,     844,2,20180713,1220,1446, 43.0147, 164.9743, 5457,     53.0,       53,   8.1995,  33.0979,2,    296.4,2,  33.0696,4,   295.00,2,    19.97,3,    11.17,2,     0.16,2,    1.040,3, -999.000,9, -999.000,9,   2072.3,2,   2227.7,2,   7.7989,2,    25.00, -999.000,9,     0.33,2,     0.38,2,   8.1943,2,  25.7516,2,   8.2084,2
49UP20180614_2,   P13,    26,  1,     34,     843,2,20180713,1220,1444, 43.0147, 164.9743, 5457,     75.8,       75,   5.3532,  33.1146,2,    305.8,2,  33.1165,2,   306.36,2,    23.29,3,    15.70,2,     0.02,2,    1.280,3, -999.000,9, -999.000,9,   2094.5,2,   2230.5,2,   7.7361,2,    25.00, -999.000,9,     0.17,2,     0.13,2,   5.3473,2,  26.1411,2,   5.3736,2
49UP20180614_2,   P13,    26,  1,     33,     842,2,20180713,1220,1439, 43.0147, 164.9743, 5457,    102.0,      101,   5.3391,  33.2478,2,    299.5,2,  33.2316,4,   301.11,2,    24.42,3,    16.29,2,     0.01,2,    1.300,3, -999.000,9, -999.000,9,   2103.3,2,   2235.8,2,   7.7318,2,    25.00, -999.000,9,     0.06,2,     0.06,2,   5.3312,2,  26.2484,2,   5.3559,2
49UP20180614_2,   P13,    26,  1,     32,     841,2,20180713,1220,1437, 43.0147, 164.9743, 5457,    125.4,      124,   5.6926,  33.4963,2,    274.8,2,  33.4957,2,   275.97,2,    26.88,3,    17.51,2,     0.01,2,    1.330,3, -999.000,9, -999.000,9,   2126.7,2,   2246.8,2,   7.7101,2,    25.00, -999.000,9,     0.02,2,     0.04,2,   5.6825,2,  26.4034,2,   5.6935,2
49UP20180614_2,   P13,    26,  1,     31,     840,2,20180713,1220,1436, 43.0147, 164.9743, 5457,    152.8,      152,   5.1064,  33.5545,2,    246.3,2,  33.5538,2,   247.08,2,    36.40,3,    21.64,2,     0.01,2,    1.610,3, -999.000,9, -999.000,9,   2152.7,2,   2255.4,2,   7.6461,2,    25.00, -999.000,9,     0.01,2,     0.05,2,   5.0948,2,  26.5185,2,   5.1071,2
49UP20180614_2,   P13,    26,  1,     30,     839,2,20180713,1220,1434, 43.0147, 164.9743, 5457,    203.8,      202,   4.6216,  33.6419,2,    195.9,2,  33.6386,2,   196.40,2,    51.04,3,    27.38,2,     0.01,2,    2.000,3, -999.000,9, -999.000,9,   2196.9,2,   2267.1,2,   7.5468,2,    25.00, -999.000,9,     0.00,2,     0.04,2,   4.6068,2,  26.6422,2,   4.6220,2
49UP20180614_2,   P13,    26,  1,     29,     838,2,20180713,1220,1431, 43.0147, 164.9743, 5457,    257.5,      255,   4.6207,  33.7472,2,    152.3,2,  33.7463,6,   152.08,2,    61.84,3,    31.28,2,     0.00,2,    2.250,3, -999.000,9, -999.000,9,   2228.7,2,   2276.7,2,   7.4793,2,    25.00, -999.000,9,  -999.00,9,  -999.00,9,   4.6017,2,  26.7263,2,   4.6211,2
49UP20180614_2,   P13,    26,  1,     28,     837,2,20180713,1220,1429, 43.0147, 164.9743, 5457,    336.3,      333,   4.3669,  33.8593,2,    107.7,2,  33.8587,2,   107.67,6,    77.06,3,    35.74,6,     0.00,6,    2.550,3, -999.000,9, -999.000,9,   2268.2,2,   2291.8,2,   7.4049,2,    25.00, -999.000,9,  -999.00,9,  -999.00,9,   4.3425,2,  26.8432,2,   4.3665,2
49UP20180614_2,   P13,    26,  1,     27,     661,2,20180713,1220,1425, 43.0147, 164.9743, 5457,    436.4,      432,   4.1118,  34.0067,2,     67.6,2,  34.0055,2,    68.30,2,    94.35,3,    39.41,2,     0.00,2,    2.800,3, -999.000,9, -999.000,9,   2303.5,2,   2311.8,2,   7.3514,2,    25.00, -999.000,9,  -999.00,9,  -999.00,9,   4.0807,2,  26.9877,2,   4.1117,2
49UP20180614_2,   P13,    26,  1,     26,     835,2,20180713,1220,1422, 43.0147, 164.9743, 5457,    539.5,      535,   3.7823,  34.0928,2,     44.1,2,  34.0919,2,    44.50,2,   108.74,3,    41.68,2,     0.00,2,    2.940,3, -999.000,9, -999.000,9,   2330.9,2,   2326.5,2,   7.3154,2,    25.00, -999.000,9,  -999.00,9,  -999.00,9,   3.7447,2,  27.0902,2,   3.7821,2
49UP20180614_2,   P13,    26,  1,     25,     834,2,20180713,1220,1418, 43.0147, 164.9743, 5457,    638.6,      633,   3.6167,  34.1744,2,     36.0,2,  34.1740,2,    35.97,2,   118.58,3,    42.26,2,     0.00,2,    2.980,3, -999.000,9, -999.000,9,   2344.9,2,   2339.8,2,   7.3172,2,    25.00, -999.000,9,  -999.00,9,  -999.00,9,   3.5725,2,  27.1722,2,   3.6169,2
49UP20180614_2,   P13,    26,  1,     24,     833,2,20180713,1220,1415, 43.0147, 164.9743, 5457,    741.1,      734,   3.3957,  34.2473,2,     31.1,2,  34.2458,2,    31.36,2,   127.54,3,    42.70,2,     0.00,2,    3.010,3, -999.000,9, -999.000,9,   2353.9,2,   2353.0,2,   7.3188,2,    25.00, -999.000,9,  -999.00,9,  -999.00,9,   3.3449,2,  27.2522,2,   3.3959,2
49UP20180614_2,   P13,    26,  1,     23,     832,3,20180713,1220,1412, 43.0147, 164.9743, 5457,    841.7,      833,   3.1600,  34.3039,2,     28.2,2,  34.3022,2,    27.63,2,   136.50,3,    43.17,2,     0.00,2,    3.040,3, -999.000,9, -999.000,9,   2366.3,2,   2362.9,2,   7.3111,2,    25.00, -999.000,9,  -999.00,9,  -999.00,9,   3.1031,2,  27.3200,2,   3.1616,2
49UP20180614_2,   P13,    26,  1,     22,     831,2,20180713,1220,1408, 43.0147, 164.9743, 5457,    941.3,      932,   2.9978,  34.3481,2,     29.1,2,  34.3480,2,    28.92,2,   141.85,3,    43.14,2,     0.00,2,    3.040,3, -999.000,9, -999.000,9,   2369.3,2,   2372.8,2,   7.3260,2,    25.00, -999.000,9,  -999.00,9,  -999.00,9,   2.9346,2,  27.3706,2,   2.9979,2
49UP20180614_2,   P13,    26,  1,     21,     830,2,20180713,1220,1404, 43.0147, 164.9743, 5457,   1084.9,     1073,   2.7818,  34.4028,2,     31.0,2,  34.4013,2,    31.33,2,   148.98,3,    43.08,2,     0.00,2,    3.040,3, -999.000,9, -999.000,9,   2375.6,2,   2380.4,6,   7.3404,2,    25.00, -999.000,9,  -999.00,9,  -999.00,9,   2.7095,2,  27.4343,2,   2.7820,2
49UP20180614_2,   P13,    26,  1,     20,     829,2,20180713,1220,1359, 43.0147, 164.9743, 5457,   1285.3,     1271,   2.4966,  34.4646,2,     35.4,2,  34.4641,2,    35.92,2,   157.73,3,    43.05,2,     0.00,2,    3.040,3, -999.000,9, -999.000,9,   2382.8,2,   2391.6,2,   7.3538,6,    25.00, -999.000,9,  -999.00,9,  -999.00,9,   2.4116,2,  27.5092,2,   2.4967,2
49UP20180614_2,   P13,    26,  1,     19,     828,2,20180713,1220,1354, 43.0147, 164.9743, 5457,   1488.5,     1471,   2.3301,  34.5037,2,     40.7,2,  34.5027,2,    40.66,6,   161.73,3,    42.91,6,     0.00,6,    3.000,3, -999.000,9, -999.000,9,   2383.7,2,   2399.6,2,   7.3631,2,    25.00, -999.000,9,  -999.00,9,  -999.00,9,   2.2311,2,  27.5555,2,   2.3299,2
49UP20180614_2,   P13,    26,  1,     18,     827,2,20180713,1220,1349, 43.0147, 164.9743, 5457,   1688.5,     1668,   2.1550,  34.5421,2,     50.4,2,  34.5421,2,    50.40,2,   165.04,3,    42.41,2,     0.00,2,    2.950,3, -999.000,9, -999.000,9,   2384.5,2,   2406.5,2,   7.3871,2,    25.00, -999.000,9,  -999.00,9,  -999.00,9,   2.0421,2,  27.6015,2,   2.1548,2
49UP20180614_2,   P13,    26,  1,     17,     826,2,20180713,1220,1344, 43.0147, 164.9743, 5457,   1891.7,     1868,   2.0173,  34.5716,2,     60.7,2,  34.5715,2,    61.07,2,   167.13,3,    41.81,2,     0.00,2,    2.900,3, -999.000,9, -999.000,9,   2379.4,2,   2411.0,2,   7.4121,2,    25.00, -999.000,9,  -999.00,9,  -999.00,9,   1.8897,2,  27.6371,2,   2.0175,2
49UP20180614_2,   P13,    26,  1,     16,     825,2,20180713,1220,1339, 43.0147, 164.9743, 5457,   2095.4,     2068,   1.8961,  34.5963,2,     72.9,2,  34.5964,2,    73.68,2,   167.88,3,    41.08,2,     0.00,2,    2.850,3, -999.000,9, -999.000,9,   2378.9,2,   2415.1,2,   7.4347,2,    25.00, -999.000,9,  -999.00,9,  -999.00,9,   1.7534,2,  27.6674,2,   1.8961,2
49UP20180614_2,   P13,    26,  1,     15,     824,2,20180713,1220,1334, 43.0147, 164.9743, 5457,   2296.7,     2266,   1.8004,  34.6153,2,     84.7,2,  34.6143,2,    84.83,2,   166.77,3,    40.29,2,     0.00,2,    2.790,3, -999.000,9, -999.000,9,   2364.4,3,   2419.2,2,   7.4578,2,    25.00, -999.000,9,  -999.00,9,  -999.00,9,   1.6419,2,  27.6910,2,   1.8003,2
49UP20180614_2,   P13,    26,  1,     14,     823,2,20180713,1220,1329, 43.0147, 164.9743, 5457,   2502.4,     2468,   1.7210,  34.6318,2,     97.4,2,  34.6323,2,    97.54,2,   164.85,3,    39.47,2,     0.00,2,    2.740,3, -999.000,9, -999.000,9,   2364.6,6,   2418.1,6,   7.4836,2,    25.00, -999.000,9,  -999.00,9,  -999.00,9,   1.5458,2,  27.7113,2,   1.7209,2
49UP20180614_2,   P13,    26,  1,     13,     822,2,20180713,1220,1324, 43.0147, 164.9743, 5457,   2705.3,     2667,   1.6532,  34.6440,2,    107.7,2,  34.6445,2,   108.09,2,   163.33,3,    38.83,2,     0.00,2,    2.690,3, -999.000,9, -999.000,9,   2355.1,2,   2419.5,2,   7.5066,6,    25.00, -999.000,9,  -999.00,9,  -999.00,9,   1.4609,2,  27.7273,2,   1.6532,2
49UP20180614_2,   P13,    26,  1,     12,     821,2,20180713,1220,1320, 43.0147, 164.9743, 5457,   2910.2,     2867,   1.5942,  34.6543,2,    117.4,2,  34.6537,2,   118.24,2,   161.62,3,    38.07,2,     0.00,2,    2.640,3, -999.000,9, -999.000,9,   2350.0,2,   2419.1,2,   7.5262,2,    25.00, -999.000,9,  -999.00,9,  -999.00,9,   1.3840,2,  27.7411,2,   1.5942,2
49UP20180614_2,   P13,    26,  1,     11,     820,2,20180713,1220,1315, 43.0147, 164.9743, 5457,   3124.6,     3077,   1.5538,  34.6622,2,    125.8,2,  34.6622,2,   126.28,2,   159.09,3,    37.66,2,     0.00,2,    2.600,3, -999.000,9, -999.000,9,   2347.2,2,   2419.7,2,   7.5388,2,    25.00, -999.000,9,  -999.00,9,  -999.00,9,   1.3239,2,  27.7517,2,   1.5537,2
49UP20180614_2,   P13,    26,  1,     10,     819,2,20180713,1220,1309, 43.0147, 164.9743, 5457,   3381.3,     3328,   1.5164,  34.6697,2,    134.0,2,  34.6692,2,   134.41,2,   157.29,3,    37.15,6,     0.00,6,    2.560,3, -999.000,9, -999.000,9,   2336.6,2,   2420.2,2,   7.5527,2,    25.00, -999.000,9,  -999.00,9,  -999.00,9,   1.2620,2,  27.7620,2,   1.5165,2
49UP20180614_2,   P13,    26,  1,      9,     818,2,20180713,1220,1304, 43.0147, 164.9743, 5457,   3636.3,     3577,   1.4940,  34.6750,2,    140.2,2,  34.6750,2,   140.17,2,   155.75,3,    36.78,2,     0.00,2,    2.530,3, -999.000,9, -999.000,9,   2331.2,2,   2419.8,6,   7.5647,2,    25.00, -999.000,9,  -999.00,9,  -999.00,9,   1.2140,2,  27.7696,2,   1.4939,2
49UP20180614_2,   P13,    26,  1,      8,     817,2,20180713,1220,1258, 43.0147, 164.9743, 5457,   3894.2,     3828,   1.4820,  34.6792,2,    145.2,2,  34.5849,4,   145.88,2,   154.24,3,    36.48,2,     0.00,2,    2.500,3, -999.000,9, -999.000,9,   2339.3,3,   2418.0,2,   7.5737,6,    25.00, -999.000,9,  -999.00,9,  -999.00,9,   1.1751,2,  27.7758,2,   1.4820,2
49UP20180614_2,   P13,    26,  1,      7,     816,2,20180713,1220,1253, 43.0147, 164.9743, 5457,   4150.1,     4077,   1.4790,  34.6825,2,    149.3,2,  34.6817,6,   149.62,2,   153.43,3,    36.17,2,     0.00,2,    2.480,3, -999.000,9, -999.000,9,   2328.3,2,   2418.2,2,   7.5798,2,    25.00, -999.000,9,  -999.00,9,  -999.00,9,   1.1443,2,  27.7805,2,   1.4790,2
49UP20180614_2,   P13,    26,  1,      6,     815,2,20180713,1220,1247, 43.0147, 164.9743, 5457,   4409.6,     4330,   1.4847,  34.6851,2,    152.3,2,  34.6849,2,   152.80,2,   152.66,3,    35.88,2,     0.00,2,    2.460,3, -999.000,9, -999.000,9,   2326.3,2,   2418.1,2,   7.5852,2,    25.00, -999.000,9,  -999.00,9,  -999.00,9,   1.1205,2,  27.7842,2,   1.4848,2
49UP20180614_2,   P13,    26,  1,      5,     814,2,20180713,1220,1242, 43.0147, 164.9743, 5457,   4668.5,     4581,   1.4977,  34.6869,2,    154.7,2,  34.6869,6,   154.52,3,   152.14,3,    35.73,2,     0.00,2,    2.450,3,    0.249,4,    0.579,4,   2324.5,2,   2421.0,3,   7.5864,2,    25.00,    0.124,4,  -999.00,9,  -999.00,9,   1.1032,2,  27.7868,2,   1.4977,2
49UP20180614_2,   P13,    26,  1,      4,     813,2,20180713,1220,1236, 43.0147, 164.9743, 5457,   4924.3,     4830,   1.5173,  34.6881,2,    156.2,2,  34.6884,2,   156.83,2,   151.92,3,    35.73,2,     0.00,2,    2.440,3,    0.003,2,    0.000,2,   2320.7,2,   2418.0,2,   7.5884,2,    25.00,    0.002,2,  -999.00,9,  -999.00,9,   1.0917,2,  27.7886,2,   1.5173,2
49UP20180614_2,   P13,    26,  1,      3,     812,2,20180713,1220,1230, 43.0147, 164.9743, 5457,   5181.9,     5079,   1.5409,  34.6891,2,    157.3,2,  34.6890,6,   157.53,2,   151.95,3,    35.60,2,     0.00,2,    2.440,3,    0.001,2,    0.002,2,   2322.3,2,   2417.7,2,   7.5937,2,    25.00,    0.000,2,  -999.00,9,  -999.00,9,   1.0830,2,  27.7900,2,   1.5409,2
49UP20180614_2,   P13,    26,  1,      2,     811,2,20180713,1220,1224, 43.0147, 164.9743, 5457,   5442.2,     5331,   1.5658,  34.6903,2,    158.5,2,  34.6906,2,   158.87,2,   152.11,3,    35.47,2,     0.00,2,    2.430,3,    0.143,4,    0.327,4,   2320.4,2,   2418.8,2,   7.5958,2,    25.00,    0.066,4,  -999.00,9,  -999.00,9,   1.0742,2,  27.7915,2,   1.5659,2
49UP20180614_2,   P13,    26,  1,      1,     810,2,20180713,1220,1220, 43.0147, 164.9743, 5457,   5566.5,     5452,   1.5823,  34.6901,2,    158.5,2,  34.6901,2,   158.69,6,   151.80,3,    35.48,6,     0.00,6,    2.420,3,    0.001,2,    0.000,2,   2321.1,2,   2417.7,2,   7.5975,2,    25.00,    0.000,2,  -999.00,9,  -999.00,9,   1.0742,2,  27.7914,2,   1.5823,2