BOTTLE,20191018JMAGEMD
EXPOCODE,SECT_ID,STNNBR,CASTNO,SAMPNO,BTLNBR,BTLNBR_FLAG_U,DATE,TIME,BTL_TIME,LATITUDE,LONGITUDE,DEPTH,CTDPRS,CTDDEP,CTDTMP,CTDSAL,CTDSAL_FLAG_W,CTDOXY,CTDOXY_FLAG_W,SALNTY,SALNTY_FLAG_W,OXYGEN,OXYGEN_FLAG_W,SILCAT,SILCAT_FLAG_W,NO2+NO3,NO2+NO3_FLAG_W,NITRIT,NITRIT_FLAG_W,PHSPHT,PHSPHT_FLAG_W,CFC-11,CFC-11_FLAG_W,CFC-12,CFC-12_FLAG_W,TCARBN,TCARBN_FLAG_W,ALKALI,ALKALI_FLAG_W,PH_TS,PH_TS_FLAG_W,PH_TS_TMP,CFC113,CFC113_FLAG_W,CHLORA,CHLORA_FLAG_W,PPHYTN,PPHYTN_FLAG_W,THETA,THETA_FLAG_W,SIGTHT,SIGTHT_FLAG_W,SBE35,SBE35_FLAG_W
,,,,,,,,UTC,,,,METER,DBAR,METERS,ITS-90,PSS-78,,UMOL/KG,,PSS78,,UMOL/KG,,UMOL/KG,,UMOL/KG,,UMOL/KG,,UMOL/KG,,PMOL/KG,,PMOL/KG,,UMOL/KG,,UMOL/KG,,,,ITS-90,PMOL/KG,,UG/KG,,UG/KG,,ITS-90,,KG/M3,,ITS-90,
49UP20180806_1,   P13,    72,  1,      0,      -9,0,20180825,0933,1125,  8.4998, 163.9802, 5182,      0.0,        0,  29.5947,  33.6811,2,    194.9,2,-999.0000,9,   195.73,2,     1.08,3,     0.00,2,     0.00,2,    0.060,3, -999.000,9, -999.000,9,   -999.0,9,   -999.0,9,-999.0000,9,  -999.00, -999.000,9,  -999.00,9,  -999.00,9,  29.5940,2,  20.8752,2,-999.0000,9
49UP20180806_1,   P13,    72,  1,     36,     845,2,20180825,0933,1150,  8.4998, 163.9802, 5182,     11.9,       12,  29.6264,  33.6876,2,    194.8,2,  33.6875,2,   195.63,2,     1.08,3,     0.00,2,     0.00,2,    0.040,3, -999.000,9, -999.000,9,   -999.0,9,   -999.0,9,-999.0000,9,  -999.00, -999.000,9,  -999.00,9,  -999.00,9,  29.6235,2,  20.8702,2,  29.6245,2
49UP20180806_1,   P13,    72,  1,     35,     844,2,20180825,0933,1147,  8.4998, 163.9802, 5182,     50.0,       50,  28.5764,  34.2795,2,    205.1,2,  34.2767,2,   206.05,2,     1.12,3,     0.00,2,     0.00,2,    0.060,3, -999.000,9, -999.000,9,   -999.0,9,   -999.0,9,-999.0000,9,  -999.00, -999.000,9,  -999.00,9,  -999.00,9,  28.5644,2,  21.6678,2,  28.5914,2
49UP20180806_1,   P13,    72,  1,     34,     843,2,20180825,0933,1145,  8.4998, 163.9802, 5182,    100.5,      100,  17.5827,  34.6699,2,    153.9,2,  34.6680,2,   154.10,2,     8.24,3,     9.06,2,     0.13,2,    0.760,3, -999.000,9, -999.000,9,   -999.0,9,   -999.0,9,-999.0000,9,  -999.00, -999.000,9,  -999.00,9,  -999.00,9,  17.5658,2,  25.1252,2,  17.5860,2
49UP20180806_1,   P13,    72,  1,     24,     833,3,20180825,0933,1144,  8.4998, 163.9802, 5182,    126.0,      125,  15.2374,  34.5266,2,    159.7,2,  34.5386,4,   157.51,2,    10.00,3,    11.02,2,     0.05,2,    0.880,3, -999.000,9, -999.000,9,   -999.0,9,   -999.0,9,-999.0000,9,  -999.00, -999.000,9,  -999.00,9,  -999.00,9,  15.2182,2,  25.5589,2,  15.2510,2
49UP20180806_1,   P13,    72,  1,     33,     842,2,20180825,0933,1142,  8.4998, 163.9802, 5182,    152.2,      151,  12.2005,  34.3646,2,    137.6,2,  34.3649,2,   136.68,6,    18.68,3,    18.19,6,     0.01,6,    1.370,3, -999.000,9, -999.000,9,   -999.0,9,   -999.0,9,-999.0000,9,  -999.00, -999.000,9,  -999.00,9,  -999.00,9,  12.1806,2,  26.0611,2,  12.2038,2
49UP20180806_1,   P13,    72,  1,     32,     841,2,20180825,0933,1140,  8.4998, 163.9802, 5182,    205.0,      204,  10.5858,  34.5557,2,     54.7,2,  34.5456,2,    55.57,2,    30.66,3,    30.06,2,     0.00,2,    2.190,3, -999.000,9, -999.000,9,   -999.0,9,   -999.0,9,-999.0000,9,  -999.00, -999.000,9,  -999.00,9,  -999.00,9,  10.5612,2,  26.5078,2,  10.5865,2
49UP20180806_1,   P13,    72,  1,     31,     840,2,20180825,0933,1138,  8.4998, 163.9802, 5182,    255.8,      254,   9.7590,  34.5978,2,     46.0,2,  34.5940,2,    45.66,2,    34.44,3,    33.05,2,     0.00,2,    2.360,3, -999.000,9, -999.000,9,   -999.0,9,   -999.0,9,-999.0000,9,  -999.00, -999.000,9,  -999.00,9,  -999.00,9,   9.7299,2,  26.6835,2,   9.7601,2
49UP20180806_1,   P13,    72,  1,     30,     839,2,20180825,0933,1136,  8.4998, 163.9802, 5182,    303.7,      302,   9.2078,  34.6009,2,     48.3,2,  34.5987,2,    47.83,2,    36.82,3,    34.05,2,     0.00,2,    2.420,3, -999.000,9, -999.000,9,   -999.0,9,   -999.0,9,-999.0000,9,  -999.00, -999.000,9,  -999.00,9,  -999.00,9,   9.1743,2,  26.7775,2,   9.2080,2
49UP20180806_1,   P13,    72,  1,     29,     838,2,20180825,0933,1133,  8.4998, 163.9802, 5182,    353.7,      351,   8.7388,  34.5926,2,     56.7,2,  34.5910,2,    56.36,2,    38.73,3,    34.23,2,     0.00,2,    2.420,3, -999.000,9, -999.000,9,   -999.0,9,   -999.0,9,-999.0000,9,  -999.00, -999.000,9,  -999.00,9,  -999.00,9,   8.7009,2,  26.8465,2,   8.7390,2
49UP20180806_1,   P13,    72,  1,     28,     837,2,20180825,0933,1131,  8.4998, 163.9802, 5182,    405.9,      403,   8.4667,  34.5873,2,     60.4,2,  34.5862,2,    59.74,2,    39.94,3,    34.50,2,     0.00,2,    2.440,3, -999.000,9, -999.000,9,   -999.0,9,   -999.0,9,-999.0000,9,  -999.00, -999.000,9,  -999.00,9,  -999.00,9,   8.4239,2,  26.8854,2,   8.4655,2
49UP20180806_1,   P13,    72,  1,     27,     661,2,20180825,0933,1129,  8.4998, 163.9802, 5182,    457.2,      454,   8.0497,  34.5739,2,     61.9,2,  34.5728,2,    61.09,2,    42.88,3,    35.11,2,     0.00,2,    2.490,3, -999.000,9, -999.000,9,   -999.0,9,   -999.0,9,-999.0000,9,  -999.00, -999.000,9,  -999.00,9,  -999.00,9,   8.0027,2,  26.9388,2,   8.0524,2
49UP20180806_1,   P13,    72,  1,     26,     835,2,20180825,0933,1127,  8.4998, 163.9802, 5182,    506.1,      503,   7.5878,  34.5561,2,     62.9,2,  34.5553,2,    62.47,2,    47.46,3,    35.93,2,     0.00,2,    2.550,3, -999.000,9, -999.000,9,   -999.0,9,   -999.0,9,-999.0000,9,  -999.00, -999.000,9,  -999.00,9,  -999.00,9,   7.5374,2,  26.9931,2,   7.5892,2
49UP20180806_1,   P13,    72,  1,     25,     834,2,20180825,0933,1124,  8.4998, 163.9802, 5182,    609.9,      606,   6.8189,  34.5419,2,     61.9,2,  34.5413,2,    61.57,2,    55.77,3,    37.41,2,     0.00,2,    2.660,3, -999.000,9, -999.000,9,   -999.0,9,   -999.0,9,-999.0000,9,  -999.00, -999.000,9,  -999.00,9,  -999.00,9,   6.7613,2,  27.0906,2,   6.8191,2
49UP20180806_1,   P13,    72,  1,     23,     832,2,20180825,0933,1120,  8.4998, 163.9802, 5182,    707.7,      703,   6.0722,  34.5308,2,     64.7,2,  34.5305,2,    64.40,6,    65.72,3,    38.46,6,     0.00,6,    2.710,3, -999.000,9, -999.000,9,   -999.0,9,   -999.0,9,-999.0000,9,  -999.00, -999.000,9,  -999.00,9,  -999.00,9,   6.0089,2,  27.1807,2,   6.0726,2
49UP20180806_1,   P13,    72,  1,     22,     831,2,20180825,0933,1117,  8.4998, 163.9802, 5182,    811.7,      806,   5.3728,  34.5383,2,     67.7,2,  34.5382,2,    67.48,2,    76.56,3,    39.30,2,     0.00,2,    2.790,3, -999.000,9, -999.000,9,   -999.0,9,   -999.0,9,-999.0000,9,  -999.00, -999.000,9,  -999.00,9,  -999.00,9,   5.3039,2,  27.2736,2,   5.3729,2
49UP20180806_1,   P13,    72,  1,     21,     830,2,20180825,0933,1115,  8.4998, 163.9802, 5182,    908.9,      902,   4.8562,  34.5448,2,     71.5,2,  34.5451,2,    71.34,2,    86.46,3,    39.63,2,     0.00,2,    2.830,3, -999.000,9, -999.000,9,   -999.0,9,   -999.0,9,-999.0000,9,  -999.00, -999.000,9,  -999.00,9,  -999.00,9,   4.7820,2,  27.3393,2,   4.8562,2
49UP20180806_1,   P13,    72,  1,     20,     829,2,20180825,0933,1111,  8.4998, 163.9802, 5182,   1008.7,     1001,   4.3968,  34.5533,2,     73.8,2,  34.5533,2,    73.61,2,    95.49,3,    39.90,2,     0.00,2,    2.850,3, -999.000,9, -999.000,9,   -999.0,9,   -999.0,9,-999.0000,9,  -999.00, -999.000,9,  -999.00,9,  -999.00,9,   4.3172,2,  27.3973,2,   4.3974,2
49UP20180806_1,   P13,    72,  1,     19,     828,2,20180825,0933,1107,  8.4998, 163.9802, 5182,   1210.9,     1201,   3.7024,  34.5724,2,     83.0,2,  34.5727,6,    83.38,2,   108.87,3,    39.72,2,     0.00,2,    2.820,3, -999.000,9, -999.000,9,   -999.0,9,   -999.0,9,-999.0000,9,  -999.00, -999.000,9,  -999.00,9,  -999.00,9,   3.6115,2,  27.4854,2,   3.7023,2
49UP20180806_1,   P13,    72,  1,     18,     660,2,20180825,0933,1103,  8.4998, 163.9802, 5182,   1408.7,     1396,   3.1371,  34.5923,2,     88.7,2,  34.5934,2,    88.69,2,   120.85,3,    39.86,2,     0.00,2,    2.820,3, -999.000,9, -999.000,9,   -999.0,9,   -999.0,9,-999.0000,9,  -999.00, -999.000,9,  -999.00,9,  -999.00,9,   3.0353,2,  27.5564,2,   3.1371,2
49UP20180806_1,   P13,    72,  1,     17,     826,2,20180825,0933,1059,  8.4998, 163.9802, 5182,   1612.8,     1598,   2.7815,  34.6044,2,     92.5,2,  34.6022,4,    92.51,2,   129.26,3,    39.63,2,     0.00,2,    2.800,3, -999.000,9, -999.000,9,   -999.0,9,   -999.0,9,-999.0000,9,  -999.00, -999.000,9,  -999.00,9,  -999.00,9,   2.6667,2,  27.5991,2,   2.7819,2
49UP20180806_1,   P13,    72,  1,     16,     825,2,20180825,0933,1053,  8.4998, 163.9802, 5182,   1819.1,     1801,   2.4966,  34.6190,2,     98.1,2,  34.6200,2,    98.19,2,   136.37,3,    39.44,2,     0.00,2,    2.790,3, -999.000,9, -999.000,9,   -999.0,9,   -999.0,9,-999.0000,9,  -999.00, -999.000,9,  -999.00,9,  -999.00,9,   2.3682,2,  27.6364,2,   2.4967,2
49UP20180806_1,   P13,    72,  1,     15,     824,2,20180825,0933,1048,  8.4998, 163.9802, 5182,   2023.8,     2003,   2.1953,  34.6341,2,    106.1,2,  34.6332,2,   106.03,2,   142.05,3,    39.05,2,     0.00,2,    2.740,3, -999.000,9, -999.000,9,   -999.0,9,   -999.0,9,-999.0000,9,  -999.00, -999.000,9,  -999.00,9,  -999.00,9,   2.0538,2,  27.6743,2,   2.1955,2
49UP20180806_1,   P13,    72,  1,     14,     823,2,20180825,0933,1044,  8.4998, 163.9802, 5182,   2223.8,     2200,   2.0223,  34.6451,2,    112.2,2,  34.6457,2,   112.07,6,  -999.00,9,  -999.00,9,  -999.00,9, -999.000,9, -999.000,9, -999.000,9,   -999.0,9,   -999.0,9,-999.0000,9,  -999.00, -999.000,9,  -999.00,9,  -999.00,9,   1.8663,2,  27.6978,2,   2.0224,2
49UP20180806_1,   P13,    72,  1,     13,     822,2,20180825,0933,1038,  8.4998, 163.9802, 5182,   2426.8,     2399,   1.9189,  34.6521,2,    117.2,2,  34.6525,2,   117.08,2,  -999.00,9,  -999.00,9,  -999.00,9, -999.000,9, -999.000,9, -999.000,9,   -999.0,9,   -999.0,9,-999.0000,9,  -999.00, -999.000,9,  -999.00,9,  -999.00,9,   1.7467,2,  27.7126,2,   1.9190,2
49UP20180806_1,   P13,    72,  1,     12,     821,2,20180825,0933,1033,  8.4998, 163.9802, 5182,   2629.7,     2599,   1.8059,  34.6594,2,    123.5,2,  34.6599,2,   123.61,2,  -999.00,9,  -999.00,9,  -999.00,9, -999.000,9, -999.000,9, -999.000,9,   -999.0,9,   -999.0,9,-999.0000,9,  -999.00, -999.000,9,  -999.00,9,  -999.00,9,   1.6175,2,  27.7282,2,   1.8061,2
49UP20180806_1,   P13,    72,  1,     11,     820,2,20180825,0933,1028,  8.4998, 163.9802, 5182,   2836.1,     2801,   1.7161,  34.6651,2,    129.7,2,  34.6637,2,   128.77,2,  -999.00,9,  -999.00,9,  -999.00,9, -999.000,9, -999.000,9, -999.000,9,   -999.0,9,   -999.0,9,-999.0000,9,  -999.00, -999.000,9,  -999.00,9,  -999.00,9,   1.5102,2,  27.7407,2,   1.7160,2
49UP20180806_1,   P13,    72,  1,     10,     819,2,20180825,0933,1023,  8.4998, 163.9802, 5182,   3039.2,     3001,   1.6353,  34.6706,2,    135.4,2,  34.6707,2,   135.76,2,  -999.00,9,  -999.00,9,  -999.00,9, -999.000,9, -999.000,9, -999.000,9,   -999.0,9,   -999.0,9,-999.0000,9,  -999.00, -999.000,9,  -999.00,9,  -999.00,9,   1.4117,2,  27.7522,2,   1.6351,2
49UP20180806_1,   P13,    72,  1,      9,     818,2,20180825,0933,1017,  8.4998, 163.9802, 5182,   3297.2,     3253,   1.5583,  34.6764,2,    141.7,2,  34.6765,2,   141.78,2,  -999.00,9,  -999.00,9,  -999.00,9, -999.000,9, -999.000,9, -999.000,9,   -999.0,9,   -999.0,9,-999.0000,9,  -999.00, -999.000,9,  -999.00,9,  -999.00,9,   1.3112,2,  27.7640,2,   1.5583,2
49UP20180806_1,   P13,    72,  1,      8,     817,2,20180825,0933,1012,  8.4998, 163.9802, 5182,   3552.0,     3503,   1.5018,  34.6811,2,    149.4,2,  34.6806,2,   149.46,2,  -999.00,9,  -999.00,9,  -999.00,9, -999.000,9, -999.000,9, -999.000,9,   -999.0,9,   -999.0,9,-999.0000,9,  -999.00, -999.000,9,  -999.00,9,  -999.00,9,   1.2303,2,  27.7735,2,   1.5018,2
49UP20180806_1,   P13,    72,  1,      7,     816,2,20180825,0933,1006,  8.4998, 163.9802, 5182,   3804.7,     3750,   1.4727,  34.6847,2,    154.8,2,  34.6847,6,   154.73,2,  -999.00,9,  -999.00,9,  -999.00,9, -999.000,9, -999.000,9, -999.000,9,   -999.0,9,   -999.0,9,-999.0000,9,  -999.00, -999.000,9,  -999.00,9,  -999.00,9,   1.1756,2,  27.7801,2,   1.4729,2
49UP20180806_1,   P13,    72,  1,      6,     815,2,20180825,0933,1000,  8.4998, 163.9802, 5182,   4060.2,     3999,   1.4451,  34.6883,2,    161.3,2,  34.6881,2,   161.67,2,  -999.00,9,  -999.00,9,  -999.00,9, -999.000,9, -999.000,9, -999.000,9,   -999.0,9,   -999.0,9,-999.0000,9,  -999.00, -999.000,9,  -999.00,9,  -999.00,9,   1.1212,2,  27.7867,2,   1.4451,2
49UP20180806_1,   P13,    72,  1,      5,     814,2,20180825,0933,0955,  8.4998, 163.9802, 5182,   4315.8,     4248,   1.4016,  34.6935,2,    170.7,2,  34.6935,2,   170.92,6,  -999.00,9,  -999.00,9,  -999.00,9, -999.000,9, -999.000,9, -999.000,9,   -999.0,9,   -999.0,9,-999.0000,9,  -999.00, -999.000,9,  -999.00,9,  -999.00,9,   1.0505,2,  27.7957,2,   1.4016,2
49UP20180806_1,   P13,    72,  1,      4,     813,2,20180825,0933,0949,  8.4998, 163.9802, 5182,   4575.8,     4502,   1.3865,  34.6970,2,    176.5,2,  34.6973,2,   176.99,2,  -999.00,9,  -999.00,9,  -999.00,9, -999.000,9, -999.000,9, -999.000,9,   -999.0,9,   -999.0,9,-999.0000,9,  -999.00, -999.000,9,  -999.00,9,  -999.00,9,   1.0062,2,  27.8015,2,   1.3866,2
49UP20180806_1,   P13,    72,  1,      3,     812,2,20180825,0933,0943,  8.4998, 163.9802, 5182,   4829.3,     4749,   1.3892,  34.6984,2,    179.7,2,  34.6977,6,   179.46,2,  -999.00,9,  -999.00,9,  -999.00,9, -999.000,9, -999.000,9, -999.000,9,   -999.0,9,   -999.0,9,-999.0000,9,  -999.00, -999.000,9,  -999.00,9,  -999.00,9,   0.9791,2,  27.8044,2,   1.3892,2
49UP20180806_1,   P13,    72,  1,      2,     811,2,20180825,0933,0938,  8.4998, 163.9802, 5182,   5086.9,     4999,   1.4035,  34.6996,2,    181.9,2,  34.7001,2,   182.20,2,  -999.00,9,  -999.00,9,  -999.00,9, -999.000,9, -999.000,9, -999.000,9,   -999.0,9,   -999.0,9,-999.0000,9,  -999.00, -999.000,9,  -999.00,9,  -999.00,9,   0.9619,2,  27.8065,2,   1.4035,2
49UP20180806_1,   P13,    72,  1,      1,     810,2,20180825,0933,0933,  8.4998, 163.9802, 5182,   5280.6,     5187,   1.4225,  34.7001,2,    182.7,2,  34.7000,6,   182.41,2,  -999.00,9,  -999.00,9,  -999.00,9, -999.000,9, -999.000,9, -999.000,9,   -999.0,9,   -999.0,9,-999.0000,9,  -999.00, -999.000,9,  -999.00,9,  -999.00,9,   0.9563,2,  27.8072,2,   1.4225,2