BOTTLE,20191018JMAGEMD
EXPOCODE,SECT_ID,STNNBR,CASTNO,SAMPNO,BTLNBR,BTLNBR_FLAG_U,DATE,TIME,BTL_TIME,LATITUDE,LONGITUDE,DEPTH,CTDPRS,CTDDEP,CTDTMP,CTDSAL,CTDSAL_FLAG_W,CTDOXY,CTDOXY_FLAG_W,SALNTY,SALNTY_FLAG_W,OXYGEN,OXYGEN_FLAG_W,SILCAT,SILCAT_FLAG_W,NO2+NO3,NO2+NO3_FLAG_W,NITRIT,NITRIT_FLAG_W,PHSPHT,PHSPHT_FLAG_W,CFC-11,CFC-11_FLAG_W,CFC-12,CFC-12_FLAG_W,TCARBN,TCARBN_FLAG_W,ALKALI,ALKALI_FLAG_W,PH_TS,PH_TS_FLAG_W,PH_TS_TMP,CFC113,CFC113_FLAG_W,CHLORA,CHLORA_FLAG_W,PPHYTN,PPHYTN_FLAG_W,THETA,THETA_FLAG_W,SIGTHT,SIGTHT_FLAG_W,SBE35,SBE35_FLAG_W
,,,,,,,,UTC,,,,METER,DBAR,METERS,ITS-90,PSS-78,,UMOL/KG,,PSS78,,UMOL/KG,,UMOL/KG,,UMOL/KG,,UMOL/KG,,UMOL/KG,,PMOL/KG,,PMOL/KG,,UMOL/KG,,UMOL/KG,,,,ITS-90,PMOL/KG,,UG/KG,,UG/KG,,ITS-90,,KG/M3,,ITS-90,
49UP20180806_1,   P13,    49,  1,      0,      -9,0,20180816,0926,1132, 24.9862, 164.9977, 5899,      0.0,        0,  28.1223,  35.0869,2,    199.2,2,  35.0832,2,   199.34,2,     1.16,3,     0.08,2,     0.00,2,    0.030,3, -999.000,9, -999.000,9,   1979.2,2,   2306.2,2,   8.0938,2,    25.00, -999.000,9,     0.04,2,     0.01,2,  28.1217,2,  22.4202,2,-999.0000,9
49UP20180806_1,   P13,    49,  1,     36,     845,2,20180816,0926,1159, 24.9862, 164.9977, 5899,     11.7,       12,  28.1261,  35.0867,2,    199.1,2,  35.0864,2,   198.87,2,     1.16,3,     0.01,2,     0.00,2,    0.000,3, -999.000,9, -999.000,9,   1982.5,2,   2308.2,2,   8.0981,2,    25.00, -999.000,9,     0.03,2,     0.01,2,  28.1234,2,  22.4194,2,  28.1250,2
49UP20180806_1,   P13,    49,  1,     35,     844,2,20180816,0926,1154, 24.9862, 164.9977, 5899,     50.4,       50,  27.5406,  35.1392,2,    202.5,2,  35.1409,2,   202.94,2,     1.12,3,     0.00,2,     0.00,2,    0.010,3, -999.000,9, -999.000,9,   1984.6,2,   2310.0,2,   8.0976,2,    25.00, -999.000,9,     0.05,2,     0.01,2,  27.5288,2,  22.6526,2,  27.5396,2
49UP20180806_1,   P13,    49,  1,     34,     843,2,20180816,0926,1153, 24.9862, 164.9977, 5899,    100.9,      100,  23.2818,  35.1038,2,    224.8,2,  35.0970,2,   223.94,2,     1.45,3,     0.09,2,     0.00,2,    0.010,3, -999.000,9, -999.000,9,   1998.6,2,   2307.2,2,   8.0704,2,    25.00, -999.000,9,     0.09,2,     0.03,2,  23.2610,2,  23.9367,2,  23.2810,2
49UP20180806_1,   P13,    49,  1,     33,     842,2,20180816,0926,1151, 24.9862, 164.9977, 5899,    150.7,      150,  19.7747,  34.9753,2,    210.0,2,  34.9742,6,   209.44,2,     2.22,3,     0.48,2,     0.08,2,    0.070,3, -999.000,9, -999.000,9,   2031.1,2,   2298.3,2,   7.9977,2,    25.00, -999.000,9,     0.14,2,     0.40,2,  19.7471,2,  24.8093,2,  19.7749,2
49UP20180806_1,   P13,    49,  1,     32,     841,2,20180816,0926,1149, 24.9862, 164.9977, 5899,    202.6,      201,  17.7401,  34.8162,2,    206.7,2,  34.8145,2,   206.41,2,     3.43,3,     3.47,2,     0.01,2,    0.250,3, -999.000,9, -999.000,9,   2049.0,2,   2286.3,2,   7.9515,2,    25.00, -999.000,9,     0.02,2,     0.05,2,  17.7057,2,  25.2034,2,  17.7389,2
49UP20180806_1,   P13,    49,  1,     31,     840,2,20180816,0926,1147, 24.9862, 164.9977, 5899,    252.0,      250,  16.8701,  34.7556,2,    208.4,2,  34.7546,2,   208.51,6,     4.48,3,     5.06,6,     0.00,6,    0.330,3, -999.000,9, -999.000,9,   2053.1,6,   2282.4,6,   7.9402,2,    25.00, -999.000,9,  -999.00,9,  -999.00,9,  16.8288,2,  25.3672,2,  16.8707,2
49UP20180806_1,   P13,    49,  1,     30,     839,2,20180816,0926,1144, 24.9862, 164.9977, 5899,    333.9,      331,  15.3954,  34.6059,2,    205.0,2,  34.6063,2,   204.74,2,     6.91,3,     7.23,2,     0.00,2,    0.490,3, -999.000,9, -999.000,9,   2063.0,2,   2277.6,2,   7.8958,6,    25.00, -999.000,9,  -999.00,9,  -999.00,9,  15.3439,2,  25.5922,2,  15.3955,2
49UP20180806_1,   P13,    49,  1,     29,     838,2,20180816,0926,1141, 24.9862, 164.9977, 5899,    435.5,      432,  12.8416,  34.3857,2,    203.8,2,  34.3879,2,   203.66,2,    13.06,3,    11.46,2,     0.00,2,    0.790,3, -999.000,9, -999.000,9,   2088.7,2,   2270.9,2,   7.8294,2,    25.00, -999.000,9,  -999.00,9,  -999.00,9,  12.7820,2,  25.9603,2,  12.8312,2
49UP20180806_1,   P13,    49,  1,     28,     837,2,20180816,0926,1138, 24.9862, 164.9977, 5899,    534.9,      531,  10.2145,  34.1851,2,    197.5,2,  34.1877,2,   197.82,2,    23.44,3,    16.67,2,     0.00,2,    1.170,3, -999.000,9, -999.000,9,   2128.9,2,   2274.0,2,   7.7479,2,    25.00, -999.000,9,  -999.00,9,  -999.00,9,  10.1511,2,  26.2899,2,  10.2076,2
49UP20180806_1,   P13,    49,  1,     27,     661,2,20180816,0926,1135, 24.9862, 164.9977, 5899,    637.6,      633,   7.3376,  34.0363,2,    151.7,2,  34.0380,2,   151.61,2,    46.90,3,    26.22,2,     0.00,2,    1.890,3, -999.000,9, -999.000,9,   2199.6,2,   2283.1,2,   7.5978,2,    25.00, -999.000,9,  -999.00,9,  -999.00,9,   7.2753,2,  26.6214,2,   7.3397,2
49UP20180806_1,   P13,    49,  1,     26,     835,2,20180816,0926,1132, 24.9862, 164.9977, 5899,    737.7,      732,   5.3797,  34.0935,2,     83.9,2,  34.0936,2,    84.12,2,    78.80,3,    35.78,2,     0.00,2,    2.590,3, -999.000,9, -999.000,9,   2273.6,2,   2310.8,2,   7.4449,2,    25.00, -999.000,9,  -999.00,9,  -999.00,9,   5.3179,2,  26.9196,2,   5.3794,2
49UP20180806_1,   P13,    49,  1,     25,     834,2,20180816,0926,1129, 24.9862, 164.9977, 5899,    839.8,      833,   4.5959,  34.1960,2,     52.0,2,  34.1917,2,    52.46,2,    98.25,3,    39.70,2,     0.00,2,    2.880,3, -999.000,9, -999.000,9,   2309.9,2,   2330.3,2,   7.3825,2,    25.00, -999.000,9,  -999.00,9,  -999.00,9,   4.5300,2,  27.0904,2,   4.5980,2
49UP20180806_1,   P13,    49,  1,     23,     832,2,20180816,0926,1126, 24.9862, 164.9977, 5899,    939.5,      931,   4.0864,  34.2831,2,     39.2,2,  34.2825,2,    39.18,2,   111.18,3,    41.55,2,     0.00,2,    3.000,3, -999.000,9, -999.000,9,   2337.7,2,   2350.8,2,   7.3671,2,    25.00, -999.000,9,  -999.00,9,  -999.00,9,   4.0154,2,  27.2142,2,   4.0863,2
49UP20180806_1,   P13,    49,  1,     22,     831,2,20180816,0926,1122, 24.9862, 164.9977, 5899,   1082.9,     1073,   3.6975,  34.3969,2,     41.6,2,  34.3952,2,    41.28,2,   119.45,3,    41.98,2,     0.00,2,    2.990,3, -999.000,9, -999.000,9,   2350.8,2,   2364.7,2,   7.3816,2,    25.00, -999.000,9,  -999.00,9,  -999.00,9,   3.6176,2,  27.3450,2,   3.6978,2
49UP20180806_1,   P13,    49,  1,     21,     830,2,20180816,0926,1117, 24.9862, 164.9977, 5899,   1285.8,     1274,   3.1755,  34.4866,2,     56.2,2,  34.4857,2,    56.07,6,   130.64,3,    41.46,6,     0.00,6,    2.940,3, -999.000,9, -999.000,9,   2348.5,2,   2382.3,2,   7.4147,2,    25.00, -999.000,9,  -999.00,9,  -999.00,9,   3.0837,2,  27.4676,2,   3.1758,2
49UP20180806_1,   P13,    49,  1,     20,     829,2,20180816,0926,1112, 24.9862, 164.9977, 5899,   1486.9,     1472,   2.7263,  34.5362,2,     68.9,2,  34.5373,2,    69.25,2,   139.44,3,    40.87,2,     0.00,2,    2.890,3, -999.000,9, -999.000,9,   2353.5,2,   2396.3,2,   7.4390,2,    25.00, -999.000,9,  -999.00,9,  -999.00,9,   2.6228,2,  27.5485,2,   2.7265,2
49UP20180806_1,   P13,    49,  1,     19,     828,2,20180816,0926,1107, 24.9862, 164.9977, 5899,   1690.9,     1673,   2.3999,  34.5702,2,     80.1,2,  34.5704,2,    80.17,2,   145.42,3,    40.46,2,     0.00,2,    2.840,3, -999.000,9, -999.000,9,   2361.3,2,   2402.4,2,   7.4581,2,    25.00, -999.000,9,  -999.00,9,  -999.00,9,   2.2836,2,  27.6044,2,   2.4002,2
49UP20180806_1,   P13,    49,  1,     18,     660,2,20180816,0926,1102, 24.9862, 164.9977, 5899,   1891.2,     1871,   2.1480,  34.5988,2,     91.9,2,  34.5994,2,    91.83,2,   149.19,3,    39.83,2,     0.00,2,    2.800,3, -999.000,9, -999.000,9,   2353.3,2,   2409.2,2,   7.4790,2,    25.00, -999.000,9,  -999.00,9,  -999.00,9,   2.0185,2,  27.6488,2,   2.1480,2
49UP20180806_1,   P13,    49,  1,     17,     826,2,20180816,0926,1055, 24.9862, 164.9977, 5899,   2095.8,     2072,   1.9764,  34.6182,2,    100.9,2,  34.6183,2,   100.42,2,   150.97,3,    39.40,2,     0.00,2,    2.750,3, -999.000,9, -999.000,9,   2352.7,6,   2413.5,6,   7.4954,2,    25.00, -999.000,9,  -999.00,9,  -999.00,9,   1.8323,2,  27.6789,2,   1.9764,2
49UP20180806_1,   P13,    49,  1,     16,     825,2,20180816,0926,1051, 24.9862, 164.9977, 5899,   2298.2,     2271,   1.8449,  34.6320,2,    107.9,2,  34.6326,2,   107.76,2,   153.05,3,    38.89,2,     0.00,2,    2.720,3, -999.000,9, -999.000,9,   2355.1,2,   2416.3,2,   7.5073,6,    25.00, -999.000,9,  -999.00,9,  -999.00,9,   1.6855,2,  27.7011,2,   1.8453,2
49UP20180806_1,   P13,    49,  1,     15,     824,2,20180816,0926,1046, 24.9862, 164.9977, 5899,   2500.3,     2470,   1.7536,  34.6437,2,    116.4,2,  34.6428,2,   116.39,2,   152.35,3,    38.43,2,     0.00,2,    2.680,3, -999.000,9, -999.000,9,   2349.9,2,   2417.6,2,   7.5247,2,    25.00, -999.000,9,  -999.00,9,  -999.00,9,   1.5779,2,  27.7186,2,   1.7535,2
49UP20180806_1,   P13,    49,  1,     14,     823,2,20180816,0926,1041, 24.9862, 164.9977, 5899,   2704.4,     2670,   1.6882,  34.6525,2,    122.4,2,  34.6530,2,   123.00,2,   152.95,3,    37.96,2,     0.00,2,    2.650,3, -999.000,9, -999.000,9,   2346.1,2,   2416.1,2,   7.5350,2,    25.00, -999.000,9,  -999.00,9,  -999.00,9,   1.4952,2,  27.7316,2,   1.6882,2
49UP20180806_1,   P13,    49,  1,     13,     822,2,20180816,0926,1036, 24.9862, 164.9977, 5899,   2910.3,     2872,   1.6372,  34.6593,2,    127.4,2,  34.6595,6,   127.48,2,   152.75,3,    37.69,2,     0.00,2,    2.630,3, -999.000,9, -999.000,9,   2339.5,2,   2423.0,2,   7.5450,2,    25.00, -999.000,9,  -999.00,9,  -999.00,9,   1.4260,2,  27.7421,2,   1.6372,2
49UP20180806_1,   P13,    49,  1,     12,     821,2,20180816,0926,1031, 24.9862, 164.9977, 5899,   3124.1,     3081,   1.5898,  34.6650,2,    132.5,2,  34.6660,2,   132.64,2,   152.39,3,    37.25,6,     0.00,6,    2.590,3, -999.000,9, -999.000,9,   2337.5,2,   2418.9,2,   7.5528,2,    25.00, -999.000,9,  -999.00,9,  -999.00,9,   1.3591,2,  27.7515,2,   1.5898,2
49UP20180806_1,   P13,    49,  1,     24,     833,4,20180816,0926,1026, 24.9862, 164.9977, 5899,   3379.3,     3331,   1.5537,  34.6707,2,    137.8,2,-999.0000,9,  -999.00,9,  -999.00,9,  -999.00,9,  -999.00,9, -999.000,9, -999.000,9, -999.000,9,   -999.0,9,   -999.0,9,-999.0000,9,  -999.00, -999.000,9,  -999.00,9,  -999.00,9,   1.2985,2,  27.7604,2,   1.5537,2
49UP20180806_1,   P13,    49,  1,     11,     820,2,20180816,0926,1020, 24.9862, 164.9977, 5899,   3632.5,     3578,   1.5273,  34.6750,2,    142.6,2,  34.6732,4,   141.34,3,   150.68,3,    36.71,2,     0.00,2,    2.540,3, -999.000,9, -999.000,9,   2333.9,2,   2421.0,2,   7.5692,2,    25.00, -999.000,9,  -999.00,9,  -999.00,9,   1.2469,2,  27.7674,2,   1.5273,2
49UP20180806_1,   P13,    49,  1,     10,     819,2,20180816,0926,1015, 24.9862, 164.9977, 5899,   3887.7,     3828,   1.5127,  34.6784,2,    147.0,2,  34.6784,2,   147.00,2,   149.05,3,    36.35,2,     0.00,2,    2.510,3, -999.000,9, -999.000,9,   2328.6,2,   2418.6,2,   7.5759,2,    25.00, -999.000,9,  -999.00,9,  -999.00,9,   1.2057,2,  27.7730,2,   1.5127,2
49UP20180806_1,   P13,    49,  1,      9,     818,2,20180816,0926,1009, 24.9862, 164.9977, 5899,   4144.4,     4078,   1.4932,  34.6823,2,    151.9,2,  34.6816,2,   151.24,2,   147.73,3,    36.07,2,     0.00,2,    2.490,3, -999.000,9, -999.000,9,   2330.8,2,   2416.1,2,   7.5825,2,    25.00, -999.000,9,  -999.00,9,  -999.00,9,   1.1587,2,  27.7794,2,   1.4931,2
49UP20180806_1,   P13,    49,  1,      8,     817,2,20180816,0926,1004, 24.9862, 164.9977, 5899,   4401.2,     4328,   1.4809,  34.6859,2,    157.1,2,  34.6863,2,   156.94,2,   145.21,3,    35.62,2,     0.00,2,    2.460,3, -999.000,9, -999.000,9,   2317.0,2,   2412.5,2,   7.5907,2,    25.00, -999.000,9,  -999.00,9,  -999.00,9,   1.1178,2,  27.7851,2,   1.4808,2
49UP20180806_1,   P13,    49,  1,      7,     816,2,20180816,0926,0958, 24.9862, 164.9977, 5899,   4658.6,     4579,   1.4711,  34.6892,2,    162.6,2,  34.6879,6,   161.82,2,   142.39,3,    35.36,2,     0.00,2,    2.440,3, -999.000,9, -999.000,9,   2319.0,6,   2410.9,6,   7.5940,2,    25.00, -999.000,9,  -999.00,9,  -999.00,9,   1.0786,2,  27.7903,2,   1.4709,2
49UP20180806_1,   P13,    49,  1,      6,     815,2,20180816,0926,0953, 24.9862, 164.9977, 5899,   4918.2,     4831,   1.4676,  34.6919,2,    167.3,2,  34.6914,2,   167.07,2,   139.55,3,    34.87,2,     0.00,2,    2.410,3, -999.000,9, -999.000,9,   2316.4,2,   2405.6,2,   7.6017,6,    25.00, -999.000,9,  -999.00,9,  -999.00,9,   1.0443,2,  27.7948,2,   1.4677,2
49UP20180806_1,   P13,    49,  1,      5,     814,2,20180816,0926,0947, 24.9862, 164.9977, 5899,   5176.0,     5081,   1.4658,  34.6946,2,    172.0,2,  34.6941,2,   171.77,2,   135.84,3,    34.45,2,     0.00,2,    2.380,3, -999.000,9, -999.000,9,   2311.9,2,   2403.7,2,   7.6050,2,    25.00, -999.000,9,  -999.00,9,  -999.00,9,   1.0111,2,  27.7992,2,   1.4658,2
49UP20180806_1,   P13,    49,  1,      4,     813,2,20180816,0926,0941, 24.9862, 164.9977, 5899,   5430.5,     5328,   1.4748,  34.6963,2,    175.2,2,  34.6956,2,   175.36,6,   133.26,3,    34.30,6,     0.00,6,    2.350,3, -999.000,9, -999.000,9,   2305.5,2,   2402.6,2,   7.6111,2,    25.00, -999.000,9,  -999.00,9,  -999.00,9,   0.9880,2,  27.8021,2,   1.4750,2
49UP20180806_1,   P13,    49,  1,      3,     812,2,20180816,0926,0935, 24.9862, 164.9977, 5899,   5689.1,     5579,   1.4925,  34.6974,2,    177.4,2,  34.6962,2,   175.88,3,   133.39,3,    34.18,2,     0.00,2,    2.350,3, -999.000,9, -999.000,9,   2300.5,2,   2400.7,2,   7.6069,2,    25.00, -999.000,9,  -999.00,9,  -999.00,9,   0.9718,2,  27.8041,2,   1.4925,2
49UP20180806_1,   P13,    49,  1,      2,     811,4,20180816,0926,0930, 24.9862, 164.9977, 5899,   5949.5,     5831,   1.5236,  34.6977,2,    178.0,2,  34.6517,4,  -999.00,9,  -999.00,9,  -999.00,9,  -999.00,9, -999.000,9, -999.000,9, -999.000,9,   -999.0,9,   -999.0,9,-999.0000,9,  -999.00, -999.000,9,  -999.00,9,  -999.00,9,   0.9675,2,  27.8046,2,   1.5235,2
49UP20180806_1,   P13,    49,  1,      1,     810,2,20180816,0926,0927, 24.9862, 164.9977, 5899,   6054.7,     5932,   1.5372,  34.6977,2,    178.4,2,  34.6977,6,   177.95,2,   133.28,3,    34.04,2,     0.00,2,    2.350,3, -999.000,9, -999.000,9,   2305.6,2,   2399.5,2,   7.6124,2,    25.00, -999.000,9,  -999.00,9,  -999.00,9,   0.9665,2,  27.8047,2,   1.5372,2