BOTTLE,20191018JMAGEMD
EXPOCODE,SECT_ID,STNNBR,CASTNO,SAMPNO,BTLNBR,BTLNBR_FLAG_U,DATE,TIME,BTL_TIME,LATITUDE,LONGITUDE,DEPTH,CTDPRS,CTDDEP,CTDTMP,CTDSAL,CTDSAL_FLAG_W,CTDOXY,CTDOXY_FLAG_W,SALNTY,SALNTY_FLAG_W,OXYGEN,OXYGEN_FLAG_W,SILCAT,SILCAT_FLAG_W,NO2+NO3,NO2+NO3_FLAG_W,NITRIT,NITRIT_FLAG_W,PHSPHT,PHSPHT_FLAG_W,CFC-11,CFC-11_FLAG_W,CFC-12,CFC-12_FLAG_W,TCARBN,TCARBN_FLAG_W,ALKALI,ALKALI_FLAG_W,PH_TS,PH_TS_FLAG_W,PH_TS_TMP,CFC113,CFC113_FLAG_W,CHLORA,CHLORA_FLAG_W,PPHYTN,PPHYTN_FLAG_W,THETA,THETA_FLAG_W,SIGTHT,SIGTHT_FLAG_W,SBE35,SBE35_FLAG_W
,,,,,,,,UTC,,,,METER,DBAR,METERS,ITS-90,PSS-78,,UMOL/KG,,PSS78,,UMOL/KG,,UMOL/KG,,UMOL/KG,,UMOL/KG,,UMOL/KG,,PMOL/KG,,PMOL/KG,,UMOL/KG,,UMOL/KG,,,,ITS-90,PMOL/KG,,UG/KG,,UG/KG,,ITS-90,,KG/M3,,ITS-90,
49UP20180806_1,   P13,    37,  1,      0,      -9,0,20180811,0853,1107, 35.4967, 164.9935, 5874,      0.0,        0,  26.1085,  34.6774,2,    207.6,2,-999.0000,9,   207.82,2,     1.46,3,     0.00,2,     0.00,2,    0.010,3, -999.000,9, -999.000,9,   -999.0,9,   -999.0,9,-999.0000,9,  -999.00, -999.000,9,  -999.00,9,  -999.00,9,  26.1079,2,  22.7563,2,-999.0000,9
49UP20180806_1,   P13,    37,  1,     36,     845,2,20180811,0853,1133, 35.4967, 164.9935, 5874,     12.1,       12,  26.1123,  34.6772,2,    207.5,2,  34.6763,2,   207.64,2,     1.42,3,     0.00,2,     0.00,2,    0.000,3, -999.000,9, -999.000,9,   -999.0,9,   -999.0,9,-999.0000,9,  -999.00, -999.000,9,  -999.00,9,  -999.00,9,  26.1096,2,  22.7557,2,  26.1112,2
49UP20180806_1,   P13,    37,  1,     35,     844,2,20180811,0853,1130, 35.4967, 164.9935, 5874,     51.5,       51,  21.6435,  34.7469,2,    228.6,2,  34.7415,2,   227.50,2,     2.05,3,     0.00,2,     0.00,2,    0.010,3, -999.000,9, -999.000,9,   -999.0,9,   -999.0,9,-999.0000,9,  -999.00, -999.000,9,  -999.00,9,  -999.00,9,  21.6334,2,  24.1276,2,  21.6515,2
49UP20180806_1,   P13,    37,  1,     34,     843,2,20180811,0853,1126, 35.4967, 164.9935, 5874,    103.2,      102,  18.7374,  34.8454,2,    231.8,2,  34.8411,2,   231.18,2,     2.32,3,     0.15,2,     0.04,2,    0.060,3, -999.000,9, -999.000,9,   -999.0,9,   -999.0,9,-999.0000,9,  -999.00, -999.000,9,  -999.00,9,  -999.00,9,  18.7192,2,  24.9742,2,  18.7446,2
49UP20180806_1,   P13,    37,  1,     33,     842,2,20180811,0853,1124, 35.4967, 164.9935, 5874,    151.9,      151,  17.7162,  34.8052,2,    209.3,2,  34.8031,2,   209.04,2,     4.33,3,     3.91,2,     0.01,2,    0.260,3, -999.000,9, -999.000,9,   -999.0,9,   -999.0,9,-999.0000,9,  -999.00, -999.000,9,  -999.00,9,  -999.00,9,  17.6905,2,  25.1987,2,  17.7196,2
49UP20180806_1,   P13,    37,  1,     32,     841,2,20180811,0853,1122, 35.4967, 164.9935, 5874,    202.9,      201,  17.2085,  34.8084,2,    219.1,2,  34.8063,2,   218.65,2,     4.02,3,     3.81,2,     0.01,2,    0.250,3, -999.000,9, -999.000,9,   -999.0,9,   -999.0,9,-999.0000,9,  -999.00, -999.000,9,  -999.00,9,  -999.00,9,  17.1748,2,  25.3255,2,  17.2094,2
49UP20180806_1,   P13,    37,  1,     31,     840,2,20180811,0853,1120, 35.4967, 164.9935, 5874,    252.2,      250,  16.8606,  34.7870,2,    221.6,2,  34.7851,2,   220.85,2,     4.52,3,     4.25,2,     0.01,2,    0.280,3, -999.000,9, -999.000,9,   -999.0,9,   -999.0,9,-999.0000,9,  -999.00, -999.000,9,  -999.00,9,  -999.00,9,  16.8192,2,  25.3935,2,  16.8612,2
49UP20180806_1,   P13,    37,  1,     30,     839,2,20180811,0853,1118, 35.4967, 164.9935, 5874,    287.7,      285,  16.2573,  34.6989,2,    203.6,2,  34.7019,2,   203.22,6,     7.00,3,     6.58,6,     0.01,6,    0.430,3, -999.000,9, -999.000,9,   -999.0,9,   -999.0,9,-999.0000,9,  -999.00, -999.000,9,  -999.00,9,  -999.00,9,  16.2113,2,  25.4676,2,  16.2520,2
49UP20180806_1,   P13,    37,  1,     29,     838,2,20180811,0853,1116, 35.4967, 164.9935, 5874,    375.1,      372,  13.8835,  34.5008,2,    203.1,2,  34.5014,2,   204.12,2,    13.18,3,    10.19,2,     0.01,2,    0.700,3, -999.000,9, -999.000,9,   -999.0,9,   -999.0,9,-999.0000,9,  -999.00, -999.000,9,  -999.00,9,  -999.00,9,  13.8295,2,  25.8369,2,  13.8771,2
49UP20180806_1,   P13,    37,  1,     28,     837,4,20180811,0853,1113, 35.4967, 164.9935, 5874,    474.7,      471,  10.8333,  34.2700,2,    211.4,2,-999.0000,9,  -999.00,9,  -999.00,9,  -999.00,9,  -999.00,9, -999.000,9, -999.000,9, -999.000,9,   -999.0,9,   -999.0,9,-999.0000,9,  -999.00, -999.000,9,  -999.00,9,  -999.00,9,  10.7751,2,  26.2472,2,  10.8524,2
49UP20180806_1,   P13,    37,  1,     27,     661,2,20180811,0853,1110, 35.4967, 164.9935, 5874,    575.6,      571,   7.7011,  33.9905,2,    184.5,2,  33.9912,6,   184.64,2,    39.16,3,    22.26,2,     0.00,2,    1.600,3, -999.000,9, -999.000,9,   -999.0,9,   -999.0,9,-999.0000,9,  -999.00, -999.000,9,  -999.00,9,  -999.00,9,   7.6436,2,  26.5331,2,   7.6968,2
49UP20180806_1,   P13,    37,  1,     26,     835,2,20180811,0853,1107, 35.4967, 164.9935, 5874,    676.2,      670,   6.1122,  33.9795,2,    140.3,2,  33.9808,2,   139.18,2,    60.45,3,    29.44,2,     0.00,2,    2.130,3, -999.000,9, -999.000,9,   -999.0,9,   -999.0,9,-999.0000,9,  -999.00, -999.000,9,  -999.00,9,  -999.00,9,   6.0523,2,  26.7397,2,   6.1124,2
49UP20180806_1,   P13,    37,  1,     25,     834,2,20180811,0853,1104, 35.4967, 164.9935, 5874,    776.6,      770,   5.0255,  34.0645,2,     91.0,2,  34.0658,2,    91.29,2,    83.32,3,    35.61,2,     0.00,2,    2.560,3, -999.000,9, -999.000,9,   -999.0,9,   -999.0,9,-999.0000,9,  -999.00, -999.000,9,  -999.00,9,  -999.00,9,   4.9624,2,  26.9379,2,   5.0231,2
49UP20180806_1,   P13,    37,  1,     24,     833,2,20180811,0853,1101, 35.4967, 164.9935, 5874,    879.1,      871,   4.4527,  34.1605,2,     64.8,2,  34.1607,2,    64.52,2,    99.84,3,    38.75,2,     0.00,2,    2.760,3, -999.000,9, -999.000,9,   -999.0,9,   -999.0,9,-999.0000,9,  -999.00, -999.000,9,  -999.00,9,  -999.00,9,   4.3844,2,  27.0780,2,   4.4522,2
49UP20180806_1,   P13,    37,  1,     23,     832,2,20180811,0853,1059, 35.4967, 164.9935, 5874,    982.6,      973,   3.9546,  34.2372,2,     48.3,2,  34.2361,2,    48.54,2,   113.97,3,    40.74,2,     0.00,2,    2.900,3, -999.000,9, -999.000,9,   -999.0,9,   -999.0,9,-999.0000,9,  -999.00, -999.000,9,  -999.00,9,  -999.00,9,   3.8812,2,  27.1915,2,   3.9561,2
49UP20180806_1,   P13,    37,  1,     22,     831,2,20180811,0853,1055, 35.4967, 164.9935, 5874,   1140.6,     1129,   3.3955,  34.3294,2,     35.0,2,  34.3297,2,    34.75,2,   130.36,3,    42.51,2,     0.00,2,    3.020,3, -999.000,9, -999.000,9,   -999.0,9,   -999.0,9,-999.0000,9,  -999.00, -999.000,9,  -999.00,9,  -999.00,9,   3.3136,2,  27.3207,2,   3.3955,2
49UP20180806_1,   P13,    37,  1,     21,     830,2,20180811,0853,1050, 35.4967, 164.9935, 5874,   1345.1,     1331,   2.9100,  34.4182,2,     32.7,2,  34.4176,2,    32.75,6,   145.10,3,    43.11,6,     0.00,6,    3.060,3, -999.000,9, -999.000,9,   -999.0,9,   -999.0,9,-999.0000,9,  -999.00, -999.000,9,  -999.00,9,  -999.00,9,   2.8162,2,  27.4372,2,   2.9108,2
49UP20180806_1,   P13,    37,  1,     20,     829,2,20180811,0853,1045, 35.4967, 164.9935, 5874,   1545.7,     1529,   2.5511,  34.4748,2,     36.6,2,  34.4752,2,    36.26,2,   156.19,3,    43.09,2,     0.00,2,    3.050,3, -999.000,9, -999.000,9,   -999.0,9,   -999.0,9,-999.0000,9,  -999.00, -999.000,9,  -999.00,9,  -999.00,9,   2.4450,2,  27.5146,2,   2.5511,2
49UP20180806_1,   P13,    37,  1,     19,     828,2,20180811,0853,1039, 35.4967, 164.9935, 5874,   1754.1,     1734,   2.2915,  34.5217,2,     45.7,2,  34.5223,2,    46.22,2,   162.18,3,    42.63,2,     0.00,2,    3.000,3, -999.000,9, -999.000,9,   -999.0,9,   -999.0,9,-999.0000,9,  -999.00, -999.000,9,  -999.00,9,  -999.00,9,   2.1717,2,  27.5747,2,   2.2916,2
49UP20180806_1,   P13,    37,  1,     18,     827,2,20180811,0853,1033, 35.4967, 164.9935, 5874,   1955.5,     1932,   2.1164,  34.5580,2,     56.3,2,  34.5586,2,    56.22,2,   164.72,3,    42.11,2,     0.00,2,    2.950,3, -999.000,9, -999.000,9,   -999.0,9,   -999.0,9,-999.0000,9,  -999.00, -999.000,9,  -999.00,9,  -999.00,9,   1.9822,2,  27.6190,2,   2.1163,2
49UP20180806_1,   P13,    37,  1,     17,     826,2,20180811,0853,1028, 35.4967, 164.9935, 5874,   2157.1,     2130,   1.9548,  34.5886,2,     69.7,2,  34.5864,4,    69.25,2,   166.40,3,    41.30,2,     0.00,2,    2.890,3, -999.000,9, -999.000,9,   -999.0,9,   -999.0,9,-999.0000,9,  -999.00, -999.000,9,  -999.00,9,  -999.00,9,   1.8059,2,  27.6572,2,   1.9554,2
49UP20180806_1,   P13,    37,  1,     16,     825,2,20180811,0853,1023, 35.4967, 164.9935, 5874,   2365.6,     2335,   1.8420,  34.6094,2,     81.6,2,  34.6090,6,    81.51,2,   167.06,3,    40.52,2,     0.00,2,    2.830,3, -999.000,9, -999.000,9,   -999.0,9,   -999.0,9,-999.0000,9,  -999.00, -999.000,9,  -999.00,9,  -999.00,9,   1.6768,2,  27.6836,2,   1.8420,2
49UP20180806_1,   P13,    37,  1,     15,     824,2,20180811,0853,1017, 35.4967, 164.9935, 5874,   2567.1,     2533,   1.7238,  34.6300,2,     96.5,2,  34.6291,2,    96.29,2,   165.05,3,    39.62,2,     0.00,2,    2.760,3, -999.000,9, -999.000,9,   -999.0,9,   -999.0,9,-999.0000,9,  -999.00, -999.000,9,  -999.00,9,  -999.00,9,   1.5427,2,  27.7101,2,   1.7239,2
49UP20180806_1,   P13,    37,  1,     14,     823,2,20180811,0853,1012, 35.4967, 164.9935, 5874,   2766.2,     2728,   1.6498,  34.6431,2,    107.8,2,  34.6425,2,   107.55,2,   163.05,3,    38.81,2,     0.00,2,    2.700,3, -999.000,9, -999.000,9,   -999.0,9,   -999.0,9,-999.0000,9,  -999.00, -999.000,9,  -999.00,9,  -999.00,9,   1.4519,2,  27.7272,2,   1.6498,2
49UP20180806_1,   P13,    37,  1,     13,     822,2,20180811,0853,1007, 35.4967, 164.9935, 5874,   2976.4,     2934,   1.5897,  34.6540,2,    118.0,2,  34.6538,2,   118.07,2,   161.02,3,    38.22,2,     0.00,2,    2.650,3, -999.000,9, -999.000,9,   -999.0,9,   -999.0,9,-999.0000,9,  -999.00, -999.000,9,  -999.00,9,  -999.00,9,   1.3733,2,  27.7416,2,   1.5897,2
49UP20180806_1,   P13,    37,  1,     12,     821,2,20180811,0853,1000, 35.4967, 164.9935, 5874,   3224.4,     3177,   1.5407,  34.6635,2,    127.9,2,  34.6635,2,   128.10,6,   158.77,3,    37.58,6,     0.00,6,    2.600,3, -999.000,9, -999.000,9,   -999.0,9,   -999.0,9,-999.0000,9,  -999.00, -999.000,9,  -999.00,9,  -999.00,9,   1.3013,2,  27.7544,2,   1.5407,2
49UP20180806_1,   P13,    37,  1,     11,     820,2,20180811,0853,0954, 35.4967, 164.9935, 5874,   3473.0,     3420,   1.5096,  34.6704,2,    135.6,2,  34.6683,4,   134.49,3,   157.33,3,    37.06,2,     0.00,2,    2.570,3, -999.000,9, -999.000,9,   -999.0,9,   -999.0,9,-999.0000,9,  -999.00, -999.000,9,  -999.00,9,  -999.00,9,   1.2461,2,  27.7638,2,   1.5095,2
49UP20180806_1,   P13,    37,  1,     10,     819,2,20180811,0853,0948, 35.4967, 164.9935, 5874,   3727.6,     3668,   1.4833,  34.6765,2,    142.8,2,  34.6762,2,   143.03,2,   155.01,3,    36.58,2,     0.00,2,    2.530,3, -999.000,9, -999.000,9,   -999.0,9,   -999.0,9,-999.0000,9,  -999.00, -999.000,9,  -999.00,9,  -999.00,9,   1.1940,2,  27.7722,2,   1.4832,2
49UP20180806_1,   P13,    37,  1,      9,     818,2,20180811,0853,0943, 35.4967, 164.9935, 5874,   3986.7,     3921,   1.4779,  34.6802,2,    147.5,2,  34.6802,2,   147.59,2,   153.26,3,    36.20,2,     0.00,2,    2.500,3, -999.000,9, -999.000,9,   -999.0,9,   -999.0,9,-999.0000,9,  -999.00, -999.000,9,  -999.00,9,  -999.00,9,   1.1611,2,  27.7775,2,   1.4778,2
49UP20180806_1,   P13,    37,  1,      8,     817,2,20180811,0853,0936, 35.4967, 164.9935, 5874,   4246.6,     4174,   1.4745,  34.6837,2,    151.7,2,  34.6829,2,   152.06,2,   152.75,3,    35.98,2,     0.00,2,    2.480,3, -999.000,9, -999.000,9,   -999.0,9,   -999.0,9,-999.0000,9,  -999.00, -999.000,9,  -999.00,9,  -999.00,9,   1.1291,2,  27.7825,2,   1.4744,2
49UP20180806_1,   P13,    37,  1,      7,     816,2,20180811,0853,0930, 35.4967, 164.9935, 5874,   4496.2,     4417,   1.4797,  34.6862,2,    154.9,2,  34.6861,2,   155.00,2,   153.81,3,    35.72,2,     0.00,2,    2.470,3, -999.000,9, -999.000,9,   -999.0,9,   -999.0,9,-999.0000,9,  -999.00, -999.000,9,  -999.00,9,  -999.00,9,   1.1058,2,  27.7861,2,   1.4797,2
49UP20180806_1,   P13,    37,  1,      6,     815,2,20180811,0853,0925, 35.4967, 164.9935, 5874,   4754.1,     4668,   1.4943,  34.6878,2,    157.4,2,  34.6879,2,   157.64,2,   152.72,3,    35.58,2,     0.00,2,    2.470,3, -999.000,9, -999.000,9,   -999.0,9,   -999.0,9,-999.0000,9,  -999.00, -999.000,9,  -999.00,9,  -999.00,9,   1.0898,2,  27.7885,2,   1.4943,2
49UP20180806_1,   P13,    37,  1,      5,     814,2,20180811,0853,0919, 35.4967, 164.9935, 5874,   5015.5,     4921,   1.5087,  34.6895,2,    160.7,2,  34.6892,6,   160.74,2,   148.49,3,    35.33,2,     0.00,2,    2.440,3, -999.000,9, -999.000,9,   -999.0,9,   -999.0,9,-999.0000,9,  -999.00, -999.000,9,  -999.00,9,  -999.00,9,   1.0723,2,  27.7910,2,   1.5086,2
49UP20180806_1,   P13,    37,  1,      4,     813,2,20180811,0853,0912, 35.4967, 164.9935, 5874,   5272.2,     5170,   1.5162,  34.6916,2,    165.6,2,  34.6912,2,   165.93,2,   143.94,3,    35.00,2,     0.00,2,    2.410,3, -999.000,9, -999.000,9,   -999.0,9,   -999.0,9,-999.0000,9,  -999.00, -999.000,9,  -999.00,9,  -999.00,9,   1.0478,2,  27.7943,2,   1.5161,2
49UP20180806_1,   P13,    37,  1,      3,     812,2,20180811,0853,0906, 35.4967, 164.9935, 5874,   5530.1,     5420,   1.5285,  34.6933,2,    168.8,2,  34.6920,2,   168.14,6,   141.72,3,    34.83,6,     0.00,6,    2.390,3, -999.000,9, -999.000,9,   -999.0,9,   -999.0,9,-999.0000,9,  -999.00, -999.000,9,  -999.00,9,  -999.00,9,   1.0270,2,  27.7971,2,   1.5284,2
49UP20180806_1,   P13,    37,  1,      2,     811,2,20180811,0853,0859, 35.4967, 164.9935, 5874,   5790.2,     5672,   1.5433,  34.6949,2,    171.8,2,  34.6948,2,   171.92,2,   138.16,3,    34.54,2,     0.00,2,    2.370,3, -999.000,9, -999.000,9,   -999.0,9,   -999.0,9,-999.0000,9,  -999.00, -999.000,9,  -999.00,9,  -999.00,9,   1.0075,2,  27.7997,2,   1.5434,2
49UP20180806_1,   P13,    37,  1,      1,     810,2,20180811,0853,0853, 35.4967, 164.9935, 5874,   6037.0,     5910,   1.5709,  34.6954,2,    172.7,2,  34.6949,2,   172.27,2,   137.38,3,    34.55,2,     0.00,2,    2.360,3, -999.000,9, -999.000,9,   -999.0,9,   -999.0,9,-999.0000,9,  -999.00, -999.000,9,  -999.00,9,  -999.00,9,   1.0013,2,  27.8005,2,   1.5710,2