BOTTLE,20191018JMAGEMD
EXPOCODE,SECT_ID,STNNBR,CASTNO,SAMPNO,BTLNBR,BTLNBR_FLAG_U,DATE,TIME,BTL_TIME,LATITUDE,LONGITUDE,DEPTH,CTDPRS,CTDDEP,CTDTMP,CTDSAL,CTDSAL_FLAG_W,CTDOXY,CTDOXY_FLAG_W,SALNTY,SALNTY_FLAG_W,OXYGEN,OXYGEN_FLAG_W,SILCAT,SILCAT_FLAG_W,NO2+NO3,NO2+NO3_FLAG_W,NITRIT,NITRIT_FLAG_W,PHSPHT,PHSPHT_FLAG_W,CFC-11,CFC-11_FLAG_W,CFC-12,CFC-12_FLAG_W,TCARBN,TCARBN_FLAG_W,ALKALI,ALKALI_FLAG_W,PH_TS,PH_TS_FLAG_W,PH_TS_TMP,CFC113,CFC113_FLAG_W,CHLORA,CHLORA_FLAG_W,PPHYTN,PPHYTN_FLAG_W,THETA,THETA_FLAG_W,SIGTHT,SIGTHT_FLAG_W,SBE35,SBE35_FLAG_W
,,,,,,,,UTC,,,,METER,DBAR,METERS,ITS-90,PSS-78,,UMOL/KG,,PSS78,,UMOL/KG,,UMOL/KG,,UMOL/KG,,UMOL/KG,,UMOL/KG,,PMOL/KG,,PMOL/KG,,UMOL/KG,,UMOL/KG,,,,ITS-90,PMOL/KG,,UG/KG,,UG/KG,,ITS-90,,KG/M3,,ITS-90,
49UP20180806_2,   P13,    88,  1,      0,      -9,0,20180908,1214,1345,  0.9958, 164.9930, 4327,      0.0,        0,  30.6280,  34.5728,2,    193.6,2,  34.5752,2,   192.57,2,     1.26,3,     0.00,2,     0.00,2,    0.130,3, -999.000,9, -999.000,9,   1941.9,2,   2273.8,2,   8.1193,2,    25.00, -999.000,9,     0.04,2,     0.02,2,  30.6273,2,  21.1906,2,-999.0000,9
49UP20180806_2,   P13,    88,  1,     36,     845,3,20180908,1214,1423,  0.9958, 164.9930, 4327,     10.8,       11,  30.6377,  34.5729,2,    193.6,2,  34.5733,2,   193.03,2,     1.26,3,     0.02,2,     0.00,2,    0.110,3,    1.402,2,    0.796,2,   1939.7,2,   2273.7,2,   8.1224,2,    25.00,    0.130,2,     0.04,2,     0.02,2,  30.6350,2,  21.1880,2,  30.6393,2
49UP20180806_2,   P13,    88,  1,     35,     844,2,20180908,1214,1421,  0.9958, 164.9930, 4327,     26.3,       26,  30.6379,  34.5756,2,    193.6,2,  34.5778,2,   192.98,2,     1.22,3,     0.00,2,     0.00,2,    0.110,3, -999.000,9, -999.000,9,   1940.4,2,   2274.5,2,   8.1197,2,    25.00, -999.000,9,     0.05,2,     0.02,2,  30.6313,2,  21.1913,2,  30.6364,2
49UP20180806_2,   P13,    88,  1,     34,     843,2,20180908,1214,1418,  0.9958, 164.9930, 4327,     50.6,       50,  30.6073,  34.6045,2,    193.8,2,  34.6045,2,   193.54,2,     1.26,3,     0.00,2,     0.00,2,    0.120,3,    1.403,2,    0.798,2,   1943.5,2,   2276.4,2,   8.1201,2,    25.00,    0.122,2,     0.05,2,     0.03,2,  30.5945,2,  21.2256,2,  30.6072,2
49UP20180806_2,   P13,    88,  1,     33,     842,2,20180908,1214,1416,  0.9958, 164.9930, 4327,     76.8,       76,  30.0456,  35.1244,2,    199.1,2,  35.1222,2,   198.80,2,     1.31,3,     0.00,2,     0.00,2,    0.190,3, -999.000,9, -999.000,9,   1986.8,2,   2311.2,2,   8.0947,2,    25.00, -999.000,9,     0.10,2,     0.07,2,  30.0266,2,  21.8104,2,  30.0451,2
49UP20180806_2,   P13,    88,  1,     32,     841,2,20180908,1214,1414,  0.9958, 164.9930, 4327,    102.0,      101,  28.6986,  35.3476,2,    179.3,2,  35.3387,2,   179.63,2,     1.74,3,     2.63,2,     0.84,2,    0.380,3,    1.510,2,    0.853,2,   2027.6,2,   2323.5,2,   8.0420,2,    25.00,    0.099,2,     0.24,2,     0.37,2,  28.6740,2,  22.4338,2,  28.7058,2
49UP20180806_2,   P13,    88,  1,     31,     840,2,20180908,1214,1413,  0.9958, 164.9930, 4327,    127.8,      127,  25.8151,  35.3650,2,    149.8,2,  35.3644,2,   149.94,2,     3.03,3,     6.96,2,     0.13,2,    0.630,3, -999.000,9, -999.000,9,   2066.8,2,   2323.3,2,   7.9738,2,    25.00, -999.000,9,     0.13,2,     0.33,2,  25.7866,2,  23.3752,2,  25.8149,2
49UP20180806_2,   P13,    88,  1,     30,     839,2,20180908,1214,1411,  0.9958, 164.9930, 4327,    154.1,      153,  24.3720,  35.4325,2,    136.4,2,  35.4397,2,   136.56,2,     3.51,3,     8.60,2,     0.05,2,    0.730,3,    1.735,2,    0.976,2,   2085.6,2,   2328.9,2,   7.9410,2,    25.00,    0.056,2,     0.04,2,     0.23,2,  24.3392,2,  23.8678,2,  24.3664,2
49UP20180806_2,   P13,    88,  1,     29,     838,2,20180908,1214,1408,  0.9958, 164.9930, 4327,    201.6,      200,  17.9141,  35.1687,2,    137.8,2,  35.1996,4,   137.68,6,     8.01,3,    12.40,6,     0.01,6,    0.970,3,    2.017,2,    1.089,2,   2126.3,2,   2317.3,2,   7.8470,2,    25.00,    0.029,2,     0.01,2,     0.02,2,  17.8795,2,  25.4310,2,  17.8887,2
49UP20180806_2,   P13,    88,  1,     28,     837,2,20180908,1214,1406,  0.9958, 164.9930, 4327,    251.2,      250,  13.3948,  34.9232,2,    140.2,2,  34.9247,2,   140.32,2,    14.67,3,    18.26,2,     0.00,2,    1.350,3,    1.952,2,    0.990,2,   2158.1,2,   2310.0,2,   7.7563,2,    25.00,    0.023,2,  -999.00,9,  -999.00,9,  13.3595,2,  26.2606,2,  13.3947,2
49UP20180806_2,   P13,    88,  1,     27,     661,2,20180908,1214,1404,  0.9958, 164.9930, 4327,    303.0,      301,  11.8801,  34.8310,2,    132.6,2,  34.8273,6,   132.02,2,    18.34,3,    21.67,2,     0.00,2,    1.570,3,    1.759,2,    0.870,2,   2175.5,2,   2307.3,2,   7.7096,2,    25.00,    0.017,2,  -999.00,9,  -999.00,9,  11.8407,2,  26.4881,2,  11.8813,2
49UP20180806_2,   P13,    88,  1,     26,     835,2,20180908,1214,1401,  0.9958, 164.9930, 4327,    352.6,      350,  10.9484,  34.7657,2,    101.1,2,  34.7652,2,   100.51,2,    23.07,3,    26.29,2,     0.00,2,    1.870,3, -999.000,9, -999.000,9,   2197.3,2,   2306.3,2,   7.6316,2,    25.00, -999.000,9,  -999.00,9,  -999.00,9,  10.9048,2,  26.6102,2,  10.9474,2
49UP20180806_2,   P13,    88,  1,     25,     834,2,20180908,1214,1359,  0.9958, 164.9930, 4327,    403.5,      401,   9.9809,  34.7008,2,    103.8,2,  34.7005,2,   103.68,2,    26.01,3,    27.84,2,     0.00,2,    1.970,3,    1.233,2,    0.582,2,   2208.4,2,   2304.5,2,   7.6143,2,    25.00,    0.017,2,  -999.00,9,  -999.00,9,   9.9339,2,  26.7296,2,   9.9811,2
49UP20180806_2,   P13,    88,  1,     23,     832,2,20180908,1214,1357,  0.9958, 164.9930, 4327,    454.8,      452,   9.1344,  34.6307,2,    112.4,2,  34.6317,6,   112.71,2,    30.21,3,    28.50,2,     0.00,2,    2.010,3, -999.000,9, -999.000,9,   2213.8,2,   2305.4,2,   7.6098,2,    25.00, -999.000,9,  -999.00,9,  -999.00,9,   9.0841,2,  26.8154,2,   9.1338,2
49UP20180806_2,   P13,    88,  1,     22,     831,2,20180908,1214,1355,  0.9958, 164.9930, 4327,    504.9,      502,   8.2065,  34.5987,2,    120.8,2,  34.5993,2,   121.16,2,    29.96,3,    29.67,2,     0.00,2,    2.070,3,    0.993,2,    0.455,2,   2212.8,2,   2307.1,2,   7.6050,2,    25.00,    0.011,2,  -999.00,9,  -999.00,9,   8.1539,2,  26.9356,2,   8.2063,2
49UP20180806_2,   P13,    88,  1,     21,     830,2,20180908,1214,1352,  0.9958, 164.9930, 4327,    604.2,      600,   7.2149,  34.5542,2,    115.6,2,  34.5537,2,   120.47,2,    37.05,3,    31.66,2,     0.00,2,    2.220,3,    0.724,2,    0.324,2,   2223.6,2,   2309.7,2,   7.5812,6,    25.00,    0.010,2,  -999.00,9,  -999.00,9,   7.1561,2,  27.0459,2,   7.2079,2
49UP20180806_2,   P13,    88,  1,     20,     829,2,20180908,1214,1348,  0.9958, 164.9930, 4327,    707.2,      702,   6.4094,  34.5491,2,     85.2,2,  34.5489,2,    85.05,2,    52.36,3,    36.67,2,     0.00,2,    2.620,3,    0.229,2,    0.097,2,   2262.8,6,   2323.9,6,   7.5082,2,    25.00,    0.002,2,  -999.00,9,  -999.00,9,   6.3444,2,  27.1519,2,   6.4098,2
49UP20180806_2,   P13,    88,  1,     19,     828,2,20180908,1214,1345,  0.9958, 164.9930, 4327,    807.9,      802,   5.6943,  34.5403,2,     87.6,2,  34.5400,2,    88.54,6,    62.74,3,    37.61,6,     0.00,6,    2.700,3,    0.136,2,    0.056,2,   2269.5,2,   2331.0,2,   7.5083,2,    25.00,   -0.000,2,  -999.00,9,  -999.00,9,   5.6238,2,  27.2364,2,   5.6946,2
49UP20180806_2,   P13,    88,  1,     18,     660,2,20180908,1214,1342,  0.9958, 164.9930, 4327,    907.1,      900,   5.0695,  34.5380,2,    100.5,2,  34.5385,2,   100.38,2,    71.81,3,    37.07,2,     0.00,2,    2.660,3,    0.126,2,    0.048,2,   2278.8,2,   2341.0,2,   7.5224,2,    25.00,    0.004,2,  -999.00,9,  -999.00,9,   4.9940,2,  27.3097,2,   5.0695,2
49UP20180806_2,   P13,    88,  1,     17,     826,2,20180908,1214,1338,  0.9958, 164.9930, 4327,   1011.0,     1003,   4.7042,  34.5478,2,     97.9,2,  34.5479,6,    98.18,2,    80.92,3,    37.49,2,     0.00,2,    2.680,3,    0.094,2,    0.035,2,   2286.1,2,   2353.3,2,   7.5196,2,    25.00,    0.005,2,  -999.00,9,  -999.00,9,   4.6221,2,  27.3596,2,   4.7047,2
49UP20180806_2,   P13,    88,  1,     16,     825,2,20180908,1214,1333,  0.9958, 164.9930, 4327,   1210.4,     1200,   3.8786,  34.5683,2,     98.3,2,  34.5678,6,    98.90,2,    97.88,3,    38.47,2,     0.00,2,    2.740,3,    0.022,2,    0.003,2,   2302.2,2,   2370.8,2,   7.5097,2,    25.00,    0.004,2,  -999.00,9,  -999.00,9,   3.7861,2,  27.4647,2,   3.8780,2
49UP20180806_2,   P13,    88,  1,     15,     824,2,20180908,1214,1328,  0.9958, 164.9930, 4327,   1413.3,     1401,   3.3852,  34.5867,2,     96.7,2,  34.5872,2,    96.80,2,   110.06,3,    38.94,2,     0.00,2,    2.780,3,    0.007,2,    0.000,2,   2320.6,2,   2384.8,2,   7.5063,2,    25.00,    0.001,2,  -999.00,9,  -999.00,9,   3.2803,2,  27.5290,2,   3.3855,2
49UP20180806_2,   P13,    88,  1,     14,     823,2,20180908,1214,1322,  0.9958, 164.9930, 4327,   1617.2,     1602,   2.8967,  34.6060,2,    103.1,2,  34.6061,2,   103.39,2,   120.94,3,    38.87,2,     0.00,2,    2.760,3,    0.003,2,    0.000,2,   2328.2,2,   2393.6,2,   7.5166,2,    25.00,    0.010,2,  -999.00,9,  -999.00,9,   2.7802,2,  27.5904,2,   2.8970,2
49UP20180806_2,   P13,    88,  1,     13,     822,2,20180908,1214,1317,  0.9958, 164.9930, 4327,   1819.2,     1801,   2.4954,  34.6238,2,    110.2,2,  34.6236,2,   110.31,2,   130.04,3,    38.45,2,     0.00,2,    2.720,3,    0.003,2,    0.000,2,   2335.8,2,   2406.8,2,   7.5274,2,    25.00,    0.000,2,  -999.00,9,  -999.00,9,   2.3670,2,  27.6404,2,   2.4953,2
49UP20180806_2,   P13,    88,  1,     12,     821,2,20180908,1214,1312,  0.9958, 164.9930, 4327,   2021.6,     2001,   2.2661,  34.6351,2,    115.9,2,  34.6326,4,   115.90,2,   134.54,3,    38.15,2,     0.00,2,    2.690,3,    0.000,2,    0.000,2,   2335.3,2,   2410.6,2,   7.5389,2,    25.00,    0.001,2,  -999.00,9,  -999.00,9,   2.1237,2,  27.6695,2,   2.2660,2
49UP20180806_2,   P13,    88,  1,     11,     820,2,20180908,1214,1306,  0.9958, 164.9930, 4327,   2224.1,     2200,   2.0777,  34.6456,2,    120.5,2,  34.6459,2,   120.72,6,   138.76,3,    37.93,6,     0.00,6,    2.670,3,    0.001,2,    0.001,2,   2337.8,2,   2414.6,2,   7.5444,2,    25.00,    0.000,2,  -999.00,9,  -999.00,9,   1.9208,2,  27.6940,2,   2.0778,2
49UP20180806_2,   P13,    88,  1,     10,     819,2,20180908,1214,1301,  0.9958, 164.9930, 4327,   2428.6,     2401,   1.9182,  34.6545,2,    124.4,2,  34.6548,2,   124.39,2,   142.47,3,    37.76,2,     0.00,2,    2.650,3,    0.000,2,    0.000,2,   2341.0,2,   2418.9,2,   7.5489,6,    25.00,    0.000,2,  -999.00,9,  -999.00,9,   1.7459,2,  27.7146,2,   1.9179,2
49UP20180806_2,   P13,    88,  1,      9,     818,2,20180908,1214,1256,  0.9958, 164.9930, 4327,   2631.0,     2600,   1.8611,  34.6586,2,    126.2,2,  34.6590,2,   125.88,2,   144.07,3,    37.61,2,     0.00,2,    2.640,3,    0.000,2,    0.000,2,   2341.9,6,   2419.7,6,   7.5501,2,    25.00,    0.003,2,  -999.00,9,  -999.00,9,   1.6715,2,  27.7235,2,   1.8611,2
49UP20180806_2,   P13,    88,  1,      8,     817,2,20180908,1214,1251,  0.9958, 164.9930, 4327,   2835.8,     2801,   1.7694,  34.6634,2,    130.4,2,  34.6629,2,   130.42,2,   145.48,3,    37.38,2,     0.00,2,    2.620,3,    0.000,2,   -0.000,2,   2336.8,2,   2421.9,2,   7.5579,2,    25.00,   -0.000,2,  -999.00,9,  -999.00,9,   1.5625,2,  27.7355,2,   1.7694,2
49UP20180806_2,   P13,    88,  1,      7,     816,3,20180908,1214,1246,  0.9958, 164.9930, 4327,   3039.8,     3001,   1.6535,  34.6700,2,    137.6,2,  34.6696,6,   137.55,2,   145.76,3,    36.83,2,     0.00,2,    2.570,3, -999.000,9, -999.000,9,   2339.5,2,   2422.9,2,   7.5677,2,    25.00, -999.000,9,  -999.00,9,  -999.00,9,   1.4295,2,  27.7504,2,   1.6535,2
49UP20180806_2,   P13,    88,  1,      6,     815,2,20180908,1214,1240,  0.9958, 164.9930, 4327,   3293.1,     3250,   1.5843,  34.6751,2,    143.4,2,  34.6750,2,   143.71,2,   145.61,3,    36.52,2,     0.00,2,    2.550,3, -999.000,9, -999.000,9,   2331.2,2,   2420.5,2,   7.5764,2,    25.00, -999.000,9,  -999.00,9,  -999.00,9,   1.3371,2,  27.7612,2,   1.5843,2
49UP20180806_2,   P13,    88,  1,      5,     814,3,20180908,1214,1234,  0.9958, 164.9930, 4327,   3548.6,     3500,   1.5355,  34.6797,2,    149.0,2,  34.6793,2,   148.98,2,   144.52,3,    36.12,2,     0.00,2,    2.520,3,    0.004,2,    0.000,2,   2330.8,2,   2419.0,2,   7.5834,6,    25.00,    0.000,2,  -999.00,9,  -999.00,9,   1.2635,2,  27.7700,2,   1.5355,2
49UP20180806_2,   P13,    88,  1,      4,     813,2,20180908,1214,1229,  0.9958, 164.9930, 4327,   3805.0,     3750,   1.4718,  34.6858,2,    157.6,2,  34.6868,2,   157.87,2,   140.99,3,    35.50,2,     0.00,2,    2.470,3,    0.003,2,    0.000,2,   2320.2,6,   2415.9,6,   7.5961,2,    25.00,    0.000,2,  -999.00,9,  -999.00,9,   1.1746,2,  27.7811,2,   1.4716,2
49UP20180806_2,   P13,    88,  1,      3,     812,3,20180908,1214,1223,  0.9958, 164.9930, 4327,   4059.2,     3999,   1.4233,  34.6911,2,    166.0,2,  34.6907,2,   166.51,2,   137.61,3,    34.98,2,     0.00,2,    2.420,3,    0.000,2,    0.000,2,   2312.8,2,   2407.5,2,   7.6042,2,    25.00,    0.002,2,  -999.00,9,  -999.00,9,   1.1001,2,  27.7904,2,   1.4232,2
49UP20180806_2,   P13,    88,  1,      2,     811,2,20180908,1214,1217,  0.9958, 164.9930, 4327,   4317.5,     4251,   1.3552,  34.6972,2,    177.3,2,  34.6972,2,   177.50,6,   131.21,3,    34.08,6,     0.00,6,    2.350,3,    0.009,2,    0.002,2,   2299.5,2,   2402.0,2,   7.6127,2,    25.00,    0.000,2,  -999.00,9,  -999.00,9,   1.0054,2,  27.8017,2,   1.3551,2
49UP20180806_2,   P13,    88,  1,      1,     810,2,20180908,1214,1215,  0.9958, 164.9930, 4327,   4382.0,     4314,   1.3496,  34.6980,2,    178.6,2,  34.6987,2,   178.48,2,   129.91,3,    34.00,2,     0.00,2,    2.340,3,    0.013,2,    0.000,2,   2299.9,2,   2401.3,2,   7.6144,2,    25.00,   -0.000,2,  -999.00,9,  -999.00,9,   0.9927,2,  27.8032,2,   1.3496,2