BOTTLE,20191018JMAGEMD
EXPOCODE,SECT_ID,STNNBR,CASTNO,SAMPNO,BTLNBR,BTLNBR_FLAG_U,DATE,TIME,BTL_TIME,LATITUDE,LONGITUDE,DEPTH,CTDPRS,CTDDEP,CTDTMP,CTDSAL,CTDSAL_FLAG_W,CTDOXY,CTDOXY_FLAG_W,SALNTY,SALNTY_FLAG_W,OXYGEN,OXYGEN_FLAG_W,SILCAT,SILCAT_FLAG_W,NO2+NO3,NO2+NO3_FLAG_W,NITRIT,NITRIT_FLAG_W,PHSPHT,PHSPHT_FLAG_W,CFC-11,CFC-11_FLAG_W,CFC-12,CFC-12_FLAG_W,TCARBN,TCARBN_FLAG_W,ALKALI,ALKALI_FLAG_W,PH_TS,PH_TS_FLAG_W,PH_TS_TMP,CFC113,CFC113_FLAG_W,CHLORA,CHLORA_FLAG_W,PPHYTN,PPHYTN_FLAG_W,THETA,THETA_FLAG_W,SIGTHT,SIGTHT_FLAG_W,SBE35,SBE35_FLAG_W
,,,,,,,,UTC,,,,METER,DBAR,METERS,ITS-90,PSS-78,,UMOL/KG,,PSS78,,UMOL/KG,,UMOL/KG,,UMOL/KG,,UMOL/KG,,UMOL/KG,,PMOL/KG,,PMOL/KG,,UMOL/KG,,UMOL/KG,,,,ITS-90,PMOL/KG,,UG/KG,,UG/KG,,ITS-90,,KG/M3,,ITS-90,
49UP20180614_2,   P13,    31,  1,      0,      -9,0,20180715,1305,1501, 38.0235, 164.9978, 5465,      0.0,        0,  21.5046,  34.3103,2,    228.6,2,  34.3037,2,   229.92,2,     4.97,3,     0.00,2,     0.00,2,    0.120,3, -999.000,9, -999.000,9,   2010.2,2,   2264.3,2,   7.9918,2,    25.00, -999.000,9,     0.09,2,     0.02,2,  21.5042,2,  23.8313,2,-999.0000,9
49UP20180614_2,   P13,    31,  1,     36,     845,2,20180715,1305,1530, 38.0235, 164.9978, 5465,     10.2,       10,  21.3851,  34.2955,2,    228.8,2,  34.3004,2,   232.74,2,     5.00,3,     0.00,2,     0.00,2,    0.060,3,    1.912,2,    1.096,2,   2009.5,2,   2264.5,2,   7.9965,2,    25.00,    0.171,2,     0.09,2,     0.02,2,  21.3831,2,  23.8532,2,  21.3680,2
49UP20180614_2,   P13,    31,  1,     35,     844,2,20180715,1305,1525, 38.0235, 164.9978, 5465,     50.4,       50,  13.3099,  34.3848,2,    252.7,2,  34.3839,2,   251.96,2,    10.13,3,     5.97,2,     0.28,2,    0.450,3,    2.484,2,    1.446,2,   2060.8,2,   2271.3,2,   7.9050,2,    25.00,    0.200,2,     0.45,2,     0.36,2,  13.3029,2,  25.8552,2,  13.3134,2
49UP20180614_2,   P13,    31,  1,     34,     843,2,20180715,1305,1524, 38.0235, 164.9978, 5465,     75.8,       75,  12.5783,  34.3516,2,    240.0,2,  34.3503,2,   239.95,2,    11.72,3,     8.30,2,     0.04,2,    0.590,3, -999.000,9, -999.000,9,   2071.0,2,   2269.3,2,   7.8727,2,    25.00, -999.000,9,     0.22,2,     0.16,2,  12.5682,2,  25.9759,2,  12.5797,2
49UP20180614_2,   P13,    31,  1,     33,     842,2,20180715,1305,1522, 38.0235, 164.9978, 5465,    101.1,      100,  12.1502,  34.3346,2,    233.7,2,  34.3340,2,   234.05,6,    13.21,3,     9.67,6,     0.02,6,    0.680,3,    2.513,2,    1.442,2,   2080.2,2,   2271.4,2,   7.8522,2,    25.00,    0.188,2,     0.09,2,     0.06,2,  12.1371,2,  26.0462,2,  12.1500,2
49UP20180614_2,   P13,    31,  1,     32,     841,2,20180715,1305,1521, 38.0235, 164.9978, 5465,    126.4,      125,  11.6794,  34.2983,2,    233.2,2,  34.2983,2,   233.29,2,    14.24,3,    10.52,2,     0.01,2,    0.740,3, -999.000,9, -999.000,9,   2091.0,2,   2270.8,2,   7.8398,2,    25.00, -999.000,9,     0.02,2,     0.04,2,  11.6634,2,  26.1074,2,  11.6795,2
49UP20180614_2,   P13,    31,  1,     31,     840,2,20180715,1305,1520, 38.0235, 164.9978, 5465,    151.2,      150,  11.3104,  34.2695,2,    231.1,2,  34.2690,2,   231.62,2,    15.78,3,    11.39,2,     0.01,2,    0.800,3,    2.555,2,    1.464,2,   2097.5,2,   2269.9,2,   7.8288,2,    25.00,    0.179,2,     0.01,2,     0.03,2,  11.2917,2,  26.1537,2,  11.3107,2
49UP20180614_2,   P13,    31,  1,     30,     839,2,20180715,1305,1518, 38.0235, 164.9978, 5465,    203.8,      202,  10.5536,  34.2214,2,    210.2,2,  34.2213,2,   210.69,2,    21.99,3,    14.87,2,     0.01,2,    1.040,3,    2.528,6,    1.434,6,   2117.6,2,   2271.3,2,   7.7790,2,    25.00,    0.150,6,     0.00,2,     0.03,2,  10.5293,2,  26.2527,2,  10.5544,2
49UP20180614_2,   P13,    31,  1,     29,     838,2,20180715,1305,1516, 38.0235, 164.9978, 5465,    252.3,      250,   9.4697,  34.0933,2,    222.0,2,  34.0928,2,   222.38,2,    23.08,3,    15.70,2,     0.01,2,    1.110,3,    2.725,2,    1.540,2,   2127.0,2,   2269.1,2,   7.7566,2,    25.00,    0.173,2,  -999.00,9,  -999.00,9,   9.4417,2,  26.3369,2,   9.4677,2
49UP20180614_2,   P13,    31,  1,     28,     837,2,20180715,1305,1514, 38.0235, 164.9978, 5465,    303.1,      301,   8.4005,  34.0054,2,    211.3,2,  34.0063,2,   211.60,2,    29.22,3,    18.62,2,     0.01,2,    1.320,3,    2.781,2,    1.552,2,   2145.4,2,   2269.9,2,   7.7135,2,    25.00,    0.175,2,  -999.00,9,  -999.00,9,   8.3692,2,  26.4373,2,   8.4008,2
49UP20180614_2,   P13,    31,  1,     27,     661,2,20180715,1305,1511, 38.0235, 164.9978, 5465,    404.7,      401,   6.6122,  33.9414,2,    164.9,2,  33.9426,2,   165.18,2,    49.09,3,    26.22,2,     0.00,2,    1.880,3,    2.510,2,    1.357,2,   2197.0,2,   2281.8,2,   7.5905,2,    25.00,    0.143,2,  -999.00,9,  -999.00,9,   6.5755,2,  26.6420,2,   6.6129,2
49UP20180614_2,   P13,    31,  1,     26,     835,2,20180715,1305,1508, 38.0235, 164.9978, 5465,    506.9,      502,   5.3940,  33.9975,2,    115.8,2,  33.9956,2,   116.00,2,    71.51,3,    32.96,2,     0.00,2,    2.360,3,    1.982,2,    1.005,2,   2250.9,2,   2298.1,2,   7.4768,2,    25.00,    0.106,2,  -999.00,9,  -999.00,9,   5.3524,2,  26.8395,2,   5.3977,2
49UP20180614_2,   P13,    31,  1,     25,     834,2,20180715,1305,1505, 38.0235, 164.9978, 5465,    606.1,      601,   4.7100,  34.0760,2,     82.3,2,  34.0742,2,    82.55,2,    89.19,3,    36.99,2,     0.00,2,    2.640,3,    1.466,2,    0.717,2,   2289.0,2,   2313.8,2,   7.4131,2,    25.00,    0.081,2,  -999.00,9,  -999.00,9,   4.6630,2,  26.9806,2,   4.7141,2
49UP20180614_2,   P13,    31,  1,     24,     833,2,20180715,1305,1502, 38.0235, 164.9978, 5465,    707.6,      701,   4.2552,  34.1441,2,     60.4,2,  34.1429,2,    60.66,6,   102.95,3,    39.39,6,     0.00,6,    2.800,3,    1.058,2,    0.502,2,   2313.8,2,   2327.8,2,   7.3741,2,    25.00,    0.063,2,  -999.00,9,  -999.00,9,   4.2023,2,  27.0843,2,   4.2553,2
49UP20180614_2,   P13,    31,  1,     23,     832,2,20180715,1305,1500, 38.0235, 164.9978, 5465,    808.7,      801,   3.8919,  34.2306,2,     45.4,2,  34.2293,2,    46.02,2,   115.45,3,    40.97,2,     0.00,2,    2.910,3,    0.654,2,    0.302,2,   2333.7,2,   2343.8,2,   7.3572,6,    25.00,    0.030,2,  -999.00,9,  -999.00,9,   3.8329,2,  27.1911,2,   3.8922,2
49UP20180614_2,   P13,    31,  1,     22,     831,2,20180715,1305,1457, 38.0235, 164.9978, 5465,    911.0,      902,   3.5380,  34.2964,2,     35.8,2,  34.2935,2,    35.45,2,   126.91,3,    42.10,2,     0.00,2,    3.010,3,    0.359,2,    0.169,2,   2356.4,2,   2357.5,2,   7.3452,2,    25.00,    0.023,2,  -999.00,9,  -999.00,9,   3.4733,2,  27.2791,2,   3.5413,2
49UP20180614_2,   P13,    31,  1,     21,     830,2,20180715,1305,1454, 38.0235, 164.9978, 5465,   1012.2,     1002,   3.2354,  34.3485,2,     33.0,2,  34.3470,2,    32.86,2,   136.08,3,    42.67,2,     0.00,2,    3.010,3,    0.380,3,    0.415,4,   2367.1,2,   2368.8,2,   7.3446,2,    25.00,    0.025,3,  -999.00,9,  -999.00,9,   3.1650,2,  27.3498,2,   3.2355,2
49UP20180614_2,   P13,    31,  1,     20,     829,2,20180715,1305,1449, 38.0235, 164.9978, 5465,   1213.4,     1201,   2.8025,  34.4181,2,     32.6,2,  34.4181,6,    33.26,2,   149.50,3,    43.10,2,     0.00,2,    3.050,3,    0.134,2,    0.058,2,   2379.6,2,   2384.8,2,   7.3445,2,    25.00,    0.017,2,  -999.00,9,  -999.00,9,   2.7202,2,  27.4456,2,   2.8026,2
49UP20180614_2,   P13,    31,  1,     19,     828,2,20180715,1305,1443, 38.0235, 164.9978, 5465,   1416.4,     1401,   2.4792,  34.4799,2,     37.2,2,  34.4785,2,    37.25,2,   158.71,3,    43.00,2,     0.00,2,    3.020,3,    0.066,6,    0.026,6,   2380.0,2,   2393.9,2,   7.3611,2,    25.00,    0.016,6,  -999.00,9,  -999.00,9,   2.3842,2,  27.5238,2,   2.4805,2
49UP20180614_2,   P13,    31,  1,     18,     827,2,20180715,1305,1438, 38.0235, 164.9978, 5465,   1620.0,     1602,   2.2597,  34.5229,2,     44.9,2,  34.5231,2,    45.52,2,   164.88,3,    42.73,2,     0.00,2,    3.010,3,    0.035,2,    0.013,2,   2390.2,6,   2401.2,6,   7.3798,2,    25.00,   -0.000,2,  -999.00,9,  -999.00,9,   2.1511,2,  27.5774,2,   2.2599,2
49UP20180614_2,   P13,    31,  1,     17,     826,2,20180715,1305,1433, 38.0235, 164.9978, 5465,   1822.0,     1801,   2.1042,  34.5556,2,     54.8,2,  34.5549,2,    60.39,3,   167.20,3,    42.07,2,     0.00,2,    2.950,3,    0.018,2,    0.007,2,   2388.1,2,   2409.4,2,   7.4013,2,    25.00,    0.003,2,  -999.00,9,  -999.00,9,   1.9812,2,  27.6171,2,   2.1043,2
49UP20180614_2,   P13,    31,  1,     16,     825,2,20180715,1305,1428, 38.0235, 164.9978, 5465,   2028.0,     2003,   1.9598,  34.5836,2,     66.2,2,  34.5825,2,    66.70,2,   169.08,3,    41.40,2,     0.00,2,    2.910,3,    0.011,2,    0.003,2,   2384.0,2,   2410.5,2,   7.4256,2,    25.00,    0.000,2,  -999.00,9,  -999.00,9,   1.8218,2,  27.6519,2,   1.9598,2
49UP20180614_2,   P13,    31,  1,     15,     824,2,20180715,1305,1423, 38.0235, 164.9978, 5465,   2231.5,     2203,   1.8499,  34.6059,2,     78.3,2,  34.6053,2,    78.26,6,   169.72,3,    40.76,6,     0.00,6,    2.840,3,    0.001,2,    0.000,2,   2378.2,2,   2413.6,2,   7.4494,2,    25.00,    0.000,2,  -999.00,9,  -999.00,9,   1.6963,2,  27.6794,2,   1.8498,2
49UP20180614_2,   P13,    31,  1,     14,     823,2,20180715,1305,1418, 38.0235, 164.9978, 5465,   2433.8,     2402,   1.7356,  34.6271,2,     93.3,2,  34.6268,2,    93.78,2,   168.02,3,    39.84,2,     0.00,2,    2.770,3,    0.000,2,    0.000,2,   2369.0,2,   2416.9,2,   7.4757,2,    25.00,    0.002,2,  -999.00,9,  -999.00,9,   1.5662,2,  27.7061,2,   1.7356,2
49UP20180614_2,   P13,    31,  1,     13,     822,2,20180715,1305,1413, 38.0235, 164.9978, 5465,   2639.9,     2604,   1.6534,  34.6419,2,    105.6,2,  34.6414,2,   106.06,2,   166.01,3,    39.05,2,     0.00,2,    2.710,3,    0.001,2,    0.002,2,   2362.6,2,   2418.1,6,   7.5009,2,    25.00,    0.005,2,  -999.00,9,  -999.00,9,   1.4671,2,  27.7252,2,   1.6535,2
49UP20180614_2,   P13,    31,  1,     12,     821,2,20180715,1305,1408, 38.0235, 164.9978, 5465,   2842.8,     2803,   1.5919,  34.6528,2,    116.0,2,  34.6527,2,   116.19,2,   164.07,3,    38.37,2,     0.00,2,    2.660,3,    0.000,2,    0.001,2,   2355.5,2,   2418.9,2,   7.5212,6,    25.00,    0.003,2,  -999.00,9,  -999.00,9,   1.3881,2,  27.7396,2,   1.5918,2
49UP20180614_2,   P13,    31,  1,     11,     820,2,20180715,1305,1403, 38.0235, 164.9978, 5465,   3046.5,     3002,   1.5493,  34.6608,2,    124.3,2,  34.6599,6,   124.25,2,   162.19,3,    37.84,2,     0.00,2,    2.620,3, -999.000,9, -999.000,9,   2351.2,2,   2423.8,3,   7.5352,2,    25.00, -999.000,9,  -999.00,9,  -999.00,9,   1.3270,2,  27.7504,2,   1.5492,2
49UP20180614_2,   P13,    31,  1,     10,     819,2,20180715,1305,1357, 38.0235, 164.9978, 5465,   3300.6,     3250,   1.5077,  34.6689,2,    133.3,2,  34.6679,2,   133.24,2,   159.65,3,    37.32,2,     0.00,2,    2.570,3, -999.000,9, -999.000,9,   2337.3,3,   2419.2,2,   7.5514,2,    25.00, -999.000,9,  -999.00,9,  -999.00,9,   1.2616,2,  27.7615,2,   1.5078,2
49UP20180614_2,   P13,    31,  1,      9,     818,2,20180715,1305,1351, 38.0235, 164.9978, 5465,   3558.0,     3502,   1.4844,  34.6749,2,    139.8,2,  34.6743,2,   139.85,2,   158.32,3,    36.75,2,     0.00,2,    2.540,3, -999.000,9, -999.000,9,   2339.9,2,   2418.2,2,   7.5628,2,    25.00, -999.000,9,  -999.00,9,  -999.00,9,   1.2128,2,  27.7696,2,   1.4846,2
49UP20180614_2,   P13,    31,  1,      8,     817,2,20180715,1305,1345, 38.0235, 164.9978, 5465,   3814.1,     3752,   1.4704,  34.6792,2,    145.3,2,  34.6789,2,   145.45,2,   156.40,3,    36.54,2,     0.00,2,    2.510,3,    0.000,2,    0.004,2,   2335.3,2,   2417.4,2,   7.5758,2,    25.00,    0.000,2,  -999.00,9,  -999.00,9,   1.1723,2,  27.7759,2,   1.4704,2
49UP20180614_2,   P13,    31,  1,      7,     816,2,20180715,1305,1339, 38.0235, 164.9978, 5465,   4070.4,     4002,   1.4656,  34.6827,2,    149.7,2,  34.6809,2,   148.95,2,   155.65,3,    36.32,2,     0.00,2,    2.500,3, -999.000,9, -999.000,9,   2334.0,2,   2417.9,2,   7.5783,2,    25.00, -999.000,9,  -999.00,9,  -999.00,9,   1.1400,2,  27.7810,2,   1.4654,2
49UP20180614_2,   P13,    31,  1,      6,     815,2,20180715,1305,1333, 38.0235, 164.9978, 5465,   4327.9,     4252,   1.4700,  34.6855,2,    152.9,2,  34.6840,2,   153.00,6,   154.89,3,    36.00,6,     0.00,6,    2.480,3, -999.000,9, -999.000,9,   2330.5,2,   2417.5,2,   7.5873,2,    25.00, -999.000,9,  -999.00,9,  -999.00,9,   1.1156,2,  27.7849,2,   1.4701,2
49UP20180614_2,   P13,    31,  1,      5,     814,3,20180715,1305,1327, 38.0235, 164.9978, 5465,   4584.6,     4502,   1.4845,  34.6872,2,    155.0,2,  34.6862,2,   155.01,2,   154.18,3,    35.86,2,     0.00,2,    2.490,3, -999.000,9, -999.000,9,   2325.7,2,   2415.9,2,   7.5865,2,    25.00, -999.000,9,  -999.00,9,  -999.00,9,   1.1002,2,  27.7873,2,   1.4846,2
49UP20180614_2,   P13,    31,  1,      4,     813,2,20180715,1305,1321, 38.0235, 164.9978, 5465,   4839.1,     4749,   1.5064,  34.6881,2,    156.1,2,  34.6884,2,   156.52,2,   154.23,3,    35.87,2,     0.00,2,    2.470,3,    0.002,2,    0.001,2,   2329.2,2,   2416.4,2,   7.5916,2,    25.00,    0.000,2,  -999.00,9,  -999.00,9,   1.0914,2,  27.7886,2,   1.5065,2
49UP20180614_2,   P13,    31,  1,      3,     812,2,20180715,1305,1315, 38.0235, 164.9978, 5465,   5098.6,     5001,   1.5337,  34.6887,2,    156.7,2,  34.6884,6,   157.45,2,   154.51,3,    35.71,2,     0.00,2,    2.460,3, -999.000,9, -999.000,9,   2328.8,2,   2418.7,2,   7.5940,6,    25.00, -999.000,9,  -999.00,9,  -999.00,9,   1.0863,2,  27.7894,2,   1.5338,2
49UP20180614_2,   P13,    31,  1,      2,     811,2,20180715,1305,1310, 38.0235, 164.9978, 5465,   5356.2,     5250,   1.5637,  34.6891,2,    156.9,2,  34.6892,2,   157.11,2,   154.83,3,    35.75,2,     0.00,2,    2.460,3, -999.000,9, -999.000,9,   2328.7,2,   2417.5,6,   7.5953,2,    25.00, -999.000,9,  -999.00,9,  -999.00,9,   1.0831,2,  27.7900,2,   1.5638,2
49UP20180614_2,   P13,    31,  1,      1,     810,2,20180715,1305,1305, 38.0235, 164.9978, 5465,   5568.4,     5456,   1.5906,  34.6892,2,    157.0,2,  34.6880,2,   157.75,2,   155.10,3,    35.74,2,     0.00,2,    2.460,3,    0.004,2,    0.000,2,   2327.5,2,   2415.6,2,   7.5963,2,    25.00,    0.003,2,  -999.00,9,  -999.00,9,   1.0820,2,  27.7901,2,   1.5906,2