BOTTLE,20191018JMAGEMD
EXPOCODE,SECT_ID,STNNBR,CASTNO,SAMPNO,BTLNBR,BTLNBR_FLAG_U,DATE,TIME,BTL_TIME,LATITUDE,LONGITUDE,DEPTH,CTDPRS,CTDDEP,CTDTMP,CTDSAL,CTDSAL_FLAG_W,CTDOXY,CTDOXY_FLAG_W,SALNTY,SALNTY_FLAG_W,OXYGEN,OXYGEN_FLAG_W,SILCAT,SILCAT_FLAG_W,NO2+NO3,NO2+NO3_FLAG_W,NITRIT,NITRIT_FLAG_W,PHSPHT,PHSPHT_FLAG_W,CFC-11,CFC-11_FLAG_W,CFC-12,CFC-12_FLAG_W,TCARBN,TCARBN_FLAG_W,ALKALI,ALKALI_FLAG_W,PH_TS,PH_TS_FLAG_W,PH_TS_TMP,CFC113,CFC113_FLAG_W,CHLORA,CHLORA_FLAG_W,PPHYTN,PPHYTN_FLAG_W,THETA,THETA_FLAG_W,SIGTHT,SIGTHT_FLAG_W,SBE35,SBE35_FLAG_W
,,,,,,,,UTC,,,,METER,DBAR,METERS,ITS-90,PSS-78,,UMOL/KG,,PSS78,,UMOL/KG,,UMOL/KG,,UMOL/KG,,UMOL/KG,,UMOL/KG,,PMOL/KG,,PMOL/KG,,UMOL/KG,,UMOL/KG,,,,ITS-90,PMOL/KG,,UG/KG,,UG/KG,,ITS-90,,KG/M3,,ITS-90,
49UP20180614_1,   P13,    14,  1,      0,      -9,0,20180624,2353,0141, 46.5555, 159.2048, 5081,      0.0,        0,   4.8665,  32.9870,2,    328.8,2,-999.0000,9,   327.69,2,    31.83,2,    19.88,2,     0.20,2,    1.680,2, -999.000,9, -999.000,9,   -999.0,9,   -999.0,9,-999.0000,9,  -999.00, -999.000,9,     0.54,2,     0.15,2,   4.8663,2,  26.0944,2,-999.0000,9
49UP20180614_1,   P13,    14,  1,     36,     845,2,20180624,2353,0210, 46.5555, 159.2048, 5081,     11.1,       11,   4.8684,  32.9873,2,    328.8,2,  32.9888,2,   328.29,2,    31.64,2,    19.77,2,     0.20,2,    1.670,2, -999.000,9, -999.000,9,   -999.0,9,   -999.0,9,-999.0000,9,  -999.00, -999.000,9,     0.52,2,     0.16,2,   4.8676,2,  26.0944,2,   4.8679,2
49UP20180614_1,   P13,    14,  1,     35,     844,2,20180624,2353,0208, 46.5555, 159.2048, 5081,     26.2,       26,   4.5465,  32.9966,2,    331.2,2,  32.9981,2,   330.92,2,    32.14,2,    20.16,2,     0.20,2,    1.690,2, -999.000,9, -999.000,9,   -999.0,9,   -999.0,9,-999.0000,9,  -999.00, -999.000,9,     0.68,2,     0.23,2,   4.5447,2,  26.1367,2,   4.5461,2
49UP20180614_1,   P13,    14,  1,     34,     843,2,20180624,2353,0204, 46.5555, 159.2048, 5081,     50.2,       50,   2.8710,  33.0594,2,    330.5,2,  33.0606,2,   330.95,2,    39.01,2,    23.72,2,     0.27,2,    1.940,2, -999.000,9, -999.000,9,   -999.0,9,   -999.0,9,-999.0000,9,  -999.00, -999.000,9,     0.28,2,     0.22,2,   2.8681,2,  26.3475,2,   2.8712,2
49UP20180614_1,   P13,    14,  1,     33,     842,2,20180624,2353,0202, 46.5555, 159.2048, 5081,     76.1,       75,   2.1872,  33.0935,2,    324.5,2,  33.0938,2,   325.90,2,    41.20,2,    25.00,2,     0.39,2,    2.010,2, -999.000,9, -999.000,9,   -999.0,9,   -999.0,9,-999.0000,9,  -999.00, -999.000,9,     0.14,2,     0.12,2,   2.1833,2,  26.4304,2,   2.1868,2
49UP20180614_1,   P13,    14,  1,     32,     841,2,20180624,2353,0201, 46.5555, 159.2048, 5081,    101.7,      101,   2.0949,  33.2293,2,    279.6,2,  33.2252,2,   282.06,2,    53.63,2,    29.94,2,     0.43,2,    2.260,2, -999.000,9, -999.000,9,   -999.0,9,   -999.0,9,-999.0000,9,  -999.00, -999.000,9,     0.06,2,     0.08,2,   2.0897,2,  26.5464,2,   2.0863,2
49UP20180614_1,   P13,    14,  1,     31,     840,2,20180624,2353,0159, 46.5555, 159.2048, 5081,    126.7,      126,   3.3492,  33.6769,2,     90.3,2,  33.6819,2,    88.57,2,    85.57,2,    41.76,2,     0.02,2,    2.950,2, -999.000,9, -999.000,9,   -999.0,9,   -999.0,9,-999.0000,9,  -999.00, -999.000,9,     0.02,2,     0.09,2,   3.3413,2,  26.7978,2,   3.3526,2
49UP20180614_1,   P13,    14,  1,     30,     839,2,20180624,2353,0158, 46.5555, 159.2048, 5081,    153.0,      152,   3.7938,  33.8899,2,     21.7,2,  33.8878,2,    21.73,6,    99.56,6,    45.49,6,     0.02,6,    3.180,6, -999.000,9, -999.000,9,   -999.0,9,   -999.0,9,-999.0000,9,  -999.00, -999.000,9,     0.01,2,     0.09,2,   3.7836,2,  26.9249,2,   3.7932,2
49UP20180614_1,   P13,    14,  1,     29,     838,2,20180624,2353,0156, 46.5555, 159.2048, 5081,    202.4,      201,   3.7460,  33.9835,2,     14.6,2,  33.9832,2,    14.20,2,   107.08,2,    45.43,2,     0.00,2,    3.190,2, -999.000,9, -999.000,9,   -999.0,9,   -999.0,9,-999.0000,9,  -999.00, -999.000,9,     0.01,2,     0.07,2,   3.7325,2,  27.0045,2,   3.7460,2
49UP20180614_1,   P13,    14,  1,     28,     837,2,20180624,2353,0153, 46.5555, 159.2048, 5081,    253.1,      251,   3.6717,  34.0573,2,     14.0,2,  34.0548,2,    14.10,2,   114.00,2,    44.99,2,     0.01,2,    3.160,2, -999.000,9, -999.000,9,   -999.0,9,   -999.0,9,-999.0000,9,  -999.00, -999.000,9,  -999.00,9,  -999.00,9,   3.6549,2,  27.0709,2,   3.6720,2
49UP20180614_1,   P13,    14,  1,     27,     661,2,20180624,2353,0152, 46.5555, 159.2048, 5081,    283.3,      281,   3.6183,  34.0957,2,     13.1,2,  34.0945,2,    13.03,2,   117.46,2,    44.82,2,     0.00,2,    3.150,2, -999.000,9, -999.000,9,   -999.0,9,   -999.0,9,-999.0000,9,  -999.00, -999.000,9,  -999.00,9,  -999.00,9,   3.5995,2,  27.1069,2,   3.6184,2
49UP20180614_1,   P13,    14,  1,     26,     835,2,20180624,2353,0149, 46.5555, 159.2048, 5081,    373.7,      370,   3.4577,  34.1777,2,     12.0,2,  34.1772,2,    11.51,2,   126.25,2,    44.72,2,     0.00,2,    3.150,2, -999.000,9, -999.000,9,   -999.0,9,   -999.0,9,-999.0000,9,  -999.00, -999.000,9,  -999.00,9,  -999.00,9,   3.4330,2,  27.1883,2,   3.4577,2
49UP20180614_1,   P13,    14,  1,     25,     834,2,20180624,2353,0146, 46.5555, 159.2048, 5081,    475.0,      471,   3.2641,  34.2487,2,     11.7,2,  34.2482,2,    10.76,2,   134.99,2,    44.59,2,     0.00,2,    3.140,2, -999.000,9, -999.000,9,   -999.0,9,   -999.0,9,-999.0000,9,  -999.00, -999.000,9,  -999.00,9,  -999.00,9,   3.2330,2,  27.2639,2,   3.2640,2
49UP20180614_1,   P13,    14,  1,     24,     833,2,20180624,2353,0143, 46.5555, 159.2048, 5081,    576.2,      571,   3.0782,  34.2995,2,     12.1,2,  34.2992,2,    11.17,2,   142.43,2,    44.49,2,     0.00,2,    3.160,2, -999.000,9, -999.000,9,   -999.0,9,   -999.0,9,-999.0000,9,  -999.00, -999.000,9,  -999.00,9,  -999.00,9,   3.0409,2,  27.3222,2,   3.0781,2
49UP20180614_1,   P13,    14,  1,     23,     832,2,20180624,2353,0140, 46.5555, 159.2048, 5081,    678.1,      671,   2.9590,  34.3332,2,     13.0,2,  34.3329,2,    12.10,2,   146.87,2,    44.39,2,     0.00,2,    3.140,2, -999.000,9, -999.000,9,   -999.0,9,   -999.0,9,-999.0000,9,  -999.00, -999.000,9,  -999.00,9,  -999.00,9,   2.9151,2,  27.3605,2,   2.9590,2
49UP20180614_1,   P13,    14,  1,     22,     831,2,20180624,2353,0137, 46.5555, 159.2048, 5081,    778.7,      771,   2.8157,  34.3729,2,     14.6,2,  34.3728,6,    13.76,2,   151.79,2,    44.46,2,     0.00,2,    3.150,2, -999.000,9, -999.000,9,   -999.0,9,   -999.0,9,-999.0000,9,  -999.00, -999.000,9,  -999.00,9,  -999.00,9,   2.7655,2,  27.4055,2,   2.8155,2
49UP20180614_1,   P13,    14,  1,     21,     830,2,20180624,2353,0135, 46.5555, 159.2048, 5081,    880.6,      871,   2.6863,  34.4040,2,     16.7,2,  34.4037,2,    16.17,6,   155.96,6,    44.22,6,     0.00,6,    3.130,6, -999.000,9, -999.000,9,   -999.0,9,   -999.0,9,-999.0000,9,  -999.00, -999.000,9,  -999.00,9,  -999.00,9,   2.6297,2,  27.4422,2,   2.6872,2
49UP20180614_1,   P13,    14,  1,     20,     829,2,20180624,2353,0131, 46.5555, 159.2048, 5081,    981.2,      971,   2.5331,  34.4354,2,     19.0,2,  34.4353,2,    18.66,2,   162.65,2,    44.01,2,     0.00,2,    3.110,2, -999.000,9, -999.000,9,   -999.0,9,   -999.0,9,-999.0000,9,  -999.00, -999.000,9,  -999.00,9,  -999.00,9,   2.4704,2,  27.4809,2,   2.5331,2
49UP20180614_1,   P13,    14,  1,     19,     828,2,20180624,2353,0127, 46.5555, 159.2048, 5081,   1145.0,     1132,   2.3264,  34.4847,2,     27.8,2,  34.4851,2,    27.37,2,   167.06,2,    43.57,2,     0.00,2,    3.070,2, -999.000,9, -999.000,9,   -999.0,9,   -999.0,9,-999.0000,9,  -999.00, -999.000,9,  -999.00,9,  -999.00,9,   2.2534,2,  27.5385,2,   2.3258,2
49UP20180614_1,   P13,    14,  1,     18,     827,2,20180624,2353,0122, 46.5555, 159.2048, 5081,   1346.2,     1331,   2.1331,  34.5287,2,     41.9,2,  34.5290,2,    41.01,2,   171.21,2,    42.71,2,     0.00,2,    3.020,2, -999.000,9, -999.000,9,   -999.0,9,   -999.0,9,-999.0000,9,  -999.00, -999.000,9,  -999.00,9,  -999.00,9,   2.0471,2,  27.5904,2,   2.1332,2
49UP20180614_1,   P13,    14,  1,     17,     826,2,20180624,2353,0117, 46.5555, 159.2048, 5081,   1549.8,     1531,   2.0045,  34.5607,2,     50.7,2,  34.5611,6,    50.39,2,   172.89,2,    42.30,2,     0.00,2,    2.970,2, -999.000,9, -999.000,9,   -999.0,9,   -999.0,9,-999.0000,9,  -999.00, -999.000,9,  -999.00,9,  -999.00,9,   1.9044,2,  27.6272,2,   2.0044,2
49UP20180614_1,   P13,    14,  1,     16,     825,2,20180624,2353,0112, 46.5555, 159.2048, 5081,   1753.0,     1731,   1.8811,  34.5921,2,     70.7,2,  34.5926,2,    70.83,2,   169.19,2,    41.10,2,     0.00,2,    2.890,2, -999.000,9, -999.000,9,   -999.0,9,   -999.0,9,-999.0000,9,  -999.00, -999.000,9,  -999.00,9,  -999.00,9,   1.7667,2,  27.6629,2,   1.8810,2
49UP20180614_1,   P13,    14,  1,     15,     824,2,20180624,2353,0107, 46.5555, 159.2048, 5081,   1956.8,     1932,   1.7804,  34.6130,2,     83.5,2,  34.6138,2,    83.89,2,   168.29,2,    40.34,2,     0.00,2,    2.830,2, -999.000,9, -999.000,9,   -999.0,9,   -999.0,9,-999.0000,9,  -999.00, -999.000,9,  -999.00,9,  -999.00,9,   1.6509,2,  27.6885,2,   1.7804,2
49UP20180614_1,   P13,    14,  1,     14,     823,2,20180624,2353,0102, 46.5555, 159.2048, 5081,   2161.1,     2132,   1.7007,  34.6272,2,     92.0,2,  34.6279,2,    91.81,2,   169.04,2,    39.83,2,     0.00,2,    2.790,2, -999.000,9, -999.000,9,   -999.0,9,   -999.0,9,-999.0000,9,  -999.00, -999.000,9,  -999.00,9,  -999.00,9,   1.5555,2,  27.7069,2,   1.7006,2
49UP20180614_1,   P13,    14,  1,     13,     822,2,20180624,2353,0058, 46.5555, 159.2048, 5081,   2363.9,     2331,   1.6337,  34.6411,2,    105.1,2,  34.6417,2,   105.13,2,   165.15,2,    39.00,2,     0.00,2,    2.720,2, -999.000,9, -999.000,9,   -999.0,9,   -999.0,9,-999.0000,9,  -999.00, -999.000,9,  -999.00,9,  -999.00,9,   1.4722,2,  27.7241,2,   1.6335,2
49UP20180614_1,   P13,    14,  1,     12,     821,2,20180624,2353,0053, 46.5555, 159.2048, 5081,   2566.6,     2530,   1.5838,  34.6510,2,    114.9,2,  34.6518,2,   114.83,6,   162.10,6,    38.43,6,     0.00,6,    2.670,6, -999.000,9, -999.000,9,   -999.0,9,   -999.0,9,-999.0000,9,  -999.00, -999.000,9,  -999.00,9,  -999.00,9,   1.4053,2,  27.7370,2,   1.5838,2
49UP20180614_1,   P13,    14,  1,     11,     820,2,20180624,2353,0048, 46.5555, 159.2048, 5081,   2773.0,     2732,   1.5362,  34.6592,2,    123.0,2,  34.6601,2,   122.79,2,   160.79,2,    37.92,2,     0.00,2,    2.630,2, -999.000,9, -999.000,9,   -999.0,9,   -999.0,9,-999.0000,9,  -999.00, -999.000,9,  -999.00,9,  -999.00,9,   1.3400,2,  27.7482,2,   1.5360,2
49UP20180614_1,   P13,    14,  1,     10,     819,2,20180624,2353,0043, 46.5555, 159.2048, 5081,   2975.6,     2930,   1.5079,  34.6654,2,    129.8,2,  34.6659,2,   129.69,2,   158.37,2,    37.49,2,     0.00,2,    2.600,2, -999.000,9, -999.000,9,   -999.0,9,   -999.0,9,-999.0000,9,  -999.00, -999.000,9,  -999.00,9,  -999.00,9,   1.2933,2,  27.7564,2,   1.5076,2
49UP20180614_1,   P13,    14,  1,      9,     818,3,20180624,2353,0037, 46.5555, 159.2048, 5081,   3221.8,     3171,   1.4721,  34.6723,2,    138.2,2,  34.6730,2,   137.82,2,   155.68,2,    37.03,2,     0.00,2,    2.550,2, -999.000,9, -999.000,9,   -999.0,9,   -999.0,9,-999.0000,9,  -999.00, -999.000,9,  -999.00,9,  -999.00,9,   1.2345,2,  27.7661,2,   1.4719,2
49UP20180614_1,   P13,    14,  1,      8,     817,2,20180624,2353,0031, 46.5555, 159.2048, 5081,   3477.5,     3421,   1.4541,  34.6769,2,    143.2,2,  34.6776,2,   142.85,2,   154.77,2,    36.59,2,     0.00,2,    2.530,2, -999.000,9, -999.000,9,   -999.0,9,   -999.0,9,-999.0000,9,  -999.00, -999.000,9,  -999.00,9,  -999.00,9,   1.1914,2,  27.7728,2,   1.4541,2
49UP20180614_1,   P13,    14,  1,      7,     816,2,20180624,2353,0025, 46.5555, 159.2048, 5081,   3733.4,     3670,   1.4433,  34.6809,2,    148.6,2,  34.6817,2,   148.61,2,   152.53,2,    36.25,2,     0.00,2,    2.500,2, -999.000,9, -999.000,9,   -999.0,9,   -999.0,9,-999.0000,9,  -999.00, -999.000,9,  -999.00,9,  -999.00,9,   1.1544,2,  27.7786,2,   1.4431,2
49UP20180614_1,   P13,    14,  1,      6,     815,2,20180624,2353,0020, 46.5555, 159.2048, 5081,   3990.7,     3921,   1.4442,  34.6838,2,    152.0,2,  34.6843,2,   151.62,2,   151.78,2,    36.07,2,     0.00,2,    2.480,2, -999.000,9, -999.000,9,   -999.0,9,   -999.0,9,-999.0000,9,  -999.00, -999.000,9,  -999.00,9,  -999.00,9,   1.1279,2,  27.7827,2,   1.4441,2
49UP20180614_1,   P13,    14,  1,      5,     814,2,20180624,2353,0014, 46.5555, 159.2048, 5081,   4247.0,     4170,   1.4524,  34.6861,2,    154.5,2,  34.6865,6,   154.44,2,   151.43,2,    35.89,2,     0.00,2,    2.470,2, -999.000,9, -999.000,9,   -999.0,9,   -999.0,9,-999.0000,9,  -999.00, -999.000,9,  -999.00,9,  -999.00,9,   1.1076,2,  27.7859,2,   1.4524,2
49UP20180614_1,   P13,    14,  1,      4,     813,2,20180624,2353,0008, 46.5555, 159.2048, 5081,   4504.4,     4420,   1.4665,  34.6878,2,    156.2,2,  34.6884,2,   156.48,2,   151.70,6,    35.69,6,     0.00,6,    2.460,6, -999.000,9, -999.000,9,   -999.0,9,   -999.0,9,-999.0000,9,  -999.00, -999.000,9,  -999.00,9,  -999.00,9,   1.0921,2,  27.7883,2,   1.4665,2
49UP20180614_1,   P13,    14,  1,      3,     812,2,20180624,2353,0002, 46.5555, 159.2048, 5081,   4761.9,     4670,   1.4890,  34.6887,2,    157.3,2,  34.6890,6,   157.48,2,   151.45,2,    35.68,2,     0.00,2,    2.460,2, -999.000,9, -999.000,9,   -999.0,9,   -999.0,9,-999.0000,9,  -999.00, -999.000,9,  -999.00,9,  -999.00,9,   1.0837,2,  27.7896,2,   1.4890,2
49UP20180614_1,   P13,    14,  1,      2,     811,2,20180624,2353,2357, 46.5555, 159.2048, 5081,   5019.3,     4920,   1.5146,  34.6895,2,    158.3,2,  34.6899,2,   158.40,2,   150.84,2,    35.55,2,     0.00,2,    2.450,2, -999.000,9, -999.000,9,   -999.0,9,   -999.0,9,-999.0000,9,  -999.00, -999.000,9,  -999.00,9,  -999.00,9,   1.0776,2,  27.7906,2,   1.5146,2
49UP20180614_1,   P13,    14,  1,      1,     810,2,20180624,2353,2353, 46.5555, 159.2048, 5081,   5176.6,     5073,   1.5310,  34.6899,2,    157.8,2,  34.6911,4,   158.20,2,   152.27,2,    35.58,2,     0.01,2,    2.450,2, -999.000,9, -999.000,9,   -999.0,9,   -999.0,9,-999.0000,9,  -999.00, -999.000,9,  -999.00,9,  -999.00,9,   1.0740,2,  27.7912,2,   1.5310,2