BOTTLE,20191018JMAGEMD
EXPOCODE,SECT_ID,STNNBR,CASTNO,SAMPNO,BTLNBR,BTLNBR_FLAG_U,DATE,TIME,BTL_TIME,LATITUDE,LONGITUDE,DEPTH,CTDPRS,CTDDEP,CTDTMP,CTDSAL,CTDSAL_FLAG_W,CTDOXY,CTDOXY_FLAG_W,SALNTY,SALNTY_FLAG_W,OXYGEN,OXYGEN_FLAG_W,SILCAT,SILCAT_FLAG_W,NO2+NO3,NO2+NO3_FLAG_W,NITRIT,NITRIT_FLAG_W,PHSPHT,PHSPHT_FLAG_W,CFC-11,CFC-11_FLAG_W,CFC-12,CFC-12_FLAG_W,TCARBN,TCARBN_FLAG_W,ALKALI,ALKALI_FLAG_W,PH_TS,PH_TS_FLAG_W,PH_TS_TMP,CFC113,CFC113_FLAG_W,CHLORA,CHLORA_FLAG_W,PPHYTN,PPHYTN_FLAG_W,THETA,THETA_FLAG_W,SIGTHT,SIGTHT_FLAG_W,SBE35,SBE35_FLAG_W
,,,,,,,,UTC,,,,METER,DBAR,METERS,ITS-90,PSS-78,,UMOL/KG,,PSS78,,UMOL/KG,,UMOL/KG,,UMOL/KG,,UMOL/KG,,UMOL/KG,,PMOL/KG,,PMOL/KG,,UMOL/KG,,UMOL/KG,,,,ITS-90,PMOL/KG,,UG/KG,,UG/KG,,ITS-90,,KG/M3,,ITS-90,
49UP20180614_1,   P13,     4,  1,      0,      -9,0,20180617,0854,1038, 41.3353, 146.6767, 5465,      0.0,        0,  10.5529,  33.3092,2,    293.8,2,  33.4051,2,   290.46,2,     0.43,2,     2.07,2,     0.07,2,    0.340,2, -999.000,9, -999.000,9,   2022.8,2,   2253.0,2,   7.9601,2,    25.00, -999.000,9,     0.55,2,     0.21,2,  10.5526,2,  25.5376,2,-999.0000,9
49UP20180614_1,   P13,     4,  1,     36,     845,2,20180617,0854,1118, 41.3353, 146.6767, 5465,     11.0,       11,  10.3278,  33.2810,2,    295.2,2,  33.2932,4,   294.83,2,     0.73,2,     3.08,2,     0.08,2,    0.450,2,    3.354,2,    1.934,2,   2027.6,2,   2249.1,2,   7.9465,2,    25.00,    0.311,2,     0.54,2,     0.28,2,  10.3266,2,  25.5545,2,  10.3335,2
49UP20180614_1,   P13,     4,  1,     35,     844,3,20180617,0854,1113, 41.3353, 146.6767, 5465,     49.9,       50,   3.8302,  33.2216,2,    305.0,2,  33.2258,2,   306.50,2,    27.79,2,    17.31,2,     0.32,2,    1.590,2,    4.551,6,    2.537,6,   2129.7,2,   2248.2,2,   7.6904,2,    25.00,    0.427,6,     0.13,2,     0.19,2,   3.8270,2,  26.3888,2,   3.8279,2
49UP20180614_1,   P13,     4,  1,     34,     843,2,20180617,0854,1112, 41.3353, 146.6767, 5465,     75.4,       75,   1.9660,  33.1332,2,    311.3,2,  33.1386,2,   312.50,2,    41.13,2,    23.77,2,     0.11,2,    1.880,2, -999.000,9, -999.000,9,   2155.6,2,   2242.6,2,   7.6147,2,    25.00, -999.000,9,     0.05,2,     0.19,2,   1.9623,2,  26.4790,2,   1.9604,2
49UP20180614_1,   P13,     4,  1,     33,     842,3,20180617,0854,1110, 41.3353, 146.6767, 5465,    100.2,       99,   2.2488,  33.2200,2,    299.2,2,  33.2168,2,   301.70,2,    43.23,2,    23.91,2,     0.01,2,    1.880,2,    4.652,2,    2.591,2,   2155.0,2,   2247.5,2,   7.6057,2,    25.00,    0.435,2,     0.03,2,     0.18,2,   2.2436,2,  26.5270,2,   2.2514,2
49UP20180614_1,   P13,     4,  1,     32,     841,3,20180617,0854,1109, 41.3353, 146.6767, 5465,    125.7,      125,   2.5803,  33.2923,2,    287.3,2,  33.2902,2,   288.59,2,    42.65,2,    23.30,2,     0.01,2,    1.830,2, -999.000,9, -999.000,9,   2168.6,2,   2250.2,2,   7.6018,2,    25.00, -999.000,9,     0.03,2,     0.17,2,   2.5734,2,  26.5584,2,   2.5763,2
49UP20180614_1,   P13,     4,  1,     31,     840,2,20180617,0854,1107, 41.3353, 146.6767, 5465,    150.2,      149,   2.6478,  33.3576,2,    259.3,2,  33.3563,2,   259.48,2,    49.01,2,    25.27,2,     0.01,2,    1.940,2,    4.194,2,    2.327,2,   2182.1,2,   2254.2,2,   7.5661,2,    25.00,    0.378,2,     0.03,2,     0.16,2,   2.6393,2,  26.6051,2,   2.6539,2
49UP20180614_1,   P13,     4,  1,     30,     839,3,20180617,0854,1105, 41.3353, 146.6767, 5465,    203.8,      202,   2.7230,  33.4701,2,    197.7,2,  33.4755,2,   195.81,2,    64.49,2,    30.70,2,     0.01,2,    2.310,2,    3.625,2,    2.023,2,   2224.5,2,   2269.6,2,   7.4660,2,    25.00,    0.304,2,     0.02,2,     0.13,2,   2.7113,2,  26.6889,2,   2.7246,2
49UP20180614_1,   P13,     4,  1,     29,     838,2,20180617,0854,1103, 41.3353, 146.6767, 5465,    251.6,      249,   2.9756,  33.5922,2,    156.4,2,  33.5967,2,   155.28,6,    73.91,6,    33.75,6,     0.02,6,    2.500,6,    3.205,2,    1.758,2,   2254.1,2,   2278.2,2,   7.4132,2,    25.00,    0.242,2,  -999.00,9,  -999.00,9,   2.9605,2,  26.7648,2,   2.9751,2
49UP20180614_1,   P13,     4,  1,     28,     837,2,20180617,0854,1100, 41.3353, 146.6767, 5465,    332.2,      329,   3.6940,  33.8350,2,     98.4,2,  33.8319,2,    98.78,2,    87.36,2,    37.32,2,     0.01,2,    2.710,2,    2.370,2,    1.247,2,   2286.5,2,   2299.4,2,   7.3619,2,    25.00,    0.169,2,  -999.00,9,  -999.00,9,   3.6718,2,  26.8921,2,   3.6948,2
49UP20180614_1,   P13,     4,  1,     27,     661,2,20180617,0854,1057, 41.3353, 146.6767, 5465,    433.9,      430,   3.8009,  34.0144,2,     59.5,2,  34.0131,2,    59.57,2,   101.96,2,    40.21,2,     0.00,2,    2.880,2,    1.622,2,    0.819,2,   2319.0,2,   2317.6,2,   7.3262,2,    25.00,    0.098,2,  -999.00,9,  -999.00,9,   3.7709,2,  27.0252,2,   3.7933,2
49UP20180614_1,   P13,     4,  1,     26,     835,2,20180617,0854,1055, 41.3353, 146.6767, 5465,    534.6,      530,   3.5538,  34.1015,2,     42.4,2,  34.0966,2,    41.17,2,   115.25,2,    41.83,2,     0.00,2,    2.980,2,    1.230,2,    0.603,2,   2339.2,2,   2330.9,2,   7.2992,2,    25.00,    0.081,2,  -999.00,9,  -999.00,9,   3.5175,2,  27.1195,2,   3.5583,2
49UP20180614_1,   P13,     4,  1,     25,     834,2,20180617,0854,1052, 41.3353, 146.6767, 5465,    634.6,      629,   3.3019,  34.1845,2,     30.4,2,  34.1836,2,    30.22,2,   126.91,2,    42.71,2,     0.00,2,    3.040,2,    0.845,2,    0.413,2,   2353.1,2,   2347.0,2,   7.2978,2,    25.00,    0.061,2,  -999.00,9,  -999.00,9,   3.2594,2,  27.2102,2,   3.3021,2
49UP20180614_1,   P13,     4,  1,     24,     833,2,20180617,0854,1049, 41.3353, 146.6767, 5465,    735.9,      729,   3.1968,  34.2636,2,     28.4,2,  34.2625,2,    29.16,2,   133.64,2,    42.76,2,     0.00,2,    3.040,2,    0.552,2,    0.284,2,   2363.1,6,   2357.4,6,   7.3117,2,    25.00,    0.031,2,  -999.00,9,  -999.00,9,   3.1476,2,  27.2837,2,   3.1900,2
49UP20180614_1,   P13,     4,  1,     23,     832,2,20180617,0854,1046, 41.3353, 146.6767, 5465,    836.9,      829,   3.0417,  34.3173,2,     29.0,2,  34.3166,2,    28.83,2,   139.86,2,    42.85,2,     0.00,2,    3.050,2,    0.391,2,    0.194,2,   2375.3,2,   2368.2,2,   7.3171,6,    25.00,    0.023,2,  -999.00,9,  -999.00,9,   2.9860,2,  27.3414,2,   3.0377,2
49UP20180614_1,   P13,     4,  1,     22,     831,2,20180617,0854,1043, 41.3353, 146.6767, 5465,    940.2,      931,   2.8749,  34.3649,2,     31.9,2,  34.3670,2,    32.02,2,   144.85,2,    42.62,2,     0.00,2,    3.040,2,    0.273,2,    0.148,2,   2375.2,2,   2375.6,2,   7.3336,2,    25.00,    0.016,2,  -999.00,9,  -999.00,9,   2.8127,2,  27.3949,2,   2.8768,2
49UP20180614_1,   P13,     4,  1,     21,     830,2,20180617,0854,1039, 41.3353, 146.6767, 5465,   1083.0,     1072,   2.8307,  34.4260,2,     39.0,2,  34.4262,6,    38.58,2,   146.00,2,    42.40,2,     0.00,2,    3.010,2,    0.150,6,    0.074,6,   2373.6,2,   2382.9,2,   7.3599,2,    25.00,    0.007,6,  -999.00,9,  -999.00,9,   2.7580,2,  27.4485,2,   2.8307,2
49UP20180614_1,   P13,     4,  1,     20,     829,2,20180617,0854,1034, 41.3353, 146.6767, 5465,   1285.0,     1271,   2.5412,  34.4808,2,     42.2,2,  34.4809,2,    41.64,6,   153.87,6,    42.48,6,     0.00,6,    3.010,6,    0.068,2,    0.039,2,   2379.2,2,   2395.3,2,   7.3656,2,    25.00,    0.006,2,  -999.00,9,  -999.00,9,   2.4557,2,  27.5185,2,   2.5415,2
49UP20180614_1,   P13,     4,  1,     19,     828,2,20180617,0854,1029, 41.3353, 146.6767, 5465,   1486.9,     1470,   2.3096,  34.5152,2,     47.0,2,  34.5155,2,    46.64,2,   160.55,2,    42.29,2,     0.00,2,    2.990,2,    0.040,2,    0.026,2,   2386.7,2,   2401.9,2,   7.3781,2,    25.00,    0.008,2,  -999.00,9,  -999.00,9,   2.2109,2,  27.5663,2,   2.3097,2
49UP20180614_1,   P13,     4,  1,     18,     827,2,20180617,0854,1025, 41.3353, 146.6767, 5465,   1691.0,     1671,   2.1488,  34.5561,2,     59.2,2,  34.5571,6,    59.17,2,   161.71,2,    41.71,2,     0.00,2,    2.930,2,    0.020,2,    0.013,2,   2380.5,2,   2409.4,2,   7.4061,2,    25.00,    0.006,2,  -999.00,9,  -999.00,9,   2.0358,2,  27.6132,2,   2.1492,2
49UP20180614_1,   P13,     4,  1,     17,     826,2,20180617,0854,1020, 41.3353, 146.6767, 5465,   1894.7,     1871,   1.9910,  34.5829,2,     69.6,2,  34.5832,2,    69.49,2,   164.12,2,    40.94,2,     0.00,2,    2.880,2,    0.004,2,    0.003,2,   2373.5,2,   2412.8,2,   7.4271,2,    25.00,    0.000,2,  -999.00,9,  -999.00,9,   1.8636,2,  27.6481,2,   1.9909,2
49UP20180614_1,   P13,     4,  1,     16,     825,2,20180617,0854,1015, 41.3353, 146.6767, 5465,   2097.2,     2071,   1.8824,  34.6048,2,     82.3,2,  34.6040,2,    82.46,2,   163.14,2,    40.29,2,     0.00,2,    2.820,2,    0.000,2,    0.002,2,   2367.4,2,   2415.1,2,   7.4530,2,    25.00,    0.000,2,  -999.00,9,  -999.00,9,   1.7397,2,  27.6752,2,   1.8824,2
49UP20180614_1,   P13,     4,  1,     15,     824,2,20180617,0854,1010, 41.3353, 146.6767, 5465,   2301.6,     2271,   1.7853,  34.6215,2,     92.5,2,  34.6214,2,    92.73,2,   163.17,2,    39.73,2,     0.00,2,    2.780,2,    0.000,2,   -0.000,2,   2365.7,2,   2416.6,2,   7.4766,2,    25.00,    0.002,2,  -999.00,9,  -999.00,9,   1.6267,2,  27.6971,2,   1.7857,2
49UP20180614_1,   P13,     4,  1,     14,     823,2,20180617,0854,1005, 41.3353, 146.6767, 5465,   2504.6,     2470,   1.7022,  34.6359,2,    103.5,2,  34.6357,2,   103.79,2,   161.80,2,    39.04,2,     0.00,2,    2.730,2,    0.000,2,    0.000,2,   2361.9,2,   2418.9,2,   7.4933,2,    25.00,    0.002,2,  -999.00,9,  -999.00,9,   1.5271,2,  27.7160,2,   1.7023,2
49UP20180614_1,   P13,     4,  1,     13,     822,2,20180617,0854,1001, 41.3353, 146.6767, 5465,   2709.2,     2671,   1.6392,  34.6469,2,    112.8,2,  34.6471,2,   112.87,2,   160.57,2,    38.43,2,     0.00,2,    2.680,2,    0.000,2,    0.000,2,   2352.1,2,   2418.9,2,   7.5111,2,    25.00,    0.005,2,  -999.00,9,  -999.00,9,   1.4468,2,  27.7306,2,   1.6393,2
49UP20180614_1,   P13,     4,  1,     12,     821,2,20180617,0854,0956, 41.3353, 146.6767, 5465,   2912.4,     2870,   1.5906,  34.6555,2,    120.5,2,  34.6556,2,   120.56,2,   159.17,2,    37.91,2,     0.00,2,    2.640,2,    0.000,2,    0.001,2,   2346.5,2,   2421.1,2,   7.5242,2,    25.00,    0.007,2,  -999.00,9,  -999.00,9,   1.3802,2,  27.7423,2,   1.5906,2
49UP20180614_1,   P13,     4,  1,     11,     820,2,20180617,0854,0951, 41.3353, 146.6767, 5465,   3127.4,     3080,   1.5531,  34.6625,2,    127.3,2,  34.6619,6,   127.14,6,   157.66,6,    37.48,6,     0.00,6,    2.610,6, -999.000,9, -999.000,9,   2351.3,2,   2419.8,2,   7.5401,2,    25.00, -999.000,9,  -999.00,9,  -999.00,9,   1.3230,2,  27.7520,2,   1.5532,2
49UP20180614_1,   P13,     4,  1,     10,     819,2,20180617,0854,0945, 41.3353, 146.6767, 5465,   3381.7,     3329,   1.5215,  34.6690,2,    134.1,2,  34.6687,2,   133.64,2,   156.38,2,    37.07,2,     0.00,2,    2.580,2, -999.000,9, -999.000,9,   2342.6,6,   2420.3,6,   7.5485,2,    25.00, -999.000,9,  -999.00,9,  -999.00,9,   1.2669,2,  27.7611,2,   1.5216,2
49UP20180614_1,   P13,     4,  1,      9,     818,2,20180617,0854,0939, 41.3353, 146.6767, 5465,   3638.8,     3580,   1.4929,  34.6750,2,    141.0,2,  34.6753,2,   140.62,2,   154.50,2,    36.62,2,     0.00,2,    2.540,2, -999.000,9, -999.000,9,   2335.4,2,   2420.4,2,   7.5602,6,    25.00, -999.000,9,  -999.00,9,  -999.00,9,   1.2126,2,  27.7698,2,   1.4930,2
49UP20180614_1,   P13,     4,  1,      8,     817,2,20180617,0854,0933, 41.3353, 146.6767, 5465,   3895.3,     3830,   1.4830,  34.6790,2,    145.5,2,  34.6778,4,   145.35,2,   153.10,2,    36.25,2,     0.00,2,    2.510,2,    0.000,2,    0.000,2,   2331.3,2,   2419.8,2,   7.5697,2,    25.00,    0.005,2,  -999.00,9,  -999.00,9,   1.1760,2,  27.7755,2,   1.4831,2
49UP20180614_1,   P13,     4,  1,      7,     816,2,20180617,0854,0927, 41.3353, 146.6767, 5465,   4153.8,     4082,   1.4748,  34.6828,2,    150.3,2,  34.6816,4,   149.93,2,   152.10,2,    35.95,2,     0.00,2,    2.490,2, -999.000,9, -999.000,9,   2335.9,3,   2419.8,2,   7.5760,2,    25.00, -999.000,9,  -999.00,9,  -999.00,9,   1.1398,2,  27.7810,2,   1.4749,2
49UP20180614_1,   P13,     4,  1,      6,     815,2,20180617,0854,0922, 41.3353, 146.6767, 5465,   4408.8,     4330,   1.4790,  34.6854,2,    153.4,2,  34.6850,2,   153.60,2,   151.02,2,    35.69,2,     0.00,2,    2.470,2, -999.000,9, -999.000,9,   2327.8,2,   2418.8,2,   7.5809,2,    25.00, -999.000,9,  -999.00,9,  -999.00,9,   1.1152,2,  27.7848,2,   1.4791,2
49UP20180614_1,   P13,     4,  1,      5,     814,2,20180617,0854,0916, 41.3353, 146.6767, 5465,   4665.7,     4579,   1.4901,  34.6874,2,    155.8,2,  34.6875,6,   156.02,2,   150.77,2,    35.53,2,     0.00,2,    2.460,2, -999.000,9, -999.000,9,   2326.9,6,   2418.3,6,   7.5857,2,    25.00, -999.000,9,  -999.00,9,  -999.00,9,   1.0962,2,  27.7877,2,   1.4902,2
49UP20180614_1,   P13,     4,  1,      4,     813,2,20180617,0854,0910, 41.3353, 146.6767, 5465,   4924.8,     4831,   1.5094,  34.6888,2,    157.5,2,  34.6878,2,   158.05,2,   149.85,2,    35.44,2,     0.00,2,    2.450,2,    0.002,2,    0.000,2,   2327.1,2,   2417.6,2,   7.5899,2,    25.00,    0.004,2,  -999.00,9,  -999.00,9,   1.0840,2,  27.7896,2,   1.5096,2
49UP20180614_1,   P13,     4,  1,      3,     812,2,20180617,0854,0904, 41.3353, 146.6767, 5465,   5180.1,     5078,   1.5323,  34.6899,2,    158.6,2,  34.6895,2,   158.60,2,   149.63,2,    35.36,2,     0.00,2,    2.440,2, -999.000,9, -999.000,9,   2326.9,2,   2417.3,2,   7.5900,6,    25.00, -999.000,9,  -999.00,9,  -999.00,9,   1.0748,2,  27.7911,2,   1.5324,2
49UP20180614_1,   P13,     4,  1,      2,     811,2,20180617,0854,0859, 41.3353, 146.6767, 5465,   5439.5,     5330,   1.5592,  34.6907,2,    159.5,2,  34.6903,2,   160.00,6,   148.98,6,    35.27,6,     0.00,6,    2.440,6, -999.000,9, -999.000,9,   2321.5,2,   2417.7,2,   7.5932,2,    25.00, -999.000,9,  -999.00,9,  -999.00,9,   1.0682,2,  27.7923,2,   1.5594,2
49UP20180614_1,   P13,     4,  1,      1,     810,2,20180617,0854,0855, 41.3353, 146.6767, 5465,   5572.6,     5458,   1.5719,  34.6912,2,    160.1,2,  34.6896,4,   160.17,2,   148.90,2,    35.23,2,     0.01,2,    2.440,2,    0.004,2,    0.001,2,   2319.3,2,   2417.2,2,   7.5930,2,    25.00,    0.001,2,  -999.00,9,  -999.00,9,   1.0633,2,  27.7930,2,   1.5720,2