BOTTLE,20191018JMAGEMD
EXPOCODE,SECT_ID,STNNBR,CASTNO,SAMPNO,BTLNBR,BTLNBR_FLAG_U,DATE,TIME,BTL_TIME,LATITUDE,LONGITUDE,DEPTH,CTDPRS,CTDDEP,CTDTMP,CTDSAL,CTDSAL_FLAG_W,CTDOXY,CTDOXY_FLAG_W,SALNTY,SALNTY_FLAG_W,OXYGEN,OXYGEN_FLAG_W,SILCAT,SILCAT_FLAG_W,NO2+NO3,NO2+NO3_FLAG_W,NITRIT,NITRIT_FLAG_W,PHSPHT,PHSPHT_FLAG_W,CFC-11,CFC-11_FLAG_W,CFC-12,CFC-12_FLAG_W,TCARBN,TCARBN_FLAG_W,ALKALI,ALKALI_FLAG_W,PH_TS,PH_TS_FLAG_W,PH_TS_TMP,CFC113,CFC113_FLAG_W,CHLORA,CHLORA_FLAG_W,PPHYTN,PPHYTN_FLAG_W,THETA,THETA_FLAG_W,SIGTHT,SIGTHT_FLAG_W,SBE35,SBE35_FLAG_W
,,,,,,,,UTC,,,,METER,DBAR,METERS,ITS-90,PSS-78,,UMOL/KG,,PSS78,,UMOL/KG,,UMOL/KG,,UMOL/KG,,UMOL/KG,,UMOL/KG,,PMOL/KG,,PMOL/KG,,UMOL/KG,,UMOL/KG,,,,ITS-90,PMOL/KG,,UG/KG,,UG/KG,,ITS-90,,KG/M3,,ITS-90,
49UP20180806_2,   P13,    74,  1,      0,      -9,0,20180904,0344,0523,  7.9965, 164.0132, 5138,      0.0,        0,  29.9037,  33.3938,2,    196.9,2,  33.3283,2,   195.12,2,     1.28,3,     0.03,2,     0.00,2,    0.050,3, -999.000,9, -999.000,9,   1872.0,2,   2189.2,2,   8.1261,2,    25.00, -999.000,9,     0.04,2,     0.02,2,  29.9031,2,  20.5555,2,-999.0000,9
49UP20180806_2,   P13,    74,  1,     36,     845,2,20180904,0344,0558,  7.9965, 164.0132, 5138,     11.4,       11,  29.6211,  33.4278,2,    197.0,2,  33.4291,2,   196.39,2,     1.24,3,     0.00,2,     0.00,2,    0.040,3,    1.447,2,    0.851,2,   1881.0,2,   2196.7,2,   8.1247,2,    25.00,    0.126,2,     0.04,2,     0.03,2,  29.6183,2,  20.6772,2,  29.6211,2
49UP20180806_2,   P13,    74,  1,     35,     844,2,20180904,0344,0554,  7.9965, 164.0132, 5138,     50.9,       51,  27.7332,  34.5403,2,    206.4,2,  34.5488,2,   207.17,2,     1.28,3,     0.00,2,     0.00,2,    0.100,3,    1.642,2,    0.940,2,   1959.3,2,   2273.7,2,   8.0891,2,    25.00,    0.136,2,     0.10,2,     0.06,2,  27.7213,2,  22.1397,2,  27.7381,2
49UP20180806_2,   P13,    74,  1,     34,     843,2,20180904,0344,0552,  7.9965, 164.0132, 5138,    106.0,      105,  19.5297,  34.7679,2,    160.2,2,  34.7615,2,   162.43,6,     5.80,3,     5.90,6,     0.28,6,    0.590,3,    2.132,2,    1.207,2,   2082.3,2,   2293.0,2,   7.8851,2,    25.00,    0.072,2,     0.20,2,     0.28,2,  19.5104,2,  24.7126,2,  19.5969,2
49UP20180806_2,   P13,    74,  1,     33,     842,2,20180904,0344,0550,  7.9965, 164.0132, 5138,    152.8,      152,  12.2095,  34.4997,2,     80.4,2,  34.5004,2,    80.06,2,    23.65,3,    24.64,2,     0.01,2,    1.840,3,    1.799,2,    0.922,2,   2195.8,2,   2284.6,2,   7.5980,2,    25.00,    0.009,2,     0.04,2,     0.09,2,  12.1895,2,  26.1642,2,  12.2068,2
49UP20180806_2,   P13,    74,  1,     32,     841,2,20180904,0344,0548,  7.9965, 164.0132, 5138,    204.0,      203,  10.3970,  34.6195,2,     39.7,2,  34.6188,2,    39.96,2,    32.19,3,    32.25,2,     0.00,2,    2.330,3,    0.905,2,    0.439,2,   2252.1,2,   2297.7,2,   7.4947,2,    25.00,    0.008,2,     0.00,2,     0.03,2,  10.3729,2,  26.5905,2,  10.4005,2
49UP20180806_2,   P13,    74,  1,     31,     840,2,20180904,0344,0546,  7.9965, 164.0132, 5138,    254.3,      253,   9.8353,  34.6399,2,     43.6,2,  34.6388,2,    42.32,2,    33.81,3,    33.21,2,     0.00,2,    2.370,3,    0.718,2,    0.345,2,   2253.4,6,   2302.9,6,   7.4928,2,    25.00,    0.005,2,  -999.00,9,  -999.00,9,   9.8061,2,  26.7036,2,   9.8324,2
49UP20180806_2,   P13,    74,  1,     30,     839,2,20180904,0344,0544,  7.9965, 164.0132, 5138,    332.9,      331,   9.1332,  34.6146,2,     46.8,2,  34.6143,2,    46.86,2,    37.13,3,    34.16,2,     0.00,2,    2.430,3,    0.528,2,    0.259,2,   2255.4,2,   2306.1,2,   7.4855,6,    25.00,    0.000,2,  -999.00,9,  -999.00,9,   9.0966,2,  26.8008,2,   9.1326,2
49UP20180806_2,   P13,    74,  1,     29,     838,2,20180904,0344,0542,  7.9965, 164.0132, 5138,    385.5,      383,   8.8337,  34.6171,2,     48.9,2,  34.6182,2,    47.82,2,    38.01,3,    34.95,2,     0.00,2,    2.470,3, -999.000,9, -999.000,9,   2262.4,2,   2307.6,2,   7.4831,2,    25.00, -999.000,9,  -999.00,9,  -999.00,9,   8.7921,2,  26.8514,2,   8.8338,2
49UP20180806_2,   P13,    74,  1,     28,     837,2,20180904,0344,0541,  7.9965, 164.0132, 5138,    433.5,      431,   8.4425,  34.6032,2,     50.0,2,  34.6017,2,    49.87,2,    40.76,3,    35.63,2,     0.00,2,    2.520,3,    0.363,2,    0.170,2,   2259.1,2,   2310.7,2,   7.4816,2,    25.00,    0.000,2,  -999.00,9,  -999.00,9,   8.3968,2,  26.9021,2,   8.4426,2
49UP20180806_2,   P13,    74,  1,     27,     661,2,20180904,0344,0539,  7.9965, 164.0132, 5138,    483.3,      480,   8.0982,  34.5892,2,     48.5,2,  34.5872,2,    48.35,2,    43.71,3,    36.18,2,     0.00,2,    2.580,3, -999.000,9, -999.000,9,   2267.0,2,   2312.2,2,   7.4701,2,    25.00, -999.000,9,  -999.00,9,  -999.00,9,   8.0483,2,  26.9440,2,   8.0983,2
49UP20180806_2,   P13,    74,  1,     26,     835,2,20180904,0344,0537,  7.9965, 164.0132, 5138,    534.8,      531,   7.6259,  34.5653,2,     59.4,2,  34.5642,2,    58.98,2,    47.43,3,    36.22,2,     0.00,2,    2.580,3,    0.276,2,    0.130,2,   2265.3,2,   2315.9,2,   7.4846,2,    25.00,    0.006,2,  -999.00,9,  -999.00,9,   7.5724,2,  26.9953,2,   7.6264,2
49UP20180806_2,   P13,    74,  1,     25,     834,2,20180904,0344,0534,  7.9965, 164.0132, 5138,    637.7,      633,   6.8189,  34.5420,2,     62.1,2,  34.5414,2,    62.54,6,    56.34,3,    37.18,6,     0.00,6,    2.660,3,    0.177,2,    0.084,2,   2273.2,2,   2323.4,2,   7.4790,2,    25.00,    0.000,2,  -999.00,9,  -999.00,9,   6.7586,2,  27.0911,2,   6.8192,2
49UP20180806_2,   P13,    74,  1,     23,     832,2,20180904,0344,0531,  7.9965, 164.0132, 5138,    738.6,      733,   6.1786,  34.5328,2,     64.7,2,  34.5319,2,    65.01,2,    65.07,3,    38.07,2,     0.00,2,    2.720,3,    0.122,2,    0.053,2,   2281.8,2,   2332.0,2,   7.4771,2,    25.00,    0.000,2,  -999.00,9,  -999.00,9,   6.1118,2,  27.1692,2,   6.1791,2
49UP20180806_2,   P13,    74,  1,     22,     831,2,20180904,0344,0528,  7.9965, 164.0132, 5138,    839.0,      833,   5.4190,  34.5393,2,     67.0,2,  34.5454,4,    66.94,2,    76.55,3,    39.18,2,     0.00,2,    2.800,3,    0.059,2,    0.025,2,   2294.9,2,   2344.6,2,   7.4717,2,    25.00,    0.000,2,  -999.00,9,  -999.00,9,   5.3474,2,  27.2692,2,   5.4191,2
49UP20180806_2,   P13,    74,  1,     21,     830,2,20180904,0344,0525,  7.9965, 164.0132, 5138,    937.2,      930,   4.9530,  34.5450,2,     71.4,2,  34.5450,2,    71.26,2,    84.84,3,    39.48,2,     0.00,2,    2.820,3,    0.036,2,    0.016,2,   2313.4,2,   2354.5,2,   7.4752,2,    25.00,    0.000,2,  -999.00,9,  -999.00,9,   4.8756,2,  27.3288,2,   4.9532,2
49UP20180806_2,   P13,    74,  1,     20,     829,2,20180904,0344,0522,  7.9965, 164.0132, 5138,   1080.5,     1072,   4.3461,  34.5577,2,     78.5,2,  34.5573,2,    78.36,2,    96.27,3,    39.43,2,     0.00,2,    2.810,3,    0.023,2,    0.008,2,   2315.6,2,   2365.8,2,   7.4825,2,    25.00,    0.000,2,  -999.00,9,  -999.00,9,   4.2608,2,  27.4068,2,   4.3468,2
49UP20180806_2,   P13,    74,  1,     19,     828,2,20180904,0344,0517,  7.9965, 164.0132, 5138,   1282.9,     1272,   3.6134,  34.5772,2,     85.0,2,  34.5775,2,    84.49,2,   111.04,3,    39.58,2,     0.00,2,    2.820,3,    0.011,2,    0.005,2,   2334.6,2,   2382.9,2,   7.4856,2,    25.00,    0.000,2,  -999.00,9,  -999.00,9,   3.5173,2,  27.4986,2,   3.6132,2
49UP20180806_2,   P13,    74,  1,     18,     660,2,20180904,0344,0512,  7.9965, 164.0132, 5138,   1486.4,     1473,   3.1261,  34.5942,2,     89.9,2,  34.5944,2,    90.01,2,   120.96,3,    39.65,2,     0.00,2,    2.800,3,    0.009,2,    0.002,2,   2337.3,2,   2394.1,2,   7.4935,2,    25.00,    0.000,2,  -999.00,9,  -999.00,9,   3.0179,2,  27.5595,2,   3.1263,2
49UP20180806_2,   P13,    74,  1,     17,     826,3,20180904,0344,0506,  7.9965, 164.0132, 5138,   1689.0,     1673,   2.7150,  34.6093,2,     94.3,2,  34.6091,2,    94.72,2,   130.38,3,    39.49,2,     0.00,2,    2.790,3,    0.001,2,    0.000,2,   2345.2,2,   2402.9,2,   7.5007,2,    25.00,    0.000,2,  -999.00,9,  -999.00,9,   2.5947,2,  27.6094,2,   2.7155,2
49UP20180806_2,   P13,    74,  1,     16,     825,2,20180904,0344,0501,  7.9965, 164.0132, 5138,   1888.8,     1870,   2.3804,  34.6253,2,    101.1,2,  34.6256,2,   101.80,2,   138.95,3,    39.13,2,     0.00,2,    2.760,3,    0.006,2,    0.003,2,   2349.0,6,   2413.5,6,   7.5124,2,    25.00,    0.005,2,  -999.00,9,  -999.00,9,   2.2477,2,  27.6515,2,   2.3804,2
49UP20180806_2,   P13,    74,  1,     15,     824,3,20180904,0344,0457,  7.9965, 164.0132, 5138,   2090.3,     2068,   2.1668,  34.6375,2,    107.1,2,  34.6353,4,   108.91,3,   142.20,3,    38.83,6,     0.00,6,    2.730,3,    0.029,3,    0.010,3,   2348.1,2,   2413.6,2,   7.5232,2,    25.00,    0.000,2,  -999.00,9,  -999.00,9,   2.0201,2,  27.6796,2,   2.1669,2
49UP20180806_2,   P13,    74,  1,     14,     823,2,20180904,0344,0450,  7.9965, 164.0132, 5138,   2298.3,     2273,   1.9732,  34.6505,2,    113.9,2,  34.6507,2,   114.14,2,   149.25,3,    38.51,2,     0.00,2,    2.720,3,    0.006,2,    0.000,2,   2351.2,2,   2422.7,2,   7.5311,2,    25.00,    0.000,2,  -999.00,9,  -999.00,9,   1.8115,2,  27.7064,2,   1.9734,2
49UP20180806_2,   P13,    74,  1,     13,     822,2,20180904,0344,0445,  7.9965, 164.0132, 5138,   2499.3,     2471,   1.8823,  34.6561,2,    118.9,2,  34.6562,6,   118.53,2,   149.22,3,    38.26,2,     0.00,2,    2.690,3,    0.003,2,    0.001,2,   2352.0,2,   2422.9,2,   7.5417,6,    25.00,    0.000,2,  -999.00,9,  -999.00,9,   1.7043,2,  27.7190,2,   1.8824,2
49UP20180806_2,   P13,    74,  1,     12,     821,3,20180904,0344,0440,  7.9965, 164.0132, 5138,   2703.2,     2671,   1.7916,  34.6615,2,    124.8,2,  34.6611,2,   124.92,2,   148.67,3,    37.77,2,     0.00,2,    2.640,3,    0.000,2,    0.001,2,   2350.2,2,   2423.8,2,   7.5506,2,    25.00,    0.002,2,  -999.00,9,  -999.00,9,   1.5966,2,  27.7314,2,   1.7916,2
49UP20180806_2,   P13,    74,  1,     11,     820,2,20180904,0344,0436,  7.9965, 164.0132, 5138,   2906.8,     2871,   1.7063,  34.6666,2,    131.3,2,  34.6660,2,   130.94,2,   148.24,3,    37.43,2,     0.00,2,    2.600,3,    0.001,2,    0.000,2,   2347.7,2,   2423.6,2,   7.5588,2,    25.00,    0.000,2,  -999.00,9,  -999.00,9,   1.4939,2,  27.7431,2,   1.7062,2
49UP20180806_2,   P13,    74,  1,     10,     819,2,20180904,0344,0431,  7.9965, 164.0132, 5138,   3118.6,     3078,   1.6359,  34.6715,2,    136.3,2,  34.6752,4,   136.42,2,   148.79,3,    37.10,2,     0.00,2,    2.570,3, -999.000,9, -999.000,9,   2341.1,2,   2422.6,2,   7.5659,2,    25.00, -999.000,9,  -999.00,9,  -999.00,9,   1.4046,2,  27.7535,2,   1.6359,2
49UP20180806_2,   P13,    74,  1,      9,     818,2,20180904,0344,0426,  7.9965, 164.0132, 5138,   3375.7,     3330,   1.5648,  34.6771,2,    143.4,2,  34.6762,2,   142.49,2,   147.29,3,    36.60,2,     0.00,2,    2.540,3, -999.000,9, -999.000,9,   2337.0,2,   2420.0,2,   7.5734,2,    25.00, -999.000,9,  -999.00,9,  -999.00,9,   1.3096,2,  27.7647,2,   1.5648,2
49UP20180806_2,   P13,    74,  1,      8,     817,2,20180904,0344,0420,  7.9965, 164.0132, 5138,   3631.9,     3581,   1.5032,  34.6821,2,    150.0,2,  34.6819,2,   149.81,2,   146.30,3,    36.13,2,     0.00,2,    2.500,3,    0.000,2,    0.000,2,   2327.9,2,   2420.4,2,   7.5833,2,    25.00,    0.001,2,  -999.00,9,  -999.00,9,   1.2234,2,  27.7748,2,   1.5033,2
49UP20180806_2,   P13,    74,  1,      7,     816,2,20180904,0344,0414,  7.9965, 164.0132, 5138,   3888.1,     3831,   1.4524,  34.6869,2,    158.1,2,  34.6861,2,   157.35,2,   142.81,3,    35.59,2,     0.00,2,    2.470,3,    0.003,2,    0.001,2,   2323.7,2,   2415.8,2,   7.5928,2,    25.00,    0.002,2,  -999.00,9,  -999.00,9,   1.1469,2,  27.7839,2,   1.4522,2
49UP20180806_2,   P13,    74,  1,      6,     815,2,20180904,0344,0409,  7.9965, 164.0132, 5138,   4144.2,     4081,   1.4165,  34.6915,2,    166.3,2,  34.6913,2,   166.34,6,   138.45,3,    35.01,6,     0.00,6,    2.410,3,    0.000,2,    0.000,2,   2311.4,2,   2410.7,2,   7.6014,2,    25.00,    0.001,2,  -999.00,9,  -999.00,9,   1.0841,2,  27.7918,2,   1.4165,2
49UP20180806_2,   P13,    74,  1,      5,     814,2,20180904,0344,0403,  7.9965, 164.0132, 5138,   4400.2,     4331,   1.4068,  34.6944,2,    171.6,2,  34.6939,2,   171.42,2,   135.26,3,    34.54,2,     0.00,2,    2.390,3,    0.005,2,    0.000,2,   2313.0,2,   2408.0,2,   7.6090,2,    25.00,    0.003,2,  -999.00,9,  -999.00,9,   1.0461,2,  27.7967,2,   1.4068,2
49UP20180806_2,   P13,    74,  1,      4,     813,2,20180904,0344,0358,  7.9965, 164.0132, 5138,   4655.5,     4579,   1.4062,  34.6964,2,    175.3,2,  34.6964,6,   175.59,2,   133.17,3,    34.33,2,     0.00,2,    2.360,3,    0.002,2,    0.000,2,   2302.4,2,   2404.1,2,   7.6142,2,    25.00,    0.000,2,  -999.00,9,  -999.00,9,   1.0160,2,  27.8003,2,   1.4063,2
49UP20180806_2,   P13,    74,  1,      3,     812,2,20180904,0344,0352,  7.9965, 164.0132, 5138,   4913.3,     4830,   1.4036,  34.6984,2,    179.3,2,  34.6971,4,   178.14,3,   131.42,3,    34.08,2,     0.00,2,    2.350,3,    0.006,2,    0.003,2,   2300.1,2,   2399.9,2,   7.6136,2,    25.00,    0.000,2,  -999.00,9,  -999.00,9,   0.9830,2,  27.8041,2,   1.4036,2
49UP20180806_2,   P13,    74,  1,      2,     811,2,20180904,0344,0346,  7.9965, 164.0132, 5138,   5170.4,     5080,   1.4086,  34.7001,2,    182.8,2,  34.7005,6,   182.89,2,   129.57,3,    33.75,2,     0.00,2,    2.330,3,    0.012,2,    0.003,2,   2293.4,2,   2397.5,6,   7.6123,2,    25.00,    0.000,2,  -999.00,9,  -999.00,9,   0.9566,2,  27.8073,2,   1.4087,2
49UP20180806_2,   P13,    74,  1,      1,     810,3,20180904,0344,0344,  7.9965, 164.0132, 5138,   5229.9,     5138,   1.4109,  34.7003,2,    183.6,2,  34.6997,2,   182.63,2,   129.15,3,    33.72,2,     0.00,2,    2.320,3,    0.013,2,    0.004,2,   2295.7,2,   2396.3,2,   7.6181,6,    25.00,    0.004,2,  -999.00,9,  -999.00,9,   0.9514,2,  27.8078,2,   1.4109,2