BOTTLE,20191018JMAGEMD
EXPOCODE,SECT_ID,STNNBR,CASTNO,SAMPNO,BTLNBR,BTLNBR_FLAG_U,DATE,TIME,BTL_TIME,LATITUDE,LONGITUDE,DEPTH,CTDPRS,CTDDEP,CTDTMP,CTDSAL,CTDSAL_FLAG_W,CTDOXY,CTDOXY_FLAG_W,SALNTY,SALNTY_FLAG_W,OXYGEN,OXYGEN_FLAG_W,SILCAT,SILCAT_FLAG_W,NO2+NO3,NO2+NO3_FLAG_W,NITRIT,NITRIT_FLAG_W,PHSPHT,PHSPHT_FLAG_W,CFC-11,CFC-11_FLAG_W,CFC-12,CFC-12_FLAG_W,TCARBN,TCARBN_FLAG_W,ALKALI,ALKALI_FLAG_W,PH_TS,PH_TS_FLAG_W,PH_TS_TMP,CFC113,CFC113_FLAG_W,CHLORA,CHLORA_FLAG_W,PPHYTN,PPHYTN_FLAG_W,THETA,THETA_FLAG_W,SIGTHT,SIGTHT_FLAG_W,SBE35,SBE35_FLAG_W
,,,,,,,,UTC,,,,METER,DBAR,METERS,ITS-90,PSS-78,,UMOL/KG,,PSS78,,UMOL/KG,,UMOL/KG,,UMOL/KG,,UMOL/KG,,UMOL/KG,,PMOL/KG,,PMOL/KG,,UMOL/KG,,UMOL/KG,,,,ITS-90,PMOL/KG,,UG/KG,,UG/KG,,ITS-90,,KG/M3,,ITS-90,
49UP20180614_1,   P13,     5,  1,      0,      -9,0,20180617,1853,2045, 40.6618, 147.1530, 5313,      0.0,        0,  10.0708,  32.9584,2,    297.3,2,  32.9574,2,   296.75,2,     1.51,2,     4.13,2,     0.11,2,    0.580,2, -999.000,9, -999.000,9,   2025.5,2,   2240.3,2,   7.9221,2,    25.00, -999.000,9,     0.58,2,     0.18,2,  10.0705,2,  25.3463,2,-999.0000,9
49UP20180614_1,   P13,     5,  1,     36,     845,2,20180617,1853,2114, 40.6618, 147.1530, 5313,     11.6,       12,   9.7596,  32.9537,2,    298.0,2,  32.9561,2,   298.10,2,     1.46,2,     4.03,2,     0.11,2,    0.580,2,    3.518,2,    2.005,2,   2028.3,2,   2239.9,2,   7.9246,2,    25.00,    0.319,2,     0.47,2,     0.17,2,   9.7583,2,  25.3944,2,   9.7610,2
49UP20180614_1,   P13,     5,  1,     35,     844,3,20180617,1853,2110, 40.6618, 147.1530, 5313,     50.6,       50,   3.6889,  33.1540,2,    319.0,2,  33.1560,2,   318.67,2,    19.37,2,    15.39,2,     0.26,2,    1.530,2,    4.614,6,    2.543,6,   2125.7,2,   2251.6,2,   7.7199,2,    25.00,    0.420,6,     0.12,2,     0.13,2,   3.6857,2,  26.3487,2,   3.6885,2
49UP20180614_1,   P13,     5,  1,     34,     843,3,20180617,1853,2109, 40.6618, 147.1530, 5313,     76.2,       76,   2.5960,  33.2186,2,    302.3,2,  33.2187,2,   302.91,2,    36.21,2,    22.31,2,     0.13,2,    1.790,2, -999.000,9, -999.000,9,   2154.0,2,   2245.4,2,   7.6269,2,    25.00, -999.000,9,     0.05,2,     0.12,2,   2.5918,2,  26.4979,2,   2.5940,2
49UP20180614_1,   P13,     5,  1,     33,     842,2,20180617,1853,2107, 40.6618, 147.1530, 5313,    101.2,      100,   4.0343,  33.4562,2,    276.8,2,  33.4501,4,   277.04,2,    34.91,2,    20.51,2,     0.03,2,    1.590,2,    4.137,2,    2.312,2,   2148.1,2,   2255.5,2,   7.6489,2,    25.00,    0.351,2,     0.03,2,     0.11,2,   4.0275,2,  26.5554,2,   4.0235,2
49UP20180614_1,   P13,     5,  1,     32,     841,2,20180617,1853,2105, 40.6618, 147.1530, 5313,    125.8,      125,   4.9151,  33.6081,2,    263.8,2,  33.6025,4,   264.37,2,    32.20,2,    18.60,2,     0.02,2,    1.430,2, -999.000,9, -999.000,9,   2144.2,2,   2262.7,2,   7.6740,2,    25.00, -999.000,9,     0.02,2,     0.09,2,   4.9057,2,  26.5824,2,   4.9034,2
49UP20180614_1,   P13,     5,  1,     31,     840,2,20180617,1853,2104, 40.6618, 147.1530, 5313,    151.0,      150,   4.7000,  33.6223,2,    250.1,2,  33.6387,4,   243.97,2,    37.95,2,    20.59,2,     0.02,2,    1.570,2,    3.660,2,    2.049,2,   2164.6,2,   2261.9,2,   7.6464,2,    25.00,    0.288,2,     0.01,2,     0.08,2,   4.6890,2,  26.6177,2,   4.7131,2
49UP20180614_1,   P13,     5,  1,     30,     839,2,20180617,1853,2102, 40.6618, 147.1530, 5313,    204.0,      202,   4.6014,  33.7489,2,    165.8,2,  33.7366,4,   166.02,6,    61.35,6,    29.61,6,     0.01,6,    2.200,6,    2.980,2,    1.631,2,   2226.0,2,   2278.8,2,   7.5053,2,    25.00,    0.201,2,     0.00,2,     0.06,2,   4.5865,2,  26.7293,2,   4.6046,2
49UP20180614_1,   P13,     5,  1,     29,     838,2,20180617,1853,2100, 40.6618, 147.1530, 5313,    253.2,      251,   3.9507,  33.7395,2,    143.6,2,  33.7526,4,   140.04,2,    72.01,2,    32.95,2,     0.01,2,    2.420,2,    2.796,2,    1.523,2,   2250.2,2,   2284.9,2,   7.4397,2,    25.00,    0.193,2,  -999.00,9,  -999.00,9,   3.9334,2,  26.7902,2,   3.9562,2
49UP20180614_1,   P13,     5,  1,     28,     837,3,20180617,1853,2058, 40.6618, 147.1530, 5313,    283.1,      281,   4.1048,  33.8280,2,    120.4,2,  33.8264,2,   120.74,2,    77.85,2,    34.61,2,     0.01,2,    2.530,2,    2.503,2,    1.318,2,   2262.1,2,   2294.4,2,   7.4155,2,    25.00,    0.166,2,  -999.00,9,  -999.00,9,   4.0851,2,  26.8451,2,   4.1055,2
49UP20180614_1,   P13,     5,  1,     27,     661,2,20180617,1853,2055, 40.6618, 147.1530, 5313,    373.4,      370,   4.3292,  34.0121,2,     81.3,2,  34.0145,2,    80.89,2,    90.57,2,    37.46,2,     0.00,2,    2.690,2,    1.763,2,    0.906,2,   2291.5,2,   2311.9,2,   7.3808,2,    25.00,    0.104,2,  -999.00,9,  -999.00,9,   4.3021,2,  26.9689,2,   4.3292,2
49UP20180614_1,   P13,     5,  1,     26,     835,2,20180617,1853,2052, 40.6618, 147.1530, 5313,    475.4,      471,   4.0160,  34.1251,2,     55.1,2,  34.1237,2,    55.61,2,   105.41,2,    39.87,2,     0.00,2,    2.850,2,    1.213,2,    0.601,2,   2318.6,2,   2327.8,2,   7.3468,2,    25.00,    0.067,2,  -999.00,9,  -999.00,9,   3.9822,2,  27.0920,2,   4.0209,2
49UP20180614_1,   P13,     5,  1,     25,     834,2,20180617,1853,2049, 40.6618, 147.1530, 5313,    575.0,      570,   3.9011,  34.2207,2,     47.9,2,  34.2202,2,    47.75,2,   114.09,2,    40.53,2,     0.00,2,    2.890,2,    0.798,2,    0.385,2,   2333.7,6,   2343.7,6,   7.3574,2,    25.00,    0.034,2,  -999.00,9,  -999.00,9,   3.8602,2,  27.1805,2,   3.9012,2
49UP20180614_1,   P13,     5,  1,     24,     833,2,20180617,1853,2046, 40.6618, 147.1530, 5313,    677.2,      671,   3.4506,  34.2713,2,     37.4,2,  34.2699,2,    37.42,2,   126.83,2,    41.77,2,     0.00,2,    2.980,2,    0.542,2,    0.279,2,   2350.2,2,   2354.9,2,   7.3376,6,    25.00,    0.018,2,  -999.00,9,  -999.00,9,   3.4042,2,  27.2657,2,   3.4501,2
49UP20180614_1,   P13,     5,  1,     23,     832,2,20180617,1853,2043, 40.6618, 147.1530, 5313,    776.5,      769,   3.2240,  34.3278,2,     36.0,2,  34.3274,2,    35.85,2,   134.50,2,    42.03,2,     0.00,2,    3.000,2,    0.360,2,    0.187,2,   2361.7,2,   2366.8,2,   7.3406,2,    25.00,    0.003,2,  -999.00,9,  -999.00,9,   3.1715,2,  27.3327,2,   3.2240,2
49UP20180614_1,   P13,     5,  1,     22,     831,2,20180617,1853,2040, 40.6618, 147.1530, 5313,    879.3,      871,   3.0575,  34.3698,2,     36.6,2,  34.3682,2,    36.47,2,   139.44,2,    42.16,2,     0.00,2,    3.010,2,    0.257,2,    0.131,2,   2368.2,2,   2374.0,2,   7.3484,2,    25.00,    0.006,2,  -999.00,9,  -999.00,9,   2.9984,2,  27.3821,2,   3.0580,2
49UP20180614_1,   P13,     5,  1,     21,     830,2,20180617,1853,2037, 40.6618, 147.1530, 5313,    979.7,      970,   2.8938,  34.3985,2,     36.0,2,  34.3968,2,    35.62,6,   144.52,6,    42.47,6,     0.00,6,    3.020,6,    0.193,2,    0.101,2,   2373.2,2,   2377.5,2,   7.3481,2,    25.00,    0.004,2,  -999.00,9,  -999.00,9,   2.8284,2,  27.4203,2,   2.8937,2
49UP20180614_1,   P13,     5,  1,     20,     829,2,20180617,1853,2033, 40.6618, 147.1530, 5313,   1142.5,     1131,   2.6112,  34.4454,2,     36.8,2,  34.4453,2,    36.53,2,   153.15,2,    42.58,2,     0.00,2,    3.030,2,    0.126,6,    0.065,6,   2374.9,2,   2387.0,2,   7.3536,2,    25.00,    0.005,6,  -999.00,9,  -999.00,9,   2.5360,2,  27.4834,2,   2.6114,2
49UP20180614_1,   P13,     5,  1,     19,     828,2,20180617,1853,2028, 40.6618, 147.1530, 5313,   1345.8,     1331,   2.3956,  34.4972,2,     43.6,2,  34.4970,2,    43.24,2,   158.67,2,    42.49,2,     0.00,2,    3.000,2,    0.053,2,    0.033,2,   2380.1,2,   2398.3,2,   7.3703,2,    25.00,    0.000,2,  -999.00,9,  -999.00,9,   2.3069,2,  27.5441,2,   2.3959,2
49UP20180614_1,   P13,     5,  1,     18,     827,2,20180617,1853,2023, 40.6618, 147.1530, 5313,   1548.3,     1531,   2.2149,  34.5348,2,     51.6,2,  34.5349,2,    51.80,2,   162.60,2,    42.14,2,     0.00,2,    2.970,2,    0.029,2,    0.019,2,   2378.3,2,   2404.7,2,   7.3917,2,    25.00,    0.000,2,  -999.00,9,  -999.00,9,   2.1125,2,  27.5900,2,   2.2149,2
49UP20180614_1,   P13,     5,  1,     17,     826,3,20180617,1853,2018, 40.6618, 147.1530, 5313,   1751.1,     1730,   2.0507,  34.5652,2,     61.2,2,  34.5648,2,    61.06,2,   165.64,2,    41.49,2,     0.00,2,    2.920,2,    0.017,2,    0.015,2,   2378.6,2,   2409.0,2,   7.4088,2,    25.00,    0.000,2,  -999.00,9,  -999.00,9,   1.9342,2,  27.6285,2,   2.0507,2
49UP20180614_1,   P13,     5,  1,     16,     825,2,20180617,1853,2014, 40.6618, 147.1530, 5313,   1953.6,     1930,   1.9333,  34.5937,2,     75.7,2,  34.5928,2,    75.93,2,   164.23,2,    40.67,2,     0.00,2,    2.850,2,    0.001,2,    0.002,2,   2373.6,2,   2413.6,2,   7.4398,2,    25.00,    0.000,2,  -999.00,9,  -999.00,9,   1.8018,2,  27.6616,2,   1.9332,2
49UP20180614_1,   P13,     5,  1,     15,     824,3,20180617,1853,2009, 40.6618, 147.1530, 5313,   2158.4,     2131,   1.8118,  34.6163,2,     89.9,2,  34.6148,4,    90.05,2,   163.07,2,    39.76,2,     0.00,2,    2.780,2,    0.002,2,    0.002,2,   2368.8,2,   2416.3,2,   7.4701,2,    25.00,    0.000,2,  -999.00,9,  -999.00,9,   1.6650,2,  27.6901,2,   1.8118,2
49UP20180614_1,   P13,     5,  1,     14,     823,2,20180617,1853,2004, 40.6618, 147.1530, 5313,   2360.9,     2330,   1.7136,  34.6328,2,    101.9,2,  34.6333,2,   101.85,2,   162.01,2,    39.04,2,     0.00,2,    2.730,2,    0.000,2,    0.002,2,   2358.7,2,   2418.3,2,   7.4920,2,    25.00,    0.000,2,  -999.00,9,  -999.00,9,   1.5510,2,  27.7118,2,   1.7136,2
49UP20180614_1,   P13,     5,  1,     13,     822,2,20180617,1853,1959, 40.6618, 147.1530, 5313,   2566.3,     2531,   1.6405,  34.6449,2,    111.2,2,  34.6451,2,   111.23,2,   161.09,2,    38.46,2,     0.00,2,    2.680,2,    0.001,2,    0.000,2,   2353.8,2,   2415.8,3,   7.5092,2,    25.00,    0.000,2,  -999.00,9,  -999.00,9,   1.4611,2,  27.7280,2,   1.6405,2
49UP20180614_1,   P13,     5,  1,     12,     821,2,20180617,1853,1954, 40.6618, 147.1530, 5313,   2769.5,     2730,   1.5846,  34.6546,2,    119.9,2,  34.6543,2,   119.94,6,   159.39,6,    37.92,6,     0.00,6,    2.640,6,   -0.000,2,    0.000,2,   2347.6,2,   2418.1,2,   7.5247,2,    25.00,    0.000,2,  -999.00,9,  -999.00,9,   1.3877,2,  27.7411,2,   1.5846,2
49UP20180614_1,   P13,     5,  1,     11,     820,2,20180617,1853,1949, 40.6618, 147.1530, 5313,   2973.3,     2930,   1.5447,  34.6617,2,    126.8,2,  34.6604,4,   126.43,2,   158.24,2,    37.55,2,     0.00,2,    2.600,2, -999.000,9, -999.000,9,   2344.7,6,   2418.9,6,   7.5365,2,    25.00, -999.000,9,  -999.00,9,  -999.00,9,   1.3295,2,  27.7509,2,   1.5447,2
49UP20180614_1,   P13,     5,  1,     10,     819,2,20180617,1853,1944, 40.6618, 147.1530, 5313,   3218.0,     3169,   1.5068,  34.6689,2,    134.1,2,  34.6685,2,   134.05,2,   156.29,2,    37.04,2,     0.00,2,    2.560,2, -999.000,9, -999.000,9,   2344.0,2,   2418.3,2,   7.5507,6,    25.00, -999.000,9,  -999.00,9,  -999.00,9,   1.2688,2,  27.7610,2,   1.5069,2
49UP20180614_1,   P13,     5,  1,      9,     818,2,20180617,1853,1938, 40.6618, 147.1530, 5313,   3476.8,     3422,   1.4832,  34.6743,2,    140.2,2,  34.6742,2,   140.11,2,   155.06,2,    36.62,2,     0.00,2,    2.530,2, -999.000,9, -999.000,9,   2338.9,2,   2418.3,2,   7.5632,2,    25.00, -999.000,9,  -999.00,9,  -999.00,9,   1.2199,2,  27.7687,2,   1.4835,2
49UP20180614_1,   P13,     5,  1,      8,     817,2,20180617,1853,1932, 40.6618, 147.1530, 5313,   3732.1,     3671,   1.4675,  34.6787,2,    145.5,2,  34.6774,4,   145.44,2,   153.53,2,    36.32,2,     0.00,2,    2.510,2,    0.000,2,   -0.000,2,   2335.6,2,   2419.5,2,   7.5735,2,    25.00,    0.000,2,  -999.00,9,  -999.00,9,   1.1781,2,  27.7752,2,   1.4675,2
49UP20180614_1,   P13,     5,  1,      7,     816,2,20180617,1853,1926, 40.6618, 147.1530, 5313,   3987.6,     3920,   1.4580,  34.6825,2,    150.2,2,  34.6821,2,   150.40,2,   152.04,2,    35.93,2,     0.00,2,    2.480,2, -999.000,9, -999.000,9,   2330.4,2,   2418.5,2,   7.5766,2,    25.00, -999.000,9,  -999.00,9,  -999.00,9,   1.1416,2,  27.7807,2,   1.4579,2
49UP20180614_1,   P13,     5,  1,      6,     815,2,20180617,1853,1921, 40.6618, 147.1530, 5313,   4245.1,     4171,   1.4616,  34.6851,2,    153.2,2,  34.6844,6,   152.98,2,   151.56,2,    35.79,2,     0.00,2,    2.470,2, -999.000,9, -999.000,9,   2322.7,2,   2417.1,2,   7.5831,2,    25.00, -999.000,9,  -999.00,9,  -999.00,9,   1.1168,2,  27.7845,2,   1.4616,2
49UP20180614_1,   P13,     5,  1,      5,     814,2,20180617,1853,1915, 40.6618, 147.1530, 5313,   4502.4,     4421,   1.4708,  34.6874,2,    156.0,2,  34.6856,4,   155.71,2,   150.69,2,    35.62,2,     0.00,2,    2.460,2, -999.000,9, -999.000,9,   2319.4,2,   2416.5,6,   7.5875,2,    25.00, -999.000,9,  -999.00,9,  -999.00,9,   1.0964,2,  27.7877,2,   1.4707,2
49UP20180614_1,   P13,     5,  1,      4,     813,2,20180617,1853,1909, 40.6618, 147.1530, 5313,   4759.9,     4671,   1.4890,  34.6888,2,    157.5,2,  34.6884,6,   157.41,2,   150.43,2,    35.50,2,     0.00,2,    2.450,2,    0.001,2,    0.001,2,   2321.5,2,   2416.1,2,   7.5873,2,    25.00,    0.000,2,  -999.00,9,  -999.00,9,   1.0840,2,  27.7897,2,   1.4891,2
49UP20180614_1,   P13,     5,  1,      3,     812,3,20180617,1853,1903, 40.6618, 147.1530, 5313,   5015.8,     4919,   1.5150,  34.6895,2,    158.0,2,  34.6887,2,   157.84,6,   150.83,6,    35.47,6,     0.00,6,    2.440,6, -999.000,9, -999.000,9,   2322.2,2,   2417.1,2,   7.5903,2,    25.00, -999.000,9,  -999.00,9,  -999.00,9,   1.0784,2,  27.7906,2,   1.5151,2
49UP20180614_1,   P13,     5,  1,      2,     811,2,20180617,1853,1857, 40.6618, 147.1530, 5313,   5275.0,     5171,   1.5396,  34.6903,2,    159.7,2,  34.6891,4,   159.51,2,   148.85,2,    35.32,2,     0.00,2,    2.430,2, -999.000,9, -999.000,9,   2322.7,2,   2415.4,2,   7.5919,6,    25.00, -999.000,9,  -999.00,9,  -999.00,9,   1.0701,2,  27.7918,2,   1.5397,2
49UP20180614_1,   P13,     5,  1,      1,     810,2,20180617,1853,1854, 40.6618, 147.1530, 5313,   5411.7,     5303,   1.5535,  34.6909,2,    159.5,2,  34.6891,4,   159.28,2,   149.65,2,    35.32,2,     0.00,2,    2.440,2,    0.005,2,    0.004,2,   2324.0,2,   2414.4,2,   7.5909,2,    25.00,    0.000,2,  -999.00,9,  -999.00,9,   1.0663,2,  27.7925,2,   1.5537,2