BOTTLE,20191018JMAGEMD
EXPOCODE,SECT_ID,STNNBR,CASTNO,SAMPNO,BTLNBR,BTLNBR_FLAG_U,DATE,TIME,BTL_TIME,LATITUDE,LONGITUDE,DEPTH,CTDPRS,CTDDEP,CTDTMP,CTDSAL,CTDSAL_FLAG_W,CTDOXY,CTDOXY_FLAG_W,SALNTY,SALNTY_FLAG_W,OXYGEN,OXYGEN_FLAG_W,SILCAT,SILCAT_FLAG_W,NO2+NO3,NO2+NO3_FLAG_W,NITRIT,NITRIT_FLAG_W,PHSPHT,PHSPHT_FLAG_W,CFC-11,CFC-11_FLAG_W,CFC-12,CFC-12_FLAG_W,TCARBN,TCARBN_FLAG_W,ALKALI,ALKALI_FLAG_W,PH_TS,PH_TS_FLAG_W,PH_TS_TMP,CFC113,CFC113_FLAG_W,CHLORA,CHLORA_FLAG_W,PPHYTN,PPHYTN_FLAG_W,THETA,THETA_FLAG_W,SIGTHT,SIGTHT_FLAG_W,SBE35,SBE35_FLAG_W
,,,,,,,,UTC,,,,METER,DBAR,METERS,ITS-90,PSS-78,,UMOL/KG,,PSS78,,UMOL/KG,,UMOL/KG,,UMOL/KG,,UMOL/KG,,UMOL/KG,,PMOL/KG,,PMOL/KG,,UMOL/KG,,UMOL/KG,,,,ITS-90,PMOL/KG,,UG/KG,,UG/KG,,ITS-90,,KG/M3,,ITS-90,
49UP20180806_1,   P13,    51,  1,      0,      -9,0,20180817,0403,0608, 22.9953, 164.9872, 5791,      0.0,        0,  28.7209,  34.9513,2,    198.2,2,  34.9457,2,   198.17,2,     0.58,3,     0.11,2,     0.00,2,    0.020,3, -999.000,9, -999.000,9,   1959.1,2,   2296.6,2,   8.1096,2,    25.00, -999.000,9,     0.06,2,     0.01,2,  28.7203,2,  22.1207,2,-999.0000,9
49UP20180806_1,   P13,    51,  1,     36,     845,2,20180817,0403,0640, 22.9953, 164.9872, 5791,     11.4,       11,  28.7038,  34.9529,2,    198.3,2,  34.9500,2,   198.63,2,     0.59,3,     0.02,2,     0.00,2,    0.000,3, -999.000,9, -999.000,9,   1963.9,2,   2300.6,2,   8.1065,2,    25.00, -999.000,9,     0.05,2,     0.01,2,  28.7011,2,  22.1283,2,  28.7092,2
49UP20180806_1,   P13,    51,  1,     35,     844,2,20180817,0403,0635, 22.9953, 164.9872, 5791,     51.0,       51,  27.2727,  35.1344,2,    214.0,2,  35.1288,2,   213.49,2,     0.80,3,     0.01,2,     0.00,2,    0.000,3, -999.000,9, -999.000,9,   1982.3,2,   2310.6,2,   8.1030,2,    25.00, -999.000,9,     0.06,2,     0.02,2,  27.2609,2,  22.7354,2,  27.2770,2
49UP20180806_1,   P13,    51,  1,     34,     843,2,20180817,0403,0633, 22.9953, 164.9872, 5791,    101.4,      101,  24.5674,  35.2070,2,    210.5,2,  35.2056,2,   210.34,2,     0.66,3,     0.00,2,     0.00,2,    0.010,3, -999.000,9, -999.000,9,   1994.1,2,   2316.2,2,   8.0774,2,    25.00, -999.000,9,     0.16,2,     0.10,2,  24.5456,2,  23.6352,2,  24.6242,2
49UP20180806_1,   P13,    51,  1,     33,     842,2,20180817,0403,0631, 22.9953, 164.9872, 5791,    152.3,      151,  21.9955,  35.1833,2,    202.8,2,  35.1897,2,   203.62,6,     1.12,3,     0.39,6,     0.22,6,    0.060,3, -999.000,9, -999.000,9,   2032.2,2,   2315.8,2,   8.0237,2,    25.00, -999.000,9,     0.06,2,     0.12,2,  21.9654,2,  24.3668,2,  21.9886,2
49UP20180806_1,   P13,    51,  1,     32,     841,2,20180817,0403,0629, 22.9953, 164.9872, 5791,    204.5,      203,  19.3704,  34.9618,2,    191.3,2,  34.9623,2,   191.47,2,     2.42,3,     2.73,2,     0.01,2,    0.230,3, -999.000,9, -999.000,9,   2053.7,2,   2299.3,2,   7.9512,2,    25.00, -999.000,9,     0.02,2,     0.06,2,  19.3334,2,  24.9065,2,  19.3715,2
49UP20180806_1,   P13,    51,  1,     31,     840,2,20180817,0403,0627, 22.9953, 164.9872, 5791,    252.6,      251,  17.1373,  34.7638,2,    198.0,2,  34.7655,2,   199.05,2,     3.93,3,     5.04,2,     0.00,2,    0.350,3, -999.000,9, -999.000,9,   2063.0,2,   2286.4,2,   7.9186,2,    25.00, -999.000,9,  -999.00,9,  -999.00,9,  17.0954,2,  25.3103,2,  17.1425,2
49UP20180806_1,   P13,    51,  1,     30,     839,2,20180817,0403,0625, 22.9953, 164.9872, 5791,    303.9,      302,  15.8622,  34.6408,2,    200.7,2,  34.6415,2,   200.75,2,     5.47,3,     6.64,2,     0.00,2,    0.450,3, -999.000,9, -999.000,9,   2071.5,2,   2278.3,2,   7.8952,2,    25.00, -999.000,9,  -999.00,9,  -999.00,9,  15.8144,2,  25.5135,2,  15.8649,2
49UP20180806_1,   P13,    51,  1,     29,     838,2,20180817,0403,0622, 22.9953, 164.9872, 5791,    406.4,      403,  12.7422,  34.3597,2,    199.8,2,  34.3620,2,   199.78,2,    12.23,3,    11.80,2,     0.00,2,    0.800,3, -999.000,9, -999.000,9,   2094.3,2,   2269.2,2,   7.8168,2,    25.00, -999.000,9,  -999.00,9,  -999.00,9,  12.6869,2,  25.9589,2,  12.7423,2
49UP20180806_1,   P13,    51,  1,     28,     837,2,20180817,0403,0619, 22.9953, 164.9872, 5791,    507.9,      504,   9.6248,  34.1487,2,    174.2,2,  34.1496,2,   174.77,2,    26.51,3,    19.93,2,     0.00,2,    1.380,3, -999.000,9, -999.000,9,   2152.3,6,   2271.3,6,   7.6916,2,    25.00, -999.000,9,  -999.00,9,  -999.00,9,   9.5669,2,  26.3596,2,   9.6225,2
49UP20180806_1,   P13,    51,  1,     27,     661,2,20180817,0403,0615, 22.9953, 164.9872, 5791,    607.5,      603,   7.3512,  34.0887,2,    121.0,2,  34.0887,2,   120.34,2,    48.87,3,    29.15,2,     0.00,2,    2.060,3, -999.000,9, -999.000,9,   2222.5,2,   2286.1,2,   7.5438,6,    25.00, -999.000,9,  -999.00,9,  -999.00,9,   7.2919,2,  26.6603,2,   7.3515,2
49UP20180806_1,   P13,    51,  1,     26,     835,2,20180817,0403,0612, 22.9953, 164.9872, 5791,    710.2,      705,   5.6160,  34.1574,2,     67.3,2,  34.1558,2,    67.43,2,    75.88,3,    36.86,2,     0.00,2,    2.640,3, -999.000,9, -999.000,9,   2278.8,2,   2310.8,2,   7.4251,2,    25.00, -999.000,9,  -999.00,9,  -999.00,9,   5.5553,2,  26.9418,2,   5.6167,2
49UP20180806_1,   P13,    51,  1,     25,     834,2,20180817,0403,0609, 22.9953, 164.9872, 5791,    810.3,      804,   5.0884,  34.2614,2,     50.4,2,  34.2609,2,    51.23,2,    86.94,3,    39.27,2,     0.00,2,    2.820,3, -999.000,9, -999.000,9,   2300.7,2,   2329.9,2,   7.4006,2,    25.00, -999.000,9,  -999.00,9,  -999.00,9,   5.0218,2,  27.0871,2,   5.0888,2
49UP20180806_1,   P13,    51,  1,     23,     832,2,20180817,0403,0605, 22.9953, 164.9872, 5791,    910.5,      903,   4.5150,  34.3407,2,     46.2,2,  34.3410,2,    46.26,6,   100.37,3,    40.88,6,     0.00,6,    2.910,3, -999.000,9, -999.000,9,   2327.9,2,   2347.9,2,   7.3916,2,    25.00, -999.000,9,  -999.00,9,  -999.00,9,   4.4434,2,  27.2148,2,   4.5151,2
49UP20180806_1,   P13,    51,  1,     22,     831,2,20180817,0403,0601, 22.9953, 164.9872, 5791,   1013.1,     1004,   4.1128,  34.4208,2,     50.9,2,  34.4199,2,    50.76,2,   109.63,3,    41.04,2,     0.00,2,    2.930,3, -999.000,9, -999.000,9,   2330.9,2,   2361.9,2,   7.4101,2,    25.00, -999.000,9,  -999.00,9,  -999.00,9,   4.0353,2,  27.3217,2,   4.1132,2
49UP20180806_1,   P13,    51,  1,     21,     830,2,20180817,0403,0556, 22.9953, 164.9872, 5791,   1214.4,     1203,   3.4452,  34.5014,2,     63.1,2,  34.5016,2,    63.23,2,   123.58,3,    40.86,2,     0.00,2,    2.900,3, -999.000,9, -999.000,9,   2340.7,2,   2378.9,2,   7.4345,2,    25.00, -999.000,9,  -999.00,9,  -999.00,9,   3.3566,2,  27.4537,2,   3.4448,2
49UP20180806_1,   P13,    51,  1,     20,     829,2,20180817,0403,0551, 22.9953, 164.9872, 5791,   1416.0,     1402,   2.9468,  34.5369,2,     72.7,2,  34.5372,6,    72.87,2,   133.22,3,    40.56,2,     0.00,2,    2.860,3, -999.000,9, -999.000,9,   2355.1,2,   2392.8,2,   7.4477,2,    25.00, -999.000,9,  -999.00,9,  -999.00,9,   2.8465,2,  27.5293,2,   2.9470,2
49UP20180806_1,   P13,    51,  1,     19,     828,2,20180817,0403,0545, 22.9953, 164.9872, 5791,   1616.6,     1600,   2.6141,  34.5625,2,     81.0,2,  34.5637,2,    81.40,2,   138.88,3,    40.29,2,     0.00,2,    2.820,3, -999.000,9, -999.000,9,   2349.3,2,   2399.3,2,   7.4631,2,    25.00, -999.000,9,  -999.00,9,  -999.00,9,   2.5012,2,  27.5800,2,   2.6141,2
49UP20180806_1,   P13,    51,  1,     18,     660,2,20180817,0403,0541, 22.9953, 164.9872, 5791,   1817.9,     1799,   2.2754,  34.5923,2,     91.8,2,  34.5934,2,    91.79,2,   144.94,3,    39.78,2,     0.00,2,    2.770,3, -999.000,9, -999.000,9,   2351.3,2,   2408.5,2,   7.4819,2,    25.00, -999.000,9,  -999.00,9,  -999.00,9,   2.1502,2,  27.6330,2,   2.2753,2
49UP20180806_1,   P13,    51,  1,     17,     826,2,20180817,0403,0536, 22.9953, 164.9872, 5791,   2021.5,     1999,   2.0655,  34.6136,2,    100.7,2,  34.6142,6,   101.06,2,   147.69,3,    39.35,2,     0.00,2,    2.730,3, -999.000,9, -999.000,9,   2355.7,2,   2410.5,2,   7.4977,2,    25.00, -999.000,9,  -999.00,9,  -999.00,9,   1.9263,2,  27.6679,2,   2.0655,2
49UP20180806_1,   P13,    51,  1,     16,     825,2,20180817,0403,0531, 22.9953, 164.9872, 5791,   2225.2,     2200,   1.9181,  34.6301,2,    108.6,2,  34.6315,2,   108.99,2,   150.20,3,    38.96,2,     0.00,2,    2.700,3, -999.000,9, -999.000,9,   2350.3,2,   2416.2,2,   7.5113,2,    25.00, -999.000,9,  -999.00,9,  -999.00,9,   1.7638,2,  27.6937,2,   1.9180,2
49UP20180806_1,   P13,    51,  1,     15,     824,2,20180817,0403,0526, 22.9953, 164.9872, 5791,   2428.5,     2399,   1.7922,  34.6437,2,    116.3,2,  34.6437,2,   116.36,2,   151.39,3,    38.42,2,     0.00,2,    2.660,3, -999.000,9, -999.000,9,   2348.9,6,   2420.3,6,   7.5279,2,    25.00, -999.000,9,  -999.00,9,  -999.00,9,   1.6222,2,  27.7152,2,   1.7924,2
49UP20180806_1,   P13,    51,  1,     14,     823,2,20180817,0403,0521, 22.9953, 164.9872, 5791,   2631.9,     2599,   1.7243,  34.6508,2,    121.3,2,  34.6515,2,   121.41,6,   151.88,3,    38.10,6,     0.00,6,    2.640,3, -999.000,9, -999.000,9,   2344.4,2,   2420.9,2,   7.5351,6,    25.00, -999.000,9,  -999.00,9,  -999.00,9,   1.5373,2,  27.7272,2,   1.7243,2
49UP20180806_1,   P13,    51,  1,     13,     822,2,20180817,0403,0516, 22.9953, 164.9872, 5791,   2836.3,     2800,   1.6711,  34.6571,2,    125.9,2,  34.6578,6,   126.42,2,   151.90,3,    37.83,2,     0.00,2,    2.610,3, -999.000,9, -999.000,9,   2340.0,2,   2421.1,2,   7.5414,2,    25.00, -999.000,9,  -999.00,9,  -999.00,9,   1.4661,2,  27.7375,2,   1.6712,2
49UP20180806_1,   P13,    51,  1,     12,     821,2,20180817,0403,0512, 22.9953, 164.9872, 5791,   3040.6,     3000,   1.6169,  34.6633,2,    131.1,2,  34.6638,2,   131.58,2,   151.86,3,    37.52,2,     0.00,2,    2.580,3, -999.000,9, -999.000,9,   2341.7,2,   2418.7,2,   7.5513,2,    25.00, -999.000,9,  -999.00,9,  -999.00,9,   1.3937,2,  27.7476,2,   1.6170,2
49UP20180806_1,   P13,    51,  1,     11,     820,2,20180817,0403,0505, 22.9953, 164.9872, 5791,   3298.9,     3253,   1.5775,  34.6687,2,    136.2,2,  34.6676,2,   135.61,2,   150.95,3,    37.13,2,     0.00,2,    2.560,3, -999.000,9, -999.000,9,   2332.5,2,   2419.1,2,   7.5571,2,    25.00, -999.000,9,  -999.00,9,  -999.00,9,   1.3298,2,  27.7565,2,   1.5775,2
49UP20180806_1,   P13,    51,  1,     10,     819,2,20180817,0403,0459, 22.9953, 164.9872, 5791,   3551.9,     3500,   1.5444,  34.6734,2,    141.1,2,  34.6744,4,   141.77,2,   150.35,3,    36.86,2,     0.00,2,    2.530,3, -999.000,9, -999.000,9,   2340.1,2,   2418.9,2,   7.5668,2,    25.00, -999.000,9,  -999.00,9,  -999.00,9,   1.2718,2,  27.7644,2,   1.5444,2
49UP20180806_1,   P13,    51,  1,      9,     818,2,20180817,0403,0454, 22.9953, 164.9872, 5791,   3806.0,     3748,   1.5179,  34.6777,2,    146.2,2,  34.6783,2,   147.07,2,   148.96,3,    36.44,2,     0.00,2,    2.500,3, -999.000,9, -999.000,9,   2334.2,2,   2418.1,2,   7.5717,2,    25.00, -999.000,9,  -999.00,9,  -999.00,9,   1.2194,2,  27.7715,2,   1.5178,2
49UP20180806_1,   P13,    51,  1,      8,     817,2,20180817,0403,0448, 22.9953, 164.9872, 5791,   4064.0,     4000,   1.5022,  34.6812,2,    150.8,2,  34.6819,2,   151.07,2,   147.24,3,    36.16,2,     0.00,2,    2.480,3, -999.000,9, -999.000,9,   2324.4,2,   2418.6,2,   7.5794,2,    25.00, -999.000,9,  -999.00,9,  -999.00,9,   1.1763,2,  27.7773,2,   1.5022,2
49UP20180806_1,   P13,    51,  1,     24,     833,4,20180817,0403,0442, 22.9953, 164.9872, 5791,   4319.1,     4249,   1.4838,  34.6851,2,    156.1,2,-999.0000,9,  -999.00,9,  -999.00,9,  -999.00,9,  -999.00,9, -999.000,9, -999.000,9, -999.000,9,   -999.0,9,   -999.0,9,-999.0000,9,  -999.00, -999.000,9,  -999.00,9,  -999.00,9,   1.1300,2,  27.7835,2,   1.4838,2
49UP20180806_1,   P13,    51,  1,      7,     816,2,20180817,0403,0436, 22.9953, 164.9872, 5791,   4575.7,     4499,   1.4730,  34.6884,2,    161.3,2,  34.6891,2,   162.09,2,   142.59,3,    35.43,2,     0.00,2,    2.420,3, -999.000,9, -999.000,9,   2320.2,2,   2410.5,2,   7.5933,2,    25.00, -999.000,9,  -999.00,9,  -999.00,9,   1.0901,2,  27.7889,2,   1.4730,2
49UP20180806_1,   P13,    51,  1,      6,     815,2,20180817,0403,0430, 22.9953, 164.9872, 5791,   4836.4,     4752,   1.4741,  34.6909,2,    165.5,2,  34.6906,2,   166.01,6,   140.94,3,    35.14,6,     0.00,6,    2.400,3, -999.000,9, -999.000,9,   2319.2,2,   2410.8,2,   7.5992,2,    25.00, -999.000,9,  -999.00,9,  -999.00,9,   1.0605,2,  27.7929,2,   1.4740,2
49UP20180806_1,   P13,    51,  1,      5,     814,2,20180817,0403,0424, 22.9953, 164.9872, 5791,   5089.7,     4998,   1.4711,  34.6935,2,    169.9,2,  34.6931,6,   169.58,2,   139.52,3,    34.80,2,     0.00,2,    2.400,3, -999.000,9, -999.000,9,   2312.5,6,   2407.6,6,   7.6014,2,    25.00, -999.000,9,  -999.00,9,  -999.00,9,   1.0268,2,  27.7972,2,   1.4712,2
49UP20180806_1,   P13,    51,  1,      4,     813,2,20180817,0403,0418, 22.9953, 164.9872, 5791,   5348.2,     5249,   1.4716,  34.6958,2,    174.3,2,  34.6959,2,   174.78,2,   136.84,3,    34.53,2,     0.00,2,    2.370,3, -999.000,9, -999.000,9,   2310.3,2,   2401.7,2,   7.6062,6,    25.00, -999.000,9,  -999.00,9,  -999.00,9,   0.9953,2,  27.8012,2,   1.4715,2
49UP20180806_1,   P13,    51,  1,      3,     812,2,20180817,0403,0412, 22.9953, 164.9872, 5791,   5604.5,     5497,   1.4874,  34.6969,2,    176.5,2,  34.6980,4,   176.87,2,   132.97,3,    34.29,2,     0.00,2,    2.330,3, -999.000,9, -999.000,9,   2310.0,2,   2402.8,2,   7.6091,2,    25.00, -999.000,9,  -999.00,9,  -999.00,9,   0.9779,2,  27.8033,2,   1.4874,2
49UP20180806_1,   P13,    51,  1,      2,     811,2,20180817,0403,0407, 22.9953, 164.9872, 5791,   5866.4,     5751,   1.5148,  34.6976,2,    177.8,2,  34.6974,2,   177.87,2,   131.79,3,    34.30,2,     0.00,2,    2.320,3, -999.000,9, -999.000,9,   2305.2,2,   2401.9,2,   7.6110,2,    25.00, -999.000,9,  -999.00,9,  -999.00,9,   0.9700,2,  27.8044,2,   1.5147,2
49UP20180806_1,   P13,    51,  1,      1,     810,2,20180817,0403,0404, 22.9953, 164.9872, 5791,   5937.8,     5820,   1.5215,  34.6977,2,    178.2,2,  34.6984,4,   178.43,2,   130.72,3,    34.18,2,     0.00,2,    2.310,3, -999.000,9, -999.000,9,   2302.3,2,   2400.8,2,   7.6120,2,    25.00, -999.000,9,  -999.00,9,  -999.00,9,   0.9670,2,  27.8046,2,   1.5214,2