BOTTLE,20191018JMAGEMD
EXPOCODE,SECT_ID,STNNBR,CASTNO,SAMPNO,BTLNBR,BTLNBR_FLAG_U,DATE,TIME,BTL_TIME,LATITUDE,LONGITUDE,DEPTH,CTDPRS,CTDDEP,CTDTMP,CTDSAL,CTDSAL_FLAG_W,CTDOXY,CTDOXY_FLAG_W,SALNTY,SALNTY_FLAG_W,OXYGEN,OXYGEN_FLAG_W,SILCAT,SILCAT_FLAG_W,NO2+NO3,NO2+NO3_FLAG_W,NITRIT,NITRIT_FLAG_W,PHSPHT,PHSPHT_FLAG_W,CFC-11,CFC-11_FLAG_W,CFC-12,CFC-12_FLAG_W,TCARBN,TCARBN_FLAG_W,ALKALI,ALKALI_FLAG_W,PH_TS,PH_TS_FLAG_W,PH_TS_TMP,CFC113,CFC113_FLAG_W,CHLORA,CHLORA_FLAG_W,PPHYTN,PPHYTN_FLAG_W,THETA,THETA_FLAG_W,SIGTHT,SIGTHT_FLAG_W,SBE35,SBE35_FLAG_W
,,,,,,,,UTC,,,,METER,DBAR,METERS,ITS-90,PSS-78,,UMOL/KG,,PSS78,,UMOL/KG,,UMOL/KG,,UMOL/KG,,UMOL/KG,,UMOL/KG,,PMOL/KG,,PMOL/KG,,UMOL/KG,,UMOL/KG,,,,ITS-90,PMOL/KG,,UG/KG,,UG/KG,,ITS-90,,KG/M3,,ITS-90,
49UP20180614_1,   P13,    19,  1,      0,      -9,0,20180627,0329,0525, 48.9938, 165.0202, 5573,      0.0,        0,   5.9517,  32.9171,2,    327.2,2,  32.9098,2,   325.45,2,    33.13,2,    19.48,2,     0.20,2,    1.660,3, -999.000,9, -999.000,9,   2087.8,2,   2231.8,2,   7.7540,2,    25.00, -999.000,9,     0.52,2,     0.14,2,   5.9515,2,  25.9129,2,-999.0000,9
49UP20180614_1,   P13,    19,  1,     36,     845,2,20180627,0329,0557, 48.9938, 165.0202, 5573,     10.6,       11,   5.8140,  32.9180,2,    328.0,2,  32.9195,2,   326.74,2,    32.98,2,    19.45,2,     0.19,2,    1.640,3,    4.197,2,    2.294,2,   2089.4,2,   2232.9,2,   7.7548,2,    25.00,    0.403,2,     0.53,2,     0.15,2,   5.8131,2,  25.9304,2,   5.8097,2
49UP20180614_1,   P13,    19,  1,     35,     844,2,20180627,0329,0552, 48.9938, 165.0202, 5573,     50.4,       50,   3.0889,  33.0118,2,    332.8,2,  33.0153,2,   333.35,2,    33.22,2,    21.07,2,     0.25,2,    1.810,3,    4.634,2,    2.502,2,   2113.0,2,   2237.9,2,   7.7155,6,    25.00,    0.447,2,     0.30,2,     0.32,2,   3.0859,2,  26.2906,2,   3.0826,2
49UP20180614_1,   P13,    19,  1,     34,     843,2,20180627,0329,0550, 48.9938, 165.0202, 5573,     75.5,       75,   2.0967,  33.0577,2,    325.4,2,  33.0589,2,   326.58,2,    43.28,2,    26.27,2,     0.45,2,    2.040,3, -999.000,9, -999.000,9,   2146.7,2,   2236.5,2,   7.6340,2,    25.00, -999.000,9,     0.13,2,     0.12,2,   2.0929,2,  26.4087,2,   2.0978,2
49UP20180614_1,   P13,    19,  1,     33,     842,3,20180627,0329,0549, 48.9938, 165.0202, 5573,    100.5,      100,   1.8879,  33.1291,2,    318.8,2,  33.1288,2,   320.26,2,    45.74,2,    26.49,2,     0.38,2,    2.110,3,   10.020,4,    7.622,4,   2149.3,2,   2242.1,2,   7.6213,2,    25.00,    2.497,4,     0.06,2,     0.08,2,   1.8830,2,  26.4815,2,   1.8866,2
49UP20180614_1,   P13,    19,  1,     32,     841,2,20180627,0329,0547, 48.9938, 165.0202, 5573,    125.8,      125,   2.5491,  33.3582,2,    210.1,2,  33.3559,2,   209.57,2,    64.41,2,    33.36,2,     0.02,2,    2.470,3, -999.000,9, -999.000,9,   2218.5,2,   2257.1,2,   7.4628,2,    25.00, -999.000,9,  -999.00,5,  -999.00,5,   2.5422,2,  26.6136,2,   2.5221,2
49UP20180614_1,   P13,    19,  1,     31,     840,2,20180627,0329,0546, 48.9938, 165.0202, 5573,    151.6,      150,   3.6475,  33.6735,2,     90.2,2,  33.6768,2,    88.89,2,    85.50,2,    40.69,2,     0.02,2,    2.910,3,    2.474,2,    1.275,2,   2290.4,2,   2279.6,2,   7.3093,2,    25.00,    0.181,2,     0.01,2,     0.07,2,   3.6377,2,  26.7669,2,   3.6473,2
49UP20180614_1,   P13,    19,  1,     30,     839,2,20180627,0329,0543, 48.9938, 165.0202, 5573,    202.3,      200,   3.4764,  33.8436,2,     46.3,2,  33.8466,6,    45.19,2,    98.14,2,    43.31,2,     0.01,2,    3.090,3,    2.037,2,    1.020,2,   2331.6,2,   2298.5,2,   7.2477,2,    25.00,    0.142,2,     0.00,2,     0.04,2,   3.4634,2,  26.9192,2,   3.4763,2
49UP20180614_1,   P13,    19,  1,     29,     838,2,20180627,0329,0541, 48.9938, 165.0202, 5573,    253.5,      251,   3.6412,  33.9541,2,     22.0,2,  33.9539,2,    22.66,2,   105.92,2,    44.77,2,     0.00,2,    3.160,3,    1.614,2,    0.782,2,   2344.1,2,   2305.3,2,   7.2263,2,    25.00,    0.113,2,  -999.00,9,  -999.00,9,   3.6244,2,  26.9917,2,   3.6411,2
49UP20180614_1,   P13,    19,  1,     28,     837,2,20180627,0329,0539, 48.9938, 165.0202, 5573,    334.0,      331,   3.5927,  34.0673,2,     15.7,2,  34.0664,2,    15.30,2,   115.60,2,    44.70,2,     0.00,2,    3.150,3,    1.153,6,    0.534,6,   2359.5,2,   2323.7,2,   7.2384,2,    25.00,    0.075,6,  -999.00,9,  -999.00,9,   3.5705,2,  27.0871,2,   3.5925,2
49UP20180614_1,   P13,    19,  1,     27,     661,2,20180627,0329,0536, 48.9938, 165.0202, 5573,    434.0,      430,   3.4515,  34.1658,2,     14.0,2,  34.1671,2,    14.34,2,   125.74,2,    44.37,2,     0.00,2,    3.150,3,    0.749,2,    0.343,2,   2361.6,2,   2339.3,2,   7.2615,2,    25.00,    0.045,2,  -999.00,9,  -999.00,9,   3.4227,2,  27.1798,2,   3.4510,2
49UP20180614_1,   P13,    19,  1,     26,     835,2,20180627,0329,0533, 48.9938, 165.0202, 5573,    536.9,      532,   3.2895,  34.2280,2,     16.0,2,  34.2284,2,    16.11,6,   132.30,6,    44.03,6,     0.00,6,    3.130,3,    0.557,2,    0.253,2,   2367.2,2,   2349.7,2,   7.2824,2,    25.00,    0.039,2,  -999.00,9,  -999.00,9,   3.2540,2,  27.2454,2,   3.2895,2
49UP20180614_1,   P13,    19,  1,     25,     834,2,20180627,0329,0530, 48.9938, 165.0202, 5573,    637.0,      631,   3.1515,  34.2842,2,     17.3,2,  34.2840,2,    16.88,2,   137.89,2,    43.96,2,     0.00,2,    3.120,3,    0.376,2,    0.180,2,   2371.0,2,   2359.8,2,   7.2963,2,    25.00,    0.018,2,  -999.00,9,  -999.00,9,   3.1096,2,  27.3037,2,   3.1515,2
49UP20180614_1,   P13,    19,  1,     24,     833,2,20180627,0329,0527, 48.9938, 165.0202, 5573,    738.4,      731,   2.9866,  34.3267,2,     17.7,2,  34.3266,2,    17.10,2,   144.23,2,    43.88,2,     0.00,2,    3.110,3,    0.277,2,    0.129,2,   2377.5,2,   2366.6,2,   7.3031,2,    25.00,    0.012,2,  -999.00,9,  -999.00,9,   2.9383,2,  27.3532,2,   2.9862,2
49UP20180614_1,   P13,    19,  1,     23,     832,2,20180627,0329,0524, 48.9938, 165.0202, 5573,    839.2,      830,   2.8477,  34.3664,2,     17.5,2,  34.3670,2,    17.48,2,   149.81,2,    44.05,2,     0.00,2,    3.110,3,    0.190,2,    0.085,2,   2381.9,2,   2372.4,2,   7.3083,2,    25.00,    0.040,3,  -999.00,9,  -999.00,9,   2.7929,2,  27.3979,2,   2.8473,2
49UP20180614_1,   P13,    19,  1,     22,     831,2,20180627,0329,0521, 48.9938, 165.0202, 5573,    940.0,      930,   2.6993,  34.4033,2,     16.2,2,  34.4032,2,    16.24,6,   156.25,6,    44.20,6,     0.00,6,    3.140,3,    0.120,2,    0.050,2,   2389.9,2,   2380.2,2,   7.3071,2,    25.00,    0.007,2,  -999.00,9,  -999.00,9,   2.6383,2,  27.4409,2,   2.6993,2
49UP20180614_1,   P13,    19,  1,     21,     830,2,20180627,0329,0515, 48.9938, 165.0202, 5573,   1083.4,     1071,   2.5148,  34.4460,2,     22.1,2,  34.4464,2,    21.79,2,   161.11,2,    43.82,2,     0.00,2,    3.110,3,    0.081,2,    0.040,2,   2392.4,2,   2387.9,2,   7.3268,2,    25.00,    0.006,2,  -999.00,9,  -999.00,9,   2.4447,2,  27.4916,2,   2.5148,2
49UP20180614_1,   P13,    19,  1,     20,     829,2,20180627,0329,0510, 48.9938, 165.0202, 5573,   1284.4,     1270,   2.3077,  34.4938,2,     30.8,2,  34.4943,2,    30.85,2,   166.33,2,    43.42,2,     0.00,2,    3.050,3,    0.045,2,    0.017,2,   2392.4,2,   2397.6,2,   7.3422,2,    25.00,    0.012,2,  -999.00,9,  -999.00,9,   2.2246,2,  27.5481,2,   2.3078,2
49UP20180614_1,   P13,    19,  1,     19,     828,3,20180627,0329,0505, 48.9938, 165.0202, 5573,   1487.2,     1469,   2.1156,  34.5381,2,     43.8,2,  34.5378,2,    43.67,2,   170.27,2,    42.69,2,     0.00,2,    3.000,3,    0.027,6,    0.007,6,   2387.7,2,   2403.7,2,   7.3730,2,    25.00,    0.003,6,  -999.00,9,  -999.00,9,   2.0190,2,  27.6001,2,   2.1153,2
49UP20180614_1,   P13,    19,  1,     18,     827,2,20180627,0329,0501, 48.9938, 165.0202, 5573,   1692.4,     1671,   1.9748,  34.5702,2,     56.3,2,  34.5705,2,    55.96,2,   172.53,2,    41.88,2,     0.00,2,    2.970,3,    0.015,2,    0.003,2,   2384.8,2,   2409.9,2,   7.4049,2,    25.00,    0.000,2,  -999.00,9,  -999.00,9,   1.8639,2,  27.6380,2,   1.9747,2
49UP20180614_1,   P13,    19,  1,     17,     826,2,20180627,0329,0456, 48.9938, 165.0202, 5573,   1895.1,     1871,   1.8523,  34.5966,2,     69.3,2,  34.5969,6,    69.61,2,   173.17,2,    41.05,2,     0.00,2,    2.920,3,    0.008,2,    0.000,2,   2383.5,2,   2412.9,2,   7.4268,2,    25.00,    0.000,2,  -999.00,9,  -999.00,9,   1.7268,2,  27.6696,2,   1.8522,2
49UP20180614_1,   P13,    19,  1,     16,     825,2,20180627,0329,0451, 48.9938, 165.0202, 5573,   2099.9,     2072,   1.7493,  34.6165,2,     82.3,2,  34.6162,2,    82.74,2,   172.20,2,    40.29,2,     0.00,2,    2.850,3,    0.000,2,    0.000,2,   2368.6,2,   2415.7,2,   7.4556,6,    25.00,    0.000,2,  -999.00,9,  -999.00,9,   1.6085,2,  27.6944,2,   1.7492,2
49UP20180614_1,   P13,    19,  1,     15,     824,2,20180627,0329,0446, 48.9938, 165.0202, 5573,   2304.0,     2272,   1.6680,  34.6340,2,     97.2,2,  34.6344,2,    97.69,2,   168.77,2,    39.42,2,     0.00,2,    2.770,3,    0.000,2,    0.000,2,   2365.0,6,   2417.0,6,   7.4832,2,    25.00,    0.000,2,  -999.00,9,  -999.00,9,   1.5112,2,  27.7156,2,   1.6680,2
49UP20180614_1,   P13,    19,  1,     14,     823,2,20180627,0329,0440, 48.9938, 165.0202, 5573,   2508.8,     2473,   1.6096,  34.6454,2,    107.5,2,  34.6457,6,   107.48,2,   166.70,2,    38.76,2,     0.00,2,    2.710,3,    0.000,2,    0.000,2,   2362.6,2,   2417.4,2,   7.5042,2,    25.00,    0.000,2,  -999.00,9,  -999.00,9,   1.4358,2,  27.7302,2,   1.6095,2
49UP20180614_1,   P13,    19,  1,     13,     822,2,20180627,0329,0435, 48.9938, 165.0202, 5573,   2712.9,     2673,   1.5661,  34.6541,2,    116.5,2,  34.6548,2,   116.43,2,   164.27,2,    38.27,2,     0.00,2,    2.680,3,    0.000,2,    0.000,2,   2353.0,2,   2418.9,2,   7.5215,2,    25.00,    0.000,2,  -999.00,9,  -999.00,9,   1.3748,2,  27.7416,2,   1.5659,2
49UP20180614_1,   P13,    19,  1,     12,     821,2,20180627,0329,0430, 48.9938, 165.0202, 5573,   2917.3,     2873,   1.5274,  34.6618,2,    125.0,2,  34.6623,2,   125.53,6,   161.38,6,    37.68,6,     0.00,6,    2.630,3,    0.000,2,    0.000,2,   2349.1,2,   2419.5,2,   7.5356,2,    25.00,    0.000,2,  -999.00,9,  -999.00,9,   1.3179,2,  27.7518,2,   1.5273,2
49UP20180614_1,   P13,    19,  1,     11,     820,2,20180627,0329,0425, 48.9938, 165.0202, 5573,   3131.6,     3082,   1.5046,  34.6672,2,    131.1,2,  34.6670,2,   131.18,2,   159.52,2,    37.30,2,     0.00,2,    2.610,3, -999.000,9, -999.000,9,   2342.9,2,   2418.1,2,   7.5464,2,    25.00, -999.000,9,  -999.00,9,  -999.00,9,   1.2751,2,  27.7591,2,   1.5045,2
49UP20180614_1,   P13,    19,  1,     10,     819,2,20180627,0329,0419, 48.9938, 165.0202, 5573,   3386.2,     3331,   1.4795,  34.6731,2,    137.9,2,  34.6735,2,   138.26,2,   157.60,2,    36.88,2,     0.00,2,    2.580,3, -999.000,9, -999.000,9,   2337.7,2,   2418.7,2,   7.5597,2,    25.00, -999.000,9,  -999.00,9,  -999.00,9,   1.2254,2,  27.7673,2,   1.4792,2
49UP20180614_1,   P13,    19,  1,      9,     818,2,20180627,0329,0413, 48.9938, 165.0202, 5573,   3642.6,     3581,   1.4688,  34.6773,2,    143.0,2,  34.6775,6,   142.72,2,   155.99,2,    36.49,2,     0.00,2,    2.530,3, -999.000,9, -999.000,9,   2333.5,2,   2418.0,2,   7.5650,2,    25.00, -999.000,9,  -999.00,9,  -999.00,9,   1.1888,2,  27.7732,2,   1.4687,2
49UP20180614_1,   P13,    19,  1,      8,     817,2,20180627,0329,0407, 48.9938, 165.0202, 5573,   3897.9,     3830,   1.4625,  34.6808,2,    147.6,2,  34.6806,2,   147.92,2,   154.87,2,    36.30,2,     0.00,2,    2.490,3,   -0.000,2,    0.000,2,   2329.5,2,   2418.5,6,   7.5773,2,    25.00,    0.003,2,  -999.00,9,  -999.00,9,   1.1557,2,  27.7784,2,   1.4624,2
49UP20180614_1,   P13,    19,  1,      7,     816,2,20180627,0329,0402, 48.9938, 165.0202, 5573,   4156.6,     4081,   1.4667,  34.6836,2,    150.9,2,  34.6836,2,   151.13,2,   153.96,2,    36.07,2,     0.00,2,    2.470,3, -999.000,9, -999.000,9,   2329.3,2,   2417.9,2,   7.5831,2,    25.00, -999.000,9,  -999.00,9,  -999.00,9,   1.1316,2,  27.7822,2,   1.4664,2
49UP20180614_1,   P13,    19,  1,      6,     815,2,20180627,0329,0356, 48.9938, 165.0202, 5573,   4413.2,     4331,   1.4753,  34.6859,2,    153.7,2,  34.6863,2,   153.60,2,   153.52,2,    35.86,2,     0.00,2,    2.480,3, -999.000,9, -999.000,9,   2326.8,2,   2418.5,2,   7.5874,2,    25.00, -999.000,9,  -999.00,9,  -999.00,9,   1.1110,2,  27.7855,2,   1.4752,2
49UP20180614_1,   P13,    19,  1,      5,     814,2,20180627,0329,0350, 48.9938, 165.0202, 5573,   4670.0,     4580,   1.4905,  34.6876,2,    155.7,2,  34.6879,2,   155.80,2,   153.14,2,    35.67,2,     0.00,2,    2.460,3, -999.000,9, -999.000,9,   2332.0,3,   2417.2,2,   7.5874,2,    25.00, -999.000,9,  -999.00,9,  -999.00,9,   1.0960,2,  27.7878,2,   1.4904,2
49UP20180614_1,   P13,    19,  1,      4,     813,2,20180627,0329,0345, 48.9938, 165.0202, 5573,   4927.4,     4830,   1.5126,  34.6888,2,    156.8,2,  34.6889,2,   156.75,2,   153.50,2,    35.60,2,     0.00,2,    2.450,3,    0.000,2,    0.000,2,   2332.1,3,   2417.3,2,   7.5931,6,    25.00,    0.006,2,  -999.00,9,  -999.00,9,   1.0867,2,  27.7894,2,   1.5125,2
49UP20180614_1,   P13,    19,  1,      3,     812,2,20180627,0329,0339, 48.9938, 165.0202, 5573,   5184.7,     5079,   1.5414,  34.6893,2,    157.2,2,  34.6894,2,   157.93,2,   153.84,2,    35.59,2,     0.00,2,    2.440,3, -999.000,9, -999.000,9,   2324.5,2,   2416.8,2,   7.5940,2,    25.00, -999.000,9,  -999.00,9,  -999.00,9,   1.0830,2,  27.7902,2,   1.5413,2
49UP20180614_1,   P13,    19,  1,      2,     811,2,20180627,0329,0333, 48.9938, 165.0202, 5573,   5443.2,     5329,   1.5736,  34.6896,2,    157.3,2,  34.6898,2,   157.41,2,   154.48,2,    35.56,2,     0.00,2,    2.440,3, -999.000,9, -999.000,9,   2324.1,6,   2418.7,6,   7.5936,2,    25.00, -999.000,9,  -999.00,9,  -999.00,9,   1.0816,2,  27.7905,2,   1.5736,2
49UP20180614_1,   P13,    19,  1,      1,     810,2,20180627,0329,0329, 48.9938, 165.0202, 5573,   5609.7,     5490,   1.5958,  34.6897,2,    157.2,2,  34.6897,2,   157.51,6,   154.80,6,    35.62,6,     0.00,6,    2.460,3,    0.005,2,    0.000,2,   2322.5,2,   2417.7,2,   7.5924,2,    25.00,   -0.000,2,  -999.00,9,  -999.00,9,   1.0816,2,  27.7905,2,   1.5957,2