BOTTLE,20191018JMAGEMD
EXPOCODE,SECT_ID,STNNBR,CASTNO,SAMPNO,BTLNBR,BTLNBR_FLAG_U,DATE,TIME,BTL_TIME,LATITUDE,LONGITUDE,DEPTH,CTDPRS,CTDDEP,CTDTMP,CTDSAL,CTDSAL_FLAG_W,CTDOXY,CTDOXY_FLAG_W,SALNTY,SALNTY_FLAG_W,OXYGEN,OXYGEN_FLAG_W,SILCAT,SILCAT_FLAG_W,NO2+NO3,NO2+NO3_FLAG_W,NITRIT,NITRIT_FLAG_W,PHSPHT,PHSPHT_FLAG_W,CFC-11,CFC-11_FLAG_W,CFC-12,CFC-12_FLAG_W,TCARBN,TCARBN_FLAG_W,ALKALI,ALKALI_FLAG_W,PH_TS,PH_TS_FLAG_W,PH_TS_TMP,CFC113,CFC113_FLAG_W,CHLORA,CHLORA_FLAG_W,PPHYTN,PPHYTN_FLAG_W,THETA,THETA_FLAG_W,SIGTHT,SIGTHT_FLAG_W,SBE35,SBE35_FLAG_W
,,,,,,,,UTC,,,,METER,DBAR,METERS,ITS-90,PSS-78,,UMOL/KG,,PSS78,,UMOL/KG,,UMOL/KG,,UMOL/KG,,UMOL/KG,,UMOL/KG,,PMOL/KG,,PMOL/KG,,UMOL/KG,,UMOL/KG,,,,ITS-90,PMOL/KG,,UG/KG,,UG/KG,,ITS-90,,KG/M3,,ITS-90,
49UP20180806_1,   P13,    35,  1,      0,      -9,0,20180810,1730,1926, 36.5243, 165.0365, 5531,      0.0,        0,  25.3219,  34.4845,2,    210.2,2,-999.0000,9,   210.28,2,     2.29,3,     0.00,2,     0.00,2,    0.050,3, -999.000,9, -999.000,9,   -999.0,9,   -999.0,9,-999.0000,9,  -999.00, -999.000,9,  -999.00,9,  -999.00,9,  25.3214,2,  22.8538,2,-999.0000,9
49UP20180806_1,   P13,    35,  1,     36,     845,2,20180810,1730,1958, 36.5243, 165.0365, 5531,     11.1,       11,  25.3132,  34.4830,2,    209.6,2,  34.4834,2,   210.85,2,     2.30,3,     0.08,2,     0.00,2,    0.040,3, -999.000,9, -999.000,9,   -999.0,9,   -999.0,9,-999.0000,9,  -999.00, -999.000,9,  -999.00,9,  -999.00,9,  25.3107,2,  22.8559,2,  25.3125,2
49UP20180806_1,   P13,    35,  1,     35,     844,2,20180810,1730,1954, 36.5243, 165.0365, 5531,     54.8,       54,  16.2603,  34.5149,2,    255.4,2,  34.4847,4,   260.02,2,     4.31,3,     0.47,2,     0.03,2,    0.120,3, -999.000,9, -999.000,9,   -999.0,9,   -999.0,9,-999.0000,9,  -999.00, -999.000,9,  -999.00,9,  -999.00,9,  16.2516,2,  25.3168,2,  16.2706,2
49UP20180806_1,   P13,    35,  1,     34,     843,2,20180810,1730,1953, 36.5243, 165.0365, 5531,     76.6,       76,  14.7688,  34.5183,2,    229.7,2,  34.5256,2,   227.18,2,     8.02,3,     6.25,2,     0.24,2,    0.440,3, -999.000,9, -999.000,9,   -999.0,9,   -999.0,9,-999.0000,9,  -999.00, -999.000,9,  -999.00,9,  -999.00,9,  14.7574,2,  25.6534,2,  14.7543,2
49UP20180806_1,   P13,    35,  1,     33,     842,2,20180810,1730,1951, 36.5243, 165.0365, 5531,     99.7,       99,  14.0645,  34.4897,2,    225.4,2,  34.4871,2,   225.17,2,     8.76,3,     7.67,2,     0.02,2,    0.520,3, -999.000,9, -999.000,9,   -999.0,9,   -999.0,9,-999.0000,9,  -999.00, -999.000,9,  -999.00,9,  -999.00,9,  14.0501,2,  25.7822,2,  14.0640,2
49UP20180806_1,   P13,    35,  1,     32,     841,2,20180810,1730,1950, 36.5243, 165.0365, 5531,    126.0,      125,  13.4807,  34.4422,2,    226.4,2,  34.4429,2,   226.01,2,    10.18,3,     8.58,2,     0.02,2,    0.590,3, -999.000,9, -999.000,9,   -999.0,9,   -999.0,9,-999.0000,9,  -999.00, -999.000,9,  -999.00,9,  -999.00,9,  13.4631,2,  25.8671,2,  13.4810,2
49UP20180806_1,   P13,    35,  1,     31,     840,2,20180810,1730,1948, 36.5243, 165.0365, 5531,    152.6,      151,  12.9331,  34.4147,2,    220.2,2,  34.4133,2,   220.11,2,    12.43,3,    10.06,2,     0.02,2,    0.690,3, -999.000,9, -999.000,9,   -999.0,9,   -999.0,9,-999.0000,9,  -999.00, -999.000,9,  -999.00,9,  -999.00,9,  12.9123,2,  25.9569,2,  12.9330,2
49UP20180806_1,   P13,    35,  1,     30,     839,2,20180810,1730,1946, 36.5243, 165.0365, 5531,    201.6,      200,  11.7670,  34.3161,2,    224.6,2,  34.3145,2,   225.10,2,    14.78,3,    11.40,2,     0.01,2,    0.790,3, -999.000,9, -999.000,9,   -999.0,9,   -999.0,9,-999.0000,9,  -999.00, -999.000,9,  -999.00,9,  -999.00,9,  11.7412,2,  26.1068,2,  11.7653,2
49UP20180806_1,   P13,    35,  1,     29,     838,2,20180810,1730,1944, 36.5243, 165.0365, 5531,    253.4,      251,  10.5845,  34.2180,2,    229.6,2,  34.2207,2,   229.80,2,    17.72,3,    13.02,2,     0.01,2,    0.920,3, -999.000,9, -999.000,9,   -999.0,9,   -999.0,9,-999.0000,9,  -999.00, -999.000,9,  -999.00,9,  -999.00,9,  10.5543,2,  26.2457,2,  10.5818,2
49UP20180806_1,   P13,    35,  1,     28,     837,3,20180810,1730,1942, 36.5243, 165.0365, 5531,    303.3,      301,   9.5871,  34.1264,2,    215.3,2,  34.1325,2,   216.11,6,    23.05,3,    15.92,6,     0.01,6,    1.130,3, -999.000,9, -999.000,9,   -999.0,9,   -999.0,9,-999.0000,9,  -999.00, -999.000,9,  -999.00,9,  -999.00,9,   9.5530,2,  26.3445,2,   9.5920,2
49UP20180806_1,   P13,    35,  1,     27,     661,2,20180810,1730,1939, 36.5243, 165.0365, 5531,    406.6,      403,   7.0685,  33.9539,2,    174.4,2,  33.9526,2,   176.43,2,    43.25,3,    24.36,2,     0.00,2,    1.760,3, -999.000,9, -999.000,9,   -999.0,9,   -999.0,9,-999.0000,9,  -999.00, -999.000,9,  -999.00,9,  -999.00,9,   7.0303,2,  26.5906,2,   7.0662,2
49UP20180806_1,   P13,    35,  1,     26,     835,2,20180810,1730,1936, 36.5243, 165.0365, 5531,    509.7,      505,   5.7648,  33.9990,2,    125.6,2,  33.9959,2,   126.75,2,    64.85,3,    31.16,2,     0.00,2,    2.250,3, -999.000,9, -999.000,9,   -999.0,9,   -999.0,9,-999.0000,9,  -999.00, -999.000,9,  -999.00,9,  -999.00,9,   5.7215,2,  26.7963,2,   5.7650,2
49UP20180806_1,   P13,    35,  1,     25,     834,2,20180810,1730,1933, 36.5243, 165.0365, 5531,    606.3,      601,   4.7502,  34.0583,2,     85.4,2,  34.0577,2,    86.13,2,    85.75,3,    36.52,2,     0.00,2,    2.630,3, -999.000,9, -999.000,9,   -999.0,9,   -999.0,9,-999.0000,9,  -999.00, -999.000,9,  -999.00,9,  -999.00,9,   4.7031,2,  26.9621,2,   4.7504,2
49UP20180806_1,   P13,    35,  1,     24,     833,2,20180810,1730,1930, 36.5243, 165.0365, 5531,    710.2,      704,   4.2802,  34.1354,2,     61.9,2,  34.1354,2,    62.17,2,   100.23,3,    39.34,2,     0.00,2,    2.810,3, -999.000,9, -999.000,9,   -999.0,9,   -999.0,9,-999.0000,9,  -999.00, -999.000,9,  -999.00,9,  -999.00,9,   4.2270,2,  27.0747,2,   4.2804,2
49UP20180806_1,   P13,    35,  1,     23,     832,2,20180810,1730,1926, 36.5243, 165.0365, 5531,    815.4,      808,   3.9863,  34.2344,2,     49.1,2,  34.2315,2,    50.68,2,   111.50,3,    40.51,2,     0.00,2,    2.900,3, -999.000,9, -999.000,9,   -999.0,9,   -999.0,9,-999.0000,9,  -999.00, -999.000,9,  -999.00,9,  -999.00,9,   3.9262,2,  27.1847,2,   3.9861,2
49UP20180806_1,   P13,    35,  1,     22,     831,2,20180810,1730,1922, 36.5243, 165.0365, 5531,    918.5,      910,   3.6102,  34.3010,2,     41.9,2,  34.3008,2,    42.56,2,   122.97,3,    41.57,2,     0.00,2,    2.970,3, -999.000,9, -999.000,9,   -999.0,9,   -999.0,9,-999.0000,9,  -999.00, -999.000,9,  -999.00,9,  -999.00,9,   3.5443,2,  27.2758,2,   3.6098,2
49UP20180806_1,   P13,    35,  1,     21,     830,2,20180810,1730,1918, 36.5243, 165.0365, 5531,   1011.4,     1002,   3.3027,  34.3516,2,     38.6,2,  34.3516,2,    38.24,2,   131.94,3,    42.15,2,     0.00,2,    3.010,3, -999.000,9, -999.000,9,   -999.0,9,   -999.0,9,-999.0000,9,  -999.00, -999.000,9,  -999.00,9,  -999.00,9,   3.2319,2,  27.3461,2,   3.3040,2
49UP20180806_1,   P13,    35,  1,     20,     829,2,20180810,1730,1914, 36.5243, 165.0365, 5531,   1207.5,     1195,   2.9057,  34.4199,2,     37.8,2,  34.4198,2,    37.51,2,   143.91,3,    42.63,2,     0.00,2,    3.030,3, -999.000,9, -999.000,9,   -999.0,9,   -999.0,9,-999.0000,9,  -999.00, -999.000,9,  -999.00,9,  -999.00,9,   2.8229,2,  27.4380,2,   2.9058,2
49UP20180806_1,   P13,    35,  1,     19,     828,2,20180810,1730,1910, 36.5243, 165.0365, 5531,   1409.5,     1394,   2.5433,  34.4805,2,     40.0,2,  34.4803,6,    39.75,6,   154.31,3,    42.88,6,     0.00,6,    3.040,3, -999.000,9, -999.000,9,   -999.0,9,   -999.0,9,-999.0000,9,  -999.00, -999.000,9,  -999.00,9,  -999.00,9,   2.4482,2,  27.5188,2,   2.5434,2
49UP20180806_1,   P13,    35,  1,     18,     827,2,20180810,1730,1906, 36.5243, 165.0365, 5531,   1615.6,     1598,   2.3133,  34.5200,2,     44.9,2,  34.5203,2,    44.29,2,   160.55,3,    42.69,2,     0.00,2,    3.020,3, -999.000,9, -999.000,9,   -999.0,9,   -999.0,9,-999.0000,9,  -999.00, -999.000,9,  -999.00,9,  -999.00,9,   2.2043,2,  27.5708,2,   2.3133,2
49UP20180806_1,   P13,    35,  1,     17,     826,2,20180810,1730,1900, 36.5243, 165.0365, 5531,   1827.0,     1806,   2.1189,  34.5627,2,     57.6,2,  34.5612,4,    57.05,2,   163.51,3,    42.10,2,     0.00,2,    2.960,3, -999.000,9, -999.000,9,   -999.0,9,   -999.0,9,-999.0000,9,  -999.00, -999.000,9,  -999.00,9,  -999.00,9,   1.9953,2,  27.6217,2,   2.1190,2
49UP20180806_1,   P13,    35,  1,     16,     825,2,20180810,1730,1854, 36.5243, 165.0365, 5531,   2027.4,     2003,   1.9633,  34.5896,2,     70.7,2,  34.5901,6,    70.39,2,   164.67,3,    41.32,2,     0.00,2,    2.890,3, -999.000,9, -999.000,9,   -999.0,9,   -999.0,9,-999.0000,9,  -999.00, -999.000,9,  -999.00,9,  -999.00,9,   1.8252,2,  27.6565,2,   1.9634,2
49UP20180806_1,   P13,    35,  1,     15,     824,2,20180810,1730,1849, 36.5243, 165.0365, 5531,   2218.6,     2191,   1.8359,  34.6085,2,     81.4,2,  34.6083,2,    81.01,2,   165.47,3,    40.53,2,     0.00,2,    2.840,3, -999.000,9, -999.000,9,   -999.0,9,   -999.0,9,-999.0000,9,  -999.00, -999.000,9,  -999.00,9,  -999.00,9,   1.6836,2,  27.6824,2,   1.8360,2
49UP20180806_1,   P13,    35,  1,     14,     823,2,20180810,1730,1844, 36.5243, 165.0365, 5531,   2439.2,     2407,   1.7114,  34.6300,2,     96.8,2,  34.6300,2,    96.25,2,   166.60,3,    39.54,2,     0.00,2,    2.780,3, -999.000,9, -999.000,9,   -999.0,9,   -999.0,9,-999.0000,9,  -999.00, -999.000,9,  -999.00,9,  -999.00,9,   1.5420,2,  27.7101,2,   1.7114,2
49UP20180806_1,   P13,    35,  1,     13,     822,2,20180810,1730,1839, 36.5243, 165.0365, 5531,   2631.3,     2596,   1.6315,  34.6439,2,    108.5,2,  34.6443,2,   108.09,2,   165.70,3,    38.86,2,     0.00,2,    2.730,3, -999.000,9, -999.000,9,   -999.0,9,   -999.0,9,-999.0000,9,  -999.00, -999.000,9,  -999.00,9,  -999.00,9,   1.4464,2,  27.7283,2,   1.6316,2
49UP20180806_1,   P13,    35,  1,     12,     821,2,20180810,1730,1834, 36.5243, 165.0365, 5531,   2846.8,     2807,   1.5723,  34.6548,2,    119.2,2,  34.6549,2,   119.09,2,   162.00,3,    38.04,2,     0.00,2,    2.670,3, -999.000,9, -999.000,9,   -999.0,9,   -999.0,9,-999.0000,9,  -999.00, -999.000,9,  -999.00,9,  -999.00,9,   1.3685,2,  27.7426,2,   1.5724,2
49UP20180806_1,   P13,    35,  1,     11,     820,2,20180810,1730,1827, 36.5243, 165.0365, 5531,   3032.7,     2989,   1.5357,  34.6618,2,    126.4,2,  34.6605,2,   126.17,2,   158.75,3,    37.72,2,     0.00,2,    2.630,3, -999.000,9, -999.000,9,   -999.0,9,   -999.0,9,-999.0000,9,  -999.00, -999.000,9,  -999.00,9,  -999.00,9,   1.3150,2,  27.7520,2,   1.5357,2
49UP20180806_1,   P13,    35,  1,     10,     819,2,20180810,1730,1821, 36.5243, 165.0365, 5531,   3292.6,     3243,   1.4988,  34.6693,2,    134.4,2,  34.6693,2,   134.29,6,   157.16,3,    37.14,6,     0.00,6,    2.580,3, -999.000,9, -999.000,9,   -999.0,9,   -999.0,9,-999.0000,9,  -999.00, -999.000,9,  -999.00,9,  -999.00,9,   1.2537,2,  27.7623,2,   1.4990,2
49UP20180806_1,   P13,    35,  1,      9,     818,2,20180810,1730,1816, 36.5243, 165.0365, 5531,   3555.1,     3500,   1.4750,  34.6750,2,    141.2,2,  34.6743,2,   140.34,2,   155.26,3,    36.81,2,     0.00,2,    2.550,3, -999.000,9, -999.000,9,   -999.0,9,   -999.0,9,-999.0000,9,  -999.00, -999.000,9,  -999.00,9,  -999.00,9,   1.2039,2,  27.7704,2,   1.4749,2
49UP20180806_1,   P13,    35,  1,      8,     817,2,20180810,1730,1810, 36.5243, 165.0365, 5531,   3812.5,     3751,   1.4646,  34.6793,2,    146.1,2,  34.6797,2,   146.15,2,   153.88,3,    36.44,2,     0.00,2,    2.520,3, -999.000,9, -999.000,9,   -999.0,9,   -999.0,9,-999.0000,9,  -999.00, -999.000,9,  -999.00,9,  -999.00,9,   1.1668,2,  27.7764,2,   1.4645,2
49UP20180806_1,   P13,    35,  1,      7,     816,2,20180810,1730,1805, 36.5243, 165.0365, 5531,   4065.3,     3997,   1.4631,  34.6824,2,    150.0,2,  34.6796,4,   147.48,3,   153.76,3,    36.28,2,     0.00,2,    2.510,3, -999.000,9, -999.000,9,   -999.0,9,   -999.0,9,-999.0000,9,  -999.00, -999.000,9,  -999.00,9,  -999.00,9,   1.1381,2,  27.7808,2,   1.4630,2
49UP20180806_1,   P13,    35,  1,      6,     815,2,20180810,1730,1759, 36.5243, 165.0365, 5531,   4322.1,     4247,   1.4677,  34.6852,2,    153.2,2,  34.6847,2,   153.44,2,   152.75,3,    35.91,2,     0.00,2,    2.500,3, -999.000,9, -999.000,9,   -999.0,9,   -999.0,9,-999.0000,9,  -999.00, -999.000,9,  -999.00,9,  -999.00,9,   1.1140,2,  27.7847,2,   1.4677,2
49UP20180806_1,   P13,    35,  1,      5,     814,2,20180810,1730,1754, 36.5243, 165.0365, 5531,   4583.9,     4502,   1.4820,  34.6870,2,    155.5,2,  34.6852,4,   154.10,3,   152.50,3,    35.78,2,     0.00,2,    2.480,3, -999.000,9, -999.000,9,   -999.0,9,   -999.0,9,-999.0000,9,  -999.00, -999.000,9,  -999.00,9,  -999.00,9,   1.0978,2,  27.7873,2,   1.4818,2
49UP20180806_1,   P13,    35,  1,      4,     813,2,20180810,1730,1748, 36.5243, 165.0365, 5531,   4837.4,     4748,   1.5032,  34.6881,2,    156.7,2,  34.6880,2,   156.71,2,   152.32,3,    35.76,2,     0.00,2,    2.470,3, -999.000,9, -999.000,9,   -999.0,9,   -999.0,9,-999.0000,9,  -999.00, -999.000,9,  -999.00,9,  -999.00,9,   1.0885,2,  27.7888,2,   1.5032,2
49UP20180806_1,   P13,    35,  1,      3,     812,2,20180810,1730,1742, 36.5243, 165.0365, 5531,   5095.6,     4999,   1.5193,  34.6896,2,    159.4,2,  34.6888,2,   158.45,2,   149.96,3,    35.63,2,     0.00,2,    2.460,3, -999.000,9, -999.000,9,   -999.0,9,   -999.0,9,-999.0000,9,  -999.00, -999.000,9,  -999.00,9,  -999.00,9,   1.0727,2,  27.7911,2,   1.5193,2
49UP20180806_1,   P13,    35,  1,      2,     811,2,20180810,1730,1737, 36.5243, 165.0365, 5531,   5354.1,     5249,   1.5250,  34.6918,2,    164.5,2,  34.6919,2,   165.08,2,   144.77,3,    35.16,2,     0.00,2,    2.420,3, -999.000,9, -999.000,9,   -999.0,9,   -999.0,9,-999.0000,9,  -999.00, -999.000,9,  -999.00,9,  -999.00,9,   1.0460,2,  27.7946,2,   1.5248,2
49UP20180806_1,   P13,    35,  1,      1,     810,2,20180810,1730,1730, 36.5243, 165.0365, 5531,   5652.1,     5538,   1.5427,  34.6936,2,    168.3,2,  34.6935,6,   168.61,6,   140.51,3,    34.87,6,     0.00,6,    2.400,3, -999.000,9, -999.000,9,   -999.0,9,   -999.0,9,-999.0000,9,  -999.00, -999.000,9,  -999.00,9,  -999.00,9,   1.0249,2,  27.7975,2,   1.5426,2