BOTTLE,20191018JMAGEMD
EXPOCODE,SECT_ID,STNNBR,CASTNO,SAMPNO,BTLNBR,BTLNBR_FLAG_U,DATE,TIME,BTL_TIME,LATITUDE,LONGITUDE,DEPTH,CTDPRS,CTDDEP,CTDTMP,CTDSAL,CTDSAL_FLAG_W,CTDOXY,CTDOXY_FLAG_W,SALNTY,SALNTY_FLAG_W,OXYGEN,OXYGEN_FLAG_W,SILCAT,SILCAT_FLAG_W,NO2+NO3,NO2+NO3_FLAG_W,NITRIT,NITRIT_FLAG_W,PHSPHT,PHSPHT_FLAG_W,CFC-11,CFC-11_FLAG_W,CFC-12,CFC-12_FLAG_W,TCARBN,TCARBN_FLAG_W,ALKALI,ALKALI_FLAG_W,PH_TS,PH_TS_FLAG_W,PH_TS_TMP,CFC113,CFC113_FLAG_W,CHLORA,CHLORA_FLAG_W,PPHYTN,PPHYTN_FLAG_W,THETA,THETA_FLAG_W,SIGTHT,SIGTHT_FLAG_W,SBE35,SBE35_FLAG_W
,,,,,,,,UTC,,,,METER,DBAR,METERS,ITS-90,PSS-78,,UMOL/KG,,PSS78,,UMOL/KG,,UMOL/KG,,UMOL/KG,,UMOL/KG,,UMOL/KG,,PMOL/KG,,PMOL/KG,,UMOL/KG,,UMOL/KG,,,,ITS-90,PMOL/KG,,UG/KG,,UG/KG,,ITS-90,,KG/M3,,ITS-90,
49UP20180806_1,   P13,    71,  1,      0,      -9,0,20180825,0143,0335,  9.0102, 163.9842, 5192,      0.0,        0,  29.8437,  33.6209,2,    193.9,2,  33.6311,2,   194.95,2,     1.23,3,     0.00,2,     0.00,2,    0.070,3, -999.000,9, -999.000,9,   1888.0,2,   2210.3,2,   8.1198,2,    25.00, -999.000,9,     0.06,2,     0.02,2,  29.8431,2,  20.7459,2,-999.0000,9
49UP20180806_1,   P13,    71,  1,     36,     845,2,20180825,0143,0412,  9.0102, 163.9842, 5192,      9.7,       10,  29.8460,  33.6201,2,    193.8,2,  33.6214,2,   194.66,2,     1.23,3,     0.00,2,     0.00,2,    0.050,3,    1.440,2,    0.830,2,   1887.9,2,   2210.6,2,   8.1204,2,    25.00,    0.130,2,     0.05,2,     0.02,2,  29.8436,2,  20.7452,2,  29.8470,2
49UP20180806_1,   P13,    71,  1,     35,     844,2,20180825,0143,0409,  9.0102, 163.9842, 5192,     51.8,       52,  27.7346,  34.5484,2,    206.0,2,  34.5464,2,   206.67,2,     1.32,3,     0.00,2,     0.00,2,    0.080,3,    1.675,2,    0.936,2,   1957.7,2,   2274.0,2,   8.0891,2,    25.00,    0.138,2,     0.09,2,     0.04,2,  27.7225,2,  22.1453,2,  27.7340,2
49UP20180806_1,   P13,    71,  1,     34,     843,3,20180825,0143,0406,  9.0102, 163.9842, 5192,    101.0,      100,  20.1529,  34.8368,2,    173.6,2,  34.8351,2,   117.89,4,     4.02,3,     2.81,2,     0.13,2,    0.400,3,    2.159,2,    1.201,2,   2069.5,6,   2300.3,6,   7.9194,2,    25.00,    0.077,2,     0.28,2,     0.44,2,  20.1341,2,  24.6018,2,  20.1543,2
49UP20180806_1,   P13,    71,  1,     24,     833,4,20180825,0143,0404,  9.0102, 163.9842, 5192,    128.7,      128,  14.8006,  34.5107,2,    159.6,2,-999.0000,9,  -999.00,9,  -999.00,9,  -999.00,9,  -999.00,9, -999.000,9, -999.000,9, -999.000,9,   -999.0,9,   -999.0,9,-999.0000,9,  -999.00, -999.000,9,  -999.00,9,  -999.00,9,  14.7814,2,  25.6423,2,  14.7989,2
49UP20180806_1,   P13,    71,  1,     33,     842,2,20180825,0143,0402,  9.0102, 163.9842, 5192,    152.3,      151,  12.9346,  34.4641,2,    118.1,2,  34.4618,2,   117.76,2,    18.74,3,    19.29,2,     0.01,2,    1.440,3,    2.196,2,    1.129,2,   2157.2,2,   2280.4,2,   7.6800,6,    25.00,    0.028,2,     0.06,2,     0.12,2,  12.9139,2,  25.9948,2,  12.9344,2
49UP20180806_1,   P13,    71,  1,     32,     841,2,20180825,0143,0400,  9.0102, 163.9842, 5192,    205.6,      204,  11.2535,  34.5191,2,     69.8,2,  34.5155,2,    70.42,6,    27.40,3,    27.34,6,     0.00,6,    2.000,3,    1.518,2,    0.752,2,   2206.0,2,   2291.1,2,   7.5609,2,    25.00,    0.014,2,     0.01,2,     0.03,2,  11.2279,2,  26.3596,2,  11.2484,2
49UP20180806_1,   P13,    71,  1,     31,     840,2,20180825,0143,0358,  9.0102, 163.9842, 5192,    254.1,      253,  10.2098,  34.5808,2,     47.8,2,  34.5786,2,    48.09,2,    33.48,3,    31.82,2,     0.00,2,    2.310,3,    0.968,2,    0.454,2,   2241.1,2,   2298.4,2,   7.5038,2,    25.00,    0.009,2,  -999.00,9,  -999.00,9,  10.1800,2,  26.5937,2,  10.2104,2
49UP20180806_1,   P13,    71,  1,     30,     839,2,20180825,0143,0356,  9.0102, 163.9842, 5192,    284.4,      283,   9.7960,  34.5990,2,     43.8,2,  34.5946,2,    43.82,2,    35.18,3,    33.05,2,     0.00,2,    2.380,3,    0.769,2,    0.359,2,   2246.0,2,   2302.0,2,   7.4861,2,    25.00,    0.000,2,  -999.00,9,  -999.00,9,   9.7635,2,  26.6789,2,   9.7963,2
49UP20180806_1,   P13,    71,  1,     29,     838,2,20180825,0143,0354,  9.0102, 163.9842, 5192,    326.7,      325,   9.5105,  34.6065,2,     47.3,2,  34.6048,2,    46.70,2,    35.93,3,    33.50,2,     0.00,2,    2.390,3, -999.000,9, -999.000,9,   2247.2,2,   2303.2,2,   7.4879,2,    25.00, -999.000,9,  -999.00,9,  -999.00,9,   9.4737,2,  26.7330,2,   9.5082,2
49UP20180806_1,   P13,    71,  1,     28,     837,2,20180825,0143,0351,  9.0102, 163.9842, 5192,    376.9,      374,   9.0715,  34.6052,2,     53.3,2,  34.6030,2,    52.99,2,    37.20,3,    33.84,2,     0.00,2,    2.390,3,    0.563,2,    0.273,2,   2250.8,2,   2306.0,2,   7.4939,2,    25.00,    0.001,2,  -999.00,9,  -999.00,9,   9.0301,2,  26.8042,2,   9.0733,2
49UP20180806_1,   P13,    71,  1,     27,     661,2,20180825,0143,0348,  9.0102, 163.9842, 5192,    429.3,      426,   8.6673,  34.5930,2,     57.7,2,  34.5913,2,    57.21,2,    39.17,3,    34.30,2,     0.00,2,    2.420,3, -999.000,9, -999.000,9,   2253.6,2,   2308.0,2,   7.4925,2,    25.00, -999.000,9,  -999.00,9,  -999.00,9,   8.6214,2,  26.8593,2,   8.6681,2
49UP20180806_1,   P13,    71,  1,     26,     835,2,20180825,0143,0345,  9.0102, 163.9842, 5192,    479.3,      476,   8.2026,  34.5723,2,     61.6,2,  34.5721,2,    61.18,2,    42.42,3,    34.79,2,     0.00,2,    2.460,3,    0.420,2,    0.201,2,   2255.8,2,   2312.8,2,   7.4949,2,    25.00,    0.008,2,  -999.00,9,  -999.00,9,   8.1528,2,  26.9150,2,   8.1965,2
49UP20180806_1,   P13,    71,  1,     25,     834,2,20180825,0143,0342,  9.0102, 163.9842, 5192,    580.1,      576,   7.2544,  34.5430,2,     68.3,2,  34.5421,6,    68.60,2,    50.91,3,    35.92,2,     0.00,2,    2.540,3,    0.296,2,    0.138,2,   2261.6,2,   2319.8,2,   7.4912,2,    25.00,    0.002,2,  -999.00,9,  -999.00,9,   7.1978,2,  27.0312,2,   7.2547,2
49UP20180806_1,   P13,    71,  1,     23,     832,2,20180825,0143,0338,  9.0102, 163.9842, 5192,    680.2,      675,   6.4944,  34.5285,2,     63.8,2,  34.5286,2,    63.97,2,    60.72,3,    37.59,2,     0.00,2,    2.670,3,    0.158,2,    0.068,2,   2272.2,2,   2328.0,2,   7.4715,2,    25.00,    0.003,2,  -999.00,9,  -999.00,9,   6.4316,2,  27.1242,2,   6.4932,2
49UP20180806_1,   P13,    71,  1,     22,     831,2,20180825,0143,0334,  9.0102, 163.9842, 5192,    780.9,      775,   5.7640,  34.5290,2,     65.4,2,  34.5285,2,    65.45,6,    71.30,3,    38.74,6,     0.00,6,    2.750,3,    0.082,2,    0.031,2,   2285.0,2,   2339.5,2,   7.4643,2,    25.00,    0.000,2,  -999.00,9,  -999.00,9,   5.6956,2,  27.2186,2,   5.7641,2
49UP20180806_1,   P13,    71,  1,     21,     830,2,20180825,0143,0331,  9.0102, 163.9842, 5192,    877.4,      871,   5.2262,  34.5340,2,     66.0,2,  34.5336,2,    66.38,2,    80.84,3,    39.52,2,     0.00,2,    2.810,3,    0.041,2,    0.017,2,   2300.1,2,   2349.8,2,   7.4632,2,    25.00,    0.000,2,  -999.00,9,  -999.00,9,   5.1523,2,  27.2881,2,   5.2247,2
49UP20180806_1,   P13,    71,  1,     20,     829,2,20180825,0143,0326,  9.0102, 163.9842, 5192,    981.5,      974,   4.6165,  34.5501,2,     74.0,2,  34.5499,2,    74.24,2,    91.14,3,    39.59,2,     0.00,2,    2.810,3,    0.018,2,    0.007,2,   2308.9,2,   2360.5,2,   7.4730,2,    25.00,    0.001,2,  -999.00,9,  -999.00,9,   4.5376,2,  27.3708,2,   4.6190,2
49UP20180806_1,   P13,    71,  1,     19,     828,2,20180825,0143,0321,  9.0102, 163.9842, 5192,   1142.4,     1133,   3.8571,  34.5682,2,     81.6,2,  34.5689,2,    81.82,2,   107.40,3,    39.67,2,     0.00,2,    2.820,3,    0.010,2,    0.002,2,   2319.6,2,   2377.4,2,   7.4805,2,    25.00,    0.004,2,  -999.00,9,  -999.00,9,   3.7706,2,  27.4662,2,   3.8570,2
49UP20180806_1,   P13,    71,  1,     18,     660,2,20180825,0143,0316,  9.0102, 163.9842, 5192,   1343.8,     1332,   3.3226,  34.5862,2,     86.7,2,  34.5872,2,    86.93,2,   118.39,3,    39.84,2,     0.00,2,    2.820,3,    0.000,2,    0.001,2,   2338.6,6,   2389.5,6,   7.4885,2,    25.00,    0.003,2,  -999.00,9,  -999.00,9,   3.2243,2,  27.5339,2,   3.3226,2
49UP20180806_1,   P13,    71,  1,     17,     826,2,20180825,0143,0310,  9.0102, 163.9842, 5192,   1544.6,     1530,   2.9124,  34.6009,2,     90.7,2,  34.6012,2,    91.61,2,   126.36,3,    39.88,2,     0.00,2,    2.800,3,    0.000,2,    0.002,2,   2339.8,2,   2399.0,2,   7.4933,6,    25.00,    0.000,2,  -999.00,9,  -999.00,9,   2.8018,2,  27.5844,2,   2.9124,2
49UP20180806_1,   P13,    71,  1,     16,     825,2,20180825,0143,0305,  9.0102, 163.9842, 5192,   1749.1,     1732,   2.5344,  34.6165,2,     98.0,2,  34.6175,2,    98.14,2,   134.85,3,    39.40,2,     0.00,2,    2.760,3,    0.000,2,    0.000,2,   2352.7,2,   2409.4,2,   7.5045,2,    25.00,    0.000,2,  -999.00,9,  -999.00,9,   2.4114,2,  27.6308,2,   2.5344,2
49UP20180806_1,   P13,    71,  1,     15,     824,2,20180825,0143,0259,  9.0102, 163.9842, 5192,   1953.0,     1933,   2.2949,  34.6281,2,    102.9,2,  34.6284,2,   103.18,2,   139.78,3,    39.16,2,     0.00,2,    2.740,3,    0.000,2,    0.000,2,   2352.4,2,   2413.3,2,   7.5117,2,    25.00,    0.006,2,  -999.00,9,  -999.00,9,   2.1580,2,  27.6610,2,   2.2949,2
49UP20180806_1,   P13,    71,  1,     14,     823,2,20180825,0143,0252,  9.0102, 163.9842, 5192,   2156.9,     2134,   2.0748,  34.6416,2,    110.4,2,  34.6426,2,   110.58,2,   144.55,3,    38.97,2,     0.00,2,    2.700,3,    0.000,2,   -0.000,2,   2348.6,2,   2420.6,2,   7.5226,2,    25.00,    0.001,2,  -999.00,9,  -999.00,9,   1.9238,2,  27.6905,2,   2.0748,2
49UP20180806_1,   P13,    71,  1,     13,     822,2,20180825,0143,0248,  9.0102, 163.9842, 5192,   2356.4,     2330,   1.9445,  34.6502,2,    116.0,2,  34.6513,2,   116.18,6,   146.41,3,    38.53,6,     0.00,6,    2.670,3,    0.000,2,   -0.000,2,   2351.2,2,   2420.9,2,   7.5334,2,    25.00,    0.000,2,  -999.00,9,  -999.00,9,   1.7781,2,  27.7087,2,   1.9445,2
49UP20180806_1,   P13,    71,  1,     12,     821,2,20180825,0143,0244,  9.0102, 163.9842, 5192,   2559.4,     2530,   1.8345,  34.6573,2,    120.6,2,  34.6576,2,   120.85,2,   148.34,3,    38.36,2,     0.00,2,    2.650,3,    0.000,4,    0.000,4,   2340.4,2,   2424.3,2,   7.5415,2,    25.00,    0.002,4,  -999.00,9,  -999.00,9,   1.6519,2,  27.7240,2,   1.8346,2
49UP20180806_1,   P13,    71,  1,     11,     820,2,20180825,0143,0239,  9.0102, 163.9842, 5192,   2764.3,     2731,   1.7605,  34.6625,2,    125.4,2,  34.6625,2,   125.40,2,   148.86,3,    37.87,2,     0.00,2,    2.620,3,    0.000,2,    0.000,2,   2343.7,2,   2424.7,2,   7.5500,2,    25.00,    0.005,2,  -999.00,9,  -999.00,9,   1.5604,2,  27.7349,2,   1.7604,2
49UP20180806_1,   P13,    71,  1,     10,     819,2,20180825,0143,0235,  9.0102, 163.9842, 5192,   2964.2,     2927,   1.6798,  34.6676,2,    130.9,2,  34.6665,6,   131.01,2,   148.58,3,    37.46,2,     0.00,2,    2.590,3, -999.000,9, -999.000,9,   2347.0,2,   2424.8,2,   7.5551,2,    25.00, -999.000,9,  -999.00,9,  -999.00,9,   1.4625,2,  27.7461,2,   1.6797,2
49UP20180806_1,   P13,    71,  1,      9,     818,2,20180825,0143,0229,  9.0102, 163.9842, 5192,   3213.8,     3172,   1.5792,  34.6741,2,    139.1,2,  34.6748,2,   138.82,2,   148.55,3,    37.00,2,     0.00,2,    2.550,3, -999.000,9, -999.000,9,   2339.0,2,   2423.4,2,   7.5654,2,    25.00, -999.000,9,  -999.00,9,  -999.00,9,   1.3399,2,  27.7601,2,   1.5791,2
49UP20180806_1,   P13,    71,  1,      8,     817,2,20180825,0143,0223,  9.0102, 163.9842, 5192,   3467.8,     3420,   1.5079,  34.6801,2,    147.9,2,  34.6803,2,   148.50,2,   147.44,3,    36.33,2,     0.00,2,    2.500,3,    0.000,2,    0.000,2,   2324.7,2,   2420.0,2,   7.5783,2,    25.00,    0.005,2,  -999.00,9,  -999.00,9,   1.2448,2,  27.7716,2,   1.5078,2
49UP20180806_1,   P13,    71,  1,      7,     816,2,20180825,0143,0218,  9.0102, 163.9842, 5192,   3724.7,     3671,   1.4535,  34.6852,2,    156.1,2,  34.6850,2,   156.32,2,   145.24,3,    35.74,2,     0.00,2,    2.480,3,    0.000,2,    0.000,2,   2320.6,6,   2416.2,6,   7.5872,2,    25.00,    0.000,2,  -999.00,9,  -999.00,9,   1.1653,2,  27.7812,2,   1.4534,2
49UP20180806_1,   P13,    71,  1,      6,     815,2,20180825,0143,0212,  9.0102, 163.9842, 5192,   3978.9,     3920,   1.4185,  34.6895,2,    163.7,2,  34.6893,2,   164.16,2,   141.74,3,    35.25,2,     0.00,2,    2.440,3,    0.001,2,   -0.000,2,   2313.8,2,   2411.3,2,   7.5986,6,    25.00,    0.004,2,  -999.00,9,  -999.00,9,   1.1042,2,  27.7889,2,   1.4185,2
49UP20180806_1,   P13,    71,  1,      5,     814,2,20180825,0143,0206,  9.0102, 163.9842, 5192,   4237.1,     4172,   1.3954,  34.6934,2,    170.6,2,  34.6936,2,   171.04,2,   137.53,3,    34.79,2,     0.00,2,    2.400,3,    0.003,2,    0.000,2,   2308.3,2,   2408.1,2,   7.6047,2,    25.00,    0.007,2,  -999.00,9,  -999.00,9,   1.0534,2,  27.7954,2,   1.3955,2
49UP20180806_1,   P13,    71,  1,      4,     813,2,20180825,0143,0201,  9.0102, 163.9842, 5192,   4490.4,     4419,   1.3936,  34.6955,2,    174.4,2,  34.6956,2,   174.99,6,   134.00,3,    34.47,6,     0.00,6,    2.370,3,    0.003,2,    0.000,2,   2301.9,2,   2405.5,2,   7.6095,2,    25.00,    0.003,2,  -999.00,9,  -999.00,9,   1.0230,2,  27.7992,2,   1.3936,2
49UP20180806_1,   P13,    71,  1,      3,     812,2,20180825,0143,0155,  9.0102, 163.9842, 5192,   4749.8,     4671,   1.4000,  34.6971,2,    177.5,2,  34.6972,6,   178.12,2,   130.93,3,    34.26,2,     0.00,2,    2.340,3,    0.005,2,    0.000,2,   2295.5,2,   2402.9,2,   7.6093,2,    25.00,    0.000,2,  -999.00,9,  -999.00,9,   0.9990,2,  27.8020,2,   1.3998,2
49UP20180806_1,   P13,    71,  1,      2,     811,2,20180825,0143,0149,  9.0102, 163.9842, 5192,   5004.3,     4919,   1.4053,  34.6988,2,    180.5,2,  34.6987,2,   181.02,2,   129.12,3,    34.07,2,     0.00,2,    2.320,3,    0.011,2,    0.002,2,   2292.5,2,   2399.5,2,   7.6129,2,    25.00,    0.000,3,  -999.00,9,  -999.00,9,   0.9736,2,  27.8051,2,   1.4052,2
49UP20180806_1,   P13,    71,  1,      1,     810,2,20180825,0143,0143,  9.0102, 163.9842, 5192,   5286.7,     5193,   1.4204,  34.7001,2,    183.2,2,  34.6999,6,   182.87,2,   128.11,3,    33.99,2,     0.00,2,    2.310,3,    0.017,2,    0.002,2,   2288.9,2,   2396.0,2,   7.6156,2,    25.00,    0.003,2,  -999.00,9,  -999.00,9,   0.9535,2,  27.8075,2,   1.4204,2