BOTTLE,20191018JMAGEMD
EXPOCODE,SECT_ID,STNNBR,CASTNO,SAMPNO,BTLNBR,BTLNBR_FLAG_U,DATE,TIME,BTL_TIME,LATITUDE,LONGITUDE,DEPTH,CTDPRS,CTDDEP,CTDTMP,CTDSAL,CTDSAL_FLAG_W,CTDOXY,CTDOXY_FLAG_W,SALNTY,SALNTY_FLAG_W,OXYGEN,OXYGEN_FLAG_W,SILCAT,SILCAT_FLAG_W,NO2+NO3,NO2+NO3_FLAG_W,NITRIT,NITRIT_FLAG_W,PHSPHT,PHSPHT_FLAG_W,CFC-11,CFC-11_FLAG_W,CFC-12,CFC-12_FLAG_W,TCARBN,TCARBN_FLAG_W,ALKALI,ALKALI_FLAG_W,PH_TS,PH_TS_FLAG_W,PH_TS_TMP,CFC113,CFC113_FLAG_W,CHLORA,CHLORA_FLAG_W,PPHYTN,PPHYTN_FLAG_W,THETA,THETA_FLAG_W,SIGTHT,SIGTHT_FLAG_W,SBE35,SBE35_FLAG_W
,,,,,,,,UTC,,,,METER,DBAR,METERS,ITS-90,PSS-78,,UMOL/KG,,PSS78,,UMOL/KG,,UMOL/KG,,UMOL/KG,,UMOL/KG,,UMOL/KG,,PMOL/KG,,PMOL/KG,,UMOL/KG,,UMOL/KG,,,,ITS-90,PMOL/KG,,UG/KG,,UG/KG,,ITS-90,,KG/M3,,ITS-90,
49UP20180806_2,   P13,    99,  1,      0,      -9,0,20180912,1912,2040, -5.7362, 163.9727, 3432,      0.0,        0,  29.9267,  35.0295,2,    194.8,2,  35.0360,2,   193.50,2,     1.13,3,     0.00,2,     0.00,2,    0.180,3, -999.000,9, -999.000,9,   1961.6,2,   2305.9,2,   8.1267,2,    25.00, -999.000,9,     0.06,2,     0.03,2,  29.9262,2,  21.7735,2,-999.0000,9
49UP20180806_2,   P13,    99,  1,     36,     845,2,20180912,1912,2104, -5.7362, 163.9727, 3432,     11.2,       11,  29.9272,  35.0291,2,    194.8,2,  35.0306,2,   193.45,6,     1.13,3,     0.02,6,     0.00,6,    0.150,3,    1.421,2,    0.814,2,   1959.3,2,   2307.3,2,   8.1256,2,    25.00,    0.127,2,     0.06,2,     0.03,2,  29.9245,2,  21.7737,2,  29.9344,2
49UP20180806_2,   P13,    99,  1,     35,     844,2,20180912,1912,2102, -5.7362, 163.9727, 3432,     26.3,       26,  29.9244,  35.0301,2,    194.8,2,  35.0306,2,   193.75,2,     1.14,3,     0.07,2,     0.00,2,    0.170,3, -999.000,9, -999.000,9,   1962.5,2,   2305.3,2,   8.1247,2,    25.00, -999.000,9,  -999.00,9,  -999.00,9,  29.9179,2,  21.7768,2,  29.9262,2
49UP20180806_2,   P13,    99,  1,     34,     843,2,20180912,1912,2102, -5.7362, 163.9727, 3432,     27.4,       27,  29.9280,  35.0305,2,    194.7,2,  35.0299,2,   194.19,2,     1.14,3,     0.05,2,     0.00,2,    0.150,3, -999.000,9, -999.000,9,   1966.8,2,   2306.2,2,   8.1243,2,    25.00, -999.000,9,     0.06,2,     0.03,2,  29.9212,2,  21.7760,2,  29.9290,2
49UP20180806_2,   P13,    99,  1,     33,     842,2,20180912,1912,2059, -5.7362, 163.9727, 3432,     51.6,       51,  29.9557,  35.1108,2,    196.1,2,  35.0913,4,   194.93,2,     1.19,3,     0.05,2,     0.00,2,    0.160,3,    1.437,2,    0.817,2,   1973.4,2,   2310.9,2,   8.1207,2,    25.00,    0.137,2,     0.07,2,     0.03,2,  29.9429,2,  21.8287,2,  29.9559,2
49UP20180806_2,   P13,    99,  1,     32,     841,2,20180912,1912,2057, -5.7362, 163.9727, 3432,     76.7,       76,  29.7311,  35.5063,2,    199.4,2,  35.5052,2,   198.38,2,     1.32,3,     0.04,2,     0.00,2,    0.210,3, -999.000,9, -999.000,9,   1998.4,2,   2338.5,2,   8.1056,2,    25.00, -999.000,9,     0.12,2,     0.07,2,  29.7121,2,  22.2040,2,  29.7312,2
49UP20180806_2,   P13,    99,  1,     31,     840,2,20180912,1912,2056, -5.7362, 163.9727, 3432,    101.7,      101,  29.2510,  35.5816,2,    189.5,2,  35.5823,2,   189.18,2,     1.51,3,     1.14,2,     0.31,2,    0.320,3,    1.480,6,    0.840,6,   2022.0,2,   2343.5,2,   8.0767,2,    25.00,    0.132,6,     0.21,2,     0.21,2,  29.2262,2,  22.4249,2,  29.2510,2
49UP20180806_2,   P13,    99,  1,     30,     839,2,20180912,1912,2054, -5.7362, 163.9727, 3432,    126.4,      126,  28.8068,  35.6859,2,    179.3,2,  35.6756,2,   179.62,2,     1.64,3,     3.06,2,     1.52,2,    0.420,3, -999.000,9, -999.000,9,   2033.4,2,   2349.2,2,   8.0554,6,    25.00, -999.000,9,     0.15,2,     0.31,2,  28.7763,2,  22.6539,2,  28.8100,2
49UP20180806_2,   P13,    99,  1,     29,     838,2,20180912,1912,2053, -5.7362, 163.9727, 3432,    153.3,      152,  28.2624,  35.7287,2,    172.0,2,  35.7330,2,   173.90,2,     1.69,3,     4.30,2,     1.93,2,    0.490,3,    1.504,2,    0.867,2,   2050.4,2,   2352.1,6,   8.0400,2,    25.00,    0.117,2,     0.10,2,     0.21,2,  28.2259,2,  22.8685,2,  28.2613,2
49UP20180806_2,   P13,    99,  1,     28,     837,2,20180912,1912,2051, -5.7362, 163.9727, 3432,    204.4,      203,  20.3312,  35.7884,2,    133.7,2,  35.8021,2,   134.18,2,     3.23,3,    10.09,2,     0.01,2,    0.930,3,    1.988,2,    1.110,2,   2144.3,2,   2360.8,2,   7.8767,2,    25.00,    0.039,2,     0.01,2,     0.03,2,  20.2928,2,  25.2854,2,  20.3408,2
49UP20180806_2,   P13,    99,  1,     27,     661,2,20180912,1912,2049, -5.7362, 163.9727, 3432,    254.3,      253,  14.2384,  35.1037,2,     95.2,2,  35.1163,2,    95.02,6,    11.76,3,    20.66,6,     0.01,6,    1.620,3,    1.729,2,    0.886,2,   2191.9,2,   2321.8,2,   7.6995,2,    25.00,    0.013,2,  -999.00,9,  -999.00,9,  14.2011,2,  26.2247,2,  14.2549,2
49UP20180806_2,   P13,    99,  1,     26,     835,2,20180912,1912,2047, -5.7362, 163.9727, 3432,    284.3,      283,  12.4422,  34.9378,2,     97.6,2,  34.9390,2,    97.23,2,    15.63,3,    23.85,2,     0.00,2,    1.760,3,    1.541,2,    0.762,2,   2199.2,2,   2313.5,2,   7.6589,2,    25.00,    0.015,2,  -999.00,9,  -999.00,9,  12.4041,2,  26.4627,2,  12.4434,2
49UP20180806_2,   P13,    99,  1,     25,     834,2,20180912,1912,2045, -5.7362, 163.9727, 3432,    325.8,      324,  11.0114,  34.8157,2,    110.6,2,  34.8201,2,   109.77,2,    18.22,3,    25.18,2,     0.00,2,    1.810,3, -999.000,9, -999.000,9,   2198.3,2,   2308.1,2,   7.6472,2,    25.00, -999.000,9,  -999.00,9,  -999.00,9,  10.9711,2,  26.6372,2,  11.0130,2
49UP20180806_2,   P13,    99,  1,     23,     832,3,20180912,1912,2042, -5.7362, 163.9727, 3432,    380.0,      378,   9.8839,  34.7243,2,    113.3,2,  34.7292,2,   116.83,2,    21.22,3,    26.71,2,     0.00,2,    1.880,3,    1.317,2,    0.627,2,   2202.8,2,   2307.6,2,   7.6383,2,    25.00,    0.012,2,  -999.00,9,  -999.00,9,   9.8399,2,  26.7639,2,   9.8892,2
49UP20180806_2,   P13,    99,  1,     22,     831,2,20180912,1912,2040, -5.7362, 163.9727, 3432,    425.4,      423,   9.2901,  34.6791,2,    121.5,2,  34.6807,6,   119.24,2,    23.24,3,    27.89,2,     0.00,2,    1.950,3, -999.000,9, -999.000,9,   2203.1,2,   2305.2,2,   7.6254,2,    25.00, -999.000,9,  -999.00,9,  -999.00,9,   9.2425,2,  26.8277,2,   9.2906,2
49UP20180806_2,   P13,    99,  1,     21,     830,2,20180912,1912,2037, -5.7362, 163.9727, 3432,    475.7,      473,   8.6864,  34.6374,2,    118.5,2,  34.6385,2,   118.31,2,    25.54,3,    29.34,2,     0.00,2,    2.030,3,    1.082,2,    0.495,2,   2209.9,2,   2308.0,2,   7.6070,2,    25.00,    0.016,2,  -999.00,9,  -999.00,9,   8.6353,2,  26.8919,2,   8.6868,2
49UP20180806_2,   P13,    99,  1,     20,     829,2,20180912,1912,2034, -5.7362, 163.9727, 3432,    577.6,      574,   7.3469,  34.5605,2,    126.7,2,  34.5610,2,   125.78,2,    32.45,3,    31.39,2,     0.00,2,    2.170,3,    0.789,2,    0.353,2,   2219.5,2,   2306.9,2,   7.5919,2,    25.00,    0.007,2,  -999.00,9,  -999.00,9,   7.2902,2,  27.0319,2,   7.3476,2
49UP20180806_2,   P13,    99,  1,     19,     828,2,20180912,1912,2031, -5.7362, 163.9727, 3432,    679.0,      674,   6.2371,  34.5249,2,    117.8,2,  34.5262,2,   117.87,2,    44.51,3,    34.30,2,     0.00,2,    2.380,3,    0.419,2,    0.188,2,   2238.8,2,   2318.5,2,   7.5590,2,    25.00,    0.009,2,  -999.00,9,  -999.00,9,   6.1757,2,  27.1548,2,   6.2374,2
49UP20180806_2,   P13,    99,  1,     18,     660,2,20180912,1912,2027, -5.7362, 163.9727, 3432,    777.4,      772,   5.5502,  34.5120,2,    128.4,2,  34.5115,2,   129.15,2,    51.49,3,    34.31,2,     0.00,2,    2.390,3,    0.304,6,    0.132,6,   2242.8,2,   2326.4,2,   7.5693,2,    25.00,    0.005,6,  -999.00,9,  -999.00,9,   5.4834,2,  27.2311,2,   5.5504,2
49UP20180806_2,   P13,    99,  1,     17,     826,2,20180912,1912,2022, -5.7362, 163.9727, 3432,    878.0,      871,   5.0304,  34.5213,2,    120.1,2,  34.5235,2,   120.59,2,    62.22,3,    35.79,2,     0.00,2,    2.500,3,    0.165,2,    0.072,2,   2261.1,2,   2336.2,2,   7.5522,2,    25.00,    0.008,2,  -999.00,9,  -999.00,9,   4.9577,2,  27.3006,2,   5.0305,2
49UP20180806_2,   P13,    99,  1,     16,     825,2,20180912,1912,2019, -5.7362, 163.9727, 3432,    984.5,      977,   4.5790,  34.5306,2,    118.9,2,  34.5305,2,   118.50,2,    73.01,3,    36.41,2,     0.00,2,    2.570,3,    0.090,2,    0.038,2,   2272.0,2,   2345.4,2,   7.5448,2,    25.00,    0.008,2,  -999.00,9,  -999.00,9,   4.5002,2,  27.3594,2,   4.5800,2
49UP20180806_2,   P13,    99,  1,     15,     824,2,20180912,1912,2014, -5.7362, 163.9727, 3432,   1144.0,     1135,   3.8546,  34.5553,2,    113.5,2,  34.5543,6,   113.54,2,    90.80,3,    37.57,2,     0.00,2,    2.670,3,    0.025,2,    0.007,2,   2290.5,2,   2364.0,2,   7.5326,2,    25.00,    0.000,2,  -999.00,9,  -999.00,9,   3.7680,2,  27.4562,2,   3.8546,2
49UP20180806_2,   P13,    99,  1,     14,     823,2,20180912,1912,2009, -5.7362, 163.9727, 3432,   1344.3,     1333,   3.2088,  34.5837,2,    113.6,2,  34.5832,2,   113.68,2,   107.07,3,    38.07,2,     0.00,2,    2.710,3,    0.003,2,    0.001,2,   2310.8,2,   2381.1,2,   7.5309,6,    25.00,    0.000,2,  -999.00,9,  -999.00,9,   3.1116,2,  27.5424,2,   3.2085,2
49UP20180806_2,   P13,    99,  1,     13,     822,2,20180912,1912,1959, -5.7362, 163.9727, 3432,   1548.6,     1534,   2.8399,  34.6008,2,    119.9,2,  34.6011,2,   119.80,6,   114.23,3,    37.75,6,     0.00,6,    2.660,3,    0.000,2,    0.000,2,   2315.9,6,   2390.0,6,   7.5427,2,    25.00,    0.004,2,  -999.00,9,  -999.00,9,   2.7298,2,  27.5907,2,   2.8394,2
49UP20180806_2,   P13,    99,  1,     11,     820,2,20180912,1912,1954, -5.7362, 163.9727, 3432,   1748.8,     1732,   2.5577,  34.6163,2,    123.0,2,  34.6177,2,   123.03,2,   119.93,3,    37.67,2,     0.00,2,    2.630,3, -999.000,9, -999.000,9,   2321.7,2,   2398.8,2,   7.5448,2,    25.00, -999.000,9,  -999.00,9,  -999.00,9,   2.4344,2,  27.6287,2,   2.5572,2
49UP20180806_2,   P13,    99,  1,     12,     821,2,20180912,1912,1954, -5.7362, 163.9727, 3432,   1749.4,     1732,   2.5555,  34.6166,2,    123.0,2,  34.6179,2,   123.50,2,   120.03,3,    37.67,2,     0.00,2,    2.630,3,    0.002,2,    0.001,2,   2320.3,2,   2399.1,2,   7.5460,2,    25.00,    0.005,2,  -999.00,9,  -999.00,9,   2.4322,2,  27.6291,2,   2.5557,2
49UP20180806_2,   P13,    99,  1,     10,     819,2,20180912,1912,1949, -5.7362, 163.9727, 3432,   1947.9,     1928,   2.3245,  34.6316,2,    120.4,2,  34.6328,6,   120.40,2,   129.62,3,    37.97,2,     0.00,2,    2.650,3,    0.011,2,    0.002,2,   2329.9,2,   2408.0,2,   7.5439,2,    25.00,    0.000,2,  -999.00,9,  -999.00,9,   2.1876,2,  27.6614,2,   2.3244,2
49UP20180806_2,   P13,    99,  1,      8,     817,2,20180912,1912,1944, -5.7362, 163.9727, 3432,   2151.9,     2129,   2.1255,  34.6421,2,    129.6,2,  34.6430,2,   129.85,2,   131.15,3,    37.20,2,     0.00,2,    2.600,3,    0.002,2,    0.000,2,   2329.8,2,   2408.7,2,   7.5611,2,    25.00,    0.000,2,  -999.00,9,  -999.00,9,   1.9741,2,  27.6870,2,   2.1255,2
49UP20180806_2,   P13,    99,  1,      9,     818,2,20180912,1912,1944, -5.7362, 163.9727, 3432,   2152.5,     2130,   2.1255,  34.6422,2,    129.5,2,  34.6439,2,   129.46,2,   131.35,3,    37.35,2,     0.00,2,    2.600,3, -999.000,9, -999.000,9,   2327.9,2,   2408.8,2,   7.5543,3,    25.00, -999.000,9,  -999.00,9,  -999.00,9,   1.9740,2,  27.6871,2,   2.1256,2
49UP20180806_2,   P13,    99,  1,      7,     816,2,20180912,1912,1939, -5.7362, 163.9727, 3432,   2359.7,     2333,   1.9536,  34.6526,2,    129.2,2,  34.6530,2,   128.94,2,   137.18,3,    37.41,2,     0.00,2,    2.610,3,    0.012,2,    0.004,2,   2339.1,2,   2414.9,2,   7.5581,2,    25.00,    0.001,2,  -999.00,9,  -999.00,9,   1.7868,2,  27.7099,2,   1.9535,2
49UP20180806_2,   P13,    99,  1,      6,     815,2,20180912,1912,1934, -5.7362, 163.9727, 3432,   2559.4,     2530,   1.8517,  34.6584,2,    132.1,2,  34.6586,2,   132.02,2,   140.54,3,    37.34,2,     0.00,2,    2.600,3,    0.002,2,    0.002,2,   2340.9,2,   2418.4,2,   7.5621,2,    25.00,   -0.000,2,  -999.00,9,  -999.00,9,   1.6688,2,  27.7235,2,   1.8515,2
49UP20180806_2,   P13,    99,  1,      5,     814,2,20180912,1912,1929, -5.7362, 163.9727, 3432,   2762.7,     2729,   1.7673,  34.6637,2,    134.4,2,  34.6637,2,   134.31,6,   142.94,3,    37.17,6,     0.00,6,    2.590,3,    0.003,2,    0.000,2,   2344.1,2,   2421.8,2,   7.5651,2,    25.00,   -0.000,2,  -999.00,9,  -999.00,9,   1.5672,2,  27.7353,2,   1.7672,2
49UP20180806_2,   P13,    99,  1,      3,     812,2,20180912,1912,1924, -5.7362, 163.9727, 3432,   2965.9,     2929,   1.7171,  34.6671,2,    136.6,2,  34.6677,2,   136.61,2,   144.12,3,    37.08,2,     0.00,2,    2.570,3,    0.000,2,    0.000,2,   2338.9,2,   2422.6,2,   7.5668,2,    25.00,    0.002,2,  -999.00,9,  -999.00,9,   1.4989,2,  27.7431,2,   1.7170,2
49UP20180806_2,   P13,    99,  1,      4,     813,2,20180912,1912,1924, -5.7362, 163.9727, 3432,   2966.1,     2929,   1.7171,  34.6671,2,    136.6,2,  34.6673,2,   136.66,2,   144.34,3,    37.07,2,     0.00,2,    2.570,3, -999.000,9, -999.000,9,   2337.4,2,   2420.7,2,   7.5685,2,    25.00, -999.000,9,  -999.00,9,  -999.00,9,   1.4989,2,  27.7431,2,   1.7170,2
49UP20180806_2,   P13,    99,  1,      2,     811,2,20180912,1912,1918, -5.7362, 163.9727, 3432,   3214.8,     3173,   1.6722,  34.6711,2,    140.8,2,  34.6716,2,   140.98,2,   143.75,3,    36.76,2,     0.00,2,    2.550,3,    0.000,2,    0.000,2,   2335.6,2,   2421.4,2,   7.5733,6,    25.00,    0.000,2,  -999.00,9,  -999.00,9,   1.4307,2,  27.7513,2,   1.6720,2
49UP20180806_2,   P13,    99,  1,      1,     810,2,20180912,1912,1912, -5.7362, 163.9727, 3432,   3461.5,     3414,   1.5187,  34.6822,2,    154.4,2,  34.6840,4,   154.03,2,   140.24,3,    35.86,2,     0.00,2,    2.470,3,    0.003,2,   -0.000,2,   2329.8,6,   2417.4,6,   7.5950,2,    25.00,    0.000,2,  -999.00,9,  -999.00,9,   1.2560,2,  27.7725,2,   1.5188,2