BOTTLE,20191018JMAGEMD
EXPOCODE,SECT_ID,STNNBR,CASTNO,SAMPNO,BTLNBR,BTLNBR_FLAG_U,DATE,TIME,BTL_TIME,LATITUDE,LONGITUDE,DEPTH,CTDPRS,CTDDEP,CTDTMP,CTDSAL,CTDSAL_FLAG_W,CTDOXY,CTDOXY_FLAG_W,SALNTY,SALNTY_FLAG_W,OXYGEN,OXYGEN_FLAG_W,SILCAT,SILCAT_FLAG_W,NO2+NO3,NO2+NO3_FLAG_W,NITRIT,NITRIT_FLAG_W,PHSPHT,PHSPHT_FLAG_W,CFC-11,CFC-11_FLAG_W,CFC-12,CFC-12_FLAG_W,TCARBN,TCARBN_FLAG_W,ALKALI,ALKALI_FLAG_W,PH_TS,PH_TS_FLAG_W,PH_TS_TMP,CFC113,CFC113_FLAG_W,CHLORA,CHLORA_FLAG_W,PPHYTN,PPHYTN_FLAG_W,THETA,THETA_FLAG_W,SIGTHT,SIGTHT_FLAG_W,SBE35,SBE35_FLAG_W
,,,,,,,,UTC,,,,METER,DBAR,METERS,ITS-90,PSS-78,,UMOL/KG,,PSS78,,UMOL/KG,,UMOL/KG,,UMOL/KG,,UMOL/KG,,UMOL/KG,,PMOL/KG,,PMOL/KG,,UMOL/KG,,UMOL/KG,,,,ITS-90,PMOL/KG,,UG/KG,,UG/KG,,ITS-90,,KG/M3,,ITS-90,
49UP20180614_1,   P13,    20,  1,      0,      -9,0,20180627,1335,1540, 48.0105, 165.0168, 5822,      0.0,        0,   5.9368,  32.9324,2,    324.0,2,  32.9282,2,   321.27,2,    29.65,2,    18.98,2,     0.19,2,    1.640,2, -999.000,9, -999.000,9,   2088.6,2,   2235.5,2,   7.7581,2,    25.00, -999.000,9,     0.46,2,     0.19,2,   5.9366,2,  25.9269,2,-999.0000,9
49UP20180614_1,   P13,    20,  1,     36,     845,2,20180627,1335,1609, 48.0105, 165.0168, 5822,     10.9,       11,   5.6651,  32.9298,2,    325.4,2,  32.9325,2,   324.68,2,    29.77,2,    18.95,2,     0.18,2,    1.610,2,    4.223,2,    2.338,2,   2084.8,2,   2234.6,2,   7.7611,2,    25.00,    0.417,2,     0.58,2,     0.19,2,   5.6643,2,  25.9576,2,   5.6525,2
49UP20180614_1,   P13,    20,  1,     35,     844,2,20180627,1335,1605, 48.0105, 165.0168, 5822,     50.1,       50,   3.1369,  33.0159,2,    327.4,2,  33.0272,4,   327.45,2,    36.76,2,    22.69,2,     0.38,2,    1.850,2,    4.616,2,    2.539,2,   2118.1,2,   2237.9,2,   7.6813,2,    25.00,    0.447,2,     0.33,2,     0.33,2,   3.1340,2,  26.2896,2,   3.1471,2
49UP20180614_1,   P13,    20,  1,     34,     843,3,20180627,1335,1603, 48.0105, 165.0168, 5822,     75.5,       75,   2.0629,  33.1143,2,    318.5,2,  33.1135,2,   319.46,2,    45.16,2,    26.64,2,     0.13,2,    2.050,2, -999.000,9, -999.000,9,   2142.2,2,   2240.0,2,   7.6210,2,    25.00, -999.000,9,     0.13,2,     0.12,2,   2.0591,2,  26.4566,2,   2.0605,2
49UP20180614_1,   P13,    20,  1,     33,     842,2,20180627,1335,1602, 48.0105, 165.0168, 5822,    100.4,      100,   2.2237,  33.2124,2,    290.4,2,  33.2086,2,   292.95,2,    50.31,2,    28.49,2,     0.20,2,    2.160,2,    4.387,2,    2.401,2,   2162.7,2,   2246.7,2,   7.5830,2,    25.00,    0.417,2,     0.03,2,     0.07,2,   2.2185,2,  26.5229,2,   2.2256,2
49UP20180614_1,   P13,    20,  1,     32,     841,2,20180627,1335,1600, 48.0105, 165.0168, 5822,    126.0,      125,   2.8104,  33.4522,2,    175.6,2,  33.4906,4,   158.92,2,    72.87,2,    36.30,2,     0.00,2,    2.650,2, -999.000,9, -999.000,9,   2244.5,2,   2269.9,2,   7.3932,2,    25.00, -999.000,9,     0.01,2,     0.06,2,   2.8032,2,  26.6668,2,   2.8118,2
49UP20180614_1,   P13,    20,  1,     31,     840,2,20180627,1335,1559, 48.0105, 165.0168, 5822,    151.6,      150,   3.4019,  33.7108,2,     77.5,2,  33.7063,2,    78.86,6,    87.99,6,    41.39,6,     0.01,6,    2.960,6,    2.499,2,    1.293,2,   2296.5,2,   2288.0,2,   7.2786,2,    25.00,    0.188,2,     0.01,2,     0.05,2,   3.3924,2,  26.8201,2,   3.4037,2
49UP20180614_1,   P13,    20,  1,     30,     839,2,20180627,1335,1557, 48.0105, 165.0168, 5822,    203.4,      202,   3.5328,  33.8732,2,     37.8,2,  33.8774,2,    37.47,2,   100.30,2,    43.88,2,     0.00,2,    3.110,2,    1.943,2,    0.976,2,   2329.2,2,   2302.6,2,   7.2370,2,    25.00,    0.149,2,     0.00,2,     0.04,2,   3.5196,2,  26.9374,2,   3.5326,2
49UP20180614_1,   P13,    20,  1,     29,     838,2,20180627,1335,1555, 48.0105, 165.0168, 5822,    252.6,      250,   3.6772,  33.9811,2,     17.0,2,  33.9794,2,    17.32,2,   107.44,2,    44.98,2,     0.00,2,    3.180,2,    1.529,2,    0.743,2,   2348.2,2,   2311.6,2,   7.2209,2,    25.00,    0.115,2,  -999.00,9,  -999.00,9,   3.6604,2,  27.0097,2,   3.6770,2
49UP20180614_1,   P13,    20,  1,     28,     837,2,20180627,1335,1553, 48.0105, 165.0168, 5822,    282.7,      280,   3.6328,  34.0167,2,     17.9,2,  34.0172,2,    18.74,2,   110.58,2,    44.72,2,     0.00,2,    3.160,2,    1.383,2,    0.670,2,   2347.5,2,   2318.8,2,   7.2342,2,    25.00,    0.100,2,  -999.00,9,  -999.00,9,   3.6140,2,  27.0426,2,   3.6313,2
49UP20180614_1,   P13,    20,  1,     27,     661,2,20180627,1335,1551, 48.0105, 165.0168, 5822,    373.9,      370,   3.5313,  34.1180,2,     15.9,2,  34.1164,2,    16.72,2,   119.85,2,    44.33,2,     0.00,2,    3.130,2,    0.966,2,    0.461,2,   2354.3,2,   2332.6,2,   7.2576,2,    25.00,    0.075,2,  -999.00,9,  -999.00,9,   3.5065,2,  27.1337,2,   3.5312,2
49UP20180614_1,   P13,    20,  1,     26,     835,2,20180627,1335,1548, 48.0105, 165.0168, 5822,    476.2,      472,   3.4094,  34.1972,2,     11.6,2,  34.1972,2,    11.23,2,   128.77,2,    44.40,2,     0.00,2,    3.140,2,    0.604,2,    0.286,2,   2367.8,2,   2345.0,2,   7.2494,2,    25.00,    0.039,2,  -999.00,9,  -999.00,9,   3.3778,2,  27.2092,2,   3.4095,2
49UP20180614_1,   P13,    20,  1,     25,     834,2,20180627,1335,1545, 48.0105, 165.0168, 5822,    575.5,      570,   3.2618,  34.2566,2,     15.6,2,  34.2568,6,    15.72,2,   133.69,2,    43.94,2,     0.00,2,    3.120,2,    0.445,2,    0.211,2,   2372.2,2,   2355.9,2,   7.2708,2,    25.00,    0.029,2,  -999.00,9,  -999.00,9,   3.2237,2,  27.2710,2,   3.2613,2
49UP20180614_1,   P13,    20,  1,     24,     833,2,20180627,1335,1542, 48.0105, 165.0168, 5822,    678.1,      671,   3.0915,  34.3015,2,     12.6,2,  34.3008,2,    12.81,2,   141.71,2,    44.08,2,     0.00,2,    3.140,2,    0.359,2,    0.277,3,   2376.8,2,   2363.4,2,   7.2778,2,    25.00,    0.064,3,  -999.00,9,  -999.00,9,   3.0469,2,  27.3232,2,   3.0913,2
49UP20180614_1,   P13,    20,  1,     23,     832,2,20180627,1335,1539, 48.0105, 165.0168, 5822,    778.9,      771,   2.9484,  34.3451,2,     14.3,2,  34.3448,2,    14.39,2,   146.47,2,    44.04,2,     0.00,2,    3.130,2,    0.207,2,    0.094,2,   2377.8,2,   2372.4,2,   7.2858,2,    25.00,    0.005,2,  -999.00,9,  -999.00,9,   2.8974,2,  27.3716,2,   2.9481,2
49UP20180614_1,   P13,    20,  1,     22,     831,2,20180627,1335,1536, 48.0105, 165.0168, 5822,    880.9,      872,   2.8046,  34.3878,2,     16.4,2,  34.3876,2,    16.13,6,   151.10,6,    44.11,6,     0.00,6,    3.130,6,    0.129,2,    0.056,2,   2382.5,2,   2379.5,2,   7.2984,2,    25.00,    0.009,2,  -999.00,9,  -999.00,9,   2.7471,2,  27.4190,2,   2.8042,2
49UP20180614_1,   P13,    20,  1,     21,     830,2,20180627,1335,1533, 48.0105, 165.0168, 5822,    982.1,      972,   2.6578,  34.4226,2,     18.8,2,  34.4224,2,    18.72,2,   154.94,2,    44.32,2,     0.00,2,    3.120,2,    0.083,2,    0.034,2,   2388.0,2,   2386.7,2,   7.2986,2,    25.00,    0.003,2,  -999.00,9,  -999.00,9,   2.5940,2,  27.4601,2,   2.6575,2
49UP20180614_1,   P13,    20,  1,     20,     829,2,20180627,1335,1526, 48.0105, 165.0168, 5822,   1143.8,     1131,   2.4105,  34.4696,2,     24.9,2,  34.4696,2,    25.89,2,   164.04,2,    43.94,2,     0.00,2,    3.090,2,    0.057,6,    0.026,6,   2390.1,2,   2393.9,2,   7.3179,2,    25.00,    0.005,6,  -999.00,9,  -999.00,9,   2.3369,2,  27.5195,2,   2.4102,2
49UP20180614_1,   P13,    20,  1,     19,     828,2,20180627,1335,1521, 48.0105, 165.0168, 5822,   1348.5,     1333,   2.2211,  34.5130,2,     35.3,2,  34.5132,2,    35.50,2,   168.35,2,    43.22,2,     0.00,2,    3.040,2,    0.036,2,    0.011,2,   2387.0,2,   2400.1,2,   7.3446,2,    25.00,    0.008,2,  -999.00,9,  -999.00,9,   2.1340,2,  27.5708,2,   2.2209,2
49UP20180614_1,   P13,    20,  1,     18,     827,2,20180627,1335,1515, 48.0105, 165.0168, 5822,   1549.9,     1531,   2.0580,  34.5509,2,     47.7,2,  34.5512,2,    47.70,6,   170.82,6,    42.64,6,     0.00,6,    2.990,6,    0.017,2,    0.003,2,   2391.3,2,   2406.6,2,   7.3697,6,    25.00,    0.000,2,  -999.00,9,  -999.00,9,   1.9573,2,  27.6152,2,   2.0578,2
49UP20180614_1,   P13,    20,  1,     17,     826,2,20180627,1335,1510, 48.0105, 165.0168, 5822,   1754.1,     1732,   1.9414,  34.5787,2,     60.6,2,  34.5792,2,    61.18,2,   171.51,2,    41.78,2,     0.00,2,    2.940,2,    0.006,2,    0.002,2,   2378.6,2,   2413.1,2,   7.3982,2,    25.00,    0.007,2,  -999.00,9,  -999.00,9,   1.8261,2,  27.6477,2,   1.9413,2
49UP20180614_1,   P13,    20,  1,     16,     825,2,20180627,1335,1505, 48.0105, 165.0168, 5822,   1957.4,     1932,   1.8383,  34.6020,2,     74.3,2,  34.6020,2,    75.07,2,   170.41,2,    40.90,2,     0.00,2,    2.870,2,    0.002,2,    0.001,2,   2371.0,2,   2414.7,2,   7.4276,2,    25.00,    0.000,2,  -999.00,9,  -999.00,9,   1.7079,2,  27.6754,2,   1.8380,2
49UP20180614_1,   P13,    20,  1,     15,     824,2,20180627,1335,1500, 48.0105, 165.0168, 5822,   2160.6,     2131,   1.7403,  34.6204,2,     86.3,2,  34.6213,2,    87.97,3,   170.11,2,    40.20,2,     0.00,2,    2.820,2,    0.000,2,    0.000,2,   2364.3,2,   2417.3,2,   7.4538,2,    25.00,    0.000,2,  -999.00,9,  -999.00,9,   1.5944,2,  27.6986,2,   1.7401,2
49UP20180614_1,   P13,    20,  1,     14,     823,2,20180627,1335,1455, 48.0105, 165.0168, 5822,   2363.8,     2331,   1.6664,  34.6352,2,     98.5,2,  34.6360,2,    98.99,2,   167.87,2,    39.47,2,     0.00,2,    2.760,2,    0.001,2,    0.000,2,   2356.7,2,   2417.7,6,   7.4736,2,    25.00,    0.000,2,  -999.00,9,  -999.00,9,   1.5044,2,  27.7171,2,   1.6661,2
49UP20180614_1,   P13,    20,  1,     13,     822,2,20180627,1335,1450, 48.0105, 165.0168, 5822,   2568.5,     2531,   1.6217,  34.6459,2,    109.4,2,  34.6466,6,   110.02,2,   163.83,2,    38.81,2,     0.00,2,    2.710,2,    0.000,2,   -0.000,2,   2351.4,2,   2416.7,2,   7.4949,2,    25.00,    0.006,2,  -999.00,9,  -999.00,9,   1.4424,2,  27.7302,2,   1.6214,2
49UP20180614_1,   P13,    20,  1,     12,     821,2,20180627,1335,1445, 48.0105, 165.0168, 5822,   2773.2,     2732,   1.5740,  34.6546,2,    117.7,2,  34.6545,2,   118.49,2,   162.25,2,    38.25,2,     0.00,2,    2.670,2,    0.000,2,    0.000,2,   2345.8,2,   2418.9,6,   7.5102,2,    25.00,    0.000,2,  -999.00,9,  -999.00,9,   1.3770,2,  27.7418,2,   1.5738,2
49UP20180614_1,   P13,    20,  1,     11,     820,2,20180627,1335,1440, 48.0105, 165.0168, 5822,   2977.1,     2931,   1.5427,  34.6610,2,    124.3,2,  34.6613,2,   125.07,2,   160.61,2,    37.84,2,     0.00,2,    2.630,2, -999.000,9, -999.000,9,   2341.1,2,   2418.3,2,   7.5244,6,    25.00, -999.000,9,  -999.00,9,  -999.00,9,   1.3272,2,  27.7505,2,   1.5425,2
49UP20180614_1,   P13,    20,  1,     10,     819,2,20180627,1335,1430, 48.0105, 165.0168, 5822,   3477.6,     3420,   1.4844,  34.6735,2,    138.6,2,  34.6741,2,   138.78,2,   157.20,2,    37.01,2,     0.00,2,    2.560,2, -999.000,9, -999.000,9,   2335.6,2,   2417.9,2,   7.5512,2,    25.00, -999.000,9,  -999.00,9,  -999.00,9,   1.2210,2,  27.7680,2,   1.4841,2
49UP20180614_1,   P13,    20,  1,      9,     818,2,20180627,1335,1424, 48.0105, 165.0168, 5822,   3733.7,     3670,   1.4732,  34.6777,2,    143.7,2,  34.6783,6,   146.19,3,   155.85,2,    36.58,2,     0.00,2,    2.530,2,    0.000,2,   -0.000,2,   2328.5,2,   2416.2,2,   7.5606,2,    25.00,    0.000,2,  -999.00,9,  -999.00,9,   1.1835,2,  27.7740,2,   1.4731,2
49UP20180614_1,   P13,    20,  1,      8,     817,2,20180627,1335,1419, 48.0105, 165.0168, 5822,   3990.5,     3920,   1.4732,  34.6809,2,    147.6,2,  34.6814,2,   148.30,2,   154.63,2,    36.35,2,     0.00,2,    2.510,2, -999.000,9, -999.000,9,   2334.0,2,   2417.1,2,   7.5653,6,    25.00, -999.000,9,  -999.00,9,  -999.00,9,   1.1561,2,  27.7784,2,   1.4731,2
49UP20180614_1,   P13,    20,  1,      7,     816,2,20180627,1335,1408, 48.0105, 165.0168, 5822,   4505.3,     4421,   1.4877,  34.6857,2,    153.6,2,  34.6861,2,   153.78,2,   153.13,2,    35.88,2,     0.00,2,    2.480,2, -999.000,9, -999.000,9,   2323.0,2,   2415.8,2,   7.5719,2,    25.00, -999.000,9,  -999.00,9,  -999.00,9,   1.1125,2,  27.7852,2,   1.4875,2
49UP20180614_1,   P13,    20,  1,      6,     815,2,20180627,1335,1403, 48.0105, 165.0168, 5822,   4763.0,     4671,   1.5048,  34.6873,2,    155.5,2,  34.6873,2,   155.75,6,   152.70,6,    35.77,6,     0.00,6,    2.470,6,    0.001,2,    0.003,2,   2321.6,2,   2416.7,2,   7.5793,2,    25.00,    0.004,2,  -999.00,9,  -999.00,9,   1.0989,2,  27.7874,2,   1.5047,2
49UP20180614_1,   P13,    20,  1,      5,     814,2,20180627,1335,1357, 48.0105, 165.0168, 5822,   5019.6,     4920,   1.5263,  34.6885,2,    156.8,2,  34.6882,2,   157.41,2,   152.81,2,    35.76,2,     0.00,2,    2.460,2, -999.000,9, -999.000,9,   2322.5,6,   2416.7,6,   7.5762,2,    25.00, -999.000,9,  -999.00,9,  -999.00,9,   1.0888,2,  27.7891,2,   1.5261,2
49UP20180614_1,   P13,    20,  1,      4,     813,2,20180627,1335,1351, 48.0105, 165.0168, 5822,   5277.2,     5169,   1.5522,  34.6895,2,    157.5,2,  34.6895,2,   157.81,2,   153.88,2,    35.66,2,     0.00,2,    2.460,2, -999.000,9, -999.000,9,   2321.3,2,   2414.7,2,   7.5837,2,    25.00, -999.000,9,  -999.00,9,  -999.00,9,   1.0820,2,  27.7903,2,   1.5522,2
49UP20180614_1,   P13,    20,  1,      3,     812,2,20180627,1335,1345, 48.0105, 165.0168, 5822,   5536.3,     5420,   1.5855,  34.6897,2,    157.5,2,  34.6895,2,   157.72,2,   154.30,2,    35.62,2,     0.00,2,    2.460,2, -999.000,9, -999.000,9,   2322.3,2,   2416.4,2,   7.5828,2,    25.00, -999.000,9,  -999.00,9,  -999.00,9,   1.0812,2,  27.7906,2,   1.5855,2
49UP20180614_1,   P13,    20,  1,      2,     811,2,20180627,1335,1340, 48.0105, 165.0168, 5822,   5794.4,     5669,   1.6197,  34.6898,2,    157.6,2,  34.6898,2,   158.29,2,   154.31,2,    35.63,2,     0.00,2,    2.460,2, -999.000,9, -999.000,9,   2319.8,2,   2415.1,2,   7.5818,2,    25.00, -999.000,9,  -999.00,9,  -999.00,9,   1.0805,2,  27.7907,2,   1.6194,2
49UP20180614_1,   P13,    20,  1,      1,     810,2,20180627,1335,1335, 48.0105, 165.0168, 5822,   5967.1,     5836,   1.6428,  34.6899,2,    157.8,2,  34.6898,2,   158.19,2,   154.01,2,    35.61,2,     0.00,2,    2.460,2,    0.005,2,    0.001,2,   2319.9,2,   2417.1,2,   7.5809,2,    25.00,    0.005,2,  -999.00,9,  -999.00,9,   1.0798,2,  27.7908,2,   1.6426,2