BOTTLE,20191018JMAGEMD
EXPOCODE,SECT_ID,STNNBR,CASTNO,SAMPNO,BTLNBR,BTLNBR_FLAG_U,DATE,TIME,BTL_TIME,LATITUDE,LONGITUDE,DEPTH,CTDPRS,CTDDEP,CTDTMP,CTDSAL,CTDSAL_FLAG_W,CTDOXY,CTDOXY_FLAG_W,SALNTY,SALNTY_FLAG_W,OXYGEN,OXYGEN_FLAG_W,SILCAT,SILCAT_FLAG_W,NO2+NO3,NO2+NO3_FLAG_W,NITRIT,NITRIT_FLAG_W,PHSPHT,PHSPHT_FLAG_W,CFC-11,CFC-11_FLAG_W,CFC-12,CFC-12_FLAG_W,TCARBN,TCARBN_FLAG_W,ALKALI,ALKALI_FLAG_W,PH_TS,PH_TS_FLAG_W,PH_TS_TMP,CFC113,CFC113_FLAG_W,CHLORA,CHLORA_FLAG_W,PPHYTN,PPHYTN_FLAG_W,THETA,THETA_FLAG_W,SIGTHT,SIGTHT_FLAG_W,SBE35,SBE35_FLAG_W
,,,,,,,,UTC,,,,METER,DBAR,METERS,ITS-90,PSS-78,,UMOL/KG,,PSS78,,UMOL/KG,,UMOL/KG,,UMOL/KG,,UMOL/KG,,UMOL/KG,,PMOL/KG,,PMOL/KG,,UMOL/KG,,UMOL/KG,,,,ITS-90,PMOL/KG,,UG/KG,,UG/KG,,ITS-90,,KG/M3,,ITS-90,
49UP20180614_1,   P13,    15,  1,      0,      -9,0,20180625,0810,0945, 47.0805, 160.0740, 5200,      0.0,        0,   5.4546,  32.9213,2,    326.1,2,  32.9061,2,   324.25,2,    35.91,2,    20.23,2,     0.20,2,    1.720,2, -999.000,9, -999.000,9,   2091.6,2,   2232.0,2,   7.7508,2,    25.00, -999.000,9,     0.53,2,     0.14,2,   5.4544,2,  25.9757,2,-999.0000,9
49UP20180614_1,   P13,    15,  1,     36,     845,2,20180625,0810,1022, 47.0805, 160.0740, 5200,     10.7,       11,   5.4524,  32.9220,2,    326.1,2,  32.9241,2,   325.43,2,    36.05,2,    20.25,2,     0.20,2,    1.710,2,    4.345,2,    2.420,2,   2096.7,2,   2231.3,2,   7.7487,2,    25.00,    0.420,2,     0.53,2,     0.12,2,   5.4516,2,  25.9766,2,   5.4512,2
49UP20180614_1,   P13,    15,  1,     35,     844,2,20180625,0810,1021, 47.0805, 160.0740, 5200,     25.3,       25,   4.7704,  32.9602,2,    331.0,2,  32.9643,2,   330.65,2,    37.62,2,    20.92,2,     0.20,2,    1.760,2, -999.000,9, -999.000,9,   2100.0,2,   2236.0,2,   7.7410,2,    25.00, -999.000,9,     0.65,2,     0.25,2,   4.7686,2,  26.0838,2,   4.7677,2
49UP20180614_1,   P13,    15,  1,     34,     843,3,20180625,0810,1017, 47.0805, 160.0740, 5200,     49.8,       49,   2.7927,  33.0544,2,    331.7,2,  33.0563,2,   332.20,2,    37.05,2,    22.62,2,     0.27,2,    1.880,2,    4.797,2,    2.653,2,   2121.0,2,   2240.3,2,   7.6961,2,    25.00,    0.476,2,     0.27,2,     0.24,2,   2.7899,2,  26.3502,2,   2.7923,2
49UP20180614_1,   P13,    15,  1,     33,     842,2,20180625,0810,1016, 47.0805, 160.0740, 5200,     75.5,       75,   2.0801,  33.1158,2,    327.9,2,  33.1147,2,   328.75,2,    43.80,2,    25.30,2,     0.41,2,    2.040,2, -999.000,9, -999.000,9,   2138.9,2,   2242.3,2,   7.6449,2,    25.00, -999.000,9,     0.10,2,     0.12,2,   2.0762,2,  26.4565,2,   2.0822,2
49UP20180614_1,   P13,    15,  1,     32,     841,3,20180625,0810,1014, 47.0805, 160.0740, 5200,    100.4,      100,   1.9583,  33.1666,2,    316.3,2,  33.1686,2,   316.50,2,    47.21,2,    26.70,2,     0.42,2,    2.110,2,    4.711,2,    2.622,2,   2155.5,6,   2246.4,6,   7.6191,2,    25.00,    0.461,2,     0.05,2,     0.10,2,   1.9534,2,  26.5064,2,   1.9584,2
49UP20180614_1,   P13,    15,  1,     31,     840,2,20180625,0810,1013, 47.0805, 160.0740, 5200,    126.2,      125,   2.6605,  33.4277,2,    192.7,2,  33.4411,4,   184.88,6,    69.76,6,    35.77,6,     0.02,6,    2.590,6, -999.000,9, -999.000,9,   2234.9,2,   2262.7,2,   7.4199,6,    25.00, -999.000,9,     0.02,2,     0.11,2,   2.6534,2,  26.6599,2,   2.6609,2
49UP20180614_1,   P13,    15,  1,     30,     839,2,20180625,0810,1011, 47.0805, 160.0740, 5200,    152.1,      151,   3.6064,  33.7437,2,     65.4,2,  33.7513,4,    63.00,2,    90.84,2,    42.86,2,     0.01,2,    3.020,2,    2.363,2,    1.245,2,   2311.3,2,   2285.8,2,   7.2596,2,    25.00,    0.183,2,     0.01,2,     0.12,2,   3.5965,2,  26.8268,2,   3.5994,2
49UP20180614_1,   P13,    15,  1,     29,     838,2,20180625,0810,1010, 47.0805, 160.0740, 5200,    204.6,      203,   3.8050,  33.9241,2,     17.3,2,  33.9225,2,    17.54,2,   102.26,2,    45.56,2,     0.00,2,    3.190,2,    1.795,2,    0.895,2,   2344.0,2,   2301.4,2,   7.2231,2,    25.00,    0.130,2,     0.01,2,     0.06,2,   3.7913,2,  26.9513,2,   3.8052,2
49UP20180614_1,   P13,    15,  1,     28,     837,3,20180625,0810,1008, 47.0805, 160.0740, 5200,    252.0,      250,   3.7624,  33.9802,2,     13.7,2,  33.9782,2,    14.22,2,   107.04,2,    45.38,2,     0.00,2,    3.190,2,    1.547,2,    0.757,2,   2355.0,2,   2309.4,2,   7.2136,2,    25.00,    0.110,2,  -999.00,9,  -999.00,9,   3.7454,2,  27.0005,2,   3.7622,2
49UP20180614_1,   P13,    15,  1,     27,     661,2,20180625,0810,1006, 47.0805, 160.0740, 5200,    304.8,      302,   3.6793,  34.0627,2,     13.7,2,  34.0613,2,    13.43,2,   114.66,2,    44.90,2,     0.00,2,    3.160,2,    1.196,2,    0.577,2,   2353.4,2,   2321.1,2,   7.2364,2,    25.00,    0.083,2,  -999.00,9,  -999.00,9,   3.6589,2,  27.0747,2,   3.6792,2
49UP20180614_1,   P13,    15,  1,     26,     835,2,20180625,0810,1003, 47.0805, 160.0740, 5200,    405.0,      401,   3.4692,  34.1670,2,     12.3,2,  34.1675,2,    11.70,2,   125.82,2,    44.64,2,     0.00,2,    3.140,2,    0.767,2,    0.359,2,   2367.3,2,   2339.6,2,   7.2613,2,    25.00,    0.048,2,  -999.00,9,  -999.00,9,   3.4423,2,  27.1789,2,   3.4691,2
49UP20180614_1,   P13,    15,  1,     25,     834,2,20180625,0810,1000, 47.0805, 160.0740, 5200,    506.0,      501,   3.3205,  34.2289,2,     11.6,2,  34.2282,6,    10.82,2,   132.87,2,    44.47,2,     0.00,2,    3.170,2,    0.511,2,    0.253,2,   2371.2,2,   2349.8,2,   7.2713,2,    25.00,    0.039,2,  -999.00,9,  -999.00,9,   3.2871,2,  27.2430,2,   3.3212,2
49UP20180614_1,   P13,    15,  1,     24,     833,2,20180625,0810,0957, 47.0805, 160.0740, 5200,    604.9,      599,   3.1714,  34.2796,2,     11.8,2,  34.2798,2,    11.04,2,   139.06,2,    44.34,2,     0.00,2,    3.130,2,    0.362,6,    0.176,6,   2377.3,2,   2358.6,2,   7.2800,2,    25.00,    0.021,6,  -999.00,9,  -999.00,9,   3.1317,2,  27.2979,2,   3.1717,2
49UP20180614_1,   P13,    15,  1,     23,     832,2,20180625,0810,0955, 47.0805, 160.0740, 5200,    708.1,      701,   2.9965,  34.3263,2,     12.9,2,  34.3261,2,    12.21,2,   145.68,2,    44.34,2,     0.00,2,    3.130,2,    0.254,2,    0.125,2,   2383.7,2,   2368.1,2,   7.2871,2,    25.00,    0.006,2,  -999.00,9,  -999.00,9,   2.9503,2,  27.3518,2,   2.9965,2
49UP20180614_1,   P13,    15,  1,     22,     831,2,20180625,0810,0952, 47.0805, 160.0740, 5200,    810.1,      802,   2.8168,  34.3728,2,     14.9,2,  34.3706,2,    13.88,6,   151.68,6,    44.21,6,     0.00,6,    3.130,6,    0.176,2,    0.074,2,   2390.7,2,   2376.0,2,   7.2964,2,    25.00,    0.013,2,  -999.00,9,  -999.00,9,   2.7643,2,  27.4055,2,   2.8181,2
49UP20180614_1,   P13,    15,  1,     21,     830,2,20180625,0810,0949, 47.0805, 160.0740, 5200,    911.7,      902,   2.6846,  34.4047,2,     16.6,2,  34.4041,2,    15.75,2,   156.30,2,    44.12,2,     0.00,2,    3.120,2,    0.125,2,    0.047,2,   2390.8,2,   2382.7,2,   7.3018,2,    25.00,    0.006,2,  -999.00,9,  -999.00,9,   2.6257,2,  27.4431,2,   2.6854,2
49UP20180614_1,   P13,    15,  1,     20,     829,2,20180625,0810,0946, 47.0805, 160.0740, 5200,   1011.9,     1001,   2.5458,  34.4328,2,     19.8,2,  34.4325,2,    19.45,2,   161.75,2,    43.91,2,     0.00,2,    3.110,2,    0.102,2,    0.039,2,   2394.2,2,   2387.6,2,   7.3080,2,    25.00,    0.000,2,  -999.00,9,  -999.00,9,   2.4807,2,  27.4779,2,   2.5459,2
49UP20180614_1,   P13,    15,  1,     19,     828,2,20180625,0810,0940, 47.0805, 160.0740, 5200,   1215.7,     1202,   2.3046,  34.4889,2,     30.5,2,  34.4886,2,    30.36,2,   167.55,2,    43.36,2,     0.00,2,    3.060,2,    0.063,2,    0.025,2,   2393.2,6,   2397.2,6,   7.3307,2,    25.00,    0.001,2,  -999.00,9,  -999.00,9,   2.2266,2,  27.5440,2,   2.3047,2
49UP20180614_1,   P13,    15,  1,     18,     827,2,20180625,0810,0936, 47.0805, 160.0740, 5200,   1417.1,     1401,   2.1103,  34.5362,2,     42.6,2,  34.5364,2,    42.19,2,   171.48,2,    42.70,2,     0.00,2,    3.010,2,    0.024,2,    0.007,2,   2389.6,2,   2405.1,2,   7.3648,6,    25.00,    0.004,2,  -999.00,9,  -999.00,9,   2.0192,2,  27.5986,2,   2.1106,2
49UP20180614_1,   P13,    15,  1,     17,     826,2,20180625,0810,0931, 47.0805, 160.0740, 5200,   1619.1,     1599,   1.9821,  34.5671,2,     55.1,2,  34.5674,2,    55.09,2,   172.33,2,    41.90,2,     0.00,2,    2.960,2,    0.017,2,    0.006,2,   2392.7,2,   2409.5,2,   7.3908,2,    25.00,    0.000,2,  -999.00,9,  -999.00,9,   1.8769,2,  27.6345,2,   1.9821,2
49UP20180614_1,   P13,    15,  1,     16,     825,2,20180625,0810,0926, 47.0805, 160.0740, 5200,   1823.2,     1800,   1.8595,  34.5944,2,     68.8,2,  34.5950,6,    68.78,2,   172.27,2,    41.05,2,     0.00,2,    2.900,2,    0.003,2,    0.000,2,   2380.0,2,   2413.2,2,   7.4180,2,    25.00,    0.000,2,  -999.00,9,  -999.00,9,   1.7397,2,  27.6668,2,   1.8594,2
49UP20180614_1,   P13,    15,  1,     15,     824,2,20180625,0810,0922, 47.0805, 160.0740, 5200,   2026.3,     2000,   1.7557,  34.6169,2,     84.7,2,  34.6177,2,    84.32,2,   170.12,2,    40.07,2,     0.00,2,    2.820,2,    0.000,2,    0.000,2,   2376.4,2,   2417.0,2,   7.4527,2,    25.00,   -0.000,2,  -999.00,9,  -999.00,9,   1.6208,2,  27.6938,2,   1.7555,2
49UP20180614_1,   P13,    15,  1,     14,     823,2,20180625,0810,0917, 47.0805, 160.0740, 5200,   2230.9,     2201,   1.6741,  34.6328,2,     97.2,2,  34.6335,2,    97.28,2,   168.12,2,    39.37,2,     0.00,2,    2.760,2,    0.000,2,    0.000,2,   2364.6,6,   2417.9,6,   7.4767,2,    25.00,    0.014,2,  -999.00,9,  -999.00,9,   1.5234,2,  27.7138,2,   1.6741,2
49UP20180614_1,   P13,    15,  1,     13,     822,2,20180625,0810,0912, 47.0805, 160.0740, 5200,   2435.0,     2401,   1.6263,  34.6433,2,    107.4,2,  34.6441,2,   107.61,6,   165.12,6,    38.75,6,     0.00,6,    2.710,6,    0.000,2,   -0.000,2,   2359.3,2,   2417.7,2,   7.4990,2,    25.00,    0.010,2,  -999.00,9,  -999.00,9,   1.4587,2,  27.7269,2,   1.6263,2
49UP20180614_1,   P13,    15,  1,     12,     821,2,20180625,0810,0908, 47.0805, 160.0740, 5200,   2637.7,     2599,   1.5672,  34.6533,2,    116.0,2,  34.6537,2,   116.29,2,   163.80,2,    38.20,2,     0.00,2,    2.660,2,    0.001,2,    0.000,2,   2354.2,2,   2419.4,2,   7.5144,2,    25.00,    0.006,2,  -999.00,9,  -999.00,9,   1.3827,2,  27.7404,2,   1.5672,2
49UP20180614_1,   P13,    15,  1,     11,     820,2,20180625,0810,0903, 47.0805, 160.0740, 5200,   2843.3,     2801,   1.5337,  34.6605,2,    124.4,2,  34.6611,2,   124.57,2,   160.81,2,    37.67,2,     0.00,2,    2.630,2,    0.000,6,    0.000,6,   2347.1,2,   2419.4,2,   7.5320,2,    25.00,    0.000,6,  -999.00,9,  -999.00,9,   1.3310,2,  27.7498,2,   1.5337,2
49UP20180614_1,   P13,    15,  1,     10,     819,2,20180625,0810,0859, 47.0805, 160.0740, 5200,   3048.3,     3001,   1.5061,  34.6663,2,    130.6,2,  34.6667,2,   130.56,2,   159.05,2,    37.32,2,     0.00,2,    2.590,2, -999.000,9, -999.000,9,   2345.1,2,   2420.2,2,   7.5411,2,    25.00, -999.000,9,  -999.00,9,  -999.00,9,   1.2846,2,  27.7577,2,   1.5061,2
49UP20180614_1,   P13,    15,  1,      9,     818,2,20180625,0810,0853, 47.0805, 160.0740, 5200,   3304.1,     3251,   1.4778,  34.6724,2,    137.8,2,  34.6730,6,   137.32,2,   157.02,2,    36.91,2,     0.00,2,    2.560,2, -999.000,9, -999.000,9,   2337.0,2,   2418.4,2,   7.5513,2,    25.00, -999.000,9,  -999.00,9,  -999.00,9,   1.2320,2,  27.7663,2,   1.4778,2
49UP20180614_1,   P13,    15,  1,      8,     817,2,20180625,0810,0848, 47.0805, 160.0740, 5200,   3559.3,     3500,   1.4596,  34.6772,2,    143.5,2,  34.6777,2,   143.46,2,   155.24,2,    36.53,2,     0.00,2,    2.520,2, -999.000,9, -999.000,9,   2339.0,2,   2419.9,2,   7.5662,2,    25.00, -999.000,9,  -999.00,9,  -999.00,9,   1.1884,2,  27.7732,2,   1.4596,2
49UP20180614_1,   P13,    15,  1,      7,     816,2,20180625,0810,0842, 47.0805, 160.0740, 5200,   3815.1,     3750,   1.4532,  34.6808,2,    148.0,2,  34.6814,2,   147.79,2,   153.88,2,    36.21,2,     0.00,2,    2.510,2,    0.000,2,    0.000,2,   2331.8,2,   2418.5,2,   7.5696,2,    25.00,    0.000,2,  -999.00,9,  -999.00,9,   1.1555,2,  27.7784,2,   1.4533,2
49UP20180614_1,   P13,    15,  1,      6,     815,2,20180625,0810,0837, 47.0805, 160.0740, 5200,   4071.8,     4000,   1.4533,  34.6839,2,    151.7,2,  34.6842,6,   151.47,2,   152.83,2,    35.93,2,     0.00,2,    2.480,2, -999.000,9, -999.000,9,   2331.1,2,   2416.1,2,   7.5746,2,    25.00, -999.000,9,  -999.00,9,  -999.00,9,   1.1279,2,  27.7827,2,   1.4533,2
49UP20180614_1,   P13,    15,  1,      5,     814,2,20180625,0810,0831, 47.0805, 160.0740, 5200,   4329.1,     4250,   1.4611,  34.6860,2,    154.5,2,  34.6862,2,   154.28,6,   152.17,6,    35.70,6,     0.00,6,    2.470,6, -999.000,9, -999.000,9,   2326.4,2,   2417.7,2,   7.5827,6,    25.00, -999.000,9,  -999.00,9,  -999.00,9,   1.1069,2,  27.7859,2,   1.4610,2
49UP20180614_1,   P13,    15,  1,      4,     813,2,20180625,0810,0826, 47.0805, 160.0740, 5200,   4587.4,     4501,   1.4762,  34.6879,2,    156.5,2,  34.6879,2,   156.28,2,   151.59,2,    35.58,2,     0.00,2,    2.450,2, -999.000,9, -999.000,9,   2324.7,2,   2417.0,2,   7.5863,2,    25.00, -999.000,9,  -999.00,9,  -999.00,9,   1.0918,2,  27.7884,2,   1.4761,2
49UP20180614_1,   P13,    15,  1,      3,     812,2,20180625,0810,0820, 47.0805, 160.0740, 5200,   4845.8,     4752,   1.4980,  34.6890,2,    157.6,2,  34.6893,2,   157.98,2,   151.77,2,    35.54,2,     0.00,2,    2.450,2,    0.002,2,    0.000,2,   2332.1,3,   2416.7,2,   7.5853,2,    25.00,    0.000,2,  -999.00,9,  -999.00,9,   1.0824,2,  27.7899,2,   1.4979,2
49UP20180614_1,   P13,    15,  1,      2,     811,2,20180625,0810,0815, 47.0805, 160.0740, 5200,   5103.8,     5002,   1.5238,  34.6897,2,    158.6,2,  34.6903,2,   158.65,2,   150.77,2,    35.42,2,     0.00,2,    2.440,2, -999.000,9, -999.000,9,   2326.8,2,   2415.7,2,   7.5883,2,    25.00, -999.000,9,  -999.00,9,  -999.00,9,   1.0761,2,  27.7909,2,   1.5239,2
49UP20180614_1,   P13,    15,  1,      1,     810,3,20180625,0810,0810, 47.0805, 160.0740, 5200,   5291.6,     5184,   1.5452,  34.6901,2,    159.0,2,  34.6899,2,   158.83,2,   150.95,2,    35.38,2,     0.00,2,    2.440,2,    0.008,2,    0.001,2,   2324.0,2,   2415.9,2,   7.5876,2,    25.00,    0.001,2,  -999.00,9,  -999.00,9,   1.0734,2,  27.7914,2,   1.5453,2