BOTTLE,20191018JMAGEMD
EXPOCODE,SECT_ID,STNNBR,CASTNO,SAMPNO,BTLNBR,BTLNBR_FLAG_U,DATE,TIME,BTL_TIME,LATITUDE,LONGITUDE,DEPTH,CTDPRS,CTDDEP,CTDTMP,CTDSAL,CTDSAL_FLAG_W,CTDOXY,CTDOXY_FLAG_W,SALNTY,SALNTY_FLAG_W,OXYGEN,OXYGEN_FLAG_W,SILCAT,SILCAT_FLAG_W,NO2+NO3,NO2+NO3_FLAG_W,NITRIT,NITRIT_FLAG_W,PHSPHT,PHSPHT_FLAG_W,CFC-11,CFC-11_FLAG_W,CFC-12,CFC-12_FLAG_W,TCARBN,TCARBN_FLAG_W,ALKALI,ALKALI_FLAG_W,PH_TS,PH_TS_FLAG_W,PH_TS_TMP,CFC113,CFC113_FLAG_W,CHLORA,CHLORA_FLAG_W,PPHYTN,PPHYTN_FLAG_W,THETA,THETA_FLAG_W,SIGTHT,SIGTHT_FLAG_W,SBE35,SBE35_FLAG_W
,,,,,,,,UTC,,,,METER,DBAR,METERS,ITS-90,PSS-78,,UMOL/KG,,PSS78,,UMOL/KG,,UMOL/KG,,UMOL/KG,,UMOL/KG,,UMOL/KG,,PMOL/KG,,PMOL/KG,,UMOL/KG,,UMOL/KG,,,,ITS-90,PMOL/KG,,UG/KG,,UG/KG,,ITS-90,,KG/M3,,ITS-90,
49UP20180806_1,   P13,    70,  1,      0,      -9,0,20180824,1858,2050,  9.4960, 164.0073, 5187,      0.0,        0,  29.6569,  33.5948,2,    194.1,2,-999.0000,9,   194.81,2,     1.21,3,     0.00,2,     0.00,2,    0.070,3, -999.000,9, -999.000,9,   -999.0,9,   -999.0,9,-999.0000,9,  -999.00, -999.000,9,  -999.00,9,  -999.00,9,  29.6562,2,  20.7895,2,-999.0000,9
49UP20180806_1,   P13,    70,  1,     36,     845,2,20180824,1858,2117,  9.4960, 164.0073, 5187,     11.6,       12,  29.6592,  33.5950,2,    194.0,2,  33.5958,2,   194.73,2,     1.17,3,     0.00,2,     0.00,2,    0.060,3, -999.000,9, -999.000,9,   -999.0,9,   -999.0,9,-999.0000,9,  -999.00, -999.000,9,  -999.00,9,  -999.00,9,  29.6563,2,  20.7897,2,  29.6554,2
49UP20180806_1,   P13,    70,  1,     35,     844,2,20180824,1858,2114,  9.4960, 164.0073, 5187,     50.4,       50,  27.2690,  34.6507,2,    210.6,2,  34.6535,2,   210.80,2,     1.19,3,     0.00,2,     0.00,2,    0.080,3, -999.000,9, -999.000,9,   -999.0,9,   -999.0,9,-999.0000,9,  -999.00, -999.000,9,  -999.00,9,  -999.00,9,  27.2573,2,  22.3724,2,  27.2697,2
49UP20180806_1,   P13,    70,  1,     34,     843,2,20180824,1858,2112,  9.4960, 164.0073, 5187,    101.7,      101,  22.4434,  34.9612,2,    188.7,2,  34.9644,2,   189.46,2,     2.06,3,     0.05,2,     0.00,2,    0.190,3, -999.000,9, -999.000,9,   -999.0,9,   -999.0,9,-999.0000,9,  -999.00, -999.000,9,  -999.00,9,  -999.00,9,  22.4230,2,  24.0692,2,  22.4072,2
49UP20180806_1,   P13,    70,  1,     24,     833,4,20180824,1858,2111,  9.4960, 164.0073, 5187,    126.8,      126,  17.3402,  34.6604,2,    151.8,2,-999.0000,9,  -999.00,9,  -999.00,9,  -999.00,9,  -999.00,9, -999.000,9, -999.000,9, -999.000,9,   -999.0,9,   -999.0,9,-999.0000,9,  -999.00, -999.000,9,  -999.00,9,  -999.00,9,  17.3191,2,  25.1775,2,  17.3409,2
49UP20180806_1,   P13,    70,  1,     33,     842,3,20180824,1858,2109,  9.4960, 164.0073, 5187,    152.1,      151,  13.9986,  34.4868,2,    136.6,2,  34.4845,2,   135.62,2,    14.71,3,    15.61,2,     0.01,2,    1.190,3, -999.000,9, -999.000,9,   -999.0,9,   -999.0,9,-999.0000,9,  -999.00, -999.000,9,  -999.00,9,  -999.00,9,  13.9768,2,  25.7953,2,  14.0227,2
49UP20180806_1,   P13,    70,  1,     32,     841,2,20180824,1858,2107,  9.4960, 164.0073, 5187,    201.7,      200,  11.6109,  34.4629,2,     88.9,2,  34.4623,2,    88.64,2,    24.74,3,    24.63,2,     0.00,2,    1.820,3, -999.000,9, -999.000,9,   -999.0,9,   -999.0,9,-999.0000,9,  -999.00, -999.000,9,  -999.00,9,  -999.00,9,  11.5853,2,  26.2500,2,  11.6103,2
49UP20180806_1,   P13,    70,  1,     31,     840,2,20180824,1858,2105,  9.4960, 164.0073, 5187,    252.2,      251,  10.2483,  34.5820,2,     47.9,2,  34.5764,2,    47.54,6,    32.49,3,    31.69,6,     0.00,6,    2.280,3, -999.000,9, -999.000,9,   -999.0,9,   -999.0,9,-999.0000,9,  -999.00, -999.000,9,  -999.00,9,  -999.00,9,  10.2186,2,  26.5880,2,  10.2544,2
49UP20180806_1,   P13,    70,  1,     30,     839,2,20180824,1858,2103,  9.4960, 164.0073, 5187,    333.9,      332,   9.1810,  34.6000,2,     50.4,2,  34.5986,2,    50.04,2,    36.81,3,    33.80,2,     0.00,2,    2.400,3, -999.000,9, -999.000,9,   -999.0,9,   -999.0,9,-999.0000,9,  -999.00, -999.000,9,  -999.00,9,  -999.00,9,   9.1442,2,  26.7817,2,   9.1809,2
49UP20180806_1,   P13,    70,  1,     29,     838,2,20180824,1858,2100,  9.4960, 164.0073, 5187,    382.8,      380,   8.6358,  34.5876,2,     59.0,2,  34.5862,2,    58.25,2,    39.36,3,    34.18,2,     0.00,2,    2.420,3, -999.000,9, -999.000,9,   -999.0,9,   -999.0,9,-999.0000,9,  -999.00, -999.000,9,  -999.00,9,  -999.00,9,   8.5950,2,  26.8591,2,   8.6358,2
49UP20180806_1,   P13,    70,  1,     28,     837,2,20180824,1858,2058,  9.4960, 164.0073, 5187,    434.2,      431,   8.2672,  34.5747,2,     61.9,2,  34.5737,2,    63.05,2,    41.75,3,    34.63,2,     0.00,2,    2.450,3, -999.000,9, -999.000,9,   -999.0,9,   -999.0,9,-999.0000,9,  -999.00, -999.000,9,  -999.00,9,  -999.00,9,   8.2220,2,  26.9064,2,   8.2672,2
49UP20180806_1,   P13,    70,  1,     27,     661,2,20180824,1858,2056,  9.4960, 164.0073, 5187,    484.5,      481,   7.6972,  34.5553,2,     63.5,2,  34.5544,2,    62.80,2,    46.77,3,    35.57,2,     0.00,2,    2.520,3, -999.000,9, -999.000,9,   -999.0,9,   -999.0,9,-999.0000,9,  -999.00, -999.000,9,  -999.00,9,  -999.00,9,   7.6486,2,  26.9764,2,   7.6976,2
49UP20180806_1,   P13,    70,  1,     26,     835,2,20180824,1858,2055,  9.4960, 164.0073, 5187,    534.6,      531,   7.3232,  34.5455,2,     64.7,2,  34.5449,2,    65.06,2,    50.42,3,    36.17,2,     0.00,2,    2.570,3, -999.000,9, -999.000,9,   -999.0,9,   -999.0,9,-999.0000,9,  -999.00, -999.000,9,  -999.00,9,  -999.00,9,   7.2710,2,  27.0228,2,   7.3231,2
49UP20180806_1,   P13,    70,  1,     25,     834,2,20180824,1858,2052,  9.4960, 164.0073, 5187,    636.0,      631,   6.5769,  34.5340,2,     66.3,2,  34.5380,2,    65.68,2,    59.35,3,    37.40,2,     0.00,2,    2.660,3, -999.000,9, -999.000,9,   -999.0,9,   -999.0,9,-999.0000,9,  -999.00, -999.000,9,  -999.00,9,  -999.00,9,   6.5179,2,  27.1171,2,   6.5769,2
49UP20180806_1,   P13,    70,  1,     23,     832,2,20180824,1858,2049,  9.4960, 164.0073, 5187,    735.9,      730,   6.0322,  34.5337,2,     65.6,2,  34.5336,2,    65.23,2,    66.79,3,    38.43,2,     0.00,2,    2.730,3, -999.000,9, -999.000,9,   -999.0,9,   -999.0,9,-999.0000,9,  -999.00, -999.000,9,  -999.00,9,  -999.00,9,   5.9665,2,  27.1884,2,   6.0323,2
49UP20180806_1,   P13,    70,  1,     22,     831,2,20180824,1858,2046,  9.4960, 164.0073, 5187,    836.6,      830,   5.2877,  34.5336,2,     63.2,2,  34.5340,2,    63.07,2,    79.72,3,    39.78,2,     0.00,2,    2.830,3, -999.000,9, -999.000,9,   -999.0,9,   -999.0,9,-999.0000,9,  -999.00, -999.000,9,  -999.00,9,  -999.00,9,   5.2171,2,  27.2801,2,   5.2878,2
49UP20180806_1,   P13,    70,  1,     21,     830,2,20180824,1858,2043,  9.4960, 164.0073, 5187,    938.4,      931,   4.8800,  34.5405,2,     66.8,2,  34.5414,2,    67.25,6,    86.92,3,    39.88,6,     0.00,6,    2.840,3, -999.000,9, -999.000,9,   -999.0,9,   -999.0,9,-999.0000,9,  -999.00, -999.000,9,  -999.00,9,  -999.00,9,   4.8030,2,  27.3335,2,   4.8802,2
49UP20180806_1,   P13,    70,  1,     20,     829,2,20180824,1858,2039,  9.4960, 164.0073, 5187,   1079.8,     1071,   4.2911,  34.5568,2,     77.6,2,  34.5578,2,    77.27,2,    96.71,3,    39.57,2,     0.00,2,    2.810,3, -999.000,9, -999.000,9,   -999.0,9,   -999.0,9,-999.0000,9,  -999.00, -999.000,9,  -999.00,9,  -999.00,9,   4.2062,2,  27.4119,2,   4.2920,2
49UP20180806_1,   P13,    70,  1,     19,     828,2,20180824,1858,2035,  9.4960, 164.0073, 5187,   1283.0,     1272,   3.3816,  34.5822,2,     86.7,2,  34.5829,2,    87.08,2,   115.14,3,    39.59,2,     0.00,2,    2.800,3, -999.000,9, -999.000,9,   -999.0,9,   -999.0,9,-999.0000,9,  -999.00, -999.000,9,  -999.00,9,  -999.00,9,   3.2877,2,  27.5247,2,   3.3810,2
49UP20180806_1,   P13,    70,  1,     18,     660,2,20180824,1858,2030,  9.4960, 164.0073, 5187,   1483.8,     1470,   2.9735,  34.5982,2,     91.8,2,  34.5989,2,    92.50,2,   124.24,3,    39.59,2,     0.00,2,    2.790,3, -999.000,9, -999.000,9,   -999.0,9,   -999.0,9,-999.0000,9,  -999.00, -999.000,9,  -999.00,9,  -999.00,9,   2.8672,2,  27.5764,2,   2.9736,2
49UP20180806_1,   P13,    70,  1,     17,     826,2,20180824,1858,2025,  9.4960, 164.0073, 5187,   1686.9,     1671,   2.6191,  34.6138,2,     96.0,2,  34.6148,2,    96.17,2,   134.26,3,    39.54,2,     0.00,2,    2.800,3, -999.000,9, -999.000,9,   -999.0,9,   -999.0,9,-999.0000,9,  -999.00, -999.000,9,  -999.00,9,  -999.00,9,   2.5002,2,  27.6211,2,   2.6210,2
49UP20180806_1,   P13,    70,  1,     16,     825,2,20180824,1858,2020,  9.4960, 164.0073, 5187,   1890.7,     1872,   2.3371,  34.6255,2,    101.5,2,  34.6266,2,   101.79,2,   142.41,3,    39.35,2,     0.00,2,    2.790,3, -999.000,9, -999.000,9,   -999.0,9,   -999.0,9,-999.0000,9,  -999.00, -999.000,9,  -999.00,9,  -999.00,9,   2.2049,2,  27.6551,2,   2.3371,2
49UP20180806_1,   P13,    70,  1,     15,     824,2,20180824,1858,2015,  9.4960, 164.0073, 5187,   2093.2,     2071,   2.1194,  34.6388,2,    108.6,2,  34.6398,2,   108.49,2,  -999.00,9,  -999.00,9,  -999.00,9, -999.000,9, -999.000,9, -999.000,9,   -999.0,9,   -999.0,9,-999.0000,9,  -999.00, -999.000,9,  -999.00,9,  -999.00,9,   1.9731,2,  27.6844,2,   2.1194,2
49UP20180806_1,   P13,    70,  1,     14,     823,2,20180824,1858,2010,  9.4960, 164.0073, 5187,   2296.2,     2271,   1.9543,  34.6493,2,    115.0,2,  34.6505,2,   115.74,2,  -999.00,9,  -999.00,9,  -999.00,9, -999.000,9, -999.000,9, -999.000,9,   -999.0,9,   -999.0,9,-999.0000,9,  -999.00, -999.000,9,  -999.00,9,  -999.00,9,   1.7931,2,  27.7068,2,   1.9541,2
49UP20180806_1,   P13,    70,  1,     13,     822,2,20180824,1858,2005,  9.4960, 164.0073, 5187,   2500.0,     2471,   1.8289,  34.6575,2,    121.3,2,  34.6585,2,   121.76,2,  -999.00,9,  -999.00,9,  -999.00,9, -999.000,9, -999.000,9, -999.000,9,   -999.0,9,   -999.0,9,-999.0000,9,  -999.00, -999.000,9,  -999.00,9,  -999.00,9,   1.6518,2,  27.7241,2,   1.8290,2
49UP20180806_1,   P13,    70,  1,     12,     821,2,20180824,1858,2000,  9.4960, 164.0073, 5187,   2703.6,     2671,   1.7550,  34.6624,2,    125.7,2,  34.6628,2,   125.69,6,  -999.00,9,  -999.00,9,  -999.00,9, -999.000,9, -999.000,9, -999.000,9,   -999.0,9,   -999.0,9,-999.0000,9,  -999.00, -999.000,9,  -999.00,9,  -999.00,9,   1.5607,2,  27.7348,2,   1.7549,2
49UP20180806_1,   P13,    70,  1,     11,     820,2,20180824,1858,1954,  9.4960, 164.0073, 5187,   2907.9,     2872,   1.6874,  34.6669,2,    130.6,2,  34.6665,2,   130.54,2,  -999.00,9,  -999.00,9,  -999.00,9, -999.000,9, -999.000,9, -999.000,9,   -999.0,9,   -999.0,9,-999.0000,9,  -999.00, -999.000,9,  -999.00,9,  -999.00,9,   1.4753,2,  27.7447,2,   1.6874,2
49UP20180806_1,   P13,    70,  1,     10,     819,2,20180824,1858,1949,  9.4960, 164.0073, 5187,   3120.5,     3080,   1.6310,  34.6711,2,    135.8,2,  34.6720,2,   135.60,2,  -999.00,9,  -999.00,9,  -999.00,9, -999.000,9, -999.000,9, -999.000,9,   -999.0,9,   -999.0,9,-999.0000,9,  -999.00, -999.000,9,  -999.00,9,  -999.00,9,   1.3997,2,  27.7535,2,   1.6311,2
49UP20180806_1,   P13,    70,  1,      9,     818,2,20180824,1858,1943,  9.4960, 164.0073, 5187,   3376.0,     3330,   1.5515,  34.6767,2,    142.7,2,  34.6773,2,   142.53,2,  -999.00,9,  -999.00,9,  -999.00,9, -999.000,9, -999.000,9, -999.000,9,   -999.0,9,   -999.0,9,-999.0000,9,  -999.00, -999.000,9,  -999.00,9,  -999.00,9,   1.2966,2,  27.7653,2,   1.5515,2
49UP20180806_1,   P13,    70,  1,      8,     817,2,20180824,1858,1938,  9.4960, 164.0073, 5187,   3631.6,     3580,   1.5107,  34.6809,2,    149.0,2,  34.6811,2,   148.87,2,  -999.00,9,  -999.00,9,  -999.00,9, -999.000,9, -999.000,9, -999.000,9,   -999.0,9,   -999.0,9,-999.0000,9,  -999.00, -999.000,9,  -999.00,9,  -999.00,9,   1.2308,2,  27.7733,2,   1.5107,2
49UP20180806_1,   P13,    70,  1,      7,     816,2,20180824,1858,1932,  9.4960, 164.0073, 5187,   3888.6,     3832,   1.4664,  34.6857,2,    156.9,2,  34.6860,2,   156.42,2,  -999.00,9,  -999.00,9,  -999.00,9, -999.000,9, -999.000,9, -999.000,9,   -999.0,9,   -999.0,9,-999.0000,9,  -999.00, -999.000,9,  -999.00,9,  -999.00,9,   1.1605,2,  27.7819,2,   1.4664,2
49UP20180806_1,   P13,    70,  1,      6,     815,2,20180824,1858,1926,  9.4960, 164.0073, 5187,   4143.6,     4080,   1.4509,  34.6890,2,    162.9,2,  34.6893,2,   162.66,2,  -999.00,9,  -999.00,9,  -999.00,9, -999.000,9, -999.000,9, -999.000,9,   -999.0,9,   -999.0,9,-999.0000,9,  -999.00, -999.000,9,  -999.00,9,  -999.00,9,   1.1176,2,  27.7875,2,   1.4509,2
49UP20180806_1,   P13,    70,  1,      5,     814,2,20180824,1858,1920,  9.4960, 164.0073, 5187,   4399.4,     4330,   1.4220,  34.6930,2,    170.0,2,  34.6941,4,   169.26,2,  -999.00,9,  -999.00,9,  -999.00,9, -999.000,9, -999.000,9, -999.000,9,   -999.0,9,   -999.0,9,-999.0000,9,  -999.00, -999.000,9,  -999.00,9,  -999.00,9,   1.0609,2,  27.7946,2,   1.4219,2
49UP20180806_1,   P13,    70,  1,      4,     813,2,20180824,1858,1914,  9.4960, 164.0073, 5187,   4656.8,     4581,   1.4130,  34.6957,2,    174.6,2,  34.6961,6,   174.47,2,  -999.00,9,  -999.00,9,  -999.00,9, -999.000,9, -999.000,9, -999.000,9,   -999.0,9,   -999.0,9,-999.0000,9,  -999.00, -999.000,9,  -999.00,9,  -999.00,9,   1.0225,2,  27.7993,2,   1.4129,2
49UP20180806_1,   P13,    70,  1,      3,     812,2,20180824,1858,1908,  9.4960, 164.0073, 5187,   4914.6,     4831,   1.3975,  34.6985,2,    180.1,2,  34.6983,2,   179.77,6,  -999.00,9,  -999.00,9,  -999.00,9, -999.000,9, -999.000,9, -999.000,9,   -999.0,9,   -999.0,9,-999.0000,9,  -999.00, -999.000,9,  -999.00,9,  -999.00,9,   0.9769,2,  27.8046,2,   1.3976,2
49UP20180806_1,   P13,    70,  1,      2,     811,2,20180824,1858,1902,  9.4960, 164.0073, 5187,   5169.6,     5079,   1.4084,  34.7000,2,    182.6,2,  34.7003,6,   183.04,2,  -999.00,9,  -999.00,9,  -999.00,9, -999.000,9, -999.000,9, -999.000,9,   -999.0,9,   -999.0,9,-999.0000,9,  -999.00, -999.000,9,  -999.00,9,  -999.00,9,   0.9564,2,  27.8071,2,   1.4083,2
49UP20180806_1,   P13,    70,  1,      1,     810,2,20180824,1858,1858,  9.4960, 164.0073, 5187,   5287.7,     5194,   1.4223,  34.7001,2,    183.0,2,  34.7004,2,   183.29,2,  -999.00,9,  -999.00,9,  -999.00,9, -999.000,9, -999.000,9, -999.000,9,   -999.0,9,   -999.0,9,-999.0000,9,  -999.00, -999.000,9,  -999.00,9,  -999.00,9,   0.9552,2,  27.8073,2,   1.4223,2