BOTTLE,20191018JMAGEMD
EXPOCODE,SECT_ID,STNNBR,CASTNO,SAMPNO,BTLNBR,BTLNBR_FLAG_U,DATE,TIME,BTL_TIME,LATITUDE,LONGITUDE,DEPTH,CTDPRS,CTDDEP,CTDTMP,CTDSAL,CTDSAL_FLAG_W,CTDOXY,CTDOXY_FLAG_W,SALNTY,SALNTY_FLAG_W,OXYGEN,OXYGEN_FLAG_W,SILCAT,SILCAT_FLAG_W,NO2+NO3,NO2+NO3_FLAG_W,NITRIT,NITRIT_FLAG_W,PHSPHT,PHSPHT_FLAG_W,CFC-11,CFC-11_FLAG_W,CFC-12,CFC-12_FLAG_W,TCARBN,TCARBN_FLAG_W,ALKALI,ALKALI_FLAG_W,PH_TS,PH_TS_FLAG_W,PH_TS_TMP,CFC113,CFC113_FLAG_W,CHLORA,CHLORA_FLAG_W,PPHYTN,PPHYTN_FLAG_W,THETA,THETA_FLAG_W,SIGTHT,SIGTHT_FLAG_W,SBE35,SBE35_FLAG_W
,,,,,,,,UTC,,,,METER,DBAR,METERS,ITS-90,PSS-78,,UMOL/KG,,PSS78,,UMOL/KG,,UMOL/KG,,UMOL/KG,,UMOL/KG,,UMOL/KG,,PMOL/KG,,PMOL/KG,,UMOL/KG,,UMOL/KG,,,,ITS-90,PMOL/KG,,UG/KG,,UG/KG,,ITS-90,,KG/M3,,ITS-90,
49UP20180806_2,   P13,   102,  1,      0,      -9,0,20180914,0421,0455, -7.6237, 161.5075, 1798,      0.0,        0,  29.6481,  34.7084,2,    194.3,2,-999.0000,9,   193.66,2,     1.28,3,     0.01,2,     0.00,2,    0.150,3, -999.000,9, -999.000,9,   -999.0,9,   -999.0,9,-999.0000,9,  -999.00, -999.000,9,  -999.00,9,  -999.00,9,  29.6474,2,  21.6274,2,-999.0000,9
49UP20180806_2,   P13,   102,  1,     36,     845,2,20180914,0421,0518, -7.6237, 161.5075, 1798,     10.8,       11,  29.6462,  34.7089,2,    194.2,2,  34.7093,2,   193.83,2,     1.36,3,     0.00,2,     0.00,2,    0.140,3, -999.000,9, -999.000,9,   -999.0,9,   -999.0,9,-999.0000,9,  -999.00, -999.000,9,  -999.00,9,  -999.00,9,  29.6435,2,  21.6291,2,  29.6484,2
49UP20180806_2,   P13,   102,  1,     35,     844,2,20180914,0421,0517, -7.6237, 161.5075, 1798,     26.0,       26,  29.6495,  34.7092,2,    194.1,2,  34.7099,2,   194.18,2,     1.43,3,     0.00,2,     0.00,2,    0.140,3, -999.000,9, -999.000,9,   -999.0,9,   -999.0,9,-999.0000,9,  -999.00, -999.000,9,  -999.00,9,  -999.00,9,  29.6431,2,  21.6295,2,  29.6488,2
49UP20180806_2,   P13,   102,  1,     34,     843,2,20180914,0421,0513, -7.6237, 161.5075, 1798,     50.7,       50,  29.4160,  34.9053,2,    194.9,2,  34.9168,2,   195.06,6,     1.43,3,     0.00,6,     0.00,6,    0.180,3, -999.000,9, -999.000,9,   -999.0,9,   -999.0,9,-999.0000,9,  -999.00, -999.000,9,  -999.00,9,  -999.00,9,  29.4036,2,  21.8575,2,  29.4178,2
49UP20180806_2,   P13,   102,  1,     33,     842,2,20180914,0421,0512, -7.6237, 161.5075, 1798,     77.5,       77,  29.3584,  35.0292,2,    193.8,2,  35.0449,2,   193.82,2,     1.32,3,     0.00,2,     0.00,2,    0.180,3, -999.000,9, -999.000,9,   -999.0,9,   -999.0,9,-999.0000,9,  -999.00, -999.000,9,  -999.00,9,  -999.00,9,  29.3395,2,  21.9721,2,  29.3577,2
49UP20180806_2,   P13,   102,  1,     32,     841,2,20180914,0421,0510, -7.6237, 161.5075, 1798,    104.8,      104,  28.1735,  35.5510,2,    159.1,2,  35.5548,6,   160.31,2,     1.98,3,     4.37,2,     0.66,2,    0.520,3, -999.000,9, -999.000,9,   -999.0,9,   -999.0,9,-999.0000,9,  -999.00, -999.000,9,  -999.00,9,  -999.00,9,  28.1486,2,  22.7603,2,  28.1746,2
49UP20180806_2,   P13,   102,  1,     31,     840,2,20180914,0421,0509, -7.6237, 161.5075, 1798,    127.5,      127,  26.9852,  35.7811,2,    141.3,2,  35.7966,2,   140.18,2,     1.96,3,     7.14,2,     0.25,2,    0.690,3, -999.000,9, -999.000,9,   -999.0,9,   -999.0,9,-999.0000,9,  -999.00, -999.000,9,  -999.00,9,  -999.00,9,  26.9559,2,  23.3204,2,  26.9857,2
49UP20180806_2,   P13,   102,  1,     26,     835,2,20180914,0421,0508, -7.6237, 161.5075, 1798,    151.5,      151,  25.5372,  36.0451,2,    142.4,2,  36.0420,2,   140.88,2,     1.76,3,     6.96,2,     0.05,2,    0.710,3, -999.000,9, -999.000,9,   -999.0,9,   -999.0,9,-999.0000,9,  -999.00, -999.000,9,  -999.00,9,  -999.00,9,  25.5037,2,  23.9765,2,  25.5352,2
49UP20180806_2,   P13,   102,  1,     27,     661,2,20180914,0421,0508, -7.6237, 161.5075, 1798,    151.6,      151,  25.5326,  36.0464,2,    143.0,2,  36.0462,2,   141.79,2,     1.81,3,     6.86,2,     0.05,2,    0.700,3, -999.000,9, -999.000,9,   -999.0,9,   -999.0,9,-999.0000,9,  -999.00, -999.000,9,  -999.00,9,  -999.00,9,  25.4991,2,  23.9789,2,  25.5325,2
49UP20180806_2,   P13,   102,  1,     25,     834,2,20180914,0421,0506, -7.6237, 161.5075, 1798,    204.2,      203,  20.7804,  35.8559,2,    135.4,2,  35.8469,2,   135.41,6,     2.95,3,     9.62,6,     0.01,6,    0.910,3, -999.000,9, -999.000,9,   -999.0,9,   -999.0,9,-999.0000,9,  -999.00, -999.000,9,  -999.00,9,  -999.00,9,  20.7414,2,  25.2161,2,  20.7806,2
49UP20180806_2,   P13,   102,  1,     21,     830,2,20180914,0421,0504, -7.6237, 161.5075, 1798,    251.9,      250,  17.1488,  35.4032,2,    115.0,2,  35.4015,2,   114.48,2,     6.57,3,    14.88,2,     0.01,2,    1.260,3, -999.000,9, -999.000,9,   -999.0,9,   -999.0,9,-999.0000,9,  -999.00, -999.000,9,  -999.00,9,  -999.00,9,  17.1068,2,  25.7983,2,  17.1471,2
49UP20180806_2,   P13,   102,  1,     20,     829,2,20180914,0421,0502, -7.6237, 161.5075, 1798,    283.3,      282,  15.3112,  35.2024,2,    100.5,2,  35.1913,2,    98.52,2,     9.80,3,    18.68,2,     0.01,2,    1.530,3, -999.000,9, -999.000,9,   -999.0,9,   -999.0,9,-999.0000,9,  -999.00, -999.000,9,  -999.00,9,  -999.00,9,  15.2675,2,  26.0688,2,  15.3134,2
49UP20180806_2,   P13,   102,  1,     19,     828,3,20180914,0421,0501, -7.6237, 161.5075, 1798,    323.2,      321,  12.8538,  34.9654,2,    105.4,2,  34.9610,2,   104.80,2,    14.04,3,    22.28,2,     0.00,2,    1.690,3, -999.000,9, -999.000,9,   -999.0,9,   -999.0,9,-999.0000,9,  -999.00, -999.000,9,  -999.00,9,  -999.00,9,  12.8095,2,  26.4042,2,  12.8551,2
49UP20180806_2,   P13,   102,  1,     18,     660,2,20180914,0421,0459, -7.6237, 161.5075, 1798,    373.0,      371,  10.8685,  34.8026,2,    112.8,2,  34.8015,2,   112.55,2,    18.69,3,    25.27,2,     0.00,2,    1.840,3, -999.000,9, -999.000,9,   -999.0,9,   -999.0,9,-999.0000,9,  -999.00, -999.000,9,  -999.00,9,  -999.00,9,  10.8226,2,  26.6538,2,  10.8683,2
49UP20180806_2,   P13,   102,  1,     17,     826,2,20180914,0421,0457, -7.6237, 161.5075, 1798,    423.9,      421,   9.8988,  34.7283,2,    115.5,2,  34.7286,2,   115.10,2,    21.40,3,    26.85,2,     0.00,2,    1.930,3, -999.000,9, -999.000,9,   -999.0,9,   -999.0,9,-999.0000,9,  -999.00, -999.000,9,  -999.00,9,  -999.00,9,   9.8495,2,  26.7654,2,   9.8991,2
49UP20180806_2,   P13,   102,  1,     16,     825,2,20180914,0421,0456, -7.6237, 161.5075, 1798,    474.2,      471,   8.7926,  34.6555,2,    125.9,2,  34.6554,2,   126.16,2,    25.92,3,    28.23,2,     0.00,2,    2.010,3, -999.000,9, -999.000,9,   -999.0,9,   -999.0,9,-999.0000,9,  -999.00, -999.000,9,  -999.00,9,  -999.00,9,   8.7412,2,  26.8894,2,   8.7915,2
49UP20180806_2,   P13,   102,  1,     15,     824,2,20180914,0421,0453, -7.6237, 161.5075, 1798,    574.6,      571,   7.1317,  34.5530,2,    142.0,2,  34.5538,2,   141.65,2,    33.49,3,    29.95,2,     0.00,2,    2.110,3, -999.000,9, -999.000,9,   -999.0,9,   -999.0,9,-999.0000,9,  -999.00, -999.000,9,  -999.00,9,  -999.00,9,   7.0762,2,  27.0561,2,   7.1314,2
49UP20180806_2,   P13,   102,  1,     14,     823,3,20180914,0421,0450, -7.6237, 161.5075, 1798,    676.1,      671,   5.8596,  34.5183,2,    138.3,2,  34.5181,2,   137.66,2,    46.77,3,    32.65,2,     0.00,2,    2.290,3, -999.000,9, -999.000,9,   -999.0,9,   -999.0,9,-999.0000,9,  -999.00, -999.000,9,  -999.00,9,  -999.00,9,   5.8004,2,  27.1972,2,   5.8594,2
49UP20180806_2,   P13,   102,  1,     13,     822,2,20180914,0421,0447, -7.6237, 161.5075, 1798,    777.5,      772,   5.2086,  34.5113,2,    140.2,2,  34.5116,6,   140.02,2,    55.10,3,    33.50,2,     0.00,2,    2.350,3, -999.000,9, -999.000,9,   -999.0,9,   -999.0,9,-999.0000,9,  -999.00, -999.000,9,  -999.00,9,  -999.00,9,   5.1439,2,  27.2710,2,   5.2086,2
49UP20180806_2,   P13,   102,  1,      8,     817,2,20180914,0421,0444, -7.6237, 161.5075, 1798,    878.3,      872,   4.7191,  34.5071,2,    141.6,2,  34.5085,2,   141.56,2,    61.64,3,    34.03,2,     0.00,2,    2.380,3, -999.000,9, -999.000,9,   -999.0,9,   -999.0,9,-999.0000,9,  -999.00, -999.000,9,  -999.00,9,  -999.00,9,   4.6486,2,  27.3243,2,   4.7189,2
49UP20180806_2,   P13,   102,  1,      9,     818,2,20180914,0421,0444, -7.6237, 161.5075, 1798,    878.7,      872,   4.7191,  34.5072,2,    141.7,2,  34.5084,2,   141.79,2,    61.48,3,    34.05,2,     0.00,2,    2.380,3, -999.000,9, -999.000,9,   -999.0,9,   -999.0,9,-999.0000,9,  -999.00, -999.000,9,  -999.00,9,  -999.00,9,   4.6486,2,  27.3244,2,   4.7191,2
49UP20180806_2,   P13,   102,  1,      7,     816,2,20180914,0421,0442, -7.6237, 161.5075, 1798,    978.3,      971,   4.3816,  34.5323,2,    135.1,2,  34.5336,2,   135.01,6,    71.71,3,    34.83,6,     0.00,6,    2.450,3, -999.000,9, -999.000,9,   -999.0,9,   -999.0,9,-999.0000,9,  -999.00, -999.000,9,  -999.00,9,  -999.00,9,   4.3048,2,  27.3820,2,   4.3819,2
49UP20180806_2,   P13,   102,  1,      6,     815,2,20180914,0421,0437, -7.6237, 161.5075, 1798,   1141.8,     1132,   3.7315,  34.5446,2,    134.0,2,  34.5449,2,   133.92,2,    83.34,3,    35.80,2,     0.00,2,    2.520,3, -999.000,9, -999.000,9,   -999.0,9,   -999.0,9,-999.0000,9,  -999.00, -999.000,9,  -999.00,9,  -999.00,9,   3.6462,2,  27.4599,2,   3.7311,2
49UP20180806_2,   P13,   102,  1,      5,     814,2,20180914,0421,0432, -7.6237, 161.5075, 1798,   1341.6,     1330,   3.1920,  34.5752,2,    129.5,2,  34.5763,6,   129.37,2,    98.34,3,    36.55,2,     0.00,2,    2.580,3, -999.000,9, -999.000,9,   -999.0,9,   -999.0,9,-999.0000,9,  -999.00, -999.000,9,  -999.00,9,  -999.00,9,   3.0952,2,  27.5372,2,   3.1939,2
49UP20180806_2,   P13,   102,  1,      4,     813,2,20180914,0421,0428, -7.6237, 161.5075, 1798,   1544.7,     1530,   2.8010,  34.6009,2,    123.6,2,  34.6027,2,   123.15,2,   111.78,3,    37.27,2,     0.00,2,    2.630,3, -999.000,9, -999.000,9,   -999.0,9,   -999.0,9,-999.0000,9,  -999.00, -999.000,9,  -999.00,9,  -999.00,9,   2.6918,2,  27.5942,2,   2.8013,2
49UP20180806_2,   P13,   102,  1,      3,     812,2,20180914,0421,0421, -7.6237, 161.5075, 1798,   1790.1,     1773,   2.3828,  34.6253,2,    127.6,2,  34.6268,2,   127.06,2,   122.62,3,    37.21,2,     0.00,2,    2.610,3, -999.000,9, -999.000,9,   -999.0,9,   -999.0,9,-999.0000,9,  -999.00, -999.000,9,  -999.00,9,  -999.00,9,   2.2584,2,  27.6506,2,   2.3828,2
49UP20180806_2,   P13,   101,  1,      0,      -9,0,20180914,1008,1035, -7.2578, 162.0022, 1526,      0.0,        0,  29.6711,  34.7777,2,    194.2,2,  34.7781,2,   193.40,2,     0.94,3,     0.00,2,     0.00,2,    0.160,3, -999.000,9, -999.000,9,   1948.3,2,   2285.6,2,   8.1242,2,    25.00, -999.000,9,     0.08,2,     0.05,2,  29.6705,2,  21.6716,2,-999.0000,9
49UP20180806_2,   P13,   101,  1,     36,     845,2,20180914,1008,1102, -7.2578, 162.0022, 1526,     11.4,       11,  29.6807,  34.7781,2,    194.3,2,  34.7792,2,   193.77,2,     0.92,3,     0.00,2,     0.00,2,    0.130,3,    1.412,2,    0.810,2,   1939.7,2,   2286.1,2,   8.1292,6,    25.00,    0.122,2,     0.08,2,     0.05,2,  29.6779,2,  21.6694,2,  29.6813,2
49UP20180806_2,   P13,   101,  1,     35,     844,2,20180914,1008,1100, -7.2578, 162.0022, 1526,     26.0,       26,  29.6787,  34.7787,2,    194.2,2,  34.7791,2,   193.86,2,     0.97,3,     0.00,2,     0.00,2,    0.140,3, -999.000,9, -999.000,9,   1948.5,6,   2286.1,6,   8.1255,2,    25.00, -999.000,9,     0.08,2,     0.05,2,  29.6723,2,  21.6717,2,  29.6836,2
49UP20180806_2,   P13,   101,  1,     34,     843,2,20180914,1008,1058, -7.2578, 162.0022, 1526,     50.8,       51,  29.6463,  34.8405,2,    194.7,2,  34.8382,2,   194.67,2,     0.91,3,     0.00,2,     0.00,2,    0.140,3,    1.431,2,    0.812,2,   1953.6,2,   2290.9,2,   8.1258,2,    25.00,    0.134,2,     0.10,2,     0.06,2,  29.6338,2,  21.7311,2,  29.6471,2
49UP20180806_2,   P13,   101,  1,     33,     842,2,20180914,1008,1056, -7.2578, 162.0022, 1526,     75.7,       75,  29.4391,  35.4670,2,    192.6,2,  35.4668,2,   192.40,2,     1.00,3,     0.00,2,     0.00,2,    0.230,3, -999.000,9, -999.000,9,   2010.7,2,   2334.4,2,   8.0910,2,    25.00, -999.000,9,     0.22,2,     0.21,2,  29.4205,2,  22.2733,2,  29.4392,2
49UP20180806_2,   P13,   101,  1,     32,     841,2,20180914,1008,1055, -7.2578, 162.0022, 1526,    101.4,      101,  28.6690,  35.6128,2,    174.1,2,  35.6099,2,   174.57,2,     1.35,3,     2.19,2,     0.70,2,    0.410,3,    1.492,6,    0.851,6,   2039.1,2,   2342.7,2,   8.0474,2,    25.00,    0.129,6,     0.16,2,     0.30,2,  28.6446,2,  22.6428,2,  28.6680,2
49UP20180806_2,   P13,   101,  1,     31,     840,2,20180914,1008,1053, -7.2578, 162.0022, 1526,    126.4,      126,  27.8793,  35.6929,2,    167.0,2,  35.6931,2,   167.89,2,     1.52,3,     4.42,2,     1.49,2,    0.530,3, -999.000,9, -999.000,9,   2056.8,2,   2344.7,2,   8.0219,2,    25.00, -999.000,9,     0.11,2,     0.23,2,  27.8495,2,  22.9650,2,  27.8785,2
49UP20180806_2,   P13,   101,  1,     27,     661,2,20180914,1008,1051, -7.2578, 162.0022, 1526,    150.2,      149,  26.7430,  35.8264,2,    146.3,2,  35.8231,2,   146.84,6,     1.93,3,     6.27,6,     0.26,6,    0.670,3,    1.607,2,    0.918,2,   2082.8,2,   2353.1,2,   7.9873,2,    25.00,    0.112,2,     0.07,2,     0.21,2,  26.7087,2,  23.4334,2,  26.7420,2
49UP20180806_2,   P13,   101,  1,     26,     835,2,20180914,1008,1049, -7.2578, 162.0022, 1526,    202.4,      201,  22.4104,  36.0399,2,    139.0,2,  36.0462,2,   139.30,2,     2.27,3,     7.65,2,     0.02,2,    0.800,3,    1.913,2,    1.080,2,   2131.1,2,   2372.3,2,   7.9230,2,    25.00,    0.067,2,  -999.00,9,  -999.00,9,  22.3696,2,  24.9036,2,  22.4099,2
49UP20180806_2,   P13,   101,  1,     25,     834,2,20180914,1008,1049, -7.2578, 162.0022, 1526,    203.0,      202,  22.3979,  36.0386,2,    139.0,2,  36.0401,2,   139.90,2,     2.26,3,     7.67,2,     0.02,2,    0.800,3, -999.000,9, -999.000,9,   2135.4,2,   2372.0,2,   7.9206,2,    25.00, -999.000,9,     0.02,2,     0.03,2,  22.3570,2,  24.9062,2,  22.3998,2
49UP20180806_2,   P13,   101,  1,     21,     830,2,20180914,1008,1047, -7.2578, 162.0022, 1526,    252.3,      251,  15.7425,  35.2446,2,    102.2,2,  35.2543,2,   103.72,2,     8.85,3,    16.93,2,     0.00,2,    1.450,3,    1.881,2,    0.990,2,   2181.4,2,   2325.5,2,   7.7388,6,    25.00,    0.018,2,  -999.00,9,  -999.00,9,  15.7028,2,  26.0036,2,  15.7253,2
49UP20180806_2,   P13,   101,  1,     20,     829,2,20180914,1008,1044, -7.2578, 162.0022, 1526,    332.7,      331,  12.1756,  34.9071,2,    100.0,2,  34.9068,2,    99.88,2,    15.61,3,    23.41,2,     0.00,2,    1.760,3,    1.490,2,    0.730,2,   2196.8,6,   2307.4,6,   7.6568,2,    25.00,    0.008,2,  -999.00,9,  -999.00,9,  12.1315,2,  26.4917,2,  12.1773,2
49UP20180806_2,   P13,   101,  1,     19,     828,2,20180914,1008,1042, -7.2578, 162.0022, 1526,    383.6,      381,  10.2307,  34.7527,2,    110.8,2,  34.7533,2,   110.18,2,    20.15,3,    26.23,2,     0.00,2,    1.890,3, -999.000,9, -999.000,9,   2190.7,2,   2303.0,2,   7.6309,2,    25.00, -999.000,9,  -999.00,9,  -999.00,9,  10.1853,2,  26.7270,2,  10.2299,2
49UP20180806_2,   P13,   101,  1,     18,     660,2,20180914,1008,1040, -7.2578, 162.0022, 1526,    434.0,      431,   9.0410,  34.6686,2,    119.8,2,  34.6675,2,   120.05,2,    24.06,3,    27.93,2,     0.00,2,    1.970,3,    1.023,2,    0.475,2,   2206.9,2,   2303.5,2,   7.6195,2,    25.00,    0.014,2,  -999.00,9,  -999.00,9,   8.9933,2,  26.8597,2,   9.0411,2
49UP20180806_2,   P13,   101,  1,     17,     826,2,20180914,1008,1038, -7.2578, 162.0022, 1526,    483.5,      480,   8.2539,  34.6177,2,    119.5,2,  34.6185,2,   119.51,2,    27.63,3,    29.68,2,     0.00,2,    2.070,3, -999.000,9, -999.000,9,   2215.5,2,   2303.6,2,   7.6024,2,    25.00, -999.000,9,  -999.00,9,  -999.00,9,   8.2034,2,  26.9429,2,   8.2540,2
49UP20180806_2,   P13,   101,  1,     16,     825,2,20180914,1008,1037, -7.2578, 162.0022, 1526,    535.5,      532,   7.6220,  34.5816,2,    117.6,2,  34.5815,2,   117.88,2,    31.58,3,    31.18,2,     0.00,2,    2.180,3,    0.617,2,    0.289,2,   2218.6,2,   2305.4,2,   7.5845,2,    25.00,    0.009,2,  -999.00,9,  -999.00,9,   7.5685,2,  27.0087,2,   7.6223,2
49UP20180806_2,   P13,   101,  1,     15,     824,2,20180914,1008,1034, -7.2578, 162.0022, 1526,    636.4,      632,   6.3546,  34.5252,2,    127.8,2,  34.5254,2,   127.94,2,    41.49,3,    32.72,2,     0.00,2,    2.290,3,    0.437,2,    0.200,2,   2232.4,2,   2311.5,2,   7.5784,2,    25.00,    0.009,2,  -999.00,9,  -999.00,9,   6.2967,2,  27.1393,2,   6.3547,2
49UP20180806_2,   P13,   101,  1,     14,     823,2,20180914,1008,1031, -7.2578, 162.0022, 1526,    736.2,      731,   5.5986,  34.5127,2,    128.0,2,  34.5128,2,   128.20,2,    50.95,3,    33.97,2,     0.00,2,    2.380,3,    0.277,2,    0.114,2,   2241.9,2,   2320.3,2,   7.5677,2,    25.00,    0.008,2,  -999.00,9,  -999.00,9,   5.5353,2,  27.2254,2,   5.5969,2
49UP20180806_2,   P13,   101,  1,     13,     822,2,20180914,1008,1028, -7.2578, 162.0022, 1526,    839.7,      833,   4.9038,  34.5185,2,    127.6,2,  34.5190,2,   127.32,2,    62.62,3,    34.88,2,     0.00,2,    2.450,3,    0.172,2,    0.075,2,   2255.5,2,   2333.6,2,   7.5583,2,    25.00,    0.009,2,  -999.00,9,  -999.00,9,   4.8354,2,  27.3123,2,   4.9048,2
49UP20180806_2,   P13,   101,  1,      9,     818,2,20180914,1008,1025, -7.2578, 162.0022, 1526,    938.2,      931,   4.4736,  34.5288,2,    124.2,2,  34.5301,6,   123.83,6,    71.54,3,    35.66,6,     0.00,6,    2.500,3,    0.103,2,    0.037,2,   2269.7,2,   2346.8,2,   7.5522,2,    25.00,    0.004,2,  -999.00,9,  -999.00,9,   4.3996,2,  27.3690,2,   4.4758,2
49UP20180806_2,   P13,   101,  1,      8,     817,2,20180914,1008,1021, -7.2578, 162.0022, 1526,   1079.7,     1071,   3.9681,  34.5471,2,    118.8,2,  34.5478,2,   118.61,2,    85.59,3,    36.70,2,     0.00,2,    2.600,3,    0.044,2,    0.018,2,   2287.7,2,   2354.4,3,   7.5400,2,    25.00,    0.001,2,  -999.00,9,  -999.00,9,   3.8860,2,  27.4377,2,   3.9674,2
49UP20180806_2,   P13,   101,  1,      7,     816,2,20180914,1008,1020, -7.2578, 162.0022, 1526,   1080.2,     1071,   3.9683,  34.5470,2,    118.9,2,  34.5484,2,   118.30,2,    86.03,3,    36.73,2,     0.00,2,    2.620,3, -999.000,9, -999.000,9,   2287.0,2,   2357.8,2,   7.5395,2,    25.00, -999.000,9,  -999.00,9,  -999.00,9,   3.8861,2,  27.4375,2,   3.9678,2
49UP20180806_2,   P13,   101,  1,      6,     815,2,20180914,1008,1016, -7.2578, 162.0022, 1526,   1281.7,     1271,   3.4885,  34.5672,2,    118.5,2,  34.5682,2,   118.82,2,    98.55,3,    37.07,2,     0.00,2,    2.650,3,    0.020,2,    0.003,2,   2299.5,2,   2367.1,2,   7.5391,2,    25.00,    0.003,2,  -999.00,9,  -999.00,9,   3.3937,2,  27.5026,2,   3.4885,2
49UP20180806_2,   P13,   101,  1,      5,     814,2,20180914,1008,1011, -7.2578, 162.0022, 1526,   1485.6,     1472,   2.9658,  34.5943,2,    118.1,2,  34.5952,2,   117.91,2,   113.43,3,    37.48,2,     0.00,2,    2.690,3,    0.000,2,    0.000,2,   2314.4,2,   2384.4,2,   7.5358,2,    25.00,    0.005,2,  -999.00,9,  -999.00,9,   2.8595,2,  27.5740,2,   2.9658,2
49UP20180806_2,   P13,   101,  1,      4,     813,2,20180914,1008,1009, -7.2578, 162.0022, 1526,   1523.4,     1509,   2.8533,  34.6004,2,    119.1,2,  34.6015,6,   118.79,2,   114.51,3,    37.59,2,     0.00,2,    2.670,3,    0.004,2,    0.001,2,   2304.9,3,   2387.4,2,   7.5377,2,    25.00,    0.000,2,  -999.00,9,  -999.00,9,   2.7451,2,  27.5891,2,   2.8553,2
BTLNBR_FLAG_U : 0 means Bucket Sampling and other refered to WOCE Flag.