BOTTLE,20191018JMAGEMD
EXPOCODE,SECT_ID,STNNBR,CASTNO,SAMPNO,BTLNBR,BTLNBR_FLAG_U,DATE,TIME,BTL_TIME,LATITUDE,LONGITUDE,DEPTH,CTDPRS,CTDDEP,CTDTMP,CTDSAL,CTDSAL_FLAG_W,CTDOXY,CTDOXY_FLAG_W,SALNTY,SALNTY_FLAG_W,OXYGEN,OXYGEN_FLAG_W,SILCAT,SILCAT_FLAG_W,NO2+NO3,NO2+NO3_FLAG_W,NITRIT,NITRIT_FLAG_W,PHSPHT,PHSPHT_FLAG_W,CFC-11,CFC-11_FLAG_W,CFC-12,CFC-12_FLAG_W,TCARBN,TCARBN_FLAG_W,ALKALI,ALKALI_FLAG_W,PH_TS,PH_TS_FLAG_W,PH_TS_TMP,CFC113,CFC113_FLAG_W,CHLORA,CHLORA_FLAG_W,PPHYTN,PPHYTN_FLAG_W,THETA,THETA_FLAG_W,SIGTHT,SIGTHT_FLAG_W,SBE35,SBE35_FLAG_W
,,,,,,,,UTC,,,,METER,DBAR,METERS,ITS-90,PSS-78,,UMOL/KG,,PSS78,,UMOL/KG,,UMOL/KG,,UMOL/KG,,UMOL/KG,,UMOL/KG,,PMOL/KG,,PMOL/KG,,UMOL/KG,,UMOL/KG,,,,ITS-90,PMOL/KG,,UG/KG,,UG/KG,,ITS-90,,KG/M3,,ITS-90,
49UP20180806_1,   P13,    69,  1,      0,      -9,0,20180824,1114,1310,  9.9905, 163.9933, 4980,      0.0,        0,  29.6737,  33.7843,2,    195.3,2,  33.7805,2,   195.51,2,     1.04,3,     0.00,2,     0.00,2,    0.080,3, -999.000,9, -999.000,9,   1899.7,2,   2220.8,2,   8.1116,2,    25.00, -999.000,9,     0.04,2,     0.01,2,  29.6731,2,  20.9259,2,-999.0000,9
49UP20180806_1,   P13,    69,  1,     36,     845,2,20180824,1114,1331,  9.9905, 163.9933, 4980,     11.1,       11,  29.7025,  33.7850,2,    195.2,2,  33.7854,2,   195.31,2,     1.04,3,     0.00,2,     0.00,2,    0.050,3,    1.481,2,    0.844,2,   1897.9,2,   2221.5,2,   8.1132,2,    25.00,    0.135,2,     0.04,2,     0.01,2,  29.6998,2,  20.9174,2,  29.7053,2
49UP20180806_1,   P13,    69,  1,     35,     844,2,20180824,1114,1328,  9.9905, 163.9933, 4980,     50.9,       51,  27.8544,  34.5124,2,    208.5,2,  34.5221,2,   208.80,2,     1.12,3,     0.00,2,     0.00,2,    0.070,3,    1.656,2,    0.920,2,   1951.8,6,   2271.9,6,   8.0922,2,    25.00,    0.131,2,     0.05,2,     0.02,2,  27.8425,2,  22.0793,2,  27.8027,2
49UP20180806_1,   P13,    69,  1,     24,     833,4,20180824,1114,1326,  9.9905, 163.9933, 4980,     74.9,       74,  24.3099,  34.9470,2,    200.6,2,-999.0000,9,  -999.00,9,  -999.00,9,  -999.00,9,  -999.00,9, -999.000,9, -999.000,9, -999.000,9,   -999.0,9,   -999.0,9,-999.0000,9,  -999.00, -999.000,9,  -999.00,9,  -999.00,9,  24.2940,2,  23.5139,2,  24.3519,2
49UP20180806_1,   P13,    69,  1,     34,     843,2,20180824,1114,1325,  9.9905, 163.9933, 4980,    101.5,      101,  21.0537,  34.9104,2,    179.9,2,  34.9125,2,   180.18,2,     2.72,3,     1.26,2,     0.09,2,    0.290,3,    2.014,2,    1.126,2,   2058.0,2,   2303.5,2,   7.9471,6,    25.00,    0.088,2,     0.22,2,     0.25,2,  21.0343,2,  24.4164,2,  21.0501,2
49UP20180806_1,   P13,    69,  1,     33,     842,2,20180824,1114,1323,  9.9905, 163.9933, 4980,    130.8,      130,  17.1904,  34.6563,2,    156.5,2,  34.6636,4,   158.25,2,     7.19,3,     8.37,2,     0.04,2,    0.710,3, -999.000,9, -999.000,9,   2094.4,2,   2287.0,2,   7.8396,2,    25.00, -999.000,9,     0.14,2,     0.25,2,  17.1687,2,  25.2103,2,  17.1604,2
49UP20180806_1,   P13,    69,  1,     32,     841,2,20180824,1114,1322,  9.9905, 163.9933, 4980,    154.4,      153,  14.7398,  34.4891,2,    155.8,2,  34.4887,2,   156.06,2,    10.99,3,    12.04,2,     0.01,2,    0.950,3,    2.523,2,    1.339,2,   2112.9,2,   2277.8,2,   7.7832,2,    25.00,    0.039,2,     0.06,2,     0.16,2,  14.7169,2,  25.6396,2,  14.7330,2
49UP20180806_1,   P13,    69,  1,     31,     840,2,20180824,1114,1320,  9.9905, 163.9933, 4980,    206.5,      205,  11.2630,  34.3949,2,    101.6,2,  34.3912,2,   102.28,2,    24.75,3,    23.17,2,     0.00,2,    1.750,3,    2.078,2,    1.030,2,   2183.5,2,   2279.5,2,   7.6128,2,    25.00,    0.024,2,     0.00,2,     0.02,2,  11.2373,2,  26.2612,2,  11.2633,2
49UP20180806_1,   P13,    69,  1,     30,     839,2,20180824,1114,1318,  9.9905, 163.9933, 4980,    252.7,      251,   9.8321,  34.4870,2,     63.7,2,  34.4877,2,    63.38,6,    34.25,3,    30.32,6,     0.00,6,    2.210,3,    1.198,2,    0.564,2,   2229.9,2,   2295.9,2,   7.5222,2,    25.00,    0.011,2,  -999.00,9,  -999.00,9,   9.8032,2,  26.5847,2,   9.8323,2
49UP20180806_1,   P13,    69,  1,     29,     838,2,20180824,1114,1316,  9.9905, 163.9933, 4980,    302.5,      301,   9.3262,  34.5449,2,     57.3,2,  34.5442,2,    56.64,2,    36.88,3,    32.33,2,     0.00,2,    2.320,3,    0.833,2,    0.393,2,   2240.9,2,   2304.0,2,   7.5029,2,    25.00,    0.008,2,  -999.00,9,  -999.00,9,   9.2926,2,  26.7145,2,   9.3268,2
49UP20180806_1,   P13,    69,  1,     28,     837,2,20180824,1114,1314,  9.9905, 163.9933, 4980,    353.4,      351,   8.6975,  34.5635,2,     62.3,2,  34.5620,2,    62.16,2,    39.51,3,    33.28,2,     0.00,2,    2.360,3, -999.000,9, -999.000,9,   2245.2,2,   2307.5,2,   7.5058,2,    25.00, -999.000,9,  -999.00,9,  -999.00,9,   8.6598,2,  26.8302,2,   8.6989,2
49UP20180806_1,   P13,    69,  1,     27,     661,2,20180824,1114,1313,  9.9905, 163.9933, 4980,    403.2,      401,   8.2364,  34.5572,2,     66.2,2,  34.5568,2,    65.47,2,    43.07,3,    33.93,2,     0.00,2,    2.430,3,    0.504,2,    0.235,2,   2244.7,2,   2310.6,2,   7.5053,2,    25.00,    0.015,2,  -999.00,9,  -999.00,9,   8.1946,2,  26.8968,2,   8.2362,2
49UP20180806_1,   P13,    69,  1,     26,     835,2,20180824,1114,1311,  9.9905, 163.9933, 4980,    454.3,      451,   7.7995,  34.5502,2,     65.1,2,  34.5494,2,    65.13,2,    46.78,3,    34.81,2,     0.00,2,    2.510,3, -999.000,9, -999.000,9,   2266.7,2,   2314.6,2,   7.4987,2,    25.00, -999.000,9,  -999.00,9,  -999.00,9,   7.7537,2,  26.9570,2,   7.7993,2
49UP20180806_1,   P13,    69,  1,     25,     834,2,20180824,1114,1309,  9.9905, 163.9933, 4980,    505.1,      502,   7.3134,  34.5346,2,     67.2,2,  34.5346,2,    66.78,2,    51.66,3,    35.43,2,     0.00,2,    2.570,3,    0.310,2,    0.141,2,   2257.7,2,   2319.0,2,   7.4917,2,    25.00,    0.003,2,  -999.00,9,  -999.00,9,   7.2642,2,  27.0152,2,   7.3114,2
49UP20180806_1,   P13,    69,  1,     23,     832,2,20180824,1114,1306,  9.9905, 163.9933, 4980,    605.0,      601,   6.5053,  34.5231,2,     67.3,2,  34.5231,2,    66.88,2,    61.21,3,    37.02,2,     0.00,2,    2.670,3,    0.198,2,    0.081,2,   2271.1,2,   2327.3,2,   7.4812,2,    25.00,    0.003,2,  -999.00,9,  -999.00,9,   6.4497,2,  27.1175,2,   6.5053,2
49UP20180806_1,   P13,    69,  1,     22,     831,2,20180824,1114,1303,  9.9905, 163.9933, 4980,    705.5,      700,   5.7387,  34.5275,2,     61.2,2,  34.5271,2,    61.31,2,    72.70,3,    38.85,2,     0.00,2,    2.790,3,    0.075,2,    0.027,2,   2292.0,2,   2339.9,2,   7.4625,2,    25.00,    0.005,2,  -999.00,9,  -999.00,9,   5.6774,2,  27.2197,2,   5.7379,2
49UP20180806_1,   P13,    69,  1,     21,     830,2,20180824,1114,1300,  9.9905, 163.9933, 4980,    807.5,      801,   5.2276,  34.5338,2,     64.9,2,  34.5344,2,    65.32,2,    80.52,3,    39.37,2,     0.00,2,    2.810,3,    0.040,2,    0.011,2,   2304.8,2,   2349.9,2,   7.4598,2,    25.00,   -0.000,2,  -999.00,9,  -999.00,9,   5.1600,2,  27.2870,2,   5.2277,2
49UP20180806_1,   P13,    69,  1,     20,     829,2,20180824,1114,1257,  9.9905, 163.9933, 4980,    908.7,      902,   4.7585,  34.5446,2,     69.7,2,  34.5450,2,    69.94,6,    88.57,3,    39.58,6,     0.00,6,    2.820,3,    0.026,2,    0.009,2,   2312.5,2,   2358.3,2,   7.4697,2,    25.00,    0.004,2,  -999.00,9,  -999.00,9,   4.6850,2,  27.3501,2,   4.7587,2
49UP20180806_1,   P13,    69,  1,     19,     828,2,20180824,1114,1255,  9.9905, 163.9933, 4980,   1009.6,     1001,   4.3197,  34.5551,2,     74.8,2,  34.5556,2,    74.81,2,    96.41,3,    39.48,2,     0.00,2,    2.820,3,    0.000,4,    0.000,4,   2315.9,2,   2367.9,2,   7.4716,2,    25.00,    0.000,4,  -999.00,9,  -999.00,9,   4.2406,2,  27.4069,2,   4.3198,2
49UP20180806_1,   P13,    69,  1,     18,     660,3,20180824,1114,1250,  9.9905, 163.9933, 4980,   1212.8,     1202,   3.6088,  34.5742,2,     78.4,2,  34.5749,2,    78.88,2,   111.69,3,    39.90,2,     0.00,2,    2.850,3,    0.005,2,    0.002,2,   2328.3,2,   2382.5,2,   7.4732,6,    25.00,    0.003,2,  -999.00,9,  -999.00,9,   3.5186,2,  27.4960,2,   3.6087,2
49UP20180806_1,   P13,    69,  1,     17,     826,2,20180824,1114,1245,  9.9905, 163.9933, 4980,   1414.8,     1402,   3.0549,  34.5923,2,     86.6,2,  34.5926,2,    86.27,2,   125.58,3,    39.71,2,     0.00,2,    2.830,3,    0.004,2,    0.002,2,   2335.7,2,   2396.5,2,   7.4835,2,    25.00,    0.000,2,  -999.00,9,  -999.00,9,   2.9535,2,  27.5639,2,   3.0550,2
49UP20180806_1,   P13,    69,  1,     16,     825,2,20180824,1114,1240,  9.9905, 163.9933, 4980,   1617.1,     1602,   2.6905,  34.6076,2,     94.9,2,  34.6082,6,    94.88,2,   133.87,3,    39.36,2,     0.00,2,    2.800,3,    0.000,2,    0.000,2,   2348.0,2,   2404.6,2,   7.4975,2,    25.00,    0.000,2,  -999.00,9,  -999.00,9,   2.5766,2,  27.6096,2,   2.6906,2
49UP20180806_1,   P13,    69,  1,     15,     824,2,20180824,1114,1230,  9.9905, 163.9933, 4980,   1820.0,     1802,   2.4227,  34.6202,2,     99.6,2,  34.6206,2,    99.80,2,   139.83,3,    39.07,2,     0.00,2,    2.780,3,    0.002,2,    0.001,2,   2347.2,2,   2409.3,2,   7.5048,2,    25.00,    0.000,2,  -999.00,9,  -999.00,9,   2.2953,2,  27.6435,2,   2.4228,2
49UP20180806_1,   P13,    69,  1,     14,     823,2,20180824,1114,1226,  9.9905, 163.9933, 4980,   2023.3,     2002,   2.1824,  34.6343,2,    106.5,2,  34.6353,2,   106.83,2,   143.43,3,    38.77,2,     0.00,2,    2.750,3,    0.001,2,    0.000,2,   2346.5,2,   2419.5,2,   7.5167,2,    25.00,    0.000,2,  -999.00,9,  -999.00,9,   2.0412,2,  27.6754,2,   2.1824,2
49UP20180806_1,   P13,    69,  1,     13,     822,2,20180824,1114,1221,  9.9905, 163.9933, 4980,   2225.4,     2201,   2.0358,  34.6442,2,    112.1,2,  34.6447,2,   112.12,2,   145.47,3,    38.51,2,     0.00,2,    2.700,3,    0.000,2,   -0.000,2,   2350.7,2,   2420.4,2,   7.5271,2,    25.00,   -0.000,2,  -999.00,9,  -999.00,9,   1.8795,2,  27.6961,2,   2.0357,2
49UP20180806_1,   P13,    69,  1,     12,     821,2,20180824,1114,1214,  9.9905, 163.9933, 4980,   2428.8,     2401,   1.9016,  34.6531,2,    118.0,2,  34.6535,2,   118.39,2,   147.20,3,    38.08,2,     0.00,2,    2.660,3,   -0.000,2,    0.002,2,   2347.8,2,   2421.2,2,   7.5410,2,    25.00,    0.001,2,  -999.00,9,  -999.00,9,   1.7295,2,  27.7147,2,   1.9016,2
49UP20180806_1,   P13,    69,  1,     11,     820,2,20180824,1114,1209,  9.9905, 163.9933, 4980,   2631.4,     2600,   1.8258,  34.6583,2,    122.6,2,  34.6577,6,   122.10,6,   147.37,3,    37.83,6,     0.00,6,    2.630,3,    0.000,2,    0.000,2,   2342.9,2,   2423.9,2,   7.5445,2,    25.00,    0.000,2,  -999.00,9,  -999.00,9,   1.6368,2,  27.7259,2,   1.8257,2
49UP20180806_1,   P13,    69,  1,     10,     819,2,20180824,1114,1205,  9.9905, 163.9933, 4980,   2835.7,     2801,   1.7455,  34.6637,2,    127.2,2,  34.6643,6,   127.26,2,   148.48,3,    37.48,2,     0.00,2,    2.610,3,    0.000,2,   -0.000,2,   2342.4,2,   2425.2,2,   7.5508,2,    25.00,    0.001,2,  -999.00,9,  -999.00,9,   1.5391,2,  27.7374,2,   1.7455,2
49UP20180806_1,   P13,    69,  1,      9,     818,3,20180824,1114,1200,  9.9905, 163.9933, 4980,   3038.8,     3000,   1.6564,  34.6693,2,    133.5,2,  34.6670,4,   132.77,2,   148.42,3,    37.09,2,     0.00,2,    2.570,3, -999.000,9, -999.000,9,   2347.8,2,   2423.1,2,   7.5577,2,    25.00, -999.000,9,  -999.00,9,  -999.00,9,   1.4324,2,  27.7497,2,   1.6563,2
49UP20180806_1,   P13,    69,  1,      8,     817,2,20180824,1114,1154,  9.9905, 163.9933, 4980,   3294.3,     3250,   1.5958,  34.6740,2,    139.5,2,  34.6737,2,   139.83,2,   147.56,3,    36.64,2,     0.00,2,    2.530,3, -999.000,9, -999.000,9,   2334.9,6,   2422.5,6,   7.5662,2,    25.00, -999.000,9,  -999.00,9,  -999.00,9,   1.3481,2,  27.7595,2,   1.5958,2
49UP20180806_1,   P13,    69,  1,      7,     816,2,20180824,1114,1149,  9.9905, 163.9933, 4980,   3551.2,     3502,   1.5488,  34.6784,2,    146.1,2,  34.6790,2,   145.70,2,   145.07,3,    36.25,2,     0.00,2,    2.500,3,    0.000,2,   -0.000,2,   2327.9,2,   2420.3,2,   7.5753,6,    25.00,    0.000,2,  -999.00,9,  -999.00,9,   1.2762,2,  27.7681,2,   1.5487,2
49UP20180806_1,   P13,    69,  1,      6,     815,2,20180824,1114,1143,  9.9905, 163.9933, 4980,   3806.6,     3751,   1.4987,  34.6833,2,    153.8,2,  34.6837,2,   153.88,2,   142.47,3,    35.66,2,     0.00,2,    2.460,3,    0.007,2,    0.002,2,   2324.3,2,   2418.4,2,   7.5833,2,    25.00,    0.000,2,  -999.00,9,  -999.00,9,   1.2006,2,  27.7773,2,   1.4986,2
49UP20180806_1,   P13,    69,  1,      5,     814,2,20180824,1114,1137,  9.9905, 163.9933, 4980,   4061.7,     4000,   1.4733,  34.6868,2,    159.2,2,  34.6871,2,   158.94,2,   140.59,3,    35.31,2,     0.00,2,    2.440,3,    0.013,2,    0.002,2,   2321.4,2,   2414.6,2,   7.5922,2,    25.00,    0.003,2,  -999.00,9,  -999.00,9,   1.1484,2,  27.7837,2,   1.4732,2
49UP20180806_1,   P13,    69,  1,      4,     813,2,20180824,1114,1132,  9.9905, 163.9933, 4980,   4317.6,     4250,   1.4489,  34.6903,2,    165.2,2,  34.6910,6,   165.52,2,   137.83,3,    34.83,2,     0.00,2,    2.400,3,    0.004,2,    0.001,2,   2318.2,2,   2410.9,2,   7.5993,2,    25.00,    0.000,3,  -999.00,9,  -999.00,9,   1.0963,2,  27.7901,2,   1.4488,2
49UP20180806_1,   P13,    69,  1,      3,     812,2,20180824,1114,1126,  9.9905, 163.9933, 4980,   4574.1,     4500,   1.4189,  34.6945,2,    172.6,2,  34.6946,2,   172.54,2,   133.74,3,    34.31,2,     0.00,2,    2.370,3,    0.001,2,    0.002,2,   2309.4,2,   2407.6,2,   7.6054,2,    25.00,    0.001,2,  -999.00,9,  -999.00,9,   1.0378,2,  27.7973,2,   1.4192,2
49UP20180806_1,   P13,    69,  1,      2,     811,2,20180824,1114,1120,  9.9905, 163.9933, 4980,   4831.0,     4750,   1.3914,  34.6982,2,    179.6,2,  34.6992,4,   179.90,6,   129.12,3,    33.85,6,     0.00,6,    2.330,3,    0.005,2,    0.003,2,   2295.4,6,   2400.7,6,   7.6135,2,    25.00,    0.000,2,  -999.00,9,  -999.00,9,   0.9811,2,  27.8041,2,   1.3914,2
49UP20180806_1,   P13,    69,  1,      1,     810,2,20180824,1114,1115,  9.9905, 163.9933, 4980,   5060.4,     4973,   1.3964,  34.6997,2,    182.7,2,  34.7003,2,   182.46,2,   127.11,3,    33.58,2,     0.00,2,    2.300,3,    0.011,2,    0.002,2,   2292.4,2,   2398.1,2,   7.6151,2,    25.00,    0.000,3,  -999.00,9,  -999.00,9,   0.9582,2,  27.8068,2,   1.3963,2