BOTTLE,20191018JMAGEMD
EXPOCODE,SECT_ID,STNNBR,CASTNO,SAMPNO,BTLNBR,BTLNBR_FLAG_U,DATE,TIME,BTL_TIME,LATITUDE,LONGITUDE,DEPTH,CTDPRS,CTDDEP,CTDTMP,CTDSAL,CTDSAL_FLAG_W,CTDOXY,CTDOXY_FLAG_W,SALNTY,SALNTY_FLAG_W,OXYGEN,OXYGEN_FLAG_W,SILCAT,SILCAT_FLAG_W,NO2+NO3,NO2+NO3_FLAG_W,NITRIT,NITRIT_FLAG_W,PHSPHT,PHSPHT_FLAG_W,CFC-11,CFC-11_FLAG_W,CFC-12,CFC-12_FLAG_W,TCARBN,TCARBN_FLAG_W,ALKALI,ALKALI_FLAG_W,PH_TS,PH_TS_FLAG_W,PH_TS_TMP,CFC113,CFC113_FLAG_W,CHLORA,CHLORA_FLAG_W,PPHYTN,PPHYTN_FLAG_W,THETA,THETA_FLAG_W,SIGTHT,SIGTHT_FLAG_W,SBE35,SBE35_FLAG_W
,,,,,,,,UTC,,,,METER,DBAR,METERS,ITS-90,PSS-78,,UMOL/KG,,PSS78,,UMOL/KG,,UMOL/KG,,UMOL/KG,,UMOL/KG,,UMOL/KG,,PMOL/KG,,PMOL/KG,,UMOL/KG,,UMOL/KG,,,,ITS-90,PMOL/KG,,UG/KG,,UG/KG,,ITS-90,,KG/M3,,ITS-90,
49UP20180806_2,   P13,    77,  1,      0,      -9,0,20180905,0217,0402,  6.5055, 164.7583, 5053,      0.0,        0,  29.9070,  33.3771,2,    196.6,2,-999.0000,9,   196.16,2,     1.29,3,     0.00,2,     0.00,2,    0.030,3, -999.000,9, -999.000,9,   -999.0,9,   -999.0,9,-999.0000,9,  -999.00, -999.000,9,  -999.00,9,  -999.00,9,  29.9064,2,  20.5418,2,-999.0000,9
49UP20180806_2,   P13,    77,  1,     36,     845,2,20180905,0217,0438,  6.5055, 164.7583, 5053,     11.4,       11,  29.8935,  33.3744,2,    196.6,2,  33.3773,2,   195.88,2,     1.29,3,     0.00,2,     0.00,2,    0.020,3, -999.000,9, -999.000,9,   -999.0,9,   -999.0,9,-999.0000,9,  -999.00, -999.000,9,  -999.00,9,  -999.00,9,  29.8907,2,  20.5451,2,  29.8990,2
49UP20180806_2,   P13,    77,  1,     35,     844,2,20180905,0217,0433,  6.5055, 164.7583, 5053,     51.4,       51,  29.6088,  33.5262,2,    197.3,2,  33.5316,2,   197.99,2,     1.25,3,     0.00,2,     0.00,2,    0.030,3, -999.000,9, -999.000,9,   -999.0,9,   -999.0,9,-999.0000,9,  -999.00, -999.000,9,  -999.00,9,  -999.00,9,  29.5963,2,  20.7583,2,  29.6062,2
49UP20180806_2,   P13,    77,  1,     34,     843,2,20180905,0217,0432,  6.5055, 164.7583, 5053,    100.3,      100,  23.7109,  34.7291,2,    163.4,2,  34.7306,2,   164.42,2,     4.40,3,     3.46,2,     0.43,2,    0.400,3, -999.000,9, -999.000,9,   -999.0,9,   -999.0,9,-999.0000,9,  -999.00, -999.000,9,  -999.00,9,  -999.00,9,  23.6900,2,  23.5276,2,  23.7415,2
49UP20180806_2,   P13,    77,  1,     33,     842,2,20180905,0217,0430,  6.5055, 164.7583, 5053,    129.4,      129,  18.6645,  34.7172,2,    141.2,2,  34.7219,2,   142.30,2,     8.72,3,     9.72,2,     0.04,2,    0.790,3, -999.000,9, -999.000,9,   -999.0,9,   -999.0,9,-999.0000,9,  -999.00, -999.000,9,  -999.00,9,  -999.00,9,  18.6418,2,  24.8957,2,  18.6508,2
49UP20180806_2,   P13,    77,  1,     32,     841,2,20180905,0217,0429,  6.5055, 164.7583, 5053,    152.1,      151,  15.0688,  34.5715,2,    122.3,2,  34.5694,2,   121.46,2,    14.47,3,    16.02,2,     0.02,2,    1.230,3, -999.000,9, -999.000,9,   -999.0,9,   -999.0,9,-999.0000,9,  -999.00, -999.000,9,  -999.00,9,  -999.00,9,  15.0458,2,  25.6315,2,  15.0856,2
49UP20180806_2,   P13,    77,  1,     31,     840,2,20180905,0217,0427,  6.5055, 164.7583, 5053,    205.4,      204,  10.8014,  34.5796,2,     46.3,2,  34.5752,2,    46.10,2,    30.35,3,    30.52,2,     0.00,2,    2.240,3, -999.000,9, -999.000,9,   -999.0,9,   -999.0,9,-999.0000,9,  -999.00, -999.000,9,  -999.00,9,  -999.00,9,  10.7765,2,  26.4883,2,  10.7991,2
49UP20180806_2,   P13,    77,  1,     30,     839,2,20180905,0217,0425,  6.5055, 164.7583, 5053,    253.7,      252,  10.0861,  34.6274,2,     34.5,2,  34.6253,2,    34.34,2,    33.40,3,    33.24,2,     0.00,2,    2.400,3, -999.000,9, -999.000,9,   -999.0,9,   -999.0,9,-999.0000,9,  -999.00, -999.000,9,  -999.00,9,  -999.00,9,  10.0566,2,  26.6513,2,  10.0870,2
49UP20180806_2,   P13,    77,  1,     29,     838,2,20180905,0217,0422,  6.5055, 164.7583, 5053,    336.4,      334,   9.3527,  34.6357,2,     51.4,2,  34.6346,2,    51.34,2,    34.77,3,    33.43,6,     0.00,6,    2.370,3, -999.000,9, -999.000,9,   -999.0,9,   -999.0,9,-999.0000,9,  -999.00, -999.000,9,  -999.00,9,  -999.00,9,   9.3152,2,  26.7819,2,   9.3530,2
49UP20180806_2,   P13,    77,  1,     28,     837,2,20180905,0217,0420,  6.5055, 164.7583, 5053,    384.2,      382,   8.9468,  34.6206,2,     49.4,2,  34.6189,2,    49.00,2,    37.25,3,    34.46,2,     0.00,2,    2.450,3, -999.000,9, -999.000,9,   -999.0,9,   -999.0,9,-999.0000,9,  -999.00, -999.000,9,  -999.00,9,  -999.00,9,   8.9049,2,  26.8362,2,   8.9459,2
49UP20180806_2,   P13,    77,  1,     27,     661,2,20180905,0217,0418,  6.5055, 164.7583, 5053,    434.5,      432,   8.6405,  34.6070,2,     49.2,2,  34.6062,2,    49.02,2,    39.27,3,    34.98,2,     0.00,2,    2.490,3, -999.000,9, -999.000,9,   -999.0,9,   -999.0,9,-999.0000,9,  -999.00, -999.000,9,  -999.00,9,  -999.00,9,   8.5941,2,  26.8745,2,   8.6411,2
49UP20180806_2,   P13,    77,  1,     26,     835,3,20180905,0217,0416,  6.5055, 164.7583, 5053,    483.9,      481,   8.2988,  34.5923,2,     51.4,2,  34.5872,4,    51.49,2,    42.30,3,    35.41,2,     0.00,2,    2.530,3, -999.000,9, -999.000,9,   -999.0,9,   -999.0,9,-999.0000,9,  -999.00, -999.000,9,  -999.00,9,  -999.00,9,   8.2482,2,  26.9163,2,   8.2982,2
49UP20180806_2,   P13,    77,  1,     25,     834,2,20180905,0217,0413,  6.5055, 164.7583, 5053,    534.3,      531,   7.8028,  34.5749,2,     49.1,2,  34.5723,6,    50.29,2,    47.00,3,    36.40,2,     0.00,2,    2.620,3, -999.000,9, -999.000,9,   -999.0,9,   -999.0,9,-999.0000,9,  -999.00, -999.000,9,  -999.00,9,  -999.00,9,   7.7487,2,  26.9772,2,   7.8036,2
49UP20180806_2,   P13,    77,  1,     23,     832,2,20180905,0217,0410,  6.5055, 164.7583, 5053,    639.3,      635,   6.7753,  34.5509,2,     42.8,2,  34.5487,6,    42.71,2,    58.96,3,    39.09,2,     0.00,2,    2.840,3, -999.000,9, -999.000,9,   -999.0,9,   -999.0,9,-999.0000,9,  -999.00, -999.000,9,  -999.00,9,  -999.00,9,   6.7151,2,  27.1040,2,   6.7772,2
49UP20180806_2,   P13,    77,  1,     22,     831,2,20180905,0217,0406,  6.5055, 164.7583, 5053,    738.3,      733,   5.9046,  34.5408,2,     50.5,2,  34.5415,2,    50.71,2,    70.25,3,    40.11,2,     0.00,2,    2.890,3, -999.000,9, -999.000,9,   -999.0,9,   -999.0,9,-999.0000,9,  -999.00, -999.000,9,  -999.00,9,  -999.00,9,   5.8393,2,  27.2101,2,   5.9040,2
49UP20180806_2,   P13,    77,  1,     21,     830,2,20180905,0217,0403,  6.5055, 164.7583, 5053,    839.5,      833,   5.2436,  34.5443,2,     57.6,2,  34.5432,2,    56.90,2,    79.97,3,    40.57,2,     0.00,2,    2.920,3, -999.000,9, -999.000,9,   -999.0,9,   -999.0,9,-999.0000,9,  -999.00, -999.000,9,  -999.00,9,  -999.00,9,   5.1730,2,  27.2938,2,   5.2436,2
49UP20180806_2,   P13,    77,  1,     20,     829,2,20180905,0217,0400,  6.5055, 164.7583, 5053,    940.9,      934,   4.7404,  34.5521,2,     63.9,2,  34.5514,2,    64.06,2,    87.18,3,    40.62,2,     0.00,2,    2.900,3, -999.000,9, -999.000,9,   -999.0,9,   -999.0,9,-999.0000,9,  -999.00, -999.000,9,  -999.00,9,  -999.00,9,   4.6642,2,  27.3583,2,   4.7403,2
49UP20180806_2,   P13,    77,  1,     19,     828,2,20180905,0217,0355,  6.5055, 164.7583, 5053,   1082.8,     1074,   4.1628,  34.5645,2,     71.8,2,  34.5637,2,    71.70,6,    98.54,3,    40.45,6,     0.00,6,    2.890,3, -999.000,9, -999.000,9,   -999.0,9,   -999.0,9,-999.0000,9,  -999.00, -999.000,9,  -999.00,9,  -999.00,9,   4.0787,2,  27.4315,2,   4.1627,2
49UP20180806_2,   P13,    77,  1,     18,     660,2,20180905,0217,0350,  6.5055, 164.7583, 5053,   1285.4,     1274,   3.5769,  34.5793,2,     81.8,2,  34.5797,2,    80.28,3,   111.72,3,    40.17,2,     0.00,2,    2.860,3, -999.000,9, -999.000,9,   -999.0,9,   -999.0,9,-999.0000,9,  -999.00, -999.000,9,  -999.00,9,  -999.00,9,   3.4809,2,  27.5038,2,   3.5758,2
49UP20180806_2,   P13,    77,  1,     17,     826,2,20180905,0217,0342,  6.5055, 164.7583, 5053,   1486.7,     1473,   3.1152,  34.5953,2,     85.6,2,  34.5952,2,    85.38,2,   122.56,3,    40.04,2,     0.00,2,    2.850,3, -999.000,9, -999.000,9,   -999.0,9,   -999.0,9,-999.0000,9,  -999.00, -999.000,9,  -999.00,9,  -999.00,9,   3.0071,2,  27.5613,2,   3.1151,2
49UP20180806_2,   P13,    77,  1,     16,     825,2,20180905,0217,0337,  6.5055, 164.7583, 5053,   1688.8,     1673,   2.6389,  34.6136,2,     94.8,2,  34.6142,2,    94.51,2,   133.29,3,    39.54,2,     0.00,2,    2.800,3, -999.000,9, -999.000,9,   -999.0,9,   -999.0,9,-999.0000,9,  -999.00, -999.000,9,  -999.00,9,  -999.00,9,   2.5196,2,  27.6193,2,   2.6389,2
49UP20180806_2,   P13,    77,  1,     15,     824,2,20180905,0217,0332,  6.5055, 164.7583, 5053,   1890.9,     1872,   2.3437,  34.6296,2,    103.7,2,  34.6288,2,   103.18,2,   138.18,3,    39.11,2,     0.00,2,    2.760,3, -999.000,9, -999.000,9,   -999.0,9,   -999.0,9,-999.0000,9,  -999.00, -999.000,9,  -999.00,9,  -999.00,9,   2.2113,2,  27.6579,2,   2.3435,2
49UP20180806_2,   P13,    77,  1,     14,     823,2,20180905,0217,0325,  6.5055, 164.7583, 5053,   2092.7,     2071,   2.1133,  34.6419,2,    109.5,2,  34.6415,2,   109.42,2,  -999.00,9,  -999.00,9,  -999.00,9, -999.000,9, -999.000,9, -999.000,9,   -999.0,9,   -999.0,9,-999.0000,9,  -999.00, -999.000,9,  -999.00,9,  -999.00,9,   1.9672,2,  27.6874,2,   2.1134,2
49UP20180806_2,   P13,    77,  1,     13,     822,2,20180905,0217,0321,  6.5055, 164.7583, 5053,   2295.5,     2270,   1.9642,  34.6510,2,    114.8,2,  34.6509,2,   114.60,2,  -999.00,9,  -999.00,9,  -999.00,9, -999.000,9, -999.000,9, -999.000,9,   -999.0,9,   -999.0,9,-999.0000,9,  -999.00, -999.000,9,  -999.00,9,  -999.00,9,   1.8029,2,  27.7075,2,   1.9643,2
49UP20180806_2,   P13,    77,  1,     12,     821,3,20180905,0217,0316,  6.5055, 164.7583, 5053,   2499.8,     2471,   1.8561,  34.6578,2,    122.1,2,  34.6568,2,   121.73,2,  -999.00,9,  -999.00,9,  -999.00,9, -999.000,9, -999.000,9, -999.000,9,   -999.0,9,   -999.0,9,-999.0000,9,  -999.00, -999.000,9,  -999.00,9,  -999.00,9,   1.6785,2,  27.7224,2,   1.8561,2
49UP20180806_2,   P13,    77,  1,     11,     820,3,20180905,0217,0310,  6.5055, 164.7583, 5053,   2700.8,     2669,   1.7842,  34.6623,2,    125.5,2,  34.6622,2,   125.59,2,  -999.00,9,  -999.00,9,  -999.00,9, -999.000,9, -999.000,9, -999.000,9,   -999.0,9,   -999.0,9,-999.0000,9,  -999.00, -999.000,9,  -999.00,9,  -999.00,9,   1.5896,2,  27.7326,2,   1.7842,2
49UP20180806_2,   P13,    77,  1,     10,     819,2,20180905,0217,0305,  6.5055, 164.7583, 5053,   2905.8,     2870,   1.7074,  34.6670,2,    131.6,2,  34.6661,2,   131.30,2,  -999.00,9,  -999.00,9,  -999.00,9, -999.000,9, -999.000,9, -999.000,9,   -999.0,9,   -999.0,9,-999.0000,9,  -999.00, -999.000,9,  -999.00,9,  -999.00,9,   1.4951,2,  27.7433,2,   1.7075,2
49UP20180806_2,   P13,    77,  1,      9,     818,2,20180905,0217,0301,  6.5055, 164.7583, 5053,   3117.5,     3077,   1.6359,  34.6715,2,    137.1,2,  34.6708,2,   136.34,2,  -999.00,9,  -999.00,9,  -999.00,9, -999.000,9, -999.000,9, -999.000,9,   -999.0,9,   -999.0,9,-999.0000,9,  -999.00, -999.000,9,  -999.00,9,  -999.00,9,   1.4048,2,  27.7535,2,   1.6360,2
49UP20180806_2,   P13,    77,  1,      8,     817,2,20180905,0217,0255,  6.5055, 164.7583, 5053,   3374.5,     3329,   1.5566,  34.6775,2,    144.3,2,  34.6753,4,   143.92,2,  -999.00,9,  -999.00,9,  -999.00,9, -999.000,9, -999.000,9, -999.000,9,   -999.0,9,   -999.0,9,-999.0000,9,  -999.00, -999.000,9,  -999.00,9,  -999.00,9,   1.3018,2,  27.7656,2,   1.5565,2
49UP20180806_2,   P13,    77,  1,      7,     816,3,20180905,0217,0250,  6.5055, 164.7583, 5053,   3631.5,     3581,   1.5002,  34.6825,2,    151.3,2,  34.6818,2,   150.93,2,  -999.00,9,  -999.00,9,  -999.00,9, -999.000,9, -999.000,9, -999.000,9,   -999.0,9,   -999.0,9,-999.0000,9,  -999.00, -999.000,9,  -999.00,9,  -999.00,9,   1.2205,2,  27.7753,2,   1.5001,2
49UP20180806_2,   P13,    77,  1,      6,     815,2,20180905,0217,0245,  6.5055, 164.7583, 5053,   3885.3,     3829,   1.4615,  34.6867,2,    158.1,2,  34.6857,2,   158.23,2,  -999.00,9,  -999.00,9,  -999.00,9, -999.000,9, -999.000,9, -999.000,9,   -999.0,9,   -999.0,9,-999.0000,9,  -999.00, -999.000,9,  -999.00,9,  -999.00,9,   1.1560,2,  27.7831,2,   1.4614,2
49UP20180806_2,   P13,    77,  1,      5,     814,2,20180905,0217,0239,  6.5055, 164.7583, 5053,   4141.6,     4079,   1.4429,  34.6900,2,    164.1,2,  34.6887,2,   163.84,2,  -999.00,9,  -999.00,9,  -999.00,9, -999.000,9, -999.000,9, -999.000,9,   -999.0,9,   -999.0,9,-999.0000,9,  -999.00, -999.000,9,  -999.00,9,  -999.00,9,   1.1101,2,  27.7889,2,   1.4427,2
49UP20180806_2,   P13,    77,  1,      4,     813,2,20180905,0217,0234,  6.5055, 164.7583, 5053,   4398.3,     4329,   1.4259,  34.6931,2,    169.7,2,  34.6903,4,   167.62,3,  -999.00,9,  -999.00,9,  -999.00,9, -999.000,9, -999.000,9, -999.000,9,   -999.0,9,   -999.0,9,-999.0000,9,  -999.00, -999.000,9,  -999.00,9,  -999.00,9,   1.0648,2,  27.7944,2,   1.4256,2
49UP20180806_2,   P13,    77,  1,      3,     812,2,20180905,0217,0228,  6.5055, 164.7583, 5053,   4654.8,     4579,   1.4118,  34.6959,2,    174.7,2,  34.6905,4,   168.26,3,  -999.00,9,  -999.00,9,  -999.00,9, -999.000,9, -999.000,9, -999.000,9,   -999.0,9,   -999.0,9,-999.0000,9,  -999.00, -999.000,9,  -999.00,9,  -999.00,9,   1.0216,2,  27.7996,2,   1.4117,2
49UP20180806_2,   P13,    77,  1,      2,     811,2,20180905,0217,0223,  6.5055, 164.7583, 5053,   4913.0,     4830,   1.3949,  34.6989,2,    180.3,2,  34.6984,6,   180.53,2,  -999.00,9,  -999.00,9,  -999.00,9, -999.000,9, -999.000,9, -999.000,9,   -999.0,9,   -999.0,9,-999.0000,9,  -999.00, -999.000,9,  -999.00,9,  -999.00,9,   0.9746,2,  27.8051,2,   1.3949,2
49UP20180806_2,   P13,    77,  1,      1,     810,2,20180905,0217,0217,  6.5055, 164.7583, 5053,   5142.4,     5053,   1.3949,  34.7007,2,    183.9,2,  34.7004,2,   183.30,6,  -999.00,9,  -999.00,9,  -999.00,9, -999.000,9, -999.000,9, -999.000,9,   -999.0,9,   -999.0,9,-999.0000,9,  -999.00, -999.000,9,  -999.00,9,  -999.00,9,   0.9468,2,  27.8083,2,   1.3949,2