BOTTLE,20191018JMAGEMD
EXPOCODE,SECT_ID,STNNBR,CASTNO,SAMPNO,BTLNBR,BTLNBR_FLAG_U,DATE,TIME,BTL_TIME,LATITUDE,LONGITUDE,DEPTH,CTDPRS,CTDDEP,CTDTMP,CTDSAL,CTDSAL_FLAG_W,CTDOXY,CTDOXY_FLAG_W,SALNTY,SALNTY_FLAG_W,OXYGEN,OXYGEN_FLAG_W,SILCAT,SILCAT_FLAG_W,NO2+NO3,NO2+NO3_FLAG_W,NITRIT,NITRIT_FLAG_W,PHSPHT,PHSPHT_FLAG_W,CFC-11,CFC-11_FLAG_W,CFC-12,CFC-12_FLAG_W,TCARBN,TCARBN_FLAG_W,ALKALI,ALKALI_FLAG_W,PH_TS,PH_TS_FLAG_W,PH_TS_TMP,CFC113,CFC113_FLAG_W,CHLORA,CHLORA_FLAG_W,PPHYTN,PPHYTN_FLAG_W,THETA,THETA_FLAG_W,SIGTHT,SIGTHT_FLAG_W,SBE35,SBE35_FLAG_W
,,,,,,,,UTC,,,,METER,DBAR,METERS,ITS-90,PSS-78,,UMOL/KG,,PSS78,,UMOL/KG,,UMOL/KG,,UMOL/KG,,UMOL/KG,,UMOL/KG,,PMOL/KG,,PMOL/KG,,UMOL/KG,,UMOL/KG,,,,ITS-90,PMOL/KG,,UG/KG,,UG/KG,,ITS-90,,KG/M3,,ITS-90,
49UP20180806_2,   P13,    89,  1,      0,      -9,0,20180908,2020,2200,  0.4928, 164.9967, 4365,      0.0,        0,  30.2115,  34.2705,2,    194.7,2,-999.0000,9,   194.00,2,     1.17,3,     0.01,2,     0.00,2,    0.110,3, -999.000,9, -999.000,9,   -999.0,9,   -999.0,9,-999.0000,9,  -999.00, -999.000,9,  -999.00,9,  -999.00,9,  30.2110,2,  21.1073,2,-999.0000,9
49UP20180806_2,   P13,    89,  1,     36,     845,2,20180908,2020,2225,  0.4928, 164.9967, 4365,     10.9,       11,  30.1858,  34.2691,2,    194.7,2,  34.2714,2,   193.65,2,     1.17,3,     0.00,2,     0.00,2,    0.090,3, -999.000,9, -999.000,9,   -999.0,9,   -999.0,9,-999.0000,9,  -999.00, -999.000,9,  -999.00,9,  -999.00,9,  30.1830,2,  21.1158,2,  30.1888,2
49UP20180806_2,   P13,    89,  1,     35,     844,2,20180908,2020,2223,  0.4928, 164.9967, 4365,     26.6,       26,  30.1903,  34.2769,2,    194.7,2,  34.2798,2,   194.03,2,     1.11,3,     0.00,2,     0.00,2,    0.090,3, -999.000,9, -999.000,9,   -999.0,9,   -999.0,9,-999.0000,9,  -999.00, -999.000,9,  -999.00,9,  -999.00,9,  30.1837,2,  21.1215,2,  30.1916,2
49UP20180806_2,   P13,    89,  1,     34,     843,2,20180908,2020,2219,  0.4928, 164.9967, 4365,     50.2,       50,  30.4380,  34.5105,2,    194.9,2,  34.5243,2,   194.48,2,     1.17,3,     0.00,2,     0.00,2,    0.110,3, -999.000,9, -999.000,9,   -999.0,9,   -999.0,9,-999.0000,9,  -999.00, -999.000,9,  -999.00,9,  -999.00,9,  30.4254,2,  21.2135,2,  30.4384,2
49UP20180806_2,   P13,    89,  1,     33,     842,4,20180908,2020,2218,  0.4928, 164.9967, 4365,     76.4,       76,  30.5185,  34.7670,2,    196.4,2,-999.0000,9,  -999.00,9,  -999.00,9,  -999.00,9,  -999.00,9, -999.000,9, -999.000,9, -999.000,9,   -999.0,9,   -999.0,9,-999.0000,9,  -999.00, -999.000,9,  -999.00,9,  -999.00,9,  30.4993,2,  21.3802,2,  30.5168,2
49UP20180806_2,   P13,    89,  1,     32,     841,2,20180908,2020,2216,  0.4928, 164.9967, 4365,    100.7,      100,  29.4789,  35.3280,2,    192.5,2,  35.3319,2,   192.48,2,     1.47,3,     0.89,2,     0.26,2,    0.280,3, -999.000,9, -999.000,9,   -999.0,9,   -999.0,9,-999.0000,9,  -999.00, -999.000,9,  -999.00,9,  -999.00,9,  29.4543,2,  22.1576,2,  29.4785,2
49UP20180806_2,   P13,    89,  1,     31,     840,2,20180908,2020,2214,  0.4928, 164.9967, 4365,    127.3,      127,  25.9955,  35.4011,2,    149.4,2,  35.4054,2,   149.88,2,     2.75,3,     6.97,2,     0.11,2,    0.630,3, -999.000,9, -999.000,9,   -999.0,9,   -999.0,9,-999.0000,9,  -999.00, -999.000,9,  -999.00,9,  -999.00,9,  25.9670,2,  23.3463,2,  25.9944,2
49UP20180806_2,   P13,    89,  1,     30,     839,2,20180908,2020,2213,  0.4928, 164.9967, 4365,    152.8,      152,  22.5118,  35.2482,2,    135.3,2,  35.2513,2,   135.69,6,     4.92,3,     9.17,6,     0.02,6,    0.750,3, -999.000,9, -999.000,9,   -999.0,9,   -999.0,9,-999.0000,9,  -999.00, -999.000,9,  -999.00,9,  -999.00,9,  22.4810,2,  24.2706,2,  22.5101,2
49UP20180806_2,   P13,    89,  1,     29,     838,2,20180908,2020,2211,  0.4928, 164.9967, 4365,    201.1,      200,  16.8128,  35.2393,2,    142.9,2,  35.2418,2,   142.76,2,     7.35,3,    13.34,2,     0.01,2,    1.020,3, -999.000,9, -999.000,9,   -999.0,9,   -999.0,9,-999.0000,9,  -999.00, -999.000,9,  -999.00,9,  -999.00,9,  16.7799,2,  25.7502,2,  16.8122,2
49UP20180806_2,   P13,    89,  1,     28,     837,2,20180908,2020,2209,  0.4928, 164.9967, 4365,    252.8,      251,  13.6444,  35.0088,2,    141.9,2,  35.0086,2,   142.69,2,    11.92,3,    17.73,2,     0.00,2,    1.310,3, -999.000,9, -999.000,9,   -999.0,9,   -999.0,9,-999.0000,9,  -999.00, -999.000,9,  -999.00,9,  -999.00,9,  13.6084,2,  26.2757,2,  13.6449,2
49UP20180806_2,   P13,    89,  1,     27,     661,2,20180908,2020,2206,  0.4928, 164.9967, 4365,    331.6,      330,  11.1164,  34.7759,2,    115.1,2,  34.7746,2,   114.94,2,    21.54,3,    24.67,2,     0.00,2,    1.750,3, -999.000,9, -999.000,9,   -999.0,9,   -999.0,9,-999.0000,9,  -999.00, -999.000,9,  -999.00,9,  -999.00,9,  11.0751,2,  26.5874,2,  11.1152,2
49UP20180806_2,   P13,    89,  1,     26,     835,2,20180908,2020,2204,  0.4928, 164.9967, 4365,    381.6,      379,  10.1975,  34.7135,2,    105.8,2,  34.7112,2,   103.92,2,    25.58,3,    27.34,2,     0.00,2,    1.920,3, -999.000,9, -999.000,9,   -999.0,9,   -999.0,9,-999.0000,9,  -999.00, -999.000,9,  -999.00,9,  -999.00,9,  10.1524,2,  26.7021,2,  10.1759,2
49UP20180806_2,   P13,    89,  1,     25,     834,2,20180908,2020,2202,  0.4928, 164.9967, 4365,    433.4,      431,   8.7823,  34.6311,2,    100.0,2,  34.6296,2,    99.88,2,    30.89,3,    30.62,2,     0.00,2,    2.130,3, -999.000,9, -999.000,9,   -999.0,9,   -999.0,9,-999.0000,9,  -999.00, -999.000,9,  -999.00,9,  -999.00,9,   8.7355,2,  26.8712,2,   8.7818,2
49UP20180806_2,   P13,    89,  1,     23,     832,2,20180908,2020,2200,  0.4928, 164.9967, 4365,    483.4,      480,   8.3606,  34.6118,2,    110.5,2,  34.6099,2,   109.45,2,    31.02,3,    30.70,2,     0.00,2,    2.140,3, -999.000,9, -999.000,9,   -999.0,9,   -999.0,9,-999.0000,9,  -999.00, -999.000,9,  -999.00,9,  -999.00,9,   8.3097,2,  26.9222,2,   8.3608,2
49UP20180806_2,   P13,    89,  1,     22,     831,2,20180908,2020,2157,  0.4928, 164.9967, 4365,    534.8,      531,   7.2717,  34.5543,2,    128.4,2,  34.5543,2,   129.15,2,    34.63,3,    30.83,2,     0.00,2,    2.150,3, -999.000,9, -999.000,9,   -999.0,9,   -999.0,9,-999.0000,9,  -999.00, -999.000,9,  -999.00,9,  -999.00,9,   7.2197,2,  27.0370,2,   7.2715,2
49UP20180806_2,   P13,    89,  1,     21,     830,2,20180908,2020,2154,  0.4928, 164.9967, 4365,    634.3,      630,   6.7321,  34.5529,2,     90.5,2,  34.5530,6,    90.23,2,    46.92,3,    35.75,2,     0.00,2,    2.510,3, -999.000,9, -999.000,9,   -999.0,9,   -999.0,9,-999.0000,9,  -999.00, -999.000,9,  -999.00,9,  -999.00,9,   6.6725,2,  27.1113,2,   6.7318,2
49UP20180806_2,   P13,    89,  1,     20,     829,2,20180908,2020,2151,  0.4928, 164.9967, 4365,    734.8,      729,   5.9821,  34.5357,2,     98.5,2,  34.5357,2,    98.25,6,    55.32,3,    36.14,6,     0.00,6,    2.550,3, -999.000,9, -999.000,9,   -999.0,9,   -999.0,9,-999.0000,9,  -999.00, -999.000,9,  -999.00,9,  -999.00,9,   5.9168,2,  27.1963,2,   5.9830,2
49UP20180806_2,   P13,    89,  1,     19,     828,2,20180908,2020,2148,  0.4928, 164.9967, 4365,    835.9,      830,   5.5006,  34.5388,2,     91.0,2,  34.5383,2,    90.82,2,    64.47,3,    37.65,2,     0.00,2,    2.670,3, -999.000,9, -999.000,9,   -999.0,9,   -999.0,9,-999.0000,9,  -999.00, -999.000,9,  -999.00,9,  -999.00,9,   5.4287,2,  27.2590,2,   5.5009,2
49UP20180806_2,   P13,    89,  1,     18,     660,2,20180908,2020,2145,  0.4928, 164.9967, 4365,    936.1,      929,   4.9243,  34.5380,2,    101.9,2,  34.5372,2,   102.03,2,    72.50,3,    37.29,2,     0.00,2,    2.640,3, -999.000,9, -999.000,9,   -999.0,9,   -999.0,9,-999.0000,9,  -999.00, -999.000,9,  -999.00,9,  -999.00,9,   4.8473,2,  27.3265,2,   4.9243,2
49UP20180806_2,   P13,    89,  1,     17,     826,2,20180908,2020,2141,  0.4928, 164.9967, 4365,   1077.7,     1069,   4.3906,  34.5533,2,     95.2,2,  34.5507,4,    95.82,2,    83.05,3,    38.24,2,     0.00,2,    2.720,3, -999.000,9, -999.000,9,   -999.0,9,   -999.0,9,-999.0000,9,  -999.00, -999.000,9,  -999.00,9,  -999.00,9,   4.3051,2,  27.3986,2,   4.3910,2
49UP20180806_2,   P13,    89,  1,     16,     825,2,20180908,2020,2136,  0.4928, 164.9967, 4365,   1280.6,     1270,   3.7482,  34.5738,2,     94.4,2,  34.5744,2,    94.62,2,   102.07,3,    39.00,2,     0.00,2,    2.780,3, -999.000,9, -999.000,9,   -999.0,9,   -999.0,9,-999.0000,9,  -999.00, -999.000,9,  -999.00,9,  -999.00,9,   3.6509,2,  27.4827,2,   3.7482,2
49UP20180806_2,   P13,    89,  1,     15,     824,2,20180908,2020,2131,  0.4928, 164.9967, 4365,   1483.4,     1470,   3.3341,  34.5888,2,     95.8,2,  34.5897,2,    96.20,2,   111.83,3,    39.12,2,     0.00,2,    2.790,3, -999.000,9, -999.000,9,   -999.0,9,   -999.0,9,-999.0000,9,  -999.00, -999.000,9,  -999.00,9,  -999.00,9,   3.2238,2,  27.5361,2,   3.3364,2
49UP20180806_2,   P13,    89,  1,     14,     823,2,20180908,2020,2126,  0.4928, 164.9967, 4365,   1687.0,     1671,   2.7204,  34.6134,2,    106.8,2,  34.6145,2,   106.88,2,   124.50,3,    38.54,2,     0.00,2,    2.740,3, -999.000,9, -999.000,9,   -999.0,9,   -999.0,9,-999.0000,9,  -999.00, -999.000,9,  -999.00,9,  -999.00,9,   2.6002,2,  27.6121,2,   2.7205,2
49UP20180806_2,   P13,    89,  1,     13,     822,2,20180908,2020,2121,  0.4928, 164.9967, 4365,   1889.5,     1871,   2.3761,  34.6306,2,    111.7,2,  34.6308,2,   111.82,2,   133.08,3,    38.45,2,     0.00,2,    2.710,3, -999.000,9, -999.000,9,   -999.0,9,   -999.0,9,-999.0000,9,  -999.00, -999.000,9,  -999.00,9,  -999.00,9,   2.2434,2,  27.6561,2,   2.3761,2
49UP20180806_2,   P13,    89,  1,     12,     821,2,20180908,2020,2116,  0.4928, 164.9967, 4365,   2091.8,     2070,   2.1233,  34.6428,2,    118.7,2,  34.6434,2,   119.02,6,   137.91,3,    38.00,6,     0.00,6,    2.670,3, -999.000,9, -999.000,9,   -999.0,9,   -999.0,9,-999.0000,9,  -999.00, -999.000,9,  -999.00,9,  -999.00,9,   1.9771,2,  27.6873,2,   2.1233,2
49UP20180806_2,   P13,    89,  1,     11,     820,2,20180908,2020,2110,  0.4928, 164.9967, 4365,   2295.0,     2270,   2.0334,  34.6481,2,    121.7,2,  34.6480,6,   121.72,2,   139.38,3,    37.87,2,     0.00,2,    2.630,3, -999.000,9, -999.000,9,   -999.0,9,   -999.0,9,-999.0000,9,  -999.00, -999.000,9,  -999.00,9,  -999.00,9,   1.8709,2,  27.6998,2,   2.0335,2
49UP20180806_2,   P13,    89,  1,     10,     819,2,20180908,2020,2105,  0.4928, 164.9967, 4365,   2498.0,     2470,   1.8912,  34.6566,2,    125.2,2,  34.6573,2,   125.35,2,   143.73,3,    37.60,2,     0.00,2,    2.620,3, -999.000,9, -999.000,9,   -999.0,9,   -999.0,9,-999.0000,9,  -999.00, -999.000,9,  -999.00,9,  -999.00,9,   1.7131,2,  27.7188,2,   1.8913,2
49UP20180806_2,   P13,    89,  1,      9,     818,2,20180908,2020,2100,  0.4928, 164.9967, 4365,   2701.8,     2670,   1.7841,  34.6628,2,    128.8,2,  34.6640,2,   128.85,2,   146.31,3,    37.45,2,     0.00,2,    2.610,3, -999.000,9, -999.000,9,   -999.0,9,   -999.0,9,-999.0000,9,  -999.00, -999.000,9,  -999.00,9,  -999.00,9,   1.5894,2,  27.7330,2,   1.7842,2
49UP20180806_2,   P13,    89,  1,      8,     817,2,20180908,2020,2055,  0.4928, 164.9967, 4365,   2905.6,     2870,   1.7187,  34.6660,2,    133.1,2,  34.6667,2,   133.40,2,   146.51,3,    37.09,2,     0.00,2,    2.580,3, -999.000,9, -999.000,9,   -999.0,9,   -999.0,9,-999.0000,9,  -999.00, -999.000,9,  -999.00,9,  -999.00,9,   1.5062,2,  27.7417,2,   1.7186,2
49UP20180806_2,   P13,    89,  1,      7,     816,2,20180908,2020,2050,  0.4928, 164.9967, 4365,   3120.4,     3080,   1.6105,  34.6729,2,    140.7,2,  34.6733,2,   140.46,2,   145.23,3,    36.54,2,     0.00,2,    2.550,3, -999.000,9, -999.000,9,   -999.0,9,   -999.0,9,-999.0000,9,  -999.00, -999.000,9,  -999.00,9,  -999.00,9,   1.3797,2,  27.7563,2,   1.6103,2
49UP20180806_2,   P13,    89,  1,      5,     814,2,20180908,2020,2044,  0.4928, 164.9967, 4365,   3375.5,     3330,   1.5550,  34.6774,2,    146.1,2,  34.6777,2,   146.06,2,   143.73,3,    36.24,2,     0.00,2,    2.500,3, -999.000,9, -999.000,9,   -999.0,9,   -999.0,9,-999.0000,9,  -999.00, -999.000,9,  -999.00,9,  -999.00,9,   1.3001,2,  27.7656,2,   1.5549,2
49UP20180806_2,   P13,    89,  1,      6,     815,2,20180908,2020,2044,  0.4928, 164.9967, 4365,   3375.7,     3331,   1.5551,  34.6775,2,    146.1,2,  34.6775,2,   146.35,2,   144.00,3,    36.29,2,     0.00,2,    2.510,3, -999.000,9, -999.000,9,   -999.0,9,   -999.0,9,-999.0000,9,  -999.00, -999.000,9,  -999.00,9,  -999.00,9,   1.3002,2,  27.7657,2,   1.5550,2
49UP20180806_2,   P13,    89,  1,      4,     813,2,20180908,2020,2038,  0.4928, 164.9967, 4365,   3630.2,     3580,   1.5082,  34.6821,2,    152.0,2,  34.6815,6,   152.40,2,   142.69,3,    35.92,2,     0.00,2,    2.480,3, -999.000,9, -999.000,9,   -999.0,9,   -999.0,9,-999.0000,9,  -999.00, -999.000,9,  -999.00,9,  -999.00,9,   1.2285,2,  27.7744,2,   1.5082,2
49UP20180806_2,   P13,    89,  1,      3,     812,2,20180908,2020,2033,  0.4928, 164.9967, 4365,   3886.3,     3830,   1.4697,  34.6868,2,    158.6,2,  34.6870,2,   159.05,6,   140.09,3,    35.41,6,     0.00,6,    2.440,3, -999.000,9, -999.000,9,   -999.0,9,   -999.0,9,-999.0000,9,  -999.00, -999.000,9,  -999.00,9,  -999.00,9,   1.1639,2,  27.7826,2,   1.4698,2
49UP20180806_2,   P13,    89,  1,      2,     811,2,20180908,2020,2027,  0.4928, 164.9967, 4365,   4142.5,     4080,   1.4222,  34.6919,2,    167.2,2,  34.6913,6,   167.76,2,   137.07,3,    34.85,2,     0.00,2,    2.400,3, -999.000,9, -999.000,9,   -999.0,9,   -999.0,9,-999.0000,9,  -999.00, -999.000,9,  -999.00,9,  -999.00,9,   1.0899,2,  27.7917,2,   1.4221,2
49UP20180806_2,   P13,    89,  1,      1,     810,2,20180908,2020,2021,  0.4928, 164.9967, 4365,   4425.3,     4356,   1.3500,  34.6983,2,    179.2,2,  34.6988,2,   179.15,2,   130.57,3,    33.88,2,     0.00,2,    2.330,3, -999.000,9, -999.000,9,   -999.0,9,   -999.0,9,-999.0000,9,  -999.00, -999.000,9,  -999.00,9,  -999.00,9,   0.9881,2,  27.8037,2,   1.3500,2