BOTTLE,20191018JMAGEMD
EXPOCODE,SECT_ID,STNNBR,CASTNO,SAMPNO,BTLNBR,BTLNBR_FLAG_U,DATE,TIME,BTL_TIME,LATITUDE,LONGITUDE,DEPTH,CTDPRS,CTDDEP,CTDTMP,CTDSAL,CTDSAL_FLAG_W,CTDOXY,CTDOXY_FLAG_W,SALNTY,SALNTY_FLAG_W,OXYGEN,OXYGEN_FLAG_W,SILCAT,SILCAT_FLAG_W,NO2+NO3,NO2+NO3_FLAG_W,NITRIT,NITRIT_FLAG_W,PHSPHT,PHSPHT_FLAG_W,CFC-11,CFC-11_FLAG_W,CFC-12,CFC-12_FLAG_W,TCARBN,TCARBN_FLAG_W,ALKALI,ALKALI_FLAG_W,PH_TS,PH_TS_FLAG_W,PH_TS_TMP,CFC113,CFC113_FLAG_W,CHLORA,CHLORA_FLAG_W,PPHYTN,PPHYTN_FLAG_W,THETA,THETA_FLAG_W,SIGTHT,SIGTHT_FLAG_W,SBE35,SBE35_FLAG_W
,,,,,,,,UTC,,,,METER,DBAR,METERS,ITS-90,PSS-78,,UMOL/KG,,PSS78,,UMOL/KG,,UMOL/KG,,UMOL/KG,,UMOL/KG,,UMOL/KG,,PMOL/KG,,PMOL/KG,,UMOL/KG,,UMOL/KG,,,,ITS-90,PMOL/KG,,UG/KG,,UG/KG,,ITS-90,,KG/M3,,ITS-90,
49UP20180806_1,   P13,    50,  1,      0,      -9,0,20180816,1846,2052, 24.0037, 164.9967, 6036,      0.0,        0,  28.7398,  34.9600,2,    197.5,2,  34.9664,2,   197.09,2,     0.78,3,     0.02,2,     0.00,2,    0.020,3, -999.000,9, -999.000,9,   1960.4,2,   2297.5,2,   8.1086,2,    25.00, -999.000,9,     0.07,2,     0.02,2,  28.7392,2,  22.1210,2,-999.0000,9
49UP20180806_1,   P13,    50,  1,     36,     845,2,20180816,1846,2123, 24.0037, 164.9967, 6036,     12.2,       12,  28.7446,  34.9604,2,    197.5,2,  34.9608,2,   197.46,2,     0.76,3,     0.00,2,     0.00,2,    0.000,3,    1.539,2,    0.884,2,   1960.8,2,   2298.4,2,   8.1121,2,    25.00,    0.143,2,     0.06,2,     0.02,2,  28.7416,2,  22.1204,2,  28.7451,2
49UP20180806_1,   P13,    50,  1,     35,     844,2,20180816,1846,2119, 24.0037, 164.9967, 6036,     51.7,       51,  28.6196,  35.0295,2,    197.8,2,  35.0039,4,   197.74,2,     0.68,3,     0.00,2,     0.00,2,    0.000,3,    1.545,2,    0.870,2,   1967.8,2,   2298.8,2,   8.1111,2,    25.00,    0.135,2,     0.07,2,     0.03,2,  28.6072,2,  22.2170,2,  28.6453,2
49UP20180806_1,   P13,    50,  1,     34,     843,2,20180816,1846,2117, 24.0037, 164.9967, 6036,    102.3,      102,  24.5492,  35.2218,2,    221.6,2,  35.2223,2,   221.09,2,     1.26,3,     0.00,2,     0.00,2,    0.000,3,    1.890,2,    1.041,2,   2003.6,2,   2315.2,6,   8.0810,2,    25.00,    0.154,2,     0.13,2,     0.06,2,  24.5273,2,  23.6519,2,  24.5529,2
49UP20180806_1,   P13,    50,  1,     33,     842,2,20180816,1846,2115, 24.0037, 164.9967, 6036,    151.3,      150,  21.3727,  35.1125,2,    193.2,2,  35.1131,2,   193.46,2,     2.01,3,     0.92,2,     0.06,2,    0.120,3,    2.072,2,    1.172,2,   2042.5,2,   2308.1,2,   7.9939,6,    25.00,    0.099,2,     0.13,2,     0.40,2,  21.3434,2,  24.4856,2,  21.3679,2
49UP20180806_1,   P13,    50,  1,     32,     841,2,20180816,1846,2113, 24.0037, 164.9967, 6036,    204.8,      203,  18.6256,  34.8979,2,    195.3,2,  34.8975,2,   194.90,6,     3.22,3,     3.08,6,     0.01,6,    0.260,3,    2.321,2,    1.293,2,   2056.5,2,   2292.9,2,   7.9434,2,    25.00,    0.051,2,     0.02,2,     0.07,2,  18.5896,2,  25.0470,2,  18.6253,2
49UP20180806_1,   P13,    50,  1,     31,     840,2,20180816,1846,2111, 24.0037, 164.9967, 6036,    251.2,      249,  16.8910,  34.7439,2,    198.1,2,  34.7424,2,   198.35,2,     4.71,3,     5.38,2,     0.00,2,    0.380,3,    2.485,2,    1.377,2,   2061.4,2,   2284.6,2,   7.9146,2,    25.00,    0.031,2,  -999.00,9,  -999.00,9,  16.8497,2,  25.3533,2,  16.8955,2
49UP20180806_1,   P13,    50,  1,     30,     839,2,20180816,1846,2109, 24.0037, 164.9967, 6036,    283.8,      282,  15.9234,  34.6535,2,    204.4,2,  34.6512,2,   204.44,2,     5.91,3,     6.35,2,     0.00,2,    0.440,3,    2.578,2,    1.416,2,   2062.6,2,   2278.4,2,   7.9029,2,    25.00,    0.039,2,  -999.00,9,  -999.00,9,  15.8787,2,  25.5087,2,  15.9083,2
49UP20180806_1,   P13,    50,  1,     29,     838,2,20180816,1846,2106, 24.0037, 164.9967, 6036,    373.7,      371,  13.6912,  34.4331,2,    202.8,2,  34.4337,2,   202.58,2,     9.93,3,     9.72,2,     0.00,2,    0.680,3,    2.857,2,    1.573,2,   2083.8,2,   2272.1,2,   7.8441,2,    25.00,    0.050,2,  -999.00,9,  -999.00,9,  13.6380,2,  25.8242,2,  13.6898,2
49UP20180806_1,   P13,    50,  1,     28,     837,2,20180816,1846,2104, 24.0037, 164.9967, 6036,    473.1,      470,  10.8461,  34.2199,2,    190.2,2,  34.2198,2,   189.77,2,    19.94,3,    16.08,2,     0.00,2,    1.120,3,    3.101,2,    1.640,2,   2123.6,2,   2268.7,2,   7.7506,2,    25.00,    0.081,2,  -999.00,9,  -999.00,9,  10.7880,2,  26.2059,2,  10.8472,2
49UP20180806_1,   P13,    50,  1,     27,     661,2,20180816,1846,2101, 24.0037, 164.9967, 6036,    575.0,      571,   8.6287,  34.1227,2,    144.3,2,  34.1227,2,   143.08,2,    36.35,3,    24.54,2,     0.00,2,    1.760,3,    2.738,2,    1.327,2,   2185.2,2,   2275.9,2,   7.6159,2,    25.00,    0.084,2,  -999.00,9,  -999.00,9,   8.5672,2,  26.4989,2,   8.6310,2
49UP20180806_1,   P13,    50,  1,     26,     835,2,20180816,1846,2058, 24.0037, 164.9967, 6036,    676.9,      671,   6.5592,  34.1150,2,     92.7,2,  34.1172,2,    91.43,2,    61.37,3,    33.15,2,     0.00,2,    2.380,3,    1.749,6,    0.793,6,   2248.8,2,   2296.4,2,   7.4793,2,    25.00,    0.041,6,  -999.00,9,  -999.00,9,   6.4968,2,  26.7893,2,   6.5590,2
49UP20180806_1,   P13,    50,  1,     25,     834,2,20180816,1846,2055, 24.0037, 164.9967, 6036,    779.4,      773,   5.4620,  34.1853,2,     60.2,2,  34.1882,2,    60.19,2,    80.18,3,    37.82,2,     0.00,2,    2.730,3,    0.904,2,    0.400,2,   2289.5,2,   2319.2,2,   7.4144,2,    25.00,    0.020,2,  -999.00,9,  -999.00,9,   5.3960,2,  26.9830,2,   5.4618,2
49UP20180806_1,   P13,    50,  1,     23,     832,3,20180816,1846,2052, 24.0037, 164.9967, 6036,    877.5,      870,   4.7935,  34.2688,2,     45.9,2,  34.2713,2,    45.87,2,    94.80,3,    40.20,2,     0.00,2,    2.890,3,    0.395,2,    0.173,2,   2316.5,2,   2336.9,2,   7.3844,2,    25.00,    0.010,2,  -999.00,9,  -999.00,9,   4.7229,2,  27.1269,2,   4.7939,2
49UP20180806_1,   P13,    50,  1,     22,     831,2,20180816,1846,2049, 24.0037, 164.9967, 6036,    979.2,      971,   4.2619,  34.3583,2,     43.3,2,  34.3600,2,    43.68,6,   106.61,3,    41.24,6,     0.00,6,    2.960,3,    0.149,2,    0.064,2,   2330.6,2,   2353.9,2,   7.3885,2,    25.00,    0.001,2,  -999.00,9,  -999.00,9,   4.1863,2,  27.2563,2,   4.2626,2
49UP20180806_1,   P13,    50,  1,     21,     830,2,20180816,1846,2046, 24.0037, 164.9967, 6036,   1140.9,     1131,   3.7609,  34.4574,2,     53.8,2,  34.4595,6,    54.01,2,   117.43,3,    41.15,2,     0.00,2,    2.940,3,    0.040,2,    0.016,2,   2337.1,2,   2371.6,2,   7.4153,2,    25.00,    0.008,2,  -999.00,9,  -999.00,9,   3.6755,2,  27.3875,2,   3.7612,2
49UP20180806_1,   P13,    50,  1,     20,     829,2,20180816,1846,2041, 24.0037, 164.9967, 6036,   1344.3,     1331,   3.2537,  34.5210,2,     66.7,2,  34.5223,2,    67.13,2,   127.46,3,    40.78,2,     0.00,2,    2.900,3,    0.014,2,    0.010,2,   2344.1,2,   2385.4,2,   7.4438,2,    25.00,    0.000,2,  -999.00,9,  -999.00,9,   3.1562,2,  27.4883,2,   3.2540,2
49UP20180806_1,   P13,    50,  1,     19,     828,2,20180816,1846,2036, 24.0037, 164.9967, 6036,   1547.8,     1532,   2.7585,  34.5524,2,     78.8,2,  34.5541,2,    79.57,2,   136.93,3,    40.18,2,     0.00,2,    2.840,3,    0.016,2,    0.006,2,   2347.2,2,   2396.4,6,   7.4627,2,    25.00,    0.005,2,  -999.00,9,  -999.00,9,   2.6495,2,  27.5591,2,   2.7585,2
49UP20180806_1,   P13,    50,  1,     18,     660,2,20180816,1846,2030, 24.0037, 164.9967, 6036,   1749.2,     1731,   2.4075,  34.5777,2,     85.0,2,  34.5792,2,    85.13,2,   144.57,3,    39.93,2,     0.00,2,    2.820,3,    0.001,2,    0.001,2,   2348.6,2,   2403.4,2,   7.4703,6,    25.00,    0.016,3,  -999.00,9,  -999.00,9,   2.2863,2,  27.6102,2,   2.4076,2
49UP20180806_1,   P13,    50,  1,     17,     826,2,20180816,1846,2025, 24.0037, 164.9967, 6036,   1951.9,     1930,   2.1704,  34.5988,2,     93.3,2,  34.5997,2,    93.28,2,   148.35,3,    39.52,2,     0.00,2,    2.780,3,    0.001,2,    0.001,2,   2363.2,2,   2409.0,2,   7.4845,2,    25.00,    0.001,2,  -999.00,9,  -999.00,9,   2.0355,2,  27.6475,2,   2.1702,2
49UP20180806_1,   P13,    50,  1,     16,     825,2,20180816,1846,2020, 24.0037, 164.9967, 6036,   2153.7,     2129,   1.9926,  34.6165,2,    101.6,2,  34.6178,2,   101.60,2,   151.14,3,    39.08,2,     0.00,2,    2.740,3,    0.001,6,    0.003,6,   2361.2,2,   2414.3,2,   7.4998,2,    25.00,    0.004,6,  -999.00,9,  -999.00,9,   1.8433,2,  27.6766,2,   1.9927,2
49UP20180806_1,   P13,    50,  1,     15,     824,2,20180816,1846,2014, 24.0037, 164.9967, 6036,   2359.9,     2332,   1.8487,  34.6332,2,    110.2,2,  34.6339,2,   110.14,2,   152.41,3,    38.58,2,     0.00,2,    2.700,3,    0.000,2,    0.000,2,   2352.0,2,   2414.9,2,   7.5160,2,    25.00,    0.000,2,  -999.00,9,  -999.00,9,   1.6838,2,  27.7022,2,   1.8487,2
49UP20180806_1,   P13,    50,  1,     14,     823,2,20180816,1846,2009, 24.0037, 164.9967, 6036,   2563.3,     2532,   1.7681,  34.6445,2,    116.4,2,  34.6459,4,   117.06,2,   153.49,3,    38.23,2,     0.00,2,    2.670,3,    0.000,2,    0.000,2,   2350.4,2,   2417.6,2,   7.5253,2,    25.00,    0.007,2,  -999.00,9,  -999.00,9,   1.5865,2,  27.7185,2,   1.7682,2
49UP20180806_1,   P13,    50,  1,     13,     822,2,20180816,1846,2004, 24.0037, 164.9967, 6036,   2765.9,     2730,   1.6999,  34.6524,2,    121.9,2,  34.6534,2,   122.41,6,   153.61,3,    38.00,6,     0.00,6,    2.640,3, -999.000,9, -999.000,9,   2350.9,2,   2419.8,2,   7.5350,2,    25.00, -999.000,9,  -999.00,9,  -999.00,9,   1.5010,2,  27.7311,2,   1.6999,2
49UP20180806_1,   P13,    50,  1,     12,     821,2,20180816,1846,1959, 24.0037, 164.9967, 6036,   2969.5,     2930,   1.6397,  34.6591,2,    127.2,2,  34.6597,2,   127.27,2,   153.31,3,    37.56,2,     0.00,2,    2.620,3, -999.000,9, -999.000,9,   2349.9,2,   2419.6,2,   7.5461,2,    25.00, -999.000,9,  -999.00,9,  -999.00,9,   1.4228,2,  27.7422,2,   1.6397,2
49UP20180806_1,   P13,    50,  1,     11,     820,2,20180816,1846,1953, 24.0037, 164.9967, 6036,   3215.4,     3171,   1.6030,  34.6653,2,    132.7,2,  34.6632,4,   132.44,2,   152.34,3,    37.23,2,     0.00,2,    2.590,3, -999.000,9, -999.000,9,   2338.2,2,   2419.2,2,   7.5564,2,    25.00, -999.000,9,  -999.00,9,  -999.00,9,   1.3630,2,  27.7515,2,   1.6031,2
49UP20180806_1,   P13,    50,  1,     10,     819,2,20180816,1846,1947, 24.0037, 164.9967, 6036,   3472.1,     3422,   1.5590,  34.6711,2,    138.3,2,  34.6707,2,   138.22,2,   151.76,3,    36.92,2,     0.00,2,    2.560,3,    0.001,2,    0.001,2,   2337.1,2,   2419.9,2,   7.5635,2,    25.00,    0.004,2,  -999.00,9,  -999.00,9,   1.2943,2,  27.7609,2,   1.5591,2
49UP20180806_1,   P13,    50,  1,     24,     833,4,20180816,1846,1941, 24.0037, 164.9967, 6036,   3727.2,     3671,   1.5361,  34.6752,2,    143.0,2,-999.0000,9,  -999.00,9,  -999.00,9,  -999.00,9,  -999.00,9, -999.000,9, -999.000,9, -999.000,9,   -999.0,9,   -999.0,9,-999.0000,9,  -999.00, -999.000,9,  -999.00,9,  -999.00,9,   1.2455,2,  27.7676,2,   1.5361,2
49UP20180806_1,   P13,    50,  1,      9,     818,2,20180816,1846,1935, 24.0037, 164.9967, 6036,   3984.3,     3922,   1.5138,  34.6796,2,    148.2,2,  34.6799,2,   147.69,2,   150.17,3,    36.17,2,     0.00,2,    2.510,3, -999.000,9, -999.000,9,   2336.6,6,   2418.0,6,   7.5755,2,    25.00, -999.000,9,  -999.00,9,  -999.00,9,   1.1963,2,  27.7746,2,   1.5138,2
49UP20180806_1,   P13,    50,  1,      8,     817,2,20180816,1846,1929, 24.0037, 164.9967, 6036,   4240.1,     4172,   1.4960,  34.6831,2,    153.1,2,  34.6813,4,   152.84,2,   148.87,3,    35.76,2,     0.00,2,    2.490,3, -999.000,9, -999.000,9,   2328.2,2,   2414.9,2,   7.5822,6,    25.00, -999.000,9,  -999.00,9,  -999.00,9,   1.1507,2,  27.7805,2,   1.4961,2
49UP20180806_1,   P13,    50,  1,      7,     816,2,20180816,1846,1923, 24.0037, 164.9967, 6036,   4497.1,     4422,   1.4826,  34.6867,2,    158.4,2,  34.6837,4,   156.47,3,   147.13,3,    35.55,2,     0.00,2,    2.470,3, -999.000,9, -999.000,9,   2321.1,2,   2412.1,2,   7.5875,2,    25.00, -999.000,9,  -999.00,9,  -999.00,9,   1.1085,2,  27.7863,2,   1.4825,2
49UP20180806_1,   P13,    50,  1,      6,     815,2,20180816,1846,1917, 24.0037, 164.9967, 6036,   4751.0,     4669,   1.4724,  34.6899,2,    164.0,2,  34.6903,2,   164.21,2,   143.60,3,    35.07,2,     0.00,2,    2.430,3,    0.004,2,    0.000,2,   2318.0,2,   2411.6,2,   7.5958,2,    25.00,   -0.000,2,  -999.00,9,  -999.00,9,   1.0690,2,  27.7915,2,   1.4724,2
49UP20180806_1,   P13,    50,  1,      5,     814,2,20180816,1846,1912, 24.0037, 164.9967, 6036,   5009.8,     4920,   1.4702,  34.6926,2,    168.7,2,  34.6916,2,   167.51,3,   138.67,3,    34.77,6,     0.00,6,    2.390,3, -999.000,9, -999.000,9,   2309.9,2,   2407.3,2,   7.6026,2,    25.00, -999.000,9,  -999.00,9,  -999.00,9,   1.0357,2,  27.7960,2,   1.4702,2
49UP20180806_1,   P13,    50,  1,      4,     813,2,20180816,1846,1906, 24.0037, 164.9967, 6036,   5268.9,     5172,   1.4756,  34.6947,2,    172.4,2,  34.6950,2,   172.59,2,   135.93,3,    34.50,2,     0.00,2,    2.370,3, -999.000,9, -999.000,9,   2308.8,2,   2403.0,2,   7.6069,2,    25.00, -999.000,9,  -999.00,9,  -999.00,9,   1.0090,2,  27.7994,2,   1.4756,2
49UP20180806_1,   P13,    50,  1,      3,     812,2,20180816,1846,1900, 24.0037, 164.9967, 6036,   5527.2,     5422,   1.4857,  34.6964,2,    175.6,2,  34.6963,2,   175.27,2,   134.25,3,    34.28,2,     0.00,2,    2.350,3, -999.000,9, -999.000,9,   2306.3,2,   2403.0,2,   7.6081,2,    25.00, -999.000,9,  -999.00,9,  -999.00,9,   0.9861,2,  27.8023,2,   1.4857,2
49UP20180806_1,   P13,    50,  1,      2,     811,3,20180816,1846,1854, 24.0037, 164.9967, 6036,   5782.9,     5670,   1.5081,  34.6971,2,    177.1,2,  34.6977,4,   177.24,2,   133.67,3,    34.18,2,     0.00,2,    2.340,3, -999.000,9, -999.000,9,   2300.9,2,   2402.3,2,   7.6078,2,    25.00, -999.000,9,  -999.00,9,  -999.00,9,   0.9746,2,  27.8036,2,   1.5081,2
49UP20180806_1,   P13,    50,  1,      1,     810,2,20180816,1846,1846, 24.0037, 164.9967, 6036,   6126.5,     6002,   1.5484,  34.6976,2,    178.1,2,  34.6975,6,   178.34,2,   132.79,3,    34.04,2,     0.00,2,    2.340,3,    0.009,2,    0.001,2,   2301.4,2,   2399.7,2,   7.6100,2,    25.00,    0.001,2,  -999.00,9,  -999.00,9,   0.9676,2,  27.8045,2,   1.5483,2