BOTTLE,20191018JMAGEMD
EXPOCODE,SECT_ID,STNNBR,CASTNO,SAMPNO,BTLNBR,BTLNBR_FLAG_U,DATE,TIME,BTL_TIME,LATITUDE,LONGITUDE,DEPTH,CTDPRS,CTDDEP,CTDTMP,CTDSAL,CTDSAL_FLAG_W,CTDOXY,CTDOXY_FLAG_W,SALNTY,SALNTY_FLAG_W,OXYGEN,OXYGEN_FLAG_W,SILCAT,SILCAT_FLAG_W,NO2+NO3,NO2+NO3_FLAG_W,NITRIT,NITRIT_FLAG_W,PHSPHT,PHSPHT_FLAG_W,CFC-11,CFC-11_FLAG_W,CFC-12,CFC-12_FLAG_W,TCARBN,TCARBN_FLAG_W,ALKALI,ALKALI_FLAG_W,PH_TS,PH_TS_FLAG_W,PH_TS_TMP,CFC113,CFC113_FLAG_W,CHLORA,CHLORA_FLAG_W,PPHYTN,PPHYTN_FLAG_W,THETA,THETA_FLAG_W,SIGTHT,SIGTHT_FLAG_W,SBE35,SBE35_FLAG_W
,,,,,,,,UTC,,,,METER,DBAR,METERS,ITS-90,PSS-78,,UMOL/KG,,PSS78,,UMOL/KG,,UMOL/KG,,UMOL/KG,,UMOL/KG,,UMOL/KG,,PMOL/KG,,PMOL/KG,,UMOL/KG,,UMOL/KG,,,,ITS-90,PMOL/KG,,UG/KG,,UG/KG,,ITS-90,,KG/M3,,ITS-90,
49UP20180806_1,   P13,    55,  1,      0,      -9,0,20180819,0426,0625, 20.0047, 164.9675, 5346,      0.0,        0,  29.1971,  34.4637,2,    195.6,2,  34.4512,2,   196.00,2,     1.30,3,     0.00,2,     0.00,2,    0.050,3, -999.000,9, -999.000,9,   1940.4,2,   2268.7,2,   8.1105,2,    25.00, -999.000,9,     0.05,2,     0.02,2,  29.1966,2,  21.5957,2,-999.0000,9
49UP20180806_1,   P13,    55,  1,     36,     845,3,20180819,0426,0701, 20.0047, 164.9675, 5346,     12.0,       12,  29.1897,  34.4640,2,    195.6,2,  34.4637,2,   198.13,2,     1.38,3,     0.00,2,     0.00,2,    0.030,3,    1.484,2,    0.846,2,   1937.2,2,   2269.6,2,   8.1087,2,    25.00,    0.133,2,     0.04,2,     0.02,2,  29.1868,2,  21.5992,2,  29.1926,2
49UP20180806_1,   P13,    55,  1,     35,     844,2,20180819,0426,0657, 20.0047, 164.9675, 5346,     51.3,       51,  28.0229,  35.1003,2,    209.7,2,  35.1011,2,   209.90,2,     1.59,3,     0.03,2,     0.00,2,    0.010,3,    1.648,2,    0.911,2,   1978.8,2,   2309.9,2,   8.1072,2,    25.00,    0.148,2,     0.07,2,     0.02,2,  28.0108,2,  22.4665,2,  28.0237,2
49UP20180806_1,   P13,    55,  1,     34,     843,2,20180819,0426,0655, 20.0047, 164.9675, 5346,    100.0,       99,  24.5561,  35.1590,2,    207.9,2,  35.1580,2,   207.96,2,     1.63,3,     0.00,2,     0.00,2,    0.010,3,    1.771,4,    0.988,4,   1995.8,6,   2313.0,6,   8.0736,2,    25.00,    0.134,4,     0.12,2,     0.08,2,  24.5347,2,  23.6021,2,  24.5453,2
49UP20180806_1,   P13,    55,  1,     24,     833,4,20180819,0426,0653, 20.0047, 164.9675, 5346,    126.0,      125,  23.0865,  35.1786,2,    202.6,2,-999.0000,9,  -999.00,9,  -999.00,9,  -999.00,9,  -999.00,9, -999.000,9, -999.000,9, -999.000,9,   -999.0,9,   -999.0,9,-999.0000,9,  -999.00, -999.000,9,  -999.00,9,  -999.00,9,  23.0607,2,  24.0515,2,  23.0807,2
49UP20180806_1,   P13,    55,  1,     33,     842,2,20180819,0426,0651, 20.0047, 164.9675, 5346,    153.9,      153,  21.2387,  35.0990,2,    195.9,2,  35.1040,2,   197.68,2,     2.26,3,     0.66,2,     0.10,2,    0.110,3,    2.041,2,    1.144,2,   2033.1,2,   2310.1,2,   7.9989,6,    25.00,    0.105,2,     0.12,2,     0.36,2,  21.2090,2,  24.5123,2,  21.2259,2
49UP20180806_1,   P13,    55,  1,     32,     841,2,20180819,0426,0649, 20.0047, 164.9675, 5346,    204.7,      203,  17.8412,  34.8312,2,    200.5,2,  34.8311,2,   200.48,2,     3.63,3,     3.82,2,     0.01,2,    0.270,3,    2.329,2,    1.290,2,   2049.8,2,   2290.1,2,   7.9436,2,    25.00,    0.046,2,     0.02,2,     0.05,2,  17.8063,2,  25.1903,2,  17.8403,2
49UP20180806_1,   P13,    55,  1,     31,     840,2,20180819,0426,0647, 20.0047, 164.9675, 5346,    255.3,      254,  16.5621,  34.7272,2,    207.2,2,  34.7260,2,   207.77,2,     4.98,3,     5.41,2,     0.00,2,    0.360,3,    2.449,2,    1.346,2,   2052.3,2,   2284.3,2,   7.9283,2,    25.00,    0.038,2,  -999.00,9,  -999.00,9,  16.5208,2,  25.4176,2,  16.5576,2
49UP20180806_1,   P13,    55,  1,     30,     839,2,20180819,0426,0644, 20.0047, 164.9675, 5346,    336.8,      334,  13.7858,  34.4499,2,    202.4,2,  34.4495,2,   203.02,2,    10.09,3,     9.70,2,     0.00,2,    0.670,3,    2.781,2,    1.519,2,   2083.9,2,   2272.7,2,   7.8504,2,    25.00,    0.044,2,  -999.00,9,  -999.00,9,  13.7376,2,  25.8166,2,  13.7857,2
49UP20180806_1,   P13,    55,  1,     29,     838,2,20180819,0426,0642, 20.0047, 164.9675, 5346,    387.2,      384,  12.1154,  34.3127,2,    196.1,2,  34.3193,2,   196.84,6,    14.80,3,    12.99,6,     0.00,6,    0.900,3, -999.000,9, -999.000,9,   2099.6,2,   2268.6,2,   7.7994,2,    25.00, -999.000,9,  -999.00,9,  -999.00,9,  12.0646,2,  26.0430,2,  12.0806,2
49UP20180806_1,   P13,    55,  1,     28,     837,2,20180819,0426,0639, 20.0047, 164.9675, 5346,    439.3,      436,  10.1241,  34.1807,2,    177.3,2,  34.1811,2,   177.56,2,    24.15,3,    18.55,2,     0.00,2,    1.310,3,    2.997,2,    1.541,2,   2144.3,2,   2270.7,2,   7.7110,2,    25.00,    0.082,2,  -999.00,9,  -999.00,9,  10.0726,2,  26.2999,2,  10.1258,2
49UP20180806_1,   P13,    55,  1,     27,     661,2,20180819,0426,0637, 20.0047, 164.9675, 5346,    489.7,      486,   8.7602,  34.1210,2,    152.7,2,  34.1209,2,   152.78,2,    34.47,3,    23.41,2,     0.00,2,    1.660,3, -999.000,9, -999.000,9,   2179.1,2,   2276.2,2,   7.6343,2,    25.00, -999.000,9,  -999.00,9,  -999.00,9,   8.7076,2,  26.4758,2,   8.7606,2
49UP20180806_1,   P13,    55,  1,     26,     835,2,20180819,0426,0634, 20.0047, 164.9675, 5346,    540.0,      536,   7.3355,  34.0967,2,    118.4,2,  34.0967,2,   118.69,2,    49.21,3,    29.08,2,     0.00,2,    2.080,3,    2.267,2,    1.062,2,   2215.8,2,   2288.8,2,   7.5426,2,    25.00,    0.061,2,  -999.00,9,  -999.00,9,   7.2831,2,  26.6679,2,   7.3415,2
49UP20180806_1,   P13,    55,  1,     25,     834,2,20180819,0426,0630, 20.0047, 164.9675, 5346,    642.9,      638,   5.7503,  34.1670,2,     67.0,2,  34.1590,2,    69.06,2,    73.27,3,    36.52,2,     0.00,2,    2.630,3,    1.139,2,    0.498,2,   2275.5,2,   2312.3,2,   7.4295,2,    25.00,    0.019,2,  -999.00,9,  -999.00,9,   5.6950,2,  26.9324,2,   5.7509,2
49UP20180806_1,   P13,    55,  1,     23,     832,2,20180819,0426,0627, 20.0047, 164.9675, 5346,    741.0,      735,   4.9593,  34.2549,2,     48.8,2,  34.2539,6,    49.43,2,    90.28,3,    39.75,2,     0.00,2,    2.860,3,    0.462,2,    0.204,2,   2305.4,2,   2333.2,2,   7.3961,2,    25.00,    0.007,2,  -999.00,9,  -999.00,9,   4.8995,2,  27.0960,2,   4.9587,2
49UP20180806_1,   P13,    55,  1,     22,     831,2,20180819,0426,0623, 20.0047, 164.9675, 5346,    842.6,      836,   4.6156,  34.3967,2,     53.4,2,  34.3909,2,    53.25,2,    97.85,3,    40.20,2,     0.00,2,    2.880,3,    0.145,2,    0.062,2,   2318.6,2,   2351.7,2,   7.4207,2,    25.00,    0.000,2,  -999.00,9,  -999.00,9,   4.5490,2,  27.2477,2,   4.6155,2
49UP20180806_1,   P13,    55,  1,     21,     830,2,20180819,0426,0620, 20.0047, 164.9675, 5346,    943.5,      936,   4.2448,  34.4769,2,     65.5,2,  34.4770,2,    65.80,2,   104.42,3,    39.81,2,     0.00,2,    2.840,3,    0.064,2,    0.030,2,   2324.0,2,   2365.6,2,   7.4472,2,    25.00,    0.000,2,  -999.00,9,  -999.00,9,   4.1721,2,  27.3520,2,   4.2450,2
49UP20180806_1,   P13,    55,  1,     20,     829,2,20180819,0426,0615, 20.0047, 164.9675, 5346,   1083.8,     1074,   3.7853,  34.5129,2,     70.9,2,  34.5130,2,    71.65,2,   113.60,3,    40.03,2,     0.00,2,    2.850,3,    0.031,6,    0.010,6,   2328.3,2,   2377.4,2,   7.4563,2,    25.00,    0.000,6,  -999.00,9,  -999.00,9,   3.7044,2,  27.4288,2,   3.7842,2
49UP20180806_1,   P13,    55,  1,     19,     828,2,20180819,0426,0609, 20.0047, 164.9675, 5346,   1288.9,     1277,   3.2714,  34.5469,2,     76.5,2,  34.5470,2,    76.73,6,   123.80,3,    40.09,6,     0.00,6,    2.840,3,    0.010,2,    0.004,2,   2343.6,2,   2388.3,2,   7.4674,2,    25.00,    0.000,2,  -999.00,9,  -999.00,9,   3.1782,2,  27.5069,2,   3.2712,2
49UP20180806_1,   P13,    55,  1,     18,     660,2,20180819,0426,0602, 20.0047, 164.9675, 5346,   1491.6,     1477,   2.7918,  34.5708,2,     83.5,2,  34.5711,2,    84.19,2,   133.26,3,    40.02,2,     0.00,2,    2.820,3,    0.008,2,    0.000,2,   2341.8,2,   2399.7,2,   7.4728,2,    25.00,    0.000,2,  -999.00,9,  -999.00,9,   2.6871,2,  27.5705,2,   2.7920,2
49UP20180806_1,   P13,    55,  1,     17,     826,3,20180819,0426,0556, 20.0047, 164.9675, 5346,   1691.6,     1674,   2.4636,  34.5922,2,     90.5,2,  34.5921,2,    91.21,2,   139.10,3,    39.68,2,     0.00,2,    2.790,3,    0.008,2,    0.003,2,   2351.8,2,   2407.5,6,   7.4811,2,    25.00,    0.000,2,  -999.00,9,  -999.00,9,   2.3464,2,  27.6168,2,   2.4636,2
49UP20180806_1,   P13,    55,  1,     16,     825,2,20180819,0426,0550, 20.0047, 164.9675, 5346,   1891.5,     1871,   2.2190,  34.6086,2,     97.5,2,  34.6099,2,    98.17,2,   143.56,3,    39.37,2,     0.00,2,    2.750,3,    0.004,2,    0.002,2,   2351.9,2,   2410.7,2,   7.4952,6,    25.00,    0.000,2,  -999.00,9,  -999.00,9,   2.0884,2,  27.6511,2,   2.2189,2
49UP20180806_1,   P13,    55,  1,     15,     824,2,20180819,0426,0545, 20.0047, 164.9675, 5346,   2096.3,     2073,   1.9987,  34.6263,2,    105.7,2,  34.6261,6,   106.31,2,   147.89,3,    38.94,2,     0.00,2,    2.710,3,    0.004,2,    0.001,2,   2347.2,2,   2415.6,2,   7.5093,2,    25.00,    0.004,2,  -999.00,9,  -999.00,9,   1.8542,2,  27.6836,2,   1.9990,2
49UP20180806_1,   P13,    55,  1,     14,     823,2,20180819,0426,0540, 20.0047, 164.9675, 5346,   2297.9,     2271,   1.8654,  34.6381,2,    112.0,2,  34.6392,2,   112.31,2,   152.69,3,    38.62,2,     0.00,2,    2.710,3,    0.000,2,    0.000,2,   2343.9,2,   2419.7,2,   7.5204,2,    25.00,    0.000,3,  -999.00,9,  -999.00,9,   1.7057,2,  27.7045,2,   1.8655,2
49UP20180806_1,   P13,    55,  1,     13,     822,2,20180819,0426,0535, 20.0047, 164.9675, 5346,   2501.8,     2472,   1.7411,  34.6495,2,    119.7,2,  34.6503,2,   120.62,2,   154.29,3,    38.22,2,     0.00,2,    2.680,3,    0.000,2,    0.000,2,   2344.8,2,   2420.6,2,   7.5325,2,    25.00,    0.005,2,  -999.00,9,  -999.00,9,   1.5655,2,  27.7241,2,   1.7413,2
49UP20180806_1,   P13,    55,  1,     12,     821,2,20180819,0426,0530, 20.0047, 164.9675, 5346,   2704.6,     2671,   1.6695,  34.6568,2,    125.2,2,  34.6575,2,   125.59,2,   153.73,3,    37.81,2,     0.00,2,    2.640,3,   -0.000,2,    0.000,2,   2339.7,2,   2422.6,2,   7.5435,2,    25.00,    0.001,2,  -999.00,9,  -999.00,9,   1.4768,2,  27.7365,2,   1.6696,2
49UP20180806_1,   P13,    55,  1,     11,     820,3,20180819,0426,0524, 20.0047, 164.9675, 5346,   2906.8,     2869,   1.6116,  34.6631,2,    130.6,2,  34.6625,2,   130.72,2,   152.46,3,    37.41,2,     0.00,2,    2.610,3,    0.001,2,   -0.000,2,   2337.5,2,   2421.2,2,   7.5501,2,    25.00,    0.000,2,  -999.00,9,  -999.00,9,   1.4013,2,  27.7469,2,   1.6115,2
49UP20180806_1,   P13,    55,  1,     10,     819,2,20180819,0426,0519, 20.0047, 164.9675, 5346,   3123.3,     3081,   1.5633,  34.6687,2,    136.0,2,  34.6690,2,   136.14,6,   151.54,3,    37.11,6,     0.00,6,    2.570,3, -999.000,9, -999.000,9,   2335.7,2,   2422.2,2,   7.5579,2,    25.00, -999.000,9,  -999.00,9,  -999.00,9,   1.3332,2,  27.7563,2,   1.5634,2
49UP20180806_1,   P13,    55,  1,      9,     818,2,20180819,0426,0513, 20.0047, 164.9675, 5346,   3375.4,     3328,   1.5182,  34.6743,2,    141.8,2,  34.6749,2,   142.49,2,   150.28,3,    36.71,2,     0.00,2,    2.540,3, -999.000,9, -999.000,9,   2341.8,2,   2421.4,2,   7.5677,2,    25.00, -999.000,9,  -999.00,9,  -999.00,9,   1.2642,2,  27.7656,2,   1.5182,2
49UP20180806_1,   P13,    55,  1,      8,     817,2,20180819,0426,0507, 20.0047, 164.9675, 5346,   3631.1,     3578,   1.4909,  34.6785,2,    147.2,2,  34.6788,6,   147.85,2,   148.58,3,    36.29,2,     0.00,2,    2.510,3, -999.000,9, -999.000,9,   2329.3,2,   2420.1,2,   7.5761,2,    25.00, -999.000,9,  -999.00,9,  -999.00,9,   1.2115,2,  27.7727,2,   1.4910,2
49UP20180806_1,   P13,    55,  1,      7,     816,2,20180819,0426,0501, 20.0047, 164.9675, 5346,   3887.7,     3829,   1.4655,  34.6827,2,    152.9,2,  34.6829,2,   154.14,3,   146.29,3,    35.96,2,     0.00,2,    2.480,3, -999.000,9, -999.000,9,   2329.7,2,   2418.3,2,   7.5830,2,    25.00, -999.000,9,  -999.00,9,  -999.00,9,   1.1597,2,  27.7796,2,   1.4654,2
49UP20180806_1,   P13,    55,  1,      6,     815,2,20180819,0426,0455, 20.0047, 164.9675, 5346,   4144.1,     4079,   1.4431,  34.6868,2,    159.1,2,  34.6868,2,   159.59,2,   143.49,3,    35.46,2,     0.00,2,    2.440,3,    0.000,2,    0.000,2,   2317.5,2,   2414.4,6,   7.5899,2,    25.00,    0.000,2,  -999.00,9,  -999.00,9,   1.1100,2,  27.7863,2,   1.4432,2
49UP20180806_1,   P13,    55,  1,      5,     814,2,20180819,0426,0449, 20.0047, 164.9675, 5346,   4398.5,     4327,   1.4251,  34.6905,2,    165.0,2,  34.6906,2,   165.60,2,   140.38,3,    35.04,2,     0.00,2,    2.410,3, -999.000,9, -999.000,9,   2314.8,2,   2411.1,2,   7.5979,6,    25.00, -999.000,9,  -999.00,9,  -999.00,9,   1.0640,2,  27.7924,2,   1.4252,2
49UP20180806_1,   P13,    55,  1,      4,     813,2,20180819,0426,0443, 20.0047, 164.9675, 5346,   4655.0,     4577,   1.4137,  34.6936,2,    170.6,2,  34.6939,2,   171.28,2,   137.34,3,    34.67,2,     0.00,2,    2.380,3, -999.000,9, -999.000,9,   2308.0,2,   2408.4,2,   7.6038,2,    25.00, -999.000,9,  -999.00,9,  -999.00,9,   1.0234,2,  27.7976,2,   1.4137,2
49UP20180806_1,   P13,    55,  1,      3,     812,2,20180819,0426,0438, 20.0047, 164.9675, 5346,   4911.2,     4826,   1.4157,  34.6958,2,    174.4,2,  34.6954,2,   174.46,2,   135.17,3,    34.47,2,     0.00,2,    2.360,3, -999.000,9, -999.000,9,   2300.8,2,   2404.9,2,   7.6067,2,    25.00, -999.000,9,  -999.00,9,  -999.00,9,   0.9950,2,  27.8012,2,   1.4157,2
49UP20180806_1,   P13,    55,  1,      2,     811,2,20180819,0426,0432, 20.0047, 164.9675, 5346,   5166.9,     5074,   1.4224,  34.6974,2,    177.7,2,  34.6978,6,   177.90,2,   133.17,3,    34.14,2,     0.00,2,    2.350,3,    0.000,2,    0.000,2,   2296.5,2,   2402.1,2,   7.6101,2,    25.00,    0.001,2,  -999.00,9,  -999.00,9,   0.9703,2,  27.8042,2,   1.4224,2
49UP20180806_1,   P13,    55,  1,      1,     810,3,20180819,0426,0426, 20.0047, 164.9675, 5346,   5452.2,     5351,   1.4518,  34.6979,2,    178.9,2,  34.6981,2,   178.98,6,   132.22,3,    34.05,6,     0.00,6,    2.340,3,    0.002,2,    0.002,2,   2296.0,2,   2400.9,2,   7.6112,2,    25.00,    0.005,2,  -999.00,9,  -999.00,9,   0.9630,2,  27.8050,2,   1.4516,2