BOTTLE,20191018JMAGEMD
EXPOCODE,SECT_ID,STNNBR,CASTNO,SAMPNO,BTLNBR,BTLNBR_FLAG_U,DATE,TIME,BTL_TIME,LATITUDE,LONGITUDE,DEPTH,CTDPRS,CTDDEP,CTDTMP,CTDSAL,CTDSAL_FLAG_W,CTDOXY,CTDOXY_FLAG_W,SALNTY,SALNTY_FLAG_W,OXYGEN,OXYGEN_FLAG_W,SILCAT,SILCAT_FLAG_W,NO2+NO3,NO2+NO3_FLAG_W,NITRIT,NITRIT_FLAG_W,PHSPHT,PHSPHT_FLAG_W,CFC-11,CFC-11_FLAG_W,CFC-12,CFC-12_FLAG_W,TCARBN,TCARBN_FLAG_W,ALKALI,ALKALI_FLAG_W,PH_TS,PH_TS_FLAG_W,PH_TS_TMP,CFC113,CFC113_FLAG_W,CHLORA,CHLORA_FLAG_W,PPHYTN,PPHYTN_FLAG_W,THETA,THETA_FLAG_W,SIGTHT,SIGTHT_FLAG_W,SBE35,SBE35_FLAG_W
,,,,,,,,UTC,,,,METER,DBAR,METERS,ITS-90,PSS-78,,UMOL/KG,,PSS78,,UMOL/KG,,UMOL/KG,,UMOL/KG,,UMOL/KG,,UMOL/KG,,PMOL/KG,,PMOL/KG,,UMOL/KG,,UMOL/KG,,,,ITS-90,PMOL/KG,,UG/KG,,UG/KG,,ITS-90,,KG/M3,,ITS-90,
49UP20180806_2,   P13,    90,  1,      0,      -9,0,20180909,1002,1128, -0.0740, 164.9972, 4364,      0.0,        0,  30.3228,  34.2654,2,    194.8,2,  34.2691,2,   193.96,2,     4.11,4,     0.00,2,     0.00,2,    0.130,3, -999.000,9, -999.000,9,   1922.2,2,   2253.1,2,   8.1215,2,    25.00, -999.000,9,     0.05,2,     0.02,2,  30.3222,2,  21.0654,2,-999.0000,9
49UP20180806_2,   P13,    90,  1,     36,     845,2,20180909,1002,1210, -0.0740, 164.9972, 4364,     11.1,       11,  30.3312,  34.2664,2,    194.7,2,  34.2664,2,   193.87,2,     4.08,4,     0.00,2,     0.00,2,    0.100,3,    1.408,2,    0.805,2,   1923.8,2,   2254.4,2,   8.1276,2,    25.00,    0.129,2,     0.04,2,     0.02,2,  30.3284,2,  21.0640,2,  30.3353,2
49UP20180806_2,   P13,    90,  1,     35,     844,2,20180909,1002,1209, -0.0740, 164.9972, 4364,     26.4,       26,  30.2744,  34.2673,2,    195.1,2,  34.2692,2,   194.14,2,     4.02,4,     0.00,2,     0.00,2,    0.100,3, -999.000,9, -999.000,9,   1926.6,2,   2253.5,2,   8.1222,6,    25.00, -999.000,9,     0.05,2,     0.02,2,  30.2678,2,  21.0855,2,  30.2750,2
49UP20180806_2,   P13,    90,  1,     34,     843,2,20180909,1002,1206, -0.0740, 164.9972, 4364,     50.1,       50,  30.2762,  34.3571,2,    195.9,2,  34.3653,2,   194.84,2,     1.63,3,     0.00,2,     0.00,2,    0.110,3,    1.408,2,    0.804,2,   1929.8,6,   2261.7,6,   8.1226,2,    25.00,    0.147,2,     0.06,2,     0.03,2,  30.2637,2,  21.1541,2,  30.2770,2
49UP20180806_2,   P13,    90,  1,     33,     842,2,20180909,1002,1204, -0.0740, 164.9972, 4364,     76.2,       76,  30.4442,  34.9335,2,    197.8,2,  34.9181,4,   196.72,2,     1.55,3,     0.00,2,     0.00,2,    0.150,3, -999.000,9, -999.000,9,   1965.5,2,   2297.2,2,   8.1126,2,    25.00, -999.000,9,     0.10,2,     0.06,2,  30.4251,2,  21.5305,2,  30.4437,2
49UP20180806_2,   P13,    90,  1,     32,     841,2,20180909,1002,1202, -0.0740, 164.9972, 4364,    100.9,      100,  29.6103,  35.3502,2,    193.8,2,  35.3502,2,   193.85,2,     1.77,3,     0.70,2,     0.17,2,    0.270,3,    1.472,2,    0.826,2,   2010.9,2,   2326.9,2,   8.0731,2,    25.00,    0.137,2,     0.32,2,     0.32,2,  29.5855,2,  22.1299,2,  29.6063,2
49UP20180806_2,   P13,    90,  1,     31,     840,2,20180909,1002,1201, -0.0740, 164.9972, 4364,    125.8,      125,  26.7977,  35.3712,2,    155.7,2,  35.3690,2,   155.45,2,     2.74,3,     6.04,2,     0.17,2,    0.580,3, -999.000,9, -999.000,9,   2057.7,2,   2325.8,2,   7.9932,2,    25.00, -999.000,9,     0.16,2,     0.40,2,  26.7689,2,  23.0711,2,  26.8162,2
49UP20180806_2,   P13,    90,  1,     30,     839,2,20180909,1002,1159, -0.0740, 164.9972, 4364,    153.5,      153,  23.8798,  35.5911,2,    133.2,2,  35.6291,4,   132.57,2,     3.24,3,     8.96,2,     0.04,2,    0.790,3,    1.746,2,    0.994,2,   2100.5,2,   2342.3,2,   7.9370,2,    25.00,    0.053,2,     0.05,2,     0.24,2,  23.8475,2,  24.1342,2,  23.7895,2
49UP20180806_2,   P13,    90,  1,     29,     838,2,20180909,1002,1156, -0.0740, 164.9972, 4364,    203.7,      202,  17.6185,  35.2793,2,    137.3,2,  35.2202,4,   138.32,2,     8.00,3,    12.57,2,     0.01,2,    0.990,3,    2.016,2,    1.081,2,   2126.7,2,   2322.3,2,   7.8457,2,    25.00,    0.029,2,     0.01,2,     0.02,2,  17.5839,2,  25.5880,2,  17.6248,2
49UP20180806_2,   P13,    90,  1,     28,     837,2,20180909,1002,1154, -0.0740, 164.9972, 4364,    251.9,      250,  14.4617,  35.0662,2,    142.7,2,  35.0683,2,   142.55,6,    11.02,3,    16.37,6,     0.00,6,    1.240,3,    1.996,2,    1.031,2,   2148.6,2,   2316.7,2,   7.7845,2,    25.00,    0.026,2,  -999.00,9,  -999.00,9,  14.4245,2,  26.1480,2,  14.4600,2
49UP20180806_2,   P13,    90,  1,     27,     661,2,20180909,1002,1152, -0.0740, 164.9972, 4364,    283.0,      281,  12.9237,  34.9379,2,    140.9,2,  34.9369,2,   140.71,2,    14.36,3,    18.90,2,     0.00,2,    1.390,3,    1.907,2,    0.959,2,   2163.4,2,   2312.9,2,   7.7481,2,    25.00,    0.022,2,  -999.00,9,  -999.00,9,  12.8848,2,  26.3679,2,  12.9229,2
49UP20180806_2,   P13,    90,  1,     26,     835,2,20180909,1002,1150, -0.0740, 164.9972, 4364,    321.3,      319,  11.9257,  34.8421,2,    120.1,2,  34.8371,2,   117.31,2,    19.16,3,    22.96,2,     0.00,2,    1.660,3, -999.000,9, -999.000,9,   2183.4,2,   2308.2,2,   7.6844,2,    25.00, -999.000,9,  -999.00,9,  -999.00,9,  11.8838,2,  26.4886,2,  11.9457,2
49UP20180806_2,   P13,    90,  1,     25,     834,2,20180909,1002,1148, -0.0740, 164.9972, 4364,    372.5,      370,  10.7180,  34.7490,2,    105.8,2,  34.7479,2,   105.47,2,    23.63,3,    26.29,2,     0.00,2,    1.860,3,    1.374,2,    0.660,2,   2199.0,2,   2307.6,2,   7.6354,2,    25.00,    0.015,2,  -999.00,9,  -999.00,9,  10.6726,2,  26.6388,2,  10.7185,2
49UP20180806_2,   P13,    90,  1,     23,     832,2,20180909,1002,1146, -0.0740, 164.9972, 4364,    422.4,      420,   9.0969,  34.6588,2,     83.8,2,  34.6578,2,    83.53,2,    30.74,3,    31.64,2,     0.00,2,    2.210,3, -999.000,9, -999.000,9,   2230.2,2,   2307.9,2,   7.5570,2,    25.00, -999.000,9,  -999.00,9,  -999.00,9,   9.0504,2,  26.8429,2,   9.0976,2
49UP20180806_2,   P13,    90,  1,     22,     831,2,20180909,1002,1143, -0.0740, 164.9972, 4364,    473.9,      471,   8.4770,  34.6184,2,    110.8,2,  34.6184,2,   110.10,2,    30.19,3,    30.20,2,     0.00,2,    2.110,3,    0.949,2,    0.435,2,   2219.5,2,   2308.5,2,   7.5907,2,    25.00,    0.014,2,  -999.00,9,  -999.00,9,   8.4267,2,  26.9094,2,   8.4770,2
49UP20180806_2,   P13,    90,  1,     21,     830,2,20180909,1002,1140, -0.0740, 164.9972, 4364,    574.5,      571,   7.2015,  34.5656,2,     99.0,2,  34.5658,2,    98.73,2,    40.57,3,    33.92,2,     0.00,2,    2.390,3,    0.502,2,    0.234,2,   2242.6,2,   2314.0,2,   7.5449,2,    25.00,    0.011,2,  -999.00,9,  -999.00,9,   7.1458,2,  27.0563,2,   7.2020,2
49UP20180806_2,   P13,    90,  1,     20,     829,2,20180909,1002,1136, -0.0740, 164.9972, 4364,    675.0,      670,   6.4726,  34.5504,2,     85.0,2,  34.5505,2,    84.91,2,    50.71,3,    36.71,2,     0.00,2,    2.590,3,    0.240,2,    0.109,2,   2260.7,2,   2324.3,2,   7.5098,2,    25.00,    0.000,2,  -999.00,9,  -999.00,9,   6.4103,2,  27.1443,2,   6.4724,2
49UP20180806_2,   P13,    90,  1,     19,     828,2,20180909,1002,1133, -0.0740, 164.9972, 4364,    776.6,      771,   5.8957,  34.5393,2,     90.8,2,  34.5400,2,    90.46,2,    56.96,3,    37.12,2,     0.00,2,    2.620,3,    0.177,2,    0.076,2,   2270.3,2,   2329.6,2,   7.5113,2,    25.00,    0.001,2,  -999.00,9,  -999.00,9,   5.8269,2,  27.2105,2,   5.8961,2
49UP20180806_2,   P13,    90,  1,     18,     660,2,20180909,1002,1130, -0.0740, 164.9972, 4364,    877.2,      871,   5.3699,  34.5382,2,     93.6,2,  34.5373,2,    93.54,6,    65.63,3,    37.55,6,     0.00,6,    2.650,3,    0.115,2,    0.048,2,   2277.5,2,   2337.2,2,   7.5088,2,    25.00,    0.007,2,  -999.00,9,  -999.00,9,   5.2951,2,  27.2745,2,   5.3701,2
49UP20180806_2,   P13,    90,  1,     17,     826,2,20180909,1002,1127, -0.0740, 164.9972, 4364,    977.9,      970,   4.7918,  34.5435,2,     98.0,2,  34.5438,2,    97.66,2,    76.64,3,    37.64,2,     0.00,2,    2.660,3,    0.079,2,    0.029,2,   2288.6,2,   2349.9,2,   7.5169,6,    25.00,    0.001,2,  -999.00,9,  -999.00,9,   4.7120,2,  27.3461,2,   4.7924,2
49UP20180806_2,   P13,    90,  1,     16,     825,2,20180909,1002,1123, -0.0740, 164.9972, 4364,   1140.3,     1131,   4.1439,  34.5596,2,     95.8,2,  34.5592,2,    95.92,2,    92.20,3,    38.51,2,     0.00,2,    2.770,3,    0.024,2,    0.007,2,   2301.4,6,   2365.3,6,   7.5068,2,    25.00,    0.001,2,  -999.00,9,  -999.00,9,   4.0551,2,  27.4301,2,   4.1443,2
49UP20180806_2,   P13,    90,  1,     15,     824,2,20180909,1002,1118, -0.0740, 164.9972, 4364,   1342.4,     1331,   3.5023,  34.5834,2,     92.8,2,  34.5837,2,    92.83,2,   110.52,3,    39.27,2,     0.00,2,    2.860,3,    0.003,2,    0.004,2,   2324.9,2,   2384.0,2,   7.4998,2,    25.00,    0.006,2,  -999.00,9,  -999.00,9,   3.4022,2,  27.5147,2,   3.5021,2
49UP20180806_2,   P13,    90,  1,     14,     823,2,20180909,1002,1113, -0.0740, 164.9972, 4364,   1545.3,     1531,   3.0344,  34.6002,2,    100.8,2,  34.6007,2,   101.13,2,   120.85,3,    38.83,2,     0.00,2,    2.820,3,    0.001,2,   -0.000,2,   2330.0,2,   2393.6,2,   7.5131,2,    25.00,    0.004,2,  -999.00,9,  -999.00,9,   2.9223,2,  27.5731,2,   3.0346,2
49UP20180806_2,   P13,    90,  1,     13,     822,2,20180909,1002,1106, -0.0740, 164.9972, 4364,   1747.7,     1731,   2.6911,  34.6150,2,    107.5,2,  34.6151,6,   107.44,2,   126.51,3,    38.56,2,     0.00,2,    2.760,3,   -0.000,2,   -0.000,2,   2337.3,2,   2402.3,2,   7.5254,2,    25.00,    0.000,2,  -999.00,9,  -999.00,9,   2.5661,2,  27.6164,2,   2.6917,2
49UP20180806_2,   P13,    90,  1,     12,     821,2,20180909,1002,1101, -0.0740, 164.9972, 4364,   1951.5,     1932,   2.2843,  34.6358,2,    113.9,2,  34.6355,2,   114.03,2,   135.57,3,    38.36,2,     0.00,2,    2.710,3,    0.000,2,    0.000,2,   2347.3,2,   2412.8,2,   7.5335,2,    25.00,    0.002,2,  -999.00,9,  -999.00,9,   2.1477,2,  27.6680,2,   2.2846,2
49UP20180806_2,   P13,    90,  1,     11,     820,2,20180909,1002,1056, -0.0740, 164.9972, 4364,   2153.0,     2130,   2.0993,  34.6451,2,    119.6,2,  34.6457,2,   120.08,2,   138.51,3,    37.92,2,     0.00,2,    2.670,3,    0.000,2,    0.000,2,   2342.6,2,   2417.7,2,   7.5454,2,    25.00,    0.000,2,  -999.00,9,  -999.00,9,   1.9482,2,  27.6914,2,   2.0995,2
49UP20180806_2,   P13,    90,  1,     10,     819,2,20180909,1002,1049, -0.0740, 164.9972, 4364,   2358.0,     2332,   1.9868,  34.6507,2,    124.4,2,  34.6506,2,   124.59,6,   140.00,3,    37.58,6,     0.00,6,    2.650,3,    0.000,2,    0.000,2,   2338.5,2,   2418.7,2,   7.5496,2,    25.00,    0.000,2,  -999.00,9,  -999.00,9,   1.8196,2,  27.7059,2,   1.9868,2
49UP20180806_2,   P13,    90,  1,      9,     818,2,20180909,1002,1044, -0.0740, 164.9972, 4364,   2560.8,     2531,   1.8774,  34.6577,2,    125.7,2,  34.6578,2,   125.54,2,   143.94,3,    37.54,2,     0.00,2,    2.640,3,    0.000,2,    0.000,2,   2336.8,2,   2422.7,2,   7.5528,2,    25.00,    0.002,2,  -999.00,9,  -999.00,9,   1.6938,2,  27.7211,2,   1.8774,2
49UP20180806_2,   P13,    90,  1,      8,     817,2,20180909,1002,1040, -0.0740, 164.9972, 4364,   2764.8,     2732,   1.7831,  34.6628,2,    129.8,2,  34.6626,2,   130.19,2,   145.66,3,    37.33,2,     0.00,2,    2.620,3,    0.000,2,    0.000,2,   2343.0,2,   2423.5,2,   7.5582,2,    25.00,    0.000,2,  -999.00,9,  -999.00,9,   1.5826,2,  27.7335,2,   1.7831,2
49UP20180806_2,   P13,    90,  1,      7,     816,2,20180909,1002,1034, -0.0740, 164.9972, 4364,   2967.4,     2930,   1.7219,  34.6665,2,    133.4,2,  34.6672,6,   133.67,2,   146.15,3,    37.10,2,     0.00,2,    2.590,3, -999.000,9, -999.000,9,   2339.0,2,   2424.0,2,   7.5649,2,    25.00, -999.000,9,  -999.00,9,  -999.00,9,   1.5034,2,  27.7423,2,   1.7216,2
49UP20180806_2,   P13,    90,  1,      6,     815,2,20180909,1002,1029, -0.0740, 164.9972, 4364,   3212.9,     3171,   1.6014,  34.6740,2,    142.0,2,  34.6743,2,   142.12,2,   145.99,3,    36.54,2,     0.00,2,    2.550,3, -999.000,9, -999.000,9,   2331.4,2,   2423.0,2,   7.5761,6,    25.00, -999.000,9,  -999.00,9,  -999.00,9,   1.3617,2,  27.7585,2,   1.6014,2
49UP20180806_2,   P13,    90,  1,      5,     814,2,20180909,1002,1023, -0.0740, 164.9972, 4364,   3470.1,     3423,   1.5624,  34.6778,2,    146.5,2,  34.6792,4,   146.62,2,   145.43,3,    36.23,2,     0.00,2,    2.530,3,    0.008,2,    0.003,2,   2333.7,2,   2422.4,6,   7.5823,2,    25.00,    0.001,2,  -999.00,9,  -999.00,9,   1.2977,2,  27.7661,2,   1.5624,2
49UP20180806_2,   P13,    90,  1,      4,     813,2,20180909,1002,1018, -0.0740, 164.9972, 4364,   3724.1,     3671,   1.5071,  34.6831,2,    153.3,2,  34.6836,6,   153.58,2,   143.18,3,    35.78,2,     0.00,2,    2.490,3,    0.002,2,    0.000,2,   2327.3,2,   2420.0,2,   7.5866,2,    25.00,    0.000,2,  -999.00,9,  -999.00,9,   1.2176,2,  27.7759,2,   1.5072,2
49UP20180806_2,   P13,    90,  1,      3,     812,2,20180909,1002,1012, -0.0740, 164.9972, 4364,   3980.1,     3921,   1.4646,  34.6879,2,    160.5,2,  34.6877,2,   160.67,2,   140.69,3,    35.32,2,     0.00,2,    2.450,3,    0.001,2,    0.000,2,   2323.9,2,   2416.1,2,   7.5982,2,    25.00,    0.003,2,  -999.00,9,  -999.00,9,   1.1488,2,  27.7845,2,   1.4645,2
49UP20180806_2,   P13,    90,  1,      2,     811,2,20180909,1002,1007, -0.0740, 164.9972, 4364,   4236.7,     4172,   1.4203,  34.6928,2,    168.6,2,  34.6924,6,   168.92,2,   136.92,3,    34.71,2,     0.00,2,    2.410,3,    0.008,2,    0.003,2,   2315.5,2,   2412.5,2,   7.6094,2,    25.00,    0.000,2,  -999.00,9,  -999.00,9,   1.0776,2,  27.7933,2,   1.4205,2
49UP20180806_2,   P13,    90,  1,      1,     810,2,20180909,1002,1002, -0.0740, 164.9972, 4364,   4418.9,     4349,   1.3463,  34.6989,2,    179.9,2,  34.6982,6,   179.28,6,   130.43,3,    33.85,6,     0.00,6,    2.350,3,    0.016,2,    0.002,2,   2301.1,2,   2401.3,2,   7.6156,2,    25.00,    0.002,2,  -999.00,9,  -999.00,9,   0.9853,2,  27.8044,2,   1.3463,2