BOTTLE,20191113JMAGEMD
EXPOCODE,SECT_ID,STNNBR,CASTNO,SAMPNO,BTLNBR,BTLNBR_FLAG_U,DATE,TIME,BTL_TIME,LATITUDE,LONGITUDE,DEPTH,CTDPRS,CTDDEP,CTDTMP,CTDSAL,CTDSAL_FLAG_W,CTDOXY,CTDOXY_FLAG_W,SALNTY,SALNTY_FLAG_W,OXYGEN,OXYGEN_FLAG_W,SILCAT,SILCAT_FLAG_W,NO2+NO3,NO2+NO3_FLAG_W,NITRIT,NITRIT_FLAG_W,PHSPHT,PHSPHT_FLAG_W,CFC-11,CFC-11_FLAG_W,CFC-12,CFC-12_FLAG_W,TCARBN,TCARBN_FLAG_W,ALKALI,ALKALI_FLAG_W,PH_TS,PH_TS_FLAG_W,PH_TS_TMP,CHLORA,CHLORA_FLAG_W,PPHYTN,PPHYTN_FLAG_W,THETA,THETA_FLAG_W,SIGTHT,SIGTHT_FLAG_W,SBE35,SBE35_FLAG_W
,,,,,,,,UTC,,,,METER,DBAR,METERS,ITS-90,PSS-78,,UMOL/KG,,PSS78,,UMOL/KG,,UMOL/KG,,UMOL/KG,,UMOL/KG,,UMOL/KG,,PMOL/KG,,PMOL/KG,,UMOL/KG,,UMOL/KG,,,,ITS-90,UG/KG,,UG/KG,,ITS-90,,KG/M3,,ITS-90,
49UP20150724_2,   P04,    21,  1,      0,      -9,0,20150828,1012,1200,  9.5102, 150.8520, 5458,      0.0,        0,  28.8688,  33.9572,2,    197.7,2,  33.9695,2,   197.02,2,     0.91,2,     0.00,2,     0.00,2,    0.070,2, -999.000,9, -999.000,9,   1908.7,2,   2230.6,2,   8.1097,2,    25.00,     0.05,2,     0.02,2,  28.8682,2,  21.3252,2,-999.0000,9
49UP20150724_2,   P04,    21,  1,     36,     109,2,20150828,1012,1236,  9.5102, 150.8520, 5458,     11.0,       11,  28.8781,  33.9571,2,    197.5,2,  33.9574,2,   196.99,2,     0.88,2,     0.01,2,     0.00,2,    0.070,2, -999.000,9, -999.000,9,   1907.6,2,   2230.6,2,   8.1165,2,    25.00,     0.05,4,     0.02,4,  28.8754,2,  21.3227,2,  28.8759,2
49UP20150724_2,   P04,    21,  1,     35,     112,2,20150828,1012,1234,  9.5102, 150.8520, 5458,     51.3,       51,  27.5430,  34.8957,2,    209.4,2,  34.8896,6,   208.19,2,     0.95,2,     0.02,2,     0.00,2,    0.110,2, -999.000,9, -999.000,9,   1962.3,2,   2293.2,2,   8.1017,2,    25.00,     0.06,2,     0.02,2,  27.5311,2,  22.4686,2,  27.5371,2
49UP20150724_2,   P04,    21,  1,     34,     094,2,20150828,1012,1233,  9.5102, 150.8520, 5458,     76.0,       76,  24.5146,  35.2775,2,    198.5,2,  35.2816,2,   198.41,6,     1.19,6,     0.00,6,     0.00,6,    0.140,6, -999.000,9, -999.000,9,   2020.6,2,   2322.1,2,   8.0390,2,    25.00,     0.15,2,     0.09,2,  24.4984,2,  23.7027,2,  24.5272,2
49UP20150724_2,   P04,    21,  1,     33,     469,2,20150828,1012,1231,  9.5102, 150.8520, 5458,    100.4,      100,  20.3446,  34.9150,2,    168.8,2,  34.8644,4,   159.41,2,     6.06,2,     6.40,2,     0.22,2,    0.620,2, -999.000,9, -999.000,9,   2083.6,2,   2296.2,2,   7.8908,2,    25.00,     0.22,2,     0.45,2,  20.3259,2,  24.6106,2,  20.3440,2
49UP20150724_2,   P04,    21,  1,     32,     105,2,20150828,1012,1230,  9.5102, 150.8520, 5458,    127.5,      127,  16.3678,  34.6711,2,    133.9,2,  34.6635,2,   132.70,2,    12.12,2,    13.67,2,     0.02,2,    1.070,2, -999.000,9, -999.000,9,   2121.0,2,   2285.6,2,   7.7846,2,    25.00,     0.08,2,     0.24,2,  16.3474,2,  25.4148,2,  16.3919,2
49UP20150724_2,   P04,    21,  1,     31,     515,2,20150828,1012,1228,  9.5102, 150.8520, 5458,    151.9,      151,  14.3179,  34.5435,2,    121.5,2,  34.5450,2,   122.03,2,    15.55,2,    16.95,2,     0.01,2,    1.290,2, -999.000,9, -999.000,9,   2144.6,2,   2279.7,2,   7.7228,2,    25.00,     0.05,2,     0.18,2,  14.2957,2,  25.7719,2,  14.3076,2
49UP20150724_2,   P04,    21,  1,     30,     097,2,20150828,1012,1225,  9.5102, 150.8520, 5458,    202.0,      201,  11.0622,  34.5029,2,     81.8,2,  34.5040,2,    81.59,2,    28.73,2,    26.80,2,     0.00,2,    2.010,2, -999.000,9, -999.000,9,   2205.0,2,   2288.3,2,   7.5829,2,    25.00,     0.00,2,     0.04,2,  11.0374,2,  26.3816,2,  11.0653,2
49UP20150724_2,   P04,    21,  1,     29,     102,2,20150828,1012,1223,  9.5102, 150.8520, 5458,    251.7,      250,   9.7047,  34.5282,2,     66.6,2,  34.5289,2,    66.31,2,    35.07,2,    30.93,2,     0.00,2,    2.230,2, -999.000,9, -999.000,9,   2233.2,2,   2297.0,2,   7.5249,2,    25.00,  -999.00,9,  -999.00,9,   9.6761,2,  26.6382,2,   9.6999,2
49UP20150724_2,   P04,    21,  1,     28,     108,2,20150828,1012,1221,  9.5102, 150.8520, 5458,    281.6,      280,   9.3012,  34.5336,2,     63.2,2,  34.5341,2,    63.19,2,    37.24,2,    32.08,2,     0.00,2,    2.310,2, -999.000,9, -999.000,9,   2238.6,2,   2298.8,2,   7.5145,2,    25.00,  -999.00,9,  -999.00,9,   9.2700,2,  26.7093,2,   9.3031,2
49UP20150724_2,   P04,    21,  1,     27,     998,2,20150828,1012,1219,  9.5102, 150.8520, 5458,    373.3,      371,   8.2111,  34.5378,2,     74.5,2,  34.5381,2,    74.83,2,    42.85,2,    33.34,2,     0.00,2,    2.370,2, -999.000,9, -999.000,9,   2245.7,2,   2308.1,2,   7.5141,2,    25.00,  -999.00,9,  -999.00,9,   8.1725,2,  26.8849,2,   8.2072,2
49UP20150724_2,   P04,    21,  1,     26,     084,2,20150828,1012,1216,  9.5102, 150.8520, 5458,    472.1,      469,   7.4920,  34.5383,2,     72.2,2,  34.5375,2,    72.00,6,    48.43,6,    34.98,6,     0.00,6,    2.490,6, -999.000,9, -999.000,9,   2256.7,2,   2313.6,2,   7.5004,2,    25.00,  -999.00,9,  -999.00,9,   7.4455,2,  26.9923,2,   7.4921,2
49UP20150724_2,   P04,    21,  1,     25,     098,3,20150828,1012,1214,  9.5102, 150.8520, 5458,    573.9,      570,   6.7651,  34.5291,2,     75.6,2,  34.5291,2,    75.04,2,    56.09,2,    36.04,2,     0.00,2,    2.580,2, -999.000,9, -999.000,9,   2267.7,2,   2321.4,2,   7.4919,2,    25.00,  -999.00,9,  -999.00,9,   6.7113,2,  27.0873,2,   6.7641,2
49UP20150724_2,   P04,    21,  1,     24,     110,2,20150828,1012,1211,  9.5102, 150.8520, 5458,    674.1,      669,   6.2136,  34.5278,2,     78.4,2,  34.5278,2,    78.34,2,    63.25,2,    36.72,2,     0.00,2,    2.620,2, -999.000,9, -999.000,9,   2275.7,6,   2329.1,6,   7.4933,2,    25.00,  -999.00,9,  -999.00,9,   6.1528,2,  27.1600,2,   6.2136,2
49UP20150724_2,   P04,    21,  1,     23,     096,2,20150828,1012,1207,  9.5102, 150.8520, 5458,    777.1,      771,   5.5710,  34.5272,2,     73.7,2,  34.5272,2,    73.90,2,    73.78,2,    38.07,2,     0.00,2,    2.730,2, -999.000,9, -999.000,9,   2287.8,2,   2339.2,2,   7.4797,6,    25.00,  -999.00,9,  -999.00,9,   5.5041,2,  27.2407,2,   5.5712,2
49UP20150724_2,   P04,    21,  1,     22,     111,2,20150828,1012,1204,  9.5102, 150.8520, 5458,    876.5,      870,   5.0578,  34.5415,2,     78.7,2,  34.5413,6,    79.05,2,    81.93,2,    38.40,2,     0.00,2,    2.750,2, -999.000,9, -999.000,9,   2297.5,2,   2349.2,2,   7.4830,2,    25.00,  -999.00,9,  -999.00,9,   4.9851,2,  27.3135,2,   5.0578,2
49UP20150724_2,   P04,    21,  1,     21,     078,2,20150828,1012,1201,  9.5102, 150.8520, 5458,    979.2,      971,   4.6021,  34.5503,2,     81.3,2,  34.5502,2,    81.42,2,    90.20,2,    38.74,2,     0.00,2,    2.760,2, -999.000,9, -999.000,9,   2306.6,2,   2357.0,2,   7.4843,2,    25.00,  -999.00,9,  -999.00,9,   4.5236,2,  27.3724,2,   4.6019,2
49UP20150724_2,   P04,    21,  1,     20,     093,2,20150828,1012,1157,  9.5102, 150.8520, 5458,   1140.8,     1131,   3.9428,  34.5647,2,     84.4,2,  34.5652,2,    84.44,2,   104.02,2,    39.22,2,     0.00,2,    2.810,2, -999.000,9, -999.000,9,   2320.0,2,   2371.9,2,   7.4802,2,    25.00,  -999.00,9,  -999.00,9,   3.8557,2,  27.4548,2,   3.9429,2
49UP20150724_2,   P04,    21,  1,     19,     092,2,20150828,1012,1153,  9.5102, 150.8520, 5458,   1343.2,     1331,   3.2971,  34.5847,2,     91.5,2,  34.5847,2,    91.58,2,   117.24,2,    39.21,2,     0.00,2,    2.790,2, -999.000,9, -999.000,9,   2328.5,2,   2385.4,3,   7.4899,2,    25.00,  -999.00,9,  -999.00,9,   3.1991,2,  27.5351,2,   3.2972,2
49UP20150724_2,   P04,    21,  1,     18,     101,2,20150828,1012,1147,  9.5102, 150.8520, 5458,   1546.2,     1532,   2.8508,  34.6032,2,     99.7,2,  34.6039,2,    99.82,2,   125.65,2,    38.85,2,     0.00,2,    2.750,2, -999.000,9, -999.000,9,   2333.9,2,   2394.7,2,   7.5029,2,    25.00,  -999.00,9,  -999.00,9,   2.7408,2,  27.5917,2,   2.8510,2
49UP20150724_2,   P04,    21,  1,     17,     090,2,20150828,1012,1142,  9.5102, 150.8520, 5458,   1749.6,     1732,   2.5744,  34.6154,2,    101.4,2,  34.6150,2,   101.24,2,   131.99,2,    39.06,2,     0.00,2,    2.760,2, -999.000,9, -999.000,9,   2344.4,2,   2403.0,2,   7.5059,2,    25.00,  -999.00,9,  -999.00,9,   2.4508,2,  27.6266,2,   2.5746,2
49UP20150724_2,   P04,    21,  1,     16,     089,2,20150828,1012,1137,  9.5102, 150.8520, 5458,   1951.6,     1932,   2.3044,  34.6283,2,    105.3,2,  34.6290,6,   105.26,2,   138.37,2,    38.94,2,     0.00,2,    2.750,2, -999.000,9, -999.000,9,   2346.4,2,   2408.2,2,   7.5100,2,    25.00,  -999.00,9,  -999.00,9,   2.1675,2,  27.6604,2,   2.3045,2
49UP20150724_2,   P04,    21,  1,     15,     088,2,20150828,1012,1131,  9.5102, 150.8520, 5458,   2152.6,     2130,   2.0975,  34.6398,2,    111.6,2,  34.6401,2,   111.56,6,   142.53,6,    38.64,6,     0.00,6,    2.720,6, -999.000,9, -999.000,9,   2349.8,2,   2412.2,2,   7.5202,2,    25.00,  -999.00,9,  -999.00,9,   1.9465,2,  27.6874,2,   2.0975,2
49UP20150724_2,   P04,    21,  1,     14,     999,2,20150828,1012,1127,  9.5102, 150.8520, 5458,   2357.4,     2331,   1.9538,  34.6498,2,    116.9,2,  34.6504,2,   116.90,2,   144.80,2,    38.33,2,     0.00,2,    2.690,2, -999.000,9, -999.000,9,   2345.4,6,   2417.5,6,   7.5272,2,    25.00,  -999.00,9,  -999.00,9,   1.7872,2,  27.7077,2,   1.9538,2
49UP20150724_2,   P04,    21,  1,     13,     667,2,20150828,1012,1122,  9.5102, 150.8520, 5458,   2560.1,     2530,   1.8325,  34.6575,2,    123.2,2,  34.6577,2,   123.16,2,   146.20,2,    37.98,2,     0.00,2,    2.670,2, -999.000,9, -999.000,9,   2346.0,2,   2417.2,2,   7.5359,6,    25.00,  -999.00,9,  -999.00,9,   1.6499,2,  27.7242,2,   1.8324,2
49UP20150724_2,   P04,    21,  1,     12,     074,2,20150828,1012,1117,  9.5102, 150.8520, 5458,   2763.2,     2730,   1.7422,  34.6630,2,    128.6,2,  34.6634,2,   128.78,2,   146.83,2,    37.59,2,     0.00,2,    2.620,2, -999.000,9, -999.000,9,   2342.4,2,   2417.8,2,   7.5465,2,    25.00,  -999.00,9,  -999.00,9,   1.5427,2,  27.7366,2,   1.7423,2
49UP20150724_2,   P04,    21,  1,     11,     268,2,20150828,1012,1113,  9.5102, 150.8520, 5458,   2968.6,     2931,   1.6494,  34.6675,2,    134.6,2,  34.6676,2,   134.62,2,   147.17,2,    37.22,2,     0.00,2,    2.590,2, -999.000,9, -999.000,9,   2335.5,2,   2415.7,2,   7.5543,2,    25.00,  -999.00,9,  -999.00,9,   1.4324,2,  27.7482,2,   1.6493,2
49UP20150724_2,   P04,    21,  1,     10,     267,2,20150828,1012,1105,  9.5102, 150.8520, 5458,   3214.7,     3172,   1.5793,  34.6738,2,    141.2,2,  34.6738,2,   141.05,2,   145.97,2,    36.75,2,     0.00,2,    2.550,2, -999.000,9, -999.000,9,   2333.2,2,   2415.0,2,   7.5622,2,    25.00,  -999.00,9,  -999.00,9,   1.3400,2,  27.7599,2,   1.5796,2
49UP20150724_2,   P04,    21,  1,      9,     518,2,20150828,1012,1059,  9.5102, 150.8520, 5458,   3467.4,     3420,   1.5260,  34.6788,2,    147.5,2,  34.6799,2,   147.48,6,   144.29,6,    36.34,6,     0.00,6,    2.540,6, -999.000,9, -999.000,9,   2329.8,2,   2414.7,2,   7.5705,2,    25.00,  -999.00,9,  -999.00,9,   1.2625,2,  27.7694,2,   1.5259,2
49UP20150724_2,   P04,    21,  1,      8,     081,2,20150828,1012,1054,  9.5102, 150.8520, 5458,   3723.1,     3670,   1.4892,  34.6835,2,    153.4,2,  34.6833,6,   153.37,2,   142.40,2,    35.96,2,     0.00,2,    2.500,2, -999.000,9, -999.000,9,   2323.1,2,   2413.8,2,   7.5788,2,    25.00,  -999.00,9,  -999.00,9,   1.2002,2,  27.7775,2,   1.4893,2
49UP20150724_2,   P04,    21,  1,      7,     516,2,20150828,1012,1047,  9.5102, 150.8520, 5458,   3980.5,     3921,   1.4764,  34.6863,2,    157.6,2,  34.6856,2,   157.31,2,   140.99,2,    35.67,2,     0.00,2,    2.480,2, -999.000,9, -999.000,9,   2321.5,2,   2410.8,2,   7.5845,2,    25.00,  -999.00,9,  -999.00,9,   1.1602,2,  27.7824,2,   1.4764,2
49UP20150724_2,   P04,    21,  1,      6,     113,2,20150828,1012,1037,  9.5102, 150.8520, 5458,   4493.7,     4422,   1.4528,  34.6918,2,    166.5,2,  34.6916,2,   166.92,2,   136.78,2,    35.04,2,     0.00,2,    2.420,2, -999.000,9, -999.000,9,   2311.8,6,   2405.4,6,   7.5973,2,    25.00,  -999.00,9,  -999.00,9,   1.0800,2,  27.7923,2,   1.4529,2
49UP20150724_2,   P04,    21,  1,      5,     658,2,20150828,1012,1031,  9.5102, 150.8520, 5458,   4750.1,     4671,   1.4494,  34.6942,2,    170.7,2,  34.6947,2,   170.53,2,   134.65,2,    34.73,2,     0.00,2,    2.400,2, -999.000,9, -999.000,9,   2304.5,2,   2402.6,2,   7.5979,6,    25.00,  -999.00,9,  -999.00,9,   1.0468,2,  27.7965,2,   1.4494,2
49UP20150724_2,   P04,    21,  1,      4,     471,2,20150828,1012,1026,  9.5102, 150.8520, 5458,   5006.9,     4921,   1.4625,  34.6957,2,    172.9,2,  34.6956,2,   172.91,2,   133.57,2,    34.60,2,     0.00,2,    2.400,2, -999.000,9, -999.000,9,   2306.5,2,   2400.7,2,   7.6002,2,    25.00,  -999.00,9,  -999.00,9,   1.0287,2,  27.7989,2,   1.4627,2
49UP20150724_2,   P04,    21,  1,      3,     104,2,20150828,1012,1020,  9.5102, 150.8520, 5458,   5264.3,     5171,   1.4824,  34.6965,2,    174.4,2,  34.6962,2,   174.10,2,   132.96,2,    34.51,2,     0.00,2,    2.380,2, -999.000,9, -999.000,9,   2304.0,2,   2400.0,2,   7.5989,2,    25.00,  -999.00,9,  -999.00,9,   1.0162,2,  27.8004,2,   1.4824,2
49UP20150724_2,   P04,    21,  1,      2,     075,2,20150828,1012,1014,  9.5102, 150.8520, 5458,   5522.7,     5422,   1.5105,  34.6970,2,    175.2,2,  34.6963,2,   175.19,2,   132.15,2,    34.37,2,     0.00,2,    2.370,2, -999.000,9, -999.000,9,   2302.8,2,   2400.4,2,   7.6039,2,    25.00,  -999.00,9,  -999.00,9,   1.0106,2,  27.8012,2,   1.5105,2
49UP20150724_2,   P04,    21,  1,      1,     997,2,20150828,1012,1012,  9.5102, 150.8520, 5458,   5574.7,     5472,   1.5174,  34.6971,2,    175.2,2,  34.6969,2,   175.09,2,   132.42,2,    34.42,2,     0.00,2,    2.380,2, -999.000,9, -999.000,9,   2300.2,2,   2400.7,2,   7.6056,2,    25.00,  -999.00,9,  -999.00,9,   1.0106,2,  27.8012,2,   1.5174,2