BOTTLE,20191113JMAGEMD
EXPOCODE,SECT_ID,STNNBR,CASTNO,SAMPNO,BTLNBR,BTLNBR_FLAG_U,DATE,TIME,BTL_TIME,LATITUDE,LONGITUDE,DEPTH,CTDPRS,CTDDEP,CTDTMP,CTDSAL,CTDSAL_FLAG_W,CTDOXY,CTDOXY_FLAG_W,SALNTY,SALNTY_FLAG_W,OXYGEN,OXYGEN_FLAG_W,SILCAT,SILCAT_FLAG_W,NO2+NO3,NO2+NO3_FLAG_W,NITRIT,NITRIT_FLAG_W,PHSPHT,PHSPHT_FLAG_W,CFC-11,CFC-11_FLAG_W,CFC-12,CFC-12_FLAG_W,TCARBN,TCARBN_FLAG_W,ALKALI,ALKALI_FLAG_W,PH_TS,PH_TS_FLAG_W,PH_TS_TMP,CHLORA,CHLORA_FLAG_W,PPHYTN,PPHYTN_FLAG_W,THETA,THETA_FLAG_W,SIGTHT,SIGTHT_FLAG_W,SBE35,SBE35_FLAG_W
,,,,,,,,UTC,,,,METER,DBAR,METERS,ITS-90,PSS-78,,UMOL/KG,,PSS78,,UMOL/KG,,UMOL/KG,,UMOL/KG,,UMOL/KG,,UMOL/KG,,PMOL/KG,,PMOL/KG,,UMOL/KG,,UMOL/KG,,,,ITS-90,UG/KG,,UG/KG,,ITS-90,,KG/M3,,ITS-90,
49UP20150724_2,   P04,    23,  1,      0,      -9,0,20150827,1755,1952,  9.5007, 152.4970, 5190,      0.0,        0,  29.0172,  33.8668,2,    196.5,2,  33.8724,2,   195.76,2,     0.85,2,     0.04,2,     0.00,2,    0.110,2, -999.000,9, -999.000,9,   1901.2,2,   2227.2,2,   8.1098,2,    25.00,     0.05,2,     0.02,2,  29.0166,2,  21.2080,2,-999.0000,9
49UP20150724_2,   P04,    23,  1,     36,     109,2,20150827,1755,2019,  9.5007, 152.4970, 5190,     10.5,       10,  29.0245,  33.8669,2,    196.4,2,  33.8667,2,   195.93,2,     0.83,2,     0.03,2,     0.00,2,    0.080,2,    1.168,3,    0.610,3,   1899.6,2,   2242.7,2,   8.1128,2,    25.00,     0.05,2,     0.02,2,  29.0220,2,  21.2062,2,  29.0231,2
49UP20150724_2,   P04,    23,  1,     35,     112,2,20150827,1755,2017,  9.5007, 152.4970, 5190,     51.4,       51,  28.8224,  33.9518,2,    197.5,2,  33.9647,2,   197.98,2,     0.94,2,     0.03,2,     0.00,2,    0.080,2,    1.253,3,    0.666,3,   1905.9,2,   2267.4,4,   8.1122,2,    25.00,     0.08,2,     0.04,2,  28.8101,2,  21.3404,2,  28.8166,2
49UP20150724_2,   P04,    23,  1,     34,     094,2,20150827,1755,2016,  9.5007, 152.4970, 5190,     76.0,       76,  23.3932,  34.8846,2,    190.1,2,  34.8845,2,   189.90,2,     2.43,2,     0.13,2,     0.00,2,    0.230,2, -999.000,9, -999.000,9,   2027.9,2,   2301.1,2,   7.9982,2,    25.00,     0.24,2,     0.25,2,  23.3775,2,  23.7367,2,  23.4135,2
49UP20150724_2,   P04,    23,  1,     33,     469,2,20150827,1755,2012,  9.5007, 152.4970, 5190,    100.1,      100,  18.4149,  34.8432,2,    170.5,2,  34.8938,4,   172.66,2,     4.20,2,     5.05,2,     0.09,2,    0.480,2,    2.003,3,    1.140,3,   2077.9,2,   2297.0,2,   7.8996,2,    25.00,     0.16,2,     0.34,2,  18.3975,2,  25.0534,2,  18.5048,2
49UP20150724_2,   P04,    23,  1,     32,     105,2,20150827,1755,2011,  9.5007, 152.4970, 5190,    126.7,      126,  15.7159,  34.5918,2,    147.6,2,  34.5853,2,   146.24,2,    10.25,2,    12.08,2,     0.02,2,    0.960,2, -999.000,9, -999.000,9,   2118.2,2,   2303.2,4,   7.7896,2,    25.00,     0.09,2,     0.24,2,  15.6962,2,  25.5025,2,  15.7563,2
49UP20150724_2,   P04,    23,  1,     31,     515,2,20150827,1755,2009,  9.5007, 152.4970, 5190,    150.3,      149,  13.5529,  34.4797,2,    120.2,2,  34.4818,2,   118.72,2,    17.20,2,    18.43,2,     0.01,2,    1.390,2,    1.956,3,    1.060,3,   2151.2,2,   2300.3,4,   7.6961,2,    25.00,     0.04,2,     0.17,2,  13.5318,2,  25.8821,2,  13.5580,2
49UP20150724_2,   P04,    23,  1,     30,     097,2,20150827,1755,2008,  9.5007, 152.4970, 5190,    177.7,      177,  12.1330,  34.4797,2,     94.6,2,  34.4777,2,    93.64,6,    23.16,6,    23.38,6,     0.00,6,    1.740,6, -999.000,9, -999.000,9,   2181.6,2,   2282.7,2,   7.6175,2,    25.00,     0.02,2,     0.05,2,  12.1098,2,  26.1640,2,  12.1182,2
49UP20150724_2,   P04,    23,  1,     29,     102,2,20150827,1755,2007,  9.5007, 152.4970, 5190,    200.7,      199,  11.0016,  34.5069,2,     76.4,2,  34.5035,6,    76.25,2,    29.10,2,    27.44,2,     0.00,2,    2.010,2,    1.243,3,    0.657,3,   2207.3,2,   2306.8,4,   7.5660,2,    25.00,     0.00,2,     0.04,2,  10.9770,2,  26.3957,2,  11.0003,2
49UP20150724_2,   P04,    23,  1,     28,     108,2,20150827,1755,2005,  9.5007, 152.4970, 5190,    253.7,      252,   9.6193,  34.5386,2,     67.7,2,  34.5391,2,    67.69,2,    35.43,2,    31.08,2,     0.00,2,    2.230,2, -999.000,9, -999.000,9,   2227.9,2,   2319.6,4,   7.5301,2,    25.00,  -999.00,9,  -999.00,9,   9.5906,2,  26.6605,2,   9.6156,2
49UP20150724_2,   P04,    23,  1,     27,     998,2,20150827,1755,2003,  9.5007, 152.4970, 5190,    302.3,      300,   8.9777,  34.5447,2,     69.8,2,  34.5454,2,    69.57,2,    38.54,2,    32.23,2,     0.00,2,    2.300,2,    0.658,3,    0.348,3,   2235.3,2,   2320.7,4,   7.5206,2,    25.00,  -999.00,9,  -999.00,9,   8.9449,2,  26.7704,2,   8.9779,2
49UP20150724_2,   P04,    23,  1,     26,     084,2,20150827,1755,2001,  9.5007, 152.4970, 5190,    403.1,      400,   7.9816,  34.5489,2,     68.5,2,  34.5479,2,    68.52,2,    44.26,2,    34.38,2,     0.00,2,    2.440,2,    0.369,3,    0.199,3,   2258.6,2,   2325.3,4,   7.5037,2,    25.00,  -999.00,9,  -999.00,9,   7.9406,2,  26.9284,2,   7.9819,2
49UP20150724_2,   P04,    23,  1,     25,     098,2,20150827,1755,1958,  9.5007, 152.4970, 5190,    504.0,      501,   7.1676,  34.5336,2,     72.8,2,  34.5335,2,    72.38,2,    51.44,2,    35.53,2,     0.00,2,    2.530,2,    0.242,3,    0.134,3,   2261.5,2,   2319.0,2,   7.4965,2,    25.00,  -999.00,9,  -999.00,9,   7.1190,2,  27.0348,2,   7.1664,2
49UP20150724_2,   P04,    23,  1,     24,     110,2,20150827,1755,1956,  9.5007, 152.4970, 5190,    604.1,      600,   6.5371,  34.5267,2,     73.3,2,  34.5262,2,    73.02,2,    58.94,2,    36.65,2,     0.00,2,    2.610,2,    0.157,3,    0.080,3,   2269.5,2,   2326.0,2,   7.4894,2,    25.00,  -999.00,9,  -999.00,9,   6.4813,2,  27.1162,2,   6.5374,2
49UP20150724_2,   P04,    23,  1,     23,     096,2,20150827,1755,1953,  9.5007, 152.4970, 5190,    705.9,      701,   5.9886,  34.5284,2,     69.6,2,  34.5283,2,    69.66,2,    66.94,2,    37.90,2,     0.00,2,    2.710,2,    0.080,3,    0.046,3,   2280.0,2,   2351.4,4,   7.4776,2,    25.00,  -999.00,9,  -999.00,9,   5.9259,2,  27.1894,2,   5.9899,2
49UP20150724_2,   P04,    23,  1,     22,     111,2,20150827,1755,1948,  9.5007, 152.4970, 5190,    806.7,      801,   5.3754,  34.5341,2,     70.7,2,  34.5349,2,    70.49,6,    77.16,6,    38.84,6,     0.00,6,    2.770,6,    0.032,3,    0.022,3,   2291.8,2,   2343.4,2,   7.4677,2,    25.00,  -999.00,9,  -999.00,9,   5.3069,2,  27.2699,2,   5.3739,2
49UP20150724_2,   P04,    23,  1,     21,     078,2,20150827,1755,1945,  9.5007, 152.4970, 5190,    907.1,      900,   4.9402,  34.5417,2,     72.2,2,  34.5419,6,    72.43,2,    84.70,2,    39.32,2,     0.00,2,    2.800,2,    0.009,3,    0.012,3,   2301.4,2,   2350.5,2,   7.4686,2,    25.00,  -999.00,9,  -999.00,9,   4.8656,2,  27.3273,2,   4.9366,2
49UP20150724_2,   P04,    23,  1,     20,     093,2,20150827,1755,1942,  9.5007, 152.4970, 5190,   1010.2,     1002,   4.4980,  34.5504,2,     74.7,2,  34.5501,2,    74.69,2,    93.21,2,    39.58,2,     0.00,2,    2.830,2,    0.004,3,    0.015,3,   2312.3,6,   2359.5,6,   7.4701,2,    25.00,  -999.00,9,  -999.00,9,   4.4175,2,  27.3842,2,   4.4989,2
49UP20150724_2,   P04,    23,  1,     19,     092,2,20150827,1755,1938,  9.5007, 152.4970, 5190,   1211.4,     1201,   3.6692,  34.5725,2,     82.9,2,  34.5720,2,    82.72,2,   109.84,2,    39.66,2,     0.00,2,    2.820,2, -999.000,9, -999.000,9,   2326.3,2,   2378.0,2,   7.4770,6,    25.00,  -999.00,9,  -999.00,9,   3.5786,2,  27.4888,2,   3.6694,2
49UP20150724_2,   P04,    23,  1,     18,     101,2,20150827,1755,1931,  9.5007, 152.4970, 5190,   1413.9,     1401,   3.1709,  34.5902,2,     92.7,2,  34.5902,2,    92.49,2,   119.62,2,    39.26,2,     0.00,2,    2.780,2, -999.000,9, -999.000,9,   2337.5,2,   2387.1,2,   7.4945,2,    25.00,  -999.00,9,  -999.00,9,   3.0683,2,  27.5517,2,   3.1706,2
49UP20150724_2,   P04,    23,  1,     17,     090,2,20150827,1755,1926,  9.5007, 152.4970, 5190,   1615.3,     1600,   2.7269,  34.6084,2,     99.0,2,  34.6083,2,    98.76,2,   128.63,2,    39.13,2,     0.00,2,    2.770,2, -999.000,9, -999.000,9,   2343.5,2,   2398.7,2,   7.4974,2,    25.00,  -999.00,9,  -999.00,9,   2.6126,2,  27.6070,2,   2.7268,2
49UP20150724_2,   P04,    23,  1,     16,     089,2,20150827,1755,1921,  9.5007, 152.4970, 5190,   1819.2,     1801,   2.4784,  34.6199,2,    101.0,2,  34.6199,2,   100.92,6,   134.79,6,    39.18,6,     0.00,6,    2.770,6, -999.000,9, -999.000,9,   2344.8,2,   2403.3,2,   7.5021,2,    25.00,  -999.00,9,  -999.00,9,   2.3502,2,  27.6386,2,   2.4785,2
49UP20150724_2,   P04,    23,  1,     15,     088,2,20150827,1755,1916,  9.5007, 152.4970, 5190,   2021.6,     2001,   2.2225,  34.6341,2,    105.8,2,  34.6347,6,   105.96,2,   140.61,2,    39.02,2,     0.00,2,    2.740,2, -999.000,9, -999.000,9,   2351.4,2,   2411.2,2,   7.5105,2,    25.00,  -999.00,9,  -999.00,9,   2.0808,2,  27.6721,2,   2.2218,2
49UP20150724_2,   P04,    23,  1,     14,     999,2,20150827,1755,1911,  9.5007, 152.4970, 5190,   2225.7,     2201,   2.0597,  34.6424,2,    112.2,2,  34.6423,2,   112.18,2,   143.39,2,    38.63,2,     0.00,2,    2.710,2, -999.000,9, -999.000,9,   2353.9,2,   2414.0,2,   7.5208,2,    25.00,  -999.00,9,  -999.00,9,   1.9029,2,  27.6928,2,   2.0596,2
49UP20150724_2,   P04,    23,  1,     13,     667,3,20150827,1755,1906,  9.5007, 152.4970, 5190,   2428.2,     2401,   1.9112,  34.6516,2,    118.5,2,  34.6485,4,   118.14,2,   145.26,2,    38.21,2,     0.00,2,    2.670,2, -999.000,9, -999.000,9,   2351.5,6,   2415.5,6,   7.5295,2,    25.00,  -999.00,9,  -999.00,9,   1.7390,2,  27.7128,2,   1.9102,2
49UP20150724_2,   P04,    23,  1,     12,     074,2,20150827,1755,1900,  9.5007, 152.4970, 5190,   2633.4,     2602,   1.8017,  34.6597,2,    124.1,2,  34.6592,2,   123.97,2,   146.76,2,    37.95,2,     0.00,2,    2.650,2,    0.000,3,    0.003,3,   2344.9,2,   2416.8,2,   7.5399,6,    25.00,  -999.00,9,  -999.00,9,   1.6129,2,  27.7288,2,   1.8024,2
49UP20150724_2,   P04,    23,  1,     11,     268,2,20150827,1755,1854,  9.5007, 152.4970, 5190,   2835.9,     2801,   1.7169,  34.6651,2,    129.9,2,  34.6653,2,   129.62,2,   147.17,2,    37.57,2,     0.00,2,    2.620,2, -999.000,9, -999.000,9,   2342.1,2,   2417.3,2,   7.5483,2,    25.00,  -999.00,9,  -999.00,9,   1.5110,2,  27.7406,2,   1.7160,2
49UP20150724_2,   P04,    23,  1,     10,     267,2,20150827,1755,1850,  9.5007, 152.4970, 5190,   3039.2,     3000,   1.6330,  34.6705,2,    135.8,2,  34.6701,2,   135.65,2,   147.18,2,    37.17,2,     0.00,2,    2.590,2, -999.000,9, -999.000,9,   2345.0,3,   2417.6,2,   7.5567,2,    25.00,  -999.00,9,  -999.00,9,   1.4095,2,  27.7523,2,   1.6331,2
49UP20150724_2,   P04,    23,  1,      9,     518,2,20150827,1755,1843,  9.5007, 152.4970, 5190,   3295.3,     3251,   1.5604,  34.6762,2,    142.9,2,  34.6759,2,   142.61,2,   145.70,2,    36.62,2,     0.00,2,    2.540,2, -999.000,9, -999.000,9,   2335.5,2,   2416.7,2,   7.5667,2,    25.00,  -999.00,9,  -999.00,9,   1.3135,2,  27.7637,2,   1.5604,2
49UP20150724_2,   P04,    23,  1,      8,     081,2,20150827,1755,1837,  9.5007, 152.4970, 5190,   3550.7,     3501,   1.5131,  34.6807,2,    149.2,2,  34.6805,2,   148.95,2,   144.05,2,    36.19,2,     0.00,2,    2.510,2, -999.000,9, -999.000,9,   2333.1,2,   2413.7,2,   7.5742,2,    25.00,  -999.00,9,  -999.00,9,   1.2414,2,  27.7723,2,   1.5132,2
49UP20150724_2,   P04,    23,  1,      7,     516,2,20150827,1755,1831,  9.5007, 152.4970, 5190,   3805.8,     3751,   1.4849,  34.6845,2,    155.0,2,  34.6842,2,   154.69,2,   141.65,2,    35.81,2,     0.00,2,    2.480,2, -999.000,9, -999.000,9,   2331.2,3,   2411.0,2,   7.5846,2,    25.00,  -999.00,9,  -999.00,9,   1.1872,2,  27.7791,2,   1.4852,2
49UP20150724_2,   P04,    23,  1,      6,     113,2,20150827,1755,1823,  9.5007, 152.4970, 5190,   4061.9,     4001,   1.4647,  34.6881,2,    160.2,2,  34.6883,2,   160.16,2,   139.18,2,    35.41,2,     0.00,2,    2.450,2, -999.000,9, -999.000,9,   2322.0,2,   2409.6,2,   7.5887,2,    25.00,  -999.00,9,  -999.00,9,   1.1400,2,  27.7853,2,   1.4649,2
49UP20150724_2,   P04,    23,  1,      5,     658,2,20150827,1755,1818,  9.5007, 152.4970, 5190,   4318.1,     4251,   1.4532,  34.6907,2,    164.7,2,  34.6902,2,   164.56,2,   137.15,2,    35.07,2,     0.00,2,    2.430,2, -999.000,9, -999.000,9,   2315.0,6,   2405.3,6,   7.5971,2,    25.00,  -999.00,9,  -999.00,9,   1.1004,2,  27.7901,2,   1.4534,2
49UP20150724_2,   P04,    23,  1,      4,     471,2,20150827,1755,1812,  9.5007, 152.4970, 5190,   4576.0,     4502,   1.4503,  34.6930,2,    168.5,2,  34.6929,2,   168.21,2,   135.65,2,    34.77,2,     0.00,2,    2.410,2,    0.000,3,    0.006,3,   2309.9,2,   2403.8,2,   7.5986,6,    25.00,  -999.00,9,  -999.00,9,   1.0680,2,  27.7941,2,   1.4503,2
49UP20150724_2,   P04,    23,  1,      3,     104,2,20150827,1755,1806,  9.5007, 152.4970, 5190,   4831.0,     4750,   1.4543,  34.6949,2,    171.5,2,  34.6949,6,   171.41,2,   134.20,2,    34.64,2,     0.00,2,    2.390,2, -999.000,9, -999.000,9,   2308.6,2,   2401.6,2,   7.5990,2,    25.00,  -999.00,9,  -999.00,9,   1.0419,2,  27.7974,2,   1.4544,2
49UP20150724_2,   P04,    23,  1,      2,     075,4,20150827,1755,1800,  9.5007, 152.4970, 5190,   5090.7,     5002,   1.4690,  34.6960,2,    173.5,2,  34.4767,4,    92.38,4,    23.63,4,    23.64,4,     0.00,4,    1.760,4, -999.000,9, -999.000,9,   2186.6,4,   2281.7,4,   7.6141,4,    25.00,  -999.00,9,  -999.00,9,   1.0247,2,  27.7994,2,   1.4691,2
49UP20150724_2,   P04,    23,  1,      1,     997,2,20150827,1755,1755,  9.5007, 152.4970, 5190,   5285.9,     5192,   1.4824,  34.6968,2,    174.9,2,  34.6967,2,   174.85,6,   132.72,6,    34.34,6,     0.00,6,    2.380,6,    0.000,3,    0.005,3,   2305.4,2,   2400.3,2,   7.6015,2,    25.00,  -999.00,9,  -999.00,9,   1.0134,2,  27.8008,2,   1.4824,2