BOTTLE,20191113JMAGEMD
EXPOCODE,SECT_ID,STNNBR,CASTNO,SAMPNO,BTLNBR,BTLNBR_FLAG_U,DATE,TIME,BTL_TIME,LATITUDE,LONGITUDE,DEPTH,CTDPRS,CTDDEP,CTDTMP,CTDSAL,CTDSAL_FLAG_W,CTDOXY,CTDOXY_FLAG_W,SALNTY,SALNTY_FLAG_W,OXYGEN,OXYGEN_FLAG_W,SILCAT,SILCAT_FLAG_W,NO2+NO3,NO2+NO3_FLAG_W,NITRIT,NITRIT_FLAG_W,PHSPHT,PHSPHT_FLAG_W,CFC-11,CFC-11_FLAG_W,CFC-12,CFC-12_FLAG_W,TCARBN,TCARBN_FLAG_W,ALKALI,ALKALI_FLAG_W,PH_TS,PH_TS_FLAG_W,PH_TS_TMP,CHLORA,CHLORA_FLAG_W,PPHYTN,PPHYTN_FLAG_W,THETA,THETA_FLAG_W,SIGTHT,SIGTHT_FLAG_W,SBE35,SBE35_FLAG_W
,,,,,,,,UTC,,,,METER,DBAR,METERS,ITS-90,PSS-78,,UMOL/KG,,PSS78,,UMOL/KG,,UMOL/KG,,UMOL/KG,,UMOL/KG,,UMOL/KG,,PMOL/KG,,PMOL/KG,,UMOL/KG,,UMOL/KG,,,,ITS-90,UG/KG,,UG/KG,,ITS-90,,KG/M3,,ITS-90,
49UP20150724_1,   P04,    63,  1,      0,      -9,0,20150803,0428,0640,  8.0793, 177.4855, 5501,      0.0,        0,  29.9913,  34.0698,2,    196.2,2,-999.0000,9,   194.63,2,     1.01,2,     0.06,2,     0.00,2,    0.130,2, -999.000,9, -999.000,9,   -999.0,9,   -999.0,9,-999.0000,9,  -999.00,  -999.00,9,  -999.00,9,  29.9907,2,  21.0321,2,-999.0000,9
49UP20150724_1,   P04,    63,  1,     36,     109,2,20150803,0428,0659,  8.0793, 177.4855, 5501,     10.8,       11,  29.8818,  34.0632,2,    196.4,2,  34.0626,2,   194.66,2,     0.99,2,     0.02,2,     0.00,2,    0.110,2, -999.000,9, -999.000,9,   -999.0,9,   -999.0,9,-999.0000,9,  -999.00,  -999.00,9,  -999.00,9,  29.8791,2,  21.0651,2,  29.8692,2
49UP20150724_1,   P04,    63,  1,     35,     112,2,20150803,0428,0658,  8.0793, 177.4855, 5501,     26.2,       26,  29.6620,  34.0760,2,    196.8,2,  34.0818,2,   195.62,6,     0.99,6,     0.00,6,     0.00,6,    0.110,2, -999.000,9, -999.000,9,   -999.0,9,   -999.0,9,-999.0000,9,  -999.00,  -999.00,9,  -999.00,9,  29.6556,2,  21.1504,2,  29.6559,2
49UP20150724_1,   P04,    63,  1,     34,     083,2,20150803,0428,0654,  8.0793, 177.4855, 5501,     50.4,       50,  26.6011,  34.7270,2,    196.1,2,  34.7194,6,   196.18,2,     1.68,2,     0.00,2,     0.00,2,    0.170,2, -999.000,9, -999.000,9,   -999.0,9,   -999.0,9,-999.0000,9,  -999.00,  -999.00,9,  -999.00,9,  26.5897,2,  22.6424,2,  26.5985,2
49UP20150724_1,   P04,    63,  1,     33,     469,2,20150803,0428,0653,  8.0793, 177.4855, 5501,     75.8,       75,  21.9035,  34.9199,2,    175.2,2,  34.9159,2,   175.20,2,     3.91,2,     2.71,2,     0.07,2,    0.400,2, -999.000,9, -999.000,9,   -999.0,9,   -999.0,9,-999.0000,9,  -999.00,  -999.00,9,  -999.00,9,  21.8886,2,  24.1881,2,  21.9043,2
49UP20150724_1,   P04,    63,  1,     32,     105,2,20150803,0428,0651,  8.0793, 177.4855, 5501,    101.3,      101,  16.9852,  34.6663,2,    153.8,2,  34.6809,4,   152.76,2,     7.58,2,     9.32,2,     0.35,2,    0.800,2, -999.000,9, -999.000,9,   -999.0,9,   -999.0,9,-999.0000,9,  -999.00,  -999.00,9,  -999.00,9,  16.9685,2,  25.2656,2,  17.0999,2
49UP20150724_1,   P04,    63,  1,     31,     515,2,20150803,0428,0650,  8.0793, 177.4855, 5501,    127.0,      126,  13.4381,  34.5219,2,     94.5,2,  34.5284,2,    95.50,2,    18.84,2,    20.82,2,     0.01,2,    1.580,2, -999.000,9, -999.000,9,   -999.0,9,   -999.0,9,-999.0000,9,  -999.00,  -999.00,9,  -999.00,9,  13.4204,2,  25.9375,2,  13.4453,2
49UP20150724_1,   P04,    63,  1,     30,     097,2,20150803,0428,0648,  8.0793, 177.4855, 5501,    152.1,      151,  11.8293,  34.5419,2,     57.9,2,  34.5436,2,    56.65,2,    25.72,2,    27.59,2,     0.01,2,    2.070,2, -999.000,9, -999.000,9,   -999.0,9,   -999.0,9,-999.0000,9,  -999.00,  -999.00,9,  -999.00,9,  11.8098,2,  26.2693,2,  11.8376,2
49UP20150724_1,   P04,    63,  1,     29,     102,2,20150803,0428,0647,  8.0793, 177.4855, 5501,    202.6,      201,  10.3932,  34.6740,2,     23.9,2,  34.6737,2,    24.24,2,    31.76,2,    33.84,2,     0.00,2,    2.450,2, -999.000,9, -999.000,9,   -999.0,9,   -999.0,9,-999.0000,9,  -999.00,  -999.00,9,  -999.00,9,  10.3692,2,  26.6337,2,  10.3918,2
49UP20150724_1,   P04,    63,  1,     28,     108,2,20150803,0428,0645,  8.0793, 177.4855, 5501,    253.1,      252,   9.6509,  34.6636,2,     33.7,2,  34.6638,2,    33.21,2,    33.81,2,    34.51,2,     0.00,2,    2.470,2, -999.000,9, -999.000,9,   -999.0,9,   -999.0,9,-999.0000,9,  -999.00,  -999.00,9,  -999.00,9,   9.6222,2,  26.7530,2,   9.6513,2
49UP20150724_1,   P04,    63,  1,     27,     998,2,20150803,0428,0643,  8.0793, 177.4855, 5501,    303.6,      302,   9.2234,  34.6469,2,     44.2,2,  34.6460,2,    44.33,2,    34.92,2,    34.47,2,     0.00,2,    2.440,2, -999.000,9, -999.000,9,   -999.0,9,   -999.0,9,-999.0000,9,  -999.00,  -999.00,9,  -999.00,9,   9.1898,2,  26.8110,2,   9.2229,2
49UP20150724_1,   P04,    63,  1,     26,     084,2,20150803,0428,0639,  8.0793, 177.4855, 5501,    403.9,      401,   8.4169,  34.6129,2,     46.3,2,  34.6136,2,    47.45,2,    39.42,2,    35.79,2,     0.00,2,    2.550,2, -999.000,9, -999.000,9,   -999.0,9,   -999.0,9,-999.0000,9,  -999.00,  -999.00,9,  -999.00,9,   8.3744,2,  26.9131,2,   8.4199,2
49UP20150724_1,   P04,    63,  1,     25,     098,2,20150803,0428,0637,  8.0793, 177.4855, 5501,    505.1,      502,   7.6905,  34.5729,2,     48.1,2,  34.5728,2,    48.19,2,    46.79,2,    36.83,2,     0.00,2,    2.660,2, -999.000,9, -999.000,9,   -999.0,9,   -999.0,9,-999.0000,9,  -999.00,  -999.00,9,  -999.00,9,   7.6398,2,  26.9915,2,   7.6902,2
49UP20150724_1,   P04,    63,  1,     24,     110,2,20150803,0428,0634,  8.0793, 177.4855, 5501,    605.3,      601,   6.9159,  34.5504,2,     47.0,2,  34.5511,2,    46.90,2,    55.13,2,    38.47,2,     0.00,2,    2.780,2, -999.000,9, -999.000,9,   -999.0,9,   -999.0,9,-999.0000,9,  -999.00,  -999.00,9,  -999.00,9,   6.8584,2,  27.0841,2,   6.9170,2
49UP20150724_1,   P04,    63,  1,     23,     096,2,20150803,0428,0630,  8.0793, 177.4855, 5501,    706.0,      701,   6.0628,  34.5394,2,     50.6,2,  34.5398,2,    51.11,2,    65.97,2,    39.69,2,     0.00,2,    2.860,2, -999.000,9, -999.000,9,   -999.0,9,   -999.0,9,-999.0000,9,  -999.00,  -999.00,9,  -999.00,9,   5.9998,2,  27.1888,2,   6.0625,2
49UP20150724_1,   P04,    63,  1,     22,     111,2,20150803,0428,0626,  8.0793, 177.4855, 5501,    807.8,      802,   5.3472,  34.5392,2,     55.5,2,  34.5394,2,    55.38,2,    77.57,2,    40.39,2,     0.00,2,    2.910,2, -999.000,9, -999.000,9,   -999.0,9,   -999.0,9,-999.0000,9,  -999.00,  -999.00,9,  -999.00,9,   5.2788,2,  27.2773,2,   5.3466,2
49UP20150724_1,   P04,    63,  1,     21,     078,2,20150803,0428,0623,  8.0793, 177.4855, 5501,    908.7,      902,   4.7902,  34.5482,2,     63.8,2,  34.5489,2,    63.81,2,    86.89,2,    40.34,2,     0.00,2,    2.900,2, -999.000,9, -999.000,9,   -999.0,9,   -999.0,9,-999.0000,9,  -999.00,  -999.00,9,  -999.00,9,   4.7164,2,  27.3494,2,   4.7899,2
49UP20150724_1,   P04,    63,  1,     20,     093,2,20150803,0428,0620,  8.0793, 177.4855, 5501,   1010.3,     1002,   4.3736,  34.5568,2,     66.9,2,  34.5565,2,    66.92,2,    95.09,2,    40.48,2,     0.00,2,    2.910,2, -999.000,9, -999.000,9,   -999.0,9,   -999.0,9,-999.0000,9,  -999.00,  -999.00,9,  -999.00,9,   4.2941,2,  27.4026,2,   4.3735,2
49UP20150724_1,   P04,    63,  1,     19,     092,2,20150803,0428,0615,  8.0793, 177.4855, 5501,   1211.6,     1201,   3.7256,  34.5757,2,     75.8,2,  34.5755,2,    75.88,6,   108.27,6,    40.41,6,     0.00,6,    2.900,6, -999.000,9, -999.000,9,   -999.0,9,   -999.0,9,-999.0000,9,  -999.00,  -999.00,9,  -999.00,9,   3.6345,2,  27.4858,2,   3.7253,2
49UP20150724_1,   P04,    63,  1,     18,     101,2,20150803,0428,0609,  8.0793, 177.4855, 5501,   1414.7,     1402,   3.2121,  34.5943,2,     81.3,2,  34.5945,6,    81.27,2,   119.50,2,    40.44,2,     0.00,2,    2.900,2, -999.000,9, -999.000,9,   -999.0,9,   -999.0,9,-999.0000,9,  -999.00,  -999.00,9,  -999.00,9,   3.1090,2,  27.5511,2,   3.2116,2
49UP20150724_1,   P04,    63,  1,     17,     090,2,20150803,0428,0604,  8.0793, 177.4855, 5501,   1616.0,     1601,   2.7871,  34.6097,2,     89.5,2,  34.6101,2,    89.66,2,   128.88,2,    39.95,2,     0.00,2,    2.850,2, -999.000,9, -999.000,9,   -999.0,9,   -999.0,9,-999.0000,9,  -999.00,  -999.00,9,  -999.00,9,   2.6720,2,  27.6030,2,   2.7871,2
49UP20150724_1,   P04,    63,  1,     16,     089,2,20150803,0428,0559,  8.0793, 177.4855, 5501,   1818.7,     1801,   2.4420,  34.6257,2,     97.4,2,  34.6258,2,    97.57,2,   136.49,2,    39.54,2,     0.00,2,    2.810,2, -999.000,9, -999.000,9,   -999.0,9,   -999.0,9,-999.0000,9,  -999.00,  -999.00,9,  -999.00,9,   2.3144,2,  27.6463,2,   2.4416,2
49UP20150724_1,   P04,    63,  1,     15,     088,2,20150803,0428,0551,  8.0793, 177.4855, 5501,   2021.5,     2001,   2.2162,  34.6388,2,    103.3,2,  34.6376,2,   103.35,2,   141.98,2,    39.28,2,     0.00,2,    2.770,2, -999.000,9, -999.000,9,   -999.0,9,   -999.0,9,-999.0000,9,  -999.00,  -999.00,9,  -999.00,9,   2.0746,2,  27.6764,2,   2.2162,2
49UP20150724_1,   P04,    63,  1,     14,     999,2,20150803,0428,0546,  8.0793, 177.4855, 5501,   2225.5,     2201,   2.0373,  34.6500,2,    108.3,2,  34.6504,2,   108.44,6,   146.49,6,    38.99,6,     0.00,6,    2.750,6, -999.000,9, -999.000,9,   -999.0,9,   -999.0,9,-999.0000,9,  -999.00,  -999.00,9,  -999.00,9,   1.8809,2,  27.7006,2,   2.0373,2
49UP20150724_1,   P04,    63,  1,     13,     667,2,20150803,0428,0539,  8.0793, 177.4855, 5501,   2428.8,     2401,   1.9200,  34.6572,2,    113.1,2,  34.6568,6,   113.03,2,   148.61,2,    38.74,2,     0.00,2,    2.720,2, -999.000,9, -999.000,9,   -999.0,9,   -999.0,9,-999.0000,9,  -999.00,  -999.00,9,  -999.00,9,   1.7476,2,  27.7166,2,   1.9201,2
49UP20150724_1,   P04,    63,  1,     12,     074,2,20150803,0428,0534,  8.0793, 177.4855, 5501,   2631.7,     2601,   1.8344,  34.6631,2,    118.0,2,  34.6630,2,   118.08,2,   150.26,2,    38.41,2,     0.00,2,    2.690,2, -999.000,9, -999.000,9,   -999.0,9,   -999.0,9,-999.0000,9,  -999.00,  -999.00,9,  -999.00,9,   1.6452,2,  27.7291,2,   1.8344,2
49UP20150724_1,   P04,    63,  1,     11,     268,2,20150803,0428,0529,  8.0793, 177.4855, 5501,   2835.4,     2801,   1.7560,  34.6676,2,    123.5,2,  34.6677,2,   123.37,2,   150.46,2,    38.05,2,     0.00,2,    2.660,2, -999.000,9, -999.000,9,   -999.0,9,   -999.0,9,-999.0000,9,  -999.00,  -999.00,9,  -999.00,9,   1.5494,2,  27.7398,2,   1.7560,2
49UP20150724_1,   P04,    63,  1,     10,     267,2,20150803,0428,0524,  8.0793, 177.4855, 5501,   3039.6,     3001,   1.6784,  34.6718,2,    129.6,2,  34.6717,2,   129.38,2,   150.13,2,    37.64,2,     0.00,2,    2.630,2, -999.000,9, -999.000,9,   -999.0,9,   -999.0,9,-999.0000,9,  -999.00,  -999.00,9,  -999.00,9,   1.4539,2,  27.7502,2,   1.6783,2
49UP20150724_1,   P04,    63,  1,      9,     518,2,20150803,0428,0519,  8.0793, 177.4855, 5501,   3295.0,     3251,   1.5974,  34.6763,2,    138.7,2,  34.6765,2,   138.57,6,   147.67,6,    36.97,6,     0.00,6,    2.580,6, -999.000,9, -999.000,9,   -999.0,9,   -999.0,9,-999.0000,9,  -999.00,  -999.00,9,  -999.00,9,   1.3496,2,  27.7612,2,   1.5976,2
49UP20150724_1,   P04,    63,  1,      8,     081,2,20150803,0428,0513,  8.0793, 177.4855, 5501,   3550.3,     3501,   1.5125,  34.6822,2,    146.4,2,  34.6817,6,   146.40,2,   147.20,2,    36.50,2,     0.00,2,    2.540,2, -999.000,9, -999.000,9,   -999.0,9,   -999.0,9,-999.0000,9,  -999.00,  -999.00,9,  -999.00,9,   1.2409,2,  27.7736,2,   1.5125,2
49UP20150724_1,   P04,    63,  1,      7,     516,2,20150803,0428,0503,  8.0793, 177.4855, 5501,   4062.0,     4001,   1.3622,  34.6934,2,    166.8,2,  34.6919,2,   166.43,2,   138.59,2,    35.06,2,     0.00,2,    2.430,2, -999.000,9, -999.000,9,   -999.0,9,   -999.0,9,-999.0000,9,  -999.00,  -999.00,9,  -999.00,9,   1.0404,2,  27.7963,2,   1.3624,2
49UP20150724_1,   P04,    63,  1,      6,     113,2,20150803,0428,0457,  8.0793, 177.4855, 5501,   4317.8,     4250,   1.3155,  34.6977,2,    175.3,2,  34.6971,2,   175.76,2,   134.17,2,    34.42,2,     0.00,2,    2.380,2, -999.000,9, -999.000,9,   -999.0,9,   -999.0,9,-999.0000,9,  -999.00,  -999.00,9,  -999.00,9,   0.9668,2,  27.8046,2,   1.3157,2
49UP20150724_1,   P04,    63,  1,      5,     094,2,20150803,0428,0452,  8.0793, 177.4855, 5501,   4574.4,     4500,   1.3003,  34.7002,2,    180.4,2,  34.7004,2,   180.62,2,   131.43,2,    34.04,2,     0.00,2,    2.350,2, -999.000,9, -999.000,9,   -999.0,9,   -999.0,9,-999.0000,9,  -999.00,  -999.00,9,  -999.00,9,   0.9229,2,  27.8095,2,   1.3003,2
49UP20150724_1,   P04,    63,  1,      4,     077,2,20150803,0428,0446,  8.0793, 177.4855, 5501,   4830.7,     4750,   1.2944,  34.7021,2,    185.3,2,  34.7022,2,   185.49,2,   128.18,2,    33.61,2,     0.00,2,    2.320,2, -999.000,9, -999.000,9,   -999.0,9,   -999.0,9,-999.0000,9,  -999.00,  -999.00,9,  -999.00,9,   0.8872,2,  27.8134,2,   1.2945,2
49UP20150724_1,   P04,    63,  1,      3,     104,2,20150803,0428,0440,  8.0793, 177.4855, 5501,   5089.0,     5001,   1.3064,  34.7032,2,    187.6,2,  34.7025,2,   187.73,2,   127.05,2,    33.47,2,     0.00,2,    2.310,2, -999.000,9, -999.000,9,   -999.0,9,   -999.0,9,-999.0000,9,  -999.00,  -999.00,9,  -999.00,9,   0.8679,2,  27.8155,2,   1.3066,2
49UP20150724_1,   P04,    63,  1,      2,     075,2,20150803,0428,0434,  8.0793, 177.4855, 5501,   5345.6,     5250,   1.3295,  34.7034,2,    188.7,2,  34.7034,2,   188.74,2,   126.50,2,    33.39,2,     0.00,2,    2.310,2, -999.000,9, -999.000,9,   -999.0,9,   -999.0,9,-999.0000,9,  -999.00,  -999.00,9,  -999.00,9,   0.8585,2,  27.8163,2,   1.3296,2
49UP20150724_1,   P04,    63,  1,      1,     997,2,20150803,0428,0428,  8.0793, 177.4855, 5501,   5632.8,     5529,   1.3653,  34.7032,2,    189.0,2,  34.7030,2,   189.01,2,   126.50,2,    33.40,2,     0.00,2,    2.320,2, -999.000,9, -999.000,9,   -999.0,9,   -999.0,9,-999.0000,9,  -999.00,  -999.00,9,  -999.00,9,   0.8565,2,  27.8163,2,   1.3651,2