BOTTLE,20191113JMAGEMD
EXPOCODE,SECT_ID,STNNBR,CASTNO,SAMPNO,BTLNBR,BTLNBR_FLAG_U,DATE,TIME,BTL_TIME,LATITUDE,LONGITUDE,DEPTH,CTDPRS,CTDDEP,CTDTMP,CTDSAL,CTDSAL_FLAG_W,CTDOXY,CTDOXY_FLAG_W,SALNTY,SALNTY_FLAG_W,OXYGEN,OXYGEN_FLAG_W,SILCAT,SILCAT_FLAG_W,NO2+NO3,NO2+NO3_FLAG_W,NITRIT,NITRIT_FLAG_W,PHSPHT,PHSPHT_FLAG_W,CFC-11,CFC-11_FLAG_W,CFC-12,CFC-12_FLAG_W,TCARBN,TCARBN_FLAG_W,ALKALI,ALKALI_FLAG_W,PH_TS,PH_TS_FLAG_W,PH_TS_TMP,CHLORA,CHLORA_FLAG_W,PPHYTN,PPHYTN_FLAG_W,THETA,THETA_FLAG_W,SIGTHT,SIGTHT_FLAG_W,SBE35,SBE35_FLAG_W
,,,,,,,,UTC,,,,METER,DBAR,METERS,ITS-90,PSS-78,,UMOL/KG,,PSS78,,UMOL/KG,,UMOL/KG,,UMOL/KG,,UMOL/KG,,UMOL/KG,,PMOL/KG,,PMOL/KG,,UMOL/KG,,UMOL/KG,,,,ITS-90,UG/KG,,UG/KG,,ITS-90,,KG/M3,,ITS-90,
49UP20150724_1,   P04,    51,  1,      0,      -9,0,20150807,1357,1542,  5.0115, 169.5100, 4315,      0.0,        0,  29.3833,  34.0838,2,    197.6,2,-999.0000,9,   196.63,2,     1.14,2,     0.04,2,     0.00,2,    0.060,2, -999.000,9, -999.000,9,   -999.0,9,   -999.0,9,-999.0000,9,  -999.00,  -999.00,9,  -999.00,9,  29.3827,2,  21.2482,2,-999.0000,9
49UP20150724_1,   P04,    51,  1,     36,     109,2,20150807,1357,1604,  5.0115, 169.5100, 4315,     11.4,       11,  29.3385,  34.0815,2,    197.7,2,  34.0819,2,   196.64,2,     1.13,2,     0.07,2,     0.00,2,    0.060,2, -999.000,9, -999.000,9,   -999.0,9,   -999.0,9,-999.0000,9,  -999.00,  -999.00,9,  -999.00,9,  29.3357,2,  21.2624,2,  29.3239,2
49UP20150724_1,   P04,    51,  1,     35,     112,3,20150807,1357,1602,  5.0115, 169.5100, 4315,     26.0,       26,  27.5598,  34.6193,2,    202.2,2,  34.6056,4,   200.82,6,     1.11,6,     0.03,6,     0.00,6,    0.100,6, -999.000,9, -999.000,9,   -999.0,9,   -999.0,9,-999.0000,9,  -999.00,  -999.00,9,  -999.00,9,  27.5537,2,  22.2533,2,  27.5435,2
49UP20150724_1,   P04,    51,  1,     34,     083,2,20150807,1357,1559,  5.0115, 169.5100, 4315,     51.9,       52,  25.3853,  34.8852,2,    194.9,2,  34.8869,6,   194.36,2,     1.88,2,     0.03,2,     0.00,2,    0.160,2, -999.000,9, -999.000,9,   -999.0,9,   -999.0,9,-999.0000,9,  -999.00,  -999.00,9,  -999.00,9,  25.3739,2,  23.1403,2,  25.3859,2
49UP20150724_1,   P04,    51,  1,     33,     469,2,20150807,1357,1557,  5.0115, 169.5100, 4315,     76.2,       76,  23.9419,  35.0238,2,    169.0,2,  35.0263,2,   162.90,2,     3.30,2,     4.22,2,     0.18,2,    0.410,2, -999.000,9, -999.000,9,   -999.0,9,   -999.0,9,-999.0000,9,  -999.00,  -999.00,9,  -999.00,9,  23.9259,2,  23.6813,2,  23.9373,2
49UP20150724_1,   P04,    51,  1,     32,     105,2,20150807,1357,1556,  5.0115, 169.5100, 4315,    101.0,      100,  23.1014,  35.0374,2,    142.5,2,  35.0317,2,   144.08,2,     5.00,2,     7.53,2,     0.04,2,    0.600,2, -999.000,9, -999.000,9,   -999.0,9,   -999.0,9,-999.0000,9,  -999.00,  -999.00,9,  -999.00,9,  23.0807,2,  23.9387,2,  23.1075,2
49UP20150724_1,   P04,    51,  1,     31,     515,2,20150807,1357,1555,  5.0115, 169.5100, 4315,    125.8,      125,  20.7120,  34.8894,2,    148.3,2,  34.8902,2,   147.57,2,     6.66,2,     7.81,2,     0.02,2,    0.650,2, -999.000,9, -999.000,9,   -999.0,9,   -999.0,9,-999.0000,9,  -999.00,  -999.00,9,  -999.00,9,  20.6882,2,  24.4941,2,  20.7630,2
49UP20150724_1,   P04,    51,  1,     30,     097,2,20150807,1357,1553,  5.0115, 169.5100, 4315,    152.1,      151,  17.0427,  34.7177,2,    134.1,2,  34.7181,2,   134.65,2,    11.41,2,    12.87,2,     0.01,2,    0.980,2, -999.000,9, -999.000,9,   -999.0,9,   -999.0,9,-999.0000,9,  -999.00,  -999.00,9,  -999.00,9,  17.0177,2,  25.2934,2,  17.0347,2
49UP20150724_1,   P04,    51,  1,     29,     102,2,20150807,1357,1553,  5.0115, 169.5100, 4315,    152.8,      152,  17.0015,  34.7153,2,    134.0,2,  34.7168,2,   134.63,2,    11.47,2,    12.95,2,     0.01,2,    0.980,2, -999.000,9, -999.000,9,   -999.0,9,   -999.0,9,-999.0000,9,  -999.00,  -999.00,9,  -999.00,9,  16.9763,2,  25.3014,2,  17.0042,2
49UP20150724_1,   P04,    51,  1,     28,     108,2,20150807,1357,1552,  5.0115, 169.5100, 4315,    176.7,      176,  12.9721,  34.5532,2,     93.4,2,  34.5555,2,    93.49,2,    21.57,2,    22.42,2,     0.01,2,    1.660,2, -999.000,9, -999.000,9,   -999.0,9,   -999.0,9,-999.0000,9,  -999.00,  -999.00,9,  -999.00,9,  12.9480,2,  26.0571,2,  12.9896,2
49UP20150724_1,   P04,    51,  1,     27,     998,2,20150807,1357,1550,  5.0115, 169.5100, 4315,    202.0,      201,  11.2750,  34.5569,2,     65.4,2,  34.5578,2,    65.62,2,    28.00,2,    28.06,2,     0.00,2,    2.050,2, -999.000,9, -999.000,9,   -999.0,9,   -999.0,9,-999.0000,9,  -999.00,  -999.00,9,  -999.00,9,  11.2498,2,  26.3850,2,  11.2753,2
49UP20150724_1,   P04,    51,  1,     26,     084,2,20150807,1357,1548,  5.0115, 169.5100, 4315,    253.0,      251,   9.8030,  34.6282,2,     40.3,2,  34.6291,2,    40.43,2,    33.64,2,    33.47,2,     0.00,2,    2.390,2, -999.000,9, -999.000,9,   -999.0,9,   -999.0,9,-999.0000,9,  -999.00,  -999.00,9,  -999.00,9,   9.7740,2,  26.6999,2,   9.8091,2
49UP20150724_1,   P04,    51,  1,     25,     098,2,20150807,1357,1547,  5.0115, 169.5100, 4315,    303.4,      301,   9.2818,  34.6379,2,     48.1,2,  34.6367,2,    48.02,2,    34.85,2,    33.99,2,     0.00,2,    2.410,2, -999.000,9, -999.000,9,   -999.0,9,   -999.0,9,-999.0000,9,  -999.00,  -999.00,9,  -999.00,9,   9.2481,2,  26.7945,2,   9.2818,2
49UP20150724_1,   P04,    51,  1,     24,     110,2,20150807,1357,1544,  5.0115, 169.5100, 4315,    403.6,      401,   8.3533,  34.6032,2,     56.7,2,  34.6025,2,    56.66,2,    39.79,3,    35.13,2,     0.00,2,    2.490,2, -999.000,9, -999.000,9,   -999.0,9,   -999.0,9,-999.0000,9,  -999.00,  -999.00,9,  -999.00,9,   8.3110,2,  26.9152,2,   8.3528,2
49UP20150724_1,   P04,    51,  1,     23,     096,2,20150807,1357,1541,  5.0115, 169.5100, 4315,    504.3,      501,   7.3264,  34.5652,2,     45.9,2,  34.5646,2,    46.00,6,    50.38,6,    37.96,6,     0.00,6,    2.720,6, -999.000,9, -999.000,9,   -999.0,9,   -999.0,9,-999.0000,9,  -999.00,  -999.00,9,  -999.00,9,   7.2772,2,  27.0375,2,   7.3262,2
49UP20150724_1,   P04,    51,  1,     22,     111,2,20150807,1357,1538,  5.0115, 169.5100, 4315,    605.1,      601,   6.3587,  34.5507,2,     40.0,2,  34.5504,6,    39.92,2,    61.90,2,    40.53,2,     0.00,2,    2.910,2, -999.000,9, -999.000,9,   -999.0,9,   -999.0,9,-999.0000,9,  -999.00,  -999.00,9,  -999.00,9,   6.3037,2,  27.1585,2,   6.3587,2
49UP20150724_1,   P04,    51,  1,     21,     078,2,20150807,1357,1533,  5.0115, 169.5100, 4315,    706.8,      702,   5.8752,  34.5469,2,     44.6,2,  34.5461,2,    44.23,2,    68.15,2,    41.05,2,     0.00,2,    2.930,2, -999.000,9, -999.000,9,   -999.0,9,   -999.0,9,-999.0000,9,  -999.00,  -999.00,9,  -999.00,9,   5.8131,2,  27.2182,2,   5.8751,2
49UP20150724_1,   P04,    51,  1,     20,     093,2,20150807,1357,1530,  5.0115, 169.5100, 4315,    806.6,      801,   5.2700,  34.5468,2,     53.5,2,  34.5463,2,    53.24,2,    77.19,2,    41.12,2,     0.00,2,    2.940,2, -999.000,9, -999.000,9,   -999.0,9,   -999.0,9,-999.0000,9,  -999.00,  -999.00,9,  -999.00,9,   5.2022,2,  27.2923,2,   5.2697,2
49UP20150724_1,   P04,    51,  1,     19,     092,2,20150807,1357,1527,  5.0115, 169.5100, 4315,    908.0,      901,   4.8216,  34.5514,2,     63.0,2,  34.5518,2,    63.28,2,    84.86,2,    40.67,2,     0.00,2,    2.910,2, -999.000,9, -999.000,9,   -999.0,9,   -999.0,9,-999.0000,9,  -999.00,  -999.00,9,  -999.00,9,   4.7477,2,  27.3484,2,   4.8216,2
49UP20150724_1,   P04,    51,  1,     18,     101,2,20150807,1357,1524,  5.0115, 169.5100, 4315,   1008.8,     1001,   4.3758,  34.5585,2,     71.2,2,  34.5592,2,    71.67,2,    93.82,2,    40.23,2,     0.00,2,    2.880,2, -999.000,9, -999.000,9,   -999.0,9,   -999.0,9,-999.0000,9,  -999.00,  -999.00,9,  -999.00,9,   4.2964,2,  27.4037,2,   4.3754,2
49UP20150724_1,   P04,    51,  1,     17,     090,2,20150807,1357,1520,  5.0115, 169.5100, 4315,   1211.0,     1201,   3.7120,  34.5784,2,     76.7,2,  34.5780,2,    76.91,2,   107.17,2,    40.45,2,     0.00,2,    2.900,2, -999.000,9, -999.000,9,   -999.0,9,   -999.0,9,-999.0000,9,  -999.00,  -999.00,9,  -999.00,9,   3.6210,2,  27.4893,2,   3.7144,2
49UP20150724_1,   P04,    51,  1,     16,     089,2,20150807,1357,1514,  5.0115, 169.5100, 4315,   1414.7,     1402,   3.2050,  34.5956,2,     84.7,2,  34.5958,2,    84.66,2,   117.82,2,    40.21,2,     0.00,2,    2.870,2, -999.000,9, -999.000,9,   -999.0,9,   -999.0,9,-999.0000,9,  -999.00,  -999.00,9,  -999.00,9,   3.1020,2,  27.5528,2,   3.2056,2
49UP20150724_1,   P04,    51,  1,     15,     088,2,20150807,1357,1509,  5.0115, 169.5100, 4315,   1617.1,     1602,   2.7807,  34.6116,2,     93.9,2,  34.6120,2,    93.82,6,   127.18,6,    39.64,6,     0.00,6,    2.810,6, -999.000,9, -999.000,9,   -999.0,9,   -999.0,9,-999.0000,9,  -999.00,  -999.00,9,  -999.00,9,   2.6656,2,  27.6050,2,   2.7803,2
49UP20150724_1,   P04,    51,  1,     14,     999,2,20150807,1357,1505,  5.0115, 169.5100, 4315,   1818.1,     1800,   2.4904,  34.6251,2,    101.6,2,  34.6249,6,   101.29,2,   133.10,2,    39.19,2,     0.00,2,    2.780,2, -999.000,9, -999.000,9,   -999.0,9,   -999.0,9,-999.0000,9,  -999.00,  -999.00,9,  -999.00,9,   2.3622,2,  27.6418,2,   2.4904,2
49UP20150724_1,   P04,    51,  1,     12,     074,2,20150807,1357,1459,  5.0115, 169.5100, 4315,   2023.2,     2002,   2.2274,  34.6384,2,    107.7,2,  34.6380,2,   107.37,2,   138.97,2,    38.83,2,     0.00,2,    2.740,2, -999.000,9, -999.000,9,   -999.0,9,   -999.0,9,-999.0000,9,  -999.00,  -999.00,9,  -999.00,9,   2.0855,2,  27.6752,2,   2.2281,2
49UP20150724_1,   P04,    51,  1,     13,     667,2,20150807,1357,1459,  5.0115, 169.5100, 4315,   2023.7,     2003,   2.2270,  34.6386,2,    107.7,2,  34.6384,2,   107.46,2,   138.76,2,    38.81,2,     0.00,2,    2.740,2, -999.000,9, -999.000,9,   -999.0,9,   -999.0,9,-999.0000,9,  -999.00,  -999.00,9,  -999.00,9,   2.0850,2,  27.6753,2,   2.2269,2
49UP20150724_1,   P04,    51,  1,     11,     268,2,20150807,1357,1454,  5.0115, 169.5100, 4315,   2224.8,     2201,   2.0329,  34.6488,2,    111.7,2,  34.6486,2,   111.37,2,   144.12,2,    38.65,2,     0.00,2,    2.720,2, -999.000,9, -999.000,9,   -999.0,9,   -999.0,9,-999.0000,9,  -999.00,  -999.00,9,  -999.00,9,   1.8766,2,  27.7000,2,   2.0328,2
49UP20150724_1,   P04,    51,  1,     10,     267,2,20150807,1357,1450,  5.0115, 169.5100, 4315,   2428.5,     2401,   1.8916,  34.6575,2,    118.5,2,  34.6571,2,   118.38,2,   145.89,2,    38.24,2,     0.00,2,    2.680,2, -999.000,9, -999.000,9,   -999.0,9,   -999.0,9,-999.0000,9,  -999.00,  -999.00,9,  -999.00,9,   1.7198,2,  27.7190,2,   1.8922,2
49UP20150724_1,   P04,    51,  1,      9,     518,2,20150807,1357,1440,  5.0115, 169.5100, 4315,   2631.6,     2601,   1.7824,  34.6636,2,    125.0,2,  34.6636,2,   125.14,2,   146.62,2,    37.76,2,     0.00,2,    2.640,2, -999.000,9, -999.000,9,   -999.0,9,   -999.0,9,-999.0000,9,  -999.00,  -999.00,9,  -999.00,9,   1.5942,2,  27.7333,2,   1.7827,2
49UP20150724_1,   P04,    51,  1,      8,     081,2,20150807,1357,1435,  5.0115, 169.5100, 4315,   2836.1,     2802,   1.7334,  34.6667,2,    128.9,2,  34.6667,2,   128.83,2,   146.87,2,    37.57,2,     0.00,2,    2.620,2, -999.000,9, -999.000,9,   -999.0,9,   -999.0,9,-999.0000,9,  -999.00,  -999.00,9,  -999.00,9,   1.5271,2,  27.7407,2,   1.7334,2
49UP20150724_1,   P04,    51,  1,      7,     516,2,20150807,1357,1431,  5.0115, 169.5100, 4315,   3037.9,     2999,   1.6605,  34.6713,2,    134.5,2,  34.6714,2,   134.37,2,   146.70,2,    37.19,2,     0.00,2,    2.590,2, -999.000,9, -999.000,9,   -999.0,9,   -999.0,9,-999.0000,9,  -999.00,  -999.00,9,  -999.00,9,   1.4366,2,  27.7510,2,   1.6607,2
49UP20150724_1,   P04,    51,  1,      6,     113,2,20150807,1357,1423,  5.0115, 169.5100, 4315,   3293.6,     3250,   1.5921,  34.6759,2,    141.6,2,  34.6755,2,   141.56,2,   145.23,2,    36.74,2,     0.00,2,    2.550,2, -999.000,9, -999.000,9,   -999.0,9,   -999.0,9,-999.0000,9,  -999.00,  -999.00,9,  -999.00,9,   1.3445,2,  27.7612,2,   1.5922,2
49UP20150724_1,   P04,    51,  1,      5,     094,2,20150807,1357,1417,  5.0115, 169.5100, 4315,   3549.1,     3500,   1.5311,  34.6808,2,    148.4,2,  34.6811,2,   148.50,2,   143.55,2,    36.22,2,     0.00,2,    2.520,2, -999.000,9, -999.000,9,   -999.0,9,   -999.0,9,-999.0000,9,  -999.00,  -999.00,9,  -999.00,9,   1.2591,2,  27.7712,2,   1.5312,2
49UP20150724_1,   P04,    51,  1,      4,     471,2,20150807,1357,1411,  5.0115, 169.5100, 4315,   3803.9,     3749,   1.4629,  34.6868,2,    157.3,2,  34.6870,2,   157.33,2,   140.30,2,    35.56,2,     0.00,2,    2.470,2, -999.000,9, -999.000,9,   -999.0,9,   -999.0,9,-999.0000,9,  -999.00,  -999.00,9,  -999.00,9,   1.1660,2,  27.7824,2,   1.4630,2
49UP20150724_1,   P04,    51,  1,      3,     104,2,20150807,1357,1404,  5.0115, 169.5100, 4315,   4060.2,     3999,   1.4327,  34.6903,2,    163.6,2,  34.6896,2,   163.70,6,   137.88,6,    35.21,6,     0.00,6,    2.440,6, -999.000,9, -999.000,9,   -999.0,9,   -999.0,9,-999.0000,9,  -999.00,  -999.00,9,  -999.00,9,   1.1091,2,  27.7891,2,   1.4327,2
49UP20150724_1,   P04,    51,  1,      2,     075,2,20150807,1357,1359,  5.0115, 169.5100, 4315,   4316.7,     4250,   1.3666,  34.6966,2,    175.2,2,  34.6952,4,   173.24,3,   132.64,2,    34.44,2,     0.00,2,    2.380,2, -999.000,9, -999.000,9,   -999.0,9,   -999.0,9,-999.0000,9,  -999.00,  -999.00,9,  -999.00,9,   1.0165,2,  27.8005,2,   1.3665,2
49UP20150724_1,   P04,    51,  1,      1,     997,2,20150807,1357,1357,  5.0115, 169.5100, 4315,   4372.8,     4304,   1.3554,  34.6977,2,    177.3,2,  34.6982,2,   177.39,2,   130.58,2,    34.16,2,     0.00,2,    2.360,2, -999.000,9, -999.000,9,   -999.0,9,   -999.0,9,-999.0000,9,  -999.00,  -999.00,9,  -999.00,9,   0.9993,2,  27.8025,2,   1.3554,2