BOTTLE,20191113JMAGEMD
EXPOCODE,SECT_ID,STNNBR,CASTNO,SAMPNO,BTLNBR,BTLNBR_FLAG_U,DATE,TIME,BTL_TIME,LATITUDE,LONGITUDE,DEPTH,CTDPRS,CTDDEP,CTDTMP,CTDSAL,CTDSAL_FLAG_W,CTDOXY,CTDOXY_FLAG_W,SALNTY,SALNTY_FLAG_W,OXYGEN,OXYGEN_FLAG_W,SILCAT,SILCAT_FLAG_W,NO2+NO3,NO2+NO3_FLAG_W,NITRIT,NITRIT_FLAG_W,PHSPHT,PHSPHT_FLAG_W,CFC-11,CFC-11_FLAG_W,CFC-12,CFC-12_FLAG_W,TCARBN,TCARBN_FLAG_W,ALKALI,ALKALI_FLAG_W,PH_TS,PH_TS_FLAG_W,PH_TS_TMP,CHLORA,CHLORA_FLAG_W,PPHYTN,PPHYTN_FLAG_W,THETA,THETA_FLAG_W,SIGTHT,SIGTHT_FLAG_W,SBE35,SBE35_FLAG_W
,,,,,,,,UTC,,,,METER,DBAR,METERS,ITS-90,PSS-78,,UMOL/KG,,PSS78,,UMOL/KG,,UMOL/KG,,UMOL/KG,,UMOL/KG,,UMOL/KG,,PMOL/KG,,PMOL/KG,,UMOL/KG,,UMOL/KG,,,,ITS-90,UG/KG,,UG/KG,,ITS-90,,KG/M3,,ITS-90,
49UP20150724_2,   P04,    16,  1,      0,      -9,0,20150830,0536,0655,  9.5080, 147.6263, 3852,      0.0,        0,  29.0865,  33.9674,2,    197.0,2,  33.9712,2,   197.00,2,     0.95,2,     0.02,2,     0.00,2,    0.060,2, -999.000,9, -999.000,9,   1901.5,2,   2230.1,2,   8.1118,2,    25.00,     0.05,2,     0.01,2,  29.0858,2,  21.2604,2,-999.0000,9
49UP20150724_2,   P04,    16,  1,     36,     109,2,20150830,0536,0737,  9.5080, 147.6263, 3852,     11.3,       11,  29.0927,  33.9671,2,    196.9,2,  33.9665,2,   197.00,2,     0.99,2,     0.02,2,     0.00,2,    0.050,2,    0.955,3,    0.395,3,   1905.2,2,   2229.9,2,   8.1140,2,    25.00,     0.04,2,     0.01,2,  29.0900,2,  21.2587,2,  29.0893,2
49UP20150724_2,   P04,    16,  1,     35,     112,2,20150830,0536,0736,  9.5080, 147.6263, 3852,     26.2,       26,  28.8258,  34.1755,2,    200.3,2,  34.0778,4,   199.35,2,     1.00,2,     0.03,2,     0.00,2,    0.050,2, -999.000,9, -999.000,9,   1911.2,2,   2236.5,2,   8.1117,2,    25.00,     0.05,2,     0.02,2,  28.8195,2,  21.5052,2,  28.8287,2
49UP20150724_2,   P04,    16,  1,     34,     094,2,20150830,0536,0735,  9.5080, 147.6263, 3852,     50.5,       50,  26.7293,  35.0756,2,    206.6,2,  35.0728,2,   206.19,6,     1.18,6,     0.03,6,     0.00,6,    0.120,6,    1.268,3,    0.598,3,   1980.4,2,   2303.9,2,   8.0820,2,    25.00,     0.08,2,     0.04,2,  26.7178,2,  22.8646,2,  26.7258,2
49UP20150724_2,   P04,    16,  1,     33,     469,2,20150830,0536,0733,  9.5080, 147.6263, 3852,     76.8,       76,  23.2484,  35.0413,2,    195.5,2,  35.0389,2,   195.71,2,     2.10,2,     0.02,2,     0.00,2,    0.200,2, -999.000,9, -999.000,9,   2031.4,2,   2305.2,2,   8.0007,2,    25.00,     0.17,2,     0.15,2,  23.2326,2,  23.8976,2,  23.2497,2
49UP20150724_2,   P04,    16,  1,     32,     105,2,20150830,0536,0731,  9.5080, 147.6263, 3852,    100.9,      100,  21.1294,  35.0518,2,    181.6,2,  35.0573,2,   182.79,2,     3.02,2,     1.75,2,     0.06,2,    0.320,2,    1.557,3,    0.786,3,   2057.4,2,   2307.9,2,   7.9540,2,    25.00,     0.28,2,     0.36,2,  21.1101,2,  24.5033,2,  21.1254,2
49UP20150724_2,   P04,    16,  1,     30,     097,2,20150830,0536,0729,  9.5080, 147.6263, 3852,    126.3,      126,  18.6317,  34.8419,2,    163.8,2,  34.8474,6,   164.82,2,     5.48,2,     6.39,2,     0.06,2,    0.580,2, -999.000,9, -999.000,9,   2085.9,2,   2295.2,2,   7.8804,2,    25.00,     0.20,2,     0.37,2,  18.6095,2,  24.9992,2,  18.6318,2
49UP20150724_2,   P04,    16,  1,     28,     108,2,20150830,0536,0727,  9.5080, 147.6263, 3852,    153.9,      153,  14.7787,  34.5507,2,    130.6,2,  34.5516,2,   131.19,2,    13.79,2,    15.18,2,     0.01,2,    1.170,2,    1.830,3,    0.942,3,   2131.4,2,   2276.5,2,   7.7457,2,    25.00,     0.07,2,     0.19,2,  14.7558,2,  25.6787,2,  14.7728,2
49UP20150724_2,   P04,    16,  1,     29,     102,2,20150830,0536,0727,  9.5080, 147.6263, 3852,    154.1,      153,  14.8060,  34.5534,2,    130.7,2,  34.5555,2,   131.23,2,    13.61,2,    15.09,2,     0.01,2,    1.140,2, -999.000,9, -999.000,9,   2129.2,2,   2277.3,2,   7.7413,2,    25.00,  -999.00,9,  -999.00,9,  14.7830,2,  25.6749,2,  14.8083,2
49UP20150724_2,   P04,    16,  1,     27,     998,2,20150830,0536,0726,  9.5080, 147.6263, 3852,    177.5,      176,  13.1203,  34.5535,2,    104.0,2,  34.5535,2,   104.31,2,    21.52,2,    21.17,2,     0.01,2,    1.560,2, -999.000,9, -999.000,9,   2166.9,2,   2282.9,2,   7.6685,2,    25.00,     0.03,2,     0.09,2,  13.0959,2,  26.0277,2,  13.1206,2
49UP20150724_2,   P04,    16,  1,     26,     084,2,20150830,0536,0722,  9.5080, 147.6263, 3852,    204.5,      203,  11.7285,  34.4941,2,     90.0,2,  34.4942,2,    89.81,2,    25.97,2,    24.63,2,     0.00,2,    1.810,2,    1.372,3,    0.679,3,   2189.5,2,   2283.8,2,   7.6047,2,    25.00,     0.01,2,     0.04,2,  11.7024,2,  26.2524,2,  11.7276,2
49UP20150724_2,   P04,    16,  1,     25,     098,2,20150830,0536,0721,  9.5080, 147.6263, 3852,    255.2,      254,  10.2824,  34.5418,2,     73.9,2,  34.5435,2,    74.31,2,    32.41,2,    29.19,2,     0.00,2,    2.100,2, -999.000,9, -999.000,9,   2220.2,2,   2294.4,2,   7.5537,2,    25.00,  -999.00,9,  -999.00,9,  10.2524,2,  26.5508,2,  10.2849,2
49UP20150724_2,   P04,    16,  1,     24,     110,2,20150830,0536,0718,  9.5080, 147.6263, 3852,    335.4,      333,   8.4903,  34.5156,2,     72.5,2,  34.5143,2,    72.39,2,    41.88,2,    32.62,2,     0.00,2,    2.330,2,    0.602,3,    0.294,3,   2236.9,2,   2302.9,2,   7.5160,2,    25.00,  -999.00,9,  -999.00,9,   8.4551,2,  26.8243,2,   8.4928,2
49UP20150724_2,   P04,    16,  1,     23,     096,2,20150830,0536,0715,  9.5080, 147.6263, 3852,    434.2,      431,   7.7474,  34.5162,2,     81.0,2,  34.5158,2,    81.42,2,    46.51,2,    33.39,2,     0.00,2,    2.380,2,    0.425,3,    0.201,3,   2252.8,2,   2307.4,2,   7.5187,2,    25.00,  -999.00,9,  -999.00,9,   7.7039,2,  26.9376,2,   7.7466,2
49UP20150724_2,   P04,    16,  1,     22,     111,2,20150830,0536,0712,  9.5080, 147.6263, 3852,    536.5,      533,   7.1127,  34.5123,2,     86.0,2,  34.5135,2,    86.62,6,    51.65,6,    34.17,6,     0.00,6,    2.440,6,    0.361,3,    0.192,3,   2250.8,2,   2314.8,2,   7.5185,2,    25.00,  -999.00,9,  -999.00,9,   7.0612,2,  27.0261,2,   7.1127,2
49UP20150724_2,   P04,    16,  1,     21,     078,2,20150830,0536,0709,  9.5080, 147.6263, 3852,    636.3,      632,   6.4162,  34.5178,2,     88.5,2,  34.5179,6,    88.58,2,    58.90,2,    35.23,2,     0.00,2,    2.520,2,    0.240,3,    0.135,3,   2259.4,2,   2322.3,2,   7.5128,2,    25.00,  -999.00,9,  -999.00,9,   6.3579,2,  27.1254,2,   6.4161,2
49UP20150724_2,   P04,    16,  1,     20,     093,2,20150830,0536,0704,  9.5080, 147.6263, 3852,    737.2,      732,   5.7401,  34.5241,2,     86.7,2,  34.5239,2,    86.37,2,    69.38,2,    36.57,2,     0.00,2,    2.610,2,    0.142,3,    0.080,3,   2278.5,6,   2333.4,6,   7.5000,2,    25.00,  -999.00,9,  -999.00,9,   5.6759,2,  27.2172,2,   5.7397,2
49UP20150724_2,   P04,    16,  1,     19,     092,2,20150830,0536,0700,  9.5080, 147.6263, 3852,    838.1,      832,   5.1580,  34.5363,2,     83.3,2,  34.5366,2,    83.37,2,    80.01,2,    37.67,2,     0.00,2,    2.700,2,    0.058,3,    0.049,3,   2291.6,2,   2345.7,2,   7.4932,6,    25.00,  -999.00,9,  -999.00,9,   5.0881,2,  27.2974,2,   5.1578,2
49UP20150724_2,   P04,    16,  1,     18,     101,2,20150830,0536,0657,  9.5080, 147.6263, 3852,    939.6,      932,   4.8641,  34.5422,2,     83.5,2,  34.5432,2,    83.33,2,    85.67,2,    38.04,2,     0.00,2,    2.730,2,    0.051,3,    0.037,3,   2299.3,2,   2352.5,2,   7.4873,2,    25.00,  -999.00,9,  -999.00,9,   4.7871,2,  27.3366,2,   4.8638,2
49UP20150724_2,   P04,    16,  1,     16,     089,2,20150830,0536,0653,  9.5080, 147.6263, 3852,   1081.7,     1073,   4.2899,  34.5538,2,     84.7,2,  34.5541,2,    84.62,2,    97.14,2,    38.59,2,     0.00,2,    2.770,2,    0.021,3,    0.014,3,   2315.6,2,   2363.4,2,   7.4861,2,    25.00,  -999.00,9,  -999.00,9,   4.2049,2,  27.4097,2,   4.2896,2
49UP20150724_2,   P04,    16,  1,     17,     090,2,20150830,0536,0653,  9.5080, 147.6263, 3852,   1082.4,     1074,   4.2867,  34.5540,2,     84.7,2,  34.5540,2,    84.79,2,    97.29,2,    38.66,2,     0.00,2,    2.770,2, -999.000,9, -999.000,9,   2311.9,2,   2362.5,2,   7.4844,2,    25.00,  -999.00,9,  -999.00,9,   4.2016,2,  27.4102,2,   4.2866,2
49UP20150724_2,   P04,    16,  1,     15,     088,2,20150830,0536,0647,  9.5080, 147.6263, 3852,   1283.3,     1272,   3.5851,  34.5742,2,     88.3,2,  34.5739,6,    88.56,2,   111.72,2,    38.88,2,     0.00,2,    2.790,2, -999.000,9, -999.000,9,   2328.4,2,   2378.1,2,   7.4877,2,    25.00,  -999.00,9,  -999.00,9,   3.4892,2,  27.4989,2,   3.5853,2
49UP20150724_2,   P04,    16,  1,     14,     999,2,20150830,0536,0642,  9.5080, 147.6263, 3852,   1484.8,     1471,   3.0295,  34.5936,2,     94.6,2,  34.5941,2,    94.61,2,   123.05,2,    39.01,2,     0.00,2,    2.780,2, -999.000,9, -999.000,9,   2332.8,6,   2388.8,6,   7.4940,2,    25.00,  -999.00,9,  -999.00,9,   2.9226,2,  27.5677,2,   3.0293,2
49UP20150724_2,   P04,    16,  1,     13,     667,2,20150830,0536,0637,  9.5080, 147.6263, 3852,   1685.9,     1670,   2.7283,  34.6067,2,    100.7,2,  34.6072,2,   100.93,2,   128.82,2,    38.86,2,     0.00,2,    2.760,2, -999.000,9, -999.000,9,   2334.2,2,   2394.7,2,   7.5005,6,    25.00,  -999.00,9,  -999.00,9,   2.6081,2,  27.6061,2,   2.7281,2
49UP20150724_2,   P04,    16,  1,     12,     074,2,20150830,0536,0632,  9.5080, 147.6263, 3852,   1888.8,     1870,   2.4013,  34.6240,2,    107.8,2,  34.6243,2,   107.44,6,   135.28,6,    38.57,6,     0.00,6,    2.730,6, -999.000,9, -999.000,9,   2339.2,2,   2403.0,2,   7.5094,2,    25.00,  -999.00,9,  -999.00,9,   2.2684,2,  27.6488,2,   2.4014,2
49UP20150724_2,   P04,    16,  1,     11,     268,2,20150830,0536,0627,  9.5080, 147.6263, 3852,   2093.4,     2071,   2.1828,  34.6353,2,    112.9,2,  34.6359,6,   112.75,2,   139.49,2,    38.39,2,     0.00,2,    2.700,2, -999.000,9, -999.000,9,   2341.2,2,   2407.8,2,   7.5185,2,    25.00,  -999.00,9,  -999.00,9,   2.0355,2,  27.6767,2,   2.1855,2
49UP20150724_2,   P04,    16,  1,     10,     267,2,20150830,0536,0622,  9.5080, 147.6263, 3852,   2296.8,     2271,   2.0128,  34.6445,2,    118.3,2,  34.6454,2,   118.12,2,   142.59,2,    38.12,2,     0.00,2,    2.680,2, -999.000,9, -999.000,9,   2341.1,2,   2410.1,2,   7.5255,2,    25.00,  -999.00,9,  -999.00,9,   1.8505,2,  27.6986,2,   2.0128,2
49UP20150724_2,   P04,    16,  1,      9,     518,2,20150830,0536,0617,  9.5080, 147.6263, 3852,   2498.6,     2470,   1.8185,  34.6560,2,    125.7,2,  34.6566,2,   125.55,2,   144.77,2,    37.73,2,     0.00,2,    2.640,2, -999.000,9, -999.000,9,   2348.2,3,   2413.5,2,   7.5390,2,    25.00,  -999.00,9,  -999.00,9,   1.6417,2,  27.7237,2,   1.8185,2
49UP20150724_2,   P04,    16,  1,      8,     081,2,20150830,0536,0611,  9.5080, 147.6263, 3852,   2703.9,     2671,   1.6962,  34.6631,2,    132.4,2,  34.6627,2,   132.16,2,   146.09,2,    37.25,2,     0.00,2,    2.610,2,    0.000,3,    0.002,3,   2339.5,2,   2413.3,2,   7.5460,2,    25.00,  -999.00,9,  -999.00,9,   1.5031,2,  27.7395,2,   1.6961,2
49UP20150724_2,   P04,    16,  1,      7,     516,2,20150830,0536,0606,  9.5080, 147.6263, 3852,   2905.6,     2869,   1.6408,  34.6675,2,    136.5,2,  34.6673,2,   136.29,2,   145.93,2,    36.95,2,     0.00,2,    2.580,2, -999.000,9, -999.000,9,   2332.8,6,   2413.4,6,   7.5545,2,    25.00,  -999.00,9,  -999.00,9,   1.4299,2,  27.7484,2,   1.6409,2
49UP20150724_2,   P04,    16,  1,      6,     113,2,20150830,0536,0601,  9.5080, 147.6263, 3852,   3120.1,     3080,   1.5806,  34.6723,2,    141.3,2,  34.6722,2,   141.36,2,   145.64,2,    36.66,2,     0.00,2,    2.560,2, -999.000,9, -999.000,9,   2333.3,2,   2414.4,2,   7.5616,6,    25.00,  -999.00,9,  -999.00,9,   1.3505,2,  27.7579,2,   1.5808,2
49UP20150724_2,   P04,    16,  1,      5,     658,2,20150830,0536,0553,  9.5080, 147.6263, 3852,   3375.4,     3330,   1.5417,  34.6764,2,    146.0,2,  34.6772,2,   145.94,2,   144.95,2,    36.20,2,     0.00,2,    2.540,2, -999.000,9, -999.000,9,   2326.4,2,   2411.9,2,   7.5694,2,    25.00,  -999.00,9,  -999.00,9,   1.2872,2,  27.7657,2,   1.5417,2
49UP20150724_2,   P04,    16,  1,      4,     471,2,20150830,0536,0553,  9.5080, 147.6263, 3852,   3375.8,     3330,   1.5422,  34.6761,2,    146.0,2,  34.6760,2,   145.59,2,   144.86,2,    36.31,2,     0.00,2,    2.540,2, -999.000,9, -999.000,9,   2332.1,2,   2413.3,2,   7.5690,2,    25.00,  -999.00,9,  -999.00,9,   1.2877,2,  27.7654,2,   1.5421,2
49UP20150724_2,   P04,    16,  1,      3,     104,2,20150830,0536,0547,  9.5080, 147.6263, 3852,   3631.5,     3580,   1.5339,  34.6786,2,    148.9,2,  34.6789,6,   148.47,2,   143.98,2,    36.15,2,     0.00,2,    2.510,2, -999.000,9, -999.000,9,   2327.6,2,   2411.9,2,   7.5703,2,    25.00,  -999.00,9,  -999.00,9,   1.2534,2,  27.7698,2,   1.5337,2
49UP20150724_2,   P04,    16,  1,      2,     075,2,20150830,0536,0537,  9.5080, 147.6263, 3852,   3905.5,     3848,   1.4910,  34.6835,2,    155.3,2,  34.6837,2,   155.29,2,   141.77,2,    35.64,2,     0.00,2,    2.480,2, -999.000,9, -999.000,9,   2319.8,2,   2409.5,2,   7.5779,2,    25.00,  -999.00,9,  -999.00,9,   1.1825,2,  27.7787,2,   1.4909,2
49UP20150724_2,   P04,    16,  1,      1,     997,2,20150830,0536,0537,  9.5080, 147.6263, 3852,   3906.2,     3849,   1.4926,  34.6834,2,    155.3,2,  34.6838,2,   154.97,2,   141.97,2,    35.71,2,     0.00,2,    2.480,2,    0.000,3,    0.001,3,   2321.2,2,   2409.6,2,   7.5804,2,    25.00,  -999.00,9,  -999.00,9,   1.1840,2,  27.7785,2,   1.4917,2