BOTTLE,20191113JMAGEMD
EXPOCODE,SECT_ID,STNNBR,CASTNO,SAMPNO,BTLNBR,BTLNBR_FLAG_U,DATE,TIME,BTL_TIME,LATITUDE,LONGITUDE,DEPTH,CTDPRS,CTDDEP,CTDTMP,CTDSAL,CTDSAL_FLAG_W,CTDOXY,CTDOXY_FLAG_W,SALNTY,SALNTY_FLAG_W,OXYGEN,OXYGEN_FLAG_W,SILCAT,SILCAT_FLAG_W,NO2+NO3,NO2+NO3_FLAG_W,NITRIT,NITRIT_FLAG_W,PHSPHT,PHSPHT_FLAG_W,CFC-11,CFC-11_FLAG_W,CFC-12,CFC-12_FLAG_W,TCARBN,TCARBN_FLAG_W,ALKALI,ALKALI_FLAG_W,PH_TS,PH_TS_FLAG_W,PH_TS_TMP,CHLORA,CHLORA_FLAG_W,PPHYTN,PPHYTN_FLAG_W,THETA,THETA_FLAG_W,SIGTHT,SIGTHT_FLAG_W,SBE35,SBE35_FLAG_W
,,,,,,,,UTC,,,,METER,DBAR,METERS,ITS-90,PSS-78,,UMOL/KG,,PSS78,,UMOL/KG,,UMOL/KG,,UMOL/KG,,UMOL/KG,,UMOL/KG,,PMOL/KG,,PMOL/KG,,UMOL/KG,,UMOL/KG,,,,ITS-90,UG/KG,,UG/KG,,ITS-90,,KG/M3,,ITS-90,
49UP20150724_1,   P04,    40,  1,      0,      -9,0,20150811,1430,1635,  9.0193, 163.9923, 5190,      0.0,        0,  29.6724,  33.8428,2,    195.3,2,-999.0000,9,   195.09,2,     0.93,2,     0.08,2,     0.00,2,    0.090,2, -999.000,9, -999.000,9,   -999.0,9,   -999.0,9,-999.0000,9,  -999.00,  -999.00,9,  -999.00,9,  29.6718,2,  20.9702,2,-999.0000,9
49UP20150724_1,   P04,    40,  1,     36,     109,2,20150811,1430,1654,  9.0193, 163.9923, 5190,     11.2,       11,  29.6859,  33.8443,2,    195.1,2,  33.8478,2,   195.02,6,     0.89,6,     0.06,6,     0.00,6,    0.080,6, -999.000,9, -999.000,9,   -999.0,9,   -999.0,9,-999.0000,9,  -999.00,  -999.00,9,  -999.00,9,  29.6831,2,  20.9675,2,  29.6844,2
49UP20150724_1,   P04,    40,  1,     35,     112,2,20150811,1430,1652,  9.0193, 163.9923, 5190,     51.8,       52,  26.9256,  34.6636,2,    207.0,2,  34.7152,4,   207.58,2,     1.22,2,     0.06,2,     0.00,2,    0.120,2, -999.000,9, -999.000,9,   -999.0,9,   -999.0,9,-999.0000,9,  -999.00,  -999.00,9,  -999.00,9,  26.9138,2,  22.4919,2,  26.9061,2
49UP20150724_1,   P04,    40,  1,     34,     083,2,20150811,1430,1651,  9.0193, 163.9923, 5190,     76.7,       76,  19.7790,  34.8572,2,    174.3,2,  34.8835,4,   175.54,2,     4.14,2,     3.75,2,     0.15,2,    0.460,2, -999.000,9, -999.000,9,   -999.0,9,   -999.0,9,-999.0000,9,  -999.00,  -999.00,9,  -999.00,9,  19.7650,2,  24.7145,2,  19.8192,2
49UP20150724_1,   P04,    40,  1,     33,     469,2,20150811,1430,1647,  9.0193, 163.9923, 5190,    101.8,      101,  16.1146,  34.6214,2,    143.7,2,  34.6178,2,   144.45,2,     9.83,2,    11.83,2,     0.06,2,    0.940,2, -999.000,9, -999.000,9,   -999.0,9,   -999.0,9,-999.0000,9,  -999.00,  -999.00,9,  -999.00,9,  16.0985,2,  25.4338,2,  16.1107,2
49UP20150724_1,   P04,    40,  1,     32,     105,3,20150811,1430,1646,  9.0193, 163.9923, 5190,    126.6,      126,  12.8003,  34.3963,2,    124.1,2,  34.3973,2,   125.40,2,    17.41,2,    18.26,2,     0.01,2,    1.400,2, -999.000,9, -999.000,9,   -999.0,9,   -999.0,9,-999.0000,9,  -999.00,  -999.00,9,  -999.00,9,  12.7833,2,  25.9683,2,  12.8061,2
49UP20150724_1,   P04,    40,  1,     31,     515,2,20150811,1430,1645,  9.0193, 163.9923, 5190,    152.0,      151,  11.5001,  34.4203,2,     91.9,2,  34.4230,2,    89.78,2,    24.84,2,    24.41,2,     0.00,2,    1.830,2, -999.000,9, -999.000,9,   -999.0,9,   -999.0,9,-999.0000,9,  -999.00,  -999.00,9,  -999.00,9,  11.4809,2,  26.2362,2,  11.5013,2
49UP20150724_1,   P04,    40,  1,     30,     097,2,20150811,1430,1643,  9.0193, 163.9923, 5190,    176.6,      176,  10.7788,  34.5489,2,     53.8,2,  34.5482,2,    54.05,2,    29.74,2,    29.97,2,     0.00,2,    2.180,2, -999.000,9, -999.000,9,   -999.0,9,   -999.0,9,-999.0000,9,  -999.00,  -999.00,9,  -999.00,9,  10.7574,2,  26.4677,2,  10.7786,2
49UP20150724_1,   P04,    40,  1,     29,     102,2,20150811,1430,1642,  9.0193, 163.9923, 5190,    203.1,      202,  10.2387,  34.5515,2,     52.0,2,  34.5502,2,    52.17,2,    31.98,2,    31.06,2,     0.00,2,    2.260,2, -999.000,9, -999.000,9,   -999.0,9,   -999.0,9,-999.0000,9,  -999.00,  -999.00,9,  -999.00,9,  10.2149,2,  26.5648,2,  10.2386,2
49UP20150724_1,   P04,    40,  1,     28,     108,2,20150811,1430,1640,  9.0193, 163.9923, 5190,    253.0,      251,   9.5204,  34.5645,2,     49.4,2,  34.5641,2,    49.78,2,    35.62,2,    32.86,2,     0.00,2,    2.360,2, -999.000,9, -999.000,9,   -999.0,9,   -999.0,9,-999.0000,9,  -999.00,  -999.00,9,  -999.00,9,   9.4920,2,  26.6971,2,   9.5211,2
49UP20150724_1,   P04,    40,  1,     27,     998,2,20150811,1430,1639,  9.0193, 163.9923, 5190,    286.6,      285,   9.0627,  34.5786,2,     52.2,2,  34.5772,2,    52.14,2,    37.58,2,    33.64,2,     0.00,2,    2.400,2, -999.000,9, -999.000,9,   -999.0,9,   -999.0,9,-999.0000,9,  -999.00,  -999.00,9,  -999.00,9,   9.0314,2,  26.7831,2,   9.0611,2
49UP20150724_1,   P04,    40,  1,     26,     084,2,20150811,1430,1636,  9.0193, 163.9923, 5190,    373.7,      371,   8.4135,  34.5727,2,     62.7,2,  34.5715,2,    62.92,2,    40.92,2,    34.14,2,     0.00,2,    2.420,2, -999.000,9, -999.000,9,   -999.0,9,   -999.0,9,-999.0000,9,  -999.00,  -999.00,9,  -999.00,9,   8.3744,2,  26.8816,2,   8.4131,2
49UP20150724_1,   P04,    40,  1,     25,     098,2,20150811,1430,1634,  9.0193, 163.9923, 5190,    473.0,      470,   7.6017,  34.5536,2,     66.5,2,  34.5528,2,    66.49,2,    47.31,2,    35.32,2,     0.00,2,    2.510,2, -999.000,9, -999.000,9,   -999.0,9,   -999.0,9,-999.0000,9,  -999.00,  -999.00,9,  -999.00,9,   7.5547,2,  26.9887,2,   7.6021,2
49UP20150724_1,   P04,    40,  1,     24,     110,2,20150811,1430,1631,  9.0193, 163.9923, 5190,    574.8,      571,   6.8798,  34.5340,2,     64.9,2,  34.5329,2,    65.23,6,    55.42,6,    36.73,6,     0.00,6,    2.620,6, -999.000,9, -999.000,9,   -999.0,9,   -999.0,9,-999.0000,9,  -999.00,  -999.00,9,  -999.00,9,   6.8255,2,  27.0757,2,   6.8796,2
49UP20150724_1,   P04,    40,  1,     23,     096,2,20150811,1430,1629,  9.0193, 163.9923, 5190,    675.5,      671,   6.1893,  34.5320,2,     64.3,2,  34.5315,6,    64.37,2,    64.20,2,    37.99,2,     0.00,2,    2.720,2, -999.000,9, -999.000,9,   -999.0,9,   -999.0,9,-999.0000,9,  -999.00,  -999.00,9,  -999.00,9,   6.1285,2,  27.1664,2,   6.1894,2
49UP20150724_1,   P04,    40,  1,     22,     111,2,20150811,1430,1624,  9.0193, 163.9923, 5190,    777.2,      771,   5.7031,  34.5342,2,     66.0,2,  34.5337,2,    66.01,2,    71.46,2,    38.73,2,     0.00,2,    2.770,2, -999.000,9, -999.000,9,   -999.0,9,   -999.0,9,-999.0000,9,  -999.00,  -999.00,9,  -999.00,9,   5.6354,2,  27.2302,2,   5.7024,2
49UP20150724_1,   P04,    40,  1,     21,     078,2,20150811,1430,1620,  9.0193, 163.9923, 5190,    877.6,      871,   5.1540,  34.5411,2,     71.8,2,  34.5409,2,    71.98,2,    80.01,2,    38.90,2,     0.00,2,    2.780,2, -999.000,9, -999.000,9,   -999.0,9,   -999.0,9,-999.0000,9,  -999.00,  -999.00,9,  -999.00,9,   5.0806,2,  27.3021,2,   5.1537,2
49UP20150724_1,   P04,    40,  1,     20,     093,2,20150811,1430,1618,  9.0193, 163.9923, 5190,    979.2,      971,   4.6894,  34.5491,2,     76.6,2,  34.5475,4,    76.83,2,    88.61,2,    39.10,2,     0.00,2,    2.790,2, -999.000,9, -999.000,9,   -999.0,9,   -999.0,9,-999.0000,9,  -999.00,  -999.00,9,  -999.00,9,   4.6102,2,  27.3620,2,   4.6890,2
49UP20150724_1,   P04,    40,  1,     19,     092,2,20150811,1430,1614,  9.0193, 163.9923, 5190,   1141.5,     1132,   4.0923,  34.5602,2,     74.5,2,  34.5598,2,    74.20,2,   101.62,2,    39.90,2,     0.00,2,    2.860,2, -999.000,9, -999.000,9,   -999.0,9,   -999.0,9,-999.0000,9,  -999.00,  -999.00,9,  -999.00,9,   4.0038,2,  27.4359,2,   4.0923,2
49UP20150724_1,   P04,    40,  1,     18,     101,2,20150811,1430,1609,  9.0193, 163.9923, 5190,   1342.2,     1330,   3.4365,  34.5822,2,     87.3,2,  34.5821,2,    87.41,2,   114.15,2,    39.45,2,     0.00,2,    2.810,2, -999.000,9, -999.000,9,   -999.0,9,   -999.0,9,-999.0000,9,  -999.00,  -999.00,9,  -999.00,9,   3.3371,2,  27.5200,2,   3.4357,2
49UP20150724_1,   P04,    40,  1,     17,     090,2,20150811,1430,1603,  9.0193, 163.9923, 5190,   1544.9,     1531,   2.9507,  34.6001,2,     90.6,2,  34.5994,2,    90.54,2,   124.72,2,    39.63,2,     0.00,2,    2.820,2, -999.000,9, -999.000,9,   -999.0,9,   -999.0,9,-999.0000,9,  -999.00,  -999.00,9,  -999.00,9,   2.8397,2,  27.5804,2,   2.9541,2
49UP20150724_1,   P04,    40,  1,     16,     089,3,20150811,1430,1558,  9.0193, 163.9923, 5190,   1748.2,     1731,   2.5616,  34.6169,2,     96.7,2,  34.6168,2,    97.05,6,   133.53,6,    39.39,6,     0.00,6,    2.790,6, -999.000,9, -999.000,9,   -999.0,9,   -999.0,9,-999.0000,9,  -999.00,  -999.00,9,  -999.00,9,   2.4383,2,  27.6288,2,   2.5613,2
49UP20150724_1,   P04,    40,  1,     15,     088,2,20150811,1430,1553,  9.0193, 163.9923, 5190,   1950.7,     1931,   2.3054,  34.6314,2,    103.0,2,  34.6258,4,   103.03,2,   137.90,3,    39.11,2,     0.00,2,    2.750,2, -999.000,9, -999.000,9,   -999.0,9,   -999.0,9,-999.0000,9,  -999.00,  -999.00,9,  -999.00,9,   2.1685,2,  27.6628,2,   2.3055,2
49UP20150724_1,   P04,    40,  1,     14,     999,2,20150811,1430,1547,  9.0193, 163.9923, 5190,   2153.2,     2130,   2.0887,  34.6421,2,    108.8,2,  34.6414,2,   108.97,2,   143.72,2,    38.80,2,     0.00,2,    2.730,2, -999.000,9, -999.000,9,   -999.0,9,   -999.0,9,-999.0000,9,  -999.00,  -999.00,9,  -999.00,9,   1.9378,2,  27.6898,2,   2.0887,2
49UP20150724_1,   P04,    40,  1,     13,     667,2,20150811,1430,1543,  9.0193, 163.9923, 5190,   2356.7,     2330,   1.9372,  34.6509,2,    114.5,2,  34.6498,4,   114.47,2,   146.54,2,    38.47,2,     0.00,2,    2.690,2, -999.000,9, -999.000,9,   -999.0,9,   -999.0,9,-999.0000,9,  -999.00,  -999.00,9,  -999.00,9,   1.7710,2,  27.7098,2,   1.9373,2
49UP20150724_1,   P04,    40,  1,     12,     074,2,20150811,1430,1538,  9.0193, 163.9923, 5190,   2560.0,     2530,   1.8597,  34.6564,2,    118.5,2,  34.6555,2,   118.42,2,   147.75,2,    38.20,2,     0.00,2,    2.670,2, -999.000,9, -999.000,9,   -999.0,9,   -999.0,9,-999.0000,9,  -999.00,  -999.00,9,  -999.00,9,   1.6766,2,  27.7214,2,   1.8598,2
49UP20150724_1,   P04,    40,  1,     11,     268,2,20150811,1430,1532,  9.0193, 163.9923, 5190,   2764.5,     2731,   1.7831,  34.6628,2,    123.6,2,  34.6619,4,   123.81,2,   148.32,2,    37.91,2,     0.00,2,    2.650,2, -999.000,9, -999.000,9,   -999.0,9,   -999.0,9,-999.0000,9,  -999.00,  -999.00,9,  -999.00,9,   1.5826,2,  27.7335,2,   1.7832,2
49UP20150724_1,   P04,    40,  1,     10,     267,2,20150811,1430,1527,  9.0193, 163.9923, 5190,   2968.5,     2931,   1.6790,  34.6692,2,    130.4,2,  34.6682,4,   130.43,2,   148.81,2,    37.46,2,     0.00,2,    2.610,2, -999.000,9, -999.000,9,   -999.0,9,   -999.0,9,-999.0000,9,  -999.00,  -999.00,9,  -999.00,9,   1.4613,2,  27.7475,2,   1.6788,2
49UP20150724_1,   P04,    40,  1,      9,     518,2,20150811,1430,1521,  9.0193, 163.9923, 5190,   3213.6,     3171,   1.5754,  34.6760,2,    139.3,2,  34.6762,2,   139.07,2,   147.79,2,    36.84,2,     0.00,2,    2.560,2, -999.000,9, -999.000,9,   -999.0,9,   -999.0,9,-999.0000,9,  -999.00,  -999.00,9,  -999.00,9,   1.3362,2,  27.7620,2,   1.5753,2
49UP20150724_1,   P04,    40,  1,      8,     081,2,20150811,1430,1515,  9.0193, 163.9923, 5190,   3469.9,     3422,   1.5069,  34.6814,2,    147.6,2,  34.6815,2,   147.81,6,   145.04,6,    36.27,6,     0.00,6,    2.520,6, -999.000,9, -999.000,9,   -999.0,9,   -999.0,9,-999.0000,9,  -999.00,  -999.00,9,  -999.00,9,   1.2437,2,  27.7728,2,   1.5075,2
49UP20150724_1,   P04,    40,  1,      7,     516,2,20150811,1430,1509,  9.0193, 163.9923, 5190,   3725.1,     3672,   1.4517,  34.6868,2,    156.4,2,  34.6863,6,   156.58,2,   141.19,2,    35.63,2,     0.00,2,    2.470,2, -999.000,9, -999.000,9,   -999.0,9,   -999.0,9,-999.0000,9,  -999.00,  -999.00,9,  -999.00,9,   1.1635,2,  27.7826,2,   1.4519,2
49UP20150724_1,   P04,    40,  1,      6,     113,2,20150811,1430,1501,  9.0193, 163.9923, 5190,   3978.9,     3920,   1.4216,  34.6906,2,    163.3,2,  34.6896,2,   163.66,2,   137.69,2,    35.19,2,     0.00,2,    2.430,2, -999.000,9, -999.000,9,   -999.0,9,   -999.0,9,-999.0000,9,  -999.00,  -999.00,9,  -999.00,9,   1.1072,2,  27.7895,2,   1.4218,2
49UP20150724_1,   P04,    40,  1,      5,     094,2,20150811,1430,1456,  9.0193, 163.9923, 5190,   4236.9,     4172,   1.3978,  34.6943,2,    170.1,2,  34.6946,2,   170.04,2,   133.99,2,    34.71,2,     0.00,2,    2.400,2, -999.000,9, -999.000,9,   -999.0,9,   -999.0,9,-999.0000,9,  -999.00,  -999.00,9,  -999.00,9,   1.0557,2,  27.7960,2,   1.3980,2
49UP20150724_1,   P04,    40,  1,      4,     471,2,20150811,1430,1450,  9.0193, 163.9923, 5190,   4492.8,     4421,   1.3972,  34.6964,2,    173.9,2,  34.6963,2,   174.12,2,   131.80,2,    34.39,2,     0.00,2,    2.370,2, -999.000,9, -999.000,9,   -999.0,9,   -999.0,9,-999.0000,9,  -999.00,  -999.00,9,  -999.00,9,   1.0262,2,  27.7997,2,   1.3976,2
49UP20150724_1,   P04,    40,  1,      3,     104,2,20150811,1430,1444,  9.0193, 163.9923, 5190,   4749.5,     4671,   1.3924,  34.6983,2,    178.1,2,  34.6987,2,   177.95,2,   129.69,2,    34.11,2,     0.00,2,    2.350,2, -999.000,9, -999.000,9,   -999.0,9,   -999.0,9,-999.0000,9,  -999.00,  -999.00,9,  -999.00,9,   0.9916,2,  27.8035,2,   1.3925,2
49UP20150724_1,   P04,    40,  1,      2,     075,2,20150811,1430,1437,  9.0193, 163.9923, 5190,   5005.8,     4920,   1.3906,  34.7004,2,    181.9,2,  34.7004,2,   182.02,2,   127.58,2,    33.76,2,     0.00,2,    2.330,2, -999.000,9, -999.000,9,   -999.0,9,   -999.0,9,-999.0000,9,  -999.00,  -999.00,9,  -999.00,9,   0.9593,2,  27.8073,2,   1.3908,2
49UP20150724_1,   P04,    40,  1,      1,     997,2,20150811,1430,1435,  9.0193, 163.9923, 5190,   5067.3,     4980,   1.3913,  34.7005,2,    182.9,2,  34.7007,2,   182.72,2,   127.46,2,    33.80,2,     0.00,2,    2.330,2, -999.000,9, -999.000,9,   -999.0,9,   -999.0,9,-999.0000,9,  -999.00,  -999.00,9,  -999.00,9,   0.9525,2,  27.8079,2,   1.3913,2