BOTTLE,20191113JMAGEMD
EXPOCODE,SECT_ID,STNNBR,CASTNO,SAMPNO,BTLNBR,BTLNBR_FLAG_U,DATE,TIME,BTL_TIME,LATITUDE,LONGITUDE,DEPTH,CTDPRS,CTDDEP,CTDTMP,CTDSAL,CTDSAL_FLAG_W,CTDOXY,CTDOXY_FLAG_W,SALNTY,SALNTY_FLAG_W,OXYGEN,OXYGEN_FLAG_W,SILCAT,SILCAT_FLAG_W,NO2+NO3,NO2+NO3_FLAG_W,NITRIT,NITRIT_FLAG_W,PHSPHT,PHSPHT_FLAG_W,CFC-11,CFC-11_FLAG_W,CFC-12,CFC-12_FLAG_W,TCARBN,TCARBN_FLAG_W,ALKALI,ALKALI_FLAG_W,PH_TS,PH_TS_FLAG_W,PH_TS_TMP,CHLORA,CHLORA_FLAG_W,PPHYTN,PPHYTN_FLAG_W,THETA,THETA_FLAG_W,SIGTHT,SIGTHT_FLAG_W,SBE35,SBE35_FLAG_W
,,,,,,,,UTC,,,,METER,DBAR,METERS,ITS-90,PSS-78,,UMOL/KG,,PSS78,,UMOL/KG,,UMOL/KG,,UMOL/KG,,UMOL/KG,,UMOL/KG,,PMOL/KG,,PMOL/KG,,UMOL/KG,,UMOL/KG,,,,ITS-90,UG/KG,,UG/KG,,ITS-90,,KG/M3,,ITS-90,
49UP20150724_1,   P04,    41,  1,      0,      -9,0,20150811,0604,0755,  7.9988, 163.9753, 5137,      0.0,        0,  29.6530,  33.7006,2,    195.9,2,  33.6934,2,   195.94,2,     1.02,2,     0.04,2,     0.00,2,    0.080,2, -999.000,9, -999.000,9,   1892.1,2,   2211.4,2,   8.1171,2,    25.00,     0.08,2,     0.04,2,  29.6524,2,  20.8702,2,-999.0000,9
49UP20150724_1,   P04,    41,  1,     36,     109,2,20150811,0604,0826,  7.9988, 163.9753, 5137,     10.4,       10,  29.6575,  33.7053,2,    195.7,2,  33.7030,2,   195.08,2,     1.02,2,     0.03,2,     0.00,2,    0.080,2,    1.425,2,    0.893,2,   1890.5,2,   2210.5,2,   8.1202,2,    25.00,     0.08,2,     0.04,2,  29.6549,2,  20.8728,2,  29.6550,2
49UP20150724_1,   P04,    41,  1,     35,     112,2,20150811,0604,0825,  7.9988, 163.9753, 5137,     26.4,       26,  29.4246,  34.0580,2,    200.9,2,  34.0632,2,   200.21,2,     1.02,2,     0.02,2,     0.00,2,    0.080,2, -999.000,9, -999.000,9,   1911.8,2,   2234.8,2,   8.1239,2,    25.00,     0.10,2,     0.05,2,  29.4182,2,  21.2170,2,  29.4229,2
49UP20150724_1,   P04,    41,  1,     34,     083,2,20150811,0604,0821,  7.9988, 163.9753, 5137,     50.2,       50,  27.9744,  34.4077,2,    204.4,2,  34.4880,4,   204.51,2,     1.24,2,     0.03,2,     0.00,2,    0.110,2,    1.700,2,    0.976,2,   1947.0,2,   2267.9,2,   8.0976,2,    25.00,     0.16,2,     0.09,2,  27.9626,2,  21.9615,2,  27.9736,2
49UP20150724_1,   P04,    41,  1,     33,     469,2,20150811,0604,0820,  7.9988, 163.9753, 5137,     74.6,       74,  24.4802,  34.9524,2,    202.9,2,  34.9808,4,   205.25,2,     1.86,2,     0.03,2,     0.00,2,    0.170,2, -999.000,9, -999.000,9,   2016.2,2,   2306.0,2,   8.0289,2,    25.00,     0.21,2,     0.16,2,  24.4643,2,  23.4670,2,  24.4716,2
49UP20150724_1,   P04,    41,  1,     32,     105,2,20150811,0604,0819,  7.9988, 163.9753, 5137,    102.7,      102,  17.7613,  34.7306,2,    154.0,2,  34.7380,2,   155.27,2,     7.31,2,     8.62,2,     0.21,2,    0.740,2,    2.144,2,    1.324,2,   2094.2,2,   2290.2,2,   7.8508,2,    25.00,     0.20,2,     0.33,2,  17.7439,2,  25.1284,2,  17.7440,2
49UP20150724_1,   P04,    41,  1,     31,     515,2,20150811,0604,0818,  7.9988, 163.9753, 5137,    124.5,      124,  14.4618,  34.4909,2,    143.2,2,  34.4767,4,   140.54,2,    13.14,2,    14.51,2,     0.02,2,    1.120,2, -999.000,9, -999.000,9,   2124.6,2,   2276.1,2,   7.7509,2,    25.00,     0.10,2,     0.23,2,  14.4436,2,  25.6998,2,  14.4655,2
49UP20150724_1,   P04,    41,  1,     30,     097,2,20150811,0604,0817,  7.9988, 163.9753, 5137,    150.5,      150,  12.0372,  34.4741,2,     85.0,2,  34.4821,2,    82.08,2,    23.90,2,    24.78,2,     0.01,2,    1.850,2,    1.640,6,    0.907,6,   2192.0,2,   2283.5,2,   7.5991,2,    25.00,     0.04,2,     0.12,2,  12.0176,2,  26.1772,2,  12.0526,2
49UP20150724_1,   P04,    41,  1,     29,     102,2,20150811,0604,0815,  7.9988, 163.9753, 5137,    201.9,      201,  10.3413,  34.6026,2,     41.5,2,  34.6040,2,    41.85,6,    32.05,6,    32.31,6,     0.00,6,    2.330,6,    0.769,2,    0.412,2,   2239.0,2,   2295.7,2,   7.4994,2,    25.00,     0.00,2,     0.04,2,  10.3175,2,  26.5870,2,  10.3414,2
49UP20150724_1,   P04,    41,  1,     28,     108,4,20150811,0604,0813,  7.9988, 163.9753, 5137,    253.8,      252,   9.7192,  34.6280,2,     41.9,2,-999.0000,9,  -999.00,9,  -999.00,9,  -999.00,9,  -999.00,9, -999.000,9, -999.000,9, -999.000,9,   -999.0,9,   -999.0,9,-999.0000,9,  -999.00,  -999.00,9,  -999.00,9,   9.6903,2,  26.7138,2,   9.7186,2
49UP20150724_1,   P04,    41,  1,     27,     998,2,20150811,0604,0810,  7.9988, 163.9753, 5137,    332.3,      330,   9.0122,  34.6081,2,     55.7,2,  34.6090,6,    55.85,2,    36.53,2,    33.67,2,     0.00,2,    2.390,2,    0.470,2,    0.266,2,   2242.9,2,   2303.3,2,   7.5042,2,    25.00,  -999.00,9,  -999.00,9,   8.9759,2,  26.8151,2,   9.0160,2
49UP20150724_1,   P04,    41,  1,     26,     084,2,20150811,0604,0808,  7.9988, 163.9753, 5137,    432.7,      430,   8.3151,  34.5819,2,     61.6,2,  34.5813,2,    61.65,2,    40.99,2,    34.49,2,     0.00,2,    2.440,2,    0.360,2,    0.204,2,   2247.6,2,   2306.3,2,   7.5039,2,    25.00,  -999.00,9,  -999.00,9,   8.2699,2,  26.9048,2,   8.3169,2
49UP20150724_1,   P04,    41,  1,     25,     098,2,20150811,0604,0805,  7.9988, 163.9753, 5137,    533.5,      530,   7.3289,  34.5473,2,     66.8,2,  34.5469,2,    66.98,2,    49.88,2,    35.74,2,     0.00,2,    2.550,2,    0.233,2,    0.129,2,   2258.7,2,   2315.1,2,   7.4918,2,    25.00,  -999.00,9,  -999.00,9,   7.2768,2,  27.0234,2,   7.3319,2
49UP20150724_1,   P04,    41,  1,     24,     110,2,20150811,0604,0802,  7.9988, 163.9753, 5137,    634.1,      630,   6.5343,  34.5350,2,     61.1,2,  34.5341,2,    61.29,2,    59.81,2,    37.76,2,     0.00,2,    2.710,2,    0.101,2,    0.055,2,   2282.6,2,   2325.4,2,   7.4712,2,    25.00,  -999.00,9,  -999.00,9,   6.4757,2,  27.1235,2,   6.5339,2
49UP20150724_1,   P04,    41,  1,     23,     096,2,20150811,0604,0757,  7.9988, 163.9753, 5137,    735.7,      730,   5.7770,  34.5350,2,     64.8,2,  34.5347,2,    65.17,2,    69.75,2,    38.72,2,     0.00,2,    2.770,2,    0.060,2,    0.033,2,   2295.0,2,   2335.8,2,   7.4719,2,    25.00,  -999.00,9,  -999.00,9,   5.7127,2,  27.2213,2,   5.7768,2
49UP20150724_1,   P04,    41,  1,     22,     111,2,20150811,0604,0753,  7.9988, 163.9753, 5137,    835.3,      829,   5.1959,  34.5405,2,     70.1,2,  34.5404,2,    70.44,2,    79.22,2,    39.14,2,     0.00,2,    2.800,2,    0.030,2,    0.016,2,   2302.0,2,   2345.7,2,   7.4738,2,    25.00,  -999.00,9,  -999.00,9,   5.1260,2,  27.2963,2,   5.1980,2
49UP20150724_1,   P04,    41,  1,     21,     078,2,20150811,0604,0750,  7.9988, 163.9753, 5137,    937.8,      930,   4.7352,  34.5485,2,     75.8,2,  34.5481,2,    75.85,2,    87.76,2,    39.17,2,     0.00,2,    2.800,2,    0.020,2,    0.011,2,   2307.0,2,   2354.5,2,   7.4790,2,    25.00,  -999.00,9,  -999.00,9,   4.6593,2,  27.3560,2,   4.7352,2
49UP20150724_1,   P04,    41,  1,     20,     093,2,20150811,0604,0747,  7.9988, 163.9753, 5137,   1079.8,     1071,   4.2641,  34.5599,2,     80.1,2,  34.5600,2,    80.16,6,    96.36,6,    39.33,6,     0.00,6,    2.810,6,    0.014,2,    0.006,2,   2314.4,2,   2365.4,2,   7.4830,2,    25.00,  -999.00,9,  -999.00,9,   4.1795,2,  27.4173,2,   4.2638,2
49UP20150724_1,   P04,    41,  1,     19,     092,2,20150811,0604,0743,  7.9988, 163.9753, 5137,   1281.2,     1270,   3.6286,  34.5757,2,     84.6,2,  34.5756,6,    84.61,2,   110.27,2,    39.54,2,     0.00,2,    2.820,2, -999.000,9, -999.000,9,   2325.5,3,   2379.4,2,   7.4861,2,    25.00,  -999.00,9,  -999.00,9,   3.5324,2,  27.4959,2,   3.6285,2
49UP20150724_1,   P04,    41,  1,     18,     101,2,20150811,0604,0735,  7.9988, 163.9753, 5137,   1484.6,     1471,   3.0459,  34.5957,2,     88.7,2,  34.5952,2,    88.94,2,   122.80,2,    39.65,2,     0.00,2,    2.820,2, -999.000,9, -999.000,9,   2338.3,6,   2392.3,6,   7.4897,2,    25.00,  -999.00,9,  -999.00,9,   2.9388,2,  27.5679,2,   3.0464,2
49UP20150724_1,   P04,    41,  1,     17,     090,2,20150811,0604,0730,  7.9988, 163.9753, 5137,   1687.7,     1671,   2.6626,  34.6129,2,     95.2,2,  34.6129,2,    94.65,2,   131.21,2,    39.44,2,     0.00,2,    2.800,2, -999.000,9, -999.000,9,   2339.2,2,   2402.5,2,   7.4992,6,    25.00,  -999.00,9,  -999.00,9,   2.5431,2,  27.6167,2,   2.6627,2
49UP20150724_1,   P04,    41,  1,     16,     089,2,20150811,0604,0726,  7.9988, 163.9753, 5137,   1889.0,     1870,   2.3718,  34.6259,2,    100.1,2,  34.6259,2,   100.12,2,   138.12,2,    39.32,2,     0.00,2,    2.780,2, -999.000,9, -999.000,9,   2344.9,2,   2409.3,2,   7.5099,2,    25.00,  -999.00,9,  -999.00,9,   2.2392,2,  27.6527,2,   2.3721,2
49UP20150724_1,   P04,    41,  1,     15,     088,2,20150811,0604,0718,  7.9988, 163.9753, 5137,   2092.6,     2071,   2.1944,  34.6383,2,    106.1,2,  34.6380,2,   105.84,2,   140.36,2,    38.99,2,     0.00,2,    2.740,2, -999.000,9, -999.000,9,   2348.1,2,   2412.8,2,   7.5176,2,    25.00,  -999.00,9,  -999.00,9,   2.0470,2,  27.6781,2,   2.1945,2
49UP20150724_1,   P04,    41,  1,     14,     999,2,20150811,0604,0714,  7.9988, 163.9753, 5137,   2296.2,     2271,   2.0194,  34.6493,2,    112.4,2,  34.6493,2,   112.01,2,   144.99,2,    38.67,2,     0.00,2,    2.710,2, -999.000,9, -999.000,9,   2354.7,2,   2419.2,2,   7.5308,2,    25.00,  -999.00,9,  -999.00,9,   1.8571,2,  27.7019,2,   2.0194,2
49UP20150724_1,   P04,    41,  1,     13,     667,2,20150811,0604,0709,  7.9988, 163.9753, 5137,   2498.7,     2470,   1.8933,  34.6567,2,    118.3,2,  34.6560,2,   118.01,2,   146.13,2,    38.23,2,     0.00,2,    2.680,2, -999.000,9, -999.000,9,   2353.2,2,   2419.5,2,   7.5385,2,    25.00,  -999.00,9,  -999.00,9,   1.7151,2,  27.7187,2,   1.8933,2
49UP20150724_1,   P04,    41,  1,     12,     074,2,20150811,0604,0703,  7.9988, 163.9753, 5137,   2704.8,     2672,   1.7930,  34.6624,2,    124.1,2,  34.6623,2,   124.15,6,   147.51,6,    37.91,6,     0.00,6,    2.650,6,    0.000,2,    0.000,2,   2346.5,2,   2419.6,2,   7.5482,2,    25.00,  -999.00,9,  -999.00,9,   1.5979,2,  27.7320,2,   1.7933,2
49UP20150724_1,   P04,    41,  1,     11,     268,2,20150811,0604,0658,  7.9988, 163.9753, 5137,   2905.8,     2870,   1.7043,  34.6678,2,    129.8,2,  34.6674,6,   129.70,2,   147.86,2,    37.51,2,     0.00,2,    2.620,2, -999.000,9, -999.000,9,   2345.9,2,   2418.6,2,   7.5539,2,    25.00,  -999.00,9,  -999.00,9,   1.4920,2,  27.7442,2,   1.7044,2
49UP20150724_1,   P04,    41,  1,     10,     267,2,20150811,0604,0653,  7.9988, 163.9753, 5137,   3121.0,     3081,   1.6260,  34.6730,2,    136.2,2,  34.6726,2,   136.51,2,   147.59,2,    37.09,2,     0.00,2,    2.590,2, -999.000,9, -999.000,9,   2337.0,6,   2418.1,6,   7.5581,2,    25.00,  -999.00,9,  -999.00,9,   1.3947,2,  27.7553,2,   1.6261,2
49UP20150724_1,   P04,    41,  1,      9,     518,2,20150811,0604,0646,  7.9988, 163.9753, 5137,   3375.7,     3330,   1.5366,  34.6795,2,    145.3,2,  34.6790,2,   144.80,2,   145.39,2,    36.51,2,     0.00,2,    2.530,2, -999.000,9, -999.000,9,   2335.1,2,   2416.9,2,   7.5758,6,    25.00,  -999.00,9,  -999.00,9,   1.2822,2,  27.7685,2,   1.5366,2
49UP20150724_1,   P04,    41,  1,      8,     081,2,20150811,0604,0641,  7.9988, 163.9753, 5137,   3632.2,     3581,   1.4691,  34.6853,2,    154.3,2,  34.6846,2,   154.43,2,   142.26,2,    35.87,2,     0.00,2,    2.490,2, -999.000,9, -999.000,9,   2326.4,2,   2412.1,2,   7.5866,2,    25.00,  -999.00,9,  -999.00,9,   1.1901,2,  27.7796,2,   1.4693,2
49UP20150724_1,   P04,    41,  1,      7,     516,2,20150811,0604,0634,  7.9988, 163.9753, 5137,   3887.9,     3831,   1.4405,  34.6890,2,    160.6,2,  34.6883,2,   160.88,2,   139.35,2,    35.43,2,     0.00,2,    2.460,2, -999.000,9, -999.000,9,   2322.6,2,   2409.4,2,   7.5960,2,    25.00,  -999.00,9,  -999.00,9,   1.1353,2,  27.7863,2,   1.4408,2
49UP20150724_1,   P04,    41,  1,      6,     113,2,20150811,0604,0628,  7.9988, 163.9753, 5137,   4143.5,     4081,   1.4189,  34.6923,2,    166.2,2,  34.6922,2,   166.60,2,   136.47,2,    35.00,2,     0.00,2,    2.410,2, -999.000,9, -999.000,9,   2314.1,6,   2406.1,6,   7.6002,2,    25.00,  -999.00,9,  -999.00,9,   1.0865,2,  27.7923,2,   1.4191,2
49UP20150724_1,   P04,    41,  1,      5,     094,2,20150811,0604,0622,  7.9988, 163.9753, 5137,   4399.2,     4330,   1.4065,  34.6950,2,    171.5,2,  34.6951,2,   171.92,2,   133.64,2,    34.61,2,     0.00,2,    2.390,2, -999.000,9, -999.000,9,   2306.4,2,   2401.5,2,   7.6039,6,    25.00,  -999.00,9,  -999.00,9,   1.0459,2,  27.7972,2,   1.4067,2
49UP20150724_1,   P04,    41,  1,      4,     471,2,20150811,0604,0617,  7.9988, 163.9753, 5137,   4656.7,     4581,   1.4012,  34.6974,2,    176.0,2,  34.6973,2,   176.20,2,   131.24,2,    34.24,2,     0.00,2,    2.360,2,    0.004,6,    0.003,6,   2307.4,3,   2396.1,2,   7.6086,2,    25.00,  -999.00,9,  -999.00,9,   1.0110,2,  27.8014,2,   1.4013,2
49UP20150724_1,   P04,    41,  1,      3,     104,2,20150811,0604,0611,  7.9988, 163.9753, 5137,   4913.7,     4831,   1.3916,  34.6995,2,    180.5,2,  34.6999,2,   180.72,6,   128.84,6,    33.94,6,     0.00,6,    2.340,6, -999.000,9, -999.000,9,   2295.7,2,   2393.2,2,   7.6108,2,    25.00,  -999.00,9,  -999.00,9,   0.9714,2,  27.8058,2,   1.3916,2
49UP20150724_1,   P04,    41,  1,      2,     075,2,20150811,0604,0606,  7.9988, 163.9753, 5137,   5171.3,     5081,   1.3946,  34.7015,2,    183.9,2,  34.7012,6,   184.35,2,   127.02,2,    33.60,2,     0.00,2,    2.320,2, -999.000,9, -999.000,9,   2295.3,3,   2388.6,2,   7.6114,2,    25.00,  -999.00,9,  -999.00,9,   0.9430,2,  27.8093,2,   1.3949,2
49UP20150724_1,   P04,    41,  1,      1,     997,2,20150811,0604,0604,  7.9988, 163.9753, 5137,   5228.4,     5136,   1.4007,  34.7015,2,    184.3,2,  34.7012,2,   184.12,2,   127.34,2,    33.72,2,     0.00,2,    2.320,2, -999.000,9, -999.000,9,   2288.3,2,   2388.7,2,   7.6117,2,    25.00,  -999.00,9,  -999.00,9,   0.9417,2,  27.8093,2,   1.4006,2