BOTTLE,20191113JMAGEMD
EXPOCODE,SECT_ID,STNNBR,CASTNO,SAMPNO,BTLNBR,BTLNBR_FLAG_U,DATE,TIME,BTL_TIME,LATITUDE,LONGITUDE,DEPTH,CTDPRS,CTDDEP,CTDTMP,CTDSAL,CTDSAL_FLAG_W,CTDOXY,CTDOXY_FLAG_W,SALNTY,SALNTY_FLAG_W,OXYGEN,OXYGEN_FLAG_W,SILCAT,SILCAT_FLAG_W,NO2+NO3,NO2+NO3_FLAG_W,NITRIT,NITRIT_FLAG_W,PHSPHT,PHSPHT_FLAG_W,CFC-11,CFC-11_FLAG_W,CFC-12,CFC-12_FLAG_W,TCARBN,TCARBN_FLAG_W,ALKALI,ALKALI_FLAG_W,PH_TS,PH_TS_FLAG_W,PH_TS_TMP,CHLORA,CHLORA_FLAG_W,PPHYTN,PPHYTN_FLAG_W,THETA,THETA_FLAG_W,SIGTHT,SIGTHT_FLAG_W,SBE35,SBE35_FLAG_W
,,,,,,,,UTC,,,,METER,DBAR,METERS,ITS-90,PSS-78,,UMOL/KG,,PSS78,,UMOL/KG,,UMOL/KG,,UMOL/KG,,UMOL/KG,,UMOL/KG,,PMOL/KG,,PMOL/KG,,UMOL/KG,,UMOL/KG,,,,ITS-90,UG/KG,,UG/KG,,ITS-90,,KG/M3,,ITS-90,
49UP20150724_2,   P04,    12,  1,      0,      -9,0,20150831,1210,1345,  9.5863, 145.3212, 4112,      0.0,        0,  28.7978,  34.0437,2,    197.6,2,-999.0000,9,   197.30,2,     1.11,2,     0.01,2,     0.00,2,    0.070,2, -999.000,9, -999.000,9,   -999.0,9,   -999.0,9,-999.0000,9,  -999.00,  -999.00,9,  -999.00,9,  28.7972,2,  21.4137,2,-999.0000,9
49UP20150724_2,   P04,    12,  1,     36,     109,3,20150831,1210,1410,  9.5863, 145.3212, 4112,     10.6,       11,  28.8020,  34.0435,2,    197.4,2,  34.0426,2,   197.01,6,     1.11,6,     0.04,6,     0.00,6,    0.070,6, -999.000,9, -999.000,9,   -999.0,9,   -999.0,9,-999.0000,9,  -999.00,  -999.00,9,  -999.00,9,  28.7995,2,  21.4128,2,  28.8065,2
49UP20150724_2,   P04,    12,  1,     35,     112,2,20150831,1210,1409,  9.5863, 145.3212, 4112,     26.5,       26,  28.7278,  34.0318,2,    197.2,2,  34.0363,2,   197.43,2,     1.11,2,     0.01,2,     0.00,2,    0.070,2, -999.000,9, -999.000,9,   -999.0,9,   -999.0,9,-999.0000,9,  -999.00,  -999.00,9,  -999.00,9,  28.7214,2,  21.4298,2,  28.7218,2
49UP20150724_2,   P04,    12,  1,     34,     094,2,20150831,1210,1405,  9.5863, 145.3212, 4112,     51.3,       51,  27.1566,  34.3832,2,    199.5,2,  34.3879,2,   200.67,2,     1.46,2,     0.02,2,     0.00,2,    0.100,2, -999.000,9, -999.000,9,   -999.0,9,   -999.0,9,-999.0000,9,  -999.00,  -999.00,9,  -999.00,9,  27.1449,2,  22.2070,2,  27.1638,2
49UP20150724_2,   P04,    12,  1,     33,     469,2,20150831,1210,1404,  9.5863, 145.3212, 4112,     75.1,       75,  20.1642,  34.8113,2,    163.5,2,  34.8208,2,   163.59,2,     6.21,2,     6.35,2,     0.32,2,    0.570,2, -999.000,9, -999.000,9,   -999.0,9,   -999.0,9,-999.0000,9,  -999.00,  -999.00,9,  -999.00,9,  20.1503,2,  24.5781,2,  20.2341,2
49UP20150724_2,   P04,    12,  1,     32,     105,2,20150831,1210,1402,  9.5863, 145.3212, 4112,    101.4,      101,  16.5547,  34.6828,2,    125.5,2,  34.6852,2,   127.27,2,    13.22,2,    14.44,2,     0.11,2,    1.070,2, -999.000,9, -999.000,9,   -999.0,9,   -999.0,9,-999.0000,9,  -999.00,  -999.00,9,  -999.00,9,  16.5383,2,  25.3794,2,  16.4932,2
49UP20150724_2,   P04,    12,  1,     31,     515,2,20150831,1210,1401,  9.5863, 145.3212, 4112,    125.0,      124,  14.6518,  34.6262,2,    112.3,2,  34.6159,2,   115.08,2,    17.20,3,    18.00,2,     0.03,2,    1.310,2, -999.000,9, -999.000,9,   -999.0,9,   -999.0,9,-999.0000,9,  -999.00,  -999.00,9,  -999.00,9,  14.6333,2,  25.7634,2,  14.6340,2
49UP20150724_2,   P04,    12,  1,     30,     097,2,20150831,1210,1400,  9.5863, 145.3212, 4112,    151.1,      150,  12.7721,  34.5632,2,     96.0,2,  34.5629,2,    96.79,2,    24.19,2,    23.13,2,     0.01,2,    1.700,2, -999.000,9, -999.000,9,   -999.0,9,   -999.0,9,-999.0000,9,  -999.00,  -999.00,9,  -999.00,9,  12.7517,2,  26.1039,2,  12.7643,2
49UP20150724_2,   P04,    12,  1,     29,     102,2,20150831,1210,1358,  9.5863, 145.3212, 4112,    177.9,      177,  11.3110,  34.5456,2,     85.0,2,  34.5451,2,    85.10,2,    28.54,2,    26.38,2,     0.00,2,    1.900,2, -999.000,9, -999.000,9,   -999.0,9,   -999.0,9,-999.0000,9,  -999.00,  -999.00,9,  -999.00,9,  11.2888,2,  26.3691,2,  11.3113,2
49UP20150724_2,   P04,    12,  1,     28,     108,2,20150831,1210,1357,  9.5863, 145.3212, 4112,    203.1,      202,  10.3109,  34.5487,2,     75.0,2,  34.5481,6,    75.19,2,    32.20,2,    29.03,2,     0.01,2,    2.080,2, -999.000,9, -999.000,9,   -999.0,9,   -999.0,9,-999.0000,9,  -999.00,  -999.00,9,  -999.00,9,  10.2870,2,  26.5502,2,  10.3863,2
49UP20150724_2,   P04,    12,  1,     27,     998,2,20150831,1210,1355,  9.5863, 145.3212, 4112,    252.5,      251,   9.3066,  34.5504,2,     72.2,2,  34.5494,2,    72.07,2,    36.65,2,    31.34,2,     0.00,2,    2.230,2, -999.000,9, -999.000,9,   -999.0,9,   -999.0,9,-999.0000,9,  -999.00,  -999.00,9,  -999.00,9,   9.2787,2,  26.7211,2,   9.3054,2
49UP20150724_2,   P04,    12,  1,     26,     084,2,20150831,1210,1354,  9.5863, 145.3212, 4112,    282.6,      281,   9.1183,  34.5530,2,     73.6,2,  34.5529,2,    73.71,6,    37.54,2,    31.68,6,     0.00,6,    2.260,6, -999.000,9, -999.000,9,   -999.0,9,   -999.0,9,-999.0000,9,  -999.00,  -999.00,9,  -999.00,9,   9.0874,2,  26.7541,2,   9.1186,2
49UP20150724_2,   P04,    12,  1,     25,     098,2,20150831,1210,1351,  9.5863, 145.3212, 4112,    372.0,      370,   8.2542,  34.5369,2,     77.1,2,  34.5366,2,    76.94,2,    42.44,2,    32.92,2,     0.00,2,    2.340,2, -999.000,9, -999.000,9,   -999.0,9,   -999.0,9,-999.0000,9,  -999.00,  -999.00,9,  -999.00,9,   8.2157,2,  26.8776,2,   8.2572,2
49UP20150724_2,   P04,    12,  1,     24,     110,2,20150831,1210,1348,  9.5863, 145.3212, 4112,    473.4,      470,   7.5143,  34.5354,2,     91.4,2,  34.5346,2,    91.33,2,    45.55,2,    33.15,2,     0.00,2,    2.350,2, -999.000,9, -999.000,9,   -999.0,9,   -999.0,9,-999.0000,9,  -999.00,  -999.00,9,  -999.00,9,   7.4676,2,  26.9869,2,   7.5146,2
49UP20150724_2,   P04,    12,  1,     23,     096,2,20150831,1210,1345,  9.5863, 145.3212, 4112,    574.0,      570,   6.6895,  34.5130,2,     90.0,2,  34.5128,2,    89.94,2,    55.27,2,    34.58,2,     0.00,2,    2.470,2, -999.000,9, -999.000,9,   -999.0,9,   -999.0,9,-999.0000,9,  -999.00,  -999.00,9,  -999.00,9,   6.6361,2,  27.0847,2,   6.6908,2
49UP20150724_2,   P04,    12,  1,     22,     111,2,20150831,1210,1342,  9.5863, 145.3212, 4112,    674.8,      670,   6.2784,  34.5169,2,     91.1,2,  34.5174,2,    91.16,2,    60.61,2,    35.28,2,     0.00,2,    2.530,2, -999.000,9, -999.000,9,   -999.0,9,   -999.0,9,-999.0000,9,  -999.00,  -999.00,9,  -999.00,9,   6.2171,2,  27.1431,2,   6.2640,2
49UP20150724_2,   P04,    12,  1,     21,     078,2,20150831,1210,1337,  9.5863, 145.3212, 4112,    776.7,      771,   5.7437,  34.5281,2,     85.8,2,  34.5283,2,    85.40,2,    69.32,2,    36.65,2,     0.00,2,    2.630,2, -999.000,9, -999.000,9,   -999.0,9,   -999.0,9,-999.0000,9,  -999.00,  -999.00,9,  -999.00,9,   5.6758,2,  27.2203,2,   5.7439,2
49UP20150724_2,   P04,    12,  1,     20,     093,2,20150831,1210,1334,  9.5863, 145.3212, 4112,    877.8,      871,   5.2258,  34.5360,2,     86.0,2,  34.5355,2,    86.00,2,    78.27,2,    37.43,2,     0.00,2,    2.680,2, -999.000,9, -999.000,9,   -999.0,9,   -999.0,9,-999.0000,9,  -999.00,  -999.00,9,  -999.00,9,   5.1519,2,  27.2897,2,   5.2255,2
49UP20150724_2,   P04,    12,  1,     19,     092,2,20150831,1210,1332,  9.5863, 145.3212, 4112,    977.5,      970,   4.7885,  34.5443,2,     86.1,2,  34.5439,6,    86.06,2,    86.49,2,    37.87,2,     0.00,2,    2.720,2, -999.000,9, -999.000,9,   -999.0,9,   -999.0,9,-999.0000,9,  -999.00,  -999.00,9,  -999.00,9,   4.7087,2,  27.3471,2,   4.7875,2
49UP20150724_2,   P04,    12,  1,     18,     101,2,20150831,1210,1328,  9.5863, 145.3212, 4112,   1142.3,     1133,   4.0930,  34.5623,2,     89.3,2,  34.5621,2,    89.40,6,    99.69,6,    38.44,6,     0.00,6,    2.750,6, -999.000,9, -999.000,9,   -999.0,9,   -999.0,9,-999.0000,9,  -999.00,  -999.00,9,  -999.00,9,   4.0045,2,  27.4375,2,   4.0938,2
49UP20150724_2,   P04,    12,  1,     17,     090,2,20150831,1210,1323,  9.5863, 145.3212, 4112,   1342.9,     1331,   3.5719,  34.5774,2,     92.9,2,  34.5775,2,    92.81,2,   110.96,2,    38.65,2,     0.00,2,    2.760,2, -999.000,9, -999.000,9,   -999.0,9,   -999.0,9,-999.0000,9,  -999.00,  -999.00,9,  -999.00,9,   3.4711,2,  27.5032,2,   3.5721,2
49UP20150724_2,   P04,    12,  1,     16,     089,2,20150831,1210,1317,  9.5863, 145.3212, 4112,   1544.5,     1530,   2.9975,  34.5943,2,     97.0,2,  34.5942,2,    97.14,2,   123.63,2,    38.90,2,     0.00,2,    2.770,2, -999.000,9, -999.000,9,   -999.0,9,   -999.0,9,-999.0000,9,  -999.00,  -999.00,9,  -999.00,9,   2.8859,2,  27.5716,2,   2.9977,2
49UP20150724_2,   P04,    12,  1,     15,     088,2,20150831,1210,1317,  9.5863, 145.3212, 4112,   1545.1,     1531,   2.9956,  34.5944,2,     97.1,2,  34.5939,2,    97.17,2,   123.58,2,    38.88,2,     0.00,2,    2.770,2, -999.000,9, -999.000,9,   -999.0,9,   -999.0,9,-999.0000,9,  -999.00,  -999.00,9,  -999.00,9,   2.8840,2,  27.5718,2,   2.9967,2
49UP20150724_2,   P04,    12,  1,     14,     999,2,20150831,1210,1312,  9.5863, 145.3212, 4112,   1747.2,     1730,   2.6313,  34.6117,2,    104.2,2,  34.6121,2,   103.99,2,   130.53,2,    38.63,2,     0.00,2,    2.740,2, -999.000,9, -999.000,9,   -999.0,9,   -999.0,9,-999.0000,9,  -999.00,  -999.00,9,  -999.00,9,   2.5072,2,  27.6188,2,   2.6314,2
49UP20150724_2,   P04,    12,  1,     13,     667,2,20150831,1210,1308,  9.5863, 145.3212, 4112,   1949.1,     1929,   2.3904,  34.6239,2,    109.9,2,  34.6239,2,   109.90,2,   134.51,2,    38.39,2,     0.00,2,    2.730,2, -999.000,9, -999.000,9,   -999.0,9,   -999.0,9,-999.0000,9,  -999.00,  -999.00,9,  -999.00,9,   2.2525,2,  27.6500,2,   2.3906,2
49UP20150724_2,   P04,    12,  1,     12,     074,2,20150831,1210,1300,  9.5863, 145.3212, 4112,   2153.6,     2130,   2.1903,  34.6351,2,    115.4,2,  34.6355,2,   115.57,2,   138.09,2,    38.18,2,     0.00,2,    2.700,2, -999.000,9, -999.000,9,   -999.0,9,   -999.0,9,-999.0000,9,  -999.00,  -999.00,9,  -999.00,9,   2.0377,2,  27.6763,2,   2.1900,2
49UP20150724_2,   P04,    12,  1,     11,     268,2,20150831,1210,1255,  9.5863, 145.3212, 4112,   2356.7,     2330,   1.9788,  34.6463,2,    120.3,2,  34.6466,2,   120.08,2,   143.01,2,    37.92,2,     0.00,2,    2.670,2, -999.000,9, -999.000,9,   -999.0,9,   -999.0,9,-999.0000,9,  -999.00,  -999.00,9,  -999.00,9,   1.8118,2,  27.7030,2,   1.9788,2
49UP20150724_2,   P04,    12,  1,     10,     267,2,20150831,1210,1251,  9.5863, 145.3212, 4112,   2559.5,     2530,   1.8500,  34.6536,2,    125.3,2,  34.6537,2,   125.36,2,   144.84,2,    37.63,2,     0.00,2,    2.640,2, -999.000,9, -999.000,9,   -999.0,9,   -999.0,9,-999.0000,9,  -999.00,  -999.00,9,  -999.00,9,   1.6671,2,  27.7198,2,   1.8502,2
49UP20150724_2,   P04,    12,  1,      9,     518,2,20150831,1210,1244,  9.5863, 145.3212, 4112,   2764.4,     2731,   1.7386,  34.6604,2,    130.7,2,  34.6609,2,   130.83,2,   146.20,2,    37.29,2,     0.00,2,    2.610,2, -999.000,9, -999.000,9,   -999.0,9,   -999.0,9,-999.0000,9,  -999.00,  -999.00,9,  -999.00,9,   1.5390,2,  27.7348,2,   1.7387,2
49UP20150724_2,   P04,    12,  1,      8,     081,2,20150831,1210,1239,  9.5863, 145.3212, 4112,   2968.1,     2931,   1.6646,  34.6660,2,    135.6,2,  34.6661,2,   135.71,2,   142.81,4,    37.03,2,     0.00,2,    2.590,2, -999.000,9, -999.000,9,   -999.0,9,   -999.0,9,-999.0000,9,  -999.00,  -999.00,9,  -999.00,9,   1.4473,2,  27.7459,2,   1.6649,2
49UP20150724_2,   P04,    12,  1,      7,     516,2,20150831,1210,1234,  9.5863, 145.3212, 4112,   3212.9,     3171,   1.6204,  34.6701,2,    139.7,2,  34.6699,6,   139.83,2,   145.98,2,    36.78,2,     0.00,2,    2.570,2, -999.000,9, -999.000,9,   -999.0,9,   -999.0,9,-999.0000,9,  -999.00,  -999.00,9,  -999.00,9,   1.3802,2,  27.7541,2,   1.6197,2
49UP20150724_2,   P04,    12,  1,      6,     113,2,20150831,1210,1227,  9.5863, 145.3212, 4112,   3468.6,     3421,   1.5800,  34.6744,2,    143.4,2,  34.6742,2,   143.51,6,   145.65,6,    36.49,6,     0.00,6,    2.550,6, -999.000,9, -999.000,9,   -999.0,9,   -999.0,9,-999.0000,9,  -999.00,  -999.00,9,  -999.00,9,   1.3151,2,  27.7621,2,   1.5801,2
49UP20150724_2,   P04,    12,  1,      5,     658,2,20150831,1210,1222,  9.5863, 145.3212, 4112,   3725.0,     3672,   1.5198,  34.6802,2,    150.6,2,  34.6804,6,   150.55,2,   144.09,2,    36.00,2,     0.00,2,    2.510,2, -999.000,9, -999.000,9,   -999.0,9,   -999.0,9,-999.0000,9,  -999.00,  -999.00,9,  -999.00,9,   1.2298,2,  27.7727,2,   1.5197,2
49UP20150724_2,   P04,    12,  1,      4,     471,2,20150831,1210,1215,  9.5863, 145.3212, 4112,   3979.6,     3920,   1.5059,  34.6828,2,    154.2,2,  34.6831,6,   154.45,2,   142.92,3,    35.82,2,     0.00,2,    2.490,2, -999.000,9, -999.000,9,   -999.0,9,   -999.0,9,-999.0000,9,  -999.00,  -999.00,9,  -999.00,9,   1.1891,2,  27.7777,2,   1.5056,2
49UP20150724_2,   P04,    12,  1,      1,     997,2,20150831,1210,1211,  9.5863, 145.3212, 4112,   4152.3,     4089,   1.4757,  34.6864,2,    159.1,2,  34.6870,2,   159.02,2,   141.24,2,    35.48,2,     0.00,2,    2.470,2, -999.000,9, -999.000,9,   -999.0,9,   -999.0,9,-999.0000,9,  -999.00,  -999.00,9,  -999.00,9,   1.1408,2,  27.7839,2,   1.4762,2
49UP20150724_2,   P04,    12,  1,      2,     075,2,20150831,1210,1211,  9.5863, 145.3212, 4112,   4153.1,     4090,   1.4760,  34.6865,2,    159.1,2,  34.6867,2,   159.20,2,   140.00,3,    35.42,2,     0.00,2,    2.460,2, -999.000,9, -999.000,9,   -999.0,9,   -999.0,9,-999.0000,9,  -999.00,  -999.00,9,  -999.00,9,   1.1410,2,  27.7840,2,   1.4758,2