BOTTLE,20191113JMAGEMD
EXPOCODE,SECT_ID,STNNBR,CASTNO,SAMPNO,BTLNBR,BTLNBR_FLAG_U,DATE,TIME,BTL_TIME,LATITUDE,LONGITUDE,DEPTH,CTDPRS,CTDDEP,CTDTMP,CTDSAL,CTDSAL_FLAG_W,CTDOXY,CTDOXY_FLAG_W,SALNTY,SALNTY_FLAG_W,OXYGEN,OXYGEN_FLAG_W,SILCAT,SILCAT_FLAG_W,NO2+NO3,NO2+NO3_FLAG_W,NITRIT,NITRIT_FLAG_W,PHSPHT,PHSPHT_FLAG_W,CFC-11,CFC-11_FLAG_W,CFC-12,CFC-12_FLAG_W,TCARBN,TCARBN_FLAG_W,ALKALI,ALKALI_FLAG_W,PH_TS,PH_TS_FLAG_W,PH_TS_TMP,CHLORA,CHLORA_FLAG_W,PPHYTN,PPHYTN_FLAG_W,THETA,THETA_FLAG_W,SIGTHT,SIGTHT_FLAG_W,SBE35,SBE35_FLAG_W
,,,,,,,,UTC,,,,METER,DBAR,METERS,ITS-90,PSS-78,,UMOL/KG,,PSS78,,UMOL/KG,,UMOL/KG,,UMOL/KG,,UMOL/KG,,UMOL/KG,,PMOL/KG,,PMOL/KG,,UMOL/KG,,UMOL/KG,,,,ITS-90,UG/KG,,UG/KG,,ITS-90,,KG/M3,,ITS-90,
49UP20150724_1,   P04,    65,  1,      0,      -9,0,20150802,1208,1405,  8.9863, 178.9740, 5496,      0.0,        0,  29.4911,  33.8834,2,    197.5,2,-999.0000,9,   195.12,2,     1.05,2,     0.03,2,     0.00,2,    0.100,2, -999.000,9, -999.000,9,   -999.0,9,   -999.0,9,-999.0000,9,  -999.00,  -999.00,9,  -999.00,9,  29.4904,2,  21.0618,2,-999.0000,9
49UP20150724_1,   P04,    65,  1,     36,     109,2,20150802,1208,1426,  8.9863, 178.9740, 5496,     10.8,       11,  29.5277,  34.0005,2,    197.4,2,  33.9971,2,   194.90,2,     1.06,2,     0.01,2,     0.00,2,    0.080,2, -999.000,9, -999.000,9,   -999.0,9,   -999.0,9,-999.0000,9,  -999.00,  -999.00,9,  -999.00,9,  29.5250,2,  21.1379,2,  29.5253,2
49UP20150724_1,   P04,    65,  1,     35,     112,2,20150802,1208,1425,  8.9863, 178.9740, 5496,     26.4,       26,  29.4829,  34.0145,2,    197.5,2,  34.0123,2,   195.72,2,     1.01,2,     0.02,2,     0.00,2,    0.080,2, -999.000,9, -999.000,9,   -999.0,9,   -999.0,9,-999.0000,9,  -999.00,  -999.00,9,  -999.00,9,  29.4765,2,  21.1648,2,  29.4808,2
49UP20150724_1,   P04,    65,  1,     34,     083,2,20150802,1208,1421,  8.9863, 178.9740, 5496,     50.1,       50,  29.1143,  34.1425,2,    201.4,2,  34.1889,4,   200.12,2,     1.11,2,     0.01,2,     0.00,2,    0.100,2, -999.000,9, -999.000,9,   -999.0,9,   -999.0,9,-999.0000,9,  -999.00,  -999.00,9,  -999.00,9,  29.1021,2,  21.3863,2,  29.2022,2
49UP20150724_1,   P04,    65,  1,     33,     469,2,20150802,1208,1420,  8.9863, 178.9740, 5496,     75.9,       75,  23.5413,  34.9646,2,    215.7,2,  34.9655,2,   216.37,2,     1.85,2,     0.00,2,     0.00,2,    0.190,2, -999.000,9, -999.000,9,   -999.0,9,   -999.0,9,-999.0000,9,  -999.00,  -999.00,9,  -999.00,9,  23.5255,2,  23.7541,2,  23.5379,2
49UP20150724_1,   P04,    65,  1,     32,     105,2,20150802,1208,1419,  8.9863, 178.9740, 5496,    101.4,      101,  16.1699,  34.5860,2,    167.4,2,  34.5723,4,   166.93,2,     6.93,2,     9.07,2,     0.35,2,    0.750,2, -999.000,9, -999.000,9,   -999.0,9,   -999.0,9,-999.0000,9,  -999.00,  -999.00,9,  -999.00,9,  16.1538,2,  25.3939,2,  16.1707,2
49UP20150724_1,   P04,    65,  1,     31,     515,2,20150802,1208,1418,  8.9863, 178.9740, 5496,    125.2,      124,  12.6238,  34.3986,2,     99.7,2,  34.4011,2,    98.91,2,    19.81,2,    21.11,2,     0.05,2,    1.650,2, -999.000,9, -999.000,9,   -999.0,9,   -999.0,9,-999.0000,9,  -999.00,  -999.00,9,  -999.00,9,  12.6071,2,  26.0047,2,  12.6415,2
49UP20150724_1,   P04,    65,  1,     30,     097,2,20150802,1208,1416,  8.9863, 178.9740, 5496,    151.7,      151,  11.4775,  34.5140,2,     44.8,2,  34.5163,2,    44.31,6,    26.73,6,    28.92,6,     0.01,6,    2.210,6, -999.000,9, -999.000,9,   -999.0,9,   -999.0,9,-999.0000,9,  -999.00,  -999.00,9,  -999.00,9,  11.4585,2,  26.3133,2,  11.4743,2
49UP20150724_1,   P04,    65,  1,     29,     102,2,20150802,1208,1415,  8.9863, 178.9740, 5496,    202.5,      201,  10.5752,  34.6628,2,     13.6,2,  34.6626,6,    13.24,2,    31.74,2,    34.32,2,     0.00,2,    2.500,2, -999.000,9, -999.000,9,   -999.0,9,   -999.0,9,-999.0000,9,  -999.00,  -999.00,9,  -999.00,9,  10.5509,2,  26.5931,2,  10.5741,2
49UP20150724_1,   P04,    65,  1,     28,     108,2,20150802,1208,1413,  8.9863, 178.9740, 5496,    251.9,      250,  10.0711,  34.6745,2,     12.3,2,  34.6725,2,    13.42,2,    33.80,2,    35.46,2,     0.00,2,    2.560,2, -999.000,9, -999.000,9,   -999.0,9,   -999.0,9,-999.0000,9,  -999.00,  -999.00,9,  -999.00,9,  10.0418,2,  26.6906,2,  10.0729,2
49UP20150724_1,   P04,    65,  1,     27,     998,2,20150802,1208,1411,  8.9863, 178.9740, 5496,    333.9,      332,   9.3150,  34.6407,2,     17.8,2,  34.6401,2,    18.70,2,    37.40,2,    36.12,2,     0.00,2,    2.620,2, -999.000,9, -999.000,9,   -999.0,9,   -999.0,9,-999.0000,9,  -999.00,  -999.00,9,  -999.00,9,   9.2779,2,  26.7919,2,   9.3149,2
49UP20150724_1,   P04,    65,  1,     26,     084,2,20150802,1208,1408,  8.9863, 178.9740, 5496,    435.2,      432,   8.4336,  34.5964,2,     20.4,2,  34.5959,2,    19.94,2,    44.24,2,    37.32,2,     0.00,2,    2.750,2, -999.000,9, -999.000,9,   -999.0,9,   -999.0,9,-999.0000,9,  -999.00,  -999.00,9,  -999.00,9,   8.3877,2,  26.8981,2,   8.4324,2
49UP20150724_1,   P04,    65,  1,     25,     098,2,20150802,1208,1406,  8.9863, 178.9740, 5496,    534.3,      531,   7.4641,  34.5561,2,     27.4,2,  34.5547,2,    26.85,2,    53.36,2,    38.78,2,     0.00,2,    2.860,2, -999.000,9, -999.000,9,   -999.0,9,   -999.0,9,-999.0000,9,  -999.00,  -999.00,9,  -999.00,9,   7.4113,2,  27.0113,2,   7.4648,2
49UP20150724_1,   P04,    65,  1,     24,     110,2,20150802,1208,1403,  8.9863, 178.9740, 5496,    635.4,      631,   6.4780,  34.5361,2,     27.0,2,  34.5360,2,    27.10,2,    64.60,2,    40.92,2,     0.00,2,    2.990,2, -999.000,9, -999.000,9,   -999.0,9,   -999.0,9,-999.0000,9,  -999.00,  -999.00,9,  -999.00,9,   6.4196,2,  27.1318,2,   6.4781,2
49UP20150724_1,   P04,    65,  1,     23,     096,2,20150802,1208,1401,  8.9863, 178.9740, 5496,    736.3,      731,   5.7329,  34.5365,2,     35.4,2,  34.5357,2,    35.76,2,    73.73,2,    41.78,2,     0.00,2,    3.010,2, -999.000,9, -999.000,9,   -999.0,9,   -999.0,9,-999.0000,9,  -999.00,  -999.00,9,  -999.00,9,   5.6688,2,  27.2279,2,   5.7382,2
49UP20150724_1,   P04,    65,  1,     22,     111,2,20150802,1208,1358,  8.9863, 178.9740, 5496,    836.4,      830,   5.1090,  34.5413,2,     45.7,2,  34.5421,2,    45.33,2,    83.19,2,    41.98,2,     0.00,2,    3.010,2, -999.000,9, -999.000,9,   -999.0,9,   -999.0,9,-999.0000,9,  -999.00,  -999.00,9,  -999.00,9,   5.0396,2,  27.3070,2,   5.1066,2
49UP20150724_1,   P04,    65,  1,     21,     078,2,20150802,1208,1356,  8.9863, 178.9740, 5496,    938.8,      931,   4.5450,  34.5518,2,     56.8,2,  34.5511,2,    56.45,2,    92.92,2,    41.40,2,     0.00,2,    2.980,2, -999.000,9, -999.000,9,   -999.0,9,   -999.0,9,-999.0000,9,  -999.00,  -999.00,9,  -999.00,9,   4.4704,2,  27.3795,2,   4.5448,2
49UP20150724_1,   P04,    65,  1,     20,     093,2,20150802,1208,1352,  8.9863, 178.9740, 5496,   1080.9,     1072,   3.9851,  34.5663,2,     71.7,2,  34.5660,2,    71.73,2,   103.27,2,    40.53,2,     0.00,2,    2.900,2, -999.000,9, -999.000,9,   -999.0,9,   -999.0,9,-999.0000,9,  -999.00,  -999.00,9,  -999.00,9,   3.9026,2,  27.4512,2,   3.9852,2
49UP20150724_1,   P04,    65,  1,     19,     092,2,20150802,1208,1348,  8.9863, 178.9740, 5496,   1282.3,     1271,   3.4566,  34.5841,2,     78.2,2,  34.5839,2,    78.20,2,   114.10,2,    40.46,2,     0.00,2,    2.900,2, -999.000,9, -999.000,9,   -999.0,9,   -999.0,9,-999.0000,9,  -999.00,  -999.00,9,  -999.00,9,   3.3621,2,  27.5191,2,   3.4570,2
49UP20150724_1,   P04,    65,  1,     18,     101,2,20150802,1208,1343,  8.9863, 178.9740, 5496,   1484.8,     1471,   3.0054,  34.5986,2,     84.7,2,  34.5994,2,    84.55,2,   124.29,2,    40.13,2,     0.00,2,    2.870,2, -999.000,9, -999.000,9,   -999.0,9,   -999.0,9,-999.0000,9,  -999.00,  -999.00,9,  -999.00,9,   2.8987,2,  27.5739,2,   3.0080,2
49UP20150724_1,   P04,    65,  1,     17,     090,3,20150802,1208,1338,  8.9863, 178.9740, 5496,   1688.4,     1672,   2.7007,  34.6120,2,     90.0,2,  34.6127,2,    90.20,2,   131.40,2,    39.92,2,     0.00,2,    2.850,2, -999.000,9, -999.000,9,   -999.0,9,   -999.0,9,-999.0000,9,  -999.00,  -999.00,9,  -999.00,9,   2.5807,2,  27.6127,2,   2.7005,2
49UP20150724_1,   P04,    65,  1,     16,     089,2,20150802,1208,1334,  8.9863, 178.9740, 5496,   1890.4,     1871,   2.4269,  34.6254,2,     95.8,2,  34.6256,2,    95.99,6,   137.83,6,    39.68,6,     0.00,6,    2.820,6, -999.000,9, -999.000,9,   -999.0,9,   -999.0,9,-999.0000,9,  -999.00,  -999.00,9,  -999.00,9,   2.2934,2,  27.6478,2,   2.4270,2
49UP20150724_1,   P04,    65,  1,     15,     088,2,20150802,1208,1329,  8.9863, 178.9740, 5496,   2094.4,     2072,   2.1837,  34.6388,2,    102.5,2,  34.6381,2,   102.35,2,   142.92,2,    39.28,2,     0.00,2,    2.780,2, -999.000,9, -999.000,9,   -999.0,9,   -999.0,9,-999.0000,9,  -999.00,  -999.00,9,  -999.00,9,   2.0363,2,  27.6794,2,   2.1837,2
49UP20150724_1,   P04,    65,  1,     14,     999,2,20150802,1208,1324,  8.9863, 178.9740, 5496,   2297.1,     2272,   2.0465,  34.6474,2,    107.7,2,  34.6481,2,   107.50,2,   146.46,2,    39.00,2,     0.00,2,    2.750,2, -999.000,9, -999.000,9,   -999.0,9,   -999.0,9,-999.0000,9,  -999.00,  -999.00,9,  -999.00,9,   1.8836,2,  27.6983,2,   2.0467,2
49UP20150724_1,   P04,    65,  1,     13,     667,2,20150802,1208,1319,  8.9863, 178.9740, 5496,   2500.7,     2472,   1.9300,  34.6559,2,    112.7,2,  34.6562,2,   112.53,2,   148.78,2,    38.68,2,     0.00,2,    2.730,2, -999.000,9, -999.000,9,   -999.0,9,   -999.0,9,-999.0000,9,  -999.00,  -999.00,9,  -999.00,9,   1.7510,2,  27.7153,2,   1.9299,2
49UP20150724_1,   P04,    65,  1,     12,     074,2,20150802,1208,1314,  8.9863, 178.9740, 5496,   2704.3,     2672,   1.8289,  34.6618,2,    118.5,2,  34.6621,2,   118.78,2,   149.51,2,    38.22,2,     0.00,2,    2.680,2, -999.000,9, -999.000,9,   -999.0,9,   -999.0,9,-999.0000,9,  -999.00,  -999.00,9,  -999.00,9,   1.6331,2,  27.7290,2,   1.8288,2
49UP20150724_1,   P04,    65,  1,     11,     268,3,20150802,1208,1309,  8.9863, 178.9740, 5496,   2907.2,     2871,   1.7544,  34.6664,2,    123.2,2,  34.6663,2,   123.17,6,   150.68,6,    37.99,6,     0.00,6,    2.660,6, -999.000,9, -999.000,9,   -999.0,9,   -999.0,9,-999.0000,9,  -999.00,  -999.00,9,  -999.00,9,   1.5410,2,  27.7394,2,   1.7545,2
49UP20150724_1,   P04,    65,  1,     10,     267,3,20150802,1208,1304,  8.9863, 178.9740, 5496,   3121.8,     3081,   1.6747,  34.6717,2,    129.6,2,  34.6712,2,   129.84,2,   150.54,2,    37.59,2,     0.00,2,    2.630,2, -999.000,9, -999.000,9,   -999.0,9,   -999.0,9,-999.0000,9,  -999.00,  -999.00,9,  -999.00,9,   1.4423,2,  27.7509,2,   1.6747,2
49UP20150724_1,   P04,    65,  1,      9,     518,2,20150802,1208,1259,  8.9863, 178.9740, 5496,   3375.6,     3330,   1.5971,  34.6773,2,    137.4,2,  34.6766,2,   137.62,2,   149.32,2,    37.07,2,     0.00,2,    2.580,2, -999.000,9, -999.000,9,   -999.0,9,   -999.0,9,-999.0000,9,  -999.00,  -999.00,9,  -999.00,9,   1.3412,2,  27.7626,2,   1.5973,2
49UP20150724_1,   P04,    65,  1,      8,     081,2,20150802,1208,1254,  8.9863, 178.9740, 5496,   3631.6,     3580,   1.5179,  34.6825,2,    146.0,2,  34.6828,2,   145.84,2,   147.56,2,    36.53,2,     0.00,2,    2.540,2, -999.000,9, -999.000,9,   -999.0,9,   -999.0,9,-999.0000,9,  -999.00,  -999.00,9,  -999.00,9,   1.2377,2,  27.7741,2,   1.5178,2
49UP20150724_1,   P04,    65,  1,      7,     516,2,20150802,1208,1242,  8.9863, 178.9740, 5496,   4144.5,     4081,   1.3898,  34.6922,2,    164.2,2,  34.6922,2,   164.10,2,   140.19,2,    35.20,2,     0.00,2,    2.430,2, -999.000,9, -999.000,9,   -999.0,9,   -999.0,9,-999.0000,9,  -999.00,  -999.00,9,  -999.00,9,   1.0582,2,  27.7941,2,   1.3898,2
49UP20150724_1,   P04,    65,  1,      6,     113,2,20150802,1208,1236,  8.9863, 178.9740, 5496,   4400.5,     4331,   1.3346,  34.6969,2,    173.7,2,  34.6970,2,   173.77,2,   134.97,2,    34.51,2,     0.00,2,    2.380,2, -999.000,9, -999.000,9,   -999.0,9,   -999.0,9,-999.0000,9,  -999.00,  -999.00,9,  -999.00,9,   0.9760,2,  27.8034,2,   1.3347,2
49UP20150724_1,   P04,    65,  1,      5,     094,2,20150802,1208,1231,  8.9863, 178.9740, 5496,   4656.7,     4580,   1.3024,  34.7004,2,    181.1,2,  34.7000,2,   181.13,2,   130.71,2,    33.98,2,     0.00,2,    2.340,2, -999.000,9, -999.000,9,   -999.0,9,   -999.0,9,-999.0000,9,  -999.00,  -999.00,9,  -999.00,9,   0.9154,2,  27.8102,2,   1.3026,2
49UP20150724_1,   P04,    65,  1,      4,     077,2,20150802,1208,1225,  8.9863, 178.9740, 5496,   4913.8,     4831,   1.3051,  34.7019,2,    184.7,2,  34.7020,2,   184.67,2,   128.54,2,    33.71,2,     0.00,2,    2.320,2, -999.000,9, -999.000,9,   -999.0,9,   -999.0,9,-999.0000,9,  -999.00,  -999.00,9,  -999.00,9,   0.8877,2,  27.8132,2,   1.3053,2
49UP20150724_1,   P04,    65,  1,      3,     104,2,20150802,1208,1219,  8.9863, 178.9740, 5496,   5172.2,     5082,   1.3147,  34.7029,2,    187.6,2,  34.7026,2,   187.78,6,   126.97,6,    33.49,6,     0.00,6,    2.320,6, -999.000,9, -999.000,9,   -999.0,9,   -999.0,9,-999.0000,9,  -999.00,  -999.00,9,  -999.00,9,   0.8657,2,  27.8154,2,   1.3146,2
49UP20150724_1,   P04,    65,  1,      2,     075,2,20150802,1208,1214,  8.9863, 178.9740, 5496,   5428.6,     5331,   1.3418,  34.7030,2,    188.2,2,  34.7026,2,   188.51,2,   126.69,2,    33.43,2,     0.00,2,    2.310,2, -999.000,9, -999.000,9,   -999.0,9,   -999.0,9,-999.0000,9,  -999.00,  -999.00,9,  -999.00,9,   0.8599,2,  27.8159,2,   1.3417,2
49UP20150724_1,   P04,    65,  1,      1,     997,2,20150802,1208,1209,  8.9863, 178.9740, 5496,   5649.6,     5545,   1.3631,  34.7033,2,    189.3,2,  34.7033,6,   189.06,2,   126.32,2,    33.38,2,     0.00,2,    2.310,2, -999.000,9, -999.000,9,   -999.0,9,   -999.0,9,-999.0000,9,  -999.00,  -999.00,9,  -999.00,9,   0.8523,2,  27.8166,2,   1.3629,2