BOTTLE,20191113JMAGEMD
EXPOCODE,SECT_ID,STNNBR,CASTNO,SAMPNO,BTLNBR,BTLNBR_FLAG_U,DATE,TIME,BTL_TIME,LATITUDE,LONGITUDE,DEPTH,CTDPRS,CTDDEP,CTDTMP,CTDSAL,CTDSAL_FLAG_W,CTDOXY,CTDOXY_FLAG_W,SALNTY,SALNTY_FLAG_W,OXYGEN,OXYGEN_FLAG_W,SILCAT,SILCAT_FLAG_W,NO2+NO3,NO2+NO3_FLAG_W,NITRIT,NITRIT_FLAG_W,PHSPHT,PHSPHT_FLAG_W,CFC-11,CFC-11_FLAG_W,CFC-12,CFC-12_FLAG_W,TCARBN,TCARBN_FLAG_W,ALKALI,ALKALI_FLAG_W,PH_TS,PH_TS_FLAG_W,PH_TS_TMP,CHLORA,CHLORA_FLAG_W,PPHYTN,PPHYTN_FLAG_W,THETA,THETA_FLAG_W,SIGTHT,SIGTHT_FLAG_W,SBE35,SBE35_FLAG_W
,,,,,,,,UTC,,,,METER,DBAR,METERS,ITS-90,PSS-78,,UMOL/KG,,PSS78,,UMOL/KG,,UMOL/KG,,UMOL/KG,,UMOL/KG,,UMOL/KG,,PMOL/KG,,PMOL/KG,,UMOL/KG,,UMOL/KG,,,,ITS-90,UG/KG,,UG/KG,,ITS-90,,KG/M3,,ITS-90,
49UP20150724_1,   P04,    66,  1,      0,      -9,0,20150802,0501,0659,  9.4928, 178.7993, 5590,      0.0,        0,  29.8990,  33.9359,2,    196.6,2,  33.9369,2,   194.60,2,     1.08,2,     0.05,2,     0.00,2,    0.130,2, -999.000,9, -999.000,9,   1900.0,2,   2227.8,2,   8.1201,2,    25.00,     0.04,2,     0.01,2,  29.8983,2,  20.9632,2,-999.0000,9
49UP20150724_1,   P04,    66,  1,     36,     109,2,20150802,0501,0727,  9.4928, 178.7993, 5590,     11.1,       11,  29.3759,  33.9155,2,    196.8,2,  33.9181,2,   194.75,2,     1.03,2,     0.02,2,     0.00,2,    0.100,2,    1.499,2,    0.912,2,   1901.2,2,   2225.7,2,   8.1176,2,    25.00,     0.04,2,     0.02,2,  29.3732,2,  21.1253,2,  29.3719,2
49UP20150724_1,   P04,    66,  1,     35,     112,2,20150802,0501,0724,  9.4928, 178.7993, 5590,     50.6,       50,  26.5494,  34.5359,2,    214.1,2,  34.5472,4,   213.90,2,     1.39,2,     0.01,2,     0.00,2,    0.160,2, -999.000,9, -999.000,9,   1964.3,2,   2272.4,3,   8.0743,2,    25.00,     0.08,2,     0.04,2,  26.5380,2,  22.5147,2,  26.5343,2
49UP20150724_1,   P04,    66,  1,     34,     083,2,20150802,0501,0723,  9.4928, 178.7993, 5590,     76.6,       76,  19.9416,  34.8111,2,    201.0,2,  34.8211,4,   203.20,2,     2.37,2,     0.25,2,     0.01,2,    0.310,2, -999.000,9, -999.000,9,   2060.3,2,   2298.6,2,   7.9534,3,    25.00,     0.24,2,     0.26,2,  19.9275,2,  24.6367,2,  19.8222,2
49UP20150724_1,   P04,    66,  1,     33,     469,2,20150802,0501,0722,  9.4928, 178.7993, 5590,    101.7,      101,  15.5744,  34.5257,2,    151.2,2,  34.5114,4,   147.18,2,     9.90,2,    12.02,2,     0.19,2,    0.990,2,    2.317,2,    1.405,2,   2117.4,2,   2276.4,2,   7.7799,2,    25.00,     0.30,2,     0.31,2,  15.5587,2,  25.4825,2,  15.5965,2
49UP20150724_1,   P04,    66,  1,     32,     105,2,20150802,0501,0721,  9.4928, 178.7993, 5590,    126.2,      125,  12.6276,  34.3357,2,    120.4,2,  34.3369,2,   120.00,2,    17.40,2,    18.92,2,     0.03,2,    1.490,2, -999.000,9, -999.000,9,   2154.7,2,   2265.7,2,   7.6630,2,    25.00,     0.08,2,     0.22,2,  12.6107,2,  25.9552,2,  12.6210,2
49UP20150724_1,   P04,    66,  1,     31,     515,2,20150802,0501,0720,  9.4928, 178.7993, 5590,    152.6,      152,  11.4132,  34.5208,2,     44.0,2,  34.5246,2,    43.31,2,    27.14,2,    29.18,2,     0.01,2,    2.220,2, -999.000,9, -999.000,9,   2229.0,2,   2283.4,2,   7.5029,2,    25.00,     0.03,2,     0.09,2,  11.3941,2,  26.3305,2,  11.4190,2
49UP20150724_1,   P04,    66,  1,     30,     097,2,20150802,0501,0718,  9.4928, 178.7993, 5590,    202.8,      202,  10.5437,  34.6752,2,     11.7,2,  34.6749,2,    11.24,6,    31.93,6,    34.70,6,     0.00,6,    2.520,6,    0.542,2,    0.297,2,   2265.6,2,   2296.9,2,   7.4388,2,    25.00,     0.00,2,     0.04,2,  10.5195,2,  26.6083,2,  10.5463,2
49UP20150724_1,   P04,    66,  1,     29,     102,2,20150802,0501,0716,  9.4928, 178.7993, 5590,    251.2,      250,  10.0794,  34.6718,2,     12.8,2,  34.6710,6,    12.53,2,    33.75,2,    35.49,2,     0.00,2,    2.550,2, -999.000,9, -999.000,9,   2268.4,2,   2298.1,2,   7.4315,2,    25.00,  -999.00,9,  -999.00,9,  10.0502,2,  26.6871,2,  10.0784,2
49UP20150724_1,   P04,    66,  1,     28,     108,3,20150802,0501,0715,  9.4928, 178.7993, 5590,    301.0,      299,   9.5784,  34.6493,2,     15.6,2,  34.6482,2,    17.50,2,    36.38,2,    35.92,2,     0.00,2,    2.600,2,    0.290,2,    0.156,2,   2270.0,2,   2302.2,2,   7.4296,2,    25.00,  -999.00,9,  -999.00,9,   9.5444,2,  26.7548,2,   9.5746,2
49UP20150724_1,   P04,    66,  1,     27,     998,2,20150802,0501,0712,  9.4928, 178.7993, 5590,    401.8,      399,   8.7329,  34.6094,2,     18.2,2,  34.6090,2,    18.27,2,    42.16,2,    37.01,2,     0.00,2,    2.720,2,    0.153,2,    0.077,2,   2279.5,2,   2305.1,2,   7.4205,2,    25.00,  -999.00,9,  -999.00,9,   8.6897,2,  26.8614,2,   8.7323,2
49UP20150724_1,   P04,    66,  1,     26,     084,2,20150802,0501,0709,  9.4928, 178.7993, 5590,    503.7,      500,   7.8913,  34.5717,2,     27.0,2,  34.5713,2,    26.55,2,    48.49,2,    37.90,2,     0.00,2,    2.790,2,    0.106,2,    0.051,2,   2281.9,2,   2310.9,2,   7.4214,2,    25.00,  -999.00,9,  -999.00,9,   7.8400,2,  26.9612,2,   7.8914,2
49UP20150724_1,   P04,    66,  1,     25,     098,2,20150802,0501,0707,  9.4928, 178.7993, 5590,    605.3,      601,   6.8288,  34.5414,2,     24.6,2,  34.5414,2,    24.26,2,    60.45,2,    40.33,2,     0.00,2,    2.960,2,    0.036,2,    0.006,2,   2299.3,2,   2322.8,2,   7.4044,2,    25.00,  -999.00,9,  -999.00,9,   6.7717,2,  27.0888,2,   6.8281,2
49UP20150724_1,   P04,    66,  1,     24,     110,2,20150802,0501,0702,  9.4928, 178.7993, 5590,    707.4,      702,   6.0072,  34.5364,2,     31.3,2,  34.5360,2,    31.06,2,    69.79,2,    41.63,2,     0.00,2,    3.010,2,    0.034,6,    0.002,6,   2312.9,2,   2331.6,2,   7.4043,2,    25.00,  -999.00,9,  -999.00,9,   5.9442,2,  27.1934,2,   6.0083,2
49UP20150724_1,   P04,    66,  1,     23,     096,2,20150802,0501,0659,  9.4928, 178.7993, 5590,    808.4,      802,   5.4210,  34.5388,2,     41.2,2,  34.5385,2,    41.22,2,    77.76,2,    41.89,2,     0.00,2,    3.010,2, -999.000,9, -999.000,9,   2310.7,2,   2341.6,3,   7.4170,2,    25.00,  -999.00,9,  -999.00,9,   5.3521,2,  27.2682,2,   5.4208,2
49UP20150724_1,   P04,    66,  1,     22,     111,2,20150802,0501,0656,  9.4928, 178.7993, 5590,    909.4,      902,   5.0027,  34.5437,2,     45.7,2,  34.5436,2,    45.19,2,    84.74,2,    42.12,2,     0.00,2,    3.020,2, -999.000,9, -999.000,9,   2319.1,2,   2347.8,2,   7.4236,2,    25.00,  -999.00,9,  -999.00,9,   4.9274,2,  27.3219,2,   5.0023,2
49UP20150724_1,   P04,    66,  1,     21,     078,2,20150802,0501,0653,  9.4928, 178.7993, 5590,   1011.1,     1003,   4.4946,  34.5534,2,     57.4,2,  34.5536,2,    57.23,2,    93.91,2,    41.52,2,     0.00,2,    2.970,2, -999.000,9, -999.000,9,   2325.0,2,   2359.5,6,   7.4365,2,    25.00,  -999.00,9,  -999.00,9,   4.4141,2,  27.3869,2,   4.4937,2
49UP20150724_1,   P04,    66,  1,     20,     093,2,20150802,0501,0648,  9.4928, 178.7993, 5590,   1213.2,     1203,   3.7329,  34.5741,2,     75.2,2,  34.5748,2,    74.81,2,   108.40,2,    40.57,2,     0.00,2,    2.900,2, -999.000,9, -999.000,9,   2332.6,2,   2376.2,2,   7.4706,6,    25.00,  -999.00,9,  -999.00,9,   3.6415,2,  27.4838,2,   3.7330,2
49UP20150724_1,   P04,    66,  1,     19,     092,2,20150802,0501,0643,  9.4928, 178.7993, 5590,   1415.2,     1402,   3.2926,  34.5902,2,     81.2,2,  34.5901,2,    81.28,2,   117.51,2,    40.41,2,     0.00,2,    2.890,2, -999.000,9, -999.000,9,   2336.6,2,   2384.6,2,   7.4766,2,    25.00,  -999.00,9,  -999.00,9,   3.1886,2,  27.5404,2,   3.2925,2
49UP20150724_1,   P04,    66,  1,     18,     101,2,20150802,0501,0638,  9.4928, 178.7993, 5590,   1616.3,     1601,   2.8508,  34.6048,2,     87.0,2,  34.6052,2,    87.05,2,   128.17,2,    40.13,2,     0.00,2,    2.860,2, -999.000,9, -999.000,9,   2343.5,2,   2395.0,2,   7.4857,2,    25.00,  -999.00,9,  -999.00,9,   2.7349,2,  27.5935,2,   2.8505,2
49UP20150724_1,   P04,    66,  1,     17,     090,3,20150802,0501,0633,  9.4928, 178.7993, 5590,   1820.1,     1802,   2.4956,  34.6215,2,     94.5,2,  34.6214,2,    94.59,2,   136.03,2,    39.85,2,     0.00,2,    2.820,2, -999.000,9, -999.000,9,   2350.4,2,   2405.1,2,   7.4960,2,    25.00,  -999.00,9,  -999.00,9,   2.3672,2,  27.6385,2,   2.4958,2
49UP20150724_1,   P04,    66,  1,     16,     089,3,20150802,0501,0628,  9.4928, 178.7993, 5590,   2022.1,     2001,   2.2535,  34.6352,2,    100.8,2,  34.6352,2,   100.63,6,   141.50,6,    39.42,6,     0.00,6,    2.780,6, -999.000,9, -999.000,9,   2354.7,3,   2411.7,2,   7.5107,2,    25.00,  -999.00,9,  -999.00,9,   2.1113,2,  27.6705,2,   2.2537,2
49UP20150724_1,   P04,    66,  1,     15,     088,2,20150802,0501,0623,  9.4928, 178.7993, 5590,   2226.4,     2202,   2.0817,  34.6445,2,    106.2,2,  34.6450,6,   106.06,2,   145.37,2,    39.07,2,     0.00,2,    2.750,2, -999.000,9, -999.000,9,   2351.1,2,   2417.5,2,   7.5216,2,    25.00,  -999.00,9,  -999.00,9,   1.9245,2,  27.6928,2,   2.0814,2
49UP20150724_1,   P04,    66,  1,     14,     999,2,20150802,0501,0618,  9.4928, 178.7993, 5590,   2429.3,     2402,   1.9678,  34.6522,2,    111.3,2,  34.6517,2,   111.32,2,   147.50,2,    38.76,2,     0.00,2,    2.720,2, -999.000,9, -999.000,9,   2347.0,2,   2419.0,2,   7.5260,2,    25.00,  -999.00,9,  -999.00,9,   1.7945,2,  27.7091,2,   1.9677,2
49UP20150724_1,   P04,    66,  1,     13,     667,2,20150802,0501,0613,  9.4928, 178.7993, 5590,   2632.2,     2601,   1.8625,  34.6595,2,    116.2,2,  34.6588,2,   116.19,2,   149.31,2,    38.39,2,     0.00,2,    2.700,2,    0.010,2,    0.003,2,   2348.8,2,   2421.0,2,   7.5351,2,    25.00,  -999.00,9,  -999.00,9,   1.6727,2,  27.7241,2,   1.8626,2
49UP20150724_1,   P04,    66,  1,     12,     074,2,20150802,0501,0609,  9.4928, 178.7993, 5590,   2836.2,     2801,   1.7845,  34.6645,2,    120.7,2,  34.6640,2,   120.56,2,   150.83,2,    38.19,2,     0.00,2,    2.670,2,    0.004,2,    0.000,2,   2346.4,2,   2422.6,2,   7.5763,4,    25.00,  -999.00,9,  -999.00,9,   1.5772,2,  27.7352,2,   1.7846,2
49UP20150724_1,   P04,    66,  1,     11,     268,2,20150802,0501,0604,  9.4928, 178.7993, 5590,   3041.4,     3003,   1.7104,  34.6695,2,    126.7,2,  34.6694,2,   126.77,2,   150.84,2,    37.79,2,     0.00,2,    2.630,2,    0.005,2,    0.000,2,   2344.3,6,   2422.7,6,   7.5398,4,    25.00,  -999.00,9,  -999.00,9,   1.4850,2,  27.7460,2,   1.7104,2
49UP20150724_1,   P04,    66,  1,     10,     267,2,20150802,0501,0553,  9.4928, 178.7993, 5590,   3550.5,     3501,   1.5430,  34.6806,2,    141.8,2,  34.6791,2,   141.96,2,   149.47,2,    36.77,2,     0.00,2,    2.560,2,    0.010,2,    0.000,2,   2334.4,2,   2419.0,2,   7.5713,2,    25.00,  -999.00,9,  -999.00,9,   1.2706,2,  27.7702,2,   1.5430,2
49UP20150724_1,   P04,    66,  1,      9,     518,3,20150802,0501,0547,  9.4928, 178.7993, 5590,   3806.8,     3752,   1.4743,  34.6856,2,    150.9,2,  34.6852,2,   150.83,2,   146.28,2,    36.08,2,     0.00,2,    2.510,2,    0.007,2,    0.000,2,   2335.6,3,   2415.7,2,   7.5840,2,    25.00,  -999.00,9,  -999.00,9,   1.1769,2,  27.7807,2,   1.4742,2
49UP20150724_1,   P04,    66,  1,      8,     081,3,20150802,0501,0541,  9.4928, 178.7993, 5590,   4063.0,     4002,   1.4155,  34.6900,2,    159.8,2,  34.6898,2,   159.99,6,   142.59,6,    35.44,6,     0.00,6,    2.460,6,    0.007,2,    0.000,2,   2320.3,2,   2409.8,2,   7.5935,2,    25.00,  -999.00,9,  -999.00,9,   1.0921,2,  27.7901,2,   1.4156,2
49UP20150724_1,   P04,    66,  1,      7,     516,2,20150802,0501,0535,  9.4928, 178.7993, 5590,   4319.2,     4252,   1.3529,  34.6956,2,    171.0,2,  34.6954,6,   170.96,2,   136.30,2,    34.63,2,     0.00,2,    2.400,2,    0.006,2,    0.000,2,   2320.5,3,   2403.1,2,   7.6072,2,    25.00,  -999.00,9,  -999.00,9,   1.0030,2,  27.8006,2,   1.3530,2
49UP20150724_1,   P04,    66,  1,      6,     113,2,20150802,0501,0529,  9.4928, 178.7993, 5590,   4577.2,     4503,   1.3221,  34.6989,2,    177.7,2,  34.6995,2,   177.69,2,   132.79,2,    34.15,2,     0.00,2,    2.370,2,    0.005,2,    0.000,2,   2300.9,2,   2398.4,2,   7.6095,2,    25.00,  -999.00,9,  -999.00,9,   0.9438,2,  27.8071,2,   1.3221,2
49UP20150724_1,   P04,    66,  1,      5,     094,2,20150802,0501,0523,  9.4928, 178.7993, 5590,   4832.2,     4751,   1.3198,  34.7006,2,    181.8,2,  34.6999,2,   180.41,3,   130.52,2,    33.89,2,     0.00,2,    2.350,2,    0.017,2,    0.000,2,   2295.9,2,   2394.8,2,   7.6111,2,    25.00,  -999.00,9,  -999.00,9,   0.9116,2,  27.8106,2,   1.3200,2
49UP20150724_1,   P04,    66,  1,      4,     077,2,20150802,0501,0518,  9.4928, 178.7993, 5590,   5090.0,     5002,   1.3249,  34.7023,2,    185.7,2,  34.7025,2,   185.83,2,   127.84,2,    33.48,2,     0.00,2,    2.320,2,    0.015,2,    0.000,2,   2295.6,3,   2387.8,2,   7.6146,2,    25.00,  -999.00,9,  -999.00,9,   0.8856,2,  27.8136,2,   1.3250,2
49UP20150724_1,   P04,    66,  1,      3,     104,3,20150802,0501,0512,  9.4928, 178.7993, 5590,   5347.3,     5252,   1.3404,  34.7030,2,    187.5,2,  34.7035,2,   187.37,2,   126.88,2,    33.39,2,     0.00,2,    2.310,2,    0.015,2,    0.000,2,   2285.0,2,   2388.9,2,   7.6191,2,    25.00,  -999.00,9,  -999.00,9,   0.8688,2,  27.8153,2,   1.3404,2
49UP20150724_1,   P04,    66,  1,      2,     075,2,20150802,0501,0506,  9.4928, 178.7993, 5590,   5604.6,     5501,   1.3664,  34.7031,2,    188.4,2,  34.7042,6,   188.39,2,   126.64,2,    33.38,2,     0.00,2,    2.320,2, -999.000,5, -999.000,5,   2288.4,6,   2386.5,6,   7.6157,2,    25.00,  -999.00,9,  -999.00,9,   0.8612,2,  27.8158,2,   1.3663,2
49UP20150724_1,   P04,    66,  1,      1,     997,2,20150802,0501,0502,  9.4928, 178.7993, 5590,   5751.5,     5644,   1.3849,  34.7030,2,    188.7,2,  34.7042,2,   188.38,6,   126.67,6,    33.38,6,     0.00,6,    2.320,2,    0.017,6,    0.000,6,   2286.4,2,   2384.4,2,   7.6162,6,    25.00,  -999.00,9,  -999.00,9,   0.8601,2,  27.8159,2,   1.3847,2