BOTTLE,20191113JMAGEMD
EXPOCODE,SECT_ID,STNNBR,CASTNO,SAMPNO,BTLNBR,BTLNBR_FLAG_U,DATE,TIME,BTL_TIME,LATITUDE,LONGITUDE,DEPTH,CTDPRS,CTDDEP,CTDTMP,CTDSAL,CTDSAL_FLAG_W,CTDOXY,CTDOXY_FLAG_W,SALNTY,SALNTY_FLAG_W,OXYGEN,OXYGEN_FLAG_W,SILCAT,SILCAT_FLAG_W,NO2+NO3,NO2+NO3_FLAG_W,NITRIT,NITRIT_FLAG_W,PHSPHT,PHSPHT_FLAG_W,CFC-11,CFC-11_FLAG_W,CFC-12,CFC-12_FLAG_W,TCARBN,TCARBN_FLAG_W,ALKALI,ALKALI_FLAG_W,PH_TS,PH_TS_FLAG_W,PH_TS_TMP,CHLORA,CHLORA_FLAG_W,PPHYTN,PPHYTN_FLAG_W,THETA,THETA_FLAG_W,SIGTHT,SIGTHT_FLAG_W,SBE35,SBE35_FLAG_W
,,,,,,,,UTC,,,,METER,DBAR,METERS,ITS-90,PSS-78,,UMOL/KG,,PSS78,,UMOL/KG,,UMOL/KG,,UMOL/KG,,UMOL/KG,,UMOL/KG,,PMOL/KG,,PMOL/KG,,UMOL/KG,,UMOL/KG,,,,ITS-90,UG/KG,,UG/KG,,ITS-90,,KG/M3,,ITS-90,
49UP20150724_2,   P04,    28,  1,      0,      -9,0,20150826,0056,0235,  9.5115, 156.6852, 5232,      0.0,        0,  29.2066,  34.0289,2,    196.9,2,-999.0000,9,   195.94,2,     0.91,2,     0.00,2,     0.00,2,    0.080,2, -999.000,9, -999.000,9,   -999.0,9,   -999.0,9,-999.0000,9,  -999.00,  -999.00,9,  -999.00,9,  29.2059,2,  21.2664,2,-999.0000,9
49UP20150724_2,   P04,    28,  1,     36,     109,2,20150826,0056,0320,  9.5115, 156.6852, 5232,     12.3,       12,  29.2057,  34.0308,2,    196.8,2,  34.0296,2,   196.02,2,     0.96,2,     0.00,2,     0.00,2,    0.070,2, -999.000,9, -999.000,9,   -999.0,9,   -999.0,9,-999.0000,9,  -999.00,  -999.00,9,  -999.00,9,  29.2027,2,  21.2689,2,  29.2055,2
49UP20150724_2,   P04,    28,  1,     35,     112,2,20150826,0056,0319,  9.5115, 156.6852, 5232,     26.4,       26,  29.1202,  34.0339,2,    196.9,2,  34.0329,2,   196.46,2,     0.92,2,     0.00,2,     0.00,2,    0.070,2, -999.000,9, -999.000,9,   -999.0,9,   -999.0,9,-999.0000,9,  -999.00,  -999.00,9,  -999.00,9,  29.1138,2,  21.3009,2,  29.1193,2
49UP20150724_2,   P04,    28,  1,     34,     094,2,20150826,0056,0315,  9.5115, 156.6852, 5232,     51.0,       51,  28.5444,  34.2727,2,    201.7,2,  34.2641,2,   201.44,2,     0.96,2,     0.00,2,     0.00,2,    0.090,2, -999.000,9, -999.000,9,   -999.0,9,   -999.0,9,-999.0000,9,  -999.00,  -999.00,9,  -999.00,9,  28.5322,2,  21.6732,2,  28.5519,2
49UP20150724_2,   P04,    28,  1,     33,     469,2,20150826,0056,0313,  9.5115, 156.6852, 5232,     75.6,       75,  25.4970,  35.0162,2,    206.9,2,  35.0018,2,   205.83,2,     1.55,2,     0.00,2,     0.00,2,    0.160,2, -999.000,9, -999.000,9,   -999.0,9,   -999.0,9,-999.0000,9,  -999.00,  -999.00,9,  -999.00,9,  25.4804,2,  23.2065,2,  25.4949,2
49UP20150724_2,   P04,    28,  1,     32,     105,2,20150826,0056,0311,  9.5115, 156.6852, 5232,    101.3,      101,  19.8524,  34.8450,2,    157.7,2,  34.8464,2,   158.71,2,     5.46,2,     6.13,2,     0.44,2,    0.590,2, -999.000,9, -999.000,9,   -999.0,9,   -999.0,9,-999.0000,9,  -999.00,  -999.00,9,  -999.00,9,  19.8339,2,  24.6871,2,  19.8517,2
49UP20150724_2,   P04,    28,  1,     31,     515,2,20150826,0056,0310,  9.5115, 156.6852, 5232,    126.2,      125,  17.1450,  34.6984,2,    131.9,2,  34.6972,6,   131.92,2,    10.06,2,    12.47,2,     0.13,2,    0.980,2, -999.000,9, -999.000,9,   -999.0,9,   -999.0,9,-999.0000,9,  -999.00,  -999.00,9,  -999.00,9,  17.1241,2,  25.2532,2,  17.1397,2
49UP20150724_2,   P04,    28,  1,     30,     097,2,20150826,0056,0309,  9.5115, 156.6852, 5232,    152.2,      151,  14.4913,  34.5481,2,    119.8,2,  34.5506,2,   120.50,6,    14.97,6,    16.75,6,     0.02,6,    1.280,6, -999.000,9, -999.000,9,   -999.0,9,   -999.0,9,-999.0000,9,  -999.00,  -999.00,9,  -999.00,9,  14.4689,2,  25.7385,2,  14.4882,2
49UP20150724_2,   P04,    28,  1,     29,     102,2,20150826,0056,0307,  9.5115, 156.6852, 5232,    176.5,      175,  12.9487,  34.5058,2,     99.3,2,  34.5072,2,    98.98,2,    20.39,2,    21.47,2,     0.00,2,    1.610,2, -999.000,9, -999.000,9,   -999.0,9,   -999.0,9,-999.0000,9,  -999.00,  -999.00,9,  -999.00,9,  12.9246,2,  26.0250,2,  12.9559,2
49UP20150724_2,   P04,    28,  1,     28,     108,2,20150826,0056,0305,  9.5115, 156.6852, 5232,    203.8,      203,  11.2215,  34.5068,2,     75.0,2,  34.5075,2,    74.52,2,    27.57,2,    27.05,2,     0.00,2,    1.980,2, -999.000,9, -999.000,9,   -999.0,9,   -999.0,9,-999.0000,9,  -999.00,  -999.00,9,  -999.00,9,  11.1962,2,  26.3558,2,  11.2129,2
49UP20150724_2,   P04,    28,  1,     27,     998,2,20150826,0056,0304,  9.5115, 156.6852, 5232,    251.2,      250,   9.8931,  34.5473,2,     56.0,2,  34.5495,2,    55.74,2,    34.01,2,    31.52,2,     0.00,2,    2.270,2, -999.000,9, -999.000,9,   -999.0,9,   -999.0,9,-999.0000,9,  -999.00,  -999.00,9,  -999.00,9,   9.8643,2,  26.6214,2,   9.8900,2
49UP20150724_2,   P04,    28,  1,     26,     084,2,20150826,0056,0301,  9.5115, 156.6852, 5232,    333.8,      332,   8.7796,  34.5696,2,     56.4,2,  34.5694,2,    56.11,2,    39.50,2,    33.88,2,     0.00,2,    2.410,2, -999.000,9, -999.000,9,   -999.0,9,   -999.0,9,-999.0000,9,  -999.00,  -999.00,9,  -999.00,9,   8.7438,2,  26.8218,2,   8.7784,2
49UP20150724_2,   P04,    28,  1,     25,     098,2,20150826,0056,0259,  9.5115, 156.6852, 5232,    433.5,      431,   7.9081,  34.5567,2,     67.6,2,  34.5571,2,    67.69,2,    44.46,2,    34.57,2,     0.00,2,    2.460,2, -999.000,9, -999.000,9,   -999.0,9,   -999.0,9,-999.0000,9,  -999.00,  -999.00,9,  -999.00,9,   7.8642,2,  26.9459,2,   7.9105,2
49UP20150724_2,   P04,    28,  1,     24,     110,2,20150826,0056,0256,  9.5115, 156.6852, 5232,    535.9,      532,   6.9655,  34.5294,2,     67.3,2,  34.5288,6,    67.39,2,    54.54,2,    36.18,2,     0.00,2,    2.590,2, -999.000,9, -999.000,9,   -999.0,9,   -999.0,9,-999.0000,9,  -999.00,  -999.00,9,  -999.00,9,   6.9146,2,  27.0599,2,   6.9646,2
49UP20150724_2,   P04,    28,  1,     23,     096,2,20150826,0056,0253,  9.5115, 156.6852, 5232,    634.8,      630,   6.2442,  34.5321,2,     70.0,2,  34.5319,2,    70.04,6,    63.11,6,    37.33,6,     0.00,6,    2.670,6, -999.000,9, -999.000,9,   -999.0,9,   -999.0,9,-999.0000,9,  -999.00,  -999.00,9,  -999.00,9,   6.1870,2,  27.1589,2,   6.2439,2
49UP20150724_2,   P04,    28,  1,     22,     111,2,20150826,0056,0247,  9.5115, 156.6852, 5232,    739.4,      734,   5.6234,  34.5327,2,     72.5,2,  34.5319,2,    72.82,2,    72.33,2,    38.11,2,     0.00,2,    2.720,2, -999.000,9, -999.000,9,   -999.0,9,   -999.0,9,-999.0000,9,  -999.00,  -999.00,9,  -999.00,9,   5.5596,2,  27.2383,2,   5.6234,2
49UP20150724_2,   P04,    28,  1,     21,     078,2,20150826,0056,0244,  9.5115, 156.6852, 5232,    838.0,      832,   5.2534,  34.5384,2,     77.0,2,  34.5373,2,    76.78,2,    78.45,2,    38.26,2,     0.00,2,    2.740,2, -999.000,9, -999.000,9,   -999.0,9,   -999.0,9,-999.0000,9,  -999.00,  -999.00,9,  -999.00,9,   5.1829,2,  27.2879,2,   5.2531,2
49UP20150724_2,   P04,    28,  1,     20,     093,2,20150826,0056,0241,  9.5115, 156.6852, 5232,    939.4,      932,   4.8107,  34.5458,2,     79.5,2,  34.5459,2,    79.33,2,    86.44,2,    38.58,2,     0.00,2,    2.760,2, -999.000,9, -999.000,9,   -999.0,9,   -999.0,9,-999.0000,9,  -999.00,  -999.00,9,  -999.00,9,   4.7341,2,  27.3455,2,   4.8111,2
49UP20150724_2,   P04,    28,  1,     19,     092,2,20150826,0056,0238,  9.5115, 156.6852, 5232,   1079.9,     1071,   4.1823,  34.5606,2,     84.2,2,  34.5599,2,    84.16,2,    98.49,2,    38.89,2,     0.00,2,    2.780,2, -999.000,9, -999.000,9,   -999.0,9,   -999.0,9,-999.0000,9,  -999.00,  -999.00,9,  -999.00,9,   4.0984,2,  27.4263,2,   4.1819,2
49UP20150724_2,   P04,    28,  1,     18,     101,2,20150826,0056,0233,  9.5115, 156.6852, 5232,   1282.7,     1272,   3.4609,  34.5800,2,     87.2,2,  34.5749,4,    87.29,2,   113.56,2,    39.31,2,     0.00,2,    2.810,2, -999.000,9, -999.000,9,   -999.0,9,   -999.0,9,-999.0000,9,  -999.00,  -999.00,9,  -999.00,9,   3.3663,2,  27.5154,2,   3.4612,2
49UP20150724_2,   P04,    28,  1,     17,     090,2,20150826,0056,0227,  9.5115, 156.6852, 5232,   1486.1,     1472,   2.9349,  34.6002,2,     95.0,2,  34.5963,4,    95.08,2,   124.14,2,    39.14,2,     0.00,2,    2.780,2, -999.000,9, -999.000,9,   -999.0,9,   -999.0,9,-999.0000,9,  -999.00,  -999.00,9,  -999.00,9,   2.8289,2,  27.5814,2,   2.9353,2
49UP20150724_2,   P04,    28,  1,     16,     089,2,20150826,0056,0222,  9.5115, 156.6852, 5232,   1687.6,     1671,   2.5945,  34.6158,2,     99.8,2,  34.6162,2,    99.90,2,   131.49,2,    39.07,2,     0.00,2,    2.770,2, -999.000,9, -999.000,9,   -999.0,9,   -999.0,9,-999.0000,9,  -999.00,  -999.00,9,  -999.00,9,   2.4758,2,  27.6247,2,   2.5946,2
49UP20150724_2,   P04,    28,  1,     15,     088,2,20150826,0056,0217,  9.5115, 156.6852, 5232,   1889.2,     1870,   2.3662,  34.6272,2,    103.4,2,  34.6271,2,   103.10,2,   136.90,2,    39.01,2,     0.00,2,    2.750,2, -999.000,9, -999.000,9,   -999.0,9,   -999.0,9,-999.0000,9,  -999.00,  -999.00,9,  -999.00,9,   2.2337,2,  27.6542,2,   2.3656,2
49UP20150724_2,   P04,    28,  1,     14,     999,2,20150826,0056,0211,  9.5115, 156.6852, 5232,   2092.1,     2070,   2.1712,  34.6377,2,    107.7,2,  34.6353,4,   107.69,6,   141.38,6,    38.78,6,     0.00,6,    2.730,6, -999.000,9, -999.000,9,   -999.0,9,   -999.0,9,-999.0000,9,  -999.00,  -999.00,9,  -999.00,9,   2.0242,2,  27.6795,2,   2.1712,2
49UP20150724_2,   P04,    28,  1,     13,     667,2,20150826,0056,0206,  9.5115, 156.6852, 5232,   2297.0,     2272,   2.0211,  34.6466,2,    114.0,2,  34.6476,6,   114.06,2,   143.93,2,    38.41,2,     0.00,2,    2.700,2, -999.000,9, -999.000,9,   -999.0,9,   -999.0,9,-999.0000,9,  -999.00,  -999.00,9,  -999.00,9,   1.8587,2,  27.6996,2,   2.0209,2
49UP20150724_2,   P04,    28,  1,     12,     074,2,20150826,0056,0202,  9.5115, 156.6852, 5232,   2499.3,     2471,   1.8922,  34.6548,2,    119.0,2,  34.6548,2,   119.22,2,   146.33,2,    38.19,2,     0.00,2,    2.670,2, -999.000,9, -999.000,9,   -999.0,9,   -999.0,9,-999.0000,9,  -999.00,  -999.00,9,  -999.00,9,   1.7140,2,  27.7172,2,   1.8921,2
49UP20150724_2,   P04,    28,  1,     11,     268,2,20150826,0056,0156,  9.5115, 156.6852, 5232,   2705.0,     2673,   1.7959,  34.6609,2,    124.3,2,  34.6611,2,   124.42,2,   147.50,2,    37.84,2,     0.00,2,    2.640,2, -999.000,9, -999.000,9,   -999.0,9,   -999.0,9,-999.0000,9,  -999.00,  -999.00,9,  -999.00,9,   1.6007,2,  27.7306,2,   1.7959,2
49UP20150724_2,   P04,    28,  1,     10,     267,2,20150826,0056,0151,  9.5115, 156.6852, 5232,   2905.9,     2870,   1.7151,  34.6660,2,    129.7,2,  34.6659,2,   129.54,2,   147.65,2,    37.48,2,     0.00,2,    2.610,2, -999.000,9, -999.000,9,   -999.0,9,   -999.0,9,-999.0000,9,  -999.00,  -999.00,9,  -999.00,9,   1.5026,2,  27.7419,2,   1.7152,2
49UP20150724_2,   P04,    28,  1,      9,     518,2,20150826,0056,0145,  9.5115, 156.6852, 5232,   3122.0,     3082,   1.6312,  34.6718,2,    136.3,2,  34.6720,2,   136.41,2,   147.09,2,    37.02,2,     0.00,2,    2.580,2, -999.000,9, -999.000,9,   -999.0,9,   -999.0,9,-999.0000,9,  -999.00,  -999.00,9,  -999.00,9,   1.3997,2,  27.7540,2,   1.6312,2
49UP20150724_2,   P04,    28,  1,      8,     081,2,20150826,0056,0140,  9.5115, 156.6852, 5232,   3374.6,     3329,   1.5575,  34.6773,2,    143.6,2,  34.6774,2,   143.74,2,   145.72,2,    36.57,2,     0.00,2,    2.540,2, -999.000,9, -999.000,9,   -999.0,9,   -999.0,9,-999.0000,9,  -999.00,  -999.00,9,  -999.00,9,   1.3027,2,  27.7653,2,   1.5576,2
49UP20150724_2,   P04,    28,  1,      7,     516,2,20150826,0056,0134,  9.5115, 156.6852, 5232,   3632.3,     3581,   1.5074,  34.6820,2,    150.7,2,  34.6820,2,   150.90,2,   143.39,2,    36.05,2,     0.00,2,    2.500,2, -999.000,9, -999.000,9,   -999.0,9,   -999.0,9,-999.0000,9,  -999.00,  -999.00,9,  -999.00,9,   1.2275,2,  27.7744,2,   1.5075,2
49UP20150724_2,   P04,    28,  1,      6,     113,2,20150826,0056,0122,  9.5115, 156.6852, 5232,   4143.9,     4081,   1.4582,  34.6894,2,    161.9,2,  34.6895,2,   161.86,2,   138.61,2,    35.28,2,     0.00,2,    2.440,2, -999.000,9, -999.000,9,   -999.0,9,   -999.0,9,-999.0000,9,  -999.00,  -999.00,9,  -999.00,9,   1.1247,2,  27.7874,2,   1.4584,2
49UP20150724_2,   P04,    28,  1,      5,     658,2,20150826,0056,0116,  9.5115, 156.6852, 5232,   4400.4,     4331,   1.4438,  34.6923,2,    167.1,2,  34.6922,2,   167.04,6,   135.93,6,    34.87,6,     0.00,6,    2.420,6, -999.000,9, -999.000,9,   -999.0,9,   -999.0,9,-999.0000,9,  -999.00,  -999.00,9,  -999.00,9,   1.0820,2,  27.7926,2,   1.4439,2
49UP20150724_2,   P04,    28,  1,      4,     471,2,20150826,0056,0111,  9.5115, 156.6852, 5232,   4656.0,     4580,   1.4502,  34.6938,2,    169.9,2,  34.6939,6,   170.01,2,   134.62,2,    34.68,2,     0.00,2,    2.400,2, -999.000,9, -999.000,9,   -999.0,9,   -999.0,9,-999.0000,9,  -999.00,  -999.00,9,  -999.00,9,   1.0587,2,  27.7954,2,   1.4502,2
49UP20150724_2,   P04,    28,  1,      3,     104,2,20150826,0056,0105,  9.5115, 156.6852, 5232,   4913.5,     4830,   1.4553,  34.6957,2,    173.0,2,  34.6956,2,   172.74,2,   133.20,2,    34.46,2,     0.00,2,    2.390,2, -999.000,9, -999.000,9,   -999.0,9,   -999.0,9,-999.0000,9,  -999.00,  -999.00,9,  -999.00,9,   1.0330,2,  27.7986,2,   1.4553,2
49UP20150724_2,   P04,    28,  1,      2,     075,2,20150826,0056,0100,  9.5115, 156.6852, 5232,   5171.2,     5081,   1.4765,  34.6967,2,    174.2,2,  34.6838,4,   174.16,2,   132.47,2,    34.30,2,     0.00,2,    2.380,2, -999.000,9, -999.000,9,   -999.0,9,   -999.0,9,-999.0000,9,  -999.00,  -999.00,9,  -999.00,9,   1.0221,2,  27.8002,2,   1.4765,2
49UP20150724_2,   P04,    28,  1,      1,     997,2,20150826,0056,0056,  9.5115, 156.6852, 5232,   5332.1,     5237,   1.4968,  34.6966,2,    174.3,2,  34.6966,2,   173.92,2,   133.00,2,    34.37,2,     0.00,2,    2.380,2, -999.000,9, -999.000,9,   -999.0,9,   -999.0,9,-999.0000,9,  -999.00,  -999.00,9,  -999.00,9,   1.0216,2,  27.8001,2,   1.4967,2