BOTTLE,20191113JMAGEMD
EXPOCODE,SECT_ID,STNNBR,CASTNO,SAMPNO,BTLNBR,BTLNBR_FLAG_U,DATE,TIME,BTL_TIME,LATITUDE,LONGITUDE,DEPTH,CTDPRS,CTDDEP,CTDTMP,CTDSAL,CTDSAL_FLAG_W,CTDOXY,CTDOXY_FLAG_W,SALNTY,SALNTY_FLAG_W,OXYGEN,OXYGEN_FLAG_W,SILCAT,SILCAT_FLAG_W,NO2+NO3,NO2+NO3_FLAG_W,NITRIT,NITRIT_FLAG_W,PHSPHT,PHSPHT_FLAG_W,CFC-11,CFC-11_FLAG_W,CFC-12,CFC-12_FLAG_W,TCARBN,TCARBN_FLAG_W,ALKALI,ALKALI_FLAG_W,PH_TS,PH_TS_FLAG_W,PH_TS_TMP,CHLORA,CHLORA_FLAG_W,PPHYTN,PPHYTN_FLAG_W,THETA,THETA_FLAG_W,SIGTHT,SIGTHT_FLAG_W,SBE35,SBE35_FLAG_W
,,,,,,,,UTC,,,,METER,DBAR,METERS,ITS-90,PSS-78,,UMOL/KG,,PSS78,,UMOL/KG,,UMOL/KG,,UMOL/KG,,UMOL/KG,,UMOL/KG,,PMOL/KG,,PMOL/KG,,UMOL/KG,,UMOL/KG,,,,ITS-90,UG/KG,,UG/KG,,ITS-90,,KG/M3,,ITS-90,
49UP20150724_2,   P04,    20,  1,      0,      -9,0,20150828,1830,2041,  9.5168, 150.0218, 5012,      0.0,        0,  28.8651,  34.0107,2,    197.7,2,-999.0000,9,   196.85,2,     0.92,2,     0.02,2,     0.00,2,    0.070,2, -999.000,9, -999.000,9,   -999.0,9,   -999.0,9,-999.0000,9,  -999.00,  -999.00,9,  -999.00,9,  28.8644,2,  21.3666,2,-999.0000,9
49UP20150724_2,   P04,    20,  1,     36,     109,2,20150828,1830,2105,  9.5168, 150.0218, 5012,     11.1,       11,  28.8699,  34.0080,2,    197.5,2,  34.0086,2,   196.98,6,     0.92,6,     0.03,6,     0.00,6,    0.060,6, -999.000,9, -999.000,9,   -999.0,9,   -999.0,9,-999.0000,9,  -999.00,  -999.00,9,  -999.00,9,  28.8672,2,  21.3636,2,  28.8701,2
49UP20150724_2,   P04,    20,  1,     35,     112,2,20150828,1830,2103,  9.5168, 150.0218, 5012,     25.1,       25,  28.8791,  34.0172,2,    197.3,2,  34.0165,6,   197.12,2,     0.95,2,     0.01,2,     0.00,2,    0.060,2, -999.000,9, -999.000,9,   -999.0,9,   -999.0,9,-999.0000,9,  -999.00,  -999.00,9,  -999.00,9,  28.8730,2,  21.3686,2,  28.8782,2
49UP20150724_2,   P04,    20,  1,     34,     094,2,20150828,1830,2102,  9.5168, 150.0218, 5012,     50.9,       51,  28.0871,  34.7196,2,    205.7,2,  34.7506,4,   205.99,2,     0.91,2,     0.01,2,     0.00,2,    0.070,2, -999.000,9, -999.000,9,   -999.0,9,   -999.0,9,-999.0000,9,  -999.00,  -999.00,9,  -999.00,9,  28.0751,2,  22.1592,2,  28.0732,2
49UP20150724_2,   P04,    20,  1,     33,     469,2,20150828,1830,2100,  9.5168, 150.0218, 5012,     75.9,       75,  23.7427,  34.9129,2,    191.4,2,  34.9125,2,   192.00,2,     2.63,2,     0.18,2,     0.01,2,    0.210,2, -999.000,9, -999.000,9,   -999.0,9,   -999.0,9,-999.0000,9,  -999.00,  -999.00,9,  -999.00,9,  23.7268,2,  23.6560,2,  23.7345,2
49UP20150724_2,   P04,    20,  1,     32,     105,2,20150828,1830,2058,  9.5168, 150.0218, 5012,    102.9,      102,  20.5591,  34.8994,2,    155.1,2,  34.9001,2,   156.14,2,     5.94,2,     6.46,2,     0.50,2,    0.570,2, -999.000,9, -999.000,9,   -999.0,9,   -999.0,9,-999.0000,9,  -999.00,  -999.00,9,  -999.00,9,  20.5397,2,  24.5416,2,  20.5593,2
49UP20150724_2,   P04,    20,  1,     31,     515,2,20150828,1830,2056,  9.5168, 150.0218, 5012,    127.4,      127,  17.5180,  34.7428,2,    145.5,2,  34.7466,2,   146.28,2,     8.33,2,    10.05,2,     0.10,2,    0.810,2, -999.000,9, -999.000,9,   -999.0,9,   -999.0,9,-999.0000,9,  -999.00,  -999.00,9,  -999.00,9,  17.4966,2,  25.1978,2,  17.5186,2
49UP20150724_2,   P04,    20,  1,     30,     097,2,20150828,1830,2054,  9.5168, 150.0218, 5012,    152.2,      151,  14.4916,  34.5179,2,    136.8,2,  34.5215,2,   136.60,2,    13.11,2,    14.71,2,     0.01,2,    1.120,2, -999.000,9, -999.000,9,   -999.0,9,   -999.0,9,-999.0000,9,  -999.00,  -999.00,9,  -999.00,9,  14.4692,2,  25.7151,2,  14.4797,2
49UP20150724_2,   P04,    20,  1,     29,     102,2,20150828,1830,2053,  9.5168, 150.0218, 5012,    176.4,      175,  12.6570,  34.3736,2,    144.2,2,  34.3649,2,   146.14,2,    17.02,2,    16.83,2,     0.00,2,    1.260,2, -999.000,9, -999.000,9,   -999.0,9,   -999.0,9,-999.0000,9,  -999.00,  -999.00,9,  -999.00,9,  12.6334,2,  25.9802,2,  12.7142,2
49UP20150724_2,   P04,    20,  1,     28,     108,2,20150828,1830,2050,  9.5168, 150.0218, 5012,    203.2,      202,  10.6582,  34.3256,2,    108.8,2,  34.3255,2,   108.68,2,    26.77,2,    23.72,2,     0.00,2,    1.780,2, -999.000,9, -999.000,9,   -999.0,9,   -999.0,9,-999.0000,9,  -999.00,  -999.00,9,  -999.00,9,  10.6339,2,  26.3155,2,  10.6544,2
49UP20150724_2,   P04,    20,  1,     27,     998,2,20150828,1830,2048,  9.5168, 150.0218, 5012,    253.1,      252,   9.6302,  34.5027,2,     56.2,2,  34.5099,2,    60.43,6,    35.68,6,    31.35,6,     0.00,6,    2.270,6, -999.000,9, -999.000,9,   -999.0,9,   -999.0,9,-999.0000,9,  -999.00,  -999.00,9,  -999.00,9,   9.6016,2,  26.6306,2,   9.6317,2
49UP20150724_2,   P04,    20,  1,     26,     084,2,20150828,1830,2046,  9.5168, 150.0218, 5012,    305.6,      304,   8.9519,  34.5421,2,     68.0,2,  34.5414,6,    67.80,2,    38.93,2,    32.36,2,     0.00,2,    2.300,2, -999.000,9, -999.000,9,   -999.0,9,   -999.0,9,-999.0000,9,  -999.00,  -999.00,9,  -999.00,9,   8.9188,2,  26.7725,2,   8.9512,2
49UP20150724_2,   P04,    20,  1,     25,     098,2,20150828,1830,2043,  9.5168, 150.0218, 5012,    404.3,      402,   8.1264,  34.5351,2,     74.3,2,  34.5356,2,    74.49,2,    43.53,2,    33.33,2,     0.00,2,    2.370,2, -999.000,9, -999.000,9,   -999.0,9,   -999.0,9,-999.0000,9,  -999.00,  -999.00,9,  -999.00,9,   8.0848,2,  26.8960,2,   8.1230,2
49UP20150724_2,   P04,    20,  1,     24,     110,2,20150828,1830,2041,  9.5168, 150.0218, 5012,    504.4,      501,   7.2506,  34.5289,2,     81.9,2,  34.5284,2,    82.04,2,    50.03,2,    34.40,2,     0.00,2,    2.450,2, -999.000,9, -999.000,9,   -999.0,9,   -999.0,9,-999.0000,9,  -999.00,  -999.00,9,  -999.00,9,   7.2017,2,  27.0195,2,   7.2509,2
49UP20150724_2,   P04,    20,  1,     23,     096,2,20150828,1830,2038,  9.5168, 150.0218, 5012,    605.1,      601,   6.6516,  34.5283,2,     85.5,2,  34.5287,2,    85.84,2,    56.22,2,    35.19,2,     0.00,2,    2.500,2, -999.000,9, -999.000,9,   -999.0,9,   -999.0,9,-999.0000,9,  -999.00,  -999.00,9,  -999.00,9,   6.5953,2,  27.1022,2,   6.6516,2
49UP20150724_2,   P04,    20,  1,     22,     111,2,20150828,1830,2035,  9.5168, 150.0218, 5012,    707.3,      702,   6.0358,  34.5295,2,     83.1,2,  34.5291,2,    82.84,2,    65.30,2,    36.42,2,     0.00,2,    2.590,2, -999.000,9, -999.000,9,   -999.0,9,   -999.0,9,-999.0000,9,  -999.00,  -999.00,9,  -999.00,9,   5.9727,2,  27.1843,2,   6.0359,2
49UP20150724_2,   P04,    20,  1,     21,     078,2,20150828,1830,2031,  9.5168, 150.0218, 5012,    807.7,      802,   5.4870,  34.5360,2,     82.5,2,  34.5362,6,    82.25,2,    73.89,2,    37.32,2,     0.00,2,    2.660,2, -999.000,9, -999.000,9,   -999.0,9,   -999.0,9,-999.0000,9,  -999.00,  -999.00,9,  -999.00,9,   5.4178,2,  27.2581,2,   5.4879,2
49UP20150724_2,   P04,    20,  1,     20,     093,2,20150828,1830,2028,  9.5168, 150.0218, 5012,    906.0,      899,   4.9214,  34.5413,2,     81.6,2,  34.5411,2,    81.49,6,    84.60,6,    38.16,6,     0.00,6,    2.720,6, -999.000,9, -999.000,9,   -999.0,9,   -999.0,9,-999.0000,9,  -999.00,  -999.00,9,  -999.00,9,   4.8470,2,  27.3292,2,   4.9212,2
49UP20150724_2,   P04,    20,  1,     19,     092,2,20150828,1830,2025,  9.5168, 150.0218, 5012,   1011.4,     1003,   4.3700,  34.5523,2,     81.0,2,  34.5521,2,    80.69,2,    95.43,2,    38.86,2,     0.00,2,    2.780,2, -999.000,9, -999.000,9,   -999.0,9,   -999.0,9,-999.0000,9,  -999.00,  -999.00,9,  -999.00,9,   4.2904,2,  27.3994,2,   4.3691,2
49UP20150724_2,   P04,    20,  1,     18,     101,2,20150828,1830,2020,  9.5168, 150.0218, 5012,   1211.5,     1201,   3.6292,  34.5730,2,     87.4,2,  34.5735,2,    87.44,2,   110.28,2,    39.06,2,     0.00,2,    2.780,2, -999.000,9, -999.000,9,   -999.0,9,   -999.0,9,-999.0000,9,  -999.00,  -999.00,9,  -999.00,9,   3.5390,2,  27.4931,2,   3.6292,2
49UP20150724_2,   P04,    20,  1,     17,     090,2,20150828,1830,2007,  9.5168, 150.0218, 5012,   1414.5,     1402,   3.0043,  34.5950,2,     94.8,2,  34.5945,2,    94.77,2,   122.99,2,    39.04,2,     0.00,2,    2.770,2, -999.000,9, -999.000,9,   -999.0,9,   -999.0,9,-999.0000,9,  -999.00,  -999.00,9,  -999.00,9,   2.9034,2,  27.5705,2,   3.0037,2
49UP20150724_2,   P04,    20,  1,     16,     089,2,20150828,1830,2002,  9.5168, 150.0218, 5012,   1618.4,     1603,   2.6265,  34.6126,2,    103.7,2,  34.6122,2,   104.01,2,   129.62,2,    38.63,2,     0.00,2,    2.730,2, -999.000,9, -999.000,9,   -999.0,9,   -999.0,9,-999.0000,9,  -999.00,  -999.00,9,  -999.00,9,   2.5132,2,  27.6190,2,   2.6266,2
49UP20150724_2,   P04,    20,  1,     15,     088,2,20150828,1830,1957,  9.5168, 150.0218, 5012,   1820.8,     1803,   2.3730,  34.6250,2,    104.5,2,  34.6246,2,   104.53,2,   136.55,2,    38.85,2,     0.00,2,    2.740,2, -999.000,9, -999.000,9,   -999.0,9,   -999.0,9,-999.0000,9,  -999.00,  -999.00,9,  -999.00,9,   2.2461,2,  27.6513,2,   2.3731,2
49UP20150724_2,   P04,    20,  1,     14,     999,2,20150828,1830,1950,  9.5168, 150.0218, 5012,   2024.4,     2003,   2.1661,  34.6363,2,    109.2,2,  34.6365,2,   109.09,2,   140.95,2,    38.65,2,     0.00,2,    2.720,2, -999.000,9, -999.000,9,   -999.0,9,   -999.0,9,-999.0000,9,  -999.00,  -999.00,9,  -999.00,9,   2.0251,2,  27.6783,2,   2.1662,2
49UP20150724_2,   P04,    20,  1,     13,     667,2,20150828,1830,1945,  9.5168, 150.0218, 5012,   2225.0,     2201,   2.0142,  34.6456,2,    114.5,2,  34.6457,2,   114.54,2,   143.42,2,    38.35,2,     0.00,2,    2.690,2, -999.000,9, -999.000,9,   -999.0,9,   -999.0,9,-999.0000,9,  -999.00,  -999.00,9,  -999.00,9,   1.8583,2,  27.6989,2,   2.0137,2
49UP20150724_2,   P04,    20,  1,     12,     074,2,20150828,1830,1940,  9.5168, 150.0218, 5012,   2430.8,     2403,   1.8725,  34.6548,2,    120.5,2,  34.6548,2,   120.55,2,   145.66,2,    37.96,2,     0.00,2,    2.660,2, -999.000,9, -999.000,9,   -999.0,9,   -999.0,9,-999.0000,9,  -999.00,  -999.00,9,  -999.00,9,   1.7008,2,  27.7183,2,   1.8726,2
49UP20150724_2,   P04,    20,  1,     11,     268,2,20150828,1830,1933,  9.5168, 150.0218, 5012,   2633.4,     2602,   1.7554,  34.6615,2,    127.2,2,  34.6609,2,   127.19,2,   146.34,2,    37.52,2,     0.00,2,    2.620,2, -999.000,9, -999.000,9,   -999.0,9,   -999.0,9,-999.0000,9,  -999.00,  -999.00,9,  -999.00,9,   1.5675,2,  27.7336,2,   1.7554,2
49UP20150724_2,   P04,    20,  1,     10,     267,2,20150828,1830,1929,  9.5168, 150.0218, 5012,   2836.0,     2801,   1.6562,  34.6664,2,    134.4,2,  34.6660,2,   134.30,2,   146.10,2,    37.10,2,     0.00,2,    2.580,2, -999.000,9, -999.000,9,   -999.0,9,   -999.0,9,-999.0000,9,  -999.00,  -999.00,9,  -999.00,9,   1.4516,2,  27.7460,2,   1.6563,2
49UP20150724_2,   P04,    20,  1,      9,     518,2,20150828,1830,1919,  9.5168, 150.0218, 5012,   3041.4,     3003,   1.5847,  34.6717,2,    140.0,2,  34.6720,2,   139.95,2,   145.84,2,    36.76,2,     0.00,2,    2.560,2, -999.000,9, -999.000,9,   -999.0,9,   -999.0,9,-999.0000,9,  -999.00,  -999.00,9,  -999.00,9,   1.3621,2,  27.7567,2,   1.5846,2
49UP20150724_2,   P04,    20,  1,      8,     081,2,20150828,1830,1913,  9.5168, 150.0218, 5012,   3296.1,     3252,   1.5385,  34.6760,2,    145.1,2,  34.6761,2,   144.66,2,   144.80,2,    36.38,2,     0.00,2,    2.530,2, -999.000,9, -999.000,9,   -999.0,9,   -999.0,9,-999.0000,9,  -999.00,  -999.00,9,  -999.00,9,   1.2920,2,  27.7650,2,   1.5384,2
49UP20150724_2,   P04,    20,  1,      7,     516,2,20150828,1830,1907,  9.5168, 150.0218, 5012,   3551.2,     3502,   1.5073,  34.6801,2,    149.9,2,  34.6796,2,   149.78,2,   143.70,2,    36.12,2,     0.00,2,    2.500,2, -999.000,9, -999.000,9,   -999.0,9,   -999.0,9,-999.0000,9,  -999.00,  -999.00,9,  -999.00,9,   1.2357,2,  27.7722,2,   1.5073,2
49UP20150724_2,   P04,    20,  1,      6,     113,2,20150828,1830,1859,  9.5168, 150.0218, 5012,   3808.1,     3753,   1.5048,  34.6822,2,    152.6,2,  34.6818,2,   152.32,2,   142.79,2,    35.90,2,     0.00,2,    2.490,2, -999.000,9, -999.000,9,   -999.0,9,   -999.0,9,-999.0000,9,  -999.00,  -999.00,9,  -999.00,9,   1.2064,2,  27.7760,2,   1.5048,2
49UP20150724_2,   P04,    20,  1,      5,     658,2,20150828,1830,1853,  9.5168, 150.0218, 5012,   4063.0,     4002,   1.4744,  34.6868,2,    158.6,2,  34.6858,2,   158.47,2,   140.29,2,    35.44,2,     0.00,2,    2.460,2, -999.000,9, -999.000,9,   -999.0,9,   -999.0,9,-999.0000,9,  -999.00,  -999.00,9,  -999.00,9,   1.1493,2,  27.7836,2,   1.4745,2
49UP20150724_2,   P04,    20,  1,      4,     471,2,20150828,1830,1847,  9.5168, 150.0218, 5012,   4318.9,     4251,   1.4779,  34.6884,2,    161.5,2,  34.6874,2,   161.41,6,   138.87,6,    35.21,6,     0.00,6,    2.440,6, -999.000,9, -999.000,9,   -999.0,9,   -999.0,9,-999.0000,9,  -999.00,  -999.00,9,  -999.00,9,   1.1243,2,  27.7866,2,   1.4777,2
49UP20150724_2,   P04,    20,  1,      3,     104,2,20150828,1830,1841,  9.5168, 150.0218, 5012,   4575.0,     4501,   1.4677,  34.6913,2,    166.0,2,  34.6907,6,   165.92,2,   136.91,2,    34.97,2,     0.00,2,    2.410,2, -999.000,9, -999.000,9,   -999.0,9,   -999.0,9,-999.0000,9,  -999.00,  -999.00,9,  -999.00,9,   1.0851,2,  27.7916,2,   1.4677,2
49UP20150724_2,   P04,    20,  1,      2,     075,2,20150828,1830,1836,  9.5168, 150.0218, 5012,   4832.0,     4751,   1.4760,  34.6928,2,    168.5,2,  34.6930,2,   168.56,2,   135.55,2,    34.74,2,     0.00,2,    2.400,2, -999.000,9, -999.000,9,   -999.0,9,   -999.0,9,-999.0000,9,  -999.00,  -999.00,9,  -999.00,9,   1.0627,2,  27.7943,2,   1.4760,2
49UP20150724_2,   P04,    20,  1,      1,     997,2,20150828,1830,1830,  9.5168, 150.0218, 5012,   5055.0,     4968,   1.4800,  34.6946,2,    171.5,2,  34.6944,2,   171.41,2,   134.25,2,    34.54,2,     0.00,2,    2.390,2, -999.000,9, -999.000,9,   -999.0,9,   -999.0,9,-999.0000,9,  -999.00,  -999.00,9,  -999.00,9,   1.0397,2,  27.7973,2,   1.4799,2