BOTTLE,20191113JMAGEMD
EXPOCODE,SECT_ID,STNNBR,CASTNO,SAMPNO,BTLNBR,BTLNBR_FLAG_U,DATE,TIME,BTL_TIME,LATITUDE,LONGITUDE,DEPTH,CTDPRS,CTDDEP,CTDTMP,CTDSAL,CTDSAL_FLAG_W,CTDOXY,CTDOXY_FLAG_W,SALNTY,SALNTY_FLAG_W,OXYGEN,OXYGEN_FLAG_W,SILCAT,SILCAT_FLAG_W,NO2+NO3,NO2+NO3_FLAG_W,NITRIT,NITRIT_FLAG_W,PHSPHT,PHSPHT_FLAG_W,CFC-11,CFC-11_FLAG_W,CFC-12,CFC-12_FLAG_W,TCARBN,TCARBN_FLAG_W,ALKALI,ALKALI_FLAG_W,PH_TS,PH_TS_FLAG_W,PH_TS_TMP,CHLORA,CHLORA_FLAG_W,PPHYTN,PPHYTN_FLAG_W,THETA,THETA_FLAG_W,SIGTHT,SIGTHT_FLAG_W,SBE35,SBE35_FLAG_W
,,,,,,,,UTC,,,,METER,DBAR,METERS,ITS-90,PSS-78,,UMOL/KG,,PSS78,,UMOL/KG,,UMOL/KG,,UMOL/KG,,UMOL/KG,,UMOL/KG,,PMOL/KG,,PMOL/KG,,UMOL/KG,,UMOL/KG,,,,ITS-90,UG/KG,,UG/KG,,ITS-90,,KG/M3,,ITS-90,
49UP20150724_2,   P04,    32,  1,      0,      -9,0,20150824,1454,1650,  9.5192, 160.0042, 5248,      0.0,        0,  29.0078,  33.9804,2,    197.1,2,  33.9887,2,   197.59,2,     1.02,2,     0.02,2,     0.00,2,    0.090,2, -999.000,9, -999.000,9,   1907.1,2,   2232.0,2,   8.1128,2,    25.00,     0.05,2,     0.01,2,  29.0072,2,  21.2963,2,-999.0000,9
49UP20150724_2,   P04,    32,  1,     36,     109,2,20150824,1454,1725,  9.5192, 160.0042, 5248,     10.7,       11,  29.0475,  34.0056,2,    197.0,2,  34.0045,2,   195.96,2,     1.02,2,     0.02,2,     0.00,2,    0.080,2,    1.329,3,    0.814,3,   1910.1,2,   2230.7,2,   8.1135,2,    25.00,     0.05,2,     0.02,2,  29.0449,2,  21.3027,2,  29.0465,2
49UP20150724_2,   P04,    32,  1,     35,     112,2,20150824,1454,1724,  9.5192, 160.0042, 5248,     26.0,       26,  28.9622,  34.0144,2,    197.6,2,  34.0137,2,   196.56,2,     0.97,2,     0.03,2,     0.00,2,    0.080,2, -999.000,9, -999.000,9,   1909.6,2,   2231.5,2,   8.1128,2,    25.00,     0.05,2,     0.02,2,  28.9560,2,  21.3389,2,  28.9607,2
49UP20150724_2,   P04,    32,  1,     34,     094,2,20150824,1454,1720,  9.5192, 160.0042, 5248,     50.5,       50,  28.8523,  34.0335,2,    196.9,2,  34.0712,4,   197.89,2,     1.06,2,     0.03,2,     0.00,2,    0.100,2,    1.381,3,    0.826,3,   1915.8,2,   2234.5,2,   8.1139,2,    25.00,     0.07,2,     0.02,2,  28.8402,2,  21.3917,2,  28.8391,2
49UP20150724_2,   P04,    32,  1,     33,     469,2,20150824,1454,1719,  9.5192, 160.0042, 5248,     76.6,       76,  23.5395,  34.9409,2,    199.1,2,  34.9256,2,   200.20,2,     2.26,2,     0.00,2,     0.00,2,    0.210,2, -999.000,9, -999.000,9,   2021.4,2,   2298.0,2,   8.0140,2,    25.00,     0.20,2,     0.13,2,  23.5236,2,  23.7368,2,  23.5465,2
49UP20150724_2,   P04,    32,  1,     32,     105,2,20150824,1454,1718,  9.5192, 160.0042, 5248,    101.3,      101,  20.3184,  34.9616,2,    177.0,2,  34.9345,4,   174.52,6,     4.09,6,     3.75,6,     0.23,6,    0.450,6,    1.947,3,    1.156,3,   2072.3,2,   2298.7,2,   7.9190,2,    25.00,     0.20,2,     0.39,2,  20.2995,2,  24.6531,2,  20.2969,2
49UP20150724_2,   P04,    32,  1,     31,     515,2,20150824,1454,1716,  9.5192, 160.0042, 5248,    126.0,      125,  16.0878,  34.6068,2,    151.8,2,  34.5986,6,   152.79,2,     9.06,2,    10.81,2,     0.02,2,    0.870,2, -999.000,9, -999.000,9,   2106.2,2,   2278.6,2,   7.8079,2,    25.00,     0.10,2,     0.26,2,  16.0679,2,  25.4296,2,  16.0632,2
49UP20150724_2,   P04,    32,  1,     30,     097,2,20150824,1454,1715,  9.5192, 160.0042, 5248,    151.4,      150,  13.2280,  34.4165,2,    133.3,2,  34.4120,2,   130.16,2,    16.64,2,    17.41,2,     0.01,2,    1.340,2,    2.160,3,    1.237,3,   2146.1,2,   2271.3,2,   7.7029,2,    25.00,     0.04,2,     0.09,2,  13.2071,2,  25.8992,2,  13.2251,2
49UP20150724_2,   P04,    32,  1,     29,     102,2,20150824,1454,1714,  9.5192, 160.0042, 5248,    177.4,      176,  11.7351,  34.4124,2,     99.9,2,  34.4125,2,    98.38,2,    23.82,2,    23.15,2,     0.00,2,    1.750,2, -999.000,9, -999.000,9,   2183.9,2,   2275.6,2,   7.6146,2,    25.00,     0.01,2,     0.05,2,  11.7125,2,  26.1870,2,  11.7356,2
49UP20150724_2,   P04,    32,  1,     28,     108,2,20150824,1454,1712,  9.5192, 160.0042, 5248,    203.9,      203,  10.7992,  34.4279,2,     81.4,2,  34.4261,2,    80.96,2,    28.60,2,    26.73,2,     0.00,2,    2.000,2,    1.477,3,    0.800,3,   2205.6,2,   2280.0,2,   7.5611,2,    25.00,     0.00,2,     0.03,2,  10.7746,2,  26.3704,2,  10.8004,2
49UP20150724_2,   P04,    32,  1,     27,     998,2,20150824,1454,1710,  9.5192, 160.0042, 5248,    252.6,      251,   9.8737,  34.5216,2,     55.7,2,  34.5291,2,    54.66,2,    34.23,2,    31.59,2,     0.00,2,    2.290,2, -999.000,9, -999.000,9,   2242.9,2,   2291.7,2,   7.5010,2,    25.00,  -999.00,9,  -999.00,9,   9.8447,2,  26.6047,2,   9.8777,2
49UP20150724_2,   P04,    32,  1,     26,     084,2,20150824,1454,1709,  9.5192, 160.0042, 5248,    303.5,      302,   9.0364,  34.5693,2,     54.8,2,  34.5686,2,    54.63,2,    38.36,2,    33.64,2,     0.00,2,    2.410,2,    0.484,3,    0.266,3,   2246.8,2,   2300.4,2,   7.4979,2,    25.00,  -999.00,9,  -999.00,9,   9.0033,2,  26.7803,2,   9.0382,2
49UP20150724_2,   P04,    32,  1,     25,     098,2,20150824,1454,1706,  9.5192, 160.0042, 5248,    403.7,      401,   8.1120,  34.5523,2,     64.2,2,  34.5517,2,    64.32,2,    43.95,2,    34.52,2,     0.00,2,    2.460,2,    0.335,3,    0.203,3,   2250.3,2,   2309.3,2,   7.4951,2,    25.00,  -999.00,9,  -999.00,9,   8.0705,2,  26.9117,2,   8.1131,2
49UP20150724_2,   P04,    32,  1,     24,     110,2,20150824,1454,1703,  9.5192, 160.0042, 5248,    504.9,      501,   7.3519,  34.5351,2,     67.0,2,  34.5347,2,    66.84,6,    50.56,6,    35.66,6,     0.00,6,    2.550,6,    0.231,3,    0.137,3,   2260.6,2,   2313.3,2,   7.4897,2,    25.00,  -999.00,9,  -999.00,9,   7.3026,2,  27.0102,2,   7.3521,2
49UP20150724_2,   P04,    32,  1,     23,     096,2,20150824,1454,1700,  9.5192, 160.0042, 5248,    605.1,      601,   6.6724,  34.5348,2,     66.8,2,  34.5349,6,    66.73,2,    58.00,2,    37.06,2,     0.00,2,    2.660,2,    0.126,3,    0.086,3,   2272.7,2,   2322.7,2,   7.4813,2,    25.00,  -999.00,9,  -999.00,9,   6.6159,2,  27.1046,2,   6.6723,2
49UP20150724_2,   P04,    32,  1,     22,     111,2,20150824,1454,1657,  9.5192, 160.0042, 5248,    704.9,      700,   5.9815,  34.5305,2,     66.7,2,  34.5307,2,    67.20,2,    67.64,2,    38.25,2,     0.00,2,    2.740,2,    0.071,3,    0.039,3,   2287.2,2,   2334.0,2,   7.4703,2,    25.00,  -999.00,9,  -999.00,9,   5.9190,2,  27.1919,2,   5.9822,2
49UP20150724_2,   P04,    32,  1,     21,     078,2,20150824,1454,1653,  9.5192, 160.0042, 5248,    807.3,      801,   5.4839,  34.5346,2,     68.9,2,  34.5344,2,    69.11,2,    75.12,2,    38.76,2,     0.00,2,    2.780,2,    0.048,3,    0.032,3,   2294.5,2,   2338.3,2,   7.4699,2,    25.00,  -999.00,9,  -999.00,9,   5.4147,2,  27.2574,2,   5.4831,2
49UP20150724_2,   P04,    32,  1,     20,     093,2,20150824,1454,1649,  9.5192, 160.0042, 5248,    907.0,      900,   5.0233,  34.5399,2,     70.3,2,  34.5403,2,    70.10,2,    83.68,2,    39.36,2,     0.00,2,    2.830,2,    0.028,3,    0.021,3,   2304.1,2,   2349.3,2,   7.4675,2,    25.00,  -999.00,9,  -999.00,9,   4.9482,2,  27.3164,2,   5.0150,2
49UP20150724_2,   P04,    32,  1,     19,     092,2,20150824,1454,1646,  9.5192, 160.0042, 5248,   1010.3,     1002,   4.4656,  34.5515,2,     74.4,2,  34.5518,2,    74.30,2,    94.01,2,    39.63,2,     0.00,2,    2.850,2,    0.025,3,    0.009,3,   2311.2,2,   2361.0,2,   7.4689,2,    25.00,  -999.00,9,  -999.00,9,   4.3854,2,  27.3885,2,   4.4678,2
49UP20150724_2,   P04,    32,  1,     18,     101,2,20150824,1454,1641,  9.5192, 160.0042, 5248,   1211.6,     1201,   3.6484,  34.5738,2,     84.5,2,  34.5737,2,    84.66,2,   110.31,2,    39.51,2,     0.00,2,    2.830,2, -999.000,9, -999.000,9,   2324.4,6,   2378.7,6,   7.4827,2,    25.00,  -999.00,9,  -999.00,9,   3.5580,2,  27.4919,2,   3.6466,2
49UP20150724_2,   P04,    32,  1,     17,     090,2,20150824,1454,1636,  9.5192, 160.0042, 5248,   1413.4,     1401,   3.0006,  34.5954,2,     89.7,2,  34.5950,2,    89.70,2,   124.44,2,    39.67,2,     0.00,2,    2.830,2, -999.000,9, -999.000,9,   2335.8,2,   2393.1,2,   7.4881,6,    25.00,  -999.00,9,  -999.00,9,   2.8998,2,  27.5712,2,   2.9998,2
49UP20150724_2,   P04,    32,  1,     16,     089,2,20150824,1454,1628,  9.5192, 160.0042, 5248,   1617.1,     1602,   2.6296,  34.6132,2,     97.8,2,  34.6129,2,    98.03,2,   131.44,2,    39.29,2,     0.00,2,    2.790,2, -999.000,9, -999.000,9,   2343.2,2,   2401.8,2,   7.5026,2,    25.00,  -999.00,9,  -999.00,9,   2.5163,2,  27.6193,2,   2.6298,2
49UP20150724_2,   P04,    32,  1,     15,     088,2,20150824,1454,1623,  9.5192, 160.0042, 5248,   1820.0,     1802,   2.3673,  34.6262,2,    101.6,2,  34.6263,2,   101.79,2,   137.68,2,    39.21,2,     0.00,2,    2.770,2, -999.000,9, -999.000,9,   2347.7,2,   2410.8,2,   7.5063,2,    25.00,  -999.00,9,  -999.00,9,   2.2406,2,  27.6528,2,   2.3676,2
49UP20150724_2,   P04,    32,  1,     14,     999,2,20150824,1454,1616,  9.5192, 160.0042, 5248,   2023.7,     2003,   2.1658,  34.6370,2,    107.3,2,  34.6372,2,   107.32,2,   142.09,2,    38.89,2,     0.00,2,    2.750,2, -999.000,9, -999.000,9,   2347.8,2,   2413.3,2,   7.5122,2,    25.00,  -999.00,9,  -999.00,9,   2.0248,2,  27.6789,2,   2.1658,2
49UP20150724_2,   P04,    32,  1,     13,     667,2,20150824,1454,1611,  9.5192, 160.0042, 5248,   2225.2,     2201,   1.9988,  34.6473,2,    113.4,2,  34.6472,2,   113.64,2,   145.00,2,    38.60,2,     0.00,2,    2.710,2, -999.000,9, -999.000,9,   2347.3,2,   2416.4,2,   7.5230,2,    25.00,  -999.00,9,  -999.00,9,   1.8431,2,  27.7014,2,   1.9987,2
49UP20150724_2,   P04,    32,  1,     12,     074,2,20150824,1454,1606,  9.5192, 160.0042, 5248,   2429.6,     2402,   1.8924,  34.6546,2,    118.4,2,  34.6550,6,   118.41,2,   146.69,2,    38.30,2,     0.00,2,    2.690,2, -999.000,9, -999.000,9,   2346.0,2,   2420.3,2,   7.5329,2,    25.00,  -999.00,9,  -999.00,9,   1.7204,2,  27.7166,2,   1.8924,2
49UP20150724_2,   P04,    32,  1,     11,     268,2,20150824,1454,1600,  9.5192, 160.0042, 5248,   2633.5,     2602,   1.7802,  34.6615,2,    124.8,2,  34.6616,2,   124.70,2,   147.12,2,    37.82,2,     0.00,2,    2.650,2,    0.004,3,    0.006,3,   2344.0,6,   2420.1,6,   7.5426,2,    25.00,  -999.00,9,  -999.00,9,   1.5919,2,  27.7318,2,   1.7803,2
49UP20150724_2,   P04,    32,  1,     10,     267,2,20150824,1454,1555,  9.5192, 160.0042, 5248,   2835.3,     2800,   1.7013,  34.6668,2,    130.0,2,  34.6668,2,   130.11,2,   147.77,2,    37.52,2,     0.00,2,    2.630,2, -999.000,9, -999.000,9,   2340.8,2,   2420.8,2,   7.5498,6,    25.00,  -999.00,9,  -999.00,9,   1.4958,2,  27.7431,2,   1.7013,2
49UP20150724_2,   P04,    32,  1,      9,     518,2,20150824,1454,1551,  9.5192, 160.0042, 5248,   3040.1,     3001,   1.6216,  34.6721,2,    136.2,2,  34.6722,2,   136.34,6,   147.43,6,    37.10,6,     0.00,6,    2.590,6, -999.000,9, -999.000,9,   2336.7,2,   2418.1,2,   7.5589,2,    25.00,  -999.00,9,  -999.00,9,   1.3983,2,  27.7544,2,   1.6217,2
49UP20150724_2,   P04,    32,  1,      8,     081,2,20150824,1454,1541,  9.5192, 160.0042, 5248,   3295.1,     3251,   1.5363,  34.6784,2,    144.8,2,  34.6786,6,   144.82,2,   145.39,2,    36.54,2,     0.00,2,    2.540,2, -999.000,9, -999.000,9,   2328.6,3,   2417.5,2,   7.5689,2,    25.00,  -999.00,9,  -999.00,9,   1.2899,2,  27.7671,2,   1.5361,2
49UP20150724_2,   P04,    32,  1,      7,     516,2,20150824,1454,1535,  9.5192, 160.0042, 5248,   3552.3,     3503,   1.4823,  34.6834,2,    152.4,2,  34.6837,2,   152.41,2,   142.72,2,    36.01,2,     0.00,2,    2.510,2, -999.000,9, -999.000,9,   2328.9,2,   2412.9,2,   7.5792,2,    25.00,  -999.00,9,  -999.00,9,   1.2113,2,  27.7766,2,   1.4821,2
49UP20150724_2,   P04,    32,  1,      6,     113,2,20150824,1454,1523,  9.5192, 160.0042, 5248,   4063.1,     4002,   1.4486,  34.6894,2,    162.0,2,  34.6894,2,   162.05,2,   138.63,2,    35.35,2,     0.00,2,    2.450,2, -999.000,9, -999.000,9,   2316.0,2,   2409.1,2,   7.5913,2,    25.00,  -999.00,9,  -999.00,9,   1.1243,2,  27.7874,2,   1.4488,2
49UP20150724_2,   P04,    32,  1,      5,     658,2,20150824,1454,1518,  9.5192, 160.0042, 5248,   4319.6,     4252,   1.4223,  34.6933,2,    168.6,2,  34.6933,2,   168.62,2,   135.16,2,    34.77,2,     0.00,2,    2.410,2, -999.000,9, -999.000,9,   2310.2,2,   2406.9,2,   7.5997,2,    25.00,  -999.00,9,  -999.00,9,   1.0702,2,  27.7942,2,   1.4225,2
49UP20150724_2,   P04,    32,  1,      4,     471,2,20150824,1454,1512,  9.5192, 160.0042, 5248,   4575.1,     4501,   1.4240,  34.6950,2,    172.0,2,  34.6955,2,   171.99,2,   133.41,2,    34.57,2,     0.00,2,    2.400,2,    0.004,3,    0.006,3,   2303.3,6,   2401.5,6,   7.6037,2,    25.00,  -999.00,9,  -999.00,9,   1.0427,2,  27.7974,2,   1.4242,2
49UP20150724_2,   P04,    32,  1,      3,     104,2,20150824,1454,1506,  9.5192, 160.0042, 5248,   4831.8,     4751,   1.4349,  34.6961,2,    174.4,2,  34.6957,2,   174.50,2,   132.18,2,    34.42,2,     0.00,2,    2.380,2, -999.000,9, -999.000,9,   2303.0,2,   2401.2,2,   7.6045,6,    25.00,  -999.00,9,  -999.00,9,   1.0230,2,  27.7996,2,   1.4348,2
49UP20150724_2,   P04,    32,  1,      2,     075,2,20150824,1454,1501,  9.5192, 160.0042, 5248,   5088.7,     5001,   1.4479,  34.6978,2,    176.5,2,  34.6970,2,   176.66,2,   130.94,2,    34.19,2,     0.00,2,    2.370,2, -999.000,9, -999.000,9,   2301.6,2,   2396.6,2,   7.6060,2,    25.00,  -999.00,9,  -999.00,9,   1.0046,2,  27.8022,2,   1.4482,2
49UP20150724_2,   P04,    32,  1,      1,     997,2,20150824,1454,1454,  9.5192, 160.0042, 5248,   5369.0,     5273,   1.4820,  34.6975,2,    176.9,2,  34.6977,2,   177.17,6,   130.90,6,    34.24,6,     0.00,6,    2.370,6,    0.005,3,    0.010,3,   2300.2,2,   2400.0,2,   7.6069,2,    25.00,  -999.00,9,  -999.00,9,   1.0026,2,  27.8021,2,   1.4819,2