BOTTLE,20191113JMAGEMD
EXPOCODE,SECT_ID,STNNBR,CASTNO,SAMPNO,BTLNBR,BTLNBR_FLAG_U,DATE,TIME,BTL_TIME,LATITUDE,LONGITUDE,DEPTH,CTDPRS,CTDDEP,CTDTMP,CTDSAL,CTDSAL_FLAG_W,CTDOXY,CTDOXY_FLAG_W,SALNTY,SALNTY_FLAG_W,OXYGEN,OXYGEN_FLAG_W,SILCAT,SILCAT_FLAG_W,NO2+NO3,NO2+NO3_FLAG_W,NITRIT,NITRIT_FLAG_W,PHSPHT,PHSPHT_FLAG_W,CFC-11,CFC-11_FLAG_W,CFC-12,CFC-12_FLAG_W,TCARBN,TCARBN_FLAG_W,ALKALI,ALKALI_FLAG_W,PH_TS,PH_TS_FLAG_W,PH_TS_TMP,CHLORA,CHLORA_FLAG_W,PPHYTN,PPHYTN_FLAG_W,THETA,THETA_FLAG_W,SIGTHT,SIGTHT_FLAG_W,SBE35,SBE35_FLAG_W
,,,,,,,,UTC,,,,METER,DBAR,METERS,ITS-90,PSS-78,,UMOL/KG,,PSS78,,UMOL/KG,,UMOL/KG,,UMOL/KG,,UMOL/KG,,UMOL/KG,,PMOL/KG,,PMOL/KG,,UMOL/KG,,UMOL/KG,,,,ITS-90,UG/KG,,UG/KG,,ITS-90,,KG/M3,,ITS-90,
49UP20150724_2,   P04,    31,  1,      0,      -9,0,20150824,2321,0105,  9.5063, 159.1690, 5244,      0.0,        0,  29.1765,  33.9976,2,    197.2,2,-999.0000,9,   196.29,2,     0.90,2,     0.02,2,     0.00,2,    0.080,2, -999.000,9, -999.000,9,   -999.0,9,   -999.0,9,-999.0000,9,  -999.00,  -999.00,9,  -999.00,9,  29.1759,2,  21.2530,2,-999.0000,9
49UP20150724_2,   P04,    31,  1,     36,     109,2,20150824,2321,0142,  9.5063, 159.1690, 5244,     10.6,       11,  29.1427,  33.9941,2,    197.0,2,  33.9927,2,   196.09,2,     0.94,2,     0.01,2,     0.00,2,    0.080,2, -999.000,9, -999.000,9,   -999.0,9,   -999.0,9,-999.0000,9,  -999.00,  -999.00,9,  -999.00,9,  29.1402,2,  21.2622,2,  29.0935,2
49UP20150724_2,   P04,    31,  1,     35,     112,2,20150824,2321,0140,  9.5063, 159.1690, 5244,     26.3,       26,  28.9648,  33.9879,2,    197.3,2,  33.9881,2,   196.79,2,     0.95,2,     0.02,2,     0.00,2,    0.070,2, -999.000,9, -999.000,9,   -999.0,9,   -999.0,9,-999.0000,9,  -999.00,  -999.00,9,  -999.00,9,  28.9584,2,  21.3182,2,  28.9639,2
49UP20150724_2,   P04,    31,  1,     34,     094,2,20150824,2321,0138,  9.5063, 159.1690, 5244,     51.6,       51,  28.7358,  34.0617,2,    198.2,2,  34.0629,2,   197.51,2,     0.95,2,     0.03,2,     0.00,2,    0.080,2, -999.000,9, -999.000,9,   -999.0,9,   -999.0,9,-999.0000,9,  -999.00,  -999.00,9,  -999.00,9,  28.7234,2,  21.4516,2,  28.7347,2
49UP20150724_2,   P04,    31,  1,     33,     469,2,20150824,2321,0137,  9.5063, 159.1690, 5244,     76.3,       76,  24.5908,  35.1032,2,    206.9,2,  35.0663,4,   205.70,2,     1.55,2,     0.01,2,     0.00,2,    0.150,2, -999.000,9, -999.000,9,   -999.0,9,   -999.0,9,-999.0000,9,  -999.00,  -999.00,9,  -999.00,9,  24.5744,2,  23.5480,2,  24.6220,2
49UP20150724_2,   P04,    31,  1,     32,     105,2,20150824,2321,0133,  9.5063, 159.1690, 5244,     99.9,       99,  21.1220,  35.0245,2,    184.6,2,  35.0176,2,   184.29,2,     3.05,2,     1.61,2,     0.11,2,    0.330,2, -999.000,9, -999.000,9,   -999.0,9,   -999.0,9,-999.0000,9,  -999.00,  -999.00,9,  -999.00,9,  21.1028,2,  24.4846,2,  21.1461,2
49UP20150724_2,   P04,    31,  1,     31,     515,2,20150824,2321,0132,  9.5063, 159.1690, 5244,    125.5,      125,  16.9835,  34.6820,2,    159.1,2,  34.6504,4,   158.43,2,     7.85,2,     9.44,2,     0.07,2,    0.770,2, -999.000,9, -999.000,9,   -999.0,9,   -999.0,9,-999.0000,9,  -999.00,  -999.00,9,  -999.00,9,  16.9628,2,  25.2790,2,  16.9816,2
49UP20150724_2,   P04,    31,  1,     30,     097,2,20150824,2321,0131,  9.5063, 159.1690, 5244,    151.0,      150,  13.7531,  34.4529,2,    132.8,2,  34.4539,2,   130.68,2,    15.08,2,    16.43,2,     0.01,2,    1.270,2, -999.000,9, -999.000,9,   -999.0,9,   -999.0,9,-999.0000,9,  -999.00,  -999.00,9,  -999.00,9,  13.7317,2,  25.8201,2,  13.7524,2
49UP20150724_2,   P04,    31,  1,     29,     102,2,20150824,2321,0129,  9.5063, 159.1690, 5244,    201.2,      200,  10.5549,  34.3783,2,     88.5,2,  34.3783,2,    88.27,6,    28.81,6,    26.00,6,     0.00,6,    1.950,6, -999.000,9, -999.000,9,   -999.0,9,   -999.0,9,-999.0000,9,  -999.00,  -999.00,9,  -999.00,9,  10.5309,2,  26.3748,2,  10.5561,2
49UP20150724_2,   P04,    31,  1,     28,     108,2,20150824,2321,0127,  9.5063, 159.1690, 5244,    252.5,      251,   9.9012,  34.5182,2,     55.7,2,  34.5197,2,    55.02,2,    33.82,2,    31.31,2,     0.00,2,    2.280,2, -999.000,9, -999.000,9,   -999.0,9,   -999.0,9,-999.0000,9,  -999.00,  -999.00,9,  -999.00,9,   9.8722,2,  26.5974,2,   9.8865,2
49UP20150724_2,   P04,    31,  1,     27,     998,2,20150824,2321,0125,  9.5063, 159.1690, 5244,    331.9,      330,   8.7078,  34.5440,2,     54.8,2,  34.5439,2,    54.41,2,    40.87,2,    33.99,2,     0.00,2,    2.430,2, -999.000,9, -999.000,9,   -999.0,9,   -999.0,9,-999.0000,9,  -999.00,  -999.00,9,  -999.00,9,   8.6724,2,  26.8129,2,   8.7076,2
49UP20150724_2,   P04,    31,  1,     26,     084,2,20150824,2321,0123,  9.5063, 159.1690, 5244,    433.1,      430,   7.8524,  34.5470,2,     70.7,2,  34.5465,6,    70.30,2,    45.42,2,    34.49,2,     0.00,2,    2.450,2, -999.000,9, -999.000,9,   -999.0,9,   -999.0,9,-999.0000,9,  -999.00,  -999.00,9,  -999.00,9,   7.8087,2,  26.9464,2,   7.8522,2
49UP20150724_2,   P04,    31,  1,     25,     098,2,20150824,2321,0120,  9.5063, 159.1690, 5244,    533.8,      530,   7.1084,  34.5202,2,     71.2,2,  34.5206,2,    71.01,2,    53.22,2,    35.58,2,     0.00,2,    2.540,2, -999.000,9, -999.000,9,   -999.0,9,   -999.0,9,-999.0000,9,  -999.00,  -999.00,9,  -999.00,9,   7.0572,2,  27.0329,2,   7.1081,2
49UP20150724_2,   P04,    31,  1,     24,     110,2,20150824,2321,0117,  9.5063, 159.1690, 5244,    634.3,      630,   6.4801,  34.5284,2,     67.0,2,  34.5283,2,    66.92,2,    60.58,2,    37.27,2,     0.00,2,    2.670,2, -999.000,9, -999.000,9,   -999.0,9,   -999.0,9,-999.0000,9,  -999.00,  -999.00,9,  -999.00,9,   6.4218,2,  27.1254,2,   6.4797,2
49UP20150724_2,   P04,    31,  1,     23,     096,2,20150824,2321,0113,  9.5063, 159.1690, 5244,    736.1,      731,   5.8965,  34.5292,2,     67.2,2,  34.5298,2,    67.08,2,    68.95,2,    38.25,2,     0.00,2,    2.740,2, -999.000,9, -999.000,9,   -999.0,9,   -999.0,9,-999.0000,9,  -999.00,  -999.00,9,  -999.00,9,   5.8315,2,  27.2019,2,   5.8946,2
49UP20150724_2,   P04,    31,  1,     22,     111,2,20150824,2321,0110,  9.5063, 159.1690, 5244,    835.7,      829,   5.3490,  34.5337,2,     68.7,2,  34.5350,2,    69.03,2,    77.74,2,    38.87,2,     0.00,2,    2.780,2, -999.000,9, -999.000,9,   -999.0,9,   -999.0,9,-999.0000,9,  -999.00,  -999.00,9,  -999.00,9,   5.2781,2,  27.2730,2,   5.3500,2
49UP20150724_2,   P04,    31,  1,     21,     078,2,20150824,2321,0107,  9.5063, 159.1690, 5244,    937.3,      930,   4.7625,  34.5444,2,     71.6,2,  34.5438,2,    71.47,2,    88.39,2,    39.49,2,     0.00,2,    2.830,2, -999.000,9, -999.000,9,   -999.0,9,   -999.0,9,-999.0000,9,  -999.00,  -999.00,9,  -999.00,9,   4.6865,2,  27.3497,2,   4.7624,2
49UP20150724_2,   P04,    31,  1,     20,     093,2,20150824,2321,0104,  9.5063, 159.1690, 5244,   1079.3,     1070,   4.0982,  34.5598,2,     77.3,2,  34.5596,2,    77.28,2,   101.30,2,    39.65,2,     0.00,2,    2.830,2, -999.000,9, -999.000,9,   -999.0,9,   -999.0,9,-999.0000,9,  -999.00,  -999.00,9,  -999.00,9,   4.0149,2,  27.4344,2,   4.0983,2
49UP20150724_2,   P04,    31,  1,     19,     092,2,20150824,2321,0059,  9.5063, 159.1690, 5244,   1282.1,     1271,   3.3234,  34.5836,2,     86.0,2,  34.5838,2,    85.93,2,   117.38,2,    39.60,2,     0.00,2,    2.820,2, -999.000,9, -999.000,9,   -999.0,9,   -999.0,9,-999.0000,9,  -999.00,  -999.00,9,  -999.00,9,   3.2301,2,  27.5313,2,   3.3233,2
49UP20150724_2,   P04,    31,  1,     18,     101,2,20150824,2321,0054,  9.5063, 159.1690, 5244,   1484.3,     1471,   2.8430,  34.6031,2,     94.4,2,  34.6031,2,    94.23,2,   127.00,2,    39.38,2,     0.00,2,    2.790,2, -999.000,9, -999.000,9,   -999.0,9,   -999.0,9,-999.0000,9,  -999.00,  -999.00,9,  -999.00,9,   2.7382,2,  27.5919,2,   2.8433,2
49UP20150724_2,   P04,    31,  1,     17,     090,2,20150824,2321,0049,  9.5063, 159.1690, 5244,   1686.6,     1670,   2.5247,  34.6168,2,     97.8,2,  34.6169,2,    97.85,6,   134.68,6,    39.35,6,     0.00,6,    2.780,6, -999.000,9, -999.000,9,   -999.0,9,   -999.0,9,-999.0000,9,  -999.00,  -999.00,9,  -999.00,9,   2.4071,2,  27.6314,2,   2.5251,2
49UP20150724_2,   P04,    31,  1,     16,     089,2,20150824,2321,0045,  9.5063, 159.1690, 5244,   1891.2,     1872,   2.3196,  34.6279,2,    102.8,2,  34.6285,6,   102.83,2,   138.97,2,    39.12,2,     0.00,2,    2.760,2, -999.000,9, -999.000,9,   -999.0,9,   -999.0,9,-999.0000,9,  -999.00,  -999.00,9,  -999.00,9,   2.1876,2,  27.6585,2,   2.3197,2
49UP20150724_2,   P04,    31,  1,     15,     088,2,20150824,2321,0039,  9.5063, 159.1690, 5244,   2092.9,     2071,   2.1471,  34.6382,2,    108.0,2,  34.6383,2,   107.98,2,   142.36,2,    38.79,2,     0.00,2,    2.730,2, -999.000,9, -999.000,9,   -999.0,9,   -999.0,9,-999.0000,9,  -999.00,  -999.00,9,  -999.00,9,   2.0005,2,  27.6818,2,   2.1471,2
49UP20150724_2,   P04,    31,  1,     14,     999,2,20150824,2321,0034,  9.5063, 159.1690, 5244,   2297.1,     2272,   1.9728,  34.6496,2,    114.7,2,  34.6491,2,   114.58,2,   144.93,2,    38.45,2,     0.00,2,    2.700,2, -999.000,9, -999.000,9,   -999.0,9,   -999.0,9,-999.0000,9,  -999.00,  -999.00,9,  -999.00,9,   1.8112,2,  27.7057,2,   1.9727,2
49UP20150724_2,   P04,    31,  1,     13,     667,2,20150824,2321,0030,  9.5063, 159.1690, 5244,   2499.0,     2470,   1.8627,  34.6566,2,    120.0,2,  34.6568,2,   120.12,2,   146.89,2,    38.17,2,     0.00,2,    2.670,2, -999.000,9, -999.000,9,   -999.0,9,   -999.0,9,-999.0000,9,  -999.00,  -999.00,9,  -999.00,9,   1.6850,2,  27.7209,2,   1.8626,2
49UP20150724_2,   P04,    31,  1,     12,     074,2,20150824,2321,0024,  9.5063, 159.1690, 5244,   2702.2,     2670,   1.7629,  34.6630,2,    126.1,2,  34.6632,2,   126.07,6,   147.52,6,    37.77,6,     0.00,6,    2.640,6, -999.000,9, -999.000,9,   -999.0,9,   -999.0,9,-999.0000,9,  -999.00,  -999.00,9,  -999.00,9,   1.5686,2,  27.7347,2,   1.7631,2
49UP20150724_2,   P04,    31,  1,     11,     268,2,20150824,2321,0020,  9.5063, 159.1690, 5244,   2906.7,     2870,   1.6957,  34.6675,2,    130.9,2,  34.6680,6,   130.70,2,   147.59,2,    37.45,2,     0.00,2,    2.610,2, -999.000,9, -999.000,9,   -999.0,9,   -999.0,9,-999.0000,9,  -999.00,  -999.00,9,  -999.00,9,   1.4836,2,  27.7445,2,   1.6958,2
49UP20150724_2,   P04,    31,  1,     10,     267,2,20150824,2321,0015,  9.5063, 159.1690, 5244,   3121.6,     3081,   1.6231,  34.6725,2,    136.8,2,  34.6733,2,   136.94,2,   147.14,2,    37.09,2,     0.00,2,    2.580,2, -999.000,9, -999.000,9,   -999.0,9,   -999.0,9,-999.0000,9,  -999.00,  -999.00,9,  -999.00,9,   1.3918,2,  27.7552,2,   1.6234,2
49UP20150724_2,   P04,    31,  1,      9,     518,2,20150824,2321,0008,  9.5063, 159.1690, 5244,   3375.3,     3330,   1.5593,  34.6776,2,    143.7,2,  34.6775,2,   143.77,2,   145.65,2,    36.55,2,     0.00,2,    2.540,2, -999.000,9, -999.000,9,   -999.0,9,   -999.0,9,-999.0000,9,  -999.00,  -999.00,9,  -999.00,9,   1.3043,2,  27.7654,2,   1.5593,2
49UP20150724_2,   P04,    31,  1,      8,     081,2,20150824,2321,0002,  9.5063, 159.1690, 5244,   3631.9,     3581,   1.5140,  34.6819,2,    150.1,2,  34.6824,2,   150.40,2,   143.29,2,    36.08,2,     0.00,2,    2.500,2, -999.000,9, -999.000,9,   -999.0,9,   -999.0,9,-999.0000,9,  -999.00,  -999.00,9,  -999.00,9,   1.2339,2,  27.7738,2,   1.5140,2
49UP20150724_2,   P04,    31,  1,      7,     516,2,20150824,2321,2355,  9.5063, 159.1690, 5244,   3887.4,     3830,   1.4902,  34.6852,2,    155.3,2,  34.6850,2,   155.29,2,   141.65,2,    35.78,2,     0.00,2,    2.480,2, -999.000,9, -999.000,9,   -999.0,9,   -999.0,9,-999.0000,9,  -999.00,  -999.00,9,  -999.00,9,   1.1837,2,  27.7800,2,   1.4902,2
49UP20150724_2,   P04,    31,  1,      6,     113,2,20150824,2321,2349,  9.5063, 159.1690, 5244,   4144.2,     4081,   1.4728,  34.6886,2,    160.4,2,  34.6888,2,   160.61,6,   139.31,6,    35.46,6,     0.00,6,    2.450,6, -999.000,9, -999.000,9,   -999.0,9,   -999.0,9,-999.0000,9,  -999.00,  -999.00,9,  -999.00,9,   1.1389,2,  27.7857,2,   1.4730,2
49UP20150724_2,   P04,    31,  1,      5,     658,2,20150824,2321,2343,  9.5063, 159.1690, 5244,   4400.0,     4330,   1.4532,  34.6919,2,    166.1,2,  34.6925,6,   166.43,2,   136.33,2,    35.06,2,     0.00,2,    2.420,2, -999.000,9, -999.000,9,   -999.0,9,   -999.0,9,-999.0000,9,  -999.00,  -999.00,9,  -999.00,9,   1.0911,2,  27.7917,2,   1.4533,2
49UP20150724_2,   P04,    31,  1,      4,     471,2,20150824,2321,2337,  9.5063, 159.1690, 5244,   4656.4,     4580,   1.4448,  34.6944,2,    170.8,2,  34.6955,2,   171.12,2,   133.90,2,    34.68,2,     0.00,2,    2.390,2, -999.000,9, -999.000,9,   -999.0,9,   -999.0,9,-999.0000,9,  -999.00,  -999.00,9,  -999.00,9,   1.0533,2,  27.7962,2,   1.4448,2
49UP20150724_2,   P04,    31,  1,      3,     104,2,20150824,2321,2332,  9.5063, 159.1690, 5244,   4912.7,     4829,   1.4458,  34.6963,2,    174.2,2,  34.6967,2,   174.77,2,   132.08,2,    34.43,2,     0.00,2,    2.370,2, -999.000,9, -999.000,9,   -999.0,9,   -999.0,9,-999.0000,9,  -999.00,  -999.00,9,  -999.00,9,   1.0239,2,  27.7997,2,   1.4458,2
49UP20150724_2,   P04,    31,  1,      2,     075,2,20150824,2321,2326,  9.5063, 159.1690, 5244,   5171.5,     5081,   1.4585,  34.6976,2,    176.5,2,  34.6979,2,   176.89,2,   130.72,2,    34.19,2,     0.00,2,    2.360,2, -999.000,9, -999.000,9,   -999.0,9,   -999.0,9,-999.0000,9,  -999.00,  -999.00,9,  -999.00,9,   1.0046,2,  27.8020,2,   1.4586,2
49UP20150724_2,   P04,    31,  1,      1,     997,2,20150824,2321,2322,  9.5063, 159.1690, 5244,   5342.9,     5247,   1.4783,  34.6977,2,    176.8,2,  34.6979,2,   177.10,2,   130.90,2,    34.26,2,     0.00,2,    2.360,2, -999.000,9, -999.000,9,   -999.0,9,   -999.0,9,-999.0000,9,  -999.00,  -999.00,9,  -999.00,9,   1.0024,2,  27.8023,2,   1.4783,2