BOTTLE,20191113JMAGEMD
EXPOCODE,SECT_ID,STNNBR,CASTNO,SAMPNO,BTLNBR,BTLNBR_FLAG_U,DATE,TIME,BTL_TIME,LATITUDE,LONGITUDE,DEPTH,CTDPRS,CTDDEP,CTDTMP,CTDSAL,CTDSAL_FLAG_W,CTDOXY,CTDOXY_FLAG_W,SALNTY,SALNTY_FLAG_W,OXYGEN,OXYGEN_FLAG_W,SILCAT,SILCAT_FLAG_W,NO2+NO3,NO2+NO3_FLAG_W,NITRIT,NITRIT_FLAG_W,PHSPHT,PHSPHT_FLAG_W,CFC-11,CFC-11_FLAG_W,CFC-12,CFC-12_FLAG_W,TCARBN,TCARBN_FLAG_W,ALKALI,ALKALI_FLAG_W,PH_TS,PH_TS_FLAG_W,PH_TS_TMP,CHLORA,CHLORA_FLAG_W,PPHYTN,PPHYTN_FLAG_W,THETA,THETA_FLAG_W,SIGTHT,SIGTHT_FLAG_W,SBE35,SBE35_FLAG_W
,,,,,,,,UTC,,,,METER,DBAR,METERS,ITS-90,PSS-78,,UMOL/KG,,PSS78,,UMOL/KG,,UMOL/KG,,UMOL/KG,,UMOL/KG,,UMOL/KG,,PMOL/KG,,PMOL/KG,,UMOL/KG,,UMOL/KG,,,,ITS-90,UG/KG,,UG/KG,,ITS-90,,KG/M3,,ITS-90,
49UP20150724_2,   P04,    34,  1,      0,      -9,0,20150823,1433,1630,  9.4922, 161.6670, 4895,      0.0,        0,  29.1525,  33.8943,2,    196.9,2,-999.0000,9,   196.43,2,     1.08,2,     0.00,2,     0.00,2,    0.090,2, -999.000,9, -999.000,9,   -999.0,9,   -999.0,9,-999.0000,9,  -999.00,  -999.00,9,  -999.00,9,  29.1519,2,  21.1835,2,-999.0000,9
49UP20150724_2,   P04,    34,  1,     36,     109,2,20150823,1433,1651,  9.4922, 161.6670, 4895,     11.0,       11,  28.9965,  33.8883,2,    197.2,2,  33.8863,2,   196.53,2,     1.04,2,     0.00,2,     0.00,2,    0.100,2, -999.000,9, -999.000,9,   -999.0,9,   -999.0,9,-999.0000,9,  -999.00,  -999.00,9,  -999.00,9,  28.9938,2,  21.2317,2,  28.9953,2
49UP20150724_2,   P04,    34,  1,     35,     112,2,20150823,1433,1650,  9.4922, 161.6670, 4895,     25.8,       26,  28.8750,  33.9526,2,    197.1,2,  33.9582,2,   196.74,2,     0.98,2,     0.00,2,     0.00,2,    0.090,2, -999.000,9, -999.000,9,   -999.0,9,   -999.0,9,-999.0000,9,  -999.00,  -999.00,9,  -999.00,9,  28.8688,2,  21.3215,2,  28.8733,2
49UP20150724_2,   P04,    34,  1,     34,     094,2,20150823,1433,1647,  9.4922, 161.6670, 4895,     51.1,       51,  27.8444,  34.5010,2,    206.0,2,  34.5121,2,   206.35,2,     1.17,2,     0.00,2,     0.00,2,    0.130,2, -999.000,9, -999.000,9,   -999.0,9,   -999.0,9,-999.0000,9,  -999.00,  -999.00,9,  -999.00,9,  27.8324,2,  22.0740,2,  27.8432,2
49UP20150724_2,   P04,    34,  1,     33,     469,2,20150823,1433,1645,  9.4922, 161.6670, 4895,    101.0,      100,  22.8094,  34.9922,2,    192.8,2,  35.0099,4,   200.70,2,     2.22,2,     0.14,2,     0.01,2,    0.220,2, -999.000,9, -999.000,9,   -999.0,9,   -999.0,9,-999.0000,9,  -999.00,  -999.00,9,  -999.00,9,  22.7889,2,  23.9884,2,  23.0406,2
49UP20150724_2,   P04,    34,  1,     32,     105,2,20150823,1433,1644,  9.4922, 161.6670, 4895,    126.4,      126,  16.5478,  34.6419,2,    146.4,2,  34.6368,2,   147.00,2,     9.34,2,    11.06,2,     0.18,2,    0.910,2, -999.000,9, -999.000,9,   -999.0,9,   -999.0,9,-999.0000,9,  -999.00,  -999.00,9,  -999.00,9,  16.5275,2,  25.3505,2,  16.5469,2
49UP20150724_2,   P04,    34,  1,     31,     515,2,20150823,1433,1642,  9.4922, 161.6670, 4895,    151.0,      150,  13.6531,  34.4393,2,    130.3,2,  34.4194,2,   136.07,2,    15.54,2,    16.31,2,     0.01,2,    1.270,2, -999.000,9, -999.000,9,   -999.0,9,   -999.0,9,-999.0000,9,  -999.00,  -999.00,9,  -999.00,9,  13.6318,2,  25.8303,2,  13.5980,2
49UP20150724_2,   P04,    34,  1,     30,     097,2,20150823,1433,1641,  9.4922, 161.6670, 4895,    176.0,      175,  11.1726,  34.3737,2,     98.2,2,  34.3612,2,   102.83,2,    24.23,2,    22.98,2,     0.00,2,    1.770,2, -999.000,9, -999.000,9,   -999.0,9,   -999.0,9,-999.0000,9,  -999.00,  -999.00,9,  -999.00,9,  11.1508,2,  26.2605,2,  11.1552,2
49UP20150724_2,   P04,    34,  1,     29,     102,2,20150823,1433,1640,  9.4922, 161.6670, 4895,    202.8,      202,  10.3791,  34.4533,2,     65.1,2,  34.4571,2,    63.96,2,    30.84,2,    28.92,2,     0.00,2,    2.170,2, -999.000,9, -999.000,9,   -999.0,9,   -999.0,9,-999.0000,9,  -999.00,  -999.00,9,  -999.00,9,  10.3551,2,  26.4640,2,  10.3372,2
49UP20150724_2,   P04,    34,  1,     28,     108,2,20150823,1433,1638,  9.4922, 161.6670, 4895,    253.1,      252,   9.6964,  34.5342,2,     48.4,2,  34.5364,2,    47.78,2,    35.17,2,    32.36,2,     0.00,2,    2.370,2, -999.000,9, -999.000,9,   -999.0,9,   -999.0,9,-999.0000,9,  -999.00,  -999.00,9,  -999.00,9,   9.6676,2,  26.6443,2,   9.6943,2
49UP20150724_2,   P04,    34,  1,     27,     998,2,20150823,1433,1636,  9.4922, 161.6670, 4895,    332.6,      330,   8.4464,  34.5645,2,     58.4,2,  34.5709,2,    58.05,2,    41.85,2,    34.27,2,     0.00,2,    2.460,2, -999.000,9, -999.000,9,   -999.0,9,   -999.0,9,-999.0000,9,  -999.00,  -999.00,9,  -999.00,9,   8.4116,2,  26.8694,2,   8.4664,2
49UP20150724_2,   P04,    34,  1,     26,     084,2,20150823,1433,1633,  9.4922, 161.6670, 4895,    433.1,      430,   7.6845,  34.5509,2,     65.9,2,  34.5500,2,    65.73,6,    47.08,6,    35.16,6,     0.00,6,    2.520,6, -999.000,9, -999.000,9,   -999.0,9,   -999.0,9,-999.0000,9,  -999.00,  -999.00,9,  -999.00,9,   7.6413,2,  26.9740,2,   7.6849,2
49UP20150724_2,   P04,    34,  1,     25,     098,2,20150823,1433,1630,  9.4922, 161.6670, 4895,    533.4,      530,   6.9002,  34.5361,2,     66.1,2,  34.5355,6,    66.29,2,    55.19,2,    36.50,2,     0.00,2,    2.620,2, -999.000,9, -999.000,9,   -999.0,9,   -999.0,9,-999.0000,9,  -999.00,  -999.00,9,  -999.00,9,   6.8498,2,  27.0740,2,   6.9004,2
49UP20150724_2,   P04,    34,  1,     24,     110,2,20150823,1433,1627,  9.4922, 161.6670, 4895,    634.9,      630,   6.3071,  34.5313,2,     65.4,2,  34.5311,2,    65.26,2,    62.90,2,    37.54,2,     0.00,2,    2.710,2, -999.000,9, -999.000,9,   -999.0,9,   -999.0,9,-999.0000,9,  -999.00,  -999.00,9,  -999.00,9,   6.2495,2,  27.1503,2,   6.3094,2
49UP20150724_2,   P04,    34,  1,     23,     096,2,20150823,1433,1624,  9.4922, 161.6670, 4895,    736.9,      731,   5.6445,  34.5341,2,     67.9,2,  34.5338,2,    67.78,2,    72.43,2,    38.59,2,     0.00,2,    2.770,2, -999.000,9, -999.000,9,   -999.0,9,   -999.0,9,-999.0000,9,  -999.00,  -999.00,9,  -999.00,9,   5.5809,2,  27.2368,2,   5.6447,2
49UP20150724_2,   P04,    34,  1,     22,     111,2,20150823,1433,1621,  9.4922, 161.6670, 4895,    837.1,      831,   5.2663,  34.5366,2,     68.7,2,  34.5364,2,    68.56,2,    79.32,2,    39.12,2,     0.00,2,    2.810,2, -999.000,9, -999.000,9,   -999.0,9,   -999.0,9,-999.0000,9,  -999.00,  -999.00,9,  -999.00,9,   5.1958,2,  27.2850,2,   5.2669,2
49UP20150724_2,   P04,    34,  1,     21,     078,2,20150823,1433,1619,  9.4922, 161.6670, 4895,    938.1,      931,   4.7263,  34.5471,2,     75.0,2,  34.5465,2,    75.03,2,    88.16,2,    39.12,2,     0.00,2,    2.810,2, -999.000,9, -999.000,9,   -999.0,9,   -999.0,9,-999.0000,9,  -999.00,  -999.00,9,  -999.00,9,   4.6504,2,  27.3559,2,   4.7261,2
49UP20150724_2,   P04,    34,  1,     20,     093,2,20150823,1433,1615,  9.4922, 161.6670, 4895,   1079.7,     1071,   4.2135,  34.5588,2,     80.3,2,  34.5578,2,    80.33,2,    98.31,2,    39.15,2,     0.00,2,    2.810,2, -999.000,9, -999.000,9,   -999.0,9,   -999.0,9,-999.0000,9,  -999.00,  -999.00,9,  -999.00,9,   4.1293,2,  27.4217,2,   4.2135,2
49UP20150724_2,   P04,    34,  1,     19,     092,2,20150823,1433,1610,  9.4922, 161.6670, 4895,   1282.1,     1271,   3.4461,  34.5804,2,     85.6,2,  34.5810,2,    85.57,2,   114.39,2,    39.57,2,     0.00,2,    2.830,2, -999.000,9, -999.000,9,   -999.0,9,   -999.0,9,-999.0000,9,  -999.00,  -999.00,9,  -999.00,9,   3.3517,2,  27.5172,2,   3.4461,2
49UP20150724_2,   P04,    34,  1,     18,     101,2,20150823,1433,1603,  9.4922, 161.6670, 4895,   1483.8,     1470,   2.9353,  34.5989,2,     90.9,2,  34.5985,2,    91.11,6,   125.78,6,    39.51,6,     0.00,6,    2.820,6, -999.000,9, -999.000,9,   -999.0,9,   -999.0,9,-999.0000,9,  -999.00,  -999.00,9,  -999.00,9,   2.8295,2,  27.5803,2,   2.9356,2
49UP20150724_2,   P04,    34,  1,     17,     090,2,20150823,1433,1559,  9.4922, 161.6670, 4895,   1687.0,     1671,   2.5999,  34.6143,2,     96.8,2,  34.6140,6,    96.58,2,   132.75,2,    39.32,2,     0.00,2,    2.800,2, -999.000,9, -999.000,9,   -999.0,9,   -999.0,9,-999.0000,9,  -999.00,  -999.00,9,  -999.00,9,   2.4812,2,  27.6231,2,   2.6000,2
49UP20150724_2,   P04,    34,  1,     16,     089,2,20150823,1433,1554,  9.4922, 161.6670, 4895,   1889.4,     1870,   2.3796,  34.6254,2,    101.5,2,  34.6255,2,   101.36,2,   137.79,2,    39.19,2,     0.00,2,    2.780,2, -999.000,9, -999.000,9,   -999.0,9,   -999.0,9,-999.0000,9,  -999.00,  -999.00,9,  -999.00,9,   2.2469,2,  27.6516,2,   2.3800,2
49UP20150724_2,   P04,    34,  1,     15,     088,2,20150823,1433,1546,  9.4922, 161.6670, 4895,   2093.4,     2071,   2.1244,  34.6403,2,    108.6,2,  34.6408,2,   108.85,2,   142.49,2,    38.71,2,     0.00,2,    2.740,2, -999.000,9, -999.000,9,   -999.0,9,   -999.0,9,-999.0000,9,  -999.00,  -999.00,9,  -999.00,9,   1.9781,2,  27.6853,2,   2.1244,2
49UP20150724_2,   P04,    34,  1,     14,     999,2,20150823,1433,1541,  9.4922, 161.6670, 4895,   2294.3,     2269,   1.9873,  34.6486,2,    114.4,2,  34.6491,2,   114.27,2,   144.53,2,    38.48,2,     0.00,2,    2.710,2, -999.000,9, -999.000,9,   -999.0,9,   -999.0,9,-999.0000,9,  -999.00,  -999.00,9,  -999.00,9,   1.8257,2,  27.7038,2,   1.9870,2
49UP20150724_2,   P04,    34,  1,     13,     667,2,20150823,1433,1537,  9.4922, 161.6670, 4895,   2498.6,     2470,   1.8578,  34.6558,2,    120.4,2,  34.6559,2,   120.39,6,   146.05,6,    38.13,6,     0.00,6,    2.680,6, -999.000,9, -999.000,9,   -999.0,9,   -999.0,9,-999.0000,9,  -999.00,  -999.00,9,  -999.00,9,   1.6803,2,  27.7206,2,   1.8578,2
49UP20150724_2,   P04,    34,  1,     12,     074,2,20150823,1433,1530,  9.4922, 161.6670, 4895,   2704.1,     2672,   1.7690,  34.6625,2,    125.2,2,  34.6626,6,   125.44,2,   147.56,2,    37.80,2,     0.00,2,    2.660,2, -999.000,9, -999.000,9,   -999.0,9,   -999.0,9,-999.0000,9,  -999.00,  -999.00,9,  -999.00,9,   1.5743,2,  27.7339,2,   1.7690,2
49UP20150724_2,   P04,    34,  1,     11,     268,2,20150823,1433,1525,  9.4922, 161.6670, 4895,   2907.5,     2871,   1.6886,  34.6678,2,    131.3,2,  34.6683,2,   131.05,2,   147.11,2,    37.33,2,     0.00,2,    2.620,2, -999.000,9, -999.000,9,   -999.0,9,   -999.0,9,-999.0000,9,  -999.00,  -999.00,9,  -999.00,9,   1.4765,2,  27.7453,2,   1.6885,2
49UP20150724_2,   P04,    34,  1,     10,     267,2,20150823,1433,1521,  9.4922, 161.6670, 4895,   3121.4,     3081,   1.6219,  34.6727,2,    137.1,2,  34.6728,2,   137.09,2,   146.75,2,    37.08,2,     0.00,2,    2.590,2, -999.000,9, -999.000,9,   -999.0,9,   -999.0,9,-999.0000,9,  -999.00,  -999.00,9,  -999.00,9,   1.3907,2,  27.7554,2,   1.6218,2
49UP20150724_2,   P04,    34,  1,      9,     518,2,20150823,1433,1512,  9.4922, 161.6670, 4895,   3375.9,     3330,   1.5643,  34.6773,2,    143.3,2,  34.6770,2,   143.18,2,   145.61,2,    36.61,2,     0.00,2,    2.560,2, -999.000,9, -999.000,9,   -999.0,9,   -999.0,9,-999.0000,9,  -999.00,  -999.00,9,  -999.00,9,   1.3092,2,  27.7648,2,   1.5644,2
49UP20150724_2,   P04,    34,  1,      8,     081,2,20150823,1433,1507,  9.4922, 161.6670, 4895,   3632.2,     3581,   1.4923,  34.6832,2,    151.6,2,  34.6828,2,   151.69,2,   143.13,2,    36.11,2,     0.00,2,    2.510,2, -999.000,9, -999.000,9,   -999.0,9,   -999.0,9,-999.0000,9,  -999.00,  -999.00,9,  -999.00,9,   1.2128,2,  27.7763,2,   1.4922,2
49UP20150724_2,   P04,    34,  1,      7,     516,2,20150823,1433,1459,  9.4922, 161.6670, 4895,   3888.2,     3831,   1.4526,  34.6877,2,    159.2,2,  34.6872,2,   159.21,6,   139.63,6,    35.54,6,     0.00,6,    2.470,6, -999.000,9, -999.000,9,   -999.0,9,   -999.0,9,-999.0000,9,  -999.00,  -999.00,9,  -999.00,9,   1.1471,2,  27.7845,2,   1.4528,2
49UP20150724_2,   P04,    34,  1,      6,     113,2,20150823,1433,1454,  9.4922, 161.6670, 4895,   4143.5,     4080,   1.4112,  34.6926,2,    167.5,2,  34.6925,2,   167.61,2,   135.20,2,    34.87,2,     0.00,2,    2.420,2, -999.000,9, -999.000,9,   -999.0,9,   -999.0,9,-999.0000,9,  -999.00,  -999.00,9,  -999.00,9,   1.0790,2,  27.7930,2,   1.4112,2
49UP20150724_2,   P04,    34,  1,      5,     658,2,20150823,1433,1453,  9.4922, 161.6670, 4895,   4143.6,     4080,   1.4112,  34.6926,2,    167.5,2,  34.6928,2,   167.63,2,   135.19,2,    34.96,2,     0.00,2,    2.420,2, -999.000,9, -999.000,9,   -999.0,9,   -999.0,9,-999.0000,9,  -999.00,  -999.00,9,  -999.00,9,   1.0791,2,  27.7930,2,   1.4113,2
49UP20150724_2,   P04,    34,  1,      4,     471,2,20150823,1433,1448,  9.4922, 161.6670, 4895,   4400.3,     4331,   1.4039,  34.6948,2,    172.0,2,  34.6948,6,   172.10,2,   132.61,2,    34.58,2,     0.00,2,    2.400,2, -999.000,9, -999.000,9,   -999.0,9,   -999.0,9,-999.0000,9,  -999.00,  -999.00,9,  -999.00,9,   1.0432,2,  27.7972,2,   1.4037,2
49UP20150724_2,   P04,    34,  1,      3,     104,2,20150823,1433,1442,  9.4922, 161.6670, 4895,   4655.8,     4580,   1.4089,  34.6968,2,    174.9,2,  34.6969,2,   174.72,2,   131.46,2,    34.40,2,     0.00,2,    2.390,2, -999.000,9, -999.000,9,   -999.0,9,   -999.0,9,-999.0000,9,  -999.00,  -999.00,9,  -999.00,9,   1.0186,2,  27.8004,2,   1.4091,2
49UP20150724_2,   P04,    34,  1,      2,     075,2,20150823,1433,1436,  9.4922, 161.6670, 4895,   4912.8,     4830,   1.4038,  34.6988,2,    179.1,2,  34.6992,2,   178.75,2,   129.24,2,    34.08,2,     0.00,2,    2.360,2, -999.000,9, -999.000,9,   -999.0,9,   -999.0,9,-999.0000,9,  -999.00,  -999.00,9,  -999.00,9,   0.9832,2,  27.8045,2,   1.4037,2
49UP20150724_2,   P04,    34,  1,      1,     997,2,20150823,1433,1434,  9.4922, 161.6670, 4895,   4975.5,     4891,   1.4110,  34.6989,2,    179.2,2,  34.6994,2,   179.06,2,   129.34,2,    34.08,2,     0.00,2,    2.360,2, -999.000,9, -999.000,9,   -999.0,9,   -999.0,9,-999.0000,9,  -999.00,  -999.00,9,  -999.00,9,   0.9826,2,  27.8046,2,   1.4109,2