BOTTLE,20191113JMAGEMD
EXPOCODE,SECT_ID,STNNBR,CASTNO,SAMPNO,BTLNBR,BTLNBR_FLAG_U,DATE,TIME,BTL_TIME,LATITUDE,LONGITUDE,DEPTH,CTDPRS,CTDDEP,CTDTMP,CTDSAL,CTDSAL_FLAG_W,CTDOXY,CTDOXY_FLAG_W,SALNTY,SALNTY_FLAG_W,OXYGEN,OXYGEN_FLAG_W,SILCAT,SILCAT_FLAG_W,NO2+NO3,NO2+NO3_FLAG_W,NITRIT,NITRIT_FLAG_W,PHSPHT,PHSPHT_FLAG_W,CFC-11,CFC-11_FLAG_W,CFC-12,CFC-12_FLAG_W,TCARBN,TCARBN_FLAG_W,ALKALI,ALKALI_FLAG_W,PH_TS,PH_TS_FLAG_W,PH_TS_TMP,CHLORA,CHLORA_FLAG_W,PPHYTN,PPHYTN_FLAG_W,THETA,THETA_FLAG_W,SIGTHT,SIGTHT_FLAG_W,SBE35,SBE35_FLAG_W
,,,,,,,,UTC,,,,METER,DBAR,METERS,ITS-90,PSS-78,,UMOL/KG,,PSS78,,UMOL/KG,,UMOL/KG,,UMOL/KG,,UMOL/KG,,UMOL/KG,,PMOL/KG,,PMOL/KG,,UMOL/KG,,UMOL/KG,,,,ITS-90,UG/KG,,UG/KG,,ITS-90,,KG/M3,,ITS-90,
49UP20150724_2,   P04,    17,  1,      0,      -9,0,20150829,2339,0035,  9.5875, 148.0970, 3106,      0.0,        0,  28.9650,  33.9029,2,    197.2,2,-999.0000,9,   196.82,2,     0.93,2,     0.02,2,     0.00,2,    0.050,2, -999.000,9, -999.000,9,   -999.0,9,   -999.0,9,-999.0000,9,  -999.00,  -999.00,9,  -999.00,9,  28.9643,2,  21.2525,2,-999.0000,9
49UP20150724_2,   P04,    17,  1,     36,     109,2,20150829,2339,0108,  9.5875, 148.0970, 3106,     10.6,       11,  28.9709,  33.9034,2,    197.2,2,  33.9105,2,   196.92,2,     0.93,2,     0.03,2,     0.00,2,    0.050,2, -999.000,9, -999.000,9,   -999.0,9,   -999.0,9,-999.0000,9,  -999.00,  -999.00,9,  -999.00,9,  28.9683,2,  21.2515,2,  28.9729,2
49UP20150724_2,   P04,    17,  1,     35,     112,2,20150829,2339,0106,  9.5875, 148.0970, 3106,     26.2,       26,  28.3088,  34.4692,2,    206.9,2,  34.4516,6,   205.78,2,     0.93,2,     0.03,2,     0.00,2,    0.080,2, -999.000,9, -999.000,9,   -999.0,9,   -999.0,9,-999.0000,9,  -999.00,  -999.00,9,  -999.00,9,  28.3026,2,  21.8965,2,  28.3197,2
49UP20150724_2,   P04,    17,  1,     34,     094,2,20150829,2339,0105,  9.5875, 148.0970, 3106,     50.9,       51,  26.6923,  35.1593,2,    205.3,2,  35.1711,2,   203.92,2,     1.07,2,     0.01,2,     0.00,2,    0.110,2, -999.000,9, -999.000,9,   -999.0,9,   -999.0,9,-999.0000,9,  -999.00,  -999.00,9,  -999.00,9,  26.6807,2,  22.9394,2,  26.6527,2
49UP20150724_2,   P04,    17,  1,     33,     469,2,20150829,2339,0105,  9.5875, 148.0970, 3106,     51.3,       51,  26.4084,  35.1925,2,    204.7,2,  35.1826,2,   203.48,2,     1.07,2,     0.04,2,     0.00,2,    0.120,2, -999.000,9, -999.000,9,   -999.0,9,   -999.0,9,-999.0000,9,  -999.00,  -999.00,9,  -999.00,9,  26.3968,2,  23.0542,2,  26.4107,2
49UP20150724_2,   P04,    17,  1,     32,     105,2,20150829,2339,0103,  9.5875, 148.0970, 3106,     76.7,       76,  24.4429,  35.0759,2,    200.2,2,  35.0773,6,   200.10,2,     1.59,2,     0.02,2,     0.00,2,    0.170,2, -999.000,9, -999.000,9,   -999.0,9,   -999.0,9,-999.0000,9,  -999.00,  -999.00,9,  -999.00,9,  24.4265,2,  23.5717,2,  24.4231,2
49UP20150724_2,   P04,    17,  1,     31,     515,2,20150829,2339,0101,  9.5875, 148.0970, 3106,    102.0,      101,  21.5401,  35.0934,2,    182.5,2,  35.0941,2,   183.16,2,     2.53,2,     1.15,2,     0.08,2,    0.290,2, -999.000,9, -999.000,9,   -999.0,9,   -999.0,9,-999.0000,9,  -999.00,  -999.00,9,  -999.00,9,  21.5202,2,  24.4223,2,  21.5386,2
49UP20150724_2,   P04,    17,  1,     27,     998,2,20150829,2339,0100,  9.5875, 148.0970, 3106,    126.3,      126,  18.1884,  34.7978,2,    153.8,2,  34.8027,2,   154.64,6,     6.57,6,     8.14,6,     0.04,6,    0.680,6, -999.000,9, -999.000,9,   -999.0,9,   -999.0,9,-999.0000,9,  -999.00,  -999.00,9,  -999.00,9,  18.1666,2,  25.0761,2,  18.1996,2
49UP20150724_2,   P04,    17,  1,     26,     084,2,20150829,2339,0058,  9.5875, 148.0970, 3106,    150.9,      150,  14.5880,  34.5197,2,    137.8,2,  34.5185,6,   137.59,2,    13.04,2,    14.58,2,     0.01,2,    1.110,2, -999.000,9, -999.000,9,   -999.0,9,   -999.0,9,-999.0000,9,  -999.00,  -999.00,9,  -999.00,9,  14.5657,2,  25.6958,2,  14.5753,2
49UP20150724_2,   P04,    17,  1,     25,     098,2,20150829,2339,0057,  9.5875, 148.0970, 3106,    176.0,      175,  13.0012,  34.4845,2,    115.2,2,  34.4859,2,   115.02,2,    19.55,2,    19.67,2,     0.01,2,    1.460,2, -999.000,9, -999.000,9,   -999.0,9,   -999.0,9,-999.0000,9,  -999.00,  -999.00,9,  -999.00,9,  12.9772,2,  25.9981,2,  13.0017,2
49UP20150724_2,   P04,    17,  1,     23,     096,2,20150829,2339,0054,  9.5875, 148.0970, 3106,    202.2,      201,  12.1477,  34.5008,2,     96.0,2,  34.5001,2,    95.82,2,    24.01,2,    23.32,2,     0.00,2,    1.710,3, -999.000,9, -999.000,9,   -999.0,9,   -999.0,9,-999.0000,9,  -999.00,  -999.00,9,  -999.00,9,  12.1213,2,  26.1782,2,  12.1482,2
49UP20150724_2,   P04,    17,  1,     22,     111,2,20150829,2339,0052,  9.5875, 148.0970, 3106,    251.0,      249,  10.6469,  34.4785,2,     77.3,2,  34.4787,6,    76.94,2,    30.53,2,    27.87,2,     0.00,2,    2.020,2, -999.000,9, -999.000,9,   -999.0,9,   -999.0,9,-999.0000,9,  -999.00,  -999.00,9,  -999.00,9,  10.6167,2,  26.4378,2,  10.6446,2
49UP20150724_2,   P04,    17,  1,     21,     078,2,20150829,2339,0051,  9.5875, 148.0970, 3106,    301.0,      299,   9.5339,  34.5098,2,     70.8,2,  34.5103,2,    70.92,2,    36.37,2,    30.80,2,     0.00,2,    2.200,2, -999.000,9, -999.000,9,   -999.0,9,   -999.0,9,-999.0000,9,  -999.00,  -999.00,9,  -999.00,9,   9.5000,2,  26.6530,2,   9.5347,2
49UP20150724_2,   P04,    17,  1,     20,     093,3,20150829,2339,0048,  9.5875, 148.0970, 3106,    402.4,      400,   8.2100,  34.5268,2,     77.1,2,  34.5271,2,    77.06,2,    43.20,2,    32.96,2,     0.00,2,    2.340,2, -999.000,9, -999.000,9,   -999.0,9,   -999.0,9,-999.0000,9,  -999.00,  -999.00,9,  -999.00,9,   8.1684,2,  26.8769,2,   8.2102,2
49UP20150724_2,   P04,    17,  1,     19,     092,2,20150829,2339,0046,  9.5875, 148.0970, 3106,    503.4,      500,   7.4096,  34.5157,2,     85.5,2,  34.5152,2,    85.28,2,    48.52,2,    33.72,2,     0.00,2,    2.390,2, -999.000,9, -999.000,9,   -999.0,9,   -999.0,9,-999.0000,9,  -999.00,  -999.00,9,  -999.00,9,   7.3602,2,  26.9868,2,   7.4165,2
49UP20150724_2,   P04,    17,  1,     18,     101,2,20150829,2339,0043,  9.5875, 148.0970, 3106,    605.8,      602,   6.8813,  34.5150,2,     86.4,2,  34.5142,6,    86.27,2,    53.90,2,    34.71,2,     0.00,2,    2.460,2, -999.000,9, -999.000,9,   -999.0,9,   -999.0,9,-999.0000,9,  -999.00,  -999.00,9,  -999.00,9,   6.8238,2,  27.0609,2,   6.8818,2
49UP20150724_2,   P04,    17,  1,     16,     089,2,20150829,2339,0041,  9.5875, 148.0970, 3106,    704.3,      699,   6.1817,  34.5214,2,     84.6,2,  34.5211,2,    84.63,2,    63.04,2,    36.08,2,     0.00,2,    2.580,3, -999.000,9, -999.000,9,   -999.0,9,   -999.0,9,-999.0000,9,  -999.00,  -999.00,9,  -999.00,9,   6.1182,2,  27.1593,2,   6.1754,2
49UP20150724_2,   P04,    17,  1,     17,     090,2,20150829,2339,0041,  9.5875, 148.0970, 3106,    705.3,      700,   6.1823,  34.5214,2,     84.7,2,  34.5212,2,    84.43,2,    62.96,2,    36.12,2,     0.00,2,    2.570,2, -999.000,9, -999.000,9,   -999.0,9,   -999.0,9,-999.0000,9,  -999.00,  -999.00,9,  -999.00,9,   6.1187,2,  27.1593,2,   6.1798,2
49UP20150724_2,   P04,    17,  1,     15,     088,2,20150829,2339,0038,  9.5875, 148.0970, 3106,    806.4,      800,   5.5252,  34.5306,2,     80.1,2,  34.5307,2,    79.81,2,    73.69,2,    37.48,2,     0.00,2,    2.670,2, -999.000,9, -999.000,9,   -999.0,9,   -999.0,9,-999.0000,9,  -999.00,  -999.00,9,  -999.00,9,   5.4559,2,  27.2492,2,   5.5254,2
49UP20150724_2,   P04,    17,  1,     14,     999,2,20150829,2339,0035,  9.5875, 148.0970, 3106,    908.9,      902,   4.9403,  34.5408,2,     80.0,2,  34.5406,2,    79.81,2,    84.19,2,    38.26,2,     0.00,2,    2.730,2, -999.000,9, -999.000,9,   -999.0,9,   -999.0,9,-999.0000,9,  -999.00,  -999.00,9,  -999.00,9,   4.8655,2,  27.3266,2,   4.9414,2
49UP20150724_2,   P04,    17,  1,     13,     667,2,20150829,2339,0032,  9.5875, 148.0970, 3106,   1008.4,     1000,   4.4409,  34.5518,2,     80.2,2,  34.5508,2,    79.82,6,    94.03,6,    38.98,6,     0.00,6,    2.780,6, -999.000,9, -999.000,9,   -999.0,9,   -999.0,9,-999.0000,9,  -999.00,  -999.00,9,  -999.00,9,   4.3610,2,  27.3914,2,   4.4408,2
49UP20150724_2,   P04,    17,  1,     12,     074,2,20150829,2339,0028,  9.5875, 148.0970, 3106,   1210.4,     1200,   3.7063,  34.5704,2,     86.6,2,  34.5697,6,    86.70,2,   109.05,2,    39.16,2,     0.00,2,    2.780,2, -999.000,9, -999.000,9,   -999.0,9,   -999.0,9,-999.0000,9,  -999.00,  -999.00,9,  -999.00,9,   3.6154,2,  27.4834,2,   3.7065,2
49UP20150724_2,   P04,    17,  1,     11,     268,2,20150829,2339,0023,  9.5875, 148.0970, 3106,   1414.8,     1402,   3.0512,  34.5919,2,     94.9,2,  34.5918,2,    94.82,2,   122.45,2,    39.02,2,     0.00,2,    2.760,2, -999.000,9, -999.000,9,   -999.0,9,   -999.0,9,-999.0000,9,  -999.00,  -999.00,9,  -999.00,9,   2.9498,2,  27.5639,2,   3.0510,2
49UP20150724_2,   P04,    17,  1,     10,     267,2,20150829,2339,0018,  9.5875, 148.0970, 3106,   1617.1,     1602,   2.6552,  34.6103,2,    103.1,2,  34.6101,2,   103.10,2,   129.60,2,    38.66,2,     0.00,2,    2.730,2, -999.000,9, -999.000,9,   -999.0,9,   -999.0,9,-999.0000,9,  -999.00,  -999.00,9,  -999.00,9,   2.5416,2,  27.6147,2,   2.6551,2
49UP20150724_2,   P04,    17,  1,      9,     518,2,20150829,2339,0014,  9.5875, 148.0970, 3106,   1818.7,     1801,   2.3582,  34.6254,2,    109.3,2,  34.6256,6,   109.12,2,   135.47,2,    38.53,2,     0.00,2,    2.710,2, -999.000,9, -999.000,9,   -999.0,9,   -999.0,9,-999.0000,9,  -999.00,  -999.00,9,  -999.00,9,   2.2318,2,  27.6528,2,   2.3583,2
49UP20150724_2,   P04,    17,  1,      8,     081,2,20150829,2339,0008,  9.5875, 148.0970, 3106,   2022.7,     2002,   2.1814,  34.6342,2,    111.4,2,  34.6343,2,   111.20,2,   140.02,2,    38.50,2,     0.00,2,    2.700,2, -999.000,9, -999.000,9,   -999.0,9,   -999.0,9,-999.0000,9,  -999.00,  -999.00,9,  -999.00,9,   2.0402,2,  27.6754,2,   2.1811,2
49UP20150724_2,   P04,    17,  1,      7,     516,2,20150829,2339,0008,  9.5875, 148.0970, 3106,   2023.3,     2002,   2.1813,  34.6342,2,    111.4,2,  34.6345,2,   110.73,2,   139.95,2,    38.53,2,     0.00,2,    2.700,2, -999.000,9, -999.000,9,   -999.0,9,   -999.0,9,-999.0000,9,  -999.00,  -999.00,9,  -999.00,9,   2.0401,2,  27.6754,2,   2.1813,2
49UP20150724_2,   P04,    17,  1,      6,     113,2,20150829,2339,0004,  9.5875, 148.0970, 3106,   2226.2,     2202,   2.0344,  34.6433,2,    116.2,2,  34.6436,2,   116.21,2,   142.63,2,    38.26,2,     0.00,2,    2.670,2, -999.000,9, -999.000,9,   -999.0,9,   -999.0,9,-999.0000,9,  -999.00,  -999.00,9,  -999.00,9,   1.8780,2,  27.6955,2,   2.0342,2
49UP20150724_2,   P04,    17,  1,      5,     658,2,20150829,2339,2358,  9.5875, 148.0970, 3106,   2429.2,     2402,   1.8447,  34.6544,2,    124.0,2,  34.6546,6,   123.86,6,   144.96,6,    37.80,6,     0.00,6,    2.630,6, -999.000,9, -999.000,9,   -999.0,9,   -999.0,9,-999.0000,9,  -999.00,  -999.00,9,  -999.00,9,   1.6736,2,  27.7199,2,   1.8446,2
49UP20150724_2,   P04,    17,  1,      4,     471,2,20150829,2339,2352,  9.5875, 148.0970, 3106,   2633.6,     2602,   1.7601,  34.6599,2,    128.8,2,  34.6607,2,   128.82,2,   145.11,2,    37.46,2,     0.00,2,    2.610,2, -999.000,9, -999.000,9,   -999.0,9,   -999.0,9,-999.0000,9,  -999.00,  -999.00,9,  -999.00,9,   1.5722,2,  27.7319,2,   1.7598,2
49UP20150724_2,   P04,    17,  1,      3,     104,2,20150829,2339,2347,  9.5875, 148.0970, 3106,   2836.7,     2802,   1.6605,  34.6658,2,    135.2,2,  34.6664,2,   135.25,2,   145.82,2,    37.08,2,     0.00,2,    2.580,2, -999.000,9, -999.000,9,   -999.0,9,   -999.0,9,-999.0000,9,  -999.00,  -999.00,9,  -999.00,9,   1.4557,2,  27.7452,2,   1.6603,2
49UP20150724_2,   P04,    17,  1,      2,     075,2,20150829,2339,2342,  9.5875, 148.0970, 3106,   3039.7,     3001,   1.5818,  34.6713,2,    141.0,2,  34.6719,2,   140.95,2,   145.30,2,    36.64,2,     0.00,2,    2.540,2, -999.000,9, -999.000,9,   -999.0,9,   -999.0,9,-999.0000,9,  -999.00,  -999.00,9,  -999.00,9,   1.3594,2,  27.7565,2,   1.5814,2
49UP20150724_2,   P04,    17,  1,      1,     997,2,20150829,2339,2339,  9.5875, 148.0970, 3106,   3132.8,     3092,   1.5755,  34.6723,2,    142.0,2,  34.6730,2,   141.94,2,   145.30,4,    36.65,2,     0.00,2,    2.530,3, -999.000,9, -999.000,9,   -999.0,9,   -999.0,9,-999.0000,9,  -999.00,  -999.00,9,  -999.00,9,   1.3443,2,  27.7584,2,   1.5754,2