BOTTLE,20191113JMAGEMD
EXPOCODE,SECT_ID,STNNBR,CASTNO,SAMPNO,BTLNBR,BTLNBR_FLAG_U,DATE,TIME,BTL_TIME,LATITUDE,LONGITUDE,DEPTH,CTDPRS,CTDDEP,CTDTMP,CTDSAL,CTDSAL_FLAG_W,CTDOXY,CTDOXY_FLAG_W,SALNTY,SALNTY_FLAG_W,OXYGEN,OXYGEN_FLAG_W,SILCAT,SILCAT_FLAG_W,NO2+NO3,NO2+NO3_FLAG_W,NITRIT,NITRIT_FLAG_W,PHSPHT,PHSPHT_FLAG_W,CFC-11,CFC-11_FLAG_W,CFC-12,CFC-12_FLAG_W,TCARBN,TCARBN_FLAG_W,ALKALI,ALKALI_FLAG_W,PH_TS,PH_TS_FLAG_W,PH_TS_TMP,CHLORA,CHLORA_FLAG_W,PPHYTN,PPHYTN_FLAG_W,THETA,THETA_FLAG_W,SIGTHT,SIGTHT_FLAG_W,SBE35,SBE35_FLAG_W
,,,,,,,,UTC,,,,METER,DBAR,METERS,ITS-90,PSS-78,,UMOL/KG,,PSS78,,UMOL/KG,,UMOL/KG,,UMOL/KG,,UMOL/KG,,UMOL/KG,,PMOL/KG,,PMOL/KG,,UMOL/KG,,UMOL/KG,,,,ITS-90,UG/KG,,UG/KG,,ITS-90,,KG/M3,,ITS-90,
49UP20150724_2,   P04,     1,  1,      0,      -9,0,20150903,1953,2118,  8.9918, 136.9965, 3812,      0.0,        0,  29.0191,  33.8544,2,    197.1,2,  33.8605,2,   196.60,2,     0.95,2,     0.04,2,     0.00,2,    0.080,2, -999.000,9, -999.000,9,   1899.9,2,   2221.6,2,   8.1101,2,    25.00,     0.06,2,     0.02,2,  29.0185,2,  21.1981,2,-999.0000,9
49UP20150724_2,   P04,     1,  1,     35,     112,4,20150903,1953,2140,  8.9918, 136.9965, 3812,     10.5,       10,  29.0177,  33.8548,2,    196.9,2,-999.0000,9,  -999.00,9,  -999.00,9,  -999.00,9,  -999.00,9, -999.000,9, -999.000,9, -999.000,9,   -999.0,9,   -999.0,9,-999.0000,9,  -999.00,  -999.00,9,  -999.00,9,  29.0151,2,  21.1994,2,  29.0170,2
49UP20150724_2,   P04,     1,  1,     36,     109,2,20150903,1953,2140,  8.9918, 136.9965, 3812,     10.6,       11,  29.0201,  33.8544,2,    196.8,2,  33.8546,2,   196.49,2,     0.95,2,     0.02,2,     0.00,2,    0.050,2,    0.930,3,    0.344,3,   1897.1,2,   2223.0,2,   8.1086,2,    25.00,     0.06,2,     0.03,2,  29.0176,2,  21.1984,2,  29.0177,2
49UP20150724_2,   P04,     1,  1,     34,     094,2,20150903,1953,2139,  8.9918, 136.9965, 3812,     25.1,       25,  28.8635,  34.0244,2,    199.2,2,  34.0222,6,   198.83,2,     1.00,2,     0.03,2,     0.00,2,    0.060,2, -999.000,9, -999.000,9,   1910.6,2,   2233.7,2,   8.1102,2,    25.00,     0.07,2,     0.03,2,  28.8574,2,  21.3792,2,  28.8617,2
49UP20150724_2,   P04,     1,  1,     32,     105,2,20150903,1953,2135,  8.9918, 136.9965, 3812,     50.9,       51,  27.1356,  34.6531,2,    200.7,2,  34.6832,4,   201.40,2,     1.34,2,     0.02,2,     0.00,2,    0.110,2,    1.261,3,    0.552,3,   1969.7,2,   2279.5,2,   8.0732,2,    25.00,     0.09,2,     0.06,2,  27.1239,2,  22.4169,2,  27.1065,2
49UP20150724_2,   P04,     1,  1,     31,     515,2,20150903,1953,2133,  8.9918, 136.9965, 3812,     77.9,       77,  22.5984,  35.0985,2,    185.6,2,  35.1218,4,   186.17,2,     1.85,2,     0.99,3,     0.03,2,    0.180,2, -999.000,9, -999.000,9,   2027.1,2,   2307.8,2,   8.0014,2,    25.00,     0.29,2,     0.32,2,  22.5827,2,  24.1280,2,  22.5922,2
49UP20150724_2,   P04,     1,  1,     30,     097,2,20150903,1953,2132,  8.9918, 136.9965, 3812,    102.0,      101,  20.3295,  34.9991,2,    174.8,2,  34.9995,6,   176.10,2,     3.44,2,     3.76,2,     0.05,2,    0.360,2,    1.682,3,    0.812,3,   2063.6,2,   2302.2,2,   7.9361,2,    25.00,     0.21,2,     0.35,2,  20.3105,2,  24.6788,2,  20.3155,2
49UP20150724_2,   P04,     1,  1,     29,     102,2,20150903,1953,2131,  8.9918, 136.9965, 3812,    126.6,      126,  16.6139,  34.6952,2,    151.0,2,  34.6994,2,   151.68,6,     9.66,6,    10.77,6,     0.06,6,    0.840,6, -999.000,9, -999.000,9,   2104.3,2,   2285.3,2,   7.8230,2,    25.00,     0.09,2,     0.20,2,  16.5934,2,  25.3761,2,  16.6125,2
49UP20150724_2,   P04,     1,  1,     28,     108,2,20150903,1953,2130,  8.9918, 136.9965, 3812,    151.8,      151,  13.4074,  34.5376,2,    113.4,2,  34.5355,2,   113.95,2,    19.88,2,    19.78,2,     0.01,2,    1.460,2,    1.589,3,    0.751,3,   2158.9,2,   2282.0,2,   7.6873,2,    25.00,     0.02,2,     0.09,2,  13.3862,2,  25.9566,2,  13.4076,2
49UP20150724_2,   P04,     1,  1,     27,     998,2,20150903,1953,2129,  8.9918, 136.9965, 3812,    177.0,      176,  11.8024,  34.5060,2,     97.8,2,  34.5062,2,    98.04,2,    25.96,2,    24.07,2,     0.00,2,    1.750,2, -999.000,9, -999.000,9,   2183.0,2,   2284.4,2,   7.6275,2,    25.00,     0.01,2,     0.05,2,  11.7797,2,  26.2471,2,  11.8040,2
49UP20150724_2,   P04,     1,  1,     26,     084,2,20150903,1953,2127,  8.9918, 136.9965, 3812,    201.7,      200,  11.2031,  34.5006,2,     95.4,2,  34.5015,2,    95.91,2,    28.70,2,    25.51,2,     0.00,2,    1.840,2,    1.259,3,    0.589,3,   2191.7,2,   2288.4,2,   7.6111,2,    25.00,     0.00,2,     0.05,2,  11.1780,2,  26.3543,2,  11.2033,2
49UP20150724_2,   P04,     1,  1,     25,     098,2,20150903,1953,2126,  8.9918, 136.9965, 3812,    254.9,      253,   9.4126,  34.4842,2,     89.4,2,  34.4837,2,    89.56,2,    36.72,2,    29.26,2,     0.00,2,    2.090,2,    0.937,3,    0.413,3,   2217.3,2,   2297.3,2,   7.5636,2,    25.00,  -999.00,9,  -999.00,9,   9.3842,2,  26.6520,2,   9.4085,2
49UP20150724_2,   P04,     1,  1,     24,     110,2,20150903,1953,2123,  8.9918, 136.9965, 3812,    332.2,      330,   8.2882,  34.5387,2,     83.9,2,  34.5384,2,    84.08,2,    41.15,2,    32.40,2,     0.00,2,    2.290,2,    0.539,3,    0.253,3,   2237.7,2,   2305.8,2,   7.5373,2,    25.00,  -999.00,9,  -999.00,9,   8.2538,2,  26.8733,2,   8.2890,2
49UP20150724_2,   P04,     1,  1,     23,     096,2,20150903,1953,2121,  8.9918, 136.9965, 3812,    433.3,      430,   7.5492,  34.5257,2,    101.4,2,  34.5251,2,   101.68,2,    44.16,2,    32.23,2,     0.00,2,    2.280,2,    0.542,3,    0.260,3,   2237.0,2,   2310.9,2,   7.5521,2,    25.00,  -999.00,9,  -999.00,9,   7.5064,2,  26.9737,2,   7.5491,2
49UP20150724_2,   P04,     1,  1,     22,     111,2,20150903,1953,2118,  8.9918, 136.9965, 3812,    534.4,      531,   6.7909,  34.5251,2,    106.3,2,  34.5247,2,   106.53,2,    49.30,2,    33.38,2,     0.00,2,    2.360,2,    0.000,4,    0.000,4,   2237.7,3,   2317.2,2,   7.5501,2,    25.00,  -999.00,9,  -999.00,9,   6.7409,2,  27.0801,2,   6.7917,2
49UP20150724_2,   P04,     1,  1,     21,     078,2,20150903,1953,2116,  8.9918, 136.9965, 3812,    634.1,      630,   6.3087,  34.5206,2,     97.9,2,  34.5197,2,    97.61,2,    58.22,2,    34.89,2,     0.00,2,    2.480,2,    0.269,3,    0.136,3,   2258.3,6,   2324.8,6,   7.5256,2,    25.00,  -999.00,9,  -999.00,9,   6.2512,2,  27.1416,2,   6.3091,2
49UP20150724_2,   P04,     1,  1,     20,     093,2,20150903,1953,2113,  8.9918, 136.9965, 3812,    736.5,      731,   5.7750,  34.5249,2,     93.3,2,  34.5247,2,    93.79,2,    67.20,2,    36.11,2,     0.00,2,    2.570,2,    0.161,3,    0.080,3,   2270.5,2,   2334.4,2,   7.5139,6,    25.00,  -999.00,9,  -999.00,9,   5.7107,2,  27.2135,2,   5.7743,2
49UP20150724_2,   P04,     1,  1,     19,     092,2,20150903,1953,2110,  8.9918, 136.9965, 3812,    836.7,      830,   5.3870,  34.5304,2,     92.6,2,  34.5299,2,    92.90,2,    74.02,2,    36.76,2,     0.00,2,    2.620,2,    0.139,3,    0.081,3,   2281.8,2,   2341.0,2,   7.5115,2,    25.00,  -999.00,9,  -999.00,9,   5.3158,2,  27.2658,2,   5.3877,2
49UP20150724_2,   P04,     1,  1,     18,     101,2,20150903,1953,2107,  8.9918, 136.9965, 3812,    938.3,      931,   4.8375,  34.5411,2,     90.9,2,  34.5407,2,    91.40,2,    84.92,2,    37.59,2,     0.00,2,    2.680,2,    0.081,3,    0.046,3,   2294.2,6,   2352.6,6,   7.5023,2,    25.00,  -999.00,9,  -999.00,9,   4.7608,2,  27.3388,2,   4.8377,2
49UP20150724_2,   P04,     1,  1,     17,     090,2,20150903,1953,2104,  8.9918, 136.9965, 3812,   1079.0,     1070,   4.2508,  34.5562,2,     89.8,2,  34.5563,2,    90.05,2,    97.03,2,    38.38,2,     0.00,2,    2.730,2,    0.034,3,    0.026,3,   2308.7,2,   2366.1,2,   7.4977,6,    25.00,  -999.00,9,  -999.00,9,   4.1663,2,  27.4157,2,   4.2510,2
49UP20150724_2,   P04,     1,  1,     16,     089,2,20150903,1953,2100,  8.9918, 136.9965, 3812,   1282.1,     1271,   3.5707,  34.5763,2,     94.1,2,  34.5768,6,    94.33,2,   110.06,2,    38.74,2,     0.00,2,    2.750,2,    0.000,3,    0.011,3,   2314.5,3,   2379.4,2,   7.5000,2,    25.00,  -999.00,9,  -999.00,9,   3.4750,2,  27.5019,2,   3.5710,2
49UP20150724_2,   P04,     1,  1,     15,     088,2,20150903,1953,2054,  8.9918, 136.9965, 3812,   1484.3,     1471,   3.1319,  34.5921,2,     98.5,2,  34.5912,6,    98.44,2,   118.75,2,    38.83,2,     0.00,2,    2.750,2,    0.000,3,    0.009,3,   2326.7,2,   2387.7,2,   7.5024,2,    25.00,  -999.00,9,  -999.00,9,   3.0238,2,  27.5573,2,   3.1322,2
49UP20150724_2,   P04,     1,  1,     14,     999,2,20150903,1953,2049,  8.9918, 136.9965, 3812,   1687.6,     1671,   2.7667,  34.6077,2,    103.7,2,  34.6072,2,   103.64,6,   126.09,6,    38.78,6,     0.00,6,    2.740,6,    0.000,3,    0.006,3,   2331.8,2,   2396.6,2,   7.5093,2,    25.00,  -999.00,9,  -999.00,9,   2.6459,2,  27.6036,2,   2.7669,2
49UP20150724_2,   P04,     1,  1,     13,     667,2,20150903,1953,2044,  8.9918, 136.9965, 3812,   1890.2,     1871,   2.3804,  34.6255,2,    111.4,2,  34.6240,2,   111.57,2,   133.14,2,    38.44,2,     0.00,2,    2.710,2, -999.000,9, -999.000,9,   2335.1,2,   2403.4,2,   7.5194,2,    25.00,  -999.00,9,  -999.00,9,   2.2476,2,  27.6517,2,   2.3805,2
49UP20150724_2,   P04,     1,  1,     12,     074,2,20150903,1953,2044,  8.9918, 136.9965, 3812,   1890.5,     1871,   2.3800,  34.6255,2,    111.4,2,  34.6248,2,   111.41,2,   133.51,2,    38.49,2,     0.00,2,    2.710,2,    0.000,3,    0.007,3,   2333.2,2,   2402.6,2,   7.5176,2,    25.00,  -999.00,9,  -999.00,9,   2.2472,2,  27.6516,2,   2.3798,2
49UP20150724_2,   P04,     1,  1,     11,     268,2,20150903,1953,2038,  8.9918, 136.9965, 3812,   2093.4,     2071,   2.1150,  34.6390,2,    119.6,2,  34.6381,2,   119.60,2,   137.57,2,    38.06,2,     0.00,2,    2.670,2,    0.000,3,    0.007,3,   2335.5,6,   2406.6,6,   7.5288,2,    25.00,  -999.00,9,  -999.00,9,   1.9688,2,  27.6849,2,   2.1145,2
49UP20150724_2,   P04,     1,  1,     10,     267,2,20150903,1953,2033,  8.9918, 136.9965, 3812,   2296.0,     2271,   1.8887,  34.6506,2,    126.7,2,  34.6490,4,   127.63,2,   141.00,2,    37.70,2,     0.00,2,    2.640,2,    0.000,3,    0.004,3,   2333.7,2,   2410.5,2,   7.5416,6,    25.00,  -999.00,9,  -999.00,9,   1.7287,2,  27.7127,2,   1.8869,2
49UP20150724_2,   P04,     1,  1,      9,     518,2,20150903,1953,2028,  8.9918, 136.9965, 3812,   2498.7,     2470,   1.7605,  34.6583,2,    132.3,2,  34.6572,2,   132.47,2,   142.71,2,    37.37,2,     0.00,2,    2.600,2, -999.000,9, -999.000,9,   2335.4,2,   2412.7,2,   7.5487,2,    25.00,  -999.00,9,  -999.00,9,   1.5848,2,  27.7297,2,   1.7593,2
49UP20150724_2,   P04,     1,  1,      8,     081,2,20150903,1953,2023,  8.9918, 136.9965, 3812,   2703.2,     2671,   1.6976,  34.6628,2,    136.2,2,  34.6630,6,   136.36,2,   142.47,2,    37.10,2,     0.00,2,    2.580,2, -999.000,9, -999.000,9,   2316.3,4,   2412.1,2,   7.5523,2,    25.00,  -999.00,9,  -999.00,9,   1.5045,2,  27.7393,2,   1.6973,2
49UP20150724_2,   P04,     1,  1,      7,     516,2,20150903,1953,2018,  8.9918, 136.9965, 3812,   2907.1,     2871,   1.6655,  34.6658,2,    139.1,2,  34.6662,2,   139.06,2,   142.83,2,    36.90,2,     0.00,2,    2.570,2, -999.000,9, -999.000,9,   2333.0,2,   2411.9,2,   7.5593,2,    25.00,  -999.00,9,  -999.00,9,   1.4539,2,  27.7453,2,   1.6638,2
49UP20150724_2,   P04,     1,  1,      5,     658,2,20150903,1953,2013,  8.9918, 136.9965, 3812,   3120.7,     3080,   1.5551,  34.6739,2,    146.5,2,  34.6737,6,   146.62,2,   142.34,2,    36.43,2,     0.00,2,    2.530,2,    0.000,3,    0.003,3,   2328.8,2,   2413.5,2,   7.5704,2,    25.00,  -999.00,9,  -999.00,9,   1.3255,2,  27.7610,2,   1.5553,2
49UP20150724_2,   P04,     1,  1,      4,     471,2,20150903,1953,2006,  8.9918, 136.9965, 3812,   3376.7,     3331,   1.5610,  34.6752,2,    148.0,2,  34.6757,6,   147.98,2,   141.72,2,    36.31,2,     0.00,2,    2.520,2, -999.000,9, -999.000,9,   2327.9,2,   2412.4,2,   7.5715,2,    25.00,  -999.00,9,  -999.00,9,   1.3059,2,  27.7634,2,   1.5611,2
49UP20150724_2,   P04,     1,  1,      3,     104,2,20150903,1953,2000,  8.9918, 136.9965, 3812,   3632.5,     3581,   1.5645,  34.6767,2,    149.6,2,  34.6772,2,   149.86,6,   141.50,6,    36.22,6,     0.00,6,    2.510,6,    0.000,3,    0.005,3,   2325.5,2,   2412.4,2,   7.5759,2,    25.00,  -999.00,9,  -999.00,9,   1.2831,2,  27.7662,2,   1.5646,2
49UP20150724_2,   P04,     1,  1,      1,     997,2,20150903,1953,1953,  8.9918, 136.9965, 3812,   3888.5,     3832,   1.5402,  34.6802,2,    153.8,2,  34.6800,2,   153.57,2,   140.58,2,    35.96,2,     0.00,2,    2.490,2,    0.000,3,    0.009,3,   2320.3,3,   2412.4,2,   7.5792,2,    25.00,  -999.00,9,  -999.00,9,   1.2322,2,  27.7726,2,   1.5399,2
49UP20150724_2,   P04,     1,  1,      2,     075,2,20150903,1953,1953,  8.9918, 136.9965, 3812,   3889.4,     3832,   1.5370,  34.6806,2,    153.8,2,  34.6795,2,   153.97,2,   140.52,2,    35.95,2,     0.00,2,    2.490,2, -999.000,9, -999.000,9,   2322.9,2,   2410.7,2,   7.5808,2,    25.00,  -999.00,9,  -999.00,9,   1.2290,2,  27.7731,2,   1.5370,2
BTLNBR_FLAG_U : 0 means Bucket Sampling and other refered to WOCE Flag.