BOTTLE,20191113JMAGEMD
EXPOCODE,SECT_ID,STNNBR,CASTNO,SAMPNO,BTLNBR,BTLNBR_FLAG_U,DATE,TIME,BTL_TIME,LATITUDE,LONGITUDE,DEPTH,CTDPRS,CTDDEP,CTDTMP,CTDSAL,CTDSAL_FLAG_W,CTDOXY,CTDOXY_FLAG_W,SALNTY,SALNTY_FLAG_W,OXYGEN,OXYGEN_FLAG_W,SILCAT,SILCAT_FLAG_W,NO2+NO3,NO2+NO3_FLAG_W,NITRIT,NITRIT_FLAG_W,PHSPHT,PHSPHT_FLAG_W,CFC-11,CFC-11_FLAG_W,CFC-12,CFC-12_FLAG_W,TCARBN,TCARBN_FLAG_W,ALKALI,ALKALI_FLAG_W,PH_TS,PH_TS_FLAG_W,PH_TS_TMP,CHLORA,CHLORA_FLAG_W,PPHYTN,PPHYTN_FLAG_W,THETA,THETA_FLAG_W,SIGTHT,SIGTHT_FLAG_W,SBE35,SBE35_FLAG_W
,,,,,,,,UTC,,,,METER,DBAR,METERS,ITS-90,PSS-78,,UMOL/KG,,PSS78,,UMOL/KG,,UMOL/KG,,UMOL/KG,,UMOL/KG,,UMOL/KG,,PMOL/KG,,PMOL/KG,,UMOL/KG,,UMOL/KG,,,,ITS-90,UG/KG,,UG/KG,,ITS-90,,KG/M3,,ITS-90,
49UP20150724_2,   P04,    30,  1,      0,      -9,0,20150825,0728,0935,  9.4907, 158.3472, 5258,      0.0,        0,  29.0561,  34.0073,2,    197.7,2,-999.0000,9,   196.64,2,     0.94,2,     0.03,2,     0.00,2,    0.090,2, -999.000,9, -999.000,9,   -999.0,9,   -999.0,9,-999.0000,9,  -999.00,     0.04,2,     0.01,2,  29.0555,2,  21.3004,2,-999.0000,9
49UP20150724_2,   P04,    30,  1,     36,     109,2,20150825,0728,0953,  9.4907, 158.3472, 5258,     11.3,       11,  29.0294,  34.0174,2,    197.9,2,  34.0169,2,   196.75,2,     0.89,2,     0.01,2,     0.00,2,    0.070,2, -999.000,9, -999.000,9,   -999.0,9,   -999.0,9,-999.0000,9,  -999.00,     0.04,2,     0.01,2,  29.0266,2,  21.3176,2,  29.0270,2
49UP20150724_2,   P04,    30,  1,     35,     112,2,20150825,0728,0950,  9.4907, 158.3472, 5258,     52.0,       52,  28.7374,  34.0758,2,    198.1,2,  34.1022,4,   199.21,2,     0.94,2,     0.00,2,     0.00,2,    0.070,2, -999.000,9, -999.000,9,   -999.0,9,   -999.0,9,-999.0000,9,  -999.00,     0.06,2,     0.02,2,  28.7250,2,  21.4616,2,  28.7319,2
49UP20150724_2,   P04,    30,  1,     34,     094,2,20150825,0728,0948,  9.4907, 158.3472, 5258,     76.3,       76,  24.2223,  35.1045,2,    204.3,2,  35.1074,2,   203.84,6,     1.51,6,     0.00,6,     0.00,6,    0.150,6, -999.000,9, -999.000,9,   -999.0,9,   -999.0,9,-999.0000,9,  -999.00,     0.14,2,     0.11,2,  24.2061,2,  23.6592,2,  24.2428,2
49UP20150724_2,   P04,    30,  1,     33,     469,2,20150825,0728,0947,  9.4907, 158.3472, 5258,    102.2,      102,  19.6328,  34.9175,2,    173.3,2,  34.9050,6,   173.36,2,     4.26,2,     4.39,2,     0.15,2,    0.470,2, -999.000,9, -999.000,9,   -999.0,9,   -999.0,9,-999.0000,9,  -999.00,     0.23,2,     0.46,2,  19.6142,2,  24.7999,2,  19.6279,2
49UP20150724_2,   P04,    30,  1,     32,     105,2,20150825,0728,0946,  9.4907, 158.3472, 5258,    126.7,      126,  17.2543,  34.7070,2,    164.2,2,  34.7024,2,   165.10,2,     6.46,2,     7.89,2,     0.03,2,    0.670,2, -999.000,9, -999.000,9,   -999.0,9,   -999.0,9,-999.0000,9,  -999.00,     0.13,2,     0.34,2,  17.2332,2,  25.2338,2,  17.2274,2
49UP20150724_2,   P04,    30,  1,     31,     515,2,20150825,0728,0945,  9.4907, 158.3472, 5258,    151.8,      151,  13.7037,  34.4223,2,    146.3,2,  34.4210,2,   144.51,2,    13.88,2,    14.89,2,     0.01,2,    1.150,2, -999.000,9, -999.000,9,   -999.0,9,   -999.0,9,-999.0000,9,  -999.00,     0.05,2,     0.09,2,  13.6822,2,  25.8067,2,  13.7122,2
49UP20150724_2,   P04,    30,  1,     30,     097,2,20150825,0728,0944,  9.4907, 158.3472, 5258,    177.9,      177,  11.8465,  34.3977,2,    107.0,2,  34.4045,2,   104.39,2,    22.21,2,    22.08,2,     0.00,2,    1.670,2, -999.000,9, -999.000,9,   -999.0,9,   -999.0,9,-999.0000,9,  -999.00,     0.02,2,     0.05,2,  11.8237,2,  26.1546,2,  11.8482,2
49UP20150724_2,   P04,    30,  1,     29,     102,2,20150825,0728,0943,  9.4907, 158.3472, 5258,    203.1,      202,  10.9738,  34.4382,2,     84.6,2,  34.4374,2,    82.70,2,    27.66,2,    26.28,2,     0.00,2,    1.950,2, -999.000,9, -999.000,9,   -999.0,9,   -999.0,9,-999.0000,9,  -999.00,     0.00,2,     0.03,2,  10.9489,2,  26.3472,2,  10.9836,2
49UP20150724_2,   P04,    30,  1,     28,     108,2,20150825,0728,0941,  9.4907, 158.3472, 5258,    253.5,      252,  10.0576,  34.5170,2,     57.6,2,  34.5188,2,    57.75,2,    33.22,2,    30.89,2,     0.00,2,    2.240,2, -999.000,9, -999.000,9,   -999.0,9,   -999.0,9,-999.0000,9,  -999.00,  -999.00,9,  -999.00,9,  10.0282,2,  26.5700,2,  10.0594,2
49UP20150724_2,   P04,    30,  1,     27,     998,2,20150825,0728,0940,  9.4907, 158.3472, 5258,    284.7,      283,   9.4483,  34.5519,2,     54.8,2,  34.5519,2,    54.60,2,    36.45,2,    32.60,2,     0.00,2,    2.340,2, -999.000,9, -999.000,9,   -999.0,9,   -999.0,9,-999.0000,9,  -999.00,  -999.00,9,  -999.00,9,   9.4164,2,  26.6997,2,   9.4499,2
49UP20150724_2,   P04,    30,  1,     26,     084,2,20150825,0728,0937,  9.4907, 158.3472, 5258,    373.2,      371,   8.6269,  34.5703,2,     65.2,2,  34.5705,2,    65.68,2,    39.88,2,    33.52,2,     0.00,2,    2.380,2, -999.000,9, -999.000,9,   -999.0,9,   -999.0,9,-999.0000,9,  -999.00,  -999.00,9,  -999.00,9,   8.5872,2,  26.8468,2,   8.6272,2
49UP20150724_2,   P04,    30,  1,     25,     098,2,20150825,0728,0935,  9.4907, 158.3472, 5258,    474.7,      471,   7.6961,  34.5430,2,     66.1,2,  34.5425,2,    66.05,2,    47.31,2,    35.06,2,     0.00,2,    2.500,2, -999.000,9, -999.000,9,   -999.0,9,   -999.0,9,-999.0000,9,  -999.00,  -999.00,9,  -999.00,9,   7.6485,2,  26.9667,2,   7.6965,2
49UP20150724_2,   P04,    30,  1,     24,     110,2,20150825,0728,0932,  9.4907, 158.3472, 5258,    575.5,      571,   6.9849,  34.5314,2,     67.2,2,  34.5311,2,    67.10,2,    54.39,2,    36.26,2,     0.00,2,    2.590,2, -999.000,9, -999.000,9,   -999.0,9,   -999.0,9,-999.0000,9,  -999.00,  -999.00,9,  -999.00,9,   6.9300,2,  27.0593,2,   6.9843,2
49UP20150724_2,   P04,    30,  1,     23,     096,2,20150825,0728,0930,  9.4907, 158.3472, 5258,    676.4,      671,   6.3021,  34.5273,2,     65.6,2,  34.5276,2,    66.32,2,    63.18,2,    37.61,2,     0.00,2,    2.690,2, -999.000,9, -999.000,9,   -999.0,9,   -999.0,9,-999.0000,9,  -999.00,  -999.00,9,  -999.00,9,   6.2406,2,  27.1482,2,   6.3022,2
49UP20150724_2,   P04,    30,  1,     22,     111,2,20150825,0728,0925,  9.4907, 158.3472, 5258,    777.3,      771,   5.7592,  34.5321,2,     68.8,2,  34.5321,2,    68.72,2,    70.81,2,    38.34,2,     0.00,2,    2.740,2, -999.000,9, -999.000,9,   -999.0,9,   -999.0,9,-999.0000,9,  -999.00,  -999.00,9,  -999.00,9,   5.6911,2,  27.2216,2,   5.7580,2
49UP20150724_2,   P04,    30,  1,     21,     078,2,20150825,0728,0922,  9.4907, 158.3472, 5258,    877.3,      871,   5.1577,  34.5382,2,     70.7,2,  34.5386,2,    70.71,6,    80.80,6,    39.03,6,     0.00,6,    2.790,6, -999.000,9, -999.000,9,   -999.0,9,   -999.0,9,-999.0000,9,  -999.00,  -999.00,9,  -999.00,9,   5.0843,2,  27.2994,2,   5.1579,2
49UP20150724_2,   P04,    30,  1,     20,     093,2,20150825,0728,0919,  9.4907, 158.3472, 5258,    980.3,      972,   4.6917,  34.5465,2,     72.6,2,  34.5463,6,    72.21,2,    89.68,2,    39.41,2,     0.00,2,    2.830,2, -999.000,9, -999.000,9,   -999.0,9,   -999.0,9,-999.0000,9,  -999.00,  -999.00,9,  -999.00,9,   4.6124,2,  27.3596,2,   4.6906,2
49UP20150724_2,   P04,    30,  1,     19,     092,2,20150825,0728,0916,  9.4907, 158.3472, 5258,   1141.0,     1131,   3.9603,  34.5652,2,     83.3,2,  34.5647,2,    83.07,2,   103.66,2,    39.21,2,     0.00,2,    2.800,2, -999.000,9, -999.000,9,   -999.0,9,   -999.0,9,-999.0000,9,  -999.00,  -999.00,9,  -999.00,9,   3.8730,2,  27.4534,2,   3.9603,2
49UP20150724_2,   P04,    30,  1,     18,     101,2,20150825,0728,0911,  9.4907, 158.3472, 5258,   1343.8,     1332,   3.3574,  34.5841,2,     90.1,2,  34.5828,2,    90.11,2,   115.71,2,    39.24,2,     0.00,2,    2.790,2, -999.000,9, -999.000,9,   -999.0,9,   -999.0,9,-999.0000,9,  -999.00,  -999.00,9,  -999.00,9,   3.2587,2,  27.5290,2,   3.3580,2
49UP20150724_2,   P04,    30,  1,     17,     090,2,20150825,0728,0903,  9.4907, 158.3472, 5258,   1545.4,     1531,   2.8583,  34.6033,2,     96.4,2,  34.6037,2,    96.47,2,   126.21,2,    39.12,2,     0.00,2,    2.780,2, -999.000,9, -999.000,9,   -999.0,9,   -999.0,9,-999.0000,9,  -999.00,  -999.00,9,  -999.00,9,   2.7483,2,  27.5911,2,   2.8586,2
49UP20150724_2,   P04,    30,  1,     16,     089,2,20150825,0728,0859,  9.4907, 158.3472, 5258,   1748.1,     1731,   2.5582,  34.6170,2,     99.1,2,  34.6176,2,    98.99,2,   133.27,2,    39.15,2,     0.00,2,    2.780,2, -999.000,9, -999.000,9,   -999.0,9,   -999.0,9,-999.0000,9,  -999.00,  -999.00,9,  -999.00,9,   2.4350,2,  27.6292,2,   2.5583,2
49UP20150724_2,   P04,    30,  1,     15,     088,2,20150825,0728,0854,  9.4907, 158.3472, 5258,   1951.2,     1931,   2.2774,  34.6318,2,    104.6,2,  34.6319,2,   104.60,2,   139.51,2,    38.96,2,     0.00,2,    2.750,2, -999.000,9, -999.000,9,   -999.0,9,   -999.0,9,-999.0000,9,  -999.00,  -999.00,9,  -999.00,9,   2.1409,2,  27.6654,2,   2.2775,2
49UP20150724_2,   P04,    30,  1,     14,     999,2,20150825,0728,0848,  9.4907, 158.3472, 5258,   2154.4,     2131,   2.1061,  34.6410,2,    109.6,2,  34.6419,2,   109.58,2,   142.95,2,    38.72,2,     0.00,2,    2.720,2, -999.000,9, -999.000,9,   -999.0,9,   -999.0,9,-999.0000,9,  -999.00,  -999.00,9,  -999.00,9,   1.9548,2,  27.6877,2,   2.1063,2
49UP20150724_2,   P04,    30,  1,     13,     667,2,20150825,0728,0843,  9.4907, 158.3472, 5258,   2357.1,     2331,   1.9706,  34.6499,2,    114.9,2,  34.6494,2,   114.93,2,   145.29,2,    38.42,2,     0.00,2,    2.700,2, -999.000,9, -999.000,9,   -999.0,9,   -999.0,9,-999.0000,9,  -999.00,  -999.00,9,  -999.00,9,   1.8038,2,  27.7065,2,   1.9711,2
49UP20150724_2,   P04,    30,  1,     12,     074,2,20150825,0728,0838,  9.4907, 158.3472, 5258,   2560.1,     2530,   1.8472,  34.6572,2,    120.9,2,  34.6569,2,   121.16,2,   147.22,2,    38.07,2,     0.00,2,    2.670,2, -999.000,9, -999.000,9,   -999.0,9,   -999.0,9,-999.0000,9,  -999.00,  -999.00,9,  -999.00,9,   1.6643,2,  27.7229,2,   1.8472,2
49UP20150724_2,   P04,    30,  1,     11,     268,2,20150825,0728,0831,  9.4907, 158.3472, 5258,   2764.1,     2731,   1.7594,  34.6633,2,    126.2,2,  34.6631,2,   126.47,2,   147.82,2,    37.71,2,     0.00,2,    2.630,2, -999.000,9, -999.000,9,   -999.0,9,   -999.0,9,-999.0000,9,  -999.00,  -999.00,9,  -999.00,9,   1.5594,2,  27.7356,2,   1.7593,2
49UP20150724_2,   P04,    30,  1,     10,     267,2,20150825,0728,0826,  9.4907, 158.3472, 5258,   2968.3,     2931,   1.6910,  34.6680,2,    131.4,2,  34.6669,2,   131.68,6,   147.73,6,    37.36,6,     0.00,6,    2.620,6, -999.000,9, -999.000,9,   -999.0,9,   -999.0,9,-999.0000,9,  -999.00,  -999.00,9,  -999.00,9,   1.4731,2,  27.7457,2,   1.6910,2
49UP20150724_2,   P04,    30,  1,      9,     518,2,20150825,0728,0819,  9.4907, 158.3472, 5258,   3214.2,     3172,   1.5947,  34.6743,2,    139.5,2,  34.6737,2,   139.56,2,   147.04,2,    36.88,2,     0.00,2,    2.570,2, -999.000,9, -999.000,9,   -999.0,9,   -999.0,9,-999.0000,9,  -999.00,  -999.00,9,  -999.00,9,   1.3550,2,  27.7593,2,   1.5946,2
49UP20150724_2,   P04,    30,  1,      8,     081,2,20150825,0728,0813,  9.4907, 158.3472, 5258,   3466.4,     3419,   1.5315,  34.6799,2,    146.8,2,  34.6800,6,   147.09,2,   145.09,2,    36.31,2,     0.00,2,    2.520,2, -999.000,9, -999.000,9,   -999.0,9,   -999.0,9,-999.0000,9,  -999.00,  -999.00,9,  -999.00,9,   1.2680,2,  27.7698,2,   1.5315,2
49UP20150724_2,   P04,    30,  1,      7,     516,2,20150825,0728,0807,  9.4907, 158.3472, 5258,   3724.3,     3671,   1.4925,  34.6838,2,    153.2,2,  34.6842,2,   153.22,2,   142.99,2,    35.97,2,     0.00,2,    2.490,2, -999.000,9, -999.000,9,   -999.0,9,   -999.0,9,-999.0000,9,  -999.00,  -999.00,9,  -999.00,9,   1.2033,2,  27.7775,2,   1.4926,2
49UP20150724_2,   P04,    30,  1,      6,     113,2,20150825,0728,0800,  9.4907, 158.3472, 5258,   3980.0,     3921,   1.4679,  34.6875,2,    158.8,2,  34.6872,2,   158.93,2,   140.38,2,    35.52,2,     0.00,2,    2.460,2, -999.000,9, -999.000,9,   -999.0,9,   -999.0,9,-999.0000,9,  -999.00,  -999.00,9,  -999.00,9,   1.1520,2,  27.7840,2,   1.4680,2
49UP20150724_2,   P04,    30,  1,      5,     658,2,20150825,0728,0749,  9.4907, 158.3472, 5258,   4492.6,     4421,   1.4522,  34.6926,2,    167.4,2,  34.6928,2,   167.65,2,   136.07,2,    34.90,2,     0.00,2,    2.420,2, -999.000,9, -999.000,9,   -999.0,9,   -999.0,9,-999.0000,9,  -999.00,  -999.00,9,  -999.00,9,   1.0796,2,  27.7930,2,   1.4523,2
49UP20150724_2,   P04,    30,  1,      4,     471,2,20150825,0728,0744,  9.4907, 158.3472, 5258,   4750.8,     4672,   1.4496,  34.6949,2,    171.5,2,  34.6943,2,   171.87,2,   133.77,2,    34.58,2,     0.00,2,    2.390,2, -999.000,9, -999.000,9,   -999.0,9,   -999.0,9,-999.0000,9,  -999.00,  -999.00,9,  -999.00,9,   1.0469,2,  27.7970,2,   1.4496,2
49UP20150724_2,   P04,    30,  1,      3,     104,2,20150825,0728,0738,  9.4907, 158.3472, 5258,   5006.9,     4921,   1.4535,  34.6965,2,    174.7,2,  34.6964,2,   174.89,6,   132.27,6,    34.33,6,     0.00,6,    2.370,6, -999.000,9, -999.000,9,   -999.0,9,   -999.0,9,-999.0000,9,  -999.00,  -999.00,9,  -999.00,9,   1.0199,2,  27.8002,2,   1.4535,2
49UP20150724_2,   P04,    30,  1,      2,     075,2,20150825,0728,0732,  9.4907, 158.3472, 5258,   5265.0,     5172,   1.4588,  34.6984,2,    177.9,2,  34.6972,6,   178.04,2,   130.07,2,    34.03,2,     0.00,2,    2.350,2, -999.000,9, -999.000,9,   -999.0,9,   -999.0,9,-999.0000,9,  -999.00,  -999.00,9,  -999.00,9,   0.9932,2,  27.8035,2,   1.4588,2
49UP20150724_2,   P04,    30,  1,      1,     997,2,20150825,0728,0729,  9.4907, 158.3472, 5258,   5360.7,     5265,   1.4648,  34.6988,2,    178.6,2,  34.6975,2,   178.70,2,   130.10,2,    34.05,2,     0.00,2,    2.350,2, -999.000,9, -999.000,9,   -999.0,9,   -999.0,9,-999.0000,9,  -999.00,  -999.00,9,  -999.00,9,   0.9871,2,  27.8042,2,   1.4648,2