BOTTLE,20191113JMAGEMD
EXPOCODE,SECT_ID,STNNBR,CASTNO,SAMPNO,BTLNBR,BTLNBR_FLAG_U,DATE,TIME,BTL_TIME,LATITUDE,LONGITUDE,DEPTH,CTDPRS,CTDDEP,CTDTMP,CTDSAL,CTDSAL_FLAG_W,CTDOXY,CTDOXY_FLAG_W,SALNTY,SALNTY_FLAG_W,OXYGEN,OXYGEN_FLAG_W,SILCAT,SILCAT_FLAG_W,NO2+NO3,NO2+NO3_FLAG_W,NITRIT,NITRIT_FLAG_W,PHSPHT,PHSPHT_FLAG_W,CFC-11,CFC-11_FLAG_W,CFC-12,CFC-12_FLAG_W,TCARBN,TCARBN_FLAG_W,ALKALI,ALKALI_FLAG_W,PH_TS,PH_TS_FLAG_W,PH_TS_TMP,CHLORA,CHLORA_FLAG_W,PPHYTN,PPHYTN_FLAG_W,THETA,THETA_FLAG_W,SIGTHT,SIGTHT_FLAG_W,SBE35,SBE35_FLAG_W
,,,,,,,,UTC,,,,METER,DBAR,METERS,ITS-90,PSS-78,,UMOL/KG,,PSS78,,UMOL/KG,,UMOL/KG,,UMOL/KG,,UMOL/KG,,UMOL/KG,,PMOL/KG,,PMOL/KG,,UMOL/KG,,UMOL/KG,,,,ITS-90,UG/KG,,UG/KG,,ITS-90,,KG/M3,,ITS-90,
49UP20150724_1,   P04,    52,  1,      0,      -9,0,20150807,0605,0755,  4.9908, 170.0045, 4257,      0.0,        0,  29.3623,  34.1396,2,    197.9,2,  34.1446,2,   197.24,2,     1.11,2,     0.03,2,     0.00,2,    0.070,2, -999.000,9, -999.000,9,   1927.3,2,   2242.0,2,   8.1124,2,    25.00,     0.07,2,     0.03,2,  29.3617,2,  21.2972,2,-999.0000,9
49UP20150724_1,   P04,    52,  1,     36,     109,2,20150807,0605,0820,  4.9908, 170.0045, 4257,     10.3,       10,  29.1434,  34.1414,2,    198.1,2,  34.2880,4,   198.51,2,     1.11,2,     0.02,2,     0.00,2,    0.080,2,    1.591,2,    0.955,2,   1935.9,2,   2252.5,2,   8.1046,2,    25.00,     0.08,2,     0.04,2,  29.1409,2,  21.3725,2,  29.1394,2
49UP20150724_1,   P04,    52,  1,     35,     112,2,20150807,0605,0819,  4.9908, 170.0045, 4257,     26.7,       27,  26.8057,  34.9801,2,    189.8,2,  34.9529,4,   190.07,2,     0.89,2,     0.41,2,     0.03,2,    0.230,2, -999.000,9, -999.000,9,   2003.7,2,   2296.4,2,   8.0571,2,    25.00,     0.22,2,     0.14,2,  26.7996,2,  22.7666,2,  26.8107,2
49UP20150724_1,   P04,    52,  1,     34,     083,2,20150807,0605,0814,  4.9908, 170.0045, 4257,     51.0,       51,  25.0737,  35.1057,2,    144.1,2,  35.1020,2,   143.31,2,     3.20,2,     7.07,2,     0.53,2,    0.590,2, -999.000,9, -999.000,9,   2050.0,2,   2301.7,2,   7.9691,2,    25.00,     0.27,2,     0.62,2,  25.0626,2,  23.4020,2,  25.0591,2
49UP20150724_1,   P04,    52,  1,     33,     469,2,20150807,0605,0813,  4.9908, 170.0045, 4257,     75.4,       75,  24.3155,  35.1164,2,    134.7,2,  35.1119,2,   135.42,2,     3.93,2,     8.29,2,     0.09,2,    0.650,2, -999.000,9, -999.000,9,   2059.4,2,   2301.1,2,   7.9506,2,    25.00,     0.20,2,     0.50,2,  24.2994,2,  23.6404,2,  24.3116,2
49UP20150724_1,   P04,    52,  1,     32,     105,2,20150807,0605,0811,  4.9908, 170.0045, 4257,     99.5,       99,  22.8341,  34.9736,2,    153.4,2,  34.9782,2,   153.47,2,     4.73,2,     6.19,2,     0.05,2,    0.530,2, -999.000,9, -999.000,9,   2050.9,2,   2297.5,2,   7.9552,2,    25.00,     0.08,2,     0.22,2,  22.8139,2,  23.9671,2,  22.8331,2
49UP20150724_1,   P04,    52,  1,     31,     515,2,20150807,0605,0809,  4.9908, 170.0045, 4257,    125.4,      125,  20.1544,  34.8838,2,    143.4,2,  34.8820,2,   144.09,2,     7.38,2,     8.96,2,     0.03,2,    0.710,2, -999.000,9, -999.000,9,   2080.8,2,   2293.8,2,   7.8935,2,    25.00,     0.04,2,     0.13,2,  20.1311,2,  24.6385,2,  20.1513,2
49UP20150724_1,   P04,    52,  1,     30,     097,2,20150807,0605,0808,  4.9908, 170.0045, 4257,    151.9,      151,  16.2086,  34.6812,2,    129.8,2,  34.6894,2,   129.50,6,    12.37,6,    14.00,6,     0.01,6,    1.060,6, -999.000,9, -999.000,9,   2121.4,2,   2285.3,2,   7.7924,2,    25.00,     0.02,2,     0.06,2,  16.1844,2,  25.4601,2,  16.3136,2
49UP20150724_1,   P04,    52,  1,     29,     102,2,20150807,0605,0807,  4.9908, 170.0045, 4257,    175.4,      174,  12.2889,  34.5412,2,     80.4,2,  34.5414,2,    81.05,2,    23.80,2,    24.58,2,     0.00,2,    1.820,2, -999.000,9, -999.000,9,   2188.7,2,   2285.2,2,   7.6135,2,    25.00,     0.01,2,     0.04,2,  12.2658,2,  26.1817,2,  12.2887,2
49UP20150724_1,   P04,    52,  1,     28,     108,2,20150807,0605,0805,  4.9908, 170.0045, 4257,    202.7,      201,  10.4895,  34.5852,2,     43.6,2,  34.5888,2,    42.63,2,    31.35,2,    31.60,2,     0.00,2,    2.300,2, -999.000,9, -999.000,9,   2235.7,2,   2293.2,2,   7.5022,2,    25.00,     0.00,2,     0.04,2,  10.4654,2,  26.5476,2,  10.4892,2
49UP20150724_1,   P04,    52,  1,     27,     998,2,20150807,0605,0803,  4.9908, 170.0045, 4257,    251.7,      250,   9.6881,  34.6319,2,     38.6,2,  34.6309,2,    38.71,2,    34.16,2,    33.78,2,     0.00,2,    2.410,2, -999.000,9, -999.000,9,   2250.8,3,   2299.0,2,   7.4802,2,    25.00,  -999.00,9,  -999.00,9,   9.6595,2,  26.7220,2,   9.6873,2
49UP20150724_1,   P04,    52,  1,     26,     084,2,20150807,0605,0802,  4.9908, 170.0045, 4257,    281.7,      280,   9.4452,  34.6421,2,     53.9,2,  34.6426,2,    51.78,2,    33.85,2,    33.30,2,     0.00,2,    2.360,2, -999.000,9, -999.000,9,   2250.9,2,   2300.5,2,   7.5047,2,    25.00,  -999.00,9,  -999.00,9,   9.4136,2,  26.7707,2,   9.4463,2
49UP20150724_1,   P04,    52,  1,     25,     098,2,20150807,0605,0759,  4.9908, 170.0045, 4257,    373.0,      371,   8.4853,  34.6048,2,     58.0,2,  34.6044,2,    57.50,2,    38.71,2,    34.52,2,     0.00,2,    2.450,2, -999.000,9, -999.000,9,   2256.9,2,   2307.0,2,   7.4973,2,    25.00,  -999.00,9,  -999.00,9,   8.4460,2,  26.8957,2,   8.4848,2
49UP20150724_1,   P04,    52,  1,     24,     110,2,20150807,0605,0757,  4.9908, 170.0045, 4257,    475.7,      473,   7.6575,  34.5761,2,     56.7,2,  34.5757,2,    56.60,2,    45.19,2,    36.24,2,     0.00,2,    2.600,2, -999.000,9, -999.000,9,   2271.1,2,   2310.3,2,   7.4796,2,    25.00,  -999.00,9,  -999.00,9,   7.6100,2,  26.9984,2,   7.6587,2
49UP20150724_1,   P04,    52,  1,     23,     096,2,20150807,0605,0754,  4.9908, 170.0045, 4257,    574.6,      571,   7.1267,  34.5601,2,     44.1,2,  34.5610,2,    44.17,2,    52.49,2,    38.39,2,     0.00,2,    2.770,2, -999.000,9, -999.000,9,   2285.8,2,   2318.3,2,   7.4481,2,    25.00,  -999.00,9,  -999.00,9,   7.0712,2,  27.0623,2,   7.1260,2
49UP20150724_1,   P04,    52,  1,     22,     111,2,20150807,0605,0751,  4.9908, 170.0045, 4257,    675.4,      671,   6.1674,  34.5493,2,     39.5,2,  34.5496,6,    39.21,6,    64.23,6,    40.88,6,     0.00,6,    2.940,6, -999.000,9, -999.000,9,   2304.8,2,   2330.0,2,   7.4257,2,    25.00,  -999.00,9,  -999.00,9,   6.1066,2,  27.1829,2,   6.1688,2
49UP20150724_1,   P04,    52,  1,     21,     078,2,20150807,0605,0741,  4.9908, 170.0045, 4257,    777.2,      771,   5.5011,  34.5459,2,     50.0,2,  34.5463,2,    49.91,2,    73.56,2,    40.93,2,     0.00,2,    2.950,2, -999.000,9, -999.000,9,   2300.9,2,   2339.1,6,   7.4363,2,    25.00,  -999.00,9,  -999.00,9,   5.4346,2,  27.2639,2,   5.5007,2
49UP20150724_1,   P04,    52,  1,     20,     093,2,20150807,0605,0736,  4.9908, 170.0045, 4257,    877.5,      871,   4.9328,  34.5483,2,     61.9,2,  34.5484,2,    61.57,2,    83.12,2,    40.52,2,     0.00,2,    2.910,2, -999.000,9, -999.000,9,   2307.6,2,   2347.6,2,   7.4528,6,    25.00,  -999.00,9,  -999.00,9,   4.8608,2,  27.3332,2,   4.9345,2
49UP20150724_1,   P04,    52,  1,     19,     092,2,20150807,0605,0734,  4.9908, 170.0045, 4257,    978.3,      971,   4.6054,  34.5541,2,     66.7,2,  34.5543,2,    66.34,6,    89.33,6,    40.37,6,     0.00,6,    2.900,6, -999.000,9, -999.000,9,   2311.6,2,   2354.2,2,   7.4570,2,    25.00,  -999.00,9,  -999.00,9,   4.5270,2,  27.3751,2,   4.6055,2
49UP20150724_1,   P04,    52,  1,     18,     101,2,20150807,0605,0730,  4.9908, 170.0045, 4257,   1139.3,     1130,   3.8956,  34.5720,2,     75.2,2,  34.5717,2,    74.87,2,   103.18,2,    40.28,2,     0.00,2,    2.890,2, -999.000,9, -999.000,9,   2324.3,2,   2370.9,2,   7.4664,2,    25.00,  -999.00,9,  -999.00,9,   3.8090,2,  27.4653,2,   3.8953,2
49UP20150724_1,   P04,    52,  1,     17,     090,2,20150807,0605,0725,  4.9908, 170.0045, 4257,   1342.2,     1330,   3.3976,  34.5891,2,     81.5,2,  34.5892,6,    81.32,2,   113.52,2,    40.20,2,     0.00,2,    2.880,2, -999.000,9, -999.000,9,   2332.8,2,   2382.8,2,   7.4798,2,    25.00,  -999.00,9,  -999.00,9,   3.2986,2,  27.5292,2,   3.3975,2
49UP20150724_1,   P04,    52,  1,     16,     089,2,20150807,0605,0713,  4.9908, 170.0045, 4257,   1544.8,     1531,   2.8142,  34.6097,2,     94.9,2,  34.6096,2,    94.43,2,   125.24,2,    39.46,2,     0.00,2,    2.820,2, -999.000,9, -999.000,9,   2337.4,2,   2395.4,2,   7.4970,2,    25.00,  -999.00,9,  -999.00,9,   2.7048,2,  27.6001,2,   2.8141,2
49UP20150724_1,   P04,    52,  1,     15,     088,2,20150807,0605,0709,  4.9908, 170.0045, 4257,   1747.0,     1730,   2.5341,  34.6228,2,    100.4,2,  34.6227,2,   100.43,2,   131.60,2,    39.07,2,     0.00,2,    2.770,2, -999.000,9, -999.000,9,   2340.0,2,   2401.7,2,   7.5071,2,    25.00,  -999.00,9,  -999.00,9,   2.4113,2,  27.6358,2,   2.5339,2
49UP20150724_1,   P04,    52,  1,     14,     999,2,20150807,0605,0704,  4.9908, 170.0045, 4257,   1950.5,     1931,   2.2851,  34.6352,2,    106.0,2,  34.6355,2,   105.93,2,   137.59,2,    38.89,2,     0.00,2,    2.750,2, -999.000,9, -999.000,9,   2343.4,2,   2410.1,2,   7.5205,2,    25.00,  -999.00,9,  -999.00,9,   2.1486,2,  27.6675,2,   2.2851,2
49UP20150724_1,   P04,    52,  1,     13,     667,2,20150807,0605,0658,  4.9908, 170.0045, 4257,   2153.5,     2131,   2.0830,  34.6460,2,    110.4,2,  34.6460,2,   109.99,2,   142.73,2,    38.65,2,     0.00,2,    2.720,2, -999.000,9, -999.000,9,   2351.9,2,   2414.5,2,   7.5286,2,    25.00,  -999.00,9,  -999.00,9,   1.9321,2,  27.6935,2,   2.0840,2
49UP20150724_1,   P04,    52,  1,     11,     268,2,20150807,0605,0653,  4.9908, 170.0045, 4257,   2356.7,     2331,   1.9251,  34.6554,2,    117.2,2,  34.6560,2,   116.89,2,   145.05,2,    38.23,2,     0.00,2,    2.680,2, -999.000,9, -999.000,9,   2352.0,2,   2417.2,2,   7.5417,2,    25.00,  -999.00,9,  -999.00,9,   1.7591,2,  27.7144,2,   1.9250,2
49UP20150724_1,   P04,    52,  1,     12,     074,2,20150807,0605,0653,  4.9908, 170.0045, 4257,   2356.8,     2331,   1.9245,  34.6556,2,    117.2,2,  34.6556,2,   116.85,2,   145.16,2,    38.23,2,     0.00,2,    2.690,2, -999.000,9, -999.000,9,   2351.0,2,   2418.6,2,   7.5364,2,    25.00,  -999.00,9,  -999.00,9,   1.7585,2,  27.7145,2,   1.9243,2
49UP20150724_1,   P04,    52,  1,     10,     267,2,20150807,0605,0648,  4.9908, 170.0045, 4257,   2560.2,     2531,   1.8062,  34.6623,2,    123.3,2,  34.6626,2,   123.55,2,   146.49,2,    37.86,2,     0.00,2,    2.650,2,    0.003,2,    0.003,2,   2349.8,6,   2420.1,6,   7.5457,2,    25.00,  -999.00,9,  -999.00,9,   1.6240,2,  27.7300,2,   1.8061,2
49UP20150724_1,   P04,    52,  1,      9,     518,2,20150807,0605,0642,  4.9908, 170.0045, 4257,   2764.0,     2731,   1.7264,  34.6667,2,    128.9,2,  34.6671,6,   128.53,2,   146.49,2,    37.45,2,     0.00,2,    2.620,2,    0.000,2,    0.003,2,   2346.3,2,   2417.7,2,   7.5567,6,    25.00,  -999.00,9,  -999.00,9,   1.5271,2,  27.7407,2,   1.7263,2
49UP20150724_1,   P04,    52,  1,      8,     081,2,20150807,0605,0637,  4.9908, 170.0045, 4257,   2967.8,     2931,   1.6452,  34.6716,2,    134.8,2,  34.6715,2,   134.67,2,   146.51,2,    37.12,2,     0.00,2,    2.590,2,    0.000,2,    0.001,2,   2339.6,2,   2417.4,2,   7.5627,2,    25.00,  -999.00,9,  -999.00,9,   1.4283,2,  27.7519,2,   1.6452,2
49UP20150724_1,   P04,    52,  1,      6,     113,2,20150807,0605,0632,  4.9908, 170.0045, 4257,   3212.5,     3171,   1.5628,  34.6770,2,    143.3,2,  34.6778,2,   143.14,2,   144.36,2,    36.42,2,     0.00,2,    2.540,2,    0.014,2,    0.013,2,   2330.1,2,   2417.5,2,   7.5740,2,    25.00,  -999.00,9,  -999.00,9,   1.3240,2,  27.7636,2,   1.5627,2
49UP20150724_1,   P04,    52,  1,      7,     516,2,20150807,0605,0632,  4.9908, 170.0045, 4257,   3213.3,     3171,   1.5626,  34.6769,2,    143.3,2,  34.6766,2,   142.99,2,   144.50,2,    36.49,2,     0.00,2,    2.550,2, -999.000,9, -999.000,9,   2332.9,2,   2417.3,2,   7.5728,2,    25.00,  -999.00,9,  -999.00,9,   1.3237,2,  27.7635,2,   1.5626,2
49UP20150724_1,   P04,    52,  1,      5,     094,2,20150807,0605,0625,  4.9908, 170.0045, 4257,   3468.8,     3422,   1.5268,  34.6804,2,    148.1,2,  34.6810,2,   147.36,2,   143.08,2,    36.16,2,     0.00,2,    2.510,2,    0.009,2,    0.006,2,   2325.6,2,   2415.8,2,   7.5823,2,    25.00,  -999.00,9,  -999.00,9,   1.2632,2,  27.7706,2,   1.5270,2
49UP20150724_1,   P04,    52,  1,      4,     471,2,20150807,0605,0620,  4.9908, 170.0045, 4257,   3723.0,     3670,   1.4741,  34.6853,2,    155.5,2,  34.6860,2,   155.11,2,   140.82,2,    35.63,2,     0.00,2,    2.480,2,    0.003,2,    0.004,2,   2319.8,6,   2412.9,6,   7.5853,2,    25.00,  -999.00,9,  -999.00,9,   1.1855,2,  27.7799,2,   1.4736,2
49UP20150724_1,   P04,    52,  1,      3,     104,2,20150807,0605,0613,  4.9908, 170.0045, 4257,   3979.7,     3921,   1.4422,  34.6891,2,    161.6,2,  34.6892,2,   160.94,2,   138.47,2,    35.27,2,     0.00,2,    2.450,2,    0.001,2,    0.004,2,   2319.2,2,   2409.3,2,   7.5957,6,    25.00,  -999.00,9,  -999.00,9,   1.1271,2,  27.7869,2,   1.4421,2
49UP20150724_1,   P04,    52,  1,      2,     075,2,20150807,0605,0607,  4.9908, 170.0045, 4257,   4236.5,     4171,   1.3846,  34.6947,2,    171.6,2,  34.6953,2,   171.69,6,   133.05,6,    34.48,6,     0.00,6,    2.390,6,    0.003,2,    0.005,2,   2309.1,2,   2403.5,2,   7.6032,2,    25.00,  -999.00,9,  -999.00,9,   1.0429,2,  27.7971,2,   1.3844,2
49UP20150724_1,   P04,    52,  1,      1,     997,2,20150807,0605,0605,  4.9908, 170.0045, 4257,   4306.8,     4240,   1.3665,  34.6964,2,    174.9,2,  34.6971,6,   174.12,2,   131.72,2,    34.33,2,     0.00,2,    2.380,2,    0.004,6,    0.008,6,   2306.7,2,   2400.0,2,   7.6084,2,    25.00,  -999.00,9,  -999.00,9,   1.0175,2,  27.8003,2,   1.3663,2