BOTTLE,20191113JMAGEMD
EXPOCODE,SECT_ID,STNNBR,CASTNO,SAMPNO,BTLNBR,BTLNBR_FLAG_U,DATE,TIME,BTL_TIME,LATITUDE,LONGITUDE,DEPTH,CTDPRS,CTDDEP,CTDTMP,CTDSAL,CTDSAL_FLAG_W,CTDOXY,CTDOXY_FLAG_W,SALNTY,SALNTY_FLAG_W,OXYGEN,OXYGEN_FLAG_W,SILCAT,SILCAT_FLAG_W,NO2+NO3,NO2+NO3_FLAG_W,NITRIT,NITRIT_FLAG_W,PHSPHT,PHSPHT_FLAG_W,CFC-11,CFC-11_FLAG_W,CFC-12,CFC-12_FLAG_W,TCARBN,TCARBN_FLAG_W,ALKALI,ALKALI_FLAG_W,PH_TS,PH_TS_FLAG_W,PH_TS_TMP,CHLORA,CHLORA_FLAG_W,PPHYTN,PPHYTN_FLAG_W,THETA,THETA_FLAG_W,SIGTHT,SIGTHT_FLAG_W,SBE35,SBE35_FLAG_W
,,,,,,,,UTC,,,,METER,DBAR,METERS,ITS-90,PSS-78,,UMOL/KG,,PSS78,,UMOL/KG,,UMOL/KG,,UMOL/KG,,UMOL/KG,,UMOL/KG,,PMOL/KG,,PMOL/KG,,UMOL/KG,,UMOL/KG,,,,ITS-90,UG/KG,,UG/KG,,ITS-90,,KG/M3,,ITS-90,
49UP20150724_2,   P04,    10,  1,      0,      -9,0,20150901,0317,0510,  9.3775, 143.7018, 4713,      0.0,        0,  29.1848,  33.7434,2,    197.2,2,  33.7486,2,   196.98,2,     1.05,2,     0.03,2,     0.00,2,    0.060,2, -999.000,9, -999.000,9,   1902.8,2,   2216.0,2,   8.1047,2,    25.00,     0.07,2,     0.03,2,  29.1842,2,  21.0595,2,-999.0000,9
49UP20150724_2,   P04,    10,  1,     36,     109,2,20150901,0317,0537,  9.3775, 143.7018, 4713,     10.4,       10,  29.1916,  33.7438,2,    196.8,2,  33.7502,2,   197.21,2,     1.04,2,     0.02,2,     0.00,2,    0.050,2,    1.165,3,    0.595,3,   1899.8,2,   2216.5,2,   8.1117,2,    25.00,     0.07,2,     0.03,2,  29.1891,2,  21.0582,2,  29.1635,2
49UP20150724_2,   P04,    10,  1,     35,     112,2,20150901,0317,0535,  9.3775, 143.7018, 4713,     25.8,       26,  28.9106,  33.7554,2,    196.8,2,  33.7865,4,   197.71,2,     1.10,2,     0.04,2,     0.00,2,    0.060,2, -999.000,9, -999.000,9,   1899.2,2,   2218.7,2,   8.1034,2,    25.00,     0.09,2,     0.04,2,  28.9044,2,  21.1617,2,  28.9087,2
49UP20150724_2,   P04,    10,  1,     34,     094,2,20150901,0317,0532,  9.3775, 143.7018, 4713,     50.6,       50,  24.4294,  34.5603,2,    200.7,2,  34.5748,2,   200.27,6,     2.63,6,     0.31,6,     0.01,6,    0.200,6,    1.489,3,    0.717,3,   2001.8,2,   2274.6,2,   8.0109,2,    25.00,     0.24,2,     0.11,2,  24.4186,2,  23.1841,2,  24.4281,2
49UP20150724_2,   P04,    10,  1,     33,     469,2,20150901,0317,0530,  9.3775, 143.7018, 4713,     76.4,       76,  20.8986,  34.7862,2,    173.6,2,  34.7892,6,   174.02,2,     5.42,2,     4.44,2,     0.11,2,    0.470,2, -999.000,9, -999.000,9,   2058.0,2,   2291.3,2,   7.9320,2,    25.00,     0.23,2,     0.16,2,  20.8841,2,  24.3626,2,  20.8900,2
49UP20150724_2,   P04,    10,  1,     32,     105,2,20150901,0317,0529,  9.3775, 143.7018, 4713,    102.0,      101,  17.5936,  34.7356,2,    149.2,2,  34.7348,2,   149.71,2,     8.91,2,    10.00,2,     0.39,2,    0.790,2,    1.807,3,    0.919,3,   2104.7,2,   2288.0,2,   7.8369,2,    25.00,     0.25,2,     0.20,2,  17.5764,2,  25.1731,2,  17.5913,2
49UP20150724_2,   P04,    10,  1,     31,     515,2,20150901,0317,0527,  9.3775, 143.7018, 4713,    126.4,      126,  15.3362,  34.6280,2,    122.8,2,  34.6353,2,   124.86,2,    14.22,2,    15.53,2,     0.19,2,    1.160,2, -999.000,9, -999.000,9,   2134.4,2,   2285.2,2,   7.7543,2,    25.00,     0.17,2,     0.16,2,  15.3168,2,  25.6152,2,  15.3482,2
49UP20150724_2,   P04,    10,  1,     30,     097,2,20150901,0317,0526,  9.3775, 143.7018, 4713,    152.4,      151,  13.7015,  34.5723,2,    107.2,2,  34.5723,2,   107.57,2,    20.16,2,    20.27,2,     0.04,2,    1.470,2,    1.597,3,    0.822,3,   2158.8,2,   2284.3,2,   7.6870,2,    25.00,     0.10,2,     0.19,2,  13.6799,2,  25.9232,2,  13.7045,2
49UP20150724_2,   P04,    10,  1,     29,     102,2,20150901,0317,0524,  9.3775, 143.7018, 4713,    177.1,      176,  12.2350,  34.5459,2,     95.9,2,  34.5462,2,    94.56,2,    25.01,2,    23.88,2,     0.01,2,    1.720,2, -999.000,9, -999.000,9,   2181.8,2,   2287.3,2,   7.6347,2,    25.00,     0.03,2,     0.10,2,  12.2117,2,  26.1958,2,  12.2442,2
49UP20150724_2,   P04,    10,  1,     27,     998,2,20150901,0317,0522,  9.3775, 143.7018, 4713,    202.7,      201,  11.4269,  34.5366,2,     85.7,2,  34.5370,2,    85.40,2,    28.02,2,    26.18,2,     0.01,2,    1.880,2,    1.227,3,    0.627,3,   2200.9,2,   2289.3,2,   7.5979,2,    25.00,     0.02,2,     0.06,2,  11.4014,2,  26.3414,2,  11.4268,2
49UP20150724_2,   P04,    10,  1,     28,     108,2,20150901,0317,0523,  9.3775, 143.7018, 4713,    202.8,      202,  11.4351,  34.5367,2,     85.7,2,  34.5373,2,    85.86,2,    28.02,2,    26.17,2,     0.01,2,    1.880,2, -999.000,9, -999.000,9,   2195.6,2,   2287.8,2,   7.5969,2,    25.00,  -999.00,9,  -999.00,9,  11.4096,2,  26.3400,2,  11.4352,2
49UP20150724_2,   P04,    10,  1,     26,     084,2,20150901,0317,0520,  9.3775, 143.7018, 4713,    251.7,      250,  10.1016,  34.5494,2,     71.5,2,  34.5502,2,    71.63,2,    33.49,2,    30.07,2,     0.00,2,    2.140,2, -999.000,9, -999.000,9,   2227.3,2,   2294.1,2,   7.5435,2,    25.00,  -999.00,9,  -999.00,9,  10.0723,2,  26.5877,2,  10.0995,2
49UP20150724_2,   P04,    10,  1,     25,     098,2,20150901,0317,0518,  9.3775, 143.7018, 4713,    333.5,      331,   8.6417,  34.5577,2,     73.8,2,  34.5573,2,    73.81,2,    39.56,2,    32.66,2,     0.00,2,    2.300,2,    0.558,3,    0.278,3,   2238.5,2,   2303.0,2,   7.5236,2,    25.00,  -999.00,9,  -999.00,9,   8.6063,2,  26.8340,2,   8.6418,2
49UP20150724_2,   P04,    10,  1,     24,     110,2,20150901,0317,0514,  9.3775, 143.7018, 4713,    434.3,      431,   7.9848,  34.5473,2,     84.6,2,  34.5473,2,    84.52,2,    42.59,2,    32.96,2,     0.00,2,    2.330,2,    0.487,3,    0.243,3,   2239.1,2,   2306.7,2,   7.5288,2,    25.00,  -999.00,9,  -999.00,9,   7.9405,2,  26.9271,2,   7.9837,2
49UP20150724_2,   P04,    10,  1,     23,     096,2,20150901,0317,0511,  9.3775, 143.7018, 4713,    536.2,      532,   7.1794,  34.5306,2,     90.9,2,  34.5308,6,    90.88,2,    48.88,2,    33.91,2,     0.00,2,    2.400,2,    0.368,3,    0.186,3,   2247.5,2,   2313.8,2,   7.5259,2,    25.00,  -999.00,9,  -999.00,9,   7.1276,2,  27.0313,2,   7.1796,2
49UP20150724_2,   P04,    10,  1,     22,     111,2,20150901,0317,0508,  9.3775, 143.7018, 4713,    636.9,      632,   6.3776,  34.5265,2,     85.3,2,  34.5264,2,    86.12,2,    59.35,2,    35.71,2,     0.00,2,    2.540,2,    0.198,3,    0.113,3,   2260.2,2,   2324.4,2,   7.5066,2,    25.00,  -999.00,9,  -999.00,9,   6.3195,2,  27.1373,2,   6.3782,2
49UP20150724_2,   P04,    10,  1,     21,     078,2,20150901,0317,0503,  9.3775, 143.7018, 4713,    738.7,      733,   5.8414,  34.5291,2,     90.6,2,  34.5295,2,    90.13,2,    65.67,2,    36.33,2,     0.00,2,    2.580,2,    0.152,3,    0.091,3,   2267.5,6,   2330.5,6,   7.5057,2,    25.00,  -999.00,9,  -999.00,9,   5.7765,2,  27.2087,2,   5.8418,2
49UP20150724_2,   P04,    10,  1,     20,     093,3,20150901,0317,0459,  9.3775, 143.7018, 4713,    837.3,      831,   5.2943,  34.5335,2,     87.9,2,  34.5336,2,    87.91,2,    76.31,2,    37.16,2,     0.00,2,    2.650,2,    0.096,3,    0.055,3,   2293.4,2,   2341.5,2,   7.4995,6,    25.00,  -999.00,9,  -999.00,9,   5.2236,2,  27.2793,2,   5.2942,2
49UP20150724_2,   P04,    10,  1,     19,     092,2,20150901,0317,0456,  9.3775, 143.7018, 4713,    936.4,      929,   4.9208,  34.5422,2,     86.5,2,  34.5421,2,    86.60,6,    83.55,6,    37.88,6,     0.00,6,    2.700,6,    0.054,3,    0.035,3,   2296.2,2,   2349.8,2,   7.4941,2,    25.00,  -999.00,9,  -999.00,9,   4.8437,2,  27.3302,2,   4.9208,2
49UP20150724_2,   P04,    10,  1,     18,     101,2,20150901,0317,0453,  9.3775, 143.7018, 4713,   1079.5,     1071,   4.3329,  34.5570,2,     88.0,2,  34.5569,2,    88.22,2,    94.66,2,    38.43,2,     0.00,2,    2.740,2,    0.027,3,    0.024,3,   2305.4,2,   2360.6,2,   7.4918,2,    25.00,  -999.00,9,  -999.00,9,   4.2477,2,  27.4077,2,   4.3328,2
49UP20150724_2,   P04,    10,  1,     17,     090,2,20150901,0317,0448,  9.3775, 143.7018, 4713,   1282.2,     1271,   3.5453,  34.5754,2,     92.2,2,  34.5759,2,    92.20,2,   111.49,2,    38.83,2,     0.00,2,    2.770,2, -999.000,9, -999.000,9,   2319.6,2,   2378.0,2,   7.4928,2,    25.00,  -999.00,9,  -999.00,9,   3.4499,2,  27.5037,2,   3.5456,2
49UP20150724_2,   P04,    10,  1,     16,     089,2,20150901,0317,0441,  9.3775, 143.7018, 4713,   1484.4,     1471,   3.0787,  34.5939,2,     97.9,2,  34.5939,2,    98.06,2,   120.59,2,    38.85,2,     0.00,2,    2.760,2, -999.000,9, -999.000,9,   2330.9,2,   2387.7,2,   7.5006,2,    25.00,  -999.00,9,  -999.00,9,   2.9712,2,  27.5635,2,   3.0789,2
49UP20150724_2,   P04,    10,  1,     15,     088,2,20150901,0317,0435,  9.3775, 143.7018, 4713,   1686.3,     1670,   2.7005,  34.6097,2,    103.9,2,  34.6097,2,   103.81,2,   128.26,2,    38.71,2,     0.00,2,    2.740,2, -999.000,9, -999.000,9,   2335.4,6,   2395.4,6,   7.5062,2,    25.00,  -999.00,9,  -999.00,9,   2.5806,2,  27.6109,2,   2.7006,2
49UP20150724_2,   P04,    10,  1,     14,     999,2,20150901,0317,0430,  9.3775, 143.7018, 4713,   1890.2,     1871,   2.4070,  34.6227,2,    109.7,2,  34.6228,2,   110.06,2,   133.75,2,    38.46,2,     0.00,2,    2.710,2, -999.000,9, -999.000,9,   2337.8,2,   2402.3,2,   7.5159,6,    25.00,  -999.00,9,  -999.00,9,   2.2739,2,  27.6472,2,   2.4073,2
49UP20150724_2,   P04,    10,  1,     13,     667,2,20150901,0317,0424,  9.3775, 143.7018, 4713,   2092.9,     2071,   2.1799,  34.6340,2,    115.3,2,  34.6332,2,   115.73,2,   137.85,2,    38.22,2,     0.00,2,    2.690,2, -999.000,9, -999.000,9,   2339.4,2,   2405.0,2,   7.5248,2,    25.00,  -999.00,9,  -999.00,9,   2.0327,2,  27.6759,2,   2.1799,2
49UP20150724_2,   P04,    10,  1,     12,     074,2,20150901,0317,0419,  9.3775, 143.7018, 4713,   2295.1,     2270,   2.0059,  34.6444,2,    120.4,2,  34.6448,2,   120.72,2,   141.17,2,    37.96,2,     0.00,2,    2.670,2, -999.000,9, -999.000,9,   2338.8,2,   2407.5,2,   7.5313,2,    25.00,  -999.00,9,  -999.00,9,   1.8440,2,  27.6990,2,   2.0060,2
49UP20150724_2,   P04,    10,  1,     11,     268,2,20150901,0317,0414,  9.3775, 143.7018, 4713,   2499.0,     2470,   1.8737,  34.6516,2,    124.8,2,  34.6516,2,   125.20,2,   143.53,2,    37.74,2,     0.00,2,    2.640,2, -999.000,9, -999.000,9,   2340.4,2,   2412.4,2,   7.5369,2,    25.00,  -999.00,9,  -999.00,9,   1.6959,2,  27.7160,2,   1.8737,2
49UP20150724_2,   P04,    10,  1,     10,     267,2,20150901,0317,0408,  9.3775, 143.7018, 4713,   2703.7,     2671,   1.7634,  34.6583,2,    129.8,2,  34.6585,2,   130.03,2,   144.71,2,    37.46,2,     0.00,2,    2.620,2,    0.000,3,    0.005,3,   2338.5,2,   2411.7,2,   7.5428,2,    25.00,  -999.00,9,  -999.00,9,   1.5690,2,  27.7309,2,   1.7634,2
49UP20150724_2,   P04,    10,  1,      9,     518,2,20150901,0317,0403,  9.3775, 143.7018, 4713,   2907.2,     2871,   1.6827,  34.6639,2,    134.1,2,  34.6639,2,   134.04,2,   145.70,2,    37.22,2,     0.00,2,    2.590,2, -999.000,9, -999.000,9,   2337.2,6,   2413.1,6,   7.5511,2,    25.00,  -999.00,9,  -999.00,9,   1.4708,2,  27.7426,2,   1.6828,2
49UP20150724_2,   P04,    10,  1,      8,     081,2,20150901,0317,0358,  9.3775, 143.7018, 4713,   3118.4,     3078,   1.6196,  34.6692,2,    138.5,2,  34.6692,2,   138.51,2,   145.77,2,    36.94,2,     0.00,2,    2.570,2, -999.000,9, -999.000,9,   2339.3,2,   2413.5,2,   7.5576,6,    25.00,  -999.00,9,  -999.00,9,   1.3888,2,  27.7527,2,   1.6196,2
49UP20150724_2,   P04,    10,  1,      7,     516,2,20150901,0317,0351,  9.3775, 143.7018, 4713,   3374.8,     3329,   1.5776,  34.6737,2,    142.9,2,  34.6731,2,   142.32,6,   145.28,6,    36.66,6,     0.00,6,    2.550,6, -999.000,9, -999.000,9,   2337.4,2,   2414.9,2,   7.5660,2,    25.00,  -999.00,9,  -999.00,9,   1.3223,2,  27.7611,2,   1.5778,2
49UP20150724_2,   P04,    10,  1,      6,     113,2,20150901,0317,0346,  9.3775, 143.7018, 4713,   3631.2,     3580,   1.5337,  34.6782,2,    147.4,2,  34.6786,2,   147.47,2,   145.19,2,    36.37,2,     0.00,2,    2.520,2, -999.000,9, -999.000,9,   2327.2,2,   2413.8,2,   7.5691,2,    25.00,  -999.00,9,  -999.00,9,   1.2532,2,  27.7695,2,   1.5337,2
49UP20150724_2,   P04,    10,  1,      5,     658,2,20150901,0317,0339,  9.3775, 143.7018, 4713,   3886.9,     3830,   1.5258,  34.6807,2,    150.8,2,  34.6809,6,   150.61,2,   144.07,2,    36.15,2,     0.00,2,    2.510,2, -999.000,9, -999.000,9,   2323.4,2,   2413.1,2,   7.5731,2,    25.00,  -999.00,9,  -999.00,9,   1.2185,2,  27.7739,2,   1.5256,2
49UP20150724_2,   P04,    10,  1,      4,     471,2,20150901,0317,0333,  9.3775, 143.7018, 4713,   4144.4,     4081,   1.4873,  34.6856,2,    157.1,2,  34.6850,2,   157.06,2,   141.49,2,    35.66,2,     0.00,2,    2.470,2, -999.000,9, -999.000,9,   2316.7,2,   2410.0,2,   7.5831,2,    25.00,  -999.00,9,  -999.00,9,   1.1529,2,  27.7824,2,   1.4875,2
49UP20150724_2,   P04,    10,  1,      3,     104,2,20150901,0317,0327,  9.3775, 143.7018, 4713,   4398.6,     4329,   1.4767,  34.6885,2,    161.7,2,  34.6887,2,   161.96,6,   139.48,6,    35.39,6,     0.00,6,    2.450,6, -999.000,9, -999.000,9,   2318.2,2,   2406.9,2,   7.5885,2,    25.00,  -999.00,9,  -999.00,9,   1.1141,2,  27.7874,2,   1.4767,2
49UP20150724_2,   P04,    10,  1,      2,     075,2,20150901,0317,0321,  9.3775, 143.7018, 4713,   4656.3,     4580,   1.4602,  34.6920,2,    167.4,2,  34.6916,2,   167.75,2,   136.51,2,    34.93,2,     0.00,2,    2.410,2,    0.002,3,    0.006,3,   2319.3,3,   2403.6,2,   7.5970,2,    25.00,  -999.00,9,  -999.00,9,   1.0683,2,  27.7933,2,   1.4599,2
49UP20150724_2,   P04,    10,  1,      1,     997,2,20150901,0317,0317,  9.3775, 143.7018, 4713,   4781.5,     4702,   1.4539,  34.6936,2,    170.4,2,  34.6935,6,   170.44,2,   135.03,2,    34.72,2,     0.00,2,    2.400,2,    0.000,3,    0.005,3,   2303.9,2,   2403.9,2,   7.6002,2,    25.00,  -999.00,9,  -999.00,9,   1.0474,2,  27.7959,2,   1.4537,2