BOTTLE,20191113JMAGEMD
EXPOCODE,SECT_ID,STNNBR,CASTNO,SAMPNO,BTLNBR,BTLNBR_FLAG_U,DATE,TIME,BTL_TIME,LATITUDE,LONGITUDE,DEPTH,CTDPRS,CTDDEP,CTDTMP,CTDSAL,CTDSAL_FLAG_W,CTDOXY,CTDOXY_FLAG_W,SALNTY,SALNTY_FLAG_W,OXYGEN,OXYGEN_FLAG_W,SILCAT,SILCAT_FLAG_W,NO2+NO3,NO2+NO3_FLAG_W,NITRIT,NITRIT_FLAG_W,PHSPHT,PHSPHT_FLAG_W,CFC-11,CFC-11_FLAG_W,CFC-12,CFC-12_FLAG_W,TCARBN,TCARBN_FLAG_W,ALKALI,ALKALI_FLAG_W,PH_TS,PH_TS_FLAG_W,PH_TS_TMP,CHLORA,CHLORA_FLAG_W,PPHYTN,PPHYTN_FLAG_W,THETA,THETA_FLAG_W,SIGTHT,SIGTHT_FLAG_W,SBE35,SBE35_FLAG_W
,,,,,,,,UTC,,,,METER,DBAR,METERS,ITS-90,PSS-78,,UMOL/KG,,PSS78,,UMOL/KG,,UMOL/KG,,UMOL/KG,,UMOL/KG,,UMOL/KG,,PMOL/KG,,PMOL/KG,,UMOL/KG,,UMOL/KG,,,,ITS-90,UG/KG,,UG/KG,,ITS-90,,KG/M3,,ITS-90,
49UP20150724_2,   P04,     7,  1,      0,      -9,0,20150902,0149,0240,  9.1252, 141.2260, 2682,      0.0,        0,  29.1943,  33.7992,2,    196.5,2,  33.7963,2,   196.38,2,     1.13,2,     0.04,2,     0.00,2,    0.060,2, -999.000,9, -999.000,9,   1898.5,2,   2217.8,2,   8.1047,2,    25.00,     0.06,2,     0.02,2,  29.1937,2,  21.0982,2,-999.0000,9
49UP20150724_2,   P04,     7,  1,     36,     109,2,20150902,0149,0311,  9.1252, 141.2260, 2682,     10.6,       11,  29.1878,  33.8018,2,    196.3,2,  33.7989,2,   196.13,2,     1.13,2,     0.03,2,     0.00,2,    0.050,2,    1.153,3,    0.575,3,   1898.5,2,   2218.6,2,   8.1043,2,    25.00,     0.05,2,     0.02,2,  29.1852,2,  21.1029,2,  29.1869,2
49UP20150724_2,   P04,     7,  1,     35,     112,2,20150902,0149,0310,  9.1252, 141.2260, 2682,     25.7,       26,  29.1164,  33.8157,2,    196.2,2,  33.8273,2,   196.16,2,     1.13,2,     0.03,2,     0.00,2,    0.050,2, -999.000,9, -999.000,9,   1896.7,2,   2218.6,2,   8.1063,2,    25.00,     0.06,2,     0.02,2,  29.1102,2,  21.1384,2,  29.1158,2
49UP20150724_2,   P04,     7,  1,     34,     094,2,20150902,0149,0307,  9.1252, 141.2260, 2682,     51.2,       51,  26.6039,  34.7356,2,    203.8,2,  34.7484,6,   203.86,2,     1.60,2,     0.03,2,     0.00,2,    0.120,2,    1.385,3,    0.663,3,   1984.1,2,   2284.8,2,   8.0581,2,    25.00,     0.09,2,     0.04,2,  26.5923,2,  22.6480,2,  26.6061,2
49UP20150724_2,   P04,     7,  1,     29,     102,2,20150902,0149,0305,  9.1252, 141.2260, 2682,     75.6,       75,  19.7417,  34.8665,2,    175.7,2,  34.8539,2,   174.30,2,     4.64,2,     4.69,2,     0.13,2,    0.460,2, -999.000,9, -999.000,9,   2073.5,2,   2295.6,2,   7.9052,2,    25.00,     0.31,2,     0.41,2,  19.7279,2,  24.7312,2,  19.7312,2
49UP20150724_2,   P04,     7,  1,     28,     108,2,20150902,0149,0304,  9.1252, 141.2260, 2682,    101.3,      101,  17.8405,  34.7673,2,    172.7,2,  34.7673,2,   173.57,2,     5.47,2,     6.53,2,     0.04,2,    0.530,2,    1.883,3,    0.959,3,   2076.8,2,   2287.9,2,   7.8808,2,    25.00,     0.25,2,     0.37,2,  17.8233,2,  25.1372,2,  17.8417,2
49UP20150724_2,   P04,     7,  1,     27,     998,2,20150902,0149,0302,  9.1252, 141.2260, 2682,    126.1,      125,  16.9917,  34.6965,2,    173.7,2,  34.6609,4,   173.81,2,     6.78,2,     8.07,2,     0.03,2,    0.610,2, -999.000,9, -999.000,9,   2082.9,2,   2280.0,2,   7.8581,2,    25.00,     0.18,2,     0.20,2,  16.9710,2,  25.2882,2,  16.9805,2
49UP20150724_2,   P04,     7,  1,     26,     084,2,20150902,0149,0301,  9.1252, 141.2260, 2682,    150.7,      150,  13.7725,  34.4442,2,    157.7,2,  34.4450,2,   156.36,6,    13.11,6,    13.89,6,     0.01,6,    1.030,6,    2.111,3,    1.075,3,   2110.5,2,   2272.3,2,   7.7655,2,    25.00,     0.05,2,     0.06,2,  13.7511,2,  25.8094,2,  13.7703,2
49UP20150724_2,   P04,     7,  1,     24,     110,2,20150902,0149,0259,  9.1252, 141.2260, 2682,    176.2,      175,  12.1363,  34.4220,2,    111.5,2,  34.4239,2,   111.30,2,    21.58,2,    21.22,2,     0.00,2,    1.580,2, -999.000,9, -999.000,9,   2166.1,2,   2277.4,2,   7.6474,2,    25.00,     0.02,2,     0.05,2,  12.1133,2,  26.1186,2,  12.1304,2
49UP20150724_2,   P04,     7,  1,     25,     098,2,20150902,0149,0300,  9.1252, 141.2260, 2682,    176.4,      175,  12.1405,  34.4226,2,    112.0,2,  34.4240,2,   111.27,2,    21.52,2,    21.20,2,     0.00,2,    1.580,2, -999.000,9, -999.000,9,   2166.8,2,   2276.6,2,   7.6495,2,    25.00,  -999.00,9,  -999.00,9,  12.1175,2,  26.1182,2,  12.1439,2
49UP20150724_2,   P04,     7,  1,     23,     096,2,20150902,0149,0258,  9.1252, 141.2260, 2682,    202.0,      201,  10.8169,  34.4501,2,     90.9,2,  34.4509,2,    90.93,2,    29.26,2,    26.07,2,     0.00,2,    1.900,2,    1.357,3,    0.680,3,   2199.2,2,   2285.5,2,   7.5891,2,    25.00,     0.00,2,     0.03,2,  10.7924,2,  26.3845,2,  10.8162,2
49UP20150724_2,   P04,     7,  1,     22,     111,2,20150902,0149,0256,  9.1252, 141.2260, 2682,    251.5,      250,   9.4332,  34.4722,2,     77.7,2,  34.4726,6,    77.55,2,    36.87,2,    30.11,2,     0.00,2,    2.160,2, -999.000,9, -999.000,9,   2225.3,2,   2295.5,2,   7.5394,2,    25.00,  -999.00,9,  -999.00,9,   9.4052,2,  26.6392,2,   9.4354,2
49UP20150724_2,   P04,     7,  1,     21,     078,2,20150902,0149,0253,  9.1252, 141.2260, 2682,    331.1,      329,   8.3069,  34.5220,2,     76.7,2,  34.5218,2,    76.56,2,    42.56,2,    32.73,2,     0.00,2,    2.320,2,    0.549,3,    0.277,3,   2238.4,2,   2305.7,2,   7.5214,2,    25.00,  -999.00,9,  -999.00,9,   8.2725,2,  26.8573,2,   8.3075,2
49UP20150724_2,   P04,     7,  1,     20,     093,2,20150902,0149,0251,  9.1252, 141.2260, 2682,    435.9,      433,   7.2325,  34.5034,2,     92.3,2,  34.5037,2,    92.68,2,    49.23,2,    33.22,2,     0.00,2,    2.360,2,    0.468,3,    0.234,3,   2243.8,2,   2312.6,2,   7.5308,2,    25.00,  -999.00,9,  -999.00,9,   7.1905,2,  27.0010,2,   7.2327,2
49UP20150724_2,   P04,     7,  1,     19,     092,2,20150902,0149,0248,  9.1252, 141.2260, 2682,    533.8,      530,   6.6460,  34.5029,2,     92.0,2,  34.5031,2,    92.02,2,    56.32,2,    34.48,2,     0.00,2,    2.460,2,    0.334,3,    0.174,3,   2254.2,2,   2320.8,2,   7.5189,2,    25.00,  -999.00,9,  -999.00,9,   6.5966,2,  27.0821,2,   6.6459,2
49UP20150724_2,   P04,     7,  1,     18,     101,2,20150902,0149,0245,  9.1252, 141.2260, 2682,    636.6,      632,   6.0404,  34.5171,2,     86.5,2,  34.5167,6,    86.65,2,    64.40,2,    36.10,2,     0.00,2,    2.580,2,    0.182,3,    0.102,3,   2267.4,2,   2330.0,2,   7.5042,2,    25.00,  -999.00,9,  -999.00,9,   5.9840,2,  27.1731,2,   6.0408,2
49UP20150724_2,   P04,     7,  1,     17,     090,2,20150902,0149,0242,  9.1252, 141.2260, 2682,    736.0,      731,   5.6417,  34.5232,2,     88.0,2,  34.5234,2,    87.86,2,    70.80,2,    36.56,2,     0.00,2,    2.610,2,    0.140,3,    0.092,3,   2276.0,2,   2337.7,2,   7.5025,6,    25.00,  -999.00,9,  -999.00,9,   5.5782,2,  27.2285,2,   5.6428,2
49UP20150724_2,   P04,     7,  1,     16,     089,2,20150902,0149,0239,  9.1252, 141.2260, 2682,    836.8,      830,   5.0258,  34.5375,2,     87.8,2,  34.5379,6,    87.72,2,    81.38,2,    37.49,2,     0.00,2,    2.680,2,    0.078,3,    0.053,3,   2291.3,2,   2349.2,2,   7.4958,2,    25.00,  -999.00,9,  -999.00,9,   4.9569,2,  27.3135,2,   5.0260,2
49UP20150724_2,   P04,     7,  1,     15,     088,2,20150902,0149,0236,  9.1252, 141.2260, 2682,    937.9,      931,   4.6039,  34.5471,2,     87.5,2,  34.5475,2,    87.84,2,    89.61,2,    38.03,2,     0.00,2,    2.720,2,    0.045,3,    0.034,3,   2300.8,6,   2358.3,6,   7.4933,2,    25.00,  -999.00,9,  -999.00,9,   4.5289,2,  27.3693,2,   4.6039,2
49UP20150724_2,   P04,     7,  1,     14,     999,3,20150902,0149,0232,  9.1252, 141.2260, 2682,   1079.0,     1070,   4.0529,  34.5602,2,     89.2,2,  34.5607,2,    89.52,2,   100.89,2,    38.49,2,     0.00,2,    2.750,2,    0.026,3,    0.031,3,   2313.5,2,   2369.4,2,   7.4903,6,    25.00,  -999.00,9,  -999.00,9,   3.9701,2,  27.4395,2,   4.0515,2
49UP20150724_2,   P04,     7,  1,     13,     667,2,20150902,0149,0228,  9.1252, 141.2260, 2682,   1282.1,     1271,   3.2395,  34.5854,2,     95.9,2,  34.5852,6,    95.98,6,   116.84,6,    38.70,6,     0.00,6,    2.760,6, -999.000,9, -999.000,9,   2328.4,2,   2386.1,2,   7.4975,2,    25.00,  -999.00,9,  -999.00,9,   3.1471,2,  27.5405,2,   3.2398,2
49UP20150724_2,   P04,     7,  1,     12,     074,2,20150902,0149,0221,  9.1252, 141.2260, 2682,   1483.5,     1470,   2.9235,  34.5989,2,    100.4,2,  34.5987,2,   100.68,2,   123.33,2,    38.72,2,     0.00,2,    2.750,2, -999.000,9, -999.000,9,   2331.0,6,   2392.5,6,   7.5015,2,    25.00,  -999.00,9,  -999.00,9,   2.8179,2,  27.5814,2,   2.9240,2
49UP20150724_2,   P04,     7,  1,     10,     267,2,20150902,0149,0216,  9.1252, 141.2260, 2682,   1686.4,     1670,   2.5452,  34.6162,2,    107.1,2,  34.6167,2,   107.43,2,   130.48,2,    38.51,2,     0.00,2,    2.730,2, -999.000,9, -999.000,9,   2334.9,2,   2399.9,2,   7.5123,2,    25.00,  -999.00,9,  -999.00,9,   2.4273,2,  27.6292,2,   2.5448,2
49UP20150724_2,   P04,     7,  1,     11,     268,2,20150902,0149,0217,  9.1252, 141.2260, 2682,   1688.1,     1672,   2.5444,  34.6164,2,    107.1,2,  34.6163,2,   106.91,2,   130.44,2,    38.52,2,     0.00,2,    2.730,2, -999.000,9, -999.000,9,   2334.9,2,   2400.3,2,   7.5105,2,    25.00,  -999.00,9,  -999.00,9,   2.4264,2,  27.6294,2,   2.5445,2
49UP20150724_2,   P04,     7,  1,      9,     518,2,20150902,0149,0212,  9.1252, 141.2260, 2682,   1888.6,     1870,   2.2586,  34.6313,2,    114.3,2,  34.6318,2,   114.20,6,   135.29,6,    38.22,6,     0.00,6,    2.700,6, -999.000,9, -999.000,9,   2337.1,2,   2406.3,2,   7.5188,2,    25.00,  -999.00,9,  -999.00,9,   2.1276,2,  27.6661,2,   2.2585,2
49UP20150724_2,   P04,     7,  1,      8,     081,2,20150902,0149,0206,  9.1252, 141.2260, 2682,   2092.3,     2070,   2.1044,  34.6402,2,    119.6,2,  34.6409,2,   119.44,2,   137.52,2,    37.99,2,     0.00,2,    2.680,2,    0.000,3,    0.007,3,   2336.2,2,   2409.5,2,   7.5298,2,    25.00,  -999.00,9,  -999.00,9,   1.9585,2,  27.6867,2,   2.1044,2
49UP20150724_2,   P04,     7,  1,      7,     516,2,20150902,0149,0201,  9.1252, 141.2260, 2682,   2296.6,     2271,   1.9629,  34.6479,2,    125.2,2,  34.6487,2,   124.94,2,   139.51,2,    37.66,2,     0.00,2,    2.650,2, -999.000,9, -999.000,9,   2333.3,3,   2411.9,2,   7.5385,2,    25.00,  -999.00,9,  -999.00,9,   1.8015,2,  27.7051,2,   1.9629,2
49UP20150724_2,   P04,     7,  1,      6,     113,2,20150902,0149,0156,  9.1252, 141.2260, 2682,   2499.2,     2470,   1.8906,  34.6525,2,    128.5,2,  34.6532,2,   128.40,2,   140.41,2,    37.46,2,     0.00,2,    2.620,2, -999.000,9, -999.000,9,   2336.8,2,   2412.7,2,   7.5430,2,    25.00,  -999.00,9,  -999.00,9,   1.7125,2,  27.7155,2,   1.8902,2
49UP20150724_2,   P04,     7,  1,      5,     658,2,20150902,0149,0149,  9.1252, 141.2260, 2682,   2747.5,     2714,   1.8488,  34.6560,2,    131.3,2,  34.6566,2,   131.12,2,   140.63,2,    37.23,2,     0.00,2,    2.610,2, -999.000,9, -999.000,9,   2334.1,2,   2413.0,2,   7.5480,2,    25.00,  -999.00,9,  -999.00,9,   1.6485,2,  27.7231,2,   1.8488,2
49UP20150724_2,   P04,     7,  1,      4,     471,2,20150902,0149,0149,  9.1252, 141.2260, 2682,   2748.1,     2715,   1.8488,  34.6559,2,    131.2,2,  34.6562,2,   131.10,2,   140.72,2,    37.24,2,     0.00,2,    2.610,2,    0.000,3,    0.014,3,   2332.8,2,   2412.9,2,   7.5465,2,    25.00,  -999.00,9,  -999.00,9,   1.6485,2,  27.7231,2,   1.8486,2