BOTTLE,20191113JMAGEMD
EXPOCODE,SECT_ID,STNNBR,CASTNO,SAMPNO,BTLNBR,BTLNBR_FLAG_U,DATE,TIME,BTL_TIME,LATITUDE,LONGITUDE,DEPTH,CTDPRS,CTDDEP,CTDTMP,CTDSAL,CTDSAL_FLAG_W,CTDOXY,CTDOXY_FLAG_W,SALNTY,SALNTY_FLAG_W,OXYGEN,OXYGEN_FLAG_W,SILCAT,SILCAT_FLAG_W,NO2+NO3,NO2+NO3_FLAG_W,NITRIT,NITRIT_FLAG_W,PHSPHT,PHSPHT_FLAG_W,CFC-11,CFC-11_FLAG_W,CFC-12,CFC-12_FLAG_W,TCARBN,TCARBN_FLAG_W,ALKALI,ALKALI_FLAG_W,PH_TS,PH_TS_FLAG_W,PH_TS_TMP,CHLORA,CHLORA_FLAG_W,PPHYTN,PPHYTN_FLAG_W,THETA,THETA_FLAG_W,SIGTHT,SIGTHT_FLAG_W,SBE35,SBE35_FLAG_W
,,,,,,,,UTC,,,,METER,DBAR,METERS,ITS-90,PSS-78,,UMOL/KG,,PSS78,,UMOL/KG,,UMOL/KG,,UMOL/KG,,UMOL/KG,,UMOL/KG,,PMOL/KG,,PMOL/KG,,UMOL/KG,,UMOL/KG,,,,ITS-90,UG/KG,,UG/KG,,ITS-90,,KG/M3,,ITS-90,
49UP20150724_2,   P04,    29,  1,      0,      -9,0,20150825,1534,1730,  9.5047, 157.5072, 5179,      0.0,        0,  29.0737,  33.9440,2,    196.6,2,  33.9439,2,   196.09,2,     0.97,2,     0.00,2,     0.00,2,    0.090,2, -999.000,9, -999.000,9,   1902.5,2,   2228.4,2,   8.1144,2,    25.00,     0.04,2,     0.02,2,  29.0731,2,  21.2471,2,-999.0000,9
49UP20150724_2,   P04,    29,  1,     36,     109,2,20150825,1534,1809,  9.5047, 157.5072, 5179,     11.2,       11,  29.0767,  33.9437,2,    196.6,2,  33.9434,2,   195.81,2,     1.06,2,     0.03,2,     0.00,2,    0.080,2,    1.312,3,    0.774,3,   1902.1,2,   2228.6,2,   8.1154,2,    25.00,     0.04,2,     0.02,2,  29.0740,2,  21.2466,2,  29.0763,2
49UP20150724_2,   P04,    29,  1,     35,     112,2,20150825,1534,1808,  9.5047, 157.5072, 5179,     25.9,       26,  29.0697,  33.9475,2,    196.6,2,  33.9479,2,   195.92,2,     1.04,2,     0.00,2,     0.00,2,    0.080,2, -999.000,9, -999.000,9,   1902.0,2,   2228.9,2,   8.1131,2,    25.00,     0.04,2,     0.02,2,  29.0634,2,  21.2529,2,  29.0686,2
49UP20150724_2,   P04,    29,  1,     34,     094,2,20150825,1534,1804,  9.5047, 157.5072, 5179,     49.9,       50,  28.9147,  33.9726,2,    196.7,2,  34.0125,4,   197.49,2,     1.08,2,     0.00,2,     0.00,2,    0.080,2,    1.365,3,    0.786,3,   1907.6,2,   2234.7,2,   8.1144,2,    25.00,     0.06,2,     0.02,2,  28.9027,2,  21.3253,2,  28.9101,2
49UP20150724_2,   P04,    29,  1,     33,     469,2,20150825,1534,1801,  9.5047, 157.5072, 5179,    101.5,      101,  21.9968,  35.0996,2,    190.1,2,  35.0336,4,   186.15,2,     3.03,2,     1.50,2,     0.06,2,    0.310,2,    1.897,3,    1.107,3,   2064.2,2,   2307.3,2,   7.9550,2,    25.00,     0.24,2,     0.40,2,  21.9767,2,  24.3000,2,  21.9694,2
49UP20150724_2,   P04,    29,  1,     32,     105,2,20150825,1534,1759,  9.5047, 157.5072, 5179,    125.7,      125,  15.8915,  34.5942,2,    153.8,2,  34.5798,2,   153.45,2,     9.44,2,    11.11,2,     0.02,2,    0.890,2, -999.000,9, -999.000,9,   2112.1,2,   2279.0,2,   7.8036,2,    25.00,     0.11,2,     0.24,2,  15.8718,2,  25.4646,2,  15.8755,2
49UP20150724_2,   P04,    29,  1,     31,     515,2,20150825,1534,1757,  9.5047, 157.5072, 5179,    151.6,      151,  13.0511,  34.4435,2,    118.2,2,  34.4448,2,   118.64,2,    18.01,2,    18.86,2,     0.01,2,    1.430,2,    2.014,3,    1.122,3,   2153.2,2,   2275.8,2,   7.6829,2,    25.00,     0.04,2,     0.12,2,  13.0303,2,  25.9557,2,  13.0590,2
49UP20150724_2,   P04,    29,  1,     30,     097,2,20150825,1534,1755,  9.5047, 157.5072, 5179,    175.8,      175,  11.0596,  34.3588,2,    101.8,2,  34.3730,2,    98.57,2,    26.13,2,    24.26,2,     0.00,2,    1.820,2, -999.000,9, -999.000,9,   2193.5,2,   2278.2,2,   7.5963,2,    25.00,     0.01,2,     0.03,2,  11.0380,2,  26.2693,2,  11.0642,2
49UP20150724_2,   P04,    29,  1,     29,     102,2,20150825,1534,1753,  9.5047, 157.5072, 5179,    203.1,      202,  10.4692,  34.4655,2,     69.4,2,  34.4699,6,    67.86,6,    30.77,6,    28.80,6,     0.00,6,    2.120,6,    1.250,3,    0.664,3,   2223.1,2,   2287.3,2,   7.5347,2,    25.00,     0.00,2,     0.02,2,  10.4451,2,  26.4578,2,  10.4649,2
49UP20150724_2,   P04,    29,  1,     28,     108,2,20150825,1534,1751,  9.5047, 157.5072, 5179,    251.7,      250,   9.8166,  34.5623,2,     52.0,2,  34.5630,2,    52.33,2,    34.33,2,    32.19,2,     0.00,2,    2.310,2, -999.000,9, -999.000,9,   2242.0,2,   2294.0,2,   7.5012,2,    25.00,  -999.00,9,  -999.00,9,   9.7878,2,  26.6461,2,   9.8164,2
49UP20150724_2,   P04,    29,  1,     27,     998,2,20150825,1534,1748,  9.5047, 157.5072, 5179,    303.4,      301,   9.1964,  34.5804,2,     59.3,2,  34.5794,2,    59.26,2,    36.92,2,    32.93,2,     0.00,2,    2.340,2,    0.559,3,    0.325,3,   2242.2,2,   2300.6,2,   7.5056,2,    25.00,  -999.00,9,  -999.00,9,   9.1630,2,  26.7633,2,   9.1932,2
49UP20150724_2,   P04,    29,  1,     26,     084,2,20150825,1534,1745,  9.5047, 157.5072, 5179,    404.8,      402,   8.1480,  34.5602,2,     71.5,2,  34.5594,2,    71.37,2,    42.52,2,    33.82,2,     0.00,2,    2.390,2,    0.406,3,    0.238,3,   2243.3,2,   2306.8,2,   7.5091,2,    25.00,  -999.00,9,  -999.00,9,   8.1063,2,  26.9125,2,   8.1480,2
49UP20150724_2,   P04,    29,  1,     25,     098,2,20150825,1534,1742,  9.5047, 157.5072, 5179,    504.3,      501,   7.3792,  34.5408,2,     72.1,2,  34.5404,2,    72.27,2,    49.50,2,    35.13,2,     0.00,2,    2.500,2,    0.249,3,    0.153,3,   2256.1,2,   2311.6,2,   7.4982,2,    25.00,  -999.00,9,  -999.00,9,   7.3298,2,  27.0108,2,   7.3792,2
49UP20150724_2,   P04,    29,  1,     24,     110,2,20150825,1534,1739,  9.5047, 157.5072, 5179,    607.2,      603,   6.6259,  34.5290,2,     66.2,2,  34.5286,2,    66.45,2,    58.79,2,    37.07,2,     0.00,2,    2.650,2,    0.130,3,    0.070,3,   2273.0,2,   2323.1,2,   7.4772,2,    25.00,  -999.00,9,  -999.00,9,   6.5695,2,  27.1062,2,   6.6257,2
49UP20150724_2,   P04,    29,  1,     23,     096,2,20150825,1534,1736,  9.5047, 157.5072, 5179,    706.2,      701,   6.0706,  34.5279,2,     65.6,2,  34.5281,2,    65.86,2,    66.29,2,    38.13,2,     0.00,2,    2.720,2,    0.078,3,    0.049,3,   2280.9,2,   2331.2,2,   7.4697,2,    25.00,  -999.00,9,  -999.00,9,   6.0075,2,  27.1787,2,   6.0708,2
49UP20150724_2,   P04,    29,  1,     22,     111,2,20150825,1534,1731,  9.5047, 157.5072, 5179,    807.5,      801,   5.5811,  34.5329,2,     67.5,2,  34.5327,2,    67.67,2,    73.82,2,    38.83,2,     0.00,2,    2.770,2,    0.044,3,    0.020,3,   2294.7,6,   2338.2,6,   7.4650,2,    25.00,  -999.00,9,  -999.00,9,   5.5114,2,  27.2443,2,   5.5817,2
49UP20150724_2,   P04,    29,  1,     21,     078,2,20150825,1534,1727,  9.5047, 157.5072, 5179,    907.6,      901,   5.1287,  34.5390,2,     74.2,2,  34.5382,2,    74.16,2,    81.20,2,    38.80,2,     0.00,2,    2.770,2,    0.042,3,    0.025,3,   2296.7,2,   2346.1,2,   7.4729,6,    25.00,  -999.00,9,  -999.00,9,   5.0528,2,  27.3037,2,   5.1284,2
49UP20150724_2,   P04,    29,  1,     20,     093,2,20150825,1534,1724,  9.5047, 157.5072, 5179,   1010.1,     1002,   4.6414,  34.5483,2,     78.1,2,  34.5474,2,    78.06,2,    90.21,2,    39.03,2,     0.00,2,    2.780,2,    0.029,3,    0.021,3,   2306.2,2,   2356.9,2,   7.4765,2,    25.00,  -999.00,9,  -999.00,9,   4.5599,2,  27.3669,2,   4.6379,2
49UP20150724_2,   P04,    29,  1,     19,     092,2,20150825,1534,1719,  9.5047, 157.5072, 5179,   1211.1,     1201,   3.6504,  34.5731,2,     82.5,2,  34.5720,2,    82.54,6,   110.60,6,    39.71,6,     0.00,6,    2.830,6, -999.000,9, -999.000,9,   2324.3,2,   2377.1,2,   7.4768,2,    25.00,  -999.00,9,  -999.00,9,   3.5600,2,  27.4910,2,   3.6516,2
49UP20150724_2,   P04,    29,  1,     18,     101,2,20150825,1534,1713,  9.5047, 157.5072, 5179,   1414.1,     1401,   3.0650,  34.5950,2,     94.9,2,  34.5940,2,    95.11,2,   121.39,2,    39.13,2,     0.00,2,    2.770,2, -999.000,9, -999.000,9,   2330.4,2,   2388.5,2,   7.4964,2,    25.00,  -999.00,9,  -999.00,9,   2.9635,2,  27.5651,2,   3.0651,2
49UP20150724_2,   P04,    29,  1,     17,     090,2,20150825,1534,1706,  9.5047, 157.5072, 5179,   1616.6,     1601,   2.6495,  34.6123,2,     98.9,2,  34.6123,6,    98.99,2,   130.77,2,    39.25,2,     0.00,2,    2.770,2, -999.000,9, -999.000,9,   2338.6,2,   2397.6,2,   7.5001,2,    25.00,  -999.00,9,  -999.00,9,   2.5361,2,  27.6168,2,   2.6495,2
49UP20150724_2,   P04,    29,  1,     16,     089,2,20150825,1534,1701,  9.5047, 157.5072, 5179,   1818.1,     1800,   2.3937,  34.6239,2,    101.7,2,  34.6239,2,   102.26,2,   136.91,2,    39.20,2,     0.00,2,    2.760,2, -999.000,9, -999.000,9,   2344.9,2,   2404.8,2,   7.5032,2,    25.00,  -999.00,9,  -999.00,9,   2.2668,2,  27.6488,2,   2.3939,2
49UP20150724_2,   P04,    29,  1,     15,     088,2,20150825,1534,1655,  9.5047, 157.5072, 5179,   2022.4,     2001,   2.1841,  34.6354,2,    106.9,2,  34.6357,2,   107.16,2,   141.38,2,    38.90,2,     0.00,2,    2.730,2, -999.000,9, -999.000,9,   2349.1,6,   2410.3,6,   7.5126,2,    25.00,  -999.00,9,  -999.00,9,   2.0430,2,  27.6761,2,   2.1840,2
49UP20150724_2,   P04,    29,  1,     14,     999,2,20150825,1534,1649,  9.5047, 157.5072, 5179,   2225.0,     2201,   2.0448,  34.6451,2,    111.9,2,  34.6449,2,   112.21,2,   144.06,2,    38.75,2,     0.00,2,    2.710,2, -999.000,9, -999.000,9,   2345.7,2,   2414.7,2,   7.5164,6,    25.00,  -999.00,9,  -999.00,9,   1.8884,2,  27.6961,2,   2.0449,2
49UP20150724_2,   P04,    29,  1,     13,     667,2,20150825,1534,1644,  9.5047, 157.5072, 5179,   2428.9,     2401,   1.9208,  34.6528,2,    117.2,2,  34.6529,2,   117.16,2,   146.00,2,    38.32,2,     0.00,2,    2.680,2, -999.000,9, -999.000,9,   2344.8,2,   2415.8,2,   7.5299,2,    25.00,  -999.00,9,  -999.00,9,   1.7484,2,  27.7130,2,   1.9208,2
49UP20150724_2,   P04,    29,  1,     12,     074,2,20150825,1534,1639,  9.5047, 157.5072, 5179,   2632.4,     2601,   1.8258,  34.6589,2,    122.3,2,  34.6589,2,   122.35,2,   147.20,2,    38.10,2,     0.00,2,    2.660,2,    0.000,3,    0.003,3,   2338.0,3,   2416.8,2,   7.5366,2,    25.00,  -999.00,9,  -999.00,9,   1.6367,2,  27.7264,2,   1.8255,2
49UP20150724_2,   P04,    29,  1,     11,     268,2,20150825,1534,1633,  9.5047, 157.5072, 5179,   2836.2,     2801,   1.7242,  34.6655,2,    128.7,2,  34.6662,2,   128.71,2,   147.73,2,    37.64,2,     0.00,2,    2.620,2, -999.000,9, -999.000,9,   2337.0,3,   2418.8,2,   7.5464,2,    25.00,  -999.00,9,  -999.00,9,   1.5182,2,  27.7404,2,   1.7241,2
49UP20150724_2,   P04,    29,  1,     10,     267,2,20150825,1534,1628,  9.5047, 157.5072, 5179,   3038.9,     3000,   1.6299,  34.6717,2,    135.8,2,  34.6717,2,   135.92,2,   147.28,2,    37.21,2,     0.00,2,    2.580,2, -999.000,9, -999.000,9,   2341.7,2,   2417.3,2,   7.5544,2,    25.00,  -999.00,9,  -999.00,9,   1.4065,2,  27.7535,2,   1.6299,2
49UP20150724_2,   P04,    29,  1,      9,     518,2,20150825,1534,1621,  9.5047, 157.5072, 5179,   3294.5,     3251,   1.5656,  34.6767,2,    142.4,2,  34.6770,2,   142.39,2,   145.90,2,    36.76,2,     0.00,2,    2.540,2, -999.000,9, -999.000,9,   2343.7,3,   2415.8,2,   7.5632,2,    25.00,  -999.00,9,  -999.00,9,   1.3186,2,  27.7638,2,   1.5656,2
49UP20150724_2,   P04,    29,  1,      8,     081,2,20150825,1534,1615,  9.5047, 157.5072, 5179,   3550.5,     3501,   1.5138,  34.6814,2,    149.3,2,  34.6813,2,   149.23,6,   143.88,6,    36.27,6,     0.00,6,    2.510,6, -999.000,9, -999.000,9,   2329.4,2,   2416.0,2,   7.5712,2,    25.00,  -999.00,9,  -999.00,9,   1.2421,2,  27.7729,2,   1.5138,2
49UP20150724_2,   P04,    29,  1,      7,     516,2,20150825,1534,1610,  9.5047, 157.5072, 5179,   3806.7,     3752,   1.4873,  34.6848,2,    154.7,2,  34.6849,6,   154.53,2,   141.71,2,    35.91,2,     0.00,2,    2.480,2, -999.000,9, -999.000,9,   2325.8,6,   2411.6,6,   7.5803,2,    25.00,  -999.00,9,  -999.00,9,   1.1896,2,  27.7793,2,   1.4873,2
49UP20150724_2,   P04,    29,  1,      6,     113,2,20150825,1534,1602,  9.5047, 157.5072, 5179,   4061.5,     4000,   1.4661,  34.6882,2,    160.0,2,  34.6883,2,   160.09,2,   139.38,2,    35.51,2,     0.00,2,    2.450,2, -999.000,9, -999.000,9,   2315.3,2,   2408.8,2,   7.5884,6,    25.00,  -999.00,9,  -999.00,9,   1.1415,2,  27.7853,2,   1.4663,2
49UP20150724_2,   P04,    29,  1,      5,     658,2,20150825,1534,1556,  9.5047, 157.5072, 5179,   4318.5,     4251,   1.4554,  34.6911,2,    164.6,2,  34.6907,2,   164.81,2,   137.14,2,    35.17,2,     0.00,2,    2.430,2, -999.000,9, -999.000,9,   2311.5,2,   2405.9,2,   7.5967,2,    25.00,  -999.00,9,  -999.00,9,   1.1025,2,  27.7902,2,   1.4557,2
49UP20150724_2,   P04,    29,  1,      4,     471,2,20150825,1534,1551,  9.5047, 157.5072, 5179,   4575.0,     4501,   1.4497,  34.6935,2,    168.8,2,  34.6940,2,   169.23,2,   135.22,2,    34.91,2,     0.00,2,    2.400,2,    0.003,3,    0.007,3,   2306.3,2,   2405.1,2,   7.5987,2,    25.00,  -999.00,9,  -999.00,9,   1.0676,2,  27.7945,2,   1.4500,2
49UP20150724_2,   P04,    29,  1,      3,     104,2,20150825,1534,1545,  9.5047, 157.5072, 5179,   4831.6,     4751,   1.4560,  34.6947,2,    171.7,2,  34.6955,2,   171.35,2,   133.61,2,    34.69,2,     0.00,2,    2.390,2, -999.000,9, -999.000,9,   2310.0,2,   2401.1,2,   7.5983,2,    25.00,  -999.00,9,  -999.00,9,   1.0435,2,  27.7971,2,   1.4560,2
49UP20150724_2,   P04,    29,  1,      2,     075,2,20150825,1534,1539,  9.5047, 157.5072, 5179,   5088.0,     5000,   1.4656,  34.6965,2,    174.2,2,  34.6968,6,   174.38,2,   132.28,2,    34.49,2,     0.00,2,    2.370,2, -999.000,9, -999.000,9,   2301.6,2,   2398.7,2,   7.6043,2,    25.00,  -999.00,9,  -999.00,9,   1.0218,2,  27.8000,2,   1.4657,2
49UP20150724_2,   P04,    29,  1,      1,     997,2,20150825,1534,1535,  9.5047, 157.5072, 5179,   5280.8,     5187,   1.4802,  34.6973,2,    175.7,2,  34.6977,2,   175.63,6,   131.78,6,    34.40,6,     0.00,6,    2.370,6,    0.005,3,    0.011,3,   2298.5,2,   2397.1,2,   7.6064,2,    25.00,  -999.00,9,  -999.00,9,   1.0120,2,  27.8013,2,   1.4801,2