BOTTLE,20191113JMAGEMD
EXPOCODE,SECT_ID,STNNBR,CASTNO,SAMPNO,BTLNBR,BTLNBR_FLAG_U,DATE,TIME,BTL_TIME,LATITUDE,LONGITUDE,DEPTH,CTDPRS,CTDDEP,CTDTMP,CTDSAL,CTDSAL_FLAG_W,CTDOXY,CTDOXY_FLAG_W,SALNTY,SALNTY_FLAG_W,OXYGEN,OXYGEN_FLAG_W,SILCAT,SILCAT_FLAG_W,NO2+NO3,NO2+NO3_FLAG_W,NITRIT,NITRIT_FLAG_W,PHSPHT,PHSPHT_FLAG_W,CFC-11,CFC-11_FLAG_W,CFC-12,CFC-12_FLAG_W,TCARBN,TCARBN_FLAG_W,ALKALI,ALKALI_FLAG_W,PH_TS,PH_TS_FLAG_W,PH_TS_TMP,CHLORA,CHLORA_FLAG_W,PPHYTN,PPHYTN_FLAG_W,THETA,THETA_FLAG_W,SIGTHT,SIGTHT_FLAG_W,SBE35,SBE35_FLAG_W
,,,,,,,,UTC,,,,METER,DBAR,METERS,ITS-90,PSS-78,,UMOL/KG,,PSS78,,UMOL/KG,,UMOL/KG,,UMOL/KG,,UMOL/KG,,UMOL/KG,,PMOL/KG,,PMOL/KG,,UMOL/KG,,UMOL/KG,,,,ITS-90,UG/KG,,UG/KG,,ITS-90,,KG/M3,,ITS-90,
49UP20150724_1,   P04,    61,  1,      0,      -9,0,20150803,2220,0040,  7.1755, 175.8237, 5890,      0.0,        0,  29.7447,  33.8198,2,    196.3,2,-999.0000,9,   194.54,2,     1.00,2,     0.03,2,     0.00,2,    0.110,2, -999.000,9, -999.000,9,   -999.0,9,   -999.0,9,-999.0000,9,  -999.00,  -999.00,9,  -999.00,9,  29.7441,2,  20.9285,2,-999.0000,9
49UP20150724_1,   P04,    61,  1,     36,     109,2,20150803,2220,0103,  7.1755, 175.8237, 5890,     10.9,       11,  29.7103,  33.8278,2,    195.6,2,  33.8285,2,   194.86,2,     1.00,2,     0.01,2,     0.00,2,    0.100,2,    1.486,2,    0.899,2,   -999.0,9,   -999.0,9,-999.0000,9,  -999.00,  -999.00,9,  -999.00,9,  29.7076,2,  20.9468,2,  29.7091,2
49UP20150724_1,   P04,    61,  1,     35,     112,2,20150803,2220,0059,  7.1755, 175.8237, 5890,     51.4,       51,  22.0525,  34.8862,2,    167.5,2,  34.8828,6,   168.40,2,     4.22,2,     3.35,2,     0.09,2,    0.440,2, -999.000,9, -999.000,9,   -999.0,9,   -999.0,9,-999.0000,9,  -999.00,  -999.00,9,  -999.00,9,  22.0423,2,  24.1195,2,  22.1052,2
49UP20150724_1,   P04,    61,  1,     34,     083,2,20150803,2220,0058,  7.1755, 175.8237, 5890,     76.3,       76,  19.3217,  34.8134,2,    136.9,2,  34.8106,2,   136.95,6,     7.97,6,    10.10,6,     0.30,6,    0.820,6, -999.000,9, -999.000,9,   -999.0,9,   -999.0,9,-999.0000,9,  -999.00,  -999.00,9,  -999.00,9,  19.3080,2,  24.7997,2,  19.3366,2
49UP20150724_1,   P04,    61,  1,     33,     469,2,20150803,2220,0056,  7.1755, 175.8237, 5890,    101.2,      101,  16.4641,  34.6584,2,    125.4,2,  34.6527,2,   125.84,2,    11.48,2,    14.04,2,     0.08,2,    1.090,2, -999.000,9, -999.000,9,   -999.0,9,   -999.0,9,-999.0000,9,  -999.00,  -999.00,9,  -999.00,9,  16.4478,2,  25.3817,2,  16.4566,2
49UP20150724_1,   P04,    61,  1,     32,     105,2,20150803,2220,0055,  7.1755, 175.8237, 5890,    127.8,      127,  12.8782,  34.4329,2,     99.9,2,  34.4358,2,    97.51,2,    18.42,2,    20.75,2,     0.03,2,    1.610,2, -999.000,9, -999.000,9,   -999.0,9,   -999.0,9,-999.0000,9,  -999.00,  -999.00,9,  -999.00,9,  12.8609,2,  25.9812,2,  12.8593,2
49UP20150724_1,   P04,    61,  1,     31,     515,2,20150803,2220,0054,  7.1755, 175.8237, 5890,    150.8,      150,  11.3596,  34.5249,2,     44.9,2,  34.5280,2,    44.39,2,    27.38,2,    29.41,2,     0.01,2,    2.210,2, -999.000,9, -999.000,9,   -999.0,9,   -999.0,9,-999.0000,9,  -999.00,  -999.00,9,  -999.00,9,  11.3408,2,  26.3435,2,  11.3640,2
49UP20150724_1,   P04,    61,  1,     30,     097,2,20150803,2220,0052,  7.1755, 175.8237, 5890,    201.9,      201,  10.4198,  34.6656,2,     16.6,2,  34.6633,2,    17.04,2,    32.21,2,    34.53,2,     0.00,2,    2.480,2, -999.000,9, -999.000,9,   -999.0,9,   -999.0,9,-999.0000,9,  -999.00,  -999.00,9,  -999.00,9,  10.3958,2,  26.6225,2,  10.4196,2
49UP20150724_1,   P04,    61,  1,     29,     102,2,20150803,2220,0050,  7.1755, 175.8237, 5890,    256.0,      254,   9.8266,  34.6568,2,     23.1,2,  34.6555,2,    22.82,2,    34.26,2,    35.19,2,     0.00,2,    2.510,2, -999.000,9, -999.000,9,   -999.0,9,   -999.0,9,-999.0000,9,  -999.00,  -999.00,9,  -999.00,9,   9.7973,2,  26.7183,2,   9.8263,2
49UP20150724_1,   P04,    61,  1,     28,     108,2,20150803,2220,0049,  7.1755, 175.8237, 5890,    284.1,      282,   9.4816,  34.6456,2,     26.0,2,  34.6449,2,    26.40,2,    35.78,2,    35.58,2,     0.00,2,    2.530,2, -999.000,9, -999.000,9,   -999.0,9,   -999.0,9,-999.0000,9,  -999.00,  -999.00,9,  -999.00,9,   9.4497,2,  26.7675,2,   9.4815,2
49UP20150724_1,   P04,    61,  1,     27,     998,2,20150803,2220,0047,  7.1755, 175.8237, 5890,    371.7,      369,   8.3566,  34.5885,2,     46.9,2,  34.5881,2,    47.39,2,    41.86,2,    35.70,2,     0.00,2,    2.550,2, -999.000,9, -999.000,9,   -999.0,9,   -999.0,9,-999.0000,9,  -999.00,  -999.00,9,  -999.00,9,   8.3178,2,  26.9026,2,   8.3557,2
49UP20150724_1,   P04,    61,  1,     26,     084,2,20150803,2220,0044,  7.1755, 175.8237, 5890,    473.6,      470,   7.6601,  34.5741,2,     52.5,2,  34.5737,2,    52.27,2,    46.32,2,    36.83,2,     0.00,2,    2.630,2, -999.000,9, -999.000,9,   -999.0,9,   -999.0,9,-999.0000,9,  -999.00,  -999.00,9,  -999.00,9,   7.6128,2,  26.9964,2,   7.6592,2
49UP20150724_1,   P04,    61,  1,     25,     098,2,20150803,2220,0041,  7.1755, 175.8237, 5890,    574.4,      570,   6.7344,  34.5438,2,     48.2,2,  34.5438,2,    48.32,2,    57.74,2,    38.78,2,     0.00,2,    2.790,2, -999.000,9, -999.000,9,   -999.0,9,   -999.0,9,-999.0000,9,  -999.00,  -999.00,9,  -999.00,9,   6.6807,2,  27.1030,2,   6.7332,2
49UP20150724_1,   P04,    61,  1,     24,     110,2,20150803,2220,0039,  7.1755, 175.8237, 5890,    675.8,      671,   6.1498,  34.5451,2,     44.4,2,  34.5455,2,    44.47,2,    64.87,2,    40.58,2,     0.00,2,    2.910,2, -999.000,9, -999.000,9,   -999.0,9,   -999.0,9,-999.0000,9,  -999.00,  -999.00,9,  -999.00,9,   6.0891,2,  27.1818,2,   6.1502,2
49UP20150724_1,   P04,    61,  1,     23,     096,2,20150803,2220,0035,  7.1755, 175.8237, 5890,    776.9,      771,   5.5526,  34.5393,2,     54.2,2,  34.5397,6,    54.03,2,    73.78,2,    40.47,2,     0.00,2,    2.900,2, -999.000,9, -999.000,9,   -999.0,9,   -999.0,9,-999.0000,9,  -999.00,  -999.00,9,  -999.00,9,   5.4858,2,  27.2524,2,   5.5523,2
49UP20150724_1,   P04,    61,  1,     22,     111,2,20150803,2220,0032,  7.1755, 175.8237, 5890,    877.4,      871,   4.9530,  34.5457,2,     62.0,2,  34.5456,2,    62.02,6,    83.85,6,    40.54,6,     0.00,6,    2.900,6, -999.000,9, -999.000,9,   -999.0,9,   -999.0,9,-999.0000,9,  -999.00,  -999.00,9,  -999.00,9,   4.8809,2,  27.3288,2,   4.9541,2
49UP20150724_1,   P04,    61,  1,     21,     078,2,20150803,2220,0030,  7.1755, 175.8237, 5890,    978.3,      971,   4.5372,  34.5557,2,     66.4,2,  34.5558,2,    66.33,2,    90.81,2,    40.63,2,     0.00,2,    2.910,2, -999.000,9, -999.000,9,   -999.0,9,   -999.0,9,-999.0000,9,  -999.00,  -999.00,9,  -999.00,9,   4.4592,2,  27.3838,2,   4.5368,2
49UP20150724_1,   P04,    61,  1,     20,     093,2,20150803,2220,0026,  7.1755, 175.8237, 5890,   1140.6,     1131,   3.9787,  34.5703,2,     70.7,2,  34.5705,2,    70.47,2,   102.44,2,    40.85,2,     0.00,2,    2.930,2, -999.000,9, -999.000,9,   -999.0,9,   -999.0,9,-999.0000,9,  -999.00,  -999.00,9,  -999.00,9,   3.8913,2,  27.4555,2,   3.9784,2
49UP20150724_1,   P04,    61,  1,     19,     092,2,20150803,2220,0022,  7.1755, 175.8237, 5890,   1342.4,     1331,   3.4944,  34.5844,2,     77.5,2,  34.5849,2,    77.57,2,   113.51,2,    40.51,2,     0.00,2,    2.900,2, -999.000,9, -999.000,9,   -999.0,9,   -999.0,9,-999.0000,9,  -999.00,  -999.00,9,  -999.00,9,   3.3944,2,  27.5162,2,   3.4935,2
49UP20150724_1,   P04,    61,  1,     18,     101,2,20150803,2220,0016,  7.1755, 175.8237, 5890,   1544.8,     1531,   3.0068,  34.6006,2,     84.9,2,  34.6007,6,    85.02,2,   124.41,2,    40.18,2,     0.00,2,    2.870,2, -999.000,9, -999.000,9,   -999.0,9,   -999.0,9,-999.0000,9,  -999.00,  -999.00,9,  -999.00,9,   2.8951,2,  27.5758,2,   3.0065,2
49UP20150724_1,   P04,    61,  1,     17,     090,2,20150803,2220,0012,  7.1755, 175.8237, 5890,   1748.0,     1731,   2.5629,  34.6197,2,     94.0,2,  34.6194,2,    94.23,6,   134.15,6,    39.75,2,     0.00,6,    2.820,6, -999.000,9, -999.000,9,   -999.0,9,   -999.0,9,-999.0000,9,  -999.00,  -999.00,9,  -999.00,9,   2.4396,2,  27.6310,2,   2.5629,2
49UP20150724_1,   P04,    61,  1,     16,     089,2,20150803,2220,0007,  7.1755, 175.8237, 5890,   1950.2,     1930,   2.3033,  34.6337,2,    100.6,2,  34.6339,2,   100.84,2,   139.96,2,    39.42,2,     0.00,2,    2.780,2, -999.000,9, -999.000,9,   -999.0,9,   -999.0,9,-999.0000,9,  -999.00,  -999.00,9,  -999.00,9,   2.1665,2,  27.6648,2,   2.3046,2
49UP20150724_1,   P04,    61,  1,     15,     088,2,20150803,2220,0002,  7.1755, 175.8237, 5890,   2153.6,     2131,   2.0416,  34.6488,2,    106.5,2,  34.6487,2,   106.61,2,   146.70,2,    39.06,2,     0.00,2,    2.740,2, -999.000,9, -999.000,9,   -999.0,9,   -999.0,9,-999.0000,9,  -999.00,  -999.00,9,  -999.00,9,   1.8914,2,  27.6988,2,   2.0416,2
49UP20150724_1,   P04,    61,  1,     14,     999,2,20150803,2220,2357,  7.1755, 175.8237, 5890,   2357.1,     2331,   1.9277,  34.6563,2,    113.3,2,  34.6564,2,   113.68,2,   148.40,2,    38.74,2,     0.00,2,    2.710,2, -999.000,9, -999.000,9,   -999.0,9,   -999.0,9,-999.0000,9,  -999.00,  -999.00,9,  -999.00,9,   1.7616,2,  27.7149,2,   1.9274,2
49UP20150724_1,   P04,    61,  1,     13,     667,2,20150803,2220,2353,  7.1755, 175.8237, 5890,   2560.8,     2531,   1.8210,  34.6627,2,    118.3,2,  34.6617,2,   118.42,2,   149.66,2,    38.30,2,     0.00,2,    2.680,2,    0.000,2,    0.000,2,   -999.0,9,   -999.0,9,-999.0000,9,  -999.00,  -999.00,9,  -999.00,9,   1.6385,2,  27.7293,2,   1.8210,2
49UP20150724_1,   P04,    61,  1,     12,     074,2,20150803,2220,2347,  7.1755, 175.8237, 5890,   2763.9,     2731,   1.7428,  34.6672,2,    124.2,2,  34.6674,2,   124.69,2,   149.92,2,    38.04,2,     0.00,2,    2.650,2,    0.000,2,    0.000,2,   -999.0,9,   -999.0,9,-999.0000,9,  -999.00,  -999.00,9,  -999.00,9,   1.5432,2,  27.7400,2,   1.7428,2
49UP20150724_1,   P04,    61,  1,     11,     268,2,20150803,2220,2343,  7.1755, 175.8237, 5890,   2967.2,     2930,   1.6759,  34.6710,2,    130.5,2,  34.6705,2,   130.61,2,   148.82,2,    37.52,2,     0.00,2,    2.610,2,    0.000,2,    0.000,2,   -999.0,9,   -999.0,9,-999.0000,9,  -999.00,  -999.00,9,  -999.00,9,   1.4584,2,  27.7492,2,   1.6759,2
49UP20150724_1,   P04,    61,  1,     10,     267,2,20150803,2220,2331,  7.1755, 175.8237, 5890,   3469.4,     3422,   1.5415,  34.6801,2,    144.8,2,  34.6797,2,   144.98,2,   145.96,2,    36.62,2,     0.00,2,    2.540,2,    0.000,2,    0.000,2,   -999.0,9,   -999.0,9,-999.0000,9,  -999.00,  -999.00,9,  -999.00,9,   1.2775,2,  27.7694,2,   1.5415,2
49UP20150724_1,   P04,    61,  1,      9,     518,2,20150803,2220,2317,  7.1755, 175.8237, 5890,   3979.7,     3921,   1.4155,  34.6901,2,    161.1,2,  34.6891,2,   160.67,2,   140.70,2,    35.46,2,     0.00,2,    2.450,2,    0.000,2,    0.000,2,   -999.0,9,   -999.0,9,-999.0000,9,  -999.00,  -999.00,9,  -999.00,9,   1.1011,2,  27.7896,2,   1.4154,2
49UP20150724_1,   P04,    61,  1,      8,     081,2,20150803,2220,2312,  7.1755, 175.8237, 5890,   4236.1,     4171,   1.3520,  34.6953,2,    170.4,2,  34.6943,2,   171.06,2,   136.14,2,    34.72,2,     0.00,2,    2.390,2,    0.000,2,    0.000,2,   -999.0,9,   -999.0,9,-999.0000,9,  -999.00,  -999.00,9,  -999.00,9,   1.0113,2,  27.7997,2,   1.3521,2
49UP20150724_1,   P04,    61,  1,      7,     516,2,20150803,2220,2306,  7.1755, 175.8237, 5890,   4493.3,     4422,   1.2789,  34.7009,2,    182.0,2,  34.6997,6,   182.54,2,   130.02,2,    34.00,2,     0.00,2,    2.330,2,    0.002,2,    0.002,2,   -999.0,9,   -999.0,9,-999.0000,9,  -999.00,  -999.00,9,  -999.00,9,   0.9115,2,  27.8108,2,   1.2792,2
49UP20150724_1,   P04,    61,  1,      6,     113,2,20150803,2220,2301,  7.1755, 175.8237, 5890,   4749.6,     4671,   1.2769,  34.7028,2,    186.4,2,  34.7026,2,   186.71,6,   127.61,6,    33.54,6,     0.00,6,    2.310,6,    0.001,2,    0.000,2,   -999.0,9,   -999.0,9,-999.0000,9,  -999.00,  -999.00,9,  -999.00,9,   0.8798,2,  27.8145,2,   1.2771,2
49UP20150724_1,   P04,    61,  1,      5,     094,3,20150803,2220,2255,  7.1755, 175.8237, 5890,   5006.3,     4921,   1.3008,  34.7033,2,    187.5,2,  34.6993,4,   185.91,3,   126.49,2,    33.56,2,     0.00,2,    2.310,2,    0.000,2,    0.000,2,   -999.0,9,   -999.0,9,-999.0000,9,  -999.00,  -999.00,9,  -999.00,9,   0.8724,2,  27.8153,2,   1.3009,2
49UP20150724_1,   P04,    61,  1,      4,     077,2,20150803,2220,2250,  7.1755, 175.8237, 5890,   5262.5,     5170,   1.3294,  34.7033,2,    188.1,2,  34.7028,2,   188.36,2,   126.51,2,    33.47,2,     0.00,2,    2.300,2,    0.004,2,    0.003,2,   -999.0,9,   -999.0,9,-999.0000,9,  -999.00,  -999.00,9,  -999.00,9,   0.8687,2,  27.8156,2,   1.3294,2
49UP20150724_1,   P04,    61,  1,      3,     104,2,20150803,2220,2238,  7.1755, 175.8237, 5890,   5521.9,     5421,   1.3615,  34.7031,2,    188.4,2,  34.7035,2,   188.44,2,   126.75,2,    33.42,2,     0.00,2,    2.300,2,    0.002,2,    0.001,2,   -999.0,9,   -999.0,9,-999.0000,9,  -999.00,  -999.00,9,  -999.00,9,   0.8671,2,  27.8155,2,   1.3614,2
49UP20150724_1,   P04,    61,  1,      2,     075,2,20150803,2220,2232,  7.1755, 175.8237, 5890,   5780.7,     5672,   1.3956,  34.7033,2,    188.5,2,  34.7023,2,   188.65,6,   126.50,6,    33.46,6,     0.00,6,    2.300,6,    0.008,2,    0.004,2,   -999.0,9,   -999.0,9,-999.0000,9,  -999.00,  -999.00,9,  -999.00,9,   0.8666,2,  27.8157,2,   1.3957,2
49UP20150724_1,   P04,    61,  1,      1,     997,2,20150803,2220,2221,  7.1755, 175.8237, 5890,   6023.1,     5907,   1.4278,  34.7031,2,    188.6,2,  34.7032,2,   188.55,2,   126.73,2,    33.41,2,     0.00,2,    2.310,2,    0.005,6,    0.002,6,   -999.0,9,   -999.0,9,-999.0000,9,  -999.00,  -999.00,9,  -999.00,9,   0.8656,2,  27.8156,2,   1.4277,2