BOTTLE,20191113JMAGEMD
EXPOCODE,SECT_ID,STNNBR,CASTNO,SAMPNO,BTLNBR,BTLNBR_FLAG_U,DATE,TIME,BTL_TIME,LATITUDE,LONGITUDE,DEPTH,CTDPRS,CTDDEP,CTDTMP,CTDSAL,CTDSAL_FLAG_W,CTDOXY,CTDOXY_FLAG_W,SALNTY,SALNTY_FLAG_W,OXYGEN,OXYGEN_FLAG_W,SILCAT,SILCAT_FLAG_W,NO2+NO3,NO2+NO3_FLAG_W,NITRIT,NITRIT_FLAG_W,PHSPHT,PHSPHT_FLAG_W,CFC-11,CFC-11_FLAG_W,CFC-12,CFC-12_FLAG_W,TCARBN,TCARBN_FLAG_W,ALKALI,ALKALI_FLAG_W,PH_TS,PH_TS_FLAG_W,PH_TS_TMP,CHLORA,CHLORA_FLAG_W,PPHYTN,PPHYTN_FLAG_W,THETA,THETA_FLAG_W,SIGTHT,SIGTHT_FLAG_W,SBE35,SBE35_FLAG_W
,,,,,,,,UTC,,,,METER,DBAR,METERS,ITS-90,PSS-78,,UMOL/KG,,PSS78,,UMOL/KG,,UMOL/KG,,UMOL/KG,,UMOL/KG,,UMOL/KG,,PMOL/KG,,PMOL/KG,,UMOL/KG,,UMOL/KG,,,,ITS-90,UG/KG,,UG/KG,,ITS-90,,KG/M3,,ITS-90,
49UP20150724_1,   P04,    45,  1,      0,      -9,0,20150809,1420,1609,  5.0112, 165.6810, 4649,      0.0,        0,  28.9257,  33.9823,2,    197.3,2,-999.0000,9,   196.75,2,     1.07,2,     0.02,2,     0.00,2,    0.050,2, -999.000,9, -999.000,9,   -999.0,9,   -999.0,9,-999.0000,9,  -999.00,  -999.00,9,  -999.00,9,  28.9251,2,  21.3251,2,-999.0000,9
49UP20150724_1,   P04,    45,  1,     36,     109,3,20150809,1420,1628,  5.0112, 165.6810, 4649,     10.7,       11,  28.9310,  33.9843,2,    197.0,2,  33.9821,2,   196.38,2,     1.05,2,     0.01,2,     0.00,2,    0.050,2, -999.000,9, -999.000,9,   -999.0,9,   -999.0,9,-999.0000,9,  -999.00,  -999.00,9,  -999.00,9,  28.9284,2,  21.3255,2,  28.9260,2
49UP20150724_1,   P04,    45,  1,     35,     112,2,20150809,1420,1627,  5.0112, 165.6810, 4649,     26.0,       26,  25.6678,  34.7068,2,    206.7,2,  34.7079,2,   206.45,2,     0.94,2,     0.03,2,     0.00,2,    0.140,2, -999.000,9, -999.000,9,   -999.0,9,   -999.0,9,-999.0000,9,  -999.00,  -999.00,9,  -999.00,9,  25.6621,2,  22.9169,2,  25.6659,2
49UP20150724_1,   P04,    45,  1,     34,     083,2,20150809,1420,1626,  5.0112, 165.6810, 4649,     51.4,       51,  24.3847,  34.9918,2,    153.6,2,  34.9931,2,   152.66,2,     3.85,2,     6.10,2,     0.52,2,    0.500,2, -999.000,9, -999.000,9,   -999.0,9,   -999.0,9,-999.0000,9,  -999.00,  -999.00,9,  -999.00,9,  24.3737,2,  23.5239,2,  24.3814,2
49UP20150724_1,   P04,    45,  1,     33,     469,2,20150809,1420,1624,  5.0112, 165.6810, 4649,     76.2,       76,  23.3661,  35.1627,2,    132.7,2,  35.1658,2,   132.69,2,     4.54,2,     9.03,2,     0.11,2,    0.700,2, -999.000,9, -999.000,9,   -999.0,9,   -999.0,9,-999.0000,9,  -999.00,  -999.00,9,  -999.00,9,  23.3503,2,  23.9555,2,  23.4062,2
49UP20150724_1,   P04,    45,  1,     32,     105,2,20150809,1420,1623,  5.0112, 165.6810, 4649,    104.7,      104,  22.1201,  35.1536,2,    138.9,2,  35.1485,2,   139.39,2,     5.25,2,     8.81,2,     0.04,2,    0.700,2, -999.000,9, -999.000,9,   -999.0,9,   -999.0,9,-999.0000,9,  -999.00,  -999.00,9,  -999.00,9,  22.0993,2,  24.3067,2,  22.1208,2
49UP20150724_1,   P04,    45,  1,     31,     515,2,20150809,1420,1621,  5.0112, 165.6810, 4649,    127.3,      127,  21.1194,  35.0228,2,    146.1,2,  35.0243,2,   146.85,2,     6.22,2,     8.34,2,     0.03,2,    0.660,2, -999.000,9, -999.000,9,   -999.0,9,   -999.0,9,-999.0000,9,  -999.00,  -999.00,9,  -999.00,9,  21.0949,2,  24.4854,2,  21.1187,2
49UP20150724_1,   P04,    45,  1,     30,     097,2,20150809,1420,1620,  5.0112, 165.6810, 4649,    152.7,      152,  18.3952,  34.8136,2,    139.1,2,  34.8138,2,   140.39,2,     9.65,2,    10.94,2,     0.01,2,    0.840,2, -999.000,9, -999.000,9,   -999.0,9,   -999.0,9,-999.0000,9,  -999.00,  -999.00,9,  -999.00,9,  18.3686,2,  25.0379,2,  18.3805,2
49UP20150724_1,   P04,    45,  1,     29,     102,2,20150809,1420,1618,  5.0112, 165.6810, 4649,    178.2,      177,  14.6689,  34.5923,2,    111.3,2,  34.5958,2,   111.91,2,    16.16,2,    17.86,2,     0.01,2,    1.340,2, -999.000,9, -999.000,9,   -999.0,9,   -999.0,9,-999.0000,9,  -999.00,  -999.00,9,  -999.00,9,  14.6424,2,  25.7354,2,  14.6551,2
49UP20150724_1,   P04,    45,  1,     28,     108,2,20150809,1420,1616,  5.0112, 165.6810, 4649,    201.8,      201,  12.1180,  34.5480,2,     86.2,2,  34.5498,2,    89.58,6,    24.82,6,    24.23,6,     0.00,6,    1.780,6, -999.000,9, -999.000,9,   -999.0,9,   -999.0,9,-999.0000,9,  -999.00,  -999.00,9,  -999.00,9,  12.0916,2,  26.2205,2,  12.1169,2
49UP20150724_1,   P04,    45,  1,     27,     998,2,20150809,1420,1614,  5.0112, 165.6810, 4649,    252.9,      251,   9.4355,  34.5993,2,     68.5,2,  34.5991,2,    73.42,2,    34.30,2,    31.08,2,     0.00,2,    2.220,2, -999.000,9, -999.000,9,   -999.0,9,   -999.0,9,-999.0000,9,  -999.00,  -999.00,9,  -999.00,9,   9.4073,2,  26.7383,2,   9.4484,2
49UP20150724_1,   P04,    45,  1,     26,     084,2,20150809,1420,1612,  5.0112, 165.6810, 4649,    301.5,      300,   8.9515,  34.6269,2,     72.1,2,  34.6277,6,    74.70,2,    34.18,2,    32.25,2,     0.00,2,    2.290,2, -999.000,9, -999.000,9,   -999.0,9,   -999.0,9,-999.0000,9,  -999.00,  -999.00,9,  -999.00,9,   8.9188,2,  26.8389,2,   8.9502,2
49UP20150724_1,   P04,    45,  1,     25,     098,2,20150809,1420,1609,  5.0112, 165.6810, 4649,    403.4,      401,   8.1541,  34.5976,2,     82.5,2,  34.5975,2,    80.62,2,    37.73,2,    33.29,2,     0.00,2,    2.350,2, -999.000,9, -999.000,9,   -999.0,9,   -999.0,9,-999.0000,9,  -999.00,  -999.00,9,  -999.00,9,   8.1125,2,  26.9409,2,   8.1542,2
49UP20150724_1,   P04,    45,  1,     24,     110,2,20150809,1420,1607,  5.0112, 165.6810, 4649,    504.3,      501,   7.5010,  34.5743,2,     68.2,2,  34.5742,2,    68.73,2,    44.62,2,    35.66,2,     0.00,2,    2.540,2, -999.000,9, -999.000,9,   -999.0,9,   -999.0,9,-999.0000,9,  -999.00,  -999.00,9,  -999.00,9,   7.4511,2,  27.0198,2,   7.5010,2
49UP20150724_1,   P04,    45,  1,     23,     096,2,20150809,1420,1604,  5.0112, 165.6810, 4649,    605.0,      601,   6.7747,  34.5552,2,     70.3,2,  34.5557,2,    71.59,2,    50.84,2,    36.87,2,     0.00,2,    2.630,2, -999.000,9, -999.000,9,   -999.0,9,   -999.0,9,-999.0000,9,  -999.00,  -999.00,9,  -999.00,9,   6.7178,2,  27.1070,2,   6.7742,2
49UP20150724_1,   P04,    45,  1,     22,     111,2,20150809,1420,1600,  5.0112, 165.6810, 4649,    706.8,      702,   6.1572,  34.5433,2,     55.7,2,  34.5431,2,    55.95,2,    62.79,2,    39.13,2,     0.00,2,    2.810,2, -999.000,9, -999.000,9,   -999.0,9,   -999.0,9,-999.0000,9,  -999.00,  -999.00,9,  -999.00,9,   6.0936,2,  27.1798,2,   6.1569,2
49UP20150724_1,   P04,    45,  1,     21,     078,2,20150809,1420,1557,  5.0112, 165.6810, 4649,    804.3,      798,   5.4943,  34.5384,2,     81.3,2,  34.5388,2,    81.52,6,    70.38,6,    37.74,6,     0.00,6,    2.700,6, -999.000,9, -999.000,9,   -999.0,9,   -999.0,9,-999.0000,9,  -999.00,  -999.00,9,  -999.00,9,   5.4253,2,  27.2591,2,   5.4934,2
49UP20150724_1,   P04,    45,  1,     20,     093,2,20150809,1420,1554,  5.0112, 165.6810, 4649,    909.2,      902,   4.8613,  34.5490,2,     72.4,2,  34.5493,2,    71.95,2,    82.66,2,    39.56,2,     0.00,2,    2.830,2, -999.000,9, -999.000,9,   -999.0,9,   -999.0,9,-999.0000,9,  -999.00,  -999.00,9,  -999.00,9,   4.7870,2,  27.3421,2,   4.8612,2
49UP20150724_1,   P04,    45,  1,     19,     092,2,20150809,1420,1551,  5.0112, 165.6810, 4649,   1008.8,     1001,   4.4519,  34.5578,2,     72.6,2,  34.5578,6,    72.35,2,    91.30,2,    39.99,2,     0.00,2,    2.870,2, -999.000,9, -999.000,9,   -999.0,9,   -999.0,9,-999.0000,9,  -999.00,  -999.00,9,  -999.00,9,   4.3720,2,  27.3949,2,   4.4533,2
49UP20150724_1,   P04,    45,  1,     18,     101,2,20150809,1420,1547,  5.0112, 165.6810, 4649,   1212.6,     1202,   3.7180,  34.5777,2,     79.2,2,  34.5783,2,    78.87,2,   106.43,2,    40.17,2,     0.00,2,    2.880,2, -999.000,9, -999.000,9,   -999.0,9,   -999.0,9,-999.0000,9,  -999.00,  -999.00,9,  -999.00,9,   3.6268,2,  27.4881,2,   3.7178,2
49UP20150724_1,   P04,    45,  1,     17,     090,2,20150809,1420,1541,  5.0112, 165.6810, 4649,   1415.8,     1403,   3.2049,  34.5946,2,     85.0,2,  34.5954,2,    84.71,2,   118.26,2,    39.89,2,     0.00,2,    2.860,2, -999.000,9, -999.000,9,   -999.0,9,   -999.0,9,-999.0000,9,  -999.00,  -999.00,9,  -999.00,9,   3.1017,2,  27.5521,2,   3.2052,2
49UP20150724_1,   P04,    45,  1,     16,     089,2,20150809,1420,1535,  5.0112, 165.6810, 4649,   1616.2,     1601,   2.8103,  34.6095,2,     94.6,2,  34.6097,2,    94.22,2,   126.30,2,    39.41,2,     0.00,2,    2.810,2, -999.000,9, -999.000,9,   -999.0,9,   -999.0,9,-999.0000,9,  -999.00,  -999.00,9,  -999.00,9,   2.6949,2,  27.6008,2,   2.8099,2
49UP20150724_1,   P04,    45,  1,     15,     088,2,20150809,1420,1531,  5.0112, 165.6810, 4649,   1819.3,     1801,   2.4370,  34.6261,2,    102.0,2,  34.6268,2,   101.77,2,   134.51,2,    39.00,2,     0.00,2,    2.760,2, -999.000,9, -999.000,9,   -999.0,9,   -999.0,9,-999.0000,9,  -999.00,  -999.00,9,  -999.00,9,   2.3094,2,  27.6470,2,   2.4373,2
49UP20150724_1,   P04,    45,  1,     14,     999,2,20150809,1420,1525,  5.0112, 165.6810, 4649,   2021.1,     2000,   2.1540,  34.6423,2,    110.7,2,  34.6417,2,   110.60,2,   140.07,2,    38.53,2,     0.00,2,    2.720,2, -999.000,9, -999.000,9,   -999.0,9,   -999.0,9,-999.0000,9,  -999.00,  -999.00,9,  -999.00,9,   2.0134,2,  27.6840,2,   2.1540,2
49UP20150724_1,   P04,    45,  1,     13,     667,2,20150809,1420,1520,  5.0112, 165.6810, 4649,   2224.5,     2201,   2.0118,  34.6503,2,    114.3,2,  34.6502,2,   114.02,2,   142.67,2,    38.30,2,     0.00,2,    2.700,2, -999.000,9, -999.000,9,   -999.0,9,   -999.0,9,-999.0000,9,  -999.00,  -999.00,9,  -999.00,9,   1.8559,2,  27.7028,2,   2.0117,2
49UP20150724_1,   P04,    45,  1,     12,     074,4,20150809,1420,1516,  5.0112, 165.6810, 4649,   2428.2,     2401,   1.8748,  34.6574,2,    120.4,2,  34.6376,4,   107.11,4,   126.66,4,    37.80,4,     0.00,4,    2.670,4, -999.000,9, -999.000,9,   -999.0,9,   -999.0,9,-999.0000,9,  -999.00,  -999.00,9,  -999.00,9,   1.7033,2,  27.7202,2,   1.8750,2
49UP20150724_1,   P04,    45,  1,     11,     268,2,20150809,1420,1511,  5.0112, 165.6810, 4649,   2633.0,     2602,   1.7835,  34.6627,2,    125.7,2,  34.6626,2,   125.58,2,   145.95,2,    37.58,2,     0.00,2,    2.630,2, -999.000,9, -999.000,9,   -999.0,9,   -999.0,9,-999.0000,9,  -999.00,  -999.00,9,  -999.00,9,   1.5951,2,  27.7325,2,   1.7834,2
49UP20150724_1,   P04,    45,  1,     10,     267,2,20150809,1420,1506,  5.0112, 165.6810, 4649,   2833.8,     2799,   1.6998,  34.6677,2,    131.2,2,  34.6671,2,   131.26,6,   146.37,6,    37.25,6,     0.00,6,    2.610,6, -999.000,9, -999.000,9,   -999.0,9,   -999.0,9,-999.0000,9,  -999.00,  -999.00,9,  -999.00,9,   1.4945,2,  27.7439,2,   1.6997,2
49UP20150724_1,   P04,    45,  1,      9,     518,2,20150809,1420,1501,  5.0112, 165.6810, 4649,   3040.4,     3002,   1.6498,  34.6712,2,    135.7,2,  34.6711,6,   135.68,2,   146.12,2,    36.96,2,     0.00,2,    2.580,2, -999.000,9, -999.000,9,   -999.0,9,   -999.0,9,-999.0000,9,  -999.00,  -999.00,9,  -999.00,9,   1.4258,2,  27.7517,2,   1.6498,2
49UP20150724_1,   P04,    45,  1,      8,     081,2,20150809,1420,1454,  5.0112, 165.6810, 4649,   3296.2,     3253,   1.5827,  34.6760,2,    142.5,2,  34.6757,2,   142.26,2,   144.77,2,    36.48,2,     0.00,2,    2.550,2, -999.000,9, -999.000,9,   -999.0,9,   -999.0,9,-999.0000,9,  -999.00,  -999.00,9,  -999.00,9,   1.3352,2,  27.7620,2,   1.5828,2
49UP20150724_1,   P04,    45,  1,      7,     516,2,20150809,1420,1448,  5.0112, 165.6810, 4649,   3549.9,     3501,   1.5212,  34.6811,2,    149.5,2,  34.6808,2,   149.29,2,   142.98,2,    36.02,2,     0.00,2,    2.510,2, -999.000,9, -999.000,9,   -999.0,9,   -999.0,9,-999.0000,9,  -999.00,  -999.00,9,  -999.00,9,   1.2494,2,  27.7721,2,   1.5213,2
49UP20150724_1,   P04,    45,  1,      6,     113,2,20150809,1420,1440,  5.0112, 165.6810, 4649,   3807.9,     3753,   1.4953,  34.6847,2,    154.2,2,  34.6846,2,   154.18,2,   141.78,2,    35.69,2,     0.00,2,    2.490,2, -999.000,9, -999.000,9,   -999.0,9,   -999.0,9,-999.0000,9,  -999.00,  -999.00,9,  -999.00,9,   1.1972,2,  27.7787,2,   1.4954,2
49UP20150724_1,   P04,    45,  1,      5,     094,2,20150809,1420,1435,  5.0112, 165.6810, 4649,   4061.4,     4001,   1.4602,  34.6889,2,    160.7,2,  34.6885,6,   160.74,2,   138.93,2,    35.26,2,     0.00,2,    2.450,2, -999.000,9, -999.000,9,   -999.0,9,   -999.0,9,-999.0000,9,  -999.00,  -999.00,9,  -999.00,9,   1.1357,2,  27.7862,2,   1.4604,2
49UP20150724_1,   P04,    45,  1,      4,     471,2,20150809,1420,1430,  5.0112, 165.6810, 4649,   4318.9,     4252,   1.4385,  34.6922,2,    166.8,2,  34.6916,2,   166.68,6,   136.11,6,    34.84,6,     0.00,6,    2.420,6, -999.000,9, -999.000,9,   -999.0,9,   -999.0,9,-999.0000,9,  -999.00,  -999.00,9,  -999.00,9,   1.0861,2,  27.7922,2,   1.4390,2
49UP20150724_1,   P04,    45,  1,      3,     104,2,20150809,1420,1423,  5.0112, 165.6810, 4649,   4572.8,     4499,   1.4167,  34.6955,2,    173.4,2,  34.6958,2,   173.57,2,   132.50,2,    34.35,2,     0.00,2,    2.380,2, -999.000,9, -999.000,9,   -999.0,9,   -999.0,9,-999.0000,9,  -999.00,  -999.00,9,  -999.00,9,   1.0359,2,  27.7983,2,   1.4166,2
49UP20150724_1,   P04,    45,  1,      2,     075,2,20150809,1420,1423,  5.0112, 165.6810, 4649,   4573.2,     4500,   1.4165,  34.6957,2,    173.4,2,  34.6957,2,   173.43,2,   132.31,2,    34.36,2,     0.00,2,    2.380,2, -999.000,9, -999.000,9,   -999.0,9,   -999.0,9,-999.0000,9,  -999.00,  -999.00,9,  -999.00,9,   1.0356,2,  27.7985,2,   1.4164,2
49UP20150724_1,   P04,    45,  1,      1,     997,2,20150809,1420,1420,  5.0112, 165.6810, 4649,   4712.9,     4636,   1.3982,  34.6978,2,    177.4,2,  34.6974,2,   177.06,2,   130.55,2,    34.05,2,     0.00,2,    2.360,2, -999.000,9, -999.000,9,   -999.0,9,   -999.0,9,-999.0000,9,  -999.00,  -999.00,9,  -999.00,9,   1.0016,2,  27.8024,2,   1.3979,2