BOTTLE,20191113JMAGEMD
EXPOCODE,SECT_ID,STNNBR,CASTNO,SAMPNO,BTLNBR,BTLNBR_FLAG_U,DATE,TIME,BTL_TIME,LATITUDE,LONGITUDE,DEPTH,CTDPRS,CTDDEP,CTDTMP,CTDSAL,CTDSAL_FLAG_W,CTDOXY,CTDOXY_FLAG_W,SALNTY,SALNTY_FLAG_W,OXYGEN,OXYGEN_FLAG_W,SILCAT,SILCAT_FLAG_W,NO2+NO3,NO2+NO3_FLAG_W,NITRIT,NITRIT_FLAG_W,PHSPHT,PHSPHT_FLAG_W,CFC-11,CFC-11_FLAG_W,CFC-12,CFC-12_FLAG_W,TCARBN,TCARBN_FLAG_W,ALKALI,ALKALI_FLAG_W,PH_TS,PH_TS_FLAG_W,PH_TS_TMP,CHLORA,CHLORA_FLAG_W,PPHYTN,PPHYTN_FLAG_W,THETA,THETA_FLAG_W,SIGTHT,SIGTHT_FLAG_W,SBE35,SBE35_FLAG_W
,,,,,,,,UTC,,,,METER,DBAR,METERS,ITS-90,PSS-78,,UMOL/KG,,PSS78,,UMOL/KG,,UMOL/KG,,UMOL/KG,,UMOL/KG,,UMOL/KG,,PMOL/KG,,PMOL/KG,,UMOL/KG,,UMOL/KG,,,,ITS-90,UG/KG,,UG/KG,,ITS-90,,KG/M3,,ITS-90,
49UP20150724_1,   P04,    50,  1,      0,      -9,0,20150807,2129,2325,  5.0195, 169.0112, 4546,      0.0,        0,  29.4919,  34.0738,2,    197.5,2,-999.0000,9,   196.67,2,     1.08,2,     0.03,2,     0.00,2,    0.080,2, -999.000,9, -999.000,9,   -999.0,9,   -999.0,9,-999.0000,9,  -999.00,  -999.00,9,  -999.00,9,  29.4913,2,  21.2042,2,-999.0000,9
49UP20150724_1,   P04,    50,  1,     36,     109,2,20150807,2129,2355,  5.0195, 169.0112, 4546,     10.8,       11,  29.3406,  34.0962,2,    198.1,2,  34.1097,4,   197.59,2,     1.10,2,     0.04,2,     0.00,2,    0.070,2, -999.000,9, -999.000,9,   -999.0,9,   -999.0,9,-999.0000,9,  -999.00,  -999.00,9,  -999.00,9,  29.3380,2,  21.2726,2,  29.3438,2
49UP20150724_1,   P04,    50,  1,     35,     112,2,20150807,2129,2354,  5.0195, 169.0112, 4546,     25.2,       25,  27.4135,  34.6592,2,    205.2,2,  34.6647,2,   204.07,2,     1.26,2,     0.06,2,     0.00,2,    0.080,2, -999.000,9, -999.000,9,   -999.0,9,   -999.0,9,-999.0000,9,  -999.00,  -999.00,9,  -999.00,9,  27.4077,2,  22.3304,2,  27.4097,2
49UP20150724_1,   P04,    50,  1,     34,     083,2,20150807,2129,2351,  5.0195, 169.0112, 4546,     50.6,       50,  25.0666,  35.0408,2,    158.2,2,  35.0319,2,   159.71,2,     2.39,2,     4.75,2,     0.21,2,    0.470,2, -999.000,9, -999.000,9,   -999.0,9,   -999.0,9,-999.0000,9,  -999.00,  -999.00,9,  -999.00,9,  25.0556,2,  23.3552,2,  25.0627,2
49UP20150724_1,   P04,    50,  1,     33,     469,2,20150807,2129,2349,  5.0195, 169.0112, 4546,     75.5,       75,  24.2353,  35.0695,2,    138.8,2,  35.0610,2,   140.95,2,     3.89,2,     7.64,2,     0.77,2,    0.610,2, -999.000,9, -999.000,9,   -999.0,9,   -999.0,9,-999.0000,9,  -999.00,  -999.00,9,  -999.00,9,  24.2193,2,  23.6289,2,  24.2512,2
49UP20150724_1,   P04,    50,  1,     32,     105,2,20150807,2129,2348,  5.0195, 169.0112, 4546,     99.9,       99,  23.0217,  35.0287,2,    158.1,2,  35.0334,2,   157.49,2,     4.07,2,     5.36,2,     0.10,2,    0.480,2, -999.000,9, -999.000,9,   -999.0,9,   -999.0,9,-999.0000,9,  -999.00,  -999.00,9,  -999.00,9,  23.0013,2,  23.9550,2,  23.0053,2
49UP20150724_1,   P04,    50,  1,     31,     515,2,20150807,2129,2346,  5.0195, 169.0112, 4546,    125.1,      124,  21.2089,  34.9547,2,    145.9,2,  34.9468,2,   147.10,2,     6.37,2,     7.89,2,     0.02,2,    0.650,2, -999.000,9, -999.000,9,   -999.0,9,   -999.0,9,-999.0000,9,  -999.00,  -999.00,9,  -999.00,9,  21.1848,2,  24.4091,2,  21.2150,2
49UP20150724_1,   P04,    50,  1,     30,     097,2,20150807,2129,2345,  5.0195, 169.0112, 4546,    152.5,      152,  18.0868,  34.7845,2,    137.9,2,  34.7839,2,   139.02,2,    10.14,2,    11.55,2,     0.01,2,    0.890,2, -999.000,9, -999.000,9,   -999.0,9,   -999.0,9,-999.0000,9,  -999.00,  -999.00,9,  -999.00,9,  18.0606,2,  25.0921,2,  18.0927,2
49UP20150724_1,   P04,    50,  1,     29,     102,2,20150807,2129,2343,  5.0195, 169.0112, 4546,    205.0,      204,  11.5092,  34.5532,2,     72.1,2,  34.5522,2,    72.57,2,    26.94,2,    26.90,2,     0.00,2,    1.980,2, -999.000,9, -999.000,9,   -999.0,9,   -999.0,9,-999.0000,9,  -999.00,  -999.00,9,  -999.00,9,  11.4833,2,  26.3392,2,  11.5085,2
49UP20150724_1,   P04,    50,  1,     28,     108,2,20150807,2129,2340,  5.0195, 169.0112, 4546,    252.7,      251,  10.1023,  34.6334,2,     43.6,2,  34.6329,2,    44.09,6,    32.51,6,    32.62,6,     0.00,6,    2.340,6, -999.000,9, -999.000,9,   -999.0,9,   -999.0,9,-999.0000,9,  -999.00,  -999.00,9,  -999.00,9,  10.0728,2,  26.6532,2,  10.1080,2
49UP20150724_1,   P04,    50,  1,     27,     998,2,20150807,2129,2338,  5.0195, 169.0112, 4546,    334.0,      332,   8.9286,  34.6275,2,     67.8,2,  34.6266,6,    67.91,2,    34.82,2,    33.04,2,     0.00,2,    2.330,2, -999.000,9, -999.000,9,   -999.0,9,   -999.0,9,-999.0000,9,  -999.00,  -999.00,9,  -999.00,9,   8.8924,2,  26.8436,2,   8.9281,2
49UP20150724_1,   P04,    50,  1,     26,     084,2,20150807,2129,2335,  5.0195, 169.0112, 4546,    435.2,      432,   8.2082,  34.6007,2,     73.6,2,  34.5998,2,    73.37,2,    38.24,2,    33.99,2,     0.00,2,    2.400,2, -999.000,9, -999.000,9,   -999.0,9,   -999.0,9,-999.0000,9,  -999.00,  -999.00,9,  -999.00,9,   8.1630,2,  26.9357,2,   8.2086,2
49UP20150724_1,   P04,    50,  1,     25,     098,2,20150807,2129,2331,  5.0195, 169.0112, 4546,    535.8,      532,   7.4123,  34.5692,2,     45.6,2,  34.5692,2,    45.73,2,    49.24,2,    37.78,2,     0.00,2,    2.720,2, -999.000,9, -999.000,9,   -999.0,9,   -999.0,9,-999.0000,9,  -999.00,  -999.00,9,  -999.00,9,   7.3596,2,  27.0289,2,   7.4125,2
49UP20150724_1,   P04,    50,  1,     24,     110,2,20150807,2129,2323,  5.0195, 169.0112, 4546,    636.0,      632,   6.3286,  34.5455,2,     46.9,2,  34.5454,2,    46.89,2,    62.14,2,    39.81,2,     0.00,2,    2.860,2, -999.000,9, -999.000,9,   -999.0,9,   -999.0,9,-999.0000,9,  -999.00,  -999.00,9,  -999.00,9,   6.2708,2,  27.1587,2,   6.3284,2
49UP20150724_1,   P04,    50,  1,     23,     096,2,20150807,2129,2319,  5.0195, 169.0112, 4546,    738.3,      733,   5.7543,  34.5460,2,     45.3,2,  34.5463,2,    45.01,2,    69.80,2,    41.28,2,     0.00,2,    2.960,2, -999.000,9, -999.000,9,   -999.0,9,   -999.0,9,-999.0000,9,  -999.00,  -999.00,9,  -999.00,9,   5.6899,2,  27.2328,2,   5.7543,2
49UP20150724_1,   P04,    50,  1,     21,     078,2,20150807,2129,2316,  5.0195, 169.0112, 4546,    839.6,      833,   5.1604,  34.5465,2,     56.9,2,  34.5464,2,    56.64,2,    79.26,2,    40.90,2,     0.00,2,    2.930,2, -999.000,9, -999.000,9,   -999.0,9,   -999.0,9,-999.0000,9,  -999.00,  -999.00,9,  -999.00,9,   5.0903,2,  27.3052,2,   5.1613,2
49UP20150724_1,   P04,    50,  1,     22,     111,2,20150807,2129,2316,  5.0195, 169.0112, 4546,    840.1,      834,   5.1591,  34.5466,2,     56.8,2,  34.5468,2,    56.96,2,    79.20,2,    40.85,2,     0.00,2,    2.920,2, -999.000,9, -999.000,9,   -999.0,9,   -999.0,9,-999.0000,9,  -999.00,  -999.00,9,  -999.00,9,   5.0890,2,  27.3054,2,   5.1592,2
49UP20150724_1,   P04,    50,  1,     20,     093,2,20150807,2129,2311,  5.0195, 169.0112, 4546,    935.8,      929,   4.4760,  34.5567,2,     73.4,2,  34.5575,2,    73.70,2,    90.02,2,    40.04,2,     0.00,2,    2.870,2, -999.000,9, -999.000,9,   -999.0,9,   -999.0,9,-999.0000,9,  -999.00,  -999.00,9,  -999.00,9,   4.4021,2,  27.3908,2,   4.4762,2
49UP20150724_1,   P04,    50,  1,     19,     092,2,20150807,2129,2309,  5.0195, 169.0112, 4546,   1074.7,     1066,   4.0881,  34.5672,2,     74.3,2,  34.5677,2,    74.41,2,    98.94,2,    40.35,2,     0.00,2,    2.900,2, -999.000,9, -999.000,9,   -999.0,9,   -999.0,9,-999.0000,9,  -999.00,  -999.00,9,  -999.00,9,   4.0053,2,  27.4413,2,   4.0891,2
49UP20150724_1,   P04,    50,  1,     18,     101,2,20150807,2129,2305,  5.0195, 169.0112, 4546,   1279.9,     1269,   3.5638,  34.5819,2,     80.0,2,  34.5827,2,    80.58,2,   110.57,2,    40.21,2,     0.00,2,    2.880,2, -999.000,9, -999.000,9,   -999.0,9,   -999.0,9,-999.0000,9,  -999.00,  -999.00,9,  -999.00,9,   3.4684,2,  27.5070,2,   3.5633,2
49UP20150724_1,   P04,    50,  1,     17,     090,2,20150807,2129,2258,  5.0195, 169.0112, 4546,   1482.3,     1469,   3.0280,  34.6020,2,     87.8,2,  34.6018,2,    88.40,6,   121.98,6,    39.97,6,     0.00,6,    2.850,6, -999.000,9, -999.000,9,   -999.0,9,   -999.0,9,-999.0000,9,  -999.00,  -999.00,9,  -999.00,9,   2.9212,2,  27.5746,2,   3.0275,2
49UP20150724_1,   P04,    50,  1,     16,     089,2,20150807,2129,2254,  5.0195, 169.0112, 4546,   1685.0,     1669,   2.6417,  34.6174,2,     98.0,2,  34.6175,6,    98.57,2,   129.80,2,    39.35,2,     0.00,2,    2.800,2, -999.000,9, -999.000,9,   -999.0,9,   -999.0,9,-999.0000,9,  -999.00,  -999.00,9,  -999.00,9,   2.5227,2,  27.6221,2,   2.6418,2
49UP20150724_1,   P04,    50,  1,     14,     999,2,20150807,2129,2249,  5.0195, 169.0112, 4546,   1891.2,     1872,   2.3465,  34.6315,2,    103.4,2,  34.6309,2,   103.49,2,   136.88,2,    39.09,2,     0.00,2,    2.770,2, -999.000,9, -999.000,9,   -999.0,9,   -999.0,9,-999.0000,9,  -999.00,  -999.00,9,  -999.00,9,   2.2141,2,  27.6592,2,   2.3458,2
49UP20150724_1,   P04,    50,  1,     15,     088,2,20150807,2129,2250,  5.0195, 169.0112, 4546,   1891.3,     1872,   2.3464,  34.6314,2,    103.4,2,  34.6312,2,   104.11,2,   136.63,2,    39.08,2,     0.00,2,    2.760,2, -999.000,9, -999.000,9,   -999.0,9,   -999.0,9,-999.0000,9,  -999.00,  -999.00,9,  -999.00,9,   2.2140,2,  27.6591,2,   2.3459,2
49UP20150724_1,   P04,    50,  1,     13,     667,2,20150807,2129,2241,  5.0195, 169.0112, 4546,   2093.4,     2071,   2.1206,  34.6441,2,    110.3,2,  34.6397,4,   110.47,2,   141.58,2,    38.71,2,     0.00,2,    2.730,2, -999.000,9, -999.000,9,   -999.0,9,   -999.0,9,-999.0000,9,  -999.00,  -999.00,9,  -999.00,9,   1.9743,2,  27.6885,2,   2.1207,2
49UP20150724_1,   P04,    50,  1,     12,     074,2,20150807,2129,2236,  5.0195, 169.0112, 4546,   2296.8,     2272,   1.9627,  34.6531,2,    115.3,2,  34.6530,2,   115.51,2,   144.74,2,    38.42,2,     0.00,2,    2.700,2, -999.000,9, -999.000,9,   -999.0,9,   -999.0,9,-999.0000,9,  -999.00,  -999.00,9,  -999.00,9,   1.8013,2,  27.7092,2,   1.9625,2
49UP20150724_1,   P04,    50,  1,     11,     268,2,20150807,2129,2231,  5.0195, 169.0112, 4546,   2500.7,     2472,   1.8514,  34.6597,2,    120.6,2,  34.6596,6,   120.50,6,   146.60,6,    38.10,6,     0.00,6,    2.670,6, -999.000,9, -999.000,9,   -999.0,9,   -999.0,9,-999.0000,9,  -999.00,  -999.00,9,  -999.00,9,   1.6738,2,  27.7242,2,   1.8514,2
49UP20150724_1,   P04,    50,  1,     10,     267,2,20150807,2129,2222,  5.0195, 169.0112, 4546,   2701.1,     2669,   1.7616,  34.6646,2,    126.4,2,  34.6645,2,   126.39,2,   146.79,2,    37.69,2,     0.00,2,    2.640,2, -999.000,9, -999.000,9,   -999.0,9,   -999.0,9,-999.0000,9,  -999.00,  -999.00,9,  -999.00,9,   1.5674,2,  27.7361,2,   1.7612,2
49UP20150724_1,   P04,    50,  1,      9,     518,2,20150807,2129,2218,  5.0195, 169.0112, 4546,   2905.4,     2870,   1.6890,  34.6688,2,    132.1,2,  34.6685,2,   132.04,2,   146.19,2,    37.26,2,     0.00,2,    2.610,2, -999.000,9, -999.000,9,   -999.0,9,   -999.0,9,-999.0000,9,  -999.00,  -999.00,9,  -999.00,9,   1.4771,2,  27.7460,2,   1.6889,2
49UP20150724_1,   P04,    50,  1,      8,     081,2,20150807,2129,2212,  5.0195, 169.0112, 4546,   3122.3,     3082,   1.6279,  34.6730,2,    137.7,2,  34.6722,2,   137.69,2,   145.70,2,    36.95,2,     0.00,2,    2.570,2, -999.000,9, -999.000,9,   -999.0,9,   -999.0,9,-999.0000,9,  -999.00,  -999.00,9,  -999.00,9,   1.3965,2,  27.7552,2,   1.6279,2
49UP20150724_1,   P04,    50,  1,      7,     516,2,20150807,2129,2203,  5.0195, 169.0112, 4546,   3377.7,     3332,   1.5655,  34.6778,2,    144.0,2,  34.6777,2,   144.01,6,   144.48,6,    36.53,6,     0.00,6,    2.540,6, -999.000,9, -999.000,9,   -999.0,9,   -999.0,9,-999.0000,9,  -999.00,  -999.00,9,  -999.00,9,   1.3102,2,  27.7652,2,   1.5654,2
49UP20150724_1,   P04,    50,  1,      6,     113,2,20150807,2129,2157,  5.0195, 169.0112, 4546,   3630.6,     3580,   1.5178,  34.6821,2,    150.2,2,  34.6821,6,   149.97,2,   143.12,2,    36.06,2,     0.00,2,    2.500,2, -999.000,9, -999.000,9,   -999.0,9,   -999.0,9,-999.0000,9,  -999.00,  -999.00,9,  -999.00,9,   1.2377,2,  27.7737,2,   1.5178,2
49UP20150724_1,   P04,    50,  1,      5,     094,2,20150807,2129,2147,  5.0195, 169.0112, 4546,   3880.8,     3824,   1.4389,  34.6886,2,    160.4,2,  34.6881,2,   160.16,2,   139.20,2,    35.38,2,     0.00,2,    2.460,2, -999.000,9, -999.000,9,   -999.0,9,   -999.0,9,-999.0000,9,  -999.00,  -999.00,9,  -999.00,9,   1.1345,2,  27.7861,2,   1.4388,2
49UP20150724_1,   P04,    50,  1,      4,     471,2,20150807,2129,2147,  5.0195, 169.0112, 4546,   3884.3,     3828,   1.4392,  34.6885,2,    160.5,2,  34.6891,2,   160.59,2,   139.45,2,    35.38,2,     0.00,2,    2.460,2, -999.000,9, -999.000,9,   -999.0,9,   -999.0,9,-999.0000,9,  -999.00,  -999.00,9,  -999.00,9,   1.1345,2,  27.7860,2,   1.4389,2
49UP20150724_1,   P04,    50,  1,      3,     104,2,20150807,2129,2140,  5.0195, 169.0112, 4546,   4142.8,     4080,   1.3903,  34.6937,2,    169.5,2,  34.6940,2,   169.70,2,   134.68,2,    34.70,2,     0.00,2,    2.400,2, -999.000,9, -999.000,9,   -999.0,9,   -999.0,9,-999.0000,9,  -999.00,  -999.00,9,  -999.00,9,   1.0589,2,  27.7953,2,   1.3903,2
49UP20150724_1,   P04,    50,  1,      2,     075,4,20150807,2129,2134,  5.0195, 169.0112, 4546,   4397.0,     4328,   1.3753,  34.6966,2,    175.8,2,  34.6078,4,    90.89,4,   124.74,4,    39.79,4,     0.00,4,    2.830,4, -999.000,9, -999.000,9,   -999.0,9,   -999.0,9,-999.0000,9,  -999.00,  -999.00,9,  -999.00,9,   1.0159,2,  27.8005,2,   1.3750,2
49UP20150724_1,   P04,    50,  1,      1,     997,2,20150807,2129,2129,  5.0195, 169.0112, 4546,   4605.9,     4531,   1.3654,  34.6986,2,    179.5,2,  34.6993,2,   179.86,2,   129.20,2,    34.00,2,     0.00,2,    2.340,2, -999.000,9, -999.000,9,   -999.0,9,   -999.0,9,-999.0000,9,  -999.00,  -999.00,9,  -999.00,9,   0.9823,2,  27.8044,2,   1.3649,2