BOTTLE,20191113JMAGEMD
EXPOCODE,SECT_ID,STNNBR,CASTNO,SAMPNO,BTLNBR,BTLNBR_FLAG_U,DATE,TIME,BTL_TIME,LATITUDE,LONGITUDE,DEPTH,CTDPRS,CTDDEP,CTDTMP,CTDSAL,CTDSAL_FLAG_W,CTDOXY,CTDOXY_FLAG_W,SALNTY,SALNTY_FLAG_W,OXYGEN,OXYGEN_FLAG_W,SILCAT,SILCAT_FLAG_W,NO2+NO3,NO2+NO3_FLAG_W,NITRIT,NITRIT_FLAG_W,PHSPHT,PHSPHT_FLAG_W,CFC-11,CFC-11_FLAG_W,CFC-12,CFC-12_FLAG_W,TCARBN,TCARBN_FLAG_W,ALKALI,ALKALI_FLAG_W,PH_TS,PH_TS_FLAG_W,PH_TS_TMP,CHLORA,CHLORA_FLAG_W,PPHYTN,PPHYTN_FLAG_W,THETA,THETA_FLAG_W,SIGTHT,SIGTHT_FLAG_W,SBE35,SBE35_FLAG_W
,,,,,,,,UTC,,,,METER,DBAR,METERS,ITS-90,PSS-78,,UMOL/KG,,PSS78,,UMOL/KG,,UMOL/KG,,UMOL/KG,,UMOL/KG,,UMOL/KG,,PMOL/KG,,PMOL/KG,,UMOL/KG,,UMOL/KG,,,,ITS-90,UG/KG,,UG/KG,,ITS-90,,KG/M3,,ITS-90,
49UP20150724_2,   P04,     8,  1,      0,      -9,0,20150901,1902,1948,  9.2405, 142.2033, 2275,      0.0,        0,  28.8781,  33.7266,2,    196.4,2,-999.0000,9,   197.36,2,     0.99,2,     0.03,2,     0.00,2,    0.090,2, -999.000,9, -999.000,9,   -999.0,9,   -999.0,9,-999.0000,9,  -999.00,  -999.00,9,  -999.00,9,  28.8775,2,  21.1490,2,-999.0000,9
49UP20150724_2,   P04,     8,  1,     36,     109,2,20150901,1902,2012,  9.2405, 142.2033, 2275,     10.6,       11,  28.8926,  33.7263,2,    196.1,2,  33.7272,2,   196.64,2,     1.03,2,     0.05,2,     0.00,2,    0.060,2, -999.000,9, -999.000,9,   -999.0,9,   -999.0,9,-999.0000,9,  -999.00,  -999.00,9,  -999.00,9,  28.8901,2,  21.1446,2,  28.8912,2
49UP20150724_2,   P04,     8,  1,     34,     094,2,20150901,1902,2010,  9.2405, 142.2033, 2275,     26.8,       27,  27.9523,  34.2396,2,    200.0,2,  34.2662,4,   201.08,2,     1.24,2,     0.02,2,     0.00,2,    0.110,2, -999.000,9, -999.000,9,   -999.0,9,   -999.0,9,-999.0000,9,  -999.00,  -999.00,9,  -999.00,9,  27.9460,2,  21.8405,2,  27.9507,2
49UP20150724_2,   P04,     8,  1,     35,     112,2,20150901,1902,2010,  9.2405, 142.2033, 2275,     27.0,       27,  27.9416,  34.2441,2,    200.2,2,  34.2448,2,   200.93,2,     1.20,2,     0.02,2,     0.00,2,    0.090,2, -999.000,9, -999.000,9,   -999.0,9,   -999.0,9,-999.0000,9,  -999.00,  -999.00,9,  -999.00,9,  27.9353,2,  21.8474,2,  27.9436,2
49UP20150724_2,   P04,     8,  1,     30,     097,2,20150901,1902,2008,  9.2405, 142.2033, 2275,     51.8,       52,  23.1693,  34.9006,2,    198.0,2,  34.9056,2,   198.56,2,     2.33,2,     0.13,2,     0.01,2,    0.220,2, -999.000,9, -999.000,9,   -999.0,9,   -999.0,9,-999.0000,9,  -999.00,  -999.00,9,  -999.00,9,  23.1587,2,  23.8124,2,  23.1671,2
49UP20150724_2,   P04,     8,  1,     29,     102,2,20150901,1902,2007,  9.2405, 142.2033, 2275,     76.4,       76,  17.6967,  34.7649,2,    174.7,2,  34.7644,2,   175.33,2,     5.38,2,     6.46,2,     0.07,2,    0.520,2, -999.000,9, -999.000,9,   -999.0,9,   -999.0,9,-999.0000,9,  -999.00,  -999.00,9,  -999.00,9,  17.6838,2,  25.1694,2,  17.6995,2
49UP20150724_2,   P04,     8,  1,     28,     108,2,20150901,1902,2003,  9.2405, 142.2033, 2275,    101.4,      101,  14.9698,  34.5244,2,    170.3,2,  34.5248,2,   171.30,6,     9.46,6,    10.56,6,     0.03,6,    0.790,6, -999.000,9, -999.000,9,   -999.0,9,   -999.0,9,-999.0000,9,  -999.00,  -999.00,9,  -999.00,9,  14.9546,2,  25.6151,2,  14.9505,2
49UP20150724_2,   P04,     8,  1,     27,     998,2,20150901,1902,2002,  9.2405, 142.2033, 2275,    126.5,      126,  13.2690,  34.4251,2,    148.6,2,  34.4272,2,   146.98,2,    15.07,2,    15.60,2,     0.01,2,    1.150,2, -999.000,9, -999.000,9,   -999.0,9,   -999.0,9,-999.0000,9,  -999.00,  -999.00,9,  -999.00,9,  13.2515,2,  25.8969,2,  13.2690,2
49UP20150724_2,   P04,     8,  1,     26,     084,2,20150901,1902,2001,  9.2405, 142.2033, 2275,    151.3,      150,  12.1895,  34.4223,2,    110.8,2,  34.4230,6,   109.41,2,    21.57,2,    21.35,2,     0.00,2,    1.610,2, -999.000,9, -999.000,9,   -999.0,9,   -999.0,9,-999.0000,9,  -999.00,  -999.00,9,  -999.00,9,  12.1697,2,  26.1080,2,  12.1922,2
49UP20150724_2,   P04,     8,  1,     25,     098,2,20150901,1902,1959,  9.2405, 142.2033, 2275,    175.4,      174,  11.1495,  34.5030,2,     87.9,2,  34.5063,2,    88.01,2,    28.54,2,    26.14,2,     0.00,2,    1.890,2, -999.000,9, -999.000,9,   -999.0,9,   -999.0,9,-999.0000,9,  -999.00,  -999.00,9,  -999.00,9,  11.1278,2,  26.3653,2,  11.1493,2
49UP20150724_2,   P04,     8,  1,     24,     110,2,20150901,1902,1958,  9.2405, 142.2033, 2275,    201.2,      200,  10.1008,  34.5240,2,     77.7,2,  34.5243,2,    77.51,2,    33.45,2,    29.16,2,     0.00,2,    2.100,2, -999.000,9, -999.000,9,   -999.0,9,   -999.0,9,-999.0000,9,  -999.00,  -999.00,9,  -999.00,9,  10.0775,2,  26.5670,2,  10.1041,2
49UP20150724_2,   P04,     8,  1,     22,     111,2,20150901,1902,1956,  9.2405, 142.2033, 2275,    251.4,      250,   9.0652,  34.4920,2,     75.0,2,  34.4917,2,    74.68,2,    38.95,2,    31.16,2,     0.00,2,    2.230,2, -999.000,9, -999.000,9,   -999.0,9,   -999.0,9,-999.0000,9,  -999.00,  -999.00,9,  -999.00,9,   9.0379,2,  26.7142,2,   9.0669,2
49UP20150724_2,   P04,     8,  1,     21,     078,2,20150901,1902,1954,  9.2405, 142.2033, 2275,    301.9,      300,   8.5050,  34.5156,2,     78.2,2,  34.5151,2,    78.19,2,    41.65,2,    32.13,2,     0.00,2,    2.290,2, -999.000,9, -999.000,9,   -999.0,9,   -999.0,9,-999.0000,9,  -999.00,  -999.00,9,  -999.00,9,   8.4733,2,  26.8216,2,   8.5093,2
49UP20150724_2,   P04,     8,  1,     20,     093,2,20150901,1902,1951,  9.2405, 142.2033, 2275,    404.1,      401,   7.6576,  34.5242,2,     86.7,2,  34.5232,2,    86.55,2,    45.86,2,    33.18,2,     0.00,2,    2.360,2, -999.000,9, -999.000,9,   -999.0,9,   -999.0,9,-999.0000,9,  -999.00,  -999.00,9,  -999.00,9,   7.6174,2,  26.9564,2,   7.6579,2
49UP20150724_2,   P04,     8,  1,     19,     092,2,20150901,1902,1949,  9.2405, 142.2033, 2275,    503.0,      500,   7.1327,  34.5153,2,     92.4,2,  34.5143,2,    91.98,2,    50.11,2,    33.65,2,     0.00,2,    2.400,2, -999.000,9, -999.000,9,   -999.0,9,   -999.0,9,-999.0000,9,  -999.00,  -999.00,9,  -999.00,9,   7.0844,2,  27.0252,2,   7.1329,2
49UP20150724_2,   P04,     8,  1,     17,     090,2,20150901,1902,1946,  9.2405, 142.2033, 2275,    605.1,      601,   6.6477,  34.5122,2,     92.0,2,  34.5113,2,    91.96,2,    55.65,2,    34.51,2,     0.00,2,    2.470,2, -999.000,9, -999.000,9,   -999.0,9,   -999.0,9,-999.0000,9,  -999.00,  -999.00,9,  -999.00,9,   6.5915,2,  27.0901,2,   6.6478,2
49UP20150724_2,   P04,     8,  1,     18,     101,2,20150901,1902,1946,  9.2405, 142.2033, 2275,    605.3,      601,   6.6476,  34.5122,2,     92.0,2,  34.5115,2,    91.83,2,    55.65,2,    34.51,2,     0.00,2,    2.460,2, -999.000,9, -999.000,9,   -999.0,9,   -999.0,9,-999.0000,9,  -999.00,  -999.00,9,  -999.00,9,   6.5912,2,  27.0901,2,   6.6479,2
49UP20150724_2,   P04,     8,  1,     16,     089,2,20150901,1902,1943,  9.2405, 142.2033, 2275,    706.5,      701,   6.2001,  34.5160,2,     91.4,2,  34.5158,2,    91.26,6,    61.47,6,    35.42,6,     0.00,6,    2.550,6, -999.000,9, -999.000,9,   -999.0,9,   -999.0,9,-999.0000,9,  -999.00,  -999.00,9,  -999.00,9,   6.1363,2,  27.1527,2,   6.2002,2
49UP20150724_2,   P04,     8,  1,     15,     088,2,20150901,1902,1940,  9.2405, 142.2033, 2275,    808.1,      802,   5.5056,  34.5285,2,     86.5,2,  34.5281,6,    86.01,2,    72.94,2,    36.89,2,     0.00,2,    2.650,2, -999.000,9, -999.000,9,   -999.0,9,   -999.0,9,-999.0000,9,  -999.00,  -999.00,9,  -999.00,9,   5.4362,2,  27.2499,2,   5.5061,2
49UP20150724_2,   P04,     8,  1,     14,     999,2,20150901,1902,1937,  9.2405, 142.2033, 2275,    907.8,      901,   5.0612,  34.5379,2,     87.0,2,  34.5372,2,    86.68,2,    81.09,2,    37.51,2,     0.00,2,    2.690,2, -999.000,9, -999.000,9,   -999.0,9,   -999.0,9,-999.0000,9,  -999.00,  -999.00,9,  -999.00,9,   4.9857,2,  27.3105,2,   5.0608,2
49UP20150724_2,   P04,     8,  1,     13,     667,2,20150901,1902,1934,  9.2405, 142.2033, 2275,   1009.6,     1001,   4.5300,  34.5495,2,     87.1,2,  34.5494,2,    86.93,2,    91.31,2,    38.08,2,     0.00,2,    2.740,2, -999.000,9, -999.000,9,   -999.0,9,   -999.0,9,-999.0000,9,  -999.00,  -999.00,9,  -999.00,9,   4.4494,2,  27.3799,2,   4.5302,2
49UP20150724_2,   P04,     8,  1,     12,     074,2,20150901,1902,1930,  9.2405, 142.2033, 2275,   1213.0,     1203,   3.7574,  34.5696,2,     91.8,2,  34.5699,6,    91.26,2,   107.07,2,    38.57,2,     0.00,2,    2.770,2, -999.000,9, -999.000,9,   -999.0,9,   -999.0,9,-999.0000,9,  -999.00,  -999.00,9,  -999.00,9,   3.6659,2,  27.4778,2,   3.7578,2
49UP20150724_2,   P04,     8,  1,     11,     268,2,20150901,1902,1924,  9.2405, 142.2033, 2275,   1414.2,     1401,   3.1647,  34.5883,2,     95.9,2,  34.5883,2,    95.62,2,   119.29,2,    38.80,2,     0.00,2,    2.790,2, -999.000,9, -999.000,9,   -999.0,9,   -999.0,9,-999.0000,9,  -999.00,  -999.00,9,  -999.00,9,   3.0622,2,  27.5507,2,   3.1649,2
49UP20150724_2,   P04,     8,  1,     10,     267,2,20150901,1902,1919,  9.2405, 142.2033, 2275,   1616.4,     1601,   2.7414,  34.6053,2,    101.8,2,  34.6064,6,   101.45,2,   128.07,2,    38.75,2,     0.00,2,    2.770,2, -999.000,9, -999.000,9,   -999.0,9,   -999.0,9,-999.0000,9,  -999.00,  -999.00,9,  -999.00,9,   2.6269,2,  27.6034,2,   2.7417,2
49UP20150724_2,   P04,     8,  1,      8,     081,2,20150901,1902,1915,  9.2405, 142.2033, 2275,   1818.8,     1801,   2.4090,  34.6218,2,    108.3,2,  34.6215,2,   108.08,6,   134.32,6,    38.49,6,     0.00,6,    2.740,6, -999.000,9, -999.000,9,   -999.0,9,   -999.0,9,-999.0000,9,  -999.00,  -999.00,9,  -999.00,9,   2.2818,2,  27.6458,2,   2.4093,2
49UP20150724_2,   P04,     8,  1,      6,     113,2,20150901,1902,1909,  9.2405, 142.2033, 2275,   2021.6,     2001,   2.2320,  34.6311,2,    114.0,2,  34.6326,2,   113.72,2,   137.15,2,    38.20,2,     0.00,2,    2.730,2, -999.000,9, -999.000,9,   -999.0,9,   -999.0,9,-999.0000,9,  -999.00,  -999.00,9,  -999.00,9,   2.0902,2,  27.6690,2,   2.2321,2
49UP20150724_2,   P04,     8,  1,      7,     516,2,20150901,1902,1909,  9.2405, 142.2033, 2275,   2022.1,     2001,   2.2302,  34.6313,2,    114.1,2,  34.6315,2,   113.80,2,   137.28,2,    38.19,2,     0.00,2,    2.710,2, -999.000,9, -999.000,9,   -999.0,9,   -999.0,9,-999.0000,9,  -999.00,  -999.00,9,  -999.00,9,   2.0884,2,  27.6693,2,   2.2302,2
49UP20150724_2,   P04,     8,  1,      5,     658,2,20150901,1902,1903,  9.2405, 142.2033, 2275,   2266.8,     2242,   1.9573,  34.6477,2,    125.0,2,  34.6484,6,   124.85,2,   140.18,2,    37.62,2,     0.00,2,    2.670,2, -999.000,9, -999.000,9,   -999.0,9,   -999.0,9,-999.0000,9,  -999.00,  -999.00,9,  -999.00,9,   1.7986,2,  27.7051,2,   1.9570,2