BOTTLE,20191113JMAGEMD
EXPOCODE,SECT_ID,STNNBR,CASTNO,SAMPNO,BTLNBR,BTLNBR_FLAG_U,DATE,TIME,BTL_TIME,LATITUDE,LONGITUDE,DEPTH,CTDPRS,CTDDEP,CTDTMP,CTDSAL,CTDSAL_FLAG_W,CTDOXY,CTDOXY_FLAG_W,SALNTY,SALNTY_FLAG_W,OXYGEN,OXYGEN_FLAG_W,SILCAT,SILCAT_FLAG_W,NO2+NO3,NO2+NO3_FLAG_W,NITRIT,NITRIT_FLAG_W,PHSPHT,PHSPHT_FLAG_W,CFC-11,CFC-11_FLAG_W,CFC-12,CFC-12_FLAG_W,TCARBN,TCARBN_FLAG_W,ALKALI,ALKALI_FLAG_W,PH_TS,PH_TS_FLAG_W,PH_TS_TMP,CHLORA,CHLORA_FLAG_W,PPHYTN,PPHYTN_FLAG_W,THETA,THETA_FLAG_W,SIGTHT,SIGTHT_FLAG_W,SBE35,SBE35_FLAG_W
,,,,,,,,UTC,,,,METER,DBAR,METERS,ITS-90,PSS-78,,UMOL/KG,,PSS78,,UMOL/KG,,UMOL/KG,,UMOL/KG,,UMOL/KG,,UMOL/KG,,PMOL/KG,,PMOL/KG,,UMOL/KG,,UMOL/KG,,,,ITS-90,UG/KG,,UG/KG,,ITS-90,,KG/M3,,ITS-90,
49UP20150724_2,   P04,     5,  1,      0,      -9,0,20150902,1428,1605,  8.9893, 139.5890, 4041,      0.0,        0,  28.9484,  33.9575,2,    196.8,2,-999.0000,9,   196.71,2,     0.98,2,     0.02,2,     0.00,2,    0.060,2, -999.000,9, -999.000,9,   -999.0,9,   -999.0,9,-999.0000,9,  -999.00,  -999.00,9,  -999.00,9,  28.9477,2,  21.2989,2,-999.0000,9
49UP20150724_2,   P04,     5,  1,     36,     109,2,20150902,1428,1626,  8.9893, 139.5890, 4041,     10.8,       11,  28.9693,  33.9585,2,    196.6,2,  33.9590,2,   196.50,2,     0.98,2,     0.02,2,     0.00,2,    0.050,2, -999.000,9, -999.000,9,   -999.0,9,   -999.0,9,-999.0000,9,  -999.00,  -999.00,9,  -999.00,9,  28.9667,2,  21.2934,2,  28.9680,2
49UP20150724_2,   P04,     5,  1,     35,     112,2,20150902,1428,1625,  8.9893, 139.5890, 4041,     25.6,       25,  29.1087,  34.1002,2,    195.9,2,  34.0996,2,   196.57,2,     0.88,2,     0.04,2,     0.00,2,    0.040,2, -999.000,9, -999.000,9,   -999.0,9,   -999.0,9,-999.0000,9,  -999.00,  -999.00,9,  -999.00,9,  29.1025,2,  21.3545,2,  29.1043,2
49UP20150724_2,   P04,     5,  1,     34,     094,2,20150902,1428,1621,  8.9893, 139.5890, 4041,     51.4,       51,  25.6071,  34.7184,2,    198.0,2,  34.7322,2,   198.52,2,     1.79,2,     0.04,2,     0.00,2,    0.150,2, -999.000,9, -999.000,9,   -999.0,9,   -999.0,9,-999.0000,9,  -999.00,  -999.00,9,  -999.00,9,  25.5958,2,  22.9461,2,  25.6073,2
49UP20150724_2,   P04,     5,  1,     32,     105,2,20150902,1428,1620,  8.9893, 139.5890, 4041,     78.3,       78,  20.5442,  35.0052,2,    179.0,2,  35.0070,2,   179.85,2,     3.04,2,     3.06,2,     0.04,2,    0.320,2, -999.000,9, -999.000,9,   -999.0,9,   -999.0,9,-999.0000,9,  -999.00,  -999.00,9,  -999.00,9,  20.5295,2,  24.6249,2,  20.5423,2
49UP20150724_2,   P04,     5,  1,     31,     515,2,20150902,1428,1619,  8.9893, 139.5890, 4041,    102.3,      102,  18.6380,  34.8272,2,    170.0,2,  34.8334,2,   171.16,2,     4.97,2,     5.89,2,     0.04,2,    0.500,2, -999.000,9, -999.000,9,   -999.0,9,   -999.0,9,-999.0000,9,  -999.00,  -999.00,9,  -999.00,9,  18.6201,2,  24.9853,2,  18.6372,2
49UP20150724_2,   P04,     5,  1,     30,     097,2,20150902,1428,1617,  8.9893, 139.5890, 4041,    126.3,      126,  14.7965,  34.5181,2,    162.4,2,  34.5182,2,   160.58,2,    10.73,2,    11.87,2,     0.01,2,    0.890,2, -999.000,9, -999.000,9,   -999.0,9,   -999.0,9,-999.0000,9,  -999.00,  -999.00,9,  -999.00,9,  14.7776,2,  25.6488,2,  14.7974,2
49UP20150724_2,   P04,     5,  1,     29,     102,2,20150902,1428,1616,  8.9893, 139.5890, 4041,    151.2,      150,  12.5831,  34.4391,2,    114.3,2,  34.4391,6,   114.05,2,    19.92,2,    20.08,2,     0.00,2,    1.500,2, -999.000,9, -999.000,9,   -999.0,9,   -999.0,9,-999.0000,9,  -999.00,  -999.00,9,  -999.00,9,  12.5629,2,  26.0448,2,  12.5830,2
49UP20150724_2,   P04,     5,  1,     28,     108,2,20150902,1428,1615,  8.9893, 139.5890, 4041,    176.4,      175,  11.5792,  34.4435,2,    100.4,2,  34.4439,2,   100.65,6,    25.38,6,    23.51,6,     0.00,6,    1.730,6, -999.000,9, -999.000,9,   -999.0,9,   -999.0,9,-999.0000,9,  -999.00,  -999.00,9,  -999.00,9,  11.5569,2,  26.2402,2,  11.5871,2
49UP20150724_2,   P04,     5,  1,     27,     998,2,20150902,1428,1613,  8.9893, 139.5890, 4041,    202.6,      201,  10.4794,  34.4409,2,     88.5,2,  34.4447,2,    87.29,2,    31.56,2,    27.14,2,     0.00,2,    1.970,2, -999.000,9, -999.000,9,   -999.0,9,   -999.0,9,-999.0000,9,  -999.00,  -999.00,9,  -999.00,9,  10.4553,2,  26.4368,2,  10.4736,2
49UP20150724_2,   P04,     5,  1,     26,     084,2,20150902,1428,1611,  8.9893, 139.5890, 4041,    252.1,      251,   9.4767,  34.5085,2,     78.5,2,  34.5091,6,    79.64,2,    36.94,2,    30.19,2,     0.00,2,    2.160,2, -999.000,9, -999.000,9,   -999.0,9,   -999.0,9,-999.0000,9,  -999.00,  -999.00,9,  -999.00,9,   9.4485,2,  26.6605,2,   9.4788,2
49UP20150724_2,   P04,     5,  1,     25,     098,2,20150902,1428,1610,  8.9893, 139.5890, 4041,    302.9,      301,   8.5502,  34.5312,2,     89.7,2,  34.5311,2,    89.41,2,    39.73,2,    31.13,2,     0.00,2,    2.210,2, -999.000,9, -999.000,9,   -999.0,9,   -999.0,9,-999.0000,9,  -999.00,  -999.00,9,  -999.00,9,   8.5183,2,  26.8268,2,   8.5507,2
49UP20150724_2,   P04,     5,  1,     23,     096,2,20150902,1428,1607,  8.9893, 139.5890, 4041,    403.3,      401,   7.8928,  34.5389,2,     90.1,2,  34.5388,2,    90.60,2,    42.76,2,    32.48,2,     0.00,2,    2.300,2, -999.000,9, -999.000,9,   -999.0,9,   -999.0,9,-999.0000,9,  -999.00,  -999.00,9,  -999.00,9,   7.8520,2,  26.9337,2,   7.8937,2
49UP20150724_2,   P04,     5,  1,     24,     110,2,20150902,1428,1607,  8.9893, 139.5890, 4041,    404.9,      402,   7.8908,  34.5390,2,     89.8,2,  34.5388,2,    90.78,2,    42.81,2,    32.55,2,     0.00,2,    2.300,2, -999.000,9, -999.000,9,   -999.0,9,   -999.0,9,-999.0000,9,  -999.00,  -999.00,9,  -999.00,9,   7.8499,2,  26.9341,2,   7.8909,2
49UP20150724_2,   P04,     5,  1,     22,     111,2,20150902,1428,1604,  8.9893, 139.5890, 4041,    503.7,      500,   7.1090,  34.5257,2,     96.0,2,  34.5257,2,    96.11,6,    48.73,6,    33.46,6,     0.00,6,    2.370,6, -999.000,9, -999.000,9,   -999.0,9,   -999.0,9,-999.0000,9,  -999.00,  -999.00,9,  -999.00,9,   7.0607,2,  27.0367,2,   7.1095,2
49UP20150724_2,   P04,     5,  1,     21,     078,2,20150902,1428,1601,  8.9893, 139.5890, 4041,    606.7,      602,   6.4603,  34.5241,2,     94.3,2,  34.5241,6,    94.46,2,    55.96,2,    34.87,2,     0.00,2,    2.480,2, -999.000,9, -999.000,9,   -999.0,9,   -999.0,9,-999.0000,9,  -999.00,  -999.00,9,  -999.00,9,   6.4047,2,  27.1243,2,   6.4608,2
49UP20150724_2,   P04,     5,  1,     20,     093,2,20150902,1428,1558,  8.9893, 139.5890, 4041,    705.4,      700,   5.6976,  34.5263,2,     90.1,2,  34.5264,2,    90.07,2,    69.15,2,    36.38,2,     0.00,2,    2.600,2, -999.000,9, -999.000,9,   -999.0,9,   -999.0,9,-999.0000,9,  -999.00,  -999.00,9,  -999.00,9,   5.6366,2,  27.2237,2,   5.6996,2
49UP20150724_2,   P04,     5,  1,     19,     092,2,20150902,1428,1554,  8.9893, 139.5890, 4041,    806.8,      801,   5.1186,  34.5381,2,     87.1,2,  34.5381,2,    87.39,2,    79.88,2,    37.55,2,     0.00,2,    2.690,2, -999.000,9, -999.000,9,   -999.0,9,   -999.0,9,-999.0000,9,  -999.00,  -999.00,9,  -999.00,9,   5.0518,2,  27.3030,2,   5.1182,2
49UP20150724_2,   P04,     5,  1,     18,     101,2,20150902,1428,1551,  8.9893, 139.5890, 4041,    907.8,      901,   4.6456,  34.5492,2,     87.5,2,  34.5496,6,    87.49,2,    88.62,2,    38.09,2,     0.00,2,    2.720,2, -999.000,9, -999.000,9,   -999.0,9,   -999.0,9,-999.0000,9,  -999.00,  -999.00,9,  -999.00,9,   4.5729,2,  27.3662,2,   4.6456,2
49UP20150724_2,   P04,     5,  1,     17,     090,2,20150902,1428,1548,  8.9893, 139.5890, 4041,   1009.8,     1002,   4.2338,  34.5587,2,     89.3,2,  34.5580,2,    89.30,2,    96.81,2,    38.37,2,     0.00,2,    2.740,2, -999.000,9, -999.000,9,   -999.0,9,   -999.0,9,-999.0000,9,  -999.00,  -999.00,9,  -999.00,9,   4.1554,2,  27.4189,2,   4.2341,2
49UP20150724_2,   P04,     5,  1,     16,     089,2,20150902,1428,1543,  8.9893, 139.5890, 4041,   1210.2,     1200,   3.6381,  34.5764,2,     92.3,2,  34.5764,2,    92.71,2,   108.57,2,    38.68,2,     0.00,2,    2.760,2, -999.000,9, -999.000,9,   -999.0,9,   -999.0,9,-999.0000,9,  -999.00,  -999.00,9,  -999.00,9,   3.5478,2,  27.4949,2,   3.6385,2
49UP20150724_2,   P04,     5,  1,     15,     088,2,20150902,1428,1537,  8.9893, 139.5890, 4041,   1412.5,     1400,   3.2251,  34.5872,2,     96.5,2,  34.5880,2,    96.62,2,   117.78,2,    38.69,2,     0.00,2,    2.760,2, -999.000,9, -999.000,9,   -999.0,9,   -999.0,9,-999.0000,9,  -999.00,  -999.00,9,  -999.00,9,   3.1220,2,  27.5443,2,   3.2248,2
49UP20150724_2,   P04,     5,  1,     14,     999,2,20150902,1428,1537,  8.9893, 139.5890, 4041,   1413.0,     1400,   3.2215,  34.5874,2,     96.5,2,  34.5876,2,    97.08,2,   118.06,2,    38.75,2,     0.00,2,    2.760,2, -999.000,9, -999.000,9,   -999.0,9,   -999.0,9,-999.0000,9,  -999.00,  -999.00,9,  -999.00,9,   3.1184,2,  27.5448,2,   3.2220,2
49UP20150724_2,   P04,     5,  1,     13,     667,2,20150902,1428,1532,  8.9893, 139.5890, 4041,   1615.3,     1600,   2.7162,  34.6091,2,    104.0,2,  34.6083,2,   104.23,6,   127.39,6,    38.57,6,     0.00,6,    2.740,6, -999.000,9, -999.000,9,   -999.0,9,   -999.0,9,-999.0000,9,  -999.00,  -999.00,9,  -999.00,9,   2.6020,2,  27.6085,2,   2.7165,2
49UP20150724_2,   P04,     5,  1,     12,     074,2,20150902,1428,1527,  8.9893, 139.5890, 4041,   1818.7,     1801,   2.3938,  34.6246,2,    110.4,2,  34.6247,6,   110.35,2,   133.60,2,    38.41,2,     0.00,2,    2.720,2, -999.000,9, -999.000,9,   -999.0,9,   -999.0,9,-999.0000,9,  -999.00,  -999.00,9,  -999.00,9,   2.2669,2,  27.6494,2,   2.3943,2
49UP20150724_2,   P04,     5,  1,     11,     268,2,20150902,1428,1521,  8.9893, 139.5890, 4041,   2021.4,     2000,   2.2040,  34.6342,2,    115.5,2,  34.6349,2,   115.58,2,   137.30,2,    38.15,2,     0.00,2,    2.700,2, -999.000,9, -999.000,9,   -999.0,9,   -999.0,9,-999.0000,9,  -999.00,  -999.00,9,  -999.00,9,   2.0626,2,  27.6736,2,   2.2042,2
49UP20150724_2,   P04,     5,  1,     10,     267,2,20150902,1428,1516,  8.9893, 139.5890, 4041,   2225.3,     2201,   2.1019,  34.6391,2,    118.4,2,  34.6396,2,   118.47,2,   139.31,2,    38.01,2,     0.00,2,    2.680,2, -999.000,9, -999.000,9,   -999.0,9,   -999.0,9,-999.0000,9,  -999.00,  -999.00,9,  -999.00,9,   1.9445,2,  27.6869,2,   2.1019,2
49UP20150724_2,   P04,     5,  1,      9,     518,2,20150902,1428,1511,  8.9893, 139.5890, 4041,   2427.0,     2399,   1.9180,  34.6504,2,    126.1,2,  34.6505,2,   126.17,2,   141.37,2,    37.60,2,     0.00,2,    2.650,2, -999.000,9, -999.000,9,   -999.0,9,   -999.0,9,-999.0000,9,  -999.00,  -999.00,9,  -999.00,9,   1.7459,2,  27.7113,2,   1.9180,2
49UP20150724_2,   P04,     5,  1,      8,     081,2,20150902,1428,1505,  8.9893, 139.5890, 4041,   2632.5,     2601,   1.7741,  34.6585,2,    131.5,2,  34.6590,2,   131.68,2,   143.48,2,    37.25,2,     0.00,2,    2.620,2, -999.000,9, -999.000,9,   -999.0,9,   -999.0,9,-999.0000,9,  -999.00,  -999.00,9,  -999.00,9,   1.5859,2,  27.7298,2,   1.7740,2
49UP20150724_2,   P04,     5,  1,      7,     516,2,20150902,1428,1459,  8.9893, 139.5890, 4041,   2835.4,     2801,   1.6667,  34.6659,2,    137.5,2,  34.6665,2,   137.70,2,   143.72,2,    36.88,2,     0.00,2,    2.590,2, -999.000,9, -999.000,9,   -999.0,9,   -999.0,9,-999.0000,9,  -999.00,  -999.00,9,  -999.00,9,   1.4619,2,  27.7448,2,   1.6669,2
49UP20150724_2,   P04,     5,  1,      6,     113,2,20150902,1428,1454,  8.9893, 139.5890, 4041,   3040.4,     3002,   1.6170,  34.6705,2,    141.9,2,  34.6711,2,   142.23,6,   143.24,6,    36.56,6,     0.00,6,    2.560,6, -999.000,9, -999.000,9,   -999.0,9,   -999.0,9,-999.0000,9,  -999.00,  -999.00,9,  -999.00,9,   1.3937,2,  27.7534,2,   1.6169,2
49UP20150724_2,   P04,     5,  1,      4,     471,2,20150902,1428,1447,  8.9893, 139.5890, 4041,   3295.6,     3252,   1.5857,  34.6735,2,    144.2,2,  34.6737,2,   144.26,2,   144.05,2,    36.43,2,     0.00,2,    2.550,2, -999.000,9, -999.000,9,   -999.0,9,   -999.0,9,-999.0000,9,  -999.00,  -999.00,9,  -999.00,9,   1.3382,2,  27.7598,2,   1.5858,2
49UP20150724_2,   P04,     5,  1,      5,     658,2,20150902,1428,1447,  8.9893, 139.5890, 4041,   3295.7,     3252,   1.5865,  34.6734,2,    144.2,2,  34.6737,2,   144.24,2,   143.62,2,    36.37,2,     0.00,2,    2.540,2, -999.000,9, -999.000,9,   -999.0,9,   -999.0,9,-999.0000,9,  -999.00,  -999.00,9,  -999.00,9,   1.3389,2,  27.7596,2,   1.5865,2
49UP20150724_2,   P04,     5,  1,      3,     104,2,20150902,1428,1441,  8.9893, 139.5890, 4041,   3549.7,     3500,   1.5937,  34.6745,2,    145.5,2,  34.6741,2,   145.45,2,   143.56,2,    36.34,2,     0.00,2,    2.540,2, -999.000,9, -999.000,9,   -999.0,9,   -999.0,9,-999.0000,9,  -999.00,  -999.00,9,  -999.00,9,   1.3202,2,  27.7619,2,   1.5934,2
49UP20150724_2,   P04,     5,  1,      2,     075,2,20150902,1428,1435,  8.9893, 139.5890, 4041,   3805.0,     3750,   1.6104,  34.6752,2,    146.0,2,  34.6758,2,   146.33,2,   143.37,2,    36.32,2,     0.00,2,    2.530,2, -999.000,9, -999.000,9,   -999.0,9,   -999.0,9,-999.0000,9,  -999.00,  -999.00,9,  -999.00,9,   1.3095,2,  27.7631,2,   1.6103,2
49UP20150724_2,   P04,     5,  1,      1,     997,2,20150902,1428,1428,  8.9893, 139.5890, 4041,   4077.6,     4016,   1.6334,  34.6757,2,    146.5,2,  34.6759,2,   146.25,2,   143.76,2,    36.31,2,     0.00,2,    2.540,2, -999.000,9, -999.000,9,   -999.0,9,   -999.0,9,-999.0000,9,  -999.00,  -999.00,9,  -999.00,9,   1.3023,2,  27.7640,2,   1.6333,2