BOTTLE,20191113JMAGEMD
EXPOCODE,SECT_ID,STNNBR,CASTNO,SAMPNO,BTLNBR,BTLNBR_FLAG_U,DATE,TIME,BTL_TIME,LATITUDE,LONGITUDE,DEPTH,CTDPRS,CTDDEP,CTDTMP,CTDSAL,CTDSAL_FLAG_W,CTDOXY,CTDOXY_FLAG_W,SALNTY,SALNTY_FLAG_W,OXYGEN,OXYGEN_FLAG_W,SILCAT,SILCAT_FLAG_W,NO2+NO3,NO2+NO3_FLAG_W,NITRIT,NITRIT_FLAG_W,PHSPHT,PHSPHT_FLAG_W,CFC-11,CFC-11_FLAG_W,CFC-12,CFC-12_FLAG_W,TCARBN,TCARBN_FLAG_W,ALKALI,ALKALI_FLAG_W,PH_TS,PH_TS_FLAG_W,PH_TS_TMP,CHLORA,CHLORA_FLAG_W,PPHYTN,PPHYTN_FLAG_W,THETA,THETA_FLAG_W,SIGTHT,SIGTHT_FLAG_W,SBE35,SBE35_FLAG_W
,,,,,,,,UTC,,,,METER,DBAR,METERS,ITS-90,PSS-78,,UMOL/KG,,PSS78,,UMOL/KG,,UMOL/KG,,UMOL/KG,,UMOL/KG,,UMOL/KG,,PMOL/KG,,PMOL/KG,,UMOL/KG,,UMOL/KG,,,,ITS-90,UG/KG,,UG/KG,,ITS-90,,KG/M3,,ITS-90,
49UP20150724_2,   P04,    19,  1,      0,      -9,0,20150829,0326,0520,  9.5628, 149.3463, 5168,      0.0,        0,  28.8326,  33.9316,2,    198.0,2,  33.9170,2,   197.45,2,     0.97,2,     0.10,2,     0.00,2,    0.060,2, -999.000,9, -999.000,9,   1901.6,2,   2228.3,2,   8.1137,2,    25.00,     0.09,2,     0.03,2,  28.8319,2,  21.3180,2,-999.0000,9
49UP20150724_2,   P04,    19,  1,     36,     109,2,20150829,0326,0552,  9.5628, 149.3463, 5168,     10.6,       11,  28.8314,  33.9325,2,    197.9,2,  33.9322,2,   197.48,2,     0.95,2,     0.11,2,     0.00,2,    0.050,2,    1.189,3,    0.636,3,   1900.8,2,   2227.8,2,   8.1117,2,    25.00,     0.08,2,     0.03,2,  28.8289,2,  21.3197,2,  28.8320,2
49UP20150724_2,   P04,    19,  1,     35,     112,2,20150829,0326,0551,  9.5628, 149.3463, 5168,     26.9,       27,  28.8616,  33.9694,2,    197.8,2,  33.9688,2,   197.14,2,     0.97,2,     0.15,2,     0.00,2,    0.050,2, -999.000,9, -999.000,9,   1907.7,2,   2232.5,2,   8.1146,2,    25.00,     0.09,2,     0.03,2,  28.8551,2,  21.3387,2,  28.8608,2
49UP20150724_2,   P04,    19,  1,     34,     094,2,20150829,0326,0547,  9.5628, 149.3463, 5168,     52.4,       52,  27.4906,  35.0974,2,    209.1,2,  35.0856,2,   208.20,2,     0.93,2,     0.12,2,     0.00,2,    0.080,2,    1.396,3,    0.713,3,   1970.3,2,   2304.0,2,   8.1027,2,    25.00,     0.13,2,     0.05,2,  27.4784,2,  22.6374,2,  27.4818,2
49UP20150724_2,   P04,    19,  1,     33,     469,2,20150829,0326,0545,  9.5628, 149.3463, 5168,     74.7,       74,  26.5483,  35.1945,2,    206.2,2,  35.1921,2,   206.12,2,     1.01,2,     0.11,2,     0.00,2,    0.100,2, -999.000,9, -999.000,9,   1985.7,2,   2312.8,2,   8.0834,2,    25.00,     0.14,2,     0.07,2,  26.5313,2,  23.0133,2,  26.5486,2
49UP20150724_2,   P04,    19,  1,     32,     105,2,20150829,0326,0544,  9.5628, 149.3463, 5168,    101.7,      101,  21.9937,  35.0161,2,    188.4,2,  35.0158,2,   189.01,2,     2.64,2,     0.60,2,     0.03,2,    0.270,3,    1.703,3,    0.912,3,   2047.8,2,   2307.7,2,   7.9770,2,    25.00,     0.23,2,     0.24,2,  21.9736,2,  24.2375,2,  22.0477,2
49UP20150724_2,   P04,    19,  1,     31,     515,2,20150829,0326,0543,  9.5628, 149.3463, 5168,    126.8,      126,  17.0643,  34.7043,2,    158.7,2,  34.7225,4,   159.40,2,     6.99,2,     8.58,2,     0.03,2,    0.720,2, -999.000,9, -999.000,9,   2095.8,2,   2288.8,2,   7.8445,2,    25.00,     0.15,2,     0.30,2,  17.0434,2,  25.2770,2,  17.0893,2
49UP20150724_2,   P04,    19,  1,     30,     097,2,20150829,0326,0541,  9.5628, 149.3463, 5168,    150.6,      150,  13.8248,  34.4627,2,    136.8,2,  34.4921,4,   136.45,6,    13.78,6,    15.27,6,     0.01,6,    1.170,6,    1.903,3,    0.941,3,   2131.3,2,   2274.3,2,   7.7397,2,    25.00,     0.05,2,     0.15,2,  13.8034,2,  25.8129,2,  13.8875,2
49UP20150724_2,   P04,    19,  1,     29,     102,2,20150829,0326,0540,  9.5628, 149.3463, 5168,    175.3,      174,  11.9558,  34.3271,2,    148.8,2,  34.3282,2,   149.23,2,    18.39,2,    17.53,2,     0.00,2,    1.300,2, -999.000,9, -999.000,9,   2135.9,2,   2269.1,2,   7.7067,2,    25.00,     0.02,2,     0.03,2,  11.9331,2,  26.0792,2,  11.9562,2
49UP20150724_2,   P04,    19,  1,     28,     108,2,20150829,0326,0538,  9.5628, 149.3463, 5168,    202.6,      201,  10.9139,  34.4015,2,     90.7,2,  34.4039,2,    90.06,2,    27.02,2,    25.49,2,     0.00,2,    1.890,2,    1.484,3,    0.723,3,   2192.7,2,   2279.9,2,   7.5791,2,    25.00,     0.00,2,     0.03,2,  10.8892,2,  26.3293,2,  10.9161,2
49UP20150724_2,   P04,    19,  1,     27,     998,3,20150829,0326,0537,  9.5628, 149.3463, 5168,    254.0,      252,  10.0159,  34.4883,2,     71.8,2,  34.4835,2,    72.22,2,    33.31,2,    29.49,2,     0.00,2,    2.140,2,    0.980,3,    0.478,3,   2219.8,2,   2293.7,2,   7.5381,2,    25.00,  -999.00,9,  -999.00,9,   9.9865,2,  26.5547,2,  10.0183,2
49UP20150724_2,   P04,    19,  1,     26,     084,2,20150829,0326,0534,  9.5628, 149.3463, 5168,    334.6,      332,   8.6592,  34.5276,2,     70.0,2,  34.5256,2,    70.07,2,    40.82,2,    32.76,2,     0.00,2,    2.330,2,    0.591,3,    0.295,3,   2238.2,2,   2303.7,2,   7.5126,2,    25.00,  -999.00,9,  -999.00,9,   8.6236,2,  26.8076,2,   8.6591,2
49UP20150724_2,   P04,    19,  1,     25,     098,2,20150829,0326,0531,  9.5628, 149.3463, 5168,    436.3,      433,   7.7062,  34.5283,2,     79.4,2,  34.5238,4,    78.91,2,    46.57,2,    33.87,2,     0.00,2,    2.390,2,    0.438,3,    0.228,3,   2244.6,2,   2310.3,2,   7.5111,2,    25.00,  -999.00,9,  -999.00,9,   7.6626,2,  26.9531,2,   7.7066,2
49UP20150724_2,   P04,    19,  1,     24,     110,2,20150829,0326,0527,  9.5628, 149.3463, 5168,    538.0,      534,   7.0830,  34.5280,2,     84.3,2,  34.5276,2,    84.43,2,    51.23,2,    34.62,2,     0.00,2,    2.450,2,    0.319,3,    0.189,3,   2249.8,2,   2316.2,2,   7.5128,2,    25.00,  -999.00,9,  -999.00,9,   7.0315,2,  27.0426,2,   7.0828,2
49UP20150724_2,   P04,    19,  1,     23,     096,2,20150829,0326,0524,  9.5628, 149.3463, 5168,    634.5,      630,   6.3770,  34.5267,2,     83.9,2,  34.5272,2,    84.23,2,    60.14,2,    35.92,2,     0.00,2,    2.550,2,    0.208,3,    0.118,3,   2260.8,2,   2324.0,2,   7.5039,2,    25.00,  -999.00,9,  -999.00,9,   6.3191,2,  27.1375,2,   6.3766,2
49UP20150724_2,   P04,    19,  1,     22,     111,2,20150829,0326,0520,  9.5628, 149.3463, 5168,    737.6,      732,   5.7175,  34.5298,2,     80.6,2,  34.5302,2,    80.48,2,    70.34,2,    37.30,2,     0.00,2,    2.650,2,    0.104,3,    0.067,3,   2277.6,2,   2335.8,2,   7.4907,2,    25.00,  -999.00,9,  -999.00,9,   5.6534,2,  27.2245,2,   5.7176,2
49UP20150724_2,   P04,    19,  1,     21,     078,2,20150829,0326,0516,  9.5628, 149.3463, 5168,    836.9,      831,   5.2039,  34.5359,2,     79.9,2,  34.5354,2,    79.46,2,    79.27,2,    38.14,2,     0.00,2,    2.710,2,    0.055,3,    0.040,3,   2292.2,2,   2346.6,2,   7.4851,2,    25.00,  -999.00,9,  -999.00,9,   5.1338,2,  27.2917,2,   5.2052,2
49UP20150724_2,   P04,    19,  1,     20,     093,2,20150829,0326,0513,  9.5628, 149.3463, 5168,    939.3,      932,   4.7172,  34.5449,2,     80.7,2,  34.5452,2,    81.04,2,    88.31,2,    38.65,2,     0.00,2,    2.750,2,    0.034,3,    0.021,3,   2300.6,2,   2355.5,2,   7.4840,2,    25.00,  -999.00,9,  -999.00,9,   4.6413,2,  27.3552,2,   4.7164,2
49UP20150724_2,   P04,    19,  1,     19,     092,2,20150829,0326,0509,  9.5628, 149.3463, 5168,   1080.6,     1072,   4.0445,  34.5610,2,     84.1,2,  34.5612,2,    84.52,2,   101.72,2,    39.09,2,     0.00,2,    2.780,2,    0.018,3,    0.009,3,   2312.7,6,   2369.1,6,   7.4843,2,    25.00,  -999.00,9,  -999.00,9,   3.9616,2,  27.4409,2,   4.0447,2
49UP20150724_2,   P04,    19,  1,     18,     101,2,20150829,0326,0503,  9.5628, 149.3463, 5168,   1283.9,     1273,   3.2846,  34.5860,2,     94.6,2,  34.5857,2,    94.60,2,   116.67,2,    38.98,2,     0.00,2,    2.760,2,    0.010,3,    0.010,3,   2322.1,3,   2385.8,2,   7.4978,6,    25.00,  -999.00,9,  -999.00,9,   3.1916,2,  27.5368,2,   3.2856,2
49UP20150724_2,   P04,    19,  1,     17,     090,2,20150829,0326,0457,  9.5628, 149.3463, 5168,   1485.7,     1472,   2.8391,  34.6025,2,     95.7,2,  34.6026,6,    95.75,2,   126.46,2,    39.32,2,     0.00,2,    2.770,2,    0.008,3,    0.003,3,   2336.5,2,   2396.3,2,   7.4940,2,    25.00,  -999.00,9,  -999.00,9,   2.7342,2,  27.5917,2,   2.8394,2
49UP20150724_2,   P04,    19,  1,     16,     089,2,20150829,0326,0452,  9.5628, 149.3463, 5168,   1688.0,     1672,   2.4912,  34.6191,2,    103.0,2,  34.6191,2,   103.08,6,   133.40,6,    39.00,6,     0.00,6,    2.750,6,    0.000,3,    0.005,3,   2336.5,3,   2402.9,2,   7.5084,2,    25.00,  -999.00,9,  -999.00,9,   2.3739,2,  27.6360,2,   2.4924,2
49UP20150724_2,   P04,    19,  1,     15,     088,2,20150829,0326,0446,  9.5628, 149.3463, 5168,   1888.5,     1869,   2.2195,  34.6324,2,    109.2,2,  34.6326,2,   109.46,2,   139.08,2,    38.75,2,     0.00,2,    2.720,2,    0.000,3,    0.002,3,   2340.8,2,   2408.2,2,   7.5188,2,    25.00,  -999.00,9,  -999.00,9,   2.0891,2,  27.6700,2,   2.2198,2
49UP20150724_2,   P04,    19,  1,     14,     999,2,20150829,0326,0441,  9.5628, 149.3463, 5168,   2092.9,     2071,   2.0608,  34.6422,2,    113.2,2,  34.6426,2,   113.67,2,   142.10,2,    38.56,2,     0.00,2,    2.690,2,    0.001,3,    0.003,3,   2343.5,2,   2413.1,2,   7.5223,2,    25.00,  -999.00,9,  -999.00,9,   1.9155,2,  27.6916,2,   2.0608,2
49UP20150724_2,   P04,    19,  1,     13,     667,2,20150829,0326,0436,  9.5628, 149.3463, 5168,   2296.8,     2271,   1.9428,  34.6499,2,    117.4,2,  34.6498,2,   117.67,2,   144.22,2,    38.30,2,     0.00,2,    2.670,2,    0.000,3,    0.000,3,   2338.8,3,   2414.9,2,   7.5295,2,    25.00,  -999.00,9,  -999.00,9,   1.7817,2,  27.7081,2,   1.9427,2
49UP20150724_2,   P04,    19,  1,     12,     074,2,20150829,0326,0430,  9.5628, 149.3463, 5168,   2498.7,     2470,   1.8302,  34.6572,2,    123.1,2,  34.6570,2,   123.21,2,   145.95,2,    37.93,2,     0.00,2,    2.650,2, -999.000,9, -999.000,9,   2340.5,6,   2416.5,6,   7.5386,2,    25.00,  -999.00,9,  -999.00,9,   1.6532,2,  27.7237,2,   1.8303,2
49UP20150724_2,   P04,    19,  1,     11,     268,2,20150829,0326,0425,  9.5628, 149.3463, 5168,   2703.2,     2671,   1.7272,  34.6623,2,    129.7,2,  34.6623,2,   129.99,2,   146.21,2,    37.57,2,     0.00,2,    2.610,2, -999.000,9, -999.000,9,   2342.5,2,   2417.7,2,   7.5472,6,    25.00,  -999.00,9,  -999.00,9,   1.5335,2,  27.7367,2,   1.7271,2
49UP20150724_2,   P04,    19,  1,     10,     267,2,20150829,0326,0420,  9.5628, 149.3463, 5168,   2904.5,     2868,   1.6451,  34.6679,2,    135.2,2,  34.6677,6,   135.09,2,   146.30,2,    37.19,2,     0.00,2,    2.580,2, -999.000,9, -999.000,9,   2333.8,2,   2415.7,2,   7.5547,2,    25.00,  -999.00,9,  -999.00,9,   1.4342,2,  27.7484,2,   1.6452,2
49UP20150724_2,   P04,    19,  1,      9,     518,2,20150829,0326,0415,  9.5628, 149.3463, 5168,   3120.3,     3080,   1.5844,  34.6725,2,    140.2,2,  34.6732,2,   140.92,6,   145.88,6,    36.86,6,     0.00,6,    2.550,6,    0.000,3,    0.004,3,   2329.8,2,   2416.0,2,   7.5628,2,    25.00,  -999.00,9,  -999.00,9,   1.3542,2,  27.7578,2,   1.5845,2
49UP20150724_2,   P04,    19,  1,      8,     081,2,20150829,0326,0408,  9.5628, 149.3463, 5168,   3376.0,     3330,   1.5424,  34.6768,2,    145.3,2,  34.6767,2,   145.61,2,   144.79,2,    36.59,2,     0.00,2,    2.520,2, -999.000,9, -999.000,9,   2328.8,2,   2414.2,2,   7.5692,2,    25.00,  -999.00,9,  -999.00,9,   1.2878,2,  27.7660,2,   1.5424,2
49UP20150724_2,   P04,    19,  1,      7,     516,2,20150829,0326,0402,  9.5628, 149.3463, 5168,   3630.4,     3579,   1.5016,  34.6810,2,    151.3,2,  34.6817,2,   151.07,2,   143.25,2,    36.20,2,     0.00,2,    2.500,2,    0.000,3,    0.003,3,   2321.5,2,   2411.5,2,   7.5773,2,    25.00,  -999.00,9,  -999.00,9,   1.2220,2,  27.7740,2,   1.5014,2
49UP20150724_2,   P04,    19,  1,      6,     113,4,20150829,0326,0351,  9.5628, 149.3463, 5168,   4144.1,     4081,   1.4569,  34.6883,2,    161.5,2,  34.6589,4,   136.72,4,   131.61,4,    36.22,4,     0.00,4,    2.520,4, -999.000,9, -999.000,9,   2318.7,4,   2402.5,4,   7.5651,4,    25.00,  -999.00,9,  -999.00,9,   1.1234,2,  27.7866,2,   1.4568,2
49UP20150724_2,   P04,    19,  1,      5,     658,2,20150829,0326,0345,  9.5628, 149.3463, 5168,   4399.7,     4330,   1.4518,  34.6911,2,    165.2,2,  34.6909,2,   165.21,2,   137.30,2,    35.15,2,     0.00,2,    2.420,2, -999.000,9, -999.000,9,   2310.8,6,   2407.4,6,   7.5905,2,    25.00,  -999.00,9,  -999.00,9,   1.0898,2,  27.7911,2,   1.4520,2
49UP20150724_2,   P04,    19,  1,      4,     471,2,20150829,0326,0340,  9.5628, 149.3463, 5168,   4657.0,     4581,   1.4569,  34.6927,2,    168.2,2,  34.6933,2,   168.23,2,   135.60,2,    34.92,2,     0.00,2,    2.410,2,    0.000,3,    0.004,3,   2306.4,2,   2405.8,2,   7.5952,6,    25.00,  -999.00,9,  -999.00,9,   1.0650,2,  27.7941,2,   1.4570,2
49UP20150724_2,   P04,    19,  1,      3,     104,2,20150829,0326,0334,  9.5628, 149.3463, 5168,   4912.2,     4829,   1.4717,  34.6940,2,    170.3,2,  34.6940,2,   170.17,2,   134.89,2,    34.88,2,     0.00,2,    2.390,2, -999.000,9, -999.000,9,   2303.8,2,   2403.7,2,   7.5984,2,    25.00,  -999.00,9,  -999.00,9,   1.0490,2,  27.7962,2,   1.4717,2
49UP20150724_2,   P04,    19,  1,      2,     075,2,20150829,0326,0329,  9.5628, 149.3463, 5168,   5169.4,     5079,   1.4902,  34.6949,2,    172.0,2,  34.6956,6,   171.96,2,   133.68,2,    34.61,2,     0.00,2,    2.380,2, -999.000,9, -999.000,9,   2306.7,2,   2402.2,2,   7.6003,2,    25.00,  -999.00,9,  -999.00,9,   1.0354,2,  27.7979,2,   1.4900,2
49UP20150724_2,   P04,    19,  1,      1,     997,2,20150829,0326,0326,  9.5628, 149.3463, 5168,   5246.5,     5154,   1.4973,  34.6952,2,    172.3,2,  34.6952,2,   171.92,6,   133.81,6,    34.66,6,     0.00,6,    2.390,6,    0.000,3,    0.004,3,   2307.6,2,   2402.2,2,   7.6021,2,    25.00,  -999.00,9,  -999.00,9,   1.0327,2,  27.7982,2,   1.4971,2