BOTTLE,20191113JMAGEMD
EXPOCODE,SECT_ID,STNNBR,CASTNO,SAMPNO,BTLNBR,BTLNBR_FLAG_U,DATE,TIME,BTL_TIME,LATITUDE,LONGITUDE,DEPTH,CTDPRS,CTDDEP,CTDTMP,CTDSAL,CTDSAL_FLAG_W,CTDOXY,CTDOXY_FLAG_W,SALNTY,SALNTY_FLAG_W,OXYGEN,OXYGEN_FLAG_W,SILCAT,SILCAT_FLAG_W,NO2+NO3,NO2+NO3_FLAG_W,NITRIT,NITRIT_FLAG_W,PHSPHT,PHSPHT_FLAG_W,CFC-11,CFC-11_FLAG_W,CFC-12,CFC-12_FLAG_W,TCARBN,TCARBN_FLAG_W,ALKALI,ALKALI_FLAG_W,PH_TS,PH_TS_FLAG_W,PH_TS_TMP,CHLORA,CHLORA_FLAG_W,PPHYTN,PPHYTN_FLAG_W,THETA,THETA_FLAG_W,SIGTHT,SIGTHT_FLAG_W,SBE35,SBE35_FLAG_W
,,,,,,,,UTC,,,,METER,DBAR,METERS,ITS-90,PSS-78,,UMOL/KG,,PSS78,,UMOL/KG,,UMOL/KG,,UMOL/KG,,UMOL/KG,,UMOL/KG,,PMOL/KG,,PMOL/KG,,UMOL/KG,,UMOL/KG,,,,ITS-90,UG/KG,,UG/KG,,ITS-90,,KG/M3,,ITS-90,
49UP20150724_2,   P04,     3,  1,      0,      -9,0,20150903,0530,0723,  8.9888, 138.1897, 4686,      0.0,        0,  29.3545,  34.0171,2,    197.4,2,-999.0000,9,   196.76,2,     0.96,2,     0.03,2,     0.00,2,    0.070,2, -999.000,9, -999.000,9,   -999.0,9,   -999.0,9,-999.0000,9,  -999.00,  -999.00,9,  -999.00,9,  29.3539,2,  21.2079,2,-999.0000,9
49UP20150724_2,   P04,     3,  1,     36,     109,2,20150903,0530,0743,  8.9888, 138.1897, 4686,     10.5,       10,  29.2412,  34.0301,2,    197.6,2,  34.0297,2,   196.99,2,     0.96,2,     0.04,2,     0.00,2,    0.040,2, -999.000,9, -999.000,9,   -999.0,9,   -999.0,9,-999.0000,9,  -999.00,  -999.00,9,  -999.00,9,  29.2386,2,  21.2563,2,  29.2373,2
49UP20150724_2,   P04,     3,  1,     35,     112,2,20150903,0530,0742,  8.9888, 138.1897, 4686,     26.6,       26,  29.2056,  34.1002,2,    197.8,2,  34.1132,2,   198.05,2,     0.92,2,     0.06,2,     0.00,2,    0.040,2, -999.000,9, -999.000,9,   -999.0,9,   -999.0,9,-999.0000,9,  -999.00,  -999.00,9,  -999.00,9,  29.1991,2,  21.3221,2,  29.2011,2
49UP20150724_2,   P04,     3,  1,     34,     094,2,20150903,0530,0739,  8.9888, 138.1897, 4686,     51.5,       51,  26.5812,  34.7419,2,    201.2,2,  34.7466,2,   201.65,6,     1.52,6,     0.03,6,     0.00,6,    0.120,6, -999.000,9, -999.000,9,   -999.0,9,   -999.0,9,-999.0000,9,  -999.00,  -999.00,9,  -999.00,9,  26.5695,2,  22.6601,2,  26.6030,2
49UP20150724_2,   P04,     3,  1,     33,     469,2,20150903,0530,0737,  8.9888, 138.1897, 4686,     75.7,       75,  22.2068,  34.9371,2,    190.4,2,  34.9385,6,   190.70,2,     2.76,2,     0.72,2,     0.03,2,    0.270,2, -999.000,9, -999.000,9,   -999.0,9,   -999.0,9,-999.0000,9,  -999.00,  -999.00,9,  -999.00,9,  22.1917,2,  24.1161,2,  22.1844,2
49UP20150724_2,   P04,     3,  1,     32,     105,2,20150903,0530,0736,  8.9888, 138.1897, 4686,    106.5,      106,  17.9942,  34.8005,2,    169.8,2,  34.8354,4,   171.68,2,     4.94,2,     6.05,2,     0.04,2,    0.510,2, -999.000,9, -999.000,9,   -999.0,9,   -999.0,9,-999.0000,9,  -999.00,  -999.00,9,  -999.00,9,  17.9760,2,  25.1251,2,  17.9762,2
49UP20150724_2,   P04,     3,  1,     31,     515,2,20150903,0530,0735,  8.9888, 138.1897, 4686,    127.6,      127,  16.8585,  34.7029,2,    159.4,2,  34.7111,2,   160.55,2,     7.72,2,     9.00,2,     0.04,2,    0.720,2, -999.000,9, -999.000,9,   -999.0,9,   -999.0,9,-999.0000,9,  -999.00,  -999.00,9,  -999.00,9,  16.8376,2,  25.3247,2,  16.8324,2
49UP20150724_2,   P04,     3,  1,     30,     097,2,20150903,0530,0734,  8.9888, 138.1897, 4686,    152.9,      152,  14.6406,  34.5501,2,    138.6,2,  34.5390,2,   140.34,2,    13.69,2,    14.65,2,     0.01,2,    1.100,2, -999.000,9, -999.000,9,   -999.0,9,   -999.0,9,-999.0000,9,  -999.00,  -999.00,9,  -999.00,9,  14.6180,2,  25.7080,2,  14.6318,2
49UP20150724_2,   P04,     3,  1,     29,     102,2,20150903,0530,0733,  8.9888, 138.1897, 4686,    178.9,      178,  12.6627,  34.4581,2,    118.6,2,  34.4699,2,   118.70,2,    19.64,2,    19.50,2,     0.00,2,    1.450,2, -999.000,9, -999.000,9,   -999.0,9,   -999.0,9,-999.0000,9,  -999.00,  -999.00,9,  -999.00,9,  12.6387,2,  26.0447,2,  12.6767,2
49UP20150724_2,   P04,     3,  1,     28,     108,2,20150903,0530,0732,  8.9888, 138.1897, 4686,    202.3,      201,  10.8585,  34.4574,2,     92.3,2,  34.4645,2,    91.54,2,    29.50,2,    26.11,2,     0.00,2,    1.900,2, -999.000,9, -999.000,9,   -999.0,9,   -999.0,9,-999.0000,9,  -999.00,  -999.00,9,  -999.00,9,  10.8339,2,  26.3828,2,  10.8585,2
49UP20150724_2,   P04,     3,  1,     27,     998,2,20150903,0530,0730,  8.9888, 138.1897, 4686,    252.5,      251,   9.9342,  34.5138,2,     79.0,2,  34.5139,2,    79.07,2,    34.31,2,    29.34,2,     0.00,2,    2.100,2, -999.000,9, -999.000,9,   -999.0,9,   -999.0,9,-999.0000,9,  -999.00,  -999.00,9,  -999.00,9,   9.9051,2,  26.5884,2,   9.9342,2
49UP20150724_2,   P04,     3,  1,     26,     084,2,20150903,0530,0729,  8.9888, 138.1897, 4686,    283.6,      282,   9.0680,  34.5107,2,     77.2,2,  34.5111,2,    77.35,2,    38.58,2,    31.13,2,     0.00,2,    2.220,2, -999.000,9, -999.000,9,   -999.0,9,   -999.0,9,-999.0000,9,  -999.00,  -999.00,9,  -999.00,9,   9.0370,2,  26.7290,2,   9.0687,2
49UP20150724_2,   P04,     3,  1,     25,     098,2,20150903,0530,0726,  8.9888, 138.1897, 4686,    373.3,      371,   8.1767,  34.5074,2,     84.9,2,  34.5067,6,    85.01,2,    43.25,2,    32.19,2,     0.00,2,    2.290,2, -999.000,9, -999.000,9,   -999.0,9,   -999.0,9,-999.0000,9,  -999.00,  -999.00,9,  -999.00,9,   8.1383,2,  26.8662,2,   8.1769,2
49UP20150724_2,   P04,     3,  1,     24,     110,2,20150903,0530,0724,  8.9888, 138.1897, 4686,    474.1,      471,   7.3485,  34.4918,2,     90.9,2,  34.4911,2,    91.24,6,    49.70,6,    33.20,6,     0.00,6,    2.360,6, -999.000,9, -999.000,9,   -999.0,9,   -999.0,9,-999.0000,9,  -999.00,  -999.00,9,  -999.00,9,   7.3023,2,  26.9761,2,   7.3490,2
49UP20150724_2,   P04,     3,  1,     23,     096,2,20150903,0530,0721,  8.9888, 138.1897, 4686,    574.5,      570,   6.4955,  34.4903,2,     93.2,2,  34.4907,2,    93.42,2,    58.21,2,    34.46,2,     0.00,2,    2.460,2, -999.000,9, -999.000,9,   -999.0,9,   -999.0,9,-999.0000,9,  -999.00,  -999.00,9,  -999.00,9,   6.4429,2,  27.0926,2,   6.4958,2
49UP20150724_2,   P04,     3,  1,     22,     111,2,20150903,0530,0719,  8.9888, 138.1897, 4686,    675.8,      671,   5.8796,  34.5094,2,     94.6,2,  34.5088,2,    94.53,2,    65.98,2,    35.59,2,     0.00,2,    2.540,2, -999.000,9, -999.000,9,   -999.0,9,   -999.0,9,-999.0000,9,  -999.00,  -999.00,9,  -999.00,9,   5.8203,2,  27.1877,2,   5.8799,2
49UP20150724_2,   P04,     3,  1,     21,     078,2,20150903,0530,0714,  8.9888, 138.1897, 4686,    776.9,      771,   5.3934,  34.5242,2,     94.4,2,  34.5238,2,    94.46,2,    73.78,2,    36.40,2,     0.00,2,    2.590,2, -999.000,9, -999.000,9,   -999.0,9,   -999.0,9,-999.0000,9,  -999.00,  -999.00,9,  -999.00,9,   5.3276,2,  27.2596,2,   5.3926,2
49UP20150724_2,   P04,     3,  1,     20,     093,2,20150903,0530,0711,  8.9888, 138.1897, 4686,    877.8,      871,   4.7805,  34.5396,2,     82.6,2,  34.5393,2,    82.71,2,    87.19,2,    38.22,2,     0.00,2,    2.730,2, -999.000,9, -999.000,9,   -999.0,9,   -999.0,9,-999.0000,9,  -999.00,  -999.00,9,  -999.00,9,   4.7096,2,  27.3433,2,   4.7797,2
49UP20150724_2,   P04,     3,  1,     19,     092,2,20150903,0530,0709,  8.9888, 138.1897, 4686,    978.5,      971,   4.3419,  34.5499,2,     83.7,2,  34.5479,4,    84.20,2,    95.64,2,    38.61,2,     0.00,2,    2.760,2, -999.000,9, -999.000,9,   -999.0,9,   -999.0,9,-999.0000,9,  -999.00,  -999.00,9,  -999.00,9,   4.2654,2,  27.4002,2,   4.3433,2
49UP20150724_2,   P04,     3,  1,     18,     101,2,20150903,0530,0705,  8.9888, 138.1897, 4686,   1141.1,     1132,   3.7227,  34.5661,2,     86.6,2,  34.5659,2,    87.00,6,   108.61,6,    39.03,6,     0.00,6,    2.790,6, -999.000,9, -999.000,9,   -999.0,9,   -999.0,9,-999.0000,9,  -999.00,  -999.00,9,  -999.00,9,   3.6375,2,  27.4778,2,   3.7232,2
49UP20150724_2,   P04,     3,  1,     17,     090,2,20150903,0530,0701,  8.9888, 138.1897, 4686,   1343.4,     1332,   3.2343,  34.5846,2,     93.9,2,  34.5845,6,    94.34,2,   117.72,2,    38.92,2,     0.00,2,    2.770,2, -999.000,9, -999.000,9,   -999.0,9,   -999.0,9,-999.0000,9,  -999.00,  -999.00,9,  -999.00,9,   3.1369,2,  27.5408,2,   3.2343,2
49UP20150724_2,   P04,     3,  1,     16,     089,2,20150903,0530,0654,  8.9888, 138.1897, 4686,   1544.9,     1531,   2.7963,  34.6031,2,    101.4,2,  34.6033,2,   101.54,2,   126.18,2,    38.69,2,     0.00,2,    2.740,2, -999.000,9, -999.000,9,   -999.0,9,   -999.0,9,-999.0000,9,  -999.00,  -999.00,9,  -999.00,9,   2.6870,2,  27.5963,2,   2.7967,2
49UP20150724_2,   P04,     3,  1,     15,     088,2,20150903,0530,0649,  8.9888, 138.1897, 4686,   1748.6,     1732,   2.5244,  34.6170,2,    107.1,2,  34.6154,2,   107.21,2,   131.32,2,    38.54,2,     0.00,2,    2.720,2, -999.000,9, -999.000,9,   -999.0,9,   -999.0,9,-999.0000,9,  -999.00,  -999.00,9,  -999.00,9,   2.4016,2,  27.6320,2,   2.5263,2
49UP20150724_2,   P04,     3,  1,     14,     999,2,20150903,0530,0645,  8.9888, 138.1897, 4686,   1951.5,     1932,   2.2465,  34.6290,2,    112.6,2,  34.6281,2,   112.90,2,   136.59,2,    38.31,2,     0.00,2,    2.700,2, -999.000,9, -999.000,9,   -999.0,9,   -999.0,9,-999.0000,9,  -999.00,  -999.00,9,  -999.00,9,   2.1105,2,  27.6656,2,   2.2468,2
49UP20150724_2,   P04,     3,  1,     13,     667,2,20150903,0530,0638,  8.9888, 138.1897, 4686,   2154.9,     2132,   2.0646,  34.6393,2,    118.3,2,  34.6392,2,   118.32,2,   139.34,2,    37.98,2,     0.00,2,    2.670,2, -999.000,9, -999.000,9,   -999.0,9,   -999.0,9,-999.0000,9,  -999.00,  -999.00,9,  -999.00,9,   1.9140,2,  27.6895,2,   2.0644,2
49UP20150724_2,   P04,     3,  1,     12,     074,2,20150903,0530,0633,  8.9888, 138.1897, 4686,   2358.4,     2332,   1.9203,  34.6492,2,    124.8,2,  34.6489,2,   124.99,2,   141.13,2,    37.68,2,     0.00,2,    2.650,2, -999.000,9, -999.000,9,   -999.0,9,   -999.0,9,-999.0000,9,  -999.00,  -999.00,9,  -999.00,9,   1.7542,2,  27.7097,2,   1.9205,2
49UP20150724_2,   P04,     3,  1,     11,     268,2,20150903,0530,0628,  8.9888, 138.1897, 4686,   2561.9,     2532,   1.7675,  34.6577,2,    130.2,2,  34.6578,2,   130.24,2,   143.52,2,    37.38,2,     0.00,2,    2.620,2, -999.000,9, -999.000,9,   -999.0,9,   -999.0,9,-999.0000,9,  -999.00,  -999.00,9,  -999.00,9,   1.5859,2,  27.7291,2,   1.7673,2
49UP20150724_2,   P04,     3,  1,     10,     267,2,20150903,0530,0621,  8.9888, 138.1897, 4686,   2764.8,     2731,   1.6800,  34.6638,2,    135.1,2,  34.6628,2,   135.54,2,   143.77,2,    36.98,2,     0.00,2,    2.590,2, -999.000,9, -999.000,9,   -999.0,9,   -999.0,9,-999.0000,9,  -999.00,  -999.00,9,  -999.00,9,   1.4816,2,  27.7417,2,   1.6800,2
49UP20150724_2,   P04,     3,  1,      9,     518,2,20150903,0530,0616,  8.9888, 138.1897, 4686,   2969.3,     2932,   1.6463,  34.6669,2,    137.2,2,  34.6677,2,   137.42,2,   144.86,2,    36.93,2,     0.00,2,    2.580,2, -999.000,9, -999.000,9,   -999.0,9,   -999.0,9,-999.0000,9,  -999.00,  -999.00,9,  -999.00,9,   1.4293,2,  27.7480,2,   1.6458,2
49UP20150724_2,   P04,     3,  1,      8,     081,2,20150903,0530,0609,  8.9888, 138.1897, 4686,   3213.3,     3171,   1.6013,  34.6718,2,    142.4,2,  34.6713,2,   142.24,2,   143.74,2,    36.61,2,     0.00,2,    2.550,2, -999.000,9, -999.000,9,   -999.0,9,   -999.0,9,-999.0000,9,  -999.00,  -999.00,9,  -999.00,9,   1.3616,2,  27.7567,2,   1.6014,2
49UP20150724_2,   P04,     3,  1,      7,     516,2,20150903,0530,0603,  8.9888, 138.1897, 4686,   3468.6,     3421,   1.5474,  34.6769,2,    147.4,2,  34.6768,2,   147.21,2,   143.18,2,    36.35,2,     0.00,2,    2.530,2, -999.000,9, -999.000,9,   -999.0,9,   -999.0,9,-999.0000,9,  -999.00,  -999.00,9,  -999.00,9,   1.2833,2,  27.7664,2,   1.5475,2
49UP20150724_2,   P04,     3,  1,      6,     113,2,20150903,0530,0556,  8.9888, 138.1897, 4686,   3724.1,     3671,   1.5292,  34.6804,2,    151.1,2,  34.6798,2,   151.14,2,   142.12,2,    36.05,2,     0.00,2,    2.500,2, -999.000,9, -999.000,9,   -999.0,9,   -999.0,9,-999.0000,9,  -999.00,  -999.00,9,  -999.00,9,   1.2391,2,  27.7723,2,   1.5293,2
49UP20150724_2,   P04,     3,  1,      5,     658,2,20150903,0530,0550,  8.9888, 138.1897, 4686,   3979.6,     3920,   1.5214,  34.6834,2,    154.3,2,  34.6825,2,   154.25,2,   141.17,2,    35.85,2,     0.00,2,    2.490,2, -999.000,9, -999.000,9,   -999.0,9,   -999.0,9,-999.0000,9,  -999.00,  -999.00,9,  -999.00,9,   1.2042,2,  27.7771,2,   1.5216,2
49UP20150724_2,   P04,     3,  1,      4,     471,2,20150903,0530,0544,  8.9888, 138.1897, 4686,   4237.4,     4172,   1.5169,  34.6853,2,    157.1,2,  34.6849,2,   157.17,6,   140.31,6,    35.65,6,     0.00,6,    2.470,6, -999.000,9, -999.000,9,   -999.0,9,   -999.0,9,-999.0000,9,  -999.00,  -999.00,9,  -999.00,9,   1.1713,2,  27.7809,2,   1.5169,2
49UP20150724_2,   P04,     3,  1,      3,     104,2,20150903,0530,0538,  8.9888, 138.1897, 4686,   4492.6,     4421,   1.5060,  34.6879,2,    160.9,2,  34.6881,6,   160.91,2,   139.08,2,    35.41,2,     0.00,2,    2.450,2, -999.000,9, -999.000,9,   -999.0,9,   -999.0,9,-999.0000,9,  -999.00,  -999.00,9,  -999.00,9,   1.1316,2,  27.7857,2,   1.5060,2
49UP20150724_2,   P04,     3,  1,      2,     075,2,20150903,0530,0532,  8.9888, 138.1897, 4686,   4748.6,     4670,   1.4721,  34.6922,2,    167.9,2,  34.6923,2,   167.97,2,   135.83,2,    34.92,2,     0.00,2,    2.410,2, -999.000,9, -999.000,9,   -999.0,9,   -999.0,9,-999.0000,9,  -999.00,  -999.00,9,  -999.00,9,   1.0689,2,  27.7934,2,   1.4721,2
49UP20150724_2,   P04,     3,  1,      1,     997,2,20150903,0530,0530,  8.9888, 138.1897, 4686,   4831.0,     4750,   1.4594,  34.6938,2,    170.6,2,  34.6929,2,   170.25,2,   134.88,2,    34.73,2,     0.00,2,    2.400,2, -999.000,9, -999.000,9,   -999.0,9,   -999.0,9,-999.0000,9,  -999.00,  -999.00,9,  -999.00,9,   1.0468,2,  27.7961,2,   1.4592,2