BOTTLE,20191113JMAGEMD
EXPOCODE,SECT_ID,STNNBR,CASTNO,SAMPNO,BTLNBR,BTLNBR_FLAG_U,DATE,TIME,BTL_TIME,LATITUDE,LONGITUDE,DEPTH,CTDPRS,CTDDEP,CTDTMP,CTDSAL,CTDSAL_FLAG_W,CTDOXY,CTDOXY_FLAG_W,SALNTY,SALNTY_FLAG_W,OXYGEN,OXYGEN_FLAG_W,SILCAT,SILCAT_FLAG_W,NO2+NO3,NO2+NO3_FLAG_W,NITRIT,NITRIT_FLAG_W,PHSPHT,PHSPHT_FLAG_W,CFC-11,CFC-11_FLAG_W,CFC-12,CFC-12_FLAG_W,TCARBN,TCARBN_FLAG_W,ALKALI,ALKALI_FLAG_W,PH_TS,PH_TS_FLAG_W,PH_TS_TMP,CHLORA,CHLORA_FLAG_W,PPHYTN,PPHYTN_FLAG_W,THETA,THETA_FLAG_W,SIGTHT,SIGTHT_FLAG_W,SBE35,SBE35_FLAG_W
,,,,,,,,UTC,,,,METER,DBAR,METERS,ITS-90,PSS-78,,UMOL/KG,,PSS78,,UMOL/KG,,UMOL/KG,,UMOL/KG,,UMOL/KG,,UMOL/KG,,PMOL/KG,,PMOL/KG,,UMOL/KG,,UMOL/KG,,,,ITS-90,UG/KG,,UG/KG,,ITS-90,,KG/M3,,ITS-90,
49UP20150724_1,   P04,    49,  1,      0,      -9,0,20150808,0508,0652,  5.0002, 168.3478, 4595,      0.0,        0,  29.2875,  34.0021,2,    198.5,2,  34.0107,2,   195.92,2,     1.06,2,     0.04,2,     0.00,2,    0.070,2, -999.000,9, -999.000,9,   1912.3,2,   2233.1,2,   8.1090,2,    25.00,     0.06,2,     0.03,2,  29.2869,2,  21.2191,2,-999.0000,9
49UP20150724_1,   P04,    49,  1,     36,     109,2,20150808,0508,0718,  5.0002, 168.3478, 4595,     10.5,       10,  29.0739,  34.0108,2,    198.5,2,  34.0172,2,   197.31,2,     1.03,2,     0.02,2,     0.00,2,    0.060,2,    1.523,2,    0.932,2,   1915.1,2,   2232.7,2,   8.1123,2,    25.00,     0.06,2,     0.03,2,  29.0713,2,  21.2978,2,  29.0711,2
49UP20150724_1,   P04,    49,  1,     35,     112,2,20150808,0508,0716,  5.0002, 168.3478, 4595,     26.0,       26,  27.6748,  34.5916,2,    198.8,2,  34.6332,4,   197.82,2,     0.84,2,     0.06,2,     0.00,2,    0.120,2, -999.000,9, -999.000,9,   1966.4,2,   2275.2,2,   8.0807,2,    25.00,     0.12,2,     0.07,2,  27.6687,2,  22.1953,2,  27.7247,2
49UP20150724_1,   P04,    49,  1,     34,     083,2,20150808,0508,0712,  5.0002, 168.3478, 4595,     50.5,       50,  25.4160,  35.0721,2,    155.8,2,  35.0634,2,   158.03,6,     2.29,6,     5.17,6,     0.27,6,    0.470,6, -999.000,9, -999.000,9,   2035.9,2,   2299.4,2,   7.9962,2,    25.00,     0.23,2,     0.55,2,  25.4049,2,  23.2719,2,  25.4403,2
49UP20150724_1,   P04,    49,  1,     33,     469,2,20150808,0508,0711,  5.0002, 168.3478, 4595,     75.8,       75,  24.5728,  35.0776,2,    140.3,2,  35.0600,4,   146.35,2,     3.18,2,     6.92,2,     0.77,2,    0.570,2, -999.000,9, -999.000,9,   2049.4,2,   2298.6,2,   7.9675,2,    25.00,     0.23,2,     0.38,2,  24.5566,2,  23.5339,2,  24.5720,2
49UP20150724_1,   P04,    49,  1,     32,     105,2,20150808,0508,0710,  5.0002, 168.3478, 4595,    101.4,      101,  22.7389,  34.9060,2,    159.2,2,  34.9091,2,   159.96,2,     4.52,2,     5.38,2,     0.53,2,    0.470,2,    1.796,2,    1.098,2,   2048.3,2,   2293.9,2,   7.9630,2,    25.00,     0.10,2,     0.20,2,  22.7183,2,  23.9431,2,  22.7377,2
49UP20150724_1,   P04,    49,  1,     31,     515,2,20150808,0508,0709,  5.0002, 168.3478, 4595,    125.4,      125,  19.4913,  34.8430,2,    144.0,2,  34.8358,2,   144.05,2,     8.18,2,     9.48,2,     0.02,2,    0.740,2, -999.000,9, -999.000,9,   2091.1,2,   2289.6,2,   7.8734,2,    25.00,     0.01,2,     0.06,2,  19.4685,2,  24.7808,2,  19.4763,2
49UP20150724_1,   P04,    49,  1,     30,     097,2,20150808,0508,0707,  5.0002, 168.3478, 4595,    152.9,      152,  15.5283,  34.6495,2,    136.9,2,  34.6518,2,   137.58,2,    13.88,2,    14.46,2,     0.01,2,    1.070,2, -999.000,9, -999.000,9,   2118.8,2,   2282.0,2,   7.7907,2,    25.00,     0.00,2,     0.03,2,  15.5047,2,  25.5899,2,  15.5480,2
49UP20150724_1,   P04,    49,  1,     29,     102,2,20150808,0508,0706,  5.0002, 168.3478, 4595,    177.1,      176,  12.9792,  34.5633,2,     94.5,2,  34.5624,2,    93.20,2,    22.26,2,    22.69,2,     0.00,2,    1.660,2, -999.000,9, -999.000,9,   2177.2,2,   2283.3,2,   7.6541,2,    25.00,     0.00,2,     0.03,2,  12.9550,2,  26.0635,2,  12.9744,2
49UP20150724_1,   P04,    49,  1,     28,     108,2,20150808,0508,0705,  5.0002, 168.3478, 4595,    202.2,      201,  11.6503,  34.5445,2,     79.6,2,  34.5461,2,    77.99,2,    26.63,2,    26.34,2,     0.00,2,    1.920,2,    1.399,6,    0.762,6,   2202.7,2,   2287.8,2,   7.5923,2,    25.00,     0.00,2,     0.03,2,  11.6246,2,  26.3061,2,  11.6477,2
49UP20150724_1,   P04,    49,  1,     27,     998,2,20150808,0508,0703,  5.0002, 168.3478, 4595,    255.4,      254,   9.5487,  34.6186,2,     58.1,2,  34.6168,2,    58.11,2,    33.94,2,    32.25,2,     0.00,2,    2.290,2, -999.000,9, -999.000,9,   2240.6,2,   2301.2,2,   7.5154,2,    25.00,  -999.00,9,  -999.00,9,   9.5199,2,  26.7348,2,   9.5513,2
49UP20150724_1,   P04,    49,  1,     26,     084,2,20150808,0508,0702,  5.0002, 168.3478, 4595,    283.8,      282,   9.2282,  34.6221,2,     65.5,2,  34.6225,2,    64.74,2,    34.34,2,    32.51,2,     0.00,2,    2.290,2,    0.607,2,    0.341,2,   2240.4,2,   2302.7,2,   7.5230,2,    25.00,  -999.00,9,  -999.00,9,   9.1968,2,  26.7905,2,   9.2274,2
49UP20150724_1,   P04,    49,  1,     25,     098,2,20150808,0508,0659,  5.0002, 168.3478, 4595,    374.0,      372,   8.5342,  34.6115,2,     59.5,2,  34.6112,2,    59.37,2,    37.74,2,    34.45,2,     0.00,2,    2.430,2,    0.382,2,    0.218,2,   2247.8,2,   2303.4,2,   7.5016,2,    25.00,  -999.00,9,  -999.00,9,   8.4947,2,  26.8935,2,   8.5335,2
49UP20150724_1,   P04,    49,  1,     24,     110,2,20150808,0508,0656,  5.0002, 168.3478, 4595,    474.8,      472,   7.7696,  34.5821,2,     60.1,2,  34.5816,2,    59.78,2,    43.60,2,    35.94,2,     0.00,2,    2.540,2,    0.253,2,    0.141,2,   2260.0,2,   2311.2,2,   7.4846,2,    25.00,  -999.00,9,  -999.00,9,   7.7218,2,  26.9868,2,   7.7739,2
49UP20150724_1,   P04,    49,  1,     23,     096,2,20150808,0508,0653,  5.0002, 168.3478, 4595,    576.2,      572,   6.8407,  34.5551,2,     50.0,2,  34.5551,2,    50.04,2,    54.71,2,    38.59,2,     0.00,2,    2.760,2,    0.088,2,    0.046,2,   2279.9,2,   2317.5,2,   7.4555,2,    25.00,  -999.00,9,  -999.00,9,   6.7864,2,  27.0976,2,   6.8404,2
49UP20150724_1,   P04,    49,  1,     22,     111,2,20150808,0508,0650,  5.0002, 168.3478, 4595,    677.1,      672,   5.9363,  34.5425,2,     55.1,2,  34.5424,6,    55.17,2,    66.17,2,    39.83,2,     0.00,2,    2.840,2,    0.034,2,    0.020,2,   2298.0,2,   2332.4,2,   7.4476,2,    25.00,  -999.00,9,  -999.00,9,   5.8766,2,  27.2068,2,   5.9366,2
49UP20150724_1,   P04,    49,  1,     21,     078,2,20150808,0508,0644,  5.0002, 168.3478, 4595,    776.3,      771,   5.3887,  34.5424,2,     62.8,2,  34.5430,2,    62.44,6,    74.44,6,    39.94,6,     0.00,6,    2.850,6, -999.000,9, -999.000,9,   2299.8,2,   2341.0,2,   7.4555,2,    25.00,  -999.00,9,  -999.00,9,   5.3230,2,  27.2746,2,   5.3883,2
49UP20150724_1,   P04,    49,  1,     20,     093,2,20150808,0508,0641,  5.0002, 168.3478, 4595,    877.7,      871,   4.8884,  34.5487,2,     68.4,2,  34.5489,2,    68.74,2,    82.79,2,    40.01,2,     0.00,2,    2.850,2, -999.000,9, -999.000,9,   2305.1,6,   2350.2,6,   7.4618,2,    25.00,  -999.00,9,  -999.00,9,   4.8168,2,  27.3385,2,   4.8879,2
49UP20150724_1,   P04,    49,  1,     19,     092,2,20150808,0508,0638,  5.0002, 168.3478, 4595,    978.9,      971,   4.4776,  34.5571,2,     74.1,2,  34.5569,2,    73.30,2,    89.99,2,    40.00,2,     0.00,2,    2.860,2, -999.000,9, -999.000,9,   2313.7,2,   2356.7,2,   7.4709,6,    25.00,  -999.00,9,  -999.00,9,   4.4000,2,  27.3913,2,   4.4792,2
49UP20150724_1,   P04,    49,  1,     18,     101,2,20150808,0508,0634,  5.0002, 168.3478, 4595,   1140.9,     1131,   3.9736,  34.5701,2,     73.8,2,  34.5701,2,    73.78,2,   101.73,2,    40.44,2,     0.00,2,    2.890,2, -999.000,9, -999.000,9,   2327.0,2,   2368.8,2,   7.4704,2,    25.00,  -999.00,9,  -999.00,9,   3.8862,2,  27.4559,2,   3.9733,2
49UP20150724_1,   P04,    49,  1,     17,     090,2,20150808,0508,0628,  5.0002, 168.3478, 4595,   1343.7,     1332,   3.3798,  34.5890,2,     83.7,2,  34.5894,2,    83.28,2,   113.59,2,    40.10,2,     0.00,2,    2.870,2, -999.000,9, -999.000,9,   2335.4,6,   2383.0,6,   7.4814,2,    25.00,  -999.00,9,  -999.00,9,   3.2809,2,  27.5308,2,   3.3793,2
49UP20150724_1,   P04,    49,  1,     16,     089,2,20150808,0508,0623,  5.0002, 168.3478, 4595,   1546.1,     1532,   2.8906,  34.6071,2,     90.7,2,  34.6075,2,    90.73,2,   124.93,2,    39.84,2,     0.00,2,    2.830,2, -999.000,9, -999.000,9,   2342.7,2,   2396.0,2,   7.4882,6,    25.00,  -999.00,9,  -999.00,9,   2.7801,2,  27.5913,2,   2.8912,2
49UP20150724_1,   P04,    49,  1,     15,     088,2,20150808,0508,0618,  5.0002, 168.3478, 4595,   1747.6,     1731,   2.5151,  34.6227,2,    100.5,2,  34.6229,2,   100.09,2,   132.55,2,    39.22,2,     0.00,2,    2.770,2, -999.000,9, -999.000,9,   2345.5,2,   2402.9,2,   7.5059,2,    25.00,  -999.00,9,  -999.00,9,   2.3924,2,  27.6374,2,   2.5151,2
49UP20150724_1,   P04,    49,  1,     14,     999,2,20150808,0508,0612,  5.0002, 168.3478, 4595,   1951.1,     1931,   2.2530,  34.6364,2,    106.6,2,  34.6367,6,   106.26,2,   138.23,2,    38.90,2,     0.00,2,    2.740,2, -999.000,9, -999.000,9,   2348.3,2,   2410.5,2,   7.5148,2,    25.00,  -999.00,9,  -999.00,9,   2.1168,2,  27.6710,2,   2.2527,2
49UP20150724_1,   P04,    49,  1,     13,     667,2,20150808,0508,0608,  5.0002, 168.3478, 4595,   2152.7,     2130,   2.0593,  34.6475,2,    114.5,2,  34.6480,2,   114.35,6,   141.13,6,    38.42,6,     0.00,6,    2.690,6, -999.000,9, -999.000,9,   2348.7,2,   2414.8,2,   7.5318,2,    25.00,  -999.00,9,  -999.00,9,   1.9088,2,  27.6964,2,   2.0591,2
49UP20150724_1,   P04,    49,  1,     12,     074,2,20150808,0508,0603,  5.0002, 168.3478, 4595,   2357.1,     2331,   1.9142,  34.6558,2,    119.0,2,  34.6563,2,   118.67,2,   144.44,2,    38.13,2,     0.00,2,    2.670,2, -999.000,9, -999.000,9,   2349.4,2,   2417.5,2,   7.5373,2,    25.00,  -999.00,9,  -999.00,9,   1.7483,2,  27.7155,2,   1.9139,2
49UP20150724_1,   P04,    49,  1,     11,     268,2,20150808,0508,0557,  5.0002, 168.3478, 4595,   2560.6,     2531,   1.8154,  34.6616,2,    123.4,2,  34.6617,2,   123.20,2,   146.05,2,    37.86,2,     0.00,2,    2.650,2,    0.000,2,    0.000,2,   2343.8,2,   2420.1,2,   7.5479,2,    25.00,  -999.00,9,  -999.00,9,   1.6330,2,  27.7288,2,   1.8154,2
49UP20150724_1,   P04,    49,  1,     10,     267,2,20150808,0508,0552,  5.0002, 168.3478, 4595,   2765.3,     2732,   1.7472,  34.6653,2,    128.0,2,  34.6660,2,   127.48,2,   146.37,2,    37.62,2,     0.00,2,    2.620,2,    0.000,2,    0.000,2,   2343.4,2,   2419.1,2,   7.5509,2,    25.00,  -999.00,9,  -999.00,9,   1.5473,2,  27.7381,2,   1.7471,2
49UP20150724_1,   P04,    49,  1,      9,     518,2,20150808,0508,0547,  5.0002, 168.3478, 4595,   2968.2,     2931,   1.6877,  34.6690,2,    132.6,2,  34.6692,2,   132.30,2,   146.53,2,    37.26,2,     0.00,2,    2.600,2,    0.000,2,    0.000,2,   2342.5,2,   2420.3,2,   7.5558,2,    25.00,  -999.00,9,  -999.00,9,   1.4699,2,  27.7467,2,   1.6875,2
49UP20150724_1,   P04,    49,  1,      8,     081,2,20150808,0508,0540,  5.0002, 168.3478, 4595,   3213.6,     3172,   1.6197,  34.6739,2,    138.9,2,  34.6739,2,   138.70,2,   145.64,2,    36.84,2,     0.00,2,    2.560,2,    0.000,2,    0.000,2,   2339.0,2,   2418.3,2,   7.5686,2,    25.00,  -999.00,9,  -999.00,9,   1.3795,2,  27.7572,2,   1.6197,2
49UP20150724_1,   P04,    49,  1,      7,     516,2,20150808,0508,0534,  5.0002, 168.3478, 4595,   3468.4,     3421,   1.5276,  34.6804,2,    147.9,2,  34.6804,2,   147.86,2,   143.64,2,    36.20,2,     0.00,2,    2.520,2,    0.000,2,    0.000,2,   2331.8,2,   2416.0,2,   7.5767,2,    25.00,  -999.00,9,  -999.00,9,   1.2640,2,  27.7706,2,   1.5276,2
49UP20150724_1,   P04,    49,  1,      6,     113,2,20150808,0508,0528,  5.0002, 168.3478, 4595,   3725.7,     3673,   1.4618,  34.6862,2,    156.3,2,  34.6861,2,   155.99,2,   140.88,2,    35.62,2,     0.00,2,    2.470,2,    0.000,2,    0.000,2,   2324.2,6,   2413.2,6,   7.5877,2,    25.00,  -999.00,9,  -999.00,9,   1.1733,2,  27.7815,2,   1.4619,2
49UP20150724_1,   P04,    49,  1,      5,     094,2,20150808,0508,0523,  5.0002, 168.3478, 4595,   3976.7,     3918,   1.4119,  34.6912,2,    164.7,2,  34.6910,2,   164.73,2,   137.25,2,    35.03,2,     0.00,2,    2.420,2,    0.000,2,    0.000,2,   2317.4,2,   2408.0,2,   7.5984,6,    25.00,  -999.00,9,  -999.00,9,   1.0980,2,  27.7906,2,   1.4120,2
49UP20150724_1,   P04,    49,  1,      4,     471,2,20150808,0508,0518,  5.0002, 168.3478, 4595,   4234.3,     4169,   1.3886,  34.6948,2,    171.4,2,  34.6952,6,   171.40,2,   133.01,2,    34.47,2,     0.00,2,    2.390,2,    0.008,2,    0.003,2,   2309.5,2,   2404.1,2,   7.6021,2,    25.00,  -999.00,9,  -999.00,9,   1.0471,2,  27.7969,2,   1.3887,2
49UP20150724_1,   P04,    49,  1,      3,     104,2,20150808,0508,0513,  5.0002, 168.3478, 4595,   4489.2,     4418,   1.3763,  34.6974,2,    176.8,2,  34.6979,2,   176.59,2,   130.46,2,    34.13,2,     0.00,2,    2.360,2, -999.000,9, -999.000,9,   2302.4,2,   2398.2,2,   7.6095,2,    25.00,  -999.00,9,  -999.00,9,   1.0064,2,  27.8018,2,   1.3762,2
49UP20150724_1,   P04,    49,  1,      2,     075,2,20150808,0508,0512,  5.0002, 168.3478, 4595,   4489.2,     4418,   1.3763,  34.6973,2,    176.8,2,  34.6977,2,   176.62,2,   130.18,2,    34.06,2,     0.00,2,    2.350,2,    0.004,2,    0.003,2,   2302.8,2,   2398.0,2,   7.6068,2,    25.00,  -999.00,9,  -999.00,9,   1.0064,2,  27.8017,2,   1.3761,2
49UP20150724_1,   P04,    49,  1,      1,     997,4,20150808,0508,0509,  5.0002, 168.3478, 4595,   4654.3,     4579,   1.3695,  34.6986,2,    179.6,2,  35.0280,4,   149.44,4,     5.02,4,     6.95,4,     0.24,4,    0.580,4,    1.770,4,    1.071,4,   2062.2,4,   2304.9,4,   7.9531,4,    25.00,  -999.00,9,  -999.00,9,   0.9807,2,  27.8045,2,   1.3693,2