BOTTLE,20191113JMAGEMD
EXPOCODE,SECT_ID,STNNBR,CASTNO,SAMPNO,BTLNBR,BTLNBR_FLAG_U,DATE,TIME,BTL_TIME,LATITUDE,LONGITUDE,DEPTH,CTDPRS,CTDDEP,CTDTMP,CTDSAL,CTDSAL_FLAG_W,CTDOXY,CTDOXY_FLAG_W,SALNTY,SALNTY_FLAG_W,OXYGEN,OXYGEN_FLAG_W,SILCAT,SILCAT_FLAG_W,NO2+NO3,NO2+NO3_FLAG_W,NITRIT,NITRIT_FLAG_W,PHSPHT,PHSPHT_FLAG_W,CFC-11,CFC-11_FLAG_W,CFC-12,CFC-12_FLAG_W,TCARBN,TCARBN_FLAG_W,ALKALI,ALKALI_FLAG_W,PH_TS,PH_TS_FLAG_W,PH_TS_TMP,CHLORA,CHLORA_FLAG_W,PPHYTN,PPHYTN_FLAG_W,THETA,THETA_FLAG_W,SIGTHT,SIGTHT_FLAG_W,SBE35,SBE35_FLAG_W
,,,,,,,,UTC,,,,METER,DBAR,METERS,ITS-90,PSS-78,,UMOL/KG,,PSS78,,UMOL/KG,,UMOL/KG,,UMOL/KG,,UMOL/KG,,UMOL/KG,,PMOL/KG,,PMOL/KG,,UMOL/KG,,UMOL/KG,,,,ITS-90,UG/KG,,UG/KG,,ITS-90,,KG/M3,,ITS-90,
49UP20150724_2,   P04,     4,  1,      0,      -9,0,20150902,2206,0040,  8.9872, 138.6852, 4740,      0.0,        0,  29.0390,  34.0384,2,    197.5,2,-999.0000,9,   196.82,2,     0.97,2,     0.03,2,     0.00,2,    0.050,2, -999.000,9, -999.000,9,   1913.3,2,   2236.7,2,   8.1123,2,    25.00,     0.07,2,     0.03,2,  29.0384,2,  21.3294,2,-999.0000,9
49UP20150724_2,   P04,     4,  1,     36,     109,2,20150902,2206,0015,  8.9872, 138.6852, 4740,     10.1,       10,  29.0041,  34.0355,2,    197.5,2,  34.0354,2,   197.01,2,     0.99,2,     0.02,2,     0.00,2,    0.040,2,    1.123,3,    0.522,3,   1912.3,2,   2235.4,2,   8.1127,2,    25.00,     0.07,2,     0.03,2,  29.0016,2,  21.3395,2,  29.0024,2
49UP20150724_2,   P04,     4,  1,     35,     112,2,20150902,2206,0014,  8.9872, 138.6852, 4740,     26.2,       26,  28.9870,  34.0385,2,    197.6,2,  34.0400,2,   197.05,2,     0.97,2,     0.04,2,     0.00,2,    0.040,2, -999.000,9, -999.000,9,   1909.4,2,   2236.2,2,   8.1089,2,    25.00,     0.08,2,     0.03,2,  28.9807,2,  21.3488,2,  28.9866,2
49UP20150724_2,   P04,     4,  1,     34,     094,2,20150902,2206,0009,  8.9872, 138.6852, 4740,     51.4,       51,  27.2372,  34.6702,2,    202.0,2,  34.7103,4,   201.75,2,     1.40,2,     0.05,2,     0.00,2,    0.110,2,    1.293,3,    0.602,3,   1968.3,2,   2280.2,2,   8.0727,2,    25.00,     0.16,2,     0.09,2,  27.2253,2,  22.3973,2,  27.2366,2
49UP20150724_2,   P04,     4,  1,     33,     469,2,20150902,2206,0008,  8.9872, 138.6852, 4740,     76.7,       76,  24.1671,  34.9841,2,    194.4,2,  35.0105,4,   194.44,2,     2.05,2,     0.06,2,     0.01,2,    0.170,2, -999.000,9, -999.000,9,   2028.2,2,   2304.6,2,   8.0144,2,    25.00,     0.26,2,     0.30,2,  24.1508,2,  23.5846,2,  24.1727,2
49UP20150724_2,   P04,     4,  1,     32,     105,2,20150902,2206,0006,  8.9872, 138.6852, 4740,    100.9,      100,  18.6715,  34.8531,2,    172.5,2,  34.8409,2,   172.72,6,     4.77,6,     5.82,6,     0.05,6,    0.490,6,    1.801,3,    0.888,3,   2078.3,2,   2291.6,2,   7.8936,2,    25.00,     0.13,2,     0.29,2,  18.6538,2,  24.9966,2,  18.6706,2
49UP20150724_2,   P04,     4,  1,     31,     515,2,20150902,2206,0005,  8.9872, 138.6852, 4740,    127.9,      127,  15.0978,  34.5559,2,    143.9,2,  34.5584,6,   144.69,2,    11.50,2,    13.11,2,     0.01,2,    1.000,2, -999.000,9, -999.000,9,   2124.2,2,   2279.5,2,   7.7730,2,    25.00,     0.05,2,     0.16,2,  15.0784,2,  25.6124,2,  15.0954,2
49UP20150724_2,   P04,     4,  1,     30,     097,2,20150902,2206,0003,  8.9872, 138.6852, 4740,    153.1,      152,  13.5179,  34.4973,2,    129.1,2,  34.5005,2,   129.15,2,    17.43,2,    17.56,2,     0.01,2,    1.290,2,    1.749,3,    0.835,3,   2143.7,2,   2278.9,2,   7.7158,2,    25.00,     0.04,2,     0.11,2,  13.4964,2,  25.9029,2,  13.5172,2
49UP20150724_2,   P04,     4,  1,     29,     102,2,20150902,2206,0001,  8.9872, 138.6852, 4740,    175.3,      174,  11.9928,  34.4627,2,    105.2,2,  34.4636,2,   105.22,2,    24.20,2,    22.62,2,     0.00,2,    1.660,2, -999.000,9, -999.000,9,   2176.0,2,   2282.3,2,   7.6381,2,    25.00,     0.01,2,     0.05,2,  11.9701,2,  26.1775,2,  11.9930,2
49UP20150724_2,   P04,     4,  1,     28,     108,2,20150902,2206,0000,  8.9872, 138.6852, 4740,    201.0,      200,  11.0431,  34.4474,2,     94.5,2,  34.4691,4,    93.80,2,    28.81,2,    25.64,2,     0.00,2,    1.870,2,    1.381,3,    0.661,3,   2194.6,2,   2284.8,2,   7.5951,2,    25.00,     0.00,2,     0.04,2,  11.0184,2,  26.3418,2,  11.0340,2
49UP20150724_2,   P04,     4,  1,     27,     998,2,20150902,2206,2359,  8.9872, 138.6852, 4740,    254.1,      253,   9.7549,  34.5102,2,     80.4,2,  34.5097,6,    80.53,2,    35.16,2,    29.56,2,     0.00,2,    2.110,2, -999.000,9, -999.000,9,   2220.3,2,   2295.7,2,   7.5552,2,    25.00,  -999.00,9,  -999.00,9,   9.7260,2,  26.6157,2,   9.7555,2
49UP20150724_2,   P04,     4,  1,     26,     084,2,20150902,2206,2356,  8.9872, 138.6852, 4740,    332.4,      330,   8.4641,  34.5367,2,     81.4,2,  34.5365,2,    82.18,2,    40.88,2,    32.21,2,     0.00,2,    2.280,2,    0.578,3,    0.275,3,   2235.1,2,   2305.4,2,   7.5332,2,    25.00,  -999.00,9,  -999.00,9,   8.4292,2,  26.8449,2,   8.4695,2
49UP20150724_2,   P04,     4,  1,     25,     098,2,20150902,2206,2354,  8.9872, 138.6852, 4740,    433.2,      430,   7.5834,  34.5265,2,     92.8,2,  34.5266,2,    93.84,2,    45.25,2,    32.85,2,     0.00,2,    2.320,2,    0.460,3,    0.213,3,   2238.4,2,   2309.1,2,   7.5358,2,    25.00,  -999.00,9,  -999.00,9,   7.5405,2,  26.9694,2,   7.5837,2
49UP20150724_2,   P04,     4,  1,     24,     110,2,20150902,2206,2351,  8.9872, 138.6852, 4740,    535.4,      532,   6.8639,  34.5203,2,    100.9,2,  34.5200,2,   101.03,2,    50.49,2,    33.55,2,     0.00,2,    2.370,2,    0.321,3,    0.140,3,   2243.5,2,   2316.5,2,   7.5396,2,    25.00,  -999.00,9,  -999.00,9,   6.8135,2,  27.0665,2,   6.8642,2
49UP20150724_2,   P04,     4,  1,     23,     096,2,20150902,2206,2349,  8.9872, 138.6852, 4740,    635.3,      631,   6.3734,  34.5178,2,     97.9,2,  34.5175,2,    98.18,2,    57.22,2,    34.67,2,     0.00,2,    2.460,2,    0.281,3,    0.144,3,   2254.6,2,   2323.6,2,   7.5284,2,    25.00,  -999.00,9,  -999.00,9,   6.3155,2,  27.1310,2,   6.3738,2
49UP20150724_2,   P04,     4,  1,     22,     111,2,20150902,2206,2345,  8.9872, 138.6852, 4740,    735.6,      730,   5.7973,  34.5222,2,     96.2,2,  34.5221,2,    96.43,2,    66.23,2,    35.78,2,     0.00,2,    2.540,2,    0.178,3,    0.096,3,   2276.4,2,   2330.5,2,   7.5181,2,    25.00,  -999.00,9,  -999.00,9,   5.7329,2,  27.2087,2,   5.7976,2
49UP20150724_2,   P04,     4,  1,     21,     078,2,20150902,2206,2342,  8.9872, 138.6852, 4740,    836.6,      830,   5.2736,  34.5288,2,     93.1,2,  34.5290,6,    93.39,6,    76.43,6,    36.74,6,     0.00,6,    2.610,6,    0.122,3,    0.071,3,   2284.2,2,   2342.5,2,   7.5084,2,    25.00,  -999.00,9,  -999.00,9,   5.2031,2,  27.2780,2,   5.2743,2
49UP20150724_2,   P04,     4,  1,     20,     093,2,20150902,2206,2340,  8.9872, 138.6852, 4740,    936.4,      929,   4.7814,  34.5418,2,     88.4,2,  34.5415,2,    88.77,2,    86.67,2,    37.77,2,     0.00,2,    2.690,2, -999.000,9, -999.000,9,   2295.5,2,   2353.7,2,   7.4997,2,    25.00,  -999.00,9,  -999.00,9,   4.7054,2,  27.3455,2,   4.7816,2
49UP20150724_2,   P04,     4,  1,     19,     092,2,20150902,2206,2339,  8.9872, 138.6852, 4740,    937.0,      930,   4.7806,  34.5416,2,     88.4,2,  34.5410,2,    88.57,2,    86.99,2,    37.85,2,     0.00,2,    2.700,2,    0.057,3,    0.035,3,   2297.5,2,   2353.6,2,   7.4949,2,    25.00,  -999.00,9,  -999.00,9,   4.7045,2,  27.3455,2,   4.7807,2
49UP20150724_2,   P04,     4,  1,     18,     101,2,20150902,2206,2336,  8.9872, 138.6852, 4740,   1080.1,     1071,   4.1434,  34.5570,2,     87.8,2,  34.5574,2,    87.89,2,    99.81,2,    38.55,2,     0.00,2,    2.750,2,    0.020,3,    0.017,3,   2309.6,6,   2365.9,6,   7.4891,2,    25.00,  -999.00,9,  -999.00,9,   4.0597,2,  27.4275,2,   4.1428,2
49UP20150724_2,   P04,     4,  1,     17,     090,2,20150902,2206,2332,  8.9872, 138.6852, 4740,   1281.1,     1270,   3.2754,  34.5826,2,     94.8,2,  34.5830,2,    95.01,2,   117.26,2,    38.84,2,     0.00,2,    2.760,2, -999.000,9, -999.000,9,   2326.5,2,   2386.4,2,   7.4960,6,    25.00,  -999.00,9,  -999.00,9,   3.1827,2,  27.5349,2,   3.2746,2
49UP20150724_2,   P04,     4,  1,     16,     089,2,20150902,2206,2326,  8.9872, 138.6852, 4740,   1483.9,     1470,   2.8147,  34.6023,2,    101.3,2,  34.6023,2,   101.42,2,   126.30,2,    38.79,2,     0.00,2,    2.750,2, -999.000,9, -999.000,9,   2339.8,2,   2394.5,2,   7.5033,2,    25.00,  -999.00,9,  -999.00,9,   2.7103,2,  27.5937,2,   2.8151,2
49UP20150724_2,   P04,     4,  1,     15,     088,2,20150902,2206,2321,  8.9872, 138.6852, 4740,   1688.1,     1672,   2.4365,  34.6208,2,    108.7,2,  34.6210,2,   108.94,2,   133.01,2,    38.54,2,     0.00,2,    2.720,2, -999.000,9, -999.000,9,   2339.1,2,   2402.5,2,   7.5113,2,    25.00,  -999.00,9,  -999.00,9,   2.3198,2,  27.6419,2,   2.4366,2
49UP20150724_2,   P04,     4,  1,     14,     999,2,20150902,2206,2316,  8.9872, 138.6852, 4740,   1888.5,     1869,   2.2286,  34.6318,2,    114.2,2,  34.6317,2,   114.50,2,   136.79,2,    38.27,2,     0.00,2,    2.700,2, -999.000,9, -999.000,9,   2337.2,2,   2404.7,2,   7.5222,2,    25.00,  -999.00,9,  -999.00,9,   2.0981,2,  27.6688,2,   2.2288,2
49UP20150724_2,   P04,     4,  1,     13,     667,2,20150902,2206,2311,  8.9872, 138.6852, 4740,   2092.5,     2070,   2.0781,  34.6399,2,    118.7,2,  34.6402,2,   118.90,2,   139.02,2,    38.00,2,     0.00,2,    2.670,2, -999.000,9, -999.000,9,   2336.4,2,   2411.2,3,   7.5280,2,    25.00,  -999.00,9,  -999.00,9,   1.9325,2,  27.6885,2,   2.0782,2
49UP20150724_2,   P04,     4,  1,     12,     074,2,20150902,2206,2306,  8.9872, 138.6852, 4740,   2296.0,     2271,   1.8621,  34.6525,2,    126.6,2,  34.6527,2,   127.16,2,   142.04,2,    37.67,2,     0.00,2,    2.630,2, -999.000,9, -999.000,9,   2336.2,6,   2410.9,6,   7.5396,2,    25.00,  -999.00,9,  -999.00,9,   1.7025,2,  27.7163,2,   1.8620,2
49UP20150724_2,   P04,     4,  1,     11,     268,2,20150902,2206,2301,  8.9872, 138.6852, 4740,   2498.8,     2470,   1.7597,  34.6581,2,    130.7,2,  34.6583,2,   130.83,2,   143.89,2,    37.39,2,     0.00,2,    2.610,2, -999.000,9, -999.000,9,   2336.7,2,   2412.6,2,   7.5448,6,    25.00,  -999.00,9,  -999.00,9,   1.5839,2,  27.7297,2,   1.7596,2
49UP20150724_2,   P04,     4,  1,     10,     267,2,20150902,2206,2256,  8.9872, 138.6852, 4740,   2702.5,     2670,   1.6679,  34.6646,2,    135.8,2,  34.6644,2,   136.34,2,   144.40,2,    37.09,2,     0.00,2,    2.590,2,    0.000,3,    0.008,3,   2331.9,3,   2413.4,2,   7.5540,2,    25.00,  -999.00,9,  -999.00,9,   1.4754,2,  27.7428,2,   1.6679,2
49UP20150724_2,   P04,     4,  1,      9,     518,2,20150902,2206,2251,  8.9872, 138.6852, 4740,   2907.0,     2871,   1.6021,  34.6702,2,    140.7,2,  34.6702,6,   140.85,2,   144.35,2,    36.76,2,     0.00,2,    2.560,2, -999.000,9, -999.000,9,   2336.2,2,   2413.8,2,   7.5606,2,    25.00,  -999.00,9,  -999.00,9,   1.3919,2,  27.7533,2,   1.6023,2
49UP20150724_2,   P04,     4,  1,      8,     081,2,20150902,2206,2246,  8.9872, 138.6852, 4740,   3120.9,     3081,   1.5891,  34.6718,2,    142.3,2,  34.6714,2,   142.48,6,   144.38,6,    36.66,6,     0.00,6,    2.560,6, -999.000,9, -999.000,9,   2328.9,2,   2412.4,2,   7.5643,2,    25.00,  -999.00,9,  -999.00,9,   1.3587,2,  27.7570,2,   1.5891,2
49UP20150724_2,   P04,     4,  1,      7,     516,2,20150902,2206,2238,  8.9872, 138.6852, 4740,   3376.9,     3331,   1.5487,  34.6760,2,    146.4,2,  34.6759,2,   146.46,2,   144.03,2,    36.40,2,     0.00,2,    2.540,2, -999.000,9, -999.000,9,   2326.5,2,   2413.5,2,   7.5676,2,    25.00,  -999.00,9,  -999.00,9,   1.2939,2,  27.7649,2,   1.5488,2
49UP20150724_2,   P04,     4,  1,      6,     113,2,20150902,2206,2233,  8.9872, 138.6852, 4740,   3632.8,     3582,   1.5398,  34.6784,2,    148.7,2,  34.6790,2,   148.89,2,   143.68,2,    36.26,2,     0.00,2,    2.520,2, -999.000,9, -999.000,9,   2328.1,6,   2413.6,6,   7.5726,2,    25.00,  -999.00,9,  -999.00,9,   1.2590,2,  27.7693,2,   1.5399,2
49UP20150724_2,   P04,     4,  1,      5,     658,2,20150902,2206,2225,  8.9872, 138.6852, 4740,   3889.2,     3832,   1.5329,  34.6812,2,    152.0,2,  34.6816,2,   152.25,2,   142.71,2,    36.04,2,     0.00,2,    2.510,2, -999.000,9, -999.000,9,   2330.9,2,   2414.8,2,   7.5774,6,    25.00,  -999.00,9,  -999.00,9,   1.2251,2,  27.7739,2,   1.5331,2
49UP20150724_2,   P04,     4,  1,      4,     471,2,20150902,2206,2219,  8.9872, 138.6852, 4740,   4143.9,     4081,   1.5135,  34.6848,2,    156.3,2,  34.6853,2,   156.69,6,   141.00,6,    35.77,6,     0.00,6,    2.480,6, -999.000,9, -999.000,9,   2324.4,2,   2412.2,2,   7.5824,2,    25.00,  -999.00,9,  -999.00,9,   1.1784,2,  27.7800,2,   1.5135,2
49UP20150724_2,   P04,     4,  1,      3,     104,2,20150902,2206,2213,  8.9872, 138.6852, 4740,   4400.7,     4331,   1.5063,  34.6870,2,    159.7,2,  34.6872,2,   159.96,2,   139.90,2,    35.52,2,     0.00,2,    2.470,2, -999.000,9, -999.000,9,   2320.7,2,   2409.9,2,   7.5882,2,    25.00,  -999.00,9,  -999.00,9,   1.1425,2,  27.7843,2,   1.5062,2
49UP20150724_2,   P04,     4,  1,      1,     997,2,20150902,2206,2206,  8.9872, 138.6852, 4740,   4677.0,     4600,   1.4937,  34.6899,2,    164.6,2,  34.6902,2,   164.24,2,   137.86,2,    35.18,2,     0.00,2,    2.440,2,    0.000,3,    0.000,3,   2312.6,2,   2406.6,2,   7.5905,2,    25.00,  -999.00,9,  -999.00,9,   1.0983,2,  27.7896,2,   1.4931,2
49UP20150724_2,   P04,     4,  1,      2,     075,2,20150902,2206,2207,  8.9872, 138.6852, 4740,   4677.8,     4601,   1.4932,  34.6900,2,    164.6,2,  34.6906,2,   164.86,2,   137.58,2,    35.13,2,     0.00,2,    2.430,2, -999.000,9, -999.000,9,   2311.8,2,   2405.0,2,   7.5929,2,    25.00,  -999.00,9,  -999.00,9,   1.0977,2,  27.7897,2,   1.4930,2