BOTTLE,20191113JMAGEMD
EXPOCODE,SECT_ID,STNNBR,CASTNO,SAMPNO,BTLNBR,BTLNBR_FLAG_U,DATE,TIME,BTL_TIME,LATITUDE,LONGITUDE,DEPTH,CTDPRS,CTDDEP,CTDTMP,CTDSAL,CTDSAL_FLAG_W,CTDOXY,CTDOXY_FLAG_W,SALNTY,SALNTY_FLAG_W,OXYGEN,OXYGEN_FLAG_W,SILCAT,SILCAT_FLAG_W,NO2+NO3,NO2+NO3_FLAG_W,NITRIT,NITRIT_FLAG_W,PHSPHT,PHSPHT_FLAG_W,CFC-11,CFC-11_FLAG_W,CFC-12,CFC-12_FLAG_W,TCARBN,TCARBN_FLAG_W,ALKALI,ALKALI_FLAG_W,PH_TS,PH_TS_FLAG_W,PH_TS_TMP,CHLORA,CHLORA_FLAG_W,PPHYTN,PPHYTN_FLAG_W,THETA,THETA_FLAG_W,SIGTHT,SIGTHT_FLAG_W,SBE35,SBE35_FLAG_W
,,,,,,,,UTC,,,,METER,DBAR,METERS,ITS-90,PSS-78,,UMOL/KG,,PSS78,,UMOL/KG,,UMOL/KG,,UMOL/KG,,UMOL/KG,,UMOL/KG,,PMOL/KG,,PMOL/KG,,UMOL/KG,,UMOL/KG,,,,ITS-90,UG/KG,,UG/KG,,ITS-90,,KG/M3,,ITS-90,
49UP20150724_2,   P04,    13,  1,      0,      -9,0,20150831,0613,0724,  9.5200, 145.8365, 3215,      0.0,        0,  28.6432,  34.0320,2,    199.2,2,  34.0549,2,   198.59,2,     1.35,2,     0.04,2,     0.00,2,    0.100,2, -999.000,9, -999.000,9,   1925.9,2,   2237.4,2,   8.0886,2,    25.00,     0.08,2,     0.04,2,  28.6426,2,  21.4561,2,-999.0000,9
49UP20150724_2,   P04,    13,  1,     36,     109,2,20150831,0613,0749,  9.5200, 145.8365, 3215,     10.6,       11,  28.6167,  34.0448,2,    199.1,2,  34.0358,2,   198.36,2,     1.35,2,     0.04,2,     0.00,2,    0.080,2, -999.000,9, -999.000,9,   1923.5,2,   2234.6,2,   8.0842,2,    25.00,  -999.00,9,  -999.00,9,  28.6142,2,  21.4750,2,  28.6172,2
49UP20150724_2,   P04,    13,  1,     35,     112,2,20150831,0613,0749,  9.5200, 145.8365, 3215,     10.6,       11,  28.6441,  34.0365,2,    199.0,2,  34.0388,2,   198.54,2,     1.35,2,     0.03,2,     0.00,2,    0.080,2,    1.215,3,    0.610,3,   1924.0,2,   2236.3,2,   8.0848,2,    25.00,     0.08,2,     0.04,2,  28.6416,2,  21.4597,2,  28.6435,2
49UP20150724_2,   P04,    13,  1,     34,     094,2,20150831,0613,0747,  9.5200, 145.8365, 3215,     26.1,       26,  28.4777,  34.0596,2,    198.9,2,  34.0597,6,   198.48,2,     1.40,2,     0.03,2,     0.00,2,    0.080,2, -999.000,9, -999.000,9,   1924.0,2,   2237.8,2,   8.0846,2,    25.00,     0.10,2,     0.05,2,  28.4715,2,  21.5332,2,  28.4751,2
49UP20150724_2,   P04,    13,  1,     30,     097,2,20150831,0613,0743,  9.5200, 145.8365, 3215,     51.5,       51,  26.2991,  34.4439,2,    199.1,2,  34.4681,4,   199.27,2,     2.07,2,     0.03,2,     0.00,2,    0.130,2,    1.412,3,    0.694,3,   1973.8,2,   2266.4,2,   8.0486,2,    25.00,     0.20,2,     0.11,2,  26.2876,2,  22.5240,2,  26.3015,2
49UP20150724_2,   P04,    13,  1,     29,     102,2,20150831,0613,0742,  9.5200, 145.8365, 3215,     75.9,       75,  22.0626,  34.7957,2,    185.2,2,  34.7726,4,   180.34,2,     4.27,2,     2.95,2,     0.11,2,    0.370,2, -999.000,9, -999.000,9,   2040.1,2,   2288.1,2,   7.9619,2,    25.00,     0.29,2,     0.34,2,  22.0476,2,  24.0493,2,  22.2111,2
49UP20150724_2,   P04,    13,  1,     28,     108,2,20150831,0613,0740,  9.5200, 145.8365, 3215,    101.2,      101,  17.0693,  34.6944,2,    135.0,2,  34.6901,2,   134.53,6,    12.02,6,    13.18,6,     0.23,6,    1.000,6,    1.637,3,    0.803,3,   2114.0,2,   2288.3,2,   7.7991,2,    25.00,     0.16,2,     0.23,2,  17.0527,2,  25.2672,2,  17.0726,2
49UP20150724_2,   P04,    13,  1,     27,     998,2,20150831,0613,0739,  9.5200, 145.8365, 3215,    125.9,      125,  13.2833,  34.5275,2,    109.2,2,  34.5298,6,   108.59,2,    20.34,2,    20.35,2,     0.01,2,    1.490,2, -999.000,9, -999.000,9,   2161.5,2,   2281.6,2,   7.6787,2,    25.00,     0.04,2,     0.12,2,  13.2658,2,  25.9732,2,  13.2904,2
49UP20150724_2,   P04,    13,  1,     26,     084,2,20150831,0613,0738,  9.5200, 145.8365, 3215,    151.8,      151,  11.7600,  34.4861,2,     95.1,2,  34.4877,2,    95.46,2,    25.46,2,    24.08,2,     0.01,2,    1.760,2,    1.310,3,    0.578,3,   2186.2,2,   2285.7,2,   7.6189,2,    25.00,     0.02,2,     0.06,2,  11.7406,2,  26.2389,2,  11.7565,2
49UP20150724_2,   P04,    13,  1,     25,     098,2,20150831,0613,0736,  9.5200, 145.8365, 3215,    174.3,      173,  11.0598,  34.4805,2,     88.4,2,  34.4821,6,    88.86,2,    28.76,2,    26.09,2,     0.00,2,    1.890,2, -999.000,9, -999.000,9,   2195.3,2,   2287.5,2,   7.5904,2,    25.00,     0.01,2,     0.05,2,  11.0384,2,  26.3640,2,  11.0578,2
49UP20150724_2,   P04,    13,  1,     23,     096,2,20150831,0613,0735,  9.5200, 145.8365, 3215,    201.6,      200,   9.9108,  34.4990,2,     77.0,2,  34.4992,2,    76.71,2,    34.27,2,    29.50,2,     0.00,2,    2.120,2,    0.854,3,    0.375,3,   2217.7,2,   2295.2,2,   7.5491,2,    25.00,     0.00,2,     0.05,2,   9.8877,2,  26.5798,2,   9.9118,2
49UP20150724_2,   P04,    13,  1,     22,     111,2,20150831,0613,0734,  9.5200, 145.8365, 3215,    251.9,      250,   9.2445,  34.5300,2,     73.0,2,  34.5303,6,    72.64,2,    37.46,2,    31.33,2,     0.00,2,    2.230,2, -999.000,9, -999.000,9,   2230.3,2,   2298.5,2,   7.5296,2,    25.00,  -999.00,9,  -999.00,9,   9.2168,2,  26.7152,2,   9.2443,2
49UP20150724_2,   P04,    13,  1,     21,     078,2,20150831,0613,0731,  9.5200, 145.8365, 3215,    333.7,      332,   8.6227,  34.5586,2,     69.4,2,  34.5582,2,    69.38,2,    40.29,2,    33.10,2,     0.00,2,    2.340,2,    0.521,3,    0.275,3,   2242.6,2,   2305.8,2,   7.5106,2,    25.00,  -999.00,9,  -999.00,9,   8.5873,2,  26.8376,2,   8.6226,2
49UP20150724_2,   P04,    13,  1,     20,     093,2,20150831,0613,0728,  9.5200, 145.8365, 3215,    434.5,      432,   7.7007,  34.5258,2,     83.5,2,  34.5263,6,    83.37,2,    45.93,2,    33.42,2,     0.00,2,    2.360,2,    0.425,3,    0.208,3,   2242.7,2,   2311.2,2,   7.5216,2,    25.00,  -999.00,9,  -999.00,9,   7.6573,2,  26.9519,2,   7.7014,2
49UP20150724_2,   P04,    13,  1,     19,     092,2,20150831,0613,0725,  9.5200, 145.8365, 3215,    533.8,      530,   7.1546,  34.5271,2,     85.6,2,  34.5268,2,    85.16,2,    50.55,2,    34.33,2,     0.00,2,    2.440,2, -999.000,9, -999.000,9,   2249.2,2,   2316.3,2,   7.5186,2,    25.00,  -999.00,9,  -999.00,9,   7.1031,2,  27.0319,2,   7.1545,2
49UP20150724_2,   P04,    13,  1,     18,     101,2,20150831,0613,0725,  9.5200, 145.8365, 3215,    534.4,      531,   7.1529,  34.5270,2,     85.6,2,  34.5271,2,    85.21,2,    50.55,2,    34.34,2,     0.00,2,    2.430,2,    0.328,3,    0.182,3,   2251.2,2,   2315.3,2,   7.5182,2,    25.00,  -999.00,9,  -999.00,9,   7.1014,2,  27.0321,2,   7.1532,2
49UP20150724_2,   P04,    13,  1,     17,     090,2,20150831,0613,0722,  9.5200, 145.8365, 3215,    634.2,      630,   6.5497,  34.5254,2,     85.9,2,  34.5254,2,    85.78,6,    57.53,6,    35.36,6,     0.00,6,    2.520,6,    0.226,3,    0.133,3,   2260.7,2,   2322.1,2,   7.5091,2,    25.00,  -999.00,9,  -999.00,9,   6.4911,2,  27.1138,2,   6.5493,2
49UP20150724_2,   P04,    13,  1,     16,     089,2,20150831,0613,0719,  9.5200, 145.8365, 3215,    735.9,      730,   5.9803,  34.5298,2,     84.3,2,  34.5298,6,    83.99,2,    65.78,2,    36.50,2,     0.00,2,    2.610,2,    0.147,3,    0.092,3,   2271.5,2,   2331.7,2,   7.5020,2,    25.00,  -999.00,9,  -999.00,9,   5.9149,2,  27.1919,2,   5.9800,2
49UP20150724_2,   P04,    13,  1,     15,     088,2,20150831,0613,0716,  9.5200, 145.8365, 3215,    837.8,      831,   5.3085,  34.5385,2,     83.8,2,  34.5385,2,    83.22,2,    76.39,2,    37.53,2,     0.00,2,    2.670,2,    0.078,3,    0.053,3,   2283.9,2,   2342.9,2,   7.4929,2,    25.00,  -999.00,9,  -999.00,9,   5.2377,2,  27.2815,2,   5.3127,2
49UP20150724_2,   P04,    13,  1,     14,     999,2,20150831,0613,0713,  9.5200, 145.8365, 3215,    938.2,      931,   4.7334,  34.5464,2,     85.5,2,  34.5465,6,    85.18,2,    87.62,2,    38.13,2,     0.00,2,    2.720,2,    0.044,3,    0.035,3,   2299.8,2,   2355.2,2,   7.4892,2,    25.00,  -999.00,9,  -999.00,9,   4.6575,2,  27.3545,2,   4.7334,2
49UP20150724_2,   P04,    13,  1,     13,     667,2,20150831,0613,0710,  9.5200, 145.8365, 3215,   1080.4,     1072,   4.1714,  34.5576,2,     87.8,2,  34.5567,2,    87.70,2,    98.73,2,    38.49,2,     0.00,2,    2.750,2,    0.029,3,    0.026,3,   2308.6,2,   2367.2,2,   7.4908,2,    25.00,  -999.00,9,  -999.00,9,   4.0875,2,  27.4251,2,   4.1703,2
49UP20150724_2,   P04,    13,  1,     12,     074,2,20150831,0613,0705,  9.5200, 145.8365, 3215,   1282.2,     1271,   3.5582,  34.5767,2,     92.7,2,  34.5770,2,    92.48,2,   111.12,2,    38.78,2,     0.00,2,    2.760,2, -999.000,9, -999.000,9,   2319.1,6,   2379.6,6,   7.4948,2,    25.00,  -999.00,9,  -999.00,9,   3.4626,2,  27.5035,2,   3.5584,2
49UP20150724_2,   P04,    13,  1,     11,     268,2,20150831,0613,0659,  9.5200, 145.8365, 3215,   1484.2,     1471,   3.2133,  34.5887,2,     96.3,2,  34.5891,2,    96.06,2,   118.10,2,    38.84,2,     0.00,2,    2.760,2, -999.000,9, -999.000,9,   2327.3,2,   2386.5,2,   7.4956,6,    25.00,  -999.00,9,  -999.00,9,   3.1044,2,  27.5471,2,   3.2141,2
49UP20150724_2,   P04,    13,  1,     10,     267,2,20150831,0613,0654,  9.5200, 145.8365, 3215,   1687.1,     1671,   2.7390,  34.6057,2,    101.9,2,  34.6058,2,   101.63,2,   128.04,2,    38.79,2,     0.00,2,    2.750,2, -999.000,9, -999.000,9,   2335.7,2,   2397.2,2,   7.5028,2,    25.00,  -999.00,9,  -999.00,9,   2.6186,2,  27.6044,2,   2.7392,2
49UP20150724_2,   P04,    13,  1,      9,     518,2,20150831,0613,0650,  9.5200, 145.8365, 3215,   1888.5,     1869,   2.3901,  34.6241,2,    108.6,2,  34.6244,2,   108.17,2,   134.64,2,    38.56,2,     0.00,2,    2.730,2, -999.000,9, -999.000,9,   2338.9,6,   2404.4,6,   7.5148,2,    25.00,  -999.00,9,  -999.00,9,   2.2573,2,  27.6497,2,   2.3901,2
49UP20150724_2,   P04,    13,  1,      8,     081,2,20150831,0613,0643,  9.5200, 145.8365, 3215,   2093.0,     2071,   2.1669,  34.6354,2,    114.1,2,  34.6357,2,   113.72,2,   138.94,2,    38.30,2,     0.00,2,    2.700,2, -999.000,9, -999.000,9,   2344.5,2,   2408.7,2,   7.5214,6,    25.00,  -999.00,9,  -999.00,9,   2.0199,2,  27.6780,2,   2.1661,2
49UP20150724_2,   P04,    13,  1,      7,     516,2,20150831,0613,0638,  9.5200, 145.8365, 3215,   2296.2,     2271,   1.9979,  34.6452,2,    118.8,2,  34.6453,2,   118.38,2,   142.36,2,    38.13,2,     0.00,2,    2.680,2, -999.000,9, -999.000,9,   2339.1,6,   2412.5,6,   7.5266,2,    25.00,  -999.00,9,  -999.00,9,   1.8360,2,  27.7002,2,   1.9978,2
49UP20150724_2,   P04,    13,  1,      6,     113,2,20150831,0613,0633,  9.5200, 145.8365, 3215,   2499.3,     2471,   1.8629,  34.6535,2,    124.0,2,  34.6538,2,   123.64,2,   144.39,2,    37.81,2,     0.00,2,    2.650,2, -999.000,9, -999.000,9,   2340.6,2,   2415.0,2,   7.5376,6,    25.00,  -999.00,9,  -999.00,9,   1.6852,2,  27.7184,2,   1.8628,2
49UP20150724_2,   P04,    13,  1,      5,     658,2,20150831,0613,0627,  9.5200, 145.8365, 3215,   2703.5,     2671,   1.7617,  34.6593,2,    129.5,2,  34.6598,2,   129.22,6,   145.18,6,    37.46,6,     0.00,6,    2.620,6,    0.000,3,    0.003,3,   2343.3,2,   2417.0,2,   7.5429,2,    25.00,  -999.00,9,  -999.00,9,   1.5673,2,  27.7318,2,   1.7615,2
49UP20150724_2,   P04,    13,  1,      4,     471,2,20150831,0613,0622,  9.5200, 145.8365, 3215,   2908.1,     2872,   1.6914,  34.6641,2,    134.3,2,  34.6647,2,   134.18,2,   145.34,2,    37.15,2,     0.00,2,    2.600,2, -999.000,9, -999.000,9,   2333.4,2,   2415.0,2,   7.5518,2,    25.00,  -999.00,9,  -999.00,9,   1.4792,2,  27.7421,2,   1.6912,2
49UP20150724_2,   P04,    13,  1,      3,     104,2,20150831,0613,0617,  9.5200, 145.8365, 3215,   3120.9,     3081,   1.6314,  34.6686,2,    138.7,2,  34.6694,2,   138.39,2,   145.22,2,    36.87,2,     0.00,2,    2.570,2, -999.000,9, -999.000,9,   2333.3,2,   2416.2,2,   7.5566,2,    25.00,  -999.00,9,  -999.00,9,   1.4001,2,  27.7515,2,   1.6313,2
49UP20150724_2,   P04,    13,  1,      2,     075,2,20150831,0613,0617,  9.5200, 145.8365, 3215,   3121.0,     3081,   1.6316,  34.6686,2,    138.7,2,  34.6681,2,   138.46,2,   145.23,2,    36.84,2,     0.00,2,    2.580,2, -999.000,9, -999.000,9,   2331.4,2,   2414.3,2,   7.5568,2,    25.00,  -999.00,9,  -999.00,9,   1.4002,2,  27.7515,2,   1.6314,2
49UP20150724_2,   P04,    13,  1,      1,     997,2,20150831,0613,0613,  9.5200, 145.8365, 3215,   3224.0,     3182,   1.5906,  34.6718,2,    142.0,2,  34.6717,2,   141.36,2,   144.91,2,    36.67,2,     0.00,2,    2.550,2,    0.000,3,    0.002,3,   2321.9,3,   2417.5,2,   7.5644,2,    25.00,  -999.00,9,  -999.00,9,   1.3500,2,  27.7576,2,   1.5906,2