BOTTLE,20191113JMAGEMD
EXPOCODE,SECT_ID,STNNBR,CASTNO,SAMPNO,BTLNBR,BTLNBR_FLAG_U,DATE,TIME,BTL_TIME,LATITUDE,LONGITUDE,DEPTH,CTDPRS,CTDDEP,CTDTMP,CTDSAL,CTDSAL_FLAG_W,CTDOXY,CTDOXY_FLAG_W,SALNTY,SALNTY_FLAG_W,OXYGEN,OXYGEN_FLAG_W,SILCAT,SILCAT_FLAG_W,NO2+NO3,NO2+NO3_FLAG_W,NITRIT,NITRIT_FLAG_W,PHSPHT,PHSPHT_FLAG_W,CFC-11,CFC-11_FLAG_W,CFC-12,CFC-12_FLAG_W,TCARBN,TCARBN_FLAG_W,ALKALI,ALKALI_FLAG_W,PH_TS,PH_TS_FLAG_W,PH_TS_TMP,CHLORA,CHLORA_FLAG_W,PPHYTN,PPHYTN_FLAG_W,THETA,THETA_FLAG_W,SIGTHT,SIGTHT_FLAG_W,SBE35,SBE35_FLAG_W
,,,,,,,,UTC,,,,METER,DBAR,METERS,ITS-90,PSS-78,,UMOL/KG,,PSS78,,UMOL/KG,,UMOL/KG,,UMOL/KG,,UMOL/KG,,UMOL/KG,,PMOL/KG,,PMOL/KG,,UMOL/KG,,UMOL/KG,,,,ITS-90,UG/KG,,UG/KG,,ITS-90,,KG/M3,,ITS-90,
49UP20150724_1,   P04,    55,  1,      0,      -9,0,20150806,0610,0812,  4.9977, 172.0155, 4516,      0.0,        0,  29.4783,  34.0583,2,    198.3,2,  34.0659,2,   197.01,2,     1.17,2,     0.07,2,     0.00,2,    0.090,2, -999.000,9, -999.000,9,   1913.7,2,   2234.9,2,   8.1115,2,    25.00,     0.08,2,     0.03,2,  29.4777,2,  21.1972,2,-999.0000,9
49UP20150724_1,   P04,    55,  1,     36,     109,2,20150806,0610,0830,  4.9977, 172.0155, 4516,     11.1,       11,  29.4771,  34.0596,2,    198.2,2,  34.0678,2,   196.87,6,     1.14,6,     0.05,6,     0.00,6,    0.070,6,    1.520,2,    0.921,2,   1916.2,2,   2237.6,2,   8.1171,2,    25.00,     0.07,2,     0.04,2,  29.4744,2,  21.1993,2,  29.4716,2
49UP20150724_1,   P04,    55,  1,     35,     112,2,20150806,0610,0829,  4.9977, 172.0155, 4516,     26.2,       26,  29.2711,  34.1223,2,    199.1,2,  34.2199,4,   199.58,2,     1.22,2,     0.04,2,     0.00,2,    0.080,2, -999.000,9, -999.000,9,   1926.5,2,   2247.4,2,   8.1043,2,    25.00,     0.08,2,     0.04,2,  29.2647,2,  21.3168,2,  29.2677,2
49UP20150724_1,   P04,    55,  1,     34,     083,2,20150806,0610,0825,  4.9977, 172.0155, 4516,     51.0,       51,  26.2475,  34.9283,2,    193.5,2,  34.9554,4,   188.63,2,     0.57,2,     0.50,2,     0.02,2,    0.240,2, -999.000,9, -999.000,9,   2002.9,2,   2296.7,2,   8.0370,2,    25.00,     0.31,2,     0.58,2,  26.2361,2,  22.9054,2,  26.2435,2
49UP20150724_1,   P04,    55,  1,     33,     469,2,20150806,0610,0824,  4.9977, 172.0155, 4516,     76.0,       76,  24.6611,  34.9591,2,    166.6,2,  34.9541,2,   169.23,2,     2.79,2,     3.07,2,     0.34,2,    0.380,2, -999.000,9, -999.000,9,   2027.0,2,   2296.1,2,   8.0079,2,    25.00,     0.31,2,     0.36,2,  24.6448,2,  23.4178,2,  24.6999,2
49UP20150724_1,   P04,    55,  1,     32,     105,2,20150806,0610,0823,  4.9977, 172.0155, 4516,    100.9,      100,  23.1019,  34.9925,2,    156.9,2,  34.9961,2,   156.21,2,     4.21,2,     5.49,2,     0.21,2,    0.500,2,    1.826,2,    1.102,2,   2051.0,2,   2298.4,2,   7.9612,2,    25.00,     0.15,2,     0.37,2,  23.0812,2,  23.9044,2,  23.0943,2
49UP20150724_1,   P04,    55,  1,     31,     515,2,20150806,0610,0822,  4.9977, 172.0155, 4516,    126.1,      125,  21.0581,  34.9100,2,    146.1,2,  34.9083,2,   146.97,2,     6.36,2,     7.77,2,     0.04,2,    0.660,2, -999.000,9, -999.000,9,   2075.9,2,   2296.2,2,   7.9108,2,    25.00,     0.06,2,     0.20,2,  21.0339,2,  24.4162,2,  21.0423,2
49UP20150724_1,   P04,    55,  1,     30,     097,2,20150806,0610,0821,  4.9977, 172.0155, 4516,    151.7,      151,  16.0513,  34.6587,2,    119.1,2,  34.6482,2,   118.16,2,    14.14,2,    16.07,2,     0.01,2,    1.220,2, -999.000,9, -999.000,9,   2137.2,2,   2285.2,2,   7.7568,2,    25.00,     0.03,2,     0.10,2,  16.0273,2,  25.4788,2,  16.0556,2
49UP20150724_1,   P04,    55,  1,     29,     102,2,20150806,0610,0820,  4.9977, 172.0155, 4516,    177.0,      176,  12.7950,  34.5431,2,     87.8,2,  34.5464,2,    82.94,2,    23.11,2,    24.13,2,     0.01,2,    1.790,2, -999.000,9, -999.000,9,   2192.2,2,   2285.9,2,   7.6191,2,    25.00,     0.01,2,     0.04,2,  12.7710,2,  26.0845,2,  12.8105,2
49UP20150724_1,   P04,    55,  1,     28,     108,2,20150806,0610,0818,  4.9977, 172.0155, 4516,    203.3,      202,  10.7043,  34.5864,2,     53.8,2,  34.6540,4,    53.35,2,    30.35,2,    30.34,2,     0.00,2,    2.200,2,    0.994,2,    0.528,2,   2228.1,2,   2293.5,2,   7.5304,2,    25.00,     0.00,2,     0.04,2,  10.6798,2,  26.5108,2,  10.7056,2
49UP20150724_1,   P04,    55,  1,     27,     998,2,20150806,0610,0816,  4.9977, 172.0155, 4516,    251.9,      250,   9.8761,  34.6214,2,     48.5,2,  34.6214,2,    48.33,2,    33.35,2,    32.64,2,     0.00,2,    2.340,2, -999.000,9, -999.000,9,   2242.0,2,   2298.9,2,   7.5054,2,    25.00,  -999.00,9,  -999.00,9,   9.8471,2,  26.6823,2,   9.8713,2
49UP20150724_1,   P04,    55,  1,     26,     084,2,20150806,0610,0815,  4.9977, 172.0155, 4516,    283.4,      282,   9.4013,  34.6293,2,     59.1,2,  34.6295,2,    60.71,2,    33.72,2,    32.55,2,     0.00,2,    2.310,2,    0.649,2,    0.342,2,   2238.5,2,   2301.0,2,   7.5200,2,    25.00,  -999.00,9,  -999.00,9,   9.3696,2,  26.7679,2,   9.4013,2
49UP20150724_1,   P04,    55,  1,     25,     098,2,20150806,0610,0813,  4.9977, 172.0155, 4516,    374.1,      372,   8.7019,  34.6182,2,     53.0,2,  34.6178,2,    53.66,6,    37.25,6,    34.59,6,     0.00,6,    2.460,6,    0.386,2,    0.216,2,   2253.2,2,   2305.3,2,   7.4937,2,    25.00,  -999.00,9,  -999.00,9,   8.6618,2,  26.8727,2,   8.7064,2
49UP20150724_1,   P04,    55,  1,     24,     110,2,20150806,0610,0810,  4.9977, 172.0155, 4516,    475.1,      472,   8.0417,  34.5930,2,     67.1,2,  34.5926,6,    66.79,2,    40.33,2,    34.84,2,     0.00,2,    2.470,2,    0.338,2,    0.189,2,   2254.8,2,   2307.6,2,   7.5024,2,    25.00,  -999.00,9,  -999.00,9,   7.9929,2,  26.9553,2,   8.0412,2
49UP20150724_1,   P04,    55,  1,     23,     096,2,20150806,0610,0807,  4.9977, 172.0155, 4516,    575.6,      572,   7.1465,  34.5582,2,     45.1,2,  34.5587,2,    45.06,2,    52.61,2,    38.25,2,     0.00,2,    2.760,2,    0.102,6,    0.061,6,   2277.8,2,   2320.4,2,   7.4498,2,    25.00,  -999.00,9,  -999.00,9,   7.0908,2,  27.0581,2,   7.1501,2
49UP20150724_1,   P04,    55,  1,     22,     111,2,20150806,0610,0759,  4.9977, 172.0155, 4516,    676.1,      671,   6.2546,  34.5490,2,     39.1,2,  34.5490,2,    38.69,2,    63.26,2,    40.82,2,     0.00,2,    2.940,2,    0.028,2,    0.016,2,   2296.0,2,   2326.6,2,   7.4234,2,    25.00,  -999.00,9,  -999.00,9,   6.1933,2,  27.1715,2,   6.2534,2
49UP20150724_1,   P04,    55,  1,     21,     078,2,20150806,0610,0754,  4.9977, 172.0155, 4516,    776.9,      771,   5.6195,  34.5464,2,     44.9,2,  34.5470,2,    45.52,2,    71.92,2,    41.50,2,     0.00,2,    2.970,2, -999.000,9, -999.000,9,   2308.3,2,   2338.1,2,   7.4253,2,    25.00,  -999.00,9,  -999.00,9,   5.5523,2,  27.2500,2,   5.6189,2
49UP20150724_1,   P04,    55,  1,     20,     093,2,20150806,0610,0751,  4.9977, 172.0155, 4516,    878.0,      871,   5.0831,  34.5475,2,     55.5,2,  34.5475,2,    55.67,2,    80.69,2,    41.10,2,     0.00,2,    2.950,2, -999.000,9, -999.000,9,   2312.6,2,   2347.1,2,   7.4393,2,    25.00,  -999.00,9,  -999.00,9,   5.0101,2,  27.3153,2,   5.0829,2
49UP20150724_1,   P04,    55,  1,     19,     092,2,20150806,0610,0749,  4.9977, 172.0155, 4516,    978.6,      971,   4.4131,  34.5596,2,     66.1,2,  34.5600,2,    66.00,2,    92.60,2,    40.77,2,     0.00,2,    2.930,2, -999.000,9, -999.000,9,   2321.6,2,   2362.3,2,   7.4569,2,    25.00,  -999.00,9,  -999.00,9,   4.3360,2,  27.4003,2,   4.4145,2
49UP20150724_1,   P04,    55,  1,     18,     101,2,20150806,0610,0745,  4.9977, 172.0155, 4516,   1140.2,     1131,   3.8932,  34.5717,2,     81.5,2,  34.5723,2,    81.61,2,   100.93,2,    39.75,2,     0.00,2,    2.850,2, -999.000,9, -999.000,9,   2321.8,6,   2371.2,6,   7.4806,2,    25.00,  -999.00,9,  -999.00,9,   3.8066,2,  27.4654,2,   3.8927,2
49UP20150724_1,   P04,    55,  1,     17,     090,2,20150806,0610,0734,  4.9977, 172.0155, 4516,   1342.4,     1331,   3.3270,  34.5910,2,     81.8,2,  34.5917,2,    81.72,2,   115.18,2,    40.31,2,     0.00,2,    2.890,2, -999.000,9, -999.000,9,   2338.4,2,   2386.8,2,   7.4773,6,    25.00,  -999.00,9,  -999.00,9,   3.2287,2,  27.5373,2,   3.3285,2
49UP20150724_1,   P04,    55,  1,     16,     089,2,20150806,0610,0729,  4.9977, 172.0155, 4516,   1545.8,     1532,   2.8956,  34.6068,2,     91.0,2,  34.6068,2,    91.70,2,   124.27,2,    39.77,2,     0.00,2,    2.830,2, -999.000,9, -999.000,9,   2342.2,2,   2396.6,2,   7.4918,2,    25.00,  -999.00,9,  -999.00,9,   2.7851,2,  27.5907,2,   2.8957,2
49UP20150724_1,   P04,    55,  1,     15,     088,2,20150806,0610,0724,  4.9977, 172.0155, 4516,   1747.5,     1731,   2.6147,  34.6187,2,     97.7,2,  34.6191,2,    97.58,2,   130.82,2,    39.42,2,     0.00,2,    2.800,2, -999.000,9, -999.000,9,   2344.3,2,   2403.0,2,   7.4984,2,    25.00,  -999.00,9,  -999.00,9,   2.4907,2,  27.6258,2,   2.6145,2
49UP20150724_1,   P04,    55,  1,     14,     999,2,20150806,0610,0716,  4.9977, 172.0155, 4516,   1946.8,     1927,   2.3594,  34.6305,2,    102.6,2,  34.6309,2,   102.42,2,   137.15,2,    39.17,2,     0.00,2,    2.770,2, -999.000,9, -999.000,9,   2345.4,2,   2412.1,2,   7.5115,2,    25.00,  -999.00,9,  -999.00,9,   2.2221,2,  27.6578,2,   2.3603,2
49UP20150724_1,   P04,    55,  1,     13,     667,2,20150806,0610,0711,  4.9977, 172.0155, 4516,   2153.0,     2130,   2.1724,  34.6415,2,    108.4,2,  34.6423,2,   108.27,6,   140.81,6,    38.85,6,     0.00,6,    2.740,2, -999.000,9, -999.000,9,   2347.0,2,   2413.9,2,   7.5225,2,    25.00,  -999.00,9,  -999.00,9,   2.0202,2,  27.6829,2,   2.1721,2
49UP20150724_1,   P04,    55,  1,     12,     074,2,20150806,0610,0706,  4.9977, 172.0155, 4516,   2357.1,     2331,   1.9967,  34.6518,2,    114.9,2,  34.6523,2,   115.08,2,   144.10,2,    38.47,2,     0.00,2,    2.700,2, -999.000,9, -999.000,9,   2349.0,2,   2419.9,2,   7.5302,2,    25.00,  -999.00,9,  -999.00,9,   1.8294,2,  27.7060,2,   1.9965,2
49UP20150724_1,   P04,    55,  1,     11,     268,2,20150806,0610,0700,  4.9977, 172.0155, 4516,   2560.8,     2531,   1.8690,  34.6593,2,    120.4,2,  34.6595,6,   120.82,2,   146.00,2,    38.10,2,     0.00,2,    2.680,2,    0.000,2,    0.000,2,   2346.9,6,   2421.9,6,   7.5405,2,    25.00,  -999.00,9,  -999.00,9,   1.6856,2,  27.7230,2,   1.8684,2
49UP20150724_1,   P04,    55,  1,     10,     267,2,20150806,0610,0655,  4.9977, 172.0155, 4516,   2763.5,     2730,   1.7683,  34.6648,2,    126.9,2,  34.6649,2,   127.29,2,   146.12,2,    37.67,2,     0.00,2,    2.630,2,    0.000,2,    0.000,2,   2340.1,2,   2421.8,2,   7.5512,6,    25.00,  -999.00,9,  -999.00,9,   1.5682,2,  27.7362,2,   1.7680,2
49UP20150724_1,   P04,    55,  1,      9,     518,2,20150806,0610,0651,  4.9977, 172.0155, 4516,   2968.3,     2931,   1.7154,  34.6684,2,    131.5,2,  34.6682,2,   131.52,2,   145.90,2,    37.40,2,     0.00,2,    2.610,2,    0.000,2,    0.000,2,   2340.8,2,   2421.5,2,   7.5576,2,    25.00,  -999.00,9,  -999.00,9,   1.4970,2,  27.7443,2,   1.7153,2
49UP20150724_1,   P04,    55,  1,      8,     081,2,20150806,0610,0643,  4.9977, 172.0155, 4516,   3212.3,     3170,   1.6325,  34.6733,2,    138.3,2,  34.6736,6,   138.45,6,   145.42,6,    36.93,6,     0.00,6,    2.570,6,    0.003,2,    0.001,2,   2337.1,2,   2420.9,2,   7.5666,2,    25.00,  -999.00,9,  -999.00,9,   1.3921,2,  27.7558,2,   1.6325,2
49UP20150724_1,   P04,    55,  1,      7,     516,2,20150806,0610,0636,  4.9977, 172.0155, 4516,   3467.0,     3420,   1.5629,  34.6785,2,    145.2,2,  34.6780,2,   145.22,2,   144.79,2,    36.49,2,     0.00,2,    2.530,2,    0.000,2,    0.000,2,   2332.3,2,   2418.5,2,   7.5765,2,    25.00,  -999.00,9,  -999.00,9,   1.2985,2,  27.7666,2,   1.5629,2
49UP20150724_1,   P04,    55,  1,      6,     113,2,20150806,0610,0631,  4.9977, 172.0155, 4516,   3723.3,     3670,   1.4974,  34.6839,2,    153.0,2,  34.6842,2,   153.22,2,   141.79,2,    35.78,2,     0.00,2,    2.490,2,    0.001,2,    0.000,2,   2328.7,6,   2416.1,6,   7.5854,2,    25.00,  -999.00,9,  -999.00,9,   1.2082,2,  27.7772,2,   1.4974,2
49UP20150724_1,   P04,    55,  1,      5,     094,3,20150806,0610,0624,  4.9977, 172.0155, 4516,   3976.9,     3918,   1.4385,  34.6893,2,    161.6,2,  34.6892,2,   161.60,2,   138.45,2,    35.25,2,     0.00,2,    2.440,2,    0.002,2,    0.002,2,   2324.6,2,   2410.8,2,   7.5950,6,    25.00,  -999.00,9,  -999.00,9,   1.1238,2,  27.7874,2,   1.4385,2
49UP20150724_1,   P04,    55,  1,      4,     471,2,20150806,0610,0619,  4.9977, 172.0155, 4516,   4233.3,     4168,   1.3517,  34.6966,2,    174.8,2,  34.6970,2,   175.20,2,   131.78,2,    34.29,2,     0.00,2,    2.380,2, -999.000,9, -999.000,9,   2304.6,2,   2406.0,2,   7.6091,2,    25.00,  -999.00,9,  -999.00,9,   1.0114,2,  27.8008,2,   1.3516,2
49UP20150724_1,   P04,    55,  1,      3,     104,2,20150806,0610,0619,  4.9977, 172.0155, 4516,   4234.1,     4169,   1.3517,  34.6965,2,    174.8,2,  34.6971,2,   174.95,2,   132.00,2,    34.33,2,     0.00,2,    2.370,2,    0.004,2,    0.001,2,   2306.0,2,   2403.6,2,   7.6093,2,    25.00,  -999.00,9,  -999.00,9,   1.0113,2,  27.8008,2,   1.3517,2
49UP20150724_1,   P04,    55,  1,      2,     075,2,20150806,0610,0613,  4.9977, 172.0155, 4516,   4492.6,     4421,   1.3132,  34.7011,2,    183.4,2,  34.7011,2,   183.59,2,   126.44,2,    33.63,2,     0.00,2,    2.320,2,    0.019,2,    0.011,2,   2293.6,2,   2393.9,2,   7.6157,2,    25.00,  -999.00,9,  -999.00,9,   0.9448,2,  27.8088,2,   1.3131,2
49UP20150724_1,   P04,    55,  1,      1,     997,2,20150806,0610,0611,  4.9977, 172.0155, 4516,   4577.5,     4504,   1.3199,  34.7012,2,    183.9,2,  34.7020,2,   183.94,2,   127.05,2,    33.64,2,     0.00,2,    2.330,2,    0.009,6,    0.005,6,   2288.3,2,   2394.3,2,   7.6147,2,    25.00,  -999.00,9,  -999.00,9,   0.9415,2,  27.8091,2,   1.3196,2