BOTTLE,20191113JMAGEMD
EXPOCODE,SECT_ID,STNNBR,CASTNO,SAMPNO,BTLNBR,BTLNBR_FLAG_U,DATE,TIME,BTL_TIME,LATITUDE,LONGITUDE,DEPTH,CTDPRS,CTDDEP,CTDTMP,CTDSAL,CTDSAL_FLAG_W,CTDOXY,CTDOXY_FLAG_W,SALNTY,SALNTY_FLAG_W,OXYGEN,OXYGEN_FLAG_W,SILCAT,SILCAT_FLAG_W,NO2+NO3,NO2+NO3_FLAG_W,NITRIT,NITRIT_FLAG_W,PHSPHT,PHSPHT_FLAG_W,CFC-11,CFC-11_FLAG_W,CFC-12,CFC-12_FLAG_W,TCARBN,TCARBN_FLAG_W,ALKALI,ALKALI_FLAG_W,PH_TS,PH_TS_FLAG_W,PH_TS_TMP,CHLORA,CHLORA_FLAG_W,PPHYTN,PPHYTN_FLAG_W,THETA,THETA_FLAG_W,SIGTHT,SIGTHT_FLAG_W,SBE35,SBE35_FLAG_W
,,,,,,,,UTC,,,,METER,DBAR,METERS,ITS-90,PSS-78,,UMOL/KG,,PSS78,,UMOL/KG,,UMOL/KG,,UMOL/KG,,UMOL/KG,,UMOL/KG,,PMOL/KG,,PMOL/KG,,UMOL/KG,,UMOL/KG,,,,ITS-90,UG/KG,,UG/KG,,ITS-90,,KG/M3,,ITS-90,
49UP20150724_1,   P04,    64,  1,      0,      -9,0,20150802,1954,2150,  8.5535, 178.3222, 6345,      0.0,        0,  29.5896,  33.9819,2,    197.1,2,  33.9822,2,   195.57,2,     1.05,2,     0.04,2,     0.00,2,    0.090,2, -999.000,9, -999.000,9,   1911.3,2,   2252.9,4,   8.1130,2,    25.00,     0.05,2,     0.02,2,  29.5891,2,  21.1024,2,-999.0000,9
49UP20150724_1,   P04,    64,  1,     36,     109,2,20150802,1954,2221,  8.5535, 178.3222, 6345,     10.7,       11,  29.5519,  33.9806,2,    196.8,2,  33.9786,2,   196.91,2,     1.05,2,     0.01,2,     0.00,2,    0.080,2,    1.533,2,    0.909,2,   1912.8,2,   2229.6,2,   8.1160,2,    25.00,     0.05,2,     0.02,2,  29.5493,2,  21.1148,2,  29.5441,2
49UP20150724_1,   P04,    64,  1,     35,     112,2,20150802,1954,2216,  8.5535, 178.3222, 6345,     50.6,       50,  24.2134,  34.7510,2,    218.0,2,  34.7632,2,   218.18,2,     1.68,2,     0.00,2,     0.00,2,    0.180,2, -999.000,9, -999.000,9,   2010.4,2,   2294.6,2,   8.0254,2,    25.00,     0.11,2,     0.06,2,  24.2027,2,  23.3927,2,  24.1759,2
49UP20150724_1,   P04,    64,  1,     34,     083,2,20150802,1954,2215,  8.5535, 178.3222, 6345,     77.2,       77,  19.9971,  34.8830,2,    200.2,2,  34.8826,6,   198.96,2,     3.14,2,     0.21,2,     0.01,2,    0.290,2, -999.000,9, -999.000,9,   2061.8,2,   2304.3,2,   7.9456,2,    25.00,     0.20,2,     0.17,2,  19.9828,2,  24.6770,2,  20.0572,2
49UP20150724_1,   P04,    64,  1,     33,     469,2,20150802,1954,2214,  8.5535, 178.3222, 6345,    102.4,      102,  16.7048,  34.6666,2,    176.3,2,  34.6695,2,   177.19,6,     6.00,6,     7.06,6,     0.22,6,    0.590,6, -999.000,9, -999.000,9,   2084.8,2,   2305.2,4,   7.8629,2,    25.00,     0.23,2,     0.26,2,  16.6882,2,  25.3319,2,  16.7109,2
49UP20150724_1,   P04,    64,  1,     32,     105,2,20150802,1954,2213,  8.5535, 178.3222, 6345,    123.9,      123,  14.0200,  34.4219,2,    154.9,2,  34.4159,2,   151.42,2,    12.03,2,    13.40,2,     0.12,2,    1.060,2, -999.000,9, -999.000,9,   2128.0,2,   2279.2,2,   7.7605,2,    25.00,     0.23,2,     0.27,2,  14.0022,2,  25.7399,2,  14.0236,2
49UP20150724_1,   P04,    64,  1,     31,     515,2,20150802,1954,2211,  8.5535, 178.3222, 6345,    151.5,      151,  11.7413,  34.4669,2,     61.3,2,  34.4722,2,    58.05,2,    25.07,2,    26.95,2,     0.01,2,    2.070,2, -999.000,9, -999.000,9,   2216.0,2,   2282.5,2,   7.5347,2,    25.00,     0.07,2,     0.18,2,  11.7220,2,  26.2275,2,  11.7371,2
49UP20150724_1,   P04,    64,  1,     30,     097,2,20150802,1954,2209,  8.5535, 178.3222, 6345,    203.2,      202,  10.6484,  34.6681,2,     13.5,2,  34.6681,2,    13.45,2,    31.48,2,    34.30,2,     0.00,2,    2.490,2, -999.000,9, -999.000,9,   2265.2,2,   2322.1,4,   7.4468,2,    25.00,     0.00,2,     0.04,2,  10.6239,2,  26.5843,2,  10.6483,2
49UP20150724_1,   P04,    64,  1,     29,     102,2,20150802,1954,2208,  8.5535, 178.3222, 6345,    253.0,      251,  10.0142,  34.6651,2,     19.0,2,  34.6641,2,    19.10,6,    33.49,2,    35.05,2,     0.00,2,    2.520,2, -999.000,9, -999.000,9,   2268.8,2,   2300.3,2,   7.4468,2,    25.00,  -999.00,9,  -999.00,9,   9.9848,2,  26.6930,2,  10.0130,2
49UP20150724_1,   P04,    64,  1,     28,     108,4,20150802,1954,2206,  8.5535, 178.3222, 6345,    283.8,      282,   9.6912,  34.6560,2,     21.4,2,-999.0000,9,  -999.00,9,  -999.00,9,  -999.00,9,  -999.00,9, -999.000,9, -999.000,9, -999.000,9,   -999.0,9,   -999.0,9,-999.0000,9,  -999.00,  -999.00,9,  -999.00,9,   9.6589,2,  26.7409,2,   9.6908,2
49UP20150724_1,   P04,    64,  1,     27,     998,2,20150802,1954,2204,  8.5535, 178.3222, 6345,    373.2,      371,   8.9392,  34.6198,2,     27.3,2,  34.6191,2,    26.93,2,    39.35,2,    36.22,2,     0.00,2,    2.600,2, -999.000,9, -999.000,9,   2274.4,2,   2307.2,2,   7.4428,2,    25.00,  -999.00,9,  -999.00,9,   8.8986,2,  26.8366,2,   8.9390,2
49UP20150724_1,   P04,    64,  1,     26,     084,2,20150802,1954,2201,  8.5535, 178.3222, 6345,    474.5,      471,   8.0441,  34.5779,2,     26.0,2,  34.5779,2,    25.71,2,    47.11,2,    37.65,2,     0.00,2,    2.760,2, -999.000,9, -999.000,9,   2285.8,2,   2320.6,2,   7.4245,2,    25.00,  -999.00,9,  -999.00,9,   7.9953,2,  26.9430,2,   8.0439,2
49UP20150724_1,   P04,    64,  1,     25,     098,2,20150802,1954,2158,  8.5535, 178.3222, 6345,    575.2,      571,   7.0700,  34.5461,2,     28.9,2,  34.5455,2,    28.61,2,    56.91,2,    39.39,2,     0.00,2,    2.880,2, -999.000,9, -999.000,9,   2296.1,2,   2322.0,2,   7.4128,2,    25.00,  -999.00,9,  -999.00,9,   7.0147,2,  27.0592,2,   7.0701,2
49UP20150724_1,   P04,    64,  1,     24,     110,2,20150802,1954,2156,  8.5535, 178.3222, 6345,    675.8,      671,   6.2820,  34.5361,2,     35.1,2,  34.5360,2,    35.36,2,    65.85,2,    40.64,2,     0.00,2,    2.940,2, -999.000,9, -999.000,9,   2300.6,2,   2350.3,4,   7.4128,2,    25.00,  -999.00,9,  -999.00,9,   6.2206,2,  27.1578,2,   6.2783,2
49UP20150724_1,   P04,    64,  1,     23,     096,2,20150802,1954,2150,  8.5535, 178.3222, 6345,    777.2,      771,   5.5152,  34.5387,2,     50.8,2,  34.5391,2,    50.78,2,    74.99,2,    40.70,2,     0.00,2,    2.920,2, -999.000,9, -999.000,9,   2305.4,2,   2340.7,2,   7.4342,2,    25.00,  -999.00,9,  -999.00,9,   5.4486,2,  27.2565,2,   5.5148,2
49UP20150724_1,   P04,    64,  1,     22,     111,2,20150802,1954,2147,  8.5535, 178.3222, 6345,    878.6,      872,   5.0142,  34.5446,2,     58.1,2,  34.5449,2,    57.88,2,    82.74,2,    40.70,2,     0.00,2,    2.920,2, -999.000,9, -999.000,9,   2312.8,2,   2350.6,2,   7.4451,2,    25.00,  -999.00,9,  -999.00,9,   4.9416,2,  27.3209,2,   5.0160,2
49UP20150724_1,   P04,    64,  1,     21,     078,2,20150802,1954,2145,  8.5535, 178.3222, 6345,    978.4,      971,   4.5678,  34.5526,2,     66.8,2,  34.5528,6,    66.59,2,    90.81,2,    40.48,2,     0.00,2,    2.900,2, -999.000,9, -999.000,9,   2315.1,2,   2373.6,4,   7.4576,2,    25.00,  -999.00,9,  -999.00,9,   4.4895,2,  27.3780,2,   4.5682,2
49UP20150724_1,   P04,    64,  1,     20,     093,2,20150802,1954,2141,  8.5535, 178.3222, 6345,   1140.4,     1131,   3.9787,  34.5676,2,     71.0,2,  34.5675,2,    70.95,2,   103.37,2,    40.70,2,     0.00,2,    2.920,2, -999.000,9, -999.000,9,   2332.6,6,   2371.7,2,   7.4622,2,    25.00,  -999.00,9,  -999.00,9,   3.8912,2,  27.4535,2,   3.9785,2
49UP20150724_1,   P04,    64,  1,     19,     092,2,20150802,1954,2136,  8.5535, 178.3222, 6345,   1343.1,     1331,   3.4031,  34.5860,2,     78.2,2,  34.5861,2,    78.14,2,   115.75,2,    40.56,2,     0.00,2,    2.890,2, -999.000,9, -999.000,9,   2343.6,2,   2384.9,2,   7.4695,6,    25.00,  -999.00,9,  -999.00,9,   3.3040,2,  27.5262,2,   3.4030,2
49UP20150724_1,   P04,    64,  1,     18,     101,2,20150802,1954,2132,  8.5535, 178.3222, 6345,   1545.2,     1531,   2.9119,  34.6040,2,     86.1,2,  34.6037,2,    86.44,6,   126.52,6,    40.10,6,     0.00,6,    2.860,6, -999.000,9, -999.000,9,   2352.4,2,   2400.5,2,   7.4809,2,    25.00,  -999.00,9,  -999.00,9,   2.8013,2,  27.5870,2,   2.9118,2
49UP20150724_1,   P04,    64,  1,     17,     090,2,20150802,1954,2127,  8.5535, 178.3222, 6345,   1748.6,     1732,   2.5505,  34.6199,2,     93.7,2,  34.6202,2,    93.68,2,   134.66,2,    39.75,2,     0.00,2,    2.820,2, -999.000,9, -999.000,9,   2354.4,2,   2406.9,2,   7.4953,2,    25.00,  -999.00,9,  -999.00,9,   2.4274,2,  27.6322,2,   2.5504,2
49UP20150724_1,   P04,    64,  1,     16,     089,2,20150802,1954,2123,  8.5535, 178.3222, 6345,   1951.8,     1932,   2.2875,  34.6332,2,     99.1,2,  34.6336,2,    99.49,2,   141.18,2,    39.41,2,     0.00,2,    2.790,2, -999.000,9, -999.000,9,   2352.6,2,   2415.9,2,   7.5018,2,    25.00,  -999.00,9,  -999.00,9,   2.1508,2,  27.6657,2,   2.2875,2
49UP20150724_1,   P04,    64,  1,     15,     088,2,20150802,1954,2118,  8.5535, 178.3222, 6345,   2155.3,     2132,   2.0954,  34.6450,2,    105.3,2,  34.6454,2,   105.61,2,   145.35,2,    39.07,2,     0.00,2,    2.750,2, -999.000,9, -999.000,9,   2362.0,3,   2440.8,4,   7.5124,2,    25.00,  -999.00,9,  -999.00,9,   1.9442,2,  27.6917,2,   2.0955,2
49UP20150724_1,   P04,    64,  1,     14,     999,2,20150802,1954,2113,  8.5535, 178.3222, 6345,   2357.1,     2331,   1.9772,  34.6532,2,    109.8,2,  34.6535,2,   110.08,2,   148.19,2,    38.82,2,     0.00,2,    2.730,2, -999.000,9, -999.000,9,   2353.1,2,   2445.6,4,   7.5247,2,    25.00,  -999.00,9,  -999.00,9,   1.8102,2,  27.7087,2,   1.9772,2
49UP20150724_1,   P04,    64,  1,     13,     667,2,20150802,1954,2109,  8.5535, 178.3222, 6345,   2561.7,     2532,   1.8671,  34.6595,2,    116.4,2,  34.6593,2,   116.51,6,   149.10,6,    38.35,6,     0.00,6,    2.690,6,    0.004,2,    0.000,2,   2357.3,3,   2446.1,4,   7.5351,2,    25.00,  -999.00,9,  -999.00,9,   1.6836,2,  27.7233,2,   1.8672,2
49UP20150724_1,   P04,    64,  1,     12,     074,2,20150802,1954,2104,  8.5535, 178.3222, 6345,   2764.9,     2731,   1.8003,  34.6642,2,    120.5,2,  34.6648,6,   120.47,2,   150.06,2,    38.07,2,     0.00,2,    2.660,2,    0.004,2,    0.000,2,   2353.9,2,   2433.4,3,   7.5402,2,    25.00,  -999.00,9,  -999.00,9,   1.5994,2,  27.7334,2,   1.8004,2
49UP20150724_1,   P04,    64,  1,     11,     268,2,20150802,1954,2059,  8.5535, 178.3222, 6345,   2967.6,     2930,   1.7329,  34.6682,2,    124.1,2,  34.6684,2,   124.26,2,   151.77,2,    37.75,2,     0.00,2,    2.640,2,    0.013,2,    0.000,2,   2352.4,2,   2426.6,2,   7.5496,2,    25.00,  -999.00,9,  -999.00,9,   1.5142,2,  27.7429,2,   1.7330,2
49UP20150724_1,   P04,    64,  1,     10,     267,2,20150802,1954,2050,  8.5535, 178.3222, 6345,   3469.8,     3422,   1.5492,  34.6798,2,    142.7,2,  34.6801,2,   143.50,2,   147.64,2,    36.62,2,     0.00,2,    2.540,2,    0.003,2,    0.000,2,   2334.7,6,   2445.5,4,   7.5712,2,    25.00,  -999.00,9,  -999.00,9,   1.2849,2,  27.7686,2,   1.5495,2
49UP20150724_1,   P04,    64,  1,      9,     518,2,20150802,1954,2044,  8.5535, 178.3222, 6345,   3724.8,     3672,   1.4898,  34.6845,2,    150.3,2,  34.6837,2,   150.73,2,   145.08,2,    36.04,2,     0.00,2,    2.500,2,    0.007,2,    0.000,2,   2333.5,2,   2419.9,2,   7.5809,6,    25.00,  -999.00,9,  -999.00,9,   1.2006,2,  27.7782,2,   1.4898,2
49UP20150724_1,   P04,    64,  1,      8,     081,2,20150802,1954,2039,  8.5535, 178.3222, 6345,   3981.0,     3922,   1.4148,  34.6899,2,    159.4,2,  34.6898,2,   159.74,2,   142.42,2,    35.45,2,     0.00,2,    2.450,2,    0.001,2,    0.000,2,   2327.1,3,   2411.5,2,   7.5883,2,    25.00,  -999.00,9,  -999.00,9,   1.1004,2,  27.7894,2,   1.4153,2
49UP20150724_1,   P04,    64,  1,      7,     516,2,20150802,1954,2029,  8.5535, 178.3222, 6345,   4493.1,     4421,   1.3131,  34.6989,2,    177.5,2,  34.6982,6,   177.48,2,   132.94,2,    34.19,2,     0.00,2,    2.360,2,    0.004,2,    0.000,2,   2303.7,2,   2400.2,2,   7.6079,2,    25.00,  -999.00,9,  -999.00,9,   0.9447,2,  27.8071,2,   1.3134,2
49UP20150724_1,   P04,    64,  1,      6,     113,2,20150802,1954,2023,  8.5535, 178.3222, 6345,   4749.7,     4671,   1.3030,  34.7012,2,    182.5,2,  34.7013,2,   183.02,6,   129.90,6,    33.74,6,     0.00,6,    2.330,6,    0.000,2,    0.000,2,   2299.4,2,   2395.0,2,   7.6132,2,    25.00,  -999.00,9,  -999.00,9,   0.9051,2,  27.8115,2,   1.3032,2
49UP20150724_1,   P04,    64,  1,      5,     094,2,20150802,1954,2018,  8.5535, 178.3222, 6345,   5007.1,     4921,   1.3125,  34.7024,2,    185.3,2,  34.7021,2,   184.67,2,   128.34,2,    33.59,2,     0.00,2,    2.320,2,    0.000,2,    0.000,2,   2293.6,2,   2393.4,2,   7.6168,2,    25.00,  -999.00,9,  -999.00,9,   0.8837,2,  27.8138,2,   1.3127,2
49UP20150724_1,   P04,    64,  1,      4,     077,2,20150802,1954,2012,  8.5535, 178.3222, 6345,   5264.8,     5172,   1.3268,  34.7032,2,    187.3,2,  34.7029,2,   187.66,2,   127.11,2,    33.31,2,     0.00,2,    2.300,2,    0.002,2,    0.000,2,   2287.6,2,   2389.2,2,   7.6141,2,    25.00,  -999.00,9,  -999.00,9,   0.8659,2,  27.8156,2,   1.3270,2
49UP20150724_1,   P04,    64,  1,      3,     104,2,20150802,1954,2007,  8.5535, 178.3222, 6345,   5519.1,     5418,   1.3486,  34.7036,2,    188.8,2,  34.7032,2,   187.91,3,   126.64,2,    33.35,2,     0.00,2,    2.300,2,    0.003,2,    0.000,2,   2288.2,2,   2387.7,2,   7.6146,2,    25.00,  -999.00,9,  -999.00,9,   0.8550,2,  27.8167,2,   1.3487,2
49UP20150724_1,   P04,    64,  1,      2,     075,2,20150802,1954,2002,  8.5535, 178.3222, 6345,   5779.1,     5670,   1.3784,  34.7038,2,    189.4,2,  34.7036,2,   189.49,2,   125.86,2,    33.22,2,     0.00,2,    2.290,2,    0.010,2,    0.012,2,   2283.1,6,   2387.4,6,   7.6173,2,    25.00,  -999.00,9,  -999.00,9,   0.8503,2,  27.8172,2,   1.3786,2
49UP20150724_1,   P04,    64,  1,      1,     997,2,20150802,1954,1954,  8.5535, 178.3222, 6345,   6121.5,     6002,   1.4239,  34.7036,2,    189.8,2,  34.7042,2,   189.66,2,   126.07,2,    33.27,2,     0.00,2,    2.300,2,    0.009,6,    0.001,6,   2283.9,2,   2386.7,2,   7.6143,6,    25.00,  -999.00,9,  -999.00,9,   0.8487,2,  27.8171,2,   1.4239,2