BOTTLE,20191113JMAGEMD
EXPOCODE,SECT_ID,STNNBR,CASTNO,SAMPNO,BTLNBR,BTLNBR_FLAG_U,DATE,TIME,BTL_TIME,LATITUDE,LONGITUDE,DEPTH,CTDPRS,CTDDEP,CTDTMP,CTDSAL,CTDSAL_FLAG_W,CTDOXY,CTDOXY_FLAG_W,SALNTY,SALNTY_FLAG_W,OXYGEN,OXYGEN_FLAG_W,SILCAT,SILCAT_FLAG_W,NO2+NO3,NO2+NO3_FLAG_W,NITRIT,NITRIT_FLAG_W,PHSPHT,PHSPHT_FLAG_W,CFC-11,CFC-11_FLAG_W,CFC-12,CFC-12_FLAG_W,TCARBN,TCARBN_FLAG_W,ALKALI,ALKALI_FLAG_W,PH_TS,PH_TS_FLAG_W,PH_TS_TMP,CHLORA,CHLORA_FLAG_W,PPHYTN,PPHYTN_FLAG_W,THETA,THETA_FLAG_W,SIGTHT,SIGTHT_FLAG_W,SBE35,SBE35_FLAG_W
,,,,,,,,UTC,,,,METER,DBAR,METERS,ITS-90,PSS-78,,UMOL/KG,,PSS78,,UMOL/KG,,UMOL/KG,,UMOL/KG,,UMOL/KG,,UMOL/KG,,PMOL/KG,,PMOL/KG,,UMOL/KG,,UMOL/KG,,,,ITS-90,UG/KG,,UG/KG,,ITS-90,,KG/M3,,ITS-90,
49UP20150724_1,   P04,    59,  1,      0,      -9,0,20150804,1721,1930,  6.2145, 174.1775, 5090,      0.0,        0,  29.5556,  33.9420,2,    196.7,2,  33.9513,2,   195.75,2,     0.98,2,     0.05,2,     0.00,2,    0.090,2, -999.000,9, -999.000,9,   1906.4,2,   2230.0,2,   8.1115,2,    25.00,     0.06,2,     0.02,2,  29.5551,2,  21.0840,2,-999.0000,9
49UP20150724_1,   P04,    59,  1,     36,     109,2,20150804,1721,1946,  6.2145, 174.1775, 5090,     10.6,       11,  29.5611,  33.9422,2,    196.6,2,  33.9399,2,   195.11,2,     0.94,2,     0.00,2,     0.00,2,    0.080,2,    1.490,2,    0.908,2,   1906.7,2,   2233.6,2,   8.1194,2,    25.00,     0.06,2,     0.02,2,  29.5585,2,  21.0829,2,  29.5590,2
49UP20150724_1,   P04,    59,  1,     35,     112,2,20150804,1721,1945,  6.2145, 174.1775, 5090,     25.9,       26,  29.5653,  33.9418,2,    196.3,2,  33.9453,2,   195.43,2,     0.96,2,     0.00,2,     0.00,2,    0.080,2, -999.000,9, -999.000,9,   1905.8,2,   2231.6,2,   8.1128,2,    25.00,     0.06,2,     0.03,2,  29.5589,2,  21.0825,2,  29.5631,2
49UP20150724_1,   P04,    59,  1,     34,     083,2,20150804,1721,1941,  6.2145, 174.1775, 5090,     51.0,       51,  25.8304,  34.7646,2,    206.2,2,  34.7932,4,   206.33,2,     1.70,2,     0.01,2,     0.00,2,    0.160,2, -999.000,9, -999.000,9,   1995.8,2,   2291.9,2,   8.0503,2,    25.00,     0.19,2,     0.10,2,  25.8191,2,  22.9119,2,  25.8179,2
49UP20150724_1,   P04,    59,  1,     33,     469,2,20150804,1721,1940,  6.2145, 174.1775, 5090,     76.0,       76,  21.4752,  34.8810,2,    187.9,2,  34.8798,2,   181.46,2,     3.56,2,     2.23,2,     0.08,2,    0.390,2, -999.000,9, -999.000,9,   2058.2,2,   2300.8,2,   7.9545,2,    25.00,     0.36,2,     0.39,2,  21.4605,2,  24.2773,2,  21.4888,2
49UP20150724_1,   P04,    59,  1,     32,     105,2,20150804,1721,1939,  6.2145, 174.1775, 5090,    103.6,      103,  17.3936,  34.7069,2,    165.8,2,  34.7231,4,   168.10,2,     6.01,2,     6.69,2,     0.27,2,    0.630,2, -999.000,9, -999.000,9,   2090.7,2,   2288.3,2,   7.8614,2,    25.00,     0.21,2,     0.32,2,  17.3763,2,  25.1994,2,  17.3824,2
49UP20150724_1,   P04,    59,  1,     31,     515,2,20150804,1721,1937,  6.2145, 174.1775, 5090,    128.1,      127,  14.9550,  34.5791,2,    113.1,2,  34.5788,2,   113.11,2,    14.79,2,    17.04,2,     0.05,2,    1.300,2, -999.000,9, -999.000,9,   2146.1,2,   2282.2,2,   7.7176,2,    25.00,     0.11,2,     0.26,2,  14.9358,2,  25.6615,2,  14.9535,2
49UP20150724_1,   P04,    59,  1,     30,     097,2,20150804,1721,1936,  6.2145, 174.1775, 5090,    151.8,      151,  11.9526,  34.5710,2,     60.7,2,  34.5756,2,    59.18,2,    26.31,2,    27.58,2,     0.00,2,    2.040,2, -999.000,9, -999.000,9,   2214.7,2,   2288.3,2,   7.5568,2,    25.00,     0.03,2,     0.05,2,  11.9330,2,  26.2686,2,  11.9519,2
49UP20150724_1,   P04,    59,  1,     29,     102,2,20150804,1721,1935,  6.2145, 174.1775, 5090,    176.7,      176,  10.9625,  34.6225,2,     31.4,2,  34.6270,2,    30.31,2,    29.94,2,    32.01,2,     0.00,2,    2.350,2, -999.000,9, -999.000,9,   2247.5,2,   2295.7,2,   7.4806,2,    25.00,     0.01,2,     0.04,2,  10.9409,2,  26.4922,2,  10.9681,2
49UP20150724_1,   P04,    59,  1,     28,     108,2,20150804,1721,1934,  6.2145, 174.1775, 5090,    203.4,      202,  10.5702,  34.6696,2,     23.9,2,  34.6685,2,    24.18,2,    31.34,2,    33.46,2,     0.00,2,    2.420,2, -999.000,9, -999.000,9,   2252.9,2,   2297.7,2,   7.4613,2,    25.00,  -999.00,9,  -999.00,9,  10.5458,2,  26.5993,2,  10.5699,2
49UP20150724_1,   P04,    59,  1,     27,     998,2,20150804,1721,1932,  6.2145, 174.1775, 5090,    253.2,      252,   9.7279,  34.6636,2,     36.5,2,  34.6631,2,    37.06,2,    33.34,2,    33.93,2,     0.00,2,    2.420,2, -999.000,9, -999.000,9,   2256.1,2,   2300.8,2,   7.4754,2,    25.00,  -999.00,9,  -999.00,9,   9.6990,2,  26.7401,2,   9.7278,2
49UP20150724_1,   P04,    59,  1,     26,     084,2,20150804,1721,1930,  6.2145, 174.1775, 5090,    333.7,      332,   9.0982,  34.6438,2,     55.3,2,  34.6437,2,    55.47,2,    34.49,2,    33.72,2,     0.00,2,    2.380,2, -999.000,9, -999.000,9,   2248.7,2,   2304.7,2,   7.5009,2,    25.00,  -999.00,9,  -999.00,9,   9.0615,2,  26.8293,2,   9.0983,2
49UP20150724_1,   P04,    59,  1,     25,     098,2,20150804,1721,1928,  6.2145, 174.1775, 5090,    433.1,      430,   8.2997,  34.6071,2,     36.4,2,  34.6071,2,    36.66,6,    41.81,6,    36.77,6,     0.00,6,    2.640,6, -999.000,9, -999.000,9,   2270.0,2,   2307.7,2,   7.4492,2,    25.00,  -999.00,9,  -999.00,9,   8.2545,2,  26.9269,2,   8.2982,2
49UP20150724_1,   P04,    59,  1,     24,     110,2,20150804,1721,1925,  6.2145, 174.1775, 5090,    533.9,      530,   7.3340,  34.5699,2,     36.1,2,  34.5694,2,    35.43,2,    51.24,2,    38.71,2,     0.00,2,    2.810,2, -999.000,9, -999.000,9,   2283.6,2,   2316.1,2,   7.4302,2,    25.00,  -999.00,9,  -999.00,9,   7.2818,2,  27.0405,2,   7.3338,2
49UP20150724_1,   P04,    59,  1,     23,     096,2,20150804,1721,1922,  6.2145, 174.1775, 5090,    634.1,      630,   6.4666,  34.5534,2,     34.2,2,  34.5534,6,    34.07,2,    61.08,2,    40.73,2,     0.00,2,    2.950,2, -999.000,9, -999.000,9,   2297.4,2,   2328.0,2,   7.4127,2,    25.00,  -999.00,9,  -999.00,9,   6.4083,2,  27.1469,2,   6.4664,2
49UP20150724_1,   P04,    59,  1,     22,     111,2,20150804,1721,1915,  6.2145, 174.1775, 5090,    736.5,      731,   5.7768,  34.5477,2,     41.2,2,  34.5476,2,    40.49,2,    69.90,2,    41.57,2,     0.00,2,    2.980,2, -999.000,9, -999.000,9,   2306.9,2,   2337.1,2,   7.4166,2,    25.00,  -999.00,9,  -999.00,9,   5.7124,2,  27.2313,2,   5.7765,2
49UP20150724_1,   P04,    59,  1,     21,     078,2,20150804,1721,1911,  6.2145, 174.1775, 5090,    835.4,      829,   5.1864,  34.5493,2,     50.7,2,  34.5496,2,    50.39,2,    78.80,2,    41.48,2,     0.00,2,    2.980,2, -999.000,9, -999.000,9,   2311.4,2,   2348.4,2,   7.4279,2,    25.00,  -999.00,9,  -999.00,9,   5.1166,2,  27.3043,2,   5.1855,2
49UP20150724_1,   P04,    59,  1,     20,     093,2,20150804,1721,1908,  6.2145, 174.1775, 5090,    937.2,      930,   4.7791,  34.5543,2,     56.9,2,  34.5545,2,    56.93,6,    86.20,6,    41.38,6,     0.00,6,    2.970,6, -999.000,9, -999.000,9,   2325.9,3,   2354.8,2,   7.4365,2,    25.00,  -999.00,9,  -999.00,9,   4.7029,2,  27.3557,2,   4.7787,2
49UP20150724_1,   P04,    59,  1,     19,     092,2,20150804,1721,1905,  6.2145, 174.1775, 5090,   1079.0,     1070,   4.1739,  34.5657,2,     68.0,2,  34.5656,2,    68.14,2,    98.07,2,    40.81,2,     0.00,2,    2.940,2, -999.000,9, -999.000,9,   2326.9,2,   2366.7,2,   7.4536,2,    25.00,  -999.00,9,  -999.00,9,   4.0901,2,  27.4313,2,   4.1729,2
49UP20150724_1,   P04,    59,  1,     18,     101,2,20150804,1721,1900,  6.2145, 174.1775, 5090,   1281.3,     1270,   3.5671,  34.5829,2,     76.3,2,  34.5824,2,    76.63,2,   111.09,2,    40.52,2,     0.00,2,    2.900,2, -999.000,9, -999.000,9,   2334.9,2,   2381.0,2,   7.4726,2,    25.00,  -999.00,9,  -999.00,9,   3.4715,2,  27.5075,2,   3.5673,2
49UP20150724_1,   P04,    59,  1,     17,     090,2,20150804,1721,1851,  6.2145, 174.1775, 5090,   1485.1,     1472,   3.0897,  34.6001,2,     83.9,2,  34.6008,2,    83.81,2,   121.49,2,    40.25,2,     0.00,2,    2.870,2, -999.000,9, -999.000,9,   2341.7,6,   2393.0,6,   7.4788,2,    25.00,  -999.00,9,  -999.00,9,   2.9821,2,  27.5675,2,   3.0897,2
49UP20150724_1,   P04,    59,  1,     16,     089,2,20150804,1721,1846,  6.2145, 174.1775, 5090,   1688.1,     1672,   2.6580,  34.6154,2,     94.0,2,  34.6159,2,    94.07,2,   131.14,2,    39.65,2,     0.00,2,    2.810,2, -999.000,9, -999.000,9,   2346.1,2,   2403.3,2,   7.4968,6,    25.00,  -999.00,9,  -999.00,9,   2.5385,2,  27.6191,2,   2.6583,2
49UP20150724_1,   P04,    59,  1,     15,     088,2,20150804,1721,1841,  6.2145, 174.1775, 5090,   1890.1,     1871,   2.3278,  34.6326,2,    102.9,2,  34.6328,6,   102.85,2,   137.89,2,    39.20,2,     0.00,2,    2.760,2, -999.000,9, -999.000,9,   2349.6,2,   2409.9,2,   7.5118,2,    25.00,  -999.00,9,  -999.00,9,   2.1957,2,  27.6616,2,   2.3274,2
49UP20150724_1,   P04,    59,  1,     14,     999,2,20150804,1721,1835,  6.2145, 174.1775, 5090,   2093.2,     2071,   2.1069,  34.6449,2,    108.4,2,  34.6453,2,   108.46,2,   142.85,2,    38.84,2,     0.00,2,    2.730,2, -999.000,9, -999.000,9,   2353.0,2,   2418.1,2,   7.5205,2,    25.00,  -999.00,9,  -999.00,9,   1.9608,2,  27.6903,2,   2.1068,2
49UP20150724_1,   P04,    59,  1,     13,     667,2,20150804,1721,1830,  6.2145, 174.1775, 5090,   2296.2,     2271,   1.9697,  34.6535,2,    113.9,2,  34.6537,2,   113.71,2,   145.45,2,    38.51,2,     0.00,2,    2.700,2, -999.000,9, -999.000,9,   2351.3,2,   2420.6,2,   7.5308,2,    25.00,  -999.00,9,  -999.00,9,   1.8082,2,  27.7091,2,   1.9695,2
49UP20150724_1,   P04,    59,  1,     12,     074,2,20150804,1721,1826,  6.2145, 174.1775, 5090,   2500.7,     2472,   1.8706,  34.6600,2,    117.1,2,  34.6598,2,   117.26,2,   148.21,2,    38.34,2,     0.00,2,    2.680,2, -999.000,9, -999.000,9,   2350.5,2,   2423.4,2,   7.5376,2,    25.00,  -999.00,9,  -999.00,9,   1.6926,2,  27.7231,2,   1.8707,2
49UP20150724_1,   P04,    59,  1,     11,     268,2,20150804,1721,1819,  6.2145, 174.1775, 5090,   2703.9,     2672,   1.7652,  34.6655,2,    124.6,2,  34.6657,2,   124.74,6,   148.30,6,    37.90,6,     0.00,6,    2.640,6,    0.000,2,    0.000,2,   2347.0,2,   2423.4,2,   7.5484,2,    25.00,  -999.00,9,  -999.00,9,   1.5706,2,  27.7366,2,   1.7651,2
49UP20150724_1,   P04,    59,  1,     10,     267,2,20150804,1721,1814,  6.2145, 174.1775, 5090,   2907.4,     2871,   1.6899,  34.6699,2,    130.3,2,  34.6700,2,   130.30,2,   148.09,2,    37.45,2,     0.00,2,    2.620,2,    0.000,2,    0.000,2,   2345.7,2,   2425.0,2,   7.5537,2,    25.00,  -999.00,9,  -999.00,9,   1.4778,2,  27.7469,2,   1.6899,2
49UP20150724_1,   P04,    59,  1,      9,     518,2,20150804,1721,1809,  6.2145, 174.1775, 5090,   3122.3,     3082,   1.6177,  34.6741,2,    137.6,2,  34.6740,2,   137.64,2,   146.60,2,    37.04,2,     0.00,2,    2.590,2,    0.000,2,    0.000,2,   2337.6,2,   2422.6,2,   7.5644,2,    25.00,  -999.00,9,  -999.00,9,   1.3865,2,  27.7568,2,   1.6176,2
49UP20150724_1,   P04,    59,  1,      8,     081,2,20150804,1721,1802,  6.2145, 174.1775, 5090,   3376.7,     3331,   1.5402,  34.6794,2,    145.3,2,  34.6787,2,   145.31,2,   144.94,2,    36.38,2,     0.00,2,    2.530,2,    0.009,2,    0.000,2,   2333.9,6,   2419.2,6,   7.5760,2,    25.00,  -999.00,9,  -999.00,9,   1.2856,2,  27.7682,2,   1.5401,2
49UP20150724_1,   P04,    59,  1,      7,     516,2,20150804,1721,1756,  6.2145, 174.1775, 5090,   3631.0,     3580,   1.4735,  34.6848,2,    152.5,2,  34.6847,2,   163.91,4,   143.62,2,    35.90,2,     0.00,2,    2.500,2,    0.005,2,    0.000,2,   2325.5,2,   2413.8,2,   7.5829,6,    25.00,  -999.00,9,  -999.00,9,   1.1946,2,  27.7789,2,   1.4736,2
49UP20150724_1,   P04,    59,  1,      6,     113,2,20150804,1721,1750,  6.2145, 174.1775, 5090,   3887.7,     3831,   1.4321,  34.6889,2,    159.7,2,  34.6890,2,   159.74,2,   140.46,2,    35.49,2,     0.00,2,    2.450,2,    0.013,2,    0.001,2,   2317.6,2,   2413.9,2,   7.5908,2,    25.00,  -999.00,9,  -999.00,9,   1.1272,2,  27.7868,2,   1.4322,2
49UP20150724_1,   P04,    59,  1,      5,     094,3,20150804,1721,1745,  6.2145, 174.1775, 5090,   4144.1,     4081,   1.3697,  34.6944,2,    169.8,2,  34.6936,2,   169.14,6,   135.35,6,    34.72,6,     0.00,6,    2.400,6,    0.008,2,    0.000,2,   2311.7,2,   2406.8,2,   7.6006,2,    25.00,  -999.00,9,  -999.00,9,   1.0387,2,  27.7972,2,   1.3697,2
49UP20150724_1,   P04,    59,  1,      4,     077,3,20150804,1721,1739,  6.2145, 174.1775, 5090,   4400.8,     4332,   1.3364,  34.6980,2,    176.6,2,  34.6974,6,   177.00,2,   132.17,2,    34.20,2,     0.00,2,    2.360,2,    0.019,2,    0.001,2,   2303.3,2,   2401.7,2,   7.6077,2,    25.00,  -999.00,9,  -999.00,9,   0.9777,2,  27.8041,2,   1.3366,2
49UP20150724_1,   P04,    59,  1,      3,     104,2,20150804,1721,1733,  6.2145, 174.1775, 5090,   4656.5,     4581,   1.3252,  34.7001,2,    181.6,2,  34.6998,2,   181.91,2,   129.51,2,    33.87,2,     0.00,2,    2.330,2,    0.018,2,    0.003,2,   2294.4,2,   2394.7,2,   7.6112,2,    25.00,  -999.00,9,  -999.00,9,   0.9375,2,  27.8085,2,   1.3252,2
49UP20150724_1,   P04,    59,  1,      2,     075,2,20150804,1721,1728,  6.2145, 174.1775, 5090,   4914.0,     4831,   1.3124,  34.7025,2,    186.9,2,  34.7022,2,   187.28,2,   126.10,2,    33.37,2,     0.00,2,    2.290,2,    0.010,2,    0.000,2,   2289.8,6,   2390.2,6,   7.6134,2,    25.00,  -999.00,9,  -999.00,9,   0.8947,2,  27.8132,2,   1.3123,2
49UP20150724_1,   P04,    59,  1,      1,     997,2,20150804,1721,1722,  6.2145, 174.1775, 5090,   5189.8,     5099,   1.3092,  34.7041,2,    190.6,2,  34.7041,2,   190.74,2,   124.78,2,    33.13,2,     0.00,2,    2.290,2,    0.008,6,    0.001,6,   2287.8,2,   2385.7,2,   7.6123,6,    25.00,  -999.00,9,  -999.00,9,   0.8582,2,  27.8168,2,   1.3092,2