BOTTLE,20191113JMAGEMD
EXPOCODE,SECT_ID,STNNBR,CASTNO,SAMPNO,BTLNBR,BTLNBR_FLAG_U,DATE,TIME,BTL_TIME,LATITUDE,LONGITUDE,DEPTH,CTDPRS,CTDDEP,CTDTMP,CTDSAL,CTDSAL_FLAG_W,CTDOXY,CTDOXY_FLAG_W,SALNTY,SALNTY_FLAG_W,OXYGEN,OXYGEN_FLAG_W,SILCAT,SILCAT_FLAG_W,NO2+NO3,NO2+NO3_FLAG_W,NITRIT,NITRIT_FLAG_W,PHSPHT,PHSPHT_FLAG_W,CFC-11,CFC-11_FLAG_W,CFC-12,CFC-12_FLAG_W,TCARBN,TCARBN_FLAG_W,ALKALI,ALKALI_FLAG_W,PH_TS,PH_TS_FLAG_W,PH_TS_TMP,CHLORA,CHLORA_FLAG_W,PPHYTN,PPHYTN_FLAG_W,THETA,THETA_FLAG_W,SIGTHT,SIGTHT_FLAG_W,SBE35,SBE35_FLAG_W
,,,,,,,,UTC,,,,METER,DBAR,METERS,ITS-90,PSS-78,,UMOL/KG,,PSS78,,UMOL/KG,,UMOL/KG,,UMOL/KG,,UMOL/KG,,UMOL/KG,,PMOL/KG,,PMOL/KG,,UMOL/KG,,UMOL/KG,,,,ITS-90,UG/KG,,UG/KG,,ITS-90,,KG/M3,,ITS-90,
49UP20150724_1,   P04,    60,  1,      0,      -9,0,20150804,0745,1006,  6.7072, 175.0005, 5388,      0.0,        0,  29.9482,  34.0226,2,    196.2,2,  34.0245,2,   195.04,2,     0.97,2,     0.07,2,     0.00,2,    0.080,2, -999.000,9, -999.000,9,   1910.7,2,   2233.9,2,   8.1128,2,    25.00,     0.05,2,     0.02,2,  29.9476,2,  21.0115,2,-999.0000,9
49UP20150724_1,   P04,    60,  1,     36,     109,2,20150804,0745,1027,  6.7072, 175.0005, 5388,     10.5,       10,  29.6588,  34.0117,2,    196.6,2,  34.0112,2,   195.67,2,     0.97,2,     0.03,2,     0.00,2,    0.080,2,    1.509,2,    0.913,2,   1910.7,2,   2233.1,2,   8.1149,2,    25.00,     0.05,2,     0.02,2,  29.6562,2,  21.1021,2,  29.6644,2
49UP20150724_1,   P04,    60,  1,     35,     112,2,20150804,0745,1023,  6.7072, 175.0005, 5388,     52.4,       52,  24.6079,  34.8681,2,    205.1,2,  34.8665,6,   203.53,2,     2.13,2,     0.03,2,     0.00,2,    0.190,2, -999.000,9, -999.000,9,   2014.8,2,   2297.7,2,   8.0293,2,    25.00,     0.13,2,     0.08,2,  24.5967,2,  23.3635,2,  24.5863,2
49UP20150724_1,   P04,    60,  1,     34,     083,2,20150804,0745,1021,  6.7072, 175.0005, 5388,     76.6,       76,  20.2552,  34.8446,2,    156.8,2,  34.8447,2,   156.89,2,     5.92,2,     6.26,2,     0.22,2,    0.600,2, -999.000,9, -999.000,9,   2078.4,2,   2295.3,2,   7.8995,2,    25.00,     0.23,2,     0.36,2,  20.2409,2,  24.5795,2,  20.2529,2
49UP20150724_1,   P04,    60,  1,     33,     469,2,20150804,0745,1020,  6.7072, 175.0005, 5388,    101.7,      101,  16.9129,  34.6914,2,    125.0,2,  34.6849,2,   124.11,2,    11.50,2,    13.93,2,     0.14,2,    1.070,2, -999.000,9, -999.000,9,   2121.5,2,   2285.0,2,   7.7824,2,    25.00,     0.17,2,     0.38,2,  16.8962,2,  25.3020,2,  16.9302,2
49UP20150724_1,   P04,    60,  1,     32,     105,2,20150804,0745,1019,  6.7072, 175.0005, 5388,    126.9,      126,  13.5947,  34.4755,2,    102.9,2,  34.4762,2,   100.69,2,    17.50,2,    19.87,2,     0.02,2,    1.530,2, -999.000,9, -999.000,9,   2162.7,2,   2277.0,2,   7.6611,2,    25.00,     0.08,2,     0.22,2,  13.5768,2,  25.8696,2,  13.5969,2
49UP20150724_1,   P04,    60,  1,     31,     515,2,20150804,0745,1017,  6.7072, 175.0005, 5388,    151.9,      151,  11.5206,  34.5052,2,     55.8,2,  34.5085,2,    55.28,2,    26.30,2,    27.91,2,     0.01,2,    2.100,2, -999.000,9, -999.000,9,   2215.6,2,   2284.2,2,   7.5341,2,    25.00,     0.03,2,     0.10,2,  11.5015,2,  26.2984,2,  11.5219,2
49UP20150724_1,   P04,    60,  1,     30,     097,2,20150804,0745,1016,  6.7072, 175.0005, 5388,    176.7,      176,  10.7066,  34.5956,2,     33.1,2,  34.5973,2,    32.21,2,    30.76,2,    32.22,2,     0.00,2,    2.350,2, -999.000,9, -999.000,9,   2242.8,2,   2292.7,2,   7.4805,2,    25.00,     0.01,2,     0.04,2,  10.6853,2,  26.5169,2,  10.7076,2
49UP20150724_1,   P04,    60,  1,     29,     102,2,20150804,0745,1015,  6.7072, 175.0005, 5388,    201.9,      201,  10.1275,  34.6291,2,     32.8,2,  34.6288,2,    32.87,2,    32.97,2,    33.44,2,     0.00,2,    2.400,2, -999.000,9, -999.000,9,   2249.1,2,   2298.4,2,   7.4721,2,    25.00,     0.00,2,     0.03,2,  10.1040,2,  26.6446,2,  10.1276,2
49UP20150724_1,   P04,    60,  1,     28,     108,2,20150804,0745,1013,  6.7072, 175.0005, 5388,    252.1,      251,   9.6102,  34.6384,2,     32.7,2,  34.6376,2,    33.49,2,    34.95,2,    34.61,2,     0.00,2,    2.470,2, -999.000,9, -999.000,9,   2255.2,2,   2301.4,2,   7.4655,2,    25.00,  -999.00,9,  -999.00,9,   9.5817,2,  26.7400,2,   9.6077,2
49UP20150724_1,   P04,    60,  1,     27,     998,2,20150804,0745,1011,  6.7072, 175.0005, 5388,    304.5,      303,   9.1252,  34.6232,2,     36.9,2,  34.6224,2,    37.85,6,    37.19,6,    35.05,6,     0.00,6,    2.500,6, -999.000,9, -999.000,9,   2256.5,2,   2302.8,2,   7.4658,2,    25.00,  -999.00,9,  -999.00,9,   9.0918,2,  26.8084,2,   9.1244,2
49UP20150724_1,   P04,    60,  1,     26,     084,2,20150804,0745,1009,  6.7072, 175.0005, 5388,    403.6,      401,   8.4003,  34.5952,2,     54.3,2,  34.5967,2,    54.33,2,    40.30,2,    35.21,2,     0.00,2,    2.500,2, -999.000,9, -999.000,9,   2255.5,2,   2306.1,2,   7.4844,2,    25.00,  -999.00,9,  -999.00,9,   8.3580,2,  26.9017,2,   8.3999,2
49UP20150724_1,   P04,    60,  1,     25,     098,2,20150804,0745,1006,  6.7072, 175.0005, 5388,    504.7,      501,   7.4815,  34.5596,2,     51.5,2,  34.5577,2,    52.14,2,    49.61,2,    37.00,2,     0.00,2,    2.650,2, -999.000,9, -999.000,9,   2275.3,2,   2315.0,2,   7.4673,2,    25.00,  -999.00,9,  -999.00,9,   7.4316,2,  27.0111,2,   7.4812,2
49UP20150724_1,   P04,    60,  1,     24,     110,2,20150804,0745,1003,  6.7072, 175.0005, 5388,    604.9,      601,   6.4869,  34.5383,2,     52.2,2,  34.5393,2,    51.95,2,    60.72,2,    38.94,2,     0.00,2,    2.790,2, -999.000,9, -999.000,9,   2288.5,2,   2326.6,2,   7.4499,2,    25.00,  -999.00,9,  -999.00,9,   6.4313,2,  27.1319,2,   6.4883,2
49UP20150724_1,   P04,    60,  1,     23,     096,2,20150804,0745,1001,  6.7072, 175.0005, 5388,    706.2,      701,   5.8297,  34.5408,2,     52.8,2,  34.5409,2,    53.78,2,    69.29,2,    40.17,2,     0.00,2,    2.880,2, -999.000,9, -999.000,9,   2297.4,2,   2332.3,2,   7.4446,2,    25.00,  -999.00,9,  -999.00,9,   5.7678,2,  27.2190,2,   5.8299,2
49UP20150724_1,   P04,    60,  1,     22,     111,2,20150804,0745,0955,  6.7072, 175.0005, 5388,    806.3,      800,   5.2858,  34.5441,2,     54.9,2,  34.5442,2,    54.61,2,    77.54,2,    40.96,2,     0.00,2,    2.930,2, -999.000,9, -999.000,9,   2307.0,2,   2342.2,2,   7.4397,2,    25.00,  -999.00,9,  -999.00,9,   5.2179,2,  27.2883,2,   5.2857,2
49UP20150724_1,   P04,    60,  1,     21,     078,2,20150804,0745,0952,  6.7072, 175.0005, 5388,    907.9,      901,   4.8146,  34.5527,2,     58.2,2,  34.5532,2,    58.07,2,    85.49,2,    41.37,2,     0.00,2,    2.960,2, -999.000,9, -999.000,9,   2314.7,2,   2353.4,2,   7.4399,2,    25.00,  -999.00,9,  -999.00,9,   4.7407,2,  27.3502,2,   4.8143,2
49UP20150724_1,   P04,    60,  1,     20,     093,2,20150804,0745,0949,  6.7072, 175.0005, 5388,   1009.1,     1001,   4.3837,  34.5611,2,     64.7,2,  34.5613,2,    64.56,2,    94.06,2,    41.11,2,     0.00,2,    2.950,2, -999.000,9, -999.000,9,   2318.5,2,   2361.2,2,   7.4514,2,    25.00,  -999.00,9,  -999.00,9,   4.3042,2,  27.4049,2,   4.3836,2
49UP20150724_1,   P04,    60,  1,     19,     092,2,20150804,0745,0945,  6.7072, 175.0005, 5388,   1210.8,     1201,   3.7590,  34.5765,2,     72.4,2,  34.5771,6,    72.10,6,   107.61,6,    40.90,6,     0.00,6,    2.930,6, -999.000,9, -999.000,9,   2333.3,2,   2375.6,2,   7.4640,2,    25.00,  -999.00,9,  -999.00,9,   3.6675,2,  27.4831,2,   3.7591,2
49UP20150724_1,   P04,    60,  1,     18,     101,2,20150804,0745,0934,  6.7072, 175.0005, 5388,   1413.3,     1401,   3.1999,  34.5941,2,     81.1,2,  34.5946,2,    81.18,2,   119.79,2,    40.43,2,     0.00,2,    2.890,2, -999.000,9, -999.000,9,   2342.2,6,   2387.9,6,   7.4736,2,    25.00,  -999.00,9,  -999.00,9,   3.0970,2,  27.5522,2,   3.2008,2
49UP20150724_1,   P04,    60,  1,     17,     090,2,20150804,0745,0929,  6.7072, 175.0005, 5388,   1616.7,     1601,   2.7800,  34.6099,2,     89.9,2,  34.6102,2,    89.86,2,   128.97,2,    39.94,2,     0.00,2,    2.840,2, -999.000,9, -999.000,9,   2346.1,2,   2398.3,2,   7.4863,6,    25.00,  -999.00,9,  -999.00,9,   2.6650,2,  27.6037,2,   2.7797,2
49UP20150724_1,   P04,    60,  1,     16,     089,2,20150804,0745,0925,  6.7072, 175.0005, 5388,   1819.2,     1801,   2.3927,  34.6285,2,     98.7,2,  34.6289,2,    98.96,2,   137.43,2,    39.44,2,     0.00,2,    2.790,2, -999.000,9, -999.000,9,   2355.2,3,   2407.1,2,   7.5039,2,    25.00,  -999.00,9,  -999.00,9,   2.2657,2,  27.6525,2,   2.3926,2
49UP20150724_1,   P04,    60,  1,     15,     088,2,20150804,0745,0917,  6.7072, 175.0005, 5388,   2022.5,     2002,   2.1740,  34.6410,2,    104.9,2,  34.6413,2,   104.58,2,   142.15,2,    39.15,2,     0.00,2,    2.760,2, -999.000,9, -999.000,9,   2353.5,2,   2413.5,2,   7.5135,2,    25.00,  -999.00,9,  -999.00,9,   2.0330,2,  27.6815,2,   2.1743,2
49UP20150724_1,   P04,    60,  1,     14,     999,2,20150804,0745,0912,  6.7072, 175.0005, 5388,   2226.6,     2203,   2.0289,  34.6505,2,    109.6,2,  34.6507,2,   109.93,6,   145.63,6,    38.84,6,     0.00,6,    2.730,6, -999.000,9, -999.000,9,   2352.4,2,   2418.1,2,   7.5228,2,    25.00,  -999.00,9,  -999.00,9,   1.8725,2,  27.7017,2,   2.0287,2
49UP20150724_1,   P04,    60,  1,     13,     667,2,20150804,0745,0907,  6.7072, 175.0005, 5388,   2429.2,     2402,   1.8914,  34.6590,2,    115.4,2,  34.6590,2,   115.77,2,   148.29,2,    38.49,2,     0.00,2,    2.700,2, -999.000,9, -999.000,9,   2351.9,2,   2421.1,2,   7.5319,2,    25.00,  -999.00,9,  -999.00,9,   1.7195,2,  27.7202,2,   1.8913,2
49UP20150724_1,   P04,    60,  1,     12,     074,2,20150804,0745,0859,  6.7072, 175.0005, 5388,   2632.5,     2602,   1.7970,  34.6641,2,    121.6,2,  34.6640,2,   121.85,2,   148.78,2,    37.99,2,     0.00,2,    2.660,2,    0.000,2,    0.000,2,   2355.1,3,   2421.2,2,   7.5427,2,    25.00,  -999.00,9,  -999.00,9,   1.6085,2,  27.7326,2,   1.7968,2
49UP20150724_1,   P04,    60,  1,     11,     268,2,20150804,0745,0854,  6.7072, 175.0005, 5388,   2836.2,     2802,   1.7131,  34.6684,2,    128.4,2,  34.6683,2,   128.60,2,   148.09,2,    37.61,2,     0.00,2,    2.620,2,    0.000,2,    0.000,2,   2347.2,2,   2421.1,2,   7.5520,2,    25.00,  -999.00,9,  -999.00,9,   1.5073,2,  27.7436,2,   1.7129,2
49UP20150724_1,   P04,    60,  1,     10,     267,2,20150804,0745,0849,  6.7072, 175.0005, 5388,   3041.4,     3003,   1.6463,  34.6724,2,    134.2,2,  34.6725,6,   134.41,2,   147.04,2,    37.14,2,     0.00,2,    2.590,2,    0.000,2,    0.000,2,   2337.4,2,   2418.9,2,   7.5596,2,    25.00,  -999.00,9,  -999.00,9,   1.4223,2,  27.7529,2,   1.6463,2
49UP20150724_1,   P04,    60,  1,      9,     518,2,20150804,0745,0841,  6.7072, 175.0005, 5388,   3296.9,     3253,   1.5811,  34.6770,2,    141.2,2,  34.6777,2,   141.77,2,   145.89,2,    36.72,2,     0.00,2,    2.550,2,    0.000,2,    0.000,2,   2335.2,6,   2416.7,6,   7.5705,2,    25.00,  -999.00,9,  -999.00,9,   1.3335,2,  27.7629,2,   1.5810,2
49UP20150724_1,   P04,    60,  1,      8,     081,2,20150804,0745,0835,  6.7072, 175.0005, 5388,   3554.0,     3505,   1.5172,  34.6820,2,    148.0,2,  34.6818,2,   148.13,6,   144.75,6,    36.28,6,     0.00,6,    2.520,6,    0.011,2,    0.011,2,   2331.3,2,   2415.7,2,   7.5763,6,    25.00,  -999.00,9,  -999.00,9,   1.2451,2,  27.7732,2,   1.5172,2
49UP20150724_1,   P04,    60,  1,      7,     516,2,20150804,0745,0826,  6.7072, 175.0005, 5388,   3807.2,     3752,   1.4490,  34.6874,2,    156.4,2,  34.6868,2,   156.43,2,   142.13,2,    35.71,2,     0.00,2,    2.470,2,    0.001,2,    0.002,2,   2324.2,2,   2412.0,2,   7.5894,2,    25.00,  -999.00,9,  -999.00,9,   1.1522,2,  27.7839,2,   1.4490,2
49UP20150724_1,   P04,    60,  1,      6,     113,2,20150804,0745,0820,  6.7072, 175.0005, 5388,   4064.2,     4003,   1.3722,  34.6931,2,    166.7,2,  34.6934,2,   166.99,2,   137.72,2,    34.93,2,     0.00,2,    2.420,2,    0.000,2,    0.004,2,   2316.1,3,   2405.0,2,   7.6012,2,    25.00,  -999.00,9,  -999.00,9,   1.0498,2,  27.7954,2,   1.3720,2
49UP20150724_1,   P04,    60,  1,      5,     094,2,20150804,0745,0811,  6.7072, 175.0005, 5388,   4318.7,     4252,   1.3235,  34.6974,2,    175.3,2,  34.6976,2,   175.54,2,   133.49,2,    34.39,2,     0.00,2,    2.370,2,    0.000,2,    0.000,2,   2310.1,3,   2399.1,2,   7.6069,2,    25.00,  -999.00,9,  -999.00,9,   0.9745,2,  27.8039,2,   1.3235,2
49UP20150724_1,   P04,    60,  1,      4,     077,2,20150804,0745,0805,  6.7072, 175.0005, 5388,   4575.9,     4502,   1.2959,  34.7007,2,    182.1,2,  34.7007,2,   182.36,2,   129.43,2,    33.74,2,     0.00,2,    2.330,2,    0.008,2,    0.001,2,   2297.3,2,   2394.0,2,   7.6151,2,    25.00,  -999.00,9,  -999.00,9,   0.9185,2,  27.8102,2,   1.2960,2
49UP20150724_1,   P04,    60,  1,      3,     104,2,20150804,0745,0757,  6.7072, 175.0005, 5388,   4832.3,     4752,   1.2964,  34.7022,2,    185.8,2,  34.7026,6,   186.12,2,   127.55,2,    33.51,2,     0.00,2,    2.310,2,    0.001,2,    0.001,2,   2289.7,2,   2389.2,2,   7.6176,2,    25.00,  -999.00,9,  -999.00,9,   0.8890,2,  27.8134,2,   1.2964,2
49UP20150724_1,   P04,    60,  1,      2,     075,2,20150804,0745,0752,  6.7072, 175.0005, 5388,   5089.9,     5002,   1.3159,  34.7029,2,    187.4,2,  34.7030,2,   187.85,2,   126.55,2,    33.38,2,     0.00,2,    2.300,2,    0.002,2,    0.002,2,   2288.8,6,   2387.3,6,   7.6178,2,    25.00,  -999.00,9,  -999.00,9,   0.8769,2,  27.8147,2,   1.3158,2
49UP20150724_1,   P04,    60,  1,      1,     997,2,20150804,0745,0745,  6.7072, 175.0005, 5388,   5352.4,     5257,   1.3401,  34.7033,2,    188.8,2,  34.7044,2,   188.87,2,   125.99,2,    33.32,2,     0.00,2,    2.300,2,    0.010,6,    0.006,6,   2287.8,2,   2385.6,2,   7.6158,6,    25.00,  -999.00,9,  -999.00,9,   0.8678,2,  27.8156,2,   1.3400,2