BOTTLE,20191113JMAGEMD
EXPOCODE,SECT_ID,STNNBR,CASTNO,SAMPNO,BTLNBR,BTLNBR_FLAG_U,DATE,TIME,BTL_TIME,LATITUDE,LONGITUDE,DEPTH,CTDPRS,CTDDEP,CTDTMP,CTDSAL,CTDSAL_FLAG_W,CTDOXY,CTDOXY_FLAG_W,SALNTY,SALNTY_FLAG_W,OXYGEN,OXYGEN_FLAG_W,SILCAT,SILCAT_FLAG_W,NO2+NO3,NO2+NO3_FLAG_W,NITRIT,NITRIT_FLAG_W,PHSPHT,PHSPHT_FLAG_W,CFC-11,CFC-11_FLAG_W,CFC-12,CFC-12_FLAG_W,TCARBN,TCARBN_FLAG_W,ALKALI,ALKALI_FLAG_W,PH_TS,PH_TS_FLAG_W,PH_TS_TMP,CHLORA,CHLORA_FLAG_W,PPHYTN,PPHYTN_FLAG_W,THETA,THETA_FLAG_W,SIGTHT,SIGTHT_FLAG_W,SBE35,SBE35_FLAG_W
,,,,,,,,UTC,,,,METER,DBAR,METERS,ITS-90,PSS-78,,UMOL/KG,,PSS78,,UMOL/KG,,UMOL/KG,,UMOL/KG,,UMOL/KG,,UMOL/KG,,PMOL/KG,,PMOL/KG,,UMOL/KG,,UMOL/KG,,,,ITS-90,UG/KG,,UG/KG,,ITS-90,,KG/M3,,ITS-90,
49UP20150724_2,   P04,    33,  1,      0,      -9,0,20150824,0654,0843,  9.4195, 160.8383, 4720,      0.0,        0,  29.2375,  34.0498,2,    197.5,2,-999.0000,9,   196.28,2,     1.00,2,     0.00,2,     0.00,2,    0.090,2, -999.000,9, -999.000,9,   -999.0,9,   -999.0,9,-999.0000,9,  -999.00,  -999.00,9,  -999.00,9,  29.2369,2,  21.2717,2,-999.0000,9
49UP20150724_2,   P04,    33,  1,     36,     109,2,20150824,0654,0907,  9.4195, 160.8383, 4720,     10.6,       11,  29.0445,  34.0419,2,    198.7,2,  34.0461,2,   196.46,2,     0.98,2,     0.02,2,     0.00,2,    0.080,2, -999.000,9, -999.000,9,   -999.0,9,   -999.0,9,-999.0000,9,  -999.00,  -999.00,9,  -999.00,9,  29.0420,2,  21.3309,2,  29.0343,2
49UP20150724_2,   P04,    33,  1,     35,     112,2,20150824,0654,0906,  9.4195, 160.8383, 4720,     26.0,       26,  28.8523,  34.0382,2,    198.4,2,  34.0385,2,   196.93,2,     0.96,2,     0.03,2,     0.00,2,    0.080,2, -999.000,9, -999.000,9,   -999.0,9,   -999.0,9,-999.0000,9,  -999.00,  -999.00,9,  -999.00,9,  28.8461,2,  21.3933,2,  28.8511,2
49UP20150724_2,   P04,    33,  1,     34,     094,2,20150824,0654,0902,  9.4195, 160.8383, 4720,     49.8,       50,  28.0952,  34.4710,2,    205.3,2,  34.4874,4,   204.63,2,     1.06,2,     0.04,2,     0.00,2,    0.110,2, -999.000,9, -999.000,9,   -999.0,9,   -999.0,9,-999.0000,9,  -999.00,  -999.00,9,  -999.00,9,  28.0835,2,  21.9696,2,  28.0887,2
49UP20150724_2,   P04,    33,  1,     33,     469,2,20150824,0654,0900,  9.4195, 160.8383, 4720,     75.7,       75,  24.6965,  34.8884,2,    201.4,2,  34.8970,2,   201.50,2,     2.00,2,     0.01,2,     0.00,2,    0.200,2, -999.000,9, -999.000,9,   -999.0,9,   -999.0,9,-999.0000,9,  -999.00,  -999.00,9,  -999.00,9,  24.6803,2,  23.3537,2,  24.6986,2
49UP20150724_2,   P04,    33,  1,     32,     105,2,20150824,0654,0859,  9.4195, 160.8383, 4720,    102.0,      101,  19.4875,  34.8325,2,    162.4,2,  34.8209,2,   162.51,2,     5.64,2,     6.23,2,     0.30,2,    0.610,2, -999.000,9, -999.000,9,   -999.0,9,   -999.0,9,-999.0000,9,  -999.00,  -999.00,9,  -999.00,9,  19.4690,2,  24.7726,2,  19.4896,2
49UP20150724_2,   P04,    33,  1,     31,     515,2,20150824,0654,0858,  9.4195, 160.8383, 4720,    125.2,      124,  15.9079,  34.5969,2,    150.4,2,  34.5898,2,   149.69,2,     9.72,2,    11.46,2,     0.03,2,    0.920,2, -999.000,9, -999.000,9,   -999.0,9,   -999.0,9,-999.0000,9,  -999.00,  -999.00,9,  -999.00,9,  15.8882,2,  25.4630,2,  15.9172,2
49UP20150724_2,   P04,    33,  1,     30,     097,2,20150824,0654,0856,  9.4195, 160.8383, 4720,    150.9,      150,  12.8504,  34.3978,2,    126.0,2,  34.3976,2,   126.13,2,    17.35,2,    18.05,2,     0.00,2,    1.390,2, -999.000,9, -999.000,9,   -999.0,9,   -999.0,9,-999.0000,9,  -999.00,  -999.00,9,  -999.00,9,  12.8300,2,  25.9601,2,  12.8466,2
49UP20150724_2,   P04,    33,  1,     29,     102,2,20150824,0654,0855,  9.4195, 160.8383, 4720,    176.5,      175,  11.7271,  34.4105,2,    101.2,2,  34.4109,2,   100.73,6,    23.05,6,    22.75,6,     0.00,6,    1.720,6, -999.000,9, -999.000,9,   -999.0,9,   -999.0,9,-999.0000,9,  -999.00,  -999.00,9,  -999.00,9,  11.7046,2,  26.1869,2,  11.7295,2
49UP20150724_2,   P04,    33,  1,     28,     108,2,20150824,0654,0854,  9.4195, 160.8383, 4720,    201.5,      200,  11.0396,  34.4690,2,     74.6,2,  34.4710,2,    74.02,2,    28.19,2,    27.31,2,     0.00,2,    2.030,2, -999.000,9, -999.000,9,   -999.0,9,   -999.0,9,-999.0000,9,  -999.00,  -999.00,9,  -999.00,9,  11.0148,2,  26.3593,2,  11.0471,2
49UP20150724_2,   P04,    33,  1,     27,     998,2,20150824,0654,0852,  9.4195, 160.8383, 4720,    251.1,      250,   9.6411,  34.5452,2,     53.7,2,  34.5458,2,    53.59,2,    35.18,2,    32.19,2,     0.00,2,    2.330,2, -999.000,9, -999.000,9,   -999.0,9,   -999.0,9,-999.0000,9,  -999.00,  -999.00,9,  -999.00,9,   9.6127,2,  26.6620,2,   9.6414,2
49UP20150724_2,   P04,    33,  1,     26,     084,2,20150824,0654,0850,  9.4195, 160.8383, 4720,    282.5,      281,   9.2988,  34.5631,2,     53.7,2,  34.5629,6,    53.52,2,    37.02,2,    33.06,2,     0.00,2,    2.380,2, -999.000,9, -999.000,9,   -999.0,9,   -999.0,9,-999.0000,9,  -999.00,  -999.00,9,  -999.00,9,   9.2675,2,  26.7328,2,   9.2998,2
49UP20150724_2,   P04,    33,  1,     25,     098,2,20150824,0654,0848,  9.4195, 160.8383, 4720,    372.1,      370,   8.5033,  34.5681,2,     61.1,2,  34.5679,2,    61.26,2,    40.94,2,    34.09,2,     0.00,2,    2.430,2, -999.000,9, -999.000,9,   -999.0,9,   -999.0,9,-999.0000,9,  -999.00,  -999.00,9,  -999.00,9,   8.4641,2,  26.8642,2,   8.5053,2
49UP20150724_2,   P04,    33,  1,     24,     110,3,20150824,0654,0845,  9.4195, 160.8383, 4720,    473.5,      470,   7.7372,  34.5520,2,     66.0,2,  34.5518,2,    66.33,2,    46.55,2,    35.10,2,     0.00,2,    2.500,2, -999.000,9, -999.000,9,   -999.0,9,   -999.0,9,-999.0000,9,  -999.00,  -999.00,9,  -999.00,9,   7.6896,2,  26.9678,2,   7.7356,2
49UP20150724_2,   P04,    33,  1,     23,     096,2,20150824,0654,0842,  9.4195, 160.8383, 4720,    574.0,      570,   6.9523,  34.5358,2,     67.5,2,  34.5353,2,    67.49,2,    54.59,2,    36.37,2,     0.00,2,    2.630,3, -999.000,9, -999.000,9,   -999.0,9,   -999.0,9,-999.0000,9,  -999.00,  -999.00,9,  -999.00,9,   6.8976,2,  27.0672,2,   6.9547,2
49UP20150724_2,   P04,    33,  1,     22,     111,2,20150824,0654,0840,  9.4195, 160.8383, 4720,    675.4,      671,   6.1780,  34.5303,2,     66.3,2,  34.5299,2,    66.45,2,    64.80,2,    37.87,2,     0.00,2,    2.720,2, -999.000,9, -999.000,9,   -999.0,9,   -999.0,9,-999.0000,9,  -999.00,  -999.00,9,  -999.00,9,   6.1172,2,  27.1665,2,   6.1780,2
49UP20150724_2,   P04,    33,  1,     21,     078,2,20150824,0654,0836,  9.4195, 160.8383, 4720,    776.6,      771,   5.5640,  34.5343,2,     68.8,2,  34.5351,2,    68.88,6,    73.98,6,    38.61,6,     0.00,6,    2.770,6, -999.000,9, -999.000,9,   -999.0,9,   -999.0,9,-999.0000,9,  -999.00,  -999.00,9,  -999.00,9,   5.4971,2,  27.2471,2,   5.5645,2
49UP20150724_2,   P04,    33,  1,     20,     093,2,20150824,0654,0833,  9.4195, 160.8383, 4720,    877.9,      871,   5.0033,  34.5435,2,     75.7,2,  34.5433,2,    75.39,2,    83.00,2,    38.83,2,     0.00,2,    2.790,2, -999.000,9, -999.000,9,   -999.0,9,   -999.0,9,-999.0000,9,  -999.00,  -999.00,9,  -999.00,9,   4.9309,2,  27.3213,2,   5.0053,2
49UP20150724_2,   P04,    33,  1,     19,     092,2,20150824,0654,0830,  9.4195, 160.8383, 4720,    977.1,      969,   4.6564,  34.5493,2,     78.5,2,  34.5497,2,    78.33,2,    89.59,2,    38.96,2,     0.00,2,    2.790,2, -999.000,9, -999.000,9,   -999.0,9,   -999.0,9,-999.0000,9,  -999.00,  -999.00,9,  -999.00,9,   4.5776,2,  27.3657,2,   4.6562,2
49UP20150724_2,   P04,    33,  1,     18,     101,2,20150824,0654,0826,  9.4195, 160.8383, 4720,   1139.7,     1130,   3.9414,  34.5653,2,     81.2,2,  34.5654,2,    80.91,2,   104.40,2,    39.47,2,     0.00,2,    2.830,2, -999.000,9, -999.000,9,   -999.0,9,   -999.0,9,-999.0000,9,  -999.00,  -999.00,9,  -999.00,9,   3.8544,2,  27.4553,2,   3.9417,2
49UP20150724_2,   P04,    33,  1,     17,     090,2,20150824,0654,0822,  9.4195, 160.8383, 4720,   1343.0,     1331,   3.2221,  34.5885,2,     88.7,2,  34.5879,6,    88.45,2,   119.31,2,    39.54,2,     0.00,2,    2.820,2, -999.000,9, -999.000,9,   -999.0,9,   -999.0,9,-999.0000,9,  -999.00,  -999.00,9,  -999.00,9,   3.1248,2,  27.5450,2,   3.2222,2
49UP20150724_2,   P04,    33,  1,     16,     089,3,20150824,0654,0816,  9.4195, 160.8383, 4720,   1545.1,     1531,   2.7712,  34.6072,2,     95.2,2,  34.6068,2,    94.85,2,   128.65,2,    39.35,2,     0.00,2,    2.800,2, -999.000,9, -999.000,9,   -999.0,9,   -999.0,9,-999.0000,9,  -999.00,  -999.00,9,  -999.00,9,   2.6622,2,  27.6018,2,   2.7716,2
49UP20150724_2,   P04,    33,  1,     15,     088,2,20150824,0654,0811,  9.4195, 160.8383, 4720,   1747.2,     1730,   2.5024,  34.6194,2,     98.9,2,  34.6190,2,    98.56,2,   134.95,2,    39.31,2,     0.00,2,    2.790,2, -999.000,9, -999.000,9,   -999.0,9,   -999.0,9,-999.0000,9,  -999.00,  -999.00,9,  -999.00,9,   2.3800,2,  27.6357,2,   2.5030,2
49UP20150724_2,   P04,    33,  1,     14,     999,2,20150824,0654,0807,  9.4195, 160.8383, 4720,   1950.5,     1931,   2.2811,  34.6321,2,    104.4,2,  34.6324,2,   104.35,2,   139.52,2,    39.01,2,     0.00,2,    2.760,2, -999.000,9, -999.000,9,   -999.0,9,   -999.0,9,-999.0000,9,  -999.00,  -999.00,9,  -999.00,9,   2.1447,2,  27.6653,2,   2.2813,2
49UP20150724_2,   P04,    33,  1,     13,     667,2,20150824,0654,0801,  9.4195, 160.8383, 4720,   2154.9,     2132,   2.0669,  34.6437,2,    111.1,2,  34.6439,2,   111.02,2,   143.46,2,    38.70,2,     0.00,2,    2.730,2, -999.000,9, -999.000,9,   -999.0,9,   -999.0,9,-999.0000,9,  -999.00,  -999.00,9,  -999.00,9,   1.9162,2,  27.6928,2,   2.0668,2
49UP20150724_2,   P04,    33,  1,     12,     074,2,20150824,0654,0757,  9.4195, 160.8383, 4720,   2357.0,     2331,   1.9238,  34.6530,2,    117.3,2,  34.6524,2,   117.45,2,   145.97,2,    38.36,2,     0.00,2,    2.700,2, -999.000,9, -999.000,9,   -999.0,9,   -999.0,9,-999.0000,9,  -999.00,  -999.00,9,  -999.00,9,   1.7577,2,  27.7125,2,   1.9238,2
49UP20150724_2,   P04,    33,  1,     11,     268,2,20150824,0654,0751,  9.4195, 160.8383, 4720,   2561.0,     2531,   1.8277,  34.6592,2,    122.2,2,  34.6592,2,   122.00,2,   147.09,2,    38.04,2,     0.00,2,    2.670,2, -999.000,9, -999.000,9,   -999.0,9,   -999.0,9,-999.0000,9,  -999.00,  -999.00,9,  -999.00,9,   1.6451,2,  27.7260,2,   1.8278,2
49UP20150724_2,   P04,    33,  1,     10,     267,2,20150824,0654,0744,  9.4195, 160.8383, 4720,   2765.0,     2731,   1.7590,  34.6637,2,    127.0,2,  34.6616,2,   126.79,6,   147.33,6,    37.76,6,     0.00,6,    2.650,6, -999.000,9, -999.000,9,   -999.0,9,   -999.0,9,-999.0000,9,  -999.00,  -999.00,9,  -999.00,9,   1.5590,2,  27.7360,2,   1.7590,2
49UP20150724_2,   P04,    33,  1,      9,     518,2,20150824,0654,0739,  9.4195, 160.8383, 4720,   2968.6,     2931,   1.6708,  34.6694,2,    133.1,2,  34.6701,2,   132.85,2,   147.36,2,    37.34,2,     0.00,2,    2.610,2, -999.000,9, -999.000,9,   -999.0,9,   -999.0,9,-999.0000,9,  -999.00,  -999.00,9,  -999.00,9,   1.4533,2,  27.7482,2,   1.6710,2
49UP20150724_2,   P04,    33,  1,      8,     081,2,20150824,0654,0734,  9.4195, 160.8383, 4720,   3211.7,     3169,   1.5915,  34.6749,2,    140.0,2,  34.6749,6,   139.77,2,   146.94,2,    36.87,2,     0.00,2,    2.570,2, -999.000,9, -999.000,9,   -999.0,9,   -999.0,9,-999.0000,9,  -999.00,  -999.00,9,  -999.00,9,   1.3522,2,  27.7599,2,   1.5916,2
49UP20150724_2,   P04,    33,  1,      7,     516,2,20150824,0654,0727,  9.4195, 160.8383, 4720,   3467.7,     3420,   1.5326,  34.6799,2,    146.9,2,  34.6805,2,   146.55,2,   145.16,2,    36.37,2,     0.00,2,    2.540,2, -999.000,9, -999.000,9,   -999.0,9,   -999.0,9,-999.0000,9,  -999.00,  -999.00,9,  -999.00,9,   1.2690,2,  27.7698,2,   1.5327,2
49UP20150724_2,   P04,    33,  1,      6,     113,2,20150824,0654,0715,  9.4195, 160.8383, 4720,   3980.1,     3921,   1.4650,  34.6875,2,    159.2,2,  34.6871,2,   159.18,2,   140.18,2,    35.49,2,     0.00,2,    2.470,2, -999.000,9, -999.000,9,   -999.0,9,   -999.0,9,-999.0000,9,  -999.00,  -999.00,9,  -999.00,9,   1.1492,2,  27.7842,2,   1.4649,2
49UP20150724_2,   P04,    33,  1,      4,     471,2,20150824,0654,0710,  9.4195, 160.8383, 4720,   4236.4,     4171,   1.4321,  34.6918,2,    166.4,2,  34.6916,2,   166.31,2,   136.50,2,    34.97,2,     0.00,2,    2.430,2, -999.000,9, -999.000,9,   -999.0,9,   -999.0,9,-999.0000,9,  -999.00,  -999.00,9,  -999.00,9,   1.0891,2,  27.7917,2,   1.4322,2
49UP20150724_2,   P04,    33,  1,      5,     658,2,20150824,0654,0710,  9.4195, 160.8383, 4720,   4237.7,     4172,   1.4320,  34.6918,2,    166.4,2,  34.6916,2,   166.37,2,   136.50,2,    34.94,2,     0.00,2,    2.430,2, -999.000,9, -999.000,9,   -999.0,9,   -999.0,9,-999.0000,9,  -999.00,  -999.00,9,  -999.00,9,   1.0889,2,  27.7918,2,   1.4322,2
49UP20150724_2,   P04,    33,  1,      3,     104,2,20150824,0654,0703,  9.4195, 160.8383, 4720,   4494.6,     4423,   1.4120,  34.6951,2,    172.4,2,  34.6950,6,   172.12,6,   133.24,6,    34.53,6,     0.00,6,    2.400,6, -999.000,9, -999.000,9,   -999.0,9,   -999.0,9,-999.0000,9,  -999.00,  -999.00,9,  -999.00,9,   1.0404,2,  27.7976,2,   1.4120,2
49UP20150724_2,   P04,    33,  1,      2,     075,2,20150824,0654,0657,  9.4195, 160.8383, 4720,   4750.0,     4671,   1.4095,  34.6971,2,    176.2,2,  34.6969,2,   176.33,2,   131.04,2,    34.20,2,     0.00,2,    2.380,2, -999.000,9, -999.000,9,   -999.0,9,   -999.0,9,-999.0000,9,  -999.00,  -999.00,9,  -999.00,9,   1.0081,2,  27.8014,2,   1.4094,2
49UP20150724_2,   P04,    33,  1,      1,     997,2,20150824,0654,0654,  9.4195, 160.8383, 4720,   4800.2,     4720,   1.4131,  34.6973,2,    176.7,2,  34.6970,2,   176.16,2,   131.19,2,    34.21,2,     0.00,2,    2.380,2, -999.000,9, -999.000,9,   -999.0,9,   -999.0,9,-999.0000,9,  -999.00,  -999.00,9,  -999.00,9,   1.0057,2,  27.8017,2,   1.4129,2