BOTTLE,20191113JMAGEMD
EXPOCODE,SECT_ID,STNNBR,CASTNO,SAMPNO,BTLNBR,BTLNBR_FLAG_U,DATE,TIME,BTL_TIME,LATITUDE,LONGITUDE,DEPTH,CTDPRS,CTDDEP,CTDTMP,CTDSAL,CTDSAL_FLAG_W,CTDOXY,CTDOXY_FLAG_W,SALNTY,SALNTY_FLAG_W,OXYGEN,OXYGEN_FLAG_W,SILCAT,SILCAT_FLAG_W,NO2+NO3,NO2+NO3_FLAG_W,NITRIT,NITRIT_FLAG_W,PHSPHT,PHSPHT_FLAG_W,CFC-11,CFC-11_FLAG_W,CFC-12,CFC-12_FLAG_W,TCARBN,TCARBN_FLAG_W,ALKALI,ALKALI_FLAG_W,PH_TS,PH_TS_FLAG_W,PH_TS_TMP,CHLORA,CHLORA_FLAG_W,PPHYTN,PPHYTN_FLAG_W,THETA,THETA_FLAG_W,SIGTHT,SIGTHT_FLAG_W,SBE35,SBE35_FLAG_W
,,,,,,,,UTC,,,,METER,DBAR,METERS,ITS-90,PSS-78,,UMOL/KG,,PSS78,,UMOL/KG,,UMOL/KG,,UMOL/KG,,UMOL/KG,,UMOL/KG,,PMOL/KG,,PMOL/KG,,UMOL/KG,,UMOL/KG,,,,ITS-90,UG/KG,,UG/KG,,ITS-90,,KG/M3,,ITS-90,
49UP20150724_1,   P04,    54,  1,      0,      -9,0,20150806,1459,1643,  5.0140, 171.3358, 4511,      0.0,        0,  29.2315,  34.0535,2,    197.8,2,-999.0000,9,   196.54,2,     1.19,2,     0.01,2,     0.00,2,    0.080,2, -999.000,9, -999.000,9,   -999.0,9,   -999.0,9,-999.0000,9,  -999.00,  -999.00,9,  -999.00,9,  29.2309,2,  21.2765,2,-999.0000,9
49UP20150724_1,   P04,    54,  1,     36,     109,3,20150806,1459,1703,  5.0140, 171.3358, 4511,     11.1,       11,  29.2648,  34.0620,2,    197.7,2,  34.0578,2,   196.18,2,     1.17,2,     0.00,2,     0.00,2,    0.070,2, -999.000,9, -999.000,9,   -999.0,9,   -999.0,9,-999.0000,9,  -999.00,  -999.00,9,  -999.00,9,  29.2621,2,  21.2724,2,  29.2636,2
49UP20150724_1,   P04,    54,  1,     35,     112,2,20150806,1459,1702,  5.0140, 171.3358, 4511,     25.8,       26,  29.2743,  34.1012,2,    197.9,2,  34.1157,4,   197.16,2,     1.22,2,     0.01,2,     0.00,2,    0.070,2, -999.000,9, -999.000,9,   -999.0,9,   -999.0,9,-999.0000,9,  -999.00,  -999.00,9,  -999.00,9,  29.2680,2,  21.2999,2,  29.2704,2
49UP20150724_1,   P04,    54,  1,     34,     083,2,20150806,1459,1658,  5.0140, 171.3358, 4511,     51.6,       51,  26.3885,  34.7528,2,    199.1,2,  34.7645,4,   198.53,6,     1.57,6,     0.02,6,     0.00,6,    0.160,6, -999.000,9, -999.000,9,   -999.0,9,   -999.0,9,-999.0000,9,  -999.00,  -999.00,9,  -999.00,9,  26.3769,2,  22.7289,2,  26.3972,2
49UP20150724_1,   P04,    54,  1,     33,     469,2,20150806,1459,1657,  5.0140, 171.3358, 4511,     76.1,       76,  24.2975,  34.9368,2,    170.4,2,  34.9391,2,   169.77,2,     2.81,2,     3.31,2,     0.24,2,    0.370,2, -999.000,9, -999.000,9,   -999.0,9,   -999.0,9,-999.0000,9,  -999.00,  -999.00,9,  -999.00,9,  24.2814,2,  23.5099,2,  24.3017,2
49UP20150724_1,   P04,    54,  1,     32,     105,2,20150806,1459,1655,  5.0140, 171.3358, 4511,    101.5,      101,  22.2572,  34.9469,2,    153.6,2,  34.9442,2,   153.76,2,     5.06,2,     6.08,2,     0.08,2,    0.540,2, -999.000,9, -999.000,9,   -999.0,9,   -999.0,9,-999.0000,9,  -999.00,  -999.00,9,  -999.00,9,  22.2370,2,  24.1109,2,  22.2540,2
49UP20150724_1,   P04,    54,  1,     31,     515,2,20150806,1459,1654,  5.0140, 171.3358, 4511,    126.9,      126,  19.5574,  34.8556,2,    142.7,2,  34.8561,2,   143.49,2,     8.15,2,     9.49,2,     0.03,2,    0.750,2, -999.000,9, -999.000,9,   -999.0,9,   -999.0,9,-999.0000,9,  -999.00,  -999.00,9,  -999.00,9,  19.5343,2,  24.7733,2,  19.5630,2
49UP20150724_1,   P04,    54,  1,     30,     097,2,20150806,1459,1653,  5.0140, 171.3358, 4511,    151.5,      151,  16.0700,  34.6184,2,    130.0,2,  34.5913,4,   123.63,2,    13.37,2,    15.38,2,     0.06,2,    1.190,2, -999.000,9, -999.000,9,   -999.0,9,   -999.0,9,-999.0000,9,  -999.00,  -999.00,9,  -999.00,9,  16.0461,2,  25.4435,2,  16.0409,2
49UP20150724_1,   P04,    54,  1,     29,     102,2,20150806,1459,1651,  5.0140, 171.3358, 4511,    203.3,      202,  10.2786,  34.6268,2,     38.6,2,  34.6274,2,    38.62,2,    32.31,2,    32.78,2,     0.00,2,    2.360,2, -999.000,9, -999.000,9,   -999.0,9,   -999.0,9,-999.0000,9,  -999.00,  -999.00,9,  -999.00,9,  10.2547,2,  26.6167,2,  10.2820,2
49UP20150724_1,   P04,    54,  1,     28,     108,2,20150806,1459,1649,  5.0140, 171.3358, 4511,    253.5,      252,   9.6058,  34.6373,2,     47.9,2,  34.6368,6,    47.90,2,    33.86,2,    33.39,2,     0.00,2,    2.370,2, -999.000,9, -999.000,9,   -999.0,9,   -999.0,9,-999.0000,9,  -999.00,  -999.00,9,  -999.00,9,   9.5772,2,  26.7399,2,   9.6075,2
49UP20150724_1,   P04,    54,  1,     27,     998,2,20150806,1459,1647,  5.0140, 171.3358, 4511,    303.9,      302,   9.1748,  34.6362,2,     50.4,2,  34.6364,2,    50.48,6,    35.09,6,    34.07,6,     0.00,6,    2.410,6, -999.000,9, -999.000,9,   -999.0,9,   -999.0,9,-999.0000,9,  -999.00,  -999.00,9,  -999.00,9,   9.1413,2,  26.8105,2,   9.1791,2
49UP20150724_1,   P04,    54,  1,     25,     098,2,20150806,1459,1644,  5.0140, 171.3358, 4511,    405.2,      403,   8.5160,  34.6120,2,     51.1,2,  34.6112,2,    51.23,2,    38.94,2,    35.33,2,     0.00,2,    2.500,2, -999.000,9, -999.000,9,   -999.0,9,   -999.0,9,-999.0000,9,  -999.00,  -999.00,9,  -999.00,9,   8.4731,2,  26.8972,2,   8.5148,2
49UP20150724_1,   P04,    54,  1,     26,     084,2,20150806,1459,1645,  5.0140, 171.3358, 4511,    407.0,      404,   8.4996,  34.6114,2,     51.3,2,  34.6117,2,    50.95,2,    38.98,2,    35.40,2,     0.00,2,    2.510,2, -999.000,9, -999.000,9,   -999.0,9,   -999.0,9,-999.0000,9,  -999.00,  -999.00,9,  -999.00,9,   8.4566,2,  26.8993,2,   8.5000,2
49UP20150724_1,   P04,    54,  1,     24,     110,2,20150806,1459,1641,  5.0140, 171.3358, 4511,    507.5,      504,   7.4852,  34.5744,2,     45.8,2,  34.5753,2,    46.51,2,    47.49,2,    37.65,2,     0.00,2,    2.710,2, -999.000,9, -999.000,9,   -999.0,9,   -999.0,9,-999.0000,9,  -999.00,  -999.00,9,  -999.00,9,   7.4351,2,  27.0223,2,   7.4900,2
49UP20150724_1,   P04,    54,  1,     23,     096,2,20150806,1459,1638,  5.0140, 171.3358, 4511,    606.3,      602,   6.7014,  34.5558,2,     37.0,2,  34.5555,2,    36.77,2,    57.86,2,    40.24,2,     0.00,2,    2.900,2, -999.000,9, -999.000,9,   -999.0,9,   -999.0,9,-999.0000,9,  -999.00,  -999.00,9,  -999.00,9,   6.6447,2,  27.1173,2,   6.7006,2
49UP20150724_1,   P04,    54,  1,     22,     111,2,20150806,1459,1634,  5.0140, 171.3358, 4511,    707.9,      703,   6.0012,  34.5472,2,     42.2,2,  34.5478,2,    40.69,2,    66.41,2,    41.24,2,     0.00,2,    2.960,2, -999.000,9, -999.000,9,   -999.0,9,   -999.0,9,-999.0000,9,  -999.00,  -999.00,9,  -999.00,9,   5.9383,2,  27.2027,2,   6.0018,2
49UP20150724_1,   P04,    54,  1,     21,     078,2,20150806,1459,1630,  5.0140, 171.3358, 4511,    809.5,      803,   5.3791,  34.5448,2,     53.3,2,  34.5456,2,    52.67,2,    75.38,2,    41.06,2,     0.00,2,    2.940,2, -999.000,9, -999.000,9,   -999.0,9,   -999.0,9,-999.0000,9,  -999.00,  -999.00,9,  -999.00,9,   5.3103,2,  27.2779,2,   5.3807,2
49UP20150724_1,   P04,    54,  1,     20,     093,2,20150806,1459,1627,  5.0140, 171.3358, 4511,    909.1,      902,   4.7946,  34.5527,2,     60.0,2,  34.5512,2,    60.80,2,    85.91,2,    41.06,2,     0.00,2,    2.930,2, -999.000,9, -999.000,9,   -999.0,9,   -999.0,9,-999.0000,9,  -999.00,  -999.00,9,  -999.00,9,   4.7208,2,  27.3524,2,   4.7949,2
49UP20150724_1,   P04,    54,  1,     19,     092,2,20150806,1459,1625,  5.0140, 171.3358, 4511,   1009.5,     1001,   4.3990,  34.5600,2,     66.0,2,  34.5610,2,    66.05,2,    93.25,2,    40.94,2,     0.00,2,    2.940,2, -999.000,9, -999.000,9,   -999.0,9,   -999.0,9,-999.0000,9,  -999.00,  -999.00,9,  -999.00,9,   4.3194,2,  27.4024,2,   4.3992,2
49UP20150724_1,   P04,    54,  1,     18,     101,2,20150806,1459,1620,  5.0140, 171.3358, 4511,   1211.6,     1201,   3.7729,  34.5755,2,     83.3,2,  34.5749,2,    83.21,2,   103.76,2,    39.88,2,     0.00,2,    2.850,2, -999.000,9, -999.000,9,   -999.0,9,   -999.0,9,-999.0000,9,  -999.00,  -999.00,9,  -999.00,9,   3.6813,2,  27.4810,2,   3.7732,2
49UP20150724_1,   P04,    54,  1,     17,     090,2,20150806,1459,1614,  5.0140, 171.3358, 4511,   1413.4,     1401,   3.2802,  34.5929,2,     83.9,2,  34.5933,6,    83.44,2,   116.42,2,    40.24,2,     0.00,2,    2.870,2, -999.000,9, -999.000,9,   -999.0,9,   -999.0,9,-999.0000,9,  -999.00,  -999.00,9,  -999.00,9,   3.1764,2,  27.5438,2,   3.2798,2
49UP20150724_1,   P04,    54,  1,     16,     089,2,20150806,1459,1609,  5.0140, 171.3358, 4511,   1615.7,     1601,   2.9351,  34.6054,2,     88.7,2,  34.6066,2,    88.49,6,   124.78,6,    40.04,6,     0.00,6,    2.850,6, -999.000,9, -999.000,9,   -999.0,9,   -999.0,9,-999.0000,9,  -999.00,  -999.00,9,  -999.00,9,   2.8182,2,  27.5866,2,   2.9353,2
49UP20150724_1,   P04,    54,  1,     15,     088,2,20150806,1459,1605,  5.0140, 171.3358, 4511,   1818.2,     1800,   2.6045,  34.6194,2,     97.9,2,  34.6200,2,    97.62,2,   131.10,2,    39.49,2,     0.00,2,    2.800,2, -999.000,9, -999.000,9,   -999.0,9,   -999.0,9,-999.0000,9,  -999.00,  -999.00,9,  -999.00,9,   2.4747,2,  27.6277,2,   2.6044,2
49UP20150724_1,   P04,    54,  1,     14,     999,2,20150806,1459,1559,  5.0140, 171.3358, 4511,   2022.8,     2002,   2.3054,  34.6344,2,    105.7,2,  34.6351,2,   105.80,2,   137.55,2,    39.05,2,     0.00,2,    2.750,2, -999.000,9, -999.000,9,   -999.0,9,   -999.0,9,-999.0000,9,  -999.00,  -999.00,9,  -999.00,9,   2.1624,2,  27.6657,2,   2.3052,2
49UP20150724_1,   P04,    54,  1,     13,     667,3,20150806,1459,1554,  5.0140, 171.3358, 4511,   2224.9,     2201,   2.1391,  34.6441,2,    110.1,2,  34.6440,2,   110.00,2,   141.83,2,    38.84,2,     0.00,2,    2.730,2, -999.000,9, -999.000,9,   -999.0,9,   -999.0,9,-999.0000,9,  -999.00,  -999.00,9,  -999.00,9,   1.9811,2,  27.6881,2,   2.1387,2
49UP20150724_1,   P04,    54,  1,     12,     074,2,20150806,1459,1550,  5.0140, 171.3358, 4511,   2427.8,     2400,   1.9169,  34.6564,2,    118.4,2,  34.6562,6,   118.25,2,   145.41,2,    38.32,2,     0.00,2,    2.690,2, -999.000,9, -999.000,9,   -999.0,9,   -999.0,9,-999.0000,9,  -999.00,  -999.00,9,  -999.00,9,   1.7447,2,  27.7162,2,   1.9165,2
49UP20150724_1,   P04,    54,  1,     11,     268,2,20150806,1459,1544,  5.0140, 171.3358, 4511,   2631.3,     2600,   1.7651,  34.6645,2,    126.3,2,  34.6645,2,   126.29,6,   146.95,6,    37.84,6,     0.00,6,    2.640,6, -999.000,9, -999.000,9,   -999.0,9,   -999.0,9,-999.0000,9,  -999.00,  -999.00,9,  -999.00,9,   1.5773,2,  27.7352,2,   1.7648,2
49UP20150724_1,   P04,    54,  1,     10,     267,2,20150806,1459,1540,  5.0140, 171.3358, 4511,   2834.7,     2800,   1.6956,  34.6687,2,    131.3,2,  34.6686,2,   131.49,2,   146.83,2,    37.48,2,     0.00,2,    2.620,2, -999.000,9, -999.000,9,   -999.0,9,   -999.0,9,-999.0000,9,  -999.00,  -999.00,9,  -999.00,9,   1.4902,2,  27.7450,2,   1.6955,2
49UP20150724_1,   P04,    54,  1,      9,     518,3,20150806,1459,1539,  5.0140, 171.3358, 4511,   2835.3,     2801,   1.6958,  34.6686,2,    131.3,2,  34.6685,2,   131.35,2,   146.98,2,    37.47,2,     0.00,2,    2.610,2, -999.000,9, -999.000,9,   -999.0,9,   -999.0,9,-999.0000,9,  -999.00,  -999.00,9,  -999.00,9,   1.4904,2,  27.7449,2,   1.6956,2
49UP20150724_1,   P04,    54,  1,      8,     081,2,20150806,1459,1535,  5.0140, 171.3358, 4511,   3039.0,     3001,   1.6495,  34.6717,2,    135.2,2,  34.6718,2,   135.19,2,   146.63,2,    37.22,2,     0.00,2,    2.590,2, -999.000,9, -999.000,9,   -999.0,9,   -999.0,9,-999.0000,9,  -999.00,  -999.00,9,  -999.00,9,   1.4257,2,  27.7521,2,   1.6495,2
49UP20150724_1,   P04,    54,  1,      7,     516,2,20150806,1459,1528,  5.0140, 171.3358, 4511,   3294.4,     3251,   1.5802,  34.6764,2,    142.2,2,  34.6764,2,   141.91,2,   145.57,2,    36.74,2,     0.00,2,    2.550,2, -999.000,9, -999.000,9,   -999.0,9,   -999.0,9,-999.0000,9,  -999.00,  -999.00,9,  -999.00,9,   1.3329,2,  27.7625,2,   1.5801,2
49UP20150724_1,   P04,    54,  1,      6,     113,2,20150806,1459,1522,  5.0140, 171.3358, 4511,   3547.9,     3499,   1.5119,  34.6819,2,    149.7,2,  34.6817,2,   149.50,2,   143.80,2,    36.27,2,     0.00,2,    2.510,2, -999.000,9, -999.000,9,   -999.0,9,   -999.0,9,-999.0000,9,  -999.00,  -999.00,9,  -999.00,9,   1.2406,2,  27.7734,2,   1.5120,2
49UP20150724_1,   P04,    54,  1,      5,     094,2,20150806,1459,1522,  5.0140, 171.3358, 4511,   3548.8,     3500,   1.5114,  34.6818,2,    149.7,2,  34.6814,2,   149.52,2,   143.79,2,    36.21,2,     0.00,2,    2.510,2, -999.000,9, -999.000,9,   -999.0,9,   -999.0,9,-999.0000,9,  -999.00,  -999.00,9,  -999.00,9,   1.2400,2,  27.7733,2,   1.5112,2
49UP20150724_1,   P04,    54,  1,      4,     471,2,20150806,1459,1515,  5.0140, 171.3358, 4511,   3805.1,     3750,   1.4570,  34.6869,2,    157.7,2,  34.6874,2,   157.62,2,   140.53,2,    35.63,2,     0.00,2,    2.470,2, -999.000,9, -999.000,9,   -999.0,9,   -999.0,9,-999.0000,9,  -999.00,  -999.00,9,  -999.00,9,   1.1602,2,  27.7830,2,   1.4569,2
49UP20150724_1,   P04,    54,  1,      3,     104,2,20150806,1459,1510,  5.0140, 171.3358, 4511,   4061.0,     4000,   1.4051,  34.6920,2,    166.2,2,  34.6918,2,   166.28,2,   136.79,2,    35.05,2,     0.00,2,    2.420,2, -999.000,9, -999.000,9,   -999.0,9,   -999.0,9,-999.0000,9,  -999.00,  -999.00,9,  -999.00,9,   1.0822,2,  27.7923,2,   1.4050,2
49UP20150724_1,   P04,    54,  1,      2,     075,4,20150806,1459,1505,  5.0140, 171.3358, 4511,   4315.4,     4248,   1.3592,  34.6968,2,    175.6,2,  34.6598,4,   121.72,4,   146.00,4,    38.02,4,     0.00,4,    2.660,4, -999.000,9, -999.000,9,   -999.0,9,   -999.0,9,-999.0000,9,  -999.00,  -999.00,9,  -999.00,9,   1.0094,2,  27.8011,2,   1.3591,2
49UP20150724_1,   P04,    54,  1,      1,     997,2,20150806,1459,1459,  5.0140, 171.3358, 4511,   4573.9,     4500,   1.3292,  34.7006,2,    183.0,2,  34.7002,2,   183.37,2,   127.38,2,    33.78,2,     0.00,2,    2.340,2, -999.000,9, -999.000,9,   -999.0,9,   -999.0,9,-999.0000,9,  -999.00,  -999.00,9,  -999.00,9,   0.9509,2,  27.8081,2,   1.3290,2