BOTTLE,20191113JMAGEMD
EXPOCODE,SECT_ID,STNNBR,CASTNO,SAMPNO,BTLNBR,BTLNBR_FLAG_U,DATE,TIME,BTL_TIME,LATITUDE,LONGITUDE,DEPTH,CTDPRS,CTDDEP,CTDTMP,CTDSAL,CTDSAL_FLAG_W,CTDOXY,CTDOXY_FLAG_W,SALNTY,SALNTY_FLAG_W,OXYGEN,OXYGEN_FLAG_W,SILCAT,SILCAT_FLAG_W,NO2+NO3,NO2+NO3_FLAG_W,NITRIT,NITRIT_FLAG_W,PHSPHT,PHSPHT_FLAG_W,CFC-11,CFC-11_FLAG_W,CFC-12,CFC-12_FLAG_W,TCARBN,TCARBN_FLAG_W,ALKALI,ALKALI_FLAG_W,PH_TS,PH_TS_FLAG_W,PH_TS_TMP,CHLORA,CHLORA_FLAG_W,PPHYTN,PPHYTN_FLAG_W,THETA,THETA_FLAG_W,SIGTHT,SIGTHT_FLAG_W,SBE35,SBE35_FLAG_W
,,,,,,,,UTC,,,,METER,DBAR,METERS,ITS-90,PSS-78,,UMOL/KG,,PSS78,,UMOL/KG,,UMOL/KG,,UMOL/KG,,UMOL/KG,,UMOL/KG,,PMOL/KG,,PMOL/KG,,UMOL/KG,,UMOL/KG,,,,ITS-90,UG/KG,,UG/KG,,ITS-90,,KG/M3,,ITS-90,
49UP20150724_1,   P04,    36,  1,      0,      -9,0,20150813,0029,0220,  9.5003, 162.5123, 4999,      0.0,        0,  29.4323,  33.7525,2,    195.4,2,  33.6743,2,   195.08,2,     1.04,2,     0.04,2,     0.00,2,    0.090,2, -999.000,9, -999.000,9,   1888.2,2,   2207.4,2,   8.1179,2,    25.00,     0.10,2,     0.04,2,  29.4317,2,  20.9834,2,-999.0000,9
49UP20150724_1,   P04,    36,  1,     36,     109,2,20150813,0029,0250,  9.5003, 162.5123, 4999,     11.4,       11,  29.4395,  33.7466,2,    195.2,2,  33.7463,2,   194.84,2,     1.09,2,     0.03,2,     0.00,2,    0.080,2,    1.394,3,    0.880,3,   1893.0,2,   2215.3,2,   8.1166,2,    25.00,     0.09,2,     0.04,2,  29.4367,2,  20.9772,2,  29.4390,2
49UP20150724_1,   P04,    36,  1,     35,     112,2,20150813,0029,0249,  9.5003, 162.5123, 4999,     25.6,       25,  29.5610,  33.9229,2,    195.3,2,  33.9361,2,   195.09,6,     1.06,6,     0.03,6,     0.00,6,    0.080,6, -999.000,9, -999.000,9,   1903.5,2,   2226.5,2,   8.1158,2,    25.00,     0.10,2,     0.04,2,  29.5548,2,  21.0697,2,  29.5638,2
49UP20150724_1,   P04,    36,  1,     34,     083,2,20150813,0029,0247,  9.5003, 162.5123, 4999,     50.8,       51,  27.9589,  34.4762,2,    205.3,2,  34.4538,4,   205.76,2,     1.09,2,     0.01,2,     0.00,2,    0.100,2,    1.505,3,    0.860,3,   1941.5,2,   2263.5,2,   8.1004,2,    25.00,     0.13,2,     0.06,2,  27.9470,2,  22.0181,2,  27.9615,2
49UP20150724_1,   P04,    36,  1,     33,     469,2,20150813,0029,0245,  9.5003, 162.5123, 4999,     77.0,       77,  24.1214,  34.9851,2,    202.5,2,  34.9831,6,   203.87,2,     1.95,2,     0.02,2,     0.00,2,    0.180,2, -999.000,9, -999.000,9,   2017.6,2,   2305.0,2,   8.0266,2,    25.00,     0.21,2,     0.18,2,  24.1052,2,  23.5989,2,  24.1183,2
49UP20150724_1,   P04,    36,  1,     32,     105,2,20150813,0029,0243,  9.5003, 162.5123, 4999,    101.5,      101,  19.1523,  34.8149,2,    161.6,2,  34.8172,2,   162.08,2,     5.80,2,     6.44,2,     0.37,2,    0.610,2,    2.027,3,    1.208,3,   2084.5,2,   2293.4,2,   7.8856,2,    25.00,     0.17,2,     0.34,2,  19.1341,2,  24.8454,2,  19.1788,2
49UP20150724_1,   P04,    36,  1,     31,     515,2,20150813,0029,0242,  9.5003, 162.5123, 4999,    125.7,      125,  15.8986,  34.6067,2,    139.3,2,  34.6023,2,   141.24,2,    10.41,2,    12.48,2,     0.07,2,    0.980,2, -999.000,9, -999.000,9,   2116.6,2,   2281.6,2,   7.7830,2,    25.00,     0.10,2,     0.20,2,  15.8789,2,  25.4726,2,  15.8516,2
49UP20150724_1,   P04,    36,  1,     30,     097,2,20150813,0029,0238,  9.5003, 162.5123, 4999,    151.4,      150,  13.3033,  34.4822,2,    108.5,2,  34.4842,2,   108.90,2,    17.91,2,    19.49,2,     0.01,2,    1.480,2,    1.946,3,    1.089,3,   2159.7,2,   2278.7,2,   7.6749,2,    25.00,     0.05,2,     0.17,2,  13.2823,2,  25.9349,2,  13.3082,2
49UP20150724_1,   P04,    36,  1,     29,     102,2,20150813,0029,0237,  9.5003, 162.5123, 4999,    180.3,      179,  11.3178,  34.3485,2,    107.5,2,  34.3509,2,   107.49,2,    23.70,2,    22.40,2,     0.00,2,    1.710,2, -999.000,9, -999.000,9,   2175.9,2,   2274.8,2,   7.6175,2,    25.00,     0.01,2,     0.04,2,  11.2953,2,  26.2146,2,  11.3071,2
49UP20150724_1,   P04,    36,  1,     28,     108,2,20150813,0029,0236,  9.5003, 162.5123, 4999,    202.4,      201,  10.8369,  34.4024,2,     82.7,2,  34.4191,4,    80.45,2,    27.76,2,    26.34,2,     0.00,2,    1.990,2,    1.587,3,    0.861,3,   2204.5,2,   2279.4,2,   7.5587,2,    25.00,     0.00,2,     0.03,2,  10.8124,2,  26.3438,2,  10.8349,2
49UP20150724_1,   P04,    36,  1,     27,     998,2,20150813,0029,0234,  9.5003, 162.5123, 4999,    252.7,      251,   9.8177,  34.5758,2,     51.8,2,  34.5737,2,    51.80,2,    33.76,2,    32.05,2,     0.00,2,    2.310,2, -999.000,9, -999.000,9,   2237.1,2,   2297.5,2,   7.5057,2,    25.00,  -999.00,9,  -999.00,9,   9.7888,2,  26.6565,2,   9.8379,2
49UP20150724_1,   P04,    36,  1,     26,     084,2,20150813,0029,0232,  9.5003, 162.5123, 4999,    302.0,      300,   9.2137,  34.5699,2,     49.3,2,  34.5891,4,    49.52,2,    37.35,2,    33.47,2,     0.00,2,    2.400,2,    0.525,3,    0.272,3,   2249.0,2,   2302.2,2,   7.4849,2,    25.00,  -999.00,9,  -999.00,9,   9.1804,2,  26.7523,2,   9.2141,2
49UP20150724_1,   P04,    36,  1,     25,     098,2,20150813,0029,0230,  9.5003, 162.5123, 4999,    403.0,      400,   8.2693,  34.5664,2,     59.0,2,  34.5660,2,    59.42,2,    42.37,2,    34.57,2,     0.00,2,    2.460,2,    0.342,3,    0.176,3,   2255.2,2,   2309.2,2,   7.4910,2,    25.00,  -999.00,9,  -999.00,9,   8.2274,2,  26.8991,2,   8.2691,2
49UP20150724_1,   P04,    36,  1,     24,     110,2,20150813,0029,0227,  9.5003, 162.5123, 4999,    505.9,      502,   7.1311,  34.5398,2,     64.4,2,  34.5408,2,    64.52,6,    51.97,6,    36.21,6,     0.00,6,    2.590,6,    0.201,3,    0.110,3,   2264.8,2,   2317.8,2,   7.4826,2,    25.00,  -999.00,9,  -999.00,9,   7.0825,2,  27.0448,2,   7.1293,2
49UP20150724_1,   P04,    36,  1,     23,     096,2,20150813,0029,0224,  9.5003, 162.5123, 4999,    603.5,      599,   6.3769,  34.5298,2,     62.9,2,  34.5298,6,    63.47,2,    62.00,2,    37.76,2,     0.00,2,    2.700,2,    0.098,3,    0.042,3,   2280.7,2,   2327.4,2,   7.4687,2,    25.00,  -999.00,9,  -999.00,9,   6.3219,2,  27.1396,2,   6.3764,2
49UP20150724_1,   P04,    36,  1,     22,     111,2,20150813,0029,0221,  9.5003, 162.5123, 4999,    706.9,      702,   5.8953,  34.5299,2,     63.7,2,  34.5298,2,    63.47,2,    68.89,2,    38.50,2,     0.00,2,    2.760,2,    0.065,3,    0.026,3,   2289.4,2,   2334.0,2,   7.4621,2,    25.00,  -999.00,9,  -999.00,9,   5.8331,2,  27.2022,2,   5.8950,2
49UP20150724_1,   P04,    36,  1,     21,     078,2,20150813,0029,0218,  9.5003, 162.5123, 4999,    803.0,      797,   5.3582,  34.5342,2,     65.5,2,  34.5341,2,    65.67,2,    77.52,2,    39.13,2,     0.00,2,    2.800,2,    0.033,3,    0.012,3,   2300.0,6,   2342.8,6,   7.4639,2,    25.00,  -999.00,9,  -999.00,9,   5.2902,2,  27.2719,2,   5.3566,2
49UP20150724_1,   P04,    36,  1,     20,     093,2,20150813,0029,0215,  9.5003, 162.5123, 4999,    908.3,      901,   4.8533,  34.5448,2,     74.3,2,  34.5444,2,    72.91,3,    85.54,2,    38.97,2,     0.00,2,    2.790,2,    0.025,3,    0.009,3,   2302.9,2,   2353.0,2,   7.4726,6,    25.00,  -999.00,9,  -999.00,9,   4.7792,2,  27.3396,2,   4.8556,2
49UP20150724_1,   P04,    36,  1,     19,     092,2,20150813,0029,0212,  9.5003, 162.5123, 4999,   1012.2,     1004,   4.3230,  34.5563,2,     78.9,2,  34.5547,4,    79.06,2,    95.77,2,    39.19,2,     0.00,2,    2.800,2,    0.021,3,    0.008,3,   2313.3,2,   2364.3,2,   7.4782,2,    25.00,  -999.00,9,  -999.00,9,   4.2437,2,  27.4076,2,   4.3231,2
49UP20150724_1,   P04,    36,  1,     18,     101,2,20150813,0029,0208,  9.5003, 162.5123, 4999,   1211.2,     1201,   3.6863,  34.5739,2,     84.4,2,  34.5733,2,    84.76,2,   108.76,2,    39.38,2,     0.00,2,    2.810,2, -999.000,9, -999.000,9,   2326.4,2,   2378.0,2,   7.4827,2,    25.00,  -999.00,9,  -999.00,9,   3.5955,2,  27.4882,2,   3.6863,2
49UP20150724_1,   P04,    36,  1,     17,     090,2,20150813,0029,0201,  9.5003, 162.5123, 4999,   1413.3,     1401,   3.1200,  34.5933,2,     89.9,2,  34.5928,2,    90.12,2,   120.48,2,    39.43,2,     0.00,2,    2.800,2, -999.000,9, -999.000,9,   2332.7,2,   2390.6,2,   7.4892,2,    25.00,  -999.00,9,  -999.00,9,   3.0180,2,  27.5588,2,   3.1185,2
49UP20150724_1,   P04,    36,  1,     16,     089,2,20150813,0029,0156,  9.5003, 162.5123, 4999,   1616.4,     1601,   2.6808,  34.6097,2,     94.6,2,  34.6095,2,    94.77,2,   131.03,2,    39.46,2,     0.00,2,    2.800,2, -999.000,9, -999.000,9,   2346.6,2,   2400.5,2,   7.4967,2,    25.00,  -999.00,9,  -999.00,9,   2.5670,2,  27.6121,2,   2.6800,2
49UP20150724_1,   P04,    36,  1,     15,     088,2,20150813,0029,0151,  9.5003, 162.5123, 4999,   1819.8,     1802,   2.4130,  34.6237,2,    100.2,2,  34.6236,2,   100.43,6,   136.75,6,    39.22,6,     0.00,6,    2.770,6, -999.000,9, -999.000,9,   2347.7,2,   2406.1,2,   7.5022,2,    25.00,  -999.00,9,  -999.00,9,   2.2857,2,  27.6470,2,   2.4131,2
49UP20150724_1,   P04,    36,  1,     14,     999,2,20150813,0029,0144,  9.5003, 162.5123, 4999,   2022.2,     2001,   2.1948,  34.6356,2,    106.0,2,  34.6359,6,   106.30,2,   141.21,2,    38.92,2,     0.00,2,    2.740,2, -999.000,9, -999.000,9,   2350.4,6,   2413.2,6,   7.5114,2,    25.00,  -999.00,9,  -999.00,9,   2.0535,2,  27.6755,2,   2.1956,2
49UP20150724_1,   P04,    36,  1,     13,     667,2,20150813,0029,0139,  9.5003, 162.5123, 4999,   2223.8,     2200,   2.0331,  34.6469,2,    112.1,2,  34.6465,2,   112.02,2,   144.04,2,    38.66,2,     0.00,2,    2.710,2, -999.000,9, -999.000,9,   2350.9,2,   2416.1,2,   7.5194,6,    25.00,  -999.00,9,  -999.00,9,   1.8769,2,  27.6984,2,   2.0333,2
49UP20150724_1,   P04,    36,  1,     12,     074,2,20150813,0029,0135,  9.5003, 162.5123, 4999,   2427.9,     2400,   1.9120,  34.6544,2,    117.4,2,  34.6543,2,   117.70,2,   146.09,2,    38.23,2,     0.00,2,    2.680,2, -999.000,9, -999.000,9,   2345.9,2,   2418.8,2,   7.5306,2,    25.00,  -999.00,9,  -999.00,9,   1.7399,2,  27.7150,2,   1.9120,2
49UP20150724_1,   P04,    36,  1,     11,     268,2,20150813,0029,0127,  9.5003, 162.5123, 4999,   2633.7,     2603,   1.8236,  34.6601,2,    121.9,2,  34.6607,2,   121.79,2,   147.19,2,    37.92,2,     0.00,2,    2.660,2,    0.002,3,    0.000,3,   2345.3,2,   2417.6,2,   7.5363,2,    25.00,  -999.00,9,  -999.00,9,   1.6344,2,  27.7275,2,   1.8237,2
49UP20150724_1,   P04,    36,  1,     10,     267,2,20150813,0029,0123,  9.5003, 162.5123, 4999,   2834.8,     2800,   1.7352,  34.6657,2,    127.4,2,  34.6659,2,   127.74,2,   147.89,2,    37.62,2,     0.00,2,    2.630,2, -999.000,9, -999.000,9,   2342.8,2,   2420.5,2,   7.5466,2,    25.00,  -999.00,9,  -999.00,9,   1.5291,2,  27.7398,2,   1.7356,2
49UP20150724_1,   P04,    36,  1,      9,     518,2,20150813,0029,0118,  9.5003, 162.5123, 4999,   3037.4,     2999,   1.6540,  34.6705,2,    133.9,2,  34.6708,2,   133.83,2,   147.53,2,    37.21,2,     0.00,2,    2.590,2, -999.000,9, -999.000,9,   2337.6,2,   2417.8,2,   7.5530,2,    25.00,  -999.00,9,  -999.00,9,   1.4302,2,  27.7508,2,   1.6546,2
49UP20150724_1,   P04,    36,  1,      8,     081,2,20150813,0029,0111,  9.5003, 162.5123, 4999,   3293.7,     3250,   1.5762,  34.6762,2,    141.1,2,  34.6760,2,   141.16,2,   146.60,2,    36.71,2,     0.00,2,    2.550,2, -999.000,9, -999.000,9,   2333.1,6,   2417.3,6,   7.5630,2,    25.00,  -999.00,9,  -999.00,9,   1.3290,2,  27.7626,2,   1.5763,2
49UP20150724_1,   P04,    36,  1,      7,     516,2,20150813,0029,0106,  9.5003, 162.5123, 4999,   3550.7,     3501,   1.5354,  34.6803,2,    146.8,2,  34.6794,2,   146.41,6,   144.66,6,    36.31,6,     0.00,6,    2.520,6, -999.000,9, -999.000,9,   2329.4,2,   2416.4,2,   7.5701,6,    25.00,  -999.00,9,  -999.00,9,   1.2631,2,  27.7705,2,   1.5359,2
49UP20150724_1,   P04,    36,  1,      6,     113,2,20150813,0029,0059,  9.5003, 162.5123, 4999,   3806.9,     3752,   1.4950,  34.6846,2,    152.9,2,  34.6852,6,   153.45,2,   142.84,2,    35.89,2,     0.00,2,    2.480,2, -999.000,9, -999.000,9,   2327.4,2,   2411.9,2,   7.5841,2,    25.00,  -999.00,9,  -999.00,9,   1.1970,2,  27.7785,2,   1.4952,2
49UP20150724_1,   P04,    36,  1,      5,     094,2,20150813,0029,0053,  9.5003, 162.5123, 4999,   4061.7,     4001,   1.4618,  34.6883,2,    159.7,2,  34.6895,2,   159.03,2,   139.46,2,    35.44,2,     0.00,2,    2.450,2, -999.000,9, -999.000,9,   2318.8,2,   2408.3,2,   7.5862,2,    25.00,  -999.00,9,  -999.00,9,   1.1373,2,  27.7856,2,   1.4618,2
49UP20150724_1,   P04,    36,  1,      4,     471,2,20150813,0029,0048,  9.5003, 162.5123, 4999,   4317.5,     4250,   1.4210,  34.6932,2,    168.1,2,  34.6928,2,   168.77,2,   135.14,2,    34.74,2,     0.00,2,    2.400,2, -999.000,9, -999.000,9,   2309.5,2,   2403.8,2,   7.6017,2,    25.00,  -999.00,9,  -999.00,9,   1.0692,2,  27.7942,2,   1.4213,2
49UP20150724_1,   P04,    36,  1,      3,     104,2,20150813,0029,0042,  9.5003, 162.5123, 4999,   4573.3,     4499,   1.3849,  34.6976,2,    176.4,2,  34.6984,2,   176.46,2,   130.78,2,    34.23,2,     0.00,2,    2.360,2,    0.002,3,    0.000,3,   2301.8,2,   2398.4,2,   7.6037,2,    25.00,  -999.00,9,  -999.00,9,   1.0049,2,  27.8020,2,   1.3851,2
49UP20150724_1,   P04,    36,  1,      2,     075,2,20150813,0029,0036,  9.5003, 162.5123, 4999,   4830.1,     4749,   1.3818,  34.6992,2,    180.4,2,  34.6998,2,   180.60,2,   128.63,2,    33.89,2,     0.00,2,    2.340,2, -999.000,9, -999.000,9,   2295.2,2,   2396.0,2,   7.6113,2,    25.00,  -999.00,9,  -999.00,9,   0.9718,2,  27.8055,2,   1.3815,2
49UP20150724_1,   P04,    36,  1,      1,     997,2,20150813,0029,0029,  9.5003, 162.5123, 4999,   5103.7,     5015,   1.3939,  34.7007,2,    183.0,2,  34.7016,2,   183.04,2,   127.43,2,    33.70,2,     0.00,2,    2.330,2, -999.000,9, -999.000,9,   2291.8,2,   2392.9,2,   7.6068,2,    25.00,  -999.00,9,  -999.00,9,   0.9505,2,  27.8081,2,   1.3939,2