BOTTLE,20191113JMAGEMD
EXPOCODE,SECT_ID,STNNBR,CASTNO,SAMPNO,BTLNBR,BTLNBR_FLAG_U,DATE,TIME,BTL_TIME,LATITUDE,LONGITUDE,DEPTH,CTDPRS,CTDDEP,CTDTMP,CTDSAL,CTDSAL_FLAG_W,CTDOXY,CTDOXY_FLAG_W,SALNTY,SALNTY_FLAG_W,OXYGEN,OXYGEN_FLAG_W,SILCAT,SILCAT_FLAG_W,NO2+NO3,NO2+NO3_FLAG_W,NITRIT,NITRIT_FLAG_W,PHSPHT,PHSPHT_FLAG_W,CFC-11,CFC-11_FLAG_W,CFC-12,CFC-12_FLAG_W,TCARBN,TCARBN_FLAG_W,ALKALI,ALKALI_FLAG_W,PH_TS,PH_TS_FLAG_W,PH_TS_TMP,CHLORA,CHLORA_FLAG_W,PPHYTN,PPHYTN_FLAG_W,THETA,THETA_FLAG_W,SIGTHT,SIGTHT_FLAG_W,SBE35,SBE35_FLAG_W
,,,,,,,,UTC,,,,METER,DBAR,METERS,ITS-90,PSS-78,,UMOL/KG,,PSS78,,UMOL/KG,,UMOL/KG,,UMOL/KG,,UMOL/KG,,UMOL/KG,,PMOL/KG,,PMOL/KG,,UMOL/KG,,UMOL/KG,,,,ITS-90,UG/KG,,UG/KG,,ITS-90,,KG/M3,,ITS-90,
49UP20150724_2,   P04,     9,  1,      0,      -9,0,20150901,1127,1255,  9.2837, 142.8500, 3906,      0.0,        0,  28.9582,  33.7096,2,    196.8,2,-999.0000,9,   196.97,2,     1.09,2,     0.03,2,     0.00,2,    0.050,2, -999.000,9, -999.000,9,   -999.0,9,   -999.0,9,-999.0000,9,  -999.00,  -999.00,9,  -999.00,9,  28.9576,2,  21.1097,2,-999.0000,9
49UP20150724_2,   P04,     9,  1,     36,     109,2,20150901,1127,1321,  9.2837, 142.8500, 3906,     11.3,       11,  28.9619,  33.7077,2,    196.5,2,  33.7625,4,   197.07,2,     1.14,2,     0.02,2,     0.00,2,    0.060,2, -999.000,9, -999.000,9,   -999.0,9,   -999.0,9,-999.0000,9,  -999.00,  -999.00,9,  -999.00,9,  28.9592,2,  21.1077,2,  28.9586,2
49UP20150724_2,   P04,     9,  1,     35,     112,2,20150901,1127,1320,  9.2837, 142.8500, 3906,     26.1,       26,  25.2878,  34.7441,2,    204.4,2,  34.7448,2,   203.50,2,     1.50,2,     0.02,2,     0.00,2,    0.140,2, -999.000,9, -999.000,9,   -999.0,9,   -999.0,9,-999.0000,9,  -999.00,  -999.00,9,  -999.00,9,  25.2821,2,  23.0619,2,  25.2984,2
49UP20150724_2,   P04,     9,  1,     34,     094,2,20150901,1127,1316,  9.2837, 142.8500, 3906,     50.7,       50,  22.9000,  34.8845,2,    199.6,2,  34.8920,2,   200.69,2,     1.89,2,     0.04,2,     0.00,2,    0.200,2, -999.000,9, -999.000,9,   -999.0,9,   -999.0,9,-999.0000,9,  -999.00,  -999.00,9,  -999.00,9,  22.8897,2,  23.8777,2,  22.8897,2
49UP20150724_2,   P04,     9,  1,     32,     105,2,20150901,1127,1314,  9.2837, 142.8500, 3906,     75.3,       75,  19.4895,  34.8849,2,    180.9,2,  34.8661,2,   181.06,6,     4.10,6,     4.28,6,     0.11,6,    0.410,6, -999.000,9, -999.000,9,   -999.0,9,   -999.0,9,-999.0000,9,  -999.00,  -999.00,9,  -999.00,9,  19.4758,2,  24.8109,2,  19.4899,2
49UP20150724_2,   P04,     9,  1,     30,     097,2,20150901,1127,1313,  9.2837, 142.8500, 3906,    101.3,      101,  15.4097,  34.5795,2,    162.4,2,  34.5808,2,   162.76,2,     9.69,2,    10.84,2,     0.11,2,    0.800,2, -999.000,9, -999.000,9,   -999.0,9,   -999.0,9,-999.0000,9,  -999.00,  -999.00,9,  -999.00,9,  15.3941,2,  25.5607,2,  15.4098,2
49UP20150724_2,   P04,     9,  1,     31,     515,2,20150901,1127,1313,  9.2837, 142.8500, 3906,    101.6,      101,  15.4126,  34.5805,2,    162.6,2,  34.5817,2,   163.08,2,     9.65,2,    10.80,2,     0.11,2,    0.800,2, -999.000,9, -999.000,9,   -999.0,9,   -999.0,9,-999.0000,9,  -999.00,  -999.00,9,  -999.00,9,  15.3971,2,  25.5608,2,  15.4150,2
49UP20150724_2,   P04,     9,  1,     29,     102,2,20150901,1127,1311,  9.2837, 142.8500, 3906,    125.8,      125,  13.3195,  34.4356,2,    143.4,2,  34.4400,6,   142.29,2,    15.69,2,    16.09,2,     0.02,2,    1.190,2, -999.000,9, -999.000,9,   -999.0,9,   -999.0,9,-999.0000,9,  -999.00,  -999.00,9,  -999.00,9,  13.3020,2,  25.8948,2,  13.3230,2
49UP20150724_2,   P04,     9,  1,     28,     108,2,20150901,1127,1310,  9.2837, 142.8500, 3906,    151.4,      150,  11.2040,  34.4328,2,     92.7,2,  34.4342,2,    92.47,2,    26.58,2,    24.92,2,     0.00,2,    1.830,2, -999.000,9, -999.000,9,   -999.0,9,   -999.0,9,-999.0000,9,  -999.00,  -999.00,9,  -999.00,9,  11.1853,2,  26.3002,2,  11.2047,2
49UP20150724_2,   P04,     9,  1,     27,     998,2,20150901,1127,1309,  9.2837, 142.8500, 3906,    176.1,      175,  10.9076,  34.4406,2,     87.3,2,  34.4422,2,    86.07,2,    28.24,2,    26.14,2,     0.00,2,    1.910,2, -999.000,9, -999.000,9,   -999.0,9,   -999.0,9,-999.0000,9,  -999.00,  -999.00,9,  -999.00,9,  10.8861,2,  26.3604,2,  10.9079,2
49UP20150724_2,   P04,     9,  1,     26,     084,2,20150901,1127,1307,  9.2837, 142.8500, 3906,    201.4,      200,   9.8856,  34.4831,2,     78.6,2,  34.4853,2,    78.35,2,    34.41,2,    29.22,2,     0.00,2,    2.100,2, -999.000,9, -999.000,9,   -999.0,9,   -999.0,9,-999.0000,9,  -999.00,  -999.00,9,  -999.00,9,   9.8625,2,  26.5716,2,   9.8854,2
49UP20150724_2,   P04,     9,  1,     25,     098,2,20150901,1127,1305,  9.2837, 142.8500, 3906,    251.4,      250,   9.2720,  34.5342,2,     74.2,2,  34.5336,2,    74.46,2,    37.28,2,    31.18,2,     0.00,2,    2.220,2, -999.000,9, -999.000,9,   -999.0,9,   -999.0,9,-999.0000,9,  -999.00,  -999.00,9,  -999.00,9,   9.2443,2,  26.7140,2,   9.2761,2
49UP20150724_2,   P04,     9,  1,     24,     110,2,20150901,1127,1304,  9.2837, 142.8500, 3906,    282.2,      280,   8.8465,  34.5360,2,     75.3,2,  34.5384,2,    75.41,2,    39.53,2,    32.10,2,     0.00,2,    2.270,2, -999.000,9, -999.000,9,   -999.0,9,   -999.0,9,-999.0000,9,  -999.00,  -999.00,9,  -999.00,9,   8.8162,2,  26.7840,2,   8.8461,2
49UP20150724_2,   P04,     9,  1,     23,     096,2,20150901,1127,1301,  9.2837, 142.8500, 3906,    371.4,      369,   8.1884,  34.5405,2,     84.7,2,  34.5399,2,    84.95,2,    41.91,2,    32.50,2,     0.00,2,    2.290,2, -999.000,9, -999.000,9,   -999.0,9,   -999.0,9,-999.0000,9,  -999.00,  -999.00,9,  -999.00,9,   8.1501,2,  26.8904,2,   8.1884,2
49UP20150724_2,   P04,     9,  1,     22,     111,2,20150901,1127,1259,  9.2837, 142.8500, 3906,    473.2,      470,   7.4428,  34.5276,2,     89.1,2,  34.5275,2,    89.13,2,    47.11,2,    33.45,2,     0.00,2,    2.360,2, -999.000,9, -999.000,9,   -999.0,9,   -999.0,9,-999.0000,9,  -999.00,  -999.00,9,  -999.00,9,   7.3963,2,  26.9910,2,   7.4431,2
49UP20150724_2,   P04,     9,  1,     21,     078,2,20150901,1127,1256,  9.2837, 142.8500, 3906,    574.0,      570,   6.7598,  34.5232,2,     92.1,2,  34.5234,6,    92.27,2,    53.69,2,    34.49,2,     0.00,2,    2.440,2, -999.000,9, -999.000,9,   -999.0,9,   -999.0,9,-999.0000,9,  -999.00,  -999.00,9,  -999.00,9,   6.7061,2,  27.0833,2,   6.7611,2
49UP20150724_2,   P04,     9,  1,     20,     093,2,20150901,1127,1254,  9.2837, 142.8500, 3906,    674.1,      669,   6.0087,  34.5245,2,     89.6,2,  34.5243,2,    89.64,6,    64.32,6,    36.00,6,     0.00,6,    2.560,6, -999.000,9, -999.000,9,   -999.0,9,   -999.0,9,-999.0000,9,  -999.00,  -999.00,9,  -999.00,9,   5.9489,2,  27.1834,2,   6.0096,2
49UP20150724_2,   P04,     9,  1,     19,     092,2,20150901,1127,1250,  9.2837, 142.8500, 3906,    776.5,      771,   5.4773,  34.5316,2,     88.1,2,  34.5313,2,    88.32,2,    73.13,2,    36.96,2,     0.00,2,    2.630,2, -999.000,9, -999.000,9,   -999.0,9,   -999.0,9,-999.0000,9,  -999.00,  -999.00,9,  -999.00,9,   5.4110,2,  27.2554,2,   5.4786,2
49UP20150724_2,   P04,     9,  1,     18,     101,2,20150901,1127,1247,  9.2837, 142.8500, 3906,    876.8,      870,   5.1288,  34.5379,2,     86.9,2,  34.5376,2,    87.65,2,    79.66,2,    37.51,2,     0.00,2,    2.670,2, -999.000,9, -999.000,9,   -999.0,9,   -999.0,9,-999.0000,9,  -999.00,  -999.00,9,  -999.00,9,   5.0556,2,  27.3024,2,   5.1299,2
49UP20150724_2,   P04,     9,  1,     17,     090,2,20150901,1127,1244,  9.2837, 142.8500, 3906,    977.8,      970,   4.6834,  34.5466,2,     87.6,2,  34.5469,6,    87.66,2,    88.43,2,    37.97,2,     0.00,2,    2.710,2, -999.000,9, -999.000,9,   -999.0,9,   -999.0,9,-999.0000,9,  -999.00,  -999.00,9,  -999.00,9,   4.6044,2,  27.3606,2,   4.6833,2
49UP20150724_2,   P04,     9,  1,     15,     088,2,20150901,1127,1240,  9.2837, 142.8500, 3906,   1139.9,     1130,   4.0995,  34.5611,2,     89.8,2,  34.5612,2,    89.64,2,    99.93,2,    38.46,2,     0.00,2,    2.750,2, -999.000,9, -999.000,9,   -999.0,9,   -999.0,9,-999.0000,9,  -999.00,  -999.00,9,  -999.00,9,   4.0110,2,  27.4359,2,   4.0999,2
49UP20150724_2,   P04,     9,  1,     16,     089,2,20150901,1127,1240,  9.2837, 142.8500, 3906,   1140.4,     1131,   4.0904,  34.5614,2,     89.9,2,  34.5614,2,    89.81,2,    99.95,2,    38.44,2,     0.00,2,    2.740,2, -999.000,9, -999.000,9,   -999.0,9,   -999.0,9,-999.0000,9,  -999.00,  -999.00,9,  -999.00,9,   4.0021,2,  27.4371,2,   4.0910,2
49UP20150724_2,   P04,     9,  1,     14,     999,2,20150901,1127,1235,  9.2837, 142.8500, 3906,   1343.0,     1331,   3.4013,  34.5830,2,     95.0,2,  34.5832,6,    94.67,2,   113.72,2,    38.77,2,     0.00,2,    2.760,2, -999.000,9, -999.000,9,   -999.0,9,   -999.0,9,-999.0000,9,  -999.00,  -999.00,9,  -999.00,9,   3.3022,2,  27.5239,2,   3.4013,2
49UP20150724_2,   P04,     9,  1,     13,     667,2,20150901,1127,1228,  9.2837, 142.8500, 3906,   1545.5,     1531,   2.9860,  34.5966,2,     99.2,2,  34.5973,2,    99.17,2,   122.44,2,    38.76,2,     0.00,2,    2.750,2, -999.000,9, -999.000,9,   -999.0,9,   -999.0,9,-999.0000,9,  -999.00,  -999.00,9,  -999.00,9,   2.8745,2,  27.5745,2,   2.9857,2
49UP20150724_2,   P04,     9,  1,     12,     074,2,20150901,1127,1223,  9.2837, 142.8500, 3906,   1749.2,     1732,   2.5044,  34.6170,2,    106.1,2,  34.6167,2,   106.10,2,   133.17,2,    38.63,2,     0.00,2,    2.730,2, -999.000,9, -999.000,9,   -999.0,9,   -999.0,9,-999.0000,9,  -999.00,  -999.00,9,  -999.00,9,   2.3818,2,  27.6337,2,   2.5044,2
49UP20150724_2,   P04,     9,  1,     11,     268,2,20150901,1127,1218,  9.2837, 142.8500, 3906,   1951.5,     1931,   2.2767,  34.6291,2,    111.9,2,  34.6289,2,   111.74,2,   136.78,2,    38.41,2,     0.00,2,    2.710,2, -999.000,9, -999.000,9,   -999.0,9,   -999.0,9,-999.0000,9,  -999.00,  -999.00,9,  -999.00,9,   2.1403,2,  27.6633,2,   2.2777,2
49UP20150724_2,   P04,     9,  1,     10,     267,2,20150901,1127,1212,  9.2837, 142.8500, 3906,   2153.8,     2131,   2.0674,  34.6398,2,    117.5,2,  34.6401,2,   117.66,6,   140.34,6,    38.08,6,     0.00,6,    2.680,6, -999.000,9, -999.000,9,   -999.0,9,   -999.0,9,-999.0000,9,  -999.00,  -999.00,9,  -999.00,9,   1.9167,2,  27.6897,2,   2.0673,2
49UP20150724_2,   P04,     9,  1,      9,     518,2,20150901,1127,1208,  9.2837, 142.8500, 3906,   2355.7,     2329,   1.9037,  34.6489,2,    122.8,2,  34.6486,2,   122.72,2,   143.39,2,    37.84,2,     0.00,2,    2.660,2, -999.000,9, -999.000,9,   -999.0,9,   -999.0,9,-999.0000,9,  -999.00,  -999.00,9,  -999.00,9,   1.7381,2,  27.7107,2,   1.9037,2
49UP20150724_2,   P04,     9,  1,      8,     081,2,20150901,1127,1201,  9.2837, 142.8500, 3906,   2561.1,     2531,   1.7909,  34.6546,2,    126.5,2,  34.6540,2,   126.61,2,   145.60,2,    37.64,2,     0.00,2,    2.630,2, -999.000,9, -999.000,9,   -999.0,9,   -999.0,9,-999.0000,9,  -999.00,  -999.00,9,  -999.00,9,   1.6090,2,  27.7249,2,   1.7908,2
49UP20150724_2,   P04,     9,  1,      7,     516,2,20150901,1127,1157,  9.2837, 142.8500, 3906,   2764.1,     2731,   1.6883,  34.6625,2,    132.0,2,  34.6621,2,   132.27,2,   146.54,2,    37.30,2,     0.00,2,    2.610,2, -999.000,9, -999.000,9,   -999.0,9,   -999.0,9,-999.0000,9,  -999.00,  -999.00,9,  -999.00,9,   1.4898,2,  27.7401,2,   1.6884,2
49UP20150724_2,   P04,     9,  1,      6,     113,2,20150901,1127,1152,  9.2837, 142.8500, 3906,   2966.6,     2929,   1.6327,  34.6671,2,    136.2,2,  34.6670,2,   136.14,2,   146.46,2,    37.03,2,     0.00,2,    2.580,2, -999.000,9, -999.000,9,   -999.0,9,   -999.0,9,-999.0000,9,  -999.00,  -999.00,9,  -999.00,9,   1.4163,2,  27.7491,2,   1.6327,2
49UP20150724_2,   P04,     9,  1,      5,     658,2,20150901,1127,1145,  9.2837, 142.8500, 3906,   3212.6,     3170,   1.5476,  34.6742,2,    142.8,2,  34.6743,6,   142.81,2,   146.20,2,    36.62,2,     0.00,2,    2.560,2, -999.000,9, -999.000,9,   -999.0,9,   -999.0,9,-999.0000,9,  -999.00,  -999.00,9,  -999.00,9,   1.3092,2,  27.7624,2,   1.5476,2
49UP20150724_2,   P04,     9,  1,      3,     104,2,20150901,1127,1139,  9.2837, 142.8500, 3906,   3468.2,     3421,   1.5258,  34.6777,2,    147.1,2,  34.6774,2,   147.02,2,   144.95,2,    36.32,2,     0.00,2,    2.530,2, -999.000,9, -999.000,9,   -999.0,9,   -999.0,9,-999.0000,9,  -999.00,  -999.00,9,  -999.00,9,   1.2622,2,  27.7685,2,   1.5258,2
49UP20150724_2,   P04,     9,  1,      4,     471,2,20150901,1127,1140,  9.2837, 142.8500, 3906,   3468.3,     3421,   1.5261,  34.6776,2,    147.0,2,  34.6779,2,   147.12,2,   145.09,2,    36.33,2,     0.00,2,    2.540,2, -999.000,9, -999.000,9,   -999.0,9,   -999.0,9,-999.0000,9,  -999.00,  -999.00,9,  -999.00,9,   1.2626,2,  27.7684,2,   1.5260,2
49UP20150724_2,   P04,     9,  1,      2,     075,2,20150901,1127,1134,  9.2837, 142.8500, 3906,   3723.6,     3670,   1.5244,  34.6795,2,    149.4,2,  34.6793,2,   149.36,6,   144.19,6,    36.13,6,     0.00,6,    2.520,6, -999.000,9, -999.000,9,   -999.0,9,   -999.0,9,-999.0000,9,  -999.00,  -999.00,9,  -999.00,9,   1.2344,2,  27.7718,2,   1.5242,2
49UP20150724_2,   P04,     9,  1,      1,     997,2,20150901,1127,1128,  9.2837, 142.8500, 3906,   3971.2,     3912,   1.5480,  34.6796,2,    149.8,2,  34.6802,2,   149.76,2,   144.21,2,    36.16,2,     0.00,2,    2.520,2, -999.000,9, -999.000,9,   -999.0,9,   -999.0,9,-999.0000,9,  -999.00,  -999.00,9,  -999.00,9,   1.2309,2,  27.7722,2,   1.5476,2