BOTTLE,20191113JMAGEMD
EXPOCODE,SECT_ID,STNNBR,CASTNO,SAMPNO,BTLNBR,BTLNBR_FLAG_U,DATE,TIME,BTL_TIME,LATITUDE,LONGITUDE,DEPTH,CTDPRS,CTDDEP,CTDTMP,CTDSAL,CTDSAL_FLAG_W,CTDOXY,CTDOXY_FLAG_W,SALNTY,SALNTY_FLAG_W,OXYGEN,OXYGEN_FLAG_W,SILCAT,SILCAT_FLAG_W,NO2+NO3,NO2+NO3_FLAG_W,NITRIT,NITRIT_FLAG_W,PHSPHT,PHSPHT_FLAG_W,CFC-11,CFC-11_FLAG_W,CFC-12,CFC-12_FLAG_W,TCARBN,TCARBN_FLAG_W,ALKALI,ALKALI_FLAG_W,PH_TS,PH_TS_FLAG_W,PH_TS_TMP,CHLORA,CHLORA_FLAG_W,PPHYTN,PPHYTN_FLAG_W,THETA,THETA_FLAG_W,SIGTHT,SIGTHT_FLAG_W,SBE35,SBE35_FLAG_W
,,,,,,,,UTC,,,,METER,DBAR,METERS,ITS-90,PSS-78,,UMOL/KG,,PSS78,,UMOL/KG,,UMOL/KG,,UMOL/KG,,UMOL/KG,,UMOL/KG,,PMOL/KG,,PMOL/KG,,UMOL/KG,,UMOL/KG,,,,ITS-90,UG/KG,,UG/KG,,ITS-90,,KG/M3,,ITS-90,
49UP20150724_1,   P04,    38,  1,      0,      -9,0,20150812,0548,0745, 10.0177, 164.0178, 4964,      0.0,        0,  29.5149,  34.0251,2,    195.1,2,  34.0088,2,   195.12,2,     1.10,2,     0.04,2,     0.00,2,    0.080,2, -999.000,9, -999.000,9,   1910.3,2,   2233.0,2,   8.1089,2,    25.00,     0.06,2,     0.03,2,  29.5142,2,  21.1600,2,-999.0000,9
49UP20150724_1,   P04,    38,  1,     36,     109,2,20150812,0548,0818, 10.0177, 164.0178, 4964,     10.5,       10,  29.5183,  34.0250,2,    195.0,2,  34.0123,4,   194.29,2,     1.11,2,     0.08,2,     0.00,2,    0.080,2,    1.442,2,    0.897,2,   1911.7,2,   2235.1,2,   8.1134,2,    25.00,     0.05,2,     0.02,2,  29.5157,2,  21.1595,2,  29.5146,2
49UP20150724_1,   P04,    38,  1,     35,     112,2,20150812,0548,0817, 10.0177, 164.0178, 4964,     25.1,       25,  29.4378,  34.0536,2,    195.3,2,  34.0498,2,   195.07,2,     1.11,2,     0.05,2,     0.00,2,    0.080,2, -999.000,9, -999.000,9,   1911.1,2,   2235.8,2,   8.1097,2,    25.00,     0.06,2,     0.02,2,  29.4317,2,  21.2092,2,  29.4374,2
49UP20150724_1,   P04,    38,  1,     34,     083,2,20150812,0548,0816, 10.0177, 164.0178, 4964,     50.9,       51,  27.9856,  34.4891,2,    206.7,2,  34.5076,4,   206.74,2,     1.18,2,     0.04,2,     0.00,2,    0.100,2,    1.672,2,    0.946,2,   1947.0,2,   2268.0,2,   8.1031,2,    25.00,     0.08,2,     0.03,2,  27.9736,2,  22.0191,2,  27.9894,2
49UP20150724_1,   P04,    38,  1,     33,     469,2,20150812,0548,0815, 10.0177, 164.0178, 4964,     75.6,       75,  25.0251,  35.0148,2,    208.2,2,  35.0175,2,   208.85,2,     1.47,2,     0.03,2,     0.00,2,    0.140,2, -999.000,9, -999.000,9,   2004.2,2,   2305.8,2,   8.0591,2,    25.00,     0.18,2,     0.11,2,  25.0087,2,  23.3498,2,  25.0036,2
49UP20150724_1,   P04,    38,  1,     32,     105,3,20150812,0548,0813, 10.0177, 164.0178, 4964,    101.9,      101,  19.8749,  34.9781,2,    181.9,2,  34.9735,2,   179.24,2,     3.63,2,     3.14,2,     0.15,2,    0.390,2,    2.131,6,    1.311,6,   2074.5,2,   2302.5,2,   7.9227,2,    25.00,     0.20,2,     0.35,2,  19.8562,2,  24.7829,2,  20.0321,2
49UP20150724_1,   P04,    38,  1,     31,     515,2,20150812,0548,0812, 10.0177, 164.0178, 4964,    126.4,      126,  16.9031,  34.6748,2,    147.7,2,  34.6641,2,   148.60,2,     8.82,2,    10.53,2,     0.08,2,    0.860,2, -999.000,9, -999.000,9,   2106.9,2,   2284.1,2,   7.8155,2,    25.00,     0.12,2,     0.26,2,  16.8824,2,  25.2925,2,  16.9561,2
49UP20150724_1,   P04,    38,  1,     30,     097,2,20150812,0548,0808, 10.0177, 164.0178, 4964,    150.7,      150,  14.1696,  34.4698,2,    137.2,2,  34.4699,2,   137.95,2,    13.38,2,    14.83,2,     0.02,2,    1.150,2,    2.350,2,    1.381,2,   2126.8,2,   2274.6,2,   7.7426,2,    25.00,     0.06,2,     0.19,2,  14.1478,2,  25.7463,2,  14.1673,2
49UP20150724_1,   P04,    38,  1,     29,     102,2,20150812,0548,0807, 10.0177, 164.0178, 4964,    176.4,      175,  12.4583,  34.3816,2,    120.5,2,  34.3845,2,   118.86,2,    19.27,2,    19.52,2,     0.00,2,    1.500,2, -999.000,9, -999.000,9,   2156.0,2,   2272.7,2,   7.6646,2,    25.00,     0.04,2,     0.09,2,  12.4349,2,  26.0252,2,  12.4742,2
49UP20150724_1,   P04,    38,  1,     28,     108,2,20150812,0548,0806, 10.0177, 164.0178, 4964,    202.5,      201,  11.2085,  34.4342,2,     82.2,2,  34.4407,2,    79.60,2,    26.70,6,    26.00,6,     0.00,6,    1.950,6,    1.619,2,    0.879,2,   2197.7,2,   2280.8,2,   7.5664,2,    25.00,     0.01,2,     0.04,2,  11.1834,2,  26.3017,2,  11.2151,2
49UP20150724_1,   P04,    38,  1,     27,     998,2,20150812,0548,0804, 10.0177, 164.0178, 4964,    251.6,      250,  10.0062,  34.5428,2,     48.2,2,  34.5428,2,    48.33,2,    33.52,2,    31.73,2,     0.00,2,    2.320,2,    0.876,2,    0.461,2,   2237.5,2,   2293.0,2,   7.4932,2,    25.00,  -999.00,9,  -999.00,9,   9.9771,2,  26.5988,2,  10.0057,2
49UP20150724_1,   P04,    38,  1,     26,     084,2,20150812,0548,0803, 10.0177, 164.0178, 4964,    302.5,      301,   9.4104,  34.5712,2,     45.4,2,  34.5710,6,    45.56,2,    36.50,2,    33.37,2,     0.00,2,    2.400,2,    0.596,2,    0.314,2,   2254.3,2,   2299.2,2,   7.4870,2,    25.00,  -999.00,9,  -999.00,9,   9.3766,2,  26.7213,2,   9.4104,2
49UP20150724_1,   P04,    38,  1,     25,     098,2,20150812,0548,0800, 10.0177, 164.0178, 4964,    401.6,      399,   8.3204,  34.5693,2,     54.3,2,  34.5687,2,    54.84,2,    42.67,2,    34.94,2,     0.00,2,    2.490,2,    0.323,2,    0.184,2,   2253.6,2,   2304.5,2,   7.4823,2,    25.00,  -999.00,9,  -999.00,9,   8.2785,2,  26.8936,2,   8.3194,2
49UP20150724_1,   P04,    38,  1,     24,     110,2,20150812,0548,0758, 10.0177, 164.0178, 4964,    501.5,      498,   7.2092,  34.5407,2,     59.6,2,  34.5403,2,    59.83,2,    52.41,2,    36.45,2,     0.00,2,    2.610,2,    0.185,2,    0.104,2,   2266.6,2,   2315.7,2,   7.4738,2,    25.00,  -999.00,9,  -999.00,9,   7.1608,2,  27.0346,2,   7.2086,2
49UP20150724_1,   P04,    38,  1,     23,     096,3,20150812,0548,0755, 10.0177, 164.0178, 4964,    603.7,      599,   6.6438,  34.5316,2,     60.1,2,  34.5314,6,    60.41,6,    59.06,6,    37.48,6,     0.00,6,    2.690,6,    0.109,2,    0.072,2,   2279.0,2,   2322.3,2,   7.4651,2,    25.00,  -999.00,9,  -999.00,9,   6.5876,2,  27.1059,2,   6.6443,2
49UP20150724_1,   P04,    38,  1,     22,     111,2,20150812,0548,0752, 10.0177, 164.0178, 4964,    707.4,      702,   5.9628,  34.5263,2,     60.2,2,  34.5255,2,    60.36,2,    68.75,2,    38.62,2,     0.00,2,    2.780,2,    0.066,2,    0.033,2,   2295.7,2,   2330.6,2,   7.4571,2,    25.00,  -999.00,9,  -999.00,9,   5.9002,2,  27.1910,2,   5.9623,2
49UP20150724_1,   P04,    38,  1,     21,     078,2,20150812,0548,0745, 10.0177, 164.0178, 4964,    808.5,      802,   5.4197,  34.5331,2,     62.9,2,  34.5333,2,    62.96,2,    76.82,2,    39.31,2,     0.00,2,    2.820,2,    0.029,2,    0.017,2,   2303.4,2,   2340.6,2,   7.4577,2,    25.00,  -999.00,9,  -999.00,9,   5.3509,2,  27.2638,2,   5.4199,2
49UP20150724_1,   P04,    38,  1,     20,     093,2,20150812,0548,0743, 10.0177, 164.0178, 4964,    908.8,      902,   5.0280,  34.5396,2,     66.5,2,  34.5390,2,    66.25,2,    83.86,2,    39.61,2,     0.00,2,    2.840,2,    0.018,2,    0.009,2,   2305.0,6,   2349.0,6,   7.4596,2,    25.00,  -999.00,9,  -999.00,9,   4.9526,2,  27.3157,2,   5.0285,2
49UP20150724_1,   P04,    38,  1,     19,     092,2,20150812,0548,0739, 10.0177, 164.0178, 4964,   1009.4,     1001,   4.6015,  34.5486,2,     70.5,2,  34.5486,2,    71.13,2,    91.37,2,    39.68,2,     0.00,2,    2.840,2,    0.009,2,    0.007,2,   2318.7,2,   2358.3,2,   7.4627,6,    25.00,  -999.00,9,  -999.00,9,   4.5204,2,  27.3715,2,   4.6011,2
49UP20150724_1,   P04,    38,  1,     18,     101,2,20150812,0548,0735, 10.0177, 164.0178, 4964,   1210.2,     1200,   3.8660,  34.5675,2,     79.9,2,  34.5671,2,    80.11,2,   106.16,2,    39.60,2,     0.00,2,    2.830,2,    0.004,2,    0.001,2,   2321.5,2,   2373.5,2,   7.4738,2,    25.00,  -999.00,9,  -999.00,9,   3.7736,2,  27.4653,2,   3.8659,2
49UP20150724_1,   P04,    38,  1,     17,     090,2,20150812,0548,0724, 10.0177, 164.0178, 4964,   1414.8,     1402,   3.1272,  34.5899,2,     85.1,2,  34.5899,6,    85.03,6,   122.51,6,    39.87,6,     0.00,6,    2.840,6,    0.000,2,    0.000,2,   2335.6,2,   2389.0,2,   7.4778,2,    25.00,  -999.00,9,  -999.00,9,   3.0250,2,  27.5554,2,   3.1266,2
49UP20150724_1,   P04,    38,  1,     16,     089,2,20150812,0548,0718, 10.0177, 164.0178, 4964,   1617.2,     1602,   2.6937,  34.6085,2,     93.7,2,  34.6081,2,    93.54,2,   131.27,2,    39.44,2,     0.00,2,    2.800,2,    0.238,4,    0.573,4,   2350.4,2,   2400.4,2,   7.4897,2,    25.00,  -999.00,9,  -999.00,9,   2.5797,2,  27.6100,2,   2.6938,2
49UP20150724_1,   P04,    38,  1,     15,     088,2,20150812,0548,0713, 10.0177, 164.0178, 4964,   1821.6,     1803,   2.4031,  34.6239,2,    100.1,2,  34.6248,2,   100.05,2,   137.36,2,    39.26,2,     0.00,2,    2.770,2,    0.000,2,    0.000,2,   2343.3,2,   2405.9,2,   7.5002,2,    25.00,  -999.00,9,  -999.00,9,   2.2758,2,  27.6480,2,   2.4036,2
49UP20150724_1,   P04,    38,  1,     14,     999,2,20150812,0548,0706, 10.0177, 164.0178, 4964,   2023.5,     2002,   2.1955,  34.6357,2,    105.7,2,  34.6359,2,   105.93,2,   141.77,2,    38.99,2,     0.00,2,    2.740,2,    0.000,2,    0.000,2,   2351.1,2,   2411.5,2,   7.5085,2,    25.00,  -999.00,9,  -999.00,9,   2.0541,2,  27.6755,2,   2.1954,2
49UP20150724_1,   P04,    38,  1,     13,     667,2,20150812,0548,0701, 10.0177, 164.0178, 4964,   2226.6,     2202,   2.0650,  34.6434,2,    110.8,2,  34.6434,2,   110.77,2,   144.34,2,    38.65,2,     0.00,2,    2.720,2,    0.000,2,    0.000,2,   2344.0,6,   2414.0,6,   7.5182,2,    25.00,  -999.00,9,  -999.00,9,   1.9081,2,  27.6932,2,   2.0649,2
49UP20150724_1,   P04,    38,  1,     12,     074,2,20150812,0548,0656, 10.0177, 164.0178, 4964,   2429.1,     2401,   1.9416,  34.6524,2,    115.8,2,  34.6526,2,   115.75,2,   146.27,2,    38.36,2,     0.00,2,    2.690,2, -999.000,9, -999.000,9,   2346.8,2,   2414.5,2,   7.5263,6,    25.00,  -999.00,9,  -999.00,9,   1.7688,2,  27.7112,2,   1.9416,2
49UP20150724_1,   P04,    38,  1,     11,     268,2,20150812,0548,0649, 10.0177, 164.0178, 4964,   2632.4,     2601,   1.8424,  34.6586,2,    120.5,2,  34.6587,2,   120.52,2,   147.82,2,    38.04,2,     0.00,2,    2.670,2, -999.000,9, -999.000,9,   2346.4,2,   2419.0,2,   7.5349,2,    25.00,  -999.00,9,  -999.00,9,   1.6530,2,  27.7249,2,   1.8424,2
49UP20150724_1,   P04,    38,  1,     10,     267,2,20150812,0548,0644, 10.0177, 164.0178, 4964,   2834.1,     2799,   1.7802,  34.6631,2,    124.6,2,  34.6631,2,   123.90,2,   148.46,2,    37.80,2,     0.00,2,    2.640,2, -999.000,9, -999.000,9,   2345.2,2,   2417.9,2,   7.5401,2,    25.00,  -999.00,9,  -999.00,9,   1.5732,2,  27.7344,2,   1.7804,2
49UP20150724_1,   P04,    38,  1,      9,     518,2,20150812,0548,0637, 10.0177, 164.0178, 4964,   3040.1,     3001,   1.6821,  34.6690,2,    131.1,2,  34.6687,2,   131.14,2,   148.84,2,    37.38,2,     0.00,2,    2.610,2,    0.003,2,    0.000,2,   2344.4,2,   2418.9,2,   7.5505,2,    25.00,  -999.00,9,  -999.00,9,   1.4575,2,  27.7477,2,   1.6823,2
49UP20150724_1,   P04,    38,  1,      8,     081,2,20150812,0548,0631, 10.0177, 164.0178, 4964,   3295.3,     3251,   1.5690,  34.6770,2,    140.5,2,  34.6766,6,   140.40,6,   147.79,6,    36.73,6,     0.00,6,    2.560,6, -999.000,9, -999.000,9,   2334.0,2,   2417.3,2,   7.5630,2,    25.00,  -999.00,9,  -999.00,9,   1.3218,2,  27.7637,2,   1.5691,2
49UP20150724_1,   P04,    38,  1,      7,     516,2,20150812,0548,0625, 10.0177, 164.0178, 4964,   3551.0,     3502,   1.5103,  34.6815,2,    147.5,2,  34.6815,2,   147.66,2,   145.99,2,    36.27,2,     0.00,2,    2.520,2,    0.002,2,    0.000,2,   2330.8,6,   2414.3,6,   7.5727,2,    25.00,  -999.00,9,  -999.00,9,   1.2387,2,  27.7732,2,   1.5107,2
49UP20150724_1,   P04,    38,  1,      6,     113,2,20150812,0548,0618, 10.0177, 164.0178, 4964,   3805.8,     3751,   1.4642,  34.6862,2,    155.0,2,  34.6862,2,   155.18,2,   142.83,2,    35.73,2,     0.00,2,    2.480,2, -999.000,9, -999.000,9,   2319.5,2,   2410.9,2,   7.5825,6,    25.00,  -999.00,9,  -999.00,9,   1.1672,2,  27.7819,2,   1.4644,2
49UP20150724_1,   P04,    38,  1,      5,     094,3,20150812,0548,0612, 10.0177, 164.0178, 4964,   4061.7,     4000,   1.4273,  34.6906,2,    163.3,2,  34.6906,2,   163.56,2,   138.45,2,    35.19,2,     0.00,2,    2.430,2, -999.000,9, -999.000,9,   2315.8,2,   2405.5,2,   7.5920,2,    25.00,  -999.00,9,  -999.00,9,   1.1037,2,  27.7898,2,   1.4274,2
49UP20150724_1,   P04,    38,  1,      4,     471,2,20150812,0548,0605, 10.0177, 164.0178, 4964,   4318.2,     4251,   1.4062,  34.6942,2,    170.0,2,  34.6942,2,   170.29,2,   134.45,2,    34.62,2,     0.00,2,    2.400,2, -999.000,9, -999.000,9,   2305.0,2,   2400.4,2,   7.5977,2,    25.00,  -999.00,9,  -999.00,9,   1.0547,2,  27.7960,2,   1.4063,2
49UP20150724_1,   P04,    38,  1,      3,     104,2,20150812,0548,0600, 10.0177, 164.0178, 4964,   4575.8,     4502,   1.3938,  34.6970,2,    175.4,2,  34.6972,2,   174.47,3,   131.73,2,    34.27,2,     0.00,2,    2.370,2,    0.000,2,    0.000,2,   2298.5,2,   2396.1,2,   7.6072,2,    25.00,  -999.00,9,  -999.00,9,   1.0133,2,  27.8009,2,   1.3941,2
49UP20150724_1,   P04,    38,  1,      2,     075,2,20150812,0548,0554, 10.0177, 164.0178, 4964,   4829.8,     4749,   1.3739,  34.6999,2,    181.3,2,  34.7006,2,   181.69,2,   128.24,2,    33.76,2,     0.00,2,    2.330,2, -999.000,9, -999.000,9,   2291.4,2,   2393.8,2,   7.6095,2,    25.00,  -999.00,9,  -999.00,9,   0.9643,2,  27.8066,2,   1.3739,2
49UP20150724_1,   P04,    38,  1,      1,     997,2,20150812,0548,0548, 10.0177, 164.0178, 4964,   5054.0,     4967,   1.3863,  34.7008,2,    183.3,2,  34.7008,2,   183.49,2,   127.55,2,    33.71,2,     0.00,2,    2.330,2,    0.003,6,    0.001,6,   2296.5,2,   2389.5,2,   7.6080,2,    25.00,  -999.00,9,  -999.00,9,   0.9493,2,  27.8083,2,   1.3864,2