BOTTLE,20191113JMAGEMD
EXPOCODE,SECT_ID,STNNBR,CASTNO,SAMPNO,BTLNBR,BTLNBR_FLAG_U,DATE,TIME,BTL_TIME,LATITUDE,LONGITUDE,DEPTH,CTDPRS,CTDDEP,CTDTMP,CTDSAL,CTDSAL_FLAG_W,CTDOXY,CTDOXY_FLAG_W,SALNTY,SALNTY_FLAG_W,OXYGEN,OXYGEN_FLAG_W,SILCAT,SILCAT_FLAG_W,NO2+NO3,NO2+NO3_FLAG_W,NITRIT,NITRIT_FLAG_W,PHSPHT,PHSPHT_FLAG_W,CFC-11,CFC-11_FLAG_W,CFC-12,CFC-12_FLAG_W,TCARBN,TCARBN_FLAG_W,ALKALI,ALKALI_FLAG_W,PH_TS,PH_TS_FLAG_W,PH_TS_TMP,CHLORA,CHLORA_FLAG_W,PPHYTN,PPHYTN_FLAG_W,THETA,THETA_FLAG_W,SIGTHT,SIGTHT_FLAG_W,SBE35,SBE35_FLAG_W
,,,,,,,,UTC,,,,METER,DBAR,METERS,ITS-90,PSS-78,,UMOL/KG,,PSS78,,UMOL/KG,,UMOL/KG,,UMOL/KG,,UMOL/KG,,UMOL/KG,,PMOL/KG,,PMOL/KG,,UMOL/KG,,UMOL/KG,,,,ITS-90,UG/KG,,UG/KG,,ITS-90,,KG/M3,,ITS-90,
49UP20150724_2,   P04,    24,  1,      0,      -9,0,20150827,1002,1140,  9.4932, 153.3358, 5365,      0.0,        0,  28.9587,  33.9064,2,    197.2,2,-999.0000,9,   196.47,2,     0.92,2,     0.00,2,     0.00,2,    0.090,2, -999.000,9, -999.000,9,   -999.0,9,   -999.0,9,-999.0000,9,  -999.00,  -999.00,9,  -999.00,9,  28.9582,2,  21.2571,2,-999.0000,9
49UP20150724_2,   P04,    24,  1,     36,     109,2,20150827,1002,1222,  9.4932, 153.3358, 5365,     10.7,       11,  28.9561,  33.9063,2,    197.1,2,  33.9045,2,   196.70,2,     0.92,2,     0.00,2,     0.00,2,    0.070,2, -999.000,9, -999.000,9,   -999.0,9,   -999.0,9,-999.0000,9,  -999.00,  -999.00,9,  -999.00,9,  28.9535,2,  21.2586,2,  28.9543,2
49UP20150724_2,   P04,    24,  1,     35,     112,2,20150827,1002,1220,  9.4932, 153.3358, 5365,     26.5,       26,  28.9671,  33.9059,2,    196.9,2,  33.9064,2,   196.66,2,     0.88,2,     0.00,2,     0.00,2,    0.070,2, -999.000,9, -999.000,9,   -999.0,9,   -999.0,9,-999.0000,9,  -999.00,  -999.00,9,  -999.00,9,  28.9607,2,  21.2560,2,  28.9651,2
49UP20150724_2,   P04,    24,  1,     34,     094,2,20150827,1002,1219,  9.4932, 153.3358, 5365,     51.3,       51,  28.6738,  34.0756,2,    199.2,2,  34.0819,2,   199.29,6,     0.96,6,     0.00,6,     0.00,6,    0.090,6, -999.000,9, -999.000,9,   -999.0,9,   -999.0,9,-999.0000,9,  -999.00,  -999.00,9,  -999.00,9,  28.6616,2,  21.4825,2,  28.6680,2
49UP20150724_2,   P04,    24,  1,     33,     469,2,20150827,1002,1218,  9.4932, 153.3358, 5365,     76.5,       76,  24.9403,  34.8382,2,    190.3,2,  34.8566,4,   188.98,2,     2.49,2,     0.24,2,     0.01,2,    0.220,2, -999.000,9, -999.000,9,   -999.0,9,   -999.0,9,-999.0000,9,  -999.00,  -999.00,9,  -999.00,9,  24.9238,2,  23.2421,2,  24.9354,2
49UP20150724_2,   P04,    24,  1,     32,     105,2,20150827,1002,1215,  9.4932, 153.3358, 5365,    101.0,      100,  19.6714,  34.8308,2,    157.3,2,  34.8312,2,   158.91,2,     5.78,2,     6.33,2,     0.43,2,    0.620,2, -999.000,9, -999.000,9,   -999.0,9,   -999.0,9,-999.0000,9,  -999.00,  -999.00,9,  -999.00,9,  19.6530,2,  24.7236,2,  19.6639,2
49UP20150724_2,   P04,    24,  1,     31,     515,2,20150827,1002,1214,  9.4932, 153.3358, 5365,    125.1,      124,  17.4151,  34.7173,2,    153.6,2,  34.7182,2,   154.82,2,     7.34,2,     9.03,2,     0.11,2,    0.760,2, -999.000,9, -999.000,9,   -999.0,9,   -999.0,9,-999.0000,9,  -999.00,  -999.00,9,  -999.00,9,  17.3942,2,  25.2030,2,  17.4132,2
49UP20150724_2,   P04,    24,  1,     30,     097,2,20150827,1002,1212,  9.4932, 153.3358, 5365,    151.0,      150,  14.7905,  34.5086,2,    146.1,2,  34.5040,2,   143.59,2,    12.03,2,    13.58,2,     0.02,2,    1.060,2, -999.000,9, -999.000,9,   -999.0,9,   -999.0,9,-999.0000,9,  -999.00,  -999.00,9,  -999.00,9,  14.7680,2,  25.6436,2,  14.8091,2
49UP20150724_2,   P04,    24,  1,     29,     102,2,20150827,1002,1211,  9.4932, 153.3358, 5365,    202.2,      201,  10.8153,  34.4845,2,     70.7,2,  34.4876,6,    69.91,2,    29.24,2,    28.04,2,     0.00,2,    2.060,2, -999.000,9, -999.000,9,   -999.0,9,   -999.0,9,-999.0000,9,  -999.00,  -999.00,9,  -999.00,9,  10.7908,2,  26.4116,2,  10.8157,2
49UP20150724_2,   P04,    24,  1,     28,     108,2,20150827,1002,1209,  9.4932, 153.3358, 5365,    252.4,      251,   9.6601,  34.5309,2,     57.1,2,  34.5466,2,    56.02,2,    35.42,2,    31.83,2,     0.00,2,    2.300,2, -999.000,9, -999.000,9,   -999.0,9,   -999.0,9,-999.0000,9,  -999.00,  -999.00,9,  -999.00,9,   9.6315,2,  26.6477,2,   9.6595,2
49UP20150724_2,   P04,    24,  1,     27,     998,2,20150827,1002,1207,  9.4932, 153.3358, 5365,    283.1,      281,   9.1040,  34.5337,2,     56.0,2,  34.5347,2,    56.30,2,    38.43,2,    32.93,2,     0.00,2,    2.370,2, -999.000,9, -999.000,9,   -999.0,9,   -999.0,9,-999.0000,9,  -999.00,  -999.00,9,  -999.00,9,   9.0730,2,  26.7413,2,   9.1055,2
49UP20150724_2,   P04,    24,  1,     26,     084,2,20150827,1002,1205,  9.4932, 153.3358, 5365,    373.3,      371,   8.1810,  34.5576,2,     74.0,2,  34.5570,2,    73.49,2,    42.30,2,    33.55,2,     0.00,2,    2.380,2, -999.000,9, -999.000,9,   -999.0,9,   -999.0,9,-999.0000,9,  -999.00,  -999.00,9,  -999.00,9,   8.1425,2,  26.9050,2,   8.1814,2
49UP20150724_2,   P04,    24,  1,     25,     098,2,20150827,1002,1202,  9.4932, 153.3358, 5365,    473.2,      470,   7.3333,  34.5349,2,     76.4,2,  34.5340,2,    76.38,2,    49.67,2,    34.78,2,     0.00,2,    2.480,2, -999.000,9, -999.000,9,   -999.0,9,   -999.0,9,-999.0000,9,  -999.00,  -999.00,9,  -999.00,9,   7.2872,2,  27.0122,2,   7.3335,2
49UP20150724_2,   P04,    24,  1,     24,     110,2,20150827,1002,1200,  9.4932, 153.3358, 5365,    574.8,      571,   6.6095,  34.5285,2,     78.3,2,  34.5280,2,    77.00,6,    57.86,6,    36.09,6,     0.00,6,    2.580,6, -999.000,9, -999.000,9,   -999.0,9,   -999.0,9,-999.0000,9,  -999.00,  -999.00,9,  -999.00,9,   6.5563,2,  27.1076,2,   6.6106,2
49UP20150724_2,   P04,    24,  1,     23,     096,2,20150827,1002,1157,  9.4932, 153.3358, 5365,    675.8,      671,   6.0040,  34.5314,2,     70.0,2,  34.5308,6,    69.96,2,    66.78,2,    37.79,2,     0.00,2,    2.710,2, -999.000,9, -999.000,9,   -999.0,9,   -999.0,9,-999.0000,9,  -999.00,  -999.00,9,  -999.00,9,   5.9441,2,  27.1895,2,   6.0039,2
49UP20150724_2,   P04,    24,  1,     22,     111,2,20150827,1002,1154,  9.4932, 153.3358, 5365,    775.5,      770,   5.5462,  34.5323,2,     70.7,2,  34.5322,2,    70.66,2,    74.28,2,    38.46,2,     0.00,2,    2.760,2, -999.000,9, -999.000,9,   -999.0,9,   -999.0,9,-999.0000,9,  -999.00,  -999.00,9,  -999.00,9,   5.4796,2,  27.2477,2,   5.5438,2
49UP20150724_2,   P04,    24,  1,     21,     078,2,20150827,1002,1150,  9.4932, 153.3358, 5365,    878.0,      871,   5.0029,  34.5423,2,     76.3,2,  34.5424,2,    76.10,2,    83.06,2,    38.71,2,     0.00,2,    2.770,2, -999.000,9, -999.000,9,   -999.0,9,   -999.0,9,-999.0000,9,  -999.00,  -999.00,9,  -999.00,9,   4.9304,2,  27.3204,2,   5.0025,2
49UP20150724_2,   P04,    24,  1,     20,     093,2,20150827,1002,1148,  9.4932, 153.3358, 5365,    977.7,      970,   4.5804,  34.5491,2,     80.6,2,  34.5493,2,    80.41,2,    91.50,2,    38.84,2,     0.00,2,    2.780,2, -999.000,9, -999.000,9,   -999.0,9,   -999.0,9,-999.0000,9,  -999.00,  -999.00,9,  -999.00,9,   4.5021,2,  27.3739,2,   4.5806,2
49UP20150724_2,   P04,    24,  1,     19,     092,2,20150827,1002,1144,  9.4932, 153.3358, 5365,   1139.4,     1130,   3.9324,  34.5648,2,     79.4,2,  34.5646,2,    79.40,2,   104.90,2,    39.70,2,     0.00,2,    2.840,2, -999.000,9, -999.000,9,   -999.0,9,   -999.0,9,-999.0000,9,  -999.00,  -999.00,9,  -999.00,9,   3.8455,2,  27.4558,2,   3.9327,2
49UP20150724_2,   P04,    24,  1,     18,     101,2,20150827,1002,1139,  9.4932, 153.3358, 5365,   1343.0,     1331,   3.2219,  34.5870,2,     89.2,2,  34.5870,2,    88.96,2,   119.26,2,    39.43,2,     0.00,2,    2.810,2, -999.000,9, -999.000,9,   -999.0,9,   -999.0,9,-999.0000,9,  -999.00,  -999.00,9,  -999.00,9,   3.1247,2,  27.5439,2,   3.2221,2
49UP20150724_2,   P04,    24,  1,     17,     090,2,20150827,1002,1134,  9.4932, 153.3358, 5365,   1544.9,     1531,   2.7757,  34.6061,2,     97.3,2,  34.6060,2,    97.08,2,   128.05,2,    39.14,2,     0.00,2,    2.780,2, -999.000,9, -999.000,9,   -999.0,9,   -999.0,9,-999.0000,9,  -999.00,  -999.00,9,  -999.00,9,   2.6667,2,  27.6005,2,   2.7759,2
49UP20150724_2,   P04,    24,  1,     16,     089,2,20150827,1002,1129,  9.4932, 153.3358, 5365,   1747.3,     1730,   2.5136,  34.6181,2,    101.3,2,  34.6181,2,   101.13,2,   133.85,2,    39.04,2,     0.00,2,    2.760,2, -999.000,9, -999.000,9,   -999.0,9,   -999.0,9,-999.0000,9,  -999.00,  -999.00,9,  -999.00,9,   2.3910,2,  27.6338,2,   2.5136,2
49UP20150724_2,   P04,    24,  1,     15,     088,2,20150827,1002,1125,  9.4932, 153.3358, 5365,   1949.8,     1930,   2.3096,  34.6294,2,    105.0,2,  34.6286,2,   104.85,2,   138.67,2,    38.93,2,     0.00,2,    2.750,2, -999.000,9, -999.000,9,   -999.0,9,   -999.0,9,-999.0000,9,  -999.00,  -999.00,9,  -999.00,9,   2.1728,2,  27.6609,2,   2.3092,2
49UP20150724_2,   P04,    24,  1,     14,     999,2,20150827,1002,1119,  9.4932, 153.3358, 5365,   2152.9,     2130,   2.1084,  34.6402,2,    110.6,2,  34.6402,2,   110.57,2,   142.59,2,    38.72,2,     0.00,2,    2.720,2, -999.000,9, -999.000,9,   -999.0,9,   -999.0,9,-999.0000,9,  -999.00,  -999.00,9,  -999.00,9,   1.9572,2,  27.6868,2,   2.1085,2
49UP20150724_2,   P04,    24,  1,     13,     667,2,20150827,1002,1114,  9.4932, 153.3358, 5365,   2358.3,     2332,   1.9649,  34.6500,2,    116.8,2,  34.6500,2,   116.78,2,   145.02,2,    38.33,2,     0.00,2,    2.700,2, -999.000,9, -999.000,9,   -999.0,9,   -999.0,9,-999.0000,9,  -999.00,  -999.00,9,  -999.00,9,   1.7980,2,  27.7070,2,   1.9650,2
49UP20150724_2,   P04,    24,  1,     12,     074,2,20150827,1002,1110,  9.4932, 153.3358, 5365,   2561.7,     2532,   1.8592,  34.6560,2,    120.8,2,  34.6561,2,   121.08,6,   147.11,6,    38.11,6,     0.00,6,    2.670,6, -999.000,9, -999.000,9,   -999.0,9,   -999.0,9,-999.0000,9,  -999.00,  -999.00,9,  -999.00,9,   1.6759,2,  27.7211,2,   1.8594,2
49UP20150724_2,   P04,    24,  1,     11,     268,2,20150827,1002,1104,  9.4932, 153.3358, 5365,   2764.6,     2731,   1.7747,  34.6617,2,    127.1,2,  34.6620,6,   127.01,2,   146.79,2,    37.71,2,     0.00,2,    2.640,2, -999.000,9, -999.000,9,   -999.0,9,   -999.0,9,-999.0000,9,  -999.00,  -999.00,9,  -999.00,9,   1.5743,2,  27.7332,2,   1.7755,2
49UP20150724_2,   P04,    24,  1,     10,     267,2,20150827,1002,1059,  9.4932, 153.3358, 5365,   2968.1,     2931,   1.7091,  34.6663,2,    131.2,2,  34.6665,2,   131.80,2,   147.35,2,    37.42,2,     0.00,2,    2.620,2, -999.000,9, -999.000,9,   -999.0,9,   -999.0,9,-999.0000,9,  -999.00,  -999.00,9,  -999.00,9,   1.4908,2,  27.7430,2,   1.7097,2
49UP20150724_2,   P04,    24,  1,      9,     518,2,20150827,1002,1054,  9.4932, 153.3358, 5365,   3212.1,     3170,   1.6179,  34.6728,2,    137.7,2,  34.6733,2,   137.75,2,   147.64,2,    37.01,2,     0.00,2,    2.580,2, -999.000,9, -999.000,9,   -999.0,9,   -999.0,9,-999.0000,9,  -999.00,  -999.00,9,  -999.00,9,   1.3779,2,  27.7564,2,   1.6179,2
49UP20150724_2,   P04,    24,  1,      8,     081,2,20150827,1002,1048,  9.4932, 153.3358, 5365,   3468.3,     3421,   1.5553,  34.6782,2,    144.6,2,  34.6785,2,   144.91,2,   146.00,2,    36.51,2,     0.00,2,    2.540,2, -999.000,9, -999.000,9,   -999.0,9,   -999.0,9,-999.0000,9,  -999.00,  -999.00,9,  -999.00,9,   1.2911,2,  27.7669,2,   1.5553,2
49UP20150724_2,   P04,    24,  1,      7,     516,2,20150827,1002,1036,  9.4932, 153.3358, 5365,   3981.6,     3922,   1.4848,  34.6862,2,    157.0,2,  34.6864,2,   157.13,2,   141.16,2,    35.67,2,     0.00,2,    2.480,2, -999.000,9, -999.000,9,   -999.0,9,   -999.0,9,-999.0000,9,  -999.00,  -999.00,9,  -999.00,9,   1.1684,2,  27.7818,2,   1.4849,2
49UP20150724_2,   P04,    24,  1,      6,     113,2,20150827,1002,1030,  9.4932, 153.3358, 5365,   4236.5,     4171,   1.4685,  34.6895,2,    161.9,2,  34.6887,2,   162.06,6,   138.75,6,    35.33,6,     0.00,6,    2.460,6, -999.000,9, -999.000,9,   -999.0,9,   -999.0,9,-999.0000,9,  -999.00,  -999.00,9,  -999.00,9,   1.1244,2,  27.7874,2,   1.4687,2
49UP20150724_2,   P04,    24,  1,      5,     658,2,20150827,1002,1024,  9.4932, 153.3358, 5365,   4493.5,     4422,   1.4618,  34.6918,2,    166.2,2,  34.6911,6,   166.17,2,   136.60,2,    35.01,2,     0.00,2,    2.430,2, -999.000,9, -999.000,9,   -999.0,9,   -999.0,9,-999.0000,9,  -999.00,  -999.00,9,  -999.00,9,   1.0888,2,  27.7917,2,   1.4619,2
49UP20150724_2,   P04,    24,  1,      4,     471,2,20150827,1002,1019,  9.4932, 153.3358, 5365,   4749.4,     4671,   1.4605,  34.6940,2,    169.8,2,  34.6940,2,   170.00,2,   134.99,2,    34.81,2,     0.00,2,    2.420,2, -999.000,9, -999.000,9,   -999.0,9,   -999.0,9,-999.0000,9,  -999.00,  -999.00,9,  -999.00,9,   1.0576,2,  27.7956,2,   1.4607,2
49UP20150724_2,   P04,    24,  1,      3,     104,2,20150827,1002,1013,  9.4932, 153.3358, 5365,   5006.4,     4921,   1.4664,  34.6956,2,    172.5,2,  34.6953,2,   172.37,2,   133.79,2,    34.59,2,     0.00,2,    2.400,2, -999.000,9, -999.000,9,   -999.0,9,   -999.0,9,-999.0000,9,  -999.00,  -999.00,9,  -999.00,9,   1.0325,2,  27.7986,2,   1.4665,2
49UP20150724_2,   P04,    24,  1,      2,     075,2,20150827,1002,1008,  9.4932, 153.3358, 5365,   5265.4,     5172,   1.4859,  34.6964,2,    174.2,2,  34.6965,2,   174.53,2,   132.86,2,    34.42,2,     0.00,2,    2.380,2, -999.000,9, -999.000,9,   -999.0,9,   -999.0,9,-999.0000,9,  -999.00,  -999.00,9,  -999.00,9,   1.0194,2,  27.8001,2,   1.4860,2
49UP20150724_2,   P04,    24,  1,      1,     997,2,20150827,1002,1003,  9.4932, 153.3358, 5365,   5478.3,     5379,   1.5099,  34.6969,2,    174.8,2,  34.6964,2,   173.94,3,   132.95,2,    34.46,2,     0.00,2,    2.390,2, -999.000,9, -999.000,9,   -999.0,9,   -999.0,9,-999.0000,9,  -999.00,  -999.00,9,  -999.00,9,   1.0157,2,  27.8007,2,   1.5098,2