BOTTLE,20191113JMAGEMD
EXPOCODE,SECT_ID,STNNBR,CASTNO,SAMPNO,BTLNBR,BTLNBR_FLAG_U,DATE,TIME,BTL_TIME,LATITUDE,LONGITUDE,DEPTH,CTDPRS,CTDDEP,CTDTMP,CTDSAL,CTDSAL_FLAG_W,CTDOXY,CTDOXY_FLAG_W,SALNTY,SALNTY_FLAG_W,OXYGEN,OXYGEN_FLAG_W,SILCAT,SILCAT_FLAG_W,NO2+NO3,NO2+NO3_FLAG_W,NITRIT,NITRIT_FLAG_W,PHSPHT,PHSPHT_FLAG_W,CFC-11,CFC-11_FLAG_W,CFC-12,CFC-12_FLAG_W,TCARBN,TCARBN_FLAG_W,ALKALI,ALKALI_FLAG_W,PH_TS,PH_TS_FLAG_W,PH_TS_TMP,CHLORA,CHLORA_FLAG_W,PPHYTN,PPHYTN_FLAG_W,THETA,THETA_FLAG_W,SIGTHT,SIGTHT_FLAG_W,SBE35,SBE35_FLAG_W
,,,,,,,,UTC,,,,METER,DBAR,METERS,ITS-90,PSS-78,,UMOL/KG,,PSS78,,UMOL/KG,,UMOL/KG,,UMOL/KG,,UMOL/KG,,UMOL/KG,,PMOL/KG,,PMOL/KG,,UMOL/KG,,UMOL/KG,,,,ITS-90,UG/KG,,UG/KG,,ITS-90,,KG/M3,,ITS-90,
49UP20150724_1,   P04,    37,  1,      0,      -9,0,20150812,1526,1725,  9.4967, 163.3357, 5160,      0.0,        0,  29.4853,  33.8138,2,    194.8,2,-999.0000,9,   194.79,2,     1.04,2,     0.05,2,     0.00,2,    0.080,2, -999.000,9, -999.000,9,   -999.0,9,   -999.0,9,-999.0000,9,  -999.00,  -999.00,9,  -999.00,9,  29.4847,2,  21.0115,2,-999.0000,9
49UP20150724_1,   P04,    37,  1,     36,     109,2,20150812,1526,1746,  9.4967, 163.3357, 5160,     11.1,       11,  29.4972,  33.8170,2,    194.6,2,  33.8151,2,   194.62,2,     0.98,2,     0.05,2,     0.00,2,    0.080,2, -999.000,9, -999.000,9,   -999.0,9,   -999.0,9,-999.0000,9,  -999.00,  -999.00,9,  -999.00,9,  29.4945,2,  21.0106,2,  29.4945,2
49UP20150724_1,   P04,    37,  1,     35,     112,2,20150812,1526,1745,  9.4967, 163.3357, 5160,     26.2,       26,  29.5796,  33.9509,2,    195.0,2,  33.9513,2,   195.62,2,     1.07,2,     0.08,2,     0.00,2,    0.080,2, -999.000,9, -999.000,9,   -999.0,9,   -999.0,9,-999.0000,9,  -999.00,  -999.00,9,  -999.00,9,  29.5732,2,  21.0845,2,  29.5762,2
49UP20150724_1,   P04,    37,  1,     34,     083,2,20150812,1526,1743,  9.4967, 163.3357, 5160,     51.9,       52,  27.1852,  34.7455,2,    208.9,2,  34.7176,4,   208.81,2,     1.13,2,     0.06,2,     0.00,2,    0.120,2, -999.000,9, -999.000,9,   -999.0,9,   -999.0,9,-999.0000,9,  -999.00,  -999.00,9,  -999.00,9,  27.1732,2,  22.4707,2,  27.2038,2
49UP20150724_1,   P04,    37,  1,     33,     469,2,20150812,1526,1742,  9.4967, 163.3357, 5160,     76.1,       76,  21.4915,  35.0267,2,    196.4,2,  35.0311,2,   198.07,6,     2.49,6,     0.29,6,     0.01,6,    0.230,6, -999.000,9, -999.000,9,   -999.0,9,   -999.0,9,-999.0000,9,  -999.00,  -999.00,9,  -999.00,9,  21.4767,2,  24.3836,2,  21.4960,2
49UP20150724_1,   P04,    37,  1,     32,     105,2,20150812,1526,1740,  9.4967, 163.3357, 5160,    101.5,      101,  18.6816,  34.8503,2,    168.9,2,  34.8466,2,   168.50,2,     5.21,2,     5.82,2,     0.19,2,    0.550,2, -999.000,9, -999.000,9,   -999.0,9,   -999.0,9,-999.0000,9,  -999.00,  -999.00,9,  -999.00,9,  18.6638,2,  24.9920,2,  18.6668,2
49UP20150724_1,   P04,    37,  1,     31,     515,4,20150812,1526,1739,  9.4967, 163.3357, 5160,    127.2,      126,  15.4844,  34.5693,2,    141.3,2,  34.7060,4,   184.90,4,     4.40,4,     4.03,4,     0.04,4,    0.410,4, -999.000,9, -999.000,9,   -999.0,9,   -999.0,9,-999.0000,9,  -999.00,  -999.00,9,  -999.00,9,  15.4648,2,  25.5371,2,  15.4804,2
49UP20150724_1,   P04,    37,  1,     30,     097,2,20150812,1526,1737,  9.4967, 163.3357, 5160,    151.7,      151,  12.5309,  34.4219,2,    112.8,2,  34.4222,2,   110.95,2,    19.74,2,    20.32,2,     0.01,2,    1.550,2, -999.000,9, -999.000,9,   -999.0,9,   -999.0,9,-999.0000,9,  -999.00,  -999.00,9,  -999.00,9,  12.5107,2,  26.0417,2,  12.5253,2
49UP20150724_1,   P04,    37,  1,     29,     102,2,20150812,1526,1736,  9.4967, 163.3357, 5160,    176.4,      175,  11.5715,  34.4934,2,     74.7,2,  34.4921,2,    74.81,2,    25.94,2,    26.25,2,     0.00,2,    1.950,2, -999.000,9, -999.000,9,   -999.0,9,   -999.0,9,-999.0000,9,  -999.00,  -999.00,9,  -999.00,9,  11.5492,2,  26.2804,2,  11.5679,2
49UP20150724_1,   P04,    37,  1,     28,     108,2,20150812,1526,1732,  9.4967, 163.3357, 5160,    201.1,      200,  10.8951,  34.4935,2,     66.7,2,  34.4947,2,    66.54,2,    28.89,2,    28.36,2,     0.00,2,    2.090,2, -999.000,9, -999.000,9,   -999.0,9,   -999.0,9,-999.0000,9,  -999.00,  -999.00,9,  -999.00,9,  10.8706,2,  26.4044,2,  10.8935,2
49UP20150724_1,   P04,    37,  1,     27,     998,2,20150812,1526,1730,  9.4967, 163.3357, 5160,    252.3,      251,   9.7695,  34.5682,2,     48.8,2,  34.5682,2,    48.68,2,    34.61,2,    32.54,2,     0.00,2,    2.340,2, -999.000,9, -999.000,9,   -999.0,9,   -999.0,9,-999.0000,9,  -999.00,  -999.00,9,  -999.00,9,   9.7407,2,  26.6586,2,   9.7691,2
49UP20150724_1,   P04,    37,  1,     26,     084,2,20150812,1526,1729,  9.4967, 163.3357, 5160,    282.0,      280,   9.2757,  34.5811,2,     50.8,2,  34.5796,2,    51.54,2,    36.87,2,    33.40,2,     0.00,2,    2.380,2, -999.000,9, -999.000,9,   -999.0,9,   -999.0,9,-999.0000,9,  -999.00,  -999.00,9,  -999.00,9,   9.2445,2,  26.7507,2,   9.2755,2
49UP20150724_1,   P04,    37,  1,     25,     098,2,20150812,1526,1726,  9.4967, 163.3357, 5160,    372.7,      370,   8.4185,  34.5703,2,     58.6,2,  34.5692,2,    59.01,2,    41.54,6,    34.42,6,     0.00,6,    2.440,6, -999.000,9, -999.000,9,   -999.0,9,   -999.0,9,-999.0000,9,  -999.00,  -999.00,9,  -999.00,9,   8.3795,2,  26.8789,2,   8.4193,2
49UP20150724_1,   P04,    37,  1,     24,     110,2,20150812,1526,1724,  9.4967, 163.3357, 5160,    474.2,      471,   7.7147,  34.5541,2,     61.9,2,  34.5536,2,    61.80,2,    46.85,2,    35.48,2,     0.00,2,    2.530,2, -999.000,9, -999.000,9,   -999.0,9,   -999.0,9,-999.0000,9,  -999.00,  -999.00,9,  -999.00,9,   7.6672,2,  26.9727,2,   7.7146,2
49UP20150724_1,   P04,    37,  1,     23,     096,2,20150812,1526,1721,  9.4967, 163.3357, 5160,    574.3,      570,   6.9910,  34.5393,2,     64.9,2,  34.5389,2,    65.17,2,    54.06,2,    36.57,2,     0.00,2,    2.610,2, -999.000,9, -999.000,9,   -999.0,9,   -999.0,9,-999.0000,9,  -999.00,  -999.00,9,  -999.00,9,   6.9362,2,  27.0647,2,   6.9910,2
49UP20150724_1,   P04,    37,  1,     22,     111,2,20150812,1526,1719,  9.4967, 163.3357, 5160,    675.0,      670,   6.3004,  34.5310,2,     62.7,2,  34.5307,2,    62.66,2,    63.23,2,    38.11,2,     0.00,2,    2.720,2, -999.000,9, -999.000,9,   -999.0,9,   -999.0,9,-999.0000,9,  -999.00,  -999.00,9,  -999.00,9,   6.2390,2,  27.1514,2,   6.3001,2
49UP20150724_1,   P04,    37,  1,     21,     078,2,20150812,1526,1715,  9.4967, 163.3357, 5160,    776.6,      771,   5.6102,  34.5324,2,     62.1,2,  34.5329,2,    62.13,2,    73.69,2,    39.24,2,     0.00,2,    2.800,2, -999.000,9, -999.000,9,   -999.0,9,   -999.0,9,-999.0000,9,  -999.00,  -999.00,9,  -999.00,9,   5.5431,2,  27.2400,2,   5.6100,2
49UP20150724_1,   P04,    37,  1,     20,     093,2,20150812,1526,1712,  9.4967, 163.3357, 5160,    877.1,      870,   5.1338,  34.5373,2,     62.7,2,  34.5367,2,    62.88,2,    82.15,2,    39.97,2,     0.00,2,    2.850,2, -999.000,9, -999.000,9,   -999.0,9,   -999.0,9,-999.0000,9,  -999.00,  -999.00,9,  -999.00,9,   5.0605,2,  27.3014,2,   5.1333,2
49UP20150724_1,   P04,    37,  1,     19,     092,2,20150812,1526,1709,  9.4967, 163.3357, 5160,    978.0,      970,   4.6059,  34.5486,2,     70.6,2,  34.5483,2,    71.33,6,    91.32,6,    39.73,6,     0.00,6,    2.850,6, -999.000,9, -999.000,9,   -999.0,9,   -999.0,9,-999.0000,9,  -999.00,  -999.00,9,  -999.00,9,   4.5274,2,  27.3707,2,   4.6052,2
49UP20150724_1,   P04,    37,  1,     18,     101,2,20150812,1526,1705,  9.4967, 163.3357, 5160,   1141.2,     1132,   3.9578,  34.5658,2,     78.8,2,  34.5661,6,    79.24,2,   103.87,2,    39.79,2,     0.00,2,    2.840,2, -999.000,9, -999.000,9,   -999.0,9,   -999.0,9,-999.0000,9,  -999.00,  -999.00,9,  -999.00,9,   3.8705,2,  27.4541,2,   3.9583,2
49UP20150724_1,   P04,    37,  1,     17,     090,2,20150812,1526,1701,  9.4967, 163.3357, 5160,   1341.9,     1330,   3.3396,  34.5860,2,     88.2,2,  34.5834,4,    88.54,2,   116.04,2,    39.44,2,     0.00,2,    2.810,2, -999.000,9, -999.000,9,   -999.0,9,   -999.0,9,-999.0000,9,  -999.00,  -999.00,9,  -999.00,9,   3.2412,2,  27.5322,2,   3.3411,2
49UP20150724_1,   P04,    37,  1,     16,     089,2,20150812,1526,1655,  9.4967, 163.3357, 5160,   1545.6,     1531,   2.8984,  34.6020,2,     92.2,2,  34.6006,4,    92.39,2,   126.09,2,    39.64,2,     0.00,2,    2.800,2, -999.000,9, -999.000,9,   -999.0,9,   -999.0,9,-999.0000,9,  -999.00,  -999.00,9,  -999.00,9,   2.7879,2,  27.5866,2,   2.8997,2
49UP20150724_1,   P04,    37,  1,     15,     088,2,20150812,1526,1650,  9.4967, 163.3357, 5160,   1746.8,     1730,   2.5555,  34.6174,2,     97.3,2,  34.6165,2,    97.55,2,   133.65,2,    39.41,2,     0.00,2,    2.790,2, -999.000,9, -999.000,9,   -999.0,9,   -999.0,9,-999.0000,9,  -999.00,  -999.00,9,  -999.00,9,   2.4324,2,  27.6297,2,   2.5553,2
49UP20150724_1,   P04,    37,  1,     14,     999,2,20150812,1526,1646,  9.4967, 163.3357, 5160,   1950.0,     1930,   2.3037,  34.6306,2,    103.3,2,  34.6310,2,   103.48,2,   139.36,2,    39.24,2,     0.00,2,    2.760,2, -999.000,9, -999.000,9,   -999.0,9,   -999.0,9,-999.0000,9,  -999.00,  -999.00,9,  -999.00,9,   2.1669,2,  27.6623,2,   2.3017,2
49UP20150724_1,   P04,    37,  1,     13,     667,2,20150812,1526,1639,  9.4967, 163.3357, 5160,   2153.8,     2131,   2.1277,  34.6408,2,    108.7,2,  34.6416,6,   108.71,2,   142.71,2,    38.91,2,     0.00,2,    2.720,2, -999.000,9, -999.000,9,   -999.0,9,   -999.0,9,-999.0000,9,  -999.00,  -999.00,9,  -999.00,9,   1.9761,2,  27.6858,2,   2.1278,2
49UP20150724_1,   P04,    37,  1,     12,     074,2,20150812,1526,1635,  9.4967, 163.3357, 5160,   2355.6,     2329,   1.9874,  34.6496,2,    113.4,2,  34.6497,2,   113.21,2,   145.93,2,    38.68,2,     0.00,2,    2.700,2, -999.000,9, -999.000,9,   -999.0,9,   -999.0,9,-999.0000,9,  -999.00,  -999.00,9,  -999.00,9,   1.8204,2,  27.7050,2,   1.9849,2
49UP20150724_1,   P04,    37,  1,     11,     268,2,20150812,1526,1630,  9.4967, 163.3357, 5160,   2558.9,     2529,   1.8629,  34.6572,2,    118.7,2,  34.6573,2,   118.85,2,   147.95,2,    38.34,2,     0.00,2,    2.670,2, -999.000,9, -999.000,9,   -999.0,9,   -999.0,9,-999.0000,9,  -999.00,  -999.00,9,  -999.00,9,   1.6798,2,  27.7218,2,   1.8631,2
49UP20150724_1,   P04,    37,  1,     10,     267,2,20150812,1526,1623,  9.4967, 163.3357, 5160,   2763.1,     2730,   1.7865,  34.6627,2,    124.0,2,  34.6625,2,   124.04,2,   148.19,2,    37.98,2,     0.00,2,    2.650,2, -999.000,9, -999.000,9,   -999.0,9,   -999.0,9,-999.0000,9,  -999.00,  -999.00,9,  -999.00,9,   1.5861,2,  27.7332,2,   1.7867,2
49UP20150724_1,   P04,    37,  1,      9,     518,2,20150812,1526,1618,  9.4967, 163.3357, 5160,   2967.9,     2931,   1.7074,  34.6677,2,    129.3,2,  34.6680,2,   129.24,2,   148.59,2,    37.67,2,     0.00,2,    2.620,2, -999.000,9, -999.000,9,   -999.0,9,   -999.0,9,-999.0000,9,  -999.00,  -999.00,9,  -999.00,9,   1.4891,2,  27.7443,2,   1.7080,2
49UP20150724_1,   P04,    37,  1,      8,     081,2,20150812,1526,1613,  9.4967, 163.3357, 5160,   3213.5,     3171,   1.6099,  34.6745,2,    137.7,2,  34.6741,6,   137.83,2,   147.55,2,    37.07,2,     0.00,2,    2.570,2, -999.000,9, -999.000,9,   -999.0,9,   -999.0,9,-999.0000,9,  -999.00,  -999.00,9,  -999.00,9,   1.3699,2,  27.7583,2,   1.6103,2
49UP20150724_1,   P04,    37,  1,      7,     516,2,20150812,1526,1604,  9.4967, 163.3357, 5160,   3468.8,     3421,   1.5374,  34.6797,2,    145.0,2,  34.6785,4,   145.02,2,   146.30,2,    36.59,2,     0.00,2,    2.530,2, -999.000,9, -999.000,9,   -999.0,9,   -999.0,9,-999.0000,9,  -999.00,  -999.00,9,  -999.00,9,   1.2736,2,  27.7693,2,   1.5376,2
49UP20150724_1,   P04,    37,  1,      6,     113,2,20150812,1526,1559,  9.4967, 163.3357, 5160,   3724.4,     3671,   1.4715,  34.6852,2,    153.1,2,  34.6844,2,   153.32,2,   143.86,2,    36.04,2,     0.00,2,    2.490,2, -999.000,9, -999.000,9,   -999.0,9,   -999.0,9,-999.0000,9,  -999.00,  -999.00,9,  -999.00,9,   1.1828,2,  27.7800,2,   1.4717,2
49UP20150724_1,   P04,    37,  1,      5,     094,2,20150812,1526,1548,  9.4967, 163.3357, 5160,   4236.7,     4171,   1.4156,  34.6930,2,    167.3,2,  34.6917,4,   167.34,6,   136.08,6,    34.93,6,     0.00,6,    2.410,6, -999.000,9, -999.000,9,   -999.0,9,   -999.0,9,-999.0000,9,  -999.00,  -999.00,9,  -999.00,9,   1.0730,2,  27.7938,2,   1.4159,2
49UP20150724_1,   P04,    37,  1,      4,     471,3,20150812,1526,1542,  9.4967, 163.3357, 5160,   4493.5,     4422,   1.3968,  34.6965,2,    173.9,2,  34.6956,2,   174.18,2,   132.17,2,    34.49,2,     0.00,2,    2.380,2, -999.000,9, -999.000,9,   -999.0,9,   -999.0,9,-999.0000,9,  -999.00,  -999.00,9,  -999.00,9,   1.0258,2,  27.7997,2,   1.3971,2
49UP20150724_1,   P04,    37,  1,      3,     104,2,20150812,1526,1537,  9.4967, 163.3357, 5160,   4749.4,     4671,   1.3869,  34.6989,2,    178.6,2,  34.6986,6,   178.75,2,   129.82,2,    34.13,2,     0.00,2,    2.350,2, -999.000,9, -999.000,9,   -999.0,9,   -999.0,9,-999.0000,9,  -999.00,  -999.00,9,  -999.00,9,   0.9863,2,  27.8043,2,   1.3870,2
49UP20150724_1,   P04,    37,  1,      2,     075,2,20150812,1526,1532,  9.4967, 163.3357, 5160,   5006.7,     4921,   1.3913,  34.7004,2,    181.8,2,  34.6998,2,   182.08,2,   127.80,2,    33.86,2,     0.00,2,    2.330,2, -999.000,9, -999.000,9,   -999.0,9,   -999.0,9,-999.0000,9,  -999.00,  -999.00,9,  -999.00,9,   0.9599,2,  27.8073,2,   1.3915,2
49UP20150724_1,   P04,    37,  1,      1,     997,2,20150812,1526,1526,  9.4967, 163.3357, 5160,   5253.6,     5161,   1.4021,  34.7016,2,    184.5,2,  34.7011,2,   184.78,2,   127.02,2,    33.66,2,     0.00,2,    2.330,2, -999.000,9, -999.000,9,   -999.0,9,   -999.0,9,-999.0000,9,  -999.00,  -999.00,9,  -999.00,9,   0.9400,2,  27.8096,2,   1.4022,2