BOTTLE,20191113JMAGEMD
EXPOCODE,SECT_ID,STNNBR,CASTNO,SAMPNO,BTLNBR,BTLNBR_FLAG_U,DATE,TIME,BTL_TIME,LATITUDE,LONGITUDE,DEPTH,CTDPRS,CTDDEP,CTDTMP,CTDSAL,CTDSAL_FLAG_W,CTDOXY,CTDOXY_FLAG_W,SALNTY,SALNTY_FLAG_W,OXYGEN,OXYGEN_FLAG_W,SILCAT,SILCAT_FLAG_W,NO2+NO3,NO2+NO3_FLAG_W,NITRIT,NITRIT_FLAG_W,PHSPHT,PHSPHT_FLAG_W,CFC-11,CFC-11_FLAG_W,CFC-12,CFC-12_FLAG_W,TCARBN,TCARBN_FLAG_W,ALKALI,ALKALI_FLAG_W,PH_TS,PH_TS_FLAG_W,PH_TS_TMP,CHLORA,CHLORA_FLAG_W,PPHYTN,PPHYTN_FLAG_W,THETA,THETA_FLAG_W,SIGTHT,SIGTHT_FLAG_W,SBE35,SBE35_FLAG_W
,,,,,,,,UTC,,,,METER,DBAR,METERS,ITS-90,PSS-78,,UMOL/KG,,PSS78,,UMOL/KG,,UMOL/KG,,UMOL/KG,,UMOL/KG,,UMOL/KG,,PMOL/KG,,PMOL/KG,,UMOL/KG,,UMOL/KG,,,,ITS-90,UG/KG,,UG/KG,,ITS-90,,KG/M3,,ITS-90,
49UP20150724_1,   P04,    44,  1,      0,      -9,0,20150809,2202,2346,  5.0212, 165.0940, 4755,      0.0,        0,  28.7932,  34.0711,2,    197.6,2,  34.0705,2,   197.37,2,     1.05,2,     0.02,2,     0.00,2,    0.060,2, -999.000,9, -999.000,9,   1915.8,2,   2239.9,2,   8.1129,2,    25.00,     0.12,2,     0.05,2,  28.7926,2,  21.4357,2,-999.0000,9
49UP20150724_1,   P04,    44,  1,     36,     109,2,20150809,2202,0022,  5.0212, 165.0940, 4755,     10.0,       10,  28.7992,  34.0674,2,    197.4,2,  34.0640,2,   196.91,2,     1.10,2,     0.03,2,     0.00,2,    0.050,2,    1.470,2,    0.889,2,   1915.9,2,   2237.5,2,   8.1079,2,    25.00,     0.11,2,     0.05,2,  28.7968,2,  21.4316,2,  28.7971,2
49UP20150724_1,   P04,    44,  1,     35,     112,2,20150809,2202,0020,  5.0212, 165.0940, 4755,     25.4,       25,  25.7258,  34.7965,2,    205.2,2,  34.7934,2,   204.72,2,     0.56,2,     0.09,2,     0.00,2,    0.160,2, -999.000,9, -999.000,9,   1988.7,2,   2290.8,2,   8.0595,2,    25.00,     0.21,2,     0.13,2,  25.7202,2,  22.9666,2,  25.7245,2
49UP20150724_1,   P04,    44,  1,     34,     083,2,20150809,2202,0018,  5.0212, 165.0940, 4755,     52.1,       52,  24.0757,  35.0285,2,    159.3,2,  35.0504,4,   158.29,6,     3.35,6,     5.45,6,     0.56,6,    0.500,6, -999.000,9, -999.000,9,   2045.8,2,   2302.2,2,   7.9801,2,    25.00,     0.37,2,     0.63,2,  24.0648,2,  23.6437,2,  24.0456,2
49UP20150724_1,   P04,    44,  1,     33,     469,2,20150809,2202,0017,  5.0212, 165.0940, 4755,     75.6,       75,  22.9312,  35.0377,2,    145.8,2,  35.0363,2,   146.08,2,     5.02,2,     7.57,2,     0.20,2,    0.610,2, -999.000,9, -999.000,9,   2062.6,2,   2300.8,2,   7.9456,2,    25.00,     0.17,2,     0.40,2,  22.9158,2,  23.9865,2,  22.9641,2
49UP20150724_1,   P04,    44,  1,     32,     105,2,20150809,2202,0013,  5.0212, 165.0940, 4755,    101.6,      101,  21.3223,  35.0754,2,    142.5,2,  35.0804,2,   144.01,2,     6.01,2,     8.80,2,     0.03,2,    0.700,2,    1.851,2,    1.104,2,   2080.4,2,   2306.0,2,   7.9117,2,    25.00,     0.06,2,     0.15,2,  21.3026,2,  24.4686,2,  21.3227,2
49UP20150724_1,   P04,    44,  1,     31,     515,2,20150809,2202,0012,  5.0212, 165.0940, 4755,    129.6,      129,  20.3264,  35.0157,2,    146.4,2,  35.0086,2,   147.40,2,     6.75,2,     8.83,2,     0.02,2,    0.700,2, -999.000,9, -999.000,9,   2082.2,2,   2303.1,2,   7.9023,2,    25.00,     0.04,2,     0.12,2,  20.3022,2,  24.6937,2,  20.3251,2
49UP20150724_1,   P04,    44,  1,     30,     097,2,20150809,2202,0010,  5.0212, 165.0940, 4755,    154.8,      154,  17.3901,  34.7633,2,    136.4,2,  34.8136,4,   142.72,2,     9.98,2,    11.15,2,     0.02,2,    0.860,2, -999.000,9, -999.000,9,   2100.8,2,   2293.8,2,   7.8461,2,    25.00,     0.01,2,     0.05,2,  17.3643,2,  25.2455,2,  17.3915,2
49UP20150724_1,   P04,    44,  1,     29,     102,2,20150809,2202,0008,  5.0212, 165.0940, 4755,    178.7,      178,  13.3696,  34.5643,2,    106.6,2,  34.5686,2,   106.69,2,    18.84,2,    19.77,2,     0.01,2,    1.470,2, -999.000,9, -999.000,9,   2162.0,2,   2285.8,2,   7.6931,2,    25.00,     0.00,2,     0.04,2,  13.3447,2,  25.9858,2,  13.3660,2
49UP20150724_1,   P04,    44,  1,     28,     108,2,20150809,2202,0006,  5.0212, 165.0940, 4755,    206.3,      205,  11.2360,  34.5537,2,     63.2,2,  34.5472,2,    67.69,2,    27.61,2,    27.96,2,     0.00,2,    2.050,2,    1.248,6,    0.651,6,   2214.9,2,   2289.1,2,   7.5587,2,    25.00,     0.00,2,     0.03,2,  11.2103,2,  26.3898,2,  11.2356,2
49UP20150724_1,   P04,    44,  1,     27,     998,2,20150809,2202,0003,  5.0212, 165.0940, 4755,    255.0,      253,   9.7496,  34.6171,2,     47.3,2,  34.6170,2,    47.54,2,    33.93,2,    32.99,2,     0.00,2,    2.350,2, -999.000,9, -999.000,9,   2243.3,2,   2300.2,2,   7.4996,2,    25.00,  -999.00,9,  -999.00,9,   9.7205,2,  26.7002,2,   9.7487,2
49UP20150724_1,   P04,    44,  1,     26,     084,2,20150809,2202,2359,  5.0212, 165.0940, 4755,    335.2,      333,   8.6865,  34.6183,2,     75.4,2,  34.6178,2,    75.57,6,    35.21,6,    32.80,6,     0.00,6,    2.310,6,    0.536,2,    0.289,2,   2240.0,2,   2305.9,2,   7.5301,2,    25.00,  -999.00,9,  -999.00,9,   8.6507,2,  26.8746,2,   8.6849,2
49UP20150724_1,   P04,    44,  1,     25,     098,2,20150809,2202,2356,  5.0212, 165.0940, 4755,    431.7,      429,   8.1765,  34.5984,2,     83.8,2,  34.5969,6,    84.12,2,    37.10,2,    33.09,2,     0.00,2,    2.330,2,    0.484,2,    0.268,2,   2240.3,2,   2308.2,2,   7.5322,2,    25.00,  -999.00,9,  -999.00,9,   8.1319,2,  26.9386,2,   8.1769,2
49UP20150724_1,   P04,    44,  1,     24,     110,2,20150809,2202,2353,  5.0212, 165.0940, 4755,    532.1,      528,   7.3841,  34.5732,2,     69.8,2,  34.5733,2,    69.64,2,    44.99,2,    36.14,2,     0.00,2,    2.560,2,    0.235,2,    0.137,2,   2257.6,2,   2314.5,2,   7.4936,2,    25.00,  -999.00,9,  -999.00,9,   7.3319,2,  27.0360,2,   7.3887,2
49UP20150724_1,   P04,    44,  1,     23,     096,2,20150809,2202,2350,  5.0212, 165.0940, 4755,    631.9,      627,   6.5476,  34.5472,2,     70.1,2,  34.5476,2,    69.96,2,    54.81,2,    37.42,2,     0.00,2,    2.670,2,    0.132,2,    0.075,2,   2270.9,2,   2323.6,2,   7.4830,2,    25.00,  -999.00,9,  -999.00,9,   6.4892,2,  27.1313,2,   6.5502,2
49UP20150724_1,   P04,    44,  1,     22,     111,2,20150809,2202,2348,  5.0212, 165.0940, 4755,    732.3,      727,   5.8880,  34.5377,2,     77.7,2,  34.5384,6,    77.85,2,    63.96,2,    37.78,2,     0.00,2,    2.690,2,    0.096,2,    0.057,2,   2279.3,2,   2332.3,2,   7.4884,2,    25.00,  -999.00,9,  -999.00,9,   5.8234,2,  27.2096,2,   5.8905,2
49UP20150724_1,   P04,    44,  1,     21,     078,2,20150809,2202,2346,  5.0212, 165.0940, 4755,    833.1,      827,   5.3306,  34.5401,2,     78.5,2,  34.5410,2,    78.26,2,    73.99,2,    38.39,2,     0.00,2,    2.740,2, -999.000,9, -999.000,9,   2290.5,6,   2341.8,6,   7.4833,2,    25.00,  -999.00,9,  -999.00,9,   5.2601,2,  27.2802,2,   5.3302,2
49UP20150724_1,   P04,    44,  1,     20,     093,2,20150809,2202,2342,  5.0212, 165.0940, 4755,    944.1,      937,   4.7826,  34.5513,2,     70.9,2,  34.5509,2,    71.21,6,    84.19,6,    39.99,6,     0.00,6,    2.860,6, -999.000,9, -999.000,9,   2307.0,2,   2354.1,2,   7.4663,6,    25.00,  -999.00,9,  -999.00,9,   4.7058,2,  27.3531,2,   4.7813,2
49UP20150724_1,   P04,    44,  1,     19,     092,2,20150809,2202,2338,  5.0212, 165.0940, 4755,   1077.8,     1069,   4.2503,  34.5625,2,     74.8,2,  34.5626,2,    74.71,2,    95.19,2,    40.28,2,     0.00,2,    2.880,2, -999.000,9, -999.000,9,   2316.5,2,   2364.1,2,   7.4686,2,    25.00,  -999.00,9,  -999.00,9,   4.1660,2,  27.4208,2,   4.2517,2
49UP20150724_1,   P04,    44,  1,     18,     101,2,20150809,2202,2331,  5.0212, 165.0940, 4755,   1283.9,     1273,   3.5194,  34.5839,2,     80.2,2,  34.5840,2,    80.08,2,   111.48,2,    40.35,2,     0.00,2,    2.890,2, -999.000,9, -999.000,9,   2333.1,2,   2381.8,2,   7.4731,2,    25.00,  -999.00,9,  -999.00,9,   3.4241,2,  27.5130,2,   3.5186,2
49UP20150724_1,   P04,    44,  1,     17,     090,2,20150809,2202,2326,  5.0212, 165.0940, 4755,   1483.9,     1470,   3.0424,  34.6005,2,     90.9,2,  34.6010,2,    90.53,2,   120.72,2,    39.81,2,     0.00,2,    2.840,2, -999.000,9, -999.000,9,   2339.2,2,   2393.8,2,   7.4911,2,    25.00,  -999.00,9,  -999.00,9,   2.9353,2,  27.5721,2,   3.0422,2
49UP20150724_1,   P04,    44,  1,     16,     089,2,20150809,2202,2322,  5.0212, 165.0940, 4755,   1684.8,     1669,   2.6609,  34.6163,2,     97.8,2,  34.6162,6,    97.95,2,   129.30,2,    39.44,2,     0.00,2,    2.800,2, -999.000,9, -999.000,9,   2342.9,2,   2403.7,2,   7.5014,2,    25.00,  -999.00,9,  -999.00,9,   2.5416,2,  27.6195,2,   2.6613,2
49UP20150724_1,   P04,    44,  1,     15,     088,2,20150809,2202,2316,  5.0212, 165.0940, 4755,   1887.1,     1868,   2.3651,  34.6303,2,    105.1,2,  34.6307,2,   105.04,2,   135.71,2,    39.02,2,     0.00,2,    2.760,2, -999.000,9, -999.000,9,   2343.9,2,   2410.0,2,   7.5118,2,    25.00,  -999.00,9,  -999.00,9,   2.2328,2,  27.6567,2,   2.3653,2
49UP20150724_1,   P04,    44,  1,     14,     999,2,20150809,2202,2313,  5.0212, 165.0940, 4755,   2087.7,     2066,   2.1461,  34.6426,2,    110.3,2,  34.6431,2,   110.66,2,   140.63,2,    38.78,2,     0.00,2,    2.730,2, -999.000,9, -999.000,9,   2344.7,2,   2416.1,2,   7.5238,2,    25.00,  -999.00,9,  -999.00,9,   1.9999,2,  27.6854,2,   2.1461,2
49UP20150724_1,   P04,    44,  1,     13,     667,2,20150809,2202,2308,  5.0212, 165.0940, 4755,   2296.2,     2271,   1.9963,  34.6507,2,    114.7,2,  34.6511,2,   114.68,2,   143.99,2,    38.51,2,     0.00,2,    2.700,2, -999.000,9, -999.000,9,   2349.2,2,   2419.1,2,   7.5289,2,    25.00,  -999.00,9,  -999.00,9,   1.8344,2,  27.7048,2,   1.9966,2
49UP20150724_1,   P04,    44,  1,     12,     074,2,20150809,2202,2304,  5.0212, 165.0940, 4755,   2499.9,     2471,   1.8890,  34.6578,2,    119.7,2,  34.6578,2,   119.48,2,   145.68,2,    38.23,2,     0.00,2,    2.670,2, -999.000,9, -999.000,9,   2347.4,6,   2421.8,6,   7.5367,2,    25.00,  -999.00,9,  -999.00,9,   1.7107,2,  27.7199,2,   1.8888,2
49UP20150724_1,   P04,    44,  1,     11,     268,2,20150809,2202,2257,  5.0212, 165.0940, 4755,   2704.4,     2672,   1.8029,  34.6627,2,    124.9,2,  34.6625,2,   124.84,2,   146.51,2,    37.86,2,     0.00,2,    2.650,2,    0.004,2,    0.000,2,   2343.7,2,   2422.2,2,   7.5455,6,    25.00,  -999.00,9,  -999.00,9,   1.6076,2,  27.7315,2,   1.8029,2
49UP20150724_1,   P04,    44,  1,     10,     267,2,20150809,2202,2253,  5.0212, 165.0940, 4755,   2901.9,     2866,   1.7181,  34.6664,2,    131.2,2,  34.6662,6,   131.37,2,   145.95,2,    37.44,2,     0.00,2,    2.610,2,    0.004,2,    0.000,2,   2341.7,2,   2420.4,2,   7.5538,2,    25.00,  -999.00,9,  -999.00,9,   1.5060,2,  27.7420,2,   1.7177,2
49UP20150724_1,   P04,    44,  1,      9,     518,2,20150809,2202,2248,  5.0212, 165.0940, 4755,   3122.2,     3082,   1.6487,  34.6716,2,    136.5,2,  34.6704,4,   136.39,2,   145.95,2,    37.04,2,     0.00,2,    2.580,2,    0.001,2,    0.000,2,   2335.8,2,   2421.4,2,   7.5609,2,    25.00,  -999.00,9,  -999.00,9,   1.4168,2,  27.7527,2,   1.6489,2
49UP20150724_1,   P04,    44,  1,      8,     081,2,20150809,2202,2240,  5.0212, 165.0940, 4755,   3377.4,     3332,   1.5591,  34.6780,2,    144.5,2,  34.6783,2,   144.87,2,   144.74,2,    36.46,2,     0.00,2,    2.540,2,    0.000,2,    0.000,2,   2331.2,2,   2421.5,2,   7.5717,2,    25.00,  -999.00,9,  -999.00,9,   1.3039,2,  27.7658,2,   1.5590,2
49UP20150724_1,   P04,    44,  1,      7,     516,2,20150809,2202,2234,  5.0212, 165.0940, 4755,   3633.0,     3582,   1.5112,  34.6824,2,    150.9,2,  34.6820,2,   150.74,2,   142.85,2,    36.08,2,     0.00,2,    2.510,2,    0.002,2,    0.000,2,   2327.4,2,   2418.3,2,   7.5811,2,    25.00,  -999.00,9,  -999.00,9,   1.2310,2,  27.7745,2,   1.5111,2
49UP20150724_1,   P04,    44,  1,      6,     113,2,20150809,2202,2226,  5.0212, 165.0940, 4755,   3885.6,     3829,   1.4768,  34.6861,2,    156.9,2,  34.6863,2,   156.78,6,   140.60,6,    35.65,6,     0.00,6,    2.470,6,    0.000,2,    0.000,2,   2312.1,3,   2417.0,2,   7.5921,2,    25.00,  -999.00,9,  -999.00,9,   1.1709,2,  27.7816,2,   1.4765,2
49UP20150724_1,   P04,    44,  1,      5,     094,2,20150809,2202,2220,  5.0212, 165.0940, 4755,   4143.7,     4081,   1.4648,  34.6894,2,    161.9,2,  34.6859,4,   160.62,3,   137.87,2,    35.31,2,     0.00,2,    2.450,2,    0.001,2,    0.000,2,   2316.6,6,   2415.0,6,   7.5950,2,    25.00,  -999.00,9,  -999.00,9,   1.1311,2,  27.7870,2,   1.4648,2
49UP20150724_1,   P04,    44,  1,      4,     471,2,20150809,2202,2212,  5.0212, 165.0940, 4755,   4399.5,     4330,   1.4359,  34.6933,2,    168.6,2,  34.6934,2,   168.66,2,   134.56,2,    34.79,2,     0.00,2,    2.410,2,    0.007,2,    0.001,2,   2308.7,2,   2412.8,2,   7.6066,6,    25.00,  -999.00,9,  -999.00,9,   1.0744,2,  27.7939,2,   1.4359,2
49UP20150724_1,   P04,    44,  1,      3,     104,2,20150809,2202,2207,  5.0212, 165.0940, 4755,   4656.5,     4581,   1.4088,  34.6969,2,    175.4,2,  34.6972,2,   174.89,2,   131.42,2,    34.38,2,     0.00,2,    2.380,2,    0.000,2,    0.000,2,   2303.7,2,   2404.1,2,   7.6084,2,    25.00,  -999.00,9,  -999.00,9,   1.0185,2,  27.8006,2,   1.4086,2
49UP20150724_1,   P04,    44,  1,      1,     997,2,20150809,2202,2202,  5.0212, 165.0940, 4755,   4831.5,     4751,   1.3865,  34.6994,2,    180.0,2,  34.6996,2,   179.86,2,   128.96,2,    33.98,2,     0.00,2,    2.360,2,    0.010,6,    0.001,6,   2299.3,2,   2400.6,2,   7.6150,2,    25.00,  -999.00,9,  -999.00,9,   0.9762,2,  27.8054,2,   1.3862,2
49UP20150724_1,   P04,    44,  1,      2,     075,2,20150809,2202,2202,  5.0212, 165.0940, 4755,   4832.9,     4752,   1.3868,  34.6993,2,    180.0,2,  34.6982,2,   179.80,2,   128.85,2,    33.95,2,     0.00,2,    2.350,2,    0.008,2,    0.002,2,   2298.0,2,   2399.0,2,   7.6144,2,    25.00,  -999.00,9,  -999.00,9,   0.9764,2,  27.8053,2,   1.3864,2