BOTTLE,20191113JMAGEMD
EXPOCODE,SECT_ID,STNNBR,CASTNO,SAMPNO,BTLNBR,BTLNBR_FLAG_U,DATE,TIME,BTL_TIME,LATITUDE,LONGITUDE,DEPTH,CTDPRS,CTDDEP,CTDTMP,CTDSAL,CTDSAL_FLAG_W,CTDOXY,CTDOXY_FLAG_W,SALNTY,SALNTY_FLAG_W,OXYGEN,OXYGEN_FLAG_W,SILCAT,SILCAT_FLAG_W,NO2+NO3,NO2+NO3_FLAG_W,NITRIT,NITRIT_FLAG_W,PHSPHT,PHSPHT_FLAG_W,CFC-11,CFC-11_FLAG_W,CFC-12,CFC-12_FLAG_W,TCARBN,TCARBN_FLAG_W,ALKALI,ALKALI_FLAG_W,PH_TS,PH_TS_FLAG_W,PH_TS_TMP,CHLORA,CHLORA_FLAG_W,PPHYTN,PPHYTN_FLAG_W,THETA,THETA_FLAG_W,SIGTHT,SIGTHT_FLAG_W,SBE35,SBE35_FLAG_W
,,,,,,,,UTC,,,,METER,DBAR,METERS,ITS-90,PSS-78,,UMOL/KG,,PSS78,,UMOL/KG,,UMOL/KG,,UMOL/KG,,UMOL/KG,,UMOL/KG,,PMOL/KG,,PMOL/KG,,UMOL/KG,,UMOL/KG,,,,ITS-90,UG/KG,,UG/KG,,ITS-90,,KG/M3,,ITS-90,
49UP20150724_2,   P04,    11,  1,      0,      -9,0,20150831,1945,2133,  9.4630, 144.5037, 4395,      0.0,        0,  28.7712,  33.8707,2,    197.3,2,-999.0000,9,   197.09,2,     1.15,2,     0.01,2,     0.00,2,    0.080,2, -999.000,9, -999.000,9,   -999.0,9,   -999.0,9,-999.0000,9,  -999.00,  -999.00,9,  -999.00,9,  28.7706,2,  21.2926,2,-999.0000,9
49UP20150724_2,   P04,    11,  1,     36,     109,2,20150831,1945,2150,  9.4630, 144.5037, 4395,     11.0,       11,  28.7791,  33.8704,2,    197.0,2,  33.8705,2,   196.74,2,     1.15,2,     0.01,2,     0.00,2,    0.060,2, -999.000,9, -999.000,9,   -999.0,9,   -999.0,9,-999.0000,9,  -999.00,  -999.00,9,  -999.00,9,  28.7765,2,  21.2905,2,  28.7775,2
49UP20150724_2,   P04,    11,  1,     35,     112,2,20150831,1945,2149,  9.4630, 144.5037, 4395,     25.5,       25,  28.7834,  33.8696,2,    196.5,2,  33.8727,2,   196.72,6,     1.17,6,     0.03,6,     0.00,6,    0.060,6, -999.000,9, -999.000,9,   -999.0,9,   -999.0,9,-999.0000,9,  -999.00,  -999.00,9,  -999.00,9,  28.7773,2,  21.2896,2,  28.7821,2
49UP20150724_2,   P04,    11,  1,     34,     094,2,20150831,1945,2145,  9.4630, 144.5037, 4395,     51.1,       51,  23.9932,  34.6493,2,    194.6,2,  34.6766,4,   194.34,2,     3.31,2,     0.56,2,     0.02,2,    0.240,2, -999.000,9, -999.000,9,   -999.0,9,   -999.0,9,-999.0000,9,  -999.00,  -999.00,9,  -999.00,9,  23.9825,2,  23.3810,2,  23.9771,2
49UP20150724_2,   P04,    11,  1,     33,     469,2,20150831,1945,2144,  9.4630, 144.5037, 4395,     75.9,       75,  18.1086,  34.7342,2,    146.3,2,  34.7378,2,   147.15,2,     9.70,2,    10.31,2,     0.39,2,    0.820,2, -999.000,9, -999.000,9,   -999.0,9,   -999.0,9,-999.0000,9,  -999.00,  -999.00,9,  -999.00,9,  18.0955,2,  25.0449,2,  18.1025,2
49UP20150724_2,   P04,    11,  1,     32,     105,2,20150831,1945,2143,  9.4630, 144.5037, 4395,    102.4,      102,  15.1817,  34.6225,2,    122.7,2,  34.6225,2,   123.25,2,    16.00,2,    16.63,2,     0.12,2,    1.220,2, -999.000,9, -999.000,9,   -999.0,9,   -999.0,9,-999.0000,9,  -999.00,  -999.00,9,  -999.00,9,  15.1662,2,  25.6444,2,  15.1734,2
49UP20150724_2,   P04,    11,  1,     31,     515,2,20150831,1945,2142,  9.4630, 144.5037, 4395,    126.1,      125,  13.5954,  34.5778,2,    105.2,2,  34.5783,2,   105.62,2,    20.67,2,    20.66,2,     0.03,2,    1.510,2, -999.000,9, -999.000,9,   -999.0,9,   -999.0,9,-999.0000,9,  -999.00,  -999.00,9,  -999.00,9,  13.5777,2,  25.9485,2,  13.5864,2
49UP20150724_2,   P04,    11,  1,     30,     097,4,20150831,1945,2140,  9.4630, 144.5037, 4395,    152.2,      151,  12.1231,  34.5462,2,     91.6,2,  34.6852,4,   136.92,4,    12.11,4,    13.10,4,     0.48,4,    0.990,4, -999.000,9, -999.000,9,   -999.0,9,   -999.0,9,-999.0000,9,  -999.00,  -999.00,9,  -999.00,9,  12.1033,2,  26.2169,2,  12.1233,2
49UP20150724_2,   P04,    11,  1,     29,     102,2,20150831,1945,2139,  9.4630, 144.5037, 4395,    177.7,      177,  10.9750,  34.5345,2,     81.7,2,  34.5345,2,    81.95,2,    29.85,4,    27.28,2,     0.00,2,    1.970,2, -999.000,9, -999.000,9,   -999.0,9,   -999.0,9,-999.0000,9,  -999.00,  -999.00,9,  -999.00,9,  10.9533,2,  26.4214,2,  10.9785,2
49UP20150724_2,   P04,    11,  1,     28,     108,2,20150831,1945,2138,  9.4630, 144.5037, 4395,    202.9,      202,  10.4387,  34.5345,2,     76.2,2,  34.5350,2,    76.09,2,    31.82,2,    28.79,2,     0.00,2,    2.070,2, -999.000,9, -999.000,9,   -999.0,9,   -999.0,9,-999.0000,9,  -999.00,  -999.00,9,  -999.00,9,  10.4146,2,  26.5169,2,  10.4394,2
49UP20150724_2,   P04,    11,  1,     27,     998,3,20150831,1945,2136,  9.4630, 144.5037, 4395,    252.1,      251,   9.5220,  34.5500,2,     68.9,2,  34.5498,2,    69.13,2,    36.01,2,    31.27,2,     0.00,2,    2.240,2, -999.000,9, -999.000,9,   -999.0,9,   -999.0,9,-999.0000,9,  -999.00,  -999.00,9,  -999.00,9,   9.4937,2,  26.6855,2,   9.5215,2
49UP20150724_2,   P04,    11,  1,     26,     084,2,20150831,1945,2135,  9.4630, 144.5037, 4395,    303.9,      302,   8.7339,  34.5536,2,     74.2,2,  34.5531,6,    74.22,2,    39.05,2,    32.37,2,     0.00,2,    2.300,2, -999.000,9, -999.000,9,   -999.0,9,   -999.0,9,-999.0000,9,  -999.00,  -999.00,9,  -999.00,9,   8.7015,2,  26.8158,2,   8.7363,2
49UP20150724_2,   P04,    11,  1,     25,     098,2,20150831,1945,2132,  9.4630, 144.5037, 4395,    404.6,      402,   7.8588,  34.5423,2,     94.8,2,  34.5414,2,    94.84,2,    41.97,2,    32.24,2,     0.00,2,    2.280,2, -999.000,9, -999.000,9,   -999.0,9,   -999.0,9,-999.0000,9,  -999.00,  -999.00,9,  -999.00,9,   7.8180,2,  26.9414,2,   7.8583,2
49UP20150724_2,   P04,    11,  1,     24,     110,2,20150831,1945,2129,  9.4630, 144.5037, 4395,    504.5,      501,   7.2370,  34.5310,2,    100.1,2,  34.5307,2,   100.76,6,    46.24,4,    32.92,6,     0.00,6,    2.340,6, -999.000,9, -999.000,9,   -999.0,9,   -999.0,9,-999.0000,9,  -999.00,  -999.00,9,  -999.00,9,   7.1881,2,  27.0231,2,   7.2368,2
49UP20150724_2,   P04,    11,  1,     23,     096,2,20150831,1945,2126,  9.4630, 144.5037, 4395,    605.7,      601,   6.5248,  34.5228,2,     92.5,2,  34.5225,2,    92.63,2,    56.53,2,    34.90,2,     0.00,2,    2.490,2, -999.000,9, -999.000,9,   -999.0,9,   -999.0,9,-999.0000,9,  -999.00,  -999.00,9,  -999.00,9,   6.4690,2,  27.1147,2,   6.5247,2
49UP20150724_2,   P04,    11,  1,     22,     111,2,20150831,1945,2123,  9.4630, 144.5037, 4395,    707.0,      702,   6.1121,  34.5235,2,     90.2,2,  34.5232,6,    90.33,2,    62.58,2,    35.77,2,     0.00,2,    2.550,2, -999.000,9, -999.000,9,   -999.0,9,   -999.0,9,-999.0000,9,  -999.00,  -999.00,9,  -999.00,9,   6.0487,2,  27.1699,2,   6.1124,2
49UP20150724_2,   P04,    11,  1,     21,     078,2,20150831,1945,2120,  9.4630, 144.5037, 4395,    807.3,      801,   5.6044,  34.5291,2,     86.3,2,  34.5294,2,    86.43,2,    71.55,2,    36.89,2,     0.00,2,    2.640,2, -999.000,9, -999.000,9,   -999.0,9,   -999.0,9,-999.0000,9,  -999.00,  -999.00,9,  -999.00,9,   5.5345,2,  27.2385,2,   5.6043,2
49UP20150724_2,   P04,    11,  1,     19,     092,2,20150831,1945,2116,  9.4630, 144.5037, 4395,    908.6,      902,   5.0670,  34.5410,2,     84.4,2,  34.5413,2,    84.92,2,    81.32,2,    37.78,2,     0.00,2,    2.710,2, -999.000,9, -999.000,9,   -999.0,9,   -999.0,9,-999.0000,9,  -999.00,  -999.00,9,  -999.00,9,   4.9914,2,  27.3124,2,   5.0668,2
49UP20150724_2,   P04,    11,  1,     20,     093,2,20150831,1945,2117,  9.4630, 144.5037, 4395,    909.7,      903,   5.0645,  34.5413,2,     84.4,2,  34.5414,2,    84.44,2,    81.43,2,    37.82,2,     0.00,2,    2.710,2, -999.000,9, -999.000,9,   -999.0,9,   -999.0,9,-999.0000,9,  -999.00,  -999.00,9,  -999.00,9,   4.9888,2,  27.3129,2,   5.0646,2
49UP20150724_2,   P04,    11,  1,     18,     101,2,20150831,1945,2114,  9.4630, 144.5037, 4395,   1009.7,     1002,   4.5355,  34.5513,2,     86.2,2,  34.5511,2,    86.34,2,    91.07,2,    38.29,2,     0.00,2,    2.740,2, -999.000,9, -999.000,9,   -999.0,9,   -999.0,9,-999.0000,9,  -999.00,  -999.00,9,  -999.00,9,   4.4548,2,  27.3808,2,   4.5353,2
49UP20150724_2,   P04,    11,  1,     17,     090,2,20150831,1945,2109,  9.4630, 144.5037, 4395,   1210.6,     1200,   3.8845,  34.5683,2,     90.1,2,  34.5678,2,    90.42,2,   102.34,4,    38.65,2,     0.00,2,    2.770,2, -999.000,9, -999.000,9,   -999.0,9,   -999.0,9,-999.0000,9,  -999.00,  -999.00,9,  -999.00,9,   3.7919,2,  27.4641,2,   3.8846,2
49UP20150724_2,   P04,    11,  1,     16,     089,3,20150831,1945,2104,  9.4630, 144.5037, 4395,   1413.0,     1400,   3.3772,  34.5854,2,     94.5,2,  34.5850,2,    94.56,2,   114.25,2,    38.82,2,     0.00,2,    2.770,2, -999.000,9, -999.000,9,   -999.0,9,   -999.0,9,-999.0000,9,  -999.00,  -999.00,9,  -999.00,9,   3.2724,2,  27.5287,2,   3.3772,2
49UP20150724_2,   P04,    11,  1,     15,     088,2,20150831,1945,2059,  9.4630, 144.5037, 4395,   1616.8,     1601,   3.0040,  34.5994,2,     99.0,2,  34.5991,2,    98.75,6,   122.07,6,    38.81,6,     0.00,6,    2.760,6, -999.000,9, -999.000,9,   -999.0,9,   -999.0,9,-999.0000,9,  -999.00,  -999.00,9,  -999.00,9,   2.8862,2,  27.5757,2,   3.0040,2
49UP20150724_2,   P04,    11,  1,     14,     999,2,20150831,1945,2054,  9.4630, 144.5037, 4395,   1819.3,     1801,   2.7002,  34.6085,2,    103.5,2,  34.6058,4,   103.37,2,   128.72,2,    38.67,2,     0.00,2,    2.740,2, -999.000,9, -999.000,9,   -999.0,9,   -999.0,9,-999.0000,9,  -999.00,  -999.00,9,  -999.00,9,   2.5690,2,  27.6109,2,   2.7002,2
49UP20150724_2,   P04,    11,  1,     13,     667,2,20150831,1945,2048,  9.4630, 144.5037, 4395,   2023.3,     2002,   2.4292,  34.6237,2,    109.9,2,  34.6211,4,   109.38,2,   133.05,2,    38.38,2,     0.00,2,    2.700,2, -999.000,9, -999.000,9,   -999.0,9,   -999.0,9,-999.0000,9,  -999.00,  -999.00,9,  -999.00,9,   2.2843,2,  27.6472,2,   2.4291,2
49UP20150724_2,   P04,    11,  1,     12,     074,2,20150831,1945,2042,  9.4630, 144.5037, 4395,   2227.0,     2203,   2.1531,  34.6375,2,    116.6,2,  34.6358,4,   116.48,2,   138.16,2,    38.14,2,     0.00,2,    2.690,2, -999.000,9, -999.000,9,   -999.0,9,   -999.0,9,-999.0000,9,  -999.00,  -999.00,9,  -999.00,9,   1.9946,2,  27.6816,2,   2.1540,2
49UP20150724_2,   P04,    11,  1,     11,     268,2,20150831,1945,2037,  9.4630, 144.5037, 4395,   2431.3,     2404,   1.9752,  34.6467,2,    120.4,2,  34.6460,2,   120.29,2,   142.26,2,    38.03,2,     0.00,2,    2.680,2, -999.000,9, -999.000,9,   -999.0,9,   -999.0,9,-999.0000,9,  -999.00,  -999.00,9,  -999.00,9,   1.8017,2,  27.7041,2,   1.9753,2
49UP20150724_2,   P04,    11,  1,     10,     267,2,20150831,1945,2031,  9.4630, 144.5037, 4395,   2633.4,     2602,   1.8866,  34.6518,2,    124.8,2,  34.6510,2,   124.79,2,   143.37,2,    37.71,2,     0.00,2,    2.650,2, -999.000,9, -999.000,9,   -999.0,9,   -999.0,9,-999.0000,9,  -999.00,  -999.00,9,  -999.00,9,   1.6962,2,  27.7162,2,   1.8867,2
49UP20150724_2,   P04,    11,  1,      9,     518,2,20150831,1945,2026,  9.4630, 144.5037, 4395,   2835.6,     2801,   1.7821,  34.6577,2,    128.6,2,  34.6586,2,   128.39,2,   145.38,2,    37.47,2,     0.00,2,    2.630,2, -999.000,9, -999.000,9,   -999.0,9,   -999.0,9,-999.0000,9,  -999.00,  -999.00,9,  -999.00,9,   1.5749,2,  27.7300,2,   1.7820,2
49UP20150724_2,   P04,    11,  1,      8,     081,2,20150831,1945,2022,  9.4630, 144.5037, 4395,   3039.7,     3001,   1.7159,  34.6632,2,    133.1,2,  34.6629,2,   132.99,6,   145.66,6,    37.21,6,     0.00,6,    2.610,6, -999.000,9, -999.000,9,   -999.0,9,   -999.0,9,-999.0000,9,  -999.00,  -999.00,9,  -999.00,9,   1.4905,2,  27.7405,2,   1.7159,2
49UP20150724_2,   P04,    11,  1,      7,     516,2,20150831,1945,2015,  9.4630, 144.5037, 4395,   3294.4,     3250,   1.6375,  34.6692,2,    138.5,2,  34.6692,2,   138.27,2,   145.93,2,    36.90,2,     0.00,2,    2.580,2, -999.000,9, -999.000,9,   -999.0,9,   -999.0,9,-999.0000,9,  -999.00,  -999.00,9,  -999.00,9,   1.3889,2,  27.7527,2,   1.6375,2
49UP20150724_2,   P04,    11,  1,      5,     658,2,20150831,1945,2009,  9.4630, 144.5037, 4395,   3549.8,     3500,   1.5824,  34.6745,2,    143.9,2,  34.6745,2,   143.81,2,   145.46,2,    36.52,2,     0.00,2,    2.550,2, -999.000,9, -999.000,9,   -999.0,9,   -999.0,9,-999.0000,9,  -999.00,  -999.00,9,  -999.00,9,   1.3091,2,  27.7626,2,   1.5825,2
49UP20150724_2,   P04,    11,  1,      6,     113,2,20150831,1945,2010,  9.4630, 144.5037, 4395,   3550.6,     3501,   1.5824,  34.6746,2,    143.9,2,  34.6743,6,   144.08,2,   145.02,2,    36.52,2,     0.00,2,    2.550,2, -999.000,9, -999.000,9,   -999.0,9,   -999.0,9,-999.0000,9,  -999.00,  -999.00,9,  -999.00,9,   1.3090,2,  27.7627,2,   1.5825,2
49UP20150724_2,   P04,    11,  1,      4,     471,2,20150831,1945,2002,  9.4630, 144.5037, 4395,   3805.4,     3750,   1.5381,  34.6791,2,    149.5,2,  34.6796,2,   149.30,2,   143.38,2,    36.13,2,     0.00,2,    2.520,2, -999.000,9, -999.000,9,   -999.0,9,   -999.0,9,-999.0000,9,  -999.00,  -999.00,9,  -999.00,9,   1.2391,2,  27.7713,2,   1.5379,2
49UP20150724_2,   P04,    11,  1,      3,     104,2,20150831,1945,1956,  9.4630, 144.5037, 4395,   4062.8,     4002,   1.5065,  34.6835,2,    154.6,2,  34.6836,2,   154.63,2,   141.88,4,    35.81,2,     0.00,2,    2.490,2, -999.000,9, -999.000,9,   -999.0,9,   -999.0,9,-999.0000,9,  -999.00,  -999.00,9,  -999.00,9,   1.1806,2,  27.7788,2,   1.5065,2
49UP20150724_2,   P04,    11,  1,      2,     075,2,20150831,1945,1951,  9.4630, 144.5037, 4395,   4317.8,     4250,   1.5036,  34.6857,2,    158.0,2,  34.6850,2,   157.99,2,   140.64,2,    35.58,2,     0.00,2,    2.470,2, -999.000,9, -999.000,9,   -999.0,9,   -999.0,9,-999.0000,9,  -999.00,  -999.00,9,  -999.00,9,   1.1493,2,  27.7827,2,   1.5034,2
49UP20150724_2,   P04,    11,  1,      1,     997,2,20150831,1945,1946,  9.4630, 144.5037, 4395,   4456.7,     4386,   1.5015,  34.6871,2,    160.1,2,  34.6874,2,   160.04,2,   140.16,2,    35.49,2,     0.00,2,    2.460,2, -999.000,9, -999.000,9,   -999.0,9,   -999.0,9,-999.0000,9,  -999.00,  -999.00,9,  -999.00,9,   1.1315,2,  27.7851,2,   1.5014,2