BOTTLE,20191113JMAGEMD
EXPOCODE,SECT_ID,STNNBR,CASTNO,SAMPNO,BTLNBR,BTLNBR_FLAG_U,DATE,TIME,BTL_TIME,LATITUDE,LONGITUDE,DEPTH,CTDPRS,CTDDEP,CTDTMP,CTDSAL,CTDSAL_FLAG_W,CTDOXY,CTDOXY_FLAG_W,SALNTY,SALNTY_FLAG_W,OXYGEN,OXYGEN_FLAG_W,SILCAT,SILCAT_FLAG_W,NO2+NO3,NO2+NO3_FLAG_W,NITRIT,NITRIT_FLAG_W,PHSPHT,PHSPHT_FLAG_W,CFC-11,CFC-11_FLAG_W,CFC-12,CFC-12_FLAG_W,TCARBN,TCARBN_FLAG_W,ALKALI,ALKALI_FLAG_W,PH_TS,PH_TS_FLAG_W,PH_TS_TMP,CHLORA,CHLORA_FLAG_W,PPHYTN,PPHYTN_FLAG_W,THETA,THETA_FLAG_W,SIGTHT,SIGTHT_FLAG_W,SBE35,SBE35_FLAG_W
,,,,,,,,UTC,,,,METER,DBAR,METERS,ITS-90,PSS-78,,UMOL/KG,,PSS78,,UMOL/KG,,UMOL/KG,,UMOL/KG,,UMOL/KG,,UMOL/KG,,PMOL/KG,,PMOL/KG,,UMOL/KG,,UMOL/KG,,,,ITS-90,UG/KG,,UG/KG,,ITS-90,,KG/M3,,ITS-90,
49UP20150724_2,   P04,    22,  1,      0,      -9,0,20150828,0152,0350,  9.5133, 151.6877, 5063,      0.0,        0,  28.9714,  33.9221,2,    197.4,2,-999.0000,9,   196.62,2,     1.04,2,     0.03,2,     0.00,2,    0.090,2, -999.000,9, -999.000,9,   -999.0,9,   -999.0,9,-999.0000,9,  -999.00,  -999.00,9,  -999.00,9,  28.9707,2,  21.2648,2,-999.0000,9
49UP20150724_2,   P04,    22,  1,     36,     109,2,20150828,0152,0416,  9.5133, 151.6877, 5063,     10.5,       10,  28.9762,  33.9180,2,    197.3,2,  33.9185,2,   196.66,2,     0.91,2,     0.04,2,     0.00,2,    0.080,2, -999.000,9, -999.000,9,   -999.0,9,   -999.0,9,-999.0000,9,  -999.00,  -999.00,9,  -999.00,9,  28.9737,2,  21.2606,2,  28.9737,2
49UP20150724_2,   P04,    22,  1,     35,     112,2,20150828,0152,0415,  9.5133, 151.6877, 5063,     24.5,       24,  28.9940,  33.9440,2,    197.2,2,  33.9480,2,   196.81,2,     1.04,2,     0.05,2,     0.00,2,    0.090,2, -999.000,9, -999.000,9,   -999.0,9,   -999.0,9,-999.0000,9,  -999.00,  -999.00,9,  -999.00,9,  28.9881,2,  21.2754,2,  28.9954,2
49UP20150724_2,   P04,    22,  1,     34,     094,2,20150828,0152,0411,  9.5133, 151.6877, 5063,     50.5,       50,  28.9871,  33.9686,2,    196.1,2,  33.9706,2,   196.86,2,     1.02,2,     0.02,2,     0.00,2,    0.100,2, -999.000,9, -999.000,9,   -999.0,9,   -999.0,9,-999.0000,9,  -999.00,  -999.00,9,  -999.00,9,  28.9749,2,  21.2982,2,  28.9828,2
49UP20150724_2,   P04,    22,  1,     33,     469,2,20150828,0152,0409,  9.5133, 151.6877, 5063,     74.1,       74,  24.6713,  35.2464,2,    201.4,2,  35.2378,2,   201.65,2,     1.39,2,     0.01,2,     0.00,2,    0.150,2, -999.000,9, -999.000,9,   -999.0,9,   -999.0,9,-999.0000,9,  -999.00,  -999.00,9,  -999.00,9,  24.6553,2,  23.6319,2,  24.6615,2
49UP20150724_2,   P04,    22,  1,     32,     105,2,20150828,0152,0408,  9.5133, 151.6877, 5063,    101.3,      101,  20.0749,  35.0111,2,    176.6,2,  35.0095,2,   177.40,6,     3.32,6,     3.24,6,     0.13,6,    0.380,6, -999.000,9, -999.000,9,   -999.0,9,   -999.0,9,-999.0000,9,  -999.00,  -999.00,9,  -999.00,9,  20.0561,2,  24.7554,2,  20.0136,2
49UP20150724_2,   P04,    22,  1,     31,     515,2,20150828,0152,0407,  9.5133, 151.6877, 5063,    125.3,      125,  16.9224,  34.6977,2,    141.4,2,  34.7003,6,   142.31,2,     9.60,2,    11.37,2,     0.06,2,    0.900,2, -999.000,9, -999.000,9,   -999.0,9,   -999.0,9,-999.0000,9,  -999.00,  -999.00,9,  -999.00,9,  16.9019,2,  25.3055,2,  16.9242,2
49UP20150724_2,   P04,    22,  1,     30,     097,2,20150828,0152,0405,  9.5133, 151.6877, 5063,    152.0,      151,  13.5350,  34.5154,2,    114.8,2,  34.5233,2,   115.71,2,    18.31,2,    18.88,2,     0.01,2,    1.420,2, -999.000,9, -999.000,9,   -999.0,9,   -999.0,9,-999.0000,9,  -999.00,  -999.00,9,  -999.00,9,  13.5137,2,  25.9134,2,  13.5446,2
49UP20150724_2,   P04,    22,  1,     29,     102,2,20150828,0152,0404,  9.5133, 151.6877, 5063,    177.3,      176,  12.0531,  34.4887,2,     95.6,2,  34.4862,2,    96.48,2,    23.79,2,    23.30,2,     0.00,2,    1.730,2, -999.000,9, -999.000,9,   -999.0,9,   -999.0,9,-999.0000,9,  -999.00,  -999.00,9,  -999.00,9,  12.0300,2,  26.1862,2,  12.0536,2
49UP20150724_2,   P04,    22,  1,     28,     108,2,20150828,0152,0402,  9.5133, 151.6877, 5063,    202.5,      201,  11.4392,  34.5097,2,     87.5,2,  34.5098,2,    87.38,2,    27.21,2,    25.60,2,     0.00,2,    1.880,2, -999.000,9, -999.000,9,   -999.0,9,   -999.0,9,-999.0000,9,  -999.00,  -999.00,9,  -999.00,9,  11.4137,2,  26.3182,2,  11.4499,2
49UP20150724_2,   P04,    22,  1,     27,     998,2,20150828,0152,0400,  9.5133, 151.6877, 5063,    253.1,      252,  10.1112,  34.5162,2,     71.8,2,  34.5153,2,    72.27,2,    33.29,2,    29.54,2,     0.00,2,    2.140,2, -999.000,9, -999.000,9,   -999.0,9,   -999.0,9,-999.0000,9,  -999.00,  -999.00,9,  -999.00,9,  10.0817,2,  26.5602,2,  10.1107,2
49UP20150724_2,   P04,    22,  1,     26,     084,2,20150828,0152,0358,  9.5133, 151.6877, 5063,    334.1,      332,   8.9530,  34.5418,2,     70.5,2,  34.5410,2,    71.09,2,    38.86,2,    32.20,2,     0.00,2,    2.300,2, -999.000,9, -999.000,9,   -999.0,9,   -999.0,9,-999.0000,9,  -999.00,  -999.00,9,  -999.00,9,   8.9167,2,  26.7726,2,   8.9562,2
49UP20150724_2,   P04,    22,  1,     25,     098,2,20150828,0152,0355,  9.5133, 151.6877, 5063,    433.3,      430,   7.7176,  34.5371,2,     80.9,2,  34.5389,2,    81.14,2,    45.29,2,    33.65,2,     0.00,2,    2.380,2, -999.000,9, -999.000,9,   -999.0,9,   -999.0,9,-999.0000,9,  -999.00,  -999.00,9,  -999.00,9,   7.6743,2,  26.9583,2,   7.7250,2
49UP20150724_2,   P04,    22,  1,     24,     110,2,20150828,0152,0352,  9.5133, 151.6877, 5063,    534.7,      531,   6.9496,  34.5303,2,     83.5,2,  34.5300,2,    83.54,2,    53.01,2,    34.94,2,     0.00,2,    2.480,2, -999.000,9, -999.000,9,   -999.0,9,   -999.0,9,-999.0000,9,  -999.00,  -999.00,9,  -999.00,9,   6.8989,2,  27.0627,2,   6.9502,2
49UP20150724_2,   P04,    22,  1,     23,     096,2,20150828,0152,0349,  9.5133, 151.6877, 5063,    634.8,      630,   6.2486,  34.5256,2,     80.3,2,  34.5249,2,    80.25,2,    62.28,2,    36.44,2,     0.00,2,    2.600,2, -999.000,9, -999.000,9,   -999.0,9,   -999.0,9,-999.0000,9,  -999.00,  -999.00,9,  -999.00,9,   6.1914,2,  27.1533,2,   6.2485,2
49UP20150724_2,   P04,    22,  1,     22,     111,2,20150828,0152,0345,  9.5133, 151.6877, 5063,    735.8,      730,   5.9133,  34.5262,2,     81.1,2,  34.5262,2,    80.98,2,    67.46,2,    36.88,2,     0.00,2,    2.630,2, -999.000,9, -999.000,9,   -999.0,9,   -999.0,9,-999.0000,9,  -999.00,  -999.00,9,  -999.00,9,   5.8483,2,  27.1974,2,   5.9131,2
49UP20150724_2,   P04,    22,  1,     21,     078,2,20150828,0152,0342,  9.5133, 151.6877, 5063,    837.6,      831,   5.3676,  34.5355,2,     76.7,2,  34.5355,2,    76.63,2,    76.65,2,    38.21,2,     0.00,2,    2.720,2, -999.000,9, -999.000,9,   -999.0,9,   -999.0,9,-999.0000,9,  -999.00,  -999.00,9,  -999.00,9,   5.2964,2,  27.2722,2,   5.3673,2
49UP20150724_2,   P04,    22,  1,     20,     093,2,20150828,0152,0339,  9.5133, 151.6877, 5063,    937.7,      930,   4.9038,  34.5431,2,     79.0,2,  34.5429,2,    79.20,2,    84.84,2,    38.58,2,     0.00,2,    2.750,2, -999.000,9, -999.000,9,   -999.0,9,   -999.0,9,-999.0000,9,  -999.00,  -999.00,9,  -999.00,9,   4.8268,2,  27.3328,2,   4.9036,2
49UP20150724_2,   P04,    22,  1,     19,     092,2,20150828,0152,0335,  9.5133, 151.6877, 5063,   1079.7,     1071,   4.3096,  34.5540,2,     78.5,2,  34.5540,6,    78.70,2,    96.89,2,    39.32,2,     0.00,2,    2.810,2, -999.000,9, -999.000,9,   -999.0,9,   -999.0,9,-999.0000,9,  -999.00,  -999.00,9,  -999.00,9,   4.2246,2,  27.4078,2,   4.3097,2
49UP20150724_2,   P04,    22,  1,     18,     101,2,20150828,0152,0330,  9.5133, 151.6877, 5063,   1282.5,     1271,   3.5407,  34.5765,2,     88.4,2,  34.5765,2,    88.46,6,   112.26,6,    39.26,6,     0.00,6,    2.790,6, -999.000,9, -999.000,9,   -999.0,9,   -999.0,9,-999.0000,9,  -999.00,  -999.00,9,  -999.00,9,   3.4453,2,  27.5050,2,   3.5405,2
49UP20150724_2,   P04,    22,  1,     17,     090,2,20150828,0152,0323,  9.5133, 151.6877, 5063,   1484.9,     1471,   2.9819,  34.5959,2,     92.9,2,  34.5951,2,    92.70,2,   124.22,2,    39.43,2,     0.00,2,    2.790,2, -999.000,9, -999.000,9,   -999.0,9,   -999.0,9,-999.0000,9,  -999.00,  -999.00,9,  -999.00,9,   2.8754,2,  27.5739,2,   2.9823,2
49UP20150724_2,   P04,    22,  1,     16,     089,2,20150828,0152,0318,  9.5133, 151.6877, 5063,   1687.5,     1671,   2.5870,  34.6128,2,    100.4,2,  34.6133,2,   100.76,2,   131.99,2,    39.05,2,     0.00,2,    2.760,2, -999.000,9, -999.000,9,   -999.0,9,   -999.0,9,-999.0000,9,  -999.00,  -999.00,9,  -999.00,9,   2.4685,2,  27.6230,2,   2.5870,2
49UP20150724_2,   P04,    22,  1,     15,     088,2,20150828,0152,0311,  9.5133, 151.6877, 5063,   1890.5,     1871,   2.3008,  34.6289,2,    105.2,2,  34.6290,2,   105.45,2,   138.69,2,    39.01,2,     0.00,2,    2.750,2, -999.000,9, -999.000,9,   -999.0,9,   -999.0,9,-999.0000,9,  -999.00,  -999.00,9,  -999.00,9,   2.1691,2,  27.6608,2,   2.3008,2
49UP20150724_2,   P04,    22,  1,     14,     999,2,20150828,0152,0305,  9.5133, 151.6877, 5063,   2092.8,     2071,   2.1119,  34.6400,2,    110.0,2,  34.6401,2,   110.17,2,   142.51,2,    38.71,2,     0.00,2,    2.720,2, -999.000,9, -999.000,9,   -999.0,9,   -999.0,9,-999.0000,9,  -999.00,  -999.00,9,  -999.00,9,   1.9658,2,  27.6860,2,   2.1116,2
49UP20150724_2,   P04,    22,  1,     13,     667,3,20150828,0152,0300,  9.5133, 151.6877, 5063,   2296.9,     2272,   1.9918,  34.6481,2,    115.3,2,  34.6480,2,   115.45,2,   144.14,2,    38.47,2,     0.00,2,    2.690,2, -999.000,9, -999.000,9,   -999.0,9,   -999.0,9,-999.0000,9,  -999.00,  -999.00,9,  -999.00,9,   1.8299,2,  27.7030,2,   1.9918,2
49UP20150724_2,   P04,    22,  1,     12,     074,2,20150828,0152,0254,  9.5133, 151.6877, 5063,   2500.6,     2472,   1.8862,  34.6539,2,    120.0,2,  34.6545,2,   120.44,2,   145.97,2,    38.14,2,     0.00,2,    2.670,2, -999.000,9, -999.000,9,   -999.0,9,   -999.0,9,-999.0000,9,  -999.00,  -999.00,9,  -999.00,9,   1.7080,2,  27.7170,2,   1.8862,2
49UP20150724_2,   P04,    22,  1,     11,     268,2,20150828,0152,0249,  9.5133, 151.6877, 5063,   2704.4,     2672,   1.7864,  34.6603,2,    125.8,2,  34.6608,6,   126.30,2,   146.79,2,    37.78,2,     0.00,2,    2.640,2, -999.000,9, -999.000,9,   -999.0,9,   -999.0,9,-999.0000,9,  -999.00,  -999.00,9,  -999.00,9,   1.5914,2,  27.7308,2,   1.7865,2
49UP20150724_2,   P04,    22,  1,     10,     267,2,20150828,0152,0244,  9.5133, 151.6877, 5063,   2906.7,     2870,   1.7014,  34.6661,2,    131.1,2,  34.6662,2,   131.35,6,   147.32,6,    37.45,6,     0.00,6,    2.610,6, -999.000,9, -999.000,9,   -999.0,9,   -999.0,9,-999.0000,9,  -999.00,  -999.00,9,  -999.00,9,   1.4892,2,  27.7430,2,   1.7012,2
49UP20150724_2,   P04,    22,  1,      9,     518,2,20150828,0152,0238,  9.5133, 151.6877, 5063,   3120.1,     3080,   1.6210,  34.6718,2,    137.0,2,  34.6720,2,   136.78,2,   147.28,2,    37.11,2,     0.00,2,    2.580,2, -999.000,9, -999.000,9,   -999.0,9,   -999.0,9,-999.0000,9,  -999.00,  -999.00,9,  -999.00,9,   1.3899,2,  27.7547,2,   1.6211,2
49UP20150724_2,   P04,    22,  1,      8,     081,2,20150828,0152,0232,  9.5133, 151.6877, 5063,   3375.7,     3330,   1.5439,  34.6772,2,    144.9,2,  34.6769,2,   144.57,2,   145.51,2,    36.49,2,     0.00,2,    2.540,2, -999.000,9, -999.000,9,   -999.0,9,   -999.0,9,-999.0000,9,  -999.00,  -999.00,9,  -999.00,9,   1.2893,2,  27.7662,2,   1.5438,2
49UP20150724_2,   P04,    22,  1,      7,     516,2,20150828,0152,0227,  9.5133, 151.6877, 5063,   3632.1,     3581,   1.4994,  34.6815,2,    151.6,2,  34.6817,2,   151.28,2,   143.25,2,    36.07,2,     0.00,2,    2.500,2, -999.000,9, -999.000,9,   -999.0,9,   -999.0,9,-999.0000,9,  -999.00,  -999.00,9,  -999.00,9,   1.2196,2,  27.7745,2,   1.4992,2
49UP20150724_2,   P04,    22,  1,      6,     113,2,20150828,0152,0220,  9.5133, 151.6877, 5063,   3887.9,     3831,   1.4827,  34.6848,2,    155.8,2,  34.6850,2,   155.68,2,   141.57,2,    35.75,2,     0.00,2,    2.480,2, -999.000,9, -999.000,9,   -999.0,9,   -999.0,9,-999.0000,9,  -999.00,  -999.00,9,  -999.00,9,   1.1764,2,  27.7801,2,   1.4828,2
49UP20150724_2,   P04,    22,  1,      5,     658,2,20150828,0152,0214,  9.5133, 151.6877, 5063,   4142.6,     4079,   1.4647,  34.6880,2,    160.8,2,  34.6875,2,   160.62,2,   139.29,2,    35.34,2,     0.00,2,    2.450,2, -999.000,9, -999.000,9,   -999.0,9,   -999.0,9,-999.0000,9,  -999.00,  -999.00,9,  -999.00,9,   1.1311,2,  27.7858,2,   1.4646,2
49UP20150724_2,   P04,    22,  1,      4,     471,2,20150828,0152,0209,  9.5133, 151.6877, 5063,   4398.2,     4329,   1.4538,  34.6909,2,    165.3,2,  34.6912,2,   165.14,2,   137.23,2,    35.06,2,     0.00,2,    2.420,2, -999.000,9, -999.000,9,   -999.0,9,   -999.0,9,-999.0000,9,  -999.00,  -999.00,9,  -999.00,9,   1.0919,2,  27.7908,2,   1.4539,2
49UP20150724_2,   P04,    22,  1,      3,     104,2,20150828,0152,0203,  9.5133, 151.6877, 5063,   4656.5,     4580,   1.4481,  34.6934,2,    169.5,2,  34.6928,2,   169.34,6,   135.29,6,    34.77,6,     0.00,6,    2.400,6, -999.000,9, -999.000,9,   -999.0,9,   -999.0,9,-999.0000,9,  -999.00,  -999.00,9,  -999.00,9,   1.0565,2,  27.7952,2,   1.4480,2
49UP20150724_2,   P04,    22,  1,      2,     075,2,20150828,0152,0158,  9.5133, 151.6877, 5063,   4913.9,     4831,   1.4559,  34.6950,2,    172.3,2,  34.6947,6,   172.57,2,   133.68,2,    34.54,2,     0.00,2,    2.380,2, -999.000,9, -999.000,9,   -999.0,9,   -999.0,9,-999.0000,9,  -999.00,  -999.00,9,  -999.00,9,   1.0335,2,  27.7981,2,   1.4559,2
49UP20150724_2,   P04,    22,  1,      1,     997,2,20150828,0152,0153,  9.5133, 151.6877, 5063,   5161.8,     5072,   1.4756,  34.6959,2,    173.9,2,  34.6967,2,   173.45,2,   133.25,2,    34.50,2,     0.00,2,    2.380,2, -999.000,9, -999.000,9,   -999.0,9,   -999.0,9,-999.0000,9,  -999.00,  -999.00,9,  -999.00,9,   1.0224,2,  27.7995,2,   1.4755,2