BOTTLE,20191113JMAGEMD
EXPOCODE,SECT_ID,STNNBR,CASTNO,SAMPNO,BTLNBR,BTLNBR_FLAG_U,DATE,TIME,BTL_TIME,LATITUDE,LONGITUDE,DEPTH,CTDPRS,CTDDEP,CTDTMP,CTDSAL,CTDSAL_FLAG_W,CTDOXY,CTDOXY_FLAG_W,SALNTY,SALNTY_FLAG_W,OXYGEN,OXYGEN_FLAG_W,SILCAT,SILCAT_FLAG_W,NO2+NO3,NO2+NO3_FLAG_W,NITRIT,NITRIT_FLAG_W,PHSPHT,PHSPHT_FLAG_W,CFC-11,CFC-11_FLAG_W,CFC-12,CFC-12_FLAG_W,TCARBN,TCARBN_FLAG_W,ALKALI,ALKALI_FLAG_W,PH_TS,PH_TS_FLAG_W,PH_TS_TMP,CHLORA,CHLORA_FLAG_W,PPHYTN,PPHYTN_FLAG_W,THETA,THETA_FLAG_W,SIGTHT,SIGTHT_FLAG_W,SBE35,SBE35_FLAG_W
,,,,,,,,UTC,,,,METER,DBAR,METERS,ITS-90,PSS-78,,UMOL/KG,,PSS78,,UMOL/KG,,UMOL/KG,,UMOL/KG,,UMOL/KG,,UMOL/KG,,PMOL/KG,,PMOL/KG,,UMOL/KG,,UMOL/KG,,,,ITS-90,UG/KG,,UG/KG,,ITS-90,,KG/M3,,ITS-90,
49UP20150724_2,   P04,    25,  1,      0,      -9,0,20150827,0200,0355,  9.4932, 154.1722, 5470,      0.0,        0,  29.1189,  33.8168,2,    197.5,2,-999.0000,9,   196.70,2,     0.92,2,     0.00,2,     0.00,2,    0.090,2, -999.000,9, -999.000,9,   -999.0,9,   -999.0,9,-999.0000,9,  -999.00,  -999.00,9,  -999.00,9,  29.1183,2,  21.1365,2,-999.0000,9
49UP20150724_2,   P04,    25,  1,     36,     109,3,20150827,0200,0426,  9.4932, 154.1722, 5470,     11.6,       12,  29.0557,  33.8227,2,    197.6,2,  33.8202,2,   196.71,2,     0.91,6,     0.02,6,     0.00,6,    0.080,6, -999.000,9, -999.000,9,   -999.0,9,   -999.0,9,-999.0000,9,  -999.00,  -999.00,9,  -999.00,9,  29.0529,2,  21.1628,2,  29.0600,2
49UP20150724_2,   P04,    25,  1,     35,     112,3,20150827,0200,0425,  9.4932, 154.1722, 5470,     26.5,       26,  28.9929,  33.8491,2,    197.5,2,  33.8477,6,   196.96,2,     0.92,2,     0.00,2,     0.00,2,    0.080,2, -999.000,9, -999.000,9,   -999.0,9,   -999.0,9,-999.0000,9,  -999.00,  -999.00,9,  -999.00,9,  28.9865,2,  21.2047,2,  28.9907,2
49UP20150724_2,   P04,    25,  1,     34,     094,2,20150827,0200,0422,  9.4932, 154.1722, 5470,     51.6,       51,  28.6183,  34.0444,2,    199.3,2,  34.0838,4,   200.74,2,     0.96,2,     0.00,2,     0.00,2,    0.100,2, -999.000,9, -999.000,9,   -999.0,9,   -999.0,9,-999.0000,9,  -999.00,  -999.00,9,  -999.00,9,  28.6060,2,  21.4775,2,  28.5831,2
49UP20150724_2,   P04,    25,  1,     33,     469,2,20150827,0200,0420,  9.4932, 154.1722, 5470,    101.7,      101,  19.5881,  34.8248,2,    152.5,2,  34.8362,2,   152.88,2,     6.10,2,     7.06,2,     0.42,2,    0.650,2, -999.000,9, -999.000,9,   -999.0,9,   -999.0,9,-999.0000,9,  -999.00,  -999.00,9,  -999.00,9,  19.5696,2,  24.7407,2,  19.7618,2
49UP20150724_2,   P04,    25,  1,     32,     105,2,20150827,0200,0419,  9.4932, 154.1722, 5470,    126.6,      126,  16.2186,  34.6272,2,    137.6,2,  34.6161,2,   138.73,2,    10.73,2,    12.66,2,     0.08,2,    1.010,2, -999.000,9, -999.000,9,   -999.0,9,   -999.0,9,-999.0000,9,  -999.00,  -999.00,9,  -999.00,9,  16.1985,2,  25.4154,2,  16.2218,2
49UP20150724_2,   P04,    25,  1,     31,     515,2,20150827,0200,0418,  9.4932, 154.1722, 5470,    151.9,      151,  12.9458,  34.4224,2,    125.0,2,  34.4234,2,   125.49,2,    17.41,2,    18.12,2,     0.01,2,    1.380,2, -999.000,9, -999.000,9,   -999.0,9,   -999.0,9,-999.0000,9,  -999.00,  -999.00,9,  -999.00,9,  12.9251,2,  25.9603,2,  12.9470,2
49UP20150724_2,   P04,    25,  1,     30,     097,2,20150827,0200,0416,  9.4932, 154.1722, 5470,    175.8,      175,  11.7385,  34.4128,2,    105.3,2,  34.4257,2,   100.49,2,    23.59,2,    23.15,2,     0.00,2,    1.720,2, -999.000,9, -999.000,9,   -999.0,9,   -999.0,9,-999.0000,9,  -999.00,  -999.00,9,  -999.00,9,  11.7160,2,  26.1866,2,  11.7404,2
49UP20150724_2,   P04,    25,  1,     29,     102,2,20150827,0200,0415,  9.4932, 154.1722, 5470,    202.0,      201,  10.9971,  34.4903,2,     75.8,2,  34.4695,2,    77.70,2,    28.16,2,    27.03,2,     0.00,2,    1.990,2, -999.000,9, -999.000,9,   -999.0,9,   -999.0,9,-999.0000,9,  -999.00,  -999.00,9,  -999.00,9,  10.9724,2,  26.3836,2,  10.9929,2
49UP20150724_2,   P04,    25,  1,     28,     108,2,20150827,0200,0413,  9.4932, 154.1722, 5470,    252.8,      251,   9.7676,  34.5432,2,     56.5,2,  34.5440,2,    56.95,2,    34.66,2,    31.81,2,     0.00,2,    2.290,2, -999.000,9, -999.000,9,   -999.0,9,   -999.0,9,-999.0000,9,  -999.00,  -999.00,9,  -999.00,9,   9.7387,2,  26.6394,2,   9.7678,2
49UP20150724_2,   P04,    25,  1,     27,     998,2,20150827,0200,0411,  9.4932, 154.1722, 5470,    334.0,      332,   8.5629,  34.5687,2,     67.5,2,  34.5679,2,    67.37,6,    39.93,6,    33.46,6,     0.00,6,    2.370,6, -999.000,9, -999.000,9,   -999.0,9,   -999.0,9,-999.0000,9,  -999.00,  -999.00,9,  -999.00,9,   8.5276,2,  26.8548,2,   8.5621,2
49UP20150724_2,   P04,    25,  1,     26,     084,2,20150827,0200,0408,  9.4932, 154.1722, 5470,    433.4,      431,   7.6422,  34.5532,2,     78.1,2,  34.5520,6,    77.78,2,    45.64,2,    34.34,2,     0.00,2,    2.440,2, -999.000,9, -999.000,9,   -999.0,9,   -999.0,9,-999.0000,9,  -999.00,  -999.00,9,  -999.00,9,   7.5991,2,  26.9819,2,   7.6418,2
49UP20150724_2,   P04,    25,  1,     25,     098,2,20150827,0200,0405,  9.4932, 154.1722, 5470,    534.1,      530,   6.8647,  34.5337,2,     72.1,2,  34.5332,2,    72.32,2,    54.93,2,    36.18,2,     0.00,2,    2.580,2, -999.000,9, -999.000,9,   -999.0,9,   -999.0,9,-999.0000,9,  -999.00,  -999.00,9,  -999.00,9,   6.8144,2,  27.0769,2,   6.8644,2
49UP20150724_2,   P04,    25,  1,     24,     110,2,20150827,0200,0403,  9.4932, 154.1722, 5470,    634.0,      629,   6.2981,  34.5245,2,     81.9,2,  34.5241,2,    81.80,2,    61.49,2,    36.24,2,     0.00,2,    2.580,2, -999.000,9, -999.000,9,   -999.0,9,   -999.0,9,-999.0000,9,  -999.00,  -999.00,9,  -999.00,9,   6.2406,2,  27.1460,2,   6.2982,2
49UP20150724_2,   P04,    25,  1,     23,     096,2,20150827,0200,0358,  9.4932, 154.1722, 5470,    735.6,      730,   5.8200,  34.5287,2,     79.4,2,  34.5284,2,    79.50,2,    69.12,2,    37.25,2,     0.00,2,    2.660,2, -999.000,9, -999.000,9,   -999.0,9,   -999.0,9,-999.0000,9,  -999.00,  -999.00,9,  -999.00,9,   5.7555,2,  27.2110,2,   5.8202,2
49UP20150724_2,   P04,    25,  1,     22,     111,2,20150827,0200,0355,  9.4932, 154.1722, 5470,    838.3,      832,   5.2309,  34.5360,2,     80.0,2,  34.5359,2,    80.14,2,    78.60,2,    38.01,2,     0.00,2,    2.710,2, -999.000,9, -999.000,9,   -999.0,9,   -999.0,9,-999.0000,9,  -999.00,  -999.00,9,  -999.00,9,   5.1605,2,  27.2887,2,   5.2302,2
49UP20150724_2,   P04,    25,  1,     21,     078,2,20150827,0200,0353,  9.4932, 154.1722, 5470,    938.1,      931,   4.7825,  34.5459,2,     80.0,2,  34.5460,2,    80.00,2,    87.19,2,    38.73,2,     0.00,2,    2.760,2, -999.000,9, -999.000,9,   -999.0,9,   -999.0,9,-999.0000,9,  -999.00,  -999.00,9,  -999.00,9,   4.7062,2,  27.3487,2,   4.7824,2
49UP20150724_2,   P04,    25,  1,     20,     093,2,20150827,0200,0349,  9.4932, 154.1722, 5470,   1080.8,     1072,   4.1174,  34.5593,2,     80.0,2,  34.5599,2,    80.59,6,   100.49,6,    39.33,6,     0.00,6,    2.810,6, -999.000,9, -999.000,9,   -999.0,9,   -999.0,9,-999.0000,9,  -999.00,  -999.00,9,  -999.00,9,   4.0339,2,  27.4320,2,   4.1178,2
49UP20150724_2,   P04,    25,  1,     19,     092,2,20150827,0200,0345,  9.4932, 154.1722, 5470,   1282.2,     1271,   3.4063,  34.5844,2,     89.1,2,  34.5842,2,    89.30,2,   114.09,2,    39.51,2,     0.00,2,    2.810,2, -999.000,9, -999.000,9,   -999.0,9,   -999.0,9,-999.0000,9,  -999.00,  -999.00,9,  -999.00,9,   3.3122,2,  27.5241,2,   3.4064,2
49UP20150724_2,   P04,    25,  1,     18,     101,2,20150827,0200,0339,  9.4932, 154.1722, 5470,   1484.7,     1471,   2.9363,  34.6003,2,     96.1,2,  34.5996,6,    96.15,2,   124.32,2,    39.19,2,     0.00,2,    2.780,2, -999.000,9, -999.000,9,   -999.0,9,   -999.0,9,-999.0000,9,  -999.00,  -999.00,9,  -999.00,9,   2.8304,2,  27.5814,2,   2.9364,2
49UP20150724_2,   P04,    25,  1,     17,     090,2,20150827,0200,0334,  9.4932, 154.1722, 5470,   1687.8,     1672,   2.6131,  34.6143,2,     99.9,2,  34.6134,2,    99.87,2,   131.48,2,    39.22,2,     0.00,2,    2.770,2, -999.000,9, -999.000,9,   -999.0,9,   -999.0,9,-999.0000,9,  -999.00,  -999.00,9,  -999.00,9,   2.4943,2,  27.6220,2,   2.6143,2
49UP20150724_2,   P04,    25,  1,     16,     089,2,20150827,0200,0329,  9.4932, 154.1722, 5470,   1890.6,     1871,   2.3423,  34.6279,2,    106.1,2,  34.6279,2,   106.21,2,   136.91,2,    38.95,2,     0.00,2,    2.740,2, -999.000,9, -999.000,9,   -999.0,9,   -999.0,9,-999.0000,9,  -999.00,  -999.00,9,  -999.00,9,   2.2101,2,  27.6566,2,   2.3427,2
49UP20150724_2,   P04,    25,  1,     15,     088,2,20150827,0200,0322,  9.4932, 154.1722, 5470,   2093.3,     2071,   2.1213,  34.6405,2,    111.0,2,  34.6400,2,   110.77,2,   141.39,2,    38.68,2,     0.00,2,    2.710,2, -999.000,9, -999.000,9,   -999.0,9,   -999.0,9,-999.0000,9,  -999.00,  -999.00,9,  -999.00,9,   1.9750,2,  27.6856,2,   2.1214,2
49UP20150724_2,   P04,    25,  1,     14,     999,2,20150827,0200,0318,  9.4932, 154.1722, 5470,   2295.7,     2270,   1.9666,  34.6500,2,    117.2,2,  34.6501,2,   117.20,2,   144.12,2,    38.41,2,     0.00,2,    2.690,2, -999.000,9, -999.000,9,   -999.0,9,   -999.0,9,-999.0000,9,  -999.00,  -999.00,9,  -999.00,9,   1.8053,2,  27.7065,2,   1.9668,2
49UP20150724_2,   P04,    25,  1,     13,     667,2,20150827,0200,0313,  9.4932, 154.1722, 5470,   2499.5,     2471,   1.8656,  34.6561,2,    121.9,2,  34.6557,2,   122.11,2,   145.55,2,    38.10,2,     0.00,2,    2.660,2, -999.000,9, -999.000,9,   -999.0,9,   -999.0,9,-999.0000,9,  -999.00,  -999.00,9,  -999.00,9,   1.6878,2,  27.7203,2,   1.8655,2
49UP20150724_2,   P04,    25,  1,     12,     074,2,20150827,0200,0307,  9.4932, 154.1722, 5470,   2701.7,     2669,   1.7757,  34.6615,2,    127.2,2,  34.6616,2,   127.11,2,   146.19,2,    37.79,2,     0.00,2,    2.640,2, -999.000,9, -999.000,9,   -999.0,9,   -999.0,9,-999.0000,9,  -999.00,  -999.00,9,  -999.00,9,   1.5812,2,  27.7325,2,   1.7757,2
49UP20150724_2,   P04,    25,  1,     11,     268,2,20150827,0200,0302,  9.4932, 154.1722, 5470,   2905.3,     2869,   1.7007,  34.6658,2,    132.3,2,  34.6659,2,   132.14,2,   146.30,2,    37.37,2,     0.00,2,    2.610,2, -999.000,9, -999.000,9,   -999.0,9,   -999.0,9,-999.0000,9,  -999.00,  -999.00,9,  -999.00,9,   1.4886,2,  27.7428,2,   1.7007,2
49UP20150724_2,   P04,    25,  1,     10,     267,2,20150827,0200,0257,  9.4932, 154.1722, 5470,   3122.8,     3082,   1.6348,  34.6707,2,    137.0,2,  34.6705,2,   137.27,2,   146.43,2,    37.01,2,     0.00,2,    2.580,2, -999.000,9, -999.000,9,   -999.0,9,   -999.0,9,-999.0000,9,  -999.00,  -999.00,9,  -999.00,9,   1.4032,2,  27.7529,2,   1.6349,2
49UP20150724_2,   P04,    25,  1,      9,     518,2,20150827,0200,0250,  9.4932, 154.1722, 5470,   3376.7,     3331,   1.5711,  34.6763,2,    143.2,2,  34.6761,2,   143.19,2,   145.53,2,    36.63,2,     0.00,2,    2.550,2, -999.000,9, -999.000,9,   -999.0,9,   -999.0,9,-999.0000,9,  -999.00,  -999.00,9,  -999.00,9,   1.3157,2,  27.7636,2,   1.5713,2
49UP20150724_2,   P04,    25,  1,      8,     081,2,20150827,0200,0244,  9.4932, 154.1722, 5470,   3631.9,     3581,   1.5301,  34.6804,2,    148.8,2,  34.6800,6,   148.73,2,   144.02,2,    36.28,2,     0.00,2,    2.510,2, -999.000,9, -999.000,9,   -999.0,9,   -999.0,9,-999.0000,9,  -999.00,  -999.00,9,  -999.00,9,   1.2496,2,  27.7715,2,   1.5302,2
49UP20150724_2,   P04,    25,  1,      7,     516,2,20150827,0200,0237,  9.4932, 154.1722, 5470,   3886.7,     3830,   1.4967,  34.6846,2,    155.1,2,  34.6839,2,   154.91,6,   141.50,6,    35.84,6,     0.00,6,    2.480,6, -999.000,9, -999.000,9,   -999.0,9,   -999.0,9,-999.0000,9,  -999.00,  -999.00,9,  -999.00,9,   1.1901,2,  27.7791,2,   1.4967,2
49UP20150724_2,   P04,    25,  1,      6,     113,2,20150827,0200,0231,  9.4932, 154.1722, 5470,   4143.9,     4081,   1.4811,  34.6879,2,    159.6,2,  34.6878,2,   160.05,2,   139.47,2,    35.51,2,     0.00,2,    2.460,2, -999.000,9, -999.000,9,   -999.0,9,   -999.0,9,-999.0000,9,  -999.00,  -999.00,9,  -999.00,9,   1.1470,2,  27.7847,2,   1.4813,2
49UP20150724_2,   P04,    25,  1,      5,     658,2,20150827,0200,0221,  9.4932, 154.1722, 5470,   4657.0,     4581,   1.4655,  34.6930,2,    167.9,2,  34.6926,2,   168.04,2,   135.42,2,    34.89,2,     0.00,2,    2.420,2, -999.000,9, -999.000,9,   -999.0,9,   -999.0,9,-999.0000,9,  -999.00,  -999.00,9,  -999.00,9,   1.0734,2,  27.7937,2,   1.4658,2
49UP20150724_2,   P04,    25,  1,      4,     471,2,20150827,0200,0216,  9.4932, 154.1722, 5470,   4912.1,     4829,   1.4700,  34.6948,2,    170.9,2,  34.6945,2,   171.14,2,   134.06,2,    34.64,2,     0.00,2,    2.390,2, -999.000,9, -999.000,9,   -999.0,9,   -999.0,9,-999.0000,9,  -999.00,  -999.00,9,  -999.00,9,   1.0474,2,  27.7969,2,   1.4702,2
49UP20150724_2,   P04,    25,  1,      3,     104,2,20150827,0200,0210,  9.4932, 154.1722, 5470,   5170.5,     5080,   1.4811,  34.6963,2,    173.4,2,  34.6958,2,   173.11,2,   133.12,2,    34.51,2,     0.00,2,    2.380,2, -999.000,9, -999.000,9,   -999.0,9,   -999.0,9,-999.0000,9,  -999.00,  -999.00,9,  -999.00,9,   1.0265,2,  27.7995,2,   1.4812,2
49UP20150724_2,   P04,    25,  1,      2,     075,2,20150827,0200,0205,  9.4932, 154.1722, 5470,   5428.7,     5331,   1.5068,  34.6967,2,    174.4,2,  34.6963,2,   174.54,2,   132.60,2,    34.39,2,     0.00,2,    2.370,2, -999.000,9, -999.000,9,   -999.0,9,   -999.0,9,-999.0000,9,  -999.00,  -999.00,9,  -999.00,9,   1.0190,2,  27.8004,2,   1.5066,2
49UP20150724_2,   P04,    25,  1,      1,     997,2,20150827,0200,0201,  9.4932, 154.1722, 5470,   5584.0,     5481,   1.5269,  34.6969,2,    174.5,2,  34.6972,2,   174.36,2,   132.77,2,    34.48,2,     0.00,2,    2.380,2, -999.000,9, -999.000,9,   -999.0,9,   -999.0,9,-999.0000,9,  -999.00,  -999.00,9,  -999.00,9,   1.0185,2,  27.8006,2,   1.5269,2