BOTTLE,20191113JMAGEMD
EXPOCODE,SECT_ID,STNNBR,CASTNO,SAMPNO,BTLNBR,BTLNBR_FLAG_U,DATE,TIME,BTL_TIME,LATITUDE,LONGITUDE,DEPTH,CTDPRS,CTDDEP,CTDTMP,CTDSAL,CTDSAL_FLAG_W,CTDOXY,CTDOXY_FLAG_W,SALNTY,SALNTY_FLAG_W,OXYGEN,OXYGEN_FLAG_W,SILCAT,SILCAT_FLAG_W,NO2+NO3,NO2+NO3_FLAG_W,NITRIT,NITRIT_FLAG_W,PHSPHT,PHSPHT_FLAG_W,CFC-11,CFC-11_FLAG_W,CFC-12,CFC-12_FLAG_W,TCARBN,TCARBN_FLAG_W,ALKALI,ALKALI_FLAG_W,PH_TS,PH_TS_FLAG_W,PH_TS_TMP,CHLORA,CHLORA_FLAG_W,PPHYTN,PPHYTN_FLAG_W,THETA,THETA_FLAG_W,SIGTHT,SIGTHT_FLAG_W,SBE35,SBE35_FLAG_W
,,,,,,,,UTC,,,,METER,DBAR,METERS,ITS-90,PSS-78,,UMOL/KG,,PSS78,,UMOL/KG,,UMOL/KG,,UMOL/KG,,UMOL/KG,,UMOL/KG,,PMOL/KG,,PMOL/KG,,UMOL/KG,,UMOL/KG,,,,ITS-90,UG/KG,,UG/KG,,ITS-90,,KG/M3,,ITS-90,
49UP20150724_2,   P04,    35,  1,      0,      -9,0,20150823,0459,0630,  9.4842, 162.4878, 4947,      0.0,        0,  29.3930,  33.6934,2,    196.7,2,  33.7133,2,   195.60,2,     1.05,2,     0.05,2,     0.00,2,    0.100,2, -999.000,9, -999.000,9,   1890.1,2,   2213.7,2,   8.1226,2,    25.00,     0.05,2,     0.02,2,  29.3924,2,  20.9523,2,-999.0000,9
49UP20150724_2,   P04,    35,  1,     36,     109,2,20150823,0459,0737,  9.4842, 162.4878, 4947,     10.7,       11,  29.3865,  33.7014,2,    196.9,2,  33.6985,2,   196.54,2,     1.05,2,     0.04,2,     0.00,2,    0.080,2,    1.206,3,    0.800,3,   1890.7,2,   2212.7,2,   8.1255,2,    25.00,     0.05,2,     0.02,2,  29.3839,2,  20.9612,2,  29.3830,2
49UP20150724_2,   P04,    35,  1,     35,     112,2,20150823,0459,0715,  9.4842, 162.4878, 4947,     54.1,       54,  27.5514,  34.6775,2,    209.8,2,  34.6625,2,   208.67,6,     1.12,6,     0.03,6,     0.00,6,    0.130,6, -999.000,9, -999.000,9,   1949.8,2,   2277.8,2,   8.1093,2,    25.00,     0.07,2,     0.03,2,  27.5388,2,  22.3019,2,  27.5553,2
49UP20150724_2,   P04,    35,  1,     34,     094,2,20150823,0459,0713,  9.4842, 162.4878, 4947,     78.7,       78,  24.2310,  34.9606,2,    206.0,2,  34.9859,4,   205.96,2,     1.75,2,     0.02,2,     0.00,2,    0.190,2,    1.595,3,    1.015,3,   2017.3,2,   2305.8,2,   8.0447,4,    25.00,  -999.00,9,  -999.00,9,  24.2143,2,  23.5479,2,  24.2589,2
49UP20150724_2,   P04,    35,  1,     33,     469,2,20150823,0459,0713,  9.4842, 162.4878, 4947,     81.4,       81,  23.4379,  35.0049,2,    206.0,2,  34.9895,2,   205.79,2,     1.86,2,     0.04,2,     0.00,2,    0.190,2,    1.558,3,    1.029,3,   2018.7,2,   2304.8,2,   8.0273,2,    25.00,     0.16,2,     0.12,2,  23.4211,2,  23.8152,2,  23.5341,2
49UP20150724_2,   P04,    35,  1,     32,     105,2,20150823,0459,0711,  9.4842, 162.4878, 4947,    100.7,      100,  18.6487,  34.8167,2,    163.9,2,  34.8168,6,   164.49,2,     5.83,2,     6.45,2,     0.28,2,    0.610,2, -999.000,9, -999.000,9,   2094.2,2,   2293.1,2,   7.8731,2,    25.00,     0.20,2,     0.33,2,  18.6310,2,  24.9745,2,  18.6443,2
49UP20150724_2,   P04,    35,  1,     31,     515,2,20150823,0459,0710,  9.4842, 162.4878, 4947,    126.1,      125,  15.5620,  34.5707,2,    144.5,2,  34.5763,2,   143.75,2,    10.65,2,    12.45,2,     0.06,2,    0.990,2, -999.000,9, -999.000,9,   2122.2,2,   2280.6,2,   7.7804,2,    25.00,     0.09,2,     0.21,2,  15.5426,2,  25.5207,2,  15.5706,2
49UP20150724_2,   P04,    35,  1,     30,     097,2,20150823,0459,0709,  9.4842, 162.4878, 4947,    152.2,      151,  14.0117,  34.4923,2,    126.7,2,  34.4956,2,   127.16,2,    14.57,2,    16.31,2,     0.02,2,    1.260,2, -999.000,9, -999.000,9,   2138.6,2,   2276.6,2,   7.7181,2,    25.00,     0.07,2,     0.18,2,  13.9898,2,  25.7968,2,  14.0046,2
49UP20150724_2,   P04,    35,  1,     29,     102,2,20150823,0459,0707,  9.4842, 162.4878, 4947,    203.8,      203,  11.0623,  34.3657,2,     97.8,2,  34.3692,2,    96.81,2,    25.72,2,    24.06,2,     0.00,2,    1.830,2, -999.000,9, -999.000,9,   2187.9,2,   2279.7,2,   7.5925,2,    25.00,     0.01,2,     0.03,2,  11.0373,2,  26.2748,2,  11.0635,2
49UP20150724_2,   P04,    35,  1,     28,     108,2,20150823,0459,0705,  9.4842, 162.4878, 4947,    255.4,      254,   9.9054,  34.5300,2,     54.1,2,  34.5299,2,    54.95,2,    33.42,2,    31.24,2,     0.00,2,    2.280,2, -999.000,9, -999.000,9,   2233.0,2,   2296.7,2,   7.5073,2,    25.00,  -999.00,9,  -999.00,9,   9.8760,2,  26.6060,2,   9.9056,2
49UP20150724_2,   P04,    35,  1,     27,     998,2,20150823,0459,0703,  9.4842, 162.4878, 4947,    303.6,      302,   9.3616,  34.5593,2,     49.4,2,  34.5592,2,    49.57,2,    36.70,2,    33.08,2,     0.00,2,    2.390,2, -999.000,9, -999.000,9,   2246.8,2,   2299.9,2,   7.4873,2,    25.00,  -999.00,9,  -999.00,9,   9.3278,2,  26.7200,2,   9.3603,2
49UP20150724_2,   P04,    35,  1,     26,     084,2,20150823,0459,0701,  9.4842, 162.4878, 4947,    405.2,      403,   8.0466,  34.5567,2,     62.9,2,  34.5569,2,    62.60,2,    44.22,2,    34.70,2,     0.00,2,    2.470,2, -999.000,9, -999.000,9,   2248.6,2,   2310.1,2,   7.4937,2,    25.00,  -999.00,9,  -999.00,9,   8.0052,2,  26.9249,2,   8.0468,2
49UP20150724_2,   P04,    35,  1,     25,     098,2,20150823,0459,0658,  9.4842, 162.4878, 4947,    507.3,      504,   7.3746,  34.5435,2,     66.8,2,  34.5441,2,    66.64,2,    49.83,2,    35.60,2,     0.00,2,    2.550,2, -999.000,9, -999.000,9,   2258.6,2,   2314.7,2,   7.4910,2,    25.00,  -999.00,9,  -999.00,9,   7.3250,2,  27.0136,2,   7.3754,2
49UP20150724_2,   P04,    35,  1,     24,     110,2,20150823,0459,0655,  9.4842, 162.4878, 4947,    605.7,      601,   6.5731,  34.5266,2,     65.1,2,  34.5268,2,    65.19,2,    59.75,2,    37.20,2,     0.00,2,    2.670,2, -999.000,9, -999.000,9,   2271.5,2,   2324.2,2,   7.4722,2,    25.00,  -999.00,9,  -999.00,9,   6.5171,2,  27.1113,2,   6.5726,2
49UP20150724_2,   P04,    35,  1,     23,     096,2,20150823,0459,0653,  9.4842, 162.4878, 4947,    705.8,      701,   5.9407,  34.5297,2,     63.9,2,  34.5301,2,    64.34,2,    68.45,2,    38.44,2,     0.00,2,    2.760,2, -999.000,9, -999.000,9,   2289.9,6,   2333.3,6,   7.4659,2,    25.00,  -999.00,9,  -999.00,9,   5.8783,2,  27.1964,2,   5.9399,2
49UP20150724_2,   P04,    35,  1,     22,     111,2,20150823,0459,0649,  9.4842, 162.4878, 4947,    806.5,      800,   5.3658,  34.5351,2,     66.8,2,  34.5353,2,    66.75,2,    77.46,2,    39.13,2,     0.00,2,    2.810,2, -999.000,9, -999.000,9,   2295.6,2,   2344.1,2,   7.4644,6,    25.00,  -999.00,9,  -999.00,9,   5.2975,2,  27.2718,2,   5.3658,2
49UP20150724_2,   P04,    35,  1,     21,     078,2,20150823,0459,0647,  9.4842, 162.4878, 4947,    908.1,      901,   4.8961,  34.5436,2,     72.6,2,  34.5440,2,    72.51,6,    85.19,6,    39.13,6,     0.00,6,    2.810,6, -999.000,9, -999.000,9,   2304.1,2,   2354.6,2,   7.4692,2,    25.00,  -999.00,9,  -999.00,9,   4.8217,2,  27.3339,2,   4.8953,2
49UP20150724_2,   P04,    35,  1,     20,     093,2,20150823,0459,0644,  9.4842, 162.4878, 4947,   1010.5,     1002,   4.4462,  34.5534,2,     77.8,2,  34.5532,6,    77.79,2,    93.74,2,    39.11,2,     0.00,2,    2.810,2, -999.000,9, -999.000,9,   2306.8,2,   2360.9,2,   7.4757,2,    25.00,  -999.00,9,  -999.00,9,   4.3661,2,  27.3921,2,   4.4461,2
49UP20150724_2,   P04,    35,  1,     19,     092,2,20150823,0459,0639,  9.4842, 162.4878, 4947,   1210.9,     1201,   3.7739,  34.5712,2,     83.5,2,  34.5714,2,    83.23,2,   107.32,2,    39.42,2,     0.00,2,    2.820,2, -999.000,9, -999.000,9,   2325.8,2,   2376.7,2,   7.4793,2,    25.00,  -999.00,9,  -999.00,9,   3.6823,2,  27.4774,2,   3.7738,2
49UP20150724_2,   P04,    35,  1,     18,     101,2,20150823,0459,0632,  9.4842, 162.4878, 4947,   1413.3,     1401,   3.1170,  34.5932,2,     90.3,2,  34.5936,2,    90.28,2,   120.56,2,    39.44,2,     0.00,2,    2.810,2, -999.000,9, -999.000,9,   2334.3,2,   2391.8,2,   7.4892,2,    25.00,  -999.00,9,  -999.00,9,   3.0150,2,  27.5590,2,   3.1169,2
49UP20150724_2,   P04,    35,  1,     17,     090,2,20150823,0459,0627,  9.4842, 162.4878, 4947,   1618.3,     1603,   2.7045,  34.6077,2,     93.3,2,  34.6079,2,    93.22,2,   131.08,2,    39.57,2,     0.00,2,    2.810,2, -999.000,9, -999.000,9,   2339.6,2,   2399.9,2,   7.4862,3,    25.00,  -999.00,9,  -999.00,9,   2.5902,2,  27.6084,2,   2.7039,2
49UP20150724_2,   P04,    35,  1,     16,     089,2,20150823,0459,0622,  9.4842, 162.4878, 4947,   1820.5,     1802,   2.4175,  34.6221,2,    100.0,2,  34.6228,2,    99.98,2,   136.93,2,    39.16,2,     0.00,2,    2.780,2, -999.000,9, -999.000,9,   2344.6,2,   2408.2,2,   7.4994,2,    25.00,  -999.00,9,  -999.00,9,   2.2901,2,  27.6454,2,   2.4173,2
49UP20150724_2,   P04,    35,  1,     15,     088,2,20150823,0459,0616,  9.4842, 162.4878, 4947,   2022.1,     2001,   2.1431,  34.6380,2,    107.8,2,  34.6381,2,   107.78,2,   142.48,2,    38.84,2,     0.00,2,    2.750,2, -999.000,9, -999.000,9,   2347.1,2,   2414.7,2,   7.5097,2,    25.00,  -999.00,9,  -999.00,9,   2.0026,2,  27.6815,2,   2.1429,2
49UP20150724_2,   P04,    35,  1,     14,     999,2,20150823,0459,0610,  9.4842, 162.4878, 4947,   2226.8,     2203,   1.9977,  34.6479,2,    113.4,2,  34.6477,2,   113.60,2,   144.98,2,    38.47,2,     0.00,2,    2.710,2, -999.000,9, -999.000,9,   2351.0,2,   2417.2,6,   7.5208,2,    25.00,  -999.00,9,  -999.00,9,   1.8419,2,  27.7019,2,   1.9978,2
49UP20150724_2,   P04,    35,  1,     13,     667,2,20150823,0459,0606,  9.4842, 162.4878, 4947,   2428.1,     2401,   1.8616,  34.6569,2,    119.8,2,  34.6570,2,   119.98,2,   146.74,2,    38.11,2,     0.00,2,    2.680,2, -999.000,9, -999.000,9,   2343.9,2,   2418.6,2,   7.5354,6,    25.00,  -999.00,9,  -999.00,9,   1.6903,2,  27.7208,2,   1.8614,2
49UP20150724_2,   P04,    35,  1,     12,     074,2,20150823,0459,0559,  9.4842, 162.4878, 4947,   2633.7,     2603,   1.7710,  34.6625,2,    124.6,2,  34.6628,6,   124.31,2,   147.71,2,    37.78,2,     0.00,2,    2.650,2, -999.000,9, -999.000,9,   2351.4,3,   2419.3,2,   7.5428,2,    25.00,  -999.00,9,  -999.00,9,   1.5828,2,  27.7333,2,   1.7712,2
49UP20150724_2,   P04,    35,  1,     11,     268,2,20150823,0459,0554,  9.4842, 162.4878, 4947,   2836.4,     2802,   1.7077,  34.6665,2,    129.4,2,  34.6671,2,   129.11,6,   147.64,6,    37.49,6,     0.00,6,    2.620,6, -999.000,9, -999.000,9,   2342.2,2,   2419.8,2,   7.5502,2,    25.00,  -999.00,9,  -999.00,9,   1.5019,2,  27.7424,2,   1.7076,2
49UP20150724_2,   P04,    35,  1,     10,     267,2,20150823,0459,0549,  9.4842, 162.4878, 4947,   3042.3,     3003,   1.6438,  34.6710,2,    134.6,2,  34.6716,2,   134.66,2,   147.76,2,    37.17,2,     0.00,2,    2.600,2, -999.000,9, -999.000,9,   2337.6,2,   2419.5,2,   7.5553,2,    25.00,  -999.00,9,  -999.00,9,   1.4198,2,  27.7519,2,   1.6440,2
49UP20150724_2,   P04,    35,  1,      9,     518,2,20150823,0459,0542,  9.4842, 162.4878, 4947,   3295.9,     3252,   1.5835,  34.6758,2,    140.5,2,  34.6765,2,   140.75,2,   147.07,2,    36.75,2,     0.00,2,    2.560,2, -999.000,9, -999.000,9,   2338.3,2,   2420.9,2,   7.5599,2,    25.00,  -999.00,9,  -999.00,9,   1.3360,2,  27.7618,2,   1.5837,2
49UP20150724_2,   P04,    35,  1,      8,     081,2,20150823,0459,0535,  9.4842, 162.4878, 4947,   3552.8,     3503,   1.5184,  34.6810,2,    148.3,2,  34.6813,2,   147.93,2,   144.82,2,    36.26,2,     0.00,2,    2.520,2, -999.000,9, -999.000,9,   2325.3,3,   2416.7,2,   7.5732,2,    25.00,  -999.00,9,  -999.00,9,   1.2464,2,  27.7723,2,   1.5186,2
49UP20150724_2,   P04,    35,  1,      7,     516,2,20150823,0459,0528,  9.4842, 162.4878, 4947,   3802.6,     3748,   1.4673,  34.6857,2,    155.9,2,  34.6859,2,   155.94,2,   141.91,2,    35.67,2,     0.00,2,    2.490,2, -999.000,9, -999.000,9,   2324.9,6,   2412.5,6,   7.5813,2,    25.00,  -999.00,9,  -999.00,9,   1.1705,2,  27.7813,2,   1.4672,2
49UP20150724_2,   P04,    35,  1,      6,     113,2,20150823,0459,0523,  9.4842, 162.4878, 4947,   4062.0,     4001,   1.4384,  34.6897,2,    162.3,2,  34.6903,2,   162.61,2,   138.88,2,    35.26,2,     0.00,2,    2.460,2,    0.001,3,    0.000,3,   2318.7,2,   2407.7,2,   7.5896,6,    25.00,  -999.00,9,  -999.00,9,   1.1144,2,  27.7883,2,   1.4386,2
49UP20150724_2,   P04,    35,  1,      5,     658,2,20150823,0459,0517,  9.4842, 162.4878, 4947,   4316.6,     4249,   1.4078,  34.6939,2,    170.1,2,  34.6953,2,   170.24,2,   134.45,2,    34.66,2,     0.00,2,    2.410,2,    0.000,3,    0.000,3,   2306.9,2,   2404.8,2,   7.5987,2,    25.00,  -999.00,9,  -999.00,9,   1.0565,2,  27.7956,2,   1.4079,2
49UP20150724_2,   P04,    35,  1,      4,     471,2,20150823,0459,0517,  9.4842, 162.4878, 4947,   4317.5,     4250,   1.4080,  34.6937,2,    170.1,2,  34.6949,2,   170.10,2,   134.20,2,    34.63,2,     0.00,2,    2.410,2,    0.003,3,    0.000,3,   2308.1,2,   2404.7,2,   7.5971,2,    25.00,  -999.00,9,  -999.00,9,   1.0566,2,  27.7954,2,   1.4080,2
49UP20150724_2,   P04,    35,  1,      3,     104,2,20150823,0459,0511,  9.4842, 162.4878, 4947,   4573.0,     4499,   1.3895,  34.6970,2,    176.1,2,  34.6974,6,   176.03,2,   131.27,2,    34.22,2,     0.00,2,    2.380,2,    0.000,3,    0.000,3,   2297.7,2,   2398.7,2,   7.6070,2,    25.00,  -999.00,9,  -999.00,9,   1.0094,2,  27.8013,2,   1.3895,2
49UP20150724_2,   P04,    35,  1,      2,     075,2,20150823,0459,0506,  9.4842, 162.4878, 4947,   4830.1,     4749,   1.3820,  34.6993,2,    180.5,2,  34.6998,2,   180.68,2,   128.54,2,    33.92,2,     0.00,2,    2.360,2,    0.004,3,    0.000,3,   2299.5,2,   2396.0,2,   7.6109,2,    25.00,  -999.00,9,  -999.00,9,   0.9720,2,  27.8056,2,   1.3819,2
49UP20150724_2,   P04,    35,  1,      1,     997,2,20150823,0459,0501,  9.4842, 162.4878, 4947,   5046.6,     4960,   1.3874,  34.7007,2,    183.1,2,  34.7013,2,   183.07,6,   127.58,6,    33.69,6,     0.00,6,    2.340,6,    0.000,3,    0.000,3,   2290.0,2,   2393.0,2,   7.6092,2,    25.00,  -999.00,9,  -999.00,9,   0.9513,2,  27.8080,2,   1.3874,2