BOTTLE,20191113JMAGEMD
EXPOCODE,SECT_ID,STNNBR,CASTNO,SAMPNO,BTLNBR,BTLNBR_FLAG_U,DATE,TIME,BTL_TIME,LATITUDE,LONGITUDE,DEPTH,CTDPRS,CTDDEP,CTDTMP,CTDSAL,CTDSAL_FLAG_W,CTDOXY,CTDOXY_FLAG_W,SALNTY,SALNTY_FLAG_W,OXYGEN,OXYGEN_FLAG_W,SILCAT,SILCAT_FLAG_W,NO2+NO3,NO2+NO3_FLAG_W,NITRIT,NITRIT_FLAG_W,PHSPHT,PHSPHT_FLAG_W,CFC-11,CFC-11_FLAG_W,CFC-12,CFC-12_FLAG_W,TCARBN,TCARBN_FLAG_W,ALKALI,ALKALI_FLAG_W,PH_TS,PH_TS_FLAG_W,PH_TS_TMP,CHLORA,CHLORA_FLAG_W,PPHYTN,PPHYTN_FLAG_W,THETA,THETA_FLAG_W,SIGTHT,SIGTHT_FLAG_W,SBE35,SBE35_FLAG_W
,,,,,,,,UTC,,,,METER,DBAR,METERS,ITS-90,PSS-78,,UMOL/KG,,PSS78,,UMOL/KG,,UMOL/KG,,UMOL/KG,,UMOL/KG,,UMOL/KG,,PMOL/KG,,PMOL/KG,,UMOL/KG,,UMOL/KG,,,,ITS-90,UG/KG,,UG/KG,,ITS-90,,KG/M3,,ITS-90,
49UP20150724_1,   P04,    43,  1,      0,      -9,0,20150810,1052,1250,  6.0183, 165.0157, 4991,      0.0,        0,  29.0756,  33.5820,2,    197.6,2,-999.0000,9,   197.58,2,     0.95,2,     0.03,2,     0.00,2,    0.070,2, -999.000,9, -999.000,9,   -999.0,9,   -999.0,9,-999.0000,9,  -999.00,  -999.00,9,  -999.00,9,  29.0751,2,  20.9748,2,-999.0000,9
49UP20150724_1,   P04,    43,  1,     36,     109,2,20150810,1052,1314,  6.0183, 165.0157, 4991,     10.6,       11,  29.2246,  33.9401,2,    197.1,2,  33.9370,2,   196.15,2,     1.03,2,     0.06,2,     0.00,2,    0.070,2, -999.000,9, -999.000,9,   -999.0,9,   -999.0,9,-999.0000,9,  -999.00,  -999.00,9,  -999.00,9,  29.2220,2,  21.1944,2,  29.2222,2
49UP20150724_1,   P04,    43,  1,     35,     112,2,20150810,1052,1313,  6.0183, 165.0157, 4991,     26.1,       26,  29.0927,  34.0573,2,    198.3,2,  34.0910,4,   198.50,2,     1.10,2,     0.02,2,     0.00,2,    0.070,2, -999.000,9, -999.000,9,   -999.0,9,   -999.0,9,-999.0000,9,  -999.00,  -999.00,9,  -999.00,9,  29.0864,2,  21.3276,2,  29.0880,2
49UP20150724_1,   P04,    43,  1,     34,     083,2,20150810,1052,1309,  6.0183, 165.0157, 4991,     50.8,       51,  24.4692,  34.9048,2,    194.6,2,  34.9041,2,   194.40,2,     1.92,2,     0.01,2,     0.00,2,    0.170,2, -999.000,9, -999.000,9,   -999.0,9,   -999.0,9,-999.0000,9,  -999.00,  -999.00,9,  -999.00,9,  24.4583,2,  23.4327,2,  24.4827,2
49UP20150724_1,   P04,    43,  1,     33,     469,2,20150810,1052,1307,  6.0183, 165.0157, 4991,     76.7,       76,  21.6693,  34.9797,2,    168.8,2,  34.9803,6,   169.47,2,     4.02,2,     3.20,2,     0.19,2,    0.390,2, -999.000,9, -999.000,9,   -999.0,9,   -999.0,9,-999.0000,9,  -999.00,  -999.00,9,  -999.00,9,  21.6543,2,  24.2988,2,  21.6701,2
49UP20150724_1,   P04,    43,  1,     32,     105,2,20150810,1052,1306,  6.0183, 165.0157, 4991,    100.2,      100,  18.9517,  34.8709,2,    152.1,2,  34.8757,2,   151.95,6,     7.52,6,     8.67,6,     0.03,6,    0.710,6, -999.000,9, -999.000,9,   -999.0,9,   -999.0,9,-999.0000,9,  -999.00,  -999.00,9,  -999.00,9,  18.9339,2,  24.9393,2,  18.9593,2
49UP20150724_1,   P04,    43,  1,     31,     515,2,20150810,1052,1304,  6.0183, 165.0157, 4991,    125.7,      125,  16.1636,  34.6665,2,    128.4,2,  34.6598,2,   127.24,2,    13.37,2,    14.79,2,     0.01,2,    1.130,2, -999.000,9, -999.000,9,   -999.0,9,   -999.0,9,-999.0000,9,  -999.00,  -999.00,9,  -999.00,9,  16.1436,2,  25.4581,2,  16.1575,2
49UP20150724_1,   P04,    43,  1,     30,     097,2,20150810,1052,1303,  6.0183, 165.0157, 4991,    152.2,      151,  13.1739,  34.5592,2,    101.1,2,  34.5586,2,   101.40,2,    21.15,2,    21.36,2,     0.01,2,    1.590,2, -999.000,9, -999.000,9,   -999.0,9,   -999.0,9,-999.0000,9,  -999.00,  -999.00,9,  -999.00,9,  13.1529,2,  26.0207,2,  13.1727,2
49UP20150724_1,   P04,    43,  1,     29,     102,2,20150810,1052,1301,  6.0183, 165.0157, 4991,    202.2,      201,  10.9479,  34.5665,2,     52.6,2,  34.5655,2,    54.16,2,    29.65,2,    29.70,2,     0.00,2,    2.180,2, -999.000,9, -999.000,9,   -999.0,9,   -999.0,9,-999.0000,9,  -999.00,  -999.00,9,  -999.00,9,  10.9232,2,  26.4518,2,  10.9477,2
49UP20150724_1,   P04,    43,  1,     28,     108,2,20150810,1052,1259,  6.0183, 165.0157, 4991,    251.9,      250,  10.1348,  34.6144,2,     40.1,2,  34.6139,2,    40.13,2,    32.90,2,    32.79,2,     0.00,2,    2.370,2, -999.000,9, -999.000,9,   -999.0,9,   -999.0,9,-999.0000,9,  -999.00,  -999.00,9,  -999.00,9,  10.1054,2,  26.6328,2,  10.1326,2
49UP20150724_1,   P04,    43,  1,     27,     998,2,20150810,1052,1257,  6.0183, 165.0157, 4991,    281.7,      280,   9.7973,  34.6287,2,     38.1,2,  34.6285,2,    38.51,2,    33.98,2,    33.63,2,     0.00,2,    2.420,2, -999.000,9, -999.000,9,   -999.0,9,   -999.0,9,-999.0000,9,  -999.00,  -999.00,9,  -999.00,9,   9.7651,2,  26.7018,2,   9.7969,2
49UP20150724_1,   P04,    43,  1,     26,     084,2,20150810,1052,1255,  6.0183, 165.0157, 4991,    369.5,      367,   8.9399,  34.6185,2,     50.8,2,  34.6168,6,    51.29,2,    37.14,2,    34.36,2,     0.00,2,    2.450,2, -999.000,9, -999.000,9,   -999.0,9,   -999.0,9,-999.0000,9,  -999.00,  -999.00,9,  -999.00,9,   8.8998,2,  26.8354,2,   8.9406,2
49UP20150724_1,   P04,    43,  1,     25,     098,2,20150810,1052,1252,  6.0183, 165.0157, 4991,    472.1,      469,   8.1188,  34.5899,2,     54.3,2,  34.5882,2,    54.13,6,    42.11,6,    35.64,6,     0.00,6,    2.550,6, -999.000,9, -999.000,9,   -999.0,9,   -999.0,9,-999.0000,9,  -999.00,  -999.00,9,  -999.00,9,   8.0701,2,  26.9412,2,   8.1208,2
49UP20150724_1,   P04,    43,  1,     24,     110,2,20150810,1052,1249,  6.0183, 165.0157, 4991,    577.4,      573,   7.2046,  34.5618,2,     49.3,2,  34.5591,4,    49.54,2,    51.95,2,    37.95,2,     0.00,2,    2.740,2, -999.000,9, -999.000,9,   -999.0,9,   -999.0,9,-999.0000,9,  -999.00,  -999.00,9,  -999.00,9,   7.1486,2,  27.0529,2,   7.2020,2
49UP20150724_1,   P04,    43,  1,     23,     096,2,20150810,1052,1247,  6.0183, 165.0157, 4991,    677.0,      672,   6.4377,  34.5473,2,     47.7,2,  34.5470,2,    47.20,2,    60.53,2,    39.56,2,     0.00,2,    2.860,2, -999.000,9, -999.000,9,   -999.0,9,   -999.0,9,-999.0000,9,  -999.00,  -999.00,9,  -999.00,9,   6.3754,2,  27.1464,2,   6.4378,2
49UP20150724_1,   P04,    43,  1,     22,     111,2,20150810,1052,1243,  6.0183, 165.0157, 4991,    775.3,      770,   5.5903,  34.5446,2,     51.3,2,  34.5445,2,    51.22,2,    72.73,2,    40.84,2,     0.00,2,    2.930,2, -999.000,9, -999.000,9,   -999.0,9,   -999.0,9,-999.0000,9,  -999.00,  -999.00,9,  -999.00,9,   5.5234,2,  27.2521,2,   5.5898,2
49UP20150724_1,   P04,    43,  1,     21,     078,2,20150810,1052,1240,  6.0183, 165.0157, 4991,    876.9,      870,   5.0048,  34.5447,2,     71.5,2,  34.5443,2,    71.42,2,    81.98,2,    39.29,2,     0.00,2,    2.820,2, -999.000,9, -999.000,9,   -999.0,9,   -999.0,9,-999.0000,9,  -999.00,  -999.00,9,  -999.00,9,   4.9324,2,  27.3221,2,   5.0042,2
49UP20150724_1,   P04,    43,  1,     20,     093,2,20150810,1052,1238,  6.0183, 165.0157, 4991,    979.0,      971,   4.5458,  34.5554,2,     71.1,2,  34.5572,4,    71.02,2,    89.79,2,    40.14,2,     0.00,2,    2.880,2, -999.000,9, -999.000,9,   -999.0,9,   -999.0,9,-999.0000,9,  -999.00,  -999.00,9,  -999.00,9,   4.4676,2,  27.3827,2,   4.5453,2
49UP20150724_1,   P04,    43,  1,     19,     092,2,20150810,1052,1233,  6.0183, 165.0157, 4991,   1140.4,     1131,   3.9569,  34.5693,2,     78.9,2,  34.5690,6,    78.64,2,   101.68,2,    39.89,2,     0.00,2,    2.860,2, -999.000,9, -999.000,9,   -999.0,9,   -999.0,9,-999.0000,9,  -999.00,  -999.00,9,  -999.00,9,   3.8697,2,  27.4569,2,   3.9567,2
49UP20150724_1,   P04,    43,  1,     18,     101,2,20150810,1052,1229,  6.0183, 165.0157, 4991,   1341.7,     1330,   3.4097,  34.5869,2,     83.7,2,  34.5867,2,    83.85,6,   113.34,6,    39.94,6,     0.00,6,    2.870,6, -999.000,9, -999.000,9,   -999.0,9,   -999.0,9,-999.0000,9,  -999.00,  -999.00,9,  -999.00,9,   3.3106,2,  27.5262,2,   3.4096,2
49UP20150724_1,   P04,    43,  1,     17,     090,2,20150810,1052,1223,  6.0183, 165.0157, 4991,   1545.7,     1531,   2.9363,  34.6033,2,     91.0,2,  34.6030,2,    91.12,2,   123.96,2,    39.62,2,     0.00,2,    2.830,2, -999.000,9, -999.000,9,   -999.0,9,   -999.0,9,-999.0000,9,  -999.00,  -999.00,9,  -999.00,9,   2.8253,2,  27.5842,2,   2.9365,2
49UP20150724_1,   P04,    43,  1,     16,     089,2,20150810,1052,1218,  6.0183, 165.0157, 4991,   1748.3,     1731,   2.5498,  34.6199,2,    100.0,2,  34.6202,2,   100.27,2,   131.81,2,    39.11,2,     0.00,2,    2.780,2, -999.000,9, -999.000,9,   -999.0,9,   -999.0,9,-999.0000,9,  -999.00,  -999.00,9,  -999.00,9,   2.4267,2,  27.6322,2,   2.5506,2
49UP20150724_1,   P04,    43,  1,     15,     088,2,20150810,1052,1214,  6.0183, 165.0157, 4991,   1950.7,     1931,   2.2514,  34.6352,2,    104.5,2,  34.6353,2,   104.44,2,   139.33,2,    38.99,2,     0.00,2,    2.760,2, -999.000,9, -999.000,9,   -999.0,9,   -999.0,9,-999.0000,9,  -999.00,  -999.00,9,  -999.00,9,   2.1154,2,  27.6702,2,   2.2518,2
49UP20150724_1,   P04,    43,  1,     14,     999,2,20150810,1052,1207,  6.0183, 165.0157, 4991,   2153.6,     2131,   2.0639,  34.6468,2,    110.0,2,  34.6468,2,   109.79,2,   144.20,2,    38.73,2,     0.00,2,    2.730,2, -999.000,9, -999.000,9,   -999.0,9,   -999.0,9,-999.0000,9,  -999.00,  -999.00,9,  -999.00,9,   1.9133,2,  27.6955,2,   2.0640,2
49UP20150724_1,   P04,    43,  1,     13,     667,2,20150810,1052,1202,  6.0183, 165.0157, 4991,   2357.4,     2331,   1.9059,  34.6561,2,    116.9,2,  34.6559,2,   116.82,2,   145.96,2,    38.26,2,     0.00,2,    2.700,2, -999.000,9, -999.000,9,   -999.0,9,   -999.0,9,-999.0000,9,  -999.00,  -999.00,9,  -999.00,9,   1.7401,2,  27.7163,2,   1.9059,2
49UP20150724_1,   P04,    43,  1,     12,     074,2,20150810,1052,1158,  6.0183, 165.0157, 4991,   2562.0,     2532,   1.8114,  34.6616,2,    122.4,2,  34.6611,2,   122.37,2,   146.84,2,    37.91,2,     0.00,2,    2.660,2, -999.000,9, -999.000,9,   -999.0,9,   -999.0,9,-999.0000,9,  -999.00,  -999.00,9,  -999.00,9,   1.6290,2,  27.7291,2,   1.8113,2
49UP20150724_1,   P04,    43,  1,     11,     268,2,20150810,1052,1152,  6.0183, 165.0157, 4991,   2764.6,     2731,   1.7234,  34.6664,2,    128.8,2,  34.6662,2,   128.96,2,   146.41,2,    37.46,2,     0.00,2,    2.630,2, -999.000,9, -999.000,9,   -999.0,9,   -999.0,9,-999.0000,9,  -999.00,  -999.00,9,  -999.00,9,   1.5241,2,  27.7407,2,   1.7234,2
49UP20150724_1,   P04,    43,  1,     10,     267,2,20150810,1052,1147,  6.0183, 165.0157, 4991,   2969.5,     2932,   1.6505,  34.6710,2,    134.3,2,  34.6706,2,   134.59,2,   146.46,2,    37.11,2,     0.00,2,    2.600,2, -999.000,9, -999.000,9,   -999.0,9,   -999.0,9,-999.0000,9,  -999.00,  -999.00,9,  -999.00,9,   1.4333,2,  27.7510,2,   1.6503,2
49UP20150724_1,   P04,    43,  1,      9,     518,2,20150810,1052,1139,  6.0183, 165.0157, 4991,   3213.4,     3171,   1.5811,  34.6757,2,    141.4,2,  34.6755,2,   141.22,2,   145.94,2,    36.63,2,     0.00,2,    2.560,2, -999.000,9, -999.000,9,   -999.0,9,   -999.0,9,-999.0000,9,  -999.00,  -999.00,9,  -999.00,9,   1.3418,2,  27.7613,2,   1.5813,2
49UP20150724_1,   P04,    43,  1,      8,     081,2,20150810,1052,1133,  6.0183, 165.0157, 4991,   3468.8,     3421,   1.5207,  34.6807,2,    148.3,2,  34.6805,2,   148.18,2,   143.26,2,    36.20,2,     0.00,2,    2.520,2, -999.000,9, -999.000,9,   -999.0,9,   -999.0,9,-999.0000,9,  -999.00,  -999.00,9,  -999.00,9,   1.2573,2,  27.7713,2,   1.5208,2
49UP20150724_1,   P04,    43,  1,      7,     516,2,20150810,1052,1128,  6.0183, 165.0157, 4991,   3721.9,     3669,   1.4748,  34.6854,2,    154.8,2,  34.6851,2,   154.55,2,   141.47,3,    35.74,2,     0.00,2,    2.490,2, -999.000,9, -999.000,9,   -999.0,9,   -999.0,9,-999.0000,9,  -999.00,  -999.00,9,  -999.00,9,   1.1863,2,  27.7799,2,   1.4750,2
49UP20150724_1,   P04,    43,  1,      6,     113,2,20150810,1052,1120,  6.0183, 165.0157, 4991,   3980.1,     3921,   1.4475,  34.6892,2,    161.2,2,  34.6889,2,   161.25,2,   138.82,2,    35.23,2,     0.00,2,    2.450,2, -999.000,9, -999.000,9,   -999.0,9,   -999.0,9,-999.0000,9,  -999.00,  -999.00,9,  -999.00,9,   1.1322,2,  27.7867,2,   1.4476,2
49UP20150724_1,   P04,    43,  1,      5,     094,2,20150810,1052,1114,  6.0183, 165.0157, 4991,   4236.2,     4171,   1.4208,  34.6931,2,    168.0,2,  34.6928,2,   167.87,2,   135.14,2,    34.78,2,     0.00,2,    2.420,2, -999.000,9, -999.000,9,   -999.0,9,   -999.0,9,-999.0000,9,  -999.00,  -999.00,9,  -999.00,9,   1.0781,2,  27.7935,2,   1.4210,2
49UP20150724_1,   P04,    43,  1,      4,     471,2,20150810,1052,1107,  6.0183, 165.0157, 4991,   4493.3,     4422,   1.4092,  34.6957,2,    172.7,2,  34.6956,2,   172.66,2,   132.63,2,    34.40,2,     0.00,2,    2.390,2, -999.000,9, -999.000,9,   -999.0,9,   -999.0,9,-999.0000,9,  -999.00,  -999.00,9,  -999.00,9,   1.0378,2,  27.7983,2,   1.4094,2
49UP20150724_1,   P04,    43,  1,      3,     104,2,20150810,1052,1101,  6.0183, 165.0157, 4991,   4748.7,     4670,   1.3957,  34.6981,2,    177.9,2,  34.6992,2,   177.59,2,   130.17,2,    34.03,2,     0.00,2,    2.360,2, -999.000,9, -999.000,9,   -999.0,9,   -999.0,9,-999.0000,9,  -999.00,  -999.00,9,  -999.00,9,   0.9950,2,  27.8031,2,   1.3956,2
49UP20150724_1,   P04,    43,  1,      2,     075,2,20150810,1052,1054,  6.0183, 165.0157, 4991,   5006.9,     4921,   1.3837,  34.7006,2,    182.8,2,  34.7004,6,   182.76,2,   127.42,2,    33.65,2,     0.00,2,    2.330,2, -999.000,9, -999.000,9,   -999.0,9,   -999.0,9,-999.0000,9,  -999.00,  -999.00,9,  -999.00,9,   0.9524,2,  27.8079,2,   1.3835,2
49UP20150724_1,   P04,    43,  1,      1,     997,2,20150810,1052,1052,  6.0183, 165.0157, 4991,   5073.8,     4986,   1.3850,  34.7012,2,    183.6,2,  34.7010,2,   183.23,6,   127.43,6,    33.63,6,     0.00,6,    2.330,6, -999.000,9, -999.000,9,   -999.0,9,   -999.0,9,-999.0000,9,  -999.00,  -999.00,9,  -999.00,9,   0.9456,2,  27.8089,2,   1.3848,2