BOTTLE,20191113JMAGEMD
EXPOCODE,SECT_ID,STNNBR,CASTNO,SAMPNO,BTLNBR,BTLNBR_FLAG_U,DATE,TIME,BTL_TIME,LATITUDE,LONGITUDE,DEPTH,CTDPRS,CTDDEP,CTDTMP,CTDSAL,CTDSAL_FLAG_W,CTDOXY,CTDOXY_FLAG_W,SALNTY,SALNTY_FLAG_W,OXYGEN,OXYGEN_FLAG_W,SILCAT,SILCAT_FLAG_W,NO2+NO3,NO2+NO3_FLAG_W,NITRIT,NITRIT_FLAG_W,PHSPHT,PHSPHT_FLAG_W,CFC-11,CFC-11_FLAG_W,CFC-12,CFC-12_FLAG_W,TCARBN,TCARBN_FLAG_W,ALKALI,ALKALI_FLAG_W,PH_TS,PH_TS_FLAG_W,PH_TS_TMP,CHLORA,CHLORA_FLAG_W,PPHYTN,PPHYTN_FLAG_W,THETA,THETA_FLAG_W,SIGTHT,SIGTHT_FLAG_W,SBE35,SBE35_FLAG_W
,,,,,,,,UTC,,,,METER,DBAR,METERS,ITS-90,PSS-78,,UMOL/KG,,PSS78,,UMOL/KG,,UMOL/KG,,UMOL/KG,,UMOL/KG,,UMOL/KG,,PMOL/KG,,PMOL/KG,,UMOL/KG,,UMOL/KG,,,,ITS-90,UG/KG,,UG/KG,,ITS-90,,KG/M3,,ITS-90,
49UP20150724_2,   P04,     2,  1,      0,      -9,0,20150903,1350,1430,  9.0058, 137.8183, 1919,      0.0,        0,  29.1746,  33.9888,2,    196.8,2,-999.0000,9,   196.53,2,     0.94,2,     0.03,2,     0.00,2,    0.050,2, -999.000,9, -999.000,9,   -999.0,9,   -999.0,9,-999.0000,9,  -999.00,  -999.00,9,  -999.00,9,  29.1740,2,  21.2470,2,-999.0000,9
49UP20150724_2,   P04,     2,  1,     33,     469,2,20150903,1350,1451,  9.0058, 137.8183, 1919,     10.6,       11,  29.1814,  33.9886,2,    196.6,2,  33.9902,6,   196.22,2,     0.92,2,     0.03,2,     0.00,2,    0.040,2, -999.000,9, -999.000,9,   -999.0,9,   -999.0,9,-999.0000,9,  -999.00,  -999.00,9,  -999.00,9,  29.1788,2,  21.2452,2,  29.1801,2
49UP20150724_2,   P04,     2,  1,     32,     105,2,20150903,1350,1449,  9.0058, 137.8183, 1919,     25.7,       26,  29.0990,  34.0054,2,    197.1,2,  34.0183,2,   197.28,6,     0.93,6,     0.03,6,     0.00,6,    0.040,6, -999.000,9, -999.000,9,   -999.0,9,   -999.0,9,-999.0000,9,  -999.00,  -999.00,9,  -999.00,9,  29.0928,2,  21.2866,2,  29.0948,2
49UP20150724_2,   P04,     2,  1,     30,     097,2,20150903,1350,1446,  9.0058, 137.8183, 1919,     50.8,       51,  28.2841,  34.3198,2,    200.0,2,  34.4800,4,   201.13,2,     1.29,2,     0.02,2,     0.00,2,    0.080,2, -999.000,9, -999.000,9,   -999.0,9,   -999.0,9,-999.0000,9,  -999.00,  -999.00,9,  -999.00,9,  28.2720,2,  21.7942,2,  28.2837,2
49UP20150724_2,   P04,     2,  1,     31,     515,2,20150903,1350,1446,  9.0058, 137.8183, 1919,     50.9,       51,  28.2529,  34.3282,2,    200.4,2,  34.4243,4,   201.11,2,     1.27,2,     0.02,2,     0.00,2,    0.070,2, -999.000,9, -999.000,9,   -999.0,9,   -999.0,9,-999.0000,9,  -999.00,  -999.00,9,  -999.00,9,  28.2409,2,  21.8108,2,  28.2480,2
49UP20150724_2,   P04,     2,  1,     29,     102,2,20150903,1350,1444,  9.0058, 137.8183, 1919,     75.4,       75,  23.9418,  34.9966,2,    196.5,2,  34.9667,4,   196.60,2,     2.07,2,     0.14,2,     0.01,2,    0.170,2, -999.000,9, -999.000,9,   -999.0,9,   -999.0,9,-999.0000,9,  -999.00,  -999.00,9,  -999.00,9,  23.9260,2,  23.6607,2,  23.9404,2
49UP20150724_2,   P04,     2,  1,     28,     108,2,20150903,1350,1443,  9.0058, 137.8183, 1919,    103.1,      102,  19.3810,  34.8863,2,    173.3,2,  34.8878,2,   174.45,2,     4.21,2,     4.69,2,     0.10,2,    0.430,2, -999.000,9, -999.000,9,   -999.0,9,   -999.0,9,-999.0000,9,  -999.00,  -999.00,9,  -999.00,9,  19.3624,2,  24.8413,2,  19.3800,2
49UP20150724_2,   P04,     2,  1,     27,     998,2,20150903,1350,1442,  9.0058, 137.8183, 1919,    121.9,      121,  17.1527,  34.7213,2,    166.5,2,  34.7323,2,   167.74,2,     6.36,2,     7.74,2,     0.03,2,    0.610,2, -999.000,9, -999.000,9,   -999.0,9,   -999.0,9,-999.0000,9,  -999.00,  -999.00,9,  -999.00,9,  17.1325,2,  25.2688,2,  17.1622,2
49UP20150724_2,   P04,     2,  1,     26,     084,2,20150903,1350,1440,  9.0058, 137.8183, 1919,    147.9,      147,  16.0642,  34.6208,2,    165.4,2,  34.6151,6,   165.94,2,     8.22,2,     9.54,2,     0.02,2,    0.730,2, -999.000,9, -999.000,9,   -999.0,9,   -999.0,9,-999.0000,9,  -999.00,  -999.00,9,  -999.00,9,  16.0408,2,  25.4466,2,  16.0615,2
49UP20150724_2,   P04,     2,  1,     25,     098,2,20150903,1350,1438,  9.0058, 137.8183, 1919,    175.9,      175,  14.0461,  34.5106,2,    134.1,2,  34.4989,2,   130.19,2,    16.43,2,    16.94,2,     0.01,2,    1.270,2, -999.000,9, -999.000,9,   -999.0,9,   -999.0,9,-999.0000,9,  -999.00,  -999.00,9,  -999.00,9,  14.0208,2,  25.8045,2,  14.0458,2
49UP20150724_2,   P04,     2,  1,     21,     078,2,20150903,1350,1437,  9.0058, 137.8183, 1919,    201.8,      201,  11.7818,  34.4483,2,    104.6,2,  34.4553,2,   103.61,2,    24.78,2,    23.05,2,     0.00,2,    1.690,2, -999.000,9, -999.000,9,   -999.0,9,   -999.0,9,-999.0000,9,  -999.00,  -999.00,9,  -999.00,9,  11.7559,2,  26.2067,2,  11.7890,2
49UP20150724_2,   P04,     2,  1,     20,     093,2,20150903,1350,1435,  9.0058, 137.8183, 1919,    252.1,      251,   9.7680,  34.4936,2,     81.0,2,  34.4928,2,    81.18,2,    35.34,2,    29.34,2,     0.00,2,    2.100,2, -999.000,9, -999.000,9,   -999.0,9,   -999.0,9,-999.0000,9,  -999.00,  -999.00,9,  -999.00,9,   9.7393,2,  26.6006,2,   9.7706,2
49UP20150724_2,   P04,     2,  1,     19,     092,2,20150903,1350,1434,  9.0058, 137.8183, 1919,    301.7,      300,   8.7798,  34.5077,2,     79.9,2,  34.5077,6,    79.90,2,    40.39,2,    31.46,2,     0.00,2,    2.240,2, -999.000,9, -999.000,9,   -999.0,9,   -999.0,9,-999.0000,9,  -999.00,  -999.00,9,  -999.00,9,   8.7475,2,  26.7726,2,   8.7802,2
49UP20150724_2,   P04,     2,  1,     18,     101,2,20150903,1350,1431,  9.0058, 137.8183, 1919,    402.8,      400,   7.6988,  34.4768,2,     89.2,2,  34.4765,2,    89.06,6,    47.70,6,    32.53,6,     0.00,6,    2.310,6, -999.000,9, -999.000,9,   -999.0,9,   -999.0,9,-999.0000,9,  -999.00,  -999.00,9,  -999.00,9,   7.6587,2,  26.9132,2,   7.6988,2
49UP20150724_2,   P04,     2,  1,     17,     090,2,20150903,1350,1428,  9.0058, 137.8183, 1919,    503.4,      500,   6.9978,  34.4903,2,    101.4,2,  34.4887,2,   100.86,2,    51.54,2,    32.97,2,     0.00,2,    2.340,2, -999.000,9, -999.000,9,   -999.0,9,   -999.0,9,-999.0000,9,  -999.00,  -999.00,9,  -999.00,9,   6.9500,2,  27.0241,2,   6.9965,2
49UP20150724_2,   P04,     2,  1,     16,     089,2,20150903,1350,1428,  9.0058, 137.8183, 1919,    503.5,      500,   6.9933,  34.4894,2,    101.1,2,  34.4881,2,   100.79,2,    51.69,2,    32.98,2,     0.00,2,    2.340,2, -999.000,9, -999.000,9,   -999.0,9,   -999.0,9,-999.0000,9,  -999.00,  -999.00,9,  -999.00,9,   6.9455,2,  27.0240,2,   6.9928,2
49UP20150724_2,   P04,     2,  1,     12,     074,2,20150903,1350,1426,  9.0058, 137.8183, 1919,    605.2,      601,   6.1391,  34.4897,2,     95.3,2,  34.4910,2,    95.54,2,    63.39,2,    34.93,2,     0.00,2,    2.490,2, -999.000,9, -999.000,9,   -999.0,9,   -999.0,9,-999.0000,9,  -999.00,  -999.00,9,  -999.00,9,   6.0852,2,  27.1385,2,   6.1393,2
49UP20150724_2,   P04,     2,  1,     11,     268,2,20150903,1350,1423,  9.0058, 137.8183, 1919,    705.4,      700,   5.6037,  34.5196,2,     93.0,2,  34.5197,2,    92.88,2,    70.66,2,    36.20,2,     0.00,2,    2.580,2, -999.000,9, -999.000,9,   -999.0,9,   -999.0,9,-999.0000,9,  -999.00,  -999.00,9,  -999.00,9,   5.5432,2,  27.2299,2,   5.6036,2
49UP20150724_2,   P04,     2,  1,     10,     267,2,20150903,1350,1419,  9.0058, 137.8183, 1919,    806.7,      801,   5.1659,  34.5293,2,     91.9,2,  34.5302,6,    92.10,2,    78.84,2,    36.87,2,     0.00,2,    2.630,2, -999.000,9, -999.000,9,   -999.0,9,   -999.0,9,-999.0000,9,  -999.00,  -999.00,9,  -999.00,9,   5.0988,2,  27.2906,2,   5.1661,2
49UP20150724_2,   P04,     2,  1,      8,     081,2,20150903,1350,1416,  9.0058, 137.8183, 1919,    907.7,      901,   4.6869,  34.5457,2,     91.0,2,  34.5460,2,    91.01,2,    87.66,2,    37.60,2,     0.00,2,    2.680,2, -999.000,9, -999.000,9,   -999.0,9,   -999.0,9,-999.0000,9,  -999.00,  -999.00,9,  -999.00,9,   4.6140,2,  27.3588,2,   4.6870,2
49UP20150724_2,   P04,     2,  1,      7,     516,2,20150903,1350,1413,  9.0058, 137.8183, 1919,   1009.1,     1001,   4.3022,  34.5549,2,     91.2,2,  34.5551,2,    91.03,2,    95.86,2,    38.08,2,     0.00,2,    2.720,2, -999.000,9, -999.000,9,   -999.0,9,   -999.0,9,-999.0000,9,  -999.00,  -999.00,9,  -999.00,9,   4.2234,2,  27.4086,2,   4.3024,2
49UP20150724_2,   P04,     2,  1,      6,     113,2,20150903,1350,1409,  9.0058, 137.8183, 1919,   1211.3,     1201,   3.6275,  34.5717,2,     92.8,2,  34.5710,2,    92.81,2,   109.76,2,    38.61,2,     0.00,2,    2.750,2, -999.000,9, -999.000,9,   -999.0,9,   -999.0,9,-999.0000,9,  -999.00,  -999.00,9,  -999.00,9,   3.5373,2,  27.4922,2,   3.6331,2
49UP20150724_2,   P04,     2,  1,      5,     658,2,20150903,1350,1403,  9.0058, 137.8183, 1919,   1413.0,     1400,   3.0335,  34.5950,2,     99.9,2,  34.5952,2,    99.67,2,   121.02,2,    38.64,2,     0.00,2,    2.750,2, -999.000,9, -999.000,9,   -999.0,9,   -999.0,9,-999.0000,9,  -999.00,  -999.00,9,  -999.00,9,   2.9325,2,  27.5680,2,   3.0360,2
49UP20150724_2,   P04,     2,  1,      3,     104,2,20150903,1350,1358,  9.0058, 137.8183, 1919,   1616.1,     1601,   2.6837,  34.6097,2,    105.6,2,  34.6104,2,   105.64,2,   127.91,2,    38.52,2,     0.00,2,    2.730,2, -999.000,9, -999.000,9,   -999.0,9,   -999.0,9,-999.0000,9,  -999.00,  -999.00,9,  -999.00,9,   2.5699,2,  27.6118,2,   2.6842,2
49UP20150724_2,   P04,     2,  1,      2,     075,2,20150903,1350,1353,  9.0058, 137.8183, 1919,   1818.7,     1801,   2.4689,  34.6200,2,    110.0,2,  34.6205,2,   109.84,2,   131.94,2,    38.31,2,     0.00,2,    2.700,2, -999.000,9, -999.000,9,   -999.0,9,   -999.0,9,-999.0000,9,  -999.00,  -999.00,9,  -999.00,9,   2.3409,2,  27.6395,2,   2.4687,2
49UP20150724_2,   P04,     2,  1,      1,     997,2,20150903,1350,1350,  9.0058, 137.8183, 1919,   1928.4,     1909,   2.4191,  34.6227,2,    111.1,2,  34.6228,6,   110.63,6,   133.13,6,    38.32,6,     0.00,6,    2.710,6, -999.000,9, -999.000,9,   -999.0,9,   -999.0,9,-999.0000,9,  -999.00,  -999.00,9,  -999.00,9,   2.2825,2,  27.6465,2,   2.4220,2