BOTTLE,20191113JMAGEMD
EXPOCODE,SECT_ID,STNNBR,CASTNO,SAMPNO,BTLNBR,BTLNBR_FLAG_U,DATE,TIME,BTL_TIME,LATITUDE,LONGITUDE,DEPTH,CTDPRS,CTDDEP,CTDTMP,CTDSAL,CTDSAL_FLAG_W,CTDOXY,CTDOXY_FLAG_W,SALNTY,SALNTY_FLAG_W,OXYGEN,OXYGEN_FLAG_W,SILCAT,SILCAT_FLAG_W,NO2+NO3,NO2+NO3_FLAG_W,NITRIT,NITRIT_FLAG_W,PHSPHT,PHSPHT_FLAG_W,CFC-11,CFC-11_FLAG_W,CFC-12,CFC-12_FLAG_W,TCARBN,TCARBN_FLAG_W,ALKALI,ALKALI_FLAG_W,PH_TS,PH_TS_FLAG_W,PH_TS_TMP,CHLORA,CHLORA_FLAG_W,PPHYTN,PPHYTN_FLAG_W,THETA,THETA_FLAG_W,SIGTHT,SIGTHT_FLAG_W,SBE35,SBE35_FLAG_W
,,,,,,,,UTC,,,,METER,DBAR,METERS,ITS-90,PSS-78,,UMOL/KG,,PSS78,,UMOL/KG,,UMOL/KG,,UMOL/KG,,UMOL/KG,,UMOL/KG,,PMOL/KG,,PMOL/KG,,UMOL/KG,,UMOL/KG,,,,ITS-90,UG/KG,,UG/KG,,ITS-90,,KG/M3,,ITS-90,
49UP20150724_1,   P04,    56,  1,      0,      -9,0,20150805,2248,0045,  5.2880, 172.5202, 4178,      0.0,        0,  29.6741,  34.0583,2,    197.3,2,-999.0000,9,   195.31,2,     1.06,2,     0.02,2,     0.00,2,    0.090,2, -999.000,9, -999.000,9,   -999.0,9,   -999.0,9,-999.0000,9,  -999.00,  -999.00,9,  -999.00,9,  29.6735,2,  21.1312,2,-999.0000,9
49UP20150724_1,   P04,    56,  1,     36,     109,2,20150805,2248,0106,  5.2880, 172.5202, 4178,     10.9,       11,  29.4774,  34.0633,2,    197.5,2,  34.0637,6,   196.06,2,     1.10,2,     0.02,2,     0.00,2,    0.080,2, -999.000,9, -999.000,9,   -999.0,9,   -999.0,9,-999.0000,9,  -999.00,  -999.00,9,  -999.00,9,  29.4747,2,  21.2019,2,  29.4764,2
49UP20150724_1,   P04,    56,  1,     35,     112,2,20150805,2248,0104,  5.2880, 172.5202, 4178,     26.6,       26,  29.3193,  34.1949,2,    199.8,2,  34.2256,4,   199.26,2,     1.27,2,     0.02,2,     0.00,2,    0.070,2, -999.000,9, -999.000,9,   -999.0,9,   -999.0,9,-999.0000,9,  -999.00,  -999.00,9,  -999.00,9,  29.3128,2,  21.3551,2,  29.3172,2
49UP20150724_1,   P04,    56,  1,     34,     083,2,20150805,2248,0101,  5.2880, 172.5202, 4178,     50.9,       51,  26.4057,  34.7056,2,    205.3,2,  34.7147,2,   203.06,2,     1.49,2,     0.01,2,     0.00,2,    0.140,2, -999.000,9, -999.000,9,   -999.0,9,   -999.0,9,-999.0000,9,  -999.00,  -999.00,9,  -999.00,9,  26.3942,2,  22.6879,2,  26.3915,2
49UP20150724_1,   P04,    56,  1,     33,     469,3,20150805,2248,0100,  5.2880, 172.5202, 4178,     75.4,       75,  24.4786,  34.9578,2,    164.5,2,  34.9448,4,   162.98,2,     3.25,2,     4.34,2,     0.30,2,    0.420,2, -999.000,9, -999.000,9,   -999.0,9,   -999.0,9,-999.0000,9,  -999.00,  -999.00,9,  -999.00,9,  24.4626,2,  23.4716,2,  24.4866,2
49UP20150724_1,   P04,    56,  1,     32,     105,2,20150805,2248,0058,  5.2880, 172.5202, 4178,    100.6,      100,  22.3793,  34.9105,2,    160.7,2,  34.9127,2,   162.20,2,     4.60,2,     4.72,2,     0.26,2,    0.470,2, -999.000,9, -999.000,9,   -999.0,9,   -999.0,9,-999.0000,9,  -999.00,  -999.00,9,  -999.00,9,  22.3592,2,  24.0487,2,  22.3808,2
49UP20150724_1,   P04,    56,  1,     31,     515,2,20150805,2248,0056,  5.2880, 172.5202, 4178,    125.8,      125,  18.3541,  34.7751,2,    135.6,2,  34.7705,2,   136.66,6,     9.41,6,    11.20,6,     0.03,6,    0.880,6, -999.000,9, -999.000,9,   -999.0,9,   -999.0,9,-999.0000,9,  -999.00,  -999.00,9,  -999.00,9,  18.3322,2,  25.0175,2,  18.2899,2
49UP20150724_1,   P04,    56,  1,     30,     097,2,20150805,2248,0055,  5.2880, 172.5202, 4178,    153.1,      152,  14.1439,  34.5544,2,    109.4,2,  34.5552,6,   108.08,2,    16.95,2,    18.75,2,     0.01,2,    1.430,2, -999.000,9, -999.000,9,   -999.0,9,   -999.0,9,-999.0000,9,  -999.00,  -999.00,9,  -999.00,9,  14.1217,2,  25.8171,2,  14.1643,2
49UP20150724_1,   P04,    56,  1,     29,     102,2,20150805,2248,0054,  5.2880, 172.5202, 4178,    175.3,      174,  12.3498,  34.5403,2,     75.2,2,  34.5424,2,    73.40,2,    24.18,2,    25.40,2,     0.00,2,    1.890,2, -999.000,9, -999.000,9,   -999.0,9,   -999.0,9,-999.0000,9,  -999.00,  -999.00,9,  -999.00,9,  12.3267,2,  26.1693,2,  12.3484,2
49UP20150724_1,   P04,    56,  1,     28,     108,2,20150805,2248,0052,  5.2880, 172.5202, 4178,    202.1,      201,  10.6596,  34.6005,2,     43.0,2,  34.6009,2,    43.32,2,    30.80,2,    31.48,2,     0.00,2,    2.300,2, -999.000,9, -999.000,9,   -999.0,9,   -999.0,9,-999.0000,9,  -999.00,  -999.00,9,  -999.00,9,  10.6353,2,  26.5296,2,  10.6593,2
49UP20150724_1,   P04,    56,  1,     26,     084,2,20150805,2248,0050,  5.2880, 172.5202, 4178,    252.4,      251,   9.5771,  34.6365,2,     42.6,2,  34.6357,2,    42.53,2,    34.22,2,    33.77,2,     0.00,2,    2.420,2, -999.000,9, -999.000,9,   -999.0,9,   -999.0,9,-999.0000,9,  -999.00,  -999.00,9,  -999.00,9,   9.5486,2,  26.7441,2,   9.5721,2
49UP20150724_1,   P04,    56,  1,     27,     998,2,20150805,2248,0050,  5.2880, 172.5202, 4178,    254.2,      253,   9.5603,  34.6361,2,     43.4,2,  34.6355,2,    42.87,2,    34.24,2,    33.69,2,     0.00,2,    2.410,2, -999.000,9, -999.000,9,   -999.0,9,   -999.0,9,-999.0000,9,  -999.00,  -999.00,9,  -999.00,9,   9.5317,2,  26.7465,2,   9.5623,2
49UP20150724_1,   P04,    56,  1,     25,     098,2,20150805,2248,0048,  5.2880, 172.5202, 4178,    333.1,      331,   9.0001,  34.6266,2,     49.5,2,  34.6265,2,    48.17,2,    36.40,2,    34.48,2,     0.00,2,    2.450,2, -999.000,9, -999.000,9,   -999.0,9,   -999.0,9,-999.0000,9,  -999.00,  -999.00,9,  -999.00,9,   8.9638,2,  26.8315,2,   9.0009,2
49UP20150724_1,   P04,    56,  1,     24,     110,2,20150805,2248,0044,  5.2880, 172.5202, 4178,    435.2,      432,   8.0438,  34.5881,2,     51.1,2,  34.5891,2,    51.06,2,    42.79,2,    36.04,2,     0.00,2,    2.580,2, -999.000,9, -999.000,9,   -999.0,9,   -999.0,9,-999.0000,9,  -999.00,  -999.00,9,  -999.00,9,   7.9992,2,  26.9504,2,   8.0462,2
49UP20150724_1,   P04,    56,  1,     23,     096,2,20150805,2248,0041,  5.2880, 172.5202, 4178,    534.5,      531,   7.2149,  34.5599,2,     45.9,2,  34.5598,2,    45.79,6,    51.80,6,    38.07,6,     0.00,6,    2.750,6, -999.000,9, -999.000,9,   -999.0,9,   -999.0,9,-999.0000,9,  -999.00,  -999.00,9,  -999.00,9,   7.1631,2,  27.0493,2,   7.2146,2
49UP20150724_1,   P04,    56,  1,     22,     111,2,20150805,2248,0038,  5.2880, 172.5202, 4178,    635.4,      631,   6.4854,  34.5531,2,     38.7,2,  34.5530,6,    38.51,2,    59.99,2,    40.47,2,     0.00,2,    2.930,2, -999.000,9, -999.000,9,   -999.0,9,   -999.0,9,-999.0000,9,  -999.00,  -999.00,9,  -999.00,9,   6.4269,2,  27.1442,2,   6.4859,2
49UP20150724_1,   P04,    56,  1,     21,     078,2,20150805,2248,0035,  5.2880, 172.5202, 4178,    737.8,      732,   5.8991,  34.5487,2,     39.8,2,  34.5493,2,    39.51,2,    67.90,2,    41.52,2,     0.00,2,    2.990,2, -999.000,9, -999.000,9,   -999.0,9,   -999.0,9,-999.0000,9,  -999.00,  -999.00,9,  -999.00,9,   5.8339,2,  27.2170,2,   5.8999,2
49UP20150724_1,   P04,    56,  1,     20,     093,2,20150805,2248,0030,  5.2880, 172.5202, 4178,    837.3,      831,   5.0962,  34.5470,2,     55.8,2,  34.5471,2,    55.61,2,    80.56,2,    41.07,2,     0.00,2,    2.950,2, -999.000,9, -999.000,9,   -999.0,9,   -999.0,9,-999.0000,9,  -999.00,  -999.00,9,  -999.00,9,   5.0267,2,  27.3130,2,   5.0958,2
49UP20150724_1,   P04,    56,  1,     19,     092,2,20150805,2248,0028,  5.2880, 172.5202, 4178,    937.7,      930,   4.7542,  34.5527,2,     60.4,2,  34.5530,2,    60.45,2,    86.75,2,    41.08,2,     0.00,2,    2.950,2, -999.000,9, -999.000,9,   -999.0,9,   -999.0,9,-999.0000,9,  -999.00,  -999.00,9,  -999.00,9,   4.6782,2,  27.3573,2,   4.7538,2
49UP20150724_1,   P04,    56,  1,     18,     101,2,20150805,2248,0024,  5.2880, 172.5202, 4178,   1080.7,     1072,   4.1876,  34.5650,2,     68.9,2,  34.5647,2,    69.10,2,    97.36,2,    40.76,2,     0.00,2,    2.940,2, -999.000,9, -999.000,9,   -999.0,9,   -999.0,9,-999.0000,9,  -999.00,  -999.00,9,  -999.00,9,   4.1035,2,  27.4293,2,   4.1878,2
49UP20150724_1,   P04,    56,  1,     17,     090,2,20150805,2248,0019,  5.2880, 172.5202, 4178,   1281.9,     1271,   3.4682,  34.5863,2,     77.6,2,  34.5865,2,    77.37,6,   113.22,6,    40.61,6,     0.00,6,    2.920,6, -999.000,9, -999.000,9,   -999.0,9,   -999.0,9,-999.0000,9,  -999.00,  -999.00,9,  -999.00,9,   3.3735,2,  27.5197,2,   3.4682,2
49UP20150724_1,   P04,    56,  1,     16,     089,2,20150805,2248,0006,  5.2880, 172.5202, 4178,   1484.1,     1471,   2.9802,  34.6028,2,     87.1,2,  34.6028,2,    87.11,2,   123.64,2,    40.08,2,     0.00,2,    2.870,2, -999.000,9, -999.000,9,   -999.0,9,   -999.0,9,-999.0000,9,  -999.00,  -999.00,9,  -999.00,9,   2.8739,2,  27.5795,2,   2.9826,2
49UP20150724_1,   P04,    56,  1,     15,     088,2,20150805,2248,0001,  5.2880, 172.5202, 4178,   1687.0,     1671,   2.7152,  34.6145,2,     95.6,2,  34.6155,2,    95.60,2,   128.45,2,    39.52,2,     0.00,2,    2.820,2, -999.000,9, -999.000,9,   -999.0,9,   -999.0,9,-999.0000,9,  -999.00,  -999.00,9,  -999.00,9,   2.5951,2,  27.6135,2,   2.7151,2
49UP20150724_1,   P04,    56,  1,     14,     999,2,20150805,2248,2356,  5.2880, 172.5202, 4178,   1889.7,     1871,   2.4240,  34.6275,2,    101.4,2,  34.6281,2,   101.31,2,   135.52,2,    39.24,2,     0.00,2,    2.790,2, -999.000,9, -999.000,9,   -999.0,9,   -999.0,9,-999.0000,9,  -999.00,  -999.00,9,  -999.00,9,   2.2906,2,  27.6497,2,   2.4242,2
49UP20150724_1,   P04,    56,  1,     12,     074,2,20150805,2248,2350,  5.2880, 172.5202, 4178,   2092.6,     2071,   2.1063,  34.6450,2,    109.8,2,  34.6450,2,   109.62,2,   143.42,4,    38.79,2,     0.00,2,    2.740,2, -999.000,9, -999.000,9,   -999.0,9,   -999.0,9,-999.0000,9,  -999.00,  -999.00,9,  -999.00,9,   1.9603,2,  27.6904,2,   2.1062,2
49UP20150724_1,   P04,    56,  1,     13,     667,2,20150805,2248,2350,  5.2880, 172.5202, 4178,   2093.1,     2071,   2.1062,  34.6450,2,    109.8,2,  34.6457,2,   109.65,2,   142.14,2,    38.75,2,     0.00,2,    2.740,2, -999.000,9, -999.000,9,   -999.0,9,   -999.0,9,-999.0000,9,  -999.00,  -999.00,9,  -999.00,9,   1.9602,2,  27.6904,2,   2.1059,2
49UP20150724_1,   P04,    56,  1,     11,     268,2,20150805,2248,2345,  5.2880, 172.5202, 4178,   2295.5,     2270,   2.0043,  34.6512,2,    114.2,2,  34.6512,2,   114.42,2,   144.18,2,    38.51,2,     0.00,2,    2.720,2, -999.000,9, -999.000,9,   -999.0,9,   -999.0,9,-999.0000,9,  -999.00,  -999.00,9,  -999.00,9,   1.8423,2,  27.7046,2,   2.0043,2
49UP20150724_1,   P04,    56,  1,     10,     267,2,20150805,2248,2340,  5.2880, 172.5202, 4178,   2501.3,     2473,   1.8753,  34.6588,2,    120.0,2,  34.6585,2,   120.09,2,   146.26,2,    38.13,2,     0.00,2,    2.680,2, -999.000,9, -999.000,9,   -999.0,9,   -999.0,9,-999.0000,9,  -999.00,  -999.00,9,  -999.00,9,   1.6972,2,  27.7218,2,   1.8751,2
49UP20150724_1,   P04,    56,  1,      9,     518,2,20150805,2248,2330,  5.2880, 172.5202, 4178,   2704.1,     2672,   1.7846,  34.6642,2,    124.6,2,  34.6644,2,   124.67,2,   147.31,2,    37.86,2,     0.00,2,    2.660,2, -999.000,9, -999.000,9,   -999.0,9,   -999.0,9,-999.0000,9,  -999.00,  -999.00,9,  -999.00,9,   1.5897,2,  27.7341,2,   1.7843,2
49UP20150724_1,   P04,    56,  1,      8,     081,2,20150805,2248,2326,  5.2880, 172.5202, 4178,   2906.9,     2871,   1.7021,  34.6688,2,    129.7,2,  34.6681,2,   129.77,6,   148.11,6,    37.46,6,     0.00,6,    2.620,6, -999.000,9, -999.000,9,   -999.0,9,   -999.0,9,-999.0000,9,  -999.00,  -999.00,9,  -999.00,9,   1.4898,2,  27.7451,2,   1.7018,2
49UP20150724_1,   P04,    56,  1,      7,     516,2,20150805,2248,2319,  5.2880, 172.5202, 4178,   3121.0,     3081,   1.6156,  34.6740,2,    137.5,2,  34.6736,2,   137.59,2,   147.06,2,    36.99,2,     0.00,2,    2.590,2, -999.000,9, -999.000,9,   -999.0,9,   -999.0,9,-999.0000,9,  -999.00,  -999.00,9,  -999.00,9,   1.3846,2,  27.7569,2,   1.6154,2
49UP20150724_1,   P04,    56,  1,      6,     113,2,20150805,2248,2312,  5.2880, 172.5202, 4178,   3374.7,     3329,   1.5374,  34.6793,2,    145.3,2,  34.6794,2,   145.30,2,   145.32,2,    36.45,2,     0.00,2,    2.540,2, -999.000,9, -999.000,9,   -999.0,9,   -999.0,9,-999.0000,9,  -999.00,  -999.00,9,  -999.00,9,   1.2830,2,  27.7684,2,   1.5373,2
49UP20150724_1,   P04,    56,  1,      5,     094,2,20150805,2248,2306,  5.2880, 172.5202, 4178,   3631.2,     3580,   1.4796,  34.6840,2,    152.4,2,  34.6900,4,   152.07,2,   143.30,2,    35.95,2,     0.00,2,    2.500,2, -999.000,9, -999.000,9,   -999.0,9,   -999.0,9,-999.0000,9,  -999.00,  -999.00,9,  -999.00,9,   1.2005,2,  27.7778,2,   1.4792,2
49UP20150724_1,   P04,    56,  1,      4,     471,2,20150805,2248,2306,  5.2880, 172.5202, 4178,   3631.7,     3581,   1.4795,  34.6841,2,    152.4,2,  34.6845,2,   152.70,2,   143.16,2,    35.94,2,     0.00,2,    2.510,2, -999.000,9, -999.000,9,   -999.0,9,   -999.0,9,-999.0000,9,  -999.00,  -999.00,9,  -999.00,9,   1.2003,2,  27.7779,2,   1.4794,2
49UP20150724_1,   P04,    56,  1,      3,     104,2,20150805,2248,2256,  5.2880, 172.5202, 4178,   3887.6,     3831,   1.4102,  34.6897,2,    162.4,2,  34.6898,2,   162.41,2,   139.36,2,    35.26,2,     0.00,2,    2.450,2, -999.000,9, -999.000,9,   -999.0,9,   -999.0,9,-999.0000,9,  -999.00,  -999.00,9,  -999.00,9,   1.1059,2,  27.7889,2,   1.4098,2
49UP20150724_1,   P04,    56,  1,      2,     075,2,20150805,2248,2250,  5.2880, 172.5202, 4178,   4143.0,     4080,   1.3995,  34.6921,2,    167.0,2,  34.6924,2,   167.09,2,   136.81,2,    34.93,2,     0.00,2,    2.420,2, -999.000,9, -999.000,9,   -999.0,9,   -999.0,9,-999.0000,9,  -999.00,  -999.00,9,  -999.00,9,   1.0678,2,  27.7934,2,   1.3993,2
49UP20150724_1,   P04,    56,  1,      1,     997,2,20150805,2248,2248,  5.2880, 172.5202, 4178,   4213.1,     4149,   1.3871,  34.6933,2,    169.3,2,  34.6938,6,   169.35,2,   135.86,2,    34.80,2,     0.00,2,    2.420,2, -999.000,9, -999.000,9,   -999.0,9,   -999.0,9,-999.0000,9,  -999.00,  -999.00,9,  -999.00,9,   1.0479,2,  27.7957,2,   1.3867,2