BOTTLE,20191113JMAGEMD
EXPOCODE,SECT_ID,STNNBR,CASTNO,SAMPNO,BTLNBR,BTLNBR_FLAG_U,DATE,TIME,BTL_TIME,LATITUDE,LONGITUDE,DEPTH,CTDPRS,CTDDEP,CTDTMP,CTDSAL,CTDSAL_FLAG_W,CTDOXY,CTDOXY_FLAG_W,SALNTY,SALNTY_FLAG_W,OXYGEN,OXYGEN_FLAG_W,SILCAT,SILCAT_FLAG_W,NO2+NO3,NO2+NO3_FLAG_W,NITRIT,NITRIT_FLAG_W,PHSPHT,PHSPHT_FLAG_W,CFC-11,CFC-11_FLAG_W,CFC-12,CFC-12_FLAG_W,TCARBN,TCARBN_FLAG_W,ALKALI,ALKALI_FLAG_W,PH_TS,PH_TS_FLAG_W,PH_TS_TMP,CHLORA,CHLORA_FLAG_W,PPHYTN,PPHYTN_FLAG_W,THETA,THETA_FLAG_W,SIGTHT,SIGTHT_FLAG_W,SBE35,SBE35_FLAG_W
,,,,,,,,UTC,,,,METER,DBAR,METERS,ITS-90,PSS-78,,UMOL/KG,,PSS78,,UMOL/KG,,UMOL/KG,,UMOL/KG,,UMOL/KG,,UMOL/KG,,PMOL/KG,,PMOL/KG,,UMOL/KG,,UMOL/KG,,,,ITS-90,UG/KG,,UG/KG,,ITS-90,,KG/M3,,ITS-90,
49UP20150724_2,   P04,     6,  1,      0,      -9,0,20150902,0807,0907,  9.0730, 140.3955, 2584,      0.0,        0,  29.2581,  33.7772,2,    196.7,2,-999.0000,9,   196.37,2,     0.88,2,     0.06,2,     0.00,2,    0.080,2, -999.000,9, -999.000,9,   -999.0,9,   -999.0,9,-999.0000,9,  -999.00,  -999.00,9,  -999.00,9,  29.2574,2,  21.0603,2,-999.0000,9
49UP20150724_2,   P04,     6,  1,     36,     109,2,20150902,0807,0929,  9.0730, 140.3955, 2584,     11.3,       11,  29.2588,  33.7761,2,    196.6,2,  33.7880,2,   196.50,2,     0.93,2,     0.05,2,     0.00,2,    0.050,2, -999.000,9, -999.000,9,   -999.0,9,   -999.0,9,-999.0000,9,  -999.00,  -999.00,9,  -999.00,9,  29.2560,2,  21.0600,2,  29.2578,2
49UP20150724_2,   P04,     6,  1,     35,     112,2,20150902,0807,0928,  9.0730, 140.3955, 2584,     26.5,       26,  29.1772,  33.8179,2,    196.4,2,  33.8254,2,   196.80,2,     0.93,2,     0.08,2,     0.00,2,    0.050,2, -999.000,9, -999.000,9,   -999.0,9,   -999.0,9,-999.0000,9,  -999.00,  -999.00,9,  -999.00,9,  29.1707,2,  21.1199,2,  29.1755,2
49UP20150724_2,   P04,     6,  1,     34,     094,2,20150902,0807,0924,  9.0730, 140.3955, 2584,     49.8,       50,  26.5117,  34.6209,2,    200.8,2,  34.6317,2,   201.85,2,     1.53,2,     0.05,2,     0.00,2,    0.120,2, -999.000,9, -999.000,9,   -999.0,9,   -999.0,9,-999.0000,9,  -999.00,  -999.00,9,  -999.00,9,  26.5004,2,  22.5906,2,  26.4523,2
49UP20150724_2,   P04,     6,  1,     30,     097,2,20150902,0807,0923,  9.0730, 140.3955, 2584,     75.1,       75,  21.2407,  34.9729,2,    183.1,2,  34.9740,2,   182.78,2,     3.05,2,     2.41,2,     0.03,2,    0.310,2, -999.000,9, -999.000,9,   -999.0,9,   -999.0,9,-999.0000,9,  -999.00,  -999.00,9,  -999.00,9,  21.2262,2,  24.4116,2,  21.2676,2
49UP20150724_2,   P04,     6,  1,     29,     102,2,20150902,0807,0922,  9.0730, 140.3955, 2584,     75.2,       75,  21.2906,  34.9745,2,    181.6,2,  34.9718,2,   182.66,2,     3.12,2,     2.46,2,     0.03,2,    0.310,2, -999.000,9, -999.000,9,   -999.0,9,   -999.0,9,-999.0000,9,  -999.00,  -999.00,9,  -999.00,9,  21.2760,2,  24.3991,2,  21.2672,2
49UP20150724_2,   P04,     6,  1,     28,     108,2,20150902,0807,0921,  9.0730, 140.3955, 2584,    101.3,      101,  18.7888,  34.8651,2,    173.3,2,  34.8502,2,   174.27,6,     4.54,6,     5.60,6,     0.03,6,    0.460,6, -999.000,9, -999.000,9,   -999.0,9,   -999.0,9,-999.0000,9,  -999.00,  -999.00,9,  -999.00,9,  18.7709,2,  24.9762,2,  18.7914,2
49UP20150724_2,   P04,     6,  1,     27,     998,2,20150902,0807,0920,  9.0730, 140.3955, 2584,    126.7,      126,  15.3318,  34.5518,2,    169.8,2,  34.5354,6,   170.16,2,     9.06,2,    10.37,2,     0.01,2,    0.760,2, -999.000,9, -999.000,9,   -999.0,9,   -999.0,9,-999.0000,9,  -999.00,  -999.00,9,  -999.00,9,  15.3124,2,  25.5575,2,  15.3383,2
49UP20150724_2,   P04,     6,  1,     26,     084,2,20150902,0807,0918,  9.0730, 140.3955, 2584,    150.7,      150,  13.7517,  34.4460,2,    156.8,2,  34.4487,2,   156.34,2,    13.02,2,    13.92,2,     0.00,2,    1.010,2, -999.000,9, -999.000,9,   -999.0,9,   -999.0,9,-999.0000,9,  -999.00,  -999.00,9,  -999.00,9,  13.7303,2,  25.8151,2,  13.7546,2
49UP20150724_2,   P04,     6,  1,     25,     098,2,20150902,0807,0917,  9.0730, 140.3955, 2584,    176.2,      175,  12.0563,  34.4223,2,    107.3,2,  34.4250,2,   106.81,2,    21.94,2,    21.76,2,     0.00,2,    1.610,2, -999.000,9, -999.000,9,   -999.0,9,   -999.0,9,-999.0000,9,  -999.00,  -999.00,9,  -999.00,9,  12.0334,2,  26.1341,2,  12.0584,2
49UP20150724_2,   P04,     6,  1,     24,     110,2,20150902,0807,0916,  9.0730, 140.3955, 2584,    202.4,      201,   9.9901,  34.4616,2,     83.0,2,  34.4615,2,    82.57,2,    33.87,2,    28.56,2,     0.00,2,    2.060,2, -999.000,9, -999.000,9,   -999.0,9,   -999.0,9,-999.0000,9,  -999.00,  -999.00,9,  -999.00,9,   9.9668,2,  26.5372,2,   9.9870,2
49UP20150724_2,   P04,     6,  1,     23,     096,2,20150902,0807,0914,  9.0730, 140.3955, 2584,    254.8,      253,   9.1568,  34.4841,2,     76.0,2,  34.4832,6,    76.36,2,    38.40,2,    30.87,2,     0.00,2,    2.200,2, -999.000,9, -999.000,9,   -999.0,9,   -999.0,9,-999.0000,9,  -999.00,  -999.00,9,  -999.00,9,   9.1289,2,  26.6934,2,   9.1562,2
49UP20150724_2,   P04,     6,  1,     22,     111,2,20150902,0807,0912,  9.0730, 140.3955, 2584,    282.6,      281,   8.8077,  34.5229,2,     75.7,2,  34.5237,2,    76.56,2,    39.89,2,    31.87,2,     0.00,2,    2.260,2, -999.000,9, -999.000,9,   -999.0,9,   -999.0,9,-999.0000,9,  -999.00,  -999.00,9,  -999.00,9,   8.7774,2,  26.7799,2,   8.8128,2
49UP20150724_2,   P04,     6,  1,     21,     078,2,20150902,0807,0909,  9.0730, 140.3955, 2584,    373.3,      371,   7.6941,  34.5058,2,     91.9,2,  34.5046,2,    91.53,2,    45.89,2,    32.54,2,     0.00,2,    2.300,2, -999.000,9, -999.000,9,   -999.0,9,   -999.0,9,-999.0000,9,  -999.00,  -999.00,9,  -999.00,9,   7.6570,2,  26.9362,2,   7.6942,2
49UP20150724_2,   P04,     6,  1,     20,     093,2,20150902,0807,0907,  9.0730, 140.3955, 2584,    473.7,      470,   7.0064,  34.5049,2,     93.4,2,  34.5051,6,    93.43,2,    51.64,2,    33.71,2,     0.00,2,    2.390,2, -999.000,9, -999.000,9,   -999.0,9,   -999.0,9,-999.0000,9,  -999.00,  -999.00,9,  -999.00,9,   6.9615,2,  27.0340,2,   7.0054,2
49UP20150724_2,   P04,     6,  1,     19,     092,2,20150902,0807,0904,  9.0730, 140.3955, 2584,    576.3,      572,   6.5842,  34.5169,2,     94.0,2,  34.5174,2,    93.57,2,    55.46,2,    34.59,2,     0.00,2,    2.450,2, -999.000,9, -999.000,9,   -999.0,9,   -999.0,9,-999.0000,9,  -999.00,  -999.00,9,  -999.00,9,   6.5310,2,  27.1018,2,   6.5849,2
49UP20150724_2,   P04,     6,  1,     18,     101,2,20150902,0807,0901,  9.0730, 140.3955, 2584,    674.9,      670,   5.9226,  34.5247,2,     88.8,2,  34.5257,2,    88.74,6,    65.73,6,    36.13,6,     0.00,6,    2.570,6, -999.000,9, -999.000,9,   -999.0,9,   -999.0,9,-999.0000,9,  -999.00,  -999.00,9,  -999.00,9,   5.8632,2,  27.1944,2,   5.9223,2
49UP20150724_2,   P04,     6,  1,     17,     090,2,20150902,0807,0858,  9.0730, 140.3955, 2584,    776.0,      770,   5.4355,  34.5301,2,     88.4,2,  34.5305,2,    88.31,2,    73.85,2,    36.91,2,     0.00,2,    2.630,2, -999.000,9, -999.000,9,   -999.0,9,   -999.0,9,-999.0000,9,  -999.00,  -999.00,9,  -999.00,9,   5.3695,2,  27.2592,2,   5.4357,2
49UP20150724_2,   P04,     6,  1,     16,     089,2,20150902,0807,0858,  9.0730, 140.3955, 2584,    776.4,      771,   5.4357,  34.5300,2,     88.4,2,  34.5301,2,    88.23,2,    74.04,2,    36.89,2,     0.00,2,    2.630,2, -999.000,9, -999.000,9,   -999.0,9,   -999.0,9,-999.0000,9,  -999.00,  -999.00,9,  -999.00,9,   5.3696,2,  27.2591,2,   5.4356,2
49UP20150724_2,   P04,     6,  1,     14,     999,2,20150902,0807,0855,  9.0730, 140.3955, 2584,    876.9,      870,   5.0196,  34.5373,2,     87.5,2,  34.5370,6,    87.30,2,    81.90,2,    37.53,2,     0.00,2,    2.680,2, -999.000,9, -999.000,9,   -999.0,9,   -999.0,9,-999.0000,9,  -999.00,  -999.00,9,  -999.00,9,   4.9472,2,  27.3145,2,   5.0197,2
49UP20150724_2,   P04,     6,  1,     13,     667,2,20150902,0807,0852,  9.0730, 140.3955, 2584,    978.0,      970,   4.6714,  34.5473,2,     87.6,2,  34.5482,2,    87.70,2,    88.23,2,    38.03,2,     0.00,2,    2.710,2, -999.000,9, -999.000,9,   -999.0,9,   -999.0,9,-999.0000,9,  -999.00,  -999.00,9,  -999.00,9,   4.5924,2,  27.3625,2,   4.6713,2
49UP20150724_2,   P04,     6,  1,     12,     074,2,20150902,0807,0848,  9.0730, 140.3955, 2584,   1140.8,     1131,   3.9169,  34.5627,2,     89.6,2,  34.5626,6,    89.39,2,   104.50,2,    38.64,2,     0.00,2,    2.760,2, -999.000,9, -999.000,9,   -999.0,9,   -999.0,9,-999.0000,9,  -999.00,  -999.00,9,  -999.00,9,   3.8300,2,  27.4557,2,   3.9168,2
49UP20150724_2,   P04,     6,  1,     11,     268,2,20150902,0807,0844,  9.0730, 140.3955, 2584,   1343.3,     1331,   3.1657,  34.5863,2,     95.2,2,  34.5871,2,    94.98,2,   119.80,2,    38.87,2,     0.00,2,    2.760,2, -999.000,9, -999.000,9,   -999.0,9,   -999.0,9,-999.0000,9,  -999.00,  -999.00,9,  -999.00,9,   3.0690,2,  27.5485,2,   3.1662,2
49UP20150724_2,   P04,     6,  1,     10,     267,2,20150902,0807,0838,  9.0730, 140.3955, 2584,   1544.6,     1530,   2.8240,  34.6039,2,    102.2,2,  34.6040,2,   102.11,2,   125.31,2,    38.64,2,     0.00,2,    2.740,2, -999.000,9, -999.000,9,   -999.0,9,   -999.0,9,-999.0000,9,  -999.00,  -999.00,9,  -999.00,9,   2.7144,2,  27.5946,2,   2.8242,2
49UP20150724_2,   P04,     6,  1,      9,     518,2,20150902,0807,0834,  9.0730, 140.3955, 2584,   1747.6,     1731,   2.4356,  34.6212,2,    109.3,2,  34.6217,6,   108.90,2,   133.05,2,    38.44,2,     0.00,2,    2.720,2, -999.000,9, -999.000,9,   -999.0,9,   -999.0,9,-999.0000,9,  -999.00,  -999.00,9,  -999.00,9,   2.3140,2,  27.6427,2,   2.4372,2
49UP20150724_2,   P04,     6,  1,      8,     081,2,20150902,0807,0829,  9.0730, 140.3955, 2584,   1951.2,     1931,   2.2403,  34.6316,2,    114.8,2,  34.6322,6,   114.49,2,   136.33,2,    38.13,2,     0.00,2,    2.690,2, -999.000,9, -999.000,9,   -999.0,9,   -999.0,9,-999.0000,9,  -999.00,  -999.00,9,  -999.00,9,   2.1043,2,  27.6682,2,   2.2402,2
49UP20150724_2,   P04,     6,  1,      7,     516,2,20150902,0807,0824,  9.0730, 140.3955, 2584,   2154.5,     2131,   2.0422,  34.6427,2,    121.6,2,  34.6427,2,   121.41,6,   139.29,6,    37.81,6,     0.00,6,    2.660,6, -999.000,9, -999.000,9,   -999.0,9,   -999.0,9,-999.0000,9,  -999.00,  -999.00,9,  -999.00,9,   1.8919,2,  27.6939,2,   2.0427,2
49UP20150724_2,   P04,     6,  1,      5,     658,2,20150902,0807,0819,  9.0730, 140.3955, 2584,   2357.0,     2331,   1.8588,  34.6531,2,    129.0,2,  34.6544,2,   129.01,2,   141.16,2,    37.36,2,     0.00,2,    2.620,2, -999.000,9, -999.000,9,   -999.0,9,   -999.0,9,-999.0000,9,  -999.00,  -999.00,9,  -999.00,9,   1.6939,2,  27.7174,2,   1.8589,2
49UP20150724_2,   P04,     6,  1,      6,     113,2,20150902,0807,0819,  9.0730, 140.3955, 2584,   2357.2,     2331,   1.8576,  34.6533,2,    129.1,2,  34.6536,2,   129.11,2,   141.26,2,    37.39,2,     0.00,2,    2.620,2, -999.000,9, -999.000,9,   -999.0,9,   -999.0,9,-999.0000,9,  -999.00,  -999.00,9,  -999.00,9,   1.6927,2,  27.7177,2,   1.8577,2
49UP20150724_2,   P04,     6,  1,      4,     471,2,20150902,0807,0814,  9.0730, 140.3955, 2584,   2559.9,     2530,   1.6825,  34.6636,2,    136.8,2,  34.6636,6,   136.54,2,   142.84,2,    36.91,2,     0.00,2,    2.580,2, -999.000,9, -999.000,9,   -999.0,9,   -999.0,9,-999.0000,9,  -999.00,  -999.00,9,  -999.00,9,   1.5028,2,  27.7400,2,   1.6824,2
49UP20150724_2,   P04,     6,  1,      3,     104,2,20150902,0807,0807,  9.0730, 140.3955, 2584,   2737.8,     2705,   1.6198,  34.6680,2,    140.5,2,  34.6686,6,   140.15,2,   143.37,2,    36.68,2,     0.00,2,    2.560,2, -999.000,9, -999.000,9,   -999.0,9,   -999.0,9,-999.0000,9,  -999.00,  -999.00,9,  -999.00,9,   1.4250,2,  27.7491,2,   1.6194,2