BOTTLE,20191113JMAGEMD
EXPOCODE,SECT_ID,STNNBR,CASTNO,SAMPNO,BTLNBR,BTLNBR_FLAG_U,DATE,TIME,BTL_TIME,LATITUDE,LONGITUDE,DEPTH,CTDPRS,CTDDEP,CTDTMP,CTDSAL,CTDSAL_FLAG_W,CTDOXY,CTDOXY_FLAG_W,SALNTY,SALNTY_FLAG_W,OXYGEN,OXYGEN_FLAG_W,SILCAT,SILCAT_FLAG_W,NO2+NO3,NO2+NO3_FLAG_W,NITRIT,NITRIT_FLAG_W,PHSPHT,PHSPHT_FLAG_W,CFC-11,CFC-11_FLAG_W,CFC-12,CFC-12_FLAG_W,TCARBN,TCARBN_FLAG_W,ALKALI,ALKALI_FLAG_W,PH_TS,PH_TS_FLAG_W,PH_TS_TMP,CHLORA,CHLORA_FLAG_W,PPHYTN,PPHYTN_FLAG_W,THETA,THETA_FLAG_W,SIGTHT,SIGTHT_FLAG_W,SBE35,SBE35_FLAG_W
,,,,,,,,UTC,,,,METER,DBAR,METERS,ITS-90,PSS-78,,UMOL/KG,,PSS78,,UMOL/KG,,UMOL/KG,,UMOL/KG,,UMOL/KG,,UMOL/KG,,PMOL/KG,,PMOL/KG,,UMOL/KG,,UMOL/KG,,,,ITS-90,UG/KG,,UG/KG,,ITS-90,,KG/M3,,ITS-90,
49UP20150724_2,   P04,    27,  1,      0,      -9,0,20150826,0921,1110,  9.4957, 155.8522, 5319,      0.0,        0,  29.0126,  33.7918,2,    197.2,2,-999.0000,9,   196.70,2,     0.92,2,     0.03,2,     0.00,2,    0.080,2, -999.000,9, -999.000,9,   -999.0,9,   -999.0,9,-999.0000,9,  -999.00,  -999.00,9,  -999.00,9,  29.0121,2,  21.1532,2,-999.0000,9
49UP20150724_2,   P04,    27,  1,     36,     109,2,20150826,0921,1152,  9.4957, 155.8522, 5319,     10.5,       10,  29.0207,  33.7917,2,    197.1,2,  33.7917,6,   196.58,2,     0.94,2,     0.05,2,     0.00,2,    0.080,2, -999.000,9, -999.000,9,   -999.0,9,   -999.0,9,-999.0000,9,  -999.00,  -999.00,9,  -999.00,9,  29.0182,2,  21.1510,2,  29.0219,2
49UP20150724_2,   P04,    27,  1,     35,     112,2,20150826,0921,1151,  9.4957, 155.8522, 5319,     27.1,       27,  29.0261,  33.8209,2,    196.9,2,  33.8100,2,   196.70,6,     0.92,6,     0.01,6,     0.00,6,    0.070,6, -999.000,9, -999.000,9,   -999.0,9,   -999.0,9,-999.0000,9,  -999.00,  -999.00,9,  -999.00,9,  29.0196,2,  21.1725,2,  29.0246,2
49UP20150724_2,   P04,    27,  1,     34,     094,2,20150826,0921,1149,  9.4957, 155.8522, 5319,     51.0,       51,  28.5046,  34.0277,2,    199.3,2,  33.9943,4,   198.54,2,     0.99,2,     0.00,2,     0.00,2,    0.090,2, -999.000,9, -999.000,9,   -999.0,9,   -999.0,9,-999.0000,9,  -999.00,  -999.00,9,  -999.00,9,  28.4925,2,  21.5024,2,  28.5076,2
49UP20150724_2,   P04,    27,  1,     33,     469,2,20150826,0921,1148,  9.4957, 155.8522, 5319,     75.9,       75,  23.9425,  34.8755,2,    199.6,2,  34.8779,2,   196.26,2,     2.36,2,     0.07,2,     0.00,2,    0.210,2, -999.000,9, -999.000,9,   -999.0,9,   -999.0,9,-999.0000,9,  -999.00,  -999.00,9,  -999.00,9,  23.9265,2,  23.5689,2,  24.0807,2
49UP20150724_2,   P04,    27,  1,     32,     105,2,20150826,0921,1144,  9.4957, 155.8522, 5319,    100.8,      100,  18.6224,  34.7693,2,    152.9,2,  34.7633,2,   152.19,2,     7.37,2,     8.52,2,     0.33,2,    0.740,2, -999.000,9, -999.000,9,   -999.0,9,   -999.0,9,-999.0000,9,  -999.00,  -999.00,9,  -999.00,9,  18.6047,2,  24.9449,2,  18.6216,2
49UP20150724_2,   P04,    27,  1,     31,     515,2,20150826,0921,1143,  9.4957, 155.8522, 5319,    126.3,      126,  15.2939,  34.5802,2,    133.4,2,  34.5823,2,   133.00,2,    12.35,2,    14.24,2,     0.05,2,    1.100,2, -999.000,9, -999.000,9,   -999.0,9,   -999.0,9,-999.0000,9,  -999.00,  -999.00,9,  -999.00,9,  15.2746,2,  25.5878,2,  15.3256,2
49UP20150724_2,   P04,    27,  1,     30,     097,2,20150826,0921,1142,  9.4957, 155.8522, 5319,    151.3,      150,  13.6072,  34.5181,2,    112.2,2,  34.5210,2,   112.85,2,    17.45,2,    18.90,2,     0.02,2,    1.420,2, -999.000,9, -999.000,9,   -999.0,9,   -999.0,9,-999.0000,9,  -999.00,  -999.00,9,  -999.00,9,  13.5859,2,  25.9006,2,  13.6095,2
49UP20150724_2,   P04,    27,  1,     29,     102,2,20150826,0921,1140,  9.4957, 155.8522, 5319,    203.0,      202,  11.0655,  34.4364,2,     87.5,2,  34.4286,2,    89.02,2,    26.69,2,    25.38,2,     0.00,2,    1.880,2, -999.000,9, -999.000,9,   -999.0,9,   -999.0,9,-999.0000,9,  -999.00,  -999.00,9,  -999.00,9,  11.0406,2,  26.3293,2,  11.0665,2
49UP20150724_2,   P04,    27,  1,     28,     108,2,20150826,0921,1138,  9.4957, 155.8522, 5319,    250.8,      249,  10.0356,  34.5450,2,     59.0,2,  34.5443,2,    59.00,2,    33.24,2,    30.99,2,     0.00,2,    2.240,2, -999.000,9, -999.000,9,   -999.0,9,   -999.0,9,-999.0000,9,  -999.00,  -999.00,9,  -999.00,9,  10.0065,2,  26.5955,2,  10.0373,2
49UP20150724_2,   P04,    27,  1,     27,     998,2,20150826,0921,1136,  9.4957, 155.8522, 5319,    281.4,      280,   9.5398,  34.5548,2,     54.1,2,  34.5553,2,    53.80,6,    35.75,6,    32.47,6,     0.00,6,    2.330,6, -999.000,9, -999.000,9,   -999.0,9,   -999.0,9,-999.0000,9,  -999.00,  -999.00,9,  -999.00,9,   9.5082,2,  26.6868,2,   9.5359,2
49UP20150724_2,   P04,    27,  1,     26,     084,2,20150826,0921,1134,  9.4957, 155.8522, 5319,    373.8,      371,   8.2235,  34.5568,2,     65.7,2,  34.5569,6,    65.20,2,    42.59,2,    34.19,2,     0.00,2,    2.420,2, -999.000,9, -999.000,9,   -999.0,9,   -999.0,9,-999.0000,9,  -999.00,  -999.00,9,  -999.00,9,   8.1849,2,  26.8980,2,   8.2281,2
49UP20150724_2,   P04,    27,  1,     25,     098,2,20150826,0921,1131,  9.4957, 155.8522, 5319,    472.5,      469,   7.4622,  34.5435,2,     75.2,2,  34.5431,2,    75.22,2,    47.98,2,    34.70,2,     0.00,2,    2.470,2, -999.000,9, -999.000,9,   -999.0,9,   -999.0,9,-999.0000,9,  -999.00,  -999.00,9,  -999.00,9,   7.4158,2,  27.0007,2,   7.4625,2
49UP20150724_2,   P04,    27,  1,     24,     110,2,20150826,0921,1128,  9.4957, 155.8522, 5319,    574.6,      571,   6.7989,  34.5332,2,     78.4,2,  34.5337,2,    78.24,2,    55.13,2,    35.70,2,     0.00,2,    2.540,2, -999.000,9, -999.000,9,   -999.0,9,   -999.0,9,-999.0000,9,  -999.00,  -999.00,9,  -999.00,9,   6.7449,2,  27.0860,2,   6.7990,2
49UP20150724_2,   P04,    27,  1,     23,     096,2,20150826,0921,1125,  9.4957, 155.8522, 5319,    674.9,      670,   6.2501,  34.5310,2,     77.4,2,  34.5311,2,    77.35,2,    62.79,2,    36.71,2,     0.00,2,    2.620,2, -999.000,9, -999.000,9,   -999.0,9,   -999.0,9,-999.0000,9,  -999.00,  -999.00,9,  -999.00,9,   6.1890,2,  27.1578,2,   6.2501,2
49UP20150724_2,   P04,    27,  1,     22,     111,2,20150826,0921,1120,  9.4957, 155.8522, 5319,    776.8,      771,   5.6565,  34.5330,2,     76.3,2,  34.5326,2,    76.06,2,    71.90,2,    37.73,2,     0.00,2,    2.700,2, -999.000,9, -999.000,9,   -999.0,9,   -999.0,9,-999.0000,9,  -999.00,  -999.00,9,  -999.00,9,   5.5891,2,  27.2349,2,   5.6563,2
49UP20150724_2,   P04,    27,  1,     21,     078,2,20150826,0921,1117,  9.4957, 155.8522, 5319,    878.1,      871,   5.1705,  34.5405,2,     77.8,2,  34.5409,2,    78.14,2,    79.95,2,    38.31,2,     0.00,2,    2.740,2, -999.000,9, -999.000,9,   -999.0,9,   -999.0,9,-999.0000,9,  -999.00,  -999.00,9,  -999.00,9,   5.0969,2,  27.2997,2,   5.1709,2
49UP20150724_2,   P04,    27,  1,     20,     093,2,20150826,0921,1114,  9.4957, 155.8522, 5319,    980.4,      973,   4.6188,  34.5495,2,     81.2,2,  34.5486,2,    80.89,2,    90.24,2,    38.62,2,     0.00,2,    2.760,2, -999.000,9, -999.000,9,   -999.0,9,   -999.0,9,-999.0000,9,  -999.00,  -999.00,9,  -999.00,9,   4.5401,2,  27.3700,2,   4.6190,2
49UP20150724_2,   P04,    27,  1,     19,     092,2,20150826,0921,1110,  9.4957, 155.8522, 5319,   1140.4,     1131,   3.8709,  34.5680,2,     86.4,2,  34.5680,2,    86.19,2,   104.97,2,    39.05,2,     0.00,2,    2.780,2, -999.000,9, -999.000,9,   -999.0,9,   -999.0,9,-999.0000,9,  -999.00,  -999.00,9,  -999.00,9,   3.7845,2,  27.4646,2,   3.8726,2
49UP20150724_2,   P04,    27,  1,     18,     101,2,20150826,0921,1105,  9.4957, 155.8522, 5319,   1341.6,     1330,   3.2434,  34.5875,2,     93.0,2,  34.5877,2,    92.83,2,   117.87,2,    39.08,2,     0.00,2,    2.780,2, -999.000,9, -999.000,9,   -999.0,9,   -999.0,9,-999.0000,9,  -999.00,  -999.00,9,  -999.00,9,   3.1461,2,  27.5423,2,   3.2434,2
49UP20150724_2,   P04,    27,  1,     17,     090,2,20150826,0921,1100,  9.4957, 155.8522, 5319,   1545.8,     1531,   2.8463,  34.6037,2,     97.7,2,  34.6040,2,    97.52,6,   126.01,6,    39.08,6,     0.00,6,    2.770,6, -999.000,9, -999.000,9,   -999.0,9,   -999.0,9,-999.0000,9,  -999.00,  -999.00,9,  -999.00,9,   2.7364,2,  27.5925,2,   2.8465,2
49UP20150724_2,   P04,    27,  1,     16,     089,2,20150826,0921,1055,  9.4957, 155.8522, 5319,   1746.9,     1730,   2.5281,  34.6184,2,    102.6,2,  34.6188,6,   102.43,2,   132.66,2,    38.97,2,     0.00,2,    2.750,2, -999.000,9, -999.000,9,   -999.0,9,   -999.0,9,-999.0000,9,  -999.00,  -999.00,9,  -999.00,9,   2.4053,2,  27.6328,2,   2.5279,2
49UP20150724_2,   P04,    27,  1,     15,     088,2,20150826,0921,1051,  9.4957, 155.8522, 5319,   1950.4,     1930,   2.2812,  34.6312,2,    105.7,2,  34.6316,2,   105.42,2,   138.85,2,    38.95,2,     0.00,2,    2.750,2, -999.000,9, -999.000,9,   -999.0,9,   -999.0,9,-999.0000,9,  -999.00,  -999.00,9,  -999.00,9,   2.1447,2,  27.6646,2,   2.2812,2
49UP20150724_2,   P04,    27,  1,     14,     999,2,20150826,0921,1043,  9.4957, 155.8522, 5319,   2153.7,     2131,   2.0901,  34.6426,2,    111.2,2,  34.6425,2,   111.07,2,   142.51,2,    38.69,2,     0.00,2,    2.720,2, -999.000,9, -999.000,9,   -999.0,9,   -999.0,9,-999.0000,9,  -999.00,  -999.00,9,  -999.00,9,   1.9391,2,  27.6901,2,   2.0905,2
49UP20150724_2,   P04,    27,  1,     13,     667,2,20150826,0921,1039,  9.4957, 155.8522, 5319,   2356.8,     2330,   1.9431,  34.6514,2,    116.3,2,  34.6513,2,   116.32,2,   145.58,2,    38.36,2,     0.00,2,    2.690,2, -999.000,9, -999.000,9,   -999.0,9,   -999.0,9,-999.0000,9,  -999.00,  -999.00,9,  -999.00,9,   1.7767,2,  27.7098,2,   1.9432,2
49UP20150724_2,   P04,    27,  1,     12,     074,2,20150826,0921,1034,  9.4957, 155.8522, 5319,   2560.2,     2530,   1.8424,  34.6575,2,    121.3,2,  34.6581,2,   121.34,2,   146.87,2,    38.07,2,     0.00,2,    2.660,2, -999.000,9, -999.000,9,   -999.0,9,   -999.0,9,-999.0000,9,  -999.00,  -999.00,9,  -999.00,9,   1.6596,2,  27.7235,2,   1.8422,2
49UP20150724_2,   P04,    27,  1,     11,     268,2,20150826,0921,1027,  9.4957, 155.8522, 5319,   2765.6,     2732,   1.7557,  34.6635,2,    126.7,2,  34.6636,2,   126.52,2,   147.40,2,    37.67,2,     0.00,2,    2.640,2, -999.000,9, -999.000,9,   -999.0,9,   -999.0,9,-999.0000,9,  -999.00,  -999.00,9,  -999.00,9,   1.5556,2,  27.7360,2,   1.7554,2
49UP20150724_2,   P04,    27,  1,     10,     267,2,20150826,0921,1022,  9.4957, 155.8522, 5319,   2969.1,     2932,   1.6690,  34.6688,2,    133.5,2,  34.6691,2,   133.50,2,   146.86,2,    37.25,2,     0.00,2,    2.600,2, -999.000,9, -999.000,9,   -999.0,9,   -999.0,9,-999.0000,9,  -999.00,  -999.00,9,  -999.00,9,   1.4515,2,  27.7479,2,   1.6690,2
49UP20150724_2,   P04,    27,  1,      9,     518,2,20150826,0921,1015,  9.4957, 155.8522, 5319,   3214.7,     3172,   1.5963,  34.6745,2,    139.3,2,  34.6749,2,   139.23,6,   146.99,6,    36.88,6,     0.00,6,    2.570,6, -999.000,9, -999.000,9,   -999.0,9,   -999.0,9,-999.0000,9,  -999.00,  -999.00,9,  -999.00,9,   1.3565,2,  27.7593,2,   1.5964,2
49UP20150724_2,   P04,    27,  1,      8,     081,2,20150826,0921,1008,  9.4957, 155.8522, 5319,   3469.6,     3422,   1.5317,  34.6796,2,    146.9,2,  34.6799,6,   147.00,2,   144.58,2,    36.36,2,     0.00,2,    2.520,2, -999.000,9, -999.000,9,   -999.0,9,   -999.0,9,-999.0000,9,  -999.00,  -999.00,9,  -999.00,9,   1.2679,2,  27.7696,2,   1.5318,2
49UP20150724_2,   P04,    27,  1,      7,     516,2,20150826,0921,1003,  9.4957, 155.8522, 5319,   3724.1,     3671,   1.4975,  34.6833,2,    153.1,2,  34.6832,2,   152.74,2,   142.20,2,    35.96,2,     0.00,2,    2.500,2, -999.000,9, -999.000,9,   -999.0,9,   -999.0,9,-999.0000,9,  -999.00,  -999.00,9,  -999.00,9,   1.2082,2,  27.7767,2,   1.4975,2
49UP20150724_2,   P04,    27,  1,      6,     113,2,20150826,0921,0955,  9.4957, 155.8522, 5319,   3979.6,     3920,   1.4665,  34.6874,2,    158.9,2,  34.6877,2,   159.06,2,   139.78,2,    35.51,2,     0.00,2,    2.460,2, -999.000,9, -999.000,9,   -999.0,9,   -999.0,9,-999.0000,9,  -999.00,  -999.00,9,  -999.00,9,   1.1508,2,  27.7840,2,   1.4667,2
49UP20150724_2,   P04,    27,  1,      5,     658,2,20150826,0921,0950,  9.4957, 155.8522, 5319,   4237.3,     4172,   1.4545,  34.6904,2,    163.6,2,  34.6906,2,   163.72,2,   137.80,2,    35.17,2,     0.00,2,    2.430,2, -999.000,9, -999.000,9,   -999.0,9,   -999.0,9,-999.0000,9,  -999.00,  -999.00,9,  -999.00,9,   1.1107,2,  27.7891,2,   1.4547,2
49UP20150724_2,   P04,    27,  1,      4,     471,2,20150826,0921,0943,  9.4957, 155.8522, 5319,   4494.0,     4422,   1.4455,  34.6931,2,    168.1,2,  34.6931,2,   168.07,2,   135.45,2,    34.85,2,     0.00,2,    2.410,2, -999.000,9, -999.000,9,   -999.0,9,   -999.0,9,-999.0000,9,  -999.00,  -999.00,9,  -999.00,9,   1.0729,2,  27.7938,2,   1.4458,2
49UP20150724_2,   P04,    27,  1,      3,     104,2,20150826,0921,0931,  9.4957, 155.8522, 5319,   5007.2,     4921,   1.4613,  34.6961,2,    173.3,2,  34.6963,2,   172.74,2,   133.26,2,    34.55,2,     0.00,2,    2.390,2, -999.000,9, -999.000,9,   -999.0,9,   -999.0,9,-999.0000,9,  -999.00,  -999.00,9,  -999.00,9,   1.0275,2,  27.7993,2,   1.4615,2
49UP20150724_2,   P04,    27,  1,      2,     075,2,20150826,0921,0926,  9.4957, 155.8522, 5319,   5263.6,     5170,   1.4851,  34.6970,2,    174.4,2,  34.6973,2,   174.56,2,   132.39,2,    34.33,2,     0.00,2,    2.370,2, -999.000,9, -999.000,9,   -999.0,9,   -999.0,9,-999.0000,9,  -999.00,  -999.00,9,  -999.00,9,   1.0188,2,  27.8006,2,   1.4851,2
49UP20150724_2,   P04,    27,  1,      1,     997,2,20150826,0921,0922,  9.4957, 155.8522, 5319,   5408.6,     5311,   1.5044,  34.6967,2,    174.4,2,  34.6970,2,   174.09,2,   132.78,2,    34.45,2,     0.00,2,    2.380,2, -999.000,9, -999.000,9,   -999.0,9,   -999.0,9,-999.0000,9,  -999.00,  -999.00,9,  -999.00,9,   1.0192,2,  27.8004,2,   1.5043,2