BOTTLE,20191113JMAGEMD
EXPOCODE,SECT_ID,STNNBR,CASTNO,SAMPNO,BTLNBR,BTLNBR_FLAG_U,DATE,TIME,BTL_TIME,LATITUDE,LONGITUDE,DEPTH,CTDPRS,CTDDEP,CTDTMP,CTDSAL,CTDSAL_FLAG_W,CTDOXY,CTDOXY_FLAG_W,SALNTY,SALNTY_FLAG_W,OXYGEN,OXYGEN_FLAG_W,SILCAT,SILCAT_FLAG_W,NO2+NO3,NO2+NO3_FLAG_W,NITRIT,NITRIT_FLAG_W,PHSPHT,PHSPHT_FLAG_W,CFC-11,CFC-11_FLAG_W,CFC-12,CFC-12_FLAG_W,TCARBN,TCARBN_FLAG_W,ALKALI,ALKALI_FLAG_W,PH_TS,PH_TS_FLAG_W,PH_TS_TMP,CHLORA,CHLORA_FLAG_W,PPHYTN,PPHYTN_FLAG_W,THETA,THETA_FLAG_W,SIGTHT,SIGTHT_FLAG_W,SBE35,SBE35_FLAG_W
,,,,,,,,UTC,,,,METER,DBAR,METERS,ITS-90,PSS-78,,UMOL/KG,,PSS78,,UMOL/KG,,UMOL/KG,,UMOL/KG,,UMOL/KG,,UMOL/KG,,PMOL/KG,,PMOL/KG,,UMOL/KG,,UMOL/KG,,,,ITS-90,UG/KG,,UG/KG,,ITS-90,,KG/M3,,ITS-90,
49UP20150724_2,   P04,    18,  1,      0,      -9,0,20150829,1510,1710,  9.5055, 148.7642, 5076,      0.0,        0,  28.7984,  33.8901,2,    197.7,2,-999.0000,9,   196.94,2,     1.01,2,     0.03,2,     0.00,2,    0.060,2, -999.000,9, -999.000,9,   -999.0,9,   -999.0,9,-999.0000,9,  -999.00,  -999.00,9,  -999.00,9,  28.7978,2,  21.2982,2,-999.0000,9
49UP20150724_2,   P04,    18,  1,     36,     109,2,20150829,1510,1741,  9.5055, 148.7642, 5076,      9.6,       10,  28.8004,  33.8911,2,    197.6,2,  33.8929,2,   196.97,2,     0.96,2,     0.02,2,     0.00,2,    0.060,2, -999.000,9, -999.000,9,   -999.0,9,   -999.0,9,-999.0000,9,  -999.00,  -999.00,9,  -999.00,9,  28.7981,2,  21.2988,2,  28.7996,2
49UP20150724_2,   P04,    18,  1,     35,     112,2,20150829,1510,1740,  9.5055, 148.7642, 5076,     25.8,       26,  28.8359,  33.9173,2,    197.7,2,  33.9223,2,   197.37,6,     1.04,6,     0.04,6,     0.00,6,    0.060,6, -999.000,9, -999.000,9,   -999.0,9,   -999.0,9,-999.0000,9,  -999.00,  -999.00,9,  -999.00,9,  28.8297,2,  21.3080,2,  28.8367,2
49UP20150724_2,   P04,    18,  1,     34,     094,2,20150829,1510,1736,  9.5055, 148.7642, 5076,     50.6,       50,  27.7422,  34.8415,2,    208.9,2,  34.8523,6,   209.20,2,     1.02,2,     0.01,2,     0.00,2,    0.110,2, -999.000,9, -999.000,9,   -999.0,9,   -999.0,9,-999.0000,9,  -999.00,  -999.00,9,  -999.00,9,  27.7304,2,  22.3632,2,  27.7375,2
49UP20150724_2,   P04,    18,  1,     33,     469,2,20150829,1510,1733,  9.5055, 148.7642, 5076,    101.0,      100,  20.7675,  35.0374,2,    176.5,2,  35.0395,2,   177.00,2,     3.19,2,     2.55,2,     0.11,2,    0.360,2, -999.000,9, -999.000,9,   -999.0,9,   -999.0,9,-999.0000,9,  -999.00,  -999.00,9,  -999.00,9,  20.7483,2,  24.5906,2,  20.8133,2
49UP20150724_2,   P04,    18,  1,     32,     105,2,20150829,1510,1732,  9.5055, 148.7642, 5076,    126.4,      126,  17.4990,  34.7418,2,    156.0,2,  34.7441,2,   157.06,2,     7.01,2,     8.57,2,     0.02,2,    0.710,2, -999.000,9, -999.000,9,   -999.0,9,   -999.0,9,-999.0000,9,  -999.00,  -999.00,9,  -999.00,9,  17.4778,2,  25.2016,2,  17.4982,2
49UP20150724_2,   P04,    18,  1,     31,     515,2,20150829,1510,1730,  9.5055, 148.7642, 5076,    151.4,      150,  14.3681,  34.4775,2,    150.8,2,  34.4742,2,   151.32,2,    12.04,2,    13.32,2,     0.01,2,    1.030,2, -999.000,9, -999.000,9,   -999.0,9,   -999.0,9,-999.0000,9,  -999.00,  -999.00,9,  -999.00,9,  14.3459,2,  25.7102,2,  14.3877,2
49UP20150724_2,   P04,    18,  1,     30,     097,2,20150829,1510,1729,  9.5055, 148.7642, 5076,    176.9,      176,  12.5309,  34.4732,2,    111.4,2,  34.4565,2,   111.98,2,    20.74,2,    20.61,2,     0.00,2,    1.550,2, -999.000,9, -999.000,9,   -999.0,9,   -999.0,9,-999.0000,9,  -999.00,  -999.00,9,  -999.00,9,  12.5073,2,  26.0821,2,  12.5533,2
49UP20150724_2,   P04,    18,  1,     29,     102,2,20150829,1510,1727,  9.5055, 148.7642, 5076,    203.4,      202,  11.3796,  34.4637,2,     92.3,2,  34.4627,2,    92.11,2,    26.55,2,    24.77,2,     0.00,2,    1.830,2, -999.000,9, -999.000,9,   -999.0,9,   -999.0,9,-999.0000,9,  -999.00,  -999.00,9,  -999.00,9,  11.3541,2,  26.2933,2,  11.3808,2
49UP20150724_2,   P04,    18,  1,     28,     108,2,20150829,1510,1725,  9.5055, 148.7642, 5076,    253.1,      252,  10.1262,  34.4686,2,     73.0,2,  34.4685,2,    72.89,2,    32.73,2,    28.97,2,     0.00,2,    2.120,2, -999.000,9, -999.000,9,   -999.0,9,   -999.0,9,-999.0000,9,  -999.00,  -999.00,9,  -999.00,9,  10.0967,2,  26.5205,2,  10.1261,2
49UP20150724_2,   P04,    18,  1,     27,     998,2,20150829,1510,1723,  9.5055, 148.7642, 5076,    285.8,      284,   9.4637,  34.4943,2,     66.4,2,  34.5026,2,    67.98,2,    36.05,2,    30.71,2,     0.00,2,    2.220,2, -999.000,9, -999.000,9,   -999.0,9,   -999.0,9,-999.0000,9,  -999.00,  -999.00,9,  -999.00,9,   9.4317,2,  26.6521,2,   9.4681,2
49UP20150724_2,   P04,    18,  1,     26,     084,3,20150829,1510,1721,  9.5055, 148.7642, 5076,    373.0,      371,   8.3969,  34.5133,2,     69.9,2,  34.5135,2,    69.86,2,    42.86,2,    32.98,2,     0.00,2,    2.360,2, -999.000,9, -999.000,9,   -999.0,9,   -999.0,9,-999.0000,9,  -999.00,  -999.00,9,  -999.00,9,   8.3579,2,  26.8375,2,   8.3936,2
49UP20150724_2,   P04,    18,  1,     25,     098,2,20150829,1510,1717,  9.5055, 148.7642, 5076,    476.8,      474,   7.5873,  34.5220,2,     79.9,2,  34.5207,2,    79.98,2,    47.54,2,    33.86,2,     0.00,2,    2.410,2, -999.000,9, -999.000,9,   -999.0,9,   -999.0,9,-999.0000,9,  -999.00,  -999.00,9,  -999.00,9,   7.5400,2,  26.9659,2,   7.5910,2
49UP20150724_2,   P04,    18,  1,     24,     110,2,20150829,1510,1715,  9.5055, 148.7642, 5076,    575.7,      572,   6.8346,  34.5262,2,     85.6,2,  34.5258,6,    85.61,2,    54.10,2,    34.86,2,     0.00,2,    2.470,3, -999.000,9, -999.000,9,   -999.0,9,   -999.0,9,-999.0000,9,  -999.00,  -999.00,9,  -999.00,9,   6.7803,2,  27.0757,2,   6.8347,2
49UP20150724_2,   P04,    18,  1,     23,     096,2,20150829,1510,1712,  9.5055, 148.7642, 5076,    675.9,      671,   6.2302,  34.5230,2,     80.1,2,  34.5228,2,    80.23,6,    62.71,2,    36.38,6,     0.00,6,    2.600,6, -999.000,9, -999.000,9,   -999.0,9,   -999.0,9,-999.0000,9,  -999.00,  -999.00,9,  -999.00,9,   6.1691,2,  27.1541,2,   6.2257,2
49UP20150724_2,   P04,    18,  1,     22,     111,2,20150829,1510,1707,  9.5055, 148.7642, 5076,    778.8,      773,   5.6943,  34.5291,2,     80.2,2,  34.5285,2,    80.43,2,    70.83,2,    37.29,2,     0.00,2,    2.660,2, -999.000,9, -999.000,9,   -999.0,9,   -999.0,9,-999.0000,9,  -999.00,  -999.00,9,  -999.00,9,   5.6265,2,  27.2272,2,   5.6956,2
49UP20150724_2,   P04,    18,  1,     21,     078,2,20150829,1510,1704,  9.5055, 148.7642, 5076,    876.3,      870,   5.2873,  34.5342,2,     79.3,2,  34.5348,2,    79.35,2,    78.16,2,    37.80,2,     0.00,2,    2.710,2, -999.000,9, -999.000,9,   -999.0,9,   -999.0,9,-999.0000,9,  -999.00,  -999.00,9,  -999.00,9,   5.2131,2,  27.2811,2,   5.2858,2
49UP20150724_2,   P04,    18,  1,     20,     093,2,20150829,1510,1701,  9.5055, 148.7642, 5076,    979.4,      972,   4.7655,  34.5442,2,     80.3,2,  34.5438,2,    80.29,2,    87.80,2,    38.51,2,     0.00,2,    2.750,2, -999.000,9, -999.000,9,   -999.0,9,   -999.0,9,-999.0000,9,  -999.00,  -999.00,9,  -999.00,9,   4.6857,2,  27.3496,2,   4.7660,2
49UP20150724_2,   P04,    18,  1,     19,     092,2,20150829,1510,1656,  9.5055, 148.7642, 5076,   1140.8,     1131,   3.9388,  34.5642,2,     85.1,2,  34.5624,2,    85.12,2,   104.25,2,    39.05,2,     0.00,2,    2.790,2, -999.000,9, -999.000,9,   -999.0,9,   -999.0,9,-999.0000,9,  -999.00,  -999.00,9,  -999.00,9,   3.8517,2,  27.4547,2,   3.9386,2
49UP20150724_2,   P04,    18,  1,     18,     101,2,20150829,1510,1651,  9.5055, 148.7642, 5076,   1342.5,     1331,   3.2886,  34.5842,2,     91.5,2,  34.5841,2,    91.54,2,   117.43,2,    39.10,2,     0.00,2,    2.790,2, -999.000,9, -999.000,9,   -999.0,9,   -999.0,9,-999.0000,9,  -999.00,  -999.00,9,  -999.00,9,   3.1907,2,  27.5355,2,   3.2883,2
49UP20150724_2,   P04,    18,  1,     17,     090,2,20150829,1510,1643,  9.5055, 148.7642, 5076,   1545.3,     1531,   2.7308,  34.6067,2,    100.0,2,  34.6062,2,    99.98,2,   128.57,2,    38.93,2,     0.00,2,    2.750,2, -999.000,9, -999.000,9,   -999.0,9,   -999.0,9,-999.0000,9,  -999.00,  -999.00,9,  -999.00,9,   2.6222,2,  27.6049,2,   2.7310,2
49UP20150724_2,   P04,    18,  1,     16,     089,2,20150829,1510,1639,  9.5055, 148.7642, 5076,   1748.7,     1732,   2.4460,  34.6214,2,    104.2,2,  34.6215,2,   104.32,2,   134.48,2,    38.81,2,     0.00,2,    2.750,2, -999.000,9, -999.000,9,   -999.0,9,   -999.0,9,-999.0000,9,  -999.00,  -999.00,9,  -999.00,9,   2.3243,2,  27.6420,2,   2.4463,2
49UP20150724_2,   P04,    18,  1,     15,     088,2,20150829,1510,1634,  9.5055, 148.7642, 5076,   1950.3,     1930,   2.1848,  34.6359,2,    107.8,2,  34.6358,2,   108.05,2,   140.53,2,    38.76,2,     0.00,2,    2.740,2, -999.000,9, -999.000,9,   -999.0,9,   -999.0,9,-999.0000,9,  -999.00,  -999.00,9,  -999.00,9,   2.0498,2,  27.6760,2,   2.1853,2
49UP20150724_2,   P04,    18,  1,     14,     999,2,20150829,1510,1627,  9.5055, 148.7642, 5076,   2154.3,     2131,   2.0378,  34.6446,2,    113.2,2,  34.6445,2,   113.31,2,   143.32,2,    38.48,2,     0.00,2,    2.710,2, -999.000,9, -999.000,9,   -999.0,9,   -999.0,9,-999.0000,9,  -999.00,  -999.00,9,  -999.00,9,   1.8876,2,  27.6958,2,   2.0378,2
49UP20150724_2,   P04,    18,  1,     13,     667,3,20150829,1510,1622,  9.5055, 148.7642, 5076,   2358.9,     2332,   1.9255,  34.6518,2,    117.9,2,  34.6515,2,   117.62,2,   144.69,2,    38.21,2,     0.00,2,    2.680,2, -999.000,9, -999.000,9,   -999.0,9,   -999.0,9,-999.0000,9,  -999.00,  -999.00,9,  -999.00,9,   1.7592,2,  27.7114,2,   1.9257,2
49UP20150724_2,   P04,    18,  1,     12,     074,2,20150829,1510,1617,  9.5055, 148.7642, 5076,   2561.0,     2531,   1.8188,  34.6583,2,    123.5,2,  34.6586,6,   123.46,2,   146.58,2,    37.87,2,     0.00,2,    2.660,2, -999.000,9, -999.000,9,   -999.0,9,   -999.0,9,-999.0000,9,  -999.00,  -999.00,9,  -999.00,9,   1.6364,2,  27.7259,2,   1.8189,2
49UP20150724_2,   P04,    18,  1,     11,     268,2,20150829,1510,1610,  9.5055, 148.7642, 5076,   2764.8,     2731,   1.7181,  34.6637,2,    130.3,2,  34.6638,2,   130.40,6,   146.51,6,    37.44,6,     0.00,6,    2.620,6, -999.000,9, -999.000,9,   -999.0,9,   -999.0,9,-999.0000,9,  -999.00,  -999.00,9,  -999.00,9,   1.5189,2,  27.7389,2,   1.7182,2
49UP20150724_2,   P04,    18,  1,     10,     267,2,20150829,1510,1605,  9.5055, 148.7642, 5076,   2968.1,     2931,   1.6461,  34.6678,2,    135.2,2,  34.6679,2,   135.78,2,   146.50,2,    37.04,2,     0.00,2,    2.590,2, -999.000,9, -999.000,9,   -999.0,9,   -999.0,9,-999.0000,9,  -999.00,  -999.00,9,  -999.00,9,   1.4292,2,  27.7487,2,   1.6462,2
49UP20150724_2,   P04,    18,  1,      9,     518,2,20150829,1510,1559,  9.5055, 148.7642, 5076,   3212.6,     3170,   1.5681,  34.6738,2,    141.8,2,  34.6735,2,   141.59,2,   146.05,2,    36.63,2,     0.00,2,    2.560,2, -999.000,9, -999.000,9,   -999.0,9,   -999.0,9,-999.0000,9,  -999.00,  -999.00,9,  -999.00,9,   1.3291,2,  27.7606,2,   1.5681,2
49UP20150724_2,   P04,    18,  1,      8,     081,2,20150829,1510,1550,  9.5055, 148.7642, 5076,   3470.1,     3422,   1.5221,  34.6786,2,    147.9,2,  34.6781,6,   147.79,2,   144.16,2,    36.19,2,     0.00,2,    2.520,2, -999.000,9, -999.000,9,   -999.0,9,   -999.0,9,-999.0000,9,  -999.00,  -999.00,9,  -999.00,9,   1.2585,2,  27.7695,2,   1.5222,2
49UP20150724_2,   P04,    18,  1,      7,     516,2,20150829,1510,1545,  9.5055, 148.7642, 5076,   3722.6,     3669,   1.5110,  34.6810,2,    151.3,2,  34.6808,2,   150.95,6,   143.30,6,    36.00,6,     0.00,6,    2.510,6, -999.000,9, -999.000,9,   -999.0,9,   -999.0,9,-999.0000,9,  -999.00,  -999.00,9,  -999.00,9,   1.2215,2,  27.7740,2,   1.5109,2
49UP20150724_2,   P04,    18,  1,      6,     113,2,20150829,1510,1538,  9.5055, 148.7642, 5076,   3979.6,     3920,   1.5007,  34.6839,2,    154.8,2,  34.6833,2,   154.41,2,   141.88,2,    35.75,2,     0.00,2,    2.480,2, -999.000,9, -999.000,9,   -999.0,9,   -999.0,9,-999.0000,9,  -999.00,  -999.00,9,  -999.00,9,   1.1840,2,  27.7789,2,   1.5008,2
49UP20150724_2,   P04,    18,  1,      5,     658,2,20150829,1510,1532,  9.5055, 148.7642, 5076,   4235.7,     4170,   1.4907,  34.6866,2,    158.8,2,  34.6862,2,   158.52,2,   140.36,2,    35.44,2,     0.00,2,    2.460,2, -999.000,9, -999.000,9,   -999.0,9,   -999.0,9,-999.0000,9,  -999.00,  -999.00,9,  -999.00,9,   1.1460,2,  27.7837,2,   1.4907,2
49UP20150724_2,   P04,    18,  1,      4,     471,2,20150829,1510,1526,  9.5055, 148.7642, 5076,   4493.1,     4421,   1.4654,  34.6908,2,    165.0,2,  34.6901,2,   165.05,2,   137.22,2,    34.99,2,     0.00,2,    2.430,2, -999.000,9, -999.000,9,   -999.0,9,   -999.0,9,-999.0000,9,  -999.00,  -999.00,9,  -999.00,9,   1.0923,2,  27.7907,2,   1.4656,2
49UP20150724_2,   P04,    18,  1,      3,     104,2,20150829,1510,1520,  9.5055, 148.7642, 5076,   4748.0,     4669,   1.4751,  34.6922,2,    167.5,2,  34.6918,2,   167.55,2,   136.49,2,    34.88,2,     0.00,2,    2.430,2, -999.000,9, -999.000,9,   -999.0,9,   -999.0,9,-999.0000,9,  -999.00,  -999.00,9,  -999.00,9,   1.0719,2,  27.7932,2,   1.4751,2
49UP20150724_2,   P04,    18,  1,      2,     075,2,20150829,1510,1514,  9.5055, 148.7642, 5076,   5006.9,     4921,   1.4881,  34.6937,2,    169.8,2,  34.6939,2,   170.05,2,   134.61,2,    34.62,2,     0.00,2,    2.400,2, -999.000,9, -999.000,9,   -999.0,9,   -999.0,9,-999.0000,9,  -999.00,  -999.00,9,  -999.00,9,   1.0534,2,  27.7956,2,   1.4881,2
49UP20150724_2,   P04,    18,  1,      1,     997,2,20150829,1510,1511,  9.5055, 148.7642, 5076,   5139.8,     5050,   1.4995,  34.6939,2,    170.5,2,  34.6944,2,   170.70,2,   134.78,2,    34.59,2,     0.00,2,    2.390,2, -999.000,9, -999.000,9,   -999.0,9,   -999.0,9,-999.0000,9,  -999.00,  -999.00,9,  -999.00,9,   1.0481,2,  27.7962,2,   1.4994,2