BOTTLE,20191113JMAGEMD
EXPOCODE,SECT_ID,STNNBR,CASTNO,SAMPNO,BTLNBR,BTLNBR_FLAG_U,DATE,TIME,BTL_TIME,LATITUDE,LONGITUDE,DEPTH,CTDPRS,CTDDEP,CTDTMP,CTDSAL,CTDSAL_FLAG_W,CTDOXY,CTDOXY_FLAG_W,SALNTY,SALNTY_FLAG_W,OXYGEN,OXYGEN_FLAG_W,SILCAT,SILCAT_FLAG_W,NO2+NO3,NO2+NO3_FLAG_W,NITRIT,NITRIT_FLAG_W,PHSPHT,PHSPHT_FLAG_W,CFC-11,CFC-11_FLAG_W,CFC-12,CFC-12_FLAG_W,TCARBN,TCARBN_FLAG_W,ALKALI,ALKALI_FLAG_W,PH_TS,PH_TS_FLAG_W,PH_TS_TMP,CHLORA,CHLORA_FLAG_W,PPHYTN,PPHYTN_FLAG_W,THETA,THETA_FLAG_W,SIGTHT,SIGTHT_FLAG_W,SBE35,SBE35_FLAG_W
,,,,,,,,UTC,,,,METER,DBAR,METERS,ITS-90,PSS-78,,UMOL/KG,,PSS78,,UMOL/KG,,UMOL/KG,,UMOL/KG,,UMOL/KG,,UMOL/KG,,PMOL/KG,,PMOL/KG,,UMOL/KG,,UMOL/KG,,,,ITS-90,UG/KG,,UG/KG,,ITS-90,,KG/M3,,ITS-90,
49UP20150724_1,   P04,    48,  1,      0,      -9,0,20150808,1304,1455,  5.0088, 167.6850, 4677,      0.0,        0,  29.1878,  34.1625,2,    196.9,2,-999.0000,9,   195.73,2,     1.08,2,     0.02,2,     0.00,2,    0.080,2, -999.000,9, -999.000,9,   -999.0,9,   -999.0,9,-999.0000,9,  -999.00,  -999.00,9,  -999.00,9,  29.1871,2,  21.3729,2,-999.0000,9
49UP20150724_1,   P04,    48,  1,     36,     109,2,20150808,1304,1525,  5.0088, 167.6850, 4677,     11.1,       11,  28.8401,  34.1705,2,    197.9,2,  34.1710,2,   197.05,2,     1.10,2,     0.00,2,     0.00,2,    0.060,2, -999.000,9, -999.000,9,   -999.0,9,   -999.0,9,-999.0000,9,  -999.00,  -999.00,9,  -999.00,9,  28.8375,2,  21.4955,2,  28.8401,2
49UP20150724_1,   P04,    48,  1,     35,     112,2,20150808,1304,1524,  5.0088, 167.6850, 4677,     26.2,       26,  28.3534,  34.3425,2,    197.6,2,  34.3111,4,   196.46,2,     1.10,2,     0.08,2,     0.00,2,    0.080,2, -999.000,9, -999.000,9,   -999.0,9,   -999.0,9,-999.0000,9,  -999.00,  -999.00,9,  -999.00,9,  28.3472,2,  21.7866,2,  28.3476,2
49UP20150724_1,   P04,    48,  1,     34,     083,2,20150808,1304,1523,  5.0088, 167.6850, 4677,     51.4,       51,  25.6438,  35.0472,2,    167.6,2,  35.0548,2,   167.07,2,     1.59,2,     3.91,2,     0.18,2,    0.410,2, -999.000,9, -999.000,9,   -999.0,9,   -999.0,9,-999.0000,9,  -999.00,  -999.00,9,  -999.00,9,  25.6325,2,  23.1830,2,  25.6341,2
49UP20150724_1,   P04,    48,  1,     33,     469,2,20150808,1304,1521,  5.0088, 167.6850, 4677,     75.3,       75,  24.8531,  35.0976,2,    140.7,2,  35.0946,2,   141.51,2,     3.27,2,     7.42,2,     0.55,2,    0.600,2, -999.000,9, -999.000,9,   -999.0,9,   -999.0,9,-999.0000,9,  -999.00,  -999.00,9,  -999.00,9,  24.8369,2,  23.4645,2,  24.8522,2
49UP20150724_1,   P04,    48,  1,     32,     105,2,20150808,1304,1516,  5.0088, 167.6850, 4677,    102.8,      102,  23.5617,  35.0099,2,    151.0,2,  35.0116,6,   152.32,2,     3.58,2,     6.30,2,     0.81,2,    0.530,2, -999.000,9, -999.000,9,   -999.0,9,   -999.0,9,-999.0000,9,  -999.00,  -999.00,9,  -999.00,9,  23.5404,2,  23.7842,2,  23.5685,2
49UP20150724_1,   P04,    48,  1,     31,     515,2,20150808,1304,1515,  5.0088, 167.6850, 4677,    128.4,      128,  22.3742,  34.9664,2,    152.8,2,  34.9661,2,   154.11,6,     5.22,6,     6.31,6,     0.04,6,    0.530,6, -999.000,9, -999.000,9,   -999.0,9,   -999.0,9,-999.0000,9,  -999.00,  -999.00,9,  -999.00,9,  22.3485,2,  24.0942,2,  22.3692,2
49UP20150724_1,   P04,    48,  1,     30,     097,2,20150808,1304,1514,  5.0088, 167.6850, 4677,    152.1,      151,  18.7790,  34.8016,2,    141.2,2,  34.8093,2,   142.59,2,     8.68,2,    10.11,2,     0.02,2,    0.790,2, -999.000,9, -999.000,9,   -999.0,9,   -999.0,9,-999.0000,9,  -999.00,  -999.00,9,  -999.00,9,  18.7521,2,  24.9325,2,  18.7790,2
49UP20150724_1,   P04,    48,  1,     29,     102,3,20150808,1304,1513,  5.0088, 167.6850, 4677,    177.2,      176,  14.2474,  34.5822,2,    132.4,2,  34.5864,2,   134.53,2,    16.66,2,    16.31,2,     0.01,2,    1.200,2, -999.000,9, -999.000,9,   -999.0,9,   -999.0,9,-999.0000,9,  -999.00,  -999.00,9,  -999.00,9,  14.2216,2,  25.8175,2,  14.2489,2
49UP20150724_1,   P04,    48,  1,     28,     108,2,20150808,1304,1511,  5.0088, 167.6850, 4677,    202.7,      201,  11.1417,  34.5560,2,     73.8,2,  34.5548,2,    73.83,2,    28.01,2,    27.34,2,     0.00,2,    2.000,2, -999.000,9, -999.000,9,   -999.0,9,   -999.0,9,-999.0000,9,  -999.00,  -999.00,9,  -999.00,9,  11.1167,2,  26.4086,2,  11.1425,2
49UP20150724_1,   P04,    48,  1,     27,     998,2,20150808,1304,1509,  5.0088, 167.6850, 4677,    253.8,      252,  10.0921,  34.6306,2,     45.7,2,  34.6274,2,    46.81,2,    32.39,2,    32.31,2,     0.00,2,    2.320,2, -999.000,9, -999.000,9,   -999.0,9,   -999.0,9,-999.0000,9,  -999.00,  -999.00,9,  -999.00,9,  10.0626,2,  26.6528,2,  10.0912,2
49UP20150724_1,   P04,    48,  1,     26,     084,2,20150808,1304,1507,  5.0088, 167.6850, 4677,    305.3,      303,   9.4981,  34.6364,2,     46.6,2,  34.6357,2,    47.10,2,    34.25,2,    33.53,2,     0.00,2,    2.390,2, -999.000,9, -999.000,9,   -999.0,9,   -999.0,9,-999.0000,9,  -999.00,  -999.00,9,  -999.00,9,   9.4637,2,  26.7580,2,   9.5023,2
49UP20150724_1,   P04,    48,  1,     25,     098,2,20150808,1304,1503,  5.0088, 167.6850, 4677,    406.9,      404,   8.5195,  34.6097,2,     56.4,2,  34.6123,4,    57.06,6,    38.14,6,    34.62,6,     0.00,6,    2.450,6, -999.000,9, -999.000,9,   -999.0,9,   -999.0,9,-999.0000,9,  -999.00,  -999.00,9,  -999.00,9,   8.4764,2,  26.8949,2,   8.5202,2
49UP20150724_1,   P04,    48,  1,     24,     110,2,20150808,1304,1458,  5.0088, 167.6850, 4677,    507.6,      504,   7.1206,  34.5613,2,     45.8,2,  34.5624,6,    45.80,2,    51.80,2,    38.19,2,     0.00,2,    2.750,2, -999.000,9, -999.000,9,   -999.0,9,   -999.0,9,-999.0000,9,  -999.00,  -999.00,9,  -999.00,9,   7.0719,2,  27.0632,2,   7.1239,2
49UP20150724_1,   P04,    48,  1,     23,     096,2,20150808,1304,1454,  5.0088, 167.6850, 4677,    606.8,      603,   6.4446,  34.5496,2,     46.8,2,  34.5501,2,    46.67,2,    59.15,2,    39.66,2,     0.00,2,    2.850,2, -999.000,9, -999.000,9,   -999.0,9,   -999.0,9,-999.0000,9,  -999.00,  -999.00,9,  -999.00,9,   6.3890,2,  27.1465,2,   6.4502,2
49UP20150724_1,   P04,    48,  1,     22,     111,2,20150808,1304,1450,  5.0088, 167.6850, 4677,    706.4,      701,   5.8314,  34.5436,2,     53.0,2,  34.5436,2,    52.52,2,    67.66,2,    40.32,2,     0.00,2,    2.890,2, -999.000,9, -999.000,9,   -999.0,9,   -999.0,9,-999.0000,9,  -999.00,  -999.00,9,  -999.00,9,   5.7695,2,  27.2210,2,   5.8313,2
49UP20150724_1,   P04,    48,  1,     21,     078,2,20150808,1304,1447,  5.0088, 167.6850, 4677,    810.5,      804,   5.2165,  34.5478,2,     55.5,2,  34.5473,2,    54.37,2,    77.09,2,    41.13,2,     0.00,2,    2.940,2, -999.000,9, -999.000,9,   -999.0,9,   -999.0,9,-999.0000,9,  -999.00,  -999.00,9,  -999.00,9,   5.1487,2,  27.2995,2,   5.2200,2
49UP20150724_1,   P04,    48,  1,     20,     093,2,20150808,1304,1440,  5.0088, 167.6850, 4677,    909.8,      903,   4.7829,  34.5531,2,     61.3,2,  34.5530,2,    60.77,2,    85.52,2,    41.04,2,     0.00,2,    2.940,2, -999.000,9, -999.000,9,   -999.0,9,   -999.0,9,-999.0000,9,  -999.00,  -999.00,9,  -999.00,9,   4.7092,2,  27.3541,2,   4.7830,2
49UP20150724_1,   P04,    48,  1,     19,     092,2,20150808,1304,1436,  5.0088, 167.6850, 4677,   1012.0,     1004,   4.3824,  34.5602,2,     70.9,2,  34.5587,4,    76.00,2,    91.68,2,    39.88,2,     0.00,2,    2.860,2, -999.000,9, -999.000,9,   -999.0,9,   -999.0,9,-999.0000,9,  -999.00,  -999.00,9,  -999.00,9,   4.3027,2,  27.4044,2,   4.3828,2
49UP20150724_1,   P04,    48,  1,     18,     101,2,20150808,1304,1430,  5.0088, 167.6850, 4677,   1213.3,     1203,   3.6475,  34.5806,2,     77.8,2,  34.5810,2,    77.86,6,   108.23,6,    40.41,6,     0.00,6,    2.900,6, -999.000,9, -999.000,9,   -999.0,9,   -999.0,9,-999.0000,9,  -999.00,  -999.00,9,  -999.00,9,   3.5568,2,  27.4973,2,   3.6478,2
49UP20150724_1,   P04,    48,  1,     17,     090,2,20150808,1304,1423,  5.0088, 167.6850, 4677,   1413.5,     1401,   3.1261,  34.5978,2,     85.5,2,  34.5989,6,    85.30,2,   119.91,2,    40.06,2,     0.00,2,    2.860,2, -999.000,9, -999.000,9,   -999.0,9,   -999.0,9,-999.0000,9,  -999.00,  -999.00,9,  -999.00,9,   3.0240,2,  27.5618,2,   3.1252,2
49UP20150724_1,   P04,    48,  1,     16,     089,2,20150808,1304,1417,  5.0088, 167.6850, 4677,   1619.2,     1604,   2.6953,  34.6137,2,     96.3,2,  34.6154,4,    96.49,2,   128.68,2,    39.43,2,     0.00,2,    2.800,2, -999.000,9, -999.000,9,   -999.0,9,   -999.0,9,-999.0000,9,  -999.00,  -999.00,9,  -999.00,9,   2.5811,2,  27.6140,2,   2.6942,2
49UP20150724_1,   P04,    48,  1,     15,     088,2,20150808,1304,1412,  5.0088, 167.6850, 4677,   1820.8,     1803,   2.3939,  34.6289,2,    104.2,2,  34.6292,2,   104.12,2,   134.94,2,    39.06,2,     0.00,2,    2.760,2, -999.000,9, -999.000,9,   -999.0,9,   -999.0,9,-999.0000,9,  -999.00,  -999.00,9,  -999.00,9,   2.2668,2,  27.6528,2,   2.3938,2
49UP20150724_1,   P04,    48,  1,     14,     999,2,20150808,1304,1408,  5.0088, 167.6850, 4677,   2023.3,     2002,   2.1384,  34.6426,2,    109.2,2,  34.6427,2,   108.92,2,   141.41,2,    38.80,2,     0.00,2,    2.740,2, -999.000,9, -999.000,9,   -999.0,9,   -999.0,9,-999.0000,9,  -999.00,  -999.00,9,  -999.00,9,   1.9979,2,  27.6855,2,   2.1383,2
49UP20150724_1,   P04,    48,  1,     13,     667,2,20150808,1304,1400,  5.0088, 167.6850, 4677,   2225.2,     2201,   1.9609,  34.6528,2,    115.8,2,  34.6523,2,   115.55,2,   144.39,2,    38.40,2,     0.00,2,    2.700,2, -999.000,9, -999.000,9,   -999.0,9,   -999.0,9,-999.0000,9,  -999.00,  -999.00,9,  -999.00,9,   1.8058,2,  27.7086,2,   1.9605,2
49UP20150724_1,   P04,    48,  1,     12,     074,2,20150808,1304,1355,  5.0088, 167.6850, 4677,   2428.8,     2401,   1.8583,  34.6588,2,    120.2,2,  34.6587,2,   120.18,2,   146.30,2,    38.13,2,     0.00,2,    2.670,2, -999.000,9, -999.000,9,   -999.0,9,   -999.0,9,-999.0000,9,  -999.00,  -999.00,9,  -999.00,9,   1.6870,2,  27.7225,2,   1.8577,2
49UP20150724_1,   P04,    48,  1,     11,     268,2,20150808,1304,1351,  5.0088, 167.6850, 4677,   2630.1,     2599,   1.7790,  34.6634,2,    125.3,2,  34.6628,2,   124.99,2,   146.98,2,    37.82,2,     0.00,2,    2.650,2, -999.000,9, -999.000,9,   -999.0,9,   -999.0,9,-999.0000,9,  -999.00,  -999.00,9,  -999.00,9,   1.5910,2,  27.7334,2,   1.7788,2
49UP20150724_1,   P04,    48,  1,     10,     267,2,20150808,1304,1348,  5.0088, 167.6850, 4677,   2835.2,     2801,   1.6970,  34.6683,2,    131.1,2,  34.6679,2,   131.03,2,   146.86,2,    37.41,2,     0.00,2,    2.610,2, -999.000,9, -999.000,9,   -999.0,9,   -999.0,9,-999.0000,9,  -999.00,  -999.00,9,  -999.00,9,   1.4916,2,  27.7446,2,   1.6969,2
49UP20150724_1,   P04,    48,  1,      9,     518,2,20150808,1304,1342,  5.0088, 167.6850, 4677,   3037.1,     2999,   1.6412,  34.6719,2,    136.0,2,  34.6722,2,   135.79,6,   146.45,6,    37.13,6,     0.00,6,    2.590,6, -999.000,9, -999.000,9,   -999.0,9,   -999.0,9,-999.0000,9,  -999.00,  -999.00,9,  -999.00,9,   1.4178,2,  27.7528,2,   1.6410,2
49UP20150724_1,   P04,    48,  1,      8,     081,2,20150808,1304,1337,  5.0088, 167.6850, 4677,   3292.8,     3249,   1.5703,  34.6769,2,    143.0,2,  34.6771,6,   143.13,2,   144.90,2,    36.62,2,     0.00,2,    2.540,2, -999.000,9, -999.000,9,   -999.0,9,   -999.0,9,-999.0000,9,  -999.00,  -999.00,9,  -999.00,9,   1.3234,2,  27.7635,2,   1.5703,2
49UP20150724_1,   P04,    48,  1,      7,     516,2,20150808,1304,1332,  5.0088, 167.6850, 4677,   3547.8,     3499,   1.5073,  34.6821,2,    150.3,2,  34.6820,2,   149.90,2,   143.20,2,    36.18,2,     0.00,2,    2.510,2, -999.000,9, -999.000,9,   -999.0,9,   -999.0,9,-999.0000,9,  -999.00,  -999.00,9,  -999.00,9,   1.2361,2,  27.7738,2,   1.5073,2
49UP20150724_1,   P04,    48,  1,      6,     113,2,20150808,1304,1325,  5.0088, 167.6850, 4677,   3804.2,     3749,   1.4567,  34.6869,2,    158.1,2,  34.6873,2,   158.17,2,   140.12,2,    35.59,2,     0.00,2,    2.470,2, -999.000,9, -999.000,9,   -999.0,9,   -999.0,9,-999.0000,9,  -999.00,  -999.00,9,  -999.00,9,   1.1601,2,  27.7829,2,   1.4566,2
49UP20150724_1,   P04,    48,  1,      5,     094,2,20150808,1304,1320,  5.0088, 167.6850, 4677,   4057.7,     3997,   1.4262,  34.6914,2,    165.2,2,  34.6910,2,   164.89,2,   136.19,2,    34.98,2,     0.00,2,    2.420,2, -999.000,9, -999.000,9,   -999.0,9,   -999.0,9,-999.0000,9,  -999.00,  -999.00,9,  -999.00,9,   1.1031,2,  27.7905,2,   1.4264,2
49UP20150724_1,   P04,    48,  1,      4,     471,2,20150808,1304,1315,  5.0088, 167.6850, 4677,   4314.8,     4248,   1.4016,  34.6944,2,    171.3,2,  34.6949,2,   171.26,2,   133.73,2,    34.61,2,     0.00,2,    2.390,2, -999.000,9, -999.000,9,   -999.0,9,   -999.0,9,-999.0000,9,  -999.00,  -999.00,9,  -999.00,9,   1.0506,2,  27.7964,2,   1.4013,2
49UP20150724_1,   P04,    48,  1,      3,     104,2,20150808,1304,1309,  5.0088, 167.6850, 4677,   4572.3,     4499,   1.3830,  34.6973,2,    177.4,2,  34.6981,2,   177.25,2,   130.35,2,    34.19,2,     0.00,2,    2.360,2, -999.000,9, -999.000,9,   -999.0,9,   -999.0,9,-999.0000,9,  -999.00,  -999.00,9,  -999.00,9,   1.0033,2,  27.8019,2,   1.3829,2
49UP20150724_1,   P04,    48,  1,      2,     075,2,20150808,1304,1309,  5.0088, 167.6850, 4677,   4572.8,     4499,   1.3822,  34.6977,2,    177.3,2,  34.6985,2,   177.20,2,   130.28,2,    34.14,2,     0.00,2,    2.360,2, -999.000,9, -999.000,9,   -999.0,9,   -999.0,9,-999.0000,9,  -999.00,  -999.00,9,  -999.00,9,   1.0024,2,  27.8023,2,   1.3824,2
49UP20150724_1,   P04,    48,  1,      1,     997,2,20150808,1304,1305,  5.0088, 167.6850, 4677,   4752.4,     4674,   1.3715,  34.6991,2,    180.8,2,  34.6996,2,   180.30,2,   128.85,2,    33.94,2,     0.00,2,    2.340,2, -999.000,9, -999.000,9,   -999.0,9,   -999.0,9,-999.0000,9,  -999.00,  -999.00,9,  -999.00,9,   0.9711,2,  27.8055,2,   1.3711,2