BOTTLE,20191113JMAGEMD
EXPOCODE,SECT_ID,STNNBR,CASTNO,SAMPNO,BTLNBR,BTLNBR_FLAG_U,DATE,TIME,BTL_TIME,LATITUDE,LONGITUDE,DEPTH,CTDPRS,CTDDEP,CTDTMP,CTDSAL,CTDSAL_FLAG_W,CTDOXY,CTDOXY_FLAG_W,SALNTY,SALNTY_FLAG_W,OXYGEN,OXYGEN_FLAG_W,SILCAT,SILCAT_FLAG_W,NO2+NO3,NO2+NO3_FLAG_W,NITRIT,NITRIT_FLAG_W,PHSPHT,PHSPHT_FLAG_W,CFC-11,CFC-11_FLAG_W,CFC-12,CFC-12_FLAG_W,TCARBN,TCARBN_FLAG_W,ALKALI,ALKALI_FLAG_W,PH_TS,PH_TS_FLAG_W,PH_TS_TMP,CHLORA,CHLORA_FLAG_W,PPHYTN,PPHYTN_FLAG_W,THETA,THETA_FLAG_W,SIGTHT,SIGTHT_FLAG_W,SBE35,SBE35_FLAG_W
,,,,,,,,UTC,,,,METER,DBAR,METERS,ITS-90,PSS-78,,UMOL/KG,,PSS78,,UMOL/KG,,UMOL/KG,,UMOL/KG,,UMOL/KG,,UMOL/KG,,PMOL/KG,,PMOL/KG,,UMOL/KG,,UMOL/KG,,,,ITS-90,UG/KG,,UG/KG,,ITS-90,,KG/M3,,ITS-90,
49UP20150724_2,   P04,    26,  1,      0,      -9,0,20150826,1751,2000,  9.4968, 155.0060, 5371,      0.0,        0,  28.8663,  33.8262,2,    197.1,2,  33.8544,2,   196.67,2,     0.96,2,     0.04,2,     0.00,2,    0.080,2, -999.000,9, -999.000,9,   1900.1,2,   2221.5,2,   8.1140,2,    25.00,     0.05,2,     0.02,2,  28.8657,2,  21.2276,2,-999.0000,9
49UP20150724_2,   P04,    26,  1,     36,     109,2,20150826,1751,2019,  9.4968, 155.0060, 5371,     11.1,       11,  28.9060,  33.8655,2,    196.9,2,  33.8619,2,   196.52,2,     0.98,2,     0.02,2,     0.00,2,    0.080,2,    1.275,3,    0.728,3,   1899.8,2,   2220.3,2,   8.1155,2,    25.00,     0.05,2,     0.02,2,  28.9034,2,  21.2446,2,  28.9059,2
49UP20150724_2,   P04,    26,  1,     35,     112,2,20150826,1751,2017,  9.4968, 155.0060, 5371,     51.5,       51,  28.6690,  33.9560,2,    197.7,2,  33.9654,2,   198.49,2,     1.02,2,     0.03,2,     0.00,2,    0.080,2,    1.273,3,    0.691,3,   1909.9,3,   2226.4,2,   8.1133,2,    25.00,     0.08,2,     0.03,2,  28.6566,2,  21.3943,2,  28.6671,2
49UP20150724_2,   P04,    26,  1,     34,     094,2,20150826,1751,2016,  9.4968, 155.0060, 5371,     75.2,       75,  23.0250,  34.8626,2,    192.9,2,  34.8706,2,   192.22,2,     3.03,2,     0.11,2,     0.00,2,    0.260,2, -999.000,9, -999.000,9,   2035.2,2,   2295.3,2,   7.9846,2,    25.00,     0.25,2,     0.26,2,  23.0097,2,  23.8266,2,  23.0187,2
49UP20150724_2,   P04,    26,  1,     33,     469,2,20150826,1751,2012,  9.4968, 155.0060, 5371,    101.2,      101,  18.9009,  34.7892,2,    156.6,2,  34.7858,2,   157.39,2,     6.70,2,     7.48,2,     0.32,2,    0.690,2,    1.864,3,    1.025,3,   2090.5,2,   2290.3,2,   7.8660,2,    25.00,     0.22,2,     0.46,2,  18.8830,2,  24.8898,2,  18.8969,2
49UP20150724_2,   P04,    26,  1,     32,     105,2,20150826,1751,2011,  9.4968, 155.0060, 5371,    125.2,      124,  16.4832,  34.6539,2,    147.3,2,  34.6513,2,   147.69,6,     9.34,6,    11.06,6,     0.12,6,    0.900,6, -999.000,9, -999.000,9,   2109.0,2,   2281.4,2,   7.8060,2,    25.00,     0.14,2,     0.34,2,  16.4631,2,  25.3747,2,  16.4557,2
49UP20150724_2,   P04,    26,  1,     31,     515,2,20150826,1751,2010,  9.4968, 155.0060, 5371,    151.2,      150,  13.5442,  34.4793,2,    119.5,2,  34.4897,6,   116.89,2,    17.57,2,    18.85,2,     0.02,2,    1.430,2,    1.833,3,    0.945,3,   2155.6,2,   2275.8,2,   7.6880,2,    25.00,     0.06,2,     0.20,2,  13.5230,2,  25.8836,2,  13.5367,2
49UP20150724_2,   P04,    26,  1,     30,     097,2,20150826,1751,2008,  9.4968, 155.0060, 5371,    179.1,      178,  11.8212,  34.4669,2,     90.0,2,  34.4669,2,    92.06,2,    23.32,2,    23.62,2,     0.00,2,    1.760,2, -999.000,9, -999.000,9,   2188.8,2,   2279.2,2,   7.6134,2,    25.00,     0.03,2,     0.08,2,  11.7982,2,  26.2132,2,  11.8057,2
49UP20150724_2,   P04,    26,  1,     29,     102,2,20150826,1751,2007,  9.4968, 155.0060, 5371,    202.3,      201,  10.6528,  34.4772,2,     69.8,2,  34.4836,2,    74.41,2,    29.80,2,    28.44,2,     0.00,2,    2.090,2,    1.198,3,    0.611,3,   2217.5,2,   2285.7,2,   7.5443,2,    25.00,     0.00,2,     0.03,2,  10.6285,2,  26.4347,2,  10.6437,2
49UP20150724_2,   P04,    26,  1,     28,     108,2,20150826,1751,2005,  9.4968, 155.0060, 5371,    250.8,      249,   9.4226,  34.5641,2,     57.4,2,  34.5640,2,    57.45,2,    36.39,2,    32.61,2,     0.00,2,    2.330,2, -999.000,9, -999.000,9,   2242.1,2,   2298.7,2,   7.5073,2,    25.00,  -999.00,9,  -999.00,9,   9.3947,2,  26.7128,2,   9.4226,2
49UP20150724_2,   P04,    26,  1,     27,     998,2,20150826,1751,2003,  9.4968, 155.0060, 5371,    301.4,      299,   8.6549,  34.5626,2,     66.5,2,  34.5627,2,    66.75,2,    39.96,2,    33.32,2,     0.00,2,    2.370,2,    0.464,3,    0.233,3,   2246.6,2,   2302.3,2,   7.5111,2,    25.00,  -999.00,9,  -999.00,9,   8.6229,2,  26.8352,2,   8.6553,2
49UP20150724_2,   P04,    26,  1,     26,     084,2,20150826,1751,2001,  9.4968, 155.0060, 5371,    405.8,      403,   7.7591,  34.5494,2,     77.0,2,  34.5480,2,    76.45,2,    45.09,2,    34.12,2,     0.00,2,    2.420,2,    0.344,3,    0.178,3,   2252.2,2,   2309.9,2,   7.5129,2,    25.00,  -999.00,9,  -999.00,9,   7.7185,2,  26.9616,2,   7.7609,2
49UP20150724_2,   P04,    26,  1,     25,     098,3,20150826,1751,1958,  9.4968, 155.0060, 5371,    503.5,      500,   7.0446,  34.5366,2,     80.2,2,  34.5359,2,    80.39,2,    52.09,2,    35.10,2,     0.00,2,    2.500,2,    0.250,3,    0.140,3,   2260.2,2,   2316.7,2,   7.5116,2,    25.00,  -999.00,9,  -999.00,9,   6.9966,2,  27.0542,2,   7.0447,2
49UP20150724_2,   P04,    26,  1,     24,     110,3,20150826,1751,1955,  9.4968, 155.0060, 5371,    605.0,      601,   6.3877,  34.5309,2,     77.1,2,  34.5307,2,    77.06,2,    60.90,2,    36.47,2,     0.00,2,    2.600,2,    0.160,3,    0.087,3,   2269.2,2,   2324.3,2,   7.4939,2,    25.00,  -999.00,9,  -999.00,9,   6.3326,2,  27.1391,2,   6.3878,2
49UP20150724_2,   P04,    26,  1,     23,     096,2,20150826,1751,1953,  9.4968, 155.0060, 5371,    707.0,      702,   5.7104,  34.5340,2,     75.4,2,  34.5335,2,    75.32,6,    70.94,6,    37.79,6,     0.00,6,    2.700,6,    0.085,3,    0.049,3,   2285.7,2,   2335.8,2,   7.4825,2,    25.00,  -999.00,9,  -999.00,9,   5.6491,2,  27.2283,2,   5.7096,2
49UP20150724_2,   P04,    26,  1,     22,     111,2,20150826,1751,1950,  9.4968, 155.0060, 5371,    807.3,      801,   5.2275,  34.5379,2,     75.6,2,  34.5377,6,    75.35,2,    79.31,2,    38.48,2,     0.00,2,    2.750,2,    0.045,3,    0.026,3,   2295.8,2,   2345.2,2,   7.4783,2,    25.00,  -999.00,9,  -999.00,9,   5.1599,2,  27.2902,2,   5.2273,2
49UP20150724_2,   P04,    26,  1,     21,     078,2,20150826,1751,1947,  9.4968, 155.0060, 5371,    907.9,      901,   4.8128,  34.5453,2,     75.5,2,  34.5449,2,    75.69,2,    86.57,2,    39.13,2,     0.00,2,    2.790,2,    0.025,3,    0.017,3,   2305.3,6,   2352.1,6,   7.4737,2,    25.00,  -999.00,9,  -999.00,9,   4.7390,2,  27.3446,2,   4.8128,2
49UP20150724_2,   P04,    26,  1,     20,     093,2,20150826,1751,1944,  9.4968, 155.0060, 5371,   1010.5,     1002,   4.4425,  34.5536,2,     80.9,2,  34.5533,2,    80.79,2,    93.68,2,    38.98,2,     0.00,2,    2.780,2,    0.024,3,    0.018,3,   2308.6,2,   2359.9,2,   7.4826,6,    25.00,  -999.00,9,  -999.00,9,   4.3624,2,  27.3927,2,   4.4421,2
49UP20150724_2,   P04,    26,  1,     19,     092,2,20150826,1751,1939,  9.4968, 155.0060, 5371,   1211.6,     1201,   3.7087,  34.5729,2,     87.5,2,  34.5737,2,    87.54,2,   108.43,2,    39.21,2,     0.00,2,    2.790,2, -999.000,9, -999.000,9,   2322.1,2,   2377.3,2,   7.4872,2,    25.00,  -999.00,9,  -999.00,9,   3.6177,2,  27.4852,2,   3.7088,2
49UP20150724_2,   P04,    26,  1,     18,     101,2,20150826,1751,1933,  9.4968, 155.0060, 5371,   1413.9,     1401,   3.1607,  34.5918,2,     93.8,2,  34.5907,2,    93.75,2,   119.55,2,    39.10,2,     0.00,2,    2.780,2, -999.000,9, -999.000,9,   2331.9,2,   2388.1,2,   7.4942,2,    25.00,  -999.00,9,  -999.00,9,   3.0582,2,  27.5539,2,   3.1608,2
49UP20150724_2,   P04,    26,  1,     17,     090,2,20150826,1751,1928,  9.4968, 155.0060, 5371,   1617.1,     1602,   2.7196,  34.6097,2,     99.9,2,  34.6094,2,    99.84,2,   128.74,2,    39.07,2,     0.00,2,    2.770,2, -999.000,9, -999.000,9,   2337.7,2,   2396.9,2,   7.5022,2,    25.00,  -999.00,9,  -999.00,9,   2.6053,2,  27.6088,2,   2.7197,2
49UP20150724_2,   P04,    26,  1,     16,     089,2,20150826,1751,1924,  9.4968, 155.0060, 5371,   1819.6,     1801,   2.4358,  34.6233,2,    102.9,2,  34.6235,2,   102.94,2,   135.33,2,    39.01,2,     0.00,2,    2.760,2, -999.000,9, -999.000,9,   2343.4,2,   2405.4,2,   7.5082,2,    25.00,  -999.00,9,  -999.00,9,   2.3082,2,  27.6449,2,   2.4358,2
49UP20150724_2,   P04,    26,  1,     15,     088,2,20150826,1751,1917,  9.4968, 155.0060, 5371,   2022.5,     2001,   2.2108,  34.6355,2,    108.2,2,  34.6355,2,   108.29,2,   140.01,2,    38.90,2,     0.00,2,    2.730,2, -999.000,9, -999.000,9,   2346.3,2,   2409.2,2,   7.5160,2,    25.00,  -999.00,9,  -999.00,9,   2.0692,2,  27.6741,2,   2.2108,2
49UP20150724_2,   P04,    26,  1,     14,     999,2,20150826,1751,1912,  9.4968, 155.0060, 5371,   2226.7,     2202,   2.0381,  34.6447,2,    112.3,2,  34.6451,2,   112.27,2,   143.90,2,    38.68,2,     0.00,2,    2.710,2, -999.000,9, -999.000,9,   2348.7,6,   2414.3,6,   7.5212,2,    25.00,  -999.00,9,  -999.00,9,   1.8816,2,  27.6963,2,   2.0384,2
49UP20150724_2,   P04,    26,  1,     13,     667,3,20150826,1751,1907,  9.4968, 155.0060, 5371,   2428.3,     2401,   1.9081,  34.6534,2,    118.6,2,  34.6528,2,   119.27,2,   145.65,6,    38.25,6,     0.00,6,    2.680,6, -999.000,9, -999.000,9,   2345.1,2,   2416.0,2,   7.5313,6,    25.00,  -999.00,9,  -999.00,9,   1.7359,2,  27.7145,2,   1.9082,2
49UP20150724_2,   P04,    26,  1,     12,     074,2,20150826,1751,1902,  9.4968, 155.0060, 5371,   2632.1,     2601,   1.8048,  34.6600,2,    123.7,2,  34.6602,6,   123.67,2,   146.92,2,    37.97,2,     0.00,2,    2.660,2,    0.000,3,    0.006,3,   2348.0,2,   2418.9,2,   7.5367,2,    25.00,  -999.00,9,  -999.00,9,   1.6161,2,  27.7288,2,   1.8047,2
49UP20150724_2,   P04,    26,  1,     11,     268,2,20150826,1751,1857,  9.4968, 155.0060, 5371,   2836.1,     2801,   1.7295,  34.6649,2,    129.0,2,  34.6647,2,   129.21,2,   146.95,2,    37.61,2,     0.00,2,    2.620,2, -999.000,9, -999.000,9,   2345.0,2,   2418.3,2,   7.5465,2,    25.00,  -999.00,9,  -999.00,9,   1.5234,2,  27.7395,2,   1.7297,2
49UP20150724_2,   P04,    26,  1,     10,     267,2,20150826,1751,1852,  9.4968, 155.0060, 5371,   3040.9,     3002,   1.6681,  34.6690,2,    134.0,2,  34.6693,2,   134.05,2,   147.00,2,    37.26,2,     0.00,2,    2.600,2, -999.000,9, -999.000,9,   2339.2,2,   2416.7,2,   7.5539,2,    25.00,  -999.00,9,  -999.00,9,   1.4437,2,  27.7487,2,   1.6681,2
49UP20150724_2,   P04,    26,  1,      9,     518,2,20150826,1751,1846,  9.4968, 155.0060, 5371,   3294.4,     3250,   1.5891,  34.6751,2,    140.9,2,  34.6748,2,   140.81,2,   146.21,2,    36.83,2,     0.00,2,    2.560,2, -999.000,9, -999.000,9,   2333.1,2,   2416.9,2,   7.5622,2,    25.00,  -999.00,9,  -999.00,9,   1.3416,2,  27.7608,2,   1.5893,2
49UP20150724_2,   P04,    26,  1,      8,     081,2,20150826,1751,1839,  9.4968, 155.0060, 5371,   3551.3,     3502,   1.5432,  34.6794,2,    146.6,2,  34.6790,2,   146.38,2,   144.82,2,    36.37,2,     0.00,2,    2.530,2, -999.000,9, -999.000,9,   2326.7,2,   2413.8,2,   7.5735,2,    25.00,  -999.00,9,  -999.00,9,   1.2707,2,  27.7692,2,   1.5432,2
49UP20150724_2,   P04,    26,  1,      7,     516,3,20150826,1751,1824,  9.4968, 155.0060, 5371,   4061.0,     4000,   1.4852,  34.6868,2,    158.1,2,  34.6868,2,   157.83,2,   140.38,2,    35.61,2,     0.00,2,    2.470,2, -999.000,9, -999.000,9,   2319.4,2,   2409.7,2,   7.5884,2,    25.00,  -999.00,9,  -999.00,9,   1.1600,2,  27.7829,2,   1.4853,2
49UP20150724_2,   P04,    26,  1,      6,     113,2,20150826,1751,1818,  9.4968, 155.0060, 5371,   4318.5,     4251,   1.4712,  34.6898,2,    162.9,2,  34.6893,2,   162.91,2,   138.17,2,    35.28,2,     0.00,2,    2.440,2, -999.000,9, -999.000,9,   2318.7,6,   2408.4,6,   7.5909,2,    25.00,  -999.00,9,  -999.00,9,   1.1177,2,  27.7882,2,   1.4711,2
49UP20150724_2,   P04,    26,  1,      5,     658,2,20150826,1751,1812,  9.4968, 155.0060, 5371,   4575.4,     4501,   1.4634,  34.6926,2,    167.1,2,  34.6918,2,   167.25,2,   135.89,2,    34.95,2,     0.00,2,    2.420,2,    0.000,3,    0.007,3,   2308.1,2,   2405.3,2,   7.5993,6,    25.00,  -999.00,9,  -999.00,9,   1.0808,2,  27.7929,2,   1.4636,2
49UP20150724_2,   P04,    26,  1,      4,     471,2,20150826,1751,1806,  9.4968, 155.0060, 5371,   4831.6,     4751,   1.4649,  34.6945,2,    170.6,2,  34.6929,2,   170.64,6,   134.33,6,    34.67,6,     0.00,6,    2.400,6, -999.000,9, -999.000,9,   2306.6,2,   2401.2,2,   7.6010,2,    25.00,  -999.00,9,  -999.00,9,   1.0520,2,  27.7964,2,   1.4649,2
49UP20150724_2,   P04,    26,  1,      3,     104,2,20150826,1751,1800,  9.4968, 155.0060, 5371,   5087.5,     4999,   1.4718,  34.6961,2,    173.2,2,  34.6958,6,   173.49,2,   133.37,2,    34.53,2,     0.00,2,    2.390,2, -999.000,9, -999.000,9,   2305.9,2,   2401.6,2,   7.6046,2,    25.00,  -999.00,9,  -999.00,9,   1.0278,2,  27.7993,2,   1.4720,2
49UP20150724_2,   P04,    26,  1,      2,     075,2,20150826,1751,1755,  9.4968, 155.0060, 5371,   5345.0,     5249,   1.4967,  34.6968,2,    174.3,2,  34.6970,2,   174.45,2,   132.89,2,    34.46,2,     0.00,2,    2.390,2, -999.000,9, -999.000,9,   2303.3,2,   2401.7,2,   7.6051,2,    25.00,  -999.00,9,  -999.00,9,   1.0199,2,  27.8004,2,   1.4968,2
49UP20150724_2,   P04,    26,  1,      1,     997,2,20150826,1751,1751,  9.4968, 155.0060, 5371,   5477.0,     5377,   1.5139,  34.6967,2,    174.3,2,  34.6963,2,   174.18,2,   132.95,2,    34.47,2,     0.00,2,    2.390,2,    0.000,3,    0.000,3,   2304.2,2,   2401.2,2,   7.6046,2,    25.00,  -999.00,9,  -999.00,9,   1.0197,2,  27.8003,2,   1.5138,2