BOTTLE,20191113JMAGEMD
EXPOCODE,SECT_ID,STNNBR,CASTNO,SAMPNO,BTLNBR,BTLNBR_FLAG_U,DATE,TIME,BTL_TIME,LATITUDE,LONGITUDE,DEPTH,CTDPRS,CTDDEP,CTDTMP,CTDSAL,CTDSAL_FLAG_W,CTDOXY,CTDOXY_FLAG_W,SALNTY,SALNTY_FLAG_W,OXYGEN,OXYGEN_FLAG_W,SILCAT,SILCAT_FLAG_W,NO2+NO3,NO2+NO3_FLAG_W,NITRIT,NITRIT_FLAG_W,PHSPHT,PHSPHT_FLAG_W,CFC-11,CFC-11_FLAG_W,CFC-12,CFC-12_FLAG_W,TCARBN,TCARBN_FLAG_W,ALKALI,ALKALI_FLAG_W,PH_TS,PH_TS_FLAG_W,PH_TS_TMP,CHLORA,CHLORA_FLAG_W,PPHYTN,PPHYTN_FLAG_W,THETA,THETA_FLAG_W,SIGTHT,SIGTHT_FLAG_W,SBE35,SBE35_FLAG_W
,,,,,,,,UTC,,,,METER,DBAR,METERS,ITS-90,PSS-78,,UMOL/KG,,PSS78,,UMOL/KG,,UMOL/KG,,UMOL/KG,,UMOL/KG,,UMOL/KG,,PMOL/KG,,PMOL/KG,,UMOL/KG,,UMOL/KG,,,,ITS-90,UG/KG,,UG/KG,,ITS-90,,KG/M3,,ITS-90,
49UP20150724_2,   P04,    14,  1,      0,      -9,0,20150830,2010,2153,  9.5167, 146.3185, 4188,      0.0,        0,  28.8003,  33.9848,2,    197.6,2,-999.0000,9,   196.73,2,     1.04,2,     0.03,2,     0.00,2,    0.070,2, -999.000,9, -999.000,9,   -999.0,9,   -999.0,9,-999.0000,9,  -999.00,  -999.00,9,  -999.00,9,  28.7997,2,  21.3686,2,-999.0000,9
49UP20150724_2,   P04,    14,  1,     36,     109,2,20150830,2010,2213,  9.5167, 146.3185, 4188,     11.1,       11,  28.8026,  33.9852,2,    197.4,2,  33.9854,2,   196.91,2,     1.06,2,     0.01,2,     0.00,2,    0.050,2, -999.000,9, -999.000,9,   -999.0,9,   -999.0,9,-999.0000,9,  -999.00,  -999.00,9,  -999.00,9,  28.7999,2,  21.3688,2,  28.8043,2
49UP20150724_2,   P04,    14,  1,     35,     112,2,20150830,2010,2211,  9.5167, 146.3185, 4188,     25.8,       26,  28.8050,  33.9884,2,    197.2,2,  33.9954,2,   197.20,2,     1.04,2,     0.03,2,     0.00,2,    0.040,2, -999.000,9, -999.000,9,   -999.0,9,   -999.0,9,-999.0000,9,  -999.00,  -999.00,9,  -999.00,9,  28.7988,2,  21.3716,2,  28.8041,2
49UP20150724_2,   P04,    14,  1,     34,     094,2,20150830,2010,2208,  9.5167, 146.3185, 4188,     52.0,       52,  27.3349,  34.3664,2,    199.0,2,  34.3923,4,   199.00,2,     1.75,2,     0.04,2,     0.00,2,    0.110,2, -999.000,9, -999.000,9,   -999.0,9,   -999.0,9,-999.0000,9,  -999.00,  -999.00,9,  -999.00,9,  27.3229,2,  22.1374,2,  27.3897,2
49UP20150724_2,   P04,    14,  1,     33,     469,2,20150830,2010,2206,  9.5167, 146.3185, 4188,     74.8,       74,  23.4257,  34.7578,2,    187.2,2,  34.7601,2,   187.69,2,     3.34,2,     1.17,2,     0.04,2,    0.260,2, -999.000,9, -999.000,9,   -999.0,9,   -999.0,9,-999.0000,9,  -999.00,  -999.00,9,  -999.00,9,  23.4102,2,  23.6311,2,  23.4171,2
49UP20150724_2,   P04,    14,  1,     32,     105,2,20150830,2010,2205,  9.5167, 146.3185, 4188,    101.8,      101,  19.0019,  34.7692,2,    147.4,2,  34.7706,2,   148.45,2,     8.58,2,     9.21,2,     0.53,2,    0.740,2, -999.000,9, -999.000,9,   -999.0,9,   -999.0,9,-999.0000,9,  -999.00,  -999.00,9,  -999.00,9,  18.9838,2,  24.8489,2,  18.9971,2
49UP20150724_2,   P04,    14,  1,     31,     515,2,20150830,2010,2204,  9.5167, 146.3185, 4188,    127.3,      127,  15.5361,  34.6467,2,    122.2,2,  34.6360,2,   120.42,2,    16.24,2,    16.88,2,     0.03,2,    1.240,2, -999.000,9, -999.000,9,   -999.0,9,   -999.0,9,-999.0000,9,  -999.00,  -999.00,9,  -999.00,9,  15.5164,2,  25.5851,2,  15.5364,2
49UP20150724_2,   P04,    14,  1,     30,     097,2,20150830,2010,2202,  9.5167, 146.3185, 4188,    155.8,      155,  13.5609,  34.5688,2,    106.1,2,  34.5736,2,   107.16,2,    20.36,2,    20.34,2,     0.02,2,    1.490,2, -999.000,9, -999.000,9,   -999.0,9,   -999.0,9,-999.0000,9,  -999.00,  -999.00,9,  -999.00,9,  13.5390,2,  25.9495,2,  13.5627,2
49UP20150724_2,   P04,    14,  1,     29,     102,2,20150830,2010,2201,  9.5167, 146.3185, 4188,    178.5,      177,  11.6905,  34.5275,2,     88.9,2,  34.5279,2,    89.59,6,    26.46,6,    25.02,6,     0.01,6,    1.830,6, -999.000,9, -999.000,9,   -999.0,9,   -999.0,9,-999.0000,9,  -999.00,  -999.00,9,  -999.00,9,  11.6677,2,  26.2848,2,  11.6921,2
49UP20150724_2,   P04,    14,  1,     28,     108,2,20150830,2010,2159,  9.5167, 146.3185, 4188,    201.6,      200,  10.5751,  34.4866,2,     82.2,2,  34.4885,2,    82.50,2,    30.97,2,    27.69,2,     0.00,2,    2.010,2, -999.000,9, -999.000,9,   -999.0,9,   -999.0,9,-999.0000,9,  -999.00,  -999.00,9,  -999.00,9,  10.5510,2,  26.4557,2,  10.5749,2
49UP20150724_2,   P04,    14,  1,     27,     998,2,20150830,2010,2158,  9.5167, 146.3185, 4188,    251.5,      250,   9.6406,  34.5370,2,     73.0,2,  34.5373,2,    72.96,2,    35.53,2,    30.71,2,     0.00,2,    2.200,2, -999.000,9, -999.000,9,   -999.0,9,   -999.0,9,-999.0000,9,  -999.00,  -999.00,9,  -999.00,9,   9.6122,2,  26.6557,2,   9.6349,2
49UP20150724_2,   P04,    14,  1,     25,     098,2,20150830,2010,2156,  9.5167, 146.3185, 4188,    304.8,      303,   8.8967,  34.5563,2,     73.7,2,  34.5549,2,    74.07,2,    38.40,2,    32.14,2,     0.00,2,    2.290,2, -999.000,9, -999.000,9,   -999.0,9,   -999.0,9,-999.0000,9,  -999.00,  -999.00,9,  -999.00,9,   8.8638,2,  26.7924,2,   8.8972,2
49UP20150724_2,   P04,    14,  1,     26,     084,2,20150830,2010,2156,  9.5167, 146.3185, 4188,    305.0,      303,   8.8963,  34.5565,2,     73.8,2,  34.5551,2,    73.70,2,    38.40,2,    32.21,2,     0.00,2,    2.290,2, -999.000,9, -999.000,9,   -999.0,9,   -999.0,9,-999.0000,9,  -999.00,  -999.00,9,  -999.00,9,   8.8634,2,  26.7926,2,   8.8953,2
49UP20150724_2,   P04,    14,  1,     24,     110,2,20150830,2010,2153,  9.5167, 146.3185, 4188,    404.0,      401,   7.7712,  34.5265,2,     82.7,2,  34.5259,2,    82.48,2,    45.59,2,    33.36,2,     0.00,2,    2.370,2, -999.000,9, -999.000,9,   -999.0,9,   -999.0,9,-999.0000,9,  -999.00,  -999.00,9,  -999.00,9,   7.7307,2,  26.9418,2,   7.7710,2
49UP20150724_2,   P04,    14,  1,     23,     096,2,20150830,2010,2151,  9.5167, 146.3185, 4188,    505.6,      502,   7.0538,  34.5307,2,     87.4,2,  34.5301,2,    87.13,2,    51.32,2,    34.49,2,     0.00,2,    2.460,2, -999.000,9, -999.000,9,   -999.0,9,   -999.0,9,-999.0000,9,  -999.00,  -999.00,9,  -999.00,9,   7.0055,2,  27.0483,2,   7.0540,2
49UP20150724_2,   P04,    14,  1,     22,     111,2,20150830,2010,2148,  9.5167, 146.3185, 4188,    604.2,      600,   6.6710,  34.5275,2,     86.7,2,  34.5270,2,    86.56,2,    55.81,2,    35.20,2,     0.00,2,    2.510,2, -999.000,9, -999.000,9,   -999.0,9,   -999.0,9,-999.0000,9,  -999.00,  -999.00,9,  -999.00,9,   6.6147,2,  27.0990,2,   6.6707,2
49UP20150724_2,   P04,    14,  1,     21,     078,2,20150830,2010,2145,  9.5167, 146.3185, 4188,    707.2,      702,   5.9522,  34.5268,2,     84.6,2,  34.5265,2,    84.43,2,    66.20,2,    36.61,2,     0.00,2,    2.620,2, -999.000,9, -999.000,9,   -999.0,9,   -999.0,9,-999.0000,9,  -999.00,  -999.00,9,  -999.00,9,   5.8896,2,  27.1927,2,   5.9523,2
49UP20150724_2,   P04,    14,  1,     20,     093,2,20150830,2010,2140,  9.5167, 146.3185, 4188,    808.1,      802,   5.4392,  34.5340,2,     83.7,2,  34.5338,2,    83.60,6,    74.72,2,    37.38,6,     0.00,6,    2.680,6, -999.000,9, -999.000,9,   -999.0,9,   -999.0,9,-999.0000,9,  -999.00,  -999.00,9,  -999.00,9,   5.3702,2,  27.2622,2,   5.4393,2
49UP20150724_2,   P04,    14,  1,     19,     092,2,20150830,2010,2137,  9.5167, 146.3185, 4188,    906.9,      900,   4.9755,  34.5407,2,     84.9,2,  34.5402,6,    84.81,2,    83.22,2,    37.99,2,     0.00,2,    2.720,2, -999.000,9, -999.000,9,   -999.0,9,   -999.0,9,-999.0000,9,  -999.00,  -999.00,9,  -999.00,9,   4.9007,2,  27.3225,2,   4.9752,2
49UP20150724_2,   P04,    14,  1,     18,     101,2,20150830,2010,2134,  9.5167, 146.3185, 4188,   1010.0,     1002,   4.5013,  34.5493,2,     86.9,2,  34.5490,2,    87.19,2,    92.36,2,    38.35,2,     0.00,2,    2.750,2, -999.000,9, -999.000,9,   -999.0,9,   -999.0,9,-999.0000,9,  -999.00,  -999.00,9,  -999.00,9,   4.4208,2,  27.3829,2,   4.5014,2
49UP20150724_2,   P04,    14,  1,     17,     090,2,20150830,2010,2129,  9.5167, 146.3185, 4188,   1212.0,     1202,   3.7499,  34.5695,2,     90.5,2,  34.5687,2,    90.39,2,   107.62,2,    38.82,2,     0.00,2,    2.780,2, -999.000,9, -999.000,9,   -999.0,9,   -999.0,9,-999.0000,9,  -999.00,  -999.00,9,  -999.00,9,   3.6585,2,  27.4784,2,   3.7499,2
49UP20150724_2,   P04,    14,  1,     16,     089,2,20150830,2010,2124,  9.5167, 146.3185, 4188,   1415.8,     1403,   3.2604,  34.5870,2,     95.5,2,  34.5868,2,    95.53,2,   117.20,2,    38.90,2,     0.00,2,    2.780,2, -999.000,9, -999.000,9,   -999.0,9,   -999.0,9,-999.0000,9,  -999.00,  -999.00,9,  -999.00,9,   3.1567,2,  27.5409,2,   3.2611,2
49UP20150724_2,   P04,    14,  1,     15,     088,2,20150830,2010,2119,  9.5167, 146.3185, 4188,   1616.3,     1601,   2.7369,  34.6065,2,    102.3,2,  34.6053,2,   102.08,2,   128.00,2,    38.88,2,     0.00,2,    2.760,2, -999.000,9, -999.000,9,   -999.0,9,   -999.0,9,-999.0000,9,  -999.00,  -999.00,9,  -999.00,9,   2.6224,2,  27.6047,2,   2.7369,2
49UP20150724_2,   P04,    14,  1,     14,     999,2,20150830,2010,2114,  9.5167, 146.3185, 4188,   1818.8,     1801,   2.4815,  34.6187,2,    105.1,2,  34.6189,2,   105.68,2,   133.72,2,    38.87,2,     0.00,2,    2.760,2, -999.000,9, -999.000,9,   -999.0,9,   -999.0,9,-999.0000,9,  -999.00,  -999.00,9,  -999.00,9,   2.3533,2,  27.6374,2,   2.4814,2
49UP20150724_2,   P04,    14,  1,     13,     667,2,20150830,2010,2109,  9.5167, 146.3185, 4188,   2023.7,     2003,   2.2292,  34.6323,2,    111.0,2,  34.6319,2,   110.78,6,   138.29,6,    38.44,6,     0.00,6,    2.730,6, -999.000,9, -999.000,9,   -999.0,9,   -999.0,9,-999.0000,9,  -999.00,  -999.00,9,  -999.00,9,   2.0872,2,  27.6701,2,   2.2296,2
49UP20150724_2,   P04,    14,  1,     11,     268,2,20150830,2010,2104,  9.5167, 146.3185, 4188,   2225.2,     2201,   2.0959,  34.6402,2,    114.5,2,  34.6360,4,   114.36,2,   141.62,2,    38.33,2,     0.00,2,    2.720,2, -999.000,9, -999.000,9,   -999.0,9,   -999.0,9,-999.0000,9,  -999.00,  -999.00,9,  -999.00,9,   1.9386,2,  27.6883,2,   2.0960,2
49UP20150724_2,   P04,    14,  1,     12,     074,2,20150830,2010,2104,  9.5167, 146.3185, 4188,   2225.6,     2201,   2.0943,  34.6403,2,    114.5,2,  34.6384,4,   114.43,2,   141.49,2,    38.33,2,     0.00,2,    2.710,2, -999.000,9, -999.000,9,   -999.0,9,   -999.0,9,-999.0000,9,  -999.00,  -999.00,9,  -999.00,9,   1.9370,2,  27.6885,2,   2.0946,2
49UP20150724_2,   P04,    14,  1,     10,     267,2,20150830,2010,2059,  9.5167, 146.3185, 4188,   2427.5,     2400,   1.9071,  34.6510,2,    121.6,2,  34.6501,6,   121.56,2,   144.23,2,    37.90,2,     0.00,2,    2.680,2, -999.000,9, -999.000,9,   -999.0,9,   -999.0,9,-999.0000,9,  -999.00,  -999.00,9,  -999.00,9,   1.7351,2,  27.7126,2,   1.9071,2
49UP20150724_2,   P04,    14,  1,      9,     518,2,20150830,2010,2053,  9.5167, 146.3185, 4188,   2632.2,     2601,   1.7926,  34.6575,2,    127.6,2,  34.6572,2,   127.56,2,   145.18,2,    37.56,2,     0.00,2,    2.650,2, -999.000,9, -999.000,9,   -999.0,9,   -999.0,9,-999.0000,9,  -999.00,  -999.00,9,  -999.00,9,   1.6042,2,  27.7277,2,   1.7925,2
49UP20150724_2,   P04,    14,  1,      8,     081,2,20150830,2010,2047,  9.5167, 146.3185, 4188,   2835.7,     2801,   1.7061,  34.6629,2,    132.5,2,  34.6626,2,   132.44,2,   145.89,2,    37.23,2,     0.00,2,    2.620,2, -999.000,9, -999.000,9,   -999.0,9,   -999.0,9,-999.0000,9,  -999.00,  -999.00,9,  -999.00,9,   1.5005,2,  27.7396,2,   1.7060,2
49UP20150724_2,   P04,    14,  1,      7,     516,2,20150830,2010,2043,  9.5167, 146.3185, 4188,   3039.7,     3001,   1.6442,  34.6678,2,    137.3,2,  34.6665,2,   137.41,2,   145.63,2,    36.90,2,     0.00,2,    2.590,2, -999.000,9, -999.000,9,   -999.0,9,   -999.0,9,-999.0000,9,  -999.00,  -999.00,9,  -999.00,9,   1.4204,2,  27.7493,2,   1.6442,2
49UP20150724_2,   P04,    14,  1,      6,     113,2,20150830,2010,2035,  9.5167, 146.3185, 4188,   3295.0,     3251,   1.5903,  34.6726,2,    141.9,2,  34.6715,2,   141.80,2,   145.54,2,    36.62,2,     0.00,2,    2.570,2, -999.000,9, -999.000,9,   -999.0,9,   -999.0,9,-999.0000,9,  -999.00,  -999.00,9,  -999.00,9,   1.3427,2,  27.7587,2,   1.5902,2
49UP20150724_2,   P04,    14,  1,      5,     658,2,20150830,2010,2030,  9.5167, 146.3185, 4188,   3549.1,     3500,   1.5236,  34.6786,2,    148.5,2,  34.6779,2,   148.23,2,   144.25,2,    36.18,2,     0.00,2,    2.540,2, -999.000,9, -999.000,9,   -999.0,9,   -999.0,9,-999.0000,9,  -999.00,  -999.00,9,  -999.00,9,   1.2519,2,  27.7700,2,   1.5236,2
49UP20150724_2,   P04,    14,  1,      4,     471,2,20150830,2010,2023,  9.5167, 146.3185, 4188,   3805.1,     3750,   1.5118,  34.6815,2,    151.8,2,  34.6814,2,   151.69,2,   143.30,2,    35.99,2,     0.00,2,    2.520,2, -999.000,9, -999.000,9,   -999.0,9,   -999.0,9,-999.0000,9,  -999.00,  -999.00,9,  -999.00,9,   1.2136,2,  27.7749,2,   1.5117,2
49UP20150724_2,   P04,    14,  1,      3,     104,2,20150830,2010,2023,  9.5167, 146.3185, 4188,   3805.9,     3751,   1.5119,  34.6814,2,    151.8,2,  34.6812,2,   152.20,2,   143.45,2,    35.96,2,     0.00,2,    2.510,2, -999.000,9, -999.000,9,   -999.0,9,   -999.0,9,-999.0000,9,  -999.00,  -999.00,9,  -999.00,9,   1.2136,2,  27.7748,2,   1.5118,2
49UP20150724_2,   P04,    14,  1,      2,     075,2,20150830,2010,2017,  9.5167, 146.3185, 4188,   4061.8,     4001,   1.4722,  34.6860,2,    158.2,2,  34.6841,4,   158.29,6,   140.88,6,    35.54,6,     0.00,6,    2.480,6, -999.000,9, -999.000,9,   -999.0,9,   -999.0,9,-999.0000,9,  -999.00,  -999.00,9,  -999.00,9,   1.1473,2,  27.7831,2,   1.4724,2
49UP20150724_2,   P04,    14,  1,      1,     997,2,20150830,2010,2011,  9.5167, 146.3185, 4188,   4347.0,     4279,   1.4677,  34.6889,2,    162.5,2,  34.6889,6,   162.61,2,   139.10,2,    35.31,2,     0.00,2,    2.460,2, -999.000,9, -999.000,9,   -999.0,9,   -999.0,9,-999.0000,9,  -999.00,  -999.00,9,  -999.00,9,   1.1112,2,  27.7879,2,   1.4675,2