BOTTLE,20191113JMAGEMD
EXPOCODE,SECT_ID,STNNBR,CASTNO,SAMPNO,BTLNBR,BTLNBR_FLAG_U,DATE,TIME,BTL_TIME,LATITUDE,LONGITUDE,DEPTH,CTDPRS,CTDDEP,CTDTMP,CTDSAL,CTDSAL_FLAG_W,CTDOXY,CTDOXY_FLAG_W,SALNTY,SALNTY_FLAG_W,OXYGEN,OXYGEN_FLAG_W,SILCAT,SILCAT_FLAG_W,NO2+NO3,NO2+NO3_FLAG_W,NITRIT,NITRIT_FLAG_W,PHSPHT,PHSPHT_FLAG_W,CFC-11,CFC-11_FLAG_W,CFC-12,CFC-12_FLAG_W,TCARBN,TCARBN_FLAG_W,ALKALI,ALKALI_FLAG_W,PH_TS,PH_TS_FLAG_W,PH_TS_TMP,CHLORA,CHLORA_FLAG_W,PPHYTN,PPHYTN_FLAG_W,THETA,THETA_FLAG_W,SIGTHT,SIGTHT_FLAG_W,SBE35,SBE35_FLAG_W
,,,,,,,,UTC,,,,METER,DBAR,METERS,ITS-90,PSS-78,,UMOL/KG,,PSS78,,UMOL/KG,,UMOL/KG,,UMOL/KG,,UMOL/KG,,UMOL/KG,,PMOL/KG,,PMOL/KG,,UMOL/KG,,UMOL/KG,,,,ITS-90,UG/KG,,UG/KG,,ITS-90,,KG/M3,,ITS-90,
49UP20150724_1,   P04,    42,  1,      0,      -9,0,20150810,2048,2254,  7.0067, 164.4992, 5096,      0.0,        0,  29.5043,  33.5631,2,    195.9,2,-999.0000,9,   195.58,2,     1.02,2,     0.05,2,     0.00,2,    0.080,2, -999.000,9, -999.000,9,   -999.0,9,   -999.0,9,-999.0000,9,  -999.00,  -999.00,9,  -999.00,9,  29.5036,2,  20.8172,2,-999.0000,9
49UP20150724_1,   P04,    42,  1,     36,     109,2,20150810,2048,2318,  7.0067, 164.4992, 5096,     10.4,       10,  29.5060,  33.5628,2,    195.7,2,  33.5601,2,   195.08,2,     1.00,2,     0.05,2,     0.00,2,    0.080,2, -999.000,9, -999.000,9,   -999.0,9,   -999.0,9,-999.0000,9,  -999.00,  -999.00,9,  -999.00,9,  29.5034,2,  20.8170,2,  29.5036,2
49UP20150724_1,   P04,    42,  1,     35,     112,2,20150810,2048,2316,  7.0067, 164.4992, 5096,     26.0,       26,  29.4456,  34.0160,2,    199.0,2,  34.0256,2,   199.66,2,     1.00,2,     0.02,2,     0.00,2,    0.080,2, -999.000,9, -999.000,9,   -999.0,9,   -999.0,9,-999.0000,9,  -999.00,  -999.00,9,  -999.00,9,  29.4392,2,  21.1784,2,  29.4490,2
49UP20150724_1,   P04,    42,  1,     34,     083,2,20150810,2048,2313,  7.0067, 164.4992, 5096,     51.7,       51,  26.8050,  34.6607,2,    194.2,2,  34.6876,4,   200.06,2,     1.60,2,     0.03,2,     0.00,2,    0.140,2, -999.000,9, -999.000,9,   -999.0,9,   -999.0,9,-999.0000,9,  -999.00,  -999.00,9,  -999.00,9,  26.7932,2,  22.5280,2,  26.7773,2
49UP20150724_1,   P04,    42,  1,     33,     469,2,20150810,2048,2311,  7.0067, 164.4992, 5096,     75.0,       75,  21.0901,  34.8916,2,    175.6,2,  34.8923,2,   180.16,2,     4.01,2,     2.43,2,     0.09,2,    0.400,2, -999.000,9, -999.000,9,   -999.0,9,   -999.0,9,-999.0000,9,  -999.00,  -999.00,9,  -999.00,9,  21.0758,2,  24.3908,2,  20.8409,2
49UP20150724_1,   P04,    42,  1,     32,     105,2,20150810,2048,2310,  7.0067, 164.4992, 5096,    101.3,      101,  16.7171,  34.6672,2,    138.8,2,  34.6653,2,   139.42,2,     9.37,2,    11.72,2,     0.09,2,    0.930,2, -999.000,9, -999.000,9,   -999.0,9,   -999.0,9,-999.0000,9,  -999.00,  -999.00,9,  -999.00,9,  16.7007,2,  25.3294,2,  16.7241,2
49UP20150724_1,   P04,    42,  1,     31,     515,2,20150810,2048,2308,  7.0067, 164.4992, 5096,    129.9,      129,  14.3465,  34.5375,2,    114.2,2,  34.5405,6,   114.30,2,    15.22,2,    17.43,2,     0.02,2,    1.330,2, -999.000,9, -999.000,9,   -999.0,9,   -999.0,9,-999.0000,9,  -999.00,  -999.00,9,  -999.00,9,  14.3275,2,  25.7605,2,  14.3350,2
49UP20150724_1,   P04,    42,  1,     30,     097,2,20150810,2048,2307,  7.0067, 164.4992, 5096,    153.3,      152,  12.1688,  34.5199,2,     77.0,2,  34.5149,2,    77.31,6,    24.10,6,    25.10,6,     0.00,6,    1.860,6, -999.000,9, -999.000,9,   -999.0,9,   -999.0,9,-999.0000,9,  -999.00,  -999.00,9,  -999.00,9,  12.1488,2,  26.1878,2,  12.1598,2
49UP20150724_1,   P04,    42,  1,     29,     102,2,20150810,2048,2305,  7.0067, 164.4992, 5096,    178.1,      177,  11.0192,  34.5440,2,     60.0,2,  34.5285,4,    60.44,2,    29.28,2,    28.98,2,     0.00,2,    2.130,2, -999.000,9, -999.000,9,   -999.0,9,   -999.0,9,-999.0000,9,  -999.00,  -999.00,9,  -999.00,9,  10.9973,2,  26.4209,2,  11.0133,2
49UP20150724_1,   P04,    42,  1,     28,     108,2,20150810,2048,2304,  7.0067, 164.4992, 5096,    200.6,      199,  10.3627,  34.5743,2,     48.5,2,  34.5754,2,    48.71,2,    31.89,2,    31.42,2,     0.00,2,    2.270,2, -999.000,9, -999.000,9,   -999.0,9,   -999.0,9,-999.0000,9,  -999.00,  -999.00,9,  -999.00,9,  10.3390,2,  26.5612,2,  10.3374,2
49UP20150724_1,   P04,    42,  1,     27,     998,2,20150810,2048,2302,  7.0067, 164.4992, 5096,    251.8,      250,   9.4521,  34.6129,2,     49.9,2,  34.6117,2,    50.14,2,    35.05,2,    33.32,2,     0.00,2,    2.370,2, -999.000,9, -999.000,9,   -999.0,9,   -999.0,9,-999.0000,9,  -999.00,  -999.00,9,  -999.00,9,   9.4239,2,  26.7462,2,   9.4386,2
49UP20150724_1,   P04,    42,  1,     26,     084,2,20150810,2048,2301,  7.0067, 164.4992, 5096,    303.4,      301,   8.9769,  34.5969,2,     57.0,2,  34.5959,2,    57.03,2,    37.48,2,    33.66,2,     0.00,2,    2.390,2, -999.000,9, -999.000,9,   -999.0,9,   -999.0,9,-999.0000,9,  -999.00,  -999.00,9,  -999.00,9,   8.9439,2,  26.8115,2,   8.9700,2
49UP20150724_1,   P04,    42,  1,     25,     098,2,20150810,2048,2258,  7.0067, 164.4992, 5096,    402.8,      400,   8.3209,  34.5953,2,     64.3,2,  34.5933,6,    63.89,2,    39.68,2,    34.48,2,     0.00,2,    2.440,2, -999.000,9, -999.000,9,   -999.0,9,   -999.0,9,-999.0000,9,  -999.00,  -999.00,9,  -999.00,9,   8.2789,2,  26.9139,2,   8.3183,2
49UP20150724_1,   P04,    42,  1,     24,     110,2,20150810,2048,2255,  7.0067, 164.4992, 5096,    505.3,      502,   7.3692,  34.5608,2,     55.9,2,  34.5600,2,    56.00,6,    49.52,6,    36.90,6,     0.00,6,    2.640,6, -999.000,9, -999.000,9,   -999.0,9,   -999.0,9,-999.0000,9,  -999.00,  -999.00,9,  -999.00,9,   7.3197,2,  27.0280,2,   7.3671,2
49UP20150724_1,   P04,    42,  1,     23,     096,2,20150810,2048,2253,  7.0067, 164.4992, 5096,    606.2,      602,   6.7246,  34.5496,2,     51.5,2,  34.5489,2,    52.05,2,    56.85,2,    38.57,2,     0.00,2,    2.770,2, -999.000,9, -999.000,9,   -999.0,9,   -999.0,9,-999.0000,9,  -999.00,  -999.00,9,  -999.00,9,   6.6678,2,  27.1093,2,   6.7224,2
49UP20150724_1,   P04,    42,  1,     22,     111,2,20150810,2048,2250,  7.0067, 164.4992, 5096,    705.2,      700,   5.9940,  34.5401,2,     56.4,2,  34.5401,2,    56.58,2,    66.36,2,    39.55,2,     0.00,2,    2.830,2, -999.000,9, -999.000,9,   -999.0,9,   -999.0,9,-999.0000,9,  -999.00,  -999.00,9,  -999.00,9,   5.9314,2,  27.1980,2,   5.9883,2
49UP20150724_1,   P04,    42,  1,     21,     078,2,20150810,2048,2244,  7.0067, 164.4992, 5096,    808.5,      802,   5.4290,  34.5425,2,     59.0,2,  34.5423,2,    59.59,2,    74.68,2,    40.15,2,     0.00,2,    2.870,2, -999.000,9, -999.000,9,   -999.0,9,   -999.0,9,-999.0000,9,  -999.00,  -999.00,9,  -999.00,9,   5.3600,2,  27.2701,2,   5.4265,2
49UP20150724_1,   P04,    42,  1,     20,     093,2,20150810,2048,2241,  7.0067, 164.4992, 5096,    908.0,      901,   5.0035,  34.5447,2,     70.5,2,  34.5448,2,    70.91,2,    82.12,2,    39.44,2,     0.00,2,    2.820,2, -999.000,9, -999.000,9,   -999.0,9,   -999.0,9,-999.0000,9,  -999.00,  -999.00,9,  -999.00,9,   4.9283,2,  27.3226,2,   5.0064,2
49UP20150724_1,   P04,    42,  1,     19,     092,2,20150810,2048,2239,  7.0067, 164.4992, 5096,   1008.9,     1001,   4.5969,  34.5526,2,     75.8,2,  34.5523,2,    75.82,2,    89.56,2,    39.41,2,     0.00,2,    2.820,2, -999.000,9, -999.000,9,   -999.0,9,   -999.0,9,-999.0000,9,  -999.00,  -999.00,9,  -999.00,9,   4.5158,2,  27.3752,2,   4.5970,2
49UP20150724_1,   P04,    42,  1,     18,     101,2,20150810,2048,2234,  7.0067, 164.4992, 5096,   1211.3,     1201,   3.7891,  34.5733,2,     81.6,2,  34.5734,2,    78.96,3,   106.03,2,    39.76,2,     0.00,2,    2.840,2, -999.000,9, -999.000,9,   -999.0,9,   -999.0,9,-999.0000,9,  -999.00,  -999.00,9,  -999.00,9,   3.6974,2,  27.4776,2,   3.7901,2
49UP20150724_1,   P04,    42,  1,     17,     090,2,20150810,2048,2225,  7.0067, 164.4992, 5096,   1411.9,     1399,   3.2983,  34.5905,2,     84.6,2,  34.5897,4,    84.98,2,   116.45,2,    39.88,2,     0.00,2,    2.850,2, -999.000,9, -999.000,9,   -999.0,9,   -999.0,9,-999.0000,9,  -999.00,  -999.00,9,  -999.00,9,   3.1945,2,  27.5401,2,   3.2983,2
49UP20150724_1,   P04,    42,  1,     16,     089,2,20150810,2048,2220,  7.0067, 164.4992, 5096,   1616.4,     1601,   2.8139,  34.6079,2,     92.9,2,  34.6073,2,    93.03,6,   127.27,6,    39.54,6,     0.00,6,    2.810,6, -999.000,9, -999.000,9,   -999.0,9,   -999.0,9,-999.0000,9,  -999.00,  -999.00,9,  -999.00,9,   2.6985,2,  27.5992,2,   2.8127,2
49UP20150724_1,   P04,    42,  1,     15,     088,2,20150810,2048,2215,  7.0067, 164.4992, 5096,   1818.7,     1801,   2.4480,  34.6226,2,     99.0,2,  34.6230,2,    98.85,2,   136.40,2,    39.31,2,     0.00,2,    2.780,2, -999.000,9, -999.000,9,   -999.0,9,   -999.0,9,-999.0000,9,  -999.00,  -999.00,9,  -999.00,9,   2.3203,2,  27.6433,2,   2.4480,2
49UP20150724_1,   P04,    42,  1,     14,     999,2,20150810,2048,2208,  7.0067, 164.4992, 5096,   2021.7,     2001,   2.1706,  34.6387,2,    106.0,2,  34.6388,2,   106.01,2,   142.26,2,    38.92,2,     0.00,2,    2.750,2, -999.000,9, -999.000,9,   -999.0,9,   -999.0,9,-999.0000,9,  -999.00,  -999.00,9,  -999.00,9,   2.0297,2,  27.6799,2,   2.1705,2
49UP20150724_1,   P04,    42,  1,     13,     667,2,20150810,2048,2203,  7.0067, 164.4992, 5096,   2224.3,     2200,   2.0259,  34.6485,2,    111.5,2,  34.6484,2,   111.32,2,   145.00,2,    38.61,2,     0.00,2,    2.710,2, -999.000,9, -999.000,9,   -999.0,9,   -999.0,9,-999.0000,9,  -999.00,  -999.00,9,  -999.00,9,   1.8698,2,  27.7003,2,   2.0260,2
49UP20150724_1,   P04,    42,  1,     12,     074,2,20150810,2048,2158,  7.0067, 164.4992, 5096,   2428.4,     2401,   1.8846,  34.6572,2,    117.7,2,  34.6567,2,   117.74,2,   147.01,2,    38.28,2,     0.00,2,    2.680,2, -999.000,9, -999.000,9,   -999.0,9,   -999.0,9,-999.0000,9,  -999.00,  -999.00,9,  -999.00,9,   1.7129,2,  27.7192,2,   1.8846,2
49UP20150724_1,   P04,    42,  1,     11,     268,2,20150810,2048,2153,  7.0067, 164.4992, 5096,   2631.6,     2601,   1.8001,  34.6624,2,    122.9,2,  34.6623,2,   123.06,2,   147.99,2,    37.95,2,     0.00,2,    2.650,2, -999.000,9, -999.000,9,   -999.0,9,   -999.0,9,-999.0000,9,  -999.00,  -999.00,9,  -999.00,9,   1.6115,2,  27.7310,2,   1.7999,2
49UP20150724_1,   P04,    42,  1,     10,     267,2,20150810,2048,2147,  7.0067, 164.4992, 5096,   2835.2,     2801,   1.7305,  34.6662,2,    128.5,2,  34.6661,6,   128.59,2,   147.65,2,    37.57,2,     0.00,2,    2.620,2, -999.000,9, -999.000,9,   -999.0,9,   -999.0,9,-999.0000,9,  -999.00,  -999.00,9,  -999.00,9,   1.5244,2,  27.7405,2,   1.7307,2
49UP20150724_1,   P04,    42,  1,      9,     518,2,20150810,2048,2142,  7.0067, 164.4992, 5096,   3038.5,     3000,   1.6643,  34.6701,2,    133.5,2,  34.6702,2,   133.27,6,   147.41,6,    37.19,6,     0.00,6,    2.590,6, -999.000,9, -999.000,9,   -999.0,9,   -999.0,9,-999.0000,9,  -999.00,  -999.00,9,  -999.00,9,   1.4402,2,  27.7498,2,   1.6643,2
49UP20150724_1,   P04,    42,  1,      8,     081,2,20150810,2048,2129,  7.0067, 164.4992, 5096,   3551.1,     3502,   1.5257,  34.6810,2,    147.6,2,  34.6803,2,   147.55,2,   145.01,2,    36.26,2,     0.00,2,    2.510,2, -999.000,9, -999.000,9,   -999.0,9,   -999.0,9,-999.0000,9,  -999.00,  -999.00,9,  -999.00,9,   1.2537,2,  27.7717,2,   1.5258,2
49UP20150724_1,   P04,    42,  1,      7,     516,2,20150810,2048,2122,  7.0067, 164.4992, 5096,   3805.9,     3751,   1.4736,  34.6857,2,    155.1,2,  34.6853,2,   154.93,2,   142.31,2,    35.74,2,     0.00,2,    2.480,2, -999.000,9, -999.000,9,   -999.0,9,   -999.0,9,-999.0000,9,  -999.00,  -999.00,9,  -999.00,9,   1.1763,2,  27.7808,2,   1.4736,2
49UP20150724_1,   P04,    42,  1,      6,     113,2,20150810,2048,2116,  7.0067, 164.4992, 5096,   4061.7,     4001,   1.4348,  34.6904,2,    162.9,2,  34.6900,2,   163.13,2,   138.39,2,    35.19,2,     0.00,2,    2.440,2, -999.000,9, -999.000,9,   -999.0,9,   -999.0,9,-999.0000,9,  -999.00,  -999.00,9,  -999.00,9,   1.1110,2,  27.7891,2,   1.4350,2
49UP20150724_1,   P04,    42,  1,      5,     094,2,20150810,2048,2110,  7.0067, 164.4992, 5096,   4317.6,     4250,   1.4136,  34.6940,2,    169.8,2,  34.6922,4,   169.26,2,   134.51,2,    34.65,2,     0.00,2,    2.400,2, -999.000,9, -999.000,9,   -999.0,9,   -999.0,9,-999.0000,9,  -999.00,  -999.00,9,  -999.00,9,   1.0620,2,  27.7953,2,   1.4137,2
49UP20150724_1,   P04,    42,  1,      4,     471,2,20150810,2048,2104,  7.0067, 164.4992, 5096,   4574.1,     4500,   1.3945,  34.6970,2,    175.5,2,  34.6964,2,   175.88,2,   131.18,2,    34.20,2,     0.00,2,    2.370,2, -999.000,9, -999.000,9,   -999.0,9,   -999.0,9,-999.0000,9,  -999.00,  -999.00,9,  -999.00,9,   1.0142,2,  27.8010,2,   1.3946,2
49UP20150724_1,   P04,    42,  1,      3,     104,2,20150810,2048,2059,  7.0067, 164.4992, 5096,   4831.2,     4751,   1.3892,  34.6990,2,    179.6,2,  34.6987,2,   179.44,2,   129.62,2,    33.95,2,     0.00,2,    2.350,2, -999.000,9, -999.000,9,   -999.0,9,   -999.0,9,-999.0000,9,  -999.00,  -999.00,9,  -999.00,9,   0.9789,2,  27.8049,2,   1.3893,2
49UP20150724_1,   P04,    42,  1,      2,     075,2,20150810,2048,2051,  7.0067, 164.4992, 5096,   5088.8,     5001,   1.3895,  34.7006,2,    183.4,2,  34.7006,2,   183.28,2,   127.25,2,    33.61,2,     0.00,2,    2.320,2, -999.000,9, -999.000,9,   -999.0,9,   -999.0,9,-999.0000,9,  -999.00,  -999.00,9,  -999.00,9,   0.9482,2,  27.8082,2,   1.3895,2
49UP20150724_1,   P04,    42,  1,      1,     997,2,20150810,2048,2049,  7.0067, 164.4992, 5096,   5170.8,     5081,   1.3922,  34.7013,2,    184.4,2,  34.7013,2,   183.66,2,   127.15,2,    33.60,2,     0.00,2,    2.320,2, -999.000,9, -999.000,9,   -999.0,9,   -999.0,9,-999.0000,9,  -999.00,  -999.00,9,  -999.00,9,   0.9407,2,  27.8092,2,   1.3920,2