BOTTLE,20191113JMAGEMD
EXPOCODE,SECT_ID,STNNBR,CASTNO,SAMPNO,BTLNBR,BTLNBR_FLAG_U,DATE,TIME,BTL_TIME,LATITUDE,LONGITUDE,DEPTH,CTDPRS,CTDDEP,CTDTMP,CTDSAL,CTDSAL_FLAG_W,CTDOXY,CTDOXY_FLAG_W,SALNTY,SALNTY_FLAG_W,OXYGEN,OXYGEN_FLAG_W,SILCAT,SILCAT_FLAG_W,NO2+NO3,NO2+NO3_FLAG_W,NITRIT,NITRIT_FLAG_W,PHSPHT,PHSPHT_FLAG_W,CFC-11,CFC-11_FLAG_W,CFC-12,CFC-12_FLAG_W,TCARBN,TCARBN_FLAG_W,ALKALI,ALKALI_FLAG_W,PH_TS,PH_TS_FLAG_W,PH_TS_TMP,CHLORA,CHLORA_FLAG_W,PPHYTN,PPHYTN_FLAG_W,THETA,THETA_FLAG_W,SIGTHT,SIGTHT_FLAG_W,SBE35,SBE35_FLAG_W
,,,,,,,,UTC,,,,METER,DBAR,METERS,ITS-90,PSS-78,,UMOL/KG,,PSS78,,UMOL/KG,,UMOL/KG,,UMOL/KG,,UMOL/KG,,UMOL/KG,,PMOL/KG,,PMOL/KG,,UMOL/KG,,UMOL/KG,,,,ITS-90,UG/KG,,UG/KG,,ITS-90,,KG/M3,,ITS-90,
49UP20150724_1,   P04,    39,  1,      0,      -9,0,20150811,2226,0035,  9.5110, 163.9892, 5188,      0.0,        0,  29.8326,  33.8554,2,    195.5,2,  33.8490,2,   194.79,2,     0.97,2,     0.05,2,     0.00,2,    0.100,2, -999.000,9, -999.000,9,   1896.1,2,   2222.2,2,   8.1205,2,    25.00,     0.07,2,     0.03,2,  29.8320,2,  20.9254,2,-999.0000,9
49UP20150724_1,   P04,    39,  1,     36,     109,2,20150811,2226,0104,  9.5110, 163.9892, 5188,     10.6,       11,  29.7606,  33.8501,2,    195.3,2,  33.8501,2,   194.91,2,     1.01,2,     0.03,2,     0.00,2,    0.080,2, -999.000,9, -999.000,9,   1896.1,2,   2219.7,2,   8.1215,2,    25.00,     0.07,2,     0.03,2,  29.7580,2,  20.9465,2,  29.7605,2
49UP20150724_1,   P04,    39,  1,     35,     112,2,20150811,2226,0102,  9.5110, 163.9892, 5188,     27.1,       27,  29.1524,  34.0995,2,    201.1,2,  34.0986,2,   200.66,2,     1.03,2,     0.04,2,     0.00,2,    0.080,2, -999.000,9, -999.000,9,   1910.8,2,   2237.7,2,   8.1180,2,    25.00,     0.11,2,     0.05,2,  29.1458,2,  21.3395,2,  29.1574,2
49UP20150724_1,   P04,    39,  1,     34,     083,2,20150811,2226,0059,  9.5110, 163.9892, 5188,     52.1,       52,  25.1956,  34.9379,2,    207.7,2,  34.9290,2,   208.10,2,     1.57,2,     0.05,2,     0.00,2,    0.160,2, -999.000,9, -999.000,9,   2003.9,2,   2302.5,2,   8.0552,2,    25.00,     0.21,2,     0.10,2,  25.1842,2,  23.2382,2,  25.2241,2
49UP20150724_1,   P04,    39,  1,     33,     469,2,20150811,2226,0057,  9.5110, 163.9892, 5188,     76.7,       76,  21.5181,  35.0116,2,    192.0,2,  34.9931,4,   192.92,2,     2.75,2,     0.73,2,     0.03,2,    0.280,2, -999.000,9, -999.000,9,   2053.0,2,   2308.1,2,   7.9687,2,    25.00,     0.25,2,     0.30,2,  21.5032,2,  24.3648,2,  21.5112,2
49UP20150724_1,   P04,    39,  1,     32,     105,2,20150811,2226,0056,  9.5110, 163.9892, 5188,    101.4,      101,  18.6526,  34.7983,2,    162.0,2,  34.8056,2,   164.12,2,     5.87,2,     6.55,2,     0.26,2,    0.610,2, -999.000,9, -999.000,9,   2087.1,2,   2294.2,2,   7.8796,2,    25.00,     0.23,2,     0.36,2,  18.6348,2,  24.9595,2,  18.6389,2
49UP20150724_1,   P04,    39,  1,     31,     515,2,20150811,2226,0054,  9.5110, 163.9892, 5188,    125.7,      125,  15.0776,  34.5405,2,    140.7,2,  34.5400,2,   141.89,2,    11.62,2,    13.29,2,     0.05,2,    1.050,2, -999.000,9, -999.000,9,   2123.1,2,   2276.7,2,   7.7692,2,    25.00,     0.11,2,     0.22,2,  15.0586,2,  25.6048,2,  15.0715,2
49UP20150724_1,   P04,    39,  1,     30,     097,2,20150811,2226,0052,  9.5110, 163.9892, 5188,    151.6,      151,  12.9130,  34.4036,2,    124.3,2,  34.4075,2,   125.31,2,    17.22,2,    18.03,2,     0.01,2,    1.380,2, -999.000,9, -999.000,9,   2147.3,2,   2272.3,2,   7.6883,2,    25.00,     0.05,2,     0.14,2,  12.8924,2,  25.9523,2,  12.9128,2
49UP20150724_1,   P04,    39,  1,     29,     102,2,20150811,2226,0051,  9.5110, 163.9892, 5188,    202.6,      201,  10.7151,  34.4634,2,     68.1,2,  34.4535,2,    71.62,2,    28.41,2,    27.37,2,     0.00,2,    2.050,2, -999.000,9, -999.000,9,   2213.8,2,   2286.1,2,   7.5496,2,    25.00,     0.01,2,     0.04,2,  10.6907,2,  26.4129,2,  10.7146,2
49UP20150724_1,   P04,    39,  1,     28,     108,2,20150811,2226,0049,  9.5110, 163.9892, 5188,    252.2,      251,   9.7690,  34.5641,2,     49.0,2,  34.5630,2,    48.91,2,    34.52,2,    32.34,2,     0.00,2,    2.330,2, -999.000,9, -999.000,9,   2241.6,2,   2297.2,2,   7.4977,2,    25.00,  -999.00,9,  -999.00,9,   9.7402,2,  26.6555,2,   9.7697,2
49UP20150724_1,   P04,    39,  1,     27,     998,2,20150811,2226,0047,  9.5110, 163.9892, 5188,    334.0,      332,   8.8013,  34.5830,2,     55.9,2,  34.5827,2,    56.35,6,    38.95,6,    33.92,6,     0.00,6,    2.410,6, -999.000,9, -999.000,9,   2248.9,2,   2306.2,2,   7.4965,2,    25.00,  -999.00,9,  -999.00,9,   8.7654,2,  26.8288,2,   8.7931,2
49UP20150724_1,   P04,    39,  1,     26,     084,2,20150811,2226,0044,  9.5110, 163.9892, 5188,    433.1,      430,   7.8176,  34.5567,2,     61.6,2,  34.5573,6,    61.82,2,    45.99,2,    35.36,2,     0.00,2,    2.520,2, -999.000,9, -999.000,9,   2258.9,2,   2311.4,2,   7.4863,2,    25.00,  -999.00,9,  -999.00,9,   7.7739,2,  26.9592,2,   7.8178,2
49UP20150724_1,   P04,    39,  1,     25,     098,2,20150811,2226,0042,  9.5110, 163.9892, 5188,    535.3,      532,   7.2239,  34.5377,2,     63.7,2,  34.5376,2,    63.75,2,    51.93,2,    36.12,2,     0.00,2,    2.580,2, -999.000,9, -999.000,9,   2269.7,2,   2316.4,2,   7.4820,2,    25.00,  -999.00,9,  -999.00,9,   7.1720,2,  27.0307,2,   7.2266,2
49UP20150724_1,   P04,    39,  1,     24,     110,2,20150811,2226,0039,  9.5110, 163.9892, 5188,    636.3,      632,   6.5029,  34.5328,2,     63.4,2,  34.5321,2,    63.54,2,    60.13,2,    37.53,2,     0.00,2,    2.690,2, -999.000,9, -999.000,9,   2276.3,6,   2324.9,6,   7.4717,2,    25.00,  -999.00,9,  -999.00,9,   6.4443,2,  27.1259,2,   6.5091,2
49UP20150724_1,   P04,    39,  1,     23,     096,2,20150811,2226,0033,  9.5110, 163.9892, 5188,    736.1,      731,   5.8825,  34.5291,2,     59.5,2,  34.5294,2,    59.52,2,    69.52,2,    39.01,2,     0.00,2,    2.800,2, -999.000,9, -999.000,9,   2292.5,2,   2335.0,2,   7.4513,6,    25.00,  -999.00,9,  -999.00,9,   5.8176,2,  27.2035,2,   5.8828,2
49UP20150724_1,   P04,    39,  1,     22,     111,2,20150811,2226,0030,  9.5110, 163.9892, 5188,    836.6,      830,   5.3211,  34.5355,2,     64.1,2,  34.5355,2,    64.13,6,    78.57,6,    39.49,6,     0.00,6,    2.830,6, -999.000,9, -999.000,9,   2302.3,2,   2343.6,2,   7.4545,2,    25.00,  -999.00,9,  -999.00,9,   5.2503,2,  27.2777,2,   5.3208,2
49UP20150724_1,   P04,    39,  1,     21,     078,2,20150811,2226,0028,  9.5110, 163.9892, 5188,    937.7,      930,   4.8669,  34.5426,2,     66.9,2,  34.5438,6,    67.13,2,    86.64,2,    39.75,2,     0.00,2,    2.850,2, -999.000,9, -999.000,9,   2306.7,2,   2351.9,2,   7.4577,2,    25.00,  -999.00,9,  -999.00,9,   4.7901,2,  27.3366,2,   4.8668,2
49UP20150724_1,   P04,    39,  1,     20,     093,2,20150811,2226,0024,  9.5110, 163.9892, 5188,   1079.2,     1070,   4.1702,  34.5599,2,     77.8,2,  34.5601,2,    77.93,2,    99.65,2,    39.53,2,     0.00,2,    2.830,2, -999.000,9, -999.000,9,   2317.8,2,   2368.7,2,   7.4730,2,    25.00,  -999.00,9,  -999.00,9,   4.0863,2,  27.4271,2,   4.1705,2
49UP20150724_1,   P04,    39,  1,     19,     092,2,20150811,2226,0020,  9.5110, 163.9892, 5188,   1283.0,     1272,   3.5146,  34.5808,2,     86.5,2,  34.5808,2,    86.45,2,   112.16,2,    39.49,2,     0.00,2,    2.820,2, -999.000,9, -999.000,9,   2323.7,2,   2379.5,2,   7.4837,2,    25.00,  -999.00,9,  -999.00,9,   3.4194,2,  27.5110,2,   3.5144,2
49UP20150724_1,   P04,    39,  1,     18,     101,2,20150811,2226,0014,  9.5110, 163.9892, 5188,   1484.5,     1471,   3.0439,  34.5969,2,     90.3,2,  34.5976,2,    90.34,2,   122.75,2,    39.58,2,     0.00,2,    2.810,2, -999.000,9, -999.000,9,   2334.7,2,   2390.2,2,   7.4895,2,    25.00,  -999.00,9,  -999.00,9,   2.9368,2,  27.5691,2,   3.0438,2
49UP20150724_1,   P04,    39,  1,     17,     090,2,20150811,2226,0009,  9.5110, 163.9892, 5188,   1687.9,     1672,   2.5933,  34.6120,2,     94.3,2,  34.6115,2,    94.19,2,   134.09,2,    39.58,2,     0.00,2,    2.800,2, -999.000,9, -999.000,9,   2345.0,2,   2402.3,2,   7.4909,2,    25.00,  -999.00,9,  -999.00,9,   2.4747,2,  27.6218,2,   2.5950,2
49UP20150724_1,   P04,    39,  1,     16,     089,3,20150811,2226,0005,  9.5110, 163.9892, 5188,   1889.0,     1870,   2.3317,  34.6256,2,    100.6,2,  34.6257,2,   100.86,2,   139.42,2,    39.20,2,     0.00,2,    2.770,2, -999.000,9, -999.000,9,   2345.0,2,   2407.8,2,   7.5013,2,    25.00,  -999.00,9,  -999.00,9,   2.1997,2,  27.6556,2,   2.3318,2
49UP20150724_1,   P04,    39,  1,     15,     088,2,20150811,2226,2359,  9.5110, 163.9892, 5188,   2094.0,     2072,   2.1549,  34.6390,2,    106.5,2,  34.6390,2,   106.83,2,   142.49,2,    38.95,2,     0.00,2,    2.740,2, -999.000,9, -999.000,9,   2347.3,2,   2413.7,2,   7.5139,2,    25.00,  -999.00,9,  -999.00,9,   2.0080,2,  27.6818,2,   2.1549,2
49UP20150724_1,   P04,    39,  1,     14,     999,2,20150811,2226,2355,  9.5110, 163.9892, 5188,   2296.3,     2271,   1.9984,  34.6482,2,    113.0,2,  34.6478,2,   113.31,2,   145.35,2,    38.55,2,     0.00,2,    2.710,2, -999.000,9, -999.000,9,   2347.1,2,   2416.4,2,   7.5226,2,    25.00,  -999.00,9,  -999.00,9,   1.8364,2,  27.7026,2,   1.9983,2
49UP20150724_1,   P04,    39,  1,     13,     667,2,20150811,2226,2350,  9.5110, 163.9892, 5188,   2499.1,     2470,   1.8836,  34.6559,2,    118.1,2,  34.6562,2,   118.61,6,   146.93,6,    38.20,6,     0.00,6,    2.680,6, -999.000,9, -999.000,9,   2346.8,2,   2420.3,2,   7.5332,2,    25.00,  -999.00,9,  -999.00,9,   1.7055,2,  27.7188,2,   1.8834,2
49UP20150724_1,   P04,    39,  1,     12,     074,2,20150811,2226,2343,  9.5110, 163.9892, 5188,   2703.8,     2671,   1.7829,  34.6625,2,    123.7,2,  34.6629,2,   123.91,2,   148.33,2,    37.90,2,     0.00,2,    2.650,2, -999.000,9, -999.000,9,   2345.0,6,   2420.0,6,   7.5426,2,    25.00,  -999.00,9,  -999.00,9,   1.5880,2,  27.7328,2,   1.7834,2
49UP20150724_1,   P04,    39,  1,     11,     268,2,20150811,2226,2339,  9.5110, 163.9892, 5188,   2907.5,     2871,   1.7181,  34.6669,2,    128.5,2,  34.6677,2,   128.75,2,   148.35,2,    37.60,2,     0.00,2,    2.620,2, -999.000,9, -999.000,9,   2341.4,2,   2420.3,2,   7.5481,6,    25.00,  -999.00,9,  -999.00,9,   1.5054,2,  27.7424,2,   1.7182,2
49UP20150724_1,   P04,    39,  1,     10,     267,2,20150811,2226,2334,  9.5110, 163.9892, 5188,   3120.4,     3080,   1.6489,  34.6716,2,    134.2,2,  34.6717,2,   134.61,2,   148.12,2,    37.21,2,     0.00,2,    2.590,2, -999.000,9, -999.000,9,   2332.9,3,   2418.0,2,   7.5582,2,    25.00,  -999.00,9,  -999.00,9,   1.4172,2,  27.7526,2,   1.6489,2
49UP20150724_1,   P04,    39,  1,      9,     518,2,20150811,2226,2326,  9.5110, 163.9892, 5188,   3376.1,     3330,   1.5598,  34.6778,2,    141.9,2,  34.6776,2,   142.12,2,   147.29,2,    36.73,2,     0.00,2,    2.550,2, -999.000,9, -999.000,9,   2329.3,2,   2417.3,2,   7.5683,2,    25.00,  -999.00,9,  -999.00,9,   1.3048,2,  27.7656,2,   1.5600,2
49UP20150724_1,   P04,    39,  1,      8,     081,2,20150811,2226,2317,  9.5110, 163.9892, 5188,   3632.5,     3581,   1.4826,  34.6837,2,    150.6,2,  34.6843,2,   150.88,2,   145.05,2,    36.09,2,     0.00,2,    2.500,2, -999.000,9, -999.000,9,   2327.5,6,   2415.7,6,   7.5789,2,    25.00,  -999.00,9,  -999.00,9,   1.2033,2,  27.7774,2,   1.4829,2
49UP20150724_1,   P04,    39,  1,      7,     516,2,20150811,2226,2310,  9.5110, 163.9892, 5188,   3889.2,     3832,   1.4310,  34.6891,2,    160.2,2,  34.6885,2,   160.43,2,   140.07,2,    35.43,2,     0.00,2,    2.450,2, -999.000,9, -999.000,9,   2317.0,2,   2410.2,2,   7.5866,6,    25.00,  -999.00,9,  -999.00,9,   1.1259,2,  27.7871,2,   1.4313,2
49UP20150724_1,   P04,    39,  1,      6,     113,2,20150811,2226,2254,  9.5110, 163.9892, 5188,   4144.2,     4081,   1.4065,  34.6930,2,    167.5,2,  34.6925,2,   167.56,2,   136.01,2,    34.88,2,     0.00,2,    2.410,2, -999.000,9, -999.000,9,   2307.3,3,   2407.9,2,   7.5988,2,    25.00,  -999.00,9,  -999.00,9,   1.0745,2,  27.7937,2,   1.4068,2
49UP20150724_1,   P04,    39,  1,      5,     094,2,20150811,2226,2248,  9.5110, 163.9892, 5188,   4399.9,     4330,   1.3935,  34.6960,2,    172.8,2,  34.6950,2,   172.17,3,   133.10,2,    34.52,2,     0.00,2,    2.390,2, -999.000,9, -999.000,9,   2306.7,2,   2403.2,2,   7.6016,2,    25.00,  -999.00,9,  -999.00,9,   1.0332,2,  27.7989,2,   1.3938,2
49UP20150724_1,   P04,    39,  1,      4,     471,2,20150811,2226,2242,  9.5110, 163.9892, 5188,   4656.2,     4580,   1.3894,  34.6979,2,    177.1,2,  34.6978,2,   177.28,6,   130.58,6,    34.13,6,     0.00,6,    2.360,6, -999.000,9, -999.000,9,   2299.1,2,   2398.0,2,   7.6058,2,    25.00,  -999.00,9,  -999.00,9,   0.9997,2,  27.8026,2,   1.3895,2
49UP20150724_1,   P04,    39,  1,      3,     104,2,20150811,2226,2236,  9.5110, 163.9892, 5188,   4912.5,     4829,   1.3872,  34.6998,2,    180.9,2,  34.7001,6,   180.82,2,   128.79,2,    33.89,2,     0.00,2,    2.340,2, -999.000,9, -999.000,9,   2294.0,2,   2395.9,2,   7.6097,2,    25.00,  -999.00,9,  -999.00,9,   0.9672,2,  27.8063,2,   1.3872,2
49UP20150724_1,   P04,    39,  1,      2,     075,2,20150811,2226,2230,  9.5110, 163.9892, 5188,   5170.0,     5079,   1.3964,  34.7012,2,    183.8,2,  34.7015,2,   183.78,2,   127.10,2,    33.62,2,     0.00,2,    2.320,2, -999.000,9, -999.000,9,   2289.1,2,   2390.1,2,   7.6087,2,    25.00,  -999.00,9,  -999.00,9,   0.9448,2,  27.8089,2,   1.3965,2
49UP20150724_1,   P04,    39,  1,      1,     997,2,20150811,2226,2226,  9.5110, 163.9892, 5188,   5282.6,     5189,   1.4061,  34.7016,2,    184.5,2,  34.7019,2,   184.48,2,   127.05,2,    33.63,2,     0.00,2,    2.320,2, -999.000,9, -999.000,9,   2286.2,2,   2388.1,2,   7.6077,2,    25.00,  -999.00,9,  -999.00,9,   0.9403,2,  27.8095,2,   1.4062,2