BOTTLE,20191113JMAGEMD
EXPOCODE,SECT_ID,STNNBR,CASTNO,SAMPNO,BTLNBR,BTLNBR_FLAG_U,DATE,TIME,BTL_TIME,LATITUDE,LONGITUDE,DEPTH,CTDPRS,CTDDEP,CTDTMP,CTDSAL,CTDSAL_FLAG_W,CTDOXY,CTDOXY_FLAG_W,SALNTY,SALNTY_FLAG_W,OXYGEN,OXYGEN_FLAG_W,SILCAT,SILCAT_FLAG_W,NO2+NO3,NO2+NO3_FLAG_W,NITRIT,NITRIT_FLAG_W,PHSPHT,PHSPHT_FLAG_W,CFC-11,CFC-11_FLAG_W,CFC-12,CFC-12_FLAG_W,TCARBN,TCARBN_FLAG_W,ALKALI,ALKALI_FLAG_W,PH_TS,PH_TS_FLAG_W,PH_TS_TMP,CHLORA,CHLORA_FLAG_W,PPHYTN,PPHYTN_FLAG_W,THETA,THETA_FLAG_W,SIGTHT,SIGTHT_FLAG_W,SBE35,SBE35_FLAG_W
,,,,,,,,UTC,,,,METER,DBAR,METERS,ITS-90,PSS-78,,UMOL/KG,,PSS78,,UMOL/KG,,UMOL/KG,,UMOL/KG,,UMOL/KG,,UMOL/KG,,PMOL/KG,,PMOL/KG,,UMOL/KG,,UMOL/KG,,,,ITS-90,UG/KG,,UG/KG,,ITS-90,,KG/M3,,ITS-90,
49UP20150724_1,   P04,    57,  1,      0,      -9,0,20150805,1036,1230,  5.5805, 173.0013, 4868,      0.0,        0,  29.6929,  34.1795,2,    196.9,2,  34.1811,2,   195.74,2,     1.34,2,     0.07,2,     0.00,2,    0.100,2, -999.000,9, -999.000,9,   1924.6,2,   2245.8,2,   8.1061,2,    25.00,     0.06,2,     0.03,2,  29.6923,2,  21.2157,2,-999.0000,9
49UP20150724_1,   P04,    57,  1,     36,     109,2,20150805,1036,1306,  5.5805, 173.0013, 4868,     10.5,       10,  29.3293,  34.1041,2,    197.0,2,  34.1036,2,   195.97,2,     1.29,2,     0.02,2,     0.00,2,    0.070,2,    1.531,2,    0.917,2,   1921.4,2,   2237.8,2,   8.1030,2,    25.00,     0.06,2,     0.03,2,  29.3268,2,  21.2823,2,  29.3260,2
49UP20150724_1,   P04,    57,  1,     35,     112,2,20150805,1036,1302,  5.5805, 173.0013, 4868,     50.8,       51,  25.3708,  34.7986,2,    194.3,2,  34.8085,2,   192.43,2,     1.83,2,     0.58,2,     0.05,2,    0.200,2, -999.000,9, -999.000,9,   2000.4,2,   2289.7,2,   8.0354,2,    25.00,     0.34,2,     0.26,2,  25.3597,2,  23.0793,2,  25.3645,2
49UP20150724_1,   P04,    57,  1,     34,     083,2,20150805,1036,1300,  5.5805, 173.0013, 4868,     75.4,       75,  23.0038,  34.9683,2,    153.8,2,  34.9671,2,   154.86,2,     4.28,2,     5.70,2,     0.09,2,    0.520,2, -999.000,9, -999.000,9,   2057.7,2,   2298.4,2,   7.9506,2,    25.00,     0.18,2,     0.35,2,  22.9884,2,  23.9129,2,  22.9947,2
49UP20150724_1,   P04,    57,  1,     33,     469,2,20150805,1036,1259,  5.5805, 173.0013, 4868,    100.7,      100,  21.6341,  34.9103,2,    155.4,2,  34.9111,2,   156.52,2,     5.26,2,     5.91,2,     0.18,2,    0.540,2, -999.000,9, -999.000,9,   2061.4,2,   2297.1,2,   7.9299,2,    25.00,     0.22,2,     0.45,2,  21.6144,2,  24.2571,2,  21.6246,2
49UP20150724_1,   P04,    57,  1,     32,     105,2,20150805,1036,1258,  5.5805, 173.0013, 4868,    126.1,      125,  18.2847,  34.7525,2,    145.5,2,  34.7319,4,   139.89,2,     9.45,2,    10.86,2,     0.20,2,    0.890,2, -999.000,9, -999.000,9,   2105.0,2,   2289.7,2,   7.8249,2,    25.00,     0.17,2,     0.29,2,  18.2629,2,  25.0175,2,  18.3052,2
49UP20150724_1,   P04,    57,  1,     31,     515,2,20150805,1036,1256,  5.5805, 173.0013, 4868,    151.7,      151,  12.3418,  34.5337,2,     75.5,2,  34.5329,2,    75.72,2,    23.40,2,    24.87,2,     0.01,2,    1.850,2, -999.000,9, -999.000,9,   2193.0,2,   2283.6,2,   7.5943,2,    25.00,     0.04,2,     0.13,2,  12.3217,2,  26.1651,2,  12.3471,2
49UP20150724_1,   P04,    57,  1,     30,     097,2,20150805,1036,1255,  5.5805, 173.0013, 4868,    176.9,      176,  11.1521,  34.5706,2,     53.2,2,  34.5743,2,    51.39,2,    28.98,2,    29.75,2,     0.00,2,    2.180,2, -999.000,9, -999.000,9,   2225.3,2,   2292.9,2,   7.5234,2,    25.00,     0.01,2,     0.05,2,  11.1302,2,  26.4175,2,  11.1564,2
49UP20150724_1,   P04,    57,  1,     29,     102,2,20150805,1036,1254,  5.5805, 173.0013, 4868,    202.8,      202,  10.2813,  34.6136,2,     37.4,2,  34.6129,6,    38.05,2,    32.14,2,    32.50,2,     0.00,2,    2.350,2, -999.000,9, -999.000,9,   2244.0,2,   2295.0,2,   7.4845,2,    25.00,     0.00,2,     0.04,2,  10.2574,2,  26.6060,2,  10.2828,2
49UP20150724_1,   P04,    57,  1,     28,     108,2,20150805,1036,1252,  5.5805, 173.0013, 4868,    252.8,      251,   9.8302,  34.6473,2,     39.7,2,  34.6475,2,    38.79,6,    33.44,6,    33.59,6,     0.00,6,    2.400,6, -999.000,9, -999.000,9,   2247.9,2,   2300.8,2,   7.4777,2,    25.00,  -999.00,9,  -999.00,9,   9.8012,2,  26.7102,2,   9.8286,2
49UP20150724_1,   P04,    57,  1,     27,     998,2,20150805,1036,1250,  5.5805, 173.0013, 4868,    303.9,      302,   9.4424,  34.6501,2,     53.0,2,  34.6502,2,    52.24,2,    33.57,2,    33.34,2,     0.00,2,    2.360,2, -999.000,9, -999.000,9,   2242.9,2,   2304.2,2,   7.4992,2,    25.00,  -999.00,9,  -999.00,9,   9.4083,2,  26.7779,2,   9.4439,2
49UP20150724_1,   P04,    57,  1,     26,     084,2,20150805,1036,1246,  5.5805, 173.0013, 4868,    404.5,      402,   8.6940,  34.6231,2,     59.3,2,  34.6232,2,    59.71,2,    36.60,2,    34.33,2,     0.00,2,    2.430,2, -999.000,9, -999.000,9,   2247.7,2,   2306.9,2,   7.4968,2,    25.00,  -999.00,9,  -999.00,9,   8.6507,2,  26.8783,2,   8.6938,2
49UP20150724_1,   P04,    57,  1,     25,     098,2,20150805,1036,1243,  5.5805, 173.0013, 4868,    504.3,      501,   7.9154,  34.5894,2,     51.2,2,  34.5894,2,    50.23,2,    43.44,2,    36.58,2,     0.00,2,    2.620,2, -999.000,9, -999.000,9,   2267.6,2,   2310.0,2,   7.4672,2,    25.00,  -999.00,9,  -999.00,9,   7.8639,2,  26.9716,2,   7.9190,2
49UP20150724_1,   P04,    57,  1,     24,     110,2,20150805,1036,1240,  5.5805, 173.0013, 4868,    606.3,      602,   7.0107,  34.5613,2,     46.9,2,  34.5614,6,    46.81,2,    52.86,2,    38.68,2,     0.00,2,    2.790,2, -999.000,9, -999.000,9,   2287.7,2,   2317.2,2,   7.4459,2,    25.00,  -999.00,9,  -999.00,9,   6.9526,2,  27.0798,2,   7.0101,2
49UP20150724_1,   P04,    57,  1,     23,     096,2,20150805,1036,1237,  5.5805, 173.0013, 4868,    707.7,      703,   6.1537,  34.5495,2,     39.1,2,  34.5494,2,    39.17,6,    64.51,6,    41.10,6,     0.00,6,    2.970,6, -999.000,9, -999.000,9,   2301.6,2,   2329.8,2,   7.4190,2,    25.00,  -999.00,9,  -999.00,9,   6.0900,2,  27.1852,2,   6.1532,2
49UP20150724_1,   P04,    57,  1,     22,     111,2,20150805,1036,1234,  5.5805, 173.0013, 4868,    806.6,      801,   5.4439,  34.5474,2,     46.9,2,  34.5472,2,    46.49,2,    74.79,2,    41.62,2,     0.00,2,    2.990,2, -999.000,9, -999.000,9,   2306.7,2,   2339.6,2,   7.4236,2,    25.00,  -999.00,9,  -999.00,9,   5.3750,2,  27.2723,2,   5.4451,2
49UP20150724_1,   P04,    57,  1,     21,     078,2,20150805,1036,1231,  5.5805, 173.0013, 4868,    908.9,      902,   4.8621,  34.5506,2,     58.5,2,  34.5508,2,    58.49,2,    84.71,2,    41.09,2,     0.00,2,    2.950,2, -999.000,9, -999.000,9,   2321.1,3,   2351.0,2,   7.4414,2,    25.00,  -999.00,9,  -999.00,9,   4.7879,2,  27.3432,2,   4.8638,2
49UP20150724_1,   P04,    57,  1,     20,     093,2,20150805,1036,1228,  5.5805, 173.0013, 4868,   1009.8,     1002,   4.4374,  34.5607,2,     63.8,2,  34.5599,2,    63.67,2,    92.35,2,    41.08,2,     0.00,2,    2.950,2, -999.000,9, -999.000,9,   2320.4,2,   2361.1,2,   7.4507,2,    25.00,  -999.00,9,  -999.00,9,   4.3575,2,  27.3988,2,   4.4416,2
49UP20150724_1,   P04,    57,  1,     19,     092,2,20150805,1036,1224,  5.5805, 173.0013, 4868,   1211.2,     1201,   3.7402,  34.5768,2,     75.5,2,  34.5771,2,    75.56,2,   107.34,2,    40.41,2,     0.00,2,    2.910,2, -999.000,9, -999.000,9,   2328.8,2,   2377.0,2,   7.4640,2,    25.00,  -999.00,9,  -999.00,9,   3.6489,2,  27.4852,2,   3.7398,2
49UP20150724_1,   P04,    57,  1,     18,     101,2,20150805,1036,1217,  5.5805, 173.0013, 4868,   1414.6,     1402,   3.2507,  34.5939,2,     81.0,2,  34.5939,6,    80.88,2,   118.28,2,    40.35,2,     0.00,2,    2.900,2, -999.000,9, -999.000,9,   2346.1,3,   2388.9,2,   7.4727,2,    25.00,  -999.00,9,  -999.00,9,   3.1472,2,  27.5473,2,   3.2515,2
49UP20150724_1,   P04,    57,  1,     17,     090,2,20150805,1036,1212,  5.5805, 173.0013, 4868,   1616.4,     1601,   2.8226,  34.6090,2,     90.5,2,  34.6082,2,    90.43,6,   127.56,6,    39.83,6,     0.00,6,    2.840,6, -999.000,9, -999.000,9,   1911.5,4,   2398.4,2,   7.4879,2,    25.00,  -999.00,9,  -999.00,9,   2.7070,2,  27.5993,2,   2.8225,2
49UP20150724_1,   P04,    57,  1,     16,     089,2,20150805,1036,1208,  5.5805, 173.0013, 4868,   1818.0,     1800,   2.5310,  34.6229,2,     98.9,2,  34.6231,2,    99.12,2,   133.33,2,    39.34,2,     0.00,2,    2.800,2, -999.000,9, -999.000,9,   2347.2,6,   2405.2,6,   7.5028,2,    25.00,  -999.00,9,  -999.00,9,   2.4023,2,  27.6367,2,   2.5307,2
49UP20150724_1,   P04,    57,  1,     15,     088,2,20150805,1036,1159,  5.5805, 173.0013, 4868,   2022.1,     2001,   2.2016,  34.6389,2,    105.0,2,  34.6390,2,   104.85,2,   141.75,2,    38.96,2,     0.00,2,    2.760,2, -999.000,9, -999.000,9,   2352.5,2,   2413.5,2,   7.5118,6,    25.00,  -999.00,9,  -999.00,9,   2.0602,2,  27.6776,2,   2.2014,2
49UP20150724_1,   P04,    57,  1,     14,     999,2,20150805,1036,1154,  5.5805, 173.0013, 4868,   2224.3,     2200,   2.0100,  34.6512,2,    111.0,2,  34.6497,4,   110.81,2,   145.78,2,    38.69,2,     0.00,2,    2.730,2, -999.000,9, -999.000,9,   2354.3,2,   2418.4,2,   7.5225,2,    25.00,  -999.00,9,  -999.00,9,   1.8541,2,  27.7037,2,   2.0098,2
49UP20150724_1,   P04,    57,  1,     13,     667,2,20150805,1036,1150,  5.5805, 173.0013, 4868,   2427.3,     2400,   1.8978,  34.6578,2,    117.3,2,  34.6582,2,   117.14,2,   147.07,2,    38.28,2,     0.00,2,    2.700,2, -999.000,9, -999.000,9,   2352.1,2,   2419.5,2,   7.5317,2,    25.00,  -999.00,9,  -999.00,9,   1.7259,2,  27.7188,2,   1.8976,2
49UP20150724_1,   P04,    57,  1,     12,     074,2,20150805,1036,1140,  5.5805, 173.0013, 4868,   2631.1,     2600,   1.8049,  34.6630,2,    123.0,2,  34.6628,2,   122.99,2,   147.61,2,    37.90,2,     0.00,2,    2.660,2,    0.000,2,    0.000,2,   2348.7,2,   2421.9,2,   7.5431,2,    25.00,  -999.00,9,  -999.00,9,   1.6163,2,  27.7312,2,   1.8049,2
49UP20150724_1,   P04,    57,  1,     11,     268,2,20150805,1036,1136,  5.5805, 173.0013, 4868,   2835.6,     2801,   1.7241,  34.6675,2,    128.6,2,  34.6681,2,   128.57,2,   147.65,2,    37.50,2,     0.00,2,    2.630,2,    0.000,2,    0.000,2,   2346.2,2,   2421.1,2,   7.5498,2,    25.00,  -999.00,9,  -999.00,9,   1.5181,2,  27.7420,2,   1.7239,2
49UP20150724_1,   P04,    57,  1,     10,     267,2,20150805,1036,1131,  5.5805, 173.0013, 4868,   3038.2,     3000,   1.6206,  34.6735,2,    135.6,2,  34.6734,2,   135.57,2,   148.15,2,    37.05,2,     0.00,2,    2.600,2,    0.000,2,    0.000,2,   2336.5,2,   2420.1,2,   7.5613,2,    25.00,  -999.00,9,  -999.00,9,   1.3975,2,  27.7556,2,   1.6207,2
49UP20150724_1,   P04,    57,  1,      9,     518,2,20150805,1036,1122,  5.5805, 173.0013, 4868,   3293.4,     3250,   1.5484,  34.6786,2,    142.6,2,  34.6786,2,   142.60,2,   147.04,2,    36.59,2,     0.00,2,    2.550,2,    0.000,2,    0.000,2,   2327.4,3,   2419.3,2,   7.5691,2,    25.00,  -999.00,9,  -999.00,9,   1.3020,2,  27.7664,2,   1.5485,2
49UP20150724_1,   P04,    57,  1,      8,     081,2,20150805,1036,1117,  5.5805, 173.0013, 4868,   3549.2,     3500,   1.5156,  34.6817,2,    147.7,2,  34.6818,6,   147.54,2,   145.63,2,    36.24,2,     0.00,2,    2.530,2,    0.000,2,    0.000,2,   2331.2,2,   2417.1,2,   7.5744,2,    25.00,  -999.00,9,  -999.00,9,   1.2440,2,  27.7730,2,   1.5156,2
49UP20150724_1,   P04,    57,  1,      7,     516,2,20150805,1036,1108,  5.5805, 173.0013, 4868,   3804.8,     3750,   1.4410,  34.6876,2,    157.7,2,  34.6875,2,   157.59,2,   141.87,2,    35.83,2,     0.00,2,    2.470,2,    0.000,2,    0.000,2,   2316.9,3,   2413.0,6,   7.5934,2,    25.00,  -999.00,9,  -999.00,9,   1.1447,2,  27.7846,2,   1.4408,2
49UP20150724_1,   P04,    57,  1,      6,     113,2,20150805,1036,1103,  5.5805, 173.0013, 4868,   4061.6,     4001,   1.4027,  34.6918,2,    165.2,2,  34.6916,2,   165.56,6,   137.98,6,    35.10,6,     0.00,6,    2.430,6,    0.000,2,    0.000,2,   2313.5,2,   2408.2,2,   7.5962,6,    25.00,  -999.00,9,  -999.00,9,   1.0798,2,  27.7923,2,   1.4029,2
49UP20150724_1,   P04,    57,  1,      5,     094,2,20150805,1036,1057,  5.5805, 173.0013, 4868,   4319.4,     4252,   1.3628,  34.6958,2,    172.7,2,  34.6950,2,   170.97,3,   134.47,2,    34.59,2,     0.00,2,    2.400,2,    0.000,2,    0.000,2,   2306.8,2,   2403.2,2,   7.6010,2,    25.00,  -999.00,9,  -999.00,9,   1.0125,2,  27.8001,2,   1.3629,2
49UP20150724_1,   P04,    57,  1,      4,     471,2,20150805,1036,1049,  5.5805, 173.0013, 4868,   4574.8,     4501,   1.3380,  34.6984,2,    178.1,2,  34.6985,2,   178.06,2,   131.86,2,    34.20,2,     0.00,2,    2.370,2,    0.000,2,    0.000,2,   2297.8,2,   2398.6,2,   7.6058,2,    25.00,  -999.00,9,  -999.00,9,   0.9594,2,  27.8057,2,   1.3380,2
49UP20150724_1,   P04,    57,  1,      3,     104,2,20150805,1036,1049,  5.5805, 173.0013, 4868,   4574.8,     4501,   1.3380,  34.6985,2,    178.1,2,  34.6988,2,   178.23,2,   132.12,2,    34.48,4,     0.00,2,    2.370,2,    0.004,2,    0.002,2,   2307.4,3,   2398.5,2,   7.6066,2,    25.00,  -999.00,9,  -999.00,9,   0.9593,2,  27.8057,2,   1.3379,2
49UP20150724_1,   P04,    57,  1,      2,     075,2,20150805,1036,1043,  5.5805, 173.0013, 4868,   4831.1,     4751,   1.3275,  34.7008,2,    183.6,2,  34.7010,2,   183.49,2,   129.09,2,    33.90,2,     0.00,2,    2.330,2,    0.000,2,    0.000,2,   2292.2,6,   2392.4,6,   7.6123,2,    25.00,  -999.00,9,  -999.00,9,   0.9192,2,  27.8103,2,   1.3278,2
49UP20150724_1,   P04,    57,  1,      1,     997,2,20150805,1036,1036,  5.5805, 173.0013, 4868,   4955.6,     4872,   1.2832,  34.7039,2,    190.2,2,  34.7044,2,   190.33,2,   125.04,2,    33.34,2,     0.00,2,    2.300,2,    0.003,6,    0.002,6,   2285.8,2,   2383.6,2,   7.6116,6,    25.00,  -999.00,9,  -999.00,9,   0.8616,2,  27.8165,2,   1.2832,2