BOTTLE,20191113JMAGEMD
EXPOCODE,SECT_ID,STNNBR,CASTNO,SAMPNO,BTLNBR,BTLNBR_FLAG_U,DATE,TIME,BTL_TIME,LATITUDE,LONGITUDE,DEPTH,CTDPRS,CTDDEP,CTDTMP,CTDSAL,CTDSAL_FLAG_W,CTDOXY,CTDOXY_FLAG_W,SALNTY,SALNTY_FLAG_W,OXYGEN,OXYGEN_FLAG_W,SILCAT,SILCAT_FLAG_W,NO2+NO3,NO2+NO3_FLAG_W,NITRIT,NITRIT_FLAG_W,PHSPHT,PHSPHT_FLAG_W,CFC-11,CFC-11_FLAG_W,CFC-12,CFC-12_FLAG_W,TCARBN,TCARBN_FLAG_W,ALKALI,ALKALI_FLAG_W,PH_TS,PH_TS_FLAG_W,PH_TS_TMP,CHLORA,CHLORA_FLAG_W,PPHYTN,PPHYTN_FLAG_W,THETA,THETA_FLAG_W,SIGTHT,SIGTHT_FLAG_W,SBE35,SBE35_FLAG_W
,,,,,,,,UTC,,,,METER,DBAR,METERS,ITS-90,PSS-78,,UMOL/KG,,PSS78,,UMOL/KG,,UMOL/KG,,UMOL/KG,,UMOL/KG,,UMOL/KG,,PMOL/KG,,PMOL/KG,,UMOL/KG,,UMOL/KG,,,,ITS-90,UG/KG,,UG/KG,,ITS-90,,KG/M3,,ITS-90,
49UP20150724_1,   P04,    47,  1,      0,      -9,0,20150808,2136,2340,  5.0122, 167.0217, 4794,      0.0,        0,  29.2691,  34.1369,2,    196.8,2,-999.0000,9,   195.86,2,     1.14,2,     0.01,2,     0.00,2,    0.060,2, -999.000,9, -999.000,9,   -999.0,9,   -999.0,9,-999.0000,9,  -999.00,  -999.00,9,  -999.00,9,  29.2685,2,  21.3264,2,-999.0000,9
49UP20150724_1,   P04,    47,  1,     36,     109,2,20150808,2136,2358,  5.0122, 167.0217, 4794,     11.3,       11,  29.2629,  34.1365,2,    196.7,2,  34.1347,2,   195.76,6,     1.08,6,     0.01,6,     0.00,6,    0.050,6, -999.000,9, -999.000,9,   -999.0,9,   -999.0,9,-999.0000,9,  -999.00,  -999.00,9,  -999.00,9,  29.2601,2,  21.3289,2,  29.2615,2
49UP20150724_1,   P04,    47,  1,     35,     112,2,20150808,2136,2357,  5.0122, 167.0217, 4794,     26.0,       26,  28.9239,  34.2110,2,    197.3,2,  34.2244,4,   196.60,2,     1.12,2,     0.02,2,     0.00,2,    0.060,2, -999.000,9, -999.000,9,   -999.0,9,   -999.0,9,-999.0000,9,  -999.00,  -999.00,9,  -999.00,9,  28.9176,2,  21.4992,2,  28.9165,2
49UP20150724_1,   P04,    47,  1,     34,     083,2,20150808,2136,2355,  5.0122, 167.0217, 4794,     51.6,       51,  24.8808,  35.1052,2,    147.8,2,  35.0993,2,   148.06,2,     2.99,2,     6.48,2,     0.30,2,    0.540,2, -999.000,9, -999.000,9,   -999.0,9,   -999.0,9,-999.0000,9,  -999.00,  -999.00,9,  -999.00,9,  24.8697,2,  23.4603,2,  24.8886,2
49UP20150724_1,   P04,    47,  1,     33,     469,2,20150808,2136,2354,  5.0122, 167.0217, 4794,     76.1,       76,  24.2029,  35.1145,2,    135.2,2,  35.1158,2,   135.83,2,     3.89,2,     8.29,2,     0.21,2,    0.640,2, -999.000,9, -999.000,9,   -999.0,9,   -999.0,9,-999.0000,9,  -999.00,  -999.00,9,  -999.00,9,  24.1868,2,  23.6726,2,  24.2060,2
49UP20150724_1,   P04,    47,  1,     32,     105,2,20150808,2136,2350,  5.0122, 167.0217, 4794,    102.6,      102,  23.7398,  35.2603,2,    133.3,2,  35.2568,2,   133.79,2,     3.76,2,     8.77,2,     0.04,2,    0.690,2, -999.000,9, -999.000,9,   -999.0,9,   -999.0,9,-999.0000,9,  -999.00,  -999.00,9,  -999.00,9,  23.7184,2,  23.9217,2,  23.7391,2
49UP20150724_1,   P04,    47,  1,     31,     515,2,20150808,2136,2348,  5.0122, 167.0217, 4794,    127.2,      126,  22.3827,  35.1074,2,    141.5,2,  35.1225,4,   141.43,2,     4.85,2,     8.13,2,     0.03,2,    0.640,2, -999.000,9, -999.000,9,   -999.0,9,   -999.0,9,-999.0000,9,  -999.00,  -999.00,9,  -999.00,9,  22.3572,2,  24.1988,2,  22.3458,2
49UP20150724_1,   P04,    47,  1,     30,     097,2,20150808,2136,2346,  5.0122, 167.0217, 4794,    154.6,      154,  17.8068,  34.7581,2,    139.8,2,  34.7927,4,   141.66,2,     9.17,2,    10.59,2,     0.03,2,    0.820,2, -999.000,9, -999.000,9,   -999.0,9,   -999.0,9,-999.0000,9,  -999.00,  -999.00,9,  -999.00,9,  17.7805,2,  25.1406,2,  17.8343,2
49UP20150724_1,   P04,    47,  1,     29,     102,2,20150808,2136,2343,  5.0122, 167.0217, 4794,    205.5,      204,  10.8936,  34.5562,2,     76.5,2,  34.5586,2,    71.61,2,    29.13,2,    28.00,2,     0.00,2,    2.040,2, -999.000,9, -999.000,9,   -999.0,9,   -999.0,9,-999.0000,9,  -999.00,  -999.00,9,  -999.00,9,  10.8686,2,  26.4536,2,  10.8987,2
49UP20150724_1,   P04,    47,  1,     28,     108,2,20150808,2136,2340,  5.0122, 167.0217, 4794,    255.0,      253,   9.7936,  34.6209,2,     45.3,2,  34.6201,2,    45.56,2,    33.80,2,    33.02,2,     0.00,2,    2.360,2, -999.000,9, -999.000,9,   -999.0,9,   -999.0,9,-999.0000,9,  -999.00,  -999.00,9,  -999.00,9,   9.7644,2,  26.6958,2,   9.7954,2
49UP20150724_1,   P04,    47,  1,     27,     998,2,20150808,2136,2336,  5.0122, 167.0217, 4794,    335.2,      333,   9.0033,  34.6297,2,     67.4,2,  34.6293,2,    67.12,2,    34.47,2,    32.82,2,     0.00,2,    2.320,2, -999.000,9, -999.000,9,   -999.0,9,   -999.0,9,-999.0000,9,  -999.00,  -999.00,9,  -999.00,9,   8.9667,2,  26.8335,2,   9.0029,2
49UP20150724_1,   P04,    47,  1,     26,     084,2,20150808,2136,2333,  5.0122, 167.0217, 4794,    435.2,      432,   8.1484,  34.5959,2,     63.1,2,  34.5956,2,    63.45,2,    40.24,2,    34.88,2,     0.00,2,    2.470,2, -999.000,9, -999.000,9,   -999.0,9,   -999.0,9,-999.0000,9,  -999.00,  -999.00,9,  -999.00,9,   8.1035,2,  26.9410,2,   8.1482,2
49UP20150724_1,   P04,    47,  1,     25,     098,2,20150808,2136,2326,  5.0122, 167.0217, 4794,    538.4,      535,   7.3903,  34.5702,2,     45.8,2,  34.5717,2,    45.23,2,    48.93,2,    37.85,2,     0.00,2,    2.720,2, -999.000,9, -999.000,9,   -999.0,9,   -999.0,9,-999.0000,9,  -999.00,  -999.00,9,  -999.00,9,   7.3374,2,  27.0329,2,   7.3920,2
49UP20150724_1,   P04,    47,  1,     24,     110,2,20150808,2136,2323,  5.0122, 167.0217, 4794,    637.6,      633,   6.5086,  34.5501,2,     47.0,2,  34.5505,2,    45.84,2,    58.99,2,    39.69,2,     0.00,2,    2.850,2, -999.000,9, -999.000,9,   -999.0,9,   -999.0,9,-999.0000,9,  -999.00,  -999.00,9,  -999.00,9,   6.4497,2,  27.1388,2,   6.5085,2
49UP20150724_1,   P04,    47,  1,     23,     096,2,20150808,2136,2320,  5.0122, 167.0217, 4794,    733.8,      728,   5.9363,  34.5435,2,     51.3,2,  34.5448,2,    50.97,2,    66.61,2,    40.27,2,     0.00,2,    2.880,2, -999.000,9, -999.000,9,   -999.0,9,   -999.0,9,-999.0000,9,  -999.00,  -999.00,9,  -999.00,9,   5.8713,2,  27.2082,2,   5.9349,2
49UP20150724_1,   P04,    47,  1,     22,     111,2,20150808,2136,2318,  5.0122, 167.0217, 4794,    836.5,      830,   5.0470,  34.5490,2,     57.6,2,  34.5493,2,    57.22,2,    80.53,2,    41.00,2,     0.00,2,    2.930,2, -999.000,9, -999.000,9,   -999.0,9,   -999.0,9,-999.0000,9,  -999.00,  -999.00,9,  -999.00,9,   4.9779,2,  27.3202,2,   5.0466,2
49UP20150724_1,   P04,    47,  1,     21,     078,2,20150808,2136,2316,  5.0122, 167.0217, 4794,    936.1,      929,   4.6253,  34.5548,2,     65.7,2,  34.5540,2,    65.64,2,    88.57,6,    40.60,6,     0.00,6,    2.910,6, -999.000,9, -999.000,9,   -999.0,9,   -999.0,9,-999.0000,9,  -999.00,  -999.00,9,  -999.00,9,   4.5504,2,  27.3731,2,   4.6250,2
49UP20150724_1,   P04,    47,  1,     20,     093,2,20150808,2136,2313,  5.0122, 167.0217, 4794,   1077.9,     1069,   4.0878,  34.5668,2,     72.5,2,  34.5670,6,    72.51,2,    99.38,2,    40.48,2,     0.00,2,    2.900,2, -999.000,9, -999.000,9,   -999.0,9,   -999.0,9,-999.0000,9,  -999.00,  -999.00,9,  -999.00,9,   4.0048,2,  27.4411,2,   4.0890,2
49UP20150724_1,   P04,    47,  1,     19,     092,2,20150808,2136,2308,  5.0122, 167.0217, 4794,   1281.1,     1270,   3.5318,  34.5835,2,     79.9,2,  34.5838,2,    79.39,2,   111.15,2,    40.33,2,     0.00,2,    2.880,2, -999.000,9, -999.000,9,   -999.0,9,   -999.0,9,-999.0000,9,  -999.00,  -999.00,9,  -999.00,9,   3.4366,2,  27.5114,2,   3.5290,2
49UP20150724_1,   P04,    47,  1,     18,     101,2,20150808,2136,2304,  5.0122, 167.0217, 4794,   1481.4,     1468,   3.0419,  34.6012,2,     89.1,2,  34.6017,2,    89.28,2,   121.16,2,    39.94,2,     0.00,2,    2.840,2, -999.000,9, -999.000,9,   -999.0,9,   -999.0,9,-999.0000,9,  -999.00,  -999.00,9,  -999.00,9,   2.9351,2,  27.5727,2,   3.0426,2
49UP20150724_1,   P04,    47,  1,     17,     090,2,20150808,2136,2300,  5.0122, 167.0217, 4794,   1683.8,     1668,   2.6850,  34.6149,2,     97.3,2,  34.6151,2,    97.60,2,   128.49,2,    39.37,2,     0.00,2,    2.790,2, -999.000,9, -999.000,9,   -999.0,9,   -999.0,9,-999.0000,9,  -999.00,  -999.00,9,  -999.00,9,   2.5655,2,  27.6164,2,   2.6844,2
49UP20150724_1,   P04,    47,  1,     16,     089,2,20150808,2136,2257,  5.0122, 167.0217, 4794,   1886.8,     1868,   2.3964,  34.6280,2,    102.5,2,  34.6280,2,   102.55,2,   135.94,2,    39.14,2,     0.00,2,    2.760,2, -999.000,9, -999.000,9,   -999.0,9,   -999.0,9,-999.0000,9,  -999.00,  -999.00,9,  -999.00,9,   2.2637,2,  27.6523,2,   2.3970,2
49UP20150724_1,   P04,    47,  1,     15,     088,2,20150808,2136,2250,  5.0122, 167.0217, 4794,   2092.6,     2071,   2.1173,  34.6441,2,    110.3,2,  34.6443,2,   109.95,6,   141.54,6,    38.74,6,     0.00,6,    2.730,6, -999.000,9, -999.000,9,   -999.0,9,   -999.0,9,-999.0000,9,  -999.00,  -999.00,9,  -999.00,9,   1.9712,2,  27.6889,2,   2.1187,2
49UP20150724_1,   P04,    47,  1,     14,     999,2,20150808,2136,2245,  5.0122, 167.0217, 4794,   2296.3,     2271,   1.9439,  34.6539,2,    116.5,2,  34.6542,6,   116.43,2,   144.95,2,    38.34,2,     0.00,2,    2.690,2, -999.000,9, -999.000,9,   -999.0,9,   -999.0,9,-999.0000,9,  -999.00,  -999.00,9,  -999.00,9,   1.7829,2,  27.7113,2,   1.9438,2
49UP20150724_1,   P04,    47,  1,     13,     667,2,20150808,2136,2240,  5.0122, 167.0217, 4794,   2499.1,     2471,   1.8351,  34.6601,2,    121.9,2,  34.6594,2,   121.60,2,   145.70,2,    37.97,2,     0.00,2,    2.660,2, -999.000,9, -999.000,9,   -999.0,9,   -999.0,9,-999.0000,9,  -999.00,  -999.00,9,  -999.00,9,   1.6579,2,  27.7257,2,   1.8351,2
49UP20150724_1,   P04,    47,  1,     12,     074,2,20150808,2136,2233,  5.0122, 167.0217, 4794,   2702.6,     2670,   1.7589,  34.6645,2,    126.9,2,  34.6640,2,   127.07,2,   146.64,2,    37.65,2,     0.00,2,    2.640,2, -999.000,9, -999.000,9,   -999.0,9,   -999.0,9,-999.0000,9,  -999.00,  -999.00,9,  -999.00,9,   1.5646,2,  27.7362,2,   1.7589,2
49UP20150724_1,   P04,    47,  1,     11,     268,2,20150808,2136,2228,  5.0122, 167.0217, 4794,   2906.5,     2871,   1.6817,  34.6693,2,    132.3,2,  34.6686,2,   132.31,2,   146.69,2,    37.29,2,     0.00,2,    2.610,2, -999.000,9, -999.000,9,   -999.0,9,   -999.0,9,-999.0000,9,  -999.00,  -999.00,9,  -999.00,9,   1.4699,2,  27.7470,2,   1.6817,2
49UP20150724_1,   P04,    47,  1,     10,     267,2,20150808,2136,2223,  5.0122, 167.0217, 4794,   3122.2,     3082,   1.6167,  34.6735,2,    138.2,2,  34.6733,2,   138.18,2,   145.75,2,    36.93,2,     0.00,2,    2.570,2, -999.000,9, -999.000,9,   -999.0,9,   -999.0,9,-999.0000,9,  -999.00,  -999.00,9,  -999.00,9,   1.3855,2,  27.7564,2,   1.6165,2
49UP20150724_1,   P04,    47,  1,      9,     518,2,20150808,2136,2214,  5.0122, 167.0217, 4794,   3378.1,     3333,   1.5513,  34.6785,2,    145.0,2,  34.6776,2,   144.78,2,   144.68,2,    36.44,2,     0.00,2,    2.530,2, -999.000,9, -999.000,9,   -999.0,9,   -999.0,9,-999.0000,9,  -999.00,  -999.00,9,  -999.00,9,   1.2963,2,  27.7667,2,   1.5514,2
49UP20150724_1,   P04,    47,  1,      8,     081,2,20150808,2136,2207,  5.0122, 167.0217, 4794,   3635.3,     3584,   1.4932,  34.6835,2,    152.0,2,  34.6837,2,   151.88,2,   142.89,2,    36.00,2,     0.00,2,    2.500,2, -999.000,9, -999.000,9,   -999.0,9,   -999.0,9,-999.0000,9,  -999.00,  -999.00,9,  -999.00,9,   1.2133,2,  27.7766,2,   1.4932,2
49UP20150724_1,   P04,    47,  1,      7,     516,2,20150808,2136,2157,  5.0122, 167.0217, 4794,   3893.4,     3837,   1.4614,  34.6874,2,    158.5,2,  34.6875,2,   158.78,2,   139.82,2,    35.49,2,     0.00,2,    2.460,2, -999.000,9, -999.000,9,   -999.0,9,   -999.0,9,-999.0000,9,  -999.00,  -999.00,9,  -999.00,9,   1.1551,2,  27.7837,2,   1.4615,2
49UP20150724_1,   P04,    47,  1,      6,     113,2,20150808,2136,2152,  5.0122, 167.0217, 4794,   4138.3,     4076,   1.4453,  34.6903,2,    163.8,2,  34.6905,6,   163.93,6,   137.33,6,    35.14,6,     0.00,6,    2.430,6, -999.000,9, -999.000,9,   -999.0,9,   -999.0,9,-999.0000,9,  -999.00,  -999.00,9,  -999.00,9,   1.1128,2,  27.7890,2,   1.4452,2
49UP20150724_1,   P04,    47,  1,      5,     094,2,20150808,2136,2146,  5.0122, 167.0217, 4794,   4394.4,     4325,   1.4296,  34.6936,2,    169.4,2,  34.6938,2,   169.15,2,   134.46,2,    34.73,2,     0.00,2,    2.400,2, -999.000,9, -999.000,9,   -999.0,9,   -999.0,9,-999.0000,9,  -999.00,  -999.00,9,  -999.00,9,   1.0689,2,  27.7945,2,   1.4296,2
49UP20150724_1,   P04,    47,  1,      4,     471,2,20150808,2136,2146,  5.0122, 167.0217, 4794,   4396.4,     4327,   1.4297,  34.6933,2,    169.4,2,  34.6937,2,   169.40,2,   134.17,2,    34.73,2,     0.00,2,    2.400,2, -999.000,9, -999.000,9,   -999.0,9,   -999.0,9,-999.0000,9,  -999.00,  -999.00,9,  -999.00,9,   1.0687,2,  27.7943,2,   1.4293,2
49UP20150724_1,   P04,    47,  1,      3,     104,2,20150808,2136,2142,  5.0122, 167.0217, 4794,   4655.9,     4580,   1.4107,  34.6966,2,    175.3,2,  34.6967,6,   174.72,2,   131.38,2,    34.31,2,     0.00,2,    2.370,2, -999.000,9, -999.000,9,   -999.0,9,   -999.0,9,-999.0000,9,  -999.00,  -999.00,9,  -999.00,9,   1.0203,2,  27.8002,2,   1.4105,2
49UP20150724_1,   P04,    47,  1,      1,     997,2,20150808,2136,2136,  5.0122, 167.0217, 4794,   4872.4,     4791,   1.3643,  34.7006,2,    183.3,2,  34.7006,2,   182.64,2,   127.42,2,    33.71,2,     0.00,2,    2.330,2, -999.000,9, -999.000,9,   -999.0,9,   -999.0,9,-999.0000,9,  -999.00,  -999.00,9,  -999.00,9,   0.9499,2,  27.8081,2,   1.3641,2
49UP20150724_1,   P04,    47,  1,      2,     075,2,20150808,2136,2137,  5.0122, 167.0217, 4794,   4873.7,     4792,   1.3645,  34.7006,2,    183.2,2,  34.7011,2,   183.19,2,   127.14,2,    33.65,2,     0.00,2,    2.330,2, -999.000,9, -999.000,9,   -999.0,9,   -999.0,9,-999.0000,9,  -999.00,  -999.00,9,  -999.00,9,   0.9499,2,  27.8081,2,   1.3643,2