BOTTLE,20191113JMAGEMD
EXPOCODE,SECT_ID,STNNBR,CASTNO,SAMPNO,BTLNBR,BTLNBR_FLAG_U,DATE,TIME,BTL_TIME,LATITUDE,LONGITUDE,DEPTH,CTDPRS,CTDDEP,CTDTMP,CTDSAL,CTDSAL_FLAG_W,CTDOXY,CTDOXY_FLAG_W,SALNTY,SALNTY_FLAG_W,OXYGEN,OXYGEN_FLAG_W,SILCAT,SILCAT_FLAG_W,NO2+NO3,NO2+NO3_FLAG_W,NITRIT,NITRIT_FLAG_W,PHSPHT,PHSPHT_FLAG_W,CFC-11,CFC-11_FLAG_W,CFC-12,CFC-12_FLAG_W,TCARBN,TCARBN_FLAG_W,ALKALI,ALKALI_FLAG_W,PH_TS,PH_TS_FLAG_W,PH_TS_TMP,CHLORA,CHLORA_FLAG_W,PPHYTN,PPHYTN_FLAG_W,THETA,THETA_FLAG_W,SIGTHT,SIGTHT_FLAG_W,SBE35,SBE35_FLAG_W
,,,,,,,,UTC,,,,METER,DBAR,METERS,ITS-90,PSS-78,,UMOL/KG,,PSS78,,UMOL/KG,,UMOL/KG,,UMOL/KG,,UMOL/KG,,UMOL/KG,,PMOL/KG,,PMOL/KG,,UMOL/KG,,UMOL/KG,,,,ITS-90,UG/KG,,UG/KG,,ITS-90,,KG/M3,,ITS-90,
49UP20150724_1,   P04,    46,  1,      0,      -9,0,20150809,0549,0843,  5.0143, 166.3405, 4759,      0.0,        0,  28.9130,  34.0962,2,    198.2,2,  34.1019,2,   197.81,2,     1.16,2,     0.00,2,     0.00,2,    0.060,2, -999.000,9, -999.000,9,   1917.5,2,   2240.1,2,   8.1047,2,    25.00,     0.11,2,     0.05,2,  28.9124,2,  21.4148,2,-999.0000,9
49UP20150724_1,   P04,    46,  1,     36,     109,2,20150809,0549,0809,  5.0143, 166.3405, 4759,     11.5,       11,  28.9226,  34.0969,2,    198.1,2,  34.0940,2,   197.47,2,     1.16,2,     0.00,2,     0.00,2,    0.060,2,    1.496,2,    0.932,2,   1921.0,2,   2238.4,2,   8.1089,2,    25.00,     0.11,2,     0.06,2,  28.9198,2,  21.4129,2,  28.9215,2
49UP20150724_1,   P04,    46,  1,     35,     112,2,20150809,0549,0806,  5.0143, 166.3405, 4759,     51.3,       51,  23.7589,  34.8778,2,    160.3,2,  34.8743,2,   160.69,2,     4.27,2,     5.31,2,     0.92,2,    0.450,2, -999.000,9, -999.000,9,   2035.1,2,   2292.5,2,   7.9762,2,    25.00,     0.24,2,     0.43,2,  23.7482,2,  23.6231,2,  23.7586,2
49UP20150724_1,   P04,    46,  1,     34,     083,2,20150809,0549,0804,  5.0143, 166.3405, 4759,     75.9,       75,  23.6501,  35.0793,2,    141.6,2,  35.0941,4,   140.41,2,     4.31,2,     7.85,2,     0.12,2,    0.620,2, -999.000,9, -999.000,9,   2061.8,2,   2302.6,2,   7.9429,2,    25.00,     0.18,2,     0.42,2,  23.6343,2,  23.8093,2,  23.6478,2
49UP20150724_1,   P04,    46,  1,     33,     469,2,20150809,0549,0802,  5.0143, 166.3405, 4759,    102.3,      102,  22.1771,  34.9886,2,    146.9,2,  34.9821,2,   148.28,2,     5.77,2,     7.41,2,     0.06,2,    0.590,2, -999.000,9, -999.000,9,   2061.7,2,   2299.7,2,   7.9299,2,    25.00,     0.06,2,     0.16,2,  22.1568,2,  24.1651,2,  22.1635,2
49UP20150724_1,   P04,    46,  1,     32,     105,2,20150809,0549,0800,  5.0143, 166.3405, 4759,    126.5,      126,  21.2075,  35.0198,2,    149.7,2,  35.0207,2,   150.40,2,     5.68,2,     7.47,2,     0.02,2,    0.610,2, -999.000,9, -999.000,9,   2074.7,2,   2302.3,2,   7.9198,2,    25.00,     0.03,2,     0.10,2,  21.1831,2,  24.4591,2,  21.2082,2
49UP20150724_1,   P04,    46,  1,     31,     515,2,20150809,0549,0758,  5.0143, 166.3405, 4759,    152.2,      151,  16.2553,  34.6721,2,    126.9,2,  34.6673,2,   126.42,2,    13.06,2,    14.67,2,     0.01,2,    1.110,2, -999.000,9, -999.000,9,   2128.7,2,   2286.6,2,   7.7759,2,    25.00,     0.02,2,     0.07,2,  16.2310,2,  25.4424,2,  16.2200,2
49UP20150724_1,   P04,    46,  1,     30,     097,2,20150809,0549,0756,  5.0143, 166.3405, 4759,    177.7,      177,  12.9775,  34.5612,2,    112.4,2,  34.5586,2,   111.30,6,    22.21,6,    21.01,6,     0.01,6,    1.540,6, -999.000,9, -999.000,9,   2163.7,2,   2286.4,2,   7.6838,2,    25.00,     0.00,2,     0.03,2,  12.9532,2,  26.0623,2,  12.9781,2
49UP20150724_1,   P04,    46,  1,     29,     102,2,20150809,0549,0752,  5.0143, 166.3405, 4759,    202.5,      201,  11.1662,  34.5526,2,     87.1,2,  34.5535,2,    86.24,2,    29.03,2,    26.63,2,     0.00,2,    1.940,2, -999.000,9, -999.000,9,   2204.5,2,   2291.8,2,   7.5985,2,    25.00,     0.00,2,     0.03,2,  11.1411,2,  26.4015,2,  11.1577,2
49UP20150724_1,   P04,    46,  1,     28,     108,2,20150809,0549,0750,  5.0143, 166.3405, 4759,    252.1,      251,   9.6264,  34.6325,2,     52.3,2,  34.6317,6,    53.13,2,    33.75,2,    32.81,2,     0.00,2,    2.340,2, -999.000,9, -999.000,9,   2246.3,2,   2301.6,2,   7.5068,2,    25.00,  -999.00,9,  -999.00,9,   9.5979,2,  26.7327,2,   9.6255,2
49UP20150724_1,   P04,    46,  1,     27,     998,2,20150809,0549,0749,  5.0143, 166.3405, 4759,    281.8,      280,   9.2232,  34.6294,2,     67.1,2,  34.6298,2,    67.12,2,    33.95,2,    32.39,2,     0.00,2,    2.290,2, -999.000,9, -999.000,9,   2237.3,2,   2302.3,2,   7.5254,2,    25.00,  -999.00,9,  -999.00,9,   9.1922,2,  26.7970,2,   9.2238,2
49UP20150724_1,   P04,    46,  1,     26,     084,2,20150809,0549,0746,  5.0143, 166.3405, 4759,    374.0,      372,   8.4981,  34.6146,2,     73.1,2,  34.6144,2,    73.45,2,    36.20,2,    33.41,2,     0.00,2,    2.350,2, -999.000,9, -999.000,9,   2245.8,2,   2304.9,2,   7.5229,2,    25.00,  -999.00,9,  -999.00,9,   8.4587,2,  26.9015,2,   8.5022,2
49UP20150724_1,   P04,    46,  1,     25,     098,2,20150809,0549,0744,  5.0143, 166.3405, 4759,    472.5,      469,   7.9909,  34.5919,2,     69.1,2,  34.5916,2,    69.48,2,    40.39,2,    34.67,2,     0.00,2,    2.460,2, -999.000,9, -999.000,9,   2252.4,2,   2307.2,2,   7.5077,2,    25.00,  -999.00,9,  -999.00,9,   7.9426,2,  26.9619,2,   7.9908,2
49UP20150724_1,   P04,    46,  1,     24,     110,2,20150809,0549,0741,  5.0143, 166.3405, 4759,    574.6,      571,   7.2024,  34.5608,2,     53.6,2,  34.5609,2,    53.77,2,    50.63,2,    37.42,2,     0.00,2,    2.690,2, -999.000,9, -999.000,9,   2274.1,2,   2315.7,2,   7.4650,2,    25.00,  -999.00,9,  -999.00,9,   7.1466,2,  27.0524,2,   7.1989,2
49UP20150724_1,   P04,    46,  1,     23,     096,2,20150809,0549,0738,  5.0143, 166.3405, 4759,    674.2,      669,   6.4107,  34.5460,2,     50.3,2,  34.5464,2,    50.43,6,    60.39,6,    39.28,6,     0.00,6,    2.830,6, -999.000,9, -999.000,9,   2288.8,2,   2323.8,2,   7.4454,2,    25.00,  -999.00,9,  -999.00,9,   6.3488,2,  27.1489,2,   6.4119,2
49UP20150724_1,   P04,    46,  1,     22,     111,2,20150809,0549,0732,  5.0143, 166.3405, 4759,    775.1,      769,   5.7040,  34.5419,2,     55.9,2,  34.5418,6,    55.97,2,    70.37,2,    40.09,2,     0.00,2,    2.880,2, -999.000,9, -999.000,9,   2302.3,2,   2344.3,2,   7.4474,2,    25.00,  -999.00,9,  -999.00,9,   5.6364,2,  27.2361,2,   5.7059,2
49UP20150724_1,   P04,    46,  1,     21,     078,2,20150809,0549,0728,  5.0143, 166.3405, 4759,    877.5,      871,   5.2195,  34.5439,2,     64.8,2,  34.5435,2,    64.66,2,    77.42,2,    39.86,2,     0.00,2,    2.850,2, -999.000,9, -999.000,9,   2300.7,2,   2336.5,2,   7.4599,2,    25.00,  -999.00,9,  -999.00,9,   5.1456,2,  27.2967,2,   5.2189,2
49UP20150724_1,   P04,    46,  1,     20,     093,2,20150809,0549,0726,  5.0143, 166.3405, 4759,    977.4,      970,   4.7154,  34.5518,2,     70.1,2,  34.5518,2,    70.34,2,    86.59,2,    40.09,2,     0.00,2,    2.870,2, -999.000,9, -999.000,9,   2314.1,6,   2352.7,6,   7.4623,2,    25.00,  -999.00,9,  -999.00,9,   4.6362,2,  27.3612,2,   4.7156,2
49UP20150724_1,   P04,    46,  1,     19,     092,2,20150809,0549,0721,  5.0143, 166.3405, 4759,   1139.6,     1130,   3.9629,  34.5711,2,     72.5,2,  34.5707,2,    72.57,2,   102.34,2,    40.61,2,     0.00,2,    2.920,2, -999.000,9, -999.000,9,   2324.4,2,   2371.2,2,   7.4628,6,    25.00,  -999.00,9,  -999.00,9,   3.8757,2,  27.4578,2,   3.9618,2
49UP20150724_1,   P04,    46,  1,     18,     101,2,20150809,0549,0717,  5.0143, 166.3405, 4759,   1341.9,     1330,   3.4793,  34.5856,2,     80.5,2,  34.5859,2,    80.40,2,   112.71,2,    40.25,2,     0.00,2,    2.890,2, -999.000,9, -999.000,9,   2332.5,2,   2382.5,2,   7.4749,2,    25.00,  -999.00,9,  -999.00,9,   3.3795,2,  27.5186,2,   3.4792,2
49UP20150724_1,   P04,    46,  1,     17,     090,2,20150809,0549,0707,  5.0143, 166.3405, 4759,   1545.8,     1532,   2.9513,  34.6028,2,     91.2,2,  34.6031,6,    91.24,6,   123.63,6,    39.59,6,     0.00,6,    2.830,6, -999.000,9, -999.000,9,   2336.2,2,   2394.5,2,   7.4916,2,    25.00,  -999.00,9,  -999.00,9,   2.8401,2,  27.5825,2,   2.9519,2
49UP20150724_1,   P04,    46,  1,     16,     089,2,20150809,0549,0702,  5.0143, 166.3405, 4759,   1746.7,     1730,   2.5017,  34.6238,2,    101.5,2,  34.6263,4,   101.64,2,   132.59,2,    39.15,2,     0.00,2,    2.780,2, -999.000,9, -999.000,9,   2345.0,6,   2405.7,2,   7.5070,2,    25.00,  -999.00,9,  -999.00,9,   2.3794,2,  27.6393,2,   2.5018,2
49UP20150724_1,   P04,    46,  1,     15,     088,2,20150809,0549,0657,  5.0143, 166.3405, 4759,   1951.2,     1931,   2.2045,  34.6391,2,    108.1,2,  34.6387,2,   108.41,2,   139.67,2,    38.84,2,     0.00,2,    2.740,2, -999.000,9, -999.000,9,   2347.1,2,   2404.4,3,   7.5197,6,    25.00,  -999.00,9,  -999.00,9,   2.0690,2,  27.6770,2,   2.2045,2
49UP20150724_1,   P04,    46,  1,     14,     999,2,20150809,0549,0651,  5.0143, 166.3405, 4759,   2155.2,     2132,   1.9952,  34.6505,2,    114.1,2,  34.6510,2,   114.16,2,   143.92,2,    38.47,2,     0.00,2,    2.710,2, -999.000,9, -999.000,9,   2349.7,2,   2416.6,2,   7.5293,2,    25.00,  -999.00,9,  -999.00,9,   1.8455,2,  27.7038,2,   1.9954,2
49UP20150724_1,   P04,    46,  1,     13,     667,2,20150809,0549,0647,  5.0143, 166.3405, 4759,   2358.0,     2332,   1.8828,  34.6573,2,    119.2,2,  34.6572,2,   119.77,2,   145.73,2,    38.13,2,     0.00,2,    2.680,2, -999.000,9, -999.000,9,   2350.8,2,   2419.5,2,   7.5381,2,    25.00,  -999.00,9,  -999.00,9,   1.7174,2,  27.7190,2,   1.8829,2
49UP20150724_1,   P04,    46,  1,     12,     074,2,20150809,0549,0643,  5.0143, 166.3405, 4759,   2558.7,     2529,   1.7869,  34.6626,2,    124.9,2,  34.6627,2,   125.15,2,   146.33,2,    37.76,2,     0.00,2,    2.650,2,    0.000,2,    0.000,2,   2348.5,2,   2419.4,2,   7.5441,2,    25.00,  -999.00,9,  -999.00,9,   1.6053,2,  27.7317,2,   1.7868,2
49UP20150724_1,   P04,    46,  1,     11,     268,2,20150809,0549,0637,  5.0143, 166.3405, 4759,   2763.7,     2730,   1.7142,  34.6667,2,    130.1,2,  34.6670,2,   130.03,2,   146.29,2,    37.40,2,     0.00,2,    2.620,2,    0.000,2,    0.001,2,   2344.8,2,   2419.0,2,   7.5548,2,    25.00,  -999.00,9,  -999.00,9,   1.5152,2,  27.7416,2,   1.7142,2
49UP20150724_1,   P04,    46,  1,     10,     267,2,20150809,0549,0632,  5.0143, 166.3405, 4759,   2968.1,     2931,   1.6663,  34.6697,2,    134.5,2,  34.6700,2,   134.65,2,   146.06,2,    37.11,2,     0.00,2,    2.600,2,    0.000,2,    0.000,2,   2338.8,2,   2418.7,2,   7.5589,2,    25.00,  -999.00,9,  -999.00,9,   1.4489,2,  27.7488,2,   1.6661,2
49UP20150724_1,   P04,    46,  1,      9,     518,2,20150809,0549,0627,  5.0143, 166.3405, 4759,   3213.5,     3172,   1.5954,  34.6746,2,    141.0,2,  34.6748,2,   140.25,2,   144.92,2,    36.69,2,     0.00,2,    2.560,2,    0.000,2,    0.000,2,   2336.7,2,   2418.9,2,   7.5673,2,    25.00,  -999.00,9,  -999.00,9,   1.3557,2,  27.7594,2,   1.5952,2
49UP20150724_1,   P04,    46,  1,      8,     081,2,20150809,0549,0621,  5.0143, 166.3405, 4759,   3469.7,     3422,   1.5395,  34.6796,2,    147.2,2,  34.6796,2,   147.11,6,   143.73,6,    36.26,6,     0.00,6,    2.530,6,    0.000,2,    0.000,2,   2327.8,2,   2414.7,2,   7.5780,2,    25.00,  -999.00,9,  -999.00,9,   1.2755,2,  27.7691,2,   1.5396,2
49UP20150724_1,   P04,    46,  1,      7,     516,2,20150809,0549,0616,  5.0143, 166.3405, 4759,   3723.8,     3671,   1.4982,  34.6839,2,    153.0,2,  34.6841,6,   152.73,2,   142.33,2,    35.92,2,     0.00,2,    2.500,2,    0.000,2,    0.000,2,   2323.2,2,   2413.9,2,   7.5845,2,    25.00,  -999.00,9,  -999.00,9,   1.2089,2,  27.7772,2,   1.4982,2
49UP20150724_1,   P04,    46,  1,      6,     113,2,20150809,0549,0610,  5.0143, 166.3405, 4759,   3979.7,     3921,   1.4624,  34.6882,2,    159.9,2,  34.6883,2,   159.62,2,   139.30,2,    35.37,2,     0.00,2,    2.460,2,    0.000,2,    0.000,2,   2316.6,6,   2412.4,6,   7.5946,2,    25.00,  -999.00,9,  -999.00,9,   1.1467,2,  27.7849,2,   1.4625,2
49UP20150724_1,   P04,    46,  1,      5,     094,2,20150809,0549,0604,  5.0143, 166.3405, 4759,   4234.0,     4169,   1.4573,  34.6906,2,    164.1,2,  34.6906,2,   163.80,2,   137.27,2,    35.12,2,     0.00,2,    2.440,2,    0.000,2,    0.000,2,   2315.1,2,   2409.3,2,   7.5963,6,    25.00,  -999.00,9,  -999.00,9,   1.1138,2,  27.7891,2,   1.4575,2
49UP20150724_1,   P04,    46,  1,      4,     471,2,20150809,0549,0558,  5.0143, 166.3405, 4759,   4490.6,     4419,   1.4409,  34.6934,2,    169.3,2,  34.6940,2,   169.41,2,   134.76,2,    34.69,2,     0.00,2,    2.410,2,    0.005,2,    0.000,2,   2312.6,2,   2404.3,2,   7.5979,2,    25.00,  -999.00,9,  -999.00,9,   1.0688,2,  27.7944,2,   1.4408,2
49UP20150724_1,   P04,    46,  1,      3,     104,2,20150809,0549,0553,  5.0143, 166.3405, 4759,   4746.8,     4669,   1.3916,  34.6983,2,    178.5,2,  34.6986,2,   178.26,2,   130.09,2,    34.05,2,     0.00,2,    2.360,2,    0.001,2,    0.002,2,   2297.4,2,   2398.6,2,   7.6098,2,    25.00,  -999.00,9,  -999.00,9,   0.9912,2,  27.8035,2,   1.3911,2
49UP20150724_1,   P04,    46,  1,      2,     075,2,20150809,0549,0550,  5.0143, 166.3405, 4759,   4831.9,     4751,   1.3756,  34.6998,2,    181.5,2,  34.7005,2,   181.00,2,   128.55,2,    33.77,2,     0.00,2,    2.340,2,    0.000,2,    0.001,2,   2300.5,2,   2393.4,2,   7.6097,2,    25.00,  -999.00,9,  -999.00,9,   0.9657,2,  27.8064,2,   1.3755,2
49UP20150724_1,   P04,    46,  1,      1,     997,2,20150809,0549,0550,  5.0143, 166.3405, 4759,   4832.2,     4752,   1.3759,  34.6996,2,    181.5,2,  34.6997,2,   180.53,2,   128.69,2,    33.86,2,     0.00,2,    2.350,2,    0.011,6,    0.006,6,   2298.1,2,   2394.7,2,   7.6130,2,    25.00,  -999.00,9,  -999.00,9,   0.9659,2,  27.8062,2,   1.3756,2