BOTTLE,20191113JMAGEMD
EXPOCODE,SECT_ID,STNNBR,CASTNO,SAMPNO,BTLNBR,BTLNBR_FLAG_U,DATE,TIME,BTL_TIME,LATITUDE,LONGITUDE,DEPTH,CTDPRS,CTDDEP,CTDTMP,CTDSAL,CTDSAL_FLAG_W,CTDOXY,CTDOXY_FLAG_W,SALNTY,SALNTY_FLAG_W,OXYGEN,OXYGEN_FLAG_W,SILCAT,SILCAT_FLAG_W,NO2+NO3,NO2+NO3_FLAG_W,NITRIT,NITRIT_FLAG_W,PHSPHT,PHSPHT_FLAG_W,CFC-11,CFC-11_FLAG_W,CFC-12,CFC-12_FLAG_W,TCARBN,TCARBN_FLAG_W,ALKALI,ALKALI_FLAG_W,PH_TS,PH_TS_FLAG_W,PH_TS_TMP,CHLORA,CHLORA_FLAG_W,PPHYTN,PPHYTN_FLAG_W,THETA,THETA_FLAG_W,SIGTHT,SIGTHT_FLAG_W,SBE35,SBE35_FLAG_W
,,,,,,,,UTC,,,,METER,DBAR,METERS,ITS-90,PSS-78,,UMOL/KG,,PSS78,,UMOL/KG,,UMOL/KG,,UMOL/KG,,UMOL/KG,,UMOL/KG,,PMOL/KG,,PMOL/KG,,UMOL/KG,,UMOL/KG,,,,ITS-90,UG/KG,,UG/KG,,ITS-90,,KG/M3,,ITS-90,
49UP20150724_1,   P04,    53,  1,      0,      -9,0,20150806,2242,0015,  5.0160, 170.6807, 4012,      0.0,        0,  29.3941,  34.0600,2,    198.1,2,-999.0000,9,   196.20,2,     1.13,2,     0.03,2,     0.00,2,    0.070,2, -999.000,9, -999.000,9,   -999.0,9,   -999.0,9,-999.0000,9,  -999.00,  -999.00,9,  -999.00,9,  29.3935,2,  21.2268,2,-999.0000,9
49UP20150724_1,   P04,    53,  1,     36,     109,2,20150806,2242,0044,  5.0160, 170.6807, 4012,     11.3,       11,  29.2600,  34.0712,2,    197.8,2,  34.0739,2,   196.48,2,     1.08,2,     0.02,2,     0.00,2,    0.070,2, -999.000,9, -999.000,9,   -999.0,9,   -999.0,9,-999.0000,9,  -999.00,  -999.00,9,  -999.00,9,  29.2573,2,  21.2810,2,  29.2582,2
49UP20150724_1,   P04,    53,  1,     35,     112,3,20150806,2242,0043,  5.0160, 170.6807, 4012,     26.2,       26,  28.3894,  34.4548,2,    202.7,2,  34.4906,4,   201.66,2,     1.22,2,     0.05,2,     0.00,2,    0.090,2, -999.000,9, -999.000,9,   -999.0,9,   -999.0,9,-999.0000,9,  -999.00,  -999.00,9,  -999.00,9,  28.3832,2,  21.8592,2,  28.4001,2
49UP20150724_1,   P04,    53,  1,     34,     083,2,20150806,2242,0040,  5.0160, 170.6807, 4012,     50.6,       50,  25.3617,  34.8447,2,    192.9,2,  34.8580,4,   191.47,2,     2.02,2,     0.34,2,     0.03,2,    0.200,2, -999.000,9, -999.000,9,   -999.0,9,   -999.0,9,-999.0000,9,  -999.00,  -999.00,9,  -999.00,9,  25.3506,2,  23.1169,2,  25.3577,2
49UP20150724_1,   P04,    53,  1,     33,     469,2,20150806,2242,0039,  5.0160, 170.6807, 4012,     72.1,       72,  23.9305,  34.9170,2,    177.4,2,  34.9166,2,   176.93,2,     3.17,2,     2.02,2,     0.37,2,    0.290,2, -999.000,9, -999.000,9,   -999.0,9,   -999.0,9,-999.0000,9,  -999.00,  -999.00,9,  -999.00,9,  23.9154,2,  23.6035,2,  23.9308,2
49UP20150724_1,   P04,    53,  1,     32,     105,2,20150806,2242,0037,  5.0160, 170.6807, 4012,    102.4,      102,  21.9618,  34.9375,2,    151.9,2,  34.9355,2,   152.46,2,     5.22,2,     6.37,2,     0.12,2,    0.560,2, -999.000,9, -999.000,9,   -999.0,9,   -999.0,9,-999.0000,9,  -999.00,  -999.00,9,  -999.00,9,  21.9416,2,  24.1867,2,  21.9811,2
49UP20150724_1,   P04,    53,  1,     31,     515,2,20150806,2242,0036,  5.0160, 170.6807, 4012,    125.3,      125,  18.8501,  34.8052,2,    142.0,2,  34.7895,4,   141.93,2,     9.07,2,    10.53,2,     0.02,2,    0.830,2, -999.000,9, -999.000,9,   -999.0,9,   -999.0,9,-999.0000,9,  -999.00,  -999.00,9,  -999.00,9,  18.8279,2,  24.9160,2,  18.8161,2
49UP20150724_1,   P04,    53,  1,     30,     097,2,20150806,2242,0035,  5.0160, 170.6807, 4012,    151.1,      150,  14.0994,  34.5356,2,    109.2,2,  34.5311,2,   104.64,2,    17.76,2,    19.51,2,     0.02,2,    1.480,2, -999.000,9, -999.000,9,   -999.0,9,   -999.0,9,-999.0000,9,  -999.00,  -999.00,9,  -999.00,9,  14.0776,2,  25.8119,2,  14.0914,2
49UP20150724_1,   P04,    53,  1,     28,     108,2,20150806,2242,0033,  5.0160, 170.6807, 4012,    178.1,      177,  11.4599,  34.5517,2,     63.8,2,  34.5556,2,    62.67,2,    27.43,2,    28.03,2,     0.00,2,    2.060,2, -999.000,9, -999.000,9,   -999.0,9,   -999.0,9,-999.0000,9,  -999.00,  -999.00,9,  -999.00,9,  11.4375,2,  26.3464,2,  11.4514,2
49UP20150724_1,   P04,    53,  1,     29,     102,2,20150806,2242,0033,  5.0160, 170.6807, 4012,    178.8,      178,  11.4030,  34.5569,2,     63.2,2,  34.5551,2,    62.54,2,    27.32,2,    27.99,2,     0.00,2,    2.050,2, -999.000,9, -999.000,9,   -999.0,9,   -999.0,9,-999.0000,9,  -999.00,  -999.00,9,  -999.00,9,  11.3806,2,  26.3610,2,  11.4295,2
49UP20150724_1,   P04,    53,  1,     27,     998,2,20150806,2242,0031,  5.0160, 170.6807, 4012,    201.6,      200,  10.5156,  34.6144,2,     42.1,2,  34.6174,2,    42.39,6,    31.62,6,    32.11,6,     0.00,6,    2.310,6, -999.000,9, -999.000,9,   -999.0,9,   -999.0,9,-999.0000,9,  -999.00,  -999.00,9,  -999.00,9,  10.4916,2,  26.5658,2,  10.5157,2
49UP20150724_1,   P04,    53,  1,     26,     084,2,20150806,2242,0030,  5.0160, 170.6807, 4012,    253.7,      252,   9.6287,  34.6203,2,     51.3,2,  34.6195,2,    51.31,2,    34.04,2,    32.82,2,     0.00,2,    2.340,2, -999.000,9, -999.000,9,   -999.0,9,   -999.0,9,-999.0000,9,  -999.00,  -999.00,9,  -999.00,9,   9.6000,2,  26.7228,2,   9.6230,2
49UP20150724_1,   P04,    53,  1,     25,     098,2,20150806,2242,0027,  5.0160, 170.6807, 4012,    332.8,      331,   8.8610,  34.6201,2,     67.9,2,  34.6212,6,    67.30,2,    35.33,2,    33.14,2,     0.00,2,    2.340,2, -999.000,9, -999.000,9,   -999.0,9,   -999.0,9,-999.0000,9,  -999.00,  -999.00,9,  -999.00,9,   8.8251,2,  26.8485,2,   8.8578,2
49UP20150724_1,   P04,    53,  1,     24,     110,2,20150806,2242,0025,  5.0160, 170.6807, 4012,    433.2,      430,   8.1280,  34.5978,2,     43.4,2,  34.5974,2,    43.45,2,    42.58,2,    36.70,2,     0.00,2,    2.620,2, -999.000,9, -999.000,9,   -999.0,9,   -999.0,9,-999.0000,9,  -999.00,  -999.00,9,  -999.00,9,   8.0834,2,  26.9455,2,   8.1274,2
49UP20150724_1,   P04,    53,  1,     23,     096,2,20150806,2242,0022,  5.0160, 170.6807, 4012,    533.8,      530,   7.5112,  34.5773,2,     44.3,2,  34.5765,2,    44.23,2,    47.75,2,    37.95,2,     0.00,2,    2.720,2, -999.000,9, -999.000,9,   -999.0,9,   -999.0,9,-999.0000,9,  -999.00,  -999.00,9,  -999.00,9,   7.4583,2,  27.0212,2,   7.5103,2
49UP20150724_1,   P04,    53,  1,     22,     111,2,20150806,2242,0019,  5.0160, 170.6807, 4012,    636.5,      632,   6.6648,  34.5550,2,     41.3,2,  34.5542,2,    41.02,2,    57.59,2,    39.91,2,     0.00,2,    2.860,2, -999.000,9, -999.000,9,   -999.0,9,   -999.0,9,-999.0000,9,  -999.00,  -999.00,9,  -999.00,9,   6.6053,2,  27.1220,2,   6.6651,2
49UP20150724_1,   P04,    53,  1,     21,     078,2,20150806,2242,0016,  5.0160, 170.6807, 4012,    736.6,      731,   5.9494,  34.5441,2,     48.1,2,  34.5445,2,    47.87,2,    67.08,2,    40.48,2,     0.00,2,    2.900,2, -999.000,9, -999.000,9,   -999.0,9,   -999.0,9,-999.0000,9,  -999.00,  -999.00,9,  -999.00,9,   5.8841,2,  27.2071,2,   5.9494,2
49UP20150724_1,   P04,    53,  1,     20,     093,2,20150806,2242,0013,  5.0160, 170.6807, 4012,    837.3,      831,   5.3285,  34.5440,2,     57.7,2,  34.5443,2,    58.43,6,    76.05,6,    40.48,6,     0.00,6,    2.890,6, -999.000,9, -999.000,9,   -999.0,9,   -999.0,9,-999.0000,9,  -999.00,  -999.00,9,  -999.00,9,   5.2576,2,  27.2836,2,   5.3297,2
49UP20150724_1,   P04,    53,  1,     18,     101,2,20150806,2242,0011,  5.0160, 170.6807, 4012,    938.0,      931,   4.9630,  34.5479,2,     66.9,2,  34.5482,2,    66.61,2,    81.33,2,    40.16,2,     0.00,2,    2.870,2, -999.000,9, -999.000,9,   -999.0,9,   -999.0,9,-999.0000,9,  -999.00,  -999.00,9,  -999.00,9,   4.8855,2,  27.3300,2,   4.9652,2
49UP20150724_1,   P04,    53,  1,     19,     092,2,20150806,2242,0011,  5.0160, 170.6807, 4012,    938.1,      931,   4.9640,  34.5481,2,     67.0,2,  34.5483,2,    66.90,2,    81.54,2,    40.21,2,     0.00,2,    2.870,2, -999.000,9, -999.000,9,   -999.0,9,   -999.0,9,-999.0000,9,  -999.00,  -999.00,9,  -999.00,9,   4.8864,2,  27.3300,2,   4.9648,2
49UP20150724_1,   P04,    53,  1,     17,     090,2,20150806,2242,0007,  5.0160, 170.6807, 4012,   1079.9,     1071,   4.1917,  34.5647,2,     73.0,2,  34.5655,2,    72.68,2,    96.59,2,    40.44,2,     0.00,2,    2.890,2, -999.000,9, -999.000,9,   -999.0,9,   -999.0,9,-999.0000,9,  -999.00,  -999.00,9,  -999.00,9,   4.1077,2,  27.4287,2,   4.1915,2
49UP20150724_1,   P04,    53,  1,     16,     089,2,20150806,2242,0002,  5.0160, 170.6807, 4012,   1280.9,     1270,   3.5168,  34.5846,2,     80.4,2,  34.5844,6,    80.82,2,   110.97,2,    40.31,2,     0.00,2,    2.890,2, -999.000,9, -999.000,9,   -999.0,9,   -999.0,9,-999.0000,9,  -999.00,  -999.00,9,  -999.00,9,   3.4218,2,  27.5138,2,   3.5170,2
49UP20150724_1,   P04,    53,  1,     15,     088,2,20150806,2242,2356,  5.0160, 170.6807, 4012,   1484.0,     1471,   3.0750,  34.6004,2,     87.9,2,  34.6012,2,    87.91,2,   120.63,2,    39.96,2,     0.00,2,    2.840,2, -999.000,9, -999.000,9,   -999.0,9,   -999.0,9,-999.0000,9,  -999.00,  -999.00,9,  -999.00,9,   2.9676,2,  27.5691,2,   3.0748,2
49UP20150724_1,   P04,    53,  1,     14,     999,2,20150806,2242,2351,  5.0160, 170.6807, 4012,   1685.6,     1670,   2.7496,  34.6134,2,     94.9,2,  34.6135,2,    94.62,2,   128.06,2,    39.69,2,     0.00,2,    2.810,2, -999.000,9, -999.000,9,   -999.0,9,   -999.0,9,-999.0000,9,  -999.00,  -999.00,9,  -999.00,9,   2.6291,2,  27.6096,2,   2.7493,2
49UP20150724_1,   P04,    53,  1,     13,     667,2,20150806,2242,2346,  5.0160, 170.6807, 4012,   1889.3,     1870,   2.4925,  34.6250,2,    102.1,2,  34.6252,6,   102.20,6,   132.92,6,    39.17,6,     0.00,6,    2.770,6, -999.000,9, -999.000,9,   -999.0,9,   -999.0,9,-999.0000,9,  -999.00,  -999.00,9,  -999.00,9,   2.3582,2,  27.6421,2,   2.4924,2
49UP20150724_1,   P04,    53,  1,     12,     074,2,20150806,2242,2338,  5.0160, 170.6807, 4012,   2093.0,     2071,   2.2108,  34.6392,2,    105.9,2,  34.6398,2,   105.55,2,   140.92,2,    39.09,2,     0.00,2,    2.750,2, -999.000,9, -999.000,9,   -999.0,9,   -999.0,9,-999.0000,9,  -999.00,  -999.00,9,  -999.00,9,   2.0631,2,  27.6776,2,   2.2106,2
49UP20150724_1,   P04,    53,  1,     10,     267,2,20150806,2242,2333,  5.0160, 170.6807, 4012,   2296.2,     2271,   1.9992,  34.6517,2,    114.6,2,  34.6523,2,   114.44,2,   144.15,2,    38.46,2,     0.00,2,    2.700,2, -999.000,9, -999.000,9,   -999.0,9,   -999.0,9,-999.0000,9,  -999.00,  -999.00,9,  -999.00,9,   1.8373,2,  27.7054,2,   1.9988,2
49UP20150724_1,   P04,    53,  1,     11,     268,2,20150806,2242,2334,  5.0160, 170.6807, 4012,   2296.9,     2272,   1.9991,  34.6518,2,    114.6,2,  34.6521,2,   114.37,2,   144.46,2,    38.48,2,     0.00,2,    2.700,2, -999.000,9, -999.000,9,   -999.0,9,   -999.0,9,-999.0000,9,  -999.00,  -999.00,9,  -999.00,9,   1.8370,2,  27.7055,2,   1.9993,2
49UP20150724_1,   P04,    53,  1,      9,     518,2,20150806,2242,2329,  5.0160, 170.6807, 4012,   2499.6,     2471,   1.8781,  34.6588,2,    120.2,2,  34.6591,2,   120.03,2,   146.08,2,    38.12,2,     0.00,2,    2.660,2, -999.000,9, -999.000,9,   -999.0,9,   -999.0,9,-999.0000,9,  -999.00,  -999.00,9,  -999.00,9,   1.7001,2,  27.7215,2,   1.8781,2
49UP20150724_1,   P04,    53,  1,      8,     081,2,20150806,2242,2321,  5.0160, 170.6807, 4012,   2702.6,     2670,   1.7528,  34.6654,2,    126.6,2,  34.6655,2,   126.56,2,   147.44,2,    37.73,2,     0.00,2,    2.630,2, -999.000,9, -999.000,9,   -999.0,9,   -999.0,9,-999.0000,9,  -999.00,  -999.00,9,  -999.00,9,   1.5586,2,  27.7373,2,   1.7527,2
49UP20150724_1,   P04,    53,  1,      7,     516,2,20150806,2242,2317,  5.0160, 170.6807, 4012,   2907.0,     2871,   1.6898,  34.6692,2,    132.0,2,  34.6690,2,   131.77,2,   146.76,2,    37.32,2,     0.00,2,    2.600,2, -999.000,9, -999.000,9,   -999.0,9,   -999.0,9,-999.0000,9,  -999.00,  -999.00,9,  -999.00,9,   1.4778,2,  27.7463,2,   1.6897,2
49UP20150724_1,   P04,    53,  1,      6,     113,2,20150806,2242,2312,  5.0160, 170.6807, 4012,   3121.1,     3081,   1.6141,  34.6738,2,    138.7,2,  34.6737,2,   138.78,2,   146.04,2,    36.87,2,     0.00,2,    2.560,2, -999.000,9, -999.000,9,   -999.0,9,   -999.0,9,-999.0000,9,  -999.00,  -999.00,9,  -999.00,9,   1.3831,2,  27.7568,2,   1.6139,2
49UP20150724_1,   P04,    53,  1,      4,     471,2,20150806,2242,2301,  5.0160, 170.6807, 4012,   3377.4,     3332,   1.5388,  34.6792,2,    146.4,2,  34.6786,2,   146.46,2,   144.46,2,    36.39,2,     0.00,2,    2.530,2, -999.000,9, -999.000,9,   -999.0,9,   -999.0,9,-999.0000,9,  -999.00,  -999.00,9,  -999.00,9,   1.2841,2,  27.7682,2,   1.5387,2
49UP20150724_1,   P04,    53,  1,      5,     094,2,20150806,2242,2301,  5.0160, 170.6807, 4012,   3377.5,     3332,   1.5385,  34.6793,2,    146.4,2,  34.6796,2,   146.29,2,   144.12,2,    36.36,2,     0.00,2,    2.520,2, -999.000,9, -999.000,9,   -999.0,9,   -999.0,9,-999.0000,9,  -999.00,  -999.00,9,  -999.00,9,   1.2838,2,  27.7682,2,   1.5385,2
49UP20150724_1,   P04,    53,  1,      3,     104,2,20150806,2242,2255,  5.0160, 170.6807, 4012,   3632.0,     3581,   1.4948,  34.6835,2,    152.6,2,  34.6837,6,   152.30,6,   142.54,6,    35.97,6,     0.00,6,    2.490,6, -999.000,9, -999.000,9,   -999.0,9,   -999.0,9,-999.0000,9,  -999.00,  -999.00,9,  -999.00,9,   1.2152,2,  27.7764,2,   1.4947,2
49UP20150724_1,   P04,    53,  1,      2,     075,2,20150806,2242,2248,  5.0160, 170.6807, 4012,   3888.0,     3831,   1.4468,  34.6880,2,    159.8,2,  34.6885,2,   159.60,2,   139.67,2,    35.44,2,     0.00,2,    2.450,2, -999.000,9, -999.000,9,   -999.0,9,   -999.0,9,-999.0000,9,  -999.00,  -999.00,9,  -999.00,9,   1.1415,2,  27.7851,2,   1.4467,2
49UP20150724_1,   P04,    53,  1,      1,     997,2,20150806,2242,2242,  5.0160, 170.6807, 4012,   4114.0,     4052,   1.4213,  34.6911,2,    165.6,2,  34.6909,2,   165.30,2,   136.92,2,    35.06,2,     0.00,2,    2.420,2, -999.000,9, -999.000,9,   -999.0,9,   -999.0,9,-999.0000,9,  -999.00,  -999.00,9,  -999.00,9,   1.0922,2,  27.7910,2,   1.4211,2