BOTTLE,20191113JMAGEMD
EXPOCODE,SECT_ID,STNNBR,CASTNO,SAMPNO,BTLNBR,BTLNBR_FLAG_U,DATE,TIME,BTL_TIME,LATITUDE,LONGITUDE,DEPTH,CTDPRS,CTDDEP,CTDTMP,CTDSAL,CTDSAL_FLAG_W,CTDOXY,CTDOXY_FLAG_W,SALNTY,SALNTY_FLAG_W,OXYGEN,OXYGEN_FLAG_W,SILCAT,SILCAT_FLAG_W,NO2+NO3,NO2+NO3_FLAG_W,NITRIT,NITRIT_FLAG_W,PHSPHT,PHSPHT_FLAG_W,CFC-11,CFC-11_FLAG_W,CFC-12,CFC-12_FLAG_W,TCARBN,TCARBN_FLAG_W,ALKALI,ALKALI_FLAG_W,PH_TS,PH_TS_FLAG_W,PH_TS_TMP,CHLORA,CHLORA_FLAG_W,PPHYTN,PPHYTN_FLAG_W,THETA,THETA_FLAG_W,SIGTHT,SIGTHT_FLAG_W,SBE35,SBE35_FLAG_W
,,,,,,,,UTC,,,,METER,DBAR,METERS,ITS-90,PSS-78,,UMOL/KG,,PSS78,,UMOL/KG,,UMOL/KG,,UMOL/KG,,UMOL/KG,,UMOL/KG,,PMOL/KG,,PMOL/KG,,UMOL/KG,,UMOL/KG,,,,ITS-90,UG/KG,,UG/KG,,ITS-90,,KG/M3,,ITS-90,
49UP20150724_1,   P04,    62,  1,      0,      -9,0,20150803,1300,1517,  7.6468, 176.6517, 4728,      0.0,        0,  29.7428,  33.8290,2,    196.2,2,  33.7127,2,   195.15,2,     1.00,2,     0.08,2,     0.00,2,    0.110,2, -999.000,9, -999.000,9,   1892.3,2,   2212.9,2,   8.1159,2,    25.00,     0.05,2,     0.02,2,  29.7421,2,  20.9360,2,-999.0000,9
49UP20150724_1,   P04,    62,  1,     36,     109,2,20150803,1300,1543,  7.6468, 176.6517, 4728,     11.0,       11,  29.7583,  33.8355,2,    195.9,2,  33.8347,2,   194.75,2,     0.98,2,     0.02,2,     0.00,2,    0.100,2,    1.510,2,    0.913,2,   1897.1,2,   2222.3,2,   8.1178,2,    25.00,     0.05,2,     0.02,2,  29.7556,2,  20.9364,2,  29.7559,2
49UP20150724_1,   P04,    62,  1,     35,     112,2,20150803,1300,1541,  7.6468, 176.6517, 4728,     25.7,       26,  28.9385,  34.1195,2,    199.2,2,  34.1645,4,   198.56,2,     1.20,2,     0.01,2,     0.00,2,    0.110,2, -999.000,9, -999.000,9,   1927.4,2,   2245.8,2,   8.0967,2,    25.00,     0.08,2,     0.04,2,  28.9323,2,  21.4257,2,  28.9237,2
49UP20150724_1,   P04,    62,  1,     34,     083,2,20150803,1300,1537,  7.6468, 176.6517, 4728,     51.4,       51,  22.8439,  34.8776,2,    180.1,2,  34.8769,2,   176.09,6,     4.03,6,     1.93,6,     0.06,6,    0.370,6, -999.000,9, -999.000,9,   2047.4,2,   2297.2,2,   7.9696,2,    25.00,     0.25,2,     0.22,2,  22.8335,2,  23.8887,2,  22.8677,2
49UP20150724_1,   P04,    62,  1,     33,     469,2,20150803,1300,1536,  7.6468, 176.6517, 4728,     75.6,       75,  18.7919,  34.7877,2,    139.1,2,  34.7909,2,   138.31,2,     8.36,2,    10.14,2,     0.19,2,    0.830,2, -999.000,9, -999.000,9,   2097.2,2,   2290.4,2,   7.8490,2,    25.00,     0.28,2,     0.40,2,  18.7786,2,  24.9151,2,  18.9222,2
49UP20150724_1,   P04,    62,  1,     32,     105,2,20150803,1300,1535,  7.6468, 176.6517, 4728,    101.7,      101,  16.5634,  34.6913,2,    118.7,2,  34.6903,6,   119.32,2,    12.66,2,    15.04,2,     0.06,2,    1.140,2, -999.000,9, -999.000,9,   2128.2,2,   2287.0,2,   7.7727,2,    25.00,     0.20,2,     0.31,2,  16.5470,2,  25.3839,2,  16.5637,2
49UP20150724_1,   P04,    62,  1,     31,     515,2,20150803,1300,1533,  7.6468, 176.6517, 4728,    126.7,      126,  14.4840,  34.5857,2,     99.3,2,  34.5404,4,    95.10,2,    18.76,2,    20.96,2,     0.02,2,    1.570,2, -999.000,9, -999.000,9,   2167.5,2,   2280.3,2,   7.6637,2,    25.00,     0.09,2,     0.19,2,  14.4654,2,  25.7683,2,  14.4886,2
49UP20150724_1,   P04,    62,  1,     30,     097,2,20150803,1300,1532,  7.6468, 176.6517, 4728,    152.1,      151,  11.9290,  34.5328,2,     60.8,2,  34.5376,2,    57.06,2,    25.99,2,    27.88,2,     0.01,2,    2.070,2, -999.000,9, -999.000,9,   2215.2,2,   2286.5,2,   7.5461,2,    25.00,     0.03,2,     0.07,2,  11.9094,2,  26.2434,2,  11.9335,2
49UP20150724_1,   P04,    62,  1,     29,     102,2,20150803,1300,1530,  7.6468, 176.6517, 4728,    176.1,      175,  10.8036,  34.5668,2,     41.8,2,  34.5705,2,    41.81,2,    30.17,2,    31.14,2,     0.00,2,    2.280,2, -999.000,9, -999.000,9,   2236.3,2,   2291.9,2,   7.4986,2,    25.00,     0.01,2,     0.04,2,  10.7823,2,  26.4772,2,  10.8014,2
49UP20150724_1,   P04,    62,  1,     28,     108,2,20150803,1300,1529,  7.6468, 176.6517, 4728,    202.2,      201,  10.4327,  34.6249,2,     33.0,2,  34.6265,2,    28.63,2,    31.95,2,    33.31,2,     0.00,2,    2.420,2, -999.000,9, -999.000,9,   2250.3,2,   2293.9,2,   7.4713,2,    25.00,     0.00,2,     0.03,2,  10.4087,2,  26.5885,2,  10.4321,2
49UP20150724_1,   P04,    62,  1,     27,     998,2,20150803,1300,1527,  7.6468, 176.6517, 4728,    251.4,      250,   9.7737,  34.6401,2,     32.1,2,  34.6400,2,    32.05,2,    34.24,2,    34.44,2,     0.00,2,    2.450,2, -999.000,9, -999.000,9,   2254.0,2,   2299.2,2,   7.4646,2,    25.00,  -999.00,9,  -999.00,9,   9.7450,2,  26.7141,2,   9.7747,2
49UP20150724_1,   P04,    62,  1,     26,     084,2,20150803,1300,1525,  7.6468, 176.6517, 4728,    332.8,      331,   9.0956,  34.6263,2,     24.5,2,  34.6237,2,    25.08,2,    38.59,2,    36.15,2,     0.00,2,    2.600,2, -999.000,9, -999.000,9,   2274.4,2,   2305.4,2,   7.4408,2,    25.00,  -999.00,9,  -999.00,9,   9.0591,2,  26.8160,2,   9.0955,2
49UP20150724_1,   P04,    62,  1,     25,     098,2,20150803,1300,1522,  7.6468, 176.6517, 4728,    433.2,      430,   8.1181,  34.5782,2,     25.6,2,  34.5766,2,    25.43,2,    46.92,2,    37.62,2,     0.00,2,    2.760,2, -999.000,9, -999.000,9,   2282.7,2,   2311.5,2,   7.4254,2,    25.00,  -999.00,9,  -999.00,9,   8.0735,2,  26.9316,2,   8.1185,2
49UP20150724_1,   P04,    62,  1,     24,     110,2,20150803,1300,1519,  7.6468, 176.6517, 4728,    535.4,      532,   7.0387,  34.5451,2,     41.3,2,  34.5440,2,    41.40,2,    55.94,2,    38.58,2,     0.00,2,    2.800,2, -999.000,9, -999.000,9,   2281.9,2,   2318.9,2,   7.4377,2,    25.00,  -999.00,9,  -999.00,9,   6.9876,2,  27.0622,2,   7.0412,2
49UP20150724_1,   P04,    62,  1,     23,     096,2,20150803,1300,1516,  7.6468, 176.6517, 4728,    635.4,      631,   6.3709,  34.5357,2,     48.9,2,  34.5354,2,    48.68,2,    63.20,2,    39.35,2,     0.00,2,    2.830,2, -999.000,9, -999.000,9,   2290.8,2,   2326.3,2,   7.4440,2,    25.00,  -999.00,9,  -999.00,9,   6.3129,2,  27.1455,2,   6.3688,2
49UP20150724_1,   P04,    62,  1,     22,     111,2,20150803,1300,1513,  7.6468, 176.6517, 4728,    734.9,      730,   5.6005,  34.5362,2,     53.1,2,  34.5360,2,    52.90,2,    73.83,2,    40.37,2,     0.00,2,    2.890,2, -999.000,9, -999.000,9,   2301.6,2,   2338.1,2,   7.4421,2,    25.00,  -999.00,9,  -999.00,9,   5.5373,2,  27.2438,2,   5.6006,2
49UP20150724_1,   P04,    62,  1,     21,     078,2,20150803,1300,1510,  7.6468, 176.6517, 4728,    837.0,      831,   5.0986,  34.5425,2,     59.3,2,  34.5428,2,    59.41,2,    81.78,2,    40.62,2,     0.00,2,    2.900,2, -999.000,9, -999.000,9,   2309.4,2,   2347.7,2,   7.4518,2,    25.00,  -999.00,9,  -999.00,9,   5.0292,2,  27.3092,2,   5.0985,2
49UP20150724_1,   P04,    62,  1,     20,     093,2,20150803,1300,1507,  7.6468, 176.6517, 4728,    937.7,      930,   4.6363,  34.5521,2,     64.6,2,  34.5521,2,    64.69,2,    89.66,2,    40.74,2,     0.00,2,    2.910,2, -999.000,9, -999.000,9,   2318.8,2,   2355.7,2,   7.4496,2,    25.00,  -999.00,9,  -999.00,9,   4.5611,2,  27.3698,2,   4.6369,2
49UP20150724_1,   P04,    62,  1,     19,     092,2,20150803,1300,1503,  7.6468, 176.6517, 4728,   1080.2,     1071,   4.1795,  34.5624,2,     71.4,2,  34.5621,2,    71.63,6,    98.72,6,    40.51,6,     0.00,6,    2.900,6, -999.000,9, -999.000,9,   2322.6,6,   2365.3,6,   7.4622,2,    25.00,  -999.00,9,  -999.00,9,   4.0955,2,  27.4281,2,   4.1794,2
49UP20150724_1,   P04,    62,  1,     18,     101,2,20150803,1300,1459,  7.6468, 176.6517, 4728,   1282.0,     1271,   3.5885,  34.5810,2,     77.4,2,  34.5802,2,    77.72,2,   110.97,2,    40.51,2,     0.00,2,    2.900,2, -999.000,9, -999.000,9,   2330.9,2,   2380.1,2,   7.4703,6,    25.00,  -999.00,9,  -999.00,9,   3.4926,2,  27.5040,2,   3.5881,2
49UP20150724_1,   P04,    62,  1,     17,     090,2,20150803,1300,1453,  7.6468, 176.6517, 4728,   1484.9,     1471,   3.0738,  34.5979,2,     84.1,2,  34.5981,2,    83.83,2,   122.87,2,    40.33,2,     0.00,2,    2.870,2, -999.000,9, -999.000,9,   2340.1,2,   2391.8,2,   7.4757,2,    25.00,  -999.00,9,  -999.00,9,   2.9663,2,  27.5672,2,   3.0752,2
49UP20150724_1,   P04,    62,  1,     16,     089,2,20150803,1300,1448,  7.6468, 176.6517, 4728,   1686.2,     1670,   2.6997,  34.6133,2,     91.4,2,  34.6137,6,    91.51,2,   131.11,2,    39.89,2,     0.00,2,    2.830,2, -999.000,9, -999.000,9,   2347.7,2,   2401.3,2,   7.4913,2,    25.00,  -999.00,9,  -999.00,9,   2.5798,2,  27.6139,2,   2.6997,2
49UP20150724_1,   P04,    62,  1,     15,     088,2,20150803,1300,1444,  7.6468, 176.6517, 4728,   1889.9,     1871,   2.3750,  34.6295,2,     99.1,2,  34.6300,2,    99.08,2,   138.25,2,    39.46,2,     0.00,2,    2.790,2, -999.000,9, -999.000,9,   2350.5,2,   2408.3,2,   7.5039,2,    25.00,  -999.00,9,  -999.00,9,   2.2423,2,  27.6553,2,   2.3749,2
49UP20150724_1,   P04,    62,  1,     14,     999,2,20150803,1300,1438,  7.6468, 176.6517, 4728,   2092.8,     2071,   2.1421,  34.6424,2,    102.9,2,  34.6427,2,   103.07,6,   145.15,6,    39.35,6,     0.00,6,    2.770,6, -999.000,9, -999.000,9,   2354.8,2,   2417.5,2,   7.5094,2,    25.00,  -999.00,9,  -999.00,9,   1.9955,2,  27.6855,2,   2.1418,2
49UP20150724_1,   P04,    62,  1,     13,     667,2,20150803,1300,1433,  7.6468, 176.6517, 4728,   2296.1,     2271,   1.9819,  34.6529,2,    109.2,2,  34.6530,2,   109.34,2,   148.63,2,    38.98,2,     0.00,2,    2.730,2, -999.000,9, -999.000,9,   2357.9,2,   2421.8,2,   7.5221,2,    25.00,  -999.00,9,  -999.00,9,   1.8202,2,  27.7076,2,   1.9818,2
49UP20150724_1,   P04,    62,  1,     12,     074,2,20150803,1300,1429,  7.6468, 176.6517, 4728,   2499.8,     2471,   1.8845,  34.6595,2,    115.0,2,  34.6589,2,   115.66,2,   149.69,2,    38.60,2,     0.00,2,    2.700,2, -999.000,9, -999.000,9,   2354.5,2,   2422.8,2,   7.5323,2,    25.00,  -999.00,9,  -999.00,9,   1.7063,2,  27.7216,2,   1.8838,2
49UP20150724_1,   P04,    62,  1,     11,     268,2,20150803,1300,1348,  7.6468, 176.6517, 4728,   2703.4,     2671,   1.7888,  34.6648,2,    121.0,2,  34.6652,6,   120.70,2,   150.54,2,    38.22,2,     0.00,2,    2.660,2,    0.007,2,    0.001,2,   2349.3,2,   2423.8,2,   7.5376,2,    25.00,  -999.00,9,  -999.00,9,   1.5938,2,  27.7343,2,   1.7885,2
49UP20150724_1,   P04,    62,  1,     10,     267,2,20150803,1300,1344,  7.6468, 176.6517, 4728,   2906.4,     2870,   1.7205,  34.6686,2,    126.8,2,  34.6686,2,   126.37,2,   149.89,2,    37.80,2,     0.00,2,    2.630,2,    0.018,2,    0.002,2,   2346.3,6,   2423.3,6,   7.5508,2,    25.00,  -999.00,9,  -999.00,9,   1.5078,2,  27.7437,2,   1.7205,2
49UP20150724_1,   P04,    62,  1,      9,     518,2,20150803,1300,1338,  7.6468, 176.6517, 4728,   3122.1,     3082,   1.6465,  34.6730,2,    132.6,2,  34.6730,2,   132.39,2,   150.12,6,    37.44,6,     0.00,6,    2.600,6,    0.014,2,    0.000,2,   2333.5,3,   2421.9,2,   7.5584,6,    25.00,  -999.00,9,  -999.00,9,   1.4147,2,  27.7539,2,   1.6464,2
49UP20150724_1,   P04,    62,  1,      7,     516,2,20150803,1300,1333,  7.6468, 176.6517, 4728,   3375.9,     3330,   1.5495,  34.6790,2,    143.0,2,  34.6793,2,   142.82,2,   147.12,2,    36.77,2,     0.00,2,    2.550,2,    0.014,2,    0.003,2,   2335.3,2,   2419.8,2,   7.5704,2,    25.00,  -999.00,9,  -999.00,9,   1.2947,2,  27.7673,2,   1.5499,2
49UP20150724_1,   P04,    62,  1,      8,     081,2,20150803,1300,1333,  7.6468, 176.6517, 4728,   3376.4,     3331,   1.5506,  34.6790,2,    142.9,2,  34.6799,2,   142.93,2,   147.27,2,    36.78,2,     0.00,2,    2.550,2, -999.000,9, -999.000,9,   2334.2,2,   2418.2,2,   7.5719,2,    25.00,  -999.00,9,  -999.00,9,   1.2958,2,  27.7672,2,   1.5507,2
49UP20150724_1,   P04,    62,  1,      6,     113,2,20150803,1300,1327,  7.6468, 176.6517, 4728,   3631.2,     3580,   1.4820,  34.6841,2,    151.5,2,  34.6857,2,   151.44,2,   144.45,2,    36.19,2,     0.00,2,    2.500,2,    0.003,2,    0.001,2,   2330.0,2,   2416.4,2,   7.5815,2,    25.00,  -999.00,9,  -999.00,9,   1.2028,2,  27.7777,2,   1.4818,2
49UP20150724_1,   P04,    62,  1,      5,     094,2,20150803,1300,1322,  7.6468, 176.6517, 4728,   3888.5,     3832,   1.4177,  34.6893,2,    160.0,2,  34.6881,2,   159.24,2,   141.32,2,    35.58,2,     0.00,2,    2.460,2,    0.014,2,    0.002,2,   2321.0,2,   2412.4,2,   7.5947,2,    25.00,  -999.00,9,  -999.00,9,   1.1130,2,  27.7881,2,   1.4178,2
49UP20150724_1,   P04,    62,  1,      4,     077,2,20150803,1300,1316,  7.6468, 176.6517, 4728,   4143.0,     4080,   1.3431,  34.6948,2,    170.5,2,  34.6947,6,   170.51,2,   136.47,2,    34.76,2,     0.00,2,    2.400,2,    0.016,2,    0.006,2,   2309.2,6,   2405.5,6,   7.6073,2,    25.00,  -999.00,9,  -999.00,9,   1.0130,2,  27.7992,2,   1.3429,2
49UP20150724_1,   P04,    62,  1,      3,     104,2,20150803,1300,1310,  7.6468, 176.6517, 4728,   4400.0,     4331,   1.2965,  34.6988,2,    178.9,2,  34.6987,2,   178.51,2,   132.25,2,    34.16,2,     0.00,2,    2.350,2,    0.014,2,    0.002,2,   2299.2,2,   2398.0,2,   7.6108,6,    25.00,  -999.00,9,  -999.00,9,   0.9391,2,  27.8073,2,   1.2964,2
49UP20150724_1,   P04,    62,  1,      2,     075,2,20150803,1300,1305,  7.6468, 176.6517, 4728,   4655.3,     4579,   1.2815,  34.7012,2,    184.0,2,  34.7017,2,   184.04,2,   129.31,2,    33.79,2,     0.00,2,    2.330,2,    0.006,2,    0.001,2,   2293.3,2,   2393.1,2,   7.6146,2,    25.00,  -999.00,9,  -999.00,9,   0.8954,2,  27.8121,2,   1.2811,2
49UP20150724_1,   P04,    62,  1,      1,     997,2,20150803,1300,1300,  7.6468, 176.6517, 4728,   4843.2,     4762,   1.2864,  34.7020,2,    185.9,2,  34.7010,2,   185.67,2,   128.40,2,    33.65,2,     0.00,2,    2.320,2,    0.005,6,    0.002,6,   2291.7,2,   2393.0,2,   7.6165,2,    25.00,  -999.00,9,  -999.00,9,   0.8780,2,  27.8139,2,   1.2862,2