BOTTLE,20191113JMAGEMD
EXPOCODE,SECT_ID,STNNBR,CASTNO,SAMPNO,BTLNBR,BTLNBR_FLAG_U,DATE,TIME,BTL_TIME,LATITUDE,LONGITUDE,DEPTH,CTDPRS,CTDDEP,CTDTMP,CTDSAL,CTDSAL_FLAG_W,CTDOXY,CTDOXY_FLAG_W,SALNTY,SALNTY_FLAG_W,OXYGEN,OXYGEN_FLAG_W,SILCAT,SILCAT_FLAG_W,NO2+NO3,NO2+NO3_FLAG_W,NITRIT,NITRIT_FLAG_W,PHSPHT,PHSPHT_FLAG_W,CFC-11,CFC-11_FLAG_W,CFC-12,CFC-12_FLAG_W,TCARBN,TCARBN_FLAG_W,ALKALI,ALKALI_FLAG_W,PH_TS,PH_TS_FLAG_W,PH_TS_TMP,CHLORA,CHLORA_FLAG_W,PPHYTN,PPHYTN_FLAG_W,THETA,THETA_FLAG_W,SIGTHT,SIGTHT_FLAG_W,SBE35,SBE35_FLAG_W
,,,,,,,,UTC,,,,METER,DBAR,METERS,ITS-90,PSS-78,,UMOL/KG,,PSS78,,UMOL/KG,,UMOL/KG,,UMOL/KG,,UMOL/KG,,UMOL/KG,,PMOL/KG,,PMOL/KG,,UMOL/KG,,UMOL/KG,,,,ITS-90,UG/KG,,UG/KG,,ITS-90,,KG/M3,,ITS-90,
49UP20150724_1,   P04,    58,  1,      0,      -9,0,20150805,0310,0501,  5.6278, 173.5038, 4759,      0.0,        0,  29.9535,  34.1192,2,    198.6,2,-999.0000,9,   195.79,2,     1.06,2,     0.03,2,     0.00,2,    0.070,2, -999.000,9, -999.000,9,   -999.0,9,   -999.0,9,-999.0000,9,  -999.00,  -999.00,9,  -999.00,9,  29.9528,2,  21.0821,2,-999.0000,9
49UP20150724_1,   P04,    58,  1,     36,     109,2,20150805,0310,0522,  5.6278, 173.5038, 4759,     10.5,       10,  29.4957,  34.1043,2,    198.9,2,  34.1022,2,   196.83,2,     1.02,2,     0.03,2,     0.00,2,    0.060,2,    1.533,2,    0.920,2,   -999.0,9,   -999.0,9,-999.0000,9,  -999.00,  -999.00,9,  -999.00,9,  29.4932,2,  21.2265,2,  29.4958,2
49UP20150724_1,   P04,    58,  1,     35,     112,2,20150805,0310,0520,  5.6278, 173.5038, 4759,     26.6,       26,  29.4238,  34.0970,2,    199.1,2,  34.1060,2,   197.40,2,     1.02,2,     0.01,2,     0.00,2,    0.060,2, -999.000,9, -999.000,9,   -999.0,9,   -999.0,9,-999.0000,9,  -999.00,  -999.00,9,  -999.00,9,  29.4173,2,  21.2466,2,  29.4247,2
49UP20150724_1,   P04,    58,  1,     34,     083,2,20150805,0310,0517,  5.6278, 173.5038, 4759,     51.5,       51,  27.3919,  34.6570,2,    203.0,2,  34.6558,2,   202.08,2,     1.24,2,     0.03,2,     0.00,2,    0.120,2, -999.000,9, -999.000,9,   -999.0,9,   -999.0,9,-999.0000,9,  -999.00,  -999.00,9,  -999.00,9,  27.3800,2,  22.3377,2,  27.4292,2
49UP20150724_1,   P04,    58,  1,     33,     469,2,20150805,0310,0515,  5.6278, 173.5038, 4759,     75.7,       75,  24.6149,  34.8540,2,    183.7,2,  34.8580,2,   182.81,2,     2.49,2,     1.04,2,     0.08,2,    0.250,2, -999.000,9, -999.000,9,   -999.0,9,   -999.0,9,-999.0000,9,  -999.00,  -999.00,9,  -999.00,9,  24.5987,2,  23.3522,2,  24.6095,2
49UP20150724_1,   P04,    58,  1,     32,     105,2,20150805,0310,0514,  5.6278, 173.5038, 4759,    101.1,      101,  20.9296,  34.8717,2,    159.3,2,  34.8749,2,   160.19,6,     5.29,6,     5.73,6,     0.22,6,    0.550,6, -999.000,9, -999.000,9,   -999.0,9,   -999.0,9,-999.0000,9,  -999.00,  -999.00,9,  -999.00,9,  20.9104,2,  24.4206,2,  20.9356,2
49UP20150724_1,   P04,    58,  1,     31,     515,2,20150805,0310,0512,  5.6278, 173.5038, 4759,    127.1,      126,  16.0127,  34.6312,2,    134.8,2,  34.6704,4,   136.19,2,    10.11,2,    12.26,2,     0.09,2,    0.960,2, -999.000,9, -999.000,9,   -999.0,9,   -999.0,9,-999.0000,9,  -999.00,  -999.00,9,  -999.00,9,  15.9927,2,  25.4655,2,  16.0663,2
49UP20150724_1,   P04,    58,  1,     30,     097,2,20150805,0310,0511,  5.6278, 173.5038, 4759,    153.1,      152,  13.2396,  34.5473,2,     89.1,2,  34.5475,2,    86.31,2,    21.35,2,    22.85,2,     0.01,2,    1.710,2, -999.000,9, -999.000,9,   -999.0,9,   -999.0,9,-999.0000,9,  -999.00,  -999.00,9,  -999.00,9,  13.2184,2,  25.9982,2,  13.2414,2
49UP20150724_1,   P04,    58,  1,     29,     102,2,20150805,0310,0509,  5.6278, 173.5038, 4759,    203.7,      202,  10.3977,  34.6349,2,     46.2,2,  34.6355,2,    45.52,2,    31.65,2,    31.84,2,     0.00,2,    2.300,2, -999.000,9, -999.000,9,   -999.0,9,   -999.0,9,-999.0000,9,  -999.00,  -999.00,9,  -999.00,9,  10.3735,2,  26.6024,2,  10.3970,2
49UP20150724_1,   P04,    58,  1,     28,     108,3,20150805,0310,0507,  5.6278, 173.5038, 4759,    254.1,      253,   9.6712,  34.6531,2,     42.2,2,  34.6523,2,    42.30,2,    33.49,2,    33.68,2,     0.00,2,    2.390,2, -999.000,9, -999.000,9,   -999.0,9,   -999.0,9,-999.0000,9,  -999.00,  -999.00,9,  -999.00,9,   9.6424,2,  26.7414,2,   9.6710,2
49UP20150724_1,   P04,    58,  1,     27,     998,2,20150805,0310,0506,  5.6278, 173.5038, 4759,    283.9,      282,   9.4198,  34.6467,2,     49.2,2,  34.6457,2,    49.14,2,    33.98,2,    33.63,2,     0.00,2,    2.380,2, -999.000,9, -999.000,9,   -999.0,9,   -999.0,9,-999.0000,9,  -999.00,  -999.00,9,  -999.00,9,   9.3881,2,  26.7785,2,   9.4207,2
49UP20150724_1,   P04,    58,  1,     26,     084,2,20150805,0310,0503,  5.6278, 173.5038, 4759,    374.9,      372,   8.7062,  34.6249,2,     59.7,2,  34.6243,2,    60.72,2,    36.46,2,    34.23,2,     0.00,2,    2.410,2, -999.000,9, -999.000,9,   -999.0,9,   -999.0,9,-999.0000,9,  -999.00,  -999.00,9,  -999.00,9,   8.6661,2,  26.8773,2,   8.7059,2
49UP20150724_1,   P04,    58,  1,     25,     098,2,20150805,0310,0500,  5.6278, 173.5038, 4759,    475.8,      473,   7.9395,  34.5934,2,     40.1,2,  34.5939,2,    42.03,2,    44.10,2,    37.20,2,     0.00,2,    2.670,2, -999.000,9, -999.000,9,   -999.0,9,   -999.0,9,-999.0000,9,  -999.00,  -999.00,9,  -999.00,9,   7.8910,2,  26.9707,2,   7.9397,2
49UP20150724_1,   P04,    58,  1,     24,     110,2,20150805,0310,0457,  5.6278, 173.5038, 4759,    575.8,      572,   7.1922,  34.5658,2,     38.8,2,  34.5656,2,    39.16,2,    52.30,2,    38.85,2,     0.00,2,    2.810,2, -999.000,9, -999.000,9,   -999.0,9,   -999.0,9,-999.0000,9,  -999.00,  -999.00,9,  -999.00,9,   7.1363,2,  27.0577,2,   7.1915,2
49UP20150724_1,   P04,    58,  1,     23,     096,2,20150805,0310,0450,  5.6278, 173.5038, 4759,    675.8,      671,   6.5723,  34.5535,2,     39.0,2,  34.5537,2,    39.08,2,    59.11,2,    40.22,2,     0.00,2,    2.900,2, -999.000,9, -999.000,9,   -999.0,9,   -999.0,9,-999.0000,9,  -999.00,  -999.00,9,  -999.00,9,   6.5094,2,  27.1336,2,   6.5717,2
49UP20150724_1,   P04,    58,  1,     22,     111,2,20150805,0310,0447,  5.6278, 173.5038, 4759,    776.7,      771,   5.7149,  34.5466,2,     45.2,2,  34.5471,2,    45.01,6,    70.30,6,    41.30,6,     0.00,6,    2.960,6, -999.000,9, -999.000,9,   -999.0,9,   -999.0,9,-999.0000,9,  -999.00,  -999.00,9,  -999.00,9,   5.6471,2,  27.2385,2,   5.7145,2
49UP20150724_1,   P04,    58,  1,     21,     078,2,20150805,0310,0444,  5.6278, 173.5038, 4759,    879.1,      872,   5.0697,  34.5499,2,     54.0,2,  34.5503,6,    53.62,2,    80.61,2,    41.30,2,     0.00,2,    2.960,2, -999.000,9, -999.000,9,   -999.0,9,   -999.0,9,-999.0000,9,  -999.00,  -999.00,9,  -999.00,9,   4.9967,2,  27.3188,2,   5.0694,2
49UP20150724_1,   P04,    58,  1,     20,     093,2,20150805,0310,0441,  5.6278, 173.5038, 4759,    979.5,      972,   4.5821,  34.5560,2,     63.7,2,  34.5563,2,    63.56,2,    89.89,2,    40.73,2,     0.00,2,    2.930,2, -999.000,9, -999.000,9,   -999.0,9,   -999.0,9,-999.0000,9,  -999.00,  -999.00,9,  -999.00,9,   4.5037,2,  27.3792,2,   4.5816,2
49UP20150724_1,   P04,    58,  1,     19,     092,2,20150805,0310,0437,  5.6278, 173.5038, 4759,   1140.4,     1131,   3.9878,  34.5702,2,     70.3,2,  34.5703,2,    70.17,2,   102.16,2,    40.67,2,     0.00,2,    2.930,2, -999.000,9, -999.000,9,   -999.0,9,   -999.0,9,-999.0000,9,  -999.00,  -999.00,9,  -999.00,9,   3.9003,2,  27.4546,2,   3.9884,2
49UP20150724_1,   P04,    58,  1,     18,     101,2,20150805,0310,0431,  5.6278, 173.5038, 4759,   1344.5,     1333,   3.3285,  34.5898,2,     81.4,2,  34.5895,2,    81.52,2,   116.42,2,    40.13,2,     0.00,2,    2.880,2, -999.000,9, -999.000,9,   -999.0,9,   -999.0,9,-999.0000,9,  -999.00,  -999.00,9,  -999.00,9,   3.2301,2,  27.5362,2,   3.3283,2
49UP20150724_1,   P04,    58,  1,     17,     090,2,20150805,0310,0426,  5.6278, 173.5038, 4759,   1545.5,     1531,   2.9650,  34.6042,2,     87.0,2,  34.6050,2,    86.71,2,   124.45,2,    40.00,2,     0.00,2,    2.860,2, -999.000,9, -999.000,9,   -999.0,9,   -999.0,9,-999.0000,9,  -999.00,  -999.00,9,  -999.00,9,   2.8537,2,  27.5825,2,   2.9647,2
49UP20150724_1,   P04,    58,  1,     16,     089,2,20150805,0310,0421,  5.6278, 173.5038, 4759,   1747.5,     1731,   2.5713,  34.6213,2,     97.7,2,  34.6215,2,    97.69,6,   132.18,6,    39.37,6,     0.00,6,    2.800,6, -999.000,9, -999.000,9,   -999.0,9,   -999.0,9,-999.0000,9,  -999.00,  -999.00,9,  -999.00,9,   2.4479,2,  27.6315,2,   2.5712,2
49UP20150724_1,   P04,    58,  1,     15,     088,2,20150805,0310,0416,  5.6278, 173.5038, 4759,   1951.3,     1931,   2.3052,  34.6340,2,    103.8,2,  34.6342,2,   103.69,2,   138.37,2,    39.00,2,     0.00,2,    2.760,2, -999.000,9, -999.000,9,   -999.0,9,   -999.0,9,-999.0000,9,  -999.00,  -999.00,9,  -999.00,9,   2.1683,2,  27.6649,2,   2.3052,2
49UP20150724_1,   P04,    58,  1,     14,     999,2,20150805,0310,0410,  5.6278, 173.5038, 4759,   2154.0,     2131,   2.0768,  34.6464,2,    109.8,2,  34.6464,2,   109.93,2,   143.53,2,    38.71,2,     0.00,2,    2.730,2, -999.000,9, -999.000,9,   -999.0,9,   -999.0,9,-999.0000,9,  -999.00,  -999.00,9,  -999.00,9,   1.9259,2,  27.6942,2,   2.0775,2
49UP20150724_1,   P04,    58,  1,     13,     667,2,20150805,0310,0406,  5.6278, 173.5038, 4759,   2357.3,     2331,   1.9143,  34.6565,2,    116.7,2,  34.6564,2,   116.12,2,   145.95,2,    38.22,2,     0.00,2,    2.690,2, -999.000,9, -999.000,9,   -999.0,9,   -999.0,9,-999.0000,9,  -999.00,  -999.00,9,  -999.00,9,   1.7484,2,  27.7160,2,   1.9141,2
49UP20150724_1,   P04,    58,  1,     12,     074,2,20150805,0310,0400,  5.6278, 173.5038, 4759,   2559.8,     2530,   1.8220,  34.6615,2,    121.0,2,  34.6611,2,   120.95,6,   147.95,6,    37.99,6,     0.00,6,    2.660,6,    0.000,2,    0.000,2,   -999.0,9,   -999.0,9,-999.0000,9,  -999.00,  -999.00,9,  -999.00,9,   1.6396,2,  27.7282,2,   1.8219,2
49UP20150724_1,   P04,    58,  1,     11,     268,2,20150805,0310,0356,  5.6278, 173.5038, 4759,   2762.5,     2729,   1.7300,  34.6670,2,    127.7,2,  34.6672,6,   127.61,2,   147.81,2,    37.56,2,     0.00,2,    2.630,2,    0.000,2,    0.000,2,   -999.0,9,   -999.0,9,-999.0000,9,  -999.00,  -999.00,9,  -999.00,9,   1.5307,2,  27.7407,2,   1.7298,2
49UP20150724_1,   P04,    58,  1,     10,     267,2,20150805,0310,0351,  5.6278, 173.5038, 4759,   2966.1,     2929,   1.6502,  34.6717,2,    133.7,2,  34.6719,2,   133.89,2,   147.80,2,    37.18,2,     0.00,2,    2.590,2, -999.000,9, -999.000,9,   -999.0,9,   -999.0,9,-999.0000,9,  -999.00,  -999.00,9,  -999.00,9,   1.4333,2,  27.7515,2,   1.6501,2
49UP20150724_1,   P04,    58,  1,      9,     518,2,20150805,0310,0351,  5.6278, 173.5038, 4759,   2966.4,     2929,   1.6500,  34.6717,2,    133.7,2,  34.6715,2,   133.71,2,   147.58,2,    37.15,2,     0.00,2,    2.590,2,    0.000,2,    0.000,2,   -999.0,9,   -999.0,9,-999.0000,9,  -999.00,  -999.00,9,  -999.00,9,   1.4331,2,  27.7516,2,   1.6499,2
49UP20150724_1,   P04,    58,  1,      8,     081,2,20150805,0310,0345,  5.6278, 173.5038, 4759,   3212.1,     3170,   1.5368,  34.6786,2,    143.9,2,  34.6785,2,   143.81,2,   145.76,2,    36.48,2,     0.00,2,    2.540,2,    0.000,2,    0.000,2,   -999.0,9,   -999.0,9,-999.0000,9,  -999.00,  -999.00,9,  -999.00,9,   1.2986,2,  27.7667,2,   1.5367,2
49UP20150724_1,   P04,    58,  1,      7,     516,2,20150805,0310,0340,  5.6278, 173.5038, 4759,   3465.8,     3419,   1.5035,  34.6820,2,    148.6,2,  34.6821,2,   148.38,2,   144.58,2,    36.16,2,     0.00,2,    2.510,2,    0.000,2,    0.000,2,   -999.0,9,   -999.0,9,-999.0000,9,  -999.00,  -999.00,9,  -999.00,9,   1.2407,2,  27.7735,2,   1.5037,2
49UP20150724_1,   P04,    58,  1,      6,     113,2,20150805,0310,0334,  5.6278, 173.5038, 4759,   3723.3,     3670,   1.4404,  34.6871,2,    156.7,2,  34.6871,2,   156.66,2,   142.08,2,    35.57,2,     0.00,2,    2.470,2,    0.000,2,    0.000,2,   -999.0,9,   -999.0,9,-999.0000,9,  -999.00,  -999.00,9,  -999.00,9,   1.1527,2,  27.7836,2,   1.4404,2
49UP20150724_1,   P04,    58,  1,      5,     094,2,20150805,0310,0328,  5.6278, 173.5038, 4759,   3979.5,     3921,   1.3924,  34.6920,2,    165.4,2,  34.6914,2,   165.42,2,   137.68,2,    34.95,2,     0.00,2,    2.420,2,    0.000,2,    0.001,2,   -999.0,9,   -999.0,9,-999.0000,9,  -999.00,  -999.00,9,  -999.00,9,   1.0787,2,  27.7926,2,   1.3925,2
49UP20150724_1,   P04,    58,  1,      4,     077,3,20150805,0310,0323,  5.6278, 173.5038, 4759,   4233.9,     4169,   1.3490,  34.6961,2,    173.8,2,  34.6960,2,   174.05,2,   133.23,2,    34.34,2,     0.00,2,    2.380,2,    0.004,2,    0.001,2,   -999.0,9,   -999.0,9,-999.0000,9,  -999.00,  -999.00,9,  -999.00,9,   1.0086,2,  27.8006,2,   1.3488,2
49UP20150724_1,   P04,    58,  1,      3,     104,2,20150805,0310,0318,  5.6278, 173.5038, 4759,   4492.1,     4421,   1.3540,  34.6975,2,    176.8,2,  34.6974,2,   176.75,2,   132.15,2,    34.20,2,     0.00,2,    2.360,2,    0.000,2,    0.000,2,   -999.0,9,   -999.0,9,-999.0000,9,  -999.00,  -999.00,9,  -999.00,9,   0.9844,2,  27.8033,2,   1.3538,2
49UP20150724_1,   P04,    58,  1,      2,     075,4,20150805,0310,0313,  5.6278, 173.5038, 4759,   4749.1,     4671,   1.3293,  34.7002,2,    182.4,2,  34.6970,4,   175.71,4,   132.30,4,    34.19,4,     0.00,4,    2.360,4,    0.000,4,    0.001,4,   -999.0,9,   -999.0,9,-999.0000,9,  -999.00,  -999.00,9,  -999.00,9,   0.9307,2,  27.8090,2,   1.3292,2
49UP20150724_1,   P04,    58,  1,      1,     997,2,20150805,0310,0310,  5.6278, 173.5038, 4759,   4835.4,     4755,   1.3098,  34.7017,2,    185.8,2,  34.7015,6,   185.31,2,   127.48,2,    33.52,2,     0.00,2,    2.320,2,    0.004,6,    0.001,6,   -999.0,9,   -999.0,9,-999.0000,9,  -999.00,  -999.00,9,  -999.00,9,   0.9016,2,  27.8121,2,   1.3095,2