BOTTLE,20191113JMAGEMD
EXPOCODE,SECT_ID,STNNBR,CASTNO,SAMPNO,BTLNBR,BTLNBR_FLAG_U,DATE,TIME,BTL_TIME,LATITUDE,LONGITUDE,DEPTH,CTDPRS,CTDDEP,CTDTMP,CTDSAL,CTDSAL_FLAG_W,CTDOXY,CTDOXY_FLAG_W,SALNTY,SALNTY_FLAG_W,OXYGEN,OXYGEN_FLAG_W,SILCAT,SILCAT_FLAG_W,NO2+NO3,NO2+NO3_FLAG_W,NITRIT,NITRIT_FLAG_W,PHSPHT,PHSPHT_FLAG_W,CFC-11,CFC-11_FLAG_W,CFC-12,CFC-12_FLAG_W,TCARBN,TCARBN_FLAG_W,ALKALI,ALKALI_FLAG_W,PH_TS,PH_TS_FLAG_W,PH_TS_TMP,CHLORA,CHLORA_FLAG_W,PPHYTN,PPHYTN_FLAG_W,THETA,THETA_FLAG_W,SIGTHT,SIGTHT_FLAG_W,SBE35,SBE35_FLAG_W
,,,,,,,,UTC,,,,METER,DBAR,METERS,ITS-90,PSS-78,,UMOL/KG,,PSS78,,UMOL/KG,,UMOL/KG,,UMOL/KG,,UMOL/KG,,UMOL/KG,,PMOL/KG,,PMOL/KG,,UMOL/KG,,UMOL/KG,,,,ITS-90,UG/KG,,UG/KG,,ITS-90,,KG/M3,,ITS-90,
49UP20150724_2,   P04,    15,  1,      0,      -9,0,20150830,1220,1405,  9.5147, 147.0095, 4767,      0.0,        0,  29.0084,  33.9520,2,    197.3,2,-999.0000,9,   196.89,2,     0.94,2,     0.02,2,     0.00,2,    0.060,2, -999.000,9, -999.000,9,   -999.0,9,   -999.0,9,-999.0000,9,  -999.00,  -999.00,9,  -999.00,9,  29.0078,2,  21.2748,2,-999.0000,9
49UP20150724_2,   P04,    15,  1,     36,     109,2,20150830,1220,1429,  9.5147, 147.0095, 4767,     11.2,       11,  29.0163,  33.9517,2,    197.2,2,  33.9517,2,   197.11,2,     0.95,2,     0.01,2,     0.00,2,    0.060,2, -999.000,9, -999.000,9,   -999.0,9,   -999.0,9,-999.0000,9,  -999.00,  -999.00,9,  -999.00,9,  29.0136,2,  21.2727,2,  29.0145,2
49UP20150724_2,   P04,    15,  1,     35,     112,2,20150830,1220,1428,  9.5147, 147.0095, 4767,     26.8,       27,  29.0116,  34.0089,2,    196.9,2,  34.0425,4,   197.21,2,     0.99,2,     0.04,2,     0.00,2,    0.070,2, -999.000,9, -999.000,9,   -999.0,9,   -999.0,9,-999.0000,9,  -999.00,  -999.00,9,  -999.00,9,  29.0051,2,  21.3185,2,  29.0094,2
49UP20150724_2,   P04,    15,  1,     34,     094,2,20150830,1220,1426,  9.5147, 147.0095, 4767,     52.0,       52,  26.4120,  34.9799,2,    205.6,2,  34.9683,2,   205.18,2,     1.39,2,     0.02,2,     0.00,2,    0.130,2, -999.000,9, -999.000,9,   -999.0,9,   -999.0,9,-999.0000,9,  -999.00,  -999.00,9,  -999.00,9,  26.4002,2,  22.8928,2,  26.4139,2
49UP20150724_2,   P04,    15,  1,     33,     469,2,20150830,1220,1425,  9.5147, 147.0095, 4767,     76.6,       76,  25.4583,  35.0149,2,    201.1,2,  34.9771,4,   200.33,6,     1.86,6,     0.08,6,     0.01,6,    0.170,6, -999.000,9, -999.000,9,   -999.0,9,   -999.0,9,-999.0000,9,  -999.00,  -999.00,9,  -999.00,9,  25.4415,2,  23.2175,2,  25.4600,2
49UP20150724_2,   P04,    15,  1,     32,     105,2,20150830,1220,1421,  9.5147, 147.0095, 4767,    100.8,      100,  18.4820,  34.8128,2,    161.6,2,  34.7981,6,   161.38,2,     6.55,2,     7.46,2,     0.09,2,    0.650,2, -999.000,9, -999.000,9,   -999.0,9,   -999.0,9,-999.0000,9,  -999.00,  -999.00,9,  -999.00,9,  18.4644,2,  25.0134,2,  18.4655,2
49UP20150724_2,   P04,    15,  1,     31,     515,2,20150830,1220,1420,  9.5147, 147.0095, 4767,    126.6,      126,  15.4311,  34.5977,2,    135.2,2,  34.5784,2,   131.55,2,    13.46,2,    14.87,2,     0.03,2,    1.130,2, -999.000,9, -999.000,9,   -999.0,9,   -999.0,9,-999.0000,9,  -999.00,  -999.00,9,  -999.00,9,  15.4116,2,  25.5708,2,  15.4760,2
49UP20150724_2,   P04,    15,  1,     30,     097,2,20150830,1220,1419,  9.5147, 147.0095, 4767,    151.6,      151,  13.0951,  34.5474,2,    101.7,2,  34.5450,2,   100.87,2,    22.22,2,    21.71,2,     0.01,2,    1.600,2, -999.000,9, -999.000,9,   -999.0,9,   -999.0,9,-999.0000,9,  -999.00,  -999.00,9,  -999.00,9,  13.0742,2,  26.0273,2,  13.0959,2
49UP20150724_2,   P04,    15,  1,     29,     102,2,20150830,1220,1418,  9.5147, 147.0095, 4767,    176.6,      176,  12.1023,  34.5341,2,     91.5,2,  34.5362,2,    90.85,2,    25.51,2,    24.26,2,     0.01,2,    1.780,2, -999.000,9, -999.000,9,   -999.0,9,   -999.0,9,-999.0000,9,  -999.00,  -999.00,9,  -999.00,9,  12.0793,2,  26.2121,2,  12.1017,2
49UP20150724_2,   P04,    15,  1,     28,     108,2,20150830,1220,1416,  9.5147, 147.0095, 4767,    201.4,      200,  11.4085,  34.5202,2,     84.4,2,  34.5199,2,    83.76,2,    28.08,2,    26.14,2,     0.01,2,    1.910,2, -999.000,9, -999.000,9,   -999.0,9,   -999.0,9,-999.0000,9,  -999.00,  -999.00,9,  -999.00,9,  11.3832,2,  26.3320,2,  11.4099,2
49UP20150724_2,   P04,    15,  1,     27,     998,2,20150830,1220,1415,  9.5147, 147.0095, 4767,    252.2,      251,   9.7771,  34.5230,2,     72.4,2,  34.5230,2,    71.91,2,    35.14,2,    30.30,2,     0.00,2,    2.180,2, -999.000,9, -999.000,9,   -999.0,9,   -999.0,9,-999.0000,9,  -999.00,  -999.00,9,  -999.00,9,   9.7483,2,  26.6220,2,   9.7739,2
49UP20150724_2,   P04,    15,  1,     26,     084,2,20150830,1220,1414,  9.5147, 147.0095, 4767,    282.9,      281,   9.1320,  34.5136,2,     70.0,2,  34.5119,2,    70.05,2,    38.18,2,    31.50,2,     0.00,2,    2.270,2, -999.000,9, -999.000,9,   -999.0,9,   -999.0,9,-999.0000,9,  -999.00,  -999.00,9,  -999.00,9,   9.1011,2,  26.7210,2,   9.1322,2
49UP20150724_2,   P04,    15,  1,     25,     098,2,20150830,1220,1411,  9.5147, 147.0095, 4767,    373.2,      371,   8.4666,  34.5537,2,     74.0,2,  34.5534,2,    74.21,6,    40.88,6,    32.81,6,     0.00,6,    2.340,6, -999.000,9, -999.000,9,   -999.0,9,   -999.0,9,-999.0000,9,  -999.00,  -999.00,9,  -999.00,9,   8.4274,2,  26.8585,2,   8.4685,2
49UP20150724_2,   P04,    15,  1,     24,     110,2,20150830,1220,1409,  9.5147, 147.0095, 4767,    475.6,      472,   7.5699,  34.5304,2,     82.3,2,  34.5302,6,    82.46,2,    46.92,2,    33.70,2,     0.00,2,    2.390,2, -999.000,9, -999.000,9,   -999.0,9,   -999.0,9,-999.0000,9,  -999.00,  -999.00,9,  -999.00,9,   7.5228,2,  26.9750,2,   7.5706,2
49UP20150724_2,   P04,    15,  1,     23,     096,2,20150830,1220,1406,  9.5147, 147.0095, 4767,    575.0,      571,   6.8958,  34.5239,2,     85.7,2,  34.5235,2,    85.60,2,    53.04,4,    34.72,2,     0.00,2,    2.470,2, -999.000,9, -999.000,9,   -999.0,9,   -999.0,9,-999.0000,9,  -999.00,  -999.00,9,  -999.00,9,   6.8414,2,  27.0655,2,   6.8963,2
49UP20150724_2,   P04,    15,  1,     22,     111,2,20150830,1220,1402,  9.5147, 147.0095, 4767,    675.2,      670,   6.3769,  34.5221,2,     86.2,2,  34.5210,2,    85.97,2,    59.75,4,    35.54,2,     0.00,2,    2.540,3, -999.000,9, -999.000,9,   -999.0,9,   -999.0,9,-999.0000,9,  -999.00,  -999.00,9,  -999.00,9,   6.3151,2,  27.1344,2,   6.3770,2
49UP20150724_2,   P04,    15,  1,     21,     078,2,20150830,1220,1359,  9.5147, 147.0095, 4767,    778.5,      773,   5.6825,  34.5252,2,     87.3,2,  34.5248,2,    87.31,2,    69.91,2,    36.55,2,     0.00,2,    2.610,2, -999.000,9, -999.000,9,   -999.0,9,   -999.0,9,-999.0000,9,  -999.00,  -999.00,9,  -999.00,9,   5.6148,2,  27.2256,2,   5.6829,2
49UP20150724_2,   P04,    15,  1,     20,     093,2,20150830,1220,1356,  9.5147, 147.0095, 4767,    877.9,      871,   5.2140,  34.5317,2,     81.3,2,  34.5331,2,    81.25,2,    79.71,2,    37.79,2,     0.00,2,    2.720,2, -999.000,9, -999.000,9,   -999.0,9,   -999.0,9,-999.0000,9,  -999.00,  -999.00,9,  -999.00,9,   5.1401,2,  27.2876,2,   5.2134,2
49UP20150724_2,   P04,    15,  1,     19,     092,2,20150830,1220,1354,  9.5147, 147.0095, 4767,    978.9,      971,   4.7115,  34.5438,2,     85.2,2,  34.5428,2,    84.92,2,    88.34,2,    38.10,2,     0.00,2,    2.730,2, -999.000,9, -999.000,9,   -999.0,9,   -999.0,9,-999.0000,9,  -999.00,  -999.00,9,  -999.00,9,   4.6322,2,  27.3553,2,   4.7115,2
49UP20150724_2,   P04,    15,  1,     18,     101,2,20150830,1220,1350,  9.5147, 147.0095, 4767,   1141.0,     1131,   3.9810,  34.5614,2,     85.0,2,  34.5610,2,    85.13,2,   103.34,2,    38.95,2,     0.00,2,    2.790,2, -999.000,9, -999.000,9,   -999.0,9,   -999.0,9,-999.0000,9,  -999.00,  -999.00,9,  -999.00,9,   3.8935,2,  27.4482,2,   3.9794,2
49UP20150724_2,   P04,    15,  1,     17,     090,2,20150830,1220,1345,  9.5147, 147.0095, 4767,   1343.3,     1331,   3.3110,  34.5825,2,     91.4,2,  34.5811,2,    91.46,2,   116.86,2,    39.04,2,     0.00,2,    2.780,2, -999.000,9, -999.000,9,   -999.0,9,   -999.0,9,-999.0000,9,  -999.00,  -999.00,9,  -999.00,9,   3.2128,2,  27.5320,2,   3.3114,2
49UP20150724_2,   P04,    15,  1,     16,     089,2,20150830,1220,1339,  9.5147, 147.0095, 4767,   1546.9,     1532,   2.8306,  34.6013,2,     98.1,2,  34.6000,2,    98.21,2,   126.54,2,    38.94,2,     0.00,2,    2.770,2, -999.000,9, -999.000,9,   -999.0,9,   -999.0,9,-999.0000,9,  -999.00,  -999.00,9,  -999.00,9,   2.7208,2,  27.5919,2,   2.8313,2
49UP20150724_2,   P04,    15,  1,     15,     088,2,20150830,1220,1335,  9.5147, 147.0095, 4767,   1747.0,     1730,   2.4639,  34.6198,2,    105.9,2,  34.6197,2,   105.50,2,   133.39,2,    38.69,2,     0.00,2,    2.730,2, -999.000,9, -999.000,9,   -999.0,9,   -999.0,9,-999.0000,9,  -999.00,  -999.00,9,  -999.00,9,   2.3420,2,  27.6392,2,   2.4638,2
49UP20150724_2,   P04,    15,  1,     14,     999,2,20150830,1220,1330,  9.5147, 147.0095, 4767,   1951.5,     1931,   2.2792,  34.6296,2,    109.7,2,  34.6296,2,   109.60,2,   137.46,2,    38.49,2,     0.00,2,    2.730,2, -999.000,9, -999.000,9,   -999.0,9,   -999.0,9,-999.0000,9,  -999.00,  -999.00,9,  -999.00,9,   2.1426,2,  27.6635,2,   2.2799,2
49UP20150724_2,   P04,    15,  1,     13,     667,2,20150830,1220,1324,  9.5147, 147.0095, 4767,   2154.1,     2131,   2.1670,  34.6365,2,    112.2,2,  34.6366,2,   111.89,2,   139.72,2,    38.45,2,     0.00,2,    2.710,2, -999.000,9, -999.000,9,   -999.0,9,   -999.0,9,-999.0000,9,  -999.00,  -999.00,9,  -999.00,9,   2.0147,2,  27.6793,2,   2.1670,2
49UP20150724_2,   P04,    15,  1,     12,     074,2,20150830,1220,1319,  9.5147, 147.0095, 4767,   2357.2,     2331,   1.9631,  34.6476,2,    119.4,2,  34.6480,2,   119.31,2,   142.76,2,    38.05,2,     0.00,2,    2.680,2, -999.000,9, -999.000,9,   -999.0,9,   -999.0,9,-999.0000,9,  -999.00,  -999.00,9,  -999.00,9,   1.7963,2,  27.7052,2,   1.9630,2
49UP20150724_2,   P04,    15,  1,     11,     268,2,20150830,1220,1315,  9.5147, 147.0095, 4767,   2560.3,     2530,   1.8267,  34.6551,2,    124.8,2,  34.6555,2,   124.78,2,   144.99,2,    37.74,2,     0.00,2,    2.640,2, -999.000,9, -999.000,9,   -999.0,9,   -999.0,9,-999.0000,9,  -999.00,  -999.00,9,  -999.00,9,   1.6442,2,  27.7227,2,   1.8267,2
49UP20150724_2,   P04,    15,  1,     10,     267,2,20150830,1220,1309,  9.5147, 147.0095, 4767,   2764.3,     2731,   1.7352,  34.6614,2,    130.9,2,  34.6616,2,   131.15,2,   144.70,3,    37.27,2,     0.00,2,    2.610,2, -999.000,9, -999.000,9,   -999.0,9,   -999.0,9,-999.0000,9,  -999.00,  -999.00,9,  -999.00,9,   1.5357,2,  27.7359,2,   1.7353,2
49UP20150724_2,   P04,    15,  1,      9,     518,2,20150830,1220,1304,  9.5147, 147.0095, 4767,   2967.7,     2930,   1.6584,  34.6666,2,    135.6,2,  34.6669,2,   135.58,2,   145.59,2,    37.07,2,     0.00,2,    2.590,2, -999.000,9, -999.000,9,   -999.0,9,   -999.0,9,-999.0000,9,  -999.00,  -999.00,9,  -999.00,9,   1.4413,2,  27.7469,2,   1.6584,2
49UP20150724_2,   P04,    15,  1,      8,     081,2,20150830,1220,1259,  9.5147, 147.0095, 4767,   3213.9,     3172,   1.5831,  34.6729,2,    141.8,2,  34.6734,2,   141.71,6,   144.96,6,    36.62,6,     0.00,6,    2.560,6, -999.000,9, -999.000,9,   -999.0,9,   -999.0,9,-999.0000,9,  -999.00,  -999.00,9,  -999.00,9,   1.3437,2,  27.7589,2,   1.5831,2
49UP20150724_2,   P04,    15,  1,      7,     516,2,20150830,1220,1253,  9.5147, 147.0095, 4767,   3468.4,     3421,   1.5424,  34.6771,2,    146.5,2,  34.6772,6,   146.54,2,   144.41,2,    36.31,2,     0.00,2,    2.530,2, -999.000,9, -999.000,9,   -999.0,9,   -999.0,9,-999.0000,9,  -999.00,  -999.00,9,  -999.00,9,   1.2785,2,  27.7669,2,   1.5425,2
49UP20150724_2,   P04,    15,  1,      6,     113,2,20150830,1220,1247,  9.5147, 147.0095, 4767,   3724.6,     3671,   1.5332,  34.6796,2,    149.6,2,  34.6797,2,   149.57,2,   143.73,2,    36.08,2,     0.00,2,    2.520,2, -999.000,9, -999.000,9,   -999.0,9,   -999.0,9,-999.0000,9,  -999.00,  -999.00,9,  -999.00,9,   1.2429,2,  27.7714,2,   1.5332,2
49UP20150724_2,   P04,    15,  1,      5,     658,2,20150830,1220,1240,  9.5147, 147.0095, 4767,   3979.3,     3920,   1.4987,  34.6838,2,    154.8,2,  34.6861,4,   154.92,2,   141.62,2,    35.72,2,     0.00,2,    2.490,2, -999.000,9, -999.000,9,   -999.0,9,   -999.0,9,-999.0000,9,  -999.00,  -999.00,9,  -999.00,9,   1.1821,2,  27.7790,2,   1.4986,2
49UP20150724_2,   P04,    15,  1,      4,     471,2,20150830,1220,1234,  9.5147, 147.0095, 4767,   4237.7,     4172,   1.4663,  34.6883,2,    161.2,2,  34.6879,2,   161.36,2,   138.98,2,    35.28,2,     0.00,2,    2.450,2, -999.000,9, -999.000,9,   -999.0,9,   -999.0,9,-999.0000,9,  -999.00,  -999.00,9,  -999.00,9,   1.1222,2,  27.7867,2,   1.4664,2
49UP20150724_2,   P04,    15,  1,      3,     104,2,20150830,1220,1228,  9.5147, 147.0095, 4767,   4493.6,     4422,   1.4495,  34.6917,2,    166.8,2,  34.6917,2,   166.72,6,   136.63,2,    34.91,6,     0.00,6,    2.430,6, -999.000,9, -999.000,9,   -999.0,9,   -999.0,9,-999.0000,9,  -999.00,  -999.00,9,  -999.00,9,   1.0768,2,  27.7925,2,   1.4496,2
49UP20150724_2,   P04,    15,  1,      2,     075,2,20150830,1220,1223,  9.5147, 147.0095, 4767,   4748.5,     4670,   1.4626,  34.6930,2,    168.9,2,  34.6935,6,   168.62,2,   135.33,2,    34.68,2,     0.00,2,    2.410,2, -999.000,9, -999.000,9,   -999.0,9,   -999.0,9,-999.0000,9,  -999.00,  -999.00,9,  -999.00,9,   1.0598,2,  27.7947,2,   1.4625,2
49UP20150724_2,   P04,    15,  1,      1,     997,2,20150830,1220,1220,  9.5147, 147.0095, 4767,   4827.7,     4747,   1.4674,  34.6933,2,    169.6,2,  34.6930,2,   169.41,2,   135.25,2,    34.68,2,     0.00,2,    2.410,2, -999.000,9, -999.000,9,   -999.0,9,   -999.0,9,-999.0000,9,  -999.00,  -999.00,9,  -999.00,9,   1.0550,2,  27.7952,2,   1.4672,2