BOTTLE,20200319PRINUNIVRMK
EXPOCODE,SECT_ID,STNNBR,CASTNO,BTLNBR,BTLNBR_FLAG_W,DATE,TIME,LATITUDE,LONGITUDE,DEPTH,CTDPRS,CTDTMP,CTDSAL,CTDSAL_FLAG_W,CTDOXY,CTDOXY_FLAG_W,OXYGEN,OXYGEN_FLAG_W,CFC-11,CFC-11_FLAG_W,CFC-12,CFC-12_FLAG_W,BTL_TIME
,,,,,,,,,,METERS,DBAR,ITS-90,PSS-78,,UMOL/KG,,UMOL/KG,,PMOL/KG,,PMOL/KG,,
  06M220140507, MSM38,   385, 34,      1,2,20140522,0823, 47.4493, -33.6253, 4198,   4273.7,   2.3584,  34.8994,2,    278.7,2,    276.4,2, -999.000,9, -999.000,9,      823
  06M220140507, MSM38,   385, 34,      2,2,20140522,0823, 47.4493, -33.6253, 4198,   3898.4,   2.4204,  34.9028,2,    276.2,2,   -999.0,9, -999.000,9, -999.000,9,      828
  06M220140507, MSM38,   385, 34,      3,2,20140522,0823, 47.4493, -33.6253, 4198,   3697.8,   2.5245,  34.9071,2,    275.6,2,   -999.0,9, -999.000,9, -999.000,9,      831
  06M220140507, MSM38,   385, 34,      4,2,20140522,0823, 47.4493, -33.6253, 4198,   3498.1,   2.6895,  34.9135,2,    275.2,2,   -999.0,9, -999.000,9, -999.000,9,      834
  06M220140507, MSM38,   385, 34,      5,2,20140522,0823, 47.4493, -33.6253, 4198,   3297.6,   2.8645,  34.9179,2,    275.6,2,   -999.0,9, -999.000,9, -999.000,9,      837
  06M220140507, MSM38,   385, 34,      6,2,20140522,0823, 47.4493, -33.6253, 4198,   3097.0,   2.9763,  34.9188,2,    275.1,2,    275.0,2, -999.000,9, -999.000,9,      839
  06M220140507, MSM38,   385, 34,      7,2,20140522,0823, 47.4493, -33.6253, 4198,   2897.6,   3.0983,  34.9189,2,    274.8,2,   -999.0,9, -999.000,9, -999.000,9,      842
  06M220140507, MSM38,   385, 34,      8,2,20140522,0823, 47.4493, -33.6253, 4198,   2698.6,   3.2278,  34.9187,2,    274.4,2,   -999.0,9, -999.000,9, -999.000,9,      845
  06M220140507, MSM38,   385, 34,      9,2,20140522,0823, 47.4493, -33.6253, 4198,   2498.0,   3.3981,  34.9196,2,    273.2,2,   -999.0,9, -999.000,9, -999.000,9,      847
  06M220140507, MSM38,   385, 34,     10,2,20140522,0823, 47.4493, -33.6253, 4198,   2297.8,   3.5394,  34.9234,2,    271.9,2,   -999.0,9, -999.000,9, -999.000,9,      850
  06M220140507, MSM38,   385, 34,     11,2,20140522,0823, 47.4493, -33.6253, 4198,   2097.1,   3.6745,  34.9275,2,    270.5,2,   -999.0,9, -999.000,9, -999.000,9,      853
  06M220140507, MSM38,   385, 34,     12,2,20140522,0823, 47.4493, -33.6253, 4198,   1897.6,   3.8428,  34.9300,2,    270.1,2,   -999.0,9, -999.000,9, -999.000,9,      856
  06M220140507, MSM38,   385, 34,     13,2,20140522,0823, 47.4493, -33.6253, 4198,   1698.6,   3.9804,  34.9289,2,    270.3,2,    270.5,2, -999.000,9, -999.000,9,      858
  06M220140507, MSM38,   385, 34,     14,2,20140522,0823, 47.4493, -33.6253, 4198,   1498.2,   4.1906,  34.9410,2,    269.0,2,   -999.0,9, -999.000,9, -999.000,9,      901
  06M220140507, MSM38,   385, 34,     15,2,20140522,0823, 47.4493, -33.6253, 4198,   1299.6,   4.5266,  34.9590,2,    264.4,2,   -999.0,9, -999.000,9, -999.000,9,      904
  06M220140507, MSM38,   385, 34,     16,2,20140522,0823, 47.4493, -33.6253, 4198,   1097.9,   5.2018,  35.0047,2,    245.5,2,   -999.0,9, -999.000,9, -999.000,9,      907
  06M220140507, MSM38,   385, 34,     17,2,20140522,0823, 47.4493, -33.6253, 4198,    897.9,   6.5050,  35.0356,2,    211.2,2,   -999.0,9, -999.000,9, -999.000,9,      909
  06M220140507, MSM38,   385, 34,     18,2,20140522,0823, 47.4493, -33.6253, 4198,    697.8,   9.5453,  35.2212,2,    226.8,2,   -999.0,9, -999.000,9, -999.000,9,      912
  06M220140507, MSM38,   385, 34,     19,2,20140522,0823, 47.4493, -33.6253, 4198,    497.6,  11.0366,  35.4477,2,    247.2,2,   -999.0,9, -999.000,9, -999.000,9,      915
  06M220140507, MSM38,   385, 34,     20,2,20140522,0823, 47.4493, -33.6253, 4198,    297.9,  11.6940,  35.5786,2,    254.9,2,   -999.0,9, -999.000,9, -999.000,9,      918
  06M220140507, MSM38,   385, 34,     21,2,20140522,0823, 47.4493, -33.6253, 4198,     97.8,  11.8593,  35.5797,2,    257.7,2,   -999.0,9, -999.000,9, -999.000,9,      920
  06M220140507, MSM38,   385, 34,     22,2,20140522,0823, 47.4493, -33.6253, 4198,     15.9,  12.4681,  35.5368,2,    289.0,2,    287.0,6, -999.000,9, -999.000,9,      924
  06M220140507, MSM38,   386, 35,      1,2,20140522,1255, 47.4200, -34.2532, 4082,   4138.9,   2.2678,  34.8976,2,    280.6,2,    279.8,2, -999.000,9, -999.000,9,     1255
  06M220140507, MSM38,   386, 35,      2,2,20140522,1255, 47.4200, -34.2532, 4082,   3898.1,   2.3764,  34.9015,2,    276.6,2,   -999.0,9, -999.000,9, -999.000,9,     1259
  06M220140507, MSM38,   386, 35,      3,2,20140522,1255, 47.4200, -34.2532, 4082,   3698.9,   2.4602,  34.9050,2,    276.0,2,   -999.0,9, -999.000,9, -999.000,9,     1302
  06M220140507, MSM38,   386, 35,      4,2,20140522,1255, 47.4200, -34.2532, 4082,   3498.4,   2.5979,  34.9102,2,    274.4,2,   -999.0,9, -999.000,9, -999.000,9,     1305
  06M220140507, MSM38,   386, 35,      5,2,20140522,1255, 47.4200, -34.2532, 4082,   3297.6,   2.7422,  34.9154,2,    274.9,2,   -999.0,9, -999.000,9, -999.000,9,     1307
  06M220140507, MSM38,   386, 35,      6,2,20140522,1255, 47.4200, -34.2532, 4082,   3099.2,   2.8860,  34.9184,2,    275.0,2,   -999.0,9, -999.000,9, -999.000,9,     1310
  06M220140507, MSM38,   386, 35,      7,2,20140522,1255, 47.4200, -34.2532, 4082,   2897.7,   3.0232,  34.9196,2,    274.7,2,   -999.0,9, -999.000,9, -999.000,9,     1313
  06M220140507, MSM38,   386, 35,      8,2,20140522,1255, 47.4200, -34.2532, 4082,   2699.0,   3.1576,  34.9192,2,    274.4,2,   -999.0,9, -999.000,9, -999.000,9,     1316
  06M220140507, MSM38,   386, 35,      9,2,20140522,1255, 47.4200, -34.2532, 4082,   2498.8,   3.3032,  34.9175,2,    273.4,2,   -999.0,9, -999.000,9, -999.000,9,     1319
  06M220140507, MSM38,   386, 35,     10,2,20140522,1255, 47.4200, -34.2532, 4082,   2297.9,   3.4524,  34.9200,2,    272.6,2,    273.0,6, -999.000,9, -999.000,9,     1321
  06M220140507, MSM38,   386, 35,     11,2,20140522,1255, 47.4200, -34.2532, 4082,   2098.2,   3.6142,  34.9245,2,    271.1,2,   -999.0,9, -999.000,9, -999.000,9,     1324
  06M220140507, MSM38,   386, 35,     12,2,20140522,1255, 47.4200, -34.2532, 4082,   1898.8,   3.7706,  34.9273,2,    270.2,2,   -999.0,9, -999.000,9, -999.000,9,     1327
  06M220140507, MSM38,   386, 35,     13,2,20140522,1255, 47.4200, -34.2532, 4082,   1699.5,   3.8770,  34.9257,2,    270.6,2,   -999.0,9, -999.000,9, -999.000,9,     1329
  06M220140507, MSM38,   386, 35,     14,2,20140522,1255, 47.4200, -34.2532, 4082,   1498.4,   4.1155,  34.9357,2,    270.3,2,   -999.0,9, -999.000,9, -999.000,9,     1332
  06M220140507, MSM38,   386, 35,     15,2,20140522,1255, 47.4200, -34.2532, 4082,   1298.9,   4.4118,  34.9543,2,    265.6,2,   -999.0,9, -999.000,9, -999.000,9,     1335
  06M220140507, MSM38,   386, 35,     16,2,20140522,1255, 47.4200, -34.2532, 4082,   1098.9,   4.9243,  34.9834,2,    251.3,2,   -999.0,9, -999.000,9, -999.000,9,     1338
  06M220140507, MSM38,   386, 35,     17,2,20140522,1255, 47.4200, -34.2532, 4082,    899.0,   6.2181,  35.0700,2,    220.0,2,   -999.0,9, -999.000,9, -999.000,9,     1340
  06M220140507, MSM38,   386, 35,     18,2,20140522,1255, 47.4200, -34.2532, 4082,    698.5,   8.3006,  35.0848,2,    190.7,2,   -999.0,9, -999.000,9, -999.000,9,     1343
  06M220140507, MSM38,   386, 35,     19,2,20140522,1255, 47.4200, -34.2532, 4082,    499.3,  10.5205,  35.3577,2,    238.0,2,   -999.0,9, -999.000,9, -999.000,9,     1346
  06M220140507, MSM38,   386, 35,     20,2,20140522,1255, 47.4200, -34.2532, 4082,    271.2,  11.6910,  35.5787,2,    254.5,2,    255.6,2, -999.000,9, -999.000,9,     1349
  06M220140507, MSM38,   386, 35,     21,2,20140522,1255, 47.4200, -34.2532, 4082,    100.0,  11.8596,  35.5663,2,    255.3,2,   -999.0,9, -999.000,9, -999.000,9,     1352
  06M220140507, MSM38,   386, 35,     22,2,20140522,1255, 47.4200, -34.2532, 4082,     14.2,  12.7169,  35.5451,2,    293.7,2,    291.3,2, -999.000,9, -999.000,9,     1355
  06M220140507, MSM38,   387, 36,      1,2,20140522,1728, 47.3970, -34.8777, 4147,   4217.7,   2.2741,  34.8973,2,    280.7,2,   -999.0,9, -999.000,9, -999.000,9,     1728
  06M220140507, MSM38,   387, 36,      2,2,20140522,1728, 47.3970, -34.8777, 4147,   3999.4,   2.2766,  34.8981,2,    278.4,2,    279.2,2, -999.000,9, -999.000,9,     1732
  06M220140507, MSM38,   387, 36,      3,2,20140522,1728, 47.3970, -34.8777, 4147,   3799.1,   2.3235,  34.8999,2,    277.0,2,   -999.0,9, -999.000,9, -999.000,9,     1735
  06M220140507, MSM38,   387, 36,      4,2,20140522,1728, 47.3970, -34.8777, 4147,   3598.0,   2.4198,  34.9042,2,    276.5,2,   -999.0,9, -999.000,9, -999.000,9,     1738
  06M220140507, MSM38,   387, 36,      5,2,20140522,1728, 47.3970, -34.8777, 4147,   3398.8,   2.5637,  34.9101,2,    275.0,2,   -999.0,9, -999.000,9, -999.000,9,     1740
  06M220140507, MSM38,   387, 36,      6,2,20140522,1728, 47.3970, -34.8777, 4147,   3198.4,   2.7184,  34.9158,2,    274.8,2,   -999.0,9, -999.000,9, -999.000,9,     1743
  06M220140507, MSM38,   387, 36,      7,2,20140522,1728, 47.3970, -34.8777, 4147,   2998.8,   2.8790,  34.9181,2,    274.6,2,   -999.0,9, -999.000,9, -999.000,9,     1746
  06M220140507, MSM38,   387, 36,      8,2,20140522,1728, 47.3970, -34.8777, 4147,   2797.4,   2.9818,  34.9182,2,    274.2,2,   -999.0,9, -999.000,9, -999.000,9,     1749
  06M220140507, MSM38,   387, 36,      9,2,20140522,1728, 47.3970, -34.8777, 4147,   2599.1,   3.1295,  34.9188,2,    274.6,2,   -999.0,9, -999.000,9, -999.000,9,     1751
  06M220140507, MSM38,   387, 36,     10,2,20140522,1728, 47.3970, -34.8777, 4147,   2398.4,   3.2466,  34.9173,2,    274.0,2,   -999.0,9, -999.000,9, -999.000,9,     1754
  06M220140507, MSM38,   387, 36,     11,2,20140522,1728, 47.3970, -34.8777, 4147,   2194.6,   3.3915,  34.9191,2,    273.0,2,   -999.0,9, -999.000,9, -999.000,9,     1757
  06M220140507, MSM38,   387, 36,     12,2,20140522,1728, 47.3970, -34.8777, 4147,   1998.1,   3.5453,  34.9214,2,    271.4,2,   -999.0,9, -999.000,9, -999.000,9,     1800
  06M220140507, MSM38,   387, 36,     13,2,20140522,1728, 47.3970, -34.8777, 4147,   1798.2,   3.6767,  34.9243,2,    270.7,2,   -999.0,9, -999.000,9, -999.000,9,     1802
  06M220140507, MSM38,   387, 36,     14,2,20140522,1728, 47.3970, -34.8777, 4147,   1594.2,   3.8522,  34.9264,2,    270.4,2,   -999.0,9, -999.000,9, -999.000,9,     1805
  06M220140507, MSM38,   387, 36,     15,2,20140522,1728, 47.3970, -34.8777, 4147,   1398.0,   4.0176,  34.9296,2,    270.7,2,   -999.0,9, -999.000,9, -999.000,9,     1808
  06M220140507, MSM38,   387, 36,     16,2,20140522,1728, 47.3970, -34.8777, 4147,   1198.2,   4.2657,  34.9431,2,    268.1,2,    268.2,2, -999.000,9, -999.000,9,     1811
  06M220140507, MSM38,   387, 36,     17,2,20140522,1728, 47.3970, -34.8777, 4147,    998.6,   4.6656,  34.9692,2,    259.6,2,   -999.0,9, -999.000,9, -999.000,9,     1813
  06M220140507, MSM38,   387, 36,     18,2,20140522,1728, 47.3970, -34.8777, 4147,    796.2,   5.3776,  35.0088,2,    239.7,2,   -999.0,9, -999.000,9, -999.000,9,     1816
  06M220140507, MSM38,   387, 36,     19,2,20140522,1728, 47.3970, -34.8777, 4147,    598.6,   7.1438,  35.0723,2,    198.9,2,   -999.0,9, -999.000,9, -999.000,9,     1819
  06M220140507, MSM38,   387, 36,     20,2,20140522,1728, 47.3970, -34.8777, 4147,    398.6,   9.8192,  35.2598,2,    236.8,2,   -999.0,9, -999.000,9, -999.000,9,     1822
  06M220140507, MSM38,   387, 36,     21,2,20140522,1728, 47.3970, -34.8777, 4147,    198.3,  11.5703,  35.5437,2,    251.2,2,    251.9,2, -999.000,9, -999.000,9,     1825
  06M220140507, MSM38,   387, 36,     22,2,20140522,1728, 47.3970, -34.8777, 4147,     16.2,  12.5053,  35.5184,2,    275.2,2,   -999.0,9, -999.000,9, -999.000,9,     1829
  06M220140507, MSM38,   388, 37,      1,2,20140522,2203, 47.3610, -35.5062, 4402,   4435.5,   2.2840,  34.8977,2,    281.5,2,    282.4,2, -999.000,9, -999.000,9,     2203
  06M220140507, MSM38,   388, 37,      2,2,20140522,2203, 47.3610, -35.5062, 4402,   4098.2,   2.2903,  34.8982,2,    278.6,2,   -999.0,9, -999.000,9, -999.000,9,     2208
  06M220140507, MSM38,   388, 37,      3,2,20140522,2203, 47.3610, -35.5062, 4402,   3999.2,   2.3067,  34.8991,2,    277.9,2,   -999.0,9, -999.000,9, -999.000,9,     2210
  06M220140507, MSM38,   388, 37,      4,2,20140522,2203, 47.3610, -35.5062, 4402,   3799.5,   2.3638,  34.9017,2,    276.3,2,   -999.0,9, -999.000,9, -999.000,9,     2213
  06M220140507, MSM38,   388, 37,      5,2,20140522,2203, 47.3610, -35.5062, 4402,   3599.7,   2.4768,  34.9065,2,    275.3,2,   -999.0,9, -999.000,9, -999.000,9,     2215
  06M220140507, MSM38,   388, 37,      6,2,20140522,2203, 47.3610, -35.5062, 4402,   3398.3,   2.6197,  34.9123,2,    274.8,2,   -999.0,9, -999.000,9, -999.000,9,     2218
  06M220140507, MSM38,   388, 37,      7,2,20140522,2203, 47.3610, -35.5062, 4402,   3199.0,   2.7749,  34.9169,2,    274.6,2,   -999.0,9, -999.000,9, -999.000,9,     2221
  06M220140507, MSM38,   388, 37,      8,2,20140522,2203, 47.3610, -35.5062, 4402,   2999.0,   2.9073,  34.9196,2,    275.1,2,   -999.0,9, -999.000,9, -999.000,9,     2223
  06M220140507, MSM38,   388, 37,      9,2,20140522,2203, 47.3610, -35.5062, 4402,   2797.9,   3.0069,  34.9200,2,    274.3,2,   -999.0,9, -999.000,9, -999.000,9,     2226
  06M220140507, MSM38,   388, 37,     10,2,20140522,2203, 47.3610, -35.5062, 4402,   2598.6,   3.1291,  34.9196,2,    274.5,2,   -999.0,9, -999.000,9, -999.000,9,     2229
  06M220140507, MSM38,   388, 37,     11,2,20140522,2203, 47.3610, -35.5062, 4402,   2398.3,   3.2692,  34.9191,2,    273.7,2,   -999.0,9, -999.000,9, -999.000,9,     2232
  06M220140507, MSM38,   388, 37,     12,2,20140522,2203, 47.3610, -35.5062, 4402,   2198.9,   3.4126,  34.9211,2,    273.0,2,   -999.0,9, -999.000,9, -999.000,9,     2234
  06M220140507, MSM38,   388, 37,     13,2,20140522,2203, 47.3610, -35.5062, 4402,   1998.6,   3.5467,  34.9251,2,    271.6,2,   -999.0,9, -999.000,9, -999.000,9,     2237
  06M220140507, MSM38,   388, 37,     14,2,20140522,2203, 47.3610, -35.5062, 4402,   1798.2,   3.6708,  34.9291,2,    271.0,2,   -999.0,9, -999.000,9, -999.000,9,     2240
  06M220140507, MSM38,   388, 37,     15,2,20140522,2203, 47.3610, -35.5062, 4402,   1598.0,   3.8193,  34.9298,2,    270.7,2,    273.1,2, -999.000,9, -999.000,9,     2243
  06M220140507, MSM38,   388, 37,     16,2,20140522,2203, 47.3610, -35.5062, 4402,   1398.6,   3.9758,  34.9332,2,    270.5,2,   -999.0,9, -999.000,9, -999.000,9,     2245
  06M220140507, MSM38,   388, 37,     17,2,20140522,2203, 47.3610, -35.5062, 4402,   1198.1,   4.0925,  34.9307,2,    272.2,2,   -999.0,9, -999.000,9, -999.000,9,     2248
  06M220140507, MSM38,   388, 37,     18,2,20140522,2203, 47.3610, -35.5062, 4402,    949.7,   4.3742,  34.9464,2,    267.1,2,   -999.0,9, -999.000,9, -999.000,9,     2251
  06M220140507, MSM38,   388, 37,     19,2,20140522,2203, 47.3610, -35.5062, 4402,    798.1,   4.7127,  34.9700,2,    256.8,2,   -999.0,9, -999.000,9, -999.000,9,     2253
  06M220140507, MSM38,   388, 37,     20,2,20140522,2203, 47.3610, -35.5062, 4402,    596.3,   5.5821,  35.0087,2,    233.0,2,   -999.0,9, -999.000,9, -999.000,9,     2256
  06M220140507, MSM38,   388, 37,     21,2,20140522,2203, 47.3610, -35.5062, 4402,    299.1,   7.7079,  34.9838,2,    238.7,2,   -999.0,9, -999.000,9, -999.000,9,     2300
  06M220140507, MSM38,   388, 37,     22,2,20140522,2203, 47.3610, -35.5062, 4402,     16.3,  12.2713,  35.3006,2,    290.7,2,    291.4,2, -999.000,9, -999.000,9,     2306
  06M220140507, MSM38,   389, 38,      1,2,20140523,0225, 47.3302, -36.1305, 4229,   4296.3,   2.2651,  34.8977,2,    280.8,2,    280.8,2, -999.000,9, -999.000,9,      225
  06M220140507, MSM38,   389, 38,      2,2,20140523,0225, 47.3302, -36.1305, 4229,   3798.6,   2.3011,  34.8994,2,    277.5,2,   -999.0,9, -999.000,9, -999.000,9,      232
  06M220140507, MSM38,   389, 38,      3,2,20140523,0225, 47.3302, -36.1305, 4229,   3598.1,   2.3946,  34.9041,2,    277.4,2,   -999.0,9, -999.000,9, -999.000,9,      235
  06M220140507, MSM38,   389, 38,      4,2,20140523,0225, 47.3302, -36.1305, 4229,   3398.2,   2.5181,  34.9093,2,    276.1,2,   -999.0,9, -999.000,9, -999.000,9,      238
  06M220140507, MSM38,   389, 38,      5,2,20140523,0225, 47.3302, -36.1305, 4229,   3099.2,   2.7680,  34.9181,2,    275.7,2,   -999.0,9, -999.000,9, -999.000,9,      242
  06M220140507, MSM38,   389, 38,      6,2,20140523,0225, 47.3302, -36.1305, 4229,   2998.7,   2.8431,  34.9195,2,    275.4,2,    276.4,2, -999.000,9, -999.000,9,      243
  06M220140507, MSM38,   389, 38,      7,2,20140523,0225, 47.3302, -36.1305, 4229,   2798.5,   2.9886,  34.9205,2,    275.2,2,   -999.0,9, -999.000,9, -999.000,9,      246
  06M220140507, MSM38,   389, 38,      8,2,20140523,0225, 47.3302, -36.1305, 4229,   2598.1,   3.1097,  34.9197,2,    274.3,2,   -999.0,9, -999.000,9, -999.000,9,      249
  06M220140507, MSM38,   389, 38,      9,2,20140523,0225, 47.3302, -36.1305, 4229,   2398.6,   3.2379,  34.9193,2,    274.4,2,   -999.0,9, -999.000,9, -999.000,9,      252
  06M220140507, MSM38,   389, 38,     10,2,20140523,0225, 47.3302, -36.1305, 4229,   2198.4,   3.3606,  34.9196,2,    273.2,2,   -999.0,9, -999.000,9, -999.000,9,      255
  06M220140507, MSM38,   389, 38,     11,2,20140523,0225, 47.3302, -36.1305, 4229,   1998.8,   3.5442,  34.9267,2,    271.0,2,   -999.0,9, -999.000,9, -999.000,9,      257
  06M220140507, MSM38,   389, 38,     12,2,20140523,0225, 47.3302, -36.1305, 4229,   1798.9,   3.7029,  34.9307,2,    269.9,2,   -999.0,9, -999.000,9, -999.000,9,      300
  06M220140507, MSM38,   389, 38,     13,2,20140523,0225, 47.3302, -36.1305, 4229,   1599.1,   3.8772,  34.9381,2,    268.7,2,   -999.0,9, -999.000,9, -999.000,9,      303
  06M220140507, MSM38,   389, 38,     14,2,20140523,0225, 47.3302, -36.1305, 4229,   1398.7,   3.9961,  34.9360,2,    269.9,2,   -999.0,9, -999.000,9, -999.000,9,      306
  06M220140507, MSM38,   389, 38,     15,2,20140523,0225, 47.3302, -36.1305, 4229,   1198.4,   4.1774,  34.9387,2,    270.6,2,    271.2,2, -999.000,9, -999.000,9,      308
  06M220140507, MSM38,   389, 38,     16,2,20140523,0225, 47.3302, -36.1305, 4229,    998.5,   4.3685,  34.9437,2,    269.3,2,   -999.0,9, -999.000,9, -999.000,9,      311
  06M220140507, MSM38,   389, 38,     17,2,20140523,0225, 47.3302, -36.1305, 4229,    798.7,   4.8004,  34.9613,2,    257.4,2,   -999.0,9, -999.000,9, -999.000,9,      314
  06M220140507, MSM38,   389, 38,     18,2,20140523,0225, 47.3302, -36.1305, 4229,    598.0,   5.6776,  34.9809,2,    228.7,2,   -999.0,9, -999.000,9, -999.000,9,      317
  06M220140507, MSM38,   389, 38,     19,2,20140523,0225, 47.3302, -36.1305, 4229,    397.9,   7.2131,  34.9671,2,    211.1,2,   -999.0,9, -999.000,9, -999.000,9,      320
  06M220140507, MSM38,   389, 38,     20,2,20140523,0225, 47.3302, -36.1305, 4229,    199.0,   9.7881,  35.2356,2,    246.9,2,   -999.0,9, -999.000,9, -999.000,9,      323
  06M220140507, MSM38,   389, 38,     21,2,20140523,0225, 47.3302, -36.1305, 4229,     98.1,  10.7872,  35.3452,2,    256.2,2,   -999.0,9, -999.000,9, -999.000,9,      324
  06M220140507, MSM38,   389, 38,     22,2,20140523,0225, 47.3302, -36.1305, 4229,     15.5,  12.6579,  35.4153,2,    281.3,2,    281.9,6, -999.000,9, -999.000,9,      327