BOTTLE,20200319PRINUNIVRMK
EXPOCODE,SECT_ID,STNNBR,CASTNO,BTLNBR,BTLNBR_FLAG_W,DATE,TIME,LATITUDE,LONGITUDE,DEPTH,CTDPRS,CTDTMP,CTDSAL,CTDSAL_FLAG_W,CTDOXY,CTDOXY_FLAG_W,OXYGEN,OXYGEN_FLAG_W,CFC-11,CFC-11_FLAG_W,CFC-12,CFC-12_FLAG_W,BTL_TIME
,,,,,,,,,,METERS,DBAR,ITS-90,PSS-78,,UMOL/KG,,UMOL/KG,,PMOL/KG,,PMOL/KG,,
  06M220140507, MSM38,   380, 29,      1,2,20140521,0706, 47.6273, -29.8658, 3380,   3432.2,   2.6682,  34.9131,2,    274.9,2,    275.2,2, -999.000,9, -999.000,9,      706
  06M220140507, MSM38,   380, 29,      2,2,20140521,0706, 47.6273, -29.8658, 3380,   3431.2,   2.6685,  34.9131,2,    274.6,2,   -999.0,9, -999.000,9, -999.000,9,      706
  06M220140507, MSM38,   380, 29,      3,2,20140521,0706, 47.6273, -29.8658, 3380,   3297.9,   2.7162,  34.9143,2,    274.5,2,   -999.0,9, -999.000,9, -999.000,9,      708
  06M220140507, MSM38,   380, 29,      4,2,20140521,0706, 47.6273, -29.8658, 3380,   3097.6,   2.7994,  34.9157,2,    274.8,2,    274.9,2, -999.000,9, -999.000,9,      711
  06M220140507, MSM38,   380, 29,      5,2,20140521,0706, 47.6273, -29.8658, 3380,   2898.4,   2.9072,  34.9172,2,    274.2,2,   -999.0,9, -999.000,9, -999.000,9,      713
  06M220140507, MSM38,   380, 29,      6,2,20140521,0706, 47.6273, -29.8658, 3380,   2697.5,   3.0569,  34.9179,2,    274.1,2,   -999.0,9, -999.000,9, -999.000,9,      716
  06M220140507, MSM38,   380, 29,      7,2,20140521,0706, 47.6273, -29.8658, 3380,   2498.5,   3.2069,  34.9181,2,    274.7,2,   -999.0,9, -999.000,9, -999.000,9,      719
  06M220140507, MSM38,   380, 29,      8,2,20140521,0706, 47.6273, -29.8658, 3380,   2297.2,   3.3241,  34.9190,2,    273.8,2,   -999.0,9, -999.000,9, -999.000,9,      722
  06M220140507, MSM38,   380, 29,      9,2,20140521,0706, 47.6273, -29.8658, 3380,   2097.9,   3.4748,  34.9217,2,    272.4,2,   -999.0,9, -999.000,9, -999.000,9,      724
  06M220140507, MSM38,   380, 29,     10,2,20140521,0706, 47.6273, -29.8658, 3380,   1897.6,   3.6011,  34.9259,2,    270.7,2,   -999.0,9, -999.000,9, -999.000,9,      727
  06M220140507, MSM38,   380, 29,     11,2,20140521,0706, 47.6273, -29.8658, 3380,   1698.9,   3.7670,  34.9295,2,    270.3,2,   -999.0,9, -999.000,9, -999.000,9,      730
  06M220140507, MSM38,   380, 29,     12,2,20140521,0706, 47.6273, -29.8658, 3380,   1497.9,   3.8983,  34.9297,2,    270.4,2,   -999.0,9, -999.000,9, -999.000,9,      733
  06M220140507, MSM38,   380, 29,     13,2,20140521,0706, 47.6273, -29.8658, 3380,   1298.3,   4.0523,  34.9327,2,    271.2,2,    271.9,2, -999.000,9, -999.000,9,      735
  06M220140507, MSM38,   380, 29,     14,2,20140521,0706, 47.6273, -29.8658, 3380,   1097.7,   4.3563,  34.9516,2,    266.0,2,   -999.0,9, -999.000,9, -999.000,9,      738
  06M220140507, MSM38,   380, 29,     15,2,20140521,0706, 47.6273, -29.8658, 3380,    899.1,   4.8433,  34.9845,2,    254.6,2,   -999.0,9, -999.000,9, -999.000,9,      741
  06M220140507, MSM38,   380, 29,     16,2,20140521,0706, 47.6273, -29.8658, 3380,    696.3,   5.6490,  35.0069,2,    231.8,2,   -999.0,9, -999.000,9, -999.000,9,      744
  06M220140507, MSM38,   380, 29,     17,2,20140521,0706, 47.6273, -29.8658, 3380,    483.3,   7.3745,  34.9914,2,    212.7,2,   -999.0,9, -999.000,9, -999.000,9,      746
  06M220140507, MSM38,   380, 29,     18,2,20140521,0706, 47.6273, -29.8658, 3380,    298.6,   9.5474,  35.2378,2,    242.4,2,   -999.0,9, -999.000,9, -999.000,9,      749
  06M220140507, MSM38,   380, 29,     19,2,20140521,0706, 47.6273, -29.8658, 3380,     99.3,  11.1701,  35.4455,2,    261.6,2,   -999.0,9, -999.000,9, -999.000,9,      752
  06M220140507, MSM38,   380, 29,     20,2,20140521,0706, 47.6273, -29.8658, 3380,     15.3,  11.9994,  35.4402,2,    284.2,2,    285.4,6, -999.000,9, -999.000,9,      755
  06M220140507, MSM38,   380, 29,     21,2,20140521,0706, 47.6273, -29.8658, 3380,     15.4,  11.9991,  35.4402,2,    284.2,2,   -999.0,9, -999.000,9, -999.000,9,      755
  06M220140507, MSM38,   380, 29,     22,2,20140521,0706, 47.6273, -29.8658, 3380,     15.2,  11.9987,  35.4402,2,    284.2,2,   -999.0,9, -999.000,9, -999.000,9,      755
  06M220140507, MSM38,   381, 30,      1,2,20140521,1143, 47.5980, -30.4898, 3367,   3417.4,   2.6515,  34.9122,2,    274.6,2,    275.8,2, -999.000,9, -999.000,9,     1143
  06M220140507, MSM38,   381, 30,      2,2,20140521,1143, 47.5980, -30.4898, 3367,   3417.7,   2.6510,  34.9121,2,    274.9,2,   -999.0,9, -999.000,9, -999.000,9,     1143
  06M220140507, MSM38,   381, 30,      3,2,20140521,1143, 47.5980, -30.4898, 3367,   3198.2,   2.7361,  34.9141,2,    274.4,2,   -999.0,9, -999.000,9, -999.000,9,     1147
  06M220140507, MSM38,   381, 30,      4,2,20140521,1143, 47.5980, -30.4898, 3367,   2996.3,   2.8599,  34.9171,2,    274.2,2,   -999.0,9, -999.000,9, -999.000,9,     1149
  06M220140507, MSM38,   381, 30,      5,2,20140521,1143, 47.5980, -30.4898, 3367,   2799.3,   2.9993,  34.9187,2,    275.0,2,    212.6,4, -999.000,9, -999.000,9,     1152
  06M220140507, MSM38,   381, 30,      6,2,20140521,1143, 47.5980, -30.4898, 3367,   2597.1,   3.1493,  34.9189,2,    275.1,2,   -999.0,9, -999.000,9, -999.000,9,     1155
  06M220140507, MSM38,   381, 30,      7,2,20140521,1143, 47.5980, -30.4898, 3367,   2397.0,   3.2761,  34.9185,2,    273.9,2,   -999.0,9, -999.000,9, -999.000,9,     1157
  06M220140507, MSM38,   381, 30,      8,2,20140521,1143, 47.5980, -30.4898, 3367,   2197.9,   3.4114,  34.9201,2,    273.0,2,   -999.0,9, -999.000,9, -999.000,9,     1200
  06M220140507, MSM38,   381, 30,      9,2,20140521,1143, 47.5980, -30.4898, 3367,   1998.9,   3.5813,  34.9269,2,    271.4,2,   -999.0,9, -999.000,9, -999.000,9,     1203
  06M220140507, MSM38,   381, 30,     10,2,20140521,1143, 47.5980, -30.4898, 3367,   1799.0,   3.6968,  34.9305,2,    270.5,2,   -999.0,9, -999.000,9, -999.000,9,     1205
  06M220140507, MSM38,   381, 30,     11,2,20140521,1143, 47.5980, -30.4898, 3367,   1597.4,   3.8100,  34.9299,2,    270.3,2,   -999.0,9, -999.000,9, -999.000,9,     1208
  06M220140507, MSM38,   381, 30,     12,2,20140521,1143, 47.5980, -30.4898, 3367,   1399.5,   3.9943,  34.9333,2,    270.3,2,    272.8,2, -999.000,9, -999.000,9,     1211
  06M220140507, MSM38,   381, 30,     13,2,20140521,1143, 47.5980, -30.4898, 3367,   1198.1,   4.1562,  34.9358,2,    270.5,2,   -999.0,9, -999.000,9, -999.000,9,     1214
  06M220140507, MSM38,   381, 30,     14,2,20140521,1143, 47.5980, -30.4898, 3367,    998.2,   4.5623,  34.9669,2,    260.5,2,   -999.0,9, -999.000,9, -999.000,9,     1216
  06M220140507, MSM38,   381, 30,     15,2,20140521,1143, 47.5980, -30.4898, 3367,    799.5,   5.1347,  34.9866,2,    246.5,2,   -999.0,9, -999.000,9, -999.000,9,     1219
  06M220140507, MSM38,   381, 30,     16,2,20140521,1143, 47.5980, -30.4898, 3367,    595.4,   6.3129,  34.9894,2,    213.8,2,   -999.0,9, -999.000,9, -999.000,9,     1222
  06M220140507, MSM38,   381, 30,     17,2,20140521,1143, 47.5980, -30.4898, 3367,    397.5,   8.6068,  35.1158,2,    236.0,2,   -999.0,9, -999.000,9, -999.000,9,     1224
  06M220140507, MSM38,   381, 30,     18,2,20140521,1143, 47.5980, -30.4898, 3367,    198.9,  10.4365,  35.3731,2,    250.2,2,   -999.0,9, -999.000,9, -999.000,9,     1227
  06M220140507, MSM38,   381, 30,     19,2,20140521,1143, 47.5980, -30.4898, 3367,     97.5,  11.3699,  35.4481,2,    266.6,2,   -999.0,9, -999.000,9, -999.000,9,     1229
  06M220140507, MSM38,   381, 30,     20,2,20140521,1143, 47.5980, -30.4898, 3367,     15.3,  12.1441,  35.4357,2,    283.3,2,   -999.0,9, -999.000,9, -999.000,9,     1232
  06M220140507, MSM38,   381, 30,     21,2,20140521,1143, 47.5980, -30.4898, 3367,     15.8,  12.1212,  35.4372,2,    283.2,2,    285.1,2, -999.000,9, -999.000,9,     1232
  06M220140507, MSM38,   381, 30,     22,2,20140521,1143, 47.5980, -30.4898, 3367,     15.8,  12.1200,  35.4353,2,    283.3,2,   -999.0,9, -999.000,9, -999.000,9,     1232
  06M220140507, MSM38,   382, 31,      1,2,20140521,1829, 47.5383, -31.7460, 3714,   3771.1,   2.4075,  34.9031,2,    276.8,2,    277.0,2, -999.000,9, -999.000,9,     1829
  06M220140507, MSM38,   382, 31,      2,2,20140521,1829, 47.5383, -31.7460, 3714,   3770.6,   2.4071,  34.9030,2,    276.5,2,   -999.0,9, -999.000,9, -999.000,9,     1829
  06M220140507, MSM38,   382, 31,      3,2,20140521,1829, 47.5383, -31.7460, 3714,   3598.8,   2.4518,  34.9052,2,    275.6,2,   -999.0,9, -999.000,9, -999.000,9,     1832
  06M220140507, MSM38,   382, 31,      4,2,20140521,1829, 47.5383, -31.7460, 3714,   3398.7,   2.5841,  34.9114,2,    275.3,2,    276.8,2, -999.000,9, -999.000,9,     1834
  06M220140507, MSM38,   382, 31,      5,2,20140521,1829, 47.5383, -31.7460, 3714,   3197.3,   2.7255,  34.9177,2,    274.1,2,   -999.0,9, -999.000,9, -999.000,9,     1837
  06M220140507, MSM38,   382, 31,      6,2,20140521,1829, 47.5383, -31.7460, 3714,   2998.0,   2.8539,  34.9188,2,    274.0,2,   -999.0,9, -999.000,9, -999.000,9,     1840
  06M220140507, MSM38,   382, 31,      7,2,20140521,1829, 47.5383, -31.7460, 3714,   2738.4,   3.0234,  34.9208,2,    272.3,2,   -999.0,9, -999.000,9, -999.000,9,     1843
  06M220140507, MSM38,   382, 31,      8,2,20140521,1829, 47.5383, -31.7460, 3714,   2597.8,   3.1073,  34.9205,2,    272.0,2,   -999.0,9, -999.000,9, -999.000,9,     1845
  06M220140507, MSM38,   382, 31,      9,2,20140521,1829, 47.5383, -31.7460, 3714,   2399.6,   3.2073,  34.9192,2,    272.6,2,   -999.0,9, -999.000,9, -999.000,9,     1848
  06M220140507, MSM38,   382, 31,     10,2,20140521,1829, 47.5383, -31.7460, 3714,   2199.1,   3.3294,  34.9181,2,    273.3,2,   -999.0,9, -999.000,9, -999.000,9,     1851
  06M220140507, MSM38,   382, 31,     11,2,20140521,1829, 47.5383, -31.7460, 3714,   1996.1,   3.4781,  34.9190,2,    272.1,2,   -999.0,9, -999.000,9, -999.000,9,     1854
  06M220140507, MSM38,   382, 31,     12,2,20140521,1829, 47.5383, -31.7460, 3714,   1799.0,   3.6256,  34.9215,2,    271.1,2,   -999.0,9, -999.000,9, -999.000,9,     1856
  06M220140507, MSM38,   382, 31,     13,2,20140521,1829, 47.5383, -31.7460, 3714,   1598.0,   3.7750,  34.9223,2,    271.0,2,   -999.0,9, -999.000,9, -999.000,9,     1859
  06M220140507, MSM38,   382, 31,     14,2,20140521,1829, 47.5383, -31.7460, 3714,   1527.5,   3.8207,  34.9218,2,    271.8,2,   -999.0,9, -999.000,9, -999.000,9,     1900
  06M220140507, MSM38,   382, 31,     15,2,20140521,1829, 47.5383, -31.7460, 3714,   1398.0,   3.9026,  34.9224,2,    273.4,2,    273.3,6, -999.000,9, -999.000,9,     1902
  06M220140507, MSM38,   382, 31,     16,2,20140521,1829, 47.5383, -31.7460, 3714,   1198.6,   4.0283,  34.9232,2,    272.3,2,   -999.0,9, -999.000,9, -999.000,9,     1904
  06M220140507, MSM38,   382, 31,     17,2,20140521,1829, 47.5383, -31.7460, 3714,    797.6,   4.9476,  34.9896,2,    252.3,2,   -999.0,9, -999.000,9, -999.000,9,     1910
  06M220140507, MSM38,   382, 31,     18,2,20140521,1829, 47.5383, -31.7460, 3714,    498.4,   6.2721,  34.9670,2,    215.8,2,   -999.0,9, -999.000,9, -999.000,9,     1914
  06M220140507, MSM38,   382, 31,     19,2,20140521,1829, 47.5383, -31.7460, 3714,    397.1,   7.6453,  35.0385,2,    195.4,2,   -999.0,9, -999.000,9, -999.000,9,     1915
  06M220140507, MSM38,   382, 31,     20,2,20140521,1829, 47.5383, -31.7460, 3714,    198.5,   9.6530,  35.2523,2,    245.3,2,   -999.0,9, -999.000,9, -999.000,9,     1918
  06M220140507, MSM38,   382, 31,     21,2,20140521,1829, 47.5383, -31.7460, 3714,     15.6,  11.9073,  35.4156,2,    284.9,2,    285.3,2, -999.000,9, -999.000,9,     1923
  06M220140507, MSM38,   382, 31,     22,2,20140521,1829, 47.5383, -31.7460, 3714,     15.7,  11.9124,  35.4162,2,    284.5,2,   -999.0,9, -999.000,9, -999.000,9,     1923
  06M220140507, MSM38,   383, 32,      1,2,20140521,2303, 47.5082, -32.3725, 4107,   4165.7,   2.3306,  34.8992,2,    278.5,2,    278.2,2, -999.000,9, -999.000,9,     2303
  06M220140507, MSM38,   383, 32,      2,2,20140521,2303, 47.5082, -32.3725, 4107,   3798.2,   2.4352,  34.9046,2,    276.8,2,   -999.0,9, -999.000,9, -999.000,9,     2308
  06M220140507, MSM38,   383, 32,      3,2,20140521,2303, 47.5082, -32.3725, 4107,   3597.9,   2.5470,  34.9098,2,    275.6,2,   -999.0,9, -999.000,9, -999.000,9,     2311
  06M220140507, MSM38,   383, 32,      4,2,20140521,2303, 47.5082, -32.3725, 4107,   3397.8,   2.6814,  34.9152,2,    275.2,2,    275.2,2, -999.000,9, -999.000,9,     2314
  06M220140507, MSM38,   383, 32,      5,2,20140521,2303, 47.5082, -32.3725, 4107,   3197.9,   2.7999,  34.9189,2,    275.1,2,   -999.0,9, -999.000,9, -999.000,9,     2316
  06M220140507, MSM38,   383, 32,      6,2,20140521,2303, 47.5082, -32.3725, 4107,   2998.8,   2.9314,  34.9196,2,    275.0,2,   -999.0,9, -999.000,9, -999.000,9,     2319
  06M220140507, MSM38,   383, 32,      7,2,20140521,2303, 47.5082, -32.3725, 4107,   2799.5,   3.0497,  34.9192,2,    275.0,2,   -999.0,9, -999.000,9, -999.000,9,     2322
  06M220140507, MSM38,   383, 32,      8,2,20140521,2303, 47.5082, -32.3725, 4107,   2598.7,   3.1630,  34.9188,2,    274.3,2,   -999.0,9, -999.000,9, -999.000,9,     2324
  06M220140507, MSM38,   383, 32,      9,2,20140521,2303, 47.5082, -32.3725, 4107,   2397.0,   3.3229,  34.9196,2,    273.7,2,   -999.0,9, -999.000,9, -999.000,9,     2327
  06M220140507, MSM38,   383, 32,     10,2,20140521,2303, 47.5082, -32.3725, 4107,   2197.2,   3.4556,  34.9236,2,    271.7,2,   -999.0,9, -999.000,9, -999.000,9,     2330
  06M220140507, MSM38,   383, 32,     11,2,20140521,2303, 47.5082, -32.3725, 4107,   1996.8,   3.6247,  34.9289,2,    270.4,2,   -999.0,9, -999.000,9, -999.000,9,     2332
  06M220140507, MSM38,   383, 32,     12,2,20140521,2303, 47.5082, -32.3725, 4107,   1798.6,   3.8070,  34.9374,2,    268.9,2,   -999.0,9, -999.000,9, -999.000,9,     2335
  06M220140507, MSM38,   383, 32,     13,2,20140521,2303, 47.5082, -32.3725, 4107,   1596.7,   3.9393,  34.9350,2,    270.4,2,   -999.0,9, -999.000,9, -999.000,9,     2338
  06M220140507, MSM38,   383, 32,     14,2,20140521,2303, 47.5082, -32.3725, 4107,   1397.1,   4.0848,  34.9353,2,    271.2,2,    271.4,6, -999.000,9, -999.000,9,     2340
  06M220140507, MSM38,   383, 32,     15,2,20140521,2303, 47.5082, -32.3725, 4107,   1198.3,   4.2897,  34.9403,2,    269.5,2,   -999.0,9, -999.000,9, -999.000,9,     2343
  06M220140507, MSM38,   383, 32,     16,2,20140521,2303, 47.5082, -32.3725, 4107,    998.3,   4.6468,  34.9573,2,    260.9,2,   -999.0,9, -999.000,9, -999.000,9,     2346
  06M220140507, MSM38,   383, 32,     17,2,20140521,2303, 47.5082, -32.3725, 4107,    797.9,   5.2849,  34.9620,2,    240.5,2,   -999.0,9, -999.000,9, -999.000,9,     2349
  06M220140507, MSM38,   383, 32,     18,2,20140521,2303, 47.5082, -32.3725, 4107,    598.2,   7.0413,  35.0014,2,    202.5,2,   -999.0,9, -999.000,9, -999.000,9,     2351
  06M220140507, MSM38,   383, 32,     19,2,20140521,2303, 47.5082, -32.3725, 4107,    398.1,   9.3085,  35.1879,2,    212.9,2,   -999.0,9, -999.000,9, -999.000,9,     2354
  06M220140507, MSM38,   383, 32,     20,2,20140521,2303, 47.5082, -32.3725, 4107,    197.8,  10.8928,  35.3901,2,    250.3,2,   -999.0,9, -999.000,9, -999.000,9,     2357
  06M220140507, MSM38,   383, 32,     21,2,20140521,2303, 47.5082, -32.3725, 4107,     99.2,  12.0155,  35.5710,2,    245.6,2,   -999.0,9, -999.000,9, -999.000,9,     2358
  06M220140507, MSM38,   383, 32,     22,2,20140521,2303, 47.5082, -32.3725, 4107,     16.0,  12.6171,  35.5537,2,    273.2,2,    273.9,2, -999.000,9, -999.000,9,        1
  06M220140507, MSM38,   384, 33,      1,2,20140522,0342, 47.4788, -32.9992, 4072,   4147.5,   2.3497,  34.8995,2,    278.2,2,    277.5,2, -999.000,9, -999.000,9,      342
  06M220140507, MSM38,   384, 33,      2,2,20140522,0342, 47.4788, -32.9992, 4072,   3897.3,   2.3923,  34.9017,2,    276.8,2,   -999.0,9, -999.000,9, -999.000,9,      346
  06M220140507, MSM38,   384, 33,      3,2,20140522,0342, 47.4788, -32.9992, 4072,   3697.5,   2.4944,  34.9063,2,    275.4,2,   -999.0,9, -999.000,9, -999.000,9,      349
  06M220140507, MSM38,   384, 33,      4,2,20140522,0342, 47.4788, -32.9992, 4072,   3499.6,   2.6383,  34.9118,2,    275.4,2,    274.6,2, -999.000,9, -999.000,9,      351
  06M220140507, MSM38,   384, 33,      5,2,20140522,0342, 47.4788, -32.9992, 4072,   3198.9,   2.8709,  34.9212,2,    274.4,2,   -999.0,9, -999.000,9, -999.000,9,      356
  06M220140507, MSM38,   384, 33,      6,2,20140522,0342, 47.4788, -32.9992, 4072,   3098.2,   2.9321,  34.9190,2,    274.9,2,   -999.0,9, -999.000,9, -999.000,9,      357
  06M220140507, MSM38,   384, 33,      7,2,20140522,0342, 47.4788, -32.9992, 4072,   2897.8,   3.0593,  34.9190,2,    274.4,2,   -999.0,9, -999.000,9, -999.000,9,      400
  06M220140507, MSM38,   384, 33,      8,2,20140522,0342, 47.4788, -32.9992, 4072,   2697.8,   3.1900,  34.9184,2,    274.3,2,   -999.0,9, -999.000,9, -999.000,9,      403
  06M220140507, MSM38,   384, 33,      9,2,20140522,0342, 47.4788, -32.9992, 4072,   2498.7,   3.3156,  34.9191,2,    273.6,2,   -999.0,9, -999.000,9, -999.000,9,      405
  06M220140507, MSM38,   384, 33,     10,2,20140522,0342, 47.4788, -32.9992, 4072,   2300.3,   3.4478,  34.9197,2,    272.3,2,   -999.0,9, -999.000,9, -999.000,9,      408
  06M220140507, MSM38,   384, 33,     11,2,20140522,0342, 47.4788, -32.9992, 4072,   2098.3,   3.6072,  34.9260,2,    271.4,2,   -999.0,9, -999.000,9, -999.000,9,      411
  06M220140507, MSM38,   384, 33,     12,2,20140522,0342, 47.4788, -32.9992, 4072,   1897.8,   3.7670,  34.9306,2,    269.7,2,   -999.0,9, -999.000,9, -999.000,9,      414
  06M220140507, MSM38,   384, 33,     13,2,20140522,0342, 47.4788, -32.9992, 4072,   1698.7,   3.9430,  34.9315,2,    270.3,2,   -999.0,9, -999.000,9, -999.000,9,      417
  06M220140507, MSM38,   384, 33,     14,2,20140522,0342, 47.4788, -32.9992, 4072,   1497.1,   4.1012,  34.9353,2,    269.8,2,    269.9,2, -999.000,9, -999.000,9,      419
  06M220140507, MSM38,   384, 33,     15,2,20140522,0342, 47.4788, -32.9992, 4072,   1299.3,   4.3521,  34.9467,2,    267.4,2,   -999.0,9, -999.000,9, -999.000,9,      422
  06M220140507, MSM38,   384, 33,     16,2,20140522,0342, 47.4788, -32.9992, 4072,   1098.3,   4.8384,  34.9802,2,    256.0,2,   -999.0,9, -999.000,9, -999.000,9,      426
  06M220140507, MSM38,   384, 33,     17,2,20140522,0342, 47.4788, -32.9992, 4072,    897.8,   5.8344,  35.0231,2,    226.6,2,   -999.0,9, -999.000,9, -999.000,9,      429
  06M220140507, MSM38,   384, 33,     18,2,20140522,0342, 47.4788, -32.9992, 4072,    698.2,   7.4547,  34.9926,2,    214.6,2,   -999.0,9, -999.000,9, -999.000,9,      431
  06M220140507, MSM38,   384, 33,     19,2,20140522,0342, 47.4788, -32.9992, 4072,    496.9,  10.2880,  35.3266,2,    238.0,2,   -999.0,9, -999.000,9, -999.000,9,      434
  06M220140507, MSM38,   384, 33,     20,2,20140522,0342, 47.4788, -32.9992, 4072,    298.7,  11.6472,  35.5647,2,    252.0,2,   -999.0,9, -999.000,9, -999.000,9,      437
  06M220140507, MSM38,   384, 33,     21,2,20140522,0342, 47.4788, -32.9992, 4072,     98.0,  11.9756,  35.5313,2,    247.8,2,   -999.0,9, -999.000,9, -999.000,9,      440
  06M220140507, MSM38,   384, 33,     22,2,20140522,0342, 47.4788, -32.9992, 4072,     15.6,  12.9331,  35.5309,2,    281.4,2,    279.6,6, -999.000,9, -999.000,9,      443