BOTTLE,20200319PRINUNIVRMK
EXPOCODE,SECT_ID,STNNBR,CASTNO,BTLNBR,BTLNBR_FLAG_W,DATE,TIME,LATITUDE,LONGITUDE,DEPTH,CTDPRS,CTDTMP,CTDSAL,CTDSAL_FLAG_W,CTDOXY,CTDOXY_FLAG_W,OXYGEN,OXYGEN_FLAG_W,CFC-11,CFC-11_FLAG_W,CFC-12,CFC-12_FLAG_W,BTL_TIME
,,,,,,,,,,METERS,DBAR,ITS-90,PSS-78,,UMOL/KG,,UMOL/KG,,PMOL/KG,,PMOL/KG,,
  06M220140507, MSM38,   453,101,      1,2,20140531,2304, 48.0240, -43.0137, 3490,   3545.9,   2.0980,  34.9002,2,    286.6,2,    284.5,2, -999.000,9, -999.000,9,     2304
  06M220140507, MSM38,   453,101,      2,2,20140531,2304, 48.0240, -43.0137, 3490,   3199.1,   2.2704,  34.9048,2,    282.9,2,   -999.0,9, -999.000,9, -999.000,9,     2309
  06M220140507, MSM38,   453,101,      3,2,20140531,2304, 48.0240, -43.0137, 3490,   2898.9,   2.5982,  34.9153,2,    280.2,2,   -999.0,9, -999.000,9, -999.000,9,     2314
  06M220140507, MSM38,   453,101,      4,2,20140531,2304, 48.0240, -43.0137, 3490,   2598.7,   2.8603,  34.9202,2,    277.4,2,   -999.0,9, -999.000,9, -999.000,9,     2318
  06M220140507, MSM38,   453,101,      5,2,20140531,2304, 48.0240, -43.0137, 3490,   2299.4,   3.1072,  34.9200,2,    274.6,2,   -999.0,9, -999.000,9, -999.000,9,     2322
  06M220140507, MSM38,   453,101,      6,2,20140531,2304, 48.0240, -43.0137, 3490,   1998.9,   3.3702,  34.9224,2,    273.1,2,   -999.0,9, -999.000,9, -999.000,9,     2326
  06M220140507, MSM38,   453,101,      7,2,20140531,2304, 48.0240, -43.0137, 3490,   1698.2,   3.6178,  34.9270,2,    270.1,2,    269.8,2, -999.000,9, -999.000,9,     2330
  06M220140507, MSM38,   453,101,      8,2,20140531,2304, 48.0240, -43.0137, 3490,   1398.4,   3.8383,  34.9271,2,    271.3,2,   -999.0,9, -999.000,9, -999.000,9,     2335
  06M220140507, MSM38,   453,101,      9,2,20140531,2304, 48.0240, -43.0137, 3490,   1197.6,   3.8786,  34.9109,2,    272.2,2,   -999.0,9, -999.000,9, -999.000,9,     2337
  06M220140507, MSM38,   453,101,     10,2,20140531,2304, 48.0240, -43.0137, 3490,    999.0,   4.0094,  34.9138,2,    279.2,2,   -999.0,9, -999.000,9, -999.000,9,     2340
  06M220140507, MSM38,   453,101,     11,2,20140531,2304, 48.0240, -43.0137, 3490,    778.0,   4.2592,  34.9283,2,    271.3,2,   -999.0,9, -999.000,9, -999.000,9,     2343
  06M220140507, MSM38,   453,101,     12,2,20140531,2304, 48.0240, -43.0137, 3490,    598.4,   4.5823,  34.9439,2,    264.8,2,   -999.0,9, -999.000,9, -999.000,9,     2346
  06M220140507, MSM38,   453,101,     13,2,20140531,2304, 48.0240, -43.0137, 3490,    398.8,   4.3695,  34.7764,2,    264.7,2,   -999.0,9, -999.000,9, -999.000,9,     2349
  06M220140507, MSM38,   453,101,     14,2,20140531,2304, 48.0240, -43.0137, 3490,    199.0,   5.2584,  34.5379,2,    245.4,2,   -999.0,9, -999.000,9, -999.000,9,     2352
  06M220140507, MSM38,   453,101,     15,2,20140531,2304, 48.0240, -43.0137, 3490,     17.1,   9.2663,  33.9893,2,    294.1,2,   -999.0,9, -999.000,9, -999.000,9,     2356
  06M220140507, MSM38,   453,101,     16,2,20140531,2304, 48.0240, -43.0137, 3490,     16.9,   9.2626,  33.9870,2,    294.2,2,    293.0,6, -999.000,9, -999.000,9,     2356
  06M220140507, MSM38,   453,101,     17,2,20140531,2304, 48.0240, -43.0137, 3490,     16.4,   9.2631,  33.9890,2,    294.1,2,   -999.0,9, -999.000,9, -999.000,9,     2356
  06M220140507, MSM38,   453,101,     18,2,20140531,2304, 48.0240, -43.0137, 3490,     16.2,   9.2622,  33.9886,2,    293.9,2,   -999.0,9, -999.000,9, -999.000,9,     2356
  06M220140507, MSM38,   453,101,     19,2,20140531,2304, 48.0240, -43.0137, 3490,     16.4,   9.2619,  33.9877,2,    293.8,2,   -999.0,9, -999.000,9, -999.000,9,     2356
  06M220140507, MSM38,   453,101,     20,2,20140531,2304, 48.0240, -43.0137, 3490,     16.7,   9.2616,  33.9867,2,    294.2,2,   -999.0,9, -999.000,9, -999.000,9,     2356
  06M220140507, MSM38,   453,101,     21,2,20140531,2304, 48.0240, -43.0137, 3490,     16.7,   9.2614,  33.9865,2,    294.3,2,   -999.0,9, -999.000,9, -999.000,9,     2356
  06M220140507, MSM38,   453,101,     22,2,20140531,2304, 48.0240, -43.0137, 3490,     16.6,   9.2612,  33.9864,2,    294.4,2,   -999.0,9, -999.000,9, -999.000,9,     2356
  06M220140507, MSM38,   454,102,      1,2,20140601,0207, 47.9600, -43.2253, 3087,   3123.8,   2.3196,  34.9072,2,    283.6,2,    282.3,2, -999.000,9, -999.000,9,      207
  06M220140507, MSM38,   454,102,      2,2,20140601,0207, 47.9600, -43.2253, 3087,   2697.7,   2.5678,  34.9148,2,    279.2,2,   -999.0,9, -999.000,9, -999.000,9,      213
  06M220140507, MSM38,   454,102,      3,2,20140601,0207, 47.9600, -43.2253, 3087,   2498.2,   2.8109,  34.9195,2,    277.9,2,   -999.0,9, -999.000,9, -999.000,9,      216
  06M220140507, MSM38,   454,102,      4,2,20140601,0207, 47.9600, -43.2253, 3087,   2298.5,   2.9700,  34.9203,2,    276.2,2,   -999.0,9, -999.000,9, -999.000,9,      218
  06M220140507, MSM38,   454,102,      5,2,20140601,0207, 47.9600, -43.2253, 3087,   2095.1,   3.1562,  34.9208,2,    275.0,2,    274.1,2, -999.000,9, -999.000,9,      221
  06M220140507, MSM38,   454,102,      6,2,20140601,0207, 47.9600, -43.2253, 3087,   1899.0,   3.3682,  34.9225,2,    273.5,2,   -999.0,9, -999.000,9, -999.000,9,      224
  06M220140507, MSM38,   454,102,      7,2,20140601,0207, 47.9600, -43.2253, 3087,   1694.8,   3.5593,  34.9253,2,    272.2,2,   -999.0,9, -999.000,9, -999.000,9,      227
  06M220140507, MSM38,   454,102,      8,2,20140601,0207, 47.9600, -43.2253, 3087,   1498.5,   3.7200,  34.9225,2,    272.7,2,   -999.0,9, -999.000,9, -999.000,9,      229
  06M220140507, MSM38,   454,102,      9,2,20140601,0207, 47.9600, -43.2253, 3087,   1298.3,   3.8012,  34.9095,2,    276.5,2,   -999.0,9, -999.000,9, -999.000,9,      232
  06M220140507, MSM38,   454,102,     10,2,20140601,0207, 47.9600, -43.2253, 3087,   1098.8,   3.8212,  34.8929,2,    282.2,2,    281.8,2, -999.000,9, -999.000,9,      235
  06M220140507, MSM38,   454,102,     11,2,20140601,0207, 47.9600, -43.2253, 3087,    898.4,   3.7919,  34.8729,2,    287.0,2,   -999.0,9, -999.000,9, -999.000,9,      238
  06M220140507, MSM38,   454,102,     12,2,20140601,0207, 47.9600, -43.2253, 3087,    694.0,   3.7610,  34.8547,2,    290.9,2,   -999.0,9, -999.000,9, -999.000,9,      240
  06M220140507, MSM38,   454,102,     13,2,20140601,0207, 47.9600, -43.2253, 3087,    498.4,   3.9091,  34.8489,2,    285.1,2,   -999.0,9, -999.000,9, -999.000,9,      243
  06M220140507, MSM38,   454,102,     14,2,20140601,0207, 47.9600, -43.2253, 3087,    292.7,   4.1456,  34.7750,2,    270.5,2,   -999.0,9, -999.000,9, -999.000,9,      246
  06M220140507, MSM38,   454,102,     15,2,20140601,0207, 47.9600, -43.2253, 3087,     99.1,   6.2508,  34.7581,2,    252.4,2,   -999.0,9, -999.000,9, -999.000,9,      249
  06M220140507, MSM38,   454,102,     16,2,20140601,0207, 47.9600, -43.2253, 3087,     13.8,   9.5939,  34.2451,2,    292.5,2,    291.6,2, -999.000,9, -999.000,9,      253
  06M220140507, MSM38,   454,102,     17,2,20140601,0207, 47.9600, -43.2253, 3087,     14.2,   9.6193,  34.2538,2,    292.0,2,   -999.0,9, -999.000,9, -999.000,9,      253
  06M220140507, MSM38,   454,102,     18,2,20140601,0207, 47.9600, -43.2253, 3087,     14.4,   9.6270,  34.2536,2,    291.9,2,   -999.0,9, -999.000,9, -999.000,9,      253
  06M220140507, MSM38,   454,102,     19,2,20140601,0207, 47.9600, -43.2253, 3087,     14.3,   9.5988,  34.2472,2,    292.5,2,   -999.0,9, -999.000,9, -999.000,9,      253
  06M220140507, MSM38,   454,102,     20,2,20140601,0207, 47.9600, -43.2253, 3087,     14.2,   9.5781,  34.2446,2,    292.1,2,   -999.0,9, -999.000,9, -999.000,9,      253
  06M220140507, MSM38,   454,102,     21,2,20140601,0207, 47.9600, -43.2253, 3087,     14.1,   9.6063,  34.2490,2,    292.4,2,   -999.0,9, -999.000,9, -999.000,9,      253
  06M220140507, MSM38,   454,102,     22,2,20140601,0207, 47.9600, -43.2253, 3087,     14.0,   9.6019,  34.2472,2,    292.8,2,   -999.0,9, -999.000,9, -999.000,9,      253
  06M220140507, MSM38,   455,103,      1,2,20140601,0454, 47.8927, -43.4378, 3016,   3051.5,   2.4452,  34.9110,2,    282.3,2,    281.0,2, -999.000,9, -999.000,9,      454
  06M220140507, MSM38,   455,103,      2,2,20140601,0454, 47.8927, -43.4378, 3016,   2798.7,   2.6106,  34.9156,2,    280.0,2,   -999.0,9, -999.000,9, -999.000,9,      458
  06M220140507, MSM38,   455,103,      3,2,20140601,0454, 47.8927, -43.4378, 3016,   2497.8,   2.7838,  34.9189,2,    277.9,2,   -999.0,9, -999.000,9, -999.000,9,      502
  06M220140507, MSM38,   455,103,      4,2,20140601,0454, 47.8927, -43.4378, 3016,   2198.1,   3.0554,  34.9203,2,    276.3,2,   -999.0,9, -999.000,9, -999.000,9,      507
  06M220140507, MSM38,   455,103,      5,2,20140601,0454, 47.8927, -43.4378, 3016,   1897.8,   3.3214,  34.9224,2,    274.7,2,   -999.0,9, -999.000,9, -999.000,9,      511
  06M220140507, MSM38,   455,103,      6,2,20140601,0454, 47.8927, -43.4378, 3016,   1698.9,   3.5188,  34.9243,2,    272.4,2,    273.1,6, -999.000,9, -999.000,9,      514
  06M220140507, MSM38,   455,103,      7,2,20140601,0454, 47.8927, -43.4378, 3016,   1498.5,   3.6732,  34.9232,2,    272.7,2,   -999.0,9, -999.000,9, -999.000,9,      516
  06M220140507, MSM38,   455,103,      8,2,20140601,0454, 47.8927, -43.4378, 3016,   1297.6,   3.8080,  34.9151,2,    273.6,2,   -999.0,9, -999.000,9, -999.000,9,      519
  06M220140507, MSM38,   455,103,      9,2,20140601,0454, 47.8927, -43.4378, 3016,   1093.9,   3.8124,  34.8928,2,    282.7,2,   -999.0,9, -999.000,9, -999.000,9,      522
  06M220140507, MSM38,   455,103,     10,2,20140601,0454, 47.8927, -43.4378, 3016,    898.2,   3.7926,  34.8759,2,    285.8,2,   -999.0,9, -999.000,9, -999.000,9,      525
  06M220140507, MSM38,   455,103,     11,2,20140601,0454, 47.8927, -43.4378, 3016,    697.9,   3.7757,  34.8582,2,    290.7,2,   -999.0,9, -999.000,9, -999.000,9,      528
  06M220140507, MSM38,   455,103,     12,2,20140601,0454, 47.8927, -43.4378, 3016,    497.3,   3.9277,  34.8553,2,    284.0,2,    284.2,2, -999.000,9, -999.000,9,      530
  06M220140507, MSM38,   455,103,     13,2,20140601,0454, 47.8927, -43.4378, 3016,    297.6,   3.7889,  34.7621,2,    286.2,2,   -999.0,9, -999.000,9, -999.000,9,      533
  06M220140507, MSM38,   455,103,     14,2,20140601,0454, 47.8927, -43.4378, 3016,     99.3,   6.1084,  34.8151,2,    253.2,2,   -999.0,9, -999.000,9, -999.000,9,      536
  06M220140507, MSM38,   455,103,     15,2,20140601,0454, 47.8927, -43.4378, 3016,     16.1,   7.0601,  34.3536,2,    315.6,2,   -999.0,9, -999.000,9, -999.000,9,      539
  06M220140507, MSM38,   455,103,     16,2,20140601,0454, 47.8927, -43.4378, 3016,     15.9,   7.0606,  34.3551,2,    315.6,2,   -999.0,9, -999.000,9, -999.000,9,      539
  06M220140507, MSM38,   455,103,     17,2,20140601,0454, 47.8927, -43.4378, 3016,     15.6,   7.0638,  34.3536,2,    315.8,2,   -999.0,9, -999.000,9, -999.000,9,      539
  06M220140507, MSM38,   455,103,     18,2,20140601,0454, 47.8927, -43.4378, 3016,     15.5,   7.0622,  34.3539,2,    315.8,2,   -999.0,9, -999.000,9, -999.000,9,      539
  06M220140507, MSM38,   455,103,     19,2,20140601,0454, 47.8927, -43.4378, 3016,     15.6,   7.0614,  34.3539,2,    315.9,2,   -999.0,9, -999.000,9, -999.000,9,      539
  06M220140507, MSM38,   455,103,     20,2,20140601,0454, 47.8927, -43.4378, 3016,     15.9,   7.0599,  34.3547,2,    315.9,2,   -999.0,9, -999.000,9, -999.000,9,      539
  06M220140507, MSM38,   455,103,     21,2,20140601,0454, 47.8927, -43.4378, 3016,     16.1,   7.0406,  34.3584,2,    316.0,2,   -999.0,9, -999.000,9, -999.000,9,      539
  06M220140507, MSM38,   455,103,     22,2,20140601,0454, 47.8927, -43.4378, 3016,     15.8,   7.0579,  34.3553,2,    315.3,2,   -999.0,9, -999.000,9, -999.000,9,      539
  06M220140507, MSM38,   456,104,      1,2,20140601,0714, 47.8282, -43.6495, 1325,   1331.1,   3.6246,  34.9229,2,    272.1,2,    271.1,2, -999.000,9, -999.000,9,      714
  06M220140507, MSM38,   456,104,      2,2,20140601,0714, 47.8282, -43.6495, 1325,   1331.6,   3.6242,  34.9229,2,    271.8,2,   -999.0,9, -999.000,9, -999.000,9,      714
  06M220140507, MSM38,   456,104,      3,2,20140601,0714, 47.8282, -43.6495, 1325,   1331.5,   3.6240,  34.9229,2,    271.9,2,   -999.0,9, -999.000,9, -999.000,9,      714
  06M220140507, MSM38,   456,104,      4,2,20140601,0714, 47.8282, -43.6495, 1325,   1029.0,   3.7951,  34.8936,2,    281.0,2,   -999.0,9, -999.000,9, -999.000,9,      719
  06M220140507, MSM38,   456,104,      5,2,20140601,0714, 47.8282, -43.6495, 1325,    897.7,   3.7947,  34.8836,2,    284.0,2,   -999.0,9, -999.000,9, -999.000,9,      721
  06M220140507, MSM38,   456,104,      6,2,20140601,0714, 47.8282, -43.6495, 1325,    698.3,   3.7549,  34.8646,2,    287.9,2,   -999.0,9, -999.000,9, -999.000,9,      724
  06M220140507, MSM38,   456,104,      7,2,20140601,0714, 47.8282, -43.6495, 1325,    399.3,   3.9134,  34.8564,2,    285.5,2,   -999.0,9, -999.000,9, -999.000,9,      728
  06M220140507, MSM38,   456,104,      8,2,20140601,0714, 47.8282, -43.6495, 1325,    299.3,   4.0735,  34.8481,2,    275.2,2,   -999.0,9, -999.000,9, -999.000,9,      729
  06M220140507, MSM38,   456,104,      9,2,20140601,0714, 47.8282, -43.6495, 1325,    100.9,   4.3389,  34.5797,2,    286.2,2,   -999.0,9, -999.000,9, -999.000,9,      732
  06M220140507, MSM38,   456,104,     10,2,20140601,0714, 47.8282, -43.6495, 1325,     12.6,   7.5355,  34.4340,2,    318.7,2,   -999.0,9, -999.000,9, -999.000,9,      735
  06M220140507, MSM38,   456,104,     11,2,20140601,0714, 47.8282, -43.6495, 1325,     13.1,   7.5669,  34.4359,2,    318.1,2,    319.3,2, -999.000,9, -999.000,9,      735
  06M220140507, MSM38,   456,104,     12,2,20140601,0714, 47.8282, -43.6495, 1325,     13.5,   7.5905,  34.4340,2,    318.3,2,   -999.0,9, -999.000,9, -999.000,9,      735
  06M220140507, MSM38,   456,104,     13,2,20140601,0714, 47.8282, -43.6495, 1325,     13.2,   7.5756,  34.4324,2,    318.6,2,   -999.0,9, -999.000,9, -999.000,9,      735
  06M220140507, MSM38,   456,104,     14,2,20140601,0714, 47.8282, -43.6495, 1325,     12.6,   7.5297,  34.4344,2,    318.8,2,   -999.0,9, -999.000,9, -999.000,9,      735
  06M220140507, MSM38,   456,104,     15,2,20140601,0714, 47.8282, -43.6495, 1325,     12.4,   7.5323,  34.4332,2,    318.8,2,   -999.0,9, -999.000,9, -999.000,9,      735
  06M220140507, MSM38,   456,104,     16,2,20140601,0714, 47.8282, -43.6495, 1325,     12.7,   7.5323,  34.4352,2,    318.8,2,   -999.0,9, -999.000,9, -999.000,9,      735
  06M220140507, MSM38,   456,104,     17,2,20140601,0714, 47.8282, -43.6495, 1325,     13.2,   7.5717,  34.4348,2,    318.1,2,   -999.0,9, -999.000,9, -999.000,9,      736
  06M220140507, MSM38,   456,104,     18,2,20140601,0714, 47.8282, -43.6495, 1325,     13.4,   7.5925,  34.4344,2,    318.5,2,   -999.0,9, -999.000,9, -999.000,9,      736
  06M220140507, MSM38,   456,104,     19,2,20140601,0714, 47.8282, -43.6495, 1325,     13.2,   7.5894,  34.4347,2,    318.7,2,   -999.0,9, -999.000,9, -999.000,9,      736
  06M220140507, MSM38,   456,104,     20,2,20140601,0714, 47.8282, -43.6495, 1325,     12.8,   7.5812,  34.4344,2,    318.5,2,   -999.0,9, -999.000,9, -999.000,9,      736
  06M220140507, MSM38,   456,104,     21,2,20140601,0714, 47.8282, -43.6495, 1325,     12.5,   7.5495,  34.4348,2,    318.0,2,   -999.0,9, -999.000,9, -999.000,9,      736
  06M220140507, MSM38,   456,104,     22,2,20140601,0714, 47.8282, -43.6495, 1325,     12.7,   7.5591,  34.4354,2,    318.4,2,   -999.0,9, -999.000,9, -999.000,9,      736
  06M220140507, MSM38,   457,105,      1,2,20140601,0900, 47.7632, -43.8613,  824,    821.2,   3.6701,  34.9191,2,    272.1,2,    272.2,2, -999.000,9, -999.000,9,      900
  06M220140507, MSM38,   457,105,      2,2,20140601,0900, 47.7632, -43.8613,  824,    697.9,   3.8905,  34.9058,2,    275.9,2,   -999.0,9, -999.000,9, -999.000,9,      902
  06M220140507, MSM38,   457,105,      3,2,20140601,0900, 47.7632, -43.8613,  824,    696.5,   3.8897,  34.9059,2,    276.2,2,   -999.0,9, -999.000,9, -999.000,9,      902
  06M220140507, MSM38,   457,105,      4,2,20140601,0900, 47.7632, -43.8613,  824,    498.6,   4.1168,  34.8922,2,    278.0,2,    276.0,2, -999.000,9, -999.000,9,      905
  06M220140507, MSM38,   457,105,      5,2,20140601,0900, 47.7632, -43.8613,  824,    496.7,   4.1121,  34.8919,2,    277.3,2,   -999.0,9, -999.000,9, -999.000,9,      905
  06M220140507, MSM38,   457,105,      6,2,20140601,0900, 47.7632, -43.8613,  824,    301.3,   4.1809,  34.8690,2,    274.6,2,   -999.0,9, -999.000,9, -999.000,9,      908
  06M220140507, MSM38,   457,105,      7,2,20140601,0900, 47.7632, -43.8613,  824,    299.3,   4.2560,  34.8760,2,    271.4,2,   -999.0,9, -999.000,9, -999.000,9,      908
  06M220140507, MSM38,   457,105,      8,2,20140601,0900, 47.7632, -43.8613,  824,     99.1,   4.0576,  34.6448,2,    291.3,2,    275.0,3, -999.000,9, -999.000,9,      911
  06M220140507, MSM38,   457,105,      9,2,20140601,0900, 47.7632, -43.8613,  824,     97.2,   4.0859,  34.6465,2,    289.3,2,   -999.0,9, -999.000,9, -999.000,9,      911
  06M220140507, MSM38,   457,105,     10,2,20140601,0900, 47.7632, -43.8613,  824,     12.3,   6.8115,  34.3081,2,    318.3,2,   -999.0,9, -999.000,9, -999.000,9,      914
  06M220140507, MSM38,   457,105,     11,2,20140601,0900, 47.7632, -43.8613,  824,     12.7,   6.8122,  34.3078,2,    318.8,2,   -999.0,9, -999.000,9, -999.000,9,      914
  06M220140507, MSM38,   457,105,     12,2,20140601,0900, 47.7632, -43.8613,  824,     13.0,   6.8135,  34.3071,2,    318.7,2,   -999.0,9, -999.000,9, -999.000,9,      914
  06M220140507, MSM38,   457,105,     13,2,20140601,0900, 47.7632, -43.8613,  824,     13.0,   6.8121,  34.3071,2,    318.9,2,   -999.0,9, -999.000,9, -999.000,9,      914
  06M220140507, MSM38,   457,105,     14,2,20140601,0900, 47.7632, -43.8613,  824,     12.8,   6.8118,  34.3074,2,    318.7,2,   -999.0,9, -999.000,9, -999.000,9,      914
  06M220140507, MSM38,   457,105,     15,2,20140601,0900, 47.7632, -43.8613,  824,     12.5,   6.8080,  34.3089,2,    318.6,2,   -999.0,9, -999.000,9, -999.000,9,      914
  06M220140507, MSM38,   457,105,     16,2,20140601,0900, 47.7632, -43.8613,  824,     12.3,   6.8063,  34.3091,2,    318.9,2,   -999.0,9, -999.000,9, -999.000,9,      914
  06M220140507, MSM38,   457,105,     17,2,20140601,0900, 47.7632, -43.8613,  824,     12.4,   6.8066,  34.3089,2,    318.9,2,   -999.0,9, -999.000,9, -999.000,9,      914
  06M220140507, MSM38,   457,105,     18,2,20140601,0900, 47.7632, -43.8613,  824,     12.8,   6.8083,  34.3079,2,    318.8,2,   -999.0,9, -999.000,9, -999.000,9,      914
  06M220140507, MSM38,   457,105,     19,2,20140601,0900, 47.7632, -43.8613,  824,     12.9,   6.8123,  34.3070,2,    318.7,2,   -999.0,9, -999.000,9, -999.000,9,      914
  06M220140507, MSM38,   457,105,     20,2,20140601,0900, 47.7632, -43.8613,  824,     12.8,   6.8090,  34.3066,2,    318.5,2,   -999.0,9, -999.000,9, -999.000,9,      914
  06M220140507, MSM38,   457,105,     21,2,20140601,0900, 47.7632, -43.8613,  824,     12.6,   6.8083,  34.3069,2,    318.8,2,   -999.0,9, -999.000,9, -999.000,9,      914
  06M220140507, MSM38,   457,105,     22,2,20140601,0900, 47.7632, -43.8613,  824,     12.6,   6.8080,  34.3075,2,    318.8,2,   -999.0,9, -999.000,9, -999.000,9,      914