BOTTLE,20200319PRINUNIVRMK
EXPOCODE,SECT_ID,STNNBR,CASTNO,BTLNBR,BTLNBR_FLAG_W,DATE,TIME,LATITUDE,LONGITUDE,DEPTH,CTDPRS,CTDTMP,CTDSAL,CTDSAL_FLAG_W,CTDOXY,CTDOXY_FLAG_W,OXYGEN,OXYGEN_FLAG_W,CFC-11,CFC-11_FLAG_W,CFC-12,CFC-12_FLAG_W,BTL_TIME
,,,,,,,,,,METERS,DBAR,ITS-90,PSS-78,,UMOL/KG,,UMOL/KG,,PMOL/KG,,PMOL/KG,,
  06M220140507, MSM38,   433, 81,      1,2,20140529,0146, 48.3435, -44.8530,  646,    636.6,   4.1300,  34.9065,2,    271.6,2,    271.0,2, -999.000,9, -999.000,9,      146
  06M220140507, MSM38,   433, 81,      2,2,20140529,0146, 48.3435, -44.8530,  646,    636.9,   4.1299,  34.9066,2,    271.6,2,   -999.0,9, -999.000,9, -999.000,9,      146
  06M220140507, MSM38,   433, 81,      3,2,20140529,0146, 48.3435, -44.8530,  646,    637.2,   4.1289,  34.9064,2,    271.6,2,   -999.0,9, -999.000,9, -999.000,9,      146
  06M220140507, MSM38,   433, 81,      4,2,20140529,0146, 48.3435, -44.8530,  646,    637.2,   4.1267,  34.9064,2,    271.6,2,   -999.0,9, -999.000,9, -999.000,9,      146
  06M220140507, MSM38,   433, 81,      5,2,20140529,0146, 48.3435, -44.8530,  646,    637.1,   4.1263,  34.9065,2,    271.6,2,   -999.0,9, -999.000,9, -999.000,9,      146
  06M220140507, MSM38,   433, 81,      6,2,20140529,0146, 48.3435, -44.8530,  646,    599.7,   4.1574,  34.9071,2,    274.7,2,   -999.0,9, -999.000,9, -999.000,9,      147
  06M220140507, MSM38,   433, 81,      7,2,20140529,0146, 48.3435, -44.8530,  646,    597.3,   4.1665,  34.9069,2,    274.2,2,   -999.0,9, -999.000,9, -999.000,9,      147
  06M220140507, MSM38,   433, 81,      8,2,20140529,0146, 48.3435, -44.8530,  646,    498.6,   4.2439,  34.9009,2,    279.4,2,   -999.0,9, -999.000,9, -999.000,9,      148
  06M220140507, MSM38,   433, 81,      9,2,20140529,0146, 48.3435, -44.8530,  646,    497.2,   4.2435,  34.9009,2,    279.6,2,   -999.0,9, -999.000,9, -999.000,9,      148
  06M220140507, MSM38,   433, 81,     10,2,20140529,0146, 48.3435, -44.8530,  646,    398.7,   3.9205,  34.8291,2,    286.0,2,    286.6,6, -999.000,9, -999.000,9,      150
  06M220140507, MSM38,   433, 81,     11,2,20140529,0146, 48.3435, -44.8530,  646,    397.4,   3.9201,  34.8295,2,    287.3,2,   -999.0,9, -999.000,9, -999.000,9,      150
  06M220140507, MSM38,   433, 81,     12,2,20140529,0146, 48.3435, -44.8530,  646,    299.3,   3.1951,  34.7009,2,    301.9,2,   -999.0,9, -999.000,9, -999.000,9,      151
  06M220140507, MSM38,   433, 81,     13,2,20140529,0146, 48.3435, -44.8530,  646,    297.7,   3.1999,  34.7009,2,    302.0,2,   -999.0,9, -999.000,9, -999.000,9,      151
  06M220140507, MSM38,   433, 81,     14,2,20140529,0146, 48.3435, -44.8530,  646,    201.5,   2.9531,  34.6339,2,    303.7,2,   -999.0,9, -999.000,9, -999.000,9,      152
  06M220140507, MSM38,   433, 81,     15,2,20140529,0146, 48.3435, -44.8530,  646,    200.8,   2.9428,  34.6324,2,    303.9,2,   -999.0,9, -999.000,9, -999.000,9,      152
  06M220140507, MSM38,   433, 81,     16,2,20140529,0146, 48.3435, -44.8530,  646,     12.0,   3.2179,  33.9450,2,    381.0,2,   -999.0,9, -999.000,9, -999.000,9,      157
  06M220140507, MSM38,   433, 81,     17,2,20140529,0146, 48.3435, -44.8530,  646,     11.9,   3.3751,  33.8804,2,    383.3,2,   -999.0,9, -999.000,9, -999.000,9,      157
  06M220140507, MSM38,   433, 81,     18,2,20140529,0146, 48.3435, -44.8530,  646,     12.3,   3.0278,  33.9309,2,    384.1,2,   -999.0,9, -999.000,9, -999.000,9,      157
  06M220140507, MSM38,   433, 81,     19,2,20140529,0146, 48.3435, -44.8530,  646,     13.0,   2.8058,  33.9593,2,    378.2,2,   -999.0,9, -999.000,9, -999.000,9,      157
  06M220140507, MSM38,   433, 81,     20,2,20140529,0146, 48.3435, -44.8530,  646,     13.3,   2.6623,  33.9720,2,    381.6,2,   -999.0,9, -999.000,9, -999.000,9,      157
  06M220140507, MSM38,   433, 81,     21,2,20140529,0146, 48.3435, -44.8530,  646,     13.1,   2.8068,  33.9619,2,    380.5,2,    368.9,2, -999.000,9, -999.000,9,      157
  06M220140507, MSM38,   433, 81,     22,2,20140529,0146, 48.3435, -44.8530,  646,     12.1,   3.9539,  33.7950,2,    371.8,2,   -999.0,9, -999.000,9, -999.000,9,      157
  06M220140507, MSM38,   434, 82,      1,2,20140529,0321, 48.4682, -44.7743,  847,    846.5,   3.6680,  34.9165,2,    272.7,2,   -999.0,9, -999.000,9, -999.000,9,      321
  06M220140507, MSM38,   434, 82,      2,2,20140529,0321, 48.4682, -44.7743,  847,    845.9,   3.6678,  34.9165,2,    272.8,2,    272.8,2, -999.000,9, -999.000,9,      321
  06M220140507, MSM38,   434, 82,      3,2,20140529,0321, 48.4682, -44.7743,  847,    846.1,   3.6678,  34.9165,2,    272.6,2,   -999.0,9, -999.000,9, -999.000,9,      321
  06M220140507, MSM38,   434, 82,      4,2,20140529,0321, 48.4682, -44.7743,  847,    846.8,   3.6670,  34.9166,2,    272.9,2,   -999.0,9, -999.000,9, -999.000,9,      321
  06M220140507, MSM38,   434, 82,      5,2,20140529,0321, 48.4682, -44.7743,  847,    698.0,   3.8354,  34.8833,2,    284.6,2,   -999.0,9, -999.000,9, -999.000,9,      323
  06M220140507, MSM38,   434, 82,      6,2,20140529,0321, 48.4682, -44.7743,  847,    697.4,   3.8358,  34.8837,2,    284.5,2,   -999.0,9, -999.000,9, -999.000,9,      323
  06M220140507, MSM38,   434, 82,      7,2,20140529,0321, 48.4682, -44.7743,  847,    597.5,   3.8685,  34.8768,2,    285.5,2,   -999.0,9, -999.000,9, -999.000,9,      325
  06M220140507, MSM38,   434, 82,      8,2,20140529,0321, 48.4682, -44.7743,  847,    596.6,   3.8695,  34.8771,2,    285.5,2,   -999.0,9, -999.000,9, -999.000,9,      325
  06M220140507, MSM38,   434, 82,      9,2,20140529,0321, 48.4682, -44.7743,  847,    499.4,   4.0676,  34.8972,2,    280.2,2,   -999.0,9, -999.000,9, -999.000,9,      326
  06M220140507, MSM38,   434, 82,     10,2,20140529,0321, 48.4682, -44.7743,  847,    497.6,   4.0614,  34.8955,2,    280.2,2,    279.6,2, -999.000,9, -999.000,9,      326
  06M220140507, MSM38,   434, 82,     11,2,20140529,0321, 48.4682, -44.7743,  847,    400.0,   3.9331,  34.8597,2,    285.9,2,   -999.0,9, -999.000,9, -999.000,9,      328
  06M220140507, MSM38,   434, 82,     12,2,20140529,0321, 48.4682, -44.7743,  847,    398.1,   3.9379,  34.8601,2,    286.2,2,   -999.0,9, -999.000,9, -999.000,9,      328
  06M220140507, MSM38,   434, 82,     13,2,20140529,0321, 48.4682, -44.7743,  847,    300.1,   4.0126,  34.8481,2,    281.5,2,   -999.0,9, -999.000,9, -999.000,9,      329
  06M220140507, MSM38,   434, 82,     14,2,20140529,0321, 48.4682, -44.7743,  847,    296.7,   4.0950,  34.8554,2,    277.5,2,   -999.0,9, -999.000,9, -999.000,9,      329
  06M220140507, MSM38,   434, 82,     15,2,20140529,0321, 48.4682, -44.7743,  847,    199.9,   3.5770,  34.7362,2,    289.9,2,   -999.0,9, -999.000,9, -999.000,9,      330
  06M220140507, MSM38,   434, 82,     16,2,20140529,0321, 48.4682, -44.7743,  847,    197.9,   3.6097,  34.7362,2,    291.4,2,   -999.0,9, -999.000,9, -999.000,9,      330
  06M220140507, MSM38,   434, 82,     17,2,20140529,0321, 48.4682, -44.7743,  847,     98.0,   3.6121,  34.6049,2,    300.1,2,   -999.0,9, -999.000,9, -999.000,9,      332
  06M220140507, MSM38,   434, 82,     18,2,20140529,0321, 48.4682, -44.7743,  847,     96.6,   3.6028,  34.6051,2,    301.6,2,   -999.0,9, -999.000,9, -999.000,9,      332
  06M220140507, MSM38,   434, 82,     19,2,20140529,0321, 48.4682, -44.7743,  847,     13.0,   4.8438,  34.0491,2,    370.3,2,   -999.0,9, -999.000,9, -999.000,9,      335
  06M220140507, MSM38,   434, 82,     20,2,20140529,0321, 48.4682, -44.7743,  847,     13.7,   4.7799,  34.0730,2,    368.5,2,   -999.0,9, -999.000,9, -999.000,9,      336
  06M220140507, MSM38,   434, 82,     21,2,20140529,0321, 48.4682, -44.7743,  847,     14.1,   4.5635,  34.1451,2,    373.6,2,    365.9,2, -999.000,9, -999.000,9,      336
  06M220140507, MSM38,   434, 82,     22,2,20140529,0321, 48.4682, -44.7743,  847,     13.6,   4.6411,  34.1309,2,    381.2,2,   -999.0,9, -999.000,9, -999.000,9,      336
  06M220140507, MSM38,   435, 83,      1,2,20140529,0510, 48.5920, -44.6955, 1155,   1156.2,   3.6772,  34.9214,2,    270.5,2,    271.5,2, -999.000,9, -999.000,9,      510
  06M220140507, MSM38,   435, 83,      2,2,20140529,0510, 48.5920, -44.6955, 1155,   1157.6,   3.6755,  34.9216,2,    271.2,2,   -999.0,9, -999.000,9, -999.000,9,      510
  06M220140507, MSM38,   435, 83,      3,2,20140529,0510, 48.5920, -44.6955, 1155,   1157.6,   3.6763,  34.9214,2,    271.2,2,   -999.0,9, -999.000,9, -999.000,9,      510
  06M220140507, MSM38,   435, 83,      4,2,20140529,0510, 48.5920, -44.6955, 1155,   1156.7,   3.6769,  34.9215,2,    270.7,2,   -999.0,9, -999.000,9, -999.000,9,      510
  06M220140507, MSM38,   435, 83,      5,2,20140529,0510, 48.5920, -44.6955, 1155,    997.7,   3.7864,  34.9067,2,    276.5,2,   -999.0,9, -999.000,9, -999.000,9,      513
  06M220140507, MSM38,   435, 83,      6,2,20140529,0510, 48.5920, -44.6955, 1155,    995.6,   3.7865,  34.9066,2,    277.1,2,   -999.0,9, -999.000,9, -999.000,9,      513
  06M220140507, MSM38,   435, 83,      7,2,20140529,0510, 48.5920, -44.6955, 1155,    899.9,   3.8004,  34.8975,2,    279.8,2,    280.5,6, -999.000,9, -999.000,9,      514
  06M220140507, MSM38,   435, 83,      8,2,20140529,0510, 48.5920, -44.6955, 1155,    897.6,   3.8021,  34.8973,2,    280.5,2,   -999.0,9, -999.000,9, -999.000,9,      514
  06M220140507, MSM38,   435, 83,      9,2,20140529,0510, 48.5920, -44.6955, 1155,    799.6,   3.8210,  34.8921,2,    282.5,2,   -999.0,9, -999.000,9, -999.000,9,      515
  06M220140507, MSM38,   435, 83,     10,2,20140529,0510, 48.5920, -44.6955, 1155,    799.2,   3.8210,  34.8918,2,    282.5,2,   -999.0,9, -999.000,9, -999.000,9,      516
  06M220140507, MSM38,   435, 83,     11,2,20140529,0510, 48.5920, -44.6955, 1155,    699.1,   3.8314,  34.8850,2,    284.6,2,   -999.0,9, -999.000,9, -999.000,9,      517
  06M220140507, MSM38,   435, 83,     12,2,20140529,0510, 48.5920, -44.6955, 1155,    696.7,   3.8308,  34.8851,2,    284.6,2,   -999.0,9, -999.000,9, -999.000,9,      517
  06M220140507, MSM38,   435, 83,     13,2,20140529,0510, 48.5920, -44.6955, 1155,    600.9,   4.0071,  34.9037,2,    277.5,2,   -999.0,9, -999.000,9, -999.000,9,      518
  06M220140507, MSM38,   435, 83,     14,2,20140529,0510, 48.5920, -44.6955, 1155,    598.9,   4.0191,  34.9051,2,    276.6,2,   -999.0,9, -999.000,9, -999.000,9,      518
  06M220140507, MSM38,   435, 83,     15,2,20140529,0510, 48.5920, -44.6955, 1155,    497.9,   4.2202,  34.9215,2,    271.4,2,   -999.0,9, -999.000,9, -999.000,9,      520
  06M220140507, MSM38,   435, 83,     16,2,20140529,0510, 48.5920, -44.6955, 1155,    496.4,   4.2163,  34.9217,2,    271.6,2,   -999.0,9, -999.000,9, -999.000,9,      520
  06M220140507, MSM38,   435, 83,     17,2,20140529,0510, 48.5920, -44.6955, 1155,    398.3,   4.0726,  34.8894,2,    278.9,2,   -999.0,9, -999.000,9, -999.000,9,      521
  06M220140507, MSM38,   435, 83,     18,2,20140529,0510, 48.5920, -44.6955, 1155,    300.0,   3.8192,  34.8397,2,    288.0,2,   -999.0,9, -999.000,9, -999.000,9,      523
  06M220140507, MSM38,   435, 83,     19,2,20140529,0510, 48.5920, -44.6955, 1155,    200.9,   3.6880,  34.7957,2,    289.3,2,   -999.0,9, -999.000,9, -999.000,9,      524
  06M220140507, MSM38,   435, 83,     20,2,20140529,0510, 48.5920, -44.6955, 1155,     95.7,   3.4197,  34.6630,2,    295.9,2,   -999.0,9, -999.000,9, -999.000,9,      526
  06M220140507, MSM38,   435, 83,     21,2,20140529,0510, 48.5920, -44.6955, 1155,     14.6,   4.8789,  34.4967,2,    382.6,2,    380.7,2, -999.000,9, -999.000,9,      528
  06M220140507, MSM38,   435, 83,     22,2,20140529,0510, 48.5920, -44.6955, 1155,     14.5,   5.1344,  34.4614,2,    372.4,2,   -999.0,9, -999.000,9, -999.000,9,      528
  06M220140507, MSM38,   436, 84,      1,2,20140529,0701, 48.7172, -44.6170, 1458,   1464.8,   3.6334,  34.9244,2,    271.1,2,   -999.0,9, -999.000,9, -999.000,9,      701
  06M220140507, MSM38,   436, 84,      2,2,20140529,0701, 48.7172, -44.6170, 1458,   1463.6,   3.6396,  34.9239,2,    271.8,2,    272.9,2, -999.000,9, -999.000,9,      701
  06M220140507, MSM38,   436, 84,      3,2,20140529,0701, 48.7172, -44.6170, 1458,   1298.6,   3.7195,  34.9197,2,    272.5,2,   -999.0,9, -999.000,9, -999.000,9,      703
  06M220140507, MSM38,   436, 84,      4,2,20140529,0701, 48.7172, -44.6170, 1458,   1295.8,   3.7231,  34.9196,2,    273.0,2,   -999.0,9, -999.000,9, -999.000,9,      703
  06M220140507, MSM38,   436, 84,      5,2,20140529,0701, 48.7172, -44.6170, 1458,   1103.1,   3.7855,  34.9083,2,    277.3,2,    277.1,2, -999.000,9, -999.000,9,      706
  06M220140507, MSM38,   436, 84,      6,2,20140529,0701, 48.7172, -44.6170, 1458,   1095.2,   3.7889,  34.9067,2,    276.7,2,   -999.0,9, -999.000,9, -999.000,9,      706
  06M220140507, MSM38,   436, 84,      7,2,20140529,0701, 48.7172, -44.6170, 1458,    897.4,   3.8010,  34.8866,2,    284.2,2,    283.8,2, -999.000,9, -999.000,9,      709
  06M220140507, MSM38,   436, 84,      8,2,20140529,0701, 48.7172, -44.6170, 1458,    897.5,   3.8017,  34.8866,2,    284.2,2,   -999.0,9, -999.000,9, -999.000,9,      709
  06M220140507, MSM38,   436, 84,      9,2,20140529,0701, 48.7172, -44.6170, 1458,    700.9,   3.7315,  34.8606,2,    287.1,2,   -999.0,9, -999.000,9, -999.000,9,      712
  06M220140507, MSM38,   436, 84,     10,2,20140529,0701, 48.7172, -44.6170, 1458,    697.6,   3.7309,  34.8603,2,    288.3,2,   -999.0,9, -999.000,9, -999.000,9,      712
  06M220140507, MSM38,   436, 84,     11,2,20140529,0701, 48.7172, -44.6170, 1458,    499.6,   3.7719,  34.8536,2,    289.3,2,   -999.0,9, -999.000,9, -999.000,9,      714
  06M220140507, MSM38,   436, 84,     12,2,20140529,0701, 48.7172, -44.6170, 1458,    499.5,   3.7721,  34.8536,2,    289.3,2,   -999.0,9, -999.000,9, -999.000,9,      714
  06M220140507, MSM38,   436, 84,     13,2,20140529,0701, 48.7172, -44.6170, 1458,    297.8,   3.7613,  34.8215,2,    289.8,2,   -999.0,9, -999.000,9, -999.000,9,      717
  06M220140507, MSM38,   436, 84,     14,2,20140529,0701, 48.7172, -44.6170, 1458,    295.1,   3.7519,  34.8188,2,    291.0,2,   -999.0,9, -999.000,9, -999.000,9,      717
  06M220140507, MSM38,   436, 84,     15,2,20140529,0701, 48.7172, -44.6170, 1458,    100.1,   3.7164,  34.6308,2,    299.5,2,   -999.0,9, -999.000,9, -999.000,9,      720
  06M220140507, MSM38,   436, 84,     16,2,20140529,0701, 48.7172, -44.6170, 1458,     98.8,   3.7272,  34.6296,2,    298.9,2,   -999.0,9, -999.000,9, -999.000,9,      720
  06M220140507, MSM38,   436, 84,     17,2,20140529,0701, 48.7172, -44.6170, 1458,     14.7,   6.0551,  34.2870,2,    344.3,2,    350.7,2, -999.000,9, -999.000,9,      723
  06M220140507, MSM38,   436, 84,     18,2,20140529,0701, 48.7172, -44.6170, 1458,     15.2,   6.0653,  34.2866,2,    345.2,2,   -999.0,9, -999.000,9, -999.000,9,      724
  06M220140507, MSM38,   436, 84,     19,2,20140529,0701, 48.7172, -44.6170, 1458,     15.0,   6.0648,  34.2871,2,    343.1,2,   -999.0,9, -999.000,9, -999.000,9,      724
  06M220140507, MSM38,   436, 84,     20,2,20140529,0701, 48.7172, -44.6170, 1458,     14.7,   5.9828,  34.2942,2,    343.7,2,   -999.0,9, -999.000,9, -999.000,9,      724
  06M220140507, MSM38,   436, 84,     21,2,20140529,0701, 48.7172, -44.6170, 1458,     14.6,   5.9433,  34.3069,2,    343.7,2,   -999.0,9, -999.000,9, -999.000,9,      724
  06M220140507, MSM38,   436, 84,     22,2,20140529,0701, 48.7172, -44.6170, 1458,     14.5,   6.0563,  34.2894,2,    344.3,2,   -999.0,9, -999.000,9, -999.000,9,      724
  06M220140507, MSM38,   437, 85,      1,2,20140529,0902, 48.8413, -44.5378, 1599,   1605.9,   3.3542,  34.9239,2,    272.6,2,    273.3,2, -999.000,9, -999.000,9,      902
  06M220140507, MSM38,   437, 85,      2,2,20140529,0902, 48.8413, -44.5378, 1599,   1605.4,   3.3546,  34.9237,2,    272.8,2,   -999.0,9, -999.000,9, -999.000,9,      902
  06M220140507, MSM38,   437, 85,      3,2,20140529,0902, 48.8413, -44.5378, 1599,   1604.1,   3.3546,  34.9239,2,    272.9,2,   -999.0,9, -999.000,9, -999.000,9,      903
  06M220140507, MSM38,   437, 85,      4,2,20140529,0902, 48.8413, -44.5378, 1599,   1498.4,   3.4685,  34.9246,2,    272.9,2,   -999.0,9, -999.000,9, -999.000,9,      904
  06M220140507, MSM38,   437, 85,      5,2,20140529,0902, 48.8413, -44.5378, 1599,   1495.3,   3.4719,  34.9246,2,    272.9,2,   -999.0,9, -999.000,9, -999.000,9,      904
  06M220140507, MSM38,   437, 85,      6,2,20140529,0902, 48.8413, -44.5378, 1599,   1300.2,   3.6750,  34.9235,2,    272.0,2,   -999.0,9, -999.000,9, -999.000,9,      907
  06M220140507, MSM38,   437, 85,      7,2,20140529,0902, 48.8413, -44.5378, 1599,   1298.9,   3.6742,  34.9237,2,    272.5,2,   -999.0,9, -999.000,9, -999.000,9,      907
  06M220140507, MSM38,   437, 85,      8,2,20140529,0902, 48.8413, -44.5378, 1599,   1100.4,   3.7909,  34.9066,2,    276.6,2,   -999.0,9, -999.000,9, -999.000,9,      910
  06M220140507, MSM38,   437, 85,      9,2,20140529,0902, 48.8413, -44.5378, 1599,   1098.4,   3.7912,  34.9063,2,    276.8,2,   -999.0,9, -999.000,9, -999.000,9,      910
  06M220140507, MSM38,   437, 85,     10,2,20140529,0902, 48.8413, -44.5378, 1599,    898.7,   3.8045,  34.8875,2,    283.2,2,   -999.0,9, -999.000,9, -999.000,9,      912
  06M220140507, MSM38,   437, 85,     11,2,20140529,0902, 48.8413, -44.5378, 1599,    896.6,   3.8048,  34.8874,2,    283.2,2,    283.4,6, -999.000,9, -999.000,9,      912
  06M220140507, MSM38,   437, 85,     12,2,20140529,0902, 48.8413, -44.5378, 1599,    697.9,   3.6990,  34.8577,2,    288.7,2,   -999.0,9, -999.000,9, -999.000,9,      915
  06M220140507, MSM38,   437, 85,     13,2,20140529,0902, 48.8413, -44.5378, 1599,    695.6,   3.7026,  34.8578,2,    288.9,2,   -999.0,9, -999.000,9, -999.000,9,      915
  06M220140507, MSM38,   437, 85,     14,2,20140529,0902, 48.8413, -44.5378, 1599,    499.3,   3.7374,  34.8476,2,    290.0,2,   -999.0,9, -999.000,9, -999.000,9,      918
  06M220140507, MSM38,   437, 85,     15,2,20140529,0902, 48.8413, -44.5378, 1599,    498.6,   3.7371,  34.8476,2,    290.0,2,   -999.0,9, -999.000,9, -999.000,9,      918
  06M220140507, MSM38,   437, 85,     16,2,20140529,0902, 48.8413, -44.5378, 1599,    300.6,   3.7045,  34.7996,2,    290.3,2,   -999.0,9, -999.000,9, -999.000,9,      920
  06M220140507, MSM38,   437, 85,     17,2,20140529,0902, 48.8413, -44.5378, 1599,    299.5,   3.7016,  34.7988,2,    291.2,2,   -999.0,9, -999.000,9, -999.000,9,      920
  06M220140507, MSM38,   437, 85,     18,2,20140529,0902, 48.8413, -44.5378, 1599,     98.0,   2.8996,  34.5183,2,    295.6,2,   -999.0,9, -999.000,9, -999.000,9,      923
  06M220140507, MSM38,   437, 85,     19,2,20140529,0902, 48.8413, -44.5378, 1599,     95.6,   2.9022,  34.5147,2,    295.4,2,   -999.0,9, -999.000,9, -999.000,9,      923
  06M220140507, MSM38,   437, 85,     20,2,20140529,0902, 48.8413, -44.5378, 1599,     13.4,   2.8619,  33.9892,2,    386.3,2,   -999.0,9, -999.000,9, -999.000,9,      926
  06M220140507, MSM38,   437, 85,     21,2,20140529,0902, 48.8413, -44.5378, 1599,     14.1,   3.2236,  33.9400,2,    385.1,2,   -999.0,9, -999.000,9, -999.000,9,      926
  06M220140507, MSM38,   437, 85,     22,2,20140529,0902, 48.8413, -44.5378, 1599,     13.9,   3.2550,  33.9424,2,    389.2,2,    384.8,2, -999.000,9, -999.000,9,      926