BOTTLE,20200319PRINUNIVRMK
EXPOCODE,SECT_ID,STNNBR,CASTNO,BTLNBR,BTLNBR_FLAG_W,DATE,TIME,LATITUDE,LONGITUDE,DEPTH,CTDPRS,CTDTMP,CTDSAL,CTDSAL_FLAG_W,CTDOXY,CTDOXY_FLAG_W,OXYGEN,OXYGEN_FLAG_W,CFC-11,CFC-11_FLAG_W,CFC-12,CFC-12_FLAG_W,BTL_TIME
,,,,,,,,,,METERS,DBAR,ITS-90,PSS-78,,UMOL/KG,,UMOL/KG,,PMOL/KG,,PMOL/KG,,
  06M220140507, MSM38,   375, 24,      1,2,20140520,0653, 46.4647, -29.8330, 3095,   3142.1,   2.8400,  34.9163,2,    273.9,2,    272.5,6, -999.000,9, -999.000,9,      653
  06M220140507, MSM38,   375, 24,      2,2,20140520,0653, 46.4647, -29.8330, 3095,   3141.4,   2.8397,  34.9163,2,    274.0,2,   -999.0,9, -999.000,9, -999.000,9,      653
  06M220140507, MSM38,   375, 24,      3,2,20140520,0653, 46.4647, -29.8330, 3095,   2997.4,   2.9276,  34.9171,2,    273.5,2,   -999.0,9, -999.000,9, -999.000,9,      655
  06M220140507, MSM38,   375, 24,      4,2,20140520,0653, 46.4647, -29.8330, 3095,   2798.2,   3.0969,  34.9186,2,    273.0,2,   -999.0,9, -999.000,9, -999.000,9,      658
  06M220140507, MSM38,   375, 24,      5,2,20140520,0653, 46.4647, -29.8330, 3095,   2598.1,   3.2474,  34.9178,2,    273.4,2,   -999.0,9, -999.000,9, -999.000,9,      701
  06M220140507, MSM38,   375, 24,      6,2,20140520,0653, 46.4647, -29.8330, 3095,   2397.8,   3.4097,  34.9178,2,    272.9,2,   -999.0,9, -999.000,9, -999.000,9,      703
  06M220140507, MSM38,   375, 24,      7,2,20140520,0653, 46.4647, -29.8330, 3095,   2198.1,   3.5619,  34.9229,2,    271.7,2,   -999.0,9, -999.000,9, -999.000,9,      706
  06M220140507, MSM38,   375, 24,      8,2,20140520,0653, 46.4647, -29.8330, 3095,   2024.6,   3.6783,  34.9245,2,    270.7,2,   -999.0,9, -999.000,9, -999.000,9,      709
  06M220140507, MSM38,   375, 24,      9,2,20140520,0653, 46.4647, -29.8330, 3095,   1799.2,   3.8842,  34.9280,2,    270.2,2,   -999.0,9, -999.000,9, -999.000,9,      712
  06M220140507, MSM38,   375, 24,     10,2,20140520,0653, 46.4647, -29.8330, 3095,   1598.6,   4.0560,  34.9280,2,    271.2,2,   -999.0,9, -999.000,9, -999.000,9,      715
  06M220140507, MSM38,   375, 24,     11,2,20140520,0653, 46.4647, -29.8330, 3095,   1397.8,   4.3190,  34.9422,2,    268.3,2,   -999.0,9, -999.000,9, -999.000,9,      717
  06M220140507, MSM38,   375, 24,     12,2,20140520,0653, 46.4647, -29.8330, 3095,   1197.6,   4.8394,  34.9850,2,    254.5,2,    254.9,2, -999.000,9, -999.000,9,      720
  06M220140507, MSM38,   375, 24,     13,2,20140520,0653, 46.4647, -29.8330, 3095,    998.1,   5.5498,  35.0171,2,    235.2,2,   -999.0,9, -999.000,9, -999.000,9,      723
  06M220140507, MSM38,   375, 24,     14,2,20140520,0653, 46.4647, -29.8330, 3095,    797.4,   7.4802,  35.0460,2,    197.7,2,   -999.0,9, -999.000,9, -999.000,9,      726
  06M220140507, MSM38,   375, 24,     15,2,20140520,0653, 46.4647, -29.8330, 3095,    595.4,  10.0515,  35.3049,2,    215.6,2,   -999.0,9, -999.000,9, -999.000,9,      728
  06M220140507, MSM38,   375, 24,     16,2,20140520,0653, 46.4647, -29.8330, 3095,    397.9,  11.3379,  35.4957,2,    245.1,2,    238.0,2, -999.000,9, -999.000,9,      731
  06M220140507, MSM38,   375, 24,     17,2,20140520,0653, 46.4647, -29.8330, 3095,    199.2,  12.1080,  35.6313,2,    246.4,2,   -999.0,9, -999.000,9, -999.000,9,      734
  06M220140507, MSM38,   375, 24,     18,2,20140520,0653, 46.4647, -29.8330, 3095,     97.6,  12.8362,  35.7105,2,    256.4,2,   -999.0,9, -999.000,9, -999.000,9,      735
  06M220140507, MSM38,   375, 24,     19,2,20140520,0653, 46.4647, -29.8330, 3095,     14.7,  13.3815,  35.7364,2,    268.7,2,    267.3,2, -999.000,9, -999.000,9,      738
  06M220140507, MSM38,   375, 24,     20,2,20140520,0653, 46.4647, -29.8330, 3095,     14.5,  13.3814,  35.7364,2,    268.9,2,   -999.0,9, -999.000,9, -999.000,9,      739
  06M220140507, MSM38,   375, 24,     21,2,20140520,0653, 46.4647, -29.8330, 3095,     14.0,  13.3786,  35.7366,2,    268.9,2,   -999.0,9, -999.000,9, -999.000,9,      739
  06M220140507, MSM38,   375, 24,     22,2,20140520,0653, 46.4647, -29.8330, 3095,     14.3,  13.3798,  35.7366,2,    268.7,2,   -999.0,9, -999.000,9, -999.000,9,      739
  06M220140507, MSM38,   376, 25,      1,2,20140520,1126, 46.0620, -29.4103, 2827,   2837.1,   2.9625,  34.9173,2,    273.7,2,    274.7,2, -999.000,9, -999.000,9,     1126
  06M220140507, MSM38,   376, 25,      2,2,20140520,1126, 46.0620, -29.4103, 2827,   2837.8,   2.9615,  34.9173,2,    274.2,2,   -999.0,9, -999.000,9, -999.000,9,     1126
  06M220140507, MSM38,   376, 25,      3,2,20140520,1126, 46.0620, -29.4103, 2827,   2697.8,   3.0893,  34.9173,2,    274.0,2,   -999.0,9, -999.000,9, -999.000,9,     1130
  06M220140507, MSM38,   376, 25,      4,2,20140520,1126, 46.0620, -29.4103, 2827,   2498.4,   3.2753,  34.9168,2,    273.6,2,   -999.0,9, -999.000,9, -999.000,9,     1132
  06M220140507, MSM38,   376, 25,      5,2,20140520,1126, 46.0620, -29.4103, 2827,   2297.8,   3.4446,  34.9188,2,    271.8,2,   -999.0,9, -999.000,9, -999.000,9,     1135
  06M220140507, MSM38,   376, 25,      6,2,20140520,1126, 46.0620, -29.4103, 2827,   2097.3,   3.5767,  34.9235,2,    270.8,2,   -999.0,9, -999.000,9, -999.000,9,     1138
  06M220140507, MSM38,   376, 25,      7,2,20140520,1126, 46.0620, -29.4103, 2827,   1898.9,   3.7582,  34.9297,2,    269.1,2,   -999.0,9, -999.000,9, -999.000,9,     1140
  06M220140507, MSM38,   376, 25,      8,2,20140520,1126, 46.0620, -29.4103, 2827,   1698.4,   3.9121,  34.9315,2,    269.8,2,   -999.0,9, -999.000,9, -999.000,9,     1143
  06M220140507, MSM38,   376, 25,      9,2,20140520,1126, 46.0620, -29.4103, 2827,   1497.4,   4.1013,  34.9355,2,    269.7,2,    271.2,2, -999.000,9, -999.000,9,     1146
  06M220140507, MSM38,   376, 25,     10,2,20140520,1126, 46.0620, -29.4103, 2827,   1298.2,   4.3882,  34.9555,2,    265.2,2,   -999.0,9, -999.000,9, -999.000,9,     1148
  06M220140507, MSM38,   376, 25,     11,2,20140520,1126, 46.0620, -29.4103, 2827,   1099.1,   5.0069,  34.9920,2,    250.9,2,   -999.0,9, -999.000,9, -999.000,9,     1151
  06M220140507, MSM38,   376, 25,     12,2,20140520,1126, 46.0620, -29.4103, 2827,   1092.7,   5.0481,  34.9941,2,    249.9,2,   -999.0,9, -999.000,9, -999.000,9,     1151
  06M220140507, MSM38,   376, 25,     13,2,20140520,1126, 46.0620, -29.4103, 2827,    899.5,   6.2458,  35.0552,2,    218.5,2,   -999.0,9, -999.000,9, -999.000,9,     1154
  06M220140507, MSM38,   376, 25,     14,2,20140520,1126, 46.0620, -29.4103, 2827,    896.7,   6.2442,  35.0549,2,    218.5,2,   -999.0,9, -999.000,9, -999.000,9,     1154
  06M220140507, MSM38,   376, 25,     15,2,20140520,1126, 46.0620, -29.4103, 2827,    699.5,   8.1442,  35.1134,2,    193.1,2,   -999.0,9, -999.000,9, -999.000,9,     1156
  06M220140507, MSM38,   376, 25,     16,2,20140520,1126, 46.0620, -29.4103, 2827,    697.4,   8.1774,  35.1189,2,    191.6,2,   -999.0,9, -999.000,9, -999.000,9,     1156
  06M220140507, MSM38,   376, 25,     17,2,20140520,1126, 46.0620, -29.4103, 2827,    499.9,  10.8901,  35.4398,2,    237.5,2,   -999.0,9, -999.000,9, -999.000,9,     1159
  06M220140507, MSM38,   376, 25,     18,2,20140520,1126, 46.0620, -29.4103, 2827,    480.1,  11.0731,  35.4729,2,    246.6,2,   -999.0,9, -999.000,9, -999.000,9,     1159
  06M220140507, MSM38,   376, 25,     19,2,20140520,1126, 46.0620, -29.4103, 2827,    297.7,  11.8101,  35.5841,2,    249.2,2,   -999.0,9, -999.000,9, -999.000,9,     1202
  06M220140507, MSM38,   376, 25,     20,2,20140520,1126, 46.0620, -29.4103, 2827,     93.0,  12.8131,  35.6826,2,    251.9,2,   -999.0,9, -999.000,9, -999.000,9,     1205
  06M220140507, MSM38,   376, 25,     21,2,20140520,1126, 46.0620, -29.4103, 2827,     14.2,  13.3163,  35.7077,2,    268.5,2,    269.2,2, -999.000,9, -999.000,9,     1208
  06M220140507, MSM38,   376, 25,     22,2,20140520,1126, 46.0620, -29.4103, 2827,     13.8,  13.3187,  35.7077,2,    268.3,2,   -999.0,9, -999.000,9, -999.000,9,     1208
  06M220140507, MSM38,   377, 26,      1,2,20140520,1636, 46.6052, -29.3485, 3277,   3321.3,   2.7391,  34.9164,2,    275.0,2,    275.0,2, -999.000,9, -999.000,9,     1636
  06M220140507, MSM38,   377, 26,      2,2,20140520,1636, 46.6052, -29.3485, 3277,   3320.6,   2.7390,  34.9163,2,    274.3,2,   -999.0,9, -999.000,9, -999.000,9,     1636
  06M220140507, MSM38,   377, 26,      3,2,20140520,1636, 46.6052, -29.3485, 3277,   3098.7,   2.9356,  34.9185,2,    273.0,2,   -999.0,9, -999.000,9, -999.000,9,     1639
  06M220140507, MSM38,   377, 26,      4,2,20140520,1636, 46.6052, -29.3485, 3277,   2898.7,   3.0552,  34.9206,2,    272.7,2,   -999.0,9, -999.000,9, -999.000,9,     1642
  06M220140507, MSM38,   377, 26,      5,2,20140520,1636, 46.6052, -29.3485, 3277,   2695.5,   3.2013,  34.9186,2,    273.1,2,   -999.0,9, -999.000,9, -999.000,9,     1645
  06M220140507, MSM38,   377, 26,      6,2,20140520,1636, 46.6052, -29.3485, 3277,   2498.3,   3.3263,  34.9182,2,    272.8,2,   -999.0,9, -999.000,9, -999.000,9,     1647
  06M220140507, MSM38,   377, 26,      7,2,20140520,1636, 46.6052, -29.3485, 3277,   2300.1,   3.4642,  34.9190,2,    272.4,2,   -999.0,9, -999.000,9, -999.000,9,     1650
  06M220140507, MSM38,   377, 26,      8,2,20140520,1636, 46.6052, -29.3485, 3277,   2098.2,   3.6244,  34.9237,2,    271.0,2,    271.5,6, -999.000,9, -999.000,9,     1653
  06M220140507, MSM38,   377, 26,      9,2,20140520,1636, 46.6052, -29.3485, 3277,   1898.4,   3.7796,  34.9285,2,    270.1,2,   -999.0,9, -999.000,9, -999.000,9,     1656
  06M220140507, MSM38,   377, 26,     10,2,20140520,1636, 46.6052, -29.3485, 3277,   1698.8,   3.9027,  34.9255,2,    271.5,2,   -999.0,9, -999.000,9, -999.000,9,     1658
  06M220140507, MSM38,   377, 26,     11,2,20140520,1636, 46.6052, -29.3485, 3277,   1498.7,   4.0925,  34.9306,2,    271.0,2,   -999.0,9, -999.000,9, -999.000,9,     1701
  06M220140507, MSM38,   377, 26,     12,2,20140520,1636, 46.6052, -29.3485, 3277,   1297.6,   4.3913,  34.9494,2,    266.7,2,   -999.0,9, -999.000,9, -999.000,9,     1704
  06M220140507, MSM38,   377, 26,     13,2,20140520,1636, 46.6052, -29.3485, 3277,   1097.9,   4.9175,  34.9890,2,    255.3,2,   -999.0,9, -999.000,9, -999.000,9,     1707
  06M220140507, MSM38,   377, 26,     14,2,20140520,1636, 46.6052, -29.3485, 3277,    898.9,   6.5226,  35.0915,2,    215.1,2,   -999.0,9, -999.000,9, -999.000,9,     1709
  06M220140507, MSM38,   377, 26,     15,2,20140520,1636, 46.6052, -29.3485, 3277,    697.1,   8.1798,  35.1336,2,    187.1,2,   -999.0,9, -999.000,9, -999.000,9,     1712
  06M220140507, MSM38,   377, 26,     16,2,20140520,1636, 46.6052, -29.3485, 3277,    498.0,  10.9418,  35.4503,2,    241.5,2,   -999.0,9, -999.000,9, -999.000,9,     1715
  06M220140507, MSM38,   377, 26,     17,2,20140520,1636, 46.6052, -29.3485, 3277,    297.4,  11.8936,  35.5962,2,    246.7,2,   -999.0,9, -999.000,9, -999.000,9,     1718
  06M220140507, MSM38,   377, 26,     18,2,20140520,1636, 46.6052, -29.3485, 3277,     97.2,  12.7925,  35.7109,2,    250.0,2,   -999.0,9, -999.000,9, -999.000,9,     1721
  06M220140507, MSM38,   377, 26,     19,2,20140520,1636, 46.6052, -29.3485, 3277,     14.1,  13.2782,  35.7261,2,    275.5,2,   -999.0,9, -999.000,9, -999.000,9,     1724
  06M220140507, MSM38,   377, 26,     20,2,20140520,1636, 46.6052, -29.3485, 3277,     13.7,  13.2872,  35.7259,2,    275.3,2,    275.9,2, -999.000,9, -999.000,9,     1724
  06M220140507, MSM38,   377, 26,     21,2,20140520,1636, 46.6052, -29.3485, 3277,     13.1,  13.2994,  35.7264,2,    275.4,2,   -999.0,9, -999.000,9, -999.000,9,     1724
  06M220140507, MSM38,   377, 26,     22,2,20140520,1636, 46.6052, -29.3485, 3277,     13.5,  13.2927,  35.7261,2,    275.8,2,   -999.0,9, -999.000,9, -999.000,9,     1724
  06M220140507, MSM38,   378, 27,      1,2,20140520,2143, 47.1437, -29.2940, 3113,   3154.1,   2.8037,  34.9187,2,    274.2,2,    276.3,2, -999.000,9, -999.000,9,     2143
  06M220140507, MSM38,   378, 27,      2,2,20140520,2143, 47.1437, -29.2940, 3113,   3155.4,   2.8025,  34.9189,2,    274.1,2,   -999.0,9, -999.000,9, -999.000,9,     2143
  06M220140507, MSM38,   378, 27,      3,2,20140520,2143, 47.1437, -29.2940, 3113,   3098.6,   2.8747,  34.9202,2,    273.7,2,   -999.0,9, -999.000,9, -999.000,9,     2144
  06M220140507, MSM38,   378, 27,      4,2,20140520,2143, 47.1437, -29.2940, 3113,   2897.3,   2.9733,  34.9207,2,    273.6,2,   -999.0,9, -999.000,9, -999.000,9,     2147
  06M220140507, MSM38,   378, 27,      5,2,20140520,2143, 47.1437, -29.2940, 3113,   2697.4,   3.1314,  34.9198,2,    273.0,2,   -999.0,9, -999.000,9, -999.000,9,     2150
  06M220140507, MSM38,   378, 27,      6,2,20140520,2143, 47.1437, -29.2940, 3113,   2499.4,   3.2521,  34.9188,2,    273.4,2,   -999.0,9, -999.000,9, -999.000,9,     2152
  06M220140507, MSM38,   378, 27,      7,2,20140520,2143, 47.1437, -29.2940, 3113,   2297.2,   3.3695,  34.9184,2,    273.2,2,   -999.0,9, -999.000,9, -999.000,9,     2155
  06M220140507, MSM38,   378, 27,      8,2,20140520,2143, 47.1437, -29.2940, 3113,   2098.7,   3.4947,  34.9211,2,    271.8,2,   -999.0,9, -999.000,9, -999.000,9,     2158
  06M220140507, MSM38,   378, 27,      9,2,20140520,2143, 47.1437, -29.2940, 3113,   1899.9,   3.6524,  34.9252,2,    270.7,2,   -999.0,9, -999.000,9, -999.000,9,     2201
  06M220140507, MSM38,   378, 27,     10,2,20140520,2143, 47.1437, -29.2940, 3113,   1695.4,   3.8398,  34.9266,2,    270.5,2,   -999.0,9, -999.000,9, -999.000,9,     2203
  06M220140507, MSM38,   378, 27,     11,2,20140520,2143, 47.1437, -29.2940, 3113,   1497.5,   3.9962,  34.9279,2,    272.2,2,   -999.0,9, -999.000,9, -999.000,9,     2206
  06M220140507, MSM38,   378, 27,     12,2,20140520,2143, 47.1437, -29.2940, 3113,   1296.1,   4.2770,  34.9382,2,    269.9,2,    272.8,2, -999.000,9, -999.000,9,     2209
  06M220140507, MSM38,   378, 27,     13,2,20140520,2143, 47.1437, -29.2940, 3113,   1097.5,   4.7630,  34.9784,2,    258.0,2,   -999.0,9, -999.000,9, -999.000,9,     2211
  06M220140507, MSM38,   378, 27,     14,2,20140520,2143, 47.1437, -29.2940, 3113,    900.1,   5.5630,  35.0252,2,    234.8,2,   -999.0,9, -999.000,9, -999.000,9,     2214
  06M220140507, MSM38,   378, 27,     15,2,20140520,2143, 47.1437, -29.2940, 3113,    698.1,   7.4043,  35.1157,2,    196.9,2,   -999.0,9, -999.000,9, -999.000,9,     2217
  06M220140507, MSM38,   378, 27,     16,2,20140520,2143, 47.1437, -29.2940, 3113,    497.8,  10.5341,  35.3803,2,    230.4,2,   -999.0,9, -999.000,9, -999.000,9,     2220
  06M220140507, MSM38,   378, 27,     17,2,20140520,2143, 47.1437, -29.2940, 3113,    297.3,  11.7861,  35.5831,2,    245.7,2,   -999.0,9, -999.000,9, -999.000,9,     2223
  06M220140507, MSM38,   378, 27,     18,2,20140520,2143, 47.1437, -29.2940, 3113,     98.5,  12.8647,  35.7097,2,    252.9,2,   -999.0,9, -999.000,9, -999.000,9,     2225
  06M220140507, MSM38,   378, 27,     19,2,20140520,2143, 47.1437, -29.2940, 3113,     15.6,  13.3881,  35.7275,2,    271.3,2,    272.9,6, -999.000,9, -999.000,9,     2229
  06M220140507, MSM38,   378, 27,     20,2,20140520,2143, 47.1437, -29.2940, 3113,     15.6,  13.3907,  35.7273,2,    271.1,2,   -999.0,9, -999.000,9, -999.000,9,     2229
  06M220140507, MSM38,   378, 27,     21,2,20140520,2143, 47.1437, -29.2940, 3113,     15.7,  13.3910,  35.7272,2,    271.4,2,   -999.0,9, -999.000,9, -999.000,9,     2229
  06M220140507, MSM38,   378, 27,     22,2,20140520,2143, 47.1437, -29.2940, 3113,     15.9,  13.3907,  35.7274,2,    271.3,2,   -999.0,9, -999.000,9, -999.000,9,     2229
  06M220140507, MSM38,   379, 28,      1,2,20140521,0233, 47.6567, -29.2397, 3351,   3401.9,   2.6178,  34.9142,2,    274.6,2,   -999.0,9, -999.000,9, -999.000,9,      233
  06M220140507, MSM38,   379, 28,      2,2,20140521,0233, 47.6567, -29.2397, 3351,   3401.2,   2.6182,  34.9142,2,    275.1,2,    275.2,2, -999.000,9, -999.000,9,      233
  06M220140507, MSM38,   379, 28,      3,2,20140521,0233, 47.6567, -29.2397, 3351,   3399.7,   2.6160,  34.9142,2,    275.2,2,   -999.0,9, -999.000,9, -999.000,9,      234
  06M220140507, MSM38,   379, 28,      4,2,20140521,0233, 47.6567, -29.2397, 3351,   3198.3,   2.7028,  34.9170,2,    274.1,2,   -999.0,9, -999.000,9, -999.000,9,      237
  06M220140507, MSM38,   379, 28,      5,2,20140521,0233, 47.6567, -29.2397, 3351,   2999.6,   2.8078,  34.9177,2,    273.4,2,   -999.0,9, -999.000,9, -999.000,9,      239
  06M220140507, MSM38,   379, 28,      6,2,20140521,0233, 47.6567, -29.2397, 3351,   2797.9,   3.0146,  34.9203,2,    272.4,2,    272.7,6, -999.000,9, -999.000,9,      242
  06M220140507, MSM38,   379, 28,      7,2,20140521,0233, 47.6567, -29.2397, 3351,   2598.3,   3.1039,  34.9214,2,    272.0,2,   -999.0,9, -999.000,9, -999.000,9,      245
  06M220140507, MSM38,   379, 28,      8,2,20140521,0233, 47.6567, -29.2397, 3351,   2400.1,   3.2454,  34.9202,2,    271.9,2,   -999.0,9, -999.000,9, -999.000,9,      248
  06M220140507, MSM38,   379, 28,      9,2,20140521,0233, 47.6567, -29.2397, 3351,   2198.6,   3.3643,  34.9191,2,    272.2,2,   -999.0,9, -999.000,9, -999.000,9,      251
  06M220140507, MSM38,   379, 28,     10,2,20140521,0233, 47.6567, -29.2397, 3351,   1999.0,   3.4976,  34.9208,2,    271.8,2,   -999.0,9, -999.000,9, -999.000,9,      254
  06M220140507, MSM38,   379, 28,     11,2,20140521,0233, 47.6567, -29.2397, 3351,   1799.4,   3.6486,  34.9233,2,    270.8,2,   -999.0,9, -999.000,9, -999.000,9,      256
  06M220140507, MSM38,   379, 28,     12,2,20140521,0233, 47.6567, -29.2397, 3351,   1600.5,   3.8350,  34.9262,2,    270.5,2,   -999.0,9, -999.000,9, -999.000,9,      259
  06M220140507, MSM38,   379, 28,     13,2,20140521,0233, 47.6567, -29.2397, 3351,   1398.8,   4.0136,  34.9307,2,    269.6,2,    270.7,2, -999.000,9, -999.000,9,      302
  06M220140507, MSM38,   379, 28,     14,2,20140521,0233, 47.6567, -29.2397, 3351,   1199.6,   4.1617,  34.9329,2,    269.0,2,   -999.0,9, -999.000,9, -999.000,9,      305
  06M220140507, MSM38,   379, 28,     15,2,20140521,0233, 47.6567, -29.2397, 3351,    999.4,   4.5301,  34.9572,2,    262.8,2,   -999.0,9, -999.000,9, -999.000,9,      308
  06M220140507, MSM38,   379, 28,     16,2,20140521,0233, 47.6567, -29.2397, 3351,    797.6,   5.5900,  35.0345,2,    235.7,2,   -999.0,9, -999.000,9, -999.000,9,      311
  06M220140507, MSM38,   379, 28,     17,2,20140521,0233, 47.6567, -29.2397, 3351,    598.9,   6.8805,  35.0729,2,    205.5,2,   -999.0,9, -999.000,9, -999.000,9,      314
  06M220140507, MSM38,   379, 28,     18,2,20140521,0233, 47.6567, -29.2397, 3351,    397.6,   8.7912,  35.1344,2,    232.3,2,   -999.0,9, -999.000,9, -999.000,9,      317
  06M220140507, MSM38,   379, 28,     19,2,20140521,0233, 47.6567, -29.2397, 3351,    199.2,  10.4978,  35.3738,2,    250.7,2,   -999.0,9, -999.000,9, -999.000,9,      320
  06M220140507, MSM38,   379, 28,     20,2,20140521,0233, 47.6567, -29.2397, 3351,     15.1,  12.0048,  35.4708,2,    276.2,2,    276.6,2, -999.000,9, -999.000,9,      324
  06M220140507, MSM38,   379, 28,     21,2,20140521,0233, 47.6567, -29.2397, 3351,     15.2,  12.0047,  35.4706,2,    276.1,2,   -999.0,9, -999.000,9, -999.000,9,      325
  06M220140507, MSM38,   379, 28,     22,2,20140521,0233, 47.6567, -29.2397, 3351,     15.0,  12.0034,  35.4707,2,    276.1,2,   -999.0,9, -999.000,9, -999.000,9,      325