BOTTLE,20200319PRINUNIVRMK
EXPOCODE,SECT_ID,STNNBR,CASTNO,BTLNBR,BTLNBR_FLAG_W,DATE,TIME,LATITUDE,LONGITUDE,DEPTH,CTDPRS,CTDTMP,CTDSAL,CTDSAL_FLAG_W,CTDOXY,CTDOXY_FLAG_W,OXYGEN,OXYGEN_FLAG_W,CFC-11,CFC-11_FLAG_W,CFC-12,CFC-12_FLAG_W,BTL_TIME
,,,,,,,,,,METERS,DBAR,ITS-90,PSS-78,,UMOL/KG,,UMOL/KG,,PMOL/KG,,PMOL/KG,,
  06M220140507, MSM38,   358,  9,      1,2,20140516,1627, 52.2425, -36.5017, 3635,   3657.8,   2.2764,  34.9029,2,    282.8,2,    279.2,3, -999.000,9, -999.000,9,     1627
  06M220140507, MSM38,   358,  9,      2,2,20140516,1627, 52.2425, -36.5017, 3635,   3656.5,   2.2767,  34.9030,2,    282.7,2,   -999.0,9,    2.832,2,    1.494,2,     1627
  06M220140507, MSM38,   358,  9,      3,2,20140516,1627, 52.2425, -36.5017, 3635,   3498.0,   2.3311,  34.9047,2,    280.1,2,   -999.0,9,    2.604,2,    1.360,2,     1630
  06M220140507, MSM38,   358,  9,      4,2,20140516,1627, 52.2425, -36.5017, 3635,   3182.5,   2.5706,  34.9209,2,    276.1,2,   -999.0,9,    2.404,2,    1.233,2,     1634
  06M220140507, MSM38,   358,  9,      5,2,20140516,1627, 52.2425, -36.5017, 3635,   2899.8,   2.8783,  34.9491,2,    273.7,2,   -999.0,9,    2.538,2,    1.315,2,     1638
  06M220140507, MSM38,   358,  9,      6,2,20140516,1627, 52.2425, -36.5017, 3635,   2598.8,   3.0002,  34.9463,2,    274.7,2,   -999.0,9,    2.635,2,    1.364,2,     1642
  06M220140507, MSM38,   358,  9,      7,2,20140516,1627, 52.2425, -36.5017, 3635,   2297.0,   3.1398,  34.9360,2,    274.6,2,    273.0,3,    2.716,2,    1.402,2,     1646
  06M220140507, MSM38,   358,  9,      8,2,20140516,1627, 52.2425, -36.5017, 3635,   1999.6,   3.2969,  34.9252,2,    274.4,2,   -999.0,9,    2.771,2,    1.446,2,     1650
  06M220140507, MSM38,   358,  9,      9,2,20140516,1627, 52.2425, -36.5017, 3635,   1702.8,   3.4927,  34.9221,2,    273.2,2,   -999.0,9,    3.003,2,    1.550,2,     1655
  06M220140507, MSM38,   358,  9,     10,2,20140516,1627, 52.2425, -36.5017, 3635,   1699.0,   3.4941,  34.9223,2,    272.8,2,   -999.0,9, -999.000,9, -999.000,9,     1655
  06M220140507, MSM38,   358,  9,     11,2,20140516,1627, 52.2425, -36.5017, 3635,   1401.2,   3.7588,  34.9289,2,    271.0,2,   -999.0,9,    3.271,2,    1.721,2,     1659
  06M220140507, MSM38,   358,  9,     12,2,20140516,1627, 52.2425, -36.5017, 3635,   1398.0,   3.7600,  34.9289,2,    271.1,2,   -999.0,9, -999.000,9, -999.000,9,     1659
  06M220140507, MSM38,   358,  9,     13,2,20140516,1627, 52.2425, -36.5017, 3635,   1074.5,   3.9040,  34.9165,2,    276.5,2,   -999.0,9,    3.746,6,    1.993,6,     1703
  06M220140507, MSM38,   358,  9,     14,2,20140516,1627, 52.2425, -36.5017, 3635,   1072.2,   3.9046,  34.9164,2,    276.5,2,   -999.0,9, -999.000,9, -999.000,9,     1703
  06M220140507, MSM38,   358,  9,     15,2,20140516,1627, 52.2425, -36.5017, 3635,    783.5,   4.1741,  34.9257,2,    273.7,2,    272.3,6,    3.816,2,    2.061,2,     1707
  06M220140507, MSM38,   358,  9,     16,2,20140516,1627, 52.2425, -36.5017, 3635,    780.3,   4.1812,  34.9259,2,    273.3,2,   -999.0,9, -999.000,9, -999.000,9,     1708
  06M220140507, MSM38,   358,  9,     17,2,20140516,1627, 52.2425, -36.5017, 3635,    498.0,   4.5378,  34.9245,2,    265.1,2,   -999.0,9,    3.759,2,    2.072,2,     1712
  06M220140507, MSM38,   358,  9,     18,2,20140516,1627, 52.2425, -36.5017, 3635,    496.9,   4.5399,  34.9247,2,    265.2,2,   -999.0,9, -999.000,9, -999.000,9,     1712
  06M220140507, MSM38,   358,  9,     19,2,20140516,1627, 52.2425, -36.5017, 3635,    297.4,   4.9672,  34.8318,2,    264.3,2,   -999.0,9,    3.494,2,    1.926,2,     1714
  06M220140507, MSM38,   358,  9,     20,2,20140516,1627, 52.2425, -36.5017, 3635,    295.5,   4.9735,  34.8315,2,    264.3,2,   -999.0,9, -999.000,9, -999.000,9,     1714
  06M220140507, MSM38,   358,  9,     21,2,20140516,1627, 52.2425, -36.5017, 3635,     15.5,   6.8916,  34.8594,2,    309.9,2,    306.3,2,    3.906,2,    2.217,2,     1720
  06M220140507, MSM38,   358,  9,     22,2,20140516,1627, 52.2425, -36.5017, 3635,     15.4,   6.9115,  34.8592,2,    309.7,2,   -999.0,9, -999.000,9, -999.000,9,     1721
  06M220140507, MSM38,   359, 10,      1,2,20140516,2038, 51.9650, -36.1408, 3879,   3909.7,   2.3419,  34.9043,2,    280.5,2,    281.5,2, -999.000,9, -999.000,9,     2038
  06M220140507, MSM38,   359, 10,      2,2,20140516,2038, 51.9650, -36.1408, 3879,   3910.3,   2.3412,  34.9043,2,    281.6,2,   -999.0,9,    2.760,2,    1.478,2,     2038
  06M220140507, MSM38,   359, 10,      3,2,20140516,2038, 51.9650, -36.1408, 3879,   3642.6,   2.5162,  34.9147,2,    277.7,2,   -999.0,9, -999.000,9, -999.000,9,     2042
  06M220140507, MSM38,   359, 10,      4,2,20140516,2038, 51.9650, -36.1408, 3879,   3298.4,   2.7334,  34.9341,2,    274.9,2,   -999.0,9,    2.469,2,    1.266,2,     2047
  06M220140507, MSM38,   359, 10,      5,2,20140516,2038, 51.9650, -36.1408, 3879,   2997.5,   2.9327,  34.9519,2,    273.8,2,    275.6,2, -999.000,9, -999.000,9,     2051
  06M220140507, MSM38,   359, 10,      6,2,20140516,2038, 51.9650, -36.1408, 3879,   2696.9,   2.9640,  34.9331,2,    275.1,2,   -999.0,9,    2.569,2,    1.332,2,     2055
  06M220140507, MSM38,   359, 10,      7,2,20140516,2038, 51.9650, -36.1408, 3879,   2398.9,   3.0883,  34.9235,2,    274.7,2,   -999.0,9,    2.650,2,    1.360,2,     2059
  06M220140507, MSM38,   359, 10,      8,2,20140516,2038, 51.9650, -36.1408, 3879,   2101.3,   3.2760,  34.9236,2,    274.4,2,   -999.0,9,    2.820,2,    1.443,2,     2103
  06M220140507, MSM38,   359, 10,      9,2,20140516,2038, 51.9650, -36.1408, 3879,   1796.7,   3.4794,  34.9248,2,    272.6,2,   -999.0,9,    3.022,2,    1.552,2,     2107
  06M220140507, MSM38,   359, 10,     10,2,20140516,2038, 51.9650, -36.1408, 3879,   1648.1,   3.6119,  34.9274,2,    270.7,2,   -999.0,9, -999.000,9, -999.000,9,     2109
  06M220140507, MSM38,   359, 10,     11,2,20140516,2038, 51.9650, -36.1408, 3879,   1498.2,   3.7128,  34.9257,2,    271.3,2,   -999.0,9,    3.253,2,    1.705,2,     2111
  06M220140507, MSM38,   359, 10,     12,2,20140516,2038, 51.9650, -36.1408, 3879,   1348.0,   3.8042,  34.9240,2,    271.5,2,   -999.0,9, -999.000,9, -999.000,9,     2113
  06M220140507, MSM38,   359, 10,     13,2,20140516,2038, 51.9650, -36.1408, 3879,   1198.4,   3.8479,  34.9139,2,    273.9,2,   -999.0,9, -999.000,9, -999.000,9,     2115
  06M220140507, MSM38,   359, 10,     14,2,20140516,2038, 51.9650, -36.1408, 3879,   1048.3,   3.9310,  34.9128,2,    278.1,2,   -999.0,9, -999.000,9, -999.000,9,     2117
  06M220140507, MSM38,   359, 10,     15,2,20140516,2038, 51.9650, -36.1408, 3879,    895.9,   3.9730,  34.9086,2,    279.0,2,   -999.0,9, -999.000,9, -999.000,9,     2119
  06M220140507, MSM38,   359, 10,     16,2,20140516,2038, 51.9650, -36.1408, 3879,    748.8,   4.1650,  34.9227,2,    273.9,2,   -999.0,9, -999.000,9, -999.000,9,     2121
  06M220140507, MSM38,   359, 10,     17,2,20140516,2038, 51.9650, -36.1408, 3879,    600.6,   4.3683,  34.9313,2,    269.3,2,   -999.0,9,    3.803,2,    2.060,2,     2123
  06M220140507, MSM38,   359, 10,     18,2,20140516,2038, 51.9650, -36.1408, 3879,    447.6,   4.5558,  34.9253,2,    263.4,2,   -999.0,9, -999.000,9, -999.000,9,     2125
  06M220140507, MSM38,   359, 10,     19,2,20140516,2038, 51.9650, -36.1408, 3879,    298.1,   4.3396,  34.8107,2,    283.2,2,   -999.0,9,    4.034,2,    2.232,2,     2127
  06M220140507, MSM38,   359, 10,     20,2,20140516,2038, 51.9650, -36.1408, 3879,    147.9,   4.8932,  34.7815,2,    295.9,2,   -999.0,9, -999.000,9, -999.000,9,     2129
  06M220140507, MSM38,   359, 10,     21,2,20140516,2038, 51.9650, -36.1408, 3879,     15.4,   6.6302,  34.8283,2,    310.4,2,   -999.0,9,    4.071,6,    2.290,6,     2133
  06M220140507, MSM38,   359, 10,     22,2,20140516,2038, 51.9650, -36.1408, 3879,     15.6,   6.6322,  34.8287,2,    310.6,2,    310.2,2, -999.000,9, -999.000,9,     2133
  06M220140507, MSM38,   360, 11,      1,2,20140516,0102, 51.6908, -35.7840, 3667,   3697.0,   2.4315,  34.9086,2,    278.2,2,    277.5,2, -999.000,9, -999.000,9,      102
  06M220140507, MSM38,   360, 11,      2,2,20140516,0102, 51.6908, -35.7840, 3667,   3697.0,   2.4318,  34.9086,2,    278.2,2,   -999.0,9,    2.448,2,    1.244,2,      102
  06M220140507, MSM38,   360, 11,      3,2,20140516,0102, 51.6908, -35.7840, 3667,   3498.9,   2.5766,  34.9196,2,    276.8,2,   -999.0,9,    2.398,2,    1.211,2,      105
  06M220140507, MSM38,   360, 11,      4,2,20140516,0102, 51.6908, -35.7840, 3667,   3496.3,   2.5776,  34.9196,2,    277.2,2,   -999.0,9, -999.000,9, -999.000,9,      105
  06M220140507, MSM38,   360, 11,      5,2,20140516,0102, 51.6908, -35.7840, 3667,   2999.4,   2.9508,  34.9509,2,    274.1,2,   -999.0,9,    2.591,2,    1.327,2,      112
  06M220140507, MSM38,   360, 11,      6,2,20140516,0102, 51.6908, -35.7840, 3667,   2997.5,   2.9561,  34.9516,2,    274.3,2,   -999.0,9, -999.000,9, -999.000,9,      112
  06M220140507, MSM38,   360, 11,      7,2,20140516,0102, 51.6908, -35.7840, 3667,   2501.5,   3.0702,  34.9206,2,    275.0,2,    274.8,6,    2.520,2,    1.285,2,      119
  06M220140507, MSM38,   360, 11,      8,2,20140516,0102, 51.6908, -35.7840, 3667,   2499.2,   3.0741,  34.9206,2,    275.0,2,   -999.0,9, -999.000,9, -999.000,9,      119
  06M220140507, MSM38,   360, 11,      9,2,20140516,0102, 51.6908, -35.7840, 3667,   2099.3,   3.3155,  34.9203,2,    274.0,2,   -999.0,9,    2.718,2,    1.366,2,      125
  06M220140507, MSM38,   360, 11,     10,2,20140516,0102, 51.6908, -35.7840, 3667,   1799.1,   3.5231,  34.9246,2,    272.6,2,   -999.0,9,    2.987,2,    1.522,2,      129
  06M220140507, MSM38,   360, 11,     11,2,20140516,0102, 51.6908, -35.7840, 3667,   1498.9,   3.7589,  34.9287,2,    271.0,2,   -999.0,9,    3.222,2,    1.671,2,      133
  06M220140507, MSM38,   360, 11,     12,2,20140516,0102, 51.6908, -35.7840, 3667,   1199.6,   3.9044,  34.9192,2,    274.1,2,   -999.0,9,    3.664,2,    1.941,2,      137
  06M220140507, MSM38,   360, 11,     13,2,20140516,0102, 51.6908, -35.7840, 3667,   1197.5,   3.9117,  34.9202,2,    274.1,2,   -999.0,9, -999.000,9, -999.000,9,      137
  06M220140507, MSM38,   360, 11,     14,2,20140516,0102, 51.6908, -35.7840, 3667,    999.0,   4.0063,  34.9178,2,    274.3,2,   -999.0,9,    3.823,2,    2.066,2,      140
  06M220140507, MSM38,   360, 11,     15,2,20140516,0102, 51.6908, -35.7840, 3667,    799.3,   4.2470,  34.9322,2,    271.2,2,   -999.0,9,    3.737,6,    2.040,6,      143
  06M220140507, MSM38,   360, 11,     16,2,20140516,0102, 51.6908, -35.7840, 3667,    797.5,   4.2477,  34.9323,2,    271.2,2,   -999.0,9, -999.000,9, -999.000,9,      143
  06M220140507, MSM38,   360, 11,     17,2,20140516,0102, 51.6908, -35.7840, 3667,    599.2,   4.5995,  34.9448,2,    261.7,2,   -999.0,9,    3.571,2,    1.960,2,      145
  06M220140507, MSM38,   360, 11,     18,2,20140516,0102, 51.6908, -35.7840, 3667,    597.6,   4.5982,  34.9447,2,    261.7,2,   -999.0,9, -999.000,9, -999.000,9,      145
  06M220140507, MSM38,   360, 11,     19,2,20140516,0102, 51.6908, -35.7840, 3667,    298.2,   5.0910,  34.7931,2,    294.0,2,    287.8,2, -999.000,9, -999.000,9,      149
  06M220140507, MSM38,   360, 11,     20,2,20140516,0102, 51.6908, -35.7840, 3667,    296.9,   5.0893,  34.7936,2,    293.7,2,   -999.0,9, -999.000,9, -999.000,9,      149
  06M220140507, MSM38,   360, 11,     21,2,20140516,0102, 51.6908, -35.7840, 3667,     16.6,   9.2623,  35.1120,2,    287.0,2,   -999.0,9, -999.000,9, -999.000,9,      155
  06M220140507, MSM38,   360, 11,     22,2,20140516,0102, 51.6908, -35.7840, 3667,     16.4,   9.2598,  35.1115,2,    286.9,2,    286.2,2, -999.000,9, -999.000,9,      155
  06M220140507, MSM38,   361, 12,      1,2,20140517,0509, 51.4283, -35.4380, 3630,   3658.2,   2.5191,  34.9137,2,    277.2,2,    275.8,2, -999.000,9, -999.000,9,      509
  06M220140507, MSM38,   361, 12,      2,2,20140517,0509, 51.4283, -35.4380, 3630,   3658.1,   2.5186,  34.9135,2,    277.0,2,   -999.0,9,    2.322,6,    1.191,6,      509
  06M220140507, MSM38,   361, 12,      3,2,20140517,0509, 51.4283, -35.4380, 3630,   3399.0,   2.6493,  34.9238,2,    275.8,2,   -999.0,9,    2.304,2,    1.200,2,      513
  06M220140507, MSM38,   361, 12,      4,2,20140517,0509, 51.4283, -35.4380, 3630,   3257.1,   2.7764,  34.9367,2,    274.6,2,   -999.0,9, -999.000,9, -999.000,9,      515
  06M220140507, MSM38,   361, 12,      5,2,20140517,0509, 51.4283, -35.4380, 3630,   3098.5,   2.8919,  34.9430,2,    274.6,2,   -999.0,9,    2.444,2,    1.275,2,      518
  06M220140507, MSM38,   361, 12,      6,2,20140517,0509, 51.4283, -35.4380, 3630,   2949.1,   2.9470,  34.9377,2,    274.8,2,    274.8,2, -999.000,9, -999.000,9,      520
  06M220140507, MSM38,   361, 12,      7,2,20140517,0509, 51.4283, -35.4380, 3630,   2796.9,   2.9768,  34.9327,2,    275.4,2,   -999.0,9,    2.478,2,    1.290,2,      522
  06M220140507, MSM38,   361, 12,      8,2,20140517,0509, 51.4283, -35.4380, 3630,   2598.5,   3.0414,  34.9201,2,    274.9,2,   -999.0,9, -999.000,9, -999.000,9,      525
  06M220140507, MSM38,   361, 12,      9,2,20140517,0509, 51.4283, -35.4380, 3630,   2396.4,   3.1759,  34.9195,2,    274.5,2,   -999.0,9,    2.559,2,    1.310,2,      528
  06M220140507, MSM38,   361, 12,     10,2,20140517,0509, 51.4283, -35.4380, 3630,   2098.2,   3.3621,  34.9212,2,    274.1,2,   -999.0,9,    2.772,2,    1.434,2,      532
  06M220140507, MSM38,   361, 12,     11,2,20140517,0509, 51.4283, -35.4380, 3630,   1948.3,   3.4564,  34.9220,2,    273.2,2,   -999.0,9, -999.000,9, -999.000,9,      534
  06M220140507, MSM38,   361, 12,     12,2,20140517,0509, 51.4283, -35.4380, 3630,   1798.3,   3.5884,  34.9241,2,    272.2,2,   -999.0,9,    2.978,2,    1.514,2,      536
  06M220140507, MSM38,   361, 12,     13,2,20140517,0509, 51.4283, -35.4380, 3630,   1498.3,   3.8183,  34.9255,2,    272.3,2,   -999.0,9,    3.336,2,    1.778,2,      541
  06M220140507, MSM38,   361, 12,     14,2,20140517,0509, 51.4283, -35.4380, 3630,   1198.4,   3.9529,  34.9156,2,    276.0,2,   -999.0,9,    3.732,2,    2.059,2,      545
  06M220140507, MSM38,   361, 12,     15,2,20140517,0509, 51.4283, -35.4380, 3630,   1047.9,   4.0538,  34.9169,2,    275.6,2,   -999.0,9, -999.000,9, -999.000,9,      547
  06M220140507, MSM38,   361, 12,     16,2,20140517,0509, 51.4283, -35.4380, 3630,    898.6,   4.2899,  34.9316,2,    271.4,2,    270.6,2,    3.758,2,    2.092,2,      549
  06M220140507, MSM38,   361, 12,     17,2,20140517,0509, 51.4283, -35.4380, 3630,    747.4,   4.5333,  34.9394,2,    264.2,2,   -999.0,9, -999.000,9, -999.000,9,      551
  06M220140507, MSM38,   361, 12,     18,2,20140517,0509, 51.4283, -35.4380, 3630,    596.9,   4.9622,  34.9344,2,    248.9,2,   -999.0,9,    3.408,2,    1.914,2,      553
  06M220140507, MSM38,   361, 12,     19,2,20140517,0509, 51.4283, -35.4380, 3630,    397.6,   6.0537,  34.8745,2,    237.8,2,   -999.0,9,    3.403,2,    1.943,2,      556
  06M220140507, MSM38,   361, 12,     20,2,20140517,0509, 51.4283, -35.4380, 3630,    199.7,   7.8049,  35.0269,2,    277.0,2,   -999.0,9, -999.000,9, -999.000,9,      559
  06M220140507, MSM38,   361, 12,     21,2,20140517,0509, 51.4283, -35.4380, 3630,     15.3,   9.0605,  35.0993,2,    293.3,2,    251.7,4,    3.492,2,    2.027,2,      604
  06M220140507, MSM38,   361, 12,     22,2,20140517,0509, 51.4283, -35.4380, 3630,     15.8,   9.0617,  35.0993,2,    293.7,2,   -999.0,9, -999.000,9, -999.000,9,      604
  06M220140507, MSM38,   363, 13,      1,2,20140517,1857, 50.7747, -34.6533, 4240,   4294.9,   2.3742,  34.9006,2,    279.9,2,    279.5,2, -999.000,9, -999.000,9,     1857
  06M220140507, MSM38,   363, 13,      2,2,20140517,1857, 50.7747, -34.6533, 4240,   4294.3,   2.3742,  34.9008,2,    279.2,2,   -999.0,9,    2.423,2,    1.244,2,     1857
  06M220140507, MSM38,   363, 13,      3,2,20140517,1857, 50.7747, -34.6533, 4240,   3802.5,   2.3889,  34.9035,2,    277.8,2,   -999.0,9,    2.307,2,    1.194,2,     1904
  06M220140507, MSM38,   363, 13,      4,2,20140517,1857, 50.7747, -34.6533, 4240,   3800.1,   2.3898,  34.9036,2,    278.5,2,   -999.0,9, -999.000,9, -999.000,9,     1904
  06M220140507, MSM38,   363, 13,      5,2,20140517,1857, 50.7747, -34.6533, 4240,   3399.3,   2.5118,  34.9098,2,    276.9,2,   -999.0,9, -999.000,9, -999.000,9,     1909
  06M220140507, MSM38,   363, 13,      6,2,20140517,1857, 50.7747, -34.6533, 4240,   3397.2,   2.5124,  34.9099,2,    276.0,2,   -999.0,9, -999.000,9, -999.000,9,     1909
  06M220140507, MSM38,   363, 13,      7,2,20140517,1857, 50.7747, -34.6533, 4240,   2999.3,   2.7826,  34.9221,2,    274.9,2,    276.3,2,    2.280,2,    1.177,2,     1915
  06M220140507, MSM38,   363, 13,      8,2,20140517,1857, 50.7747, -34.6533, 4240,   2598.3,   3.0305,  34.9316,2,    275.5,2,   -999.0,9,    2.606,2,    1.343,2,     1920
  06M220140507, MSM38,   363, 13,      9,2,20140517,1857, 50.7747, -34.6533, 4240,   2199.3,   3.3244,  34.9400,2,    273.7,2,   -999.0,9,    2.894,2,    1.499,2,     1926
  06M220140507, MSM38,   363, 13,     10,2,20140517,1857, 50.7747, -34.6533, 4240,   1802.4,   3.4708,  34.9228,2,    272.5,2,   -999.0,9,    2.921,2,    1.484,2,     1931
  06M220140507, MSM38,   363, 13,     11,2,20140517,1857, 50.7747, -34.6533, 4240,   1798.4,   3.4731,  34.9227,2,    272.8,2,   -999.0,9, -999.000,9, -999.000,9,     1931
  06M220140507, MSM38,   363, 13,     12,2,20140517,1857, 50.7747, -34.6533, 4240,   1501.5,   3.6958,  34.9269,2,    271.1,2,   -999.0,9,    3.115,2,    1.634,2,     1935
  06M220140507, MSM38,   363, 13,     13,2,20140517,1857, 50.7747, -34.6533, 4240,   1498.8,   3.6979,  34.9270,2,    271.2,2,   -999.0,9, -999.000,9, -999.000,9,     1935
  06M220140507, MSM38,   363, 13,     14,2,20140517,1857, 50.7747, -34.6533, 4240,   1200.3,   3.8525,  34.9188,2,    273.7,2,   -999.0,9,    3.601,2,    1.932,2,     1939
  06M220140507, MSM38,   363, 13,     15,2,20140517,1857, 50.7747, -34.6533, 4240,   1197.8,   3.8553,  34.9190,2,    273.8,2,   -999.0,9, -999.000,9, -999.000,9,     1939
  06M220140507, MSM38,   363, 13,     16,2,20140517,1857, 50.7747, -34.6533, 4240,    899.2,   4.0753,  34.9251,2,    274.0,2,   -999.0,9,    3.764,6,    2.061,6,     1943
  06M220140507, MSM38,   363, 13,     17,2,20140517,1857, 50.7747, -34.6533, 4240,    897.6,   4.0766,  34.9251,2,    273.9,2,    274.4,2, -999.000,9, -999.000,9,     1943
  06M220140507, MSM38,   363, 13,     18,2,20140517,1857, 50.7747, -34.6533, 4240,    600.4,   4.4213,  34.9388,2,    266.6,2,   -999.0,9,    3.715,2,    2.044,2,     1947
  06M220140507, MSM38,   363, 13,     19,2,20140517,1857, 50.7747, -34.6533, 4240,    598.6,   4.4258,  34.9390,2,    266.4,2,   -999.0,9, -999.000,9, -999.000,9,     1948
  06M220140507, MSM38,   363, 13,     20,2,20140517,1857, 50.7747, -34.6533, 4240,    297.8,   4.5693,  34.8290,2,    279.1,2,   -999.0,9,    3.828,2,    2.149,2,     1952
  06M220140507, MSM38,   363, 13,     21,2,20140517,1857, 50.7747, -34.6533, 4240,     15.3,   7.2454,  34.8264,2,    312.9,2,   -999.0,9,    3.997,2,    2.279,2,     1958
  06M220140507, MSM38,   363, 13,     22,2,20140517,1857, 50.7747, -34.6533, 4240,     15.4,   7.3563,  34.8257,2,    313.5,2,    313.9,6, -999.000,9, -999.000,9,     1958