BOTTLE,20200319PRINUNIVRMK
EXPOCODE,SECT_ID,STNNBR,CASTNO,BTLNBR,BTLNBR_FLAG_W,DATE,TIME,LATITUDE,LONGITUDE,DEPTH,CTDPRS,CTDTMP,CTDSAL,CTDSAL_FLAG_W,CTDOXY,CTDOXY_FLAG_W,OXYGEN,OXYGEN_FLAG_W,CFC-11,CFC-11_FLAG_W,CFC-12,CFC-12_FLAG_W,BTL_TIME
,,,,,,,,,,METERS,DBAR,ITS-90,PSS-78,,UMOL/KG,,UMOL/KG,,PMOL/KG,,PMOL/KG,,
  06M220140507, MSM38,   348,  4,      1,2,20140514,0324, 50.5620, -34.4190, 4178,   4218.9,   2.3411,  34.8999,2,    280.1,2,   -999.0,9, -999.000,9, -999.000,9,      324
  06M220140507, MSM38,   348,  4,      2,2,20140514,0324, 50.5620, -34.4190, 4178,   4217.8,   2.3410,  34.9000,2,    279.5,2,    277.6,2,    2.384,2,    1.257,2,      324
  06M220140507, MSM38,   348,  4,      3,2,20140514,0324, 50.5620, -34.4190, 4178,   3897.9,   2.3899,  34.9032,2,    278.4,2,   -999.0,9,    2.285,2,    1.187,2,      329
  06M220140507, MSM38,   348,  4,      4,2,20140514,0324, 50.5620, -34.4190, 4178,   3598.8,   2.4919,  34.9111,2,    276.9,2,   -999.0,9,    2.273,2,    1.165,2,      333
  06M220140507, MSM38,   348,  4,      5,2,20140514,0324, 50.5620, -34.4190, 4178,   3295.5,   2.6350,  34.9143,2,    276.0,2,   -999.0,9,    2.158,2,    1.107,2,      337
  06M220140507, MSM38,   348,  4,      6,2,20140514,0324, 50.5620, -34.4190, 4178,   2996.6,   2.8239,  34.9210,2,    275.7,2,   -999.0,9,    2.292,2,    1.178,2,      341
  06M220140507, MSM38,   348,  4,      7,2,20140514,0324, 50.5620, -34.4190, 4178,   2695.5,   3.0039,  34.9221,2,    276.2,2,   -999.0,9,    2.521,2,    1.292,2,      346
  06M220140507, MSM38,   348,  4,      8,2,20140514,0324, 50.5620, -34.4190, 4178,   2398.8,   3.1445,  34.9198,2,    274.9,2,    273.3,6,    2.550,2,    1.302,2,      350
  06M220140507, MSM38,   348,  4,      9,2,20140514,0324, 50.5620, -34.4190, 4178,   2099.2,   3.3297,  34.9188,2,    273.8,2,   -999.0,9,    2.706,6,    1.364,6,      354
  06M220140507, MSM38,   348,  4,     10,2,20140514,0324, 50.5620, -34.4190, 4178,   1898.6,   3.4633,  34.9199,2,    272.5,2,   -999.0,9,    2.977,2,    1.510,2,      357
  06M220140507, MSM38,   348,  4,     11,2,20140514,0324, 50.5620, -34.4190, 4178,   1700.1,   3.6025,  34.9227,2,    271.7,2,   -999.0,9,    3.236,2,    1.692,2,      400
  06M220140507, MSM38,   348,  4,     12,2,20140514,0324, 50.5620, -34.4190, 4178,   1500.0,   3.7265,  34.9237,2,    271.1,2,   -999.0,9,    3.451,2,    1.812,2,      402
  06M220140507, MSM38,   348,  4,     13,2,20140514,0324, 50.5620, -34.4190, 4178,   1299.4,   3.8750,  34.9268,2,    272.2,2,   -999.0,9,    3.721,2,    1.972,2,      405
  06M220140507, MSM38,   348,  4,     14,2,20140514,0324, 50.5620, -34.4190, 4178,   1095.5,   3.9748,  34.9225,2,    273.6,2,   -999.0,9, -999.000,9, -999.000,9,      408
  06M220140507, MSM38,   348,  4,     15,2,20140514,0324, 50.5620, -34.4190, 4178,    899.3,   4.1418,  34.9284,2,    272.4,2,    270.2,3, -999.000,9, -999.000,9,      411
  06M220140507, MSM38,   348,  4,     16,2,20140514,0324, 50.5620, -34.4190, 4178,    697.4,   4.4849,  34.9460,2,    266.8,2,   -999.0,9, -999.000,9, -999.000,9,      414
  06M220140507, MSM38,   348,  4,     17,2,20140514,0324, 50.5620, -34.4190, 4178,    695.1,   4.4882,  34.9463,2,    266.8,2,   -999.0,9,    3.643,2,    1.974,2,      414
  06M220140507, MSM38,   348,  4,     18,2,20140514,0324, 50.5620, -34.4190, 4178,    498.6,   5.1125,  34.9733,2,    248.5,2,   -999.0,9, -999.000,9, -999.000,9,      416
  06M220140507, MSM38,   348,  4,     19,2,20140514,0324, 50.5620, -34.4190, 4178,    496.4,   5.1124,  34.9733,2,    248.5,2,   -999.0,9, -999.000,9, -999.000,9,      417
  06M220140507, MSM38,   348,  4,     20,2,20140514,0324, 50.5620, -34.4190, 4178,    298.0,   5.4722,  34.8418,2,    253.0,2,   -999.0,9,    3.302,2,    1.842,2,      419
  06M220140507, MSM38,   348,  4,     21,2,20140514,0324, 50.5620, -34.4190, 4178,     24.8,   8.1817,  34.9916,2,    290.4,2,   -999.0,9, -999.000,9, -999.000,9,      425
  06M220140507, MSM38,   348,  4,     22,2,20140514,0324, 50.5620, -34.4190, 4178,     24.4,   8.1802,  34.9917,2,    290.6,2,    288.0,2,    3.550,2,    2.059,2,      425
  06M220140507, MSM38,   349,  5,      1,2,20140514,0858, 51.0000, -34.8330, 4352,   4391.9,   2.3668,  34.9008,2,    279.4,2,    277.9,2, -999.000,9, -999.000,9,      858
  06M220140507, MSM38,   349,  5,      2,2,20140514,0858, 51.0000, -34.8330, 4352,   4393.9,   2.3668,  34.9007,2,    280.1,2,   -999.0,9,    2.496,2,    1.277,2,      858
  06M220140507, MSM38,   349,  5,      3,2,20140514,0858, 51.0000, -34.8330, 4352,   4195.0,   2.3730,  34.9011,2,    278.8,2,   -999.0,9,    2.372,2,    1.209,2,      902
  06M220140507, MSM38,   349,  5,      4,2,20140514,0858, 51.0000, -34.8330, 4352,   3997.9,   2.3807,  34.9025,2,    278.2,2,   -999.0,9,    2.337,6,    1.198,6,      904
  06M220140507, MSM38,   349,  5,      5,2,20140514,0858, 51.0000, -34.8330, 4352,   3698.2,   2.4453,  34.9071,2,    277.0,2,    276.8,2,    2.250,2,    1.149,2,      908
  06M220140507, MSM38,   349,  5,      6,2,20140514,0858, 51.0000, -34.8330, 4352,   3396.1,   2.6276,  34.9236,2,    274.8,2,   -999.0,9,    2.333,2,    1.192,2,      913
  06M220140507, MSM38,   349,  5,      7,2,20140514,0858, 51.0000, -34.8330, 4352,   3096.8,   2.8164,  34.9409,2,    273.8,2,    273.7,6,    2.427,2,    1.259,2,      917
  06M220140507, MSM38,   349,  5,      8,2,20140514,0858, 51.0000, -34.8330, 4352,   2797.3,   2.9431,  34.9401,2,    274.5,2,   -999.0,9,    2.483,2,    1.280,2,      921
  06M220140507, MSM38,   349,  5,      9,2,20140514,0858, 51.0000, -34.8330, 4352,   2495.3,   3.0369,  34.9257,2,    274.8,2,   -999.0,9,    2.546,2,    1.307,2,      925
  06M220140507, MSM38,   349,  5,     10,2,20140514,0858, 51.0000, -34.8330, 4352,   2200.0,   3.2370,  34.9299,2,    275.1,2,   -999.0,9,    2.777,2,    1.426,2,      929
  06M220140507, MSM38,   349,  5,     11,2,20140514,0858, 51.0000, -34.8330, 4352,   1895.5,   3.4469,  34.9270,2,    273.0,2,   -999.0,9,    2.992,2,    1.523,2,      934
  06M220140507, MSM38,   349,  5,     12,2,20140514,0858, 51.0000, -34.8330, 4352,   1644.6,   3.6156,  34.9254,2,    272.2,2,   -999.0,9,    3.167,2,    1.626,2,      937
  06M220140507, MSM38,   349,  5,     13,2,20140514,0858, 51.0000, -34.8330, 4352,   1446.6,   3.7463,  34.9221,2,    272.5,2,   -999.0,9,    3.381,2,    1.760,2,      940
  06M220140507, MSM38,   349,  5,     14,2,20140514,0858, 51.0000, -34.8330, 4352,   1200.5,   3.8482,  34.9125,2,    274.7,2,   -999.0,9,    3.729,2,    1.984,2,      943
  06M220140507, MSM38,   349,  5,     15,2,20140514,0858, 51.0000, -34.8330, 4352,   1050.3,   3.8885,  34.9036,2,    277.9,2,   -999.0,9, -999.000,9, -999.000,9,      945
  06M220140507, MSM38,   349,  5,     16,2,20140514,0858, 51.0000, -34.8330, 4352,   1048.7,   3.8884,  34.9034,2,    277.9,2,   -999.0,9, -999.000,9, -999.000,9,      946
  06M220140507, MSM38,   349,  5,     17,2,20140514,0858, 51.0000, -34.8330, 4352,    846.0,   4.0064,  34.9048,2,    279.9,2,   -999.0,9,    4.045,2,    2.217,2,      948
  06M220140507, MSM38,   349,  5,     18,2,20140514,0858, 51.0000, -34.8330, 4352,    648.5,   4.2444,  34.9147,2,    273.5,2,   -999.0,9,    3.961,2,    2.181,2,      951
  06M220140507, MSM38,   349,  5,     19,2,20140514,0858, 51.0000, -34.8330, 4352,    448.6,   4.5552,  34.9109,2,    264.9,2,    264.2,2,    3.782,2,    2.088,2,      954
  06M220140507, MSM38,   349,  5,     20,2,20140514,0858, 51.0000, -34.8330, 4352,    246.3,   5.0894,  34.8597,2,    252.2,2,   -999.0,9,    3.620,2,    2.017,2,      956
  06M220140507, MSM38,   349,  5,     21,2,20140514,0858, 51.0000, -34.8330, 4352,     20.7,   6.7387,  34.8307,2,    300.5,2,   -999.0,9, -999.000,9, -999.000,9,     1002
  06M220140507, MSM38,   349,  5,     22,2,20140514,0858, 51.0000, -34.8330, 4352,     19.7,   6.7382,  34.8307,2,    300.2,2,   -999.0,9,    3.932,2,    2.226,2,     1002
  06M220140507, MSM38,   350,  6,      1,2,20140514,1321, 51.2140, -35.1595, 3635,   3652.6,   2.5719,  34.9181,2,    277.0,2,    277.2,2, -999.000,9, -999.000,9,     1321
  06M220140507, MSM38,   350,  6,      2,2,20140514,1321, 51.2140, -35.1595, 3635,   3652.2,   2.5717,  34.9181,2,    276.5,2,   -999.0,9, -999.000,9, -999.000,9,     1321
  06M220140507, MSM38,   350,  6,      3,2,20140514,1321, 51.2140, -35.1595, 3635,   3497.6,   2.6495,  34.9245,2,    275.6,2,   -999.0,9, -999.000,9, -999.000,9,     1324
  06M220140507, MSM38,   350,  6,      4,2,20140514,1321, 51.2140, -35.1595, 3635,   3245.1,   2.7991,  34.9373,2,    274.2,2,   -999.0,9, -999.000,9, -999.000,9,     1327
  06M220140507, MSM38,   350,  6,      5,2,20140514,1321, 51.2140, -35.1595, 3635,   2999.6,   2.9237,  34.9414,2,    274.6,2,    275.8,6, -999.000,9, -999.000,9,     1331
  06M220140507, MSM38,   350,  6,      6,2,20140514,1321, 51.2140, -35.1595, 3635,   2748.1,   3.0603,  34.9440,2,    274.3,2,   -999.0,9, -999.000,9, -999.000,9,     1334
  06M220140507, MSM38,   350,  6,      7,2,20140514,1321, 51.2140, -35.1595, 3635,   2547.7,   3.1093,  34.9329,2,    274.3,2,   -999.0,9, -999.000,9, -999.000,9,     1337
  06M220140507, MSM38,   350,  6,      8,2,20140514,1321, 51.2140, -35.1595, 3635,   2247.0,   3.2565,  34.9240,2,    274.8,2,   -999.0,9, -999.000,9, -999.000,9,     1341
  06M220140507, MSM38,   350,  6,      9,2,20140514,1321, 51.2140, -35.1595, 3635,   1998.6,   3.4189,  34.9230,2,    273.0,2,   -999.0,9, -999.000,9, -999.000,9,     1344
  06M220140507, MSM38,   350,  6,     10,2,20140514,1321, 51.2140, -35.1595, 3635,   1749.8,   3.5924,  34.9245,2,    272.1,2,   -999.0,9, -999.000,9, -999.000,9,     1348
  06M220140507, MSM38,   350,  6,     11,2,20140514,1321, 51.2140, -35.1595, 3635,   1498.1,   3.7498,  34.9179,2,    273.2,2,   -999.0,9, -999.000,9, -999.000,9,     1351
  06M220140507, MSM38,   350,  6,     12,2,20140514,1321, 51.2140, -35.1595, 3635,   1242.3,   3.8777,  34.9120,2,    276.6,2,   -999.0,9, -999.000,9, -999.000,9,     1355
  06M220140507, MSM38,   350,  6,     13,2,20140514,1321, 51.2140, -35.1595, 3635,    999.3,   4.0345,  34.9112,2,    277.0,2,   -999.0,9, -999.000,9, -999.000,9,     1358
  06M220140507, MSM38,   350,  6,     14,2,20140514,1321, 51.2140, -35.1595, 3635,    997.5,   4.0407,  34.9117,2,    277.9,2,   -999.0,9, -999.000,9, -999.000,9,     1358
  06M220140507, MSM38,   350,  6,     15,2,20140514,1321, 51.2140, -35.1595, 3635,    751.1,   4.3348,  34.9197,2,    270.9,2,   -999.0,9, -999.000,9, -999.000,9,     1401
  06M220140507, MSM38,   350,  6,     16,2,20140514,1321, 51.2140, -35.1595, 3635,    750.2,   4.3359,  34.9196,2,    270.9,2,   -999.0,9, -999.000,9, -999.000,9,     1401
  06M220140507, MSM38,   350,  6,     17,2,20140514,1321, 51.2140, -35.1595, 3635,    496.2,   4.6455,  34.8670,2,    254.6,2,    258.9,2, -999.000,9, -999.000,9,     1405
  06M220140507, MSM38,   350,  6,     18,2,20140514,1321, 51.2140, -35.1595, 3635,    492.8,   4.5949,  34.8499,2,    254.6,2,   -999.0,9, -999.000,9, -999.000,9,     1405
  06M220140507, MSM38,   350,  6,     19,2,20140514,1321, 51.2140, -35.1595, 3635,    250.0,   6.6960,  34.8944,2,    267.3,2,   -999.0,9, -999.000,9, -999.000,9,     1408
  06M220140507, MSM38,   350,  6,     20,2,20140514,1321, 51.2140, -35.1595, 3635,    248.8,   6.7054,  34.8949,2,    266.8,2,   -999.0,9, -999.000,9, -999.000,9,     1408
  06M220140507, MSM38,   350,  6,     21,2,20140514,1321, 51.2140, -35.1595, 3635,     26.7,   8.6305,  35.0569,2,    290.0,2,   -999.0,9, -999.000,9, -999.000,9,     1413
  06M220140507, MSM38,   350,  6,     22,2,20140514,1321, 51.2140, -35.1595, 3635,     25.8,   8.6301,  35.0572,2,    289.9,2,   -999.0,9, -999.000,9, -999.000,9,     1413
  06M220140507, MSM38,   354,  7,      1,2,20140515,1811, 52.5833, -36.9332, 3292,   3305.3,   2.4845,  34.9159,2,    277.6,2,    278.2,2, -999.000,9, -999.000,9,     1811
  06M220140507, MSM38,   354,  7,      2,2,20140515,1811, 52.5833, -36.9332, 3292,   3303.7,   2.4845,  34.9158,2,    277.9,2,   -999.0,9,    2.449,2,    1.271,2,     1811
  06M220140507, MSM38,   354,  7,      3,2,20140515,1811, 52.5833, -36.9332, 3292,   3097.0,   2.6146,  34.9253,2,    276.0,2,   -999.0,9,    2.381,2,    1.234,2,     1831
  06M220140507, MSM38,   354,  7,      4,2,20140515,1811, 52.5833, -36.9332, 3292,   2800.8,   2.8989,  34.9500,2,    274.4,2,   -999.0,9,    2.536,2,    1.327,2,     1835
  06M220140507, MSM38,   354,  7,      5,2,20140515,1811, 52.5833, -36.9332, 3292,   2498.2,   3.0500,  34.9500,2,    274.5,2,    274.7,6,    2.652,2,    1.386,2,     1856
  06M220140507, MSM38,   354,  7,      6,2,20140515,1811, 52.5833, -36.9332, 3292,   2298.3,   3.0351,  34.9270,2,    274.5,2,   -999.0,9,    2.609,2,    1.335,2,     1859
  06M220140507, MSM38,   354,  7,      7,2,20140515,1811, 52.5833, -36.9332, 3292,   2096.7,   3.1858,  34.9336,2,    274.8,2,   -999.0,9,    2.751,2,    1.426,2,     1901
  06M220140507, MSM38,   354,  7,      8,2,20140515,1811, 52.5833, -36.9332, 3292,   1898.0,   3.3191,  34.9297,2,    274.0,2,    274.7,2,    2.822,2,    1.467,2,     1920
  06M220140507, MSM38,   354,  7,      9,2,20140515,1811, 52.5833, -36.9332, 3292,   1699.2,   3.4523,  34.9235,2,    272.8,2,   -999.0,9,    2.921,2,    1.508,2,     1923
  06M220140507, MSM38,   354,  7,     10,2,20140515,1811, 52.5833, -36.9332, 3292,   1497.2,   3.5836,  34.9252,2,    272.1,2,   -999.0,9,    3.041,2,    1.584,2,     1926
  06M220140507, MSM38,   354,  7,     11,2,20140515,1811, 52.5833, -36.9332, 3292,   1297.8,   3.7355,  34.9197,2,    272.8,2,   -999.0,9,    3.386,2,    1.787,2,     1928
  06M220140507, MSM38,   354,  7,     12,2,20140515,1811, 52.5833, -36.9332, 3292,   1098.2,   3.7837,  34.9074,2,    276.7,2,   -999.0,9,    3.714,2,    1.994,2,     1931
  06M220140507, MSM38,   354,  7,     13,2,20140515,1811, 52.5833, -36.9332, 3292,   1096.2,   3.7836,  34.9073,2,    276.7,2,   -999.0,9, -999.000,9, -999.000,9,     1931
  06M220140507, MSM38,   354,  7,     14,2,20140515,1811, 52.5833, -36.9332, 3292,    898.2,   3.8508,  34.8979,2,    282.4,2,   -999.0,9,    3.964,2,    2.178,2,     1934
  06M220140507, MSM38,   354,  7,     15,2,20140515,1811, 52.5833, -36.9332, 3292,    896.1,   3.8503,  34.8978,2,    282.8,2,   -999.0,9, -999.000,9, -999.000,9,     1934
  06M220140507, MSM38,   354,  7,     16,2,20140515,1811, 52.5833, -36.9332, 3292,    697.1,   4.0093,  34.9023,2,    279.4,2,   -999.0,9,    4.019,2,    2.224,2,     1937
  06M220140507, MSM38,   354,  7,     17,2,20140515,1811, 52.5833, -36.9332, 3292,    695.5,   4.0116,  34.9025,2,    279.2,2,   -999.0,9, -999.000,9, -999.000,9,     1937
  06M220140507, MSM38,   354,  7,     18,2,20140515,1811, 52.5833, -36.9332, 3292,    693.7,   4.0148,  34.9022,2,    279.2,2,   -999.0,9, -999.000,9, -999.000,9,     1937
  06M220140507, MSM38,   354,  7,     19,2,20140515,1811, 52.5833, -36.9332, 3292,    498.2,   4.3825,  34.9210,2,    270.1,2,   -999.0,9,    3.786,6,    2.110,6,     1940
  06M220140507, MSM38,   354,  7,     20,2,20140515,1811, 52.5833, -36.9332, 3292,    298.3,   4.4107,  34.8246,2,    292.1,2,   -999.0,9,    4.085,2,    2.322,2,     1942
  06M220140507, MSM38,   354,  7,     21,2,20140515,1811, 52.5833, -36.9332, 3292,     89.2,   5.2188,  34.7905,2,    306.7,2,   -999.0,9, -999.000,9, -999.000,9,     1945
  06M220140507, MSM38,   354,  7,     22,2,20140515,1811, 52.5833, -36.9332, 3292,     19.0,   6.0574,  34.8018,2,    303.3,2,    302.0,2,    4.019,2,    2.305,2,     1949
  06M220140507, MSM38,   355,  8,      1,2,20140516,0554, 52.5065, -36.8477, 3471,   3482.1,   2.3646,  34.9073,2,    279.9,2,    279.1,2, -999.000,9, -999.000,9,      554
  06M220140507, MSM38,   355,  8,      2,2,20140516,0554, 52.5065, -36.8477, 3471,   3481.8,   2.3648,  34.9074,2,    279.7,2,   -999.0,9, -999.000,9, -999.000,9,      554
  06M220140507, MSM38,   355,  8,      3,2,20140516,0554, 52.5065, -36.8477, 3471,   3481.1,   2.3654,  34.9073,2,    279.2,2,   -999.0,9, -999.000,9, -999.000,9,      554
  06M220140507, MSM38,   355,  8,      4,2,20140516,0554, 52.5065, -36.8477, 3471,   2998.5,   2.7039,  34.9331,2,    275.0,2,   -999.0,9, -999.000,9, -999.000,9,      601
  06M220140507, MSM38,   355,  8,      5,2,20140516,0554, 52.5065, -36.8477, 3471,   2996.4,   2.7057,  34.9333,2,    275.5,2,   -999.0,9, -999.000,9, -999.000,9,      601
  06M220140507, MSM38,   355,  8,      6,2,20140516,0554, 52.5065, -36.8477, 3471,   2500.5,   2.9081,  34.9231,2,    275.7,2,    274.8,2, -999.000,9, -999.000,9,      608
  06M220140507, MSM38,   355,  8,      7,2,20140516,0554, 52.5065, -36.8477, 3471,   2498.5,   2.9080,  34.9229,2,    275.8,2,   -999.0,9, -999.000,9, -999.000,9,      608
  06M220140507, MSM38,   355,  8,      8,2,20140516,0554, 52.5065, -36.8477, 3471,   2000.7,   3.2001,  34.9211,2,    275.1,2,   -999.0,9, -999.000,9, -999.000,9,      615
  06M220140507, MSM38,   355,  8,      9,2,20140516,0554, 52.5065, -36.8477, 3471,   1997.6,   3.2024,  34.9210,2,    275.2,2,   -999.0,9, -999.000,9, -999.000,9,      616
  06M220140507, MSM38,   355,  8,     10,2,20140516,0554, 52.5065, -36.8477, 3471,   1499.8,   3.5687,  34.9237,2,    272.5,2,   -999.0,9, -999.000,9, -999.000,9,      623
  06M220140507, MSM38,   355,  8,     11,2,20140516,0554, 52.5065, -36.8477, 3471,   1497.7,   3.5710,  34.9239,2,    271.9,2,   -999.0,9, -999.000,9, -999.000,9,      623
  06M220140507, MSM38,   355,  8,     12,2,20140516,0554, 52.5065, -36.8477, 3471,   1003.1,   3.8758,  34.9128,2,    276.4,2,   -999.0,9, -999.000,9, -999.000,9,      629
  06M220140507, MSM38,   355,  8,     13,2,20140516,0554, 52.5065, -36.8477, 3471,    999.8,   3.8772,  34.9126,2,    276.5,2,   -999.0,9, -999.000,9, -999.000,9,      629
  06M220140507, MSM38,   355,  8,     14,2,20140516,0554, 52.5065, -36.8477, 3471,    497.3,   4.2584,  34.9028,2,    273.8,2,    272.6,2, -999.000,9, -999.000,9,      637
  06M220140507, MSM38,   355,  8,     15,2,20140516,0554, 52.5065, -36.8477, 3471,    495.0,   4.2612,  34.9031,2,    273.8,2,   -999.0,9, -999.000,9, -999.000,9,      637
  06M220140507, MSM38,   355,  8,     16,2,20140516,0554, 52.5065, -36.8477, 3471,     98.1,   4.8862,  34.7664,2,    305.8,2,   -999.0,9, -999.000,9, -999.000,9,      642
  06M220140507, MSM38,   355,  8,     17,2,20140516,0554, 52.5065, -36.8477, 3471,     97.6,   4.8785,  34.7642,2,    304.8,2,   -999.0,9, -999.000,9, -999.000,9,      642
  06M220140507, MSM38,   355,  8,     18,2,20140516,0554, 52.5065, -36.8477, 3471,     16.6,   5.7512,  34.7779,2,    313.5,2,   -999.0,9, -999.000,9, -999.000,9,      646
  06M220140507, MSM38,   355,  8,     19,2,20140516,0554, 52.5065, -36.8477, 3471,     16.4,   5.7615,  34.7782,2,    313.6,2,    307.7,2, -999.000,9, -999.000,9,      646
  06M220140507, MSM38,   355,  8,     20,2,20140516,0554, 52.5065, -36.8477, 3471,     15.9,   5.7771,  34.7784,2,    313.6,2,   -999.0,9, -999.000,9, -999.000,9,      646
  06M220140507, MSM38,   355,  8,     21,2,20140516,0554, 52.5065, -36.8477, 3471,     16.1,   5.7639,  34.7775,2,    313.7,2,   -999.0,9, -999.000,9, -999.000,9,      646
  06M220140507, MSM38,   355,  8,     22,2,20140516,0554, 52.5065, -36.8477, 3471,     16.5,   5.7532,  34.7783,2,    313.0,2,   -999.0,9, -999.000,9, -999.000,9,      646