BOTTLE,20200319PRINUNIVRMK
EXPOCODE,SECT_ID,STNNBR,CASTNO,BTLNBR,BTLNBR_FLAG_W,DATE,TIME,LATITUDE,LONGITUDE,DEPTH,CTDPRS,CTDTMP,CTDSAL,CTDSAL_FLAG_W,CTDOXY,CTDOXY_FLAG_W,OXYGEN,OXYGEN_FLAG_W,CFC-11,CFC-11_FLAG_W,CFC-12,CFC-12_FLAG_W,BTL_TIME
,,,,,,,,,,METERS,DBAR,ITS-90,PSS-78,,UMOL/KG,,UMOL/KG,,PMOL/KG,,PMOL/KG,,
  06M220140507, MSM38,   448, 96,      1,2,20140531,0606, 48.3477, -41.9550, 4374,   4443.7,   2.1683,  34.8982,2,    286.6,2,    283.9,2, -999.000,9, -999.000,9,      606
  06M220140507, MSM38,   448, 96,      2,2,20140531,0606, 48.3477, -41.9550, 4374,   3998.2,   2.2734,  34.8976,2,    278.1,2,   -999.0,9, -999.000,9, -999.000,9,      613
  06M220140507, MSM38,   448, 96,      3,2,20140531,0606, 48.3477, -41.9550, 4374,   3798.1,   2.3193,  34.8998,2,    277.2,2,   -999.0,9, -999.000,9, -999.000,9,      616
  06M220140507, MSM38,   448, 96,      4,2,20140531,0606, 48.3477, -41.9550, 4374,   3597.9,   2.4009,  34.9039,2,    276.6,2,   -999.0,9, -999.000,9, -999.000,9,      618
  06M220140507, MSM38,   448, 96,      5,2,20140531,0606, 48.3477, -41.9550, 4374,   3398.4,   2.5103,  34.9088,2,    276.3,2,    274.7,2, -999.000,9, -999.000,9,      621
  06M220140507, MSM38,   448, 96,      6,2,20140531,0606, 48.3477, -41.9550, 4374,   3197.8,   2.6511,  34.9147,2,    274.7,2,   -999.0,9, -999.000,9, -999.000,9,      624
  06M220140507, MSM38,   448, 96,      7,2,20140531,0606, 48.3477, -41.9550, 4374,   2998.5,   2.8020,  34.9192,2,    273.8,2,   -999.0,9, -999.000,9, -999.000,9,      627
  06M220140507, MSM38,   448, 96,      8,2,20140531,0606, 48.3477, -41.9550, 4374,   2797.9,   2.9284,  34.9211,2,    273.1,2,   -999.0,9, -999.000,9, -999.000,9,      630
  06M220140507, MSM38,   448, 96,      9,2,20140531,0606, 48.3477, -41.9550, 4374,   2598.3,   3.0728,  34.9207,2,    274.2,2,   -999.0,9, -999.000,9, -999.000,9,      633
  06M220140507, MSM38,   448, 96,     10,2,20140531,0606, 48.3477, -41.9550, 4374,   2397.8,   3.1578,  34.9205,2,    273.4,2,   -999.0,9, -999.000,9, -999.000,9,      636
  06M220140507, MSM38,   448, 96,     11,2,20140531,0606, 48.3477, -41.9550, 4374,   2197.9,   3.2905,  34.9212,2,    273.0,2,   -999.0,9, -999.000,9, -999.000,9,      639
  06M220140507, MSM38,   448, 96,     12,2,20140531,0606, 48.3477, -41.9550, 4374,   1999.7,   3.3891,  34.9232,2,    271.7,2,   -999.0,9, -999.000,9, -999.000,9,      641
  06M220140507, MSM38,   448, 96,     13,2,20140531,0606, 48.3477, -41.9550, 4374,   1797.2,   3.5287,  34.9259,2,    270.8,2,   -999.0,9, -999.000,9, -999.000,9,      644
  06M220140507, MSM38,   448, 96,     14,2,20140531,0606, 48.3477, -41.9550, 4374,   1597.8,   3.6532,  34.9258,2,    272.4,2,    272.1,2, -999.000,9, -999.000,9,      647
  06M220140507, MSM38,   448, 96,     15,2,20140531,0606, 48.3477, -41.9550, 4374,   1397.7,   3.8044,  34.9264,2,    273.2,2,   -999.0,9, -999.000,9, -999.000,9,      650
  06M220140507, MSM38,   448, 96,     16,2,20140531,0606, 48.3477, -41.9550, 4374,   1198.9,   3.8308,  34.9068,2,    277.5,2,   -999.0,9, -999.000,9, -999.000,9,      653
  06M220140507, MSM38,   448, 96,     17,2,20140531,0606, 48.3477, -41.9550, 4374,    998.6,   3.9224,  34.9044,2,    280.6,2,   -999.0,9, -999.000,9, -999.000,9,      655
  06M220140507, MSM38,   448, 96,     18,2,20140531,0606, 48.3477, -41.9550, 4374,    798.6,   4.2875,  34.9430,2,    269.1,2,   -999.0,9, -999.000,9, -999.000,9,      658
  06M220140507, MSM38,   448, 96,     19,2,20140531,0606, 48.3477, -41.9550, 4374,    598.6,   4.5483,  34.9529,2,    263.6,2,   -999.0,9, -999.000,9, -999.000,9,      701
  06M220140507, MSM38,   448, 96,     20,2,20140531,0606, 48.3477, -41.9550, 4374,    397.4,   4.4242,  34.8926,2,    271.0,2,   -999.0,9, -999.000,9, -999.000,9,      704
  06M220140507, MSM38,   448, 96,     21,2,20140531,0606, 48.3477, -41.9550, 4374,    199.7,   3.8750,  34.6365,2,    280.3,2,   -999.0,9, -999.000,9, -999.000,9,      707
  06M220140507, MSM38,   448, 96,     22,2,20140531,0606, 48.3477, -41.9550, 4374,     16.2,   7.2972,  34.1160,2,    329.1,2,    326.9,6, -999.000,9, -999.000,9,      712
  06M220140507, MSM38,   449, 97,      1,2,20140531,0926, 48.2835, -42.1672, 4274,   4350.0,   2.1429,  34.8985,2,    287.1,2,    284.9,2, -999.000,9, -999.000,9,      926
  06M220140507, MSM38,   449, 97,      2,2,20140531,0926, 48.2835, -42.1672, 4274,   4098.9,   2.1706,  34.8976,2,    283.5,2,   -999.0,9, -999.000,9, -999.000,9,      930
  06M220140507, MSM38,   449, 97,      3,2,20140531,0926, 48.2835, -42.1672, 4274,   3898.1,   2.2779,  34.8991,2,    279.2,2,   -999.0,9, -999.000,9, -999.000,9,      932
  06M220140507, MSM38,   449, 97,      4,2,20140531,0926, 48.2835, -42.1672, 4274,   3699.2,   2.3600,  34.9027,2,    277.6,2,   -999.0,9, -999.000,9, -999.000,9,      935
  06M220140507, MSM38,   449, 97,      5,2,20140531,0926, 48.2835, -42.1672, 4274,   3499.1,   2.4754,  34.9072,2,    276.1,2,   -999.0,9, -999.000,9, -999.000,9,      938
  06M220140507, MSM38,   449, 97,      6,2,20140531,0926, 48.2835, -42.1672, 4274,   3299.1,   2.5948,  34.9124,2,    275.5,2,   -999.0,9, -999.000,9, -999.000,9,      940
  06M220140507, MSM38,   449, 97,      7,2,20140531,0926, 48.2835, -42.1672, 4274,   3097.0,   2.7435,  34.9176,2,    275.1,2,   -999.0,9, -999.000,9, -999.000,9,      943
  06M220140507, MSM38,   449, 97,      8,2,20140531,0926, 48.2835, -42.1672, 4274,   2898.7,   2.8547,  34.9197,2,    274.8,2,   -999.0,9, -999.000,9, -999.000,9,      946
  06M220140507, MSM38,   449, 97,      9,2,20140531,0926, 48.2835, -42.1672, 4274,   2698.0,   2.9716,  34.9203,2,    274.3,2,   -999.0,9, -999.000,9, -999.000,9,      949
  06M220140507, MSM38,   449, 97,     10,2,20140531,0926, 48.2835, -42.1672, 4274,   2497.8,   3.0866,  34.9204,2,    274.0,2,    274.5,6, -999.000,9, -999.000,9,      952
  06M220140507, MSM38,   449, 97,     11,2,20140531,0926, 48.2835, -42.1672, 4274,   2298.3,   3.2122,  34.9193,2,    272.7,2,   -999.0,9, -999.000,9, -999.000,9,      954
  06M220140507, MSM38,   449, 97,     12,2,20140531,0926, 48.2835, -42.1672, 4274,   2099.2,   3.3655,  34.9220,2,    271.7,2,   -999.0,9, -999.000,9, -999.000,9,      957
  06M220140507, MSM38,   449, 97,     13,2,20140531,0926, 48.2835, -42.1672, 4274,   1898.3,   3.5064,  34.9252,2,    270.4,2,   -999.0,9, -999.000,9, -999.000,9,     1000
  06M220140507, MSM38,   449, 97,     14,2,20140531,0926, 48.2835, -42.1672, 4274,   1698.3,   3.6540,  34.9288,2,    269.9,2,   -999.0,9, -999.000,9, -999.000,9,     1003
  06M220140507, MSM38,   449, 97,     15,2,20140531,0926, 48.2835, -42.1672, 4274,   1498.3,   3.7625,  34.9302,2,    269.2,2,   -999.0,9, -999.000,9, -999.000,9,     1005
  06M220140507, MSM38,   449, 97,     16,2,20140531,0926, 48.2835, -42.1672, 4274,   1301.0,   3.8582,  34.9251,2,    274.5,2,   -999.0,9, -999.000,9, -999.000,9,     1008
  06M220140507, MSM38,   449, 97,     17,2,20140531,0926, 48.2835, -42.1672, 4274,   1098.1,   3.8630,  34.9060,2,    279.2,2,   -999.0,9, -999.000,9, -999.000,9,     1011
  06M220140507, MSM38,   449, 97,     18,2,20140531,0926, 48.2835, -42.1672, 4274,    898.3,   4.0083,  34.9086,2,    279.7,2,   -999.0,9, -999.000,9, -999.000,9,     1014
  06M220140507, MSM38,   449, 97,     19,2,20140531,0926, 48.2835, -42.1672, 4274,    699.5,   4.3861,  34.9374,2,    269.2,2,   -999.0,9, -999.000,9, -999.000,9,     1016
  06M220140507, MSM38,   449, 97,     20,2,20140531,0926, 48.2835, -42.1672, 4274,    500.1,   4.6678,  34.9369,2,    259.4,2,   -999.0,9, -999.000,9, -999.000,9,     1019
  06M220140507, MSM38,   449, 97,     21,2,20140531,0926, 48.2835, -42.1672, 4274,    198.7,   4.7388,  34.6444,2,    243.2,2,   -999.0,9, -999.000,9, -999.000,9,     1023
  06M220140507, MSM38,   449, 97,     22,2,20140531,0926, 48.2835, -42.1672, 4274,     15.8,   7.4194,  34.0370,2,    326.1,2,    325.5,2, -999.000,9, -999.000,9,     1028
  06M220140507, MSM38,   450, 98,      1,2,20140531,1249, 48.2180, -42.3795, 4226,   4294.8,   2.1195,  34.8992,2,    287.9,2,    285.3,2, -999.000,9, -999.000,9,     1249
  06M220140507, MSM38,   450, 98,      2,2,20140531,1249, 48.2180, -42.3795, 4226,   3998.8,   2.2195,  34.8957,2,    278.6,2,   -999.0,9, -999.000,9, -999.000,9,     1253
  06M220140507, MSM38,   450, 98,      3,2,20140531,1249, 48.2180, -42.3795, 4226,   3799.5,   2.2511,  34.8970,2,    278.4,2,   -999.0,9, -999.000,9, -999.000,9,     1256
  06M220140507, MSM38,   450, 98,      4,2,20140531,1249, 48.2180, -42.3795, 4226,   3598.5,   2.3240,  34.9004,2,    276.1,2,   -999.0,9, -999.000,9, -999.000,9,     1259
  06M220140507, MSM38,   450, 98,      5,2,20140531,1249, 48.2180, -42.3795, 4226,   3399.4,   2.4144,  34.9052,2,    274.9,2,   -999.0,9, -999.000,9, -999.000,9,     1301
  06M220140507, MSM38,   450, 98,      6,2,20140531,1249, 48.2180, -42.3795, 4226,   3199.4,   2.5707,  34.9117,2,    275.2,2,   -999.0,9, -999.000,9, -999.000,9,     1304
  06M220140507, MSM38,   450, 98,      7,2,20140531,1249, 48.2180, -42.3795, 4226,   2997.3,   2.7281,  34.9170,2,    275.0,2,    274.2,2, -999.000,9, -999.000,9,     1307
  06M220140507, MSM38,   450, 98,      8,2,20140531,1249, 48.2180, -42.3795, 4226,   2798.0,   2.8702,  34.9198,2,    273.9,2,   -999.0,9, -999.000,9, -999.000,9,     1310
  06M220140507, MSM38,   450, 98,      9,2,20140531,1249, 48.2180, -42.3795, 4226,   2598.9,   3.0129,  34.9203,2,    273.8,2,   -999.0,9, -999.000,9, -999.000,9,     1312
  06M220140507, MSM38,   450, 98,     10,2,20140531,1249, 48.2180, -42.3795, 4226,   2395.1,   3.1343,  34.9203,2,    273.0,2,   -999.0,9, -999.000,9, -999.000,9,     1315
  06M220140507, MSM38,   450, 98,     11,2,20140531,1249, 48.2180, -42.3795, 4226,   2198.0,   3.2800,  34.9207,2,    272.1,2,   -999.0,9, -999.000,9, -999.000,9,     1318
  06M220140507, MSM38,   450, 98,     12,2,20140531,1249, 48.2180, -42.3795, 4226,   1999.0,   3.4420,  34.9235,2,    270.8,2,   -999.0,9, -999.000,9, -999.000,9,     1321
  06M220140507, MSM38,   450, 98,     13,2,20140531,1249, 48.2180, -42.3795, 4226,   1799.3,   3.5723,  34.9277,2,    269.6,2,   -999.0,9, -999.000,9, -999.000,9,     1323
  06M220140507, MSM38,   450, 98,     14,2,20140531,1249, 48.2180, -42.3795, 4226,   1597.7,   3.7456,  34.9326,2,    268.8,2,   -999.0,9, -999.000,9, -999.000,9,     1326
  06M220140507, MSM38,   450, 98,     15,2,20140531,1249, 48.2180, -42.3795, 4226,   1399.2,   3.8692,  34.9303,2,    269.5,2,   -999.0,9, -999.000,9, -999.000,9,     1329
  06M220140507, MSM38,   450, 98,     16,2,20140531,1249, 48.2180, -42.3795, 4226,   1199.8,   3.9957,  34.9256,2,    271.8,2,    271.1,2, -999.000,9, -999.000,9,     1332
  06M220140507, MSM38,   450, 98,     17,2,20140531,1249, 48.2180, -42.3795, 4226,    997.7,   4.2147,  34.9374,2,    270.2,2,   -999.0,9, -999.000,9, -999.000,9,     1334
  06M220140507, MSM38,   450, 98,     18,2,20140531,1249, 48.2180, -42.3795, 4226,    797.1,   4.4895,  34.9527,2,    264.0,2,   -999.0,9, -999.000,9, -999.000,9,     1337
  06M220140507, MSM38,   450, 98,     19,2,20140531,1249, 48.2180, -42.3795, 4226,    599.2,   5.0220,  34.9758,2,    248.0,2,   -999.0,9, -999.000,9, -999.000,9,     1340
  06M220140507, MSM38,   450, 98,     20,2,20140531,1249, 48.2180, -42.3795, 4226,    398.5,   5.1570,  34.8241,2,    249.4,2,   -999.0,9, -999.000,9, -999.000,9,     1343
  06M220140507, MSM38,   450, 98,     21,2,20140531,1249, 48.2180, -42.3795, 4226,    200.1,   6.4110,  34.5889,2,    239.1,2,    233.0,2, -999.000,9, -999.000,9,     1346
  06M220140507, MSM38,   450, 98,     22,2,20140531,1249, 48.2180, -42.3795, 4226,     15.6,   9.0827,  33.8123,2,    298.0,2,   -999.0,9, -999.000,9, -999.000,9,     1350
  06M220140507, MSM38,   451, 99,      1,2,20140531,1610, 48.1537, -42.5898, 4057,   4129.8,   2.0663,  34.8993,2,    289.1,2,    288.2,2, -999.000,9, -999.000,9,     1610
  06M220140507, MSM38,   451, 99,      2,2,20140531,1610, 48.1537, -42.5898, 4057,   3798.8,   2.2135,  34.8979,2,    280.7,2,   -999.0,9, -999.000,9, -999.000,9,     1614
  06M220140507, MSM38,   451, 99,      3,2,20140531,1610, 48.1537, -42.5898, 4057,   3497.9,   2.3301,  34.9031,2,    279.4,2,   -999.0,9, -999.000,9, -999.000,9,     1619
  06M220140507, MSM38,   451, 99,      4,2,20140531,1610, 48.1537, -42.5898, 4057,   3196.8,   2.5493,  34.9118,2,    276.2,2,   -999.0,9, -999.000,9, -999.000,9,     1623
  06M220140507, MSM38,   451, 99,      5,2,20140531,1610, 48.1537, -42.5898, 4057,   2900.0,   2.7881,  34.9195,2,    275.9,2,   -999.0,9, -999.000,9, -999.000,9,     1627
  06M220140507, MSM38,   451, 99,      6,2,20140531,1610, 48.1537, -42.5898, 4057,   2599.4,   3.0091,  34.9203,2,    275.6,2,   -999.0,9, -999.000,9, -999.000,9,     1631
  06M220140507, MSM38,   451, 99,      7,2,20140531,1610, 48.1537, -42.5898, 4057,   2298.8,   3.2141,  34.9209,2,    273.2,2,   -999.0,9, -999.000,9, -999.000,9,     1635
  06M220140507, MSM38,   451, 99,      8,2,20140531,1610, 48.1537, -42.5898, 4057,   1998.2,   3.4488,  34.9235,2,    271.5,2,   -999.0,9, -999.000,9, -999.000,9,     1640
  06M220140507, MSM38,   451, 99,      9,2,20140531,1610, 48.1537, -42.5898, 4057,   1798.3,   3.6173,  34.9285,2,    269.7,2,   -999.0,9, -999.000,9, -999.000,9,     1642
  06M220140507, MSM38,   451, 99,     10,2,20140531,1610, 48.1537, -42.5898, 4057,   1599.5,   3.7934,  34.9367,2,    267.6,2,   -999.0,9, -999.000,9, -999.000,9,     1645
  06M220140507, MSM38,   451, 99,     11,2,20140531,1610, 48.1537, -42.5898, 4057,   1399.1,   3.9247,  34.9362,2,    268.2,2,   -999.0,9, -999.000,9, -999.000,9,     1648
  06M220140507, MSM38,   451, 99,     12,2,20140531,1610, 48.1537, -42.5898, 4057,   1199.3,   4.0254,  34.9294,2,    270.8,2,    270.9,6, -999.000,9, -999.000,9,     1651
  06M220140507, MSM38,   451, 99,     13,2,20140531,1610, 48.1537, -42.5898, 4057,    998.9,   4.3189,  34.9529,2,    265.9,2,   -999.0,9, -999.000,9, -999.000,9,     1654
  06M220140507, MSM38,   451, 99,     14,2,20140531,1610, 48.1537, -42.5898, 4057,    799.2,   4.6028,  34.9622,2,    259.9,2,   -999.0,9, -999.000,9, -999.000,9,     1656
  06M220140507, MSM38,   451, 99,     15,2,20140531,1610, 48.1537, -42.5898, 4057,    599.8,   5.1650,  34.9684,2,    244.1,2,   -999.0,9, -999.000,9, -999.000,9,     1659
  06M220140507, MSM38,   451, 99,     16,2,20140531,1610, 48.1537, -42.5898, 4057,    397.6,   5.8660,  34.8595,2,    215.5,2,   -999.0,9, -999.000,9, -999.000,9,     1702
  06M220140507, MSM38,   451, 99,     17,2,20140531,1610, 48.1537, -42.5898, 4057,    198.5,   9.7053,  35.1621,2,    200.3,2,   -999.0,9, -999.000,9, -999.000,9,     1705
  06M220140507, MSM38,   451, 99,     18,2,20140531,1610, 48.1537, -42.5898, 4057,     18.2,  10.1928,  34.0544,2,    286.5,2,   -999.0,9, -999.000,9, -999.000,9,     1710
  06M220140507, MSM38,   451, 99,     19,2,20140531,1610, 48.1537, -42.5898, 4057,     17.9,  10.1926,  34.0554,2,    286.6,2,    284.5,2, -999.000,9, -999.000,9,     1710
  06M220140507, MSM38,   451, 99,     20,2,20140531,1610, 48.1537, -42.5898, 4057,     17.8,  10.1925,  34.0558,2,    286.7,2,   -999.0,9, -999.000,9, -999.000,9,     1710
  06M220140507, MSM38,   451, 99,     21,2,20140531,1610, 48.1537, -42.5898, 4057,     17.9,  10.1920,  34.0552,2,    286.9,2,   -999.0,9, -999.000,9, -999.000,9,     1710
  06M220140507, MSM38,   451, 99,     22,2,20140531,1610, 48.1537, -42.5898, 4057,     18.1,  10.1892,  34.0548,2,    287.0,2,   -999.0,9, -999.000,9, -999.000,9,     1710
  06M220140507, MSM38,   452,100,      1,2,20140531,1958, 48.0883, -42.8027, 3846,   3906.6,   2.0655,  34.8995,2,    288.0,2,    288.8,2, -999.000,9, -999.000,9,     1958
  06M220140507, MSM38,   452,100,      2,2,20140531,1958, 48.0883, -42.8027, 3846,   3698.0,   2.1576,  34.8983,2,    282.6,2,   -999.0,9, -999.000,9, -999.000,9,     2001
  06M220140507, MSM38,   452,100,      3,2,20140531,1958, 48.0883, -42.8027, 3846,   3498.4,   2.2665,  34.9036,2,    282.9,2,   -999.0,9, -999.000,9, -999.000,9,     2004
  06M220140507, MSM38,   452,100,      4,2,20140531,1958, 48.0883, -42.8027, 3846,   3298.2,   2.3584,  34.9051,2,    279.6,2,   -999.0,9, -999.000,9, -999.000,9,     2006
  06M220140507, MSM38,   452,100,      5,2,20140531,1958, 48.0883, -42.8027, 3846,   3098.0,   2.5069,  34.9111,2,    277.5,2,   -999.0,9, -999.000,9, -999.000,9,     2009
  06M220140507, MSM38,   452,100,      6,2,20140531,1958, 48.0883, -42.8027, 3846,   2898.3,   2.7037,  34.9185,2,    275.9,2,    276.8,2, -999.000,9, -999.000,9,     2012
  06M220140507, MSM38,   452,100,      7,2,20140531,1958, 48.0883, -42.8027, 3846,   2500.0,   2.9898,  34.9205,2,    275.0,2,   -999.0,9, -999.000,9, -999.000,9,     2017
  06M220140507, MSM38,   452,100,      8,2,20140531,1958, 48.0883, -42.8027, 3846,   2498.1,   2.9913,  34.9205,2,    274.3,2,   -999.0,9, -999.000,9, -999.000,9,     2017
  06M220140507, MSM38,   452,100,      9,2,20140531,1958, 48.0883, -42.8027, 3846,   2298.6,   3.1298,  34.9200,2,    274.5,2,   -999.0,9, -999.000,9, -999.000,9,     2020
  06M220140507, MSM38,   452,100,     10,2,20140531,1958, 48.0883, -42.8027, 3846,   2097.6,   3.2863,  34.9204,2,    273.7,2,   -999.0,9, -999.000,9, -999.000,9,     2023
  06M220140507, MSM38,   452,100,     11,2,20140531,1958, 48.0883, -42.8027, 3846,   1898.1,   3.4487,  34.9235,2,    272.0,2,   -999.0,9, -999.000,9, -999.000,9,     2025
  06M220140507, MSM38,   452,100,     12,2,20140531,1958, 48.0883, -42.8027, 3846,   1659.5,   3.6703,  34.9279,2,    269.3,2,   -999.0,9, -999.000,9, -999.000,9,     2028
  06M220140507, MSM38,   452,100,     13,2,20140531,1958, 48.0883, -42.8027, 3846,   1497.1,   3.7958,  34.9299,2,    269.4,2,    270.2,2, -999.000,9, -999.000,9,     2031
  06M220140507, MSM38,   452,100,     14,2,20140531,1958, 48.0883, -42.8027, 3846,   1298.9,   3.8302,  34.9102,2,    276.8,2,   -999.0,9, -999.000,9, -999.000,9,     2033
  06M220140507, MSM38,   452,100,     15,2,20140531,1958, 48.0883, -42.8027, 3846,   1109.4,   3.9984,  34.9166,2,    273.8,2,   -999.0,9, -999.000,9, -999.000,9,     2036
  06M220140507, MSM38,   452,100,     16,2,20140531,1958, 48.0883, -42.8027, 3846,    896.8,   4.1942,  34.9178,2,    277.1,2,   -999.0,9, -999.000,9, -999.000,9,     2039
  06M220140507, MSM38,   452,100,     17,2,20140531,1958, 48.0883, -42.8027, 3846,    698.6,   4.6422,  34.9469,2,    261.7,2,   -999.0,9, -999.000,9, -999.000,9,     2041
  06M220140507, MSM38,   452,100,     18,2,20140531,1958, 48.0883, -42.8027, 3846,    495.6,   4.7420,  34.8370,2,    250.9,2,   -999.0,9, -999.000,9, -999.000,9,     2044
  06M220140507, MSM38,   452,100,     19,2,20140531,1958, 48.0883, -42.8027, 3846,    297.6,   7.0512,  34.9049,2,    190.0,2,   -999.0,9, -999.000,9, -999.000,9,     2047
  06M220140507, MSM38,   452,100,     20,2,20140531,1958, 48.0883, -42.8027, 3846,     97.9,   9.4502,  34.8921,2,    217.0,2,    216.4,2, -999.000,9, -999.000,9,     2050
  06M220140507, MSM38,   452,100,     21,2,20140531,1958, 48.0883, -42.8027, 3846,     16.2,   9.9995,  34.0635,2,    289.1,2,   -999.0,9, -999.000,9, -999.000,9,     2053
  06M220140507, MSM38,   452,100,     22,2,20140531,1958, 48.0883, -42.8027, 3846,     16.2,   9.9994,  34.0636,2,    289.0,2,   -999.0,9, -999.000,9, -999.000,9,     2053