BOTTLE,20200319PRINUNIVRMK
EXPOCODE,SECT_ID,STNNBR,CASTNO,BTLNBR,BTLNBR_FLAG_W,DATE,TIME,LATITUDE,LONGITUDE,DEPTH,CTDPRS,CTDTMP,CTDSAL,CTDSAL_FLAG_W,CTDOXY,CTDOXY_FLAG_W,OXYGEN,OXYGEN_FLAG_W,CFC-11,CFC-11_FLAG_W,CFC-12,CFC-12_FLAG_W,BTL_TIME
,,,,,,,,,,METERS,DBAR,ITS-90,PSS-78,,UMOL/KG,,UMOL/KG,,PMOL/KG,,PMOL/KG,,
  06M220140507, MSM38,   364, 14,      1,2,20140517,0056, 50.3467, -34.2167, 3751,   3785.4,   2.4137,  34.9046,2,    278.1,2,    277.5,2, -999.000,9, -999.000,9,       56
  06M220140507, MSM38,   364, 14,      2,2,20140517,0056, 50.3467, -34.2167, 3751,   3785.7,   2.4137,  34.9046,2,    277.7,2,   -999.0,9,    2.290,2,    1.168,2,       56
  06M220140507, MSM38,   364, 14,      3,2,20140517,0056, 50.3467, -34.2167, 3751,   3772.1,   2.4120,  34.9047,2,    277.4,2,   -999.0,9,    2.295,6,    1.174,6,       58
  06M220140507, MSM38,   364, 14,      4,2,20140517,0056, 50.3467, -34.2167, 3751,   3198.4,   2.6742,  34.9159,2,    276.0,2,    276.6,2,    2.213,2,    1.120,2,      106
  06M220140507, MSM38,   364, 14,      5,2,20140517,0056, 50.3467, -34.2167, 3751,   2944.9,   2.8453,  34.9202,2,    274.6,2,   -999.0,9,    2.275,2,    1.151,2,      110
  06M220140507, MSM38,   364, 14,      6,2,20140517,0056, 50.3467, -34.2167, 3751,   2599.1,   3.0615,  34.9241,2,    274.7,2,    275.6,6,    2.480,2,    1.246,2,      114
  06M220140507, MSM38,   364, 14,      7,2,20140517,0056, 50.3467, -34.2167, 3751,   2298.9,   3.2397,  34.9188,2,    273.7,2,   -999.0,9,    2.594,2,    1.308,2,      118
  06M220140507, MSM38,   364, 14,      8,2,20140517,0056, 50.3467, -34.2167, 3751,   1999.5,   3.4859,  34.9236,2,    272.3,2,   -999.0,9,    2.831,2,    1.458,2,      123
  06M220140507, MSM38,   364, 14,      9,2,20140517,0056, 50.3467, -34.2167, 3751,   1997.9,   3.4866,  34.9237,2,    272.6,2,   -999.0,9, -999.000,9, -999.000,9,      123
  06M220140507, MSM38,   364, 14,     10,2,20140517,0056, 50.3467, -34.2167, 3751,   1698.9,   3.6905,  34.9305,2,    270.8,2,   -999.0,9,    3.044,2,    1.574,2,      127
  06M220140507, MSM38,   364, 14,     11,2,20140517,0056, 50.3467, -34.2167, 3751,   1696.9,   3.6901,  34.9306,2,    270.8,2,   -999.0,9, -999.000,9, -999.000,9,      127
  06M220140507, MSM38,   364, 14,     12,2,20140517,0056, 50.3467, -34.2167, 3751,   1399.1,   3.8756,  34.9272,2,    271.8,2,   -999.0,9,    3.438,2,    1.824,2,      131
  06M220140507, MSM38,   364, 14,     13,2,20140517,0056, 50.3467, -34.2167, 3751,   1396.4,   3.8774,  34.9272,2,    272.1,2,   -999.0,9, -999.000,9, -999.000,9,      131
  06M220140507, MSM38,   364, 14,     14,2,20140517,0056, 50.3467, -34.2167, 3751,   1099.0,   4.0943,  34.9282,2,    273.1,2,   -999.0,9,    3.676,2,    2.010,2,      135
  06M220140507, MSM38,   364, 14,     15,2,20140517,0056, 50.3467, -34.2167, 3751,   1097.4,   4.0961,  34.9282,2,    272.9,2,   -999.0,9, -999.000,9, -999.000,9,      135
  06M220140507, MSM38,   364, 14,     16,2,20140517,0056, 50.3467, -34.2167, 3751,    849.1,   4.3819,  34.9401,2,    268.3,2,   -999.0,9,    3.670,2,    2.017,2,      139
  06M220140507, MSM38,   364, 14,     17,2,20140517,0056, 50.3467, -34.2167, 3751,    597.2,   4.9562,  34.9605,2,    251.4,2,   -999.0,9,    3.301,2,    1.843,2,      142
  06M220140507, MSM38,   364, 14,     18,2,20140517,0056, 50.3467, -34.2167, 3751,    399.7,   5.8774,  34.9291,2,    223.6,2,   -999.0,9,    2.824,2,    1.545,2,      145
  06M220140507, MSM38,   364, 14,     19,2,20140517,0056, 50.3467, -34.2167, 3751,    398.1,   5.8885,  34.9250,2,    223.4,2,   -999.0,9, -999.000,9, -999.000,9,      145
  06M220140507, MSM38,   364, 14,     20,2,20140517,0056, 50.3467, -34.2167, 3751,    199.1,   7.2621,  34.9371,2,    254.4,2,   -999.0,9, -999.000,9, -999.000,9,      147
  06M220140507, MSM38,   364, 14,     21,2,20140517,0056, 50.3467, -34.2167, 3751,     15.2,   9.3783,  35.1090,2,    291.6,2,   -999.0,9, -999.000,9, -999.000,9,      152
  06M220140507, MSM38,   364, 14,     22,2,20140517,0056, 50.3467, -34.2167, 3751,     15.3,   9.3789,  35.1088,2,    291.5,2,    292.5,2, -999.000,9, -999.000,9,      152
  06M220140507, MSM38,   365, 15,      1,2,20140518,0714, 49.7833, -33.5220, 4238,   4279.4,   2.3433,  34.8997,2,    279.8,2,    280.5,2, -999.000,9, -999.000,9,      714
  06M220140507, MSM38,   365, 15,      2,2,20140518,0714, 49.7833, -33.5220, 4238,   4280.2,   2.3420,  34.8998,2,    279.3,2,   -999.0,9,    2.416,2,    1.240,2,      714
  06M220140507, MSM38,   365, 15,      3,2,20140518,0714, 49.7833, -33.5220, 4238,   4097.1,   2.3798,  34.9016,2,    278.5,2,   -999.0,9,    2.298,2,    1.191,2,      717
  06M220140507, MSM38,   365, 15,      4,2,20140518,0714, 49.7833, -33.5220, 4238,   3698.2,   2.4830,  34.9087,2,    277.0,2,   -999.0,9,    2.229,2,    1.150,2,      723
  06M220140507, MSM38,   365, 15,      5,2,20140518,0714, 49.7833, -33.5220, 4238,   3397.5,   2.6217,  34.9137,2,    275.9,2,   -999.0,9,    2.152,6,    1.085,6,      727
  06M220140507, MSM38,   365, 15,      6,2,20140518,0714, 49.7833, -33.5220, 4238,   3097.2,   2.8245,  34.9239,2,    275.3,2,   -999.0,9,    2.287,2,    1.158,2,      731
  06M220140507, MSM38,   365, 15,      7,2,20140518,0714, 49.7833, -33.5220, 4238,   2799.2,   2.9986,  34.9222,2,    274.6,2,   -999.0,9,    2.381,2,    1.200,2,      735
  06M220140507, MSM38,   365, 15,      8,2,20140518,0714, 49.7833, -33.5220, 4238,   2499.0,   3.1763,  34.9207,2,    274.3,2,    276.2,2,    2.549,2,    1.290,2,      740
  06M220140507, MSM38,   365, 15,      9,2,20140518,0714, 49.7833, -33.5220, 4238,   2196.1,   3.3452,  34.9183,2,    273.1,2,   -999.0,9,    2.687,2,    1.347,2,      744
  06M220140507, MSM38,   365, 15,     10,2,20140518,0714, 49.7833, -33.5220, 4238,   1898.3,   3.5800,  34.9257,2,    270.7,2,   -999.0,9,    2.869,2,    1.450,2,      748
  06M220140507, MSM38,   365, 15,     11,2,20140518,0714, 49.7833, -33.5220, 4238,   1884.7,   3.5880,  34.9260,2,    271.1,2,   -999.0,9, -999.000,9, -999.000,9,      749
  06M220140507, MSM38,   365, 15,     12,2,20140518,0714, 49.7833, -33.5220, 4238,   1601.9,   3.7940,  34.9265,2,    270.8,2,   -999.0,9,    3.240,2,    1.678,2,      753
  06M220140507, MSM38,   365, 15,     13,2,20140518,0714, 49.7833, -33.5220, 4238,   1598.6,   3.7958,  34.9265,2,    271.0,2,   -999.0,9, -999.000,9, -999.000,9,      753
  06M220140507, MSM38,   365, 15,     14,2,20140518,0714, 49.7833, -33.5220, 4238,   1299.8,   3.9620,  34.9214,2,    273.9,2,    276.6,2,    3.695,2,    1.984,2,      757
  06M220140507, MSM38,   365, 15,     15,2,20140518,0714, 49.7833, -33.5220, 4238,   1298.3,   3.9619,  34.9213,2,    273.9,2,   -999.0,9, -999.000,9, -999.000,9,      757
  06M220140507, MSM38,   365, 15,     16,2,20140518,0714, 49.7833, -33.5220, 4238,    998.8,   4.2223,  34.9285,2,    272.6,2,   -999.0,9,    3.811,2,    2.078,2,      801
  06M220140507, MSM38,   365, 15,     17,2,20140518,0714, 49.7833, -33.5220, 4238,    997.1,   4.2241,  34.9279,2,    272.6,2,   -999.0,9, -999.000,9, -999.000,9,      801
  06M220140507, MSM38,   365, 15,     18,2,20140518,0714, 49.7833, -33.5220, 4238,    697.6,   4.7976,  34.9477,2,    256.4,2,   -999.0,9,    3.498,2,    1.914,2,      805
  06M220140507, MSM38,   365, 15,     19,2,20140518,0714, 49.7833, -33.5220, 4238,    694.5,   4.8106,  34.9491,2,    256.1,2,   -999.0,9, -999.000,9, -999.000,9,      805
  06M220140507, MSM38,   365, 15,     20,2,20140518,0714, 49.7833, -33.5220, 4238,    349.0,   6.1725,  34.8603,2,    267.2,2,   -999.0,9,    3.413,2,    2.064,2,      810
  06M220140507, MSM38,   365, 15,     21,2,20140518,0714, 49.7833, -33.5220, 4238,     15.5,  10.5751,  35.2543,2,    284.5,2,    285.0,6,    3.133,2,    1.832,2,      817
  06M220140507, MSM38,   365, 15,     22,2,20140518,0714, 49.7833, -33.5220, 4238,     16.4,  10.5711,  35.2526,2,    284.8,2,   -999.0,9, -999.000,9, -999.000,9,      817
  06M220140507, MSM38,   366, 16,      1,2,20140518,1221, 49.3937, -33.0735, 3797,   3829.4,   2.4240,  34.9049,2,    277.5,2,    277.9,2, -999.000,9, -999.000,9,     1221
  06M220140507, MSM38,   366, 16,      2,2,20140518,1221, 49.3937, -33.0735, 3797,   3828.8,   2.4254,  34.9050,2,    277.9,2,   -999.0,9,    2.263,2,    1.150,2,     1221
  06M220140507, MSM38,   366, 16,      3,2,20140518,1221, 49.3937, -33.0735, 3797,   3497.5,   2.5542,  34.9124,2,    275.5,2,   -999.0,9,    2.196,2,    1.113,2,     1227
  06M220140507, MSM38,   366, 16,      4,2,20140518,1221, 49.3937, -33.0735, 3797,   3098.5,   2.8264,  34.9212,2,    274.9,2,   -999.0,9,    2.259,2,    1.156,2,     1233
  06M220140507, MSM38,   366, 16,      5,2,20140518,1221, 49.3937, -33.0735, 3797,   2696.9,   3.0826,  34.9214,2,    273.5,2,   -999.0,9,    2.263,4,    0.987,4,     1238
  06M220140507, MSM38,   366, 16,      6,2,20140518,1221, 49.3937, -33.0735, 3797,   2299.0,   3.3271,  34.9186,2,    273.1,2,   -999.0,9, -999.000,9, -999.000,9,     1244
  06M220140507, MSM38,   366, 16,      7,2,20140518,1221, 49.3937, -33.0735, 3797,   1999.0,   3.5286,  34.9211,2,    271.9,2,   -999.0,9,    2.859,2,    1.450,2,     1248
  06M220140507, MSM38,   366, 16,      8,2,20140518,1221, 49.3937, -33.0735, 3797,   1989.6,   3.5319,  34.9211,2,    271.4,2,   -999.0,9, -999.000,9, -999.000,9,     1248
  06M220140507, MSM38,   366, 16,      9,2,20140518,1221, 49.3937, -33.0735, 3797,   1698.5,   3.7276,  34.9236,2,    270.7,2,   -999.0,9,    3.163,2,    1.622,2,     1252
  06M220140507, MSM38,   366, 16,     10,2,20140518,1221, 49.3937, -33.0735, 3797,   1400.4,   3.8907,  34.9185,2,    273.2,2,   -999.0,9,    3.566,2,    1.896,2,     1256
  06M220140507, MSM38,   366, 16,     11,2,20140518,1221, 49.3937, -33.0735, 3797,   1147.8,   4.1335,  34.9272,2,    273.0,2,   -999.0,9,    3.674,2,    1.992,2,     1300
  06M220140507, MSM38,   366, 16,     12,2,20140518,1221, 49.3937, -33.0735, 3797,   1146.6,   4.1333,  34.9273,2,    273.0,2,    272.6,6, -999.000,9, -999.000,9,     1300
  06M220140507, MSM38,   366, 16,     13,2,20140518,1221, 49.3937, -33.0735, 3797,   1145.2,   4.1331,  34.9272,2,    273.0,2,   -999.0,9, -999.000,9, -999.000,9,     1300
  06M220140507, MSM38,   366, 16,     14,2,20140518,1221, 49.3937, -33.0735, 3797,    997.6,   4.2727,  34.9297,2,    271.2,2,   -999.0,9,    3.719,2,    2.039,2,     1302
  06M220140507, MSM38,   366, 16,     15,2,20140518,1221, 49.3937, -33.0735, 3797,    847.7,   4.7055,  34.9600,2,    258.7,2,   -999.0,9, -999.000,9, -999.000,9,     1304
  06M220140507, MSM38,   366, 16,     16,2,20140518,1221, 49.3937, -33.0735, 3797,    793.1,   4.7947,  34.9542,2,    255.2,2,   -999.0,9,    3.415,6,    1.887,6,     1304
  06M220140507, MSM38,   366, 16,     17,2,20140518,1221, 49.3937, -33.0735, 3797,    599.7,   5.6261,  34.9726,2,    230.7,2,   -999.0,9,    2.909,2,    1.592,2,     1307
  06M220140507, MSM38,   366, 16,     18,2,20140518,1221, 49.3937, -33.0735, 3797,    598.6,   5.6366,  34.9737,2,    230.7,2,   -999.0,9, -999.000,9, -999.000,9,     1307
  06M220140507, MSM38,   366, 16,     19,2,20140518,1221, 49.3937, -33.0735, 3797,    348.7,   8.2068,  35.0321,2,    234.2,2,   -999.0,9,    2.985,2,    1.721,2,     1311
  06M220140507, MSM38,   366, 16,     20,2,20140518,1221, 49.3937, -33.0735, 3797,    346.6,   8.2087,  35.0306,2,    233.9,2,   -999.0,9, -999.000,9, -999.000,9,     1311
  06M220140507, MSM38,   366, 16,     21,2,20140518,1221, 49.3937, -33.0735, 3797,     18.1,  10.7257,  35.3246,2,    286.3,2,    287.9,2, -999.000,9, -999.000,9,     1318
  06M220140507, MSM38,   366, 16,     22,2,20140518,1221, 49.3937, -33.0735, 3797,     18.9,  10.7275,  35.3244,2,    285.9,2,   -999.0,9,    3.091,2,    1.821,2,     1318
  06M220140507, MSM38,   367, 17,      1,2,20140518,1724, 49.0113, -32.6157, 3932,   4011.5,   2.3688,  34.9015,2,    278.4,2,    277.2,2, -999.000,9, -999.000,9,     1724
  06M220140507, MSM38,   367, 17,      2,2,20140518,1724, 49.0113, -32.6157, 3932,   4010.0,   2.3695,  34.9014,2,    277.9,2,   -999.0,9,    2.279,2,    1.174,2,     1724
  06M220140507, MSM38,   367, 17,      3,2,20140518,1724, 49.0113, -32.6157, 3932,   3698.7,   2.4582,  34.9067,2,    276.9,2,   -999.0,9,    2.170,2,    1.113,2,     1729
  06M220140507, MSM38,   367, 17,      4,2,20140518,1724, 49.0113, -32.6157, 3932,   3399.4,   2.6350,  34.9149,2,    275.3,2,   -999.0,9,    2.146,2,    1.102,2,     1733
  06M220140507, MSM38,   367, 17,      5,2,20140518,1724, 49.0113, -32.6157, 3932,   3097.3,   2.8510,  34.9197,2,    274.6,2,   -999.0,9,    2.208,2,    1.136,2,     1737
  06M220140507, MSM38,   367, 17,      6,2,20140518,1724, 49.0113, -32.6157, 3932,   2797.7,   3.0289,  34.9209,2,    274.8,2,    276.5,2,    2.392,2,    1.205,2,     1741
  06M220140507, MSM38,   367, 17,      7,2,20140518,1724, 49.0113, -32.6157, 3932,   2506.2,   3.2312,  34.9192,2,    273.7,2,   -999.0,9,    2.543,2,    1.297,2,     1745
  06M220140507, MSM38,   367, 17,      8,2,20140518,1724, 49.0113, -32.6157, 3932,   2197.6,   3.4190,  34.9210,2,    272.7,2,   -999.0,9,    2.699,2,    1.374,2,     1749
  06M220140507, MSM38,   367, 17,      9,2,20140518,1724, 49.0113, -32.6157, 3932,   1798.5,   3.7183,  34.9303,2,    269.5,2,   -999.0,9,    3.019,2,    1.557,2,     1754
  06M220140507, MSM38,   367, 17,     10,2,20140518,1724, 49.0113, -32.6157, 3932,   1497.5,   3.9197,  34.9279,2,    271.2,2,   -999.0,9,    3.437,2,    1.812,2,     1758
  06M220140507, MSM38,   367, 17,     11,2,20140518,1724, 49.0113, -32.6157, 3932,   1200.5,   4.1490,  34.9332,2,    270.5,2,   -999.0,9,    3.652,2,    1.961,2,     1803
  06M220140507, MSM38,   367, 17,     12,2,20140518,1724, 49.0113, -32.6157, 3932,   1049.0,   4.3449,  34.9427,2,    267.7,2,   -999.0,9,    3.660,2,    1.989,2,     1805
  06M220140507, MSM38,   367, 17,     13,2,20140518,1724, 49.0113, -32.6157, 3932,    896.7,   4.6554,  34.9658,2,    260.1,2,   -999.0,9,    3.500,6,    1.903,6,     1807
  06M220140507, MSM38,   367, 17,     14,2,20140518,1724, 49.0113, -32.6157, 3932,    795.8,   4.8035,  34.9650,2,    255.7,2,   -999.0,9, -999.000,9, -999.000,9,     1808
  06M220140507, MSM38,   367, 17,     15,2,20140518,1724, 49.0113, -32.6157, 3932,    700.1,   5.2528,  34.9869,2,    241.3,2,   -999.0,9, -999.000,9, -999.000,9,     1809
  06M220140507, MSM38,   367, 17,     16,2,20140518,1724, 49.0113, -32.6157, 3932,    596.4,   5.8060,  34.9688,2,    221.4,2,   -999.0,9,    2.788,2,    1.594,2,     1811
  06M220140507, MSM38,   367, 17,     17,2,20140518,1724, 49.0113, -32.6157, 3932,    498.4,   6.7247,  34.9996,2,    203.9,2,   -999.0,9, -999.000,9, -999.000,9,     1812
  06M220140507, MSM38,   367, 17,     18,2,20140518,1724, 49.0113, -32.6157, 3932,    398.2,   7.6221,  34.9860,2,    228.8,2,   -999.0,9,    2.931,2,    1.738,2,     1813
  06M220140507, MSM38,   367, 17,     19,2,20140518,1724, 49.0113, -32.6157, 3932,    249.3,   9.3634,  35.1894,2,    247.1,2,   -999.0,9, -999.000,9, -999.000,9,     1815
  06M220140507, MSM38,   367, 17,     20,2,20140518,1724, 49.0113, -32.6157, 3932,     96.6,  10.4464,  35.2953,2,    255.2,2,   -999.0,9, -999.000,9, -999.000,9,     1818
  06M220140507, MSM38,   367, 17,     21,2,20140518,1724, 49.0113, -32.6157, 3932,     59.9,  11.0711,  35.3801,2,    257.1,2,   -999.0,9, -999.000,9, -999.000,9,     1819
  06M220140507, MSM38,   367, 17,     22,2,20140518,1724, 49.0113, -32.6157, 3932,     16.1,  11.9027,  35.4917,2,    274.3,2,    274.8,6,    2.845,2,    1.558,2,     1821
  06M220140507, MSM38,   368, 18,      1,2,20140518,2135, 48.7502, -32.3135, 3712,   3775.4,   2.4522,  34.9059,2,    276.7,2,    279.1,6, -999.000,9, -999.000,9,     2135
  06M220140507, MSM38,   368, 18,      2,2,20140518,2135, 48.7502, -32.3135, 3712,   3597.6,   2.5619,  34.9112,2,    275.7,2,   -999.0,9, -999.000,9, -999.000,9,     2138
  06M220140507, MSM38,   368, 18,      3,2,20140518,2135, 48.7502, -32.3135, 3712,   3297.3,   2.7592,  34.9204,2,    274.7,2,   -999.0,9, -999.000,9, -999.000,9,     2142
  06M220140507, MSM38,   368, 18,      4,2,20140518,2135, 48.7502, -32.3135, 3712,   2996.1,   2.9735,  34.9232,2,    273.9,2,   -999.0,9, -999.000,9, -999.000,9,     2146
  06M220140507, MSM38,   368, 18,      5,2,20140518,2135, 48.7502, -32.3135, 3712,   2797.7,   3.0911,  34.9255,2,    273.9,2,   -999.0,9, -999.000,9, -999.000,9,     2149
  06M220140507, MSM38,   368, 18,      6,2,20140518,2135, 48.7502, -32.3135, 3712,   2596.5,   3.2135,  34.9254,2,    274.0,2,   -999.0,9, -999.000,9, -999.000,9,     2152
  06M220140507, MSM38,   368, 18,      7,2,20140518,2135, 48.7502, -32.3135, 3712,   2396.5,   3.3475,  34.9204,2,    273.3,2,   -999.0,9, -999.000,9, -999.000,9,     2154
  06M220140507, MSM38,   368, 18,      8,2,20140518,2135, 48.7502, -32.3135, 3712,   2196.2,   3.4741,  34.9205,2,    272.1,2,   -999.0,9, -999.000,9, -999.000,9,     2157
  06M220140507, MSM38,   368, 18,      9,2,20140518,2135, 48.7502, -32.3135, 3712,   1997.6,   3.6206,  34.9230,2,    271.2,2,   -999.0,9, -999.000,9, -999.000,9,     2200
  06M220140507, MSM38,   368, 18,     10,2,20140518,2135, 48.7502, -32.3135, 3712,   1798.4,   3.7691,  34.9240,2,    270.9,2,   -999.0,9, -999.000,9, -999.000,9,     2203
  06M220140507, MSM38,   368, 18,     11,2,20140518,2135, 48.7502, -32.3135, 3712,   1597.5,   3.9114,  34.9240,2,    271.6,2,   -999.0,9, -999.000,9, -999.000,9,     2205
  06M220140507, MSM38,   368, 18,     12,2,20140518,2135, 48.7502, -32.3135, 3712,   1399.3,   4.0474,  34.9243,2,    272.6,2,   -999.0,9, -999.000,9, -999.000,9,     2208
  06M220140507, MSM38,   368, 18,     13,2,20140518,2135, 48.7502, -32.3135, 3712,   1198.0,   4.2666,  34.9323,2,    270.6,2,   -999.0,9, -999.000,9, -999.000,9,     2211
  06M220140507, MSM38,   368, 18,     14,2,20140518,2135, 48.7502, -32.3135, 3712,    998.8,   4.8168,  34.9795,2,    255.7,2,    256.5,2, -999.000,9, -999.000,9,     2214
  06M220140507, MSM38,   368, 18,     15,2,20140518,2135, 48.7502, -32.3135, 3712,    796.8,   5.6908,  35.0287,2,    231.0,2,   -999.0,9, -999.000,9, -999.000,9,     2216
  06M220140507, MSM38,   368, 18,     16,2,20140518,2135, 48.7502, -32.3135, 3712,    597.9,   7.0017,  34.9868,2,    207.3,2,   -999.0,9, -999.000,9, -999.000,9,     2219
  06M220140507, MSM38,   368, 18,     17,2,20140518,2135, 48.7502, -32.3135, 3712,    400.2,   9.0376,  35.1697,2,    247.8,2,   -999.0,9, -999.000,9, -999.000,9,     2222
  06M220140507, MSM38,   368, 18,     18,2,20140518,2135, 48.7502, -32.3135, 3712,    397.0,   9.0901,  35.1767,2,    245.5,2,   -999.0,9, -999.000,9, -999.000,9,     2222
  06M220140507, MSM38,   368, 18,     19,2,20140518,2135, 48.7502, -32.3135, 3712,    200.1,  10.2760,  35.3469,2,    251.0,2,   -999.0,9, -999.000,9, -999.000,9,     2225
  06M220140507, MSM38,   368, 18,     20,2,20140518,2135, 48.7502, -32.3135, 3712,    198.2,  10.2805,  35.3478,2,    251.3,2,   -999.0,9, -999.000,9, -999.000,9,     2225
  06M220140507, MSM38,   368, 18,     21,2,20140518,2135, 48.7502, -32.3135, 3712,     17.0,  11.5772,  35.4448,2,    276.3,2,    278.7,2, -999.000,9, -999.000,9,     2229
  06M220140507, MSM38,   368, 18,     22,2,20140518,2135, 48.7502, -32.3135, 3712,     17.1,  11.5768,  35.4448,2,    276.3,2,   -999.0,9, -999.000,9, -999.000,9,     2229