BOTTLE,20200319PRINUNIVRMK
# 3/17/2020 Initialized README file  
# Data source: Reiner Steinfeldt 1/21/20 
# SHIP: R/V Maria S. Merian 
# Cruise: MSM38 
# Region: Subpolar North Atlantic 
# EXPOCODE:06M220140507 
# DATES: 20140507 - 20140605 
# Chief Scientist: Dagmar Kieke 
# 138 stations with 24 place Rosette (22 used) 
# CTD: Who - Dagmar Kieke, Reiner Steinfeldt; Status - final 
# 	Includes: CTDSAL, CTDOXY 
# 	SBE 9 plus CTD, SBE 11 plus deck unit, SBE 43 dissolved oxygen sensor 
# 	Accuracy: < 1 dbar for pressure 
# 		0.001 °C for temperature 
# 		0.002 for salinity 
# 		3.0 µmol/kg for CTD-oxygen 
# SALNTY: Who - ; Status - not reported 
# 	Notes: 	only enough for calibration 
# OXYGEN: Who - Dagmar Kieke, Reiner Steinfeldt; Status - final 
# 	Notes:Winkler titration, precision 1 µmol/kg 
# CFC: Who - Klaus Bulsiewicz; Status - final 
# 	Notes: CFC11 & 12; Sealed ampules 
# 	See Bulsiewicz et al. 1998 for method 
# 	Scale: SIO-98 
# 	Accuracy:  
# 		CFC-11: 2.3% 
# 		CFC-12: 2% 
# These data should be cited as: 
# References: 
# Bulsiewicz, K., H. Rose, O. Klatt, A. Putzka, and W. Roether (1998), A capillary 
# -column chromatographic system for efficient chlorofluorocarbon measurement in o 
# cean waters, J. Geophys, Res., 103, 15959-15970. 
EXPOCODE,SECT_ID,STNNBR,CASTNO,BTLNBR,BTLNBR_FLAG_W,DATE,TIME,LATITUDE,LONGITUDE,DEPTH,CTDPRS,CTDTMP,CTDSAL,CTDSAL_FLAG_W,CTDOXY,CTDOXY_FLAG_W,OXYGEN,OXYGEN_FLAG_W,CFC-11,CFC-11_FLAG_W,CFC-12,CFC-12_FLAG_W,BTL_TIME
,,,,,,,,,,METERS,DBAR,ITS-90,PSS-78,,UMOL/KG,,UMOL/KG,,PMOL/KG,,PMOL/KG,,
  06M220140507, MSM38,   343,  0,      1,2,20140508,1338, 38.5917, -12.3845, 4868,   4872.4,   2.5100,  34.8990,2,    246.0,2,   -999.0,9, -999.000,9, -999.000,9,     1338
  06M220140507, MSM38,   343,  0,      2,2,20140508,1338, 38.5917, -12.3845, 4868,   4871.9,   2.5099,  34.8990,2,    245.8,2,   -999.0,9, -999.000,9, -999.000,9,     1338
  06M220140507, MSM38,   343,  0,      3,2,20140508,1338, 38.5917, -12.3845, 4868,   4871.4,   2.5099,  34.8991,2,    246.1,2,   -999.0,9, -999.000,9, -999.000,9,     1338
  06M220140507, MSM38,   343,  0,      4,2,20140508,1338, 38.5917, -12.3845, 4868,   4871.0,   2.5098,  34.8991,2,    245.0,2,   -999.0,9, -999.000,9, -999.000,9,     1338
  06M220140507, MSM38,   343,  0,      5,2,20140508,1338, 38.5917, -12.3845, 4868,   4870.8,   2.5099,  34.8990,2,    244.8,2,   -999.0,9, -999.000,9, -999.000,9,     1338
  06M220140507, MSM38,   343,  0,      6,2,20140508,1338, 38.5917, -12.3845, 4868,   4871.3,   2.5098,  34.8991,2,    245.7,2,   -999.0,9, -999.000,9, -999.000,9,     1338
  06M220140507, MSM38,   343,  0,      7,2,20140508,1338, 38.5917, -12.3845, 4868,   4872.2,   2.5099,  34.8991,2,    245.7,2,   -999.0,9, -999.000,9, -999.000,9,     1338
  06M220140507, MSM38,   343,  0,      8,2,20140508,1338, 38.5917, -12.3845, 4868,   4872.5,   2.5099,  34.8990,2,    245.7,2,   -999.0,9, -999.000,9, -999.000,9,     1338
  06M220140507, MSM38,   343,  0,      9,2,20140508,1338, 38.5917, -12.3845, 4868,   4872.2,   2.5099,  34.8991,2,    245.7,2,   -999.0,9, -999.000,9, -999.000,9,     1338
  06M220140507, MSM38,   343,  0,     10,2,20140508,1338, 38.5917, -12.3845, 4868,   4871.4,   2.5100,  34.8990,2,    246.2,2,   -999.0,9, -999.000,9, -999.000,9,     1338
  06M220140507, MSM38,   343,  0,     11,2,20140508,1338, 38.5917, -12.3845, 4868,   4871.0,   2.5098,  34.8991,2,    245.0,2,   -999.0,9, -999.000,9, -999.000,9,     1338
  06M220140507, MSM38,   343,  0,     12,2,20140508,1338, 38.5917, -12.3845, 4868,   4872.4,   2.5099,  34.8991,2,    246.0,2,   -999.0,9, -999.000,9, -999.000,9,     1338
  06M220140507, MSM38,   343,  0,     13,2,20140508,1338, 38.5917, -12.3845, 4868,   4872.8,   2.5101,  34.8990,2,    246.0,2,   -999.0,9, -999.000,9, -999.000,9,     1338
  06M220140507, MSM38,   343,  0,     14,2,20140508,1338, 38.5917, -12.3845, 4868,   4872.1,   2.5100,  34.8991,2,    245.8,2,   -999.0,9, -999.000,9, -999.000,9,     1338
  06M220140507, MSM38,   343,  0,     15,2,20140508,1338, 38.5917, -12.3845, 4868,   4871.2,   2.5100,  34.8990,2,    245.5,2,   -999.0,9, -999.000,9, -999.000,9,     1338
  06M220140507, MSM38,   343,  0,     16,2,20140508,1338, 38.5917, -12.3845, 4868,   4871.0,   2.5098,  34.8990,2,    245.2,2,   -999.0,9, -999.000,9, -999.000,9,     1338
  06M220140507, MSM38,   343,  0,     17,2,20140508,1338, 38.5917, -12.3845, 4868,   4871.5,   2.5098,  34.8991,2,    245.8,2,   -999.0,9, -999.000,9, -999.000,9,     1338
  06M220140507, MSM38,   343,  0,     18,2,20140508,1338, 38.5917, -12.3845, 4868,   4871.9,   2.5098,  34.8991,2,    245.7,2,   -999.0,9, -999.000,9, -999.000,9,     1338
  06M220140507, MSM38,   343,  0,     19,2,20140508,1338, 38.5917, -12.3845, 4868,   4871.7,   2.5099,  34.8990,2,    246.5,2,   -999.0,9, -999.000,9, -999.000,9,     1338
  06M220140507, MSM38,   343,  0,     20,2,20140508,1338, 38.5917, -12.3845, 4868,   4871.2,   2.5098,  34.8991,2,    245.2,2,   -999.0,9, -999.000,9, -999.000,9,     1338
  06M220140507, MSM38,   343,  0,     21,2,20140508,1338, 38.5917, -12.3845, 4868,   4871.4,   2.5098,  34.8991,2,    246.1,2,   -999.0,9, -999.000,9, -999.000,9,     1338
  06M220140507, MSM38,   343,  0,     22,2,20140508,1338, 38.5917, -12.3845, 4868,   4872.3,   2.5098,  34.8991,2,    245.9,2,   -999.0,9, -999.000,9, -999.000,9,     1338
  06M220140507, MSM38,   344,  1,      1,2,20140512,1319, 48.0010, -31.4178, 4030,   4074.7,   2.4796,  34.9054,2,    276.6,2,    276.9,6, -999.000,9, -999.000,9,     1319
  06M220140507, MSM38,   344,  1,      2,2,20140512,1319, 48.0010, -31.4178, 4030,   4073.5,   2.4795,  34.9056,2,    276.9,2,   -999.0,9,    2.210,2,    1.106,2,     1319
  06M220140507, MSM38,   344,  1,      3,2,20140512,1319, 48.0010, -31.4178, 4030,   3900.2,   2.4808,  34.9064,2,    276.4,2,   -999.0,9,    2.196,2,    1.097,2,     1321
  06M220140507, MSM38,   344,  1,      4,2,20140512,1319, 48.0010, -31.4178, 4030,   3600.2,   2.5209,  34.9086,2,    275.7,2,   -999.0,9,    2.164,2,    1.080,2,     1326
  06M220140507, MSM38,   344,  1,      5,2,20140512,1319, 48.0010, -31.4178, 4030,   3300.3,   2.6443,  34.9142,2,    275.2,2,   -999.0,9,    2.212,2,    1.094,2,     1330
  06M220140507, MSM38,   344,  1,      6,2,20140512,1319, 48.0010, -31.4178, 4030,   3098.5,   2.7726,  34.9173,2,    275.0,2,   -999.0,9,    2.248,2,    1.105,2,     1333
  06M220140507, MSM38,   344,  1,      7,2,20140512,1319, 48.0010, -31.4178, 4030,   2899.2,   2.8914,  34.9188,2,    274.2,2,   -999.0,9,    2.313,2,    1.135,2,     1335
  06M220140507, MSM38,   344,  1,      8,2,20140512,1319, 48.0010, -31.4178, 4030,   2597.6,   3.0915,  34.9187,2,    274.9,2,   -999.0,9,    2.498,2,    1.227,2,     1340
  06M220140507, MSM38,   344,  1,      9,2,20140512,1319, 48.0010, -31.4178, 4030,   2299.6,   3.2711,  34.9177,2,    274.7,2,    275.2,6,    2.682,2,    1.308,2,     1344
  06M220140507, MSM38,   344,  1,     10,2,20140512,1319, 48.0010, -31.4178, 4030,   1997.5,   3.4742,  34.9219,2,    273.0,2,   -999.0,9,    2.854,2,    1.398,2,     1348
  06M220140507, MSM38,   344,  1,     11,2,20140512,1319, 48.0010, -31.4178, 4030,   1799.7,   3.6181,  34.9261,2,    271.5,2,   -999.0,9,    3.003,2,    1.481,2,     1351
  06M220140507, MSM38,   344,  1,     12,2,20140512,1319, 48.0010, -31.4178, 4030,   1598.4,   3.7916,  34.9315,2,    270.2,2,   -999.0,9,    3.172,2,    1.584,2,     1354
  06M220140507, MSM38,   344,  1,     13,2,20140512,1319, 48.0010, -31.4178, 4030,   1399.0,   3.9493,  34.9380,2,    269.1,2,   -999.0,9,    3.355,2,    1.705,2,     1357
  06M220140507, MSM38,   344,  1,     14,2,20140512,1319, 48.0010, -31.4178, 4030,   1199.4,   4.2949,  34.9672,2,    262.8,2,   -999.0,9,    3.358,2,    1.734,2,     1359
  06M220140507, MSM38,   344,  1,     15,2,20140512,1319, 48.0010, -31.4178, 4030,    998.7,   4.7259,  34.9974,2,    256.3,2,   -999.0,9,    3.377,6,    1.744,6,     1402
  06M220140507, MSM38,   344,  1,     16,2,20140512,1319, 48.0010, -31.4178, 4030,    799.7,   5.2177,  35.0278,2,    245.8,2,   -999.0,9, -999.000,9, -999.000,9,     1405
  06M220140507, MSM38,   344,  1,     17,2,20140512,1319, 48.0010, -31.4178, 4030,    598.5,   6.1137,  35.0260,2,    219.7,2,    220.4,6,    2.762,2,    1.460,2,     1408
  06M220140507, MSM38,   344,  1,     18,2,20140512,1319, 48.0010, -31.4178, 4030,    592.1,   6.1030,  35.0167,2,    219.7,2,   -999.0,9, -999.000,9, -999.000,9,     1408
  06M220140507, MSM38,   344,  1,     19,2,20140512,1319, 48.0010, -31.4178, 4030,    396.9,   7.6391,  35.0115,2,    212.5,2,   -999.0,9,    2.643,2,    1.436,2,     1411
  06M220140507, MSM38,   344,  1,     20,2,20140512,1319, 48.0010, -31.4178, 4030,    198.6,   9.9114,  35.2915,2,    243.1,2,   -999.0,9, -999.000,9, -999.000,9,     1414
  06M220140507, MSM38,   344,  1,     21,2,20140512,1319, 48.0010, -31.4178, 4030,     26.0,  11.4325,  35.4322,2,    278.8,2,    279.8,6, -999.000,9, -999.000,9,     1418
  06M220140507, MSM38,   344,  1,     22,2,20140512,1319, 48.0010, -31.4178, 4030,     27.3,  11.4304,  35.4341,2,    278.4,2,   -999.0,9, -999.000,9, -999.000,9,     1418
  06M220140507, MSM38,   345,  2,      1,2,20140513,0519, 49.9167, -33.7332, 4151,   4198.4,   2.3653,  34.9005,2,    279.1,2,    277.1,2, -999.000,9, -999.000,9,      519
  06M220140507, MSM38,   345,  2,      2,2,20140513,0519, 49.9167, -33.7332, 4151,   4198.1,   2.3675,  34.9004,2,    279.0,2,   -999.0,9, -999.000,9, -999.000,9,      519
  06M220140507, MSM38,   345,  2,      3,2,20140513,0519, 49.9167, -33.7332, 4151,   4001.2,   2.4150,  34.9033,2,    277.9,2,   -999.0,9,    2.309,2,    1.158,2,      527
  06M220140507, MSM38,   345,  2,      4,2,20140513,0519, 49.9167, -33.7332, 4151,   3698.8,   2.5028,  34.9092,2,    276.5,2,   -999.0,9,    2.280,2,    1.153,2,      547
  06M220140507, MSM38,   345,  2,      5,2,20140513,0519, 49.9167, -33.7332, 4151,   3396.1,   2.6746,  34.9154,2,    275.4,2,   -999.0,9,    2.197,2,    1.086,2,      551
  06M220140507, MSM38,   345,  2,      6,2,20140513,0519, 49.9167, -33.7332, 4151,   3201.0,   2.7841,  34.9194,2,    276.1,2,    273.2,2,    2.256,2,    1.124,2,      554
  06M220140507, MSM38,   345,  2,      7,2,20140513,0519, 49.9167, -33.7332, 4151,   3001.9,   2.8773,  34.9210,2,    275.0,2,   -999.0,9,    2.318,6,    1.150,6,      557
  06M220140507, MSM38,   345,  2,      8,2,20140513,0519, 49.9167, -33.7332, 4151,   2696.6,   3.0659,  34.9211,2,    274.9,2,   -999.0,9,    2.476,2,    1.220,2,      617
  06M220140507, MSM38,   345,  2,      9,2,20140513,0519, 49.9167, -33.7332, 4151,   2399.7,   3.2350,  34.9194,2,    274.5,2,   -999.0,9,    2.656,2,    1.311,2,      621
  06M220140507, MSM38,   345,  2,     10,2,20140513,0519, 49.9167, -33.7332, 4151,   2098.0,   3.4566,  34.9195,2,    273.4,2,   -999.0,9,    2.859,2,    1.410,2,      626
  06M220140507, MSM38,   345,  2,     11,2,20140513,0519, 49.9167, -33.7332, 4151,   1894.8,   3.6081,  34.9235,2,    272.2,2,   -999.0,9,    3.005,2,    1.500,2,      644
  06M220140507, MSM38,   345,  2,     12,2,20140513,0519, 49.9167, -33.7332, 4151,   1695.9,   3.7924,  34.9311,2,    270.9,2,   -999.0,9,    3.199,2,    1.612,2,      646
  06M220140507, MSM38,   345,  2,     13,2,20140513,0519, 49.9167, -33.7332, 4151,   1497.1,   3.8598,  34.9223,2,    272.8,2,   -999.0,9,    3.579,2,    1.826,2,      649
  06M220140507, MSM38,   345,  2,     14,2,20140513,0519, 49.9167, -33.7332, 4151,   1297.9,   4.0224,  34.9282,2,    274.5,2,   -999.0,9,    3.739,2,    1.948,2,      652
  06M220140507, MSM38,   345,  2,     15,2,20140513,0519, 49.9167, -33.7332, 4151,   1097.5,   4.1560,  34.9254,2,    275.4,2,   -999.0,9,    3.940,2,    2.083,2,      655
  06M220140507, MSM38,   345,  2,     16,2,20140513,0519, 49.9167, -33.7332, 4151,    897.6,   4.5062,  34.9468,2,    267.4,2,   -999.0,9, -999.000,9, -999.000,9,      658
  06M220140507, MSM38,   345,  2,     17,2,20140513,0519, 49.9167, -33.7332, 4151,    697.5,   4.9030,  34.9451,2,    254.5,2,   -999.0,9,    3.500,2,    1.871,2,      700
  06M220140507, MSM38,   345,  2,     18,2,20140513,0519, 49.9167, -33.7332, 4151,    695.1,   4.9059,  34.9442,2,    254.4,2,    252.5,6, -999.000,9, -999.000,9,      700
  06M220140507, MSM38,   345,  2,     19,2,20140513,0519, 49.9167, -33.7332, 4151,    497.5,   6.3547,  34.9683,2,    218.3,2,   -999.0,9,    2.731,2,    1.460,2,      703
  06M220140507, MSM38,   345,  2,     20,2,20140513,0519, 49.9167, -33.7332, 4151,    298.4,   7.9755,  35.0207,2,    239.1,2,   -999.0,9, -999.000,9, -999.000,9,      706
  06M220140507, MSM38,   345,  2,     21,2,20140513,0519, 49.9167, -33.7332, 4151,     26.4,   9.9902,  35.1972,2,    270.5,2,   -999.0,9, -999.000,9, -999.000,9,      712
  06M220140507, MSM38,   345,  2,     22,2,20140513,0519, 49.9167, -33.7332, 4151,     27.7,   9.9882,  35.1966,2,    270.0,2,    267.8,3, -999.000,9, -999.000,9,      712
  06M220140507, MSM38,   347,  3,      1,2,20140513,2204, 50.1722, -33.9707, 3737,   3764.8,   2.4301,  34.9051,2,    277.3,2,    278.8,2, -999.000,9, -999.000,9,     2204
  06M220140507, MSM38,   347,  3,      2,2,20140513,2204, 50.1722, -33.9707, 3737,   3767.6,   2.4301,  34.9052,2,    277.2,2,   -999.0,9,    2.315,2,    1.161,2,     2204
  06M220140507, MSM38,   347,  3,      3,2,20140513,2204, 50.1722, -33.9707, 3737,   3596.7,   2.4678,  34.9075,2,    276.9,2,   -999.0,9,    2.290,2,    1.142,2,     2207
  06M220140507, MSM38,   347,  3,      4,2,20140513,2204, 50.1722, -33.9707, 3737,   3298.1,   2.6559,  34.9143,2,    275.6,2,    276.6,6,    2.159,2,    1.094,2,     2211
  06M220140507, MSM38,   347,  3,      5,2,20140513,2204, 50.1722, -33.9707, 3737,   2998.9,   2.8428,  34.9198,2,    275.4,2,   -999.0,9, -999.000,9, -999.000,9,     2215
  06M220140507, MSM38,   347,  3,      6,2,20140513,2204, 50.1722, -33.9707, 3737,   2695.4,   3.0502,  34.9208,2,    274.6,2,   -999.0,9,    2.402,2,    1.211,2,     2219
  06M220140507, MSM38,   347,  3,      7,2,20140513,2204, 50.1722, -33.9707, 3737,   2399.5,   3.2277,  34.9182,2,    273.7,2,   -999.0,9,    2.562,2,    1.298,2,     2224
  06M220140507, MSM38,   347,  3,      8,2,20140513,2204, 50.1722, -33.9707, 3737,   2198.9,   3.3276,  34.9174,2,    273.5,2,    275.3,2,    2.665,2,    1.351,2,     2226
  06M220140507, MSM38,   347,  3,      9,2,20140513,2204, 50.1722, -33.9707, 3737,   1998.1,   3.5276,  34.9241,2,    272.0,2,   -999.0,9,    2.841,2,    1.454,2,     2229
  06M220140507, MSM38,   347,  3,     10,2,20140513,2204, 50.1722, -33.9707, 3737,   1796.8,   3.6718,  34.9281,2,    271.6,2,   -999.0,9,    3.059,2,    1.588,2,     2232
  06M220140507, MSM38,   347,  3,     11,2,20140513,2204, 50.1722, -33.9707, 3737,   1596.3,   3.8043,  34.9267,2,    271.2,2,   -999.0,9,    3.248,2,    1.713,2,     2234
  06M220140507, MSM38,   347,  3,     12,2,20140513,2204, 50.1722, -33.9707, 3737,   1399.7,   3.9103,  34.9251,2,    272.5,2,   -999.0,9,    3.440,2,    1.836,2,     2237
  06M220140507, MSM38,   347,  3,     13,2,20140513,2204, 50.1722, -33.9707, 3737,   1196.5,   4.0455,  34.9250,2,    274.4,2,   -999.0,9,    3.637,2,    1.995,2,     2240
  06M220140507, MSM38,   347,  3,     14,2,20140513,2204, 50.1722, -33.9707, 3737,   1000.0,   4.2261,  34.9293,2,    273.3,2,   -999.0,9,    3.691,2,    2.057,2,     2243
  06M220140507, MSM38,   347,  3,     15,2,20140513,2204, 50.1722, -33.9707, 3737,    796.8,   4.5947,  34.9514,2,    263.7,2,   -999.0,9,    3.531,2,    1.966,2,     2245
  06M220140507, MSM38,   347,  3,     16,2,20140513,2204, 50.1722, -33.9707, 3737,    792.6,   4.6089,  34.9517,2,    263.5,2,   -999.0,9, -999.000,9, -999.000,9,     2245
  06M220140507, MSM38,   347,  3,     17,2,20140513,2204, 50.1722, -33.9707, 3737,    596.3,   5.1611,  34.9617,2,    244.0,2,    245.1,2,    3.148,2,    1.758,2,     2248
  06M220140507, MSM38,   347,  3,     18,2,20140513,2204, 50.1722, -33.9707, 3737,    398.9,   5.7086,  34.8299,2,    271.5,2,   -999.0,9,    3.352,2,    1.910,2,     2251
  06M220140507, MSM38,   347,  3,     19,2,20140513,2204, 50.1722, -33.9707, 3737,    395.7,   5.7279,  34.8281,2,    262.4,2,   -999.0,9, -999.000,9, -999.000,9,     2251
  06M220140507, MSM38,   347,  3,     20,2,20140513,2204, 50.1722, -33.9707, 3737,    197.4,   7.4011,  34.9294,2,    272.1,2,   -999.0,9,    3.194,2,    1.867,2,     2254
  06M220140507, MSM38,   347,  3,     21,2,20140513,2204, 50.1722, -33.9707, 3737,     25.8,   9.2989,  35.0908,2,    289.6,2,   -999.0,9,    3.238,6,    1.948,6,     2257
  06M220140507, MSM38,   347,  3,     22,2,20140513,2204, 50.1722, -33.9707, 3737,     24.9,   9.2984,  35.0908,2,    289.4,2,   -999.0,9, -999.000,9, -999.000,9,     2257