BOTTLE,20200319PRINUNIVRMK
EXPOCODE,SECT_ID,STNNBR,CASTNO,BTLNBR,BTLNBR_FLAG_W,DATE,TIME,LATITUDE,LONGITUDE,DEPTH,CTDPRS,CTDTMP,CTDSAL,CTDSAL_FLAG_W,CTDOXY,CTDOXY_FLAG_W,OXYGEN,OXYGEN_FLAG_W,CFC-11,CFC-11_FLAG_W,CFC-12,CFC-12_FLAG_W,BTL_TIME
,,,,,,,,,,METERS,DBAR,ITS-90,PSS-78,,UMOL/KG,,UMOL/KG,,PMOL/KG,,PMOL/KG,,
  06M220140507, MSM38,   438, 86,      1,2,20140529,1114, 48.9657, -44.4587, 1972,   1987.3,   2.8940,  34.9200,2,    277.4,2,    277.3,2, -999.000,9, -999.000,9,     1114
  06M220140507, MSM38,   438, 86,      2,2,20140529,1114, 48.9657, -44.4587, 1972,   1986.9,   2.8941,  34.9200,2,    277.8,2,   -999.0,9, -999.000,9, -999.000,9,     1114
  06M220140507, MSM38,   438, 86,      3,2,20140529,1114, 48.9657, -44.4587, 1972,   1798.2,   3.0366,  34.9197,2,    276.1,2,   -999.0,9, -999.000,9, -999.000,9,     1117
  06M220140507, MSM38,   438, 86,      4,2,20140529,1114, 48.9657, -44.4587, 1972,   1795.6,   3.0365,  34.9198,2,    276.2,2,   -999.0,9, -999.000,9, -999.000,9,     1117
  06M220140507, MSM38,   438, 86,      5,2,20140529,1114, 48.9657, -44.4587, 1972,   1598.8,   3.2588,  34.9222,2,    274.6,2,   -999.0,9, -999.000,9, -999.000,9,     1120
  06M220140507, MSM38,   438, 86,      6,2,20140529,1114, 48.9657, -44.4587, 1972,   1599.3,   3.2661,  34.9224,2,    275.6,2,   -999.0,9, -999.000,9, -999.000,9,     1120
  06M220140507, MSM38,   438, 86,      7,2,20140529,1114, 48.9657, -44.4587, 1972,   1396.7,   3.5423,  34.9237,2,    272.7,2,   -999.0,9, -999.000,9, -999.000,9,     1122
  06M220140507, MSM38,   438, 86,      8,2,20140529,1114, 48.9657, -44.4587, 1972,   1394.9,   3.5447,  34.9237,2,    273.1,2,   -999.0,9, -999.000,9, -999.000,9,     1122
  06M220140507, MSM38,   438, 86,      9,2,20140529,1114, 48.9657, -44.4587, 1972,   1198.6,   3.7290,  34.9207,2,    272.9,2,   -999.0,9, -999.000,9, -999.000,9,     1125
  06M220140507, MSM38,   438, 86,     10,2,20140529,1114, 48.9657, -44.4587, 1972,   1196.6,   3.7300,  34.9206,2,    273.0,2,   -999.0,9, -999.000,9, -999.000,9,     1125
  06M220140507, MSM38,   438, 86,     11,2,20140529,1114, 48.9657, -44.4587, 1972,   1000.1,   3.7921,  34.9014,2,    279.6,2,    279.5,6, -999.000,9, -999.000,9,     1128
  06M220140507, MSM38,   438, 86,     12,2,20140529,1114, 48.9657, -44.4587, 1972,    997.6,   3.7924,  34.9008,2,    279.9,2,   -999.0,9, -999.000,9, -999.000,9,     1128
  06M220140507, MSM38,   438, 86,     13,2,20140529,1114, 48.9657, -44.4587, 1972,    798.6,   3.8200,  34.8814,2,    285.8,2,   -999.0,9, -999.000,9, -999.000,9,     1130
  06M220140507, MSM38,   438, 86,     14,2,20140529,1114, 48.9657, -44.4587, 1972,    796.6,   3.8209,  34.8815,2,    285.5,2,   -999.0,9, -999.000,9, -999.000,9,     1130
  06M220140507, MSM38,   438, 86,     15,2,20140529,1114, 48.9657, -44.4587, 1972,    598.8,   3.7131,  34.8511,2,    290.5,2,   -999.0,9, -999.000,9, -999.000,9,     1133
  06M220140507, MSM38,   438, 86,     16,2,20140529,1114, 48.9657, -44.4587, 1972,    597.3,   3.7129,  34.8510,2,    290.4,2,   -999.0,9, -999.000,9, -999.000,9,     1133
  06M220140507, MSM38,   438, 86,     17,2,20140529,1114, 48.9657, -44.4587, 1972,    399.2,   3.8911,  34.8516,2,    286.7,2,   -999.0,9, -999.000,9, -999.000,9,     1136
  06M220140507, MSM38,   438, 86,     18,2,20140529,1114, 48.9657, -44.4587, 1972,    397.6,   3.8924,  34.8520,2,    286.7,2,   -999.0,9, -999.000,9, -999.000,9,     1136
  06M220140507, MSM38,   438, 86,     19,2,20140529,1114, 48.9657, -44.4587, 1972,    199.4,   4.4539,  34.8257,2,    266.0,2,   -999.0,9, -999.000,9, -999.000,9,     1138
  06M220140507, MSM38,   438, 86,     20,2,20140529,1114, 48.9657, -44.4587, 1972,    197.3,   4.4539,  34.8245,2,    266.2,2,   -999.0,9, -999.000,9, -999.000,9,     1138
  06M220140507, MSM38,   438, 86,     21,2,20140529,1114, 48.9657, -44.4587, 1972,     13.9,   6.7672,  34.4922,2,    318.4,2,   -999.0,9, -999.000,9, -999.000,9,     1143
  06M220140507, MSM38,   438, 86,     22,2,20140529,1114, 48.9657, -44.4587, 1972,     13.2,   6.7784,  34.5032,2,    320.8,2,    322.4,2, -999.000,9, -999.000,9,     1143
  06M220140507, MSM38,   439, 87,      1,2,20140529,1342, 49.0898, -44.3785, 2617,   2622.0,   2.3697,  34.9098,2,    283.5,2,    283.2,2, -999.000,9, -999.000,9,     1342
  06M220140507, MSM38,   439, 87,      2,2,20140529,1342, 49.0898, -44.3785, 2617,   2620.9,   2.3698,  34.9098,2,    283.6,2,   -999.0,9, -999.000,9, -999.000,9,     1342
  06M220140507, MSM38,   439, 87,      3,2,20140529,1342, 49.0898, -44.3785, 2617,   2397.8,   2.6231,  34.9169,2,    279.2,2,   -999.0,9, -999.000,9, -999.000,9,     1346
  06M220140507, MSM38,   439, 87,      4,2,20140529,1342, 49.0898, -44.3785, 2617,   2397.3,   2.6231,  34.9170,2,    279.2,2,   -999.0,9, -999.000,9, -999.000,9,     1346
  06M220140507, MSM38,   439, 87,      5,2,20140529,1342, 49.0898, -44.3785, 2617,   2199.4,   2.8237,  34.9201,2,    277.9,2,    277.6,2, -999.000,9, -999.000,9,     1349
  06M220140507, MSM38,   439, 87,      6,2,20140529,1342, 49.0898, -44.3785, 2617,   1998.9,   2.9916,  34.9200,2,    276.9,2,   -999.0,9, -999.000,9, -999.000,9,     1351
  06M220140507, MSM38,   439, 87,      7,2,20140529,1342, 49.0898, -44.3785, 2617,   1997.3,   2.9907,  34.9202,2,    276.9,2,   -999.0,9, -999.000,9, -999.000,9,     1352
  06M220140507, MSM38,   439, 87,      8,2,20140529,1342, 49.0898, -44.3785, 2617,   1797.1,   3.1913,  34.9211,2,    275.6,2,   -999.0,9, -999.000,9, -999.000,9,     1354
  06M220140507, MSM38,   439, 87,      9,2,20140529,1342, 49.0898, -44.3785, 2617,   1795.3,   3.1900,  34.9210,2,    275.3,2,   -999.0,9, -999.000,9, -999.000,9,     1354
  06M220140507, MSM38,   439, 87,     10,2,20140529,1342, 49.0898, -44.3785, 2617,   1598.1,   3.3968,  34.9234,2,    273.7,2,   -999.0,9, -999.000,9, -999.000,9,     1357
  06M220140507, MSM38,   439, 87,     11,2,20140529,1342, 49.0898, -44.3785, 2617,   1595.6,   3.3996,  34.9235,2,    273.7,2,   -999.0,9, -999.000,9, -999.000,9,     1357
  06M220140507, MSM38,   439, 87,     12,2,20140529,1342, 49.0898, -44.3785, 2617,   1399.7,   3.6173,  34.9248,2,    272.8,2,    273.0,6, -999.000,9, -999.000,9,     1400
  06M220140507, MSM38,   439, 87,     13,2,20140529,1342, 49.0898, -44.3785, 2617,   1397.1,   3.6195,  34.9248,2,    272.8,2,   -999.0,9, -999.000,9, -999.000,9,     1400
  06M220140507, MSM38,   439, 87,     14,2,20140529,1342, 49.0898, -44.3785, 2617,   1197.8,   3.7509,  34.9203,2,    273.3,2,   -999.0,9, -999.000,9, -999.000,9,     1403
  06M220140507, MSM38,   439, 87,     15,2,20140529,1342, 49.0898, -44.3785, 2617,   1198.4,   3.7526,  34.9204,2,    273.3,2,   -999.0,9, -999.000,9, -999.000,9,     1403
  06M220140507, MSM38,   439, 87,     16,2,20140529,1342, 49.0898, -44.3785, 2617,    998.2,   3.8412,  34.9090,2,    275.5,2,   -999.0,9, -999.000,9, -999.000,9,     1406
  06M220140507, MSM38,   439, 87,     17,2,20140529,1342, 49.0898, -44.3785, 2617,    996.4,   3.8377,  34.9080,2,    276.0,2,   -999.0,9, -999.000,9, -999.000,9,     1406
  06M220140507, MSM38,   439, 87,     18,2,20140529,1342, 49.0898, -44.3785, 2617,    598.2,   3.9984,  34.8913,2,    284.9,2,   -999.0,9, -999.000,9, -999.000,9,     1411
  06M220140507, MSM38,   439, 87,     19,2,20140529,1342, 49.0898, -44.3785, 2617,    397.8,   3.7461,  34.8293,2,    289.6,2,   -999.0,9, -999.000,9, -999.000,9,     1414
  06M220140507, MSM38,   439, 87,     20,2,20140529,1342, 49.0898, -44.3785, 2617,    196.5,   4.2253,  34.7872,2,    274.4,2,   -999.0,9, -999.000,9, -999.000,9,     1417
  06M220140507, MSM38,   439, 87,     21,2,20140529,1342, 49.0898, -44.3785, 2617,     12.9,   6.3191,  34.4600,2,    325.8,2,    324.8,2, -999.000,9, -999.000,9,     1421
  06M220140507, MSM38,   439, 87,     22,2,20140529,1342, 49.0898, -44.3785, 2617,     14.2,   6.1739,  34.4715,2,    329.8,2,   -999.0,9, -999.000,9, -999.000,9,     1421
  06M220140507, MSM38,   440, 88,      1,2,20140529,1629, 49.2150, -44.3002, 3110,   3225.3,   2.2244,  34.9056,2,    286.8,2,    286.0,2, -999.000,9, -999.000,9,     1628
  06M220140507, MSM38,   440, 88,      2,2,20140529,1629, 49.2150, -44.3002, 3110,   3227.0,   2.2242,  34.9055,2,    287.0,2,   -999.0,9, -999.000,9, -999.000,9,     1629
  06M220140507, MSM38,   440, 88,      3,2,20140529,1629, 49.2150, -44.3002, 3110,   2898.6,   2.3691,  34.9089,2,    283.4,2,   -999.0,9, -999.000,9, -999.000,9,     1634
  06M220140507, MSM38,   440, 88,      4,2,20140529,1629, 49.2150, -44.3002, 3110,   2697.8,   2.5273,  34.9139,2,    280.8,2,   -999.0,9, -999.000,9, -999.000,9,     1636
  06M220140507, MSM38,   440, 88,      5,2,20140529,1629, 49.2150, -44.3002, 3110,   2498.5,   2.7024,  34.9190,2,    278.4,2,   -999.0,9, -999.000,9, -999.000,9,     1639
  06M220140507, MSM38,   440, 88,      6,2,20140529,1629, 49.2150, -44.3002, 3110,   2299.0,   2.8471,  34.9203,2,    276.2,2,    276.0,2, -999.000,9, -999.000,9,     1642
  06M220140507, MSM38,   440, 88,      7,2,20140529,1629, 49.2150, -44.3002, 3110,   2093.4,   2.9769,  34.9205,2,    275.0,2,   -999.0,9, -999.000,9, -999.000,9,     1645
  06M220140507, MSM38,   440, 88,      8,2,20140529,1629, 49.2150, -44.3002, 3110,   1898.9,   3.1014,  34.9205,2,    273.7,2,   -999.0,9, -999.000,9, -999.000,9,     1647
  06M220140507, MSM38,   440, 88,      9,2,20140529,1629, 49.2150, -44.3002, 3110,   1699.9,   3.2431,  34.9216,2,    273.4,2,   -999.0,9, -999.000,9, -999.000,9,     1650
  06M220140507, MSM38,   440, 88,     10,2,20140529,1629, 49.2150, -44.3002, 3110,   1499.2,   3.3864,  34.9238,2,    272.0,2,   -999.0,9, -999.000,9, -999.000,9,     1653
  06M220140507, MSM38,   440, 88,     11,2,20140529,1629, 49.2150, -44.3002, 3110,   1298.6,   3.5926,  34.9282,2,    271.5,2,   -999.0,9, -999.000,9, -999.000,9,     1656
  06M220140507, MSM38,   440, 88,     12,2,20140529,1629, 49.2150, -44.3002, 3110,   1098.2,   3.7634,  34.9281,2,    270.4,2,    270.5,2, -999.000,9, -999.000,9,     1658
  06M220140507, MSM38,   440, 88,     13,2,20140529,1629, 49.2150, -44.3002, 3110,   1095.8,   3.7626,  34.9280,2,    270.5,2,   -999.0,9, -999.000,9, -999.000,9,     1658
  06M220140507, MSM38,   440, 88,     14,2,20140529,1629, 49.2150, -44.3002, 3110,    900.1,   3.8860,  34.9177,2,    275.3,2,   -999.0,9, -999.000,9, -999.000,9,     1701
  06M220140507, MSM38,   440, 88,     15,2,20140529,1629, 49.2150, -44.3002, 3110,    899.0,   3.8844,  34.9178,2,    275.3,2,   -999.0,9, -999.000,9, -999.000,9,     1701
  06M220140507, MSM38,   440, 88,     16,2,20140529,1629, 49.2150, -44.3002, 3110,    698.0,   4.0608,  34.9208,2,    276.4,2,   -999.0,9, -999.000,9, -999.000,9,     1704
  06M220140507, MSM38,   440, 88,     17,2,20140529,1629, 49.2150, -44.3002, 3110,    696.3,   4.0588,  34.9206,2,    276.1,2,   -999.0,9, -999.000,9, -999.000,9,     1704
  06M220140507, MSM38,   440, 88,     18,2,20140529,1629, 49.2150, -44.3002, 3110,    501.1,   4.2910,  34.9207,2,    275.7,2,   -999.0,9, -999.000,9, -999.000,9,     1706
  06M220140507, MSM38,   440, 88,     19,2,20140529,1629, 49.2150, -44.3002, 3110,    298.8,   4.3846,  34.8728,2,    270.6,2,   -999.0,9, -999.000,9, -999.000,9,     1709
  06M220140507, MSM38,   440, 88,     20,2,20140529,1629, 49.2150, -44.3002, 3110,     98.5,   4.8100,  34.6329,2,    278.1,2,   -999.0,9, -999.000,9, -999.000,9,     1712
  06M220140507, MSM38,   440, 88,     21,2,20140529,1629, 49.2150, -44.3002, 3110,     15.7,   5.8010,  34.4518,2,    312.1,2,    310.4,6, -999.000,9, -999.000,9,     1715
  06M220140507, MSM38,   440, 88,     22,2,20140529,1629, 49.2150, -44.3002, 3110,     15.3,   5.7995,  34.4522,2,    311.7,2,   -999.0,9, -999.000,9, -999.000,9,     1715
  06M220140507, MSM38,   441, 89,      1,2,20140529,1929, 49.3390, -44.2215, 3408,   3404.5,   2.0541,  34.8997,2,    286.8,2,    285.6,2, -999.000,9, -999.000,9,     1929
  06M220140507, MSM38,   441, 89,      2,2,20140529,1929, 49.3390, -44.2215, 3408,   3101.1,   2.1983,  34.8998,2,    280.0,2,   -999.0,9, -999.000,9, -999.000,9,     1934
  06M220140507, MSM38,   441, 89,      3,2,20140529,1929, 49.3390, -44.2215, 3408,   2898.5,   2.2831,  34.9028,2,    277.9,2,   -999.0,9, -999.000,9, -999.000,9,     1937
  06M220140507, MSM38,   441, 89,      4,2,20140529,1929, 49.3390, -44.2215, 3408,   2699.5,   2.4170,  34.9087,2,    278.3,2,   -999.0,9, -999.000,9, -999.000,9,     1939
  06M220140507, MSM38,   441, 89,      5,2,20140529,1929, 49.3390, -44.2215, 3408,   2497.6,   2.5806,  34.9149,2,    276.6,2,   -999.0,9, -999.000,9, -999.000,9,     1942
  06M220140507, MSM38,   441, 89,      6,2,20140529,1929, 49.3390, -44.2215, 3408,   2296.4,   2.7330,  34.9186,2,    275.6,2,   -999.0,9, -999.000,9, -999.000,9,     1945
  06M220140507, MSM38,   441, 89,      7,2,20140529,1929, 49.3390, -44.2215, 3408,   2083.3,   2.8426,  34.9201,2,    276.7,2,   -999.0,9, -999.000,9, -999.000,9,     1948
  06M220140507, MSM38,   441, 89,      8,2,20140529,1929, 49.3390, -44.2215, 3408,   1899.3,   2.9877,  34.9201,2,    275.7,2,   -999.0,9, -999.000,9, -999.000,9,     1950
  06M220140507, MSM38,   441, 89,      9,2,20140529,1929, 49.3390, -44.2215, 3408,   1697.9,   3.0961,  34.9206,2,    275.0,2,   -999.0,9, -999.000,9, -999.000,9,     1953
  06M220140507, MSM38,   441, 89,     10,2,20140529,1929, 49.3390, -44.2215, 3408,   1499.4,   3.2069,  34.9212,2,    273.6,2,   -999.0,9, -999.000,9, -999.000,9,     1956
  06M220140507, MSM38,   441, 89,     11,2,20140529,1929, 49.3390, -44.2215, 3408,   1299.0,   3.3463,  34.9228,2,    272.9,2,   -999.0,9, -999.000,9, -999.000,9,     1959
  06M220140507, MSM38,   441, 89,     12,2,20140529,1929, 49.3390, -44.2215, 3408,   1097.9,   3.4991,  34.9255,2,    272.5,2,   -999.0,9, -999.000,9, -999.000,9,     2001
  06M220140507, MSM38,   441, 89,     13,2,20140529,1929, 49.3390, -44.2215, 3408,    898.5,   3.6760,  34.9237,2,    274.0,2,    273.0,2, -999.000,9, -999.000,9,     2004
  06M220140507, MSM38,   441, 89,     14,2,20140529,1929, 49.3390, -44.2215, 3408,    698.7,   4.0206,  34.9196,2,    278.9,2,   -999.0,9, -999.000,9, -999.000,9,     2007
  06M220140507, MSM38,   441, 89,     15,2,20140529,1929, 49.3390, -44.2215, 3408,    498.4,   4.1417,  34.8800,2,    283.6,2,   -999.0,9, -999.000,9, -999.000,9,     2010
  06M220140507, MSM38,   441, 89,     16,2,20140529,1929, 49.3390, -44.2215, 3408,    397.0,   3.8662,  34.8145,2,    289.9,2,   -999.0,9, -999.000,9, -999.000,9,     2011
  06M220140507, MSM38,   441, 89,     17,2,20140529,1929, 49.3390, -44.2215, 3408,    296.0,   3.8542,  34.7553,2,    283.7,2,   -999.0,9, -999.000,9, -999.000,9,     2013
  06M220140507, MSM38,   441, 89,     18,2,20140529,1929, 49.3390, -44.2215, 3408,    197.1,   4.3375,  34.7184,2,    272.9,2,   -999.0,9, -999.000,9, -999.000,9,     2014
  06M220140507, MSM38,   441, 89,     19,2,20140529,1929, 49.3390, -44.2215, 3408,     94.3,   4.8640,  34.6012,2,    282.3,2,    278.6,6, -999.000,9, -999.000,9,     2015
  06M220140507, MSM38,   441, 89,     20,2,20140529,1929, 49.3390, -44.2215, 3408,     17.8,   6.6024,  34.4929,2,    327.3,2,   -999.0,9, -999.000,9, -999.000,9,     2019
  06M220140507, MSM38,   441, 89,     21,2,20140529,1929, 49.3390, -44.2215, 3408,     17.5,   6.6023,  34.4935,2,    327.3,2,   -999.0,9, -999.000,9, -999.000,9,     2019
  06M220140507, MSM38,   441, 89,     22,2,20140529,1929, 49.3390, -44.2215, 3408,     17.5,   6.6067,  34.4928,2,    327.3,2,   -999.0,9, -999.000,9, -999.000,9,     2019
  06M220140507, MSM38,   442, 90,      1,2,20140529,2240, 49.4643, -44.1442, 3773,   3803.9,   2.0216,  34.8995,2,    289.4,2,    289.8,2, -999.000,9, -999.000,9,     2240
  06M220140507, MSM38,   442, 90,      2,2,20140529,2240, 49.4643, -44.1442, 3773,   3598.1,   2.1084,  34.8978,2,    284.1,2,   -999.0,9, -999.000,9, -999.000,9,     2243
  06M220140507, MSM38,   442, 90,      3,2,20140529,2240, 49.4643, -44.1442, 3773,   3348.4,   2.1686,  34.8980,2,    281.2,2,   -999.0,9, -999.000,9, -999.000,9,     2246
  06M220140507, MSM38,   442, 90,      4,2,20140529,2240, 49.4643, -44.1442, 3773,   3098.2,   2.2631,  34.9016,2,    279.1,2,   -999.0,9, -999.000,9, -999.000,9,     2250
  06M220140507, MSM38,   442, 90,      5,2,20140529,2240, 49.4643, -44.1442, 3773,   2898.8,   2.3734,  34.9064,2,    277.6,2,   -999.0,9, -999.000,9, -999.000,9,     2252
  06M220140507, MSM38,   442, 90,      6,2,20140529,2240, 49.4643, -44.1442, 3773,   2697.6,   2.5433,  34.9131,2,    277.4,2,   -999.0,9, -999.000,9, -999.000,9,     2255
  06M220140507, MSM38,   442, 90,      7,2,20140529,2240, 49.4643, -44.1442, 3773,   2497.7,   2.6942,  34.9178,2,    276.4,2,   -999.0,9, -999.000,9, -999.000,9,     2258
  06M220140507, MSM38,   442, 90,      8,2,20140529,2240, 49.4643, -44.1442, 3773,   2300.5,   2.8324,  34.9199,2,    276.4,2,    278.4,2, -999.000,9, -999.000,9,     2301
  06M220140507, MSM38,   442, 90,      9,2,20140529,2240, 49.4643, -44.1442, 3773,   2097.6,   2.9717,  34.9204,2,    275.2,2,   -999.0,9, -999.000,9, -999.000,9,     2303
  06M220140507, MSM38,   442, 90,     10,2,20140529,2240, 49.4643, -44.1442, 3773,   1899.0,   3.0916,  34.9206,2,    274.1,2,   -999.0,9, -999.000,9, -999.000,9,     2306
  06M220140507, MSM38,   442, 90,     11,2,20140529,2240, 49.4643, -44.1442, 3773,   1697.9,   3.2161,  34.9213,2,    273.7,2,   -999.0,9, -999.000,9, -999.000,9,     2309
  06M220140507, MSM38,   442, 90,     12,2,20140529,2240, 49.4643, -44.1442, 3773,   1497.3,   3.3711,  34.9229,2,    273.1,2,   -999.0,9, -999.000,9, -999.000,9,     2311
  06M220140507, MSM38,   442, 90,     13,2,20140529,2240, 49.4643, -44.1442, 3773,   1297.5,   3.5333,  34.9266,2,    271.7,2,   -999.0,9, -999.000,9, -999.000,9,     2314
  06M220140507, MSM38,   442, 90,     14,2,20140529,2240, 49.4643, -44.1442, 3773,   1100.1,   3.7210,  34.9262,2,    271.8,2,   -999.0,9, -999.000,9, -999.000,9,     2317
  06M220140507, MSM38,   442, 90,     15,2,20140529,2240, 49.4643, -44.1442, 3773,    898.4,   3.8593,  34.9110,2,    275.9,2,   -999.0,9, -999.000,9, -999.000,9,     2320
  06M220140507, MSM38,   442, 90,     16,2,20140529,2240, 49.4643, -44.1442, 3773,    689.9,   4.1465,  34.9236,2,    274.5,2,    275.5,2, -999.000,9, -999.000,9,     2322
  06M220140507, MSM38,   442, 90,     17,2,20140529,2240, 49.4643, -44.1442, 3773,    497.7,   4.4019,  34.9257,2,    272.6,2,   -999.0,9, -999.000,9, -999.000,9,     2325
  06M220140507, MSM38,   442, 90,     18,2,20140529,2240, 49.4643, -44.1442, 3773,    300.6,   4.0083,  34.8039,2,    280.1,2,   -999.0,9, -999.000,9, -999.000,9,     2328
  06M220140507, MSM38,   442, 90,     19,2,20140529,2240, 49.4643, -44.1442, 3773,    198.8,   4.3394,  34.7557,2,    270.4,2,   -999.0,9, -999.000,9, -999.000,9,     2329
  06M220140507, MSM38,   442, 90,     20,2,20140529,2240, 49.4643, -44.1442, 3773,     98.1,   4.8906,  34.6409,2,    267.9,2,   -999.0,9, -999.000,9, -999.000,9,     2331
  06M220140507, MSM38,   442, 90,     21,2,20140529,2240, 49.4643, -44.1442, 3773,     12.7,   7.6764,  34.4447,2,    337.0,2,   -999.0,9, -999.000,9, -999.000,9,     2334
  06M220140507, MSM38,   442, 90,     22,2,20140529,2240, 49.4643, -44.1442, 3773,     13.5,   7.7774,  34.4442,2,    334.6,2,    335.7,6, -999.000,9, -999.000,9,     2334