BOTTLE,20200319PRINUNIVRMK
EXPOCODE,SECT_ID,STNNBR,CASTNO,BTLNBR,BTLNBR_FLAG_W,DATE,TIME,LATITUDE,LONGITUDE,DEPTH,CTDPRS,CTDTMP,CTDSAL,CTDSAL_FLAG_W,CTDOXY,CTDOXY_FLAG_W,OXYGEN,OXYGEN_FLAG_W,CFC-11,CFC-11_FLAG_W,CFC-12,CFC-12_FLAG_W,BTL_TIME
,,,,,,,,,,METERS,DBAR,ITS-90,PSS-78,,UMOL/KG,,UMOL/KG,,PMOL/KG,,PMOL/KG,,
  06M220140507, MSM38,   443, 91,      1,2,20140530,0204, 49.5888, -44.0643, 3976,   4037.5,   2.0184,  34.9005,2,    290.1,2,    288.7,2, -999.000,9, -999.000,9,      204
  06M220140507, MSM38,   443, 91,      2,2,20140530,0204, 49.5888, -44.0643, 3976,   3799.9,   2.1484,  34.8983,2,    283.9,2,   -999.0,9, -999.000,9, -999.000,9,      207
  06M220140507, MSM38,   443, 91,      3,2,20140530,0204, 49.5888, -44.0643, 3976,   3499.9,   2.2211,  34.8996,2,    280.4,2,   -999.0,9, -999.000,9, -999.000,9,      212
  06M220140507, MSM38,   443, 91,      4,2,20140530,0204, 49.5888, -44.0643, 3976,   3199.3,   2.3614,  34.9049,2,    277.9,2,   -999.0,9, -999.000,9, -999.000,9,      216
  06M220140507, MSM38,   443, 91,      5,2,20140530,0204, 49.5888, -44.0643, 3976,   2899.2,   2.6228,  34.9150,2,    276.8,2,   -999.0,9, -999.000,9, -999.000,9,      220
  06M220140507, MSM38,   443, 91,      6,2,20140530,0204, 49.5888, -44.0643, 3976,   2598.9,   2.8267,  34.9198,2,    275.6,2,   -999.0,9, -999.000,9, -999.000,9,      224
  06M220140507, MSM38,   443, 91,      7,2,20140530,0204, 49.5888, -44.0643, 3976,   2300.5,   3.0326,  34.9202,2,    274.4,2,   -999.0,9, -999.000,9, -999.000,9,      228
  06M220140507, MSM38,   443, 91,      8,2,20140530,0204, 49.5888, -44.0643, 3976,   1996.9,   3.2399,  34.9215,2,    274.8,2,   -999.0,9, -999.000,9, -999.000,9,      232
  06M220140507, MSM38,   443, 91,      9,2,20140530,0204, 49.5888, -44.0643, 3976,   1800.0,   3.3965,  34.9232,2,    272.6,2,   -999.0,9, -999.000,9, -999.000,9,      235
  06M220140507, MSM38,   443, 91,     10,2,20140530,0204, 49.5888, -44.0643, 3976,   1596.5,   3.5510,  34.9255,2,    271.6,2,   -999.0,9, -999.000,9, -999.000,9,      238
  06M220140507, MSM38,   443, 91,     11,2,20140530,0204, 49.5888, -44.0643, 3976,   1398.5,   3.7246,  34.9309,2,    269.3,2,    268.2,2, -999.000,9, -999.000,9,      241
  06M220140507, MSM38,   443, 91,     12,2,20140530,0204, 49.5888, -44.0643, 3976,   1198.5,   3.8393,  34.9248,2,    271.4,2,   -999.0,9, -999.000,9, -999.000,9,      244
  06M220140507, MSM38,   443, 91,     13,2,20140530,0204, 49.5888, -44.0643, 3976,    962.8,   3.9469,  34.9130,2,    275.9,2,   -999.0,9, -999.000,9, -999.000,9,      247
  06M220140507, MSM38,   443, 91,     14,2,20140530,0204, 49.5888, -44.0643, 3976,    797.8,   4.1792,  34.9310,2,    271.1,2,   -999.0,9, -999.000,9, -999.000,9,      249
  06M220140507, MSM38,   443, 91,     15,2,20140530,0204, 49.5888, -44.0643, 3976,    598.5,   4.2670,  34.9130,2,    280.3,2,   -999.0,9, -999.000,9, -999.000,9,      252
  06M220140507, MSM38,   443, 91,     16,2,20140530,0204, 49.5888, -44.0643, 3976,    398.6,   3.7729,  34.7919,2,    288.3,2,   -999.0,9, -999.000,9, -999.000,9,      255
  06M220140507, MSM38,   443, 91,     17,2,20140530,0204, 49.5888, -44.0643, 3976,    199.6,   4.7468,  34.7269,2,    264.4,2,    259.8,6, -999.000,9, -999.000,9,      258
  06M220140507, MSM38,   443, 91,     18,2,20140530,0204, 49.5888, -44.0643, 3976,     17.0,   9.6234,  34.5640,2,    313.4,2,   -999.0,9, -999.000,9, -999.000,9,      303
  06M220140507, MSM38,   443, 91,     19,2,20140530,0204, 49.5888, -44.0643, 3976,     16.4,   9.6209,  34.5630,2,    313.7,2,   -999.0,9, -999.000,9, -999.000,9,      303
  06M220140507, MSM38,   443, 91,     20,2,20140530,0204, 49.5888, -44.0643, 3976,     15.9,   9.6131,  34.5638,2,    313.7,2,   -999.0,9, -999.000,9, -999.000,9,      303
  06M220140507, MSM38,   443, 91,     21,2,20140530,0204, 49.5888, -44.0643, 3976,     15.9,   9.6148,  34.5637,2,    312.7,2,   -999.0,9, -999.000,9, -999.000,9,      303
  06M220140507, MSM38,   443, 91,     22,2,20140530,0204, 49.5888, -44.0643, 3976,     16.0,   9.6286,  34.5641,2,    313.0,2,   -999.0,9, -999.000,9, -999.000,9,      303
  06M220140507, MSM38,   444, 92,      1,2,20140530,0533, 49.7135, -43.9833, 4050,   4123.3,   2.0374,  34.9007,2,    290.9,2,    288.6,2, -999.000,9, -999.000,9,      533
  06M220140507, MSM38,   444, 92,      2,2,20140530,0533, 49.7135, -43.9833, 4050,   3997.0,   2.0746,  34.9000,2,    288.7,2,   -999.0,9, -999.000,9, -999.000,9,      535
  06M220140507, MSM38,   444, 92,      3,2,20140530,0533, 49.7135, -43.9833, 4050,   3798.5,   2.1625,  34.8981,2,    283.2,2,   -999.0,9, -999.000,9, -999.000,9,      538
  06M220140507, MSM38,   444, 92,      4,2,20140530,0533, 49.7135, -43.9833, 4050,   3597.0,   2.2458,  34.8995,2,    279.8,2,   -999.0,9, -999.000,9, -999.000,9,      540
  06M220140507, MSM38,   444, 92,      5,2,20140530,0533, 49.7135, -43.9833, 4050,   3397.2,   2.3604,  34.9036,2,    277.4,2,   -999.0,9, -999.000,9, -999.000,9,      543
  06M220140507, MSM38,   444, 92,      6,2,20140530,0533, 49.7135, -43.9833, 4050,   3197.2,   2.4993,  34.9104,2,    277.3,2,   -999.0,9, -999.000,9, -999.000,9,      546
  06M220140507, MSM38,   444, 92,      7,2,20140530,0533, 49.7135, -43.9833, 4050,   2998.0,   2.6762,  34.9163,2,    276.8,2,    276.2,2, -999.000,9, -999.000,9,      549
  06M220140507, MSM38,   444, 92,      8,2,20140530,0533, 49.7135, -43.9833, 4050,   2798.7,   2.8368,  34.9207,2,    274.2,2,   -999.0,9, -999.000,9, -999.000,9,      551
  06M220140507, MSM38,   444, 92,      9,2,20140530,0533, 49.7135, -43.9833, 4050,   2598.6,   2.9583,  34.9209,2,    274.8,2,   -999.0,9, -999.000,9, -999.000,9,      554
  06M220140507, MSM38,   444, 92,     10,2,20140530,0533, 49.7135, -43.9833, 4050,   2396.8,   3.1005,  34.9210,2,    273.7,2,   -999.0,9, -999.000,9, -999.000,9,      557
  06M220140507, MSM38,   444, 92,     11,2,20140530,0533, 49.7135, -43.9833, 4050,   2197.2,   3.2430,  34.9206,2,    273.0,2,   -999.0,9, -999.000,9, -999.000,9,      600
  06M220140507, MSM38,   444, 92,     12,2,20140530,0533, 49.7135, -43.9833, 4050,   1994.0,   3.4101,  34.9236,2,    271.7,2,   -999.0,9, -999.000,9, -999.000,9,      602
  06M220140507, MSM38,   444, 92,     13,2,20140530,0533, 49.7135, -43.9833, 4050,   1798.9,   3.5729,  34.9286,2,    270.1,2,   -999.0,9, -999.000,9, -999.000,9,      605
  06M220140507, MSM38,   444, 92,     14,2,20140530,0533, 49.7135, -43.9833, 4050,   1598.0,   3.7290,  34.9317,2,    269.2,2,    269.7,2, -999.000,9, -999.000,9,      608
  06M220140507, MSM38,   444, 92,     15,2,20140530,0533, 49.7135, -43.9833, 4050,   1397.5,   3.8354,  34.9255,2,    271.2,2,   -999.0,9, -999.000,9, -999.000,9,      611
  06M220140507, MSM38,   444, 92,     16,2,20140530,0533, 49.7135, -43.9833, 4050,   1199.3,   3.9015,  34.9135,2,    274.9,2,   -999.0,9, -999.000,9, -999.000,9,      613
  06M220140507, MSM38,   444, 92,     17,2,20140530,0533, 49.7135, -43.9833, 4050,    998.0,   4.0456,  34.9157,2,    274.3,2,   -999.0,9, -999.000,9, -999.000,9,      616
  06M220140507, MSM38,   444, 92,     18,2,20140530,0533, 49.7135, -43.9833, 4050,    800.3,   4.2496,  34.9200,2,    277.1,2,   -999.0,9, -999.000,9, -999.000,9,      619
  06M220140507, MSM38,   444, 92,     19,2,20140530,0533, 49.7135, -43.9833, 4050,    599.2,   4.2904,  34.8680,2,    273.7,2,   -999.0,9, -999.000,9, -999.000,9,      622
  06M220140507, MSM38,   444, 92,     20,2,20140530,0533, 49.7135, -43.9833, 4050,    396.0,   5.7132,  34.9097,2,    229.1,2,   -999.0,9, -999.000,9, -999.000,9,      625
  06M220140507, MSM38,   444, 92,     21,2,20140530,0533, 49.7135, -43.9833, 4050,    197.0,   8.2204,  35.0522,2,    253.6,2,    253.3,2, -999.000,9, -999.000,9,      627
  06M220140507, MSM38,   444, 92,     22,2,20140530,0533, 49.7135, -43.9833, 4050,     16.7,  10.3751,  35.0636,2,    282.8,2,   -999.0,9, -999.000,9, -999.000,9,      632
  06M220140507, MSM38,   445, 93,      1,2,20140530,0855, 49.8380, -43.9048, 4149,   4216.3,   2.0458,  34.9005,2,    290.9,2,    289.9,2, -999.000,9, -999.000,9,      855
  06M220140507, MSM38,   445, 93,      2,2,20140530,0855, 49.8380, -43.9048, 4149,   3999.0,   2.0961,  34.9003,2,    288.3,2,   -999.0,9, -999.000,9, -999.000,9,      858
  06M220140507, MSM38,   445, 93,      3,2,20140530,0855, 49.8380, -43.9048, 4149,   3698.0,   2.2106,  34.9003,2,    283.2,2,   -999.0,9, -999.000,9, -999.000,9,      902
  06M220140507, MSM38,   445, 93,      4,2,20140530,0855, 49.8380, -43.9048, 4149,   3399.3,   2.3907,  34.9063,2,    279.9,2,   -999.0,9, -999.000,9, -999.000,9,      906
  06M220140507, MSM38,   445, 93,      5,2,20140530,0855, 49.8380, -43.9048, 4149,   3098.9,   2.6463,  34.9162,2,    277.6,2,   -999.0,9, -999.000,9, -999.000,9,      910
  06M220140507, MSM38,   445, 93,      6,2,20140530,0855, 49.8380, -43.9048, 4149,   2797.1,   2.8967,  34.9205,2,    276.4,2,   -999.0,9, -999.000,9, -999.000,9,      914
  06M220140507, MSM38,   445, 93,      7,2,20140530,0855, 49.8380, -43.9048, 4149,   2498.9,   3.1342,  34.9204,2,    274.6,2,   -999.0,9, -999.000,9, -999.000,9,      918
  06M220140507, MSM38,   445, 93,      8,2,20140530,0855, 49.8380, -43.9048, 4149,   2297.0,   3.2789,  34.9202,2,    273.9,2,   -999.0,9, -999.000,9, -999.000,9,      921
  06M220140507, MSM38,   445, 93,      9,2,20140530,0855, 49.8380, -43.9048, 4149,   2098.5,   3.4390,  34.9241,2,    271.2,2,   -999.0,9, -999.000,9, -999.000,9,      924
  06M220140507, MSM38,   445, 93,     10,2,20140530,0855, 49.8380, -43.9048, 4149,   1897.4,   3.6141,  34.9292,2,    269.7,2,    270.9,2, -999.000,9, -999.000,9,      926
  06M220140507, MSM38,   445, 93,     11,2,20140530,0855, 49.8380, -43.9048, 4149,   1698.5,   3.7427,  34.9283,2,    269.7,2,   -999.0,9, -999.000,9, -999.000,9,      929
  06M220140507, MSM38,   445, 93,     12,2,20140530,0855, 49.8380, -43.9048, 4149,   1498.9,   3.8732,  34.9225,2,    272.3,2,   -999.0,9, -999.000,9, -999.000,9,      932
  06M220140507, MSM38,   445, 93,     13,2,20140530,0855, 49.8380, -43.9048, 4149,   1299.0,   3.9375,  34.9097,2,    276.3,2,   -999.0,9, -999.000,9, -999.000,9,      935
  06M220140507, MSM38,   445, 93,     14,2,20140530,0855, 49.8380, -43.9048, 4149,   1097.6,   4.1399,  34.9212,2,    275.2,2,   -999.0,9, -999.000,9, -999.000,9,      937
  06M220140507, MSM38,   445, 93,     15,2,20140530,0855, 49.8380, -43.9048, 4149,    900.0,   4.1585,  34.8934,2,    278.4,2,   -999.0,9, -999.000,9, -999.000,9,      940
  06M220140507, MSM38,   445, 93,     16,2,20140530,0855, 49.8380, -43.9048, 4149,    698.3,   4.1278,  34.8160,2,    281.3,2,   -999.0,9, -999.000,9, -999.000,9,      943
  06M220140507, MSM38,   445, 93,     17,2,20140530,0855, 49.8380, -43.9048, 4149,    499.3,   5.6288,  34.8157,2,    239.1,2,   -999.0,9, -999.000,9, -999.000,9,      946
  06M220140507, MSM38,   445, 93,     18,2,20140530,0855, 49.8380, -43.9048, 4149,    298.5,   8.2599,  35.1012,2,    269.4,2,   -999.0,9, -999.000,9, -999.000,9,      948
  06M220140507, MSM38,   445, 93,     19,2,20140530,0855, 49.8380, -43.9048, 4149,     96.8,   9.5301,  35.1437,2,    258.5,2,    260.1,6, -999.000,9, -999.000,9,      951
  06M220140507, MSM38,   445, 93,     20,2,20140530,0855, 49.8380, -43.9048, 4149,     15.3,  10.7351,  35.1464,2,    281.0,2,   -999.0,9, -999.000,9, -999.000,9,      954
  06M220140507, MSM38,   445, 93,     21,2,20140530,0855, 49.8380, -43.9048, 4149,     14.9,  10.7385,  35.1376,2,    281.1,2,   -999.0,9, -999.000,9, -999.000,9,      954
  06M220140507, MSM38,   445, 93,     22,2,20140530,0855, 49.8380, -43.9048, 4149,     15.2,  10.7370,  35.1405,2,    281.9,2,   -999.0,9, -999.000,9, -999.000,9,      954
  06M220140507, MSM38,   446, 94,      1,2,20140530,1249, 50.0463, -43.7805, 4220,   4291.7,   2.0143,  34.9016,2,    292.4,2,    289.3,2, -999.000,9, -999.000,9,     1249
  06M220140507, MSM38,   446, 94,      2,2,20140530,1249, 50.0463, -43.7805, 4220,   4098.5,   2.1094,  34.9011,2,    289.1,2,   -999.0,9, -999.000,9, -999.000,9,     1252
  06M220140507, MSM38,   446, 94,      3,2,20140530,1249, 50.0463, -43.7805, 4220,   3898.1,   2.1989,  34.9010,2,    285.2,2,   -999.0,9, -999.000,9, -999.000,9,     1255
  06M220140507, MSM38,   446, 94,      4,2,20140530,1249, 50.0463, -43.7805, 4220,   3598.7,   2.3255,  34.9047,2,    281.9,2,   -999.0,9, -999.000,9, -999.000,9,     1259
  06M220140507, MSM38,   446, 94,      5,2,20140530,1249, 50.0463, -43.7805, 4220,   3299.2,   2.5250,  34.9116,2,    278.9,2,   -999.0,9, -999.000,9, -999.000,9,     1303
  06M220140507, MSM38,   446, 94,      6,2,20140530,1249, 50.0463, -43.7805, 4220,   3098.5,   2.7121,  34.9176,2,    275.6,2,    275.7,2, -999.000,9, -999.000,9,     1306
  06M220140507, MSM38,   446, 94,      7,2,20140530,1249, 50.0463, -43.7805, 4220,   2898.3,   2.8873,  34.9214,2,    275.9,2,   -999.0,9, -999.000,9, -999.000,9,     1309
  06M220140507, MSM38,   446, 94,      8,2,20140530,1249, 50.0463, -43.7805, 4220,   2698.6,   3.0347,  34.9210,2,    274.6,2,   -999.0,9, -999.000,9, -999.000,9,     1311
  06M220140507, MSM38,   446, 94,      9,2,20140530,1249, 50.0463, -43.7805, 4220,   2498.4,   3.1953,  34.9210,2,    274.1,2,   -999.0,9, -999.000,9, -999.000,9,     1314
  06M220140507, MSM38,   446, 94,     10,2,20140530,1249, 50.0463, -43.7805, 4220,   2297.3,   3.3496,  34.9223,2,    272.7,2,   -999.0,9, -999.000,9, -999.000,9,     1317
  06M220140507, MSM38,   446, 94,     11,2,20140530,1249, 50.0463, -43.7805, 4220,   2099.2,   3.4993,  34.9247,2,    271.1,2,   -999.0,9, -999.000,9, -999.000,9,     1320
  06M220140507, MSM38,   446, 94,     12,2,20140530,1249, 50.0463, -43.7805, 4220,   1898.2,   3.6670,  34.9277,2,    270.2,2,   -999.0,9, -999.000,9, -999.000,9,     1323
  06M220140507, MSM38,   446, 94,     13,2,20140530,1249, 50.0463, -43.7805, 4220,   1699.2,   3.8078,  34.9237,2,    270.5,2,   -999.0,9, -999.000,9, -999.000,9,     1325
  06M220140507, MSM38,   446, 94,     14,2,20140530,1249, 50.0463, -43.7805, 4220,   1499.3,   3.8826,  34.9119,2,    275.2,2,   -999.0,9, -999.000,9, -999.000,9,     1328
  06M220140507, MSM38,   446, 94,     15,2,20140530,1249, 50.0463, -43.7805, 4220,   1297.9,   4.0168,  34.9108,2,    276.8,2,   -999.0,9, -999.000,9, -999.000,9,     1331
  06M220140507, MSM38,   446, 94,     16,2,20140530,1249, 50.0463, -43.7805, 4220,   1089.9,   4.2850,  34.9276,2,    271.9,2,    271.6,2, -999.000,9, -999.000,9,     1334
  06M220140507, MSM38,   446, 94,     17,2,20140530,1249, 50.0463, -43.7805, 4220,    899.9,   4.6932,  34.9515,2,    259.4,2,   -999.0,9, -999.000,9, -999.000,9,     1336
  06M220140507, MSM38,   446, 94,     18,2,20140530,1249, 50.0463, -43.7805, 4220,    699.7,   4.9420,  34.8346,2,    251.8,2,   -999.0,9, -999.000,9, -999.000,9,     1339
  06M220140507, MSM38,   446, 94,     19,2,20140530,1249, 50.0463, -43.7805, 4220,    492.9,   6.7824,  34.8829,2,    251.0,2,   -999.0,9, -999.000,9, -999.000,9,     1342
  06M220140507, MSM38,   446, 94,     20,2,20140530,1249, 50.0463, -43.7805, 4220,    299.6,   8.0307,  35.0060,2,    257.9,2,   -999.0,9, -999.000,9, -999.000,9,     1345
  06M220140507, MSM38,   446, 94,     21,2,20140530,1249, 50.0463, -43.7805, 4220,     98.0,  10.7195,  35.3277,2,    256.2,2,   -999.0,9, -999.000,9, -999.000,9,     1348
  06M220140507, MSM38,   446, 94,     22,2,20140530,1249, 50.0463, -43.7805, 4220,     15.3,  10.2312,  34.9734,2,    281.8,2,    269.3,2, -999.000,9, -999.000,9,     1351
  06M220140507, MSM38,   447, 95,      1,2,20140530,1652, 50.2182, -43.6750, 4243,   4255.5,   2.0306,  34.9019,2,    291.9,2,    291.0,2, -999.000,9, -999.000,9,     1652
  06M220140507, MSM38,   447, 95,      2,2,20140530,1652, 50.2182, -43.6750, 4243,   3998.8,   2.1210,  34.9013,2,    289.8,2,   -999.0,9, -999.000,9, -999.000,9,     1656
  06M220140507, MSM38,   447, 95,      3,2,20140530,1652, 50.2182, -43.6750, 4243,   3698.6,   2.2691,  34.8999,2,    279.5,2,   -999.0,9, -999.000,9, -999.000,9,     1700
  06M220140507, MSM38,   447, 95,      4,2,20140530,1652, 50.2182, -43.6750, 4243,   3397.5,   2.4535,  34.9080,2,    278.4,2,   -999.0,9, -999.000,9, -999.000,9,     1704
  06M220140507, MSM38,   447, 95,      5,2,20140530,1652, 50.2182, -43.6750, 4243,   3098.2,   2.7199,  34.9177,2,    276.1,2,   -999.0,9, -999.000,9, -999.000,9,     1708
  06M220140507, MSM38,   447, 95,      6,2,20140530,1652, 50.2182, -43.6750, 4243,   2797.8,   2.9620,  34.9208,2,    275.8,2,   -999.0,9, -999.000,9, -999.000,9,     1712
  06M220140507, MSM38,   447, 95,      7,2,20140530,1652, 50.2182, -43.6750, 4243,   2498.9,   3.2001,  34.9201,2,    274.2,2,   -999.0,9, -999.000,9, -999.000,9,     1716
  06M220140507, MSM38,   447, 95,      8,2,20140530,1652, 50.2182, -43.6750, 4243,   2196.3,   3.4126,  34.9215,2,    272.4,2,   -999.0,9, -999.000,9, -999.000,9,     1720
  06M220140507, MSM38,   447, 95,      9,2,20140530,1652, 50.2182, -43.6750, 4243,   1898.1,   3.6706,  34.9270,2,    270.2,2,   -999.0,9, -999.000,9, -999.000,9,     1724
  06M220140507, MSM38,   447, 95,     10,2,20140530,1652, 50.2182, -43.6750, 4243,   1697.8,   3.8020,  34.9244,2,    271.2,2,    271.5,6, -999.000,9, -999.000,9,     1727
  06M220140507, MSM38,   447, 95,     11,2,20140530,1652, 50.2182, -43.6750, 4243,   1499.1,   3.9003,  34.9172,2,    275.0,2,   -999.0,9, -999.000,9, -999.000,9,     1729
  06M220140507, MSM38,   447, 95,     12,2,20140530,1652, 50.2182, -43.6750, 4243,   1297.0,   3.9684,  34.9072,2,    277.5,2,   -999.0,9, -999.000,9, -999.000,9,     1732
  06M220140507, MSM38,   447, 95,     13,2,20140530,1652, 50.2182, -43.6750, 4243,   1098.8,   4.2556,  34.9286,2,    272.2,2,   -999.0,9, -999.000,9, -999.000,9,     1735
  06M220140507, MSM38,   447, 95,     14,2,20140530,1652, 50.2182, -43.6750, 4243,    898.2,   4.5313,  34.9256,2,    265.7,2,   -999.0,9, -999.000,9, -999.000,9,     1738
  06M220140507, MSM38,   447, 95,     15,2,20140530,1652, 50.2182, -43.6750, 4243,    698.7,   4.9577,  34.8685,2,    251.8,2,   -999.0,9, -999.000,9, -999.000,9,     1740
  06M220140507, MSM38,   447, 95,     16,2,20140530,1652, 50.2182, -43.6750, 4243,    498.5,   6.2823,  34.8532,2,    243.9,2,   -999.0,9, -999.000,9, -999.000,9,     1743
  06M220140507, MSM38,   447, 95,     17,2,20140530,1652, 50.2182, -43.6750, 4243,    298.6,   8.2438,  34.9881,2,    233.8,2,   -999.0,9, -999.000,9, -999.000,9,     1746
  06M220140507, MSM38,   447, 95,     18,2,20140530,1652, 50.2182, -43.6750, 4243,     97.1,  10.7391,  35.3271,2,    255.5,2,   -999.0,9, -999.000,9, -999.000,9,     1748
  06M220140507, MSM38,   447, 95,     19,2,20140530,1652, 50.2182, -43.6750, 4243,     16.0,  10.5127,  35.0807,2,    286.6,2,    279.2,2, -999.000,9, -999.000,9,     1751
  06M220140507, MSM38,   447, 95,     20,2,20140530,1652, 50.2182, -43.6750, 4243,     15.8,  10.5061,  35.0837,2,    283.6,2,   -999.0,9, -999.000,9, -999.000,9,     1752
  06M220140507, MSM38,   447, 95,     21,2,20140530,1652, 50.2182, -43.6750, 4243,     15.9,  10.4902,  35.0837,2,    280.3,2,   -999.0,9, -999.000,9, -999.000,9,     1752
  06M220140507, MSM38,   447, 95,     22,2,20140530,1652, 50.2182, -43.6750, 4243,     16.1,  10.5396,  35.0763,2,    279.6,2,   -999.0,9, -999.000,9, -999.000,9,     1752