BOTTLE,20200319PRINUNIVRMK
EXPOCODE,SECT_ID,STNNBR,CASTNO,BTLNBR,BTLNBR_FLAG_W,DATE,TIME,LATITUDE,LONGITUDE,DEPTH,CTDPRS,CTDTMP,CTDSAL,CTDSAL_FLAG_W,CTDOXY,CTDOXY_FLAG_W,OXYGEN,OXYGEN_FLAG_W,CFC-11,CFC-11_FLAG_W,CFC-12,CFC-12_FLAG_W,BTL_TIME
,,,,,,,,,,METERS,DBAR,ITS-90,PSS-78,,UMOL/KG,,UMOL/KG,,PMOL/KG,,PMOL/KG,,
  06M220140507, MSM38,   400, 49,      1,2,20140525,1958, 47.0987, -42.1805, 4111,   4169.0,   2.0828,  34.8992,2,    289.1,2,    290.1,2,    3.530,2,    1.875,2,     1958
  06M220140507, MSM38,   400, 49,      2,2,20140525,1958, 47.0987, -42.1805, 4111,   3996.4,   2.1497,  34.8987,2,    285.8,2,   -999.0,9,    3.243,2,    1.708,2,     2001
  06M220140507, MSM38,   400, 49,      3,2,20140525,1958, 47.0987, -42.1805, 4111,   3898.9,   2.1896,  34.8975,2,    283.0,2,   -999.0,9,    2.848,2,    1.497,2,     2002
  06M220140507, MSM38,   400, 49,      4,2,20140525,1958, 47.0987, -42.1805, 4111,   3597.6,   2.2413,  34.8982,2,    278.7,2,   -999.0,9, -999.000,9, -999.000,9,     2006
  06M220140507, MSM38,   400, 49,      5,2,20140525,1958, 47.0987, -42.1805, 4111,   3297.7,   2.3025,  34.9019,2,    278.9,2,    279.2,2,    2.430,2,    1.269,2,     2010
  06M220140507, MSM38,   400, 49,      6,2,20140525,1958, 47.0987, -42.1805, 4111,   2998.7,   2.5491,  34.9117,2,    274.2,2,   -999.0,9, -999.000,9, -999.000,9,     2015
  06M220140507, MSM38,   400, 49,      7,2,20140525,1958, 47.0987, -42.1805, 4111,   2798.7,   2.7151,  34.9175,2,    274.4,2,   -999.0,9,    2.036,2,    1.052,2,     2017
  06M220140507, MSM38,   400, 49,      8,2,20140525,1958, 47.0987, -42.1805, 4111,   2598.3,   2.8536,  34.9204,2,    274.3,2,   -999.0,9, -999.000,9, -999.000,9,     2020
  06M220140507, MSM38,   400, 49,      9,2,20140525,1958, 47.0987, -42.1805, 4111,   2397.9,   2.9816,  34.9211,2,    273.1,2,   -999.0,9,    2.354,2,    1.218,2,     2023
  06M220140507, MSM38,   400, 49,     10,2,20140525,1958, 47.0987, -42.1805, 4111,   2198.9,   3.1194,  34.9206,2,    274.1,2,   -999.0,9, -999.000,9, -999.000,9,     2026
  06M220140507, MSM38,   400, 49,     11,2,20140525,1958, 47.0987, -42.1805, 4111,   1964.6,   3.2706,  34.9193,2,    273.1,2,   -999.0,9,    2.658,6,    1.364,6,     2029
  06M220140507, MSM38,   400, 49,     12,2,20140525,1958, 47.0987, -42.1805, 4111,   1798.3,   3.4213,  34.9226,2,    272.0,2,   -999.0,9, -999.000,9, -999.000,9,     2031
  06M220140507, MSM38,   400, 49,     13,2,20140525,1958, 47.0987, -42.1805, 4111,   1598.2,   3.5719,  34.9261,2,    270.5,2,   -999.0,9,    2.952,2,    1.518,2,     2034
  06M220140507, MSM38,   400, 49,     14,2,20140525,1958, 47.0987, -42.1805, 4111,   1397.1,   3.7321,  34.9310,2,    269.1,2,   -999.0,9,    3.069,2,    1.594,2,     2037
  06M220140507, MSM38,   400, 49,     15,2,20140525,1958, 47.0987, -42.1805, 4111,   1199.5,   3.8742,  34.9301,2,    270.3,2,   -999.0,9,    3.312,2,    1.771,2,     2040
  06M220140507, MSM38,   400, 49,     16,2,20140525,1958, 47.0987, -42.1805, 4111,    997.5,   3.9674,  34.9223,2,    273.1,2,    273.9,6,    3.627,2,    1.965,2,     2042
  06M220140507, MSM38,   400, 49,     17,2,20140525,1958, 47.0987, -42.1805, 4111,    797.9,   4.1994,  34.9373,2,    270.7,2,   -999.0,9,    3.624,2,    1.996,2,     2045
  06M220140507, MSM38,   400, 49,     18,2,20140525,1958, 47.0987, -42.1805, 4111,    598.7,   4.4321,  34.9462,2,    266.3,2,   -999.0,9,    3.567,2,    1.976,2,     2048
  06M220140507, MSM38,   400, 49,     19,2,20140525,1958, 47.0987, -42.1805, 4111,    398.6,   5.0304,  34.9832,2,    248.7,2,   -999.0,9,    3.187,2,    1.754,2,     2051
  06M220140507, MSM38,   400, 49,     20,2,20140525,1958, 47.0987, -42.1805, 4111,    197.4,   3.7425,  34.6612,2,    294.3,2,   -999.0,9, -999.000,9, -999.000,9,     2054
  06M220140507, MSM38,   400, 49,     21,2,20140525,1958, 47.0987, -42.1805, 4111,     98.3,   4.1192,  34.4842,2,    318.7,2,   -999.0,9, -999.000,9, -999.000,9,     2055
  06M220140507, MSM38,   400, 49,     22,2,20140525,1958, 47.0987, -42.1805, 4111,     64.4,   4.5401,  34.4618,2,    329.2,2,    328.6,2,    4.632,2,    2.583,2,     2056
  06M220140507, MSM38,   401, 50,      1,2,20140525,2345, 47.1000, -42.5910, 3663,   3714.2,   2.1140,  34.9000,2,    286.8,2,    285.2,2,    3.307,2,    1.740,2,     2345
  06M220140507, MSM38,   401, 50,      2,2,20140525,2345, 47.1000, -42.5910, 3663,   3559.2,   2.2293,  34.9039,2,    283.7,2,   -999.0,9, -999.000,9, -999.000,9,     2347
  06M220140507, MSM38,   401, 50,      3,2,20140525,2345, 47.1000, -42.5910, 3663,   3250.5,   2.3933,  34.9069,2,    280.5,2,   -999.0,9,    2.737,2,    1.416,2,     2352
  06M220140507, MSM38,   401, 50,      4,2,20140525,2345, 47.1000, -42.5910, 3663,   2898.0,   2.6500,  34.9164,2,    278.6,2,   -999.0,9,    2.771,2,    1.430,2,     2356
  06M220140507, MSM38,   401, 50,      5,2,20140525,2345, 47.1000, -42.5910, 3663,   2598.7,   2.9094,  34.9204,2,    274.7,2,   -999.0,9,    2.449,2,    1.261,2,        1
  06M220140507, MSM38,   401, 50,      6,2,20140525,2345, 47.1000, -42.5910, 3663,   2297.0,   3.0869,  34.9203,2,    275.8,2,   -999.0,9,    2.794,2,    1.441,2,        5
  06M220140507, MSM38,   401, 50,      7,2,20140525,2345, 47.1000, -42.5910, 3663,   1997.4,   3.3207,  34.9225,2,    274.6,2,   -999.0,9,    3.013,2,    1.569,2,        9
  06M220140507, MSM38,   401, 50,      8,2,20140525,2345, 47.1000, -42.5910, 3663,   1697.1,   3.5690,  34.9273,2,    270.2,2,   -999.0,9,    2.927,2,    1.489,2,       13
  06M220140507, MSM38,   401, 50,      9,2,20140525,2345, 47.1000, -42.5910, 3663,   1696.4,   3.5680,  34.9274,2,    270.3,2,   -999.0,9, -999.000,9, -999.000,9,       13
  06M220140507, MSM38,   401, 50,     10,2,20140525,2345, 47.1000, -42.5910, 3663,   1398.3,   3.7846,  34.9296,2,    269.9,2,    270.2,2,    3.226,2,    1.684,2,       17
  06M220140507, MSM38,   401, 50,     11,2,20140525,2345, 47.1000, -42.5910, 3663,   1396.2,   3.7853,  34.9296,2,    269.8,2,   -999.0,9, -999.000,9, -999.000,9,       17
  06M220140507, MSM38,   401, 50,     12,2,20140525,2345, 47.1000, -42.5910, 3663,   1197.8,   3.9133,  34.9259,2,    272.0,2,   -999.0,9,    3.706,2,    1.997,2,       20
  06M220140507, MSM38,   401, 50,     13,2,20140525,2345, 47.1000, -42.5910, 3663,   1195.9,   3.9141,  34.9260,2,    271.6,2,   -999.0,9, -999.000,9, -999.000,9,       20
  06M220140507, MSM38,   401, 50,     14,2,20140525,2345, 47.1000, -42.5910, 3663,   1048.7,   4.0176,  34.9250,2,    273.0,2,   -999.0,9,    3.722,2,    1.998,2,       22
  06M220140507, MSM38,   401, 50,     15,2,20140525,2345, 47.1000, -42.5910, 3663,   1046.0,   4.0186,  34.9250,2,    273.0,2,   -999.0,9, -999.000,9, -999.000,9,       22
  06M220140507, MSM38,   401, 50,     16,2,20140525,2345, 47.1000, -42.5910, 3663,    799.0,   4.3812,  34.9457,2,    268.2,2,   -999.0,9,    3.692,2,    2.017,2,       25
  06M220140507, MSM38,   401, 50,     17,2,20140525,2345, 47.1000, -42.5910, 3663,    797.1,   4.3830,  34.9459,2,    268.4,2,   -999.0,9, -999.000,9, -999.000,9,       25
  06M220140507, MSM38,   401, 50,     18,2,20140525,2345, 47.1000, -42.5910, 3663,    597.2,   4.6691,  34.9465,2,    260.4,2,   -999.0,9,    3.603,2,    1.974,2,       28
  06M220140507, MSM38,   401, 50,     19,2,20140525,2345, 47.1000, -42.5910, 3663,    594.6,   4.6803,  34.9473,2,    260.1,2,   -999.0,9, -999.000,9, -999.000,9,       28
  06M220140507, MSM38,   401, 50,     20,2,20140525,2345, 47.1000, -42.5910, 3663,    297.7,   5.5294,  34.8056,2,    232.2,2,   -999.0,9,    3.032,2,    1.671,2,       32
  06M220140507, MSM38,   401, 50,     21,2,20140525,2345, 47.1000, -42.5910, 3663,     14.7,  10.3868,  34.7881,2,    290.4,2,    290.0,6,    3.498,2,    2.010,2,       38
  06M220140507, MSM38,   401, 50,     22,2,20140525,2345, 47.1000, -42.5910, 3663,     15.1,  10.1207,  34.7201,2,    292.0,2,   -999.0,9, -999.000,9, -999.000,9,       38
  06M220140507, MSM38,   402, 51,      1,2,20140526,0301, 47.1002, -42.8940, 3459,   3498.2,   2.1482,  34.9006,2,    284.8,2,    284.5,2, -999.000,9, -999.000,9,      301
  06M220140507, MSM38,   402, 51,      2,2,20140526,0301, 47.1002, -42.8940, 3459,   3497.9,   2.1439,  34.9008,2,    285.1,2,   -999.0,9, -999.000,9, -999.000,9,      301
  06M220140507, MSM38,   402, 51,      3,2,20140526,0301, 47.1002, -42.8940, 3459,   3294.5,   2.2518,  34.9055,2,    285.7,2,   -999.0,9, -999.000,9, -999.000,9,      304
  06M220140507, MSM38,   402, 51,      4,2,20140526,0301, 47.1002, -42.8940, 3459,   3292.6,   2.2516,  34.9056,2,    286.0,2,   -999.0,9, -999.000,9, -999.000,9,      304
  06M220140507, MSM38,   402, 51,      5,2,20140526,0301, 47.1002, -42.8940, 3459,   3095.0,   2.4110,  34.9095,2,    283.5,2,    282.2,2, -999.000,9, -999.000,9,      307
  06M220140507, MSM38,   402, 51,      6,2,20140526,0301, 47.1002, -42.8940, 3459,   2897.9,   2.5728,  34.9143,2,    280.5,2,   -999.0,9, -999.000,9, -999.000,9,      310
  06M220140507, MSM38,   402, 51,      7,2,20140526,0301, 47.1002, -42.8940, 3459,   2698.4,   2.7042,  34.9180,2,    279.8,2,   -999.0,9, -999.000,9, -999.000,9,      312
  06M220140507, MSM38,   402, 51,      8,2,20140526,0301, 47.1002, -42.8940, 3459,   2460.5,   2.9338,  34.9204,2,    275.7,2,   -999.0,9, -999.000,9, -999.000,9,      316
  06M220140507, MSM38,   402, 51,      9,2,20140526,0301, 47.1002, -42.8940, 3459,   2300.0,   3.0582,  34.9200,2,    275.7,2,   -999.0,9, -999.000,9, -999.000,9,      318
  06M220140507, MSM38,   402, 51,     10,2,20140526,0301, 47.1002, -42.8940, 3459,   2098.5,   3.2279,  34.9209,2,    275.3,2,   -999.0,9, -999.000,9, -999.000,9,      321
  06M220140507, MSM38,   402, 51,     11,2,20140526,0301, 47.1002, -42.8940, 3459,   1898.7,   3.4107,  34.9230,2,    274.1,2,   -999.0,9, -999.000,9, -999.000,9,      324
  06M220140507, MSM38,   402, 51,     12,2,20140526,0301, 47.1002, -42.8940, 3459,   1698.1,   3.5856,  34.9252,2,    272.6,2,   -999.0,9, -999.000,9, -999.000,9,      326
  06M220140507, MSM38,   402, 51,     13,2,20140526,0301, 47.1002, -42.8940, 3459,   1482.7,   3.7192,  34.9204,2,    274.8,2,   -999.0,9, -999.000,9, -999.000,9,      329
  06M220140507, MSM38,   402, 51,     14,2,20140526,0301, 47.1002, -42.8940, 3459,   1298.5,   3.8012,  34.9076,2,    279.3,2,    278.5,2, -999.000,9, -999.000,9,      332
  06M220140507, MSM38,   402, 51,     15,2,20140526,0301, 47.1002, -42.8940, 3459,   1099.1,   3.8413,  34.8933,2,    283.6,2,   -999.0,9, -999.000,9, -999.000,9,      335
  06M220140507, MSM38,   402, 51,     16,2,20140526,0301, 47.1002, -42.8940, 3459,    948.1,   3.8767,  34.8857,2,    283.8,2,   -999.0,9, -999.000,9, -999.000,9,      337
  06M220140507, MSM38,   402, 51,     17,2,20140526,0301, 47.1002, -42.8940, 3459,    798.7,   3.9760,  34.8889,2,    287.3,2,   -999.0,9, -999.000,9, -999.000,9,      339
  06M220140507, MSM38,   402, 51,     18,2,20140526,0301, 47.1002, -42.8940, 3459,    599.6,   4.3204,  34.9183,2,    269.6,2,   -999.0,9, -999.000,9, -999.000,9,      342
  06M220140507, MSM38,   402, 51,     19,2,20140526,0301, 47.1002, -42.8940, 3459,    399.5,   3.8943,  34.7708,2,    280.6,2,   -999.0,9, -999.000,9, -999.000,9,      345
  06M220140507, MSM38,   402, 51,     20,2,20140526,0301, 47.1002, -42.8940, 3459,    199.3,   5.5634,  34.6916,2,    253.9,2,   -999.0,9, -999.000,9, -999.000,9,      348
  06M220140507, MSM38,   402, 51,     21,2,20140526,0301, 47.1002, -42.8940, 3459,    101.5,   4.4538,  34.3246,2,    283.6,2,   -999.0,9, -999.000,9, -999.000,9,      349
  06M220140507, MSM38,   402, 51,     22,2,20140526,0301, 47.1002, -42.8940, 3459,     16.4,   9.4864,  34.6973,2,    296.9,2,   -999.0,9, -999.000,9, -999.000,9,      353
  06M220140507, MSM38,   403, 52,      1,2,20140526,0557, 47.1008, -43.1190, 3517,   3547.6,   2.3186,  34.9061,2,    284.8,2,   -999.0,9, -999.000,9, -999.000,9,      557
  06M220140507, MSM38,   403, 52,      2,2,20140526,0557, 47.1008, -43.1190, 3517,   3398.2,   2.3550,  34.9070,2,    283.6,2,   -999.0,9, -999.000,9, -999.000,9,      600
  06M220140507, MSM38,   403, 52,      3,2,20140526,0557, 47.1008, -43.1190, 3517,   3248.2,   2.4005,  34.9090,2,    283.7,2,   -999.0,9, -999.000,9, -999.000,9,      602
  06M220140507, MSM38,   403, 52,      4,2,20140526,0557, 47.1008, -43.1190, 3517,   2997.0,   2.5148,  34.9127,2,    281.9,2,   -999.0,9, -999.000,9, -999.000,9,      605
  06M220140507, MSM38,   403, 52,      5,2,20140526,0557, 47.1008, -43.1190, 3517,   2748.6,   2.7644,  34.9191,2,    279.6,2,   -999.0,9, -999.000,9, -999.000,9,      608
  06M220140507, MSM38,   403, 52,      6,2,20140526,0557, 47.1008, -43.1190, 3517,   2498.2,   2.9226,  34.9198,2,    277.3,2,   -999.0,9, -999.000,9, -999.000,9,      612
  06M220140507, MSM38,   403, 52,      7,2,20140526,0557, 47.1008, -43.1190, 3517,   2250.9,   3.0991,  34.9203,2,    276.4,2,   -999.0,9, -999.000,9, -999.000,9,      615
  06M220140507, MSM38,   403, 52,      8,2,20140526,0557, 47.1008, -43.1190, 3517,   1996.9,   3.2579,  34.9211,2,    275.2,2,   -999.0,9, -999.000,9, -999.000,9,      618
  06M220140507, MSM38,   403, 52,      9,2,20140526,0557, 47.1008, -43.1190, 3517,   1748.3,   3.4341,  34.9234,2,    274.2,2,   -999.0,9, -999.000,9, -999.000,9,      622
  06M220140507, MSM38,   403, 52,     10,2,20140526,0557, 47.1008, -43.1190, 3517,   1497.4,   3.6106,  34.9238,2,    273.6,2,   -999.0,9, -999.000,9, -999.000,9,      625
  06M220140507, MSM38,   403, 52,     11,2,20140526,0557, 47.1008, -43.1190, 3517,   1493.0,   3.6158,  34.9237,2,    273.8,2,   -999.0,9, -999.000,9, -999.000,9,      625
  06M220140507, MSM38,   403, 52,     12,2,20140526,0557, 47.1008, -43.1190, 3517,   1247.7,   3.7681,  34.9137,2,    276.0,2,   -999.0,9, -999.000,9, -999.000,9,      629
  06M220140507, MSM38,   403, 52,     13,2,20140526,0557, 47.1008, -43.1190, 3517,   1245.1,   3.7685,  34.9136,2,    276.2,2,   -999.0,9, -999.000,9, -999.000,9,      629
  06M220140507, MSM38,   403, 52,     14,2,20140526,0557, 47.1008, -43.1190, 3517,    997.4,   3.8887,  34.9088,2,    278.9,2,   -999.0,9, -999.000,9, -999.000,9,      632
  06M220140507, MSM38,   403, 52,     15,2,20140526,0557, 47.1008, -43.1190, 3517,    995.6,   3.8884,  34.9090,2,    278.9,2,   -999.0,9, -999.000,9, -999.000,9,      632
  06M220140507, MSM38,   403, 52,     16,2,20140526,0557, 47.1008, -43.1190, 3517,    748.4,   3.8438,  34.8820,2,    286.0,2,   -999.0,9, -999.000,9, -999.000,9,      636
  06M220140507, MSM38,   403, 52,     17,2,20140526,0557, 47.1008, -43.1190, 3517,    747.0,   3.8450,  34.8818,2,    286.0,2,   -999.0,9, -999.000,9, -999.000,9,      636
  06M220140507, MSM38,   403, 52,     18,2,20140526,0557, 47.1008, -43.1190, 3517,    499.3,   4.1976,  34.9077,2,    280.2,2,   -999.0,9, -999.000,9, -999.000,9,      639
  06M220140507, MSM38,   403, 52,     19,2,20140526,0557, 47.1008, -43.1190, 3517,    298.0,   3.6005,  34.7632,2,    298.5,2,   -999.0,9, -999.000,9, -999.000,9,      642
  06M220140507, MSM38,   403, 52,     20,2,20140526,0557, 47.1008, -43.1190, 3517,    199.3,   4.5661,  34.8030,2,    262.1,2,   -999.0,9, -999.000,9, -999.000,9,      643
  06M220140507, MSM38,   403, 52,     21,2,20140526,0557, 47.1008, -43.1190, 3517,     97.4,   3.8238,  34.5435,2,    303.9,2,   -999.0,9, -999.000,9, -999.000,9,      645
  06M220140507, MSM38,   403, 52,     22,2,20140526,0557, 47.1008, -43.1190, 3517,     14.1,   6.3840,  34.3164,2,    337.6,2,   -999.0,9, -999.000,9, -999.000,9,      648
  06M220140507, MSM38,   404, 53,      1,2,20140526,0824, 47.1000, -43.2283, 3007,   3034.2,   2.6487,  34.9163,2,    280.0,2,    279.9,2, -999.000,9, -999.000,9,      824
  06M220140507, MSM38,   404, 53,      2,2,20140526,0824, 47.1000, -43.2283, 3007,   3034.2,   2.6486,  34.9163,2,    280.2,2,   -999.0,9,    3.044,2,    1.574,2,      824
  06M220140507, MSM38,   404, 53,      3,2,20140526,0824, 47.1000, -43.2283, 3007,   2899.6,   2.7368,  34.9182,2,    278.7,2,   -999.0,9, -999.000,9, -999.000,9,      827
  06M220140507, MSM38,   404, 53,      4,2,20140526,0824, 47.1000, -43.2283, 3007,   2599.1,   2.9939,  34.9207,2,    276.8,2,   -999.0,9,    2.920,2,    1.506,2,      831
  06M220140507, MSM38,   404, 53,      5,2,20140526,0824, 47.1000, -43.2283, 3007,   2298.0,   3.1635,  34.9206,2,    275.8,2,   -999.0,9, -999.000,9, -999.000,9,      835
  06M220140507, MSM38,   404, 53,      6,2,20140526,0824, 47.1000, -43.2283, 3007,   1998.9,   3.2540,  34.9216,2,    275.0,2,   -999.0,9,    3.075,2,    1.588,2,      839
  06M220140507, MSM38,   404, 53,      7,2,20140526,0824, 47.1000, -43.2283, 3007,   1749.0,   3.3455,  34.9227,2,    274.1,2,   -999.0,9, -999.000,9, -999.000,9,      843
  06M220140507, MSM38,   404, 53,      8,2,20140526,0824, 47.1000, -43.2283, 3007,   1746.3,   3.3484,  34.9228,2,    274.2,2,   -999.0,9, -999.000,9, -999.000,9,      843
  06M220140507, MSM38,   404, 53,      9,2,20140526,0824, 47.1000, -43.2283, 3007,   1499.0,   3.4793,  34.9246,2,    272.5,2,    273.6,6,    3.218,2,    1.669,2,      846
  06M220140507, MSM38,   404, 53,     10,2,20140526,0824, 47.1000, -43.2283, 3007,   1496.6,   3.4799,  34.9246,2,    272.9,2,   -999.0,9, -999.000,9, -999.000,9,      846
  06M220140507, MSM38,   404, 53,     11,2,20140526,0824, 47.1000, -43.2283, 3007,   1299.6,   3.6230,  34.9272,2,    271.6,2,   -999.0,9,    3.269,2,    1.708,2,      849
  06M220140507, MSM38,   404, 53,     12,2,20140526,0824, 47.1000, -43.2283, 3007,   1096.6,   3.7772,  34.9213,2,    273.9,2,   -999.0,9,    3.585,2,    1.907,2,      852
  06M220140507, MSM38,   404, 53,     13,2,20140526,0824, 47.1000, -43.2283, 3007,   1092.9,   3.7763,  34.9212,2,    274.2,2,   -999.0,9, -999.000,9, -999.000,9,      852
  06M220140507, MSM38,   404, 53,     14,2,20140526,0824, 47.1000, -43.2283, 3007,    896.4,   3.8648,  34.9093,2,    276.6,2,   -999.0,9,    3.957,2,    2.124,2,      854
  06M220140507, MSM38,   404, 53,     15,2,20140526,0824, 47.1000, -43.2283, 3007,    698.4,   3.9696,  34.9051,2,    285.0,2,   -999.0,9,    4.074,2,    2.219,2,      857
  06M220140507, MSM38,   404, 53,     16,2,20140526,0824, 47.1000, -43.2283, 3007,    696.5,   3.9696,  34.9047,2,    285.3,2,   -999.0,9, -999.000,9, -999.000,9,      857
  06M220140507, MSM38,   404, 53,     17,2,20140526,0824, 47.1000, -43.2283, 3007,    499.9,   3.8831,  34.8753,2,    284.6,2,   -999.0,9,    4.237,2,    2.342,2,      900
  06M220140507, MSM38,   404, 53,     18,2,20140526,0824, 47.1000, -43.2283, 3007,    498.4,   3.8958,  34.8771,2,    284.6,2,   -999.0,9, -999.000,9, -999.000,9,      900
  06M220140507, MSM38,   404, 53,     19,2,20140526,0824, 47.1000, -43.2283, 3007,    298.7,   4.1166,  34.8763,2,    282.0,2,   -999.0,9,    4.039,2,    2.250,2,      903
  06M220140507, MSM38,   404, 53,     20,2,20140526,0824, 47.1000, -43.2283, 3007,    101.8,   3.2961,  34.5842,2,    307.6,2,   -999.0,9, -999.000,9, -999.000,9,      905
  06M220140507, MSM38,   404, 53,     21,2,20140526,0824, 47.1000, -43.2283, 3007,     14.3,   5.8777,  34.0552,2,    339.7,2,    341.0,2,    4.715,2,    2.634,2,      909
  06M220140507, MSM38,   404, 53,     22,2,20140526,0824, 47.1000, -43.2283, 3007,     14.8,   5.9032,  34.0483,2,    340.3,2,   -999.0,9, -999.000,9, -999.000,9,      909