BOTTLE,20200319PRINUNIVRMK
EXPOCODE,SECT_ID,STNNBR,CASTNO,BTLNBR,BTLNBR_FLAG_W,DATE,TIME,LATITUDE,LONGITUDE,DEPTH,CTDPRS,CTDTMP,CTDSAL,CTDSAL_FLAG_W,CTDOXY,CTDOXY_FLAG_W,OXYGEN,OXYGEN_FLAG_W,CFC-11,CFC-11_FLAG_W,CFC-12,CFC-12_FLAG_W,BTL_TIME
,,,,,,,,,,METERS,DBAR,ITS-90,PSS-78,,UMOL/KG,,UMOL/KG,,PMOL/KG,,PMOL/KG,,
  06M220140507, MSM38,   390, 39,      1,2,20140523,0657, 47.3013, -36.7578, 4423,   4470.1,   2.2761,  34.8970,2,    280.8,2,    281.0,2, -999.000,9, -999.000,9,      657
  06M220140507, MSM38,   390, 39,      2,2,20140523,0657, 47.3013, -36.7578, 4423,   4088.4,   2.2627,  34.8976,2,    279.9,2,   -999.0,9, -999.000,9, -999.000,9,      703
  06M220140507, MSM38,   390, 39,      3,2,20140523,0657, 47.3013, -36.7578, 4423,   3898.3,   2.2933,  34.8988,2,    278.9,2,   -999.0,9, -999.000,9, -999.000,9,      705
  06M220140507, MSM38,   390, 39,      4,2,20140523,0657, 47.3013, -36.7578, 4423,   3698.4,   2.3519,  34.9016,2,    276.7,2,   -999.0,9, -999.000,9, -999.000,9,      708
  06M220140507, MSM38,   390, 39,      5,2,20140523,0657, 47.3013, -36.7578, 4423,   3497.8,   2.4773,  34.9068,2,    276.2,2,    277.3,2, -999.000,9, -999.000,9,      711
  06M220140507, MSM38,   390, 39,      6,2,20140523,0657, 47.3013, -36.7578, 4423,   3297.9,   2.6199,  34.9131,2,    276.0,2,   -999.0,9, -999.000,9, -999.000,9,      714
  06M220140507, MSM38,   390, 39,      7,2,20140523,0657, 47.3013, -36.7578, 4423,   3097.9,   2.7835,  34.9183,2,    275.3,2,   -999.0,9, -999.000,9, -999.000,9,      716
  06M220140507, MSM38,   390, 39,      8,2,20140523,0657, 47.3013, -36.7578, 4423,   2897.8,   2.9274,  34.9192,2,    274.5,2,   -999.0,9, -999.000,9, -999.000,9,      719
  06M220140507, MSM38,   390, 39,      9,2,20140523,0657, 47.3013, -36.7578, 4423,   2698.1,   3.0412,  34.9199,2,    274.3,2,   -999.0,9, -999.000,9, -999.000,9,      722
  06M220140507, MSM38,   390, 39,     10,2,20140523,0657, 47.3013, -36.7578, 4423,   2497.7,   3.1680,  34.9205,2,    274.1,2,   -999.0,9, -999.000,9, -999.000,9,      724
  06M220140507, MSM38,   390, 39,     11,2,20140523,0657, 47.3013, -36.7578, 4423,   2298.8,   3.3165,  34.9208,2,    273.2,2,   -999.0,9, -999.000,9, -999.000,9,      727
  06M220140507, MSM38,   390, 39,     12,2,20140523,0657, 47.3013, -36.7578, 4423,   2098.7,   3.4540,  34.9239,2,    272.1,2,   -999.0,9, -999.000,9, -999.000,9,      730
  06M220140507, MSM38,   390, 39,     13,2,20140523,0657, 47.3013, -36.7578, 4423,   1897.9,   3.5975,  34.9284,2,    270.4,2,   -999.0,9, -999.000,9, -999.000,9,      733
  06M220140507, MSM38,   390, 39,     14,2,20140523,0657, 47.3013, -36.7578, 4423,   1698.2,   3.7568,  34.9323,2,    269.9,2,   -999.0,9, -999.000,9, -999.000,9,      735
  06M220140507, MSM38,   390, 39,     15,2,20140523,0657, 47.3013, -36.7578, 4423,   1499.0,   3.9143,  34.9379,2,    270.5,2,   -999.0,9, -999.000,9, -999.000,9,      738
  06M220140507, MSM38,   390, 39,     16,2,20140523,0657, 47.3013, -36.7578, 4423,   1282.1,   4.1210,  34.9477,2,    269.5,2,    268.7,6, -999.000,9, -999.000,9,      741
  06M220140507, MSM38,   390, 39,     17,2,20140523,0657, 47.3013, -36.7578, 4423,   1098.6,   4.1088,  34.9229,2,    277.4,2,   -999.0,9, -999.000,9, -999.000,9,      744
  06M220140507, MSM38,   390, 39,     18,2,20140523,0657, 47.3013, -36.7578, 4423,    919.9,   4.4830,  34.9585,2,    266.7,2,   -999.0,9, -999.000,9, -999.000,9,      746
  06M220140507, MSM38,   390, 39,     19,2,20140523,0657, 47.3013, -36.7578, 4423,    698.3,   4.8148,  34.9457,2,    257.6,2,   -999.0,9, -999.000,9, -999.000,9,      749
  06M220140507, MSM38,   390, 39,     20,2,20140523,0657, 47.3013, -36.7578, 4423,    497.9,   5.4851,  34.8921,2,    237.4,2,   -999.0,9, -999.000,9, -999.000,9,      752
  06M220140507, MSM38,   390, 39,     21,2,20140523,0657, 47.3013, -36.7578, 4423,    197.7,   8.7493,  35.0559,2,    229.7,2,   -999.0,9, -999.000,9, -999.000,9,      756
  06M220140507, MSM38,   390, 39,     22,2,20140523,0657, 47.3013, -36.7578, 4423,     14.7,  10.8276,  35.1476,2,    290.6,2,    284.2,2, -999.000,9, -999.000,9,      800
  06M220140507, MSM38,   391, 40,      1,2,20140523,1135, 47.2920, -37.3583, 4544,   4624.4,   2.2269,  34.8977,2,    284.6,2,    284.7,2,    2.950,2,    1.570,2,     1135
  06M220140507, MSM38,   391, 40,      2,2,20140523,1135, 47.2920, -37.3583, 4544,   4399.1,   2.2626,  34.8971,2,    281.2,2,   -999.0,9, -999.000,9, -999.000,9,     1139
  06M220140507, MSM38,   391, 40,      3,2,20140523,1135, 47.2920, -37.3583, 4544,   4198.8,   2.2786,  34.8975,2,    279.3,2,   -999.0,9,    2.391,2,    1.250,2,     1141
  06M220140507, MSM38,   391, 40,      4,2,20140523,1135, 47.2920, -37.3583, 4544,   3898.5,   2.3382,  34.9004,2,    277.1,2,   -999.0,9,    2.172,2,    1.128,2,     1145
  06M220140507, MSM38,   391, 40,      5,2,20140523,1135, 47.2920, -37.3583, 4544,   3698.4,   2.4444,  34.9049,2,    276.4,2,   -999.0,9, -999.000,9, -999.000,9,     1148
  06M220140507, MSM38,   391, 40,      6,2,20140523,1135, 47.2920, -37.3583, 4544,   3498.3,   2.5824,  34.9111,2,    276.2,2,    276.2,6,    2.113,2,    1.100,2,     1151
  06M220140507, MSM38,   391, 40,      7,2,20140523,1135, 47.2920, -37.3583, 4544,   3298.8,   2.7378,  34.9170,2,    275.8,2,   -999.0,9, -999.000,9, -999.000,9,     1154
  06M220140507, MSM38,   391, 40,      8,2,20140523,1135, 47.2920, -37.3583, 4544,   3097.6,   2.8745,  34.9201,2,    275.5,2,   -999.0,9,    2.297,2,    1.179,2,     1156
  06M220140507, MSM38,   391, 40,      9,2,20140523,1135, 47.2920, -37.3583, 4544,   2798.9,   3.0365,  34.9204,2,    275.1,2,   -999.0,9, -999.000,9, -999.000,9,     1200
  06M220140507, MSM38,   391, 40,     10,2,20140523,1135, 47.2920, -37.3583, 4544,   2598.6,   3.1705,  34.9200,2,    274.4,2,   -999.0,9,    2.514,2,    1.283,2,     1203
  06M220140507, MSM38,   391, 40,     11,2,20140523,1135, 47.2920, -37.3583, 4544,   2398.7,   3.2927,  34.9199,2,    273.7,2,   -999.0,9, -999.000,9, -999.000,9,     1206
  06M220140507, MSM38,   391, 40,     12,2,20140523,1135, 47.2920, -37.3583, 4544,   2198.5,   3.4279,  34.9216,2,    273.0,2,   -999.0,9,    2.753,2,    1.414,2,     1209
  06M220140507, MSM38,   391, 40,     13,2,20140523,1135, 47.2920, -37.3583, 4544,   1998.7,   3.5849,  34.9256,2,    270.9,2,   -999.0,9, -999.000,9, -999.000,9,     1211
  06M220140507, MSM38,   391, 40,     14,2,20140523,1135, 47.2920, -37.3583, 4544,   1797.1,   3.7544,  34.9299,2,    269.9,2,   -999.0,9,    3.067,2,    1.604,2,     1214
  06M220140507, MSM38,   391, 40,     15,2,20140523,1135, 47.2920, -37.3583, 4544,   1549.1,   3.8748,  34.9240,2,    272.8,2,   -999.0,9,    3.466,2,    1.837,2,     1218
  06M220140507, MSM38,   391, 40,     16,2,20140523,1135, 47.2920, -37.3583, 4544,   1298.3,   4.0100,  34.9196,2,    275.5,2,    275.1,2,    3.720,2,    2.026,2,     1221
  06M220140507, MSM38,   391, 40,     17,2,20140523,1135, 47.2920, -37.3583, 4544,   1098.4,   4.2157,  34.9279,2,    272.6,2,   -999.0,9,    3.742,2,    2.055,2,     1224
  06M220140507, MSM38,   391, 40,     18,2,20140523,1135, 47.2920, -37.3583, 4544,    898.9,   4.5104,  34.9396,2,    266.2,2,   -999.0,9, -999.000,9, -999.000,9,     1227
  06M220140507, MSM38,   391, 40,     19,2,20140523,1135, 47.2920, -37.3583, 4544,    699.2,   5.6038,  35.0304,2,    233.5,2,   -999.0,9, -999.000,9, -999.000,9,     1229
  06M220140507, MSM38,   391, 40,     20,2,20140523,1135, 47.2920, -37.3583, 4544,    397.9,   6.9902,  34.9074,2,    252.7,2,   -999.0,9,    3.122,2,    1.799,2,     1234
  06M220140507, MSM38,   391, 40,     21,2,20140523,1135, 47.2920, -37.3583, 4544,    198.3,   8.9185,  35.0888,2,    240.3,2,   -999.0,9, -999.000,9, -999.000,9,     1236
  06M220140507, MSM38,   391, 40,     22,2,20140523,1135, 47.2920, -37.3583, 4544,     14.7,  11.5523,  35.3095,2,    289.1,2,    288.9,2,    3.084,2,    1.804,2,     1241
  06M220140507, MSM38,   392, 41,      1,2,20140523,1655, 47.2558, -37.9183, 4585,   4668.9,   2.2235,  34.8976,2,    284.8,2,    284.0,2, -999.000,9, -999.000,9,     1655
  06M220140507, MSM38,   392, 41,      2,2,20140523,1655, 47.2558, -37.9183, 4585,   4668.7,   2.2234,  34.8978,2,    285.5,2,   -999.0,9,    3.010,2,    1.582,2,     1655
  06M220140507, MSM38,   392, 41,      3,2,20140523,1655, 47.2558, -37.9183, 4585,   4395.9,   2.2864,  34.8974,2,    279.4,2,   -999.0,9,    2.478,2,    1.292,2,     1659
  06M220140507, MSM38,   392, 41,      4,2,20140523,1655, 47.2558, -37.9183, 4585,   4197.8,   2.3481,  34.8993,2,    277.4,2,   -999.0,9, -999.000,9, -999.000,9,     1702
  06M220140507, MSM38,   392, 41,      5,2,20140523,1655, 47.2558, -37.9183, 4585,   3998.0,   2.4244,  34.9028,2,    276.2,2,    276.7,6,    2.038,2,    1.052,2,     1705
  06M220140507, MSM38,   392, 41,      6,2,20140523,1655, 47.2558, -37.9183, 4585,   3797.1,   2.5485,  34.9082,2,    276.2,2,   -999.0,9, -999.000,9, -999.000,9,     1707
  06M220140507, MSM38,   392, 41,      7,2,20140523,1655, 47.2558, -37.9183, 4585,   3597.7,   2.6765,  34.9141,2,    276.2,2,   -999.0,9,    2.173,2,    1.129,2,     1710
  06M220140507, MSM38,   392, 41,      8,2,20140523,1655, 47.2558, -37.9183, 4585,   3398.6,   2.8136,  34.9184,2,    275.6,2,   -999.0,9, -999.000,9, -999.000,9,     1713
  06M220140507, MSM38,   392, 41,      9,2,20140523,1655, 47.2558, -37.9183, 4585,   3198.2,   2.9402,  34.9198,2,    275.0,2,   -999.0,9,    2.319,2,    1.196,2,     1716
  06M220140507, MSM38,   392, 41,     10,2,20140523,1655, 47.2558, -37.9183, 4585,   2798.0,   3.1612,  34.9193,2,    274.2,2,   -999.0,9,    2.440,2,    1.253,2,     1721
  06M220140507, MSM38,   392, 41,     11,2,20140523,1655, 47.2558, -37.9183, 4585,   2498.0,   3.3517,  34.9207,2,    273.4,2,   -999.0,9,    2.688,2,    1.364,2,     1725
  06M220140507, MSM38,   392, 41,     12,2,20140523,1655, 47.2558, -37.9183, 4585,   2197.8,   3.5754,  34.9266,2,    271.1,2,   -999.0,9,    2.766,2,    1.403,2,     1730
  06M220140507, MSM38,   392, 41,     13,2,20140523,1655, 47.2558, -37.9183, 4585,   1946.2,   3.7455,  34.9309,2,    270.2,2,   -999.0,9,    3.014,2,    1.556,2,     1733
  06M220140507, MSM38,   392, 41,     14,2,20140523,1655, 47.2558, -37.9183, 4585,   1698.1,   3.9127,  34.9320,2,    270.8,2,   -999.0,9,    3.301,2,    1.739,2,     1736
  06M220140507, MSM38,   392, 41,     15,2,20140523,1655, 47.2558, -37.9183, 4585,   1446.9,   4.0613,  34.9321,2,    271.7,2,    272.5,2,    3.522,2,    1.916,2,     1740
  06M220140507, MSM38,   392, 41,     16,2,20140523,1655, 47.2558, -37.9183, 4585,   1197.7,   4.3508,  34.9468,2,    268.3,2,   -999.0,9,    3.561,2,    1.960,2,     1743
  06M220140507, MSM38,   392, 41,     17,2,20140523,1655, 47.2558, -37.9183, 4585,   1193.4,   4.3598,  34.9474,2,    268.5,2,   -999.0,9, -999.000,9, -999.000,9,     1744
  06M220140507, MSM38,   392, 41,     18,2,20140523,1655, 47.2558, -37.9183, 4585,    998.7,   4.7205,  34.9687,2,    259.4,2,   -999.0,9,    3.372,2,    1.873,2,     1746
  06M220140507, MSM38,   392, 41,     19,2,20140523,1655, 47.2558, -37.9183, 4585,    798.6,   5.3124,  34.9737,2,    239.9,2,   -999.0,9,    3.085,2,    1.678,2,     1749
  06M220140507, MSM38,   392, 41,     20,2,20140523,1655, 47.2558, -37.9183, 4585,    497.3,   7.0194,  34.9137,2,    223.7,2,   -999.0,9,    3.417,2,    1.962,2,     1753
  06M220140507, MSM38,   392, 41,     21,2,20140523,1655, 47.2558, -37.9183, 4585,    298.5,   9.2652,  35.0887,2,    197.6,2,   -999.0,9, -999.000,9, -999.000,9,     1756
  06M220140507, MSM38,   392, 41,     22,2,20140523,1655, 47.2558, -37.9183, 4585,     15.7,  13.9240,  35.7045,2,    245.6,2,    244.8,2,    2.636,2,    1.562,2,     1802
  06M220140507, MSM38,   393, 42,      1,2,20140523,2149, 47.2105, -38.5180, 4610,   4694.1,   2.2681,  34.8980,2,    283.5,2,    283.4,2,    2.812,2,    1.462,2,     2149
  06M220140507, MSM38,   393, 42,      2,2,20140523,2149, 47.2105, -38.5180, 4610,   4498.4,   2.2709,  34.8981,2,    281.2,2,   -999.0,9,    2.678,2,    1.379,2,     2211
  06M220140507, MSM38,   393, 42,      3,2,20140523,2149, 47.2105, -38.5180, 4610,   4298.2,   2.2970,  34.8985,2,    279.2,2,   -999.0,9, -999.000,9, -999.000,9,     2213
  06M220140507, MSM38,   393, 42,      4,2,20140523,2149, 47.2105, -38.5180, 4610,   4098.2,   2.3275,  34.8997,2,    278.2,2,   -999.0,9,    2.292,2,    1.174,2,     2216
  06M220140507, MSM38,   393, 42,      5,2,20140523,2149, 47.2105, -38.5180, 4610,   3802.2,   2.4596,  34.9063,2,    277.3,2,   -999.0,9, -999.000,9, -999.000,9,     2221
  06M220140507, MSM38,   393, 42,      6,2,20140523,2149, 47.2105, -38.5180, 4610,   3497.3,   2.7166,  34.9159,2,    275.7,2,   -999.0,9,    2.218,2,    1.143,2,     2249
  06M220140507, MSM38,   393, 42,      7,2,20140523,2149, 47.2105, -38.5180, 4610,   3198.4,   2.9252,  34.9206,2,    275.2,2,    276.9,2,    2.394,2,    1.225,2,     2253
  06M220140507, MSM38,   393, 42,      8,2,20140523,2149, 47.2105, -38.5180, 4610,   2897.9,   3.1403,  34.9205,2,    275.5,2,   -999.0,9, -999.000,9, -999.000,9,     2257
  06M220140507, MSM38,   393, 42,      9,2,20140523,2149, 47.2105, -38.5180, 4610,   2598.9,   3.3008,  34.9210,2,    273.7,2,   -999.0,9, -999.000,9, -999.000,9,     2301
  06M220140507, MSM38,   393, 42,     10,2,20140523,2149, 47.2105, -38.5180, 4610,   2298.9,   3.5142,  34.9251,2,    271.6,2,   -999.0,9,    2.829,2,    1.466,2,     2305
  06M220140507, MSM38,   393, 42,     11,2,20140523,2149, 47.2105, -38.5180, 4610,   1998.8,   3.7796,  34.9348,2,    269.5,2,   -999.0,9,    3.067,2,    1.601,2,     2309
  06M220140507, MSM38,   393, 42,     12,2,20140523,2149, 47.2105, -38.5180, 4610,   1798.3,   3.9877,  34.9471,2,    267.5,2,   -999.0,9, -999.000,9, -999.000,9,     2311
  06M220140507, MSM38,   393, 42,     13,2,20140523,2149, 47.2105, -38.5180, 4610,   1498.5,   4.1062,  34.9318,2,    271.8,2,   -999.0,9,    3.570,2,    1.945,2,     2322
  06M220140507, MSM38,   393, 42,     14,2,20140523,2149, 47.2105, -38.5180, 4610,   1297.6,   4.3760,  34.9557,2,    268.8,2,    268.2,6,    3.498,2,    1.896,2,     2325
  06M220140507, MSM38,   393, 42,     15,2,20140523,2149, 47.2105, -38.5180, 4610,   1098.0,   4.7285,  34.9700,2,    259.6,2,   -999.0,9,    3.475,2,    1.912,2,     2328
  06M220140507, MSM38,   393, 42,     16,2,20140523,2149, 47.2105, -38.5180, 4610,    901.2,   3.9196,  34.7522,2,    279.0,2,   -999.0,9,    4.109,2,    2.286,2,     2333
  06M220140507, MSM38,   393, 42,     17,2,20140523,2149, 47.2105, -38.5180, 4610,    698.7,   6.1994,  34.9075,2,    208.5,2,   -999.0,9,    2.589,2,    1.414,2,     2336
  06M220140507, MSM38,   393, 42,     18,2,20140523,2149, 47.2105, -38.5180, 4610,    599.3,   7.7570,  35.0014,2,    194.3,2,   -999.0,9, -999.000,9, -999.000,9,     2337
  06M220140507, MSM38,   393, 42,     19,2,20140523,2149, 47.2105, -38.5180, 4610,    398.9,  11.7394,  35.4984,2,    235.3,2,   -999.0,9,    2.698,2,    1.597,2,     2340
  06M220140507, MSM38,   393, 42,     20,2,20140523,2149, 47.2105, -38.5180, 4610,    200.3,  12.5019,  35.6296,2,    236.4,2,   -999.0,9, -999.000,9, -999.000,9,     2344
  06M220140507, MSM38,   393, 42,     21,2,20140523,2149, 47.2105, -38.5180, 4610,     98.6,  12.7902,  35.5798,2,    226.5,2,   -999.0,9, -999.000,9, -999.000,9,     2345
  06M220140507, MSM38,   393, 42,     22,2,20140523,2149, 47.2105, -38.5180, 4610,     15.8,  12.9733,  35.0152,2,    304.4,2,    302.4,2,    2.975,2,    1.749,2,     2349
  06M220140507, MSM38,   394, 43,      1,2,20140524,0643, 47.1912, -39.0002, 4582,   4666.4,   2.2077,  34.8976,2,    286.0,2,    286.4,2,    3.125,2,    1.642,2,      643
  06M220140507, MSM38,   394, 43,      2,2,20140524,0643, 47.1912, -39.0002, 4582,   4499.1,   2.2729,  34.8968,2,    281.1,2,   -999.0,9, -999.000,9, -999.000,9,      646
  06M220140507, MSM38,   394, 43,      3,2,20140524,0643, 47.1912, -39.0002, 4582,   4297.8,   2.3085,  34.8978,2,    279.5,2,   -999.0,9,    2.391,2,    1.241,2,      649
  06M220140507, MSM38,   394, 43,      4,2,20140524,0643, 47.1912, -39.0002, 4582,   4098.5,   2.3556,  34.9001,2,    278.0,2,   -999.0,9, -999.000,9, -999.000,9,      652
  06M220140507, MSM38,   394, 43,      5,2,20140524,0643, 47.1912, -39.0002, 4582,   3797.8,   2.5348,  34.9080,2,    276.1,2,   -999.0,9,    2.131,2,    1.101,2,      656
  06M220140507, MSM38,   394, 43,      6,2,20140524,0643, 47.1912, -39.0002, 4582,   3498.0,   2.7656,  34.9168,2,    275.3,2,    277.2,6, -999.000,9, -999.000,9,      700
  06M220140507, MSM38,   394, 43,      7,2,20140524,0643, 47.1912, -39.0002, 4582,   3197.4,   2.9689,  34.9201,2,    274.7,2,   -999.0,9,    2.369,2,    1.216,2,      704
  06M220140507, MSM38,   394, 43,      8,2,20140524,0643, 47.1912, -39.0002, 4582,   2894.6,   3.1683,  34.9208,2,    273.8,2,   -999.0,9,    2.471,2,    1.230,2,      709
  06M220140507, MSM38,   394, 43,      9,2,20140524,0643, 47.1912, -39.0002, 4582,   2599.0,   3.3747,  34.9226,2,    273.6,2,   -999.0,9,    2.726,2,    1.363,2,      713
  06M220140507, MSM38,   394, 43,     10,2,20140524,0643, 47.1912, -39.0002, 4582,   2299.4,   3.6058,  34.9264,2,    271.4,2,   -999.0,9,    2.936,2,    1.485,2,      717
  06M220140507, MSM38,   394, 43,     11,2,20140524,0643, 47.1912, -39.0002, 4582,   1998.6,   3.8379,  34.9349,2,    269.2,2,   -999.0,9,    3.120,2,    1.609,2,      721
  06M220140507, MSM38,   394, 43,     12,2,20140524,0643, 47.1912, -39.0002, 4582,   1798.1,   3.9484,  34.9236,2,    271.3,2,   -999.0,9,    3.493,2,    1.850,2,      724
  06M220140507, MSM38,   394, 43,     13,2,20140524,0643, 47.1912, -39.0002, 4582,   1498.2,   4.2056,  34.9299,2,    272.2,2,    275.5,2,    3.742,2,    2.034,2,      729
  06M220140507, MSM38,   394, 43,     14,2,20140524,0643, 47.1912, -39.0002, 4582,   1298.5,   4.1266,  34.8837,2,    286.0,2,   -999.0,9,    4.178,2,    2.339,2,      731
  06M220140507, MSM38,   394, 43,     15,2,20140524,0643, 47.1912, -39.0002, 4582,   1097.7,   3.6091,  34.7692,2,    297.7,2,   -999.0,9,    4.413,2,    2.454,2,      734
  06M220140507, MSM38,   394, 43,     16,2,20140524,0643, 47.1912, -39.0002, 4582,    899.5,   5.5406,  34.9875,2,    232.3,2,   -999.0,9,    2.928,2,    1.598,2,      737
  06M220140507, MSM38,   394, 43,     17,2,20140524,0643, 47.1912, -39.0002, 4582,    697.4,   7.0941,  34.9627,2,    196.1,2,   -999.0,9, -999.000,9, -999.000,9,      740
  06M220140507, MSM38,   394, 43,     18,2,20140524,0643, 47.1912, -39.0002, 4582,    498.5,  10.0703,  35.2555,2,    242.0,2,   -999.0,9,    2.690,2,    1.580,2,      743
  06M220140507, MSM38,   394, 43,     19,2,20140524,0643, 47.1912, -39.0002, 4582,    348.1,  11.6155,  35.4681,2,    231.0,2,   -999.0,9, -999.000,9, -999.000,9,      745
  06M220140507, MSM38,   394, 43,     20,2,20140524,0643, 47.1912, -39.0002, 4582,    198.9,  12.5020,  35.6107,2,    237.2,2,   -999.0,9,    2.734,2,    1.636,2,      748
  06M220140507, MSM38,   394, 43,     21,2,20140524,0643, 47.1912, -39.0002, 4582,     98.1,  13.4414,  35.7241,2,    239.6,2,   -999.0,9, -999.000,9, -999.000,9,      749
  06M220140507, MSM38,   394, 43,     22,2,20140524,0643, 47.1912, -39.0002, 4582,     16.0,  13.0657,  35.4001,2,    245.8,2,    242.6,2,    2.775,2,    1.650,2,      752