BOTTLE,20200319PRINUNIVRMK
EXPOCODE,SECT_ID,STNNBR,CASTNO,BTLNBR,BTLNBR_FLAG_W,DATE,TIME,LATITUDE,LONGITUDE,DEPTH,CTDPRS,CTDTMP,CTDSAL,CTDSAL_FLAG_W,CTDOXY,CTDOXY_FLAG_W,OXYGEN,OXYGEN_FLAG_W,CFC-11,CFC-11_FLAG_W,CFC-12,CFC-12_FLAG_W,BTL_TIME
,,,,,,,,,,METERS,DBAR,ITS-90,PSS-78,,UMOL/KG,,UMOL/KG,,PMOL/KG,,PMOL/KG,,
  06M220140507, MSM38,   464,112,      1,2,20140601,2248, 46.6057, -43.9950, 2595,   2622.4,   2.9413,  34.9205,2,    278.0,2,   -999.0,9, -999.000,9, -999.000,9,     2248
  06M220140507, MSM38,   464,112,      2,2,20140601,2248, 46.6057, -43.9950, 2595,   2622.3,   2.9413,  34.9206,2,    278.0,2,   -999.0,9, -999.000,9, -999.000,9,     2248
  06M220140507, MSM38,   464,112,      3,2,20140601,2248, 46.6057, -43.9950, 2595,   2300.0,   3.1229,  34.9212,2,    276.1,2,   -999.0,9, -999.000,9, -999.000,9,     2253
  06M220140507, MSM38,   464,112,      4,2,20140601,2248, 46.6057, -43.9950, 2595,   2097.9,   3.2367,  34.9221,2,    275.0,2,   -999.0,9, -999.000,9, -999.000,9,     2256
  06M220140507, MSM38,   464,112,      5,2,20140601,2248, 46.6057, -43.9950, 2595,   1897.2,   3.4984,  34.9243,2,    273.2,2,   -999.0,9, -999.000,9, -999.000,9,     2258
  06M220140507, MSM38,   464,112,      6,2,20140601,2248, 46.6057, -43.9950, 2595,   1700.6,   3.6362,  34.9239,2,    272.6,2,   -999.0,9, -999.000,9, -999.000,9,     2301
  06M220140507, MSM38,   464,112,      7,2,20140601,2248, 46.6057, -43.9950, 2595,   1499.0,   3.7345,  34.9210,2,    273.4,2,   -999.0,9, -999.000,9, -999.000,9,     2304
  06M220140507, MSM38,   464,112,      8,2,20140601,2248, 46.6057, -43.9950, 2595,   1300.1,   3.8193,  34.9170,2,    275.4,2,   -999.0,9, -999.000,9, -999.000,9,     2307
  06M220140507, MSM38,   464,112,      9,2,20140601,2248, 46.6057, -43.9950, 2595,   1099.6,   4.0139,  34.9293,2,    270.7,2,   -999.0,9, -999.000,9, -999.000,9,     2310
  06M220140507, MSM38,   464,112,     10,2,20140601,2248, 46.6057, -43.9950, 2595,    898.6,   4.0430,  34.9098,2,    280.2,2,   -999.0,9, -999.000,9, -999.000,9,     2312
  06M220140507, MSM38,   464,112,     11,2,20140601,2248, 46.6057, -43.9950, 2595,    695.3,   4.0435,  34.8807,2,    283.8,2,   -999.0,9, -999.000,9, -999.000,9,     2315
  06M220140507, MSM38,   464,112,     12,2,20140601,2248, 46.6057, -43.9950, 2595,    497.8,   4.2879,  34.8838,2,    274.3,2,   -999.0,9, -999.000,9, -999.000,9,     2318
  06M220140507, MSM38,   464,112,     13,2,20140601,2248, 46.6057, -43.9950, 2595,    298.1,   5.5996,  34.9502,2,    227.6,2,   -999.0,9, -999.000,9, -999.000,9,     2321
  06M220140507, MSM38,   464,112,     14,2,20140601,2248, 46.6057, -43.9950, 2595,     98.4,   6.9163,  34.5932,2,    238.8,2,   -999.0,9, -999.000,9, -999.000,9,     2324
  06M220140507, MSM38,   464,112,     15,2,20140601,2248, 46.6057, -43.9950, 2595,     14.9,   8.1850,  33.1090,2,    301.1,2,   -999.0,9, -999.000,9, -999.000,9,     2327
  06M220140507, MSM38,   464,112,     16,2,20140601,2248, 46.6057, -43.9950, 2595,     14.1,   8.1672,  33.1107,2,    301.0,2,   -999.0,9, -999.000,9, -999.000,9,     2327
  06M220140507, MSM38,   464,112,     17,2,20140601,2248, 46.6057, -43.9950, 2595,     13.5,   8.1502,  33.1139,2,    301.2,2,   -999.0,9, -999.000,9, -999.000,9,     2327
  06M220140507, MSM38,   464,112,     18,2,20140601,2248, 46.6057, -43.9950, 2595,     13.7,   8.1677,  33.1119,2,    301.1,2,   -999.0,9, -999.000,9, -999.000,9,     2327
  06M220140507, MSM38,   464,112,     19,2,20140601,2248, 46.6057, -43.9950, 2595,     14.4,   8.1840,  33.1094,2,    301.2,2,   -999.0,9, -999.000,9, -999.000,9,     2327
  06M220140507, MSM38,   464,112,     20,2,20140601,2248, 46.6057, -43.9950, 2595,     14.9,   8.1851,  33.1095,2,    300.9,2,   -999.0,9, -999.000,9, -999.000,9,     2327
  06M220140507, MSM38,   464,112,     21,2,20140601,2248, 46.6057, -43.9950, 2595,     14.8,   8.1849,  33.1096,2,    301.2,2,   -999.0,9, -999.000,9, -999.000,9,     2327
  06M220140507, MSM38,   464,112,     22,2,20140601,2248, 46.6057, -43.9950, 2595,     14.3,   8.1823,  33.1099,2,    301.1,2,   -999.0,9, -999.000,9, -999.000,9,     2327
  06M220140507, MSM38,   465,113,      1,2,20140602,0130, 46.4808, -43.8602, 3487,   3537.4,   2.2928,  34.9046,2,    283.9,2,    281.6,2, -999.000,9, -999.000,9,      130
  06M220140507, MSM38,   465,113,      2,2,20140602,0130, 46.4808, -43.8602, 3487,   3537.7,   2.2917,  34.9047,2,    283.9,2,   -999.0,9, -999.000,9, -999.000,9,      130
  06M220140507, MSM38,   465,113,      3,2,20140602,0130, 46.4808, -43.8602, 3487,   3538.5,   2.2921,  34.9047,2,    283.6,2,   -999.0,9, -999.000,9, -999.000,9,      130
  06M220140507, MSM38,   465,113,      4,2,20140602,0130, 46.4808, -43.8602, 3487,   3300.1,   2.4115,  34.9071,2,    279.7,2,   -999.0,9, -999.000,9, -999.000,9,      133
  06M220140507, MSM38,   465,113,      5,2,20140602,0130, 46.4808, -43.8602, 3487,   3098.9,   2.5835,  34.9127,2,    276.2,2,   -999.0,9, -999.000,9, -999.000,9,      136
  06M220140507, MSM38,   465,113,      6,2,20140602,0130, 46.4808, -43.8602, 3487,   2899.4,   2.7572,  34.9183,2,    276.9,2,   -999.0,9, -999.000,9, -999.000,9,      139
  06M220140507, MSM38,   465,113,      7,2,20140602,0130, 46.4808, -43.8602, 3487,   2698.4,   2.9143,  34.9199,2,    277.4,2,    276.9,2, -999.000,9, -999.000,9,      142
  06M220140507, MSM38,   465,113,      8,2,20140602,0130, 46.4808, -43.8602, 3487,   2499.8,   3.0730,  34.9232,2,    272.0,2,   -999.0,9, -999.000,9, -999.000,9,      145
  06M220140507, MSM38,   465,113,      9,2,20140602,0130, 46.4808, -43.8602, 3487,   2299.8,   3.2112,  34.9237,2,    271.8,2,   -999.0,9, -999.000,9, -999.000,9,      147
  06M220140507, MSM38,   465,113,     10,2,20140602,0130, 46.4808, -43.8602, 3487,   2098.1,   3.3693,  34.9277,2,    269.9,2,   -999.0,9, -999.000,9, -999.000,9,      150
  06M220140507, MSM38,   465,113,     11,2,20140602,0130, 46.4808, -43.8602, 3487,   1898.8,   3.4833,  34.9287,2,    269.5,2,   -999.0,9, -999.000,9, -999.000,9,      153
  06M220140507, MSM38,   465,113,     12,2,20140602,0130, 46.4808, -43.8602, 3487,   1698.2,   3.6709,  34.9365,2,    267.4,2,    266.7,2, -999.000,9, -999.000,9,      156
  06M220140507, MSM38,   465,113,     13,2,20140602,0130, 46.4808, -43.8602, 3487,   1494.5,   3.8392,  34.9407,2,    266.8,2,   -999.0,9, -999.000,9, -999.000,9,      159
  06M220140507, MSM38,   465,113,     14,2,20140602,0130, 46.4808, -43.8602, 3487,   1298.0,   3.9812,  34.9418,2,    266.5,2,   -999.0,9, -999.000,9, -999.000,9,      201
  06M220140507, MSM38,   465,113,     15,2,20140602,0130, 46.4808, -43.8602, 3487,   1099.2,   4.1323,  34.9449,2,    267.6,2,   -999.0,9, -999.000,9, -999.000,9,      204
  06M220140507, MSM38,   465,113,     16,2,20140602,0130, 46.4808, -43.8602, 3487,    885.4,   4.4957,  34.9751,2,    259.9,2,   -999.0,9, -999.000,9, -999.000,9,      207
  06M220140507, MSM38,   465,113,     17,2,20140602,0130, 46.4808, -43.8602, 3487,    698.6,   4.9536,  35.0141,2,    250.4,2,   -999.0,9, -999.000,9, -999.000,9,      210
  06M220140507, MSM38,   465,113,     18,2,20140602,0130, 46.4808, -43.8602, 3487,    497.9,   5.1054,  34.9405,2,    242.0,2,   -999.0,9, -999.000,9, -999.000,9,      213
  06M220140507, MSM38,   465,113,     19,2,20140602,0130, 46.4808, -43.8602, 3487,    298.3,   5.8471,  34.8170,2,    211.9,2,   -999.0,9, -999.000,9, -999.000,9,      215
  06M220140507, MSM38,   465,113,     20,2,20140602,0130, 46.4808, -43.8602, 3487,     98.1,   8.8459,  34.8259,2,    234.1,2,   -999.0,9, -999.000,9, -999.000,9,      218
  06M220140507, MSM38,   465,113,     21,2,20140602,0130, 46.4808, -43.8602, 3487,     16.2,   7.8072,  33.2236,2,    307.8,2,    306.9,2, -999.000,9, -999.000,9,      221
  06M220140507, MSM38,   465,113,     22,2,20140602,0130, 46.4808, -43.8602, 3487,     16.6,   8.1551,  33.2065,2,    300.8,2,   -999.0,9, -999.000,9, -999.000,9,      221
  06M220140507, MSM38,   466,114,      1,2,20140602,0431, 46.3575, -43.7255, 3903,   3967.7,   2.0799,  34.8992,2,    287.4,2,    284.9,2, -999.000,9, -999.000,9,      431
  06M220140507, MSM38,   466,114,      2,2,20140602,0431, 46.3575, -43.7255, 3903,   3968.1,   2.0799,  34.8992,2,    287.9,2,   -999.0,9, -999.000,9, -999.000,9,      431
  06M220140507, MSM38,   466,114,      3,2,20140602,0431, 46.3575, -43.7255, 3903,   3799.8,   2.3000,  34.9023,2,    280.4,2,   -999.0,9, -999.000,9, -999.000,9,      434
  06M220140507, MSM38,   466,114,      4,2,20140602,0431, 46.3575, -43.7255, 3903,   3596.7,   2.4263,  34.9064,2,    277.8,2,    279.3,6, -999.000,9, -999.000,9,      436
  06M220140507, MSM38,   466,114,      5,2,20140602,0431, 46.3575, -43.7255, 3903,   3398.2,   2.5550,  34.9124,2,    280.7,2,   -999.0,9, -999.000,9, -999.000,9,      439
  06M220140507, MSM38,   466,114,      6,2,20140602,0431, 46.3575, -43.7255, 3903,   3198.0,   2.6855,  34.9162,2,    277.9,2,   -999.0,9, -999.000,9, -999.000,9,      442
  06M220140507, MSM38,   466,114,      7,2,20140602,0431, 46.3575, -43.7255, 3903,   2996.2,   2.8122,  34.9191,2,    275.0,2,   -999.0,9, -999.000,9, -999.000,9,      445
  06M220140507, MSM38,   466,114,      8,2,20140602,0431, 46.3575, -43.7255, 3903,   2799.1,   2.9395,  34.9232,2,    272.2,2,   -999.0,9, -999.000,9, -999.000,9,      447
  06M220140507, MSM38,   466,114,      9,2,20140602,0431, 46.3575, -43.7255, 3903,   2598.1,   3.0650,  34.9243,2,    271.5,2,   -999.0,9, -999.000,9, -999.000,9,      450
  06M220140507, MSM38,   466,114,     10,2,20140602,0431, 46.3575, -43.7255, 3903,   2394.9,   3.1823,  34.9228,2,    271.9,2,    271.8,2, -999.000,9, -999.000,9,      453
  06M220140507, MSM38,   466,114,     11,2,20140602,0431, 46.3575, -43.7255, 3903,   2199.2,   3.3269,  34.9265,2,    270.3,2,   -999.0,9, -999.000,9, -999.000,9,      455
  06M220140507, MSM38,   466,114,     12,2,20140602,0431, 46.3575, -43.7255, 3903,   1998.1,   3.4541,  34.9263,2,    270.0,2,   -999.0,9, -999.000,9, -999.000,9,      458
  06M220140507, MSM38,   466,114,     13,2,20140602,0431, 46.3575, -43.7255, 3903,   1797.9,   3.6251,  34.9327,2,    268.2,2,   -999.0,9, -999.000,9, -999.000,9,      501
  06M220140507, MSM38,   466,114,     14,2,20140602,0431, 46.3575, -43.7255, 3903,   1598.7,   3.8730,  34.9526,2,    264.3,2,   -999.0,9, -999.000,9, -999.000,9,      503
  06M220140507, MSM38,   466,114,     15,2,20140602,0431, 46.3575, -43.7255, 3903,   1399.0,   4.0359,  34.9587,2,    263.7,2,   -999.0,9, -999.000,9, -999.000,9,      506
  06M220140507, MSM38,   466,114,     16,2,20140602,0431, 46.3575, -43.7255, 3903,   1198.8,   4.2892,  34.9743,2,    260.6,2,   -999.0,9, -999.000,9, -999.000,9,      509
  06M220140507, MSM38,   466,114,     17,2,20140602,0431, 46.3575, -43.7255, 3903,    948.3,   4.4082,  34.9604,2,    262.4,2,   -999.0,9, -999.000,9, -999.000,9,      512
  06M220140507, MSM38,   466,114,     18,2,20140602,0431, 46.3575, -43.7255, 3903,    798.5,   4.5292,  34.9479,2,    267.3,2,   -999.0,9, -999.000,9, -999.000,9,      514
  06M220140507, MSM38,   466,114,     19,2,20140602,0431, 46.3575, -43.7255, 3903,    599.7,   5.3674,  35.0257,2,    233.4,2,   -999.0,9, -999.000,9, -999.000,9,      517
  06M220140507, MSM38,   466,114,     20,2,20140602,0431, 46.3575, -43.7255, 3903,    397.0,   5.1267,  34.7506,2,    229.5,2,   -999.0,9, -999.000,9, -999.000,9,      520
  06M220140507, MSM38,   466,114,     21,2,20140602,0431, 46.3575, -43.7255, 3903,    188.4,   7.2705,  34.6630,2,    224.7,2,   -999.0,9, -999.000,9, -999.000,9,      523
  06M220140507, MSM38,   466,114,     22,2,20140602,0431, 46.3575, -43.7255, 3903,     16.3,   9.0000,  33.5301,2,    300.7,2,   -999.0,9, -999.000,9, -999.000,9,      528
  06M220140507, MSM38,   467,115,      1,2,20140602,0757, 46.2337, -43.5895, 4206,   4256.9,   2.1477,  34.8957,2,    283.5,2,    281.5,2, -999.000,9, -999.000,9,      757
  06M220140507, MSM38,   467,115,      2,2,20140602,0757, 46.2337, -43.5895, 4206,   3897.4,   2.2480,  34.8947,2,    275.7,2,   -999.0,9, -999.000,9, -999.000,9,      802
  06M220140507, MSM38,   467,115,      3,2,20140602,0757, 46.2337, -43.5895, 4206,   3696.5,   2.3337,  34.9000,2,    275.2,2,   -999.0,9, -999.000,9, -999.000,9,      805
  06M220140507, MSM38,   467,115,      4,2,20140602,0757, 46.2337, -43.5895, 4206,   3498.5,   2.4470,  34.9058,2,    274.1,2,   -999.0,9, -999.000,9, -999.000,9,      807
  06M220140507, MSM38,   467,115,      5,2,20140602,0757, 46.2337, -43.5895, 4206,   3298.1,   2.6113,  34.9132,2,    273.3,2,   -999.0,9, -999.000,9, -999.000,9,      810
  06M220140507, MSM38,   467,115,      6,2,20140602,0757, 46.2337, -43.5895, 4206,   3097.8,   2.7678,  34.9188,2,    272.9,2,    272.6,2, -999.000,9, -999.000,9,      813
  06M220140507, MSM38,   467,115,      7,2,20140602,0757, 46.2337, -43.5895, 4206,   2898.8,   2.8827,  34.9201,2,    276.4,2,   -999.0,9, -999.000,9, -999.000,9,      815
  06M220140507, MSM38,   467,115,      8,2,20140602,0757, 46.2337, -43.5895, 4206,   2694.1,   3.0123,  34.9233,2,    273.0,2,   -999.0,9, -999.000,9, -999.000,9,      818
  06M220140507, MSM38,   467,115,      9,2,20140602,0757, 46.2337, -43.5895, 4206,   2499.2,   3.1534,  34.9235,2,    272.9,2,   -999.0,9, -999.000,9, -999.000,9,      821
  06M220140507, MSM38,   467,115,     10,2,20140602,0757, 46.2337, -43.5895, 4206,   2297.8,   3.2997,  34.9279,2,    269.5,2,   -999.0,9, -999.000,9, -999.000,9,      823
  06M220140507, MSM38,   467,115,     11,2,20140602,0757, 46.2337, -43.5895, 4206,   2098.0,   3.4575,  34.9321,2,    268.9,2,    268.6,2, -999.000,9, -999.000,9,      826
  06M220140507, MSM38,   467,115,     12,2,20140602,0757, 46.2337, -43.5895, 4206,   1895.6,   3.6347,  34.9372,2,    267.8,2,   -999.0,9, -999.000,9, -999.000,9,      829
  06M220140507, MSM38,   467,115,     13,2,20140602,0757, 46.2337, -43.5895, 4206,   1697.3,   3.7765,  34.9388,2,    267.3,2,   -999.0,9, -999.000,9, -999.000,9,      832
  06M220140507, MSM38,   467,115,     14,2,20140602,0757, 46.2337, -43.5895, 4206,   1498.0,   3.9513,  34.9458,2,    265.2,2,   -999.0,9, -999.000,9, -999.000,9,      835
  06M220140507, MSM38,   467,115,     15,2,20140602,0757, 46.2337, -43.5895, 4206,   1297.2,   4.1963,  34.9622,2,    266.9,2,    264.2,2, -999.000,9, -999.000,9,      838
  06M220140507, MSM38,   467,115,     16,2,20140602,0757, 46.2337, -43.5895, 4206,   1093.1,   4.2593,  34.9483,2,    266.2,2,   -999.0,9, -999.000,9, -999.000,9,      840
  06M220140507, MSM38,   467,115,     17,2,20140602,0757, 46.2337, -43.5895, 4206,    895.7,   4.8661,  35.0128,2,    246.8,2,   -999.0,9, -999.000,9, -999.000,9,      843
  06M220140507, MSM38,   467,115,     18,2,20140602,0757, 46.2337, -43.5895, 4206,    699.1,   5.4250,  35.0372,2,    239.0,2,   -999.0,9, -999.000,9, -999.000,9,      846
  06M220140507, MSM38,   467,115,     19,2,20140602,0757, 46.2337, -43.5895, 4206,    498.6,   6.8779,  35.0978,2,    199.7,2,   -999.0,9, -999.000,9, -999.000,9,      849
  06M220140507, MSM38,   467,115,     20,2,20140602,0757, 46.2337, -43.5895, 4206,    299.0,   7.3417,  34.7639,2,    200.2,2,   -999.0,9, -999.000,9, -999.000,9,      852
  06M220140507, MSM38,   467,115,     21,2,20140602,0757, 46.2337, -43.5895, 4206,    100.6,  11.5276,  35.2618,2,    214.1,2,   -999.0,9, -999.000,9, -999.000,9,      855
  06M220140507, MSM38,   467,115,     22,2,20140602,0757, 46.2337, -43.5895, 4206,     15.8,   8.5612,  33.3808,2,    301.3,2,   -999.0,9, -999.000,9, -999.000,9,      859
  06M220140507, MSM38,   468,116,      1,2,20140602,1138, 46.1095, -43.4535, 4472,   4539.4,   2.1431,  34.8994,2,    289.2,2,    286.8,2, -999.000,9, -999.000,9,     1138
  06M220140507, MSM38,   468,116,      2,2,20140602,1138, 46.1095, -43.4535, 4472,   4297.8,   2.2354,  34.8969,2,    282.8,2,   -999.0,9, -999.000,9, -999.000,9,     1142
  06M220140507, MSM38,   468,116,      3,2,20140602,1138, 46.1095, -43.4535, 4472,   3998.9,   2.2885,  34.8974,2,    274.3,2,   -999.0,9, -999.000,9, -999.000,9,     1146
  06M220140507, MSM38,   468,116,      4,2,20140602,1138, 46.1095, -43.4535, 4472,   3699.2,   2.3827,  34.9022,2,    275.5,2,   -999.0,9, -999.000,9, -999.000,9,     1150
  06M220140507, MSM38,   468,116,      5,2,20140602,1138, 46.1095, -43.4535, 4472,   3399.1,   2.5806,  34.9120,2,    275.8,2,   -999.0,9, -999.000,9, -999.000,9,     1154
  06M220140507, MSM38,   468,116,      6,2,20140602,1138, 46.1095, -43.4535, 4472,   3099.3,   2.7939,  34.9192,2,    272.2,2,   -999.0,9, -999.000,9, -999.000,9,     1158
  06M220140507, MSM38,   468,116,      7,2,20140602,1138, 46.1095, -43.4535, 4472,   2698.3,   3.0505,  34.9219,2,    271.9,2,   -999.0,9, -999.000,9, -999.000,9,     1204
  06M220140507, MSM38,   468,116,      8,2,20140602,1138, 46.1095, -43.4535, 4472,   2399.6,   3.3068,  34.9304,2,    269.8,2,    269.6,2, -999.000,9, -999.000,9,     1208
  06M220140507, MSM38,   468,116,      9,2,20140602,1138, 46.1095, -43.4535, 4472,   2197.6,   3.4298,  34.9320,2,    269.0,2,   -999.0,9, -999.000,9, -999.000,9,     1211
  06M220140507, MSM38,   468,116,     10,2,20140602,1138, 46.1095, -43.4535, 4472,   1998.4,   3.6119,  34.9388,2,    266.8,2,   -999.0,9, -999.000,9, -999.000,9,     1214
  06M220140507, MSM38,   468,116,     11,2,20140602,1138, 46.1095, -43.4535, 4472,   1799.8,   3.7993,  34.9515,2,    264.7,2,   -999.0,9, -999.000,9, -999.000,9,     1217
  06M220140507, MSM38,   468,116,     12,2,20140602,1138, 46.1095, -43.4535, 4472,   1597.4,   3.9579,  34.9562,2,    264.0,2,   -999.0,9, -999.000,9, -999.000,9,     1219
  06M220140507, MSM38,   468,116,     13,2,20140602,1138, 46.1095, -43.4535, 4472,   1398.3,   4.1599,  34.9626,2,    262.3,2,    262.6,2, -999.000,9, -999.000,9,     1222
  06M220140507, MSM38,   468,116,     14,2,20140602,1138, 46.1095, -43.4535, 4472,   1198.0,   4.4257,  34.9804,2,    260.1,2,   -999.0,9, -999.000,9, -999.000,9,     1225
  06M220140507, MSM38,   468,116,     15,2,20140602,1138, 46.1095, -43.4535, 4472,   1000.7,   4.8050,  35.0110,2,    251.2,2,   -999.0,9, -999.000,9, -999.000,9,     1228
  06M220140507, MSM38,   468,116,     16,2,20140602,1138, 46.1095, -43.4535, 4472,    798.7,   4.9583,  34.9677,2,    250.4,2,   -999.0,9, -999.000,9, -999.000,9,     1231
  06M220140507, MSM38,   468,116,     17,2,20140602,1138, 46.1095, -43.4535, 4472,    598.8,   6.0331,  35.0215,2,    215.9,2,   -999.0,9, -999.000,9, -999.000,9,     1233
  06M220140507, MSM38,   468,116,     18,2,20140602,1138, 46.1095, -43.4535, 4472,    399.3,   6.2076,  34.6662,2,    210.9,2,   -999.0,9, -999.000,9, -999.000,9,     1236
  06M220140507, MSM38,   468,116,     19,2,20140602,1138, 46.1095, -43.4535, 4472,    199.7,   9.5368,  34.9463,2,    233.2,2,   -999.0,9, -999.000,9, -999.000,9,     1239
  06M220140507, MSM38,   468,116,     20,2,20140602,1138, 46.1095, -43.4535, 4472,     16.2,  11.4034,  34.2200,2,    280.8,2,   -999.0,9, -999.000,9, -999.000,9,     1244
  06M220140507, MSM38,   468,116,     21,2,20140602,1138, 46.1095, -43.4535, 4472,     16.1,  11.4108,  34.2206,2,    281.3,2,   -999.0,9, -999.000,9, -999.000,9,     1244
  06M220140507, MSM38,   468,116,     22,2,20140602,1138, 46.1095, -43.4535, 4472,     16.3,  11.4018,  34.2196,2,    281.1,2,   -999.0,9, -999.000,9, -999.000,9,     1244