BOTTLE,20200319PRINUNIVRMK
EXPOCODE,SECT_ID,STNNBR,CASTNO,BTLNBR,BTLNBR_FLAG_W,DATE,TIME,LATITUDE,LONGITUDE,DEPTH,CTDPRS,CTDTMP,CTDSAL,CTDSAL_FLAG_W,CTDOXY,CTDOXY_FLAG_W,OXYGEN,OXYGEN_FLAG_W,CFC-11,CFC-11_FLAG_W,CFC-12,CFC-12_FLAG_W,BTL_TIME
,,,,,,,,,,METERS,DBAR,ITS-90,PSS-78,,UMOL/KG,,UMOL/KG,,PMOL/KG,,PMOL/KG,,
  06M220140507, MSM38,   395, 44,      1,2,20140524,1114, 47.1613, -39.4995, 4574,   4664.2,   2.2350,  34.8974,2,    284.4,2,    284.0,2,    2.946,2,    1.538,2,     1114
  06M220140507, MSM38,   395, 44,      2,2,20140524,1114, 47.1613, -39.4995, 4574,   4399.6,   2.2858,  34.8976,2,    280.6,2,   -999.0,9,    2.587,2,    1.342,2,     1118
  06M220140507, MSM38,   395, 44,      3,2,20140524,1114, 47.1613, -39.4995, 4574,   4198.0,   2.3349,  34.8991,2,    279.1,2,   -999.0,9,    2.381,2,    1.291,2,     1121
  06M220140507, MSM38,   395, 44,      4,2,20140524,1114, 47.1613, -39.4995, 4574,   3998.9,   2.3924,  34.9019,2,    278.1,2,   -999.0,9, -999.000,9, -999.000,9,     1123
  06M220140507, MSM38,   395, 44,      5,2,20140524,1114, 47.1613, -39.4995, 4574,   3799.1,   2.5050,  34.9068,2,    276.6,2,   -999.0,9, -999.000,9, -999.000,9,     1126
  06M220140507, MSM38,   395, 44,      6,2,20140524,1114, 47.1613, -39.4995, 4574,   3598.4,   2.6748,  34.9143,2,    275.4,2,   -999.0,9,    2.126,2,    1.086,2,     1129
  06M220140507, MSM38,   395, 44,      7,2,20140524,1114, 47.1613, -39.4995, 4574,   3398.3,   2.8105,  34.9184,2,    275.4,2,   -999.0,9, -999.000,9, -999.000,9,     1131
  06M220140507, MSM38,   395, 44,      8,2,20140524,1114, 47.1613, -39.4995, 4574,   3198.7,   2.9789,  34.9201,2,    275.4,2,    276.3,2,    2.452,2,    1.248,2,     1134
  06M220140507, MSM38,   395, 44,      9,2,20140524,1114, 47.1613, -39.4995, 4574,   2798.1,   3.2464,  34.9207,2,    274.4,2,   -999.0,9,    2.694,2,    1.363,2,     1140
  06M220140507, MSM38,   395, 44,     10,2,20140524,1114, 47.1613, -39.4995, 4574,   2488.5,   3.4637,  34.9228,2,    272.5,2,   -999.0,9,    2.790,2,    1.410,2,     1144
  06M220140507, MSM38,   395, 44,     11,2,20140524,1114, 47.1613, -39.4995, 4574,   2197.7,   3.7030,  34.9299,2,    270.3,2,   -999.0,9,    3.043,2,    1.571,2,     1148
  06M220140507, MSM38,   395, 44,     12,2,20140524,1114, 47.1613, -39.4995, 4574,   1946.6,   3.8767,  34.9301,2,    271.4,2,   -999.0,9,    3.402,2,    1.795,2,     1151
  06M220140507, MSM38,   395, 44,     13,2,20140524,1114, 47.1613, -39.4995, 4574,   1698.0,   4.0349,  34.9282,2,    272.5,2,   -999.0,9,    3.670,2,    2.000,2,     1155
  06M220140507, MSM38,   395, 44,     14,2,20140524,1114, 47.1613, -39.4995, 4574,   1448.7,   4.2525,  34.9322,2,    271.8,2,   -999.0,9,    3.748,2,    2.055,2,     1158
  06M220140507, MSM38,   395, 44,     15,2,20140524,1114, 47.1613, -39.4995, 4574,   1199.8,   4.8601,  34.9826,2,    254.1,2,    256.0,2,    3.278,2,    1.794,2,     1201
  06M220140507, MSM38,   395, 44,     16,2,20140524,1114, 47.1613, -39.4995, 4574,    998.1,   5.5264,  34.9862,2,    232.4,2,   -999.0,9,    2.927,2,    1.626,2,     1204
  06M220140507, MSM38,   395, 44,     17,2,20140524,1114, 47.1613, -39.4995, 4574,    798.7,   7.0913,  34.9599,2,    197.2,2,   -999.0,9,    2.631,2,    1.471,2,     1207
  06M220140507, MSM38,   395, 44,     18,2,20140524,1114, 47.1613, -39.4995, 4574,    598.7,  10.0328,  35.2338,2,    198.4,2,   -999.0,9, -999.000,9, -999.000,9,     1210
  06M220140507, MSM38,   395, 44,     19,2,20140524,1114, 47.1613, -39.4995, 4574,    497.8,  11.7134,  35.5003,2,    225.3,2,   -999.0,9,    2.628,2,    1.577,2,     1211
  06M220140507, MSM38,   395, 44,     20,2,20140524,1114, 47.1613, -39.4995, 4574,    297.9,  12.5924,  35.6396,2,    240.7,2,   -999.0,9, -999.000,9, -999.000,9,     1214
  06M220140507, MSM38,   395, 44,     21,2,20140524,1114, 47.1613, -39.4995, 4574,     97.4,  13.3111,  35.6590,2,    244.6,2,    245.3,6, -999.000,9, -999.000,9,     1217
  06M220140507, MSM38,   395, 44,     22,2,20140524,1114, 47.1613, -39.4995, 4574,     17.6,  14.4706,  35.6133,2,    274.6,2,   -999.0,9,    2.731,2,    1.710,2,     1220
  06M220140507, MSM38,   396, 45,      1,2,20140524,1948, 47.1353, -40.1997, 4548,   4633.2,   2.2335,  34.8975,2,    284.1,2,    285.9,2,    2.955,2,    1.552,2,     1948
  06M220140507, MSM38,   396, 45,      2,2,20140524,1948, 47.1353, -40.1997, 4548,   4397.9,   2.2802,  34.8974,2,    280.4,2,   -999.0,9,    2.564,2,    1.337,2,     1951
  06M220140507, MSM38,   396, 45,      3,2,20140524,1948, 47.1353, -40.1997, 4548,   4097.1,   2.3811,  34.9024,2,    279.8,2,   -999.0,9,    2.515,2,    1.311,2,     1955
  06M220140507, MSM38,   396, 45,      4,2,20140524,1948, 47.1353, -40.1997, 4548,   3798.9,   2.5527,  34.9087,2,    275.7,2,   -999.0,9,    2.112,2,    1.088,2,     1959
  06M220140507, MSM38,   396, 45,      5,2,20140524,1948, 47.1353, -40.1997, 4548,   3495.9,   2.7934,  34.9175,2,    275.6,2,    277.9,2,    2.238,2,    1.155,2,     2005
  06M220140507, MSM38,   396, 45,      6,2,20140524,1948, 47.1353, -40.1997, 4548,   3198.7,   2.9856,  34.9203,2,    274.6,2,   -999.0,9,    2.408,2,    1.245,2,     2009
  06M220140507, MSM38,   396, 45,      7,2,20140524,1948, 47.1353, -40.1997, 4548,   2848.3,   3.2318,  34.9230,2,    272.7,2,   -999.0,9,    2.370,2,    1.212,2,     2014
  06M220140507, MSM38,   396, 45,      8,2,20140524,1948, 47.1353, -40.1997, 4548,   2447.4,   3.5286,  34.9253,2,    273.0,2,   -999.0,9,    3.033,2,    1.569,2,     2020
  06M220140507, MSM38,   396, 45,      9,2,20140524,1948, 47.1353, -40.1997, 4548,   2148.4,   3.7864,  34.9380,2,    268.4,2,   -999.0,9,    2.892,2,    1.485,2,     2024
  06M220140507, MSM38,   396, 45,     10,2,20140524,1948, 47.1353, -40.1997, 4548,   1998.2,   3.8785,  34.9338,2,    269.9,2,   -999.0,9, -999.000,9, -999.000,9,     2026
  06M220140507, MSM38,   396, 45,     11,2,20140524,1948, 47.1353, -40.1997, 4548,   1797.8,   4.0616,  34.9405,2,    269.2,2,   -999.0,9,    3.376,2,    1.785,2,     2029
  06M220140507, MSM38,   396, 45,     12,2,20140524,1948, 47.1353, -40.1997, 4548,   1597.6,   4.2155,  34.9430,2,    270.9,2,   -999.0,9, -999.000,9, -999.000,9,     2031
  06M220140507, MSM38,   396, 45,     13,2,20140524,1948, 47.1353, -40.1997, 4548,   1497.0,   4.2812,  34.9357,2,    270.4,2,   -999.0,9,    3.664,2,    1.991,2,     2033
  06M220140507, MSM38,   396, 45,     14,2,20140524,1948, 47.1353, -40.1997, 4548,   1397.5,   4.3999,  34.9391,2,    268.5,2,    271.1,2, -999.000,9, -999.000,9,     2034
  06M220140507, MSM38,   396, 45,     15,2,20140524,1948, 47.1353, -40.1997, 4548,   1298.4,   4.6033,  34.9484,2,    263.8,2,   -999.0,9,    3.566,2,    1.958,2,     2035
  06M220140507, MSM38,   396, 45,     16,2,20140524,1948, 47.1353, -40.1997, 4548,   1196.9,   4.9157,  34.9630,2,    254.1,2,   -999.0,9, -999.000,9, -999.000,9,     2037
  06M220140507, MSM38,   396, 45,     17,2,20140524,1948, 47.1353, -40.1997, 4548,   1097.4,   5.2514,  34.9651,2,    241.0,2,   -999.0,9,    3.119,2,    1.712,2,     2038
  06M220140507, MSM38,   396, 45,     18,2,20140524,1948, 47.1353, -40.1997, 4548,    996.5,   5.8833,  34.9710,2,    218.8,2,   -999.0,9, -999.000,9, -999.000,9,     2040
  06M220140507, MSM38,   396, 45,     19,2,20140524,1948, 47.1353, -40.1997, 4548,    799.0,   8.2356,  35.0516,2,    200.5,2,   -999.0,9,    2.334,2,    1.303,2,     2042
  06M220140507, MSM38,   396, 45,     20,2,20140524,1948, 47.1353, -40.1997, 4548,    498.8,  11.9509,  35.5428,2,    240.8,2,   -999.0,9,    2.806,2,    1.646,2,     2047
  06M220140507, MSM38,   396, 45,     21,2,20140524,1948, 47.1353, -40.1997, 4548,    298.8,  12.3750,  35.6088,2,    246.6,2,   -999.0,9, -999.000,9, -999.000,9,     2049
  06M220140507, MSM38,   396, 45,     22,2,20140524,1948, 47.1353, -40.1997, 4548,     24.8,  13.5529,  35.5828,2,    268.2,2,    270.6,6,    2.791,2,    1.670,2,     2055
  06M220140507, MSM38,   397, 46,      1,2,20140525,0158, 47.0978, -40.8743, 4489,   4552.9,   2.1170,  34.8995,2,    289.3,2,    290.6,2,    3.575,2,    1.887,2,      158
  06M220140507, MSM38,   397, 46,      2,2,20140525,0158, 47.0978, -40.8743, 4489,   4095.8,   2.3578,  34.9017,2,    281.5,2,   -999.0,9,    2.606,2,    1.346,2,      205
  06M220140507, MSM38,   397, 46,      3,2,20140525,0158, 47.0978, -40.8743, 4489,   3899.0,   2.4777,  34.9072,2,    280.9,2,    281.1,6,    2.717,2,    1.419,2,      208
  06M220140507, MSM38,   397, 46,      4,2,20140525,0158, 47.0978, -40.8743, 4489,   3597.3,   2.7050,  34.9158,2,    280.2,2,   -999.0,9,    2.880,2,    1.510,2,      212
  06M220140507, MSM38,   397, 46,      5,2,20140525,0158, 47.0978, -40.8743, 4489,   3296.8,   2.8988,  34.9198,2,    278.5,2,   -999.0,9,    2.798,2,    1.467,2,      216
  06M220140507, MSM38,   397, 46,      6,2,20140525,0158, 47.0978, -40.8743, 4489,   2997.1,   3.1069,  34.9202,2,    276.3,2,   -999.0,9, -999.000,9, -999.000,9,      220
  06M220140507, MSM38,   397, 46,      7,2,20140525,0158, 47.0978, -40.8743, 4489,   2697.5,   3.3025,  34.9284,2,    271.8,2,   -999.0,9,    2.230,2,    1.108,2,      224
  06M220140507, MSM38,   397, 46,      8,2,20140525,0158, 47.0978, -40.8743, 4489,   2399.3,   3.4720,  34.9260,2,    271.4,2,   -999.0,9,    2.670,2,    1.354,2,      228
  06M220140507, MSM38,   397, 46,      9,2,20140525,0158, 47.0978, -40.8743, 4489,   2098.7,   3.7350,  34.9392,2,    269.0,2,   -999.0,9,    2.747,2,    1.411,2,      232
  06M220140507, MSM38,   397, 46,     10,2,20140525,0158, 47.0978, -40.8743, 4489,   1797.8,   3.8734,  34.9289,2,    270.2,2,   -999.0,9,    3.342,2,    1.760,2,      237
  06M220140507, MSM38,   397, 46,     11,2,20140525,0158, 47.0978, -40.8743, 4489,   1601.4,   3.9949,  34.9287,2,    272.2,2,    271.9,2,    3.544,2,    1.889,2,      239
  06M220140507, MSM38,   397, 46,     12,2,20140525,0158, 47.0978, -40.8743, 4489,   1499.1,   4.1779,  34.9466,2,    268.0,2,   -999.0,9, -999.000,9, -999.000,9,      241
  06M220140507, MSM38,   397, 46,     13,2,20140525,0158, 47.0978, -40.8743, 4489,   1395.8,   4.2578,  34.9472,2,    267.8,2,   -999.0,9,    3.498,2,    1.896,2,      242
  06M220140507, MSM38,   397, 46,     14,2,20140525,0158, 47.0978, -40.8743, 4489,   1198.2,   4.7384,  34.9933,2,    258.6,2,   -999.0,9,    3.253,2,    1.773,2,      245
  06M220140507, MSM38,   397, 46,     15,2,20140525,0158, 47.0978, -40.8743, 4489,    998.0,   5.2125,  35.0044,2,    243.1,2,   -999.0,9,    3.082,2,    1.681,2,      248
  06M220140507, MSM38,   397, 46,     16,2,20140525,0158, 47.0978, -40.8743, 4489,    796.4,   6.0243,  34.9621,2,    215.5,2,   -999.0,9,    2.538,2,    1.396,2,      251
  06M220140507, MSM38,   397, 46,     17,2,20140525,0158, 47.0978, -40.8743, 4489,    598.5,   8.6587,  35.0817,2,    212.6,2,   -999.0,9, -999.000,9, -999.000,9,      253
  06M220140507, MSM38,   397, 46,     18,2,20140525,0158, 47.0978, -40.8743, 4489,    499.8,   9.9440,  35.2187,2,    209.9,2,   -999.0,9,    2.522,2,    1.460,2,      255
  06M220140507, MSM38,   397, 46,     19,2,20140525,0158, 47.0978, -40.8743, 4489,    398.3,  11.1555,  35.3971,2,    239.3,2,   -999.0,9, -999.000,9, -999.000,9,      256
  06M220140507, MSM38,   397, 46,     20,2,20140525,0158, 47.0978, -40.8743, 4489,    198.4,  12.1737,  35.5652,2,    246.5,2,   -999.0,9, -999.000,9, -999.000,9,      259
  06M220140507, MSM38,   397, 46,     21,2,20140525,0158, 47.0978, -40.8743, 4489,     98.2,  12.3434,  35.5269,2,    258.8,2,    258.4,2,    2.851,2,    1.728,2,      300
  06M220140507, MSM38,   398, 47,      1,2,20140525,1053, 47.1017, -41.6045, 4301,   4360.8,   2.1132,  34.8992,2,    288.9,2,    289.3,2,    3.476,2,    1.857,2,     1053
  06M220140507, MSM38,   398, 47,      2,2,20140525,1053, 47.1017, -41.6045, 4301,   4070.0,   2.2442,  34.8962,2,    279.5,2,   -999.0,9,    2.427,2,    1.298,2,     1057
  06M220140507, MSM38,   398, 47,      3,2,20140525,1053, 47.1017, -41.6045, 4301,   3699.0,   2.2989,  34.8992,2,    277.2,2,   -999.0,9,    2.216,2,    1.154,2,     1102
  06M220140507, MSM38,   398, 47,      4,2,20140525,1053, 47.1017, -41.6045, 4301,   3398.5,   2.4426,  34.9059,2,    276.5,2,   -999.0,9,    2.135,6,    1.099,6,     1106
  06M220140507, MSM38,   398, 47,      5,2,20140525,1053, 47.1017, -41.6045, 4301,   3097.7,   2.6819,  34.9158,2,    274.6,2,    276.0,2,    2.181,2,    1.116,2,     1111
  06M220140507, MSM38,   398, 47,      6,2,20140525,1053, 47.1017, -41.6045, 4301,   2797.7,   2.9208,  34.9201,2,    275.1,2,   -999.0,9,    2.432,2,    1.248,2,     1115
  06M220140507, MSM38,   398, 47,      7,2,20140525,1053, 47.1017, -41.6045, 4301,   2498.8,   3.0670,  34.9202,2,    274.3,2,   -999.0,9,    2.579,2,    1.316,2,     1119
  06M220140507, MSM38,   398, 47,      8,2,20140525,1053, 47.1017, -41.6045, 4301,   2198.3,   3.2953,  34.9212,2,    274.1,2,   -999.0,9,    2.885,2,    1.474,2,     1123
  06M220140507, MSM38,   398, 47,      9,2,20140525,1053, 47.1017, -41.6045, 4301,   1796.7,   3.6161,  34.9273,2,    270.5,2,   -999.0,9,    3.015,2,    1.550,2,     1129
  06M220140507, MSM38,   398, 47,     10,2,20140525,1053, 47.1017, -41.6045, 4301,   1499.4,   3.8334,  34.9280,2,    271.5,2,   -999.0,9,    3.468,2,    1.826,2,     1133
  06M220140507, MSM38,   398, 47,     11,2,20140525,1053, 47.1017, -41.6045, 4301,   1496.8,   3.8365,  34.9280,2,    271.3,2,   -999.0,9, -999.000,9, -999.000,9,     1133
  06M220140507, MSM38,   398, 47,     12,2,20140525,1053, 47.1017, -41.6045, 4301,   1299.5,   3.9160,  34.9201,2,    276.5,2,   -999.0,9,    3.647,2,    1.961,2,     1136
  06M220140507, MSM38,   398, 47,     13,2,20140525,1053, 47.1017, -41.6045, 4301,   1297.5,   3.9038,  34.9177,2,    276.3,2,   -999.0,9, -999.000,9, -999.000,9,     1136
  06M220140507, MSM38,   398, 47,     14,2,20140525,1053, 47.1017, -41.6045, 4301,   1096.2,   4.0589,  34.9179,2,    276.1,2,    279.4,6,    3.922,2,    2.162,2,     1138
  06M220140507, MSM38,   398, 47,     15,2,20140525,1053, 47.1017, -41.6045, 4301,   1093.6,   4.0616,  34.9186,2,    276.4,2,   -999.0,9, -999.000,9, -999.000,9,     1139
  06M220140507, MSM38,   398, 47,     16,2,20140525,1053, 47.1017, -41.6045, 4301,    899.0,   4.2622,  34.9267,2,    276.8,2,   -999.0,9,    3.901,2,    2.160,2,     1141
  06M220140507, MSM38,   398, 47,     17,2,20140525,1053, 47.1017, -41.6045, 4301,    897.5,   4.2608,  34.9256,2,    277.0,2,   -999.0,9, -999.000,9, -999.000,9,     1141
  06M220140507, MSM38,   398, 47,     18,2,20140525,1053, 47.1017, -41.6045, 4301,    698.1,   4.7010,  34.9451,2,    263.0,2,   -999.0,9, -999.000,9, -999.000,9,     1144
  06M220140507, MSM38,   398, 47,     19,2,20140525,1053, 47.1017, -41.6045, 4301,    349.6,   6.2404,  34.8767,2,    207.9,2,   -999.0,9,    2.670,2,    1.474,2,     1149
  06M220140507, MSM38,   398, 47,     20,2,20140525,1053, 47.1017, -41.6045, 4301,     98.5,   6.2193,  34.3105,2,    265.3,2,   -999.0,9, -999.000,9, -999.000,9,     1153
  06M220140507, MSM38,   398, 47,     21,2,20140525,1053, 47.1017, -41.6045, 4301,     24.1,   7.5713,  33.3693,2,    311.7,2,   -999.0,9,    4.300,2,    2.437,2,     1156
  06M220140507, MSM38,   398, 47,     22,2,20140525,1053, 47.1017, -41.6045, 4301,     25.1,   7.5753,  33.3710,2,    311.9,2,    311.2,2, -999.000,9, -999.000,9,     1156
  06M220140507, MSM38,   399, 48,      1,2,20140525,1452, 47.0985, -41.9985, 4226,   4289.3,   2.0593,  34.8996,2,    290.0,2,    291.0,2, -999.000,9, -999.000,9,     1452
  06M220140507, MSM38,   399, 48,      2,2,20140525,1452, 47.0985, -41.9985, 4226,   3997.8,   2.2145,  34.8974,2,    281.2,2,   -999.0,9, -999.000,9, -999.000,9,     1456
  06M220140507, MSM38,   399, 48,      3,2,20140525,1452, 47.0985, -41.9985, 4226,   3798.3,   2.2519,  34.8982,2,    279.0,2,   -999.0,9, -999.000,9, -999.000,9,     1459
  06M220140507, MSM38,   399, 48,      4,2,20140525,1452, 47.0985, -41.9985, 4226,   3598.6,   2.2734,  34.8994,2,    278.3,2,   -999.0,9, -999.000,9, -999.000,9,     1502
  06M220140507, MSM38,   399, 48,      5,2,20140525,1452, 47.0985, -41.9985, 4226,   3398.3,   2.3090,  34.9013,2,    277.3,2,   -999.0,9, -999.000,9, -999.000,9,     1504
  06M220140507, MSM38,   399, 48,      6,2,20140525,1452, 47.0985, -41.9985, 4226,   3199.0,   2.4254,  34.9062,2,    275.6,2,   -999.0,9, -999.000,9, -999.000,9,     1507
  06M220140507, MSM38,   399, 48,      7,2,20140525,1452, 47.0985, -41.9985, 4226,   3000.5,   2.5994,  34.9132,2,    275.6,2,    276.3,2, -999.000,9, -999.000,9,     1510
  06M220140507, MSM38,   399, 48,      8,2,20140525,1452, 47.0985, -41.9985, 4226,   2698.7,   2.8354,  34.9194,2,    274.6,2,   -999.0,9, -999.000,9, -999.000,9,     1514
  06M220140507, MSM38,   399, 48,      9,2,20140525,1452, 47.0985, -41.9985, 4226,   2349.7,   3.0425,  34.9206,2,    274.0,2,   -999.0,9, -999.000,9, -999.000,9,     1519
  06M220140507, MSM38,   399, 48,     10,2,20140525,1452, 47.0985, -41.9985, 4226,   1998.2,   3.2779,  34.9221,2,    273.5,2,   -999.0,9, -999.000,9, -999.000,9,     1524
  06M220140507, MSM38,   399, 48,     11,2,20140525,1452, 47.0985, -41.9985, 4226,   1700.8,   3.4965,  34.9245,2,    271.4,2,   -999.0,9, -999.000,9, -999.000,9,     1528
  06M220140507, MSM38,   399, 48,     12,2,20140525,1452, 47.0985, -41.9985, 4226,   1396.8,   3.7623,  34.9311,2,    269.4,2,   -999.0,9, -999.000,9, -999.000,9,     1532
  06M220140507, MSM38,   399, 48,     13,2,20140525,1452, 47.0985, -41.9985, 4226,   1099.3,   3.9344,  34.9236,2,    272.7,2,   -999.0,9, -999.000,9, -999.000,9,     1536
  06M220140507, MSM38,   399, 48,     14,2,20140525,1452, 47.0985, -41.9985, 4226,    799.9,   4.2133,  34.9360,2,    271.2,2,    272.0,2, -999.000,9, -999.000,9,     1540
  06M220140507, MSM38,   399, 48,     15,2,20140525,1452, 47.0985, -41.9985, 4226,    499.5,   4.8724,  34.9810,2,    253.7,2,   -999.0,9, -999.000,9, -999.000,9,     1545
  06M220140507, MSM38,   399, 48,     16,2,20140525,1452, 47.0985, -41.9985, 4226,    198.5,   5.3168,  34.7654,2,    268.5,2,   -999.0,9, -999.000,9, -999.000,9,     1549
  06M220140507, MSM38,   399, 48,     17,2,20140525,1452, 47.0985, -41.9985, 4226,     25.7,   6.1971,  34.0828,2,    331.3,2,   -999.0,9, -999.000,9, -999.000,9,     1553
  06M220140507, MSM38,   399, 48,     18,2,20140525,1452, 47.0985, -41.9985, 4226,     25.8,   6.2008,  34.0841,2,    330.8,2,   -999.0,9, -999.000,9, -999.000,9,     1553
  06M220140507, MSM38,   399, 48,     19,2,20140525,1452, 47.0985, -41.9985, 4226,     25.5,   6.2312,  34.0794,2,    330.3,2,   -999.0,9, -999.000,9, -999.000,9,     1553
  06M220140507, MSM38,   399, 48,     20,2,20140525,1452, 47.0985, -41.9985, 4226,     25.4,   6.2616,  34.0738,2,    330.2,2,   -999.0,9, -999.000,9, -999.000,9,     1553
  06M220140507, MSM38,   399, 48,     21,2,20140525,1452, 47.0985, -41.9985, 4226,     25.7,   6.2085,  34.0830,2,    331.2,2,   -999.0,9, -999.000,9, -999.000,9,     1553
  06M220140507, MSM38,   399, 48,     22,2,20140525,1452, 47.0985, -41.9985, 4226,     26.0,   6.2049,  34.0901,2,    330.8,2,   -999.0,9, -999.000,9, -999.000,9,     1553