BOTTLE,20200319PRINUNIVRMK
EXPOCODE,SECT_ID,STNNBR,CASTNO,BTLNBR,BTLNBR_FLAG_W,DATE,TIME,LATITUDE,LONGITUDE,DEPTH,CTDPRS,CTDTMP,CTDSAL,CTDSAL_FLAG_W,CTDOXY,CTDOXY_FLAG_W,OXYGEN,OXYGEN_FLAG_W,CFC-11,CFC-11_FLAG_W,CFC-12,CFC-12_FLAG_W,BTL_TIME
,,,,,,,,,,METERS,DBAR,ITS-90,PSS-78,,UMOL/KG,,UMOL/KG,,PMOL/KG,,PMOL/KG,,
  06M220140507, MSM38,   369, 19,      1,2,20140519,0155, 48.5002, -32.0168, 4210,   4280.6,   2.3704,  34.9001,2,    278.2,2,    277.6,2, -999.000,9, -999.000,9,      155
  06M220140507, MSM38,   369, 19,      2,2,20140519,0155, 48.5002, -32.0168, 4210,   4281.5,   2.3702,  34.9002,2,    278.0,2,   -999.0,9,    2.280,2,    1.178,2,      155
  06M220140507, MSM38,   369, 19,      3,2,20140519,0155, 48.5002, -32.0168, 4210,   3898.5,   2.4804,  34.9062,2,    276.2,2,   -999.0,9,    2.158,2,    1.108,2,      201
  06M220140507, MSM38,   369, 19,      4,2,20140519,0155, 48.5002, -32.0168, 4210,   3498.8,   2.6442,  34.9163,2,    275.2,2,   -999.0,9,    2.237,2,    1.140,2,      206
  06M220140507, MSM38,   369, 19,      5,2,20140519,0155, 48.5002, -32.0168, 4210,   3198.1,   2.8370,  34.9212,2,    274.1,2,    275.3,6,    2.228,2,    1.124,2,      210
  06M220140507, MSM38,   369, 19,      6,2,20140519,0155, 48.5002, -32.0168, 4210,   2897.8,   3.0359,  34.9207,2,    273.2,2,   -999.0,9,    2.335,2,    1.176,2,      215
  06M220140507, MSM38,   369, 19,      7,2,20140519,0155, 48.5002, -32.0168, 4210,   2598.6,   3.1979,  34.9193,2,    273.1,2,   -999.0,9,    2.493,2,    1.262,2,      219
  06M220140507, MSM38,   369, 19,      8,2,20140519,0155, 48.5002, -32.0168, 4210,   2299.8,   3.4043,  34.9189,2,    272.5,2,   -999.0,9,    2.701,2,    1.364,2,      223
  06M220140507, MSM38,   369, 19,      9,2,20140519,0155, 48.5002, -32.0168, 4210,   2047.8,   3.5875,  34.9238,2,    271.0,2,    271.7,2,    2.856,2,    1.445,2,      226
  06M220140507, MSM38,   369, 19,     10,2,20140519,0155, 48.5002, -32.0168, 4210,   1817.9,   3.7615,  34.9247,2,    270.4,2,   -999.0,9,    3.137,2,    1.619,2,      230
  06M220140507, MSM38,   369, 19,     11,2,20140519,0155, 48.5002, -32.0168, 4210,   1498.1,   4.0180,  34.9323,2,    269.5,2,   -999.0,9,    3.473,2,    1.807,2,      234
  06M220140507, MSM38,   369, 19,     12,2,20140519,0155, 48.5002, -32.0168, 4210,   1197.7,   4.3556,  34.9501,2,    266.2,2,   -999.0,9,    3.549,2,    1.894,2,      239
  06M220140507, MSM38,   369, 19,     13,2,20140519,0155, 48.5002, -32.0168, 4210,   1046.4,   4.7158,  34.9753,2,    258.3,2,   -999.0,9,    3.407,2,    1.831,2,      241
  06M220140507, MSM38,   369, 19,     14,2,20140519,0155, 48.5002, -32.0168, 4210,    896.8,   5.3820,  35.0271,2,    239.7,2,   -999.0,9,    3.019,2,    1.638,2,      243
  06M220140507, MSM38,   369, 19,     15,2,20140519,0155, 48.5002, -32.0168, 4210,    798.1,   5.9257,  35.0426,2,    224.9,2,   -999.0,9, -999.000,9, -999.000,9,      244
  06M220140507, MSM38,   369, 19,     16,2,20140519,0155, 48.5002, -32.0168, 4210,    700.3,   6.4912,  34.9662,2,    218.2,2,   -999.0,9,    2.660,2,    1.452,2,      246
  06M220140507, MSM38,   369, 19,     17,2,20140519,0155, 48.5002, -32.0168, 4210,    597.8,   6.9566,  34.9403,2,    246.8,2,   -999.0,9, -999.000,9, -999.000,9,      247
  06M220140507, MSM38,   369, 19,     18,2,20140519,0155, 48.5002, -32.0168, 4210,    499.9,   8.0735,  35.0472,2,    246.5,2,   -999.0,9, -999.000,9, -999.000,9,      249
  06M220140507, MSM38,   369, 19,     19,2,20140519,0155, 48.5002, -32.0168, 4210,    399.4,   9.2715,  35.2226,2,    256.2,2,   -999.0,9,    3.162,2,    1.855,2,      250
  06M220140507, MSM38,   369, 19,     20,2,20140519,0155, 48.5002, -32.0168, 4210,    248.4,   9.9628,  35.3244,2,    259.0,2,   -999.0,9, -999.000,9, -999.000,9,      252
  06M220140507, MSM38,   369, 19,     21,2,20140519,0155, 48.5002, -32.0168, 4210,    100.5,  10.7949,  35.4340,2,    253.3,2,   -999.0,9, -999.000,9, -999.000,9,      254
  06M220140507, MSM38,   369, 19,     22,2,20140519,0155, 48.5002, -32.0168, 4210,     18.0,  11.4984,  35.4132,2,    282.3,2,    282.0,2, -999.000,9, -999.000,9,      258
  06M220140507, MSM38,   370, 20,      1,2,20140519,0606, 48.2492, -31.7160, 3863,   3927.5,   2.4459,  34.9052,2,    276.8,2,    277.4,2, -999.000,9, -999.000,9,      606
  06M220140507, MSM38,   370, 20,      2,2,20140519,0606, 48.2492, -31.7160, 3863,   3926.7,   2.4461,  34.9051,2,    276.4,2,   -999.0,9,    2.214,2,    1.131,2,      606
  06M220140507, MSM38,   370, 20,      3,2,20140519,0606, 48.2492, -31.7160, 3863,   3699.1,   2.5121,  34.9094,2,    275.9,2,   -999.0,9,    2.232,2,    1.118,2,      610
  06M220140507, MSM38,   370, 20,      4,2,20140519,0606, 48.2492, -31.7160, 3863,   3397.4,   2.6715,  34.9143,2,    274.3,2,    275.6,2,    2.206,2,    1.102,2,      614
  06M220140507, MSM38,   370, 20,      5,2,20140519,0606, 48.2492, -31.7160, 3863,   3098.3,   2.7830,  34.9173,2,    273.7,2,   -999.0,9,    2.221,2,    1.107,2,      618
  06M220140507, MSM38,   370, 20,      6,2,20140519,0606, 48.2492, -31.7160, 3863,   2796.3,   3.0215,  34.9189,2,    274.2,2,   -999.0,9,    2.368,2,    1.174,2,      622
  06M220140507, MSM38,   370, 20,      7,2,20140519,0606, 48.2492, -31.7160, 3863,   2497.3,   3.2180,  34.9176,2,    273.9,2,   -999.0,9,    2.549,2,    1.266,2,      627
  06M220140507, MSM38,   370, 20,      8,2,20140519,0606, 48.2492, -31.7160, 3863,   2198.4,   3.4446,  34.9207,2,    272.2,2,    274.0,6,    2.710,2,    1.356,2,      631
  06M220140507, MSM38,   370, 20,      9,2,20140519,0606, 48.2492, -31.7160, 3863,   1798.4,   3.7159,  34.9283,2,    270.5,2,   -999.0,9,    3.009,2,    1.538,2,      636
  06M220140507, MSM38,   370, 20,     10,2,20140519,0606, 48.2492, -31.7160, 3863,   1498.4,   3.9845,  34.9326,2,    270.1,2,   -999.0,9,    3.382,2,    1.761,2,      640
  06M220140507, MSM38,   370, 20,     11,2,20140519,0606, 48.2492, -31.7160, 3863,   1197.5,   4.3144,  34.9471,2,    267.5,2,   -999.0,9,    3.585,2,    1.920,2,      644
  06M220140507, MSM38,   370, 20,     12,2,20140519,0606, 48.2492, -31.7160, 3863,   1046.9,   4.6785,  34.9715,2,    259.4,2,   -999.0,9, -999.000,9, -999.000,9,      646
  06M220140507, MSM38,   370, 20,     13,2,20140519,0606, 48.2492, -31.7160, 3863,    899.1,   5.0647,  34.9803,2,    247.7,2,   -999.0,9,    3.326,2,    1.802,2,      648
  06M220140507, MSM38,   370, 20,     14,2,20140519,0606, 48.2492, -31.7160, 3863,    797.1,   5.4833,  34.9914,2,    236.3,2,   -999.0,9, -999.000,9, -999.000,9,      650
  06M220140507, MSM38,   370, 20,     15,2,20140519,0606, 48.2492, -31.7160, 3863,    698.3,   6.2080,  34.9845,2,    217.8,2,   -999.0,9,    2.755,2,    1.501,2,      651
  06M220140507, MSM38,   370, 20,     16,2,20140519,0606, 48.2492, -31.7160, 3863,    597.9,   6.6439,  34.8979,2,    236.5,2,   -999.0,9, -999.000,9, -999.000,9,      652
  06M220140507, MSM38,   370, 20,     17,2,20140519,0606, 48.2492, -31.7160, 3863,    503.5,   7.5650,  34.9860,2,    269.7,2,   -999.0,9,    3.443,6,    1.984,6,      654
  06M220140507, MSM38,   370, 20,     18,2,20140519,0606, 48.2492, -31.7160, 3863,    397.6,   8.7008,  35.1144,2,    247.2,2,   -999.0,9, -999.000,9, -999.000,9,      655
  06M220140507, MSM38,   370, 20,     19,2,20140519,0606, 48.2492, -31.7160, 3863,    248.1,  10.2706,  35.3504,2,    259.7,2,   -999.0,9, -999.000,9, -999.000,9,      657
  06M220140507, MSM38,   370, 20,     20,2,20140519,0606, 48.2492, -31.7160, 3863,     99.2,  11.0151,  35.4129,2,    252.7,2,   -999.0,9, -999.000,9, -999.000,9,      700
  06M220140507, MSM38,   370, 20,     21,2,20140519,0606, 48.2492, -31.7160, 3863,     15.4,  11.4383,  35.4247,2,    273.2,2,    274.4,2, -999.000,9, -999.000,9,      703
  06M220140507, MSM38,   370, 20,     22,2,20140519,0606, 48.2492, -31.7160, 3863,     15.3,  11.4386,  35.4248,2,    273.2,2,   -999.0,9,    2.998,2,    1.758,2,      703
  06M220140507, MSM38,   372, 21,      1,2,20140519,1632, 47.6680, -31.1482, 4077,   4144.0,   2.4732,  34.9041,2,    277.0,2,    276.5,2, -999.000,9, -999.000,9,     1632
  06M220140507, MSM38,   372, 21,      2,2,20140519,1632, 47.6680, -31.1482, 4077,   4144.0,   2.4733,  34.9041,2,    277.1,2,   -999.0,9,    2.256,2,    1.152,2,     1632
  06M220140507, MSM38,   372, 21,      3,2,20140519,1632, 47.6680, -31.1482, 4077,   3798.7,   2.4711,  34.9055,2,    276.2,2,   -999.0,9,    2.184,2,    1.121,2,     1638
  06M220140507, MSM38,   372, 21,      4,2,20140519,1632, 47.6680, -31.1482, 4077,   3498.7,   2.5395,  34.9092,2,    275.6,2,   -999.0,9, -999.000,9, -999.000,9,     1642
  06M220140507, MSM38,   372, 21,      5,2,20140519,1632, 47.6680, -31.1482, 4077,   3199.4,   2.7115,  34.9154,2,    274.6,2,    275.1,2,    2.183,2,    1.117,2,     1646
  06M220140507, MSM38,   372, 21,      6,2,20140519,1632, 47.6680, -31.1482, 4077,   2899.3,   2.8893,  34.9182,2,    273.8,2,   -999.0,9,    2.260,2,    1.153,2,     1650
  06M220140507, MSM38,   372, 21,      7,2,20140519,1632, 47.6680, -31.1482, 4077,   2598.3,   3.1104,  34.9182,2,    273.5,2,   -999.0,9,    2.416,2,    1.234,2,     1654
  06M220140507, MSM38,   372, 21,      8,2,20140519,1632, 47.6680, -31.1482, 4077,   2298.0,   3.2730,  34.9164,2,    273.5,2,   -999.0,9,    2.623,2,    1.328,2,     1658
  06M220140507, MSM38,   372, 21,      9,2,20140519,1632, 47.6680, -31.1482, 4077,   1999.7,   3.4933,  34.9194,2,    272.1,2,   -999.0,9,    2.816,2,    1.437,2,     1702
  06M220140507, MSM38,   372, 21,     10,2,20140519,1632, 47.6680, -31.1482, 4077,   1698.8,   3.7172,  34.9249,2,    270.7,2,   -999.0,9,    3.100,6,    1.595,6,     1706
  06M220140507, MSM38,   372, 21,     11,2,20140519,1632, 47.6680, -31.1482, 4077,   1395.8,   3.9199,  34.9270,2,    270.9,2,    271.5,6,    3.405,2,    1.811,2,     1710
  06M220140507, MSM38,   372, 21,     12,2,20140519,1632, 47.6680, -31.1482, 4077,   1199.2,   4.1500,  34.9400,2,    269.5,2,   -999.0,9,    3.517,2,    1.898,2,     1713
  06M220140507, MSM38,   372, 21,     13,2,20140519,1632, 47.6680, -31.1482, 4077,    997.8,   4.6088,  34.9803,2,    260.8,2,   -999.0,9,    3.368,2,    1.817,2,     1716
  06M220140507, MSM38,   372, 21,     14,2,20140519,1632, 47.6680, -31.1482, 4077,    847.7,   4.8936,  34.9858,2,    254.6,2,   -999.0,9,    3.305,2,    1.800,2,     1718
  06M220140507, MSM38,   372, 21,     15,2,20140519,1632, 47.6680, -31.1482, 4077,    696.8,   5.6971,  35.0401,2,    232.2,2,   -999.0,9, -999.000,9, -999.000,9,     1720
  06M220140507, MSM38,   372, 21,     16,2,20140519,1632, 47.6680, -31.1482, 4077,    598.8,   5.9240,  34.9889,2,    223.4,2,   -999.0,9, -999.000,9, -999.000,9,     1721
  06M220140507, MSM38,   372, 21,     17,2,20140519,1632, 47.6680, -31.1482, 4077,    498.1,   6.7258,  34.9844,2,    207.2,2,   -999.0,9,    2.543,2,    1.401,2,     1722
  06M220140507, MSM38,   372, 21,     18,2,20140519,1632, 47.6680, -31.1482, 4077,    397.5,   7.8705,  35.0365,2,    194.0,2,   -999.0,9, -999.000,9, -999.000,9,     1724
  06M220140507, MSM38,   372, 21,     19,2,20140519,1632, 47.6680, -31.1482, 4077,    298.9,   9.2191,  35.1956,2,    236.8,2,   -999.0,9, -999.000,9, -999.000,9,     1725
  06M220140507, MSM38,   372, 21,     20,2,20140519,1632, 47.6680, -31.1482, 4077,    198.7,   9.9340,  35.2923,2,    248.6,2,   -999.0,9,    2.908,2,    1.701,2,     1727
  06M220140507, MSM38,   372, 21,     21,2,20140519,1632, 47.6680, -31.1482, 4077,     98.3,  10.9040,  35.4403,2,    257.2,2,   -999.0,9, -999.000,9, -999.000,9,     1728
  06M220140507, MSM38,   372, 21,     22,2,20140519,1632, 47.6680, -31.1482, 4077,     18.3,  11.8673,  35.4611,2,    280.1,2,    280.1,2,    2.989,2,    1.795,2,     1731
  06M220140507, MSM38,   373, 22,      1,2,20140519,2130, 47.2697, -30.6790, 3686,   3749.9,   2.5124,  34.9076,2,    276.2,2,    276.5,2, -999.000,9, -999.000,9,     2130
  06M220140507, MSM38,   373, 22,      2,2,20140519,2130, 47.2697, -30.6790, 3686,   3597.3,   2.5828,  34.9103,2,    274.9,2,   -999.0,9, -999.000,9, -999.000,9,     2132
  06M220140507, MSM38,   373, 22,      3,2,20140519,2130, 47.2697, -30.6790, 3686,   3397.8,   2.6684,  34.9125,2,    275.2,2,   -999.0,9, -999.000,9, -999.000,9,     2135
  06M220140507, MSM38,   373, 22,      4,2,20140519,2130, 47.2697, -30.6790, 3686,   3197.6,   2.7701,  34.9158,2,    274.3,2,   -999.0,9, -999.000,9, -999.000,9,     2137
  06M220140507, MSM38,   373, 22,      5,2,20140519,2130, 47.2697, -30.6790, 3686,   2979.9,   2.9255,  34.9177,2,    274.2,2,   -999.0,9, -999.000,9, -999.000,9,     2140
  06M220140507, MSM38,   373, 22,      6,2,20140519,2130, 47.2697, -30.6790, 3686,   2788.1,   3.0524,  34.9186,2,    274.3,2,   -999.0,9, -999.000,9, -999.000,9,     2143
  06M220140507, MSM38,   373, 22,      7,2,20140519,2130, 47.2697, -30.6790, 3686,   2598.9,   3.1669,  34.9184,2,    274.2,2,   -999.0,9, -999.000,9, -999.000,9,     2145
  06M220140507, MSM38,   373, 22,      8,2,20140519,2130, 47.2697, -30.6790, 3686,   2396.2,   3.3079,  34.9176,2,    273.3,2,   -999.0,9, -999.000,9, -999.000,9,     2148
  06M220140507, MSM38,   373, 22,      9,2,20140519,2130, 47.2697, -30.6790, 3686,   2196.7,   3.4412,  34.9194,2,    272.8,2,   -999.0,9, -999.000,9, -999.000,9,     2151
  06M220140507, MSM38,   373, 22,     10,2,20140519,2130, 47.2697, -30.6790, 3686,   1998.2,   3.5992,  34.9229,2,    271.3,2,   -999.0,9, -999.000,9, -999.000,9,     2153
  06M220140507, MSM38,   373, 22,     11,2,20140519,2130, 47.2697, -30.6790, 3686,   1796.9,   3.7408,  34.9246,2,    270.8,2,   -999.0,9, -999.000,9, -999.000,9,     2156
  06M220140507, MSM38,   373, 22,     12,2,20140519,2130, 47.2697, -30.6790, 3686,   1599.8,   3.8896,  34.9289,2,    270.8,2,   -999.0,9, -999.000,9, -999.000,9,     2159
  06M220140507, MSM38,   373, 22,     13,2,20140519,2130, 47.2697, -30.6790, 3686,   1397.6,   4.0737,  34.9330,2,    270.4,2,    269.8,2, -999.000,9, -999.000,9,     2201
  06M220140507, MSM38,   373, 22,     14,2,20140519,2130, 47.2697, -30.6790, 3686,   1196.7,   4.4411,  34.9650,2,    263.2,2,    262.8,6, -999.000,9, -999.000,9,     2204
  06M220140507, MSM38,   373, 22,     15,2,20140519,2130, 47.2697, -30.6790, 3686,    997.7,   4.9182,  34.9907,2,    253.3,2,   -999.0,9, -999.000,9, -999.000,9,     2207
  06M220140507, MSM38,   373, 22,     16,2,20140519,2130, 47.2697, -30.6790, 3686,    798.9,   6.0298,  35.0526,2,    222.8,2,   -999.0,9, -999.000,9, -999.000,9,     2210
  06M220140507, MSM38,   373, 22,     17,2,20140519,2130, 47.2697, -30.6790, 3686,    597.8,   8.7694,  35.2517,2,    183.1,2,   -999.0,9, -999.000,9, -999.000,9,     2212
  06M220140507, MSM38,   373, 22,     18,2,20140519,2130, 47.2697, -30.6790, 3686,    397.7,  11.2598,  35.4668,2,    222.8,2,   -999.0,9, -999.000,9, -999.000,9,     2215
  06M220140507, MSM38,   373, 22,     19,2,20140519,2130, 47.2697, -30.6790, 3686,    197.5,  12.6614,  35.6859,2,    238.4,2,   -999.0,9, -999.000,9, -999.000,9,     2218
  06M220140507, MSM38,   373, 22,     20,2,20140519,2130, 47.2697, -30.6790, 3686,     14.8,  14.3232,  35.8027,2,    266.6,2,    266.1,2, -999.000,9, -999.000,9,     2223
  06M220140507, MSM38,   373, 22,     21,2,20140519,2130, 47.2697, -30.6790, 3686,     15.0,  14.3229,  35.8027,2,    266.1,2,   -999.0,9, -999.000,9, -999.000,9,     2223
  06M220140507, MSM38,   373, 22,     22,2,20140519,2130, 47.2697, -30.6790, 3686,     14.7,  14.3229,  35.8027,2,    266.3,2,   -999.0,9, -999.000,9, -999.000,9,     2223
  06M220140507, MSM38,   374, 23,      1,2,20140520,0220, 46.8667, -30.2555, 3186,   3241.9,   2.8218,  34.9163,2,    274.3,2,    271.6,2, -999.000,9, -999.000,9,      220
  06M220140507, MSM38,   374, 23,      2,2,20140520,0220, 46.8667, -30.2555, 3186,   3099.2,   2.8959,  34.9170,2,    273.9,2,   -999.0,9, -999.000,9, -999.000,9,      222
  06M220140507, MSM38,   374, 23,      3,2,20140520,0220, 46.8667, -30.2555, 3186,   2899.2,   3.0244,  34.9178,2,    273.6,2,   -999.0,9, -999.000,9, -999.000,9,      225
  06M220140507, MSM38,   374, 23,      4,2,20140520,0220, 46.8667, -30.2555, 3186,   2698.0,   3.1680,  34.9179,2,    274.2,2,    271.7,2, -999.000,9, -999.000,9,      228
  06M220140507, MSM38,   374, 23,      5,2,20140520,0220, 46.8667, -30.2555, 3186,   2498.0,   3.3325,  34.9175,2,    273.1,2,   -999.0,9, -999.000,9, -999.000,9,      231
  06M220140507, MSM38,   374, 23,      6,2,20140520,0220, 46.8667, -30.2555, 3186,   2298.8,   3.4524,  34.9196,2,    271.6,2,   -999.0,9, -999.000,9, -999.000,9,      234
  06M220140507, MSM38,   374, 23,      7,2,20140520,0220, 46.8667, -30.2555, 3186,   2097.6,   3.6305,  34.9245,2,    270.2,2,   -999.0,9, -999.000,9, -999.000,9,      236
  06M220140507, MSM38,   374, 23,      8,2,20140520,0220, 46.8667, -30.2555, 3186,   1898.6,   3.8023,  34.9261,2,    270.3,2,   -999.0,9, -999.000,9, -999.000,9,      239
  06M220140507, MSM38,   374, 23,      9,2,20140520,0220, 46.8667, -30.2555, 3186,   1697.9,   3.9308,  34.9283,2,    271.1,2,   -999.0,9, -999.000,9, -999.000,9,      242
  06M220140507, MSM38,   374, 23,     10,2,20140520,0220, 46.8667, -30.2555, 3186,   1499.6,   4.0856,  34.9304,2,    270.5,2,    268.4,2, -999.000,9, -999.000,9,      245
  06M220140507, MSM38,   374, 23,     11,2,20140520,0220, 46.8667, -30.2555, 3186,   1298.7,   4.4766,  34.9617,2,    263.4,2,   -999.0,9, -999.000,9, -999.000,9,      248
  06M220140507, MSM38,   374, 23,     12,2,20140520,0220, 46.8667, -30.2555, 3186,   1098.6,   5.1230,  35.0038,2,    247.5,2,   -999.0,9, -999.000,9, -999.000,9,      250
  06M220140507, MSM38,   374, 23,     13,2,20140520,0220, 46.8667, -30.2555, 3186,    901.0,   6.4470,  35.0859,2,    216.3,2,   -999.0,9, -999.000,9, -999.000,9,      253
  06M220140507, MSM38,   374, 23,     14,2,20140520,0220, 46.8667, -30.2555, 3186,    698.3,   8.9151,  35.1823,2,    193.0,2,   -999.0,9, -999.000,9, -999.000,9,      256
  06M220140507, MSM38,   374, 23,     15,2,20140520,0220, 46.8667, -30.2555, 3186,    498.7,  11.2674,  35.4907,2,    243.3,2,   -999.0,9, -999.000,9, -999.000,9,      259
  06M220140507, MSM38,   374, 23,     16,2,20140520,0220, 46.8667, -30.2555, 3186,    298.1,  12.4165,  35.6507,2,    236.1,2,   -999.0,9, -999.000,9, -999.000,9,      302
  06M220140507, MSM38,   374, 23,     17,2,20140520,0220, 46.8667, -30.2555, 3186,    101.4,  13.4833,  35.7427,2,    252.2,2,   -999.0,9, -999.000,9, -999.000,9,      305
  06M220140507, MSM38,   374, 23,     18,2,20140520,0220, 46.8667, -30.2555, 3186,     15.4,  14.2302,  35.8045,2,    264.3,2,    263.0,6, -999.000,9, -999.000,9,      308
  06M220140507, MSM38,   374, 23,     19,2,20140520,0220, 46.8667, -30.2555, 3186,     15.3,  14.2300,  35.8044,2,    264.3,2,   -999.0,9, -999.000,9, -999.000,9,      308
  06M220140507, MSM38,   374, 23,     20,2,20140520,0220, 46.8667, -30.2555, 3186,     15.2,  14.2288,  35.8044,2,    264.8,2,   -999.0,9, -999.000,9, -999.000,9,      308
  06M220140507, MSM38,   374, 23,     21,2,20140520,0220, 46.8667, -30.2555, 3186,     15.0,  14.2289,  35.8045,2,    264.5,2,   -999.0,9, -999.000,9, -999.000,9,      308
  06M220140507, MSM38,   374, 23,     22,2,20140520,0220, 46.8667, -30.2555, 3186,     14.9,  14.2292,  35.8046,2,    264.5,2,   -999.0,9, -999.000,9, -999.000,9,      309