BOTTLE,20200311PRINUNIVRMK
EXPOCODE,SECT_ID,STNNBR,CASTNO,SAMPNO,BTLNBR,BTLNBR_FLAG_W,DATE,TIME,LATITUDE,LONGITUDE,DEPTH,CTDPRS,CTDTMP,SBE35,SBE35_FLAG_W,CTDSAL,CTDSAL_FLAG_W,SALNTY,SALNTY_FLAG_W,CTDOXY,CTDOXY_FLAG_W,OXYGEN,OXYGEN_FLAG_W,SILCAT,SILCAT_FLAG_W,NITRAT,NITRAT_FLAG_W,NITRIT,NITRIT_FLAG_W,PHSPHT,PHSPHT_FLAG_W,TCARBN,TCARBN_FLAG_W,ALKALI,ALKALI_FLAG_W,PH_TOT,PH_TOT_FLAG_W,PH_TMP,CHLORA,CHLORA_FLAG_W,PPHYTN,PPHYTN_FLAG_W,SBE35,SBE35_FLAG_W,BTL_TIME
,,,,,,,,,,,METERS,DBAR,ITS-90,,,PSS-78,,PSS-78,,UMOL/KG,,UMOL/KG,,UMOL/KG,,UMOL/KG,,UMOL/KG,,UMOL/KG,,UMOL/KG,,UMOL/KG,,,,DEG C,UG/KG,,UG/KG,,,,
  49UF20180709,KS1806,  5442,  1,     99,     99,2,20180725,1259, 29.9900, 136.9932, 4516,      0.0,  29.6212,-999.0000,9,  34.6371,2,  34.6095,2,    195.4,2,    195.6,2,     1.42,2,     0.10,2,     0.00,2,     0.02,2,   1960.3,2,   2275.9,2,   8.0841,2,    25.00,     0.04,2,     0.02,2,-999.0000,9,     1440
  49UF20180709,KS1806,  5442,  1,     36,  25270,2,20180725,1259, 29.9900, 136.9932, 4516,     11.4,  28.9710,  28.9686,2,  34.5867,2,  34.6108,4,    198.2,2,    197.8,2,     1.33,2,     0.00,2,     0.00,2,     0.00,2,   1965.2,2,   2273.9,2,   8.0830,2,    25.00,     0.04,2,     0.02,2,  28.9686,2,     1513
  49UF20180709,KS1806,  5442,  1,     35,  25269,2,20180725,1259, 29.9900, 136.9932, 4516,     26.4,  27.7211,  27.7235,2,  34.6432,2,-999.0000,9,    204.4,2,    204.9,2,     1.27,2,     0.00,2,     0.00,2,     0.00,2,   1968.9,2,   2275.9,2,   8.0828,2,    25.00,     0.05,2,     0.02,2,  27.7235,2,     1511
  49UF20180709,KS1806,  5442,  1,     34,  25268,2,20180725,1259, 29.9900, 136.9932, 4516,     51.8,  24.8238,  24.8312,2,  34.6844,2,-999.0000,9,    220.2,2,    219.0,2,     1.41,2,     0.12,2,     0.00,2,     0.01,2,   1970.7,2,   2282.3,2,   8.0791,2,    25.00,     0.09,2,     0.04,2,  24.8312,2,     1507
  49UF20180709,KS1806,  5442,  1,     33,  25267,2,20180725,1259, 29.9900, 136.9932, 4516,     76.1,  23.3354,  23.3242,2,  34.7591,2,-999.0000,9,    223.5,2,    221.4,2,     1.47,2,     0.00,2,     0.00,2,     0.01,2,   1982.5,2,   2286.3,2,   8.0694,2,    25.00,     0.17,2,     0.09,2,  23.3242,2,     1505
  49UF20180709,KS1806,  5442,  1,     32,  25266,2,20180725,1259, 29.9900, 136.9932, 4516,    102.1,  21.8638,  21.8638,2,  34.8639,2,-999.0000,9,    214.4,2,    213.5,2,     1.74,2,     0.02,2,     0.01,2,     0.03,2,   1999.9,2,   2292.5,2,   8.0430,2,    25.00,     0.30,2,     0.61,2,  21.8638,2,     1504
  49UF20180709,KS1806,  5442,  1,     31,  25265,2,20180725,1259, 29.9900, 136.9932, 4516,    127.8,  20.8799,  20.8871,2,  34.9136,2,  34.9141,6,    212.7,2,    212.1,2,     1.96,2,     0.69,2,     0.16,2,     0.07,2,   2011.9,2,   2294.8,2,   8.0287,2,    25.00,     0.15,2,     0.36,2,  20.8871,2,     1502
  49UF20180709,KS1806,  5442,  1,     30,  25264,2,20180725,1259, 29.9900, 136.9932, 4516,    152.1,  20.1708,  20.1694,2,  34.9141,2,-999.0000,9,    208.5,2,    207.8,6,     2.29,6,     1.59,6,     0.03,6,     0.12,6,   2020.7,2,   2296.9,2,   8.0123,2,    25.00,     0.05,2,     0.12,2,  20.1694,2,     1500
  49UF20180709,KS1806,  5442,  1,     28,  25262,2,20180725,1259, 29.9900, 136.9932, 4516,    203.2,  19.3987,  19.3985,2,  34.9093,2,  34.9096,2,    210.0,2,    209.3,2,     2.40,2,     2.05,2,     0.02,2,     0.15,2,   2026.8,2,   2294.6,2,   8.0021,2,    25.00,     0.01,2,     0.02,2,  19.3985,2,     1458
  49UF20180709,KS1806,  5442,  1,     29,  25263,2,20180725,1259, 29.9900, 136.9932, 4516,    203.9,  19.4027,  19.4027,2,  34.9092,2,  34.9092,2,    210.0,2,    209.7,2,     2.44,2,     2.10,2,     0.01,2,     0.15,2,   2022.8,2,   2295.0,2,   8.0030,2,    25.00,  -999.00,9,  -999.00,9,  19.4027,2,     1458
  49UF20180709,KS1806,  5442,  1,     27,  25261,2,20180725,1259, 29.9900, 136.9932, 4516,    253.4,  18.9137,  18.9142,2,  34.8905,2,-999.0000,9,    205.6,2,    205.4,2,     2.80,2,     2.79,2,     0.01,2,     0.19,2,   2032.3,2,   2293.5,2,   7.9865,2,    25.00,  -999.00,9,  -999.00,9,  18.9142,2,     1456
  49UF20180709,KS1806,  5442,  1,     26,  25260,2,20180725,1259, 29.9900, 136.9932, 4516,    305.0,  18.1236,  18.1233,2,  34.8383,2,-999.0000,9,    199.3,2,    199.1,2,     3.78,2,     4.29,2,     0.01,2,     0.28,2,   2046.2,2,   2290.9,2,   7.9591,2,    25.00,  -999.00,9,  -999.00,9,  18.1233,2,     1454
  49UF20180709,KS1806,  5442,  1,     25,  25259,2,20180725,1259, 29.9900, 136.9932, 4516,    407.4,  15.8016,  15.8030,2,  34.6373,2,-999.0000,9,    187.6,2,    187.5,2,     8.99,2,     8.56,2,     0.00,2,     0.59,2,   2074.0,2,   2283.3,2,   7.8874,2,    25.00,  -999.00,9,  -999.00,9,  15.8030,2,     1451
  49UF20180709,KS1806,  5442,  1,     24,  25258,2,20180725,1259, 29.9900, 136.9932, 4516,    506.0,  14.4781,  14.4816,2,  34.5443,2,  34.5467,2,    177.6,2,    177.5,2,    14.14,2,    11.66,2,     0.00,2,     0.81,2,   2096.7,6,   2282.7,6,   7.8404,2,    25.00,  -999.00,9,  -999.00,9,  14.4816,2,     1447
  49UF20180709,KS1806,  5442,  1,     23,  25257,2,20180725,1259, 29.9900, 136.9932, 4516,    606.7,  11.7604,  11.7610,2,  34.3878,2,-999.0000,9,    155.7,2,    155.9,2,    27.81,2,    18.01,2,     0.00,2,     1.28,2,   2143.5,2,   2287.1,2,   7.7390,6,    25.00,  -999.00,9,  -999.00,9,  11.7610,2,     1444
  49UF20180709,KS1806,  5442,  1,     22,  24473,2,20180725,1259, 29.9900, 136.9932, 4516,    709.1,   8.7897,   8.7897,2,  34.2219,2,  34.2247,2,    136.3,2,    136.6,2,    45.30,2,    24.98,2,     0.00,2,     1.78,2,   2191.8,2,   2295.8,2,   7.6301,2,    25.00,  -999.00,9,  -999.00,9,   8.7897,2,     1441
  49UF20180709,KS1806,  5442,  1,     21,  25255,2,20180725,1259, 29.9900, 136.9932, 4516,    808.9,   7.1349,   7.1374,2,  34.2503,2,-999.0000,9,    104.2,2,    104.7,2,    66.34,2,    30.61,2,     0.00,2,     2.21,2,   2241.3,2,   2314.5,2,   7.5417,2,    25.00,  -999.00,9,  -999.00,9,   7.1374,2,     1438
  49UF20180709,KS1806,  5442,  1,     20,  24270,3,20180725,1259, 29.9900, 136.9932, 4516,    910.2,   5.7473,   5.7466,2,  34.3029,2,  34.3025,2,     85.0,2,     85.2,2,    87.04,2,    34.89,2,     0.00,2,     2.51,2,   2281.8,2,   2335.2,2,   7.4872,2,    25.00,  -999.00,9,  -999.00,9,   5.7466,2,     1435
  49UF20180709,KS1806,  5442,  1,     18,  25252,2,20180725,1259, 29.9900, 136.9932, 4516,   1011.3,   4.4661,   4.4657,2,  34.3056,2,  34.3083,2,     66.3,2,     66.8,6,   105.61,6,    38.33,6,     0.00,6,     2.76,6,   2314.0,2,   2350.8,2,   7.4285,2,    25.00,  -999.00,9,  -999.00,9,   4.4657,2,     1431
  49UF20180709,KS1806,  5442,  1,     19,  25253,2,20180725,1259, 29.9900, 136.9932, 4516,   1011.6,   4.4677,   4.4690,2,  34.3061,2,-999.0000,9,     66.4,2,   -999.0,9,  -999.00,9,  -999.00,9,  -999.00,9,  -999.00,9,   -999.0,9,   -999.0,9,-999.0000,9,  -999.00,  -999.00,9,  -999.00,9,   4.4690,2,     1431
  49UF20180709,KS1806,  5442,  1,     16,  25250,2,20180725,1259, 29.9900, 136.9932, 4516,   1214.0,   3.5669,   3.5661,2,  34.4120,2,  34.4064,4,     62.8,2,     61.7,2,   125.27,2,    39.99,2,     0.00,2,     2.87,2,   2338.5,2,   2373.7,2,   7.4202,2,    25.00,  -999.00,9,  -999.00,9,   3.5661,2,     1421
  49UF20180709,KS1806,  5442,  1,     17,  25251,2,20180725,1259, 29.9900, 136.9932, 4516,   1214.4,   3.5572,   3.5569,2,  34.4129,2,  34.4105,2,     63.0,2,     62.5,2,   124.93,2,    40.09,2,     0.00,2,     2.87,2,   2339.0,2,   2373.0,2,   7.4214,2,    25.00,  -999.00,9,  -999.00,9,   3.5569,2,     1421
  49UF20180709,KS1806,  5442,  1,     15,  25249,2,20180725,1259, 29.9900, 136.9932, 4516,   1417.7,   3.0529,   3.0531,2,  34.4581,2,-999.0000,9,     64.6,2,     64.6,2,   135.38,2,    40.66,2,     0.00,2,     2.89,2,   2348.6,2,   2383.8,2,   7.4199,2,    25.00,  -999.00,9,  -999.00,9,   3.0531,2,     1415
  49UF20180709,KS1806,  5442,  1,     14,  25248,2,20180725,1259, 29.9900, 136.9932, 4516,   1619.4,   2.6301,   2.6299,2,  34.5101,2,  34.5107,2,     72.6,2,     72.6,2,   143.01,2,    40.36,2,     0.00,2,     2.87,2,   2353.1,2,   2395.0,2,   7.4381,2,    25.00,  -999.00,9,  -999.00,9,   2.6299,2,     1410
  49UF20180709,KS1806,  5442,  1,     13,  25247,2,20180725,1259, 29.9900, 136.9932, 4516,   1823.0,   2.3289,   2.3289,2,  34.5526,2,-999.0000,9,     85.2,2,     85.2,2,   145.92,2,    39.92,2,     0.00,2,     2.82,2,   2351.3,2,   2400.8,2,   7.4659,2,    25.00,  -999.00,9,  -999.00,9,   2.3289,2,     1405
  49UF20180709,KS1806,  5442,  1,     12,  25246,2,20180725,1259, 29.9900, 136.9932, 4516,   2024.6,   2.1151,   2.1159,2,  34.5842,2,  34.5845,2,     97.3,2,     97.2,2,   147.77,2,    39.12,2,     0.00,2,     2.76,2,   2351.4,2,   2405.6,2,   7.4868,2,    25.00,  -999.00,9,  -999.00,9,   2.1159,2,     1400
  49UF20180709,KS1806,  5442,  1,     11,  25245,2,20180725,1259, 29.9900, 136.9932, 4516,   2279.2,   1.9105,   1.9104,2,  34.6152,2,  34.6159,2,    112.0,2,    111.9,2,   147.56,2,    38.48,2,     0.00,2,     2.70,2,   2344.2,2,   2410.2,2,   7.5152,2,    25.00,  -999.00,9,  -999.00,9,   1.9104,2,     1354
  49UF20180709,KS1806,  5442,  1,     10,  25244,2,20180725,1259, 29.9900, 136.9932, 4516,   2533.0,   1.7768,   1.7771,2,  34.6361,2,  34.6364,2,    123.7,2,    123.8,2,   146.41,2,    37.57,2,     0.00,2,     2.64,2,   2339.7,6,   2412.2,6,   7.5371,2,    25.00,  -999.00,9,  -999.00,9,   1.7771,2,     1348
  49UF20180709,KS1806,  5442,  1,      9,  25243,2,20180725,1259, 29.9900, 136.9932, 4516,   2788.7,   1.6785,   1.6787,2,  34.6515,2,  34.6522,2,    133.1,2,    133.0,2,   145.40,2,    36.96,2,     0.00,2,     2.59,2,   2335.5,2,   2413.3,2,   7.5522,6,    25.00,  -999.00,9,  -999.00,9,   1.6787,2,     1342
  49UF20180709,KS1806,  5442,  1,      8,  25242,2,20180725,1259, 29.9900, 136.9932, 4516,   3044.2,   1.5977,   1.5976,2,  34.6637,2,  34.6640,2,    141.2,2,    141.4,6,   144.37,6,    36.55,6,     0.00,6,     2.55,6,   2328.9,2,   2414.3,2,   7.5677,2,    25.00,  -999.00,9,  -999.00,9,   1.5976,2,     1336
  49UF20180709,KS1806,  5442,  1,      7,  25241,3,20180725,1259, 29.9900, 136.9932, 4516,   3298.0,   1.5527,   1.5528,2,  34.6717,2,  34.6706,2,    146.5,2,    146.2,2,   143.67,2,    36.33,2,     0.00,2,     2.52,2,   2327.7,2,   2414.5,2,   7.5763,2,    25.00,  -999.00,9,  -999.00,9,   1.5528,2,     1330
  49UF20180709,KS1806,  5442,  1,      6,  25240,2,20180725,1259, 29.9900, 136.9932, 4516,   3555.4,   1.5380,   1.5380,2,  34.6761,2,  34.6760,2,    149.7,2,    149.7,2,   143.35,2,    36.02,2,     0.00,2,     2.51,2,   2325.2,2,   2414.1,2,   7.5817,2,    25.00,  -999.00,9,  -999.00,9,   1.5380,2,     1324
  49UF20180709,KS1806,  5442,  1,      5,  25239,2,20180725,1259, 29.9900, 136.9932, 4516,   3810.0,   1.5388,   1.5389,2,  34.6790,2,  34.6787,2,    151.7,2,    151.6,2,   143.03,2,    35.93,2,     0.00,2,     2.50,2,   2326.1,2,   2414.5,2,   7.5852,2,    25.00,  -999.00,9,  -999.00,9,   1.5389,2,     1318
  49UF20180709,KS1806,  5442,  1,      4,  25238,2,20180725,1259, 29.9900, 136.9932, 4516,   4066.0,   1.5542,   1.5543,2,  34.6804,2,  34.6801,2,    152.8,2,    152.9,2,   142.92,2,    35.75,2,     0.00,2,     2.49,2,   2327.4,2,   2415.0,2,   7.5888,2,    25.00,  -999.00,9,  -999.00,9,   1.5543,2,     1312
  49UF20180709,KS1806,  5442,  1,      3,  24271,2,20180725,1259, 29.9900, 136.9932, 4516,   4323.5,   1.5772,   1.5773,2,  34.6812,2,  34.6814,2,    153.2,2,    153.2,6,   143.08,6,    35.85,6,     0.00,6,     2.49,6,   2323.5,2,   2417.1,2,   7.5881,2,    25.00,  -999.00,9,  -999.00,9,   1.5773,2,     1307
  49UF20180709,KS1806,  5442,  1,      1,  24272,2,20180725,1259, 29.9900, 136.9932, 4516,   4587.8,   1.6009,   1.6009,2,  34.6818,2,  34.6828,4,    154.1,2,    154.0,2,   142.78,2,    35.92,2,     0.00,2,     2.49,2,   2323.5,2,   2414.1,2,   7.5893,2,    25.00,  -999.00,9,  -999.00,9,   1.6009,2,     1300
  49UF20180709,KS1806,  5442,  1,      2,  25236,2,20180725,1259, 29.9900, 136.9932, 4516,   4588.0,   1.6009,   1.6010,2,  34.6818,2,  34.6820,2,    154.1,2,    154.0,2,   142.71,2,    35.90,2,     0.00,2,     2.48,2,   2319.4,2,   2415.5,2,   7.5878,2,    25.00,  -999.00,9,  -999.00,9,   1.6010,2,     1300
  49UF20180709,KS1806,  5443,  1,     99,     99,2,20180725,2349, 29.0013, 136.9808, 4578,      0.0,  29.6531,-999.0000,9,  34.9227,2,-999.0000,9,    195.1,2,    197.0,2,     1.37,2,     0.00,2,     0.00,2,     0.02,2,   -999.0,9,   -999.0,9,-999.0000,9,  -999.00,  -999.00,9,  -999.00,9,-999.0000,9,       35
  49UF20180709,KS1806,  5443,  1,     36,  25270,3,20180725,2349, 29.0013, 136.9808, 4578,     11.2,  29.0041,  29.0130,2,  34.8941,2,-999.0000,9,    198.8,2,    199.8,2,     1.35,2,     0.02,2,     0.00,2,     0.00,2,   -999.0,9,   -999.0,9,-999.0000,9,  -999.00,  -999.00,9,  -999.00,9,  29.0130,2,      104
  49UF20180709,KS1806,  5443,  1,     35,  25269,2,20180725,2349, 29.0013, 136.9808, 4578,     26.6,  27.9207,  27.9263,2,  34.8512,2,-999.0000,9,    205.5,2,    206.5,2,     1.35,2,     0.06,2,     0.00,2,     0.00,2,   -999.0,9,   -999.0,9,-999.0000,9,  -999.00,  -999.00,9,  -999.00,9,  27.9263,2,      102
  49UF20180709,KS1806,  5443,  1,     34,  25268,2,20180725,2349, 29.0013, 136.9808, 4578,     50.7,  25.0829,  25.0876,2,  34.8238,2,-999.0000,9,    223.3,2,    223.7,2,     1.26,2,     0.00,2,     0.00,2,     0.00,2,   -999.0,9,   -999.0,9,-999.0000,9,  -999.00,  -999.00,9,  -999.00,9,  25.0876,2,       57
  49UF20180709,KS1806,  5443,  1,     33,  25267,2,20180725,2349, 29.0013, 136.9808, 4578,     76.4,  22.4377,  22.4382,2,  34.8547,2,-999.0000,9,    228.7,2,    228.8,2,     1.50,2,     0.02,2,     0.00,2,     0.00,2,   -999.0,9,   -999.0,9,-999.0000,9,  -999.00,  -999.00,9,  -999.00,9,  22.4382,2,       56
  49UF20180709,KS1806,  5443,  1,     32,  25266,2,20180725,2349, 29.0013, 136.9808, 4578,    102.0,  20.9804,  20.9832,2,  34.8706,2,-999.0000,9,    219.9,2,    220.0,2,     2.14,2,     0.21,2,     0.26,2,     0.05,2,   -999.0,9,   -999.0,9,-999.0000,9,  -999.00,  -999.00,9,  -999.00,9,  20.9832,2,       54
  49UF20180709,KS1806,  5443,  1,     31,  25265,2,20180725,2349, 29.0013, 136.9808, 4578,    126.9,  19.7583,  19.7554,2,  34.8956,2,-999.0000,9,    203.6,2,    204.1,6,     2.97,6,     2.34,6,     0.05,6,     0.17,6,   -999.0,9,   -999.0,9,-999.0000,9,  -999.00,  -999.00,9,  -999.00,9,  19.7554,2,       53
  49UF20180709,KS1806,  5443,  1,     27,  25261,2,20180725,2349, 29.0013, 136.9808, 4578,    152.2,  19.2247,  19.2248,2,  34.9064,2,-999.0000,9,    214.2,2,    214.2,2,     2.40,2,     1.67,2,     0.01,2,     0.13,2,   -999.0,9,   -999.0,9,-999.0000,9,  -999.00,  -999.00,9,  -999.00,9,  19.2248,2,       51
  49UF20180709,KS1806,  5443,  1,     26,  25260,2,20180725,2349, 29.0013, 136.9808, 4578,    152.2,  19.2214,  19.2226,2,  34.9063,2,-999.0000,9,    214.3,2,    214.2,2,     2.39,2,     1.77,2,     0.02,2,     0.13,2,   -999.0,9,   -999.0,9,-999.0000,9,  -999.00,  -999.00,9,  -999.00,9,  19.2226,2,       51
  49UF20180709,KS1806,  5443,  1,     25,  25259,2,20180725,2349, 29.0013, 136.9808, 4578,    202.7,  18.7743,  18.7744,2,  34.8826,2,-999.0000,9,    212.3,2,    211.6,2,     2.75,2,     2.32,2,     0.01,2,     0.16,2,   -999.0,9,   -999.0,9,-999.0000,9,  -999.00,  -999.00,9,  -999.00,9,  18.7744,2,       48
  49UF20180709,KS1806,  5443,  1,     24,  25258,3,20180725,2349, 29.0013, 136.9808, 4578,    251.7,  18.2232,  18.2226,2,  34.8478,2,-999.0000,9,    209.5,2,    209.4,2,     3.35,2,     3.15,2,     0.01,2,     0.22,2,   -999.0,9,   -999.0,9,-999.0000,9,  -999.00,  -999.00,9,  -999.00,9,  18.2226,2,       46
  49UF20180709,KS1806,  5443,  1,     23,  25257,2,20180725,2349, 29.0013, 136.9808, 4578,    305.3,  17.4009,  17.4020,2,  34.7950,2,-999.0000,9,    206.6,2,    206.7,2,     4.38,2,     4.55,2,     0.00,2,     0.30,2,   -999.0,9,   -999.0,9,-999.0000,9,  -999.00,  -999.00,9,  -999.00,9,  17.4020,2,       44
  49UF20180709,KS1806,  5443,  1,     22,  24473,2,20180725,2349, 29.0013, 136.9808, 4578,    404.4,  15.8784,  15.8777,2,  34.6578,2,-999.0000,9,    196.5,2,    196.3,2,     8.01,2,     7.86,2,     0.00,2,     0.52,2,   -999.0,9,   -999.0,9,-999.0000,9,  -999.00,  -999.00,9,  -999.00,9,  15.8777,2,       41
  49UF20180709,KS1806,  5443,  1,     18,  25252,2,20180725,2349, 29.0013, 136.9808, 4578,    505.1,  13.3081,  13.3091,2,  34.4343,2,-999.0000,9,    188.6,2,    188.3,2,    14.70,2,    12.36,2,     0.00,2,     0.85,2,   -999.0,9,   -999.0,9,-999.0000,9,  -999.00,  -999.00,9,  -999.00,9,  13.3091,2,       37
  49UF20180709,KS1806,  5443,  1,     17,  25251,2,20180725,2349, 29.0013, 136.9808, 4578,    606.9,  11.0293,  11.0342,2,  34.2851,2,-999.0000,9,    175.8,2,    175.8,2,    25.65,2,    17.38,2,     0.00,2,     1.22,2,   -999.0,9,   -999.0,9,-999.0000,9,  -999.00,  -999.00,9,  -999.00,9,  11.0342,2,       34
  49UF20180709,KS1806,  5443,  1,     16,  25250,2,20180725,2349, 29.0013, 136.9808, 4578,    709.1,   7.7460,   7.7450,2,  34.1146,2,-999.0000,9,    142.0,2,    142.0,2,    49.24,2,    26.36,2,     0.00,2,     1.88,2,   -999.0,9,   -999.0,9,-999.0000,9,  -999.00,  -999.00,9,  -999.00,9,   7.7450,2,       31
  49UF20180709,KS1806,  5443,  1,     15,  25249,2,20180725,2349, 29.0013, 136.9808, 4578,    811.2,   5.8533,   5.8540,2,  34.0943,2,-999.0000,9,    105.3,2,    105.5,2,    71.99,2,    33.13,2,     0.00,2,     2.37,2,   -999.0,9,   -999.0,9,-999.0000,9,  -999.00,  -999.00,9,  -999.00,9,   5.8540,2,       28
  49UF20180709,KS1806,  5443,  1,     14,  25248,2,20180725,2349, 29.0013, 136.9808, 4578,    910.2,   4.6924,   4.6927,2,  34.1951,2,-999.0000,9,     68.7,2,     68.8,6,    97.16,6,    38.12,6,     0.00,6,     2.74,6,   -999.0,9,   -999.0,9,-999.0000,9,  -999.00,  -999.00,9,  -999.00,9,   4.6927,2,       24
  49UF20180709,KS1806,  5443,  1,     13,  25247,2,20180725,2349, 29.0013, 136.9808, 4578,   1011.7,   4.0570,   4.0569,2,  34.2728,2,-999.0000,9,     52.6,2,     52.9,2,   112.36,2,    40.15,2,     0.00,2,     2.89,2,   -999.0,9,   -999.0,9,-999.0000,9,  -999.00,  -999.00,9,  -999.00,9,   4.0569,2,       21
  49UF20180709,KS1806,  5443,  1,      8,  25242,2,20180725,2349, 29.0013, 136.9808, 4578,   1217.0,   3.2674,   3.2674,2,  34.3993,2,-999.0000,9,     52.5,2,     51.9,2,   132.36,2,    41.23,2,     0.00,2,     2.95,2,   -999.0,9,   -999.0,9,-999.0000,9,  -999.00,  -999.00,9,  -999.00,9,   3.2674,2,       13
  49UF20180709,KS1806,  5443,  1,      9,  25243,2,20180725,2349, 29.0013, 136.9808, 4578,   1217.1,   3.2672,   3.2670,2,  34.3993,2,-999.0000,9,     52.5,2,     51.7,2,   132.27,2,    41.40,2,     0.00,2,     2.95,2,   -999.0,9,   -999.0,9,-999.0000,9,  -999.00,  -999.00,9,  -999.00,9,   3.2670,2,       13
  49UF20180709,KS1806,  5443,  1,      7,  25241,2,20180725,2349, 29.0013, 136.9808, 4578,   1417.5,   2.8232,   2.8234,2,  34.4681,2,-999.0000,9,     58.7,2,     58.4,2,   141.48,2,    41.31,2,     0.00,2,     2.94,2,   -999.0,9,   -999.0,9,-999.0000,9,  -999.00,  -999.00,9,  -999.00,9,   2.8234,2,        7
  49UF20180709,KS1806,  5443,  1,      6,  25240,2,20180725,2349, 29.0013, 136.9808, 4578,   1620.7,   2.4649,   2.4654,2,  34.5218,2,-999.0000,9,     68.1,2,     68.1,2,   148.54,2,    41.17,2,     0.00,2,     2.91,2,   -999.0,9,   -999.0,9,-999.0000,9,  -999.00,  -999.00,9,  -999.00,9,   2.4654,2,        1
  49UF20180709,KS1806,  5443,  1,      5,  25239,2,20180725,2349, 29.0013, 136.9808, 4578,   1821.8,   2.1995,   2.1995,2,  34.5649,2,-999.0000,9,     84.7,2,     84.5,2,   150.13,2,    40.16,2,     0.00,2,     2.83,2,   -999.0,9,   -999.0,9,-999.0000,9,  -999.00,  -999.00,9,  -999.00,9,   2.1995,2,     2356
  49UF20180709,KS1806,  5443,  1,      4,  25238,2,20180725,2349, 29.0013, 136.9808, 4578,   2024.1,   2.0209,   2.0210,2,  34.5947,2,-999.0000,9,     99.8,2,     99.7,2,   149.51,2,    39.14,2,     0.00,2,     2.76,2,   -999.0,9,   -999.0,9,-999.0000,9,  -999.00,  -999.00,9,  -999.00,9,   2.0210,2,     2350