BOTTLE,20200311PRINUNIVRMK
EXPOCODE,SECT_ID,STNNBR,CASTNO,SAMPNO,BTLNBR,BTLNBR_FLAG_W,DATE,TIME,LATITUDE,LONGITUDE,DEPTH,CTDPRS,CTDTMP,SBE35,SBE35_FLAG_W,CTDSAL,CTDSAL_FLAG_W,SALNTY,SALNTY_FLAG_W,CTDOXY,CTDOXY_FLAG_W,OXYGEN,OXYGEN_FLAG_W,SILCAT,SILCAT_FLAG_W,NITRAT,NITRAT_FLAG_W,NITRIT,NITRIT_FLAG_W,PHSPHT,PHSPHT_FLAG_W,TCARBN,TCARBN_FLAG_W,ALKALI,ALKALI_FLAG_W,PH_TOT,PH_TOT_FLAG_W,PH_TMP,CHLORA,CHLORA_FLAG_W,PPHYTN,PPHYTN_FLAG_W,SBE35,SBE35_FLAG_W,BTL_TIME
,,,,,,,,,,,METERS,DBAR,ITS-90,,,PSS-78,,PSS-78,,UMOL/KG,,UMOL/KG,,UMOL/KG,,UMOL/KG,,UMOL/KG,,UMOL/KG,,UMOL/KG,,UMOL/KG,,,,DEG C,UG/KG,,UG/KG,,,,
  49UF20180709,KS1806,  5461,  1,     99,     99,2,20180804,1536,  9.0132, 137.0018, 3440,      0.0,  28.7504,-999.0000,9,  33.8004,2,-999.0000,9,    197.2,2,    197.6,2,     1.19,2,     0.00,2,     0.00,2,     0.03,2,   -999.0,9,   -999.0,9,-999.0000,9,  -999.00,  -999.00,9,  -999.00,9,-999.0000,9,     1645
  49UF20180709,KS1806,  5461,  1,     36,  25270,2,20180804,1536,  9.0132, 137.0018, 3440,     10.2,  28.7587,  28.7592,2,  33.7994,2,  33.8004,2,    197.1,2,    196.9,2,     1.17,2,     0.00,2,     0.00,2,     0.02,2,   -999.0,9,   -999.0,9,-999.0000,9,  -999.00,  -999.00,9,  -999.00,9,  28.7592,2,     1716
  49UF20180709,KS1806,  5461,  1,     35,  25269,2,20180804,1536,  9.0132, 137.0018, 3440,     25.9,  28.7560,  28.7571,2,  33.7992,2,  33.7992,2,    197.2,2,    196.9,2,     1.17,2,     0.00,2,     0.00,2,     0.02,2,   -999.0,9,   -999.0,9,-999.0000,9,  -999.00,  -999.00,9,  -999.00,9,  28.7571,2,     1714
  49UF20180709,KS1806,  5461,  1,     34,  25268,3,20180804,1536,  9.0132, 137.0018, 3440,     50.0,  28.7654,  28.7680,2,  33.8028,2,-999.0000,9,    197.1,2,    196.8,2,     1.17,2,     0.00,2,     0.00,2,     0.03,2,   -999.0,9,   -999.0,9,-999.0000,9,  -999.00,  -999.00,9,  -999.00,9,  28.7680,2,     1713
  49UF20180709,KS1806,  5461,  1,     33,  25267,2,20180804,1536,  9.0132, 137.0018, 3440,     74.0,  25.8808,  25.9025,2,  34.5926,2,  34.5751,4,    187.5,2,    188.6,2,     2.32,2,     0.00,2,     0.00,2,     0.15,2,   -999.0,9,   -999.0,9,-999.0000,9,  -999.00,  -999.00,9,  -999.00,9,  25.9025,2,     1711
  49UF20180709,KS1806,  5461,  1,     32,  25266,2,20180804,1536,  9.0132, 137.0018, 3440,    101.4,  21.7573,  21.7245,2,  34.7888,2,  34.7807,4,    156.9,2,    157.5,2,     5.42,2,     5.15,2,     0.31,2,     0.52,2,   -999.0,9,   -999.0,9,-999.0000,9,  -999.00,  -999.00,9,  -999.00,9,  21.7245,2,     1709
  49UF20180709,KS1806,  5461,  1,     31,  25265,2,20180804,1536,  9.0132, 137.0018, 3440,    125.7,  18.1405,  18.1184,2,  34.6799,2,-999.0000,9,    148.0,2,    147.9,2,     9.26,2,     9.94,2,     0.05,2,     0.80,2,   -999.0,9,   -999.0,9,-999.0000,9,  -999.00,  -999.00,9,  -999.00,9,  18.1184,2,     1707
  49UF20180709,KS1806,  5461,  1,     30,  25264,2,20180804,1536,  9.0132, 137.0018, 3440,    151.4,  14.9194,  14.9238,2,  34.5676,2,  34.5691,2,    145.7,2,    145.7,2,    14.09,2,    14.04,2,     0.00,2,     1.05,2,   -999.0,9,   -999.0,9,-999.0000,9,  -999.00,  -999.00,9,  -999.00,9,  14.9238,2,     1706
  49UF20180709,KS1806,  5461,  1,     29,  25263,2,20180804,1536,  9.0132, 137.0018, 3440,    201.0,  11.2911,  11.2838,2,  34.4495,2,  34.4485,2,    108.2,2,    108.6,2,    26.98,2,    23.57,2,     0.01,2,     1.71,2,   -999.0,9,   -999.0,9,-999.0000,9,  -999.00,  -999.00,9,  -999.00,9,  11.2838,2,     1701
  49UF20180709,KS1806,  5461,  1,     28,  25262,2,20180804,1536,  9.0132, 137.0018, 3440,    249.2,   9.9497,   9.9488,2,  34.5113,2,  34.5107,6,     90.2,2,     89.8,2,    34.36,2,    28.46,2,     0.00,2,     2.03,2,   -999.0,9,   -999.0,9,-999.0000,9,  -999.00,  -999.00,9,  -999.00,9,   9.9488,2,     1659
  49UF20180709,KS1806,  5461,  1,     27,  25261,2,20180804,1536,  9.0132, 137.0018, 3440,    301.4,   9.0343,   9.0327,2,  34.5538,2,  34.5527,2,     80.6,2,     80.2,6,    37.61,6,    31.26,6,     0.00,6,     2.22,6,   -999.0,9,   -999.0,9,-999.0000,9,  -999.00,  -999.00,9,  -999.00,9,   9.0327,2,     1657
  49UF20180709,KS1806,  5461,  1,     25,  25259,2,20180804,1536,  9.0132, 137.0018, 3440,    348.1,   8.4199,   8.4194,2,  34.5400,2,  34.5302,4,     88.5,2,     88.2,2,    40.58,2,    31.80,2,     0.00,2,     2.25,2,   -999.0,9,   -999.0,9,-999.0000,9,  -999.00,  -999.00,9,  -999.00,9,   8.4194,2,     1655
  49UF20180709,KS1806,  5461,  1,     26,  25260,2,20180804,1536,  9.0132, 137.0018, 3440,    349.2,   8.4247,   8.4263,2,  34.5403,2,  34.5394,2,     88.5,2,     88.2,2,    40.49,2,    31.64,2,     0.00,2,     2.24,2,   -999.0,9,   -999.0,9,-999.0000,9,  -999.00,  -999.00,9,  -999.00,9,   8.4263,2,     1656
  49UF20180709,KS1806,  5461,  1,     24,  25258,2,20180804,1536,  9.0132, 137.0018, 3440,    403.6,   7.9852,   7.9896,2,  34.5310,2,-999.0000,9,     89.0,2,     88.8,2,    43.31,2,    32.43,2,     0.00,2,     2.29,2,   -999.0,9,   -999.0,9,-999.0000,9,  -999.00,  -999.00,9,  -999.00,9,   7.9896,2,     1653
  49UF20180709,KS1806,  5461,  1,     23,  25257,2,20180804,1536,  9.0132, 137.0018, 3440,    452.9,   7.6290,   7.6294,2,  34.5397,2,-999.0000,9,     91.3,2,     92.0,2,    44.92,2,    33.18,2,     0.00,2,     2.33,2,   -999.0,9,   -999.0,9,-999.0000,9,  -999.00,  -999.00,9,  -999.00,9,   7.6294,2,     1651
  49UF20180709,KS1806,  5461,  1,     22,  24473,2,20180804,1536,  9.0132, 137.0018, 3440,    504.6,   7.3150,   7.3150,2,  34.5283,2,  34.5279,2,     98.1,2,     97.8,2,    46.81,2,    32.88,2,     0.00,2,     2.33,2,   -999.0,9,   -999.0,9,-999.0000,9,  -999.00,  -999.00,9,  -999.00,9,   7.3150,2,     1649
  49UF20180709,KS1806,  5461,  1,     20,  24270,2,20180804,1536,  9.0132, 137.0018, 3440,    605.9,   6.7183,   6.7186,2,  34.5214,2,  34.5213,2,     99.5,2,     98.9,2,    52.55,2,    34.16,2,     0.00,2,     2.41,2,   -999.0,9,   -999.0,9,-999.0000,9,  -999.00,  -999.00,9,  -999.00,9,   6.7186,2,     1646
  49UF20180709,KS1806,  5461,  1,     21,  25255,2,20180804,1536,  9.0132, 137.0018, 3440,    606.2,   6.7171,   6.7166,2,  34.5216,2,  34.5213,2,     99.4,2,     98.9,2,    52.64,2,    34.19,2,     0.00,2,     2.41,2,   -999.0,9,   -999.0,9,-999.0000,9,  -999.00,  -999.00,9,  -999.00,9,   6.7166,2,     1647
  49UF20180709,KS1806,  5461,  1,     19,  25253,2,20180804,1536,  9.0132, 137.0018, 3440,    706.2,   6.2140,   6.2142,2,  34.5225,2,  34.5223,2,     94.0,2,     93.8,2,    60.42,2,    35.47,2,     0.00,2,     2.51,2,   -999.0,9,   -999.0,9,-999.0000,9,  -999.00,  -999.00,9,  -999.00,9,   6.2142,2,     1643
  49UF20180709,KS1806,  5461,  1,     18,  25252,2,20180804,1536,  9.0132, 137.0018, 3440,    804.3,   5.7066,   5.7067,2,  34.5261,2,  34.5257,2,     90.9,2,     90.8,6,    69.18,6,    36.59,6,     0.00,6,     2.59,6,   -999.0,9,   -999.0,9,-999.0000,9,  -999.00,  -999.00,9,  -999.00,9,   5.7067,2,     1640
  49UF20180709,KS1806,  5461,  1,     16,  25250,2,20180804,1536,  9.0132, 137.0018, 3440,    909.1,   5.1684,   5.1686,2,  34.5351,2,  34.5337,2,     86.6,2,     86.9,2,    79.99,2,    37.57,2,     0.00,2,     2.67,2,   -999.0,9,   -999.0,9,-999.0000,9,  -999.00,  -999.00,9,  -999.00,9,   5.1686,2,     1637
  49UF20180709,KS1806,  5461,  1,     15,  25249,2,20180804,1536,  9.0132, 137.0018, 3440,   1004.6,   4.4638,   4.4638,2,  34.5507,2,  34.5509,2,     86.9,2,     87.0,2,    94.08,2,    38.55,2,     0.00,2,     2.73,2,   -999.0,9,   -999.0,9,-999.0000,9,  -999.00,  -999.00,9,  -999.00,9,   4.4638,2,     1634
  49UF20180709,KS1806,  5461,  1,     14,  25248,2,20180804,1536,  9.0132, 137.0018, 3440,   1222.1,   3.6799,   3.6780,2,  34.5724,2,  34.5727,2,     92.2,2,     92.3,2,   109.64,2,    38.73,2,     0.00,2,     2.75,2,   -999.0,9,   -999.0,9,-999.0000,9,  -999.00,  -999.00,9,  -999.00,9,   3.6780,2,     1628
  49UF20180709,KS1806,  5461,  1,     13,  25247,2,20180804,1536,  9.0132, 137.0018, 3440,   1412.5,   3.3316,   3.3314,2,  34.5845,2,  34.5842,2,     95.1,2,     94.9,2,   116.65,2,    38.89,2,     0.00,2,     2.75,2,   -999.0,9,   -999.0,9,-999.0000,9,  -999.00,  -999.00,9,  -999.00,9,   3.3314,2,     1624
  49UF20180709,KS1806,  5461,  1,     12,  25246,2,20180804,1536,  9.0132, 137.0018, 3440,   1413.6,   3.3317,   3.3317,2,  34.5844,2,  34.5844,2,     95.1,2,     95.1,2,   116.83,2,    39.21,2,     0.00,2,     2.75,2,   -999.0,9,   -999.0,9,-999.0000,9,  -999.00,  -999.00,9,  -999.00,9,   3.3317,2,     1624
  49UF20180709,KS1806,  5461,  1,     11,  25245,2,20180804,1536,  9.0132, 137.0018, 3440,   1611.4,   2.8289,   2.8297,2,  34.6024,2,  34.6023,2,    101.5,2,    101.5,2,   127.35,2,    38.99,2,     0.00,2,     2.74,2,   -999.0,9,   -999.0,9,-999.0000,9,  -999.00,  -999.00,9,  -999.00,9,   2.8297,2,     1619
  49UF20180709,KS1806,  5461,  1,     10,  25244,2,20180804,1536,  9.0132, 137.0018, 3440,   1821.3,   2.4557,   2.4561,2,  34.6205,2,  34.6205,2,    109.1,2,    108.9,6,   134.38,6,    38.40,6,     0.00,6,     2.71,6,   -999.0,9,   -999.0,9,-999.0000,9,  -999.00,  -999.00,9,  -999.00,9,   2.4561,2,     1614
  49UF20180709,KS1806,  5461,  1,      9,  25243,2,20180804,1536,  9.0132, 137.0018, 3440,   2019.9,   2.2178,   2.2178,2,  34.6322,2,  34.6323,2,    115.0,2,    114.9,2,   138.49,2,    38.45,2,     0.00,2,     2.69,2,   -999.0,9,   -999.0,9,-999.0000,9,  -999.00,  -999.00,9,  -999.00,9,   2.2178,2,     1610
  49UF20180709,KS1806,  5461,  1,      8,  25242,2,20180804,1536,  9.0132, 137.0018, 3440,   2266.1,   2.0172,   2.0172,2,  34.6440,2,  34.6439,2,    121.8,2,    121.7,2,   141.49,2,    37.57,2,     0.00,2,     2.65,2,   -999.0,9,   -999.0,9,-999.0000,9,  -999.00,  -999.00,9,  -999.00,9,   2.0172,2,     1604
  49UF20180709,KS1806,  5461,  1,      7,  25241,2,20180804,1536,  9.0132, 137.0018, 3440,   2525.2,   1.8420,   1.8425,2,  34.6536,2,  34.6524,2,    128.6,2,    127.7,3,   142.95,3,    37.53,2,     0.00,2,     2.61,2,   -999.0,9,   -999.0,9,-999.0000,9,  -999.00,  -999.00,9,  -999.00,9,   1.8425,2,     1559
  49UF20180709,KS1806,  5461,  1,      6,  25240,2,20180804,1536,  9.0132, 137.0018, 3440,   2525.9,   1.8416,   1.8398,2,  34.6535,2,  34.6536,2,    128.7,2,    128.6,2,   143.99,2,    37.39,2,     0.00,2,     2.62,2,   -999.0,9,   -999.0,9,-999.0000,9,  -999.00,  -999.00,9,  -999.00,9,   1.8398,2,     1558
  49UF20180709,KS1806,  5461,  1,      5,  25239,2,20180804,1536,  9.0132, 137.0018, 3440,   2784.3,   1.7277,   1.7276,2,  34.6612,2,  34.6611,2,    134.7,2,    134.5,2,   144.95,2,    36.96,2,     0.00,2,     2.58,2,   -999.0,9,   -999.0,9,-999.0000,9,  -999.00,  -999.00,9,  -999.00,9,   1.7276,2,     1553
  49UF20180709,KS1806,  5461,  1,      4,  25238,2,20180804,1536,  9.0132, 137.0018, 3440,   3038.3,   1.6217,   1.6217,2,  34.6689,2,  34.6688,2,    141.9,2,    142.0,6,   144.62,6,    36.48,6,     0.00,6,     2.55,6,   -999.0,9,   -999.0,9,-999.0000,9,  -999.00,  -999.00,9,  -999.00,9,   1.6217,2,     1547
  49UF20180709,KS1806,  5461,  1,      3,  24271,2,20180804,1536,  9.0132, 137.0018, 3440,   3293.3,   1.5449,   1.5449,2,  34.6755,2,  34.6755,6,    148.4,2,    148.1,2,   143.97,2,    36.16,2,     0.00,2,     2.51,2,   -999.0,9,   -999.0,9,-999.0000,9,  -999.00,  -999.00,9,  -999.00,9,   1.5449,2,     1541
  49UF20180709,KS1806,  5461,  1,      2,  25236,2,20180804,1536,  9.0132, 137.0018, 3440,   3385.6,   1.5416,   1.5416,2,  34.6763,2,  34.6759,2,    149.4,2,    149.0,2,   143.53,2,    35.94,2,     0.00,2,     2.52,2,   -999.0,9,   -999.0,9,-999.0000,9,  -999.00,  -999.00,9,  -999.00,9,   1.5416,2,     1538
  49UF20180709,KS1806,  5461,  1,      1,  24272,2,20180804,1536,  9.0132, 137.0018, 3440,   3385.6,   1.5416,   1.5415,2,  34.6762,2,  34.6765,2,    149.4,2,    149.2,2,   143.76,2,    36.11,2,     0.00,2,     2.51,2,   -999.0,9,   -999.0,9,-999.0000,9,  -999.00,  -999.00,9,  -999.00,9,   1.5415,2,     1538