BOTTLE,20200311PRINUNIVRMK
EXPOCODE,SECT_ID,STNNBR,CASTNO,SAMPNO,BTLNBR,BTLNBR_FLAG_W,DATE,TIME,LATITUDE,LONGITUDE,DEPTH,CTDPRS,CTDTMP,SBE35,SBE35_FLAG_W,CTDSAL,CTDSAL_FLAG_W,SALNTY,SALNTY_FLAG_W,CTDOXY,CTDOXY_FLAG_W,OXYGEN,OXYGEN_FLAG_W,SILCAT,SILCAT_FLAG_W,NITRAT,NITRAT_FLAG_W,NITRIT,NITRIT_FLAG_W,PHSPHT,PHSPHT_FLAG_W,TCARBN,TCARBN_FLAG_W,ALKALI,ALKALI_FLAG_W,PH_TOT,PH_TOT_FLAG_W,PH_TMP,CHLORA,CHLORA_FLAG_W,PPHYTN,PPHYTN_FLAG_W,SBE35,SBE35_FLAG_W,BTL_TIME
,,,,,,,,,,,METERS,DBAR,ITS-90,,,PSS-78,,PSS-78,,UMOL/KG,,UMOL/KG,,UMOL/KG,,UMOL/KG,,UMOL/KG,,UMOL/KG,,UMOL/KG,,UMOL/KG,,,,DEG C,UG/KG,,UG/KG,,,,
  49UF20180709,KS1806,  5474,  1,     99,     99,2,20180820,0951, 12.0143, 137.0132, 5308,      0.0,  28.7849,-999.0000,9,  33.8686,2,-999.0000,9,    196.6,2,    196.9,2,     1.20,2,     0.00,2,     0.00,2,     0.05,2,   -999.0,9,   -999.0,9,-999.0000,9,  -999.00,  -999.00,9,  -999.00,9,-999.0000,9,     1137
  49UF20180709,KS1806,  5474,  1,     36,  25270,2,20180820,0951, 12.0143, 137.0132, 5308,     10.2,  28.8026,  28.8044,2,  33.8781,2,  33.8745,2,    196.6,2,    196.8,2,     1.21,2,     0.00,2,     0.00,2,     0.04,2,   -999.0,9,   -999.0,9,-999.0000,9,  -999.00,  -999.00,9,  -999.00,9,  28.8044,2,     1212
  49UF20180709,KS1806,  5474,  1,     35,  25269,2,20180820,0951, 12.0143, 137.0132, 5308,     26.5,  28.8095,  28.8088,2,  33.8877,2,-999.0000,9,    196.8,2,    196.9,2,     1.21,2,     0.00,2,     0.00,2,     0.04,2,   -999.0,9,   -999.0,9,-999.0000,9,  -999.00,  -999.00,9,  -999.00,9,  28.8088,2,     1211
  49UF20180709,KS1806,  5474,  1,     34,  25268,2,20180820,0951, 12.0143, 137.0132, 5308,     51.9,  28.3491,  28.3499,2,  34.4783,2,  34.4715,2,    206.9,2,    206.2,2,     1.18,2,     0.00,2,     0.00,2,     0.06,2,   -999.0,9,   -999.0,9,-999.0000,9,  -999.00,  -999.00,9,  -999.00,9,  28.3499,2,     1209
  49UF20180709,KS1806,  5474,  1,     33,  25267,2,20180820,0951, 12.0143, 137.0132, 5308,     76.1,  27.1334,  27.1372,2,  34.7988,2,-999.0000,9,    209.0,2,    208.2,2,     1.18,2,     0.00,2,     0.00,2,     0.07,2,   -999.0,9,   -999.0,9,-999.0000,9,  -999.00,  -999.00,9,  -999.00,9,  27.1372,2,     1207
  49UF20180709,KS1806,  5474,  1,     32,  25266,2,20180820,0951, 12.0143, 137.0132, 5308,     99.7,  26.1474,  26.1352,2,  34.8796,2,  34.8798,2,    204.2,2,    203.9,2,     1.25,2,     0.00,2,     0.00,2,     0.08,2,   -999.0,9,   -999.0,9,-999.0000,9,  -999.00,  -999.00,9,  -999.00,9,  26.1352,2,     1204
  49UF20180709,KS1806,  5474,  1,     31,  25265,2,20180820,0951, 12.0143, 137.0132, 5308,    125.1,  23.6533,  23.6507,2,  35.0026,2,-999.0000,9,    186.6,2,    187.1,2,     1.90,2,     0.25,2,     0.10,2,     0.18,2,   -999.0,9,   -999.0,9,-999.0000,9,  -999.00,  -999.00,9,  -999.00,9,  23.6507,2,     1202
  49UF20180709,KS1806,  5474,  1,     30,  25264,2,20180820,0951, 12.0143, 137.0132, 5308,    151.4,  20.3730,  20.3563,2,  34.9425,2,  34.9438,2,    175.2,2,    175.4,2,     3.41,2,     3.38,2,     0.02,2,     0.36,2,   -999.0,9,   -999.0,9,-999.0000,9,  -999.00,  -999.00,9,  -999.00,9,  20.3563,2,     1201
  49UF20180709,KS1806,  5474,  1,     29,  25263,2,20180820,0951, 12.0143, 137.0132, 5308,    202.6,  15.7274,  15.7255,2,  34.6109,2,-999.0000,9,    182.0,2,    182.2,2,     7.71,2,     8.34,2,     0.01,2,     0.64,2,   -999.0,9,   -999.0,9,-999.0000,9,  -999.00,  -999.00,9,  -999.00,9,  15.7255,2,     1159
  49UF20180709,KS1806,  5474,  1,     28,  25262,2,20180820,0951, 12.0143, 137.0132, 5308,    252.0,  13.0948,  13.0902,2,  34.5176,2,  34.5196,2,    124.0,2,    124.2,2,    20.82,2,    19.13,2,     0.00,2,     1.40,2,   -999.0,9,   -999.0,9,-999.0000,9,  -999.00,  -999.00,9,  -999.00,9,  13.0902,2,     1157
  49UF20180709,KS1806,  5474,  1,     27,  25261,2,20180820,0951, 12.0143, 137.0132, 5308,    302.0,  11.0609,  11.0640,2,  34.4351,2,  34.4354,2,    106.8,2,    107.7,2,    28.32,2,    24.06,2,     0.00,2,     1.76,2,   -999.0,9,   -999.0,9,-999.0000,9,  -999.00,  -999.00,9,  -999.00,9,  11.0640,2,     1155
  49UF20180709,KS1806,  5474,  1,     26,  25260,2,20180820,0951, 12.0143, 137.0132, 5308,    351.3,   9.1322,   9.1266,2,  34.3892,2,  34.3894,2,     83.8,2,     83.9,2,    39.51,2,    29.68,2,     0.00,2,     2.16,2,   -999.0,9,   -999.0,9,-999.0000,9,  -999.00,  -999.00,9,  -999.00,9,   9.1266,2,     1153
  49UF20180709,KS1806,  5474,  1,     25,  25259,2,20180820,0951, 12.0143, 137.0132, 5308,    402.3,   8.0592,   8.0597,2,  34.4020,2,  34.4023,2,     73.6,2,     73.1,2,    48.45,2,    32.84,2,     0.00,2,     2.37,2,   -999.0,9,   -999.0,9,-999.0000,9,  -999.00,  -999.00,9,  -999.00,9,   8.0597,2,     1151
  49UF20180709,KS1806,  5474,  1,     24,  25258,2,20180820,0951, 12.0143, 137.0132, 5308,    455.5,   7.4026,   7.4031,2,  34.4157,2,  34.4142,2,     75.6,2,     75.7,6,    54.38,6,    33.85,6,     0.00,6,     2.44,6,   -999.0,9,   -999.0,9,-999.0000,9,  -999.00,  -999.00,9,  -999.00,9,   7.4031,2,     1149
  49UF20180709,KS1806,  5474,  1,     23,  25257,2,20180820,0951, 12.0143, 137.0132, 5308,    505.6,   6.9456,   6.9456,2,  34.4409,2,  34.4411,2,     80.8,2,     80.6,2,    58.06,2,    34.37,2,     0.00,2,     2.47,2,   -999.0,9,   -999.0,9,-999.0000,9,  -999.00,  -999.00,9,  -999.00,9,   6.9456,2,     1147
  49UF20180709,KS1806,  5474,  1,     22,  24473,2,20180820,0951, 12.0143, 137.0132, 5308,    604.8,   6.3055,   6.3055,2,  34.4806,2,  34.4804,2,     88.0,2,     88.5,2,    63.19,2,    35.46,2,     0.00,2,     2.52,2,   -999.0,9,   -999.0,9,-999.0000,9,  -999.00,  -999.00,9,  -999.00,9,   6.3055,2,     1144
  49UF20180709,KS1806,  5474,  1,     21,  25255,2,20180820,0951, 12.0143, 137.0132, 5308,    705.1,   5.7702,   5.7704,2,  34.5016,2,  34.5019,2,     85.3,2,     85.7,2,    71.00,2,    36.52,2,     0.00,2,     2.62,2,   -999.0,9,   -999.0,9,-999.0000,9,  -999.00,  -999.00,9,  -999.00,9,   5.7704,2,     1141
  49UF20180709,KS1806,  5474,  1,     20,  24270,2,20180820,0951, 12.0143, 137.0132, 5308,    807.2,   5.3722,   5.3720,2,  34.5164,2,  34.5162,2,     84.1,2,     84.1,2,    77.63,2,    37.47,2,     0.00,2,     2.66,2,   -999.0,9,   -999.0,9,-999.0000,9,  -999.00,  -999.00,9,  -999.00,9,   5.3720,2,     1138
  49UF20180709,KS1806,  5474,  1,     19,  25253,2,20180820,0951, 12.0143, 137.0132, 5308,    906.3,   4.8485,   4.8486,2,  34.5310,2,  34.5315,2,     82.8,2,     83.0,2,    87.75,2,    38.18,2,     0.00,2,     2.72,2,   -999.0,9,   -999.0,9,-999.0000,9,  -999.00,  -999.00,9,  -999.00,9,   4.8486,2,     1135
  49UF20180709,KS1806,  5474,  1,     18,  25252,2,20180820,0951, 12.0143, 137.0132, 5308,   1009.0,   4.5008,   4.5006,2,  34.5416,2,  34.5416,2,     85.0,2,     85.0,2,    94.14,2,    38.43,2,     0.00,2,     2.74,2,   -999.0,9,   -999.0,9,-999.0000,9,  -999.00,  -999.00,9,  -999.00,9,   4.5006,2,     1132
  49UF20180709,KS1806,  5474,  1,     17,  25251,2,20180820,0951, 12.0143, 137.0132, 5308,   1212.6,   3.7777,   3.7799,2,  34.5631,2,  34.5630,2,     89.0,2,     89.1,6,   109.17,6,    38.82,6,     0.00,6,     2.77,6,   -999.0,9,   -999.0,9,-999.0000,9,  -999.00,  -999.00,9,  -999.00,9,   3.7799,2,     1128
  49UF20180709,KS1806,  5474,  1,     16,  25250,3,20180820,0951, 12.0143, 137.0132, 5308,   1414.6,   3.1891,   3.1888,2,  34.5790,2,  34.5787,2,     94.4,2,     94.8,2,   121.91,2,    38.83,2,     0.00,2,     2.76,2,   -999.0,9,   -999.0,9,-999.0000,9,  -999.00,  -999.00,9,  -999.00,9,   3.1888,2,     1123
  49UF20180709,KS1806,  5474,  1,     15,  25249,2,20180820,0951, 12.0143, 137.0132, 5308,   1617.6,   2.7293,   2.7305,2,  34.5995,2,  34.5994,2,    100.6,2,    100.7,2,   130.40,2,    38.96,2,     0.00,2,     2.75,2,   -999.0,9,   -999.0,9,-999.0000,9,  -999.00,  -999.00,9,  -999.00,9,   2.7305,2,     1118
  49UF20180709,KS1806,  5474,  1,     14,  25248,2,20180820,0951, 12.0143, 137.0132, 5308,   1819.8,   2.4181,   2.4174,2,  34.6189,2,  34.6191,2,    107.7,2,    107.9,2,   135.76,2,    38.53,2,     0.00,2,     2.72,2,   -999.0,9,   -999.0,9,-999.0000,9,  -999.00,  -999.00,9,  -999.00,9,   2.4174,2,     1113
  49UF20180709,KS1806,  5474,  1,     13,  25247,2,20180820,0951, 12.0143, 137.0132, 5308,   2022.5,   2.2106,   2.2106,2,  34.6293,2,  34.6289,2,    113.2,2,    113.4,2,   138.89,2,    38.34,2,     0.00,2,     2.69,2,   -999.0,9,   -999.0,9,-999.0000,9,  -999.00,  -999.00,9,  -999.00,9,   2.2106,2,     1108
  49UF20180709,KS1806,  5474,  1,     12,  25246,2,20180820,0951, 12.0143, 137.0132, 5308,   2277.8,   2.0245,   2.0244,2,  34.6418,2,  34.6411,2,    119.9,2,    119.9,2,   142.29,2,    38.03,2,     0.00,2,     2.66,2,   -999.0,9,   -999.0,9,-999.0000,9,  -999.00,  -999.00,9,  -999.00,9,   2.0244,2,     1102
  49UF20180709,KS1806,  5474,  1,     11,  25245,2,20180820,0951, 12.0143, 137.0132, 5308,   2530.7,   1.8546,   1.8545,2,  34.6513,2,  34.6513,2,    126.0,2,    126.2,6,   144.99,6,    37.69,6,     0.00,6,     2.63,6,   -999.0,9,   -999.0,9,-999.0000,9,  -999.00,  -999.00,9,  -999.00,9,   1.8545,2,     1056
  49UF20180709,KS1806,  5474,  1,     10,  25244,2,20180820,0951, 12.0143, 137.0132, 5308,   2786.3,   1.6945,   1.6950,2,  34.6625,2,  34.6623,2,    134.8,2,    135.4,2,   145.82,2,    36.92,2,     0.00,2,     2.58,2,   -999.0,9,   -999.0,9,-999.0000,9,  -999.00,  -999.00,9,  -999.00,9,   1.6950,2,     1050
  49UF20180709,KS1806,  5474,  1,      9,  25243,2,20180820,0951, 12.0143, 137.0132, 5308,   3039.4,   1.6417,   1.6416,2,  34.6669,2,  34.6669,2,    139.1,2,    139.2,2,   145.09,2,    36.74,2,     0.00,2,     2.56,2,   -999.0,9,   -999.0,9,-999.0000,9,  -999.00,  -999.00,9,  -999.00,9,   1.6416,2,     1045
  49UF20180709,KS1806,  5474,  1,      8,  25242,2,20180820,0951, 12.0143, 137.0132, 5308,   3296.5,   1.6000,   1.5999,2,  34.6714,2,  34.6716,2,    143.7,2,    143.9,2,   144.34,2,    36.31,2,     0.00,2,     2.54,2,   -999.0,9,   -999.0,9,-999.0000,9,  -999.00,  -999.00,9,  -999.00,9,   1.5999,2,     1038
  49UF20180709,KS1806,  5474,  1,      7,  25241,2,20180820,0951, 12.0143, 137.0132, 5308,   3552.9,   1.5468,   1.5467,2,  34.6771,2,  34.6771,2,    149.7,2,    149.8,2,   142.96,2,    35.86,2,     0.00,2,     2.51,2,   -999.0,9,   -999.0,9,-999.0000,9,  -999.00,  -999.00,9,  -999.00,9,   1.5467,2,     1032
  49UF20180709,KS1806,  5474,  1,      6,  25240,2,20180820,0951, 12.0143, 137.0132, 5308,   3806.9,   1.5180,   1.5180,2,  34.6810,2,  34.6799,2,    154.0,2,    154.3,2,   142.33,2,    35.75,2,     0.00,2,     2.49,2,   -999.0,9,   -999.0,9,-999.0000,9,  -999.00,  -999.00,9,  -999.00,9,   1.5180,2,     1026
  49UF20180709,KS1806,  5474,  1,      5,  25239,2,20180820,0951, 12.0143, 137.0132, 5308,   4060.9,   1.5096,   1.5096,2,  34.6838,2,  34.6826,2,    157.4,2,    156.8,2,   140.58,2,    35.27,2,     0.00,2,     2.47,2,   -999.0,9,   -999.0,9,-999.0000,9,  -999.00,  -999.00,9,  -999.00,9,   1.5096,2,     1020
  49UF20180709,KS1806,  5474,  1,      4,  25238,2,20180820,0951, 12.0143, 137.0132, 5308,   4574.9,   1.5252,   1.5250,2,  34.6866,2,  34.6863,6,    161.2,2,    161.5,2,   139.91,2,    35.33,2,     0.00,2,     2.45,2,   -999.0,9,   -999.0,9,-999.0000,9,  -999.00,  -999.00,9,  -999.00,9,   1.5250,2,     1010
  49UF20180709,KS1806,  5474,  1,      3,  24271,4,20180820,0951, 12.0143, 137.0132, 5308,   4831.8,   1.5503,   1.5502,2,  34.6870,2,-999.0000,9,    161.9,2,   -999.0,9,  -999.00,9,  -999.00,9,  -999.00,9,  -999.00,9,   -999.0,9,   -999.0,9,-999.0000,9,  -999.00,  -999.00,9,  -999.00,9,   1.5502,2,     1004
  49UF20180709,KS1806,  5474,  1,      2,  25236,2,20180820,0951, 12.0143, 137.0132, 5308,   5089.6,   1.5671,   1.5671,2,  34.6880,2,  34.6863,4,    163.3,2,    162.6,6,   138.70,6,    34.93,6,     0.00,6,     2.44,6,   -999.0,9,   -999.0,9,-999.0000,9,  -999.00,  -999.00,9,  -999.00,9,   1.5671,2,      958
  49UF20180709,KS1806,  5474,  1,      1,  24272,2,20180820,0951, 12.0143, 137.0132, 5308,   5395.7,   1.6052,   1.6051,2,  34.6880,2,  34.6881,6,    163.6,2,    163.6,2,   139.15,2,    35.30,2,     0.00,2,     2.44,2,   -999.0,9,   -999.0,9,-999.0000,9,  -999.00,  -999.00,9,  -999.00,9,   1.6051,2,      952