BOTTLE,20200311PRINUNIVRMK
EXPOCODE,SECT_ID,STNNBR,CASTNO,SAMPNO,BTLNBR,BTLNBR_FLAG_W,DATE,TIME,LATITUDE,LONGITUDE,DEPTH,CTDPRS,CTDTMP,SBE35,SBE35_FLAG_W,CTDSAL,CTDSAL_FLAG_W,SALNTY,SALNTY_FLAG_W,CTDOXY,CTDOXY_FLAG_W,OXYGEN,OXYGEN_FLAG_W,SILCAT,SILCAT_FLAG_W,NITRAT,NITRAT_FLAG_W,NITRIT,NITRIT_FLAG_W,PHSPHT,PHSPHT_FLAG_W,TCARBN,TCARBN_FLAG_W,ALKALI,ALKALI_FLAG_W,PH_TOT,PH_TOT_FLAG_W,PH_TMP,CHLORA,CHLORA_FLAG_W,PPHYTN,PPHYTN_FLAG_W,SBE35,SBE35_FLAG_W,BTL_TIME
,,,,,,,,,,,METERS,DBAR,ITS-90,,,PSS-78,,PSS-78,,UMOL/KG,,UMOL/KG,,UMOL/KG,,UMOL/KG,,UMOL/KG,,UMOL/KG,,UMOL/KG,,UMOL/KG,,,,DEG C,UG/KG,,UG/KG,,,,
  49UF20180709,KS1806,  5444,  1,     99,     99,2,20180727,1109, 27.9700, 136.9682, 4324,      0.0,  28.6241,-999.0000,9,  34.6660,2,-999.0000,9,    197.2,2,    197.6,2,     1.45,2,     0.02,2,     0.00,2,     0.01,2,   -999.0,9,   -999.0,9,-999.0000,9,  -999.00,     0.05,2,     0.02,2,-999.0000,9,     1150
  49UF20180709,KS1806,  5444,  1,     36,  25270,3,20180727,1109, 27.9700, 136.9682, 4324,     11.9,  28.6201,  28.6205,2,  34.6665,2,-999.0000,9,    197.1,2,    198.1,2,     1.44,2,     0.00,2,     0.00,2,     0.00,2,   -999.0,9,   -999.0,9,-999.0000,9,  -999.00,     0.04,2,     0.02,2,  28.6205,2,     1229
  49UF20180709,KS1806,  5444,  1,     35,  25269,2,20180727,1109, 27.9700, 136.9682, 4324,     26.5,  28.6270,  28.6278,2,  34.6666,2,-999.0000,9,    197.0,2,    198.5,2,     1.43,2,     0.00,2,     0.00,2,     0.00,2,   -999.0,9,   -999.0,9,-999.0000,9,  -999.00,     0.05,2,     0.02,2,  28.6278,2,     1227
  49UF20180709,KS1806,  5444,  1,     34,  25268,2,20180727,1109, 27.9700, 136.9682, 4324,     51.8,  24.0405,  24.0394,2,  34.7886,2,-999.0000,9,    223.0,2,    223.6,2,     1.62,2,     0.05,2,     0.00,2,     0.01,2,   -999.0,9,   -999.0,9,-999.0000,9,  -999.00,     0.10,2,     0.04,2,  24.0394,2,     1225
  49UF20180709,KS1806,  5444,  1,     33,  25267,2,20180727,1109, 27.9700, 136.9682, 4324,     77.8,  21.7424,  21.7422,2,  34.8934,2,-999.0000,9,    226.9,2,    226.7,2,     1.81,2,     0.09,2,     0.00,2,     0.01,2,   -999.0,9,   -999.0,9,-999.0000,9,  -999.00,     0.21,2,     0.11,2,  21.7422,2,     1223
  49UF20180709,KS1806,  5444,  1,     32,  25266,2,20180727,1109, 27.9700, 136.9682, 4324,    102.7,  20.2191,  20.2145,2,  34.9150,2,-999.0000,9,    217.1,2,    217.2,6,     2.16,6,     0.38,6,     0.09,6,     0.06,6,   -999.0,9,   -999.0,9,-999.0000,9,  -999.00,     0.39,2,     0.57,2,  20.2145,2,     1221
  49UF20180709,KS1806,  5444,  1,     31,  25265,2,20180727,1109, 27.9700, 136.9682, 4324,    128.0,  19.5273,  19.5281,2,  34.9116,2,-999.0000,9,    210.9,2,    211.2,2,     2.44,2,     1.49,2,     0.07,2,     0.12,2,   -999.0,9,   -999.0,9,-999.0000,9,  -999.00,     0.11,2,     0.26,2,  19.5281,2,     1218
  49UF20180709,KS1806,  5444,  1,     26,  25260,2,20180727,1109, 27.9700, 136.9682, 4324,    150.8,  19.0320,  19.0305,2,  34.8937,2,-999.0000,9,    206.4,2,    206.3,2,     2.92,2,     2.65,2,     0.01,2,     0.19,2,   -999.0,9,   -999.0,9,-999.0000,9,  -999.00,     0.02,2,     0.05,2,  19.0305,2,     1213
  49UF20180709,KS1806,  5444,  1,     27,  25261,2,20180727,1109, 27.9700, 136.9682, 4324,    152.1,  19.0163,  19.0203,2,  34.8930,2,-999.0000,9,    206.3,2,    206.5,2,     2.93,2,     2.64,2,     0.01,2,     0.19,2,   -999.0,9,   -999.0,9,-999.0000,9,  -999.00,  -999.00,9,  -999.00,9,  19.0203,2,     1214
  49UF20180709,KS1806,  5444,  1,     25,  25259,2,20180727,1109, 27.9700, 136.9682, 4324,    203.2,  18.1307,  18.1317,2,  34.8357,2,-999.0000,9,    199.7,2,    200.1,2,     4.02,2,     4.24,2,     0.00,2,     0.28,2,   -999.0,9,   -999.0,9,-999.0000,9,  -999.00,     0.00,2,     0.02,2,  18.1317,2,     1211
  49UF20180709,KS1806,  5444,  1,     24,  25258,2,20180727,1109, 27.9700, 136.9682, 4324,    253.1,  17.2682,  17.2688,2,  34.7688,2,-999.0000,9,    197.1,2,    197.2,2,     5.21,2,     5.60,2,     0.00,2,     0.37,2,   -999.0,9,   -999.0,9,-999.0000,9,  -999.00,  -999.00,9,  -999.00,9,  17.2688,2,     1208
  49UF20180709,KS1806,  5444,  1,     23,  25257,2,20180727,1109, 27.9700, 136.9682, 4324,    311.6,  16.0621,  16.0643,2,  34.6618,2,-999.0000,9,    191.2,2,    191.9,2,     7.91,2,     7.81,2,     0.00,2,     0.53,2,   -999.0,9,   -999.0,9,-999.0000,9,  -999.00,  -999.00,9,  -999.00,9,  16.0643,2,     1206
  49UF20180709,KS1806,  5444,  1,     22,  24473,2,20180727,1109, 27.9700, 136.9682, 4324,    405.8,  14.3927,  14.3938,2,  34.5260,2,-999.0000,9,    182.5,2,    182.7,2,    13.00,2,    11.17,2,     0.00,2,     0.77,2,   -999.0,9,   -999.0,9,-999.0000,9,  -999.00,  -999.00,9,  -999.00,9,  14.3938,2,     1202
  49UF20180709,KS1806,  5444,  1,     18,  25252,2,20180727,1109, 27.9700, 136.9682, 4324,    508.8,  11.0425,  11.0464,2,  34.3162,2,-999.0000,9,    159.3,2,    159.7,2,    28.88,2,    18.88,2,     0.00,2,     1.34,2,   -999.0,9,   -999.0,9,-999.0000,9,  -999.00,  -999.00,9,  -999.00,9,  11.0464,2,     1158
  49UF20180709,KS1806,  5444,  1,     17,  25251,2,20180727,1109, 27.9700, 136.9682, 4324,    607.8,   8.5075,   8.5141,2,  34.1939,2,-999.0000,9,    138.1,2,    138.6,2,    46.53,2,    25.26,2,     0.00,2,     1.81,2,   -999.0,9,   -999.0,9,-999.0000,9,  -999.00,  -999.00,9,  -999.00,9,   8.5141,2,     1154
  49UF20180709,KS1806,  5444,  1,     16,  25250,3,20180727,1109, 27.9700, 136.9682, 4324,    711.1,   6.4488,   6.4470,2,  34.1955,2,-999.0000,9,    102.1,2,    102.0,2,    71.66,2,    32.19,2,     0.00,2,     2.31,2,   -999.0,9,   -999.0,9,-999.0000,9,  -999.00,  -999.00,9,  -999.00,9,   6.4470,2,     1150
  49UF20180709,KS1806,  5444,  1,     15,  25249,2,20180727,1109, 27.9700, 136.9682, 4324,    810.5,   5.3567,   5.3587,2,  34.2106,2,-999.0000,9,     83.1,2,     83.2,6,    87.23,6,    35.75,6,     0.00,6,     2.56,6,   -999.0,9,   -999.0,9,-999.0000,9,  -999.00,  -999.00,9,  -999.00,9,   5.3587,2,     1147
  49UF20180709,KS1806,  5444,  1,     14,  25248,2,20180727,1109, 27.9700, 136.9682, 4324,    912.4,   4.5691,   4.5692,2,  34.2644,2,-999.0000,9,     67.5,2,     67.4,2,   102.81,2,    38.21,2,     0.00,2,     2.74,2,   -999.0,9,   -999.0,9,-999.0000,9,  -999.00,  -999.00,9,  -999.00,9,   4.5692,2,     1143
  49UF20180709,KS1806,  5444,  1,     13,  25247,2,20180727,1109, 27.9700, 136.9682, 4324,    912.9,   4.5680,   4.5687,2,  34.2643,2,-999.0000,9,     67.5,2,     67.5,2,   102.49,2,    38.28,2,     0.00,2,     2.74,2,   -999.0,9,   -999.0,9,-999.0000,9,  -999.00,  -999.00,9,  -999.00,9,   4.5687,2,     1143
  49UF20180709,KS1806,  5444,  1,      9,  25243,2,20180727,1109, 27.9700, 136.9682, 4324,   1013.6,   3.9794,   3.9795,2,  34.3196,2,-999.0000,9,     58.5,2,     58.4,2,   115.06,2,    39.77,2,     0.00,2,     2.85,2,   -999.0,9,   -999.0,9,-999.0000,9,  -999.00,  -999.00,9,  -999.00,9,   3.9795,2,     1139
  49UF20180709,KS1806,  5444,  1,      8,  25242,2,20180727,1109, 27.9700, 136.9682, 4324,   1215.5,   3.1835,   3.1837,2,  34.4189,2,-999.0000,9,     53.8,2,     53.4,2,   133.64,2,    41.40,2,     0.00,2,     2.94,2,   -999.0,9,   -999.0,9,-999.0000,9,  -999.00,  -999.00,9,  -999.00,9,   3.1837,2,     1133
  49UF20180709,KS1806,  5444,  1,      7,  25241,3,20180727,1109, 27.9700, 136.9682, 4324,   1414.6,   2.6694,   2.6685,2,  34.4955,2,-999.0000,9,     65.4,2,     65.4,2,   143.41,2,    41.00,2,     0.00,2,     2.91,2,   -999.0,9,   -999.0,9,-999.0000,9,  -999.00,  -999.00,9,  -999.00,9,   2.6685,2,     1127
  49UF20180709,KS1806,  5444,  1,      6,  25240,2,20180727,1109, 27.9700, 136.9682, 4324,   1618.6,   2.3380,   2.3380,2,  34.5453,2,-999.0000,9,     79.6,2,     79.4,2,   147.57,2,    40.37,2,     0.00,2,     2.85,2,   -999.0,9,   -999.0,9,-999.0000,9,  -999.00,  -999.00,9,  -999.00,9,   2.3380,2,     1122
  49UF20180709,KS1806,  5444,  1,      5,  25239,2,20180727,1109, 27.9700, 136.9682, 4324,   1819.4,   2.1202,   2.1208,2,  34.5804,2,-999.0000,9,     94.4,2,     94.0,2,   148.29,2,    39.42,2,     0.00,2,     2.78,2,   -999.0,9,   -999.0,9,-999.0000,9,  -999.00,  -999.00,9,  -999.00,9,   2.1208,2,     1117
  49UF20180709,KS1806,  5444,  1,      4,  25238,2,20180727,1109, 27.9700, 136.9682, 4324,   2022.9,   1.9711,   1.9712,2,  34.6031,2,-999.0000,9,    104.6,2,    104.3,2,   148.66,2,    38.79,2,     0.00,2,     2.73,2,   -999.0,9,   -999.0,9,-999.0000,9,  -999.00,  -999.00,9,  -999.00,9,   1.9712,2,     1112
  49UF20180709,KS1806,  5445,  1,     99,     99,2,20180728,1107, 26.9955, 136.9998, 4693,      0.0,  28.8023,-999.0000,9,  34.7558,2,-999.0000,9,    195.8,2,    196.6,2,     1.21,2,     0.00,2,     0.00,2,     0.01,2,   -999.0,9,   -999.0,9,-999.0000,9,  -999.00,  -999.00,9,  -999.00,9,-999.0000,9,     1150
  49UF20180709,KS1806,  5445,  1,     36,  25270,2,20180728,1107, 26.9955, 136.9998, 4693,      9.0,  28.7872,  28.7874,2,  34.7576,2,-999.0000,9,    195.7,2,    196.8,2,     1.19,2,     0.01,2,     0.00,2,     0.01,2,   -999.0,9,   -999.0,9,-999.0000,9,  -999.00,  -999.00,9,  -999.00,9,  28.7874,2,     1219
  49UF20180709,KS1806,  5445,  1,     35,  25269,2,20180728,1107, 26.9955, 136.9998, 4693,     24.9,  28.6547,  28.6575,2,  34.7978,2,-999.0000,9,    196.2,2,    197.1,2,     1.21,2,     0.00,2,     0.00,2,     0.00,2,   -999.0,9,   -999.0,9,-999.0000,9,  -999.00,  -999.00,9,  -999.00,9,  28.6575,2,     1217
  49UF20180709,KS1806,  5445,  1,     34,  25268,2,20180728,1107, 26.9955, 136.9998, 4693,     50.3,  25.7466,  25.7471,2,  34.7117,2,-999.0000,9,    216.4,2,    217.1,2,     1.35,2,     0.00,2,     0.00,2,     0.01,2,   -999.0,9,   -999.0,9,-999.0000,9,  -999.00,  -999.00,9,  -999.00,9,  25.7471,2,     1213
  49UF20180709,KS1806,  5445,  1,     33,  25267,2,20180728,1107, 26.9955, 136.9998, 4693,     73.5,  23.0533,  23.0572,2,  34.9002,2,-999.0000,9,    225.4,2,    225.0,6,     1.42,6,     0.04,6,     0.00,6,     0.01,6,   -999.0,9,   -999.0,9,-999.0000,9,  -999.00,  -999.00,9,  -999.00,9,  23.0572,2,     1211
  49UF20180709,KS1806,  5445,  1,     32,  25266,2,20180728,1107, 26.9955, 136.9998, 4693,     99.9,  21.2725,  21.2649,2,  34.9208,2,-999.0000,9,    219.5,2,    219.7,2,     1.64,2,     0.10,2,     0.00,2,     0.02,2,   -999.0,9,   -999.0,9,-999.0000,9,  -999.00,  -999.00,9,  -999.00,9,  21.2649,2,     1210
  49UF20180709,KS1806,  5445,  1,     31,  25265,2,20180728,1107, 26.9955, 136.9998, 4693,     99.9,  21.2466,  21.2241,2,  34.9189,2,-999.0000,9,    218.7,2,    219.6,2,     1.65,2,     0.00,2,     0.00,2,     0.02,2,   -999.0,9,   -999.0,9,-999.0000,9,  -999.00,  -999.00,9,  -999.00,9,  21.2241,2,     1209
  49UF20180709,KS1806,  5445,  1,     27,  25261,2,20180728,1107, 26.9955, 136.9998, 4693,    125.1,  20.1828,  20.1811,2,  34.9189,2,-999.0000,9,    207.1,2,    207.8,2,     2.26,2,     1.42,2,     0.05,2,     0.12,2,   -999.0,9,   -999.0,9,-999.0000,9,  -999.00,  -999.00,9,  -999.00,9,  20.1811,2,     1208
  49UF20180709,KS1806,  5445,  1,     26,  25260,2,20180728,1107, 26.9955, 136.9998, 4693,    151.6,  19.4800,  19.4811,2,  34.9040,2,-999.0000,9,    203.4,2,    203.6,2,     2.71,2,     2.46,2,     0.02,2,     0.18,2,   -999.0,9,   -999.0,9,-999.0000,9,  -999.00,  -999.00,9,  -999.00,9,  19.4811,2,     1206
  49UF20180709,KS1806,  5445,  1,     25,  25259,2,20180728,1107, 26.9955, 136.9998, 4693,    200.4,  18.8372,  18.8315,2,  34.8866,2,-999.0000,9,    204.7,2,    205.9,2,     2.87,2,     2.87,2,     0.01,2,     0.20,2,   -999.0,9,   -999.0,9,-999.0000,9,  -999.00,  -999.00,9,  -999.00,9,  18.8315,2,     1203
  49UF20180709,KS1806,  5445,  1,     24,  25258,2,20180728,1107, 26.9955, 136.9998, 4693,    250.5,  17.8237,  17.8183,2,  34.8150,2,-999.0000,9,    198.6,2,    198.9,2,     4.24,2,     4.68,2,     0.00,2,     0.32,2,   -999.0,9,   -999.0,9,-999.0000,9,  -999.00,  -999.00,9,  -999.00,9,  17.8183,2,     1201
  49UF20180709,KS1806,  5445,  1,     23,  25257,2,20180728,1107, 26.9955, 136.9998, 4693,    302.2,  16.8221,  16.8233,2,  34.7351,2,-999.0000,9,    198.0,2,    198.1,2,     5.70,2,     6.12,2,     0.00,2,     0.41,2,   -999.0,9,   -999.0,9,-999.0000,9,  -999.00,  -999.00,9,  -999.00,9,  16.8233,2,     1159
  49UF20180709,KS1806,  5445,  1,     22,  24473,2,20180728,1107, 26.9955, 136.9998, 4693,    402.8,  14.2857,  14.2908,2,  34.5105,2,-999.0000,9,    187.2,2,    187.3,2,    12.01,2,    10.86,2,     0.00,2,     0.75,2,   -999.0,9,   -999.0,9,-999.0000,9,  -999.00,  -999.00,9,  -999.00,9,  14.2908,2,     1156
  49UF20180709,KS1806,  5445,  1,     18,  25252,2,20180728,1107, 26.9955, 136.9998, 4693,    503.1,  11.5628,  11.5615,2,  34.3181,2,-999.0000,9,    173.7,2,    173.8,2,    23.25,2,    16.66,2,     0.00,2,     1.18,2,   -999.0,9,   -999.0,9,-999.0000,9,  -999.00,  -999.00,9,  -999.00,9,  11.5615,2,     1152
  49UF20180709,KS1806,  5445,  1,     17,  25251,2,20180728,1107, 26.9955, 136.9998, 4693,    603.5,   8.8009,   8.8031,2,  34.1653,2,-999.0000,9,    150.7,2,    150.4,2,    40.75,2,    23.71,2,     0.00,2,     1.69,2,   -999.0,9,   -999.0,9,-999.0000,9,  -999.00,  -999.00,9,  -999.00,9,   8.8031,2,     1148
  49UF20180709,KS1806,  5445,  1,     16,  25250,2,20180728,1107, 26.9955, 136.9998, 4693,    705.2,   7.0481,   7.0508,2,  34.1917,2,-999.0000,9,    111.4,2,    110.8,6,    63.79,6,    30.17,6,     0.00,6,     2.19,6,   -999.0,9,   -999.0,9,-999.0000,9,  -999.00,  -999.00,9,  -999.00,9,   7.0508,2,     1145
  49UF20180709,KS1806,  5445,  1,     14,  25248,2,20180728,1107, 26.9955, 136.9998, 4693,    807.7,   5.5051,   5.5062,2,  34.2112,2,-999.0000,9,     85.5,2,     85.1,2,    85.62,2,    35.12,2,     0.00,2,     2.54,2,   -999.0,9,   -999.0,9,-999.0000,9,  -999.00,  -999.00,9,  -999.00,9,   5.5062,2,     1142
  49UF20180709,KS1806,  5445,  1,     15,  25249,2,20180728,1107, 26.9955, 136.9998, 4693,    807.8,   5.5046,   5.5045,2,  34.2113,2,-999.0000,9,     85.5,2,     84.9,2,    85.69,2,    35.16,2,     0.00,2,     2.54,2,   -999.0,9,   -999.0,9,-999.0000,9,  -999.00,  -999.00,9,  -999.00,9,   5.5045,2,     1142
  49UF20180709,KS1806,  5445,  1,     13,  25247,2,20180728,1107, 26.9955, 136.9998, 4693,    906.4,   4.7344,   4.7343,2,  34.2925,2,-999.0000,9,     70.7,2,     70.8,2,   101.41,2,    37.63,2,     0.00,2,     2.71,2,   -999.0,9,   -999.0,9,-999.0000,9,  -999.00,  -999.00,9,  -999.00,9,   4.7343,2,     1139
  49UF20180709,KS1806,  5445,  1,      9,  25243,2,20180728,1107, 26.9955, 136.9998, 4693,   1007.4,   3.9914,   3.9917,2,  34.3457,2,-999.0000,9,     61.5,2,     61.2,2,   115.28,2,    39.39,2,     0.00,2,     2.84,2,   -999.0,9,   -999.0,9,-999.0000,9,  -999.00,  -999.00,9,  -999.00,9,   3.9917,2,     1135
  49UF20180709,KS1806,  5445,  1,      8,  25242,2,20180728,1107, 26.9955, 136.9998, 4693,   1210.2,   3.1513,   3.1516,2,  34.4374,2,-999.0000,9,     60.5,2,     60.2,2,   133.80,2,    40.78,2,     0.00,2,     2.92,2,   -999.0,9,   -999.0,9,-999.0000,9,  -999.00,  -999.00,9,  -999.00,9,   3.1516,2,     1130
  49UF20180709,KS1806,  5445,  1,      7,  25241,2,20180728,1107, 26.9955, 136.9998, 4693,   1414.0,   2.6946,   2.6945,2,  34.4979,2,-999.0000,9,     69.2,2,     69.0,2,   142.38,2,    40.57,2,     0.00,2,     2.89,2,   -999.0,9,   -999.0,9,-999.0000,9,  -999.00,  -999.00,9,  -999.00,9,   2.6945,2,     1125
  49UF20180709,KS1806,  5445,  1,      6,  25240,2,20180728,1107, 26.9955, 136.9998, 4693,   1618.8,   2.3989,   2.3992,2,  34.5400,2,-999.0000,9,     79.6,2,     79.7,2,   146.57,2,    40.16,2,     0.00,2,     2.85,2,   -999.0,9,   -999.0,9,-999.0000,9,  -999.00,  -999.00,9,  -999.00,9,   2.3992,2,     1120
  49UF20180709,KS1806,  5445,  1,      5,  25239,2,20180728,1107, 26.9955, 136.9998, 4693,   1821.9,   2.1214,   2.1215,2,  34.5845,2,-999.0000,9,     99.6,2,     99.1,2,   146.39,2,    38.88,2,     0.00,2,     2.76,2,   -999.0,9,   -999.0,9,-999.0000,9,  -999.00,  -999.00,9,  -999.00,9,   2.1215,2,     1114
  49UF20180709,KS1806,  5445,  1,      4,  25238,2,20180728,1107, 26.9955, 136.9998, 4693,   2023.3,   1.9678,   1.9682,2,  34.6114,2,-999.0000,9,    112.8,2,    112.6,2,   145.68,2,    38.17,2,     0.00,2,     2.70,2,   -999.0,9,   -999.0,9,-999.0000,9,  -999.00,  -999.00,9,  -999.00,9,   1.9682,2,     1109