BOTTLE,20200311PRINUNIVRMK
EXPOCODE,SECT_ID,STNNBR,CASTNO,SAMPNO,BTLNBR,BTLNBR_FLAG_W,DATE,TIME,LATITUDE,LONGITUDE,DEPTH,CTDPRS,CTDTMP,SBE35,SBE35_FLAG_W,CTDSAL,CTDSAL_FLAG_W,SALNTY,SALNTY_FLAG_W,CTDOXY,CTDOXY_FLAG_W,OXYGEN,OXYGEN_FLAG_W,SILCAT,SILCAT_FLAG_W,NITRAT,NITRAT_FLAG_W,NITRIT,NITRIT_FLAG_W,PHSPHT,PHSPHT_FLAG_W,TCARBN,TCARBN_FLAG_W,ALKALI,ALKALI_FLAG_W,PH_TOT,PH_TOT_FLAG_W,PH_TMP,CHLORA,CHLORA_FLAG_W,PPHYTN,PPHYTN_FLAG_W,SBE35,SBE35_FLAG_W,BTL_TIME
,,,,,,,,,,,METERS,DBAR,ITS-90,,,PSS-78,,PSS-78,,UMOL/KG,,UMOL/KG,,UMOL/KG,,UMOL/KG,,UMOL/KG,,UMOL/KG,,UMOL/KG,,UMOL/KG,,,,DEG C,UG/KG,,UG/KG,,,,
  49UF20180709,KS1806,  5460,  1,     99,     99,2,20180804,0451, 10.0083, 137.0048, 4717,      0.0,  28.8913,-999.0000,9,  33.7988,2,  33.7853,2,    197.3,2,    197.2,2,     1.33,2,     0.00,2,     0.00,2,     0.06,2,   1896.6,2,   2222.1,2,   8.1209,2,    25.00,     0.11,2,     0.06,2,-999.0000,9,      620
  49UF20180709,KS1806,  5460,  1,     36,  25270,2,20180804,0451, 10.0083, 137.0048, 4717,     10.6,  28.8910,  28.8923,2,  33.7994,2,  33.7995,2,    197.3,2,    197.2,2,     1.24,2,     0.00,2,     0.00,2,     0.03,2,   1897.5,2,   2221.0,2,   8.1181,2,    25.00,     0.11,2,     0.05,2,  28.8923,2,      700
  49UF20180709,KS1806,  5460,  1,     35,  25269,2,20180804,0451, 10.0083, 137.0048, 4717,     26.9,  28.8883,  28.8899,2,  33.7997,2,-999.0000,9,    197.4,2,    197.2,2,     1.26,2,     0.00,2,     0.00,2,     0.03,2,   1901.7,2,   2221.7,2,   8.1151,2,    25.00,     0.11,2,     0.05,2,  28.8899,2,      659
  49UF20180709,KS1806,  5460,  1,     34,  25268,2,20180804,0451, 10.0083, 137.0048, 4717,     51.1,  28.7995,  28.8013,2,  34.0687,2,  34.0519,4,    201.1,2,    200.7,2,     1.29,2,     0.00,2,     0.00,2,     0.05,2,   1917.0,2,   2239.2,2,   8.1119,2,    25.00,     0.17,2,     0.09,2,  28.8013,2,      657
  49UF20180709,KS1806,  5460,  1,     33,  25267,2,20180804,0451, 10.0083, 137.0048, 4717,     76.2,  25.0718,  25.0727,2,  34.8003,2,-999.0000,9,    193.6,2,    193.2,2,     2.00,2,     0.00,2,     0.00,2,     0.16,2,   2011.9,2,   2293.8,2,   8.0342,2,    25.00,     0.22,2,     0.25,2,  25.0727,2,      656
  49UF20180709,KS1806,  5460,  1,     32,  25266,2,20180804,0451, 10.0083, 137.0048, 4717,    101.4,  20.6326,  20.6501,2,  34.8650,2,  34.8652,2,    172.9,2,    173.0,2,     4.13,2,     3.55,2,     0.12,2,     0.41,2,   2060.6,2,   2297.4,2,   7.9347,2,    25.00,     0.16,2,     0.45,2,  20.6501,2,      654
  49UF20180709,KS1806,  5460,  1,     31,  25265,2,20180804,0451, 10.0083, 137.0048, 4717,    126.1,  18.6687,  18.6721,2,  34.7877,2,  34.7897,2,    168.9,2,    169.0,2,     5.86,2,     6.13,2,     0.05,2,     0.55,2,   2079.8,2,   2289.8,2,   7.8925,2,    25.00,     0.09,2,     0.31,2,  18.6721,2,      653
  49UF20180709,KS1806,  5460,  1,     30,  25264,2,20180804,0451, 10.0083, 137.0048, 4717,    150.3,  15.6988,  15.7433,2,  34.6201,2,-999.0000,9,    172.7,2,    171.4,2,     9.41,2,     9.68,2,     0.01,2,     0.74,2,   2094.5,2,   2281.5,2,   7.8453,2,    25.00,     0.03,2,     0.05,2,  15.7433,2,      651
  49UF20180709,KS1806,  5460,  1,     29,  25263,2,20180804,0451, 10.0083, 137.0048, 4717,    206.4,  12.2327,  12.2349,2,  34.4458,2,  34.4453,2,    125.3,2,    125.5,2,    22.48,2,    20.23,2,     0.00,2,     1.48,2,   2162.8,2,   2281.2,2,   7.6873,2,    25.00,     0.00,2,     0.02,2,  12.2349,2,      646
  49UF20180709,KS1806,  5460,  1,     28,  25262,2,20180804,0451, 10.0083, 137.0048, 4717,    249.9,  10.0536,  10.0516,2,  34.4118,2,-999.0000,9,     95.6,2,     95.2,2,    33.53,2,    26.78,2,     0.01,2,     1.96,2,   2207.0,2,   2289.1,2,   7.5827,2,    25.00,  -999.00,9,  -999.00,9,  10.0516,2,      644
  49UF20180709,KS1806,  5460,  1,     27,  25261,2,20180804,0451, 10.0083, 137.0048, 4717,    302.2,   9.1723,   9.1723,2,  34.5184,2,  34.5181,2,     85.5,2,     85.1,2,    38.14,2,    30.40,2,     0.01,2,     2.16,2,   2227.5,2,   2301.4,2,   7.5568,2,    25.00,  -999.00,9,  -999.00,9,   9.1723,2,      642
  49UF20180709,KS1806,  5460,  1,     26,  25260,2,20180804,0451, 10.0083, 137.0048, 4717,    351.5,   8.3572,   8.3500,2,  34.5232,2,-999.0000,9,     86.5,2,     86.2,6,    41.98,6,    32.01,6,     0.01,6,     2.26,6,   2232.1,2,   2308.1,2,   7.5466,2,    25.00,  -999.00,9,  -999.00,9,   8.3500,2,      640
  49UF20180709,KS1806,  5460,  1,     25,  25259,2,20180804,0451, 10.0083, 137.0048, 4717,    402.7,   7.9440,   7.9450,2,  34.5345,2,  34.5334,2,    108.4,2,    107.6,2,    41.26,2,    30.99,2,     0.00,2,     2.18,2,   2227.3,2,   2310.4,2,   7.5729,2,    25.00,  -999.00,9,  -999.00,9,   7.9450,2,      638
  49UF20180709,KS1806,  5460,  1,     24,  25258,2,20180804,0451, 10.0083, 137.0048, 4717,    456.0,   7.3874,   7.3867,2,  34.5193,2,-999.0000,9,     96.7,2,     96.4,2,    46.95,2,    33.03,2,     0.00,2,     2.33,2,   2241.0,2,   2314.1,2,   7.5457,2,    25.00,  -999.00,9,  -999.00,9,   7.3867,2,      636
  49UF20180709,KS1806,  5460,  1,     23,  25257,2,20180804,0451, 10.0083, 137.0048, 4717,    503.5,   6.9957,   6.9956,2,  34.5196,2,  34.5194,2,     93.0,2,     92.7,2,    51.51,2,    34.23,2,     0.00,2,     2.41,2,   2249.1,2,   2318.8,2,   7.5327,2,    25.00,  -999.00,9,  -999.00,9,   6.9956,2,      634
  49UF20180709,KS1806,  5460,  1,     22,  24473,2,20180804,0451, 10.0083, 137.0048, 4717,    604.0,   6.3945,   6.3944,2,  34.5198,2,  34.5186,2,     89.3,2,     89.0,2,    59.58,2,    35.49,2,     0.00,2,     2.52,2,   2258.9,6,   2326.8,6,   7.5195,2,    25.00,  -999.00,9,  -999.00,9,   6.3944,2,      631
  49UF20180709,KS1806,  5460,  1,     21,  25255,2,20180804,0451, 10.0083, 137.0048, 4717,    705.3,   5.8486,   5.8456,2,  34.5234,2,  34.5234,2,     89.2,2,     89.0,2,    67.51,2,    36.52,2,     0.00,2,     2.59,2,   2271.9,2,   2335.2,2,   7.5151,6,    25.00,  -999.00,9,  -999.00,9,   5.8456,2,      628
  49UF20180709,KS1806,  5460,  1,     20,  24270,2,20180804,0451, 10.0083, 137.0048, 4717,    806.5,   5.3685,   5.3687,2,  34.5306,2,  34.5305,2,     84.8,2,     84.8,2,    76.67,2,    37.54,2,     0.00,2,     2.66,2,   2285.6,2,   2342.3,2,   7.5011,2,    25.00,  -999.00,9,  -999.00,9,   5.3687,2,      625
  49UF20180709,KS1806,  5460,  1,     19,  25253,2,20180804,0451, 10.0083, 137.0048, 4717,    908.1,   4.9722,   4.9722,2,  34.5366,2,  34.5365,2,     86.8,2,     86.6,6,    84.01,6,    37.95,6,     0.00,6,     2.69,6,   2292.7,2,   2352.8,2,   7.5013,2,    25.00,  -999.00,9,  -999.00,9,   4.9722,2,      622
  49UF20180709,KS1806,  5460,  1,     18,  25252,2,20180804,0451, 10.0083, 137.0048, 4717,   1010.4,   4.4766,   4.4767,2,  34.5484,2,  34.5462,2,     88.1,2,     88.2,2,    93.98,2,    38.27,2,     0.00,2,     2.72,2,   2302.0,2,   2363.8,2,   7.5010,2,    25.00,  -999.00,9,  -999.00,9,   4.4767,2,      619
  49UF20180709,KS1806,  5460,  1,     17,  25251,3,20180804,0451, 10.0083, 137.0048, 4717,   1209.9,   3.8221,   3.8212,2,  34.5661,2,  34.5659,2,     91.4,2,     91.4,2,   107.16,2,    38.86,2,     0.00,2,     2.74,2,   2312.0,2,   2377.3,2,   7.5038,2,    25.00,  -999.00,9,  -999.00,9,   3.8212,2,      614
  49UF20180709,KS1806,  5460,  1,     16,  25250,2,20180804,0451, 10.0083, 137.0048, 4717,   1413.7,   3.2980,   3.2979,2,  34.5824,2,  34.5819,6,     95.2,2,     95.2,2,   118.59,2,    38.94,2,     0.00,2,     2.76,2,   2326.3,6,   2387.8,6,   7.5060,2,    25.00,  -999.00,9,  -999.00,9,   3.2979,2,      609
  49UF20180709,KS1806,  5460,  1,     15,  25249,2,20180804,0451, 10.0083, 137.0048, 4717,   1615.4,   2.8287,   2.8287,2,  34.6013,2,  34.6002,2,    101.7,2,    101.7,2,   127.27,2,    38.60,2,     0.00,2,     2.73,2,   2332.4,2,   2396.8,2,   7.5125,6,    25.00,  -999.00,9,  -999.00,9,   2.8287,2,      604
  49UF20180709,KS1806,  5460,  1,     14,  25248,2,20180804,0451, 10.0083, 137.0048, 4717,   1817.8,   2.4620,   2.4619,2,  34.6206,2,  34.6195,2,    109.1,2,    109.1,2,   134.36,2,    38.65,2,     0.00,2,     2.71,2,   2335.0,2,   2404.6,2,   7.5233,2,    25.00,  -999.00,9,  -999.00,9,   2.4619,2,      559
  49UF20180709,KS1806,  5460,  1,     13,  25247,2,20180804,0451, 10.0083, 137.0048, 4717,   2023.4,   2.2113,   2.2113,2,  34.6336,2,  34.6328,2,    115.2,2,    115.2,6,   138.91,6,    38.44,6,     0.00,6,     2.69,6,   2340.1,2,   2409.2,2,   7.5311,2,    25.00,  -999.00,9,  -999.00,9,   2.2113,2,      554
  49UF20180709,KS1806,  5460,  1,     12,  25246,2,20180804,0451, 10.0083, 137.0048, 4717,   2276.0,   1.9940,   1.9946,2,  34.6442,2,  34.6444,2,    122.1,2,    122.2,2,   142.57,2,    38.24,2,     0.00,2,     2.65,2,   2334.6,2,   2411.7,2,   7.5421,2,    25.00,  -999.00,9,  -999.00,9,   1.9946,2,      549
  49UF20180709,KS1806,  5460,  1,     11,  25245,2,20180804,0451, 10.0083, 137.0048, 4717,   2526.5,   1.8222,   1.8222,2,  34.6539,2,  34.6528,2,    128.4,2,    128.5,2,   145.27,2,    37.62,2,     0.00,2,     2.62,2,   2335.4,2,   2414.7,2,   7.5542,2,    25.00,  -999.00,9,  -999.00,9,   1.8222,2,      543
  49UF20180709,KS1806,  5460,  1,     10,  25244,2,20180804,0451, 10.0083, 137.0048, 4717,   2527.7,   1.8225,   1.8223,2,  34.6538,2,  34.6530,2,    128.4,2,    128.6,2,   144.82,2,    37.44,2,     0.00,2,     2.62,2,   2333.9,2,   2413.4,2,   7.5529,2,    25.00,  -999.00,9,  -999.00,9,   1.8223,2,      543
  49UF20180709,KS1806,  5460,  1,      9,  25243,2,20180804,0451, 10.0083, 137.0048, 4717,   2783.8,   1.6970,   1.6970,2,  34.6628,2,  34.6627,2,    135.7,2,    135.9,2,   145.38,2,    37.31,2,     0.00,2,     2.58,2,   2334.5,2,   2413.8,2,   7.5622,2,    25.00,  -999.00,9,  -999.00,9,   1.6970,2,      537
  49UF20180709,KS1806,  5460,  1,      8,  25242,2,20180804,0451, 10.0083, 137.0048, 4717,   3039.2,   1.6118,   1.6117,2,  34.6692,2,  34.6692,2,    141.8,2,    142.3,2,   145.34,2,    36.86,2,     0.00,2,     2.55,2,   2329.4,6,   2416.4,6,   7.5712,2,    25.00,  -999.00,9,  -999.00,9,   1.6117,2,      531
  49UF20180709,KS1806,  5460,  1,      7,  25241,3,20180804,0451, 10.0083, 137.0048, 4717,   3295.4,   1.5676,   1.5675,2,  34.6741,2,  34.6737,2,    146.5,2,    147.0,2,   144.73,2,    36.33,2,     0.00,2,     2.53,2,   2329.9,2,   2416.1,2,   7.5778,6,    25.00,  -999.00,9,  -999.00,9,   1.5675,2,      525
  49UF20180709,KS1806,  5460,  1,      6,  25240,3,20180804,0451, 10.0083, 137.0048, 4717,   3550.7,   1.5581,   1.5581,2,  34.6764,2,  34.6755,2,    149.1,2,    148.9,2,   143.95,2,    36.26,2,     0.00,2,     2.51,2,   2328.2,2,   2415.9,2,   7.5821,2,    25.00,  -999.00,9,  -999.00,9,   1.5581,2,      520
  49UF20180709,KS1806,  5460,  1,      5,  25239,2,20180804,0451, 10.0083, 137.0048, 4717,   3805.2,   1.5375,   1.5374,2,  34.6799,2,  34.6789,2,    152.9,2,    152.6,2,   142.86,2,    35.99,2,     0.00,2,     2.49,2,   2320.6,2,   2413.9,2,   7.5890,2,    25.00,  -999.00,9,  -999.00,9,   1.5374,2,      514
  49UF20180709,KS1806,  5460,  1,      4,  25238,2,20180804,0451, 10.0083, 137.0048, 4717,   4062.1,   1.5361,   1.5360,2,  34.6822,2,  34.6818,6,    155.5,2,    155.3,2,   142.48,2,    35.99,2,     0.00,2,     2.48,2,   2319.6,2,   2413.0,2,   7.5901,2,    25.00,  -999.00,9,  -999.00,9,   1.5360,2,      508
  49UF20180709,KS1806,  5460,  1,      3,  24271,4,20180804,0451, 10.0083, 137.0048, 4717,   4316.8,   1.5359,   1.5357,2,  34.6841,2,  34.6260,4,    158.0,2,    111.4,4,   136.80,4,    38.64,4,     0.00,4,     2.71,4,   2338.3,4,   2406.5,4,   7.5272,4,    25.00,  -999.00,9,  -999.00,9,   1.5357,2,      502
  49UF20180709,KS1806,  5460,  1,      2,  25236,2,20180804,0451, 10.0083, 137.0048, 4717,   4576.8,   1.5536,   1.5536,2,  34.6851,2,  34.6842,2,    159.2,2,    159.1,2,   140.99,2,    35.74,2,     0.00,2,     2.46,2,   2314.9,2,   2412.4,2,   7.5941,2,    25.00,  -999.00,9,  -999.00,9,   1.5536,2,      457
  49UF20180709,KS1806,  5460,  1,      1,  24272,2,20180804,0451, 10.0083, 137.0048, 4717,   4816.7,   1.5642,   1.5641,2,  34.6865,2,  34.6863,6,    161.0,2,    160.8,2,   140.49,2,    35.63,2,     0.00,2,     2.45,2,   2315.4,2,   2411.4,2,   7.5954,2,    25.00,  -999.00,9,  -999.00,9,   1.5641,2,      451