BOTTLE,20200311PRINUNIVRMK
EXPOCODE,SECT_ID,STNNBR,CASTNO,SAMPNO,BTLNBR,BTLNBR_FLAG_W,DATE,TIME,LATITUDE,LONGITUDE,DEPTH,CTDPRS,CTDTMP,SBE35,SBE35_FLAG_W,CTDSAL,CTDSAL_FLAG_W,SALNTY,SALNTY_FLAG_W,CTDOXY,CTDOXY_FLAG_W,OXYGEN,OXYGEN_FLAG_W,SILCAT,SILCAT_FLAG_W,NITRAT,NITRAT_FLAG_W,NITRIT,NITRIT_FLAG_W,PHSPHT,PHSPHT_FLAG_W,TCARBN,TCARBN_FLAG_W,ALKALI,ALKALI_FLAG_W,PH_TOT,PH_TOT_FLAG_W,PH_TMP,CHLORA,CHLORA_FLAG_W,PPHYTN,PPHYTN_FLAG_W,SBE35,SBE35_FLAG_W,BTL_TIME
,,,,,,,,,,,METERS,DBAR,ITS-90,,,PSS-78,,PSS-78,,UMOL/KG,,UMOL/KG,,UMOL/KG,,UMOL/KG,,UMOL/KG,,UMOL/KG,,UMOL/KG,,UMOL/KG,,,,DEG C,UG/KG,,UG/KG,,,,
  49UF20180709,KS1806,  5452,  1,     99,     99,2,20180731,0257, 20.0087, 137.0018, 4719,      0.0,  29.9027,-999.0000,9,  34.4243,2,  34.4297,2,    194.0,2,    193.8,2,     1.07,2,     0.01,2,     0.00,2,     0.02,2,   1925.4,2,   2262.1,2,   8.1153,2,    25.00,     0.08,2,     0.02,2,-999.0000,9,      435
  49UF20180709,KS1806,  5452,  1,     36,  25270,2,20180731,0257, 20.0087, 137.0018, 4719,      9.2,  29.6583,  29.6631,2,  34.4190,2,  34.4205,2,    194.7,2,    194.3,2,     1.04,2,     0.00,2,     0.00,2,     0.00,2,   1931.0,2,   2261.8,2,   8.1139,2,    25.00,     0.07,2,     0.01,2,  29.6631,2,      504
  49UF20180709,KS1806,  5452,  1,     35,  25269,2,20180731,0257, 20.0087, 137.0018, 4719,     24.3,  29.2264,  29.2204,2,  34.4256,2,-999.0000,9,    195.7,2,    195.5,2,     1.05,2,     0.00,2,     0.00,2,     0.00,2,   1932.6,2,   2262.1,2,   8.1165,2,    25.00,     0.04,2,     0.02,2,  29.2204,2,      502
  49UF20180709,KS1806,  5452,  1,     34,  25268,3,20180731,0257, 20.0087, 137.0018, 4719,     49.2,  28.8171,  28.7852,2,  34.5134,2,  34.5219,2,    201.0,2,    200.5,2,     1.06,2,     0.00,2,     0.00,2,     0.00,2,   1942.5,2,   2266.6,2,   8.1171,2,    25.00,     0.07,2,     0.02,2,  28.7852,2,      459
  49UF20180709,KS1806,  5452,  1,     33,  25267,2,20180731,0257, 20.0087, 137.0018, 4719,     74.7,  26.4253,  26.4283,2,  34.8166,2,-999.0000,9,    204.2,2,    203.5,2,     1.14,2,     0.00,2,     0.00,2,     0.03,2,   1973.3,2,   2288.4,2,   8.0890,2,    25.00,     0.15,2,     0.10,2,  26.4283,2,      457
  49UF20180709,KS1806,  5452,  1,     32,  25266,2,20180731,0257, 20.0087, 137.0018, 4719,    100.7,  24.7048,  24.7057,2,  34.9957,2,-999.0000,9,    193.9,2,    193.8,2,     1.37,2,     0.13,2,     0.05,2,     0.08,2,   2003.8,2,   2299.4,2,   8.0508,2,    25.00,     0.27,2,     0.56,2,  24.7057,2,      456
  49UF20180709,KS1806,  5452,  1,     31,  25265,2,20180731,0257, 20.0087, 137.0018, 4719,    126.3,  23.1132,  23.1115,2,  35.0512,2,-999.0000,9,    190.2,2,    190.0,6,     1.65,6,     0.81,6,     0.05,6,     0.12,6,   2017.5,2,   2300.9,2,   8.0225,2,    25.00,     0.08,2,     0.26,2,  23.1115,2,      454
  49UF20180709,KS1806,  5452,  1,     30,  25264,2,20180731,0257, 20.0087, 137.0018, 4719,    152.5,  21.9235,  21.9288,2,  35.0717,2,-999.0000,9,    186.6,2,    185.9,2,     1.95,2,     1.54,2,     0.02,2,     0.16,2,   2031.2,2,   2302.3,2,   7.9994,2,    25.00,     0.04,2,     0.11,2,  21.9288,2,      453
  49UF20180709,KS1806,  5452,  1,     29,  25263,2,20180731,0257, 20.0087, 137.0018, 4719,    202.2,  19.7133,  19.7218,2,  34.9584,2,  34.9594,2,    193.7,2,    193.0,2,     2.61,2,     2.60,2,     0.01,2,     0.20,2,   2042.7,2,   2295.5,2,   7.9730,2,    25.00,     0.01,2,     0.02,2,  19.7218,2,      451
  49UF20180709,KS1806,  5452,  1,     28,  25262,2,20180731,0257, 20.0087, 137.0018, 4719,    251.5,  17.9211,  17.9219,2,  34.8314,2,-999.0000,9,    197.6,2,    197.0,2,     3.76,2,     4.41,2,     0.00,2,     0.31,2,   2049.6,2,   2287.6,2,   7.9456,2,    25.00,  -999.00,9,  -999.00,9,  17.9219,2,      449
  49UF20180709,KS1806,  5452,  1,     27,  25261,2,20180731,0257, 20.0087, 137.0018, 4719,    302.2,  16.8242,  16.8246,2,  34.7421,2,-999.0000,9,    203.2,2,    202.6,2,     4.98,2,     5.66,2,     0.00,2,     0.38,2,   2051.9,2,   2281.4,2,   7.9328,2,    25.00,  -999.00,9,  -999.00,9,  16.8246,2,      447
  49UF20180709,KS1806,  5452,  1,     26,  25260,2,20180731,0257, 20.0087, 137.0018, 4719,    352.5,  15.5925,  15.5937,2,  34.6167,2,-999.0000,9,    193.2,2,    192.9,6,     7.97,6,     8.29,6,     0.00,6,     0.56,6,   2070.2,2,   2276.5,2,   7.8883,2,    25.00,  -999.00,9,  -999.00,9,  15.5937,2,      445
  49UF20180709,KS1806,  5452,  1,     25,  25259,2,20180731,0257, 20.0087, 137.0018, 4719,    404.4,  13.6234,  13.6240,2,  34.4526,2,-999.0000,9,    183.1,2,    182.9,2,    13.78,2,    12.25,2,     0.00,2,     0.85,2,   2094.5,2,   2273.0,2,   7.8238,2,    25.00,  -999.00,9,  -999.00,9,  13.6240,2,      442
  49UF20180709,KS1806,  5452,  1,     24,  25258,2,20180731,0257, 20.0087, 137.0018, 4719,    455.1,  12.1113,  12.1134,2,  34.3511,2,-999.0000,9,    176.3,2,    176.2,2,    20.16,2,    15.44,2,     0.00,2,     1.08,2,   2114.6,2,   2271.1,2,   7.7770,2,    25.00,  -999.00,9,  -999.00,9,  12.1134,2,      440
  49UF20180709,KS1806,  5452,  1,     23,  25257,2,20180731,0257, 20.0087, 137.0018, 4719,    506.0,   9.3287,   9.3293,2,  34.1892,2,-999.0000,9,    149.6,2,    149.7,2,    34.83,2,    22.61,2,     0.00,2,     1.62,2,   2168.1,2,   2276.9,2,   7.6575,2,    25.00,  -999.00,9,  -999.00,9,   9.3293,2,      438
  49UF20180709,KS1806,  5452,  1,     22,  24473,2,20180731,0257, 20.0087, 137.0018, 4719,    606.2,   7.0870,   7.0864,2,  34.1762,2,  34.1779,2,     95.6,2,     95.5,2,    56.84,2,    31.68,2,     0.00,2,     2.30,2,   2237.6,2,   2295.1,2,   7.5097,2,    25.00,  -999.00,9,  -999.00,9,   7.0864,2,      436
  49UF20180709,KS1806,  5452,  1,     21,  25255,2,20180731,0257, 20.0087, 137.0018, 4719,    704.8,   5.8749,   5.8748,2,  34.2199,2,-999.0000,9,     73.8,2,     73.8,2,    75.08,2,    35.84,2,     0.00,2,     2.60,2,   2275.2,2,   2313.0,2,   7.4547,2,    25.00,  -999.00,9,  -999.00,9,   5.8748,2,      433
  49UF20180709,KS1806,  5452,  1,     20,  24270,3,20180731,0257, 20.0087, 137.0018, 4719,    805.5,   4.8064,   4.8080,2,  34.2900,2,-999.0000,9,     61.3,2,     61.3,2,    95.33,2,    38.69,2,     0.00,2,     2.79,2,   2308.1,6,   2335.6,6,   7.4230,2,    25.00,  -999.00,9,  -999.00,9,   4.8080,2,      430
  49UF20180709,KS1806,  5452,  1,     19,  25253,2,20180731,0257, 20.0087, 137.0018, 4719,    906.5,   4.3040,   4.3040,2,  34.3884,2,-999.0000,9,     61.7,2,     61.9,2,   105.96,2,    39.56,2,     0.00,2,     2.84,2,   2322.5,2,   2352.9,2,   7.4325,6,    25.00,  -999.00,9,  -999.00,9,   4.3040,2,      427
  49UF20180709,KS1806,  5452,  1,     18,  25252,2,20180731,0257, 20.0087, 137.0018, 4719,   1006.9,   3.9554,   3.9554,2,  34.4517,2,  34.4522,2,     67.9,2,     67.8,2,   112.88,2,    39.53,2,     0.00,2,     2.84,2,   2322.5,2,   2364.5,2,   7.4460,2,    25.00,  -999.00,9,  -999.00,9,   3.9554,2,      424
  49UF20180709,KS1806,  5452,  1,     17,  25251,3,20180731,0257, 20.0087, 137.0018, 4719,   1209.9,   3.2531,   3.2529,2,  34.5066,2,  34.5057,2,     75.8,2,     75.8,2,   126.05,2,    39.50,2,     0.00,2,     2.83,2,   2335.8,2,   2381.8,2,   7.4607,2,    25.00,  -999.00,9,  -999.00,9,   3.2529,2,      420
  49UF20180709,KS1806,  5452,  1,     16,  25250,2,20180731,0257, 20.0087, 137.0018, 4719,   1411.9,   2.7850,   2.7851,2,  34.5563,2,-999.0000,9,     90.6,2,     90.6,2,   134.45,2,    39.05,2,     0.00,2,     2.78,2,   2344.6,2,   2393.6,2,   7.4882,2,    25.00,  -999.00,9,  -999.00,9,   2.7851,2,      415
  49UF20180709,KS1806,  5452,  1,     15,  25249,2,20180731,0257, 20.0087, 137.0018, 4719,   1618.9,   2.4898,   2.4891,2,  34.5857,2,-999.0000,9,    100.7,2,    100.5,2,   137.95,2,    38.64,2,     0.00,2,     2.74,2,   2339.6,2,   2398.7,2,   7.5055,2,    25.00,  -999.00,9,  -999.00,9,   2.4891,2,      410
  49UF20180709,KS1806,  5452,  1,     14,  25248,2,20180731,0257, 20.0087, 137.0018, 4719,   1823.6,   2.2856,   2.2854,2,  34.6039,2,  34.6038,6,    107.1,2,    106.9,2,   140.53,2,    38.35,2,     0.00,2,     2.71,2,   2339.5,2,   2403.5,2,   7.5156,2,    25.00,  -999.00,9,  -999.00,9,   2.2854,2,      404
  49UF20180709,KS1806,  5452,  1,     13,  25247,2,20180731,0257, 20.0087, 137.0018, 4719,   2020.8,   2.0823,   2.0824,2,  34.6200,2,  34.6190,2,    114.0,2,    113.6,2,   142.47,2,    38.20,2,     0.00,2,     2.69,2,   2341.3,6,   2404.8,6,   7.5263,2,    25.00,  -999.00,9,  -999.00,9,   2.0824,2,      400
  49UF20180709,KS1806,  5452,  1,     12,  25246,2,20180731,0257, 20.0087, 137.0018, 4719,   2275.4,   1.9000,   1.8999,2,  34.6370,2,  34.6375,2,    121.2,2,    121.3,2,   144.92,2,    37.72,2,     0.00,2,     2.65,2,   2342.2,2,   2411.5,2,   7.5366,6,    25.00,  -999.00,9,  -999.00,9,   1.8999,2,      354
  49UF20180709,KS1806,  5452,  1,     11,  25245,2,20180731,0257, 20.0087, 137.0018, 4719,   2532.7,   1.7907,   1.7912,2,  34.6477,2,  34.6478,2,    127.4,2,    127.2,2,   145.80,2,    37.46,2,     0.00,2,     2.63,2,   2338.8,2,   2411.2,2,   7.5466,2,    25.00,  -999.00,9,  -999.00,9,   1.7912,2,      349
  49UF20180709,KS1806,  5452,  1,     10,  25244,2,20180731,0257, 20.0087, 137.0018, 4719,   2785.9,   1.7179,   1.7179,2,  34.6558,2,  34.6558,2,    132.8,2,    132.7,2,   145.61,2,    37.15,2,     0.00,2,     2.60,2,   2335.1,2,   2408.8,2,   7.5567,2,    25.00,  -999.00,9,  -999.00,9,   1.7179,2,      344
  49UF20180709,KS1806,  5452,  1,      9,  25243,2,20180731,0257, 20.0087, 137.0018, 4719,   3042.7,   1.6423,   1.6423,2,  34.6640,2,  34.6640,2,    139.3,2,    139.3,6,   145.16,6,    36.76,6,     0.00,6,     2.57,6,   2335.4,2,   2411.8,2,   7.5670,2,    25.00,  -999.00,9,  -999.00,9,   1.6423,2,      338
  49UF20180709,KS1806,  5452,  1,      8,  25242,2,20180731,0257, 20.0087, 137.0018, 4719,   3294.9,   1.6170,   1.6171,2,  34.6684,2,  34.6687,2,    142.7,2,    143.0,2,   144.85,2,    36.46,2,     0.00,2,     2.55,2,   2329.0,2,   2412.3,2,   7.5737,2,    25.00,  -999.00,9,  -999.00,9,   1.6171,2,      333
  49UF20180709,KS1806,  5452,  1,      7,  25241,2,20180731,0257, 20.0087, 137.0018, 4719,   3548.9,   1.5829,   1.5829,2,  34.6734,2,  34.6740,6,    146.8,2,    146.7,2,   144.18,2,    36.33,2,     0.00,2,     2.53,2,   2330.2,2,   2412.5,2,   7.5777,2,    25.00,  -999.00,9,  -999.00,9,   1.5829,2,      327
  49UF20180709,KS1806,  5452,  1,      6,  25240,2,20180731,0257, 20.0087, 137.0018, 4719,   3807.4,   1.5550,   1.5551,2,  34.6781,2,  34.6786,2,    150.8,2,    150.9,2,   143.49,2,    35.88,2,     0.00,2,     2.50,2,   2322.3,2,   2409.5,2,   7.5851,2,    25.00,  -999.00,9,  -999.00,9,   1.5551,2,      322
  49UF20180709,KS1806,  5452,  1,      5,  25239,2,20180731,0257, 20.0087, 137.0018, 4719,   4063.3,   1.5169,   1.5170,2,  34.6832,2,  34.6834,2,    156.1,2,    156.0,2,   142.15,2,    35.65,2,     0.00,2,     2.47,2,   2324.8,2,   2410.4,2,   7.5893,2,    25.00,  -999.00,9,  -999.00,9,   1.5170,2,      316
  49UF20180709,KS1806,  5452,  1,      4,  25238,2,20180731,0257, 20.0087, 137.0018, 4719,   4320.7,   1.5220,   1.5222,2,  34.6850,2,  34.6857,6,    158.3,2,    158.5,2,   141.62,2,    35.60,2,     0.00,2,     2.47,2,   2319.5,2,   2410.3,2,   7.5944,6,    25.00,  -999.00,9,  -999.00,9,   1.5222,2,      310
  49UF20180709,KS1806,  5452,  1,      3,  24271,2,20180731,0257, 20.0087, 137.0018, 4719,   4575.9,   1.5439,   1.5440,2,  34.6856,2,  34.6843,4,    159.0,2,    158.6,6,   141.33,6,    35.44,6,     0.00,6,     2.47,6,   2315.5,6,   2411.0,6,   7.5958,2,    25.00,  -999.00,9,  -999.00,9,   1.5440,2,      304
  49UF20180709,KS1806,  5452,  1,      1,  24272,2,20180731,0257, 20.0087, 137.0018, 4719,   4820.3,   1.5703,   1.5704,2,  34.6858,2,  34.6854,2,    159.4,2,    159.4,2,   141.06,2,    35.32,2,     0.00,2,     2.46,2,   2317.4,2,   2410.7,2,   7.5952,2,    25.00,  -999.00,9,  -999.00,9,   1.5704,2,      258
  49UF20180709,KS1806,  5452,  1,      2,  25236,2,20180731,0257, 20.0087, 137.0018, 4719,   4820.8,   1.5705,   1.5707,2,  34.6858,2,  34.6850,2,    159.4,2,    159.3,2,   141.18,2,    35.54,2,     0.00,2,     2.46,2,   2315.2,2,   2410.2,2,   7.5945,2,    25.00,  -999.00,9,  -999.00,9,   1.5707,2,      258