BOTTLE,20200311PRINUNIVRMK
EXPOCODE,SECT_ID,STNNBR,CASTNO,SAMPNO,BTLNBR,BTLNBR_FLAG_W,DATE,TIME,LATITUDE,LONGITUDE,DEPTH,CTDPRS,CTDTMP,SBE35,SBE35_FLAG_W,CTDSAL,CTDSAL_FLAG_W,SALNTY,SALNTY_FLAG_W,CTDOXY,CTDOXY_FLAG_W,OXYGEN,OXYGEN_FLAG_W,SILCAT,SILCAT_FLAG_W,NITRAT,NITRAT_FLAG_W,NITRIT,NITRIT_FLAG_W,PHSPHT,PHSPHT_FLAG_W,TCARBN,TCARBN_FLAG_W,ALKALI,ALKALI_FLAG_W,PH_TOT,PH_TOT_FLAG_W,PH_TMP,CHLORA,CHLORA_FLAG_W,PPHYTN,PPHYTN_FLAG_W,SBE35,SBE35_FLAG_W,BTL_TIME
,,,,,,,,,,,METERS,DBAR,ITS-90,,,PSS-78,,PSS-78,,UMOL/KG,,UMOL/KG,,UMOL/KG,,UMOL/KG,,UMOL/KG,,UMOL/KG,,UMOL/KG,,UMOL/KG,,,,DEG C,UG/KG,,UG/KG,,,,
  49UF20180709,KS1806,  5471,  1,     99,     99,2,20180818,2029, 11.0112, 139.9938, 4526,      0.0,  28.8075,-999.0000,9,  33.6884,2,-999.0000,9,    196.9,2,    196.6,2,     1.20,2,     0.00,2,     0.00,2,     0.04,2,   -999.0,9,   -999.0,9,-999.0000,9,  -999.00,  -999.00,9,  -999.00,9,-999.0000,9,     2155
  49UF20180709,KS1806,  5471,  1,     36,  25270,2,20180818,2029, 11.0112, 139.9938, 4526,     10.4,  28.8106,  28.8100,2,  33.6887,2,  33.6901,2,    197.0,2,    196.4,2,     1.19,2,     0.00,2,     0.00,2,     0.03,2,   -999.0,9,   -999.0,9,-999.0000,9,  -999.00,  -999.00,9,  -999.00,9,  28.8100,2,     2232
  49UF20180709,KS1806,  5471,  1,     35,  25269,2,20180818,2029, 11.0112, 139.9938, 4526,     25.2,  28.8138,  28.8145,2,  33.6898,2,  33.6925,2,    196.8,2,    196.6,2,     1.21,2,     0.00,2,     0.00,2,     0.04,2,   -999.0,9,   -999.0,9,-999.0000,9,  -999.00,  -999.00,9,  -999.00,9,  28.8145,2,     2231
  49UF20180709,KS1806,  5471,  1,     34,  25268,2,20180818,2029, 11.0112, 139.9938, 4526,     50.8,  28.5188,  28.5212,2,  34.4989,2,-999.0000,9,    205.8,2,    205.0,2,     1.32,2,     0.00,2,     0.00,2,     0.06,2,   -999.0,9,   -999.0,9,-999.0000,9,  -999.00,  -999.00,9,  -999.00,9,  28.5212,2,     2229
  49UF20180709,KS1806,  5471,  1,     33,  25267,2,20180818,2029, 11.0112, 139.9938, 4526,     77.2,  27.6779,  27.6915,2,  34.8724,2,  34.8713,2,    206.7,2,    205.7,2,     1.14,2,     0.00,2,     0.00,2,     0.06,2,   -999.0,9,   -999.0,9,-999.0000,9,  -999.00,  -999.00,9,  -999.00,9,  27.6915,2,     2227
  49UF20180709,KS1806,  5471,  1,     32,  25266,2,20180818,2029, 11.0112, 139.9938, 4526,     99.2,  25.7590,  25.7654,2,  34.9119,2,-999.0000,9,    194.8,2,    194.8,2,     1.51,2,     0.01,2,     0.00,2,     0.11,2,   -999.0,9,   -999.0,9,-999.0000,9,  -999.00,  -999.00,9,  -999.00,9,  25.7654,2,     2226
  49UF20180709,KS1806,  5471,  1,     31,  25265,2,20180818,2029, 11.0112, 139.9938, 4526,    126.1,  21.8887,  21.8864,2,  34.8576,2,  34.8570,2,    170.5,2,    170.5,2,     3.78,2,     2.66,2,     0.31,2,     0.38,2,   -999.0,9,   -999.0,9,-999.0000,9,  -999.00,  -999.00,9,  -999.00,9,  21.8864,2,     2224
  49UF20180709,KS1806,  5471,  1,     30,  25264,2,20180818,2029, 11.0112, 139.9938, 4526,    152.5,  20.0812,  20.0832,2,  34.8610,2,-999.0000,9,    167.4,2,    167.4,2,     4.40,2,     4.46,2,     0.07,2,     0.47,2,   -999.0,9,   -999.0,9,-999.0000,9,  -999.00,  -999.00,9,  -999.00,9,  20.0832,2,     2222
  49UF20180709,KS1806,  5471,  1,     29,  25263,2,20180818,2029, 11.0112, 139.9938, 4526,    200.3,  14.2431,  14.2695,2,  34.4733,2,  34.4798,2,    178.2,2,    177.8,2,    10.39,2,    10.82,2,     0.00,2,     0.81,2,   -999.0,9,   -999.0,9,-999.0000,9,  -999.00,  -999.00,9,  -999.00,9,  14.2695,2,     2218
  49UF20180709,KS1806,  5471,  1,     28,  25262,2,20180818,2029, 11.0112, 139.9938, 4526,    251.8,  10.5416,  10.5468,2,  34.3473,2,  34.3455,2,    100.3,2,    101.3,2,    28.47,2,    24.69,2,     0.00,2,     1.85,2,   -999.0,9,   -999.0,9,-999.0000,9,  -999.00,  -999.00,9,  -999.00,9,  10.5468,2,     2216
  49UF20180709,KS1806,  5471,  1,     27,  25261,2,20180818,2029, 11.0112, 139.9938, 4526,    302.7,   8.8755,   8.8765,2,  34.4084,2,  34.4043,2,     66.5,2,     66.4,6,    41.36,6,    31.62,6,     0.00,6,     2.31,6,   -999.0,9,   -999.0,9,-999.0000,9,  -999.00,  -999.00,9,  -999.00,9,   8.8765,2,     2214
  49UF20180709,KS1806,  5471,  1,     26,  25260,2,20180818,2029, 11.0112, 139.9938, 4526,    353.1,   8.0185,   8.0184,2,  34.4187,2,  34.4186,2,     68.6,2,     68.6,2,    48.59,2,    33.31,2,     0.00,2,     2.40,2,   -999.0,9,   -999.0,9,-999.0000,9,  -999.00,  -999.00,9,  -999.00,9,   8.0184,2,     2212
  49UF20180709,KS1806,  5471,  1,     25,  25259,2,20180818,2029, 11.0112, 139.9938, 4526,    403.1,   7.4657,   7.4658,2,  34.4484,2,  34.4498,2,     74.6,2,     75.0,2,    52.73,2,    34.04,2,     0.00,2,     2.44,2,   -999.0,9,   -999.0,9,-999.0000,9,  -999.00,  -999.00,9,  -999.00,9,   7.4658,2,     2210
  49UF20180709,KS1806,  5471,  1,     24,  25258,2,20180818,2029, 11.0112, 139.9938, 4526,    455.4,   7.0853,   7.0874,2,  34.4700,2,  34.4694,2,     58.4,2,     58.1,2,    57.74,2,    36.38,2,     0.00,2,     2.61,2,   -999.0,9,   -999.0,9,-999.0000,9,  -999.00,  -999.00,9,  -999.00,9,   7.0874,2,     2208
  49UF20180709,KS1806,  5471,  1,     23,  25257,2,20180818,2029, 11.0112, 139.9938, 4526,    504.9,   6.6834,   6.6832,2,  34.4783,2,  34.4783,2,     60.0,2,     59.8,2,    62.09,2,    36.80,2,     0.00,2,     2.66,2,   -999.0,9,   -999.0,9,-999.0000,9,  -999.00,  -999.00,9,  -999.00,9,   6.6832,2,     2206
  49UF20180709,KS1806,  5471,  1,     22,  24473,2,20180818,2029, 11.0112, 139.9938, 4526,    605.7,   6.0790,   6.0795,2,  34.5044,2,  34.5044,2,     83.8,2,     83.9,2,    66.48,2,    36.38,2,     0.00,2,     2.58,2,   -999.0,9,   -999.0,9,-999.0000,9,  -999.00,  -999.00,9,  -999.00,9,   6.0795,2,     2203
  49UF20180709,KS1806,  5471,  1,     21,  25255,2,20180818,2029, 11.0112, 139.9938, 4526,    706.8,   5.6516,   5.6522,2,  34.5052,2,  34.5049,2,     81.8,2,     81.6,2,    73.65,2,    36.90,2,     0.00,2,     2.64,2,   -999.0,9,   -999.0,9,-999.0000,9,  -999.00,  -999.00,9,  -999.00,9,   5.6522,2,     2200
  49UF20180709,KS1806,  5471,  1,     20,  24270,2,20180818,2029, 11.0112, 139.9938, 4526,    806.8,   5.2240,   5.2243,2,  34.5201,2,  34.5199,2,     80.0,2,     80.0,2,    80.90,2,    37.96,2,     0.00,2,     2.71,2,   -999.0,9,   -999.0,9,-999.0000,9,  -999.00,  -999.00,9,  -999.00,9,   5.2243,2,     2158
  49UF20180709,KS1806,  5471,  1,     19,  25253,2,20180818,2029, 11.0112, 139.9938, 4526,    908.4,   4.8432,   4.8464,2,  34.5374,2,  34.5369,2,     84.1,2,     83.9,2,    87.94,2,    38.27,2,     0.00,2,     2.72,2,   -999.0,9,   -999.0,9,-999.0000,9,  -999.00,  -999.00,9,  -999.00,9,   4.8464,2,     2155
  49UF20180709,KS1806,  5471,  1,     18,  25252,2,20180818,2029, 11.0112, 139.9938, 4526,   1009.5,   4.3274,   4.3293,2,  34.5497,2,  34.5508,2,     84.3,2,     84.6,2,    97.66,2,    38.81,2,     0.00,2,     2.75,2,   -999.0,9,   -999.0,9,-999.0000,9,  -999.00,  -999.00,9,  -999.00,9,   4.3293,2,     2152
  49UF20180709,KS1806,  5471,  1,     17,  25251,2,20180818,2029, 11.0112, 139.9938, 4526,   1211.0,   3.5894,   3.5899,2,  34.5677,2,  34.5674,2,     87.8,2,     87.8,2,   114.37,2,    39.23,2,     0.00,2,     2.78,2,   -999.0,9,   -999.0,9,-999.0000,9,  -999.00,  -999.00,9,  -999.00,9,   3.5899,2,     2147
  49UF20180709,KS1806,  5471,  1,     16,  25250,2,20180818,2029, 11.0112, 139.9938, 4526,   1412.6,   3.0257,   3.0264,2,  34.5879,2,  34.5882,2,     94.7,2,     94.7,2,   125.54,2,    39.23,2,     0.00,2,     2.77,2,   -999.0,9,   -999.0,9,-999.0000,9,  -999.00,  -999.00,9,  -999.00,9,   3.0264,2,     2143
  49UF20180709,KS1806,  5471,  1,     15,  25249,2,20180818,2029, 11.0112, 139.9938, 4526,   1615.2,   2.6362,   2.6367,2,  34.6037,2,  34.6036,2,    101.1,2,    100.9,2,   133.06,2,    38.94,2,     0.00,2,     2.75,2,   -999.0,9,   -999.0,9,-999.0000,9,  -999.00,  -999.00,9,  -999.00,9,   2.6367,2,     2138
  49UF20180709,KS1806,  5471,  1,     14,  25248,2,20180818,2029, 11.0112, 139.9938, 4526,   1818.6,   2.2909,   2.2912,2,  34.6219,2,  34.6222,6,    108.3,2,    108.3,6,   139.84,6,    38.72,6,     0.00,6,     2.72,6,   -999.0,9,   -999.0,9,-999.0000,9,  -999.00,  -999.00,9,  -999.00,9,   2.2912,2,     2133
  49UF20180709,KS1806,  5471,  1,     13,  25247,2,20180818,2029, 11.0112, 139.9938, 4526,   2021.7,   2.1044,   2.1045,2,  34.6349,2,  34.6345,2,    115.4,2,    115.3,2,   141.14,2,    38.38,2,     0.00,2,     2.68,2,   -999.0,9,   -999.0,9,-999.0000,9,  -999.00,  -999.00,9,  -999.00,9,   2.1045,2,     2129
  49UF20180709,KS1806,  5471,  1,     12,  25246,2,20180818,2029, 11.0112, 139.9938, 4526,   2274.1,   1.9037,   1.9038,2,  34.6462,2,  34.6464,2,    120.9,2,    120.7,2,   146.53,2,    38.14,2,     0.00,2,     2.66,2,   -999.0,9,   -999.0,9,-999.0000,9,  -999.00,  -999.00,9,  -999.00,9,   1.9038,2,     2123
  49UF20180709,KS1806,  5471,  1,     11,  25245,2,20180818,2029, 11.0112, 139.9938, 4526,   2528.8,   1.7354,   1.7355,2,  34.6575,2,  34.6576,2,    128.4,2,    128.0,2,   148.81,2,    37.55,2,     0.00,2,     2.62,2,   -999.0,9,   -999.0,9,-999.0000,9,  -999.00,  -999.00,9,  -999.00,9,   1.7355,2,     2118
  49UF20180709,KS1806,  5471,  1,      9,  25243,2,20180818,2029, 11.0112, 139.9938, 4526,   2783.9,   1.6554,   1.6555,2,  34.6642,2,  34.6627,4,    134.2,2,    133.4,2,   146.82,2,    37.36,2,     0.00,2,     2.59,2,   -999.0,9,   -999.0,9,-999.0000,9,  -999.00,  -999.00,9,  -999.00,9,   1.6555,2,     2112
  49UF20180709,KS1806,  5471,  1,     10,  25244,2,20180818,2029, 11.0112, 139.9938, 4526,   2784.7,   1.6554,   1.6555,2,  34.6643,2,  34.6645,2,    134.2,2,    134.2,2,   147.97,2,    37.19,2,     0.00,2,     2.59,2,   -999.0,9,   -999.0,9,-999.0000,9,  -999.00,  -999.00,9,  -999.00,9,   1.6555,2,     2112
  49UF20180709,KS1806,  5471,  1,      8,  25242,2,20180818,2029, 11.0112, 139.9938, 4526,   3038.3,   1.5675,   1.5676,2,  34.6721,2,  34.6707,4,    142.8,2,    142.9,2,   146.24,2,    36.59,2,     0.00,2,     2.54,2,   -999.0,9,   -999.0,9,-999.0000,9,  -999.00,  -999.00,9,  -999.00,9,   1.5676,2,     2106
  49UF20180709,KS1806,  5471,  1,      7,  25241,2,20180818,2029, 11.0112, 139.9938, 4526,   3295.6,   1.5561,   1.5562,2,  34.6746,2,  34.6745,6,    145.3,2,    145.1,6,   145.95,6,    36.50,6,     0.00,6,     2.53,6,   -999.0,9,   -999.0,9,-999.0000,9,  -999.00,  -999.00,9,  -999.00,9,   1.5562,2,     2101
  49UF20180709,KS1806,  5471,  1,      6,  25240,2,20180818,2029, 11.0112, 139.9938, 4526,   3549.1,   1.5073,   1.5073,2,  34.6798,2,  34.6789,2,    150.5,2,    150.8,2,   144.68,2,    36.32,2,     0.00,2,     2.50,2,   -999.0,9,   -999.0,9,-999.0000,9,  -999.00,  -999.00,9,  -999.00,9,   1.5073,2,     2055
  49UF20180709,KS1806,  5471,  1,      5,  25239,2,20180818,2029, 11.0112, 139.9938, 4526,   3805.1,   1.4990,   1.4989,2,  34.6821,2,  34.6805,4,    153.3,2,    152.6,2,   143.77,2,    36.08,2,     0.00,2,     2.49,2,   -999.0,9,   -999.0,9,-999.0000,9,  -999.00,  -999.00,9,  -999.00,9,   1.4989,2,     2049
  49UF20180709,KS1806,  5471,  1,      4,  25238,2,20180818,2029, 11.0112, 139.9938, 4526,   4061.7,   1.5051,   1.5051,2,  34.6835,2,  34.6827,2,    155.4,2,    155.6,2,   143.99,2,    35.75,2,     0.00,2,     2.48,2,   -999.0,9,   -999.0,9,-999.0000,9,  -999.00,  -999.00,9,  -999.00,9,   1.5051,2,     2043
  49UF20180709,KS1806,  5471,  1,      3,  24271,2,20180818,2029, 11.0112, 139.9938, 4526,   4318.3,   1.4567,   1.4568,2,  34.6888,2,  34.6885,2,    162.9,2,    162.9,6,   141.30,6,    35.26,6,     0.00,6,     2.44,6,   -999.0,9,   -999.0,9,-999.0000,9,  -999.00,  -999.00,9,  -999.00,9,   1.4568,2,     2038
  49UF20180709,KS1806,  5471,  1,      2,  25236,2,20180818,2029, 11.0112, 139.9938, 4526,   4574.1,   1.4748,   1.4747,2,  34.6896,2,  34.6894,2,    164.3,2,    164.3,2,   140.37,2,    35.09,2,     0.00,2,     2.43,2,   -999.0,9,   -999.0,9,-999.0000,9,  -999.00,  -999.00,9,  -999.00,9,   1.4747,2,     2032
  49UF20180709,KS1806,  5471,  1,      1,  24272,2,20180818,2029, 11.0112, 139.9938, 4526,   4646.3,   1.4606,   1.4606,2,  34.6913,2,  34.6912,6,    167.0,2,    167.5,2,   139.40,2,    35.11,2,     0.00,2,     2.42,2,   -999.0,9,   -999.0,9,-999.0000,9,  -999.00,  -999.00,9,  -999.00,9,   1.4606,2,     2029