BOTTLE,20200311PRINUNIVRMK
EXPOCODE,SECT_ID,STNNBR,CASTNO,SAMPNO,BTLNBR,BTLNBR_FLAG_W,DATE,TIME,LATITUDE,LONGITUDE,DEPTH,CTDPRS,CTDTMP,SBE35,SBE35_FLAG_W,CTDSAL,CTDSAL_FLAG_W,SALNTY,SALNTY_FLAG_W,CTDOXY,CTDOXY_FLAG_W,OXYGEN,OXYGEN_FLAG_W,SILCAT,SILCAT_FLAG_W,NITRAT,NITRAT_FLAG_W,NITRIT,NITRIT_FLAG_W,PHSPHT,PHSPHT_FLAG_W,TCARBN,TCARBN_FLAG_W,ALKALI,ALKALI_FLAG_W,PH_TOT,PH_TOT_FLAG_W,PH_TMP,CHLORA,CHLORA_FLAG_W,PPHYTN,PPHYTN_FLAG_W,SBE35,SBE35_FLAG_W,BTL_TIME
,,,,,,,,,,,METERS,DBAR,ITS-90,,,PSS-78,,PSS-78,,UMOL/KG,,UMOL/KG,,UMOL/KG,,UMOL/KG,,UMOL/KG,,UMOL/KG,,UMOL/KG,,UMOL/KG,,,,DEG C,UG/KG,,UG/KG,,,,
  49UF20180709,KS1806,  5437,  1,     99,     99,2,20180724,1725, 32.0022, 137.0347, 4142,      0.0,  28.7281,-999.0000,9,  33.6437,2,  33.7891,2,    199.9,2,    200.2,2,     2.03,2,     0.00,2,     0.00,2,     0.02,2,   -999.0,9,   -999.0,9,-999.0000,9,  -999.00,     0.19,2,     0.04,2,-999.0000,9,     1812
  49UF20180709,KS1806,  5437,  1,     36,  25270,3,20180724,1725, 32.0022, 137.0347, 4142,     11.9,  28.0920,  28.0898,2,  34.0608,2,  34.0586,2,    200.9,2,    201.3,2,     1.80,2,     0.00,2,     0.00,2,     0.01,2,   -999.0,9,   -999.0,9,-999.0000,9,  -999.00,     0.11,2,     0.06,2,  28.0898,2,     1834
  49UF20180709,KS1806,  5437,  1,     35,  25269,2,20180724,1725, 32.0022, 137.0347, 4142,     26.9,  26.4914,  26.4810,2,  34.2240,2,-999.0000,9,    206.3,2,    206.6,2,     2.25,2,     0.00,2,     0.00,2,     0.02,2,   -999.0,9,   -999.0,9,-999.0000,9,  -999.00,     0.16,2,     0.10,2,  26.4810,2,     1833
  49UF20180709,KS1806,  5437,  1,     34,  25268,2,20180724,1725, 32.0022, 137.0347, 4142,     51.6,  22.9324,  22.9312,2,  34.1650,2,-999.0000,9,    212.5,2,    212.7,2,     2.20,2,     0.32,2,     0.08,2,     0.09,2,   -999.0,9,   -999.0,9,-999.0000,9,  -999.00,     0.93,2,     0.87,2,  22.9312,2,     1829
  49UF20180709,KS1806,  5437,  1,     33,  25267,2,20180724,1725, 32.0022, 137.0347, 4142,     75.8,  20.3902,  20.3743,2,  34.5722,2,  34.5580,4,    184.0,2,    185.9,2,     6.69,2,     4.66,2,     0.17,2,     0.36,2,   -999.0,9,   -999.0,9,-999.0000,9,  -999.00,     0.21,2,     0.28,2,  20.3743,2,     1827
  49UF20180709,KS1806,  5437,  1,     32,  25266,2,20180724,1725, 32.0022, 137.0347, 4142,    101.8,  19.0319,  19.0319,2,  34.5904,2,-999.0000,9,    182.2,2,    182.5,2,     8.54,2,     6.32,2,     0.07,2,     0.46,2,   -999.0,9,   -999.0,9,-999.0000,9,  -999.00,     0.13,2,     0.18,2,  19.0319,2,     1826
  49UF20180709,KS1806,  5437,  1,     31,  25265,2,20180724,1725, 32.0022, 137.0347, 4142,    128.1,  17.6421,  17.6356,2,  34.6508,2,-999.0000,9,    178.3,2,    178.5,2,    10.39,2,     7.90,2,     0.02,2,     0.57,2,   -999.0,9,   -999.0,9,-999.0000,9,  -999.00,     0.05,2,     0.12,2,  17.6356,2,     1825
  49UF20180709,KS1806,  5437,  1,     27,  25261,2,20180724,1725, 32.0022, 137.0347, 4142,    151.5,  16.4457,  16.4436,2,  34.6231,2,-999.0000,9,    174.7,2,    174.7,2,    13.14,2,     9.66,2,     0.02,2,     0.69,2,   -999.0,9,   -999.0,9,-999.0000,9,  -999.00,     0.03,2,     0.09,2,  16.4436,2,     1823
  49UF20180709,KS1806,  5437,  1,     26,  25260,2,20180724,1725, 32.0022, 137.0347, 4142,    206.4,  14.1409,  14.1663,2,  34.5325,2,-999.0000,9,    169.0,2,    168.8,2,    19.67,2,    13.30,2,     0.01,2,     0.94,2,   -999.0,9,   -999.0,9,-999.0000,9,  -999.00,     0.01,2,     0.06,2,  14.1663,2,     1821
  49UF20180709,KS1806,  5437,  1,     25,  25259,2,20180724,1725, 32.0022, 137.0347, 4142,    253.3,  12.0318,  12.0360,2,  34.4250,2,-999.0000,9,    151.9,2,    151.5,6,    29.81,6,    18.23,6,     0.00,6,     1.30,6,   -999.0,9,   -999.0,9,-999.0000,9,  -999.00,  -999.00,9,  -999.00,9,  12.0360,2,     1819
  49UF20180709,KS1806,  5437,  1,     24,  25258,2,20180724,1725, 32.0022, 137.0347, 4142,    307.8,  10.3112,  10.3128,2,  34.3635,2,  34.3644,2,    134.8,2,    134.3,2,    41.52,2,    22.64,2,     0.00,2,     1.61,2,   -999.0,9,   -999.0,9,-999.0000,9,  -999.00,  -999.00,9,  -999.00,9,  10.3128,2,     1817
  49UF20180709,KS1806,  5437,  1,     23,  25257,2,20180724,1725, 32.0022, 137.0347, 4142,    307.8,  10.3109,  10.3079,2,  34.3637,2,  34.3651,2,    134.8,2,    134.5,2,    41.43,2,    22.52,2,     0.00,2,     1.61,2,   -999.0,9,   -999.0,9,-999.0000,9,  -999.00,  -999.00,9,  -999.00,9,  10.3079,2,     1817
  49UF20180709,KS1806,  5437,  1,     22,  24473,2,20180724,1725, 32.0022, 137.0347, 4142,    410.6,   8.1664,   8.1649,2,  34.3194,2,-999.0000,9,    113.1,2,    113.2,2,    59.80,2,    28.03,2,     0.00,2,     2.02,2,   -999.0,9,   -999.0,9,-999.0000,9,  -999.00,  -999.00,9,  -999.00,9,   8.1649,2,     1812
  49UF20180709,KS1806,  5437,  1,     18,  25252,2,20180724,1725, 32.0022, 137.0347, 4142,    501.9,   5.9058,   5.9062,2,  34.2750,2,  34.2760,2,     86.9,2,     86.9,2,    81.64,2,    34.44,2,     0.00,2,     2.48,2,   -999.0,9,   -999.0,9,-999.0000,9,  -999.00,  -999.00,9,  -999.00,9,   5.9062,2,     1809
  49UF20180709,KS1806,  5437,  1,     17,  25251,2,20180724,1725, 32.0022, 137.0347, 4142,    610.3,   5.0797,   5.0796,2,  34.3079,2,-999.0000,9,     76.6,2,     76.8,2,    96.13,2,    36.70,2,     0.00,2,     2.63,2,   -999.0,9,   -999.0,9,-999.0000,9,  -999.00,  -999.00,9,  -999.00,9,   5.0796,2,     1805
  49UF20180709,KS1806,  5437,  1,     16,  25250,2,20180724,1725, 32.0022, 137.0347, 4142,    709.4,   4.4784,   4.4783,2,  34.3634,2,-999.0000,9,     71.1,2,     71.2,2,   107.56,2,    37.98,2,     0.00,2,     2.72,2,   -999.0,9,   -999.0,9,-999.0000,9,  -999.00,  -999.00,9,  -999.00,9,   4.4783,2,     1802
  49UF20180709,KS1806,  5437,  1,     15,  25249,2,20180724,1725, 32.0022, 137.0347, 4142,    805.5,   3.8877,   3.8867,2,  34.3761,2,-999.0000,9,     63.2,2,     63.9,2,   117.32,2,    39.52,2,     0.00,2,     2.83,2,   -999.0,9,   -999.0,9,-999.0000,9,  -999.00,  -999.00,9,  -999.00,9,   3.8867,2,     1759
  49UF20180709,KS1806,  5437,  1,     14,  25248,2,20180724,1725, 32.0022, 137.0347, 4142,    914.5,   3.4738,   3.4739,2,  34.4161,2,-999.0000,9,     62.3,2,     62.9,2,   126.04,2,    40.34,2,     0.00,2,     2.87,2,   -999.0,9,   -999.0,9,-999.0000,9,  -999.00,  -999.00,9,  -999.00,9,   3.4739,2,     1756
  49UF20180709,KS1806,  5437,  1,     13,  25247,2,20180724,1725, 32.0022, 137.0347, 4142,   1009.1,   3.1957,   3.1955,2,  34.4420,2,  34.4423,2,     63.5,2,     63.8,2,   132.17,2,    40.44,2,     0.00,2,     2.89,2,   -999.0,9,   -999.0,9,-999.0000,9,  -999.00,  -999.00,9,  -999.00,9,   3.1955,2,     1754
  49UF20180709,KS1806,  5437,  1,      9,  25243,2,20180724,1725, 32.0022, 137.0347, 4142,   1217.1,   2.7596,   2.7595,2,  34.4902,2,-999.0000,9,     69.3,2,     69.2,2,   140.58,2,    40.70,2,     0.00,2,     2.89,2,   -999.0,9,   -999.0,9,-999.0000,9,  -999.00,  -999.00,9,  -999.00,9,   2.7595,2,     1746
  49UF20180709,KS1806,  5437,  1,      8,  25242,2,20180724,1725, 32.0022, 137.0347, 4142,   1418.6,   2.4913,   2.4910,2,  34.5261,2,-999.0000,9,     77.3,2,     77.1,6,   144.59,6,    40.29,6,     0.00,6,     2.86,6,   -999.0,9,   -999.0,9,-999.0000,9,  -999.00,  -999.00,9,  -999.00,9,   2.4910,2,     1741
  49UF20180709,KS1806,  5437,  1,      6,  25240,2,20180724,1725, 32.0022, 137.0347, 4142,   1619.1,   2.2445,   2.2445,2,  34.5614,2,-999.0000,9,     88.8,2,     89.0,2,   146.93,2,    39.66,2,     0.00,2,     2.81,2,   -999.0,9,   -999.0,9,-999.0000,9,  -999.00,  -999.00,9,  -999.00,9,   2.2445,2,     1735
  49UF20180709,KS1806,  5437,  1,      7,  25241,2,20180724,1725, 32.0022, 137.0347, 4142,   1619.2,   2.2450,   2.2451,2,  34.5614,2,-999.0000,9,     88.8,2,     88.8,2,   146.88,2,    39.87,2,     0.00,2,     2.81,2,   -999.0,9,   -999.0,9,-999.0000,9,  -999.00,  -999.00,9,  -999.00,9,   2.2451,2,     1735
  49UF20180709,KS1806,  5437,  1,      5,  25239,2,20180724,1725, 32.0022, 137.0347, 4142,   1829.2,   2.0605,   2.0608,2,  34.5889,2,  34.5891,2,     99.7,2,     99.7,2,   147.78,2,    39.27,2,     0.00,2,     2.76,2,   -999.0,9,   -999.0,9,-999.0000,9,  -999.00,  -999.00,9,  -999.00,9,   2.0608,2,     1731
  49UF20180709,KS1806,  5437,  1,      4,  25238,2,20180724,1725, 32.0022, 137.0347, 4142,   2028.0,   1.9347,   1.9349,2,  34.6081,2,  34.6088,6,    108.7,2,    108.6,2,   148.10,2,    38.85,2,     0.00,2,     2.71,2,   -999.0,9,   -999.0,9,-999.0000,9,  -999.00,  -999.00,9,  -999.00,9,   1.9349,2,     1725
  49UF20180709,KS1806,  5440,  1,     99,     99,2,20180725,0355, 30.9845, 137.0078, 4180,      0.0,  28.8906,-999.0000,9,  34.2295,2,-999.0000,9,    198.6,2,    197.5,2,     1.55,2,     0.03,2,     0.00,2,     0.01,2,   -999.0,9,   -999.0,9,-999.0000,9,  -999.00,  -999.00,9,  -999.00,9,-999.0000,9,      428
  49UF20180709,KS1806,  5440,  1,     36,  25270,2,20180725,0355, 30.9845, 137.0078, 4180,     11.5,  28.9504,  28.9465,2,  34.4264,2,-999.0000,9,    198.9,2,    200.0,2,     1.34,2,     0.00,2,     0.00,2,     0.00,2,   -999.0,9,   -999.0,9,-999.0000,9,  -999.00,  -999.00,9,  -999.00,9,  28.9465,2,      458
  49UF20180709,KS1806,  5440,  1,     35,  25269,2,20180725,0355, 30.9845, 137.0078, 4180,     27.0,  27.3010,  27.3024,2,  34.4674,2,-999.0000,9,    204.9,2,    205.9,2,     1.52,2,     0.04,2,     0.00,2,     0.01,2,   -999.0,9,   -999.0,9,-999.0000,9,  -999.00,  -999.00,9,  -999.00,9,  27.3024,2,      457
  49UF20180709,KS1806,  5440,  1,     34,  25268,2,20180725,0355, 30.9845, 137.0078, 4180,     51.2,  24.7874,  24.7965,2,  34.6935,2,-999.0000,9,    219.2,2,    218.8,2,     1.45,2,     0.00,2,     0.00,2,     0.01,2,   -999.0,9,   -999.0,9,-999.0000,9,  -999.00,  -999.00,9,  -999.00,9,  24.7965,2,      453
  49UF20180709,KS1806,  5440,  1,     33,  25267,2,20180725,0355, 30.9845, 137.0078, 4180,     77.4,  22.6394,  22.6431,2,  34.8246,2,-999.0000,9,    207.7,2,    206.9,2,     1.75,2,     0.04,2,     0.00,2,     0.04,2,   -999.0,9,   -999.0,9,-999.0000,9,  -999.00,  -999.00,9,  -999.00,9,  22.6431,2,      451
  49UF20180709,KS1806,  5440,  1,     32,  25266,2,20180725,0355, 30.9845, 137.0078, 4180,    102.2,  21.9158,  21.9157,2,  34.8736,2,-999.0000,9,    197.1,2,    197.1,2,     2.36,2,     1.42,2,     0.15,2,     0.13,2,   -999.0,9,   -999.0,9,-999.0000,9,  -999.00,  -999.00,9,  -999.00,9,  21.9157,2,      450
  49UF20180709,KS1806,  5440,  1,     31,  25265,2,20180725,0355, 30.9845, 137.0078, 4180,    127.3,  21.1237,  21.1222,2,  34.8894,2,-999.0000,9,    196.3,2,    200.5,2,     2.47,2,     1.71,2,     0.09,2,     0.14,2,   -999.0,9,   -999.0,9,-999.0000,9,  -999.00,  -999.00,9,  -999.00,9,  21.1222,2,      449
  49UF20180709,KS1806,  5440,  1,     27,  25261,2,20180725,0355, 30.9845, 137.0078, 4180,    152.6,  20.4414,  20.4410,2,  34.9126,2,-999.0000,9,    208.0,2,    208.1,2,     2.20,2,     1.41,2,     0.03,2,     0.11,2,   -999.0,9,   -999.0,9,-999.0000,9,  -999.00,  -999.00,9,  -999.00,9,  20.4410,2,      447
  49UF20180709,KS1806,  5440,  1,     26,  25260,2,20180725,0355, 30.9845, 137.0078, 4180,    202.6,  19.4306,  19.4311,2,  34.9077,2,-999.0000,9,    206.2,2,    206.1,6,     2.58,6,     2.30,6,     0.01,6,     0.16,6,   -999.0,9,   -999.0,9,-999.0000,9,  -999.00,  -999.00,9,  -999.00,9,  19.4311,2,      445
  49UF20180709,KS1806,  5440,  1,     24,  25258,2,20180725,0355, 30.9845, 137.0078, 4180,    253.3,  18.8578,  18.8570,2,  34.8850,2,-999.0000,9,    204.3,2,    204.0,2,     3.04,2,     3.06,2,     0.01,2,     0.21,2,   -999.0,9,   -999.0,9,-999.0000,9,  -999.00,  -999.00,9,  -999.00,9,  18.8570,2,      443
  49UF20180709,KS1806,  5440,  1,     25,  25259,2,20180725,0355, 30.9845, 137.0078, 4180,    253.7,  18.8557,  18.8559,2,  34.8848,2,-999.0000,9,    204.3,2,    204.1,2,     3.05,2,     3.04,2,     0.01,2,     0.21,2,   -999.0,9,   -999.0,9,-999.0000,9,  -999.00,  -999.00,9,  -999.00,9,  18.8559,2,      443
  49UF20180709,KS1806,  5440,  1,     23,  25257,2,20180725,0355, 30.9845, 137.0078, 4180,    306.0,  17.9218,  17.9218,2,  34.8252,2,-999.0000,9,    200.2,2,    199.9,2,     4.03,2,     4.43,2,     0.00,2,     0.30,2,   -999.0,9,   -999.0,9,-999.0000,9,  -999.00,  -999.00,9,  -999.00,9,  17.9218,2,      441
  49UF20180709,KS1806,  5440,  1,     22,  24473,2,20180725,0355, 30.9845, 137.0078, 4180,    403.7,  16.1060,  16.1056,2,  34.6662,2,-999.0000,9,    193.9,2,    193.2,2,     7.45,2,     7.63,2,     0.00,2,     0.51,2,   -999.0,9,   -999.0,9,-999.0000,9,  -999.00,  -999.00,9,  -999.00,9,  16.1056,2,      438
  49UF20180709,KS1806,  5440,  1,     18,  25252,2,20180725,0355, 30.9845, 137.0078, 4180,    504.4,  13.7130,  13.7143,2,  34.4742,2,-999.0000,9,    177.4,2,    177.3,2,    15.73,2,    12.88,2,     0.00,2,     0.89,2,   -999.0,9,   -999.0,9,-999.0000,9,  -999.00,  -999.00,9,  -999.00,9,  13.7143,2,      435
  49UF20180709,KS1806,  5440,  1,     17,  25251,2,20180725,0355, 30.9845, 137.0078, 4180,    609.1,  10.3767,  10.3770,2,  34.2835,2,-999.0000,9,    153.5,2,    153.2,2,    33.25,2,    20.65,2,     0.00,2,     1.47,2,   -999.0,9,   -999.0,9,-999.0000,9,  -999.00,  -999.00,9,  -999.00,9,  10.3770,2,      432
  49UF20180709,KS1806,  5440,  1,     16,  25250,2,20180725,0355, 30.9845, 137.0078, 4180,    707.7,   7.9775,   7.9775,2,  34.2130,2,-999.0000,9,    123.9,2,    123.2,2,    54.49,2,    27.70,2,     0.00,2,     1.98,2,   -999.0,9,   -999.0,9,-999.0000,9,  -999.00,  -999.00,9,  -999.00,9,   7.9775,2,      430
  49UF20180709,KS1806,  5440,  1,     15,  25249,2,20180725,0355, 30.9845, 137.0078, 4180,    809.7,   6.1119,   6.1050,2,  34.2158,2,-999.0000,9,     92.8,2,     93.5,2,    75.94,2,    33.50,2,     0.00,2,     2.41,2,   -999.0,9,   -999.0,9,-999.0000,9,  -999.00,  -999.00,9,  -999.00,9,   6.1050,2,      427
  49UF20180709,KS1806,  5440,  1,     14,  25248,2,20180725,0355, 30.9845, 137.0078, 4180,    908.9,   5.1453,   5.1453,2,  34.2853,2,-999.0000,9,     77.0,2,     77.9,2,    94.91,2,    36.37,2,     0.00,2,     2.62,2,   -999.0,9,   -999.0,9,-999.0000,9,  -999.00,  -999.00,9,  -999.00,9,   5.1453,2,      424
  49UF20180709,KS1806,  5440,  1,     13,  25247,2,20180725,0355, 30.9845, 137.0078, 4180,   1012.5,   4.2105,   4.2120,2,  34.3480,2,-999.0000,9,     65.4,2,     65.6,2,   111.56,2,    38.77,2,     0.00,2,     2.79,2,   -999.0,9,   -999.0,9,-999.0000,9,  -999.00,  -999.00,9,  -999.00,9,   4.2120,2,      421
  49UF20180709,KS1806,  5440,  1,      9,  25243,2,20180725,0355, 30.9845, 137.0078, 4180,   1213.5,   3.2581,   3.2581,2,  34.4326,2,-999.0000,9,     62.4,2,     62.3,6,   131.46,6,    40.42,6,     0.00,6,     2.89,6,   -999.0,9,   -999.0,9,-999.0000,9,  -999.00,  -999.00,9,  -999.00,9,   3.2581,2,      416
  49UF20180709,KS1806,  5440,  1,      7,  25241,2,20180725,0355, 30.9845, 137.0078, 4180,   1416.6,   2.9100,   2.9097,2,  34.4745,2,-999.0000,9,     66.9,2,     66.9,2,   137.99,2,    40.68,2,     0.00,2,     2.89,2,   -999.0,9,   -999.0,9,-999.0000,9,  -999.00,  -999.00,9,  -999.00,9,   2.9097,2,      410
  49UF20180709,KS1806,  5440,  1,      8,  25242,2,20180725,0355, 30.9845, 137.0078, 4180,   1416.8,   2.9097,   2.9095,2,  34.4745,2,-999.0000,9,     66.9,2,     66.8,2,   138.14,2,    40.45,2,     0.00,2,     2.89,2,   -999.0,9,   -999.0,9,-999.0000,9,  -999.00,  -999.00,9,  -999.00,9,   2.9095,2,      410
  49UF20180709,KS1806,  5440,  1,      6,  25240,2,20180725,0355, 30.9845, 137.0078, 4180,   1621.0,   2.6940,   2.6937,2,  34.5033,2,-999.0000,9,     72.4,2,     72.0,2,   141.76,2,    40.35,2,     0.00,2,     2.87,2,   -999.0,9,   -999.0,9,-999.0000,9,  -999.00,  -999.00,9,  -999.00,9,   2.6937,2,      405
  49UF20180709,KS1806,  5440,  1,      5,  25239,2,20180725,0355, 30.9845, 137.0078, 4180,   1823.9,   2.4841,   2.4842,2,  34.5320,2,-999.0000,9,     79.5,2,     79.1,2,   144.98,2,    40.17,2,     0.00,2,     2.85,2,   -999.0,9,   -999.0,9,-999.0000,9,  -999.00,  -999.00,9,  -999.00,9,   2.4842,2,      400
  49UF20180709,KS1806,  5440,  1,      4,  25238,2,20180725,0355, 30.9845, 137.0078, 4180,   2028.0,   2.2126,   2.2138,2,  34.5705,2,-999.0000,9,     92.0,2,     91.8,2,   147.54,2,    39.57,2,     0.00,2,     2.79,2,   -999.0,9,   -999.0,9,-999.0000,9,  -999.00,  -999.00,9,  -999.00,9,   2.2138,2,      355