BOTTLE,20200311PRINUNIVRMK
EXPOCODE,SECT_ID,STNNBR,CASTNO,SAMPNO,BTLNBR,BTLNBR_FLAG_W,DATE,TIME,LATITUDE,LONGITUDE,DEPTH,CTDPRS,CTDTMP,SBE35,SBE35_FLAG_W,CTDSAL,CTDSAL_FLAG_W,SALNTY,SALNTY_FLAG_W,CTDOXY,CTDOXY_FLAG_W,OXYGEN,OXYGEN_FLAG_W,SILCAT,SILCAT_FLAG_W,NITRAT,NITRAT_FLAG_W,NITRIT,NITRIT_FLAG_W,PHSPHT,PHSPHT_FLAG_W,TCARBN,TCARBN_FLAG_W,ALKALI,ALKALI_FLAG_W,PH_TOT,PH_TOT_FLAG_W,PH_TMP,CHLORA,CHLORA_FLAG_W,PPHYTN,PPHYTN_FLAG_W,SBE35,SBE35_FLAG_W,BTL_TIME
,,,,,,,,,,,METERS,DBAR,ITS-90,,,PSS-78,,PSS-78,,UMOL/KG,,UMOL/KG,,UMOL/KG,,UMOL/KG,,UMOL/KG,,UMOL/KG,,UMOL/KG,,UMOL/KG,,,,DEG C,UG/KG,,UG/KG,,,,
  49UF20180709,KS1806,  5472,  1,     99,     99,2,20180819,0705, 11.0143, 138.9663, 6788,      0.0,  28.9003,-999.0000,9,  33.8715,2,-999.0000,9,    196.8,2,    197.3,2,     1.14,2,     0.00,2,     0.00,2,     0.05,2,   -999.0,9,   -999.0,9,-999.0000,9,  -999.00,  -999.00,9,  -999.00,9,-999.0000,9,      905
  49UF20180709,KS1806,  5472,  1,     36,  25270,2,20180819,0705, 11.0143, 138.9663, 6788,      9.9,  28.9024,  28.9030,2,  33.8711,2,  33.8732,2,    196.8,2,    196.8,2,     1.17,2,     0.00,2,     0.00,2,     0.04,2,   -999.0,9,   -999.0,9,-999.0000,9,  -999.00,  -999.00,9,  -999.00,9,  28.9030,2,      944
  49UF20180709,KS1806,  5472,  1,     35,  25269,2,20180819,0705, 11.0143, 138.9663, 6788,     24.6,  28.9112,  28.9118,2,  33.8783,2,-999.0000,9,    196.8,2,    196.7,2,     1.15,2,     0.00,2,     0.00,2,     0.04,2,   -999.0,9,   -999.0,9,-999.0000,9,  -999.00,  -999.00,9,  -999.00,9,  28.9118,2,      942
  49UF20180709,KS1806,  5472,  1,     34,  25268,2,20180819,0705, 11.0143, 138.9663, 6788,     49.7,  28.6493,  28.6462,2,  34.1637,2,  34.1497,4,    201.9,2,    201.5,2,     1.26,2,     0.00,2,     0.00,2,     0.06,2,   -999.0,9,   -999.0,9,-999.0000,9,  -999.00,  -999.00,9,  -999.00,9,  28.6462,2,      941
  49UF20180709,KS1806,  5472,  1,     33,  25267,2,20180819,0705, 11.0143, 138.9663, 6788,     76.3,  27.1016,  27.1134,2,  34.7568,2,-999.0000,9,    200.9,2,    200.8,2,     1.44,2,     0.00,2,     0.00,2,     0.09,2,   -999.0,9,   -999.0,9,-999.0000,9,  -999.00,  -999.00,9,  -999.00,9,  27.1134,2,      939
  49UF20180709,KS1806,  5472,  1,     32,  25266,2,20180819,0705, 11.0143, 138.9663, 6788,    100.6,  24.9767,  24.9752,2,  34.8062,2,  34.8056,2,    185.4,2,    185.5,2,     2.39,2,     0.25,2,     0.04,2,     0.19,2,   -999.0,9,   -999.0,9,-999.0000,9,  -999.00,  -999.00,9,  -999.00,9,  24.9752,2,      938
  49UF20180709,KS1806,  5472,  1,     31,  25265,2,20180819,0705, 11.0143, 138.9663, 6788,    126.1,  23.3225,  23.3431,2,  35.0052,2,-999.0000,9,    182.0,2,    181.9,2,     2.10,2,     0.35,2,     0.13,2,     0.21,2,   -999.0,9,   -999.0,9,-999.0000,9,  -999.00,  -999.00,9,  -999.00,9,  23.3431,2,      936
  49UF20180709,KS1806,  5472,  1,     30,  25264,2,20180819,0705, 11.0143, 138.9663, 6788,    154.3,  20.0308,  19.9753,2,  34.8949,2,  34.8953,2,    169.5,2,    170.1,2,     3.98,2,     4.24,2,     0.03,2,     0.44,2,   -999.0,9,   -999.0,9,-999.0000,9,  -999.00,  -999.00,9,  -999.00,9,  19.9753,2,      932
  49UF20180709,KS1806,  5472,  1,     29,  25263,2,20180819,0705, 11.0143, 138.9663, 6788,    203.3,  13.6236,  13.5256,2,  34.4109,2,-999.0000,9,    155.8,2,    154.6,2,    13.02,2,    13.62,2,     0.00,2,     1.05,2,   -999.0,9,   -999.0,9,-999.0000,9,  -999.00,  -999.00,9,  -999.00,9,  13.5256,2,      930
  49UF20180709,KS1806,  5472,  1,     28,  25262,2,20180819,0705, 11.0143, 138.9663, 6788,    254.3,  10.0874,  10.0873,2,  34.3543,2,  34.3541,2,     97.0,2,     96.8,6,    31.84,6,    26.46,6,     0.00,6,     1.94,6,   -999.0,9,   -999.0,9,-999.0000,9,  -999.00,  -999.00,9,  -999.00,9,  10.0873,2,      928
  49UF20180709,KS1806,  5472,  1,     27,  25261,2,20180819,0705, 11.0143, 138.9663, 6788,    300.1,   9.3376,   9.3377,2,  34.3772,2,  34.3771,2,     81.7,2,     81.5,2,    37.62,2,    29.51,2,     0.00,2,     2.15,2,   -999.0,9,   -999.0,9,-999.0000,9,  -999.00,  -999.00,9,  -999.00,9,   9.3377,2,      926
  49UF20180709,KS1806,  5472,  1,     26,  25260,2,20180819,0705, 11.0143, 138.9663, 6788,    352.2,   8.7963,   8.7968,2,  34.3971,2,  34.3964,2,     72.9,2,     73.0,2,    41.95,2,    31.32,2,     0.00,2,     2.28,2,   -999.0,9,   -999.0,9,-999.0000,9,  -999.00,  -999.00,9,  -999.00,9,   8.7968,2,      924
  49UF20180709,KS1806,  5472,  1,     25,  25259,2,20180819,0705, 11.0143, 138.9663, 6788,    403.5,   8.0335,   8.0296,2,  34.4207,2,  34.4142,2,     74.4,2,     71.9,2,    48.28,2,    33.27,2,     0.00,2,     2.38,2,   -999.0,9,   -999.0,9,-999.0000,9,  -999.00,  -999.00,9,  -999.00,9,   8.0296,2,      922
  49UF20180709,KS1806,  5472,  1,     24,  25258,2,20180819,0705, 11.0143, 138.9663, 6788,    455.8,   7.5311,   7.5296,2,  34.4371,2,  34.4362,2,     76.1,2,     75.4,2,    52.38,2,    33.77,2,     0.00,2,     2.43,2,   -999.0,9,   -999.0,9,-999.0000,9,  -999.00,  -999.00,9,  -999.00,9,   7.5296,2,      920
  49UF20180709,KS1806,  5472,  1,     23,  25257,2,20180819,0705, 11.0143, 138.9663, 6788,    503.9,   7.0017,   7.0086,2,  34.4639,2,  34.4624,2,     86.0,2,     85.7,2,    55.55,2,    34.28,2,     0.00,2,     2.43,2,   -999.0,9,   -999.0,9,-999.0000,9,  -999.00,  -999.00,9,  -999.00,9,   7.0086,2,      918
  49UF20180709,KS1806,  5472,  1,     22,  24473,2,20180819,0705, 11.0143, 138.9663, 6788,    606.1,   5.9864,   5.9854,2,  34.5018,2,  34.5022,2,     86.7,2,     86.7,2,    66.96,2,    36.29,2,     0.00,2,     2.58,2,   -999.0,9,   -999.0,9,-999.0000,9,  -999.00,  -999.00,9,  -999.00,9,   5.9854,2,      915
  49UF20180709,KS1806,  5472,  1,     21,  25255,2,20180819,0705, 11.0143, 138.9663, 6788,    706.5,   5.3770,   5.3789,2,  34.5132,2,  34.5132,2,     80.3,2,     80.4,2,    78.37,2,    37.91,2,     0.00,2,     2.68,2,   -999.0,9,   -999.0,9,-999.0000,9,  -999.00,  -999.00,9,  -999.00,9,   5.3789,2,      912
  49UF20180709,KS1806,  5472,  1,     20,  24270,2,20180819,0705, 11.0143, 138.9663, 6788,    802.6,   5.0545,   5.0546,2,  34.5245,2,  34.5242,2,     81.4,2,     81.5,2,    84.18,2,    38.11,2,     0.00,2,     2.72,2,   -999.0,9,   -999.0,9,-999.0000,9,  -999.00,  -999.00,9,  -999.00,9,   5.0546,2,      909
  49UF20180709,KS1806,  5472,  1,     19,  25253,2,20180819,0705, 11.0143, 138.9663, 6788,    910.9,   4.6766,   4.6756,2,  34.5346,2,  34.5340,2,     81.7,2,     82.0,2,    91.21,2,    38.49,2,     0.00,2,     2.75,2,   -999.0,9,   -999.0,9,-999.0000,9,  -999.00,  -999.00,9,  -999.00,9,   4.6756,2,      907
  49UF20180709,KS1806,  5472,  1,     18,  25252,2,20180819,0705, 11.0143, 138.9663, 6788,   1008.2,   4.3161,   4.3161,2,  34.5465,2,  34.5465,2,     82.7,2,     82.7,2,    98.68,2,    39.19,2,     0.00,2,     2.77,2,   -999.0,9,   -999.0,9,-999.0000,9,  -999.00,  -999.00,9,  -999.00,9,   4.3161,2,      903
  49UF20180709,KS1806,  5472,  1,     17,  25251,2,20180819,0705, 11.0143, 138.9663, 6788,   1216.5,   3.5875,   3.5888,2,  34.5673,2,  34.5671,2,     88.2,2,     88.1,2,   113.61,2,    39.09,2,     0.00,2,     2.78,2,   -999.0,9,   -999.0,9,-999.0000,9,  -999.00,  -999.00,9,  -999.00,9,   3.5888,2,      858
  49UF20180709,KS1806,  5472,  1,     16,  25250,2,20180819,0705, 11.0143, 138.9663, 6788,   1421.3,   3.0411,   3.0406,2,  34.5887,2,  34.5887,2,     95.5,2,     95.4,2,   124.26,2,    39.25,2,     0.00,2,     2.76,2,   -999.0,9,   -999.0,9,-999.0000,9,  -999.00,  -999.00,9,  -999.00,9,   3.0406,2,      852
  49UF20180709,KS1806,  5472,  1,     15,  25249,2,20180819,0705, 11.0143, 138.9663, 6788,   1622.9,   2.5875,   2.5862,2,  34.6070,2,  34.6068,2,    102.2,2,    102.3,6,   133.78,6,    38.94,6,     0.00,6,     2.75,6,   -999.0,9,   -999.0,9,-999.0000,9,  -999.00,  -999.00,9,  -999.00,9,   2.5862,2,      845
  49UF20180709,KS1806,  5472,  1,     14,  25248,2,20180819,0705, 11.0143, 138.9663, 6788,   1816.2,   2.3191,   2.3193,2,  34.6213,2,  34.6216,2,    108.2,2,    108.3,2,   138.75,2,    38.87,2,     0.00,2,     2.72,2,   -999.0,9,   -999.0,9,-999.0000,9,  -999.00,  -999.00,9,  -999.00,9,   2.3193,2,      840
  49UF20180709,KS1806,  5472,  1,     13,  25247,2,20180819,0705, 11.0143, 138.9663, 6788,   2024.3,   2.0793,   2.0791,2,  34.6355,2,  34.6349,2,    115.2,2,    115.0,2,   142.50,2,    38.14,2,     0.00,2,     2.69,2,   -999.0,9,   -999.0,9,-999.0000,9,  -999.00,  -999.00,9,  -999.00,9,   2.0791,2,      835
  49UF20180709,KS1806,  5472,  1,     12,  25246,2,20180819,0705, 11.0143, 138.9663, 6788,   2277.1,   1.8855,   1.8854,2,  34.6488,2,  34.6490,2,    123.2,2,    123.4,2,   145.13,2,    38.03,2,     0.00,2,     2.65,2,   -999.0,9,   -999.0,9,-999.0000,9,  -999.00,  -999.00,9,  -999.00,9,   1.8854,2,      828
  49UF20180709,KS1806,  5472,  1,     11,  25245,2,20180819,0705, 11.0143, 138.9663, 6788,   2537.8,   1.7330,   1.7326,2,  34.6586,2,  34.6585,2,    129.3,2,    129.5,2,   147.64,2,    37.55,2,     0.00,2,     2.62,2,   -999.0,9,   -999.0,9,-999.0000,9,  -999.00,  -999.00,9,  -999.00,9,   1.7326,2,      822
  49UF20180709,KS1806,  5472,  1,     10,  25244,2,20180819,0705, 11.0143, 138.9663, 6788,   2781.1,   1.6533,   1.6533,2,  34.6651,2,  34.6652,6,    135.2,2,    135.5,2,   147.47,2,    37.33,2,     0.00,2,     2.59,2,   -999.0,9,   -999.0,9,-999.0000,9,  -999.00,  -999.00,9,  -999.00,9,   1.6533,2,      816
  49UF20180709,KS1806,  5472,  1,      9,  25243,2,20180819,0705, 11.0143, 138.9663, 6788,   3042.7,   1.5989,   1.5989,2,  34.6704,2,  34.6706,2,    140.7,2,    140.6,6,   146.46,6,    36.94,6,     0.00,6,     2.56,6,   -999.0,9,   -999.0,9,-999.0000,9,  -999.00,  -999.00,9,  -999.00,9,   1.5989,2,      811
  49UF20180709,KS1806,  5472,  1,      8,  25242,2,20180819,0705, 11.0143, 138.9663, 6788,   3290.4,   1.5473,   1.5473,2,  34.6752,2,  34.6755,2,    146.4,2,    146.6,2,   144.97,2,    36.65,2,     0.00,2,     2.53,2,   -999.0,9,   -999.0,9,-999.0000,9,  -999.00,  -999.00,9,  -999.00,9,   1.5473,2,      805
  49UF20180709,KS1806,  5472,  1,      7,  25241,2,20180819,0705, 11.0143, 138.9663, 6788,   3547.3,   1.5317,   1.5318,2,  34.6781,2,  34.6784,6,    148.3,2,    148.8,2,   145.58,2,    36.40,2,     0.00,2,     2.52,2,   -999.0,9,   -999.0,9,-999.0000,9,  -999.00,  -999.00,9,  -999.00,9,   1.5318,2,      759
  49UF20180709,KS1806,  5472,  1,      6,  25240,2,20180819,0705, 11.0143, 138.9663, 6788,   4058.6,   1.5108,   1.5109,2,  34.6834,2,  34.6818,4,    154.8,2,    155.0,2,   143.67,2,    35.99,2,     0.00,2,     2.48,2,   -999.0,9,   -999.0,9,-999.0000,9,  -999.00,  -999.00,9,  -999.00,9,   1.5109,2,      749
  49UF20180709,KS1806,  5472,  1,      5,  25239,2,20180819,0705, 11.0143, 138.9663, 6788,   4572.6,   1.4833,   1.4833,2,  34.6897,2,  34.6879,4,    164.0,2,    162.5,3,   139.72,2,    35.19,2,     0.00,2,     2.44,2,   -999.0,9,   -999.0,9,-999.0000,9,  -999.00,  -999.00,9,  -999.00,9,   1.4833,2,      739
  49UF20180709,KS1806,  5472,  1,      4,  25238,2,20180819,0705, 11.0143, 138.9663, 6788,   4830.4,   1.4811,   1.4812,2,  34.6920,2,  34.6923,2,    167.9,2,    168.2,2,   137.73,2,    35.20,2,     0.00,2,     2.41,2,   -999.0,9,   -999.0,9,-999.0000,9,  -999.00,  -999.00,9,  -999.00,9,   1.4812,2,      733
  49UF20180709,KS1806,  5472,  1,      3,  24271,2,20180819,0705, 11.0143, 138.9663, 6788,   5084.8,   1.4967,   1.4967,2,  34.6929,2,  34.6934,6,    169.7,2,    169.9,2,   136.80,2,    34.99,2,     0.00,2,     2.41,2,   -999.0,9,   -999.0,9,-999.0000,9,  -999.00,  -999.00,9,  -999.00,9,   1.4967,2,      728
  49UF20180709,KS1806,  5472,  1,      2,  25236,2,20180819,0705, 11.0143, 138.9663, 6788,   5604.8,   1.5492,   1.5492,2,  34.6938,2,  34.6944,2,    171.7,2,    171.5,6,   135.73,6,    34.89,6,     0.00,6,     2.39,6,   -999.0,9,   -999.0,9,-999.0000,9,  -999.00,  -999.00,9,  -999.00,9,   1.5492,2,      717
  49UF20180709,KS1806,  5472,  1,      1,  24272,2,20180819,0705, 11.0143, 138.9663, 6788,   6111.4,   1.6122,   1.6122,2,  34.6941,2,  34.6950,4,    172.7,2,    172.6,2,   135.60,2,    34.70,2,     0.00,2,     2.39,2,   -999.0,9,   -999.0,9,-999.0000,9,  -999.00,  -999.00,9,  -999.00,9,   1.6122,2,      706