BOTTLE,20200311PRINUNIVRMK
EXPOCODE,SECT_ID,STNNBR,CASTNO,SAMPNO,BTLNBR,BTLNBR_FLAG_W,DATE,TIME,LATITUDE,LONGITUDE,DEPTH,CTDPRS,CTDTMP,SBE35,SBE35_FLAG_W,CTDSAL,CTDSAL_FLAG_W,SALNTY,SALNTY_FLAG_W,CTDOXY,CTDOXY_FLAG_W,OXYGEN,OXYGEN_FLAG_W,SILCAT,SILCAT_FLAG_W,NITRAT,NITRAT_FLAG_W,NITRIT,NITRIT_FLAG_W,PHSPHT,PHSPHT_FLAG_W,TCARBN,TCARBN_FLAG_W,ALKALI,ALKALI_FLAG_W,PH_TOT,PH_TOT_FLAG_W,PH_TMP,CHLORA,CHLORA_FLAG_W,PPHYTN,PPHYTN_FLAG_W,SBE35,SBE35_FLAG_W,BTL_TIME
,,,,,,,,,,,METERS,DBAR,ITS-90,,,PSS-78,,PSS-78,,UMOL/KG,,UMOL/KG,,UMOL/KG,,UMOL/KG,,UMOL/KG,,UMOL/KG,,UMOL/KG,,UMOL/KG,,,,DEG C,UG/KG,,UG/KG,,,,
  49UF20180709,KS1806,  5453,  1,     99,     99,2,20180731,1402, 19.0150, 136.9940, 4699,      0.0,  29.5925,-999.0000,9,  34.0797,2,-999.0000,9,    194.2,2,    194.1,2,     1.07,2,     0.00,2,     0.00,2,     0.01,2,   -999.0,9,   -999.0,9,-999.0000,9,  -999.00,  -999.00,9,  -999.00,9,-999.0000,9,     1541
  49UF20180709,KS1806,  5453,  1,     36,  25270,2,20180731,1402, 19.0150, 136.9940, 4699,      9.0,  29.5054,  29.5024,2,  34.2043,2,  34.1680,4,    194.8,2,    194.4,2,     1.05,2,     0.00,2,     0.00,2,     0.00,2,   -999.0,9,   -999.0,9,-999.0000,9,  -999.00,  -999.00,9,  -999.00,9,  29.5024,2,     1609
  49UF20180709,KS1806,  5453,  1,     35,  25269,2,20180731,1402, 19.0150, 136.9940, 4699,     24.7,  29.3981,  29.3974,2,  34.2309,2,-999.0000,9,    195.1,2,    194.7,2,     1.07,2,     0.00,2,     0.00,2,     0.01,2,   -999.0,9,   -999.0,9,-999.0000,9,  -999.00,  -999.00,9,  -999.00,9,  29.3974,2,     1607
  49UF20180709,KS1806,  5453,  1,     34,  25268,2,20180731,1402, 19.0150, 136.9940, 4699,     50.1,  29.3671,  29.3664,2,  34.2662,2,-999.0000,9,    195.5,2,    195.3,2,     1.06,2,     0.00,2,     0.00,2,     0.01,2,   -999.0,9,   -999.0,9,-999.0000,9,  -999.00,  -999.00,9,  -999.00,9,  29.3664,2,     1603
  49UF20180709,KS1806,  5453,  1,     33,  25267,2,20180731,1402, 19.0150, 136.9940, 4699,     74.4,  28.0534,  28.0417,2,  34.5951,2,  34.5920,2,    210.0,2,    209.1,2,     1.06,2,     0.00,2,     0.00,2,     0.01,2,   -999.0,9,   -999.0,9,-999.0000,9,  -999.00,  -999.00,9,  -999.00,9,  28.0417,2,     1602
  49UF20180709,KS1806,  5453,  1,     32,  25266,2,20180731,1402, 19.0150, 136.9940, 4699,     99.7,  26.9043,  26.8973,2,  34.7572,2,-999.0000,9,    203.9,2,    203.4,6,     1.09,6,     0.00,6,     0.00,6,     0.02,6,   -999.0,9,   -999.0,9,-999.0000,9,  -999.00,  -999.00,9,  -999.00,9,  26.8973,2,     1600
  49UF20180709,KS1806,  5453,  1,     31,  25265,2,20180731,1402, 19.0150, 136.9940, 4699,    127.3,  25.0718,  25.0215,2,  34.9974,2,-999.0000,9,    188.3,2,    189.5,2,     1.36,2,     0.01,2,     0.16,2,     0.10,2,   -999.0,9,   -999.0,9,-999.0000,9,  -999.00,  -999.00,9,  -999.00,9,  25.0215,2,     1559
  49UF20180709,KS1806,  5453,  1,     30,  25264,2,20180731,1402, 19.0150, 136.9940, 4699,    150.1,  23.6220,  23.6409,2,  35.0764,2,-999.0000,9,    182.7,2,    182.6,2,     1.72,2,     0.93,2,     0.03,2,     0.16,2,   -999.0,9,   -999.0,9,-999.0000,9,  -999.00,  -999.00,9,  -999.00,9,  23.6409,2,     1558
  49UF20180709,KS1806,  5453,  1,     29,  25263,2,20180731,1402, 19.0150, 136.9940, 4699,    200.4,  20.4102,  20.4106,2,  34.9700,2,-999.0000,9,    196.1,2,    195.6,2,     2.29,2,     2.10,2,     0.01,2,     0.16,2,   -999.0,9,   -999.0,9,-999.0000,9,  -999.00,  -999.00,9,  -999.00,9,  20.4106,2,     1556
  49UF20180709,KS1806,  5453,  1,     28,  25262,2,20180731,1402, 19.0150, 136.9940, 4699,    250.6,  18.2719,  18.2725,2,  34.8580,2,  34.8567,2,    197.4,2,    197.0,2,     3.45,2,     3.93,2,     0.01,2,     0.28,2,   -999.0,9,   -999.0,9,-999.0000,9,  -999.00,  -999.00,9,  -999.00,9,  18.2725,2,     1554
  49UF20180709,KS1806,  5453,  1,     27,  25261,2,20180731,1402, 19.0150, 136.9940, 4699,    302.0,  16.8189,  16.8184,2,  34.7440,2,-999.0000,9,    203.8,2,    203.0,2,     5.02,2,     5.66,2,     0.00,2,     0.37,2,   -999.0,9,   -999.0,9,-999.0000,9,  -999.00,  -999.00,9,  -999.00,9,  16.8184,2,     1552
  49UF20180709,KS1806,  5453,  1,     26,  25260,2,20180731,1402, 19.0150, 136.9940, 4699,    351.4,  15.5622,  15.5619,2,  34.6202,2,-999.0000,9,    197.8,2,    197.3,2,     7.69,2,     8.00,2,     0.00,2,     0.54,2,   -999.0,9,   -999.0,9,-999.0000,9,  -999.00,  -999.00,9,  -999.00,9,  15.5619,2,     1550
  49UF20180709,KS1806,  5453,  1,     25,  25259,3,20180731,1402, 19.0150, 136.9940, 4699,    401.9,  13.5653,  13.5667,2,  34.4418,2,-999.0000,9,    188.5,2,    188.3,2,    13.01,2,    11.88,2,     0.00,2,     0.82,2,   -999.0,9,   -999.0,9,-999.0000,9,  -999.00,  -999.00,9,  -999.00,9,  13.5667,2,     1548
  49UF20180709,KS1806,  5453,  1,     24,  25258,3,20180731,1402, 19.0150, 136.9940, 4699,    452.8,  12.0390,  12.0491,2,  34.3372,2,-999.0000,9,    165.1,2,    164.4,6,    18.91,6,    16.33,6,     0.00,6,     1.18,6,   -999.0,9,   -999.0,9,-999.0000,9,  -999.00,  -999.00,9,  -999.00,9,  12.0491,2,     1547
  49UF20180709,KS1806,  5453,  1,     23,  25257,2,20180731,1402, 19.0150, 136.9940, 4699,    505.7,  10.0543,  10.0541,2,  34.2185,2,-999.0000,9,    156.2,2,    155.9,2,    29.12,2,    20.89,2,     0.00,2,     1.49,2,   -999.0,9,   -999.0,9,-999.0000,9,  -999.00,  -999.00,9,  -999.00,9,  10.0541,2,     1545
  49UF20180709,KS1806,  5453,  1,     22,  24473,2,20180731,1402, 19.0150, 136.9940, 4699,    606.8,   7.6713,   7.6704,2,  34.1609,2,-999.0000,9,    110.8,2,    111.8,2,    48.52,2,    29.09,2,     0.00,2,     2.10,2,   -999.0,9,   -999.0,9,-999.0000,9,  -999.00,  -999.00,9,  -999.00,9,   7.6704,2,     1542
  49UF20180709,KS1806,  5453,  1,     21,  25255,2,20180731,1402, 19.0150, 136.9940, 4699,    704.9,   6.1618,   6.1624,2,  34.2241,2,  34.2245,2,     73.8,2,     73.5,2,    70.87,2,    35.64,2,     0.00,2,     2.58,2,   -999.0,9,   -999.0,9,-999.0000,9,  -999.00,  -999.00,9,  -999.00,9,   6.1624,2,     1539
  49UF20180709,KS1806,  5453,  1,     20,  24270,2,20180731,1402, 19.0150, 136.9940, 4699,    806.2,   5.1002,   5.1009,2,  34.3369,2,-999.0000,9,     62.9,2,     62.7,4,    89.83,2,    38.61,2,     0.00,2,     2.78,2,   -999.0,9,   -999.0,9,-999.0000,9,  -999.00,  -999.00,9,  -999.00,9,   5.1009,2,     1536
  49UF20180709,KS1806,  5453,  1,     19,  25253,2,20180731,1402, 19.0150, 136.9940, 4699,    906.7,   4.5322,   4.5325,2,  34.4348,2,-999.0000,9,     69.3,2,     69.4,2,   101.15,2,    38.79,2,     0.00,2,     2.79,2,   -999.0,9,   -999.0,9,-999.0000,9,  -999.00,  -999.00,9,  -999.00,9,   4.5325,2,     1533
  49UF20180709,KS1806,  5453,  1,     18,  25252,2,20180731,1402, 19.0150, 136.9940, 4699,   1010.0,   4.0138,   4.0130,2,  34.4835,2,  34.4829,6,     74.6,2,     74.7,2,   110.86,2,    39.09,2,     0.00,2,     2.80,2,   -999.0,9,   -999.0,9,-999.0000,9,  -999.00,  -999.00,9,  -999.00,9,   4.0130,2,     1531
  49UF20180709,KS1806,  5453,  1,     17,  25251,2,20180731,1402, 19.0150, 136.9940, 4699,   1212.8,   3.3765,   3.3763,2,  34.5319,2,-999.0000,9,     84.0,2,     84.1,2,   122.71,2,    39.18,2,     0.00,2,     2.79,2,   -999.0,9,   -999.0,9,-999.0000,9,  -999.00,  -999.00,9,  -999.00,9,   3.3763,2,     1526
  49UF20180709,KS1806,  5453,  1,     16,  25250,3,20180731,1402, 19.0150, 136.9940, 4699,   1412.5,   2.9773,   2.9772,2,  34.5636,2,  34.5641,2,     93.3,2,     93.6,2,   129.80,2,    38.89,2,     0.00,2,     2.76,2,   -999.0,9,   -999.0,9,-999.0000,9,  -999.00,  -999.00,9,  -999.00,9,   2.9772,2,     1521
  49UF20180709,KS1806,  5453,  1,     15,  25249,2,20180731,1402, 19.0150, 136.9940, 4699,   1616.1,   2.5992,   2.5992,2,  34.5842,2,-999.0000,9,     98.2,2,     98.4,2,   136.36,2,    39.00,2,     0.00,2,     2.76,2,   -999.0,9,   -999.0,9,-999.0000,9,  -999.00,  -999.00,9,  -999.00,9,   2.5992,2,     1517
  49UF20180709,KS1806,  5453,  1,     14,  25248,2,20180731,1402, 19.0150, 136.9940, 4699,   1821.6,   2.3481,   2.3477,2,  34.6016,2,-999.0000,9,    103.9,2,    104.0,2,   140.37,2,    38.72,2,     0.00,2,     2.74,2,   -999.0,9,   -999.0,9,-999.0000,9,  -999.00,  -999.00,9,  -999.00,9,   2.3477,2,     1512
  49UF20180709,KS1806,  5453,  1,     13,  25247,2,20180731,1402, 19.0150, 136.9940, 4699,   2022.4,   2.1664,   2.1663,2,  34.6153,2,  34.6143,2,    109.9,2,    110.0,2,   142.47,2,    38.60,2,     0.00,2,     2.71,2,   -999.0,9,   -999.0,9,-999.0000,9,  -999.00,  -999.00,9,  -999.00,9,   2.1663,2,     1507
  49UF20180709,KS1806,  5453,  1,     12,  25246,2,20180731,1402, 19.0150, 136.9940, 4699,   2274.2,   1.9375,   1.9375,2,  34.6340,2,  34.6345,2,    119.1,2,    119.1,2,   144.89,2,    37.90,2,     0.00,2,     2.67,2,   -999.0,9,   -999.0,9,-999.0000,9,  -999.00,  -999.00,9,  -999.00,9,   1.9375,2,     1502
  49UF20180709,KS1806,  5453,  1,     11,  25245,2,20180731,1402, 19.0150, 136.9940, 4699,   2531.4,   1.7819,   1.7821,2,  34.6483,2,  34.6485,2,    127.7,2,    127.6,2,   146.10,2,    37.78,2,     0.00,2,     2.63,2,   -999.0,9,   -999.0,9,-999.0000,9,  -999.00,  -999.00,9,  -999.00,9,   1.7821,2,     1456
  49UF20180709,KS1806,  5453,  1,     10,  25244,2,20180731,1402, 19.0150, 136.9940, 4699,   2783.8,   1.6947,   1.6949,2,  34.6575,2,  34.6578,2,    134.3,2,    134.4,6,   145.85,6,    37.28,6,     0.00,6,     2.60,6,   -999.0,9,   -999.0,9,-999.0000,9,  -999.00,  -999.00,9,  -999.00,9,   1.6949,2,     1450
  49UF20180709,KS1806,  5453,  1,      9,  25243,2,20180731,1402, 19.0150, 136.9940, 4699,   3039.4,   1.6318,   1.6319,2,  34.6650,2,  34.6649,2,    139.9,2,    140.1,2,   145.26,2,    36.85,2,     0.00,2,     2.58,2,   -999.0,9,   -999.0,9,-999.0000,9,  -999.00,  -999.00,9,  -999.00,9,   1.6319,2,     1444
  49UF20180709,KS1806,  5453,  1,      8,  25242,2,20180731,1402, 19.0150, 136.9940, 4699,   3296.1,   1.5895,   1.5896,2,  34.6711,2,  34.6714,6,    144.2,2,    144.2,2,   145.02,2,    36.49,2,     0.00,2,     2.55,2,   -999.0,9,   -999.0,9,-999.0000,9,  -999.00,  -999.00,9,  -999.00,9,   1.5896,2,     1438
  49UF20180709,KS1806,  5453,  1,      7,  25241,2,20180731,1402, 19.0150, 136.9940, 4699,   3550.5,   1.5557,   1.5557,2,  34.6761,2,  34.6762,2,    148.3,2,    148.3,2,   144.40,2,    36.40,2,     0.00,2,     2.54,2,   -999.0,9,   -999.0,9,-999.0000,9,  -999.00,  -999.00,9,  -999.00,9,   1.5557,2,     1432
  49UF20180709,KS1806,  5453,  1,      6,  25240,2,20180731,1402, 19.0150, 136.9940, 4699,   3807.2,   1.5288,   1.5288,2,  34.6801,2,  34.6804,2,    152.5,2,    153.1,2,   143.52,2,    35.86,2,     0.00,2,     2.51,2,   -999.0,9,   -999.0,9,-999.0000,9,  -999.00,  -999.00,9,  -999.00,9,   1.5288,2,     1426
  49UF20180709,KS1806,  5453,  1,      5,  25239,2,20180731,1402, 19.0150, 136.9940, 4699,   4064.2,   1.5022,   1.5022,2,  34.6844,2,  34.6838,2,    157.3,2,    157.0,2,   142.01,2,    35.77,2,     0.00,2,     2.48,2,   -999.0,9,   -999.0,9,-999.0000,9,  -999.00,  -999.00,9,  -999.00,9,   1.5022,2,     1420
  49UF20180709,KS1806,  5453,  1,      4,  25238,2,20180731,1402, 19.0150, 136.9940, 4699,   4323.1,   1.5159,   1.5159,2,  34.6855,2,  34.6859,2,    158.8,2,    158.9,6,   141.77,6,    35.65,6,     0.00,6,     2.47,6,   -999.0,9,   -999.0,9,-999.0000,9,  -999.00,  -999.00,9,  -999.00,9,   1.5159,2,     1415
  49UF20180709,KS1806,  5453,  1,      3,  24271,2,20180731,1402, 19.0150, 136.9940, 4699,   4575.7,   1.5402,   1.5402,2,  34.6858,2,  34.6857,6,    159.2,2,    159.0,2,   141.38,2,    35.60,2,     0.00,2,     2.47,2,   -999.0,9,   -999.0,9,-999.0000,9,  -999.00,  -999.00,9,  -999.00,9,   1.5402,2,     1408
  49UF20180709,KS1806,  5453,  1,      1,  24272,2,20180731,1402, 19.0150, 136.9940, 4699,   4823.5,   1.5693,   1.5693,2,  34.6859,2,  34.6865,2,    159.4,2,    159.4,2,   141.44,2,    35.57,2,     0.00,2,     2.47,2,   -999.0,9,   -999.0,9,-999.0000,9,  -999.00,  -999.00,9,  -999.00,9,   1.5693,2,     1402
  49UF20180709,KS1806,  5453,  1,      2,  25236,2,20180731,1402, 19.0150, 136.9940, 4699,   4823.7,   1.5693,   1.5694,2,  34.6859,2,  34.6862,2,    159.4,2,    159.8,2,   141.22,2,    35.50,2,     0.00,2,     2.48,2,   -999.0,9,   -999.0,9,-999.0000,9,  -999.00,  -999.00,9,  -999.00,9,   1.5694,2,     1402