BOTTLE,20200311PRINUNIVRMK
EXPOCODE,SECT_ID,STNNBR,CASTNO,SAMPNO,BTLNBR,BTLNBR_FLAG_W,DATE,TIME,LATITUDE,LONGITUDE,DEPTH,CTDPRS,CTDTMP,SBE35,SBE35_FLAG_W,CTDSAL,CTDSAL_FLAG_W,SALNTY,SALNTY_FLAG_W,CTDOXY,CTDOXY_FLAG_W,OXYGEN,OXYGEN_FLAG_W,SILCAT,SILCAT_FLAG_W,NITRAT,NITRAT_FLAG_W,NITRIT,NITRIT_FLAG_W,PHSPHT,PHSPHT_FLAG_W,TCARBN,TCARBN_FLAG_W,ALKALI,ALKALI_FLAG_W,PH_TOT,PH_TOT_FLAG_W,PH_TMP,CHLORA,CHLORA_FLAG_W,PPHYTN,PPHYTN_FLAG_W,SBE35,SBE35_FLAG_W,BTL_TIME
,,,,,,,,,,,METERS,DBAR,ITS-90,,,PSS-78,,PSS-78,,UMOL/KG,,UMOL/KG,,UMOL/KG,,UMOL/KG,,UMOL/KG,,UMOL/KG,,UMOL/KG,,UMOL/KG,,,,DEG C,UG/KG,,UG/KG,,,,
  49UF20180709,KS1806,  5446,  1,     99,     99,2,20180728,1857, 25.9975, 137.0080, 5556,      0.0,  28.8554,-999.0000,9,  34.8382,2,-999.0000,9,    194.8,2,    196.0,2,     1.30,2,     0.07,2,     0.00,2,     0.03,2,   -999.0,9,   -999.0,9,-999.0000,9,  -999.00,     0.04,2,     0.01,2,-999.0000,9,     1936
  49UF20180709,KS1806,  5446,  1,     36,  25270,2,20180728,1857, 25.9975, 137.0080, 5556,     10.5,  28.8313,  28.8193,2,  34.8356,2,-999.0000,9,    195.0,2,    196.1,2,     1.30,2,     0.00,2,     0.00,2,     0.01,2,   -999.0,9,   -999.0,9,-999.0000,9,  -999.00,     0.04,2,     0.01,2,  28.8193,2,     1958
  49UF20180709,KS1806,  5446,  1,     35,  25269,2,20180728,1857, 25.9975, 137.0080, 5556,     26.1,  28.7381,  28.7389,2,  34.8299,2,-999.0000,9,    195.5,2,    196.9,2,     1.28,2,     0.00,2,     0.00,2,     0.01,2,   -999.0,9,   -999.0,9,-999.0000,9,  -999.00,     0.04,2,     0.01,2,  28.7389,2,     1956
  49UF20180709,KS1806,  5446,  1,     34,  25268,2,20180728,1857, 25.9975, 137.0080, 5556,     50.6,  26.1733,  26.1787,2,  34.7253,2,-999.0000,9,    212.4,2,    213.6,2,     1.38,2,     0.00,2,     0.00,2,     0.00,2,   -999.0,9,   -999.0,9,-999.0000,9,  -999.00,     0.06,2,     0.03,2,  26.1787,2,     1953
  49UF20180709,KS1806,  5446,  1,     32,  25266,2,20180728,1857, 25.9975, 137.0080, 5556,     75.3,  23.9624,  23.9456,2,  34.9064,2,-999.0000,9,    222.0,2,    223.1,2,     1.49,2,     0.00,2,     0.00,2,     0.01,2,   -999.0,9,   -999.0,9,-999.0000,9,  -999.00,     0.09,2,     0.05,2,  23.9456,2,     1951
  49UF20180709,KS1806,  5446,  1,     33,  25267,2,20180728,1857, 25.9975, 137.0080, 5556,     75.6,  23.9404,  23.9563,2,  34.9106,2,-999.0000,9,    223.1,2,    222.8,2,     1.47,2,     0.00,2,     0.00,2,     0.01,2,   -999.0,9,   -999.0,9,-999.0000,9,  -999.00,  -999.00,9,  -999.00,9,  23.9563,2,     1951
  49UF20180709,KS1806,  5446,  1,     31,  25265,2,20180728,1857, 25.9975, 137.0080, 5556,    100.4,  21.1281,  21.1302,2,  34.9486,2,-999.0000,9,    221.8,2,    221.6,2,     1.74,2,     0.01,2,     0.00,2,     0.02,2,   -999.0,9,   -999.0,9,-999.0000,9,  -999.00,     0.18,2,     0.17,2,  21.1302,2,     1950
  49UF20180709,KS1806,  5446,  1,     27,  25261,2,20180728,1857, 25.9975, 137.0080, 5556,    126.4,  20.0909,  20.0916,2,  34.9430,2,-999.0000,9,    213.9,2,    214.1,2,     2.02,2,     0.45,2,     0.08,2,     0.07,2,   -999.0,9,   -999.0,9,-999.0000,9,  -999.00,     0.17,2,     0.43,2,  20.0916,2,     1948
  49UF20180709,KS1806,  5446,  1,     26,  25260,2,20180728,1857, 25.9975, 137.0080, 5556,    151.5,  19.8473,  19.8471,2,  34.9339,2,-999.0000,9,    211.4,2,    211.5,2,     2.19,2,     1.03,2,     0.04,2,     0.10,2,   -999.0,9,   -999.0,9,-999.0000,9,  -999.00,     0.09,2,     0.32,2,  19.8471,2,     1947
  49UF20180709,KS1806,  5446,  1,     25,  25259,2,20180728,1857, 25.9975, 137.0080, 5556,    200.5,  19.1710,  19.1743,2,  34.9046,2,-999.0000,9,    207.6,2,    207.7,2,     2.65,2,     2.35,2,     0.01,2,     0.17,2,   -999.0,9,   -999.0,9,-999.0000,9,  -999.00,     0.02,2,     0.04,2,  19.1743,2,     1945
  49UF20180709,KS1806,  5446,  1,     24,  25258,2,20180728,1857, 25.9975, 137.0080, 5556,    252.1,  18.1889,  18.1908,2,  34.8450,2,-999.0000,9,    201.1,2,    201.3,2,     3.66,2,     3.97,2,     0.00,2,     0.27,2,   -999.0,9,   -999.0,9,-999.0000,9,  -999.00,  -999.00,9,  -999.00,9,  18.1908,2,     1943
  49UF20180709,KS1806,  5446,  1,     23,  25257,2,20180728,1857, 25.9975, 137.0080, 5556,    301.0,  17.7115,  17.7141,2,  34.8141,2,-999.0000,9,    201.4,2,    201.7,6,     4.06,6,     4.52,6,     0.00,6,     0.31,6,   -999.0,9,   -999.0,9,-999.0000,9,  -999.00,  -999.00,9,  -999.00,9,  17.7141,2,     1941
  49UF20180709,KS1806,  5446,  1,     22,  24473,2,20180728,1857, 25.9975, 137.0080, 5556,    405.5,  15.9421,  15.9459,2,  34.6682,2,-999.0000,9,    201.5,2,    201.6,2,     7.04,2,     7.06,2,     0.00,2,     0.48,2,   -999.0,9,   -999.0,9,-999.0000,9,  -999.00,  -999.00,9,  -999.00,9,  15.9459,2,     1938
  49UF20180709,KS1806,  5446,  1,     18,  25252,2,20180728,1857, 25.9975, 137.0080, 5556,    505.1,  12.8062,  12.8082,2,  34.4037,2,-999.0000,9,    178.6,2,    179.2,2,    17.98,2,    14.10,2,     0.00,2,     0.99,2,   -999.0,9,   -999.0,9,-999.0000,9,  -999.00,  -999.00,9,  -999.00,9,  12.8082,2,     1936
  49UF20180709,KS1806,  5446,  1,     17,  25251,2,20180728,1857, 25.9975, 137.0080, 5556,    606.6,   9.8344,   9.8369,2,  34.2328,2,-999.0000,9,    154.0,2,    154.2,6,    34.74,6,    21.60,6,     0.00,6,     1.53,6,   -999.0,9,   -999.0,9,-999.0000,9,  -999.00,  -999.00,9,  -999.00,9,   9.8369,2,     1933
  49UF20180709,KS1806,  5446,  1,     16,  25250,3,20180728,1857, 25.9975, 137.0080, 5556,    705.1,   7.8027,   7.8264,2,  34.1666,2,-999.0000,9,    127.0,2,    129.0,2,    52.77,2,    27.62,2,     0.00,2,     1.98,2,   -999.0,9,   -999.0,9,-999.0000,9,  -999.00,  -999.00,9,  -999.00,9,   7.8264,2,     1930
  49UF20180709,KS1806,  5446,  1,     15,  25249,2,20180728,1857, 25.9975, 137.0080, 5556,    706.0,   7.7419,   7.7330,2,  34.1667,2,-999.0000,9,    126.1,2,    127.4,2,    52.78,2,    27.69,2,     0.00,2,     1.98,2,   -999.0,9,   -999.0,9,-999.0000,9,  -999.00,  -999.00,9,  -999.00,9,   7.7330,2,     1930
  49UF20180709,KS1806,  5446,  1,     14,  25248,2,20180728,1857, 25.9975, 137.0080, 5556,    805.5,   5.7824,   5.7804,2,  34.1565,2,-999.0000,9,     94.0,2,     93.4,2,    78.85,2,    34.21,2,     0.00,2,     2.46,2,   -999.0,9,   -999.0,9,-999.0000,9,  -999.00,  -999.00,9,  -999.00,9,   5.7804,2,     1927
  49UF20180709,KS1806,  5446,  1,     13,  25247,2,20180728,1857, 25.9975, 137.0080, 5556,    908.0,   4.7809,   4.7805,2,  34.2240,2,-999.0000,9,     70.9,2,     71.0,2,    97.04,2,    37.71,2,     0.00,2,     2.71,2,   -999.0,9,   -999.0,9,-999.0000,9,  -999.00,  -999.00,9,  -999.00,9,   4.7805,2,     1924
  49UF20180709,KS1806,  5446,  1,      9,  25243,2,20180728,1857, 25.9975, 137.0080, 5556,   1010.1,   4.0386,   4.0385,2,  34.3048,2,-999.0000,9,     58.2,2,     58.3,2,   113.57,2,    39.80,2,     0.00,2,     2.86,2,   -999.0,9,   -999.0,9,-999.0000,9,  -999.00,  -999.00,9,  -999.00,9,   4.0385,2,     1921
  49UF20180709,KS1806,  5446,  1,      8,  25242,2,20180728,1857, 25.9975, 137.0080, 5556,   1213.5,   3.1701,   3.1705,2,  34.4324,2,-999.0000,9,     60.3,2,     60.2,2,   132.91,2,    40.78,2,     0.00,2,     2.91,2,   -999.0,9,   -999.0,9,-999.0000,9,  -999.00,  -999.00,9,  -999.00,9,   3.1705,2,     1916
  49UF20180709,KS1806,  5446,  1,      7,  25241,2,20180728,1857, 25.9975, 137.0080, 5556,   1416.0,   2.7482,   2.7481,2,  34.4915,2,-999.0000,9,     69.4,2,     70.2,2,   140.58,2,    40.54,2,     0.00,2,     2.90,2,   -999.0,9,   -999.0,9,-999.0000,9,  -999.00,  -999.00,9,  -999.00,9,   2.7481,2,     1912
  49UF20180709,KS1806,  5446,  1,      6,  25240,2,20180728,1857, 25.9975, 137.0080, 5556,   1620.9,   2.3546,   2.3548,2,  34.5486,2,-999.0000,9,     84.9,2,     85.6,2,   145.66,2,    39.88,2,     0.00,2,     2.82,2,   -999.0,9,   -999.0,9,-999.0000,9,  -999.00,  -999.00,9,  -999.00,9,   2.3548,2,     1907
  49UF20180709,KS1806,  5446,  1,      5,  25239,2,20180728,1857, 25.9975, 137.0080, 5556,   1822.7,   2.1782,   2.1784,2,  34.5842,2,-999.0000,9,    100.0,2,    100.0,2,   145.12,2,    39.05,2,     0.00,2,     2.76,2,   -999.0,9,   -999.0,9,-999.0000,9,  -999.00,  -999.00,9,  -999.00,9,   2.1784,2,     1902
  49UF20180709,KS1806,  5446,  1,      4,  25238,2,20180728,1857, 25.9975, 137.0080, 5556,   2024.2,   1.9952,   1.9952,2,  34.6118,2,-999.0000,9,    112.8,2,    112.9,2,   144.85,2,    38.31,2,     0.00,2,     2.69,2,   -999.0,9,   -999.0,9,-999.0000,9,  -999.00,  -999.00,9,  -999.00,9,   1.9952,2,     1858
  49UF20180709,KS1806,  5447,  1,     99,     99,2,20180729,0238, 25.0052, 137.0007, 4983,      0.0,  29.2633,-999.0000,9,  34.5719,2,  34.5741,2,    194.1,2,    194.9,2,     1.06,2,     0.04,2,     0.00,2,     0.02,2,   1943.5,2,   2272.2,2,   8.1113,2,    25.00,     0.04,2,     0.01,2,-999.0000,9,      305
  49UF20180709,KS1806,  5447,  1,     36,  25270,2,20180729,0238, 25.0052, 137.0007, 4983,      9.7,  29.1984,  29.2004,2,  34.5710,2,-999.0000,9,    194.0,2,    194.9,2,     1.05,2,     0.00,2,     0.00,2,     0.00,2,   -999.0,9,   -999.0,9,-999.0000,9,  -999.00,     0.04,2,     0.02,2,  29.2004,2,      343
  49UF20180709,KS1806,  5447,  1,     35,  25269,2,20180729,0238, 25.0052, 137.0007, 4983,     24.8,  29.0958,  29.0973,2,  34.5720,2,-999.0000,9,    194.2,2,    195.3,6,     1.05,6,     0.00,6,     0.00,6,     0.01,6,   -999.0,9,   -999.0,9,-999.0000,9,  -999.00,     0.05,2,     0.02,2,  29.0973,2,      342
  49UF20180709,KS1806,  5447,  1,     33,  25267,2,20180729,0238, 25.0052, 137.0007, 4983,     49.1,  26.8203,  26.8206,2,  34.8019,2,-999.0000,9,    217.7,2,    217.5,2,     1.10,2,     0.00,2,     0.00,2,     0.00,2,   -999.0,9,   -999.0,9,-999.0000,9,  -999.00,     0.07,2,     0.03,2,  26.8206,2,      337
  49UF20180709,KS1806,  5447,  1,     34,  25268,2,20180729,0238, 25.0052, 137.0007, 4983,     49.4,  26.8219,  26.8209,2,  34.8022,2,-999.0000,9,    217.6,2,    217.2,2,     1.09,2,     0.00,2,     0.00,2,     0.00,2,   -999.0,9,   -999.0,9,-999.0000,9,  -999.00,  -999.00,9,  -999.00,9,  26.8209,2,      337
  49UF20180709,KS1806,  5447,  1,     32,  25266,2,20180729,0238, 25.0052, 137.0007, 4983,     76.0,  24.6960,  24.6974,2,  34.9380,2,-999.0000,9,    215.8,2,    216.1,2,     1.23,2,     0.00,2,     0.00,2,     0.00,2,   -999.0,9,   -999.0,9,-999.0000,9,  -999.00,     0.13,2,     0.07,2,  24.6974,2,      336
  49UF20180709,KS1806,  5447,  1,     31,  25265,2,20180729,0238, 25.0052, 137.0007, 4983,    102.1,  23.2627,  23.2640,2,  34.9886,2,-999.0000,9,    211.2,2,    211.1,2,     1.38,2,     0.00,2,     0.00,2,     0.01,2,   -999.0,9,   -999.0,9,-999.0000,9,  -999.00,     0.26,2,     0.22,2,  23.2640,2,      334
  49UF20180709,KS1806,  5447,  1,     27,  25261,2,20180729,0238, 25.0052, 137.0007, 4983,    126.3,  21.6959,  21.6961,2,  34.9891,2,-999.0000,9,    210.6,2,    210.4,2,     1.67,2,     0.01,2,     0.07,2,     0.04,2,   -999.0,9,   -999.0,9,-999.0000,9,  -999.00,     0.14,2,     0.30,2,  21.6961,2,      332
  49UF20180709,KS1806,  5447,  1,     26,  25260,2,20180729,0238, 25.0052, 137.0007, 4983,    150.8,  20.5171,  20.5161,2,  34.9716,2,-999.0000,9,    202.2,2,    202.3,2,     2.08,2,     1.02,2,     0.08,2,     0.10,2,   -999.0,9,   -999.0,9,-999.0000,9,  -999.00,     0.06,2,     0.20,2,  20.5161,2,      331
  49UF20180709,KS1806,  5447,  1,     25,  25259,2,20180729,0238, 25.0052, 137.0007, 4983,    201.1,  19.2514,  19.2518,2,  34.9119,2,-999.0000,9,    203.3,2,    203.5,2,     2.62,2,     2.35,2,     0.01,2,     0.17,2,   -999.0,9,   -999.0,9,-999.0000,9,  -999.00,     0.02,2,     0.08,2,  19.2518,2,      329
  49UF20180709,KS1806,  5447,  1,     24,  25258,2,20180729,0238, 25.0052, 137.0007, 4983,    252.5,  17.7860,  17.7846,2,  34.8118,2,-999.0000,9,    195.8,2,    196.1,2,     3.94,2,     4.78,2,     0.00,2,     0.32,2,   -999.0,9,   -999.0,9,-999.0000,9,  -999.00,  -999.00,9,  -999.00,9,  17.7846,2,      327
  49UF20180709,KS1806,  5447,  1,     23,  25257,3,20180729,0238, 25.0052, 137.0007, 4983,    303.4,  16.7084,  16.7063,2,  34.7171,2,-999.0000,9,    195.7,2,    195.8,2,     5.44,2,     6.28,2,     0.00,2,     0.43,2,   -999.0,9,   -999.0,9,-999.0000,9,  -999.00,  -999.00,9,  -999.00,9,  16.7063,2,      325
  49UF20180709,KS1806,  5447,  1,     22,  24473,2,20180729,0238, 25.0052, 137.0007, 4983,    403.6,  14.3741,  14.3743,2,  34.5160,2,-999.0000,9,    188.8,2,    189.2,2,    11.55,2,    10.64,2,     0.00,2,     0.72,2,   -999.0,9,   -999.0,9,-999.0000,9,  -999.00,  -999.00,9,  -999.00,9,  14.3743,2,      322
  49UF20180709,KS1806,  5447,  1,     18,  25252,2,20180729,0238, 25.0052, 137.0007, 4983,    503.9,  11.2063,  11.2102,2,  34.2783,2,-999.0000,9,    176.2,2,    175.5,6,    22.67,6,    17.04,6,     0.00,6,     1.20,6,   -999.0,9,   -999.0,9,-999.0000,9,  -999.00,  -999.00,9,  -999.00,9,  11.2102,2,      319
  49UF20180709,KS1806,  5447,  1,     17,  25251,3,20180729,0238, 25.0052, 137.0007, 4983,    603.8,   8.4299,   8.4304,2,  34.1307,2,-999.0000,9,    144.1,2,    143.9,2,    40.29,2,    24.89,2,     0.00,2,     1.78,2,   -999.0,9,   -999.0,9,-999.0000,9,  -999.00,  -999.00,9,  -999.00,9,   8.4304,2,      316
  49UF20180709,KS1806,  5447,  1,     16,  25250,2,20180729,0238, 25.0052, 137.0007, 4983,    603.8,   8.4285,   8.4287,2,  34.1306,2,-999.0000,9,    144.1,2,    143.8,2,    40.32,2,    24.90,2,     0.00,2,     1.78,2,   -999.0,9,   -999.0,9,-999.0000,9,  -999.00,  -999.00,9,  -999.00,9,   8.4287,2,      316
  49UF20180709,KS1806,  5447,  1,     15,  25249,2,20180729,0238, 25.0052, 137.0007, 4983,    704.9,   6.8247,   6.8182,2,  34.1293,2,-999.0000,9,    115.9,2,    115.9,2,    61.70,2,    30.35,2,     0.00,2,     2.18,2,   -999.0,9,   -999.0,9,-999.0000,9,  -999.00,  -999.00,9,  -999.00,9,   6.8182,2,      313
  49UF20180709,KS1806,  5447,  1,     14,  25248,2,20180729,0238, 25.0052, 137.0007, 4983,    806.8,   5.3920,   5.3922,2,  34.1673,2,-999.0000,9,     85.5,2,     85.4,2,    84.40,2,    35.62,2,     0.00,2,     2.55,2,   -999.0,9,   -999.0,9,-999.0000,9,  -999.00,  -999.00,9,  -999.00,9,   5.3922,2,      310
  49UF20180709,KS1806,  5447,  1,     13,  25247,2,20180729,0238, 25.0052, 137.0007, 4983,    908.8,   4.4663,   4.4663,2,  34.2451,2,-999.0000,9,     63.9,2,     64.5,2,   102.97,2,    38.70,2,     0.00,2,     2.78,2,   -999.0,9,   -999.0,9,-999.0000,9,  -999.00,  -999.00,9,  -999.00,9,   4.4663,2,      307
  49UF20180709,KS1806,  5447,  1,      9,  25243,2,20180729,0238, 25.0052, 137.0007, 4983,   1011.0,   3.8957,   3.8984,2,  34.3178,2,-999.0000,9,     54.8,2,     54.5,2,   116.18,2,    40.32,2,     0.00,2,     2.89,2,   -999.0,9,   -999.0,9,-999.0000,9,  -999.00,  -999.00,9,  -999.00,9,   3.8984,2,      304
  49UF20180709,KS1806,  5447,  1,      8,  25242,2,20180729,0238, 25.0052, 137.0007, 4983,   1211.6,   3.1869,   3.1868,2,  34.4165,2,-999.0000,9,     54.0,2,     53.6,2,   133.44,2,    41.35,2,     0.00,2,     2.95,2,   -999.0,9,   -999.0,9,-999.0000,9,  -999.00,  -999.00,9,  -999.00,9,   3.1868,2,      300
  49UF20180709,KS1806,  5447,  1,      7,  25241,2,20180729,0238, 25.0052, 137.0007, 4983,   1414.1,   2.6776,   2.6777,2,  34.4913,2,-999.0000,9,     60.8,2,     60.6,2,   144.71,2,    41.37,2,     0.00,2,     2.94,2,   -999.0,9,   -999.0,9,-999.0000,9,  -999.00,  -999.00,9,  -999.00,9,   2.6777,2,      255
  49UF20180709,KS1806,  5447,  1,      6,  25240,2,20180729,0238, 25.0052, 137.0007, 4983,   1616.2,   2.3430,   2.3433,2,  34.5491,2,-999.0000,9,     81.0,2,     81.1,2,   147.25,2,    40.28,2,     0.00,2,     2.85,2,   -999.0,9,   -999.0,9,-999.0000,9,  -999.00,  -999.00,9,  -999.00,9,   2.3433,2,      249
  49UF20180709,KS1806,  5447,  1,      5,  25239,2,20180729,0238, 25.0052, 137.0007, 4983,   1821.4,   2.1082,   2.1083,2,  34.5901,2,-999.0000,9,     99.9,2,     99.7,2,   146.92,2,    39.02,2,     0.00,2,     2.76,2,   -999.0,9,   -999.0,9,-999.0000,9,  -999.00,  -999.00,9,  -999.00,9,   2.1083,2,      245
  49UF20180709,KS1806,  5447,  1,      4,  25238,2,20180729,0238, 25.0052, 137.0007, 4983,   2023.6,   1.9581,   1.9582,2,  34.6143,2,-999.0000,9,    112.4,2,    112.0,2,   145.88,2,    38.31,2,     0.00,2,     2.70,2,   -999.0,9,   -999.0,9,-999.0000,9,  -999.00,  -999.00,9,  -999.00,9,   1.9582,2,      239