BOTTLE,20200311PRINUNIVRMK
EXPOCODE,SECT_ID,STNNBR,CASTNO,SAMPNO,BTLNBR,BTLNBR_FLAG_W,DATE,TIME,LATITUDE,LONGITUDE,DEPTH,CTDPRS,CTDTMP,SBE35,SBE35_FLAG_W,CTDSAL,CTDSAL_FLAG_W,SALNTY,SALNTY_FLAG_W,CTDOXY,CTDOXY_FLAG_W,OXYGEN,OXYGEN_FLAG_W,SILCAT,SILCAT_FLAG_W,NITRAT,NITRAT_FLAG_W,NITRIT,NITRIT_FLAG_W,PHSPHT,PHSPHT_FLAG_W,TCARBN,TCARBN_FLAG_W,ALKALI,ALKALI_FLAG_W,PH_TOT,PH_TOT_FLAG_W,PH_TMP,CHLORA,CHLORA_FLAG_W,PPHYTN,PPHYTN_FLAG_W,SBE35,SBE35_FLAG_W,BTL_TIME
,,,,,,,,,,,METERS,DBAR,ITS-90,,,PSS-78,,PSS-78,,UMOL/KG,,UMOL/KG,,UMOL/KG,,UMOL/KG,,UMOL/KG,,UMOL/KG,,UMOL/KG,,UMOL/KG,,,,DEG C,UG/KG,,UG/KG,,,,
  49UF20180709,KS1806,  5473,  1,     99,     99,2,20180819,2216, 11.0017, 137.0063, 4792,      0.0,  28.7614,-999.0000,9,  33.9417,2,-999.0000,9,    196.9,2,    197.1,2,     1.12,2,     0.02,2,     0.00,2,     0.07,2,   -999.0,9,   -999.0,9,-999.0000,9,  -999.00,  -999.00,9,  -999.00,9,-999.0000,9,     2355
  49UF20180709,KS1806,  5473,  1,     36,  25270,2,20180819,2216, 11.0017, 137.0063, 4792,     10.3,  28.7614,  28.7630,2,  33.9419,2,  33.9435,2,    196.9,2,    197.0,2,     1.09,2,     0.00,2,     0.00,2,     0.03,2,   -999.0,9,   -999.0,9,-999.0000,9,  -999.00,  -999.00,9,  -999.00,9,  28.7630,2,       26
  49UF20180709,KS1806,  5473,  1,     35,  25269,2,20180819,2216, 11.0017, 137.0063, 4792,     26.4,  28.7589,  28.7599,2,  33.9423,2,  33.9427,2,    196.9,2,    197.1,2,     1.08,2,     0.00,2,     0.00,2,     0.03,2,   -999.0,9,   -999.0,9,-999.0000,9,  -999.00,  -999.00,9,  -999.00,9,  28.7599,2,       25
  49UF20180709,KS1806,  5473,  1,     34,  25268,2,20180819,2216, 11.0017, 137.0063, 4792,     50.9,  28.6933,  28.6833,2,  34.1130,2,-999.0000,9,    200.1,2,    199.6,2,     1.09,2,     0.00,2,     0.00,2,     0.05,2,   -999.0,9,   -999.0,9,-999.0000,9,  -999.00,  -999.00,9,  -999.00,9,  28.6833,2,       23
  49UF20180709,KS1806,  5473,  1,     33,  25267,2,20180819,2216, 11.0017, 137.0063, 4792,     76.3,  27.3129,  27.3060,2,  34.7436,2,  34.7645,4,    207.6,2,    207.2,2,     1.10,2,     0.04,2,     0.00,2,     0.08,2,   -999.0,9,   -999.0,9,-999.0000,9,  -999.00,  -999.00,9,  -999.00,9,  27.3060,2,       21
  49UF20180709,KS1806,  5473,  1,     32,  25266,2,20180819,2216, 11.0017, 137.0063, 4792,    101.8,  24.6024,  24.5505,2,  34.9040,2,-999.0000,9,    190.1,2,    192.1,2,     1.69,2,     0.03,2,     0.00,2,     0.16,2,   -999.0,9,   -999.0,9,-999.0000,9,  -999.00,  -999.00,9,  -999.00,9,  24.5505,2,       18
  49UF20180709,KS1806,  5473,  1,     31,  25265,2,20180819,2216, 11.0017, 137.0063, 4792,    125.3,  20.8965,  20.9128,2,  34.9174,2,  34.9080,2,    170.3,2,    170.2,2,     3.80,2,     3.77,2,     0.05,2,     0.42,2,   -999.0,9,   -999.0,9,-999.0000,9,  -999.00,  -999.00,9,  -999.00,9,  20.9128,2,       17
  49UF20180709,KS1806,  5473,  1,     30,  25264,2,20180819,2216, 11.0017, 137.0063, 4792,    151.7,  17.5713,  17.5732,2,  34.7204,2,-999.0000,9,    165.6,2,    165.8,2,     7.32,2,     7.92,2,     0.02,2,     0.65,2,   -999.0,9,   -999.0,9,-999.0000,9,  -999.00,  -999.00,9,  -999.00,9,  17.5732,2,       15
  49UF20180709,KS1806,  5473,  1,     29,  25263,2,20180819,2216, 11.0017, 137.0063, 4792,    202.2,  14.2109,  14.2076,2,  34.5380,2,  34.5384,2,    141.3,2,    141.1,2,    16.20,2,    15.51,2,     0.00,2,     1.16,2,   -999.0,9,   -999.0,9,-999.0000,9,  -999.00,  -999.00,9,  -999.00,9,  14.2076,2,       13
  49UF20180709,KS1806,  5473,  1,     28,  25262,2,20180819,2216, 11.0017, 137.0063, 4792,    252.3,  11.1808,  11.1826,2,  34.3308,2,  34.3329,2,    133.1,2,    132.1,2,    24.95,2,    20.89,2,     0.00,2,     1.54,2,   -999.0,9,   -999.0,9,-999.0000,9,  -999.00,  -999.00,9,  -999.00,9,  11.1826,2,       11
  49UF20180709,KS1806,  5473,  1,     27,  25261,2,20180819,2216, 11.0017, 137.0063, 4792,    303.3,   9.5696,   9.5795,2,  34.4289,2,  34.4276,2,     87.4,2,     87.2,2,    36.42,2,    28.83,2,     0.00,2,     2.08,2,   -999.0,9,   -999.0,9,-999.0000,9,  -999.00,  -999.00,9,  -999.00,9,   9.5795,2,        9
  49UF20180709,KS1806,  5473,  1,     26,  25260,2,20180819,2216, 11.0017, 137.0063, 4792,    352.8,   8.6680,   8.6688,2,  34.4322,2,  34.4326,2,     85.1,2,     85.2,2,    42.98,2,    30.98,2,     0.00,2,     2.21,2,   -999.0,9,   -999.0,9,-999.0000,9,  -999.00,  -999.00,9,  -999.00,9,   8.6688,2,        7
  49UF20180709,KS1806,  5473,  1,     25,  25259,2,20180819,2216, 11.0017, 137.0063, 4792,    403.2,   7.5651,   7.5651,2,  34.4153,2,  34.4149,2,     86.1,2,     86.1,6,    52.20,6,    32.91,6,     0.00,6,     2.34,6,   -999.0,9,   -999.0,9,-999.0000,9,  -999.00,  -999.00,9,  -999.00,9,   7.5651,2,        5
  49UF20180709,KS1806,  5473,  1,     24,  25258,2,20180819,2216, 11.0017, 137.0063, 4792,    452.2,   7.1958,   7.1970,2,  34.4321,2,  34.4325,2,     88.4,2,     88.7,2,    54.78,2,    33.62,2,     0.00,2,     2.38,2,   -999.0,9,   -999.0,9,-999.0000,9,  -999.00,  -999.00,9,  -999.00,9,   7.1970,2,        3
  49UF20180709,KS1806,  5473,  1,     23,  25257,2,20180819,2216, 11.0017, 137.0063, 4792,    505.4,   6.8721,   6.8717,2,  34.4651,2,  34.4645,2,     93.4,2,     93.5,2,    55.53,2,    33.69,2,     0.00,2,     2.40,2,   -999.0,9,   -999.0,9,-999.0000,9,  -999.00,  -999.00,9,  -999.00,9,   6.8717,2,        1
  49UF20180709,KS1806,  5473,  1,     22,  24473,3,20180819,2216, 11.0017, 137.0063, 4792,    605.3,   6.2591,   6.2590,2,  34.4938,2,  34.4941,2,     95.3,2,     95.2,2,    61.10,2,    34.83,2,     0.00,2,     2.48,2,   -999.0,9,   -999.0,9,-999.0000,9,  -999.00,  -999.00,9,  -999.00,9,   6.2590,2,     2358
  49UF20180709,KS1806,  5473,  1,     21,  25255,2,20180819,2216, 11.0017, 137.0063, 4792,    706.8,   5.8222,   5.8224,2,  34.5075,2,  34.5069,2,     94.4,2,     94.8,2,    67.34,2,    36.19,2,     0.00,2,     2.55,2,   -999.0,9,   -999.0,9,-999.0000,9,  -999.00,  -999.00,9,  -999.00,9,   5.8224,2,     2355
  49UF20180709,KS1806,  5473,  1,     20,  24270,2,20180819,2216, 11.0017, 137.0063, 4792,    805.6,   5.4469,   5.4469,2,  34.5215,2,  34.5212,2,     92.5,2,     93.1,2,    73.89,2,    36.64,2,     0.00,2,     2.61,2,   -999.0,9,   -999.0,9,-999.0000,9,  -999.00,  -999.00,9,  -999.00,9,   5.4469,2,     2352
  49UF20180709,KS1806,  5473,  1,     19,  25253,2,20180819,2216, 11.0017, 137.0063, 4792,    907.2,   5.0188,   5.0192,2,  34.5358,2,  34.5358,2,     85.1,2,     85.3,2,    83.20,2,    37.84,2,     0.00,2,     2.70,2,   -999.0,9,   -999.0,9,-999.0000,9,  -999.00,  -999.00,9,  -999.00,9,   5.0192,2,     2349
  49UF20180709,KS1806,  5473,  1,     18,  25252,2,20180819,2216, 11.0017, 137.0063, 4792,   1008.7,   4.5321,   4.5322,2,  34.5438,2,  34.5440,2,     87.0,2,     87.7,6,    93.04,6,    38.33,6,     0.00,6,     2.72,6,   -999.0,9,   -999.0,9,-999.0000,9,  -999.00,  -999.00,9,  -999.00,9,   4.5322,2,     2346
  49UF20180709,KS1806,  5473,  1,     17,  25251,2,20180819,2216, 11.0017, 137.0063, 4792,   1211.0,   3.6953,   3.7015,2,  34.5690,2,  34.5694,2,     90.2,2,     90.6,2,   110.33,2,    39.16,2,     0.00,2,     2.76,2,   -999.0,9,   -999.0,9,-999.0000,9,  -999.00,  -999.00,9,  -999.00,9,   3.7015,2,     2341
  49UF20180709,KS1806,  5473,  1,     16,  25250,2,20180819,2216, 11.0017, 137.0063, 4792,   1414.4,   3.1425,   3.1425,2,  34.5893,2,  34.5895,2,     97.0,2,     97.3,2,   121.40,2,    38.64,2,     0.00,2,     2.75,2,   -999.0,9,   -999.0,9,-999.0000,9,  -999.00,  -999.00,9,  -999.00,9,   3.1425,2,     2336
  49UF20180709,KS1806,  5473,  1,     15,  25249,2,20180819,2216, 11.0017, 137.0063, 4792,   1618.2,   2.8426,   2.8426,2,  34.5999,2,  34.6001,2,    100.7,2,    101.0,2,   127.57,2,    39.03,2,     0.00,2,     2.74,2,   -999.0,9,   -999.0,9,-999.0000,9,  -999.00,  -999.00,9,  -999.00,9,   2.8426,2,     2332
  49UF20180709,KS1806,  5473,  1,     14,  25248,2,20180819,2216, 11.0017, 137.0063, 4792,   1818.4,   2.5240,   2.5239,2,  34.6156,2,  34.6160,2,    106.9,2,    107.5,2,   134.13,2,    38.52,2,     0.00,2,     2.72,2,   -999.0,9,   -999.0,9,-999.0000,9,  -999.00,  -999.00,9,  -999.00,9,   2.5239,2,     2327
  49UF20180709,KS1806,  5473,  1,     13,  25247,2,20180819,2216, 11.0017, 137.0063, 4792,   2021.2,   2.1885,   2.1882,2,  34.6326,2,  34.6320,2,    114.9,2,    115.1,2,   139.36,2,    38.45,2,     0.00,2,     2.68,2,   -999.0,9,   -999.0,9,-999.0000,9,  -999.00,  -999.00,9,  -999.00,9,   2.1882,2,     2323
  49UF20180709,KS1806,  5473,  1,     12,  25246,2,20180819,2216, 11.0017, 137.0063, 4792,   2278.5,   1.9706,   1.9705,2,  34.6446,2,  34.6444,2,    121.7,2,    121.9,6,   143.68,6,    38.01,6,     0.00,6,     2.65,6,   -999.0,9,   -999.0,9,-999.0000,9,  -999.00,  -999.00,9,  -999.00,9,   1.9705,2,     2317
  49UF20180709,KS1806,  5473,  1,     11,  25245,2,20180819,2216, 11.0017, 137.0063, 4792,   2528.2,   1.7915,   1.7909,2,  34.6551,2,  34.6554,2,    128.4,2,    128.6,2,   146.47,2,    37.75,2,     0.00,2,     2.62,2,   -999.0,9,   -999.0,9,-999.0000,9,  -999.00,  -999.00,9,  -999.00,9,   1.7909,2,     2311
  49UF20180709,KS1806,  5473,  1,     10,  25244,2,20180819,2216, 11.0017, 137.0063, 4792,   2784.4,   1.6984,   1.6982,2,  34.6618,2,  34.6615,2,    133.2,2,    133.9,2,   147.45,2,    37.30,2,     0.00,2,     2.59,2,   -999.0,9,   -999.0,9,-999.0000,9,  -999.00,  -999.00,9,  -999.00,9,   1.6982,2,     2306
  49UF20180709,KS1806,  5473,  1,      9,  25243,2,20180819,2216, 11.0017, 137.0063, 4792,   3039.3,   1.6343,   1.6342,2,  34.6676,2,  34.6678,2,    138.6,2,    139.2,2,   147.18,2,    37.08,2,     0.00,2,     2.56,2,   -999.0,9,   -999.0,9,-999.0000,9,  -999.00,  -999.00,9,  -999.00,9,   1.6342,2,     2300
  49UF20180709,KS1806,  5473,  1,      8,  25242,2,20180819,2216, 11.0017, 137.0063, 4792,   3295.3,   1.5878,   1.5877,2,  34.6723,2,  34.6726,2,    144.6,2,    145.6,3,   145.11,2,    36.44,2,     0.00,2,     2.53,2,   -999.0,9,   -999.0,9,-999.0000,9,  -999.00,  -999.00,9,  -999.00,9,   1.5877,2,     2255
  49UF20180709,KS1806,  5473,  1,      7,  25241,2,20180819,2216, 11.0017, 137.0063, 4792,   3551.5,   1.5556,   1.5558,2,  34.6764,2,  34.6766,2,    149.2,2,    149.6,2,   143.97,2,    36.41,2,     0.00,2,     2.51,2,   -999.0,9,   -999.0,9,-999.0000,9,  -999.00,  -999.00,9,  -999.00,9,   1.5558,2,     2249
  49UF20180709,KS1806,  5473,  1,      6,  25240,2,20180819,2216, 11.0017, 137.0063, 4792,   3804.8,   1.5531,   1.5530,2,  34.6784,2,  34.6779,6,    151.5,2,    151.9,2,   143.58,2,    36.04,2,     0.00,2,     2.50,2,   -999.0,9,   -999.0,9,-999.0000,9,  -999.00,  -999.00,9,  -999.00,9,   1.5530,2,     2243
  49UF20180709,KS1806,  5473,  1,      5,  25239,2,20180819,2216, 11.0017, 137.0063, 4792,   4061.0,   1.5375,   1.5374,2,  34.6816,2,  34.6808,2,    155.2,2,    155.5,2,   142.76,2,    36.00,2,     0.00,2,     2.48,2,   -999.0,9,   -999.0,9,-999.0000,9,  -999.00,  -999.00,9,  -999.00,9,   1.5374,2,     2238
  49UF20180709,KS1806,  5473,  1,      4,  25238,2,20180819,2216, 11.0017, 137.0063, 4792,   4317.7,   1.5342,   1.5342,2,  34.6841,2,  34.6840,2,    158.1,2,    158.2,2,   141.44,2,    35.72,2,     0.00,2,     2.46,2,   -999.0,9,   -999.0,9,-999.0000,9,  -999.00,  -999.00,9,  -999.00,9,   1.5342,2,     2232
  49UF20180709,KS1806,  5473,  1,      3,  24271,4,20180819,2216, 11.0017, 137.0063, 4792,   4575.5,   1.5370,   1.5368,2,  34.6860,2,  33.9431,4,    160.4,2,    197.1,4,     1.06,4,     0.03,4,     0.00,4,     0.04,4,   -999.0,9,   -999.0,9,-999.0000,9,  -999.00,  -999.00,9,  -999.00,9,   1.5368,2,     2226
  49UF20180709,KS1806,  5473,  1,      2,  25236,2,20180819,2216, 11.0017, 137.0063, 4792,   4831.3,   1.5541,   1.5541,2,  34.6868,2,  34.6862,2,    161.8,2,    161.7,6,   140.07,6,    35.53,6,     0.00,6,     2.45,6,   -999.0,9,   -999.0,9,-999.0000,9,  -999.00,  -999.00,9,  -999.00,9,   1.5541,2,     2220
  49UF20180709,KS1806,  5473,  1,      1,  24272,2,20180819,2216, 11.0017, 137.0063, 4792,   4976.4,   1.5649,   1.5648,2,  34.6872,2,  34.6871,6,    162.4,2,    162.9,2,   139.92,2,    35.52,2,     0.00,2,     2.44,2,   -999.0,9,   -999.0,9,-999.0000,9,  -999.00,  -999.00,9,  -999.00,9,   1.5648,2,     2217