BOTTLE,20200311PRINUNIVRMK
EXPOCODE,SECT_ID,STNNBR,CASTNO,SAMPNO,BTLNBR,BTLNBR_FLAG_W,DATE,TIME,LATITUDE,LONGITUDE,DEPTH,CTDPRS,CTDTMP,SBE35,SBE35_FLAG_W,CTDSAL,CTDSAL_FLAG_W,SALNTY,SALNTY_FLAG_W,CTDOXY,CTDOXY_FLAG_W,OXYGEN,OXYGEN_FLAG_W,SILCAT,SILCAT_FLAG_W,NITRAT,NITRAT_FLAG_W,NITRIT,NITRIT_FLAG_W,PHSPHT,PHSPHT_FLAG_W,TCARBN,TCARBN_FLAG_W,ALKALI,ALKALI_FLAG_W,PH_TOT,PH_TOT_FLAG_W,PH_TMP,CHLORA,CHLORA_FLAG_W,PPHYTN,PPHYTN_FLAG_W,SBE35,SBE35_FLAG_W,BTL_TIME
,,,,,,,,,,,METERS,DBAR,ITS-90,,,PSS-78,,PSS-78,,UMOL/KG,,UMOL/KG,,UMOL/KG,,UMOL/KG,,UMOL/KG,,UMOL/KG,,UMOL/KG,,UMOL/KG,,,,DEG C,UG/KG,,UG/KG,,,,
  49UF20180709,KS1806,  5475,  1,     99,     99,2,20180820,2314, 11.9978, 139.0087, 5053,      0.0,  28.7265,-999.0000,9,  34.1034,2,-999.0000,9,    196.2,2,    196.7,2,     1.05,2,     0.00,2,     0.00,2,     0.04,2,   -999.0,9,   -999.0,9,-999.0000,9,  -999.00,  -999.00,9,  -999.00,9,-999.0000,9,      100
  49UF20180709,KS1806,  5475,  1,     36,  25270,2,20180820,2314, 11.9978, 139.0087, 5053,     11.2,  28.7247,  28.7256,2,  34.1036,2,  34.1053,2,    196.0,2,    196.7,2,     1.06,2,     0.04,2,     0.00,2,     0.03,2,   -999.0,9,   -999.0,9,-999.0000,9,  -999.00,  -999.00,9,  -999.00,9,  28.7256,2,      132
  49UF20180709,KS1806,  5475,  1,     35,  25269,2,20180820,2314, 11.9978, 139.0087, 5053,     25.4,  28.7257,  28.7266,2,  34.1042,2,  34.1056,2,    196.0,2,    196.8,2,     1.08,2,     0.00,2,     0.00,2,     0.03,2,   -999.0,9,   -999.0,9,-999.0000,9,  -999.00,  -999.00,9,  -999.00,9,  28.7266,2,      131
  49UF20180709,KS1806,  5475,  1,     34,  25268,2,20180820,2314, 11.9978, 139.0087, 5053,     51.5,  28.1010,  28.1125,2,  34.5887,2,-999.0000,9,    205.7,2,    206.1,2,     1.14,2,     0.00,2,     0.00,2,     0.06,2,   -999.0,9,   -999.0,9,-999.0000,9,  -999.00,  -999.00,9,  -999.00,9,  28.1125,2,      129
  49UF20180709,KS1806,  5475,  1,     33,  25267,2,20180820,2314, 11.9978, 139.0087, 5053,     77.8,  27.2377,  27.2389,2,  34.8679,2,  34.8655,2,    204.7,2,    205.1,6,     1.15,6,     0.00,6,     0.00,6,     0.06,6,   -999.0,9,   -999.0,9,-999.0000,9,  -999.00,  -999.00,9,  -999.00,9,  27.2389,2,      128
  49UF20180709,KS1806,  5475,  1,     32,  25266,2,20180820,2314, 11.9978, 139.0087, 5053,    100.9,  26.1104,  26.1120,2,  34.9764,2,-999.0000,9,    200.1,2,    200.6,2,     1.21,2,     0.00,2,     0.00,2,     0.07,2,   -999.0,9,   -999.0,9,-999.0000,9,  -999.00,  -999.00,9,  -999.00,9,  26.1120,2,      126
  49UF20180709,KS1806,  5475,  1,     31,  25265,2,20180820,2314, 11.9978, 139.0087, 5053,    127.3,  24.4084,  24.4131,2,  35.0326,2,  35.0294,2,    189.8,2,    190.3,2,     1.57,2,     0.17,2,     0.09,2,     0.13,2,   -999.0,9,   -999.0,9,-999.0000,9,  -999.00,  -999.00,9,  -999.00,9,  24.4131,2,      125
  49UF20180709,KS1806,  5475,  1,     30,  25264,2,20180820,2314, 11.9978, 139.0087, 5053,    152.9,  21.3021,  21.2990,2,  34.9899,2,-999.0000,9,    175.6,2,    176.5,2,     2.95,2,     2.53,2,     0.02,2,     0.32,2,   -999.0,9,   -999.0,9,-999.0000,9,  -999.00,  -999.00,9,  -999.00,9,  21.2990,2,      121
  49UF20180709,KS1806,  5475,  1,     29,  25263,2,20180820,2314, 11.9978, 139.0087, 5053,    202.5,  17.2397,  17.2412,2,  34.7145,2,  34.7215,2,    173.1,2,    174.0,2,     6.41,2,     7.18,2,     0.00,2,     0.59,2,   -999.0,9,   -999.0,9,-999.0000,9,  -999.00,  -999.00,9,  -999.00,9,  17.2412,2,      119
  49UF20180709,KS1806,  5475,  1,     28,  25262,2,20180820,2314, 11.9978, 139.0087, 5053,    252.2,  11.9172,  11.9217,2,  34.3566,2,  34.3602,2,    141.1,2,    141.9,2,    20.19,2,    18.51,2,     0.00,2,     1.36,2,   -999.0,9,   -999.0,9,-999.0000,9,  -999.00,  -999.00,9,  -999.00,9,  11.9217,2,      117
  49UF20180709,KS1806,  5475,  1,     27,  25261,2,20180820,2314, 11.9978, 139.0087, 5053,    302.8,  10.3203,  10.3201,2,  34.3393,2,  34.3399,2,    111.8,2,    111.5,2,    30.35,2,    24.56,2,     0.00,2,     1.80,2,   -999.0,9,   -999.0,9,-999.0000,9,  -999.00,  -999.00,9,  -999.00,9,  10.3201,2,      115
  49UF20180709,KS1806,  5475,  1,     26,  25260,2,20180820,2314, 11.9978, 139.0087, 5053,    350.9,   9.0910,   9.0902,2,  34.4264,2,  34.4270,2,     81.6,2,     81.6,2,    39.78,2,    30.33,2,     0.00,2,     2.18,2,   -999.0,9,   -999.0,9,-999.0000,9,  -999.00,  -999.00,9,  -999.00,9,   9.0902,2,      113
  49UF20180709,KS1806,  5475,  1,     25,  25259,2,20180820,2314, 11.9978, 139.0087, 5053,    402.0,   8.1335,   8.1258,2,  34.4193,2,  34.4209,2,     75.6,2,     75.6,2,    47.48,2,    32.81,2,     0.00,2,     2.35,2,   -999.0,9,   -999.0,9,-999.0000,9,  -999.00,  -999.00,9,  -999.00,9,   8.1258,2,      111
  49UF20180709,KS1806,  5475,  1,     24,  25258,2,20180820,2314, 11.9978, 139.0087, 5053,    454.1,   7.3514,   7.3497,2,  34.4539,2,  34.4512,2,     76.7,2,     76.7,6,    53.75,6,    34.26,6,     0.00,6,     2.45,6,   -999.0,9,   -999.0,9,-999.0000,9,  -999.00,  -999.00,9,  -999.00,9,   7.3497,2,      109
  49UF20180709,KS1806,  5475,  1,     23,  25257,2,20180820,2314, 11.9978, 139.0087, 5053,    502.6,   6.9366,   6.9384,2,  34.4756,2,  34.4728,2,     81.9,2,     81.4,2,    56.56,2,    34.67,2,     0.00,2,     2.47,2,   -999.0,9,   -999.0,9,-999.0000,9,  -999.00,  -999.00,9,  -999.00,9,   6.9384,2,      107
  49UF20180709,KS1806,  5475,  1,     22,  24473,2,20180820,2314, 11.9978, 139.0087, 5053,    605.5,   6.4226,   6.4223,2,  34.4911,2,  34.4912,2,     84.7,2,     84.5,2,    61.71,2,    35.84,2,     0.00,2,     2.53,2,   -999.0,9,   -999.0,9,-999.0000,9,  -999.00,  -999.00,9,  -999.00,9,   6.4223,2,      104
  49UF20180709,KS1806,  5475,  1,     21,  25255,2,20180820,2314, 11.9978, 139.0087, 5053,    705.4,   5.6900,   5.6899,2,  34.5037,2,  34.5043,2,     83.3,2,     83.2,2,    73.17,2,    36.90,2,     0.00,2,     2.63,2,   -999.0,9,   -999.0,9,-999.0000,9,  -999.00,  -999.00,9,  -999.00,9,   5.6899,2,      101
  49UF20180709,KS1806,  5475,  1,     20,  24270,2,20180820,2314, 11.9978, 139.0087, 5053,    805.9,   5.2075,   5.2075,2,  34.5131,2,  34.5135,2,     81.5,2,     81.6,2,    82.06,2,    37.84,2,     0.00,2,     2.69,2,   -999.0,9,   -999.0,9,-999.0000,9,  -999.00,  -999.00,9,  -999.00,9,   5.2075,2,       58
  49UF20180709,KS1806,  5475,  1,     19,  25253,2,20180820,2314, 11.9978, 139.0087, 5053,    907.6,   4.8404,   4.8403,2,  34.5260,2,  34.5260,2,     81.2,2,     81.9,2,    89.10,2,    38.56,2,     0.00,2,     2.73,2,   -999.0,9,   -999.0,9,-999.0000,9,  -999.00,  -999.00,9,  -999.00,9,   4.8403,2,       56
  49UF20180709,KS1806,  5475,  1,     18,  25252,2,20180820,2314, 11.9978, 139.0087, 5053,   1009.2,   4.3548,   4.3549,2,  34.5389,2,  34.5391,2,     82.4,2,     82.6,2,    98.43,2,    38.76,2,     0.00,2,     2.76,2,   -999.0,9,   -999.0,9,-999.0000,9,  -999.00,  -999.00,9,  -999.00,9,   4.3549,2,       53
  49UF20180709,KS1806,  5475,  1,     17,  25251,2,20180820,2314, 11.9978, 139.0087, 5053,   1211.6,   3.7508,   3.7503,2,  34.5616,2,  34.5617,2,     86.0,2,     86.2,2,   110.72,2,    39.44,2,     0.00,2,     2.79,2,   -999.0,9,   -999.0,9,-999.0000,9,  -999.00,  -999.00,9,  -999.00,9,   3.7503,2,       48
  49UF20180709,KS1806,  5475,  1,     16,  25250,2,20180820,2314, 11.9978, 139.0087, 5053,   1414.1,   3.1478,   3.1480,2,  34.5843,2,  34.5847,2,     92.6,2,     93.1,2,   122.68,2,    39.24,2,     0.00,2,     2.78,2,   -999.0,9,   -999.0,9,-999.0000,9,  -999.00,  -999.00,9,  -999.00,9,   3.1480,2,       43
  49UF20180709,KS1806,  5475,  1,     15,  25249,2,20180820,2314, 11.9978, 139.0087, 5053,   1616.0,   2.6929,   2.6929,2,  34.5994,2,  34.5993,2,     99.7,2,    100.1,2,   131.64,2,    39.26,2,     0.00,2,     2.75,2,   -999.0,9,   -999.0,9,-999.0000,9,  -999.00,  -999.00,9,  -999.00,9,   2.6929,2,       38
  49UF20180709,KS1806,  5475,  1,     14,  25248,2,20180820,2314, 11.9978, 139.0087, 5053,   1819.8,   2.3834,   2.3834,2,  34.6167,2,  34.6168,2,    106.2,2,    106.4,2,   138.45,2,    38.83,2,     0.00,2,     2.73,2,   -999.0,9,   -999.0,9,-999.0000,9,  -999.00,  -999.00,9,  -999.00,9,   2.3834,2,       34
  49UF20180709,KS1806,  5475,  1,     13,  25247,2,20180820,2314, 11.9978, 139.0087, 5053,   2021.8,   2.1067,   2.1072,2,  34.6330,2,  34.6327,2,    114.2,2,    115.8,3,   142.15,2,    38.64,2,     0.00,2,     2.69,2,   -999.0,9,   -999.0,9,-999.0000,9,  -999.00,  -999.00,9,  -999.00,9,   2.1072,2,       29
  49UF20180709,KS1806,  5475,  1,     12,  25246,2,20180820,2314, 11.9978, 139.0087, 5053,   2276.8,   1.9165,   1.9166,2,  34.6447,2,  34.6451,2,    120.0,2,    120.4,2,   145.94,2,    37.97,2,     0.00,2,     2.66,2,   -999.0,9,   -999.0,9,-999.0000,9,  -999.00,  -999.00,9,  -999.00,9,   1.9166,2,       23
  49UF20180709,KS1806,  5475,  1,     11,  25245,2,20180820,2314, 11.9978, 139.0087, 5053,   2530.7,   1.7633,   1.7633,2,  34.6554,2,  34.6554,6,    126.5,2,    126.6,2,   148.92,2,    37.96,2,     0.00,2,     2.63,2,   -999.0,9,   -999.0,9,-999.0000,9,  -999.00,  -999.00,9,  -999.00,9,   1.7633,2,       18
  49UF20180709,KS1806,  5475,  1,     10,  25244,2,20180820,2314, 11.9978, 139.0087, 5053,   2785.9,   1.6799,   1.6807,2,  34.6626,2,  34.6623,2,    131.9,2,    132.0,2,   148.65,2,    37.60,2,     0.00,2,     2.60,2,   -999.0,9,   -999.0,9,-999.0000,9,  -999.00,  -999.00,9,  -999.00,9,   1.6807,2,       12
  49UF20180709,KS1806,  5475,  1,      9,  25243,2,20180820,2314, 11.9978, 139.0087, 5053,   3040.4,   1.5954,   1.5954,2,  34.6697,2,  34.6704,2,    139.2,2,    139.4,2,   147.71,2,    36.72,2,     0.00,2,     2.56,2,   -999.0,9,   -999.0,9,-999.0000,9,  -999.00,  -999.00,9,  -999.00,9,   1.5954,2,        6
  49UF20180709,KS1806,  5475,  1,      8,  25242,2,20180820,2314, 11.9978, 139.0087, 5053,   3549.9,   1.5441,   1.5441,2,  34.6773,2,  34.6773,2,    148.6,2,    149.3,2,   145.40,2,    36.20,2,     0.00,2,     2.52,2,   -999.0,9,   -999.0,9,-999.0000,9,  -999.00,  -999.00,9,  -999.00,9,   1.5441,2,     2356
  49UF20180709,KS1806,  5475,  1,      7,  25241,2,20180820,2314, 11.9978, 139.0087, 5053,   3805.9,   1.5216,   1.5216,2,  34.6806,2,  34.6799,2,    152.0,2,    151.8,2,   144.68,2,    36.25,2,     0.00,2,     2.50,2,   -999.0,9,   -999.0,9,-999.0000,9,  -999.00,  -999.00,9,  -999.00,9,   1.5216,2,     2350
  49UF20180709,KS1806,  5475,  1,      6,  25240,2,20180820,2314, 11.9978, 139.0087, 5053,   4064.2,   1.4947,   1.4947,2,  34.6845,2,  34.6843,6,    157.9,2,    158.2,2,   142.34,2,    35.73,2,     0.00,2,     2.47,2,   -999.0,9,   -999.0,9,-999.0000,9,  -999.00,  -999.00,9,  -999.00,9,   1.4947,2,     2345
  49UF20180709,KS1806,  5475,  1,      5,  25239,2,20180820,2314, 11.9978, 139.0087, 5053,   4574.2,   1.4538,   1.4539,2,  34.6914,2,  34.6906,2,    167.0,2,    166.3,2,   139.02,2,    35.16,2,     0.00,2,     2.42,2,   -999.0,9,   -999.0,9,-999.0000,9,  -999.00,  -999.00,9,  -999.00,9,   1.4539,2,     2334
  49UF20180709,KS1806,  5475,  1,      4,  25238,2,20180820,2314, 11.9978, 139.0087, 5053,   4833.3,   1.4524,   1.4524,2,  34.6939,2,  34.6936,2,    171.2,2,    171.7,6,   136.48,6,    34.78,6,     0.00,6,     2.40,6,   -999.0,9,   -999.0,9,-999.0000,9,  -999.00,  -999.00,9,  -999.00,9,   1.4524,2,     2329
  49UF20180709,KS1806,  5475,  1,      3,  24271,2,20180820,2314, 11.9978, 139.0087, 5053,   5088.1,   1.4790,   1.4789,2,  34.6941,2,  34.6933,2,    172.0,2,    171.4,2,   136.07,2,    34.88,2,     0.00,2,     2.40,2,   -999.0,9,   -999.0,9,-999.0000,9,  -999.00,  -999.00,9,  -999.00,9,   1.4789,2,     2323
  49UF20180709,KS1806,  5475,  1,      2,  25236,2,20180820,2314, 11.9978, 139.0087, 5053,   5346.3,   1.5100,   1.5100,2,  34.6943,2,  34.6942,2,    172.3,2,    172.6,2,   135.48,2,    34.77,2,     0.00,2,     2.39,2,   -999.0,9,   -999.0,9,-999.0000,9,  -999.00,  -999.00,9,  -999.00,9,   1.5100,2,     2317
  49UF20180709,KS1806,  5475,  1,      1,  24272,2,20180820,2314, 11.9978, 139.0087, 5053,   5498.0,   1.5288,   1.5288,2,  34.6942,2,  34.6948,2,    172.7,2,    172.8,6,   135.55,6,    34.73,6,     0.00,6,     2.39,6,   -999.0,9,   -999.0,9,-999.0000,9,  -999.00,  -999.00,9,  -999.00,9,   1.5288,2,     2314