BOTTLE,20200311PRINUNIVRMK
# 08/30/2019 Initialized README file  
# Data source:  Masao Ishii 2020/01/14 
# SHIP: R/V Keifu Maru II 
# Cruise: KS18.06 
# Region: North Pacific Ocean 
# EXPOCODE: 49UF20180709 
# DATES: 20180709-20180829 
# Chief Scientist: Naoki Nagai 
# 39 stations with 36 place Rosette 
# CTD: Who - Chikara Nara; Status - final 
# 	Includes: CTDSAL,CTDOXY,SBE35 
# SALNTY: Who - Chikara Nara; Status - final 
# 	Notes: 	 
# Nutrients: Who - Chikara Nara; Status - final 
# 	Includes: nitrate, nitrite, silicate, phosphate 
# 	Nitrite and NO3+NO2 reported. Separated by subtraction 
# OXYGEN: Who - Chikara Nara; Status - final 
# 	Notes: 
# TCARBN: Who - Chikara Nara; Status - final 
# 	Notes:  
# ALKALI: Who - Chikara Nara; Status - final 
# 	Notes:  
# PH: Who - Chikara Nara; Status - final 
# 	Notes:  
# CHLORA: Who - Chikara Nara; Status - final 
# 	Notes:  
# PPHYTN: Who - Chikara Nara; Status - final 
# 	Notes:  
# These data should be cited as:               
# References that have used data from this cruise: 
EXPOCODE,SECT_ID,STNNBR,CASTNO,SAMPNO,BTLNBR,BTLNBR_FLAG_W,DATE,TIME,LATITUDE,LONGITUDE,DEPTH,CTDPRS,CTDTMP,SBE35,SBE35_FLAG_W,CTDSAL,CTDSAL_FLAG_W,SALNTY,SALNTY_FLAG_W,CTDOXY,CTDOXY_FLAG_W,OXYGEN,OXYGEN_FLAG_W,SILCAT,SILCAT_FLAG_W,NITRAT,NITRAT_FLAG_W,NITRIT,NITRIT_FLAG_W,PHSPHT,PHSPHT_FLAG_W,TCARBN,TCARBN_FLAG_W,ALKALI,ALKALI_FLAG_W,PH_TOT,PH_TOT_FLAG_W,PH_TMP,CHLORA,CHLORA_FLAG_W,PPHYTN,PPHYTN_FLAG_W,SBE35,SBE35_FLAG_W,BTL_TIME
,,,,,,,,,,,METERS,DBAR,ITS-90,,,PSS-78,,PSS-78,,UMOL/KG,,UMOL/KG,,UMOL/KG,,UMOL/KG,,UMOL/KG,,UMOL/KG,,UMOL/KG,,UMOL/KG,,,,DEG C,UG/KG,,UG/KG,,,,
  49UF20180709,KS1806,  5431,  1,     99,     99,2,20180723,1911, 33.9925, 137.0012, 1111,      0.0,  29.0165,-999.0000,9,  34.2338,2,  34.2407,2,    197.8,2,    199.5,2,     1.26,2,     0.06,2,     0.00,2,     0.01,2,   1945.1,2,   2254.7,2,   8.0875,2,    25.00,     0.11,2,     0.04,2,-999.0000,9,     1934
  49UF20180709,KS1806,  5431,  1,     36,  25270,2,20180723,1911, 33.9925, 137.0012, 1111,     11.9,  27.2080,  27.2174,2,  34.0940,2,  34.1202,4,    208.9,2,    212.4,2,     1.43,2,     0.03,2,     0.00,2,     0.01,2,   1948.3,2,   2249.2,2,   8.0766,2,    25.00,     0.17,2,     0.09,2,  27.2174,2,     1955
  49UF20180709,KS1806,  5431,  1,     35,  25269,2,20180723,1911, 33.9925, 137.0012, 1111,     26.9,  21.5130,  21.5126,2,  34.3748,2,-999.0000,9,    228.9,2,    229.0,2,     2.42,2,     0.09,2,     0.00,2,     0.05,2,   1988.0,2,   2272.0,2,   8.0384,2,    25.00,     0.31,2,     0.24,2,  21.5126,2,     1954
  49UF20180709,KS1806,  5431,  1,     34,  25268,2,20180723,1911, 33.9925, 137.0012, 1111,     53.1,  19.8373,  19.8566,2,  34.5732,2,-999.0000,9,    202.2,2,    202.6,2,     5.05,2,     2.65,2,     0.25,2,     0.24,2,   2025.0,2,   2280.6,2,   7.9843,2,    25.00,     0.45,2,     0.50,2,  19.8566,2,     1949
  49UF20180709,KS1806,  5431,  1,     32,  25266,2,20180723,1911, 33.9925, 137.0012, 1111,     77.5,  18.5936,  18.5940,2,  34.7457,2,-999.0000,9,    186.1,2,    186.9,2,     6.86,2,     5.64,2,     0.03,2,     0.40,2,   2053.7,2,   2287.5,2,   7.9442,2,    25.00,     0.17,2,     0.20,2,  18.5940,2,     1947
  49UF20180709,KS1806,  5431,  1,     31,  25265,2,20180723,1911, 33.9925, 137.0012, 1111,    103.2,  17.0576,  17.0604,2,  34.6400,2,  34.6389,2,    179.6,2,    180.2,2,    11.01,2,     8.32,2,     0.02,2,     0.59,2,   2071.8,2,   2284.3,2,   7.8997,2,    25.00,     0.06,2,     0.11,2,  17.0604,2,     1946
  49UF20180709,KS1806,  5431,  1,     27,  25261,2,20180723,1911, 33.9925, 137.0012, 1111,    128.2,  15.3298,  15.3284,2,  34.5880,2,-999.0000,9,    177.9,2,    178.3,2,    14.59,2,    10.74,2,     0.01,2,     0.76,2,   2090.4,2,   2284.3,2,   7.8587,2,    25.00,     0.03,2,     0.07,2,  15.3284,2,     1944
  49UF20180709,KS1806,  5431,  1,     26,  25260,2,20180723,1911, 33.9925, 137.0012, 1111,    153.4,  14.4226,  14.4221,2,  34.5506,2,-999.0000,9,    177.7,2,    176.6,2,    17.67,2,    12.27,2,     0.01,2,     0.87,2,   2104.5,2,   2284.6,2,   7.8370,2,    25.00,     0.02,2,     0.06,2,  14.4221,2,     1943
  49UF20180709,KS1806,  5431,  1,     25,  25259,2,20180723,1911, 33.9925, 137.0012, 1111,    203.8,  12.5052,  12.5076,2,  34.4371,2,-999.0000,9,    160.5,2,    160.7,2,    25.71,2,    16.51,2,     0.00,2,     1.18,2,   2131.0,6,   2284.7,6,   7.7657,2,    25.00,     0.01,2,     0.06,2,  12.5076,2,     1941
  49UF20180709,KS1806,  5431,  1,     23,  25257,2,20180723,1911, 33.9925, 137.0012, 1111,    252.6,  10.7659,  10.7655,2,  34.3410,2,-999.0000,9,    150.6,2,    150.7,2,    34.92,2,    20.26,2,     0.00,2,     1.44,2,   2156.3,2,   2287.0,2,   7.7065,6,    25.00,  -999.00,9,  -999.00,9,  10.7655,2,     1938
  49UF20180709,KS1806,  5431,  1,     22,  24473,2,20180723,1911, 33.9925, 137.0012, 1111,    304.7,   9.2228,   9.2238,2,  34.2868,2,-999.0000,9,    131.7,2,    131.9,2,    46.44,2,    24.62,2,     0.00,2,     1.77,2,   2188.0,2,   2294.7,2,   7.6374,2,    25.00,  -999.00,9,  -999.00,9,   9.2238,2,     1936
  49UF20180709,KS1806,  5431,  1,     18,  25252,2,20180723,1911, 33.9925, 137.0012, 1111,    405.8,   7.6333,   7.6332,2,  34.2454,2,  34.2464,2,    114.5,2,    114.4,6,    61.34,6,    28.96,6,     0.00,6,     2.08,6,   2228.0,2,   2305.6,2,   7.5680,2,    25.00,  -999.00,9,  -999.00,9,   7.6332,2,     1933
  49UF20180709,KS1806,  5431,  1,     16,  25250,2,20180723,1911, 33.9925, 137.0012, 1111,    507.3,   6.1834,   6.1819,2,  34.2525,2,-999.0000,9,     94.0,2,     94.4,2,    79.36,2,    33.33,2,     0.00,2,     2.39,2,   2263.4,2,   2322.9,2,   7.5048,2,    25.00,  -999.00,9,  -999.00,9,   6.1819,2,     1929
  49UF20180709,KS1806,  5431,  1,     17,  25251,2,20180723,1911, 33.9925, 137.0012, 1111,    507.9,   6.1736,   6.1769,2,  34.2531,2,-999.0000,9,     93.8,2,     94.6,2,    79.35,2,    33.28,2,     0.00,2,     2.39,2,   2265.8,2,   2322.0,2,   7.5050,2,    25.00,  -999.00,9,  -999.00,9,   6.1769,2,     1930
  49UF20180709,KS1806,  5431,  1,     14,  25248,2,20180723,1911, 33.9925, 137.0012, 1111,    608.2,   5.1176,   5.1171,2,  34.2929,2,  34.2930,2,     78.1,2,     79.0,2,    95.53,2,    36.34,2,     0.00,2,     2.61,2,   2296.3,2,   2338.5,2,   7.4609,2,    25.00,  -999.00,9,  -999.00,9,   5.1171,2,     1926
  49UF20180709,KS1806,  5431,  1,     13,  25247,2,20180723,1911, 33.9925, 137.0012, 1111,    708.2,   4.4313,   4.4329,2,  34.3276,2,-999.0000,9,     68.5,2,     68.8,2,   107.46,2,    38.36,2,     0.00,2,     2.74,2,   2314.2,6,   2351.2,6,   7.4387,2,    25.00,  -999.00,9,  -999.00,9,   4.4329,2,     1923
  49UF20180709,KS1806,  5431,  1,      9,  25243,2,20180723,1911, 33.9925, 137.0012, 1111,    808.7,   3.9538,   3.9536,2,  34.3650,2,-999.0000,9,     63.5,2,     64.0,2,   116.45,2,    39.33,2,     0.00,2,     2.82,2,   2334.2,2,   2361.6,2,   7.4259,6,    25.00,  -999.00,9,  -999.00,9,   3.9536,2,     1920
  49UF20180709,KS1806,  5431,  1,      8,  25242,2,20180723,1911, 33.9925, 137.0012, 1111,    913.0,   3.6499,   3.6497,2,  34.3935,2,-999.0000,9,     62.6,2,     63.2,2,   122.83,2,    39.93,2,     0.00,2,     2.85,2,   2334.6,2,   2366.4,2,   7.4226,2,    25.00,  -999.00,9,  -999.00,9,   3.6497,2,     1917
  49UF20180709,KS1806,  5431,  1,      7,  25241,2,20180723,1911, 33.9925, 137.0012, 1111,   1013.1,   3.3161,   3.3161,2,  34.4270,2,  34.4278,6,     62.7,2,     63.4,6,   129.89,6,    40.37,6,     0.00,6,     2.88,6,   2343.6,2,   2377.0,2,   7.4229,2,    25.00,  -999.00,9,  -999.00,9,   3.3161,2,     1914
  49UF20180709,KS1806,  5431,  1,      4,  25238,2,20180723,1911, 33.9925, 137.0012, 1111,   1117.7,   2.9921,   2.9915,2,  34.4633,2,  34.4637,2,     65.8,2,     66.2,2,   135.95,2,    40.51,2,     0.00,2,     2.89,2,   2351.5,2,   2383.1,2,   7.4270,2,    25.00,  -999.00,9,  -999.00,9,   2.9915,2,     1911
  49UF20180709,KS1806,  5431,  1,      5,  25239,2,20180723,1911, 33.9925, 137.0012, 1111,   1117.9,   2.9925,   2.9927,2,  34.4632,2,  34.4635,2,     65.8,2,     65.8,2,   136.19,2,    40.69,2,     0.00,2,     2.89,2,   2349.2,2,   2383.1,2,   7.4291,2,    25.00,  -999.00,9,  -999.00,9,   2.9927,2,     1912
  49UF20180709,KS1806,  5434,  1,     99,     99,2,20180724,0642, 33.0102, 136.9970, 4307,      0.0,  29.1449,-999.0000,9,  34.1151,2,-999.0000,9,    200.6,2,    199.7,2,     1.59,2,     0.01,2,     0.00,2,     0.02,2,   -999.0,9,   -999.0,9,-999.0000,9,  -999.00,  -999.00,9,  -999.00,9,-999.0000,9,      736
  49UF20180709,KS1806,  5434,  1,     36,  25270,2,20180724,0642, 33.0102, 136.9970, 4307,     11.9,  28.5142,  28.5390,2,  34.1018,2,-999.0000,9,    202.3,2,    203.3,2,     1.57,2,     0.00,2,     0.00,2,     0.01,2,   -999.0,9,   -999.0,9,-999.0000,9,  -999.00,  -999.00,9,  -999.00,9,  28.5390,2,      746
  49UF20180709,KS1806,  5434,  1,     35,  25269,2,20180724,0642, 33.0102, 136.9970, 4307,     28.0,  22.8394,  22.8499,2,  34.2693,2,-999.0000,9,    226.7,2,    224.5,2,     2.25,2,     0.00,2,     0.00,2,     0.04,2,   -999.0,9,   -999.0,9,-999.0000,9,  -999.00,  -999.00,9,  -999.00,9,  22.8499,2,      744
  49UF20180709,KS1806,  5434,  1,     34,  25268,2,20180724,0642, 33.0102, 136.9970, 4307,     52.4,  18.6302,  18.6318,2,  34.6126,2,-999.0000,9,    200.8,2,    201.7,2,     6.28,2,     3.87,2,     0.24,2,     0.33,2,   -999.0,9,   -999.0,9,-999.0000,9,  -999.00,  -999.00,9,  -999.00,9,  18.6318,2,      741
  49UF20180709,KS1806,  5434,  1,     33,  25267,2,20180724,0642, 33.0102, 136.9970, 4307,     75.4,  16.7318,  16.7430,2,  34.6286,2,-999.0000,9,    179.6,2,    180.1,2,    11.36,2,     8.57,2,     0.04,2,     0.61,2,   -999.0,9,   -999.0,9,-999.0000,9,  -999.00,  -999.00,9,  -999.00,9,  16.7430,2,      739
  49UF20180709,KS1806,  5434,  1,     32,  25266,2,20180724,0642, 33.0102, 136.9970, 4307,    103.1,  14.9905,  14.9965,2,  34.5792,2,-999.0000,9,    181.5,2,    181.8,2,    15.28,2,    10.95,2,     0.02,2,     0.77,2,   -999.0,9,   -999.0,9,-999.0000,9,  -999.00,  -999.00,9,  -999.00,9,  14.9965,2,      738
  49UF20180709,KS1806,  5434,  1,     31,  25265,2,20180724,0642, 33.0102, 136.9970, 4307,    127.6,  13.7873,  13.7854,2,  34.5179,2,-999.0000,9,    174.5,2,    174.8,2,    19.78,2,    13.26,2,     0.01,2,     0.94,2,   -999.0,9,   -999.0,9,-999.0000,9,  -999.00,  -999.00,9,  -999.00,9,  13.7854,2,      736
  49UF20180709,KS1806,  5434,  1,     27,  25261,2,20180724,0642, 33.0102, 136.9970, 4307,    152.8,  13.0031,  13.0087,2,  34.4754,2,-999.0000,9,    166.3,2,    166.2,2,    23.69,2,    15.25,2,     0.01,2,     1.09,2,   -999.0,9,   -999.0,9,-999.0000,9,  -999.00,  -999.00,9,  -999.00,9,  13.0087,2,      735
  49UF20180709,KS1806,  5434,  1,     26,  25260,2,20180724,0642, 33.0102, 136.9970, 4307,    203.7,  10.8547,  10.8566,2,  34.3661,2,-999.0000,9,    142.2,2,    142.8,2,    36.48,2,    20.97,2,     0.01,2,     1.50,2,   -999.0,9,   -999.0,9,-999.0000,9,  -999.00,  -999.00,9,  -999.00,9,  10.8566,2,      733
  49UF20180709,KS1806,  5434,  1,     25,  25259,2,20180724,0642, 33.0102, 136.9970, 4307,    254.8,   9.2749,   9.2752,2,  34.2991,2,-999.0000,9,    128.4,2,    127.9,2,    47.21,2,    25.05,2,     0.00,2,     1.79,2,   -999.0,9,   -999.0,9,-999.0000,9,  -999.00,  -999.00,9,  -999.00,9,   9.2752,2,      731
  49UF20180709,KS1806,  5434,  1,     24,  25258,2,20180724,0642, 33.0102, 136.9970, 4307,    305.8,   7.9860,   7.9843,2,  34.2690,2,-999.0000,9,    115.0,2,    114.9,6,    57.83,6,    28.28,6,     0.00,6,     2.03,6,   -999.0,9,   -999.0,9,-999.0000,9,  -999.00,  -999.00,9,  -999.00,9,   7.9843,2,      729
  49UF20180709,KS1806,  5434,  1,     22,  24473,2,20180724,0642, 33.0102, 136.9970, 4307,    405.2,   6.2163,   6.2188,2,  34.2545,2,-999.0000,9,     93.2,2,     93.0,2,    78.32,2,    33.32,2,     0.00,2,     2.40,2,   -999.0,9,   -999.0,9,-999.0000,9,  -999.00,  -999.00,9,  -999.00,9,   6.2188,2,      726
  49UF20180709,KS1806,  5434,  1,     23,  25257,3,20180724,0642, 33.0102, 136.9970, 4307,    405.4,   6.2105,   6.2060,2,  34.2542,2,-999.0000,9,     93.1,2,     93.0,2,    78.27,2,    33.30,2,     0.00,2,     2.40,2,   -999.0,9,   -999.0,9,-999.0000,9,  -999.00,  -999.00,9,  -999.00,9,   6.2060,2,      727
  49UF20180709,KS1806,  5434,  1,     18,  25252,2,20180724,0642, 33.0102, 136.9970, 4307,    506.4,   5.2120,   5.2116,2,  34.2831,2,-999.0000,9,     78.2,2,     77.8,2,    93.43,2,    36.27,2,     0.00,2,     2.61,2,   -999.0,9,   -999.0,9,-999.0000,9,  -999.00,  -999.00,9,  -999.00,9,   5.2116,2,      724
  49UF20180709,KS1806,  5434,  1,     17,  25251,2,20180724,0642, 33.0102, 136.9970, 4307,    607.0,   4.4794,   4.4791,2,  34.3265,2,-999.0000,9,     68.6,2,     68.4,2,   106.15,2,    38.21,2,     0.00,2,     2.74,2,   -999.0,9,   -999.0,9,-999.0000,9,  -999.00,  -999.00,9,  -999.00,9,   4.4791,2,      721
  49UF20180709,KS1806,  5434,  1,     16,  25250,2,20180724,0642, 33.0102, 136.9970, 4307,    707.7,   3.9947,   3.9946,2,  34.3608,2,-999.0000,9,     63.7,2,     64.1,2,   115.55,2,    39.31,2,     0.00,2,     2.83,2,   -999.0,9,   -999.0,9,-999.0000,9,  -999.00,  -999.00,9,  -999.00,9,   3.9946,2,      718
  49UF20180709,KS1806,  5434,  1,     15,  25249,2,20180724,0642, 33.0102, 136.9970, 4307,    809.6,   3.6176,   3.6177,2,  34.3941,2,-999.0000,9,     61.4,2,     61.8,2,   123.28,2,    39.98,2,     0.00,2,     2.87,2,   -999.0,9,   -999.0,9,-999.0000,9,  -999.00,  -999.00,9,  -999.00,9,   3.6177,2,      715
  49UF20180709,KS1806,  5434,  1,     14,  25248,2,20180724,0642, 33.0102, 136.9970, 4307,    910.9,   3.2854,   3.2852,2,  34.4294,2,-999.0000,9,     61.6,2,     62.0,2,   130.33,2,    40.60,2,     0.00,2,     2.91,2,   -999.0,9,   -999.0,9,-999.0000,9,  -999.00,  -999.00,9,  -999.00,9,   3.2852,2,      713
  49UF20180709,KS1806,  5434,  1,     13,  25247,3,20180724,0642, 33.0102, 136.9970, 4307,   1012.4,   3.0385,   3.0384,2,  34.4551,2,-999.0000,9,     63.2,2,     63.6,2,   135.33,2,    40.65,2,     0.00,2,     2.91,2,   -999.0,9,   -999.0,9,-999.0000,9,  -999.00,  -999.00,9,  -999.00,9,   3.0384,2,      710
  49UF20180709,KS1806,  5434,  1,      9,  25243,2,20180724,0642, 33.0102, 136.9970, 4307,   1215.4,   2.6747,   2.6748,2,  34.5002,2,-999.0000,9,     70.6,2,     71.0,2,   141.95,2,    40.63,2,     0.00,2,     2.88,2,   -999.0,9,   -999.0,9,-999.0000,9,  -999.00,  -999.00,9,  -999.00,9,   2.6748,2,      701
  49UF20180709,KS1806,  5434,  1,      8,  25242,2,20180724,0642, 33.0102, 136.9970, 4307,   1415.7,   2.4014,   2.4014,2,  34.5383,2,-999.0000,9,     81.6,2,     81.9,2,   145.31,2,    40.03,2,     0.00,2,     2.84,2,   -999.0,9,   -999.0,9,-999.0000,9,  -999.00,  -999.00,9,  -999.00,9,   2.4014,2,      657
  49UF20180709,KS1806,  5434,  1,      7,  25241,2,20180724,0642, 33.0102, 136.9970, 4307,   1620.7,   2.2074,   2.2069,2,  34.5663,2,-999.0000,9,     91.0,2,     91.4,6,   147.13,6,    39.58,6,     0.00,6,     2.80,6,   -999.0,9,   -999.0,9,-999.0000,9,  -999.00,  -999.00,9,  -999.00,9,   2.2069,2,      652
  49UF20180709,KS1806,  5434,  1,      6,  25240,2,20180724,0642, 33.0102, 136.9970, 4307,   1822.2,   2.0302,   2.0295,2,  34.5926,2,-999.0000,9,    102.1,2,    102.2,2,   148.04,2,    38.99,2,     0.00,2,     2.75,2,   -999.0,9,   -999.0,9,-999.0000,9,  -999.00,  -999.00,9,  -999.00,9,   2.0295,2,      647
  49UF20180709,KS1806,  5434,  1,      5,  25239,2,20180724,0642, 33.0102, 136.9970, 4307,   1822.2,   2.0304,   2.0304,2,  34.5925,2,-999.0000,9,    102.0,2,    102.1,2,   147.96,2,    38.90,2,     0.00,2,     2.75,2,   -999.0,9,   -999.0,9,-999.0000,9,  -999.00,  -999.00,9,  -999.00,9,   2.0304,2,      647
  49UF20180709,KS1806,  5434,  1,      4,  25238,2,20180724,0642, 33.0102, 136.9970, 4307,   2029.0,   1.9012,   1.9014,2,  34.6129,2,-999.0000,9,    111.5,2,    111.6,2,   147.87,2,    38.49,2,     0.00,2,     2.71,2,   -999.0,9,   -999.0,9,-999.0000,9,  -999.00,  -999.00,9,  -999.00,9,   1.9014,2,      642