BOTTLE,20200311PRINUNIVRMK
EXPOCODE,SECT_ID,STNNBR,CASTNO,SAMPNO,BTLNBR,BTLNBR_FLAG_W,DATE,TIME,LATITUDE,LONGITUDE,DEPTH,CTDPRS,CTDTMP,SBE35,SBE35_FLAG_W,CTDSAL,CTDSAL_FLAG_W,SALNTY,SALNTY_FLAG_W,CTDOXY,CTDOXY_FLAG_W,OXYGEN,OXYGEN_FLAG_W,SILCAT,SILCAT_FLAG_W,NITRAT,NITRAT_FLAG_W,NITRIT,NITRIT_FLAG_W,PHSPHT,PHSPHT_FLAG_W,TCARBN,TCARBN_FLAG_W,ALKALI,ALKALI_FLAG_W,PH_TOT,PH_TOT_FLAG_W,PH_TMP,CHLORA,CHLORA_FLAG_W,PPHYTN,PPHYTN_FLAG_W,SBE35,SBE35_FLAG_W,BTL_TIME
,,,,,,,,,,,METERS,DBAR,ITS-90,,,PSS-78,,PSS-78,,UMOL/KG,,UMOL/KG,,UMOL/KG,,UMOL/KG,,UMOL/KG,,UMOL/KG,,UMOL/KG,,UMOL/KG,,,,DEG C,UG/KG,,UG/KG,,,,
  49UF20180709,KS1806,  5454,  1,     99,     99,2,20180731,2354, 18.0048, 136.9978, 5070,      0.0,  29.3345,-999.0000,9,  33.9978,2,-999.0000,9,    194.1,2,    194.2,2,     1.07,2,     0.00,2,     0.00,2,     0.01,2,   -999.0,9,   -999.0,9,-999.0000,9,  -999.00,     0.08,2,     0.03,2,-999.0000,9,      140
  49UF20180709,KS1806,  5454,  1,     36,  25270,2,20180731,2354, 18.0048, 136.9978, 5070,      9.6,  29.3461,  29.3488,2,  34.0063,2,  34.0055,2,    194.1,2,    194.1,2,     1.05,2,     0.03,2,     0.00,2,     0.00,2,   -999.0,9,   -999.0,9,-999.0000,9,  -999.00,     0.08,2,     0.03,2,  29.3488,2,      215
  49UF20180709,KS1806,  5454,  1,     35,  25269,2,20180731,2354, 18.0048, 136.9978, 5070,     24.2,  29.3792,  29.3825,2,  34.0761,2,-999.0000,9,    194.1,2,    194.1,2,     1.06,2,     0.00,2,     0.00,2,     0.00,2,   -999.0,9,   -999.0,9,-999.0000,9,  -999.00,     0.07,2,     0.03,2,  29.3825,2,      214
  49UF20180709,KS1806,  5454,  1,     34,  25268,2,20180731,2354, 18.0048, 136.9978, 5070,     50.9,  29.2180,  29.2195,2,  34.2895,2,-999.0000,9,    197.4,2,    196.9,2,     1.06,2,     0.00,2,     0.00,2,     0.01,2,   -999.0,9,   -999.0,9,-999.0000,9,  -999.00,     0.10,2,     0.04,2,  29.2195,2,      212
  49UF20180709,KS1806,  5454,  1,     33,  25267,2,20180731,2354, 18.0048, 136.9978, 5070,     75.0,  27.8901,  27.8862,2,  34.6385,2,-999.0000,9,    208.7,2,    207.5,6,     1.10,6,     0.00,6,     0.00,6,     0.02,6,   -999.0,9,   -999.0,9,-999.0000,9,  -999.00,     0.16,2,     0.08,2,  27.8862,2,      210
  49UF20180709,KS1806,  5454,  1,     32,  25266,2,20180731,2354, 18.0048, 136.9978, 5070,     99.5,  26.8317,  26.8386,2,  34.7496,2,  34.7504,2,    208.8,2,    207.2,2,     1.13,2,     0.01,2,     0.00,2,     0.02,2,   -999.0,9,   -999.0,9,-999.0000,9,  -999.00,     0.25,2,     0.16,2,  26.8386,2,      206
  49UF20180709,KS1806,  5454,  1,     31,  25265,2,20180731,2354, 18.0048, 136.9978, 5070,    123.7,  25.6532,  25.6505,2,  34.8664,2,-999.0000,9,    204.0,2,    203.5,2,     1.17,2,     0.00,2,     0.00,2,     0.02,2,   -999.0,9,   -999.0,9,-999.0000,9,  -999.00,     0.23,2,     0.26,2,  25.6505,2,      204
  49UF20180709,KS1806,  5454,  1,     30,  25264,2,20180731,2354, 18.0048, 136.9978, 5070,    150.5,  23.7318,  23.7352,2,  34.9788,2,-999.0000,9,    205.6,2,    205.0,2,     1.40,2,    -0.04,2,     0.07,2,     0.03,2,   -999.0,9,   -999.0,9,-999.0000,9,  -999.00,     0.13,2,     0.18,2,  23.7352,2,      202
  49UF20180709,KS1806,  5454,  1,     29,  25263,2,20180731,2354, 18.0048, 136.9978, 5070,    200.9,  20.8574,  20.8576,2,  34.9749,2,-999.0000,9,    200.8,2,    200.0,2,     1.96,2,     1.15,2,     0.02,2,     0.11,2,   -999.0,9,   -999.0,9,-999.0000,9,  -999.00,     0.03,2,     0.14,2,  20.8576,2,      200
  49UF20180709,KS1806,  5454,  1,     28,  25262,2,20180731,2354, 18.0048, 136.9978, 5070,    251.5,  18.4982,  18.4975,2,  34.8692,2,-999.0000,9,    197.0,2,    196.4,2,     3.35,2,     3.82,2,     0.01,2,     0.27,2,   -999.0,9,   -999.0,9,-999.0000,9,  -999.00,  -999.00,9,  -999.00,9,  18.4975,2,      158
  49UF20180709,KS1806,  5454,  1,     27,  25261,2,20180731,2354, 18.0048, 136.9978, 5070,    303.3,  17.0395,  17.0428,2,  34.7602,2,  34.7614,6,    202.3,2,    201.6,6,     4.72,6,     5.38,6,     0.00,6,     0.36,6,   -999.0,9,   -999.0,9,-999.0000,9,  -999.00,  -999.00,9,  -999.00,9,  17.0428,2,      156
  49UF20180709,KS1806,  5454,  1,     26,  25260,2,20180731,2354, 18.0048, 136.9978, 5070,    350.5,  16.0171,  16.0147,2,  34.6609,2,-999.0000,9,    197.2,2,    197.0,2,     6.89,2,     7.27,2,     0.00,2,     0.49,2,   -999.0,9,   -999.0,9,-999.0000,9,  -999.00,  -999.00,9,  -999.00,9,  16.0147,2,      153
  49UF20180709,KS1806,  5454,  1,     25,  25259,2,20180731,2354, 18.0048, 136.9978, 5070,    403.4,  13.8229,  13.8245,2,  34.4615,2,-999.0000,9,    187.0,2,    187.0,2,    12.27,2,    11.36,2,     0.00,2,     0.80,2,   -999.0,9,   -999.0,9,-999.0000,9,  -999.00,  -999.00,9,  -999.00,9,  13.8245,2,      151
  49UF20180709,KS1806,  5454,  1,     24,  25258,2,20180731,2354, 18.0048, 136.9978, 5070,    451.4,  11.9637,  11.9597,2,  34.3230,2,-999.0000,9,    180.4,2,    180.3,2,    18.39,2,    15.12,2,     0.00,2,     1.07,2,   -999.0,9,   -999.0,9,-999.0000,9,  -999.00,  -999.00,9,  -999.00,9,  11.9597,2,      149
  49UF20180709,KS1806,  5454,  1,     23,  25257,2,20180731,2354, 18.0048, 136.9978, 5070,    503.5,   9.8475,   9.8459,2,  34.2260,2,-999.0000,9,    142.1,2,    143.8,2,    30.28,2,    22.00,2,     0.00,2,     1.59,2,   -999.0,9,   -999.0,9,-999.0000,9,  -999.00,  -999.00,9,  -999.00,9,   9.8459,2,      147
  49UF20180709,KS1806,  5454,  1,     22,  24473,2,20180731,2354, 18.0048, 136.9978, 5070,    603.8,   7.2770,   7.2743,2,  34.2262,2,-999.0000,9,     87.1,2,     86.7,2,    55.71,2,    32.32,2,     0.00,2,     2.34,2,   -999.0,9,   -999.0,9,-999.0000,9,  -999.00,  -999.00,9,  -999.00,9,   7.2743,2,      144
  49UF20180709,KS1806,  5454,  1,     21,  25255,2,20180731,2354, 18.0048, 136.9978, 5070,    705.5,   5.9851,   5.9853,2,  34.3405,2,-999.0000,9,     72.3,2,     72.0,2,    74.93,2,    36.04,2,     0.00,2,     2.62,2,   -999.0,9,   -999.0,9,-999.0000,9,  -999.00,  -999.00,9,  -999.00,9,   5.9853,2,      141
  49UF20180709,KS1806,  5454,  1,     20,  24270,3,20180731,2354, 18.0048, 136.9978, 5070,    807.8,   5.1232,   5.1231,2,  34.4082,2,  34.4086,2,     72.5,2,     72.3,2,    89.13,2,    37.57,2,     0.00,2,     2.71,2,   -999.0,9,   -999.0,9,-999.0000,9,  -999.00,  -999.00,9,  -999.00,9,   5.1231,2,      138
  49UF20180709,KS1806,  5454,  1,     19,  25253,2,20180731,2354, 18.0048, 136.9978, 5070,    907.3,   4.4610,   4.4607,2,  34.4434,2,-999.0000,9,     71.4,2,     71.5,2,   102.47,2,    38.78,2,     0.00,2,     2.78,2,   -999.0,9,   -999.0,9,-999.0000,9,  -999.00,  -999.00,9,  -999.00,9,   4.4607,2,      135
  49UF20180709,KS1806,  5454,  1,     18,  25252,2,20180731,2354, 18.0048, 136.9978, 5070,   1010.0,   4.0422,   4.0402,2,  34.4823,2,  34.4824,2,     76.3,2,     76.2,2,   110.46,2,    38.70,2,     0.00,2,     2.78,2,   -999.0,9,   -999.0,9,-999.0000,9,  -999.00,  -999.00,9,  -999.00,9,   4.0402,2,      132
  49UF20180709,KS1806,  5454,  1,     17,  25251,2,20180731,2354, 18.0048, 136.9978, 5070,   1212.1,   3.3845,   3.3845,2,  34.5347,2,-999.0000,9,     86.9,2,     86.8,2,   122.85,2,    38.83,2,     0.00,2,     2.76,2,   -999.0,9,   -999.0,9,-999.0000,9,  -999.00,  -999.00,9,  -999.00,9,   3.3845,2,      127
  49UF20180709,KS1806,  5454,  1,     16,  25250,2,20180731,2354, 18.0048, 136.9978, 5070,   1414.3,   2.8865,   2.8865,2,  34.5680,2,-999.0000,9,     94.5,2,     94.4,2,   131.28,2,    38.50,2,     0.00,2,     2.75,2,   -999.0,9,   -999.0,9,-999.0000,9,  -999.00,  -999.00,9,  -999.00,9,   2.8865,2,      122
  49UF20180709,KS1806,  5454,  1,     15,  25249,2,20180731,2354, 18.0048, 136.9978, 5070,   1616.3,   2.5402,   2.5402,2,  34.5904,2,  34.5907,2,    100.6,2,    100.6,2,   136.70,2,    38.70,2,     0.00,2,     2.74,2,   -999.0,9,   -999.0,9,-999.0000,9,  -999.00,  -999.00,9,  -999.00,9,   2.5402,2,      117
  49UF20180709,KS1806,  5454,  1,     14,  25248,2,20180731,2354, 18.0048, 136.9978, 5070,   1818.3,   2.2711,   2.2711,2,  34.6076,2,-999.0000,9,    106.4,2,    106.5,2,   140.96,2,    38.37,2,     0.00,2,     2.72,2,   -999.0,9,   -999.0,9,-999.0000,9,  -999.00,  -999.00,9,  -999.00,9,   2.2711,2,      112
  49UF20180709,KS1806,  5454,  1,     13,  25247,2,20180731,2354, 18.0048, 136.9978, 5070,   2021.8,   2.0725,   2.0715,2,  34.6223,2,  34.6223,2,    113.1,2,    113.0,2,   143.60,2,    38.24,2,     0.00,2,     2.70,2,   -999.0,9,   -999.0,9,-999.0000,9,  -999.00,  -999.00,9,  -999.00,9,   2.0715,2,      107
  49UF20180709,KS1806,  5454,  1,     12,  25246,2,20180731,2354, 18.0048, 136.9978, 5070,   2277.6,   1.9083,   1.9083,2,  34.6375,2,  34.6379,2,    120.6,2,    120.8,2,   145.19,2,    37.63,2,     0.00,2,     2.66,2,   -999.0,9,   -999.0,9,-999.0000,9,  -999.00,  -999.00,9,  -999.00,9,   1.9083,2,      101
  49UF20180709,KS1806,  5454,  1,     11,  25245,2,20180731,2354, 18.0048, 136.9978, 5070,   2530.4,   1.7854,   1.7855,2,  34.6496,2,  34.6497,2,    127.3,2,    127.2,6,   146.24,6,    37.53,6,     0.00,6,     2.63,6,   -999.0,9,   -999.0,9,-999.0000,9,  -999.00,  -999.00,9,  -999.00,9,   1.7855,2,       55
  49UF20180709,KS1806,  5454,  1,     10,  25244,2,20180731,2354, 18.0048, 136.9978, 5070,   2785.1,   1.7159,   1.7160,2,  34.6571,2,  34.6575,2,    132.4,2,    132.3,2,   146.31,2,    36.97,2,     0.00,2,     2.60,2,   -999.0,9,   -999.0,9,-999.0000,9,  -999.00,  -999.00,9,  -999.00,9,   1.7160,2,       49
  49UF20180709,KS1806,  5454,  1,      9,  25243,2,20180731,2354, 18.0048, 136.9978, 5070,   3040.1,   1.6463,   1.6463,2,  34.6646,2,  34.6649,6,    138.6,2,    138.7,2,   145.50,2,    36.87,2,     0.00,2,     2.57,2,   -999.0,9,   -999.0,9,-999.0000,9,  -999.00,  -999.00,9,  -999.00,9,   1.6463,2,       43
  49UF20180709,KS1806,  5454,  1,      8,  25242,2,20180731,2354, 18.0048, 136.9978, 5070,   3295.5,   1.5994,   1.5995,2,  34.6706,2,  34.6708,2,    143.5,2,    143.6,2,   144.86,2,    36.24,2,     0.00,2,     2.54,2,   -999.0,9,   -999.0,9,-999.0000,9,  -999.00,  -999.00,9,  -999.00,9,   1.5995,2,       37
  49UF20180709,KS1806,  5454,  1,      7,  25241,2,20180731,2354, 18.0048, 136.9978, 5070,   3552.1,   1.5740,   1.5739,2,  34.6747,2,  34.6746,2,    147.2,2,    147.0,2,   144.39,2,    36.26,2,     0.00,2,     2.53,2,   -999.0,9,   -999.0,9,-999.0000,9,  -999.00,  -999.00,9,  -999.00,9,   1.5739,2,       31
  49UF20180709,KS1806,  5454,  1,      6,  25240,2,20180731,2354, 18.0048, 136.9978, 5070,   3805.8,   1.5551,   1.5552,2,  34.6783,2,  34.6784,2,    150.5,2,    150.3,2,   143.64,2,    35.85,2,     0.00,2,     2.51,2,   -999.0,9,   -999.0,9,-999.0000,9,  -999.00,  -999.00,9,  -999.00,9,   1.5552,2,       24
  49UF20180709,KS1806,  5454,  1,      5,  25239,2,20180731,2354, 18.0048, 136.9978, 5070,   4062.6,   1.5269,   1.5269,2,  34.6824,2,  34.6822,2,    155.2,2,    155.1,6,   142.55,6,    35.77,6,     0.00,6,     2.49,6,   -999.0,9,   -999.0,9,-999.0000,9,  -999.00,  -999.00,9,  -999.00,9,   1.5269,2,       18
  49UF20180709,KS1806,  5454,  1,      4,  25238,2,20180731,2354, 18.0048, 136.9978, 5070,   4317.6,   1.5220,   1.5218,2,  34.6851,2,  34.6850,2,    158.2,2,    158.2,2,   141.51,2,    35.62,2,     0.00,2,     2.47,2,   -999.0,9,   -999.0,9,-999.0000,9,  -999.00,  -999.00,9,  -999.00,9,   1.5218,2,       12
  49UF20180709,KS1806,  5454,  1,      3,  24271,2,20180731,2354, 18.0048, 136.9978, 5070,   4576.0,   1.5374,   1.5374,2,  34.6861,2,  34.6859,2,    159.6,2,    159.2,2,   141.16,2,    35.48,2,     0.00,2,     2.46,2,   -999.0,9,   -999.0,9,-999.0000,9,  -999.00,  -999.00,9,  -999.00,9,   1.5374,2,        6
  49UF20180709,KS1806,  5454,  1,      2,  25236,2,20180731,2354, 18.0048, 136.9978, 5070,   4833.0,   1.5658,   1.5660,2,  34.6863,2,  34.6861,2,    159.8,2,    159.6,2,   141.03,2,    35.51,2,     0.00,2,     2.46,2,   -999.0,9,   -999.0,9,-999.0000,9,  -999.00,  -999.00,9,  -999.00,9,   1.5660,2,     2359
  49UF20180709,KS1806,  5454,  1,      1,  24272,2,20180731,2354, 18.0048, 136.9978, 5070,   5000.7,   1.5864,   1.5865,2,  34.6863,2,  34.6862,2,    160.1,2,    159.8,2,   141.18,2,    35.38,2,     0.00,2,     2.47,2,   -999.0,9,   -999.0,9,-999.0000,9,  -999.00,  -999.00,9,  -999.00,9,   1.5865,2,     2354