BOTTLE,20200311PRINUNIVRMK
EXPOCODE,SECT_ID,STNNBR,CASTNO,SAMPNO,BTLNBR,BTLNBR_FLAG_W,DATE,TIME,LATITUDE,LONGITUDE,DEPTH,CTDPRS,CTDTMP,SBE35,SBE35_FLAG_W,CTDSAL,CTDSAL_FLAG_W,SALNTY,SALNTY_FLAG_W,CTDOXY,CTDOXY_FLAG_W,OXYGEN,OXYGEN_FLAG_W,SILCAT,SILCAT_FLAG_W,NITRAT,NITRAT_FLAG_W,NITRIT,NITRIT_FLAG_W,PHSPHT,PHSPHT_FLAG_W,TCARBN,TCARBN_FLAG_W,ALKALI,ALKALI_FLAG_W,PH_TOT,PH_TOT_FLAG_W,PH_TMP,CHLORA,CHLORA_FLAG_W,PPHYTN,PPHYTN_FLAG_W,SBE35,SBE35_FLAG_W,BTL_TIME
,,,,,,,,,,,METERS,DBAR,ITS-90,,,PSS-78,,PSS-78,,UMOL/KG,,UMOL/KG,,UMOL/KG,,UMOL/KG,,UMOL/KG,,UMOL/KG,,UMOL/KG,,UMOL/KG,,,,DEG C,UG/KG,,UG/KG,,,,
  49UF20180709,KS1806,  5467,  1,     99,     99,2,20180815,2155,  5.9988, 136.9890, 4248,      0.0,  28.9745,-999.0000,9,  33.7735,2,-999.0000,9,    196.5,2,    196.6,2,     1.35,2,     0.00,2,     0.00,2,     0.03,2,   -999.0,9,   -999.0,9,-999.0000,9,  -999.00,  -999.00,9,  -999.00,9,-999.0000,9,     2230
  49UF20180709,KS1806,  5467,  1,     36,  25270,2,20180815,2155,  5.9988, 136.9890, 4248,     10.0,  28.9731,  28.9750,2,  33.7741,2,-999.0000,9,    196.5,2,    196.5,2,     1.34,2,     0.00,2,     0.00,2,     0.02,2,   -999.0,9,   -999.0,9,-999.0000,9,  -999.00,  -999.00,9,  -999.00,9,  28.9750,2,     2259
  49UF20180709,KS1806,  5467,  1,     35,  25269,2,20180815,2155,  5.9988, 136.9890, 4248,     26.7,  28.9779,  28.9798,2,  33.7737,2,-999.0000,9,    196.4,2,    197.0,2,     1.37,2,     0.00,2,     0.00,2,     0.03,2,   -999.0,9,   -999.0,9,-999.0000,9,  -999.00,  -999.00,9,  -999.00,9,  28.9798,2,     2258
  49UF20180709,KS1806,  5467,  1,     34,  25268,2,20180815,2155,  5.9988, 136.9890, 4248,     49.7,  28.9980,  28.9995,2,  33.7972,2,-999.0000,9,    196.5,2,    196.7,2,     1.37,2,     0.00,2,     0.00,2,     0.03,2,   -999.0,9,   -999.0,9,-999.0000,9,  -999.00,  -999.00,9,  -999.00,9,  28.9995,2,     2256
  49UF20180709,KS1806,  5467,  1,     30,  25264,2,20180815,2155,  5.9988, 136.9890, 4248,     75.3,  27.3347,  27.3273,2,  34.4827,2,-999.0000,9,    192.2,2,    192.6,2,     1.99,2,     0.00,2,     0.00,2,     0.11,2,   -999.0,9,   -999.0,9,-999.0000,9,  -999.00,  -999.00,9,  -999.00,9,  27.3273,2,     2255
  49UF20180709,KS1806,  5467,  1,     29,  25263,2,20180815,2155,  5.9988, 136.9890, 4248,    101.4,  21.6534,  21.6557,2,  34.8352,2,-999.0000,9,    165.5,2,    166.1,2,     4.61,2,     2.60,2,     0.33,2,     0.40,2,   -999.0,9,   -999.0,9,-999.0000,9,  -999.00,  -999.00,9,  -999.00,9,  21.6557,2,     2253
  49UF20180709,KS1806,  5467,  1,     28,  25262,2,20180815,2155,  5.9988, 136.9890, 4248,    126.1,  17.6893,  17.6824,2,  34.7586,2,-999.0000,9,    156.9,2,    157.1,2,     8.42,2,     9.27,2,     0.04,2,     0.72,2,   -999.0,9,   -999.0,9,-999.0000,9,  -999.00,  -999.00,9,  -999.00,9,  17.6824,2,     2252
  49UF20180709,KS1806,  5467,  1,     27,  25261,2,20180815,2155,  5.9988, 136.9890, 4248,    126.6,  17.5940,  17.6310,2,  34.7526,2,-999.0000,9,    157.1,2,    156.6,2,     8.52,2,     9.24,2,     0.05,2,     0.73,2,   -999.0,9,   -999.0,9,-999.0000,9,  -999.00,  -999.00,9,  -999.00,9,  17.6310,2,     2252
  49UF20180709,KS1806,  5467,  1,     26,  25260,2,20180815,2155,  5.9988, 136.9890, 4248,    151.8,  14.0572,  14.0509,2,  34.5267,2,-999.0000,9,    140.3,2,    139.9,6,    16.74,6,    16.18,6,     0.01,6,     1.18,6,   -999.0,9,   -999.0,9,-999.0000,9,  -999.00,  -999.00,9,  -999.00,9,  14.0509,2,     2250
  49UF20180709,KS1806,  5467,  1,     25,  25259,2,20180815,2155,  5.9988, 136.9890, 4248,    201.7,  10.2944,  10.2880,2,  34.4002,2,-999.0000,9,    107.8,2,    107.6,2,    32.15,2,    25.64,2,     0.00,2,     1.84,2,   -999.0,9,   -999.0,9,-999.0000,9,  -999.00,  -999.00,9,  -999.00,9,  10.2880,2,     2246
  49UF20180709,KS1806,  5467,  1,     23,  25257,2,20180815,2155,  5.9988, 136.9890, 4248,    250.8,   9.3442,   9.3418,2,  34.5726,2,-999.0000,9,     79.2,2,     85.3,2,    36.88,2,    30.45,2,     0.00,2,     2.15,2,   -999.0,9,   -999.0,9,-999.0000,9,  -999.00,  -999.00,9,  -999.00,9,   9.3418,2,     2244
  49UF20180709,KS1806,  5467,  1,     21,  25255,2,20180815,2155,  5.9988, 136.9890, 4248,    295.8,   8.8663,   8.8665,2,  34.5871,2,-999.0000,9,     73.9,2,     73.8,2,    37.61,2,    32.54,2,     0.00,2,     2.29,2,   -999.0,9,   -999.0,9,-999.0000,9,  -999.00,  -999.00,9,  -999.00,9,   8.8665,2,     2242
  49UF20180709,KS1806,  5467,  1,     22,  24473,2,20180815,2155,  5.9988, 136.9890, 4248,    296.3,   8.8677,   8.8680,2,  34.5871,2,-999.0000,9,     73.9,2,     74.0,2,    37.43,2,    32.48,2,     0.00,2,     2.29,2,   -999.0,9,   -999.0,9,-999.0000,9,  -999.00,  -999.00,9,  -999.00,9,   8.8680,2,     2242
  49UF20180709,KS1806,  5467,  1,     20,  24270,2,20180815,2155,  5.9988, 136.9890, 4248,    351.2,   8.5221,   8.5221,2,  34.5843,2,-999.0000,9,     81.8,2,     81.5,2,    38.13,2,    32.77,2,     0.00,2,     2.29,2,   -999.0,9,   -999.0,9,-999.0000,9,  -999.00,  -999.00,9,  -999.00,9,   8.5221,2,     2240
  49UF20180709,KS1806,  5467,  1,     19,  25253,2,20180815,2155,  5.9988, 136.9890, 4248,    406.3,   8.1942,   8.1942,2,  34.5782,2,-999.0000,9,     86.7,2,     88.6,2,    38.92,2,    32.53,2,     0.00,2,     2.29,2,   -999.0,9,   -999.0,9,-999.0000,9,  -999.00,  -999.00,9,  -999.00,9,   8.1942,2,     2238
  49UF20180709,KS1806,  5467,  1,     18,  25252,2,20180815,2155,  5.9988, 136.9890, 4248,    453.3,   7.8339,   7.8345,2,  34.5631,2,-999.0000,9,     98.2,2,     97.1,2,    40.36,2,    32.56,2,     0.00,2,     2.28,2,   -999.0,9,   -999.0,9,-999.0000,9,  -999.00,  -999.00,9,  -999.00,9,   7.8345,2,     2236
  49UF20180709,KS1806,  5467,  1,     17,  25251,2,20180815,2155,  5.9988, 136.9890, 4248,    504.5,   7.3412,   7.3408,2,  34.5454,2,-999.0000,9,     93.1,2,     92.6,2,    46.01,2,    33.67,2,     0.00,2,     2.38,2,   -999.0,9,   -999.0,9,-999.0000,9,  -999.00,  -999.00,9,  -999.00,9,   7.3408,2,     2234
  49UF20180709,KS1806,  5467,  1,     16,  25250,2,20180815,2155,  5.9988, 136.9890, 4248,    602.0,   6.7087,   6.7083,2,  34.5321,2,-999.0000,9,     93.7,2,     93.0,2,    53.33,2,    34.67,2,     0.00,2,     2.47,2,   -999.0,9,   -999.0,9,-999.0000,9,  -999.00,  -999.00,9,  -999.00,9,   6.7083,2,     2231
  49UF20180709,KS1806,  5467,  1,     12,  25246,2,20180815,2155,  5.9988, 136.9890, 4248,    706.1,   6.1366,   6.1376,2,  34.5269,2,-999.0000,9,     86.6,2,     86.3,2,    63.74,2,    36.53,2,     0.00,2,     2.59,2,   -999.0,9,   -999.0,9,-999.0000,9,  -999.00,  -999.00,9,  -999.00,9,   6.1376,2,     2228
  49UF20180709,KS1806,  5467,  1,     11,  25245,2,20180815,2155,  5.9988, 136.9890, 4248,    809.1,   5.5456,   5.5472,2,  34.5350,2,-999.0000,9,     82.3,2,     81.9,2,    73.78,2,    37.74,2,     0.00,2,     2.68,2,   -999.0,9,   -999.0,9,-999.0000,9,  -999.00,  -999.00,9,  -999.00,9,   5.5472,2,     2225
  49UF20180709,KS1806,  5467,  1,     10,  25244,2,20180815,2155,  5.9988, 136.9890, 4248,    906.1,   4.9766,   4.9767,2,  34.5439,2,-999.0000,9,     83.1,2,     83.1,2,    83.72,2,    38.33,2,     0.00,2,     2.73,2,   -999.0,9,   -999.0,9,-999.0000,9,  -999.00,  -999.00,9,  -999.00,9,   4.9767,2,     2222
  49UF20180709,KS1806,  5467,  1,      9,  25243,2,20180815,2155,  5.9988, 136.9890, 4248,   1005.2,   4.4664,   4.4670,2,  34.5543,2,-999.0000,9,     86.3,2,     86.2,2,    93.80,2,    38.79,2,     0.00,2,     2.76,2,   -999.0,9,   -999.0,9,-999.0000,9,  -999.00,  -999.00,9,  -999.00,9,   4.4670,2,     2219
  49UF20180709,KS1806,  5467,  1,      8,  25242,2,20180815,2155,  5.9988, 136.9890, 4248,   1209.7,   3.6932,   3.6932,2,  34.5751,2,-999.0000,9,     90.9,2,     90.9,2,   108.99,2,    39.23,2,     0.00,2,     2.78,2,   -999.0,9,   -999.0,9,-999.0000,9,  -999.00,  -999.00,9,  -999.00,9,   3.6932,2,     2215
  49UF20180709,KS1806,  5467,  1,      7,  25241,2,20180815,2155,  5.9988, 136.9890, 4248,   1209.8,   3.6931,   3.6932,2,  34.5751,2,-999.0000,9,     91.0,2,     90.7,2,   109.05,2,    38.93,2,     0.00,2,     2.78,2,   -999.0,9,   -999.0,9,-999.0000,9,  -999.00,  -999.00,9,  -999.00,9,   3.6932,2,     2214
  49UF20180709,KS1806,  5467,  1,      4,  25238,2,20180815,2155,  5.9988, 136.9890, 4248,   1413.8,   3.1303,   3.1302,2,  34.5938,2,-999.0000,9,     96.3,2,     96.3,2,   121.23,2,    39.41,2,     0.00,2,     2.78,2,   -999.0,9,   -999.0,9,-999.0000,9,  -999.00,  -999.00,9,  -999.00,9,   3.1302,2,     2210
  49UF20180709,KS1806,  5467,  1,      3,  24271,2,20180815,2155,  5.9988, 136.9890, 4248,   1615.8,   2.7180,   2.7182,2,  34.6099,2,-999.0000,9,    103.1,2,    102.9,2,   129.51,2,    38.87,2,     0.00,2,     2.75,2,   -999.0,9,   -999.0,9,-999.0000,9,  -999.00,  -999.00,9,  -999.00,9,   2.7182,2,     2205
  49UF20180709,KS1806,  5467,  1,      2,  25236,2,20180815,2155,  5.9988, 136.9890, 4248,   1819.0,   2.3213,   2.3222,2,  34.6287,2,-999.0000,9,    111.4,2,    111.4,6,   136.86,6,    38.54,6,     0.00,6,     2.71,6,   -999.0,9,   -999.0,9,-999.0000,9,  -999.00,  -999.00,9,  -999.00,9,   2.3222,2,     2200
  49UF20180709,KS1806,  5467,  1,      1,  24272,2,20180815,2155,  5.9988, 136.9890, 4248,   2021.4,   2.0973,   2.0971,2,  34.6401,2,-999.0000,9,    118.5,2,    118.0,2,   140.87,2,    38.02,2,     0.00,2,     2.68,2,   -999.0,9,   -999.0,9,-999.0000,9,  -999.00,  -999.00,9,  -999.00,9,   2.0971,2,     2155
  49UF20180709,KS1806,  5468,  1,     99,     99,2,20180817,0023,  7.0060, 137.0015, 4241,      0.0,  28.9462,-999.0000,9,  33.6228,2,-999.0000,9,    196.5,2,    196.9,2,     1.43,2,     0.11,2,     0.00,2,     0.01,2,   -999.0,9,   -999.0,9,-999.0000,9,  -999.00,  -999.00,9,  -999.00,9,-999.0000,9,      110
  49UF20180709,KS1806,  5468,  1,     36,  25270,2,20180817,0023,  7.0060, 137.0015, 4241,     10.3,  28.9404,  28.9494,2,  33.6228,2,-999.0000,9,    196.5,2,    196.8,2,     1.41,2,     0.09,2,     0.00,2,     0.01,2,   -999.0,9,   -999.0,9,-999.0000,9,  -999.00,  -999.00,9,  -999.00,9,  28.9494,2,      127
  49UF20180709,KS1806,  5468,  1,     35,  25269,2,20180817,0023,  7.0060, 137.0015, 4241,     25.7,  28.9196,  28.9214,2,  33.6227,2,-999.0000,9,    196.5,2,    196.7,2,     1.41,2,     0.14,2,     0.00,2,     0.01,2,   -999.0,9,   -999.0,9,-999.0000,9,  -999.00,  -999.00,9,  -999.00,9,  28.9214,2,      126
  49UF20180709,KS1806,  5468,  1,     34,  25268,4,20180817,0023,  7.0060, 137.0015, 4241,     50.9,  28.9166,  28.9202,2,  33.6239,2,-999.0000,9,    196.4,2,   -999.0,9,  -999.00,9,  -999.00,9,  -999.00,9,  -999.00,9,   -999.0,9,   -999.0,9,-999.0000,9,  -999.00,  -999.00,9,  -999.00,9,  28.9202,2,      124
  49UF20180709,KS1806,  5468,  1,     30,  25264,2,20180817,0023,  7.0060, 137.0015, 4241,     76.1,  27.1999,  27.2039,2,  34.4725,2,-999.0000,9,    193.4,2,    194.1,2,     2.06,2,     0.14,2,     0.00,2,     0.09,2,   -999.0,9,   -999.0,9,-999.0000,9,  -999.00,  -999.00,9,  -999.00,9,  27.2039,2,      123
  49UF20180709,KS1806,  5468,  1,     29,  25263,2,20180817,0023,  7.0060, 137.0015, 4241,    100.3,  20.8979,  20.8800,2,  34.8753,2,-999.0000,9,    158.4,2,    158.6,2,     5.24,2,     5.54,2,     0.08,2,     0.51,2,   -999.0,9,   -999.0,9,-999.0000,9,  -999.00,  -999.00,9,  -999.00,9,  20.8800,2,      121
  49UF20180709,KS1806,  5468,  1,     28,  25262,2,20180817,0023,  7.0060, 137.0015, 4241,    126.5,  15.6659,  15.6564,2,  34.6129,2,-999.0000,9,    158.1,2,    157.2,2,    11.52,2,    12.05,2,     0.00,2,     0.89,2,   -999.0,9,   -999.0,9,-999.0000,9,  -999.00,  -999.00,9,  -999.00,9,  15.6564,2,      119
  49UF20180709,KS1806,  5468,  1,     27,  25261,2,20180817,0023,  7.0060, 137.0015, 4241,    149.6,  13.1247,  13.1218,2,  34.5550,2,-999.0000,9,    133.7,2,    132.6,6,    21.12,6,    18.78,6,     0.00,6,     1.36,6,   -999.0,9,   -999.0,9,-999.0000,9,  -999.00,  -999.00,9,  -999.00,9,  13.1218,2,      116
  49UF20180709,KS1806,  5468,  1,     25,  25259,2,20180817,0023,  7.0060, 137.0015, 4241,    200.7,  10.8506,  10.8605,2,  34.4881,2,-999.0000,9,    106.2,2,    106.1,2,    29.80,2,    25.12,2,     0.00,2,     1.80,2,   -999.0,9,   -999.0,9,-999.0000,9,  -999.00,  -999.00,9,  -999.00,9,  10.8605,2,      114
  49UF20180709,KS1806,  5468,  1,     26,  25260,2,20180817,0023,  7.0060, 137.0015, 4241,    200.9,  10.8319,  10.8338,2,  34.4897,2,-999.0000,9,    105.3,2,    106.4,2,    29.75,2,    25.08,2,     0.00,2,     1.80,2,   -999.0,9,   -999.0,9,-999.0000,9,  -999.00,  -999.00,9,  -999.00,9,  10.8338,2,      114
  49UF20180709,KS1806,  5468,  1,     23,  25257,2,20180817,0023,  7.0060, 137.0015, 4241,    254.4,   9.6827,   9.6826,2,  34.5396,2,-999.0000,9,     83.8,2,     84.3,2,    35.08,2,    29.69,2,     0.00,2,     2.11,2,   -999.0,9,   -999.0,9,-999.0000,9,  -999.00,  -999.00,9,  -999.00,9,   9.6826,2,      112
  49UF20180709,KS1806,  5468,  1,     22,  24473,2,20180817,0023,  7.0060, 137.0015, 4241,    302.6,   9.2408,   9.2410,2,  34.5632,2,-999.0000,9,     81.3,2,     81.3,2,    36.32,2,    30.95,2,     0.01,2,     2.19,2,   -999.0,9,   -999.0,9,-999.0000,9,  -999.00,  -999.00,9,  -999.00,9,   9.2410,2,      110
  49UF20180709,KS1806,  5468,  1,     21,  25255,2,20180817,0023,  7.0060, 137.0015, 4241,    350.5,   8.8317,   8.8315,2,  34.5702,2,-999.0000,9,     85.6,2,     86.0,2,    37.30,2,    31.32,2,     0.00,2,     2.21,2,   -999.0,9,   -999.0,9,-999.0000,9,  -999.00,  -999.00,9,  -999.00,9,   8.8315,2,      108
  49UF20180709,KS1806,  5468,  1,     20,  24270,2,20180817,0023,  7.0060, 137.0015, 4241,    400.7,   8.3838,   8.3838,2,  34.5688,2,-999.0000,9,     85.5,2,     85.7,2,    39.09,2,    32.51,2,     0.00,2,     2.28,2,   -999.0,9,   -999.0,9,-999.0000,9,  -999.00,  -999.00,9,  -999.00,9,   8.3838,2,      106
  49UF20180709,KS1806,  5468,  1,     18,  25252,2,20180817,0023,  7.0060, 137.0015, 4241,    453.2,   7.9958,   7.9960,2,  34.5561,2,-999.0000,9,     89.0,2,     90.2,2,    41.34,2,    32.57,2,     0.00,2,     2.30,2,   -999.0,9,   -999.0,9,-999.0000,9,  -999.00,  -999.00,9,  -999.00,9,   7.9960,2,      104
  49UF20180709,KS1806,  5468,  1,     17,  25251,2,20180817,0023,  7.0060, 137.0015, 4241,    503.6,   7.6161,   7.6160,2,  34.5423,2,-999.0000,9,     91.4,2,     91.7,2,    44.49,2,    33.43,2,     0.00,2,     2.35,2,   -999.0,9,   -999.0,9,-999.0000,9,  -999.00,  -999.00,9,  -999.00,9,   7.6160,2,      102
  49UF20180709,KS1806,  5468,  1,     16,  25250,2,20180817,0023,  7.0060, 137.0015, 4241,    605.9,   6.8336,   6.8318,2,  34.5266,2,-999.0000,9,     90.6,2,     90.9,2,    52.98,2,    34.66,2,     0.00,2,     2.46,2,   -999.0,9,   -999.0,9,-999.0000,9,  -999.00,  -999.00,9,  -999.00,9,   6.8318,2,       59
  49UF20180709,KS1806,  5468,  1,     12,  25246,2,20180817,0023,  7.0060, 137.0015, 4241,    705.1,   6.1344,   6.1321,2,  34.5324,2,-999.0000,9,     80.8,2,     80.9,2,    63.98,2,    36.94,2,     0.00,2,     2.62,2,   -999.0,9,   -999.0,9,-999.0000,9,  -999.00,  -999.00,9,  -999.00,9,   6.1321,2,       56
  49UF20180709,KS1806,  5468,  1,     11,  25245,2,20180817,0023,  7.0060, 137.0015, 4241,    806.5,   5.5737,   5.5748,2,  34.5365,2,-999.0000,9,     80.2,2,     80.2,2,    73.11,2,    38.02,2,     0.00,2,     2.69,2,   -999.0,9,   -999.0,9,-999.0000,9,  -999.00,  -999.00,9,  -999.00,9,   5.5748,2,       53
  49UF20180709,KS1806,  5468,  1,     10,  25244,2,20180817,0023,  7.0060, 137.0015, 4241,    907.5,   4.9922,   4.9922,2,  34.5438,2,-999.0000,9,     82.5,2,     82.7,2,    83.16,2,    38.29,2,     0.00,2,     2.72,2,   -999.0,9,   -999.0,9,-999.0000,9,  -999.00,  -999.00,9,  -999.00,9,   4.9922,2,       50
  49UF20180709,KS1806,  5468,  1,      9,  25243,2,20180817,0023,  7.0060, 137.0015, 4241,   1008.7,   4.5475,   4.5488,2,  34.5527,2,-999.0000,9,     84.8,2,     84.8,2,    91.82,2,    38.99,2,     0.00,2,     2.76,2,   -999.0,9,   -999.0,9,-999.0000,9,  -999.00,  -999.00,9,  -999.00,9,   4.5488,2,       48
  49UF20180709,KS1806,  5468,  1,      8,  25242,2,20180817,0023,  7.0060, 137.0015, 4241,   1210.2,   3.6769,   3.6786,2,  34.5748,2,-999.0000,9,     91.1,2,     91.0,2,   109.03,2,    39.03,2,     0.00,2,     2.78,2,   -999.0,9,   -999.0,9,-999.0000,9,  -999.00,  -999.00,9,  -999.00,9,   3.6786,2,       43
  49UF20180709,KS1806,  5468,  1,      7,  25241,2,20180817,0023,  7.0060, 137.0015, 4241,   1413.3,   3.1386,   3.1379,2,  34.5932,2,-999.0000,9,     96.2,2,     96.1,2,   120.63,2,    39.41,2,     0.00,2,     2.77,2,   -999.0,9,   -999.0,9,-999.0000,9,  -999.00,  -999.00,9,  -999.00,9,   3.1379,2,       38
  49UF20180709,KS1806,  5468,  1,      4,  25238,2,20180817,0023,  7.0060, 137.0015, 4241,   1616.8,   2.7120,   2.7120,2,  34.6104,2,-999.0000,9,    103.1,2,    103.2,2,   129.52,2,    39.28,2,     0.00,2,     2.75,2,   -999.0,9,   -999.0,9,-999.0000,9,  -999.00,  -999.00,9,  -999.00,9,   2.7120,2,       33
  49UF20180709,KS1806,  5468,  1,      5,  25239,2,20180817,0023,  7.0060, 137.0015, 4241,   1618.7,   2.7110,   2.7112,2,  34.6106,2,-999.0000,9,    103.1,2,    102.9,2,   129.47,2,    38.95,2,     0.00,2,     2.75,2,   -999.0,9,   -999.0,9,-999.0000,9,  -999.00,  -999.00,9,  -999.00,9,   2.7112,2,       33
  49UF20180709,KS1806,  5468,  1,      3,  24271,2,20180817,0023,  7.0060, 137.0015, 4241,   1819.2,   2.3893,   2.3889,2,  34.6256,2,-999.0000,9,    109.9,2,    110.0,6,   135.64,6,    38.74,6,     0.00,6,     2.72,6,   -999.0,9,   -999.0,9,-999.0000,9,  -999.00,  -999.00,9,  -999.00,9,   2.3889,2,       29
  49UF20180709,KS1806,  5468,  1,      2,  25236,2,20180817,0023,  7.0060, 137.0015, 4241,   2021.8,   2.1889,   2.1891,2,  34.6362,2,-999.0000,9,    115.5,2,    115.7,2,   139.27,2,    38.58,2,     0.00,2,     2.69,2,   -999.0,9,   -999.0,9,-999.0000,9,  -999.00,  -999.00,9,  -999.00,9,   2.1891,2,       24