BOTTLE,20200311PRINUNIVRMK
EXPOCODE,SECT_ID,STNNBR,CASTNO,SAMPNO,BTLNBR,BTLNBR_FLAG_W,DATE,TIME,LATITUDE,LONGITUDE,DEPTH,CTDPRS,CTDTMP,SBE35,SBE35_FLAG_W,CTDSAL,CTDSAL_FLAG_W,SALNTY,SALNTY_FLAG_W,CTDOXY,CTDOXY_FLAG_W,OXYGEN,OXYGEN_FLAG_W,SILCAT,SILCAT_FLAG_W,NITRAT,NITRAT_FLAG_W,NITRIT,NITRIT_FLAG_W,PHSPHT,PHSPHT_FLAG_W,TCARBN,TCARBN_FLAG_W,ALKALI,ALKALI_FLAG_W,PH_TOT,PH_TOT_FLAG_W,PH_TMP,CHLORA,CHLORA_FLAG_W,PPHYTN,PPHYTN_FLAG_W,SBE35,SBE35_FLAG_W,BTL_TIME
,,,,,,,,,,,METERS,DBAR,ITS-90,,,PSS-78,,PSS-78,,UMOL/KG,,UMOL/KG,,UMOL/KG,,UMOL/KG,,UMOL/KG,,UMOL/KG,,UMOL/KG,,UMOL/KG,,,,DEG C,UG/KG,,UG/KG,,,,
  49UF20180709,KS1806,  5456,  1,     99,     99,2,20180801,2028, 15.9862, 137.0110, 5239,      0.0,  29.1367,-999.0000,9,  34.2417,2,-999.0000,9,    195.2,2,    195.2,2,     1.06,2,     0.00,2,     0.00,2,     0.02,2,   -999.0,9,   -999.0,9,-999.0000,9,  -999.00,  -999.00,9,  -999.00,9,-999.0000,9,     2207
  49UF20180709,KS1806,  5456,  1,     36,  25270,3,20180801,2028, 15.9862, 137.0110, 5239,     10.8,  29.1326,  29.1336,2,  34.2403,2,  34.2420,2,    195.2,2,    195.0,2,     1.03,2,     0.00,2,     0.00,2,     0.01,2,   -999.0,9,   -999.0,9,-999.0000,9,  -999.00,  -999.00,9,  -999.00,9,  29.1336,2,     2245
  49UF20180709,KS1806,  5456,  1,     35,  25269,2,20180801,2028, 15.9862, 137.0110, 5239,     25.8,  29.1325,  29.1348,2,  34.2528,2,  34.2515,2,    195.3,2,    195.3,6,     1.04,6,     0.00,6,     0.00,6,     0.01,6,   -999.0,9,   -999.0,9,-999.0000,9,  -999.00,  -999.00,9,  -999.00,9,  29.1348,2,     2243
  49UF20180709,KS1806,  5456,  1,     34,  25268,3,20180801,2028, 15.9862, 137.0110, 5239,     50.2,  28.5784,  28.5726,2,  34.3221,2,-999.0000,9,    199.0,2,    199.3,2,     1.06,2,     0.00,2,     0.00,2,     0.02,2,   -999.0,9,   -999.0,9,-999.0000,9,  -999.00,  -999.00,9,  -999.00,9,  28.5726,2,     2240
  49UF20180709,KS1806,  5456,  1,     33,  25267,2,20180801,2028, 15.9862, 137.0110, 5239,     75.5,  27.1160,  27.1323,2,  34.7533,2,-999.0000,9,    208.2,2,    206.2,2,     1.10,2,     0.00,2,     0.00,2,     0.01,2,   -999.0,9,   -999.0,9,-999.0000,9,  -999.00,  -999.00,9,  -999.00,9,  27.1323,2,     2238
  49UF20180709,KS1806,  5456,  1,     32,  25266,2,20180801,2028, 15.9862, 137.0110, 5239,    100.5,  25.7196,  25.7253,2,  34.9639,2,-999.0000,9,    191.3,2,    191.0,2,     1.28,2,    -0.04,2,     0.08,2,     0.08,2,   -999.0,9,   -999.0,9,-999.0000,9,  -999.00,  -999.00,9,  -999.00,9,  25.7253,2,     2237
  49UF20180709,KS1806,  5456,  1,     31,  25265,2,20180801,2028, 15.9862, 137.0110, 5239,    123.6,  24.3813,  24.3592,2,  35.0610,2,-999.0000,9,    184.7,2,    184.7,2,     1.53,2,     0.51,2,     0.05,2,     0.13,2,   -999.0,9,   -999.0,9,-999.0000,9,  -999.00,  -999.00,9,  -999.00,9,  24.3592,2,     2236
  49UF20180709,KS1806,  5456,  1,     30,  25264,2,20180801,2028, 15.9862, 137.0110, 5239,    149.7,  22.4718,  22.4780,2,  35.0693,2,  35.0701,2,    185.3,2,    185.2,2,     1.95,2,     1.24,2,     0.02,2,     0.16,2,   -999.0,9,   -999.0,9,-999.0000,9,  -999.00,  -999.00,9,  -999.00,9,  22.4780,2,     2235
  49UF20180709,KS1806,  5456,  1,     29,  25263,2,20180801,2028, 15.9862, 137.0110, 5239,    201.7,  19.0767,  19.0887,2,  34.9387,2,-999.0000,9,    188.3,2,    187.8,6,     3.34,6,     3.49,6,     0.01,6,     0.29,6,   -999.0,9,   -999.0,9,-999.0000,9,  -999.00,  -999.00,9,  -999.00,9,  19.0887,2,     2233
  49UF20180709,KS1806,  5456,  1,     28,  25262,2,20180801,2028, 15.9862, 137.0110, 5239,    254.3,  16.1608,  16.1443,2,  34.6658,2,-999.0000,9,    188.7,2,    188.5,2,     6.69,2,     7.29,2,     0.00,2,     0.53,2,   -999.0,9,   -999.0,9,-999.0000,9,  -999.00,  -999.00,9,  -999.00,9,  16.1443,2,     2231
  49UF20180709,KS1806,  5456,  1,     27,  25261,2,20180801,2028, 15.9862, 137.0110, 5239,    301.7,  13.9738,  13.9701,2,  34.4711,2,-999.0000,9,    184.5,2,    184.5,2,    11.49,2,    11.07,2,     0.00,2,     0.79,2,   -999.0,9,   -999.0,9,-999.0000,9,  -999.00,  -999.00,9,  -999.00,9,  13.9701,2,     2229
  49UF20180709,KS1806,  5456,  1,     26,  25260,2,20180801,2028, 15.9862, 137.0110, 5239,    351.5,  11.5041,  11.5080,2,  34.3044,2,-999.0000,9,    160.6,2,    160.0,2,    21.41,2,    17.72,2,     0.00,2,     1.28,2,   -999.0,9,   -999.0,9,-999.0000,9,  -999.00,  -999.00,9,  -999.00,9,  11.5080,2,     2227
  49UF20180709,KS1806,  5456,  1,     25,  25259,2,20180801,2028, 15.9862, 137.0110, 5239,    403.4,   9.6681,   9.6681,2,  34.2120,2,-999.0000,9,    142.7,2,    142.3,2,    31.72,2,    22.45,2,     0.00,2,     1.63,2,   -999.0,9,   -999.0,9,-999.0000,9,  -999.00,  -999.00,9,  -999.00,9,   9.6681,2,     2226
  49UF20180709,KS1806,  5456,  1,     24,  25258,2,20180801,2028, 15.9862, 137.0110, 5239,    454.3,   8.3117,   8.3136,2,  34.1991,2,-999.0000,9,    114.0,2,    114.5,2,    43.22,2,    27.68,2,     0.00,2,     2.00,2,   -999.0,9,   -999.0,9,-999.0000,9,  -999.00,  -999.00,9,  -999.00,9,   8.3136,2,     2224
  49UF20180709,KS1806,  5456,  1,     23,  25257,2,20180801,2028, 15.9862, 137.0110, 5239,    505.2,   7.6411,   7.6355,2,  34.2826,2,  34.2817,2,     81.6,2,     81.9,2,    52.22,2,    31.98,2,     0.00,2,     2.34,2,   -999.0,9,   -999.0,9,-999.0000,9,  -999.00,  -999.00,9,  -999.00,9,   7.6355,2,     2222
  49UF20180709,KS1806,  5456,  1,     22,  24473,2,20180801,2028, 15.9862, 137.0110, 5239,    605.0,   6.5393,   6.5393,2,  34.3735,2,-999.0000,9,     69.8,2,     69.9,2,    66.00,2,    35.56,2,     0.00,2,     2.57,2,   -999.0,9,   -999.0,9,-999.0000,9,  -999.00,  -999.00,9,  -999.00,9,   6.5393,2,     2219
  49UF20180709,KS1806,  5456,  1,     21,  25255,2,20180801,2028, 15.9862, 137.0110, 5239,    706.7,   5.8246,   5.8242,2,  34.4179,2,-999.0000,9,     67.7,2,     68.0,2,    76.15,2,    37.34,2,     0.00,2,     2.69,2,   -999.0,9,   -999.0,9,-999.0000,9,  -999.00,  -999.00,9,  -999.00,9,   5.8242,2,     2216
  49UF20180709,KS1806,  5456,  1,     20,  24270,3,20180801,2028, 15.9862, 137.0110, 5239,    808.5,   5.1388,   5.1385,2,  34.4787,2,-999.0000,9,     75.0,2,     74.9,2,    86.18,2,    38.08,2,     0.00,2,     2.72,2,   -999.0,9,   -999.0,9,-999.0000,9,  -999.00,  -999.00,9,  -999.00,9,   5.1385,2,     2214
  49UF20180709,KS1806,  5456,  1,     19,  25253,2,20180801,2028, 15.9862, 137.0110, 5239,    908.3,   4.7015,   4.7063,2,  34.5029,2,-999.0000,9,     77.7,2,     78.0,2,    93.43,2,    38.13,2,     0.00,2,     2.74,2,   -999.0,9,   -999.0,9,-999.0000,9,  -999.00,  -999.00,9,  -999.00,9,   4.7063,2,     2211
  49UF20180709,KS1806,  5456,  1,     18,  25252,2,20180801,2028, 15.9862, 137.0110, 5239,   1010.7,   4.1836,   4.1835,2,  34.5249,2,  34.5254,2,     82.3,2,     82.4,2,   103.99,2,    38.52,2,     0.00,2,     2.75,2,   -999.0,9,   -999.0,9,-999.0000,9,  -999.00,  -999.00,9,  -999.00,9,   4.1835,2,     2208
  49UF20180709,KS1806,  5456,  1,     17,  25251,2,20180801,2028, 15.9862, 137.0110, 5239,   1212.9,   3.6035,   3.6037,2,  34.5512,2,-999.0000,9,     88.7,2,     88.7,2,   115.24,2,    38.72,2,     0.00,2,     2.76,2,   -999.0,9,   -999.0,9,-999.0000,9,  -999.00,  -999.00,9,  -999.00,9,   3.6037,2,     2203
  49UF20180709,KS1806,  5456,  1,     16,  25250,2,20180801,2028, 15.9862, 137.0110, 5239,   1411.6,   3.0782,   3.0781,2,  34.5669,2,  34.5678,2,     94.9,2,     95.3,2,   126.86,2,    38.32,2,     0.00,2,     2.74,2,   -999.0,9,   -999.0,9,-999.0000,9,  -999.00,  -999.00,9,  -999.00,9,   3.0781,2,     2159
  49UF20180709,KS1806,  5456,  1,     15,  25249,2,20180801,2028, 15.9862, 137.0110, 5239,   1618.9,   2.6713,   2.6711,2,  34.5871,2,-999.0000,9,     99.2,2,     99.4,2,   134.17,2,    38.71,2,     0.00,2,     2.74,2,   -999.0,9,   -999.0,9,-999.0000,9,  -999.00,  -999.00,9,  -999.00,9,   2.6711,2,     2154
  49UF20180709,KS1806,  5456,  1,     14,  25248,2,20180801,2028, 15.9862, 137.0110, 5239,   1819.9,   2.3633,   2.3633,2,  34.6068,2,-999.0000,9,    105.5,2,    105.5,2,   139.10,2,    38.42,2,     0.00,2,     2.72,2,   -999.0,9,   -999.0,9,-999.0000,9,  -999.00,  -999.00,9,  -999.00,9,   2.3633,2,     2149
  49UF20180709,KS1806,  5456,  1,     13,  25247,2,20180801,2028, 15.9862, 137.0110, 5239,   2025.0,   2.1135,   2.1135,2,  34.6241,2,  34.6245,2,    112.7,2,    113.1,6,   142.89,6,    38.12,6,     0.00,6,     2.69,6,   -999.0,9,   -999.0,9,-999.0000,9,  -999.00,  -999.00,9,  -999.00,9,   2.1135,2,     2144
  49UF20180709,KS1806,  5456,  1,     12,  25246,2,20180801,2028, 15.9862, 137.0110, 5239,   2276.9,   1.9172,   1.9174,2,  34.6380,2,  34.6388,6,    119.9,2,    120.1,2,   145.55,2,    37.94,2,     0.00,2,     2.66,2,   -999.0,9,   -999.0,9,-999.0000,9,  -999.00,  -999.00,9,  -999.00,9,   1.9174,2,     2138
  49UF20180709,KS1806,  5456,  1,     11,  25245,2,20180801,2028, 15.9862, 137.0110, 5239,   2530.9,   1.7876,   1.7877,2,  34.6500,2,  34.6502,2,    126.9,2,    126.8,2,   146.73,2,    37.25,2,     0.00,2,     2.63,2,   -999.0,9,   -999.0,9,-999.0000,9,  -999.00,  -999.00,9,  -999.00,9,   1.7877,2,     2132
  49UF20180709,KS1806,  5456,  1,     10,  25244,2,20180801,2028, 15.9862, 137.0110, 5239,   2785.2,   1.7072,   1.7072,2,  34.6587,2,  34.6595,2,    132.5,2,    132.7,2,   146.68,2,    37.08,2,     0.00,2,     2.60,2,   -999.0,9,   -999.0,9,-999.0000,9,  -999.00,  -999.00,9,  -999.00,9,   1.7072,2,     2126
  49UF20180709,KS1806,  5456,  1,      9,  25243,2,20180801,2028, 15.9862, 137.0110, 5239,   3040.3,   1.6499,   1.6498,2,  34.6658,2,  34.6657,2,    137.7,2,    137.8,2,   146.38,2,    36.89,2,     0.00,2,     2.57,2,   -999.0,9,   -999.0,9,-999.0000,9,  -999.00,  -999.00,9,  -999.00,9,   1.6498,2,     2120
  49UF20180709,KS1806,  5456,  1,      8,  25242,2,20180801,2028, 15.9862, 137.0110, 5239,   3295.9,   1.6054,   1.6055,2,  34.6708,2,  34.6703,2,    142.5,2,    142.9,6,   145.55,6,    36.54,6,     0.00,6,     2.55,6,   -999.0,9,   -999.0,9,-999.0000,9,  -999.00,  -999.00,9,  -999.00,9,   1.6055,2,     2114
  49UF20180709,KS1806,  5456,  1,      7,  25241,2,20180801,2028, 15.9862, 137.0110, 5239,   3550.8,   1.5724,   1.5723,2,  34.6751,2,  34.6748,2,    146.9,2,    147.0,2,   144.90,2,    36.20,2,     0.00,2,     2.52,2,   -999.0,9,   -999.0,9,-999.0000,9,  -999.00,  -999.00,9,  -999.00,9,   1.5723,2,     2108
  49UF20180709,KS1806,  5456,  1,      6,  25240,2,20180801,2028, 15.9862, 137.0110, 5239,   3806.0,   1.5457,   1.5457,2,  34.6790,2,  34.6790,2,    151.1,2,    151.1,2,   143.62,2,    36.00,2,     0.00,2,     2.50,2,   -999.0,9,   -999.0,9,-999.0000,9,  -999.00,  -999.00,9,  -999.00,9,   1.5457,2,     2102
  49UF20180709,KS1806,  5456,  1,      5,  25239,2,20180801,2028, 15.9862, 137.0110, 5239,   4062.6,   1.5126,   1.5127,2,  34.6836,2,  34.6835,2,    156.3,2,    156.2,2,   142.07,2,    35.42,2,     0.00,2,     2.47,2,   -999.0,9,   -999.0,9,-999.0000,9,  -999.00,  -999.00,9,  -999.00,9,   1.5127,2,     2057
  49UF20180709,KS1806,  5456,  1,      4,  25238,2,20180801,2028, 15.9862, 137.0110, 5239,   4318.8,   1.5175,   1.5176,2,  34.6852,2,  34.6853,6,    158.5,2,    158.6,2,   141.36,2,    35.36,2,     0.00,2,     2.46,2,   -999.0,9,   -999.0,9,-999.0000,9,  -999.00,  -999.00,9,  -999.00,9,   1.5176,2,     2051
  49UF20180709,KS1806,  5456,  1,      3,  24271,2,20180801,2028, 15.9862, 137.0110, 5239,   4577.4,   1.5347,   1.5347,2,  34.6862,2,  34.6852,2,    159.8,2,    159.0,2,   140.99,2,    35.38,2,     0.00,2,     2.46,2,   -999.0,9,   -999.0,9,-999.0000,9,  -999.00,  -999.00,9,  -999.00,9,   1.5347,2,     2045
  49UF20180709,KS1806,  5456,  1,      2,  25236,2,20180801,2028, 15.9862, 137.0110, 5239,   5090.1,   1.5927,   1.5928,2,  34.6866,2,  34.6868,2,    160.4,2,    160.2,2,   140.85,2,    35.15,2,     0.00,2,     2.45,2,   -999.0,9,   -999.0,9,-999.0000,9,  -999.00,  -999.00,9,  -999.00,9,   1.5928,2,     2034
  49UF20180709,KS1806,  5456,  1,      1,  24272,2,20180801,2028, 15.9862, 137.0110, 5239,   5380.8,   1.6272,   1.6271,2,  34.6866,2,  34.6866,6,    160.7,2,    161.0,2,   140.87,2,    35.33,2,     0.00,2,     2.46,2,   -999.0,9,   -999.0,9,-999.0000,9,  -999.00,  -999.00,9,  -999.00,9,   1.6271,2,     2028