BOTTLE,20200311PRINUNIVRMK
EXPOCODE,SECT_ID,STNNBR,CASTNO,SAMPNO,BTLNBR,BTLNBR_FLAG_W,DATE,TIME,LATITUDE,LONGITUDE,DEPTH,CTDPRS,CTDTMP,SBE35,SBE35_FLAG_W,CTDSAL,CTDSAL_FLAG_W,SALNTY,SALNTY_FLAG_W,CTDOXY,CTDOXY_FLAG_W,OXYGEN,OXYGEN_FLAG_W,SILCAT,SILCAT_FLAG_W,NITRAT,NITRAT_FLAG_W,NITRIT,NITRIT_FLAG_W,PHSPHT,PHSPHT_FLAG_W,TCARBN,TCARBN_FLAG_W,ALKALI,ALKALI_FLAG_W,PH_TOT,PH_TOT_FLAG_W,PH_TMP,CHLORA,CHLORA_FLAG_W,PPHYTN,PPHYTN_FLAG_W,SBE35,SBE35_FLAG_W,BTL_TIME
,,,,,,,,,,,METERS,DBAR,ITS-90,,,PSS-78,,PSS-78,,UMOL/KG,,UMOL/KG,,UMOL/KG,,UMOL/KG,,UMOL/KG,,UMOL/KG,,UMOL/KG,,UMOL/KG,,,,DEG C,UG/KG,,UG/KG,,,,
  49UF20180709,KS1806,  5465,  1,     99,     99,2,20180815,0313,  4.0073, 137.0192, 4603,      0.0,  29.1596,-999.0000,9,  34.0081,2,-999.0000,9,    196.3,2,    197.0,2,     1.18,2,     0.02,2,     0.00,2,     0.02,2,   -999.0,9,   -999.0,9,-999.0000,9,  -999.00,  -999.00,9,  -999.00,9,-999.0000,9,      355
  49UF20180709,KS1806,  5465,  1,     36,  25270,2,20180815,0313,  4.0073, 137.0192, 4603,     10.3,  29.1675,  29.1686,2,  34.0085,2,-999.0000,9,    196.3,2,    197.2,2,     1.18,2,     0.00,2,     0.00,2,     0.01,2,   -999.0,9,   -999.0,9,-999.0000,9,  -999.00,  -999.00,9,  -999.00,9,  29.1686,2,      430
  49UF20180709,KS1806,  5465,  1,     35,  25269,2,20180815,0313,  4.0073, 137.0192, 4603,     25.4,  29.1728,  29.1736,2,  34.0122,2,-999.0000,9,    196.4,2,    197.0,2,     1.15,2,     0.00,2,     0.00,2,     0.01,2,   -999.0,9,   -999.0,9,-999.0000,9,  -999.00,  -999.00,9,  -999.00,9,  29.1736,2,      429
  49UF20180709,KS1806,  5465,  1,     34,  25268,2,20180815,0313,  4.0073, 137.0192, 4603,     49.4,  28.9689,  28.9694,2,  34.0879,2,-999.0000,9,    197.2,2,    197.7,2,     1.32,2,     0.00,2,     0.00,2,     0.03,2,   -999.0,9,   -999.0,9,-999.0000,9,  -999.00,  -999.00,9,  -999.00,9,  28.9694,2,      427
  49UF20180709,KS1806,  5465,  1,     29,  25263,2,20180815,0313,  4.0073, 137.0192, 4603,     77.2,  26.9515,  26.9528,2,  34.5295,2,-999.0000,9,    182.3,2,    183.1,2,     2.34,2,     1.37,2,     0.22,2,     0.18,2,   -999.0,9,   -999.0,9,-999.0000,9,  -999.00,  -999.00,9,  -999.00,9,  26.9528,2,      425
  49UF20180709,KS1806,  5465,  1,     30,  25264,2,20180815,0313,  4.0073, 137.0192, 4603,     77.9,  26.9126,  26.9202,2,  34.5435,2,-999.0000,9,    182.7,2,    182.7,2,     2.33,2,     1.36,2,     0.22,2,     0.18,2,   -999.0,9,   -999.0,9,-999.0000,9,  -999.00,  -999.00,9,  -999.00,9,  26.9202,2,      425
  49UF20180709,KS1806,  5465,  1,     28,  25262,2,20180815,0313,  4.0073, 137.0192, 4603,     99.4,  24.4977,  24.4877,2,  34.7507,2,-999.0000,9,    174.4,2,    175.2,2,     3.18,2,     1.79,2,     0.22,2,     0.29,2,   -999.0,9,   -999.0,9,-999.0000,9,  -999.00,  -999.00,9,  -999.00,9,  24.4877,2,      420
  49UF20180709,KS1806,  5465,  1,     27,  25261,2,20180815,0313,  4.0073, 137.0192, 4603,    125.4,  20.1736,  20.2004,2,  34.8630,2,-999.0000,9,    162.2,2,    163.2,2,     5.60,2,     5.95,2,     0.05,2,     0.53,2,   -999.0,9,   -999.0,9,-999.0000,9,  -999.00,  -999.00,9,  -999.00,9,  20.2004,2,      419
  49UF20180709,KS1806,  5465,  1,     26,  25260,2,20180815,0313,  4.0073, 137.0192, 4603,    151.4,  16.3712,  16.4267,2,  34.6716,2,-999.0000,9,    145.4,2,    145.6,2,    12.03,2,    12.50,2,     0.01,2,     0.94,2,   -999.0,9,   -999.0,9,-999.0000,9,  -999.00,  -999.00,9,  -999.00,9,  16.4267,2,      417
  49UF20180709,KS1806,  5465,  1,     25,  25259,3,20180815,0313,  4.0073, 137.0192, 4603,    201.0,  12.5563,  12.5622,2,  34.4888,2,-999.0000,9,    127.2,2,    127.4,6,    22.21,6,    20.00,6,     0.00,6,     1.45,6,   -999.0,9,   -999.0,9,-999.0000,9,  -999.00,  -999.00,9,  -999.00,9,  12.5622,2,      415
  49UF20180709,KS1806,  5465,  1,     21,  25255,4,20180815,0313,  4.0073, 137.0192, 4603,    251.8,   8.9639,   8.9672,2,  34.4238,2,-999.0000,9,     96.2,2,   -999.0,9,  -999.00,9,  -999.00,9,  -999.00,9,  -999.00,9,   -999.0,9,   -999.0,9,-999.0000,9,  -999.00,  -999.00,9,  -999.00,9,   8.9672,2,      408
  49UF20180709,KS1806,  5465,  1,     22,  24473,2,20180815,0313,  4.0073, 137.0192, 4603,    252.1,   8.9839,   8.9819,2,  34.4353,2,-999.0000,9,     96.5,2,     97.5,2,    40.39,2,    29.29,2,     0.00,2,     2.10,2,   -999.0,9,   -999.0,9,-999.0000,9,  -999.00,  -999.00,9,  -999.00,9,   8.9819,2,      409
  49UF20180709,KS1806,  5465,  1,     20,  24270,2,20180815,0313,  4.0073, 137.0192, 4603,    302.6,   8.5229,   8.5234,2,  34.5649,2,-999.0000,9,    111.2,2,    110.9,2,    36.49,2,    29.68,2,     0.00,2,     2.09,2,   -999.0,9,   -999.0,9,-999.0000,9,  -999.00,  -999.00,9,  -999.00,9,   8.5234,2,      406
  49UF20180709,KS1806,  5465,  1,     19,  25253,2,20180815,0313,  4.0073, 137.0192, 4603,    353.4,   8.2689,   8.2689,2,  34.5906,2,-999.0000,9,    126.1,2,    126.2,2,    31.95,2,    29.24,2,     0.00,2,     2.04,2,   -999.0,9,   -999.0,9,-999.0000,9,  -999.00,  -999.00,9,  -999.00,9,   8.2689,2,      404
  49UF20180709,KS1806,  5465,  1,     18,  25252,2,20180815,0313,  4.0073, 137.0192, 4603,    399.6,   7.9782,   7.9781,2,  34.5731,2,-999.0000,9,    115.6,2,    115.2,2,    35.59,2,    30.67,2,     0.00,2,     2.14,2,   -999.0,9,   -999.0,9,-999.0000,9,  -999.00,  -999.00,9,  -999.00,9,   7.9781,2,      402
  49UF20180709,KS1806,  5465,  1,     17,  25251,2,20180815,0313,  4.0073, 137.0192, 4603,    454.3,   7.7173,   7.7173,2,  34.5668,2,-999.0000,9,    121.5,2,    120.5,2,    35.53,2,    30.90,2,     0.00,2,     2.15,2,   -999.0,9,   -999.0,9,-999.0000,9,  -999.00,  -999.00,9,  -999.00,9,   7.7173,2,      400
  49UF20180709,KS1806,  5465,  1,     16,  25250,2,20180815,0313,  4.0073, 137.0192, 4603,    504.0,   7.4294,   7.4273,2,  34.5510,2,-999.0000,9,    109.4,2,    109.8,6,    40.69,6,    32.08,6,     0.00,6,     2.26,6,   -999.0,9,   -999.0,9,-999.0000,9,  -999.00,  -999.00,9,  -999.00,9,   7.4273,2,      358
  49UF20180709,KS1806,  5465,  1,     12,  25246,2,20180815,0313,  4.0073, 137.0192, 4603,    605.3,   6.7023,   6.7021,2,  34.5370,2,-999.0000,9,     97.5,2,     96.8,2,    50.19,2,    34.96,2,     0.00,2,     2.45,2,   -999.0,9,   -999.0,9,-999.0000,9,  -999.00,  -999.00,9,  -999.00,9,   6.7021,2,      355
  49UF20180709,KS1806,  5465,  1,     11,  25245,2,20180815,0313,  4.0073, 137.0192, 4603,    701.6,   6.0387,   6.0381,2,  34.5332,2,-999.0000,9,     93.3,2,     92.9,2,    59.15,2,    36.46,2,     0.00,2,     2.58,2,   -999.0,9,   -999.0,9,-999.0000,9,  -999.00,  -999.00,9,  -999.00,9,   6.0381,2,      352
  49UF20180709,KS1806,  5465,  1,     10,  25244,2,20180815,0313,  4.0073, 137.0192, 4603,    805.2,   5.4167,   5.4167,2,  34.5362,2,-999.0000,9,     92.7,2,     92.2,2,    68.63,2,    37.37,2,     0.00,2,     2.66,2,   -999.0,9,   -999.0,9,-999.0000,9,  -999.00,  -999.00,9,  -999.00,9,   5.4167,2,      349
  49UF20180709,KS1806,  5465,  1,      9,  25243,2,20180815,0313,  4.0073, 137.0192, 4603,    906.7,   4.8669,   4.8670,2,  34.5448,2,-999.0000,9,     93.3,2,     92.8,2,    80.34,2,    37.99,2,     0.00,2,     2.70,2,   -999.0,9,   -999.0,9,-999.0000,9,  -999.00,  -999.00,9,  -999.00,9,   4.8670,2,      346
  49UF20180709,KS1806,  5465,  1,      8,  25242,2,20180815,0313,  4.0073, 137.0192, 4603,   1008.1,   4.5004,   4.5005,2,  34.5543,2,-999.0000,9,     94.1,2,     93.4,2,    88.69,2,    38.17,2,     0.00,2,     2.70,2,   -999.0,9,   -999.0,9,-999.0000,9,  -999.00,  -999.00,9,  -999.00,9,   4.5005,2,      342
  49UF20180709,KS1806,  5465,  1,      7,  25241,2,20180815,0313,  4.0073, 137.0192, 4603,   1210.1,   3.7960,   3.7963,2,  34.5730,2,-999.0000,9,     94.7,2,     94.3,2,   104.14,2,    38.74,2,     0.00,2,     2.77,2,   -999.0,9,   -999.0,9,-999.0000,9,  -999.00,  -999.00,9,  -999.00,9,   3.7963,2,      337
  49UF20180709,KS1806,  5465,  1,      4,  25238,2,20180815,0313,  4.0073, 137.0192, 4603,   1410.7,   3.2650,   3.2650,2,  34.5901,2,-999.0000,9,     97.6,2,     97.3,2,   115.89,2,    39.16,2,     0.00,2,     2.77,2,   -999.0,9,   -999.0,9,-999.0000,9,  -999.00,  -999.00,9,  -999.00,9,   3.2650,2,      331
  49UF20180709,KS1806,  5465,  1,      3,  24271,2,20180815,0313,  4.0073, 137.0192, 4603,   1614.6,   2.8078,   2.8081,2,  34.6074,2,-999.0000,9,    103.0,2,    102.8,2,   126.08,2,    38.84,2,     0.00,2,     2.75,2,   -999.0,9,   -999.0,9,-999.0000,9,  -999.00,  -999.00,9,  -999.00,9,   2.8081,2,      326
  49UF20180709,KS1806,  5465,  1,      2,  25236,2,20180815,0313,  4.0073, 137.0192, 4603,   1821.4,   2.4033,   2.4035,2,  34.6258,2,-999.0000,9,    109.9,2,    109.8,2,   134.75,2,    38.76,2,     0.00,2,     2.72,2,   -999.0,9,   -999.0,9,-999.0000,9,  -999.00,  -999.00,9,  -999.00,9,   2.4035,2,      320
  49UF20180709,KS1806,  5465,  1,      1,  24272,2,20180815,0313,  4.0073, 137.0192, 4603,   2021.4,   2.1675,   2.1675,2,  34.6379,2,-999.0000,9,    115.8,2,    115.5,2,   139.54,2,    38.32,2,     0.00,2,     2.70,2,   -999.0,9,   -999.0,9,-999.0000,9,  -999.00,  -999.00,9,  -999.00,9,   2.1675,2,      315