BOTTLE,20200311PRINUNIVRMK
EXPOCODE,SECT_ID,STNNBR,CASTNO,SAMPNO,BTLNBR,BTLNBR_FLAG_W,DATE,TIME,LATITUDE,LONGITUDE,DEPTH,CTDPRS,CTDTMP,SBE35,SBE35_FLAG_W,CTDSAL,CTDSAL_FLAG_W,SALNTY,SALNTY_FLAG_W,CTDOXY,CTDOXY_FLAG_W,OXYGEN,OXYGEN_FLAG_W,SILCAT,SILCAT_FLAG_W,NITRAT,NITRAT_FLAG_W,NITRIT,NITRIT_FLAG_W,PHSPHT,PHSPHT_FLAG_W,TCARBN,TCARBN_FLAG_W,ALKALI,ALKALI_FLAG_W,PH_TOT,PH_TOT_FLAG_W,PH_TMP,CHLORA,CHLORA_FLAG_W,PPHYTN,PPHYTN_FLAG_W,SBE35,SBE35_FLAG_W,BTL_TIME
,,,,,,,,,,,METERS,DBAR,ITS-90,,,PSS-78,,PSS-78,,UMOL/KG,,UMOL/KG,,UMOL/KG,,UMOL/KG,,UMOL/KG,,UMOL/KG,,UMOL/KG,,UMOL/KG,,,,DEG C,UG/KG,,UG/KG,,,,
  49UF20180709,KS1806,  5450,  1,     99,     99,2,20180730,0400, 22.0175, 136.9925, 4543,      0.0,  29.2418,-999.0000,9,  34.2202,2,-999.0000,9,    196.1,2,    195.6,2,     1.05,2,     0.00,2,     0.00,2,     0.01,2,   -999.0,9,   -999.0,9,-999.0000,9,  -999.00,  -999.00,9,  -999.00,9,-999.0000,9,      435
  49UF20180709,KS1806,  5450,  1,     36,  25270,2,20180730,0400, 22.0175, 136.9925, 4543,      9.2,  28.7545,  28.7596,2,  34.2185,2,-999.0000,9,    195.9,2,    196.7,2,     1.02,2,     0.00,2,     0.00,2,     0.00,2,   -999.0,9,   -999.0,9,-999.0000,9,  -999.00,  -999.00,9,  -999.00,9,  28.7596,2,      505
  49UF20180709,KS1806,  5450,  1,     35,  25269,2,20180730,0400, 22.0175, 136.9925, 4543,      9.6,  28.7611,  28.7620,2,  34.2172,2,-999.0000,9,    195.9,2,    196.8,2,     1.01,2,     0.00,2,     0.00,2,     0.00,2,   -999.0,9,   -999.0,9,-999.0000,9,  -999.00,  -999.00,9,  -999.00,9,  28.7620,2,      505
  49UF20180709,KS1806,  5450,  1,     34,  25268,2,20180730,0400, 22.0175, 136.9925, 4543,     24.7,  28.4594,  28.4603,2,  34.2439,2,-999.0000,9,    197.2,2,    197.9,2,     1.01,2,     0.00,2,     0.00,2,     0.00,2,   -999.0,9,   -999.0,9,-999.0000,9,  -999.00,  -999.00,9,  -999.00,9,  28.4603,2,      504
  49UF20180709,KS1806,  5450,  1,     30,  25264,2,20180730,0400, 22.0175, 136.9925, 4543,     50.0,  28.0073,  28.0108,2,  34.5562,2,-999.0000,9,    201.3,2,    201.6,2,     1.06,2,     0.00,2,     0.00,2,     0.01,2,   -999.0,9,   -999.0,9,-999.0000,9,  -999.00,  -999.00,9,  -999.00,9,  28.0108,2,      500
  49UF20180709,KS1806,  5450,  1,     29,  25263,2,20180730,0400, 22.0175, 136.9925, 4543,     76.8,  26.3363,  26.3383,2,  34.7961,2,-999.0000,9,    199.6,2,    200.1,2,     1.15,2,     0.02,2,     0.00,2,     0.02,2,   -999.0,9,   -999.0,9,-999.0000,9,  -999.00,  -999.00,9,  -999.00,9,  26.3383,2,      458
  49UF20180709,KS1806,  5450,  1,     28,  25262,2,20180730,0400, 22.0175, 136.9925, 4543,    100.7,  24.6058,  24.6152,2,  34.9795,2,-999.0000,9,    201.1,2,    202.3,2,     1.25,2,     0.03,2,     0.01,2,     0.03,2,   -999.0,9,   -999.0,9,-999.0000,9,  -999.00,  -999.00,9,  -999.00,9,  24.6152,2,      457
  49UF20180709,KS1806,  5450,  1,     27,  25261,2,20180730,0400, 22.0175, 136.9925, 4543,    124.6,  23.4249,  23.4255,2,  35.0228,2,-999.0000,9,    196.5,2,    196.5,2,     1.46,2,     0.32,2,     0.09,2,     0.06,2,   -999.0,9,   -999.0,9,-999.0000,9,  -999.00,  -999.00,9,  -999.00,9,  23.4255,2,      456
  49UF20180709,KS1806,  5450,  1,     26,  25260,2,20180730,0400, 22.0175, 136.9925, 4543,    151.0,  21.6064,  21.6144,2,  35.0441,2,-999.0000,9,    190.9,2,    191.1,2,     1.98,2,     1.26,2,     0.01,2,     0.12,2,   -999.0,9,   -999.0,9,-999.0000,9,  -999.00,  -999.00,9,  -999.00,9,  21.6144,2,      454
  49UF20180709,KS1806,  5450,  1,     25,  25259,2,20180730,0400, 22.0175, 136.9925, 4543,    201.1,  19.1977,  19.1892,2,  34.9356,2,-999.0000,9,    192.8,2,    193.0,2,     2.84,2,     3.11,2,     0.01,2,     0.23,2,   -999.0,9,   -999.0,9,-999.0000,9,  -999.00,  -999.00,9,  -999.00,9,  19.1892,2,      452
  49UF20180709,KS1806,  5450,  1,     21,  25255,2,20180730,0400, 22.0175, 136.9925, 4543,    254.9,  17.2834,  17.2851,2,  34.7849,2,-999.0000,9,    203.1,2,    202.2,2,     4.18,2,     5.02,2,     0.00,2,     0.32,2,   -999.0,9,   -999.0,9,-999.0000,9,  -999.00,  -999.00,9,  -999.00,9,  17.2851,2,      450
  49UF20180709,KS1806,  5450,  1,     20,  24270,2,20180730,0400, 22.0175, 136.9925, 4543,    303.7,  16.5211,  16.5211,2,  34.7261,2,-999.0000,9,    206.4,2,    206.4,2,     5.25,2,     5.92,2,     0.00,2,     0.38,2,   -999.0,9,   -999.0,9,-999.0000,9,  -999.00,  -999.00,9,  -999.00,9,  16.5211,2,      448
  49UF20180709,KS1806,  5450,  1,     22,  24473,2,20180730,0400, 22.0175, 136.9925, 4543,    405.4,  13.8723,  13.8732,2,  34.4671,2,-999.0000,9,    188.5,2,    188.3,2,    12.05,2,    11.18,2,     0.00,2,     0.77,2,   -999.0,9,   -999.0,9,-999.0000,9,  -999.00,  -999.00,9,  -999.00,9,  13.8732,2,      445
  49UF20180709,KS1806,  5450,  1,     18,  25252,2,20180730,0400, 22.0175, 136.9925, 4543,    504.9,  10.1266,  10.1268,2,  34.2248,2,-999.0000,9,    160.7,2,    160.4,2,    29.67,2,    20.50,2,     0.00,2,     1.44,2,   -999.0,9,   -999.0,9,-999.0000,9,  -999.00,  -999.00,9,  -999.00,9,  10.1268,2,      441
  49UF20180709,KS1806,  5450,  1,     19,  25253,2,20180730,0400, 22.0175, 136.9925, 4543,    505.2,  10.1258,  10.1258,2,  34.2251,2,-999.0000,9,    160.7,2,    160.4,2,    29.63,2,    20.39,2,     0.00,2,     1.44,2,   -999.0,9,   -999.0,9,-999.0000,9,  -999.00,  -999.00,9,  -999.00,9,  10.1258,2,      441
  49UF20180709,KS1806,  5450,  1,     17,  25251,2,20180730,0400, 22.0175, 136.9925, 4543,    605.6,   7.7090,   7.7088,2,  34.1534,2,-999.0000,9,    118.4,2,    117.9,6,    50.03,6,    28.65,6,     0.00,6,     2.06,6,   -999.0,9,   -999.0,9,-999.0000,9,  -999.00,  -999.00,9,  -999.00,9,   7.7088,2,      438
  49UF20180709,KS1806,  5450,  1,     16,  25250,2,20180730,0400, 22.0175, 136.9925, 4543,    707.0,   6.3378,   6.3374,2,  34.1756,2,-999.0000,9,     86.7,2,     87.0,2,    67.10,2,    33.91,2,     0.00,2,     2.44,2,   -999.0,9,   -999.0,9,-999.0000,9,  -999.00,  -999.00,9,  -999.00,9,   6.3374,2,      435
  49UF20180709,KS1806,  5450,  1,     12,  25246,2,20180730,0400, 22.0175, 136.9925, 4543,    807.7,   5.1306,   5.1303,2,  34.2520,2,-999.0000,9,     65.8,2,     66.3,2,    88.61,2,    37.91,2,     0.00,2,     2.72,2,   -999.0,9,   -999.0,9,-999.0000,9,  -999.00,  -999.00,9,  -999.00,9,   5.1303,2,      432
  49UF20180709,KS1806,  5450,  1,     11,  25245,2,20180730,0400, 22.0175, 136.9925, 4543,    909.4,   4.4748,   4.4747,2,  34.3443,2,-999.0000,9,     60.2,2,     60.0,6,   102.81,6,    39.49,6,     0.00,6,     2.83,6,   -999.0,9,   -999.0,9,-999.0000,9,  -999.00,  -999.00,9,  -999.00,9,   4.4747,2,      429
  49UF20180709,KS1806,  5450,  1,     10,  25244,2,20180730,0400, 22.0175, 136.9925, 4543,   1010.5,   3.9507,   3.9514,2,  34.4025,2,-999.0000,9,     60.7,2,     60.6,2,   113.78,2,    40.16,2,     0.00,2,     2.87,2,   -999.0,9,   -999.0,9,-999.0000,9,  -999.00,  -999.00,9,  -999.00,9,   3.9514,2,      426
  49UF20180709,KS1806,  5450,  1,      8,  25242,2,20180730,0400, 22.0175, 136.9925, 4543,   1212.4,   3.1972,   3.1983,2,  34.4770,2,-999.0000,9,     67.8,2,     67.4,2,   129.63,2,    40.44,2,     0.00,2,     2.87,2,   -999.0,9,   -999.0,9,-999.0000,9,  -999.00,  -999.00,9,  -999.00,9,   3.1983,2,      421
  49UF20180709,KS1806,  5450,  1,      9,  25243,2,20180730,0400, 22.0175, 136.9925, 4543,   1212.9,   3.1933,   3.1914,2,  34.4772,2,-999.0000,9,     67.9,2,     67.7,2,   129.76,2,    40.35,2,     0.00,2,     2.87,2,   -999.0,9,   -999.0,9,-999.0000,9,  -999.00,  -999.00,9,  -999.00,9,   3.1914,2,      421
  49UF20180709,KS1806,  5450,  1,      7,  25241,2,20180730,0400, 22.0175, 136.9925, 4543,   1413.3,   2.7392,   2.7391,2,  34.5391,2,-999.0000,9,     85.7,2,     85.8,2,   136.79,2,    39.34,2,     0.00,2,     2.79,2,   -999.0,9,   -999.0,9,-999.0000,9,  -999.00,  -999.00,9,  -999.00,9,   2.7391,2,      416
  49UF20180709,KS1806,  5450,  1,      3,  24271,2,20180730,0400, 22.0175, 136.9925, 4543,   1618.2,   2.5064,   2.5063,2,  34.5711,2,-999.0000,9,     97.1,2,     96.9,2,   139.39,2,    39.02,2,     0.00,2,     2.74,2,   -999.0,9,   -999.0,9,-999.0000,9,  -999.00,  -999.00,9,  -999.00,9,   2.5063,2,      411
  49UF20180709,KS1806,  5450,  1,      2,  25236,2,20180730,0400, 22.0175, 136.9925, 4543,   1820.7,   2.2247,   2.2251,2,  34.6033,2,-999.0000,9,    108.8,2,    108.7,2,   141.20,2,    38.25,2,     0.00,2,     2.70,2,   -999.0,9,   -999.0,9,-999.0000,9,  -999.00,  -999.00,9,  -999.00,9,   2.2251,2,      406
  49UF20180709,KS1806,  5450,  1,      1,  24272,2,20180730,0400, 22.0175, 136.9925, 4543,   2023.1,   2.0558,   2.0557,2,  34.6208,2,-999.0000,9,    115.7,2,    115.4,2,   142.75,2,    37.77,2,     0.00,2,     2.67,2,   -999.0,9,   -999.0,9,-999.0000,9,  -999.00,  -999.00,9,  -999.00,9,   2.0557,2,      400
  49UF20180709,KS1806,  5451,  1,     99,     99,2,20180730,1106, 21.0055, 137.0028, 4828,      0.0,  29.2601,-999.0000,9,  34.5291,2,-999.0000,9,    196.1,2,    197.4,2,     1.20,2,     0.00,2,     0.00,2,     0.00,2,   -999.0,9,   -999.0,9,-999.0000,9,  -999.00,  -999.00,9,  -999.00,9,-999.0000,9,     1150
  49UF20180709,KS1806,  5451,  1,     36,  25270,2,20180730,1106, 21.0055, 137.0028, 4828,      9.6,  28.7266,  28.6050,2,  34.5349,2,-999.0000,9,    197.8,2,    198.3,2,     1.20,2,     0.01,2,     0.00,2,     0.00,2,   -999.0,9,   -999.0,9,-999.0000,9,  -999.00,  -999.00,9,  -999.00,9,  28.6050,2,     1217
  49UF20180709,KS1806,  5451,  1,     35,  25269,2,20180730,1106, 21.0055, 137.0028, 4828,     25.1,  28.1498,  28.1504,2,  34.5141,2,-999.0000,9,    198.4,2,    199.4,2,     1.22,2,     0.00,2,     0.00,2,     0.00,2,   -999.0,9,   -999.0,9,-999.0000,9,  -999.00,  -999.00,9,  -999.00,9,  28.1504,2,     1215
  49UF20180709,KS1806,  5451,  1,     34,  25268,3,20180730,1106, 21.0055, 137.0028, 4828,     49.5,  27.6057,  27.6093,2,  34.6651,2,-999.0000,9,    205.0,2,    206.1,2,     1.27,2,     0.00,2,     0.00,2,     0.00,2,   -999.0,9,   -999.0,9,-999.0000,9,  -999.00,  -999.00,9,  -999.00,9,  27.6093,2,     1211
  49UF20180709,KS1806,  5451,  1,     30,  25264,2,20180730,1106, 21.0055, 137.0028, 4828,     74.5,  24.7982,  24.8238,2,  34.8781,2,-999.0000,9,    221.1,2,    221.2,2,     1.43,2,     0.07,2,     0.00,2,     0.00,2,   -999.0,9,   -999.0,9,-999.0000,9,  -999.00,  -999.00,9,  -999.00,9,  24.8238,2,     1210
  49UF20180709,KS1806,  5451,  1,     29,  25263,2,20180730,1106, 21.0055, 137.0028, 4828,     99.9,  21.0616,  21.0595,2,  34.9480,2,-999.0000,9,    214.9,2,    214.9,2,     1.82,2,    -0.01,2,     0.01,2,     0.03,2,   -999.0,9,   -999.0,9,-999.0000,9,  -999.00,  -999.00,9,  -999.00,9,  21.0595,2,     1208
  49UF20180709,KS1806,  5451,  1,     28,  25262,2,20180730,1106, 21.0055, 137.0028, 4828,    127.4,  20.0273,  20.0274,2,  34.9363,2,-999.0000,9,    203.9,2,    205.0,2,     2.22,2,     1.54,2,     0.03,2,     0.12,2,   -999.0,9,   -999.0,9,-999.0000,9,  -999.00,  -999.00,9,  -999.00,9,  20.0274,2,     1206
  49UF20180709,KS1806,  5451,  1,     27,  25261,2,20180730,1106, 21.0055, 137.0028, 4828,    150.3,  19.6976,  19.6987,2,  34.9237,2,-999.0000,9,    203.6,2,    204.9,2,     2.38,2,     2.03,2,     0.02,2,     0.14,2,   -999.0,9,   -999.0,9,-999.0000,9,  -999.00,  -999.00,9,  -999.00,9,  19.6987,2,     1204
  49UF20180709,KS1806,  5451,  1,     26,  25260,2,20180730,1106, 21.0055, 137.0028, 4828,    200.9,  18.5421,  18.5416,2,  34.8657,2,-999.0000,9,    198.6,2,    200.2,2,     3.37,2,     3.80,2,     0.00,2,     0.25,2,   -999.0,9,   -999.0,9,-999.0000,9,  -999.00,  -999.00,9,  -999.00,9,  18.5416,2,     1202
  49UF20180709,KS1806,  5451,  1,     25,  25259,2,20180730,1106, 21.0055, 137.0028, 4828,    251.5,  17.0630,  17.0629,2,  34.7488,2,-999.0000,9,    196.1,2,    197.3,2,     4.95,2,     5.92,2,     0.00,2,     0.39,2,   -999.0,9,   -999.0,9,-999.0000,9,  -999.00,  -999.00,9,  -999.00,9,  17.0629,2,     1200
  49UF20180709,KS1806,  5451,  1,     21,  25255,2,20180730,1106, 21.0055, 137.0028, 4828,    303.1,  15.6674,  15.6669,2,  34.6284,2,-999.0000,9,    192.8,2,    193.9,6,     8.16,6,     8.33,6,     0.00,6,     0.55,6,   -999.0,9,   -999.0,9,-999.0000,9,  -999.00,  -999.00,9,  -999.00,9,  15.6669,2,     1158
  49UF20180709,KS1806,  5451,  1,     19,  25253,2,20180730,1106, 21.0055, 137.0028, 4828,    402.4,  12.8954,  12.8974,2,  34.3956,2,-999.0000,9,    178.9,2,    179.1,2,    15.91,2,    13.88,2,     0.00,2,     0.96,2,   -999.0,9,   -999.0,9,-999.0000,9,  -999.00,  -999.00,9,  -999.00,9,  12.8974,2,     1154
  49UF20180709,KS1806,  5451,  1,     20,  24270,2,20180730,1106, 21.0055, 137.0028, 4828,    402.5,  12.8837,  12.8840,2,  34.3942,2,-999.0000,9,    178.8,2,    179.6,2,    15.91,2,    13.82,2,     0.00,2,     0.96,2,   -999.0,9,   -999.0,9,-999.0000,9,  -999.00,  -999.00,9,  -999.00,9,  12.8840,2,     1154
  49UF20180709,KS1806,  5451,  1,     18,  25252,2,20180730,1106, 21.0055, 137.0028, 4828,    503.2,   9.7439,   9.7414,2,  34.2130,2,-999.0000,9,    156.3,2,    157.0,2,    33.26,2,    21.52,2,     0.00,2,     1.52,2,   -999.0,9,   -999.0,9,-999.0000,9,  -999.00,  -999.00,9,  -999.00,9,   9.7414,2,     1150
  49UF20180709,KS1806,  5451,  1,     17,  25251,2,20180730,1106, 21.0055, 137.0028, 4828,    606.3,   6.8809,   6.8819,2,  34.1263,2,-999.0000,9,    113.9,2,    114.1,2,    59.28,2,    30.67,2,     0.00,2,     2.19,2,   -999.0,9,   -999.0,9,-999.0000,9,  -999.00,  -999.00,9,  -999.00,9,   6.8819,2,     1147
  49UF20180709,KS1806,  5451,  1,     16,  25250,2,20180730,1106, 21.0055, 137.0028, 4828,    704.6,   5.5545,   5.5550,2,  34.2113,2,-999.0000,9,     73.5,2,     73.9,2,    80.49,2,    36.43,2,     0.00,2,     2.63,2,   -999.0,9,   -999.0,9,-999.0000,9,  -999.00,  -999.00,9,  -999.00,9,   5.5550,2,     1144
  49UF20180709,KS1806,  5451,  1,     12,  25246,2,20180730,1106, 21.0055, 137.0028, 4828,    806.1,   4.9423,   4.9422,2,  34.3004,2,-999.0000,9,     62.9,2,     63.2,6,    92.83,6,    38.51,6,     0.00,6,     2.77,6,   -999.0,9,   -999.0,9,-999.0000,9,  -999.00,  -999.00,9,  -999.00,9,   4.9422,2,     1141
  49UF20180709,KS1806,  5451,  1,     11,  25245,2,20180730,1106, 21.0055, 137.0028, 4828,    907.9,   4.4490,   4.4491,2,  34.3991,2,-999.0000,9,     63.9,2,     63.8,2,   102.97,2,    39.24,2,     0.00,2,     2.82,2,   -999.0,9,   -999.0,9,-999.0000,9,  -999.00,  -999.00,9,  -999.00,9,   4.4491,2,     1138
  49UF20180709,KS1806,  5451,  1,     10,  25244,2,20180730,1106, 21.0055, 137.0028, 4828,   1009.1,   3.9138,   3.9136,2,  34.4536,2,-999.0000,9,     68.1,2,     68.2,2,   113.82,2,    39.72,2,     0.00,2,     2.84,2,   -999.0,9,   -999.0,9,-999.0000,9,  -999.00,  -999.00,9,  -999.00,9,   3.9136,2,     1134
  49UF20180709,KS1806,  5451,  1,      9,  25243,2,20180730,1106, 21.0055, 137.0028, 4828,   1211.0,   3.2152,   3.2143,2,  34.5107,2,-999.0000,9,     77.1,2,     77.0,2,   127.63,2,    39.51,2,     0.00,2,     2.82,2,   -999.0,9,   -999.0,9,-999.0000,9,  -999.00,  -999.00,9,  -999.00,9,   3.2143,2,     1129
  49UF20180709,KS1806,  5451,  1,      8,  25242,2,20180730,1106, 21.0055, 137.0028, 4828,   1413.3,   2.8436,   2.8436,2,  34.5566,2,-999.0000,9,     90.6,2,     90.4,2,   133.20,2,    39.17,2,     0.00,2,     2.77,2,   -999.0,9,   -999.0,9,-999.0000,9,  -999.00,  -999.00,9,  -999.00,9,   2.8436,2,     1124
  49UF20180709,KS1806,  5451,  1,      7,  25241,2,20180730,1106, 21.0055, 137.0028, 4828,   1618.2,   2.5392,   2.5389,2,  34.5830,2,-999.0000,9,     99.4,2,     99.1,2,   137.73,2,    38.74,2,     0.00,2,     2.74,2,   -999.0,9,   -999.0,9,-999.0000,9,  -999.00,  -999.00,9,  -999.00,9,   2.5389,2,     1119
  49UF20180709,KS1806,  5451,  1,      2,  25236,2,20180730,1106, 21.0055, 137.0028, 4828,   1819.9,   2.2944,   2.2949,2,  34.6034,2,-999.0000,9,    106.9,2,    106.6,2,   140.60,2,    38.55,2,     0.00,2,     2.71,2,   -999.0,9,   -999.0,9,-999.0000,9,  -999.00,  -999.00,9,  -999.00,9,   2.2949,2,     1113
  49UF20180709,KS1806,  5451,  1,      3,  24271,2,20180730,1106, 21.0055, 137.0028, 4828,   1820.1,   2.2944,   2.2943,2,  34.6034,2,-999.0000,9,    106.9,2,    106.3,2,   140.78,2,    38.62,2,     0.00,2,     2.71,2,   -999.0,9,   -999.0,9,-999.0000,9,  -999.00,  -999.00,9,  -999.00,9,   2.2943,2,     1114
  49UF20180709,KS1806,  5451,  1,      1,  24272,2,20180730,1106, 21.0055, 137.0028, 4828,   2023.1,   2.0805,   2.0802,2,  34.6212,2,-999.0000,9,    114.1,2,    113.4,2,   143.41,2,    38.32,2,     0.00,2,     2.69,2,   -999.0,9,   -999.0,9,-999.0000,9,  -999.00,  -999.00,9,  -999.00,9,   2.0802,2,     1108