BOTTLE,20200311PRINUNIVRMK
EXPOCODE,SECT_ID,STNNBR,CASTNO,SAMPNO,BTLNBR,BTLNBR_FLAG_W,DATE,TIME,LATITUDE,LONGITUDE,DEPTH,CTDPRS,CTDTMP,SBE35,SBE35_FLAG_W,CTDSAL,CTDSAL_FLAG_W,SALNTY,SALNTY_FLAG_W,CTDOXY,CTDOXY_FLAG_W,OXYGEN,OXYGEN_FLAG_W,SILCAT,SILCAT_FLAG_W,NITRAT,NITRAT_FLAG_W,NITRIT,NITRIT_FLAG_W,PHSPHT,PHSPHT_FLAG_W,TCARBN,TCARBN_FLAG_W,ALKALI,ALKALI_FLAG_W,PH_TOT,PH_TOT_FLAG_W,PH_TMP,CHLORA,CHLORA_FLAG_W,PPHYTN,PPHYTN_FLAG_W,SBE35,SBE35_FLAG_W,BTL_TIME
,,,,,,,,,,,METERS,DBAR,ITS-90,,,PSS-78,,PSS-78,,UMOL/KG,,UMOL/KG,,UMOL/KG,,UMOL/KG,,UMOL/KG,,UMOL/KG,,UMOL/KG,,UMOL/KG,,,,DEG C,UG/KG,,UG/KG,,,,
  49UF20180709,KS1806,  5458,  1,     99,     99,2,20180802,1835, 14.0057, 137.0253, 5349,      0.0,  28.9137,-999.0000,9,  34.2156,2,-999.0000,9,    196.4,2,    196.7,2,     1.20,2,     0.00,2,     0.00,2,     0.05,2,   -999.0,9,   -999.0,9,-999.0000,9,  -999.00,  -999.00,9,  -999.00,9,-999.0000,9,     2023
  49UF20180709,KS1806,  5458,  1,     36,  25270,3,20180802,1835, 14.0057, 137.0253, 5349,     11.1,  28.9166,  28.9188,2,  34.2208,2,  34.2252,2,    196.3,2,    195.8,2,     1.18,2,     0.00,2,     0.00,2,     0.03,2,   -999.0,9,   -999.0,9,-999.0000,9,  -999.00,  -999.00,9,  -999.00,9,  28.9188,2,     2051
  49UF20180709,KS1806,  5458,  1,     35,  25269,2,20180802,1835, 14.0057, 137.0253, 5349,     25.6,  29.0062,  29.0022,2,  34.3370,2,-999.0000,9,    196.5,2,    196.1,2,     1.16,2,     0.00,2,     0.00,2,     0.03,2,   -999.0,9,   -999.0,9,-999.0000,9,  -999.00,  -999.00,9,  -999.00,9,  29.0022,2,     2050
  49UF20180709,KS1806,  5458,  1,     34,  25268,2,20180802,1835, 14.0057, 137.0253, 5349,     51.2,  28.9790,  28.9969,2,  34.4209,2,-999.0000,9,    197.2,2,    197.0,2,     1.15,2,     0.00,2,     0.00,2,     0.03,2,   -999.0,9,   -999.0,9,-999.0000,9,  -999.00,  -999.00,9,  -999.00,9,  28.9969,2,     2047
  49UF20180709,KS1806,  5458,  1,     33,  25267,2,20180802,1835, 14.0057, 137.0253, 5349,     75.8,  27.8435,  27.8494,2,  34.7967,2,  34.7978,2,    205.2,2,    203.9,2,     1.14,2,    -0.01,2,     0.01,2,     0.05,2,   -999.0,9,   -999.0,9,-999.0000,9,  -999.00,  -999.00,9,  -999.00,9,  27.8494,2,     2046
  49UF20180709,KS1806,  5458,  1,     32,  25266,2,20180802,1835, 14.0057, 137.0253, 5349,    100.9,  27.0480,  27.0717,2,  34.8690,2,-999.0000,9,    198.2,2,    197.3,2,     1.16,2,    -0.01,2,     0.01,2,     0.07,2,   -999.0,9,   -999.0,9,-999.0000,9,  -999.00,  -999.00,9,  -999.00,9,  27.0717,2,     2044
  49UF20180709,KS1806,  5458,  1,     31,  25265,2,20180802,1835, 14.0057, 137.0253, 5349,    125.7,  25.1552,  25.1768,2,  35.0705,2,-999.0000,9,    190.2,2,    189.7,6,     1.40,6,    -0.02,6,     0.17,6,     0.11,6,   -999.0,9,   -999.0,9,-999.0000,9,  -999.00,  -999.00,9,  -999.00,9,  25.1768,2,     2043
  49UF20180709,KS1806,  5458,  1,     30,  25264,2,20180802,1835, 14.0057, 137.0253, 5349,    152.0,  23.0660,  23.0690,2,  35.0711,2,-999.0000,9,    179.5,2,    180.0,2,     2.07,2,     0.92,2,     0.11,2,     0.21,2,   -999.0,9,   -999.0,9,-999.0000,9,  -999.00,  -999.00,9,  -999.00,9,  23.0690,2,     2042
  49UF20180709,KS1806,  5458,  1,     29,  25263,2,20180802,1835, 14.0057, 137.0253, 5349,    200.0,  18.4347,  18.4154,2,  34.7734,2,-999.0000,9,    163.1,2,    163.0,2,     6.35,2,     7.01,2,     0.01,2,     0.61,2,   -999.0,9,   -999.0,9,-999.0000,9,  -999.00,  -999.00,9,  -999.00,9,  18.4154,2,     2040
  49UF20180709,KS1806,  5458,  1,     28,  25262,2,20180802,1835, 14.0057, 137.0253, 5349,    251.8,  14.3346,  14.3328,2,  34.5094,2,  34.5111,2,    158.2,2,    158.3,2,    13.03,2,    13.09,2,     0.00,2,     0.98,2,   -999.0,9,   -999.0,9,-999.0000,9,  -999.00,  -999.00,9,  -999.00,9,  14.3328,2,     2038
  49UF20180709,KS1806,  5458,  1,     27,  25261,2,20180802,1835, 14.0057, 137.0253, 5349,    302.3,  11.5381,  11.5386,2,  34.3460,2,-999.0000,9,    137.8,2,    137.5,2,    22.77,2,    19.48,2,     0.00,2,     1.44,2,   -999.0,9,   -999.0,9,-999.0000,9,  -999.00,  -999.00,9,  -999.00,9,  11.5386,2,     2036
  49UF20180709,KS1806,  5458,  1,     26,  25260,2,20180802,1835, 14.0057, 137.0253, 5349,    351.6,   9.9101,   9.9125,2,  34.2985,2,-999.0000,9,    115.3,2,    114.8,2,    32.82,2,    24.81,2,     0.00,2,     1.82,2,   -999.0,9,   -999.0,9,-999.0000,9,  -999.00,  -999.00,9,  -999.00,9,   9.9125,2,     2034
  49UF20180709,KS1806,  5458,  1,     25,  25259,2,20180802,1835, 14.0057, 137.0253, 5349,    402.6,   8.7263,   8.7265,2,  34.3355,2,-999.0000,9,     86.7,2,     86.5,6,    42.52,6,    29.83,6,     0.00,6,     2.18,6,   -999.0,9,   -999.0,9,-999.0000,9,  -999.00,  -999.00,9,  -999.00,9,   8.7265,2,     2032
  49UF20180709,KS1806,  5458,  1,     24,  25258,2,20180802,1835, 14.0057, 137.0253, 5349,    453.2,   8.0195,   8.0212,2,  34.3795,2,-999.0000,9,     77.1,2,     77.2,2,    48.96,2,    32.10,2,     0.00,2,     2.34,2,   -999.0,9,   -999.0,9,-999.0000,9,  -999.00,  -999.00,9,  -999.00,9,   8.0212,2,     2030
  49UF20180709,KS1806,  5458,  1,     23,  25257,2,20180802,1835, 14.0057, 137.0253, 5349,    501.6,   7.1601,   7.1586,2,  34.4056,2,-999.0000,9,     71.6,2,     71.9,2,    57.62,2,    34.37,2,     0.00,2,     2.49,2,   -999.0,9,   -999.0,9,-999.0000,9,  -999.00,  -999.00,9,  -999.00,9,   7.1586,2,     2028
  49UF20180709,KS1806,  5458,  1,     22,  24473,2,20180802,1835, 14.0057, 137.0253, 5349,    603.9,   6.2986,   6.2989,2,  34.4416,2,-999.0000,9,     81.2,2,     81.3,2,    66.30,2,    35.39,2,     0.00,2,     2.54,2,   -999.0,9,   -999.0,9,-999.0000,9,  -999.00,  -999.00,9,  -999.00,9,   6.2989,2,     2025
  49UF20180709,KS1806,  5458,  1,     21,  25255,2,20180802,1835, 14.0057, 137.0253, 5349,    705.0,   5.6100,   5.6100,2,  34.4757,2,  34.4762,6,     83.6,2,     84.3,2,    75.52,2,    36.51,2,     0.00,2,     2.61,2,   -999.0,9,   -999.0,9,-999.0000,9,  -999.00,  -999.00,9,  -999.00,9,   5.6100,2,     2022
  49UF20180709,KS1806,  5458,  1,     20,  24270,2,20180802,1835, 14.0057, 137.0253, 5349,    807.3,   5.0126,   5.0152,2,  34.5029,2,-999.0000,9,     81.9,2,     82.0,2,    86.27,2,    37.50,2,     0.00,2,     2.69,2,   -999.0,9,   -999.0,9,-999.0000,9,  -999.00,  -999.00,9,  -999.00,9,   5.0152,2,     2019
  49UF20180709,KS1806,  5458,  1,     19,  25253,2,20180802,1835, 14.0057, 137.0253, 5349,    907.9,   4.5856,   4.5857,2,  34.5267,2,-999.0000,9,     86.3,2,     87.0,2,    93.54,2,    37.94,2,     0.00,2,     2.70,2,   -999.0,9,   -999.0,9,-999.0000,9,  -999.00,  -999.00,9,  -999.00,9,   4.5857,2,     2016
  49UF20180709,KS1806,  5458,  1,     18,  25252,2,20180802,1835, 14.0057, 137.0253, 5349,   1008.6,   4.2281,   4.2278,2,  34.5432,2,  34.5436,2,     88.3,2,     88.4,2,   100.24,2,    38.08,2,     0.00,2,     2.72,2,   -999.0,9,   -999.0,9,-999.0000,9,  -999.00,  -999.00,9,  -999.00,9,   4.2278,2,     2013
  49UF20180709,KS1806,  5458,  1,     17,  25251,2,20180802,1835, 14.0057, 137.0253, 5349,   1212.1,   3.6043,   3.6038,2,  34.5585,2,  34.5595,2,     90.2,2,     90.3,2,   114.22,2,    38.40,2,     0.00,2,     2.75,2,   -999.0,9,   -999.0,9,-999.0000,9,  -999.00,  -999.00,9,  -999.00,9,   3.6038,2,     2008
  49UF20180709,KS1806,  5458,  1,     16,  25250,2,20180802,1835, 14.0057, 137.0253, 5349,   1415.1,   3.0751,   3.0749,2,  34.5785,2,-999.0000,9,     96.1,2,     96.4,2,   124.85,2,    38.60,2,     0.00,2,     2.74,2,   -999.0,9,   -999.0,9,-999.0000,9,  -999.00,  -999.00,9,  -999.00,9,   3.0749,2,     2002
  49UF20180709,KS1806,  5458,  1,     15,  25249,2,20180802,1835, 14.0057, 137.0253, 5349,   1616.7,   2.6688,   2.6680,2,  34.5966,2,-999.0000,9,    102.0,2,    102.1,6,   132.42,6,    38.53,6,     0.00,6,     2.73,6,   -999.0,9,   -999.0,9,-999.0000,9,  -999.00,  -999.00,9,  -999.00,9,   2.6680,2,     1957
  49UF20180709,KS1806,  5458,  1,     14,  25248,2,20180802,1835, 14.0057, 137.0253, 5349,   1820.4,   2.3737,   2.3735,2,  34.6144,2,  34.6145,2,    107.8,2,    108.1,2,   137.44,2,    38.37,2,     0.00,2,     2.71,2,   -999.0,9,   -999.0,9,-999.0000,9,  -999.00,  -999.00,9,  -999.00,9,   2.3735,2,     1952
  49UF20180709,KS1806,  5458,  1,     13,  25247,2,20180802,1835, 14.0057, 137.0253, 5349,   2022.6,   2.1504,   2.1504,2,  34.6284,2,  34.6282,2,    113.7,2,    114.1,2,   141.38,2,    38.25,2,     0.00,2,     2.68,2,   -999.0,9,   -999.0,9,-999.0000,9,  -999.00,  -999.00,9,  -999.00,9,   2.1504,2,     1946
  49UF20180709,KS1806,  5458,  1,     12,  25246,2,20180802,1835, 14.0057, 137.0253, 5349,   2277.3,   1.9277,   1.9268,2,  34.6420,2,  34.6442,4,    121.0,2,    121.3,2,   144.99,2,    37.85,2,     0.00,2,     2.65,2,   -999.0,9,   -999.0,9,-999.0000,9,  -999.00,  -999.00,9,  -999.00,9,   1.9268,2,     1940
  49UF20180709,KS1806,  5458,  1,     11,  25245,2,20180802,1835, 14.0057, 137.0253, 5349,   2529.7,   1.8241,   1.8241,2,  34.6517,2,  34.6515,2,    125.4,2,    125.6,2,   146.77,2,    37.66,2,     0.00,2,     2.63,2,   -999.0,9,   -999.0,9,-999.0000,9,  -999.00,  -999.00,9,  -999.00,9,   1.8241,2,     1934
  49UF20180709,KS1806,  5458,  1,     10,  25244,2,20180802,1835, 14.0057, 137.0253, 5349,   2785.6,   1.7084,   1.7083,2,  34.6605,2,  34.6604,2,    132.6,2,    132.8,2,   147.11,2,    37.20,2,     0.00,2,     2.60,2,   -999.0,9,   -999.0,9,-999.0000,9,  -999.00,  -999.00,9,  -999.00,9,   1.7083,2,     1929
  49UF20180709,KS1806,  5458,  1,      9,  25243,2,20180802,1835, 14.0057, 137.0253, 5349,   3039.0,   1.6619,   1.6620,2,  34.6654,2,  34.6658,2,    136.8,2,    137.2,2,   146.80,2,    36.83,2,     0.00,2,     2.57,2,   -999.0,9,   -999.0,9,-999.0000,9,  -999.00,  -999.00,9,  -999.00,9,   1.6620,2,     1923
  49UF20180709,KS1806,  5458,  1,      8,  25242,2,20180802,1835, 14.0057, 137.0253, 5349,   3295.1,   1.6001,   1.5998,2,  34.6713,2,  34.6715,2,    142.7,2,    143.0,6,   146.26,6,    36.50,6,     0.00,6,     2.54,6,   -999.0,9,   -999.0,9,-999.0000,9,  -999.00,  -999.00,9,  -999.00,9,   1.5998,2,     1918
  49UF20180709,KS1806,  5458,  1,      7,  25241,2,20180802,1835, 14.0057, 137.0253, 5349,   3550.2,   1.5755,   1.5753,2,  34.6748,2,  34.6753,2,    146.5,2,    147.1,2,   145.06,2,    36.31,2,     0.00,2,     2.52,2,   -999.0,9,   -999.0,9,-999.0000,9,  -999.00,  -999.00,9,  -999.00,9,   1.5753,2,     1912
  49UF20180709,KS1806,  5458,  1,      6,  25240,2,20180802,1835, 14.0057, 137.0253, 5349,   4061.0,   1.5106,   1.5106,2,  34.6837,2,  34.6831,2,    156.3,2,    156.7,2,   142.20,2,    35.65,2,     0.00,2,     2.47,2,   -999.0,9,   -999.0,9,-999.0000,9,  -999.00,  -999.00,9,  -999.00,9,   1.5106,2,     1902
  49UF20180709,KS1806,  5458,  1,      5,  25239,2,20180802,1835, 14.0057, 137.0253, 5349,   4318.6,   1.5083,   1.5084,2,  34.6859,2,  34.6860,6,    159.5,2,    159.6,2,   140.92,2,    35.55,2,     0.00,2,     2.45,2,   -999.0,9,   -999.0,9,-999.0000,9,  -999.00,  -999.00,9,  -999.00,9,   1.5084,2,     1856
  49UF20180709,KS1806,  5458,  1,      4,  25238,2,20180802,1835, 14.0057, 137.0253, 5349,   4573.9,   1.5234,   1.5232,2,  34.6870,2,  34.6866,2,    160.9,2,    161.6,2,   140.56,2,    35.31,2,     0.00,2,     2.44,2,   -999.0,9,   -999.0,9,-999.0000,9,  -999.00,  -999.00,9,  -999.00,9,   1.5232,2,     1851
  49UF20180709,KS1806,  5458,  1,      3,  24271,4,20180802,1835, 14.0057, 137.0253, 5349,   4830.5,   1.5475,   1.5476,2,  34.6876,2,  34.6857,4,    161.7,2,    160.2,4,   140.88,4,    35.53,4,     0.00,4,     2.45,4,   -999.0,9,   -999.0,9,-999.0000,9,  -999.00,  -999.00,9,  -999.00,9,   1.5476,2,     1846
  49UF20180709,KS1806,  5458,  1,      2,  25236,2,20180802,1835, 14.0057, 137.0253, 5349,   5085.5,   1.5780,   1.5780,2,  34.6876,2,  34.6876,2,    161.8,2,    161.8,2,   140.12,2,    35.45,2,     0.00,2,     2.44,2,   -999.0,9,   -999.0,9,-999.0000,9,  -999.00,  -999.00,9,  -999.00,9,   1.5780,2,     1841
  49UF20180709,KS1806,  5458,  1,      1,  24272,2,20180802,1835, 14.0057, 137.0253, 5349,   5294.8,   1.6020,   1.6020,2,  34.6877,2,  34.6876,6,    162.1,2,    161.9,2,   140.10,2,    35.01,2,     0.00,2,     2.44,2,   -999.0,9,   -999.0,9,-999.0000,9,  -999.00,  -999.00,9,  -999.00,9,   1.6020,2,     1836