BOTTLE,20200311PRINUNIVRMK
EXPOCODE,SECT_ID,STNNBR,CASTNO,SAMPNO,BTLNBR,BTLNBR_FLAG_W,DATE,TIME,LATITUDE,LONGITUDE,DEPTH,CTDPRS,CTDTMP,SBE35,SBE35_FLAG_W,CTDSAL,CTDSAL_FLAG_W,SALNTY,SALNTY_FLAG_W,CTDOXY,CTDOXY_FLAG_W,OXYGEN,OXYGEN_FLAG_W,SILCAT,SILCAT_FLAG_W,NITRAT,NITRAT_FLAG_W,NITRIT,NITRIT_FLAG_W,PHSPHT,PHSPHT_FLAG_W,TCARBN,TCARBN_FLAG_W,ALKALI,ALKALI_FLAG_W,PH_TOT,PH_TOT_FLAG_W,PH_TMP,CHLORA,CHLORA_FLAG_W,PPHYTN,PPHYTN_FLAG_W,SBE35,SBE35_FLAG_W,BTL_TIME
,,,,,,,,,,,METERS,DBAR,ITS-90,,,PSS-78,,PSS-78,,UMOL/KG,,UMOL/KG,,UMOL/KG,,UMOL/KG,,UMOL/KG,,UMOL/KG,,UMOL/KG,,UMOL/KG,,,,DEG C,UG/KG,,UG/KG,,,,
  49UF20180709,KS1806,  5462,  1,     99,     99,2,20180805,0023,  8.0018, 136.9868, 3141,      0.0,  29.0522,-999.0000,9,  33.7018,2,-999.0000,9,    196.0,2,    196.4,2,     1.45,2,     0.00,2,     0.00,2,     0.02,2,   -999.0,9,   -999.0,9,-999.0000,9,  -999.00,     0.11,2,     0.05,2,-999.0000,9,      110
  49UF20180709,KS1806,  5462,  1,     36,  25270,3,20180805,0023,  8.0018, 136.9868, 3141,     10.3,  29.0581,  29.0601,2,  33.7020,2,-999.0000,9,    196.0,2,    196.0,2,     1.43,2,     0.00,2,     0.00,2,     0.01,2,   -999.0,9,   -999.0,9,-999.0000,9,  -999.00,     0.10,2,     0.04,2,  29.0601,2,      141
  49UF20180709,KS1806,  5462,  1,     35,  25269,2,20180805,0023,  8.0018, 136.9868, 3141,     25.3,  29.0295,  29.0308,2,  33.7016,2,-999.0000,9,    195.9,2,    196.6,2,     1.40,2,     0.00,2,     0.00,2,     0.01,2,   -999.0,9,   -999.0,9,-999.0000,9,  -999.00,     0.10,2,     0.05,2,  29.0308,2,      140
  49UF20180709,KS1806,  5462,  1,     34,  25268,2,20180805,0023,  8.0018, 136.9868, 3141,     49.9,  29.0253,  29.0260,2,  33.7026,2,-999.0000,9,    195.8,2,    196.4,2,     1.41,2,     0.00,2,     0.00,2,     0.01,2,   -999.0,9,   -999.0,9,-999.0000,9,  -999.00,     0.11,2,     0.05,2,  29.0260,2,      138
  49UF20180709,KS1806,  5462,  1,     30,  25264,2,20180805,0023,  8.0018, 136.9868, 3141,     75.5,  26.3109,  26.3029,2,  34.6537,2,-999.0000,9,    190.6,2,    191.3,2,     2.16,2,     0.00,2,     0.00,2,     0.12,2,   -999.0,9,   -999.0,9,-999.0000,9,  -999.00,     0.36,2,     0.08,2,  26.3029,2,      136
  49UF20180709,KS1806,  5462,  1,     29,  25263,2,20180805,0023,  8.0018, 136.9868, 3141,    100.0,  21.0438,  21.0454,2,  34.8221,2,-999.0000,9,    155.1,2,    155.7,2,     5.65,2,     5.31,2,     0.20,2,     0.53,2,   -999.0,9,   -999.0,9,-999.0000,9,  -999.00,     0.23,2,     0.20,2,  21.0454,2,      134
  49UF20180709,KS1806,  5462,  1,     28,  25262,2,20180805,0023,  8.0018, 136.9868, 3141,    123.6,  18.2417,  18.2413,2,  34.7640,2,-999.0000,9,    148.7,2,    148.9,2,     8.91,2,     9.77,2,     0.05,2,     0.77,2,   -999.0,9,   -999.0,9,-999.0000,9,  -999.00,     0.18,2,     0.06,2,  18.2413,2,      132
  49UF20180709,KS1806,  5462,  1,     27,  25261,2,20180805,0023,  8.0018, 136.9868, 3141,    150.2,  15.1176,  15.1097,2,  34.6059,2,-999.0000,9,    135.2,2,    135.0,2,    15.74,2,    15.30,2,     0.02,2,     1.14,2,   -999.0,9,   -999.0,9,-999.0000,9,  -999.00,     0.04,2,     0.15,2,  15.1097,2,      127
  49UF20180709,KS1806,  5462,  1,     26,  25260,2,20180805,0023,  8.0018, 136.9868, 3141,    200.6,  11.0997,  11.0991,2,  34.5037,2,-999.0000,9,    101.7,2,    101.1,2,    29.49,2,    25.19,2,     0.00,2,     1.81,2,   -999.0,9,   -999.0,9,-999.0000,9,  -999.00,     0.00,2,     0.04,2,  11.0991,2,      125
  49UF20180709,KS1806,  5462,  1,     25,  25259,2,20180805,0023,  8.0018, 136.9868, 3141,    250.3,   9.6865,   9.6847,2,  34.5215,2,-999.0000,9,     87.5,2,     87.2,6,    35.50,6,    29.21,6,     0.01,6,     2.08,6,   -999.0,9,   -999.0,9,-999.0000,9,  -999.00,  -999.00,9,  -999.00,9,   9.6847,2,      122
  49UF20180709,KS1806,  5462,  1,     22,  24473,2,20180805,0023,  8.0018, 136.9868, 3141,    300.5,   9.1948,   9.1949,2,  34.5520,2,-999.0000,9,     79.0,2,     78.9,2,    37.00,2,    31.16,2,     0.01,2,     2.20,2,   -999.0,9,   -999.0,9,-999.0000,9,  -999.00,  -999.00,9,  -999.00,9,   9.1949,2,      120
  49UF20180709,KS1806,  5462,  1,     21,  25255,2,20180805,0023,  8.0018, 136.9868, 3141,    350.9,   8.7406,   8.7407,2,  34.5575,2,-999.0000,9,     82.3,2,     82.1,2,    38.58,2,    31.66,2,     0.01,2,     2.24,2,   -999.0,9,   -999.0,9,-999.0000,9,  -999.00,  -999.00,9,  -999.00,9,   8.7407,2,      117
  49UF20180709,KS1806,  5462,  1,     20,  24270,2,20180805,0023,  8.0018, 136.9868, 3141,    401.0,   8.1825,   8.1722,2,  34.5427,2,-999.0000,9,     92.2,2,     91.2,2,    40.88,2,    32.01,2,     0.00,2,     2.25,2,   -999.0,9,   -999.0,9,-999.0000,9,  -999.00,  -999.00,9,  -999.00,9,   8.1722,2,      115
  49UF20180709,KS1806,  5462,  1,     19,  25253,2,20180805,0023,  8.0018, 136.9868, 3141,    452.0,   7.6011,   7.5990,2,  34.5298,2,-999.0000,9,     95.6,2,     95.2,2,    44.90,2,    32.73,2,     0.00,2,     2.30,2,   -999.0,9,   -999.0,9,-999.0000,9,  -999.00,  -999.00,9,  -999.00,9,   7.5990,2,      112
  49UF20180709,KS1806,  5462,  1,     18,  25252,2,20180805,0023,  8.0018, 136.9868, 3141,    452.2,   7.5978,   7.5975,2,  34.5297,2,-999.0000,9,     95.7,2,     95.2,2,    45.03,2,    32.61,2,     0.00,2,     2.31,2,   -999.0,9,   -999.0,9,-999.0000,9,  -999.00,  -999.00,9,  -999.00,9,   7.5975,2,      112
  49UF20180709,KS1806,  5462,  1,     17,  25251,2,20180805,0023,  8.0018, 136.9868, 3141,    501.0,   7.1942,   7.1943,2,  34.5273,2,-999.0000,9,     96.8,2,     96.1,2,    48.15,2,    33.46,2,     0.00,2,     2.36,2,   -999.0,9,   -999.0,9,-999.0000,9,  -999.00,  -999.00,9,  -999.00,9,   7.1943,2,      110
  49UF20180709,KS1806,  5462,  1,     16,  25250,2,20180805,0023,  8.0018, 136.9868, 3141,    605.6,   6.7415,   6.7416,2,  34.5250,2,-999.0000,9,     99.0,2,     98.6,2,    52.23,2,    34.05,2,     0.00,2,     2.41,2,   -999.0,9,   -999.0,9,-999.0000,9,  -999.00,  -999.00,9,  -999.00,9,   6.7416,2,      106
  49UF20180709,KS1806,  5462,  1,     12,  25246,4,20180805,0023,  8.0018, 136.9868, 3141,    705.4,   6.4121,   6.4121,2,  34.5252,2,-999.0000,9,     93.5,2,     88.8,4,    70.29,4,    36.77,4,     0.00,4,     2.61,4,   -999.0,9,   -999.0,9,-999.0000,9,  -999.00,  -999.00,9,  -999.00,9,   6.4121,2,      103
  49UF20180709,KS1806,  5462,  1,     10,  25244,2,20180805,0023,  8.0018, 136.9868, 3141,    805.0,   5.6643,   5.6644,2,  34.5268,2,-999.0000,9,     89.3,2,     89.0,2,    70.46,2,    36.53,2,     0.00,2,     2.61,2,   -999.0,9,   -999.0,9,-999.0000,9,  -999.00,  -999.00,9,  -999.00,9,   5.6644,2,       59
  49UF20180709,KS1806,  5462,  1,     11,  25245,2,20180805,0023,  8.0018, 136.9868, 3141,    805.1,   5.6626,   5.6617,2,  34.5269,2,-999.0000,9,     89.3,2,     88.7,2,    70.42,2,    36.72,2,     0.00,2,     2.61,2,   -999.0,9,   -999.0,9,-999.0000,9,  -999.00,  -999.00,9,  -999.00,9,   5.6617,2,      100
  49UF20180709,KS1806,  5462,  1,      9,  25243,2,20180805,0023,  8.0018, 136.9868, 3141,    905.8,   5.0597,   5.0597,2,  34.5389,2,-999.0000,9,     85.5,2,     85.1,2,    82.19,2,    37.97,2,     0.00,2,     2.69,2,   -999.0,9,   -999.0,9,-999.0000,9,  -999.00,  -999.00,9,  -999.00,9,   5.0597,2,       56
  49UF20180709,KS1806,  5462,  1,      8,  25242,2,20180805,0023,  8.0018, 136.9868, 3141,   1008.1,   4.6465,   4.6462,2,  34.5479,2,-999.0000,9,     86.5,2,     86.2,2,    90.03,2,    38.29,2,     0.00,2,     2.72,2,   -999.0,9,   -999.0,9,-999.0000,9,  -999.00,  -999.00,9,  -999.00,9,   4.6462,2,       53
  49UF20180709,KS1806,  5462,  1,      7,  25241,2,20180805,0023,  8.0018, 136.9868, 3141,   1208.6,   3.7951,   3.7946,2,  34.5690,2,-999.0000,9,     91.1,2,     90.7,2,   107.41,2,    38.58,2,     0.00,2,     2.76,2,   -999.0,9,   -999.0,9,-999.0000,9,  -999.00,  -999.00,9,  -999.00,9,   3.7946,2,       47
  49UF20180709,KS1806,  5462,  1,      4,  25238,2,20180805,0023,  8.0018, 136.9868, 3141,   1415.4,   3.1697,   3.1699,2,  34.5875,2,-999.0000,9,     96.5,2,     96.2,2,   120.74,2,    38.89,2,     0.00,2,     2.75,2,   -999.0,9,   -999.0,9,-999.0000,9,  -999.00,  -999.00,9,  -999.00,9,   3.1699,2,       42
  49UF20180709,KS1806,  5462,  1,      3,  24271,2,20180805,0023,  8.0018, 136.9868, 3141,   1613.5,   2.8067,   2.8066,2,  34.6050,2,-999.0000,9,    102.6,2,    100.2,3,   125.41,6,    38.70,6,     0.00,6,     2.74,6,   -999.0,9,   -999.0,9,-999.0000,9,  -999.00,  -999.00,9,  -999.00,9,   2.8066,2,       37
  49UF20180709,KS1806,  5462,  1,      2,  25236,2,20180805,0023,  8.0018, 136.9868, 3141,   1821.2,   2.4535,   2.4533,2,  34.6214,2,-999.0000,9,    109.6,2,    109.0,2,   134.21,2,    38.15,2,     0.00,2,     2.71,2,   -999.0,9,   -999.0,9,-999.0000,9,  -999.00,  -999.00,9,  -999.00,9,   2.4533,2,       31
  49UF20180709,KS1806,  5462,  1,      1,  24272,2,20180805,0023,  8.0018, 136.9868, 3141,   2022.5,   2.1840,   2.1841,2,  34.6351,2,-999.0000,9,    116.7,2,    115.8,2,   138.87,2,    38.07,2,     0.00,2,     2.68,2,   -999.0,9,   -999.0,9,-999.0000,9,  -999.00,  -999.00,9,  -999.00,9,   2.1841,2,       25
  49UF20180709,KS1806,  5463,  1,     99,     99,2,20180805,1135,  7.0012, 137.0037, 4259,      0.0,  29.0965,-999.0000,9,  33.6983,2,-999.0000,9,    196.2,2,    197.2,2,     1.37,2,     0.00,2,     0.00,2,     0.02,2,   -999.0,9,   -999.0,9,-999.0000,9,  -999.00,  -999.00,9,  -999.00,9,-999.0000,9,     1220
  49UF20180709,KS1806,  5463,  1,     36,  25270,3,20180805,1135,  7.0012, 137.0037, 4259,      9.3,  29.0921,  29.0996,2,  33.6983,2,  33.6995,2,    196.3,2,    196.8,2,     1.37,2,     0.00,2,     0.00,2,     0.01,2,   -999.0,9,   -999.0,9,-999.0000,9,  -999.00,  -999.00,9,  -999.00,9,  29.0996,2,     1249
  49UF20180709,KS1806,  5463,  1,     35,  25269,2,20180805,1135,  7.0012, 137.0037, 4259,     25.5,  29.0810,  29.0819,2,  33.7015,2,-999.0000,9,    196.4,2,    197.1,2,     1.36,2,     0.00,2,     0.00,2,     0.01,2,   -999.0,9,   -999.0,9,-999.0000,9,  -999.00,  -999.00,9,  -999.00,9,  29.0819,2,     1248
  49UF20180709,KS1806,  5463,  1,     34,  25268,2,20180805,1135,  7.0012, 137.0037, 4259,     50.1,  29.0405,  29.0418,2,  33.7070,2,  33.7059,2,    196.5,2,    196.9,2,     1.37,2,     0.00,2,     0.00,2,     0.01,2,   -999.0,9,   -999.0,9,-999.0000,9,  -999.00,  -999.00,9,  -999.00,9,  29.0418,2,     1244
  49UF20180709,KS1806,  5463,  1,     30,  25264,3,20180805,1135,  7.0012, 137.0037, 4259,     75.0,  27.9441,  27.9492,2,  34.4118,2,-999.0000,9,    197.0,2,    196.8,2,     1.60,2,     0.00,2,     0.00,2,     0.07,2,   -999.0,9,   -999.0,9,-999.0000,9,  -999.00,  -999.00,9,  -999.00,9,  27.9492,2,     1241
  49UF20180709,KS1806,  5463,  1,     29,  25263,2,20180805,1135,  7.0012, 137.0037, 4259,    100.3,  18.3008,  18.2825,2,  34.7560,2,  34.7575,2,    151.6,2,    151.4,2,     8.26,2,     9.06,2,     0.06,2,     0.72,2,   -999.0,9,   -999.0,9,-999.0000,9,  -999.00,  -999.00,9,  -999.00,9,  18.2825,2,     1239
  49UF20180709,KS1806,  5463,  1,     28,  25262,2,20180805,1135,  7.0012, 137.0037, 4259,    125.9,  16.2456,  16.2437,2,  34.6498,2,  34.6443,2,    150.8,2,    151.9,2,    10.98,2,    11.56,2,     0.03,2,     0.87,2,   -999.0,9,   -999.0,9,-999.0000,9,  -999.00,  -999.00,9,  -999.00,9,  16.2437,2,     1238
  49UF20180709,KS1806,  5463,  1,     27,  25261,2,20180805,1135,  7.0012, 137.0037, 4259,    150.3,  13.1435,  13.1404,2,  34.4483,2,-999.0000,9,    149.7,2,    149.2,2,    17.18,2,    16.04,2,     0.01,2,     1.17,2,   -999.0,9,   -999.0,9,-999.0000,9,  -999.00,  -999.00,9,  -999.00,9,  13.1404,2,     1236
  49UF20180709,KS1806,  5463,  1,     26,  25260,2,20180805,1135,  7.0012, 137.0037, 4259,    200.4,  11.0535,  11.0529,2,  34.4982,2,  34.4971,2,    102.6,2,    101.7,6,    29.50,6,    24.96,6,     0.01,6,     1.81,6,   -999.0,9,   -999.0,9,-999.0000,9,  -999.00,  -999.00,9,  -999.00,9,  11.0529,2,     1234
  49UF20180709,KS1806,  5463,  1,     25,  25259,2,20180805,1135,  7.0012, 137.0037, 4259,    252.5,   9.5920,   9.5923,2,  34.5363,2,-999.0000,9,     86.0,2,     85.6,2,    35.51,2,    29.59,2,     0.01,2,     2.11,2,   -999.0,9,   -999.0,9,-999.0000,9,  -999.00,  -999.00,9,  -999.00,9,   9.5923,2,     1231
  49UF20180709,KS1806,  5463,  1,     22,  24473,2,20180805,1135,  7.0012, 137.0037, 4259,    299.8,   9.1525,   9.1528,2,  34.5852,2,  34.5838,2,     74.6,2,     74.4,2,    36.18,2,    31.50,2,     0.01,2,     2.24,2,   -999.0,9,   -999.0,9,-999.0000,9,  -999.00,  -999.00,9,  -999.00,9,   9.1528,2,     1229
  49UF20180709,KS1806,  5463,  1,     21,  25255,4,20180805,1135,  7.0012, 137.0037, 4259,    351.6,   8.6563,   8.6547,2,  34.5756,2,-999.0000,9,     88.2,2,    101.8,4,    29.45,4,    25.06,4,     0.01,4,     1.80,4,   -999.0,9,   -999.0,9,-999.0000,9,  -999.00,  -999.00,9,  -999.00,9,   8.6547,2,     1227
  49UF20180709,KS1806,  5463,  1,     20,  24270,2,20180805,1135,  7.0012, 137.0037, 4259,    402.7,   8.1808,   8.1808,2,  34.5549,2,  34.5546,2,     92.9,2,     92.1,2,    40.18,2,    31.94,2,     0.00,2,     2.25,2,   -999.0,9,   -999.0,9,-999.0000,9,  -999.00,  -999.00,9,  -999.00,9,   8.1808,2,     1224
  49UF20180709,KS1806,  5463,  1,     19,  25253,2,20180805,1135,  7.0012, 137.0037, 4259,    402.7,   8.1814,   8.1816,2,  34.5548,2,  34.5544,2,     92.9,2,     92.1,2,    40.12,2,    31.84,2,     0.00,2,     2.25,2,   -999.0,9,   -999.0,9,-999.0000,9,  -999.00,  -999.00,9,  -999.00,9,   8.1816,2,     1224
  49UF20180709,KS1806,  5463,  1,     18,  25252,2,20180805,1135,  7.0012, 137.0037, 4259,    453.4,   7.9411,   7.9412,2,  34.5528,2,-999.0000,9,     92.1,2,     91.4,2,    41.54,2,    32.52,2,     0.00,2,     2.29,2,   -999.0,9,   -999.0,9,-999.0000,9,  -999.00,  -999.00,9,  -999.00,9,   7.9412,2,     1222
  49UF20180709,KS1806,  5463,  1,     17,  25251,2,20180805,1135,  7.0012, 137.0037, 4259,    503.8,   7.4901,   7.4908,2,  34.5358,2,  34.5359,2,     91.2,2,     90.8,2,    46.03,2,    33.29,2,     0.00,2,     2.35,2,   -999.0,9,   -999.0,9,-999.0000,9,  -999.00,  -999.00,9,  -999.00,9,   7.4908,2,     1219
  49UF20180709,KS1806,  5463,  1,     16,  25250,2,20180805,1135,  7.0012, 137.0037, 4259,    605.2,   6.7734,   6.7733,2,  34.5345,2,-999.0000,9,     81.1,2,     80.7,2,    55.47,2,    35.66,2,     0.00,2,     2.53,2,   -999.0,9,   -999.0,9,-999.0000,9,  -999.00,  -999.00,9,  -999.00,9,   6.7733,2,     1216
  49UF20180709,KS1806,  5463,  1,     12,  25246,2,20180805,1135,  7.0012, 137.0037, 4259,    705.9,   6.1391,   6.1423,2,  34.5310,2,  34.5308,2,     82.2,2,     81.6,2,    63.71,2,    36.51,2,     0.00,2,     2.60,2,   -999.0,9,   -999.0,9,-999.0000,9,  -999.00,  -999.00,9,  -999.00,9,   6.1423,2,     1213
  49UF20180709,KS1806,  5463,  1,     11,  25245,2,20180805,1135,  7.0012, 137.0037, 4259,    806.2,   5.4411,   5.4410,2,  34.5361,2,  34.5364,6,     83.0,2,     82.5,2,    74.94,2,    37.47,2,     0.00,2,     2.68,2,   -999.0,9,   -999.0,9,-999.0000,9,  -999.00,  -999.00,9,  -999.00,9,   5.4410,2,     1209
  49UF20180709,KS1806,  5463,  1,      9,  25243,2,20180805,1135,  7.0012, 137.0037, 4259,    905.9,   4.9169,   4.9158,2,  34.5453,2,  34.5455,2,     82.8,2,     82.1,2,    84.49,2,    38.25,2,     0.00,2,     2.73,2,   -999.0,9,   -999.0,9,-999.0000,9,  -999.00,  -999.00,9,  -999.00,9,   4.9158,2,     1206
  49UF20180709,KS1806,  5463,  1,     10,  25244,2,20180805,1135,  7.0012, 137.0037, 4259,    906.5,   4.9126,   4.9126,2,  34.5453,2,  34.5454,2,     83.0,2,     82.6,2,    84.47,2,    38.33,2,     0.00,2,     2.73,2,   -999.0,9,   -999.0,9,-999.0000,9,  -999.00,  -999.00,9,  -999.00,9,   4.9126,2,     1206
  49UF20180709,KS1806,  5463,  1,      8,  25242,2,20180805,1135,  7.0012, 137.0037, 4259,   1008.2,   4.5748,   4.5744,2,  34.5523,2,  34.5525,2,     84.2,2,     83.8,2,    91.11,2,    38.55,2,     0.00,2,     2.75,2,   -999.0,9,   -999.0,9,-999.0000,9,  -999.00,  -999.00,9,  -999.00,9,   4.5744,2,     1202
  49UF20180709,KS1806,  5463,  1,      7,  25241,2,20180805,1135,  7.0012, 137.0037, 4259,   1209.3,   3.7667,   3.7665,2,  34.5728,2,  34.5733,6,     89.6,2,     89.3,2,   107.36,2,    38.84,2,     0.00,2,     2.77,2,   -999.0,9,   -999.0,9,-999.0000,9,  -999.00,  -999.00,9,  -999.00,9,   3.7665,2,     1158
  49UF20180709,KS1806,  5463,  1,      4,  25238,2,20180805,1135,  7.0012, 137.0037, 4259,   1412.7,   3.2284,   3.2283,2,  34.5902,2,  34.5907,2,     95.0,2,     94.5,6,   118.79,6,    38.99,6,     0.00,6,     2.77,6,   -999.0,9,   -999.0,9,-999.0000,9,  -999.00,  -999.00,9,  -999.00,9,   3.2283,2,     1152
  49UF20180709,KS1806,  5463,  1,      3,  24271,2,20180805,1135,  7.0012, 137.0037, 4259,   1615.3,   2.8355,   2.8356,2,  34.6053,2,  34.6056,2,    100.9,2,    100.3,2,   127.05,2,    38.96,2,     0.00,2,     2.75,2,   -999.0,9,   -999.0,9,-999.0000,9,  -999.00,  -999.00,9,  -999.00,9,   2.8356,2,     1147
  49UF20180709,KS1806,  5463,  1,      2,  25236,2,20180805,1135,  7.0012, 137.0037, 4259,   1819.2,   2.4041,   2.4039,2,  34.6247,2,  34.6253,6,    109.5,2,    108.9,2,   135.24,2,    38.53,2,     0.00,2,     2.71,2,   -999.0,9,   -999.0,9,-999.0000,9,  -999.00,  -999.00,9,  -999.00,9,   2.4039,2,     1141
  49UF20180709,KS1806,  5463,  1,      1,  24272,2,20180805,1135,  7.0012, 137.0037, 4259,   2020.9,   2.1505,   2.1501,2,  34.6378,2,  34.6381,2,    116.6,2,    115.7,2,   139.73,2,    38.09,2,     0.00,2,     2.68,2,   -999.0,9,   -999.0,9,-999.0000,9,  -999.00,  -999.00,9,  -999.00,9,   2.1501,2,     1136