BOTTLE,20200311PRINUNIVRMK
EXPOCODE,SECT_ID,STNNBR,CASTNO,SAMPNO,BTLNBR,BTLNBR_FLAG_W,DATE,TIME,LATITUDE,LONGITUDE,DEPTH,CTDPRS,CTDTMP,SBE35,SBE35_FLAG_W,CTDSAL,CTDSAL_FLAG_W,SALNTY,SALNTY_FLAG_W,CTDOXY,CTDOXY_FLAG_W,OXYGEN,OXYGEN_FLAG_W,SILCAT,SILCAT_FLAG_W,NITRAT,NITRAT_FLAG_W,NITRIT,NITRIT_FLAG_W,PHSPHT,PHSPHT_FLAG_W,TCARBN,TCARBN_FLAG_W,ALKALI,ALKALI_FLAG_W,PH_TOT,PH_TOT_FLAG_W,PH_TMP,CHLORA,CHLORA_FLAG_W,PPHYTN,PPHYTN_FLAG_W,SBE35,SBE35_FLAG_W,BTL_TIME
,,,,,,,,,,,METERS,DBAR,ITS-90,,,PSS-78,,PSS-78,,UMOL/KG,,UMOL/KG,,UMOL/KG,,UMOL/KG,,UMOL/KG,,UMOL/KG,,UMOL/KG,,UMOL/KG,,,,DEG C,UG/KG,,UG/KG,,,,
  49UF20180709,KS1806,  5464,  1,     99,     99,2,20180814,0437,  3.0035, 137.0230, 4530,      0.0,  29.6470,-999.0000,9,  34.1218,2,-999.0000,9,    195.9,2,    195.0,2,     1.17,2,     0.03,2,     0.00,2,     0.06,2,   -999.0,9,   -999.0,9,-999.0000,9,  -999.00,     0.09,2,     0.03,2,-999.0000,9,      620
  49UF20180709,KS1806,  5464,  1,     36,  25270,2,20180814,0437,  3.0035, 137.0230, 4530,      9.5,  29.6035,  29.6042,2,  34.1554,2,  34.1558,2,    196.0,2,    195.4,2,     1.16,2,     0.11,2,     0.00,2,     0.07,2,   -999.0,9,   -999.0,9,-999.0000,9,  -999.00,     0.09,2,     0.05,2,  29.6042,2,      650
  49UF20180709,KS1806,  5464,  1,     35,  25269,2,20180814,0437,  3.0035, 137.0230, 4530,     24.9,  29.4985,  29.4993,2,  34.1862,2,  34.1872,2,    196.3,2,    195.5,2,     1.18,2,     0.07,2,     0.00,2,     0.07,2,   -999.0,9,   -999.0,9,-999.0000,9,  -999.00,     0.13,2,     0.06,2,  29.4993,2,      649
  49UF20180709,KS1806,  5464,  1,     34,  25268,2,20180814,0437,  3.0035, 137.0230, 4530,     49.7,  29.3986,  29.3990,2,  34.1793,2,-999.0000,9,    196.4,2,    195.3,2,     1.24,2,     0.11,2,     0.00,2,     0.07,2,   -999.0,9,   -999.0,9,-999.0000,9,  -999.00,     0.17,2,     0.09,2,  29.3990,2,      645
  49UF20180709,KS1806,  5464,  1,     33,  25267,2,20180814,0437,  3.0035, 137.0230, 4530,     74.4,  29.3187,  29.3200,2,  34.1767,2,  34.1890,2,    195.5,2,    194.4,2,     1.21,2,     0.08,2,     0.00,2,     0.08,2,   -999.0,9,   -999.0,9,-999.0000,9,  -999.00,     0.34,2,     0.23,2,  29.3200,2,      643
  49UF20180709,KS1806,  5464,  1,     32,  25266,2,20180814,0437,  3.0035, 137.0230, 4530,    100.4,  28.5917,  28.5934,2,  35.1990,2,-999.0000,9,    176.0,2,    175.9,2,     1.56,2,     2.20,2,     0.17,2,     0.35,2,   -999.0,9,   -999.0,9,-999.0000,9,  -999.00,     0.33,2,     0.58,2,  28.5934,2,      641
  49UF20180709,KS1806,  5464,  1,     31,  25265,2,20180814,0437,  3.0035, 137.0230, 4530,    124.8,  27.8267,  27.8259,2,  35.3150,2,  35.3143,2,    167.7,2,    167.4,2,     1.98,2,     4.31,2,     0.07,2,     0.49,2,   -999.0,9,   -999.0,9,-999.0000,9,  -999.00,     0.17,2,     0.46,2,  27.8259,2,      640
  49UF20180709,KS1806,  5464,  1,     30,  25264,2,20180814,0437,  3.0035, 137.0230, 4530,    150.3,  22.0921,  22.0941,2,  35.0433,2,-999.0000,9,    148.3,2,    145.4,2,     5.55,2,     8.26,2,     0.02,2,     0.67,2,   -999.0,9,   -999.0,9,-999.0000,9,  -999.00,     0.03,2,     0.11,2,  22.0941,2,      638
  49UF20180709,KS1806,  5464,  1,     29,  25263,2,20180814,0437,  3.0035, 137.0230, 4530,    201.4,  17.0255,  17.0324,2,  35.3041,2,  35.2997,2,    147.6,2,    147.1,2,     6.04,2,    12.83,2,     0.00,2,     0.98,2,   -999.0,9,   -999.0,9,-999.0000,9,  -999.00,     0.00,2,     0.03,2,  17.0324,2,      635
  49UF20180709,KS1806,  5464,  1,     28,  25262,2,20180814,0437,  3.0035, 137.0230, 4530,    246.5,  14.7815,  14.7966,2,  35.1398,2,  35.1376,2,    151.5,2,    150.8,2,     8.33,2,    15.38,2,     0.00,2,     1.15,2,   -999.0,9,   -999.0,9,-999.0000,9,  -999.00,  -999.00,9,  -999.00,9,  14.7966,2,      633
  49UF20180709,KS1806,  5464,  1,     27,  25261,2,20180814,0437,  3.0035, 137.0230, 4530,    300.2,  10.8371,  10.8286,2,  34.5081,2,  34.5245,4,    116.2,2,    116.8,6,    29.11,6,    24.01,6,     0.00,6,     1.73,6,   -999.0,9,   -999.0,9,-999.0000,9,  -999.00,  -999.00,9,  -999.00,9,  10.8286,2,      631
  49UF20180709,KS1806,  5464,  1,     26,  25260,2,20180814,0437,  3.0035, 137.0230, 4530,    352.0,   8.6212,   8.6179,2,  34.4930,2,  34.4799,4,    105.0,2,    102.8,2,    40.59,2,    29.66,2,     0.00,2,     2.11,2,   -999.0,9,   -999.0,9,-999.0000,9,  -999.00,  -999.00,9,  -999.00,9,   8.6179,2,      628
  49UF20180709,KS1806,  5464,  1,     25,  25259,2,20180814,0437,  3.0035, 137.0230, 4530,    402.1,   8.1687,   8.1675,2,  34.5812,2,  34.5814,2,    122.0,2,    121.3,2,    33.44,2,    29.55,2,     0.00,2,     2.07,2,   -999.0,9,   -999.0,9,-999.0000,9,  -999.00,  -999.00,9,  -999.00,9,   8.1675,2,      625
  49UF20180709,KS1806,  5464,  1,     24,  25258,3,20180814,0437,  3.0035, 137.0230, 4530,    452.6,   7.8862,   7.8821,2,  34.5692,2,  34.5707,2,    116.0,2,    116.0,2,    36.19,2,    30.71,2,     0.00,2,     2.15,2,   -999.0,9,   -999.0,9,-999.0000,9,  -999.00,  -999.00,9,  -999.00,9,   7.8821,2,      622
  49UF20180709,KS1806,  5464,  1,     23,  25257,2,20180814,0437,  3.0035, 137.0230, 4530,    504.3,   7.4612,   7.4596,2,  34.5496,2,  34.5518,2,    105.7,2,    107.2,2,    41.01,2,    32.16,2,     0.00,2,     2.27,2,   -999.0,9,   -999.0,9,-999.0000,9,  -999.00,  -999.00,9,  -999.00,9,   7.4596,2,      619
  49UF20180709,KS1806,  5464,  1,     22,  24473,2,20180814,0437,  3.0035, 137.0230, 4530,    606.4,   6.6298,   6.6273,2,  34.5348,2,  34.5344,2,    105.5,2,    104.1,6,    49.24,6,    34.17,6,     0.00,6,     2.41,6,   -999.0,9,   -999.0,9,-999.0000,9,  -999.00,  -999.00,9,  -999.00,9,   6.6273,2,      615
  49UF20180709,KS1806,  5464,  1,     21,  25255,2,20180814,0437,  3.0035, 137.0230, 4530,    709.0,   5.8573,   5.8517,2,  34.5327,2,  34.5334,2,     95.5,2,     95.6,2,    61.28,2,    36.34,2,     0.00,2,     2.56,2,   -999.0,9,   -999.0,9,-999.0000,9,  -999.00,  -999.00,9,  -999.00,9,   5.8517,2,      610
  49UF20180709,KS1806,  5464,  1,     20,  24270,2,20180814,0437,  3.0035, 137.0230, 4530,    809.8,   5.2996,   5.2998,2,  34.5377,2,  34.5385,2,     97.3,2,     96.8,2,    71.64,2,    37.03,2,     0.00,2,     2.62,2,   -999.0,9,   -999.0,9,-999.0000,9,  -999.00,  -999.00,9,  -999.00,9,   5.2998,2,      606
  49UF20180709,KS1806,  5464,  1,     19,  25253,2,20180814,0437,  3.0035, 137.0230, 4530,    910.2,   4.8383,   4.8394,2,  34.5466,2,  34.5461,2,     93.6,2,     94.0,2,    80.20,2,    37.94,2,     0.00,2,     2.68,2,   -999.0,9,   -999.0,9,-999.0000,9,  -999.00,  -999.00,9,  -999.00,9,   4.8394,2,      601
  49UF20180709,KS1806,  5464,  1,     17,  25251,2,20180814,0437,  3.0035, 137.0230, 4530,   1010.4,   4.3502,   4.3494,2,  34.5574,2,  34.5580,2,     92.5,2,     92.1,2,    91.46,2,    38.63,2,     0.00,2,     2.74,2,   -999.0,9,   -999.0,9,-999.0000,9,  -999.00,  -999.00,9,  -999.00,9,   4.3494,2,      557
  49UF20180709,KS1806,  5464,  1,     18,  25252,2,20180814,0437,  3.0035, 137.0230, 4530,   1012.3,   4.3420,   4.3401,2,  34.5577,2,  34.5580,2,     92.4,2,     92.2,2,    91.39,2,    38.60,2,     0.00,2,     2.75,2,   -999.0,9,   -999.0,9,-999.0000,9,  -999.00,  -999.00,9,  -999.00,9,   4.3401,2,      557
  49UF20180709,KS1806,  5464,  1,     16,  25250,3,20180814,0437,  3.0035, 137.0230, 4530,   1213.3,   3.7065,   3.7062,2,  34.5755,2,  34.5762,2,     93.8,2,     93.6,2,   108.12,2,    38.94,2,     0.00,2,     2.79,2,   -999.0,9,   -999.0,9,-999.0000,9,  -999.00,  -999.00,9,  -999.00,9,   3.7062,2,      551
  49UF20180709,KS1806,  5464,  1,     15,  25249,2,20180814,0437,  3.0035, 137.0230, 4530,   1411.7,   3.1296,   3.1296,2,  34.5947,2,  34.5958,6,    101.0,2,    100.7,2,   118.02,2,    39.06,2,     0.00,2,     2.76,2,   -999.0,9,   -999.0,9,-999.0000,9,  -999.00,  -999.00,9,  -999.00,9,   3.1296,2,      546
  49UF20180709,KS1806,  5464,  1,     14,  25248,2,20180814,0437,  3.0035, 137.0230, 4530,   1617.4,   2.7248,   2.7246,2,  34.6109,2,  34.6120,2,    105.6,2,    105.2,2,   127.11,2,    38.89,2,     0.00,2,     2.74,2,   -999.0,9,   -999.0,9,-999.0000,9,  -999.00,  -999.00,9,  -999.00,9,   2.7246,2,      541
  49UF20180709,KS1806,  5464,  1,     13,  25247,2,20180814,0437,  3.0035, 137.0230, 4530,   1820.4,   2.4489,   2.4488,2,  34.6238,2,  34.6236,2,    110.9,2,    110.2,2,   132.06,2,    38.60,2,     0.00,2,     2.72,2,   -999.0,9,   -999.0,9,-999.0000,9,  -999.00,  -999.00,9,  -999.00,9,   2.4488,2,      536
  49UF20180709,KS1806,  5464,  1,     12,  25246,2,20180814,0437,  3.0035, 137.0230, 4530,   2020.2,   2.1465,   2.1465,2,  34.6392,2,  34.6399,2,    116.4,2,    116.1,2,   139.67,2,    38.36,2,     0.00,2,     2.69,2,   -999.0,9,   -999.0,9,-999.0000,9,  -999.00,  -999.00,9,  -999.00,9,   2.1465,2,      531
  49UF20180709,KS1806,  5464,  1,     11,  25245,2,20180814,0437,  3.0035, 137.0230, 4530,   2274.5,   1.9142,   1.9144,2,  34.6513,2,  34.6520,2,    125.9,2,    125.4,6,   142.34,6,    37.91,6,     0.00,6,     2.64,6,   -999.0,9,   -999.0,9,-999.0000,9,  -999.00,  -999.00,9,  -999.00,9,   1.9144,2,      526
  49UF20180709,KS1806,  5464,  1,     10,  25244,2,20180814,0437,  3.0035, 137.0230, 4530,   2528.5,   1.7960,   1.7961,2,  34.6584,2,  34.6593,6,    131.4,2,    131.4,2,   143.59,2,    37.36,2,     0.00,2,     2.61,2,   -999.0,9,   -999.0,9,-999.0000,9,  -999.00,  -999.00,9,  -999.00,9,   1.7961,2,      520
  49UF20180709,KS1806,  5464,  1,      9,  25243,2,20180814,0437,  3.0035, 137.0230, 4530,   2781.0,   1.6774,   1.6776,2,  34.6656,2,  34.6668,4,    137.9,2,    137.1,2,   144.45,2,    37.10,2,     0.00,2,     2.58,2,   -999.0,9,   -999.0,9,-999.0000,9,  -999.00,  -999.00,9,  -999.00,9,   1.6776,2,      515
  49UF20180709,KS1806,  5464,  1,      8,  25242,2,20180814,0437,  3.0035, 137.0230, 4530,   3037.9,   1.5921,   1.5923,2,  34.6717,2,  34.6726,2,    143.5,2,    143.0,2,   144.78,2,    36.61,2,     0.00,2,     2.55,2,   -999.0,9,   -999.0,9,-999.0000,9,  -999.00,  -999.00,9,  -999.00,9,   1.5923,2,      510
  49UF20180709,KS1806,  5464,  1,      7,  25241,2,20180814,0437,  3.0035, 137.0230, 4530,   3291.8,   1.5577,   1.5576,2,  34.6754,2,  34.6751,2,    146.7,2,    145.8,2,   144.66,2,    36.14,2,     0.00,2,     2.53,2,   -999.0,9,   -999.0,9,-999.0000,9,  -999.00,  -999.00,9,  -999.00,9,   1.5576,2,      505
  49UF20180709,KS1806,  5464,  1,      6,  25240,2,20180814,0437,  3.0035, 137.0230, 4530,   3547.2,   1.5503,   1.5504,2,  34.6779,2,  34.6783,2,    148.7,2,    148.4,2,   144.35,2,    36.26,2,     0.00,2,     2.51,2,   -999.0,9,   -999.0,9,-999.0000,9,  -999.00,  -999.00,9,  -999.00,9,   1.5504,2,      459
  49UF20180709,KS1806,  5464,  1,      5,  25239,2,20180814,0437,  3.0035, 137.0230, 4530,   3797.6,   1.5368,   1.5368,2,  34.6810,2,  34.6812,2,    151.0,2,    150.4,6,   144.51,6,    35.97,6,     0.00,6,     2.50,6,   -999.0,9,   -999.0,9,-999.0000,9,  -999.00,  -999.00,9,  -999.00,9,   1.5368,2,      454
  49UF20180709,KS1806,  5464,  1,      4,  25238,2,20180814,0437,  3.0035, 137.0230, 4530,   4052.9,   1.5128,   1.5128,2,  34.6851,2,  34.6859,2,    154.3,2,    154.0,2,   143.72,2,    35.93,2,     0.00,2,     2.48,2,   -999.0,9,   -999.0,9,-999.0000,9,  -999.00,  -999.00,9,  -999.00,9,   1.5128,2,      449
  49UF20180709,KS1806,  5464,  1,      3,  24271,2,20180814,0437,  3.0035, 137.0230, 4530,   4308.9,   1.5142,   1.5142,2,  34.6868,2,  34.6876,6,    157.3,2,    157.0,2,   142.87,2,    35.48,2,     0.00,2,     2.46,2,   -999.0,9,   -999.0,9,-999.0000,9,  -999.00,  -999.00,9,  -999.00,9,   1.5142,2,      444
  49UF20180709,KS1806,  5464,  1,      1,  24272,2,20180814,0437,  3.0035, 137.0230, 4530,   4591.2,   1.5336,   1.5336,2,  34.6874,2,  34.6880,2,    159.1,2,    158.7,2,   142.28,2,    35.56,2,     0.00,2,     2.45,2,   -999.0,9,   -999.0,9,-999.0000,9,  -999.00,  -999.00,9,  -999.00,9,   1.5336,2,      438
  49UF20180709,KS1806,  5464,  1,      2,  25236,2,20180814,0437,  3.0035, 137.0230, 4530,   4591.4,   1.5335,   1.5334,2,  34.6874,2,  34.6887,4,    159.2,2,    158.7,2,   142.46,2,    35.25,2,     0.00,2,     2.46,2,   -999.0,9,   -999.0,9,-999.0000,9,  -999.00,  -999.00,9,  -999.00,9,   1.5334,2,      438