BOTTLE,20200311PRINUNIVRMK
EXPOCODE,SECT_ID,STNNBR,CASTNO,SAMPNO,BTLNBR,BTLNBR_FLAG_W,DATE,TIME,LATITUDE,LONGITUDE,DEPTH,CTDPRS,CTDTMP,SBE35,SBE35_FLAG_W,CTDSAL,CTDSAL_FLAG_W,SALNTY,SALNTY_FLAG_W,CTDOXY,CTDOXY_FLAG_W,OXYGEN,OXYGEN_FLAG_W,SILCAT,SILCAT_FLAG_W,NITRAT,NITRAT_FLAG_W,NITRIT,NITRIT_FLAG_W,PHSPHT,PHSPHT_FLAG_W,TCARBN,TCARBN_FLAG_W,ALKALI,ALKALI_FLAG_W,PH_TOT,PH_TOT_FLAG_W,PH_TMP,CHLORA,CHLORA_FLAG_W,PPHYTN,PPHYTN_FLAG_W,SBE35,SBE35_FLAG_W,BTL_TIME
,,,,,,,,,,,METERS,DBAR,ITS-90,,,PSS-78,,PSS-78,,UMOL/KG,,UMOL/KG,,UMOL/KG,,UMOL/KG,,UMOL/KG,,UMOL/KG,,UMOL/KG,,UMOL/KG,,,,DEG C,UG/KG,,UG/KG,,,,
  49UF20180709,KS1806,  5455,  1,     99,     99,2,20180801,0959, 16.9647, 137.0173, 4972,      0.0,  29.1737,-999.0000,9,  34.0471,2,-999.0000,9,    195.1,2,    195.4,2,     1.13,2,     0.00,2,     0.00,2,     0.02,2,   -999.0,9,   -999.0,9,-999.0000,9,  -999.00,  -999.00,9,  -999.00,9,-999.0000,9,     1150
  49UF20180709,KS1806,  5455,  1,     36,  25270,2,20180801,0959, 16.9647, 137.0173, 4972,      9.3,  29.2287,  29.2292,2,  34.1936,2,  34.1874,2,    195.1,2,    196.4,2,     1.11,2,     0.00,2,     0.00,2,     0.01,2,   -999.0,9,   -999.0,9,-999.0000,9,  -999.00,  -999.00,9,  -999.00,9,  29.2292,2,     1226
  49UF20180709,KS1806,  5455,  1,     35,  25269,2,20180801,0959, 16.9647, 137.0173, 4972,     24.7,  28.9839,  28.9831,2,  34.2376,2,-999.0000,9,    196.2,2,    196.7,2,     1.12,2,     0.00,2,     0.00,2,     0.01,2,   -999.0,9,   -999.0,9,-999.0000,9,  -999.00,  -999.00,9,  -999.00,9,  28.9831,2,     1225
  49UF20180709,KS1806,  5455,  1,     34,  25268,2,20180801,0959, 16.9647, 137.0173, 4972,     50.9,  28.8428,  28.8438,2,  34.5075,2,-999.0000,9,    199.1,2,    199.4,6,     1.12,6,     0.00,6,     0.00,6,     0.01,6,   -999.0,9,   -999.0,9,-999.0000,9,  -999.00,  -999.00,9,  -999.00,9,  28.8438,2,     1222
  49UF20180709,KS1806,  5455,  1,     33,  25267,2,20180801,0959, 16.9647, 137.0173, 4972,     74.8,  28.1936,  28.1847,2,  34.7221,2,-999.0000,9,    202.5,2,    202.0,2,     1.13,2,     0.00,2,     0.00,2,     0.03,2,   -999.0,9,   -999.0,9,-999.0000,9,  -999.00,  -999.00,9,  -999.00,9,  28.1847,2,     1221
  49UF20180709,KS1806,  5455,  1,     32,  25266,2,20180801,0959, 16.9647, 137.0173, 4972,    101.1,  27.2822,  27.2891,2,  34.8644,2,-999.0000,9,    200.7,2,    200.6,2,     1.14,2,     0.00,2,     0.00,2,     0.03,2,   -999.0,9,   -999.0,9,-999.0000,9,  -999.00,  -999.00,9,  -999.00,9,  27.2891,2,     1217
  49UF20180709,KS1806,  5455,  1,     31,  25265,2,20180801,0959, 16.9647, 137.0173, 4972,    125.0,  26.0411,  26.0420,2,  34.9545,2,  34.9547,2,    193.1,2,    193.6,2,     1.27,2,     0.08,2,     0.12,2,     0.07,2,   -999.0,9,   -999.0,9,-999.0000,9,  -999.00,  -999.00,9,  -999.00,9,  26.0420,2,     1215
  49UF20180709,KS1806,  5455,  1,     30,  25264,2,20180801,0959, 16.9647, 137.0173, 4972,    150.0,  23.4153,  23.4191,2,  35.1106,2,-999.0000,9,    185.1,2,    185.9,2,     1.70,2,     0.83,2,     0.03,2,     0.13,2,   -999.0,9,   -999.0,9,-999.0000,9,  -999.00,  -999.00,9,  -999.00,9,  23.4191,2,     1213
  49UF20180709,KS1806,  5455,  1,     29,  25263,2,20180801,0959, 16.9647, 137.0173, 4972,    200.9,  20.0013,  20.0021,2,  34.9542,2,-999.0000,9,    180.7,2,    181.3,2,     3.32,2,     3.31,2,     0.01,2,     0.32,2,   -999.0,9,   -999.0,9,-999.0000,9,  -999.00,  -999.00,9,  -999.00,9,  20.0021,2,     1211
  49UF20180709,KS1806,  5455,  1,     28,  25262,2,20180801,0959, 16.9647, 137.0173, 4972,    250.8,  17.3769,  17.3721,2,  34.7892,2,-999.0000,9,    200.3,2,    200.2,6,     4.27,6,     4.89,6,     0.01,6,     0.34,6,   -999.0,9,   -999.0,9,-999.0000,9,  -999.00,  -999.00,9,  -999.00,9,  17.3721,2,     1208
  49UF20180709,KS1806,  5455,  1,     27,  25261,2,20180801,0959, 16.9647, 137.0173, 4972,    301.1,  16.0021,  16.0038,2,  34.6534,2,-999.0000,9,    196.6,2,    196.2,2,     6.47,2,     7.14,2,     0.00,2,     0.49,2,   -999.0,9,   -999.0,9,-999.0000,9,  -999.00,  -999.00,9,  -999.00,9,  16.0038,2,     1206
  49UF20180709,KS1806,  5455,  1,     26,  25260,2,20180801,0959, 16.9647, 137.0173, 4972,    352.7,  13.7974,  13.7961,2,  34.4613,2,-999.0000,9,    166.9,2,    166.9,2,    13.26,2,    13.03,2,     0.00,2,     0.96,2,   -999.0,9,   -999.0,9,-999.0000,9,  -999.00,  -999.00,9,  -999.00,9,  13.7961,2,     1203
  49UF20180709,KS1806,  5455,  1,     25,  25259,2,20180801,0959, 16.9647, 137.0173, 4972,    402.2,  11.6902,  11.7176,2,  34.3180,2,  34.3189,2,    160.5,2,    159.9,2,    20.31,2,    17.32,2,     0.00,2,     1.25,2,   -999.0,9,   -999.0,9,-999.0000,9,  -999.00,  -999.00,9,  -999.00,9,  11.7176,2,     1201
  49UF20180709,KS1806,  5455,  1,     24,  25258,2,20180801,0959, 16.9647, 137.0173, 4972,    453.3,   9.8012,   9.8021,2,  34.2446,2,-999.0000,9,    132.4,2,    133.1,2,    31.83,2,    23.29,2,     0.00,2,     1.69,2,   -999.0,9,   -999.0,9,-999.0000,9,  -999.00,  -999.00,9,  -999.00,9,   9.8021,2,     1158
  49UF20180709,KS1806,  5455,  1,     23,  25257,2,20180801,0959, 16.9647, 137.0173, 4972,    504.0,   8.0949,   8.0940,2,  34.2073,2,-999.0000,9,    104.1,2,    103.7,2,    46.22,2,    29.23,2,     0.00,2,     2.12,2,   -999.0,9,   -999.0,9,-999.0000,9,  -999.00,  -999.00,9,  -999.00,9,   8.0940,2,     1156
  49UF20180709,KS1806,  5455,  1,     22,  24473,2,20180801,0959, 16.9647, 137.0173, 4972,    605.5,   6.4853,   6.4817,2,  34.2679,2,-999.0000,9,     73.5,2,     73.1,2,    66.02,2,    34.94,2,     0.00,2,     2.53,2,   -999.0,9,   -999.0,9,-999.0000,9,  -999.00,  -999.00,9,  -999.00,9,   6.4817,2,     1152
  49UF20180709,KS1806,  5455,  1,     21,  25255,2,20180801,0959, 16.9647, 137.0173, 4972,    704.7,   5.7581,   5.7581,2,  34.3671,2,-999.0000,9,     72.8,2,     72.5,2,    78.54,2,    36.63,2,     0.00,2,     2.64,2,   -999.0,9,   -999.0,9,-999.0000,9,  -999.00,  -999.00,9,  -999.00,9,   5.7581,2,     1149
  49UF20180709,KS1806,  5455,  1,     20,  24270,3,20180801,0959, 16.9647, 137.0173, 4972,    807.6,   4.8165,   4.8161,2,  34.4311,2,-999.0000,9,     74.7,2,     74.7,2,    95.59,2,    37.73,2,     0.00,2,     2.72,2,   -999.0,9,   -999.0,9,-999.0000,9,  -999.00,  -999.00,9,  -999.00,9,   4.8161,2,     1146
  49UF20180709,KS1806,  5455,  1,     19,  25253,2,20180801,0959, 16.9647, 137.0173, 4972,    911.9,   4.3183,   4.3177,2,  34.4757,2,  34.4743,2,     79.2,2,     79.0,2,   104.69,2,    38.28,2,     0.00,2,     2.74,2,   -999.0,9,   -999.0,9,-999.0000,9,  -999.00,  -999.00,9,  -999.00,9,   4.3177,2,     1143
  49UF20180709,KS1806,  5455,  1,     18,  25252,2,20180801,0959, 16.9647, 137.0173, 4972,   1008.3,   3.9658,   3.9644,2,  34.5159,2,  34.5160,2,     86.3,2,     86.2,2,   110.32,2,    38.06,2,     0.00,2,     2.73,2,   -999.0,9,   -999.0,9,-999.0000,9,  -999.00,  -999.00,9,  -999.00,9,   3.9644,2,     1139
  49UF20180709,KS1806,  5455,  1,     17,  25251,2,20180801,0959, 16.9647, 137.0173, 4972,   1209.2,   3.3671,   3.3672,2,  34.5509,2,  34.5515,6,     91.7,2,     91.6,2,   121.42,2,    38.51,2,     0.00,2,     2.75,2,   -999.0,9,   -999.0,9,-999.0000,9,  -999.00,  -999.00,9,  -999.00,9,   3.3672,2,     1134
  49UF20180709,KS1806,  5455,  1,     16,  25250,2,20180801,0959, 16.9647, 137.0173, 4972,   1417.2,   2.8814,   2.8813,2,  34.5728,2,-999.0000,9,     97.6,2,     97.7,2,   131.33,2,    38.31,2,     0.00,2,     2.74,2,   -999.0,9,   -999.0,9,-999.0000,9,  -999.00,  -999.00,9,  -999.00,9,   2.8813,2,     1128
  49UF20180709,KS1806,  5455,  1,     15,  25249,2,20180801,0959, 16.9647, 137.0173, 4972,   1618.5,   2.5675,   2.5675,2,  34.5929,2,-999.0000,9,    103.2,2,    103.0,2,   136.29,2,    38.26,2,     0.00,2,     2.72,2,   -999.0,9,   -999.0,9,-999.0000,9,  -999.00,  -999.00,9,  -999.00,9,   2.5675,2,     1122
  49UF20180709,KS1806,  5455,  1,     14,  25248,2,20180801,0959, 16.9647, 137.0173, 4972,   1820.7,   2.2463,   2.2460,2,  34.6116,2,  34.6120,2,    107.8,2,    107.6,2,   141.28,2,    38.63,2,     0.00,2,     2.72,2,   -999.0,9,   -999.0,9,-999.0000,9,  -999.00,  -999.00,9,  -999.00,9,   2.2460,2,     1116
  49UF20180709,KS1806,  5455,  1,     13,  25247,2,20180801,0959, 16.9647, 137.0173, 4972,   2023.9,   2.0586,   2.0583,2,  34.6262,2,  34.6267,2,    114.0,2,    113.7,2,   143.98,2,    38.13,2,     0.00,2,     2.69,2,   -999.0,9,   -999.0,9,-999.0000,9,  -999.00,  -999.00,9,  -999.00,9,   2.0583,2,     1111
  49UF20180709,KS1806,  5455,  1,     12,  25246,2,20180801,0959, 16.9647, 137.0173, 4972,   2284.2,   1.8869,   1.8866,2,  34.6400,2,  34.6403,2,    121.8,2,    121.6,6,   145.67,6,    37.82,6,     0.00,6,     2.65,6,   -999.0,9,   -999.0,9,-999.0000,9,  -999.00,  -999.00,9,  -999.00,9,   1.8866,2,     1104
  49UF20180709,KS1806,  5455,  1,     11,  25245,2,20180801,0959, 16.9647, 137.0173, 4972,   2533.2,   1.7864,   1.7865,2,  34.6500,2,  34.6503,2,    127.3,2,    127.0,2,   146.57,2,    37.35,2,     0.00,2,     2.63,2,   -999.0,9,   -999.0,9,-999.0000,9,  -999.00,  -999.00,9,  -999.00,9,   1.7865,2,     1057
  49UF20180709,KS1806,  5455,  1,     10,  25244,2,20180801,0959, 16.9647, 137.0173, 4972,   2785.8,   1.6971,   1.6971,2,  34.6590,2,  34.6607,4,    133.4,2,    133.4,2,   146.83,2,    37.21,2,     0.00,2,     2.60,2,   -999.0,9,   -999.0,9,-999.0000,9,  -999.00,  -999.00,9,  -999.00,9,   1.6971,2,     1050
  49UF20180709,KS1806,  5455,  1,      9,  25243,2,20180801,0959, 16.9647, 137.0173, 4972,   3043.8,   1.6299,   1.6298,2,  34.6663,2,  34.6662,2,    139.3,2,    139.1,2,   146.35,2,    36.92,2,     0.00,2,     2.57,2,   -999.0,9,   -999.0,9,-999.0000,9,  -999.00,  -999.00,9,  -999.00,9,   1.6298,2,     1043
  49UF20180709,KS1806,  5455,  1,      8,  25242,2,20180801,0959, 16.9647, 137.0173, 4972,   3298.1,   1.5967,   1.5969,2,  34.6712,2,  34.6709,2,    143.4,2,    143.3,2,   145.80,2,    36.32,2,     0.00,2,     2.55,2,   -999.0,9,   -999.0,9,-999.0000,9,  -999.00,  -999.00,9,  -999.00,9,   1.5969,2,     1036
  49UF20180709,KS1806,  5455,  1,      7,  25241,2,20180801,0959, 16.9647, 137.0173, 4972,   3552.4,   1.5550,   1.5550,2,  34.6764,2,  34.6765,6,    148.3,2,    148.2,2,   144.76,2,    36.24,2,     0.00,2,     2.52,2,   -999.0,9,   -999.0,9,-999.0000,9,  -999.00,  -999.00,9,  -999.00,9,   1.5550,2,     1029
  49UF20180709,KS1806,  5455,  1,      6,  25240,2,20180801,0959, 16.9647, 137.0173, 4972,   3809.3,   1.5267,   1.5268,2,  34.6805,2,  34.6808,2,    152.7,2,    152.7,6,   143.72,6,    35.99,6,     0.00,6,     2.50,6,   -999.0,9,   -999.0,9,-999.0000,9,  -999.00,  -999.00,9,  -999.00,9,   1.5268,2,     1022
  49UF20180709,KS1806,  5455,  1,      5,  25239,2,20180801,0959, 16.9647, 137.0173, 4972,   4058.7,   1.5084,   1.5084,2,  34.6839,2,  34.6836,2,    156.6,2,    156.4,2,   142.59,2,    35.62,2,     0.00,2,     2.48,2,   -999.0,9,   -999.0,9,-999.0000,9,  -999.00,  -999.00,9,  -999.00,9,   1.5084,2,     1017
  49UF20180709,KS1806,  5455,  1,      4,  25238,2,20180801,0959, 16.9647, 137.0173, 4972,   4318.1,   1.5120,   1.5119,2,  34.6858,2,  34.6900,4,    159.1,2,    159.2,2,   141.62,2,    35.45,2,     0.00,2,     2.46,2,   -999.0,9,   -999.0,9,-999.0000,9,  -999.00,  -999.00,9,  -999.00,9,   1.5119,2,     1011
  49UF20180709,KS1806,  5455,  1,      3,  24271,2,20180801,0959, 16.9647, 137.0173, 4972,   4572.5,   1.5356,   1.5355,2,  34.6862,2,  34.6855,2,    159.7,2,    159.0,2,   141.34,2,    35.25,2,     0.00,2,     2.46,2,   -999.0,9,   -999.0,9,-999.0000,9,  -999.00,  -999.00,9,  -999.00,9,   1.5355,2,     1007
  49UF20180709,KS1806,  5455,  1,      2,  25236,2,20180801,0959, 16.9647, 137.0173, 4972,   4829.5,   1.5634,   1.5635,2,  34.6864,2,  34.6863,2,    160.0,2,    159.9,2,   141.18,2,    35.21,2,     0.00,2,     2.46,2,   -999.0,9,   -999.0,9,-999.0000,9,  -999.00,  -999.00,9,  -999.00,9,   1.5635,2,     1002
  49UF20180709,KS1806,  5455,  1,      1,  24272,2,20180801,0959, 16.9647, 137.0173, 4972,   4909.5,   1.5719,   1.5719,2,  34.6864,2,  34.6873,2,    160.3,2,    160.1,2,   141.49,2,    35.57,2,     0.00,2,     2.46,2,   -999.0,9,   -999.0,9,-999.0000,9,  -999.00,  -999.00,9,  -999.00,9,   1.5719,2,      959