BOTTLE,20200311PRINUNIVRMK
EXPOCODE,SECT_ID,STNNBR,CASTNO,SAMPNO,BTLNBR,BTLNBR_FLAG_W,DATE,TIME,LATITUDE,LONGITUDE,DEPTH,CTDPRS,CTDTMP,SBE35,SBE35_FLAG_W,CTDSAL,CTDSAL_FLAG_W,SALNTY,SALNTY_FLAG_W,CTDOXY,CTDOXY_FLAG_W,OXYGEN,OXYGEN_FLAG_W,SILCAT,SILCAT_FLAG_W,NITRAT,NITRAT_FLAG_W,NITRIT,NITRIT_FLAG_W,PHSPHT,PHSPHT_FLAG_W,TCARBN,TCARBN_FLAG_W,ALKALI,ALKALI_FLAG_W,PH_TOT,PH_TOT_FLAG_W,PH_TMP,CHLORA,CHLORA_FLAG_W,PPHYTN,PPHYTN_FLAG_W,SBE35,SBE35_FLAG_W,BTL_TIME
,,,,,,,,,,,METERS,DBAR,ITS-90,,,PSS-78,,PSS-78,,UMOL/KG,,UMOL/KG,,UMOL/KG,,UMOL/KG,,UMOL/KG,,UMOL/KG,,UMOL/KG,,UMOL/KG,,,,DEG C,UG/KG,,UG/KG,,,,
  49UF20180709,KS1806,  5476,  1,     99,     99,2,20180822,0309, 13.0052, 139.9940, 4866,      0.0,  28.9528,-999.0000,9,  34.0235,2,-999.0000,9,    195.8,2,    196.5,2,     1.27,2,     0.00,2,     0.00,2,     0.04,2,   -999.0,9,   -999.0,9,-999.0000,9,  -999.00,  -999.00,9,  -999.00,9,-999.0000,9,      455
  49UF20180709,KS1806,  5476,  1,     36,  25270,2,20180822,0309, 13.0052, 139.9940, 4866,     10.6,  28.9173,  28.9182,2,  34.0215,2,  34.0233,2,    196.0,2,    196.8,2,     1.24,2,     0.00,2,     0.00,2,     0.03,2,   -999.0,9,   -999.0,9,-999.0000,9,  -999.00,  -999.00,9,  -999.00,9,  28.9182,2,      529
  49UF20180709,KS1806,  5476,  1,     35,  25269,2,20180822,0309, 13.0052, 139.9940, 4866,     24.9,  28.8655,  28.8656,2,  34.0209,2,-999.0000,9,    196.1,2,    197.0,6,     1.25,6,     0.00,6,     0.00,6,     0.03,6,   -999.0,9,   -999.0,9,-999.0000,9,  -999.00,  -999.00,9,  -999.00,9,  28.8656,2,      528
  49UF20180709,KS1806,  5476,  1,     34,  25268,2,20180822,0309, 13.0052, 139.9940, 4866,     51.6,  28.7257,  28.7302,2,  34.6486,2,  34.6372,2,    203.2,2,    203.6,2,     1.23,2,     0.00,2,     0.00,2,     0.02,2,   -999.0,9,   -999.0,9,-999.0000,9,  -999.00,  -999.00,9,  -999.00,9,  28.7302,2,      526
  49UF20180709,KS1806,  5476,  1,     33,  25267,2,20180822,0309, 13.0052, 139.9940, 4866,     75.2,  27.6827,  27.6840,2,  34.8109,2,-999.0000,9,    204.1,2,    204.4,2,     1.24,2,     0.00,2,     0.00,2,     0.05,2,   -999.0,9,   -999.0,9,-999.0000,9,  -999.00,  -999.00,9,  -999.00,9,  27.6840,2,      524
  49UF20180709,KS1806,  5476,  1,     32,  25266,2,20180822,0309, 13.0052, 139.9940, 4866,    100.0,  27.2830,  27.2794,2,  34.8839,2,  34.8841,2,    203.2,2,    203.4,2,     1.25,2,     0.15,2,     0.00,2,     0.05,2,   -999.0,9,   -999.0,9,-999.0000,9,  -999.00,  -999.00,9,  -999.00,9,  27.2794,2,      522
  49UF20180709,KS1806,  5476,  1,     31,  25265,2,20180822,0309, 13.0052, 139.9940, 4866,    126.2,  25.9846,  25.9840,2,  34.9726,2,-999.0000,9,    192.5,2,    193.1,2,     1.39,2,     0.03,2,     0.08,2,     0.07,2,   -999.0,9,   -999.0,9,-999.0000,9,  -999.00,  -999.00,9,  -999.00,9,  25.9840,2,      520
  49UF20180709,KS1806,  5476,  1,     30,  25264,2,20180822,0309, 13.0052, 139.9940, 4866,    150.1,  22.5604,  22.5655,2,  35.0300,2,  35.0300,2,    178.3,2,    178.8,2,     2.43,2,     1.74,2,     0.03,2,     0.25,2,   -999.0,9,   -999.0,9,-999.0000,9,  -999.00,  -999.00,9,  -999.00,9,  22.5655,2,      516
  49UF20180709,KS1806,  5476,  1,     29,  25263,2,20180822,0309, 13.0052, 139.9940, 4866,    199.8,  16.9926,  16.9862,2,  34.7344,2,-999.0000,9,    187.6,2,    187.8,2,     5.93,2,     6.40,2,     0.00,2,     0.48,2,   -999.0,9,   -999.0,9,-999.0000,9,  -999.00,  -999.00,9,  -999.00,9,  16.9862,2,      514
  49UF20180709,KS1806,  5476,  1,     28,  25262,2,20180822,0309, 13.0052, 139.9940, 4866,    249.5,  14.3083,  14.3173,2,  34.4989,2,  34.4988,2,    159.0,2,    159.0,2,    12.60,2,    12.92,2,     0.00,2,     0.98,2,   -999.0,9,   -999.0,9,-999.0000,9,  -999.00,  -999.00,9,  -999.00,9,  14.3173,2,      512
  49UF20180709,KS1806,  5476,  1,     27,  25261,2,20180822,0309, 13.0052, 139.9940, 4866,    301.5,  11.4769,  11.4713,2,  34.3615,2,  34.3620,2,    130.3,2,    129.6,2,    23.60,2,    20.66,2,     0.00,2,     1.52,2,   -999.0,9,   -999.0,9,-999.0000,9,  -999.00,  -999.00,9,  -999.00,9,  11.4713,2,      509
  49UF20180709,KS1806,  5476,  1,     26,  25260,2,20180822,0309, 13.0052, 139.9940, 4866,    352.0,   9.8372,   9.8678,2,  34.3696,2,  34.3745,2,     97.0,2,     96.2,6,    33.78,6,    26.72,6,     0.00,6,     1.96,6,   -999.0,9,   -999.0,9,-999.0000,9,  -999.00,  -999.00,9,  -999.00,9,   9.8678,2,      507
  49UF20180709,KS1806,  5476,  1,     25,  25259,2,20180822,0309, 13.0052, 139.9940, 4866,    401.1,   8.4423,   8.4388,2,  34.3588,2,  34.3596,2,     80.0,2,     79.4,2,    45.37,2,    31.07,2,     0.00,2,     2.26,2,   -999.0,9,   -999.0,9,-999.0000,9,  -999.00,  -999.00,9,  -999.00,9,   8.4388,2,      505
  49UF20180709,KS1806,  5476,  1,     24,  25258,2,20180822,0309, 13.0052, 139.9940, 4866,    452.2,   7.4521,   7.4521,2,  34.3965,2,  34.3968,2,     72.8,2,     72.2,2,    54.46,2,    33.72,2,     0.00,2,     2.45,2,   -999.0,9,   -999.0,9,-999.0000,9,  -999.00,  -999.00,9,  -999.00,9,   7.4521,2,      503
  49UF20180709,KS1806,  5476,  1,     23,  25257,2,20180822,0309, 13.0052, 139.9940, 4866,    502.0,   6.8740,   6.8716,2,  34.4293,2,  34.4292,6,     75.8,2,     74.9,2,    60.07,2,    34.78,2,     0.00,2,     2.51,2,   -999.0,9,   -999.0,9,-999.0000,9,  -999.00,  -999.00,9,  -999.00,9,   6.8716,2,      501
  49UF20180709,KS1806,  5476,  1,     22,  24473,2,20180822,0309, 13.0052, 139.9940, 4866,    603.1,   6.1937,   6.1939,2,  34.4710,2,  34.4712,2,     82.3,2,     81.9,2,    66.52,2,    35.73,2,     0.00,2,     2.56,2,   -999.0,9,   -999.0,9,-999.0000,9,  -999.00,  -999.00,9,  -999.00,9,   6.1939,2,      458
  49UF20180709,KS1806,  5476,  1,     21,  25255,2,20180822,0309, 13.0052, 139.9940, 4866,    705.1,   5.8165,   5.8177,2,  34.4871,2,  34.4873,2,     80.7,2,     80.2,2,    72.20,2,    36.38,2,     0.00,2,     2.63,2,   -999.0,9,   -999.0,9,-999.0000,9,  -999.00,  -999.00,9,  -999.00,9,   5.8177,2,      455
  49UF20180709,KS1806,  5476,  1,     20,  24270,2,20180822,0309, 13.0052, 139.9940, 4866,    805.6,   5.3086,   5.3089,2,  34.5081,2,  34.5084,2,     81.5,2,     80.9,2,    80.11,2,    37.15,2,     0.00,2,     2.68,2,   -999.0,9,   -999.0,9,-999.0000,9,  -999.00,  -999.00,9,  -999.00,9,   5.3089,2,      451
  49UF20180709,KS1806,  5476,  1,     19,  25253,2,20180822,0309, 13.0052, 139.9940, 4866,    906.9,   4.8996,   4.8998,2,  34.5224,2,  34.5230,2,     81.9,2,     81.6,2,    87.81,2,    38.07,2,     0.00,2,     2.72,2,   -999.0,9,   -999.0,9,-999.0000,9,  -999.00,  -999.00,9,  -999.00,9,   4.8998,2,      448
  49UF20180709,KS1806,  5476,  1,     18,  25252,2,20180822,0309, 13.0052, 139.9940, 4866,   1007.7,   4.4738,   4.4732,2,  34.5393,2,  34.5396,2,     82.3,2,     81.6,2,    95.98,2,    38.61,2,     0.00,2,     2.76,2,   -999.0,9,   -999.0,9,-999.0000,9,  -999.00,  -999.00,9,  -999.00,9,   4.4732,2,      445
  49UF20180709,KS1806,  5476,  1,     17,  25251,2,20180822,0309, 13.0052, 139.9940, 4866,   1212.3,   3.7224,   3.7229,2,  34.5600,2,  34.5598,2,     87.2,2,     86.6,2,   111.47,2,    38.64,2,     0.00,2,     2.78,2,   -999.0,9,   -999.0,9,-999.0000,9,  -999.00,  -999.00,9,  -999.00,9,   3.7229,2,      440
  49UF20180709,KS1806,  5476,  1,     16,  25250,2,20180822,0309, 13.0052, 139.9940, 4866,   1411.6,   3.2341,   3.2340,2,  34.5743,2,  34.5747,2,     92.9,2,     92.4,2,   122.09,2,    38.85,2,     0.00,2,     2.77,2,   -999.0,9,   -999.0,9,-999.0000,9,  -999.00,  -999.00,9,  -999.00,9,   3.2340,2,      435
  49UF20180709,KS1806,  5476,  1,     15,  25249,2,20180822,0309, 13.0052, 139.9940, 4866,   1616.2,   2.7483,   2.7475,2,  34.5947,2,  34.5952,2,    100.2,2,     99.7,2,   131.21,2,    38.40,2,     0.00,2,     2.75,2,   -999.0,9,   -999.0,9,-999.0000,9,  -999.00,  -999.00,9,  -999.00,9,   2.7475,2,      429
  49UF20180709,KS1806,  5476,  1,     14,  25248,2,20180822,0309, 13.0052, 139.9940, 4866,   1819.1,   2.4468,   2.4468,2,  34.6101,2,  34.6106,2,    105.8,2,    105.5,2,   137.03,2,    38.57,2,     0.00,2,     2.73,2,   -999.0,9,   -999.0,9,-999.0000,9,  -999.00,  -999.00,9,  -999.00,9,   2.4468,2,      424
  49UF20180709,KS1806,  5476,  1,     13,  25247,2,20180822,0309, 13.0052, 139.9940, 4866,   2022.5,   2.1624,   2.1628,2,  34.6269,2,  34.6266,2,    113.2,2,    112.5,2,   141.47,2,    37.86,2,     0.00,2,     2.70,2,   -999.0,9,   -999.0,9,-999.0000,9,  -999.00,  -999.00,9,  -999.00,9,   2.1628,2,      419
  49UF20180709,KS1806,  5476,  1,     12,  25246,2,20180822,0309, 13.0052, 139.9940, 4866,   2276.8,   1.9499,   1.9498,2,  34.6397,2,  34.6401,2,    120.1,2,    119.7,2,   144.92,2,    37.90,2,     0.00,2,     2.66,2,   -999.0,9,   -999.0,9,-999.0000,9,  -999.00,  -999.00,9,  -999.00,9,   1.9498,2,      413
  49UF20180709,KS1806,  5476,  1,     11,  25245,2,20180822,0309, 13.0052, 139.9940, 4866,   2530.6,   1.7880,   1.7882,2,  34.6531,2,  34.6535,2,    127.0,2,    126.4,2,   147.44,2,    37.58,2,     0.00,2,     2.64,2,   -999.0,9,   -999.0,9,-999.0000,9,  -999.00,  -999.00,9,  -999.00,9,   1.7882,2,      407
  49UF20180709,KS1806,  5476,  1,     10,  25244,2,20180822,0309, 13.0052, 139.9940, 4866,   2785.1,   1.6942,   1.6943,2,  34.6609,2,  34.6610,2,    132.7,2,    132.2,2,   147.79,2,    37.02,2,     0.00,2,     2.60,2,   -999.0,9,   -999.0,9,-999.0000,9,  -999.00,  -999.00,9,  -999.00,9,   1.6943,2,      401
  49UF20180709,KS1806,  5476,  1,      9,  25243,2,20180822,0309, 13.0052, 139.9940, 4866,   3040.5,   1.6527,   1.6526,2,  34.6657,2,  34.6655,2,    136.5,2,    136.1,2,   147.68,2,    37.10,2,     0.00,2,     2.58,2,   -999.0,9,   -999.0,9,-999.0000,9,  -999.00,  -999.00,9,  -999.00,9,   1.6526,2,      355
  49UF20180709,KS1806,  5476,  1,      8,  25242,2,20180822,0309, 13.0052, 139.9940, 4866,   3296.1,   1.5770,   1.5769,2,  34.6728,2,  34.6730,6,    144.0,2,    143.7,2,   146.45,2,    36.47,2,     0.00,2,     2.55,2,   -999.0,9,   -999.0,9,-999.0000,9,  -999.00,  -999.00,9,  -999.00,9,   1.5769,2,      350
  49UF20180709,KS1806,  5476,  1,      7,  25241,2,20180822,0309, 13.0052, 139.9940, 4866,   3550.4,   1.5372,   1.5372,2,  34.6774,2,  34.6775,2,    147.9,2,    147.4,2,   146.01,2,    36.30,2,     0.00,2,     2.52,2,   -999.0,9,   -999.0,9,-999.0000,9,  -999.00,  -999.00,9,  -999.00,9,   1.5372,2,      343
  49UF20180709,KS1806,  5476,  1,      6,  25240,2,20180822,0309, 13.0052, 139.9940, 4866,   3804.5,   1.5175,   1.5175,2,  34.6809,2,  34.6807,2,    152.9,2,    152.6,6,   143.91,6,    35.89,6,     0.00,6,     2.50,6,   -999.0,9,   -999.0,9,-999.0000,9,  -999.00,  -999.00,9,  -999.00,9,   1.5175,2,      337
  49UF20180709,KS1806,  5476,  1,      5,  25239,2,20180822,0309, 13.0052, 139.9940, 4866,   4061.5,   1.4968,   1.4969,2,  34.6842,2,  34.6833,6,    156.9,2,    155.8,3,   143.04,2,    35.70,2,     0.00,2,     2.48,2,   -999.0,9,   -999.0,9,-999.0000,9,  -999.00,  -999.00,9,  -999.00,9,   1.4969,2,      331
  49UF20180709,KS1806,  5476,  1,      4,  25238,2,20180822,0309, 13.0052, 139.9940, 4866,   4318.6,   1.4944,   1.4944,2,  34.6863,2,  34.6869,2,    159.8,2,    159.5,2,   141.73,2,    35.36,2,     0.00,2,     2.46,2,   -999.0,9,   -999.0,9,-999.0000,9,  -999.00,  -999.00,9,  -999.00,9,   1.4944,2,      325
  49UF20180709,KS1806,  5476,  1,      3,  24271,2,20180822,0309, 13.0052, 139.9940, 4866,   4573.3,   1.5128,   1.5127,2,  34.6873,2,  34.6873,2,    161.2,2,    160.6,2,   141.15,2,    35.41,2,     0.00,2,     2.45,2,   -999.0,9,   -999.0,9,-999.0000,9,  -999.00,  -999.00,9,  -999.00,9,   1.5127,2,      319
  49UF20180709,KS1806,  5476,  1,      2,  25236,2,20180822,0309, 13.0052, 139.9940, 4866,   4829.1,   1.5406,   1.5407,2,  34.6875,2,  34.6877,2,    161.8,2,    161.1,6,   140.95,6,    35.31,6,     0.00,6,     2.45,6,   -999.0,9,   -999.0,9,-999.0000,9,  -999.00,  -999.00,9,  -999.00,9,   1.5407,2,      313
  49UF20180709,KS1806,  5476,  1,      1,  24272,2,20180822,0309, 13.0052, 139.9940, 4866,   4945.5,   1.5540,   1.5542,2,  34.6874,2,  34.6880,2,    162.0,2,    161.4,2,   141.11,2,    35.43,2,     0.00,2,     2.45,2,   -999.0,9,   -999.0,9,-999.0000,9,  -999.00,  -999.00,9,  -999.00,9,   1.5542,2,      310