BOTTLE,20200311PRINUNIVRMK
EXPOCODE,SECT_ID,STNNBR,CASTNO,SAMPNO,BTLNBR,BTLNBR_FLAG_W,DATE,TIME,LATITUDE,LONGITUDE,DEPTH,CTDPRS,CTDTMP,SBE35,SBE35_FLAG_W,CTDSAL,CTDSAL_FLAG_W,SALNTY,SALNTY_FLAG_W,CTDOXY,CTDOXY_FLAG_W,OXYGEN,OXYGEN_FLAG_W,SILCAT,SILCAT_FLAG_W,NITRAT,NITRAT_FLAG_W,NITRIT,NITRIT_FLAG_W,PHSPHT,PHSPHT_FLAG_W,TCARBN,TCARBN_FLAG_W,ALKALI,ALKALI_FLAG_W,PH_TOT,PH_TOT_FLAG_W,PH_TMP,CHLORA,CHLORA_FLAG_W,PPHYTN,PPHYTN_FLAG_W,SBE35,SBE35_FLAG_W,BTL_TIME
,,,,,,,,,,,METERS,DBAR,ITS-90,,,PSS-78,,PSS-78,,UMOL/KG,,UMOL/KG,,UMOL/KG,,UMOL/KG,,UMOL/KG,,UMOL/KG,,UMOL/KG,,UMOL/KG,,,,DEG C,UG/KG,,UG/KG,,,,
  49UF20180709,KS1806,  5457,  1,     99,     99,2,20180802,0710, 15.0257, 137.0095, 5416,      0.0,  29.0600,-999.0000,9,  34.0451,2,  33.9739,2,    195.5,2,    195.5,2,     0.97,2,     0.00,2,     0.00,2,     0.04,2,   1905.3,2,   2232.1,2,   8.1252,2,    25.00,     0.07,3,     0.03,3,-999.0000,9,      853
  49UF20180709,KS1806,  5457,  1,     36,  25270,2,20180802,0710, 15.0257, 137.0095, 5416,     10.8,  29.0793,  29.0799,2,  34.1032,2,  34.0997,2,    195.4,2,    195.4,6,     0.95,6,     0.00,6,     0.00,6,     0.02,6,   1910.0,2,   2241.2,2,   8.1249,2,    25.00,     0.07,3,     0.03,3,  29.0799,2,      927
  49UF20180709,KS1806,  5457,  1,     35,  25269,2,20180802,0710, 15.0257, 137.0095, 5416,     25.1,  29.0345,  29.0336,2,  34.1476,2,-999.0000,9,    195.8,2,    196.9,2,     0.94,2,     0.00,2,     0.00,2,     0.02,2,   1911.1,2,   2245.3,2,   8.1219,2,    25.00,     0.07,3,     0.03,3,  29.0336,2,      926
  49UF20180709,KS1806,  5457,  1,     34,  25268,3,20180802,0710, 15.0257, 137.0095, 5416,     51.5,  28.3914,  28.3977,2,  34.6530,2,  34.6469,4,    205.7,2,    204.7,2,     1.10,2,     0.00,2,     0.00,2,     0.04,2,   1947.3,2,   2275.7,2,   8.1149,2,    25.00,     0.11,3,     0.07,3,  28.3977,2,      924
  49UF20180709,KS1806,  5457,  1,     33,  25267,2,20180802,0710, 15.0257, 137.0095, 5416,     76.6,  27.7180,  27.7172,2,  34.7829,2,-999.0000,9,    200.5,2,    200.0,2,     1.09,2,     0.00,2,     0.00,2,     0.04,2,   1958.9,2,   2285.0,2,   8.1055,2,    25.00,     0.19,3,     0.15,3,  27.7172,2,      923
  49UF20180709,KS1806,  5457,  1,     32,  25266,2,20180802,0710, 15.0257, 137.0095, 5416,    100.7,  26.6866,  26.6870,2,  34.8583,2,-999.0000,9,    197.0,2,    196.5,2,     1.16,2,    -0.02,2,     0.02,2,     0.06,2,   1974.4,2,   2291.1,2,   8.0897,2,    25.00,     0.17,3,     0.29,3,  26.6870,2,      919
  49UF20180709,KS1806,  5457,  1,     31,  25265,2,20180802,0710, 15.0257, 137.0095, 5416,    125.7,  25.4577,  25.4691,2,  34.9586,2,-999.0000,9,    194.4,2,    193.8,2,     1.25,2,     0.13,2,     0.15,2,     0.06,2,   1990.8,2,   2295.8,2,   8.0695,2,    25.00,     0.12,3,     0.33,3,  25.4691,2,      918
  49UF20180709,KS1806,  5457,  1,     30,  25264,2,20180802,0710, 15.0257, 137.0095, 5416,    150.7,  24.0769,  24.0678,2,  35.0688,2,-999.0000,9,    182.4,2,    182.7,6,     1.63,6,     0.92,6,     0.03,6,     0.16,6,   2027.3,2,   2304.6,2,   8.0208,2,    25.00,     0.04,3,     0.20,3,  24.0678,2,      917
  49UF20180709,KS1806,  5457,  1,     29,  25263,2,20180802,0710, 15.0257, 137.0095, 5416,    201.2,  19.7459,  19.7462,2,  34.9610,2,  34.9580,2,    180.4,2,    180.7,2,     3.55,2,     3.78,2,     0.01,2,     0.34,2,   2060.2,2,   2295.9,2,   7.9430,2,    25.00,     0.00,3,     0.02,3,  19.7462,2,      915
  49UF20180709,KS1806,  5457,  1,     28,  25262,2,20180802,0710, 15.0257, 137.0095, 5416,    251.6,  16.1712,  16.1716,2,  34.6553,2,-999.0000,9,    187.1,2,    187.4,2,     6.73,2,     7.54,2,     0.00,2,     0.55,2,   2070.7,2,   2277.7,2,   7.8873,2,    25.00,  -999.00,9,  -999.00,9,  16.1716,2,      914
  49UF20180709,KS1806,  5457,  1,     27,  25261,2,20180802,0710, 15.0257, 137.0095, 5416,    302.3,  13.5663,  13.5697,2,  34.4369,2,-999.0000,9,    166.2,2,    166.6,2,    13.65,2,    13.44,2,     0.00,2,     0.99,2,   2112.1,2,   2271.5,2,   7.7851,2,    25.00,  -999.00,9,  -999.00,9,  13.5697,2,      912
  49UF20180709,KS1806,  5457,  1,     26,  25260,2,20180802,0710, 15.0257, 137.0095, 5416,    352.0,  10.9184,  10.9256,2,  34.3010,2,-999.0000,9,    137.1,2,    136.0,2,    25.24,2,    20.90,2,     0.00,2,     1.53,2,   2159.5,2,   2273.3,2,   7.6685,2,    25.00,  -999.00,9,  -999.00,9,  10.9256,2,      910
  49UF20180709,KS1806,  5457,  1,     25,  25259,2,20180802,0710, 15.0257, 137.0095, 5416,    402.9,   9.3474,   9.3484,2,  34.2537,2,-999.0000,9,    115.3,2,    114.6,2,    35.98,2,    25.78,2,     0.00,2,     1.89,2,   2196.3,2,   2280.8,2,   7.5945,2,    25.00,  -999.00,9,  -999.00,9,   9.3484,2,      908
  49UF20180709,KS1806,  5457,  1,     24,  25258,2,20180802,0710, 15.0257, 137.0095, 5416,    453.0,   8.1831,   8.1879,2,  34.2639,2,-999.0000,9,     92.9,2,     92.4,2,    46.83,2,    30.23,2,     0.00,2,     2.20,2,   2230.4,2,   2291.2,2,   7.5304,2,    25.00,  -999.00,9,  -999.00,9,   8.1879,2,      907
  49UF20180709,KS1806,  5457,  1,     23,  25257,2,20180802,0710, 15.0257, 137.0095, 5416,    504.7,   7.2827,   7.2816,2,  34.3505,2,-999.0000,9,     71.8,2,     71.9,2,    56.78,2,    33.88,2,     0.00,2,     2.46,2,   2258.7,2,   2306.6,2,   7.4851,2,    25.00,  -999.00,9,  -999.00,9,   7.2816,2,      905
  49UF20180709,KS1806,  5457,  1,     22,  24473,2,20180802,0710, 15.0257, 137.0095, 5416,    605.7,   6.3760,   6.3805,2,  34.4189,2,  34.4189,2,     71.0,2,     71.0,2,    67.38,2,    36.10,2,     0.00,2,     2.60,2,   2276.4,2,   2324.1,2,   7.4819,2,    25.00,  -999.00,9,  -999.00,9,   6.3805,2,      902
  49UF20180709,KS1806,  5457,  1,     21,  25255,2,20180802,0710, 15.0257, 137.0095, 5416,    706.7,   5.7254,   5.7251,2,  34.4636,2,-999.0000,9,     76.0,2,     76.6,2,    75.88,2,    36.75,2,     0.00,2,     2.65,2,   2282.4,6,   2334.9,6,   7.4864,2,    25.00,  -999.00,9,  -999.00,9,   5.7251,2,      859
  49UF20180709,KS1806,  5457,  1,     20,  24270,2,20180802,0710, 15.0257, 137.0095, 5416,    807.6,   5.1205,   5.1211,2,  34.4915,2,-999.0000,9,     77.8,2,     77.8,2,    85.62,2,    37.67,2,     0.00,2,     2.71,2,   2293.6,2,   2347.2,2,   7.4872,6,    25.00,  -999.00,9,  -999.00,9,   5.1211,2,      856
  49UF20180709,KS1806,  5457,  1,     19,  25253,2,20180802,0710, 15.0257, 137.0095, 5416,    907.5,   4.6056,   4.6053,2,  34.5167,2,-999.0000,9,     80.2,2,     80.2,2,    94.84,2,    38.49,2,     0.00,2,     2.74,2,   2304.4,2,   2358.0,2,   7.4849,2,    25.00,  -999.00,9,  -999.00,9,   4.6053,2,      853
  49UF20180709,KS1806,  5457,  1,     18,  25252,2,20180802,0710, 15.0257, 137.0095, 5416,   1009.1,   4.1925,   4.1920,2,  34.5361,2,  34.5356,2,     83.5,2,     83.6,2,   102.61,2,    38.52,2,     0.00,2,     2.76,2,   2311.6,2,   2366.0,2,   7.4888,2,    25.00,  -999.00,9,  -999.00,9,   4.1920,2,      851
  49UF20180709,KS1806,  5457,  1,     17,  25251,2,20180802,0710, 15.0257, 137.0095, 5416,   1210.5,   3.4916,   3.4922,2,  34.5592,2,-999.0000,9,     90.8,2,     91.3,2,   116.99,2,    38.74,2,     0.00,2,     2.75,2,   2323.0,2,   2378.7,2,   7.4988,2,    25.00,  -999.00,9,  -999.00,9,   3.4922,2,      846
  49UF20180709,KS1806,  5457,  1,     16,  25250,2,20180802,0710, 15.0257, 137.0095, 5416,   1416.8,   2.9938,   2.9937,2,  34.5758,2,-999.0000,9,     96.9,2,     96.8,2,   127.65,2,    38.37,2,     0.00,2,     2.74,2,   2332.8,2,   2391.2,2,   7.5066,2,    25.00,  -999.00,9,  -999.00,9,   2.9937,2,      840
  49UF20180709,KS1806,  5457,  1,     15,  25249,2,20180802,0710, 15.0257, 137.0095, 5416,   1617.5,   2.5768,   2.5764,2,  34.5965,2,  34.5970,2,    102.6,2,    103.2,2,   135.17,2,    38.74,2,     0.00,2,     2.72,2,   2335.2,6,   2399.1,6,   7.5118,2,    25.00,  -999.00,9,  -999.00,9,   2.5764,2,      835
  49UF20180709,KS1806,  5457,  1,     14,  25248,2,20180802,0710, 15.0257, 137.0095, 5416,   1818.9,   2.2584,   2.2584,2,  34.6144,2,  34.6130,2,    108.4,2,    108.8,6,   140.69,6,    38.36,6,     0.00,6,     2.71,6,   2338.8,2,   2405.0,2,   7.5187,6,    25.00,  -999.00,9,  -999.00,9,   2.2584,2,      830
  49UF20180709,KS1806,  5457,  1,     13,  25247,2,20180802,0710, 15.0257, 137.0095, 5416,   2023.2,   2.0317,   2.0315,2,  34.6306,2,  34.6293,2,    115.5,2,    115.7,2,   143.46,2,    37.89,2,     0.00,2,     2.68,2,   2339.0,2,   2408.4,2,   7.5292,2,    25.00,  -999.00,9,  -999.00,9,   2.0315,2,      825
  49UF20180709,KS1806,  5457,  1,     12,  25246,3,20180802,0710, 15.0257, 137.0095, 5416,   2278.4,   1.8791,   1.8789,2,  34.6463,2,  34.6459,6,    123.1,2,    123.2,2,   145.42,2,    37.78,2,     0.00,2,     2.64,2,   2337.1,2,   2410.1,2,   7.5437,2,    25.00,  -999.00,9,  -999.00,9,   1.8789,2,      819
  49UF20180709,KS1806,  5457,  1,     11,  25245,2,20180802,0710, 15.0257, 137.0095, 5416,   2529.7,   1.7740,   1.7741,2,  34.6544,2,  34.6557,2,    128.3,2,    128.2,2,   146.90,2,    37.47,2,     0.00,2,     2.62,2,   2339.1,2,   2411.4,2,   7.5478,2,    25.00,  -999.00,9,  -999.00,9,   1.7741,2,      814
  49UF20180709,KS1806,  5457,  1,     10,  25244,2,20180802,0710, 15.0257, 137.0095, 5416,   2786.5,   1.7011,   1.7013,2,  34.6608,2,  34.6611,2,    132.9,2,    133.1,2,   147.15,2,    37.27,2,     0.00,2,     2.60,2,   2329.9,2,   2412.4,2,   7.5573,2,    25.00,  -999.00,9,  -999.00,9,   1.7013,2,      807
  49UF20180709,KS1806,  5457,  1,      9,  25243,2,20180802,0710, 15.0257, 137.0095, 5416,   3042.0,   1.6488,   1.6487,2,  34.6664,2,  34.6668,2,    137.7,2,    137.8,2,   146.72,2,    36.89,2,     0.00,2,     2.57,2,   2333.0,2,   2412.6,2,   7.5651,2,    25.00,  -999.00,9,  -999.00,9,   1.6487,2,      801
  49UF20180709,KS1806,  5457,  1,      8,  25242,2,20180802,0710, 15.0257, 137.0095, 5416,   3550.0,   1.5819,   1.5815,2,  34.6745,2,  34.6748,2,    146.2,2,    146.4,6,   145.08,6,    36.14,6,     0.00,6,     2.52,6,   2325.5,2,   2411.9,2,   7.5767,2,    25.00,  -999.00,9,  -999.00,9,   1.5815,2,      750
  49UF20180709,KS1806,  5457,  1,      7,  25241,2,20180802,0710, 15.0257, 137.0095, 5416,   3807.4,   1.5460,   1.5460,2,  34.6791,2,  34.6788,2,    151.0,2,    150.7,2,   144.17,2,    36.06,2,     0.00,2,     2.50,2,   2321.2,2,   2412.3,2,   7.5839,2,    25.00,  -999.00,9,  -999.00,9,   1.5460,2,      744
  49UF20180709,KS1806,  5457,  1,      6,  25240,2,20180802,0710, 15.0257, 137.0095, 5416,   4064.6,   1.5185,   1.5185,2,  34.6831,2,  34.6833,2,    155.9,2,    156.4,2,   142.52,2,    35.48,2,     0.00,2,     2.48,2,   2317.8,2,   2411.8,2,   7.5907,2,    25.00,  -999.00,9,  -999.00,9,   1.5185,2,      739
  49UF20180709,KS1806,  5457,  1,      5,  25239,2,20180802,0710, 15.0257, 137.0095, 5416,   4576.0,   1.5268,   1.5268,2,  34.6868,2,  34.6863,2,    160.6,2,    160.5,2,   140.93,2,    35.44,2,     0.00,2,     2.45,2,   2311.0,2,   2409.3,2,   7.5956,2,    25.00,  -999.00,9,  -999.00,9,   1.5268,2,      729
  49UF20180709,KS1806,  5457,  1,      4,  25238,2,20180802,0710, 15.0257, 137.0095, 5416,   4831.8,   1.5523,   1.5522,2,  34.6871,2,  34.6873,2,    161.2,2,    161.6,2,   140.84,2,    35.45,2,     0.00,2,     2.45,2,   2316.2,2,   2408.9,2,   7.5976,2,    25.00,  -999.00,9,  -999.00,9,   1.5522,2,      723
  49UF20180709,KS1806,  5457,  1,      3,  24271,2,20180802,0710, 15.0257, 137.0095, 5416,   5088.3,   1.5832,   1.5831,2,  34.6872,2,  34.6865,2,    161.3,2,    160.9,2,   140.70,2,    35.35,2,     0.00,2,     2.45,2,   2314.9,6,   2409.8,6,   7.5962,2,    25.00,  -999.00,9,  -999.00,9,   1.5831,2,      717
  49UF20180709,KS1806,  5457,  1,      2,  25236,2,20180802,0710, 15.0257, 137.0095, 5416,   5345.7,   1.6166,   1.6166,2,  34.6870,2,  34.6871,2,    161.3,2,    161.8,2,   140.71,2,    35.30,2,     0.00,2,     2.44,2,   2314.7,2,   2409.2,2,   7.5974,6,    25.00,  -999.00,9,  -999.00,9,   1.6166,2,      712
  49UF20180709,KS1806,  5457,  1,      1,  24272,2,20180802,0710, 15.0257, 137.0095, 5416,   5405.9,   1.6246,   1.6246,2,  34.6871,2,  34.6876,6,    161.4,2,    161.7,2,   140.48,2,    35.49,2,     0.00,2,     2.44,2,   2313.1,2,   2411.3,2,   7.5977,2,    25.00,  -999.00,9,  -999.00,9,   1.6246,2,      710