BOTTLE,20200311PRINUNIVRMK
EXPOCODE,SECT_ID,STNNBR,CASTNO,SAMPNO,BTLNBR,BTLNBR_FLAG_W,DATE,TIME,LATITUDE,LONGITUDE,DEPTH,CTDPRS,CTDTMP,SBE35,SBE35_FLAG_W,CTDSAL,CTDSAL_FLAG_W,SALNTY,SALNTY_FLAG_W,CTDOXY,CTDOXY_FLAG_W,OXYGEN,OXYGEN_FLAG_W,SILCAT,SILCAT_FLAG_W,NITRAT,NITRAT_FLAG_W,NITRIT,NITRIT_FLAG_W,PHSPHT,PHSPHT_FLAG_W,TCARBN,TCARBN_FLAG_W,ALKALI,ALKALI_FLAG_W,PH_TOT,PH_TOT_FLAG_W,PH_TMP,CHLORA,CHLORA_FLAG_W,PPHYTN,PPHYTN_FLAG_W,SBE35,SBE35_FLAG_W,BTL_TIME
,,,,,,,,,,,METERS,DBAR,ITS-90,,,PSS-78,,PSS-78,,UMOL/KG,,UMOL/KG,,UMOL/KG,,UMOL/KG,,UMOL/KG,,UMOL/KG,,UMOL/KG,,UMOL/KG,,,,DEG C,UG/KG,,UG/KG,,,,
  49UF20180709,KS1806,  5466,  1,     99,     99,2,20180815,1126,  5.0108, 137.0192, 5047,      0.0,  28.8791,-999.0000,9,  33.6994,2,  33.7249,2,    197.4,2,    197.5,2,     1.25,2,     0.00,2,     0.00,2,     0.04,2,   1899.7,2,   2215.5,2,   8.1162,2,    25.00,     0.10,2,     0.05,2,-999.0000,9,     1315
  49UF20180709,KS1806,  5466,  1,     36,  25270,3,20180815,1126,  5.0108, 137.0192, 5047,     10.5,  28.8930,  28.8948,2,  33.7021,2,  33.7027,2,    197.4,2,    197.8,2,     1.26,2,     0.00,2,     0.00,2,     0.02,2,   1892.5,2,   2215.2,2,   8.1176,2,    25.00,     0.10,2,     0.06,2,  28.8948,2,     1342
  49UF20180709,KS1806,  5466,  1,     35,  25269,2,20180815,1126,  5.0108, 137.0192, 5047,     25.7,  28.8945,  28.8961,2,  33.7046,2,-999.0000,9,    197.5,2,    197.0,2,     1.27,2,     0.00,2,     0.00,2,     0.02,2,   1894.3,2,   2215.5,2,   8.1171,2,    25.00,     0.18,3,     0.11,3,  28.8961,2,     1341
  49UF20180709,KS1806,  5466,  1,     34,  25268,2,20180815,1126,  5.0108, 137.0192, 5047,     50.6,  28.9230,  28.9248,2,  33.7273,2,  33.7287,2,    197.3,2,    197.0,2,     1.28,2,     0.00,2,     0.00,2,     0.02,2,   1897.5,2,   2215.8,2,   8.1181,2,    25.00,     0.11,2,     0.07,2,  28.9248,2,     1339
  49UF20180709,KS1806,  5466,  1,     33,  25267,2,20180815,1126,  5.0108, 137.0192, 5047,     76.0,  28.5274,  28.5312,2,  34.0583,2,-999.0000,9,    197.0,2,    197.4,2,     1.49,2,     0.00,2,     0.00,2,     0.05,2,   1926.9,2,   2238.4,2,   8.0995,2,    25.00,     0.22,2,     0.15,2,  28.5312,2,     1338
  49UF20180709,KS1806,  5466,  1,     32,  25266,2,20180815,1126,  5.0108, 137.0192, 5047,    101.3,  22.3555,  22.3811,2,  34.8445,2,  34.8485,2,    166.0,2,    166.9,2,     4.18,2,     2.72,2,     0.28,2,     0.40,2,   2053.7,2,   2296.2,2,   7.9465,2,    25.00,     0.17,2,     0.43,2,  22.3811,2,     1336
  49UF20180709,KS1806,  5466,  1,     31,  25265,2,20180815,1126,  5.0108, 137.0192, 5047,    126.6,  16.9287,  16.9234,2,  34.7193,2,-999.0000,9,    155.5,2,    154.9,2,     9.85,2,    10.52,2,     0.03,2,     0.82,2,   2097.1,2,   2288.3,2,   7.8362,2,    25.00,     0.05,2,     0.19,2,  16.9234,2,     1335
  49UF20180709,KS1806,  5466,  1,     30,  25264,2,20180815,1126,  5.0108, 137.0192, 5047,    151.3,  13.7812,  13.7943,2,  34.6110,2,  34.6014,2,    135.6,2,    136.8,2,    18.90,2,    17.31,2,     0.01,2,     1.27,2,   2140.7,2,   2288.6,2,   7.7464,2,    25.00,     0.01,2,     0.04,2,  13.7943,2,     1331
  49UF20180709,KS1806,  5466,  1,     29,  25263,2,20180815,1126,  5.0108, 137.0192, 5047,    200.7,   9.8412,   9.8417,2,  34.4489,2,-999.0000,9,    100.7,2,    101.0,2,    35.38,2,    27.06,2,     0.01,2,     1.96,2,   2201.5,2,   2298.1,2,   7.5947,2,    25.00,     0.00,2,     0.03,2,   9.8417,2,     1329
  49UF20180709,KS1806,  5466,  1,     28,  25262,2,20180815,1126,  5.0108, 137.0192, 5047,    250.3,   8.9773,   8.9774,2,  34.5402,2,  34.5399,2,    107.8,2,    107.9,6,    36.85,6,    28.71,6,     0.00,6,     2.05,6,   2216.6,2,   2302.4,2,   7.5929,2,    25.00,  -999.00,9,  -999.00,9,   8.9774,2,     1327
  49UF20180709,KS1806,  5466,  1,     27,  25261,2,20180815,1126,  5.0108, 137.0192, 5047,    301.9,   8.4669,   8.4668,2,  34.5801,2,  34.5803,2,    108.2,2,    108.9,2,    35.00,2,    29.95,2,     0.00,2,     2.12,2,   2218.4,2,   2304.1,2,   7.5853,2,    25.00,  -999.00,9,  -999.00,9,   8.4668,2,     1325
  49UF20180709,KS1806,  5466,  1,     26,  25260,2,20180815,1126,  5.0108, 137.0192, 5047,    352.6,   8.3171,   8.3172,2,  34.5953,2,  34.5949,2,    120.9,2,    120.8,2,    32.11,2,    29.35,2,     0.00,2,     2.06,2,   2211.2,2,   2304.4,2,   7.6048,2,    25.00,  -999.00,9,  -999.00,9,   8.3172,2,     1323
  49UF20180709,KS1806,  5466,  1,     25,  25259,2,20180815,1126,  5.0108, 137.0192, 5047,    402.2,   8.1416,   8.1412,2,  34.5870,2,  34.5866,2,    113.4,2,    113.5,2,    34.44,2,    30.43,2,     0.00,2,     2.14,2,   2218.3,2,   2306.1,2,   7.5882,2,    25.00,  -999.00,9,  -999.00,9,   8.1412,2,     1321
  49UF20180709,KS1806,  5466,  1,     24,  25258,3,20180815,1126,  5.0108, 137.0192, 5047,    453.7,   7.8271,   7.8275,2,  34.5640,2,  34.5648,2,    112.6,2,    114.4,6,    37.41,6,    31.01,6,     0.00,6,     2.18,6,   2220.8,2,   2308.5,2,   7.5807,2,    25.00,  -999.00,9,  -999.00,9,   7.8275,2,     1319
  49UF20180709,KS1806,  5466,  1,     23,  25257,2,20180815,1126,  5.0108, 137.0192, 5047,    504.5,   7.4929,   7.4927,2,  34.5569,2,  34.5564,2,    120.2,2,    120.1,2,    37.50,2,    31.17,2,     0.00,2,     2.19,2,   2218.1,6,   2309.9,6,   7.5858,2,    25.00,  -999.00,9,  -999.00,9,   7.4927,2,     1317
  49UF20180709,KS1806,  5466,  1,     22,  24473,2,20180815,1126,  5.0108, 137.0192, 5047,    605.1,   6.8653,   6.8651,2,  34.5326,2,  34.5329,2,    109.4,2,    110.4,2,    46.86,2,    33.11,2,     0.00,2,     2.35,2,   2239.3,2,   2316.6,2,   7.5566,6,    25.00,  -999.00,9,  -999.00,9,   6.8651,2,     1314
  49UF20180709,KS1806,  5466,  1,     21,  25255,2,20180815,1126,  5.0108, 137.0192, 5047,    707.3,   6.0842,   6.0840,2,  34.5325,2,  34.5323,2,     81.9,2,     82.6,2,    64.25,2,    36.81,2,     0.00,2,     2.63,2,   2270.8,2,   2329.9,2,   7.5039,2,    25.00,  -999.00,9,  -999.00,9,   6.0840,2,     1311
  49UF20180709,KS1806,  5466,  1,     20,  24270,2,20180815,1126,  5.0108, 137.0192, 5047,    805.9,   5.4675,   5.4675,2,  34.5365,2,  34.5339,4,     82.1,2,     82.8,2,    74.48,2,    37.78,2,     0.00,2,     2.69,2,   2281.2,2,   2339.2,2,   7.4980,2,    25.00,  -999.00,9,  -999.00,9,   5.4675,2,     1308
  49UF20180709,KS1806,  5466,  1,     19,  25253,2,20180815,1126,  5.0108, 137.0192, 5047,    907.4,   4.9711,   4.9710,2,  34.5433,2,  34.5434,2,     83.1,2,     84.0,2,    83.88,2,    38.10,2,     0.00,2,     2.73,2,   2291.1,2,   2350.5,2,   7.4943,2,    25.00,  -999.00,9,  -999.00,9,   4.9710,2,     1305
  49UF20180709,KS1806,  5466,  1,     18,  25252,2,20180815,1126,  5.0108, 137.0192, 5047,   1010.9,   4.5416,   4.5405,2,  34.5526,2,  34.5524,2,     84.9,2,     84.6,2,    91.42,2,    38.80,2,     0.00,2,     2.76,2,   2301.1,2,   2358.9,2,   7.4934,2,    25.00,  -999.00,9,  -999.00,9,   4.5405,2,     1302
  49UF20180709,KS1806,  5466,  1,     17,  25251,2,20180815,1126,  5.0108, 137.0192, 5047,   1209.9,   3.6717,   3.6716,2,  34.5756,2,  34.5759,2,     94.8,2,     95.1,2,   108.30,2,    38.48,2,     0.00,2,     2.76,2,   2316.3,6,   2377.8,6,   7.5043,2,    25.00,  -999.00,9,  -999.00,9,   3.6716,2,     1257
  49UF20180709,KS1806,  5466,  1,     16,  25250,2,20180815,1126,  5.0108, 137.0192, 5047,   1412.0,   3.0831,   3.0830,2,  34.5956,2,  34.5956,2,     97.0,2,     97.4,2,   121.49,2,    39.18,2,     0.00,2,     2.77,2,   2326.6,2,   2388.1,2,   7.5052,6,    25.00,  -999.00,9,  -999.00,9,   3.0830,2,     1252
  49UF20180709,KS1806,  5466,  1,     15,  25249,2,20180815,1126,  5.0108, 137.0192, 5047,   1614.5,   2.6870,   2.6868,2,  34.6115,2,  34.6084,4,    105.1,2,    105.1,2,   128.74,2,    38.50,2,     0.00,2,     2.74,2,   2331.6,2,   2397.4,2,   7.5161,2,    25.00,  -999.00,9,  -999.00,9,   2.6868,2,     1248
  49UF20180709,KS1806,  5466,  1,     14,  25248,2,20180815,1126,  5.0108, 137.0192, 5047,   1818.6,   2.3462,   2.3458,2,  34.6276,2,  34.6236,4,    111.1,2,    112.4,3,   135.74,2,    38.37,2,     0.00,2,     2.71,2,   2336.3,2,   2403.1,2,   7.5267,2,    25.00,  -999.00,9,  -999.00,9,   2.3458,2,     1243
  49UF20180709,KS1806,  5466,  1,     13,  25247,2,20180815,1126,  5.0108, 137.0192, 5047,   2021.1,   2.2123,   2.2122,2,  34.6355,2,  34.6351,2,    114.8,2,    115.1,2,   138.51,2,    38.39,2,     0.00,2,     2.69,2,   2341.0,2,   2407.0,2,   7.5327,2,    25.00,  -999.00,9,  -999.00,9,   2.2122,2,     1238
  49UF20180709,KS1806,  5466,  1,     12,  25246,2,20180815,1126,  5.0108, 137.0192, 5047,   2275.8,   1.9570,   1.9569,2,  34.6494,2,  34.6485,2,    122.7,2,    123.1,2,   142.56,2,    37.75,2,     0.00,2,     2.66,2,   2340.2,2,   2411.2,2,   7.5431,2,    25.00,  -999.00,9,  -999.00,9,   1.9569,2,     1232
  49UF20180709,KS1806,  5466,  1,     11,  25245,2,20180815,1126,  5.0108, 137.0192, 5047,   2532.0,   1.7531,   1.7522,2,  34.6606,2,  34.6600,2,    132.7,2,    133.2,2,   144.06,2,    37.29,2,     0.00,2,     2.60,2,   2334.7,2,   2412.2,2,   7.5597,2,    25.00,  -999.00,9,  -999.00,9,   1.7522,2,     1226
  49UF20180709,KS1806,  5466,  1,     10,  25244,2,20180815,1126,  5.0108, 137.0192, 5047,   2784.5,   1.6478,   1.6476,2,  34.6672,2,  34.6673,2,    138.8,2,    138.9,2,   144.47,2,    36.88,2,     0.00,2,     2.57,2,   2332.1,6,   2413.8,6,   7.5685,2,    25.00,  -999.00,9,  -999.00,9,   1.6476,2,     1221
  49UF20180709,KS1806,  5466,  1,      9,  25243,2,20180815,1126,  5.0108, 137.0192, 5047,   3040.1,   1.5870,   1.5868,2,  34.6720,2,  34.6723,6,    143.5,2,    144.1,2,   144.80,2,    36.51,2,     0.00,2,     2.54,2,   2329.6,2,   2414.2,2,   7.5752,6,    25.00,  -999.00,9,  -999.00,9,   1.5868,2,     1215
  49UF20180709,KS1806,  5466,  1,      8,  25242,2,20180815,1126,  5.0108, 137.0192, 5047,   3549.4,   1.5369,   1.5367,2,  34.6787,2,  34.6786,2,    149.6,2,    150.5,2,   143.97,2,    36.20,2,     0.00,2,     2.51,2,   2327.1,2,   2415.6,2,   7.5855,2,    25.00,  -999.00,9,  -999.00,9,   1.5367,2,     1205
  49UF20180709,KS1806,  5466,  1,      7,  25241,2,20180815,1126,  5.0108, 137.0192, 5047,   3804.6,   1.5113,   1.5113,2,  34.6828,2,  34.6810,4,    153.4,2,    153.6,2,   142.52,2,    35.88,2,     0.00,2,     2.49,2,   2321.5,2,   2415.0,2,   7.5887,2,    25.00,  -999.00,9,  -999.00,9,   1.5113,2,     1159
  49UF20180709,KS1806,  5466,  1,      6,  25240,2,20180815,1126,  5.0108, 137.0192, 5047,   4061.6,   1.5073,   1.5072,2,  34.6851,2,  34.6851,2,    155.8,2,    156.5,6,   142.91,6,    35.54,6,     0.00,6,     2.48,6,   2326.7,2,   2415.4,2,   7.5942,2,    25.00,  -999.00,9,  -999.00,9,   1.5072,2,     1153
  49UF20180709,KS1806,  5466,  1,      5,  25239,2,20180815,1126,  5.0108, 137.0192, 5047,   4315.4,   1.5191,   1.5191,2,  34.6864,2,  34.6856,2,    157.3,2,    157.1,2,   142.41,2,    35.39,2,     0.00,2,     2.47,2,   2324.5,2,   2414.0,2,   7.5973,2,    25.00,  -999.00,9,  -999.00,9,   1.5191,2,     1148
  49UF20180709,KS1806,  5466,  1,      4,  25238,2,20180815,1126,  5.0108, 137.0192, 5047,   4572.8,   1.5412,   1.5412,2,  34.6866,2,  34.6881,4,    158.3,2,    159.1,2,   142.26,2,    35.53,2,     0.00,2,     2.47,2,   2324.8,2,   2412.8,2,   7.5984,2,    25.00,  -999.00,9,  -999.00,9,   1.5412,2,     1142
  49UF20180709,KS1806,  5466,  1,      3,  24271,2,20180815,1126,  5.0108, 137.0192, 5047,   4831.1,   1.5588,   1.5588,2,  34.6873,2,  34.6873,2,    159.9,2,    159.7,2,   141.67,2,    35.33,2,     0.00,2,     2.45,2,   2316.9,2,   2411.9,2,   7.5982,2,    25.00,  -999.00,9,  -999.00,9,   1.5588,2,     1137
  49UF20180709,KS1806,  5466,  1,      2,  25236,2,20180815,1126,  5.0108, 137.0192, 5047,   5088.9,   1.5810,   1.5809,2,  34.6878,2,  34.6877,2,    160.9,2,    161.2,6,   141.23,6,    35.25,6,     0.00,6,     2.45,6,   2314.1,2,   2409.5,2,   7.5987,2,    25.00,  -999.00,9,  -999.00,9,   1.5809,2,     1131
  49UF20180709,KS1806,  5466,  1,      1,  24272,2,20180815,1126,  5.0108, 137.0192, 5047,   5244.8,   1.5964,   1.5964,2,  34.6881,2,  34.6883,6,    161.5,2,    161.9,2,   141.01,2,    35.40,2,     0.00,2,     2.45,2,   2319.6,2,   2409.2,2,   7.5983,2,    25.00,  -999.00,9,  -999.00,9,   1.5964,2,     1127