BOTTLE,20200311PRINUNIVRMK
EXPOCODE,SECT_ID,STNNBR,CASTNO,SAMPNO,BTLNBR,BTLNBR_FLAG_W,DATE,TIME,LATITUDE,LONGITUDE,DEPTH,CTDPRS,CTDTMP,SBE35,SBE35_FLAG_W,CTDSAL,CTDSAL_FLAG_W,SALNTY,SALNTY_FLAG_W,CTDOXY,CTDOXY_FLAG_W,OXYGEN,OXYGEN_FLAG_W,SILCAT,SILCAT_FLAG_W,NITRAT,NITRAT_FLAG_W,NITRIT,NITRIT_FLAG_W,PHSPHT,PHSPHT_FLAG_W,TCARBN,TCARBN_FLAG_W,ALKALI,ALKALI_FLAG_W,PH_TOT,PH_TOT_FLAG_W,PH_TMP,CHLORA,CHLORA_FLAG_W,PPHYTN,PPHYTN_FLAG_W,SBE35,SBE35_FLAG_W,BTL_TIME
,,,,,,,,,,,METERS,DBAR,ITS-90,,,PSS-78,,PSS-78,,UMOL/KG,,UMOL/KG,,UMOL/KG,,UMOL/KG,,UMOL/KG,,UMOL/KG,,UMOL/KG,,UMOL/KG,,,,DEG C,UG/KG,,UG/KG,,,,
  49UF20180709,KS1806,  5469,  1,     99,     99,2,20180817,1413,  9.0110, 138.3245, 5445,      0.0,  28.6890,-999.0000,9,  33.6091,2,-999.0000,9,    197.6,2,    197.0,2,     1.19,2,     0.06,2,     0.00,2,     0.04,2,   -999.0,9,   -999.0,9,-999.0000,9,  -999.00,  -999.00,9,  -999.00,9,-999.0000,9,     1555
  49UF20180709,KS1806,  5469,  1,     36,  25270,2,20180817,1413,  9.0110, 138.3245, 5445,      9.6,  28.6958,  28.6966,2,  33.6090,2,  33.6098,2,    197.2,2,    198.2,2,     1.17,2,     0.03,2,     0.00,2,     0.03,2,   -999.0,9,   -999.0,9,-999.0000,9,  -999.00,  -999.00,9,  -999.00,9,  28.6966,2,     1637
  49UF20180709,KS1806,  5469,  1,     35,  25269,2,20180817,1413,  9.0110, 138.3245, 5445,     24.8,  28.6989,  28.6996,2,  33.6099,2,  33.6101,2,    197.2,2,    197.1,2,     1.18,2,     0.00,2,     0.00,2,     0.03,2,   -999.0,9,   -999.0,9,-999.0000,9,  -999.00,  -999.00,9,  -999.00,9,  28.6996,2,     1635
  49UF20180709,KS1806,  5469,  1,     34,  25268,3,20180817,1413,  9.0110, 138.3245, 5445,     52.4,  28.4619,  28.4678,2,  34.3176,2,-999.0000,9,    203.5,2,    202.7,2,     1.29,2,     0.06,2,     0.00,2,     0.05,2,   -999.0,9,   -999.0,9,-999.0000,9,  -999.00,  -999.00,9,  -999.00,9,  28.4678,2,     1633
  49UF20180709,KS1806,  5469,  1,     33,  25267,2,20180817,1413,  9.0110, 138.3245, 5445,     74.8,  27.4616,  27.4614,2,  34.7245,2,  34.7217,2,    203.5,2,    203.2,2,     1.37,2,     0.02,2,     0.00,2,     0.08,2,   -999.0,9,   -999.0,9,-999.0000,9,  -999.00,  -999.00,9,  -999.00,9,  27.4614,2,     1631
  49UF20180709,KS1806,  5469,  1,     32,  25266,2,20180817,1413,  9.0110, 138.3245, 5445,     99.9,  23.0915,  23.0828,2,  34.8928,2,-999.0000,9,    179.5,2,    179.9,2,     2.71,2,     0.86,2,     0.11,2,     0.26,2,   -999.0,9,   -999.0,9,-999.0000,9,  -999.00,  -999.00,9,  -999.00,9,  23.0828,2,     1630
  49UF20180709,KS1806,  5469,  1,     31,  25265,2,20180817,1413,  9.0110, 138.3245, 5445,    127.0,  18.7132,  18.7185,2,  34.7779,2,  34.7833,2,    164.8,2,    165.2,6,     5.58,6,     6.16,6,     0.04,6,     0.56,6,   -999.0,9,   -999.0,9,-999.0000,9,  -999.00,  -999.00,9,  -999.00,9,  18.7185,2,     1628
  49UF20180709,KS1806,  5469,  1,     30,  25264,2,20180817,1413,  9.0110, 138.3245, 5445,    150.9,  15.7006,  15.7004,2,  34.6108,2,-999.0000,9,    158.8,2,    158.9,2,    10.94,2,    11.12,2,     0.01,2,     0.86,2,   -999.0,9,   -999.0,9,-999.0000,9,  -999.00,  -999.00,9,  -999.00,9,  15.7004,2,     1626
  49UF20180709,KS1806,  5469,  1,     29,  25263,2,20180817,1413,  9.0110, 138.3245, 5445,    200.1,  11.3372,  11.3379,2,  34.4858,2,  34.4860,2,    104.2,2,    103.8,2,    28.40,2,    24.20,2,     0.00,2,     1.75,2,   -999.0,9,   -999.0,9,-999.0000,9,  -999.00,  -999.00,9,  -999.00,9,  11.3379,2,     1623
  49UF20180709,KS1806,  5469,  1,     28,  25262,2,20180817,1413,  9.0110, 138.3245, 5445,    250.7,  10.1632,  10.1568,2,  34.5057,2,  34.5062,2,     90.6,2,     90.8,2,    33.53,2,    27.89,2,     0.00,2,     1.99,2,   -999.0,9,   -999.0,9,-999.0000,9,  -999.00,  -999.00,9,  -999.00,9,  10.1568,2,     1618
  49UF20180709,KS1806,  5469,  1,     27,  25261,3,20180817,1413,  9.0110, 138.3245, 5445,    303.1,   8.9130,   8.9125,2,  34.5331,2,  34.5325,2,     81.8,2,     81.5,2,    38.90,2,    31.29,2,     0.00,2,     2.22,2,   -999.0,9,   -999.0,9,-999.0000,9,  -999.00,  -999.00,9,  -999.00,9,   8.9125,2,     1616
  49UF20180709,KS1806,  5469,  1,     26,  25260,2,20180817,1413,  9.0110, 138.3245, 5445,    352.8,   8.4693,   8.4694,2,  34.5330,2,  34.5332,2,     84.6,2,     84.3,2,    40.88,2,    31.83,2,     0.00,2,     2.26,2,   -999.0,9,   -999.0,9,-999.0000,9,  -999.00,  -999.00,9,  -999.00,9,   8.4694,2,     1614
  49UF20180709,KS1806,  5469,  1,     25,  25259,2,20180817,1413,  9.0110, 138.3245, 5445,    402.9,   8.1758,   8.1770,2,  34.5335,2,  34.5339,2,     87.3,2,     87.2,2,    42.32,2,    32.42,2,     0.00,2,     2.28,2,   -999.0,9,   -999.0,9,-999.0000,9,  -999.00,  -999.00,9,  -999.00,9,   8.1770,2,     1612
  49UF20180709,KS1806,  5469,  1,     24,  25258,2,20180817,1413,  9.0110, 138.3245, 5445,    453.2,   7.7619,   7.7631,2,  34.5303,2,  34.5306,2,     87.7,2,     87.3,2,    45.16,2,    33.28,2,     0.00,2,     2.33,2,   -999.0,9,   -999.0,9,-999.0000,9,  -999.00,  -999.00,9,  -999.00,9,   7.7631,2,     1610
  49UF20180709,KS1806,  5469,  1,     23,  25257,2,20180817,1413,  9.0110, 138.3245, 5445,    507.7,   7.4174,   7.4149,2,  34.5271,2,  34.5272,2,     90.0,2,     89.5,2,    47.39,2,    33.44,2,     0.00,2,     2.37,2,   -999.0,9,   -999.0,9,-999.0000,9,  -999.00,  -999.00,9,  -999.00,9,   7.4149,2,     1608
  49UF20180709,KS1806,  5469,  1,     22,  24473,2,20180817,1413,  9.0110, 138.3245, 5445,    603.8,   6.7788,   6.7787,2,  34.5210,2,  34.5210,2,     96.5,2,     95.8,2,    52.79,2,    34.45,2,     0.00,2,     2.42,2,   -999.0,9,   -999.0,9,-999.0000,9,  -999.00,  -999.00,9,  -999.00,9,   6.7787,2,     1605
  49UF20180709,KS1806,  5469,  1,     21,  25255,2,20180817,1413,  9.0110, 138.3245, 5445,    703.1,   6.2946,   6.2946,2,  34.5238,2,  34.5234,2,     87.2,2,     86.8,2,    61.33,2,    35.86,2,     0.00,2,     2.55,2,   -999.0,9,   -999.0,9,-999.0000,9,  -999.00,  -999.00,9,  -999.00,9,   6.2946,2,     1602
  49UF20180709,KS1806,  5469,  1,     20,  24270,2,20180817,1413,  9.0110, 138.3245, 5445,    803.5,   5.7589,   5.7572,2,  34.5241,2,  34.5244,2,     86.2,2,     86.0,2,    69.77,2,    36.94,2,     0.00,2,     2.61,2,   -999.0,9,   -999.0,9,-999.0000,9,  -999.00,  -999.00,9,  -999.00,9,   5.7572,2,     1559
  49UF20180709,KS1806,  5469,  1,     19,  25253,2,20180817,1413,  9.0110, 138.3245, 5445,    906.0,   4.9584,   4.9587,2,  34.5408,2,  34.5408,2,     84.9,2,     84.6,6,    84.34,6,    38.05,6,     0.00,6,     2.70,6,   -999.0,9,   -999.0,9,-999.0000,9,  -999.00,  -999.00,9,  -999.00,9,   4.9587,2,     1555
  49UF20180709,KS1806,  5469,  1,     18,  25252,2,20180817,1413,  9.0110, 138.3245, 5445,   1018.2,   4.3824,   4.3779,2,  34.5521,2,  34.5515,6,     85.6,2,     85.0,2,    95.95,2,    38.77,2,     0.00,2,     2.75,2,   -999.0,9,   -999.0,9,-999.0000,9,  -999.00,  -999.00,9,  -999.00,9,   4.3779,2,     1551
  49UF20180709,KS1806,  5469,  1,     17,  25251,2,20180817,1413,  9.0110, 138.3245, 5445,   1209.8,   3.5907,   3.5908,2,  34.5717,2,  34.5690,4,     90.7,2,     90.5,2,   112.55,2,    38.89,2,     0.00,2,     2.76,2,   -999.0,9,   -999.0,9,-999.0000,9,  -999.00,  -999.00,9,  -999.00,9,   3.5908,2,     1545
  49UF20180709,KS1806,  5469,  1,     16,  25250,2,20180817,1413,  9.0110, 138.3245, 5445,   1425.1,   2.9577,   2.9574,2,  34.5960,2,  34.5957,2,     98.8,2,     98.7,2,   125.23,2,    38.94,2,     0.00,2,     2.75,2,   -999.0,9,   -999.0,9,-999.0000,9,  -999.00,  -999.00,9,  -999.00,9,   2.9574,2,     1539
  49UF20180709,KS1806,  5469,  1,     15,  25249,2,20180817,1413,  9.0110, 138.3245, 5445,   1614.0,   2.6074,   2.6072,2,  34.6116,2,  34.6120,2,    104.8,2,    104.5,2,   131.92,2,    38.97,2,     0.00,2,     2.73,2,   -999.0,9,   -999.0,9,-999.0000,9,  -999.00,  -999.00,9,  -999.00,9,   2.6072,2,     1534
  49UF20180709,KS1806,  5469,  1,     14,  25248,2,20180817,1413,  9.0110, 138.3245, 5445,   1817.8,   2.4023,   2.4023,2,  34.6224,2,  34.6226,2,    109.5,2,    109.2,2,   135.61,2,    38.56,2,     0.00,2,     2.71,2,   -999.0,9,   -999.0,9,-999.0000,9,  -999.00,  -999.00,9,  -999.00,9,   2.4023,2,     1529
  49UF20180709,KS1806,  5469,  1,     13,  25247,2,20180817,1413,  9.0110, 138.3245, 5445,   2024.7,   2.1843,   2.1843,2,  34.6331,2,  34.6316,4,    114.5,2,    113.7,2,   139.12,2,    38.49,2,     0.00,2,     2.68,2,   -999.0,9,   -999.0,9,-999.0000,9,  -999.00,  -999.00,9,  -999.00,9,   2.1843,2,     1525
  49UF20180709,KS1806,  5469,  1,     12,  25246,2,20180817,1413,  9.0110, 138.3245, 5445,   2277.3,   1.8906,   1.8903,2,  34.6475,2,  34.6476,2,    121.9,2,    121.5,2,   145.97,2,    38.14,2,     0.00,2,     2.65,2,   -999.0,9,   -999.0,9,-999.0000,9,  -999.00,  -999.00,9,  -999.00,9,   1.8903,2,     1518
  49UF20180709,KS1806,  5469,  1,     11,  25245,2,20180817,1413,  9.0110, 138.3245, 5445,   2528.7,   1.7279,   1.7280,2,  34.6583,2,  34.6585,2,    128.9,2,    128.6,2,   148.24,2,    37.53,2,     0.00,2,     2.61,2,   -999.0,9,   -999.0,9,-999.0000,9,  -999.00,  -999.00,9,  -999.00,9,   1.7280,2,     1512
  49UF20180709,KS1806,  5469,  1,     10,  25244,2,20180817,1413,  9.0110, 138.3245, 5445,   2781.6,   1.6420,   1.6420,2,  34.6656,2,  34.6658,2,    135.9,2,    135.6,2,   147.73,2,    37.14,2,     0.00,2,     2.58,2,   -999.0,9,   -999.0,9,-999.0000,9,  -999.00,  -999.00,9,  -999.00,9,   1.6420,2,     1506
  49UF20180709,KS1806,  5469,  1,      9,  25243,2,20180817,1413,  9.0110, 138.3245, 5445,   3034.3,   1.5825,   1.5824,2,  34.6710,2,  34.6713,2,    141.0,2,    140.6,2,   147.24,2,    36.90,2,     0.00,2,     2.55,2,   -999.0,9,   -999.0,9,-999.0000,9,  -999.00,  -999.00,9,  -999.00,9,   1.5824,2,     1500
  49UF20180709,KS1806,  5469,  1,      8,  25242,2,20180817,1413,  9.0110, 138.3245, 5445,   3291.0,   1.5553,   1.5552,2,  34.6748,2,  34.6750,2,    145.7,2,    145.6,6,   145.75,6,    36.48,6,     0.00,6,     2.53,6,   -999.0,9,   -999.0,9,-999.0000,9,  -999.00,  -999.00,9,  -999.00,9,   1.5552,2,     1455
  49UF20180709,KS1806,  5469,  1,      7,  25241,2,20180817,1413,  9.0110, 138.3245, 5445,   3549.6,   1.5294,   1.5295,2,  34.6784,2,  34.6784,2,    148.8,2,    148.6,2,   145.41,2,    36.31,2,     0.00,2,     2.51,2,   -999.0,9,   -999.0,9,-999.0000,9,  -999.00,  -999.00,9,  -999.00,9,   1.5295,2,     1450
  49UF20180709,KS1806,  5469,  1,      6,  25240,2,20180817,1413,  9.0110, 138.3245, 5445,   4061.6,   1.4989,   1.4989,2,  34.6847,2,  34.6848,2,    156.6,2,    156.6,2,   142.80,2,    35.80,2,     0.00,2,     2.46,2,   -999.0,9,   -999.0,9,-999.0000,9,  -999.00,  -999.00,9,  -999.00,9,   1.4989,2,     1440
  49UF20180709,KS1806,  5469,  1,      5,  25239,2,20180817,1413,  9.0110, 138.3245, 5445,   4318.4,   1.4986,   1.4987,2,  34.6866,2,  34.6860,6,    159.2,2,    158.7,2,   142.15,2,    35.71,2,     0.00,2,     2.45,2,   -999.0,9,   -999.0,9,-999.0000,9,  -999.00,  -999.00,9,  -999.00,9,   1.4987,2,     1434
  49UF20180709,KS1806,  5469,  1,      4,  25238,2,20180817,1413,  9.0110, 138.3245, 5445,   4570.9,   1.4862,   1.4863,2,  34.6895,2,  34.6896,2,    163.8,2,    163.7,2,   140.06,2,    35.48,2,     0.00,2,     2.43,2,   -999.0,9,   -999.0,9,-999.0000,9,  -999.00,  -999.00,9,  -999.00,9,   1.4863,2,     1428
  49UF20180709,KS1806,  5469,  1,      3,  24271,4,20180817,1413,  9.0110, 138.3245, 5445,   4833.1,   1.4711,   1.4709,2,  34.6925,2,  34.6850,4,    168.9,2,    157.4,4,   142.62,4,    35.82,4,     0.00,4,     2.46,4,   -999.0,9,   -999.0,9,-999.0000,9,  -999.00,  -999.00,9,  -999.00,9,   1.4709,2,     1423
  49UF20180709,KS1806,  5469,  1,      2,  25236,2,20180817,1413,  9.0110, 138.3245, 5445,   5089.2,   1.4945,   1.4945,2,  34.6931,2,  34.6935,2,    170.1,2,    170.0,2,   136.92,2,    34.85,2,     0.00,2,     2.39,2,   -999.0,9,   -999.0,9,-999.0000,9,  -999.00,  -999.00,9,  -999.00,9,   1.4945,2,     1417
  49UF20180709,KS1806,  5469,  1,      1,  24272,2,20180817,1413,  9.0110, 138.3245, 5445,   5243.0,   1.5074,   1.5075,2,  34.6935,2,  34.6942,6,    171.0,2,    171.0,2,   136.52,2,    34.76,2,     0.00,2,     2.39,2,   -999.0,9,   -999.0,9,-999.0000,9,  -999.00,  -999.00,9,  -999.00,9,   1.5075,2,     1413