BOTTLE,20200311PRINUNIVRMK
EXPOCODE,SECT_ID,STNNBR,CASTNO,SAMPNO,BTLNBR,BTLNBR_FLAG_W,DATE,TIME,LATITUDE,LONGITUDE,DEPTH,CTDPRS,CTDTMP,SBE35,SBE35_FLAG_W,CTDSAL,CTDSAL_FLAG_W,SALNTY,SALNTY_FLAG_W,CTDOXY,CTDOXY_FLAG_W,OXYGEN,OXYGEN_FLAG_W,SILCAT,SILCAT_FLAG_W,NITRAT,NITRAT_FLAG_W,NITRIT,NITRIT_FLAG_W,PHSPHT,PHSPHT_FLAG_W,TCARBN,TCARBN_FLAG_W,ALKALI,ALKALI_FLAG_W,PH_TOT,PH_TOT_FLAG_W,PH_TMP,CHLORA,CHLORA_FLAG_W,PPHYTN,PPHYTN_FLAG_W,SBE35,SBE35_FLAG_W,BTL_TIME
,,,,,,,,,,,METERS,DBAR,ITS-90,,,PSS-78,,PSS-78,,UMOL/KG,,UMOL/KG,,UMOL/KG,,UMOL/KG,,UMOL/KG,,UMOL/KG,,UMOL/KG,,UMOL/KG,,,,DEG C,UG/KG,,UG/KG,,,,
  49UF20180709,KS1806,  5470,  1,     99,     99,2,20180818,0944, 11.0187, 140.9925, 6222,      0.0,  29.0501,-999.0000,9,  33.9291,2,-999.0000,9,    197.1,2,    196.2,2,     1.15,2,     0.04,2,     0.00,2,     0.06,2,   -999.0,9,   -999.0,9,-999.0000,9,  -999.00,  -999.00,9,  -999.00,9,-999.0000,9,     1140
  49UF20180709,KS1806,  5470,  1,     36,  25270,2,20180818,0944, 11.0187, 140.9925, 6222,     11.0,  29.0508,  29.0514,2,  33.9295,2,  33.9302,2,    197.1,2,    196.3,2,     1.15,2,     0.01,2,     0.00,2,     0.05,2,   -999.0,9,   -999.0,9,-999.0000,9,  -999.00,  -999.00,9,  -999.00,9,  29.0514,2,     1215
  49UF20180709,KS1806,  5470,  1,     35,  25269,2,20180818,0944, 11.0187, 140.9925, 6222,     25.4,  29.0522,  29.0542,2,  33.9298,2,-999.0000,9,    196.9,2,    196.4,2,     1.14,2,     0.04,2,     0.00,2,     0.05,2,   -999.0,9,   -999.0,9,-999.0000,9,  -999.00,  -999.00,9,  -999.00,9,  29.0542,2,     1214
  49UF20180709,KS1806,  5470,  1,     34,  25268,2,20180818,0944, 11.0187, 140.9925, 6222,     50.7,  28.6621,  28.6626,2,  34.2657,2,  34.2652,2,    205.8,2,    204.7,2,     1.17,2,     0.01,2,     0.00,2,     0.06,2,   -999.0,9,   -999.0,9,-999.0000,9,  -999.00,  -999.00,9,  -999.00,9,  28.6626,2,     1213
  49UF20180709,KS1806,  5470,  1,     33,  25267,2,20180818,0944, 11.0187, 140.9925, 6222,     78.2,  27.4895,  27.4913,2,  34.7176,2,-999.0000,9,    208.9,2,    207.4,2,     1.11,2,     0.07,2,     0.00,2,     0.08,2,   -999.0,9,   -999.0,9,-999.0000,9,  -999.00,  -999.00,9,  -999.00,9,  27.4913,2,     1211
  49UF20180709,KS1806,  5470,  1,     32,  25266,2,20180818,0944, 11.0187, 140.9925, 6222,    100.1,  26.1939,  26.1934,2,  34.9243,2,  34.9231,2,    201.6,2,    200.7,2,     1.23,2,     0.02,2,     0.00,2,     0.08,2,   -999.0,9,   -999.0,9,-999.0000,9,  -999.00,  -999.00,9,  -999.00,9,  26.1934,2,     1207
  49UF20180709,KS1806,  5470,  1,     31,  25265,2,20180818,0944, 11.0187, 140.9925, 6222,    126.1,  22.6917,  22.6919,2,  34.9478,2,-999.0000,9,    177.4,2,    177.1,2,     2.74,2,     1.24,2,     0.17,2,     0.28,2,   -999.0,9,   -999.0,9,-999.0000,9,  -999.00,  -999.00,9,  -999.00,9,  22.6919,2,     1206
  49UF20180709,KS1806,  5470,  1,     30,  25264,2,20180818,0944, 11.0187, 140.9925, 6222,    152.1,  19.2558,  19.2689,2,  34.8115,2,  34.8119,2,    166.1,2,    165.7,2,     5.05,2,     5.69,2,     0.04,2,     0.53,2,   -999.0,9,   -999.0,9,-999.0000,9,  -999.00,  -999.00,9,  -999.00,9,  19.2689,2,     1205
  49UF20180709,KS1806,  5470,  1,     29,  25263,2,20180818,0944, 11.0187, 140.9925, 6222,    202.5,  14.0110,  14.0124,2,  34.4705,2,-999.0000,9,    157.5,2,    158.8,2,    12.51,2,    13.21,2,     0.01,2,     1.00,2,   -999.0,9,   -999.0,9,-999.0000,9,  -999.00,  -999.00,9,  -999.00,9,  14.0124,2,     1203
  49UF20180709,KS1806,  5470,  1,     28,  25262,2,20180818,0944, 11.0187, 140.9925, 6222,    253.3,  11.2436,  11.2439,2,  34.4430,2,  34.4375,2,    103.3,2,    103.3,2,    26.76,2,    24.18,2,     0.00,2,     1.76,2,   -999.0,9,   -999.0,9,-999.0000,9,  -999.00,  -999.00,9,  -999.00,9,  11.2439,2,     1201
  49UF20180709,KS1806,  5470,  1,     27,  25261,2,20180818,0944, 11.0187, 140.9925, 6222,    303.8,   9.7357,   9.7372,2,  34.4548,2,  34.4559,2,     84.1,2,     83.8,2,    35.35,2,    28.90,2,     0.00,2,     2.09,2,   -999.0,9,   -999.0,9,-999.0000,9,  -999.00,  -999.00,9,  -999.00,9,   9.7372,2,     1159
  49UF20180709,KS1806,  5470,  1,     26,  25260,2,20180818,0944, 11.0187, 140.9925, 6222,    353.3,   8.6757,   8.6767,2,  34.4428,2,  34.4436,2,     77.0,2,     77.0,6,    42.52,6,    31.58,6,     0.00,6,     2.26,6,   -999.0,9,   -999.0,9,-999.0000,9,  -999.00,  -999.00,9,  -999.00,9,   8.6767,2,     1157
  49UF20180709,KS1806,  5470,  1,     25,  25259,2,20180818,0944, 11.0187, 140.9925, 6222,    402.2,   7.8629,   7.8631,2,  34.4542,2,  34.4554,2,     75.0,2,     74.9,2,    48.93,2,    33.47,2,     0.00,2,     2.39,2,   -999.0,9,   -999.0,9,-999.0000,9,  -999.00,  -999.00,9,  -999.00,9,   7.8631,2,     1155
  49UF20180709,KS1806,  5470,  1,     24,  25258,2,20180818,0944, 11.0187, 140.9925, 6222,    454.1,   7.2224,   7.2316,2,  34.4731,2,  34.4743,2,     83.2,2,     83.5,2,    53.04,2,    33.92,2,     0.00,2,     2.42,2,   -999.0,9,   -999.0,9,-999.0000,9,  -999.00,  -999.00,9,  -999.00,9,   7.2316,2,     1153
  49UF20180709,KS1806,  5470,  1,     23,  25257,2,20180818,0944, 11.0187, 140.9925, 6222,    503.0,   6.7560,   6.7566,2,  34.4719,2,  34.4718,2,     83.6,2,     84.0,2,    58.83,2,    35.06,2,     0.00,2,     2.48,2,   -999.0,9,   -999.0,9,-999.0000,9,  -999.00,  -999.00,9,  -999.00,9,   6.7566,2,     1151
  49UF20180709,KS1806,  5470,  1,     22,  24473,2,20180818,0944, 11.0187, 140.9925, 6222,    604.9,   6.0990,   6.1032,2,  34.4945,2,  34.4955,2,     89.1,2,     89.3,2,    65.06,2,    35.59,2,     0.00,2,     2.53,2,   -999.0,9,   -999.0,9,-999.0000,9,  -999.00,  -999.00,9,  -999.00,9,   6.1032,2,     1148
  49UF20180709,KS1806,  5470,  1,     21,  25255,2,20180818,0944, 11.0187, 140.9925, 6222,    705.1,   5.7857,   5.7880,2,  34.5249,2,  34.5244,2,     84.6,2,     85.9,2,    69.79,2,    36.97,2,     0.00,2,     2.62,2,   -999.0,9,   -999.0,9,-999.0000,9,  -999.00,  -999.00,9,  -999.00,9,   5.7880,2,     1146
  49UF20180709,KS1806,  5470,  1,     20,  24270,2,20180818,0944, 11.0187, 140.9925, 6222,    806.0,   5.1655,   5.1657,2,  34.5242,2,  34.5235,2,     82.5,2,     83.5,2,    81.39,2,    37.73,2,     0.00,2,     2.69,2,   -999.0,9,   -999.0,9,-999.0000,9,  -999.00,  -999.00,9,  -999.00,9,   5.1657,2,     1143
  49UF20180709,KS1806,  5470,  1,     19,  25253,2,20180818,0944, 11.0187, 140.9925, 6222,    907.3,   4.6547,   4.6551,2,  34.5452,2,  34.5448,2,     84.0,2,     85.0,2,    90.69,2,    38.64,2,     0.00,2,     2.73,2,   -999.0,9,   -999.0,9,-999.0000,9,  -999.00,  -999.00,9,  -999.00,9,   4.6551,2,     1140
  49UF20180709,KS1806,  5470,  1,     18,  25252,2,20180818,0944, 11.0187, 140.9925, 6222,   1008.8,   4.1493,   4.1492,2,  34.5500,2,  34.5501,2,     83.3,2,     84.1,2,   102.05,2,    39.06,2,     0.00,2,     2.77,2,   -999.0,9,   -999.0,9,-999.0000,9,  -999.00,  -999.00,9,  -999.00,9,   4.1492,2,     1137
  49UF20180709,KS1806,  5470,  1,     17,  25251,3,20180818,0944, 11.0187, 140.9925, 6222,   1210.6,   3.5025,   3.5024,2,  34.5663,2,  34.5666,2,     87.7,2,     88.2,2,   115.85,2,    39.32,2,     0.00,2,     2.78,2,   -999.0,9,   -999.0,9,-999.0000,9,  -999.00,  -999.00,9,  -999.00,9,   3.5024,2,     1132
  49UF20180709,KS1806,  5470,  1,     16,  25250,3,20180818,0944, 11.0187, 140.9925, 6222,   1413.8,   3.0234,   3.0232,2,  34.5859,2,  34.5856,2,     93.9,2,     94.3,2,   125.90,2,    39.20,2,     0.00,2,     2.77,2,   -999.0,9,   -999.0,9,-999.0000,9,  -999.00,  -999.00,9,  -999.00,9,   3.0232,2,     1127
  49UF20180709,KS1806,  5470,  1,     15,  25249,2,20180818,0944, 11.0187, 140.9925, 6222,   1616.4,   2.6431,   2.6435,2,  34.6038,2,  34.6024,4,    100.8,2,    102.8,3,   132.17,2,    39.00,2,     0.00,2,     2.74,2,   -999.0,9,   -999.0,9,-999.0000,9,  -999.00,  -999.00,9,  -999.00,9,   2.6435,2,     1123
  49UF20180709,KS1806,  5470,  1,     14,  25248,2,20180818,0944, 11.0187, 140.9925, 6222,   1818.6,   2.3567,   2.3567,2,  34.6200,2,  34.6135,4,    107.2,2,    107.4,2,   137.86,2,    38.73,2,     0.00,2,     2.72,2,   -999.0,9,   -999.0,9,-999.0000,9,  -999.00,  -999.00,9,  -999.00,9,   2.3567,2,     1118
  49UF20180709,KS1806,  5470,  1,     13,  25247,2,20180818,0944, 11.0187, 140.9925, 6222,   2019.2,   2.1360,   2.1360,2,  34.6307,2,  34.6305,2,    112.9,2,    113.4,2,   141.53,2,    38.64,2,     0.00,2,     2.69,2,   -999.0,9,   -999.0,9,-999.0000,9,  -999.00,  -999.00,9,  -999.00,9,   2.1360,2,     1114
  49UF20180709,KS1806,  5470,  1,     12,  25246,2,20180818,0944, 11.0187, 140.9925, 6222,   2276.4,   1.8985,   1.8986,2,  34.6453,2,  34.6456,2,    119.8,2,    120.3,6,   147.22,6,    38.21,6,     0.00,6,     2.66,6,   -999.0,9,   -999.0,9,-999.0000,9,  -999.00,  -999.00,9,  -999.00,9,   1.8986,2,     1108
  49UF20180709,KS1806,  5470,  1,     11,  25245,2,20180818,0944, 11.0187, 140.9925, 6222,   2530.6,   1.7488,   1.7488,2,  34.6567,2,  34.6570,2,    125.5,2,    125.7,2,   149.01,2,    37.83,2,     0.00,2,     2.63,2,   -999.0,9,   -999.0,9,-999.0000,9,  -999.00,  -999.00,9,  -999.00,9,   1.7488,2,     1102
  49UF20180709,KS1806,  5470,  1,     10,  25244,2,20180818,0944, 11.0187, 140.9925, 6222,   2785.2,   1.6555,   1.6556,2,  34.6645,2,  34.6633,2,    132.1,2,    132.6,2,   149.56,2,    37.43,2,     0.00,2,     2.59,2,   -999.0,9,   -999.0,9,-999.0000,9,  -999.00,  -999.00,9,  -999.00,9,   1.6556,2,     1056
  49UF20180709,KS1806,  5470,  1,      9,  25243,2,20180818,0944, 11.0187, 140.9925, 6222,   3040.8,   1.5766,   1.5766,2,  34.6711,2,  34.6709,6,    138.6,2,    138.9,2,   149.31,2,    37.21,2,     0.00,2,     2.56,2,   -999.0,9,   -999.0,9,-999.0000,9,  -999.00,  -999.00,9,  -999.00,9,   1.5766,2,     1051
  49UF20180709,KS1806,  5470,  1,      8,  25242,2,20180818,0944, 11.0187, 140.9925, 6222,   3549.8,   1.4935,   1.4936,2,  34.6804,2,  34.6794,2,    150.1,2,    150.6,6,   145.64,6,    36.29,6,     0.00,6,     2.50,6,   -999.0,9,   -999.0,9,-999.0000,9,  -999.00,  -999.00,9,  -999.00,9,   1.4936,2,     1041
  49UF20180709,KS1806,  5470,  1,      7,  25241,3,20180818,0944, 11.0187, 140.9925, 6222,   3807.4,   1.4881,   1.4882,2,  34.6828,2,  34.6827,2,    153.1,2,    153.3,2,   144.51,2,    35.95,2,     0.00,2,     2.49,2,   -999.0,9,   -999.0,9,-999.0000,9,  -999.00,  -999.00,9,  -999.00,9,   1.4882,2,     1035
  49UF20180709,KS1806,  5470,  1,      6,  25240,2,20180818,0944, 11.0187, 140.9925, 6222,   4062.7,   1.4861,   1.4863,2,  34.6842,2,  34.6843,2,    155.1,2,    156.0,2,   144.98,2,    36.07,2,     0.00,2,     2.47,2,   -999.0,9,   -999.0,9,-999.0000,9,  -999.00,  -999.00,9,  -999.00,9,   1.4863,2,     1029
  49UF20180709,KS1806,  5470,  1,      5,  25239,2,20180818,0944, 11.0187, 140.9925, 6222,   4575.6,   1.4675,   1.4676,2,  34.6902,2,  34.6901,2,    164.6,2,    164.7,2,   140.64,2,    35.17,2,     0.00,2,     2.43,2,   -999.0,9,   -999.0,9,-999.0000,9,  -999.00,  -999.00,9,  -999.00,9,   1.4676,2,     1018
  49UF20180709,KS1806,  5470,  1,      4,  25238,2,20180818,0944, 11.0187, 140.9925, 6222,   5088.2,   1.4912,   1.4912,2,  34.6932,2,  34.6935,2,    170.0,2,    170.5,2,   136.89,2,    35.00,2,     0.00,2,     2.40,2,   -999.0,9,   -999.0,9,-999.0000,9,  -999.00,  -999.00,9,  -999.00,9,   1.4912,2,     1007
  49UF20180709,KS1806,  5470,  1,      3,  24271,4,20180818,0944, 11.0187, 140.9925, 6222,   5603.4,   1.5468,   1.5470,2,  34.6940,2,  34.6919,4,    171.7,2,    170.0,4,   135.84,4,    34.81,4,     0.00,4,     2.40,4,   -999.0,9,   -999.0,9,-999.0000,9,  -999.00,  -999.00,9,  -999.00,9,   1.5470,2,      956
  49UF20180709,KS1806,  5470,  1,      2,  25236,2,20180818,0944, 11.0187, 140.9925, 6222,   5862.4,   1.5765,   1.5765,2,  34.6942,2,  34.6944,2,    172.5,2,    172.5,2,   135.41,2,    34.95,2,     0.00,2,     2.38,2,   -999.0,9,   -999.0,9,-999.0000,9,  -999.00,  -999.00,9,  -999.00,9,   1.5765,2,      950
  49UF20180709,KS1806,  5470,  1,      1,  24272,2,20180818,0944, 11.0187, 140.9925, 6222,   6120.9,   1.6055,   1.6056,2,  34.6948,2,  34.6949,6,    173.7,2,    173.8,6,   135.22,6,    34.66,6,     0.00,6,     2.38,6,   -999.0,9,   -999.0,9,-999.0000,9,  -999.00,  -999.00,9,  -999.00,9,   1.6056,2,      944