BOTTLE,20200311PRINUNIVRMK
EXPOCODE,SECT_ID,STNNBR,CASTNO,SAMPNO,BTLNBR,BTLNBR_FLAG_W,DATE,TIME,LATITUDE,LONGITUDE,DEPTH,CTDPRS,CTDTMP,SBE35,SBE35_FLAG_W,CTDSAL,CTDSAL_FLAG_W,SALNTY,SALNTY_FLAG_W,CTDOXY,CTDOXY_FLAG_W,OXYGEN,OXYGEN_FLAG_W,SILCAT,SILCAT_FLAG_W,NITRAT,NITRAT_FLAG_W,NITRIT,NITRIT_FLAG_W,PHSPHT,PHSPHT_FLAG_W,TCARBN,TCARBN_FLAG_W,ALKALI,ALKALI_FLAG_W,PH_TOT,PH_TOT_FLAG_W,PH_TMP,CHLORA,CHLORA_FLAG_W,PPHYTN,PPHYTN_FLAG_W,SBE35,SBE35_FLAG_W,BTL_TIME
,,,,,,,,,,,METERS,DBAR,ITS-90,,,PSS-78,,PSS-78,,UMOL/KG,,UMOL/KG,,UMOL/KG,,UMOL/KG,,UMOL/KG,,UMOL/KG,,UMOL/KG,,UMOL/KG,,,,DEG C,UG/KG,,UG/KG,,,,
  49UF20180709,KS1806,  5448,  1,     99,     99,2,20180729,1037, 24.0183, 136.9943, 3997,      0.0,  28.5198,-999.0000,9,  34.4651,2,  34.4358,2,    196.8,2,    197.2,2,     1.15,2,     0.00,2,     0.00,2,     0.01,2,   1942.6,2,   2264.9,2,   8.1076,2,    25.00,     0.04,2,     0.01,2,-999.0000,9,     1155
  49UF20180709,KS1806,  5448,  1,     36,  25270,2,20180729,1037, 24.0183, 136.9943, 3997,      9.8,  28.5234,  28.5238,2,  34.4643,2,  34.4640,2,    196.9,2,    197.1,6,     1.15,6,     0.00,6,     0.00,6,     0.00,6,   1943.1,2,   2265.8,2,   8.1068,2,    25.00,     0.04,2,     0.01,2,  28.5238,2,     1231
  49UF20180709,KS1806,  5448,  1,     35,  25269,2,20180729,1037, 24.0183, 136.9943, 3997,     24.2,  28.3030,  28.3031,2,  34.4712,2,  34.4717,2,    197.9,2,    198.0,2,     1.15,2,     0.00,2,     0.00,2,     0.00,2,   1944.3,2,   2265.4,2,   8.1085,2,    25.00,  -999.00,9,  -999.00,9,  28.3031,2,     1230
  49UF20180709,KS1806,  5448,  1,     34,  25268,2,20180729,1037, 24.0183, 136.9943, 3997,     24.5,  28.3056,  28.3051,2,  34.4718,2,  34.4719,2,    197.8,2,    197.8,2,     1.15,2,     0.00,2,     0.00,2,     0.00,2,   1942.0,2,   2265.2,2,   8.1078,2,    25.00,     0.04,2,     0.01,2,  28.3051,2,     1229
  49UF20180709,KS1806,  5448,  1,     33,  25267,2,20180729,1037, 24.0183, 136.9943, 3997,     49.0,  27.7710,  27.7796,2,  34.5920,2,-999.0000,9,    203.0,2,    202.8,2,     1.19,2,     0.00,2,     0.00,2,     0.00,2,   1950.5,2,   2273.3,2,   8.1044,2,    25.00,     0.05,2,     0.02,2,  27.7796,2,     1224
  49UF20180709,KS1806,  5448,  1,     32,  25266,2,20180729,1037, 24.0183, 136.9943, 3997,     76.0,  24.3831,  24.3916,2,  34.9335,2,-999.0000,9,    210.8,2,    210.7,2,     1.35,2,     0.00,2,     0.00,2,     0.01,2,   1989.6,2,   2295.3,2,   8.0721,2,    25.00,     0.10,2,     0.06,2,  24.3916,2,     1223
  49UF20180709,KS1806,  5448,  1,     31,  25265,2,20180729,1037, 24.0183, 136.9943, 3997,    100.9,  22.0307,  22.0330,2,  34.9832,2,-999.0000,9,    217.8,2,    216.4,2,     1.65,2,     0.00,2,     0.00,2,     0.02,2,   2002.6,2,   2298.4,2,   8.0451,2,    25.00,     0.28,2,     0.34,2,  22.0330,2,     1221
  49UF20180709,KS1806,  5448,  1,     30,  25264,2,20180729,1037, 24.0183, 136.9943, 3997,    126.1,  20.9867,  20.9864,2,  34.9630,2,-999.0000,9,    222.5,2,    221.4,2,     1.75,2,    -0.01,2,     0.01,2,     0.02,2,   2010.1,2,   2297.7,2,   8.0370,2,    25.00,     0.25,2,     0.36,2,  20.9864,2,     1220
  49UF20180709,KS1806,  5448,  1,     29,  25263,2,20180729,1037, 24.0183, 136.9943, 3997,    149.5,  19.7825,  19.7828,2,  34.9303,2,  34.9300,2,    209.1,2,    208.7,2,     2.21,2,     1.20,2,     0.07,2,     0.11,2,   2028.0,2,   2296.1,2,   8.0064,2,    25.00,     0.09,2,     0.31,2,  19.7828,2,     1218
  49UF20180709,KS1806,  5448,  1,     27,  25261,2,20180729,1037, 24.0183, 136.9943, 3997,    202.8,  18.6835,  18.6811,2,  34.8775,2,-999.0000,9,    202.6,2,    202.3,2,     3.10,2,     3.15,2,     0.01,2,     0.22,2,   2039.0,2,   2290.3,2,   7.9750,2,    25.00,     0.02,2,     0.02,2,  18.6811,2,     1216
  49UF20180709,KS1806,  5448,  1,     26,  25260,2,20180729,1037, 24.0183, 136.9943, 3997,    254.1,  17.7285,  17.7263,2,  34.8147,2,-999.0000,9,    202.2,2,    201.8,2,     4.05,2,     4.43,2,     0.01,2,     0.29,2,   2049.1,2,   2286.9,2,   7.9540,2,    25.00,  -999.00,9,  -999.00,9,  17.7263,2,     1213
  49UF20180709,KS1806,  5448,  1,     25,  25259,2,20180729,1037, 24.0183, 136.9943, 3997,    306.4,  16.5493,  16.5154,2,  34.7098,2,-999.0000,9,    197.4,2,    197.5,2,     6.21,2,     6.50,2,     0.00,2,     0.43,2,   2060.7,6,   2282.1,6,   7.9218,2,    25.00,  -999.00,9,  -999.00,9,  16.5154,2,     1211
  49UF20180709,KS1806,  5448,  1,     24,  25258,2,20180729,1037, 24.0183, 136.9943, 3997,    410.7,  14.1898,  14.1904,2,  34.4989,2,-999.0000,9,    188.6,2,    188.6,6,    11.86,6,    10.77,6,     0.00,6,     0.75,6,   2090.0,2,   2274.7,2,   7.8466,6,    25.00,  -999.00,9,  -999.00,9,  14.1904,2,     1207
  49UF20180709,KS1806,  5448,  1,     22,  24473,2,20180729,1037, 24.0183, 136.9943, 3997,    509.5,  10.6036,  10.6026,2,  34.2579,2,  34.2584,2,    165.5,2,    165.2,2,    27.96,2,    19.00,2,     0.00,2,     1.35,2,   2146.5,2,   2276.8,2,   7.7171,2,    25.00,  -999.00,9,  -999.00,9,  10.6026,2,     1203
  49UF20180709,KS1806,  5448,  1,     23,  25257,2,20180729,1037, 24.0183, 136.9943, 3997,    510.3,  10.6000,  10.5977,2,  34.2576,2,  34.2576,2,    165.4,2,    165.0,2,    27.96,2,    19.16,2,     0.00,2,     1.35,2,   2143.7,2,   2276.2,2,   7.7164,2,    25.00,  -999.00,9,  -999.00,9,  10.5977,2,     1203
  49UF20180709,KS1806,  5448,  1,     21,  25255,2,20180729,1037, 24.0183, 136.9943, 3997,    606.7,   7.9814,   7.9802,2,  34.1545,2,-999.0000,9,    124.4,2,    124.5,2,    47.07,2,    27.30,2,     0.00,2,     1.97,2,   2206.6,2,   2287.0,2,   7.5782,2,    25.00,  -999.00,9,  -999.00,9,   7.9802,2,     1200
  49UF20180709,KS1806,  5448,  1,     20,  24270,2,20180729,1037, 24.0183, 136.9943, 3997,    706.3,   6.3392,   6.3392,2,  34.1642,2,-999.0000,9,     91.0,2,     90.7,2,    67.52,2,    33.51,2,     0.00,2,     2.41,2,   2256.4,2,   2304.3,2,   7.4860,2,    25.00,  -999.00,9,  -999.00,9,   6.3392,2,     1157
  49UF20180709,KS1806,  5448,  1,     19,  25253,2,20180729,1037, 24.0183, 136.9943, 3997,    807.8,   5.1201,   5.1199,2,  34.2205,2,-999.0000,9,     69.8,2,     69.9,2,    88.62,2,    37.25,2,     0.00,2,     2.69,2,   2294.2,2,   2324.4,2,   7.4313,2,    25.00,  -999.00,9,  -999.00,9,   5.1199,2,     1154
  49UF20180709,KS1806,  5448,  1,     18,  25252,3,20180729,1037, 24.0183, 136.9943, 3997,    905.4,   4.4734,   4.4721,2,  34.2869,2,-999.0000,9,     59.9,2,     63.2,2,   100.80,2,    38.71,2,     0.00,2,     2.78,2,   2312.7,2,   2341.0,2,   7.4265,2,    25.00,  -999.00,9,  -999.00,9,   4.4721,2,     1150
  49UF20180709,KS1806,  5448,  1,     17,  25251,2,20180729,1037, 24.0183, 136.9943, 3997,   1008.9,   3.8597,   3.8586,2,  34.3596,2,  34.3593,2,     56.0,2,     55.8,2,   116.35,2,    40.25,2,     0.00,2,     2.88,2,   2336.1,2,   2357.9,2,   7.4055,2,    25.00,  -999.00,9,  -999.00,9,   3.8586,2,     1147
  49UF20180709,KS1806,  5448,  1,     15,  25249,2,20180729,1037, 24.0183, 136.9943, 3997,   1210.2,   3.2884,   3.2882,2,  34.4506,2,-999.0000,9,     62.7,2,     62.7,2,   128.65,2,    40.50,2,     0.00,2,     2.89,2,   2347.1,2,   2377.8,2,   7.4230,2,    25.00,  -999.00,9,  -999.00,9,   3.2882,2,     1142
  49UF20180709,KS1806,  5448,  1,     14,  25248,2,20180729,1037, 24.0183, 136.9943, 3997,   1412.9,   2.8657,   2.8655,2,  34.5084,2,  34.5095,2,     74.3,2,     74.2,2,   136.30,2,    40.15,2,     0.00,2,     2.85,2,   2350.8,2,   2387.5,2,   7.4453,2,    25.00,  -999.00,9,  -999.00,9,   2.8655,2,     1137
  49UF20180709,KS1806,  5448,  1,     13,  25247,2,20180729,1037, 24.0183, 136.9943, 3997,   1615.5,   2.5278,   2.5276,2,  34.5535,2,-999.0000,9,     88.6,2,     89.0,2,   140.11,2,    39.30,2,     0.00,2,     2.79,2,   2350.4,2,   2396.8,2,   7.4773,2,    25.00,  -999.00,9,  -999.00,9,   2.5276,2,     1133
  49UF20180709,KS1806,  5448,  1,     12,  25246,2,20180729,1037, 24.0183, 136.9943, 3997,   1819.1,   2.2467,   2.2469,2,  34.5891,2,  34.5874,2,    102.4,2,    102.2,2,   142.48,2,    38.65,2,     0.00,2,     2.73,2,   2347.6,2,   2403.2,2,   7.5030,2,    25.00,  -999.00,9,  -999.00,9,   2.2469,2,     1128
  49UF20180709,KS1806,  5448,  1,     11,  25245,2,20180729,1037, 24.0183, 136.9943, 3997,   2021.6,   2.0548,   2.0548,2,  34.6106,2,  34.6110,2,    111.8,2,    111.5,2,   143.65,2,    38.25,2,     0.00,2,     2.69,2,   2345.8,6,   2407.5,6,   7.5184,2,    25.00,  -999.00,9,  -999.00,9,   2.0548,2,     1123
  49UF20180709,KS1806,  5448,  1,     10,  25244,2,20180729,1037, 24.0183, 136.9943, 3997,   2275.1,   1.8984,   1.8984,2,  34.6301,2,  34.6301,2,    121.2,2,    121.0,2,   144.16,2,    37.68,2,     0.00,2,     2.64,2,   2338.2,2,   2410.5,2,   7.5349,6,    25.00,  -999.00,9,  -999.00,9,   1.8984,2,     1116
  49UF20180709,KS1806,  5448,  1,      9,  25243,2,20180729,1037, 24.0183, 136.9943, 3997,   2528.0,   1.7667,   1.7666,2,  34.6448,2,  34.6450,6,    129.5,2,    129.2,2,   144.59,2,    37.28,2,     0.00,2,     2.61,2,   2336.6,2,   2410.9,2,   7.5497,2,    25.00,  -999.00,9,  -999.00,9,   1.7666,2,     1111
  49UF20180709,KS1806,  5448,  1,      8,  25242,2,20180729,1037, 24.0183, 136.9943, 3997,   2784.2,   1.6887,   1.6887,2,  34.6547,2,  34.6552,2,    135.3,2,    135.3,2,   144.45,2,    36.88,2,     0.00,2,     2.58,2,   2337.2,2,   2412.2,2,   7.5571,2,    25.00,  -999.00,9,  -999.00,9,   1.6887,2,     1105
  49UF20180709,KS1806,  5448,  1,      7,  25241,2,20180729,1037, 24.0183, 136.9943, 3997,   3040.5,   1.6562,   1.6561,2,  34.6602,2,  34.6583,4,    138.9,2,    138.4,2,   143.89,2,    36.63,2,     0.00,2,     2.56,2,   2335.3,2,   2412.0,2,   7.5649,2,    25.00,  -999.00,9,  -999.00,9,   1.6561,2,     1059
  49UF20180709,KS1806,  5448,  1,      6,  25240,2,20180729,1037, 24.0183, 136.9943, 3997,   3298.1,   1.6150,   1.6148,2,  34.6670,2,  34.6653,4,    143.1,2,    142.9,2,   144.02,2,    36.38,2,     0.00,2,     2.54,2,   2331.5,2,   2412.7,2,   7.5729,2,    25.00,  -999.00,9,  -999.00,9,   1.6148,2,     1053
  49UF20180709,KS1806,  5448,  1,      5,  25239,4,20180729,1037, 24.0183, 136.9943, 3997,   3555.6,   1.5740,   1.5737,2,  34.6728,2,  34.1923,4,    147.9,2,     78.1,4,    77.13,4,    35.60,4,     0.00,4,     2.58,4,   2277.0,4,   2313.4,4,   7.4514,4,    25.00,  -999.00,9,  -999.00,9,   1.5737,2,     1047
  49UF20180709,KS1806,  5448,  1,      4,  25238,2,20180729,1037, 24.0183, 136.9943, 3997,   3806.6,   1.5458,   1.5456,2,  34.6778,2,  34.6777,2,    151.9,2,    152.1,2,   142.84,2,    35.82,2,     0.00,2,     2.49,2,   2324.1,2,   2413.1,2,   7.5849,2,    25.00,  -999.00,9,  -999.00,9,   1.5456,2,     1040
  49UF20180709,KS1806,  5448,  1,      3,  24271,2,20180729,1037, 24.0183, 136.9943, 3997,   3806.7,   1.5457,   1.5455,2,  34.6778,2,  34.6776,2,    151.9,2,    151.6,2,   142.66,2,    35.95,2,     0.00,2,     2.50,2,   2323.1,2,   2412.6,2,   7.5848,2,    25.00,  -999.00,9,  -999.00,9,   1.5455,2,     1040
  49UF20180709,KS1806,  5448,  1,      2,  25236,2,20180729,1037, 24.0183, 136.9943, 3997,   3907.3,   1.5336,   1.5333,2,  34.6800,2,  34.6798,6,    153.8,2,    153.7,2,   142.33,2,    35.78,2,     0.00,2,     2.49,2,   2325.3,2,   2413.5,2,   7.5878,2,    25.00,  -999.00,9,  -999.00,9,   1.5333,2,     1037
  49UF20180709,KS1806,  5449,  1,     99,     99,2,20180729,2037, 23.0153, 136.9953, 3120,      0.0,  28.3424,-999.0000,9,  34.4077,2,-999.0000,9,    196.6,2,    197.2,2,     1.09,2,     0.05,2,     0.00,2,     0.01,2,   -999.0,9,   -999.0,9,-999.0000,9,  -999.00,     0.06,2,     0.02,2,-999.0000,9,     2111
  49UF20180709,KS1806,  5449,  1,     33,  25267,2,20180729,2037, 23.0153, 136.9953, 3120,     11.1,  28.3050,  28.3100,2,  34.4101,2,-999.0000,9,    196.9,2,    197.8,2,     1.08,2,     0.00,2,     0.00,2,     0.00,2,   -999.0,9,   -999.0,9,-999.0000,9,  -999.00,     0.06,2,     0.02,2,  28.3100,2,     2140
  49UF20180709,KS1806,  5449,  1,     32,  25266,2,20180729,2037, 23.0153, 136.9953, 3120,     25.4,  27.8963,  27.8984,2,  34.4381,2,-999.0000,9,    199.7,2,    200.9,6,     1.11,6,     0.00,6,     0.00,6,     0.00,6,   -999.0,9,   -999.0,9,-999.0000,9,  -999.00,     0.06,2,     0.02,2,  27.8984,2,     2139
  49UF20180709,KS1806,  5449,  1,     30,  25264,2,20180729,2037, 23.0153, 136.9953, 3120,     50.0,  26.8462,  26.8568,2,  34.6827,2,-999.0000,9,    208.7,2,    209.8,2,     1.20,2,     0.00,2,     0.00,2,     0.01,2,   -999.0,9,   -999.0,9,-999.0000,9,  -999.00,     0.11,2,     0.06,2,  26.8568,2,     2135
  49UF20180709,KS1806,  5449,  1,     31,  25265,2,20180729,2037, 23.0153, 136.9953, 3120,     50.4,  26.8384,  26.8487,2,  34.6848,2,-999.0000,9,    209.0,2,    209.5,2,     1.20,2,     0.04,2,     0.00,2,     0.00,2,   -999.0,9,   -999.0,9,-999.0000,9,  -999.00,  -999.00,9,  -999.00,9,  26.8487,2,     2135
  49UF20180709,KS1806,  5449,  1,     29,  25263,2,20180729,2037, 23.0153, 136.9953, 3120,     75.6,  24.6231,  24.5968,2,  34.9403,2,-999.0000,9,    207.5,2,    209.2,2,     1.27,2,     0.00,2,     0.00,2,     0.01,2,   -999.0,9,   -999.0,9,-999.0000,9,  -999.00,     0.17,2,     0.11,2,  24.5968,2,     2133
  49UF20180709,KS1806,  5449,  1,     28,  25262,2,20180729,2037, 23.0153, 136.9953, 3120,    100.8,  22.8214,  22.8257,2,  35.0519,2,-999.0000,9,    192.6,2,    194.6,2,     1.64,2,     0.26,2,     0.13,2,     0.07,2,   -999.0,9,   -999.0,9,-999.0000,9,  -999.00,     0.18,2,     0.34,2,  22.8257,2,     2132
  49UF20180709,KS1806,  5449,  1,     24,  25258,2,20180729,2037, 23.0153, 136.9953, 3120,    127.2,  20.7712,  20.7693,2,  34.9471,2,-999.0000,9,    205.6,2,    206.5,2,     1.91,2,     0.74,2,     0.13,2,     0.09,2,   -999.0,9,   -999.0,9,-999.0000,9,  -999.00,     0.12,2,     0.25,2,  20.7693,2,     2131
  49UF20180709,KS1806,  5449,  1,     23,  25257,2,20180729,2037, 23.0153, 136.9953, 3120,    152.1,  20.1409,  20.1387,2,  34.9507,2,-999.0000,9,    198.0,2,    199.5,2,     2.30,2,     1.97,2,     0.04,2,     0.15,2,   -999.0,9,   -999.0,9,-999.0000,9,  -999.00,     0.06,2,     0.19,2,  20.1387,2,     2129
  49UF20180709,KS1806,  5449,  1,     22,  24473,2,20180729,2037, 23.0153, 136.9953, 3120,    202.6,  18.6961,  18.6975,2,  34.8993,2,-999.0000,9,    195.4,2,    195.7,2,     3.08,2,     3.48,2,     0.01,2,     0.25,2,   -999.0,9,   -999.0,9,-999.0000,9,  -999.00,     0.00,2,     0.02,2,  18.6975,2,     2127
  49UF20180709,KS1806,  5449,  1,     21,  25255,2,20180729,2037, 23.0153, 136.9953, 3120,    253.3,  17.5221,  17.5249,2,  34.8005,2,-999.0000,9,    199.3,2,    199.9,2,     3.94,2,     4.61,2,     0.00,2,     0.32,2,   -999.0,9,   -999.0,9,-999.0000,9,  -999.00,  -999.00,9,  -999.00,9,  17.5249,2,     2125
  49UF20180709,KS1806,  5449,  1,     20,  24270,3,20180729,2037, 23.0153, 136.9953, 3120,    302.7,  16.4101,  16.4107,2,  34.7021,2,-999.0000,9,    199.7,2,    200.1,2,     5.99,2,     6.51,2,     0.00,2,     0.43,2,   -999.0,9,   -999.0,9,-999.0000,9,  -999.00,  -999.00,9,  -999.00,9,  16.4107,2,     2123
  49UF20180709,KS1806,  5449,  1,     19,  25253,2,20180729,2037, 23.0153, 136.9953, 3120,    404.6,  14.0176,  14.0184,2,  34.4809,2,-999.0000,9,    186.0,2,    186.4,2,    12.16,2,    11.24,2,     0.00,2,     0.78,2,   -999.0,9,   -999.0,9,-999.0000,9,  -999.00,  -999.00,9,  -999.00,9,  14.0184,2,     2120
  49UF20180709,KS1806,  5449,  1,     15,  25249,2,20180729,2037, 23.0153, 136.9953, 3120,    504.2,  10.4537,  10.4544,2,  34.2405,2,-999.0000,9,    160.8,2,    162.4,2,    27.18,2,    19.69,2,     0.00,2,     1.40,2,   -999.0,9,   -999.0,9,-999.0000,9,  -999.00,  -999.00,9,  -999.00,9,  10.4544,2,     2117
  49UF20180709,KS1806,  5449,  1,     14,  25248,2,20180729,2037, 23.0153, 136.9953, 3120,    605.3,   7.7463,   7.7444,2,  34.1517,2,-999.0000,9,    118.1,2,    118.8,2,    49.09,2,    28.49,2,     0.00,2,     2.05,2,   -999.0,9,   -999.0,9,-999.0000,9,  -999.00,  -999.00,9,  -999.00,9,   7.7444,2,     2114
  49UF20180709,KS1806,  5449,  1,     13,  25247,2,20180729,2037, 23.0153, 136.9953, 3120,    707.1,   5.6982,   5.6948,2,  34.1503,2,-999.0000,9,     89.8,2,     90.5,2,    77.36,2,    34.65,2,     0.00,2,     2.49,2,   -999.0,9,   -999.0,9,-999.0000,9,  -999.00,  -999.00,9,  -999.00,9,   5.6948,2,     2111
  49UF20180709,KS1806,  5449,  1,     12,  25246,2,20180729,2037, 23.0153, 136.9953, 3120,    808.9,   4.6713,   4.6719,2,  34.2393,2,-999.0000,9,     64.8,2,     65.5,2,    98.02,2,    38.55,2,     0.00,2,     2.77,2,   -999.0,9,   -999.0,9,-999.0000,9,  -999.00,  -999.00,9,  -999.00,9,   4.6719,2,     2107
  49UF20180709,KS1806,  5449,  1,     11,  25245,2,20180729,2037, 23.0153, 136.9953, 3120,    909.1,   4.1533,   4.1540,2,  34.3100,2,-999.0000,9,     56.8,2,     57.1,2,   109.60,2,    39.87,2,     0.00,2,     2.86,2,   -999.0,9,   -999.0,9,-999.0000,9,  -999.00,  -999.00,9,  -999.00,9,   4.1540,2,     2104
  49UF20180709,KS1806,  5449,  1,     10,  25244,2,20180729,2037, 23.0153, 136.9953, 3120,   1009.5,   3.8013,   3.8014,2,  34.3743,2,-999.0000,9,     56.7,2,     57.1,6,   118.06,6,    40.61,6,     0.00,6,     2.90,6,   -999.0,9,   -999.0,9,-999.0000,9,  -999.00,  -999.00,9,  -999.00,9,   3.8014,2,     2102
  49UF20180709,KS1806,  5449,  1,      9,  25243,2,20180729,2037, 23.0153, 136.9953, 3120,   1212.7,   3.3992,   3.3991,2,  34.4788,2,-999.0000,9,     69.4,2,     69.5,2,   125.10,2,    40.15,2,     0.00,2,     2.87,2,   -999.0,9,   -999.0,9,-999.0000,9,  -999.00,  -999.00,9,  -999.00,9,   3.3991,2,     2057
  49UF20180709,KS1806,  5449,  1,      8,  25242,2,20180729,2037, 23.0153, 136.9953, 3120,   1416.6,   2.8647,   2.8646,2,  34.5262,2,-999.0000,9,     80.7,2,     81.3,2,   135.26,2,    39.64,2,     0.00,2,     2.83,2,   -999.0,9,   -999.0,9,-999.0000,9,  -999.00,  -999.00,9,  -999.00,9,   2.8646,2,     2052
  49UF20180709,KS1806,  5449,  1,      7,  25241,2,20180729,2037, 23.0153, 136.9953, 3120,   1617.0,   2.5218,   2.5218,2,  34.5651,2,-999.0000,9,     94.5,2,     94.8,2,   139.66,2,    39.12,2,     0.00,2,     2.77,2,   -999.0,9,   -999.0,9,-999.0000,9,  -999.00,  -999.00,9,  -999.00,9,   2.5218,2,     2047
  49UF20180709,KS1806,  5449,  1,      6,  25240,2,20180729,2037, 23.0153, 136.9953, 3120,   1818.9,   2.2727,   2.2725,2,  34.5928,2,-999.0000,9,    104.8,2,    105.1,2,   141.75,2,    38.44,2,     0.00,2,     2.72,2,   -999.0,9,   -999.0,9,-999.0000,9,  -999.00,  -999.00,9,  -999.00,9,   2.2725,2,     2043
  49UF20180709,KS1806,  5449,  1,      5,  25239,2,20180729,2037, 23.0153, 136.9953, 3120,   1819.0,   2.2720,   2.2719,2,  34.5928,2,-999.0000,9,    104.8,2,    105.0,2,   141.76,2,    38.65,2,     0.00,2,     2.72,2,   -999.0,9,   -999.0,9,-999.0000,9,  -999.00,  -999.00,9,  -999.00,9,   2.2719,2,     2042
  49UF20180709,KS1806,  5449,  1,      4,  25238,2,20180729,2037, 23.0153, 136.9953, 3120,   2021.2,   2.1394,   2.1396,2,  34.6075,2,-999.0000,9,    110.6,2,    110.8,2,   142.94,2,    38.50,2,     0.00,2,     2.70,2,   -999.0,9,   -999.0,9,-999.0000,9,  -999.00,  -999.00,9,  -999.00,9,   2.1396,2,     2038