BOTTLE,20200311PRINUNIVRMK
EXPOCODE,SECT_ID,STNNBR,CASTNO,SAMPNO,BTLNBR,BTLNBR_FLAG_W,DATE,TIME,LATITUDE,LONGITUDE,DEPTH,CTDPRS,CTDTMP,SBE35,SBE35_FLAG_W,CTDSAL,CTDSAL_FLAG_W,SALNTY,SALNTY_FLAG_W,CTDOXY,CTDOXY_FLAG_W,OXYGEN,OXYGEN_FLAG_W,SILCAT,SILCAT_FLAG_W,NITRAT,NITRAT_FLAG_W,NITRIT,NITRIT_FLAG_W,PHSPHT,PHSPHT_FLAG_W,TCARBN,TCARBN_FLAG_W,ALKALI,ALKALI_FLAG_W,PH_TOT,PH_TOT_FLAG_W,PH_TMP,CHLORA,CHLORA_FLAG_W,PPHYTN,PPHYTN_FLAG_W,SBE35,SBE35_FLAG_W,BTL_TIME
,,,,,,,,,,,METERS,DBAR,ITS-90,,,PSS-78,,PSS-78,,UMOL/KG,,UMOL/KG,,UMOL/KG,,UMOL/KG,,UMOL/KG,,UMOL/KG,,UMOL/KG,,UMOL/KG,,,,DEG C,UG/KG,,UG/KG,,,,
  49UF20180709,KS1806,  5459,  1,     99,     99,2,20180803,0631, 13.0055, 137.0227, 4714,      0.0,  28.9260,-999.0000,9,  33.9114,2,-999.0000,9,    196.7,2,    196.8,2,     1.19,2,     0.00,2,     0.00,2,     0.05,2,   -999.0,9,   -999.0,9,-999.0000,9,  -999.00,     0.09,2,     0.04,2,-999.0000,9,      817
  49UF20180709,KS1806,  5459,  1,     36,  25270,2,20180803,0631, 13.0055, 137.0227, 4714,      9.8,  28.9382,  28.9390,2,  33.9270,2,  33.9256,2,    196.7,2,    196.5,2,     1.18,2,     0.02,2,     0.00,2,     0.03,2,   -999.0,9,   -999.0,9,-999.0000,9,  -999.00,     0.09,2,     0.04,2,  28.9390,2,      836
  49UF20180709,KS1806,  5459,  1,     35,  25269,2,20180803,0631, 13.0055, 137.0227, 4714,     26.5,  28.9235,  28.9235,2,  33.9236,2,-999.0000,9,    196.8,2,    196.4,2,     1.16,2,     0.02,2,     0.00,2,     0.03,2,   -999.0,9,   -999.0,9,-999.0000,9,  -999.00,     0.08,2,     0.04,2,  28.9235,2,      835
  49UF20180709,KS1806,  5459,  1,     34,  25268,2,20180803,0631, 13.0055, 137.0227, 4714,     53.1,  29.0173,  29.0177,2,  34.0019,2,-999.0000,9,    196.8,2,    196.5,2,     1.13,2,     0.01,2,     0.00,2,     0.03,2,   -999.0,9,   -999.0,9,-999.0000,9,  -999.00,     0.10,2,     0.05,2,  29.0177,2,      834
  49UF20180709,KS1806,  5459,  1,     33,  25267,2,20180803,0631, 13.0055, 137.0227, 4714,     76.1,  28.5016,  28.5032,2,  34.7384,2,-999.0000,9,    207.9,2,    206.9,2,     1.08,2,     0.02,2,     0.01,2,     0.04,2,   -999.0,9,   -999.0,9,-999.0000,9,  -999.00,     0.12,2,     0.06,2,  28.5032,2,      832
  49UF20180709,KS1806,  5459,  1,     32,  25266,2,20180803,0631, 13.0055, 137.0227, 4714,     98.9,  27.5324,  27.5329,2,  34.8327,2,  34.8306,2,    204.1,2,    203.3,6,     1.11,6,     0.03,6,     0.00,6,     0.06,6,   -999.0,9,   -999.0,9,-999.0000,9,  -999.00,     0.15,2,     0.09,2,  27.5329,2,      828
  49UF20180709,KS1806,  5459,  1,     31,  25265,2,20180803,0631, 13.0055, 137.0227, 4714,    124.5,  25.2009,  25.2022,2,  34.9897,2,-999.0000,9,    192.3,2,    191.8,2,     1.42,2,    -0.03,2,     0.03,2,     0.11,2,   -999.0,9,   -999.0,9,-999.0000,9,  -999.00,     0.18,2,     0.35,2,  25.2022,2,      827
  49UF20180709,KS1806,  5459,  1,     30,  25264,2,20180803,0631, 13.0055, 137.0227, 4714,    150.6,  22.5757,  22.5725,2,  34.9640,2,-999.0000,9,    177.1,2,    177.1,2,     2.66,2,     1.18,2,     0.25,2,     0.28,2,   -999.0,9,   -999.0,9,-999.0000,9,  -999.00,     0.11,2,     0.29,2,  22.5725,2,      825
  49UF20180709,KS1806,  5459,  1,     29,  25263,2,20180803,0631, 13.0055, 137.0227, 4714,    200.0,  18.5998,  18.5960,2,  34.7924,2,-999.0000,9,    171.3,2,    171.9,2,     5.59,2,     6.17,2,     0.02,2,     0.53,2,   -999.0,9,   -999.0,9,-999.0000,9,  -999.00,     0.04,2,     0.15,2,  18.5960,2,      824
  49UF20180709,KS1806,  5459,  1,     28,  25262,2,20180803,0631, 13.0055, 137.0227, 4714,    251.2,  14.2075,  14.2236,2,  34.4932,2,-999.0000,9,    172.4,2,    171.4,2,    12.16,2,    12.06,2,     0.00,2,     0.89,2,   -999.0,9,   -999.0,9,-999.0000,9,  -999.00,  -999.00,9,  -999.00,9,  14.2236,2,      822
  49UF20180709,KS1806,  5459,  1,     27,  25261,2,20180803,0631, 13.0055, 137.0227, 4714,    301.1,  11.7052,  11.7044,2,  34.3338,2,  34.3337,2,    148.9,2,    150.4,2,    21.20,2,    18.35,2,     0.00,2,     1.34,2,   -999.0,9,   -999.0,9,-999.0000,9,  -999.00,  -999.00,9,  -999.00,9,  11.7044,2,      820
  49UF20180709,KS1806,  5459,  1,     26,  25260,2,20180803,0631, 13.0055, 137.0227, 4714,    351.2,   9.7344,   9.7321,2,  34.3270,2,-999.0000,9,    102.2,2,    101.6,2,    34.42,2,    26.54,2,     0.01,2,     1.94,2,   -999.0,9,   -999.0,9,-999.0000,9,  -999.00,  -999.00,9,  -999.00,9,   9.7321,2,      818
  49UF20180709,KS1806,  5459,  1,     25,  25259,2,20180803,0631, 13.0055, 137.0227, 4714,    401.8,   8.7262,   8.7274,2,  34.3471,2,-999.0000,9,     85.4,2,     85.0,2,    43.01,2,    30.12,2,     0.00,2,     2.20,2,   -999.0,9,   -999.0,9,-999.0000,9,  -999.00,  -999.00,9,  -999.00,9,   8.7274,2,      816
  49UF20180709,KS1806,  5459,  1,     24,  25258,2,20180803,0631, 13.0055, 137.0227, 4714,    452.2,   7.7383,   7.7383,2,  34.3635,2,-999.0000,9,     73.9,2,     72.0,3,    57.92,3,    34.53,3,     0.00,3,     2.49,3,   -999.0,9,   -999.0,9,-999.0000,9,  -999.00,  -999.00,9,  -999.00,9,   7.7383,2,      814
  49UF20180709,KS1806,  5459,  1,     23,  25257,2,20180803,0631, 13.0055, 137.0227, 4714,    504.5,   7.1392,   7.1395,2,  34.4027,2,-999.0000,9,     71.9,2,     71.7,2,    57.85,2,    34.64,2,     0.00,2,     2.49,2,   -999.0,9,   -999.0,9,-999.0000,9,  -999.00,  -999.00,9,  -999.00,9,   7.1395,2,      812
  49UF20180709,KS1806,  5459,  1,     22,  24473,3,20180803,0631, 13.0055, 137.0227, 4714,    607.0,   6.1120,   6.1099,2,  34.4363,2,-999.0000,9,     81.6,2,     81.8,2,    69.41,2,    35.51,2,     0.00,2,     2.56,2,   -999.0,9,   -999.0,9,-999.0000,9,  -999.00,  -999.00,9,  -999.00,9,   6.1099,2,      809
  49UF20180709,KS1806,  5459,  1,     21,  25255,2,20180803,0631, 13.0055, 137.0227, 4714,    704.9,   5.6038,   5.6032,2,  34.4825,2,-999.0000,9,     84.6,2,     84.7,2,    74.97,2,    36.68,2,     0.00,2,     2.62,2,   -999.0,9,   -999.0,9,-999.0000,9,  -999.00,  -999.00,9,  -999.00,9,   5.6032,2,      806
  49UF20180709,KS1806,  5459,  1,     20,  24270,2,20180803,0631, 13.0055, 137.0227, 4714,    805.9,   5.1233,   5.1196,2,  34.5107,2,  34.5099,2,     86.4,2,     86.6,2,    82.68,2,    37.26,2,     0.00,2,     2.66,2,   -999.0,9,   -999.0,9,-999.0000,9,  -999.00,  -999.00,9,  -999.00,9,   5.1196,2,      804
  49UF20180709,KS1806,  5459,  1,     19,  25253,2,20180803,0631, 13.0055, 137.0227, 4714,    906.4,   4.6055,   4.6067,2,  34.5328,2,-999.0000,9,     88.2,2,     88.4,2,    92.26,2,    37.71,2,     0.00,2,     2.70,2,   -999.0,9,   -999.0,9,-999.0000,9,  -999.00,  -999.00,9,  -999.00,9,   4.6067,2,      801
  49UF20180709,KS1806,  5459,  1,     18,  25252,2,20180803,0631, 13.0055, 137.0227, 4714,   1011.0,   4.2183,   4.2191,2,  34.5414,2,  34.5395,2,     87.2,2,     87.6,2,   100.98,2,    38.37,2,     0.00,2,     2.73,2,   -999.0,9,   -999.0,9,-999.0000,9,  -999.00,  -999.00,9,  -999.00,9,   4.2191,2,      758
  49UF20180709,KS1806,  5459,  1,     17,  25251,2,20180803,0631, 13.0055, 137.0227, 4714,   1211.7,   3.6034,   3.6042,2,  34.5626,2,-999.0000,9,     90.1,2,     90.3,2,   113.62,2,    38.61,2,     0.00,2,     2.76,2,   -999.0,9,   -999.0,9,-999.0000,9,  -999.00,  -999.00,9,  -999.00,9,   3.6042,2,      753
  49UF20180709,KS1806,  5459,  1,     16,  25250,2,20180803,0631, 13.0055, 137.0227, 4714,   1412.7,   3.0898,   3.0886,2,  34.5802,2,  34.5805,2,     95.0,2,     95.3,6,   124.61,6,    38.78,6,     0.00,6,     2.75,6,   -999.0,9,   -999.0,9,-999.0000,9,  -999.00,  -999.00,9,  -999.00,9,   3.0886,2,      748
  49UF20180709,KS1806,  5459,  1,     15,  25249,2,20180803,0631, 13.0055, 137.0227, 4714,   1615.3,   2.6755,   2.6756,2,  34.5977,2,-999.0000,9,    101.5,2,    102.0,2,   132.46,2,    38.68,2,     0.00,2,     2.73,2,   -999.0,9,   -999.0,9,-999.0000,9,  -999.00,  -999.00,9,  -999.00,9,   2.6756,2,      744
  49UF20180709,KS1806,  5459,  1,     14,  25248,2,20180803,0631, 13.0055, 137.0227, 4714,   1818.2,   2.3969,   2.3968,2,  34.6125,2,-999.0000,9,    106.8,2,    107.0,2,   137.62,2,    38.27,2,     0.00,2,     2.71,2,   -999.0,9,   -999.0,9,-999.0000,9,  -999.00,  -999.00,9,  -999.00,9,   2.3968,2,      739
  49UF20180709,KS1806,  5459,  1,     13,  25247,2,20180803,0631, 13.0055, 137.0227, 4714,   2022.3,   2.1480,   2.1480,2,  34.6298,2,  34.6245,4,    113.1,2,    113.1,2,   141.18,2,    38.42,2,     0.00,2,     2.69,2,   -999.0,9,   -999.0,9,-999.0000,9,  -999.00,  -999.00,9,  -999.00,9,   2.1480,2,      734
  49UF20180709,KS1806,  5459,  1,     11,  25245,2,20180803,0631, 13.0055, 137.0227, 4714,   2274.6,   1.9651,   1.9650,2,  34.6414,2,  34.6407,2,    119.5,2,    119.8,2,   144.81,2,    37.84,2,     0.00,2,     2.66,2,   -999.0,9,   -999.0,9,-999.0000,9,  -999.00,  -999.00,9,  -999.00,9,   1.9650,2,      728
  49UF20180709,KS1806,  5459,  1,     12,  25246,2,20180803,0631, 13.0055, 137.0227, 4714,   2276.7,   1.9627,   1.9623,2,  34.6416,2,  34.6410,2,    119.6,2,    119.8,2,   144.88,2,    37.84,2,     0.00,2,     2.66,2,   -999.0,9,   -999.0,9,-999.0000,9,  -999.00,  -999.00,9,  -999.00,9,   1.9623,2,      729
  49UF20180709,KS1806,  5459,  1,     10,  25244,3,20180803,0631, 13.0055, 137.0227, 4714,   2531.6,   1.8090,   1.8090,2,  34.6523,2,  34.6513,2,    125.8,2,    125.6,6,   146.52,6,    37.41,6,     0.00,6,     2.62,6,   -999.0,9,   -999.0,9,-999.0000,9,  -999.00,  -999.00,9,  -999.00,9,   1.8090,2,      723
  49UF20180709,KS1806,  5459,  1,      9,  25243,2,20180803,0631, 13.0055, 137.0227, 4714,   2784.4,   1.7181,   1.7182,2,  34.6598,2,  34.6600,6,    131.3,2,    131.7,2,   147.59,2,    37.13,2,     0.00,2,     2.60,2,   -999.0,9,   -999.0,9,-999.0000,9,  -999.00,  -999.00,9,  -999.00,9,   1.7182,2,      717
  49UF20180709,KS1806,  5459,  1,      8,  25242,2,20180803,0631, 13.0055, 137.0227, 4714,   3040.2,   1.6464,   1.6466,2,  34.6663,2,  34.6558,4,    137.1,2,    137.7,2,   147.17,2,    36.97,2,     0.00,2,     2.57,2,   -999.0,9,   -999.0,9,-999.0000,9,  -999.00,  -999.00,9,  -999.00,9,   1.6466,2,      711
  49UF20180709,KS1806,  5459,  1,      7,  25241,2,20180803,0631, 13.0055, 137.0227, 4714,   3294.8,   1.5933,   1.5934,2,  34.6718,2,  34.6720,2,    142.8,2,    143.0,2,   146.39,2,    36.64,2,     0.00,2,     2.54,2,   -999.0,9,   -999.0,9,-999.0000,9,  -999.00,  -999.00,9,  -999.00,9,   1.5934,2,      706
  49UF20180709,KS1806,  5459,  1,      6,  25240,2,20180803,0631, 13.0055, 137.0227, 4714,   3550.2,   1.5498,   1.5498,2,  34.6767,2,  34.6767,2,    148.6,2,    149.2,2,   144.47,2,    36.45,2,     0.00,2,     2.51,2,   -999.0,9,   -999.0,9,-999.0000,9,  -999.00,  -999.00,9,  -999.00,9,   1.5498,2,      701
  49UF20180709,KS1806,  5459,  1,      5,  25239,2,20180803,0631, 13.0055, 137.0227, 4714,   3805.1,   1.5281,   1.5281,2,  34.6802,2,  34.6806,6,    153.1,2,    153.5,2,   142.81,2,    35.78,2,     0.00,2,     2.49,2,   -999.0,9,   -999.0,9,-999.0000,9,  -999.00,  -999.00,9,  -999.00,9,   1.5281,2,      655
  49UF20180709,KS1806,  5459,  1,      4,  25238,2,20180803,0631, 13.0055, 137.0227, 4714,   4060.7,   1.5093,   1.5093,2,  34.6837,2,  34.6841,2,    157.3,2,    157.9,2,   141.57,2,    35.54,2,     0.00,2,     2.47,2,   -999.0,9,   -999.0,9,-999.0000,9,  -999.00,  -999.00,9,  -999.00,9,   1.5093,2,      649
  49UF20180709,KS1806,  5459,  1,      3,  24271,2,20180803,0631, 13.0055, 137.0227, 4714,   4319.1,   1.5108,   1.5111,2,  34.6857,2,  34.6857,2,    159.8,2,    159.8,2,   140.92,2,    35.46,2,     0.00,2,     2.46,2,   -999.0,9,   -999.0,9,-999.0000,9,  -999.00,  -999.00,9,  -999.00,9,   1.5111,2,      643
  49UF20180709,KS1806,  5459,  1,      2,  25236,2,20180803,0631, 13.0055, 137.0227, 4714,   4574.3,   1.5296,   1.5296,2,  34.6866,2,  34.6864,2,    160.9,2,    161.1,2,   140.30,2,    35.35,2,     0.00,2,     2.44,2,   -999.0,9,   -999.0,9,-999.0000,9,  -999.00,  -999.00,9,  -999.00,9,   1.5296,2,      638
  49UF20180709,KS1806,  5459,  1,      1,  24272,2,20180803,0631, 13.0055, 137.0227, 4714,   4833.4,   1.5591,   1.5591,2,  34.6868,2,  34.6867,2,    161.3,2,    161.3,2,   140.45,2,    35.40,2,     0.00,2,     2.45,2,   -999.0,9,   -999.0,9,-999.0000,9,  -999.00,  -999.00,9,  -999.00,9,   1.5591,2,      632