BOTTLE,20200311PRINUNIVRMK
EXPOCODE,SECT_ID,STNNBR,CASTNO,SAMPNO,BTLNBR,BTLNBR_FLAG_W,DATE,TIME,LATITUDE,LONGITUDE,DEPTH,CTDPRS,CTDTMP,SBE35,SBE35_FLAG_W,CTDSAL,CTDSAL_FLAG_W,SALNTY,SALNTY_FLAG_W,CTDOXY,CTDOXY_FLAG_W,OXYGEN,OXYGEN_FLAG_W,SILCAT,SILCAT_FLAG_W,NITRAT,NITRAT_FLAG_W,NITRIT,NITRIT_FLAG_W,PHSPHT,PHSPHT_FLAG_W,TCARBN,TCARBN_FLAG_W,ALKALI,ALKALI_FLAG_W,PH_TOT,PH_TOT_FLAG_W,PH_TMP,CHLORA,CHLORA_FLAG_W,PPHYTN,PPHYTN_FLAG_W,SBE35,SBE35_FLAG_W,BTL_TIME
,,,,,,,,,,,METERS,DBAR,ITS-90,,,PSS-78,,PSS-78,,UMOL/KG,,UMOL/KG,,UMOL/KG,,UMOL/KG,,UMOL/KG,,UMOL/KG,,UMOL/KG,,UMOL/KG,,,,DEG C,UG/KG,,UG/KG,,,,
  49UF20180518,KS1805,  5393,  1,     99,     99,2,20180602,0626, 25.4960, 128.7565, 7202,      0.0,  27.5912,-999.0000,9,  34.6569,2,-999.0000,9,    201.6,2,    202.0,2,     1.21,2,     0.00,2,     0.00,2,     0.02,2,   -999.0,9,   -999.0,9,-999.0000,9,  -999.00,     0.09,2,     0.03,2,-999.0000,9,      830
  49UF20180518,KS1805,  5393,  1,     36,  25270,2,20180602,0626, 25.4960, 128.7565, 7202,     11.7,  27.5901,  27.5890,2,  34.6554,2,  34.6564,2,    201.6,2,    201.5,2,     1.14,2,     0.00,2,     0.00,2,     0.00,2,   -999.0,9,   -999.0,9,-999.0000,9,  -999.00,     0.08,2,     0.03,2,  27.5890,2,      858
  49UF20180518,KS1805,  5393,  1,     35,  25269,2,20180602,0626, 25.4960, 128.7565, 7202,     27.1,  25.7971,  25.8062,2,  34.7737,2,-999.0000,9,    213.2,2,    212.8,2,     1.15,2,     0.00,2,     0.00,2,     0.00,2,   -999.0,9,   -999.0,9,-999.0000,9,  -999.00,     0.09,2,     0.03,2,  25.8062,2,      856
  49UF20180518,KS1805,  5393,  1,     34,  25268,2,20180602,0626, 25.4960, 128.7565, 7202,     52.0,  23.6653,  23.6853,2,  34.9263,2,  34.9155,4,    222.0,2,    221.3,2,     1.29,2,     0.00,2,     0.00,2,     0.00,2,   -999.0,9,   -999.0,9,-999.0000,9,  -999.00,     0.14,2,     0.05,2,  23.6853,2,      852
  49UF20180518,KS1805,  5393,  1,     33,  25267,2,20180602,0626, 25.4960, 128.7565, 7202,     75.9,  21.9901,  21.9906,2,  34.9528,2,-999.0000,9,    217.2,2,    217.4,2,     1.47,2,     0.00,2,     0.00,2,     0.01,2,   -999.0,9,   -999.0,9,-999.0000,9,  -999.00,     0.26,2,     0.16,2,  21.9906,2,      851
  49UF20180518,KS1805,  5393,  1,     32,  25266,2,20180602,0626, 25.4960, 128.7565, 7202,    102.3,  21.0428,  21.0427,2,  34.9502,2,-999.0000,9,    210.4,2,    209.9,2,     1.75,2,    -0.02,2,     0.02,2,     0.04,2,   -999.0,9,   -999.0,9,-999.0000,9,  -999.00,     0.24,2,     0.36,2,  21.0427,2,      849
  49UF20180518,KS1805,  5393,  1,     31,  25265,2,20180602,0626, 25.4960, 128.7565, 7202,    128.1,  20.4708,  20.4709,2,  34.9488,2,-999.0000,9,    205.4,2,    205.2,2,     2.01,2,     1.01,2,     0.13,2,     0.10,2,   -999.0,9,   -999.0,9,-999.0000,9,  -999.00,     0.18,2,     0.40,2,  20.4709,2,      848
  49UF20180518,KS1805,  5393,  1,     30,  25264,2,20180602,0626, 25.4960, 128.7565, 7202,    153.0,  19.8349,  19.8431,2,  34.9346,2,  34.9373,2,    198.6,2,    198.4,2,     2.46,2,     2.38,2,     0.02,2,     0.18,2,   -999.0,9,   -999.0,9,-999.0000,9,  -999.00,     0.07,2,     0.21,2,  19.8431,2,      846
  49UF20180518,KS1805,  5393,  1,     29,  25263,2,20180602,0626, 25.4960, 128.7565, 7202,    205.7,  18.5849,  18.5862,2,  34.8719,2,-999.0000,9,    194.6,2,    194.4,2,     3.36,2,     3.87,2,     0.01,2,     0.27,2,   -999.0,9,   -999.0,9,-999.0000,9,  -999.00,     0.01,2,     0.02,2,  18.5862,2,      844
  49UF20180518,KS1805,  5393,  1,     28,  25262,2,20180602,0626, 25.4960, 128.7565, 7202,    251.7,  17.6660,  17.6683,2,  34.8006,2,  34.8005,2,    196.3,2,    196.2,2,     4.24,2,     4.90,2,     0.00,2,     0.34,2,   -999.0,9,   -999.0,9,-999.0000,9,  -999.00,  -999.00,9,  -999.00,9,  17.6683,2,      842
  49UF20180518,KS1805,  5393,  1,     27,  25261,2,20180602,0626, 25.4960, 128.7565, 7202,    303.5,  16.5430,  16.5438,2,  34.6999,2,-999.0000,9,    194.5,2,    194.8,2,     6.38,2,     6.82,2,     0.01,2,     0.46,2,   -999.0,9,   -999.0,9,-999.0000,9,  -999.00,  -999.00,9,  -999.00,9,  16.5438,2,      840
  49UF20180518,KS1805,  5393,  1,     26,  25260,2,20180602,0626, 25.4960, 128.7565, 7202,    403.8,  14.2264,  14.2276,2,  34.5079,2,-999.0000,9,    182.7,2,    182.6,2,    13.26,2,    11.49,2,     0.01,2,     0.79,2,   -999.0,9,   -999.0,9,-999.0000,9,  -999.00,  -999.00,9,  -999.00,9,  14.2276,2,      837
  49UF20180518,KS1805,  5393,  1,     25,  25259,2,20180602,0626, 25.4960, 128.7565, 7202,    504.8,  11.3596,  11.3595,2,  34.3190,2,-999.0000,9,    165.5,2,    165.5,2,    25.86,2,    17.81,2,     0.00,2,     1.26,2,   -999.0,9,   -999.0,9,-999.0000,9,  -999.00,  -999.00,9,  -999.00,9,  11.3595,2,      833
  49UF20180518,KS1805,  5393,  1,     24,  25258,2,20180602,0626, 25.4960, 128.7565, 7202,    607.1,   8.5022,   8.5135,2,  34.1886,2,  34.1891,2,    136.8,2,    136.6,6,    45.67,6,    25.34,6,     0.00,6,     1.82,6,   -999.0,9,   -999.0,9,-999.0000,9,  -999.00,  -999.00,9,  -999.00,9,   8.5135,2,      830
  49UF20180518,KS1805,  5393,  1,     23,  25257,2,20180602,0626, 25.4960, 128.7565, 7202,    705.7,   6.3537,   6.3540,2,  34.1601,2,-999.0000,9,    102.3,2,    102.3,2,    69.95,2,    32.27,2,     0.00,2,     2.33,2,   -999.0,9,   -999.0,9,-999.0000,9,  -999.00,  -999.00,9,  -999.00,9,   6.3540,2,      827
  49UF20180518,KS1805,  5393,  1,     22,  24473,2,20180602,0626, 25.4960, 128.7565, 7202,    809.2,   5.2047,   5.2033,2,  34.2069,2,  34.2069,2,     78.2,2,     78.6,2,    88.41,2,    36.35,2,     0.00,2,     2.63,2,   -999.0,9,   -999.0,9,-999.0000,9,  -999.00,  -999.00,9,  -999.00,9,   5.2033,2,      824
  49UF20180518,KS1805,  5393,  1,     21,  25255,2,20180602,0626, 25.4960, 128.7565, 7202,    910.0,   4.5207,   4.5212,2,  34.2732,2,-999.0000,9,     64.6,2,     64.8,2,   102.52,2,    38.60,2,     0.00,2,     2.78,2,   -999.0,9,   -999.0,9,-999.0000,9,  -999.00,  -999.00,9,  -999.00,9,   4.5212,2,      821
  49UF20180518,KS1805,  5393,  1,     20,  24270,2,20180602,0626, 25.4960, 128.7565, 7202,   1010.8,   3.9082,   3.9060,2,  34.3522,2,  34.3514,2,     58.7,2,     58.8,2,   116.14,2,    39.93,2,     0.00,2,     2.87,2,   -999.0,9,   -999.0,9,-999.0000,9,  -999.00,  -999.00,9,  -999.00,9,   3.9060,2,      818
  49UF20180518,KS1805,  5393,  1,     19,  25253,2,20180602,0626, 25.4960, 128.7565, 7202,   1213.1,   3.2082,   3.2084,2,  34.4479,2,-999.0000,9,     64.0,2,     64.2,2,   131.00,2,    40.57,2,     0.00,2,     2.89,2,   -999.0,9,   -999.0,9,-999.0000,9,  -999.00,  -999.00,9,  -999.00,9,   3.2084,2,      813
  49UF20180518,KS1805,  5393,  1,     18,  25252,2,20180602,0626, 25.4960, 128.7565, 7202,   1415.4,   2.7591,   2.7594,2,  34.5067,2,  34.5068,2,     75.0,2,     75.1,2,   138.57,2,    40.18,2,     0.00,2,     2.86,2,   -999.0,9,   -999.0,9,-999.0000,9,  -999.00,  -999.00,9,  -999.00,9,   2.7594,2,      808
  49UF20180518,KS1805,  5393,  1,     17,  25251,2,20180602,0626, 25.4960, 128.7565, 7202,   1617.4,   2.4186,   2.4186,2,  34.5503,2,-999.0000,9,     87.3,2,     87.3,2,   143.04,2,    39.77,2,     0.00,2,     2.81,2,   -999.0,9,   -999.0,9,-999.0000,9,  -999.00,  -999.00,9,  -999.00,9,   2.4186,2,      803
  49UF20180518,KS1805,  5393,  1,     16,  25250,2,20180602,0626, 25.4960, 128.7565, 7202,   1821.0,   2.2111,   2.2110,2,  34.5895,2,  34.5890,2,    102.9,2,    103.1,6,   142.87,6,    38.65,6,     0.00,6,     2.74,6,   -999.0,9,   -999.0,9,-999.0000,9,  -999.00,  -999.00,9,  -999.00,9,   2.2110,2,      758
  49UF20180518,KS1805,  5393,  1,     15,  25249,2,20180602,0626, 25.4960, 128.7565, 7202,   2026.0,   2.0535,   2.0541,2,  34.6116,2,-999.0000,9,    112.1,2,    112.2,2,   143.71,2,    38.29,2,     0.00,2,     2.69,2,   -999.0,9,   -999.0,9,-999.0000,9,  -999.00,  -999.00,9,  -999.00,9,   2.0541,2,      753
  49UF20180518,KS1805,  5393,  1,     14,  25248,2,20180602,0626, 25.4960, 128.7565, 7202,   2278.4,   1.8805,   1.8808,2,  34.6341,2,-999.0000,9,    122.7,2,    123.0,2,   144.14,2,    37.66,2,     0.00,2,     2.64,2,   -999.0,9,   -999.0,9,-999.0000,9,  -999.00,  -999.00,9,  -999.00,9,   1.8808,2,      748
  49UF20180518,KS1805,  5393,  1,     13,  25247,2,20180602,0626, 25.4960, 128.7565, 7202,   2532.9,   1.7907,   1.7911,2,  34.6463,2,  34.6454,2,    129.0,2,    129.1,2,   144.12,2,    37.36,2,     0.00,2,     2.61,2,   -999.0,9,   -999.0,9,-999.0000,9,  -999.00,  -999.00,9,  -999.00,9,   1.7911,2,      742
  49UF20180518,KS1805,  5393,  1,     12,  25246,2,20180602,0626, 25.4960, 128.7565, 7202,   2788.0,   1.6924,   1.6927,2,  34.6559,2,-999.0000,9,    135.3,2,    135.5,2,   144.08,2,    36.98,2,     0.00,2,     2.58,2,   -999.0,9,   -999.0,9,-999.0000,9,  -999.00,  -999.00,9,  -999.00,9,   1.6927,2,      737
  49UF20180518,KS1805,  5393,  1,     11,  25245,2,20180602,0626, 25.4960, 128.7565, 7202,   3041.8,   1.6271,   1.6272,2,  34.6640,2,-999.0000,9,    140.5,2,    140.6,2,   144.20,2,    36.65,2,     0.00,2,     2.56,2,   -999.0,9,   -999.0,9,-999.0000,9,  -999.00,  -999.00,9,  -999.00,9,   1.6272,2,      731
  49UF20180518,KS1805,  5393,  1,     10,  25244,2,20180602,0626, 25.4960, 128.7565, 7202,   3299.1,   1.5978,   1.5980,2,  34.6693,2,-999.0000,9,    144.1,2,    144.5,2,   143.83,2,    36.31,2,     0.00,2,     2.54,2,   -999.0,9,   -999.0,9,-999.0000,9,  -999.00,  -999.00,9,  -999.00,9,   1.5980,2,      726
  49UF20180518,KS1805,  5393,  1,      9,  25243,2,20180602,0626, 25.4960, 128.7565, 7202,   3554.7,   1.5807,   1.5809,2,  34.6733,2,  34.6736,2,    147.1,2,    147.2,2,   143.66,2,    36.23,2,     0.00,2,     2.52,2,   -999.0,9,   -999.0,9,-999.0000,9,  -999.00,  -999.00,9,  -999.00,9,   1.5809,2,      720
  49UF20180518,KS1805,  5393,  1,      8,  25242,2,20180602,0626, 25.4960, 128.7565, 7202,   3809.0,   1.5777,   1.5781,2,  34.6763,2,-999.0000,9,    149.2,2,    149.8,2,   143.28,2,    36.05,2,     0.00,2,     2.51,2,   -999.0,9,   -999.0,9,-999.0000,9,  -999.00,  -999.00,9,  -999.00,9,   1.5781,2,      715
  49UF20180518,KS1805,  5393,  1,      7,  25241,2,20180602,0626, 25.4960, 128.7565, 7202,   4065.0,   1.5864,   1.5866,2,  34.6783,2,-999.0000,9,    150.7,2,    150.5,6,   143.16,6,    36.04,6,     0.00,6,     2.51,6,   -999.0,9,   -999.0,9,-999.0000,9,  -999.00,  -999.00,9,  -999.00,9,   1.5866,2,      709
  49UF20180518,KS1805,  5393,  1,      6,  25240,2,20180602,0626, 25.4960, 128.7565, 7202,   4580.2,   1.6176,   1.6178,2,  34.6810,2,  34.6804,2,    153.2,2,    153.3,2,   142.56,2,    35.92,2,     0.00,2,     2.50,2,   -999.0,9,   -999.0,9,-999.0000,9,  -999.00,  -999.00,9,  -999.00,9,   1.6178,2,      659
  49UF20180518,KS1805,  5393,  1,      5,  25239,2,20180602,0626, 25.4960, 128.7565, 7202,   5093.5,   1.6682,   1.6683,2,  34.6825,2,  34.6836,4,    154.4,2,    154.2,2,   142.49,2,    35.88,2,     0.00,2,     2.49,2,   -999.0,9,   -999.0,9,-999.0000,9,  -999.00,  -999.00,9,  -999.00,9,   1.6683,2,      649
  49UF20180518,KS1805,  5393,  1,      4,  25238,2,20180602,0626, 25.4960, 128.7565, 7202,   5351.5,   1.6975,   1.6978,2,  34.6831,2,-999.0000,9,    154.9,2,    154.8,2,   142.31,2,    35.88,2,     0.00,2,     2.49,2,   -999.0,9,   -999.0,9,-999.0000,9,  -999.00,  -999.00,9,  -999.00,9,   1.6978,2,      643
  49UF20180518,KS1805,  5393,  1,      3,  24271,2,20180602,0626, 25.4960, 128.7565, 7202,   5607.7,   1.7300,   1.7302,2,  34.6833,2,  34.6816,6,    154.9,2,    154.7,2,   142.37,2,    35.82,2,     0.00,2,     2.49,2,   -999.0,9,   -999.0,9,-999.0000,9,  -999.00,  -999.00,9,  -999.00,9,   1.7302,2,      638
  49UF20180518,KS1805,  5393,  1,      2,  25236,2,20180602,0626, 25.4960, 128.7565, 7202,   5865.6,   1.7646,   1.7648,2,  34.6835,2,-999.0000,9,    155.0,2,    155.0,2,   142.33,2,    35.83,2,     0.00,2,     2.49,2,   -999.0,9,   -999.0,9,-999.0000,9,  -999.00,  -999.00,9,  -999.00,9,   1.7648,2,      632
  49UF20180518,KS1805,  5393,  1,      1,  24272,2,20180602,0626, 25.4960, 128.7565, 7202,   6126.1,   1.8003,   1.8003,2,  34.6837,2,  34.6833,6,    155.2,2,    155.0,6,   142.43,6,    35.84,6,     0.00,6,     2.49,6,   -999.0,9,   -999.0,9,-999.0000,9,  -999.00,  -999.00,9,  -999.00,9,   1.8003,2,      626
  49UF20180518,KS1805,  5394,  1,     99,     99,2,20180602,1410, 25.8780, 128.1588, 2172,      0.0,  27.1617,-999.0000,9,  34.7097,2,-999.0000,9,    201.6,2,    202.5,2,  -999.00,9,  -999.00,9,  -999.00,9,  -999.00,9,   -999.0,9,   -999.0,9,-999.0000,9,  -999.00,  -999.00,9,  -999.00,9,-999.0000,9,     1432
  49UF20180518,KS1805,  5394,  1,     36,  25270,2,20180602,1410, 25.8780, 128.1588, 2172,     11.0,  27.1671,  27.1675,2,  34.7094,2,-999.0000,9,    201.6,2,    202.2,2,  -999.00,9,  -999.00,9,  -999.00,9,  -999.00,9,   -999.0,9,   -999.0,9,-999.0000,9,  -999.00,  -999.00,9,  -999.00,9,  27.1675,2,     1515
  49UF20180518,KS1805,  5394,  1,     35,  25269,2,20180602,1410, 25.8780, 128.1588, 2172,     25.9,  26.0069,  26.0125,2,  34.8156,2,  34.8216,2,    211.1,2,    212.8,2,  -999.00,9,  -999.00,9,  -999.00,9,  -999.00,9,   -999.0,9,   -999.0,9,-999.0000,9,  -999.00,  -999.00,9,  -999.00,9,  26.0125,2,     1513
  49UF20180518,KS1805,  5394,  1,     34,  25268,2,20180602,1410, 25.8780, 128.1588, 2172,     49.4,  23.7839,  23.7699,2,  34.9047,2,-999.0000,9,    221.1,2,    222.6,2,  -999.00,9,  -999.00,9,  -999.00,9,  -999.00,9,   -999.0,9,   -999.0,9,-999.0000,9,  -999.00,  -999.00,9,  -999.00,9,  23.7699,2,     1509
  49UF20180518,KS1805,  5394,  1,     33,  25267,2,20180602,1410, 25.8780, 128.1588, 2172,     76.9,  22.0904,  22.0868,2,  34.9469,2,  34.9507,2,    217.6,2,    218.9,2,  -999.00,9,  -999.00,9,  -999.00,9,  -999.00,9,   -999.0,9,   -999.0,9,-999.0000,9,  -999.00,  -999.00,9,  -999.00,9,  22.0868,2,     1508
  49UF20180518,KS1805,  5394,  1,     32,  25266,2,20180602,1410, 25.8780, 128.1588, 2172,    103.3,  21.1531,  21.1540,2,  34.9629,2,-999.0000,9,    209.9,2,    210.4,2,  -999.00,9,  -999.00,9,  -999.00,9,  -999.00,9,   -999.0,9,   -999.0,9,-999.0000,9,  -999.00,  -999.00,9,  -999.00,9,  21.1540,2,     1506
  49UF20180518,KS1805,  5394,  1,     31,  25265,2,20180602,1410, 25.8780, 128.1588, 2172,    129.9,  20.3551,  20.3513,2,  34.9544,2,-999.0000,9,    197.1,2,    196.8,2,  -999.00,9,  -999.00,9,  -999.00,9,  -999.00,9,   -999.0,9,   -999.0,9,-999.0000,9,  -999.00,  -999.00,9,  -999.00,9,  20.3513,2,     1505
  49UF20180518,KS1805,  5394,  1,     27,  25261,3,20180602,1410, 25.8780, 128.1588, 2172,    152.3,  19.5692,  19.5699,2,  34.9298,2,-999.0000,9,    193.7,2,    194.6,2,  -999.00,9,  -999.00,9,  -999.00,9,  -999.00,9,   -999.0,9,   -999.0,9,-999.0000,9,  -999.00,  -999.00,9,  -999.00,9,  19.5699,2,     1503
  49UF20180518,KS1805,  5394,  1,     26,  25260,2,20180602,1410, 25.8780, 128.1588, 2172,    202.7,  18.7217,  18.7221,2,  34.8801,2,  34.8780,2,    197.6,2,    198.2,2,  -999.00,9,  -999.00,9,  -999.00,9,  -999.00,9,   -999.0,9,   -999.0,9,-999.0000,9,  -999.00,  -999.00,9,  -999.00,9,  18.7221,2,     1502
  49UF20180518,KS1805,  5394,  1,     25,  25259,2,20180602,1410, 25.8780, 128.1588, 2172,    252.6,  17.4935,  17.4939,2,  34.7776,2,-999.0000,9,    194.3,2,    195.0,2,  -999.00,9,  -999.00,9,  -999.00,9,  -999.00,9,   -999.0,9,   -999.0,9,-999.0000,9,  -999.00,  -999.00,9,  -999.00,9,  17.4939,2,     1500
  49UF20180518,KS1805,  5394,  1,     24,  25258,2,20180602,1410, 25.8780, 128.1588, 2172,    305.3,  16.4137,  16.4154,2,  34.6893,2,-999.0000,9,    195.5,2,    196.4,2,  -999.00,9,  -999.00,9,  -999.00,9,  -999.00,9,   -999.0,9,   -999.0,9,-999.0000,9,  -999.00,  -999.00,9,  -999.00,9,  16.4154,2,     1458
  49UF20180518,KS1805,  5394,  1,     23,  25257,2,20180602,1410, 25.8780, 128.1588, 2172,    403.4,  14.1878,  14.1916,2,  34.4916,2,-999.0000,9,    186.3,2,    187.0,2,  -999.00,9,  -999.00,9,  -999.00,9,  -999.00,9,   -999.0,9,   -999.0,9,-999.0000,9,  -999.00,  -999.00,9,  -999.00,9,  14.1916,2,     1455
  49UF20180518,KS1805,  5394,  1,     22,  24473,2,20180602,1410, 25.8780, 128.1588, 2172,    505.0,  11.2789,  11.2797,2,  34.3085,2,  34.3153,4,    165.5,2,    165.8,6,  -999.00,9,  -999.00,9,  -999.00,9,  -999.00,9,   -999.0,9,   -999.0,9,-999.0000,9,  -999.00,  -999.00,9,  -999.00,9,  11.2797,2,     1452
  49UF20180518,KS1805,  5394,  1,     18,  25252,2,20180602,1410, 25.8780, 128.1588, 2172,    604.7,   8.3769,   8.3879,2,  34.1720,2,-999.0000,9,    136.3,2,    137.1,2,  -999.00,9,  -999.00,9,  -999.00,9,  -999.00,9,   -999.0,9,   -999.0,9,-999.0000,9,  -999.00,  -999.00,9,  -999.00,9,   8.3879,2,     1449
  49UF20180518,KS1805,  5394,  1,     17,  25251,2,20180602,1410, 25.8780, 128.1588, 2172,    706.8,   6.6968,   6.6966,2,  34.1643,2,  34.1643,2,    104.2,2,    104.3,2,  -999.00,9,  -999.00,9,  -999.00,9,  -999.00,9,   -999.0,9,   -999.0,9,-999.0000,9,  -999.00,  -999.00,9,  -999.00,9,   6.6966,2,     1446
  49UF20180518,KS1805,  5394,  1,     16,  25250,2,20180602,1410, 25.8780, 128.1588, 2172,    808.1,   5.3586,   5.3592,2,  34.2294,2,-999.0000,9,     76.1,2,     76.6,2,  -999.00,9,  -999.00,9,  -999.00,9,  -999.00,9,   -999.0,9,   -999.0,9,-999.0000,9,  -999.00,  -999.00,9,  -999.00,9,   5.3592,2,     1444
  49UF20180518,KS1805,  5394,  1,     15,  25249,2,20180602,1410, 25.8780, 128.1588, 2172,    909.5,   4.8613,   4.8619,2,  34.3326,2,  34.3335,2,     71.1,2,     71.7,6,  -999.00,9,  -999.00,9,  -999.00,9,  -999.00,9,   -999.0,9,   -999.0,9,-999.0000,9,  -999.00,  -999.00,9,  -999.00,9,   4.8619,2,     1441
  49UF20180518,KS1805,  5394,  1,     14,  25248,2,20180602,1410, 25.8780, 128.1588, 2172,   1010.9,   4.2408,   4.2429,2,  34.3925,2,-999.0000,9,     67.1,2,     67.6,2,  -999.00,9,  -999.00,9,  -999.00,9,  -999.00,9,   -999.0,9,   -999.0,9,-999.0000,9,  -999.00,  -999.00,9,  -999.00,9,   4.2429,2,     1438
  49UF20180518,KS1805,  5394,  1,     13,  25247,2,20180602,1410, 25.8780, 128.1588, 2172,   1010.9,   4.2407,   4.2410,2,  34.3926,2,-999.0000,9,     67.1,2,     67.7,2,  -999.00,9,  -999.00,9,  -999.00,9,  -999.00,9,   -999.0,9,   -999.0,9,-999.0000,9,  -999.00,  -999.00,9,  -999.00,9,   4.2410,2,     1438
  49UF20180518,KS1805,  5394,  1,      9,  25243,2,20180602,1410, 25.8780, 128.1588, 2172,   1213.2,   3.5080,   3.5090,2,  34.5012,2,  34.5031,6,     83.5,2,     84.2,2,  -999.00,9,  -999.00,9,  -999.00,9,  -999.00,9,   -999.0,9,   -999.0,9,-999.0000,9,  -999.00,  -999.00,9,  -999.00,9,   3.5090,2,     1433
  49UF20180518,KS1805,  5394,  1,      8,  25242,2,20180602,1410, 25.8780, 128.1588, 2172,   1415.5,   2.7611,   2.7608,2,  34.5309,2,-999.0000,9,     84.2,2,     84.8,2,  -999.00,9,  -999.00,9,  -999.00,9,  -999.00,9,   -999.0,9,   -999.0,9,-999.0000,9,  -999.00,  -999.00,9,  -999.00,9,   2.7608,2,     1428
  49UF20180518,KS1805,  5394,  1,      7,  25241,2,20180602,1410, 25.8780, 128.1588, 2172,   1619.3,   2.4332,   2.4332,2,  34.5594,2,-999.0000,9,     91.9,2,     92.7,2,  -999.00,9,  -999.00,9,  -999.00,9,  -999.00,9,   -999.0,9,   -999.0,9,-999.0000,9,  -999.00,  -999.00,9,  -999.00,9,   2.4332,2,     1424
  49UF20180518,KS1805,  5394,  1,      6,  25240,2,20180602,1410, 25.8780, 128.1588, 2172,   1821.3,   2.1919,   2.1921,2,  34.5870,2,  34.5871,6,    102.1,2,    102.6,2,  -999.00,9,  -999.00,9,  -999.00,9,  -999.00,9,   -999.0,9,   -999.0,9,-999.0000,9,  -999.00,  -999.00,9,  -999.00,9,   2.1921,2,     1419
  49UF20180518,KS1805,  5394,  1,      4,  25238,2,20180602,1410, 25.8780, 128.1588, 2172,   2024.3,   2.0096,   2.0099,2,  34.6119,2,  34.6113,2,    112.7,2,    113.6,2,  -999.00,9,  -999.00,9,  -999.00,9,  -999.00,9,   -999.0,9,   -999.0,9,-999.0000,9,  -999.00,  -999.00,9,  -999.00,9,   2.0099,2,     1414
  49UF20180518,KS1805,  5394,  1,      5,  25239,2,20180602,1410, 25.8780, 128.1588, 2172,   2024.8,   2.0093,   2.0097,2,  34.6119,2,  34.6111,2,    112.7,2,    112.9,2,  -999.00,9,  -999.00,9,  -999.00,9,  -999.00,9,   -999.0,9,   -999.0,9,-999.0000,9,  -999.00,  -999.00,9,  -999.00,9,   2.0097,2,     1414