BOTTLE,20200311PRINUNIVRMK
EXPOCODE,SECT_ID,STNNBR,CASTNO,SAMPNO,BTLNBR,BTLNBR_FLAG_W,DATE,TIME,LATITUDE,LONGITUDE,DEPTH,CTDPRS,CTDTMP,SBE35,SBE35_FLAG_W,CTDSAL,CTDSAL_FLAG_W,SALNTY,SALNTY_FLAG_W,CTDOXY,CTDOXY_FLAG_W,OXYGEN,OXYGEN_FLAG_W,SILCAT,SILCAT_FLAG_W,NITRAT,NITRAT_FLAG_W,NITRIT,NITRIT_FLAG_W,PHSPHT,PHSPHT_FLAG_W,TCARBN,TCARBN_FLAG_W,ALKALI,ALKALI_FLAG_W,PH_TOT,PH_TOT_FLAG_W,PH_TMP,CHLORA,CHLORA_FLAG_W,PPHYTN,PPHYTN_FLAG_W,SBE35,SBE35_FLAG_W,BTL_TIME
,,,,,,,,,,,METERS,DBAR,ITS-90,,,PSS-78,,PSS-78,,UMOL/KG,,UMOL/KG,,UMOL/KG,,UMOL/KG,,UMOL/KG,,UMOL/KG,,UMOL/KG,,UMOL/KG,,,,DEG C,UG/KG,,UG/KG,,,,
  49UF20180518,KS1805,  5424,  1,     99,     99,2,20180616,0314, 30.0035, 134.6007, 4631,      0.0,  23.7508,-999.0000,9,  34.4971,2,-999.0000,9,    215.4,2,    215.2,2,     1.79,2,    -0.01,2,     0.01,2,     0.00,2,   -999.0,9,   -999.0,9,-999.0000,9,  -999.00,  -999.00,9,  -999.00,9,-999.0000,9,      355
  49UF20180518,KS1805,  5424,  1,     36,  25270,2,20180616,0314, 30.0035, 134.6007, 4631,     10.9,  23.6052,  23.6062,2,  34.6250,2,  34.6246,2,    216.8,2,    216.9,2,     1.75,2,    -0.01,2,     0.01,2,     0.00,2,   -999.0,9,   -999.0,9,-999.0000,9,  -999.00,  -999.00,9,  -999.00,9,  23.6062,2,      417
  49UF20180518,KS1805,  5424,  1,     35,  25269,2,20180616,0314, 30.0035, 134.6007, 4631,     25.7,  21.4565,  21.4633,2,  34.8472,2,  34.8439,2,    229.1,2,    229.2,2,     1.88,2,    -0.01,2,     0.01,2,     0.00,2,   -999.0,9,   -999.0,9,-999.0000,9,  -999.00,  -999.00,9,  -999.00,9,  21.4633,2,      415
  49UF20180518,KS1805,  5424,  1,     34,  25268,2,20180616,0314, 30.0035, 134.6007, 4631,     51.6,  19.7407,  19.7388,2,  34.9185,2,  34.9173,2,    229.6,2,    229.8,2,     2.08,2,     0.00,2,     0.00,2,     0.02,2,   -999.0,9,   -999.0,9,-999.0000,9,  -999.00,  -999.00,9,  -999.00,9,  19.7388,2,      411
  49UF20180518,KS1805,  5424,  1,     30,  25264,2,20180616,0314, 30.0035, 134.6007, 4631,     76.3,  19.3149,  19.3155,2,  34.9214,2,  34.9198,2,    216.3,2,    216.6,2,     2.39,2,     1.42,2,     0.04,2,     0.11,2,   -999.0,9,   -999.0,9,-999.0000,9,  -999.00,  -999.00,9,  -999.00,9,  19.3155,2,      409
  49UF20180518,KS1805,  5424,  1,     29,  25263,2,20180616,0314, 30.0035, 134.6007, 4631,    100.6,  19.2319,  19.2312,2,  34.9208,2,  34.9202,2,    215.8,2,    216.1,2,     2.44,2,     1.56,2,     0.03,2,     0.12,2,   -999.0,9,   -999.0,9,-999.0000,9,  -999.00,  -999.00,9,  -999.00,9,  19.2312,2,      408
  49UF20180518,KS1805,  5424,  1,     28,  25262,2,20180616,0314, 30.0035, 134.6007, 4631,    126.3,  19.1697,  19.1697,2,  34.9266,2,  34.9249,2,    216.2,2,    216.5,2,     2.39,2,     1.51,2,     0.01,2,     0.11,2,   -999.0,9,   -999.0,9,-999.0000,9,  -999.00,  -999.00,9,  -999.00,9,  19.1697,2,      406
  49UF20180518,KS1805,  5424,  1,     27,  25261,2,20180616,0314, 30.0035, 134.6007, 4631,    151.1,  19.1105,  19.1100,2,  34.9274,2,  34.9261,2,    216.7,2,    216.9,2,     2.37,2,     1.53,2,     0.02,2,     0.11,2,   -999.0,9,   -999.0,9,-999.0000,9,  -999.00,  -999.00,9,  -999.00,9,  19.1100,2,      405
  49UF20180518,KS1805,  5424,  1,     26,  25260,2,20180616,0314, 30.0035, 134.6007, 4631,    202.5,  19.0415,  19.0415,2,  34.9301,2,  34.9290,2,    218.1,2,    218.4,2,     2.32,2,     1.49,2,     0.02,2,     0.11,2,   -999.0,9,   -999.0,9,-999.0000,9,  -999.00,  -999.00,9,  -999.00,9,  19.0415,2,      403
  49UF20180518,KS1805,  5424,  1,     25,  25259,2,20180616,0314, 30.0035, 134.6007, 4631,    254.5,  18.9958,  18.9959,2,  34.9309,2,  34.9301,2,    219.3,2,    219.1,2,     2.30,2,     1.47,2,     0.00,2,     0.11,2,   -999.0,9,   -999.0,9,-999.0000,9,  -999.00,  -999.00,9,  -999.00,9,  18.9959,2,      401
  49UF20180518,KS1805,  5424,  1,     21,  25255,2,20180616,0314, 30.0035, 134.6007, 4631,    304.0,  18.8254,  18.8251,2,  34.9210,2,  34.9200,2,    215.2,2,    215.3,2,     2.54,2,     1.99,2,     0.00,2,     0.13,2,   -999.0,9,   -999.0,9,-999.0000,9,  -999.00,  -999.00,9,  -999.00,9,  18.8251,2,      359
  49UF20180518,KS1805,  5424,  1,     20,  24270,2,20180616,0314, 30.0035, 134.6007, 4631,    404.2,  18.0719,  18.0721,2,  34.8947,2,  34.8936,2,    213.7,2,    213.9,2,     2.95,2,     2.95,2,     0.00,2,     0.18,2,   -999.0,9,   -999.0,9,-999.0000,9,  -999.00,  -999.00,9,  -999.00,9,  18.0721,2,      356
  49UF20180518,KS1805,  5424,  1,     19,  25253,2,20180616,0314, 30.0035, 134.6007, 4631,    503.5,  18.0322,  18.0324,2,  34.8900,2,  34.8885,2,    215.2,2,    215.3,6,     2.86,6,     2.86,6,     0.01,6,     0.18,6,   -999.0,9,   -999.0,9,-999.0000,9,  -999.00,  -999.00,9,  -999.00,9,  18.0324,2,      353
  49UF20180518,KS1805,  5424,  1,     17,  25251,2,20180616,0314, 30.0035, 134.6007, 4631,    605.4,  17.7772,  17.7785,2,  34.8459,2,  34.8433,2,    210.1,2,    209.8,2,     3.57,2,     3.74,2,     0.00,2,     0.24,2,   -999.0,9,   -999.0,9,-999.0000,9,  -999.00,  -999.00,9,  -999.00,9,  17.7785,2,      350
  49UF20180518,KS1805,  5424,  1,     18,  25252,2,20180616,0314, 30.0035, 134.6007, 4631,    605.6,  17.7799,  17.7798,2,  34.8466,2,  34.8441,2,    210.1,2,    210.1,2,     3.55,2,     3.72,2,     0.01,2,     0.24,2,   -999.0,9,   -999.0,9,-999.0000,9,  -999.00,  -999.00,9,  -999.00,9,  17.7798,2,      350
  49UF20180518,KS1805,  5424,  1,     16,  25250,2,20180616,0314, 30.0035, 134.6007, 4631,    707.4,  14.7914,  14.7911,2,  34.5499,2,  34.5500,2,    183.6,2,    183.7,2,    12.10,2,    10.64,2,     0.00,2,     0.72,2,   -999.0,9,   -999.0,9,-999.0000,9,  -999.00,  -999.00,9,  -999.00,9,  14.7911,2,      348
  49UF20180518,KS1805,  5424,  1,     12,  25246,2,20180616,0314, 30.0035, 134.6007, 4631,    807.9,  10.9995,  11.0027,2,  34.3109,2,  34.3103,2,    158.2,2,    158.2,2,    29.39,2,    19.23,2,     0.00,2,     1.36,2,   -999.0,9,   -999.0,9,-999.0000,9,  -999.00,  -999.00,9,  -999.00,9,  11.0027,2,      345
  49UF20180518,KS1805,  5424,  1,     11,  25245,2,20180616,0314, 30.0035, 134.6007, 4631,    909.1,   8.1654,   8.1676,2,  34.2526,2,  34.2513,2,    120.0,2,    119.4,2,    55.16,2,    27.68,2,     0.00,2,     1.98,2,   -999.0,9,   -999.0,9,-999.0000,9,  -999.00,  -999.00,9,  -999.00,9,   8.1676,2,      342
  49UF20180518,KS1805,  5424,  1,     10,  25244,2,20180616,0314, 30.0035, 134.6007, 4631,   1010.4,   6.0150,   6.0202,2,  34.2369,2,  34.2330,2,     91.3,2,     91.3,2,    80.04,2,    33.85,2,     0.00,2,     2.43,2,   -999.0,9,   -999.0,9,-999.0000,9,  -999.00,  -999.00,9,  -999.00,9,   6.0202,2,      339
  49UF20180518,KS1805,  5424,  1,      9,  25243,2,20180616,0314, 30.0035, 134.6007, 4631,   1213.0,   4.2084,   4.2228,2,  34.3558,2,  34.3537,6,     65.6,2,     65.2,2,   112.51,2,    38.91,2,     0.00,2,     2.79,2,   -999.0,9,   -999.0,9,-999.0000,9,  -999.00,  -999.00,9,  -999.00,9,   4.2228,2,      334
  49UF20180518,KS1805,  5424,  1,      8,  25242,2,20180616,0314, 30.0035, 134.6007, 4631,   1414.3,   3.4403,   3.4401,2,  34.4143,2,  34.4131,6,     60.7,2,     60.4,2,   128.69,2,    40.38,2,     0.00,2,     2.88,2,   -999.0,9,   -999.0,9,-999.0000,9,  -999.00,  -999.00,9,  -999.00,9,   3.4401,2,      330
  49UF20180518,KS1805,  5424,  1,      7,  25241,2,20180616,0314, 30.0035, 134.6007, 4631,   1619.4,   2.9115,   2.9114,2,  34.4775,2,  34.4752,6,     66.9,2,     66.9,6,   138.66,6,    40.58,6,     0.00,6,     2.90,6,   -999.0,9,   -999.0,9,-999.0000,9,  -999.00,  -999.00,9,  -999.00,9,   2.9114,2,      325
  49UF20180518,KS1805,  5424,  1,      2,  25236,2,20180616,0314, 30.0035, 134.6007, 4631,   1823.1,   2.5241,   2.5241,2,  34.5279,2,  34.5256,2,     76.8,2,     76.9,2,   144.97,2,    40.27,2,     0.00,2,     2.86,2,   -999.0,9,   -999.0,9,-999.0000,9,  -999.00,  -999.00,9,  -999.00,9,   2.5241,2,      320
  49UF20180518,KS1805,  5424,  1,      3,  24271,2,20180616,0314, 30.0035, 134.6007, 4631,   1823.2,   2.5243,   2.5240,2,  34.5278,2,  34.5259,2,     76.9,2,     76.6,2,   145.01,2,    40.27,2,     0.00,2,     2.86,2,   -999.0,9,   -999.0,9,-999.0000,9,  -999.00,  -999.00,9,  -999.00,9,   2.5240,2,      320
  49UF20180518,KS1805,  5424,  1,      1,  24272,2,20180616,0314, 30.0035, 134.6007, 4631,   2024.6,   2.2745,   2.2745,2,  34.5638,2,  34.5622,2,     88.9,2,     89.3,2,   147.52,2,    39.60,2,     0.00,2,     2.80,2,   -999.0,9,   -999.0,9,-999.0000,9,  -999.00,  -999.00,9,  -999.00,9,   2.2745,2,      315
  49UF20180518,KS1805,  5425,  1,     99,     99,2,20180616,0956, 31.0007, 134.0862, 4439,      0.0,  24.5342,-999.0000,9,  34.4601,2,-999.0000,9,    211.6,2,    211.1,2,  -999.00,9,  -999.00,9,  -999.00,9,  -999.00,9,   -999.0,9,   -999.0,9,-999.0000,9,  -999.00,  -999.00,9,  -999.00,9,-999.0000,9,     1027
  49UF20180518,KS1805,  5425,  1,     36,  25270,2,20180616,0956, 31.0007, 134.0862, 4439,     11.6,  24.5383,  24.5373,2,  34.4599,2,  34.4601,2,    211.6,2,    211.7,2,  -999.00,9,  -999.00,9,  -999.00,9,  -999.00,9,   -999.0,9,   -999.0,9,-999.0000,9,  -999.00,  -999.00,9,  -999.00,9,  24.5373,2,     1058
  49UF20180518,KS1805,  5425,  1,     35,  25269,2,20180616,0956, 31.0007, 134.0862, 4439,     27.2,  24.0687,  24.0753,2,  34.5695,2,  34.5655,2,    216.8,2,    216.6,2,  -999.00,9,  -999.00,9,  -999.00,9,  -999.00,9,   -999.0,9,   -999.0,9,-999.0000,9,  -999.00,  -999.00,9,  -999.00,9,  24.0753,2,     1057
  49UF20180518,KS1805,  5425,  1,     34,  25268,3,20180616,0956, 31.0007, 134.0862, 4439,     53.1,  23.1153,  23.1106,2,  34.7684,2,  34.7659,2,    214.8,2,    214.9,2,  -999.00,9,  -999.00,9,  -999.00,9,  -999.00,9,   -999.0,9,   -999.0,9,-999.0000,9,  -999.00,  -999.00,9,  -999.00,9,  23.1106,2,     1055
  49UF20180518,KS1805,  5425,  1,     30,  25264,2,20180616,0956, 31.0007, 134.0862, 4439,     77.7,  22.3711,  22.3720,2,  34.8532,2,  34.8379,4,    217.8,2,    217.5,2,  -999.00,9,  -999.00,9,  -999.00,9,  -999.00,9,   -999.0,9,   -999.0,9,-999.0000,9,  -999.00,  -999.00,9,  -999.00,9,  22.3720,2,     1053
  49UF20180518,KS1805,  5425,  1,     29,  25263,2,20180616,0956, 31.0007, 134.0862, 4439,    102.8,  21.3292,  21.3422,2,  34.8614,2,  34.8605,2,    209.1,2,    209.2,2,  -999.00,9,  -999.00,9,  -999.00,9,  -999.00,9,   -999.0,9,   -999.0,9,-999.0000,9,  -999.00,  -999.00,9,  -999.00,9,  21.3422,2,     1050
  49UF20180518,KS1805,  5425,  1,     28,  25262,2,20180616,0956, 31.0007, 134.0862, 4439,    128.6,  20.6253,  20.6202,2,  34.8993,2,  34.8939,2,    217.2,2,    215.5,2,  -999.00,9,  -999.00,9,  -999.00,9,  -999.00,9,   -999.0,9,   -999.0,9,-999.0000,9,  -999.00,  -999.00,9,  -999.00,9,  20.6202,2,     1048
  49UF20180518,KS1805,  5425,  1,     27,  25261,2,20180616,0956, 31.0007, 134.0862, 4439,    155.4,  19.9415,  19.9381,2,  34.9115,2,  34.9097,2,    212.0,2,    212.0,2,  -999.00,9,  -999.00,9,  -999.00,9,  -999.00,9,   -999.0,9,   -999.0,9,-999.0000,9,  -999.00,  -999.00,9,  -999.00,9,  19.9381,2,     1047
  49UF20180518,KS1805,  5425,  1,     26,  25260,2,20180616,0956, 31.0007, 134.0862, 4439,    210.2,  19.4648,  19.4645,2,  34.9142,2,  34.9131,2,    214.2,2,    214.2,2,  -999.00,9,  -999.00,9,  -999.00,9,  -999.00,9,   -999.0,9,   -999.0,9,-999.0000,9,  -999.00,  -999.00,9,  -999.00,9,  19.4645,2,     1044
  49UF20180518,KS1805,  5425,  1,     25,  25259,2,20180616,0956, 31.0007, 134.0862, 4439,    256.7,  19.2220,  19.2220,2,  34.9153,2,  34.9130,2,    213.9,2,    213.7,2,  -999.00,9,  -999.00,9,  -999.00,9,  -999.00,9,   -999.0,9,   -999.0,9,-999.0000,9,  -999.00,  -999.00,9,  -999.00,9,  19.2220,2,     1042
  49UF20180518,KS1805,  5425,  1,     21,  25255,2,20180616,0956, 31.0007, 134.0862, 4439,    301.5,  18.7617,  18.7616,2,  34.8775,2,  34.8760,2,    203.1,2,    202.9,6,  -999.00,9,  -999.00,9,  -999.00,9,  -999.00,9,   -999.0,9,   -999.0,9,-999.0000,9,  -999.00,  -999.00,9,  -999.00,9,  18.7616,2,     1040
  49UF20180518,KS1805,  5425,  1,     19,  25253,2,20180616,0956, 31.0007, 134.0862, 4439,    409.4,  17.0974,  17.0975,2,  34.7521,2,  34.7507,2,    197.6,2,    197.4,2,  -999.00,9,  -999.00,9,  -999.00,9,  -999.00,9,   -999.0,9,   -999.0,9,-999.0000,9,  -999.00,  -999.00,9,  -999.00,9,  17.0975,2,     1037
  49UF20180518,KS1805,  5425,  1,     20,  24270,3,20180616,0956, 31.0007, 134.0862, 4439,    410.0,  17.0977,  17.0978,2,  34.7523,2,  34.7503,2,    197.6,2,    197.2,2,  -999.00,9,  -999.00,9,  -999.00,9,  -999.00,9,   -999.0,9,   -999.0,9,-999.0000,9,  -999.00,  -999.00,9,  -999.00,9,  17.0978,2,     1038
  49UF20180518,KS1805,  5425,  1,     18,  25252,2,20180616,0956, 31.0007, 134.0862, 4439,    498.4,  15.5467,  15.5462,2,  34.6156,2,  34.6140,2,    188.6,2,    188.4,2,  -999.00,9,  -999.00,9,  -999.00,9,  -999.00,9,   -999.0,9,   -999.0,9,-999.0000,9,  -999.00,  -999.00,9,  -999.00,9,  15.5462,2,     1034
  49UF20180518,KS1805,  5425,  1,     17,  25251,2,20180616,0956, 31.0007, 134.0862, 4439,    609.3,  12.6300,  12.6348,2,  34.4109,2,  34.4110,2,    168.2,2,    168.4,2,  -999.00,9,  -999.00,9,  -999.00,9,  -999.00,9,   -999.0,9,   -999.0,9,-999.0000,9,  -999.00,  -999.00,9,  -999.00,9,  12.6348,2,     1031
  49UF20180518,KS1805,  5425,  1,     16,  25250,2,20180616,0956, 31.0007, 134.0862, 4439,    709.0,   9.9780,   9.9781,2,  34.2991,2,  34.2961,2,    140.4,2,    141.1,2,  -999.00,9,  -999.00,9,  -999.00,9,  -999.00,9,   -999.0,9,   -999.0,9,-999.0000,9,  -999.00,  -999.00,9,  -999.00,9,   9.9781,2,     1028
  49UF20180518,KS1805,  5425,  1,     12,  25246,2,20180616,0956, 31.0007, 134.0862, 4439,    809.2,   7.3975,   7.4071,2,  34.1815,2,  34.1774,2,    119.7,2,    120.7,2,  -999.00,9,  -999.00,9,  -999.00,9,  -999.00,9,   -999.0,9,   -999.0,9,-999.0000,9,  -999.00,  -999.00,9,  -999.00,9,   7.4071,2,     1025
  49UF20180518,KS1805,  5425,  1,     11,  25245,2,20180616,0956, 31.0007, 134.0862, 4439,    907.4,   6.0515,   6.0510,2,  34.2714,2,  34.2706,2,     88.6,2,     88.5,2,  -999.00,9,  -999.00,9,  -999.00,9,  -999.00,9,   -999.0,9,   -999.0,9,-999.0000,9,  -999.00,  -999.00,9,  -999.00,9,   6.0510,2,     1022
  49UF20180518,KS1805,  5425,  1,     10,  25244,2,20180616,0956, 31.0007, 134.0862, 4439,   1011.9,   4.9487,   4.9491,2,  34.2913,2,  34.2902,2,     73.7,2,     73.8,2,  -999.00,9,  -999.00,9,  -999.00,9,  -999.00,9,   -999.0,9,   -999.0,9,-999.0000,9,  -999.00,  -999.00,9,  -999.00,9,   4.9491,2,     1020
  49UF20180518,KS1805,  5425,  1,      9,  25243,2,20180616,0956, 31.0007, 134.0862, 4439,   1215.7,   3.7636,   3.7637,2,  34.3802,2,  34.3774,6,     60.8,2,     60.7,6,  -999.00,9,  -999.00,9,  -999.00,9,  -999.00,9,   -999.0,9,   -999.0,9,-999.0000,9,  -999.00,  -999.00,9,  -999.00,9,   3.7637,2,     1015
  49UF20180518,KS1805,  5425,  1,      8,  25242,2,20180616,0956, 31.0007, 134.0862, 4439,   1411.5,   3.1053,   3.1063,2,  34.4532,2,  34.4518,2,     63.3,2,     63.3,2,  -999.00,9,  -999.00,9,  -999.00,9,  -999.00,9,   -999.0,9,   -999.0,9,-999.0000,9,  -999.00,  -999.00,9,  -999.00,9,   3.1063,2,     1011
  49UF20180518,KS1805,  5425,  1,      7,  25241,2,20180616,0956, 31.0007, 134.0862, 4439,   1411.6,   3.1020,   3.1021,2,  34.4538,2,  34.4526,2,     63.4,2,     63.8,2,  -999.00,9,  -999.00,9,  -999.00,9,  -999.00,9,   -999.0,9,   -999.0,9,-999.0000,9,  -999.00,  -999.00,9,  -999.00,9,   3.1021,2,     1010
  49UF20180518,KS1805,  5425,  1,      3,  24271,2,20180616,0956, 31.0007, 134.0862, 4439,   1621.5,   2.6769,   2.6772,2,  34.5062,2,  34.5045,6,     71.8,2,     71.6,2,  -999.00,9,  -999.00,9,  -999.00,9,  -999.00,9,   -999.0,9,   -999.0,9,-999.0000,9,  -999.00,  -999.00,9,  -999.00,9,   2.6772,2,     1006
  49UF20180518,KS1805,  5425,  1,      2,  25236,2,20180616,0956, 31.0007, 134.0862, 4439,   1823.6,   2.3475,   2.3476,2,  34.5500,2,  34.5483,6,     83.1,2,     83.0,2,  -999.00,9,  -999.00,9,  -999.00,9,  -999.00,9,   -999.0,9,   -999.0,9,-999.0000,9,  -999.00,  -999.00,9,  -999.00,9,   2.3476,2,     1001
  49UF20180518,KS1805,  5425,  1,      1,  24272,2,20180616,0956, 31.0007, 134.0862, 4439,   2022.4,   2.1408,   2.1414,2,  34.5803,2,  34.5792,2,     93.9,2,     93.7,2,  -999.00,9,  -999.00,9,  -999.00,9,  -999.00,9,   -999.0,9,   -999.0,9,-999.0000,9,  -999.00,  -999.00,9,  -999.00,9,   2.1414,2,      957