BOTTLE,20200311PRINUNIVRMK
EXPOCODE,SECT_ID,STNNBR,CASTNO,SAMPNO,BTLNBR,BTLNBR_FLAG_W,DATE,TIME,LATITUDE,LONGITUDE,DEPTH,CTDPRS,CTDTMP,SBE35,SBE35_FLAG_W,CTDSAL,CTDSAL_FLAG_W,SALNTY,SALNTY_FLAG_W,CTDOXY,CTDOXY_FLAG_W,OXYGEN,OXYGEN_FLAG_W,SILCAT,SILCAT_FLAG_W,NITRAT,NITRAT_FLAG_W,NITRIT,NITRIT_FLAG_W,PHSPHT,PHSPHT_FLAG_W,TCARBN,TCARBN_FLAG_W,ALKALI,ALKALI_FLAG_W,PH_TOT,PH_TOT_FLAG_W,PH_TMP,CHLORA,CHLORA_FLAG_W,PPHYTN,PPHYTN_FLAG_W,SBE35,SBE35_FLAG_W,BTL_TIME
,,,,,,,,,,,METERS,DBAR,ITS-90,,,PSS-78,,PSS-78,,UMOL/KG,,UMOL/KG,,UMOL/KG,,UMOL/KG,,UMOL/KG,,UMOL/KG,,UMOL/KG,,UMOL/KG,,,,DEG C,UG/KG,,UG/KG,,,,
  49UF20180518,KS1805,  5377,  1,     99,     99,2,20180527,1001, 24.2528, 146.0557, 5700,      0.0,  28.2377,-999.0000,9,  34.8479,2,-999.0000,9,    200.3,2,    200.0,2,     1.22,2,    -0.01,2,     0.01,2,     0.03,2,   -999.0,9,   -999.0,9,-999.0000,9,  -999.00,  -999.00,9,  -999.00,9,-999.0000,9,     1045
  49UF20180518,KS1805,  5377,  1,     36,  25270,2,20180527,1001, 24.2528, 146.0557, 5700,     10.8,  28.2500,  28.2455,2,  34.8477,2,-999.0000,9,    200.3,2,    200.3,2,     1.20,2,     0.00,2,     0.00,2,     0.01,2,   -999.0,9,   -999.0,9,-999.0000,9,  -999.00,  -999.00,9,  -999.00,9,  28.2455,2,     1101
  49UF20180518,KS1805,  5377,  1,     35,  25269,2,20180527,1001, 24.2528, 146.0557, 5700,     25.5,  26.7030,  26.7308,2,  34.8434,2,-999.0000,9,    208.4,2,    209.0,2,     1.21,2,    -0.01,2,     0.01,2,     0.01,2,   -999.0,9,   -999.0,9,-999.0000,9,  -999.00,  -999.00,9,  -999.00,9,  26.7308,2,     1100
  49UF20180518,KS1805,  5377,  1,     34,  25268,2,20180527,1001, 24.2528, 146.0557, 5700,     55.7,  24.7107,  24.7144,2,  34.8968,2,-999.0000,9,    216.7,2,    216.0,2,     1.24,2,    -0.01,2,     0.01,2,     0.01,2,   -999.0,9,   -999.0,9,-999.0000,9,  -999.00,  -999.00,9,  -999.00,9,  24.7144,2,     1055
  49UF20180518,KS1805,  5377,  1,     30,  25264,2,20180527,1001, 24.2528, 146.0557, 5700,     77.0,  24.0051,  24.0059,2,  34.9356,2,-999.0000,9,    214.7,2,    214.2,2,     1.35,2,    -0.01,2,     0.01,2,     0.01,2,   -999.0,9,   -999.0,9,-999.0000,9,  -999.00,  -999.00,9,  -999.00,9,  24.0059,2,     1054
  49UF20180518,KS1805,  5377,  1,     29,  25263,2,20180527,1001, 24.2528, 146.0557, 5700,    101.6,  23.3874,  23.3891,2,  34.9707,2,-999.0000,9,    212.7,2,    212.4,2,     1.46,2,    -0.01,2,     0.01,2,     0.01,2,   -999.0,9,   -999.0,9,-999.0000,9,  -999.00,  -999.00,9,  -999.00,9,  23.3891,2,     1052
  49UF20180518,KS1805,  5377,  1,     28,  25262,2,20180527,1001, 24.2528, 146.0557, 5700,    127.3,  22.4445,  22.4499,2,  34.9821,2,-999.0000,9,    214.1,2,    213.5,2,     1.64,2,    -0.01,2,     0.01,2,     0.01,2,   -999.0,9,   -999.0,9,-999.0000,9,  -999.00,  -999.00,9,  -999.00,9,  22.4499,2,     1051
  49UF20180518,KS1805,  5377,  1,     27,  25261,2,20180527,1001, 24.2528, 146.0557, 5700,    153.1,  21.2859,  21.2863,2,  35.0078,2,-999.0000,9,    202.7,2,    202.4,2,     2.01,2,     0.44,2,     0.07,2,     0.09,2,   -999.0,9,   -999.0,9,-999.0000,9,  -999.00,  -999.00,9,  -999.00,9,  21.2863,2,     1050
  49UF20180518,KS1805,  5377,  1,     26,  25260,2,20180527,1001, 24.2528, 146.0557, 5700,    202.5,  19.3594,  19.3583,2,  34.9414,2,-999.0000,9,    198.7,2,    198.6,2,     2.77,2,     2.12,2,     0.02,2,     0.18,2,   -999.0,9,   -999.0,9,-999.0000,9,  -999.00,  -999.00,9,  -999.00,9,  19.3583,2,     1048
  49UF20180518,KS1805,  5377,  1,     25,  25259,2,20180527,1001, 24.2528, 146.0557, 5700,    202.5,  19.3183,  19.3026,2,  34.9392,2,-999.0000,9,    198.8,2,    198.5,2,     2.75,2,     2.18,2,     0.02,2,     0.19,2,   -999.0,9,   -999.0,9,-999.0000,9,  -999.00,  -999.00,9,  -999.00,9,  19.3026,2,     1048
  49UF20180518,KS1805,  5377,  1,     21,  25255,2,20180527,1001, 24.2528, 146.0557, 5700,    253.0,  17.5829,  17.5852,2,  34.8087,2,-999.0000,9,    203.3,2,    203.1,6,     3.83,6,     4.20,6,     0.01,6,     0.29,6,   -999.0,9,   -999.0,9,-999.0000,9,  -999.00,  -999.00,9,  -999.00,9,  17.5852,2,     1046
  49UF20180518,KS1805,  5377,  1,     20,  24270,2,20180527,1001, 24.2528, 146.0557, 5700,    304.4,  16.6672,  16.6676,2,  34.7418,2,-999.0000,9,    208.6,2,    208.7,2,     4.94,2,     5.17,2,     0.01,2,     0.35,2,   -999.0,9,   -999.0,9,-999.0000,9,  -999.00,  -999.00,9,  -999.00,9,  16.6676,2,     1044
  49UF20180518,KS1805,  5377,  1,     19,  25253,2,20180527,1001, 24.2528, 146.0557, 5700,    407.8,  14.5058,  14.5132,2,  34.5145,2,-999.0000,9,    196.0,2,    196.2,2,     9.55,2,     9.25,2,     0.01,2,     0.64,2,   -999.0,9,   -999.0,9,-999.0000,9,  -999.00,  -999.00,9,  -999.00,9,  14.5132,2,     1041
  49UF20180518,KS1805,  5377,  1,     18,  25252,4,20180527,1001, 24.2528, 146.0557, 5700,    505.3,  11.2746,  11.2655,2,  34.2699,2,-999.0000,9,    180.1,2,    149.0,4,    36.96,4,    23.70,4,     0.00,4,     1.70,4,   -999.0,9,   -999.0,9,-999.0000,9,  -999.00,  -999.00,9,  -999.00,9,  11.2655,2,     1039
  49UF20180518,KS1805,  5377,  1,     17,  25251,2,20180527,1001, 24.2528, 146.0557, 5700,    606.7,   8.7700,   8.7707,2,  34.1394,2,-999.0000,9,    149.5,2,    149.0,2,    36.86,2,    23.73,2,     0.01,2,     1.70,2,   -999.0,9,   -999.0,9,-999.0000,9,  -999.00,  -999.00,9,  -999.00,9,   8.7707,2,     1036
  49UF20180518,KS1805,  5377,  1,     16,  25250,2,20180527,1001, 24.2528, 146.0557, 5700,    707.1,   6.5548,   6.5545,2,  34.1071,2,-999.0000,9,    104.4,2,    104.1,2,    61.36,2,    31.92,2,     0.01,2,     2.31,2,   -999.0,9,   -999.0,9,-999.0000,9,  -999.00,  -999.00,9,  -999.00,9,   6.5545,2,     1033
  49UF20180518,KS1805,  5377,  1,     12,  25246,2,20180527,1001, 24.2528, 146.0557, 5700,    807.7,   5.1100,   5.1098,2,  34.1861,2,-999.0000,9,     63.3,2,     63.3,2,    86.69,2,    38.07,2,     0.00,2,     2.75,2,   -999.0,9,   -999.0,9,-999.0000,9,  -999.00,  -999.00,9,  -999.00,9,   5.1098,2,     1030
  49UF20180518,KS1805,  5377,  1,     11,  25245,2,20180527,1001, 24.2528, 146.0557, 5700,    908.2,   4.5418,   4.5418,2,  34.2630,2,-999.0000,9,     52.4,2,     52.1,2,    99.59,2,    39.99,2,     0.00,2,     2.87,2,   -999.0,9,   -999.0,9,-999.0000,9,  -999.00,  -999.00,9,  -999.00,9,   4.5418,2,     1028
  49UF20180518,KS1805,  5377,  1,      9,  25243,2,20180527,1001, 24.2528, 146.0557, 5700,   1009.6,   4.0810,   4.0809,2,  34.3327,2,-999.0000,9,     50.7,2,     50.3,2,   111.10,2,    40.66,2,     0.00,2,     2.92,2,   -999.0,9,   -999.0,9,-999.0000,9,  -999.00,  -999.00,9,  -999.00,9,   4.0809,2,     1025
  49UF20180518,KS1805,  5377,  1,     10,  25244,2,20180527,1001, 24.2528, 146.0557, 5700,   1010.0,   4.0803,   4.0806,2,  34.3327,2,-999.0000,9,     50.7,2,     50.6,2,   111.13,2,    40.73,2,     0.00,2,     2.93,2,   -999.0,9,   -999.0,9,-999.0000,9,  -999.00,  -999.00,9,  -999.00,9,   4.0806,2,     1025
  49UF20180518,KS1805,  5377,  1,      8,  25242,2,20180527,1001, 24.2528, 146.0557, 5700,   1211.7,   3.1979,   3.1982,2,  34.4440,2,-999.0000,9,     53.8,2,     53.6,6,   132.41,6,    41.50,6,     0.00,6,     2.96,6,   -999.0,9,   -999.0,9,-999.0000,9,  -999.00,  -999.00,9,  -999.00,9,   3.1982,2,     1020
  49UF20180518,KS1805,  5377,  1,      7,  25241,2,20180527,1001, 24.2528, 146.0557, 5700,   1414.8,   2.7296,   2.7303,2,  34.5032,2,-999.0000,9,     62.2,2,     61.9,2,   142.05,2,    41.25,2,     0.00,2,     2.94,2,   -999.0,9,   -999.0,9,-999.0000,9,  -999.00,  -999.00,9,  -999.00,9,   2.7303,2,     1016
  49UF20180518,KS1805,  5377,  1,      3,  24271,2,20180527,1001, 24.2528, 146.0557, 5700,   1620.7,   2.4168,   2.4171,2,  34.5455,2,-999.0000,9,     73.9,2,     73.5,2,   147.49,2,    40.86,2,     0.00,2,     2.89,2,   -999.0,9,   -999.0,9,-999.0000,9,  -999.00,  -999.00,9,  -999.00,9,   2.4171,2,     1011
  49UF20180518,KS1805,  5377,  1,      2,  25236,2,20180527,1001, 24.2528, 146.0557, 5700,   1821.1,   2.2005,   2.2008,2,  34.5753,2,-999.0000,9,     85.8,2,     85.8,2,   149.45,2,    40.04,2,     0.00,2,     2.84,2,   -999.0,9,   -999.0,9,-999.0000,9,  -999.00,  -999.00,9,  -999.00,9,   2.2008,2,     1006
  49UF20180518,KS1805,  5377,  1,      1,  24272,2,20180527,1001, 24.2528, 146.0557, 5700,   2026.5,   1.9678,   1.9681,2,  34.6081,2,-999.0000,9,    101.6,2,    101.0,2,   150.38,2,    39.12,2,     0.00,2,     2.76,2,   -999.0,9,   -999.0,9,-999.0000,9,  -999.00,  -999.00,9,  -999.00,9,   1.9681,2,     1001
  49UF20180518,KS1805,  5378,  1,     99,     99,2,20180527,1854, 24.2543, 144.8573, 5282,      0.0,  28.4577,-999.0000,9,  34.7069,2,  34.7076,2,    198.6,2,    197.4,2,     1.18,2,     0.00,2,     0.00,2,     0.03,2,   1956.0,2,   2284.1,2,   8.1049,2,    25.00,     0.06,2,     0.02,2,-999.0000,9,     2045
  49UF20180518,KS1805,  5378,  1,     36,  25270,2,20180527,1854, 24.2543, 144.8573, 5282,     10.6,  28.4701,  28.4674,2,  34.7061,2,  34.7055,2,    198.5,2,    198.0,2,     1.16,2,     0.00,2,     0.00,2,     0.00,2,   1958.0,2,   2283.3,2,   8.1044,2,    25.00,     0.05,2,     0.01,2,  28.4674,2,     2112
  49UF20180518,KS1805,  5378,  1,     35,  25269,2,20180527,1854, 24.2543, 144.8573, 5282,     26.7,  26.9859,  26.9862,2,  34.7650,2,-999.0000,9,    206.9,2,    206.7,2,     1.24,2,     0.00,2,     0.00,2,     0.00,2,   1969.3,2,   2286.6,2,   8.0899,2,    25.00,     0.07,2,     0.02,2,  26.9862,2,     2110
  49UF20180518,KS1805,  5378,  1,     34,  25268,2,20180527,1854, 24.2543, 144.8573, 5282,     51.2,  23.7608,  23.7620,2,  34.9371,2,  34.9371,2,    220.9,2,    220.1,2,     1.45,2,     0.00,2,     0.00,2,     0.00,2,   1982.1,2,   2295.1,2,   8.0798,2,    25.00,     0.10,2,     0.04,2,  23.7620,2,     2106
  49UF20180518,KS1805,  5378,  1,     33,  25267,2,20180527,1854, 24.2543, 144.8573, 5282,     77.3,  22.4565,  22.4546,2,  34.9967,2,-999.0000,9,    212.3,2,    211.6,2,     1.62,2,     0.00,2,     0.00,2,     0.01,2,   2004.3,2,   2300.6,2,   8.0516,2,    25.00,     0.17,2,     0.11,2,  22.4546,2,     2104
  49UF20180518,KS1805,  5378,  1,     32,  25266,2,20180527,1854, 24.2543, 144.8573, 5282,    102.3,  21.0978,  21.0982,2,  34.9897,2,  34.9851,2,    208.1,2,    209.2,2,     1.94,2,     0.30,2,     0.04,2,     0.06,2,   2021.9,2,   2300.4,2,   8.0190,2,    25.00,     0.41,2,     0.45,2,  21.0982,2,     2103
  49UF20180518,KS1805,  5378,  1,     31,  25265,2,20180527,1854, 24.2543, 144.8573, 5282,    127.1,  20.0860,  20.0862,2,  34.8971,2,-999.0000,9,    225.0,2,    224.2,2,     1.87,2,     0.08,2,     0.10,2,     0.05,2,   2015.0,2,   2293.8,2,   8.0254,2,    25.00,     0.18,2,     0.21,2,  20.0862,2,     2101
  49UF20180518,KS1805,  5378,  1,     30,  25264,2,20180527,1854, 24.2543, 144.8573, 5282,    151.6,  19.1416,  19.1395,2,  34.9009,2,  34.9001,2,    217.1,2,    216.6,2,     2.49,2,     1.18,2,     0.15,2,     0.11,2,   2025.8,2,   2291.9,2,   8.0054,2,    25.00,     0.07,2,     0.14,2,  19.1395,2,     2100
  49UF20180518,KS1805,  5378,  1,     29,  25263,2,20180527,1854, 24.2543, 144.8573, 5282,    204.3,  18.2065,  18.2061,2,  34.8507,2,-999.0000,9,    205.6,2,    204.9,2,     3.18,2,     3.13,2,     0.01,2,     0.23,2,   2037.8,2,   2290.2,2,   7.9705,2,    25.00,     0.01,2,     0.03,2,  18.2061,2,     2058
  49UF20180518,KS1805,  5378,  1,     28,  25262,2,20180527,1854, 24.2543, 144.8573, 5282,    253.5,  17.1926,  17.1934,2,  34.7791,2,  34.7789,2,    205.4,2,    205.1,2,     4.24,2,     4.71,2,     0.00,2,     0.32,2,   2050.5,2,   2286.3,2,   7.9488,2,    25.00,  -999.00,9,  -999.00,9,  17.1934,2,     2056
  49UF20180518,KS1805,  5378,  1,     27,  25261,2,20180527,1854, 24.2543, 144.8573, 5282,    304.2,  16.5179,  16.5178,2,  34.7269,2,-999.0000,9,    209.3,2,    209.0,2,     5.19,2,     5.40,2,     0.01,2,     0.37,2,   2052.4,2,   2283.4,2,   7.9376,2,    25.00,  -999.00,9,  -999.00,9,  16.5178,2,     2054
  49UF20180518,KS1805,  5378,  1,     26,  25260,2,20180527,1854, 24.2543, 144.8573, 5282,    404.0,  14.0999,  14.1001,2,  34.4864,2,  34.4855,2,    194.2,2,    193.8,2,    11.22,2,    10.37,2,     0.00,2,     0.72,2,   2083.6,2,   2274.5,2,   7.8552,2,    25.00,  -999.00,9,  -999.00,9,  14.1001,2,     2051
  49UF20180518,KS1805,  5378,  1,     25,  25259,2,20180527,1854, 24.2543, 144.8573, 5282,    503.6,  10.8192,  10.8204,2,  34.2500,2,-999.0000,9,    181.9,2,    182.0,6,    24.25,6,    17.11,6,     0.00,6,     1.21,6,   2130.6,2,   2275.0,2,   7.7498,2,    25.00,  -999.00,9,  -999.00,9,  10.8204,2,     2048
  49UF20180518,KS1805,  5378,  1,     24,  25258,2,20180527,1854, 24.2543, 144.8573, 5282,    605.2,   8.2078,   8.2081,2,  34.1170,2,  34.1176,2,    143.9,2,    143.2,2,    41.81,2,    25.35,2,     0.00,2,     1.82,2,   2186.0,6,   2282.3,6,   7.6155,2,    25.00,  -999.00,9,  -999.00,9,   8.2081,2,     2045
  49UF20180518,KS1805,  5378,  1,     23,  25257,2,20180527,1854, 24.2543, 144.8573, 5282,    707.5,   6.7008,   6.7011,2,  34.0942,2,-999.0000,9,    119.5,2,    120.0,2,    59.51,2,    30.04,2,     0.00,2,     2.17,2,   2231.4,2,   2294.9,2,   7.5371,2,    25.00,  -999.00,9,  -999.00,9,   6.7011,2,     2042
  49UF20180518,KS1805,  5378,  1,     22,  24473,2,20180527,1854, 24.2543, 144.8573, 5282,    809.1,   5.2667,   5.2673,2,  34.1394,2,  34.1393,2,     79.2,2,     79.6,2,    82.42,2,    36.30,2,     0.00,2,     2.62,2,   2284.8,2,   2317.0,2,   7.4403,2,    25.00,  -999.00,9,  -999.00,9,   5.2673,2,     2039
  49UF20180518,KS1805,  5378,  1,     21,  25255,4,20180527,1854, 24.2543, 144.8573, 5282,    909.6,   4.5587,   4.5619,2,  34.2615,2,-999.0000,9,     58.6,2,    194.6,4,    10.71,4,    10.01,4,     0.00,4,     0.70,4,   2084.4,4,   2274.1,4,   7.8579,4,    25.00,  -999.00,9,  -999.00,9,   4.5619,2,     2037
  49UF20180518,KS1805,  5378,  1,     20,  24270,2,20180527,1854, 24.2543, 144.8573, 5282,   1011.2,   3.8970,   3.8972,2,  34.3471,2,  34.3451,2,     52.1,2,     51.4,2,   115.50,2,    40.60,2,     0.00,2,     2.92,2,   2329.6,2,   2358.6,2,   7.4047,2,    25.00,  -999.00,9,  -999.00,9,   3.8972,2,     2034
  49UF20180518,KS1805,  5378,  1,     19,  25253,2,20180527,1854, 24.2543, 144.8573, 5282,   1213.2,   3.2112,   3.2111,2,  34.4485,2,-999.0000,9,     57.2,2,     57.1,2,   131.21,2,    40.98,2,     0.00,2,     2.94,2,   2351.6,2,   2377.8,2,   7.4135,2,    25.00,  -999.00,9,  -999.00,9,   3.2111,2,     2029
  49UF20180518,KS1805,  5378,  1,     18,  25252,2,20180527,1854, 24.2543, 144.8573, 5282,   1415.9,   2.7443,   2.7444,2,  34.5060,2,  34.5036,2,     66.3,2,     65.6,2,   140.84,2,    40.87,2,     0.00,2,     2.91,2,   2361.6,2,   2390.3,2,   7.4352,2,    25.00,  -999.00,9,  -999.00,9,   2.7444,2,     2024
  49UF20180518,KS1805,  5378,  1,     17,  25251,2,20180527,1854, 24.2543, 144.8573, 5282,   1617.6,   2.4359,   2.4358,2,  34.5484,2,-999.0000,9,     79.3,2,     79.0,6,   145.33,6,    40.15,6,     0.00,6,     2.86,6,   2357.6,2,   2400.0,2,   7.4569,2,    25.00,  -999.00,9,  -999.00,9,   2.4358,2,     2019
  49UF20180518,KS1805,  5378,  1,     16,  25250,2,20180527,1854, 24.2543, 144.8573, 5282,   1820.5,   2.1765,   2.1765,2,  34.5822,2,  34.5811,2,     91.2,2,     91.1,2,   148.49,2,    39.62,2,     0.00,2,     2.80,2,   2352.4,6,   2405.7,6,   7.4808,2,    25.00,  -999.00,9,  -999.00,9,   2.1765,2,     2015
  49UF20180518,KS1805,  5378,  1,     15,  25249,2,20180527,1854, 24.2543, 144.8573, 5282,   2024.0,   1.9867,   1.9867,2,  34.6062,2,-999.0000,9,    101.3,2,    101.2,2,   150.22,2,    39.02,2,     0.00,2,     2.76,2,   2353.5,2,   2408.0,2,   7.5007,6,    25.00,  -999.00,9,  -999.00,9,   1.9867,2,     2010
  49UF20180518,KS1805,  5378,  1,     14,  25248,2,20180527,1854, 24.2543, 144.8573, 5282,   2277.8,   1.8358,   1.8360,2,  34.6276,2,  34.6260,2,    111.5,2,    111.4,2,   151.07,2,    38.37,2,     0.00,2,     2.71,2,   2347.8,2,   2411.4,2,   7.5196,2,    25.00,  -999.00,9,  -999.00,9,   1.8360,2,     2004
  49UF20180518,KS1805,  5378,  1,     13,  25247,2,20180527,1854, 24.2543, 144.8573, 5282,   2533.7,   1.7290,   1.7290,2,  34.6427,2,  34.6407,2,    119.7,2,    119.1,2,   151.52,2,    37.90,2,     0.00,2,     2.67,2,   2340.4,2,   2413.2,2,   7.5337,2,    25.00,  -999.00,9,  -999.00,9,   1.7290,2,     1958
  49UF20180518,KS1805,  5378,  1,     12,  25246,2,20180527,1854, 24.2543, 144.8573, 5282,   2789.4,   1.6533,   1.6534,2,  34.6543,2,  34.6538,2,    127.1,2,    127.0,2,   151.25,2,    37.53,2,     0.00,2,     2.63,2,   2338.1,2,   2415.0,2,   7.5474,2,    25.00,  -999.00,9,  -999.00,9,   1.6534,2,     1952
  49UF20180518,KS1805,  5378,  1,     11,  25245,2,20180527,1854, 24.2543, 144.8573, 5282,   3041.2,   1.5997,   1.5997,2,  34.6623,2,  34.6626,2,    132.8,2,    132.4,6,   151.01,6,    37.17,6,     0.00,6,     2.60,6,   2334.1,2,   2415.1,2,   7.5578,2,    25.00,  -999.00,9,  -999.00,9,   1.5997,2,     1947
  49UF20180518,KS1805,  5378,  1,     10,  25244,2,20180527,1854, 24.2543, 144.8573, 5282,   3297.7,   1.5422,   1.5423,2,  34.6704,2,  34.6699,6,    139.7,2,    139.4,2,   149.95,2,    36.68,2,     0.00,2,     2.57,2,   2332.5,2,   2414.8,2,   7.5666,2,    25.00,  -999.00,9,  -999.00,9,   1.5423,2,     1941
  49UF20180518,KS1805,  5378,  1,      9,  25243,2,20180527,1854, 24.2543, 144.8573, 5282,   3552.8,   1.5234,   1.5235,2,  34.6751,2,  34.6741,2,    143.9,2,    144.0,2,   149.24,2,    36.48,2,     0.00,2,     2.54,2,   2329.9,2,   2415.0,6,   7.5745,2,    25.00,  -999.00,9,  -999.00,9,   1.5235,2,     1935
  49UF20180518,KS1805,  5378,  1,      8,  25242,2,20180527,1854, 24.2543, 144.8573, 5282,   3809.8,   1.4983,   1.4984,2,  34.6800,2,  34.6790,2,    149.0,2,    149.0,2,   147.84,2,    36.08,2,     0.00,2,     2.52,2,   2328.9,2,   2413.7,2,   7.5825,6,    25.00,  -999.00,9,  -999.00,9,   1.4984,2,     1929
  49UF20180518,KS1805,  5378,  1,      6,  25240,2,20180527,1854, 24.2543, 144.8573, 5282,   4067.0,   1.4841,   1.4842,2,  34.6839,2,  34.6828,2,    153.7,2,    153.6,2,   146.03,2,    35.78,2,     0.00,2,     2.49,2,   2320.4,3,   2412.1,2,   7.5892,2,    25.00,  -999.00,9,  -999.00,9,   1.4842,2,     1924
  49UF20180518,KS1805,  5378,  1,      7,  25241,2,20180527,1854, 24.2543, 144.8573, 5282,   4067.3,   1.4841,   1.4842,2,  34.6838,2,  34.6824,2,    153.8,2,    153.5,2,   145.96,2,    35.83,2,     0.00,2,     2.49,2,   2325.3,2,   2409.9,3,   7.5883,2,    25.00,  -999.00,9,  -999.00,9,   1.4842,2,     1924
  49UF20180518,KS1805,  5378,  1,      5,  25239,4,20180527,1854, 24.2543, 144.8573, 5282,   4322.2,   1.4788,   1.4788,2,  34.6868,2,  34.6642,4,    157.6,2,    135.1,4,   151.00,4,    37.04,4,     0.00,4,     2.59,4,   2334.5,4,   2414.7,4,   7.5627,4,    25.00,  -999.00,9,  -999.00,9,   1.4788,2,     1918
  49UF20180518,KS1805,  5378,  1,      4,  25238,2,20180527,1854, 24.2543, 144.8573, 5282,   4579.1,   1.4845,   1.4844,2,  34.6891,2,  34.6880,2,    161.0,2,    161.0,2,   142.78,2,    35.42,2,     0.00,2,     2.45,2,   2317.8,6,   2409.5,6,   7.5990,2,    25.00,  -999.00,9,  -999.00,9,   1.4844,2,     1912
  49UF20180518,KS1805,  5378,  1,      3,  24271,2,20180527,1854, 24.2543, 144.8573, 5282,   4836.5,   1.4900,   1.4900,2,  34.6914,2,  34.6902,2,    164.3,2,    164.4,2,   140.57,2,    35.09,2,     0.00,2,     2.44,2,   2316.7,2,   2407.8,2,   7.6030,6,    25.00,  -999.00,9,  -999.00,9,   1.4900,2,     1906
  49UF20180518,KS1805,  5378,  1,      2,  25236,2,20180527,1854, 24.2543, 144.8573, 5282,   5093.8,   1.5017,   1.5018,2,  34.6935,2,  34.6936,2,    167.4,2,    167.4,6,   138.83,6,    34.84,6,     0.00,6,     2.42,6,   2308.9,2,   2406.9,2,   7.6064,2,    25.00,  -999.00,9,  -999.00,9,   1.5018,2,     1901
  49UF20180518,KS1805,  5378,  1,      1,  24272,2,20180527,1854, 24.2543, 144.8573, 5282,   5401.7,   1.5202,   1.5202,2,  34.6954,2,  34.6939,2,    170.5,2,    170.5,2,   137.19,2,    34.62,2,     0.00,2,     2.40,2,   2306.2,2,   2405.1,2,   7.6099,2,    25.00,  -999.00,9,  -999.00,9,   1.5202,2,     1854