BOTTLE,20200311PRINUNIVRMK
EXPOCODE,SECT_ID,STNNBR,CASTNO,SAMPNO,BTLNBR,BTLNBR_FLAG_W,DATE,TIME,LATITUDE,LONGITUDE,DEPTH,CTDPRS,CTDTMP,SBE35,SBE35_FLAG_W,CTDSAL,CTDSAL_FLAG_W,SALNTY,SALNTY_FLAG_W,CTDOXY,CTDOXY_FLAG_W,OXYGEN,OXYGEN_FLAG_W,SILCAT,SILCAT_FLAG_W,NITRAT,NITRAT_FLAG_W,NITRIT,NITRIT_FLAG_W,PHSPHT,PHSPHT_FLAG_W,TCARBN,TCARBN_FLAG_W,ALKALI,ALKALI_FLAG_W,PH_TOT,PH_TOT_FLAG_W,PH_TMP,CHLORA,CHLORA_FLAG_W,PPHYTN,PPHYTN_FLAG_W,SBE35,SBE35_FLAG_W,BTL_TIME
,,,,,,,,,,,METERS,DBAR,ITS-90,,,PSS-78,,PSS-78,,UMOL/KG,,UMOL/KG,,UMOL/KG,,UMOL/KG,,UMOL/KG,,UMOL/KG,,UMOL/KG,,UMOL/KG,,,,DEG C,UG/KG,,UG/KG,,,,
  49UF20180518,KS1805,  5381,  1,     99,     99,2,20180528,2147, 24.2595, 141.1997, 1852,      0.0,  28.5971,-999.0000,9,  34.7829,2,-999.0000,9,    198.1,2,    197.8,2,     1.19,2,    -0.01,2,     0.01,2,     0.02,2,   -999.0,9,   -999.0,9,-999.0000,9,  -999.00,  -999.00,9,  -999.00,9,-999.0000,9,     2220
  49UF20180518,KS1805,  5381,  1,     33,  25267,2,20180528,2147, 24.2595, 141.1997, 1852,     11.9,  28.5811,  28.5828,2,  34.7827,2,-999.0000,9,    198.0,2,    198.2,2,     1.16,2,     0.00,2,     0.00,2,     0.01,2,   -999.0,9,   -999.0,9,-999.0000,9,  -999.00,  -999.00,9,  -999.00,9,  28.5828,2,     2243
  49UF20180518,KS1805,  5381,  1,     32,  25266,2,20180528,2147, 24.2595, 141.1997, 1852,     26.6,  27.7740,  27.7817,2,  34.8288,2,-999.0000,9,    205.0,2,    205.2,2,     1.18,2,     0.00,2,     0.00,2,     0.00,2,   -999.0,9,   -999.0,9,-999.0000,9,  -999.00,  -999.00,9,  -999.00,9,  27.7817,2,     2242
  49UF20180518,KS1805,  5381,  1,     31,  25265,2,20180528,2147, 24.2595, 141.1997, 1852,     51.3,  26.2659,  26.2769,2,  34.8739,2,-999.0000,9,    209.0,2,    208.7,2,     1.22,2,     0.00,2,     0.00,2,     0.00,2,   -999.0,9,   -999.0,9,-999.0000,9,  -999.00,  -999.00,9,  -999.00,9,  26.2769,2,     2237
  49UF20180518,KS1805,  5381,  1,     30,  25264,2,20180528,2147, 24.2595, 141.1997, 1852,     76.2,  25.2579,  25.2662,2,  34.9445,2,-999.0000,9,    207.2,2,    207.3,2,     1.32,6,     0.00,6,     0.00,6,     0.01,6,   -999.0,9,   -999.0,9,-999.0000,9,  -999.00,  -999.00,9,  -999.00,9,  25.2662,2,     2236
  49UF20180518,KS1805,  5381,  1,     29,  25263,2,20180528,2147, 24.2595, 141.1997, 1852,    101.9,  22.9176,  22.9172,2,  35.0642,2,-999.0000,9,    196.0,2,    195.0,2,     1.75,2,     0.28,2,     0.06,2,     0.07,2,   -999.0,9,   -999.0,9,-999.0000,9,  -999.00,  -999.00,9,  -999.00,9,  22.9172,2,     2235
  49UF20180518,KS1805,  5381,  1,     28,  25262,2,20180528,2147, 24.2595, 141.1997, 1852,    101.9,  22.9134,  22.9170,2,  35.0646,2,-999.0000,9,    196.0,2,    195.2,2,     1.76,2,     0.28,2,     0.06,2,     0.08,2,   -999.0,9,   -999.0,9,-999.0000,9,  -999.00,  -999.00,9,  -999.00,9,  22.9170,2,     2235
  49UF20180518,KS1805,  5381,  1,     24,  25258,2,20180528,2147, 24.2595, 141.1997, 1852,    127.0,  21.7785,  21.8061,2,  35.0907,2,-999.0000,9,    186.8,2,    187.3,2,     2.16,2,     1.39,2,     0.05,2,     0.16,2,   -999.0,9,   -999.0,9,-999.0000,9,  -999.00,  -999.00,9,  -999.00,9,  21.8061,2,     2233
  49UF20180518,KS1805,  5381,  1,     23,  25257,2,20180528,2147, 24.2595, 141.1997, 1852,    151.9,  21.0576,  21.0597,2,  35.0622,2,-999.0000,9,    186.8,2,    186.7,2,     2.42,2,     1.97,2,     0.03,2,     0.19,2,   -999.0,9,   -999.0,9,-999.0000,9,  -999.00,  -999.00,9,  -999.00,9,  21.0597,2,     2232
  49UF20180518,KS1805,  5381,  1,     22,  24473,2,20180528,2147, 24.2595, 141.1997, 1852,    202.5,  18.4505,  18.4533,2,  34.8750,2,-999.0000,9,    199.3,2,    199.4,2,     3.37,2,     3.45,2,     0.01,2,     0.25,2,   -999.0,9,   -999.0,9,-999.0000,9,  -999.00,  -999.00,9,  -999.00,9,  18.4533,2,     2230
  49UF20180518,KS1805,  5381,  1,     21,  25255,2,20180528,2147, 24.2595, 141.1997, 1852,    252.5,  17.5036,  17.5066,2,  34.8004,2,-999.0000,9,    202.1,2,    202.0,2,     4.25,2,     4.63,2,     0.01,2,     0.32,2,   -999.0,9,   -999.0,9,-999.0000,9,  -999.00,  -999.00,9,  -999.00,9,  17.5066,2,     2228
  49UF20180518,KS1805,  5381,  1,     20,  24270,2,20180528,2147, 24.2595, 141.1997, 1852,    303.0,  16.6570,  16.6594,2,  34.7275,2,-999.0000,9,    202.9,2,    202.9,2,     5.45,2,     5.75,2,     0.01,2,     0.40,2,   -999.0,9,   -999.0,9,-999.0000,9,  -999.00,  -999.00,9,  -999.00,9,  16.6594,2,     2227
  49UF20180518,KS1805,  5381,  1,     19,  25253,2,20180528,2147, 24.2595, 141.1997, 1852,    403.4,  14.1397,  14.1406,2,  34.5063,2,-999.0000,9,    190.3,2,    190.3,2,    12.84,2,    10.80,2,     0.01,2,     0.75,2,   -999.0,9,   -999.0,9,-999.0000,9,  -999.00,  -999.00,9,  -999.00,9,  14.1406,2,     2224
  49UF20180518,KS1805,  5381,  1,     15,  25249,2,20180528,2147, 24.2595, 141.1997, 1852,    504.0,  11.4691,  11.5165,2,  34.2943,2,-999.0000,9,    179.1,2,    178.2,2,    21.39,2,    16.16,2,     0.00,2,     1.15,2,   -999.0,9,   -999.0,9,-999.0000,9,  -999.00,  -999.00,9,  -999.00,9,  11.5165,2,     2221
  49UF20180518,KS1805,  5381,  1,     14,  25248,2,20180528,2147, 24.2595, 141.1997, 1852,    609.3,   8.7705,   8.7712,2,  34.1677,2,-999.0000,9,    148.8,2,    148.3,2,    41.03,2,    23.81,2,     0.00,2,     1.70,2,   -999.0,9,   -999.0,9,-999.0000,9,  -999.00,  -999.00,9,  -999.00,9,   8.7712,2,     2218
  49UF20180518,KS1805,  5381,  1,     13,  25247,2,20180528,2147, 24.2595, 141.1997, 1852,    710.1,   6.9304,   6.9308,2,  34.1041,2,-999.0000,9,    115.4,2,    115.3,2,    56.67,2,    30.06,2,     0.00,2,     2.17,2,   -999.0,9,   -999.0,9,-999.0000,9,  -999.00,  -999.00,9,  -999.00,9,   6.9308,2,     2215
  49UF20180518,KS1805,  5381,  1,     12,  25246,2,20180528,2147, 24.2595, 141.1997, 1852,    809.5,   5.2218,   5.2257,2,  34.1735,2,-999.0000,9,     68.2,2,     68.0,2,    84.38,2,    37.31,2,     0.00,2,     2.70,2,   -999.0,9,   -999.0,9,-999.0000,9,  -999.00,  -999.00,9,  -999.00,9,   5.2257,2,     2212
  49UF20180518,KS1805,  5381,  1,     11,  25245,2,20180528,2147, 24.2595, 141.1997, 1852,    907.5,   4.5417,   4.5463,2,  34.2578,2,-999.0000,9,     57.5,2,     57.2,2,   100.52,2,    39.22,2,     0.00,2,     2.83,2,   -999.0,9,   -999.0,9,-999.0000,9,  -999.00,  -999.00,9,  -999.00,9,   4.5463,2,     2209
  49UF20180518,KS1805,  5381,  1,     10,  25244,2,20180528,2147, 24.2595, 141.1997, 1852,   1008.8,   3.9211,   3.9204,2,  34.3188,2,-999.0000,9,     55.2,2,     55.1,2,   115.90,2,    40.14,2,     0.00,2,     2.88,2,   -999.0,9,   -999.0,9,-999.0000,9,  -999.00,  -999.00,9,  -999.00,9,   3.9204,2,     2207
  49UF20180518,KS1805,  5381,  1,      6,  25240,2,20180528,2147, 24.2595, 141.1997, 1852,   1212.6,   3.1596,   3.1597,2,  34.4275,2,-999.0000,9,     57.2,2,     57.0,2,   132.96,2,    40.94,2,     0.00,2,     2.93,2,   -999.0,9,   -999.0,9,-999.0000,9,  -999.00,  -999.00,9,  -999.00,9,   3.1597,2,     2202
  49UF20180518,KS1805,  5381,  1,      5,  25239,2,20180528,2147, 24.2595, 141.1997, 1852,   1415.6,   2.7193,   2.7195,2,  34.4964,2,-999.0000,9,     66.2,2,     65.5,6,   141.53,6,    40.77,6,     0.00,6,     2.91,6,   -999.0,9,   -999.0,9,-999.0000,9,  -999.00,  -999.00,9,  -999.00,9,   2.7195,2,     2157
  49UF20180518,KS1805,  5381,  1,      3,  24271,4,20180528,2147, 24.2595, 141.1997, 1852,   1619.0,   2.3444,   2.3444,2,  34.5622,2,-999.0000,9,     90.7,2,     75.6,4,   141.48,4,    40.24,4,     0.00,4,     2.86,4,   -999.0,9,   -999.0,9,-999.0000,9,  -999.00,  -999.00,9,  -999.00,9,   2.3444,2,     2153
  49UF20180518,KS1805,  5381,  1,      4,  25238,2,20180528,2147, 24.2595, 141.1997, 1852,   1619.3,   2.3442,   2.3443,2,  34.5622,2,-999.0000,9,     90.7,2,     90.7,2,   143.16,2,    39.36,2,     0.00,2,     2.79,2,   -999.0,9,   -999.0,9,-999.0000,9,  -999.00,  -999.00,9,  -999.00,9,   2.3443,2,     2153
  49UF20180518,KS1805,  5381,  1,      2,  25236,2,20180528,2147, 24.2595, 141.1997, 1852,   1844.2,   2.0917,   2.0918,2,  34.6020,2,-999.0000,9,    107.1,2,    106.6,2,   144.04,2,    38.54,2,     0.00,2,     2.73,2,   -999.0,9,   -999.0,9,-999.0000,9,  -999.00,  -999.00,9,  -999.00,9,   2.0918,2,     2147
  49UF20180518,KS1805,  5382,  1,     99,     99,2,20180529,0523, 24.2490, 140.2613, 4062,      0.0,  28.9712,-999.0000,9,  34.7669,2,  34.7650,2,    197.5,2,    197.4,2,     1.20,2,     0.00,2,     0.00,2,     0.02,2,   1956.6,2,   2282.7,2,   8.1129,2,    25.00,     0.06,2,     0.02,2,-999.0000,9,      611
  49UF20180518,KS1805,  5382,  1,     33,  25267,2,20180529,0523, 24.2490, 140.2613, 4062,     11.2,  28.6112,  28.6078,2,  34.7625,2,  34.7672,2,    197.8,2,    198.5,2,     1.20,2,     0.00,2,     0.00,2,     0.01,2,   1956.3,2,   2282.8,2,   8.1131,2,    25.00,     0.06,2,     0.02,2,  28.6078,2,      626
  49UF20180518,KS1805,  5382,  1,     32,  25266,2,20180529,0523, 24.2490, 140.2613, 4062,     26.4,  27.2945,  27.2898,2,  34.8973,2,-999.0000,9,    205.9,2,    206.4,2,     1.23,2,     0.00,2,     0.00,2,     0.00,2,   1966.9,2,   2290.7,2,   8.1041,2,    25.00,     0.06,2,     0.02,2,  27.2898,2,      624
  49UF20180518,KS1805,  5382,  1,     31,  25265,2,20180529,0523, 24.2490, 140.2613, 4062,     51.6,  24.8984,  24.9058,2,  34.9239,2,  34.9239,2,    216.1,2,    216.0,2,     1.28,2,     0.00,2,     0.00,2,     0.01,2,   1974.0,2,   2291.5,2,   8.1012,2,    25.00,     0.08,2,     0.02,2,  24.9058,2,      620
  49UF20180518,KS1805,  5382,  1,     30,  25264,2,20180529,0523, 24.2490, 140.2613, 4062,     76.0,  24.0340,  24.0338,2,  34.9458,2,-999.0000,9,    216.5,2,    216.3,2,     1.36,2,     0.00,2,     0.00,2,     0.01,2,   1978.4,2,   2294.4,2,   8.0963,2,    25.00,     0.14,2,     0.06,2,  24.0338,2,      618
  49UF20180518,KS1805,  5382,  1,     29,  25263,2,20180529,0523, 24.2490, 140.2613, 4062,    101.7,  23.1798,  23.1793,2,  34.9998,2,  35.0001,2,    213.0,2,    212.6,2,     1.53,2,     0.00,2,     0.00,2,     0.01,2,   1995.4,2,   2298.5,2,   8.0753,2,    25.00,     0.21,2,     0.13,2,  23.1793,2,      616
  49UF20180518,KS1805,  5382,  1,     28,  25262,2,20180529,0523, 24.2490, 140.2613, 4062,    127.6,  22.4051,  22.4068,2,  35.0613,2,-999.0000,9,    200.4,2,    199.3,2,     1.84,2,     0.22,2,     0.03,2,     0.07,2,   2023.0,2,   2303.5,2,   8.0341,2,    25.00,     0.35,2,     0.53,2,  22.4068,2,      615
  49UF20180518,KS1805,  5382,  1,     24,  25258,2,20180529,0523, 24.2490, 140.2613, 4062,    151.9,  20.9922,  20.9841,2,  35.0342,2,  35.0336,2,    193.7,2,    193.4,2,     2.27,2,     1.34,2,     0.07,2,     0.14,2,   2034.0,2,   2299.7,2,   8.0006,2,    25.00,     0.11,2,     0.28,2,  20.9841,2,      613
  49UF20180518,KS1805,  5382,  1,     23,  25257,2,20180529,0523, 24.2490, 140.2613, 4062,    202.1,  18.8262,  18.8251,2,  34.9020,2,-999.0000,9,    199.4,2,    199.2,2,     3.04,2,     2.69,2,     0.02,2,     0.22,2,   2042.7,2,   2290.4,2,   7.9726,2,    25.00,     0.03,2,     0.11,2,  18.8251,2,      611
  49UF20180518,KS1805,  5382,  1,     22,  24473,2,20180529,0523, 24.2490, 140.2613, 4062,    252.6,  17.5121,  17.5093,2,  34.8001,2,  34.7996,2,    201.1,2,    200.9,6,     4.11,6,     4.50,6,     0.01,6,     0.31,6,   2050.1,2,   2290.1,2,   7.9368,2,    25.00,  -999.00,9,  -999.00,9,  17.5093,2,      610
  49UF20180518,KS1805,  5382,  1,     20,  24270,2,20180529,0523, 24.2490, 140.2613, 4062,    302.5,  16.7576,  16.7593,2,  34.7364,2,-999.0000,9,    203.6,2,    203.4,2,     5.13,2,     5.49,2,     0.01,2,     0.38,2,   2051.9,2,   2283.4,2,   7.9386,2,    25.00,  -999.00,9,  -999.00,9,  16.7593,2,      608
  49UF20180518,KS1805,  5382,  1,     21,  25255,2,20180529,0523, 24.2490, 140.2613, 4062,    302.8,  16.7582,  16.7583,2,  34.7366,2,-999.0000,9,    203.6,2,    203.3,2,     5.14,2,     5.49,2,     0.01,2,     0.37,2,   2053.6,2,   2283.7,2,   7.9510,3,    25.00,  -999.00,9,  -999.00,9,  16.7583,2,      608
  49UF20180518,KS1805,  5382,  1,     19,  25253,2,20180529,0523, 24.2490, 140.2613, 4062,    402.6,  13.6428,  13.6401,2,  34.4551,2,  34.4500,2,    189.2,2,    188.8,2,    13.77,2,    11.79,2,     0.00,2,     0.82,2,   2092.2,2,   2275.0,2,   7.8379,2,    25.00,  -999.00,9,  -999.00,9,  13.6401,2,      605
  49UF20180518,KS1805,  5382,  1,     15,  25249,2,20180529,0523, 24.2490, 140.2613, 4062,    506.5,  10.1014,  10.1070,2,  34.2139,2,-999.0000,9,    168.9,2,    168.3,2,    30.18,2,    19.66,2,     0.00,2,     1.39,2,   2150.0,6,   2276.5,6,   7.7133,2,    25.00,  -999.00,9,  -999.00,9,  10.1070,2,      602
  49UF20180518,KS1805,  5382,  1,     14,  25248,2,20180529,0523, 24.2490, 140.2613, 4062,    606.1,   7.4539,   7.4502,2,  34.1222,2,  34.1221,2,    130.4,2,    128.9,2,    54.89,2,    28.20,2,     0.00,2,     2.03,2,   2214.7,2,   2292.5,2,   7.5746,6,    25.00,  -999.00,9,  -999.00,9,   7.4502,2,      559
  49UF20180518,KS1805,  5382,  1,     13,  25247,2,20180529,0523, 24.2490, 140.2613, 4062,    708.7,   5.7623,   5.7710,2,  34.1324,2,-999.0000,9,     93.6,2,     93.1,2,    75.30,2,    34.14,2,     0.00,2,     2.47,2,   2264.2,2,   2309.6,2,   7.4764,3,    25.00,  -999.00,9,  -999.00,9,   5.7710,2,      556
  49UF20180518,KS1805,  5382,  1,     12,  25246,3,20180529,0523, 24.2490, 140.2613, 4062,    807.2,   4.9239,   4.9203,2,  34.2187,2,  34.2185,2,     70.8,2,     70.9,2,    93.58,2,    37.45,2,     0.00,2,     2.71,2,   2294.5,2,   2332.1,2,   7.4300,2,    25.00,  -999.00,9,  -999.00,9,   4.9203,2,      554
  49UF20180518,KS1805,  5382,  1,     11,  25245,2,20180529,0523, 24.2490, 140.2613, 4062,    909.4,   4.3783,   4.3775,2,  34.2722,2,-999.0000,9,     60.3,2,     59.9,2,   105.12,2,    39.21,2,     0.00,2,     2.83,2,   2316.9,2,   2343.6,2,   7.4119,2,    25.00,  -999.00,9,  -999.00,9,   4.3775,2,      551
  49UF20180518,KS1805,  5382,  1,     10,  25244,2,20180529,0523, 24.2490, 140.2613, 4062,   1009.2,   3.8606,   3.8608,2,  34.3405,2,  34.3412,6,     55.7,2,     55.9,2,   116.91,2,    40.27,2,     0.00,2,     2.89,2,   2331.3,2,   2355.7,2,   7.4059,2,    25.00,  -999.00,9,  -999.00,9,   3.8608,2,      548
  49UF20180518,KS1805,  5382,  1,      6,  25240,2,20180529,0523, 24.2490, 140.2613, 4062,   1211.5,   3.1477,   3.1482,2,  34.4446,2,-999.0000,9,     59.9,2,     59.6,6,   132.48,6,    40.94,6,     0.00,6,     2.92,6,   2350.3,2,   2376.8,2,   7.4151,2,    25.00,  -999.00,9,  -999.00,9,   3.1482,2,      543
  49UF20180518,KS1805,  5382,  1,      4,  25238,2,20180529,0523, 24.2490, 140.2613, 4062,   1414.4,   2.7351,   2.7376,2,  34.5081,2,  34.5078,2,     72.4,2,     72.4,2,   139.68,2,    40.42,2,     0.00,2,     2.88,2,   2352.5,2,   2389.2,2,   7.4442,2,    25.00,  -999.00,9,  -999.00,9,   2.7376,2,      539
  49UF20180518,KS1805,  5382,  1,      5,  25239,2,20180529,0523, 24.2490, 140.2613, 4062,   1414.7,   2.7370,   2.7375,2,  34.5078,2,  34.5074,2,     72.3,2,     71.9,2,   139.51,2,    40.45,2,     0.00,2,     2.87,2,   2351.9,2,   2388.2,2,   7.4440,2,    25.00,  -999.00,9,  -999.00,9,   2.7375,2,      539
  49UF20180518,KS1805,  5382,  1,      3,  24271,2,20180529,0523, 24.2490, 140.2613, 4062,   1619.4,   2.4422,   2.4435,2,  34.5547,2,  34.5547,2,     87.4,2,     87.5,2,   142.77,2,    39.59,2,     0.00,2,     2.81,2,   2351.5,6,   2397.1,6,   7.4773,2,    25.00,  -999.00,9,  -999.00,9,   2.4435,2,      534
  49UF20180518,KS1805,  5382,  1,      2,  25236,2,20180529,0523, 24.2490, 140.2613, 4062,   1822.6,   2.2000,   2.2002,2,  34.5929,2,  34.5925,2,    102.7,2,    102.5,2,   143.47,2,    38.71,2,     0.00,2,     2.74,2,   2340.8,2,   2402.6,2,   7.5082,6,    25.00,  -999.00,9,  -999.00,9,   2.2002,2,      529
  49UF20180518,KS1805,  5382,  1,      1,  24272,2,20180529,0523, 24.2490, 140.2613, 4062,   2025.6,   2.0410,   2.0411,2,  34.6153,2,  34.6163,6,    113.0,2,    112.5,2,   144.10,2,    38.22,2,     0.00,2,     2.69,2,   2342.8,2,   2406.2,2,   7.5246,2,    25.00,  -999.00,9,  -999.00,9,   2.0411,2,      524