BOTTLE,20200311PRINUNIVRMK
EXPOCODE,SECT_ID,STNNBR,CASTNO,SAMPNO,BTLNBR,BTLNBR_FLAG_W,DATE,TIME,LATITUDE,LONGITUDE,DEPTH,CTDPRS,CTDTMP,SBE35,SBE35_FLAG_W,CTDSAL,CTDSAL_FLAG_W,SALNTY,SALNTY_FLAG_W,CTDOXY,CTDOXY_FLAG_W,OXYGEN,OXYGEN_FLAG_W,SILCAT,SILCAT_FLAG_W,NITRAT,NITRAT_FLAG_W,NITRIT,NITRIT_FLAG_W,PHSPHT,PHSPHT_FLAG_W,TCARBN,TCARBN_FLAG_W,ALKALI,ALKALI_FLAG_W,PH_TOT,PH_TOT_FLAG_W,PH_TMP,CHLORA,CHLORA_FLAG_W,PPHYTN,PPHYTN_FLAG_W,SBE35,SBE35_FLAG_W,BTL_TIME
,,,,,,,,,,,METERS,DBAR,ITS-90,,,PSS-78,,PSS-78,,UMOL/KG,,UMOL/KG,,UMOL/KG,,UMOL/KG,,UMOL/KG,,UMOL/KG,,UMOL/KG,,UMOL/KG,,,,DEG C,UG/KG,,UG/KG,,,,
  49UF20180518,KS1805,  5395,  1,     99,     99,2,20180602,1712, 26.0637, 127.9008,  458,      0.0,  26.0680,-999.0000,9,  34.7000,2,-999.0000,9,    204.7,2,    206.4,2,     1.30,2,     0.00,2,     0.00,2,     0.01,2,   -999.0,9,   -999.0,9,-999.0000,9,  -999.00,     0.11,2,     0.04,2,-999.0000,9,     1705
  49UF20180518,KS1805,  5395,  1,     33,  25267,2,20180602,1712, 26.0637, 127.9008,  458,     11.4,  25.6581,  25.6651,2,  34.7080,2,-999.0000,9,    206.9,2,    208.1,2,     1.28,2,     0.00,2,     0.00,2,     0.00,2,   -999.0,9,   -999.0,9,-999.0000,9,  -999.00,     0.11,2,     0.05,2,  25.6651,2,     1732
  49UF20180518,KS1805,  5395,  1,     32,  25266,2,20180602,1712, 26.0637, 127.9008,  458,     27.1,  24.8880,  24.8892,2,  34.7056,2,-999.0000,9,    210.1,2,    211.7,2,     1.37,2,     0.00,2,     0.00,2,     0.00,2,   -999.0,9,   -999.0,9,-999.0000,9,  -999.00,     0.21,2,     0.09,2,  24.8892,2,     1731
  49UF20180518,KS1805,  5395,  1,     31,  25265,2,20180602,1712, 26.0637, 127.9008,  458,     52.0,  23.4832,  23.4875,2,  34.7499,2,-999.0000,9,    213.6,2,    214.8,2,     1.42,2,     0.00,2,     0.00,2,     0.01,2,   -999.0,9,   -999.0,9,-999.0000,9,  -999.00,     0.27,2,     0.17,2,  23.4875,2,     1729
  49UF20180518,KS1805,  5395,  1,     27,  25261,2,20180602,1712, 26.0637, 127.9008,  458,     77.2,  22.9190,  22.9194,2,  34.8013,2,-999.0000,9,    211.1,2,    212.3,2,     1.54,2,     0.06,2,     0.03,2,     0.02,2,   -999.0,9,   -999.0,9,-999.0000,9,  -999.00,     0.37,2,     0.26,2,  22.9194,2,     1728
  49UF20180518,KS1805,  5395,  1,     26,  25260,2,20180602,1712, 26.0637, 127.9008,  458,    102.9,  21.5339,  21.5334,2,  34.8961,2,-999.0000,9,    206.8,2,    208.0,2,     1.85,2,     0.69,2,     0.12,2,     0.07,2,   -999.0,9,   -999.0,9,-999.0000,9,  -999.00,  -999.00,9,  -999.00,9,  21.5334,2,     1726
  49UF20180518,KS1805,  5395,  1,     25,  25259,2,20180602,1712, 26.0637, 127.9008,  458,    103.4,  21.5272,  21.5309,2,  34.8950,2,-999.0000,9,    206.8,2,    207.8,2,     1.85,2,     0.72,2,     0.12,2,     0.07,2,   -999.0,9,   -999.0,9,-999.0000,9,  -999.00,     0.15,2,     0.21,2,  21.5309,2,     1726
  49UF20180518,KS1805,  5395,  1,     18,  25252,2,20180602,1712, 26.0637, 127.9008,  458,    128.3,  20.9552,  20.9503,2,  34.9066,2,-999.0000,9,    202.2,2,    204.0,2,     2.23,2,     1.47,2,     0.06,2,     0.12,2,   -999.0,9,   -999.0,9,-999.0000,9,  -999.00,     0.10,2,     0.13,2,  20.9503,2,     1724
  49UF20180518,KS1805,  5395,  1,     17,  25251,2,20180602,1712, 26.0637, 127.9008,  458,    153.3,  20.6524,  20.6501,2,  34.9045,2,-999.0000,9,    199.4,2,    200.8,2,     2.51,2,     2.00,2,     0.03,2,     0.15,2,   -999.0,9,   -999.0,9,-999.0000,9,  -999.00,     0.05,2,     0.08,2,  20.6501,2,     1723
  49UF20180518,KS1805,  5395,  1,     16,  25250,2,20180602,1712, 26.0637, 127.9008,  458,    203.9,  19.4193,  19.4276,2,  34.9158,2,-999.0000,9,    197.7,2,    198.9,6,     2.73,6,     2.79,6,     0.01,6,     0.20,6,   -999.0,9,   -999.0,9,-999.0000,9,  -999.00,     0.01,2,     0.01,2,  19.4276,2,     1721
  49UF20180518,KS1805,  5395,  1,      8,  25242,2,20180602,1712, 26.0637, 127.9008,  458,    256.0,  18.2614,  18.2636,2,  34.8414,2,-999.0000,9,    195.8,2,    196.8,2,     3.82,2,     4.20,2,     0.01,2,     0.29,2,   -999.0,9,   -999.0,9,-999.0000,9,  -999.00,  -999.00,9,  -999.00,9,  18.2636,2,     1719
  49UF20180518,KS1805,  5395,  1,      7,  25241,2,20180602,1712, 26.0637, 127.9008,  458,    305.0,  17.0367,  17.0373,2,  34.7423,2,-999.0000,9,    194.7,2,    196.5,2,     5.38,2,     5.86,2,     0.00,2,     0.40,2,   -999.0,9,   -999.0,9,-999.0000,9,  -999.00,  -999.00,9,  -999.00,9,  17.0373,2,     1716
  49UF20180518,KS1805,  5395,  1,      2,  25236,2,20180602,1712, 26.0637, 127.9008,  458,    443.2,  14.2650,  14.2645,2,  34.5093,2,-999.0000,9,    182.0,2,    182.2,2,    12.90,2,    11.36,2,     0.01,2,     0.79,2,   -999.0,9,   -999.0,9,-999.0000,9,  -999.00,  -999.00,9,  -999.00,9,  14.2645,2,     1712
  49UF20180518,KS1805,  5396,  1,     99,     99,2,20180607,0812, 26.9963, 127.4888,  501,      0.0,  26.0122,-999.0000,9,  34.6079,2,  34.6271,2,    209.7,2,    209.1,2,     1.34,2,     0.00,2,     0.00,2,     0.01,2,   1968.9,2,   2276.3,2,   8.0815,2,    25.00,     0.08,2,     0.02,2,-999.0000,9,      810
  49UF20180518,KS1805,  5396,  1,     30,  25264,2,20180607,0812, 26.9963, 127.4888,  501,     10.9,  25.8141,  25.8186,2,  34.6115,2,  34.6138,2,    210.3,2,    210.5,2,     1.31,2,     0.00,2,     0.00,2,     0.00,2,   1964.9,2,   2272.4,2,   8.0855,2,    25.00,     0.08,2,     0.02,2,  25.8186,2,      839
  49UF20180518,KS1805,  5396,  1,     29,  25263,2,20180607,0812, 26.9963, 127.4888,  501,     26.1,  25.0192,  25.0204,2,  34.6495,2,  34.6612,4,    212.9,2,    212.7,2,     1.33,2,     0.00,2,     0.00,2,     0.00,2,   1964.8,2,   2277.3,2,   8.0835,2,    25.00,     0.08,2,     0.02,2,  25.0204,2,      837
  49UF20180518,KS1805,  5396,  1,     28,  25262,2,20180607,0812, 26.9963, 127.4888,  501,     53.8,  22.8657,  22.8684,2,  34.7747,2,  34.7719,2,    218.2,2,    217.5,2,     1.52,2,     0.00,2,     0.00,2,     0.01,2,   1978.8,2,   2287.4,2,   8.0742,2,    25.00,     0.13,2,     0.05,2,  22.8684,2,      833
  49UF20180518,KS1805,  5396,  1,     24,  25258,2,20180607,0812, 26.9963, 127.4888,  501,     76.7,  22.1867,  22.1954,2,  34.8302,2,  34.8248,2,    213.6,2,    213.3,2,     1.73,2,    -0.01,2,     0.01,2,     0.03,2,   1992.5,2,   2287.8,2,   8.0589,2,    25.00,     0.44,2,     0.43,2,  22.1954,2,      831
  49UF20180518,KS1805,  5396,  1,     23,  25257,2,20180607,0812, 26.9963, 127.4888,  501,    102.2,  21.6686,  21.6657,2,  34.8626,2,  34.8633,2,    202.6,2,    202.2,2,     2.09,2,     1.20,2,     0.08,2,     0.10,2,   2008.4,6,   2288.5,6,   8.0339,2,    25.00,     0.33,2,     0.45,2,  21.6657,2,      829
  49UF20180518,KS1805,  5396,  1,     22,  24473,2,20180607,0812, 26.9963, 127.4888,  501,    127.6,  21.0180,  21.0174,2,  34.8862,2,  34.8875,2,    197.5,2,    196.9,2,     2.53,2,     2.11,2,     0.03,2,     0.15,2,   2017.2,2,   2291.4,2,   8.0154,6,    25.00,     0.08,2,     0.13,2,  21.0174,2,      828
  49UF20180518,KS1805,  5396,  1,     18,  25252,2,20180607,0812, 26.9963, 127.4888,  501,    152.8,  20.6050,  20.6047,2,  34.8913,2,  34.8907,2,    195.8,2,    195.5,2,     2.85,2,     2.56,2,     0.02,2,     0.18,2,   2027.0,2,   2292.5,2,   8.0047,2,    25.00,     0.03,2,     0.04,2,  20.6047,2,      826
  49UF20180518,KS1805,  5396,  1,     17,  25251,2,20180607,0812, 26.9963, 127.4888,  501,    202.9,  19.2628,  19.2631,2,  34.8720,2,  34.8709,2,    192.1,2,    192.1,2,     3.89,2,     3.95,2,     0.01,2,     0.28,2,   2040.1,2,   2290.5,2,   7.9703,2,    25.00,  -999.00,9,  -999.00,9,  19.2631,2,      824
  49UF20180518,KS1805,  5396,  1,     16,  25250,2,20180607,0812, 26.9963, 127.4888,  501,    202.9,  19.2625,  19.2623,2,  34.8717,2,  34.8707,2,    192.1,2,    191.7,2,     3.90,2,     3.96,2,     0.01,2,     0.28,2,   2044.5,2,   2288.9,2,   7.9718,2,    25.00,     0.00,2,     0.01,2,  19.2623,2,      823
  49UF20180518,KS1805,  5396,  1,      9,  25243,2,20180607,0812, 26.9963, 127.4888,  501,    253.3,  18.5660,  18.5673,2,  34.8364,2,  34.8350,2,    191.4,2,    190.9,6,     4.60,6,     4.73,6,     0.01,6,     0.32,6,   2051.1,2,   2288.3,2,   7.9569,2,    25.00,  -999.00,9,  -999.00,9,  18.5673,2,      821
  49UF20180518,KS1805,  5396,  1,      8,  25242,2,20180607,0812, 26.9963, 127.4888,  501,    303.3,  17.4327,  17.4309,2,  34.7614,2,  34.7607,2,    190.0,2,    189.3,2,     6.19,2,     6.20,2,     0.00,2,     0.42,2,   2058.4,6,   2285.9,6,   7.9305,2,    25.00,  -999.00,9,  -999.00,9,  17.4309,2,      819
  49UF20180518,KS1805,  5396,  1,      7,  25241,2,20180607,0812, 26.9963, 127.4888,  501,    405.9,  14.9520,  14.9549,2,  34.5746,2,  34.5741,2,    179.0,2,    179.1,2,    12.84,2,    10.84,2,     0.01,2,     0.75,2,   2092.5,2,   2280.8,2,   7.8561,6,    25.00,  -999.00,9,  -999.00,9,  14.9549,2,      816
  49UF20180518,KS1805,  5396,  1,      1,  24272,2,20180607,0812, 26.9963, 127.4888,  501,    490.4,  12.5449,  12.5498,2,  34.4399,2,  34.4533,4,    160.0,2,    161.5,2,    23.17,2,    15.85,2,     0.00,2,     1.12,2,   2128.1,2,   2283.1,2,   7.7764,2,    25.00,  -999.00,9,  -999.00,9,  12.5498,2,      813
  49UF20180518,KS1805,  5396,  1,      2,  25236,3,20180607,0812, 26.9963, 127.4888,  501,    490.8,  12.5243,  12.5292,2,  34.4379,2,  34.4526,4,    159.8,2,    161.3,2,    23.33,2,    15.88,2,     0.00,2,     1.12,2,   2125.1,2,   2283.0,2,   7.7776,2,    25.00,  -999.00,9,  -999.00,9,  12.5292,2,      813
  49UF20180518,KS1805,  5398,  1,     99,     99,2,20180607,2216, 28.8403, 129.9200,  292,      0.0,  26.6526,-999.0000,9,  34.3871,2,-999.0000,9,    204.8,2,    204.4,2,  -999.00,9,  -999.00,9,  -999.00,9,  -999.00,9,   -999.0,9,   -999.0,9,-999.0000,9,  -999.00,  -999.00,9,  -999.00,9,-999.0000,9,     2210
  49UF20180518,KS1805,  5398,  1,     30,  25264,2,20180607,2216, 28.8403, 129.9200,  292,     10.9,  26.4911,  26.5292,2,  34.4123,2,-999.0000,9,    205.4,2,    207.0,2,  -999.00,9,  -999.00,9,  -999.00,9,  -999.00,9,   -999.0,9,   -999.0,9,-999.0000,9,  -999.00,  -999.00,9,  -999.00,9,  26.5292,2,     2233
  49UF20180518,KS1805,  5398,  1,     29,  25263,2,20180607,2216, 28.8403, 129.9200,  292,     25.7,  26.1187,  26.1163,2,  34.4652,2,-999.0000,9,    206.1,2,    206.2,2,  -999.00,9,  -999.00,9,  -999.00,9,  -999.00,9,   -999.0,9,   -999.0,9,-999.0000,9,  -999.00,  -999.00,9,  -999.00,9,  26.1163,2,     2231
  49UF20180518,KS1805,  5398,  1,     28,  25262,2,20180607,2216, 28.8403, 129.9200,  292,     51.5,  24.9624,  24.9631,2,  34.5518,2,-999.0000,9,    208.7,2,    208.8,2,  -999.00,9,  -999.00,9,  -999.00,9,  -999.00,9,   -999.0,9,   -999.0,9,-999.0000,9,  -999.00,  -999.00,9,  -999.00,9,  24.9631,2,     2229
  49UF20180518,KS1805,  5398,  1,     21,  25255,2,20180607,2216, 28.8403, 129.9200,  292,     77.4,  23.9318,  23.9320,2,  34.7250,2,-999.0000,9,    205.0,2,    204.7,6,  -999.00,9,  -999.00,9,  -999.00,9,  -999.00,9,   -999.0,9,   -999.0,9,-999.0000,9,  -999.00,  -999.00,9,  -999.00,9,  23.9320,2,     2227
  49UF20180518,KS1805,  5398,  1,     19,  25253,2,20180607,2216, 28.8403, 129.9200,  292,    102.0,  23.1870,  23.1882,2,  34.7860,2,-999.0000,9,    201.7,2,    201.4,2,  -999.00,9,  -999.00,9,  -999.00,9,  -999.00,9,   -999.0,9,   -999.0,9,-999.0000,9,  -999.00,  -999.00,9,  -999.00,9,  23.1882,2,     2225
  49UF20180518,KS1805,  5398,  1,     20,  24270,3,20180607,2216, 28.8403, 129.9200,  292,    102.5,  23.1657,  23.1691,2,  34.7896,2,-999.0000,9,    201.0,2,    201.6,2,  -999.00,9,  -999.00,9,  -999.00,9,  -999.00,9,   -999.0,9,   -999.0,9,-999.0000,9,  -999.00,  -999.00,9,  -999.00,9,  23.1691,2,     2225
  49UF20180518,KS1805,  5398,  1,      9,  25243,2,20180607,2216, 28.8403, 129.9200,  292,    128.1,  22.6985,  22.7008,2,  34.8281,2,-999.0000,9,    198.8,2,    199.0,2,  -999.00,9,  -999.00,9,  -999.00,9,  -999.00,9,   -999.0,9,   -999.0,9,-999.0000,9,  -999.00,  -999.00,9,  -999.00,9,  22.7008,2,     2223
  49UF20180518,KS1805,  5398,  1,      8,  25242,2,20180607,2216, 28.8403, 129.9200,  292,    153.8,  21.7647,  21.7652,2,  34.8931,2,-999.0000,9,    197.5,2,    197.4,2,  -999.00,9,  -999.00,9,  -999.00,9,  -999.00,9,   -999.0,9,   -999.0,9,-999.0000,9,  -999.00,  -999.00,9,  -999.00,9,  21.7652,2,     2222
  49UF20180518,KS1805,  5398,  1,      7,  25241,2,20180607,2216, 28.8403, 129.9200,  292,    205.5,  20.2815,  20.2852,2,  34.9083,2,-999.0000,9,    194.3,2,    194.1,2,  -999.00,9,  -999.00,9,  -999.00,9,  -999.00,9,   -999.0,9,   -999.0,9,-999.0000,9,  -999.00,  -999.00,9,  -999.00,9,  20.2852,2,     2220
  49UF20180518,KS1805,  5398,  1,      2,  25236,2,20180607,2216, 28.8403, 129.9200,  292,    280.4,  18.5370,  18.5383,2,  34.8485,2,-999.0000,9,    196.2,2,    195.7,2,  -999.00,9,  -999.00,9,  -999.00,9,  -999.00,9,   -999.0,9,   -999.0,9,-999.0000,9,  -999.00,  -999.00,9,  -999.00,9,  18.5383,2,     2217
  49UF20180518,KS1805,  5400,  1,     99,     99,2,20180608,0212, 29.1075, 130.1005, 1390,      0.0,  27.4324,-999.0000,9,  34.2800,2,-999.0000,9,    204.7,2,    204.1,2,     1.61,2,     0.03,2,     0.01,2,     0.00,2,   -999.0,9,   -999.0,9,-999.0000,9,  -999.00,     0.25,2,     0.04,2,-999.0000,9,      230
  49UF20180518,KS1805,  5400,  1,     36,  25270,2,20180608,0212, 29.1075, 130.1005, 1390,     11.4,  27.0861,  27.0928,2,  34.3234,2,  34.3203,2,    205.1,2,    204.7,2,     1.48,2,     0.00,2,     0.00,2,     0.00,2,   -999.0,9,   -999.0,9,-999.0000,9,  -999.00,     0.17,2,     0.04,2,  27.0928,2,      259
  49UF20180518,KS1805,  5400,  1,     35,  25269,2,20180608,0212, 29.1075, 130.1005, 1390,     27.1,  26.6911,  26.6935,2,  34.4135,2,  34.4135,2,    205.8,2,    205.5,2,     1.40,2,     0.00,2,     0.00,2,     0.00,2,   -999.0,9,   -999.0,9,-999.0000,9,  -999.00,     0.19,2,     0.05,2,  26.6935,2,      257
  49UF20180518,KS1805,  5400,  1,     34,  25268,2,20180608,0212, 29.1075, 130.1005, 1390,     54.5,  25.1713,  25.1679,2,  34.5597,2,  34.5579,2,    211.7,2,    210.9,2,     1.35,2,     0.00,2,     0.00,2,     0.00,2,   -999.0,9,   -999.0,9,-999.0000,9,  -999.00,     0.28,2,     0.08,2,  25.1679,2,      252
  49UF20180518,KS1805,  5400,  1,     27,  25261,2,20180608,0212, 29.1075, 130.1005, 1390,     78.3,  24.5177,  24.5181,2,  34.6867,2,  34.6850,2,    214.1,2,    213.5,2,     1.34,2,     0.00,2,     0.00,2,     0.00,2,   -999.0,9,   -999.0,9,-999.0000,9,  -999.00,     0.34,2,     0.18,2,  24.5181,2,      251
  49UF20180518,KS1805,  5400,  1,     26,  25260,2,20180608,0212, 29.1075, 130.1005, 1390,    103.7,  23.6219,  23.6238,2,  34.7874,2,  34.7873,2,    213.5,2,    212.8,2,     1.40,2,     0.02,2,     0.01,2,     0.01,2,   -999.0,9,   -999.0,9,-999.0000,9,  -999.00,     0.37,2,     0.24,2,  23.6238,2,      249
  49UF20180518,KS1805,  5400,  1,     25,  25259,2,20180608,0212, 29.1075, 130.1005, 1390,    129.8,  22.1650,  22.1613,2,  34.8997,2,  34.8960,2,    199.1,2,    198.2,2,     2.28,2,     1.16,2,     0.12,2,     0.10,2,   -999.0,9,   -999.0,9,-999.0000,9,  -999.00,     0.10,2,     0.16,2,  22.1613,2,      247
  49UF20180518,KS1805,  5400,  1,     21,  25255,2,20180608,0212, 29.1075, 130.1005, 1390,    154.2,  21.0556,  21.0555,2,  34.9359,2,  34.9350,2,    199.0,2,    198.8,2,     2.25,2,     1.65,2,     0.05,2,     0.12,2,   -999.0,9,   -999.0,9,-999.0000,9,  -999.00,     0.05,2,     0.11,2,  21.0555,2,      246
  49UF20180518,KS1805,  5400,  1,     20,  24270,2,20180608,0212, 29.1075, 130.1005, 1390,    201.6,  19.9118,  19.9180,2,  34.9198,2,  34.9199,2,    198.5,2,    198.1,2,     2.69,2,     2.56,2,     0.02,2,     0.18,2,   -999.0,9,   -999.0,9,-999.0000,9,  -999.00,     0.02,2,     0.06,2,  19.9180,2,      244
  49UF20180518,KS1805,  5400,  1,     19,  25253,2,20180608,0212, 29.1075, 130.1005, 1390,    251.0,  18.9896,  18.9897,2,  34.8807,2,  34.8988,4,    197.3,2,    197.2,2,     3.41,2,     3.57,2,     0.01,2,     0.24,2,   -999.0,9,   -999.0,9,-999.0000,9,  -999.00,  -999.00,9,  -999.00,9,  18.9897,2,      242
  49UF20180518,KS1805,  5400,  1,     18,  25252,2,20180608,0212, 29.1075, 130.1005, 1390,    302.5,  18.2481,  18.2493,2,  34.8345,2,  34.8339,2,    196.6,2,    196.4,2,     4.11,2,     4.44,2,     0.01,2,     0.30,2,   -999.0,9,   -999.0,9,-999.0000,9,  -999.00,  -999.00,9,  -999.00,9,  18.2493,2,      241
  49UF20180518,KS1805,  5400,  1,     17,  25251,2,20180608,0212, 29.1075, 130.1005, 1390,    403.9,  16.0078,  16.0152,2,  34.6543,2,   0.0000,4,    184.5,2,    184.1,2,    10.38,2,     8.83,2,     0.01,2,     0.61,2,   -999.0,9,   -999.0,9,-999.0000,9,  -999.00,  -999.00,9,  -999.00,9,  16.0152,2,      238
  49UF20180518,KS1805,  5400,  1,     16,  25250,2,20180608,0212, 29.1075, 130.1005, 1390,    504.6,  13.0233,  13.0248,2,  34.4624,2,  34.4625,2,    162.6,2,    162.4,2,    22.48,2,    15.48,2,     0.01,2,     1.09,2,   -999.0,9,   -999.0,9,-999.0000,9,  -999.00,  -999.00,9,  -999.00,9,  13.0248,2,      235
  49UF20180518,KS1805,  5400,  1,     12,  25246,2,20180608,0212, 29.1075, 130.1005, 1390,    608.1,   8.4645,   8.4656,2,  34.3300,2,  34.3297,2,    115.2,2,    115.2,6,    57.49,6,    27.52,6,     0.00,6,     1.97,6,   -999.0,9,   -999.0,9,-999.0000,9,  -999.00,  -999.00,9,  -999.00,9,   8.4656,2,      232
  49UF20180518,KS1805,  5400,  1,     10,  25244,2,20180608,0212, 29.1075, 130.1005, 1390,    708.0,   6.7803,   6.7803,2,  34.3404,2,  34.3402,2,     97.0,2,     97.2,2,    77.57,2,    31.93,2,     0.00,2,     2.29,2,   -999.0,9,   -999.0,9,-999.0000,9,  -999.00,  -999.00,9,  -999.00,9,   6.7803,2,      230
  49UF20180518,KS1805,  5400,  1,     11,  25245,3,20180608,0212, 29.1075, 130.1005, 1390,    708.2,   6.7782,   6.7790,2,  34.3405,2,  34.3566,4,     97.0,2,    100.9,4,    73.53,4,    30.68,4,     0.00,4,     2.19,4,   -999.0,9,   -999.0,9,-999.0000,9,  -999.00,  -999.00,9,  -999.00,9,   6.7790,2,      230
  49UF20180518,KS1805,  5400,  1,      9,  25243,2,20180608,0212, 29.1075, 130.1005, 1390,    806.7,   5.1839,   5.1920,2,  34.3689,2,  34.3672,2,     81.2,2,     81.2,2,    97.17,2,    36.08,2,     0.00,2,     2.58,2,   -999.0,9,   -999.0,9,-999.0000,9,  -999.00,  -999.00,9,  -999.00,9,   5.1920,2,      227
  49UF20180518,KS1805,  5400,  1,      8,  25242,2,20180608,0212, 29.1075, 130.1005, 1390,    908.9,   3.9510,   3.9507,2,  34.4053,2,  34.4051,6,     68.8,2,     68.9,2,   117.45,2,    39.04,2,     0.00,2,     2.79,2,   -999.0,9,   -999.0,9,-999.0000,9,  -999.00,  -999.00,9,  -999.00,9,   3.9507,2,      224
  49UF20180518,KS1805,  5400,  1,      7,  25241,2,20180608,0212, 29.1075, 130.1005, 1390,   1010.0,   3.3312,   3.3316,2,  34.4434,2,  34.4441,6,     66.8,2,     67.2,2,   128.95,2,    40.10,2,     0.00,2,     2.85,2,   -999.0,9,   -999.0,9,-999.0000,9,  -999.00,  -999.00,9,  -999.00,9,   3.3316,2,      222
  49UF20180518,KS1805,  5400,  1,      3,  24271,2,20180608,0212, 29.1075, 130.1005, 1390,   1215.1,   2.8044,   2.8050,2,  34.4919,2,  34.4904,6,     70.6,2,     70.6,6,   138.74,6,    40.48,6,     0.00,6,     2.87,6,   -999.0,9,   -999.0,9,-999.0000,9,  -999.00,  -999.00,9,  -999.00,9,   2.8050,2,      217
  49UF20180518,KS1805,  5400,  1,      1,  24272,2,20180608,0212, 29.1075, 130.1005, 1390,   1388.9,   2.4901,   2.4902,2,  34.5326,2,  34.5316,2,     81.3,2,     81.5,2,   142.61,2,    39.99,2,     0.00,2,     2.84,2,   -999.0,9,   -999.0,9,-999.0000,9,  -999.00,  -999.00,9,  -999.00,9,   2.4902,2,      213
  49UF20180518,KS1805,  5400,  1,      2,  25236,2,20180608,0212, 29.1075, 130.1005, 1390,   1389.0,   2.4901,   2.4905,2,  34.5326,2,  34.5313,2,     81.3,2,     81.4,2,   142.82,2,    39.98,2,     0.00,2,     2.83,2,   -999.0,9,   -999.0,9,-999.0000,9,  -999.00,  -999.00,9,  -999.00,9,   2.4905,2,      213