BOTTLE,20200311PRINUNIVRMK
EXPOCODE,SECT_ID,STNNBR,CASTNO,SAMPNO,BTLNBR,BTLNBR_FLAG_W,DATE,TIME,LATITUDE,LONGITUDE,DEPTH,CTDPRS,CTDTMP,SBE35,SBE35_FLAG_W,CTDSAL,CTDSAL_FLAG_W,SALNTY,SALNTY_FLAG_W,CTDOXY,CTDOXY_FLAG_W,OXYGEN,OXYGEN_FLAG_W,SILCAT,SILCAT_FLAG_W,NITRAT,NITRAT_FLAG_W,NITRIT,NITRIT_FLAG_W,PHSPHT,PHSPHT_FLAG_W,TCARBN,TCARBN_FLAG_W,ALKALI,ALKALI_FLAG_W,PH_TOT,PH_TOT_FLAG_W,PH_TMP,CHLORA,CHLORA_FLAG_W,PPHYTN,PPHYTN_FLAG_W,SBE35,SBE35_FLAG_W,BTL_TIME
,,,,,,,,,,,METERS,DBAR,ITS-90,,,PSS-78,,PSS-78,,UMOL/KG,,UMOL/KG,,UMOL/KG,,UMOL/KG,,UMOL/KG,,UMOL/KG,,UMOL/KG,,UMOL/KG,,,,DEG C,UG/KG,,UG/KG,,,,
  49UF20180518,KS1805,  5403,  1,     99,     99,2,20180608,0852, 29.5298, 130.3870,  404,      0.0,  28.0469,-999.0000,9,  34.1942,2,-999.0000,9,    203.2,2,    202.8,2,  -999.00,9,  -999.00,9,  -999.00,9,  -999.00,9,   -999.0,9,   -999.0,9,-999.0000,9,  -999.00,  -999.00,9,  -999.00,9,-999.0000,9,      847
  49UF20180518,KS1805,  5403,  1,     30,  25264,2,20180608,0852, 29.5298, 130.3870,  404,     11.4,  27.6872,  27.7141,2,  34.2129,2,-999.0000,9,    204.2,2,    203.8,2,  -999.00,9,  -999.00,9,  -999.00,9,  -999.00,9,   -999.0,9,   -999.0,9,-999.0000,9,  -999.00,  -999.00,9,  -999.00,9,  27.7141,2,      915
  49UF20180518,KS1805,  5403,  1,     29,  25263,2,20180608,0852, 29.5298, 130.3870,  404,     26.4,  27.2404,  27.2422,2,  34.2612,2,-999.0000,9,    205.5,2,    205.9,2,  -999.00,9,  -999.00,9,  -999.00,9,  -999.00,9,   -999.0,9,   -999.0,9,-999.0000,9,  -999.00,  -999.00,9,  -999.00,9,  27.2422,2,      913
  49UF20180518,KS1805,  5403,  1,     28,  25262,2,20180608,0852, 29.5298, 130.3870,  404,     51.6,  26.5944,  26.5961,2,  34.3695,2,-999.0000,9,    205.6,2,    205.7,6,  -999.00,9,  -999.00,9,  -999.00,9,  -999.00,9,   -999.0,9,   -999.0,9,-999.0000,9,  -999.00,  -999.00,9,  -999.00,9,  26.5961,2,      909
  49UF20180518,KS1805,  5403,  1,     18,  25252,3,20180608,0852, 29.5298, 130.3870,  404,     78.3,  25.6568,  25.6550,2,  34.4818,2,-999.0000,9,    204.8,2,    205.2,2,  -999.00,9,  -999.00,9,  -999.00,9,  -999.00,9,   -999.0,9,   -999.0,9,-999.0000,9,  -999.00,  -999.00,9,  -999.00,9,  25.6550,2,      907
  49UF20180518,KS1805,  5403,  1,     17,  25251,2,20180608,0852, 29.5298, 130.3870,  404,    100.9,  24.5692,  24.5469,2,  34.5954,2,-999.0000,9,    199.5,2,    200.0,2,  -999.00,9,  -999.00,9,  -999.00,9,  -999.00,9,   -999.0,9,   -999.0,9,-999.0000,9,  -999.00,  -999.00,9,  -999.00,9,  24.5469,2,      906
  49UF20180518,KS1805,  5403,  1,     16,  25250,2,20180608,0852, 29.5298, 130.3870,  404,    126.9,  23.8389,  23.8408,2,  34.6943,2,-999.0000,9,    197.4,2,    197.1,2,  -999.00,9,  -999.00,9,  -999.00,9,  -999.00,9,   -999.0,9,   -999.0,9,-999.0000,9,  -999.00,  -999.00,9,  -999.00,9,  23.8408,2,      904
  49UF20180518,KS1805,  5403,  1,     11,  25245,2,20180608,0852, 29.5298, 130.3870,  404,    151.6,  23.2033,  23.2046,2,  34.8162,2,-999.0000,9,    198.0,2,    198.1,2,  -999.00,9,  -999.00,9,  -999.00,9,  -999.00,9,   -999.0,9,   -999.0,9,-999.0000,9,  -999.00,  -999.00,9,  -999.00,9,  23.2046,2,      902
  49UF20180518,KS1805,  5403,  1,     12,  25246,2,20180608,0852, 29.5298, 130.3870,  404,    152.1,  23.1848,  23.1917,2,  34.8187,2,-999.0000,9,    198.0,2,    197.8,2,  -999.00,9,  -999.00,9,  -999.00,9,  -999.00,9,   -999.0,9,   -999.0,9,-999.0000,9,  -999.00,  -999.00,9,  -999.00,9,  23.1917,2,      902
  49UF20180518,KS1805,  5403,  1,     10,  25244,2,20180608,0852, 29.5298, 130.3870,  404,    202.8,  19.5845,  19.6129,2,  34.7498,2,-999.0000,9,    185.5,2,    185.2,6,  -999.00,9,  -999.00,9,  -999.00,9,  -999.00,9,   -999.0,9,   -999.0,9,-999.0000,9,  -999.00,  -999.00,9,  -999.00,9,  19.6129,2,      900
  49UF20180518,KS1805,  5403,  1,      6,  25240,2,20180608,0852, 29.5298, 130.3870,  404,    252.6,  16.4801,  16.4822,2,  34.6534,2,-999.0000,9,    179.0,2,    178.5,2,  -999.00,9,  -999.00,9,  -999.00,9,  -999.00,9,   -999.0,9,   -999.0,9,-999.0000,9,  -999.00,  -999.00,9,  -999.00,9,  16.4822,2,      858
  49UF20180518,KS1805,  5403,  1,      5,  25239,2,20180608,0852, 29.5298, 130.3870,  404,    303.7,  15.5416,  15.5019,2,  34.5985,2,-999.0000,9,    174.5,2,    173.9,2,  -999.00,9,  -999.00,9,  -999.00,9,  -999.00,9,   -999.0,9,   -999.0,9,-999.0000,9,  -999.00,  -999.00,9,  -999.00,9,  15.5019,2,      856
  49UF20180518,KS1805,  5403,  1,      4,  25238,2,20180608,0852, 29.5298, 130.3870,  404,    398.2,  13.5494,  13.5648,2,  34.4984,2,-999.0000,9,    164.5,2,    163.9,2,  -999.00,9,  -999.00,9,  -999.00,9,  -999.00,9,   -999.0,9,   -999.0,9,-999.0000,9,  -999.00,  -999.00,9,  -999.00,9,  13.5648,2,      853
  49UF20180518,KS1805,  5406,  1,     99,     99,2,20180608,1416, 29.9628, 130.6620,  496,      0.0,  27.9542,-999.0000,9,  34.2885,2,-999.0000,9,    201.8,2,    201.6,2,     1.47,2,     0.01,2,     0.01,2,     0.00,2,   -999.0,9,   -999.0,9,-999.0000,9,  -999.00,     0.21,2,     0.04,2,-999.0000,9,     1420
  49UF20180518,KS1805,  5406,  1,     30,  25264,2,20180608,1416, 29.9628, 130.6620,  496,     12.1,  27.9541,  27.9530,2,  34.2878,2,  34.2875,2,    201.8,2,    201.8,2,     1.41,2,     0.00,2,     0.00,2,     0.00,2,   -999.0,9,   -999.0,9,-999.0000,9,  -999.00,     0.19,2,     0.04,2,  27.9530,2,     1440
  49UF20180518,KS1805,  5406,  1,     29,  25263,2,20180608,1416, 29.9628, 130.6620,  496,     27.4,  26.7824,  26.7815,2,  34.3287,2,  34.3255,2,    205.2,2,    204.9,2,     1.59,2,    -0.02,2,     0.02,2,     0.00,2,   -999.0,9,   -999.0,9,-999.0000,9,  -999.00,     0.41,2,     0.15,2,  26.7815,2,     1438
  49UF20180518,KS1805,  5406,  1,     28,  25262,2,20180608,1416, 29.9628, 130.6620,  496,     52.0,  25.6547,  25.6548,2,  34.4798,2,  34.4786,2,    203.8,2,    203.8,2,     1.76,2,     0.14,2,     0.09,2,     0.03,2,   -999.0,9,   -999.0,9,-999.0000,9,  -999.00,     0.46,2,     0.27,2,  25.6548,2,     1435
  49UF20180518,KS1805,  5406,  1,     21,  25255,2,20180608,1416, 29.9628, 130.6620,  496,     76.1,  24.0308,  24.0330,2,  34.5211,2,  34.5154,2,    206.0,2,    205.9,6,     2.29,6,     0.29,6,     0.26,6,     0.07,6,   -999.0,9,   -999.0,9,-999.0000,9,  -999.00,     0.34,2,     0.29,2,  24.0330,2,     1433
  49UF20180518,KS1805,  5406,  1,     19,  25253,2,20180608,1416, 29.9628, 130.6620,  496,    104.1,  22.6971,  22.6935,2,  34.7139,2,  34.6927,4,    194.1,2,    194.8,2,     3.34,2,     1.76,2,     0.21,2,     0.16,2,   -999.0,9,   -999.0,9,-999.0000,9,  -999.00,     0.12,2,     0.15,2,  22.6935,2,     1432
  49UF20180518,KS1805,  5406,  1,     20,  24270,2,20180608,1416, 29.9628, 130.6620,  496,    104.7,  22.6942,  22.6928,2,  34.7160,2,  34.6984,4,    194.1,2,    194.7,2,     3.32,2,     1.75,2,     0.21,2,     0.16,2,   -999.0,9,   -999.0,9,-999.0000,9,  -999.00,  -999.00,9,  -999.00,9,  22.6928,2,     1432
  49UF20180518,KS1805,  5406,  1,     18,  25252,2,20180608,1416, 29.9628, 130.6620,  496,    131.4,  22.1345,  22.1304,2,  34.7818,2,  34.7807,2,    191.3,2,    191.5,2,     3.80,2,     2.42,2,     0.15,2,     0.20,2,   -999.0,9,   -999.0,9,-999.0000,9,  -999.00,     0.09,2,     0.14,2,  22.1304,2,     1430
  49UF20180518,KS1805,  5406,  1,     12,  25246,3,20180608,1416, 29.9628, 130.6620,  496,    154.4,  21.3804,  21.3768,2,  34.7894,2,  34.7895,2,    188.2,2,    188.5,2,     4.50,2,     3.19,2,     0.09,2,     0.25,2,   -999.0,9,   -999.0,9,-999.0000,9,  -999.00,     0.06,2,     0.12,2,  21.3768,2,     1429
  49UF20180518,KS1805,  5406,  1,     11,  25245,2,20180608,1416, 29.9628, 130.6620,  496,    200.1,  18.3176,  18.3148,2,  34.6935,2,  34.6958,2,    176.2,2,    176.1,2,     9.77,2,     7.40,2,     0.03,2,     0.53,2,   -999.0,9,   -999.0,9,-999.0000,9,  -999.00,     0.04,2,     0.07,2,  18.3148,2,     1426
  49UF20180518,KS1805,  5406,  1,     10,  25244,2,20180608,1416, 29.9628, 130.6620,  496,    255.2,  14.2545,  14.2569,2,  34.5309,2,  34.5317,2,    168.3,2,    168.3,2,    18.31,2,    13.14,2,     0.01,2,     0.92,2,   -999.0,9,   -999.0,9,-999.0000,9,  -999.00,  -999.00,9,  -999.00,9,  14.2569,2,     1424
  49UF20180518,KS1805,  5406,  1,      6,  25240,2,20180608,1416, 29.9628, 130.6620,  496,    304.5,  12.8880,  12.8975,2,  34.4650,2,  34.4674,2,    156.8,2,    156.4,2,    25.45,2,    16.31,2,     0.01,2,     1.16,2,   -999.0,9,   -999.0,9,-999.0000,9,  -999.00,  -999.00,9,  -999.00,9,  12.8975,2,     1422
  49UF20180518,KS1805,  5406,  1,      5,  25239,2,20180608,1416, 29.9628, 130.6620,  496,    411.0,   9.2721,   9.2737,2,  34.3454,2,  34.3468,2,    124.2,2,    123.8,2,    50.22,2,    25.19,2,     0.01,2,     1.80,2,   -999.0,9,   -999.0,9,-999.0000,9,  -999.00,  -999.00,9,  -999.00,9,   9.2737,2,     1419
  49UF20180518,KS1805,  5406,  1,      4,  25238,2,20180608,1416, 29.9628, 130.6620,  496,    481.7,   7.5660,   7.5649,2,  34.3195,2,  34.3211,2,    105.4,2,    104.9,2,    67.59,2,    29.95,2,     0.01,2,     2.15,2,   -999.0,9,   -999.0,9,-999.0000,9,  -999.00,  -999.00,9,  -999.00,9,   7.5649,2,     1416
  49UF20180518,KS1805,  5409,  1,     99,     99,2,20180612,0117, 28.6988, 126.4613,  127,      0.0,  26.5284,-999.0000,9,  34.2112,2,  34.2137,2,    204.6,2,    206.4,2,     1.76,2,     0.00,2,     0.00,2,     0.02,2,   1945.8,2,   2250.7,2,   8.0885,2,    25.00,     0.26,2,     0.06,2,-999.0000,9,      115
  49UF20180518,KS1805,  5409,  1,     36,  25270,2,20180612,0117, 28.6988, 126.4613,  127,     11.1,  26.5169,  26.5183,2,  34.2125,2,-999.0000,9,    204.5,2,    206.1,2,     1.71,2,     0.00,2,     0.00,2,     0.01,2,   -999.0,9,   -999.0,9,-999.0000,9,  -999.00,     0.24,2,     0.08,2,  26.5183,2,      127
  49UF20180518,KS1805,  5409,  1,     35,  25269,2,20180612,0117, 28.6988, 126.4613,  127,     21.5,  24.8933,  24.9103,2,  34.4955,2,-999.0000,9,    208.6,2,    208.9,2,     1.90,2,     0.00,2,     0.00,2,     0.03,2,   -999.0,9,   -999.0,9,-999.0000,9,  -999.00,     0.25,2,     0.13,2,  24.9103,2,      126
  49UF20180518,KS1805,  5409,  1,     34,  25268,2,20180612,0117, 28.6988, 126.4613,  127,     32.0,  24.3300,  24.3297,2,  34.6159,2,-999.0000,9,    202.3,2,    202.8,2,     2.34,2,     0.01,2,     0.06,2,     0.05,2,   -999.0,9,   -999.0,9,-999.0000,9,  -999.00,     0.38,2,     0.33,2,  24.3297,2,      124
  49UF20180518,KS1805,  5409,  1,     27,  25261,2,20180612,0117, 28.6988, 126.4613,  127,     52.3,  22.1872,  22.2010,2,  34.5831,2,-999.0000,9,    196.2,2,    196.5,6,     4.10,6,     1.52,6,     0.88,6,     0.22,6,   -999.0,9,   -999.0,9,-999.0000,9,  -999.00,     0.38,2,     0.32,2,  22.2010,2,      123
  49UF20180518,KS1805,  5409,  1,     25,  25259,2,20180612,0117, 28.6988, 126.4613,  127,     77.4,  20.0486,  20.0555,2,  34.7306,2,-999.0000,9,    178.6,2,    179.2,2,     6.84,2,     5.09,2,     0.11,2,     0.39,2,   -999.0,9,   -999.0,9,-999.0000,9,  -999.00,     0.16,2,     0.28,2,  20.0555,2,      121
  49UF20180518,KS1805,  5409,  1,     26,  25260,2,20180612,0117, 28.6988, 126.4613,  127,     77.5,  20.0697,  20.0676,2,  34.7296,2,-999.0000,9,    178.4,2,    179.0,2,     6.84,2,     5.11,2,     0.10,2,     0.39,2,   -999.0,9,   -999.0,9,-999.0000,9,  -999.00,  -999.00,9,  -999.00,9,  20.0676,2,      121
  49UF20180518,KS1805,  5409,  1,     18,  25252,3,20180612,0117, 28.6988, 126.4613,  127,    103.3,  16.9914,  16.9894,2,  34.6678,2,-999.0000,9,    166.7,2,    166.5,2,    13.43,2,     9.34,2,     0.03,2,     0.68,2,   -999.0,9,   -999.0,9,-999.0000,9,  -999.00,     0.04,2,     0.09,2,  16.9894,2,      119
  49UF20180518,KS1805,  5409,  1,     16,  25250,2,20180612,0117, 28.6988, 126.4613,  127,    112.6,  15.4025,  15.3937,2,  34.5855,2,-999.0000,9,    159.4,2,    159.3,2,    18.64,2,    12.15,2,     0.05,2,     0.89,2,   -999.0,9,   -999.0,9,-999.0000,9,  -999.00,  -999.00,9,  -999.00,9,  15.3937,2,      117
  49UF20180518,KS1805,  5409,  1,     17,  25251,2,20180612,0117, 28.6988, 126.4613,  127,    112.7,  15.4230,  15.4233,2,  34.5873,2,-999.0000,9,    159.6,2,    159.2,2,    18.70,2,    12.16,2,     0.05,2,     0.90,2,   -999.0,9,   -999.0,9,-999.0000,9,  -999.00,     0.02,2,     0.08,2,  15.4233,2,      118
  49UF20180518,KS1805,  5411,  1,     99,     99,2,20180612,0335, 28.5462, 126.6882,  156,      0.0,  26.7775,-999.0000,9,  34.2455,2,-999.0000,9,    203.6,2,    203.8,2,     1.87,2,     0.00,2,     0.00,2,     0.01,2,   -999.0,9,   -999.0,9,-999.0000,9,  -999.00,     0.20,2,     0.05,2,-999.0000,9,      335
  49UF20180518,KS1805,  5411,  1,     36,  25270,2,20180612,0335, 28.5462, 126.6882,  156,     11.3,  26.6215,  26.6028,2,  34.2241,2,-999.0000,9,    204.2,2,    205.3,2,     1.91,2,     0.00,2,     0.00,2,     0.01,2,   -999.0,9,   -999.0,9,-999.0000,9,  -999.00,     0.19,2,     0.05,2,  26.6028,2,      348
  49UF20180518,KS1805,  5411,  1,     35,  25269,2,20180612,0335, 28.5462, 126.6882,  156,     21.6,  25.2439,  25.2532,2,  34.1036,2,-999.0000,9,    213.8,2,    214.0,2,     2.50,2,     0.00,2,     0.00,2,     0.00,2,   -999.0,9,   -999.0,9,-999.0000,9,  -999.00,     0.21,2,     0.06,2,  25.2532,2,      347
  49UF20180518,KS1805,  5411,  1,     34,  25268,2,20180612,0335, 28.5462, 126.6882,  156,     31.4,  24.4335,  24.4331,2,  34.0424,2,-999.0000,9,    217.3,2,    217.6,6,     2.74,6,     0.00,6,     0.00,6,     0.01,6,   -999.0,9,   -999.0,9,-999.0000,9,  -999.00,     0.22,2,     0.09,2,  24.4331,2,      345
  49UF20180518,KS1805,  5411,  1,     29,  25263,2,20180612,0335, 28.5462, 126.6882,  156,     51.5,  23.0949,  23.0924,2,  34.6115,2,-999.0000,9,    210.6,2,    211.5,2,     2.25,2,     0.00,2,     0.00,2,     0.05,2,   -999.0,9,   -999.0,9,-999.0000,9,  -999.00,     0.37,2,     0.22,2,  23.0924,2,      344
  49UF20180518,KS1805,  5411,  1,     30,  25264,3,20180612,0335, 28.5462, 126.6882,  156,     52.0,  23.0494,  23.0468,2,  34.6037,2,-999.0000,9,    210.9,2,    211.4,2,     2.25,2,     0.00,2,     0.00,2,     0.05,2,   -999.0,9,   -999.0,9,-999.0000,9,  -999.00,  -999.00,9,  -999.00,9,  23.0468,2,      344
  49UF20180518,KS1805,  5411,  1,     28,  25262,2,20180612,0335, 28.5462, 126.6882,  156,     77.7,  20.3447,  20.3544,2,  34.6756,2,-999.0000,9,    183.2,2,    183.8,2,     6.00,2,     4.18,2,     0.32,2,     0.34,2,   -999.0,9,   -999.0,9,-999.0000,9,  -999.00,     0.30,2,     0.40,2,  20.3544,2,      342
  49UF20180518,KS1805,  5411,  1,     18,  25252,2,20180612,0335, 28.5462, 126.6882,  156,    102.5,  18.4492,  18.4494,2,  34.7164,2,-999.0000,9,    164.0,2,    164.2,2,    11.87,2,     8.14,2,     0.02,2,     0.59,2,   -999.0,9,   -999.0,9,-999.0000,9,  -999.00,     0.14,2,     0.18,2,  18.4494,2,      340
  49UF20180518,KS1805,  5411,  1,     17,  25251,2,20180612,0335, 28.5462, 126.6882,  156,    127.5,  16.1055,  16.1094,2,  34.6128,2,-999.0000,9,    164.2,2,    164.1,2,    16.09,2,    10.85,2,     0.04,2,     0.78,2,   -999.0,9,   -999.0,9,-999.0000,9,  -999.00,     0.03,2,     0.08,2,  16.1094,2,      338
  49UF20180518,KS1805,  5411,  1,     16,  25250,2,20180612,0335, 28.5462, 126.6882,  156,    143.9,  13.6420,  13.6701,2,  34.4967,2,-999.0000,9,    160.6,2,    160.4,2,    21.14,2,    14.45,2,     0.06,2,     1.04,2,   -999.0,9,   -999.0,9,-999.0000,9,  -999.00,     0.01,2,     0.06,2,  13.6701,2,      336
  49UF20180518,KS1805,  5411,  1,     15,  25249,2,20180612,0335, 28.5462, 126.6882,  156,    143.9,  13.6327,  13.6519,2,  34.4965,2,-999.0000,9,    160.2,2,    159.8,2,    21.13,2,    14.48,2,     0.06,2,     1.04,2,   -999.0,9,   -999.0,9,-999.0000,9,  -999.00,  -999.00,9,  -999.00,9,  13.6519,2,      336
  49UF20180518,KS1805,  5413,  1,     99,     99,2,20180612,0556, 28.4098, 126.9045,  277,      0.0,  27.6172,-999.0000,9,  34.4161,2,-999.0000,9,    203.0,2,    202.9,2,     1.77,2,     0.01,2,     0.00,2,     0.01,2,   -999.0,9,   -999.0,9,-999.0000,9,  -999.00,     0.30,2,     0.05,2,-999.0000,9,      555
  49UF20180518,KS1805,  5413,  1,     36,  25270,3,20180612,0556, 28.4098, 126.9045,  277,     11.5,  27.5688,  27.5693,2,  34.4220,2,  34.4199,2,    203.2,2,    203.3,2,     1.60,2,     0.00,2,     0.00,2,     0.01,2,   -999.0,9,   -999.0,9,-999.0000,9,  -999.00,     0.28,2,     0.06,2,  27.5693,2,      615
  49UF20180518,KS1805,  5413,  1,     35,  25269,2,20180612,0556, 28.4098, 126.9045,  277,     21.9,  27.5280,  27.5283,2,  34.4246,2,  34.4239,2,    203.2,2,    203.6,6,     1.61,6,     0.00,6,     0.00,6,     0.01,6,   -999.0,9,   -999.0,9,-999.0000,9,  -999.00,     0.28,2,     0.07,2,  27.5283,2,      613
  49UF20180518,KS1805,  5413,  1,     27,  25261,2,20180612,0556, 28.4098, 126.9045,  277,     31.6,  27.1304,  27.1504,2,  34.3967,2,-999.0000,9,    206.1,2,    206.7,2,     1.77,2,     0.00,2,     0.00,2,     0.01,2,   -999.0,9,   -999.0,9,-999.0000,9,  -999.00,     0.38,2,     0.12,2,  27.1504,2,      612
  49UF20180518,KS1805,  5413,  1,     34,  25268,2,20180612,0556, 28.4098, 126.9045,  277,     31.8,  26.9968,  27.1122,2,  34.3852,2,  34.4000,4,    207.8,2,    206.6,2,     1.75,2,     0.00,2,     0.00,2,     0.01,2,   -999.0,9,   -999.0,9,-999.0000,9,  -999.00,  -999.00,9,  -999.00,9,  27.1122,2,      612
  49UF20180518,KS1805,  5413,  1,     26,  25260,2,20180612,0556, 28.4098, 126.9045,  277,     52.6,  24.5449,  24.5469,2,  34.4605,2,  34.4574,2,    212.4,2,    213.6,2,     2.04,2,    -0.01,2,     0.01,2,     0.05,2,   -999.0,9,   -999.0,9,-999.0000,9,  -999.00,     0.66,2,     0.20,2,  24.5469,2,      610
  49UF20180518,KS1805,  5413,  1,     25,  25259,2,20180612,0556, 28.4098, 126.9045,  277,     77.6,  23.1897,  23.1895,2,  34.7334,2,  34.7334,2,    196.8,2,    197.5,2,     2.73,2,     0.86,2,     0.42,2,     0.12,2,   -999.0,9,   -999.0,9,-999.0000,9,  -999.00,     0.48,2,     0.33,2,  23.1895,2,      608
  49UF20180518,KS1805,  5413,  1,     18,  25252,2,20180612,0556, 28.4098, 126.9045,  277,    101.6,  21.2889,  21.2787,2,  34.6604,2,  34.6520,2,    188.5,2,    188.7,2,     5.45,2,     3.04,2,     0.71,2,     0.29,2,   -999.0,9,   -999.0,9,-999.0000,9,  -999.00,     0.23,2,     0.33,2,  21.2787,2,      606
  49UF20180518,KS1805,  5413,  1,     17,  25251,2,20180612,0556, 28.4098, 126.9045,  277,    126.8,  18.7213,  18.7589,2,  34.5927,2,  34.6067,4,    166.9,2,    166.0,2,    12.17,2,     8.16,2,     0.07,2,     0.59,2,   -999.0,9,   -999.0,9,-999.0000,9,  -999.00,     0.25,2,     0.29,2,  18.7589,2,      604
  49UF20180518,KS1805,  5413,  1,     16,  25250,2,20180612,0556, 28.4098, 126.9045,  277,    152.6,  17.7112,  17.7095,2,  34.6600,2,  34.6586,2,    159.1,2,    158.9,2,    14.56,2,     9.75,2,     0.02,2,     0.70,2,   -999.0,9,   -999.0,9,-999.0000,9,  -999.00,     0.12,2,     0.19,2,  17.7095,2,      602
  49UF20180518,KS1805,  5413,  1,      9,  25243,2,20180612,0556, 28.4098, 126.9045,  277,    203.0,  16.2848,  16.2816,2,  34.6154,2,  34.6154,2,    161.0,2,    160.9,2,    16.27,2,    11.22,2,     0.04,2,     0.80,2,   -999.0,9,   -999.0,9,-999.0000,9,  -999.00,     0.05,2,     0.12,2,  16.2816,2,      600
  49UF20180518,KS1805,  5413,  1,      8,  25242,2,20180612,0556, 28.4098, 126.9045,  277,    253.9,  11.7531,  11.7627,2,  34.4009,2,  34.3994,2,    148.6,2,    147.7,2,    29.40,2,    18.62,2,     0.06,2,     1.34,2,   -999.0,9,   -999.0,9,-999.0000,9,  -999.00,  -999.00,9,  -999.00,9,  11.7627,2,      558
  49UF20180518,KS1805,  5413,  1,      7,  25241,2,20180612,0556, 28.4098, 126.9045,  277,    265.1,  11.4954,  11.4948,2,  34.3925,2,  34.3933,2,    144.5,2,    144.0,2,    32.15,2,    19.38,2,     0.05,2,     1.40,2,   -999.0,9,   -999.0,9,-999.0000,9,  -999.00,  -999.00,9,  -999.00,9,  11.4948,2,      556