BOTTLE,20200311PRINUNIVRMK
EXPOCODE,SECT_ID,STNNBR,CASTNO,SAMPNO,BTLNBR,BTLNBR_FLAG_W,DATE,TIME,LATITUDE,LONGITUDE,DEPTH,CTDPRS,CTDTMP,SBE35,SBE35_FLAG_W,CTDSAL,CTDSAL_FLAG_W,SALNTY,SALNTY_FLAG_W,CTDOXY,CTDOXY_FLAG_W,OXYGEN,OXYGEN_FLAG_W,SILCAT,SILCAT_FLAG_W,NITRAT,NITRAT_FLAG_W,NITRIT,NITRIT_FLAG_W,PHSPHT,PHSPHT_FLAG_W,TCARBN,TCARBN_FLAG_W,ALKALI,ALKALI_FLAG_W,PH_TOT,PH_TOT_FLAG_W,PH_TMP,CHLORA,CHLORA_FLAG_W,PPHYTN,PPHYTN_FLAG_W,SBE35,SBE35_FLAG_W,BTL_TIME
,,,,,,,,,,,METERS,DBAR,ITS-90,,,PSS-78,,PSS-78,,UMOL/KG,,UMOL/KG,,UMOL/KG,,UMOL/KG,,UMOL/KG,,UMOL/KG,,UMOL/KG,,UMOL/KG,,,,DEG C,UG/KG,,UG/KG,,,,
  49UF20180518,KS1805,  5389,  1,     99,     99,2,20180601,0323, 23.7560, 131.9840, 3170,      0.0,  29.1101,-999.0000,9,  34.6440,2,-999.0000,9,    198.9,2,    200.1,2,     1.17,2,     0.00,2,     0.00,2,     0.02,2,   -999.0,9,   -999.0,9,-999.0000,9,  -999.00,     0.05,2,     0.02,2,-999.0000,9,      400
  49UF20180518,KS1805,  5389,  1,     36,  25270,2,20180601,0323, 23.7560, 131.9840, 3170,     11.4,  27.9650,  28.0634,2,  34.6314,2,-999.0000,9,    203.9,2,    208.5,2,     1.22,2,     0.00,2,     0.00,2,     0.00,2,   -999.0,9,   -999.0,9,-999.0000,9,  -999.00,     0.06,2,     0.02,2,  28.0634,2,      435
  49UF20180518,KS1805,  5389,  1,     35,  25269,2,20180601,0323, 23.7560, 131.9840, 3170,     26.3,  23.8411,  23.8423,2,  34.9064,2,-999.0000,9,    222.2,2,    222.4,2,     1.35,2,     0.00,2,     0.00,2,     0.01,2,   -999.0,9,   -999.0,9,-999.0000,9,  -999.00,     0.07,2,     0.02,2,  23.8423,2,      433
  49UF20180518,KS1805,  5389,  1,     34,  25268,2,20180601,0323, 23.7560, 131.9840, 3170,     51.9,  22.2557,  22.2545,2,  34.9633,2,-999.0000,9,    214.3,2,    214.6,2,     1.56,2,     0.00,2,     0.00,2,     0.02,2,   -999.0,9,   -999.0,9,-999.0000,9,  -999.00,     0.11,2,     0.06,2,  22.2545,2,      429
  49UF20180518,KS1805,  5389,  1,     33,  25267,2,20180601,0323, 23.7560, 131.9840, 3170,     76.8,  21.3223,  21.3213,2,  34.9571,2,-999.0000,9,    211.5,2,    210.5,2,     1.64,2,     0.20,2,     0.04,2,     0.04,2,   -999.0,9,   -999.0,9,-999.0000,9,  -999.00,     0.37,2,     0.41,2,  21.3213,2,      427
  49UF20180518,KS1805,  5389,  1,     32,  25266,2,20180601,0323, 23.7560, 131.9840, 3170,    102.7,  20.5698,  20.5699,2,  34.9407,2,-999.0000,9,    205.4,2,    205.6,2,     1.99,2,     1.16,2,     0.05,2,     0.10,2,   -999.0,9,   -999.0,9,-999.0000,9,  -999.00,     0.27,2,     0.39,2,  20.5699,2,      426
  49UF20180518,KS1805,  5389,  1,     31,  25265,2,20180601,0323, 23.7560, 131.9840, 3170,    129.8,  19.9417,  19.9420,2,  34.9386,2,-999.0000,9,    199.0,2,    198.7,2,     2.40,2,     2.32,2,     0.03,2,     0.17,2,   -999.0,9,   -999.0,9,-999.0000,9,  -999.00,     0.08,2,     0.10,2,  19.9420,2,      424
  49UF20180518,KS1805,  5389,  1,     27,  25261,2,20180601,0323, 23.7560, 131.9840, 3170,    153.9,  19.1992,  19.2000,2,  34.9065,2,-999.0000,9,    198.2,2,    197.7,2,     2.88,2,     3.06,2,     0.01,2,     0.21,2,   -999.0,9,   -999.0,9,-999.0000,9,  -999.00,     0.01,2,     0.02,2,  19.2000,2,      422
  49UF20180518,KS1805,  5389,  1,     26,  25260,2,20180601,0323, 23.7560, 131.9840, 3170,    203.7,  18.1277,  18.1278,2,  34.8389,2,-999.0000,9,    198.0,2,    198.0,2,     3.67,2,     4.21,2,     0.01,2,     0.29,2,   -999.0,9,   -999.0,9,-999.0000,9,  -999.00,     0.00,2,     0.01,2,  18.1278,2,      420
  49UF20180518,KS1805,  5389,  1,     25,  25259,2,20180601,0323, 23.7560, 131.9840, 3170,    252.7,  17.2985,  17.2989,2,  34.7697,2,-999.0000,9,    198.1,2,    198.0,2,     4.65,2,     5.37,2,     0.01,2,     0.36,2,   -999.0,9,   -999.0,9,-999.0000,9,  -999.00,  -999.00,9,  -999.00,9,  17.2989,2,      418
  49UF20180518,KS1805,  5389,  1,     23,  25257,2,20180601,0323, 23.7560, 131.9840, 3170,    304.1,  16.4076,  16.4164,2,  34.6890,2,-999.0000,9,    195.8,2,    195.4,2,     6.25,2,     6.84,2,     0.00,2,     0.46,2,   -999.0,9,   -999.0,9,-999.0000,9,  -999.00,  -999.00,9,  -999.00,9,  16.4164,2,      415
  49UF20180518,KS1805,  5389,  1,     24,  25258,2,20180601,0323, 23.7560, 131.9840, 3170,    304.5,  16.4174,  16.4208,2,  34.6905,2,-999.0000,9,    195.7,2,    195.8,2,     6.24,2,     6.79,2,     0.00,2,     0.46,2,   -999.0,9,   -999.0,9,-999.0000,9,  -999.00,  -999.00,9,  -999.00,9,  16.4208,2,      415
  49UF20180518,KS1805,  5389,  1,     22,  24473,3,20180601,0323, 23.7560, 131.9840, 3170,    405.5,  14.1080,  14.1088,2,  34.4895,2,-999.0000,9,    185.1,2,    184.9,6,    12.33,6,    11.29,6,     0.00,6,     0.78,6,   -999.0,9,   -999.0,9,-999.0000,9,  -999.00,  -999.00,9,  -999.00,9,  14.1088,2,      412
  49UF20180518,KS1805,  5389,  1,     18,  25252,2,20180601,0323, 23.7560, 131.9840, 3170,    506.9,  10.7660,  10.7664,2,  34.2818,2,-999.0000,9,    162.3,2,    162.2,2,    28.69,2,    19.22,2,     0.00,2,     1.36,2,   -999.0,9,   -999.0,9,-999.0000,9,  -999.00,  -999.00,9,  -999.00,9,  10.7664,2,      408
  49UF20180518,KS1805,  5389,  1,     17,  25251,2,20180601,0323, 23.7560, 131.9840, 3170,    604.9,   7.6947,   7.6959,2,  34.1664,2,-999.0000,9,    126.8,2,    127.0,2,    53.50,2,    27.83,2,     0.00,2,     2.00,2,   -999.0,9,   -999.0,9,-999.0000,9,  -999.00,  -999.00,9,  -999.00,9,   7.6959,2,      404
  49UF20180518,KS1805,  5389,  1,     16,  25250,2,20180601,0323, 23.7560, 131.9840, 3170,    709.1,   6.1226,   6.1221,2,  34.1632,2,-999.0000,9,     98.7,2,     99.6,2,    72.32,2,    33.03,2,     0.00,2,     2.38,2,   -999.0,9,   -999.0,9,-999.0000,9,  -999.00,  -999.00,9,  -999.00,9,   6.1221,2,      401
  49UF20180518,KS1805,  5389,  1,     15,  25249,2,20180601,0323, 23.7560, 131.9840, 3170,    811.3,   4.9474,   4.9471,2,  34.2285,2,-999.0000,9,     73.0,2,     73.5,2,    93.31,2,    37.29,2,     0.00,2,     2.68,2,   -999.0,9,   -999.0,9,-999.0000,9,  -999.00,  -999.00,9,  -999.00,9,   4.9471,2,      358
  49UF20180518,KS1805,  5389,  1,     14,  25248,2,20180601,0323, 23.7560, 131.9840, 3170,    912.0,   4.3424,   4.3426,2,  34.2938,2,-999.0000,9,     62.9,2,     62.7,2,   106.34,2,    39.08,2,     0.00,2,     2.81,2,   -999.0,9,   -999.0,9,-999.0000,9,  -999.00,  -999.00,9,  -999.00,9,   4.3426,2,      354
  49UF20180518,KS1805,  5389,  1,     13,  25247,2,20180601,0323, 23.7560, 131.9840, 3170,   1009.6,   3.8661,   3.8662,2,  34.3592,2,-999.0000,9,     58.8,2,     59.0,2,   117.03,2,    40.11,2,     0.00,2,     2.88,2,   -999.0,9,   -999.0,9,-999.0000,9,  -999.00,  -999.00,9,  -999.00,9,   3.8662,2,      350
  49UF20180518,KS1805,  5389,  1,      9,  25243,2,20180601,0323, 23.7560, 131.9840, 3170,   1213.1,   3.1086,   3.1085,2,  34.4565,2,-999.0000,9,     64.4,2,     64.7,6,   132.78,6,    40.62,6,     0.00,6,     2.90,6,   -999.0,9,   -999.0,9,-999.0000,9,  -999.00,  -999.00,9,  -999.00,9,   3.1085,2,      345
  49UF20180518,KS1805,  5389,  1,      7,  25241,2,20180601,0323, 23.7560, 131.9840, 3170,   1421.1,   2.6616,   2.6647,2,  34.5160,2,-999.0000,9,     76.4,2,     76.7,2,   140.14,2,    40.27,2,     0.00,2,     2.86,2,   -999.0,9,   -999.0,9,-999.0000,9,  -999.00,  -999.00,9,  -999.00,9,   2.6647,2,      339
  49UF20180518,KS1805,  5389,  1,      8,  25242,2,20180601,0323, 23.7560, 131.9840, 3170,   1423.1,   2.6542,   2.6551,2,  34.5171,2,-999.0000,9,     76.8,2,     76.6,2,   140.14,2,    40.22,2,     0.00,2,     2.86,2,   -999.0,9,   -999.0,9,-999.0000,9,  -999.00,  -999.00,9,  -999.00,9,   2.6551,2,      340
  49UF20180518,KS1805,  5389,  1,      6,  25240,2,20180601,0323, 23.7560, 131.9840, 3170,   1616.4,   2.2841,   2.2844,2,  34.5668,2,-999.0000,9,     93.5,2,     93.9,2,   143.91,2,    39.38,2,     0.00,2,     2.79,2,   -999.0,9,   -999.0,9,-999.0000,9,  -999.00,  -999.00,9,  -999.00,9,   2.2844,2,      333
  49UF20180518,KS1805,  5389,  1,      5,  25239,2,20180601,0323, 23.7560, 131.9840, 3170,   1817.1,   2.0944,   2.0948,2,  34.5955,2,-999.0000,9,    105.9,2,    106.0,2,   144.41,2,    38.69,2,     0.00,2,     2.73,2,   -999.0,9,   -999.0,9,-999.0000,9,  -999.00,  -999.00,9,  -999.00,9,   2.0948,2,      329
  49UF20180518,KS1805,  5389,  1,      4,  25238,2,20180601,0323, 23.7560, 131.9840, 3170,   2018.3,   1.9147,   1.9148,2,  34.6211,2,-999.0000,9,    117.9,2,    118.2,2,   144.46,2,    37.96,2,     0.00,2,     2.67,2,   -999.0,9,   -999.0,9,-999.0000,9,  -999.00,  -999.00,9,  -999.00,9,   1.9148,2,      324
  49UF20180518,KS1805,  5390,  1,     99,     99,2,20180601,1046, 23.9957, 131.0002, 3372,      0.0,  27.8580,-999.0000,9,  34.4034,2,  34.3492,2,    204.2,2,    203.7,2,     1.37,2,     0.00,2,     0.00,2,     0.04,2,   1949.4,2,   2258.0,2,-999.0000,9,  -999.00,     0.07,2,     0.02,2,-999.0000,9,     1110
  49UF20180518,KS1805,  5390,  1,     36,  25270,2,20180601,1046, 23.9957, 131.0002, 3372,     11.3,  26.3611,  26.3797,2,  34.4215,2,  34.4823,4,    209.9,2,    210.2,2,     1.32,2,     0.00,2,     0.00,2,     0.00,2,   1957.5,2,   2267.6,2,-999.0000,9,  -999.00,     0.06,2,     0.02,2,  26.3797,2,     1148
  49UF20180518,KS1805,  5390,  1,     35,  25269,2,20180601,1046, 23.9957, 131.0002, 3372,     26.0,  25.0430,  25.0426,2,  34.7434,2,-999.0000,9,    215.3,2,    216.8,2,     1.30,2,     0.00,2,     0.00,2,     0.00,2,   1970.9,2,   2285.6,2,-999.0000,9,  -999.00,     0.07,2,     0.02,2,  25.0426,2,     1146
  49UF20180518,KS1805,  5390,  1,     34,  25268,2,20180601,1046, 23.9957, 131.0002, 3372,     51.2,  23.3452,  23.3515,2,  34.7891,2,  34.7906,2,    221.3,2,    220.5,2,     1.42,2,     0.00,2,     0.00,2,     0.00,2,   1980.1,2,   2289.1,2,-999.0000,9,  -999.00,     0.09,2,     0.03,2,  23.3515,2,     1141
  49UF20180518,KS1805,  5390,  1,     33,  25267,2,20180601,1046, 23.9957, 131.0002, 3372,     75.7,  22.5674,  22.5662,2,  34.8674,2,-999.0000,9,    216.9,2,    216.5,2,     1.48,2,     0.00,2,     0.00,2,     0.01,2,   1989.7,2,   2292.4,2,-999.0000,9,  -999.00,     0.14,2,     0.07,2,  22.5662,2,     1140
  49UF20180518,KS1805,  5390,  1,     32,  25266,2,20180601,1046, 23.9957, 131.0002, 3372,    101.4,  22.0633,  22.0615,2,  34.8967,2,  34.8969,2,    214.5,2,    214.6,2,     1.52,2,     0.00,2,     0.00,2,     0.02,2,   1998.2,2,   2295.3,6,-999.0000,9,  -999.00,     0.19,2,     0.26,2,  22.0615,2,     1138
  49UF20180518,KS1805,  5390,  1,     31,  25265,2,20180601,1046, 23.9957, 131.0002, 3372,    126.4,  21.6243,  21.6248,2,  34.9268,2,-999.0000,9,    207.8,2,    207.4,2,     1.73,2,     0.57,2,     0.06,2,     0.06,2,   1996.1,2,   2294.5,2,-999.0000,9,  -999.00,     0.21,2,     0.37,2,  21.6248,2,     1137
  49UF20180518,KS1805,  5390,  1,     27,  25261,2,20180601,1046, 23.9957, 131.0002, 3372,    152.6,  21.0232,  21.0251,2,  34.9150,2,  34.9169,2,    212.6,2,    211.5,2,     1.87,2,     0.41,2,     0.19,2,     0.06,2,   2009.8,2,   2296.7,2,-999.0000,9,  -999.00,     0.11,2,     0.20,2,  21.0251,2,     1136
  49UF20180518,KS1805,  5390,  1,     26,  25260,2,20180601,1046, 23.9957, 131.0002, 3372,    202.5,  19.8082,  19.8084,2,  34.9223,2,-999.0000,9,    204.1,2,    203.8,2,     2.53,2,     2.10,2,     0.01,2,     0.15,2,   2027.8,6,   2295.8,6,-999.0000,9,  -999.00,     0.00,2,     0.01,2,  19.8084,2,     1134
  49UF20180518,KS1805,  5390,  1,     25,  25259,2,20180601,1046, 23.9957, 131.0002, 3372,    251.5,  18.6463,  18.6463,2,  34.8591,2,-999.0000,9,    195.8,2,    195.6,2,     3.90,2,     4.05,2,     0.01,2,     0.27,2,   -999.0,9,   -999.0,9,-999.0000,9,  -999.00,  -999.00,9,  -999.00,9,  18.6463,2,     1132
  49UF20180518,KS1805,  5390,  1,     24,  25258,2,20180601,1046, 23.9957, 131.0002, 3372,    251.5,  18.6448,  18.6448,2,  34.8591,2,-999.0000,9,    195.7,2,    195.4,2,     3.91,2,     4.04,2,     0.01,2,     0.28,2,   -999.0,9,   -999.0,9,-999.0000,9,  -999.00,  -999.00,9,  -999.00,9,  18.6448,2,     1132
  49UF20180518,KS1805,  5390,  1,     23,  25257,2,20180601,1046, 23.9957, 131.0002, 3372,    303.3,  17.4975,  17.4972,2,  34.7856,2,-999.0000,9,    197.8,2,    197.6,6,     4.58,6,     5.15,6,     0.01,6,     0.34,6,   -999.0,9,   -999.0,9,-999.0000,9,  -999.00,  -999.00,9,  -999.00,9,  17.4972,2,     1130
  49UF20180518,KS1805,  5390,  1,     22,  24473,2,20180601,1046, 23.9957, 131.0002, 3372,    403.1,  15.0520,  15.0515,2,  34.5673,2,  34.5650,2,    188.9,2,    188.4,2,     9.88,2,     9.55,2,     0.00,2,     0.65,2,   -999.0,9,   -999.0,9,-999.0000,9,  -999.00,  -999.00,9,  -999.00,9,  15.0515,2,     1127
  49UF20180518,KS1805,  5390,  1,     18,  25252,2,20180601,1046, 23.9957, 131.0002, 3372,    504.5,  12.2919,  12.2879,2,  34.3618,2,-999.0000,9,    175.3,2,    174.8,2,    19.55,2,    15.31,2,     0.00,2,     1.06,2,   -999.0,9,   -999.0,9,-999.0000,9,  -999.00,  -999.00,9,  -999.00,9,  12.2879,2,     1124
  49UF20180518,KS1805,  5390,  1,     17,  25251,2,20180601,1046, 23.9957, 131.0002, 3372,    605.2,   9.5848,   9.6155,2,  34.2227,2,  34.2230,2,    151.0,2,    150.4,2,    36.84,2,    22.31,2,     0.00,2,     1.58,2,   -999.0,9,   -999.0,9,-999.0000,9,  -999.00,  -999.00,9,  -999.00,9,   9.6155,2,     1121
  49UF20180518,KS1805,  5390,  1,     16,  25250,2,20180601,1046, 23.9957, 131.0002, 3372,    706.6,   7.0988,   7.0996,2,  34.1412,2,-999.0000,9,    118.3,2,    117.6,2,    58.77,2,    29.71,2,     0.00,2,     2.13,2,   -999.0,9,   -999.0,9,-999.0000,9,  -999.00,  -999.00,9,  -999.00,9,   7.0996,2,     1118
  49UF20180518,KS1805,  5390,  1,     15,  25249,2,20180601,1046, 23.9957, 131.0002, 3372,    810.6,   5.4293,   5.4313,2,  34.1740,2,  34.1736,2,     84.2,2,     84.6,2,    82.92,2,    35.47,2,     0.00,2,     2.55,2,   -999.0,9,   -999.0,9,-999.0000,9,  -999.00,  -999.00,9,  -999.00,9,   5.4313,2,     1115
  49UF20180518,KS1805,  5390,  1,     14,  25248,2,20180601,1046, 23.9957, 131.0002, 3372,    908.0,   4.6210,   4.6216,2,  34.2401,2,-999.0000,9,     67.1,2,     67.1,2,    99.77,2,    38.31,2,     0.00,2,     2.75,2,   -999.0,9,   -999.0,9,-999.0000,9,  -999.00,  -999.00,9,  -999.00,9,   4.6216,2,     1112
  49UF20180518,KS1805,  5390,  1,     13,  25247,2,20180601,1046, 23.9957, 131.0002, 3372,   1009.3,   4.0467,   4.0472,2,  34.3336,2,  34.3331,2,     59.9,2,     59.8,2,   112.87,2,    39.72,2,     0.00,2,     2.85,2,   -999.0,9,   -999.0,9,-999.0000,9,  -999.00,  -999.00,9,  -999.00,9,   4.0472,2,     1110
  49UF20180518,KS1805,  5390,  1,      8,  25242,2,20180601,1046, 23.9957, 131.0002, 3372,   1213.0,   3.2980,   3.2981,2,  34.4200,2,-999.0000,9,     59.0,2,     58.7,2,   129.60,2,    40.71,2,     0.00,2,     2.91,2,   -999.0,9,   -999.0,9,-999.0000,9,  -999.00,  -999.00,9,  -999.00,9,   3.2981,2,     1105
  49UF20180518,KS1805,  5390,  1,      9,  25243,2,20180601,1046, 23.9957, 131.0002, 3372,   1213.1,   3.2980,   3.2981,2,  34.4200,2,-999.0000,9,     59.0,2,     60.7,3,   129.71,2,    40.67,2,     0.00,2,     2.91,2,   -999.0,9,   -999.0,9,-999.0000,9,  -999.00,  -999.00,9,  -999.00,9,   3.2981,2,     1105
  49UF20180518,KS1805,  5390,  1,      7,  25241,2,20180601,1046, 23.9957, 131.0002, 3372,   1414.9,   2.7248,   2.7249,2,  34.5036,2,  34.5037,6,     73.2,2,     73.2,6,   139.89,6,    40.39,6,     0.00,6,     2.87,6,   -999.0,9,   -999.0,9,-999.0000,9,  -999.00,  -999.00,9,  -999.00,9,   2.7249,2,     1100
  49UF20180518,KS1805,  5390,  1,      6,  25240,2,20180601,1046, 23.9957, 131.0002, 3372,   1621.3,   2.3738,   2.3739,2,  34.5530,2,-999.0000,9,     88.2,2,     89.8,3,   143.50,2,    39.70,2,     0.00,2,     2.81,2,   -999.0,9,   -999.0,9,-999.0000,9,  -999.00,  -999.00,9,  -999.00,9,   2.3739,2,     1055
  49UF20180518,KS1805,  5390,  1,      5,  25239,2,20180601,1046, 23.9957, 131.0002, 3372,   1821.6,   2.1534,   2.1536,2,  34.5854,2,  34.5853,2,    101.2,2,    101.0,2,   144.57,2,    38.97,2,     0.00,2,     2.75,2,   -999.0,9,   -999.0,9,-999.0000,9,  -999.00,  -999.00,9,  -999.00,9,   2.1536,2,     1051
  49UF20180518,KS1805,  5390,  1,      4,  25238,2,20180601,1046, 23.9957, 131.0002, 3372,   2026.5,   1.9559,   1.9563,2,  34.6139,2,  34.6134,6,    114.3,2,    114.0,2,   144.63,2,    38.17,2,     0.00,2,     2.68,2,   -999.0,9,   -999.0,9,-999.0000,9,  -999.00,  -999.00,9,  -999.00,9,   1.9563,2,     1046