BOTTLE,20200311PRINUNIVRMK
EXPOCODE,SECT_ID,STNNBR,CASTNO,SAMPNO,BTLNBR,BTLNBR_FLAG_W,DATE,TIME,LATITUDE,LONGITUDE,DEPTH,CTDPRS,CTDTMP,SBE35,SBE35_FLAG_W,CTDSAL,CTDSAL_FLAG_W,SALNTY,SALNTY_FLAG_W,CTDOXY,CTDOXY_FLAG_W,OXYGEN,OXYGEN_FLAG_W,SILCAT,SILCAT_FLAG_W,NITRAT,NITRAT_FLAG_W,NITRIT,NITRIT_FLAG_W,PHSPHT,PHSPHT_FLAG_W,TCARBN,TCARBN_FLAG_W,ALKALI,ALKALI_FLAG_W,PH_TOT,PH_TOT_FLAG_W,PH_TMP,CHLORA,CHLORA_FLAG_W,PPHYTN,PPHYTN_FLAG_W,SBE35,SBE35_FLAG_W,BTL_TIME
,,,,,,,,,,,METERS,DBAR,ITS-90,,,PSS-78,,PSS-78,,UMOL/KG,,UMOL/KG,,UMOL/KG,,UMOL/KG,,UMOL/KG,,UMOL/KG,,UMOL/KG,,UMOL/KG,,,,DEG C,UG/KG,,UG/KG,,,,
  49UF20180518,KS1805,  5426,  1,     99,     99,2,20180616,1628, 31.9110, 133.5828, 2858,      0.0,  26.7897,-999.0000,9,  34.3398,2,-999.0000,9,    203.8,2,    204.3,2,     1.52,2,     0.03,2,     0.02,2,     0.00,2,   -999.0,9,   -999.0,9,-999.0000,9,  -999.00,  -999.00,9,  -999.00,9,-999.0000,9,     1715
  49UF20180518,KS1805,  5426,  1,     36,  25270,2,20180616,1628, 31.9110, 133.5828, 2858,     11.8,  26.7823,  26.7826,2,  34.3388,2,  34.3373,2,    203.8,2,    204.1,2,     1.46,2,     0.02,2,     0.00,2,     0.00,2,   -999.0,9,   -999.0,9,-999.0000,9,  -999.00,  -999.00,9,  -999.00,9,  26.7826,2,     1736
  49UF20180518,KS1805,  5426,  1,     35,  25269,2,20180616,1628, 31.9110, 133.5828, 2858,     26.0,  26.8041,  26.8040,2,  34.3386,2,  34.3378,2,    203.9,2,    203.9,2,     1.46,2,     0.04,2,     0.00,2,     0.00,2,   -999.0,9,   -999.0,9,-999.0000,9,  -999.00,  -999.00,9,  -999.00,9,  26.8040,2,     1735
  49UF20180518,KS1805,  5426,  1,     34,  25268,3,20180616,1628, 31.9110, 133.5828, 2858,     51.2,  25.4671,  25.4822,2,  34.5681,2,  34.5651,2,    207.4,2,    207.3,2,     1.53,2,     0.04,2,     0.01,2,     0.01,2,   -999.0,9,   -999.0,9,-999.0000,9,  -999.00,  -999.00,9,  -999.00,9,  25.4822,2,     1730
  49UF20180518,KS1805,  5426,  1,     30,  25264,2,20180616,1628, 31.9110, 133.5828, 2858,     76.1,  24.2006,  24.2013,2,  34.7128,2,  34.7116,2,    201.0,2,    201.1,2,     1.88,2,     0.36,2,     0.35,2,     0.06,2,   -999.0,9,   -999.0,9,-999.0000,9,  -999.00,  -999.00,9,  -999.00,9,  24.2013,2,     1728
  49UF20180518,KS1805,  5426,  1,     29,  25263,2,20180616,1628, 31.9110, 133.5828, 2858,    101.2,  22.9406,  22.9402,2,  34.8534,2,  34.8431,4,    198.0,2,    197.2,2,     2.26,2,     1.05,2,     0.16,2,     0.10,2,   -999.0,9,   -999.0,9,-999.0000,9,  -999.00,  -999.00,9,  -999.00,9,  22.9402,2,     1727
  49UF20180518,KS1805,  5426,  1,     28,  25262,2,20180616,1628, 31.9110, 133.5828, 2858,    126.9,  21.4527,  21.4673,2,  34.9119,2,  34.9107,2,    196.6,2,    196.2,2,     2.57,2,     1.81,2,     0.05,2,     0.14,2,   -999.0,9,   -999.0,9,-999.0000,9,  -999.00,  -999.00,9,  -999.00,9,  21.4673,2,     1725
  49UF20180518,KS1805,  5426,  1,     27,  25261,2,20180616,1628, 31.9110, 133.5828, 2858,    155.0,  20.5090,  20.5071,2,  34.9232,2,  34.9163,2,    200.8,2,    198.1,2,     2.79,2,     2.19,2,     0.03,2,     0.16,2,   -999.0,9,   -999.0,9,-999.0000,9,  -999.00,  -999.00,9,  -999.00,9,  20.5071,2,     1720
  49UF20180518,KS1805,  5426,  1,     26,  25260,2,20180616,1628, 31.9110, 133.5828, 2858,    205.3,  19.6194,  19.6165,2,  34.9216,2,  34.9211,2,    204.2,2,    204.3,2,     2.48,2,     2.19,2,     0.01,2,     0.15,2,   -999.0,9,   -999.0,9,-999.0000,9,  -999.00,  -999.00,9,  -999.00,9,  19.6165,2,     1718
  49UF20180518,KS1805,  5426,  1,     25,  25259,2,20180616,1628, 31.9110, 133.5828, 2858,    253.2,  18.4261,  18.4246,2,  34.8567,2,  34.8546,2,    196.9,2,    196.8,6,     3.82,6,     4.08,6,     0.02,6,     0.28,6,   -999.0,9,   -999.0,9,-999.0000,9,  -999.00,  -999.00,9,  -999.00,9,  18.4246,2,     1716
  49UF20180518,KS1805,  5426,  1,     21,  25255,2,20180616,1628, 31.9110, 133.5828, 2858,    303.5,  17.1347,  17.1357,2,  34.7693,2,  34.7677,2,    202.2,2,    202.6,2,     4.85,2,     5.22,2,     0.02,2,     0.34,2,   -999.0,9,   -999.0,9,-999.0000,9,  -999.00,  -999.00,9,  -999.00,9,  17.1357,2,     1714
  49UF20180518,KS1805,  5426,  1,     20,  24270,2,20180616,1628, 31.9110, 133.5828, 2858,    303.5,  17.1308,  17.1315,2,  34.7692,2,  34.7678,2,    202.2,2,    202.4,2,     4.87,2,     5.21,2,     0.01,2,     0.34,2,   -999.0,9,   -999.0,9,-999.0000,9,  -999.00,  -999.00,9,  -999.00,9,  17.1315,2,     1714
  49UF20180518,KS1805,  5426,  1,     19,  25253,2,20180616,1628, 31.9110, 133.5828, 2858,    402.8,  14.3927,  14.3987,2,  34.5249,2,  34.5242,2,    181.6,2,    181.8,2,    13.30,2,    11.34,2,     0.00,2,     0.77,2,   -999.0,9,   -999.0,9,-999.0000,9,  -999.00,  -999.00,9,  -999.00,9,  14.3987,2,     1711
  49UF20180518,KS1805,  5426,  1,     18,  25252,2,20180616,1628, 31.9110, 133.5828, 2858,    504.4,  11.4580,  11.4578,2,  34.3407,2,  34.3401,2,    161.9,2,    162.1,2,    27.03,2,    17.99,2,     0.02,2,     1.26,2,   -999.0,9,   -999.0,9,-999.0000,9,  -999.00,  -999.00,9,  -999.00,9,  11.4578,2,     1708
  49UF20180518,KS1805,  5426,  1,     17,  25251,2,20180616,1628, 31.9110, 133.5828, 2858,    604.8,   8.8707,   8.8755,2,  34.2421,2,  34.2419,2,    134.0,2,    134.3,2,    46.33,2,    24.99,2,     0.03,2,     1.78,2,   -999.0,9,   -999.0,9,-999.0000,9,  -999.00,  -999.00,9,  -999.00,9,   8.8755,2,     1706
  49UF20180518,KS1805,  5426,  1,     16,  25250,2,20180616,1628, 31.9110, 133.5828, 2858,    706.2,   6.7630,   6.7641,2,  34.2087,2,  34.2082,2,    104.3,2,    104.4,2,    67.85,2,    31.45,2,     0.00,2,     2.25,2,   -999.0,9,   -999.0,9,-999.0000,9,  -999.00,  -999.00,9,  -999.00,9,   6.7641,2,     1703
  49UF20180518,KS1805,  5426,  1,     12,  25246,2,20180616,1628, 31.9110, 133.5828, 2858,    806.5,   5.9396,   5.9456,2,  34.3062,2,  34.3049,2,     87.4,2,     87.8,2,    84.75,2,    34.24,2,     0.00,2,     2.45,2,   -999.0,9,   -999.0,9,-999.0000,9,  -999.00,  -999.00,9,  -999.00,9,   5.9456,2,     1700
  49UF20180518,KS1805,  5426,  1,     11,  25245,2,20180616,1628, 31.9110, 133.5828, 2858,    907.0,   4.5913,   4.5903,2,  34.3076,2,  34.3086,2,     69.4,2,     69.9,2,   103.44,2,    37.93,2,     0.01,2,     2.71,2,   -999.0,9,   -999.0,9,-999.0000,9,  -999.00,  -999.00,9,  -999.00,9,   4.5903,2,     1657
  49UF20180518,KS1805,  5426,  1,     10,  25244,2,20180616,1628, 31.9110, 133.5828, 2858,   1011.2,   3.8873,   3.8921,2,  34.3898,2,  34.3903,2,     64.9,2,     65.8,6,   117.70,6,    39.37,6,     0.01,6,     2.81,6,   -999.0,9,   -999.0,9,-999.0000,9,  -999.00,  -999.00,9,  -999.00,9,   3.8921,2,     1654
  49UF20180518,KS1805,  5426,  1,      9,  25243,2,20180616,1628, 31.9110, 133.5828, 2858,   1211.7,   3.1409,   3.1413,2,  34.4587,2,  34.4571,2,     65.9,2,     66.0,2,   133.16,2,    40.33,2,     0.00,2,     2.87,2,   -999.0,9,   -999.0,9,-999.0000,9,  -999.00,  -999.00,9,  -999.00,9,   3.1413,2,     1649
  49UF20180518,KS1805,  5426,  1,      8,  25242,2,20180616,1628, 31.9110, 133.5828, 2858,   1212.6,   3.1405,   3.1411,2,  34.4586,2,  34.4571,2,     65.8,2,     65.6,2,   133.16,2,    40.35,2,     0.00,2,     2.87,2,   -999.0,9,   -999.0,9,-999.0000,9,  -999.00,  -999.00,9,  -999.00,9,   3.1411,2,     1649
  49UF20180518,KS1805,  5426,  1,      7,  25241,2,20180616,1628, 31.9110, 133.5828, 2858,   1414.8,   2.6971,   2.6980,2,  34.5028,2,  34.5011,6,     71.9,2,     71.8,2,   141.66,2,    40.40,2,     0.02,2,     2.86,2,   -999.0,9,   -999.0,9,-999.0000,9,  -999.00,  -999.00,9,  -999.00,9,   2.6980,2,     1644
  49UF20180518,KS1805,  5426,  1,      3,  24271,2,20180616,1628, 31.9110, 133.5828, 2858,   1619.7,   2.3836,   2.3836,2,  34.5446,2,  34.5425,6,     82.6,2,     82.5,2,   145.74,2,    39.98,2,     0.00,2,     2.82,2,   -999.0,9,   -999.0,9,-999.0000,9,  -999.00,  -999.00,9,  -999.00,9,   2.3836,2,     1639
  49UF20180518,KS1805,  5426,  1,      2,  25236,2,20180616,1628, 31.9110, 133.5828, 2858,   1820.7,   2.1853,   2.1854,2,  34.5736,2,  34.5721,6,     93.5,2,     93.6,2,   147.05,2,    39.36,2,     0.00,2,     2.77,2,   -999.0,9,   -999.0,9,-999.0000,9,  -999.00,  -999.00,9,  -999.00,9,   2.1854,2,     1635
  49UF20180518,KS1805,  5426,  1,      1,  24272,2,20180616,1628, 31.9110, 133.5828, 2858,   2025.7,   2.0209,   2.0213,2,  34.5982,2,  34.5962,2,    103.8,2,    103.7,2,   147.76,2,    38.82,2,     0.00,2,     2.72,2,   -999.0,9,   -999.0,9,-999.0000,9,  -999.00,  -999.00,9,  -999.00,9,   2.0213,2,     1630