BOTTLE,20200311PRINUNIVRMK
EXPOCODE,SECT_ID,STNNBR,CASTNO,SAMPNO,BTLNBR,BTLNBR_FLAG_W,DATE,TIME,LATITUDE,LONGITUDE,DEPTH,CTDPRS,CTDTMP,SBE35,SBE35_FLAG_W,CTDSAL,CTDSAL_FLAG_W,SALNTY,SALNTY_FLAG_W,CTDOXY,CTDOXY_FLAG_W,OXYGEN,OXYGEN_FLAG_W,SILCAT,SILCAT_FLAG_W,NITRAT,NITRAT_FLAG_W,NITRIT,NITRIT_FLAG_W,PHSPHT,PHSPHT_FLAG_W,TCARBN,TCARBN_FLAG_W,ALKALI,ALKALI_FLAG_W,PH_TOT,PH_TOT_FLAG_W,PH_TMP,CHLORA,CHLORA_FLAG_W,PPHYTN,PPHYTN_FLAG_W,SBE35,SBE35_FLAG_W,BTL_TIME
,,,,,,,,,,,METERS,DBAR,ITS-90,,,PSS-78,,PSS-78,,UMOL/KG,,UMOL/KG,,UMOL/KG,,UMOL/KG,,UMOL/KG,,UMOL/KG,,UMOL/KG,,UMOL/KG,,,,DEG C,UG/KG,,UG/KG,,,,
  49UF20180518,KS1805,  5415,  1,     99,     99,2,20180612,0923, 28.2610, 127.1512,  987,      0.0,  28.6570,-999.0000,9,  34.4064,2,-999.0000,9,    198.5,2,    198.7,2,     1.38,2,     0.01,2,     0.00,2,     0.00,2,   -999.0,9,   -999.0,9,-999.0000,9,  -999.00,     0.12,2,     0.03,2,-999.0000,9,      935
  49UF20180518,KS1805,  5415,  1,     36,  25270,2,20180612,0923, 28.2610, 127.1512,  987,     11.2,  28.6576,  28.6601,2,  34.4062,2,-999.0000,9,    198.6,2,    198.6,6,     1.36,6,     0.00,6,     0.00,6,     0.00,6,   -999.0,9,   -999.0,9,-999.0000,9,  -999.00,     0.11,2,     0.02,2,  28.6601,2,     1000
  49UF20180518,KS1805,  5415,  1,     34,  25268,2,20180612,0923, 28.2610, 127.1512,  987,     21.4,  28.6652,  28.6645,2,  34.4073,2,-999.0000,9,    198.5,2,    198.6,2,     1.35,2,     0.00,2,     0.00,2,     0.00,2,   -999.0,9,   -999.0,9,-999.0000,9,  -999.00,     0.13,2,     0.03,2,  28.6645,2,      959
  49UF20180518,KS1805,  5415,  1,     35,  25269,2,20180612,0923, 28.2610, 127.1512,  987,     21.6,  28.6627,  28.6634,2,  34.4077,2,-999.0000,9,    198.5,2,    199.1,2,     1.35,2,     0.04,2,     0.00,2,     0.00,2,   -999.0,9,   -999.0,9,-999.0000,9,  -999.00,  -999.00,9,  -999.00,9,  28.6634,2,      959
  49UF20180518,KS1805,  5415,  1,     30,  25264,2,20180612,0923, 28.2610, 127.1512,  987,     32.2,  28.6216,  28.6149,2,  34.4202,2,-999.0000,9,    199.2,2,    199.9,2,     1.33,2,     0.00,2,     0.00,2,     0.00,2,   -999.0,9,   -999.0,9,-999.0000,9,  -999.00,     0.14,2,     0.04,2,  28.6149,2,      957
  49UF20180518,KS1805,  5415,  1,     29,  25263,2,20180612,0923, 28.2610, 127.1512,  987,     51.7,  26.1920,  26.1935,2,  34.6930,2,-999.0000,9,    212.1,2,    211.8,2,     1.22,2,     0.00,2,     0.00,2,     0.00,2,   -999.0,9,   -999.0,9,-999.0000,9,  -999.00,     0.17,2,     0.06,2,  26.1935,2,      953
  49UF20180518,KS1805,  5415,  1,     28,  25262,2,20180612,0923, 28.2610, 127.1512,  987,     76.6,  24.8514,  24.8524,2,  34.7408,2,-999.0000,9,    209.8,2,    209.4,2,     1.20,2,     0.00,2,     0.00,2,     0.02,2,   -999.0,9,   -999.0,9,-999.0000,9,  -999.00,     0.44,2,     0.38,2,  24.8524,2,      952
  49UF20180518,KS1805,  5415,  1,     27,  25261,2,20180612,0923, 28.2610, 127.1512,  987,    103.2,  23.5872,  23.5954,2,  34.9247,2,-999.0000,9,    204.6,2,    205.2,2,     1.52,2,     0.00,2,     0.15,2,     0.03,2,   -999.0,9,   -999.0,9,-999.0000,9,  -999.00,     0.16,2,     0.22,2,  23.5954,2,      951
  49UF20180518,KS1805,  5415,  1,     26,  25260,2,20180612,0923, 28.2610, 127.1512,  987,    127.9,  22.3070,  22.3101,2,  34.9436,2,-999.0000,9,    202.5,2,    202.9,2,     1.83,2,     0.44,2,     0.12,2,     0.06,2,   -999.0,9,   -999.0,9,-999.0000,9,  -999.00,     0.10,2,     0.18,2,  22.3101,2,      950
  49UF20180518,KS1805,  5415,  1,     25,  25259,2,20180612,0923, 28.2610, 127.1512,  987,    153.5,  21.2424,  21.2447,2,  34.9727,2,-999.0000,9,    192.9,2,    193.0,2,     2.41,2,     1.70,2,     0.04,2,     0.14,2,   -999.0,9,   -999.0,9,-999.0000,9,  -999.00,     0.04,2,     0.14,2,  21.2447,2,      948
  49UF20180518,KS1805,  5415,  1,     21,  25255,2,20180612,0923, 28.2610, 127.1512,  987,    205.8,  18.5092,  18.5096,2,  34.8616,2,-999.0000,9,    195.5,2,    195.9,2,     3.72,2,     3.91,2,     0.01,2,     0.27,2,   -999.0,9,   -999.0,9,-999.0000,9,  -999.00,     0.00,2,     0.02,2,  18.5096,2,      946
  49UF20180518,KS1805,  5415,  1,     20,  24270,3,20180612,0923, 28.2610, 127.1512,  987,    252.4,  17.2555,  17.2565,2,  34.7564,2,-999.0000,9,    192.4,2,    192.4,2,     5.69,2,     5.91,2,     0.01,2,     0.41,2,   -999.0,9,   -999.0,9,-999.0000,9,  -999.00,  -999.00,9,  -999.00,9,  17.2565,2,      944
  49UF20180518,KS1805,  5415,  1,     19,  25253,2,20180612,0923, 28.2610, 127.1512,  987,    303.3,  15.0012,  15.0009,2,  34.5661,2,-999.0000,9,    186.5,2,    187.4,2,    10.33,2,     9.70,2,     0.00,2,     0.66,2,   -999.0,9,   -999.0,9,-999.0000,9,  -999.00,  -999.00,9,  -999.00,9,  15.0009,2,      942
  49UF20180518,KS1805,  5415,  1,     15,  25249,2,20180612,0923, 28.2610, 127.1512,  987,    412.0,  10.6293,  10.6123,2,  34.3315,2,-999.0000,9,    143.5,2,    143.6,2,    32.66,2,    20.55,2,     0.00,2,     1.47,2,   -999.0,9,   -999.0,9,-999.0000,9,  -999.00,  -999.00,9,  -999.00,9,  10.6123,2,      939
  49UF20180518,KS1805,  5415,  1,     14,  25248,2,20180612,0923, 28.2610, 127.1512,  987,    506.8,   7.9733,   7.9736,2,  34.3110,2,-999.0000,9,    111.0,2,    110.8,2,    60.39,2,    28.64,2,     0.00,2,     2.06,2,   -999.0,9,   -999.0,9,-999.0000,9,  -999.00,  -999.00,9,  -999.00,9,   7.9736,2,      936
  49UF20180518,KS1805,  5415,  1,     13,  25247,2,20180612,0923, 28.2610, 127.1512,  987,    606.6,   6.8901,   6.8908,2,  34.3354,2,-999.0000,9,     98.0,2,     98.3,2,    74.34,2,    31.49,2,     0.00,2,     2.26,2,   -999.0,9,   -999.0,9,-999.0000,9,  -999.00,  -999.00,9,  -999.00,9,   6.8908,2,      933
  49UF20180518,KS1805,  5415,  1,      9,  25243,2,20180612,0923, 28.2610, 127.1512,  987,    707.6,   6.0139,   6.0160,2,  34.3544,2,-999.0000,9,     89.0,2,     89.2,6,    86.15,6,    33.80,6,     0.00,6,     2.43,6,   -999.0,9,   -999.0,9,-999.0000,9,  -999.00,  -999.00,9,  -999.00,9,   6.0160,2,      930
  49UF20180518,KS1805,  5415,  1,      8,  25242,2,20180612,0923, 28.2610, 127.1512,  987,    807.1,   5.3859,   5.3861,2,  34.3633,2,-999.0000,9,     81.8,2,     81.6,2,    95.96,2,    35.34,2,     0.00,2,     2.55,2,   -999.0,9,   -999.0,9,-999.0000,9,  -999.00,  -999.00,9,  -999.00,9,   5.3861,2,      928
  49UF20180518,KS1805,  5415,  1,      7,  25241,2,20180612,0923, 28.2610, 127.1512,  987,    908.4,   4.9177,   4.9180,2,  34.3845,2,-999.0000,9,     77.5,2,     77.7,2,   103.18,2,    36.41,2,     0.00,2,     2.62,2,   -999.0,9,   -999.0,9,-999.0000,9,  -999.00,  -999.00,9,  -999.00,9,   4.9180,2,      925
  49UF20180518,KS1805,  5415,  1,      2,  25236,2,20180612,0923, 28.2610, 127.1512,  987,    979.5,   4.7789,   4.7797,2,  34.3920,2,-999.0000,9,     76.2,2,     76.2,2,   105.58,2,    36.70,2,     0.01,2,     2.65,2,   -999.0,9,   -999.0,9,-999.0000,9,  -999.00,  -999.00,9,  -999.00,9,   4.7797,2,      923
  49UF20180518,KS1805,  5415,  1,      3,  24271,2,20180612,0923, 28.2610, 127.1512,  987,    979.8,   4.7808,   4.7803,2,  34.3918,2,-999.0000,9,     76.2,2,     76.4,2,   105.75,2,    36.68,2,     0.01,2,     2.65,2,   -999.0,9,   -999.0,9,-999.0000,9,  -999.00,  -999.00,9,  -999.00,9,   4.7803,2,      923
  49UF20180518,KS1805,  5417,  1,     99,     99,2,20180612,1314, 28.1018, 127.3585, 1000,      0.0,  28.1328,-999.0000,9,  34.4862,2,-999.0000,9,    200.3,2,    202.1,2,     1.54,2,     0.08,2,     0.00,2,     0.00,2,   -999.0,9,   -999.0,9,-999.0000,9,  -999.00,     0.13,2,     0.05,2,-999.0000,9,     1325
  49UF20180518,KS1805,  5417,  1,     35,  25269,2,20180612,1314, 28.1018, 127.3585, 1000,     11.3,  28.1365,  28.1364,2,  34.4873,2,  34.4867,2,    200.2,2,    200.4,2,     1.38,2,     0.00,2,     0.00,2,     0.00,2,   -999.0,9,   -999.0,9,-999.0000,9,  -999.00,     0.16,2,     0.04,2,  28.1364,2,     1350
  49UF20180518,KS1805,  5417,  1,     36,  25270,2,20180612,1314, 28.1018, 127.3585, 1000,     11.4,  28.1363,  28.1364,2,  34.4873,2,  34.4860,2,    200.3,2,    200.3,2,     1.38,2,     0.00,2,     0.00,2,     0.00,2,   -999.0,9,   -999.0,9,-999.0000,9,  -999.00,  -999.00,9,  -999.00,9,  28.1364,2,     1350
  49UF20180518,KS1805,  5417,  1,     34,  25268,2,20180612,1314, 28.1018, 127.3585, 1000,     21.6,  28.1268,  28.1276,2,  34.4919,2,  34.4942,2,    200.2,2,    200.8,2,     1.37,2,     0.00,2,     0.00,2,     0.00,2,   -999.0,9,   -999.0,9,-999.0000,9,  -999.00,     0.11,2,     0.04,2,  28.1276,2,     1349
  49UF20180518,KS1805,  5417,  1,     32,  25266,2,20180612,1314, 28.1018, 127.3585, 1000,     31.6,  27.2556,  27.2800,2,  34.5200,2,  34.5186,2,    208.8,2,    208.5,2,     1.37,2,     0.00,2,     0.00,2,     0.00,2,   -999.0,9,   -999.0,9,-999.0000,9,  -999.00,     0.13,2,     0.04,2,  27.2800,2,     1348
  49UF20180518,KS1805,  5417,  1,     31,  25265,2,20180612,1314, 28.1018, 127.3585, 1000,     51.1,  26.1318,  26.1210,2,  34.6175,2,  34.6204,2,    208.8,2,    208.7,2,     1.38,2,     0.00,2,     0.00,2,     0.01,2,   -999.0,9,   -999.0,9,-999.0000,9,  -999.00,     0.13,2,     0.06,2,  26.1210,2,     1344
  49UF20180518,KS1805,  5417,  1,     27,  25261,2,20180612,1314, 28.1018, 127.3585, 1000,     76.5,  24.8086,  24.8030,2,  34.7804,2,  34.7779,2,    208.8,2,    208.8,2,     1.52,2,     0.00,2,     0.00,2,     0.02,2,   -999.0,9,   -999.0,9,-999.0000,9,  -999.00,     0.20,2,     0.11,2,  24.8030,2,     1343
  49UF20180518,KS1805,  5417,  1,     26,  25260,2,20180612,1314, 28.1018, 127.3585, 1000,    103.9,  22.7655,  22.7802,2,  34.9018,2,  34.9086,2,    206.4,2,    205.2,2,     1.73,2,     0.12,2,     0.18,2,     0.05,2,   -999.0,9,   -999.0,9,-999.0000,9,  -999.00,     0.31,2,     0.51,2,  22.7802,2,     1341
  49UF20180518,KS1805,  5417,  1,     25,  25259,2,20180612,1314, 28.1018, 127.3585, 1000,    128.3,  21.5986,  21.5987,2,  34.9329,2,  34.9300,2,    200.2,2,    200.2,2,     2.07,2,     1.17,2,     0.08,2,     0.10,2,   -999.0,9,   -999.0,9,-999.0000,9,  -999.00,     0.11,2,     0.24,2,  21.5987,2,     1340
  49UF20180518,KS1805,  5417,  1,     21,  25255,2,20180612,1314, 28.1018, 127.3585, 1000,    153.1,  20.7175,  20.7189,2,  34.9329,2,  34.9331,2,    206.0,2,    206.4,6,     2.07,6,     1.20,6,     0.03,6,     0.10,6,   -999.0,9,   -999.0,9,-999.0000,9,  -999.00,     0.05,2,     0.06,2,  20.7189,2,     1338
  49UF20180518,KS1805,  5417,  1,     20,  24270,2,20180612,1314, 28.1018, 127.3585, 1000,    204.1,  19.5651,  19.5678,2,  34.9155,2,  34.9147,2,    203.9,2,    204.6,2,     2.72,2,     2.18,2,     0.02,2,     0.16,2,   -999.0,9,   -999.0,9,-999.0000,9,  -999.00,     0.01,2,     0.02,2,  19.5678,2,     1337
  49UF20180518,KS1805,  5417,  1,     19,  25253,2,20180612,1314, 28.1018, 127.3585, 1000,    253.9,  18.6726,  18.6736,2,  34.8698,2,  34.8716,2,    193.6,2,    194.3,2,     3.72,2,     3.90,2,     0.01,2,     0.28,2,   -999.0,9,   -999.0,9,-999.0000,9,  -999.00,  -999.00,9,  -999.00,9,  18.6736,2,     1335
  49UF20180518,KS1805,  5417,  1,     18,  25252,2,20180612,1314, 28.1018, 127.3585, 1000,    303.8,  17.4213,  17.4265,2,  34.7763,2,  34.7771,2,    195.9,2,    196.2,2,     4.97,2,     5.29,2,     0.01,2,     0.36,2,   -999.0,9,   -999.0,9,-999.0000,9,  -999.00,  -999.00,9,  -999.00,9,  17.4265,2,     1333
  49UF20180518,KS1805,  5417,  1,     17,  25251,2,20180612,1314, 28.1018, 127.3585, 1000,    404.6,  13.9965,  13.9955,2,  34.5022,2,  34.4994,2,    175.4,2,    175.4,2,    15.31,2,    12.38,2,     0.00,2,     0.87,2,   -999.0,9,   -999.0,9,-999.0000,9,  -999.00,  -999.00,9,  -999.00,9,  13.9955,2,     1330
  49UF20180518,KS1805,  5417,  1,     16,  25250,2,20180612,1314, 28.1018, 127.3585, 1000,    504.5,  10.8573,  10.8563,2,  34.3277,2,  34.3273,2,    146.4,2,    153.4,3,    31.11,2,    20.22,2,     0.00,2,     1.45,2,   -999.0,9,   -999.0,9,-999.0000,9,  -999.00,  -999.00,9,  -999.00,9,  10.8563,2,     1327
  49UF20180518,KS1805,  5417,  1,     12,  25246,2,20180612,1314, 28.1018, 127.3585, 1000,    605.9,   8.6641,   8.6603,2,  34.3063,2,  34.3066,2,    119.4,2,    118.6,2,    52.90,2,    26.68,2,     0.00,2,     1.92,2,   -999.0,9,   -999.0,9,-999.0000,9,  -999.00,  -999.00,9,  -999.00,9,   8.6603,2,     1325
  49UF20180518,KS1805,  5417,  1,     11,  25245,2,20180612,1314, 28.1018, 127.3585, 1000,    709.9,   6.8246,   6.8284,2,  34.3285,2,  34.3280,2,     97.3,2,     97.1,6,    74.43,6,    31.74,6,     0.00,6,     2.29,6,   -999.0,9,   -999.0,9,-999.0000,9,  -999.00,  -999.00,9,  -999.00,9,   6.8284,2,     1322
  49UF20180518,KS1805,  5417,  1,     10,  25244,2,20180612,1314, 28.1018, 127.3585, 1000,    807.9,   5.8886,   5.8882,2,  34.3644,2,  34.3636,2,     87.5,2,     87.5,2,    89.49,2,    34.06,2,     0.00,2,     2.44,2,   -999.0,9,   -999.0,9,-999.0000,9,  -999.00,  -999.00,9,  -999.00,9,   5.8882,2,     1319
  49UF20180518,KS1805,  5417,  1,      6,  25240,2,20180612,1314, 28.1018, 127.3585, 1000,    908.5,   5.0836,   5.0830,2,  34.3767,2,  34.3761,2,     80.0,2,     79.6,2,    99.95,2,    36.09,2,     0.00,2,     2.60,2,   -999.0,9,   -999.0,9,-999.0000,9,  -999.00,  -999.00,9,  -999.00,9,   5.0830,2,     1317
  49UF20180518,KS1805,  5417,  1,      5,  25239,2,20180612,1314, 28.1018, 127.3585, 1000,    995.2,   4.5679,   4.5670,2,  34.4008,2,  34.4003,2,     76.3,2,     76.1,2,   107.55,2,    37.21,2,     0.00,2,     2.67,2,   -999.0,9,   -999.0,9,-999.0000,9,  -999.00,  -999.00,9,  -999.00,9,   4.5670,2,     1314
  49UF20180518,KS1805,  5417,  1,      4,  25238,2,20180612,1314, 28.1018, 127.3585, 1000,    995.5,   4.5596,   4.5627,2,  34.4014,2,  34.4008,2,     76.3,2,     76.3,2,   107.77,2,    37.24,2,     0.00,2,     2.66,2,   -999.0,9,   -999.0,9,-999.0000,9,  -999.00,  -999.00,9,  -999.00,9,   4.5627,2,     1314
  49UF20180518,KS1805,  5420,  1,     99,     99,2,20180612,1925, 27.8045, 127.8002,  911,      0.0,  26.6713,-999.0000,9,  34.6724,2,  34.6592,2,    203.6,2,    203.8,2,     1.42,2,     0.05,2,     0.00,2,     0.00,2,   1967.5,2,   2281.5,2,   8.0911,2,    25.00,     0.08,2,     0.02,2,-999.0000,9,     1930
  49UF20180518,KS1805,  5420,  1,     36,  25270,2,20180612,1925, 27.8045, 127.8002,  911,     10.9,  26.6736,  26.6726,2,  34.6724,2,-999.0000,9,    203.6,2,    204.1,2,     1.25,2,     0.00,2,     0.00,2,     0.00,2,   -999.0,9,   -999.0,9,-999.0000,9,  -999.00,     0.08,2,     0.02,2,  26.6726,2,     2000
  49UF20180518,KS1805,  5420,  1,     35,  25269,2,20180612,1925, 27.8045, 127.8002,  911,     21.6,  25.8075,  25.7945,2,  34.6499,2,-999.0000,9,    209.5,2,    209.8,2,     1.30,2,     0.00,2,     0.00,2,     0.00,2,   -999.0,9,   -999.0,9,-999.0000,9,  -999.00,     0.08,2,     0.02,2,  25.7945,2,     1959
  49UF20180518,KS1805,  5420,  1,     34,  25268,2,20180612,1925, 27.8045, 127.8002,  911,     31.5,  24.8858,  24.8950,2,  34.6657,2,-999.0000,9,    213.7,2,    213.2,2,     1.33,2,     0.00,2,     0.00,2,     0.00,2,   -999.0,9,   -999.0,9,-999.0000,9,  -999.00,     0.10,2,     0.03,2,  24.8950,2,     1957
  49UF20180518,KS1805,  5420,  1,     30,  25264,2,20180612,1925, 27.8045, 127.8002,  911,     53.2,  24.0444,  24.0446,2,  34.7478,2,-999.0000,9,    216.8,2,    216.3,2,     1.37,2,     0.00,2,     0.00,2,     0.00,2,   -999.0,9,   -999.0,9,-999.0000,9,  -999.00,     0.12,2,     0.04,2,  24.0446,2,     1953
  49UF20180518,KS1805,  5420,  1,     29,  25263,2,20180612,1925, 27.8045, 127.8002,  911,     78.6,  22.9720,  22.9736,2,  34.7852,2,-999.0000,9,    213.8,2,    213.6,2,     1.52,2,     0.00,2,     0.00,2,     0.01,2,   -999.0,9,   -999.0,9,-999.0000,9,  -999.00,     0.20,2,     0.16,2,  22.9736,2,     1952
  49UF20180518,KS1805,  5420,  1,     28,  25262,2,20180612,1925, 27.8045, 127.8002,  911,    102.6,  22.4047,  22.4044,2,  34.8250,2,-999.0000,9,    208.3,2,    209.0,2,     1.68,2,     0.32,2,     0.14,2,     0.04,2,   -999.0,9,   -999.0,9,-999.0000,9,  -999.00,     0.41,2,     0.46,2,  22.4044,2,     1950
  49UF20180518,KS1805,  5420,  1,     24,  25258,2,20180612,1925, 27.8045, 127.8002,  911,    128.3,  21.6405,  21.6379,2,  34.8778,2,-999.0000,9,    202.5,2,    202.9,2,     1.99,2,     1.30,2,     0.04,2,     0.09,2,   -999.0,9,   -999.0,9,-999.0000,9,  -999.00,     0.11,2,     0.19,2,  21.6379,2,     1949
  49UF20180518,KS1805,  5420,  1,     23,  25257,2,20180612,1925, 27.8045, 127.8002,  911,    151.8,  21.3308,  21.3303,2,  34.9590,2,-999.0000,9,    196.5,2,    196.7,2,     2.13,2,     1.59,2,     0.02,2,     0.12,2,   -999.0,9,   -999.0,9,-999.0000,9,  -999.00,     0.05,2,     0.12,2,  21.3303,2,     1948
  49UF20180518,KS1805,  5420,  1,     22,  24473,3,20180612,1925, 27.8045, 127.8002,  911,    202.4,  20.0503,  20.0507,2,  34.9364,2,-999.0000,9,    194.2,2,    194.7,6,     2.66,6,     2.74,6,     0.01,6,     0.19,6,   -999.0,9,   -999.0,9,-999.0000,9,  -999.00,     0.02,2,     0.06,2,  20.0507,2,     1946
  49UF20180518,KS1805,  5420,  1,     17,  25251,2,20180612,1925, 27.8045, 127.8002,  911,    253.8,  18.9133,  18.9132,2,  34.8859,2,-999.0000,9,    196.2,2,    197.0,2,     3.24,2,     3.62,2,     0.01,2,     0.24,2,   -999.0,9,   -999.0,9,-999.0000,9,  -999.00,  -999.00,9,  -999.00,9,  18.9132,2,     1944
  49UF20180518,KS1805,  5420,  1,     18,  25252,2,20180612,1925, 27.8045, 127.8002,  911,    254.0,  18.9147,  18.9139,2,  34.8861,2,-999.0000,9,    196.2,2,    196.9,2,     3.26,2,     3.61,2,     0.00,2,     0.24,2,   -999.0,9,   -999.0,9,-999.0000,9,  -999.00,  -999.00,9,  -999.00,9,  18.9139,2,     1944
  49UF20180518,KS1805,  5420,  1,     16,  25250,2,20180612,1925, 27.8045, 127.8002,  911,    305.2,  18.0359,  18.0383,2,  34.8280,2,-999.0000,9,    197.2,2,    198.9,2,     3.99,2,     4.55,2,     0.00,2,     0.29,2,   -999.0,9,   -999.0,9,-999.0000,9,  -999.00,  -999.00,9,  -999.00,9,  18.0383,2,     1942
  49UF20180518,KS1805,  5420,  1,     12,  25246,2,20180612,1925, 27.8045, 127.8002,  911,    404.8,  15.6451,  15.6450,2,  34.6184,2,-999.0000,9,    189.5,2,    190.0,6,     8.38,6,     8.58,6,     0.00,6,     0.57,6,   -999.0,9,   -999.0,9,-999.0000,9,  -999.00,  -999.00,9,  -999.00,9,  15.6450,2,     1939
  49UF20180518,KS1805,  5420,  1,     11,  25245,2,20180612,1925, 27.8045, 127.8002,  911,    506.4,  12.4623,  12.4616,2,  34.4078,2,-999.0000,9,    161.6,2,    162.0,2,    21.91,2,    16.30,2,     0.00,2,     1.15,2,   -999.0,9,   -999.0,9,-999.0000,9,  -999.00,  -999.00,9,  -999.00,9,  12.4616,2,     1936
  49UF20180518,KS1805,  5420,  1,     10,  25244,2,20180612,1925, 27.8045, 127.8002,  911,    507.6,  12.4345,  12.4373,2,  34.4061,2,-999.0000,9,    161.4,2,    162.0,2,    21.91,2,    16.28,2,     0.00,2,     1.15,2,   -999.0,9,   -999.0,9,-999.0000,9,  -999.00,  -999.00,9,  -999.00,9,  12.4373,2,     1936
  49UF20180518,KS1805,  5420,  1,      9,  25243,2,20180612,1925, 27.8045, 127.8002,  911,    606.5,   9.9346,   9.9337,2,  34.3291,2,-999.0000,9,    133.3,2,    133.0,2,    41.25,2,    23.42,2,     0.00,2,     1.67,2,   -999.0,9,   -999.0,9,-999.0000,9,  -999.00,  -999.00,9,  -999.00,9,   9.9337,2,     1933
  49UF20180518,KS1805,  5420,  1,      8,  25242,2,20180612,1925, 27.8045, 127.8002,  911,    707.8,   7.2361,   7.2470,2,  34.3144,2,-999.0000,9,    102.4,2,    102.1,2,    68.30,2,    30.88,2,     0.00,2,     2.21,2,   -999.0,9,   -999.0,9,-999.0000,9,  -999.00,  -999.00,9,  -999.00,9,   7.2470,2,     1931
  49UF20180518,KS1805,  5420,  1,      7,  25241,2,20180612,1925, 27.8045, 127.8002,  911,    807.0,   6.0359,   6.0355,2,  34.3494,2,-999.0000,9,     89.4,2,     89.3,2,    86.42,2,    34.04,2,     0.00,2,     2.44,2,   -999.0,9,   -999.0,9,-999.0000,9,  -999.00,  -999.00,9,  -999.00,9,   6.0355,2,     1928
  49UF20180518,KS1805,  5420,  1,      2,  25236,2,20180612,1925, 27.8045, 127.8002,  911,    905.9,   5.1137,   5.1138,2,  34.3742,2,-999.0000,9,     81.1,2,     81.4,2,    98.92,2,    36.23,2,     0.00,2,     2.59,2,   -999.0,9,   -999.0,9,-999.0000,9,  -999.00,  -999.00,9,  -999.00,9,   5.1138,2,     1925