BOTTLE,20200311PRINUNIVRMK
EXPOCODE,SECT_ID,STNNBR,CASTNO,SAMPNO,BTLNBR,BTLNBR_FLAG_W,DATE,TIME,LATITUDE,LONGITUDE,DEPTH,CTDPRS,CTDTMP,SBE35,SBE35_FLAG_W,CTDSAL,CTDSAL_FLAG_W,SALNTY,SALNTY_FLAG_W,CTDOXY,CTDOXY_FLAG_W,OXYGEN,OXYGEN_FLAG_W,SILCAT,SILCAT_FLAG_W,NITRAT,NITRAT_FLAG_W,NITRIT,NITRIT_FLAG_W,PHSPHT,PHSPHT_FLAG_W,TCARBN,TCARBN_FLAG_W,ALKALI,ALKALI_FLAG_W,PH_TOT,PH_TOT_FLAG_W,PH_TMP,CHLORA,CHLORA_FLAG_W,PPHYTN,PPHYTN_FLAG_W,SBE35,SBE35_FLAG_W,BTL_TIME
,,,,,,,,,,,METERS,DBAR,ITS-90,,,PSS-78,,PSS-78,,UMOL/KG,,UMOL/KG,,UMOL/KG,,UMOL/KG,,UMOL/KG,,UMOL/KG,,UMOL/KG,,UMOL/KG,,,,DEG C,UG/KG,,UG/KG,,,,
  49UF20180518,KS1805,  5373,  1,     99,     99,2,20180525,2056, 24.2573, 152.0640, 5439,      0.0,  28.4363,-999.0000,9,  35.0588,2,-999.0000,9,    199.3,2,    199.4,2,     1.18,2,     0.00,2,     0.00,2,     0.04,2,   -999.0,9,   -999.0,9,-999.0000,9,  -999.00,  -999.00,9,  -999.00,9,-999.0000,9,     2135
  49UF20180518,KS1805,  5373,  1,     36,  25270,2,20180525,2056, 24.2573, 152.0640, 5439,     10.8,  27.6822,  27.6832,2,  35.0333,2,-999.0000,9,    201.7,2,    201.9,2,     1.17,2,     0.00,2,     0.00,2,     0.01,2,   -999.0,9,   -999.0,9,-999.0000,9,  -999.00,  -999.00,9,  -999.00,9,  27.6832,2,     2157
  49UF20180518,KS1805,  5373,  1,     35,  25269,2,20180525,2056, 24.2573, 152.0640, 5439,     26.0,  27.3025,  27.3012,2,  35.0351,2,  35.0351,2,    203.3,2,    203.3,2,     1.18,2,     0.00,2,     0.00,2,     0.01,2,   -999.0,9,   -999.0,9,-999.0000,9,  -999.00,  -999.00,9,  -999.00,9,  27.3012,2,     2155
  49UF20180518,KS1805,  5373,  1,     34,  25268,2,20180525,2056, 24.2573, 152.0640, 5439,     49.3,  26.8368,  26.8373,2,  35.0281,2,-999.0000,9,    205.3,2,    205.4,2,     1.17,2,     0.00,2,     0.00,2,     0.01,2,   -999.0,9,   -999.0,9,-999.0000,9,  -999.00,  -999.00,9,  -999.00,9,  26.8373,2,     2151
  49UF20180518,KS1805,  5373,  1,     30,  25264,2,20180525,2056, 24.2573, 152.0640, 5439,     75.6,  25.7429,  25.7466,2,  35.0833,2,-999.0000,9,    208.9,2,    208.8,2,     1.25,2,     0.00,2,     0.00,2,     0.01,2,   -999.0,9,   -999.0,9,-999.0000,9,  -999.00,  -999.00,9,  -999.00,9,  25.7466,2,     2149
  49UF20180518,KS1805,  5373,  1,     29,  25263,2,20180525,2056, 24.2573, 152.0640, 5439,    101.4,  24.7641,  24.7644,2,  35.0811,2,-999.0000,9,    210.4,2,    210.1,2,     1.28,2,     0.00,2,     0.00,2,     0.01,2,   -999.0,9,   -999.0,9,-999.0000,9,  -999.00,  -999.00,9,  -999.00,9,  24.7644,2,     2148
  49UF20180518,KS1805,  5373,  1,     28,  25262,2,20180525,2056, 24.2573, 152.0640, 5439,    126.8,  24.3325,  24.3401,2,  35.1286,2,  35.1272,2,    208.6,2,    208.6,2,     1.30,2,     0.00,2,     0.00,2,     0.01,2,   -999.0,9,   -999.0,9,-999.0000,9,  -999.00,  -999.00,9,  -999.00,9,  24.3401,2,     2146
  49UF20180518,KS1805,  5373,  1,     27,  25261,2,20180525,2056, 24.2573, 152.0640, 5439,    154.1,  23.6099,  23.6097,2,  35.1138,2,-999.0000,9,    205.5,2,    205.6,2,     1.42,2,    -0.01,2,     0.01,2,     0.02,2,   -999.0,9,   -999.0,9,-999.0000,9,  -999.00,  -999.00,9,  -999.00,9,  23.6097,2,     2145
  49UF20180518,KS1805,  5373,  1,     26,  25260,2,20180525,2056, 24.2573, 152.0640, 5439,    201.7,  20.6353,  20.6372,2,  35.0328,2,  35.0232,4,    196.8,2,    197.9,2,     2.27,2,     1.00,2,     0.04,2,     0.12,2,   -999.0,9,   -999.0,9,-999.0000,9,  -999.00,  -999.00,9,  -999.00,9,  20.6372,2,     2143
  49UF20180518,KS1805,  5373,  1,     25,  25259,2,20180525,2056, 24.2573, 152.0640, 5439,    253.9,  18.4800,  18.4974,2,  34.8846,2,-999.0000,9,    197.8,2,    198.2,2,     3.25,2,     3.30,2,     0.01,2,     0.25,2,   -999.0,9,   -999.0,9,-999.0000,9,  -999.00,  -999.00,9,  -999.00,9,  18.4974,2,     2141
  49UF20180518,KS1805,  5373,  1,     21,  25255,4,20180525,2056, 24.2573, 152.0640, 5439,    303.6,  16.9105,  16.9124,2,  34.7533,2,  35.0907,4,    205.0,2,    210.2,4,     1.27,4,     0.00,4,     0.00,4,     0.02,4,   -999.0,9,   -999.0,9,-999.0000,9,  -999.00,  -999.00,9,  -999.00,9,  16.9124,2,     2140
  49UF20180518,KS1805,  5373,  1,     20,  24270,2,20180525,2056, 24.2573, 152.0640, 5439,    404.1,  15.0628,  15.0562,2,  34.5665,2,-999.0000,9,    197.6,2,    197.6,2,     8.51,2,     8.57,2,     0.00,2,     0.58,2,   -999.0,9,   -999.0,9,-999.0000,9,  -999.00,  -999.00,9,  -999.00,9,  15.0562,2,     2137
  49UF20180518,KS1805,  5373,  1,     19,  25253,2,20180525,2056, 24.2573, 152.0640, 5439,    503.9,  11.5552,  11.5549,2,  34.2779,2,  34.2781,2,    186.3,2,    186.6,6,    18.47,6,    15.40,6,     0.00,6,     1.07,6,   -999.0,9,   -999.0,9,-999.0000,9,  -999.00,  -999.00,9,  -999.00,9,  11.5549,2,     2134
  49UF20180518,KS1805,  5373,  1,     18,  25252,2,20180525,2056, 24.2573, 152.0640, 5439,    605.8,   8.6799,   8.6894,2,  34.1306,2,-999.0000,9,    145.8,2,    146.0,2,    36.39,2,    24.39,2,     0.00,2,     1.73,2,   -999.0,9,   -999.0,9,-999.0000,9,  -999.00,  -999.00,9,  -999.00,9,   8.6894,2,     2131
  49UF20180518,KS1805,  5373,  1,     16,  25250,2,20180525,2056, 24.2573, 152.0640, 5439,    705.8,   6.4203,   6.4241,2,  34.0905,2,  34.0908,2,    102.8,2,    102.2,2,    62.44,2,    32.63,2,     0.00,2,     2.34,2,   -999.0,9,   -999.0,9,-999.0000,9,  -999.00,  -999.00,9,  -999.00,9,   6.4241,2,     2128
  49UF20180518,KS1805,  5373,  1,     17,  25251,2,20180525,2056, 24.2573, 152.0640, 5439,    706.4,   6.4220,   6.4236,2,  34.0907,2,-999.0000,9,    103.1,2,    102.3,2,    62.31,2,    32.62,2,     0.00,2,     2.33,2,   -999.0,9,   -999.0,9,-999.0000,9,  -999.00,  -999.00,9,  -999.00,9,   6.4236,2,     2128
  49UF20180518,KS1805,  5373,  1,     12,  25246,2,20180525,2056, 24.2573, 152.0640, 5439,    806.4,   5.1492,   5.1493,2,  34.1706,2,-999.0000,9,     63.7,2,     63.6,2,    85.66,2,    38.31,2,     0.00,2,     2.74,2,   -999.0,9,   -999.0,9,-999.0000,9,  -999.00,  -999.00,9,  -999.00,9,   5.1493,2,     2125
  49UF20180518,KS1805,  5373,  1,     11,  25245,2,20180525,2056, 24.2573, 152.0640, 5439,    908.3,   4.5535,   4.5534,2,  34.2770,2,  34.2800,2,     47.5,2,     47.1,2,    99.92,2,    40.38,2,     0.00,2,     2.92,2,   -999.0,9,   -999.0,9,-999.0000,9,  -999.00,  -999.00,9,  -999.00,9,   4.5534,2,     2122
  49UF20180518,KS1805,  5373,  1,     10,  25244,2,20180525,2056, 24.2573, 152.0640, 5439,   1010.8,   4.1540,   4.1541,2,  34.3710,2,-999.0000,9,     49.6,2,     49.2,2,   109.37,2,    40.98,2,     0.00,2,     2.94,2,   -999.0,9,   -999.0,9,-999.0000,9,  -999.00,  -999.00,9,  -999.00,9,   4.1541,2,     2120
  49UF20180518,KS1805,  5373,  1,      9,  25243,2,20180525,2056, 24.2573, 152.0640, 5439,   1211.6,   3.5466,   3.5465,2,  34.4667,2,  34.4673,6,     62.0,2,     61.7,2,   122.46,2,    40.65,2,     0.00,2,     2.91,2,   -999.0,9,   -999.0,9,-999.0000,9,  -999.00,  -999.00,9,  -999.00,9,   3.5465,2,     2115
  49UF20180518,KS1805,  5373,  1,      8,  25242,2,20180525,2056, 24.2573, 152.0640, 5439,   1417.7,   2.9231,   2.9236,2,  34.5192,2,-999.0000,9,     71.9,2,     71.7,2,   135.04,2,    40.53,2,     0.00,2,     2.88,2,   -999.0,9,   -999.0,9,-999.0000,9,  -999.00,  -999.00,9,  -999.00,9,   2.9236,2,     2110
  49UF20180518,KS1805,  5373,  1,      7,  25241,2,20180525,2056, 24.2573, 152.0640, 5439,   1619.1,   2.5198,   2.5195,2,  34.5489,2,  34.5491,6,     77.8,2,     77.8,6,   143.56,6,    40.44,6,     0.00,6,     2.87,6,   -999.0,9,   -999.0,9,-999.0000,9,  -999.00,  -999.00,9,  -999.00,9,   2.5195,2,     2106
  49UF20180518,KS1805,  5373,  1,      2,  25236,2,20180525,2056, 24.2573, 152.0640, 5439,   1820.0,   2.2317,   2.2317,2,  34.5797,2,  34.5820,2,     87.8,2,     87.6,2,   148.53,2,    40.12,2,     0.00,2,     2.82,2,   -999.0,9,   -999.0,9,-999.0000,9,  -999.00,  -999.00,9,  -999.00,9,   2.2317,2,     2101
  49UF20180518,KS1805,  5373,  1,      3,  24271,2,20180525,2056, 24.2573, 152.0640, 5439,   1820.7,   2.2318,   2.2317,2,  34.5796,2,  34.5811,2,     87.8,2,     87.5,2,   148.54,2,    39.93,2,     0.00,2,     2.82,2,   -999.0,9,   -999.0,9,-999.0000,9,  -999.00,  -999.00,9,  -999.00,9,   2.2317,2,     2101
  49UF20180518,KS1805,  5373,  1,      1,  24272,2,20180525,2056, 24.2573, 152.0640, 5439,   2027.7,   1.9814,   1.9814,2,  34.6066,2,  34.6068,2,     96.7,2,     96.6,2,   152.96,2,    39.83,2,     0.00,2,     2.78,2,   -999.0,9,   -999.0,9,-999.0000,9,  -999.00,  -999.00,9,  -999.00,9,   1.9814,2,     2056
  49UF20180518,KS1805,  5374,  1,     99,     99,2,20180526,0540, 24.2995, 150.5170, 5257,      0.0,  29.0430,-999.0000,9,  34.9629,2,-999.0000,9,    198.5,2,    199.1,2,     1.49,2,     0.05,2,     0.00,2,     0.06,2,   -999.0,9,   -999.0,9,-999.0000,9,  -999.00,  -999.00,9,  -999.00,9,-999.0000,9,      626
  49UF20180518,KS1805,  5374,  1,     36,  25270,2,20180526,0540, 24.2995, 150.5170, 5257,     11.0,  27.6208,  27.6228,2,  35.0122,2,-999.0000,9,    202.9,2,    202.7,2,     1.23,2,     0.00,2,     0.00,2,     0.01,2,   -999.0,9,   -999.0,9,-999.0000,9,  -999.00,  -999.00,9,  -999.00,9,  27.6228,2,      648
  49UF20180518,KS1805,  5374,  1,     35,  25269,2,20180526,0540, 24.2995, 150.5170, 5257,     25.4,  26.5965,  26.5960,2,  34.9792,2,-999.0000,9,    208.2,2,    208.1,2,     1.22,2,     0.00,2,     0.00,2,     0.01,2,   -999.0,9,   -999.0,9,-999.0000,9,  -999.00,  -999.00,9,  -999.00,9,  26.5960,2,      646
  49UF20180518,KS1805,  5374,  1,     34,  25268,2,20180526,0540, 24.2995, 150.5170, 5257,     52.1,  24.1730,  24.2053,2,  34.9062,2,-999.0000,9,    219.7,2,    219.3,2,     1.43,2,     0.00,2,     0.00,2,     0.00,2,   -999.0,9,   -999.0,9,-999.0000,9,  -999.00,  -999.00,9,  -999.00,9,  24.2053,2,      642
  49UF20180518,KS1805,  5374,  1,     30,  25264,2,20180526,0540, 24.2995, 150.5170, 5257,     77.0,  22.8881,  22.8887,2,  34.9835,2,-999.0000,9,    220.8,2,    221.0,2,     1.57,2,     0.00,2,     0.00,2,     0.01,2,   -999.0,9,   -999.0,9,-999.0000,9,  -999.00,  -999.00,9,  -999.00,9,  22.8887,2,      640
  49UF20180518,KS1805,  5374,  1,     29,  25263,2,20180526,0540, 24.2995, 150.5170, 5257,    101.0,  21.8117,  21.8159,2,  35.0004,2,-999.0000,9,    218.8,2,    218.0,2,     1.72,2,     0.00,2,     0.00,2,     0.01,2,   -999.0,9,   -999.0,9,-999.0000,9,  -999.00,  -999.00,9,  -999.00,9,  21.8159,2,      639
  49UF20180518,KS1805,  5374,  1,     28,  25262,2,20180526,0540, 24.2995, 150.5170, 5257,    126.1,  20.2093,  20.2211,2,  34.9618,2,-999.0000,9,    211.1,2,    211.2,2,     2.12,2,     0.47,2,     0.08,2,     0.07,2,   -999.0,9,   -999.0,9,-999.0000,9,  -999.00,  -999.00,9,  -999.00,9,  20.2211,2,      637
  49UF20180518,KS1805,  5374,  1,     27,  25261,2,20180526,0540, 24.2995, 150.5170, 5257,    152.2,  19.3640,  19.3638,2,  34.9188,2,-999.0000,9,    207.6,2,    207.5,2,     2.52,2,     1.49,2,     0.03,2,     0.13,2,   -999.0,9,   -999.0,9,-999.0000,9,  -999.00,  -999.00,9,  -999.00,9,  19.3638,2,      636
  49UF20180518,KS1805,  5374,  1,     26,  25260,2,20180526,0540, 24.2995, 150.5170, 5257,    201.7,  18.0663,  18.0640,2,  34.8450,2,-999.0000,9,    202.3,2,    202.7,2,     3.43,2,     3.53,2,     0.01,2,     0.26,2,   -999.0,9,   -999.0,9,-999.0000,9,  -999.00,  -999.00,9,  -999.00,9,  18.0640,2,      634
  49UF20180518,KS1805,  5374,  1,     25,  25259,2,20180526,0540, 24.2995, 150.5170, 5257,    252.0,  17.1471,  17.1425,2,  34.7712,2,-999.0000,9,    203.7,2,    204.3,2,     4.39,2,     4.90,2,     0.01,2,     0.34,2,   -999.0,9,   -999.0,9,-999.0000,9,  -999.00,  -999.00,9,  -999.00,9,  17.1425,2,      632
  49UF20180518,KS1805,  5374,  1,     21,  25255,3,20180526,0540, 24.2995, 150.5170, 5257,    304.8,  16.3198,  16.3193,2,  34.6942,2,-999.0000,9,    203.0,2,    203.2,6,     5.81,6,     6.20,6,     0.01,6,     0.42,6,   -999.0,9,   -999.0,9,-999.0000,9,  -999.00,  -999.00,9,  -999.00,9,  16.3193,2,      629
  49UF20180518,KS1805,  5374,  1,     19,  25253,2,20180526,0540, 24.2995, 150.5170, 5257,    406.1,  13.6512,  13.6539,2,  34.4444,2,-999.0000,9,    193.8,2,    194.0,2,    12.07,2,    11.01,2,     0.00,2,     0.77,2,   -999.0,9,   -999.0,9,-999.0000,9,  -999.00,  -999.00,9,  -999.00,9,  13.6539,2,      626
  49UF20180518,KS1805,  5374,  1,     20,  24270,2,20180526,0540, 24.2995, 150.5170, 5257,    406.5,  13.6208,  13.6240,2,  34.4425,2,-999.0000,9,    193.7,2,    194.1,2,    12.08,2,    11.04,2,     0.00,2,     0.77,2,   -999.0,9,   -999.0,9,-999.0000,9,  -999.00,  -999.00,9,  -999.00,9,  13.6240,2,      626
  49UF20180518,KS1805,  5374,  1,     18,  25252,2,20180526,0540, 24.2995, 150.5170, 5257,    503.0,  10.9116,  10.9121,2,  34.2480,2,-999.0000,9,    180.8,2,    181.0,2,    22.67,2,    16.99,2,     0.00,2,     1.20,2,   -999.0,9,   -999.0,9,-999.0000,9,  -999.00,  -999.00,9,  -999.00,9,  10.9121,2,      623
  49UF20180518,KS1805,  5374,  1,     17,  25251,2,20180526,0540, 24.2995, 150.5170, 5257,    605.9,   8.5192,   8.5258,2,  34.1227,2,-999.0000,9,    149.6,2,    149.6,2,    38.88,2,    24.33,2,     0.00,2,     1.74,2,   -999.0,9,   -999.0,9,-999.0000,9,  -999.00,  -999.00,9,  -999.00,9,   8.5258,2,      620
  49UF20180518,KS1805,  5374,  1,     16,  25250,2,20180526,0540, 24.2995, 150.5170, 5257,    708.0,   6.5264,   6.5284,2,  34.0706,2,-999.0000,9,    117.6,2,    117.2,2,    60.19,2,    30.91,2,     0.00,2,     2.23,2,   -999.0,9,   -999.0,9,-999.0000,9,  -999.00,  -999.00,9,  -999.00,9,   6.5284,2,      616
  49UF20180518,KS1805,  5374,  1,     12,  25246,3,20180526,0540, 24.2995, 150.5170, 5257,    808.7,   4.9738,   4.9744,2,  34.1422,2,-999.0000,9,     71.9,2,     71.9,2,    87.72,2,    37.56,2,     0.00,2,     2.71,2,   -999.0,9,   -999.0,9,-999.0000,9,  -999.00,  -999.00,9,  -999.00,9,   4.9744,2,      613
  49UF20180518,KS1805,  5374,  1,     11,  25245,2,20180526,0540, 24.2995, 150.5170, 5257,    910.3,   4.3447,   4.3447,2,  34.2508,2,-999.0000,9,     50.4,2,     50.2,2,   104.32,2,    40.38,2,     0.00,2,     2.91,2,   -999.0,9,   -999.0,9,-999.0000,9,  -999.00,  -999.00,9,  -999.00,9,   4.3447,2,      610
  49UF20180518,KS1805,  5374,  1,     10,  25244,2,20180526,0540, 24.2995, 150.5170, 5257,   1011.8,   3.7508,   3.7493,2,  34.3440,2,-999.0000,9,     43.7,2,     43.5,2,   119.70,2,    41.60,2,     0.00,2,     2.99,2,   -999.0,9,   -999.0,9,-999.0000,9,  -999.00,  -999.00,9,  -999.00,9,   3.7493,2,      607
  49UF20180518,KS1805,  5374,  1,      9,  25243,2,20180526,0540, 24.2995, 150.5170, 5257,   1215.4,   3.1129,   3.1129,2,  34.4505,2,-999.0000,9,     48.9,2,     48.6,6,   135.48,6,    41.99,6,     0.00,6,     3.00,6,   -999.0,9,   -999.0,9,-999.0000,9,  -999.00,  -999.00,9,  -999.00,9,   3.1129,2,      602
  49UF20180518,KS1805,  5374,  1,      8,  25242,2,20180526,0540, 24.2995, 150.5170, 5257,   1414.5,   2.6735,   2.6735,2,  34.5131,2,-999.0000,9,     61.7,2,     61.6,2,   144.15,2,    41.44,2,     0.00,2,     2.95,2,   -999.0,9,   -999.0,9,-999.0000,9,  -999.00,  -999.00,9,  -999.00,9,   2.6735,2,      556
  49UF20180518,KS1805,  5374,  1,      7,  25241,2,20180526,0540, 24.2995, 150.5170, 5257,   1414.5,   2.6733,   2.6733,2,  34.5132,2,-999.0000,9,     61.7,2,     62.1,2,   144.34,2,    41.54,2,     0.00,2,     2.95,2,   -999.0,9,   -999.0,9,-999.0000,9,  -999.00,  -999.00,9,  -999.00,9,   2.6733,2,      556
  49UF20180518,KS1805,  5374,  1,      3,  24271,2,20180526,0540, 24.2995, 150.5170, 5257,   1617.9,   2.3324,   2.3325,2,  34.5603,2,-999.0000,9,     78.3,2,     77.9,2,   148.65,2,    40.65,2,     0.00,2,     2.88,2,   -999.0,9,   -999.0,9,-999.0000,9,  -999.00,  -999.00,9,  -999.00,9,   2.3325,2,      552
  49UF20180518,KS1805,  5374,  1,      2,  25236,2,20180526,0540, 24.2995, 150.5170, 5257,   1822.2,   2.1025,   2.1027,2,  34.5906,2,-999.0000,9,     90.3,2,     90.3,2,   151.37,2,    39.88,2,     0.00,2,     2.82,2,   -999.0,9,   -999.0,9,-999.0000,9,  -999.00,  -999.00,9,  -999.00,9,   2.1027,2,      546
  49UF20180518,KS1805,  5374,  1,      1,  24272,2,20180526,0540, 24.2995, 150.5170, 5257,   2026.4,   1.9564,   1.9563,2,  34.6101,2,-999.0000,9,     99.3,2,     99.6,2,   152.63,2,    39.38,2,     0.00,2,     2.78,2,   -999.0,9,   -999.0,9,-999.0000,9,  -999.00,  -999.00,9,  -999.00,9,   1.9563,2,      541