BOTTLE,20200311PRINUNIVRMK
EXPOCODE,SECT_ID,STNNBR,CASTNO,SAMPNO,BTLNBR,BTLNBR_FLAG_W,DATE,TIME,LATITUDE,LONGITUDE,DEPTH,CTDPRS,CTDTMP,SBE35,SBE35_FLAG_W,CTDSAL,CTDSAL_FLAG_W,SALNTY,SALNTY_FLAG_W,CTDOXY,CTDOXY_FLAG_W,OXYGEN,OXYGEN_FLAG_W,SILCAT,SILCAT_FLAG_W,NITRAT,NITRAT_FLAG_W,NITRIT,NITRIT_FLAG_W,PHSPHT,PHSPHT_FLAG_W,TCARBN,TCARBN_FLAG_W,ALKALI,ALKALI_FLAG_W,PH_TOT,PH_TOT_FLAG_W,PH_TMP,CHLORA,CHLORA_FLAG_W,PPHYTN,PPHYTN_FLAG_W,SBE35,SBE35_FLAG_W,BTL_TIME
,,,,,,,,,,,METERS,DBAR,ITS-90,,,PSS-78,,PSS-78,,UMOL/KG,,UMOL/KG,,UMOL/KG,,UMOL/KG,,UMOL/KG,,UMOL/KG,,UMOL/KG,,UMOL/KG,,,,DEG C,UG/KG,,UG/KG,,,,
  49UF20180518,KS1805,  5422,  1,     99,     99,2,20180612,2356, 27.4955, 128.2467, 1029,      0.0,  26.0371,-999.0000,9,  34.6209,2,  34.6266,2,    206.8,2,    207.0,2,     1.39,2,     0.00,2,     0.00,2,     0.00,2,   1964.8,2,   2277.9,2,   8.0814,2,    25.00,     0.11,2,     0.03,2,-999.0000,9,       15
  49UF20180518,KS1805,  5422,  1,     36,  25270,3,20180612,2356, 27.4955, 128.2467, 1029,     11.4,  26.0218,  26.0220,2,  34.6205,2,  34.6191,2,    206.8,2,    207.6,2,     1.34,2,     0.00,2,     0.00,2,     0.00,2,   1963.5,2,   2276.6,2,   8.0837,2,    25.00,     0.11,2,     0.03,2,  26.0220,2,       48
  49UF20180518,KS1805,  5422,  1,     35,  25269,2,20180612,2356, 27.4955, 128.2467, 1029,     21.5,  25.1329,  25.1474,2,  34.6076,2,  34.6058,2,    212.4,2,    212.0,2,     1.34,2,     0.00,2,     0.00,2,     0.00,2,   1962.5,2,   2276.5,2,   8.0865,2,    25.00,     0.13,2,     0.03,2,  25.1474,2,       46
  49UF20180518,KS1805,  5422,  1,     34,  25268,2,20180612,2356, 27.4955, 128.2467, 1029,     31.8,  24.6083,  24.6086,2,  34.6122,2,  34.6130,2,    214.1,2,    213.7,2,     1.37,2,     0.00,2,     0.00,2,     0.00,2,   1966.4,2,   2276.5,2,   8.0861,2,    25.00,     0.13,2,     0.03,2,  24.6086,2,       45
  49UF20180518,KS1805,  5422,  1,     32,  25266,2,20180612,2356, 27.4955, 128.2467, 1029,     51.5,  23.9356,  23.9367,2,  34.6690,2,  34.6759,2,    213.9,2,    213.5,2,     1.44,2,     0.00,2,     0.00,2,     0.00,2,   1975.0,2,   2281.6,2,   8.0705,2,    25.00,     0.23,2,     0.08,2,  23.9367,2,       42
  49UF20180518,KS1805,  5422,  1,     31,  25265,3,20180612,2356, 27.4955, 128.2467, 1029,     77.0,  23.1920,  23.1935,2,  34.7445,2,  34.7469,2,    209.8,2,    209.7,2,     1.54,2,    -0.01,2,     0.03,2,     0.02,2,   1985.7,2,   2285.7,2,   8.0650,2,    25.00,     0.49,2,     0.49,2,  23.1935,2,       40
  49UF20180518,KS1805,  5422,  1,     26,  25260,2,20180612,2356, 27.4955, 128.2467, 1029,    101.7,  22.7605,  22.7655,2,  34.7843,2,  34.7827,2,    206.4,2,    206.1,2,     1.72,2,     0.45,2,     0.19,2,     0.05,2,   1989.9,2,   2291.0,2,   8.0558,2,    25.00,     0.36,2,     0.36,2,  22.7655,2,       38
  49UF20180518,KS1805,  5422,  1,     25,  25259,2,20180612,2356, 27.4955, 128.2467, 1029,    127.6,  22.4183,  22.4275,2,  34.8317,2,  34.8236,2,    204.7,2,    204.0,2,     1.81,2,     0.76,2,     0.13,2,     0.07,2,   1995.6,2,   2293.2,2,   8.0511,2,    25.00,     0.18,2,     0.25,2,  22.4275,2,       37
  49UF20180518,KS1805,  5422,  1,     21,  25255,2,20180612,2356, 27.4955, 128.2467, 1029,    153.7,  22.0299,  22.0310,2,  34.8898,2,  34.8871,2,    199.1,2,    199.0,2,     1.94,2,     1.20,2,     0.04,2,     0.09,2,   2009.2,2,   2293.2,2,   8.0344,2,    25.00,     0.08,2,     0.16,2,  22.0310,2,       35
  49UF20180518,KS1805,  5422,  1,     20,  24270,2,20180612,2356, 27.4955, 128.2467, 1029,    203.5,  20.5253,  20.5250,2,  34.9070,2,  34.9056,2,    194.5,2,    194.5,2,     2.81,2,     2.51,2,     0.02,2,     0.18,2,   2025.7,6,   2296.5,6,   7.9942,2,    25.00,     0.01,2,     0.03,2,  20.5250,2,       33
  49UF20180518,KS1805,  5422,  1,     19,  25253,2,20180612,2356, 27.4955, 128.2467, 1029,    253.6,  18.7197,  18.7187,2,  34.8367,2,  34.8368,2,    191.3,2,    191.2,2,     4.62,2,     4.49,2,     0.01,2,     0.31,2,   2047.0,2,   2293.1,2,   7.9606,6,    25.00,  -999.00,9,  -999.00,9,  18.7187,2,       30
  49UF20180518,KS1805,  5422,  1,     18,  25252,2,20180612,2356, 27.4955, 128.2467, 1029,    303.9,  17.3682,  17.3685,2,  34.7587,2,  34.7579,2,    190.7,2,    190.9,6,     6.16,6,     6.02,6,     0.01,6,     0.42,6,   2056.2,2,   2288.8,2,   7.9257,2,    25.00,  -999.00,9,  -999.00,9,  17.3685,2,       28
  49UF20180518,KS1805,  5422,  1,     16,  25250,2,20180612,2356, 27.4955, 128.2467, 1029,    406.6,  15.8653,  15.8661,2,  34.6444,2,  34.6473,2,    184.7,2,    185.0,2,     9.77,2,     8.62,2,     0.01,2,     0.60,2,   2072.7,3,   2286.1,2,   7.8902,2,    25.00,  -999.00,9,  -999.00,9,  15.8661,2,       24
  49UF20180518,KS1805,  5422,  1,     17,  25251,2,20180612,2356, 27.4955, 128.2467, 1029,    406.7,  15.8651,  15.8655,2,  34.6444,2,  34.6450,2,    184.7,2,    185.0,2,     9.78,2,     8.63,2,     0.01,2,     0.60,2,   2081.6,2,   2284.3,2,   7.8876,2,    25.00,  -999.00,9,  -999.00,9,  15.8655,2,       25
  49UF20180518,KS1805,  5422,  1,     12,  25246,2,20180612,2356, 27.4955, 128.2467, 1029,    507.7,  12.6065,  12.6066,2,  34.4449,2,  34.4445,2,    159.4,2,    159.3,6,    24.71,6,    16.24,6,     0.01,6,     1.16,6,   2127.1,2,   2288.6,2,   7.7709,2,    25.00,  -999.00,9,  -999.00,9,  12.6066,2,       21
  49UF20180518,KS1805,  5422,  1,     10,  25244,2,20180612,2356, 27.4955, 128.2467, 1029,    606.1,  10.2772,  10.2760,2,  34.3670,2,  34.3651,2,    134.9,2,    134.3,2,    42.02,2,    22.59,2,     0.00,2,     1.62,2,   2180.9,2,   2299.1,2,   7.6736,2,    25.00,  -999.00,9,  -999.00,9,  10.2760,2,       18
  49UF20180518,KS1805,  5422,  1,     11,  25245,3,20180612,2356, 27.4955, 128.2467, 1029,    606.2,  10.2777,  10.2769,2,  34.3673,2,  34.3661,2,    135.0,2,    134.4,2,    41.93,2,    22.54,2,     0.00,2,     1.61,2,   2185.0,2,   2296.9,2,   7.6741,2,    25.00,  -999.00,9,  -999.00,9,  10.2769,2,       18
  49UF20180518,KS1805,  5422,  1,      9,  25243,2,20180612,2356, 27.4955, 128.2467, 1029,    706.1,   7.6818,   7.6820,2,  34.3459,2,  34.3451,2,    107.3,2,    106.7,2,    68.31,2,    29.49,2,     0.00,2,     2.12,2,   2238.1,6,   2320.8,6,   7.5733,2,    25.00,  -999.00,9,  -999.00,9,   7.6820,2,       14
  49UF20180518,KS1805,  5422,  1,      8,  25242,2,20180612,2356, 27.4955, 128.2467, 1029,    808.3,   6.8924,   6.8926,2,  34.3454,2,  34.3444,6,     99.1,2,     99.0,2,    76.44,2,    31.50,2,     0.00,2,     2.26,2,   2253.6,2,   2330.9,2,   7.5414,6,    25.00,  -999.00,9,  -999.00,9,   6.8926,2,       11
  49UF20180518,KS1805,  5422,  1,      7,  25241,2,20180612,2356, 27.4955, 128.2467, 1029,    909.4,   6.3724,   6.3726,2,  34.3490,2,  34.3480,6,     93.9,2,     93.6,2,    82.50,2,    32.80,2,     0.00,2,     2.36,2,   2266.7,2,   2336.4,2,   7.5241,2,    25.00,  -999.00,9,  -999.00,9,   6.3726,2,        6
  49UF20180518,KS1805,  5422,  1,      5,  25239,2,20180612,2356, 27.4955, 128.2467, 1029,   1013.1,   6.0662,   6.0665,2,  34.3560,2,  34.3537,2,     91.5,2,     91.9,2,    86.48,2,    33.56,2,     0.00,2,     2.41,2,   2276.2,2,   2340.6,2,   7.5140,2,    25.00,  -999.00,9,  -999.00,9,   6.0665,2,     2358
  49UF20180518,KS1805,  5422,  1,      6,  25240,2,20180612,2356, 27.4955, 128.2467, 1029,   1013.3,   6.0655,   6.0661,2,  34.3560,2,  34.3546,2,     91.5,2,   -999.0,9,  -999.00,9,  -999.00,9,  -999.00,9,  -999.00,9,   -999.0,9,   -999.0,9,-999.0000,9,  -999.00,  -999.00,9,  -999.00,9,   6.0661,2,     2358
  49UF20180518,KS1805,  5422,  1,      4,  25238,2,20180612,2356, 27.4955, 128.2467, 1029,   1027.7,   6.0635,   6.0644,2,  34.3559,2,  34.3552,2,     91.5,2,     91.2,2,    86.55,2,    33.57,2,     0.00,2,     2.41,2,   2277.1,2,   2340.9,2,   7.5172,2,    25.00,  -999.00,9,  -999.00,9,   6.0644,2,     2357
  49UF20180518,KS1805,  5423,  1,     99,     99,2,20180615,2033, 29.0087, 135.0973, 4854,      0.0,  24.5525,-999.0000,9,  34.2178,2,-999.0000,9,    211.4,2,    211.7,2,  -999.00,9,  -999.00,9,  -999.00,9,  -999.00,9,   -999.0,9,   -999.0,9,-999.0000,9,  -999.00,  -999.00,9,  -999.00,9,-999.0000,9,     2105
  49UF20180518,KS1805,  5423,  1,     36,  25270,2,20180615,2033, 29.0087, 135.0973, 4854,     11.2,  24.6484,  24.6486,2,  34.3914,2,  34.3906,2,    211.5,2,    211.7,2,  -999.00,9,  -999.00,9,  -999.00,9,  -999.00,9,   -999.0,9,   -999.0,9,-999.0000,9,  -999.00,  -999.00,9,  -999.00,9,  24.6486,2,     2142
  49UF20180518,KS1805,  5423,  1,     35,  25269,2,20180615,2033, 29.0087, 135.0973, 4854,     26.0,  24.5833,  24.5864,2,  34.4292,2,  34.4351,2,    212.0,2,    212.4,2,  -999.00,9,  -999.00,9,  -999.00,9,  -999.00,9,   -999.0,9,   -999.0,9,-999.0000,9,  -999.00,  -999.00,9,  -999.00,9,  24.5864,2,     2141
  49UF20180518,KS1805,  5423,  1,     34,  25268,2,20180615,2033, 29.0087, 135.0973, 4854,     50.5,  23.4041,  23.4039,2,  34.7108,2,  34.7101,2,    213.4,2,    213.1,2,  -999.00,9,  -999.00,9,  -999.00,9,  -999.00,9,   -999.0,9,   -999.0,9,-999.0000,9,  -999.00,  -999.00,9,  -999.00,9,  23.4039,2,     2139
  49UF20180518,KS1805,  5423,  1,     30,  25264,2,20180615,2033, 29.0087, 135.0973, 4854,     76.4,  22.7835,  22.7783,2,  34.7881,2,  34.7885,2,    218.0,2,    218.0,2,  -999.00,9,  -999.00,9,  -999.00,9,  -999.00,9,   -999.0,9,   -999.0,9,-999.0000,9,  -999.00,  -999.00,9,  -999.00,9,  22.7783,2,     2137
  49UF20180518,KS1805,  5423,  1,     29,  25263,2,20180615,2033, 29.0087, 135.0973, 4854,    101.0,  21.7071,  21.7053,2,  34.8674,2,  34.8627,2,    209.8,2,    210.6,2,  -999.00,9,  -999.00,9,  -999.00,9,  -999.00,9,   -999.0,9,   -999.0,9,-999.0000,9,  -999.00,  -999.00,9,  -999.00,9,  21.7053,2,     2133
  49UF20180518,KS1805,  5423,  1,     28,  25262,2,20180615,2033, 29.0087, 135.0973, 4854,    126.9,  20.9318,  20.9311,2,  34.8938,2,  34.8916,2,    207.8,2,    206.5,2,  -999.00,9,  -999.00,9,  -999.00,9,  -999.00,9,   -999.0,9,   -999.0,9,-999.0000,9,  -999.00,  -999.00,9,  -999.00,9,  20.9311,2,     2131
  49UF20180518,KS1805,  5423,  1,     27,  25261,2,20180615,2033, 29.0087, 135.0973, 4854,    153.2,  20.4328,  20.4326,2,  34.9063,2,  34.9038,2,    211.7,2,    211.4,2,  -999.00,9,  -999.00,9,  -999.00,9,  -999.00,9,   -999.0,9,   -999.0,9,-999.0000,9,  -999.00,  -999.00,9,  -999.00,9,  20.4326,2,     2129
  49UF20180518,KS1805,  5423,  1,     26,  25260,2,20180615,2033, 29.0087, 135.0973, 4854,    200.4,  19.5541,  19.5563,2,  34.9156,2,  34.9137,2,    215.6,2,    215.5,2,  -999.00,9,  -999.00,9,  -999.00,9,  -999.00,9,   -999.0,9,   -999.0,9,-999.0000,9,  -999.00,  -999.00,9,  -999.00,9,  19.5563,2,     2127
  49UF20180518,KS1805,  5423,  1,     25,  25259,2,20180615,2033, 29.0087, 135.0973, 4854,    253.0,  19.2448,  19.2451,2,  34.9189,2,  34.9166,2,    215.0,2,    214.9,2,  -999.00,9,  -999.00,9,  -999.00,9,  -999.00,9,   -999.0,9,   -999.0,9,-999.0000,9,  -999.00,  -999.00,9,  -999.00,9,  19.2451,2,     2125
  49UF20180518,KS1805,  5423,  1,     21,  25255,2,20180615,2033, 29.0087, 135.0973, 4854,    304.3,  18.8989,  18.9019,2,  34.8951,2,  34.9149,4,    208.7,2,    214.6,3,  -999.00,9,  -999.00,9,  -999.00,9,  -999.00,9,   -999.0,9,   -999.0,9,-999.0000,9,  -999.00,  -999.00,9,  -999.00,9,  18.9019,2,     2123
  49UF20180518,KS1805,  5423,  1,     20,  24270,2,20180615,2033, 29.0087, 135.0973, 4854,    408.5,  17.2344,  17.2344,2,  34.7577,2,  34.7595,2,    195.8,2,    196.0,2,  -999.00,9,  -999.00,9,  -999.00,9,  -999.00,9,   -999.0,9,   -999.0,9,-999.0000,9,  -999.00,  -999.00,9,  -999.00,9,  17.2344,2,     2119
  49UF20180518,KS1805,  5423,  1,     19,  25253,2,20180615,2033, 29.0087, 135.0973, 4854,    508.9,  14.9915,  14.9984,2,  34.5707,2,  34.5753,2,    183.8,2,    183.9,2,  -999.00,9,  -999.00,9,  -999.00,9,  -999.00,9,   -999.0,9,   -999.0,9,-999.0000,9,  -999.00,  -999.00,9,  -999.00,9,  14.9984,2,     2116
  49UF20180518,KS1805,  5423,  1,     18,  25252,2,20180615,2033, 29.0087, 135.0973, 4854,    597.8,  12.0929,  12.0867,2,  34.3719,2,  34.3708,2,    167.2,2,    167.4,6,  -999.00,9,  -999.00,9,  -999.00,9,  -999.00,9,   -999.0,9,   -999.0,9,-999.0000,9,  -999.00,  -999.00,9,  -999.00,9,  12.0867,2,     2109
  49UF20180518,KS1805,  5423,  1,     17,  25251,2,20180615,2033, 29.0087, 135.0973, 4854,    702.8,   9.5767,   9.5760,2,  34.2677,2,  34.2676,2,    140.8,2,    140.6,2,  -999.00,9,  -999.00,9,  -999.00,9,  -999.00,9,   -999.0,9,   -999.0,9,-999.0000,9,  -999.00,  -999.00,9,  -999.00,9,   9.5760,2,     2107
  49UF20180518,KS1805,  5423,  1,     16,  25250,2,20180615,2033, 29.0087, 135.0973, 4854,    704.1,   9.5574,   9.5579,2,  34.2698,2,  34.2692,2,    140.0,2,    139.9,2,  -999.00,9,  -999.00,9,  -999.00,9,  -999.00,9,   -999.0,9,   -999.0,9,-999.0000,9,  -999.00,  -999.00,9,  -999.00,9,   9.5579,2,     2107
  49UF20180518,KS1805,  5423,  1,     12,  25246,2,20180615,2033, 29.0087, 135.0973, 4854,    803.8,   7.5901,   7.5950,2,  34.2130,2,  34.2117,2,    118.3,2,    118.2,2,  -999.00,9,  -999.00,9,  -999.00,9,  -999.00,9,   -999.0,9,   -999.0,9,-999.0000,9,  -999.00,  -999.00,9,  -999.00,9,   7.5950,2,     2104
  49UF20180518,KS1805,  5423,  1,     11,  25245,2,20180615,2033, 29.0087, 135.0973, 4854,    896.1,   6.0130,   6.0184,2,  34.2385,2,  34.2390,2,     91.1,2,     91.3,2,  -999.00,9,  -999.00,9,  -999.00,9,  -999.00,9,   -999.0,9,   -999.0,9,-999.0000,9,  -999.00,  -999.00,9,  -999.00,9,   6.0184,2,     2101
  49UF20180518,KS1805,  5423,  1,     10,  25244,2,20180615,2033, 29.0087, 135.0973, 4854,   1006.0,   5.0186,   5.0176,2,  34.2950,2,  34.2938,2,     74.9,2,     75.1,2,  -999.00,9,  -999.00,9,  -999.00,9,  -999.00,9,   -999.0,9,   -999.0,9,-999.0000,9,  -999.00,  -999.00,9,  -999.00,9,   5.0176,2,     2059
  49UF20180518,KS1805,  5423,  1,      9,  25243,2,20180615,2033, 29.0087, 135.0973, 4854,   1211.0,   3.8285,   3.8283,2,  34.3795,2,  34.3774,6,     62.5,2,     62.6,2,  -999.00,9,  -999.00,9,  -999.00,9,  -999.00,9,   -999.0,9,   -999.0,9,-999.0000,9,  -999.00,  -999.00,9,  -999.00,9,   3.8283,2,     2054
  49UF20180518,KS1805,  5423,  1,      8,  25242,2,20180615,2033, 29.0087, 135.0973, 4854,   1417.2,   3.1138,   3.1139,2,  34.4530,2,  34.4500,6,     63.1,2,     62.8,2,  -999.00,9,  -999.00,9,  -999.00,9,  -999.00,9,   -999.0,9,   -999.0,9,-999.0000,9,  -999.00,  -999.00,9,  -999.00,9,   3.1139,2,     2049
  49UF20180518,KS1805,  5423,  1,      7,  25241,2,20180615,2033, 29.0087, 135.0973, 4854,   1618.6,   2.6182,   2.6188,2,  34.5083,2,  34.5051,2,     69.0,2,     68.9,2,  -999.00,9,  -999.00,9,  -999.00,9,  -999.00,9,   -999.0,9,   -999.0,9,-999.0000,9,  -999.00,  -999.00,9,  -999.00,9,   2.6188,2,     2044
  49UF20180518,KS1805,  5423,  1,      3,  24271,2,20180615,2033, 29.0087, 135.0973, 4854,   1823.2,   2.3131,   2.3132,2,  34.5527,2,  34.5510,6,     81.2,2,     81.6,6,  -999.00,9,  -999.00,9,  -999.00,9,  -999.00,9,   -999.0,9,   -999.0,9,-999.0000,9,  -999.00,  -999.00,9,  -999.00,9,   2.3132,2,     2039
  49UF20180518,KS1805,  5423,  1,      1,  24272,2,20180615,2033, 29.0087, 135.0973, 4854,   2025.9,   2.1041,   2.1042,2,  34.5856,2,  34.5847,2,     96.0,2,     95.6,2,  -999.00,9,  -999.00,9,  -999.00,9,  -999.00,9,   -999.0,9,   -999.0,9,-999.0000,9,  -999.00,  -999.00,9,  -999.00,9,   2.1042,2,     2034
  49UF20180518,KS1805,  5423,  1,      2,  25236,2,20180615,2033, 29.0087, 135.0973, 4854,   2026.4,   2.1039,   2.1043,2,  34.5858,2,  34.5840,2,     96.1,2,     95.8,2,  -999.00,9,  -999.00,9,  -999.00,9,  -999.00,9,   -999.0,9,   -999.0,9,-999.0000,9,  -999.00,  -999.00,9,  -999.00,9,   2.1043,2,     2034