BOTTLE,20200311PRINUNIVRMK
EXPOCODE,SECT_ID,STNNBR,CASTNO,SAMPNO,BTLNBR,BTLNBR_FLAG_W,DATE,TIME,LATITUDE,LONGITUDE,DEPTH,CTDPRS,CTDTMP,SBE35,SBE35_FLAG_W,CTDSAL,CTDSAL_FLAG_W,SALNTY,SALNTY_FLAG_W,CTDOXY,CTDOXY_FLAG_W,OXYGEN,OXYGEN_FLAG_W,SILCAT,SILCAT_FLAG_W,NITRAT,NITRAT_FLAG_W,NITRIT,NITRIT_FLAG_W,PHSPHT,PHSPHT_FLAG_W,TCARBN,TCARBN_FLAG_W,ALKALI,ALKALI_FLAG_W,PH_TOT,PH_TOT_FLAG_W,PH_TMP,CHLORA,CHLORA_FLAG_W,PPHYTN,PPHYTN_FLAG_W,SBE35,SBE35_FLAG_W,BTL_TIME
,,,,,,,,,,,METERS,DBAR,ITS-90,,,PSS-78,,PSS-78,,UMOL/KG,,UMOL/KG,,UMOL/KG,,UMOL/KG,,UMOL/KG,,UMOL/KG,,UMOL/KG,,UMOL/KG,,,,DEG C,UG/KG,,UG/KG,,,,
  49UF20180518,KS1805,  5385,  1,     99,     99,2,20180530,1622, 24.2438, 136.1997, 3668,      0.0,  27.0866,-999.0000,9,  34.9871,2,-999.0000,9,    206.0,2,    202.9,2,     1.53,2,     0.00,2,     0.00,2,     0.05,2,   -999.0,9,   -999.0,9,-999.0000,9,  -999.00,  -999.00,9,  -999.00,9,-999.0000,9,     1700
  49UF20180518,KS1805,  5385,  1,     36,  25270,2,20180530,1622, 24.2438, 136.1997, 3668,     10.9,  26.3851,  26.3897,2,  34.9814,2,-999.0000,9,    208.3,2,    208.8,2,     1.49,2,     0.00,2,     0.00,2,     0.00,2,   -999.0,9,   -999.0,9,-999.0000,9,  -999.00,  -999.00,9,  -999.00,9,  26.3897,2,     1725
  49UF20180518,KS1805,  5385,  1,     35,  25269,2,20180530,1622, 24.2438, 136.1997, 3668,     26.1,  24.0459,  24.0930,2,  34.9285,2,-999.0000,9,    222.8,2,    223.2,2,     1.53,2,     0.00,2,     0.00,2,     0.01,2,   -999.0,9,   -999.0,9,-999.0000,9,  -999.00,  -999.00,9,  -999.00,9,  24.0930,2,     1723
  49UF20180518,KS1805,  5385,  1,     34,  25268,2,20180530,1622, 24.2438, 136.1997, 3668,     54.4,  21.4429,  21.4305,2,  34.9535,2,-999.0000,9,    233.2,2,    233.1,2,     1.65,2,     0.00,2,     0.00,2,     0.01,2,   -999.0,9,   -999.0,9,-999.0000,9,  -999.00,  -999.00,9,  -999.00,9,  21.4305,2,     1718
  49UF20180518,KS1805,  5385,  1,     33,  25267,2,20180530,1622, 24.2438, 136.1997, 3668,     76.5,  20.3512,  20.3488,2,  34.9561,2,-999.0000,9,    233.6,2,    233.4,2,     1.78,2,     0.00,2,     0.00,2,     0.01,2,   -999.0,9,   -999.0,9,-999.0000,9,  -999.00,  -999.00,9,  -999.00,9,  20.3488,2,     1717
  49UF20180518,KS1805,  5385,  1,     32,  25266,2,20180530,1622, 24.2438, 136.1997, 3668,    101.9,  19.8201,  19.8217,2,  34.9389,2,-999.0000,9,    229.4,2,    229.2,2,     1.88,2,     0.00,2,     0.00,2,     0.02,2,   -999.0,9,   -999.0,9,-999.0000,9,  -999.00,  -999.00,9,  -999.00,9,  19.8217,2,     1715
  49UF20180518,KS1805,  5385,  1,     31,  25265,2,20180530,1622, 24.2438, 136.1997, 3668,    126.1,  19.4110,  19.4104,2,  34.9201,2,-999.0000,9,    220.2,2,    220.1,2,     2.13,2,     0.57,2,     0.11,2,     0.08,2,   -999.0,9,   -999.0,9,-999.0000,9,  -999.00,  -999.00,9,  -999.00,9,  19.4104,2,     1714
  49UF20180518,KS1805,  5385,  1,     27,  25261,2,20180530,1622, 24.2438, 136.1997, 3668,    152.7,  19.0825,  19.0815,2,  34.9017,2,-999.0000,9,    214.6,2,    214.4,2,     2.44,2,     1.68,2,     0.02,2,     0.13,2,   -999.0,9,   -999.0,9,-999.0000,9,  -999.00,  -999.00,9,  -999.00,9,  19.0815,2,     1712
  49UF20180518,KS1805,  5385,  1,     26,  25260,2,20180530,1622, 24.2438, 136.1997, 3668,    201.9,  18.3860,  18.3845,2,  34.8624,2,-999.0000,9,    209.4,2,    209.3,2,     3.13,2,     2.93,2,     0.01,2,     0.20,2,   -999.0,9,   -999.0,9,-999.0000,9,  -999.00,  -999.00,9,  -999.00,9,  18.3845,2,     1710
  49UF20180518,KS1805,  5385,  1,     25,  25259,2,20180530,1622, 24.2438, 136.1997, 3668,    251.9,  17.6672,  17.6672,2,  34.8245,2,-999.0000,9,    211.3,2,    211.1,2,     3.74,2,     3.63,2,     0.01,2,     0.25,2,   -999.0,9,   -999.0,9,-999.0000,9,  -999.00,  -999.00,9,  -999.00,9,  17.6672,2,     1708
  49UF20180518,KS1805,  5385,  1,     24,  25258,2,20180530,1622, 24.2438, 136.1997, 3668,    302.9,  16.8563,  16.8592,2,  34.7426,2,-999.0000,9,    201.8,2,    201.6,2,     5.27,2,     5.75,2,     0.00,2,     0.38,2,   -999.0,9,   -999.0,9,-999.0000,9,  -999.00,  -999.00,9,  -999.00,9,  16.8592,2,     1706
  49UF20180518,KS1805,  5385,  1,     23,  25257,2,20180530,1622, 24.2438, 136.1997, 3668,    404.4,  14.1756,  14.1751,2,  34.5054,2,-999.0000,9,    188.1,2,    188.0,2,    12.68,2,    11.04,2,     0.00,2,     0.76,2,   -999.0,9,   -999.0,9,-999.0000,9,  -999.00,  -999.00,9,  -999.00,9,  14.1751,2,     1704
  49UF20180518,KS1805,  5385,  1,     22,  24473,2,20180530,1622, 24.2438, 136.1997, 3668,    504.3,  10.8462,  10.8466,2,  34.2728,2,-999.0000,9,    172.4,2,    172.1,2,    27.15,2,    18.23,2,     0.00,2,     1.28,2,   -999.0,9,   -999.0,9,-999.0000,9,  -999.00,  -999.00,9,  -999.00,9,  10.8466,2,     1701
  49UF20180518,KS1805,  5385,  1,     18,  25252,2,20180530,1622, 24.2438, 136.1997, 3668,    607.4,   8.1720,   8.1763,2,  34.1393,2,-999.0000,9,    146.0,2,    146.0,6,    46.22,6,    25.21,6,     0.00,6,     1.80,6,   -999.0,9,   -999.0,9,-999.0000,9,  -999.00,  -999.00,9,  -999.00,9,   8.1763,2,     1658
  49UF20180518,KS1805,  5385,  1,     17,  25251,2,20180530,1622, 24.2438, 136.1997, 3668,    706.1,   6.5796,   6.5804,2,  34.1301,2,-999.0000,9,    114.0,2,    114.0,2,    65.62,2,    30.94,2,     0.00,2,     2.23,2,   -999.0,9,   -999.0,9,-999.0000,9,  -999.00,  -999.00,9,  -999.00,9,   6.5804,2,     1655
  49UF20180518,KS1805,  5385,  1,     16,  25250,2,20180530,1622, 24.2438, 136.1997, 3668,    706.1,   6.5748,   6.5742,2,  34.1299,2,-999.0000,9,    113.8,2,    113.9,2,    65.69,2,    30.97,2,     0.00,2,     2.23,2,   -999.0,9,   -999.0,9,-999.0000,9,  -999.00,  -999.00,9,  -999.00,9,   6.5742,2,     1655
  49UF20180518,KS1805,  5385,  1,     15,  25249,2,20180530,1622, 24.2438, 136.1997, 3668,    808.2,   5.3201,   5.3210,2,  34.1804,2,-999.0000,9,     83.9,2,     83.8,2,    86.16,2,    35.73,2,     0.00,2,     2.58,2,   -999.0,9,   -999.0,9,-999.0000,9,  -999.00,  -999.00,9,  -999.00,9,   5.3210,2,     1652
  49UF20180518,KS1805,  5385,  1,     14,  25248,2,20180530,1622, 24.2438, 136.1997, 3668,    908.5,   4.3103,   4.3107,2,  34.2729,2,-999.0000,9,     59.6,2,     59.2,2,   106.21,2,    39.43,2,     0.00,2,     2.84,2,   -999.0,9,   -999.0,9,-999.0000,9,  -999.00,  -999.00,9,  -999.00,9,   4.3107,2,     1650
  49UF20180518,KS1805,  5385,  1,     13,  25247,2,20180530,1622, 24.2438, 136.1997, 3668,   1011.9,   3.8297,   3.8301,2,  34.3419,2,-999.0000,9,     54.4,2,     54.7,2,   117.42,2,    40.63,2,     0.00,2,     2.91,2,   -999.0,9,   -999.0,9,-999.0000,9,  -999.00,  -999.00,9,  -999.00,9,   3.8301,2,     1647
  49UF20180518,KS1805,  5385,  1,      9,  25243,2,20180530,1622, 24.2438, 136.1997, 3668,   1210.7,   3.1348,   3.1351,2,  34.4484,2,-999.0000,9,     60.6,2,     60.4,2,   132.79,2,    41.02,2,     0.00,2,     2.93,2,   -999.0,9,   -999.0,9,-999.0000,9,  -999.00,  -999.00,9,  -999.00,9,   3.1351,2,     1642
  49UF20180518,KS1805,  5385,  1,      8,  25242,2,20180530,1622, 24.2438, 136.1997, 3668,   1416.2,   2.7670,   2.7673,2,  34.5153,2,-999.0000,9,     76.7,2,     76.4,2,   138.13,2,    40.26,2,     0.00,2,     2.86,2,   -999.0,9,   -999.0,9,-999.0000,9,  -999.00,  -999.00,9,  -999.00,9,   2.7673,2,     1637
  49UF20180518,KS1805,  5385,  1,      7,  25241,2,20180530,1622, 24.2438, 136.1997, 3668,   1619.7,   2.4442,   2.4444,2,  34.5565,2,-999.0000,9,     90.1,2,     89.9,2,   141.71,2,    39.54,2,     0.00,2,     2.80,2,   -999.0,9,   -999.0,9,-999.0000,9,  -999.00,  -999.00,9,  -999.00,9,   2.4444,2,     1633
  49UF20180518,KS1805,  5385,  1,      6,  25240,2,20180530,1622, 24.2438, 136.1997, 3668,   1821.7,   2.1685,   2.1689,2,  34.5892,2,-999.0000,9,    102.8,2,    102.6,6,   143.69,6,    38.89,6,     0.00,6,     2.75,6,   -999.0,9,   -999.0,9,-999.0000,9,  -999.00,  -999.00,9,  -999.00,9,   2.1689,2,     1628
  49UF20180518,KS1805,  5385,  1,      5,  25239,2,20180530,1622, 24.2438, 136.1997, 3668,   2024.1,   1.9826,   1.9827,2,  34.6135,2,-999.0000,9,    113.8,2,    113.8,2,   144.50,2,    38.27,2,     0.00,2,     2.70,2,   -999.0,9,   -999.0,9,-999.0000,9,  -999.00,  -999.00,9,  -999.00,9,   1.9827,2,     1623
  49UF20180518,KS1805,  5385,  1,      4,  25238,2,20180530,1622, 24.2438, 136.1997, 3668,   2024.1,   1.9828,   1.9830,2,  34.6136,2,-999.0000,9,    113.9,2,    113.9,2,   144.51,2,    38.27,2,     0.00,2,     2.69,2,   -999.0,9,   -999.0,9,-999.0000,9,  -999.00,  -999.00,9,  -999.00,9,   1.9830,2,     1623
  49UF20180518,KS1805,  5386,  1,     99,     99,2,20180531,0010, 24.2480, 135.0082, 5142,      0.0,  29.7369,-999.0000,9,  34.5506,2,  34.5663,2,    195.1,2,    195.4,2,     1.16,2,     0.00,2,     0.00,2,     0.02,2,   1945.0,2,   2271.2,2,   8.1204,2,    25.00,     0.05,2,     0.01,2,-999.0000,9,       55
  49UF20180518,KS1805,  5386,  1,     36,  25270,3,20180531,0010, 24.2480, 135.0082, 5142,     11.3,  28.4109,  28.3555,2,  34.7124,2,-999.0000,9,    202.7,2,    204.6,2,     1.21,2,     0.00,2,     0.00,2,     0.01,2,   1957.3,2,   2281.2,2,   8.1050,2,    25.00,     0.08,2,     0.02,2,  28.3555,2,      118
  49UF20180518,KS1805,  5386,  1,     35,  25269,2,20180531,0010, 24.2480, 135.0082, 5142,     25.9,  25.4253,  25.4271,2,  34.8039,2,-999.0000,9,    215.3,2,    214.6,2,     1.29,2,     0.00,2,     0.00,2,     0.00,2,   1969.2,2,   2288.0,2,   8.0898,2,    25.00,     0.07,2,     0.02,2,  25.4271,2,      116
  49UF20180518,KS1805,  5386,  1,     34,  25268,2,20180531,0010, 24.2480, 135.0082, 5142,     50.3,  23.7479,  23.7472,2,  34.9717,2,-999.0000,9,    211.0,2,    211.1,2,     1.38,2,     0.00,2,     0.00,2,     0.02,2,   1993.0,2,   2296.6,2,   8.0720,2,    25.00,     0.09,2,     0.03,2,  23.7472,2,      111
  49UF20180518,KS1805,  5386,  1,     33,  25267,2,20180531,0010, 24.2480, 135.0082, 5142,     76.2,  22.7987,  22.8013,2,  35.0392,2,-999.0000,9,    204.7,2,    204.5,2,     1.60,2,     0.00,2,     0.00,2,     0.03,2,   2011.0,2,   2303.7,2,   8.0487,2,    25.00,     0.12,2,     0.07,2,  22.8013,2,      110
  49UF20180518,KS1805,  5386,  1,     32,  25266,2,20180531,0010, 24.2480, 135.0082, 5142,    102.0,  21.6237,  21.6236,2,  34.9741,2,-999.0000,9,    213.3,2,    211.6,2,     1.65,2,     0.00,2,     0.02,2,     0.03,2,   2011.2,2,   2298.0,2,   8.0463,2,    25.00,     0.24,2,     0.34,2,  21.6236,2,      108
  49UF20180518,KS1805,  5386,  1,     31,  25265,2,20180531,0010, 24.2480, 135.0082, 5142,    126.1,  20.6613,  20.6616,2,  34.9779,2,-999.0000,9,    201.0,2,    200.5,2,     2.10,2,     1.23,2,     0.12,2,     0.12,2,   2028.0,2,   2294.9,2,   8.0119,2,    25.00,     0.16,2,     0.40,2,  20.6616,2,      107
  49UF20180518,KS1805,  5386,  1,     27,  25261,2,20180531,0010, 24.2480, 135.0082, 5142,    153.6,  19.6312,  19.6329,2,  34.9339,2,-999.0000,9,    202.3,2,    202.5,2,     2.46,2,     2.19,2,     0.02,2,     0.16,2,   2030.0,2,   2293.9,2,   8.0004,2,    25.00,     0.06,2,     0.13,2,  19.6329,2,      105
  49UF20180518,KS1805,  5386,  1,     26,  25260,2,20180531,0010, 24.2480, 135.0082, 5142,    203.5,  18.7547,  18.7580,2,  34.8820,2,-999.0000,9,    198.0,2,    197.6,2,     3.23,2,     3.49,2,     0.01,2,     0.25,2,   2040.8,2,   2291.3,2,   7.9721,2,    25.00,     0.02,2,     0.04,2,  18.7580,2,      102
  49UF20180518,KS1805,  5386,  1,     25,  25259,2,20180531,0010, 24.2480, 135.0082, 5142,    253.5,  17.3516,  17.3526,2,  34.7775,2,-999.0000,9,    198.7,2,    198.6,2,     4.63,2,     5.22,2,     0.01,2,     0.35,2,   2047.5,2,   2285.2,2,   7.9479,2,    25.00,  -999.00,9,  -999.00,9,  17.3526,2,      100
  49UF20180518,KS1805,  5386,  1,     24,  25258,2,20180531,0010, 24.2480, 135.0082, 5142,    303.5,  16.4894,  16.4891,2,  34.6945,2,-999.0000,9,    194.6,2,    195.2,2,     6.44,2,     6.88,2,     0.01,2,     0.46,2,   2060.0,6,   2282.3,6,   7.9191,2,    25.00,  -999.00,9,  -999.00,9,  16.4891,2,       58
  49UF20180518,KS1805,  5386,  1,     23,  25257,3,20180531,0010, 24.2480, 135.0082, 5142,    405.0,  14.1732,  14.1733,2,  34.5038,2,-999.0000,9,    185.5,2,    185.5,2,    13.11,2,    11.35,2,     0.00,2,     0.78,2,   2091.2,2,   2277.1,2,   7.8499,6,    25.00,  -999.00,9,  -999.00,9,  14.1733,2,       55
  49UF20180518,KS1805,  5386,  1,     22,  24473,2,20180531,0010, 24.2480, 135.0082, 5142,    505.9,  10.8159,  10.8181,2,  34.2782,2,-999.0000,9,    166.5,2,    166.8,6,    27.76,6,    18.65,6,     0.00,6,     1.32,6,   2146.1,2,   2277.2,2,   7.7324,2,    25.00,  -999.00,9,  -999.00,9,  10.8181,2,       52
  49UF20180518,KS1805,  5386,  1,     17,  25251,2,20180531,0010, 24.2480, 135.0082, 5142,    606.3,   8.0472,   8.0482,2,  34.1592,2,-999.0000,9,    135.5,2,    135.1,2,    48.96,2,    26.38,2,     0.00,2,     1.89,2,   2198.9,2,   2289.9,2,   7.6091,2,    25.00,  -999.00,9,  -999.00,9,   8.0482,2,       48
  49UF20180518,KS1805,  5386,  1,     18,  25252,2,20180531,0010, 24.2480, 135.0082, 5142,    607.0,   8.0368,   8.0377,2,  34.1586,2,-999.0000,9,    135.4,2,    135.4,2,    49.09,2,    26.42,2,     0.00,2,     1.90,2,   2197.5,2,   2289.4,2,   7.6069,2,    25.00,  -999.00,9,  -999.00,9,   8.0377,2,       49
  49UF20180518,KS1805,  5386,  1,     16,  25250,2,20180531,0010, 24.2480, 135.0082, 5142,    707.3,   5.9743,   5.9745,2,  34.1398,2,-999.0000,9,     98.6,2,     98.3,2,    73.53,2,    33.39,2,     0.00,2,     2.41,2,   2255.3,2,   2309.9,2,   7.4924,2,    25.00,  -999.00,9,  -999.00,9,   5.9745,2,       45
  49UF20180518,KS1805,  5386,  1,     15,  25249,2,20180531,0010, 24.2480, 135.0082, 5142,    808.2,   4.9634,   4.9637,2,  34.2010,2,-999.0000,9,     74.8,2,     74.8,2,    92.09,2,    37.07,2,     0.00,2,     2.68,2,   2292.8,2,   2327.1,2,   7.4382,2,    25.00,  -999.00,9,  -999.00,9,   4.9637,2,       42
  49UF20180518,KS1805,  5386,  1,     14,  25248,2,20180531,0010, 24.2480, 135.0082, 5142,    909.9,   4.3698,   4.3702,2,  34.2805,2,-999.0000,9,     61.1,2,     61.0,2,   105.19,2,    39.18,2,     0.00,2,     2.83,2,   2318.4,2,   2344.4,2,   7.4148,2,    25.00,  -999.00,9,  -999.00,9,   4.3702,2,       39
  49UF20180518,KS1805,  5386,  1,     13,  25247,2,20180531,0010, 24.2480, 135.0082, 5142,   1010.8,   3.7889,   3.7890,2,  34.3651,2,-999.0000,9,     56.3,2,     56.7,2,   118.41,2,    40.40,2,     0.00,2,     2.92,2,   2338.0,2,   2362.3,2,   7.4099,2,    25.00,  -999.00,9,  -999.00,9,   3.7890,2,       36
  49UF20180518,KS1805,  5386,  1,      9,  25243,2,20180531,0010, 24.2480, 135.0082, 5142,   1212.4,   3.1552,   3.1552,2,  34.4634,2,-999.0000,9,     64.8,2,     64.8,2,   131.52,2,    40.56,2,     0.00,2,     2.91,2,   2344.2,2,   2381.1,6,   7.4331,2,    25.00,  -999.00,9,  -999.00,9,   3.1552,2,       31
  49UF20180518,KS1805,  5386,  1,      8,  25242,2,20180531,0010, 24.2480, 135.0082, 5142,   1414.6,   2.7651,   2.7652,2,  34.5234,2,-999.0000,9,     79.7,2,     80.4,2,   137.07,2,    39.86,2,     0.00,2,     2.84,2,   2347.2,2,   2392.0,2,   7.4657,6,    25.00,  -999.00,9,  -999.00,9,   2.7652,2,       26
  49UF20180518,KS1805,  5386,  1,      7,  25241,2,20180531,0010, 24.2480, 135.0082, 5142,   1616.8,   2.4383,   2.4384,2,  34.5641,2,-999.0000,9,     93.6,2,     93.8,6,   140.80,6,    39.19,6,     0.00,6,     2.79,6,   2346.8,2,   2401.9,2,   7.4915,2,    25.00,  -999.00,9,  -999.00,9,   2.4384,2,       21
  49UF20180518,KS1805,  5386,  1,      5,  25239,2,20180531,0010, 24.2480, 135.0082, 5142,   1820.2,   2.1668,   2.1670,2,  34.5926,2,-999.0000,9,    104.7,2,    104.7,2,   143.54,2,    38.66,2,     0.00,2,     2.74,2,   2338.9,2,   2405.6,2,   7.5107,2,    25.00,  -999.00,9,  -999.00,9,   2.1670,2,       16
  49UF20180518,KS1805,  5386,  1,      6,  25240,2,20180531,0010, 24.2480, 135.0082, 5142,   1820.6,   2.1665,   2.1666,2,  34.5927,2,-999.0000,9,    104.8,2,    105.0,2,   143.58,2,    38.71,2,     0.00,2,     2.75,2,   2342.5,2,   2404.7,2,   7.5110,2,    25.00,  -999.00,9,  -999.00,9,   2.1666,2,       16
  49UF20180518,KS1805,  5386,  1,      4,  25238,2,20180531,0010, 24.2480, 135.0082, 5142,   2022.2,   1.9782,   1.9783,2,  34.6141,2,-999.0000,9,    114.5,2,    114.6,2,   144.40,2,    38.09,2,     0.00,2,     2.71,2,   2341.5,2,   2407.8,2,   7.5275,2,    25.00,  -999.00,9,  -999.00,9,   1.9783,2,       11