BOTTLE,20200311PRINUNIVRMK
EXPOCODE,SECT_ID,STNNBR,CASTNO,SAMPNO,BTLNBR,BTLNBR_FLAG_W,DATE,TIME,LATITUDE,LONGITUDE,DEPTH,CTDPRS,CTDTMP,SBE35,SBE35_FLAG_W,CTDSAL,CTDSAL_FLAG_W,SALNTY,SALNTY_FLAG_W,CTDOXY,CTDOXY_FLAG_W,OXYGEN,OXYGEN_FLAG_W,SILCAT,SILCAT_FLAG_W,NITRAT,NITRAT_FLAG_W,NITRIT,NITRIT_FLAG_W,PHSPHT,PHSPHT_FLAG_W,TCARBN,TCARBN_FLAG_W,ALKALI,ALKALI_FLAG_W,PH_TOT,PH_TOT_FLAG_W,PH_TMP,CHLORA,CHLORA_FLAG_W,PPHYTN,PPHYTN_FLAG_W,SBE35,SBE35_FLAG_W,BTL_TIME
,,,,,,,,,,,METERS,DBAR,ITS-90,,,PSS-78,,PSS-78,,UMOL/KG,,UMOL/KG,,UMOL/KG,,UMOL/KG,,UMOL/KG,,UMOL/KG,,UMOL/KG,,UMOL/KG,,,,DEG C,UG/KG,,UG/KG,,,,
  49UF20180518,KS1805,  5391,  1,     99,     99,2,20180601,1834, 24.6700, 130.0157, 4198,      0.0,  28.3930,-999.0000,9,  34.8709,2,  34.8716,2,    200.2,2,    199.8,2,     1.26,2,     0.00,2,     0.00,2,     0.02,2,   1976.2,2,   2290.8,2,   8.0913,2,    25.00,     0.06,2,     0.02,2,-999.0000,9,     1910
  49UF20180518,KS1805,  5391,  1,     36,  25270,2,20180601,1834, 24.6700, 130.0157, 4198,     11.5,  28.3978,  28.3979,2,  34.8711,2,-999.0000,9,    200.1,2,    200.2,2,     1.23,2,    -0.01,2,     0.01,2,     0.00,2,   1972.0,2,   2291.3,2,   8.0886,2,    25.00,     0.06,2,     0.02,2,  28.3979,2,     1936
  49UF20180518,KS1805,  5391,  1,     35,  25269,2,20180601,1834, 24.6700, 130.0157, 4198,     27.2,  26.2377,  26.2530,2,  34.7692,2,  34.7718,2,    211.4,2,    211.2,2,     1.21,2,     0.00,2,     0.00,2,     0.00,2,   1970.9,2,   2282.8,2,   8.0925,2,    25.00,     0.07,2,     0.02,2,  26.2530,2,     1935
  49UF20180518,KS1805,  5391,  1,     34,  25268,2,20180601,1834, 24.6700, 130.0157, 4198,     52.9,  24.6354,  24.6370,2,  34.8142,2,-999.0000,9,    217.2,2,    216.9,2,     1.27,2,     0.00,2,     0.00,2,     0.00,2,   1974.8,2,   2288.4,2,   8.0859,2,    25.00,     0.08,2,     0.03,2,  24.6370,2,     1931
  49UF20180518,KS1805,  5391,  1,     33,  25267,2,20180601,1834, 24.6700, 130.0157, 4198,     77.4,  23.1602,  23.1694,2,  34.8907,2,  34.8887,2,    219.6,2,    219.3,2,     1.39,2,     0.00,2,     0.00,2,     0.01,2,   1984.0,2,   2291.1,2,   8.0758,2,    25.00,     0.14,2,     0.07,2,  23.1694,2,     1930
  49UF20180518,KS1805,  5391,  1,     32,  25266,2,20180601,1834, 24.6700, 130.0157, 4198,    103.0,  22.0716,  22.0724,2,  34.9247,2,-999.0000,9,    213.7,2,    213.6,2,     1.49,2,    -0.02,2,     0.02,2,     0.02,2,   1993.6,2,   2291.0,2,   8.0585,2,    25.00,     0.30,2,     0.38,2,  22.0724,2,     1929
  49UF20180518,KS1805,  5391,  1,     31,  25265,2,20180601,1834, 24.6700, 130.0157, 4198,    126.9,  21.4092,  21.4084,2,  34.9319,2,  34.9314,2,    210.7,2,    211.2,2,     1.73,2,     0.23,2,     0.12,2,     0.05,2,   2007.7,2,   2295.3,2,   8.0420,2,    25.00,     0.18,2,     0.32,2,  21.4084,2,     1927
  49UF20180518,KS1805,  5391,  1,     27,  25261,2,20180601,1834, 24.6700, 130.0157, 4198,    155.4,  20.8446,  20.8449,2,  34.9404,2,-999.0000,9,    208.0,2,    208.2,2,     1.87,2,     0.77,2,     0.10,2,     0.08,2,   2014.7,2,   2294.0,2,   8.0291,2,    25.00,     0.12,2,     0.22,2,  20.8449,2,     1926
  49UF20180518,KS1805,  5391,  1,     26,  25260,2,20180601,1834, 24.6700, 130.0157, 4198,    205.1,  19.6944,  19.6925,2,  34.9270,2,  34.9268,2,    198.8,2,    198.7,2,     2.65,2,     2.53,2,     0.03,2,     0.19,2,   2034.4,2,   2294.4,2,   7.9938,2,    25.00,     0.02,2,     0.04,2,  19.6925,2,     1923
  49UF20180518,KS1805,  5391,  1,     25,  25259,2,20180601,1834, 24.6700, 130.0157, 4198,    256.2,  18.5126,  18.5145,2,  34.8649,2,-999.0000,9,    197.0,2,    196.9,2,     3.44,2,     3.92,2,     0.01,2,     0.26,2,   2040.3,2,   2288.3,2,   7.9679,2,    25.00,  -999.00,9,  -999.00,9,  18.5145,2,     1922
  49UF20180518,KS1805,  5391,  1,     24,  25258,3,20180601,1834, 24.6700, 130.0157, 4198,    302.6,  17.3074,  17.3072,2,  34.7661,2,  34.7670,2,    195.3,2,    195.2,2,     4.86,2,     5.51,2,     0.02,2,     0.38,2,   2050.2,2,   2285.2,2,   7.9378,2,    25.00,  -999.00,9,  -999.00,9,  17.3072,2,     1920
  49UF20180518,KS1805,  5391,  1,     23,  25257,2,20180601,1834, 24.6700, 130.0157, 4198,    404.3,  15.0443,  15.0455,2,  34.5693,2,-999.0000,9,    185.9,2,    185.9,2,    10.65,2,     9.92,2,     0.00,2,     0.67,2,   2074.8,2,   2280.6,2,   7.8717,2,    25.00,  -999.00,9,  -999.00,9,  15.0455,2,     1917
  49UF20180518,KS1805,  5391,  1,     22,  24473,3,20180601,1834, 24.6700, 130.0157, 4198,    506.0,  11.9553,  11.9540,2,  34.3534,2,  34.3538,2,    169.6,2,    169.7,2,    22.60,2,    16.45,2,     0.00,2,     1.15,2,   2119.8,2,   2276.5,2,   7.7670,2,    25.00,  -999.00,9,  -999.00,9,  11.9540,2,     1914
  49UF20180518,KS1805,  5391,  1,     18,  25252,2,20180601,1834, 24.6700, 130.0157, 4198,    604.2,   9.2869,   9.2871,2,  34.2193,2,-999.0000,9,    146.2,2,    145.7,6,    39.96,6,    23.29,6,     0.00,6,     1.66,6,   2174.0,2,   2283.9,2,   7.6581,2,    25.00,  -999.00,9,  -999.00,9,   9.2871,2,     1911
  49UF20180518,KS1805,  5391,  1,     17,  25251,2,20180601,1834, 24.6700, 130.0157, 4198,    704.1,   6.7947,   6.7939,2,  34.1550,2,-999.0000,9,    110.7,2,    110.2,2,    63.84,2,    30.95,2,     0.00,2,     2.22,2,   2234.9,2,   2299.8,2,   7.5338,2,    25.00,  -999.00,9,  -999.00,9,   6.7939,2,     1909
  49UF20180518,KS1805,  5391,  1,     16,  25250,2,20180601,1834, 24.6700, 130.0157, 4198,    704.6,   6.7928,   6.7918,2,  34.1549,2,-999.0000,9,    110.6,2,    110.9,2,    64.12,2,    31.02,2,     0.00,2,     2.23,2,   2228.6,3,   2300.9,2,   7.5321,2,    25.00,  -999.00,9,  -999.00,9,   6.7918,2,     1909
  49UF20180518,KS1805,  5391,  1,     15,  25249,2,20180601,1834, 24.6700, 130.0157, 4198,    806.5,   5.4439,   5.4439,2,  34.1969,2,-999.0000,9,     83.9,2,     84.1,2,    84.70,2,    35.60,2,     0.00,2,     2.56,2,   2275.5,6,   2321.5,6,   7.4646,2,    25.00,  -999.00,9,  -999.00,9,   5.4439,2,     1906
  49UF20180518,KS1805,  5391,  1,     14,  25248,2,20180601,1834, 24.6700, 130.0157, 4198,    909.2,   4.6062,   4.6059,2,  34.2622,2,  34.2625,6,     66.8,2,     66.8,2,   101.26,2,    38.42,2,     0.00,2,     2.76,2,   2303.6,2,   2340.9,2,   7.4254,6,    25.00,  -999.00,9,  -999.00,9,   4.6059,2,     1903
  49UF20180518,KS1805,  5391,  1,     13,  25247,2,20180601,1834, 24.6700, 130.0157, 4198,   1009.6,   4.0209,   4.0212,2,  34.3408,2,-999.0000,9,     59.8,2,     59.8,2,   113.56,2,    39.91,2,     0.01,2,     2.86,2,   2324.3,2,   2354.6,2,   7.4136,2,    25.00,  -999.00,9,  -999.00,9,   4.0212,2,     1901
  49UF20180518,KS1805,  5391,  1,      9,  25243,2,20180601,1834, 24.6700, 130.0157, 4198,   1213.2,   3.2314,   3.2329,2,  34.4417,2,  34.4415,2,     62.8,2,     63.3,2,   130.68,2,    40.67,2,     0.01,2,     2.90,2,   2343.1,2,   2377.7,2,   7.4229,2,    25.00,  -999.00,9,  -999.00,9,   3.2329,2,     1856
  49UF20180518,KS1805,  5391,  1,      8,  25242,2,20180601,1834, 24.6700, 130.0157, 4198,   1415.6,   2.7611,   2.7615,2,  34.5052,2,-999.0000,9,     74.6,2,     74.5,2,   138.77,2,    40.31,2,     0.01,2,     2.87,2,   2346.5,2,   2390.6,2,   7.4460,2,    25.00,  -999.00,9,  -999.00,9,   2.7615,2,     1851
  49UF20180518,KS1805,  5391,  1,      7,  25241,2,20180601,1834, 24.6700, 130.0157, 4198,   1619.1,   2.4137,   2.4139,2,  34.5517,2,-999.0000,9,     88.8,2,     88.9,2,   142.74,2,    39.54,2,     0.00,2,     2.81,2,   2347.9,2,   2398.6,2,   7.4735,2,    25.00,  -999.00,9,  -999.00,9,   2.4139,2,     1846
  49UF20180518,KS1805,  5391,  1,      6,  25240,2,20180601,1834, 24.6700, 130.0157, 4198,   1822.6,   2.1941,   2.1943,2,  34.5828,2,  34.5828,6,    100.4,2,    100.4,6,   144.10,6,    38.99,6,     0.00,6,     2.76,6,   2343.6,2,   2405.0,2,   7.4977,2,    25.00,  -999.00,9,  -999.00,9,   2.1943,2,     1841
  49UF20180518,KS1805,  5391,  1,      4,  25238,2,20180601,1834, 24.6700, 130.0157, 4198,   2023.2,   1.9831,   1.9832,2,  34.6127,2,  34.6135,2,    113.7,2,    113.6,2,   144.72,2,    38.32,2,     0.00,2,     2.70,2,   2337.1,2,   2407.3,2,   7.5213,6,    25.00,  -999.00,9,  -999.00,9,   1.9832,2,     1835
  49UF20180518,KS1805,  5391,  1,      5,  25239,2,20180601,1834, 24.6700, 130.0157, 4198,   2023.3,   1.9830,   1.9833,2,  34.6128,2,  34.6134,2,    113.7,2,    113.7,2,   144.81,2,    38.35,2,     0.01,2,     2.70,2,   2338.0,6,   2406.1,6,   7.5238,2,    25.00,  -999.00,9,  -999.00,9,   1.9833,2,     1836
  49UF20180518,KS1805,  5392,  1,     99,     99,2,20180601,2317, 25.0007, 129.5008, 4082,      0.0,  27.9975,-999.0000,9,  34.8104,2,-999.0000,9,    200.4,2,    200.7,2,  -999.00,9,  -999.00,9,  -999.00,9,  -999.00,9,   -999.0,9,   -999.0,9,-999.0000,9,  -999.00,  -999.00,9,  -999.00,9,-999.0000,9,     2359
  49UF20180518,KS1805,  5392,  1,     36,  25270,2,20180601,2317, 25.0007, 129.5008, 4082,     11.9,  27.9857,  27.9877,2,  34.8084,2,-999.0000,9,    200.4,2,    201.2,2,  -999.00,9,  -999.00,9,  -999.00,9,  -999.00,9,   -999.0,9,   -999.0,9,-999.0000,9,  -999.00,  -999.00,9,  -999.00,9,  27.9877,2,       28
  49UF20180518,KS1805,  5392,  1,     35,  25269,2,20180601,2317, 25.0007, 129.5008, 4082,     25.0,  26.0485,  26.0289,2,  34.7910,2,-999.0000,9,    211.5,2,    212.2,2,  -999.00,9,  -999.00,9,  -999.00,9,  -999.00,9,   -999.0,9,   -999.0,9,-999.0000,9,  -999.00,  -999.00,9,  -999.00,9,  26.0289,2,       26
  49UF20180518,KS1805,  5392,  1,     34,  25268,2,20180601,2317, 25.0007, 129.5008, 4082,     50.1,  23.3221,  23.3137,2,  34.9145,2,-999.0000,9,    223.9,2,    224.1,2,  -999.00,9,  -999.00,9,  -999.00,9,  -999.00,9,   -999.0,9,   -999.0,9,-999.0000,9,  -999.00,  -999.00,9,  -999.00,9,  23.3137,2,       21
  49UF20180518,KS1805,  5392,  1,     33,  25267,2,20180601,2317, 25.0007, 129.5008, 4082,     76.3,  22.1112,  22.1140,2,  34.9484,2,-999.0000,9,    219.7,2,    220.1,2,  -999.00,9,  -999.00,9,  -999.00,9,  -999.00,9,   -999.0,9,   -999.0,9,-999.0000,9,  -999.00,  -999.00,9,  -999.00,9,  22.1140,2,       19
  49UF20180518,KS1805,  5392,  1,     32,  25266,2,20180601,2317, 25.0007, 129.5008, 4082,    101.7,  21.5112,  21.5161,2,  34.9562,2,-999.0000,9,    215.8,2,    215.7,2,  -999.00,9,  -999.00,9,  -999.00,9,  -999.00,9,   -999.0,9,   -999.0,9,-999.0000,9,  -999.00,  -999.00,9,  -999.00,9,  21.5161,2,       17
  49UF20180518,KS1805,  5392,  1,     31,  25265,2,20180601,2317, 25.0007, 129.5008, 4082,    126.8,  20.6946,  20.6972,2,  34.9329,2,-999.0000,9,    205.6,2,    205.8,2,  -999.00,9,  -999.00,9,  -999.00,9,  -999.00,9,   -999.0,9,   -999.0,9,-999.0000,9,  -999.00,  -999.00,9,  -999.00,9,  20.6972,2,       15
  49UF20180518,KS1805,  5392,  1,     27,  25261,2,20180601,2317, 25.0007, 129.5008, 4082,    151.6,  20.2326,  20.2479,2,  34.9448,2,-999.0000,9,    198.4,2,    198.7,2,  -999.00,9,  -999.00,9,  -999.00,9,  -999.00,9,   -999.0,9,   -999.0,9,-999.0000,9,  -999.00,  -999.00,9,  -999.00,9,  20.2479,2,       14
  49UF20180518,KS1805,  5392,  1,     26,  25260,2,20180601,2317, 25.0007, 129.5008, 4082,    201.5,  18.9634,  18.9589,2,  34.8945,2,-999.0000,9,    194.7,2,    195.1,2,  -999.00,9,  -999.00,9,  -999.00,9,  -999.00,9,   -999.0,9,   -999.0,9,-999.0000,9,  -999.00,  -999.00,9,  -999.00,9,  18.9589,2,       11
  49UF20180518,KS1805,  5392,  1,     25,  25259,2,20180601,2317, 25.0007, 129.5008, 4082,    255.1,  17.9940,  17.9959,2,  34.8316,2,-999.0000,9,    198.5,2,    198.6,2,  -999.00,9,  -999.00,9,  -999.00,9,  -999.00,9,   -999.0,9,   -999.0,9,-999.0000,9,  -999.00,  -999.00,9,  -999.00,9,  17.9959,2,        9
  49UF20180518,KS1805,  5392,  1,     24,  25258,2,20180601,2317, 25.0007, 129.5008, 4082,    304.5,  16.8315,  16.8320,2,  34.7209,2,-999.0000,9,    193.9,2,    194.5,2,  -999.00,9,  -999.00,9,  -999.00,9,  -999.00,9,   -999.0,9,   -999.0,9,-999.0000,9,  -999.00,  -999.00,9,  -999.00,9,  16.8320,2,        7
  49UF20180518,KS1805,  5392,  1,     23,  25257,2,20180601,2317, 25.0007, 129.5008, 4082,    403.0,  14.5517,  14.5529,2,  34.5275,2,-999.0000,9,    184.2,2,    184.3,2,  -999.00,9,  -999.00,9,  -999.00,9,  -999.00,9,   -999.0,9,   -999.0,9,-999.0000,9,  -999.00,  -999.00,9,  -999.00,9,  14.5529,2,        3
  49UF20180518,KS1805,  5392,  1,     22,  24473,2,20180601,2317, 25.0007, 129.5008, 4082,    504.2,  11.6456,  11.6432,2,  34.3290,2,-999.0000,9,    168.6,2,    168.5,6,  -999.00,9,  -999.00,9,  -999.00,9,  -999.00,9,   -999.0,9,   -999.0,9,-999.0000,9,  -999.00,  -999.00,9,  -999.00,9,  11.6432,2,        0
  49UF20180518,KS1805,  5392,  1,     17,  25251,2,20180601,2317, 25.0007, 129.5008, 4082,    604.1,   8.6103,   8.6106,2,  34.1910,2,-999.0000,9,    138.0,2,    137.9,2,  -999.00,9,  -999.00,9,  -999.00,9,  -999.00,9,   -999.0,9,   -999.0,9,-999.0000,9,  -999.00,  -999.00,9,  -999.00,9,   8.6106,2,     2357
  49UF20180518,KS1805,  5392,  1,     18,  25252,2,20180601,2317, 25.0007, 129.5008, 4082,    604.4,   8.6088,   8.6083,2,  34.1911,2,-999.0000,9,    138.0,2,    137.7,2,  -999.00,9,  -999.00,9,  -999.00,9,  -999.00,9,   -999.0,9,   -999.0,9,-999.0000,9,  -999.00,  -999.00,9,  -999.00,9,   8.6083,2,     2357
  49UF20180518,KS1805,  5392,  1,     16,  25250,2,20180601,2317, 25.0007, 129.5008, 4082,    705.6,   6.9211,   6.9214,2,  34.1541,2,-999.0000,9,    113.1,2,    113.2,2,  -999.00,9,  -999.00,9,  -999.00,9,  -999.00,9,   -999.0,9,   -999.0,9,-999.0000,9,  -999.00,  -999.00,9,  -999.00,9,   6.9214,2,     2354
  49UF20180518,KS1805,  5392,  1,     15,  25249,2,20180601,2317, 25.0007, 129.5008, 4082,    807.1,   5.4295,   5.4312,2,  34.1981,2,-999.0000,9,     83.4,2,     83.5,2,  -999.00,9,  -999.00,9,  -999.00,9,  -999.00,9,   -999.0,9,   -999.0,9,-999.0000,9,  -999.00,  -999.00,9,  -999.00,9,   5.4312,2,     2350
  49UF20180518,KS1805,  5392,  1,     14,  25248,2,20180601,2317, 25.0007, 129.5008, 4082,    908.9,   4.5485,   4.5491,2,  34.2680,2,-999.0000,9,     65.1,2,     65.4,2,  -999.00,9,  -999.00,9,  -999.00,9,  -999.00,9,   -999.0,9,   -999.0,9,-999.0000,9,  -999.00,  -999.00,9,  -999.00,9,   4.5491,2,     2347
  49UF20180518,KS1805,  5392,  1,     13,  25247,2,20180601,2317, 25.0007, 129.5008, 4082,   1011.9,   4.0381,   4.0382,2,  34.3419,2,-999.0000,9,     59.2,2,     59.3,2,  -999.00,9,  -999.00,9,  -999.00,9,  -999.00,9,   -999.0,9,   -999.0,9,-999.0000,9,  -999.00,  -999.00,9,  -999.00,9,   4.0382,2,     2344
  49UF20180518,KS1805,  5392,  1,      9,  25243,2,20180601,2317, 25.0007, 129.5008, 4082,   1211.9,   3.2411,   3.2421,2,  34.4434,2,-999.0000,9,     62.9,2,     62.8,2,  -999.00,9,  -999.00,9,  -999.00,9,  -999.00,9,   -999.0,9,   -999.0,9,-999.0000,9,  -999.00,  -999.00,9,  -999.00,9,   3.2421,2,     2339
  49UF20180518,KS1805,  5392,  1,      8,  25242,2,20180601,2317, 25.0007, 129.5008, 4082,   1417.1,   2.7083,   2.7084,2,  34.5142,2,-999.0000,9,     76.8,2,     76.8,2,  -999.00,9,  -999.00,9,  -999.00,9,  -999.00,9,   -999.0,9,   -999.0,9,-999.0000,9,  -999.00,  -999.00,9,  -999.00,9,   2.7084,2,     2334
  49UF20180518,KS1805,  5392,  1,      7,  25241,2,20180601,2317, 25.0007, 129.5008, 4082,   1618.2,   2.4237,   2.4238,2,  34.5526,2,-999.0000,9,     89.3,2,     89.6,6,  -999.00,9,  -999.00,9,  -999.00,9,  -999.00,9,   -999.0,9,   -999.0,9,-999.0000,9,  -999.00,  -999.00,9,  -999.00,9,   2.4238,2,     2329
  49UF20180518,KS1805,  5392,  1,      6,  25240,2,20180601,2317, 25.0007, 129.5008, 4082,   1819.7,   2.1835,   2.1838,2,  34.5840,2,-999.0000,9,    100.7,2,    100.8,2,  -999.00,9,  -999.00,9,  -999.00,9,  -999.00,9,   -999.0,9,   -999.0,9,-999.0000,9,  -999.00,  -999.00,9,  -999.00,9,   2.1838,2,     2324
  49UF20180518,KS1805,  5392,  1,      5,  25239,2,20180601,2317, 25.0007, 129.5008, 4082,   1820.0,   2.1837,   2.1839,2,  34.5840,2,-999.0000,9,    100.7,2,    101.0,2,  -999.00,9,  -999.00,9,  -999.00,9,  -999.00,9,   -999.0,9,   -999.0,9,-999.0000,9,  -999.00,  -999.00,9,  -999.00,9,   2.1839,2,     2324
  49UF20180518,KS1805,  5392,  1,      4,  25238,2,20180601,2317, 25.0007, 129.5008, 4082,   2024.3,   2.0205,   2.0210,2,  34.6075,2,-999.0000,9,    111.1,2,    111.6,2,  -999.00,9,  -999.00,9,  -999.00,9,  -999.00,9,   -999.0,9,   -999.0,9,-999.0000,9,  -999.00,  -999.00,9,  -999.00,9,   2.0210,2,     2319