BOTTLE,20200311PRINUNIVRMK
EXPOCODE,SECT_ID,STNNBR,CASTNO,SAMPNO,BTLNBR,BTLNBR_FLAG_W,DATE,TIME,LATITUDE,LONGITUDE,DEPTH,CTDPRS,CTDTMP,SBE35,SBE35_FLAG_W,CTDSAL,CTDSAL_FLAG_W,SALNTY,SALNTY_FLAG_W,CTDOXY,CTDOXY_FLAG_W,OXYGEN,OXYGEN_FLAG_W,SILCAT,SILCAT_FLAG_W,NITRAT,NITRAT_FLAG_W,NITRIT,NITRIT_FLAG_W,PHSPHT,PHSPHT_FLAG_W,TCARBN,TCARBN_FLAG_W,ALKALI,ALKALI_FLAG_W,PH_TOT,PH_TOT_FLAG_W,PH_TMP,CHLORA,CHLORA_FLAG_W,PPHYTN,PPHYTN_FLAG_W,SBE35,SBE35_FLAG_W,BTL_TIME
,,,,,,,,,,,METERS,DBAR,ITS-90,,,PSS-78,,PSS-78,,UMOL/KG,,UMOL/KG,,UMOL/KG,,UMOL/KG,,UMOL/KG,,UMOL/KG,,UMOL/KG,,UMOL/KG,,,,DEG C,UG/KG,,UG/KG,,,,
  49UF20180518,KS1805,  5369,  1,     99,     99,2,20180524,0013, 24.2487, 160.0500, 5484,      0.0,  26.7028,-999.0000,9,  34.9865,2,  35.0283,2,    203.7,2,    204.0,2,     1.08,2,     0.00,2,     0.00,2,     0.02,2,   1975.0,2,   2303.8,2,   8.1046,2,    25.00,     0.09,2,     0.03,2,-999.0000,9,      209
  49UF20180518,KS1805,  5369,  1,     36,  25270,2,20180524,0013, 24.2487, 160.0500, 5484,     10.5,  26.7031,  26.7040,2,  34.9868,2,-999.0000,9,    203.8,2,    203.4,2,     1.07,2,     0.00,2,     0.00,2,     0.01,2,   1975.9,2,   2299.4,2,   8.1044,2,    25.00,     0.08,2,     0.02,2,  26.7040,2,      254
  49UF20180518,KS1805,  5369,  1,     35,  25269,2,20180524,0013, 24.2487, 160.0500, 5484,     27.1,  26.2232,  26.2278,2,  35.1571,2,  35.1582,2,    208.0,2,    207.7,2,     1.12,2,     0.00,2,     0.00,2,     0.01,2,   1988.7,2,   2311.4,2,   8.1004,2,    25.00,     0.10,2,     0.03,2,  26.2278,2,      252
  49UF20180518,KS1805,  5369,  1,     34,  25268,2,20180524,0013, 24.2487, 160.0500, 5484,     50.9,  25.0856,  25.0855,2,  35.1340,2,-999.0000,9,    214.1,2,    213.8,2,     1.20,2,     0.00,2,     0.00,2,     0.01,2,   1987.2,2,   2308.4,2,   8.0984,2,    25.00,     0.11,2,     0.04,2,  25.0855,2,      246
  49UF20180518,KS1805,  5369,  1,     33,  25267,2,20180524,0013, 24.2487, 160.0500, 5484,     76.1,  24.0391,  24.0416,2,  35.1680,2,  35.1687,2,    208.2,2,    208.4,2,     1.38,2,     0.00,2,     0.00,2,     0.02,2,   2003.7,2,   2312.0,2,   8.0712,2,    25.00,     0.15,2,     0.07,2,  24.0416,2,      245
  49UF20180518,KS1805,  5369,  1,     32,  25266,2,20180524,0013, 24.2487, 160.0500, 5484,    100.9,  23.1182,  23.1181,2,  35.1592,2,-999.0000,9,    204.3,2,    204.2,2,     1.57,2,    -0.01,2,     0.01,2,     0.04,2,   2016.0,2,   2311.0,2,   8.0493,2,    25.00,     0.20,2,     0.23,2,  23.1181,2,      243
  49UF20180518,KS1805,  5369,  1,     31,  25265,2,20180524,0013, 24.2487, 160.0500, 5484,    126.3,  21.3135,  21.3128,2,  35.0331,2,  35.0336,2,    224.2,2,    224.2,2,     1.74,2,     0.00,2,     0.00,2,     0.02,2,   2008.2,2,   2303.7,2,   8.0485,2,    25.00,     0.21,2,     0.18,2,  21.3128,2,      241
  49UF20180518,KS1805,  5369,  1,     30,  25264,3,20180524,0013, 24.2487, 160.0500, 5484,    152.5,  19.8227,  19.8195,2,  34.9397,2,-999.0000,9,    219.3,2,    218.8,2,     2.08,2,     0.05,2,     0.11,2,     0.05,2,   2025.2,2,   2296.0,2,   8.0182,2,    25.00,     0.13,2,     0.26,2,  19.8195,2,      239
  49UF20180518,KS1805,  5369,  1,     29,  25263,2,20180524,0013, 24.2487, 160.0500, 5484,    202.2,  18.2568,  18.2628,2,  34.8674,2,  34.8670,2,    199.4,2,    199.8,2,     3.25,2,     3.20,2,     0.02,2,     0.25,2,   2052.8,2,   2290.4,2,   7.9576,2,    25.00,     0.04,2,     0.11,2,  18.2628,2,      237
  49UF20180518,KS1805,  5369,  1,     28,  25262,2,20180524,0013, 24.2487, 160.0500, 5484,    251.3,  16.8691,  16.8670,2,  34.7518,2,-999.0000,9,    205.9,2,    206.3,2,     4.51,2,     4.93,2,     0.01,2,     0.35,2,   2054.2,2,   2285.0,2,   7.9427,2,    25.00,  -999.00,9,  -999.00,9,  16.8670,2,      234
  49UF20180518,KS1805,  5369,  1,     27,  25261,2,20180524,0013, 24.2487, 160.0500, 5484,    305.2,  16.2331,  16.2259,2,  34.6978,2,  34.7008,2,    208.1,2,    208.5,2,     5.48,2,     5.75,2,     0.01,2,     0.40,2,   2057.9,2,   2282.6,2,   7.9334,2,    25.00,  -999.00,9,  -999.00,9,  16.2259,2,      231
  49UF20180518,KS1805,  5369,  1,     26,  25260,2,20180524,0013, 24.2487, 160.0500, 5484,    405.1,  13.8748,  13.8725,2,  34.4798,2,-999.0000,9,    200.6,2,    201.2,2,    11.74,2,    10.21,2,     0.01,2,     0.71,2,   2085.5,2,   2276.2,2,   7.8638,2,    25.00,  -999.00,9,  -999.00,9,  13.8725,2,      228
  49UF20180518,KS1805,  5369,  1,     25,  25259,2,20180524,0013, 24.2487, 160.0500, 5484,    504.5,  10.5499,  10.5503,2,  34.2062,2,  34.2067,2,    174.7,2,    175.2,2,    22.62,2,    17.96,2,     0.00,2,     1.28,2,   2134.7,2,   2269.5,2,   7.7277,2,    25.00,  -999.00,9,  -999.00,9,  10.5503,2,      224
  49UF20180518,KS1805,  5369,  1,     24,  25258,2,20180524,0013, 24.2487, 160.0500, 5484,    606.4,   7.8643,   7.8634,2,  34.0698,2,-999.0000,9,    154.1,2,    154.7,6,    41.95,6,    24.95,6,     0.00,6,     1.78,6,   2186.3,2,   2280.7,2,   7.6252,2,    25.00,  -999.00,9,  -999.00,9,   7.8634,2,      221
  49UF20180518,KS1805,  5369,  1,     23,  25257,2,20180524,0013, 24.2487, 160.0500, 5484,    706.5,   5.8101,   5.8087,2,  34.0634,2,  34.0642,2,    102.6,2,    102.8,2,    69.38,2,    33.46,2,     0.00,2,     2.41,2,   2253.8,6,   2300.9,6,   7.4876,2,    25.00,  -999.00,9,  -999.00,9,   5.8087,2,      217
  49UF20180518,KS1805,  5369,  1,     22,  24473,2,20180524,0013, 24.2487, 160.0500, 5484,    806.8,   4.7820,   4.7812,2,  34.1714,2,-999.0000,9,     60.4,2,     60.8,2,    92.73,2,    38.91,2,     0.00,2,     2.80,2,   2305.3,2,   2325.8,2,   7.4014,6,    25.00,  -999.00,9,  -999.00,9,   4.7812,2,      214
  49UF20180518,KS1805,  5369,  1,     21,  25255,2,20180524,0013, 24.2487, 160.0500, 5484,    908.2,   4.2098,   4.2093,2,  34.2629,2,  34.2615,2,     44.9,2,     45.6,2,   107.72,2,    41.10,2,     0.00,2,     2.94,2,   2329.3,2,   2344.9,2,   7.3769,2,    25.00,  -999.00,9,  -999.00,9,   4.2093,2,      210
  49UF20180518,KS1805,  5369,  1,     20,  24270,3,20180524,0013, 24.2487, 160.0500, 5484,   1011.7,   3.8008,   3.8031,2,  34.3706,2,-999.0000,9,     43.8,2,     43.9,2,   117.91,2,    41.70,2,     0.00,2,     2.99,2,   2344.9,2,   2361.8,2,   7.3868,2,    25.00,  -999.00,9,  -999.00,9,   3.8031,2,      207
  49UF20180518,KS1805,  5369,  1,     19,  25253,2,20180524,0013, 24.2487, 160.0500, 5484,   1211.9,   3.2240,   3.2239,2,  34.4780,2,  34.4780,2,     58.7,2,     58.6,2,   130.27,2,    41.23,2,     0.00,2,     2.94,2,   2351.3,2,   2380.8,2,   7.4260,2,    25.00,  -999.00,9,  -999.00,9,   3.2239,2,      201
  49UF20180518,KS1805,  5369,  1,     18,  25252,2,20180524,0013, 24.2487, 160.0500, 5484,   1413.8,   2.7403,   2.7404,2,  34.5289,2,-999.0000,9,     70.5,2,     70.6,2,   139.78,2,    40.78,2,     0.00,2,     2.90,2,   2355.8,2,   2393.5,2,   7.4453,2,    25.00,  -999.00,9,  -999.00,9,   2.7404,2,      156
  49UF20180518,KS1805,  5369,  1,     17,  25251,2,20180524,0013, 24.2487, 160.0500, 5484,   1619.7,   2.3850,   2.3853,2,  34.5659,2,  34.5658,2,     82.4,2,     82.7,2,   145.86,2,    40.21,2,     0.00,2,     2.85,2,   2356.2,2,   2401.5,2,   7.4659,2,    25.00,  -999.00,9,  -999.00,9,   2.3853,2,      150
  49UF20180518,KS1805,  5369,  1,     16,  25250,2,20180524,0013, 24.2487, 160.0500, 5484,   1821.5,   2.1392,   2.1391,2,  34.5941,2,-999.0000,9,     93.2,2,     93.6,6,   149.23,6,    39.66,6,     0.00,6,     2.80,6,   2354.8,2,   2405.2,2,   7.4861,2,    25.00,  -999.00,9,  -999.00,9,   2.1391,2,      145
  49UF20180518,KS1805,  5369,  1,     15,  25249,2,20180524,0013, 24.2487, 160.0500, 5484,   2023.2,   1.9582,   1.9579,2,  34.6141,2,  34.6138,2,    101.5,2,    101.7,2,   151.87,2,    39.28,2,     0.00,2,     2.76,2,   2355.0,6,   2409.6,6,   7.5017,2,    25.00,  -999.00,9,  -999.00,9,   1.9579,2,      140
  49UF20180518,KS1805,  5369,  1,     14,  25248,2,20180524,0013, 24.2487, 160.0500, 5484,   2279.5,   1.7866,   1.7866,2,  34.6358,2,  34.6355,2,    112.9,2,    113.1,2,   152.90,2,    38.67,2,     0.00,2,     2.70,2,   2350.7,2,   2413.8,2,   7.5232,6,    25.00,  -999.00,9,  -999.00,9,   1.7866,2,      133
  49UF20180518,KS1805,  5369,  1,     13,  25247,2,20180524,0013, 24.2487, 160.0500, 5484,   2532.0,   1.6971,   1.6970,2,  34.6476,2,  34.6477,2,    120.4,2,    120.4,2,   153.32,2,    38.14,2,     0.00,2,     2.67,2,   2346.5,2,   2414.5,2,   7.5366,2,    25.00,  -999.00,9,  -999.00,9,   1.6970,2,      127
  49UF20180518,KS1805,  5369,  1,     12,  25246,2,20180524,0013, 24.2487, 160.0500, 5484,   2787.5,   1.6257,   1.6257,2,  34.6574,2,  34.6573,2,    127.2,2,    127.4,2,   153.08,2,    37.70,2,     0.00,2,     2.63,2,   2341.1,2,   2415.6,2,   7.5485,2,    25.00,  -999.00,9,  -999.00,9,   1.6257,2,      120
  49UF20180518,KS1805,  5369,  1,     11,  25245,2,20180524,0013, 24.2487, 160.0500, 5484,   3040.2,   1.5704,   1.5704,2,  34.6654,2,  34.6649,6,    133.6,2,    133.5,2,   152.45,2,    37.27,2,     0.00,2,     2.60,2,   2342.3,2,   2417.2,2,   7.5598,2,    25.00,  -999.00,9,  -999.00,9,   1.5704,2,      114
  49UF20180518,KS1805,  5369,  1,     10,  25244,2,20180524,0013, 24.2487, 160.0500, 5484,   3298.4,   1.5286,   1.5283,2,  34.6716,2,  34.6717,2,    139.5,2,    139.9,6,   151.49,6,    36.95,6,     0.00,6,     2.57,6,   2336.1,2,   2415.2,2,   7.5710,2,    25.00,  -999.00,9,  -999.00,9,   1.5283,2,      108
  49UF20180518,KS1805,  5369,  1,      9,  25243,2,20180524,0013, 24.2487, 160.0500, 5484,   3552.9,   1.4894,   1.4893,2,  34.6776,2,  34.6754,2,    145.5,2,    145.5,2,   149.48,2,    36.48,2,     0.00,2,     2.54,2,   2332.5,2,   2414.6,6,   7.5763,2,    25.00,  -999.00,9,  -999.00,9,   1.4893,2,      102
  49UF20180518,KS1805,  5369,  1,      8,  25242,2,20180524,0013, 24.2487, 160.0500, 5484,   3810.5,   1.4681,   1.4680,2,  34.6820,2,  34.6810,2,    150.7,2,    150.9,2,   148.20,2,    36.11,2,     0.00,2,     2.52,2,   2327.6,2,   2413.8,2,   7.5861,6,    25.00,  -999.00,9,  -999.00,9,   1.4680,2,       56
  49UF20180518,KS1805,  5369,  1,      7,  25241,2,20180524,0013, 24.2487, 160.0500, 5484,   4065.5,   1.4577,   1.4575,2,  34.6855,2,  34.6844,2,    155.1,2,    155.2,2,   146.59,2,    35.80,2,     0.00,2,     2.49,2,   2326.5,2,   2413.1,2,   7.5922,2,    25.00,  -999.00,9,  -999.00,9,   1.4575,2,       50
  49UF20180518,KS1805,  5369,  1,      6,  25240,2,20180524,0013, 24.2487, 160.0500, 5484,   4322.4,   1.4548,   1.4548,2,  34.6884,2,  34.6871,2,    159.1,2,    159.6,2,   144.94,2,    35.58,2,     0.00,2,     2.47,2,   2319.3,2,   2411.4,2,   7.5973,2,    25.00,  -999.00,9,  -999.00,9,   1.4548,2,       44
  49UF20180518,KS1805,  5369,  1,      5,  25239,2,20180524,0013, 24.2487, 160.0500, 5484,   4579.0,   1.4577,   1.4576,2,  34.6909,2,  34.6880,2,    162.8,2,    162.4,2,   142.90,2,    35.31,2,     0.00,2,     2.45,2,   2317.7,6,   2411.1,2,   7.6012,2,    25.00,  -999.00,9,  -999.00,9,   1.4576,2,       38
  49UF20180518,KS1805,  5369,  1,      4,  25238,2,20180524,0013, 24.2487, 160.0500, 5484,   4836.0,   1.4669,   1.4668,2,  34.6928,2,  34.6914,2,    166.3,2,    166.6,2,   140.54,2,    35.01,2,     0.00,2,     2.43,2,   2313.8,2,   2408.3,2,   7.6076,6,    25.00,  -999.00,9,  -999.00,9,   1.4668,2,       32
  49UF20180518,KS1805,  5369,  1,      3,  24271,2,20180524,0013, 24.2487, 160.0500, 5484,   5092.5,   1.4891,   1.4889,2,  34.6939,2,  34.6941,6,    167.9,2,    168.2,2,   139.37,2,    35.03,2,     0.00,2,     2.42,2,   2315.7,2,   2407.1,2,   7.6089,2,    25.00,  -999.00,9,  -999.00,9,   1.4889,2,       26
  49UF20180518,KS1805,  5369,  1,      2,  25236,2,20180524,0013, 24.2487, 160.0500, 5484,   5351.8,   1.5132,   1.5131,2,  34.6948,2,  34.6921,4,    169.4,2,    168.7,6,   138.48,6,    34.89,6,     0.00,6,     2.41,6,   2311.3,2,   2406.0,2,   7.6101,2,    25.00,  -999.00,9,  -999.00,9,   1.5131,2,       20
  49UF20180518,KS1805,  5369,  1,      1,  24272,2,20180524,0013, 24.2487, 160.0500, 5484,   5596.4,   1.5424,   1.5421,2,  34.6952,2,  34.6934,2,    170.1,2,    170.3,2,   138.16,2,    34.82,2,     0.00,2,     2.41,2,   2309.0,2,   2406.3,2,   7.6110,2,    25.00,  -999.00,9,  -999.00,9,   1.5421,2,       14