BOTTLE,20200311PRINUNIVRMK
EXPOCODE,SECT_ID,STNNBR,CASTNO,SAMPNO,BTLNBR,BTLNBR_FLAG_W,DATE,TIME,LATITUDE,LONGITUDE,DEPTH,CTDPRS,CTDTMP,SBE35,SBE35_FLAG_W,CTDSAL,CTDSAL_FLAG_W,SALNTY,SALNTY_FLAG_W,CTDOXY,CTDOXY_FLAG_W,OXYGEN,OXYGEN_FLAG_W,SILCAT,SILCAT_FLAG_W,NITRAT,NITRAT_FLAG_W,NITRIT,NITRIT_FLAG_W,PHSPHT,PHSPHT_FLAG_W,TCARBN,TCARBN_FLAG_W,ALKALI,ALKALI_FLAG_W,PH_TOT,PH_TOT_FLAG_W,PH_TMP,CHLORA,CHLORA_FLAG_W,PPHYTN,PPHYTN_FLAG_W,SBE35,SBE35_FLAG_W,BTL_TIME
,,,,,,,,,,,METERS,DBAR,ITS-90,,,PSS-78,,PSS-78,,UMOL/KG,,UMOL/KG,,UMOL/KG,,UMOL/KG,,UMOL/KG,,UMOL/KG,,UMOL/KG,,UMOL/KG,,,,DEG C,UG/KG,,UG/KG,,,,
  49UF20180518,KS1805,  5371,  1,     99,     99,2,20180525,0200, 24.2478, 155.2232, 5540,      0.0,  27.5221,-999.0000,9,  35.0706,2,  35.0664,2,    203.6,2,    202.8,2,     1.23,2,     0.00,2,     0.00,2,     0.03,2,   1981.0,2,   2305.4,2,   8.1015,2,    25.00,     0.06,2,     0.01,2,-999.0000,9,      409
  49UF20180518,KS1805,  5371,  1,     36,  25270,2,20180525,0200, 24.2478, 155.2232, 5540,     11.3,  27.1923,  27.1940,2,  35.0591,2,  35.0589,2,    204.2,2,    203.9,2,     1.20,2,     0.00,2,     0.00,2,     0.01,2,   1980.2,2,   2304.6,2,   8.1025,2,    25.00,     0.05,2,     0.01,2,  27.1940,2,      433
  49UF20180518,KS1805,  5371,  1,     35,  25269,2,20180525,0200, 24.2478, 155.2232, 5540,     25.8,  26.6905,  26.6903,2,  35.1532,2,-999.0000,9,    207.4,2,    207.1,2,     1.23,2,     0.00,2,     0.00,2,     0.01,2,   1985.4,2,   2311.3,2,   8.1002,2,    25.00,     0.06,2,     0.01,2,  26.6903,2,      431
  49UF20180518,KS1805,  5371,  1,     34,  25268,2,20180525,0200, 24.2478, 155.2232, 5540,     50.2,  25.2740,  25.2720,2,  35.1175,2,  35.1173,2,    213.8,2,    213.3,2,     1.27,2,     0.00,2,     0.00,2,     0.01,2,   1979.6,2,   2308.5,2,   8.1034,2,    25.00,     0.06,2,     0.01,2,  25.2720,2,      427
  49UF20180518,KS1805,  5371,  1,     33,  25267,2,20180525,0200, 24.2478, 155.2232, 5540,     77.6,  24.2284,  24.2295,2,  35.0981,2,-999.0000,9,    213.8,2,    213.3,2,     1.30,2,     0.00,2,     0.00,2,     0.01,2,   1984.8,2,   2305.8,2,   8.0951,2,    25.00,     0.11,2,     0.04,2,  24.2295,2,      425
  49UF20180518,KS1805,  5371,  1,     32,  25266,2,20180525,0200, 24.2478, 155.2232, 5540,    103.9,  23.0505,  23.0501,2,  35.0781,2,  35.0772,2,    213.2,2,    212.5,2,     1.55,2,     0.00,2,     0.00,2,     0.02,2,   2004.4,2,   2305.3,2,   8.0672,2,    25.00,     0.22,2,     0.13,2,  23.0501,2,      424
  49UF20180518,KS1805,  5371,  1,     31,  25265,2,20180525,0200, 24.2478, 155.2232, 5540,    125.9,  21.8672,  21.8678,2,  35.0422,2,-999.0000,9,    215.3,2,    214.3,2,     1.73,2,     0.00,2,     0.00,2,     0.02,2,   2009.8,2,   2304.0,2,   8.0525,2,    25.00,     0.27,2,     0.31,2,  21.8678,2,      422
  49UF20180518,KS1805,  5371,  1,     30,  25264,2,20180525,0200, 24.2478, 155.2232, 5540,    152.5,  21.1257,  21.1228,2,  35.0099,2,  35.0097,2,    217.5,2,    217.0,2,     1.85,2,    -0.03,2,     0.03,2,     0.04,2,   2012.1,2,   2302.1,2,   8.0422,2,    25.00,     0.21,2,     0.41,2,  21.1228,2,      421
  49UF20180518,KS1805,  5371,  1,     29,  25263,2,20180525,0200, 24.2478, 155.2232, 5540,    201.6,  19.0650,  19.0638,2,  34.8941,2,-999.0000,9,    214.4,2,    214.2,2,     2.56,2,     1.20,2,     0.07,2,     0.12,2,   2031.1,2,   2292.8,2,   7.9991,2,    25.00,     0.06,2,     0.16,2,  19.0638,2,      418
  49UF20180518,KS1805,  5371,  1,     28,  25262,2,20180525,0200, 24.2478, 155.2232, 5540,    253.5,  17.5574,  17.5598,2,  34.8084,2,  34.8085,2,    204.9,2,    204.7,2,     3.91,2,     4.16,2,     0.01,2,     0.30,2,   2047.6,2,   2286.2,2,   7.9573,2,    25.00,  -999.00,9,  -999.00,9,  17.5598,2,      416
  49UF20180518,KS1805,  5371,  1,     27,  25261,2,20180525,0200, 24.2478, 155.2232, 5540,    301.5,  16.5997,  16.5994,2,  34.7380,2,-999.0000,9,    209.2,2,    209.3,2,     5.11,2,     5.33,2,     0.01,2,     0.37,2,   2051.4,2,   2283.4,2,   7.9409,2,    25.00,  -999.00,9,  -999.00,9,  16.5994,2,      414
  49UF20180518,KS1805,  5371,  1,     26,  25260,2,20180525,0200, 24.2478, 155.2232, 5540,    403.1,  14.4228,  14.4236,2,  34.5074,2,  34.5051,2,    196.9,2,    198.0,2,     9.80,2,     9.40,2,     0.00,2,     0.65,2,   2081.7,2,   2274.9,2,   7.8693,2,    25.00,  -999.00,9,  -999.00,9,  14.4236,2,      411
  49UF20180518,KS1805,  5371,  1,     25,  25259,2,20180525,0200, 24.2478, 155.2232, 5540,    505.6,  10.8820,  10.8824,2,  34.2302,2,-999.0000,9,    184.7,2,    185.3,6,    20.85,6,    16.49,6,     0.00,6,     1.17,6,   2124.3,2,   2270.8,2,   7.7549,2,    25.00,  -999.00,9,  -999.00,9,  10.8824,2,      408
  49UF20180518,KS1805,  5371,  1,     24,  25258,2,20180525,0200, 24.2478, 155.2232, 5540,    607.1,   8.0690,   8.0686,2,  34.0971,2,  34.0997,2,    143.4,2,    143.6,2,    41.30,2,    25.54,2,     0.00,2,     1.83,2,   2189.8,6,   2278.4,6,   7.6126,2,    25.00,  -999.00,9,  -999.00,9,   8.0686,2,      405
  49UF20180518,KS1805,  5371,  1,     23,  25257,2,20180525,0200, 24.2478, 155.2232, 5540,    707.0,   6.2630,   6.2636,2,  34.1072,2,-999.0000,9,     92.5,2,     92.4,2,    65.28,2,    33.69,2,     0.00,2,     2.43,2,   2253.2,2,   2299.4,2,   7.4808,6,    25.00,  -999.00,9,  -999.00,9,   6.2636,2,      402
  49UF20180518,KS1805,  5371,  1,     22,  24473,2,20180525,0200, 24.2478, 155.2232, 5540,    807.6,   5.0023,   5.0023,2,  34.1837,2,  34.1844,2,     58.8,2,     58.6,2,    88.74,2,    38.71,2,     0.00,2,     2.80,2,   2302.6,2,   2323.0,2,   7.4039,3,    25.00,  -999.00,9,  -999.00,9,   5.0023,2,      359
  49UF20180518,KS1805,  5371,  1,     21,  25255,2,20180525,0200, 24.2478, 155.2232, 5540,    910.9,   4.4903,   4.4904,2,  34.2616,2,-999.0000,9,     46.0,2,     46.6,2,    99.75,2,    40.55,2,     0.00,2,     2.92,2,   2322.0,2,   2338.5,2,   7.3855,2,    25.00,  -999.00,9,  -999.00,9,   4.4904,2,      356
  49UF20180518,KS1805,  5371,  1,     20,  24270,3,20180525,0200, 24.2478, 155.2232, 5540,   1012.1,   4.0116,   4.0116,2,  34.3443,2,  34.3419,2,     43.7,2,     43.7,2,   112.83,2,    41.49,2,     0.00,2,     2.99,2,   2339.2,2,   2354.8,2,   7.3858,2,    25.00,  -999.00,9,  -999.00,9,   4.0116,2,      353
  49UF20180518,KS1805,  5371,  1,     19,  25253,2,20180525,0200, 24.2478, 155.2232, 5540,   1213.5,   3.3487,   3.3485,2,  34.4628,2,-999.0000,9,     56.1,2,     56.6,2,   128.17,2,    41.26,2,     0.00,2,     2.95,2,   2351.8,2,   2377.4,2,   7.4167,2,    25.00,  -999.00,9,  -999.00,9,   3.3485,2,      349
  49UF20180518,KS1805,  5371,  1,     18,  25252,2,20180525,0200, 24.2478, 155.2232, 5540,   1415.7,   2.8439,   2.8440,2,  34.5217,2,  34.5232,2,     69.8,2,     69.8,2,   138.04,2,    40.78,2,     0.00,2,     2.90,2,   2352.1,2,   2390.5,2,   7.4436,2,    25.00,  -999.00,9,  -999.00,9,   2.8440,2,      344
  49UF20180518,KS1805,  5371,  1,     17,  25251,2,20180525,0200, 24.2478, 155.2232, 5540,   1618.2,   2.4667,   2.4666,2,  34.5583,2,-999.0000,9,     81.6,2,     81.7,6,   144.39,6,    40.29,6,     0.00,6,     2.85,6,   2355.0,2,   2400.1,2,   7.4674,2,    25.00,  -999.00,9,  -999.00,9,   2.4666,2,      339
  49UF20180518,KS1805,  5371,  1,     16,  25250,2,20180525,0200, 24.2478, 155.2232, 5540,   1821.1,   2.2129,   2.2129,2,  34.5848,2,  34.5842,2,     89.8,2,     90.2,2,   148.60,2,    39.87,2,     0.00,2,     2.82,2,   2356.9,6,   2403.5,6,   7.4781,2,    25.00,  -999.00,9,  -999.00,9,   2.2129,2,      334
  49UF20180518,KS1805,  5371,  1,     15,  25249,2,20180525,0200, 24.2478, 155.2232, 5540,   2024.4,   1.9729,   1.9730,2,  34.6091,2,-999.0000,9,     96.9,2,     96.8,2,   153.48,2,    39.60,2,     0.00,2,     2.79,2,   2355.2,2,   2409.6,2,   7.4925,6,    25.00,  -999.00,9,  -999.00,9,   1.9730,2,      329
  49UF20180518,KS1805,  5371,  1,     14,  25248,2,20180525,0200, 24.2478, 155.2232, 5540,   2278.9,   1.7918,   1.7918,2,  34.6323,2,  34.6319,2,    109.7,2,    110.0,2,   154.46,2,    38.80,2,     0.00,2,     2.72,2,   2354.5,2,   2412.8,2,   7.5151,2,    25.00,  -999.00,9,  -999.00,9,   1.7918,2,      324
  49UF20180518,KS1805,  5371,  1,     13,  25247,2,20180525,0200, 24.2478, 155.2232, 5540,   2531.8,   1.6891,   1.6891,2,  34.6466,2,-999.0000,9,    119.1,2,    118.8,2,   154.37,2,    38.29,2,     0.00,2,     2.68,2,   2348.7,2,   2414.5,2,   7.5337,2,    25.00,  -999.00,9,  -999.00,9,   1.6891,2,      318
  49UF20180518,KS1805,  5371,  1,     12,  25246,2,20180525,0200, 24.2478, 155.2232, 5540,   2786.0,   1.6147,   1.6147,2,  34.6576,2,  34.6576,2,    127.4,2,    127.5,2,   153.51,2,    37.66,2,     0.00,2,     2.63,2,   2344.3,2,   2416.0,2,   7.5508,2,    25.00,  -999.00,9,  -999.00,9,   1.6147,2,      312
  49UF20180518,KS1805,  5371,  1,     11,  25245,2,20180525,0200, 24.2478, 155.2232, 5540,   3040.6,   1.5614,   1.5614,2,  34.6657,2,  34.6647,2,    134.0,2,    134.2,6,   152.69,6,    37.25,6,     0.00,6,     2.61,6,   2337.3,2,   2416.4,2,   7.5578,2,    25.00,  -999.00,9,  -999.00,9,   1.5614,2,      306
  49UF20180518,KS1805,  5371,  1,     10,  25244,2,20180525,0200, 24.2478, 155.2232, 5540,   3294.9,   1.5263,   1.5263,2,  34.6717,2,  34.6713,2,    139.6,2,    139.7,2,   151.69,2,    36.83,2,     0.00,2,     2.57,2,   2337.2,6,   2416.2,6,   7.5681,2,    25.00,  -999.00,9,  -999.00,9,   1.5263,2,      257
  49UF20180518,KS1805,  5371,  1,      9,  25243,2,20180525,0200, 24.2478, 155.2232, 5540,   3551.7,   1.4922,   1.4921,2,  34.6773,2,  34.6768,2,    145.2,2,    145.3,2,   150.38,2,    36.54,2,     0.00,2,     2.55,2,   2331.1,2,   2414.8,2,   7.5766,6,    25.00,  -999.00,9,  -999.00,9,   1.4921,2,      251
  49UF20180518,KS1805,  5371,  1,      8,  25242,2,20180525,0200, 24.2478, 155.2232, 5540,   3808.6,   1.4707,   1.4706,2,  34.6818,2,  34.6809,2,    150.2,2,    150.4,2,   149.00,2,    36.14,2,     0.00,2,     2.52,2,   2325.6,2,   2414.4,2,   7.5844,2,    25.00,  -999.00,9,  -999.00,9,   1.4706,2,      246
  49UF20180518,KS1805,  5371,  1,      7,  25241,2,20180525,0200, 24.2478, 155.2232, 5540,   4064.6,   1.4618,   1.4616,2,  34.6852,2,  34.6830,2,    154.5,2,    153.2,3,   147.56,2,    35.99,2,     0.00,2,     2.50,2,   2326.7,2,   2414.0,2,   7.5901,2,    25.00,  -999.00,9,  -999.00,9,   1.4616,2,      240
  49UF20180518,KS1805,  5371,  1,      6,  25240,2,20180525,0200, 24.2478, 155.2232, 5540,   4321.0,   1.4581,   1.4579,2,  34.6881,2,  34.6872,6,    158.5,2,    158.6,2,   145.84,2,    35.64,2,     0.00,2,     2.48,2,   2320.7,2,   2411.3,2,   7.5964,2,    25.00,  -999.00,9,  -999.00,9,   1.4579,2,      234
  49UF20180518,KS1805,  5371,  1,      5,  25239,2,20180525,0200, 24.2478, 155.2232, 5540,   4577.6,   1.4654,   1.4653,2,  34.6902,2,  34.6877,2,    161.6,2,    160.9,2,   144.73,2,    35.47,2,     0.00,2,     2.46,2,   2321.0,6,   2410.0,6,   7.5979,2,    25.00,  -999.00,9,  -999.00,9,   1.4653,2,      228
  49UF20180518,KS1805,  5371,  1,      4,  25238,2,20180525,0200, 24.2478, 155.2232, 5540,   4836.0,   1.4814,   1.4815,2,  34.6916,2,  34.6904,2,    163.9,2,    164.2,2,   142.88,2,    35.21,2,     0.00,2,     2.45,2,   2318.0,2,   2408.5,2,   7.6037,6,    25.00,  -999.00,9,  -999.00,9,   1.4815,2,      223
  49UF20180518,KS1805,  5371,  1,      3,  24271,2,20180525,0200, 24.2478, 155.2232, 5540,   5092.5,   1.4983,   1.4983,2,  34.6932,2,  34.6936,2,    166.4,2,    166.7,6,   140.67,6,    35.03,6,     0.00,6,     2.43,6,   2319.5,3,   2408.5,2,   7.6079,2,    25.00,  -999.00,9,  -999.00,9,   1.4983,2,      217
  49UF20180518,KS1805,  5371,  1,      2,  25236,2,20180525,0200, 24.2478, 155.2232, 5540,   5350.3,   1.5195,   1.5194,2,  34.6944,2,  34.6935,6,    168.5,2,    168.7,2,   139.32,2,    34.90,2,     0.00,2,     2.42,2,   2310.0,2,   2406.9,2,   7.6085,2,    25.00,  -999.00,9,  -999.00,9,   1.5194,2,      211
  49UF20180518,KS1805,  5371,  1,      1,  24272,2,20180525,0200, 24.2478, 155.2232, 5540,   5658.0,   1.5496,   1.5494,2,  34.6955,2,  34.6989,4,    170.6,2,    170.3,2,   137.94,2,    34.76,2,     0.00,2,     2.41,2,   2312.1,2,   2405.9,2,   7.6094,2,    25.00,  -999.00,9,  -999.00,9,   1.5494,2,      201
  49UF20180518,KS1805,  5372,  1,     99,     99,2,20180525,1310, 24.2475, 153.5442, 5380,      0.0,  27.6341,-999.0000,9,  34.8841,2,-999.0000,9,    202.2,2,    201.4,2,     1.20,2,     0.00,2,     0.00,2,     0.03,2,   -999.0,9,   -999.0,9,-999.0000,9,  -999.00,  -999.00,9,  -999.00,9,-999.0000,9,     1407
  49UF20180518,KS1805,  5372,  1,     36,  25270,2,20180525,1310, 24.2475, 153.5442, 5380,     11.1,  27.5322,  27.5320,2,  34.8751,2,-999.0000,9,    202.7,2,    202.9,2,     1.18,2,     0.00,2,     0.00,2,     0.01,2,   -999.0,9,   -999.0,9,-999.0000,9,  -999.00,  -999.00,9,  -999.00,9,  27.5320,2,     1420
  49UF20180518,KS1805,  5372,  1,     35,  25269,2,20180525,1310, 24.2475, 153.5442, 5380,     25.1,  26.9931,  26.9872,2,  34.9455,2,-999.0000,9,    204.4,2,    205.0,2,     1.18,2,     0.00,2,     0.00,2,     0.00,2,   -999.0,9,   -999.0,9,-999.0000,9,  -999.00,  -999.00,9,  -999.00,9,  26.9872,2,     1418
  49UF20180518,KS1805,  5372,  1,     34,  25268,2,20180525,1310, 24.2475, 153.5442, 5380,     50.1,  24.8456,  24.8601,2,  35.0320,2,-999.0000,9,    215.3,2,    215.5,2,     1.28,2,     0.00,2,     0.00,2,     0.00,2,   -999.0,9,   -999.0,9,-999.0000,9,  -999.00,  -999.00,9,  -999.00,9,  24.8601,2,     1413
  49UF20180518,KS1805,  5372,  1,     30,  25264,2,20180525,1310, 24.2475, 153.5442, 5380,     76.6,  23.2179,  23.2298,2,  35.0322,2,-999.0000,9,    217.3,2,    217.4,2,     1.45,2,     0.00,2,     0.00,2,     0.01,2,   -999.0,9,   -999.0,9,-999.0000,9,  -999.00,  -999.00,9,  -999.00,9,  23.2298,2,     1411
  49UF20180518,KS1805,  5372,  1,     29,  25263,2,20180525,1310, 24.2475, 153.5442, 5380,    104.4,  20.8719,  20.8766,2,  35.0151,2,-999.0000,9,    214.2,2,    216.9,2,     1.93,2,     0.08,2,     0.03,2,     0.04,2,   -999.0,9,   -999.0,9,-999.0000,9,  -999.00,  -999.00,9,  -999.00,9,  20.8766,2,     1410
  49UF20180518,KS1805,  5372,  1,     28,  25262,2,20180525,1310, 24.2475, 153.5442, 5380,    126.5,  19.9033,  19.9033,2,  34.9389,2,-999.0000,9,    216.7,2,    218.1,2,     2.17,2,     0.14,2,     0.08,2,     0.06,2,   -999.0,9,   -999.0,9,-999.0000,9,  -999.00,  -999.00,9,  -999.00,9,  19.9033,2,     1409
  49UF20180518,KS1805,  5372,  1,     27,  25261,2,20180525,1310, 24.2475, 153.5442, 5380,    151.6,  18.9210,  18.9212,2,  34.8913,2,-999.0000,9,    208.0,2,    209.4,2,     2.62,2,     1.47,2,     0.08,2,     0.14,2,   -999.0,9,   -999.0,9,-999.0000,9,  -999.00,  -999.00,9,  -999.00,9,  18.9212,2,     1407
  49UF20180518,KS1805,  5372,  1,     26,  25260,3,20180525,1310, 24.2475, 153.5442, 5380,    203.3,  17.4476,  17.4470,2,  34.7991,2,-999.0000,9,    203.0,2,    203.4,2,     3.98,2,     4.40,2,     0.01,2,     0.30,2,   -999.0,9,   -999.0,9,-999.0000,9,  -999.00,  -999.00,9,  -999.00,9,  17.4470,2,     1405
  49UF20180518,KS1805,  5372,  1,     25,  25259,2,20180525,1310, 24.2475, 153.5442, 5380,    254.5,  16.5968,  16.5980,2,  34.7322,2,-999.0000,9,    206.6,2,    207.0,2,     5.14,2,     5.50,2,     0.01,2,     0.37,2,   -999.0,9,   -999.0,9,-999.0000,9,  -999.00,  -999.00,9,  -999.00,9,  16.5980,2,     1403
  49UF20180518,KS1805,  5372,  1,     21,  25255,2,20180525,1310, 24.2475, 153.5442, 5380,    305.7,  15.6130,  15.6152,2,  34.6226,2,-999.0000,9,    199.7,2,    201.2,2,     7.07,2,     7.20,2,     0.00,2,     0.49,2,   -999.0,9,   -999.0,9,-999.0000,9,  -999.00,  -999.00,9,  -999.00,9,  15.6152,2,     1401
  49UF20180518,KS1805,  5372,  1,     20,  24270,3,20180525,1310, 24.2475, 153.5442, 5380,    405.1,  13.2764,  13.2758,2,  34.4097,2,-999.0000,9,    196.6,2,    197.2,2,    12.24,2,    11.15,2,     0.00,2,     0.78,2,   -999.0,9,   -999.0,9,-999.0000,9,  -999.00,  -999.00,9,  -999.00,9,  13.2758,2,     1357
  49UF20180518,KS1805,  5372,  1,     19,  25253,2,20180525,1310, 24.2475, 153.5442, 5380,    507.7,  10.5378,  10.5365,2,  34.2261,2,-999.0000,9,    185.8,2,    186.2,2,    24.58,2,    17.19,2,     0.00,2,     1.22,2,   -999.0,9,   -999.0,9,-999.0000,9,  -999.00,  -999.00,9,  -999.00,9,  10.5365,2,     1354
  49UF20180518,KS1805,  5372,  1,     18,  25252,2,20180525,1310, 24.2475, 153.5442, 5380,    608.2,   7.6416,   7.6345,2,  34.0836,2,-999.0000,9,    141.6,2,    141.6,6,    46.45,6,    26.62,6,     0.00,6,     1.91,6,   -999.0,9,   -999.0,9,-999.0000,9,  -999.00,  -999.00,9,  -999.00,9,   7.6345,2,     1350
  49UF20180518,KS1805,  5372,  1,     16,  25250,2,20180525,1310, 24.2475, 153.5442, 5380,    711.1,   5.9672,   5.9684,2,  34.0881,2,-999.0000,9,     99.6,2,     99.8,2,    68.89,2,    33.50,2,     0.00,2,     2.41,2,   -999.0,9,   -999.0,9,-999.0000,9,  -999.00,  -999.00,9,  -999.00,9,   5.9684,2,     1347
  49UF20180518,KS1805,  5372,  1,     17,  25251,2,20180525,1310, 24.2475, 153.5442, 5380,    711.2,   5.9640,   5.9631,2,  34.0880,2,-999.0000,9,     99.3,2,     99.4,2,    69.03,2,    33.46,2,     0.00,2,     2.41,2,   -999.0,9,   -999.0,9,-999.0000,9,  -999.00,  -999.00,9,  -999.00,9,   5.9631,2,     1347
  49UF20180518,KS1805,  5372,  1,     12,  25246,2,20180525,1310, 24.2475, 153.5442, 5380,    810.4,   4.9564,   4.9552,2,  34.1569,2,-999.0000,9,     67.4,2,     68.3,2,    88.93,2,    38.14,2,     0.00,2,     2.74,2,   -999.0,9,   -999.0,9,-999.0000,9,  -999.00,  -999.00,9,  -999.00,9,   4.9552,2,     1343
  49UF20180518,KS1805,  5372,  1,     11,  25245,2,20180525,1310, 24.2475, 153.5442, 5380,    911.8,   4.2788,   4.2788,2,  34.2717,2,-999.0000,9,     47.9,2,     47.9,2,   106.13,2,    40.71,2,     0.00,2,     2.92,2,   -999.0,9,   -999.0,9,-999.0000,9,  -999.00,  -999.00,9,  -999.00,9,   4.2788,2,     1340
  49UF20180518,KS1805,  5372,  1,     10,  25244,2,20180525,1310, 24.2475, 153.5442, 5380,   1012.0,   3.7972,   3.7975,2,  34.3597,2,-999.0000,9,     44.2,2,     45.0,2,   118.81,2,    41.65,2,     0.00,2,     2.99,2,   -999.0,9,   -999.0,9,-999.0000,9,  -999.00,  -999.00,9,  -999.00,9,   3.7975,2,     1337
  49UF20180518,KS1805,  5372,  1,      9,  25243,2,20180525,1310, 24.2475, 153.5442, 5380,   1214.7,   3.1175,   3.1175,2,  34.4533,2,-999.0000,9,     49.0,2,     48.5,2,   136.00,2,    42.17,2,     0.00,2,     3.00,2,   -999.0,9,   -999.0,9,-999.0000,9,  -999.00,  -999.00,9,  -999.00,9,   3.1175,2,     1332
  49UF20180518,KS1805,  5372,  1,      8,  25242,2,20180525,1310, 24.2475, 153.5442, 5380,   1415.5,   2.6922,   2.6923,2,  34.5165,2,-999.0000,9,     63.9,2,     64.0,2,   143.77,2,    41.45,2,     0.00,2,     2.93,2,   -999.0,9,   -999.0,9,-999.0000,9,  -999.00,  -999.00,9,  -999.00,9,   2.6923,2,     1327
  49UF20180518,KS1805,  5372,  1,      7,  25241,2,20180525,1310, 24.2475, 153.5442, 5380,   1616.7,   2.2877,   2.2876,2,  34.5656,2,-999.0000,9,     78.4,2,     78.7,2,   150.55,2,    40.67,2,     0.00,2,     2.87,2,   -999.0,9,   -999.0,9,-999.0000,9,  -999.00,  -999.00,9,  -999.00,9,   2.2876,2,     1322
  49UF20180518,KS1805,  5372,  1,      3,  24271,2,20180525,1310, 24.2475, 153.5442, 5380,   1819.6,   2.0379,   2.0380,2,  34.5956,2,-999.0000,9,     89.4,2,     89.5,6,   154.37,6,    40.10,6,     0.00,6,     2.83,6,   -999.0,9,   -999.0,9,-999.0000,9,  -999.00,  -999.00,9,  -999.00,9,   2.0380,2,     1317
  49UF20180518,KS1805,  5372,  1,      2,  25236,2,20180525,1310, 24.2475, 153.5442, 5380,   2021.2,   1.9059,   1.9058,2,  34.6162,2,-999.0000,9,    102.3,2,    102.4,2,   153.59,2,    39.34,2,     0.00,2,     2.76,2,   -999.0,9,   -999.0,9,-999.0000,9,  -999.00,  -999.00,9,  -999.00,9,   1.9058,2,     1312
  49UF20180518,KS1805,  5372,  1,      1,  24272,2,20180525,1310, 24.2475, 153.5442, 5380,   2021.5,   1.9048,   1.9049,2,  34.6168,2,-999.0000,9,    102.6,2,    102.3,2,   153.41,2,    39.29,2,     0.00,2,     2.76,2,   -999.0,9,   -999.0,9,-999.0000,9,  -999.00,  -999.00,9,  -999.00,9,   1.9049,2,     1312