BOTTLE,20200311PRINUNIVRMK
EXPOCODE,SECT_ID,STNNBR,CASTNO,SAMPNO,BTLNBR,BTLNBR_FLAG_W,DATE,TIME,LATITUDE,LONGITUDE,DEPTH,CTDPRS,CTDTMP,SBE35,SBE35_FLAG_W,CTDSAL,CTDSAL_FLAG_W,SALNTY,SALNTY_FLAG_W,CTDOXY,CTDOXY_FLAG_W,OXYGEN,OXYGEN_FLAG_W,SILCAT,SILCAT_FLAG_W,NITRAT,NITRAT_FLAG_W,NITRIT,NITRIT_FLAG_W,PHSPHT,PHSPHT_FLAG_W,TCARBN,TCARBN_FLAG_W,ALKALI,ALKALI_FLAG_W,PH_TOT,PH_TOT_FLAG_W,PH_TMP,CHLORA,CHLORA_FLAG_W,PPHYTN,PPHYTN_FLAG_W,SBE35,SBE35_FLAG_W,BTL_TIME
,,,,,,,,,,,METERS,DBAR,ITS-90,,,PSS-78,,PSS-78,,UMOL/KG,,UMOL/KG,,UMOL/KG,,UMOL/KG,,UMOL/KG,,UMOL/KG,,UMOL/KG,,UMOL/KG,,,,DEG C,UG/KG,,UG/KG,,,,
  49UF20180518,KS1805,  5379,  1,     99,     99,2,20180528,0601, 24.2472, 143.6275, 8437,      0.0,  28.5840,-999.0000,9,  34.8284,2,-999.0000,9,    200.3,2,    199.2,2,     1.24,2,     0.00,2,     0.00,2,     0.03,2,   -999.0,9,   -999.0,9,-999.0000,9,  -999.00,  -999.00,9,  -999.00,9,-999.0000,9,      642
  49UF20180518,KS1805,  5379,  1,     33,  25267,2,20180528,0601, 24.2472, 143.6275, 8437,     10.7,  28.1264,  28.1478,2,  34.8247,2,-999.0000,9,    200.6,2,    201.5,2,     1.20,2,     0.00,2,     0.00,2,     0.01,2,   -999.0,9,   -999.0,9,-999.0000,9,  -999.00,  -999.00,9,  -999.00,9,  28.1478,2,      711
  49UF20180518,KS1805,  5379,  1,     32,  25266,2,20180528,0601, 24.2472, 143.6275, 8437,     25.8,  25.5878,  25.5797,2,  34.9067,2,-999.0000,9,    214.1,2,    213.3,2,     1.24,2,     0.00,2,     0.00,2,     0.01,2,   -999.0,9,   -999.0,9,-999.0000,9,  -999.00,  -999.00,9,  -999.00,9,  25.5797,2,      710
  49UF20180518,KS1805,  5379,  1,     31,  25265,2,20180528,0601, 24.2472, 143.6275, 8437,     51.1,  24.5558,  24.5557,2,  34.9037,2,-999.0000,9,    216.2,2,    216.0,2,     1.26,2,     0.00,2,     0.00,2,     0.01,2,   -999.0,9,   -999.0,9,-999.0000,9,  -999.00,  -999.00,9,  -999.00,9,  24.5557,2,      705
  49UF20180518,KS1805,  5379,  1,     30,  25264,2,20180528,0601, 24.2472, 143.6275, 8437,     75.8,  23.9709,  23.9681,2,  34.9379,2,-999.0000,9,    215.4,2,    215.3,2,     1.33,2,     0.00,2,     0.00,2,     0.00,2,   -999.0,9,   -999.0,9,-999.0000,9,  -999.00,  -999.00,9,  -999.00,9,  23.9681,2,      704
  49UF20180518,KS1805,  5379,  1,     29,  25263,2,20180528,0601, 24.2472, 143.6275, 8437,    101.2,  22.8837,  22.8886,2,  34.9823,2,-999.0000,9,    210.6,2,    210.7,2,     1.49,2,     0.00,2,     0.00,2,     0.01,2,   -999.0,9,   -999.0,9,-999.0000,9,  -999.00,  -999.00,9,  -999.00,9,  22.8886,2,      702
  49UF20180518,KS1805,  5379,  1,     28,  25262,2,20180528,0601, 24.2472, 143.6275, 8437,    126.8,  21.9378,  21.9361,2,  34.9903,2,-999.0000,9,    207.7,2,    207.7,2,     1.71,2,     0.15,2,     0.04,2,     0.04,2,   -999.0,9,   -999.0,9,-999.0000,9,  -999.00,  -999.00,9,  -999.00,9,  21.9361,2,      701
  49UF20180518,KS1805,  5379,  1,     24,  25258,2,20180528,0601, 24.2472, 143.6275, 8437,    153.9,  20.8179,  20.8175,2,  35.0075,2,-999.0000,9,    218.7,2,    218.2,2,     1.77,2,     0.09,2,     0.21,2,     0.03,2,   -999.0,9,   -999.0,9,-999.0000,9,  -999.00,  -999.00,9,  -999.00,9,  20.8175,2,      659
  49UF20180518,KS1805,  5379,  1,     23,  25257,2,20180528,0601, 24.2472, 143.6275, 8437,    204.3,  19.7843,  19.7916,2,  34.9338,2,-999.0000,9,    214.6,2,    214.6,2,     2.24,2,     1.08,2,     0.02,2,     0.09,2,   -999.0,9,   -999.0,9,-999.0000,9,  -999.00,  -999.00,9,  -999.00,9,  19.7916,2,      657
  49UF20180518,KS1805,  5379,  1,     22,  24473,2,20180528,0601, 24.2472, 143.6275, 8437,    254.4,  17.9410,  17.9406,2,  34.8420,2,-999.0000,9,    205.8,2,    205.5,2,     3.38,2,     3.53,2,     0.01,2,     0.25,2,   -999.0,9,   -999.0,9,-999.0000,9,  -999.00,  -999.00,9,  -999.00,9,  17.9406,2,      655
  49UF20180518,KS1805,  5379,  1,     21,  25255,2,20180528,0601, 24.2472, 143.6275, 8437,    304.1,  17.0884,  17.0891,2,  34.7999,2,-999.0000,9,    219.9,2,    219.5,2,     3.75,2,     3.64,2,     0.01,2,     0.25,2,   -999.0,9,   -999.0,9,-999.0000,9,  -999.00,  -999.00,9,  -999.00,9,  17.0891,2,      653
  49UF20180518,KS1805,  5379,  1,     20,  24270,2,20180528,0601, 24.2472, 143.6275, 8437,    404.6,  16.0239,  16.0237,2,  34.6731,2,-999.0000,9,    203.7,2,    203.8,2,     6.59,2,     6.73,2,     0.01,2,     0.46,2,   -999.0,9,   -999.0,9,-999.0000,9,  -999.00,  -999.00,9,  -999.00,9,  16.0237,2,      650
  49UF20180518,KS1805,  5379,  1,     19,  25253,2,20180528,0601, 24.2472, 143.6275, 8437,    504.4,  12.4044,  12.3978,2,  34.3499,2,-999.0000,9,    188.4,2,    188.7,2,    16.48,2,    13.75,2,     0.00,2,     0.97,2,   -999.0,9,   -999.0,9,-999.0000,9,  -999.00,  -999.00,9,  -999.00,9,  12.3978,2,      647
  49UF20180518,KS1805,  5379,  1,     15,  25249,2,20180528,0601, 24.2472, 143.6275, 8437,    608.5,   9.7959,   9.7964,2,  34.1854,2,-999.0000,9,    166.2,2,    166.3,6,    29.33,6,    20.38,6,     0.00,6,     1.46,6,   -999.0,9,   -999.0,9,-999.0000,9,  -999.00,  -999.00,9,  -999.00,9,   9.7964,2,      644
  49UF20180518,KS1805,  5379,  1,     14,  25248,2,20180528,0601, 24.2472, 143.6275, 8437,    706.2,   6.7219,   6.7220,2,  34.0920,2,-999.0000,9,    117.2,2,    116.7,2,    58.98,2,    30.59,2,     0.00,2,     2.21,2,   -999.0,9,   -999.0,9,-999.0000,9,  -999.00,  -999.00,9,  -999.00,9,   6.7220,2,      641
  49UF20180518,KS1805,  5379,  1,     13,  25247,2,20180528,0601, 24.2472, 143.6275, 8437,    706.4,   6.7197,   6.7199,2,  34.0915,2,-999.0000,9,    117.2,2,    116.6,2,    59.06,2,    30.60,2,     0.00,2,     2.21,2,   -999.0,9,   -999.0,9,-999.0000,9,  -999.00,  -999.00,9,  -999.00,9,   6.7199,2,      641
  49UF20180518,KS1805,  5379,  1,     12,  25246,2,20180528,0601, 24.2472, 143.6275, 8437,    809.4,   5.4038,   5.4040,2,  34.1260,2,-999.0000,9,     83.0,2,     83.2,2,    79.69,2,    35.86,2,     0.00,2,     2.60,2,   -999.0,9,   -999.0,9,-999.0000,9,  -999.00,  -999.00,9,  -999.00,9,   5.4040,2,      638
  49UF20180518,KS1805,  5379,  1,     11,  25245,2,20180528,0601, 24.2472, 143.6275, 8437,    908.8,   4.6645,   4.6647,2,  34.2047,2,-999.0000,9,     59.9,2,     59.5,2,    96.38,2,    39.10,2,     0.00,2,     2.82,2,   -999.0,9,   -999.0,9,-999.0000,9,  -999.00,  -999.00,9,  -999.00,9,   4.6647,2,      635
  49UF20180518,KS1805,  5379,  1,     10,  25244,2,20180528,0601, 24.2472, 143.6275, 8437,   1009.3,   4.0411,   4.0379,2,  34.3201,2,-999.0000,9,     50.3,2,     50.2,2,   112.74,2,    40.81,2,     0.00,2,     2.94,2,   -999.0,9,   -999.0,9,-999.0000,9,  -999.00,  -999.00,9,  -999.00,9,   4.0379,2,      630
  49UF20180518,KS1805,  5379,  1,      6,  25240,2,20180528,0601, 24.2472, 143.6275, 8437,   1213.4,   3.3765,   3.3769,2,  34.4255,2,-999.0000,9,     54.8,2,     55.1,2,   127.93,2,    41.32,2,     0.00,2,     2.95,2,   -999.0,9,   -999.0,9,-999.0000,9,  -999.00,  -999.00,9,  -999.00,9,   3.3769,2,      625
  49UF20180518,KS1805,  5379,  1,      5,  25239,2,20180528,0601, 24.2472, 143.6275, 8437,   1414.9,   2.8172,   2.8181,2,  34.5025,2,-999.0000,9,     66.2,2,     67.0,2,   139.24,2,    40.89,2,     0.00,2,     2.92,2,   -999.0,9,   -999.0,9,-999.0000,9,  -999.00,  -999.00,9,  -999.00,9,   2.8181,2,      620
  49UF20180518,KS1805,  5379,  1,      4,  25238,2,20180528,0601, 24.2472, 143.6275, 8437,   1619.1,   2.4721,   2.4723,2,  34.5492,2,-999.0000,9,     80.7,2,     80.3,2,   144.24,2,    40.22,2,     0.00,2,     2.86,2,   -999.0,9,   -999.0,9,-999.0000,9,  -999.00,  -999.00,9,  -999.00,9,   2.4723,2,      615
  49UF20180518,KS1805,  5379,  1,      3,  24271,2,20180528,0601, 24.2472, 143.6275, 8437,   1823.2,   2.2254,   2.2256,2,  34.5804,2,-999.0000,9,     92.6,2,     92.4,6,   147.26,6,    39.62,6,     0.00,6,     2.81,6,   -999.0,9,   -999.0,9,-999.0000,9,  -999.00,  -999.00,9,  -999.00,9,   2.2256,2,      607
  49UF20180518,KS1805,  5379,  1,      1,  24272,2,20180528,0601, 24.2472, 143.6275, 8437,   2025.0,   2.0283,   2.0283,2,  34.6028,2,-999.0000,9,    101.1,2,    100.8,2,   149.53,2,    39.16,2,     0.00,2,     2.77,2,   -999.0,9,   -999.0,9,-999.0000,9,  -999.00,  -999.00,9,  -999.00,9,   2.0283,2,      602
  49UF20180518,KS1805,  5379,  1,      2,  25236,2,20180528,0601, 24.2472, 143.6275, 8437,   2025.4,   2.0280,   2.0282,2,  34.6028,2,-999.0000,9,    101.1,2,    101.0,2,   149.68,2,    39.14,2,     0.00,2,     2.77,2,   -999.0,9,   -999.0,9,-999.0000,9,  -999.00,  -999.00,9,  -999.00,9,   2.0282,2,      603
  49UF20180518,KS1805,  5380,  1,     99,     99,2,20180528,1347, 24.2503, 142.4542, 2943,      0.0,  28.5041,-999.0000,9,  34.7627,2,-999.0000,9,    198.7,2,    198.7,2,     1.24,2,     0.00,2,     0.00,2,     0.02,2,   -999.0,9,   -999.0,9,-999.0000,9,  -999.00,  -999.00,9,  -999.00,9,-999.0000,9,     1437
  49UF20180518,KS1805,  5380,  1,     33,  25267,2,20180528,1347, 24.2503, 142.4542, 2943,     11.0,  28.5048,  28.5055,2,  34.7618,2,-999.0000,9,    198.7,2,    198.7,2,     1.24,2,     0.00,2,     0.00,2,     0.00,2,   -999.0,9,   -999.0,9,-999.0000,9,  -999.00,  -999.00,9,  -999.00,9,  28.5055,2,     1449
  49UF20180518,KS1805,  5380,  1,     32,  25266,2,20180528,1347, 24.2503, 142.4542, 2943,     25.9,  27.4986,  27.5040,2,  34.8427,2,  34.8438,2,    204.6,2,    205.4,2,     1.25,2,     0.00,2,     0.00,2,     0.00,2,   -999.0,9,   -999.0,9,-999.0000,9,  -999.00,  -999.00,9,  -999.00,9,  27.5040,2,     1448
  49UF20180518,KS1805,  5380,  1,     31,  25265,2,20180528,1347, 24.2503, 142.4542, 2943,     50.2,  25.5853,  25.5856,2,  34.8836,2,-999.0000,9,    214.6,2,    214.4,2,     1.28,2,     0.00,2,     0.00,2,     0.00,2,   -999.0,9,   -999.0,9,-999.0000,9,  -999.00,  -999.00,9,  -999.00,9,  25.5856,2,     1442
  49UF20180518,KS1805,  5380,  1,     30,  25264,2,20180528,1347, 24.2503, 142.4542, 2943,     76.1,  24.5909,  24.5931,2,  34.9333,2,  34.9348,2,    216.7,2,    216.5,2,     1.30,2,     0.00,2,     0.00,2,     0.00,2,   -999.0,9,   -999.0,9,-999.0000,9,  -999.00,  -999.00,9,  -999.00,9,  24.5931,2,     1441
  49UF20180518,KS1805,  5380,  1,     29,  25263,2,20180528,1347, 24.2503, 142.4542, 2943,    101.3,  23.5341,  23.5351,2,  34.9698,2,-999.0000,9,    215.3,2,    214.5,2,     1.46,2,     0.00,2,     0.00,2,     0.00,2,   -999.0,9,   -999.0,9,-999.0000,9,  -999.00,  -999.00,9,  -999.00,9,  23.5351,2,     1440
  49UF20180518,KS1805,  5380,  1,     28,  25262,2,20180528,1347, 24.2503, 142.4542, 2943,    125.7,  21.8994,  21.8962,2,  34.9999,2,  35.0003,2,    208.1,2,    207.6,2,     1.77,2,    -0.05,2,     0.05,2,     0.03,2,   -999.0,9,   -999.0,9,-999.0000,9,  -999.00,  -999.00,9,  -999.00,9,  21.8962,2,     1438
  49UF20180518,KS1805,  5380,  1,     24,  25258,2,20180528,1347, 24.2503, 142.4542, 2943,    150.9,  21.0602,  21.0608,2,  34.9900,2,-999.0000,9,    203.8,2,    203.7,2,     2.05,2,     0.66,2,     0.04,2,     0.07,2,   -999.0,9,   -999.0,9,-999.0000,9,  -999.00,  -999.00,9,  -999.00,9,  21.0608,2,     1437
  49UF20180518,KS1805,  5380,  1,     23,  25257,2,20180528,1347, 24.2503, 142.4542, 2943,    203.9,  18.9488,  18.9475,2,  34.9099,2,  34.9099,2,    201.7,2,    201.5,2,     2.89,2,     2.39,2,     0.01,2,     0.19,2,   -999.0,9,   -999.0,9,-999.0000,9,  -999.00,  -999.00,9,  -999.00,9,  18.9475,2,     1435
  49UF20180518,KS1805,  5380,  1,     22,  24473,2,20180528,1347, 24.2503, 142.4542, 2943,    253.8,  17.4857,  17.4879,2,  34.8015,2,-999.0000,9,    204.3,2,    203.9,2,     4.11,2,     4.47,2,     0.01,2,     0.30,2,   -999.0,9,   -999.0,9,-999.0000,9,  -999.00,  -999.00,9,  -999.00,9,  17.4879,2,     1433
  49UF20180518,KS1805,  5380,  1,     21,  25255,2,20180528,1347, 24.2503, 142.4542, 2943,    303.0,  16.7507,  16.7515,2,  34.7431,2,  34.7427,2,    205.6,2,    205.9,2,     5.11,2,     5.41,2,     0.01,2,     0.37,2,   -999.0,9,   -999.0,9,-999.0000,9,  -999.00,  -999.00,9,  -999.00,9,  16.7515,2,     1432
  49UF20180518,KS1805,  5380,  1,     20,  24270,2,20180528,1347, 24.2503, 142.4542, 2943,    403.6,  14.1062,  14.1046,2,  34.4801,2,-999.0000,9,    192.7,2,    192.8,2,    11.02,2,    10.40,2,     0.00,2,     0.72,2,   -999.0,9,   -999.0,9,-999.0000,9,  -999.00,  -999.00,9,  -999.00,9,  14.1046,2,     1429
  49UF20180518,KS1805,  5380,  1,     19,  25253,2,20180528,1347, 24.2503, 142.4542, 2943,    506.1,  10.8347,  10.8367,2,  34.2412,2,  34.2422,2,    180.9,2,    181.1,6,    22.87,6,    17.12,6,     0.00,6,     1.21,6,   -999.0,9,   -999.0,9,-999.0000,9,  -999.00,  -999.00,9,  -999.00,9,  10.8367,2,     1426
  49UF20180518,KS1805,  5380,  1,     14,  25248,2,20180528,1347, 24.2503, 142.4542, 2943,    607.0,   8.1837,   8.1822,2,  34.1093,2,-999.0000,9,    148.8,2,    148.4,2,    42.51,2,    25.01,2,     0.00,2,     1.79,2,   -999.0,9,   -999.0,9,-999.0000,9,  -999.00,  -999.00,9,  -999.00,9,   8.1822,2,     1423
  49UF20180518,KS1805,  5380,  1,     15,  25249,2,20180528,1347, 24.2503, 142.4542, 2943,    607.1,   8.1835,   8.1822,2,  34.1101,2,-999.0000,9,    148.9,2,    148.4,2,    42.44,2,    24.96,2,     0.00,2,     1.79,2,   -999.0,9,   -999.0,9,-999.0000,9,  -999.00,  -999.00,9,  -999.00,9,   8.1822,2,     1423
  49UF20180518,KS1805,  5380,  1,     13,  25247,2,20180528,1347, 24.2503, 142.4542, 2943,    707.4,   6.3395,   6.3404,2,  34.0946,2,  34.0945,2,    108.1,2,    108.0,2,    64.23,2,    32.00,2,     0.00,2,     2.30,2,   -999.0,9,   -999.0,9,-999.0000,9,  -999.00,  -999.00,9,  -999.00,9,   6.3404,2,     1420
  49UF20180518,KS1805,  5380,  1,     12,  25246,2,20180528,1347, 24.2503, 142.4542, 2943,    807.3,   5.3359,   5.3354,2,  34.1551,2,-999.0000,9,     72.2,2,     71.6,2,    82.20,2,    37.05,2,     0.00,2,     2.67,2,   -999.0,9,   -999.0,9,-999.0000,9,  -999.00,  -999.00,9,  -999.00,9,   5.3354,2,     1418
  49UF20180518,KS1805,  5380,  1,     11,  25245,2,20180528,1347, 24.2503, 142.4542, 2943,    909.3,   4.5654,   4.5653,2,  34.2612,2,  34.2615,6,     51.6,2,     51.3,2,    99.23,2,    39.98,2,     0.00,2,     2.88,2,   -999.0,9,   -999.0,9,-999.0000,9,  -999.00,  -999.00,9,  -999.00,9,   4.5653,2,     1415
  49UF20180518,KS1805,  5380,  1,     10,  25244,2,20180528,1347, 24.2503, 142.4542, 2943,   1009.9,   4.0353,   4.0353,2,  34.3481,2,-999.0000,9,     48.0,2,     47.8,2,   111.86,2,    40.99,2,     0.00,2,     2.94,2,   -999.0,9,   -999.0,9,-999.0000,9,  -999.00,  -999.00,9,  -999.00,9,   4.0353,2,     1412
  49UF20180518,KS1805,  5380,  1,      6,  25240,2,20180528,1347, 24.2503, 142.4542, 2943,   1211.4,   3.2542,   3.2541,2,  34.4527,2,  34.4521,6,     58.3,2,     58.2,2,   130.22,2,    41.04,2,     0.00,2,     2.94,2,   -999.0,9,   -999.0,9,-999.0000,9,  -999.00,  -999.00,9,  -999.00,9,   3.2541,2,     1407
  49UF20180518,KS1805,  5380,  1,      5,  25239,2,20180528,1347, 24.2503, 142.4542, 2943,   1414.2,   2.7813,   2.7814,2,  34.5034,2,-999.0000,9,     66.0,2,     66.1,2,   140.06,2,    40.97,2,     0.00,2,     2.91,2,   -999.0,9,   -999.0,9,-999.0000,9,  -999.00,  -999.00,9,  -999.00,9,   2.7814,2,     1403
  49UF20180518,KS1805,  5380,  1,      4,  25238,2,20180528,1347, 24.2503, 142.4542, 2943,   1619.0,   2.4179,   2.4178,2,  34.5548,2,  34.5539,2,     83.3,2,     83.5,6,   144.55,6,    40.04,6,     0.00,6,     2.84,6,   -999.0,9,   -999.0,9,-999.0000,9,  -999.00,  -999.00,9,  -999.00,9,   2.4178,2,     1358
  49UF20180518,KS1805,  5380,  1,      3,  24271,2,20180528,1347, 24.2503, 142.4542, 2943,   1824.0,   2.2370,   2.2370,2,  34.5800,2,  34.5808,2,     92.9,2,     92.6,2,   146.49,2,    39.59,2,     0.00,2,     2.79,2,   -999.0,9,   -999.0,9,-999.0000,9,  -999.00,  -999.00,9,  -999.00,9,   2.2370,2,     1353
  49UF20180518,KS1805,  5380,  1,      2,  25236,2,20180528,1347, 24.2503, 142.4542, 2943,   1824.0,   2.2371,   2.2372,2,  34.5801,2,  34.5799,2,     92.9,2,     93.0,2,   146.33,2,    39.49,2,     0.00,2,     2.79,2,   -999.0,9,   -999.0,9,-999.0000,9,  -999.00,  -999.00,9,  -999.00,9,   2.2372,2,     1353
  49UF20180518,KS1805,  5380,  1,      1,  24272,2,20180528,1347, 24.2503, 142.4542, 2943,   2024.1,   2.0386,   2.0385,2,  34.6029,2,  34.6017,2,    101.0,2,    100.8,2,   149.18,2,    39.17,2,     0.00,2,     2.76,2,   -999.0,9,   -999.0,9,-999.0000,9,  -999.00,  -999.00,9,  -999.00,9,   2.0385,2,     1348