BOTTLE,20200311PRINUNIVRMK
# 08/30/2019 Initialized README file  
# Data source:  Masao Ishii 2020/01/14 
# SHIP: R/V Keifu Maru II 
# Cruise: KS18.05 
# Region: North Pacific Ocean, East China Sea 
# EXPOCODE: 49UF20180518 
# DATES: 20180518-20180703 
# Chief Scientist: Keizo Shutta 
# 43 stations with 36 place Rosette 
# CTD: Who - Chikara Nara; Status - final 
# 	Includes: CTDSAL,CTDOXY,SBE35 
# SALNTY: Who - Chikara Nara; Status - final 
# 	Notes: 	 
# Nutrients: Who - Chikara Nara; Status - final 
# 	Includes: nitrate, nitrite, silicate, phosphate 
# 	Nitrite and NO3+NO2 reported. Separated by subtraction 
# OXYGEN: Who - Chikara Nara; Status - final 
# 	Notes: 
# TCARBN: Who - Chikara Nara; Status - final 
# 	Notes:  
# ALKALI: Who - Chikara Nara; Status - final 
# 	Notes:  
# PH: Who - Chikara Nara; Status - final 
# 	Notes:  
# CHLORA: Who - Chikara Nara; Status - final 
# 	Notes:  
# PPHYTN: Who - Chikara Nara; Status - final 
# 	Notes:  
# These data should be cited as:               
# References that have used data from this cruise: 
EXPOCODE,SECT_ID,STNNBR,CASTNO,SAMPNO,BTLNBR,BTLNBR_FLAG_W,DATE,TIME,LATITUDE,LONGITUDE,DEPTH,CTDPRS,CTDTMP,SBE35,SBE35_FLAG_W,CTDSAL,CTDSAL_FLAG_W,SALNTY,SALNTY_FLAG_W,CTDOXY,CTDOXY_FLAG_W,OXYGEN,OXYGEN_FLAG_W,SILCAT,SILCAT_FLAG_W,NITRAT,NITRAT_FLAG_W,NITRIT,NITRIT_FLAG_W,PHSPHT,PHSPHT_FLAG_W,TCARBN,TCARBN_FLAG_W,ALKALI,ALKALI_FLAG_W,PH_TOT,PH_TOT_FLAG_W,PH_TMP,CHLORA,CHLORA_FLAG_W,PPHYTN,PPHYTN_FLAG_W,SBE35,SBE35_FLAG_W,BTL_TIME
,,,,,,,,,,,METERS,DBAR,ITS-90,,,PSS-78,,PSS-78,,UMOL/KG,,UMOL/KG,,UMOL/KG,,UMOL/KG,,UMOL/KG,,UMOL/KG,,UMOL/KG,,UMOL/KG,,,,DEG C,UG/KG,,UG/KG,,,,
  49UF20180518,KS1805,  5367,  1,     99,     99,2,20180522,2239, 24.0020, 164.9865, 6046,      0.0,  26.1968,-999.0000,9,  35.2348,2,  35.2277,2,    206.5,2,    206.6,2,     1.23,2,     0.00,2,     0.00,2,     0.04,2,   1990.5,2,   2314.0,2,   8.0992,2,    25.00,     0.06,2,     0.01,2,-999.0000,9,       17
  49UF20180518,KS1805,  5367,  1,     36,  25270,2,20180522,2239, 24.0020, 164.9865, 6046,      9.8,  26.1689,  26.1660,2,  35.2343,2,  35.2336,2,    206.5,2,    206.4,2,     1.22,2,     0.00,2,     0.00,2,     0.02,2,   1993.3,2,   2317.0,2,   8.0968,2,    25.00,     0.05,2,     0.02,2,  26.1660,2,      119
  49UF20180518,KS1805,  5367,  1,     35,  25269,2,20180522,2239, 24.0020, 164.9865, 6046,     26.9,  26.0399,  26.0395,2,  35.2439,2,-999.0000,9,    206.9,2,    206.9,2,     1.24,2,     0.00,2,     0.00,2,     0.04,2,   1993.5,2,   2317.7,2,   8.0993,2,    25.00,     0.06,2,     0.02,2,  26.0395,2,      117
  49UF20180518,KS1805,  5367,  1,     34,  25268,2,20180522,2239, 24.0020, 164.9865, 6046,     51.2,  24.7941,  24.7999,2,  35.2740,2,  35.2748,2,    213.1,2,    212.7,2,     1.35,2,     0.00,2,     0.00,2,     0.02,2,   2002.1,2,   2317.2,2,   8.0888,2,    25.00,     0.08,2,     0.03,2,  24.7999,2,      112
  49UF20180518,KS1805,  5367,  1,     33,  25267,2,20180522,2239, 24.0020, 164.9865, 6046,     76.8,  23.3273,  23.3352,2,  35.2796,2,-999.0000,9,    219.8,2,    219.5,2,     1.45,2,     0.00,2,     0.00,2,     0.02,2,   1998.9,2,   2319.0,2,   8.0836,2,    25.00,     0.10,2,     0.04,2,  23.3352,2,      110
  49UF20180518,KS1805,  5367,  1,     32,  25266,2,20180522,2239, 24.0020, 164.9865, 6046,    102.4,  22.5761,  22.5777,2,  35.2278,2,  35.2292,2,    217.5,2,    217.2,2,     1.58,2,     0.00,2,     0.00,2,     0.02,2,   2005.5,2,   2313.9,2,   8.0687,2,    25.00,     0.17,2,     0.08,2,  22.5777,2,      108
  49UF20180518,KS1805,  5367,  1,     31,  25265,2,20180522,2239, 24.0020, 164.9865, 6046,    126.0,  20.8955,  20.8963,2,  35.0682,2,-999.0000,9,    205.5,2,    205.9,2,     2.19,2,    -0.02,2,     0.02,2,     0.08,2,   2036.2,2,   2305.7,2,   8.0106,2,    25.00,     0.21,2,     0.36,2,  20.8963,2,      106
  49UF20180518,KS1805,  5367,  1,     30,  25264,2,20180522,2239, 24.0020, 164.9865, 6046,    151.8,  19.3900,  19.3939,2,  34.9684,2,  34.9710,2,    196.0,2,    196.2,2,     2.87,2,     1.92,2,     0.07,2,     0.21,2,   2051.7,2,   2298.3,2,   7.9670,2,    25.00,     0.14,2,     0.32,2,  19.3939,2,      104
  49UF20180518,KS1805,  5367,  1,     29,  25263,2,20180522,2239, 24.0020, 164.9865, 6046,    204.0,  17.2910,  17.2902,2,  34.7768,2,-999.0000,9,    203.7,2,    204.2,2,     4.08,2,     4.22,2,     0.01,2,     0.32,2,   2053.2,2,   2284.6,2,   7.9449,2,    25.00,     0.02,2,     0.04,2,  17.2902,2,      101
  49UF20180518,KS1805,  5367,  1,     28,  25262,3,20180522,2239, 24.0020, 164.9865, 6046,    253.2,  16.3134,  16.3158,2,  34.6989,2,  34.7011,2,    209.4,2,    209.9,2,     5.27,2,     5.31,2,     0.01,2,     0.39,2,   2058.9,2,   2281.0,2,   7.9341,2,    25.00,  -999.00,9,  -999.00,9,  16.3158,2,       59
  49UF20180518,KS1805,  5367,  1,     27,  25261,2,20180522,2239, 24.0020, 164.9865, 6046,    301.2,  15.4227,  15.4236,2,  34.6026,2,-999.0000,9,    203.3,2,    203.9,6,     6.98,6,     7.10,6,     0.01,6,     0.51,6,   2068.0,2,   2277.5,2,   7.9039,2,    25.00,  -999.00,9,  -999.00,9,  15.4236,2,       56
  49UF20180518,KS1805,  5367,  1,     26,  25260,2,20180522,2239, 24.0020, 164.9865, 6046,    405.3,  12.3345,  12.3329,2,  34.3312,2,  34.3331,2,    198.9,2,    199.8,2,    14.48,2,    12.52,2,     0.00,2,     0.88,2,   2102.0,2,   2269.0,2,   7.8160,2,    25.00,  -999.00,9,  -999.00,9,  12.3329,2,       53
  49UF20180518,KS1805,  5367,  1,     25,  25259,2,20180522,2239, 24.0020, 164.9865, 6046,    505.5,   9.4337,   9.4338,2,  34.1386,2,-999.0000,9,    173.2,2,    174.3,2,    28.66,2,    20.22,2,     0.00,2,     1.44,2,   2153.4,6,   2271.6,6,   7.6952,2,    25.00,  -999.00,9,  -999.00,9,   9.4338,2,       50
  49UF20180518,KS1805,  5367,  1,     24,  25258,3,20180522,2239, 24.0020, 164.9865, 6046,    607.5,   7.1350,   7.1342,2,  34.0727,2,  34.0741,2,    124.4,2,    125.6,2,    50.77,2,    28.92,2,     0.00,2,     2.09,2,   2218.4,2,   2286.1,2,   7.5558,6,    25.00,  -999.00,9,  -999.00,9,   7.1342,2,       46
  49UF20180518,KS1805,  5367,  1,     23,  25257,2,20180522,2239, 24.0020, 164.9865, 6046,    706.8,   5.6121,   5.6126,2,  34.0871,2,-999.0000,9,     87.3,2,     88.2,2,    74.15,2,    35.21,2,     0.00,2,     2.54,2,   2267.2,2,   2304.0,2,   7.4532,2,    25.00,  -999.00,9,  -999.00,9,   5.6126,2,       43
  49UF20180518,KS1805,  5367,  1,     22,  24473,2,20180522,2239, 24.0020, 164.9865, 6046,    808.2,   4.7384,   4.7379,2,  34.1932,2,  34.1914,2,     53.8,2,     54.2,6,    94.12,6,    39.52,6,     0.00,6,     2.86,6,   2310.6,2,   2328.8,2,   7.3934,2,    25.00,  -999.00,9,  -999.00,9,   4.7379,2,       39
  49UF20180518,KS1805,  5367,  1,     21,  25255,2,20180522,2239, 24.0020, 164.9865, 6046,    909.6,   4.1833,   4.1828,2,  34.2993,2,-999.0000,9,     39.9,2,     39.6,2,   108.94,2,    41.59,2,     0.00,2,     3.00,2,   2339.5,6,   2347.0,6,   7.3761,2,    25.00,  -999.00,9,  -999.00,9,   4.1828,2,       36
  49UF20180518,KS1805,  5367,  1,     20,  24270,2,20180522,2239, 24.0020, 164.9865, 6046,   1014.3,   3.7744,   3.7744,2,  34.4049,2,  34.4026,2,     43.3,2,     43.2,2,   118.92,2,    41.95,2,     0.00,2,     3.01,2,   2347.1,2,   2366.4,2,   7.3908,6,    25.00,  -999.00,9,  -999.00,9,   3.7744,2,       32
  49UF20180518,KS1805,  5367,  1,     19,  25253,2,20180522,2239, 24.0020, 164.9865, 6046,   1215.1,   3.2299,   3.2297,2,  34.4952,2,-999.0000,9,     60.3,2,     60.4,2,   129.67,2,    41.18,2,     0.00,2,     2.95,2,   2354.8,2,   2382.1,2,   7.4306,2,    25.00,  -999.00,9,  -999.00,9,   3.2297,2,       27
  49UF20180518,KS1805,  5367,  1,     18,  25252,2,20180522,2239, 24.0020, 164.9865, 6046,   1418.0,   2.7449,   2.7449,2,  34.5386,2,  34.5388,2,     70.6,2,     70.6,2,   139.86,2,    40.93,2,     0.00,2,     2.91,2,   2358.0,2,   2394.7,2,   7.4454,2,    25.00,  -999.00,9,  -999.00,9,   2.7449,2,       22
  49UF20180518,KS1805,  5367,  1,     17,  25251,2,20180522,2239, 24.0020, 164.9865, 6046,   1619.3,   2.4217,   2.4215,2,  34.5700,2,-999.0000,9,     80.8,2,     80.7,2,   145.88,2,    40.50,2,     0.00,2,     2.87,2,   2357.6,2,   2402.1,2,   7.4649,2,    25.00,  -999.00,9,  -999.00,9,   2.4215,2,       17
  49UF20180518,KS1805,  5367,  1,     16,  25250,2,20180522,2239, 24.0020, 164.9865, 6046,   1820.2,   2.1664,   2.1660,2,  34.5989,2,  34.6016,2,     91.9,2,     92.1,2,   149.60,2,    39.84,2,     0.00,2,     2.82,2,   2361.9,3,   2408.4,2,   7.4863,2,    25.00,  -999.00,9,  -999.00,9,   2.1660,2,       13
  49UF20180518,KS1805,  5367,  1,     15,  25249,2,20180522,2239, 24.0020, 164.9865, 6046,   2025.1,   1.9869,   1.9873,2,  34.6193,2,-999.0000,9,    101.0,2,    100.9,2,   152.34,2,    39.35,2,     0.00,2,     2.78,2,   2353.3,2,   2410.8,2,   7.5054,2,    25.00,  -999.00,9,  -999.00,9,   1.9873,2,        8
  49UF20180518,KS1805,  5367,  1,     14,  25248,2,20180522,2239, 24.0020, 164.9865, 6046,   2276.6,   1.8246,   1.8245,2,  34.6367,2,  34.6365,2,    109.9,2,    110.4,2,   154.18,2,    38.74,2,     0.00,2,     2.73,2,   2353.7,2,   2414.6,2,   7.5197,2,    25.00,  -999.00,9,  -999.00,9,   1.8245,2,        2
  49UF20180518,KS1805,  5367,  1,     13,  25247,2,20180522,2239, 24.0020, 164.9865, 6046,   2531.1,   1.7078,   1.7079,2,  34.6508,2,  34.6516,2,    119.5,2,    119.8,6,   154.39,6,    38.18,6,     0.00,6,     2.68,6,   2347.8,2,   2416.8,2,   7.5378,2,    25.00,  -999.00,9,  -999.00,9,   1.7079,2,     2356
  49UF20180518,KS1805,  5367,  1,     12,  25246,2,20180522,2239, 24.0020, 164.9865, 6046,   2787.3,   1.6438,   1.6436,2,  34.6593,2,  34.6587,2,    126.1,2,    126.1,2,   154.01,2,    37.77,2,     0.00,2,     2.67,2,   2346.7,6,   2418.5,6,   7.5464,2,    25.00,  -999.00,9,  -999.00,9,   1.6436,2,     2351
  49UF20180518,KS1805,  5367,  1,     11,  25245,2,20180522,2239, 24.0020, 164.9865, 6046,   3043.1,   1.5955,   1.5955,2,  34.6657,2,  34.6655,6,    131.6,2,    131.6,2,   153.64,2,    37.46,2,     0.00,2,     2.61,2,   2341.2,2,   2417.9,2,   7.5584,6,    25.00,  -999.00,9,  -999.00,9,   1.5955,2,     2345
  49UF20180518,KS1805,  5367,  1,     10,  25244,2,20180522,2239, 24.0020, 164.9865, 6046,   3295.1,   1.5619,   1.5618,2,  34.6707,2,  34.6700,2,    136.6,2,    137.0,2,   153.25,2,    37.13,2,     0.00,2,     2.60,2,   2339.1,2,   2419.7,2,   7.5673,2,    25.00,  -999.00,9,  -999.00,9,   1.5618,2,     2339
  49UF20180518,KS1805,  5367,  1,      9,  25243,2,20180522,2239, 24.0020, 164.9865, 6046,   3552.9,   1.5287,   1.5286,2,  34.6757,2,  34.6747,2,    141.9,2,    141.8,2,   151.50,2,    36.73,2,     0.01,2,     2.56,2,   2339.5,2,   2417.5,2,   7.5749,2,    25.00,  -999.00,9,  -999.00,9,   1.5286,2,     2333
  49UF20180518,KS1805,  5367,  1,      8,  25242,4,20180522,2239, 24.0020, 164.9865, 6046,   3806.3,   1.5105,   1.5103,2,  34.6792,2,-999.0000,9,    146.3,2,   -999.0,9,  -999.00,9,  -999.00,9,  -999.00,9,  -999.00,9,   -999.0,9,   -999.0,9,-999.0000,9,  -999.00,  -999.00,9,  -999.00,9,   1.5103,2,     2328
  49UF20180518,KS1805,  5367,  1,      7,  25241,2,20180522,2239, 24.0020, 164.9865, 6046,   4062.4,   1.4946,   1.4945,2,  34.6827,2,  34.6804,2,    151.0,2,    150.0,2,   148.50,2,    36.20,2,     0.00,2,     2.53,2,   2329.3,2,   2415.7,2,   7.5867,2,    25.00,  -999.00,9,  -999.00,9,   1.4945,2,     2322
  49UF20180518,KS1805,  5367,  1,      6,  25240,2,20180522,2239, 24.0020, 164.9865, 6046,   4575.9,   1.4777,   1.4777,2,  34.6890,2,  34.6879,2,    160.2,2,    160.3,3,   144.25,2,    35.55,2,     0.00,2,     2.48,2,   2319.5,6,   2410.6,6,   7.5987,2,    25.00,  -999.00,9,  -999.00,9,   1.4777,2,     2312
  49UF20180518,KS1805,  5367,  1,      5,  25239,2,20180522,2239, 24.0020, 164.9865, 6046,   5091.9,   1.4711,   1.4710,2,  34.6946,2,  34.6924,2,    169.5,2,    168.6,2,   139.21,2,    34.81,2,     0.00,2,     2.43,2,   2309.6,2,   2406.1,2,   7.6067,6,    25.00,  -999.00,9,  -999.00,9,   1.4710,2,     2302
  49UF20180518,KS1805,  5367,  1,      4,  25238,2,20180522,2239, 24.0020, 164.9865, 6046,   5349.5,   1.4721,   1.4724,2,  34.6970,2,  34.6965,2,    173.8,2,    174.4,2,   136.22,2,    34.49,2,     0.00,2,     2.40,2,   2307.7,2,   2401.4,2,   7.6140,2,    25.00,  -999.00,9,  -999.00,9,   1.4724,2,     2257
  49UF20180518,KS1805,  5367,  1,      3,  24271,2,20180522,2239, 24.0020, 164.9865, 6046,   5607.0,   1.4880,   1.4880,2,  34.6984,2,  34.6985,2,    176.1,2,    176.6,2,   134.73,2,    34.27,2,     0.01,2,     2.38,2,   2306.7,2,   2400.8,2,   7.6169,2,    25.00,  -999.00,9,  -999.00,9,   1.4880,2,     2251
  49UF20180518,KS1805,  5367,  1,      2,  25236,2,20180522,2239, 24.0020, 164.9865, 6046,   5867.1,   1.5154,   1.5152,2,  34.6990,2,  34.6974,2,    177.1,2,    177.4,2,   134.83,2,    34.26,2,     0.01,2,     2.39,2,   2299.4,2,   2399.4,2,   7.6178,2,    25.00,  -999.00,9,  -999.00,9,   1.5152,2,     2246
  49UF20180518,KS1805,  5367,  1,      1,  24272,2,20180522,2239, 24.0020, 164.9865, 6046,   6125.6,   1.5477,   1.5476,2,  34.6994,2,  34.6987,6,    177.8,2,    178.4,6,   133.77,6,    34.26,6,     0.01,6,     2.37,6,   2301.4,2,   2401.9,2,   7.6167,2,    25.00,  -999.00,9,  -999.00,9,   1.5476,2,     2240