BOTTLE,20200311PRINUNIVRMK
EXPOCODE,SECT_ID,STNNBR,CASTNO,SAMPNO,BTLNBR,BTLNBR_FLAG_W,DATE,TIME,LATITUDE,LONGITUDE,DEPTH,CTDPRS,CTDTMP,SBE35,SBE35_FLAG_W,CTDSAL,CTDSAL_FLAG_W,SALNTY,SALNTY_FLAG_W,CTDOXY,CTDOXY_FLAG_W,OXYGEN,OXYGEN_FLAG_W,SILCAT,SILCAT_FLAG_W,NITRAT,NITRAT_FLAG_W,NITRIT,NITRIT_FLAG_W,PHSPHT,PHSPHT_FLAG_W,TCARBN,TCARBN_FLAG_W,ALKALI,ALKALI_FLAG_W,PH_TOT,PH_TOT_FLAG_W,PH_TMP,CHLORA,CHLORA_FLAG_W,PPHYTN,PPHYTN_FLAG_W,SBE35,SBE35_FLAG_W,BTL_TIME
,,,,,,,,,,,METERS,DBAR,ITS-90,,,PSS-78,,PSS-78,,UMOL/KG,,UMOL/KG,,UMOL/KG,,UMOL/KG,,UMOL/KG,,UMOL/KG,,UMOL/KG,,UMOL/KG,,,,DEG C,UG/KG,,UG/KG,,,,
  49UF20180518,KS1805,  5383,  1,     99,     99,2,20180529,1406, 24.2418, 138.5682, 5006,      0.0,  28.1744,-999.0000,9,  34.5381,2,-999.0000,9,    199.8,2,    200.0,2,     1.20,2,     0.00,2,     0.00,2,     0.02,2,   -999.0,9,   -999.0,9,-999.0000,9,  -999.00,  -999.00,9,  -999.00,9,-999.0000,9,     1440
  49UF20180518,KS1805,  5383,  1,     33,  25267,2,20180529,1406, 24.2418, 138.5682, 5006,     10.8,  28.1696,  28.1545,2,  34.5560,2,-999.0000,9,    199.7,2,    200.4,2,     1.24,2,     0.00,2,     0.00,2,     0.00,2,   -999.0,9,   -999.0,9,-999.0000,9,  -999.00,  -999.00,9,  -999.00,9,  28.1545,2,     1519
  49UF20180518,KS1805,  5383,  1,     32,  25266,2,20180529,1406, 24.2418, 138.5682, 5006,     25.8,  27.9550,  27.9556,2,  34.6840,2,-999.0000,9,    200.0,2,    200.5,2,     1.24,2,     0.00,2,     0.00,2,     0.00,2,   -999.0,9,   -999.0,9,-999.0000,9,  -999.00,  -999.00,9,  -999.00,9,  27.9556,2,     1517
  49UF20180518,KS1805,  5383,  1,     31,  25265,2,20180529,1406, 24.2418, 138.5682, 5006,     50.2,  26.0876,  26.0843,2,  34.8598,2,-999.0000,9,    211.4,2,    212.3,2,     1.30,2,     0.00,2,     0.00,2,     0.00,2,   -999.0,9,   -999.0,9,-999.0000,9,  -999.00,  -999.00,9,  -999.00,9,  26.0843,2,     1513
  49UF20180518,KS1805,  5383,  1,     30,  25264,2,20180529,1406, 24.2418, 138.5682, 5006,     76.6,  24.6984,  24.6947,2,  34.9124,2,-999.0000,9,    215.3,2,    215.2,2,     1.32,2,     0.00,2,     0.00,2,     0.00,2,   -999.0,9,   -999.0,9,-999.0000,9,  -999.00,  -999.00,9,  -999.00,9,  24.6947,2,     1511
  49UF20180518,KS1805,  5383,  1,     29,  25263,2,20180529,1406, 24.2418, 138.5682, 5006,    101.8,  23.4298,  23.4276,2,  34.9688,2,-999.0000,9,    212.1,2,    212.7,2,     1.53,2,     0.00,2,     0.00,2,     0.01,2,   -999.0,9,   -999.0,9,-999.0000,9,  -999.00,  -999.00,9,  -999.00,9,  23.4276,2,     1510
  49UF20180518,KS1805,  5383,  1,     28,  25262,2,20180529,1406, 24.2418, 138.5682, 5006,    127.4,  21.9453,  21.9454,2,  35.0052,2,-999.0000,9,    204.3,2,    204.2,2,     1.86,2,     0.07,2,     0.09,2,     0.05,2,   -999.0,9,   -999.0,9,-999.0000,9,  -999.00,  -999.00,9,  -999.00,9,  21.9454,2,     1508
  49UF20180518,KS1805,  5383,  1,     24,  25258,2,20180529,1406, 24.2418, 138.5682, 5006,    152.8,  20.8215,  20.8292,2,  34.9801,2,-999.0000,9,    205.5,2,    205.6,2,     2.05,2,     0.70,2,     0.06,2,     0.08,2,   -999.0,9,   -999.0,9,-999.0000,9,  -999.00,  -999.00,9,  -999.00,9,  20.8292,2,     1506
  49UF20180518,KS1805,  5383,  1,     23,  25257,2,20180529,1406, 24.2418, 138.5682, 5006,    202.0,  19.3254,  19.3257,2,  34.9135,2,-999.0000,9,    209.7,2,    210.0,6,     2.55,6,     1.81,6,     0.01,6,     0.14,6,   -999.0,9,   -999.0,9,-999.0000,9,  -999.00,  -999.00,9,  -999.00,9,  19.3257,2,     1504
  49UF20180518,KS1805,  5383,  1,     22,  24473,2,20180529,1406, 24.2418, 138.5682, 5006,    253.5,  18.0968,  18.0982,2,  34.8452,2,-999.0000,9,    201.5,2,    201.5,2,     3.59,2,     3.78,2,     0.01,2,     0.26,2,   -999.0,9,   -999.0,9,-999.0000,9,  -999.00,  -999.00,9,  -999.00,9,  18.0982,2,     1501
  49UF20180518,KS1805,  5383,  1,     21,  25255,2,20180529,1406, 24.2418, 138.5682, 5006,    253.9,  18.0938,  18.0941,2,  34.8448,2,-999.0000,9,    201.4,2,    201.6,2,     3.57,2,     3.78,2,     0.01,2,     0.26,2,   -999.0,9,   -999.0,9,-999.0000,9,  -999.00,  -999.00,9,  -999.00,9,  18.0941,2,     1501
  49UF20180518,KS1805,  5383,  1,     20,  24270,3,20180529,1406, 24.2418, 138.5682, 5006,    302.5,  17.1024,  17.1009,2,  34.7650,2,-999.0000,9,    203.1,2,    203.3,2,     4.72,2,     5.06,2,     0.00,2,     0.35,2,   -999.0,9,   -999.0,9,-999.0000,9,  -999.00,  -999.00,9,  -999.00,9,  17.1009,2,     1459
  49UF20180518,KS1805,  5383,  1,     19,  25253,2,20180529,1406, 24.2418, 138.5682, 5006,    404.8,  14.6357,  14.6369,2,  34.5372,2,-999.0000,9,    189.9,2,    190.0,2,    10.78,2,     9.93,2,     0.00,2,     0.69,2,   -999.0,9,   -999.0,9,-999.0000,9,  -999.00,  -999.00,9,  -999.00,9,  14.6369,2,     1455
  49UF20180518,KS1805,  5383,  1,     15,  25249,2,20180529,1406, 24.2418, 138.5682, 5006,    504.8,  11.6043,  11.6074,2,  34.3188,2,-999.0000,9,    174.5,2,    174.6,2,    22.82,2,    16.41,2,     0.00,2,     1.16,2,   -999.0,9,   -999.0,9,-999.0000,9,  -999.00,  -999.00,9,  -999.00,9,  11.6074,2,     1452
  49UF20180518,KS1805,  5383,  1,     14,  25248,2,20180529,1406, 24.2418, 138.5682, 5006,    606.3,   8.5189,   8.5189,2,  34.1610,2,-999.0000,9,    145.4,2,    145.1,2,    43.61,2,    24.60,2,     0.00,2,     1.76,2,   -999.0,9,   -999.0,9,-999.0000,9,  -999.00,  -999.00,9,  -999.00,9,   8.5189,2,     1448
  49UF20180518,KS1805,  5383,  1,     13,  25247,2,20180529,1406, 24.2418, 138.5682, 5006,    706.2,   6.3572,   6.3542,2,  34.1185,2,-999.0000,9,    107.2,2,    107.3,2,    65.98,2,    31.87,2,     0.00,2,     2.30,2,   -999.0,9,   -999.0,9,-999.0000,9,  -999.00,  -999.00,9,  -999.00,9,   6.3542,2,     1445
  49UF20180518,KS1805,  5383,  1,     12,  25246,2,20180529,1406, 24.2418, 138.5682, 5006,    809.9,   5.2677,   5.2679,2,  34.1695,2,-999.0000,9,     79.5,2,     79.5,2,    84.92,2,    36.17,2,     0.00,2,     2.61,2,   -999.0,9,   -999.0,9,-999.0000,9,  -999.00,  -999.00,9,  -999.00,9,   5.2679,2,     1441
  49UF20180518,KS1805,  5383,  1,     11,  25245,2,20180529,1406, 24.2418, 138.5682, 5006,    911.0,   4.4646,   4.4622,2,  34.2591,2,-999.0000,9,     65.1,2,     65.0,2,   103.68,2,    38.56,2,     0.00,2,     2.77,2,   -999.0,9,   -999.0,9,-999.0000,9,  -999.00,  -999.00,9,  -999.00,9,   4.4622,2,     1438
  49UF20180518,KS1805,  5383,  1,     10,  25244,2,20180529,1406, 24.2418, 138.5682, 5006,   1012.2,   3.8792,   3.8789,2,  34.3269,2,-999.0000,9,     56.2,2,     56.3,6,   116.71,6,    40.10,6,     0.00,6,     2.88,6,   -999.0,9,   -999.0,9,-999.0000,9,  -999.00,  -999.00,9,  -999.00,9,   3.8789,2,     1435
  49UF20180518,KS1805,  5383,  1,      6,  25240,2,20180529,1406, 24.2418, 138.5682, 5006,   1212.5,   3.2083,   3.2086,2,  34.4384,2,-999.0000,9,     59.3,2,     59.1,2,   131.26,2,    40.82,2,     0.00,2,     2.92,2,   -999.0,9,   -999.0,9,-999.0000,9,  -999.00,  -999.00,9,  -999.00,9,   3.2086,2,     1429
  49UF20180518,KS1805,  5383,  1,      5,  25239,2,20180529,1406, 24.2418, 138.5682, 5006,   1212.5,   3.2085,   3.2087,2,  34.4384,2,-999.0000,9,     59.3,2,     59.2,2,   131.26,2,    40.77,2,     0.00,2,     2.92,2,   -999.0,9,   -999.0,9,-999.0000,9,  -999.00,  -999.00,9,  -999.00,9,   3.2087,2,     1429
  49UF20180518,KS1805,  5383,  1,      4,  25238,2,20180529,1406, 24.2418, 138.5682, 5006,   1416.0,   2.7525,   2.7521,2,  34.5064,2,-999.0000,9,     72.3,2,     72.4,2,   139.09,2,    40.35,2,     0.00,2,     2.88,2,   -999.0,9,   -999.0,9,-999.0000,9,  -999.00,  -999.00,9,  -999.00,9,   2.7521,2,     1423
  49UF20180518,KS1805,  5383,  1,      3,  24271,2,20180529,1406, 24.2418, 138.5682, 5006,   1617.1,   2.4072,   2.4073,2,  34.5546,2,-999.0000,9,     87.4,2,     87.2,2,   143.25,2,    39.55,2,     0.00,2,     2.81,2,   -999.0,9,   -999.0,9,-999.0000,9,  -999.00,  -999.00,9,  -999.00,9,   2.4073,2,     1418
  49UF20180518,KS1805,  5383,  1,      2,  25236,2,20180529,1406, 24.2418, 138.5682, 5006,   1820.0,   2.1606,   2.1608,2,  34.5894,2,-999.0000,9,    100.8,2,    100.8,2,   144.61,2,    38.87,2,     0.00,2,     2.75,2,   -999.0,9,   -999.0,9,-999.0000,9,  -999.00,  -999.00,9,  -999.00,9,   2.1608,2,     1413
  49UF20180518,KS1805,  5383,  1,      1,  24272,2,20180529,1406, 24.2418, 138.5682, 5006,   2022.1,   1.9835,   1.9839,2,  34.6139,2,-999.0000,9,    112.2,2,    112.4,2,   145.15,2,    38.23,2,     0.00,2,     2.70,2,   -999.0,9,   -999.0,9,-999.0000,9,  -999.00,  -999.00,9,  -999.00,9,   1.9839,2,     1407
  49UF20180518,KS1805,  5384,  1,     99,     99,2,20180530,0544, 23.9793, 136.9298, 3712,      0.0,  28.6895,-999.0000,9,  34.6947,2,  34.7223,2,    199.7,2,    198.0,2,     1.29,2,     0.03,2,     0.00,2,     0.04,2,   1957.7,2,   2278.5,2,   8.1057,3,    25.00,     0.06,2,     0.01,2,-999.0000,9,      710
  49UF20180518,KS1805,  5384,  1,     36,  25270,2,20180530,0544, 23.9793, 136.9298, 3712,     11.6,  28.4753,  28.4761,2,  34.6959,2,-999.0000,9,    200.0,2,    199.5,2,     1.18,2,     0.00,2,     0.00,2,     0.00,2,   1958.1,2,   2276.8,2,   8.1047,2,    25.00,     0.06,2,     0.03,2,  28.4761,2,      740
  49UF20180518,KS1805,  5384,  1,     35,  25269,2,20180530,0544, 23.9793, 136.9298, 3712,     26.6,  25.8667,  25.8696,2,  34.8955,2,  34.8985,2,    215.5,2,    214.8,2,     1.33,2,     0.00,2,     0.00,2,     0.00,2,   1978.5,2,   2292.9,2,   8.0858,2,    25.00,     0.06,2,     0.02,2,  25.8696,2,      739
  49UF20180518,KS1805,  5384,  1,     34,  25268,2,20180530,0544, 23.9793, 136.9298, 3712,     51.1,  23.0234,  23.0287,2,  34.9844,2,-999.0000,9,    223.4,2,    222.0,2,     1.50,2,     0.00,2,     0.00,2,     0.01,2,   1995.7,2,   2296.2,2,   8.0686,2,    25.00,     0.09,2,     0.03,2,  23.0287,2,      735
  49UF20180518,KS1805,  5384,  1,     30,  25264,2,20180530,0544, 23.9793, 136.9298, 3712,     76.6,  21.6585,  21.6600,2,  34.9762,2,  34.9759,2,    223.1,2,    222.0,2,     1.64,2,    -0.01,2,     0.01,2,     0.01,2,   1998.8,2,   2296.6,2,   8.0575,2,    25.00,     0.17,2,     0.08,2,  21.6600,2,      733
  49UF20180518,KS1805,  5384,  1,     29,  25263,2,20180530,0544, 23.9793, 136.9298, 3712,    102.0,  20.8958,  20.8953,2,  34.9668,2,-999.0000,9,    217.1,2,    215.8,2,     1.76,2,    -0.01,2,     0.01,2,     0.03,2,   2013.0,2,   2296.1,2,   8.0420,2,    25.00,     0.22,2,     0.25,2,  20.8953,2,      732
  49UF20180518,KS1805,  5384,  1,     28,  25262,2,20180530,0544, 23.9793, 136.9298, 3712,    126.8,  20.1935,  20.1936,2,  34.9534,2,  34.9534,2,    202.0,2,    200.9,2,     2.30,2,     1.47,2,     0.11,2,     0.13,2,   2029.1,2,   2294.7,2,   8.0082,2,    25.00,     0.22,2,     0.47,2,  20.1936,2,      730
  49UF20180518,KS1805,  5384,  1,     27,  25261,2,20180530,0544, 23.9793, 136.9298, 3712,    152.9,  19.4161,  19.4170,2,  34.9264,2,-999.0000,9,    195.1,2,    194.1,2,     2.89,2,     3.02,2,     0.02,2,     0.23,2,   2042.9,2,   2293.0,2,   7.9788,2,    25.00,     0.07,2,     0.23,2,  19.4170,2,      729
  49UF20180518,KS1805,  5384,  1,     26,  25260,2,20180530,0544, 23.9793, 136.9298, 3712,    203.8,  17.9655,  17.9667,2,  34.8280,2,  34.8261,2,    198.6,2,    197.7,2,     3.86,2,     4.35,2,     0.01,2,     0.31,2,   2047.9,2,   2286.0,2,   7.9585,2,    25.00,     0.01,2,     0.02,2,  17.9667,2,      727
  49UF20180518,KS1805,  5384,  1,     25,  25259,2,20180530,0544, 23.9793, 136.9298, 3712,    252.7,  16.7847,  16.7854,2,  34.7280,2,-999.0000,9,    198.9,2,    198.3,2,     5.42,2,     6.01,2,     0.01,2,     0.41,2,   2055.4,2,   2279.7,2,   7.9321,2,    25.00,  -999.00,9,  -999.00,9,  16.7854,2,      725
  49UF20180518,KS1805,  5384,  1,     24,  25258,2,20180530,0544, 23.9793, 136.9298, 3712,    303.2,  15.6579,  15.6584,2,  34.6246,2,  34.6202,2,    194.5,2,    193.5,2,     8.11,2,     8.15,2,     0.01,2,     0.56,2,   2069.1,2,   2278.8,2,   7.8966,2,    25.00,  -999.00,9,  -999.00,9,  15.6584,2,      723
  49UF20180518,KS1805,  5384,  1,     23,  25257,2,20180530,0544, 23.9793, 136.9298, 3712,    407.2,  12.8063,  12.8061,2,  34.4009,2,-999.0000,9,    182.3,2,    181.8,2,    17.43,2,    13.75,2,     0.00,2,     0.97,2,   2105.1,2,   2274.0,2,   7.8089,2,    25.00,  -999.00,9,  -999.00,9,  12.8061,2,      720
  49UF20180518,KS1805,  5384,  1,     22,  24473,2,20180530,0544, 23.9793, 136.9298, 3712,    504.7,  10.3857,  10.3851,2,  34.2353,2,  34.2400,2,    170.0,2,    169.3,2,    27.56,2,    18.96,2,     0.00,2,     1.35,2,   2142.7,6,   2276.6,6,   7.7238,2,    25.00,  -999.00,9,  -999.00,9,  10.3851,2,      717
  49UF20180518,KS1805,  5384,  1,     21,  25255,2,20180530,0544, 23.9793, 136.9298, 3712,    606.0,   7.6093,   7.6092,2,  34.1187,2,-999.0000,9,    134.9,2,    133.5,2,    51.14,2,    27.29,2,     0.00,2,     1.97,2,   2206.4,2,   2287.5,2,   7.5887,6,    25.00,  -999.00,9,  -999.00,9,   7.6092,2,      715
  49UF20180518,KS1805,  5384,  1,     19,  25253,2,20180530,0544, 23.9793, 136.9298, 3712,    706.4,   5.9428,   5.9425,2,  34.1398,2,-999.0000,9,     98.3,2,     98.1,2,    74.34,2,    33.54,2,     0.00,2,     2.43,2,   2257.3,2,   2308.7,2,   7.4872,2,    25.00,  -999.00,9,  -999.00,9,   5.9425,2,      712
  49UF20180518,KS1805,  5384,  1,     20,  24270,2,20180530,0544, 23.9793, 136.9298, 3712,    706.5,   5.9399,   5.9429,2,  34.1405,2,-999.0000,9,     98.5,2,     97.3,2,    74.29,2,    33.42,2,     0.00,2,     2.42,2,   2257.6,2,   2308.8,2,   7.4900,2,    25.00,  -999.00,9,  -999.00,9,   5.9429,2,      712
  49UF20180518,KS1805,  5384,  1,     18,  25252,3,20180530,0544, 23.9793, 136.9298, 3712,    807.4,   4.8851,   4.8843,2,  34.2095,2,  34.2107,2,     72.0,2,     72.5,6,    93.47,6,    37.37,6,     0.00,6,     2.70,6,   2294.3,2,   2328.0,2,   7.4316,2,    25.00,  -999.00,9,  -999.00,9,   4.8843,2,      709
  49UF20180518,KS1805,  5384,  1,     17,  25251,2,20180530,0544, 23.9793, 136.9298, 3712,    908.6,   4.1261,   4.1275,2,  34.2920,2,-999.0000,9,     58.3,2,     57.8,2,   111.36,2,    39.88,2,     0.00,2,     2.87,2,   2324.6,2,   2348.4,2,   7.4032,2,    25.00,  -999.00,9,  -999.00,9,   4.1275,2,      706
  49UF20180518,KS1805,  5384,  1,     16,  25250,2,20180530,0544, 23.9793, 136.9298, 3712,   1010.8,   3.6706,   3.6707,2,  34.3693,2,-999.0000,9,     55.0,2,     54.9,2,   121.68,2,    40.66,2,     0.00,2,     2.93,2,   2339.9,2,   2361.6,2,   7.4052,2,    25.00,  -999.00,9,  -999.00,9,   3.6707,2,      703
  49UF20180518,KS1805,  5384,  1,     15,  25249,2,20180530,0544, 23.9793, 136.9298, 3712,   1212.0,   3.1090,   3.1089,2,  34.4563,2,  34.4561,2,     62.4,2,     62.6,2,   132.82,2,    40.75,2,     0.00,2,     2.92,2,   2351.4,2,   2378.4,2,   7.4263,2,    25.00,  -999.00,9,  -999.00,9,   3.1089,2,      659
  49UF20180518,KS1805,  5384,  1,     14,  25248,2,20180530,0544, 23.9793, 136.9298, 3712,   1414.5,   2.6808,   2.6809,2,  34.5183,2,-999.0000,9,     76.5,2,     75.7,2,   140.24,2,    40.43,2,     0.00,2,     2.87,2,   2353.0,2,   2390.1,2,   7.4539,2,    25.00,  -999.00,9,  -999.00,9,   2.6809,2,      654
  49UF20180518,KS1805,  5384,  1,     13,  25247,2,20180530,0544, 23.9793, 136.9298, 3712,   1617.4,   2.3537,   2.3536,2,  34.5646,2,  34.5632,2,     92.2,2,     91.9,2,   143.10,2,    39.35,2,     0.00,2,     2.80,2,   2351.6,6,   2398.1,6,   7.4850,2,    25.00,  -999.00,9,  -999.00,9,   2.3536,2,      649
  49UF20180518,KS1805,  5384,  1,     12,  25246,2,20180530,0544, 23.9793, 136.9298, 3712,   1820.9,   2.1013,   2.1016,2,  34.5954,2,  34.5941,2,    103.7,2,    103.0,2,   146.22,2,    38.84,2,     0.00,2,     2.75,2,   2347.1,2,   2402.1,2,   7.5051,6,    25.00,  -999.00,9,  -999.00,9,   2.1016,2,      645
  49UF20180518,KS1805,  5384,  1,     10,  25244,2,20180530,0544, 23.9793, 136.9298, 3712,   2023.7,   1.9470,   1.9474,2,  34.6197,2,-999.0000,9,    115.5,2,    115.2,2,   144.70,2,    38.13,2,     0.00,2,     2.69,2,   2340.4,2,   2405.3,2,   7.5304,2,    25.00,  -999.00,9,  -999.00,9,   1.9474,2,      640
  49UF20180518,KS1805,  5384,  1,     11,  25245,2,20180530,0544, 23.9793, 136.9298, 3712,   2024.4,   1.9467,   1.9466,2,  34.6197,2,-999.0000,9,    115.5,2,    115.1,2,   144.82,2,    38.14,2,     0.00,2,     2.69,2,   2340.9,2,   2406.7,2,   7.5289,2,    25.00,  -999.00,9,  -999.00,9,   1.9466,2,      640
  49UF20180518,KS1805,  5384,  1,      9,  25243,2,20180530,0544, 23.9793, 136.9298, 3712,   2277.0,   1.8210,   1.8213,2,  34.6379,2,  34.6376,2,    124.7,2,    124.6,6,   145.16,6,    37.62,6,     0.00,6,     2.65,6,   2331.5,2,   2409.5,2,   7.5460,2,    25.00,  -999.00,9,  -999.00,9,   1.8213,2,      634
  49UF20180518,KS1805,  5384,  1,      8,  25242,2,20180530,0544, 23.9793, 136.9298, 3712,   2531.6,   1.7298,   1.7300,2,  34.6486,2,-999.0000,9,    131.7,2,    132.2,2,   144.58,2,    37.14,2,     0.00,2,     2.60,2,   2330.5,6,   2410.1,2,   7.5569,2,    25.00,  -999.00,9,  -999.00,9,   1.7300,2,      629
  49UF20180518,KS1805,  5384,  1,      7,  25241,2,20180530,0544, 23.9793, 136.9298, 3712,   2788.2,   1.6733,   1.6736,2,  34.6563,2,  34.6544,2,    136.5,2,    135.6,2,   144.61,2,    36.85,2,     0.00,2,     2.59,2,   2335.3,2,   2409.5,2,   7.5639,6,    25.00,  -999.00,9,  -999.00,9,   1.6736,2,      623
  49UF20180518,KS1805,  5384,  1,      6,  25240,2,20180530,0544, 23.9793, 136.9298, 3712,   3042.1,   1.6320,   1.6323,2,  34.6632,2,-999.0000,9,    140.5,2,    140.2,2,   145.51,2,    36.62,2,     0.00,2,     2.58,2,   2329.2,2,   2411.8,2,   7.5712,2,    25.00,  -999.00,9,  -999.00,9,   1.6323,2,      618
  49UF20180518,KS1805,  5384,  1,      5,  25239,4,20180530,0544, 23.9793, 136.9298, 3712,   3296.4,   1.5986,   1.5986,2,  34.6685,2,  34.6476,4,    144.5,2,    131.3,4,   144.34,4,    37.00,4,     0.00,4,     2.61,4,   2332.4,4,   2409.1,4,   7.5573,4,    25.00,  -999.00,9,  -999.00,9,   1.5986,2,      612
  49UF20180518,KS1805,  5384,  1,      4,  25238,2,20180530,0544, 23.9793, 136.9298, 3712,   3551.8,   1.5408,   1.5409,2,  34.6765,2,-999.0000,9,    150.4,2,    150.2,6,   143.32,6,    35.92,6,     0.00,6,     2.52,6,   2324.0,2,   2412.3,2,   7.5869,2,    25.00,  -999.00,9,  -999.00,9,   1.5409,2,      550
  49UF20180518,KS1805,  5384,  1,      3,  24271,4,20180530,0544, 23.9793, 136.9298, 3712,   3759.0,   1.5226,   1.5227,2,  34.6805,2,  34.6206,4,    153.6,2,    193.2,4,     8.11,4,     8.16,4,     0.01,4,     0.56,4,   2062.7,4,   2278.1,4,   7.8958,4,    25.00,  -999.00,9,  -999.00,9,   1.5227,2,      545
  49UF20180518,KS1805,  5384,  1,      2,  25236,2,20180530,0544, 23.9793, 136.9298, 3712,   3759.6,   1.5225,   1.5228,2,  34.6805,2,  34.6802,6,    153.6,2,    153.4,2,   143.05,2,    35.71,2,     0.00,2,     2.50,2,   2315.0,2,   2413.5,2,   7.5940,2,    25.00,  -999.00,9,  -999.00,9,   1.5228,2,      545