BOTTLE,20200311PRINUNIVRMK
EXPOCODE,SECT_ID,STNNBR,CASTNO,SAMPNO,BTLNBR,BTLNBR_FLAG_W,DATE,TIME,LATITUDE,LONGITUDE,DEPTH,CTDPRS,CTDTMP,SBE35,SBE35_FLAG_W,CTDSAL,CTDSAL_FLAG_W,SALNTY,SALNTY_FLAG_W,CTDOXY,CTDOXY_FLAG_W,OXYGEN,OXYGEN_FLAG_W,SILCAT,SILCAT_FLAG_W,NITRAT,NITRAT_FLAG_W,NITRIT,NITRIT_FLAG_W,PHSPHT,PHSPHT_FLAG_W,TCARBN,TCARBN_FLAG_W,ALKALI,ALKALI_FLAG_W,PH_TOT,PH_TOT_FLAG_W,PH_TMP,CHLORA,CHLORA_FLAG_W,PPHYTN,PPHYTN_FLAG_W,SBE35,SBE35_FLAG_W,BTL_TIME
,,,,,,,,,,,METERS,DBAR,ITS-90,,,PSS-78,,PSS-78,,UMOL/KG,,UMOL/KG,,UMOL/KG,,UMOL/KG,,UMOL/KG,,UMOL/KG,,UMOL/KG,,UMOL/KG,,,,DEG C,UG/KG,,UG/KG,,,,
  49UF20180518,KS1805,  5387,  1,     99,     99,2,20180531,0948, 24.2750, 133.9782, 4910,      0.0,  29.1538,-999.0000,9,  34.9465,2,-999.0000,9,    199.9,2,    198.8,2,     1.21,2,     0.00,2,     0.00,2,     0.01,2,   -999.0,9,   -999.0,9,-999.0000,9,  -999.00,     0.04,2,     0.01,2,-999.0000,9,     1135
  49UF20180518,KS1805,  5387,  1,     36,  25270,2,20180531,0948, 24.2750, 133.9782, 4910,     11.3,  27.6061,  27.6078,2,  34.9250,2,  34.9238,2,    203.5,2,    203.2,2,     1.20,2,     0.00,2,     0.00,2,     0.00,2,   -999.0,9,   -999.0,9,-999.0000,9,  -999.00,     0.04,2,     0.02,2,  27.6078,2,     1204
  49UF20180518,KS1805,  5387,  1,     35,  25269,2,20180531,0948, 24.2750, 133.9782, 4910,     25.8,  27.1808,  27.1774,2,  34.9202,2,-999.0000,9,    206.1,2,    205.6,2,     1.20,2,     0.00,2,     0.00,2,     0.00,2,   -999.0,9,   -999.0,9,-999.0000,9,  -999.00,     0.04,2,     0.01,2,  27.1774,2,     1202
  49UF20180518,KS1805,  5387,  1,     34,  25268,2,20180531,0948, 24.2750, 133.9782, 4910,     52.1,  22.9741,  22.9763,2,  34.9739,2,  34.9734,2,    225.8,2,    224.9,2,     1.45,2,     0.00,2,     0.00,2,     0.00,2,   -999.0,9,   -999.0,9,-999.0000,9,  -999.00,     0.08,2,     0.03,2,  22.9763,2,     1157
  49UF20180518,KS1805,  5387,  1,     33,  25267,2,20180531,0948, 24.2750, 133.9782, 4910,     75.5,  21.9684,  21.9676,2,  34.9696,2,-999.0000,9,    223.2,2,    221.2,2,     1.62,2,     0.00,2,     0.00,2,     0.01,2,   -999.0,9,   -999.0,9,-999.0000,9,  -999.00,     0.17,2,     0.08,2,  21.9676,2,     1155
  49UF20180518,KS1805,  5387,  1,     32,  25266,2,20180531,0948, 24.2750, 133.9782, 4910,    104.4,  20.6627,  20.6679,2,  34.9511,2,  34.9517,2,    212.8,2,    212.1,2,     1.79,2,     0.00,2,     0.00,2,     0.03,2,   -999.0,9,   -999.0,9,-999.0000,9,  -999.00,     0.23,2,     0.33,2,  20.6679,2,     1154
  49UF20180518,KS1805,  5387,  1,     31,  25265,2,20180531,0948, 24.2750, 133.9782, 4910,    124.7,  19.8594,  19.8631,2,  34.9293,2,-999.0000,9,    199.3,2,    198.2,2,     2.53,2,     1.86,2,     0.13,2,     0.15,2,   -999.0,9,   -999.0,9,-999.0000,9,  -999.00,     0.27,2,     0.55,2,  19.8631,2,     1152
  49UF20180518,KS1805,  5387,  1,     30,  25264,2,20180531,0948, 24.2750, 133.9782, 4910,    151.9,  18.9408,  18.9571,2,  34.8906,2,  34.8925,2,    195.4,2,    194.8,2,     3.13,2,     3.46,2,     0.02,2,     0.25,2,   -999.0,9,   -999.0,9,-999.0000,9,  -999.00,     0.09,2,     0.26,2,  18.9571,2,     1150
  49UF20180518,KS1805,  5387,  1,     29,  25263,3,20180531,0948, 24.2750, 133.9782, 4910,    202.8,  17.4174,  17.4157,2,  34.7874,2,-999.0000,9,    200.3,2,    199.5,2,     4.31,2,     4.95,2,     0.00,2,     0.34,2,   -999.0,9,   -999.0,9,-999.0000,9,  -999.00,     0.00,2,     0.02,2,  17.4157,2,     1147
  49UF20180518,KS1805,  5387,  1,     28,  25262,2,20180531,0948, 24.2750, 133.9782, 4910,    254.6,  16.5783,  16.5789,2,  34.7198,2,  34.7212,2,    201.9,2,    201.3,6,     5.62,6,     6.05,6,     0.00,6,     0.41,6,   -999.0,9,   -999.0,9,-999.0000,9,  -999.00,  -999.00,9,  -999.00,9,  16.5789,2,     1145
  49UF20180518,KS1805,  5387,  1,     27,  25261,2,20180531,0948, 24.2750, 133.9782, 4910,    305.0,  15.8472,  15.8572,2,  34.6450,2,-999.0000,9,    196.9,2,    196.6,2,     7.19,2,     7.44,2,     0.00,2,     0.51,2,   -999.0,9,   -999.0,9,-999.0000,9,  -999.00,  -999.00,9,  -999.00,9,  15.8572,2,     1142
  49UF20180518,KS1805,  5387,  1,     26,  25260,2,20180531,0948, 24.2750, 133.9782, 4910,    405.8,  12.9653,  12.9658,2,  34.4156,2,  34.4158,2,    180.8,2,    180.7,2,    17.37,2,    13.73,2,     0.00,2,     0.95,2,   -999.0,9,   -999.0,9,-999.0000,9,  -999.00,  -999.00,9,  -999.00,9,  12.9658,2,     1138
  49UF20180518,KS1805,  5387,  1,     25,  25259,2,20180531,0948, 24.2750, 133.9782, 4910,    508.5,   9.6638,   9.6657,2,  34.2049,2,-999.0000,9,    163.3,2,    163.1,2,    34.08,2,    20.90,2,     0.00,2,     1.49,2,   -999.0,9,   -999.0,9,-999.0000,9,  -999.00,  -999.00,9,  -999.00,9,   9.6657,2,     1134
  49UF20180518,KS1805,  5387,  1,     24,  25258,2,20180531,0948, 24.2750, 133.9782, 4910,    606.5,   7.6524,   7.6522,2,  34.1336,2,  34.1335,2,    133.5,2,    132.8,2,    51.95,2,    27.31,2,     0.00,2,     1.96,2,   -999.0,9,   -999.0,9,-999.0000,9,  -999.00,  -999.00,9,  -999.00,9,   7.6522,2,     1130
  49UF20180518,KS1805,  5387,  1,     23,  25257,2,20180531,0948, 24.2750, 133.9782, 4910,    708.5,   6.0704,   6.0721,2,  34.1335,2,-999.0000,9,    101.1,2,    102.1,2,    71.51,2,    32.97,2,     0.00,2,     2.38,2,   -999.0,9,   -999.0,9,-999.0000,9,  -999.00,  -999.00,9,  -999.00,9,   6.0721,2,     1127
  49UF20180518,KS1805,  5387,  1,     22,  24473,2,20180531,0948, 24.2750, 133.9782, 4910,    806.8,   4.9864,   4.9822,2,  34.1955,2,  34.1940,2,     75.9,2,     76.2,2,    91.47,6,    36.76,6,     0.00,6,     2.66,6,   -999.0,9,   -999.0,9,-999.0000,9,  -999.00,  -999.00,9,  -999.00,9,   4.9822,2,     1124
  49UF20180518,KS1805,  5387,  1,     21,  25255,2,20180531,0948, 24.2750, 133.9782, 4910,    907.0,   4.2446,   4.2443,2,  34.2844,2,-999.0000,9,     61.1,2,     61.0,2,   108.52,2,    39.35,2,     0.00,2,     2.82,2,   -999.0,9,   -999.0,9,-999.0000,9,  -999.00,  -999.00,9,  -999.00,9,   4.2443,2,     1121
  49UF20180518,KS1805,  5387,  1,     20,  24270,3,20180531,0948, 24.2750, 133.9782, 4910,   1010.0,   3.8107,   3.8108,2,  34.3411,2,  34.3411,2,     55.8,2,     56.1,2,   118.77,2,    40.32,2,     0.00,2,     2.90,2,   -999.0,9,   -999.0,9,-999.0000,9,  -999.00,  -999.00,9,  -999.00,9,   3.8108,2,     1118
  49UF20180518,KS1805,  5387,  1,     19,  25253,2,20180531,0948, 24.2750, 133.9782, 4910,   1211.8,   3.0545,   3.0546,2,  34.4424,2,-999.0000,9,     57.8,2,     57.9,2,   135.62,2,    41.13,2,     0.00,2,     2.94,2,   -999.0,9,   -999.0,9,-999.0000,9,  -999.00,  -999.00,9,  -999.00,9,   3.0546,2,     1114
  49UF20180518,KS1805,  5387,  1,     18,  25252,2,20180531,0948, 24.2750, 133.9782, 4910,   1412.3,   2.5543,   2.5536,2,  34.5182,2,  34.5173,2,     73.9,2,     74.0,2,   144.04,2,    40.54,2,     0.00,2,     2.88,2,   -999.0,9,   -999.0,9,-999.0000,9,  -999.00,  -999.00,9,  -999.00,9,   2.5536,2,     1109
  49UF20180518,KS1805,  5387,  1,     17,  25251,2,20180531,0948, 24.2750, 133.9782, 4910,   1615.0,   2.2745,   2.2743,2,  34.5681,2,-999.0000,9,     93.5,2,     93.3,2,   144.64,2,    39.45,2,     0.00,2,     2.79,2,   -999.0,9,   -999.0,9,-999.0000,9,  -999.00,  -999.00,9,  -999.00,9,   2.2743,2,     1105
  49UF20180518,KS1805,  5387,  1,     16,  25250,2,20180531,0948, 24.2750, 133.9782, 4910,   1615.7,   2.2736,   2.2738,2,  34.5682,2,-999.0000,9,     93.5,2,     93.7,2,   144.45,2,    39.43,2,     0.00,2,     2.79,2,   -999.0,9,   -999.0,9,-999.0000,9,  -999.00,  -999.00,9,  -999.00,9,   2.2738,2,     1105
  49UF20180518,KS1805,  5387,  1,     15,  25249,2,20180531,0948, 24.2750, 133.9782, 4910,   1820.2,   2.0753,   2.0753,2,  34.5961,2,  34.5951,2,    105.3,2,    105.4,6,   145.32,6,    38.70,6,     0.00,6,     2.74,6,   -999.0,9,   -999.0,9,-999.0000,9,  -999.00,  -999.00,9,  -999.00,9,   2.0753,2,     1100
  49UF20180518,KS1805,  5387,  1,     14,  25248,2,20180531,0948, 24.2750, 133.9782, 4910,   2025.5,   1.9299,   1.9300,2,  34.6178,2,  34.6166,2,    115.7,2,    116.1,2,   145.36,2,    38.07,2,     0.00,2,     2.69,2,   -999.0,9,   -999.0,9,-999.0000,9,  -999.00,  -999.00,9,  -999.00,9,   1.9300,2,     1055
  49UF20180518,KS1805,  5387,  1,     13,  25247,2,20180531,0948, 24.2750, 133.9782, 4910,   2278.9,   1.7825,   1.7828,2,  34.6381,2,-999.0000,9,    126.2,2,    126.0,2,   145.22,2,    37.52,2,     0.00,2,     2.64,2,   -999.0,9,   -999.0,9,-999.0000,9,  -999.00,  -999.00,9,  -999.00,9,   1.7828,2,     1050
  49UF20180518,KS1805,  5387,  1,     12,  25246,2,20180531,0948, 24.2750, 133.9782, 4910,   2535.7,   1.6943,   1.6943,2,  34.6504,2,  34.6493,6,    133.0,2,    133.4,2,   144.89,2,    37.11,2,     0.00,2,     2.60,2,   -999.0,9,   -999.0,9,-999.0000,9,  -999.00,  -999.00,9,  -999.00,9,   1.6943,2,     1044
  49UF20180518,KS1805,  5387,  1,     11,  25245,2,20180531,0948, 24.2750, 133.9782, 4910,   2788.2,   1.6405,   1.6405,2,  34.6587,2,-999.0000,9,    137.8,2,    137.9,2,   144.74,2,    36.81,2,     0.00,2,     2.58,2,   -999.0,9,   -999.0,9,-999.0000,9,  -999.00,  -999.00,9,  -999.00,9,   1.6405,2,     1039
  49UF20180518,KS1805,  5387,  1,     10,  25244,2,20180531,0948, 24.2750, 133.9782, 4910,   3042.1,   1.5941,   1.5943,2,  34.6659,2,  34.6641,2,    142.3,2,    142.5,2,   144.32,2,    36.57,2,     0.00,2,     2.55,2,   -999.0,9,   -999.0,9,-999.0000,9,  -999.00,  -999.00,9,  -999.00,9,   1.5943,2,     1033
  49UF20180518,KS1805,  5387,  1,      9,  25243,2,20180531,0948, 24.2750, 133.9782, 4910,   3299.1,   1.5553,   1.5553,2,  34.6724,2,-999.0000,9,    147.0,2,    147.2,2,   143.65,2,    36.23,2,     0.00,2,     2.53,2,   -999.0,9,   -999.0,9,-999.0000,9,  -999.00,  -999.00,9,  -999.00,9,   1.5553,2,     1027
  49UF20180518,KS1805,  5387,  1,      8,  25242,2,20180531,0948, 24.2750, 133.9782, 4910,   3555.1,   1.5496,   1.5496,2,  34.6758,2,  34.6748,2,    149.5,2,    149.7,2,   143.45,2,    36.04,2,     0.00,2,     2.52,2,   -999.0,9,   -999.0,9,-999.0000,9,  -999.00,  -999.00,9,  -999.00,9,   1.5496,2,     1021
  49UF20180518,KS1805,  5387,  1,      7,  25241,2,20180531,0948, 24.2750, 133.9782, 4910,   3809.6,   1.5428,   1.5429,2,  34.6792,2,-999.0000,9,    152.1,2,    152.0,2,   143.06,2,    35.89,2,     0.00,2,     2.50,2,   -999.0,9,   -999.0,9,-999.0000,9,  -999.00,  -999.00,9,  -999.00,9,   1.5429,2,     1016
  49UF20180518,KS1805,  5387,  1,      6,  25240,2,20180531,0948, 24.2750, 133.9782, 4910,   4066.4,   1.5541,   1.5541,2,  34.6810,2,  34.6802,2,    153.4,2,    153.7,2,   142.81,2,    35.86,2,     0.00,2,     2.50,2,   -999.0,9,   -999.0,9,-999.0000,9,  -999.00,  -999.00,9,  -999.00,9,   1.5541,2,     1010
  49UF20180518,KS1805,  5387,  1,      5,  25239,2,20180531,0948, 24.2750, 133.9782, 4910,   4322.5,   1.5701,   1.5701,2,  34.6823,2,-999.0000,9,    154.5,2,    154.4,2,   142.68,2,    35.80,2,     0.00,2,     2.50,2,   -999.0,9,   -999.0,9,-999.0000,9,  -999.00,  -999.00,9,  -999.00,9,   1.5701,2,     1004
  49UF20180518,KS1805,  5387,  1,      4,  25238,2,20180531,0948, 24.2750, 133.9782, 4910,   4580.6,   1.5933,   1.5934,2,  34.6830,2,  34.6818,2,    155.2,2,    155.2,2,   142.42,2,    35.78,2,     0.00,2,     2.49,2,   -999.0,9,   -999.0,9,-999.0000,9,  -999.00,  -999.00,9,  -999.00,9,   1.5934,2,      959
  49UF20180518,KS1805,  5387,  1,      3,  24271,2,20180531,0948, 24.2750, 133.9782, 4910,   4836.0,   1.6206,   1.6206,2,  34.6835,2,  34.6824,6,    155.6,2,    155.8,6,   142.43,6,    35.77,6,     0.00,6,     2.49,6,   -999.0,9,   -999.0,9,-999.0000,9,  -999.00,  -999.00,9,  -999.00,9,   1.6206,2,      953
  49UF20180518,KS1805,  5387,  1,      2,  25236,2,20180531,0948, 24.2750, 133.9782, 4910,   4996.7,   1.6398,   1.6397,2,  34.6835,2,  34.6821,2,    155.8,2,    155.3,2,   142.26,2,    35.67,2,     0.00,2,     2.49,2,   -999.0,9,   -999.0,9,-999.0000,9,  -999.00,  -999.00,9,  -999.00,9,   1.6397,2,      949
  49UF20180518,KS1805,  5387,  1,      1,  24272,2,20180531,0948, 24.2750, 133.9782, 4910,   4997.5,   1.6399,   1.6399,2,  34.6835,2,  34.6828,2,    155.8,2,    155.7,2,   142.48,2,    35.74,2,     0.00,2,     2.49,2,   -999.0,9,   -999.0,9,-999.0000,9,  -999.00,  -999.00,9,  -999.00,9,   1.6399,2,      949
  49UF20180518,KS1805,  5388,  1,     99,     99,2,20180531,1941, 23.7415, 133.0030, 3583,      0.0,  27.7998,-999.0000,9,  34.9261,2,  34.9188,2,    203.2,2,    202.6,2,     1.26,2,     0.00,2,     0.00,2,     0.01,2,   1985.4,2,   2295.2,2,-999.0000,9,  -999.00,     0.06,2,     0.01,2,-999.0000,9,     2020
  49UF20180518,KS1805,  5388,  1,     36,  25270,2,20180531,1941, 23.7415, 133.0030, 3583,     11.2,  27.1897,  27.2012,2,  34.8789,2,-999.0000,9,    205.5,2,    206.6,2,     1.28,2,     0.00,2,     0.00,2,     0.00,2,   1982.4,2,   2290.4,2,-999.0000,9,  -999.00,     0.06,2,     0.01,2,  27.2012,2,     2041
  49UF20180518,KS1805,  5388,  1,     35,  25269,2,20180531,1941, 23.7415, 133.0030, 3583,     26.4,  26.1076,  26.1130,2,  34.8558,2,  34.8675,4,    209.3,2,    212.2,2,     1.32,2,     0.00,2,     0.00,2,     0.00,2,   1983.9,2,   2291.2,2,-999.0000,9,  -999.00,     0.07,2,     0.02,2,  26.1130,2,     2040
  49UF20180518,KS1805,  5388,  1,     34,  25268,2,20180531,1941, 23.7415, 133.0030, 3583,     51.7,  22.6501,  22.6465,2,  34.9681,2,-999.0000,9,    224.3,2,    224.8,2,     1.57,2,     0.00,2,     0.00,2,     0.00,2,   1996.0,6,   2298.6,6,-999.0000,9,  -999.00,     0.10,2,     0.03,2,  22.6465,2,     2037
  49UF20180518,KS1805,  5388,  1,     33,  25267,2,20180531,1941, 23.7415, 133.0030, 3583,     76.5,  20.9175,  20.9125,2,  34.9603,2,  34.9599,2,    222.6,2,    222.3,2,     1.65,2,     0.00,2,     0.00,2,     0.01,2,   2010.5,2,   2297.3,2,-999.0000,9,  -999.00,     0.19,2,     0.16,2,  20.9125,2,     2035
  49UF20180518,KS1805,  5388,  1,     32,  25266,2,20180531,1941, 23.7415, 133.0030, 3583,    102.5,  20.1128,  20.1119,2,  34.9378,2,-999.0000,9,    214.7,2,    213.6,2,     1.96,2,     0.43,2,     0.12,2,     0.06,2,   2021.2,2,   2296.5,2,-999.0000,9,  -999.00,     0.35,2,     0.48,2,  20.1119,2,     2034
  49UF20180518,KS1805,  5388,  1,     31,  25265,2,20180531,1941, 23.7415, 133.0030, 3583,    127.1,  19.4103,  19.4098,2,  34.9172,2,  34.9150,2,    209.0,2,    209.1,2,     2.44,2,     1.72,2,     0.04,2,     0.13,2,   2030.4,2,   2292.9,2,-999.0000,9,  -999.00,     0.11,2,     0.26,2,  19.4098,2,     2032
  49UF20180518,KS1805,  5388,  1,     27,  25261,2,20180531,1941, 23.7415, 133.0030, 3583,    151.9,  18.8799,  18.8804,2,  34.8877,2,-999.0000,9,    208.9,2,    208.7,2,     2.76,2,     2.32,2,     0.02,2,     0.17,2,   2031.9,2,   2288.0,2,-999.0000,9,  -999.00,     0.04,2,     0.07,2,  18.8804,2,     2031
  49UF20180518,KS1805,  5388,  1,     26,  25260,2,20180531,1941, 23.7415, 133.0030, 3583,    203.8,  17.8917,  17.8895,2,  34.8292,2,-999.0000,9,    204.5,2,    204.9,2,     3.72,2,     3.91,2,     0.01,2,     0.27,2,   2045.7,6,   2285.5,6,-999.0000,9,  -999.00,     0.00,2,     0.02,2,  17.8895,2,     2029
  49UF20180518,KS1805,  5388,  1,     25,  25259,2,20180531,1941, 23.7415, 133.0030, 3583,    252.7,  17.0650,  17.0676,2,  34.7645,2,-999.0000,9,    202.8,2,    203.0,2,     4.74,2,     5.24,2,     0.01,2,     0.35,2,   -999.0,9,   -999.0,9,-999.0000,9,  -999.00,  -999.00,9,  -999.00,9,  17.0676,2,     2027
  49UF20180518,KS1805,  5388,  1,     24,  25258,3,20180531,1941, 23.7415, 133.0030, 3583,    302.7,  16.4435,  16.4429,2,  34.7229,2,  34.7219,2,    206.9,2,    207.1,2,     5.71,2,     5.84,2,     0.00,2,     0.39,2,   -999.0,9,   -999.0,9,-999.0000,9,  -999.00,  -999.00,9,  -999.00,9,  16.4429,2,     2026
  49UF20180518,KS1805,  5388,  1,     23,  25257,2,20180531,1941, 23.7415, 133.0030, 3583,    406.7,  14.0457,  14.0476,2,  34.4959,2,-999.0000,9,    184.9,2,    185.1,2,    13.58,2,    11.54,2,     0.00,2,     0.79,2,   -999.0,9,   -999.0,9,-999.0000,9,  -999.00,  -999.00,9,  -999.00,9,  14.0476,2,     2023
  49UF20180518,KS1805,  5388,  1,     22,  24473,2,20180531,1941, 23.7415, 133.0030, 3583,    406.9,  14.0486,  14.0493,2,  34.4961,2,-999.0000,9,    184.8,2,    185.2,2,    13.59,2,    11.55,2,     0.00,2,     0.79,2,   -999.0,9,   -999.0,9,-999.0000,9,  -999.00,  -999.00,9,  -999.00,9,  14.0493,2,     2023
  49UF20180518,KS1805,  5388,  1,     18,  25252,2,20180531,1941, 23.7415, 133.0030, 3583,    507.8,  10.8076,  10.8076,2,  34.2703,2,  34.2705,2,    172.5,2,    172.3,6,    27.17,6,    18.15,6,     0.00,6,     1.28,6,   -999.0,9,   -999.0,9,-999.0000,9,  -999.00,  -999.00,9,  -999.00,9,  10.8076,2,     2020
  49UF20180518,KS1805,  5388,  1,     17,  25251,2,20180531,1941, 23.7415, 133.0030, 3583,    608.4,   8.2208,   8.2239,2,  34.1602,2,-999.0000,9,    138.6,2,    139.1,2,    46.75,2,    25.69,2,     0.00,2,     1.84,2,   -999.0,9,   -999.0,9,-999.0000,9,  -999.00,  -999.00,9,  -999.00,9,   8.2239,2,     2017
  49UF20180518,KS1805,  5388,  1,     16,  25250,2,20180531,1941, 23.7415, 133.0030, 3583,    709.4,   6.0281,   6.0274,2,  34.1425,2,  34.1425,2,    100.5,2,    100.3,2,    73.48,2,    33.14,2,     0.00,2,     2.38,2,   -999.0,9,   -999.0,9,-999.0000,9,  -999.00,  -999.00,9,  -999.00,9,   6.0274,2,     2014
  49UF20180518,KS1805,  5388,  1,     15,  25249,2,20180531,1941, 23.7415, 133.0030, 3583,    808.9,   5.0948,   5.0951,2,  34.1969,2,-999.0000,9,     78.5,2,     78.8,2,    90.52,2,    36.60,2,     0.00,2,     2.63,2,   -999.0,9,   -999.0,9,-999.0000,9,  -999.00,  -999.00,9,  -999.00,9,   5.0951,2,     2011
  49UF20180518,KS1805,  5388,  1,     14,  25248,2,20180531,1941, 23.7415, 133.0030, 3583,    910.6,   4.2552,   4.2569,2,  34.2838,2,  34.2812,6,     60.2,2,     60.6,2,   107.78,2,    39.36,2,     0.00,2,     2.83,2,   -999.0,9,   -999.0,9,-999.0000,9,  -999.00,  -999.00,9,  -999.00,9,   4.2569,2,     2008
  49UF20180518,KS1805,  5388,  1,     13,  25247,2,20180531,1941, 23.7415, 133.0030, 3583,   1012.0,   3.7320,   3.7318,2,  34.3485,2,-999.0000,9,     55.1,2,     55.3,2,   120.24,2,    40.57,2,     0.00,2,     2.91,2,   -999.0,9,   -999.0,9,-999.0000,9,  -999.00,  -999.00,9,  -999.00,9,   3.7318,2,     2006
  49UF20180518,KS1805,  5388,  1,      9,  25243,2,20180531,1941, 23.7415, 133.0030, 3583,   1215.0,   3.1908,   3.1910,2,  34.4541,2,  34.4521,6,     63.9,2,     63.9,2,   131.04,2,    40.62,2,     0.00,2,     2.90,2,   -999.0,9,   -999.0,9,-999.0000,9,  -999.00,  -999.00,9,  -999.00,9,   3.1910,2,     2001
  49UF20180518,KS1805,  5388,  1,      8,  25242,2,20180531,1941, 23.7415, 133.0030, 3583,   1415.6,   2.6191,   2.6191,2,  34.5260,2,-999.0000,9,     79.9,2,     79.6,2,   140.59,2,    40.08,2,     0.00,2,     2.84,2,   -999.0,9,   -999.0,9,-999.0000,9,  -999.00,  -999.00,9,  -999.00,9,   2.6191,2,     1956
  49UF20180518,KS1805,  5388,  1,      6,  25240,2,20180531,1941, 23.7415, 133.0030, 3583,   1620.9,   2.3018,   2.3020,2,  34.5643,2,-999.0000,9,     92.2,2,     93.4,2,   144.55,2,    39.47,2,     0.00,2,     2.79,2,   -999.0,9,   -999.0,9,-999.0000,9,  -999.00,  -999.00,9,  -999.00,9,   2.3020,2,     1951
  49UF20180518,KS1805,  5388,  1,      7,  25241,2,20180531,1941, 23.7415, 133.0030, 3583,   1621.2,   2.3013,   2.3015,2,  34.5644,2,-999.0000,9,     92.3,2,     92.2,2,   144.42,2,    39.53,2,     0.00,2,     2.79,2,   -999.0,9,   -999.0,9,-999.0000,9,  -999.00,  -999.00,9,  -999.00,9,   2.3015,2,     1951
  49UF20180518,KS1805,  5388,  1,      5,  25239,2,20180531,1941, 23.7415, 133.0030, 3583,   1821.5,   2.0938,   2.0940,2,  34.5957,2,  34.5950,2,    105.9,2,    105.4,6,   144.79,6,    38.71,6,     0.00,6,     2.73,6,   -999.0,9,   -999.0,9,-999.0000,9,  -999.00,  -999.00,9,  -999.00,9,   2.0940,2,     1946
  49UF20180518,KS1805,  5388,  1,      4,  25238,2,20180531,1941, 23.7415, 133.0030, 3583,   2026.4,   1.9418,   1.9410,2,  34.6177,2,  34.6178,2,    116.3,2,    116.0,2,   145.04,2,    38.09,2,     0.00,2,     2.68,2,   -999.0,9,   -999.0,9,-999.0000,9,  -999.00,  -999.00,9,  -999.00,9,   1.9410,2,     1942