BOTTLE,20200311PRINUNIVRMK
EXPOCODE,SECT_ID,STNNBR,CASTNO,SAMPNO,BTLNBR,BTLNBR_FLAG_W,DATE,TIME,LATITUDE,LONGITUDE,DEPTH,CTDPRS,CTDTMP,SBE35,SBE35_FLAG_W,CTDSAL,CTDSAL_FLAG_W,SALNTY,SALNTY_FLAG_W,CTDOXY,CTDOXY_FLAG_W,OXYGEN,OXYGEN_FLAG_W,SILCAT,SILCAT_FLAG_W,NITRAT,NITRAT_FLAG_W,NITRIT,NITRIT_FLAG_W,PHSPHT,PHSPHT_FLAG_W,TCARBN,TCARBN_FLAG_W,ALKALI,ALKALI_FLAG_W,PH_TOT,PH_TOT_FLAG_W,PH_TMP,CHLORA,CHLORA_FLAG_W,PPHYTN,PPHYTN_FLAG_W,SBE35,SBE35_FLAG_W,BTL_TIME
,,,,,,,,,,,METERS,DBAR,ITS-90,,,PSS-78,,PSS-78,,UMOL/KG,,UMOL/KG,,UMOL/KG,,UMOL/KG,,UMOL/KG,,UMOL/KG,,UMOL/KG,,UMOL/KG,,,,DEG C,UG/KG,,UG/KG,,,,
  49UF20180518,KS1805,  5375,  1,     99,     99,2,20180526,1521, 24.2722, 149.0357, 5740,      0.0,  28.4341,-999.0000,9,  35.0470,2,  35.0469,2,    198.9,2,    198.9,2,     1.19,2,     0.00,2,     0.00,2,     0.03,2,   1976.9,2,   2301.2,2,   8.1057,2,    25.00,     0.06,2,     0.01,2,-999.0000,9,     1725
  49UF20180518,KS1805,  5375,  1,     36,  25270,2,20180526,1521, 24.2722, 149.0357, 5740,     11.0,  28.3587,  28.3571,2,  35.0411,2,  35.0457,2,    199.4,2,    199.9,2,     1.20,2,     0.00,2,     0.00,2,     0.01,2,   1979.0,2,   2302.7,2,   8.1043,2,    25.00,     0.05,2,     0.02,2,  28.3571,2,     1758
  49UF20180518,KS1805,  5375,  1,     35,  25269,2,20180526,1521, 24.2722, 149.0357, 5740,     25.9,  26.8548,  26.8539,2,  35.0589,2,-999.0000,9,    206.1,2,    205.8,2,     1.22,2,     0.00,2,     0.00,2,     0.01,2,   1979.8,2,   2302.4,2,   8.1014,2,    25.00,     0.06,2,     0.02,2,  26.8539,2,     1756
  49UF20180518,KS1805,  5375,  1,     34,  25268,2,20180526,1521, 24.2722, 149.0357, 5740,     50.9,  25.0685,  25.0672,2,  35.0147,2,  35.0387,4,    215.0,2,    215.2,2,     1.25,2,     0.00,2,     0.00,2,     0.01,2,   1978.3,2,   2300.6,2,   8.1027,2,    25.00,     0.08,2,     0.02,2,  25.0672,2,     1751
  49UF20180518,KS1805,  5375,  1,     33,  25267,2,20180526,1521, 24.2722, 149.0357, 5740,     76.7,  24.5491,  24.5475,2,  35.0741,2,-999.0000,9,    213.8,2,    214.0,2,     1.27,2,     0.00,2,     0.00,2,     0.01,2,   1984.3,2,   2303.3,2,   8.0976,2,    25.00,     0.10,2,     0.04,2,  24.5475,2,     1749
  49UF20180518,KS1805,  5375,  1,     32,  25266,2,20180526,1521, 24.2722, 149.0357, 5740,     99.9,  23.9087,  23.9114,2,  35.0158,2,  35.0185,2,    214.4,2,    213.6,2,     1.36,2,     0.00,2,     0.00,2,     0.01,2,   1987.3,2,   2299.3,2,   8.0852,2,    25.00,     0.16,2,     0.07,2,  23.9114,2,     1748
  49UF20180518,KS1805,  5375,  1,     31,  25265,2,20180526,1521, 24.2722, 149.0357, 5740,    128.6,  22.8951,  22.8887,2,  35.0312,2,-999.0000,9,    210.4,2,    209.9,2,     1.57,2,     0.00,2,     0.00,2,     0.02,2,   2003.0,2,   2301.4,2,   8.0625,2,    25.00,     0.24,2,     0.29,2,  22.8887,2,     1746
  49UF20180518,KS1805,  5375,  1,     30,  25264,2,20180526,1521, 24.2722, 149.0357, 5740,    152.4,  21.4137,  21.4204,2,  35.0200,2,  35.0158,2,    205.1,2,    204.5,2,     1.90,2,     0.22,2,     0.09,2,     0.05,2,   2024.6,2,   2299.0,2,   8.0290,2,    25.00,     0.13,2,     0.35,2,  21.4204,2,     1744
  49UF20180518,KS1805,  5375,  1,     29,  25263,2,20180526,1521, 24.2722, 149.0357, 5740,    202.8,  18.8943,  18.8958,2,  34.9010,2,-999.0000,9,    202.8,2,    202.6,2,     2.87,2,     2.44,2,     0.02,2,     0.19,2,   2036.8,2,   2289.8,2,   7.9808,2,    25.00,     0.03,2,     0.06,2,  18.8958,2,     1742
  49UF20180518,KS1805,  5375,  1,     28,  25262,2,20180526,1521, 24.2722, 149.0357, 5740,    251.9,  17.7415,  17.7422,2,  34.8210,2,  34.8190,2,    204.1,2,    204.2,2,     3.77,2,     4.04,2,     0.01,2,     0.28,2,   2049.2,2,   2287.6,2,   7.9603,2,    25.00,  -999.00,9,  -999.00,9,  17.7422,2,     1739
  49UF20180518,KS1805,  5375,  1,     27,  25261,2,20180526,1521, 24.2722, 149.0357, 5740,    302.7,  16.9586,  16.9578,2,  34.7700,2,-999.0000,9,    211.0,2,    210.8,2,     4.39,2,     4.67,2,     0.01,2,     0.32,2,   2051.7,2,   2283.2,2,   7.9536,2,    25.00,  -999.00,9,  -999.00,9,  16.9578,2,     1737
  49UF20180518,KS1805,  5375,  1,     26,  25260,2,20180526,1521, 24.2722, 149.0357, 5740,    404.1,  15.1446,  15.1446,2,  34.5817,2,  34.5810,2,    197.2,2,    197.2,6,     8.85,6,     8.63,6,     0.00,6,     0.59,6,   2074.7,2,   2276.6,2,   7.8909,2,    25.00,  -999.00,9,  -999.00,9,  15.1446,2,     1733
  49UF20180518,KS1805,  5375,  1,     25,  25259,2,20180526,1521, 24.2722, 149.0357, 5740,    505.1,  12.0351,  12.0371,2,  34.3243,2,-999.0000,9,    185.2,2,    185.1,2,    17.88,2,    14.72,2,     0.00,2,     1.03,2,   2112.6,6,   2270.7,2,   7.7888,2,    25.00,  -999.00,9,  -999.00,9,  12.0371,2,     1730
  49UF20180518,KS1805,  5375,  1,     24,  25258,2,20180526,1521, 24.2722, 149.0357, 5740,    607.1,   9.0743,   9.0827,2,  34.1433,2,  34.1437,2,    159.2,2,    159.2,2,    33.49,2,    22.32,2,     0.00,2,     1.59,2,   2165.8,2,   2274.0,2,   7.6666,6,    25.00,  -999.00,9,  -999.00,9,   9.0827,2,     1726
  49UF20180518,KS1805,  5375,  1,     23,  25257,2,20180526,1521, 24.2722, 149.0357, 5740,    707.1,   6.7605,   6.7607,2,  34.0895,2,-999.0000,9,    115.2,2,    114.7,2,    58.08,2,    30.78,2,     0.00,2,     2.21,2,   2227.0,2,   2291.9,2,   7.5308,2,    25.00,  -999.00,9,  -999.00,9,   6.7607,2,     1723
  49UF20180518,KS1805,  5375,  1,     22,  24473,2,20180526,1521, 24.2722, 149.0357, 5740,    807.9,   5.1957,   5.1956,2,  34.1561,2,  34.1567,2,     70.5,2,     70.6,2,    84.32,2,    37.41,2,     0.00,2,     2.69,2,   2289.8,2,   2318.2,2,   7.4284,2,    25.00,  -999.00,9,  -999.00,9,   5.1956,2,     1719
  49UF20180518,KS1805,  5375,  1,     21,  25255,2,20180526,1521, 24.2722, 149.0357, 5740,    908.6,   4.4404,   4.4406,2,  34.2528,2,-999.0000,9,     51.2,2,     51.6,2,   102.00,2,    40.27,2,     0.00,2,     2.89,2,   2322.0,2,   2338.5,2,   7.3925,2,    25.00,  -999.00,9,  -999.00,9,   4.4406,2,     1716
  49UF20180518,KS1805,  5375,  1,     20,  24270,2,20180526,1521, 24.2722, 149.0357, 5740,   1011.2,   3.9527,   3.9529,2,  34.3396,2,  34.3379,2,     45.9,2,     45.8,2,   114.63,2,    41.38,2,     0.00,2,     2.97,2,   2342.6,2,   2355.0,2,   7.3884,2,    25.00,  -999.00,9,  -999.00,9,   3.9529,2,     1712
  49UF20180518,KS1805,  5375,  1,     19,  25253,2,20180526,1521, 24.2722, 149.0357, 5740,   1213.2,   3.2876,   3.2877,2,  34.4501,2,-999.0000,9,     53.9,2,     54.6,2,   130.04,2,    41.56,2,     0.00,2,     2.96,2,   2355.2,2,   2374.0,2,   7.4115,2,    25.00,  -999.00,9,  -999.00,9,   3.2877,2,     1707
  49UF20180518,KS1805,  5375,  1,     18,  25252,2,20180526,1521, 24.2722, 149.0357, 5740,   1415.1,   2.8078,   2.8077,2,  34.4985,2,  34.4981,2,     59.6,2,     60.3,2,   141.42,2,    41.57,2,     0.00,2,     2.95,2,   2361.8,2,   2389.6,2,   7.4208,2,    25.00,  -999.00,9,  -999.00,9,   2.8077,2,     1702
  49UF20180518,KS1805,  5375,  1,     17,  25251,2,20180526,1521, 24.2722, 149.0357, 5740,   1617.0,   2.3620,   2.3620,2,  34.5569,2,-999.0000,9,     79.1,2,     78.9,6,   147.47,6,    40.51,6,     0.00,6,     2.86,6,   2362.4,2,   2398.3,2,   7.4596,2,    25.00,  -999.00,9,  -999.00,9,   2.3620,2,     1656
  49UF20180518,KS1805,  5375,  1,     16,  25250,2,20180526,1521, 24.2722, 149.0357, 5740,   1822.9,   2.1170,   2.1170,2,  34.5893,2,  34.5901,2,     91.4,2,     91.5,2,   150.07,2,    39.90,2,     0.00,2,     2.81,2,   2357.5,6,   2403.0,6,   7.4810,2,    25.00,  -999.00,9,  -999.00,9,   2.1170,2,     1651
  49UF20180518,KS1805,  5375,  1,     15,  25249,2,20180526,1521, 24.2722, 149.0357, 5740,   2026.6,   1.9564,   1.9564,2,  34.6151,2,-999.0000,9,    104.0,2,    104.4,2,  -999.00,9,  -999.00,9,  -999.00,9,  -999.00,9,   2349.1,2,   2408.1,2,   7.5069,6,    25.00,  -999.00,9,  -999.00,9,   1.9564,2,     1646
  49UF20180518,KS1805,  5375,  1,     14,  25248,2,20180526,1521, 24.2722, 149.0357, 5740,   2279.9,   1.8318,   1.8319,2,  34.6328,2,  34.6332,2,    113.2,2,    113.3,2,   150.67,2,    38.78,2,     0.00,2,     2.71,2,   2345.5,2,   2410.5,2,   7.5249,2,    25.00,  -999.00,9,  -999.00,9,   1.8319,2,     1641
  49UF20180518,KS1805,  5375,  1,     13,  25247,2,20180526,1521, 24.2722, 149.0357, 5740,   2535.0,   1.7414,   1.7415,2,  34.6458,2,  34.6453,6,    120.4,2,    120.2,2,   151.17,2,    38.16,2,     0.00,2,     2.67,2,   2346.0,2,   2412.2,2,   7.5376,2,    25.00,  -999.00,9,  -999.00,9,   1.7415,2,     1635
  49UF20180518,KS1805,  5375,  1,     12,  25246,2,20180526,1521, 24.2722, 149.0357, 5740,   2786.9,   1.6613,   1.6613,2,  34.6563,2,  34.6575,2,    127.3,2,    127.3,6,   151.22,6,    37.75,6,     0.00,6,     2.63,6,   2343.7,2,   2415.3,2,   7.5491,2,    25.00,  -999.00,9,  -999.00,9,   1.6613,2,     1629
  49UF20180518,KS1805,  5375,  1,     11,  25245,2,20180526,1521, 24.2722, 149.0357, 5740,   3043.9,   1.6063,   1.6060,2,  34.6643,2,  34.6650,2,    133.0,2,    132.7,2,   150.99,2,    37.29,2,     0.00,2,     2.60,2,   2339.3,2,   2414.9,2,   7.5590,2,    25.00,  -999.00,9,  -999.00,9,   1.6060,2,     1623
  49UF20180518,KS1805,  5375,  1,     10,  25244,2,20180526,1521, 24.2722, 149.0357, 5740,   3298.3,   1.5626,   1.5626,2,  34.6703,2,  34.6698,2,    138.4,2,    138.6,2,   150.56,2,    36.98,2,     0.00,2,     2.58,2,   2337.3,2,   2416.6,2,   7.5670,2,    25.00,  -999.00,9,  -999.00,9,   1.5626,2,     1618
  49UF20180518,KS1805,  5375,  1,      9,  25243,2,20180526,1521, 24.2722, 149.0357, 5740,   3553.6,   1.5227,   1.5228,2,  34.6758,2,  34.6765,2,    143.8,2,    143.3,2,   149.49,2,    36.63,2,     0.00,2,     2.55,2,   2333.4,2,   2416.6,2,   7.5748,6,    25.00,  -999.00,9,  -999.00,9,   1.5228,2,     1612
  49UF20180518,KS1805,  5375,  1,      8,  25242,2,20180526,1521, 24.2722, 149.0357, 5740,   3810.6,   1.5066,   1.5066,2,  34.6796,2,  34.6791,2,    147.9,2,    147.9,2,   148.19,2,    36.47,2,     0.00,2,     2.53,2,   2329.0,2,   2415.2,2,   7.5816,2,    25.00,  -999.00,9,  -999.00,9,   1.5066,2,     1606
  49UF20180518,KS1805,  5375,  1,      7,  25241,2,20180526,1521, 24.2722, 149.0357, 5740,   4065.0,   1.4889,   1.4888,2,  34.6835,2,  34.6826,6,    152.4,2,    152.2,2,   146.71,2,    36.07,2,     0.00,2,     2.50,2,   2322.1,3,   2415.0,2,   7.5853,2,    25.00,  -999.00,9,  -999.00,9,   1.4888,2,     1600
  49UF20180518,KS1805,  5375,  1,      6,  25240,2,20180526,1521, 24.2722, 149.0357, 5740,   4579.1,   1.4877,   1.4877,2,  34.6887,2,  34.6879,2,    160.0,2,    160.0,2,   143.37,2,    35.58,2,     0.00,2,     2.46,2,   2318.5,2,   2411.3,2,   7.5988,2,    25.00,  -999.00,9,  -999.00,9,   1.4877,2,     1550
  49UF20180518,KS1805,  5375,  1,      5,  25239,2,20180526,1521, 24.2722, 149.0357, 5740,   4835.0,   1.4970,   1.4970,2,  34.6908,2,  34.6893,2,    163.1,2,    162.4,2,   141.84,2,    35.42,2,     0.00,2,     2.45,2,   2319.5,2,   2412.9,2,   7.6026,2,    25.00,  -999.00,9,  -999.00,9,   1.4970,2,     1544
  49UF20180518,KS1805,  5375,  1,      4,  25238,2,20180526,1521, 24.2722, 149.0357, 5740,   5094.7,   1.5053,   1.5054,2,  34.6931,2,  34.6919,2,    166.7,2,    166.8,2,   139.60,2,    35.08,2,     0.00,2,     2.43,2,   2314.5,2,   2408.3,2,   7.6081,2,    25.00,  -999.00,9,  -999.00,9,   1.5054,2,     1539
  49UF20180518,KS1805,  5375,  1,      3,  24271,2,20180526,1521, 24.2722, 149.0357, 5740,   5350.5,   1.5206,   1.5207,2,  34.6947,2,  34.6940,2,    169.4,2,    169.7,6,   137.66,6,    34.89,6,     0.00,6,     2.43,6,   2310.0,2,   2406.9,2,   7.6126,2,    25.00,  -999.00,9,  -999.00,9,   1.5207,2,     1533
  49UF20180518,KS1805,  5375,  1,      2,  25236,2,20180526,1521, 24.2722, 149.0357, 5740,   5608.8,   1.5396,   1.5397,2,  34.6961,2,-999.0000,9,    171.5,2,    171.7,2,   136.32,2,    34.75,2,     0.00,2,     2.40,2,   2307.9,6,   2406.3,6,   7.6137,2,    25.00,  -999.00,9,  -999.00,9,   1.5397,2,     1527
  49UF20180518,KS1805,  5375,  1,      1,  24272,2,20180526,1521, 24.2722, 149.0357, 5740,   5879.8,   1.5586,   1.5585,2,  34.6975,2,  34.6982,2,    174.1,2,    173.6,2,   134.78,2,    34.66,2,     0.00,2,     2.39,2,   2302.7,2,   2402.2,2,   7.6138,6,    25.00,  -999.00,9,  -999.00,9,   1.5585,2,     1521
  49UF20180518,KS1805,  5376,  1,     99,     99,2,20180527,0225, 24.2483, 147.2538, 5810,      0.0,  28.1802,-999.0000,9,  34.9543,2,-999.0000,9,    200.5,2,    200.4,2,     1.19,2,     0.00,2,     0.00,2,     0.03,2,   -999.0,9,   -999.0,9,-999.0000,9,  -999.00,  -999.00,9,  -999.00,9,-999.0000,9,      305
  49UF20180518,KS1805,  5376,  1,     36,  25270,2,20180527,0225, 24.2483, 147.2538, 5810,     10.8,  27.9784,  27.9902,2,  34.9628,2,-999.0000,9,    201.3,2,    201.1,2,     1.17,2,     0.00,2,     0.00,2,     0.01,2,   -999.0,9,   -999.0,9,-999.0000,9,  -999.00,  -999.00,9,  -999.00,9,  27.9902,2,      332
  49UF20180518,KS1805,  5376,  1,     35,  25269,2,20180527,0225, 24.2483, 147.2538, 5810,     26.7,  26.6287,  26.6722,2,  34.9651,2,  34.9710,2,    208.9,2,    208.2,2,     1.21,2,     0.00,2,     0.00,2,     0.01,2,   -999.0,9,   -999.0,9,-999.0000,9,  -999.00,  -999.00,9,  -999.00,9,  26.6722,2,      330
  49UF20180518,KS1805,  5376,  1,     34,  25268,2,20180527,0225, 24.2483, 147.2538, 5810,     51.4,  25.1831,  25.1956,2,  35.0571,2,-999.0000,9,    213.5,2,    213.0,2,     1.26,2,     0.00,2,     0.00,2,     0.00,2,   -999.0,9,   -999.0,9,-999.0000,9,  -999.00,  -999.00,9,  -999.00,9,  25.1956,2,      326
  49UF20180518,KS1805,  5376,  1,     30,  25264,2,20180527,0225, 24.2483, 147.2538, 5810,     76.7,  24.3597,  24.3606,2,  35.0150,2,  35.0144,2,    214.9,2,    214.3,2,     1.29,2,     0.00,2,     0.00,2,     0.00,2,   -999.0,9,   -999.0,9,-999.0000,9,  -999.00,  -999.00,9,  -999.00,9,  24.3606,2,      325
  49UF20180518,KS1805,  5376,  1,     29,  25263,2,20180527,0225, 24.2483, 147.2538, 5810,    101.6,  23.8920,  23.8910,2,  35.0327,2,-999.0000,9,    212.5,2,    212.3,2,     1.34,2,     0.00,2,     0.00,2,     0.00,2,   -999.0,9,   -999.0,9,-999.0000,9,  -999.00,  -999.00,9,  -999.00,9,  23.8910,2,      323
  49UF20180518,KS1805,  5376,  1,     28,  25262,2,20180527,0225, 24.2483, 147.2538, 5810,    127.1,  23.2034,  23.2002,2,  35.0262,2,  35.0261,2,    211.0,2,    211.0,2,     1.47,2,     0.00,2,     0.00,2,     0.01,2,   -999.0,9,   -999.0,9,-999.0000,9,  -999.00,  -999.00,9,  -999.00,9,  23.2002,2,      322
  49UF20180518,KS1805,  5376,  1,     27,  25261,2,20180527,0225, 24.2483, 147.2538, 5810,    153.2,  21.8013,  21.7926,2,  34.9914,2,-999.0000,9,    209.6,2,    209.7,2,     1.78,2,    -0.06,2,     0.06,2,     0.03,2,   -999.0,9,   -999.0,9,-999.0000,9,  -999.00,  -999.00,9,  -999.00,9,  21.7926,2,      320
  49UF20180518,KS1805,  5376,  1,     26,  25260,2,20180527,0225, 24.2483, 147.2538, 5810,    202.6,  19.1090,  19.1081,2,  34.8982,2,  34.8974,2,    204.9,2,    204.9,2,     2.82,2,     2.31,2,     0.01,2,     0.18,2,   -999.0,9,   -999.0,9,-999.0000,9,  -999.00,  -999.00,9,  -999.00,9,  19.1081,2,      318
  49UF20180518,KS1805,  5376,  1,     25,  25259,2,20180527,0225, 24.2483, 147.2538, 5810,    253.5,  17.6627,  17.6621,2,  34.8147,2,-999.0000,9,    205.1,2,    205.1,2,     3.81,2,     4.12,2,     0.01,2,     0.28,2,   -999.0,9,   -999.0,9,-999.0000,9,  -999.00,  -999.00,9,  -999.00,9,  17.6621,2,      316
  49UF20180518,KS1805,  5376,  1,     21,  25255,2,20180527,0225, 24.2483, 147.2538, 5810,    304.0,  16.7152,  16.7157,2,  34.7489,2,  34.7492,2,    209.2,2,    209.3,2,     4.89,2,     5.18,2,     0.01,2,     0.35,2,   -999.0,9,   -999.0,9,-999.0000,9,  -999.00,  -999.00,9,  -999.00,9,  16.7157,2,      314
  49UF20180518,KS1805,  5376,  1,     20,  24270,3,20180527,0225, 24.2483, 147.2538, 5810,    304.0,  16.7153,  16.7154,2,  34.7488,2,  34.7483,2,    209.2,2,    209.6,2,     4.91,2,     5.17,2,     0.01,2,     0.35,2,   -999.0,9,   -999.0,9,-999.0000,9,  -999.00,  -999.00,9,  -999.00,9,  16.7154,2,      314
  49UF20180518,KS1805,  5376,  1,     19,  25253,2,20180527,0225, 24.2483, 147.2538, 5810,    404.2,  14.4408,  14.4411,2,  34.5092,2,-999.0000,9,    195.0,2,    195.1,6,    10.01,6,     9.68,6,     0.01,6,     0.67,6,   -999.0,9,   -999.0,9,-999.0000,9,  -999.00,  -999.00,9,  -999.00,9,  14.4411,2,      310
  49UF20180518,KS1805,  5376,  1,     18,  25252,2,20180527,0225, 24.2483, 147.2538, 5810,    506.1,  11.1649,  11.1641,2,  34.2611,2,  34.2614,2,    178.7,2,    178.6,2,    21.39,2,    16.87,2,     0.00,2,     1.19,2,   -999.0,9,   -999.0,9,-999.0000,9,  -999.00,  -999.00,9,  -999.00,9,  11.1641,2,      307
  49UF20180518,KS1805,  5376,  1,     17,  25251,2,20180527,0225, 24.2483, 147.2538, 5810,    608.0,   8.8657,   8.8642,2,  34.1339,2,-999.0000,9,    157.4,2,    157.2,2,    35.47,2,    22.92,2,     0.00,2,     1.63,2,   -999.0,9,   -999.0,9,-999.0000,9,  -999.00,  -999.00,9,  -999.00,9,   8.8642,2,      304
  49UF20180518,KS1805,  5376,  1,     16,  25250,2,20180527,0225, 24.2483, 147.2538, 5810,    707.3,   6.8438,   6.8444,2,  34.1131,2,  34.1152,2,    107.2,2,    106.2,2,    57.71,2,    31.28,2,     0.00,2,     2.25,2,   -999.0,9,   -999.0,9,-999.0000,9,  -999.00,  -999.00,9,  -999.00,9,   6.8444,2,      301
  49UF20180518,KS1805,  5376,  1,     12,  25246,2,20180527,0225, 24.2483, 147.2538, 5810,    809.9,   5.3489,   5.3490,2,  34.1629,2,-999.0000,9,     69.3,2,     69.3,2,    81.73,2,    37.18,2,     0.00,2,     2.68,2,   -999.0,9,   -999.0,9,-999.0000,9,  -999.00,  -999.00,9,  -999.00,9,   5.3490,2,      257
  49UF20180518,KS1805,  5376,  1,     11,  25245,2,20180527,0225, 24.2483, 147.2538, 5810,    909.2,   4.6178,   4.6190,2,  34.2674,2,  34.2681,6,     50.9,2,     50.8,2,    98.25,2,    40.01,2,     0.00,2,     2.89,2,   -999.0,9,   -999.0,9,-999.0000,9,  -999.00,  -999.00,9,  -999.00,9,   4.6190,2,      254
  49UF20180518,KS1805,  5376,  1,     10,  25244,2,20180527,0225, 24.2483, 147.2538, 5810,   1008.8,   4.0494,   4.0491,2,  34.3396,2,-999.0000,9,     47.7,2,     47.4,2,   111.72,2,    40.95,2,     0.00,2,     2.95,2,   -999.0,9,   -999.0,9,-999.0000,9,  -999.00,  -999.00,9,  -999.00,9,   4.0491,2,      251
  49UF20180518,KS1805,  5376,  1,      9,  25243,2,20180527,0225, 24.2483, 147.2538, 5810,   1212.9,   3.3614,   3.3619,2,  34.4429,2,  34.4435,2,     55.2,2,     55.3,2,   127.27,2,    41.23,2,     0.00,2,     2.95,2,   -999.0,9,   -999.0,9,-999.0000,9,  -999.00,  -999.00,9,  -999.00,9,   3.3619,2,      246
  49UF20180518,KS1805,  5376,  1,      8,  25242,2,20180527,0225, 24.2483, 147.2538, 5810,   1213.0,   3.3616,   3.3618,2,  34.4429,2,  34.4416,2,     55.2,2,     55.0,2,   127.61,2,    41.19,2,     0.00,2,     2.95,2,   -999.0,9,   -999.0,9,-999.0000,9,  -999.00,  -999.00,9,  -999.00,9,   3.3618,2,      246
  49UF20180518,KS1805,  5376,  1,      7,  25241,2,20180527,0225, 24.2483, 147.2538, 5810,   1414.5,   2.7444,   2.7444,2,  34.4954,2,-999.0000,9,     57.5,2,     57.5,6,   143.30,6,    41.60,6,     0.00,6,     2.96,6,   -999.0,9,   -999.0,9,-999.0000,9,  -999.00,  -999.00,9,  -999.00,9,   2.7444,2,      241
  49UF20180518,KS1805,  5376,  1,      3,  24271,2,20180527,0225, 24.2483, 147.2538, 5810,   1619.8,   2.3697,   2.3710,2,  34.5478,2,  34.5474,2,     74.4,2,     74.2,2,   148.81,2,    40.75,2,     0.00,2,     2.89,2,   -999.0,9,   -999.0,9,-999.0000,9,  -999.00,  -999.00,9,  -999.00,9,   2.3710,2,      236
  49UF20180518,KS1805,  5376,  1,      2,  25236,2,20180527,0225, 24.2483, 147.2538, 5810,   1821.8,   2.1337,   2.1338,2,  34.5831,2,  34.5822,6,     89.2,2,     89.0,2,   150.80,2,    40.01,2,     0.00,2,     2.82,2,   -999.0,9,   -999.0,9,-999.0000,9,  -999.00,  -999.00,9,  -999.00,9,   2.1338,2,      232
  49UF20180518,KS1805,  5376,  1,      1,  24272,2,20180527,0225, 24.2483, 147.2538, 5810,   2023.6,   1.9598,   1.9598,2,  34.6076,2,  34.6102,2,    100.3,2,    100.0,2,   151.65,2,    39.29,2,     0.00,2,     2.76,2,   -999.0,9,   -999.0,9,-999.0000,9,  -999.00,  -999.00,9,  -999.00,9,   1.9598,2,      227