BOTTLE,20200311PRINUNIVRMK
EXPOCODE,SECT_ID,STNNBR,CASTNO,SAMPNO,BTLNBR,BTLNBR_FLAG_W,DATE,TIME,LATITUDE,LONGITUDE,DEPTH,CTDPRS,CTDTMP,SBE35,SBE35_FLAG_W,CTDSAL,CTDSAL_FLAG_W,SALNTY,SALNTY_FLAG_W,CTDOXY,CTDOXY_FLAG_W,OXYGEN,OXYGEN_FLAG_W,SILCAT,SILCAT_FLAG_W,NITRAT,NITRAT_FLAG_W,NITRIT,NITRIT_FLAG_W,PHSPHT,PHSPHT_FLAG_W,TCARBN,TCARBN_FLAG_W,ALKALI,ALKALI_FLAG_W,PH_TOT,PH_TOT_FLAG_W,PH_TMP,CHLORA,CHLORA_FLAG_W,PPHYTN,PPHYTN_FLAG_W,SBE35,SBE35_FLAG_W,BTL_TIME
,,,,,,,,,,,METERS,DBAR,ITS-90,,,PSS-78,,PSS-78,,UMOL/KG,,UMOL/KG,,UMOL/KG,,UMOL/KG,,UMOL/KG,,UMOL/KG,,UMOL/KG,,UMOL/KG,,,,DEG C,UG/KG,,UG/KG,,,,
  49UF20180406,KS1804,  5334,  1,     99,     99,2,20180417,0416, 35.0072, 148.9193, 6056,      0.0,  19.0862,-999.0000,9,  34.7936,2,-999.0000,9,    234.0,2,    233.5,2,     2.25,2,     0.28,2,     0.07,2,     0.07,2,   -999.0,9,   -999.0,9,-999.0000,9,  -999.00,     0.50,2,     0.37,2,-999.0000,9,      453
  49UF20180406,KS1804,  5334,  1,     33,  25267,2,20180417,0416, 35.0072, 148.9193, 6056,      8.7,  19.0885,  19.0866,2,  34.7938,2,-999.0000,9,    233.7,2,    233.5,2,     2.23,2,     0.30,2,     0.06,2,     0.07,2,   -999.0,9,   -999.0,9,-999.0000,9,  -999.00,     0.44,2,     0.39,2,  19.0866,2,      519
  49UF20180406,KS1804,  5334,  1,     32,  25266,2,20180417,0416, 35.0072, 148.9193, 6056,     23.9,  18.9801,  18.9794,2,  34.7930,2,-999.0000,9,    234.4,2,    233.9,2,     2.27,2,     0.25,2,     0.06,2,     0.07,2,   -999.0,9,   -999.0,9,-999.0000,9,  -999.00,     0.46,2,     0.45,2,  18.9794,2,      518
  49UF20180406,KS1804,  5334,  1,     31,  25265,2,20180417,0416, 35.0072, 148.9193, 6056,     49.3,  18.9526,  18.9520,2,  34.7946,2,-999.0000,9,    234.1,2,    233.7,2,     2.23,2,     0.19,2,     0.06,2,     0.06,2,   -999.0,9,   -999.0,9,-999.0000,9,  -999.00,     0.48,2,     0.51,2,  18.9520,2,      514
  49UF20180406,KS1804,  5334,  1,     30,  25264,2,20180417,0416, 35.0072, 148.9193, 6056,     74.0,  18.9426,  18.9421,2,  34.7960,2,-999.0000,9,    233.6,2,    233.5,2,     2.22,2,     0.21,2,     0.05,2,     0.06,2,   -999.0,9,   -999.0,9,-999.0000,9,  -999.00,     0.47,2,     0.56,2,  18.9421,2,      513
  49UF20180406,KS1804,  5334,  1,     29,  25263,2,20180417,0416, 35.0072, 148.9193, 6056,     99.3,  18.8889,  18.8955,2,  34.8179,2,-999.0000,9,    227.6,2,    227.6,2,     2.40,2,     0.61,2,     0.13,2,     0.09,2,   -999.0,9,   -999.0,9,-999.0000,9,  -999.00,     0.19,2,     0.27,2,  18.8955,2,      511
  49UF20180406,KS1804,  5334,  1,     28,  25262,2,20180417,0416, 35.0072, 148.9193, 6056,    125.1,  18.4195,  18.4205,2,  34.8471,2,-999.0000,9,    220.0,2,    220.1,2,     3.12,2,     2.12,2,     0.12,2,     0.16,2,   -999.0,9,   -999.0,9,-999.0000,9,  -999.00,     0.03,2,     0.09,2,  18.4205,2,      509
  49UF20180406,KS1804,  5334,  1,     24,  25258,2,20180417,0416, 35.0072, 148.9193, 6056,    150.2,  18.0870,  18.0890,2,  34.8421,2,-999.0000,9,    216.4,2,    216.8,2,     3.51,2,     2.83,2,     0.06,2,     0.20,2,   -999.0,9,   -999.0,9,-999.0000,9,  -999.00,     0.02,2,     0.06,2,  18.0890,2,      508
  49UF20180406,KS1804,  5334,  1,     23,  25257,2,20180417,0416, 35.0072, 148.9193, 6056,    201.1,  17.7386,  17.7365,2,  34.8290,2,-999.0000,9,    218.7,2,    219.2,2,     3.70,2,     2.96,2,     0.10,2,     0.22,2,   -999.0,9,   -999.0,9,-999.0000,9,  -999.00,     0.01,2,     0.05,2,  17.7365,2,      506
  49UF20180406,KS1804,  5334,  1,     22,  25256,2,20180417,0416, 35.0072, 148.9193, 6056,    250.7,  17.3759,  17.3760,2,  34.8012,2,-999.0000,9,    213.4,2,    213.6,2,     4.52,2,     4.15,2,     0.02,2,     0.28,2,   -999.0,9,   -999.0,9,-999.0000,9,  -999.00,  -999.00,9,  -999.00,9,  17.3760,2,      504
  49UF20180406,KS1804,  5334,  1,     21,  25255,2,20180417,0416, 35.0072, 148.9193, 6056,    302.1,  16.6308,  16.6310,2,  34.7206,2,-999.0000,9,    198.4,2,    198.9,6,     6.83,6,     6.55,6,     0.02,6,     0.44,6,   -999.0,9,   -999.0,9,-999.0000,9,  -999.00,  -999.00,9,  -999.00,9,  16.6310,2,      502
  49UF20180406,KS1804,  5334,  1,     20,  24270,2,20180417,0416, 35.0072, 148.9193, 6056,    403.4,  14.5838,  14.5821,2,  34.5542,2,-999.0000,9,    187.7,2,    187.7,2,    12.90,2,    10.73,2,     0.01,2,     0.73,2,   -999.0,9,   -999.0,9,-999.0000,9,  -999.00,  -999.00,9,  -999.00,9,  14.5821,2,      459
  49UF20180406,KS1804,  5334,  1,     19,  25253,2,20180417,0416, 35.0072, 148.9193, 6056,    403.4,  14.5986,  14.6001,2,  34.5549,2,-999.0000,9,    187.6,2,    187.5,2,    12.89,2,    10.78,2,     0.01,2,     0.74,2,   -999.0,9,   -999.0,9,-999.0000,9,  -999.00,  -999.00,9,  -999.00,9,  14.6001,2,      459
  49UF20180406,KS1804,  5334,  1,     15,  25249,2,20180417,0416, 35.0072, 148.9193, 6056,    503.6,  11.7855,  11.7858,2,  34.3689,2,-999.0000,9,    166.9,2,    166.7,2,    26.11,2,    17.23,2,     0.01,2,     1.21,2,   -999.0,9,   -999.0,9,-999.0000,9,  -999.00,  -999.00,9,  -999.00,9,  11.7858,2,      456
  49UF20180406,KS1804,  5334,  1,     14,  25248,2,20180417,0416, 35.0072, 148.9193, 6056,    603.6,   8.6221,   8.6229,2,  34.1295,2,-999.0000,9,    161.9,2,    161.5,2,    39.95,2,    23.03,2,     0.00,2,     1.65,2,   -999.0,9,   -999.0,9,-999.0000,9,  -999.00,  -999.00,9,  -999.00,9,   8.6229,2,      453
  49UF20180406,KS1804,  5334,  1,     13,  25247,2,20180417,0416, 35.0072, 148.9193, 6056,    706.6,   6.2664,   6.2661,2,  34.0403,2,-999.0000,9,    130.0,2,    129.8,2,    61.87,2,    30.26,2,     0.00,2,     2.18,2,   -999.0,9,   -999.0,9,-999.0000,9,  -999.00,  -999.00,9,  -999.00,9,   6.2661,2,      450
  49UF20180406,KS1804,  5334,  1,     12,  25246,2,20180417,0416, 35.0072, 148.9193, 6056,    806.6,   5.0490,   5.0489,2,  34.0929,2,-999.0000,9,     88.5,2,     88.4,2,    83.74,2,    36.11,2,     0.00,2,     2.59,2,   -999.0,9,   -999.0,9,-999.0000,9,  -999.00,  -999.00,9,  -999.00,9,   5.0489,2,      447
  49UF20180406,KS1804,  5334,  1,     11,  25245,2,20180417,0416, 35.0072, 148.9193, 6056,    908.3,   4.4932,   4.4932,2,  34.1695,2,-999.0000,9,     65.6,2,     66.1,2,    99.10,2,    38.86,2,     0.00,2,     2.78,2,   -999.0,9,   -999.0,9,-999.0000,9,  -999.00,  -999.00,9,  -999.00,9,   4.4932,2,      444
  49UF20180406,KS1804,  5334,  1,     10,  25244,2,20180417,0416, 35.0072, 148.9193, 6056,   1007.8,   4.1485,   4.1499,2,  34.2791,2,-999.0000,9,     57.1,2,     57.2,2,   111.55,2,    39.84,2,     0.00,2,     2.85,2,   -999.0,9,   -999.0,9,-999.0000,9,  -999.00,  -999.00,9,  -999.00,9,   4.1499,2,      441
  49UF20180406,KS1804,  5334,  1,      6,  25240,2,20180417,0416, 35.0072, 148.9193, 6056,   1212.8,   3.3815,   3.3815,2,  34.3610,2,-999.0000,9,     43.5,2,     43.2,2,   130.50,2,    41.88,2,     0.00,2,     2.99,2,   -999.0,9,   -999.0,9,-999.0000,9,  -999.00,  -999.00,9,  -999.00,9,   3.3815,2,      436
  49UF20180406,KS1804,  5334,  1,      5,  25239,2,20180417,0416, 35.0072, 148.9193, 6056,   1413.6,   2.8794,   2.8797,2,  34.4420,2,-999.0000,9,     42.9,2,     42.6,2,   144.06,2,    42.52,2,     0.00,2,     3.02,2,   -999.0,9,   -999.0,9,-999.0000,9,  -999.00,  -999.00,9,  -999.00,9,   2.8797,2,      432
  49UF20180406,KS1804,  5334,  1,      4,  25238,2,20180417,0416, 35.0072, 148.9193, 6056,   1617.3,   2.5172,   2.5179,2,  34.4983,2,-999.0000,9,     43.9,2,     43.6,2,   154.77,2,    42.82,2,     0.00,2,     3.03,2,   -999.0,9,   -999.0,9,-999.0000,9,  -999.00,  -999.00,9,  -999.00,9,   2.5179,2,      427
  49UF20180406,KS1804,  5334,  1,      3,  24271,2,20180417,0416, 35.0072, 148.9193, 6056,   1820.2,   2.2621,   2.2621,2,  34.5454,2,-999.0000,9,     53.2,2,     52.8,6,   160.61,6,    42.53,6,     0.00,6,     2.99,6,   -999.0,9,   -999.0,9,-999.0000,9,  -999.00,  -999.00,9,  -999.00,9,   2.2621,2,      422
  49UF20180406,KS1804,  5334,  1,      1,  24272,2,20180417,0416, 35.0072, 148.9193, 6056,   2034.8,   2.0726,   2.0723,2,  34.5808,2,-999.0000,9,     65.9,2,     65.6,2,   162.74,2,    41.74,2,     0.00,2,     2.93,2,   -999.0,9,   -999.0,9,-999.0000,9,  -999.00,  -999.00,9,  -999.00,9,   2.0723,2,      417
  49UF20180406,KS1804,  5334,  1,      2,  25236,2,20180417,0416, 35.0072, 148.9193, 6056,   2035.1,   2.0724,   2.0724,2,  34.5807,2,-999.0000,9,     65.9,2,     65.6,2,   162.97,2,    41.71,2,     0.00,2,     2.93,2,   -999.0,9,   -999.0,9,-999.0000,9,  -999.00,  -999.00,9,  -999.00,9,   2.0724,2,      417
  49UF20180406,KS1804,  5336,  1,     99,     99,2,20180417,1258, 36.1138, 149.3357, 5973,      0.0,  16.3903,-999.0000,9,  34.6470,2,  34.6891,2,    243.3,2,    243.4,2,     5.89,2,     2.49,2,     0.12,2,     0.23,2,   2030.0,2,   2286.9,2,   7.9899,2,    25.00,     1.26,2,     0.60,2,-999.0000,9,     1335
  49UF20180406,KS1804,  5336,  1,     33,  25267,3,20180417,1258, 36.1138, 149.3357, 5973,     10.4,  16.3993,  16.4056,2,  34.6614,2,-999.0000,9,    243.3,2,    242.3,2,     6.83,2,     3.13,2,     0.14,2,     0.26,2,   2036.5,2,   2287.1,2,   7.9805,2,    25.00,     1.09,2,     0.57,2,  16.4056,2,     1355
  49UF20180406,KS1804,  5336,  1,     32,  25266,2,20180417,1258, 36.1138, 149.3357, 5973,     26.4,  16.1470,  16.1469,2,  34.6460,2,-999.0000,9,    241.0,2,    240.8,2,     7.53,2,     3.78,2,     0.16,2,     0.31,2,   2038.9,2,   2286.3,2,   7.9699,2,    25.00,     0.89,2,     0.60,2,  16.1469,2,     1354
  49UF20180406,KS1804,  5336,  1,     31,  25265,2,20180417,1258, 36.1138, 149.3357, 5973,     52.2,  16.0766,  16.0762,2,  34.6573,2,-999.0000,9,    238.0,2,    238.0,2,     7.27,2,     3.86,2,     0.19,2,     0.32,2,   2042.0,2,   2286.8,2,   7.9642,2,    25.00,     0.48,2,     0.54,2,  16.0762,2,     1352
  49UF20180406,KS1804,  5336,  1,     30,  25264,2,20180417,1258, 36.1138, 149.3357, 5973,     75.8,  14.7302,  14.7381,2,  34.5906,2,-999.0000,9,    232.1,2,    232.7,2,    10.84,2,     6.07,2,     0.25,2,     0.50,2,   2057.6,2,   2286.2,2,   7.9251,2,    25.00,     0.17,2,     0.23,2,  14.7381,2,     1351
  49UF20180406,KS1804,  5336,  1,     29,  25263,2,20180417,1258, 36.1138, 149.3357, 5973,    101.7,  13.6593,  13.6579,2,  34.5431,2,-999.0000,9,    232.0,2,    231.6,2,    13.62,2,     7.73,2,     0.27,2,     0.61,2,   2068.8,2,   2284.1,2,   7.8989,2,    25.00,     0.06,2,     0.13,2,  13.6579,2,     1346
  49UF20180406,KS1804,  5336,  1,     28,  25262,2,20180417,1258, 36.1138, 149.3357, 5973,    126.3,  12.9776,  12.9767,2,  34.4989,2,-999.0000,9,    214.4,2,    218.5,2,    16.86,2,    10.03,2,     0.27,2,     0.76,2,   2090.1,2,   2284.1,2,   7.8629,2,    25.00,     0.05,2,     0.12,2,  12.9767,2,     1345
  49UF20180406,KS1804,  5336,  1,     24,  25258,2,20180417,1258, 36.1138, 149.3357, 5973,    152.4,  12.3234,  12.3229,2,  34.4123,2,-999.0000,9,    178.2,2,    187.5,2,    21.47,2,    14.13,2,     0.13,2,     1.01,2,   2111.4,2,   2279.1,2,   7.8021,2,    25.00,     0.03,2,     0.09,2,  12.3229,2,     1344
  49UF20180406,KS1804,  5336,  1,     23,  25257,2,20180417,1258, 36.1138, 149.3357, 5973,    202.9,  10.9267,  10.9149,2,  34.2686,2,-999.0000,9,    237.5,2,    237.0,2,    17.01,2,    11.30,2,     0.18,2,     0.83,2,   2095.3,2,   2275.9,2,   7.8323,2,    25.00,     0.04,2,     0.11,2,  10.9149,2,     1342
  49UF20180406,KS1804,  5336,  1,     22,  25256,2,20180417,1258, 36.1138, 149.3357, 5973,    251.3,   9.9127,   9.9399,2,  34.1718,2,-999.0000,9,    234.1,2,    232.9,6,    20.97,6,    13.47,6,     0.03,6,     0.98,6,   2109.2,2,   2273.0,2,   7.7988,2,    25.00,  -999.00,9,  -999.00,9,   9.9399,2,     1341
  49UF20180406,KS1804,  5336,  1,     20,  24270,3,20180417,1258, 36.1138, 149.3357, 5973,    303.5,   7.9539,   7.9354,2,  33.9808,2,-999.0000,9,    208.1,2,    213.1,2,    33.80,2,    18.94,2,     0.01,2,     1.40,2,   2146.7,2,   2273.3,2,   7.7030,2,    25.00,  -999.00,9,  -999.00,9,   7.9354,2,     1339
  49UF20180406,KS1804,  5336,  1,     21,  25255,2,20180417,1258, 36.1138, 149.3357, 5973,    304.8,   7.8759,   7.8329,2,  33.9729,2,-999.0000,9,    207.9,2,    208.8,2,    34.19,2,    19.12,2,     0.02,2,     1.41,2,   2145.9,2,   2274.9,2,   7.7056,2,    25.00,  -999.00,9,  -999.00,9,   7.8329,2,     1339
  49UF20180406,KS1804,  5336,  1,     19,  25253,2,20180417,1258, 36.1138, 149.3357, 5973,    402.2,   5.1053,   5.1045,2,  33.7665,2,-999.0000,9,    176.7,2,    175.2,2,    55.59,2,    27.95,2,     0.00,2,     2.07,2,   2203.3,2,   2276.5,2,   7.5516,2,    25.00,  -999.00,9,  -999.00,9,   5.1045,2,     1336
  49UF20180406,KS1804,  5336,  1,     15,  25249,2,20180417,1258, 36.1138, 149.3357, 5973,    504.7,   5.1210,   5.1188,2,  34.0407,2,-999.0000,9,    101.0,2,    100.5,2,    79.24,2,    34.76,2,     0.00,2,     2.51,2,   2265.4,6,   2305.2,6,   7.4552,2,    25.00,  -999.00,9,  -999.00,9,   5.1188,2,     1334
  49UF20180406,KS1804,  5336,  1,     14,  25248,2,20180417,1258, 36.1138, 149.3357, 5973,    605.5,   4.9493,   4.9492,2,  34.1933,2,-999.0000,9,     76.4,2,     76.4,2,    92.96,2,    37.04,2,     0.00,2,     2.65,2,   2292.5,2,   2327.4,2,   7.4325,6,    25.00,  -999.00,9,  -999.00,9,   4.9492,2,     1331
  49UF20180406,KS1804,  5336,  1,     13,  25247,2,20180417,1258, 36.1138, 149.3357, 5973,    707.3,   4.1666,   4.1667,2,  34.2191,2,-999.0000,9,     55.0,2,     54.9,2,   107.95,2,    40.07,2,     0.00,2,     2.87,2,   2321.3,2,   2339.1,2,   7.3827,2,    25.00,  -999.00,9,  -999.00,9,   4.1667,2,     1329
  49UF20180406,KS1804,  5336,  1,     12,  25246,2,20180417,1258, 36.1138, 149.3357, 5973,    807.8,   3.8878,   3.8878,2,  34.2698,2,-999.0000,9,     48.6,2,     48.3,2,   116.40,2,    40.85,2,     0.00,2,     2.92,2,   2335.4,2,   2348.7,2,   7.3740,2,    25.00,  -999.00,9,  -999.00,9,   3.8878,2,     1326
  49UF20180406,KS1804,  5336,  1,     11,  25245,2,20180417,1258, 36.1138, 149.3357, 5973,    909.5,   3.6066,   3.6060,2,  34.3213,2,-999.0000,9,     45.1,2,     45.0,2,   123.93,2,    41.53,2,     0.00,2,     2.97,2,   2342.3,2,   2359.1,2,   7.3738,2,    25.00,  -999.00,9,  -999.00,9,   3.6060,2,     1323
  49UF20180406,KS1804,  5336,  1,     10,  25244,2,20180417,1258, 36.1138, 149.3357, 5973,   1013.5,   3.3295,   3.3289,2,  34.3628,2,-999.0000,9,     41.7,2,     41.7,6,   131.82,6,    42.03,6,     0.00,6,     3.00,6,   2348.5,2,   2368.9,2,   7.3687,2,    25.00,  -999.00,9,  -999.00,9,   3.3289,2,     1321
  49UF20180406,KS1804,  5336,  1,      6,  25240,2,20180417,1258, 36.1138, 149.3357, 5973,   1210.6,   2.8999,   2.9005,2,  34.4428,2,-999.0000,9,     45.3,2,     44.8,2,   142.50,2,    42.31,2,     0.00,2,     3.01,2,   2362.6,6,   2383.8,6,   7.3784,2,    25.00,  -999.00,9,  -999.00,9,   2.9005,2,     1316
  49UF20180406,KS1804,  5336,  1,      5,  25239,2,20180417,1258, 36.1138, 149.3357, 5973,   1417.8,   2.5493,   2.5491,2,  34.4913,2,-999.0000,9,     45.1,2,     44.5,2,   152.90,2,    42.73,2,     0.00,2,     3.03,2,   2371.6,2,   2394.4,2,   7.3803,6,    25.00,  -999.00,9,  -999.00,9,   2.5491,2,     1312
  49UF20180406,KS1804,  5336,  1,      4,  25238,2,20180417,1258, 36.1138, 149.3357, 5973,   1618.5,   2.2847,   2.2847,2,  34.5368,2,-999.0000,9,     52.7,2,     52.4,2,   159.29,2,    42.40,2,     0.00,2,     3.00,2,   2375.5,2,   2403.2,2,   7.3993,2,    25.00,  -999.00,9,  -999.00,9,   2.2847,2,     1307
  49UF20180406,KS1804,  5336,  1,      2,  25236,2,20180417,1258, 36.1138, 149.3357, 5973,   1824.2,   2.0901,   2.0901,2,  34.5742,2,-999.0000,9,     65.4,2,     65.1,2,   162.17,2,    41.72,2,     0.00,2,     2.94,2,   2372.9,2,   2409.2,2,   7.4261,2,    25.00,  -999.00,9,  -999.00,9,   2.0901,2,     1303
  49UF20180406,KS1804,  5336,  1,      3,  24271,2,20180417,1258, 36.1138, 149.3357, 5973,   1824.7,   2.0902,   2.0902,2,  34.5743,2,-999.0000,9,     65.4,2,     65.0,2,   161.77,2,    41.73,2,     0.00,2,     2.94,2,   2371.3,2,   2408.7,2,   7.4236,2,    25.00,  -999.00,9,  -999.00,9,   2.0902,2,     1303
  49UF20180406,KS1804,  5336,  1,      1,  24272,2,20180417,1258, 36.1138, 149.3357, 5973,   2024.4,   1.9377,   1.9374,2,  34.6018,2,-999.0000,9,     78.3,2,     78.6,2,   162.51,2,    40.96,2,     0.00,2,     2.88,2,   2371.8,2,   2412.9,2,   7.4496,2,    25.00,  -999.00,9,  -999.00,9,   1.9374,2,     1258