BOTTLE,20200311PRINUNIVRMK
EXPOCODE,SECT_ID,STNNBR,CASTNO,SAMPNO,BTLNBR,BTLNBR_FLAG_W,DATE,TIME,LATITUDE,LONGITUDE,DEPTH,CTDPRS,CTDTMP,SBE35,SBE35_FLAG_W,CTDSAL,CTDSAL_FLAG_W,SALNTY,SALNTY_FLAG_W,CTDOXY,CTDOXY_FLAG_W,OXYGEN,OXYGEN_FLAG_W,SILCAT,SILCAT_FLAG_W,NITRAT,NITRAT_FLAG_W,NITRIT,NITRIT_FLAG_W,PHSPHT,PHSPHT_FLAG_W,TCARBN,TCARBN_FLAG_W,ALKALI,ALKALI_FLAG_W,PH_TOT,PH_TOT_FLAG_W,PH_TMP,CHLORA,CHLORA_FLAG_W,PPHYTN,PPHYTN_FLAG_W,SBE35,SBE35_FLAG_W,BTL_TIME
,,,,,,,,,,,METERS,DBAR,ITS-90,,,PSS-78,,PSS-78,,UMOL/KG,,UMOL/KG,,UMOL/KG,,UMOL/KG,,UMOL/KG,,UMOL/KG,,UMOL/KG,,UMOL/KG,,,,DEG C,UG/KG,,UG/KG,,,,
  49UF20180406,KS1804,  5330,  1,     99,     99,2,20180416,0705, 32.9950, 148.1673, 5752,      0.0,  17.6036,-999.0000,9,  34.8259,2,-999.0000,9,    243.9,2,    243.4,2,     2.16,2,     0.37,2,     0.05,2,     0.09,2,   -999.0,9,   -999.0,9,-999.0000,9,  -999.00,     0.29,2,     0.18,2,-999.0000,9,      753
  49UF20180406,KS1804,  5330,  1,     36,  25270,2,20180416,0705, 32.9950, 148.1673, 5752,      9.8,  17.6051,  17.6046,2,  34.8259,2,-999.0000,9,    244.0,2,    243.4,2,     2.16,2,     0.37,2,     0.05,2,     0.08,2,   -999.0,9,   -999.0,9,-999.0000,9,  -999.00,     0.28,2,     0.21,2,  17.6046,2,      816
  49UF20180406,KS1804,  5330,  1,     35,  25269,2,20180416,0705, 32.9950, 148.1673, 5752,     25.2,  17.5985,  17.5968,2,  34.8282,2,-999.0000,9,    244.1,2,    243.0,2,     2.22,2,     0.38,2,     0.05,2,     0.08,2,   -999.0,9,   -999.0,9,-999.0000,9,  -999.00,     0.33,2,     0.22,2,  17.5968,2,      814
  49UF20180406,KS1804,  5330,  1,     34,  25268,2,20180416,0705, 32.9950, 148.1673, 5752,     51.0,  17.4760,  17.4760,2,  34.8371,2,-999.0000,9,    241.6,2,    241.2,2,     2.55,2,     0.79,2,     0.10,2,     0.11,2,   -999.0,9,   -999.0,9,-999.0000,9,  -999.00,  -999.00,9,  -999.00,9,  17.4760,2,      811
  49UF20180406,KS1804,  5330,  1,     33,  25267,2,20180416,0705, 32.9950, 148.1673, 5752,     51.6,  17.4756,  17.4755,2,  34.8370,2,-999.0000,9,    241.6,2,    240.6,2,     2.55,2,     0.73,2,     0.10,2,     0.11,2,   -999.0,9,   -999.0,9,-999.0000,9,  -999.00,     0.19,2,     0.19,2,  17.4755,2,      811
  49UF20180406,KS1804,  5330,  1,     32,  25266,2,20180416,0705, 32.9950, 148.1673, 5752,     75.0,  17.3354,  17.3346,2,  34.8283,2,-999.0000,9,    235.7,2,    234.5,2,     3.13,2,     1.83,2,     0.22,2,     0.16,2,   -999.0,9,   -999.0,9,-999.0000,9,  -999.00,     0.15,2,     0.16,2,  17.3346,2,      809
  49UF20180406,KS1804,  5330,  1,     31,  25265,2,20180416,0705, 32.9950, 148.1673, 5752,    101.4,  17.2364,  17.2363,2,  34.8197,2,-999.0000,9,    230.7,2,    230.3,2,     3.43,2,     2.74,2,     0.12,2,     0.20,2,   -999.0,9,   -999.0,9,-999.0000,9,  -999.00,     0.11,2,     0.04,2,  17.2363,2,      807
  49UF20180406,KS1804,  5330,  1,     27,  25261,2,20180416,0705, 32.9950, 148.1673, 5752,    126.3,  17.2407,  17.2405,2,  34.8243,2,-999.0000,9,    231.0,2,    230.2,2,     3.41,2,     2.72,2,     0.09,2,     0.19,2,   -999.0,9,   -999.0,9,-999.0000,9,  -999.00,     0.09,2,     0.06,2,  17.2405,2,      804
  49UF20180406,KS1804,  5330,  1,     26,  25260,2,20180416,0705, 32.9950, 148.1673, 5752,    151.3,  17.2400,  17.2399,2,  34.8281,2,-999.0000,9,    231.2,2,    231.0,2,     3.42,2,     2.69,2,     0.08,2,     0.19,2,   -999.0,9,   -999.0,9,-999.0000,9,  -999.00,     0.07,2,     0.06,2,  17.2399,2,      802
  49UF20180406,KS1804,  5330,  1,     25,  25259,2,20180416,0705, 32.9950, 148.1673, 5752,    200.7,  17.2169,  17.2169,2,  34.8312,2,-999.0000,9,    231.0,2,    229.9,2,     3.45,2,     2.79,2,     0.07,2,     0.19,2,   -999.0,9,   -999.0,9,-999.0000,9,  -999.00,     0.04,2,     0.05,2,  17.2169,2,      756
  49UF20180406,KS1804,  5330,  1,     24,  25258,2,20180416,0705, 32.9950, 148.1673, 5752,    251.1,  17.1875,  17.1901,2,  34.8299,2,-999.0000,9,    230.1,2,    229.4,2,     3.57,2,     2.93,2,     0.05,2,     0.20,2,   -999.0,9,   -999.0,9,-999.0000,9,  -999.00,  -999.00,9,  -999.00,9,  17.1901,2,      754
  49UF20180406,KS1804,  5330,  1,     23,  25257,2,20180416,0705, 32.9950, 148.1673, 5752,    303.4,  17.0784,  17.0786,2,  34.8087,2,-999.0000,9,    223.4,2,    223.7,2,     4.10,2,     3.72,2,     0.01,2,     0.25,2,   -999.0,9,   -999.0,9,-999.0000,9,  -999.00,  -999.00,9,  -999.00,9,  17.0786,2,      752
  49UF20180406,KS1804,  5330,  1,     22,  25256,2,20180416,0705, 32.9950, 148.1673, 5752,    403.3,  15.3282,  15.3300,2,  34.6063,2,-999.0000,9,    191.1,2,    191.3,6,    10.24,6,     9.21,6,     0.01,6,     0.62,6,   -999.0,9,   -999.0,9,-999.0000,9,  -999.00,  -999.00,9,  -999.00,9,  15.3300,2,      749
  49UF20180406,KS1804,  5330,  1,     18,  25252,2,20180416,0705, 32.9950, 148.1673, 5752,    505.1,  13.2821,  13.2865,2,  34.4476,2,-999.0000,9,    182.0,2,    182.0,2,    17.45,2,    13.35,2,     0.00,2,     0.92,2,   -999.0,9,   -999.0,9,-999.0000,9,  -999.00,  -999.00,9,  -999.00,9,  13.2865,2,      746
  49UF20180406,KS1804,  5330,  1,     17,  25251,2,20180416,0705, 32.9950, 148.1673, 5752,    604.0,  10.0517,  10.0582,2,  34.2313,2,-999.0000,9,    168.0,2,    167.8,6,    32.42,6,    19.92,6,     0.00,6,     1.41,6,   -999.0,9,   -999.0,9,-999.0000,9,  -999.00,  -999.00,9,  -999.00,9,  10.0582,2,      744
  49UF20180406,KS1804,  5330,  1,     16,  25250,2,20180416,0705, 32.9950, 148.1673, 5752,    705.5,   7.2065,   7.2070,2,  34.0500,2,-999.0000,9,    149.7,2,    149.0,2,    50.84,2,    26.76,2,     0.00,2,     1.93,2,   -999.0,9,   -999.0,9,-999.0000,9,  -999.00,  -999.00,9,  -999.00,9,   7.2070,2,      741
  49UF20180406,KS1804,  5330,  1,     15,  25249,2,20180416,0705, 32.9950, 148.1673, 5752,    705.5,   7.2068,   7.2067,2,  34.0500,2,-999.0000,9,    149.7,2,    149.4,2,    50.86,2,    26.74,2,     0.00,2,     1.93,2,   -999.0,9,   -999.0,9,-999.0000,9,  -999.00,  -999.00,9,  -999.00,9,   7.2067,2,      741
  49UF20180406,KS1804,  5330,  1,     14,  25248,2,20180416,0705, 32.9950, 148.1673, 5752,    809.3,   5.5081,   5.5075,2,  34.0652,2,-999.0000,9,    105.7,2,    105.1,2,    74.82,2,    33.68,2,     0.00,2,     2.43,2,   -999.0,9,   -999.0,9,-999.0000,9,  -999.00,  -999.00,9,  -999.00,9,   5.5075,2,      738
  49UF20180406,KS1804,  5330,  1,     13,  25247,2,20180416,0705, 32.9950, 148.1673, 5752,    910.2,   4.6696,   4.6709,2,  34.1507,2,-999.0000,9,     72.1,2,     71.8,2,    94.59,2,    37.95,2,     0.00,2,     2.73,2,   -999.0,9,   -999.0,9,-999.0000,9,  -999.00,  -999.00,9,  -999.00,9,   4.6709,2,      735
  49UF20180406,KS1804,  5330,  1,      9,  25243,2,20180416,0705, 32.9950, 148.1673, 5752,   1010.9,   4.0985,   4.0979,2,  34.2452,2,-999.0000,9,     53.6,2,     53.7,2,   111.08,2,    40.24,2,     0.00,2,     2.88,2,   -999.0,9,   -999.0,9,-999.0000,9,  -999.00,  -999.00,9,  -999.00,9,   4.0979,2,      732
  49UF20180406,KS1804,  5330,  1,      8,  25242,2,20180416,0705, 32.9950, 148.1673, 5752,   1211.6,   3.3570,   3.3571,2,  34.3627,2,-999.0000,9,     43.1,2,     43.4,2,   131.46,2,    41.89,2,     0.00,2,     2.99,2,   -999.0,9,   -999.0,9,-999.0000,9,  -999.00,  -999.00,9,  -999.00,9,   3.3571,2,      727
  49UF20180406,KS1804,  5330,  1,      7,  25241,2,20180416,0705, 32.9950, 148.1673, 5752,   1417.4,   2.8246,   2.8245,2,  34.4449,2,-999.0000,9,     39.1,2,     39.4,2,   146.66,2,    42.84,2,     0.00,2,     3.05,2,   -999.0,9,   -999.0,9,-999.0000,9,  -999.00,  -999.00,9,  -999.00,9,   2.8245,2,      722
  49UF20180406,KS1804,  5330,  1,      6,  25240,2,20180416,0705, 32.9950, 148.1673, 5752,   1619.9,   2.5024,   2.5026,2,  34.5025,2,-999.0000,9,     44.9,2,     45.1,2,   155.33,2,    42.76,2,     0.00,2,     3.04,2,   -999.0,9,   -999.0,9,-999.0000,9,  -999.00,  -999.00,9,  -999.00,9,   2.5026,2,      718
  49UF20180406,KS1804,  5330,  1,      5,  25239,2,20180416,0705, 32.9950, 148.1673, 5752,   1820.2,   2.2430,   2.2432,2,  34.5511,2,-999.0000,9,     55.2,2,     55.3,2,   160.98,2,    42.25,2,     0.00,2,     2.99,2,   -999.0,9,   -999.0,9,-999.0000,9,  -999.00,  -999.00,9,  -999.00,9,   2.2432,2,      713
  49UF20180406,KS1804,  5330,  1,      4,  25238,2,20180416,0705, 32.9950, 148.1673, 5752,   2022.8,   2.0398,   2.0400,2,  34.5892,2,-999.0000,9,     70.1,2,     70.8,2,   162.51,2,    41.34,2,     0.00,2,     2.93,2,   -999.0,9,   -999.0,9,-999.0000,9,  -999.00,  -999.00,9,  -999.00,9,   2.0400,2,      708
  49UF20180406,KS1804,  5332,  1,     99,     99,2,20180416,1721, 33.9922, 148.5688, 6151,      0.0,  18.1282,-999.0000,9,  34.8044,2,  34.7946,2,    238.9,2,    238.6,2,     2.21,2,     0.05,2,     0.01,2,     0.06,2,   2007.1,2,   2289.4,2,   8.0248,2,    25.00,     0.40,2,     0.14,2,-999.0000,9,     1939
  49UF20180406,KS1804,  5332,  1,     36,  25270,2,20180416,1721, 33.9922, 148.5688, 6151,      9.2,  18.1331,  18.1325,2,  34.8047,2,-999.0000,9,    238.9,2,    237.6,2,     2.22,2,     0.03,2,     0.01,2,     0.05,2,   2005.6,2,   2288.5,2,   8.0258,2,    25.00,     0.32,2,     0.14,2,  18.1325,2,     1959
  49UF20180406,KS1804,  5332,  1,     35,  25269,2,20180416,1721, 33.9922, 148.5688, 6151,     24.7,  18.1359,  18.1357,2,  34.8032,2,  34.8035,2,    238.8,2,    237.8,2,     2.23,2,     0.03,2,     0.01,2,     0.04,2,   2008.3,2,   2288.1,2,   8.0261,2,    25.00,     0.34,2,     0.18,2,  18.1357,2,     1957
  49UF20180406,KS1804,  5332,  1,     34,  25268,2,20180416,1721, 33.9922, 148.5688, 6151,     50.2,  17.7004,  17.7136,2,  34.8402,2,-999.0000,9,    238.2,2,    237.0,2,     2.59,2,     0.66,2,     0.13,2,     0.10,2,   2021.8,2,   2291.2,2,   8.0098,2,    25.00,     0.24,2,     0.15,2,  17.7136,2,     1955
  49UF20180406,KS1804,  5332,  1,     33,  25267,2,20180416,1721, 33.9922, 148.5688, 6151,     75.4,  17.5731,  17.5729,2,  34.8362,2,  34.8349,2,    234.4,2,    233.1,2,     2.84,2,     1.45,2,     0.22,2,     0.14,2,   2024.5,2,   2290.2,2,   8.0023,2,    25.00,     0.18,2,     0.13,2,  17.5729,2,     1953
  49UF20180406,KS1804,  5332,  1,     32,  25266,2,20180416,1721, 33.9922, 148.5688, 6151,     99.5,  17.5024,  17.5016,2,  34.8316,2,-999.0000,9,    231.8,2,    230.7,2,     3.03,2,     2.06,2,     0.17,2,     0.18,2,   2025.2,2,   2290.7,2,   7.9956,2,    25.00,     0.09,2,     0.12,2,  17.5016,2,     1948
  49UF20180406,KS1804,  5332,  1,     31,  25265,3,20180416,1721, 33.9922, 148.5688, 6151,    125.2,  17.4464,  17.4464,2,  34.8332,2,  34.8325,2,    229.3,2,    228.0,6,     3.42,6,     2.72,6,     0.04,6,     0.20,6,   2031.1,2,   2288.7,2,   7.9915,2,    25.00,     0.02,2,     0.03,2,  17.4464,2,     1947
  49UF20180406,KS1804,  5332,  1,     30,  25264,2,20180416,1721, 33.9922, 148.5688, 6151,    153.1,  17.4115,  17.4109,2,  34.8326,2,-999.0000,9,    228.9,2,    227.3,2,     3.47,2,     2.78,2,     0.05,2,     0.20,2,   2028.7,2,   2289.5,2,   7.9902,2,    25.00,     0.01,2,     0.03,2,  17.4109,2,     1945
  49UF20180406,KS1804,  5332,  1,     29,  25263,2,20180416,1721, 33.9922, 148.5688, 6151,    202.4,  17.3103,  17.3102,2,  34.8232,2,  34.8231,2,    231.8,2,    231.3,2,     3.26,2,     2.37,2,     0.13,2,     0.19,2,   2026.6,2,   2288.9,2,   7.9942,2,    25.00,     0.05,2,     0.07,2,  17.3102,2,     1943
  49UF20180406,KS1804,  5332,  1,     28,  25262,2,20180416,1721, 33.9922, 148.5688, 6151,    253.8,  17.2793,  17.2792,2,  34.8276,2,-999.0000,9,    231.3,2,    230.3,2,     3.45,2,     2.78,2,     0.03,2,     0.20,2,   2025.5,2,   2288.5,2,   7.9872,2,    25.00,  -999.00,9,  -999.00,9,  17.2792,2,     1941
  49UF20180406,KS1804,  5332,  1,     27,  25261,2,20180416,1721, 33.9922, 148.5688, 6151,    305.4,  17.2886,  17.2887,2,  34.8374,2,  34.8367,2,    229.9,2,    229.4,2,     3.64,2,     2.92,2,     0.02,2,     0.21,2,   2026.4,2,   2290.6,2,   7.9894,2,    25.00,  -999.00,9,  -999.00,9,  17.2887,2,     1939
  49UF20180406,KS1804,  5332,  1,     26,  25260,2,20180416,1721, 33.9922, 148.5688, 6151,    405.0,  15.9304,  15.9309,2,  34.6653,2,  34.6680,6,    197.8,2,    198.4,2,     8.13,2,     7.70,2,     0.02,2,     0.52,2,   2061.5,2,   2281.6,2,   7.9109,2,    25.00,  -999.00,9,  -999.00,9,  15.9309,2,     1936
  49UF20180406,KS1804,  5332,  1,     25,  25259,2,20180416,1721, 33.9922, 148.5688, 6151,    504.3,  14.0770,  14.0777,2,  34.5197,2,  34.5194,2,    177.1,2,    176.9,6,    16.63,6,    12.58,6,     0.00,6,     0.87,6,   2099.3,2,   2281.6,2,   7.8364,2,    25.00,  -999.00,9,  -999.00,9,  14.0777,2,     1932
  49UF20180406,KS1804,  5332,  1,     24,  25258,2,20180416,1721, 33.9922, 148.5688, 6151,    608.2,  11.5395,  11.5396,2,  34.3413,2,-999.0000,9,    172.6,2,    172.0,2,    25.69,2,    17.03,2,     0.01,2,     1.20,2,   2131.8,2,   2281.2,2,   7.7616,2,    25.00,  -999.00,9,  -999.00,9,  11.5396,2,     1929
  49UF20180406,KS1804,  5332,  1,     23,  25257,2,20180416,1721, 33.9922, 148.5688, 6151,    706.9,   8.2007,   8.1997,2,  34.1068,2,  34.1127,4,    159.0,2,    157.9,2,    44.27,2,    24.00,2,     0.01,2,     1.73,2,   2179.2,6,   2287.2,6,   7.6411,2,    25.00,  -999.00,9,  -999.00,9,   8.1997,2,     1926
  49UF20180406,KS1804,  5332,  1,     22,  25256,2,20180416,1721, 33.9922, 148.5688, 6151,    807.8,   5.9555,   5.9558,2,  34.0414,2,  34.0427,2,    121.7,2,    121.6,2,    66.60,2,    31.49,2,     0.00,2,     2.27,2,   2234.4,2,   2299.1,2,   7.5144,6,    25.00,  -999.00,9,  -999.00,9,   5.9558,2,     1923
  49UF20180406,KS1804,  5332,  1,     21,  25255,2,20180416,1721, 33.9922, 148.5688, 6151,    909.9,   5.0902,   5.0901,2,  34.0999,2,  34.0963,2,     88.6,2,     88.9,2,    84.02,2,    35.95,2,     0.00,2,     2.58,2,   2276.6,2,   2315.1,2,   7.4416,2,    25.00,  -999.00,9,  -999.00,9,   5.0901,2,     1920
  49UF20180406,KS1804,  5332,  1,     20,  24270,2,20180416,1721, 33.9922, 148.5688, 6151,   1010.0,   4.5914,   4.5912,2,  34.2157,2,-999.0000,9,     66.8,2,     66.8,2,   100.86,2,    38.38,2,     0.00,2,     2.75,2,   2305.7,2,   2335.2,2,   7.4135,2,    25.00,  -999.00,9,  -999.00,9,   4.5912,2,     1917
  49UF20180406,KS1804,  5332,  1,     19,  25253,2,20180416,1721, 33.9922, 148.5688, 6151,   1211.5,   3.5314,   3.5312,2,  34.3276,2,  34.3259,6,     40.7,2,     40.9,2,   126.62,2,    42.02,2,     0.00,2,     3.00,2,   2347.9,2,   2362.1,2,   7.3675,2,    25.00,  -999.00,9,  -999.00,9,   3.5312,2,     1912
  49UF20180406,KS1804,  5332,  1,     18,  25252,2,20180416,1721, 33.9922, 148.5688, 6151,   1412.8,   2.9976,   2.9977,2,  34.4139,2,-999.0000,9,     38.2,2,     37.8,2,   142.19,2,    42.77,2,     0.00,2,     3.05,2,   2365.2,2,   2380.7,2,   7.3607,2,    25.00,  -999.00,9,  -999.00,9,   2.9977,2,     1908
  49UF20180406,KS1804,  5332,  1,     17,  25251,2,20180416,1721, 33.9922, 148.5688, 6151,   1617.4,   2.5861,   2.5860,2,  34.4817,2,  34.4801,2,     42.7,2,     42.2,6,   153.33,6,    42.82,6,     0.00,6,     3.05,6,   2373.9,2,   2394.0,2,   7.3737,2,    25.00,  -999.00,9,  -999.00,9,   2.5860,2,     1903
  49UF20180406,KS1804,  5332,  1,     16,  25250,2,20180416,1721, 33.9922, 148.5688, 6151,   1821.9,   2.2918,   2.2924,2,  34.5352,2,-999.0000,9,     52.1,2,     52.0,2,   159.99,2,    42.46,2,     0.00,2,     3.00,2,   2376.6,6,   2404.9,6,   7.3970,2,    25.00,  -999.00,9,  -999.00,9,   2.2924,2,     1858
  49UF20180406,KS1804,  5332,  1,     15,  25249,2,20180416,1721, 33.9922, 148.5688, 6151,   2021.3,   2.1037,   2.1046,2,  34.5703,2,  34.5692,2,     64.2,2,     64.0,2,   162.96,2,    41.83,2,     0.00,2,     2.94,2,   2377.2,2,   2411.5,2,   7.4213,6,    25.00,  -999.00,9,  -999.00,9,   2.1046,2,     1853
  49UF20180406,KS1804,  5332,  1,     14,  25248,2,20180416,1721, 33.9922, 148.5688, 6151,   2277.4,   1.9175,   1.9174,2,  34.6047,2,  34.6037,2,     82.4,2,     82.3,2,   162.67,2,    40.70,2,     0.00,2,     2.86,2,   2363.4,2,   2415.3,2,   7.4626,2,    25.00,  -999.00,9,  -999.00,9,   1.9174,2,     1848
  49UF20180406,KS1804,  5332,  1,     13,  25247,2,20180416,1721, 33.9922, 148.5688, 6151,   2532.9,   1.7739,   1.7741,2,  34.6288,2,  34.6288,2,     98.6,2,     98.6,2,   162.17,2,    39.69,2,     0.00,2,     2.78,2,   2357.4,2,   2417.5,2,   7.4896,2,    25.00,  -999.00,9,  -999.00,9,   1.7741,2,     1842
  49UF20180406,KS1804,  5332,  1,     12,  25246,2,20180416,1721, 33.9922, 148.5688, 6151,   2790.1,   1.6844,   1.6848,2,  34.6446,2,  34.6435,2,    111.5,2,    111.9,2,   159.84,2,    38.86,2,     0.00,2,     2.72,2,   2344.3,2,   2419.3,2,   7.5136,2,    25.00,  -999.00,9,  -999.00,9,   1.6848,2,     1836
  49UF20180406,KS1804,  5332,  1,     11,  25245,2,20180416,1721, 33.9922, 148.5688, 6151,   3044.6,   1.6257,   1.6257,2,  34.6554,2,  34.6566,2,    122.0,2,    122.2,2,   157.56,2,    38.19,2,     0.00,2,     2.66,2,   2341.4,2,   2420.2,2,   7.5346,2,    25.00,  -999.00,9,  -999.00,9,   1.6257,2,     1830
  49UF20180406,KS1804,  5332,  1,     10,  25244,2,20180416,1721, 33.9922, 148.5688, 6151,   3553.6,   1.5384,   1.5384,2,  34.6708,2,  34.6708,2,    136.8,2,    137.1,2,   154.72,2,    37.26,2,     0.00,2,     2.59,2,   2337.9,2,   2419.1,2,   7.5604,2,    25.00,  -999.00,9,  -999.00,9,   1.5384,2,     1820
  49UF20180406,KS1804,  5332,  1,      9,  25243,2,20180416,1721, 33.9922, 148.5688, 6151,   3809.3,   1.5131,   1.5133,2,  34.6761,2,  34.6756,2,    142.1,2,    142.0,2,   154.06,2,    36.91,2,     0.00,2,     2.56,2,   2334.5,2,   2419.0,2,   7.5693,2,    25.00,  -999.00,9,  -999.00,9,   1.5133,2,     1813
  49UF20180406,KS1804,  5332,  1,      8,  25242,2,20180416,1721, 33.9922, 148.5688, 6151,   4065.6,   1.5023,   1.5024,2,  34.6801,2,  34.6797,2,    147.3,2,    147.5,2,   152.33,2,    36.50,2,     0.00,2,     2.54,2,   2325.9,2,   2419.2,2,   7.5769,2,    25.00,  -999.00,9,  -999.00,9,   1.5024,2,     1807
  49UF20180406,KS1804,  5332,  1,      7,  25241,2,20180416,1721, 33.9922, 148.5688, 6151,   4580.3,   1.5042,   1.5042,2,  34.6855,2,  34.6842,6,    154.8,2,    153.9,6,   149.66,6,    36.11,6,     0.00,6,     2.51,6,   2324.7,2,   2417.5,2,   7.5860,2,    25.00,  -999.00,9,  -999.00,9,   1.5042,2,     1756
  49UF20180406,KS1804,  5332,  1,      6,  25240,2,20180416,1721, 33.9922, 148.5688, 6151,   4838.3,   1.5157,   1.5157,2,  34.6875,2,  34.6877,2,    157.6,2,    157.2,2,   148.31,2,    35.82,2,     0.00,2,     2.48,2,   2320.7,2,   2415.2,2,   7.5922,2,    25.00,  -999.00,9,  -999.00,9,   1.5157,2,     1751
  49UF20180406,KS1804,  5332,  1,      5,  25239,2,20180416,1721, 33.9922, 148.5688, 6151,   5094.7,   1.5287,   1.5288,2,  34.6893,2,  34.6899,2,    160.2,2,    159.5,2,   147.24,2,    35.69,2,     0.00,2,     2.47,2,   2317.3,2,   2415.6,2,   7.5944,2,    25.00,  -999.00,9,  -999.00,9,   1.5288,2,     1745
  49UF20180406,KS1804,  5332,  1,      4,  25238,2,20180416,1721, 33.9922, 148.5688, 6151,   5353.8,   1.5491,   1.5494,2,  34.6906,2,  34.6905,2,    162.3,2,    162.3,2,   145.45,2,    35.49,2,     0.00,2,     2.47,2,   2313.9,6,   2414.5,6,   7.6002,2,    25.00,  -999.00,9,  -999.00,9,   1.5494,2,     1739
  49UF20180406,KS1804,  5332,  1,      3,  24271,2,20180416,1721, 33.9922, 148.5688, 6151,   5610.9,   1.5725,   1.5725,2,  34.6915,2,  34.6916,2,    164.1,2,    164.2,2,   143.91,2,    35.34,2,     0.00,2,     2.44,2,   2314.5,2,   2413.0,2,   7.6027,6,    25.00,  -999.00,9,  -999.00,9,   1.5725,2,     1733
  49UF20180406,KS1804,  5332,  1,      2,  25236,2,20180416,1721, 33.9922, 148.5688, 6151,   5868.1,   1.5979,   1.5980,2,  34.6926,2,  34.6917,2,    165.9,2,    165.8,2,   142.09,2,    35.22,2,     0.00,2,     2.42,2,   2313.1,2,   2410.6,2,   7.6046,2,    25.00,  -999.00,9,  -999.00,9,   1.5980,2,     1728
  49UF20180406,KS1804,  5332,  1,      1,  24272,2,20180416,1721, 33.9922, 148.5688, 6151,   6134.9,   1.6252,   1.6251,2,  34.6936,2,  34.6929,2,    167.6,2,    167.9,2,   140.75,2,    35.11,2,     0.00,2,     2.42,2,   2313.9,2,   2411.8,2,   7.6062,2,    25.00,  -999.00,9,  -999.00,9,   1.6251,2,     1722