BOTTLE,20200311PRINUNIVRMK
EXPOCODE,SECT_ID,STNNBR,CASTNO,SAMPNO,BTLNBR,BTLNBR_FLAG_W,DATE,TIME,LATITUDE,LONGITUDE,DEPTH,CTDPRS,CTDTMP,SBE35,SBE35_FLAG_W,CTDSAL,CTDSAL_FLAG_W,SALNTY,SALNTY_FLAG_W,CTDOXY,CTDOXY_FLAG_W,OXYGEN,OXYGEN_FLAG_W,SILCAT,SILCAT_FLAG_W,NITRAT,NITRAT_FLAG_W,NITRIT,NITRIT_FLAG_W,PHSPHT,PHSPHT_FLAG_W,TCARBN,TCARBN_FLAG_W,ALKALI,ALKALI_FLAG_W,PH_TOT,PH_TOT_FLAG_W,PH_TMP,CHLORA,CHLORA_FLAG_W,PPHYTN,PPHYTN_FLAG_W,SBE35,SBE35_FLAG_W,BTL_TIME
,,,,,,,,,,,METERS,DBAR,ITS-90,,,PSS-78,,PSS-78,,UMOL/KG,,UMOL/KG,,UMOL/KG,,UMOL/KG,,UMOL/KG,,UMOL/KG,,UMOL/KG,,UMOL/KG,,,,DEG C,UG/KG,,UG/KG,,,,
  49UF20180406,KS1804,  5360,  1,     99,     99,2,20180504,0030, 38.6960, 143.4810, 2607,      0.0,  13.6716,-999.0000,9,  34.4584,2,-999.0000,9,    269.6,2,    268.5,2,     9.27,2,     3.01,2,     0.12,2,     0.26,2,   -999.0,9,   -999.0,9,-999.0000,9,  -999.00,     1.57,2,     0.59,2,-999.0000,9,      115
  49UF20180406,KS1804,  5360,  1,     33,  25267,2,20180504,0030, 38.6960, 143.4810, 2607,      9.7,  13.6715,  13.6717,2,  34.4588,2,  34.4579,2,    269.6,2,    269.4,2,     9.25,2,     2.98,2,     0.11,2,     0.25,2,   -999.0,9,   -999.0,9,-999.0000,9,  -999.00,     1.58,2,     0.62,2,  13.6717,2,      138
  49UF20180406,KS1804,  5360,  1,     32,  25266,2,20180504,0030, 38.6960, 143.4810, 2607,     24.3,  13.6642,  13.6642,2,  34.4604,2,-999.0000,9,    268.5,2,    268.4,2,     9.23,2,     3.03,2,     0.12,2,     0.26,2,   -999.0,9,   -999.0,9,-999.0000,9,  -999.00,     1.55,2,     0.61,2,  13.6642,2,      137
  49UF20180406,KS1804,  5360,  1,     31,  25265,2,20180504,0030, 38.6960, 143.4810, 2607,     50.0,  13.0852,  13.0670,2,  34.4938,2,  34.4924,2,    259.3,2,    259.3,2,     9.77,2,     4.85,2,     0.36,2,     0.42,2,   -999.0,9,   -999.0,9,-999.0000,9,  -999.00,     0.57,2,     0.46,2,  13.0670,2,      134
  49UF20180406,KS1804,  5360,  1,     30,  25264,2,20180504,0030, 38.6960, 143.4810, 2607,     75.8,  12.6043,  12.6042,2,  34.4968,2,-999.0000,9,    254.5,2,    254.9,2,    10.23,2,     6.29,2,     0.63,2,     0.50,2,   -999.0,9,   -999.0,9,-999.0000,9,  -999.00,     0.20,2,     0.21,2,  12.6042,2,      132
  49UF20180406,KS1804,  5360,  1,     29,  25263,2,20180504,0030, 38.6960, 143.4810, 2607,    100.6,  12.5258,  12.5256,2,  34.4894,2,  34.4886,2,    255.3,2,    255.4,2,    10.36,2,     6.53,2,     0.61,2,     0.51,2,   2067.2,2,   2277.2,2,   7.9031,2,    25.00,     0.11,2,     0.14,2,  12.5256,2,      128
  49UF20180406,KS1804,  5360,  1,     28,  25262,2,20180504,0030, 38.6960, 143.4810, 2607,    128.6,  12.4214,  12.4224,2,  34.4816,2,-999.0000,9,    253.5,2,    254.0,2,    10.66,2,     7.47,2,     0.06,2,     0.53,2,   -999.0,9,   -999.0,9,-999.0000,9,  -999.00,     0.06,2,     0.10,2,  12.4224,2,      126
  49UF20180406,KS1804,  5360,  1,     24,  25258,3,20180504,0030, 38.6960, 143.4810, 2607,    143.7,  12.3250,  12.3217,2,  34.4723,2,-999.0000,9,    250.7,2,    251.0,2,    11.40,2,     8.17,2,     0.03,2,     0.59,2,   -999.0,9,   -999.0,9,-999.0000,9,  -999.00,     0.06,2,     0.10,2,  12.3217,2,      124
  49UF20180406,KS1804,  5360,  1,     23,  25257,2,20180504,0030, 38.6960, 143.4810, 2607,    200.8,  11.4767,  11.4942,2,  34.3747,2,  34.3763,2,    242.7,2,    242.2,2,    14.33,2,    10.05,2,     0.02,2,     0.72,2,   2084.0,2,   2277.3,2,   7.8597,2,    25.00,     0.01,2,     0.07,2,  11.4942,2,      122
  49UF20180406,KS1804,  5360,  1,     21,  25255,2,20180504,0030, 38.6960, 143.4810, 2607,    249.3,  10.8513,  10.8512,2,  34.3101,2,  34.3106,2,    245.7,2,    245.8,2,    14.86,2,    10.25,2,     0.03,2,     0.75,2,   -999.0,9,   -999.0,9,-999.0000,9,  -999.00,  -999.00,9,  -999.00,9,  10.8512,2,      120
  49UF20180406,KS1804,  5360,  1,     22,  24473,2,20180504,0030, 38.6960, 143.4810, 2607,    249.8,  10.8496,  10.8493,2,  34.3097,2,  34.3100,2,    245.7,2,    245.8,2,    14.87,2,    10.31,2,     0.03,2,     0.76,2,   -999.0,9,   -999.0,9,-999.0000,9,  -999.00,  -999.00,9,  -999.00,9,  10.8493,2,      120
  49UF20180406,KS1804,  5360,  1,     20,  24270,3,20180504,0030, 38.6960, 143.4810, 2607,    300.9,  10.2997,  10.3013,2,  34.2373,2,-999.0000,9,    242.4,2,    243.2,2,    16.51,2,    11.13,2,     0.03,2,     0.82,2,   -999.0,9,   -999.0,9,-999.0000,9,  -999.00,  -999.00,9,  -999.00,9,  10.3013,2,      118
  49UF20180406,KS1804,  5360,  1,     19,  25253,2,20180504,0030, 38.6960, 143.4810, 2607,    404.3,   6.2261,   6.2171,2,  33.7141,2,  33.7308,4,    261.8,2,    259.0,6,    25.91,6,    15.52,6,     0.02,6,     1.20,6,   -999.0,9,   -999.0,9,-999.0000,9,  -999.00,  -999.00,9,  -999.00,9,   6.2171,2,      115
  49UF20180406,KS1804,  5360,  1,     15,  25249,2,20180504,0030, 38.6960, 143.4810, 2607,    501.7,   5.4538,   5.4518,2,  33.8179,2,-999.0000,9,    171.2,2,    170.9,2,    55.33,2,    27.59,2,     0.01,2,     2.06,2,   2208.3,2,   2278.0,2,   7.5571,2,    25.00,  -999.00,9,  -999.00,9,   5.4518,2,      112
  49UF20180406,KS1804,  5360,  1,     14,  25248,2,20180504,0030, 38.6960, 143.4810, 2607,    603.6,   4.4622,   4.4633,2,  33.9115,2,  33.9126,2,    109.5,2,    109.1,2,    80.00,2,    35.16,2,     0.00,2,     2.57,2,   -999.0,9,   -999.0,9,-999.0000,9,  -999.00,  -999.00,9,  -999.00,9,   4.4633,2,      109
  49UF20180406,KS1804,  5360,  1,     13,  25247,2,20180504,0030, 38.6960, 143.4810, 2607,    704.5,   4.1299,   4.1293,2,  34.0763,2,  34.0753,2,     63.9,2,     64.2,2,   100.38,2,    39.47,2,     0.01,2,     2.85,2,   -999.0,9,   -999.0,9,-999.0000,9,  -999.00,  -999.00,9,  -999.00,9,   4.1293,2,      106
  49UF20180406,KS1804,  5360,  1,     12,  25246,2,20180504,0030, 38.6960, 143.4810, 2607,    808.7,   4.1005,   4.0999,2,  34.2068,2,  34.2052,2,     54.0,2,     54.0,2,   109.54,2,    40.02,2,     0.00,2,     2.89,2,   -999.0,9,   -999.0,9,-999.0000,9,  -999.00,  -999.00,9,  -999.00,9,   4.0999,2,      103
  49UF20180406,KS1804,  5360,  1,     11,  25245,2,20180504,0030, 38.6960, 143.4810, 2607,    906.7,   3.7874,   3.7873,2,  34.2705,2,  34.2710,2,     46.4,2,     46.5,2,   119.44,2,    41.25,2,     0.00,2,     2.96,2,   -999.0,9,   -999.0,9,-999.0000,9,  -999.00,  -999.00,9,  -999.00,9,   3.7873,2,      100
  49UF20180406,KS1804,  5360,  1,     10,  25244,2,20180504,0030, 38.6960, 143.4810, 2607,   1010.0,   3.4491,   3.4500,2,  34.3375,2,  34.3365,6,     43.7,2,     44.3,2,   128.38,2,    41.68,2,     0.00,2,     2.99,2,   2350.6,2,   2362.9,2,   7.3758,2,    25.00,  -999.00,9,  -999.00,9,   3.4500,2,       57
  49UF20180406,KS1804,  5360,  1,      6,  25240,2,20180504,0030, 38.6960, 143.4810, 2607,   1215.5,   2.9477,   2.9485,2,  34.4130,2,  34.4103,4,     38.8,2,     38.8,2,   142.78,2,    42.56,2,     0.00,2,     3.06,2,   -999.0,9,   -999.0,9,-999.0000,9,  -999.00,  -999.00,9,  -999.00,9,   2.9485,2,       52
  49UF20180406,KS1804,  5360,  1,      5,  25239,2,20180504,0030, 38.6960, 143.4810, 2607,   1415.6,   2.6186,   2.6186,2,  34.4747,2,  34.4711,4,     41.4,2,     41.3,6,   152.02,6,    42.78,6,     0.00,6,     3.06,6,   -999.0,9,   -999.0,9,-999.0000,9,  -999.00,  -999.00,9,  -999.00,9,   2.6186,2,       47
  49UF20180406,KS1804,  5360,  1,      4,  25238,2,20180504,0030, 38.6960, 143.4810, 2607,   1618.2,   2.3614,   2.3617,2,  34.5209,2,  34.5205,2,     47.4,2,     47.4,2,   158.57,2,    42.60,2,     0.00,2,     3.04,2,   -999.0,9,   -999.0,9,-999.0000,9,  -999.00,  -999.00,9,  -999.00,9,   2.3617,2,       42
  49UF20180406,KS1804,  5360,  1,      3,  24271,2,20180504,0030, 38.6960, 143.4810, 2607,   1618.2,   2.3618,   2.3619,2,  34.5209,2,  34.5172,4,     47.4,2,     47.4,2,   158.49,2,    42.55,2,     0.00,2,     3.04,2,   -999.0,9,   -999.0,9,-999.0000,9,  -999.00,  -999.00,9,  -999.00,9,   2.3619,2,       41
  49UF20180406,KS1804,  5360,  1,      2,  25236,2,20180504,0030, 38.6960, 143.4810, 2607,   1825.6,   2.1812,   2.1811,2,  34.5571,2,  34.5529,4,     57.6,2,     57.4,2,   161.46,2,    42.02,2,     0.00,2,     2.98,2,   -999.0,9,   -999.0,9,-999.0000,9,  -999.00,  -999.00,9,  -999.00,9,   2.1811,2,       37
  49UF20180406,KS1804,  5360,  1,      1,  24272,2,20180504,0030, 38.6960, 143.4810, 2607,   2023.4,   2.0422,   2.0422,2,  34.5837,2,  34.7318,4,     68.0,2,     68.1,2,   162.99,2,    41.26,2,     0.00,2,     2.93,2,   2377.1,2,   2410.2,2,   7.4335,2,    25.00,  -999.00,9,  -999.00,9,   2.0422,2,       32
  49UF20180406,KS1804,  5362,  1,     99,     99,2,20180505,0022, 38.7060, 146.0352, 5267,      0.0,   9.0274,-999.0000,9,  33.4109,2,-999.0000,9,    314.3,2,    312.4,2,    16.45,2,     9.11,2,     0.18,2,     0.84,2,   -999.0,9,   -999.0,9,-999.0000,9,  -999.00,  -999.00,9,  -999.00,9,-999.0000,9,       52
  49UF20180406,KS1804,  5362,  1,     33,  25267,2,20180505,0022, 38.7060, 146.0352, 5267,     11.2,   8.7586,   8.7704,2,  33.4118,2,  33.4135,2,    315.7,2,    315.8,2,    16.49,2,     9.06,2,     0.18,2,     0.84,2,   -999.0,9,   -999.0,9,-999.0000,9,  -999.00,  -999.00,9,  -999.00,9,   8.7704,2,      127
  49UF20180406,KS1804,  5362,  1,     32,  25266,2,20180505,0022, 38.7060, 146.0352, 5267,     24.7,   8.0623,   8.0619,2,  33.4582,2,-999.0000,9,    311.1,2,    311.7,2,    17.51,2,     9.95,2,     0.21,2,     0.95,2,   -999.0,9,   -999.0,9,-999.0000,9,  -999.00,  -999.00,9,  -999.00,9,   8.0619,2,      126
  49UF20180406,KS1804,  5362,  1,     31,  25265,2,20180505,0022, 38.7060, 146.0352, 5267,     50.6,   6.8224,   6.8284,2,  33.5514,2,  33.5500,2,    304.1,2,    304.7,2,    20.76,2,    11.96,2,     0.30,2,     1.12,2,   -999.0,9,   -999.0,9,-999.0000,9,  -999.00,  -999.00,9,  -999.00,9,   6.8284,2,      122
  49UF20180406,KS1804,  5362,  1,     30,  25264,2,20180505,0022, 38.7060, 146.0352, 5267,     74.2,   6.0890,   6.0924,2,  33.5287,2,-999.0000,9,    302.6,2,    303.3,2,    21.61,2,    13.49,2,     0.27,2,     1.22,2,   -999.0,9,   -999.0,9,-999.0000,9,  -999.00,  -999.00,9,  -999.00,9,   6.0924,2,      120
  49UF20180406,KS1804,  5362,  1,     29,  25263,2,20180505,0022, 38.7060, 146.0352, 5267,     99.8,   5.8370,   5.8360,2,  33.5875,2,  33.5849,2,    291.4,2,    292.6,2,    26.85,2,    16.09,2,     0.15,2,     1.30,2,   2120.5,2,   2257.4,2,   7.7370,2,    25.00,  -999.00,9,  -999.00,9,   5.8360,2,      118
  49UF20180406,KS1804,  5362,  1,     28,  25262,2,20180505,0022, 38.7060, 146.0352, 5267,    124.9,   5.5575,   5.5559,2,  33.5791,2,-999.0000,9,    286.8,2,    287.5,2,    29.78,2,    17.30,2,     0.06,2,     1.36,2,   -999.0,9,   -999.0,9,-999.0000,9,  -999.00,  -999.00,9,  -999.00,9,   5.5559,2,      117
  49UF20180406,KS1804,  5362,  1,     24,  25258,2,20180505,0022, 38.7060, 146.0352, 5267,    148.5,   5.1759,   5.1763,2,  33.5503,2,-999.0000,9,    283.0,2,    283.7,2,    32.26,2,    18.58,2,     0.03,2,     1.45,2,   -999.0,9,   -999.0,9,-999.0000,9,  -999.00,  -999.00,9,  -999.00,9,   5.1763,2,      115
  49UF20180406,KS1804,  5362,  1,     23,  25257,2,20180505,0022, 38.7060, 146.0352, 5267,    200.2,   4.0060,   4.0047,2,  33.4661,2,  33.4686,2,    259.0,2,    262.0,2,    42.11,2,    22.81,2,     0.01,2,     1.77,2,   2161.7,2,   2258.1,2,   7.6296,2,    25.00,  -999.00,9,  -999.00,9,   4.0047,2,      113
  49UF20180406,KS1804,  5362,  1,     22,  24473,3,20180505,0022, 38.7060, 146.0352, 5267,    250.5,   3.3590,   3.3587,2,  33.4994,2,-999.0000,9,    198.6,2,    199.8,2,    59.35,2,    29.69,2,     0.01,2,     2.25,2,   -999.0,9,   -999.0,9,-999.0000,9,  -999.00,  -999.00,9,  -999.00,9,   3.3587,2,      111
  49UF20180406,KS1804,  5362,  1,     21,  25255,2,20180505,0022, 38.7060, 146.0352, 5267,    302.7,   3.0067,   3.0057,2,  33.5927,2,-999.0000,9,    137.9,2,    138.4,6,    76.48,6,    36.01,6,     0.01,6,     2.65,6,   -999.0,9,   -999.0,9,-999.0000,9,  -999.00,  -999.00,9,  -999.00,9,   3.0057,2,      109
  49UF20180406,KS1804,  5362,  1,     20,  24270,3,20180505,0022, 38.7060, 146.0352, 5267,    404.1,   3.2444,   3.2439,2,  33.8313,2,  33.8333,2,     60.0,2,     60.1,2,    98.37,2,    42.56,2,     0.00,2,     3.05,2,   -999.0,9,   -999.0,9,-999.0000,9,  -999.00,  -999.00,9,  -999.00,9,   3.2439,2,      106
  49UF20180406,KS1804,  5362,  1,     19,  25253,2,20180505,0022, 38.7060, 146.0352, 5267,    405.2,   3.2464,   3.2463,2,  33.8333,2,  33.8344,2,     59.9,2,     60.1,2,    98.44,2,    42.26,2,     0.00,2,     3.04,2,   -999.0,9,   -999.0,9,-999.0000,9,  -999.00,  -999.00,9,  -999.00,9,   3.2463,2,      106
  49UF20180406,KS1804,  5362,  1,     15,  25249,2,20180505,0022, 38.7060, 146.0352, 5267,    503.0,   3.3513,   3.3511,2,  34.0122,2,  34.0136,2,     28.5,2,     28.7,2,   113.93,2,    44.38,2,     0.00,2,     3.16,2,   2347.7,2,   2321.6,2,   7.2611,2,    25.00,  -999.00,9,  -999.00,9,   3.3511,2,      103
  49UF20180406,KS1804,  5362,  1,     14,  25248,2,20180505,0022, 38.7060, 146.0352, 5267,    607.5,   3.1946,   3.1947,2,  34.1989,2,  34.1990,2,     17.1,2,     16.9,2,   132.21,2,    44.38,2,     0.00,2,     3.17,2,   -999.0,9,   -999.0,9,-999.0000,9,  -999.00,  -999.00,9,  -999.00,9,   3.1947,2,      100
  49UF20180406,KS1804,  5362,  1,     13,  25247,2,20180505,0022, 38.7060, 146.0352, 5267,    705.7,   2.9736,   2.9751,2,  34.3057,2,  34.3062,2,     18.7,2,     18.2,2,   142.96,2,    44.30,2,     0.00,2,     3.15,2,   -999.0,9,   -999.0,9,-999.0000,9,  -999.00,  -999.00,9,  -999.00,9,   2.9751,2,       57
  49UF20180406,KS1804,  5362,  1,     12,  25246,2,20180505,0022, 38.7060, 146.0352, 5267,    806.7,   2.7356,   2.7367,2,  34.3876,2,  34.3872,2,     24.8,2,     24.4,2,   151.27,2,    43.86,2,     0.00,2,     3.13,2,   -999.0,9,   -999.0,9,-999.0000,9,  -999.00,  -999.00,9,  -999.00,9,   2.7367,2,       54
  49UF20180406,KS1804,  5362,  1,     11,  25245,2,20180505,0022, 38.7060, 146.0352, 5267,    907.8,   2.5571,   2.5568,2,  34.4421,2,  34.4442,2,     32.9,2,     32.5,2,   155.80,2,    43.03,2,     0.00,2,     3.09,2,   -999.0,9,   -999.0,9,-999.0000,9,  -999.00,  -999.00,9,  -999.00,9,   2.5568,2,       51
  49UF20180406,KS1804,  5362,  1,     10,  25244,2,20180505,0022, 38.7060, 146.0352, 5267,   1009.0,   2.4709,   2.4711,2,  34.4707,2,  34.4693,2,     38.2,2,     38.0,2,   157.47,2,    42.73,2,     0.00,2,     3.07,2,   2379.1,2,   2393.3,2,   7.3607,2,    25.00,  -999.00,9,  -999.00,9,   2.4711,2,       48
  49UF20180406,KS1804,  5362,  1,      6,  25240,2,20180505,0022, 38.7060, 146.0352, 5267,   1211.2,   2.2338,   2.2335,2,  34.5291,2,  34.5292,2,     50.0,2,     50.2,2,   161.88,2,    42.57,2,     0.00,2,     3.02,2,   -999.0,9,   -999.0,9,-999.0000,9,  -999.00,  -999.00,9,  -999.00,9,   2.2335,2,       44
  49UF20180406,KS1804,  5362,  1,      5,  25239,2,20180505,0022, 38.7060, 146.0352, 5267,   1415.1,   2.0757,   2.0755,2,  34.5636,2,  34.5641,2,     60.8,2,     61.0,2,   163.93,2,    41.68,2,     0.00,2,     2.97,2,   -999.0,9,   -999.0,9,-999.0000,9,  -999.00,  -999.00,9,  -999.00,9,   2.0755,2,       39
  49UF20180406,KS1804,  5362,  1,      4,  25238,2,20180505,0022, 38.7060, 146.0352, 5267,   1618.7,   1.9547,   1.9550,2,  34.5874,2,  34.5860,6,     70.1,2,     70.3,6,   165.02,6,    41.29,6,     0.00,6,     2.93,6,   -999.0,9,   -999.0,9,-999.0000,9,  -999.00,  -999.00,9,  -999.00,9,   1.9550,2,       34
  49UF20180406,KS1804,  5362,  1,      2,  25236,2,20180505,0022, 38.7060, 146.0352, 5267,   1821.6,   1.8644,   1.8641,2,  34.6057,2,  34.6046,2,     79.9,2,     80.5,2,   164.61,2,    40.60,2,     0.00,2,     2.88,2,   -999.0,9,   -999.0,9,-999.0000,9,  -999.00,  -999.00,9,  -999.00,9,   1.8641,2,       29
  49UF20180406,KS1804,  5362,  1,      3,  24271,2,20180505,0022, 38.7060, 146.0352, 5267,   1822.0,   1.8644,   1.8643,2,  34.6057,2,  34.6044,2,     79.9,2,     80.2,2,   164.77,2,    40.82,2,     0.00,2,     2.88,2,   -999.0,9,   -999.0,9,-999.0000,9,  -999.00,  -999.00,9,  -999.00,9,   1.8643,2,       29
  49UF20180406,KS1804,  5362,  1,      1,  24272,2,20180505,0022, 38.7060, 146.0352, 5267,   2024.2,   1.7472,   1.7478,2,  34.6260,2,  34.6249,2,     92.4,2,     93.2,2,   164.34,2,    39.86,2,     0.00,2,     2.82,2,   2362.7,2,   2416.0,2,   7.4776,2,    25.00,  -999.00,9,  -999.00,9,   1.7478,2,       24