BOTTLE,20200311PRINUNIVRMK
# 08/30/2019 Initialized README file  
# Data source:  Masao Ishii 2020/01/14 
# SHIP: R/V Keifu Maru II 
# Cruise: KS18.04 
# Region: North Pacific Ocean 
# EXPOCODE: 49UF20180406 
# DATES: 20180406-20180512 
# Chief Scientist: Shuji Tsubaki 
# 28 stations with 36 place Rosette 
# CTD: Who - Chikara Nara; Status - final 
# 	Includes: CTDSAL,CTDOXY,SBE35 
# SALNTY: Who - Chikara Nara; Status - final 
# 	Notes: 	 
# Nutrients: Who - Chikara Nara; Status - final 
# 	Includes: nitrate, nitrite, silicate, phosphate 
# 	Nitrite and NO3+NO2 reported. Separated by subtraction 
# OXYGEN: Who - Chikara Nara; Status - final 
# 	Notes: 
# TCARBN: Who - Chikara Nara; Status - final 
# 	Notes:  
# ALKALI: Who - Chikara Nara; Status - final 
# 	Notes:  
# PH: Who - Chikara Nara; Status - final 
# 	Notes:  
# CHLORA: Who - Chikara Nara; Status - final 
# 	Notes:  
# PPHYTN: Who - Chikara Nara; Status - final 
# 	Notes:  
# These data should be cited as:               
# References that have used data from this cruise: 
EXPOCODE,SECT_ID,STNNBR,CASTNO,SAMPNO,BTLNBR,BTLNBR_FLAG_W,DATE,TIME,LATITUDE,LONGITUDE,DEPTH,CTDPRS,CTDTMP,SBE35,SBE35_FLAG_W,CTDSAL,CTDSAL_FLAG_W,SALNTY,SALNTY_FLAG_W,CTDOXY,CTDOXY_FLAG_W,OXYGEN,OXYGEN_FLAG_W,SILCAT,SILCAT_FLAG_W,NITRAT,NITRAT_FLAG_W,NITRIT,NITRIT_FLAG_W,PHSPHT,PHSPHT_FLAG_W,TCARBN,TCARBN_FLAG_W,ALKALI,ALKALI_FLAG_W,PH_TOT,PH_TOT_FLAG_W,PH_TMP,CHLORA,CHLORA_FLAG_W,PPHYTN,PPHYTN_FLAG_W,SBE35,SBE35_FLAG_W,BTL_TIME
,,,,,,,,,,,METERS,DBAR,ITS-90,,,PSS-78,,PSS-78,,UMOL/KG,,UMOL/KG,,UMOL/KG,,UMOL/KG,,UMOL/KG,,UMOL/KG,,UMOL/KG,,UMOL/KG,,,,DEG C,UG/KG,,UG/KG,,,,
  49UF20180406,KS1804,  5304,  1,     99,     99,2,20180408,0942, 34.9575, 140.2633, 1660,      0.0,  16.6085,-999.0000,9,  34.6324,2,-999.0000,9,    220.6,2,    223.8,2,     8.59,2,     5.29,2,     0.17,2,     0.41,2,   -999.0,9,   -999.0,9,-999.0000,9,  -999.00,     0.77,2,     0.36,2,-999.0000,9,     1010
  49UF20180406,KS1804,  5304,  1,     36,  25270,2,20180408,0942, 34.9575, 140.2633, 1660,     10.1,  16.6220,  16.6207,2,  34.6365,2,  34.6371,2,    220.6,2,    221.7,2,     8.61,2,     5.34,2,     0.17,2,     0.42,2,   -999.0,9,   -999.0,9,-999.0000,9,  -999.00,     0.72,2,     0.22,2,  16.6207,2,     1042
  49UF20180406,KS1804,  5304,  1,     35,  25269,2,20180408,0942, 34.9575, 140.2633, 1660,     23.6,  16.6207,  16.6206,2,  34.6348,2,-999.0000,9,    220.4,2,    221.4,2,     8.67,2,     5.36,2,     0.16,2,     0.42,2,   -999.0,9,   -999.0,9,-999.0000,9,  -999.00,     0.71,2,     0.28,2,  16.6206,2,     1040
  49UF20180406,KS1804,  5304,  1,     34,  25268,3,20180408,0942, 34.9575, 140.2633, 1660,     50.4,  16.4444,  16.4444,2,  34.6028,2,  34.6005,2,    224.8,2,    226.6,2,     8.65,2,     5.02,2,     0.21,2,     0.39,2,   -999.0,9,   -999.0,9,-999.0000,9,  -999.00,     0.71,2,     0.27,2,  16.4444,2,     1035
  49UF20180406,KS1804,  5304,  1,     33,  25267,2,20180408,0942, 34.9575, 140.2633, 1660,     72.6,  15.7810,  15.7816,2,  34.6042,2,-999.0000,9,    204.9,2,    206.1,2,    11.81,2,     7.61,2,     0.17,2,     0.57,2,   -999.0,9,   -999.0,9,-999.0000,9,  -999.00,     0.29,2,     0.17,2,  15.7816,2,     1034
  49UF20180406,KS1804,  5304,  1,     32,  25266,2,20180408,0942, 34.9575, 140.2633, 1660,    102.5,  15.6009,  15.6012,2,  34.5982,2,  34.5977,2,    203.1,2,    204.2,2,    12.35,2,     8.08,2,     0.15,2,     0.59,2,   -999.0,9,   -999.0,9,-999.0000,9,  -999.00,     0.27,2,     0.16,2,  15.6012,2,     1032
  49UF20180406,KS1804,  5304,  1,     31,  25265,2,20180408,0942, 34.9575, 140.2633, 1660,    124.1,  15.4467,  15.4471,2,  34.6016,2,-999.0000,9,    204.3,2,    205.9,2,    12.14,2,     8.00,2,     0.20,2,     0.59,2,   -999.0,9,   -999.0,9,-999.0000,9,  -999.00,     0.20,2,     0.14,2,  15.4471,2,     1031
  49UF20180406,KS1804,  5304,  1,     27,  25261,2,20180408,0942, 34.9575, 140.2633, 1660,    151.1,  13.7162,  13.7242,2,  34.5157,2,  34.5194,6,    179.4,2,    180.9,2,    20.33,2,    12.96,2,     0.05,2,     0.92,2,   -999.0,9,   -999.0,9,-999.0000,9,  -999.00,     0.06,2,     0.10,2,  13.7242,2,     1029
  49UF20180406,KS1804,  5304,  1,     26,  25260,2,20180408,0942, 34.9575, 140.2633, 1660,    199.7,  12.0321,  12.0352,2,  34.4363,2,  34.4372,2,    160.7,2,    161.0,2,    30.11,2,    17.64,2,     0.01,2,     1.25,2,   -999.0,9,   -999.0,9,-999.0000,9,  -999.00,     0.01,2,     0.06,2,  12.0352,2,     1027
  49UF20180406,KS1804,  5304,  1,     25,  25259,2,20180408,0942, 34.9575, 140.2633, 1660,    254.6,  10.3627,  10.3618,2,  34.3533,2,  34.3554,2,    142.8,2,    143.3,2,    40.52,2,    21.81,2,     0.00,2,     1.56,2,   -999.0,9,   -999.0,9,-999.0000,9,  -999.00,  -999.00,9,  -999.00,9,  10.3618,2,     1025
  49UF20180406,KS1804,  5304,  1,     24,  25258,2,20180408,0942, 34.9575, 140.2633, 1660,    303.0,   9.8345,   9.8349,2,  34.3332,2,  34.3326,2,    137.5,2,    137.3,6,    45.04,6,    23.30,6,     0.02,6,     1.67,6,   -999.0,9,   -999.0,9,-999.0000,9,  -999.00,  -999.00,9,  -999.00,9,   9.8349,2,     1023
  49UF20180406,KS1804,  5304,  1,     23,  25257,2,20180408,0942, 34.9575, 140.2633, 1660,    403.2,   7.9660,   7.9660,2,  34.2657,2,  34.2656,2,    117.0,2,    116.9,2,    60.59,2,    28.30,2,     0.01,2,     2.03,2,   -999.0,9,   -999.0,9,-999.0000,9,  -999.00,  -999.00,9,  -999.00,9,   7.9660,2,     1021
  49UF20180406,KS1804,  5304,  1,     22,  25256,2,20180408,0942, 34.9575, 140.2633, 1660,    404.0,   7.9660,   7.9661,2,  34.2658,2,  34.2651,2,    116.9,2,    116.8,2,    60.54,2,    28.26,2,     0.00,2,     2.03,2,   -999.0,9,   -999.0,9,-999.0000,9,  -999.00,  -999.00,9,  -999.00,9,   7.9661,2,     1020
  49UF20180406,KS1804,  5304,  1,     18,  25252,2,20180408,0942, 34.9575, 140.2633, 1660,    503.6,   6.9492,   6.9495,2,  34.2390,2,-999.0000,9,    105.2,2,    105.6,2,    70.85,2,    31.14,2,     0.00,2,     2.24,2,   -999.0,9,   -999.0,9,-999.0000,9,  -999.00,  -999.00,9,  -999.00,9,   6.9495,2,     1017
  49UF20180406,KS1804,  5304,  1,     17,  25251,2,20180408,0942, 34.9575, 140.2633, 1660,    606.6,   4.9499,   4.9510,2,  34.2365,2,  34.2377,2,     74.6,2,     74.9,2,    96.23,2,    37.07,2,     0.00,2,     2.68,2,   -999.0,9,   -999.0,9,-999.0000,9,  -999.00,  -999.00,9,  -999.00,9,   4.9510,2,     1014
  49UF20180406,KS1804,  5304,  1,     16,  25250,2,20180408,0942, 34.9575, 140.2633, 1660,    706.2,   4.2012,   4.2017,2,  34.2710,2,-999.0000,9,     60.4,2,     60.8,2,   111.87,2,    39.32,2,     0.00,2,     2.84,2,   -999.0,9,   -999.0,9,-999.0000,9,  -999.00,  -999.00,9,  -999.00,9,   4.2017,2,     1012
  49UF20180406,KS1804,  5304,  1,     15,  25249,2,20180408,0942, 34.9575, 140.2633, 1660,    806.2,   3.8831,   3.8834,2,  34.3193,2,  34.3196,2,     55.4,2,     55.8,2,   118.40,2,    40.30,2,     0.00,2,     2.89,2,   -999.0,9,   -999.0,9,-999.0000,9,  -999.00,  -999.00,9,  -999.00,9,   3.8834,2,     1009
  49UF20180406,KS1804,  5304,  1,     14,  25248,2,20180408,0942, 34.9575, 140.2633, 1660,    909.0,   3.6582,   3.6582,2,  34.3458,2,-999.0000,9,     52.7,2,     53.0,2,   124.05,2,    40.79,2,     0.00,2,     2.93,2,   -999.0,9,   -999.0,9,-999.0000,9,  -999.00,  -999.00,9,  -999.00,9,   3.6582,2,     1006
  49UF20180406,KS1804,  5304,  1,     13,  25247,2,20180408,0942, 34.9575, 140.2633, 1660,   1009.3,   3.1801,   3.1785,2,  34.3907,2,  34.3880,2,     47.2,2,     47.8,2,   136.25,2,    41.85,2,     0.00,2,     3.01,2,   -999.0,9,   -999.0,9,-999.0000,9,  -999.00,  -999.00,9,  -999.00,9,   3.1785,2,     1003
  49UF20180406,KS1804,  5304,  1,      9,  25243,2,20180408,0942, 34.9575, 140.2633, 1660,   1212.4,   2.7302,   2.7301,2,  34.4594,2,  34.4583,6,     46.3,2,     46.1,2,   148.20,2,    42.34,2,     0.00,2,     3.03,2,   -999.0,9,   -999.0,9,-999.0000,9,  -999.00,  -999.00,9,  -999.00,9,   2.7301,2,      958
  49UF20180406,KS1804,  5304,  1,      8,  25242,2,20180408,0942, 34.9575, 140.2633, 1660,   1415.9,   2.4711,   2.4712,2,  34.5023,2,  34.4992,2,     53.2,2,     53.3,2,   153.97,2,    42.17,2,     0.00,2,     3.04,2,   -999.0,9,   -999.0,9,-999.0000,9,  -999.00,  -999.00,9,  -999.00,9,   2.4712,2,      953
  49UF20180406,KS1804,  5304,  1,      7,  25241,2,20180408,0942, 34.9575, 140.2633, 1660,   1617.6,   2.2401,   2.2399,2,  34.5438,2,  34.5408,2,     62.9,2,     63.3,2,   157.67,2,    41.71,2,     0.00,2,     2.97,2,   -999.0,9,   -999.0,9,-999.0000,9,  -999.00,  -999.00,9,  -999.00,9,   2.2399,2,      947
  49UF20180406,KS1804,  5304,  1,      6,  25240,2,20180408,0942, 34.9575, 140.2633, 1660,   1748.8,   2.1109,   2.1107,2,  34.5676,2,  34.5631,4,     70.7,2,     71.3,6,   159.47,6,    41.29,6,     0.00,6,     2.95,6,   -999.0,9,   -999.0,9,-999.0000,9,  -999.00,  -999.00,9,  -999.00,9,   2.1107,2,      943
  49UF20180406,KS1804,  5304,  1,      5,  25239,2,20180408,0942, 34.9575, 140.2633, 1660,   1749.3,   2.1061,   2.1072,2,  34.5682,2,  34.5645,4,     70.9,2,     71.3,2,   159.61,2,    41.27,2,     0.00,2,     2.93,2,   -999.0,9,   -999.0,9,-999.0000,9,  -999.00,  -999.00,9,  -999.00,9,   2.1072,2,      942
  49UF20180406,KS1804,  5307,  1,     99,     99,2,20180409,0252, 34.2445, 141.0115, 4910,      0.0,  19.2276,-999.0000,9,  34.8249,2,-999.0000,9,    232.3,2,    232.1,2,     1.79,2,     0.33,2,     0.07,2,     0.10,2,   -999.0,9,   -999.0,9,-999.0000,9,  -999.00,     1.28,2,     0.43,2,-999.0000,9,      334
  49UF20180406,KS1804,  5307,  1,     36,  25270,2,20180409,0252, 34.2445, 141.0115, 4910,     10.1,  19.1787,  19.1797,2,  34.8299,2,-999.0000,9,    231.1,2,    232.1,2,     1.71,2,     0.45,3,     0.06,2,     0.07,2,   -999.0,9,   -999.0,9,-999.0000,9,  -999.00,     1.23,2,     0.34,2,  19.1797,2,      418
  49UF20180406,KS1804,  5307,  1,     35,  25269,2,20180409,0252, 34.2445, 141.0115, 4910,     24.0,  19.0489,  19.0498,2,  34.8400,2,-999.0000,9,    227.7,2,    228.3,2,     2.21,2,     0.78,2,     0.08,2,     0.10,2,   -999.0,9,   -999.0,9,-999.0000,9,  -999.00,     0.96,2,     0.36,2,  19.0498,2,      416
  49UF20180406,KS1804,  5307,  1,     34,  25268,2,20180409,0252, 34.2445, 141.0115, 4910,     51.1,  19.0089,  19.0086,2,  34.8411,2,-999.0000,9,    225.1,2,    225.8,2,     2.33,2,     0.97,2,     0.09,2,     0.13,2,   -999.0,9,   -999.0,9,-999.0000,9,  -999.00,     0.86,2,     0.37,2,  19.0086,2,      414
  49UF20180406,KS1804,  5307,  1,     33,  25267,2,20180409,0252, 34.2445, 141.0115, 4910,     75.8,  18.6616,  18.6610,2,  34.8511,2,-999.0000,9,    229.3,2,    229.9,2,     2.16,2,     0.54,2,     0.15,2,     0.10,2,   -999.0,9,   -999.0,9,-999.0000,9,  -999.00,     0.47,2,     0.25,2,  18.6610,2,      412
  49UF20180406,KS1804,  5307,  1,     32,  25266,2,20180409,0252, 34.2445, 141.0115, 4910,    101.4,  18.0512,  18.0486,2,  34.8665,2,-999.0000,9,    234.5,2,    234.8,2,     2.40,2,     0.39,2,     0.20,2,     0.09,2,   -999.0,9,   -999.0,9,-999.0000,9,  -999.00,     0.26,2,     0.33,2,  18.0486,2,      408
  49UF20180406,KS1804,  5307,  1,     31,  25265,2,20180409,0252, 34.2445, 141.0115, 4910,    129.3,  17.9912,  17.9912,2,  34.8617,2,-999.0000,9,    233.2,2,    233.6,2,     2.49,2,     0.55,2,     0.27,2,     0.10,2,   -999.0,9,   -999.0,9,-999.0000,9,  -999.00,     0.10,2,     0.07,2,  17.9912,2,      407
  49UF20180406,KS1804,  5307,  1,     27,  25261,2,20180409,0252, 34.2445, 141.0115, 4910,    148.2,  17.9643,  17.9640,2,  34.8585,2,-999.0000,9,    231.7,2,    232.7,2,     2.58,2,     0.81,2,     0.28,2,     0.11,2,   -999.0,9,   -999.0,9,-999.0000,9,  -999.00,     0.10,2,     0.07,2,  17.9640,2,      405
  49UF20180406,KS1804,  5307,  1,     26,  25260,2,20180409,0252, 34.2445, 141.0115, 4910,    199.8,  17.6535,  17.6544,2,  34.8409,2,-999.0000,9,    231.2,2,    231.4,2,     2.89,2,     1.44,2,     0.38,2,     0.15,2,   -999.0,9,   -999.0,9,-999.0000,9,  -999.00,     0.05,2,     0.07,2,  17.6544,2,      403
  49UF20180406,KS1804,  5307,  1,     25,  25259,2,20180409,0252, 34.2445, 141.0115, 4910,    249.9,  17.3959,  17.3959,2,  34.8330,2,-999.0000,9,    226.6,2,    227.2,6,     3.46,6,     2.82,6,     0.03,6,     0.21,6,   -999.0,9,   -999.0,9,-999.0000,9,  -999.00,  -999.00,9,  -999.00,9,  17.3959,2,      401
  49UF20180406,KS1804,  5307,  1,     23,  25257,2,20180409,0252, 34.2445, 141.0115, 4910,    307.5,  17.3120,  17.3123,2,  34.8325,2,-999.0000,9,    226.1,2,    226.8,2,     3.65,2,     2.94,2,     0.00,2,     0.23,2,   -999.0,9,   -999.0,9,-999.0000,9,  -999.00,  -999.00,9,  -999.00,9,  17.3123,2,      358
  49UF20180406,KS1804,  5307,  1,     24,  25258,2,20180409,0252, 34.2445, 141.0115, 4910,    308.3,  17.3113,  17.3115,2,  34.8324,2,-999.0000,9,    226.1,2,    226.8,2,     3.62,2,     2.94,2,     0.02,2,     0.21,2,   -999.0,9,   -999.0,9,-999.0000,9,  -999.00,  -999.00,9,  -999.00,9,  17.3115,2,      358
  49UF20180406,KS1804,  5307,  1,     22,  25256,2,20180409,0252, 34.2445, 141.0115, 4910,    401.0,  15.3853,  15.3807,2,  34.6105,2,-999.0000,9,    191.3,2,    192.1,2,     9.89,2,     9.02,2,     0.01,2,     0.62,2,   -999.0,9,   -999.0,9,-999.0000,9,  -999.00,  -999.00,9,  -999.00,9,  15.3807,2,      355
  49UF20180406,KS1804,  5307,  1,     18,  25252,2,20180409,0252, 34.2445, 141.0115, 4910,    504.8,  12.5809,  12.5869,2,  34.3984,2,-999.0000,9,    178.4,2,    178.7,2,    19.94,2,    14.70,2,     0.00,2,     1.03,2,   -999.0,9,   -999.0,9,-999.0000,9,  -999.00,  -999.00,9,  -999.00,9,  12.5869,2,      352
  49UF20180406,KS1804,  5307,  1,     17,  25251,2,20180409,0252, 34.2445, 141.0115, 4910,    603.6,   8.8073,   8.8113,2,  34.1187,2,-999.0000,9,    170.8,2,    170.7,2,    36.52,2,    21.68,2,     0.00,2,     1.56,2,   -999.0,9,   -999.0,9,-999.0000,9,  -999.00,  -999.00,9,  -999.00,9,   8.8113,2,      349
  49UF20180406,KS1804,  5307,  1,     16,  25250,2,20180409,0252, 34.2445, 141.0115, 4910,    706.5,   6.8654,   6.8666,2,  34.1246,2,-999.0000,9,    122.7,2,    122.6,2,    61.30,2,    29.68,2,     0.00,2,     2.14,2,   -999.0,9,   -999.0,9,-999.0000,9,  -999.00,  -999.00,9,  -999.00,9,   6.8666,2,      346
  49UF20180406,KS1804,  5307,  1,     15,  25249,2,20180409,0252, 34.2445, 141.0115, 4910,    808.1,   5.2724,   5.2705,2,  34.1049,2,-999.0000,9,     93.5,2,     93.4,2,    81.88,2,    35.18,2,     0.00,2,     2.54,2,   -999.0,9,   -999.0,9,-999.0000,9,  -999.00,  -999.00,9,  -999.00,9,   5.2705,2,      343
  49UF20180406,KS1804,  5307,  1,     14,  25248,2,20180409,0252, 34.2445, 141.0115, 4910,    906.1,   4.8905,   4.8904,2,  34.2495,2,-999.0000,9,     73.0,2,     73.3,2,    96.52,2,    37.43,2,     0.00,2,     2.69,2,   -999.0,9,   -999.0,9,-999.0000,9,  -999.00,  -999.00,9,  -999.00,9,   4.8904,2,      340
  49UF20180406,KS1804,  5307,  1,     13,  25247,2,20180409,0252, 34.2445, 141.0115, 4910,   1014.0,   4.1550,   4.1535,2,  34.3519,2,-999.0000,9,     65.2,2,     65.5,2,   113.01,2,    39.23,2,     0.00,2,     2.80,2,   -999.0,9,   -999.0,9,-999.0000,9,  -999.00,  -999.00,9,  -999.00,9,   4.1535,2,      322
  49UF20180406,KS1804,  5307,  1,      9,  25243,2,20180409,0252, 34.2445, 141.0115, 4910,   1211.7,   3.2060,   3.2058,2,  34.4150,2,-999.0000,9,     50.8,2,     50.5,2,   134.80,2,    41.49,2,     0.00,2,     2.96,2,   -999.0,9,   -999.0,9,-999.0000,9,  -999.00,  -999.00,9,  -999.00,9,   3.2058,2,      317
  49UF20180406,KS1804,  5307,  1,      8,  25242,2,20180409,0252, 34.2445, 141.0115, 4910,   1416.2,   2.6336,   2.6341,2,  34.4876,2,-999.0000,9,     48.4,2,     48.1,2,   150.19,2,    42.35,2,     0.01,2,     3.02,2,   -999.0,9,   -999.0,9,-999.0000,9,  -999.00,  -999.00,9,  -999.00,9,   2.6341,2,      312
  49UF20180406,KS1804,  5307,  1,      7,  25241,2,20180409,0252, 34.2445, 141.0115, 4910,   1615.4,   2.2499,   2.2488,2,  34.5499,2,-999.0000,9,     60.0,2,     59.9,6,   158.18,6,    41.92,6,     0.00,6,     2.98,6,   -999.0,9,   -999.0,9,-999.0000,9,  -999.00,  -999.00,9,  -999.00,9,   2.2488,2,      303
  49UF20180406,KS1804,  5307,  1,      5,  25239,2,20180409,0252, 34.2445, 141.0115, 4910,   1825.1,   2.0665,   2.0662,2,  34.5802,2,-999.0000,9,     70.9,2,     71.0,2,   160.91,2,    41.25,2,     0.00,2,     2.92,2,   -999.0,9,   -999.0,9,-999.0000,9,  -999.00,  -999.00,9,  -999.00,9,   2.0662,2,      257
  49UF20180406,KS1804,  5307,  1,      6,  25240,2,20180409,0252, 34.2445, 141.0115, 4910,   1826.2,   2.0670,   2.0670,2,  34.5803,2,-999.0000,9,     70.8,2,     71.4,2,   161.03,2,    41.30,2,     0.00,2,     2.92,2,   -999.0,9,   -999.0,9,-999.0000,9,  -999.00,  -999.00,9,  -999.00,9,   2.0670,2,      257
  49UF20180406,KS1804,  5307,  1,      4,  25238,2,20180409,0252, 34.2445, 141.0115, 4910,   2024.1,   1.9065,   1.9063,2,  34.6095,2,-999.0000,9,     85.2,2,     85.7,2,   160.69,2,    40.39,2,     0.00,2,     2.85,2,   -999.0,9,   -999.0,9,-999.0000,9,  -999.00,  -999.00,9,  -999.00,9,   1.9063,2,      252