BOTTLE,20200311PRINUNIVRMK
EXPOCODE,SECT_ID,STNNBR,CASTNO,SAMPNO,BTLNBR,BTLNBR_FLAG_W,DATE,TIME,LATITUDE,LONGITUDE,DEPTH,CTDPRS,CTDTMP,SBE35,SBE35_FLAG_W,CTDSAL,CTDSAL_FLAG_W,SALNTY,SALNTY_FLAG_W,CTDOXY,CTDOXY_FLAG_W,OXYGEN,OXYGEN_FLAG_W,SILCAT,SILCAT_FLAG_W,NITRAT,NITRAT_FLAG_W,NITRIT,NITRIT_FLAG_W,PHSPHT,PHSPHT_FLAG_W,TCARBN,TCARBN_FLAG_W,ALKALI,ALKALI_FLAG_W,PH_TOT,PH_TOT_FLAG_W,PH_TMP,CHLORA,CHLORA_FLAG_W,PPHYTN,PPHYTN_FLAG_W,SBE35,SBE35_FLAG_W,BTL_TIME
,,,,,,,,,,,METERS,DBAR,ITS-90,,,PSS-78,,PSS-78,,UMOL/KG,,UMOL/KG,,UMOL/KG,,UMOL/KG,,UMOL/KG,,UMOL/KG,,UMOL/KG,,UMOL/KG,,,,DEG C,UG/KG,,UG/KG,,,,
  49UF20180406,KS1804,  5312,  1,     99,     99,2,20180410,1833, 32.0080, 142.9842, 5645,      0.0,  18.9116,-999.0000,9,  34.9230,2,  34.9172,2,    236.0,2,    236.2,2,     1.88,2,     0.01,2,     0.00,2,     0.05,2,   2012.5,2,   2294.5,2,   8.0357,2,    25.00,     0.21,2,     0.07,2,-999.0000,9,     2045
  49UF20180406,KS1804,  5312,  1,     36,  25270,2,20180410,1833, 32.0080, 142.9842, 5645,      9.8,  18.9108,  18.9117,2,  34.9246,2,  34.9237,2,    236.0,2,    235.9,2,     1.88,2,     0.00,2,     0.00,2,     0.04,2,   2006.7,2,   2294.1,2,   8.0344,2,    25.00,     0.20,2,     0.08,2,  18.9117,2,     2102
  49UF20180406,KS1804,  5312,  1,     35,  25269,2,20180410,1833, 32.0080, 142.9842, 5645,     25.3,  18.8982,  18.8969,2,  34.9230,2,-999.0000,9,    235.7,2,    236.5,2,     1.91,2,     0.00,2,     0.00,2,     0.04,2,   2004.9,2,   2295.6,2,   8.0352,2,    25.00,     0.20,2,     0.08,2,  18.8969,2,     2100
  49UF20180406,KS1804,  5312,  1,     34,  25268,2,20180410,1833, 32.0080, 142.9842, 5645,     49.8,  18.5230,  18.5237,2,  34.8977,2,  34.8958,2,    239.3,2,    238.9,2,     1.63,2,     0.00,2,     0.00,2,     0.05,2,   2007.5,2,   2294.2,2,   8.0324,2,    25.00,     0.37,2,     0.30,2,  18.5237,2,     2056
  49UF20180406,KS1804,  5312,  1,     33,  25267,2,20180410,1833, 32.0080, 142.9842, 5645,     75.2,  18.3579,  18.3570,2,  34.8825,2,  34.8796,2,    237.1,2,    237.0,2,     2.06,2,     0.28,2,     0.04,2,     0.07,2,   2012.3,2,   2293.8,2,   8.0242,2,    25.00,     0.39,2,     0.24,2,  18.3570,2,     2055
  49UF20180406,KS1804,  5312,  1,     32,  25266,2,20180410,1833, 32.0080, 142.9842, 5645,     99.5,  17.8129,  17.8134,2,  34.8537,2,  34.8513,2,    239.2,2,    239.0,2,     2.93,2,     0.49,2,     0.13,2,     0.11,2,   2018.0,2,   2291.2,2,   8.0128,2,    25.00,     0.31,2,     0.20,2,  17.8134,2,     2053
  49UF20180406,KS1804,  5312,  1,     31,  25265,2,20180410,1833, 32.0080, 142.9842, 5645,    125.8,  17.6143,  17.6140,2,  34.8435,2,-999.0000,9,    236.6,2,    236.8,2,     2.96,2,     0.85,2,     0.41,2,     0.12,2,   2020.6,2,   2289.1,2,   8.0050,2,    25.00,     0.11,2,     0.12,2,  17.6140,2,     2052
  49UF20180406,KS1804,  5312,  1,     30,  25264,2,20180410,1833, 32.0080, 142.9842, 5645,    149.9,  17.5435,  17.5415,2,  34.8349,2,  34.8355,6,    230.8,2,    230.7,2,     3.10,2,     1.99,2,     0.14,2,     0.16,2,   2023.7,2,   2289.2,2,   7.9975,2,    25.00,     0.04,2,     0.05,2,  17.5415,2,     2050
  49UF20180406,KS1804,  5312,  1,     29,  25263,2,20180410,1833, 32.0080, 142.9842, 5645,    201.0,  17.3079,  17.3054,2,  34.8222,2,  34.8237,2,    224.5,2,    224.6,6,     3.71,6,     3.15,6,     0.02,6,     0.23,6,   2029.5,2,   2288.0,2,   7.9818,2,    25.00,     0.02,2,     0.04,2,  17.3054,2,     2048
  49UF20180406,KS1804,  5312,  1,     28,  25262,2,20180410,1833, 32.0080, 142.9842, 5645,    252.3,  16.8375,  16.8373,2,  34.7636,2,-999.0000,9,    209.5,2,    210.2,2,     5.27,2,     5.19,2,     0.01,2,     0.35,2,   2043.4,2,   2284.9,2,   7.9498,2,    25.00,  -999.00,9,  -999.00,9,  16.8373,2,     2046
  49UF20180406,KS1804,  5312,  1,     27,  25261,2,20180410,1833, 32.0080, 142.9842, 5645,    301.8,  15.9916,  15.9872,2,  34.6709,2,  34.6732,2,    196.1,2,    197.4,2,     8.07,2,     7.63,2,     0.01,2,     0.51,2,   2062.7,2,   2280.7,2,   7.9092,2,    25.00,  -999.00,9,  -999.00,9,  15.9872,2,     2044
  49UF20180406,KS1804,  5312,  1,     26,  25260,2,20180410,1833, 32.0080, 142.9842, 5645,    401.9,  13.4233,  13.4225,2,  34.4632,2,-999.0000,9,    179.8,2,    181.0,2,    17.40,2,    13.29,2,     0.01,2,     0.92,2,   2101.3,2,   2276.5,2,   7.8202,2,    25.00,  -999.00,9,  -999.00,9,  13.4225,2,     2041
  49UF20180406,KS1804,  5312,  1,     25,  25259,2,20180410,1833, 32.0080, 142.9842, 5645,    503.3,  10.6204,  10.6211,2,  34.2802,2,  34.2814,2,    166.6,2,    166.9,2,    30.44,2,    19.06,2,     0.00,2,     1.35,2,   2144.4,6,   2280.3,6,   7.7266,2,    25.00,  -999.00,9,  -999.00,9,  10.6211,2,     2038
  49UF20180406,KS1804,  5312,  1,     24,  25258,2,20180410,1833, 32.0080, 142.9842, 5645,    603.2,   7.6272,   7.6291,2,  34.1009,2,-999.0000,9,    146.4,2,    146.0,2,    49.89,2,    26.14,2,     0.00,2,     2.01,2,   2195.8,2,   2288.5,2,   7.6079,6,    25.00,  -999.00,9,  -999.00,9,   7.6291,2,     2035
  49UF20180406,KS1804,  5312,  1,     23,  25257,2,20180410,1833, 32.0080, 142.9842, 5645,    705.1,   6.0147,   6.0086,2,  34.0893,2,  34.0831,4,    114.0,2,    114.5,6,    69.51,6,    31.99,6,     0.00,6,     2.31,6,   2239.6,2,   2301.3,2,   7.5102,2,    25.00,  -999.00,9,  -999.00,9,   6.0086,2,     2032
  49UF20180406,KS1804,  5312,  1,     22,  25256,2,20180410,1833, 32.0080, 142.9842, 5645,    806.3,   5.1075,   5.1079,2,  34.1664,2,-999.0000,9,     81.9,2,     82.2,2,    88.81,2,    36.34,2,     0.00,2,     2.61,2,   2278.9,2,   2322.0,2,   7.4435,2,    25.00,  -999.00,9,  -999.00,9,   5.1079,2,     2029
  49UF20180406,KS1804,  5312,  1,     21,  25255,2,20180410,1833, 32.0080, 142.9842, 5645,    907.3,   4.4356,   4.4410,2,  34.2378,2,  34.2377,2,     63.0,2,     63.0,2,   104.29,2,    38.96,2,     0.00,2,     2.79,2,   2316.7,2,   2337.1,2,   7.4080,2,    25.00,  -999.00,9,  -999.00,9,   4.4410,2,     2026
  49UF20180406,KS1804,  5312,  1,     20,  24270,2,20180410,1833, 32.0080, 142.9842, 5645,   1008.6,   3.8712,   3.8696,2,  34.3023,2,-999.0000,9,     51.8,2,     51.5,2,   118.11,2,    40.55,2,     0.00,2,     2.90,2,   2337.7,2,   2353.5,2,   7.3868,2,    25.00,  -999.00,9,  -999.00,9,   3.8696,2,     2023
  49UF20180406,KS1804,  5312,  1,     19,  25253,2,20180410,1833, 32.0080, 142.9842, 5645,   1212.5,   3.2625,   3.2619,2,  34.3997,2,  34.3981,2,     49.8,2,     49.6,2,   133.70,2,    41.42,2,     0.00,2,     2.96,2,   2346.7,2,   2373.5,2,-999.0000,5,  -999.00,  -999.00,9,  -999.00,9,   3.2619,2,     2019
  49UF20180406,KS1804,  5312,  1,     18,  25252,2,20180410,1833, 32.0080, 142.9842, 5645,   1414.4,   2.7836,   2.7837,2,  34.4578,2,-999.0000,9,     46.4,2,     46.2,2,   146.77,2,    42.20,2,     0.00,2,     3.01,2,   2367.3,2,   2386.7,2,-999.0000,5,  -999.00,  -999.00,9,  -999.00,9,   2.7837,2,     2014
  49UF20180406,KS1804,  5312,  1,     17,  25251,2,20180410,1833, 32.0080, 142.9842, 5645,   1617.3,   2.4354,   2.4354,2,  34.5106,2,  34.5105,2,     49.4,2,     49.4,6,   156.59,6,    42.41,6,     0.00,6,     3.01,6,   2381.3,2,   2398.8,2,   7.3923,2,    25.00,  -999.00,9,  -999.00,9,   2.4354,2,     2009
  49UF20180406,KS1804,  5312,  1,     16,  25250,2,20180410,1833, 32.0080, 142.9842, 5645,   1820.0,   2.2048,   2.2046,2,  34.5533,2,-999.0000,9,     61.0,2,     61.1,2,   159.98,2,    41.86,2,     0.00,2,     2.96,2,   2372.7,2,   2405.7,2,   7.4166,2,    25.00,  -999.00,9,  -999.00,9,   2.2046,2,     2004
  49UF20180406,KS1804,  5312,  1,     15,  25249,2,20180410,1833, 32.0080, 142.9842, 5645,   2023.3,   2.0404,   2.0404,2,  34.5831,2,  34.5835,2,     71.8,2,     72.4,2,   162.40,2,    41.31,2,     0.00,2,     2.90,2,   2371.1,2,   2411.3,2,   7.4386,2,    25.00,  -999.00,9,  -999.00,9,   2.0404,2,     2000
  49UF20180406,KS1804,  5312,  1,     14,  25248,2,20180410,1833, 32.0080, 142.9842, 5645,   2276.7,   1.8509,   1.8508,2,  34.6144,2,  34.6142,2,     89.1,2,     89.5,2,   162.61,2,    40.19,2,     0.00,2,     2.82,2,   2362.3,2,   2413.9,2,   7.4730,2,    25.00,  -999.00,9,  -999.00,9,   1.8508,2,     1954
  49UF20180406,KS1804,  5312,  1,     13,  25247,2,20180410,1833, 32.0080, 142.9842, 5645,   2531.4,   1.7119,   1.7117,2,  34.6373,2,  34.6371,2,    105.6,2,    105.9,2,   161.02,2,    39.14,2,     0.00,2,     2.75,2,   2351.7,6,   2416.7,6,   7.5012,2,    25.00,  -999.00,9,  -999.00,9,   1.7117,2,     1948
  49UF20180406,KS1804,  5312,  1,     12,  25246,2,20180410,1833, 32.0080, 142.9842, 5645,   2787.6,   1.6288,   1.6289,2,  34.6512,2,  34.6519,2,    117.4,2,    117.7,2,   159.13,2,    38.39,2,     0.00,2,     2.68,2,   2346.0,2,   2417.5,2,   7.5271,6,    25.00,  -999.00,9,  -999.00,9,   1.6289,2,     1942
  49UF20180406,KS1804,  5312,  1,     11,  25245,2,20180410,1833, 32.0080, 142.9842, 5645,   3041.8,   1.5680,   1.5679,2,  34.6615,2,  34.6614,2,    127.1,2,    127.1,2,   157.08,2,    37.76,2,     0.00,2,     2.64,2,   2345.4,2,   2419.0,2,   7.5444,2,    25.00,  -999.00,9,  -999.00,9,   1.5679,2,     1937
  49UF20180406,KS1804,  5312,  1,     10,  25244,2,20180410,1833, 32.0080, 142.9842, 5645,   3299.2,   1.5233,   1.5233,2,  34.6694,2,  34.6695,2,    135.0,2,    135.2,2,   155.68,2,    37.22,2,     0.00,2,     2.60,2,   2339.2,2,   2418.0,2,   7.5544,2,    25.00,  -999.00,9,  -999.00,9,   1.5233,2,     1931
  49UF20180406,KS1804,  5312,  1,      9,  25243,2,20180410,1833, 32.0080, 142.9842, 5645,   3554.2,   1.4939,   1.4938,2,  34.6750,2,  34.6749,2,    141.3,2,    141.5,2,   154.32,2,    36.89,2,     0.00,2,     2.57,2,   2333.6,2,   2417.8,2,   7.5681,2,    25.00,  -999.00,9,  -999.00,9,   1.4938,2,     1925
  49UF20180406,KS1804,  5312,  1,      8,  25242,2,20180410,1833, 32.0080, 142.9842, 5645,   3809.2,   1.4727,   1.4725,2,  34.6799,2,  34.6817,2,    147.0,2,    147.4,2,   152.60,2,    36.49,2,     0.00,2,     2.54,2,   2328.1,2,   2417.3,2,   7.5718,2,    25.00,  -999.00,9,  -999.00,9,   1.4725,2,     1919
  49UF20180406,KS1804,  5312,  1,      7,  25241,2,20180410,1833, 32.0080, 142.9842, 5645,   4065.1,   1.4645,   1.4645,2,  34.6835,2,  34.6831,2,    151.5,2,    151.6,6,   151.29,6,    36.22,6,     0.00,6,     2.53,6,   2324.1,2,   2417.2,2,   7.5777,2,    25.00,  -999.00,9,  -999.00,9,   1.4645,2,     1914
  49UF20180406,KS1804,  5312,  1,      6,  25240,2,20180410,1833, 32.0080, 142.9842, 5645,   4578.1,   1.4747,   1.4746,2,  34.6882,2,  34.6887,2,    158.1,2,    158.4,2,   148.50,2,    35.76,2,     0.00,2,     2.47,2,   2319.3,2,   2415.5,2,   7.5876,2,    25.00,  -999.00,9,  -999.00,9,   1.4746,2,     1903
  49UF20180406,KS1804,  5312,  1,      5,  25239,2,20180410,1833, 32.0080, 142.9842, 5645,   4836.5,   1.4907,   1.4907,2,  34.6897,2,  34.6890,2,    160.3,2,    159.6,2,   147.61,2,    35.67,2,     0.00,2,     2.47,2,   2320.0,2,   2414.5,2,   7.5898,2,    25.00,  -999.00,9,  -999.00,9,   1.4907,2,     1857
  49UF20180406,KS1804,  5312,  1,      4,  25238,2,20180410,1833, 32.0080, 142.9842, 5645,   5095.5,   1.5125,   1.5124,2,  34.6909,2,  34.6917,6,    162.2,2,    162.7,2,   145.92,2,    35.44,2,     0.00,2,     2.46,2,   2313.1,2,   2413.2,2,   7.5967,2,    25.00,  -999.00,9,  -999.00,9,   1.5124,2,     1852
  49UF20180406,KS1804,  5312,  1,      3,  24271,2,20180410,1833, 32.0080, 142.9842, 5645,   5352.1,   1.5378,   1.5377,2,  34.6918,2,  34.6925,2,    163.6,2,    164.5,2,   144.38,2,    35.28,2,     0.00,2,     2.44,2,   2318.1,2,   2412.8,2,   7.5981,2,    25.00,  -999.00,9,  -999.00,9,   1.5377,2,     1846
  49UF20180406,KS1804,  5312,  1,      2,  25236,2,20180410,1833, 32.0080, 142.9842, 5645,   5610.1,   1.5668,   1.5667,2,  34.6924,2,  34.6940,2,    164.6,2,    165.4,2,   143.43,2,    35.24,2,     0.00,2,     2.44,2,   2310.5,6,   2412.3,6,   7.5975,2,    25.00,  -999.00,9,  -999.00,9,   1.5667,2,     1840
  49UF20180406,KS1804,  5312,  1,      1,  25235,2,20180410,1833, 32.0080, 142.9842, 5645,   5765.0,   1.5860,   1.5858,2,  34.6929,2,  34.6920,6,    164.9,2,    165.3,2,   143.46,2,    35.20,2,     0.00,2,     2.44,2,   2312.4,2,   2412.0,2,   7.5976,6,    25.00,  -999.00,9,  -999.00,9,   1.5858,2,     1833