BOTTLE,20200311PRINUNIVRMK
EXPOCODE,SECT_ID,STNNBR,CASTNO,SAMPNO,BTLNBR,BTLNBR_FLAG_W,DATE,TIME,LATITUDE,LONGITUDE,DEPTH,CTDPRS,CTDTMP,SBE35,SBE35_FLAG_W,CTDSAL,CTDSAL_FLAG_W,SALNTY,SALNTY_FLAG_W,CTDOXY,CTDOXY_FLAG_W,OXYGEN,OXYGEN_FLAG_W,SILCAT,SILCAT_FLAG_W,NITRAT,NITRAT_FLAG_W,NITRIT,NITRIT_FLAG_W,PHSPHT,PHSPHT_FLAG_W,TCARBN,TCARBN_FLAG_W,ALKALI,ALKALI_FLAG_W,PH_TOT,PH_TOT_FLAG_W,PH_TMP,CHLORA,CHLORA_FLAG_W,PPHYTN,PPHYTN_FLAG_W,SBE35,SBE35_FLAG_W,BTL_TIME
,,,,,,,,,,,METERS,DBAR,ITS-90,,,PSS-78,,PSS-78,,UMOL/KG,,UMOL/KG,,UMOL/KG,,UMOL/KG,,UMOL/KG,,UMOL/KG,,UMOL/KG,,UMOL/KG,,,,DEG C,UG/KG,,UG/KG,,,,
  49UF20180406,KS1804,  5322,  1,     99,     99,2,20180413,1108, 28.9930, 147.2235, 6091,      0.0,  20.8169,-999.0000,9,  34.9999,2,-999.0000,9,    226.7,2,    226.7,2,     1.70,2,     0.00,2,     0.00,2,     0.02,2,   -999.0,9,   -999.0,9,-999.0000,9,  -999.00,     0.10,2,     0.03,2,-999.0000,9,     1150
  49UF20180406,KS1804,  5322,  1,     36,  25270,2,20180413,1108, 28.9930, 147.2235, 6091,     10.2,  20.8209,  20.8205,2,  34.9988,2,-999.0000,9,    226.7,2,    226.9,2,     1.69,2,     0.00,2,     0.00,2,     0.01,2,   -999.0,9,   -999.0,9,-999.0000,9,  -999.00,     0.10,2,     0.03,2,  20.8205,2,     1211
  49UF20180406,KS1804,  5322,  1,     35,  25269,2,20180413,1108, 28.9930, 147.2235, 6091,     26.3,  20.5131,  20.5165,2,  35.0071,2,-999.0000,9,    228.5,2,    228.8,2,     1.76,2,     0.00,2,     0.00,2,     0.01,2,   -999.0,9,   -999.0,9,-999.0000,9,  -999.00,     0.10,2,     0.04,2,  20.5165,2,     1210
  49UF20180406,KS1804,  5322,  1,     34,  25268,3,20180413,1108, 28.9930, 147.2235, 6091,     49.6,  19.8789,  19.8788,2,  34.9493,2,-999.0000,9,    231.8,2,    231.8,2,     1.88,2,     0.00,2,     0.00,2,     0.01,2,   -999.0,9,   -999.0,9,-999.0000,9,  -999.00,     0.12,2,     0.06,2,  19.8788,2,     1205
  49UF20180406,KS1804,  5322,  1,     30,  25264,2,20180413,1108, 28.9930, 147.2235, 6091,     75.5,  19.4890,  19.4885,2,  34.9260,2,-999.0000,9,    231.8,2,    232.5,2,     1.94,2,     0.00,2,     0.00,2,     0.02,2,   -999.0,9,   -999.0,9,-999.0000,9,  -999.00,     0.21,2,     0.12,2,  19.4885,2,     1204
  49UF20180406,KS1804,  5322,  1,     29,  25263,2,20180413,1108, 28.9930, 147.2235, 6091,    101.2,  18.9919,  18.9911,2,  34.8837,2,-999.0000,9,    217.3,2,    217.9,6,     2.40,6,     1.04,6,     0.06,6,     0.10,6,   -999.0,9,   -999.0,9,-999.0000,9,  -999.00,     0.25,2,     0.34,2,  18.9911,2,     1202
  49UF20180406,KS1804,  5322,  1,     27,  25261,2,20180413,1108, 28.9930, 147.2235, 6091,    126.4,  18.5460,  18.5456,2,  34.8651,2,-999.0000,9,    215.4,2,    215.5,2,     2.74,2,     1.94,2,     0.02,2,     0.16,2,   -999.0,9,   -999.0,9,-999.0000,9,  -999.00,     0.08,2,     0.13,2,  18.5456,2,     1201
  49UF20180406,KS1804,  5322,  1,     28,  25262,2,20180413,1108, 28.9930, 147.2235, 6091,    126.8,  18.5436,  18.5423,2,  34.8654,2,-999.0000,9,    215.3,2,    215.5,2,     2.73,2,     1.92,2,     0.03,2,     0.15,2,   -999.0,9,   -999.0,9,-999.0000,9,  -999.00,  -999.00,9,  -999.00,9,  18.5423,2,     1201
  49UF20180406,KS1804,  5322,  1,     26,  25260,2,20180413,1108, 28.9930, 147.2235, 6091,    150.9,  18.1524,  18.1533,2,  34.8521,2,-999.0000,9,    217.8,2,    218.1,2,     2.89,2,     2.35,2,     0.02,2,     0.17,2,   -999.0,9,   -999.0,9,-999.0000,9,  -999.00,     0.06,2,     0.07,2,  18.1533,2,     1200
  49UF20180406,KS1804,  5322,  1,     25,  25259,2,20180413,1108, 28.9930, 147.2235, 6091,    203.2,  17.6727,  17.6724,2,  34.8393,2,-999.0000,9,    225.0,2,    225.1,2,     2.99,2,     2.35,2,     0.01,2,     0.17,2,   -999.0,9,   -999.0,9,-999.0000,9,  -999.00,     0.01,2,     0.03,2,  17.6724,2,     1158
  49UF20180406,KS1804,  5322,  1,     21,  25255,2,20180413,1108, 28.9930, 147.2235, 6091,    252.0,  17.3226,  17.3218,2,  34.7958,2,-999.0000,9,    207.6,2,    207.8,2,     4.13,2,     4.48,2,     0.01,2,     0.30,2,   -999.0,9,   -999.0,9,-999.0000,9,  -999.00,  -999.00,9,  -999.00,9,  17.3218,2,     1156
  49UF20180406,KS1804,  5322,  1,     20,  24270,2,20180413,1108, 28.9930, 147.2235, 6091,    303.6,  16.6440,  16.6435,2,  34.7500,2,-999.0000,9,    210.9,2,    211.0,2,     5.00,2,     5.22,2,     0.00,2,     0.35,2,   -999.0,9,   -999.0,9,-999.0000,9,  -999.00,  -999.00,9,  -999.00,9,  16.6435,2,     1154
  49UF20180406,KS1804,  5322,  1,     19,  25253,2,20180413,1108, 28.9930, 147.2235, 6091,    403.4,  15.1183,  15.1185,2,  34.5876,2,-999.0000,9,    192.7,2,    192.9,2,    10.19,2,     9.36,2,     0.00,2,     0.63,2,   -999.0,9,   -999.0,9,-999.0000,9,  -999.00,  -999.00,9,  -999.00,9,  15.1185,2,     1151
  49UF20180406,KS1804,  5322,  1,     18,  25252,2,20180413,1108, 28.9930, 147.2235, 6091,    504.8,  12.0862,  12.0856,2,  34.3494,2,-999.0000,9,    184.8,2,    184.9,2,    19.97,2,    14.92,2,     0.00,2,     1.04,2,   -999.0,9,   -999.0,9,-999.0000,9,  -999.00,  -999.00,9,  -999.00,9,  12.0856,2,     1148
  49UF20180406,KS1804,  5322,  1,     17,  25251,2,20180413,1108, 28.9930, 147.2235, 6091,    603.7,   9.2015,   9.2008,2,  34.1401,2,-999.0000,9,    174.5,2,    174.0,2,    33.31,2,    20.80,2,     0.00,2,     1.48,2,   -999.0,9,   -999.0,9,-999.0000,9,  -999.00,  -999.00,9,  -999.00,9,   9.2008,2,     1146
  49UF20180406,KS1804,  5322,  1,     16,  25250,2,20180413,1108, 28.9930, 147.2235, 6091,    706.2,   6.2743,   6.2730,2,  34.0400,2,-999.0000,9,    126.0,2,    125.4,2,    61.48,2,    30.72,2,     0.00,2,     2.21,2,   -999.0,9,   -999.0,9,-999.0000,9,  -999.00,  -999.00,9,  -999.00,9,   6.2730,2,     1143
  49UF20180406,KS1804,  5322,  1,     12,  25246,2,20180413,1108, 28.9930, 147.2235, 6091,    807.8,   5.0350,   5.0351,2,  34.0905,2,-999.0000,9,     87.0,2,     86.8,2,    83.68,2,    36.32,2,     0.00,2,     2.61,2,   -999.0,9,   -999.0,9,-999.0000,9,  -999.00,  -999.00,9,  -999.00,9,   5.0351,2,     1140
  49UF20180406,KS1804,  5322,  1,     11,  25245,2,20180413,1108, 28.9930, 147.2235, 6091,    907.1,   4.3329,   4.3329,2,  34.1956,2,-999.0000,9,     57.0,2,     57.0,6,   103.27,6,    39.95,6,     0.00,6,     2.86,6,   -999.0,9,   -999.0,9,-999.0000,9,  -999.00,  -999.00,9,  -999.00,9,   4.3329,2,     1137
  49UF20180406,KS1804,  5322,  1,      9,  25243,2,20180413,1108, 28.9930, 147.2235, 6091,   1009.9,   3.8608,   3.8608,2,  34.2795,2,-999.0000,9,     44.2,2,     44.9,2,   117.38,2,    41.48,2,     0.00,2,     2.97,2,   -999.0,9,   -999.0,9,-999.0000,9,  -999.00,  -999.00,9,  -999.00,9,   3.8608,2,     1133
  49UF20180406,KS1804,  5322,  1,     10,  25244,2,20180413,1108, 28.9930, 147.2235, 6091,   1011.0,   3.8505,   3.8492,2,  34.2816,2,-999.0000,9,     44.2,2,     44.3,2,   117.26,2,    41.48,2,     0.00,2,     2.97,2,   -999.0,9,   -999.0,9,-999.0000,9,  -999.00,  -999.00,9,  -999.00,9,   3.8492,2,     1133
  49UF20180406,KS1804,  5322,  1,      8,  25242,2,20180413,1108, 28.9930, 147.2235, 6091,   1212.6,   3.2202,   3.2202,2,  34.3938,2,-999.0000,9,     36.5,2,     37.0,2,   135.25,2,    42.93,2,     0.00,2,     3.05,2,   -999.0,9,   -999.0,9,-999.0000,9,  -999.00,  -999.00,9,  -999.00,9,   3.2202,2,     1128
  49UF20180406,KS1804,  5322,  1,      7,  25241,2,20180413,1108, 28.9930, 147.2235, 6091,   1415.6,   2.7440,   2.7442,2,  34.4759,2,-999.0000,9,     39.4,2,     39.5,2,   148.82,2,    43.17,2,     0.00,2,     3.07,2,   -999.0,9,   -999.0,9,-999.0000,9,  -999.00,  -999.00,9,  -999.00,9,   2.7442,2,     1123
  49UF20180406,KS1804,  5322,  1,      3,  24271,2,20180413,1108, 28.9930, 147.2235, 6091,   1617.5,   2.4210,   2.4212,2,  34.5354,2,-999.0000,9,     53.7,2,     53.6,2,   154.63,2,    42.46,2,     0.00,2,     3.00,2,   -999.0,9,   -999.0,9,-999.0000,9,  -999.00,  -999.00,9,  -999.00,9,   2.4212,2,     1118
  49UF20180406,KS1804,  5322,  1,      2,  25236,2,20180413,1108, 28.9930, 147.2235, 6091,   1821.9,   2.1514,   2.1514,2,  34.5788,2,-999.0000,9,     68.4,2,     68.5,2,   158.81,2,    41.59,2,     0.00,2,     2.93,2,   -999.0,9,   -999.0,9,-999.0000,9,  -999.00,  -999.00,9,  -999.00,9,   2.1514,2,     1113
  49UF20180406,KS1804,  5322,  1,      4,  25238,2,20180413,1108, 28.9930, 147.2235, 6091,   2023.0,   1.9725,   1.9725,2,  34.6089,2,-999.0000,9,     84.4,2,     84.8,2,   158.93,2,    40.61,2,     0.00,2,     2.85,2,   -999.0,9,   -999.0,9,-999.0000,9,  -999.00,  -999.00,9,  -999.00,9,   1.9725,2,     1109
  49UF20180406,KS1804,  5324,  1,     99,     99,2,20180413,2105, 29.9855, 147.4852, 6196,      0.0,  19.6829,-999.0000,9,  34.9284,2,  34.9312,2,    232.4,2,    231.8,2,     1.72,2,     0.00,2,     0.00,2,     0.05,2,   2005.6,2,   2295.2,2,   8.0457,2,    25.00,     0.13,2,     0.04,2,-999.0000,9,     2312
  49UF20180406,KS1804,  5324,  1,     36,  25270,2,20180413,2105, 29.9855, 147.4852, 6196,     10.8,  19.6774,  19.6778,2,  34.9277,2,  34.9266,2,    232.5,2,    231.6,2,     1.72,2,     0.00,2,     0.00,2,     0.03,2,   2009.3,2,   2293.6,2,   8.0445,2,    25.00,     0.12,2,     0.04,2,  19.6778,2,     2331
  49UF20180406,KS1804,  5324,  1,     35,  25269,2,20180413,2105, 29.9855, 147.4852, 6196,     25.4,  19.6662,  19.6665,2,  34.9266,2,  34.9260,2,    232.0,2,    231.8,2,     1.72,2,    -0.01,2,     0.01,2,     0.03,2,   2008.6,2,   2294.1,2,   8.0396,2,    25.00,     0.13,2,     0.04,2,  19.6665,2,     2330
  49UF20180406,KS1804,  5324,  1,     34,  25268,2,20180413,2105, 29.9855, 147.4852, 6196,     51.6,  19.1993,  19.2028,2,  34.9142,2,-999.0000,9,    226.6,2,    227.2,2,     2.02,2,     0.37,2,     0.11,2,     0.06,2,   2014.7,2,   2292.9,2,   8.0324,2,    25.00,     0.58,2,     0.23,2,  19.2028,2,     2328
  49UF20180406,KS1804,  5324,  1,     33,  25267,2,20180413,2105, 29.9855, 147.4852, 6196,     76.6,  18.9067,  18.9069,2,  34.8970,2,-999.0000,9,    220.7,2,    220.2,2,     2.40,2,     1.57,2,     0.05,2,     0.12,2,   2017.8,2,   2291.2,2,   8.0159,2,    25.00,     0.16,2,     0.07,2,  18.9069,2,     2326
  49UF20180406,KS1804,  5324,  1,     32,  25266,2,20180413,2105, 29.9855, 147.4852, 6196,    100.8,  18.3781,  18.3784,2,  34.8638,2,  34.8612,2,    211.8,2,    211.4,2,     3.24,2,     2.88,2,     0.03,2,     0.20,2,   2027.3,2,   2289.1,2,   7.9886,2,    25.00,     0.02,2,     0.03,2,  18.3784,2,     2323
  49UF20180406,KS1804,  5324,  1,     31,  25265,2,20180413,2105, 29.9855, 147.4852, 6196,    129.2,  18.1271,  18.1273,2,  34.8616,2,-999.0000,9,    217.7,2,    217.3,2,     3.13,2,     2.62,2,     0.02,2,     0.18,2,   2027.8,2,   2288.8,2,   7.9933,2,    25.00,     0.01,2,     0.03,2,  18.1273,2,     2321
  49UF20180406,KS1804,  5324,  1,     30,  25264,2,20180413,2105, 29.9855, 147.4852, 6196,    152.0,  17.9626,  17.9638,2,  34.8456,2,  34.8454,2,    215.6,2,    215.6,2,     3.33,2,     2.90,2,     0.05,2,     0.21,2,   2032.7,2,   2287.0,2,   7.9860,2,    25.00,     0.01,2,     0.03,2,  17.9638,2,     2320
  49UF20180406,KS1804,  5324,  1,     29,  25263,2,20180413,2105, 29.9855, 147.4852, 6196,    203.1,  17.6816,  17.6822,2,  34.8365,2,-999.0000,9,    225.5,2,    225.4,2,     3.18,2,     2.38,2,     0.10,2,     0.18,2,   2028.9,2,   2287.2,2,   7.9911,2,    25.00,     0.03,2,     0.04,2,  17.6822,2,     2319
  49UF20180406,KS1804,  5324,  1,     28,  25262,2,20180413,2105, 29.9855, 147.4852, 6196,    249.4,  17.5313,  17.5309,2,  34.8310,2,-999.0000,9,    229.1,2,    228.5,2,     3.16,2,     2.52,2,     0.03,2,     0.18,2,   2028.9,2,   2287.1,2,   7.9922,2,    25.00,  -999.00,9,  -999.00,9,  17.5309,2,     2317
  49UF20180406,KS1804,  5324,  1,     27,  25261,2,20180413,2105, 29.9855, 147.4852, 6196,    303.2,  17.3880,  17.3881,2,  34.8224,2,  34.8217,6,    227.3,2,    226.8,2,     3.45,2,     2.90,2,     0.01,2,     0.21,2,   2030.6,2,   2287.3,2,   7.9881,2,    25.00,  -999.00,9,  -999.00,9,  17.3881,2,     2315
  49UF20180406,KS1804,  5324,  1,     26,  25260,2,20180413,2105, 29.9855, 147.4852, 6196,    403.7,  15.6381,  15.6405,2,  34.6361,2,  34.6338,2,    197.1,2,    196.9,2,     8.54,2,     8.19,2,     0.01,2,     0.55,2,   2069.2,2,   2277.7,2,   7.9034,2,    25.00,  -999.00,9,  -999.00,9,  15.6405,2,     2313
  49UF20180406,KS1804,  5324,  1,     25,  25259,2,20180413,2105, 29.9855, 147.4852, 6196,    505.6,  12.8651,  12.8727,2,  34.4149,2,  34.4135,2,    182.6,2,    182.0,6,    18.46,6,    13.92,6,     0.01,6,     0.97,6,   2107.4,2,   2275.0,2,   7.8117,2,    25.00,  -999.00,9,  -999.00,9,  12.8727,2,     2310
  49UF20180406,KS1804,  5324,  1,     24,  25258,2,20180413,2105, 29.9855, 147.4852, 6196,    603.8,   9.6277,   9.6280,2,  34.1812,2,  34.1829,2,    171.4,2,    170.8,2,    32.04,2,    20.30,2,     0.00,2,     1.44,2,   2151.9,6,   2275.5,6,   7.7030,2,    25.00,  -999.00,9,  -999.00,9,   9.6280,2,     2308
  49UF20180406,KS1804,  5324,  1,     23,  25257,3,20180413,2105, 29.9855, 147.4852, 6196,    708.8,   6.9997,   6.9987,2,  34.0657,2,-999.0000,9,    139.9,2,    139.8,2,    54.65,2,    27.88,2,     0.00,2,     2.01,2,   2210.8,2,   2289.9,2,   7.5757,6,    25.00,  -999.00,9,  -999.00,9,   6.9987,2,     2305
  49UF20180406,KS1804,  5324,  1,     22,  25256,2,20180413,2105, 29.9855, 147.4852, 6196,    809.3,   5.4115,   5.4124,2,  34.0760,2,  34.0743,2,    101.7,2,    101.9,2,    76.76,2,    34.14,2,     0.00,2,     2.47,2,   2260.9,2,   2305.7,2,   7.4727,2,    25.00,  -999.00,9,  -999.00,9,   5.4124,2,     2302
  49UF20180406,KS1804,  5324,  1,     21,  25255,2,20180413,2105, 29.9855, 147.4852, 6196,    909.9,   4.5509,   4.5504,2,  34.1669,2,-999.0000,9,     67.4,2,     67.7,2,    97.99,2,    38.54,2,     0.00,2,     2.77,2,   2302.8,2,   2326.8,2,   7.4059,2,    25.00,  -999.00,9,  -999.00,9,   4.5504,2,     2259
  49UF20180406,KS1804,  5324,  1,     20,  24270,3,20180413,2105, 29.9855, 147.4852, 6196,   1017.6,   3.9894,   3.9894,2,  34.2548,2,  34.2520,2,     48.3,2,     48.5,6,   113.27,6,    40.89,6,     0.00,6,     2.93,6,   2332.3,2,   2345.4,2,   7.3736,2,    25.00,  -999.00,9,  -999.00,9,   3.9894,2,     2256
  49UF20180406,KS1804,  5324,  1,     19,  25253,2,20180413,2105, 29.9855, 147.4852, 6196,   1209.6,   3.3127,   3.3134,2,  34.3844,2,-999.0000,9,     39.3,2,     39.4,2,   132.09,2,    42.47,2,     0.00,2,     3.03,2,   2353.8,2,   2372.0,2,   7.3706,2,    25.00,  -999.00,9,  -999.00,9,   3.3134,2,     2252
  49UF20180406,KS1804,  5324,  1,     18,  25252,2,20180413,2105, 29.9855, 147.4852, 6196,   1412.0,   2.8274,   2.8273,2,  34.4679,2,  34.4667,2,     44.1,2,     43.9,2,   144.82,2,    42.68,2,     0.00,2,     3.03,2,   2370.5,2,   2386.9,2,   7.3832,2,    25.00,  -999.00,9,  -999.00,9,   2.8273,2,     2248
  49UF20180406,KS1804,  5324,  1,     17,  25251,2,20180413,2105, 29.9855, 147.4852, 6196,   1615.8,   2.4450,   2.4450,2,  34.5266,2,-999.0000,9,     55.6,2,     55.4,2,   152.97,2,    42.13,2,     0.00,2,     2.98,2,   2368.8,2,   2399.9,2,   7.4074,2,    25.00,  -999.00,9,  -999.00,9,   2.4450,2,     2244
  49UF20180406,KS1804,  5324,  1,     16,  25250,2,20180413,2105, 29.9855, 147.4852, 6196,   1819.5,   2.1799,   2.1799,2,  34.5678,2,  34.5672,2,     69.2,2,     69.5,2,   157.25,2,    41.32,2,     0.00,2,     2.92,2,   2370.4,2,   2406.6,2,   7.4333,2,    25.00,  -999.00,9,  -999.00,9,   2.1799,2,     2239
  49UF20180406,KS1804,  5324,  1,     15,  25249,2,20180413,2105, 29.9855, 147.4852, 6196,   2024.6,   1.9998,   1.9997,2,  34.5940,2,  34.5941,2,     79.5,2,     79.2,6,   160.54,6,    40.78,6,     0.00,6,     2.87,6,   2367.7,2,   2411.8,2,   7.4539,2,    25.00,  -999.00,9,  -999.00,9,   1.9997,2,     2235
  49UF20180406,KS1804,  5324,  1,     14,  25248,2,20180413,2105, 29.9855, 147.4852, 6196,   2277.3,   1.8383,   1.8387,2,  34.6205,2,  34.6198,2,     96.5,2,     96.8,2,   159.47,2,    39.73,2,     0.00,2,     2.79,2,   2355.2,2,   2414.3,2,   7.4875,2,    25.00,  -999.00,9,  -999.00,9,   1.8387,2,     2229
  49UF20180406,KS1804,  5324,  1,     13,  25247,2,20180413,2105, 29.9855, 147.4852, 6196,   2533.5,   1.7178,   1.7181,2,  34.6412,2,  34.6399,2,    113.9,2,    113.3,2,   155.86,2,    38.58,2,     0.00,2,     2.70,2,   2349.0,6,   2414.9,6,   7.5185,2,    25.00,  -999.00,9,  -999.00,9,   1.7181,2,     2223
  49UF20180406,KS1804,  5324,  1,     12,  25246,2,20180413,2105, 29.9855, 147.4852, 6196,   2786.4,   1.6434,   1.6435,2,  34.6531,2,  34.6535,2,    122.7,2,    122.6,2,   154.81,2,    37.99,2,     0.00,2,     2.66,2,   2345.0,2,   2416.8,2,   7.5374,6,    25.00,  -999.00,9,  -999.00,9,   1.6435,2,     2218
  49UF20180406,KS1804,  5324,  1,     11,  25245,2,20180413,2105, 29.9855, 147.4852, 6196,   3044.3,   1.5898,   1.5899,2,  34.6620,2,  34.6604,2,    130.9,2,    130.7,2,   153.22,2,    37.52,2,     0.00,2,     2.62,2,   2339.3,2,   2416.6,2,   7.5513,2,    25.00,  -999.00,9,  -999.00,9,   1.5899,2,     2212
  49UF20180406,KS1804,  5324,  1,     10,  25244,2,20180413,2105, 29.9855, 147.4852, 6196,   3297.0,   1.5496,   1.5496,2,  34.6685,2,  34.6681,2,    136.5,2,    136.4,2,   152.59,2,    37.21,2,     0.00,2,     2.59,2,   2337.9,2,   2417.2,2,   7.5605,2,    25.00,  -999.00,9,  -999.00,9,   1.5496,2,     2207
  49UF20180406,KS1804,  5324,  1,      9,  25243,2,20180413,2105, 29.9855, 147.4852, 6196,   3557.2,   1.5274,   1.5274,2,  34.6735,2,  34.6730,2,    141.8,2,    141.6,2,   151.88,2,    36.77,2,     0.00,2,     2.56,2,   2332.5,2,   2417.2,2,   7.5692,2,    25.00,  -999.00,9,  -999.00,9,   1.5274,2,     2201
  49UF20180406,KS1804,  5324,  1,      8,  25242,2,20180413,2105, 29.9855, 147.4852, 6196,   4065.6,   1.4956,   1.4957,2,  34.6813,2,  34.6809,2,    150.1,2,    149.9,2,   150.25,2,    36.21,2,     0.00,2,     2.52,2,   2324.2,2,   2416.0,2,   7.5815,2,    25.00,  -999.00,9,  -999.00,9,   1.4957,2,     2150
  49UF20180406,KS1804,  5324,  1,      7,  25241,2,20180413,2105, 29.9855, 147.4852, 6196,   4321.7,   1.4930,   1.4931,2,  34.6842,2,  34.6842,2,    153.8,2,    153.4,2,   148.86,2,    35.97,2,     0.00,2,     2.50,2,   2322.3,6,   2415.3,6,   7.5875,2,    25.00,  -999.00,9,  -999.00,9,   1.4931,2,     2145
  49UF20180406,KS1804,  5324,  1,      6,  25240,2,20180413,2105, 29.9855, 147.4852, 6196,   4577.5,   1.4980,   1.4980,2,  34.6863,2,  34.6862,2,    156.8,2,    156.3,2,   148.31,2,    35.81,2,     0.00,2,     2.49,2,   2321.5,2,   2415.1,2,   7.5930,6,    25.00,  -999.00,9,  -999.00,9,   1.4980,2,     2139
  49UF20180406,KS1804,  5324,  1,      5,  25239,2,20180413,2105, 29.9855, 147.4852, 6196,   5091.6,   1.5210,   1.5211,2,  34.6900,2,  34.6888,6,    162.5,2,    160.9,3,   145.10,6,    35.41,6,     0.00,6,     2.46,6,   2316.8,2,   2411.8,2,   7.5991,2,    25.00,  -999.00,9,  -999.00,9,   1.5211,2,     2129
  49UF20180406,KS1804,  5324,  1,      4,  25238,2,20180413,2105, 29.9855, 147.4852, 6196,   5349.8,   1.5403,   1.5403,2,  34.6914,2,  34.6911,2,    164.7,2,    164.3,2,   142.87,2,    35.21,2,     0.00,2,     2.45,2,   2315.5,2,   2411.0,2,   7.6033,2,    25.00,  -999.00,9,  -999.00,9,   1.5403,2,     2123
  49UF20180406,KS1804,  5324,  1,      3,  24271,2,20180413,2105, 29.9855, 147.4852, 6196,   5608.8,   1.5640,   1.5639,2,  34.6925,2,  34.6927,2,    166.6,2,    166.5,2,   141.42,2,    35.10,2,     0.00,2,     2.43,2,   2311.0,2,   2409.2,2,   7.6050,2,    25.00,  -999.00,9,  -999.00,9,   1.5639,2,     2117
  49UF20180406,KS1804,  5324,  1,      2,  25236,2,20180413,2105, 29.9855, 147.4852, 6196,   5867.7,   1.5909,   1.5909,2,  34.6932,2,  34.6931,2,    168.0,2,    167.8,2,   140.36,2,    34.96,2,     0.00,2,     2.42,2,   2310.2,2,   2408.4,2,   7.6072,2,    25.00,  -999.00,9,  -999.00,9,   1.5909,2,     2112
  49UF20180406,KS1804,  5324,  1,      1,  24272,2,20180413,2105, 29.9855, 147.4852, 6196,   6129.4,   1.6195,   1.6194,2,  34.6941,2,  34.6942,2,    169.4,2,    169.1,2,   139.79,2,    34.93,2,     0.00,2,     2.42,2,   2306.2,2,   2407.9,2,   7.6068,2,    25.00,  -999.00,9,  -999.00,9,   1.6194,2,     2106