BOTTLE,20200311PRINUNIVRMK
EXPOCODE,SECT_ID,STNNBR,CASTNO,SAMPNO,BTLNBR,BTLNBR_FLAG_W,DATE,TIME,LATITUDE,LONGITUDE,DEPTH,CTDPRS,CTDTMP,SBE35,SBE35_FLAG_W,CTDSAL,CTDSAL_FLAG_W,SALNTY,SALNTY_FLAG_W,CTDOXY,CTDOXY_FLAG_W,OXYGEN,OXYGEN_FLAG_W,SILCAT,SILCAT_FLAG_W,NITRAT,NITRAT_FLAG_W,NITRIT,NITRIT_FLAG_W,PHSPHT,PHSPHT_FLAG_W,TCARBN,TCARBN_FLAG_W,ALKALI,ALKALI_FLAG_W,PH_TOT,PH_TOT_FLAG_W,PH_TMP,CHLORA,CHLORA_FLAG_W,PPHYTN,PPHYTN_FLAG_W,SBE35,SBE35_FLAG_W,BTL_TIME
,,,,,,,,,,,METERS,DBAR,ITS-90,,,PSS-78,,PSS-78,,UMOL/KG,,UMOL/KG,,UMOL/KG,,UMOL/KG,,UMOL/KG,,UMOL/KG,,UMOL/KG,,UMOL/KG,,,,DEG C,UG/KG,,UG/KG,,,,
  49UF20180406,KS1804,  5338,  1,     99,     99,2,20180417,2229, 37.0087, 149.6720, 5942,      0.0,  17.3458,-999.0000,9,  34.6968,2,  34.7022,2,    234.5,2,    235.2,2,     5.27,2,     2.60,2,     0.16,2,     0.25,2,   2027.1,2,   2286.9,2,   7.9860,2,    25.00,     0.90,2,     0.39,2,-999.0000,9,       20
  49UF20180406,KS1804,  5338,  1,     36,  25270,2,20180417,2229, 37.0087, 149.6720, 5942,     10.8,  17.3482,  17.3484,2,  34.6973,2,  34.7003,2,    234.5,2,    234.2,2,     5.31,2,     2.69,2,     0.16,2,     0.24,2,   2029.0,2,   2286.3,2,   7.9890,2,    25.00,     0.78,2,     0.35,2,  17.3484,2,       54
  49UF20180406,KS1804,  5338,  1,     35,  25269,2,20180417,2229, 37.0087, 149.6720, 5942,     25.4,  17.0240,  17.0181,2,  34.6779,2,-999.0000,9,    233.3,2,    233.0,2,     5.95,2,     3.06,2,     0.17,2,     0.27,2,   2033.1,2,   2286.9,2,   7.9769,2,    25.00,     0.59,2,     0.38,2,  17.0181,2,       53
  49UF20180406,KS1804,  5338,  1,     34,  25268,2,20180417,2229, 37.0087, 149.6720, 5942,     51.4,  15.8441,  15.8438,2,  34.6293,2,  34.6315,2,    194.3,2,    195.1,2,    11.14,2,     8.39,2,     0.03,2,     0.59,2,   2064.6,2,   2282.6,2,   7.9010,2,    25.00,     0.05,2,     0.08,2,  15.8438,2,       51
  49UF20180406,KS1804,  5338,  1,     33,  25267,2,20180417,2229, 37.0087, 149.6720, 5942,     76.4,  15.1263,  15.1310,2,  34.6029,2,-999.0000,9,    196.0,2,    199.3,2,    11.89,2,     8.75,2,     0.13,2,     0.62,2,   2070.6,2,   2283.6,2,   7.8924,2,    25.00,     0.05,2,     0.09,2,  15.1310,2,       50
  49UF20180406,KS1804,  5338,  1,     32,  25266,2,20180417,2229, 37.0087, 149.6720, 5942,    100.6,  14.1111,  14.1087,2,  34.5525,2,  34.5518,2,    191.3,2,    191.8,6,    17.51,6,    11.44,6,     0.04,6,     0.81,6,   2089.4,2,   2284.9,2,   7.8565,2,    25.00,     0.03,2,     0.10,2,  14.1087,2,       46
  49UF20180406,KS1804,  5338,  1,     31,  25265,2,20180417,2229, 37.0087, 149.6720, 5942,    125.3,  13.2281,  13.2286,2,  34.5040,2,-999.0000,9,    210.3,2,    211.3,2,    17.45,2,    10.74,2,     0.24,2,     0.79,2,   2085.0,2,   2283.4,2,   7.8572,2,    25.00,     0.03,2,     0.09,2,  13.2286,2,       45
  49UF20180406,KS1804,  5338,  1,     30,  25264,2,20180417,2229, 37.0087, 149.6720, 5942,    151.2,  12.1491,  12.1507,2,  34.4287,2,  34.4299,2,    203.3,2,    203.2,2,    20.91,2,    13.26,2,     0.08,2,     0.94,2,   2110.1,2,   2280.5,2,   7.8172,2,    25.00,     0.02,2,     0.07,2,  12.1507,2,       43
  49UF20180406,KS1804,  5338,  1,     29,  25263,2,20180417,2229, 37.0087, 149.6720, 5942,    200.7,  10.7720,  10.7612,2,  34.2905,2,-999.0000,9,    197.2,2,    196.3,2,    25.05,2,    15.77,2,     0.02,2,     1.12,2,   2128.2,2,   2280.5,2,   7.7767,2,    25.00,     0.01,2,     0.06,2,  10.7612,2,       41
  49UF20180406,KS1804,  5338,  1,     28,  25262,2,20180417,2229, 37.0087, 149.6720, 5942,    251.5,   8.9072,   8.9085,2,  34.1060,2,  34.0929,4,    190.7,2,    190.7,2,    33.70,2,    19.53,2,     0.01,2,     1.42,2,   2153.1,2,   2278.1,2,   7.7073,2,    25.00,  -999.00,9,  -999.00,9,   8.9085,2,       40
  49UF20180406,KS1804,  5338,  1,     27,  25261,2,20180417,2229, 37.0087, 149.6720, 5942,    303.7,   7.8504,   7.8527,2,  34.0779,2,-999.0000,9,    160.7,2,    160.0,2,    44.57,2,    24.38,2,     0.01,2,     1.76,2,   2181.7,2,   2283.2,2,   7.6314,2,    25.00,  -999.00,9,  -999.00,9,   7.8527,2,       38
  49UF20180406,KS1804,  5338,  1,     26,  25260,2,20180417,2229, 37.0087, 149.6720, 5942,    405.4,   5.3654,   5.3622,2,  33.9890,2,  33.9907,2,    120.3,2,    119.6,6,    71.08,6,    32.75,6,     0.00,6,     2.37,6,   2244.8,2,   2298.3,2,   7.4835,2,    25.00,  -999.00,9,  -999.00,9,   5.3622,2,       35
  49UF20180406,KS1804,  5338,  1,     25,  25259,2,20180417,2229, 37.0087, 149.6720, 5942,    505.5,   4.4769,   4.4720,2,  34.0557,2,-999.0000,9,     79.4,2,     79.7,2,    91.71,2,    37.79,2,     0.00,2,     2.72,2,   2294.6,2,   2314.3,2,   7.3953,2,    25.00,  -999.00,9,  -999.00,9,   4.4720,2,       32
  49UF20180406,KS1804,  5338,  1,     24,  25258,2,20180417,2229, 37.0087, 149.6720, 5942,    605.9,   4.3248,   4.3245,2,  34.1792,2,  34.1783,6,     61.0,2,     61.0,2,   103.47,2,    39.42,2,     0.00,2,     2.82,2,   2314.0,2,   2331.1,2,   7.3817,2,    25.00,  -999.00,9,  -999.00,9,   4.3245,2,       30
  49UF20180406,KS1804,  5338,  1,     23,  25257,2,20180417,2229, 37.0087, 149.6720, 5942,    707.3,   3.8576,   3.8580,2,  34.2656,2,-999.0000,9,     48.9,2,     48.7,2,   116.92,2,    40.97,2,     0.00,2,     2.93,2,   2331.5,2,   2349.8,2,   7.3722,2,    25.00,  -999.00,9,  -999.00,9,   3.8580,2,       27
  49UF20180406,KS1804,  5338,  1,     22,  25256,2,20180417,2229, 37.0087, 149.6720, 5942,    810.3,   3.4608,   3.4610,2,  34.3141,2,  34.3130,2,     41.5,2,     41.0,2,   127.45,2,    42.03,2,     0.00,2,     3.00,2,   2345.8,2,   2360.5,2,   7.3559,2,    25.00,  -999.00,9,  -999.00,9,   3.4610,2,       24
  49UF20180406,KS1804,  5338,  1,     21,  25255,2,20180417,2229, 37.0087, 149.6720, 5942,    907.9,   3.2086,   3.2085,2,  34.3551,2,-999.0000,9,     38.6,2,     38.1,2,   134.83,2,    42.50,2,     0.00,2,     3.03,2,   2355.1,6,   2369.2,6,   7.3546,2,    25.00,  -999.00,9,  -999.00,9,   3.2085,2,       21
  49UF20180406,KS1804,  5338,  1,     20,  24270,2,20180417,2229, 37.0087, 149.6720, 5942,   1012.5,   3.0543,   3.0543,2,  34.3980,2,  34.3984,2,     41.4,2,     40.9,2,   139.30,2,    42.53,2,     0.00,2,     3.02,2,   2363.5,2,   2376.4,2,   7.3661,6,    25.00,  -999.00,9,  -999.00,9,   3.0543,2,       19
  49UF20180406,KS1804,  5338,  1,     19,  25253,2,20180417,2229, 37.0087, 149.6720, 5942,   1213.4,   2.6326,   2.6325,2,  34.4598,2,-999.0000,9,     39.6,2,     39.1,6,   152.24,6,    43.10,6,     0.00,6,     3.06,6,   2376.7,2,   2389.1,2,   7.3651,2,    25.00,  -999.00,9,  -999.00,9,   2.6325,2,       14
  49UF20180406,KS1804,  5338,  1,     18,  25252,2,20180417,2229, 37.0087, 149.6720, 5942,   1416.3,   2.3951,   2.3948,2,  34.5114,2,  34.5117,6,     47.3,2,     46.4,2,   157.39,2,    42.87,2,     0.00,2,     3.03,2,   2376.5,2,   2398.8,2,   7.3850,2,    25.00,  -999.00,9,  -999.00,9,   2.3948,2,        9
  49UF20180406,KS1804,  5338,  1,     17,  25251,2,20180417,2229, 37.0087, 149.6720, 5942,   1619.4,   2.1738,   2.1739,2,  34.5537,2,  34.5530,2,     58.7,2,     57.9,2,   160.81,2,    42.28,2,     0.00,2,     2.97,2,   2374.3,2,   2406.5,2,   7.4097,2,    25.00,  -999.00,9,  -999.00,9,   2.1739,2,        5
  49UF20180406,KS1804,  5338,  1,     16,  25250,2,20180417,2229, 37.0087, 149.6720, 5942,   1824.8,   2.0111,   2.0110,2,  34.5837,2,  34.5829,2,     71.3,2,     71.0,2,   162.33,2,    41.53,2,     0.00,2,     2.92,2,   2369.6,2,   2411.3,2,   7.4335,2,    25.00,  -999.00,9,  -999.00,9,   2.0110,2,        0
  49UF20180406,KS1804,  5338,  1,     15,  25249,2,20180417,2229, 37.0087, 149.6720, 5942,   2028.0,   1.8832,   1.8832,2,  34.6060,2,  34.6052,2,     83.2,2,     82.8,2,   163.19,2,    40.79,2,     0.00,2,     2.86,2,   2365.6,2,   2414.1,2,   7.4572,2,    25.00,  -999.00,9,  -999.00,9,   1.8832,2,     2356
  49UF20180406,KS1804,  5338,  1,     14,  25248,2,20180417,2229, 37.0087, 149.6720, 5942,   2278.6,   1.7531,   1.7526,2,  34.6276,2,  34.6291,2,     97.2,2,     97.1,2,   162.74,2,    39.93,2,     0.00,2,     2.79,2,   2356.2,2,   2415.6,2,   7.4859,2,    25.00,  -999.00,9,  -999.00,9,   1.7526,2,     2350
  49UF20180406,KS1804,  5338,  1,     13,  25247,2,20180417,2229, 37.0087, 149.6720, 5942,   2535.3,   1.6693,   1.6695,2,  34.6423,2,  34.6432,2,    108.7,2,    108.2,2,   161.61,2,    39.17,2,     0.00,2,     2.74,2,   2348.2,6,   2417.7,6,   7.5059,2,    25.00,  -999.00,9,  -999.00,9,   1.6695,2,     2345
  49UF20180406,KS1804,  5338,  1,     12,  25246,2,20180417,2229, 37.0087, 149.6720, 5942,   2790.5,   1.6008,   1.6010,2,  34.6545,2,  34.6563,2,    119.7,2,    119.3,2,   159.08,2,    38.44,2,     0.00,2,     2.67,2,   2341.5,2,   2418.5,2,   7.5284,6,    25.00,  -999.00,9,  -999.00,9,   1.6010,2,     2339
  49UF20180406,KS1804,  5338,  1,     11,  25245,2,20180417,2229, 37.0087, 149.6720, 5942,   3044.6,   1.5532,   1.5535,2,  34.6627,2,  34.6631,2,    127.6,2,    127.0,2,   157.93,2,    37.91,2,     0.00,2,     2.64,2,   2339.2,2,   2417.8,2,   7.5408,2,    25.00,  -999.00,9,  -999.00,9,   1.5535,2,     2333
  49UF20180406,KS1804,  5338,  1,     10,  25244,2,20180417,2229, 37.0087, 149.6720, 5942,   3299.4,   1.5235,   1.5236,2,  34.6688,2,  34.6688,2,    134.2,2,    133.8,6,   156.22,6,    37.50,6,     0.00,6,     2.60,6,   2335.5,2,   2417.7,2,   7.5549,2,    25.00,  -999.00,9,  -999.00,9,   1.5236,2,     2328
  49UF20180406,KS1804,  5338,  1,      9,  25243,2,20180417,2229, 37.0087, 149.6720, 5942,   3557.1,   1.4955,   1.4958,2,  34.6746,2,  34.6739,2,    140.8,2,    140.1,2,   154.58,2,    37.08,2,     0.00,2,     2.57,2,   2331.1,2,   2418.1,2,   7.5657,2,    25.00,  -999.00,9,  -999.00,9,   1.4958,2,     2322
  49UF20180406,KS1804,  5338,  1,      8,  25242,2,20180417,2229, 37.0087, 149.6720, 5942,   4068.1,   1.4759,   1.4761,2,  34.6820,2,  34.6827,6,    150.2,2,    149.9,2,   151.53,2,    36.46,2,     0.00,2,     2.52,2,   2324.2,2,   2417.6,2,   7.5796,2,    25.00,  -999.00,9,  -999.00,9,   1.4761,2,     2312
  49UF20180406,KS1804,  5338,  1,      7,  25241,2,20180417,2229, 37.0087, 149.6720, 5942,   4325.9,   1.4809,   1.4810,2,  34.6843,2,  34.6852,2,    153.4,2,    153.1,2,   150.77,2,    36.27,2,     0.00,2,     2.51,2,   2323.4,2,   2413.2,2,   7.5855,2,    25.00,  -999.00,9,  -999.00,9,   1.4810,2,     2306
  49UF20180406,KS1804,  5338,  1,      6,  25240,2,20180417,2229, 37.0087, 149.6720, 5942,   4583.4,   1.4913,   1.4914,2,  34.6862,2,  34.6877,2,    156.0,2,    155.7,2,   150.13,2,    36.03,2,     0.00,2,     2.49,2,   2315.3,2,   2417.5,2,   7.5917,2,    25.00,  -999.00,9,  -999.00,9,   1.4914,2,     2301
  49UF20180406,KS1804,  5338,  1,      5,  25239,2,20180417,2229, 37.0087, 149.6720, 5942,   5097.8,   1.5226,   1.5226,2,  34.6890,2,  34.6901,2,    160.9,2,    160.3,2,   146.99,2,    35.71,2,     0.00,2,     2.46,2,   2316.2,2,   2414.0,2,   7.5952,2,    25.00,  -999.00,9,  -999.00,9,   1.5226,2,     2251
  49UF20180406,KS1804,  5338,  1,      4,  25238,2,20180417,2229, 37.0087, 149.6720, 5942,   5356.2,   1.5449,   1.5453,2,  34.6901,2,  34.6921,4,    162.8,2,    162.4,2,   145.49,2,    35.57,2,     0.00,2,     2.45,2,   2314.2,6,   2413.0,6,   7.5975,2,    25.00,  -999.00,9,  -999.00,9,   1.5453,2,     2245
  49UF20180406,KS1804,  5338,  1,      3,  24271,2,20180417,2229, 37.0087, 149.6720, 5942,   5613.6,   1.5697,   1.5698,2,  34.6908,2,  34.6938,4,    164.5,2,    164.3,2,   143.59,2,    35.44,2,     0.00,2,     2.44,2,   2314.4,2,   2412.6,2,   7.6023,6,    25.00,  -999.00,9,  -999.00,9,   1.5698,2,     2240
  49UF20180406,KS1804,  5338,  1,      2,  25236,2,20180417,2229, 37.0087, 149.6720, 5942,   5870.0,   1.5966,   1.5966,2,  34.6914,2,  34.6922,2,    165.8,2,    165.7,2,   142.36,2,    35.33,2,     0.00,2,     2.43,2,   2309.3,2,   2412.9,2,   7.6028,2,    25.00,  -999.00,9,  -999.00,9,   1.5966,2,     2234
  49UF20180406,KS1804,  5338,  1,      1,  24272,2,20180417,2229, 37.0087, 149.6720, 5942,   6097.1,   1.6251,   1.6251,2,  34.6918,2,  34.6936,4,    166.1,2,    165.4,2,   142.47,2,    35.29,2,     0.01,2,     2.43,2,   2315.3,2,   2410.3,2,   7.6024,2,    25.00,  -999.00,9,  -999.00,9,   1.6251,2,     2229
  49UF20180406,KS1804,  5341,  1,     99,     99,2,20180419,0914, 37.9917, 148.9922, 5789,      0.0,  15.2655,-999.0000,9,  34.6334,2,  34.6322,2,    248.1,2,    247.6,2,     7.84,2,     3.94,2,     0.18,2,     0.35,2,   2038.5,2,   2283.9,2,   7.9627,2,    25.00,     0.99,2,     0.55,2,-999.0000,9,      957
  49UF20180406,KS1804,  5341,  1,     36,  25270,2,20180419,0914, 37.9917, 148.9922, 5789,      9.7,  15.2738,  15.2744,2,  34.6337,2,  34.6339,2,    248.1,2,    247.5,2,     7.64,2,     3.83,2,     0.18,2,     0.32,2,   2036.9,2,   2285.8,2,   7.9646,2,    25.00,     0.97,2,     0.55,2,  15.2744,2,     1018
  49UF20180406,KS1804,  5341,  1,     35,  25269,2,20180419,0914, 37.9917, 148.9922, 5789,     24.3,  15.2746,  15.2742,2,  34.6333,2,  34.6345,2,    247.7,2,    247.8,2,     7.66,2,     3.80,2,     0.18,2,     0.32,2,   2037.2,2,   2284.9,2,   7.9650,2,    25.00,     0.93,2,     0.59,2,  15.2742,2,     1016
  49UF20180406,KS1804,  5341,  1,     34,  25268,2,20180419,0914, 37.9917, 148.9922, 5789,     51.0,  15.1279,  15.1279,2,  34.6230,2,-999.0000,9,    239.6,2,    239.8,2,     8.57,2,     4.73,2,     0.19,2,     0.38,2,   2040.0,2,   2284.1,2,   7.9511,2,    25.00,     0.77,2,     0.60,2,  15.1279,2,     1014
  49UF20180406,KS1804,  5341,  1,     30,  25264,2,20180419,0914, 37.9917, 148.9922, 5789,     76.3,  14.1049,  14.0973,2,  34.6176,2,  34.6179,2,    247.7,2,    247.9,2,     8.77,2,     5.09,2,     0.28,2,     0.43,2,   2054.3,2,   2283.7,2,   7.9377,2,    25.00,     0.25,2,     0.17,2,  14.0973,2,     1012
  49UF20180406,KS1804,  5341,  1,     29,  25263,2,20180419,0914, 37.9917, 148.9922, 5789,     99.5,  13.3226,  13.3185,2,  34.5330,2,  34.5331,2,    239.2,2,    239.3,2,    11.71,2,     7.75,2,     0.26,2,     0.57,2,   2070.0,2,   2279.8,2,   7.8976,2,    25.00,     0.19,2,     0.18,2,  13.3185,2,     1008
  49UF20180406,KS1804,  5341,  1,     28,  25262,2,20180419,0914, 37.9917, 148.9922, 5789,    125.6,  12.7740,  12.7744,2,  34.4895,2,  34.4897,2,    245.5,2,    245.6,2,    11.25,2,     8.05,2,     0.07,2,     0.57,2,   2071.1,2,   2276.5,2,   7.8971,2,    25.00,     0.09,2,     0.12,2,  12.7744,2,     1006
  49UF20180406,KS1804,  5341,  1,     27,  25261,2,20180419,0914, 37.9917, 148.9922, 5789,    154.7,  12.6681,  12.6673,2,  34.4975,2,-999.0000,9,    255.4,2,    255.0,6,    10.81,6,     6.92,6,     0.40,6,     0.52,6,   2064.6,2,   2276.7,2,   7.9030,2,    25.00,     0.06,2,     0.11,2,  12.6673,2,     1005
  49UF20180406,KS1804,  5341,  1,     25,  25259,2,20180419,0914, 37.9917, 148.9922, 5789,    202.5,  12.4822,  12.4830,2,  34.4740,2,  34.4758,2,    249.0,2,    249.1,2,    11.57,2,     8.13,2,     0.02,2,     0.58,2,   2066.9,2,   2276.8,2,   7.8925,2,    25.00,     0.03,2,     0.09,2,  12.4830,2,     1003
  49UF20180406,KS1804,  5341,  1,     26,  25260,2,20180419,0914, 37.9917, 148.9922, 5789,    202.9,  12.4813,  12.4811,2,  34.4738,2,  34.4746,2,    248.9,2,    249.1,2,    11.58,2,     8.15,2,     0.02,2,     0.58,2,   2068.0,2,   2277.7,2,   7.8928,2,    25.00,  -999.00,9,  -999.00,9,  12.4811,2,     1003
  49UF20180406,KS1804,  5341,  1,     21,  25255,2,20180419,0914, 37.9917, 148.9922, 5789,    252.1,  12.0438,  12.0448,2,  34.4127,2,-999.0000,9,    237.2,2,    237.5,2,    14.10,2,     9.81,2,     0.02,2,     0.70,2,   2084.2,2,   2274.9,2,   7.8670,2,    25.00,  -999.00,9,  -999.00,9,  12.0448,2,     1001
  49UF20180406,KS1804,  5341,  1,     20,  24270,3,20180419,0914, 37.9917, 148.9922, 5789,    302.3,  10.9693,  10.9733,2,  34.2952,2,  34.2969,2,    233.2,2,    233.5,2,    17.36,2,    11.72,2,     0.02,2,     0.85,2,   2097.4,2,   2273.0,2,   7.8302,6,    25.00,  -999.00,9,  -999.00,9,  10.9733,2,      959
  49UF20180406,KS1804,  5341,  1,     19,  25253,2,20180419,0914, 37.9917, 148.9922, 5789,    402.0,   7.7074,   7.7104,2,  33.9132,2,  33.9248,4,    230.2,2,    230.1,2,    29.60,2,    17.30,2,     0.01,2,     1.29,2,   2135.7,6,   2269.4,6,   7.7297,2,    25.00,  -999.00,9,  -999.00,9,   7.7104,2,      956
  49UF20180406,KS1804,  5341,  1,     18,  25252,2,20180419,0914, 37.9917, 148.9922, 5789,    502.6,   6.0603,   6.0603,2,  33.9142,2,  33.9130,2,    160.5,2,    160.6,2,    55.18,2,    27.71,2,     0.00,2,     2.03,2,   2199.0,2,   2282.2,2,   7.5700,2,    25.00,  -999.00,9,  -999.00,9,   6.0603,2,      953
  49UF20180406,KS1804,  5341,  1,     17,  25251,2,20180419,0914, 37.9917, 148.9922, 5789,    603.8,   5.2598,   5.2592,2,  34.0712,2,-999.0000,9,     98.4,2,     99.0,2,    79.87,2,    34.60,2,     0.00,2,     2.50,2,   2260.3,2,   2308.4,2,   7.4577,2,    25.00,  -999.00,9,  -999.00,9,   5.2592,2,      950
  49UF20180406,KS1804,  5341,  1,     16,  25250,2,20180419,0914, 37.9917, 148.9922, 5789,    704.2,   4.7530,   4.7535,2,  34.1759,2,  34.1763,2,     71.7,2,     72.4,2,    95.55,2,    37.72,2,     0.00,2,     2.71,2,   2296.1,2,   2326.5,2,   7.4165,2,    25.00,  -999.00,9,  -999.00,9,   4.7535,2,      948
  49UF20180406,KS1804,  5341,  1,     12,  25246,2,20180419,0914, 37.9917, 148.9922, 5789,    809.3,   4.1642,   4.1623,2,  34.2239,2,-999.0000,9,     55.2,2,     55.3,2,   109.50,2,    39.99,2,     0.00,2,     2.86,2,   2320.3,2,   2339.4,2,   7.3813,2,    25.00,  -999.00,9,  -999.00,9,   4.1623,2,      945
  49UF20180406,KS1804,  5341,  1,     11,  25245,2,20180419,0914, 37.9917, 148.9922, 5789,    908.5,   3.8031,   3.7995,2,  34.2831,2,  34.2834,2,     48.1,2,     48.1,2,   119.67,2,    40.97,2,     0.00,2,     2.93,2,   2336.1,2,   2352.0,2,   7.3720,2,    25.00,  -999.00,9,  -999.00,9,   3.7995,2,      942
  49UF20180406,KS1804,  5341,  1,     10,  25244,2,20180419,0914, 37.9917, 148.9922, 5789,   1010.0,   3.4078,   3.4101,2,  34.3331,2,  34.3311,2,     41.1,2,     41.2,2,   129.90,2,    41.99,2,     0.00,2,     3.00,2,   2350.0,2,   2363.2,2,   7.3611,2,    25.00,  -999.00,9,  -999.00,9,   3.4101,2,      939
  49UF20180406,KS1804,  5341,  1,      9,  25243,2,20180419,0914, 37.9917, 148.9922, 5789,   1212.8,   2.8903,   2.8901,2,  34.4216,2,  34.4215,2,     38.9,2,     39.0,6,   144.89,6,    42.77,6,     0.00,6,     3.05,6,   2367.0,2,   2380.4,2,   7.3639,2,    25.00,  -999.00,9,  -999.00,9,   2.8901,2,      934
  49UF20180406,KS1804,  5341,  1,      8,  25242,2,20180419,0914, 37.9917, 148.9922, 5789,   1414.8,   2.5319,   2.5316,2,  34.4814,2,  34.4796,2,     41.6,2,     41.7,2,   155.16,2,    42.92,2,     0.00,2,     3.05,2,   2375.3,2,   2391.1,2,   7.3705,2,    25.00,  -999.00,9,  -999.00,9,   2.5316,2,      930
  49UF20180406,KS1804,  5341,  1,      7,  25241,2,20180419,0914, 37.9917, 148.9922, 5789,   1415.7,   2.5320,   2.5317,2,  34.4815,2,  34.4785,2,     41.6,2,     42.0,2,   155.32,2,    42.97,2,     0.00,2,     3.05,2,   2374.9,2,   2392.0,2,   7.3702,2,    25.00,  -999.00,9,  -999.00,9,   2.5317,2,      929
  49UF20180406,KS1804,  5341,  1,      3,  24271,2,20180419,0914, 37.9917, 148.9922, 5789,   1618.6,   2.3222,   2.3228,2,  34.5238,2,  34.5206,2,     47.7,2,     47.7,2,   160.07,2,    42.74,2,     0.00,2,     3.02,2,   2376.5,2,   2400.7,2,   7.3877,2,    25.00,  -999.00,9,  -999.00,9,   2.3228,2,      925
  49UF20180406,KS1804,  5341,  1,      2,  25236,2,20180419,0914, 37.9917, 148.9922, 5789,   1820.0,   2.1245,   2.1242,2,  34.5614,2,  34.5584,4,     58.8,2,     59.0,2,   163.27,2,    42.08,2,     0.00,2,     2.97,2,   2368.4,2,   2406.8,2,   7.4123,6,    25.00,  -999.00,9,  -999.00,9,   2.1242,2,      920
  49UF20180406,KS1804,  5341,  1,      1,  24272,2,20180419,0914, 37.9917, 148.9922, 5789,   2024.0,   1.9753,   1.9751,2,  34.5914,2,  34.5880,4,     70.7,2,     71.3,2,   165.00,2,    41.42,2,     0.00,2,     2.92,2,   2369.2,6,   2411.4,6,   7.4341,2,    25.00,  -999.00,9,  -999.00,9,   1.9751,2,      915