BOTTLE,20200311PRINUNIVRMK
EXPOCODE,SECT_ID,STNNBR,CASTNO,SAMPNO,BTLNBR,BTLNBR_FLAG_W,DATE,TIME,LATITUDE,LONGITUDE,DEPTH,CTDPRS,CTDTMP,SBE35,SBE35_FLAG_W,CTDSAL,CTDSAL_FLAG_W,SALNTY,SALNTY_FLAG_W,CTDOXY,CTDOXY_FLAG_W,OXYGEN,OXYGEN_FLAG_W,SILCAT,SILCAT_FLAG_W,NITRAT,NITRAT_FLAG_W,NITRIT,NITRIT_FLAG_W,PHSPHT,PHSPHT_FLAG_W,TCARBN,TCARBN_FLAG_W,ALKALI,ALKALI_FLAG_W,PH_TOT,PH_TOT_FLAG_W,PH_TMP,CHLORA,CHLORA_FLAG_W,PPHYTN,PPHYTN_FLAG_W,SBE35,SBE35_FLAG_W,BTL_TIME
,,,,,,,,,,,METERS,DBAR,ITS-90,,,PSS-78,,PSS-78,,UMOL/KG,,UMOL/KG,,UMOL/KG,,UMOL/KG,,UMOL/KG,,UMOL/KG,,UMOL/KG,,UMOL/KG,,,,DEG C,UG/KG,,UG/KG,,,,
  49UF20180406,KS1804,  5358,  1,     99,     99,2,20180501,0441, 40.0042, 143.0142, 1303,      0.0,  11.8349,-999.0000,9,  34.0090,2,-999.0000,9,    279.4,2,    276.6,2,     5.94,2,     3.62,2,     0.15,2,     0.35,2,   -999.0,9,   -999.0,9,-999.0000,9,  -999.00,  -999.00,9,  -999.00,9,-999.0000,9,      515
  49UF20180406,KS1804,  5358,  1,     33,  25267,2,20180501,0441, 40.0042, 143.0142, 1303,      9.7,  11.5384,  11.5416,2,  33.9988,2,  34.0005,2,    282.5,2,    281.4,2,     5.44,2,     3.19,2,     0.15,2,     0.31,2,   -999.0,9,   -999.0,9,-999.0000,9,  -999.00,  -999.00,9,  -999.00,9,  11.5416,2,      548
  49UF20180406,KS1804,  5358,  1,     32,  25266,2,20180501,0441, 40.0042, 143.0142, 1303,     25.3,  11.0685,  11.0472,2,  34.0682,2,-999.0000,9,    263.2,2,    259.9,2,     9.75,2,     6.27,2,     0.20,2,     0.53,2,   -999.0,9,   -999.0,9,-999.0000,9,  -999.00,  -999.00,9,  -999.00,9,  11.0472,2,      547
  49UF20180406,KS1804,  5358,  1,     31,  25265,2,20180501,0441, 40.0042, 143.0142, 1303,     49.2,  10.4032,  10.3538,2,  34.1864,2,  34.1853,2,    221.7,2,    223.3,2,    19.27,2,    12.54,2,     0.16,2,     0.95,2,   -999.0,9,   -999.0,9,-999.0000,9,  -999.00,  -999.00,9,  -999.00,9,  10.3538,2,      541
  49UF20180406,KS1804,  5358,  1,     30,  25264,3,20180501,0441, 40.0042, 143.0142, 1303,     74.6,   8.6503,   8.6705,2,  33.9499,2,-999.0000,9,    263.3,2,    262.1,2,    13.33,2,     9.85,2,     0.15,2,     0.83,2,   -999.0,9,   -999.0,9,-999.0000,9,  -999.00,  -999.00,9,  -999.00,9,   8.6705,2,      540
  49UF20180406,KS1804,  5358,  1,     29,  25263,3,20180501,0441, 40.0042, 143.0142, 1303,    100.0,   7.2297,   7.2287,2,  33.7787,2,  33.7605,6,    291.9,2,    293.5,2,     7.44,2,     7.51,2,     0.19,2,     0.74,2,   2094.1,2,   2266.3,2,   7.8253,2,    25.00,  -999.00,9,  -999.00,9,   7.2287,2,      538
  49UF20180406,KS1804,  5358,  1,     28,  25262,2,20180501,0441, 40.0042, 143.0142, 1303,    124.9,   6.4992,   6.4996,2,  33.7085,2,-999.0000,9,    289.1,2,    290.0,2,    11.61,2,     9.45,2,     0.21,2,     0.85,2,   -999.0,9,   -999.0,9,-999.0000,9,  -999.00,  -999.00,9,  -999.00,9,   6.4996,2,      537
  49UF20180406,KS1804,  5358,  1,     24,  25258,2,20180501,0441, 40.0042, 143.0142, 1303,    150.0,   6.1907,   6.1715,2,  33.6908,2,-999.0000,9,    287.9,2,    288.3,2,    15.32,2,    11.04,2,     0.18,2,     0.91,2,   -999.0,9,   -999.0,9,-999.0000,9,  -999.00,  -999.00,9,  -999.00,9,   6.1715,2,      535
  49UF20180406,KS1804,  5358,  1,     23,  25257,3,20180501,0441, 40.0042, 143.0142, 1303,    201.1,   6.1005,   6.0981,2,  33.7207,2,  33.7280,2,    281.1,2,    280.2,2,    20.47,2,    12.78,2,     0.15,2,     1.01,2,   2119.7,2,   2262.4,2,   7.7626,2,    25.00,  -999.00,9,  -999.00,9,   6.0981,2,      533
  49UF20180406,KS1804,  5358,  1,     22,  25256,3,20180501,0441, 40.0042, 143.0142, 1303,    250.8,   6.2474,   6.2479,2,  33.7972,2,-999.0000,9,    281.2,2,    281.1,6,    18.03,6,    11.33,6,     0.17,6,     0.89,6,   -999.0,9,   -999.0,9,-999.0000,9,  -999.00,  -999.00,9,  -999.00,9,   6.2479,2,      531
  49UF20180406,KS1804,  5358,  1,     21,  25255,3,20180501,0441, 40.0042, 143.0142, 1303,    300.5,   6.4996,   6.4949,2,  33.8758,2,  33.8762,2,    279.0,2,    279.4,2,    15.52,2,     9.82,2,     0.20,2,     0.79,2,   -999.0,9,   -999.0,9,-999.0000,9,  -999.00,  -999.00,9,  -999.00,9,   6.4949,2,      529
  49UF20180406,KS1804,  5358,  1,     20,  24270,2,20180501,0441, 40.0042, 143.0142, 1303,    300.9,   6.5004,   6.5012,2,  33.8762,2,  33.8752,2,    279.0,2,    278.7,2,    15.72,2,     9.97,2,     0.20,2,     0.79,2,   -999.0,9,   -999.0,9,-999.0000,9,  -999.00,  -999.00,9,  -999.00,9,   6.5012,2,      529
  49UF20180406,KS1804,  5358,  1,     19,  25253,3,20180501,0441, 40.0042, 143.0142, 1303,    402.0,   4.2813,   4.2956,2,  33.6799,2,  33.6827,2,    188.1,2,    187.6,2,    56.26,2,    27.60,2,     0.03,2,     2.08,2,   -999.0,9,   -999.0,9,-999.0000,9,  -999.00,  -999.00,9,  -999.00,9,   4.2956,2,      526
  49UF20180406,KS1804,  5358,  1,     15,  25249,3,20180501,0441, 40.0042, 143.0142, 1303,    503.5,   4.7831,   4.7835,2,  33.9647,2,  33.9650,6,    106.2,2,    106.0,2,    78.61,2,    34.86,2,     0.01,2,     2.54,2,   2267.9,2,   2300.4,2,   7.4375,2,    25.00,  -999.00,9,  -999.00,9,   4.7835,2,      523
  49UF20180406,KS1804,  5358,  1,     14,  25248,2,20180501,0441, 40.0042, 143.0142, 1303,    604.2,   4.0677,   4.0673,2,  34.0738,2,  34.0753,2,     60.4,2,     60.2,2,   101.35,2,    39.99,2,     0.00,2,     2.88,2,   -999.0,9,   -999.0,9,-999.0000,9,  -999.00,  -999.00,9,  -999.00,9,   4.0673,2,      521
  49UF20180406,KS1804,  5358,  1,     13,  25247,3,20180501,0441, 40.0042, 143.0142, 1303,    706.2,   3.8200,   3.8198,2,  34.1617,2,  34.1609,2,     46.8,2,     46.9,2,   112.95,2,    41.20,2,     0.00,2,     2.96,2,   2333.9,2,   2335.5,2,   7.3434,2,    25.00,  -999.00,9,  -999.00,9,   3.8198,2,      518
  49UF20180406,KS1804,  5358,  1,     12,  25246,2,20180501,0441, 40.0042, 143.0142, 1303,    806.6,   3.7033,   3.7026,2,  34.2593,2,  34.2593,2,     44.0,2,     43.7,2,   120.64,2,    41.37,2,     0.00,2,     2.97,2,   -999.0,9,   -999.0,9,-999.0000,9,  -999.00,  -999.00,9,  -999.00,9,   3.7026,2,      515
  49UF20180406,KS1804,  5358,  1,     11,  25245,3,20180501,0441, 40.0042, 143.0142, 1303,    907.5,   3.4183,   3.4170,2,  34.3065,2,  34.3042,2,     38.8,2,     38.5,2,   128.71,2,    42.00,2,     0.00,2,     3.02,2,   -999.0,9,   -999.0,9,-999.0000,9,  -999.00,  -999.00,9,  -999.00,9,   3.4170,2,      512
  49UF20180406,KS1804,  5358,  1,     10,  25244,2,20180501,0441, 40.0042, 143.0142, 1303,   1009.8,   3.0787,   3.0783,2,  34.3560,2,  34.3560,6,     34.9,2,     35.4,6,   139.68,6,    42.57,6,     0.00,6,     3.07,6,   2368.6,2,   2370.5,2,   7.3451,2,    25.00,  -999.00,9,  -999.00,9,   3.0783,2,      509
  49UF20180406,KS1804,  5358,  1,      6,  25240,2,20180501,0441, 40.0042, 143.0142, 1303,   1212.9,   2.6733,   2.6727,2,  34.4414,2,  34.4416,6,     36.4,2,     36.4,2,   152.82,2,    42.71,2,     0.00,2,     3.08,2,   -999.0,9,   -999.0,9,-999.0000,9,  -999.00,  -999.00,9,  -999.00,9,   2.6727,2,      504
  49UF20180406,KS1804,  5358,  1,      5,  25239,2,20180501,0441, 40.0042, 143.0142, 1303,   1278.4,   2.6083,   2.6081,2,  34.4566,2,  34.4565,2,     37.0,2,     36.8,2,   155.64,2,    42.60,2,     0.02,2,     3.09,2,   -999.0,9,   -999.0,9,-999.0000,9,  -999.00,  -999.00,9,  -999.00,9,   2.6081,2,      502
  49UF20180406,KS1804,  5358,  1,      4,  25238,2,20180501,0441, 40.0042, 143.0142, 1303,   1278.5,   2.6086,   2.6090,2,  34.4567,2,  34.4571,2,     37.0,2,     37.1,2,   155.66,2,    42.48,2,     0.02,2,     3.10,2,   -999.0,9,   -999.0,9,-999.0000,9,  -999.00,  -999.00,9,  -999.00,9,   2.6090,2,      501
  49UF20180406,KS1804,  5359,  1,     99,     99,2,20180501,2300, 39.9912, 145.9958, 5141,      0.0,  13.5757,-999.0000,9,  34.3796,2,-999.0000,9,    274.8,2,    275.0,2,     7.43,2,     3.89,2,     0.18,2,     0.32,2,   -999.0,9,   -999.0,9,-999.0000,9,  -999.00,     2.00,2,     0.39,2,-999.0000,9,       44
  49UF20180406,KS1804,  5359,  1,     36,  25270,2,20180501,2300, 39.9912, 145.9958, 5141,      9.7,  13.5304,  13.5295,2,  34.3738,2,-999.0000,9,    274.6,2,    274.0,2,     7.57,2,     3.89,2,     0.18,2,     0.31,2,   -999.0,9,   -999.0,9,-999.0000,9,  -999.00,     1.53,2,     0.51,2,  13.5295,2,      120
  49UF20180406,KS1804,  5359,  1,     35,  25269,2,20180501,2300, 39.9912, 145.9958, 5141,     23.0,  12.1145,  12.0719,2,  34.1239,2,-999.0000,9,    285.5,2,    284.8,2,     6.05,2,     4.07,2,     0.18,2,     0.35,2,   -999.0,9,   -999.0,9,-999.0000,9,  -999.00,     1.03,2,     0.43,2,  12.0719,2,      118
  49UF20180406,KS1804,  5359,  1,     34,  25268,2,20180501,2300, 39.9912, 145.9958, 5141,     48.6,  10.0003,  10.0035,2,  33.9950,2,-999.0000,9,    273.4,2,    272.2,2,     8.44,2,     7.35,2,     0.25,2,     0.66,2,   -999.0,9,   -999.0,9,-999.0000,9,  -999.00,     0.34,2,     0.27,2,  10.0035,2,      112
  49UF20180406,KS1804,  5359,  1,     33,  25267,2,20180501,2300, 39.9912, 145.9958, 5141,     75.3,   9.5596,   9.5630,2,  34.0736,2,-999.0000,9,    242.9,2,    241.2,2,    17.27,2,    11.77,2,     0.18,2,     0.92,2,   -999.0,9,   -999.0,9,-999.0000,9,  -999.00,     0.06,2,     0.13,2,   9.5630,2,      111
  49UF20180406,KS1804,  5359,  1,     32,  25266,2,20180501,2300, 39.9912, 145.9958, 5141,     98.6,   8.8982,   8.8963,2,  34.0379,2,-999.0000,9,    212.0,2,    211.8,2,    28.16,2,    16.93,2,     0.05,2,     1.26,2,   2133.8,2,   2272.5,2,   7.7388,2,    25.00,     0.02,2,     0.11,2,   8.8963,2,      109
  49UF20180406,KS1804,  5359,  1,     31,  25265,2,20180501,2300, 39.9912, 145.9958, 5141,    124.2,   8.0971,   8.0961,2,  33.9832,2,-999.0000,9,    194.6,2,    194.5,2,    35.70,2,    20.32,2,     0.03,2,     1.51,2,   -999.0,9,   -999.0,9,-999.0000,9,  -999.00,     0.01,2,     0.08,2,   8.0961,2,      108
  49UF20180406,KS1804,  5359,  1,     30,  25264,2,20180501,2300, 39.9912, 145.9958, 5141,    150.7,   7.4634,   7.4672,2,  33.9656,2,-999.0000,9,    178.9,2,    178.5,2,    42.44,2,    23.26,2,     0.03,2,     1.72,2,   -999.0,9,   -999.0,9,-999.0000,9,  -999.00,     0.01,2,     0.08,2,   7.4672,2,      106
  49UF20180406,KS1804,  5359,  1,     29,  25263,2,20180501,2300, 39.9912, 145.9958, 5141,    199.9,   6.9284,   6.9104,2,  33.9704,2,-999.0000,9,    164.0,2,    163.7,2,    48.79,2,    25.60,2,     0.03,2,     1.90,2,   -999.0,9,   -999.0,9,-999.0000,9,  -999.00,     0.01,2,     0.07,2,   6.9104,2,      104
  49UF20180406,KS1804,  5359,  1,     28,  25262,2,20180501,2300, 39.9912, 145.9958, 5141,    250.9,   5.4201,   5.4204,2,  33.8702,2,-999.0000,9,    152.8,2,    152.4,2,    60.50,2,    29.68,2,     0.01,2,     2.19,2,   -999.0,9,   -999.0,9,-999.0000,9,  -999.00,  -999.00,9,  -999.00,9,   5.4204,2,      102
  49UF20180406,KS1804,  5359,  1,     27,  25261,2,20180501,2300, 39.9912, 145.9958, 5141,    302.9,   5.4607,   5.4600,2,  33.9725,2,-999.0000,9,    126.8,2,    126.4,6,    68.26,6,    31.85,6,     0.02,6,     2.34,6,   -999.0,9,   -999.0,9,-999.0000,9,  -999.00,  -999.00,9,  -999.00,9,   5.4600,2,       59
  49UF20180406,KS1804,  5359,  1,     26,  25260,2,20180501,2300, 39.9912, 145.9958, 5141,    404.3,   4.4135,   4.4156,2,  33.9999,2,-999.0000,9,     86.1,2,     86.4,2,    88.52,2,    37.22,2,     0.01,2,     2.71,2,   -999.0,9,   -999.0,9,-999.0000,9,  -999.00,  -999.00,9,  -999.00,9,   4.4156,2,       56
  49UF20180406,KS1804,  5359,  1,     25,  25259,2,20180501,2300, 39.9912, 145.9958, 5141,    505.2,   3.9869,   3.9879,2,  34.1071,2,-999.0000,9,     55.7,2,     56.0,2,   105.38,2,    40.46,2,     0.01,2,     2.92,2,   2320.8,2,   2327.2,2,   7.3542,2,    25.00,  -999.00,9,  -999.00,9,   3.9879,2,       53
  49UF20180406,KS1804,  5359,  1,     24,  25258,2,20180501,2300, 39.9912, 145.9958, 5141,    606.8,   4.0070,   4.0067,2,  34.2425,2,-999.0000,9,     52.3,2,     52.2,2,   112.68,2,    40.37,2,     0.01,2,     2.90,2,   -999.0,9,   -999.0,9,-999.0000,9,  -999.00,  -999.00,9,  -999.00,9,   4.0067,2,       50
  49UF20180406,KS1804,  5359,  1,     23,  25257,2,20180501,2300, 39.9912, 145.9958, 5141,    704.6,   3.7591,   3.7589,2,  34.2914,2,-999.0000,9,     47.6,2,     47.4,2,   120.35,2,    41.08,2,     0.01,2,     2.95,2,   -999.0,9,   -999.0,9,-999.0000,9,  -999.00,  -999.00,9,  -999.00,9,   3.7589,2,       47
  49UF20180406,KS1804,  5359,  1,     22,  25256,4,20180501,2300, 39.9912, 145.9958, 5141,    806.4,   3.3992,   3.3988,2,  34.3362,2,-999.0000,9,     41.9,2,   -999.0,9,  -999.00,9,  -999.00,9,  -999.00,9,  -999.00,9,   -999.0,9,   -999.0,9,-999.0000,9,  -999.00,  -999.00,9,  -999.00,9,   3.3988,2,       44
  49UF20180406,KS1804,  5359,  1,     21,  25255,2,20180501,2300, 39.9912, 145.9958, 5141,    907.8,   3.1870,   3.1866,2,  34.3761,2,-999.0000,9,     41.4,2,     41.4,2,   135.85,2,    42.11,2,     0.00,2,     3.03,2,   -999.0,9,   -999.0,9,-999.0000,9,  -999.00,  -999.00,9,  -999.00,9,   3.1866,2,       42
  49UF20180406,KS1804,  5359,  1,     20,  24270,2,20180501,2300, 39.9912, 145.9958, 5141,   1009.4,   2.9649,   2.9647,2,  34.4201,2,-999.0000,9,     43.2,2,     43.1,6,   141.63,6,    42.28,6,     0.00,6,     3.04,6,   2365.0,2,   2380.0,2,   7.3731,2,    25.00,  -999.00,9,  -999.00,9,   2.9647,2,       39
  49UF20180406,KS1804,  5359,  1,     19,  25253,2,20180501,2300, 39.9912, 145.9958, 5141,   1212.3,   2.5999,   2.6003,2,  34.4706,2,-999.0000,9,     41.0,2,     41.3,2,   152.48,2,    42.84,2,     0.00,2,     3.06,2,   -999.0,9,   -999.0,9,-999.0000,9,  -999.00,  -999.00,9,  -999.00,9,   2.6003,2,       34
  49UF20180406,KS1804,  5359,  1,     18,  25252,2,20180501,2300, 39.9912, 145.9958, 5141,   1415.1,   2.3546,   2.3545,2,  34.5165,2,-999.0000,9,     48.1,2,     48.0,2,   158.49,2,    42.65,2,     0.01,2,     3.04,2,   -999.0,9,   -999.0,9,-999.0000,9,  -999.00,  -999.00,9,  -999.00,9,   2.3545,2,       29
  49UF20180406,KS1804,  5359,  1,     17,  25251,2,20180501,2300, 39.9912, 145.9958, 5141,   1617.9,   2.1509,   2.1506,2,  34.5501,2,-999.0000,9,     56.3,2,     55.9,2,   163.51,2,    42.25,2,     0.01,2,     2.99,2,   -999.0,9,   -999.0,9,-999.0000,9,  -999.00,  -999.00,9,  -999.00,9,   2.1506,2,       24
  49UF20180406,KS1804,  5359,  1,     16,  25250,2,20180501,2300, 39.9912, 145.9958, 5141,   1819.9,   2.0073,   2.0072,2,  34.5799,2,-999.0000,9,     67.6,2,     67.7,6,   164.91,6,    41.64,6,     0.01,6,     2.95,6,   -999.0,9,   -999.0,9,-999.0000,9,  -999.00,  -999.00,9,  -999.00,9,   2.0072,2,       20
  49UF20180406,KS1804,  5359,  1,     15,  25249,2,20180501,2300, 39.9912, 145.9958, 5141,   2025.9,   1.8703,   1.8701,2,  34.6057,2,-999.0000,9,     81.3,2,     81.2,2,   165.03,2,    40.74,2,     0.00,2,     2.88,2,   2369.9,2,   2411.8,2,   7.4576,2,    25.00,  -999.00,9,  -999.00,9,   1.8701,2,       15
  49UF20180406,KS1804,  5359,  1,     14,  25248,2,20180501,2300, 39.9912, 145.9958, 5141,   2279.0,   1.7293,   1.7291,2,  34.6299,2,-999.0000,9,     97.3,2,     97.1,2,   163.95,2,    39.72,2,     0.00,2,     2.80,2,   -999.0,9,   -999.0,9,-999.0000,9,  -999.00,  -999.00,9,  -999.00,9,   1.7291,2,        9
  49UF20180406,KS1804,  5359,  1,     13,  25247,2,20180501,2300, 39.9912, 145.9958, 5141,   2532.8,   1.6345,   1.6345,2,  34.6467,2,-999.0000,9,    111.1,2,    110.8,2,   161.87,2,    38.79,2,     0.00,2,     2.73,2,   -999.0,9,   -999.0,9,-999.0000,9,  -999.00,  -999.00,9,  -999.00,9,   1.6345,2,        3
  49UF20180406,KS1804,  5359,  1,     12,  25246,2,20180501,2300, 39.9912, 145.9958, 5141,   2789.3,   1.5702,   1.5701,2,  34.6578,2,-999.0000,9,    121.0,2,    120.8,2,   160.10,2,    38.17,2,     0.00,2,     2.69,2,   -999.0,9,   -999.0,9,-999.0000,9,  -999.00,  -999.00,9,  -999.00,9,   1.5701,2,     2358
  49UF20180406,KS1804,  5359,  1,     11,  25245,2,20180501,2300, 39.9912, 145.9958, 5141,   3044.2,   1.5303,   1.5302,2,  34.6656,2,-999.0000,9,    129.0,2,    128.7,2,   158.09,2,    37.63,2,     0.00,2,     2.64,2,   -999.0,9,   -999.0,9,-999.0000,9,  -999.00,  -999.00,9,  -999.00,9,   1.5302,2,     2351
  49UF20180406,KS1804,  5359,  1,     10,  25244,2,20180501,2300, 39.9912, 145.9958, 5141,   3299.4,   1.4956,   1.4956,2,  34.6724,2,-999.0000,9,    136.4,2,    136.4,2,   156.08,2,    37.10,2,     0.00,2,     2.60,2,   -999.0,9,   -999.0,9,-999.0000,9,  -999.00,  -999.00,9,  -999.00,9,   1.4956,2,     2346
  49UF20180406,KS1804,  5359,  1,      9,  25243,2,20180501,2300, 39.9912, 145.9958, 5141,   3555.9,   1.4666,   1.4666,2,  34.6783,2,-999.0000,9,    143.2,2,    142.9,2,   154.21,2,    36.71,2,     0.00,2,     2.57,2,   -999.0,9,   -999.0,9,-999.0000,9,  -999.00,  -999.00,9,  -999.00,9,   1.4666,2,     2340
  49UF20180406,KS1804,  5359,  1,      8,  25242,2,20180501,2300, 39.9912, 145.9958, 5141,   3812.8,   1.4544,   1.4544,2,  34.6823,2,-999.0000,9,    148.1,2,    148.1,2,   152.97,2,    36.40,2,     0.00,2,     2.55,2,   -999.0,9,   -999.0,9,-999.0000,9,  -999.00,  -999.00,9,  -999.00,9,   1.4544,2,     2334
  49UF20180406,KS1804,  5359,  1,      7,  25241,2,20180501,2300, 39.9912, 145.9958, 5141,   4067.4,   1.4518,   1.4517,2,  34.6854,2,-999.0000,9,    152.1,2,    151.6,2,   152.36,2,    36.15,2,     0.01,2,     2.56,2,   -999.0,9,   -999.0,9,-999.0000,9,  -999.00,  -999.00,9,  -999.00,9,   1.4517,2,     2328
  49UF20180406,KS1804,  5359,  1,      6,  25240,2,20180501,2300, 39.9912, 145.9958, 5141,   4324.6,   1.4551,   1.4550,2,  34.6882,2,-999.0000,9,    155.3,2,    155.4,2,   151.81,2,    35.74,2,     0.00,2,     2.50,2,   -999.0,9,   -999.0,9,-999.0000,9,  -999.00,  -999.00,9,  -999.00,9,   1.4550,2,     2322
  49UF20180406,KS1804,  5359,  1,      5,  25239,2,20180501,2300, 39.9912, 145.9958, 5141,   4583.6,   1.4709,   1.4708,2,  34.6897,2,-999.0000,9,    157.1,2,    157.4,2,   151.97,2,    35.67,2,     0.00,2,     2.49,2,   -999.0,9,   -999.0,9,-999.0000,9,  -999.00,  -999.00,9,  -999.00,9,   1.4708,2,     2316
  49UF20180406,KS1804,  5359,  1,      3,  24271,2,20180501,2300, 39.9912, 145.9958, 5141,   4840.9,   1.4922,   1.4921,2,  34.6907,2,-999.0000,9,    158.6,2,    158.6,2,   150.91,2,    35.55,2,     0.00,2,     2.48,2,   -999.0,9,   -999.0,9,-999.0000,9,  -999.00,  -999.00,9,  -999.00,9,   1.4921,2,     2310
  49UF20180406,KS1804,  5359,  1,      4,  25238,2,20180501,2300, 39.9912, 145.9958, 5141,   4841.1,   1.4922,   1.4921,2,  34.6907,2,-999.0000,9,    158.6,2,    158.6,2,   151.04,2,    35.62,2,     0.00,2,     2.49,2,   -999.0,9,   -999.0,9,-999.0000,9,  -999.00,  -999.00,9,  -999.00,9,   1.4921,2,     2310
  49UF20180406,KS1804,  5359,  1,      2,  25236,2,20180501,2300, 39.9912, 145.9958, 5141,   5096.7,   1.5155,   1.5155,2,  34.6917,2,-999.0000,9,    160.0,2,    160.4,2,   149.11,2,    35.53,2,     0.00,2,     2.47,2,   -999.0,9,   -999.0,9,-999.0000,9,  -999.00,  -999.00,9,  -999.00,9,   1.5155,2,     2304
  49UF20180406,KS1804,  5359,  1,      1,  24272,2,20180501,2300, 39.9912, 145.9958, 5141,   5225.6,   1.5276,   1.5276,2,  34.6921,2,-999.0000,9,    160.9,2,    161.1,6,   148.26,6,    35.46,6,     0.00,6,     2.47,6,   2317.8,2,   2412.8,2,   7.5981,2,    25.00,  -999.00,9,  -999.00,9,   1.5276,2,     2300