BOTTLE,20200311PRINUNIVRMK
EXPOCODE,SECT_ID,STNNBR,CASTNO,SAMPNO,BTLNBR,BTLNBR_FLAG_W,DATE,TIME,LATITUDE,LONGITUDE,DEPTH,CTDPRS,CTDTMP,SBE35,SBE35_FLAG_W,CTDSAL,CTDSAL_FLAG_W,SALNTY,SALNTY_FLAG_W,CTDOXY,CTDOXY_FLAG_W,OXYGEN,OXYGEN_FLAG_W,SILCAT,SILCAT_FLAG_W,NITRAT,NITRAT_FLAG_W,NITRIT,NITRIT_FLAG_W,PHSPHT,PHSPHT_FLAG_W,TCARBN,TCARBN_FLAG_W,ALKALI,ALKALI_FLAG_W,PH_TOT,PH_TOT_FLAG_W,PH_TMP,CHLORA,CHLORA_FLAG_W,PPHYTN,PPHYTN_FLAG_W,SBE35,SBE35_FLAG_W,BTL_TIME
,,,,,,,,,,,METERS,DBAR,ITS-90,,,PSS-78,,PSS-78,,UMOL/KG,,UMOL/KG,,UMOL/KG,,UMOL/KG,,UMOL/KG,,UMOL/KG,,UMOL/KG,,UMOL/KG,,,,DEG C,UG/KG,,UG/KG,,,,
  49UF20180406,KS1804,  5364,  1,     99,     99,2,20180506,0138, 37.3462, 143.4880, 6702,      0.0,  15.8863,-999.0000,9,  34.5036,2,-999.0000,9,    274.7,2,    273.1,2,     3.53,2,     0.70,2,     0.09,2,     0.11,2,   -999.0,9,   -999.0,9,-999.0000,9,  -999.00,     1.99,2,     0.34,2,-999.0000,9,      343
  49UF20180406,KS1804,  5364,  1,     36,  25270,2,20180506,0138, 37.3462, 143.4880, 6702,     10.3,  15.7462,  15.7408,2,  34.5023,2,  34.5011,2,    275.6,2,    275.7,2,     3.91,2,     0.80,2,     0.09,2,     0.12,2,   -999.0,9,   -999.0,9,-999.0000,9,  -999.00,     1.90,2,     0.47,2,  15.7408,2,      413
  49UF20180406,KS1804,  5364,  1,     35,  25269,2,20180506,0138, 37.3462, 143.4880, 6702,     25.4,  14.5693,  14.5864,2,  34.4930,2,-999.0000,9,    266.9,2,    265.9,2,     7.21,2,     2.99,2,     0.16,2,     0.27,2,   -999.0,9,   -999.0,9,-999.0000,9,  -999.00,     1.79,2,     0.93,2,  14.5864,2,      412
  49UF20180406,KS1804,  5364,  1,     34,  25268,3,20180506,0138, 37.3462, 143.4880, 6702,     50.2,  13.0627,  13.0636,2,  34.4946,2,  34.4936,2,    251.5,2,    251.3,2,    11.57,2,     6.98,2,     0.41,2,     0.54,2,   -999.0,9,   -999.0,9,-999.0000,9,  -999.00,     0.19,2,     0.26,2,  13.0636,2,      407
  49UF20180406,KS1804,  5364,  1,     33,  25267,2,20180506,0138, 37.3462, 143.4880, 6702,     75.2,  12.5454,  12.5452,2,  34.4759,2,-999.0000,9,    249.7,2,    250.1,2,    12.44,2,     8.53,2,     0.02,2,     0.60,2,   -999.0,9,   -999.0,9,-999.0000,9,  -999.00,     0.05,2,     0.14,2,  12.5452,2,      405
  49UF20180406,KS1804,  5364,  1,     32,  25266,2,20180506,0138, 37.3462, 143.4880, 6702,     99.4,  12.3289,  12.3287,2,  34.4569,2,  34.4542,2,    248.6,2,    248.6,2,    12.39,2,     8.63,2,     0.02,2,     0.61,2,   2074.9,2,   2279.5,2,   7.8833,2,    25.00,     0.03,2,     0.10,2,  12.3287,2,      404
  49UF20180406,KS1804,  5364,  1,     31,  25265,2,20180506,0138, 37.3462, 143.4880, 6702,    124.1,  11.9911,  11.9954,2,  34.4181,2,-999.0000,9,    246.6,2,    246.7,2,    12.99,2,     9.14,2,     0.02,2,     0.65,2,   -999.0,9,   -999.0,9,-999.0000,9,  -999.00,     0.02,2,     0.10,2,  11.9954,2,      402
  49UF20180406,KS1804,  5364,  1,     30,  25264,2,20180506,0138, 37.3462, 143.4880, 6702,    149.3,  10.8535,  10.8532,2,  34.2956,2,-999.0000,9,    245.2,2,    245.5,2,    14.77,2,    10.29,2,     0.03,2,     0.75,2,   -999.0,9,   -999.0,9,-999.0000,9,  -999.00,     0.01,2,     0.09,2,  10.8532,2,      401
  49UF20180406,KS1804,  5364,  1,     29,  25263,2,20180506,0138, 37.3462, 143.4880, 6702,    200.3,   7.8515,   7.8556,2,  33.8977,2,  33.9017,2,    244.0,2,    243.8,2,    25.42,2,    15.50,2,     0.01,2,     1.17,2,   -999.0,9,   -999.0,9,-999.0000,9,  -999.00,     0.01,2,     0.08,2,   7.8556,2,      358
  49UF20180406,KS1804,  5364,  1,     28,  25262,2,20180506,0138, 37.3462, 143.4880, 6702,    251.7,   6.4849,   6.4832,2,  33.7192,2,-999.0000,9,    267.3,2,    267.5,6,    25.61,6,    15.39,6,     0.02,6,     1.19,6,   -999.0,9,   -999.0,9,-999.0000,9,  -999.00,  -999.00,9,  -999.00,9,   6.4832,2,      356
  49UF20180406,KS1804,  5364,  1,     27,  25261,2,20180506,0138, 37.3462, 143.4880, 6702,    302.3,   6.2596,   6.2600,2,  33.8554,2,  33.8575,6,    191.3,2,    192.0,2,    44.94,2,    23.81,2,     0.01,2,     1.77,2,   -999.0,9,   -999.0,9,-999.0000,9,  -999.00,  -999.00,9,  -999.00,9,   6.2600,2,      354
  49UF20180406,KS1804,  5364,  1,     26,  25260,2,20180506,0138, 37.3462, 143.4880, 6702,    402.2,   5.3954,   5.3948,2,  33.9575,2,  33.9583,2,    128.3,2,    128.1,6,    68.07,6,    31.79,6,     0.01,6,     2.32,6,   -999.0,9,   -999.0,9,-999.0000,9,  -999.00,  -999.00,9,  -999.00,9,   5.3948,2,      351
  49UF20180406,KS1804,  5364,  1,     25,  25259,2,20180506,0138, 37.3462, 143.4880, 6702,    504.1,   5.0034,   5.0034,2,  34.1124,2,  34.1104,2,     84.9,2,     85.3,2,    86.68,2,    36.23,2,     0.01,2,     2.62,2,   2281.4,2,   2315.8,2,   7.4369,2,    25.00,  -999.00,9,  -999.00,9,   5.0034,2,      348
  49UF20180406,KS1804,  5364,  1,     24,  25258,3,20180506,0138, 37.3462, 143.4880, 6702,    605.7,   4.3579,   4.3575,2,  34.2224,2,  34.2232,6,     60.9,2,     61.1,2,   104.82,2,    39.24,2,     0.00,2,     2.82,2,   -999.0,9,   -999.0,9,-999.0000,9,  -999.00,  -999.00,9,  -999.00,9,   4.3575,2,      345
  49UF20180406,KS1804,  5364,  1,     23,  25257,2,20180506,0138, 37.3462, 143.4880, 6702,    706.9,   3.8759,   3.8762,2,  34.2733,2,  34.2746,2,     50.2,2,     51.0,2,   116.49,2,    40.60,2,     0.00,2,     2.92,2,   -999.0,9,   -999.0,9,-999.0000,9,  -999.00,  -999.00,9,  -999.00,9,   3.8762,2,      342
  49UF20180406,KS1804,  5364,  1,     22,  24473,2,20180506,0138, 37.3462, 143.4880, 6702,    807.5,   3.4653,   3.4657,2,  34.3179,2,  34.3178,2,     41.7,2,     41.8,2,   127.70,2,    41.94,2,     0.00,2,     3.00,2,   -999.0,9,   -999.0,9,-999.0000,9,  -999.00,  -999.00,9,  -999.00,9,   3.4657,2,      339
  49UF20180406,KS1804,  5364,  1,     21,  25255,2,20180506,0138, 37.3462, 143.4880, 6702,    909.9,   3.3047,   3.3045,2,  34.3649,2,  34.3650,2,     43.4,2,     43.2,2,   132.32,2,    41.74,2,     0.00,2,     3.01,2,   -999.0,9,   -999.0,9,-999.0000,9,  -999.00,  -999.00,9,  -999.00,9,   3.3045,2,      336
  49UF20180406,KS1804,  5364,  1,     20,  24270,3,20180506,0138, 37.3462, 143.4880, 6702,   1010.4,   2.9814,   2.9812,2,  34.3971,2,  34.3976,6,     38.7,2,     38.6,2,   141.94,2,    42.41,2,     0.00,2,     3.05,2,   2368.4,2,   2376.8,2,   7.3652,2,    25.00,  -999.00,9,  -999.00,9,   2.9812,2,      333
  49UF20180406,KS1804,  5364,  1,     19,  25253,2,20180506,0138, 37.3462, 143.4880, 6702,   1213.0,   2.6892,   2.6888,2,  34.4555,2,  34.4580,2,     40.6,2,     40.7,2,   150.02,2,    42.80,2,     0.00,2,     3.06,2,   -999.0,9,   -999.0,9,-999.0000,9,  -999.00,  -999.00,9,  -999.00,9,   2.6888,2,      328
  49UF20180406,KS1804,  5364,  1,     18,  25252,2,20180506,0138, 37.3462, 143.4880, 6702,   1417.4,   2.4420,   2.4420,2,  34.5031,2,  34.5041,6,     46.6,2,     46.2,2,   156.26,2,    42.41,2,     0.00,2,     3.04,2,   -999.0,9,   -999.0,9,-999.0000,9,  -999.00,  -999.00,9,  -999.00,9,   2.4420,2,      323
  49UF20180406,KS1804,  5364,  1,     17,  25251,2,20180506,0138, 37.3462, 143.4880, 6702,   1619.8,   2.2246,   2.2246,2,  34.5433,2,  34.5468,4,     55.8,2,     55.1,2,   160.76,2,    42.09,2,     0.00,2,     3.00,2,   -999.0,9,   -999.0,9,-999.0000,9,  -999.00,  -999.00,9,  -999.00,9,   2.2246,2,      318
  49UF20180406,KS1804,  5364,  1,     16,  25250,2,20180506,0138, 37.3462, 143.4880, 6702,   1821.8,   2.0758,   2.0754,2,  34.5722,2,  34.5737,4,     66.5,2,     66.8,6,   162.49,6,    41.54,6,     0.00,6,     2.96,6,   -999.0,9,   -999.0,9,-999.0000,9,  -999.00,  -999.00,9,  -999.00,9,   2.0754,2,      314
  49UF20180406,KS1804,  5364,  1,     15,  25249,2,20180506,0138, 37.3462, 143.4880, 6702,   2024.7,   1.9247,   1.9247,2,  34.5996,2,  34.5992,2,     80.2,2,     80.6,2,   162.73,2,    40.81,2,     0.00,2,     2.88,2,   2366.5,2,   2414.2,2,   7.4534,2,    25.00,  -999.00,9,  -999.00,9,   1.9247,2,      309
  49UF20180406,KS1804,  5364,  1,     14,  25248,2,20180506,0138, 37.3462, 143.4880, 6702,   2280.0,   1.7899,   1.7899,2,  34.6231,2,  34.6230,2,     95.3,2,     95.5,2,   161.73,2,    39.81,2,     0.00,2,     2.81,2,   -999.0,9,   -999.0,9,-999.0000,9,  -999.00,  -999.00,9,  -999.00,9,   1.7899,2,      303
  49UF20180406,KS1804,  5364,  1,     13,  25247,2,20180506,0138, 37.3462, 143.4880, 6702,   2534.4,   1.6821,   1.6822,2,  34.6416,2,  34.6413,6,    109.3,2,    109.6,2,   159.96,2,    38.92,2,     0.00,2,     2.74,2,   -999.0,9,   -999.0,9,-999.0000,9,  -999.00,  -999.00,9,  -999.00,9,   1.6822,2,      257
  49UF20180406,KS1804,  5364,  1,     12,  25246,2,20180506,0138, 37.3462, 143.4880, 6702,   2788.7,   1.6032,   1.6030,2,  34.6545,2,  34.6536,2,    119.8,2,    120.0,2,   158.51,2,    38.32,2,     0.00,2,     2.68,2,   -999.0,9,   -999.0,9,-999.0000,9,  -999.00,  -999.00,9,  -999.00,9,   1.6030,2,      251
  49UF20180406,KS1804,  5364,  1,     11,  25245,2,20180506,0138, 37.3462, 143.4880, 6702,   3046.0,   1.5515,   1.5518,2,  34.6636,2,  34.6643,2,    128.6,2,    128.6,2,   156.76,2,    37.73,2,     0.00,2,     2.65,2,   -999.0,9,   -999.0,9,-999.0000,9,  -999.00,  -999.00,9,  -999.00,9,   1.5518,2,      245
  49UF20180406,KS1804,  5364,  1,     10,  25244,2,20180506,0138, 37.3462, 143.4880, 6702,   3298.7,   1.5166,   1.5167,2,  34.6704,2,  34.6699,2,    135.5,2,    136.0,2,   155.30,2,    37.21,2,     0.00,2,     2.61,2,   -999.0,9,   -999.0,9,-999.0000,9,  -999.00,  -999.00,9,  -999.00,9,   1.5167,2,      239
  49UF20180406,KS1804,  5364,  1,      9,  25243,2,20180506,0138, 37.3462, 143.4880, 6702,   3556.7,   1.4928,   1.4929,2,  34.6759,2,  34.6755,6,    141.5,2,    141.0,2,   153.69,2,    36.85,2,     0.00,2,     2.58,2,   -999.0,9,   -999.0,9,-999.0000,9,  -999.00,  -999.00,9,  -999.00,9,   1.4929,2,      233
  49UF20180406,KS1804,  5364,  1,      8,  25242,2,20180506,0138, 37.3462, 143.4880, 6702,   4067.8,   1.4742,   1.4743,2,  34.6834,2,  34.6827,2,    150.2,2,    150.2,2,   151.39,2,    36.20,2,     0.00,2,     2.53,2,   -999.0,9,   -999.0,9,-999.0000,9,  -999.00,  -999.00,9,  -999.00,9,   1.4743,2,      223
  49UF20180406,KS1804,  5364,  1,      7,  25241,3,20180506,0138, 37.3462, 143.4880, 6702,   4324.6,   1.4797,   1.4796,2,  34.6857,2,  34.6863,4,    153.3,2,    152.6,2,   150.59,2,    36.01,2,     0.00,2,     2.51,2,   -999.0,9,   -999.0,9,-999.0000,9,  -999.00,  -999.00,9,  -999.00,9,   1.4796,2,      217
  49UF20180406,KS1804,  5364,  1,      6,  25240,2,20180506,0138, 37.3462, 143.4880, 6702,   4583.6,   1.4876,   1.4876,2,  34.6879,2,  34.6869,2,    156.4,2,    156.4,2,   149.03,2,    35.75,2,     0.00,2,     2.50,2,   -999.0,9,   -999.0,9,-999.0000,9,  -999.00,  -999.00,9,  -999.00,9,   1.4876,2,      211
  49UF20180406,KS1804,  5364,  1,      5,  25239,2,20180506,0138, 37.3462, 143.4880, 6702,   5095.8,   1.5280,   1.5281,2,  34.6902,2,  34.6895,2,    159.7,2,    159.3,6,   147.50,6,    35.59,6,     0.00,6,     2.48,6,   -999.0,9,   -999.0,9,-999.0000,9,  -999.00,  -999.00,9,  -999.00,9,   1.5281,2,      201
  49UF20180406,KS1804,  5364,  1,      4,  25238,2,20180506,0138, 37.3462, 143.4880, 6702,   5352.6,   1.5532,   1.5531,2,  34.6909,2,  34.6909,2,    161.0,2,    160.8,2,   146.50,2,    35.55,2,     0.00,2,     2.47,2,   -999.0,9,   -999.0,9,-999.0000,9,  -999.00,  -999.00,9,  -999.00,9,   1.5531,2,      156
  49UF20180406,KS1804,  5364,  1,      3,  24271,2,20180506,0138, 37.3462, 143.4880, 6702,   5612.7,   1.5809,   1.5810,2,  34.6916,2,  34.6908,2,    162.0,2,    161.8,2,   145.77,2,    35.39,2,     0.00,2,     2.46,2,   -999.0,9,   -999.0,9,-999.0000,9,  -999.00,  -999.00,9,  -999.00,9,   1.5810,2,      150
  49UF20180406,KS1804,  5364,  1,      2,  25236,2,20180506,0138, 37.3462, 143.4880, 6702,   5870.3,   1.6132,   1.6134,2,  34.6921,2,  34.6921,2,    162.3,2,    162.8,2,   145.80,2,    35.44,2,     0.00,2,     2.46,2,   -999.0,9,   -999.0,9,-999.0000,9,  -999.00,  -999.00,9,  -999.00,9,   1.6134,2,      144
  49UF20180406,KS1804,  5364,  1,      1,  24272,2,20180506,0138, 37.3462, 143.4880, 6702,   6133.4,   1.6479,   1.6479,2,  34.6923,2,  34.6923,6,    162.7,2,    162.9,2,   145.08,2,    35.31,2,     0.00,2,     2.48,2,   2311.7,2,   2411.6,2,   7.6023,2,    25.00,  -999.00,9,  -999.00,9,   1.6479,2,      138