BOTTLE,20200311PRINUNIVRMK
EXPOCODE,SECT_ID,STNNBR,CASTNO,SAMPNO,BTLNBR,BTLNBR_FLAG_W,DATE,TIME,LATITUDE,LONGITUDE,DEPTH,CTDPRS,CTDTMP,SBE35,SBE35_FLAG_W,CTDSAL,CTDSAL_FLAG_W,SALNTY,SALNTY_FLAG_W,CTDOXY,CTDOXY_FLAG_W,OXYGEN,OXYGEN_FLAG_W,SILCAT,SILCAT_FLAG_W,NITRAT,NITRAT_FLAG_W,NITRIT,NITRIT_FLAG_W,PHSPHT,PHSPHT_FLAG_W,TCARBN,TCARBN_FLAG_W,ALKALI,ALKALI_FLAG_W,PH_TOT,PH_TOT_FLAG_W,PH_TMP,CHLORA,CHLORA_FLAG_W,PPHYTN,PPHYTN_FLAG_W,SBE35,SBE35_FLAG_W,BTL_TIME
,,,,,,,,,,,METERS,DBAR,ITS-90,,,PSS-78,,PSS-78,,UMOL/KG,,UMOL/KG,,UMOL/KG,,UMOL/KG,,UMOL/KG,,UMOL/KG,,UMOL/KG,,UMOL/KG,,,,DEG C,UG/KG,,UG/KG,,,,
  49UF20180406,KS1804,  5344,  1,     99,     99,2,20180419,2120, 39.0052, 148.3445, 5529,      0.0,  14.3167,-999.0000,9,  34.5529,2,-999.0000,9,   -999.0,5,    260.9,2,     9.03,2,     3.79,2,     0.19,2,     0.33,2,   -999.0,9,   -999.0,9,-999.0000,9,  -999.00,     1.81,2,     0.67,2,-999.0000,9,     2205
  49UF20180406,KS1804,  5344,  1,     36,  25270,2,20180419,2120, 39.0052, 148.3445, 5529,      9.5,  14.3008,  14.3006,2,  34.5528,2,-999.0000,9,   -999.0,5,    259.8,2,     8.98,2,     3.80,2,     0.19,2,     0.32,2,   -999.0,9,   -999.0,9,-999.0000,9,  -999.00,     1.64,2,     0.70,2,  14.3006,2,     2223
  49UF20180406,KS1804,  5344,  1,     35,  25269,2,20180419,2120, 39.0052, 148.3445, 5529,     25.0,  14.1372,  14.1369,2,  34.5422,2,-999.0000,9,   -999.0,5,    256.3,2,    10.13,2,     4.76,2,     0.23,2,     0.38,2,   -999.0,9,   -999.0,9,-999.0000,9,  -999.00,     1.12,2,     0.71,2,  14.1369,2,     2221
  49UF20180406,KS1804,  5344,  1,     34,  25268,2,20180419,2120, 39.0052, 148.3445, 5529,     50.6,  13.2811,  13.2800,2,  34.5210,2,-999.0000,9,   -999.0,5,    248.0,2,    12.74,2,     6.72,2,     0.30,2,     0.55,2,   -999.0,9,   -999.0,9,-999.0000,9,  -999.00,     0.16,2,     0.19,2,  13.2800,2,     2217
  49UF20180406,KS1804,  5344,  1,     30,  25264,2,20180419,2120, 39.0052, 148.3445, 5529,     74.8,  13.0871,  13.0874,2,  34.5118,2,-999.0000,9,   -999.0,5,    247.1,2,    13.10,2,     7.23,2,     0.36,2,     0.57,2,   -999.0,9,   -999.0,9,-999.0000,9,  -999.00,     0.07,2,     0.12,2,  13.0874,2,     2215
  49UF20180406,KS1804,  5344,  1,     29,  25263,2,20180419,2120, 39.0052, 148.3445, 5529,     99.9,  12.9167,  12.9166,2,  34.5059,2,-999.0000,9,   -999.0,5,    252.0,2,    12.40,2,     7.25,2,     0.43,2,     0.55,2,   -999.0,9,   -999.0,9,-999.0000,9,  -999.00,     0.05,2,     0.11,2,  12.9166,2,     2214
  49UF20180406,KS1804,  5344,  1,     28,  25262,2,20180419,2120, 39.0052, 148.3445, 5529,    126.1,  12.6687,  12.6697,2,  34.4814,2,-999.0000,9,   -999.0,5,    245.2,6,    13.20,6,     8.74,6,     0.08,6,     0.62,6,   -999.0,9,   -999.0,9,-999.0000,9,  -999.00,     0.04,2,     0.11,2,  12.6697,2,     2213
  49UF20180406,KS1804,  5344,  1,     27,  25261,2,20180419,2120, 39.0052, 148.3445, 5529,    151.8,  12.3510,  12.3509,2,  34.4449,2,-999.0000,9,   -999.0,5,    245.1,2,    13.57,2,     9.15,2,     0.03,2,     0.64,2,   -999.0,9,   -999.0,9,-999.0000,9,  -999.00,  -999.00,9,  -999.00,9,  12.3509,2,     2211
  49UF20180406,KS1804,  5344,  1,     26,  25260,2,20180419,2120, 39.0052, 148.3445, 5529,    152.6,  12.3490,  12.3490,2,  34.4447,2,-999.0000,9,   -999.0,5,    245.2,2,    13.59,2,     9.19,2,     0.03,2,     0.65,2,   -999.0,9,   -999.0,9,-999.0000,9,  -999.00,     0.03,2,     0.10,2,  12.3490,2,     2211
  49UF20180406,KS1804,  5344,  1,     25,  25259,2,20180419,2120, 39.0052, 148.3445, 5529,    202.5,  11.3441,  11.3443,2,  34.3290,2,-999.0000,9,   -999.0,5,    229.7,2,    18.06,2,    11.91,2,     0.01,2,     0.85,2,   -999.0,9,   -999.0,9,-999.0000,9,  -999.00,     0.02,2,     0.07,2,  11.3443,2,     2209
  49UF20180406,KS1804,  5344,  1,     21,  25255,2,20180419,2120, 39.0052, 148.3445, 5529,    252.0,   9.4472,   9.4528,2,  34.0975,2,-999.0000,9,   -999.0,5,    223.8,2,    24.35,2,    15.03,2,     0.01,2,     1.09,2,   -999.0,9,   -999.0,9,-999.0000,9,  -999.00,  -999.00,9,  -999.00,9,   9.4528,2,     2207
  49UF20180406,KS1804,  5344,  1,     20,  24270,2,20180419,2120, 39.0052, 148.3445, 5529,    305.0,   8.0576,   8.0581,2,  34.0265,2,-999.0000,9,   -999.0,5,    177.8,2,    39.58,2,    22.22,2,     0.01,2,     1.62,2,   -999.0,9,   -999.0,9,-999.0000,9,  -999.00,  -999.00,9,  -999.00,9,   8.0581,2,     2205
  49UF20180406,KS1804,  5344,  1,     19,  25253,2,20180419,2120, 39.0052, 148.3445, 5529,    403.0,   6.8306,   6.8308,2,  34.0903,2,-999.0000,9,   -999.0,5,    132.9,6,    59.72,2,    28.91,2,     0.00,2,     2.08,2,   -999.0,9,   -999.0,9,-999.0000,9,  -999.00,  -999.00,9,  -999.00,9,   6.8308,2,     2202
  49UF20180406,KS1804,  5344,  1,     18,  25252,2,20180419,2120, 39.0052, 148.3445, 5529,    503.4,   5.5243,   5.5247,2,  34.0986,2,-999.0000,9,   -999.0,5,    100.0,2,    77.98,2,    34.21,2,     0.00,2,     2.46,2,   -999.0,9,   -999.0,9,-999.0000,9,  -999.00,  -999.00,9,  -999.00,9,   5.5247,2,     2159
  49UF20180406,KS1804,  5344,  1,     17,  25251,2,20180419,2120, 39.0052, 148.3445, 5529,    605.6,   4.7882,   4.7881,2,  34.1843,2,-999.0000,9,   -999.0,5,     72.9,2,    95.36,2,    37.65,2,     0.00,2,     2.70,2,   -999.0,9,   -999.0,9,-999.0000,9,  -999.00,  -999.00,9,  -999.00,9,   4.7881,2,     2157
  49UF20180406,KS1804,  5344,  1,     16,  25250,2,20180419,2120, 39.0052, 148.3445, 5529,    706.2,   4.2721,   4.2724,2,  34.2393,2,-999.0000,9,   -999.0,5,     59.3,2,   107.55,2,    39.55,2,     0.00,2,     2.83,2,   -999.0,9,   -999.0,9,-999.0000,9,  -999.00,  -999.00,9,  -999.00,9,   4.2724,2,     2154
  49UF20180406,KS1804,  5344,  1,     12,  25246,2,20180419,2120, 39.0052, 148.3445, 5529,    806.4,   3.8191,   3.8190,2,  34.2994,2,-999.0000,9,   -999.0,5,     49.8,2,   119.02,2,    40.85,2,     0.00,2,     2.92,2,   -999.0,9,   -999.0,9,-999.0000,9,  -999.00,  -999.00,9,  -999.00,9,   3.8190,2,     2151
  49UF20180406,KS1804,  5344,  1,     11,  25245,2,20180419,2120, 39.0052, 148.3445, 5529,    907.7,   3.4846,   3.4850,2,  34.3475,2,-999.0000,9,   -999.0,5,     46.4,2,   127.86,2,    41.48,2,     0.00,2,     2.98,2,   -999.0,9,   -999.0,9,-999.0000,9,  -999.00,  -999.00,9,  -999.00,9,   3.4850,2,     2148
  49UF20180406,KS1804,  5344,  1,     10,  25244,2,20180419,2120, 39.0052, 148.3445, 5529,   1010.0,   3.2807,   3.2807,2,  34.3909,2,-999.0000,9,   -999.0,5,     47.1,6,   132.85,6,    41.77,6,     0.00,6,     2.98,6,   -999.0,9,   -999.0,9,-999.0000,9,  -999.00,  -999.00,9,  -999.00,9,   3.2807,2,     2145
  49UF20180406,KS1804,  5344,  1,      9,  25243,2,20180419,2120, 39.0052, 148.3445, 5529,   1211.7,   2.8077,   2.8074,2,  34.4440,2,-999.0000,9,   -999.0,5,     41.2,2,   146.67,2,    42.74,2,     0.00,2,     3.03,2,   -999.0,9,   -999.0,9,-999.0000,9,  -999.00,  -999.00,9,  -999.00,9,   2.8074,2,     2141
  49UF20180406,KS1804,  5344,  1,      8,  25242,2,20180419,2120, 39.0052, 148.3445, 5529,   1211.9,   2.8071,   2.8067,2,  34.4441,2,-999.0000,9,   -999.0,5,     41.0,2,   146.90,2,    42.70,2,     0.00,2,     3.04,2,   -999.0,9,   -999.0,9,-999.0000,9,  -999.00,  -999.00,9,  -999.00,9,   2.8067,2,     2140
  49UF20180406,KS1804,  5344,  1,      7,  25241,2,20180419,2120, 39.0052, 148.3445, 5529,   1416.8,   2.4751,   2.4750,2,  34.4950,2,-999.0000,9,   -999.0,5,     43.6,2,   156.16,2,    42.89,2,     0.00,2,     3.04,2,   -999.0,9,   -999.0,9,-999.0000,9,  -999.00,  -999.00,9,  -999.00,9,   2.4750,2,     2136
  49UF20180406,KS1804,  5344,  1,      3,  24271,2,20180419,2120, 39.0052, 148.3445, 5529,   1621.9,   2.2782,   2.2784,2,  34.5361,2,-999.0000,9,   -999.0,5,     51.0,2,   160.21,2,    42.55,2,     0.00,2,     3.02,2,   -999.0,9,   -999.0,9,-999.0000,9,  -999.00,  -999.00,9,  -999.00,9,   2.2784,2,     2131
  49UF20180406,KS1804,  5344,  1,      2,  25236,2,20180419,2120, 39.0052, 148.3445, 5529,   1823.7,   2.0920,   2.0919,2,  34.5715,2,-999.0000,9,   -999.0,5,     63.4,2,   162.91,2,    41.91,2,     0.00,2,     2.95,2,   -999.0,9,   -999.0,9,-999.0000,9,  -999.00,  -999.00,9,  -999.00,9,   2.0919,2,     2126
  49UF20180406,KS1804,  5344,  1,      1,  24272,2,20180419,2120, 39.0052, 148.3445, 5529,   2023.7,   1.9645,   1.9643,2,  34.5954,2,-999.0000,9,   -999.0,5,     74.7,2,   163.90,2,    41.26,2,     0.00,2,     2.92,2,   -999.0,9,   -999.0,9,-999.0000,9,  -999.00,  -999.00,9,  -999.00,9,   1.9643,2,     2121
  49UF20180406,KS1804,  5346,  1,     99,     99,2,20180420,0548, 39.6882, 147.8602, 5316,      0.0,  12.8625,-999.0000,9,  34.4620,2,  34.4730,2,    270.1,2,    267.8,2,    10.60,2,     5.59,2,     0.24,2,     0.44,2,   2057.8,2,   2279.6,2,   7.9235,2,    25.00,     0.98,2,     0.51,2,-999.0000,9,      750
  49UF20180406,KS1804,  5346,  1,     36,  25270,2,20180420,0548, 39.6882, 147.8602, 5316,     10.0,  12.8152,  12.8196,2,  34.4572,2,  34.4573,2,    270.7,2,    269.2,2,    10.35,2,     5.59,2,     0.23,2,     0.44,2,   2055.9,2,   2279.6,2,   7.9259,2,    25.00,     0.97,2,     0.45,2,  12.8196,2,      808
  49UF20180406,KS1804,  5346,  1,     35,  25269,2,20180420,0548, 39.6882, 147.8602, 5316,     24.9,  12.5128,  12.5117,2,  34.4204,2,-999.0000,9,    273.6,2,    272.2,2,    10.83,2,     5.60,2,     0.21,2,     0.44,2,   2056.7,2,   2280.2,2,   7.9247,2,    25.00,     1.25,2,     0.54,2,  12.5117,2,      806
  49UF20180406,KS1804,  5346,  1,     34,  25268,2,20180420,0548, 39.6882, 147.8602, 5316,     52.3,  12.3909,  12.3909,2,  34.4284,2,  34.4290,2,    267.9,2,    266.9,2,     7.23,2,     5.83,2,     0.23,2,     0.46,2,   2060.4,2,   2279.1,2,   7.9188,2,    25.00,     1.45,2,     0.75,2,  12.3909,2,      802
  49UF20180406,KS1804,  5346,  1,     33,  25267,2,20180420,0548, 39.6882, 147.8602, 5316,     76.8,  12.3566,  12.3570,2,  34.4271,2,-999.0000,9,    264.7,2,    264.0,2,     8.16,2,     6.11,2,     0.24,2,     0.49,2,   2064.2,2,   2279.2,2,   7.9110,2,    25.00,     0.97,2,     0.76,2,  12.3570,2,      800
  49UF20180406,KS1804,  5346,  1,     32,  25266,2,20180420,0548, 39.6882, 147.8602, 5316,     99.9,  12.1903,  12.1890,2,  34.4065,2,  34.4061,2,    262.1,2,    261.3,2,     9.51,2,     6.57,2,     0.23,2,     0.53,2,   2064.6,2,   2280.0,2,   7.9026,2,    25.00,     0.89,2,     0.67,2,  12.1890,2,      759
  49UF20180406,KS1804,  5346,  1,     31,  25265,3,20180420,0548, 39.6882, 147.8602, 5316,    126.8,  11.5284,  11.5311,2,  34.3353,2,-999.0000,9,    250.9,2,    250.7,2,    13.68,2,     9.13,2,     0.17,2,     0.69,2,   2083.3,2,   2278.5,2,   7.8688,2,    25.00,     0.71,2,     0.66,2,  11.5311,2,      758
  49UF20180406,KS1804,  5346,  1,     30,  25264,2,20180420,0548, 39.6882, 147.8602, 5316,    153.4,  10.4700,  10.4724,2,  34.2183,2,-999.0000,9,    233.8,2,    234.0,2,    19.51,2,    12.58,2,     0.08,2,     0.91,2,   2100.6,2,   2275.9,2,   7.8171,2,    25.00,     0.26,2,     0.37,2,  10.4724,2,      756
  49UF20180406,KS1804,  5346,  1,     29,  25263,2,20180420,0548, 39.6882, 147.8602, 5316,    200.4,   8.5215,   8.5219,2,  33.9829,2,  33.9826,2,    218.3,2,    217.6,2,    29.08,2,    17.23,2,     0.03,2,     1.27,2,   2132.8,2,   2271.2,2,   7.7347,2,    25.00,     0.03,2,     0.16,2,   8.5219,2,      754
  49UF20180406,KS1804,  5346,  1,     28,  25262,2,20180420,0548, 39.6882, 147.8602, 5316,    252.0,   7.2884,   7.2884,2,  33.9813,2,-999.0000,9,    169.6,2,    168.8,6,    45.95,6,    24.63,6,     0.03,6,     1.80,6,   2179.9,2,   2279.6,2,   7.6228,2,    25.00,  -999.00,9,  -999.00,9,   7.2884,2,      752
  49UF20180406,KS1804,  5346,  1,     27,  25261,2,20180420,0548, 39.6882, 147.8602, 5316,    302.0,   6.6127,   6.6041,2,  34.0274,2,  34.0367,4,    143.2,2,    141.8,2,    57.18,2,    28.19,2,     0.02,2,     2.05,2,   2212.3,2,   2288.4,2,   7.5634,2,    25.00,  -999.00,9,  -999.00,9,   6.6041,2,      750
  49UF20180406,KS1804,  5346,  1,     26,  25260,2,20180420,0548, 39.6882, 147.8602, 5316,    403.5,   4.9287,   4.9436,2,  34.0058,2,  34.0194,4,    102.8,2,    102.3,2,    78.90,2,    34.68,2,     0.01,2,     2.52,2,   2260.7,2,   2303.1,2,   7.4503,2,    25.00,  -999.00,9,  -999.00,9,   4.9436,2,      748
  49UF20180406,KS1804,  5346,  1,     25,  25259,2,20180420,0548, 39.6882, 147.8602, 5316,    503.8,   4.8602,   4.8648,2,  34.1608,2,-999.0000,9,     75.9,2,     75.7,2,    92.48,2,    37.16,2,     0.01,2,     2.68,2,   2291.9,2,   2323.3,2,   7.4219,2,    25.00,  -999.00,9,  -999.00,9,   4.8648,2,      745
  49UF20180406,KS1804,  5346,  1,     24,  25258,3,20180420,0548, 39.6882, 147.8602, 5316,    604.8,   4.3199,   4.3197,2,  34.2388,2,-999.0000,9,     60.4,2,     60.3,2,   106.23,2,    39.28,2,     0.00,2,     2.82,2,   2307.2,2,   2338.7,2,   7.3975,2,    25.00,  -999.00,9,  -999.00,9,   4.3197,2,      742
  49UF20180406,KS1804,  5346,  1,     23,  25257,3,20180420,0548, 39.6882, 147.8602, 5316,    705.8,   3.7777,   3.7774,2,  34.2723,2,  34.2726,2,     46.9,2,     47.0,2,   119.01,2,    41.09,2,     0.00,2,     2.95,2,   2334.5,2,   2350.8,2,   7.3675,2,    25.00,  -999.00,9,  -999.00,9,   3.7774,2,      739
  49UF20180406,KS1804,  5346,  1,     22,  25256,2,20180420,0548, 39.6882, 147.8602, 5316,    806.6,   3.5074,   3.5061,2,  34.3229,2,  34.3245,2,     43.6,2,     43.5,2,   126.75,2,    41.65,2,     0.00,2,     2.98,2,   2346.8,6,   2360.4,6,   7.3651,2,    25.00,  -999.00,9,  -999.00,9,   3.5061,2,      737
  49UF20180406,KS1804,  5346,  1,     21,  25255,2,20180420,0548, 39.6882, 147.8602, 5316,    908.8,   3.2170,   3.2169,2,  34.3678,2,-999.0000,9,     40.9,2,     41.1,2,   134.56,2,    42.21,2,     0.00,2,     3.02,2,   2351.9,2,   2371.0,2,   7.3636,6,    25.00,  -999.00,9,  -999.00,9,   3.2169,2,      734
  49UF20180406,KS1804,  5346,  1,     20,  24270,3,20180420,0548, 39.6882, 147.8602, 5316,   1009.7,   2.9704,   2.9703,2,  34.3975,2,  34.3966,2,     38.1,2,     37.7,2,   142.03,2,    42.64,2,     0.00,2,     3.05,2,   2365.7,2,   2377.4,2,   7.3605,2,    25.00,  -999.00,9,  -999.00,9,   2.9703,2,      731
  49UF20180406,KS1804,  5346,  1,     19,  25253,3,20180420,0548, 39.6882, 147.8602, 5316,   1212.3,   2.6270,   2.6268,2,  34.4595,2,  34.4606,2,     39.4,2,     39.5,6,   151.95,6,    42.96,6,     0.00,6,     3.06,6,   2373.6,2,   2389.1,2,   7.3636,2,    25.00,  -999.00,9,  -999.00,9,   2.6268,2,      726
  49UF20180406,KS1804,  5346,  1,     18,  25252,2,20180420,0548, 39.6882, 147.8602, 5316,   1416.0,   2.3770,   2.3769,2,  34.5084,2,  34.5097,2,     45.4,2,     45.2,2,   158.34,2,    42.80,2,     0.00,2,     3.03,2,   2371.7,2,   2399.1,2,   7.3800,2,    25.00,  -999.00,9,  -999.00,9,   2.3769,2,      721
  49UF20180406,KS1804,  5346,  1,     17,  25251,2,20180420,0548, 39.6882, 147.8602, 5316,   1618.7,   2.1974,   2.1973,2,  34.5405,2,  34.5418,2,     52.9,2,     53.0,2,   162.93,2,    42.43,2,     0.00,2,     3.00,2,   2374.7,2,   2405.2,2,   7.3968,2,    25.00,  -999.00,9,  -999.00,9,   2.1973,2,      717
  49UF20180406,KS1804,  5346,  1,     16,  25250,2,20180420,0548, 39.6882, 147.8602, 5316,   1822.2,   2.0449,   2.0447,2,  34.5732,2,  34.5760,2,     64.5,2,     64.5,2,   164.22,2,    41.81,2,     0.00,2,     2.95,2,   2371.5,2,   2409.4,2,   7.4218,2,    25.00,  -999.00,9,  -999.00,9,   2.0447,2,      712
  49UF20180406,KS1804,  5346,  1,     15,  25249,2,20180420,0548, 39.6882, 147.8602, 5316,   2024.5,   1.9037,   1.9035,2,  34.5998,2,  34.5991,2,     77.4,2,     77.3,2,   164.47,2,    40.99,2,     0.00,2,     2.89,2,   2368.5,6,   2414.3,6,   7.4489,2,    25.00,  -999.00,9,  -999.00,9,   1.9035,2,      707
  49UF20180406,KS1804,  5346,  1,     14,  25248,2,20180420,0548, 39.6882, 147.8602, 5316,   2278.3,   1.7635,   1.7633,2,  34.6252,2,  34.6253,2,     94.4,2,     94.6,2,   163.62,2,    39.92,2,     0.00,2,     2.80,2,   2357.5,2,   2414.9,2,   7.4788,6,    25.00,  -999.00,9,  -999.00,9,   1.7633,2,      702
  49UF20180406,KS1804,  5346,  1,     13,  25247,2,20180420,0548, 39.6882, 147.8602, 5316,   2533.6,   1.6706,   1.6706,2,  34.6416,2,  34.6426,2,    107.8,2,    108.1,2,   161.30,2,    39.14,2,     0.00,2,     2.74,2,   2349.8,2,   2418.4,2,   7.5062,2,    25.00,  -999.00,9,  -999.00,9,   1.6706,2,      656
  49UF20180406,KS1804,  5346,  1,     12,  25246,2,20180420,0548, 39.6882, 147.8602, 5316,   2789.4,   1.5957,   1.5958,2,  34.6544,2,  34.6548,2,    119.1,2,    119.4,2,   159.45,2,    38.34,2,     0.00,2,     2.68,2,   2346.8,2,   2417.8,2,   7.5292,2,    25.00,  -999.00,9,  -999.00,9,   1.5958,2,      650
  49UF20180406,KS1804,  5346,  1,     11,  25245,2,20180420,0548, 39.6882, 147.8602, 5316,   3046.5,   1.5355,   1.5355,2,  34.6643,2,  34.6639,2,    128.9,2,    129.0,2,   157.70,2,    37.70,2,     0.00,2,     2.63,2,   2341.7,2,   2418.3,2,   7.5451,2,    25.00,  -999.00,9,  -999.00,9,   1.5355,2,      645
  49UF20180406,KS1804,  5346,  1,     10,  25244,2,20180420,0548, 39.6882, 147.8602, 5316,   3303.3,   1.5081,   1.5079,2,  34.6702,2,  34.6701,2,    135.2,2,    135.4,2,   156.31,2,    37.26,2,     0.00,2,     2.59,2,   2332.0,2,   2418.3,2,   7.5679,2,    25.00,  -999.00,9,  -999.00,9,   1.5079,2,      638
  49UF20180406,KS1804,  5346,  1,      9,  25243,2,20180420,0548, 39.6882, 147.8602, 5316,   3559.3,   1.4858,   1.4857,2,  34.6753,2,  34.6765,2,    141.1,2,    141.3,6,   154.79,6,    36.93,6,     0.00,6,     2.57,6,   -999.0,9,   2415.9,2,   7.5576,2,    25.00,  -999.00,9,  -999.00,9,   1.4857,2,      631
  49UF20180406,KS1804,  5346,  1,      8,  25242,2,20180420,0548, 39.6882, 147.8602, 5316,   3817.6,   1.4687,   1.4686,2,  34.6799,2,  34.6807,2,    146.6,2,    146.6,2,   153.81,2,    36.58,2,     0.00,2,     2.54,2,   2326.9,6,   2417.2,6,   7.5739,2,    25.00,  -999.00,9,  -999.00,9,   1.4686,2,      625
  49UF20180406,KS1804,  5346,  1,      7,  25241,3,20180420,0548, 39.6882, 147.8602, 5316,   4069.8,   1.4643,   1.4644,2,  34.6830,2,  34.6832,2,    150.7,2,    150.7,2,   152.67,2,    36.35,2,     0.00,2,     2.52,2,   2325.6,2,   2416.5,2,   7.5824,6,    25.00,  -999.00,9,  -999.00,9,   1.4644,2,      619
  49UF20180406,KS1804,  5346,  1,      6,  25240,2,20180420,0548, 39.6882, 147.8602, 5316,   4325.7,   1.4678,   1.4678,2,  34.6856,2,  34.6858,2,    153.8,2,    154.1,2,   151.71,2,    36.08,2,     0.00,2,     2.50,2,   2322.9,2,   2415.8,2,   7.5873,2,    25.00,  -999.00,9,  -999.00,9,   1.4678,2,      614
  49UF20180406,KS1804,  5346,  1,      5,  25239,2,20180420,0548, 39.6882, 147.8602, 5316,   4582.6,   1.4792,   1.4790,2,  34.6875,2,  34.6873,2,    156.3,2,    156.4,2,   151.24,2,    35.91,2,     0.00,2,     2.49,2,   2317.0,2,   2414.8,2,   7.5916,2,    25.00,  -999.00,9,  -999.00,9,   1.4790,2,      608
  49UF20180406,KS1804,  5346,  1,      4,  25238,2,20180420,0548, 39.6882, 147.8602, 5316,   4839.9,   1.4989,   1.4989,2,  34.6888,2,  34.6891,2,    157.4,2,    157.5,2,   151.76,2,    35.89,2,     0.00,2,     2.48,2,   2318.3,2,   2416.7,2,   7.5952,2,    25.00,  -999.00,9,  -999.00,9,   1.4989,2,      602
  49UF20180406,KS1804,  5346,  1,      3,  24271,2,20180420,0548, 39.6882, 147.8602, 5316,   5097.4,   1.5221,   1.5221,2,  34.6897,2,  34.6900,6,    158.9,2,    159.0,2,   150.31,2,    35.67,2,     0.00,2,     2.47,2,   2323.2,2,   2415.3,2,   7.5967,2,    25.00,  -999.00,9,  -999.00,9,   1.5221,2,      556
  49UF20180406,KS1804,  5346,  1,      2,  25236,2,20180420,0548, 39.6882, 147.8602, 5316,   5355.2,   1.5478,   1.5478,2,  34.6905,2,  34.6905,2,    159.9,2,    160.6,2,   149.52,2,    35.60,2,     0.00,2,     2.46,2,   2319.9,2,   2415.2,2,   7.5984,2,    25.00,  -999.00,9,  -999.00,9,   1.5478,2,      550
  49UF20180406,KS1804,  5346,  1,      1,  24272,2,20180420,0548, 39.6882, 147.8602, 5316,   5411.1,   1.5535,   1.5534,2,  34.6908,2,  34.6913,6,    160.3,2,    160.6,6,   149.12,6,    35.60,6,     0.00,6,     2.46,6,   2317.6,2,   2416.0,2,   7.5978,2,    25.00,  -999.00,9,  -999.00,9,   1.5534,2,      548