BOTTLE,20200311PRINUNIVRMK
EXPOCODE,SECT_ID,STNNBR,CASTNO,SAMPNO,BTLNBR,BTLNBR_FLAG_W,DATE,TIME,LATITUDE,LONGITUDE,DEPTH,CTDPRS,CTDTMP,SBE35,SBE35_FLAG_W,CTDSAL,CTDSAL_FLAG_W,SALNTY,SALNTY_FLAG_W,CTDOXY,CTDOXY_FLAG_W,OXYGEN,OXYGEN_FLAG_W,SILCAT,SILCAT_FLAG_W,NITRAT,NITRAT_FLAG_W,NITRIT,NITRIT_FLAG_W,PHSPHT,PHSPHT_FLAG_W,TCARBN,TCARBN_FLAG_W,ALKALI,ALKALI_FLAG_W,PH_TOT,PH_TOT_FLAG_W,PH_TMP,CHLORA,CHLORA_FLAG_W,PPHYTN,PPHYTN_FLAG_W,SBE35,SBE35_FLAG_W,BTL_TIME
,,,,,,,,,,,METERS,DBAR,ITS-90,,,PSS-78,,PSS-78,,UMOL/KG,,UMOL/KG,,UMOL/KG,,UMOL/KG,,UMOL/KG,,UMOL/KG,,UMOL/KG,,UMOL/KG,,,,DEG C,UG/KG,,UG/KG,,,,
  49UF20180406,KS1804,  5309,  1,     99,     99,2,20180410,0222, 33.4945, 141.4955, 5606,      0.0,  18.3594,-999.0000,9,  34.8837,2,  34.8870,2,    235.9,2,    236.6,2,     2.34,2,     0.50,2,     0.12,2,     0.09,2,   2017.9,2,   2293.4,2,   8.0241,2,    25.00,     0.59,2,     0.16,2,-999.0000,9,      258
  49UF20180406,KS1804,  5309,  1,     36,  25270,2,20180410,0222, 33.4945, 141.4955, 5606,      8.6,  18.2965,  18.3018,2,  34.8833,2,  34.8843,2,    236.1,2,    236.6,2,     2.40,2,     0.50,2,     0.11,2,     0.08,2,   2015.7,2,   2292.2,2,   8.0247,2,    25.00,     0.59,2,     0.17,2,  18.3018,2,      328
  49UF20180406,KS1804,  5309,  1,     35,  25269,2,20180410,0222, 33.4945, 141.4955, 5606,     22.6,  18.2090,  18.2102,2,  34.8815,2,-999.0000,9,    236.0,2,    236.2,2,     2.41,2,     0.55,2,     0.10,2,     0.09,2,   2016.1,2,   2291.3,2,   8.0228,2,    25.00,     0.56,2,     0.21,2,  18.2102,2,      326
  49UF20180406,KS1804,  5309,  1,     34,  25268,3,20180410,0222, 33.4945, 141.4955, 5606,     48.5,  18.1526,  18.1526,2,  34.8795,2,  34.8787,2,    233.6,2,    233.7,2,     2.56,2,     0.78,2,     0.10,2,     0.10,2,   2018.6,2,   2291.8,2,   8.0194,2,    25.00,     0.51,2,     0.24,2,  18.1526,2,      322
  49UF20180406,KS1804,  5309,  1,     33,  25267,2,20180410,0222, 33.4945, 141.4955, 5606,     72.9,  18.1414,  18.1410,2,  34.8792,2,-999.0000,9,    233.0,2,    233.4,2,     2.56,2,     0.74,2,     0.11,2,     0.10,2,   2018.7,2,   2291.7,2,   8.0193,2,    25.00,     0.48,2,     0.22,2,  18.1410,2,      321
  49UF20180406,KS1804,  5309,  1,     32,  25266,2,20180410,0222, 33.4945, 141.4955, 5606,     98.6,  18.1298,  18.1294,2,  34.8781,2,  34.8788,2,    232.7,2,    233.1,2,     2.55,2,     0.76,2,     0.10,2,     0.10,2,   2020.9,2,   2291.7,2,   8.0168,2,    25.00,     0.37,2,     0.21,2,  18.1294,2,      319
  49UF20180406,KS1804,  5309,  1,     31,  25265,2,20180410,0222, 33.4945, 141.4955, 5606,    124.3,  17.9870,  17.9862,2,  34.8652,2,-999.0000,9,    225.9,2,    226.0,2,     3.01,2,     1.91,2,     0.09,2,     0.15,2,   2026.2,2,   2289.7,2,   8.0027,2,    25.00,     0.10,2,     0.08,2,  17.9862,2,      317
  49UF20180406,KS1804,  5309,  1,     27,  25261,2,20180410,0222, 33.4945, 141.4955, 5606,    149.4,  17.7022,  17.7022,2,  34.8463,2,  34.8463,6,    236.3,2,    236.5,2,     3.05,2,     0.85,2,     0.23,2,     0.12,2,   2025.0,6,   2289.7,6,   8.0072,2,    25.00,     0.08,2,     0.11,2,  17.7022,2,      316
  49UF20180406,KS1804,  5309,  1,     26,  25260,2,20180410,0222, 33.4945, 141.4955, 5606,    201.1,  17.5342,  17.5338,2,  34.8342,2,-999.0000,9,    229.0,2,    229.4,6,     3.27,6,     2.21,6,     0.11,6,     0.17,6,   2030.7,2,   2288.5,2,   7.9952,6,    25.00,     0.03,2,     0.05,2,  17.5338,2,      314
  49UF20180406,KS1804,  5309,  1,     24,  25258,2,20180410,0222, 33.4945, 141.4955, 5606,    252.1,  17.4332,  17.4289,2,  34.8226,2,  34.8223,2,    224.2,2,    224.8,2,     3.70,2,     2.99,2,     0.05,2,     0.22,2,   2031.3,2,   2287.6,2,   7.9843,3,    25.00,  -999.00,9,  -999.00,9,  17.4289,2,      312
  49UF20180406,KS1804,  5309,  1,     25,  25259,2,20180410,0222, 33.4945, 141.4955, 5606,    253.4,  17.4293,  17.4279,2,  34.8221,2,  34.8252,2,    224.1,2,    224.9,2,     3.72,2,     2.96,2,     0.05,2,     0.22,2,   2029.9,2,   2287.7,2,   7.9865,2,    25.00,  -999.00,9,  -999.00,9,  17.4279,2,      312
  49UF20180406,KS1804,  5309,  1,     23,  25257,2,20180410,0222, 33.4945, 141.4955, 5606,    301.9,  17.2798,  17.2806,2,  34.8120,2,-999.0000,9,    221.4,2,    221.9,2,     4.15,2,     3.53,2,     0.02,2,     0.25,2,   2037.0,2,   2286.3,2,   7.9766,2,    25.00,  -999.00,9,  -999.00,9,  17.2806,2,      310
  49UF20180406,KS1804,  5309,  1,     22,  25256,2,20180410,0222, 33.4945, 141.4955, 5606,    401.8,  15.4107,  15.4113,2,  34.6175,2,  34.6153,2,    190.4,2,    190.8,2,    10.83,2,     9.28,2,     0.01,2,     0.63,2,   2076.3,2,   2279.9,2,   7.8875,2,    25.00,  -999.00,9,  -999.00,9,  15.4113,2,      307
  49UF20180406,KS1804,  5309,  1,     18,  25252,2,20180410,0222, 33.4945, 141.4955, 5606,    506.6,  13.0478,  13.0541,2,  34.4578,2,  34.4687,4,    175.8,2,    177.3,2,    20.29,2,    14.12,2,     0.01,2,     0.99,2,   2111.5,2,   2278.9,2,   7.8114,2,    25.00,  -999.00,9,  -999.00,9,  13.0541,2,      304
  49UF20180406,KS1804,  5309,  1,     17,  25251,2,20180410,0222, 33.4945, 141.4955, 5606,    607.2,   9.9213,   9.9190,2,  34.2410,2,-999.0000,9,    160.1,2,    160.1,2,    35.12,2,    20.92,2,     0.00,2,     1.49,2,   2158.1,2,   2282.1,2,   7.6975,2,    25.00,  -999.00,9,  -999.00,9,   9.9190,2,      301
  49UF20180406,KS1804,  5309,  1,     16,  25250,2,20180410,0222, 33.4945, 141.4955, 5606,    707.9,   7.3842,   7.3873,2,  34.1291,2,  34.1290,2,    134.7,2,    134.5,2,    55.56,2,    27.79,2,     0.00,2,     2.00,2,   2212.8,2,   2291.9,2,   7.5871,2,    25.00,  -999.00,9,  -999.00,9,   7.3873,2,      258
  49UF20180406,KS1804,  5309,  1,     15,  25249,2,20180410,0222, 33.4945, 141.4955, 5606,    807.0,   5.5008,   5.5008,2,  34.0539,2,  34.0541,2,    107.9,2,    108.0,2,    74.40,2,    33.65,2,     0.00,2,     2.43,2,   2257.7,2,   2303.3,2,   7.4820,2,    25.00,  -999.00,9,  -999.00,9,   5.5008,2,      252
  49UF20180406,KS1804,  5309,  1,     14,  25248,2,20180410,0222, 33.4945, 141.4955, 5606,    907.0,   4.6647,   4.6642,2,  34.1501,2,  34.1481,2,     71.8,2,     72.0,2,    95.54,2,    38.18,2,     0.00,2,     2.74,2,   2305.3,2,   2325.0,2,   7.4118,2,    25.00,  -999.00,9,  -999.00,9,   4.6642,2,      250
  49UF20180406,KS1804,  5309,  1,     11,  25245,2,20180410,0222, 33.4945, 141.4955, 5606,   1011.0,   4.0795,   4.0795,2,  34.2424,2,  34.2409,2,     53.0,2,     52.9,2,   111.94,2,    40.39,2,     0.00,2,     2.90,2,   2329.1,2,   2343.2,2,   8.2943,4,    25.00,  -999.00,9,  -999.00,9,   4.0795,2,      247
  49UF20180406,KS1804,  5309,  1,     12,  25246,2,20180410,0222, 33.4945, 141.4955, 5606,   1011.9,   4.0755,   4.0757,2,  34.2430,2,-999.0000,9,     52.9,2,   -999.0,9,  -999.00,9,  -999.00,9,  -999.00,9,  -999.00,9,   -999.0,9,   -999.0,9,-999.0000,9,  -999.00,  -999.00,9,  -999.00,9,   4.0757,2,      247
  49UF20180406,KS1804,  5309,  1,      9,  25243,2,20180410,0222, 33.4945, 141.4955, 5606,   1213.8,   3.3039,   3.3034,2,  34.3732,2,  34.3719,6,     43.7,2,     43.4,2,   133.42,2,    41.97,2,     0.00,2,     3.01,2,   2353.5,6,   2369.5,6,   7.3751,2,    25.00,  -999.00,9,  -999.00,9,   3.3034,2,      242
  49UF20180406,KS1804,  5309,  1,      8,  25242,2,20180410,0222, 33.4945, 141.4955, 5606,   1416.0,   2.8540,   2.8538,2,  34.4446,2,  34.4425,2,     41.6,2,     41.6,6,   146.34,6,    42.72,6,     0.00,6,     3.05,6,   2373.8,2,   2385.4,2,   7.3733,6,    25.00,  -999.00,9,  -999.00,9,   2.8538,2,      238
  49UF20180406,KS1804,  5309,  1,      6,  25240,2,20180410,0222, 33.4945, 141.4955, 5606,   1620.0,   2.4989,   2.4988,2,  34.5032,2,  34.4988,4,     46.0,2,     45.9,2,   155.56,2,    42.69,2,     0.00,2,     3.04,2,   2378.8,2,   2396.7,2,   7.3842,2,    25.00,  -999.00,9,  -999.00,9,   2.4988,2,      233
  49UF20180406,KS1804,  5309,  1,      7,  25241,2,20180410,0222, 33.4945, 141.4955, 5606,   1620.3,   2.4983,   2.4986,2,  34.5035,2,  34.4993,4,     46.0,2,     45.6,2,   155.72,2,    42.76,2,     0.00,2,     3.04,2,   2379.1,2,   2397.6,2,   7.3853,2,    25.00,  -999.00,9,  -999.00,9,   2.4986,2,      234
  49UF20180406,KS1804,  5309,  1,      5,  25239,2,20180410,0222, 33.4945, 141.4955, 5606,   1824.8,   2.2393,   2.2391,2,  34.5508,2,  34.5452,4,     56.1,2,     56.0,2,   161.06,2,    42.34,2,     0.00,2,     3.00,2,   2379.6,2,   2403.5,2,   7.4056,2,    25.00,  -999.00,9,  -999.00,9,   2.2391,2,      227
  49UF20180406,KS1804,  5309,  1,      4,  25238,2,20180410,0222, 33.4945, 141.4955, 5606,   2022.8,   2.0734,   2.0733,2,  34.5825,2,  34.5786,4,     68.4,2,     68.7,2,   162.44,2,    41.72,2,     0.00,2,     2.94,2,   2370.6,2,   2409.9,2,   7.4324,2,    25.00,  -999.00,9,  -999.00,9,   2.0733,2,      223