BOTTLE,20200311PRINUNIVRMK
EXPOCODE,SECT_ID,STNNBR,CASTNO,SAMPNO,BTLNBR,BTLNBR_FLAG_W,DATE,TIME,LATITUDE,LONGITUDE,DEPTH,CTDPRS,CTDTMP,SBE35,SBE35_FLAG_W,CTDSAL,CTDSAL_FLAG_W,SALNTY,SALNTY_FLAG_W,CTDOXY,CTDOXY_FLAG_W,OXYGEN,OXYGEN_FLAG_W,SILCAT,SILCAT_FLAG_W,NITRAT,NITRAT_FLAG_W,NITRIT,NITRIT_FLAG_W,PHSPHT,PHSPHT_FLAG_W,TCARBN,TCARBN_FLAG_W,ALKALI,ALKALI_FLAG_W,PH_TOT,PH_TOT_FLAG_W,PH_TMP,CHLORA,CHLORA_FLAG_W,PPHYTN,PPHYTN_FLAG_W,SBE35,SBE35_FLAG_W,BTL_TIME
,,,,,,,,,,,METERS,DBAR,ITS-90,,,PSS-78,,PSS-78,,UMOL/KG,,UMOL/KG,,UMOL/KG,,UMOL/KG,,UMOL/KG,,UMOL/KG,,UMOL/KG,,UMOL/KG,,,,DEG C,UG/KG,,UG/KG,,,,
  49UF20180406,KS1804,  5318,  1,     99,     99,2,20180412,1240, 28.9933, 145.9863, 5940,      0.0,  20.4506,-999.0000,9,  34.9884,2,-999.0000,9,    229.0,2,    229.5,2,     1.89,2,    -0.01,2,     0.01,2,     0.02,2,   -999.0,9,   -999.0,9,-999.0000,9,  -999.00,     0.09,2,     0.02,2,-999.0000,9,     1324
  49UF20180406,KS1804,  5318,  1,     36,  25270,2,20180412,1240, 28.9933, 145.9863, 5940,     11.3,  20.4329,  20.4341,2,  34.9879,2,-999.0000,9,    229.1,2,    229.4,2,     1.86,2,     0.00,2,     0.00,2,     0.01,2,   -999.0,9,   -999.0,9,-999.0000,9,  -999.00,     0.09,2,     0.02,2,  20.4341,2,     1342
  49UF20180406,KS1804,  5318,  1,     35,  25269,2,20180412,1240, 28.9933, 145.9863, 5940,     26.9,  20.0983,  20.0982,2,  34.9876,2,-999.0000,9,    230.0,2,    230.2,2,     1.91,2,     0.00,2,     0.00,2,     0.02,2,   -999.0,9,   -999.0,9,-999.0000,9,  -999.00,     0.09,2,     0.03,2,  20.0982,2,     1341
  49UF20180406,KS1804,  5318,  1,     34,  25268,3,20180412,1240, 28.9933, 145.9863, 5940,     51.2,  19.7669,  19.7666,2,  34.9634,2,-999.0000,9,    231.2,2,    231.5,2,     1.91,2,     0.00,2,     0.00,2,     0.02,2,   -999.0,9,   -999.0,9,-999.0000,9,  -999.00,     0.13,2,     0.05,2,  19.7666,2,     1337
  49UF20180406,KS1804,  5318,  1,     30,  25264,2,20180412,1240, 28.9933, 145.9863, 5940,     75.8,  19.3462,  19.3493,2,  34.9491,2,-999.0000,9,    232.5,2,    232.8,2,     1.95,2,     0.00,2,     0.00,2,     0.02,2,   -999.0,9,   -999.0,9,-999.0000,9,  -999.00,     0.19,2,     0.10,2,  19.3493,2,     1336
  49UF20180406,KS1804,  5318,  1,     29,  25263,2,20180412,1240, 28.9933, 145.9863, 5940,    101.8,  18.9559,  18.9529,2,  34.9028,2,-999.0000,9,    225.7,2,    225.9,2,     2.09,2,     0.73,2,     0.16,2,     0.09,2,   -999.0,9,   -999.0,9,-999.0000,9,  -999.00,     0.23,2,     0.17,2,  18.9529,2,     1335
  49UF20180406,KS1804,  5318,  1,     28,  25262,2,20180412,1240, 28.9933, 145.9863, 5940,    126.4,  18.5327,  18.5362,2,  34.8820,2,-999.0000,9,    222.5,2,    222.6,6,     2.54,6,     1.52,6,     0.08,6,     0.13,6,   -999.0,9,   -999.0,9,-999.0000,9,  -999.00,     0.08,2,     0.06,2,  18.5362,2,     1334
  49UF20180406,KS1804,  5318,  1,     27,  25261,2,20180412,1240, 28.9933, 145.9863, 5940,    151.2,  18.2747,  18.2754,2,  34.8738,2,-999.0000,9,    223.7,2,    223.0,2,     2.88,2,     1.95,2,     0.02,2,     0.16,2,   -999.0,9,   -999.0,9,-999.0000,9,  -999.00,  -999.00,9,  -999.00,9,  18.2754,2,     1333
  49UF20180406,KS1804,  5318,  1,     26,  25260,2,20180412,1240, 28.9933, 145.9863, 5940,    151.5,  18.2673,  18.2676,2,  34.8731,2,-999.0000,9,    223.5,2,    222.5,2,     2.93,2,     2.02,2,     0.03,2,     0.16,2,   -999.0,9,   -999.0,9,-999.0000,9,  -999.00,     0.02,2,     0.04,2,  18.2676,2,     1332
  49UF20180406,KS1804,  5318,  1,     25,  25259,2,20180412,1240, 28.9933, 145.9863, 5940,    200.8,  17.6788,  17.6797,2,  34.8289,2,-999.0000,9,    214.0,2,    213.9,2,     3.52,2,     3.35,2,     0.01,2,     0.24,2,   -999.0,9,   -999.0,9,-999.0000,9,  -999.00,     0.01,2,     0.02,2,  17.6797,2,     1331
  49UF20180406,KS1804,  5318,  1,     21,  25255,2,20180412,1240, 28.9933, 145.9863, 5940,    251.8,  17.1565,  17.1608,2,  34.7887,2,-999.0000,9,    209.4,2,    209.4,2,     4.32,2,     4.60,2,     0.01,2,     0.31,2,   -999.0,9,   -999.0,9,-999.0000,9,  -999.00,  -999.00,9,  -999.00,9,  17.1608,2,     1329
  49UF20180406,KS1804,  5318,  1,     20,  24270,2,20180412,1240, 28.9933, 145.9863, 5940,    303.5,  16.5810,  16.5841,2,  34.7504,2,-999.0000,9,    211.7,2,    211.6,2,     5.23,2,     5.24,2,     0.01,2,     0.36,2,   -999.0,9,   -999.0,9,-999.0000,9,  -999.00,  -999.00,9,  -999.00,9,  16.5841,2,     1327
  49UF20180406,KS1804,  5318,  1,     19,  25253,2,20180412,1240, 28.9933, 145.9863, 5940,    402.6,  14.8046,  14.7883,2,  34.5603,2,-999.0000,9,    196.5,2,    196.3,2,    10.38,2,     9.41,2,     0.00,2,     0.65,2,   -999.0,9,   -999.0,9,-999.0000,9,  -999.00,  -999.00,9,  -999.00,9,  14.7883,2,     1325
  49UF20180406,KS1804,  5318,  1,     18,  25252,2,20180412,1240, 28.9933, 145.9863, 5940,    504.8,  11.9513,  11.9502,2,  34.3425,2,-999.0000,9,    196.3,2,    195.7,2,    18.86,2,    13.98,2,     0.00,2,     0.99,2,   -999.0,9,   -999.0,9,-999.0000,9,  -999.00,  -999.00,9,  -999.00,9,  11.9502,2,     1322
  49UF20180406,KS1804,  5318,  1,     17,  25251,2,20180412,1240, 28.9933, 145.9863, 5940,    604.6,   8.9322,   8.9327,2,  34.1406,2,-999.0000,9,    167.3,2,    166.2,2,    37.09,2,    21.91,2,     0.00,2,     1.57,2,   -999.0,9,   -999.0,9,-999.0000,9,  -999.00,  -999.00,9,  -999.00,9,   8.9327,2,     1320
  49UF20180406,KS1804,  5318,  1,     16,  25250,2,20180412,1240, 28.9933, 145.9863, 5940,    707.1,   6.5438,   6.5443,2,  34.0689,2,-999.0000,9,    126.2,2,    125.1,2,    60.72,2,    30.11,2,     0.00,2,     2.18,2,   -999.0,9,   -999.0,9,-999.0000,9,  -999.00,  -999.00,9,  -999.00,9,   6.5443,2,     1317
  49UF20180406,KS1804,  5318,  1,     12,  25246,2,20180412,1240, 28.9933, 145.9863, 5940,    807.0,   5.1274,   5.1281,2,  34.1039,2,-999.0000,9,     88.5,2,     88.0,2,    83.46,2,    35.93,2,     0.00,2,     2.59,2,   -999.0,9,   -999.0,9,-999.0000,9,  -999.00,  -999.00,9,  -999.00,9,   5.1281,2,     1314
  49UF20180406,KS1804,  5318,  1,     11,  25245,2,20180412,1240, 28.9933, 145.9863, 5940,    907.2,   4.3724,   4.3727,2,  34.1992,2,-999.0000,9,     59.9,2,     59.5,2,   102.71,2,    39.47,2,     0.00,2,     2.83,2,   -999.0,9,   -999.0,9,-999.0000,9,  -999.00,  -999.00,9,  -999.00,9,   4.3727,2,     1312
  49UF20180406,KS1804,  5318,  1,     10,  25244,2,20180412,1240, 28.9933, 145.9863, 5940,   1008.0,   3.8983,   3.8989,2,  34.2764,2,-999.0000,9,     47.1,2,     46.9,6,   115.95,6,    41.10,6,     0.00,6,     2.95,6,   -999.0,9,   -999.0,9,-999.0000,9,  -999.00,  -999.00,9,  -999.00,9,   3.8989,2,     1309
  49UF20180406,KS1804,  5318,  1,      9,  25243,2,20180412,1240, 28.9933, 145.9863, 5940,   1211.2,   3.2375,   3.2375,2,  34.3992,2,-999.0000,9,     39.1,2,     39.2,2,   134.58,2,    42.67,2,     0.00,2,     3.04,2,   -999.0,9,   -999.0,9,-999.0000,9,  -999.00,  -999.00,9,  -999.00,9,   3.2375,2,     1305
  49UF20180406,KS1804,  5318,  1,      8,  25242,2,20180412,1240, 28.9933, 145.9863, 5940,   1211.3,   3.2375,   3.2373,2,  34.3991,2,-999.0000,9,     39.1,2,     38.9,2,   134.36,2,    42.56,2,     0.00,2,     3.04,2,   -999.0,9,   -999.0,9,-999.0000,9,  -999.00,  -999.00,9,  -999.00,9,   3.2373,2,     1304
  49UF20180406,KS1804,  5318,  1,      7,  25241,2,20180412,1240, 28.9933, 145.9863, 5940,   1415.2,   2.7459,   2.7448,2,  34.4846,2,-999.0000,9,     45.5,2,     45.3,2,   147.08,2,    42.66,2,     0.00,2,     3.03,2,   -999.0,9,   -999.0,9,-999.0000,9,  -999.00,  -999.00,9,  -999.00,9,   2.7448,2,     1300
  49UF20180406,KS1804,  5318,  1,      3,  24271,2,20180412,1240, 28.9933, 145.9863, 5940,   1619.6,   2.4238,   2.4238,2,  34.5370,2,-999.0000,9,     56.4,2,     56.3,2,   153.71,2,    42.23,2,     0.00,2,     2.99,2,   -999.0,9,   -999.0,9,-999.0000,9,  -999.00,  -999.00,9,  -999.00,9,   2.4238,2,     1255
  49UF20180406,KS1804,  5318,  1,      2,  25236,2,20180412,1240, 28.9933, 145.9863, 5940,   1822.5,   2.1348,   2.1347,2,  34.5833,2,-999.0000,9,     73.6,2,     73.8,2,   156.85,2,    41.18,2,     0.00,2,     2.90,2,   -999.0,9,   -999.0,9,-999.0000,9,  -999.00,  -999.00,9,  -999.00,9,   2.1347,2,     1250
  49UF20180406,KS1804,  5318,  1,      1,  25235,2,20180412,1240, 28.9933, 145.9863, 5940,   2023.9,   1.9634,   1.9633,2,  34.6125,2,-999.0000,9,     89.0,2,     89.1,2,   156.78,2,    40.27,2,     0.00,2,     2.83,2,   -999.0,9,   -999.0,9,-999.0000,9,  -999.00,  -999.00,9,  -999.00,9,   1.9633,2,     1242
  49UF20180406,KS1804,  5320,  1,     99,     99,2,20180413,0012, 28.0290, 146.9753, 5778,      0.0,  21.1355,-999.0000,9,  35.0346,2,  35.0368,2,    226.3,2,    225.4,2,     1.80,2,     0.00,2,     0.00,2,     0.03,2,   2006.8,2,   2302.0,2,   8.0483,2,    25.00,     0.11,2,     0.03,2,-999.0000,9,      209
  49UF20180406,KS1804,  5320,  1,     36,  25270,2,20180413,0012, 28.0290, 146.9753, 5778,     11.0,  20.6326,  20.6394,2,  35.0259,2,  35.0213,2,    228.2,2,    227.8,2,     1.87,2,     0.00,2,     0.00,2,     0.01,2,   2007.9,2,   2300.2,2,   8.0473,2,    25.00,     0.11,2,     0.03,2,  20.6394,2,      233
  49UF20180406,KS1804,  5320,  1,     35,  25269,2,20180413,0012, 28.0290, 146.9753, 5778,     26.2,  19.8398,  19.8405,2,  34.9660,2,-999.0000,9,    231.7,2,    230.5,2,     2.00,2,     0.00,2,     0.00,2,     0.01,2,   2012.4,2,   2297.2,2,   8.0370,2,    25.00,     0.11,2,     0.04,2,  19.8405,2,      232
  49UF20180406,KS1804,  5320,  1,     34,  25268,3,20180413,0012, 28.0290, 146.9753, 5778,     50.4,  19.7183,  19.7180,2,  34.9615,2,  34.9589,2,    231.1,2,    230.0,2,     2.01,2,     0.00,2,     0.00,2,     0.02,2,   2011.5,2,   2297.6,2,   8.0367,2,    25.00,     0.15,2,     0.08,2,  19.7180,2,      228
  49UF20180406,KS1804,  5320,  1,     33,  25267,2,20180413,0012, 28.0290, 146.9753, 5778,     76.1,  19.1687,  19.1665,2,  34.8954,2,  34.8968,2,    228.6,2,    227.2,2,     2.25,2,     0.03,2,     0.09,2,     0.05,2,   2013.4,2,   2293.1,2,   8.0257,2,    25.00,     0.28,2,     0.30,2,  19.1665,2,      227
  49UF20180406,KS1804,  5320,  1,     32,  25266,2,20180413,0012, 28.0290, 146.9753, 5778,    101.8,  18.7351,  18.7361,2,  34.8730,2,-999.0000,9,    227.8,2,    225.9,2,     2.44,2,     0.62,2,     0.14,2,     0.09,2,   2017.5,2,   2291.8,2,   8.0153,2,    25.00,     0.13,2,     0.17,2,  18.7361,2,      225
  49UF20180406,KS1804,  5320,  1,     31,  25265,2,20180413,0012, 28.0290, 146.9753, 5778,    126.9,  18.4168,  18.4163,2,  34.8592,2,  34.8593,2,    224.7,2,    223.4,2,     2.63,2,     1.31,2,     0.07,2,     0.12,2,   2022.8,2,   2290.0,2,   8.0086,2,    25.00,     0.06,2,     0.07,2,  18.4163,2,      224
  49UF20180406,KS1804,  5320,  1,     30,  25264,2,20180413,0012, 28.0290, 146.9753, 5778,    151.6,  18.2043,  18.2044,2,  34.8469,2,  34.8491,2,    222.3,2,    221.3,2,     2.80,2,     1.89,2,     0.01,2,     0.15,2,   2026.0,2,   2288.9,2,   8.0004,2,    25.00,     0.04,2,     0.04,2,  18.2044,2,      223
  49UF20180406,KS1804,  5320,  1,     29,  25263,2,20180413,0012, 28.0290, 146.9753, 5778,    203.1,  17.8214,  17.8218,2,  34.8303,2,  34.8291,6,    215.9,2,    213.3,2,     3.45,2,     3.19,2,     0.01,2,     0.22,2,   2037.4,2,   2287.3,2,   7.9783,2,    25.00,     0.01,2,     0.03,2,  17.8218,2,      221
  49UF20180406,KS1804,  5320,  1,     28,  25262,2,20180413,0012, 28.0290, 146.9753, 5778,    252.7,  17.5365,  17.5375,2,  34.8153,2,-999.0000,9,    218.1,2,    216.4,2,     3.79,2,     3.48,2,     0.01,2,     0.24,2,   2041.0,2,   2287.0,2,   7.9756,2,    25.00,  -999.00,9,  -999.00,9,  17.5375,2,      220
  49UF20180406,KS1804,  5320,  1,     27,  25261,2,20180413,0012, 28.0290, 146.9753, 5778,    303.2,  16.8630,  16.8632,2,  34.7629,2,  34.7614,2,    209.7,2,    208.7,6,     4.95,6,     5.13,6,     0.01,6,     0.35,6,   2050.9,2,   2283.1,2,   7.9461,2,    25.00,  -999.00,9,  -999.00,9,  16.8632,2,      218
  49UF20180406,KS1804,  5320,  1,     26,  25260,2,20180413,0012, 28.0290, 146.9753, 5778,    404.6,  15.3861,  15.3856,2,  34.6121,2,  34.6147,2,    193.7,2,    193.6,2,     9.54,2,     8.80,2,     0.00,2,     0.59,2,   2074.7,2,   2278.8,2,   7.8931,2,    25.00,  -999.00,9,  -999.00,9,  15.3856,2,      215
  49UF20180406,KS1804,  5320,  1,     25,  25259,2,20180413,0012, 28.0290, 146.9753, 5778,    504.6,  11.6606,  11.6603,2,  34.3221,2,  34.3241,2,    184.6,2,    183.4,2,    21.78,2,    15.64,2,     0.00,2,     1.09,2,   2119.7,6,   2274.2,6,   7.7800,2,    25.00,  -999.00,9,  -999.00,9,  11.6603,2,      212
  49UF20180406,KS1804,  5320,  1,     24,  25258,2,20180413,0012, 28.0290, 146.9753, 5778,    605.3,   8.5957,   8.5956,2,  34.0813,2,-999.0000,9,    181.0,2,    180.0,2,    35.13,2,    21.15,2,     0.00,2,     1.52,2,   2162.6,2,   2275.5,2,   7.6811,6,    25.00,  -999.00,9,  -999.00,9,   8.5956,2,      210
  49UF20180406,KS1804,  5320,  1,     23,  25257,2,20180413,0012, 28.0290, 146.9753, 5778,    707.9,   6.4662,   6.4700,2,  34.0617,2,  34.0619,2,    120.6,2,    119.8,2,    60.22,2,    30.74,2,     0.00,2,     2.21,2,   2232.0,2,   2293.9,2,   7.5276,2,    25.00,  -999.00,9,  -999.00,9,   6.4700,2,      207
  49UF20180406,KS1804,  5320,  1,     22,  25256,2,20180413,0012, 28.0290, 146.9753, 5778,    808.4,   5.1546,   5.1547,2,  34.0843,2,-999.0000,9,     91.0,2,     90.7,6,    81.48,6,    35.67,6,     0.00,6,     2.57,6,   2276.3,2,   2311.3,2,   7.4479,2,    25.00,  -999.00,9,  -999.00,9,   5.1547,2,      204
  49UF20180406,KS1804,  5320,  1,     21,  25255,2,20180413,0012, 28.0290, 146.9753, 5778,    908.8,   4.3912,   4.3914,2,  34.1836,2,-999.0000,9,     59.3,2,     58.7,2,   101.32,2,    39.55,2,     0.00,2,     2.83,2,   2315.2,2,   2332.9,2,   7.3928,2,    25.00,  -999.00,9,  -999.00,9,   4.3914,2,      201
  49UF20180406,KS1804,  5320,  1,     20,  24270,3,20180413,0012, 28.0290, 146.9753, 5778,   1011.8,   3.9431,   3.9431,2,  34.2630,2,  34.2645,2,     44.9,2,     44.5,2,   114.42,2,    41.29,2,     0.00,2,     2.95,2,   2336.0,2,   2348.8,2,   7.3700,2,    25.00,  -999.00,9,  -999.00,9,   3.9431,2,      158
  49UF20180406,KS1804,  5320,  1,     19,  25253,2,20180413,0012, 28.0290, 146.9753, 5778,   1215.0,   3.1802,   3.1802,2,  34.4023,2,  34.4008,2,     37.3,2,     37.3,2,   136.29,2,    42.83,2,     0.00,2,     3.05,2,   2358.8,2,   2375.9,2,   7.3687,2,    25.00,  -999.00,9,  -999.00,9,   3.1802,2,      154
  49UF20180406,KS1804,  5320,  1,     18,  25252,2,20180413,0012, 28.0290, 146.9753, 5778,   1414.1,   2.7131,   2.7131,2,  34.4818,2,-999.0000,9,     44.9,2,     44.2,2,   148.20,2,    42.75,2,     0.00,2,     3.03,2,   2375.8,2,   2391.5,2,   7.3840,2,    25.00,  -999.00,9,  -999.00,9,   2.7131,2,      149
  49UF20180406,KS1804,  5320,  1,     17,  25251,2,20180413,0012, 28.0290, 146.9753, 5778,   1619.0,   2.3554,   2.3558,2,  34.5408,2,  34.5398,2,     61.0,2,     60.3,2,   154.74,2,    41.90,2,     0.00,2,     2.96,2,   2373.6,2,   2402.7,2,   7.4168,2,    25.00,  -999.00,9,  -999.00,9,   2.3558,2,      145
  49UF20180406,KS1804,  5320,  1,     16,  25250,2,20180413,0012, 28.0290, 146.9753, 5778,   1818.5,   2.1460,   2.1461,2,  34.5766,2,-999.0000,9,     78.3,2,     78.0,6,   154.91,6,    40.86,6,     0.00,6,     2.88,6,   2356.8,2,   2407.1,2,   7.4520,2,    25.00,  -999.00,9,  -999.00,9,   2.1461,2,      141
  49UF20180406,KS1804,  5320,  1,     15,  25249,2,20180413,0012, 28.0290, 146.9753, 5778,   2021.7,   1.9685,   1.9683,2,  34.6027,2,  34.6023,2,     91.9,2,     91.7,2,   155.67,2,    40.01,2,     0.00,2,     2.81,2,   2355.0,2,   2411.2,2,   7.4791,2,    25.00,  -999.00,9,  -999.00,9,   1.9683,2,      136
  49UF20180406,KS1804,  5320,  1,     14,  25248,2,20180413,0012, 28.0290, 146.9753, 5778,   2277.7,   1.8063,   1.8064,2,  34.6274,2,  34.6288,2,    107.3,2,    106.9,2,   154.37,2,    39.03,2,     0.00,2,     2.73,2,   2349.7,6,   2414.3,6,   7.5080,2,    25.00,  -999.00,9,  -999.00,9,   1.8064,2,      131
  49UF20180406,KS1804,  5320,  1,     13,  25247,2,20180413,0012, 28.0290, 146.9753, 5778,   2532.4,   1.7096,   1.7096,2,  34.6419,2,  34.6407,2,    116.2,2,    115.6,2,   154.66,2,    38.51,2,     0.00,2,     2.69,2,   2350.3,2,   2415.8,2,   7.5241,6,    25.00,  -999.00,9,  -999.00,9,   1.7096,2,      126
  49UF20180406,KS1804,  5320,  1,     12,  25246,2,20180413,0012, 28.0290, 146.9753, 5778,   2787.0,   1.6317,   1.6317,2,  34.6537,2,  34.6536,2,    124.4,2,    124.0,2,   154.21,2,    37.99,2,     0.00,2,     2.65,2,   2347.1,2,   2416.3,2,   7.5400,2,    25.00,  -999.00,9,  -999.00,9,   1.6317,2,      121
  49UF20180406,KS1804,  5320,  1,     11,  25245,2,20180413,0012, 28.0290, 146.9753, 5778,   3042.2,   1.5695,   1.5695,2,  34.6632,2,  34.6629,2,    131.6,2,    131.3,2,   153.70,2,    37.56,2,     0.00,2,     2.61,2,   2339.6,2,   2416.9,2,   7.5518,2,    25.00,  -999.00,9,  -999.00,9,   1.5695,2,      115
  49UF20180406,KS1804,  5320,  1,     10,  25244,2,20180413,0012, 28.0290, 146.9753, 5778,   3300.0,   1.5372,   1.5372,2,  34.6693,2,  34.6695,2,    136.7,2,    136.4,2,   153.16,2,    37.22,2,     0.00,2,     2.59,2,   2336.0,2,   2416.9,2,   7.5599,2,    25.00,  -999.00,9,  -999.00,9,   1.5372,2,      110
  49UF20180406,KS1804,  5320,  1,      9,  25243,2,20180413,0012, 28.0290, 146.9753, 5778,   3553.6,   1.5014,   1.5013,2,  34.6758,2,  34.6750,2,    142.9,2,    142.8,2,   151.95,2,    36.83,2,     0.00,2,     2.56,2,   2333.9,2,   2417.3,2,   7.5712,2,    25.00,  -999.00,9,  -999.00,9,   1.5013,2,      104
  49UF20180406,KS1804,  5320,  1,      8,  25242,2,20180413,0012, 28.0290, 146.9753, 5778,   3810.5,   1.4930,   1.4931,2,  34.6793,2,  34.6783,2,    146.7,2,    146.6,2,   151.04,2,    36.60,2,     0.00,2,     2.54,2,   2328.9,2,   2416.4,2,   7.5775,2,    25.00,  -999.00,9,  -999.00,9,   1.4931,2,       58
  49UF20180406,KS1804,  5320,  1,      7,  25241,2,20180413,0012, 28.0290, 146.9753, 5778,   4067.6,   1.4786,   1.4786,2,  34.6834,2,  34.6828,2,    151.5,2,    151.2,2,   149.77,2,    36.23,2,     0.00,2,     2.51,2,   2325.4,2,   2415.4,2,   7.5816,2,    25.00,  -999.00,9,  -999.00,9,   1.4786,2,       53
  49UF20180406,KS1804,  5320,  1,      6,  25240,2,20180413,0012, 28.0290, 146.9753, 5778,   4578.8,   1.4866,   1.4867,2,  34.6883,2,  34.6877,2,    157.9,2,    157.5,2,   147.20,2,    35.79,2,     0.00,2,     2.48,2,   2319.9,2,   2414.1,2,   7.5933,2,    25.00,  -999.00,9,  -999.00,9,   1.4867,2,       43
  49UF20180406,KS1804,  5320,  1,      5,  25239,2,20180413,0012, 28.0290, 146.9753, 5778,   4837.8,   1.5009,   1.5009,2,  34.6901,2,  34.6884,2,    160.2,2,    158.6,3,   146.41,6,    35.69,6,     0.00,6,     2.47,6,   2321.5,2,   2413.5,2,   7.5959,2,    25.00,  -999.00,9,  -999.00,9,   1.5009,2,       37
  49UF20180406,KS1804,  5320,  1,      4,  25238,2,20180413,0012, 28.0290, 146.9753, 5778,   5094.6,   1.5186,   1.5186,2,  34.6917,2,  34.6914,6,    162.4,2,    162.0,2,   144.69,2,    35.47,2,     0.00,2,     2.45,2,   2316.6,6,   2412.5,6,   7.6030,2,    25.00,  -999.00,9,  -999.00,9,   1.5186,2,       31
  49UF20180406,KS1804,  5320,  1,      3,  24271,2,20180413,0012, 28.0290, 146.9753, 5778,   5352.1,   1.5435,   1.5435,2,  34.6928,2,  34.6916,2,    163.7,2,    163.4,2,   143.56,2,    35.39,2,     0.00,2,     2.45,2,   2311.4,2,   2411.2,2,   7.6032,6,    25.00,  -999.00,9,  -999.00,9,   1.5435,2,       25
  49UF20180406,KS1804,  5320,  1,      2,  25236,2,20180413,0012, 28.0290, 146.9753, 5778,   5610.1,   1.5707,   1.5709,2,  34.6937,2,  34.6921,2,    165.1,2,    165.0,2,   142.31,2,    35.27,2,     0.00,2,     2.43,2,   2314.9,2,   2409.9,2,   7.6022,2,    25.00,  -999.00,9,  -999.00,9,   1.5709,2,       19
  49UF20180406,KS1804,  5320,  1,      1,  24272,2,20180413,0012, 28.0290, 146.9753, 5778,   5891.3,   1.6000,   1.6000,2,  34.6951,2,  34.6932,4,    166.8,2,    166.7,2,   141.50,2,    35.15,2,     0.00,2,     2.43,2,   2310.6,2,   2410.3,2,   7.6048,2,    25.00,  -999.00,9,  -999.00,9,   1.6000,2,       13