BOTTLE,20200311PRINUNIVRMK
EXPOCODE,SECT_ID,STNNBR,CASTNO,SAMPNO,BTLNBR,BTLNBR_FLAG_W,DATE,TIME,LATITUDE,LONGITUDE,DEPTH,CTDPRS,CTDTMP,SBE35,SBE35_FLAG_W,CTDSAL,CTDSAL_FLAG_W,SALNTY,SALNTY_FLAG_W,CTDOXY,CTDOXY_FLAG_W,OXYGEN,OXYGEN_FLAG_W,SILCAT,SILCAT_FLAG_W,NITRAT,NITRAT_FLAG_W,NITRIT,NITRIT_FLAG_W,PHSPHT,PHSPHT_FLAG_W,TCARBN,TCARBN_FLAG_W,ALKALI,ALKALI_FLAG_W,PH_TOT,PH_TOT_FLAG_W,PH_TMP,CHLORA,CHLORA_FLAG_W,PPHYTN,PPHYTN_FLAG_W,SBE35,SBE35_FLAG_W,BTL_TIME
,,,,,,,,,,,METERS,DBAR,ITS-90,,,PSS-78,,PSS-78,,UMOL/KG,,UMOL/KG,,UMOL/KG,,UMOL/KG,,UMOL/KG,,UMOL/KG,,UMOL/KG,,UMOL/KG,,,,DEG C,UG/KG,,UG/KG,,,,
  49UF20180406,KS1804,  5351,  1,     99,     99,2,20180421,0643, 41.6733, 146.4570, 6466,      0.0,   5.5240,-999.0000,9,  33.2571,2,  33.3502,2,    379.9,2,    362.1,2,     1.09,2,     2.81,2,     0.14,2,     0.37,2,   2042.0,2,   2261.0,2,   7.9314,2,    25.00,    10.63,2,     2.03,2,-999.0000,9,      857
  49UF20180406,KS1804,  5351,  1,     36,  25270,3,20180421,0643, 41.6733, 146.4570, 6466,      9.8,   5.4856,   5.4820,2,  33.2470,2,-999.0000,9,    382.0,2,    381.1,2,     0.81,2,     1.62,2,     0.11,2,     0.30,2,   2025.9,2,   2258.8,2,   7.9569,2,    25.00,    12.40,2,     2.48,2,   5.4820,2,      917
  49UF20180406,KS1804,  5351,  1,     35,  25269,3,20180421,0643, 41.6733, 146.4570, 6466,     25.0,   4.7711,   4.7840,2,  33.2578,2,  33.3218,4,    340.4,2,    338.4,2,     3.25,2,     5.76,2,     0.17,2,     0.65,2,   2075.9,2,   2258.6,2,   7.8519,2,    25.00,     8.88,2,     1.28,2,   4.7840,2,      915
  49UF20180406,KS1804,  5351,  1,     34,  25268,2,20180421,0643, 41.6733, 146.4570, 6466,     50.3,   5.1436,   5.1429,2,  33.3997,2,-999.0000,9,    319.4,2,    319.2,2,     6.22,2,     7.56,2,     0.17,2,     0.80,2,   2089.5,2,   2259.0,2,   7.8150,2,    25.00,     3.41,2,     0.94,2,   5.1429,2,      913
  49UF20180406,KS1804,  5351,  1,     33,  25267,3,20180421,0643, 41.6733, 146.4570, 6466,     74.8,   5.3045,   5.3132,2,  33.5249,2,-999.0000,9,    299.0,2,    300.2,2,    16.44,2,    11.67,2,     0.21,2,     1.01,2,   2113.8,2,   2258.0,2,   7.7664,2,    25.00,     1.20,2,     0.55,2,   5.3132,2,      911
  49UF20180406,KS1804,  5351,  1,     32,  25266,2,20180421,0643, 41.6733, 146.4570, 6466,    100.5,   3.9480,   3.9343,2,  33.3938,2,  33.3926,2,    300.1,2,    301.8,2,    30.27,2,    17.17,2,     0.25,2,     1.39,2,   2138.4,2,   2253.9,2,   7.6940,2,    25.00,     0.24,2,     0.26,2,   3.9343,2,      906
  49UF20180406,KS1804,  5351,  1,     31,  25265,2,20180421,0643, 41.6733, 146.4570, 6466,    125.2,   4.2472,   4.2462,2,  33.4586,2,-999.0000,9,    292.9,2,    294.0,2,    31.10,2,    17.51,2,     0.13,2,     1.38,2,   2138.1,2,   2256.0,2,   7.6933,2,    25.00,     0.25,2,     0.28,2,   4.2462,2,      905
  49UF20180406,KS1804,  5351,  1,     30,  25264,2,20180421,0643, 41.6733, 146.4570, 6466,    151.4,   4.5951,   4.5928,2,  33.5372,2,-999.0000,9,    286.2,2,    286.7,2,    29.62,2,    16.67,2,     0.04,2,     1.30,2,   2134.9,2,   2258.2,2,   7.7054,2,    25.00,     0.14,2,     0.18,2,   4.5928,2,      903
  49UF20180406,KS1804,  5351,  1,     29,  25263,3,20180421,0643, 41.6733, 146.4570, 6466,    199.7,   5.9433,   5.9380,2,  33.7751,2,  33.7654,4,    271.1,2,    271.5,2,    23.76,2,    13.72,2,     0.08,2,     1.05,2,   2125.9,2,   2266.8,2,   7.7496,2,    25.00,     0.09,2,     0.16,2,   5.9380,2,      901
  49UF20180406,KS1804,  5351,  1,     28,  25262,2,20180421,0643, 41.6733, 146.4570, 6466,    255.3,   4.4940,   4.4930,2,  33.7169,2,-999.0000,9,    173.2,2,    173.7,2,    59.71,2,    29.25,2,     0.01,2,     2.17,2,   2220.2,2,   2278.5,2,   7.5238,2,    25.00,  -999.00,9,  -999.00,9,   4.4930,2,      859
  49UF20180406,KS1804,  5351,  1,     27,  25261,2,20180421,0643, 41.6733, 146.4570, 6466,    301.4,   4.6518,   4.6523,2,  33.8148,2,-999.0000,9,    144.7,2,    145.4,2,    67.04,2,    31.71,2,     0.00,2,     2.32,2,   2240.1,2,   2285.0,2,   7.4855,2,    25.00,  -999.00,9,  -999.00,9,   4.6523,2,      857
  49UF20180406,KS1804,  5351,  1,     26,  25260,2,20180421,0643, 41.6733, 146.4570, 6466,    402.9,   4.8272,   4.8274,2,  34.0402,2,  34.0403,2,     91.6,2,     92.3,2,    83.91,2,    36.09,2,     0.00,2,     2.59,2,   2278.5,2,   2309.9,2,   7.4293,2,    25.00,  -999.00,9,  -999.00,9,   4.8274,2,      854
  49UF20180406,KS1804,  5351,  1,     25,  25259,2,20180421,0643, 41.6733, 146.4570, 6466,    504.9,   4.5546,   4.5543,2,  34.1494,2,-999.0000,9,     69.1,2,     69.9,2,    97.08,2,    38.36,2,     0.00,2,     2.74,2,   2306.8,6,   2326.8,6,   7.3948,2,    25.00,  -999.00,9,  -999.00,9,   4.5543,2,      851
  49UF20180406,KS1804,  5351,  1,     24,  25258,2,20180421,0643, 41.6733, 146.4570, 6466,    605.5,   4.1928,   4.1881,2,  34.2203,2,  34.2213,2,     57.1,2,     57.7,2,   107.61,2,    39.71,2,     0.00,2,     2.83,2,   2323.4,2,   2339.8,2,   7.3828,6,    25.00,  -999.00,9,  -999.00,9,   4.1881,2,      848
  49UF20180406,KS1804,  5351,  1,     23,  25257,3,20180421,0643, 41.6733, 146.4570, 6466,    707.4,   3.8188,   3.8185,2,  34.2766,2,-999.0000,9,     48.3,2,     48.7,6,   118.23,6,    40.94,6,     0.00,6,     2.92,6,   2339.8,2,   2350.1,2,   7.3689,2,    25.00,  -999.00,9,  -999.00,9,   3.8185,2,      845
  49UF20180406,KS1804,  5351,  1,     22,  25256,2,20180421,0643, 41.6733, 146.4570, 6466,    806.0,   3.5118,   3.5117,2,  34.3291,2,  34.3305,6,     44.5,2,     44.7,2,   126.95,2,    41.59,2,     0.00,2,     2.96,2,   2352.6,2,   2359.8,2,   7.3683,2,    25.00,  -999.00,9,  -999.00,9,   3.5117,2,      843
  49UF20180406,KS1804,  5351,  1,     21,  25255,2,20180421,0643, 41.6733, 146.4570, 6466,    910.3,   3.2062,   3.2073,2,  34.3776,2,  34.3767,2,     42.7,2,     43.1,2,   135.13,2,    42.11,2,     0.00,2,     3.00,2,   2357.4,2,   2372.4,2,   7.3705,2,    25.00,  -999.00,9,  -999.00,9,   3.2073,2,      840
  49UF20180406,KS1804,  5351,  1,     20,  24270,2,20180421,0643, 41.6733, 146.4570, 6466,   1010.2,   2.9118,   2.9114,2,  34.3990,2,  34.3990,2,     36.7,2,     36.6,2,   144.65,2,    42.77,2,     0.00,2,     3.05,2,   2375.3,2,   2377.8,2,   7.3524,2,    25.00,  -999.00,9,  -999.00,9,   2.9114,2,      837
  49UF20180406,KS1804,  5351,  1,     19,  25253,3,20180421,0643, 41.6733, 146.4570, 6466,   1212.5,   2.6575,   2.6574,2,  34.4609,2,  34.4608,2,     40.5,2,     40.4,2,   151.21,2,    42.87,2,     0.00,2,     3.05,2,   2381.3,2,   2388.4,2,   7.3699,2,    25.00,  -999.00,9,  -999.00,9,   2.6574,2,      832
  49UF20180406,KS1804,  5351,  1,     18,  25252,2,20180421,0643, 41.6733, 146.4570, 6466,   1414.3,   2.4353,   2.4350,2,  34.5026,2,  34.5044,2,     45.5,2,     45.5,6,   156.82,6,    42.74,6,     0.00,6,     3.03,6,   2384.0,2,   2398.0,2,   7.3783,2,    25.00,  -999.00,9,  -999.00,9,   2.4350,2,      827
  49UF20180406,KS1804,  5351,  1,     17,  25251,2,20180421,0643, 41.6733, 146.4570, 6466,   1616.5,   2.2767,   2.2763,2,  34.5333,2,  34.5332,2,     51.9,2,     51.8,2,   160.13,2,    42.50,2,     0.00,2,     2.99,2,   2382.3,2,   2402.5,2,   7.3939,2,    25.00,  -999.00,9,  -999.00,9,   2.2763,2,      822
  49UF20180406,KS1804,  5351,  1,     16,  25250,2,20180421,0643, 41.6733, 146.4570, 6466,   1822.2,   2.1126,   2.1124,2,  34.5648,2,  34.5667,2,     62.7,2,     62.4,2,   162.48,2,    41.90,2,     0.00,2,     2.95,2,   2382.2,6,   2407.3,6,   7.4194,2,    25.00,  -999.00,9,  -999.00,9,   2.1124,2,      817
  49UF20180406,KS1804,  5351,  1,     15,  25249,2,20180421,0643, 41.6733, 146.4570, 6466,   2025.1,   1.9384,   1.9383,2,  34.5959,2,  34.5966,2,     77.0,2,     77.4,2,   164.00,2,    41.03,2,     0.00,2,     2.88,2,   2375.1,2,   2412.4,2,   7.4474,6,    25.00,  -999.00,9,  -999.00,9,   1.9383,2,      812
  49UF20180406,KS1804,  5351,  1,     14,  25248,3,20180421,0643, 41.6733, 146.4570, 6466,   2280.4,   1.7887,   1.7879,2,  34.6222,2,  34.6236,2,     93.5,2,     94.3,2,   162.48,2,    39.94,2,     0.00,2,     2.80,2,   2366.1,2,   2413.5,2,   7.4788,2,    25.00,  -999.00,9,  -999.00,9,   1.7879,2,      807
  49UF20180406,KS1804,  5351,  1,     13,  25247,2,20180421,0643, 41.6733, 146.4570, 6466,   2535.3,   1.6780,   1.6780,2,  34.6409,2,  34.6415,6,    108.5,2,    109.1,2,   160.90,2,    39.02,2,     0.00,2,     2.73,2,   2356.9,2,   2415.6,2,   7.5070,2,    25.00,  -999.00,9,  -999.00,9,   1.6780,2,      801
  49UF20180406,KS1804,  5351,  1,     12,  25246,3,20180421,0643, 41.6733, 146.4570, 6466,   2787.6,   1.6025,   1.6025,2,  34.6536,2,  34.6539,2,    119.6,2,    119.7,6,   158.97,2,    38.28,2,     0.00,2,     2.67,2,   2347.9,2,   2416.0,2,   7.5288,2,    25.00,  -999.00,9,  -999.00,9,   1.6025,2,      755
  49UF20180406,KS1804,  5351,  1,     11,  25245,2,20180421,0643, 41.6733, 146.4570, 6466,   3045.1,   1.5606,   1.5607,2,  34.6614,2,  34.6619,2,    127.0,2,    127.1,2,   157.78,6,    37.78,6,     0.00,6,     2.65,6,   2347.5,2,   2417.7,2,   7.5424,2,    25.00,  -999.00,9,  -999.00,9,   1.5607,2,      750
  49UF20180406,KS1804,  5351,  1,     10,  25244,2,20180421,0643, 41.6733, 146.4570, 6466,   3556.6,   1.5127,   1.5125,2,  34.6724,2,  34.6732,2,    139.4,2,    140.2,2,   154.42,2,    37.02,2,     0.00,2,     2.57,2,   2338.1,2,   2415.5,2,   7.5668,2,    25.00,  -999.00,9,  -999.00,9,   1.5125,2,      740
  49UF20180406,KS1804,  5351,  1,      9,  25243,3,20180421,0643, 41.6733, 146.4570, 6466,   3814.2,   1.4838,   1.4838,2,  34.6780,2,  34.6783,2,    145.7,2,    145.4,2,   152.68,2,    36.61,2,     0.00,2,     2.54,2,   2334.5,2,   2414.9,2,   7.5750,2,    25.00,  -999.00,9,  -999.00,9,   1.4838,2,      734
  49UF20180406,KS1804,  5351,  1,      8,  25242,2,20180421,0643, 41.6733, 146.4570, 6466,   4069.5,   1.4685,   1.4684,2,  34.6821,2,  34.6837,2,    151.0,2,    151.4,2,   150.97,2,    36.28,2,     0.00,2,     2.50,2,   2328.0,2,   2413.3,2,   7.5824,2,    25.00,  -999.00,9,  -999.00,9,   1.4684,2,      729
  49UF20180406,KS1804,  5351,  1,      7,  25241,2,20180421,0643, 41.6733, 146.4570, 6466,   4584.6,   1.4889,   1.4888,2,  34.6855,2,  34.6892,4,    155.9,2,    155.8,2,   150.03,2,    35.97,2,     0.00,2,     2.49,2,   2325.9,2,   2413.7,2,   7.5914,2,    25.00,  -999.00,9,  -999.00,9,   1.4888,2,      718
  49UF20180406,KS1804,  5351,  1,      6,  25240,2,20180421,0643, 41.6733, 146.4570, 6466,   4840.7,   1.5095,   1.5094,2,  34.6864,2,  34.6915,4,    157.8,2,    157.8,2,   148.32,2,    35.81,2,     0.00,2,     2.47,2,   2324.5,2,   2411.7,2,   7.5925,2,    25.00,  -999.00,9,  -999.00,9,   1.5094,2,      713
  49UF20180406,KS1804,  5351,  1,      5,  25239,3,20180421,0643, 41.6733, 146.4570, 6466,   5098.1,   1.5347,   1.5346,2,  34.6869,2,  34.6907,4,    158.9,2,    158.9,2,   148.05,2,    35.72,2,     0.00,2,     2.46,2,   2324.7,6,   2411.3,6,   7.5953,2,    25.00,  -999.00,9,  -999.00,9,   1.5346,2,      707
  49UF20180406,KS1804,  5351,  1,      4,  25238,2,20180421,0643, 41.6733, 146.4570, 6466,   5356.7,   1.5609,   1.5608,2,  34.6875,2,  34.6925,4,    159.7,2,    159.9,2,   147.94,2,    35.63,2,     0.00,2,     2.46,2,   2324.2,2,   2411.7,2,   7.5970,6,    25.00,  -999.00,9,  -999.00,9,   1.5608,2,      701
  49UF20180406,KS1804,  5351,  1,      3,  24271,2,20180421,0643, 41.6733, 146.4570, 6466,   5615.3,   1.5883,   1.5882,2,  34.6879,2,  34.6909,4,    160.7,2,    160.9,6,   147.36,6,    35.60,6,     0.00,6,     2.46,6,   2318.3,2,   2412.0,2,   7.5956,2,    25.00,  -999.00,9,  -999.00,9,   1.5882,2,      656
  49UF20180406,KS1804,  5351,  1,      2,  25236,2,20180421,0643, 41.6733, 146.4570, 6466,   5872.5,   1.6187,   1.6187,2,  34.6883,2,  34.6905,4,    161.2,2,    161.8,2,   147.22,2,    35.54,2,     0.00,2,     2.46,2,   2318.9,2,   2411.2,2,   7.5994,2,    25.00,  -999.00,9,  -999.00,9,   1.6187,2,      650
  49UF20180406,KS1804,  5351,  1,      1,  24272,2,20180421,0643, 41.6733, 146.4570, 6466,   6137.1,   1.6490,   1.6488,2,  34.6888,2,  34.6914,4,    162.3,2,    162.8,2,   145.80,2,    35.51,2,     0.00,2,     2.45,2,   2317.2,2,   2410.2,2,   7.5993,2,    25.00,  -999.00,9,  -999.00,9,   1.6488,2,      644
  49UF20180406,KS1804,  5355,  1,     99,     99,2,20180421,2341, 42.6598, 145.7328, 2434,      0.0,   4.1399,-999.0000,9,  33.1377,2,-999.0000,9,    360.6,2,    359.3,2,     4.36,2,    10.32,2,     0.22,2,     0.85,2,   -999.0,9,   -999.0,9,-999.0000,9,  -999.00,     4.52,2,     0.63,2,-999.0000,9,       15
  49UF20180406,KS1804,  5355,  1,     33,  25267,2,20180421,2341, 42.6598, 145.7328, 2434,     10.1,   4.1339,   4.1333,2,  33.1375,2,  33.1401,2,    360.8,2,    362.6,2,     5.17,2,    10.70,2,     0.22,2,     0.92,2,   -999.0,9,   -999.0,9,-999.0000,9,  -999.00,     4.18,2,     0.89,2,   4.1333,2,       39
  49UF20180406,KS1804,  5355,  1,     32,  25266,2,20180421,2341, 42.6598, 145.7328, 2434,     26.1,   4.0498,   4.0502,2,  33.1416,2,-999.0000,9,    358.4,2,    360.8,2,     5.04,2,    10.89,2,     0.22,2,     0.91,2,   -999.0,9,   -999.0,9,-999.0000,9,  -999.00,     7.32,2,     1.15,2,   4.0502,2,       38
  49UF20180406,KS1804,  5355,  1,     31,  25265,2,20180421,2341, 42.6598, 145.7328, 2434,     50.7,   3.5514,   3.5535,2,  33.1794,2,  33.1719,2,    334.8,2,    338.9,6,    15.01,6,    14.15,6,     0.24,6,     1.26,6,   -999.0,9,   -999.0,9,-999.0000,9,  -999.00,     5.40,2,     1.15,2,   3.5535,2,       36
  49UF20180406,KS1804,  5355,  1,     30,  25264,2,20180421,2341, 42.6598, 145.7328, 2434,     75.8,   2.0709,   2.0657,2,  33.1765,2,  33.2268,4,    319.5,2,    317.6,2,    38.26,2,    21.31,2,     0.32,2,     1.73,2,   -999.0,9,   -999.0,9,-999.0000,9,  -999.00,  -999.00,9,  -999.00,9,   2.0657,2,       35
  49UF20180406,KS1804,  5355,  1,     29,  25263,2,20180421,2341, 42.6598, 145.7328, 2434,     75.8,   2.1115,   2.0942,2,  33.1821,2,  33.2496,4,    319.2,2,    315.8,2,    37.58,2,    20.94,2,     0.31,2,     1.72,2,   -999.0,9,   -999.0,9,-999.0000,9,  -999.00,     0.62,2,     0.47,2,   2.0942,2,       35
  49UF20180406,KS1804,  5355,  1,     28,  25262,2,20180421,2341, 42.6598, 145.7328, 2434,    101.0,   3.3184,   3.3181,2,  33.3547,2,-999.0000,9,    303.0,2,    305.6,2,    35.38,2,    19.84,2,     0.24,2,     1.59,2,   -999.0,9,   -999.0,9,-999.0000,9,  -999.00,     0.18,2,     0.35,2,   3.3181,2,       31
  49UF20180406,KS1804,  5355,  1,     24,  25258,2,20180421,2341, 42.6598, 145.7328, 2434,    126.3,   2.9755,   2.9758,2,  33.3333,2,  33.3357,2,    299.1,2,    301.7,2,    37.79,2,    20.80,2,     0.09,2,     1.65,2,   -999.0,9,   -999.0,9,-999.0000,9,  -999.00,     0.12,4,     0.31,4,   2.9758,2,       30
  49UF20180406,KS1804,  5355,  1,     23,  25257,2,20180421,2341, 42.6598, 145.7328, 2434,    153.2,   2.3941,   2.3970,2,  33.3087,2,-999.0000,9,    277.1,2,    279.9,2,    45.26,2,    23.37,2,     0.02,2,     1.84,2,   -999.0,9,   -999.0,9,-999.0000,9,  -999.00,     0.06,2,     0.17,2,   2.3970,2,       29
  49UF20180406,KS1804,  5355,  1,     22,  25256,2,20180421,2341, 42.6598, 145.7328, 2434,    202.5,   2.3639,   2.3626,2,  33.4078,2,  33.4072,2,    217.9,2,    218.2,2,    61.03,2,    29.59,2,     0.01,2,     2.26,2,   -999.0,9,   -999.0,9,-999.0000,9,  -999.00,     0.05,2,     0.19,2,   2.3626,2,       27
  49UF20180406,KS1804,  5355,  1,     21,  25255,2,20180421,2341, 42.6598, 145.7328, 2434,    252.1,   3.3525,   3.3517,2,  33.6389,2,-999.0000,9,    154.4,2,    154.8,2,    72.37,2,    33.30,2,     0.00,2,     2.48,2,   -999.0,9,   -999.0,9,-999.0000,9,  -999.00,  -999.00,9,  -999.00,9,   3.3517,2,       25
  49UF20180406,KS1804,  5355,  1,     20,  24270,2,20180421,2341, 42.6598, 145.7328, 2434,    303.5,   3.5314,   3.5311,2,  33.7625,2,  33.7647,2,    108.9,2,    109.2,2,    83.02,2,    37.17,2,     0.00,2,     2.71,2,   -999.0,9,   -999.0,9,-999.0000,9,  -999.00,  -999.00,9,  -999.00,9,   3.5311,2,       23
  49UF20180406,KS1804,  5355,  1,     19,  25253,2,20180421,2341, 42.6598, 145.7328, 2434,    403.4,   3.7736,   3.7734,2,  33.9725,2,  33.9737,2,     64.0,2,     64.8,2,    99.07,2,    40.13,2,     0.00,2,     2.90,2,   -999.0,9,   -999.0,9,-999.0000,9,  -999.00,  -999.00,9,  -999.00,9,   3.7734,2,       21
  49UF20180406,KS1804,  5355,  1,     15,  25249,2,20180421,2341, 42.6598, 145.7328, 2434,    505.8,   3.8035,   3.8033,2,  34.1264,2,  34.1279,6,     47.1,2,     47.7,2,   111.03,2,    41.38,2,     0.00,2,     2.96,2,   -999.0,9,   -999.0,9,-999.0000,9,  -999.00,  -999.00,9,  -999.00,9,   3.8033,2,       18
  49UF20180406,KS1804,  5355,  1,     14,  25248,2,20180421,2341, 42.6598, 145.7328, 2434,    606.8,   3.2407,   3.2337,2,  34.1472,2,-999.0000,9,     34.9,2,     35.3,2,   124.93,2,    42.88,2,     0.00,2,     3.06,2,   -999.0,9,   -999.0,9,-999.0000,9,  -999.00,  -999.00,9,  -999.00,9,   3.2337,2,       15
  49UF20180406,KS1804,  5355,  1,     13,  25247,2,20180421,2341, 42.6598, 145.7328, 2434,    706.4,   3.4439,   3.4442,2,  34.2672,2,  34.2677,2,     36.9,2,     37.0,6,   127.66,6,    42.16,6,     0.00,6,     3.02,6,   -999.0,9,   -999.0,9,-999.0000,9,  -999.00,  -999.00,9,  -999.00,9,   3.4442,2,       12
  49UF20180406,KS1804,  5355,  1,     11,  25245,2,20180421,2341, 42.6598, 145.7328, 2434,    808.4,   3.3048,   3.3046,2,  34.3263,2,  34.3263,2,     37.9,2,     37.6,2,   132.78,2,    42.22,2,     0.00,2,     3.02,2,   -999.0,9,   -999.0,9,-999.0000,9,  -999.00,  -999.00,9,  -999.00,9,   3.3046,2,       10
  49UF20180406,KS1804,  5355,  1,     12,  25246,2,20180421,2341, 42.6598, 145.7328, 2434,    808.9,   3.3048,   3.3047,2,  34.3264,2,  34.3278,2,     37.9,2,     38.0,2,   132.58,2,    42.26,2,     0.00,2,     3.02,2,   -999.0,9,   -999.0,9,-999.0000,9,  -999.00,  -999.00,9,  -999.00,9,   3.3047,2,       10
  49UF20180406,KS1804,  5355,  1,     10,  25244,2,20180421,2341, 42.6598, 145.7328, 2434,    909.7,   3.1002,   3.1021,2,  34.3589,2,-999.0000,9,     36.2,2,     36.0,2,   138.90,2,    42.55,2,     0.00,2,     3.04,2,   -999.0,9,   -999.0,9,-999.0000,9,  -999.00,  -999.00,9,  -999.00,9,   3.1021,2,        7
  49UF20180406,KS1804,  5355,  1,      6,  25240,2,20180421,2341, 42.6598, 145.7328, 2434,   1010.9,   2.8652,   2.8654,2,  34.3931,2,  34.3931,2,     34.3,2,     33.9,2,   145.95,2,    42.89,2,     0.00,2,     3.06,2,   -999.0,9,   -999.0,9,-999.0000,9,  -999.00,  -999.00,9,  -999.00,9,   2.8654,2,        4
  49UF20180406,KS1804,  5355,  1,      5,  25239,2,20180421,2341, 42.6598, 145.7328, 2434,   1214.4,   2.5937,   2.5934,2,  34.4529,2,  34.4536,2,     37.8,2,     37.4,2,   154.06,2,    42.90,2,     0.00,2,     3.06,2,   -999.0,9,   -999.0,9,-999.0000,9,  -999.00,  -999.00,9,  -999.00,9,   2.5934,2,        0
  49UF20180406,KS1804,  5355,  1,      4,  25238,2,20180421,2341, 42.6598, 145.7328, 2434,   1418.2,   2.3861,   2.3859,2,  34.5033,2,  34.5060,2,     44.5,2,     44.5,2,   159.81,2,    42.52,2,     0.00,2,     3.03,2,   -999.0,9,   -999.0,9,-999.0000,9,  -999.00,  -999.00,9,  -999.00,9,   2.3859,2,     2355
  49UF20180406,KS1804,  5355,  1,      3,  24271,2,20180421,2341, 42.6598, 145.7328, 2434,   1619.5,   2.2598,   2.2595,2,  34.5335,2,  34.5341,6,     51.7,2,     51.5,2,   161.85,2,    42.34,2,     0.00,2,     3.00,2,   -999.0,9,   -999.0,9,-999.0000,9,  -999.00,  -999.00,9,  -999.00,9,   2.2595,2,     2351
  49UF20180406,KS1804,  5355,  1,      2,  25236,2,20180421,2341, 42.6598, 145.7328, 2434,   1822.1,   2.0962,   2.0959,2,  34.5632,2,  34.5659,2,     60.6,2,     60.9,2,   164.58,2,    41.87,2,     0.00,2,     2.96,2,   -999.0,9,   -999.0,9,-999.0000,9,  -999.00,  -999.00,9,  -999.00,9,   2.0959,2,     2347
  49UF20180406,KS1804,  5355,  1,      1,  24272,2,20180421,2341, 42.6598, 145.7328, 2434,   2026.7,   1.9636,   1.9633,2,  34.5924,2,  34.5950,2,     74.7,2,     75.5,2,   164.13,2,    40.99,2,     0.00,2,     2.89,2,   -999.0,9,   -999.0,9,-999.0000,9,  -999.00,  -999.00,9,  -999.00,9,   1.9633,2,     2342