BOTTLE,20200311PRINUNIVRMK
EXPOCODE,SECT_ID,STNNBR,CASTNO,SAMPNO,BTLNBR,BTLNBR_FLAG_W,DATE,TIME,LATITUDE,LONGITUDE,DEPTH,CTDPRS,CTDTMP,SBE35,SBE35_FLAG_W,CTDSAL,CTDSAL_FLAG_W,SALNTY,SALNTY_FLAG_W,CTDOXY,CTDOXY_FLAG_W,OXYGEN,OXYGEN_FLAG_W,SILCAT,SILCAT_FLAG_W,NITRAT,NITRAT_FLAG_W,NITRIT,NITRIT_FLAG_W,PHSPHT,PHSPHT_FLAG_W,TCARBN,TCARBN_FLAG_W,ALKALI,ALKALI_FLAG_W,PH_TOT,PH_TOT_FLAG_W,PH_TMP,CHLORA,CHLORA_FLAG_W,PPHYTN,PPHYTN_FLAG_W,SBE35,SBE35_FLAG_W,BTL_TIME
,,,,,,,,,,,METERS,DBAR,ITS-90,,,PSS-78,,PSS-78,,UMOL/KG,,UMOL/KG,,UMOL/KG,,UMOL/KG,,UMOL/KG,,UMOL/KG,,UMOL/KG,,UMOL/KG,,,,DEG C,UG/KG,,UG/KG,,,,
  49UF20180406,KS1804,  5326,  1,     99,     99,2,20180414,0805, 30.9957, 147.6905, 6076,      0.0,  18.7210,-999.0000,9,  34.8831,2,-999.0000,9,    238.3,2,    238.4,2,     2.55,2,     0.10,2,     0.00,2,     0.06,2,   -999.0,9,   -999.0,9,-999.0000,9,  -999.00,     0.15,2,     0.07,2,-999.0000,9,      850
  49UF20180406,KS1804,  5326,  1,     36,  25270,2,20180414,0805, 30.9957, 147.6905, 6076,      9.8,  18.7286,  18.7284,2,  34.8859,2,-999.0000,9,    238.4,2,    237.9,2,     2.56,2,     0.08,2,     0.00,2,     0.03,2,   -999.0,9,   -999.0,9,-999.0000,9,  -999.00,     0.15,2,     0.07,2,  18.7284,2,      910
  49UF20180406,KS1804,  5326,  1,     35,  25269,2,20180414,0805, 30.9957, 147.6905, 6076,     24.6,  18.7174,  18.7191,2,  34.8835,2,-999.0000,9,    238.4,2,    238.3,2,     2.56,2,     0.09,2,     0.00,2,     0.04,2,   -999.0,9,   -999.0,9,-999.0000,9,  -999.00,     0.15,2,     0.09,2,  18.7191,2,      908
  49UF20180406,KS1804,  5326,  1,     34,  25268,2,20180414,0805, 30.9957, 147.6905, 6076,     49.0,  17.7279,  17.7297,2,  34.8356,2,-999.0000,9,    233.9,2,    233.6,2,     3.04,2,     1.39,2,     0.20,2,     0.12,2,   -999.0,9,   -999.0,9,-999.0000,9,  -999.00,     0.46,2,     0.37,2,  17.7297,2,      903
  49UF20180406,KS1804,  5326,  1,     33,  25267,2,20180414,0805, 30.9957, 147.6905, 6076,     73.9,  17.5176,  17.5171,2,  34.8281,2,-999.0000,9,    233.3,2,    233.2,6,     3.15,6,     1.80,6,     0.41,6,     0.16,6,   -999.0,9,   -999.0,9,-999.0000,9,  -999.00,     0.33,2,     0.33,2,  17.5171,2,      902
  49UF20180406,KS1804,  5326,  1,     32,  25266,2,20180414,0805, 30.9957, 147.6905, 6076,    101.7,  17.4588,  17.4589,2,  34.8304,2,-999.0000,9,    231.9,2,    231.8,2,     3.11,2,     2.33,2,     0.13,2,     0.17,2,   -999.0,9,   -999.0,9,-999.0000,9,  -999.00,  -999.00,9,  -999.00,9,  17.4589,2,      901
  49UF20180406,KS1804,  5326,  1,     31,  25265,2,20180414,0805, 30.9957, 147.6905, 6076,    102.4,  17.4605,  17.4595,2,  34.8303,2,-999.0000,9,    231.8,2,    231.5,2,     3.10,2,     2.32,2,     0.12,2,     0.16,2,   -999.0,9,   -999.0,9,-999.0000,9,  -999.00,     0.20,2,     0.13,2,  17.4595,2,      900
  49UF20180406,KS1804,  5326,  1,     27,  25261,2,20180414,0805, 30.9957, 147.6905, 6076,    127.1,  17.4471,  17.4477,2,  34.8304,2,-999.0000,9,    231.9,2,    231.6,2,     3.14,2,     2.34,2,     0.05,2,     0.17,2,   -999.0,9,   -999.0,9,-999.0000,9,  -999.00,     0.06,2,     0.06,2,  17.4477,2,      859
  49UF20180406,KS1804,  5326,  1,     26,  25260,2,20180414,0805, 30.9957, 147.6905, 6076,    151.9,  17.4278,  17.4277,2,  34.8287,2,-999.0000,9,    230.7,2,    231.1,2,     3.25,2,     2.49,2,     0.02,2,     0.18,2,   -999.0,9,   -999.0,9,-999.0000,9,  -999.00,     0.03,2,     0.05,2,  17.4277,2,      858
  49UF20180406,KS1804,  5326,  1,     25,  25259,2,20180414,0805, 30.9957, 147.6905, 6076,    203.1,  17.3210,  17.3211,2,  34.8181,2,-999.0000,9,    224.5,2,    224.9,2,     3.73,2,     3.21,2,     0.02,2,     0.22,2,   -999.0,9,   -999.0,9,-999.0000,9,  -999.00,     0.01,2,     0.03,2,  17.3211,2,      856
  49UF20180406,KS1804,  5326,  1,     24,  25258,2,20180414,0805, 30.9957, 147.6905, 6076,    252.4,  16.5056,  16.5041,2,  34.7255,2,-999.0000,9,    202.3,2,    203.1,2,     6.50,2,     6.45,2,     0.02,2,     0.43,2,   -999.0,9,   -999.0,9,-999.0000,9,  -999.00,  -999.00,9,  -999.00,9,  16.5041,2,      854
  49UF20180406,KS1804,  5326,  1,     23,  25257,2,20180414,0805, 30.9957, 147.6905, 6076,    303.1,  15.6500,  15.6461,2,  34.6385,2,-999.0000,9,    194.2,2,    194.8,2,     8.97,2,     8.49,2,     0.01,2,     0.57,2,   -999.0,9,   -999.0,9,-999.0000,9,  -999.00,  -999.00,9,  -999.00,9,  15.6461,2,      852
  49UF20180406,KS1804,  5326,  1,     22,  25256,2,20180414,0805, 30.9957, 147.6905, 6076,    403.5,  13.3133,  13.3147,2,  34.4553,2,-999.0000,9,    179.9,2,    179.6,2,    17.63,2,    13.55,2,     0.01,2,     0.93,2,   -999.0,9,   -999.0,9,-999.0000,9,  -999.00,  -999.00,9,  -999.00,9,  13.3147,2,      849
  49UF20180406,KS1804,  5326,  1,     18,  25252,2,20180414,0805, 30.9957, 147.6905, 6076,    503.8,  10.7535,  10.7528,2,  34.2759,2,-999.0000,9,    174.6,2,    174.3,2,    27.92,2,    18.19,2,     0.01,2,     1.28,2,   -999.0,9,   -999.0,9,-999.0000,9,  -999.00,  -999.00,9,  -999.00,9,  10.7528,2,      846
  49UF20180406,KS1804,  5326,  1,     17,  25251,2,20180414,0805, 30.9957, 147.6905, 6076,    604.6,   7.7616,   7.7590,2,  34.0736,2,-999.0000,9,    155.9,2,    155.6,2,    45.25,2,    25.16,2,     0.01,2,     1.81,2,   -999.0,9,   -999.0,9,-999.0000,9,  -999.00,  -999.00,9,  -999.00,9,   7.7590,2,      843
  49UF20180406,KS1804,  5326,  1,     16,  25250,2,20180414,0805, 30.9957, 147.6905, 6076,    706.7,   5.8682,   5.8696,2,  34.0434,2,-999.0000,9,    119.7,2,    119.5,2,    67.67,2,    31.90,2,     0.00,2,     2.30,2,   -999.0,9,   -999.0,9,-999.0000,9,  -999.00,  -999.00,9,  -999.00,9,   5.8696,2,      840
  49UF20180406,KS1804,  5326,  1,     15,  25249,2,20180414,0805, 30.9957, 147.6905, 6076,    807.2,   4.9873,   4.9871,2,  34.1129,2,-999.0000,9,     85.1,2,     85.3,6,    86.63,6,    36.43,6,     0.01,6,     2.62,6,   -999.0,9,   -999.0,9,-999.0000,9,  -999.00,  -999.00,9,  -999.00,9,   4.9871,2,      837
  49UF20180406,KS1804,  5326,  1,     13,  25247,2,20180414,0805, 30.9957, 147.6905, 6076,    908.6,   4.3515,   4.3515,2,  34.2044,2,-999.0000,9,     61.0,2,     61.4,2,   103.98,2,    39.32,2,     0.00,2,     2.82,2,   -999.0,9,   -999.0,9,-999.0000,9,  -999.00,  -999.00,9,  -999.00,9,   4.3515,2,      834
  49UF20180406,KS1804,  5326,  1,     14,  25248,2,20180414,0805, 30.9957, 147.6905, 6076,    909.2,   4.3525,   4.3522,2,  34.2040,2,-999.0000,9,     61.1,2,     61.2,2,   103.88,2,    39.34,2,     0.00,2,     2.82,2,   -999.0,9,   -999.0,9,-999.0000,9,  -999.00,  -999.00,9,  -999.00,9,   4.3522,2,      834
  49UF20180406,KS1804,  5326,  1,      9,  25243,2,20180414,0805, 30.9957, 147.6905, 6076,   1009.3,   3.8303,   3.8304,2,  34.2788,2,-999.0000,9,     45.6,2,     45.8,2,   117.98,2,    41.18,2,     0.00,2,     2.96,2,   -999.0,9,   -999.0,9,-999.0000,9,  -999.00,  -999.00,9,  -999.00,9,   3.8304,2,      831
  49UF20180406,KS1804,  5326,  1,      8,  25242,2,20180414,0805, 30.9957, 147.6905, 6076,   1210.9,   3.1427,   3.1429,2,  34.3910,2,-999.0000,9,     39.6,2,     40.9,3,   137.23,2,    42.45,2,     0.00,2,     3.04,2,   -999.0,9,   -999.0,9,-999.0000,9,  -999.00,  -999.00,9,  -999.00,9,   3.1429,2,      826
  49UF20180406,KS1804,  5326,  1,      7,  25241,2,20180414,0805, 30.9957, 147.6905, 6076,   1413.2,   2.6822,   2.6823,2,  34.4689,2,-999.0000,9,     39.5,2,     39.7,2,   150.51,2,    42.99,2,     0.00,2,     3.06,2,   -999.0,9,   -999.0,9,-999.0000,9,  -999.00,  -999.00,9,  -999.00,9,   2.6823,2,      821
  49UF20180406,KS1804,  5326,  1,      6,  25240,2,20180414,0805, 30.9957, 147.6905, 6076,   1616.2,   2.3634,   2.3635,2,  34.5271,2,-999.0000,9,     48.2,2,     48.7,2,   158.43,2,    42.71,2,     0.00,2,     3.02,2,   -999.0,9,   -999.0,9,-999.0000,9,  -999.00,  -999.00,9,  -999.00,9,   2.3635,2,      817
  49UF20180406,KS1804,  5326,  1,      5,  25239,2,20180414,0805, 30.9957, 147.6905, 6076,   1820.3,   2.1468,   2.1470,2,  34.5690,2,-999.0000,9,     61.7,2,     61.9,2,   161.33,2,    41.96,2,     0.00,2,     2.96,2,   -999.0,9,   -999.0,9,-999.0000,9,  -999.00,  -999.00,9,  -999.00,9,   2.1470,2,      812
  49UF20180406,KS1804,  5326,  1,      4,  25238,2,20180414,0805, 30.9957, 147.6905, 6076,   2023.3,   1.9763,   1.9764,2,  34.5987,2,-999.0000,9,     75.2,2,     76.0,2,   162.89,2,    41.14,2,     0.00,2,     2.89,2,   -999.0,9,   -999.0,9,-999.0000,9,  -999.00,  -999.00,9,  -999.00,9,   1.9764,2,      807
  49UF20180406,KS1804,  5328,  1,     99,     99,2,20180414,1642, 32.0105, 147.9215, 5707,      0.0,  18.7170,-999.0000,9,  34.9154,2,  34.9184,2,    234.7,2,    234.8,2,     2.23,2,     0.05,2,     0.01,2,     0.06,2,   2017.0,2,   2294.0,2,   8.0222,2,    25.00,     0.23,2,     0.14,2,-999.0000,9,     1718
  49UF20180406,KS1804,  5328,  1,     36,  25270,2,20180414,1642, 32.0105, 147.9215, 5707,      9.3,  18.7219,  18.7218,2,  34.9149,2,  34.9150,2,    234.6,2,    234.3,2,     2.23,2,     0.07,2,     0.01,2,     0.04,2,   2011.3,2,   2295.9,2,   8.0228,2,    25.00,     0.23,2,     0.12,2,  18.7218,2,     1748
  49UF20180406,KS1804,  5328,  1,     35,  25269,3,20180414,1642, 32.0105, 147.9215, 5707,     25.3,  18.7214,  18.7212,2,  34.9154,2,-999.0000,9,    234.7,2,    234.4,2,     2.23,2,     0.08,2,     0.01,2,     0.04,2,   2011.0,2,   2294.3,2,   8.0245,2,    25.00,     0.24,2,     0.12,2,  18.7212,2,     1747
  49UF20180406,KS1804,  5328,  1,     34,  25268,2,20180414,1642, 32.0105, 147.9215, 5707,     49.4,  18.6848,  18.6857,2,  34.9075,2,-999.0000,9,    233.9,2,    233.6,6,     2.26,6,     0.13,6,     0.03,6,     0.05,6,   2014.3,2,   2294.9,2,   8.0240,2,    25.00,     0.35,2,     0.22,2,  18.6857,2,     1746
  49UF20180406,KS1804,  5328,  1,     32,  25266,2,20180414,1642, 32.0105, 147.9215, 5707,     74.2,  18.1729,  18.1719,2,  34.8597,2,  34.8600,2,    227.3,2,    227.4,2,     2.59,2,     1.23,2,     0.18,2,     0.11,2,   2022.1,2,   2290.9,2,   8.0064,2,    25.00,     0.24,2,     0.12,2,  18.1719,2,     1744
  49UF20180406,KS1804,  5328,  1,     33,  25267,2,20180414,1642, 32.0105, 147.9215, 5707,     74.3,  18.1653,  18.1668,2,  34.8591,2,  34.8601,2,    227.1,2,    227.3,2,     2.60,2,     1.25,2,     0.18,2,     0.11,2,   2020.4,2,   2289.3,2,   8.0058,2,    25.00,  -999.00,9,  -999.00,9,  18.1668,2,     1744
  49UF20180406,KS1804,  5328,  1,     31,  25265,2,20180414,1642, 32.0105, 147.9215, 5707,    103.5,  17.8976,  17.8971,2,  34.8426,2,  34.8438,2,    233.2,2,    232.0,2,     2.73,2,     0.92,2,     0.30,2,     0.11,2,   2016.8,2,   2289.8,2,   8.0058,2,    25.00,     0.11,2,     0.08,2,  17.8971,2,     1740
  49UF20180406,KS1804,  5328,  1,     27,  25261,2,20180414,1642, 32.0105, 147.9215, 5707,    126.1,  17.8227,  17.8219,2,  34.8352,2,  34.8347,2,    233.4,2,    233.1,2,     2.76,2,     0.92,2,     0.28,2,     0.11,2,   2022.9,2,   2289.2,2,   8.0037,2,    25.00,     0.07,2,     0.06,2,  17.8219,2,     1738
  49UF20180406,KS1804,  5328,  1,     26,  25260,2,20180414,1642, 32.0105, 147.9215, 5707,    152.8,  17.6335,  17.6336,2,  34.8290,2,-999.0000,9,    228.0,2,    228.1,2,     3.02,2,     2.24,2,     0.07,2,     0.16,2,   2026.3,2,   2288.8,2,   7.9937,2,    25.00,     0.04,2,     0.04,2,  17.6336,2,     1737
  49UF20180406,KS1804,  5328,  1,     25,  25259,2,20180414,1642, 32.0105, 147.9215, 5707,    202.5,  17.4461,  17.4460,2,  34.8235,2,  34.8233,2,    222.7,2,    223.7,2,     3.48,2,     3.04,2,     0.02,2,     0.21,2,   2028.0,2,   2288.5,2,   7.9857,2,    25.00,     0.01,2,     0.03,2,  17.4460,2,     1735
  49UF20180406,KS1804,  5328,  1,     24,  25258,2,20180414,1642, 32.0105, 147.9215, 5707,    250.9,  17.2085,  17.2095,2,  34.8002,2,-999.0000,9,    214.9,2,    214.8,2,     4.20,2,     4.20,2,     0.01,2,     0.28,2,   2038.9,2,   2286.6,2,   7.9667,2,    25.00,  -999.00,9,  -999.00,9,  17.2095,2,     1733
  49UF20180406,KS1804,  5328,  1,     23,  25257,3,20180414,1642, 32.0105, 147.9215, 5707,    301.7,  16.7324,  16.7329,2,  34.7550,2,  34.7546,2,    208.2,2,    208.5,2,     5.27,2,     5.49,2,     0.01,2,     0.36,2,   2049.2,6,   2284.2,6,   7.9447,2,    25.00,  -999.00,9,  -999.00,9,  16.7329,2,     1731
  49UF20180406,KS1804,  5328,  1,     22,  25256,2,20180414,1642, 32.0105, 147.9215, 5707,    402.1,  14.8596,  14.8609,2,  34.5654,2,  34.5676,2,    190.0,2,    191.2,2,    10.98,2,     9.97,2,     0.00,2,     0.67,2,   2080.3,2,   2278.9,2,   7.8731,6,    25.00,  -999.00,9,  -999.00,9,  14.8609,2,     1728
  49UF20180406,KS1804,  5328,  1,     18,  25252,2,20180414,1642, 32.0105, 147.9215, 5707,    503.6,  12.0760,  12.0755,2,  34.3672,2,-999.0000,9,    177.3,2,    177.5,2,    22.15,2,    15.74,2,     0.00,2,     1.10,2,   2119.6,2,   2277.0,2,   7.7805,2,    25.00,  -999.00,9,  -999.00,9,  12.0755,2,     1725
  49UF20180406,KS1804,  5328,  1,     17,  25251,2,20180414,1642, 32.0105, 147.9215, 5707,    604.0,   8.9516,   8.9508,2,  34.1360,2,  34.1362,6,    170.0,2,    169.8,2,    36.12,2,    21.59,2,     0.00,2,     1.54,2,   2157.9,2,   2279.4,2,   7.6799,2,    25.00,  -999.00,9,  -999.00,9,   8.9508,2,     1722
  49UF20180406,KS1804,  5328,  1,     16,  25250,2,20180414,1642, 32.0105, 147.9215, 5707,    700.5,   6.8944,   6.8942,2,  34.0345,2,-999.0000,9,    146.4,2,    146.1,6,    53.49,6,    27.67,6,     0.00,6,     2.00,6,   2204.1,2,   2288.3,2,   7.5779,2,    25.00,  -999.00,9,  -999.00,9,   6.8942,2,     1718
  49UF20180406,KS1804,  5328,  1,     14,  25248,2,20180414,1642, 32.0105, 147.9215, 5707,    816.2,   5.2786,   5.2688,2,  34.1011,2,  34.0950,4,     95.8,2,     97.1,2,    79.75,2,    34.76,2,     0.00,2,     2.50,2,   2269.0,2,   2310.9,2,   7.4626,2,    25.00,  -999.00,9,  -999.00,9,   5.2688,2,     1714
  49UF20180406,KS1804,  5328,  1,     15,  25249,2,20180414,1642, 32.0105, 147.9215, 5707,    817.9,   5.2581,   5.2522,2,  34.1007,2,  34.0955,4,     94.1,2,     95.6,2,    80.48,2,    34.93,2,     0.00,2,     2.52,2,   2270.3,2,   2311.4,2,   7.4596,2,    25.00,  -999.00,9,  -999.00,9,   5.2522,2,     1714
  49UF20180406,KS1804,  5328,  1,     13,  25247,2,20180414,1642, 32.0105, 147.9215, 5707,    908.5,   4.5496,   4.5509,2,  34.1668,2,  34.1653,2,     66.8,2,     67.6,2,    97.89,2,    38.61,2,     0.00,2,     2.77,2,   2307.4,2,   2329.0,2,   7.4064,2,    25.00,  -999.00,9,  -999.00,9,   4.5509,2,     1710
  49UF20180406,KS1804,  5328,  1,      9,  25243,2,20180414,1642, 32.0105, 147.9215, 5707,   1012.0,   3.9854,   3.9852,2,  34.2642,2,  34.2600,4,     47.9,2,     47.8,2,   114.03,2,    40.89,2,     0.00,2,     2.93,2,   2330.9,6,   2348.1,6,   7.3755,2,    25.00,  -999.00,9,  -999.00,9,   3.9852,2,     1707
  49UF20180406,KS1804,  5328,  1,      8,  25242,2,20180414,1642, 32.0105, 147.9215, 5707,   1212.5,   3.2795,   3.2780,2,  34.3703,2,  34.3668,4,     37.0,2,     36.8,2,   133.89,2,    42.56,2,     0.00,2,     3.04,2,   2358.6,2,   2371.2,2,   7.3601,6,    25.00,  -999.00,9,  -999.00,9,   3.2780,2,     1702
  49UF20180406,KS1804,  5328,  1,      7,  25241,2,20180414,1642, 32.0105, 147.9215, 5707,   1415.2,   2.7681,   2.7679,2,  34.4541,2,  34.4496,4,     37.5,2,     37.5,2,   148.18,2,    43.06,2,     0.00,2,     3.07,2,   2373.5,2,   2388.5,2,   7.3641,2,    25.00,  -999.00,9,  -999.00,9,   2.7679,2,     1657
  49UF20180406,KS1804,  5328,  1,      6,  25240,2,20180414,1642, 32.0105, 147.9215, 5707,   1617.3,   2.4874,   2.4874,2,  34.5116,2,  34.5080,6,     45.6,2,     45.1,2,   154.84,2,    42.74,2,     0.00,2,     3.03,2,   2377.6,2,   2399.2,2,   7.3848,2,    25.00,  -999.00,9,  -999.00,9,   2.4874,2,     1653
  49UF20180406,KS1804,  5328,  1,      5,  25239,2,20180414,1642, 32.0105, 147.9215, 5707,   1818.1,   2.1905,   2.1903,2,  34.5590,2,  34.5535,4,     57.3,2,     57.2,2,   161.62,2,    42.18,2,     0.00,2,     2.98,2,   2380.5,2,   2407.8,2,   7.4099,2,    25.00,  -999.00,9,  -999.00,9,   2.1903,2,     1648
  49UF20180406,KS1804,  5328,  1,      4,  25238,2,20180414,1642, 32.0105, 147.9215, 5707,   2033.8,   1.9883,   1.9883,2,  34.5946,2,  34.5880,4,     71.9,2,     72.5,2,   164.05,2,    41.32,2,     0.00,2,     2.91,2,   2373.4,2,   2412.0,2,   7.4371,2,    25.00,  -999.00,9,  -999.00,9,   1.9883,2,     1643