BOTTLE,20200311PRINUNIVRMK
EXPOCODE,SECT_ID,STNNBR,CASTNO,SAMPNO,BTLNBR,BTLNBR_FLAG_W,DATE,TIME,LATITUDE,LONGITUDE,DEPTH,CTDPRS,CTDTMP,SBE35,SBE35_FLAG_W,CTDSAL,CTDSAL_FLAG_W,SALNTY,SALNTY_FLAG_W,CTDOXY,CTDOXY_FLAG_W,OXYGEN,OXYGEN_FLAG_W,SILCAT,SILCAT_FLAG_W,NITRAT,NITRAT_FLAG_W,NITRIT,NITRIT_FLAG_W,PHSPHT,PHSPHT_FLAG_W,TCARBN,TCARBN_FLAG_W,ALKALI,ALKALI_FLAG_W,PH_TOT,PH_TOT_FLAG_W,PH_TMP,CHLORA,CHLORA_FLAG_W,PPHYTN,PPHYTN_FLAG_W,SBE35,SBE35_FLAG_W,BTL_TIME
,,,,,,,,,,,METERS,DBAR,ITS-90,,,PSS-78,,PSS-78,,UMOL/KG,,UMOL/KG,,UMOL/KG,,UMOL/KG,,UMOL/KG,,UMOL/KG,,UMOL/KG,,UMOL/KG,,,,DEG C,UG/KG,,UG/KG,,,,
  49UF20180406,KS1804,  5314,  1,     99,     99,2,20180411,0551, 31.0158, 144.0155, 5800,      0.0,  20.4109,-999.0000,9,  34.8378,2,-999.0000,9,    228.5,2,    229.1,2,     1.49,2,     0.04,2,     0.00,2,     0.04,2,   -999.0,9,   -999.0,9,-999.0000,9,  -999.00,     0.21,2,     0.04,2,-999.0000,9,      629
  49UF20180406,KS1804,  5314,  1,     33,  25267,2,20180411,0551, 31.0158, 144.0155, 5800,      8.7,  20.4104,  20.4102,2,  34.8380,2,-999.0000,9,    228.4,2,    229.4,2,     1.40,2,     0.00,2,     0.00,2,     0.03,2,   -999.0,9,   -999.0,9,-999.0000,9,  -999.00,     0.18,2,     0.04,2,  20.4102,2,      659
  49UF20180406,KS1804,  5314,  1,     32,  25266,2,20180411,0551, 31.0158, 144.0155, 5800,     24.1,  20.2671,  20.2665,2,  34.8381,2,-999.0000,9,    228.6,2,    229.4,2,     1.46,2,     0.00,2,     0.00,2,     0.03,2,   -999.0,9,   -999.0,9,-999.0000,9,  -999.00,     0.22,2,     0.08,2,  20.2665,2,      657
  49UF20180406,KS1804,  5314,  1,     31,  25265,2,20180411,0551, 31.0158, 144.0155, 5800,     48.8,  19.3271,  19.3278,2,  34.9124,2,-999.0000,9,    218.3,2,    219.2,2,     2.37,2,     1.11,2,     0.08,2,     0.10,2,   -999.0,9,   -999.0,9,-999.0000,9,  -999.00,     0.42,2,     0.23,2,  19.3278,2,      653
  49UF20180406,KS1804,  5314,  1,     30,  25264,2,20180411,0551, 31.0158, 144.0155, 5800,     74.7,  19.0096,  19.0141,2,  34.8882,2,-999.0000,9,    214.5,2,    217.3,2,     2.51,2,     1.52,2,     0.03,2,     0.12,2,   -999.0,9,   -999.0,9,-999.0000,9,  -999.00,     0.09,2,     0.09,2,  19.0141,2,      651
  49UF20180406,KS1804,  5314,  1,     29,  25263,2,20180411,0551, 31.0158, 144.0155, 5800,     99.4,  18.6189,  18.6186,2,  34.8719,2,-999.0000,9,    234.4,2,    233.8,2,     2.05,2,     0.33,2,     0.20,2,     0.08,2,   -999.0,9,   -999.0,9,-999.0000,9,  -999.00,     0.26,2,     0.18,2,  18.6186,2,      650
  49UF20180406,KS1804,  5314,  1,     26,  25260,2,20180411,0551, 31.0158, 144.0155, 5800,    124.1,  18.3622,  18.3619,2,  34.8564,2,-999.0000,9,    228.5,2,    228.8,2,     2.77,2,     0.98,2,     0.35,2,     0.13,2,   -999.0,9,   -999.0,9,-999.0000,9,  -999.00,  -999.00,9,  -999.00,9,  18.3619,2,      648
  49UF20180406,KS1804,  5314,  1,     25,  25259,2,20180411,0551, 31.0158, 144.0155, 5800,    124.2,  18.3626,  18.3624,2,  34.8562,2,-999.0000,9,    228.5,2,    229.0,2,     2.75,2,     0.98,2,     0.35,2,     0.13,2,   -999.0,9,   -999.0,9,-999.0000,9,  -999.00,     0.22,2,     0.16,2,  18.3624,2,      648
  49UF20180406,KS1804,  5314,  1,     24,  25258,2,20180411,0551, 31.0158, 144.0155, 5800,    149.2,  18.1205,  18.1195,2,  34.8460,2,-999.0000,9,    208.0,2,    208.6,6,     3.42,6,     3.25,6,     0.07,6,     0.23,6,   -999.0,9,   -999.0,9,-999.0000,9,  -999.00,     0.08,2,     0.08,2,  18.1195,2,      646
  49UF20180406,KS1804,  5314,  1,     22,  25256,2,20180411,0551, 31.0158, 144.0155, 5800,    201.0,  17.4481,  17.4479,2,  34.8240,2,-999.0000,9,    222.9,2,    219.7,2,     3.86,2,     3.40,2,     0.05,2,     0.24,2,   -999.0,9,   -999.0,9,-999.0000,9,  -999.00,     0.05,2,     0.07,2,  17.4479,2,      644
  49UF20180406,KS1804,  5314,  1,     23,  25257,2,20180411,0551, 31.0158, 144.0155, 5800,    201.4,  17.4475,  17.4466,2,  34.8251,2,-999.0000,9,    223.7,2,    221.0,2,     3.79,2,     3.28,2,     0.06,2,     0.23,2,   -999.0,9,   -999.0,9,-999.0000,9,  -999.00,  -999.00,9,  -999.00,9,  17.4466,2,      644
  49UF20180406,KS1804,  5314,  1,     21,  25255,2,20180411,0551, 31.0158, 144.0155, 5800,    250.6,  17.3703,  17.3703,2,  34.8314,2,-999.0000,9,    228.0,2,    228.4,2,     3.44,2,     2.83,2,     0.02,2,     0.20,2,   -999.0,9,   -999.0,9,-999.0000,9,  -999.00,  -999.00,9,  -999.00,9,  17.3703,2,      642
  49UF20180406,KS1804,  5314,  1,     20,  24270,3,20180411,0551, 31.0158, 144.0155, 5800,    301.8,  17.0804,  17.0826,2,  34.7845,2,-999.0000,9,    213.1,2,    213.6,2,     4.94,2,     4.57,2,     0.02,2,     0.31,2,   -999.0,9,   -999.0,9,-999.0000,9,  -999.00,  -999.00,9,  -999.00,9,  17.0826,2,      640
  49UF20180406,KS1804,  5314,  1,     19,  25253,2,20180411,0551, 31.0158, 144.0155, 5800,    402.8,  14.5379,  14.5378,2,  34.5400,2,-999.0000,9,    182.7,2,    183.0,2,    13.04,2,    11.19,2,     0.01,2,     0.76,2,   -999.0,9,   -999.0,9,-999.0000,9,  -999.00,  -999.00,9,  -999.00,9,  14.5378,2,      637
  49UF20180406,KS1804,  5314,  1,     15,  25249,2,20180411,0551, 31.0158, 144.0155, 5800,    504.9,  11.6051,  11.6053,2,  34.3389,2,-999.0000,9,    170.3,2,    170.0,2,    24.90,2,    17.19,2,     0.00,2,     1.20,2,   -999.0,9,   -999.0,9,-999.0000,9,  -999.00,  -999.00,9,  -999.00,9,  11.6053,2,      633
  49UF20180406,KS1804,  5314,  1,     14,  25248,2,20180411,0551, 31.0158, 144.0155, 5800,    604.7,   8.8774,   8.8852,2,  34.2402,2,-999.0000,9,    136.3,2,    136.2,2,    46.40,2,    25.03,2,     0.00,2,     1.78,2,   -999.0,9,   -999.0,9,-999.0000,9,  -999.00,  -999.00,9,  -999.00,9,   8.8852,2,      629
  49UF20180406,KS1804,  5314,  1,     13,  25247,2,20180411,0551, 31.0158, 144.0155, 5800,    705.4,   6.5320,   6.5315,2,  34.1131,2,-999.0000,9,    118.8,2,    118.9,2,    64.57,2,    30.75,2,     0.00,2,     2.21,2,   -999.0,9,   -999.0,9,-999.0000,9,  -999.00,  -999.00,9,  -999.00,9,   6.5315,2,      626
  49UF20180406,KS1804,  5314,  1,     12,  25246,2,20180411,0551, 31.0158, 144.0155, 5800,    807.8,   5.0339,   5.0336,2,  34.1210,2,-999.0000,9,     85.3,2,     85.5,2,    86.04,2,    36.32,2,     0.00,2,     2.60,2,   -999.0,9,   -999.0,9,-999.0000,9,  -999.00,  -999.00,9,  -999.00,9,   5.0336,2,      623
  49UF20180406,KS1804,  5314,  1,     11,  25245,2,20180411,0551, 31.0158, 144.0155, 5800,    908.0,   4.4631,   4.4642,2,  34.2405,2,-999.0000,9,     64.2,2,     64.3,2,   103.36,2,    38.84,2,     0.00,2,     2.78,2,   -999.0,9,   -999.0,9,-999.0000,9,  -999.00,  -999.00,9,  -999.00,9,   4.4642,2,      620
  49UF20180406,KS1804,  5314,  1,     10,  25244,2,20180411,0551, 31.0158, 144.0155, 5800,   1010.4,   3.9239,   3.9241,2,  34.2990,2,-999.0000,9,     52.6,2,     52.4,2,   116.52,2,    40.52,2,     0.00,2,     2.89,2,   -999.0,9,   -999.0,9,-999.0000,9,  -999.00,  -999.00,9,  -999.00,9,   3.9241,2,      617
  49UF20180406,KS1804,  5314,  1,      6,  25240,2,20180411,0551, 31.0158, 144.0155, 5800,   1213.8,   3.1456,   3.1458,2,  34.4070,2,-999.0000,9,     43.3,2,     43.4,6,   136.54,6,    42.23,6,     0.00,6,     3.01,6,   -999.0,9,   -999.0,9,-999.0000,9,  -999.00,  -999.00,9,  -999.00,9,   3.1458,2,      612
  49UF20180406,KS1804,  5314,  1,      4,  25238,2,20180411,0551, 31.0158, 144.0155, 5800,   1415.7,   2.7152,   2.7152,2,  34.4680,2,-999.0000,9,     41.8,2,     41.5,2,   149.12,2,    42.72,2,     0.00,2,     3.04,2,   -999.0,9,   -999.0,9,-999.0000,9,  -999.00,  -999.00,9,  -999.00,9,   2.7152,2,      606
  49UF20180406,KS1804,  5314,  1,      5,  25239,2,20180411,0551, 31.0158, 144.0155, 5800,   1416.0,   2.7128,   2.7126,2,  34.4683,2,-999.0000,9,     41.8,2,     41.6,2,   148.99,2,    42.67,2,     0.00,2,     3.04,2,   -999.0,9,   -999.0,9,-999.0000,9,  -999.00,  -999.00,9,  -999.00,9,   2.7126,2,      606
  49UF20180406,KS1804,  5314,  1,      3,  24271,2,20180411,0551, 31.0158, 144.0155, 5800,   1617.9,   2.4229,   2.4231,2,  34.5289,2,-999.0000,9,     52.3,2,     52.5,2,   155.22,2,    42.28,2,     0.00,2,     3.00,2,   -999.0,9,   -999.0,9,-999.0000,9,  -999.00,  -999.00,9,  -999.00,9,   2.4231,2,      601
  49UF20180406,KS1804,  5314,  1,      2,  25236,2,20180411,0551, 31.0158, 144.0155, 5800,   1822.0,   2.1689,   2.1691,2,  34.5737,2,-999.0000,9,     68.0,2,     68.1,2,   158.08,2,    41.43,2,     0.00,2,     2.92,2,   -999.0,9,   -999.0,9,-999.0000,9,  -999.00,  -999.00,9,  -999.00,9,   2.1691,2,      556
  49UF20180406,KS1804,  5314,  1,      1,  25235,2,20180411,0551, 31.0158, 144.0155, 5800,   2032.3,   1.9868,   1.9868,2,  34.6030,2,-999.0000,9,     82.5,2,     83.0,2,   159.07,2,    40.58,2,     0.00,2,     2.86,2,   -999.0,9,   -999.0,9,-999.0000,9,  -999.00,  -999.00,9,  -999.00,9,   1.9868,2,      551