BOTTLE,20200311PRINUNIVRMK
EXPOCODE,SECT_ID,STNNBR,CASTNO,SAMPNO,BTLNBR,BTLNBR_FLAG_W,DATE,TIME,LATITUDE,LONGITUDE,DEPTH,CTDPRS,CTDTMP,SBE35,SBE35_FLAG_W,CTDSAL,CTDSAL_FLAG_W,SALNTY,SALNTY_FLAG_W,CTDOXY,CTDOXY_FLAG_W,OXYGEN,OXYGEN_FLAG_W,SILCAT,SILCAT_FLAG_W,NITRAT,NITRAT_FLAG_W,NITRIT,NITRIT_FLAG_W,PHSPHT,PHSPHT_FLAG_W,TCARBN,TCARBN_FLAG_W,ALKALI,ALKALI_FLAG_W,PH_TOT,PH_TOT_FLAG_W,PH_TMP,CHLORA,CHLORA_FLAG_W,PPHYTN,PPHYTN_FLAG_W,SBE35,SBE35_FLAG_W,BTL_TIME
,,,,,,,,,,,METERS,DBAR,ITS-90,,,PSS-78,,PSS-78,,UMOL/KG,,UMOL/KG,,UMOL/KG,,UMOL/KG,,UMOL/KG,,UMOL/KG,,UMOL/KG,,UMOL/KG,,,,DEG C,UG/KG,,UG/KG,,,,
  49UF20180406,KS1804,  5316,  1,     99,     99,2,20180411,1727, 29.9977, 144.9810, 5896,      0.0,  19.8430,-999.0000,9,  34.9899,2,  34.9945,2,    230.8,2,    230.9,2,     1.89,2,     0.01,2,     0.00,2,     0.03,2,   2009.4,2,   2298.1,2,   8.0315,2,    25.00,     0.10,2,     0.03,2,-999.0000,9,     1937
  49UF20180406,KS1804,  5316,  1,     36,  25270,2,20180411,1727, 29.9977, 144.9810, 5896,     10.4,  19.8458,  19.8436,2,  34.9894,2,  34.9886,2,    230.7,2,    230.5,2,     1.91,2,     0.03,2,     0.00,2,     0.02,2,   2012.9,2,   2296.8,2,   8.0319,2,    25.00,     0.11,2,     0.03,2,  19.8436,2,     1959
  49UF20180406,KS1804,  5316,  1,     35,  25269,2,20180411,1727, 29.9977, 144.9810, 5896,     25.0,  19.8337,  19.8325,2,  34.9876,2,  34.9872,2,    230.7,2,    230.7,2,     1.91,2,     0.00,2,     0.00,2,     0.02,2,   2009.9,2,   2297.4,2,   8.0325,2,    25.00,     0.10,2,     0.03,2,  19.8325,2,     1957
  49UF20180406,KS1804,  5316,  1,     34,  25268,2,20180411,1727, 29.9977, 144.9810, 5896,     49.8,  19.5128,  19.5122,2,  34.9645,2,-999.0000,9,    232.2,2,    232.1,2,     1.93,2,     0.00,2,     0.00,2,     0.02,2,   2005.5,2,   2296.4,2,   8.0354,2,    25.00,     0.10,2,     0.04,2,  19.5122,2,     1952
  49UF20180406,KS1804,  5316,  1,     33,  25267,2,20180411,1727, 29.9977, 144.9810, 5896,     74.1,  19.3822,  19.3816,2,  34.9489,2,-999.0000,9,    231.9,2,    231.4,2,     1.96,2,     0.00,2,     0.00,2,     0.03,2,   2008.6,2,   2295.6,2,   8.0355,2,    25.00,     0.11,2,     0.06,2,  19.3816,2,     1951
  49UF20180406,KS1804,  5316,  1,     32,  25266,2,20180411,1727, 29.9977, 144.9810, 5896,     99.2,  18.9666,  18.9656,2,  34.9065,2,  34.9071,2,    228.0,2,    227.6,6,     2.12,6,     0.29,6,     0.06,6,     0.06,6,   2017.7,2,   2293.4,2,   8.0247,2,    25.00,     0.43,2,     0.43,2,  18.9656,2,     1949
  49UF20180406,KS1804,  5316,  1,     31,  25265,2,20180411,1727, 29.9977, 144.9810, 5896,    125.6,  18.7778,  18.7748,2,  34.8957,2,-999.0000,9,    223.1,2,    223.0,2,     2.22,2,     1.09,2,     0.06,2,     0.10,2,   2018.5,2,   2293.2,2,   8.0129,2,    25.00,     0.23,2,     0.25,2,  18.7748,2,     1948
  49UF20180406,KS1804,  5316,  1,     30,  25264,2,20180411,1727, 29.9977, 144.9810, 5896,    149.9,  18.5229,  18.5228,2,  34.8773,2,  34.8769,6,    219.9,2,    220.1,2,     2.54,2,     1.70,2,     0.04,2,     0.13,2,   2021.9,2,   2291.0,2,   8.0027,2,    25.00,     0.08,2,     0.07,2,  18.5228,2,     1946
  49UF20180406,KS1804,  5316,  1,     29,  25263,2,20180411,1727, 29.9977, 144.9810, 5896,    200.3,  18.0340,  18.0317,2,  34.8497,2,  34.8499,2,    216.6,2,    217.1,2,     3.14,2,     2.69,2,     0.03,2,     0.20,2,   2027.1,6,   2289.4,6,   7.9868,2,    25.00,     0.02,2,     0.03,2,  18.0317,2,     1944
  49UF20180406,KS1804,  5316,  1,     28,  25262,2,20180411,1727, 29.9977, 144.9810, 5896,    251.0,  17.6741,  17.6740,2,  34.8219,2,-999.0000,9,    206.4,2,    206.8,2,     3.72,2,     4.10,2,     0.02,2,     0.28,2,   2040.5,2,   2287.2,2,   7.9612,6,    25.00,  -999.00,9,  -999.00,9,  17.6740,2,     1942
  49UF20180406,KS1804,  5316,  1,     27,  25261,2,20180411,1727, 29.9977, 144.9810, 5896,    300.2,  17.3314,  17.3304,2,  34.7987,2,  34.7984,2,    208.7,2,    209.0,2,     4.12,2,     4.46,2,     0.01,2,     0.30,2,   2046.2,2,   2285.5,2,   7.9612,2,    25.00,  -999.00,9,  -999.00,9,  17.3304,2,     1940
  49UF20180406,KS1804,  5316,  1,     26,  25260,2,20180411,1727, 29.9977, 144.9810, 5896,    403.4,  16.2085,  16.2101,2,  34.6981,2,-999.0000,9,    204.4,2,    205.1,2,     6.42,2,     6.53,2,     0.01,2,     0.44,2,   2056.5,2,   2281.5,2,   7.9251,2,    25.00,  -999.00,9,  -999.00,9,  16.2101,2,     1937
  49UF20180406,KS1804,  5316,  1,     25,  25259,2,20180411,1727, 29.9977, 144.9810, 5896,    504.1,  13.8973,  13.8994,2,  34.4827,2,  34.4852,2,    189.4,2,    189.9,6,    13.39,6,    11.47,6,     0.01,6,     0.79,6,   2087.3,2,   2276.3,2,   7.8428,2,    25.00,  -999.00,9,  -999.00,9,  13.8994,2,     1934
  49UF20180406,KS1804,  5316,  1,     24,  25258,2,20180411,1727, 29.9977, 144.9810, 5896,    603.2,  11.0766,  11.0748,2,  34.2817,2,-999.0000,9,    182.1,2,    182.3,2,    24.60,2,    16.84,2,     0.01,2,     1.18,2,   2131.7,2,   2277.5,2,   7.7567,2,    25.00,  -999.00,9,  -999.00,9,  11.0748,2,     1931
  49UF20180406,KS1804,  5316,  1,     23,  25257,2,20180411,1727, 29.9977, 144.9810, 5896,    704.3,   7.9886,   7.9774,2,  34.1153,2,  34.1164,2,    147.7,2,    148.1,2,    46.22,2,    25.45,2,     0.00,2,     1.83,2,   2192.8,2,   2287.1,2,   7.6160,2,    25.00,  -999.00,9,  -999.00,9,   7.9774,2,     1928
  49UF20180406,KS1804,  5316,  1,     22,  25256,2,20180411,1727, 29.9977, 144.9810, 5896,    806.0,   6.0846,   6.0850,2,  34.1108,2,-999.0000,9,    108.6,2,    108.8,2,    70.52,2,    32.45,2,     0.00,2,     2.33,2,   2246.6,2,   2304.6,2,   7.5078,2,    25.00,  -999.00,9,  -999.00,9,   6.0850,2,     1925
  49UF20180406,KS1804,  5316,  1,     21,  25255,2,20180411,1727, 29.9977, 144.9810, 5896,    906.9,   4.8535,   4.8533,2,  34.1327,2,  34.1323,2,     78.3,2,     78.7,2,    90.22,2,    37.20,2,     0.00,2,     2.67,2,   2290.7,2,   2322.5,2,   7.4271,2,    25.00,  -999.00,9,  -999.00,9,   4.8533,2,     1922
  49UF20180406,KS1804,  5316,  1,     20,  24270,2,20180411,1727, 29.9977, 144.9810, 5896,   1007.4,   4.2242,   4.2242,2,  34.2230,2,  34.2253,2,     56.0,2,     55.9,2,   107.28,2,    40.03,2,     0.00,2,     2.86,2,   2316.2,2,   2340.7,2,   7.3876,2,    25.00,  -999.00,9,  -999.00,9,   4.2242,2,     1919
  49UF20180406,KS1804,  5316,  1,     19,  25253,2,20180411,1727, 29.9977, 144.9810, 5896,   1211.6,   3.3150,   3.3150,2,  34.3652,2,-999.0000,9,     38.4,2,     38.8,2,   132.59,2,    42.54,2,     0.00,2,     3.03,2,   2355.1,2,   2369.8,2,   7.3645,2,    25.00,  -999.00,9,  -999.00,9,   3.3150,2,     1915
  49UF20180406,KS1804,  5316,  1,     18,  25252,2,20180411,1727, 29.9977, 144.9810, 5896,   1412.5,   2.8141,   2.8139,2,  34.4453,2,  34.4449,2,     40.4,2,     40.2,6,   146.84,6,    42.86,6,     0.00,6,     3.05,6,   2374.1,2,   2388.1,2,   7.3683,2,    25.00,  -999.00,9,  -999.00,9,   2.8139,2,     1910
  49UF20180406,KS1804,  5316,  1,     17,  25251,2,20180411,1727, 29.9977, 144.9810, 5896,   1615.8,   2.5059,   2.5058,2,  34.5089,2,  34.5082,2,     48.0,2,     47.9,2,   153.55,2,    42.73,2,     0.00,2,     3.02,2,   2377.2,2,   2397.2,2,   7.3907,2,    25.00,  -999.00,9,  -999.00,9,   2.5058,2,     1905
  49UF20180406,KS1804,  5316,  1,     16,  25250,2,20180411,1727, 29.9977, 144.9810, 5896,   1817.4,   2.2328,   2.2330,2,  34.5522,2,  34.5524,2,     58.4,2,     58.4,2,   159.14,2,    42.20,2,     0.00,2,     2.97,2,   2374.8,6,   2406.9,6,   7.4142,2,    25.00,  -999.00,9,  -999.00,9,   2.2330,2,     1900
  49UF20180406,KS1804,  5316,  1,     15,  25249,2,20180411,1727, 29.9977, 144.9810, 5896,   2021.4,   2.0213,   2.0211,2,  34.5879,2,  34.5883,2,     73.8,2,     73.7,2,   161.52,2,    41.24,2,     0.00,2,     2.90,2,   2372.7,2,   2413.6,2,   7.4436,6,    25.00,  -999.00,9,  -999.00,9,   2.0211,2,     1856
  49UF20180406,KS1804,  5316,  1,     14,  25248,2,20180411,1727, 29.9977, 144.9810, 5896,   2278.3,   1.8282,   1.8283,2,  34.6212,2,  34.6215,2,     98.0,2,     98.2,2,   158.52,2,    39.71,2,     0.00,2,     2.78,2,   2350.2,2,   2415.9,2,   7.4893,2,    25.00,  -999.00,9,  -999.00,9,   1.8283,2,     1850
  49UF20180406,KS1804,  5316,  1,     13,  25247,2,20180411,1727, 29.9977, 144.9810, 5896,   2531.5,   1.7175,   1.7175,2,  34.6391,2,  34.6394,2,    110.1,2,    110.1,2,   157.53,2,    38.92,2,     0.00,2,     2.73,2,   2347.0,2,   2422.3,2,   7.5106,2,    25.00,  -999.00,9,  -999.00,9,   1.7175,2,     1844
  49UF20180406,KS1804,  5316,  1,     12,  25246,2,20180411,1727, 29.9977, 144.9810, 5896,   2786.6,   1.6459,   1.6459,2,  34.6509,2,  34.6513,2,    119.3,2,    119.3,2,   156.27,2,    38.42,2,     0.00,2,     2.68,2,   2344.0,2,   2417.1,2,   7.5280,2,    25.00,  -999.00,9,  -999.00,9,   1.6459,2,     1838
  49UF20180406,KS1804,  5316,  1,     11,  25245,2,20180411,1727, 29.9977, 144.9810, 5896,   3042.0,   1.5848,   1.5849,2,  34.6609,2,  34.6632,2,    127.9,2,    127.8,2,   155.41,2,    37.80,2,     0.00,2,     2.63,2,   2337.6,2,   2417.5,2,   7.5439,2,    25.00,  -999.00,9,  -999.00,9,   1.5849,2,     1833
  49UF20180406,KS1804,  5316,  1,     10,  25244,2,20180411,1727, 29.9977, 144.9810, 5896,   3296.0,   1.5390,   1.5390,2,  34.6684,2,  34.6681,2,    134.9,2,    135.2,2,   154.28,2,    37.36,2,     0.00,2,     2.60,2,   2328.2,2,   2418.2,2,   7.5566,2,    25.00,  -999.00,9,  -999.00,9,   1.5390,2,     1827
  49UF20180406,KS1804,  5316,  1,      9,  25243,2,20180411,1727, 29.9977, 144.9810, 5896,   3553.2,   1.5113,   1.5114,2,  34.6740,2,  34.6758,2,    140.8,2,    140.3,6,   152.80,6,    36.98,6,     0.00,6,     2.57,6,   2333.2,2,   2416.8,2,   7.5666,2,    25.00,  -999.00,9,  -999.00,9,   1.5114,2,     1821
  49UF20180406,KS1804,  5316,  1,      8,  25242,2,20180411,1727, 29.9977, 144.9810, 5896,   4064.7,   1.4817,   1.4818,2,  34.6823,2,  34.6828,2,    150.1,2,    149.8,2,   150.65,2,    36.34,2,     0.00,2,     2.52,2,   2321.4,2,   2416.3,2,   7.5827,2,    25.00,  -999.00,9,  -999.00,9,   1.4818,2,     1811
  49UF20180406,KS1804,  5316,  1,      7,  25241,2,20180411,1727, 29.9977, 144.9810, 5896,   4318.9,   1.4759,   1.4760,2,  34.6854,2,  34.6865,2,    154.3,2,    154.3,2,   149.62,2,    36.06,2,     0.00,2,     2.50,2,   2320.7,2,   2415.6,2,   7.5889,2,    25.00,  -999.00,9,  -999.00,9,   1.4760,2,     1805
  49UF20180406,KS1804,  5316,  1,      6,  25240,2,20180411,1727, 29.9977, 144.9810, 5896,   4579.6,   1.4822,   1.4821,2,  34.6877,2,  34.6892,2,    157.6,2,    157.7,2,   148.20,2,    35.85,2,     0.00,2,     2.48,2,   2318.0,6,   2415.7,6,   7.5943,2,    25.00,  -999.00,9,  -999.00,9,   1.4821,2,     1759
  49UF20180406,KS1804,  5316,  1,      5,  25239,2,20180411,1727, 29.9977, 144.9810, 5896,   5093.9,   1.5159,   1.5159,2,  34.6908,2,  34.6924,2,    162.1,2,    162.1,2,   145.43,2,    35.50,2,     0.01,2,     2.46,2,   2314.3,2,   2412.9,2,   7.6003,6,    25.00,  -999.00,9,  -999.00,9,   1.5159,2,     1749
  49UF20180406,KS1804,  5316,  1,      4,  25238,2,20180411,1727, 29.9977, 144.9810, 5896,   5350.3,   1.5408,   1.5407,2,  34.6917,2,  34.6918,2,    163.4,2,    163.7,2,   144.31,2,    35.34,2,     0.00,2,     2.45,2,   2311.7,2,   2412.8,2,   7.6005,2,    25.00,  -999.00,9,  -999.00,9,   1.5407,2,     1744
  49UF20180406,KS1804,  5316,  1,      3,  24271,2,20180411,1727, 29.9977, 144.9810, 5896,   5609.9,   1.5696,   1.5696,2,  34.6923,2,  34.6959,4,    164.4,2,    164.6,2,   143.39,2,    35.28,2,     0.00,2,     2.44,2,   2316.3,2,   2413.3,2,   7.6027,2,    25.00,  -999.00,9,  -999.00,9,   1.5696,2,     1738
  49UF20180406,KS1804,  5316,  1,      2,  25236,2,20180411,1727, 29.9977, 144.9810, 5896,   5867.2,   1.6003,   1.6002,2,  34.6930,2,  34.6926,6,    165.4,2,    165.8,2,   142.07,2,    35.20,2,     0.00,2,     2.43,2,   2308.9,2,   2412.6,2,   7.6015,2,    25.00,  -999.00,9,  -999.00,9,   1.6002,2,     1732
  49UF20180406,KS1804,  5316,  1,      1,  25235,2,20180411,1727, 29.9977, 144.9810, 5896,   6038.5,   1.6136,   1.6135,2,  34.6941,2,  34.6933,2,    167.7,2,    168.1,2,   140.03,2,    35.06,2,     0.00,2,     2.44,2,   2303.7,2,   2411.2,2,   7.6036,2,    25.00,  -999.00,9,  -999.00,9,   1.6135,2,     1727
  49UF20180406,KS1804,  5317,  1,     99,     99,2,20180412,0143, 29.5053, 145.4853, 5639,      0.0,  20.1749,-999.0000,9,  34.9819,2,-999.0000,9,    230.1,2,    230.2,2,  -999.00,9,  -999.00,9,  -999.00,9,  -999.00,9,   -999.0,9,   -999.0,9,-999.0000,9,  -999.00,  -999.00,9,  -999.00,9,-999.0000,9,      225
  49UF20180406,KS1804,  5317,  1,     36,  25270,2,20180412,0143, 29.5053, 145.4853, 5639,     10.7,  19.9651,  19.9695,2,  34.9792,2,-999.0000,9,    230.5,2,    230.5,2,  -999.00,9,  -999.00,9,  -999.00,9,  -999.00,9,   -999.0,9,   -999.0,9,-999.0000,9,  -999.00,  -999.00,9,  -999.00,9,  19.9695,2,      244
  49UF20180406,KS1804,  5317,  1,     35,  25269,2,20180412,0143, 29.5053, 145.4853, 5639,     26.0,  19.8676,  19.8677,2,  34.9769,2,-999.0000,9,    230.7,2,    230.9,2,  -999.00,9,  -999.00,9,  -999.00,9,  -999.00,9,   -999.0,9,   -999.0,9,-999.0000,9,  -999.00,  -999.00,9,  -999.00,9,  19.8677,2,      243
  49UF20180406,KS1804,  5317,  1,     34,  25268,2,20180412,0143, 29.5053, 145.4853, 5639,     50.4,  19.4049,  19.4063,2,  34.9490,2,-999.0000,9,    232.3,2,    232.6,2,  -999.00,9,  -999.00,9,  -999.00,9,  -999.00,9,   -999.0,9,   -999.0,9,-999.0000,9,  -999.00,  -999.00,9,  -999.00,9,  19.4063,2,      241
  49UF20180406,KS1804,  5317,  1,     33,  25267,2,20180412,0143, 29.5053, 145.4853, 5639,     78.1,  19.2747,  19.2754,2,  34.9399,2,-999.0000,9,    231.9,2,    232.1,2,  -999.00,9,  -999.00,9,  -999.00,9,  -999.00,9,   -999.0,9,   -999.0,9,-999.0000,9,  -999.00,  -999.00,9,  -999.00,9,  19.2754,2,      240
  49UF20180406,KS1804,  5317,  1,     32,  25266,2,20180412,0143, 29.5053, 145.4853, 5639,    100.9,  18.9914,  18.9933,2,  34.9172,2,-999.0000,9,    229.5,2,    229.0,2,  -999.00,9,  -999.00,9,  -999.00,9,  -999.00,9,   -999.0,9,   -999.0,9,-999.0000,9,  -999.00,  -999.00,9,  -999.00,9,  18.9933,2,      236
  49UF20180406,KS1804,  5317,  1,     31,  25265,2,20180412,0143, 29.5053, 145.4853, 5639,    125.8,  18.6702,  18.6720,2,  34.8890,2,-999.0000,9,    222.8,2,    223.0,6,  -999.00,9,  -999.00,9,  -999.00,9,  -999.00,9,   -999.0,9,   -999.0,9,-999.0000,9,  -999.00,  -999.00,9,  -999.00,9,  18.6720,2,      235
  49UF20180406,KS1804,  5317,  1,     29,  25263,2,20180412,0143, 29.5053, 145.4853, 5639,    150.8,  18.3098,  18.3082,2,  34.8685,2,-999.0000,9,    224.4,2,    224.9,2,  -999.00,9,  -999.00,9,  -999.00,9,  -999.00,9,   -999.0,9,   -999.0,9,-999.0000,9,  -999.00,  -999.00,9,  -999.00,9,  18.3082,2,      233
  49UF20180406,KS1804,  5317,  1,     30,  25264,3,20180412,0143, 29.5053, 145.4853, 5639,    151.8,  18.2884,  18.2869,2,  34.8673,2,-999.0000,9,    225.2,2,    224.5,2,  -999.00,9,  -999.00,9,  -999.00,9,  -999.00,9,   -999.0,9,   -999.0,9,-999.0000,9,  -999.00,  -999.00,9,  -999.00,9,  18.2869,2,      234
  49UF20180406,KS1804,  5317,  1,     28,  25262,2,20180412,0143, 29.5053, 145.4853, 5639,    200.9,  17.8516,  17.8489,2,  34.8474,2,-999.0000,9,    227.7,2,    227.8,2,  -999.00,9,  -999.00,9,  -999.00,9,  -999.00,9,   -999.0,9,   -999.0,9,-999.0000,9,  -999.00,  -999.00,9,  -999.00,9,  17.8489,2,      231
  49UF20180406,KS1804,  5317,  1,     27,  25261,2,20180412,0143, 29.5053, 145.4853, 5639,    252.1,  17.2186,  17.2184,2,  34.7945,2,-999.0000,9,    208.6,2,    208.8,2,  -999.00,9,  -999.00,9,  -999.00,9,  -999.00,9,   -999.0,9,   -999.0,9,-999.0000,9,  -999.00,  -999.00,9,  -999.00,9,  17.2184,2,      230
  49UF20180406,KS1804,  5317,  1,     26,  25260,2,20180412,0143, 29.5053, 145.4853, 5639,    303.6,  16.6757,  16.6759,2,  34.7558,2,-999.0000,9,    211.0,2,    211.1,2,  -999.00,9,  -999.00,9,  -999.00,9,  -999.00,9,   -999.0,9,   -999.0,9,-999.0000,9,  -999.00,  -999.00,9,  -999.00,9,  16.6759,2,      228
  49UF20180406,KS1804,  5317,  1,     25,  25259,2,20180412,0143, 29.5053, 145.4853, 5639,    403.7,  14.9233,  14.9240,2,  34.5682,2,-999.0000,9,    194.4,2,    194.4,2,  -999.00,9,  -999.00,9,  -999.00,9,  -999.00,9,   -999.0,9,   -999.0,9,-999.0000,9,  -999.00,  -999.00,9,  -999.00,9,  14.9240,2,      225
  49UF20180406,KS1804,  5317,  1,     24,  25258,3,20180412,0143, 29.5053, 145.4853, 5639,    504.9,  12.2986,  12.2943,2,  34.3613,2,-999.0000,9,    185.9,2,    185.4,2,  -999.00,9,  -999.00,9,  -999.00,9,  -999.00,9,   -999.0,9,   -999.0,9,-999.0000,9,  -999.00,  -999.00,9,  -999.00,9,  12.2943,2,      222
  49UF20180406,KS1804,  5317,  1,     23,  25257,2,20180412,0143, 29.5053, 145.4853, 5639,    607.3,   9.2866,   9.2755,2,  34.1671,2,-999.0000,9,    168.1,2,    167.5,2,  -999.00,9,  -999.00,9,  -999.00,9,  -999.00,9,   -999.0,9,   -999.0,9,-999.0000,9,  -999.00,  -999.00,9,  -999.00,9,   9.2755,2,      220
  49UF20180406,KS1804,  5317,  1,     22,  25256,2,20180412,0143, 29.5053, 145.4853, 5639,    704.7,   7.0885,   7.0864,2,  34.1097,2,-999.0000,9,    129.4,2,    128.4,2,  -999.00,9,  -999.00,9,  -999.00,9,  -999.00,9,   -999.0,9,   -999.0,9,-999.0000,9,  -999.00,  -999.00,9,  -999.00,9,   7.0864,2,      217
  49UF20180406,KS1804,  5317,  1,     21,  25255,4,20180412,0143, 29.5053, 145.4853, 5639,    807.6,   5.3625,   5.3627,2,  34.0838,2,-999.0000,9,     98.5,2,   -999.0,9,  -999.00,9,  -999.00,9,  -999.00,9,  -999.00,9,   -999.0,9,   -999.0,9,-999.0000,9,  -999.00,  -999.00,9,  -999.00,9,   5.3627,2,      214
  49UF20180406,KS1804,  5317,  1,     20,  24270,2,20180412,0143, 29.5053, 145.4853, 5639,    908.3,   4.5373,   4.5376,2,  34.1733,2,-999.0000,9,     66.8,2,     66.5,2,  -999.00,9,  -999.00,9,  -999.00,9,  -999.00,9,   -999.0,9,   -999.0,9,-999.0000,9,  -999.00,  -999.00,9,  -999.00,9,   4.5376,2,      212
  49UF20180406,KS1804,  5317,  1,     19,  25253,3,20180412,0143, 29.5053, 145.4853, 5639,   1008.7,   3.9689,   3.9680,2,  34.2705,2,-999.0000,9,     50.0,2,     49.8,6,  -999.00,9,  -999.00,9,  -999.00,9,  -999.00,9,   -999.0,9,   -999.0,9,-999.0000,9,  -999.00,  -999.00,9,  -999.00,9,   3.9680,2,      209