BOTTLE,20200310PRINUNIVRMK
EXPOCODE,SECT_ID,STNNBR,CASTNO,SAMPNO,BTLNBR,BTLNBR_FLAG_W,DATE,TIME,LATITUDE,LONGITUDE,DEPTH,CTDPRS,CTDTMP,SBE35,SBE35_FLAG_W,CTDSAL,CTDSAL_FLAG_W,SALNTY,SALNTY_FLAG_W,CTDOXY,CTDOXY_FLAG_W,OXYGEN,OXYGEN_FLAG_W,SILCAT,SILCAT_FLAG_W,NITRAT,NITRAT_FLAG_W,NITRIT,NITRIT_FLAG_W,PHSPHT,PHSPHT_FLAG_W,TCARBN,TCARBN_FLAG_W,ALKALI,ALKALI_FLAG_W,PH_TOT,PH_TOT_FLAG_W,PH_TMP,CHLORA,CHLORA_FLAG_W,PPHYTN,PPHYTN_FLAG_W,SBE35,SBE35_FLAG_W,BTL_TIME
,,,,,,,,,,,METERS,DBAR,ITS-90,,,PSS-78,,PSS-78,,UMOL/KG,,UMOL/KG,,UMOL/KG,,UMOL/KG,,UMOL/KG,,UMOL/KG,,UMOL/KG,,UMOL/KG,,,,DEG C,UG/KG,,UG/KG,,,,
  49UP20180501,RF1804,  6234,  1,     99,     99,2,20180508,1534, 39.9813, 156.9925, 5606,      0.0,  11.8042,-999.0000,9,  34.0098,2,  34.0019,2,    279.9,2,    279.4,2,    10.32,2,     6.72,2,     0.12,2,     0.54,2,   -999.0,9,   -999.0,9,-999.0000,9,  -999.00,     0.86,2,     0.17,2,-999.0000,9,     1730
  49UP20180501,RF1804,  6234,  1,     36,  25845,2,20180508,1534, 39.9813, 156.9925, 5606,     10.8,  11.8070,  11.8076,2,  34.0104,2,  34.0126,2,    280.0,2,    279.0,2,    10.71,2,     6.79,2,     0.12,2,     0.52,2,   -999.0,9,   -999.0,9,-999.0000,9,  -999.00,     0.85,2,     0.23,2,  11.8076,2,     1813
  49UP20180501,RF1804,  6234,  1,     35,  25844,2,20180508,1534, 39.9813, 156.9925, 5606,     26.1,  11.7543,  11.7548,2,  34.0214,2,-999.0000,9,    280.2,2,    279.7,2,    10.93,2,     6.89,2,     0.12,2,     0.52,2,   -999.0,9,   -999.0,9,-999.0000,9,  -999.00,     0.83,2,     0.21,2,  11.7548,2,     1812
  49UP20180501,RF1804,  6234,  1,     34,  25843,2,20180508,1534, 39.9813, 156.9925, 5606,     51.3,   9.3284,   9.3276,2,  33.9551,2,-999.0000,9,    282.2,2,    281.5,2,    17.25,2,    10.76,2,     0.18,2,     0.87,2,   -999.0,9,   -999.0,9,-999.0000,9,  -999.00,     0.54,2,     0.22,2,   9.3276,2,     1810
  49UP20180501,RF1804,  6234,  1,     33,  25842,2,20180508,1534, 39.9813, 156.9925, 5606,     78.0,   8.6587,   8.6517,2,  33.9428,2,-999.0000,9,    275.9,2,    274.9,2,    19.70,2,    12.21,2,     0.24,2,     0.98,2,   -999.0,9,   -999.0,9,-999.0000,9,  -999.00,     0.24,2,     0.13,2,   8.6517,2,     1808
  49UP20180501,RF1804,  6234,  1,     32,  25841,2,20180508,1534, 39.9813, 156.9925, 5606,     99.0,   8.4375,   8.4451,2,  33.9507,2,  33.9516,2,    266.0,2,    265.6,2,    22.19,2,    13.50,2,     0.22,2,     1.05,2,   -999.0,9,   -999.0,9,-999.0000,9,  -999.00,     0.08,2,     0.10,2,   8.4451,2,     1803
  49UP20180501,RF1804,  6234,  1,     31,  25840,2,20180508,1534, 39.9813, 156.9925, 5606,    125.8,   8.1433,   8.1306,2,  33.9243,2,-999.0000,9,    267.0,2,    271.0,6,    22.50,2,    13.64,2,     0.29,2,     1.07,2,   -999.0,9,   -999.0,9,-999.0000,9,  -999.00,     0.00,2,     0.19,2,   8.1306,2,     1801
  49UP20180501,RF1804,  6234,  1,     30,  25839,2,20180508,1534, 39.9813, 156.9925, 5606,    155.2,   7.3874,   7.3874,2,  33.8503,2,-999.0000,9,    261.3,2,    261.9,2,    26.54,2,    16.27,2,     0.08,2,     1.23,2,   -999.0,9,   -999.0,9,-999.0000,9,  -999.00,     0.04,2,     0.07,2,   7.3874,2,     1800
  49UP20180501,RF1804,  6234,  1,     29,  25838,2,20180508,1534, 39.9813, 156.9925, 5606,    202.0,   6.7000,   6.6993,2,  33.8546,2,-999.0000,9,    205.6,2,    206.2,2,    40.03,6,    22.35,6,     0.01,6,     1.65,6,   -999.0,9,   -999.0,9,-999.0000,9,  -999.00,     0.01,2,     0.07,2,   6.6993,2,     1757
  49UP20180501,RF1804,  6234,  1,     28,  25837,3,20180508,1534, 39.9813, 156.9925, 5606,    256.7,   5.7372,   5.7356,2,  33.8524,2,  33.8488,2,    168.8,2,    170.0,2,    53.30,2,    27.36,2,     0.01,2,     2.01,2,   -999.0,9,   -999.0,9,-999.0000,9,  -999.00,  -999.00,9,  -999.00,9,   5.7356,2,     1754
  49UP20180501,RF1804,  6234,  1,     27,  24661,2,20180508,1534, 39.9813, 156.9925, 5606,    306.1,   5.0458,   5.0449,2,  33.8678,2,-999.0000,9,    140.2,2,    139.8,2,    65.48,2,    31.35,2,     0.00,2,     2.30,2,   -999.0,9,   -999.0,9,-999.0000,9,  -999.00,  -999.00,9,  -999.00,9,   5.0449,2,     1752
  49UP20180501,RF1804,  6234,  1,     26,  25835,2,20180508,1534, 39.9813, 156.9925, 5606,    409.8,   4.4378,   4.4316,2,  33.9537,2,  33.9528,2,     95.5,2,     95.6,2,    83.62,2,    36.39,2,     0.00,2,     2.63,2,   -999.0,9,   -999.0,9,-999.0000,9,  -999.00,  -999.00,9,  -999.00,9,   4.4316,2,     1748
  49UP20180501,RF1804,  6234,  1,     25,  25834,2,20180508,1534, 39.9813, 156.9925, 5606,    508.3,   4.2857,   4.2857,2,  34.1252,2,-999.0000,9,     62.7,2,     62.9,2,   100.31,2,    39.27,2,     0.00,2,     2.82,2,   -999.0,9,   -999.0,9,-999.0000,9,  -999.00,  -999.00,9,  -999.00,9,   4.2857,2,     1744
  49UP20180501,RF1804,  6234,  1,     24,  25833,2,20180508,1534, 39.9813, 156.9925, 5606,    610.5,   3.9334,   3.9368,2,  34.1901,2,  34.1866,2,     48.6,2,     47.8,2,   112.16,2,    40.84,2,     0.00,2,     2.93,2,   -999.0,9,   -999.0,9,-999.0000,9,  -999.00,  -999.00,9,  -999.00,9,   3.9368,2,     1741
  49UP20180501,RF1804,  6234,  1,     23,  25832,2,20180508,1534, 39.9813, 156.9925, 5606,    711.0,   3.6463,   3.6464,2,  34.2500,2,-999.0000,9,     41.0,2,     41.1,2,   121.28,2,    41.58,2,     0.00,2,     2.98,2,   -999.0,9,   -999.0,9,-999.0000,9,  -999.00,  -999.00,9,  -999.00,9,   3.6464,2,     1737
  49UP20180501,RF1804,  6234,  1,     22,  25831,2,20180508,1534, 39.9813, 156.9925, 5606,    809.5,   3.3457,   3.3460,2,  34.3086,2,-999.0000,9,     36.6,2,     36.4,2,   130.81,2,    42.21,2,     0.00,2,     3.02,2,   -999.0,9,   -999.0,9,-999.0000,9,  -999.00,  -999.00,9,  -999.00,9,   3.3460,2,     1733
  49UP20180501,RF1804,  6234,  1,     21,  25830,2,20180508,1534, 39.9813, 156.9925, 5606,    910.2,   3.1330,   3.1333,2,  34.3575,2,-999.0000,9,     36.6,2,     36.3,2,   137.21,2,    42.45,2,     0.00,2,     3.04,2,   -999.0,9,   -999.0,9,-999.0000,9,  -999.00,  -999.00,9,  -999.00,9,   3.1333,2,     1730
  49UP20180501,RF1804,  6234,  1,     20,  25829,2,20180508,1534, 39.9813, 156.9925, 5606,   1010.8,   2.9812,   2.9815,2,  34.3890,2,  34.3892,2,     35.5,2,     35.2,2,   142.05,2,    42.66,2,     0.00,2,     3.05,2,   -999.0,9,   -999.0,9,-999.0000,9,  -999.00,  -999.00,9,  -999.00,9,   2.9815,2,     1726
  49UP20180501,RF1804,  6234,  1,     19,  25828,2,20180508,1534, 39.9813, 156.9925, 5606,   1213.4,   2.6409,   2.6412,2,  34.4466,2,-999.0000,9,     36.6,2,     36.4,2,   152.33,2,    42.85,2,     0.00,2,     3.06,2,   -999.0,9,   -999.0,9,-999.0000,9,  -999.00,  -999.00,9,  -999.00,9,   2.6412,2,     1721
  49UP20180501,RF1804,  6234,  1,     18,  25827,2,20180508,1534, 39.9813, 156.9925, 5606,   1416.4,   2.3841,   2.3843,2,  34.5005,2,  34.5009,2,     43.6,2,     43.4,2,   159.18,2,    42.73,2,     0.00,2,     3.04,2,   -999.0,9,   -999.0,9,-999.0000,9,  -999.00,  -999.00,9,  -999.00,9,   2.3843,2,     1716
  49UP20180501,RF1804,  6234,  1,     17,  25826,2,20180508,1534, 39.9813, 156.9925, 5606,   1615.4,   2.2161,   2.2163,2,  34.5363,2,-999.0000,9,     51.8,2,     51.3,2,   162.74,2,    42.30,2,     0.00,2,     3.00,2,   -999.0,9,   -999.0,9,-999.0000,9,  -999.00,  -999.00,9,  -999.00,9,   2.2163,2,     1710
  49UP20180501,RF1804,  6234,  1,     16,  25825,2,20180508,1534, 39.9813, 156.9925, 5606,   1821.0,   2.0612,   2.0617,2,  34.5695,2,-999.0000,9,     63.3,2,     63.2,2,   164.20,2,    41.62,2,     0.00,2,     2.94,2,   -999.0,9,   -999.0,9,-999.0000,9,  -999.00,  -999.00,9,  -999.00,9,   2.0617,2,     1706
  49UP20180501,RF1804,  6234,  1,     15,  25824,2,20180508,1534, 39.9813, 156.9925, 5606,   2026.2,   1.9421,   1.9421,2,  34.5926,2,  34.5932,2,     73.5,2,     73.6,2,   165.08,2,    41.09,2,     0.00,2,     2.89,2,   -999.0,9,   -999.0,9,-999.0000,9,  -999.00,  -999.00,9,  -999.00,9,   1.9421,2,     1701
  49UP20180501,RF1804,  6234,  1,     14,  25823,2,20180508,1534, 39.9813, 156.9925, 5606,   2278.7,   1.8094,   1.8092,2,  34.6167,2,  34.6195,4,     88.5,2,     88.3,2,   164.44,2,    40.19,2,     0.00,2,     2.82,2,   -999.0,9,   -999.0,9,-999.0000,9,  -999.00,  -999.00,9,  -999.00,9,   1.8092,2,     1655
  49UP20180501,RF1804,  6234,  1,     13,  25822,2,20180508,1534, 39.9813, 156.9925, 5606,   2532.9,   1.6983,   1.6983,2,  34.6361,2,  34.6363,6,    102.4,2,    102.3,2,   163.21,2,    39.24,2,     0.00,2,     2.75,2,   -999.0,9,   -999.0,9,-999.0000,9,  -999.00,  -999.00,9,  -999.00,9,   1.6983,2,     1650
  49UP20180501,RF1804,  6234,  1,     12,  25821,2,20180508,1534, 39.9813, 156.9925, 5606,   2790.4,   1.6173,   1.6174,2,  34.6503,2,  34.6521,4,    114.8,2,    114.8,2,   161.29,2,    38.46,2,     0.00,2,     2.69,2,   -999.0,9,   -999.0,9,-999.0000,9,  -999.00,  -999.00,9,  -999.00,9,   1.6174,2,     1644
  49UP20180501,RF1804,  6234,  1,     11,  25820,2,20180508,1534, 39.9813, 156.9925, 5606,   3043.2,   1.5620,   1.5620,2,  34.6603,2,  34.6598,2,    124.8,2,    124.5,6,   159.04,6,    37.89,6,     0.00,6,     2.64,6,   -999.0,9,   -999.0,9,-999.0000,9,  -999.00,  -999.00,9,  -999.00,9,   1.5620,2,     1638
  49UP20180501,RF1804,  6234,  1,     10,  25819,2,20180508,1534, 39.9813, 156.9925, 5606,   3303.2,   1.5265,   1.5264,2,  34.6675,2,  34.6676,2,    132.4,2,    132.1,2,   157.38,2,    37.32,2,     0.00,2,     2.60,2,   -999.0,9,   -999.0,9,-999.0000,9,  -999.00,  -999.00,9,  -999.00,9,   1.5264,2,     1632
  49UP20180501,RF1804,  6234,  1,      9,  25818,2,20180508,1534, 39.9813, 156.9925, 5606,   3561.5,   1.4995,   1.4994,2,  34.6734,2,  34.6749,4,    139.2,2,    139.0,2,   155.38,2,    36.89,2,     0.00,2,     2.56,2,   -999.0,9,   -999.0,9,-999.0000,9,  -999.00,  -999.00,9,  -999.00,9,   1.4994,2,     1625
  49UP20180501,RF1804,  6234,  1,      8,  25817,2,20180508,1534, 39.9813, 156.9925, 5606,   3808.5,   1.4811,   1.4812,2,  34.6781,2,  34.6784,2,    144.9,2,    144.8,2,   153.86,2,    36.69,2,     0.00,2,     2.55,2,   -999.0,9,   -999.0,9,-999.0000,9,  -999.00,  -999.00,9,  -999.00,9,   1.4812,2,     1619
  49UP20180501,RF1804,  6234,  1,      7,  25816,2,20180508,1534, 39.9813, 156.9925, 5606,   4071.5,   1.4750,   1.4751,2,  34.6818,2,  34.6820,2,    149.4,2,    149.1,2,   152.70,2,    36.32,2,     0.00,2,     2.53,2,   -999.0,9,   -999.0,9,-999.0000,9,  -999.00,  -999.00,9,  -999.00,9,   1.4751,2,     1613
  49UP20180501,RF1804,  6234,  1,      6,  25815,2,20180508,1534, 39.9813, 156.9925, 5606,   4581.9,   1.4871,   1.4872,2,  34.6867,2,  34.6867,2,    155.6,2,    155.5,2,   151.02,2,    35.84,2,     0.00,2,     2.48,2,   -999.0,9,   -999.0,9,-999.0000,9,  -999.00,  -999.00,9,  -999.00,9,   1.4872,2,     1602
  49UP20180501,RF1804,  6234,  1,      5,  25814,2,20180508,1534, 39.9813, 156.9925, 5606,   4839.7,   1.5046,   1.5045,2,  34.6881,2,  34.6888,2,    157.3,2,    156.9,2,   150.75,2,    35.72,2,     0.00,2,     2.47,2,   -999.0,9,   -999.0,9,-999.0000,9,  -999.00,  -999.00,9,  -999.00,9,   1.5045,2,     1556
  49UP20180501,RF1804,  6234,  1,      4,  25813,2,20180508,1534, 39.9813, 156.9925, 5606,   5100.3,   1.5276,   1.5276,2,  34.6892,2,  34.6895,2,    158.5,2,    158.2,2,   150.86,2,    35.69,2,     0.00,2,     2.47,2,   -999.0,9,   -999.0,9,-999.0000,9,  -999.00,  -999.00,9,  -999.00,9,   1.5276,2,     1550
  49UP20180501,RF1804,  6234,  1,      3,  25812,2,20180508,1534, 39.9813, 156.9925, 5606,   5354.9,   1.5504,   1.5504,2,  34.6903,2,  34.6889,4,    160.1,2,    160.0,2,   149.27,2,    35.55,2,     0.00,2,     2.46,2,   -999.0,9,   -999.0,9,-999.0000,9,  -999.00,  -999.00,9,  -999.00,9,   1.5504,2,     1544
  49UP20180501,RF1804,  6234,  1,      2,  25811,2,20180508,1534, 39.9813, 156.9925, 5606,   5615.6,   1.5753,   1.5753,2,  34.6913,2,  34.6914,2,    162.1,2,    161.9,2,   146.85,2,    35.37,2,     0.00,2,     2.44,2,   -999.0,9,   -999.0,9,-999.0000,9,  -999.00,  -999.00,9,  -999.00,9,   1.5753,2,     1537
  49UP20180501,RF1804,  6234,  1,      1,  25810,2,20180508,1534, 39.9813, 156.9925, 5606,   5725.6,   1.5872,   1.5870,2,  34.6914,2,  34.6916,6,    162.8,2,    162.7,6,   146.00,6,    35.37,6,     0.00,6,     2.44,6,   -999.0,9,   -999.0,9,-999.0000,9,  -999.00,  -999.00,9,  -999.00,9,   1.5870,2,     1534