BOTTLE,20200310PRINUNIVRMK
EXPOCODE,SECT_ID,STNNBR,CASTNO,SAMPNO,BTLNBR,BTLNBR_FLAG_W,DATE,TIME,LATITUDE,LONGITUDE,DEPTH,CTDPRS,CTDTMP,SBE35,SBE35_FLAG_W,CTDSAL,CTDSAL_FLAG_W,SALNTY,SALNTY_FLAG_W,CTDOXY,CTDOXY_FLAG_W,OXYGEN,OXYGEN_FLAG_W,SILCAT,SILCAT_FLAG_W,NITRAT,NITRAT_FLAG_W,NITRIT,NITRIT_FLAG_W,PHSPHT,PHSPHT_FLAG_W,TCARBN,TCARBN_FLAG_W,ALKALI,ALKALI_FLAG_W,PH_TOT,PH_TOT_FLAG_W,PH_TMP,CHLORA,CHLORA_FLAG_W,PPHYTN,PPHYTN_FLAG_W,SBE35,SBE35_FLAG_W,BTL_TIME
,,,,,,,,,,,METERS,DBAR,ITS-90,,,PSS-78,,PSS-78,,UMOL/KG,,UMOL/KG,,UMOL/KG,,UMOL/KG,,UMOL/KG,,UMOL/KG,,UMOL/KG,,UMOL/KG,,,,DEG C,UG/KG,,UG/KG,,,,
  49UP20180501,RF1804,  6231,  1,     99,     99,2,20180507,0659, 40.0048, 152.9927, 5674,      0.0,  14.4824,-999.0000,9,  34.4774,2,-999.0000,9,    263.1,2,    261.9,2,     8.08,2,     3.76,2,     0.15,2,     0.31,2,   -999.0,9,   -999.0,9,-999.0000,9,  -999.00,  -999.00,9,  -999.00,9,-999.0000,9,      746
  49UP20180501,RF1804,  6231,  1,     35,  25844,2,20180507,0659, 40.0048, 152.9927, 5674,      9.4,  14.4900,  14.4917,2,  34.4783,2,-999.0000,9,    263.0,2,    262.7,2,     8.16,2,     3.82,2,     0.15,2,     0.31,2,   -999.0,9,   -999.0,9,-999.0000,9,  -999.00,  -999.00,9,  -999.00,9,  14.4917,2,      805
  49UP20180501,RF1804,  6231,  1,     36,  25845,2,20180507,0659, 40.0048, 152.9927, 5674,     10.0,  14.4852,  14.4843,2,  34.4777,2,-999.0000,9,    262.9,2,    262.7,2,     8.21,2,     3.82,2,     0.14,2,     0.31,2,   -999.0,9,   -999.0,9,-999.0000,9,  -999.00,  -999.00,9,  -999.00,9,  14.4843,2,      805
  49UP20180501,RF1804,  6231,  1,     34,  25843,2,20180507,0659, 40.0048, 152.9927, 5674,     24.9,  14.3127,  14.3211,2,  34.4525,2,-999.0000,9,    263.7,2,    263.1,2,     8.44,2,     3.93,2,     0.14,2,     0.32,2,   -999.0,9,   -999.0,9,-999.0000,9,  -999.00,  -999.00,9,  -999.00,9,  14.3211,2,      803
  49UP20180501,RF1804,  6231,  1,     30,  25839,2,20180507,0659, 40.0048, 152.9927, 5674,     52.0,  13.6787,  13.6847,2,  34.4851,2,-999.0000,9,    250.6,2,    251.7,2,    10.86,2,     5.25,2,     0.26,2,     0.46,2,   -999.0,9,   -999.0,9,-999.0000,9,  -999.00,  -999.00,9,  -999.00,9,  13.6847,2,      800
  49UP20180501,RF1804,  6231,  1,     29,  25838,2,20180507,0659, 40.0048, 152.9927, 5674,     74.6,  13.1390,  13.1395,2,  34.4784,2,-999.0000,9,    237.6,2,    237.2,2,    12.77,2,     8.25,2,     0.28,2,     0.61,2,   -999.0,9,   -999.0,9,-999.0000,9,  -999.00,  -999.00,9,  -999.00,9,  13.1395,2,      758
  49UP20180501,RF1804,  6231,  1,     28,  25837,2,20180507,0659, 40.0048, 152.9927, 5674,    101.6,  12.4931,  12.4971,2,  34.4420,2,-999.0000,9,    237.4,2,    236.6,2,    14.04,2,     9.47,2,     0.04,2,     0.67,2,   -999.0,9,   -999.0,9,-999.0000,9,  -999.00,  -999.00,9,  -999.00,9,  12.4971,2,      756
  49UP20180501,RF1804,  6231,  1,     27,  24661,2,20180507,0659, 40.0048, 152.9927, 5674,    126.7,  12.1837,  12.1841,2,  34.4293,2,-999.0000,9,    239.0,2,    238.9,2,    14.12,2,     9.69,2,     0.02,2,     0.68,2,   -999.0,9,   -999.0,9,-999.0000,9,  -999.00,  -999.00,9,  -999.00,9,  12.1841,2,      755
  49UP20180501,RF1804,  6231,  1,     26,  25835,2,20180507,0659, 40.0048, 152.9927, 5674,    153.0,  11.6450,  11.6451,2,  34.3680,2,-999.0000,9,    231.0,2,    230.2,6,    16.74,6,    11.27,6,     0.03,6,     0.80,6,   -999.0,9,   -999.0,9,-999.0000,9,  -999.00,  -999.00,9,  -999.00,9,  11.6451,2,      753
  49UP20180501,RF1804,  6231,  1,     25,  25834,2,20180507,0659, 40.0048, 152.9927, 5674,    201.8,  10.1911,  10.1973,2,  34.1930,2,-999.0000,9,    248.0,2,    247.5,2,    16.95,2,    11.79,2,     0.03,2,     0.86,2,   -999.0,9,   -999.0,9,-999.0000,9,  -999.00,  -999.00,9,  -999.00,9,  10.1973,2,      751
  49UP20180501,RF1804,  6231,  1,     21,  25830,2,20180507,0659, 40.0048, 152.9927, 5674,    256.0,   8.2581,   8.2583,2,  33.9856,2,-999.0000,9,    223.2,2,    223.6,2,    28.86,2,    17.33,2,     0.02,2,     1.27,2,   -999.0,9,   -999.0,9,-999.0000,9,  -999.00,  -999.00,9,  -999.00,9,   8.2583,2,      749
  49UP20180501,RF1804,  6231,  1,     20,  25829,2,20180507,0659, 40.0048, 152.9927, 5674,    304.5,   7.1162,   7.1345,2,  33.9196,2,-999.0000,9,    193.6,2,    190.3,2,    40.68,2,    22.61,2,     0.03,2,     1.66,2,   -999.0,9,   -999.0,9,-999.0000,9,  -999.00,  -999.00,9,  -999.00,9,   7.1345,2,      746
  49UP20180501,RF1804,  6231,  1,     19,  25828,2,20180507,0659, 40.0048, 152.9927, 5674,    408.6,   5.7347,   5.7399,2,  33.9545,2,-999.0000,9,    138.7,2,    137.2,2,    62.67,2,    30.27,2,     0.00,2,     2.20,2,   -999.0,9,   -999.0,9,-999.0000,9,  -999.00,  -999.00,9,  -999.00,9,   5.7399,2,      743
  49UP20180501,RF1804,  6231,  1,     17,  25826,3,20180507,0659, 40.0048, 152.9927, 5674,    506.5,   4.8172,   4.8196,2,  34.0258,2,-999.0000,9,     93.0,2,     93.4,2,    82.87,2,    36.00,2,     0.00,2,     2.59,2,   -999.0,9,   -999.0,9,-999.0000,9,  -999.00,  -999.00,9,  -999.00,9,   4.8196,2,      739
  49UP20180501,RF1804,  6231,  1,     18,  25827,2,20180507,0659, 40.0048, 152.9927, 5674,    508.0,   4.8128,   4.8135,2,  34.0254,2,-999.0000,9,     92.8,2,     92.8,2,    83.21,2,    36.00,2,     0.00,2,     2.60,2,   -999.0,9,   -999.0,9,-999.0000,9,  -999.00,  -999.00,9,  -999.00,9,   4.8135,2,      739
  49UP20180501,RF1804,  6231,  1,     16,  25825,2,20180507,0659, 40.0048, 152.9927, 5674,    608.1,   4.3175,   4.3194,2,  34.1076,2,-999.0000,9,     65.0,2,     65.3,2,    98.00,2,    39.15,2,     0.00,2,     2.81,2,   -999.0,9,   -999.0,9,-999.0000,9,  -999.00,  -999.00,9,  -999.00,9,   4.3194,2,      736
  49UP20180501,RF1804,  6231,  1,     12,  25821,2,20180507,0659, 40.0048, 152.9927, 5674,    708.9,   4.1074,   4.1076,2,  34.2012,2,-999.0000,9,     53.8,2,     53.6,6,   109.08,6,    40.21,6,     0.00,6,     2.88,6,   -999.0,9,   -999.0,9,-999.0000,9,  -999.00,  -999.00,9,  -999.00,9,   4.1076,2,      733
  49UP20180501,RF1804,  6231,  1,     11,  25820,2,20180507,0659, 40.0048, 152.9927, 5674,    807.2,   3.7050,   3.7053,2,  34.2752,2,-999.0000,9,     44.4,2,     44.4,2,   121.20,2,    41.45,2,     0.00,2,     2.96,2,   -999.0,9,   -999.0,9,-999.0000,9,  -999.00,  -999.00,9,  -999.00,9,   3.7053,2,      730
  49UP20180501,RF1804,  6231,  1,     10,  25819,2,20180507,0659, 40.0048, 152.9927, 5674,    908.8,   3.4314,   3.4321,2,  34.3324,2,-999.0000,9,     41.9,2,     41.6,2,   129.21,2,    41.88,2,     0.00,2,     2.99,2,   -999.0,9,   -999.0,9,-999.0000,9,  -999.00,  -999.00,9,  -999.00,9,   3.4321,2,      727
  49UP20180501,RF1804,  6231,  1,      9,  25818,2,20180507,0659, 40.0048, 152.9927, 5674,   1010.3,   3.1885,   3.1886,2,  34.3748,2,-999.0000,9,     40.7,2,     40.7,2,   135.90,2,    42.18,2,     0.00,2,     3.01,2,   -999.0,9,   -999.0,9,-999.0000,9,  -999.00,  -999.00,9,  -999.00,9,   3.1886,2,      724
  49UP20180501,RF1804,  6231,  1,      8,  25817,2,20180507,0659, 40.0048, 152.9927, 5674,   1211.5,   2.7725,   2.7726,2,  34.4321,2,-999.0000,9,     36.7,2,     36.6,2,   148.68,2,    43.00,2,     0.00,2,     3.06,2,   -999.0,9,   -999.0,9,-999.0000,9,  -999.00,  -999.00,9,  -999.00,9,   2.7726,2,      719
  49UP20180501,RF1804,  6231,  1,      7,  25816,2,20180507,0659, 40.0048, 152.9927, 5674,   1414.0,   2.4894,   2.4895,2,  34.4826,2,-999.0000,9,     40.1,2,     39.9,2,   156.75,2,    43.09,2,     0.00,2,     3.05,2,   -999.0,9,   -999.0,9,-999.0000,9,  -999.00,  -999.00,9,  -999.00,9,   2.4895,2,      715
  49UP20180501,RF1804,  6231,  1,      3,  25812,2,20180507,0659, 40.0048, 152.9927, 5674,   1615.5,   2.2889,   2.2886,2,  34.5224,2,-999.0000,9,     47.4,2,     47.5,2,   161.54,2,    42.69,2,     0.00,2,     3.02,2,   -999.0,9,   -999.0,9,-999.0000,9,  -999.00,  -999.00,9,  -999.00,9,   2.2886,2,      710
  49UP20180501,RF1804,  6231,  1,      2,  25811,2,20180507,0659, 40.0048, 152.9927, 5674,   1820.8,   2.1229,   2.1230,2,  34.5585,2,-999.0000,9,     57.8,2,     58.0,2,   164.05,2,    42.13,2,     0.00,2,     2.97,2,   -999.0,9,   -999.0,9,-999.0000,9,  -999.00,  -999.00,9,  -999.00,9,   2.1230,2,      705
  49UP20180501,RF1804,  6231,  1,      1,  25810,2,20180507,0659, 40.0048, 152.9927, 5674,   2025.0,   1.9926,   1.9926,2,  34.5839,2,-999.0000,9,     68.7,2,     68.9,2,   165.29,2,    41.51,2,     0.00,2,     2.92,2,   -999.0,9,   -999.0,9,-999.0000,9,  -999.00,  -999.00,9,  -999.00,9,   1.9926,2,      701
  49UP20180501,RF1804,  6232,  1,     99,     99,2,20180507,1548, 40.0182, 154.3430, 5533,      0.0,  14.3920,-999.0000,9,  34.4474,2,  34.4497,2,    262.0,2,    260.9,2,     9.89,2,     3.38,2,     0.10,2,     0.30,2,   2043.7,2,   2278.6,2,   7.9498,2,    25.00,     0.78,2,     0.17,2,-999.0000,9,     1800
  49UP20180501,RF1804,  6232,  1,     36,  25845,2,20180507,1548, 40.0182, 154.3430, 5533,     11.1,  14.3903,  14.3910,2,  34.4537,2,  34.4519,2,    262.0,2,    261.2,2,     9.89,2,     3.49,2,     0.11,2,     0.30,2,   2043.0,2,   2277.8,2,   7.9497,2,    25.00,     0.74,2,     0.16,2,  14.3910,2,     1823
  49UP20180501,RF1804,  6232,  1,     35,  25844,2,20180507,1548, 40.0182, 154.3430, 5533,     25.3,  14.3847,  14.3835,2,  34.4579,2,-999.0000,9,    262.1,2,    261.7,2,     9.87,2,     3.53,2,     0.11,2,     0.30,2,   2041.5,2,   2279.0,2,   7.9525,2,    25.00,     0.75,2,     0.20,2,  14.3835,2,     1822
  49UP20180501,RF1804,  6232,  1,     34,  25843,2,20180507,1548, 40.0182, 154.3430, 5533,     50.7,  14.0434,  14.0466,2,  34.5223,2,-999.0000,9,    253.4,2,    252.7,2,    10.33,2,     4.58,2,     0.22,2,     0.41,2,   2055.0,2,   2283.0,2,   7.9294,2,    25.00,     0.50,2,     0.28,2,  14.0466,2,     1820
  49UP20180501,RF1804,  6232,  1,     33,  25842,2,20180507,1548, 40.0182, 154.3430, 5533,     75.9,  13.2874,  13.2828,2,  34.4750,2,-999.0000,9,    248.3,2,    247.8,6,    11.53,6,     6.62,6,     0.30,6,     0.51,6,   2062.5,2,   2280.7,2,   7.9059,2,    25.00,     0.12,2,     0.14,2,  13.2828,2,     1817
  49UP20180501,RF1804,  6232,  1,     32,  25841,2,20180507,1548, 40.0182, 154.3430, 5533,    100.3,  12.7826,  12.7828,2,  34.4412,2,-999.0000,9,    250.6,2,    249.6,2,    12.07,2,     7.18,2,     0.16,2,     0.55,2,   2063.9,6,   2278.8,6,   7.8932,2,    25.00,     0.07,2,     0.11,2,  12.7828,2,     1813
  49UP20180501,RF1804,  6232,  1,     31,  25840,2,20180507,1548, 40.0182, 154.3430, 5533,    126.0,  12.1241,  12.1269,2,  34.3859,2,-999.0000,9,    238.1,2,    236.9,2,    14.08,2,     9.79,2,     0.02,2,     0.69,2,   2080.5,2,   2277.0,2,   7.8624,2,    25.00,     0.01,2,     0.08,2,  12.1269,2,     1811
  49UP20180501,RF1804,  6232,  1,     30,  25839,2,20180507,1548, 40.0182, 154.3430, 5533,    151.6,  11.4181,  11.4177,2,  34.3064,2,-999.0000,9,    230.2,2,    229.2,2,    16.66,2,    11.58,2,     0.02,2,     0.82,2,   2095.9,2,   2274.5,2,   7.8317,6,    25.00,     0.01,2,     0.09,2,  11.4177,2,     1809
  49UP20180501,RF1804,  6232,  1,     29,  25838,2,20180507,1548, 40.0182, 154.3430, 5533,    201.7,  10.4206,  10.4208,2,  34.2140,2,  34.2125,6,    238.5,2,    237.0,2,    18.64,2,    12.62,2,     0.01,2,     0.90,2,   2100.5,2,   2272.7,2,   7.8100,2,    25.00,     0.01,2,     0.06,2,  10.4208,2,     1807
  49UP20180501,RF1804,  6232,  1,     28,  25837,2,20180507,1548, 40.0182, 154.3430, 5533,    252.4,   9.3313,   9.3338,2,  34.0920,2,-999.0000,9,    231.6,2,    231.1,2,    23.15,2,    14.92,2,     0.02,2,     1.08,2,   2115.3,2,   2272.6,2,   7.7744,2,    25.00,  -999.00,9,  -999.00,9,   9.3338,2,     1805
  49UP20180501,RF1804,  6232,  1,     27,  24661,2,20180507,1548, 40.0182, 154.3430, 5533,    302.5,   8.3070,   8.3065,2,  34.0093,2,-999.0000,9,    204.7,2,    204.4,2,    32.37,2,    19.24,2,     0.01,2,     1.40,2,   2143.9,2,   2274.3,2,   7.7087,2,    25.00,  -999.00,9,  -999.00,9,   8.3065,2,     1802
  49UP20180501,RF1804,  6232,  1,     26,  25835,2,20180507,1548, 40.0182, 154.3430, 5533,    405.0,   5.9291,   5.9291,2,  33.8935,2,-999.0000,9,    162.8,2,    162.4,2,    54.29,2,    27.51,2,     0.01,2,     2.02,2,   2204.9,2,   2284.3,2,   7.5665,2,    25.00,  -999.00,9,  -999.00,9,   5.9291,2,     1759
  49UP20180501,RF1804,  6232,  1,     25,  25834,2,20180507,1548, 40.0182, 154.3430, 5533,    505.3,   5.0312,   5.0321,2,  33.9935,2,  33.9902,2,    107.6,2,    107.6,2,    76.90,2,    34.18,2,     0.00,2,     2.48,2,   2261.1,2,   2302.7,2,   7.4570,2,    25.00,  -999.00,9,  -999.00,9,   5.0321,2,     1755
  49UP20180501,RF1804,  6232,  1,     24,  25833,2,20180507,1548, 40.0182, 154.3430, 5533,    607.5,   4.4442,   4.4443,2,  34.1133,2,-999.0000,9,     68.8,2,     68.8,2,    96.59,2,    38.44,2,     0.00,2,     2.79,2,   2304.9,2,   2322.8,2,   7.3896,2,    25.00,  -999.00,9,  -999.00,9,   4.4443,2,     1752
  49UP20180501,RF1804,  6232,  1,     23,  25832,2,20180507,1548, 40.0182, 154.3430, 5533,    706.7,   3.9504,   3.9506,2,  34.2093,2,  34.2074,2,     49.5,2,     49.0,2,   112.54,2,    40.59,2,     0.00,2,     2.91,2,   2332.8,2,   2340.4,2,   7.3569,2,    25.00,  -999.00,9,  -999.00,9,   3.9506,2,     1748
  49UP20180501,RF1804,  6232,  1,     22,  25831,2,20180507,1548, 40.0182, 154.3430, 5533,    809.1,   3.6221,   3.6222,2,  34.2623,2,-999.0000,9,     41.0,2,     40.7,2,   122.64,2,    41.59,2,     0.00,2,     2.98,2,   2346.9,2,   2352.3,2,   7.3497,2,    25.00,  -999.00,9,  -999.00,9,   3.6222,2,     1745
  49UP20180501,RF1804,  6232,  1,     21,  25830,2,20180507,1548, 40.0182, 154.3430, 5533,    913.1,   3.3212,   3.3214,2,  34.3227,2,  34.3214,2,     37.4,2,     36.9,2,   131.96,2,    42.14,2,     0.00,2,     3.02,2,   2353.6,2,   2363.1,2,   7.3512,2,    25.00,  -999.00,9,  -999.00,9,   3.3214,2,     1741
  49UP20180501,RF1804,  6232,  1,     20,  25829,2,20180507,1548, 40.0182, 154.3430, 5533,   1011.7,   3.0757,   3.0760,2,  34.3706,2,-999.0000,9,     36.3,2,     35.8,2,   139.43,2,    42.50,2,     0.00,2,     3.04,2,   2363.6,2,   2372.3,2,   7.3498,2,    25.00,  -999.00,9,  -999.00,9,   3.0760,2,     1737
  49UP20180501,RF1804,  6232,  1,     19,  25828,2,20180507,1548, 40.0182, 154.3430, 5533,   1218.0,   2.7008,   2.7008,2,  34.4402,2,  34.4397,2,     37.0,2,     36.4,2,   150.62,2,    42.79,2,     0.00,2,     3.05,2,   2375.9,2,   2386.8,2,   7.3654,2,    25.00,  -999.00,9,  -999.00,9,   2.7008,2,     1731
  49UP20180501,RF1804,  6232,  1,     18,  25827,2,20180507,1548, 40.0182, 154.3430, 5533,   1418.1,   2.4236,   2.4235,2,  34.4931,2,-999.0000,9,     41.8,2,     41.3,2,   158.33,2,    42.75,2,     0.00,2,     3.04,2,   2382.9,2,   2399.1,2,   7.3718,2,    25.00,  -999.00,9,  -999.00,9,   2.4235,2,     1726
  49UP20180501,RF1804,  6232,  1,     17,  25826,3,20180507,1548, 40.0182, 154.3430, 5533,   1619.1,   2.2296,   2.2294,2,  34.5345,2,  34.5348,2,     50.7,2,     50.1,2,   162.55,2,    42.27,2,     0.00,2,     3.00,2,   2382.6,2,   2405.5,2,   7.3902,2,    25.00,  -999.00,9,  -999.00,9,   2.2294,2,     1721
  49UP20180501,RF1804,  6232,  1,     16,  25825,3,20180507,1548, 40.0182, 154.3430, 5533,   1820.1,   2.0729,   2.0732,2,  34.5670,2,-999.0000,9,     61.5,2,     61.0,2,   164.43,2,    41.71,2,     0.00,2,     2.95,2,   2380.4,2,   2410.1,2,   7.4156,2,    25.00,  -999.00,9,  -999.00,9,   2.0732,2,     1716
  49UP20180501,RF1804,  6232,  1,     15,  25824,2,20180507,1548, 40.0182, 154.3430, 5533,   2029.9,   1.9282,   1.9286,2,  34.5951,2,  34.5947,6,     74.9,2,     74.2,2,   165.02,2,    40.97,2,     0.00,2,     2.89,2,   2371.4,2,   2412.9,2,   7.4436,2,    25.00,  -999.00,9,  -999.00,9,   1.9286,2,     1711
  49UP20180501,RF1804,  6232,  1,     14,  25823,2,20180507,1548, 40.0182, 154.3430, 5533,   2277.1,   1.7940,   1.7941,2,  34.6189,2,  34.6188,2,     89.6,2,     89.3,2,   164.79,2,    39.97,2,     0.00,2,     2.81,2,   2372.2,2,   2416.2,2,   7.4696,2,    25.00,  -999.00,9,  -999.00,9,   1.7941,2,     1706
  49UP20180501,RF1804,  6232,  1,     13,  25822,2,20180507,1548, 40.0182, 154.3430, 5533,   2531.2,   1.6778,   1.6778,2,  34.6392,2,  34.6401,2,    105.7,2,    105.2,2,   162.52,2,    39.06,2,     0.00,2,     2.74,2,   2355.5,2,   2419.4,2,   7.5001,2,    25.00,  -999.00,9,  -999.00,9,   1.6778,2,     1700
  49UP20180501,RF1804,  6232,  1,     12,  25821,2,20180507,1548, 40.0182, 154.3430, 5533,   2786.9,   1.5929,   1.5929,2,  34.6536,2,  34.6541,2,    118.8,2,    118.6,6,   159.85,6,    38.30,6,     0.00,6,     2.67,6,   2347.1,2,   2420.7,2,   7.5258,2,    25.00,  -999.00,9,  -999.00,9,   1.5929,2,     1655
  49UP20180501,RF1804,  6232,  1,     11,  25820,2,20180507,1548, 40.0182, 154.3430, 5533,   3041.3,   1.5538,   1.5537,2,  34.6615,2,  34.6617,2,    126.6,2,    126.3,2,   158.28,2,    37.80,2,     0.00,2,     2.63,2,   2344.7,6,   2420.2,6,   7.5409,2,    25.00,  -999.00,9,  -999.00,9,   1.5537,2,     1649
  49UP20180501,RF1804,  6232,  1,     10,  25819,2,20180507,1548, 40.0182, 154.3430, 5533,   3297.7,   1.5200,   1.5201,2,  34.6682,2,  34.6684,2,    133.9,2,    133.6,2,   156.68,2,    37.26,2,     0.00,2,     2.59,2,   2337.1,2,   2420.8,2,   7.5567,2,    25.00,  -999.00,9,  -999.00,9,   1.5201,2,     1644
  49UP20180501,RF1804,  6232,  1,      9,  25818,2,20180507,1548, 40.0182, 154.3430, 5533,   3555.0,   1.4869,   1.4869,2,  34.6747,2,  34.6747,2,    141.1,2,    140.6,2,   154.73,2,    36.87,2,     0.00,2,     2.56,2,   2332.2,2,   2420.3,2,   7.5682,2,    25.00,  -999.00,9,  -999.00,9,   1.4869,2,     1638
  49UP20180501,RF1804,  6232,  1,      8,  25817,2,20180507,1548, 40.0182, 154.3430, 5533,   3815.1,   1.4743,   1.4744,2,  34.6791,2,  34.6804,4,    146.2,2,    145.7,2,   153.38,2,    36.52,2,     0.00,2,     2.53,2,   2334.6,2,   2419.2,2,   7.5773,2,    25.00,  -999.00,9,  -999.00,9,   1.4744,2,     1632
  49UP20180501,RF1804,  6232,  1,      7,  25816,2,20180507,1548, 40.0182, 154.3430, 5533,   4069.7,   1.4664,   1.4664,2,  34.6827,2,  34.6834,2,    150.9,2,    150.7,2,   151.90,2,    36.15,2,     0.00,2,     2.51,2,   2323.0,2,   2418.9,2,   7.5834,2,    25.00,  -999.00,9,  -999.00,9,   1.4664,2,     1626
  49UP20180501,RF1804,  6232,  1,      6,  25815,2,20180507,1548, 40.0182, 154.3430, 5533,   4325.0,   1.4706,   1.4706,2,  34.6854,2,  34.6861,2,    154.2,2,    153.8,2,   150.81,6,    36.00,6,     0.00,6,     2.49,6,   2324.8,2,   2417.9,2,   7.5898,2,    25.00,  -999.00,9,  -999.00,9,   1.4706,2,     1620
  49UP20180501,RF1804,  6232,  1,      5,  25814,2,20180507,1548, 40.0182, 154.3430, 5533,   4584.4,   1.4836,   1.4837,2,  34.6872,2,  34.6879,2,    156.6,2,    156.4,2,   149.97,2,    35.77,2,     0.00,2,     2.48,2,   2324.8,6,   2418.6,6,   7.5908,2,    25.00,  -999.00,9,  -999.00,9,   1.4837,2,     1614
  49UP20180501,RF1804,  6232,  1,      4,  25813,2,20180507,1548, 40.0182, 154.3430, 5533,   4842.6,   1.4988,   1.4990,2,  34.6888,2,  34.6886,2,    158.9,2,    158.8,2,   148.94,2,    35.62,2,     0.00,2,     2.47,2,   2316.3,2,   2416.7,2,   7.5965,6,    25.00,  -999.00,9,  -999.00,9,   1.4990,2,     1607
  49UP20180501,RF1804,  6232,  1,      3,  25812,2,20180507,1548, 40.0182, 154.3430, 5533,   5098.7,   1.5204,   1.5204,2,  34.6899,2,  34.6899,2,    160.1,2,    159.7,2,   148.81,2,    35.52,2,     0.00,2,     2.46,2,   2321.2,2,   2416.9,2,   7.5975,2,    25.00,  -999.00,9,  -999.00,9,   1.5204,2,     1601
  49UP20180501,RF1804,  6232,  1,      2,  25811,2,20180507,1548, 40.0182, 154.3430, 5533,   5356.7,   1.5434,   1.5434,2,  34.6908,2,  34.6909,2,    162.1,2,    162.1,2,   146.51,2,    35.46,2,     0.00,2,     2.44,2,   2318.2,2,   2414.5,2,   7.6002,2,    25.00,  -999.00,9,  -999.00,9,   1.5434,2,     1555
  49UP20180501,RF1804,  6232,  1,      1,  25810,2,20180507,1548, 40.0182, 154.3430, 5533,   5659.1,   1.5761,   1.5761,2,  34.6917,2,  34.6918,6,    163.4,2,    163.6,2,   145.30,2,    35.36,2,     0.00,2,     2.44,2,   2314.1,2,   2415.5,2,   7.6042,2,    25.00,  -999.00,9,  -999.00,9,   1.5761,2,     1548