BOTTLE,20200310PRINUNIVRMK
EXPOCODE,SECT_ID,STNNBR,CASTNO,SAMPNO,BTLNBR,BTLNBR_FLAG_W,DATE,TIME,LATITUDE,LONGITUDE,DEPTH,CTDPRS,CTDTMP,SBE35,SBE35_FLAG_W,CTDSAL,CTDSAL_FLAG_W,SALNTY,SALNTY_FLAG_W,CTDOXY,CTDOXY_FLAG_W,OXYGEN,OXYGEN_FLAG_W,SILCAT,SILCAT_FLAG_W,NITRAT,NITRAT_FLAG_W,NITRIT,NITRIT_FLAG_W,PHSPHT,PHSPHT_FLAG_W,TCARBN,TCARBN_FLAG_W,ALKALI,ALKALI_FLAG_W,PH_TOT,PH_TOT_FLAG_W,PH_TMP,CHLORA,CHLORA_FLAG_W,PPHYTN,PPHYTN_FLAG_W,SBE35,SBE35_FLAG_W,BTL_TIME
,,,,,,,,,,,METERS,DBAR,ITS-90,,,PSS-78,,PSS-78,,UMOL/KG,,UMOL/KG,,UMOL/KG,,UMOL/KG,,UMOL/KG,,UMOL/KG,,UMOL/KG,,UMOL/KG,,,,DEG C,UG/KG,,UG/KG,,,,
  49UP20180501,RF1804,  6225,  1,     99,     99,2,20180505,0508, 40.0002, 146.0125, 5145,      0.0,  10.0669,-999.0000,9,  33.6479,2,-999.0000,9,    310.7,2,    310.3,2,     3.24,2,     6.02,2,     0.20,2,     0.51,2,   -999.0,9,   -999.0,9,-999.0000,9,  -999.00,  -999.00,9,  -999.00,9,-999.0000,9,      605
  49UP20180501,RF1804,  6225,  1,     33,  25842,2,20180505,0508, 40.0002, 146.0125, 5145,     10.1,   9.9110,   9.9397,2,  33.6476,2,-999.0000,9,    311.8,2,    312.6,2,     3.33,2,     6.10,2,     0.20,2,     0.52,2,   -999.0,9,   -999.0,9,-999.0000,9,  -999.00,  -999.00,9,  -999.00,9,   9.9397,2,      622
  49UP20180501,RF1804,  6225,  1,     32,  25841,2,20180505,0508, 40.0002, 146.0125, 5145,     26.5,   9.1132,   9.0867,2,  33.7228,2,-999.0000,9,    303.0,2,    303.4,2,     5.09,2,     7.35,2,     0.20,2,     0.65,2,   -999.0,9,   -999.0,9,-999.0000,9,  -999.00,  -999.00,9,  -999.00,9,   9.0867,2,      620
  49UP20180501,RF1804,  6225,  1,     31,  25840,2,20180505,0508, 40.0002, 146.0125, 5145,     51.2,   5.3369,   5.3335,2,  33.4348,2,-999.0000,9,    314.0,2,    314.5,2,    16.63,2,    13.43,2,     0.26,2,     1.25,2,   -999.0,9,   -999.0,9,-999.0000,9,  -999.00,  -999.00,9,  -999.00,9,   5.3335,2,      618
  49UP20180501,RF1804,  6225,  1,     30,  25839,2,20180505,0508, 40.0002, 146.0125, 5145,     76.9,   5.2267,   5.2306,2,  33.4970,2,-999.0000,9,    298.8,2,    300.2,2,    24.01,2,    15.65,2,     0.24,2,     1.35,2,   -999.0,9,   -999.0,9,-999.0000,9,  -999.00,  -999.00,9,  -999.00,9,   5.2306,2,      617
  49UP20180501,RF1804,  6225,  1,     29,  25838,2,20180505,0508, 40.0002, 146.0125, 5145,    100.3,   4.3956,   4.3957,2,  33.4467,2,-999.0000,9,    295.4,2,    296.0,2,    31.73,2,    18.68,2,     0.21,2,     1.51,2,   -999.0,9,   -999.0,9,-999.0000,9,  -999.00,  -999.00,9,  -999.00,9,   4.3957,2,      613
  49UP20180501,RF1804,  6225,  1,     28,  25837,2,20180505,0508, 40.0002, 146.0125, 5145,    126.2,   4.0804,   4.0782,2,  33.4336,2,-999.0000,9,    290.9,2,    291.9,2,    35.25,2,    19.89,2,     0.06,2,     1.56,2,   -999.0,9,   -999.0,9,-999.0000,9,  -999.00,  -999.00,9,  -999.00,9,   4.0782,2,      611
  49UP20180501,RF1804,  6225,  1,     24,  25833,2,20180505,0508, 40.0002, 146.0125, 5145,    152.6,   3.9075,   3.9096,2,  33.4360,2,-999.0000,9,    284.8,2,    285.0,2,    37.54,2,    20.58,2,     0.02,2,     1.61,2,   -999.0,9,   -999.0,9,-999.0000,9,  -999.00,  -999.00,9,  -999.00,9,   3.9096,2,      608
  49UP20180501,RF1804,  6225,  1,     22,  25831,2,20180505,0508, 40.0002, 146.0125, 5145,    202.5,   4.4586,   4.4572,2,  33.6256,2,-999.0000,9,    213.8,2,    211.6,3,    49.75,2,    25.54,2,     0.02,2,     1.92,2,   -999.0,9,   -999.0,9,-999.0000,9,  -999.00,  -999.00,9,  -999.00,9,   4.4572,2,      606
  49UP20180501,RF1804,  6225,  1,     23,  25832,3,20180505,0508, 40.0002, 146.0125, 5145,    203.1,   4.4407,   4.4431,2,  33.6167,2,-999.0000,9,    213.6,2,    214.0,2,    49.27,2,    25.33,2,     0.02,2,     1.91,2,   -999.0,9,   -999.0,9,-999.0000,9,  -999.00,  -999.00,9,  -999.00,9,   4.4431,2,      606
  49UP20180501,RF1804,  6225,  1,     21,  25830,2,20180505,0508, 40.0002, 146.0125, 5145,    252.6,   3.9175,   3.9199,2,  33.6574,2,-999.0000,9,    171.0,2,    170.8,6,    63.70,6,    30.58,6,     0.01,6,     2.28,6,   -999.0,9,   -999.0,9,-999.0000,9,  -999.00,  -999.00,9,  -999.00,9,   3.9199,2,      603
  49UP20180501,RF1804,  6225,  1,     20,  25829,2,20180505,0508, 40.0002, 146.0125, 5145,    303.4,   3.1607,   3.1665,2,  33.6697,2,-999.0000,9,    129.3,2,    129.0,2,    80.96,2,    36.07,2,     0.00,2,     2.65,2,   -999.0,9,   -999.0,9,-999.0000,9,  -999.00,  -999.00,9,  -999.00,9,   3.1665,2,      601
  49UP20180501,RF1804,  6225,  1,     19,  25828,2,20180505,0508, 40.0002, 146.0125, 5145,    403.2,   4.8895,   4.8936,2,  34.1080,2,-999.0000,9,     83.1,2,     82.3,2,    88.32,2,    36.63,2,     0.00,2,     2.63,2,   -999.0,9,   -999.0,9,-999.0000,9,  -999.00,  -999.00,9,  -999.00,9,   4.8936,2,      557
  49UP20180501,RF1804,  6225,  1,     15,  25824,3,20180505,0508, 40.0002, 146.0125, 5145,    505.1,   4.4618,   4.4612,2,  34.1696,2,-999.0000,9,     65.2,2,     68.2,2,    99.67,2,    38.67,2,     0.00,2,     2.77,2,   -999.0,9,   -999.0,9,-999.0000,9,  -999.00,  -999.00,9,  -999.00,9,   4.4612,2,      554
  49UP20180501,RF1804,  6225,  1,     14,  25823,2,20180505,0508, 40.0002, 146.0125, 5145,    605.8,   4.0134,   4.0133,2,  34.2396,2,-999.0000,9,     52.2,2,     52.2,2,   112.39,2,    40.30,2,     0.00,2,     2.88,2,   -999.0,9,   -999.0,9,-999.0000,9,  -999.00,  -999.00,9,  -999.00,9,   4.0133,2,      551
  49UP20180501,RF1804,  6225,  1,     13,  25822,2,20180505,0508, 40.0002, 146.0125, 5145,    708.9,   3.6806,   3.6810,2,  34.2877,2,-999.0000,9,     45.2,2,     45.2,2,   121.44,2,    41.24,2,     0.00,2,     2.94,2,   -999.0,9,   -999.0,9,-999.0000,9,  -999.00,  -999.00,9,  -999.00,9,   3.6810,2,      548
  49UP20180501,RF1804,  6225,  1,     12,  25821,2,20180505,0508, 40.0002, 146.0125, 5145,    810.1,   3.3823,   3.3830,2,  34.3428,2,-999.0000,9,     42.2,2,     42.4,2,   129.89,2,    41.83,2,     0.00,2,     2.98,2,   -999.0,9,   -999.0,9,-999.0000,9,  -999.00,  -999.00,9,  -999.00,9,   3.3830,2,      545
  49UP20180501,RF1804,  6225,  1,     11,  25820,3,20180505,0508, 40.0002, 146.0125, 5145,    908.0,   3.0999,   3.0986,2,  34.3773,2,-999.0000,9,     38.6,2,     38.6,2,   137.87,2,    42.48,2,     0.00,2,     3.02,2,   -999.0,9,   -999.0,9,-999.0000,9,  -999.00,  -999.00,9,  -999.00,9,   3.0986,2,      541
  49UP20180501,RF1804,  6225,  1,     10,  25819,2,20180505,0508, 40.0002, 146.0125, 5145,   1011.3,   2.8892,   2.8885,2,  34.4152,2,-999.0000,9,     38.2,2,     38.3,2,   144.11,2,    42.69,2,     0.00,2,     3.04,2,   -999.0,9,   -999.0,9,-999.0000,9,  -999.00,  -999.00,9,  -999.00,9,   2.8885,2,      538
  49UP20180501,RF1804,  6225,  1,      6,  25815,2,20180505,0508, 40.0002, 146.0125, 5145,   1213.1,   2.5710,   2.5709,2,  34.4743,2,-999.0000,9,     41.1,2,     40.8,2,   152.86,2,    42.90,2,     0.00,2,     3.04,2,   -999.0,9,   -999.0,9,-999.0000,9,  -999.00,  -999.00,9,  -999.00,9,   2.5709,2,      531
  49UP20180501,RF1804,  6225,  1,      5,  25814,3,20180505,0508, 40.0002, 146.0125, 5145,   1416.6,   2.3386,   2.3387,2,  34.5139,2,-999.0000,9,     46.5,2,     46.4,2,   159.08,2,    42.61,2,     0.00,2,     3.02,2,   -999.0,9,   -999.0,9,-999.0000,9,  -999.00,  -999.00,9,  -999.00,9,   2.3387,2,      526
  49UP20180501,RF1804,  6225,  1,      4,  25813,2,20180505,0508, 40.0002, 146.0125, 5145,   1619.5,   2.1661,   2.1652,2,  34.5516,2,-999.0000,9,     57.1,2,     57.4,6,   161.68,6,    42.10,6,     0.00,6,     2.97,6,   -999.0,9,   -999.0,9,-999.0000,9,  -999.00,  -999.00,9,  -999.00,9,   2.1652,2,      521
  49UP20180501,RF1804,  6225,  1,      2,  25811,2,20180505,0508, 40.0002, 146.0125, 5145,   1821.0,   2.0044,   2.0044,2,  34.5806,2,-999.0000,9,     68.5,2,     69.0,2,   163.51,2,    41.51,2,     0.00,2,     2.92,2,   -999.0,9,   -999.0,9,-999.0000,9,  -999.00,  -999.00,9,  -999.00,9,   2.0044,2,      516
  49UP20180501,RF1804,  6225,  1,      3,  25812,2,20180505,0508, 40.0002, 146.0125, 5145,   1821.3,   2.0043,   2.0044,2,  34.5807,2,-999.0000,9,     68.5,2,     68.9,2,   163.55,2,    41.46,2,     0.00,2,     2.92,2,   -999.0,9,   -999.0,9,-999.0000,9,  -999.00,  -999.00,9,  -999.00,9,   2.0044,2,      516
  49UP20180501,RF1804,  6225,  1,      1,  25810,2,20180505,0508, 40.0002, 146.0125, 5145,   2028.4,   1.8838,   1.8839,2,  34.6026,2,-999.0000,9,     80.3,2,     80.8,2,   163.91,2,    40.75,2,     0.00,2,     2.87,2,   -999.0,9,   -999.0,9,-999.0000,9,  -999.00,  -999.00,9,  -999.00,9,   1.8839,2,      510
  49UP20180501,RF1804,  6226,  1,     99,     99,2,20180505,1316, 40.0108, 146.9882, 5257,      0.0,  13.4090,-999.0000,9,  34.4087,2,  34.4159,2,    269.2,2,    268.6,2,     9.95,2,     4.30,2,     0.17,2,     0.36,2,   -999.0,9,   -999.0,9,-999.0000,9,  -999.00,     0.82,2,     0.35,2,-999.0000,9,     1358
  49UP20180501,RF1804,  6226,  1,     33,  25842,2,20180505,1316, 40.0108, 146.9882, 5257,     10.3,  13.4104,  13.4109,2,  34.4088,2,  34.4099,2,    269.2,2,    269.4,2,     9.59,2,     4.26,2,     0.17,2,     0.33,2,   -999.0,9,   -999.0,9,-999.0000,9,  -999.00,     0.86,2,     0.32,2,  13.4109,2,     1434
  49UP20180501,RF1804,  6226,  1,     32,  25841,2,20180505,1316, 40.0108, 146.9882, 5257,     26.0,  13.3081,  13.3083,2,  34.4403,2,-999.0000,9,    267.2,2,    267.8,2,    10.43,2,     4.40,2,     0.19,2,     0.35,2,   -999.0,9,   -999.0,9,-999.0000,9,  -999.00,     0.87,2,     0.41,2,  13.3083,2,     1432
  49UP20180501,RF1804,  6226,  1,     31,  25840,2,20180505,1316, 40.0108, 146.9882, 5257,     50.4,  12.8801,  12.8815,2,  34.4914,2,-999.0000,9,    253.6,2,    254.3,2,    12.32,2,     6.38,2,     0.48,2,     0.51,2,   -999.0,9,   -999.0,9,-999.0000,9,  -999.00,     0.15,2,     0.17,2,  12.8815,2,     1430
  49UP20180501,RF1804,  6226,  1,     30,  25839,2,20180505,1316, 40.0108, 146.9882, 5257,     76.2,  11.9610,  11.9609,2,  34.3936,2,-999.0000,9,    232.7,2,    244.2,2,    16.17,2,    10.86,2,     0.04,2,     0.77,2,   -999.0,9,   -999.0,9,-999.0000,9,  -999.00,     0.03,2,     0.09,2,  11.9609,2,     1428
  49UP20180501,RF1804,  6226,  1,     29,  25838,2,20180505,1316, 40.0108, 146.9882, 5257,    101.0,  10.5644,  10.5650,2,  34.2237,2,  34.2249,2,    238.1,2,    238.2,2,    16.90,2,    11.71,2,     0.24,2,     0.86,2,   -999.0,9,   -999.0,9,-999.0000,9,  -999.00,     0.05,2,     0.11,2,  10.5650,2,     1423
  49UP20180501,RF1804,  6226,  1,     28,  25837,3,20180505,1316, 40.0108, 146.9882, 5257,    125.9,   9.4786,   9.5016,2,  34.0818,2,-999.0000,9,    247.8,2,    246.9,2,    18.33,2,    12.49,2,     0.27,2,     0.95,2,   -999.0,9,   -999.0,9,-999.0000,9,  -999.00,     0.05,2,     0.10,2,   9.5016,2,     1421
  49UP20180501,RF1804,  6226,  1,     24,  25833,2,20180505,1316, 40.0108, 146.9882, 5257,    149.4,   8.6882,   8.6871,2,  34.0231,2,-999.0000,9,    207.8,2,    207.8,2,    29.40,2,    17.78,2,     0.05,2,     1.30,2,   -999.0,9,   -999.0,9,-999.0000,9,  -999.00,     0.02,2,     0.09,2,   8.6871,2,     1419
  49UP20180501,RF1804,  6226,  1,     23,  25832,2,20180505,1316, 40.0108, 146.9882, 5257,    203.6,   6.8245,   6.8039,2,  33.8658,2,-999.0000,9,    199.8,2,    198.4,2,    41.59,2,    22.75,2,     0.03,2,     1.69,2,   -999.0,9,   -999.0,9,-999.0000,9,  -999.00,     0.01,2,     0.07,2,   6.8039,2,     1416
  49UP20180501,RF1804,  6226,  1,     22,  25831,2,20180505,1316, 40.0108, 146.9882, 5257,    251.9,   6.3209,   6.3208,2,  33.9106,2,-999.0000,9,    170.6,2,    170.2,2,    50.56,2,    26.17,2,     0.02,2,     1.93,2,   -999.0,9,   -999.0,9,-999.0000,9,  -999.00,  -999.00,9,  -999.00,9,   6.3208,2,     1414
  49UP20180501,RF1804,  6226,  1,     21,  25830,2,20180505,1316, 40.0108, 146.9882, 5257,    302.5,   5.8201,   5.8211,2,  33.9678,2,-999.0000,9,    138.9,2,    138.2,2,    62.51,2,    29.99,2,     0.01,2,     2.20,2,   -999.0,9,   -999.0,9,-999.0000,9,  -999.00,  -999.00,9,  -999.00,9,   5.8211,2,     1411
  49UP20180501,RF1804,  6226,  1,     20,  25829,2,20180505,1316, 40.0108, 146.9882, 5257,    403.1,   5.0441,   5.0443,2,  34.0733,2,  34.0734,2,     92.7,2,     92.9,2,    83.14,2,    35.47,2,     0.01,2,     2.57,2,   -999.0,9,   -999.0,9,-999.0000,9,  -999.00,  -999.00,9,  -999.00,9,   5.0443,2,     1408
  49UP20180501,RF1804,  6226,  1,     19,  25828,2,20180505,1316, 40.0108, 146.9882, 5257,    504.1,   4.4807,   4.4808,2,  34.1626,2,-999.0000,9,     66.3,2,     66.9,2,    99.07,2,    38.50,2,     0.00,2,     2.77,2,   -999.0,9,   -999.0,9,-999.0000,9,  -999.00,  -999.00,9,  -999.00,9,   4.4808,2,     1405
  49UP20180501,RF1804,  6226,  1,     15,  25824,2,20180505,1316, 40.0108, 146.9882, 5257,    606.0,   4.1527,   4.1529,2,  34.2386,2,  34.2388,2,     56.0,2,     56.4,6,   109.60,6,    39.73,6,     0.00,6,     2.85,6,   -999.0,9,   -999.0,9,-999.0000,9,  -999.00,  -999.00,9,  -999.00,9,   4.1529,2,     1402
  49UP20180501,RF1804,  6226,  1,     13,  25822,2,20180505,1316, 40.0108, 146.9882, 5257,    707.6,   3.6534,   3.6550,2,  34.2783,2,  34.2772,2,     43.5,2,     43.6,2,   122.06,2,    41.32,2,     0.00,2,     2.96,2,   -999.0,9,   -999.0,9,-999.0000,9,  -999.00,  -999.00,9,  -999.00,9,   3.6550,2,     1358
  49UP20180501,RF1804,  6226,  1,     14,  25823,2,20180505,1316, 40.0108, 146.9882, 5257,    707.9,   3.6526,   3.6529,2,  34.2785,2,  34.2776,2,     43.5,2,     43.6,2,   121.98,2,    41.33,2,     0.00,2,     2.96,2,   -999.0,9,   -999.0,9,-999.0000,9,  -999.00,  -999.00,9,  -999.00,9,   3.6529,2,     1358
  49UP20180501,RF1804,  6226,  1,     12,  25821,2,20180505,1316, 40.0108, 146.9882, 5257,    806.9,   3.4233,   3.4233,2,  34.3293,2,  34.3297,2,     41.6,2,     41.5,2,   128.79,2,    41.77,2,     0.00,2,     2.99,2,   -999.0,9,   -999.0,9,-999.0000,9,  -999.00,  -999.00,9,  -999.00,9,   3.4233,2,     1354
  49UP20180501,RF1804,  6226,  1,     11,  25820,2,20180505,1316, 40.0108, 146.9882, 5257,    908.5,   3.0334,   3.0332,2,  34.3484,2,-999.0000,9,     33.8,2,     33.9,2,   140.01,2,    42.76,2,     0.00,2,     3.06,2,   -999.0,9,   -999.0,9,-999.0000,9,  -999.00,  -999.00,9,  -999.00,9,   3.0332,2,     1351
  49UP20180501,RF1804,  6226,  1,     10,  25819,2,20180505,1316, 40.0108, 146.9882, 5257,   1011.0,   2.8698,   2.8700,2,  34.3941,2,  34.3938,2,     34.7,2,     34.4,2,   145.49,2,    42.82,2,     0.00,2,     3.06,2,   -999.0,9,   -999.0,9,-999.0000,9,  -999.00,  -999.00,9,  -999.00,9,   2.8700,2,     1348
  49UP20180501,RF1804,  6226,  1,      6,  25815,2,20180505,1316, 40.0108, 146.9882, 5257,   1213.5,   2.5908,   2.5914,2,  34.4575,2,-999.0000,9,     38.8,2,     38.7,6,   153.32,6,    42.79,6,     0.00,6,     3.05,6,   -999.0,9,   -999.0,9,-999.0000,9,  -999.00,  -999.00,9,  -999.00,9,   2.5914,2,     1339
  49UP20180501,RF1804,  6226,  1,      5,  25814,2,20180505,1316, 40.0108, 146.9882, 5257,   1418.6,   2.3455,   2.3458,2,  34.5038,2,  34.5042,6,     44.5,2,     44.2,2,   160.16,2,    42.64,2,     0.00,2,     3.03,2,   -999.0,9,   -999.0,9,-999.0000,9,  -999.00,  -999.00,9,  -999.00,9,   2.3458,2,     1334
  49UP20180501,RF1804,  6226,  1,      3,  25812,2,20180505,1316, 40.0108, 146.9882, 5257,   1619.5,   2.1857,   2.1858,2,  34.5438,2,  34.5441,2,     54.3,2,     54.4,2,   162.41,2,    42.19,2,     0.00,2,     2.99,2,   -999.0,9,   -999.0,9,-999.0000,9,  -999.00,  -999.00,9,  -999.00,9,   2.1858,2,     1328
  49UP20180501,RF1804,  6226,  1,      4,  25813,2,20180505,1316, 40.0108, 146.9882, 5257,   1620.1,   2.1848,   2.1850,2,  34.5440,2,  34.5443,2,     54.4,2,     54.6,2,   162.33,2,    42.19,2,     0.00,2,     2.98,2,   -999.0,9,   -999.0,9,-999.0000,9,  -999.00,  -999.00,9,  -999.00,9,   2.1850,2,     1329
  49UP20180501,RF1804,  6226,  1,      2,  25811,2,20180505,1316, 40.0108, 146.9882, 5257,   1822.2,   2.0370,   2.0372,2,  34.5743,2,  34.5748,2,     65.2,2,     65.5,2,   163.81,2,    41.59,2,     0.00,2,     2.93,2,   -999.0,9,   -999.0,9,-999.0000,9,  -999.00,  -999.00,9,  -999.00,9,   2.0372,2,     1323
  49UP20180501,RF1804,  6226,  1,      1,  25810,2,20180505,1316, 40.0108, 146.9882, 5257,   2026.6,   1.9075,   1.9078,2,  34.5986,2,  34.6000,4,     77.7,2,     78.0,2,   164.32,2,    40.84,2,     0.00,2,     2.88,2,   -999.0,9,   -999.0,9,-999.0000,9,  -999.00,  -999.00,9,  -999.00,9,   1.9078,2,     1318