BOTTLE,20200310PRINUNIVRMK
EXPOCODE,SECT_ID,STNNBR,CASTNO,SAMPNO,BTLNBR,BTLNBR_FLAG_W,DATE,TIME,LATITUDE,LONGITUDE,DEPTH,CTDPRS,CTDTMP,SBE35,SBE35_FLAG_W,CTDSAL,CTDSAL_FLAG_W,SALNTY,SALNTY_FLAG_W,CTDOXY,CTDOXY_FLAG_W,OXYGEN,OXYGEN_FLAG_W,SILCAT,SILCAT_FLAG_W,NITRAT,NITRAT_FLAG_W,NITRIT,NITRIT_FLAG_W,PHSPHT,PHSPHT_FLAG_W,TCARBN,TCARBN_FLAG_W,ALKALI,ALKALI_FLAG_W,PH_TOT,PH_TOT_FLAG_W,PH_TMP,CHLORA,CHLORA_FLAG_W,PPHYTN,PPHYTN_FLAG_W,SBE35,SBE35_FLAG_W,BTL_TIME
,,,,,,,,,,,METERS,DBAR,ITS-90,,,PSS-78,,PSS-78,,UMOL/KG,,UMOL/KG,,UMOL/KG,,UMOL/KG,,UMOL/KG,,UMOL/KG,,UMOL/KG,,UMOL/KG,,,,DEG C,UG/KG,,UG/KG,,,,
  49UP20180501,RF1804,  6242,  1,     99,     99,2,20180514,1146, 41.4848, 157.1458, 5573,      0.0,  10.6647,-999.0000,9,  33.9151,2,  33.7756,2,    283.3,2,    281.8,2,    12.20,2,     7.98,2,     0.12,2,     0.65,2,   -999.0,9,   -999.0,9,-999.0000,9,  -999.00,     0.69,2,     0.24,2,-999.0000,9,     1347
  49UP20180501,RF1804,  6242,  1,     36,  25845,2,20180514,1146, 41.4848, 157.1458, 5573,     10.8,  10.6371,  10.6368,2,  33.9840,2,  33.9737,2,    283.8,2,    283.0,2,    12.29,2,     8.01,2,     0.12,2,     0.62,2,   -999.0,9,   -999.0,9,-999.0000,9,  -999.00,     0.74,2,     0.16,2,  10.6368,2,     1428
  49UP20180501,RF1804,  6242,  1,     35,  25844,2,20180514,1146, 41.4848, 157.1458, 5573,     25.9,  10.6220,  10.6223,2,  33.9920,2,-999.0000,9,    283.5,2,    282.5,2,    12.33,2,     8.06,2,     0.12,2,     0.62,2,   -999.0,9,   -999.0,9,-999.0000,9,  -999.00,     0.73,2,     0.21,2,  10.6223,2,     1426
  49UP20180501,RF1804,  6242,  1,     34,  25843,3,20180514,1146, 41.4848, 157.1458, 5573,     49.7,   9.8691,   9.8769,2,  34.0742,2,  34.0624,2,    279.2,2,    278.3,2,    13.48,2,     9.13,2,     0.18,2,     0.73,2,   -999.0,9,   -999.0,9,-999.0000,9,  -999.00,     0.39,2,     0.22,2,   9.8769,2,     1424
  49UP20180501,RF1804,  6242,  1,     33,  25842,2,20180514,1146, 41.4848, 157.1458, 5573,     76.2,   9.6273,   9.6283,2,  34.0874,2,-999.0000,9,    273.6,2,    272.7,2,    14.58,2,    10.18,2,     0.28,2,     0.79,2,   -999.0,9,   -999.0,9,-999.0000,9,  -999.00,     0.11,2,     0.08,2,   9.6283,2,     1422
  49UP20180501,RF1804,  6242,  1,     32,  25841,3,20180514,1146, 41.4848, 157.1458, 5573,    102.5,   9.5497,   9.5507,2,  34.0860,2,  34.0881,2,    272.9,2,    272.2,2,    15.40,2,    10.63,2,     0.24,2,     0.81,2,   -999.0,9,   -999.0,9,-999.0000,9,  -999.00,     0.06,2,     0.06,2,   9.5507,2,     1421
  49UP20180501,RF1804,  6242,  1,     31,  25840,2,20180514,1146, 41.4848, 157.1458, 5573,    126.8,   9.3194,   9.3204,2,  34.0612,2,-999.0000,9,    272.0,2,    271.2,2,    16.70,2,    11.54,2,     0.06,2,     0.86,2,   -999.0,9,   -999.0,9,-999.0000,9,  -999.00,     0.04,2,     0.05,2,   9.3204,2,     1419
  49UP20180501,RF1804,  6242,  1,     30,  25839,2,20180514,1146, 41.4848, 157.1458, 5573,    151.4,   8.9732,   8.9727,2,  34.0275,2,  34.0291,2,    267.2,2,    266.7,2,    18.60,6,    12.60,6,     0.02,6,     0.93,6,   -999.0,9,   -999.0,9,-999.0000,9,  -999.00,     0.02,2,     0.04,2,   8.9727,2,     1417
  49UP20180501,RF1804,  6242,  1,     29,  25838,2,20180514,1146, 41.4848, 157.1458, 5573,    203.6,   7.9069,   7.9082,2,  33.9069,2,-999.0000,9,    270.4,2,    269.6,2,    22.72,2,    14.53,2,     0.02,2,     1.09,2,   -999.0,9,   -999.0,9,-999.0000,9,  -999.00,     0.02,2,     0.05,2,   7.9082,2,     1412
  49UP20180501,RF1804,  6242,  1,     28,  25837,2,20180514,1146, 41.4848, 157.1458, 5573,    254.0,   6.9752,   6.9706,2,  33.7955,2,  33.7995,2,    268.1,2,    268.1,2,    26.84,2,    16.56,2,     0.01,2,     1.25,2,   -999.0,9,   -999.0,9,-999.0000,9,  -999.00,  -999.00,9,  -999.00,9,   6.9706,2,     1410
  49UP20180501,RF1804,  6242,  1,     27,  24661,2,20180514,1146, 41.4848, 157.1458, 5573,    300.0,   6.2465,   6.2463,2,  33.7319,2,-999.0000,9,    260.0,2,    259.4,2,    31.41,2,    18.76,2,     0.01,2,     1.41,2,   -999.0,9,   -999.0,9,-999.0000,9,  -999.00,  -999.00,9,  -999.00,9,   6.2463,2,     1408
  49UP20180501,RF1804,  6242,  1,     26,  25835,2,20180514,1146, 41.4848, 157.1458, 5573,    403.3,   5.0539,   5.0533,2,  33.8350,2,  33.8364,2,    149.1,2,    148.6,2,    62.87,2,    30.68,2,     0.00,2,     2.24,2,   -999.0,9,   -999.0,9,-999.0000,9,  -999.00,  -999.00,9,  -999.00,9,   5.0533,2,     1406
  49UP20180501,RF1804,  6242,  1,     25,  25834,2,20180514,1146, 41.4848, 157.1458, 5573,    505.8,   4.5541,   4.5543,2,  33.9948,2,  33.9927,2,     89.8,2,     89.4,2,    85.09,2,    36.71,2,     0.00,2,     2.65,2,   -999.0,9,   -999.0,9,-999.0000,9,  -999.00,  -999.00,9,  -999.00,9,   4.5543,2,     1403
  49UP20180501,RF1804,  6242,  1,     24,  25833,2,20180514,1146, 41.4848, 157.1458, 5573,    608.5,   4.2886,   4.2888,2,  34.1224,2,-999.0000,9,     62.6,2,     62.7,2,   100.09,2,    39.35,2,     0.00,2,     2.81,2,   -999.0,9,   -999.0,9,-999.0000,9,  -999.00,  -999.00,9,  -999.00,9,   4.2888,2,     1400
  49UP20180501,RF1804,  6242,  1,     23,  25832,2,20180514,1146, 41.4848, 157.1458, 5573,    705.8,   3.8644,   3.8645,2,  34.1909,2,  34.1906,2,     46.6,2,     46.7,2,   113.46,2,    41.02,2,     0.00,2,     2.93,2,   -999.0,9,   -999.0,9,-999.0000,9,  -999.00,  -999.00,9,  -999.00,9,   3.8645,2,     1357
  49UP20180501,RF1804,  6242,  1,     22,  25831,2,20180514,1146, 41.4848, 157.1458, 5573,    807.1,   3.5727,   3.5750,2,  34.2786,2,-999.0000,9,     40.0,2,     39.8,2,   124.24,2,    41.78,2,     0.00,2,     2.99,2,   -999.0,9,   -999.0,9,-999.0000,9,  -999.00,  -999.00,9,  -999.00,9,   3.5750,2,     1354
  49UP20180501,RF1804,  6242,  1,     21,  25830,2,20180514,1146, 41.4848, 157.1458, 5573,    910.1,   3.3355,   3.3355,2,  34.3308,2,-999.0000,9,     38.2,2,     38.0,2,   131.30,2,    42.18,2,     0.00,2,     3.00,2,   -999.0,9,   -999.0,9,-999.0000,9,  -999.00,  -999.00,9,  -999.00,9,   3.3355,2,     1351
  49UP20180501,RF1804,  6242,  1,     20,  25829,2,20180514,1146, 41.4848, 157.1458, 5573,   1013.3,   3.0721,   3.0718,2,  34.3669,2,  34.3657,2,     35.5,2,     35.2,2,   139.14,2,    42.72,2,     0.00,2,     3.03,2,   -999.0,9,   -999.0,9,-999.0000,9,  -999.00,  -999.00,9,  -999.00,9,   3.0718,2,     1347
  49UP20180501,RF1804,  6242,  1,     19,  25828,2,20180514,1146, 41.4848, 157.1458, 5573,   1216.8,   2.7120,   2.7119,2,  34.4357,2,  34.4351,2,     36.2,2,     35.8,2,   150.20,2,    43.01,2,     0.00,2,     3.05,2,   -999.0,9,   -999.0,9,-999.0000,9,  -999.00,  -999.00,9,  -999.00,9,   2.7119,2,     1343
  49UP20180501,RF1804,  6242,  1,     18,  25827,2,20180514,1146, 41.4848, 157.1458, 5573,   1419.5,   2.4587,   2.4590,2,  34.4868,2,  34.4865,6,     40.2,2,     39.9,2,   157.17,2,    43.00,2,     0.00,2,     3.04,2,   -999.0,9,   -999.0,9,-999.0000,9,  -999.00,  -999.00,9,  -999.00,9,   2.4590,2,     1337
  49UP20180501,RF1804,  6242,  1,     17,  25826,2,20180514,1146, 41.4848, 157.1458, 5573,   1623.6,   2.2823,   2.2820,2,  34.5230,2,  34.5228,2,     47.9,2,     47.2,2,   161.06,2,    42.64,2,     0.00,2,     3.00,2,   -999.0,9,   -999.0,9,-999.0000,9,  -999.00,  -999.00,9,  -999.00,9,   2.2820,2,     1332
  49UP20180501,RF1804,  6242,  1,     16,  25825,2,20180514,1146, 41.4848, 157.1458, 5573,   1823.0,   2.1141,   2.1140,2,  34.5581,2,  34.5577,2,     57.8,2,     57.6,2,   163.91,2,    42.04,2,     0.00,2,     2.96,2,   -999.0,9,   -999.0,9,-999.0000,9,  -999.00,  -999.00,9,  -999.00,9,   2.1140,2,     1327
  49UP20180501,RF1804,  6242,  1,     15,  25824,2,20180514,1146, 41.4848, 157.1458, 5573,   2030.4,   1.9801,   1.9798,2,  34.5837,2,  34.5837,6,     68.1,2,     68.1,2,   166.03,2,    41.37,2,     0.00,2,     2.91,2,   -999.0,9,   -999.0,9,-999.0000,9,  -999.00,  -999.00,9,  -999.00,9,   1.9798,2,     1321
  49UP20180501,RF1804,  6242,  1,     14,  25823,2,20180514,1146, 41.4848, 157.1458, 5573,   2280.1,   1.8183,   1.8183,2,  34.6138,2,  34.6142,2,     84.7,2,     85.0,2,   165.85,2,    40.31,2,     0.00,2,     2.83,2,   -999.0,9,   -999.0,9,-999.0000,9,  -999.00,  -999.00,9,  -999.00,9,   1.8183,2,     1316
  49UP20180501,RF1804,  6242,  1,     13,  25822,2,20180514,1146, 41.4848, 157.1458, 5573,   2536.4,   1.7091,   1.7091,2,  34.6344,2,  34.6346,2,    100.5,2,    100.6,6,   163.47,6,    39.43,6,     0.00,6,     2.76,6,   -999.0,9,   -999.0,9,-999.0000,9,  -999.00,  -999.00,9,  -999.00,9,   1.7091,2,     1309
  49UP20180501,RF1804,  6242,  1,     12,  25821,2,20180514,1146, 41.4848, 157.1458, 5573,   2793.6,   1.6207,   1.6208,2,  34.6499,2,  34.6500,6,    113.8,2,    113.8,2,   161.45,2,    38.64,2,     0.00,2,     2.69,2,   -999.0,9,   -999.0,9,-999.0000,9,  -999.00,  -999.00,9,  -999.00,9,   1.6208,2,     1301
  49UP20180501,RF1804,  6242,  1,     11,  25820,2,20180514,1146, 41.4848, 157.1458, 5573,   3051.3,   1.5687,   1.5687,2,  34.6595,2,  34.6594,2,    123.8,2,    123.8,2,   158.85,2,    37.96,2,     0.00,2,     2.64,2,   -999.0,9,   -999.0,9,-999.0000,9,  -999.00,  -999.00,9,  -999.00,9,   1.5687,2,     1254
  49UP20180501,RF1804,  6242,  1,     10,  25819,2,20180514,1146, 41.4848, 157.1458, 5573,   3306.6,   1.5226,   1.5225,2,  34.6679,2,  34.6681,2,    132.5,2,    132.6,2,   157.36,2,    37.45,2,     0.00,2,     2.60,2,   -999.0,9,   -999.0,9,-999.0000,9,  -999.00,  -999.00,9,  -999.00,9,   1.5225,2,     1247
  49UP20180501,RF1804,  6242,  1,      9,  25818,2,20180514,1146, 41.4848, 157.1458, 5573,   3557.3,   1.5031,   1.5029,2,  34.6728,2,  34.6733,2,    138.3,2,    138.2,2,   155.59,2,    37.04,2,     0.00,2,     2.57,2,   -999.0,9,   -999.0,9,-999.0000,9,  -999.00,  -999.00,9,  -999.00,9,   1.5029,2,     1241
  49UP20180501,RF1804,  6242,  1,      8,  25817,2,20180514,1146, 41.4848, 157.1458, 5573,   3813.8,   1.4847,   1.4847,2,  34.6777,2,  34.6774,2,    144.0,2,    144.2,2,   154.11,2,    36.62,2,     0.00,2,     2.54,2,   -999.0,9,   -999.0,9,-999.0000,9,  -999.00,  -999.00,9,  -999.00,9,   1.4847,2,     1234
  49UP20180501,RF1804,  6242,  1,      7,  25816,2,20180514,1146, 41.4848, 157.1458, 5573,   4065.9,   1.4754,   1.4755,2,  34.6815,2,  34.6813,6,    148.8,2,    148.4,2,   153.04,2,    36.47,2,     0.00,2,     2.52,2,   -999.0,9,   -999.0,9,-999.0000,9,  -999.00,  -999.00,9,  -999.00,9,   1.4755,2,     1226
  49UP20180501,RF1804,  6242,  1,      6,  25815,2,20180514,1146, 41.4848, 157.1458, 5573,   4585.9,   1.4901,   1.4901,2,  34.6863,2,  34.6864,2,    155.0,2,    154.9,2,   151.38,2,    35.90,2,     0.00,2,     2.48,2,   -999.0,9,   -999.0,9,-999.0000,9,  -999.00,  -999.00,9,  -999.00,9,   1.4901,2,     1216
  49UP20180501,RF1804,  6242,  1,      5,  25814,2,20180514,1146, 41.4848, 157.1458, 5573,   4842.9,   1.5046,   1.5046,2,  34.6882,2,  34.6880,6,    156.8,2,    156.9,2,   151.31,2,    35.74,2,     0.00,2,     2.47,2,   -999.0,9,   -999.0,9,-999.0000,9,  -999.00,  -999.00,9,  -999.00,9,   1.5046,2,     1211
  49UP20180501,RF1804,  6242,  1,      4,  25813,2,20180514,1146, 41.4848, 157.1458, 5573,   5104.0,   1.5286,   1.5286,2,  34.6892,2,  34.6889,2,    157.8,2,    158.0,2,   151.31,2,    35.67,2,     0.00,2,     2.46,2,   -999.0,9,   -999.0,9,-999.0000,9,  -999.00,  -999.00,9,  -999.00,9,   1.5286,2,     1203
  49UP20180501,RF1804,  6242,  1,      3,  25812,2,20180514,1146, 41.4848, 157.1458, 5573,   5364.9,   1.5541,   1.5541,2,  34.6900,2,  34.6900,6,    159.3,2,    159.5,2,   150.71,2,    35.58,2,     0.00,2,     2.46,2,   -999.0,9,   -999.0,9,-999.0000,9,  -999.00,  -999.00,9,  -999.00,9,   1.5541,2,     1156
  49UP20180501,RF1804,  6242,  1,      2,  25811,2,20180514,1146, 41.4848, 157.1458, 5573,   5618.6,   1.5787,   1.5785,2,  34.6911,2,  34.6908,6,    160.8,2,    160.9,2,   149.12,2,    35.54,2,     0.00,2,     2.45,2,   -999.0,9,   -999.0,9,-999.0000,9,  -999.00,  -999.00,9,  -999.00,9,   1.5785,2,     1149
  49UP20180501,RF1804,  6242,  1,      1,  25810,2,20180514,1146, 41.4848, 157.1458, 5573,   5673.1,   1.5863,   1.5862,2,  34.6910,2,  34.6911,6,    160.7,2,    161.0,6,   148.92,6,    35.45,6,     0.00,6,     2.45,6,   -999.0,9,   -999.0,9,-999.0000,9,  -999.00,  -999.00,9,  -999.00,9,   1.5862,2,     1147
  49UP20180501,RF1804,  6243,  1,     99,     99,2,20180602,0001, 31.2915, 142.7393, 6534,      0.0,  23.2206,-999.0000,9,  34.6375,2,-999.0000,9,    213.5,2,    216.1,2,  -999.00,9,  -999.00,9,  -999.00,9,  -999.00,9,   -999.0,9,   -999.0,9,-999.0000,9,  -999.00,  -999.00,9,  -999.00,9,-999.0000,9,        6
  49UP20180501,RF1804,  6243,  1,     35,  25844,2,20180602,0001, 31.2915, 142.7393, 6534,     10.7,  23.1175,  23.1142,2,  34.6497,2,-999.0000,9,    214.1,2,    216.8,2,  -999.00,9,  -999.00,9,  -999.00,9,  -999.00,9,   -999.0,9,   -999.0,9,-999.0000,9,  -999.00,  -999.00,9,  -999.00,9,  23.1142,2,       42
  49UP20180501,RF1804,  6243,  1,     34,  25843,2,20180602,0001, 31.2915, 142.7393, 6534,     25.8,  21.8404,  21.8432,2,  34.8148,2,-999.0000,9,    204.9,2,    208.4,2,  -999.00,9,  -999.00,9,  -999.00,9,  -999.00,9,   -999.0,9,   -999.0,9,-999.0000,9,  -999.00,  -999.00,9,  -999.00,9,  21.8432,2,       40
  49UP20180501,RF1804,  6243,  1,     27,  24661,2,20180602,0001, 31.2915, 142.7393, 6534,     51.0,  21.3303,  21.3295,2,  34.7846,2,-999.0000,9,    219.8,2,    221.0,2,  -999.00,9,  -999.00,9,  -999.00,9,  -999.00,9,   -999.0,9,   -999.0,9,-999.0000,9,  -999.00,  -999.00,9,  -999.00,9,  21.3295,2,       37
  49UP20180501,RF1804,  6243,  1,     26,  25835,2,20180602,0001, 31.2915, 142.7393, 6534,     75.1,  20.0739,  20.0784,2,  34.8657,2,-999.0000,9,    205.7,2,    206.9,2,  -999.00,9,  -999.00,9,  -999.00,9,  -999.00,9,   -999.0,9,   -999.0,9,-999.0000,9,  -999.00,  -999.00,9,  -999.00,9,  20.0784,2,       35
  49UP20180501,RF1804,  6243,  1,     25,  25834,2,20180602,0001, 31.2915, 142.7393, 6534,    100.7,  19.4012,  19.3904,2,  34.8809,2,-999.0000,9,    200.2,2,    201.3,2,  -999.00,9,  -999.00,9,  -999.00,9,  -999.00,9,   -999.0,9,   -999.0,9,-999.0000,9,  -999.00,  -999.00,9,  -999.00,9,  19.3904,2,       34
  49UP20180501,RF1804,  6243,  1,     21,  25830,2,20180602,0001, 31.2915, 142.7393, 6534,    126.1,  18.5753,  18.5748,2,  34.8093,2,-999.0000,9,    193.9,2,    195.7,2,  -999.00,9,  -999.00,9,  -999.00,9,  -999.00,9,   -999.0,9,   -999.0,9,-999.0000,9,  -999.00,  -999.00,9,  -999.00,9,  18.5748,2,       32
  49UP20180501,RF1804,  6243,  1,     20,  25829,2,20180602,0001, 31.2915, 142.7393, 6534,    150.8,  18.2850,  18.2830,2,  34.8405,2,-999.0000,9,    200.2,2,    200.2,2,  -999.00,9,  -999.00,9,  -999.00,9,  -999.00,9,   -999.0,9,   -999.0,9,-999.0000,9,  -999.00,  -999.00,9,  -999.00,9,  18.2830,2,       30
  49UP20180501,RF1804,  6243,  1,     19,  25828,2,20180602,0001, 31.2915, 142.7393, 6534,    200.9,  17.5218,  17.5213,2,  34.7910,2,-999.0000,9,    208.7,2,    208.6,2,  -999.00,9,  -999.00,9,  -999.00,9,  -999.00,9,   -999.0,9,   -999.0,9,-999.0000,9,  -999.00,  -999.00,9,  -999.00,9,  17.5213,2,       28
  49UP20180501,RF1804,  6243,  1,     18,  25827,2,20180602,0001, 31.2915, 142.7393, 6534,    251.5,  16.6265,  16.6222,2,  34.7002,2,-999.0000,9,    193.8,2,    192.6,2,  -999.00,9,  -999.00,9,  -999.00,9,  -999.00,9,   -999.0,9,   -999.0,9,-999.0000,9,  -999.00,  -999.00,9,  -999.00,9,  16.6222,2,       26
  49UP20180501,RF1804,  6243,  1,     17,  25826,2,20180602,0001, 31.2915, 142.7393, 6534,    303.4,  15.7735,  15.7753,2,  34.6464,2,-999.0000,9,    194.3,2,    193.4,2,  -999.00,9,  -999.00,9,  -999.00,9,  -999.00,9,   -999.0,9,   -999.0,9,-999.0000,9,  -999.00,  -999.00,9,  -999.00,9,  15.7753,2,       23
  49UP20180501,RF1804,  6243,  1,     16,  25825,3,20180602,0001, 31.2915, 142.7393, 6534,    404.9,  12.3968,  12.3970,2,  34.3965,2,-999.0000,9,    172.4,2,    174.0,2,  -999.00,9,  -999.00,9,  -999.00,9,  -999.00,9,   -999.0,9,   -999.0,9,-999.0000,9,  -999.00,  -999.00,9,  -999.00,9,  12.3970,2,       20
  49UP20180501,RF1804,  6243,  1,      9,  25818,2,20180602,0001, 31.2915, 142.7393, 6534,    504.2,  10.1171,  10.1150,2,  34.2379,2,-999.0000,9,    169.7,2,    167.7,2,  -999.00,9,  -999.00,9,  -999.00,9,  -999.00,9,   -999.0,9,   -999.0,9,-999.0000,9,  -999.00,  -999.00,9,  -999.00,9,  10.1150,2,       17
  49UP20180501,RF1804,  6243,  1,      8,  25817,3,20180602,0001, 31.2915, 142.7393, 6534,    604.0,   7.2313,   7.2422,2,  34.0811,2,-999.0000,9,    142.8,2,    140.1,2,  -999.00,9,  -999.00,9,  -999.00,9,  -999.00,9,   -999.0,9,   -999.0,9,-999.0000,9,  -999.00,  -999.00,9,  -999.00,9,   7.2422,2,       15
  49UP20180501,RF1804,  6243,  1,      7,  25816,3,20180602,0001, 31.2915, 142.7393, 6534,    705.4,   5.9680,   5.9685,2,  34.2070,2,-999.0000,9,     95.2,2,     94.4,2,  -999.00,9,  -999.00,9,  -999.00,9,  -999.00,9,   -999.0,9,   -999.0,9,-999.0000,9,  -999.00,  -999.00,9,  -999.00,9,   5.9685,2,       11
  49UP20180501,RF1804,  6243,  1,      3,  25812,2,20180602,0001, 31.2915, 142.7393, 6534,    810.9,   4.7960,   4.7972,2,  34.2376,2,-999.0000,9,     71.7,2,     71.4,2,  -999.00,9,  -999.00,9,  -999.00,9,  -999.00,9,   -999.0,9,   -999.0,9,-999.0000,9,  -999.00,  -999.00,9,  -999.00,9,   4.7972,2,        8
  49UP20180501,RF1804,  6243,  1,      2,  25811,2,20180602,0001, 31.2915, 142.7393, 6534,    908.4,   3.8883,   3.8888,2,  34.2746,2,-999.0000,9,     49.3,2,     49.2,2,  -999.00,9,  -999.00,9,  -999.00,9,  -999.00,9,   -999.0,9,   -999.0,9,-999.0000,9,  -999.00,  -999.00,9,  -999.00,9,   3.8888,2,        5
  49UP20180501,RF1804,  6243,  1,      1,  25810,2,20180602,0001, 31.2915, 142.7393, 6534,   1010.7,   3.5562,   3.5565,2,  34.3173,2,-999.0000,9,     43.6,2,     43.6,2,  -999.00,9,  -999.00,9,  -999.00,9,  -999.00,9,   -999.0,9,   -999.0,9,-999.0000,9,  -999.00,  -999.00,9,  -999.00,9,   3.5565,2,        2