BOTTLE,20200310PRINUNIVRMK
# 08/30/2019 Initialized README file  
# Data source:  Masao Ishii 2020/01/14 
# SHIP: R/V Ryofu Maru III 
# Cruise: rf201804 
# Region: North Pacific Ocean 
# EXPOCODE: 49UP20180501 
# DATES: 20180501-20180605 
# Chief Scientist: Shuji Tsubaki 
# 23 stations with 36 place Rosette 
# CTD: Who - Chikara Nara; Status - final 
# 	Includes: CTDSAL,CTDOXY,SBE35 
# SALNTY: Who - Chikara Nara; Status - final 
# 	Notes: 	 
# Nutrients: Who - Chikara Nara; Status - final 
# 	Includes: nitrate, nitrite, silicate, phosphate 
# 	Nitrite and NO3+NO2 reported. Separated by subtraction 
# OXYGEN: Who - Chikara Nara; Status - final 
# 	Notes: 
# TCARBN: Who - Chikara Nara; Status - final 
# 	Notes:  
# ALKALI: Who - Chikara Nara; Status - final 
# 	Notes:  
# PH: Who - Chikara Nara; Status - final 
# 	Notes:  
# CHLORA: Who - Chikara Nara; Status - final 
# 	Notes:  
# PPHYTN: Who - Chikara Nara; Status - final 
# 	Notes:  
# These data should be cited as:               
# References that have used data from this cruise: 
EXPOCODE,SECT_ID,STNNBR,CASTNO,SAMPNO,BTLNBR,BTLNBR_FLAG_W,DATE,TIME,LATITUDE,LONGITUDE,DEPTH,CTDPRS,CTDTMP,SBE35,SBE35_FLAG_W,CTDSAL,CTDSAL_FLAG_W,SALNTY,SALNTY_FLAG_W,CTDOXY,CTDOXY_FLAG_W,OXYGEN,OXYGEN_FLAG_W,SILCAT,SILCAT_FLAG_W,NITRAT,NITRAT_FLAG_W,NITRIT,NITRIT_FLAG_W,PHSPHT,PHSPHT_FLAG_W,TCARBN,TCARBN_FLAG_W,ALKALI,ALKALI_FLAG_W,PH_TOT,PH_TOT_FLAG_W,PH_TMP,CHLORA,CHLORA_FLAG_W,PPHYTN,PPHYTN_FLAG_W,SBE35,SBE35_FLAG_W,BTL_TIME
,,,,,,,,,,,METERS,DBAR,ITS-90,,,PSS-78,,PSS-78,,UMOL/KG,,UMOL/KG,,UMOL/KG,,UMOL/KG,,UMOL/KG,,UMOL/KG,,UMOL/KG,,UMOL/KG,,,,DEG C,UG/KG,,UG/KG,,,,
  49UP20180501,RF1804,  6221,  1,     99,     99,2,20180502,1914, 40.0030, 142.3222,  513,      0.0,   9.0474,-999.0000,9,  33.7631,2,-999.0000,9,    309.1,2,    304.5,2,     5.06,2,     3.58,2,     0.13,2,     0.29,2,   -999.0,9,   -999.0,9,-999.0000,9,  -999.00,     1.92,2,     0.63,2,-999.0000,9,     1915
  49UP20180501,RF1804,  6221,  1,     35,  25844,2,20180502,1914, 40.0030, 142.3222,  513,     10.9,   9.0393,   9.0393,2,  33.7662,2,  33.7671,2,    309.2,2,    307.6,2,     4.39,2,     2.93,2,     0.11,2,     0.26,2,   -999.0,9,   -999.0,9,-999.0000,9,  -999.00,     1.92,2,     0.63,2,   9.0393,2,     1945
  49UP20180501,RF1804,  6221,  1,     34,  25843,2,20180502,1914, 40.0030, 142.3222,  513,     26.0,   8.7771,   8.7785,2,  33.9262,2,-999.0000,9,    299.2,2,    298.9,2,     3.96,2,     2.80,2,     0.12,2,     0.27,2,   -999.0,9,   -999.0,9,-999.0000,9,  -999.00,     1.75,2,     0.82,2,   8.7785,2,     1943
  49UP20180501,RF1804,  6221,  1,     30,  25839,2,20180502,1914, 40.0030, 142.3222,  513,     49.3,   8.8643,   8.8631,2,  34.0268,2,-999.0000,9,    285.0,2,    284.2,6,     4.42,6,     3.50,6,     0.17,6,     0.34,6,   -999.0,9,   -999.0,9,-999.0000,9,  -999.00,     0.39,2,     0.42,2,   8.8631,2,     1938
  49UP20180501,RF1804,  6221,  1,     29,  25838,2,20180502,1914, 40.0030, 142.3222,  513,     75.2,   8.8081,   8.8086,2,  34.0404,2,-999.0000,9,    282.5,2,    281.8,2,     4.79,2,     3.81,2,     0.17,2,     0.35,2,   -999.0,9,   -999.0,9,-999.0000,9,  -999.00,     0.27,2,     0.35,2,   8.8086,2,     1936
  49UP20180501,RF1804,  6221,  1,     28,  25837,2,20180502,1914, 40.0030, 142.3222,  513,    100.3,   8.2600,   8.2631,2,  33.9625,2,-999.0000,9,    285.8,2,    284.7,2,     5.26,2,     4.40,2,     0.18,2,     0.42,2,   -999.0,9,   -999.0,9,-999.0000,9,  -999.00,     0.21,2,     0.29,2,   8.2631,2,     1934
  49UP20180501,RF1804,  6221,  1,     21,  25830,2,20180502,1914, 40.0030, 142.3222,  513,    126.6,   8.0152,   8.0116,2,  33.9448,2,-999.0000,9,    286.6,2,    286.1,2,     5.36,2,     4.54,2,     0.18,2,     0.46,2,   -999.0,9,   -999.0,9,-999.0000,9,  -999.00,     0.15,2,     0.28,2,   8.0116,2,     1933
  49UP20180501,RF1804,  6221,  1,     20,  25829,2,20180502,1914, 40.0030, 142.3222,  513,    151.7,   8.2316,   8.2277,2,  34.0083,2,  34.0090,2,    283.9,2,    283.3,2,     5.19,2,     4.21,2,     0.19,2,     0.42,2,   -999.0,9,   -999.0,9,-999.0000,9,  -999.00,     0.11,2,     0.22,2,   8.2277,2,     1931
  49UP20180501,RF1804,  6221,  1,     19,  25828,2,20180502,1914, 40.0030, 142.3222,  513,    201.9,   6.2539,   6.2544,2,  33.7000,2,-999.0000,9,    289.8,2,    288.8,2,    15.26,2,    10.79,2,     0.18,2,     0.90,2,   -999.0,9,   -999.0,9,-999.0000,9,  -999.00,     0.03,2,     0.15,2,   6.2544,2,     1929
  49UP20180501,RF1804,  6221,  1,     11,  25820,2,20180502,1914, 40.0030, 142.3222,  513,    252.0,   6.5329,   6.5322,2,  33.7809,2,  33.7808,2,    286.1,2,    285.4,2,    15.48,2,    10.15,2,     0.15,2,     0.81,2,   -999.0,9,   -999.0,9,-999.0000,9,  -999.00,  -999.00,9,  -999.00,9,   6.5322,2,     1926
  49UP20180501,RF1804,  6221,  1,     12,  25821,2,20180502,1914, 40.0030, 142.3222,  513,    252.2,   6.5458,   6.5463,2,  33.7834,2,  33.7763,2,    286.0,2,    285.7,2,    15.61,2,    10.18,2,     0.15,2,     0.81,2,   -999.0,9,   -999.0,9,-999.0000,9,  -999.00,  -999.00,9,  -999.00,9,   6.5463,2,     1926
  49UP20180501,RF1804,  6221,  1,     10,  25819,2,20180502,1914, 40.0030, 142.3222,  513,    303.0,   6.7038,   6.7040,2,  33.8548,2,  33.8571,2,    279.6,2,    278.8,2,    15.15,2,    10.04,2,     0.17,2,     0.78,2,   -999.0,9,   -999.0,9,-999.0000,9,  -999.00,  -999.00,9,  -999.00,9,   6.7040,2,     1924
  49UP20180501,RF1804,  6221,  1,      3,  25812,2,20180502,1914, 40.0030, 142.3222,  513,    406.9,   5.9619,   5.9612,2,  33.8348,2,  33.8368,6,    248.4,2,    248.7,2,    28.49,2,    15.10,2,     0.17,2,     1.18,2,   -999.0,9,   -999.0,9,-999.0000,9,  -999.00,  -999.00,9,  -999.00,9,   5.9612,2,     1921
  49UP20180501,RF1804,  6221,  1,      2,  25811,2,20180502,1914, 40.0030, 142.3222,  513,    503.5,   3.7907,   3.7911,2,  33.9723,2,  33.9710,2,     77.0,2,     76.3,2,    98.41,2,    38.55,2,     0.03,2,     2.84,2,   -999.0,9,   -999.0,9,-999.0000,9,  -999.00,  -999.00,9,  -999.00,9,   3.7911,2,     1915
  49UP20180501,RF1804,  6222,  1,     99,     99,2,20180503,2335, 40.0138, 143.0022, 1296,      0.0,  14.5588,-999.0000,9,  34.4442,2,  34.4536,2,    260.9,2,    261.4,2,     6.04,2,     2.26,2,     0.12,2,     0.26,2,   -999.0,9,   -999.0,9,-999.0000,9,  -999.00,     0.72,2,     0.35,2,-999.0000,9,        7
  49UP20180501,RF1804,  6222,  1,     35,  25844,2,20180503,2335, 40.0138, 143.0022, 1296,     10.5,  14.5642,  14.5615,2,  34.4441,2,  34.4447,2,    260.8,2,    262.0,2,     6.04,2,     2.26,2,     0.12,2,     0.24,2,   -999.0,9,   -999.0,9,-999.0000,9,  -999.00,     0.65,2,     0.28,2,  14.5615,2,       37
  49UP20180501,RF1804,  6222,  1,     34,  25843,2,20180503,2335, 40.0138, 143.0022, 1296,     26.9,  13.6384,  13.6428,2,  34.4038,2,-999.0000,9,    260.1,2,    261.2,2,     7.21,2,     2.79,2,     0.12,2,     0.31,2,   -999.0,9,   -999.0,9,-999.0000,9,  -999.00,     0.55,2,     0.45,2,  13.6428,2,       35
  49UP20180501,RF1804,  6222,  1,     30,  25839,2,20180503,2335, 40.0138, 143.0022, 1296,     51.1,  12.5240,  12.5242,2,  34.4622,2,-999.0000,9,    235.9,2,    240.2,2,    13.76,2,     8.82,2,     0.30,2,     0.68,2,   -999.0,9,   -999.0,9,-999.0000,9,  -999.00,     0.15,2,     0.28,2,  12.5242,2,       33
  49UP20180501,RF1804,  6222,  1,     29,  25838,2,20180503,2335, 40.0138, 143.0022, 1296,     76.4,  11.5735,  11.5721,2,  34.3557,2,-999.0000,9,    227.5,2,    230.5,2,    16.86,2,    11.33,2,     0.08,2,     0.82,2,   -999.0,9,   -999.0,9,-999.0000,9,  -999.00,     0.05,2,     0.13,2,  11.5721,2,       31
  49UP20180501,RF1804,  6222,  1,     28,  25837,2,20180503,2335, 40.0138, 143.0022, 1296,    100.7,  10.7783,  10.7800,2,  34.2785,2,  34.2811,2,    248.1,2,    248.2,2,    14.26,2,    10.02,2,     0.20,2,     0.74,2,   -999.0,9,   -999.0,9,-999.0000,9,  -999.00,     0.04,2,     0.09,2,  10.7800,2,       24
  49UP20180501,RF1804,  6222,  1,     27,  24661,2,20180503,2335, 40.0138, 143.0022, 1296,    126.1,  10.0060,  10.0035,2,  34.1903,2,-999.0000,9,    237.0,2,    237.4,2,    18.57,2,    12.32,2,     0.08,2,     0.91,2,   -999.0,9,   -999.0,9,-999.0000,9,  -999.00,     0.03,2,     0.09,2,  10.0035,2,       22
  49UP20180501,RF1804,  6222,  1,     26,  25835,2,20180503,2335, 40.0138, 143.0022, 1296,    152.7,   8.9510,   8.9495,2,  34.0546,2,-999.0000,9,    232.9,2,    232.8,2,    22.58,2,    14.31,2,     0.04,2,     1.07,2,   -999.0,9,   -999.0,9,-999.0000,9,  -999.00,     0.02,2,     0.11,2,   8.9495,2,       20
  49UP20180501,RF1804,  6222,  1,     25,  25834,2,20180503,2335, 40.0138, 143.0022, 1296,    206.6,   6.3462,   6.3316,2,  33.7242,2,  33.7338,2,    261.1,2,    261.2,2,    24.28,2,    15.13,2,     0.04,2,     1.18,2,   -999.0,9,   -999.0,9,-999.0000,9,  -999.00,     0.02,2,     0.10,2,   6.3316,2,       18
  49UP20180501,RF1804,  6222,  1,     20,  25829,2,20180503,2335, 40.0138, 143.0022, 1296,    251.5,   5.1834,   5.1844,2,  33.6189,2,-999.0000,9,    268.7,2,    268.6,2,    30.10,2,    17.03,2,     0.02,2,     1.34,2,   -999.0,9,   -999.0,9,-999.0000,9,  -999.00,  -999.00,9,  -999.00,9,   5.1844,2,       15
  49UP20180501,RF1804,  6222,  1,     19,  25828,2,20180503,2335, 40.0138, 143.0022, 1296,    305.1,   6.1616,   6.1598,2,  33.8485,2,-999.0000,9,    246.2,2,    248.2,6,    26.77,6,    15.02,6,     0.09,6,     1.15,6,   -999.0,9,   -999.0,9,-999.0000,9,  -999.00,  -999.00,9,  -999.00,9,   6.1598,2,       12
  49UP20180501,RF1804,  6222,  1,     18,  25827,2,20180503,2335, 40.0138, 143.0022, 1296,    404.2,   4.9702,   4.9674,2,  33.8839,2,  33.8848,2,    136.6,2,    135.9,2,    68.10,2,    31.75,2,     0.01,2,     2.33,2,   -999.0,9,   -999.0,9,-999.0000,9,  -999.00,  -999.00,9,  -999.00,9,   4.9674,2,        9
  49UP20180501,RF1804,  6222,  1,     17,  25826,2,20180503,2335, 40.0138, 143.0022, 1296,    404.4,   4.9805,   4.9881,2,  33.8853,2,  33.8904,2,    136.7,2,    136.2,2,    67.64,2,    31.64,2,     0.01,2,     2.32,2,   -999.0,9,   -999.0,9,-999.0000,9,  -999.00,  -999.00,9,  -999.00,9,   4.9881,2,        8
  49UP20180501,RF1804,  6222,  1,     16,  25825,2,20180503,2335, 40.0138, 143.0022, 1296,    505.7,   4.9813,   4.9853,2,  34.0934,2,-999.0000,9,     87.8,2,     88.1,2,    85.07,2,    36.01,2,     0.00,2,     2.59,2,   -999.0,9,   -999.0,9,-999.0000,9,  -999.00,  -999.00,9,  -999.00,9,   4.9853,2,        5
  49UP20180501,RF1804,  6222,  1,     11,  25820,2,20180503,2335, 40.0138, 143.0022, 1296,    611.7,   4.2507,   4.2521,2,  34.1515,2,  34.1556,2,     60.7,2,     61.9,2,   102.15,2,    39.24,2,     0.00,2,     2.81,2,   -999.0,9,   -999.0,9,-999.0000,9,  -999.00,  -999.00,9,  -999.00,9,   4.2521,2,        1
  49UP20180501,RF1804,  6222,  1,     10,  25819,2,20180503,2335, 40.0138, 143.0022, 1296,    714.2,   3.6007,   3.6011,2,  34.2000,2,-999.0000,9,     39.4,2,     39.2,2,   120.38,2,    41.86,2,     0.00,2,     3.00,2,   -999.0,9,   -999.0,9,-999.0000,9,  -999.00,  -999.00,9,  -999.00,9,   3.6011,2,     2357
  49UP20180501,RF1804,  6222,  1,      9,  25818,2,20180503,2335, 40.0138, 143.0022, 1296,    813.4,   3.3446,   3.3448,2,  34.2612,2,  34.2616,2,     33.9,2,     34.1,2,   129.85,2,    42.46,2,     0.00,2,     3.05,2,   -999.0,9,   -999.0,9,-999.0000,9,  -999.00,  -999.00,9,  -999.00,9,   3.3448,2,     2353
  49UP20180501,RF1804,  6222,  1,      7,  25816,2,20180503,2335, 40.0138, 143.0022, 1296,    911.3,   3.2152,   3.2154,2,  34.3077,2,  34.3076,2,     33.7,2,     33.8,2,   135.02,2,    42.48,2,     0.00,2,     3.05,2,   -999.0,9,   -999.0,9,-999.0000,9,  -999.00,  -999.00,9,  -999.00,9,   3.2154,2,     2349
  49UP20180501,RF1804,  6222,  1,      8,  25817,2,20180503,2335, 40.0138, 143.0022, 1296,    912.8,   3.2146,   3.2148,2,  34.3078,2,  34.3078,2,     33.7,2,     33.8,2,   134.95,2,    42.49,2,     0.00,2,     3.05,2,   -999.0,9,   -999.0,9,-999.0000,9,  -999.00,  -999.00,9,  -999.00,9,   3.2148,2,     2349
  49UP20180501,RF1804,  6222,  1,      3,  25812,2,20180503,2335, 40.0138, 143.0022, 1296,   1011.1,   3.0024,   3.0028,2,  34.3633,2,  34.3635,6,     34.0,2,     33.9,6,   142.11,6,    42.60,6,     0.00,6,     3.06,6,   -999.0,9,   -999.0,9,-999.0000,9,  -999.00,  -999.00,9,  -999.00,9,   3.0028,2,     2345
  49UP20180501,RF1804,  6222,  1,      2,  25811,2,20180503,2335, 40.0138, 143.0022, 1296,   1216.8,   2.6562,   2.6564,2,  34.4510,2,-999.0000,9,     37.8,2,     37.8,2,   153.05,2,    42.57,2,     0.02,2,     3.07,2,   -999.0,9,   -999.0,9,-999.0000,9,  -999.00,  -999.00,9,  -999.00,9,   2.6564,2,     2340
  49UP20180501,RF1804,  6222,  1,      1,  25810,2,20180503,2335, 40.0138, 143.0022, 1296,   1275.2,   2.4324,   2.4343,2,  34.4880,2,  34.4898,4,     40.4,2,     40.7,2,   161.27,2,    42.20,2,     0.03,2,     3.09,2,   -999.0,9,   -999.0,9,-999.0000,9,  -999.00,  -999.00,9,  -999.00,9,   2.4343,2,     2336