BOTTLE,20200310PRINUNIVRMK
EXPOCODE,SECT_ID,STNNBR,CASTNO,SAMPNO,BTLNBR,BTLNBR_FLAG_W,DATE,TIME,LATITUDE,LONGITUDE,DEPTH,CTDPRS,CTDTMP,SBE35,SBE35_FLAG_W,CTDSAL,CTDSAL_FLAG_W,SALNTY,SALNTY_FLAG_W,CTDOXY,CTDOXY_FLAG_W,OXYGEN,OXYGEN_FLAG_W,SILCAT,SILCAT_FLAG_W,NITRAT,NITRAT_FLAG_W,NITRIT,NITRIT_FLAG_W,PHSPHT,PHSPHT_FLAG_W,TCARBN,TCARBN_FLAG_W,ALKALI,ALKALI_FLAG_W,PH_TOT,PH_TOT_FLAG_W,PH_TMP,CHLORA,CHLORA_FLAG_W,PPHYTN,PPHYTN_FLAG_W,SBE35,SBE35_FLAG_W,BTL_TIME
,,,,,,,,,,,METERS,DBAR,ITS-90,,,PSS-78,,PSS-78,,UMOL/KG,,UMOL/KG,,UMOL/KG,,UMOL/KG,,UMOL/KG,,UMOL/KG,,UMOL/KG,,UMOL/KG,,,,DEG C,UG/KG,,UG/KG,,,,
  49UP20180501,RF1804,  6223,  1,     99,     99,2,20180504,0723, 40.0020, 144.0435, 4494,      0.0,  13.9084,-999.0000,9,  34.4320,2,-999.0000,9,    267.9,2,    267.5,2,     6.37,2,     2.52,2,     0.12,2,     0.23,2,   -999.0,9,   -999.0,9,-999.0000,9,  -999.00,  -999.00,9,  -999.00,9,-999.0000,9,      805
  49UP20180501,RF1804,  6223,  1,     36,  25845,2,20180504,0723, 40.0020, 144.0435, 4494,     10.4,  13.9133,  13.9126,2,  34.4319,2,-999.0000,9,    267.9,2,    268.1,2,     6.30,2,     2.50,2,     0.11,2,     0.22,2,   -999.0,9,   -999.0,9,-999.0000,9,  -999.00,  -999.00,9,  -999.00,9,  13.9126,2,      841
  49UP20180501,RF1804,  6223,  1,     35,  25844,2,20180504,0723, 40.0020, 144.0435, 4494,     25.0,  13.7735,  13.7723,2,  34.4196,2,-999.0000,9,    266.7,2,    267.2,2,     7.32,2,     2.92,2,     0.11,2,     0.25,2,   -999.0,9,   -999.0,9,-999.0000,9,  -999.00,  -999.00,9,  -999.00,9,  13.7723,2,      839
  49UP20180501,RF1804,  6223,  1,     34,  25843,2,20180504,0723, 40.0020, 144.0435, 4494,     51.4,  12.9812,  12.9816,2,  34.4658,2,-999.0000,9,    258.1,2,    258.7,2,     9.50,2,     5.10,2,     0.26,2,     0.43,2,   -999.0,9,   -999.0,9,-999.0000,9,  -999.00,  -999.00,9,  -999.00,9,  12.9816,2,      835
  49UP20180501,RF1804,  6223,  1,     30,  25839,2,20180504,0723, 40.0020, 144.0435, 4494,     75.4,  12.6340,  12.6368,2,  34.4854,2,-999.0000,9,    252.7,2,    253.1,2,    10.73,2,     6.66,2,     0.49,2,     0.51,2,   -999.0,9,   -999.0,9,-999.0000,9,  -999.00,  -999.00,9,  -999.00,9,  12.6368,2,      832
  49UP20180501,RF1804,  6223,  1,     29,  25838,2,20180504,0723, 40.0020, 144.0435, 4494,    100.6,  12.3371,  12.3367,2,  34.4581,2,-999.0000,9,    246.8,2,    247.1,2,    12.29,2,     8.50,2,     0.06,2,     0.60,2,   -999.0,9,   -999.0,9,-999.0000,9,  -999.00,  -999.00,9,  -999.00,9,  12.3367,2,      831
  49UP20180501,RF1804,  6223,  1,     28,  25837,2,20180504,0723, 40.0020, 144.0435, 4494,    100.6,  12.3381,  12.3383,2,  34.4580,2,-999.0000,9,    246.8,2,    247.2,2,    12.31,2,     8.54,2,     0.05,2,     0.60,2,   -999.0,9,   -999.0,9,-999.0000,9,  -999.00,  -999.00,9,  -999.00,9,  12.3383,2,      830
  49UP20180501,RF1804,  6223,  1,     27,  24661,2,20180504,0723, 40.0020, 144.0435, 4494,    126.3,  11.9762,  11.9758,2,  34.4235,2,-999.0000,9,    243.1,2,    243.7,2,    13.63,2,     9.51,2,     0.02,2,     0.67,2,   -999.0,9,   -999.0,9,-999.0000,9,  -999.00,  -999.00,9,  -999.00,9,  11.9758,2,      829
  49UP20180501,RF1804,  6223,  1,     26,  25835,2,20180504,0723, 40.0020, 144.0435, 4494,    151.0,  11.4994,  11.4998,2,  34.3663,2,-999.0000,9,    243.8,2,    244.1,2,    14.17,2,     9.79,2,     0.02,2,     0.68,2,   -999.0,9,   -999.0,9,-999.0000,9,  -999.00,  -999.00,9,  -999.00,9,  11.4998,2,      827
  49UP20180501,RF1804,  6223,  1,     25,  25834,2,20180504,0723, 40.0020, 144.0435, 4494,    201.1,  10.0180,  10.0211,2,  34.1803,2,-999.0000,9,    237.8,2,    237.7,6,    18.80,6,    12.58,6,     0.02,6,     0.91,6,   -999.0,9,   -999.0,9,-999.0000,9,  -999.00,  -999.00,9,  -999.00,9,  10.0211,2,      825
  49UP20180501,RF1804,  6223,  1,     21,  25830,2,20180504,0723, 40.0020, 144.0435, 4494,    251.8,   7.9832,   7.9840,2,  33.9139,2,-999.0000,9,    243.2,2,    243.7,2,    22.22,2,    14.89,2,     0.09,2,     1.11,2,   -999.0,9,   -999.0,9,-999.0000,9,  -999.00,  -999.00,9,  -999.00,9,   7.9840,2,      823
  49UP20180501,RF1804,  6223,  1,     20,  25829,2,20180504,0723, 40.0020, 144.0435, 4494,    302.4,   7.2349,   7.2351,2,  33.8838,2,-999.0000,9,    218.1,2,    218.1,2,    33.51,2,    19.27,2,     0.01,2,     1.42,2,   -999.0,9,   -999.0,9,-999.0000,9,  -999.00,  -999.00,9,  -999.00,9,   7.2351,2,      821
  49UP20180501,RF1804,  6223,  1,     19,  25828,2,20180504,0723, 40.0020, 144.0435, 4494,    403.5,   5.7571,   5.7683,2,  33.7948,2,-999.0000,9,    245.0,2,    245.9,2,    30.95,2,    16.80,2,     0.01,2,     1.26,2,   -999.0,9,   -999.0,9,-999.0000,9,  -999.00,  -999.00,9,  -999.00,9,   5.7683,2,      818
  49UP20180501,RF1804,  6223,  1,     18,  25827,2,20180504,0723, 40.0020, 144.0435, 4494,    507.4,   4.1392,   4.1430,2,  33.7622,2,-999.0000,9,    145.1,2,    148.1,2,    69.85,2,    32.36,2,     0.00,2,     2.38,2,   -999.0,9,   -999.0,9,-999.0000,9,  -999.00,  -999.00,9,  -999.00,9,   4.1430,2,      812
  49UP20180501,RF1804,  6223,  1,     17,  25826,2,20180504,0723, 40.0020, 144.0435, 4494,    608.9,   4.0872,   4.0786,2,  33.9402,2,-999.0000,9,     88.0,2,     89.0,6,    89.77,6,    37.89,6,     0.00,6,     2.73,6,   -999.0,9,   -999.0,9,-999.0000,9,  -999.00,  -999.00,9,  -999.00,9,   4.0786,2,      808
  49UP20180501,RF1804,  6223,  1,     16,  25825,2,20180504,0723, 40.0020, 144.0435, 4494,    711.7,   4.0585,   4.0729,2,  34.1016,2,-999.0000,9,     58.8,2,     60.6,2,   102.42,2,    39.79,2,     0.00,2,     2.83,2,   -999.0,9,   -999.0,9,-999.0000,9,  -999.00,  -999.00,9,  -999.00,9,   4.0729,2,      805
  49UP20180501,RF1804,  6223,  1,     12,  25821,2,20180504,0723, 40.0020, 144.0435, 4494,    813.4,   3.6421,   3.6415,2,  34.1855,2,-999.0000,9,     40.0,2,     40.2,2,   119.02,2,    41.89,2,     0.00,2,     2.98,2,   -999.0,9,   -999.0,9,-999.0000,9,  -999.00,  -999.00,9,  -999.00,9,   3.6415,2,      801
  49UP20180501,RF1804,  6223,  1,     11,  25820,2,20180504,0723, 40.0020, 144.0435, 4494,    913.6,   3.4787,   3.4788,2,  34.2788,2,-999.0000,9,     38.0,2,     38.0,2,   127.15,2,    42.08,2,     0.00,2,     3.00,2,   -999.0,9,   -999.0,9,-999.0000,9,  -999.00,  -999.00,9,  -999.00,9,   3.4788,2,      757
  49UP20180501,RF1804,  6223,  1,     10,  25819,2,20180504,0723, 40.0020, 144.0435, 4494,   1016.5,   3.2403,   3.2406,2,  34.3367,2,-999.0000,9,     36.7,2,     36.6,2,   134.99,2,    42.38,2,     0.00,2,     3.01,2,   -999.0,9,   -999.0,9,-999.0000,9,  -999.00,  -999.00,9,  -999.00,9,   3.2406,2,      751
  49UP20180501,RF1804,  6223,  1,      9,  25818,2,20180504,0723, 40.0020, 144.0435, 4494,   1221.9,   2.8178,   2.8180,2,  34.4103,2,-999.0000,9,     35.1,2,     35.8,2,   148.29,2,    42.80,2,     0.00,2,     3.05,2,   -999.0,9,   -999.0,9,-999.0000,9,  -999.00,  -999.00,9,  -999.00,9,   2.8180,2,      745
  49UP20180501,RF1804,  6223,  1,      8,  25817,2,20180504,0723, 40.0020, 144.0435, 4494,   1421.9,   2.5638,   2.5639,2,  34.4720,2,-999.0000,9,     40.5,2,     40.8,2,   154.65,2,    42.89,2,     0.00,2,     3.03,2,   -999.0,9,   -999.0,9,-999.0000,9,  -999.00,  -999.00,9,  -999.00,9,   2.5639,2,      740
  49UP20180501,RF1804,  6223,  1,      7,  25816,2,20180504,0723, 40.0020, 144.0435, 4494,   1620.9,   2.3262,   2.3265,2,  34.5188,2,-999.0000,9,     47.8,2,     48.4,2,   160.88,2,    42.39,2,     0.00,2,     3.01,2,   -999.0,9,   -999.0,9,-999.0000,9,  -999.00,  -999.00,9,  -999.00,9,   2.3265,2,      734
  49UP20180501,RF1804,  6223,  1,      3,  25812,2,20180504,0723, 40.0020, 144.0435, 4494,   1822.4,   2.1499,   2.1500,2,  34.5553,2,-999.0000,9,     58.7,2,     59.0,2,   163.26,2,    42.00,2,     0.00,2,     2.95,2,   -999.0,9,   -999.0,9,-999.0000,9,  -999.00,  -999.00,9,  -999.00,9,   2.1500,2,      730
  49UP20180501,RF1804,  6223,  1,      2,  25811,2,20180504,0723, 40.0020, 144.0435, 4494,   2017.9,   1.9911,   1.9907,2,  34.5857,2,-999.0000,9,     71.6,2,     72.4,2,   164.02,2,    41.26,2,     0.00,2,     2.89,2,   -999.0,9,   -999.0,9,-999.0000,9,  -999.00,  -999.00,9,  -999.00,9,   1.9907,2,      726
  49UP20180501,RF1804,  6223,  1,      1,  25810,2,20180504,0723, 40.0020, 144.0435, 4494,   2019.9,   1.9875,   1.9873,2,  34.5864,2,-999.0000,9,     71.8,2,     72.8,2,   164.03,2,    41.23,2,     0.00,2,     2.90,2,   -999.0,9,   -999.0,9,-999.0000,9,  -999.00,  -999.00,9,  -999.00,9,   1.9873,2,      725
  49UP20180501,RF1804,  6224,  1,     99,     99,2,20180504,1634, 39.9822, 145.0113, 5653,      0.0,  13.4612,-999.0000,9,  34.4551,2,  34.4528,2,    258.8,2,    259.9,2,     7.38,2,     3.75,2,     0.28,2,     0.32,2,   2045.9,2,   2283.5,2,   7.9437,2,    25.00,     1.19,2,     0.48,2,-999.0000,9,     1845
  49UP20180501,RF1804,  6224,  1,     36,  25845,2,20180504,1634, 39.9822, 145.0113, 5653,     10.6,  13.4654,  13.4648,2,  34.4551,2,  34.4560,2,    258.8,2,    258.5,2,     7.57,2,     3.91,2,     0.29,2,     0.32,2,   2050.7,2,   2284.3,2,   7.9395,2,    25.00,     1.11,2,     0.37,2,  13.4648,2,     1917
  49UP20180501,RF1804,  6224,  1,     35,  25844,2,20180504,1634, 39.9822, 145.0113, 5653,     24.7,  13.3313,  13.3539,2,  34.4646,2,-999.0000,9,    255.8,2,    256.0,2,     8.50,2,     4.60,2,     0.37,2,     0.39,2,   2054.9,2,   2284.5,2,   7.9319,2,    25.00,     0.81,2,     0.35,2,  13.3539,2,     1915
  49UP20180501,RF1804,  6224,  1,     34,  25843,2,20180504,1634, 39.9822, 145.0113, 5653,     51.4,  12.2700,  12.2674,2,  34.4533,2,  34.4551,2,    242.5,2,    242.7,2,    12.82,2,     9.05,2,     0.09,2,     0.64,2,   2078.7,2,   2280.0,2,   7.8686,2,    25.00,     0.06,2,     0.15,2,  12.2674,2,     1913
  49UP20180501,RF1804,  6224,  1,     33,  25842,2,20180504,1634, 39.9822, 145.0113, 5653,     76.1,  11.4590,  11.4559,2,  34.3712,2,-999.0000,9,    241.7,2,    241.8,2,    14.66,2,    10.24,2,     0.03,2,     0.72,2,   2091.6,2,   2279.6,2,   7.8513,2,    25.00,     0.02,2,     0.11,2,  11.4559,2,     1911
  49UP20180501,RF1804,  6224,  1,     32,  25841,2,20180504,1634, 39.9822, 145.0113, 5653,    102.3,  10.9256,  10.9322,2,  34.3094,2,-999.0000,9,    240.3,2,    240.4,2,    15.84,2,    10.91,2,     0.03,2,     0.77,2,   2094.5,2,   2278.8,2,   7.8384,2,    25.00,     0.02,2,     0.11,2,  10.9322,2,     1910
  49UP20180501,RF1804,  6224,  1,     31,  25840,2,20180504,1634, 39.9822, 145.0113, 5653,    126.9,  10.0424,  10.0489,2,  34.2008,2,-999.0000,9,    238.8,2,    239.0,2,    18.21,2,    12.10,2,     0.03,2,     0.88,2,   2103.6,2,   2276.1,2,   7.8143,2,    25.00,     0.01,2,     0.07,2,  10.0489,2,     1908
  49UP20180501,RF1804,  6224,  1,     30,  25839,2,20180504,1634, 39.9822, 145.0113, 5653,    154.4,   8.7549,   8.7178,2,  34.0258,2,-999.0000,9,    231.4,2,    231.5,2,    23.74,2,    14.89,2,     0.03,2,     1.10,2,   2122.7,2,   2273.1,2,   7.7641,2,    25.00,     0.01,2,     0.05,2,   8.7178,2,     1904
  49UP20180501,RF1804,  6224,  1,     29,  25838,2,20180504,1634, 39.9822, 145.0113, 5653,    204.9,   6.0952,   6.0831,2,  33.6926,2,-999.0000,9,    284.9,2,    285.3,2,    19.19,2,    12.75,2,     0.04,2,     0.99,2,   2112.7,2,   2265.4,2,   7.7610,2,    25.00,     0.02,2,     0.12,2,   6.0831,2,     1902
  49UP20180501,RF1804,  6224,  1,     28,  25837,3,20180504,1634, 39.9822, 145.0113, 5653,    250.5,   5.8625,   5.8738,2,  33.6975,2,-999.0000,9,    280.7,2,    281.2,2,    22.22,2,    13.70,2,     0.06,2,     1.05,2,   2119.7,6,   2263.6,6,   7.7502,2,    25.00,  -999.00,9,  -999.00,9,   5.8738,2,     1900
  49UP20180501,RF1804,  6224,  1,     27,  24661,2,20180504,1634, 39.9822, 145.0113, 5653,    302.7,   5.9773,   5.9812,2,  33.7809,2,  33.7840,6,    271.7,2,    272.4,2,    22.56,2,    13.20,2,     0.13,2,     1.02,2,   2121.3,2,   2267.4,2,   7.7580,2,    25.00,  -999.00,9,  -999.00,9,   5.9812,2,     1858
  49UP20180501,RF1804,  6224,  1,     26,  25835,2,20180504,1634, 39.9822, 145.0113, 5653,    403.7,   3.3080,   3.3083,2,  33.5632,2,-999.0000,9,    182.7,2,    182.3,2,    64.39,2,    30.29,2,     0.01,2,     2.29,2,   2228.2,2,   2275.2,2,   7.4793,6,    25.00,  -999.00,9,  -999.00,9,   3.3083,2,     1855
  49UP20180501,RF1804,  6224,  1,     25,  25834,2,20180504,1634, 39.9822, 145.0113, 5653,    504.8,   4.0384,   4.0875,2,  33.8522,2,  33.8575,2,    113.2,2,    112.0,2,    81.11,2,    35.45,2,     0.00,2,     2.59,2,   2270.1,2,   2297.1,2,   7.4142,2,    25.00,  -999.00,9,  -999.00,9,   4.0875,2,     1850
  49UP20180501,RF1804,  6224,  1,     24,  25833,2,20180504,1634, 39.9822, 145.0113, 5653,    606.2,   3.8066,   3.8070,2,  34.0320,2,-999.0000,9,     57.3,2,     58.0,2,   103.83,2,    40.37,2,     0.00,2,     2.92,2,   2315.0,2,   2321.9,2,   7.3304,2,    25.00,  -999.00,9,  -999.00,9,   3.8070,2,     1847
  49UP20180501,RF1804,  6224,  1,     23,  25832,2,20180504,1634, 39.9822, 145.0113, 5653,    708.7,   3.5735,   3.5805,2,  34.1238,2,  34.1215,2,     43.0,2,     43.1,2,   116.21,2,    41.73,2,     0.00,2,     3.00,2,   2340.0,2,   2334.7,2,   7.3132,2,    25.00,  -999.00,9,  -999.00,9,   3.5805,2,     1844
  49UP20180501,RF1804,  6224,  1,     22,  25831,2,20180504,1634, 39.9822, 145.0113, 5653,    808.4,   3.3581,   3.3609,2,  34.2349,2,-999.0000,9,     33.9,2,     34.2,2,   128.77,2,    42.46,2,     0.00,2,     3.05,2,   2356.6,2,   2353.2,2,   7.3178,2,    25.00,  -999.00,9,  -999.00,9,   3.3609,2,     1841
  49UP20180501,RF1804,  6224,  1,     21,  25830,2,20180504,1634, 39.9822, 145.0113, 5653,    913.0,   3.2640,   3.2645,2,  34.3299,2,  34.3292,2,     37.0,2,     36.6,2,   134.04,2,    42.17,2,     0.00,2,     3.02,2,   2359.4,2,   2366.7,2,   7.3427,2,    25.00,  -999.00,9,  -999.00,9,   3.2645,2,     1837
  49UP20180501,RF1804,  6224,  1,     20,  25829,2,20180504,1634, 39.9822, 145.0113, 5653,   1014.6,   3.0297,   3.0298,2,  34.3835,2,-999.0000,9,     37.3,2,     37.0,2,   141.10,2,    42.36,2,     0.00,2,     3.04,2,   2369.4,2,   2377.0,2,   7.3500,2,    25.00,  -999.00,9,  -999.00,9,   3.0298,2,     1830
  49UP20180501,RF1804,  6224,  1,     19,  25828,2,20180504,1634, 39.9822, 145.0113, 5653,   1206.2,   2.6788,   2.6785,2,  34.4456,2,  34.4452,2,     38.5,2,     38.1,2,   151.26,2,    42.61,2,     0.00,2,     3.05,2,   2377.2,2,   2388.5,2,   7.3549,2,    25.00,  -999.00,9,  -999.00,9,   2.6785,2,     1825
  49UP20180501,RF1804,  6224,  1,     18,  25827,2,20180504,1634, 39.9822, 145.0113, 5653,   1417.1,   2.4446,   2.4445,2,  34.5005,2,-999.0000,9,     45.4,2,     45.1,2,   156.67,2,    42.59,2,     0.00,2,     3.02,2,   2378.2,2,   2398.6,2,   7.3765,6,    25.00,  -999.00,9,  -999.00,9,   2.4445,2,     1820
  49UP20180501,RF1804,  6224,  1,     17,  25826,2,20180504,1634, 39.9822, 145.0113, 5653,   1618.6,   2.2286,   2.2280,2,  34.5383,2,  34.5380,2,     53.4,2,     53.2,2,   161.64,2,    42.10,2,     0.00,2,     2.99,2,   2382.0,2,   2404.5,2,   7.3969,2,    25.00,  -999.00,9,  -999.00,9,   2.2280,2,     1815
  49UP20180501,RF1804,  6224,  1,     16,  25825,2,20180504,1634, 39.9822, 145.0113, 5653,   1824.7,   2.0749,   2.0750,2,  34.5696,2,-999.0000,9,     64.2,2,     64.2,2,   163.42,2,    41.57,2,     0.00,2,     2.94,2,   2378.1,2,   2410.4,2,   7.4187,2,    25.00,  -999.00,9,  -999.00,9,   2.0750,2,     1810
  49UP20180501,RF1804,  6224,  1,     15,  25824,2,20180504,1634, 39.9822, 145.0113, 5653,   2028.8,   1.9416,   1.9416,2,  34.5939,2,  34.5942,2,     75.5,2,     75.4,2,   164.36,2,    40.93,2,     0.00,2,     2.88,2,   2371.1,6,   2413.7,6,   7.4411,2,    25.00,  -999.00,9,  -999.00,9,   1.9416,2,     1804
  49UP20180501,RF1804,  6224,  1,     14,  25823,2,20180504,1634, 39.9822, 145.0113, 5653,   2282.1,   1.8000,   1.7998,2,  34.6192,2,  34.6191,2,     91.0,2,     91.1,6,   163.82,6,    39.94,6,     0.00,6,     2.81,6,   2364.1,2,   2416.4,2,   7.4700,2,    25.00,  -999.00,9,  -999.00,9,   1.7998,2,     1758
  49UP20180501,RF1804,  6224,  1,     13,  25822,2,20180504,1634, 39.9822, 145.0113, 5653,   2534.9,   1.7110,   1.7110,2,  34.6354,2,  34.6356,2,    102.8,2,    102.9,2,   162.45,2,    39.19,2,     0.00,2,     2.76,2,   2362.7,2,   2417.9,2,   7.4934,2,    25.00,  -999.00,9,  -999.00,9,   1.7110,2,     1752
  49UP20180501,RF1804,  6224,  1,     12,  25821,2,20180504,1634, 39.9822, 145.0113, 5653,   2791.3,   1.6289,   1.6291,2,  34.6495,2,  34.6500,2,    115.0,2,    115.1,2,   160.36,2,    38.44,2,     0.00,2,     2.69,2,   2352.2,2,   2418.2,2,   7.5151,2,    25.00,  -999.00,9,  -999.00,9,   1.6291,2,     1745
  49UP20180501,RF1804,  6224,  1,     11,  25820,2,20180504,1634, 39.9822, 145.0113, 5653,   3046.4,   1.5643,   1.5643,2,  34.6607,2,  34.6601,2,    125.4,2,    125.3,2,   158.45,2,    37.79,2,     0.00,2,     2.64,2,   2343.5,2,   2421.0,2,   7.5346,2,    25.00,  -999.00,9,  -999.00,9,   1.5643,2,     1739
  49UP20180501,RF1804,  6224,  1,     10,  25819,2,20180504,1634, 39.9822, 145.0113, 5653,   3300.1,   1.5254,   1.5254,2,  34.6679,2,  34.6681,2,    133.2,2,    133.2,2,   157.03,2,    37.33,2,     0.00,2,     2.60,2,   2339.6,2,   2420.4,2,   7.5516,2,    25.00,  -999.00,9,  -999.00,9,   1.5254,2,     1733
  49UP20180501,RF1804,  6224,  1,      9,  25818,2,20180504,1634, 39.9822, 145.0113, 5653,   3557.6,   1.4970,   1.4969,2,  34.6739,2,  34.6738,2,    140.0,2,    139.9,6,   155.23,6,    36.86,6,     0.00,6,     2.57,6,   2334.3,2,   2421.5,2,   7.5638,2,    25.00,  -999.00,9,  -999.00,9,   1.4969,2,     1726
  49UP20180501,RF1804,  6224,  1,      8,  25817,2,20180504,1634, 39.9822, 145.0113, 5653,   3814.5,   1.4782,   1.4781,2,  34.6788,2,  34.6788,2,    145.6,2,    145.6,2,   153.62,2,    36.42,2,     0.00,2,     2.53,2,   2329.4,2,   2419.2,2,   7.5691,2,    25.00,  -999.00,9,  -999.00,9,   1.4781,2,     1720
  49UP20180501,RF1804,  6224,  1,      7,  25816,2,20180504,1634, 39.9822, 145.0113, 5653,   4070.7,   1.4675,   1.4675,2,  34.6827,2,  34.6825,6,    150.6,2,    150.7,2,   152.18,2,    36.06,2,     0.00,2,     2.51,2,   2323.8,2,   2418.5,2,   7.5825,2,    25.00,  -999.00,9,  -999.00,9,   1.4675,2,     1714
  49UP20180501,RF1804,  6224,  1,      6,  25815,2,20180504,1634, 39.9822, 145.0113, 5653,   4585.4,   1.4837,   1.4838,2,  34.6873,2,  34.6893,4,    156.4,2,    156.4,2,   150.52,2,    35.68,2,     0.00,2,     2.48,2,   2321.5,2,   2416.2,2,   7.5906,6,    25.00,  -999.00,9,  -999.00,9,   1.4838,2,     1703
  49UP20180501,RF1804,  6224,  1,      5,  25814,4,20180504,1634, 39.9822, 145.0113, 5653,   4843.5,   1.4998,   1.5000,2,  34.6890,2,  34.6654,4,    158.3,2,    130.6,4,   157.48,4,    37.40,4,     0.00,4,     2.61,4,   2346.5,4,   2420.2,4,   7.5487,4,    25.00,  -999.00,9,  -999.00,9,   1.5000,2,     1656
  49UP20180501,RF1804,  6224,  1,      4,  25813,2,20180504,1634, 39.9822, 145.0113, 5653,   5101.2,   1.5228,   1.5230,2,  34.6898,2,  34.6893,2,    159.7,2,    160.0,6,   149.14,6,    35.43,6,     0.00,6,     2.46,6,   2319.6,2,   2416.3,2,   7.5937,2,    25.00,  -999.00,9,  -999.00,9,   1.5230,2,     1650
  49UP20180501,RF1804,  6224,  1,      3,  25812,2,20180504,1634, 39.9822, 145.0113, 5653,   5359.2,   1.5486,   1.5486,2,  34.6907,2,  34.6901,2,    161.1,2,    160.9,2,   147.81,2,    35.33,2,     0.00,2,     2.45,2,   2322.9,6,   2415.5,6,   7.5974,2,    25.00,  -999.00,9,  -999.00,9,   1.5486,2,     1644
  49UP20180501,RF1804,  6224,  1,      2,  25811,2,20180504,1634, 39.9822, 145.0113, 5653,   5613.2,   1.5741,   1.5740,2,  34.6915,2,  34.6915,2,    162.5,2,    162.9,2,   146.09,2,    35.23,2,     0.00,2,     2.44,2,   2318.2,2,   2414.6,2,   7.5982,2,    25.00,  -999.00,9,  -999.00,9,   1.5740,2,     1638
  49UP20180501,RF1804,  6224,  1,      1,  25810,2,20180504,1634, 39.9822, 145.0113, 5653,   5699.3,   1.5849,   1.5851,2,  34.6914,2,  34.6914,2,    162.7,2,    163.0,2,   145.76,2,    35.21,2,     0.00,2,     2.44,2,   2315.2,2,   2414.1,2,   7.5979,2,    25.00,  -999.00,9,  -999.00,9,   1.5851,2,     1634