BOTTLE,20200310PRINUNIVRMK
EXPOCODE,SECT_ID,STNNBR,CASTNO,SAMPNO,BTLNBR,BTLNBR_FLAG_W,DATE,TIME,LATITUDE,LONGITUDE,DEPTH,CTDPRS,CTDTMP,SBE35,SBE35_FLAG_W,CTDSAL,CTDSAL_FLAG_W,SALNTY,SALNTY_FLAG_W,CTDOXY,CTDOXY_FLAG_W,OXYGEN,OXYGEN_FLAG_W,SILCAT,SILCAT_FLAG_W,NITRAT,NITRAT_FLAG_W,NITRIT,NITRIT_FLAG_W,PHSPHT,PHSPHT_FLAG_W,TCARBN,TCARBN_FLAG_W,ALKALI,ALKALI_FLAG_W,PH_TOT,PH_TOT_FLAG_W,PH_TMP,CHLORA,CHLORA_FLAG_W,PPHYTN,PPHYTN_FLAG_W,SBE35,SBE35_FLAG_W,BTL_TIME
,,,,,,,,,,,METERS,DBAR,ITS-90,,,PSS-78,,PSS-78,,UMOL/KG,,UMOL/KG,,UMOL/KG,,UMOL/KG,,UMOL/KG,,UMOL/KG,,UMOL/KG,,UMOL/KG,,,,DEG C,UG/KG,,UG/KG,,,,
  49UP20180501,RF1804,  6229,  1,     99,     99,2,20180506,1552, 40.0210, 150.3388, 5366,      0.0,  14.2762,-999.0000,9,  34.4838,2,-999.0000,9,    268.5,2,    267.9,2,     6.21,2,     2.99,2,     0.18,2,     0.24,2,   -999.0,9,   -999.0,9,-999.0000,9,  -999.00,  -999.00,9,  -999.00,9,-999.0000,9,     1650
  49UP20180501,RF1804,  6229,  1,     36,  25845,2,20180506,1552, 40.0210, 150.3388, 5366,     11.0,  14.2772,  14.2773,2,  34.4838,2,-999.0000,9,    268.4,2,    268.8,2,     6.30,2,     3.04,2,     0.19,2,     0.24,2,   -999.0,9,   -999.0,9,-999.0000,9,  -999.00,  -999.00,9,  -999.00,9,  14.2773,2,     1707
  49UP20180501,RF1804,  6229,  1,     35,  25844,2,20180506,1552, 40.0210, 150.3388, 5366,     25.7,  14.1924,  14.1922,2,  34.4881,2,-999.0000,9,    266.7,2,    267.8,2,     6.75,2,     3.32,2,     0.21,2,     0.26,2,   -999.0,9,   -999.0,9,-999.0000,9,  -999.00,  -999.00,9,  -999.00,9,  14.1922,2,     1705
  49UP20180501,RF1804,  6229,  1,     34,  25843,2,20180506,1552, 40.0210, 150.3388, 5366,     50.0,  12.7012,  12.7031,2,  34.4781,2,-999.0000,9,    237.9,2,    238.8,2,    14.17,2,     8.84,2,     0.25,2,     0.64,2,   -999.0,9,   -999.0,9,-999.0000,9,  -999.00,  -999.00,9,  -999.00,9,  12.7031,2,     1700
  49UP20180501,RF1804,  6229,  1,     30,  25839,2,20180506,1552, 40.0210, 150.3388, 5366,     74.6,  12.0447,  12.0439,2,  34.4080,2,-999.0000,9,    223.4,2,    224.3,2,    16.99,2,    11.35,2,     0.06,2,     0.80,2,   -999.0,9,   -999.0,9,-999.0000,9,  -999.00,  -999.00,9,  -999.00,9,  12.0439,2,     1658
  49UP20180501,RF1804,  6229,  1,     29,  25838,2,20180506,1552, 40.0210, 150.3388, 5366,    100.5,  11.0428,  11.0429,2,  34.3060,2,-999.0000,9,    221.9,2,    222.7,6,    19.53,6,    12.86,6,     0.04,6,     0.92,6,   -999.0,9,   -999.0,9,-999.0000,9,  -999.00,  -999.00,9,  -999.00,9,  11.0429,2,     1657
  49UP20180501,RF1804,  6229,  1,     28,  25837,2,20180506,1552, 40.0210, 150.3388, 5366,    127.5,   9.5483,   9.5455,2,  34.1218,2,-999.0000,9,    218.6,2,    218.5,2,    23.32,2,    15.05,2,     0.13,2,     1.10,2,   -999.0,9,   -999.0,9,-999.0000,9,  -999.00,  -999.00,9,  -999.00,9,   9.5455,2,     1655
  49UP20180501,RF1804,  6229,  1,     26,  25835,2,20180506,1552, 40.0210, 150.3388, 5366,    152.2,   7.3083,   7.3102,2,  33.8256,2,-999.0000,9,    241.8,2,    243.5,3,    27.47,2,    17.12,2,     0.12,2,     1.29,2,   -999.0,9,   -999.0,9,-999.0000,9,  -999.00,  -999.00,9,  -999.00,9,   7.3102,2,     1653
  49UP20180501,RF1804,  6229,  1,     27,  24661,2,20180506,1552, 40.0210, 150.3388, 5366,    153.1,   7.3059,   7.3058,2,  33.8260,2,-999.0000,9,    242.0,2,    242.3,2,    27.92,2,    17.29,2,     0.09,2,     1.30,2,   -999.0,9,   -999.0,9,-999.0000,9,  -999.00,  -999.00,9,  -999.00,9,   7.3058,2,     1653
  49UP20180501,RF1804,  6229,  1,     25,  25834,2,20180506,1552, 40.0210, 150.3388, 5366,    204.1,   4.1570,   4.1465,2,  33.4658,2,-999.0000,9,    277.8,2,    278.6,2,    38.13,2,    21.15,2,     0.04,2,     1.64,2,   -999.0,9,   -999.0,9,-999.0000,9,  -999.00,  -999.00,9,  -999.00,9,   4.1465,2,     1651
  49UP20180501,RF1804,  6229,  1,     21,  25830,2,20180506,1552, 40.0210, 150.3388, 5366,    254.3,   4.4105,   4.4041,2,  33.5884,2,-999.0000,9,    226.7,2,    228.6,2,    46.26,2,    24.17,2,     0.01,2,     1.84,2,   -999.0,9,   -999.0,9,-999.0000,9,  -999.00,  -999.00,9,  -999.00,9,   4.4041,2,     1648
  49UP20180501,RF1804,  6229,  1,     20,  25829,2,20180506,1552, 40.0210, 150.3388, 5366,    306.3,   3.5999,   3.6005,2,  33.5965,2,-999.0000,9,    178.1,2,    179.1,2,    63.73,2,    30.65,2,     0.00,2,     2.30,2,   -999.0,9,   -999.0,9,-999.0000,9,  -999.00,  -999.00,9,  -999.00,9,   3.6005,2,     1646
  49UP20180501,RF1804,  6229,  1,     19,  25828,2,20180506,1552, 40.0210, 150.3388, 5366,    408.6,   4.5044,   4.5016,2,  33.9606,2,-999.0000,9,    103.0,2,    103.1,6,    83.04,6,    35.78,6,     0.00,6,     2.60,6,   -999.0,9,   -999.0,9,-999.0000,9,  -999.00,  -999.00,9,  -999.00,9,   4.5016,2,     1642
  49UP20180501,RF1804,  6229,  1,     18,  25827,2,20180506,1552, 40.0210, 150.3388, 5366,    504.8,   4.7751,   4.7751,2,  34.1859,2,-999.0000,9,     72.2,2,     72.1,2,    95.78,2,    37.63,2,     0.00,2,     2.70,2,   -999.0,9,   -999.0,9,-999.0000,9,  -999.00,  -999.00,9,  -999.00,9,   4.7751,2,     1639
  49UP20180501,RF1804,  6229,  1,     17,  25826,3,20180506,1552, 40.0210, 150.3388, 5366,    603.5,   4.1849,   4.1849,2,  34.2420,2,-999.0000,9,     56.7,2,     57.0,2,   109.31,2,    39.75,2,     0.00,2,     2.85,2,   -999.0,9,   -999.0,9,-999.0000,9,  -999.00,  -999.00,9,  -999.00,9,   4.1849,2,     1636
  49UP20180501,RF1804,  6229,  1,     16,  25825,2,20180506,1552, 40.0210, 150.3388, 5366,    701.5,   3.6617,   3.6635,2,  34.2897,2,-999.0000,9,     44.9,2,     45.2,2,   122.38,2,    41.39,2,     0.00,2,     2.96,2,   -999.0,9,   -999.0,9,-999.0000,9,  -999.00,  -999.00,9,  -999.00,9,   3.6635,2,     1633
  49UP20180501,RF1804,  6229,  1,     12,  25821,2,20180506,1552, 40.0210, 150.3388, 5366,    803.4,   3.3164,   3.3168,2,  34.3351,2,-999.0000,9,     39.0,2,     39.1,2,   132.81,2,    42.02,2,     0.00,2,     3.02,2,   -999.0,9,   -999.0,9,-999.0000,9,  -999.00,  -999.00,9,  -999.00,9,   3.3168,2,     1630
  49UP20180501,RF1804,  6229,  1,     11,  25820,2,20180506,1552, 40.0210, 150.3388, 5366,    907.2,   3.2184,   3.2184,2,  34.3626,2,-999.0000,9,     40.3,2,     40.2,2,   135.27,2,    42.19,2,     0.00,2,     3.02,2,   -999.0,9,   -999.0,9,-999.0000,9,  -999.00,  -999.00,9,  -999.00,9,   3.2184,2,     1627
  49UP20180501,RF1804,  6229,  1,     10,  25819,2,20180506,1552, 40.0210, 150.3388, 5366,   1010.0,   2.9714,   2.9732,2,  34.4040,2,-999.0000,9,     39.3,2,     39.7,2,   141.71,2,    42.60,2,     0.00,2,     3.03,2,   -999.0,9,   -999.0,9,-999.0000,9,  -999.00,  -999.00,9,  -999.00,9,   2.9732,2,     1624
  49UP20180501,RF1804,  6229,  1,      8,  25817,2,20180506,1552, 40.0210, 150.3388, 5366,   1214.0,   2.5634,   2.5635,2,  34.4616,2,-999.0000,9,     38.7,2,     38.7,2,   154.53,2,    42.91,2,     0.00,2,     3.06,2,   -999.0,9,   -999.0,9,-999.0000,9,  -999.00,  -999.00,9,  -999.00,9,   2.5635,2,     1618
  49UP20180501,RF1804,  6229,  1,      9,  25818,2,20180506,1552, 40.0210, 150.3388, 5366,   1214.6,   2.5629,   2.5632,2,  34.4619,2,-999.0000,9,     38.8,2,     38.7,2,   154.57,2,    43.01,2,     0.00,2,     3.06,2,   -999.0,9,   -999.0,9,-999.0000,9,  -999.00,  -999.00,9,  -999.00,9,   2.5632,2,     1619
  49UP20180501,RF1804,  6229,  1,      7,  25816,2,20180506,1552, 40.0210, 150.3388, 5366,   1417.1,   2.3731,   2.3732,2,  34.5061,2,-999.0000,9,     45.0,2,     44.9,2,   159.24,2,    42.75,2,     0.00,2,     3.03,2,   -999.0,9,   -999.0,9,-999.0000,9,  -999.00,  -999.00,9,  -999.00,9,   2.3732,2,     1613
  49UP20180501,RF1804,  6229,  1,      3,  25812,2,20180506,1552, 40.0210, 150.3388, 5366,   1620.3,   2.1943,   2.1943,2,  34.5434,2,-999.0000,9,     53.8,2,     54.0,2,   162.55,2,    42.36,2,     0.00,2,     2.99,2,   -999.0,9,   -999.0,9,-999.0000,9,  -999.00,  -999.00,9,  -999.00,9,   2.1943,2,     1607
  49UP20180501,RF1804,  6229,  1,      2,  25811,2,20180506,1552, 40.0210, 150.3388, 5366,   1824.1,   2.0280,   2.0283,2,  34.5759,2,-999.0000,9,     65.8,2,     66.0,2,   164.42,2,    41.71,2,     0.00,2,     2.94,2,   -999.0,9,   -999.0,9,-999.0000,9,  -999.00,  -999.00,9,  -999.00,9,   2.0283,2,     1601
  49UP20180501,RF1804,  6229,  1,      1,  25810,2,20180506,1552, 40.0210, 150.3388, 5366,   2032.7,   1.9041,   1.9046,2,  34.5992,2,-999.0000,9,     77.7,2,     78.8,3,   164.71,2,    40.88,2,     0.00,2,     2.88,2,   -999.0,9,   -999.0,9,-999.0000,9,  -999.00,  -999.00,9,  -999.00,9,   1.9046,2,     1555
  49UP20180501,RF1804,  6230,  1,     99,     99,2,20180506,2314, 40.0105, 151.6662, 5664,      0.0,  13.5233,-999.0000,9,  34.3315,2,  34.3221,2,    266.9,2,    265.7,2,    10.11,2,     5.11,2,     0.11,2,     0.46,2,   -999.0,9,   -999.0,9,-999.0000,9,  -999.00,     0.48,2,     0.15,2,-999.0000,9,     2354
  49UP20180501,RF1804,  6230,  1,     36,  25845,2,20180506,2314, 40.0105, 151.6662, 5664,     10.2,  13.5202,  13.5206,2,  34.3319,2,  34.3323,2,    266.8,2,    266.8,2,    10.06,2,     5.13,2,     0.12,2,     0.42,2,   -999.0,9,   -999.0,9,-999.0000,9,  -999.00,     0.47,2,     0.15,2,  13.5206,2,       29
  49UP20180501,RF1804,  6230,  1,     35,  25844,2,20180506,2314, 40.0105, 151.6662, 5664,     26.6,  13.4758,  13.4758,2,  34.3369,2,-999.0000,9,    266.9,2,    266.9,2,    10.11,2,     5.17,2,     0.12,2,     0.42,2,   -999.0,9,   -999.0,9,-999.0000,9,  -999.00,     0.52,2,     0.20,2,  13.4758,2,       27
  49UP20180501,RF1804,  6230,  1,     34,  25843,2,20180506,2314, 40.0105, 151.6662, 5664,     51.3,  12.8359,  12.8365,2,  34.3584,2,  34.3566,6,    264.2,2,    265.2,2,    10.41,2,     5.90,2,     0.16,2,     0.48,2,   -999.0,9,   -999.0,9,-999.0000,9,  -999.00,     0.60,2,     0.26,2,  12.8365,2,       22
  49UP20180501,RF1804,  6230,  1,     30,  25839,2,20180506,2314, 40.0105, 151.6662, 5664,     75.0,  11.8227,  11.8226,2,  34.3666,2,-999.0000,9,    234.8,2,    234.4,2,    15.18,2,    10.62,2,     0.09,2,     0.75,2,   -999.0,9,   -999.0,9,-999.0000,9,  -999.00,     0.13,2,     0.15,2,  11.8226,2,       20
  49UP20180501,RF1804,  6230,  1,     29,  25838,2,20180506,2314, 40.0105, 151.6662, 5664,    101.7,  10.3496,  10.3517,2,  34.2153,2,-999.0000,9,    230.5,2,    230.3,2,    19.79,2,    13.23,2,     0.08,2,     0.95,2,   -999.0,9,   -999.0,9,-999.0000,9,  -999.00,     0.02,2,     0.07,2,  10.3517,2,       18
  49UP20180501,RF1804,  6230,  1,     28,  25837,2,20180506,2314, 40.0105, 151.6662, 5664,    126.3,   9.6476,   9.6493,2,  34.1345,2,-999.0000,9,    245.6,2,    245.1,2,    19.88,2,    12.99,2,     0.03,2,     0.95,2,   -999.0,9,   -999.0,9,-999.0000,9,  -999.00,     0.02,2,     0.09,2,   9.6493,2,       15
  49UP20180501,RF1804,  6230,  1,     27,  24661,2,20180506,2314, 40.0105, 151.6662, 5664,    154.0,   8.0158,   8.0166,2,  33.9293,2,-999.0000,9,    246.0,2,    246.3,2,    24.17,2,    15.38,2,     0.10,2,     1.15,2,   -999.0,9,   -999.0,9,-999.0000,9,  -999.00,     0.01,2,     0.09,2,   8.0166,2,       13
  49UP20180501,RF1804,  6230,  1,     26,  25835,2,20180506,2314, 40.0105, 151.6662, 5664,    206.2,   6.3753,   6.3753,2,  33.7575,2,-999.0000,9,    241.9,2,    243.8,2,    32.87,2,    18.87,2,     0.01,2,     1.42,2,   -999.0,9,   -999.0,9,-999.0000,9,  -999.00,     0.01,2,     0.08,2,   6.3753,2,       10
  49UP20180501,RF1804,  6230,  1,     25,  25834,2,20180506,2314, 40.0105, 151.6662, 5664,    257.2,   6.3457,   6.3442,2,  33.8703,2,-999.0000,9,    184.6,2,    184.6,2,    46.72,2,    24.82,2,     0.01,2,     1.83,2,   -999.0,9,   -999.0,9,-999.0000,9,  -999.00,  -999.00,9,  -999.00,9,   6.3442,2,        8
  49UP20180501,RF1804,  6230,  1,     20,  25829,2,20180506,2314, 40.0105, 151.6662, 5664,    304.6,   5.8911,   5.8912,2,  33.9071,2,  33.9066,2,    157.7,2,    157.2,2,    56.31,2,    28.25,2,     0.01,2,     2.06,2,   -999.0,9,   -999.0,9,-999.0000,9,  -999.00,  -999.00,9,  -999.00,9,   5.8912,2,        5
  49UP20180501,RF1804,  6230,  1,     21,  25830,2,20180506,2314, 40.0105, 151.6662, 5664,    306.0,   5.8913,   5.8914,2,  33.9078,2,  33.9084,2,    157.3,2,    156.6,2,    56.43,2,    28.24,2,     0.01,2,     2.07,2,   -999.0,9,   -999.0,9,-999.0000,9,  -999.00,  -999.00,9,  -999.00,9,   5.8914,2,        5
  49UP20180501,RF1804,  6230,  1,     19,  25828,2,20180506,2314, 40.0105, 151.6662, 5664,    408.1,   5.1721,   5.1724,2,  34.0394,2,-999.0000,9,    103.1,2,    103.2,2,    77.94,2,    34.29,2,     0.00,2,     2.48,2,   -999.0,9,   -999.0,9,-999.0000,9,  -999.00,  -999.00,9,  -999.00,9,   5.1724,2,        1
  49UP20180501,RF1804,  6230,  1,     18,  25827,2,20180506,2314, 40.0105, 151.6662, 5664,    507.2,   4.5848,   4.5850,2,  34.1171,2,-999.0000,9,     72.8,2,     72.7,2,    94.22,2,    37.99,2,     0.00,2,     2.72,2,   -999.0,9,   -999.0,9,-999.0000,9,  -999.00,  -999.00,9,  -999.00,9,   4.5850,2,     2358
  49UP20180501,RF1804,  6230,  1,     17,  25826,2,20180506,2314, 40.0105, 151.6662, 5664,    608.5,   4.1345,   4.1351,2,  34.1909,2,-999.0000,9,     54.9,2,     54.8,2,   107.68,2,    40.04,2,     0.00,2,     2.86,2,   -999.0,9,   -999.0,9,-999.0000,9,  -999.00,  -999.00,9,  -999.00,9,   4.1351,2,     2354
  49UP20180501,RF1804,  6230,  1,     16,  25825,3,20180506,2314, 40.0105, 151.6662, 5664,    709.7,   3.7472,   3.7479,2,  34.2620,2,-999.0000,9,     45.1,2,     45.5,2,   119.34,2,    41.16,2,     0.00,2,     2.94,2,   -999.0,9,   -999.0,9,-999.0000,9,  -999.00,  -999.00,9,  -999.00,9,   3.7479,2,     2351
  49UP20180501,RF1804,  6230,  1,     12,  25821,2,20180506,2314, 40.0105, 151.6662, 5664,    809.0,   3.4130,   3.4132,2,  34.3149,2,  34.3152,2,     39.9,2,     40.0,2,   129.23,2,    41.96,2,     0.00,2,     3.00,2,   -999.0,9,   -999.0,9,-999.0000,9,  -999.00,  -999.00,9,  -999.00,9,   3.4132,2,     2347
  49UP20180501,RF1804,  6230,  1,     11,  25820,2,20180506,2314, 40.0105, 151.6662, 5664,    910.0,   3.1419,   3.1438,2,  34.3462,2,-999.0000,9,     36.0,2,     36.8,2,   136.88,2,    42.53,2,     0.00,2,     3.03,2,   -999.0,9,   -999.0,9,-999.0000,9,  -999.00,  -999.00,9,  -999.00,9,   3.1438,2,     2344
  49UP20180501,RF1804,  6230,  1,     10,  25819,2,20180506,2314, 40.0105, 151.6662, 5664,   1010.1,   2.9978,   2.9983,2,  34.3900,2,  34.3897,2,     37.3,2,     37.6,2,   141.47,2,    42.61,2,     0.00,2,     3.03,2,   -999.0,9,   -999.0,9,-999.0000,9,  -999.00,  -999.00,9,  -999.00,9,   2.9983,2,     2341
  49UP20180501,RF1804,  6230,  1,      9,  25818,2,20180506,2314, 40.0105, 151.6662, 5664,   1011.3,   2.9931,   2.9931,2,  34.3908,2,  34.3909,2,     37.3,2,     37.5,2,   141.60,2,    42.49,2,     0.00,2,     3.03,2,   -999.0,9,   -999.0,9,-999.0000,9,  -999.00,  -999.00,9,  -999.00,9,   2.9931,2,     2340
  49UP20180501,RF1804,  6230,  1,      8,  25817,3,20180506,2314, 40.0105, 151.6662, 5664,   1212.2,   2.6567,   2.6569,2,  34.4489,2,-999.0000,9,     37.3,2,     37.4,2,   151.59,2,    42.92,2,     0.00,2,     3.05,2,   -999.0,9,   -999.0,9,-999.0000,9,  -999.00,  -999.00,9,  -999.00,9,   2.6569,2,     2335
  49UP20180501,RF1804,  6230,  1,      7,  25816,2,20180506,2314, 40.0105, 151.6662, 5664,   1412.8,   2.4064,   2.4066,2,  34.4950,2,  34.4953,2,     42.3,2,     42.1,6,   158.72,6,    42.86,6,     0.00,6,     3.03,6,   -999.0,9,   -999.0,9,-999.0000,9,  -999.00,  -999.00,9,  -999.00,9,   2.4066,2,     2330
  49UP20180501,RF1804,  6230,  1,      3,  25812,2,20180506,2314, 40.0105, 151.6662, 5664,   1614.8,   2.2077,   2.2076,2,  34.5373,2,-999.0000,9,     52.2,2,     52.6,2,   162.61,2,    42.30,2,     0.00,2,     2.99,2,   -999.0,9,   -999.0,9,-999.0000,9,  -999.00,  -999.00,9,  -999.00,9,   2.2076,2,     2326
  49UP20180501,RF1804,  6230,  1,      2,  25811,2,20180506,2314, 40.0105, 151.6662, 5664,   1819.4,   2.0533,   2.0533,2,  34.5716,2,  34.5730,4,     63.6,2,     63.9,2,   164.13,2,    41.73,2,     0.00,2,     2.94,2,   -999.0,9,   -999.0,9,-999.0000,9,  -999.00,  -999.00,9,  -999.00,9,   2.0533,2,     2321
  49UP20180501,RF1804,  6230,  1,      1,  25810,2,20180506,2314, 40.0105, 151.6662, 5664,   2025.6,   1.9215,   1.9214,2,  34.5961,2,  34.5972,4,     75.9,2,     76.2,2,   164.66,6,    41.04,6,     0.00,6,     2.88,6,   -999.0,9,   -999.0,9,-999.0000,9,  -999.00,  -999.00,9,  -999.00,9,   1.9214,2,     2316