BOTTLE,20200310PRINUNIVRMK
EXPOCODE,SECT_ID,STNNBR,CASTNO,SAMPNO,BTLNBR,BTLNBR_FLAG_W,DATE,TIME,LATITUDE,LONGITUDE,DEPTH,CTDPRS,CTDTMP,SBE35,SBE35_FLAG_W,CTDSAL,CTDSAL_FLAG_W,SALNTY,SALNTY_FLAG_W,CTDOXY,CTDOXY_FLAG_W,OXYGEN,OXYGEN_FLAG_W,SILCAT,SILCAT_FLAG_W,NITRAT,NITRAT_FLAG_W,NITRIT,NITRIT_FLAG_W,PHSPHT,PHSPHT_FLAG_W,TCARBN,TCARBN_FLAG_W,ALKALI,ALKALI_FLAG_W,PH_TOT,PH_TOT_FLAG_W,PH_TMP,CHLORA,CHLORA_FLAG_W,PPHYTN,PPHYTN_FLAG_W,SBE35,SBE35_FLAG_W,BTL_TIME
,,,,,,,,,,,METERS,DBAR,ITS-90,,,PSS-78,,PSS-78,,UMOL/KG,,UMOL/KG,,UMOL/KG,,UMOL/KG,,UMOL/KG,,UMOL/KG,,UMOL/KG,,UMOL/KG,,,,DEG C,UG/KG,,UG/KG,,,,
  49UP20180501,RF1804,  6239,  1,     99,     99,2,20180511,0928, 40.0192, 163.6687, 5371,      0.0,  13.4257,-999.0000,9,  34.2961,2,-999.0000,9,    272.6,2,    270.6,2,    11.09,2,     4.43,2,     0.07,2,     0.38,2,   -999.0,9,   -999.0,9,-999.0000,9,  -999.00,  -999.00,9,  -999.00,9,-999.0000,9,     1118
  49UP20180501,RF1804,  6239,  1,     36,  25845,3,20180511,0928, 40.0192, 163.6687, 5371,     10.1,  13.4201,  13.4201,2,  34.2980,2,-999.0000,9,    272.8,2,    271.9,2,    11.07,2,     4.42,2,     0.07,2,     0.35,2,   -999.0,9,   -999.0,9,-999.0000,9,  -999.00,  -999.00,9,  -999.00,9,  13.4201,2,     1158
  49UP20180501,RF1804,  6239,  1,     35,  25844,2,20180511,0928, 40.0192, 163.6687, 5371,     24.6,  13.3032,  13.3025,2,  34.2954,2,-999.0000,9,    273.1,2,    272.5,2,    11.20,2,     4.58,2,     0.07,2,     0.36,2,   -999.0,9,   -999.0,9,-999.0000,9,  -999.00,  -999.00,9,  -999.00,9,  13.3025,2,     1157
  49UP20180501,RF1804,  6239,  1,     34,  25843,2,20180511,0928, 40.0192, 163.6687, 5371,     51.0,  11.7810,  11.7835,2,  34.2880,2,-999.0000,9,    265.0,2,    264.9,2,    12.40,2,     6.86,2,     0.24,2,     0.55,2,   -999.0,9,   -999.0,9,-999.0000,9,  -999.00,  -999.00,9,  -999.00,9,  11.7835,2,     1155
  49UP20180501,RF1804,  6239,  1,     33,  25842,2,20180511,0928, 40.0192, 163.6687, 5371,     75.9,  11.4059,  11.4065,2,  34.2601,2,-999.0000,9,    264.5,2,    263.7,2,    12.80,2,     7.39,2,     0.27,2,     0.59,2,   -999.0,9,   -999.0,9,-999.0000,9,  -999.00,  -999.00,9,  -999.00,9,  11.4065,2,     1153
  49UP20180501,RF1804,  6239,  1,     32,  25841,2,20180511,0928, 40.0192, 163.6687, 5371,    100.9,  11.1381,  11.1398,2,  34.2325,2,-999.0000,9,    262.7,2,    261.7,2,    13.24,2,     8.24,2,     0.22,2,     0.63,2,   -999.0,9,   -999.0,9,-999.0000,9,  -999.00,  -999.00,9,  -999.00,9,  11.1398,2,     1148
  49UP20180501,RF1804,  6239,  1,     31,  25840,2,20180511,0928, 40.0192, 163.6687, 5371,    126.2,  10.8069,  10.8018,2,  34.2041,2,-999.0000,9,    255.4,2,    255.5,2,    14.35,2,     9.71,2,     0.02,2,     0.71,2,   -999.0,9,   -999.0,9,-999.0000,9,  -999.00,  -999.00,9,  -999.00,9,  10.8018,2,     1146
  49UP20180501,RF1804,  6239,  1,     30,  25839,3,20180511,0928, 40.0192, 163.6687, 5371,    150.0,  10.5042,  10.4974,2,  34.1841,2,-999.0000,9,    249.1,2,    248.7,2,    15.68,2,    10.91,2,     0.01,2,     0.79,2,   -999.0,9,   -999.0,9,-999.0000,9,  -999.00,  -999.00,9,  -999.00,9,  10.4974,2,     1144
  49UP20180501,RF1804,  6239,  1,     29,  25838,2,20180511,0928, 40.0192, 163.6687, 5371,    203.6,   9.6854,   9.6815,2,  34.1137,2,-999.0000,9,    228.0,2,    228.2,6,    21.26,6,    14.44,6,     0.01,6,     1.04,6,   -999.0,9,   -999.0,9,-999.0000,9,  -999.00,  -999.00,9,  -999.00,9,   9.6815,2,     1141
  49UP20180501,RF1804,  6239,  1,     28,  25837,2,20180511,0928, 40.0192, 163.6687, 5371,    252.0,   8.8457,   8.8465,2,  34.0445,2,-999.0000,9,    215.8,2,    215.3,2,    26.96,2,    17.37,2,     0.01,2,     1.25,2,   -999.0,9,   -999.0,9,-999.0000,9,  -999.00,  -999.00,9,  -999.00,9,   8.8465,2,     1139
  49UP20180501,RF1804,  6239,  1,     27,  24661,2,20180511,0928, 40.0192, 163.6687, 5371,    303.8,   7.4606,   7.4592,2,  33.9291,2,-999.0000,9,    205.4,2,    205.2,2,    35.17,2,    20.97,2,     0.01,2,     1.52,2,   -999.0,9,   -999.0,9,-999.0000,9,  -999.00,  -999.00,9,  -999.00,9,   7.4592,2,     1137
  49UP20180501,RF1804,  6239,  1,     26,  25835,2,20180511,0928, 40.0192, 163.6687, 5371,    406.3,   5.7514,   5.7675,2,  33.9183,2,-999.0000,9,    144.9,2,    144.3,2,    59.01,2,    29.79,2,     0.00,2,     2.15,2,   -999.0,9,   -999.0,9,-999.0000,9,  -999.00,  -999.00,9,  -999.00,9,   5.7675,2,     1134
  49UP20180501,RF1804,  6239,  1,     25,  25834,2,20180511,0928, 40.0192, 163.6687, 5371,    505.1,   4.9022,   4.9018,2,  33.9956,2,-999.0000,9,    102.0,2,    102.2,2,    78.86,2,    35.12,2,     0.00,2,     2.53,2,   -999.0,9,   -999.0,9,-999.0000,9,  -999.00,  -999.00,9,  -999.00,9,   4.9018,2,     1131
  49UP20180501,RF1804,  6239,  1,     24,  25833,2,20180511,0928, 40.0192, 163.6687, 5371,    607.2,   4.4500,   4.4501,2,  34.0822,2,-999.0000,9,     72.6,2,     73.2,2,    93.67,2,    38.29,2,     0.00,2,     2.74,2,   -999.0,9,   -999.0,9,-999.0000,9,  -999.00,  -999.00,9,  -999.00,9,   4.4501,2,     1128
  49UP20180501,RF1804,  6239,  1,     23,  25832,2,20180511,0928, 40.0192, 163.6687, 5371,    709.5,   4.0209,   4.0212,2,  34.1760,2,-999.0000,9,     50.7,2,     51.3,2,   108.83,2,    40.58,2,     0.00,2,     2.89,2,   -999.0,9,   -999.0,9,-999.0000,9,  -999.00,  -999.00,9,  -999.00,9,   4.0212,2,     1124
  49UP20180501,RF1804,  6239,  1,     22,  25831,2,20180511,0928, 40.0192, 163.6687, 5371,    811.1,   3.7163,   3.7167,2,  34.2411,2,-999.0000,9,     41.7,2,     41.9,2,   119.14,2,    41.64,2,     0.00,2,     2.96,2,   -999.0,9,   -999.0,9,-999.0000,9,  -999.00,  -999.00,9,  -999.00,9,   3.7167,2,     1121
  49UP20180501,RF1804,  6239,  1,     21,  25830,2,20180511,0928, 40.0192, 163.6687, 5371,    910.4,   3.4755,   3.4754,2,  34.2955,2,-999.0000,9,     37.2,2,     37.2,2,   127.25,2,    42.16,2,     0.00,2,     3.00,2,   -999.0,9,   -999.0,9,-999.0000,9,  -999.00,  -999.00,9,  -999.00,9,   3.4754,2,     1118
  49UP20180501,RF1804,  6239,  1,     20,  25829,2,20180511,0928, 40.0192, 163.6687, 5371,   1005.6,   3.2293,   3.2285,2,  34.3373,2,-999.0000,9,     34.7,2,     34.8,2,   134.88,2,    42.58,2,     0.00,2,     3.03,2,   -999.0,9,   -999.0,9,-999.0000,9,  -999.00,  -999.00,9,  -999.00,9,   3.2285,2,     1115
  49UP20180501,RF1804,  6239,  1,     19,  25828,2,20180511,0928, 40.0192, 163.6687, 5371,   1214.0,   2.8048,   2.8050,2,  34.4216,2,-999.0000,9,     33.7,2,     33.6,2,   147.89,2,    43.18,2,     0.00,2,     3.06,2,   -999.0,9,   -999.0,9,-999.0000,9,  -999.00,  -999.00,9,  -999.00,9,   2.8050,2,     1110
  49UP20180501,RF1804,  6239,  1,     18,  25827,2,20180511,0928, 40.0192, 163.6687, 5371,   1423.0,   2.4990,   2.4984,2,  34.4736,2,-999.0000,9,     37.0,2,     36.7,2,   156.92,2,    43.17,2,     0.00,2,     3.06,2,   -999.0,9,   -999.0,9,-999.0000,9,  -999.00,  -999.00,9,  -999.00,9,   2.4984,2,     1104
  49UP20180501,RF1804,  6239,  1,     17,  25826,2,20180511,0928, 40.0192, 163.6687, 5371,   1617.7,   2.2881,   2.2880,2,  34.5172,2,-999.0000,9,     44.6,2,     44.6,2,   162.36,2,    42.82,2,     0.00,2,     3.02,2,   -999.0,9,   -999.0,9,-999.0000,9,  -999.00,  -999.00,9,  -999.00,9,   2.2880,2,     1057
  49UP20180501,RF1804,  6239,  1,     16,  25825,2,20180511,0928, 40.0192, 163.6687, 5371,   1823.4,   2.1241,   2.1238,2,  34.5522,2,-999.0000,9,     53.7,2,     54.1,6,   165.58,6,    42.34,6,     0.00,6,     2.98,6,   -999.0,9,   -999.0,9,-999.0000,9,  -999.00,  -999.00,9,  -999.00,9,   2.1238,2,     1052
  49UP20180501,RF1804,  6239,  1,     15,  25824,2,20180511,0928, 40.0192, 163.6687, 5371,   2024.2,   1.9807,   1.9806,2,  34.5809,2,-999.0000,9,     65.3,2,     65.0,2,   167.41,2,    41.66,2,     0.00,2,     2.92,2,   -999.0,9,   -999.0,9,-999.0000,9,  -999.00,  -999.00,9,  -999.00,9,   1.9806,2,     1047
  49UP20180501,RF1804,  6239,  1,     14,  25823,2,20180511,0928, 40.0192, 163.6687, 5371,   2281.1,   1.8475,   1.8476,2,  34.6083,2,-999.0000,9,     80.4,2,     80.6,2,   167.19,2,    40.68,2,     0.00,2,     2.85,2,   -999.0,9,   -999.0,9,-999.0000,9,  -999.00,  -999.00,9,  -999.00,9,   1.8476,2,     1041
  49UP20180501,RF1804,  6239,  1,     13,  25822,2,20180511,0928, 40.0192, 163.6687, 5371,   2535.2,   1.7111,   1.7110,2,  34.6332,2,-999.0000,9,     98.5,2,     98.7,2,   165.31,2,    39.61,2,     0.00,2,     2.77,2,   -999.0,9,   -999.0,9,-999.0000,9,  -999.00,  -999.00,9,  -999.00,9,   1.7110,2,     1034
  49UP20180501,RF1804,  6239,  1,     12,  25821,2,20180511,0928, 40.0192, 163.6687, 5371,   2789.7,   1.6310,   1.6309,2,  34.6476,2,-999.0000,9,    111.3,2,    111.5,2,   162.75,2,    38.81,2,     0.00,2,     2.70,2,   -999.0,9,   -999.0,9,-999.0000,9,  -999.00,  -999.00,9,  -999.00,9,   1.6309,2,     1028
  49UP20180501,RF1804,  6239,  1,     11,  25820,2,20180511,0928, 40.0192, 163.6687, 5371,   3043.7,   1.5639,   1.5640,2,  34.6595,2,-999.0000,9,    123.3,2,    123.5,2,   159.75,2,    38.01,2,     0.00,2,     2.64,2,   -999.0,9,   -999.0,9,-999.0000,9,  -999.00,  -999.00,9,  -999.00,9,   1.5640,2,     1023
  49UP20180501,RF1804,  6239,  1,     10,  25819,2,20180511,0928, 40.0192, 163.6687, 5371,   3300.3,   1.5187,   1.5187,2,  34.6678,2,-999.0000,9,    132.2,2,    132.0,2,   158.01,2,    37.44,2,     0.00,2,     2.60,2,   -999.0,9,   -999.0,9,-999.0000,9,  -999.00,  -999.00,9,  -999.00,9,   1.5187,2,     1017
  49UP20180501,RF1804,  6239,  1,      9,  25818,2,20180511,0928, 40.0192, 163.6687, 5371,   3558.0,   1.4862,   1.4861,2,  34.6745,2,-999.0000,9,    139.9,2,    139.7,2,   155.98,2,    36.96,2,     0.00,2,     2.56,2,   -999.0,9,   -999.0,9,-999.0000,9,  -999.00,  -999.00,9,  -999.00,9,   1.4861,2,     1011
  49UP20180501,RF1804,  6239,  1,      8,  25817,2,20180511,0928, 40.0192, 163.6687, 5371,   3814.5,   1.4744,   1.4746,2,  34.6787,2,-999.0000,9,    145.1,2,    145.0,2,   154.78,2,    36.64,2,     0.00,2,     2.54,2,   -999.0,9,   -999.0,9,-999.0000,9,  -999.00,  -999.00,9,  -999.00,9,   1.4746,2,     1005
  49UP20180501,RF1804,  6239,  1,      7,  25816,2,20180511,0928, 40.0192, 163.6687, 5371,   4070.4,   1.4733,   1.4732,2,  34.6819,2,-999.0000,9,    148.9,2,    148.8,2,   153.87,2,    36.33,2,     0.00,2,     2.52,2,   -999.0,9,   -999.0,9,-999.0000,9,  -999.00,  -999.00,9,  -999.00,9,   1.4732,2,      959
  49UP20180501,RF1804,  6239,  1,      6,  25815,2,20180511,0928, 40.0192, 163.6687, 5371,   4325.9,   1.4796,   1.4799,2,  34.6844,2,-999.0000,9,    151.8,2,    151.7,2,   153.01,2,    36.13,2,     0.00,2,     2.50,2,   -999.0,9,   -999.0,9,-999.0000,9,  -999.00,  -999.00,9,  -999.00,9,   1.4799,2,      953
  49UP20180501,RF1804,  6239,  1,      5,  25814,2,20180511,0928, 40.0192, 163.6687, 5371,   4582.9,   1.4930,   1.4931,2,  34.6862,2,-999.0000,9,    154.2,2,    154.1,2,   152.28,2,    36.00,2,     0.00,2,     2.49,2,   -999.0,9,   -999.0,9,-999.0000,9,  -999.00,  -999.00,9,  -999.00,9,   1.4931,2,      948
  49UP20180501,RF1804,  6239,  1,      4,  25813,2,20180511,0928, 40.0192, 163.6687, 5371,   4840.1,   1.5102,   1.5102,2,  34.6877,2,-999.0000,9,    156.0,2,    156.0,2,   151.55,2,    35.82,2,     0.00,2,     2.48,2,   -999.0,9,   -999.0,9,-999.0000,9,  -999.00,  -999.00,9,  -999.00,9,   1.5102,2,      942
  49UP20180501,RF1804,  6239,  1,      2,  25811,2,20180511,0928, 40.0192, 163.6687, 5371,   5100.5,   1.5318,   1.5318,2,  34.6891,2,-999.0000,9,    157.6,2,    157.7,2,   151.15,2,    35.76,2,     0.00,2,     2.47,2,   -999.0,9,   -999.0,9,-999.0000,9,  -999.00,  -999.00,9,  -999.00,9,   1.5318,2,      935
  49UP20180501,RF1804,  6239,  1,      3,  25812,2,20180511,0928, 40.0192, 163.6687, 5371,   5101.4,   1.5317,   1.5319,2,  34.6891,2,-999.0000,9,    157.6,2,    157.7,2,   151.15,2,    35.68,2,     0.00,2,     2.47,2,   -999.0,9,   -999.0,9,-999.0000,9,  -999.00,  -999.00,9,  -999.00,9,   1.5319,2,      936
  49UP20180501,RF1804,  6239,  1,      1,  25810,2,20180511,0928, 40.0192, 163.6687, 5371,   5384.2,   1.5553,   1.5551,2,  34.6903,2,-999.0000,9,    159.6,2,    159.6,6,   150.03,6,    35.56,6,     0.00,6,     2.46,6,   -999.0,9,   -999.0,9,-999.0000,9,  -999.00,  -999.00,9,  -999.00,9,   1.5551,2,      928