BOTTLE,20200310PRINUNIVRMK
EXPOCODE,SECT_ID,STNNBR,CASTNO,SAMPNO,BTLNBR,BTLNBR_FLAG_W,DATE,TIME,LATITUDE,LONGITUDE,DEPTH,CTDPRS,CTDTMP,SBE35,SBE35_FLAG_W,CTDSAL,CTDSAL_FLAG_W,SALNTY,SALNTY_FLAG_W,CTDOXY,CTDOXY_FLAG_W,OXYGEN,OXYGEN_FLAG_W,SILCAT,SILCAT_FLAG_W,NITRAT,NITRAT_FLAG_W,NITRIT,NITRIT_FLAG_W,PHSPHT,PHSPHT_FLAG_W,TCARBN,TCARBN_FLAG_W,ALKALI,ALKALI_FLAG_W,PH_TOT,PH_TOT_FLAG_W,PH_TMP,CHLORA,CHLORA_FLAG_W,PPHYTN,PPHYTN_FLAG_W,SBE35,SBE35_FLAG_W,BTL_TIME
,,,,,,,,,,,METERS,DBAR,ITS-90,,,PSS-78,,PSS-78,,UMOL/KG,,UMOL/KG,,UMOL/KG,,UMOL/KG,,UMOL/KG,,UMOL/KG,,UMOL/KG,,UMOL/KG,,,,DEG C,UG/KG,,UG/KG,,,,
  49UP20180501,RF1804,  6227,  1,     99,     99,2,20180505,2101, 40.0478, 147.9908, 5310,      0.0,  13.4529,-999.0000,9,  34.4514,2,-999.0000,9,    271.3,2,    271.0,2,    10.66,2,     3.87,2,     0.18,2,     0.32,2,   -999.0,9,   -999.0,9,-999.0000,9,  -999.00,  -999.00,9,  -999.00,9,-999.0000,9,     2147
  49UP20180501,RF1804,  6227,  1,     33,  25842,3,20180505,2101, 40.0478, 147.9908, 5310,     11.4,  13.4595,  13.4589,2,  34.4509,2,-999.0000,9,    271.3,2,    271.1,2,    10.70,2,     3.91,2,     0.18,2,     0.32,2,   -999.0,9,   -999.0,9,-999.0000,9,  -999.00,  -999.00,9,  -999.00,9,  13.4589,2,     2210
  49UP20180501,RF1804,  6227,  1,     31,  25840,2,20180505,2101, 40.0478, 147.9908, 5310,     25.4,  13.3879,  13.3895,2,  34.4512,2,-999.0000,9,    270.5,2,    270.5,2,    10.83,2,     4.01,2,     0.19,2,     0.33,2,   -999.0,9,   -999.0,9,-999.0000,9,  -999.00,  -999.00,9,  -999.00,9,  13.3895,2,     2208
  49UP20180501,RF1804,  6227,  1,     32,  25841,2,20180505,2101, 40.0478, 147.9908, 5310,     25.5,  13.3831,  13.3827,2,  34.4515,2,-999.0000,9,    270.4,2,    270.8,2,    10.81,2,     4.02,2,     0.19,2,     0.33,2,   -999.0,9,   -999.0,9,-999.0000,9,  -999.00,  -999.00,9,  -999.00,9,  13.3827,2,     2208
  49UP20180501,RF1804,  6227,  1,     30,  25839,2,20180505,2101, 40.0478, 147.9908, 5310,     52.7,  12.7247,  12.7275,2,  34.4927,2,-999.0000,9,    255.9,2,    256.3,2,    11.84,2,     6.17,2,     0.61,2,     0.51,2,   -999.0,9,   -999.0,9,-999.0000,9,  -999.00,  -999.00,9,  -999.00,9,  12.7275,2,     2206
  49UP20180501,RF1804,  6227,  1,     29,  25838,2,20180505,2101, 40.0478, 147.9908, 5310,     77.3,  12.5865,  12.5860,2,  34.4853,2,-999.0000,9,    251.8,2,    252.0,2,    12.46,2,     7.01,2,     0.65,2,     0.55,2,   -999.0,9,   -999.0,9,-999.0000,9,  -999.00,  -999.00,9,  -999.00,9,  12.5860,2,     2204
  49UP20180501,RF1804,  6227,  1,     28,  25837,2,20180505,2101, 40.0478, 147.9908, 5310,    101.3,  12.3148,  12.3122,2,  34.4478,2,-999.0000,9,    244.3,2,    244.9,2,    13.56,2,     8.66,2,     0.20,2,     0.63,2,   -999.0,9,   -999.0,9,-999.0000,9,  -999.00,  -999.00,9,  -999.00,9,  12.3122,2,     2200
  49UP20180501,RF1804,  6227,  1,     24,  25833,2,20180505,2101, 40.0478, 147.9908, 5310,    125.5,  11.4020,  11.4045,2,  34.3366,2,-999.0000,9,    229.5,2,    230.1,2,    17.26,2,    11.65,2,     0.04,2,     0.83,2,   -999.0,9,   -999.0,9,-999.0000,9,  -999.00,  -999.00,9,  -999.00,9,  11.4045,2,     2158
  49UP20180501,RF1804,  6227,  1,     23,  25832,2,20180505,2101, 40.0478, 147.9908, 5310,    153.4,  10.4342,  10.4403,2,  34.2146,2,-999.0000,9,    246.3,2,    247.7,2,    16.38,2,    10.98,2,     0.33,2,     0.85,2,   -999.0,9,   -999.0,9,-999.0000,9,  -999.00,  -999.00,9,  -999.00,9,  10.4403,2,     2156
  49UP20180501,RF1804,  6227,  1,     22,  25831,2,20180505,2101, 40.0478, 147.9908, 5310,    203.9,   8.8038,   8.8023,2,  34.0738,2,-999.0000,9,    185.7,2,    185.4,2,    34.56,2,    20.01,2,     0.03,2,     1.45,2,   -999.0,9,   -999.0,9,-999.0000,9,  -999.00,  -999.00,9,  -999.00,9,   8.8023,2,     2154
  49UP20180501,RF1804,  6227,  1,     21,  25830,2,20180505,2101, 40.0478, 147.9908, 5310,    254.6,   7.2782,   7.2765,2,  33.9871,2,-999.0000,9,    168.3,2,    168.0,2,    45.95,2,    24.66,2,     0.03,2,     1.80,2,   -999.0,9,   -999.0,9,-999.0000,9,  -999.00,  -999.00,9,  -999.00,9,   7.2765,2,     2152
  49UP20180501,RF1804,  6227,  1,     20,  25829,2,20180505,2101, 40.0478, 147.9908, 5310,    306.2,   6.2354,   6.2368,2,  33.9459,2,-999.0000,9,    154.5,2,    154.0,2,    55.62,2,    27.93,2,     0.02,2,     2.04,2,   -999.0,9,   -999.0,9,-999.0000,9,  -999.00,  -999.00,9,  -999.00,9,   6.2368,2,     2150
  49UP20180501,RF1804,  6227,  1,     19,  25828,2,20180505,2101, 40.0478, 147.9908, 5310,    404.4,   4.0418,   4.0422,2,  33.8313,2,-999.0000,9,    116.9,2,    116.5,2,    80.30,2,    35.37,2,     0.00,2,     2.58,2,   -999.0,9,   -999.0,9,-999.0000,9,  -999.00,  -999.00,9,  -999.00,9,   4.0422,2,     2147
  49UP20180501,RF1804,  6227,  1,     15,  25824,2,20180505,2101, 40.0478, 147.9908, 5310,    509.3,   4.1243,   4.1241,2,  34.0069,2,-999.0000,9,     72.7,2,     73.1,2,    95.73,2,    39.01,2,     0.00,2,     2.81,2,   -999.0,9,   -999.0,9,-999.0000,9,  -999.00,  -999.00,9,  -999.00,9,   4.1241,2,     2144
  49UP20180501,RF1804,  6227,  1,     14,  25823,2,20180505,2101, 40.0478, 147.9908, 5310,    608.8,   4.1049,   4.1027,2,  34.1768,2,-999.0000,9,     56.3,2,     56.5,2,   106.44,2,    39.88,2,     0.00,2,     2.85,2,   -999.0,9,   -999.0,9,-999.0000,9,  -999.00,  -999.00,9,  -999.00,9,   4.1027,2,     2140
  49UP20180501,RF1804,  6227,  1,     13,  25822,2,20180505,2101, 40.0478, 147.9908, 5310,    707.9,   3.8956,   3.8962,2,  34.2778,2,-999.0000,9,     50.3,2,     50.7,2,   116.57,2,    40.62,2,     0.00,2,     2.91,2,   -999.0,9,   -999.0,9,-999.0000,9,  -999.00,  -999.00,9,  -999.00,9,   3.8962,2,     2137
  49UP20180501,RF1804,  6227,  1,     12,  25821,2,20180505,2101, 40.0478, 147.9908, 5310,    808.4,   3.4994,   3.4994,2,  34.3196,2,-999.0000,9,     42.7,2,     42.7,6,   126.83,6,    41.64,6,     0.00,6,     2.98,6,   -999.0,9,   -999.0,9,-999.0000,9,  -999.00,  -999.00,9,  -999.00,9,   3.4994,2,     2134
  49UP20180501,RF1804,  6227,  1,     11,  25820,2,20180505,2101, 40.0478, 147.9908, 5310,    910.0,   3.1870,   3.1871,2,  34.3656,2,-999.0000,9,     39.4,2,     39.2,2,   135.57,2,    42.20,2,     0.00,2,     3.01,2,   -999.0,9,   -999.0,9,-999.0000,9,  -999.00,  -999.00,9,  -999.00,9,   3.1871,2,     2131
  49UP20180501,RF1804,  6227,  1,     10,  25819,2,20180505,2101, 40.0478, 147.9908, 5310,   1012.3,   3.0058,   3.0057,2,  34.3965,2,-999.0000,9,     38.5,2,     39.1,2,   140.95,2,    42.41,2,     0.00,2,     3.03,2,   -999.0,9,   -999.0,9,-999.0000,9,  -999.00,  -999.00,9,  -999.00,9,   3.0057,2,     2128
  49UP20180501,RF1804,  6227,  1,      6,  25815,2,20180505,2101, 40.0478, 147.9908, 5310,   1215.1,   2.6542,   2.6543,2,  34.4544,2,-999.0000,9,     38.7,2,     38.8,2,   151.22,2,    42.87,2,     0.00,2,     3.05,2,   -999.0,9,   -999.0,9,-999.0000,9,  -999.00,  -999.00,9,  -999.00,9,   2.6543,2,     2123
  49UP20180501,RF1804,  6227,  1,      4,  25813,2,20180505,2101, 40.0478, 147.9908, 5310,   1418.1,   2.4066,   2.4067,2,  34.5011,2,-999.0000,9,     44.1,2,     44.6,2,   157.86,2,    42.69,2,     0.00,2,     3.03,2,   -999.0,9,   -999.0,9,-999.0000,9,  -999.00,  -999.00,9,  -999.00,9,   2.4067,2,     2118
  49UP20180501,RF1804,  6227,  1,      5,  25814,2,20180505,2101, 40.0478, 147.9908, 5310,   1418.3,   2.4076,   2.4079,2,  34.5010,2,-999.0000,9,     44.1,2,     44.4,2,   157.72,2,    42.62,2,     0.00,2,     3.03,2,   -999.0,9,   -999.0,9,-999.0000,9,  -999.00,  -999.00,9,  -999.00,9,   2.4079,2,     2118
  49UP20180501,RF1804,  6227,  1,      3,  25812,2,20180505,2101, 40.0478, 147.9908, 5310,   1620.6,   2.2232,   2.2233,2,  34.5407,2,-999.0000,9,     53.7,2,     54.0,2,   161.01,2,    42.16,2,     0.00,2,     2.99,2,   -999.0,9,   -999.0,9,-999.0000,9,  -999.00,  -999.00,9,  -999.00,9,   2.2233,2,     2113
  49UP20180501,RF1804,  6227,  1,      2,  25811,2,20180505,2101, 40.0478, 147.9908, 5310,   1821.9,   2.0777,   2.0777,2,  34.5663,2,-999.0000,9,     62.1,2,     63.0,6,   163.67,6,    41.74,6,     0.00,6,     2.95,6,   -999.0,9,   -999.0,9,-999.0000,9,  -999.00,  -999.00,9,  -999.00,9,   2.0777,2,     2108
  49UP20180501,RF1804,  6227,  1,      1,  25810,2,20180505,2101, 40.0478, 147.9908, 5310,   2027.4,   1.9186,   1.9186,2,  34.5959,2,-999.0000,9,     75.6,2,     76.4,2,   164.86,2,    40.89,2,     0.00,2,     2.88,2,   -999.0,9,   -999.0,9,-999.0000,9,  -999.00,  -999.00,9,  -999.00,9,   1.9186,2,     2103
  49UP20180501,RF1804,  6228,  1,     99,     99,2,20180506,0512, 39.9918, 149.0258, 5510,      0.0,  13.3563,-999.0000,9,  34.3894,2,  34.3859,2,    272.9,2,    271.8,2,     9.54,2,     4.43,2,     0.16,2,     0.34,2,   2049.1,2,   2278.6,2,   7.9344,2,    25.00,     0.85,2,     0.25,2,-999.0000,9,      718
  49UP20180501,RF1804,  6228,  1,     36,  25845,3,20180506,0512, 39.9918, 149.0258, 5510,     10.1,  13.3172,  13.3099,2,  34.3881,2,  34.3888,2,    273.1,2,    272.2,2,     9.55,2,     4.44,2,     0.16,2,     0.34,2,   2044.2,2,   2277.9,2,   7.9382,2,    25.00,     0.92,2,     0.30,2,  13.3099,2,      746
  49UP20180501,RF1804,  6228,  1,     35,  25844,2,20180506,0512, 39.9918, 149.0258, 5510,     26.2,  13.1454,  13.1453,2,  34.3832,2,-999.0000,9,    273.1,2,    272.5,2,     9.44,2,     4.43,2,     0.16,2,     0.34,2,   2049.1,2,   2277.6,2,   7.9392,2,    25.00,     1.02,2,     0.50,2,  13.1453,2,      744
  49UP20180501,RF1804,  6228,  1,     34,  25843,2,20180506,0512, 39.9918, 149.0258, 5510,     50.2,  12.6707,  12.6755,2,  34.4231,2,-999.0000,9,    253.8,2,    253.3,2,    10.80,2,     6.76,2,     0.30,2,     0.53,2,   2065.8,2,   2281.6,2,   7.9009,2,    25.00,     0.32,2,     0.28,2,  12.6755,2,      740
  49UP20180501,RF1804,  6228,  1,     33,  25842,2,20180506,0512, 39.9918, 149.0258, 5510,     75.0,  12.1989,  12.2014,2,  34.4137,2,-999.0000,9,    240.3,2,    241.4,2,    13.30,2,     9.34,2,     0.20,2,     0.67,2,   2085.6,2,   2280.0,2,   7.8693,2,    25.00,     0.07,2,     0.09,2,  12.2014,2,      738
  49UP20180501,RF1804,  6228,  1,     32,  25841,2,20180506,0512, 39.9918, 149.0258, 5510,    100.0,  11.2688,  11.2687,2,  34.2917,2,-999.0000,9,    241.4,2,    241.1,2,    14.14,2,    10.19,2,     0.28,2,     0.74,2,   2091.5,2,   2277.0,2,   7.8444,2,    25.00,     0.05,2,     0.09,2,  11.2687,2,      737
  49UP20180501,RF1804,  6228,  1,     31,  25840,2,20180506,0512, 39.9918, 149.0258, 5510,    124.8,  10.0356,  10.0454,2,  34.1558,2,-999.0000,9,    236.9,2,    236.4,2,    18.37,2,    12.79,2,     0.13,2,     0.93,2,   2103.2,2,   2275.3,2,   7.8052,2,    25.00,     0.05,2,     0.11,2,  10.0454,2,      735
  49UP20180501,RF1804,  6228,  1,     30,  25839,2,20180506,0512, 39.9918, 149.0258, 5510,    150.4,   9.2378,   9.2378,2,  34.0710,2,  34.0710,2,    219.8,2,    218.6,2,    25.45,2,    15.69,2,     0.04,2,     1.14,2,   2125.7,2,   2274.0,2,   7.7575,2,    25.00,     0.01,2,     0.07,2,   9.2378,2,      734
  49UP20180501,RF1804,  6228,  1,     29,  25838,2,20180506,0512, 39.9918, 149.0258, 5510,    204.3,   8.3125,   8.3243,2,  34.0705,2,-999.0000,9,    169.7,2,    168.6,2,    40.79,2,    22.71,2,     0.02,2,     1.64,2,   2175.7,2,   2282.9,2,   7.6560,2,    25.00,     0.01,2,     0.08,2,   8.3243,2,      732
  49UP20180501,RF1804,  6228,  1,     28,  25837,2,20180506,0512, 39.9918, 149.0258, 5510,    251.3,   6.9011,   6.9012,2,  33.9675,2,-999.0000,9,    165.5,2,    164.9,2,    48.63,2,    25.77,2,     0.02,2,     1.87,2,   2197.2,2,   2284.2,2,   7.6012,2,    25.00,  -999.00,9,  -999.00,9,   6.9012,2,      730
  49UP20180501,RF1804,  6228,  1,     27,  24661,2,20180506,0512, 39.9918, 149.0258, 5510,    303.1,   5.6873,   5.6878,2,  33.9248,2,-999.0000,9,    147.7,2,    146.7,2,    60.61,2,    29.57,2,     0.01,2,     2.16,2,   2223.7,2,   2289.7,2,   7.5328,2,    25.00,  -999.00,9,  -999.00,9,   5.6878,2,      728
  49UP20180501,RF1804,  6228,  1,     26,  25835,2,20180506,0512, 39.9918, 149.0258, 5510,    404.7,   4.9908,   4.9889,2,  34.0295,2,-999.0000,9,     98.9,2,     98.5,2,    80.85,2,    35.15,2,     0.00,2,     2.54,2,   2271.2,2,   2308.5,2,   7.4420,2,    25.00,  -999.00,9,  -999.00,9,   4.9889,2,      725
  49UP20180501,RF1804,  6228,  1,     25,  25834,2,20180506,0512, 39.9918, 149.0258, 5510,    506.1,   4.1021,   4.1004,2,  34.0786,2,  34.0765,2,     62.3,2,     62.5,2,   100.79,2,    39.75,2,     0.00,2,     2.85,2,   2313.0,2,   2322.7,2,   7.3597,2,    25.00,  -999.00,9,  -999.00,9,   4.1004,2,      722
  49UP20180501,RF1804,  6228,  1,     24,  25833,2,20180506,0512, 39.9918, 149.0258, 5510,    605.8,   3.5938,   3.5944,2,  34.1240,2,-999.0000,9,     43.0,2,     42.4,2,   115.26,2,    41.90,2,     0.00,2,     3.00,2,   2340.1,2,   2334.3,2,   7.3175,2,    25.00,  -999.00,9,  -999.00,9,   3.5944,2,      719
  49UP20180501,RF1804,  6228,  1,     23,  25832,3,20180506,0512, 39.9918, 149.0258, 5510,    706.7,   3.2571,   3.2569,2,  34.1991,2,  34.1991,6,     27.7,2,     27.4,2,   129.24,2,    43.30,2,     0.00,2,     3.09,2,   2360.9,2,   2348.5,2,   7.2964,2,    25.00,  -999.00,9,  -999.00,9,   3.2569,2,      716
  49UP20180501,RF1804,  6228,  1,     22,  25831,2,20180506,0512, 39.9918, 149.0258, 5510,    807.2,   3.2736,   3.2736,2,  34.3141,2,-999.0000,9,     36.1,2,     35.6,2,   133.01,2,    42.43,2,     0.00,2,     3.04,2,   2355.9,2,   2364.4,2,   7.3373,2,    25.00,  -999.00,9,  -999.00,9,   3.2736,2,      713
  49UP20180501,RF1804,  6228,  1,     21,  25830,2,20180506,0512, 39.9918, 149.0258, 5510,    910.3,   3.1233,   3.1235,2,  34.3711,2,-999.0000,9,     38.7,2,     38.4,2,   137.68,2,    42.44,2,     0.00,2,     3.03,2,   2361.2,2,   2372.6,2,   7.3570,6,    25.00,  -999.00,9,  -999.00,9,   3.1235,2,      710
  49UP20180501,RF1804,  6228,  1,     20,  25829,2,20180506,0512, 39.9918, 149.0258, 5510,   1012.4,   2.8998,   2.8988,2,  34.4059,2,-999.0000,9,     37.3,2,     37.0,2,   144.09,2,    42.75,2,     0.00,2,     3.05,2,   2368.0,2,   2380.5,2,   7.3533,2,    25.00,  -999.00,9,  -999.00,9,   2.8988,2,      707
  49UP20180501,RF1804,  6228,  1,     19,  25828,2,20180506,0512, 39.9918, 149.0258, 5510,   1212.3,   2.5980,   2.5983,2,  34.4667,2,  34.4679,4,     40.4,2,     40.5,6,   152.59,6,    42.88,6,     0.00,6,     3.05,6,   2377.5,2,   2390.2,2,   7.3670,2,    25.00,  -999.00,9,  -999.00,9,   2.5983,2,      702
  49UP20180501,RF1804,  6228,  1,     18,  25827,2,20180506,0512, 39.9918, 149.0258, 5510,   1416.8,   2.3675,   2.3676,2,  34.5080,2,-999.0000,9,     45.4,2,     45.1,2,   158.76,2,    42.76,2,     0.00,2,     3.03,2,   2378.8,2,   2399.9,2,   7.3791,2,    25.00,  -999.00,9,  -999.00,9,   2.3676,2,      657
  49UP20180501,RF1804,  6228,  1,     17,  25826,2,20180506,0512, 39.9918, 149.0258, 5510,   1619.3,   2.1862,   2.1872,2,  34.5435,2,  34.5430,2,     54.5,2,     54.0,2,   162.36,2,    42.18,2,     0.00,2,     2.99,2,   2382.3,6,   2404.9,6,   7.3973,2,    25.00,  -999.00,9,  -999.00,9,   2.1872,2,      652
  49UP20180501,RF1804,  6228,  1,     16,  25825,3,20180506,0512, 39.9918, 149.0258, 5510,   1822.8,   2.0389,   2.0389,2,  34.5750,2,-999.0000,9,     66.1,2,     66.3,2,   163.58,2,    41.53,2,     0.00,2,     2.93,2,   2377.6,2,   2408.0,2,   7.4227,2,    25.00,  -999.00,9,  -999.00,9,   2.0389,2,      646
  49UP20180501,RF1804,  6228,  1,     15,  25824,2,20180506,0512, 39.9918, 149.0258, 5510,   2026.5,   1.8954,   1.8953,2,  34.6010,2,  34.6012,2,     79.0,2,     79.0,2,   164.03,2,    40.83,2,     0.00,2,     2.87,2,   2375.1,2,   2412.0,2,   7.4481,2,    25.00,  -999.00,9,  -999.00,9,   1.8953,2,      641
  49UP20180501,RF1804,  6228,  1,     14,  25823,2,20180506,0512, 39.9918, 149.0258, 5510,   2279.5,   1.7722,   1.7722,2,  34.6234,2,  34.6235,2,     93.8,2,     94.0,2,   163.08,2,    39.88,2,     0.00,2,     2.80,2,   2361.2,2,   2413.1,2,   7.4792,6,    25.00,  -999.00,9,  -999.00,9,   1.7722,2,      635
  49UP20180501,RF1804,  6228,  1,     13,  25822,2,20180506,0512, 39.9918, 149.0258, 5510,   2535.8,   1.6664,   1.6666,2,  34.6414,2,  34.6414,2,    107.6,2,    107.8,2,   161.43,2,    38.96,2,     0.00,2,     2.73,2,   2353.9,6,   2414.7,6,   7.5047,2,    25.00,  -999.00,9,  -999.00,9,   1.6666,2,      629
  49UP20180501,RF1804,  6228,  1,     12,  25821,2,20180506,0512, 39.9918, 149.0258, 5510,   2791.1,   1.6028,   1.6030,2,  34.6526,2,  34.6525,2,    117.7,2,    117.5,2,   159.71,2,    38.27,2,     0.00,2,     2.68,2,   2352.9,2,   2414.5,2,   7.5249,2,    25.00,  -999.00,9,  -999.00,9,   1.6030,2,      622
  49UP20180501,RF1804,  6228,  1,     11,  25820,2,20180506,0512, 39.9918, 149.0258, 5510,   3046.5,   1.5472,   1.5473,2,  34.6626,2,  34.6624,2,    127.5,2,    127.1,6,   157.59,6,    37.71,6,     0.00,6,     2.63,6,   2343.9,2,   2416.6,2,   7.5417,2,    25.00,  -999.00,9,  -999.00,9,   1.5473,2,      616
  49UP20180501,RF1804,  6228,  1,     10,  25819,2,20180506,0512, 39.9918, 149.0258, 5510,   3302.1,   1.5092,   1.5092,2,  34.6697,2,  34.6701,2,    135.0,2,    135.2,2,   156.21,2,    37.18,2,     0.00,2,     2.59,2,   2340.7,2,   2414.9,2,   7.5552,2,    25.00,  -999.00,9,  -999.00,9,   1.5092,2,      609
  49UP20180501,RF1804,  6228,  1,      9,  25818,2,20180506,0512, 39.9918, 149.0258, 5510,   3555.7,   1.4896,   1.4897,2,  34.6747,2,  34.6743,2,    140.5,2,    140.1,2,   155.06,2,    36.83,2,     0.00,2,     2.56,2,   2338.1,2,   2419.7,2,   7.5648,2,    25.00,  -999.00,9,  -999.00,9,   1.4897,2,      603
  49UP20180501,RF1804,  6228,  1,      8,  25817,2,20180506,0512, 39.9918, 149.0258, 5510,   3813.3,   1.4781,   1.4781,2,  34.6787,2,  34.6787,2,    145.3,2,    145.4,2,   153.70,2,    36.53,2,     0.00,2,     2.54,2,   2331.1,2,   2414.6,2,   7.5711,6,    25.00,  -999.00,9,  -999.00,9,   1.4781,2,      557
  49UP20180501,RF1804,  6228,  1,      7,  25816,2,20180506,0512, 39.9918, 149.0258, 5510,   4070.0,   1.4719,   1.4720,2,  34.6823,2,  34.6816,2,    149.8,2,    149.1,2,   152.47,2,    36.30,2,     0.00,2,     2.51,2,   2325.2,6,   2414.2,6,   7.5802,2,    25.00,  -999.00,9,  -999.00,9,   1.4720,2,      551
  49UP20180501,RF1804,  6228,  1,      6,  25815,2,20180506,0512, 39.9918, 149.0258, 5510,   4326.7,   1.4751,   1.4750,2,  34.6849,2,  34.6848,2,    153.3,2,    153.3,2,   151.20,2,    35.99,2,     0.00,2,     2.49,2,   2328.1,2,   2412.6,2,   7.5848,2,    25.00,  -999.00,9,  -999.00,9,   1.4750,2,      545
  49UP20180501,RF1804,  6228,  1,      5,  25814,2,20180506,0512, 39.9918, 149.0258, 5510,   4584.4,   1.4841,   1.4842,2,  34.6874,2,  34.6869,6,    155.9,2,    155.9,2,   150.81,2,    35.89,2,     0.00,2,     2.48,2,   2324.3,2,   2413.1,2,   7.5902,2,    25.00,  -999.00,9,  -999.00,9,   1.4842,2,      538
  49UP20180501,RF1804,  6228,  1,      4,  25813,2,20180506,0512, 39.9918, 149.0258, 5510,   4842.2,   1.5008,   1.5009,2,  34.6888,2,  34.6891,2,    157.7,2,    158.0,6,   150.78,6,    35.76,6,     0.00,6,     2.47,6,   2324.2,2,   2412.2,2,   7.5946,2,    25.00,  -999.00,9,  -999.00,9,   1.5009,2,      532
  49UP20180501,RF1804,  6228,  1,      3,  25812,2,20180506,0512, 39.9918, 149.0258, 5510,   5100.1,   1.5248,   1.5248,2,  34.6897,2,  34.6897,2,    158.9,2,    158.6,2,   150.48,2,    35.65,2,     0.00,2,     2.46,2,   2319.2,2,   2412.5,2,   7.5982,2,    25.00,  -999.00,9,  -999.00,9,   1.5248,2,      526
  49UP20180501,RF1804,  6228,  1,      2,  25811,2,20180506,0512, 39.9918, 149.0258, 5510,   5356.2,   1.5479,   1.5479,2,  34.6907,2,  34.6925,4,    160.6,2,    160.7,2,   148.47,2,    35.49,2,     0.00,2,     2.45,2,   2321.2,2,   2411.6,2,   7.5967,2,    25.00,  -999.00,9,  -999.00,9,   1.5479,2,      519
  49UP20180501,RF1804,  6228,  1,      1,  25810,2,20180506,0512, 39.9918, 149.0258, 5510,   5636.0,   1.5739,   1.5739,2,  34.6917,2,  34.6914,6,    163.2,2,    163.6,2,   145.46,2,    35.37,2,     0.00,2,     2.44,2,   2321.8,2,   2410.3,2,   7.6009,2,    25.00,  -999.00,9,  -999.00,9,   1.5739,2,      513