BOTTLE,20200310PRINUNIVRMK
EXPOCODE,SECT_ID,STNNBR,CASTNO,SAMPNO,BTLNBR,BTLNBR_FLAG_W,DATE,TIME,LATITUDE,LONGITUDE,DEPTH,CTDPRS,CTDTMP,SBE35,SBE35_FLAG_W,CTDSAL,CTDSAL_FLAG_W,SALNTY,SALNTY_FLAG_W,CTDOXY,CTDOXY_FLAG_W,OXYGEN,OXYGEN_FLAG_W,SILCAT,SILCAT_FLAG_W,NITRAT,NITRAT_FLAG_W,NITRIT,NITRIT_FLAG_W,PHSPHT,PHSPHT_FLAG_W,TCARBN,TCARBN_FLAG_W,ALKALI,ALKALI_FLAG_W,PH_TOT,PH_TOT_FLAG_W,PH_TMP,CHLORA,CHLORA_FLAG_W,PPHYTN,PPHYTN_FLAG_W,SBE35,SBE35_FLAG_W,BTL_TIME
,,,,,,,,,,,METERS,DBAR,ITS-90,,,PSS-78,,PSS-78,,UMOL/KG,,UMOL/KG,,UMOL/KG,,UMOL/KG,,UMOL/KG,,UMOL/KG,,UMOL/KG,,UMOL/KG,,,,DEG C,UG/KG,,UG/KG,,,,
  49UP20180501,RF1804,  6240,  1,     99,     99,2,20180511,2024, 40.0175, 165.0187, 5467,      0.0,  12.7819,-999.0000,9,  34.2441,2,  34.2364,2,    273.5,2,    272.3,2,    12.09,2,     5.73,2,     0.09,2,     0.46,2,   2052.9,2,   2267.8,2,   7.9044,2,    25.00,     0.88,2,     0.22,2,-999.0000,9,     2225
  49UP20180501,RF1804,  6240,  1,     36,  25845,3,20180511,2024, 40.0175, 165.0187, 5467,     10.4,  12.7155,  12.7377,2,  34.2462,2,  34.2462,2,    273.8,2,    272.6,2,    11.98,2,     5.63,2,     0.09,2,     0.44,2,   2056.0,2,   2269.0,2,   7.9035,2,    25.00,     0.81,2,     0.19,2,  12.7377,2,     2255
  49UP20180501,RF1804,  6240,  1,     35,  25844,2,20180511,2024, 40.0175, 165.0187, 5467,     26.1,  12.5957,  12.5957,2,  34.2381,2,-999.0000,9,    274.5,2,    273.4,2,    12.15,2,     5.73,2,     0.09,2,     0.46,2,   2051.2,2,   2268.4,2,   7.9053,2,    25.00,     0.85,2,     0.18,2,  12.5957,2,     2253
  49UP20180501,RF1804,  6240,  1,     34,  25843,2,20180511,2024, 40.0175, 165.0187, 5467,     48.4,  12.2740,  12.2739,2,  34.2486,2,  34.2501,2,    270.4,2,    269.6,2,    12.10,2,     6.16,2,     0.12,2,     0.49,2,   2060.4,6,   2268.5,6,   7.8910,2,    25.00,     0.68,2,     0.31,2,  12.2739,2,     2249
  49UP20180501,RF1804,  6240,  1,     33,  25842,2,20180511,2024, 40.0175, 165.0187, 5467,     74.3,  11.8841,  11.8852,2,  34.3338,2,-999.0000,9,    258.1,2,    257.5,2,    12.61,2,     7.44,2,     0.38,2,     0.59,2,   2072.2,2,   2271.9,2,   7.8683,6,    25.00,     0.11,2,     0.16,2,  11.8852,2,     2247
  49UP20180501,RF1804,  6240,  1,     32,  25841,2,20180511,2024, 40.0175, 165.0187, 5467,    101.2,  11.5330,  11.5379,2,  34.2952,2,-999.0000,9,    257.4,2,    256.7,2,    13.28,2,     8.41,2,     0.21,2,     0.63,2,   2074.7,2,   2269.3,2,   7.8587,2,    25.00,     0.06,2,     0.13,2,  11.5379,2,     2246
  49UP20180501,RF1804,  6240,  1,     31,  25840,2,20180511,2024, 40.0175, 165.0187, 5467,    124.5,  11.2041,  11.2037,2,  34.2612,2,-999.0000,9,    256.4,2,    255.8,2,    14.29,2,     9.30,2,     0.10,2,     0.69,2,   2084.9,2,   2269.2,2,   7.8470,2,    25.00,     0.05,2,     0.08,2,  11.2037,2,     2244
  49UP20180501,RF1804,  6240,  1,     30,  25839,2,20180511,2024, 40.0175, 165.0187, 5467,    151.0,  10.7941,  10.7932,2,  34.2095,2,-999.0000,9,    257.1,2,    256.7,2,    15.04,2,     9.95,2,     0.10,2,     0.74,2,   2084.5,2,   2269.4,2,   7.8398,2,    25.00,     0.04,2,     0.08,2,  10.7932,2,     2243
  49UP20180501,RF1804,  6240,  1,     29,  25838,2,20180511,2024, 40.0175, 165.0187, 5467,    203.5,   9.9006,   9.9007,2,  34.1037,2,  34.1050,2,    252.4,2,    251.8,2,    17.26,2,    11.89,2,     0.01,2,     0.87,2,   2093.8,2,   2267.9,2,   7.8084,2,    25.00,     0.02,2,     0.06,2,   9.9007,2,     2241
  49UP20180501,RF1804,  6240,  1,     28,  25837,2,20180511,2024, 40.0175, 165.0187, 5467,    254.7,   8.8965,   8.8950,2,  33.9958,2,-999.0000,9,    251.3,2,    250.6,2,    20.56,2,    13.72,2,     0.01,2,     1.01,2,   2106.8,2,   2265.1,2,   7.7782,2,    25.00,  -999.00,9,  -999.00,9,   8.8950,2,     2238
  49UP20180501,RF1804,  6240,  1,     27,  24661,2,20180511,2024, 40.0175, 165.0187, 5467,    305.0,   8.2977,   8.2957,2,  33.9625,2,  33.9677,2,    230.8,2,    230.7,2,    26.16,2,    16.72,2,     0.01,2,     1.22,2,   2128.3,2,   2267.3,2,   7.7356,2,    25.00,  -999.00,9,  -999.00,9,   8.2957,2,     2236
  49UP20180501,RF1804,  6240,  1,     26,  25835,2,20180511,2024, 40.0175, 165.0187, 5467,    406.7,   6.3479,   6.3488,2,  33.8601,2,-999.0000,9,    186.1,2,    186.3,2,    45.11,2,    24.71,2,     0.01,2,     1.81,2,   2186.5,2,   2275.3,2,   7.6036,2,    25.00,  -999.00,9,  -999.00,9,   6.3488,2,     2233
  49UP20180501,RF1804,  6240,  1,     25,  25834,2,20180511,2024, 40.0175, 165.0187, 5467,    505.6,   4.8905,   4.8904,2,  33.8858,2,  33.8853,2,    125.0,2,    125.0,2,    70.05,2,    33.21,2,     0.00,2,     2.40,2,   2250.2,2,   2290.9,2,   7.4570,2,    25.00,  -999.00,9,  -999.00,9,   4.8904,2,     2229
  49UP20180501,RF1804,  6240,  1,     24,  25833,2,20180511,2024, 40.0175, 165.0187, 5467,    607.9,   4.5796,   4.5799,2,  34.0464,2,-999.0000,9,     80.9,2,     81.4,2,    89.02,2,    37.48,2,     0.00,2,     2.69,2,   2288.0,2,   2314.8,2,   7.3960,2,    25.00,  -999.00,9,  -999.00,9,   4.5799,2,     2226
  49UP20180501,RF1804,  6240,  1,     23,  25832,2,20180511,2024, 40.0175, 165.0187, 5467,    706.8,   4.2630,   4.2647,2,  34.1416,2,-999.0000,9,     60.5,2,     61.0,6,   101.79,6,    39.53,6,     0.00,6,     2.82,6,   2310.1,2,   2330.4,2,   7.3728,2,    25.00,  -999.00,9,  -999.00,9,   4.2647,2,     2222
  49UP20180501,RF1804,  6240,  1,     22,  25831,2,20180511,2024, 40.0175, 165.0187, 5467,    809.8,   3.7700,   3.7703,2,  34.2193,2,  34.2169,2,     43.3,2,     43.7,2,   116.83,2,    41.42,2,     0.00,2,     2.95,2,   2333.7,6,   2343.9,6,   7.3447,2,    25.00,  -999.00,9,  -999.00,9,   3.7703,2,     2219
  49UP20180501,RF1804,  6240,  1,     21,  25830,2,20180511,2024, 40.0175, 165.0187, 5467,    911.1,   3.5474,   3.5473,2,  34.2858,2,-999.0000,9,     38.9,2,     40.5,2,   125.17,2,    42.09,2,     0.00,2,     2.99,2,   2349.2,2,   2356.0,2,   7.3408,6,    25.00,  -999.00,9,  -999.00,9,   3.5473,2,     2215
  49UP20180501,RF1804,  6240,  1,     20,  25829,2,20180511,2024, 40.0175, 165.0187, 5467,   1011.7,   3.2303,   3.2308,2,  34.3285,2,-999.0000,9,     34.5,2,     34.5,2,   134.51,2,    42.72,2,     0.00,2,     3.03,2,   2359.7,2,   2366.8,2,   7.3358,2,    25.00,  -999.00,9,  -999.00,9,   3.2308,2,     2212
  49UP20180501,RF1804,  6240,  1,     19,  25828,2,20180511,2024, 40.0175, 165.0187, 5467,   1215.7,   2.8326,   2.8331,2,  34.4038,2,  34.4039,2,     33.0,2,     33.2,2,   147.49,2,    43.22,2,     0.00,2,     3.06,2,   2373.7,2,   2381.4,2,   7.3453,2,    25.00,  -999.00,9,  -999.00,9,   2.8331,2,     2206
  49UP20180501,RF1804,  6240,  1,     18,  25827,2,20180511,2024, 40.0175, 165.0187, 5467,   1416.9,   2.5723,   2.5722,2,  34.4638,2,-999.0000,9,     37.3,2,     37.5,6,   154.62,6,    43.20,6,     0.00,6,     3.05,6,   2379.2,2,   2393.7,2,   7.3564,2,    25.00,  -999.00,9,  -999.00,9,   2.5722,2,     2201
  49UP20180501,RF1804,  6240,  1,     17,  25826,2,20180511,2024, 40.0175, 165.0187, 5467,   1618.7,   2.3345,   2.3346,2,  34.5106,2,-999.0000,9,     43.5,2,     43.5,2,   161.06,2,    42.98,2,     0.00,2,     3.03,2,   2382.8,2,   2401.7,2,   7.3690,2,    25.00,  -999.00,9,  -999.00,9,   2.3346,2,     2156
  49UP20180501,RF1804,  6240,  1,     16,  25825,2,20180511,2024, 40.0175, 165.0187, 5467,   1824.3,   2.1394,   2.1392,2,  34.5492,2,-999.0000,9,     53.8,2,     54.1,2,   165.34,2,    42.40,2,     0.00,2,     2.98,2,   2379.3,2,   2409.1,2,   7.3926,2,    25.00,  -999.00,9,  -999.00,9,   2.1392,2,     2150
  49UP20180501,RF1804,  6240,  1,     15,  25824,2,20180511,2024, 40.0175, 165.0187, 5467,   2025.7,   1.9894,   1.9891,2,  34.5797,2,  34.5799,2,     65.0,2,     65.0,2,   167.27,2,    41.77,2,     0.00,2,     2.93,2,   2379.4,2,   2412.2,2,   7.4141,2,    25.00,  -999.00,9,  -999.00,9,   1.9891,2,     2145
  49UP20180501,RF1804,  6240,  1,     14,  25823,2,20180511,2024, 40.0175, 165.0187, 5467,   2282.5,   1.8371,   1.8371,2,  34.6102,2,  34.6102,2,     81.8,2,     82.0,2,   166.88,2,    40.79,2,     0.00,2,     2.85,2,   2370.1,2,   2414.4,2,   7.4493,2,    25.00,  -999.00,9,  -999.00,9,   1.8371,2,     2139
  49UP20180501,RF1804,  6240,  1,     13,  25822,2,20180511,2024, 40.0175, 165.0187, 5467,   2534.8,   1.7190,   1.7191,2,  34.6311,2,  34.6317,2,     96.9,2,     97.3,2,   165.89,2,    39.84,2,     0.00,2,     2.77,2,   2362.2,6,   2418.9,6,   7.4779,2,    25.00,  -999.00,9,  -999.00,9,   1.7191,2,     2133
  49UP20180501,RF1804,  6240,  1,     12,  25821,2,20180511,2024, 40.0175, 165.0187, 5467,   2790.6,   1.6208,   1.6207,2,  34.6480,2,  34.6485,2,    111.7,2,    111.7,2,   163.28,2,    38.78,2,     0.00,2,     2.70,2,   2353.4,2,   2420.8,2,   7.5077,6,    25.00,  -999.00,9,  -999.00,9,   1.6207,2,     2127
  49UP20180501,RF1804,  6240,  1,     11,  25820,2,20180511,2024, 40.0175, 165.0187, 5467,   3045.2,   1.5637,   1.5636,2,  34.6588,2,  34.6588,2,    122.6,2,    122.2,2,   160.69,2,    38.11,2,     0.00,2,     2.65,2,   2343.4,2,   2419.9,2,   7.5260,2,    25.00,  -999.00,9,  -999.00,9,   1.5636,2,     2121
  49UP20180501,RF1804,  6240,  1,     10,  25819,2,20180511,2024, 40.0175, 165.0187, 5467,   3299.9,   1.5229,   1.5228,2,  34.6669,2,  34.6673,6,    131.4,2,    131.5,2,   158.54,2,    37.60,2,     0.00,2,     2.60,2,   2340.4,2,   2419.2,2,   7.5458,2,    25.00,  -999.00,9,  -999.00,9,   1.5228,2,     2115
  49UP20180501,RF1804,  6240,  1,      9,  25818,2,20180511,2024, 40.0175, 165.0187, 5467,   3557.0,   1.5006,   1.5005,2,  34.6725,2,  34.6729,2,    137.7,2,    137.6,2,   157.19,2,    37.15,2,     0.00,2,     2.57,2,   2343.6,2,   2420.8,2,   7.5560,2,    25.00,  -999.00,9,  -999.00,9,   1.5005,2,     2109
  49UP20180501,RF1804,  6240,  1,      8,  25817,2,20180511,2024, 40.0175, 165.0187, 5467,   3813.3,   1.4825,   1.4825,2,  34.6776,2,  34.6780,2,    143.6,2,    143.7,6,   155.52,6,    36.74,6,     0.00,6,     2.54,6,   2334.5,2,   2419.7,2,   7.5652,2,    25.00,  -999.00,9,  -999.00,9,   1.4825,2,     2104
  49UP20180501,RF1804,  6240,  1,      7,  25816,2,20180511,2024, 40.0175, 165.0187, 5467,   4069.2,   1.4756,   1.4755,2,  34.6812,2,  34.6818,2,    148.4,2,    148.4,2,   154.19,2,    36.50,2,     0.00,2,     2.52,2,   2326.6,2,   2418.0,2,   7.5735,2,    25.00,  -999.00,9,  -999.00,9,   1.4755,2,     2058
  49UP20180501,RF1804,  6240,  1,      6,  25815,2,20180511,2024, 40.0175, 165.0187, 5467,   4325.6,   1.4805,   1.4804,2,  34.6840,2,  34.6841,2,    151.5,2,    151.6,2,   153.50,2,    36.28,2,     0.00,2,     2.50,2,   2328.2,2,   2418.2,2,   7.5777,2,    25.00,  -999.00,9,  -999.00,9,   1.4804,2,     2052
  49UP20180501,RF1804,  6240,  1,      5,  25814,2,20180511,2024, 40.0175, 165.0187, 5467,   4583.4,   1.4933,   1.4932,2,  34.6859,2,  34.6872,4,    153.9,2,    153.7,2,   153.11,2,    36.10,2,     0.00,2,     2.49,2,   2326.0,2,   2418.5,2,   7.5838,2,    25.00,  -999.00,9,  -999.00,9,   1.4932,2,     2046
  49UP20180501,RF1804,  6240,  1,      4,  25813,2,20180511,2024, 40.0175, 165.0187, 5467,   4840.9,   1.5098,   1.5098,2,  34.6875,2,  34.6885,2,    155.9,2,    155.9,2,   152.85,2,    35.94,2,     0.00,2,     2.48,2,   2328.0,2,   2418.4,2,   7.5869,2,    25.00,  -999.00,9,  -999.00,9,   1.5098,2,     2041
  49UP20180501,RF1804,  6240,  1,      3,  25812,2,20180511,2024, 40.0175, 165.0187, 5467,   5098.4,   1.5332,   1.5331,2,  34.6884,2,  34.6896,4,    157.0,2,    156.6,2,   152.94,2,    35.90,2,     0.00,2,     2.47,2,   2322.1,2,   2419.9,2,   7.5891,2,    25.00,  -999.00,9,  -999.00,9,   1.5331,2,     2035
  49UP20180501,RF1804,  6240,  1,      2,  25811,2,20180511,2024, 40.0175, 165.0187, 5467,   5355.3,   1.5606,   1.5604,2,  34.6892,2,  34.6896,2,    157.6,2,    157.6,2,   153.38,2,    35.89,2,     0.00,2,     2.47,2,   2318.5,2,   2419.1,2,   7.5882,2,    25.00,  -999.00,9,  -999.00,9,   1.5604,2,     2029
  49UP20180501,RF1804,  6240,  1,      1,  25810,2,20180511,2024, 40.0175, 165.0187, 5467,   5576.6,   1.5893,   1.5890,2,  34.6893,2,  34.6898,2,    157.6,2,    157.7,2,   153.67,2,    35.89,2,     0.00,2,     2.47,2,   2324.6,2,   2416.6,2,   7.5917,2,    25.00,  -999.00,9,  -999.00,9,   1.5890,2,     2024