BOTTLE,20200310PRINUNIVRMK
EXPOCODE,SECT_ID,STNNBR,CASTNO,SAMPNO,BTLNBR,BTLNBR_FLAG_W,DATE,TIME,LATITUDE,LONGITUDE,DEPTH,CTDPRS,CTDTMP,SBE35,SBE35_FLAG_W,CTDSAL,CTDSAL_FLAG_W,SALNTY,SALNTY_FLAG_W,CTDOXY,CTDOXY_FLAG_W,OXYGEN,OXYGEN_FLAG_W,SILCAT,SILCAT_FLAG_W,NITRAT,NITRAT_FLAG_W,NITRIT,NITRIT_FLAG_W,PHSPHT,PHSPHT_FLAG_W,TCARBN,TCARBN_FLAG_W,ALKALI,ALKALI_FLAG_W,PH_TOT,PH_TOT_FLAG_W,PH_TMP,CHLORA,CHLORA_FLAG_W,PPHYTN,PPHYTN_FLAG_W,SBE35,SBE35_FLAG_W,BTL_TIME
,,,,,,,,,,,METERS,DBAR,ITS-90,,,PSS-78,,PSS-78,,UMOL/KG,,UMOL/KG,,UMOL/KG,,UMOL/KG,,UMOL/KG,,UMOL/KG,,UMOL/KG,,UMOL/KG,,,,DEG C,UG/KG,,UG/KG,,,,
  49UP20180501,RF1804,  6233,  1,     99,     99,2,20180508,0431, 39.9903, 155.6588, 5550,      0.0,  13.3740,-999.0000,9,  34.2039,2,-999.0000,9,    275.5,2,    274.0,2,    10.99,2,     3.98,2,     0.08,2,     0.33,2,   -999.0,9,   -999.0,9,-999.0000,9,  -999.00,  -999.00,9,  -999.00,9,-999.0000,9,      630
  49UP20180501,RF1804,  6233,  1,     36,  25845,2,20180508,0431, 39.9903, 155.6588, 5550,     10.7,  13.2552,  13.2373,2,  34.2903,2,-999.0000,9,    276.9,2,    275.5,2,    10.81,2,     3.85,2,     0.08,2,     0.32,2,   -999.0,9,   -999.0,9,-999.0000,9,  -999.00,  -999.00,9,  -999.00,9,  13.2373,2,      707
  49UP20180501,RF1804,  6233,  1,     35,  25844,2,20180508,0431, 39.9903, 155.6588, 5550,     25.0,  13.1077,  13.1080,2,  34.3602,2,-999.0000,9,    273.4,2,    272.9,2,    11.03,2,     4.15,2,     0.08,2,     0.34,2,   -999.0,9,   -999.0,9,-999.0000,9,  -999.00,  -999.00,9,  -999.00,9,  13.1080,2,      706
  49UP20180501,RF1804,  6233,  1,     34,  25843,2,20180508,0431, 39.9903, 155.6588, 5550,     51.6,  12.8636,  12.8795,2,  34.3304,2,-999.0000,9,    272.6,2,    272.1,2,    11.42,2,     4.55,2,     0.08,2,     0.38,2,   -999.0,9,   -999.0,9,-999.0000,9,  -999.00,  -999.00,9,  -999.00,9,  12.8795,2,      704
  49UP20180501,RF1804,  6233,  1,     33,  25842,2,20180508,0431, 39.9903, 155.6588, 5550,     77.0,  10.0887,  10.0915,2,  34.1098,2,-999.0000,9,    279.8,2,    278.9,2,    13.78,2,     9.25,2,     0.16,2,     0.73,2,   -999.0,9,   -999.0,9,-999.0000,9,  -999.00,  -999.00,9,  -999.00,9,  10.0915,2,      702
  49UP20180501,RF1804,  6233,  1,     32,  25841,2,20180508,0431, 39.9903, 155.6588, 5550,    104.0,   9.6848,   9.6863,2,  34.0994,2,-999.0000,9,    269.8,2,    269.6,2,    16.39,6,    10.87,6,     0.20,6,     0.85,6,   -999.0,9,   -999.0,9,-999.0000,9,  -999.00,  -999.00,9,  -999.00,9,   9.6863,2,      700
  49UP20180501,RF1804,  6233,  1,     31,  25840,2,20180508,0431, 39.9903, 155.6588, 5550,    126.2,   9.0341,   9.0337,2,  34.0122,2,-999.0000,9,    271.9,2,    271.1,2,    18.57,2,    11.89,2,     0.24,2,     0.94,2,   -999.0,9,   -999.0,9,-999.0000,9,  -999.00,  -999.00,9,  -999.00,9,   9.0337,2,      658
  49UP20180501,RF1804,  6233,  1,     30,  25839,2,20180508,0431, 39.9903, 155.6588, 5550,    153.6,   8.6258,   8.6233,2,  33.9714,2,-999.0000,9,    276.2,2,    275.3,2,    18.83,2,    12.35,2,     0.23,2,     0.96,2,   -999.0,9,   -999.0,9,-999.0000,9,  -999.00,  -999.00,9,  -999.00,9,   8.6233,2,      654
  49UP20180501,RF1804,  6233,  1,     29,  25838,2,20180508,0431, 39.9903, 155.6588, 5550,    205.5,   7.9923,   7.9919,2,  33.9670,2,-999.0000,9,    224.7,2,    225.2,2,    30.26,2,    18.03,2,     0.03,2,     1.33,2,   -999.0,9,   -999.0,9,-999.0000,9,  -999.00,  -999.00,9,  -999.00,9,   7.9919,2,      651
  49UP20180501,RF1804,  6233,  1,     28,  25837,2,20180508,0431, 39.9903, 155.6588, 5550,    255.4,   6.7333,   6.7353,2,  33.8479,2,-999.0000,9,    214.7,2,    214.7,2,    38.20,2,    21.40,2,     0.02,2,     1.59,2,   -999.0,9,   -999.0,9,-999.0000,9,  -999.00,  -999.00,9,  -999.00,9,   6.7353,2,      648
  49UP20180501,RF1804,  6233,  1,     27,  24661,2,20180508,0431, 39.9903, 155.6588, 5550,    303.5,   5.3110,   5.3120,2,  33.7454,2,-999.0000,9,    190.2,2,    189.1,2,    50.62,2,    26.44,2,     0.01,2,     1.96,2,   -999.0,9,   -999.0,9,-999.0000,9,  -999.00,  -999.00,9,  -999.00,9,   5.3120,2,      646
  49UP20180501,RF1804,  6233,  1,     26,  25835,2,20180508,0431, 39.9903, 155.6588, 5550,    406.2,   5.1786,   5.1579,2,  33.9910,2,-999.0000,9,    112.4,2,    111.7,2,    74.08,2,    33.65,2,     0.01,2,     2.43,2,   -999.0,9,   -999.0,9,-999.0000,9,  -999.00,  -999.00,9,  -999.00,9,   5.1579,2,      642
  49UP20180501,RF1804,  6233,  1,     25,  25834,2,20180508,0431, 39.9903, 155.6588, 5550,    508.0,   4.5270,   4.5266,2,  34.0753,2,-999.0000,9,     75.4,2,     75.3,6,    92.40,6,    37.97,6,     0.00,6,     2.72,6,   -999.0,9,   -999.0,9,-999.0000,9,  -999.00,  -999.00,9,  -999.00,9,   4.5266,2,      639
  49UP20180501,RF1804,  6233,  1,     24,  25833,2,20180508,0431, 39.9903, 155.6588, 5550,    608.0,   3.9489,   3.9487,2,  34.1263,2,-999.0000,9,     51.8,2,     52.0,2,   107.78,2,    40.78,2,     0.00,2,     2.91,2,   -999.0,9,   -999.0,9,-999.0000,9,  -999.00,  -999.00,9,  -999.00,9,   3.9487,2,      636
  49UP20180501,RF1804,  6233,  1,     23,  25832,2,20180508,0431, 39.9903, 155.6588, 5550,    708.7,   3.6328,   3.6329,2,  34.1925,2,-999.0000,9,     38.8,2,     38.3,2,   119.42,2,    42.11,2,     0.00,2,     3.00,2,   -999.0,9,   -999.0,9,-999.0000,9,  -999.00,  -999.00,9,  -999.00,9,   3.6329,2,      632
  49UP20180501,RF1804,  6233,  1,     22,  25831,2,20180508,0431, 39.9903, 155.6588, 5550,    809.7,   3.3119,   3.3120,2,  34.2681,2,-999.0000,9,     34.6,2,     34.4,2,   130.55,2,    42.56,2,     0.00,2,     3.04,2,   -999.0,9,   -999.0,9,-999.0000,9,  -999.00,  -999.00,9,  -999.00,9,   3.3120,2,      629
  49UP20180501,RF1804,  6233,  1,     21,  25830,2,20180508,0431, 39.9903, 155.6588, 5550,    911.3,   3.1474,   3.1472,2,  34.3272,2,-999.0000,9,     33.9,2,     33.5,2,   136.91,2,    42.80,2,     0.00,2,     3.05,2,   -999.0,9,   -999.0,9,-999.0000,9,  -999.00,  -999.00,9,  -999.00,9,   3.1472,2,      626
  49UP20180501,RF1804,  6233,  1,     20,  25829,2,20180508,0431, 39.9903, 155.6588, 5550,   1012.1,   2.9144,   2.9148,2,  34.3605,2,-999.0000,9,     32.2,2,     31.6,2,   144.35,2,    43.11,2,     0.00,2,     3.07,2,   -999.0,9,   -999.0,9,-999.0000,9,  -999.00,  -999.00,9,  -999.00,9,   2.9148,2,      622
  49UP20180501,RF1804,  6233,  1,     19,  25828,2,20180508,0431, 39.9903, 155.6588, 5550,   1214.2,   2.6914,   2.6914,2,  34.4371,2,-999.0000,9,     37.0,2,     36.5,2,   150.96,2,    42.97,2,     0.00,2,     3.05,2,   -999.0,9,   -999.0,9,-999.0000,9,  -999.00,  -999.00,9,  -999.00,9,   2.6914,2,      617
  49UP20180501,RF1804,  6233,  1,     18,  25827,2,20180508,0431, 39.9903, 155.6588, 5550,   1416.1,   2.4254,   2.4253,2,  34.4917,2,-999.0000,9,     42.6,2,     42.1,2,   158.22,2,    42.84,2,     0.00,2,     3.04,2,   -999.0,9,   -999.0,9,-999.0000,9,  -999.00,  -999.00,9,  -999.00,9,   2.4253,2,      612
  49UP20180501,RF1804,  6233,  1,     17,  25826,2,20180508,0431, 39.9903, 155.6588, 5550,   1618.3,   2.2271,   2.2274,2,  34.5323,2,-999.0000,9,     51.1,2,     50.5,2,   162.63,2,    42.54,2,     0.00,2,     3.00,2,   -999.0,9,   -999.0,9,-999.0000,9,  -999.00,  -999.00,9,  -999.00,9,   2.2274,2,      607
  49UP20180501,RF1804,  6233,  1,     16,  25825,3,20180508,0431, 39.9903, 155.6588, 5550,   1822.6,   2.0728,   2.0727,2,  34.5673,2,-999.0000,9,     62.5,2,     62.7,2,   164.04,2,    41.90,2,     0.00,2,     2.94,2,   -999.0,9,   -999.0,9,-999.0000,9,  -999.00,  -999.00,9,  -999.00,9,   2.0727,2,      602
  49UP20180501,RF1804,  6233,  1,     15,  25824,2,20180508,0431, 39.9903, 155.6588, 5550,   2028.6,   1.9280,   1.9279,2,  34.5949,2,-999.0000,9,     75.3,2,     75.3,2,   165.17,2,    41.09,2,     0.00,2,     2.88,2,   -999.0,9,   -999.0,9,-999.0000,9,  -999.00,  -999.00,9,  -999.00,9,   1.9279,2,      557
  49UP20180501,RF1804,  6233,  1,     14,  25823,2,20180508,0431, 39.9903, 155.6588, 5550,   2280.1,   1.8098,   1.8098,2,  34.6167,2,-999.0000,9,     88.6,2,     88.6,2,   164.63,2,    40.22,2,     0.00,2,     2.82,2,   -999.0,9,   -999.0,9,-999.0000,9,  -999.00,  -999.00,9,  -999.00,9,   1.8098,2,      551
  49UP20180501,RF1804,  6233,  1,     13,  25822,2,20180508,0431, 39.9903, 155.6588, 5550,   2533.8,   1.6974,   1.6973,2,  34.6357,2,-999.0000,9,    101.9,2,    101.7,2,   164.14,2,    39.36,2,     0.00,2,     2.76,2,   -999.0,9,   -999.0,9,-999.0000,9,  -999.00,  -999.00,9,  -999.00,9,   1.6973,2,      545
  49UP20180501,RF1804,  6233,  1,     12,  25821,2,20180508,0431, 39.9903, 155.6588, 5550,   2788.5,   1.6186,   1.6188,2,  34.6499,2,-999.0000,9,    114.4,2,    114.1,2,   161.77,2,    38.67,2,     0.00,2,     2.70,2,   -999.0,9,   -999.0,9,-999.0000,9,  -999.00,  -999.00,9,  -999.00,9,   1.6188,2,      539
  49UP20180501,RF1804,  6233,  1,     11,  25820,2,20180508,0431, 39.9903, 155.6588, 5550,   3043.8,   1.5541,   1.5540,2,  34.6612,2,-999.0000,9,    125.9,2,    125.4,2,   158.95,2,    37.93,2,     0.00,2,     2.63,2,   -999.0,9,   -999.0,9,-999.0000,9,  -999.00,  -999.00,9,  -999.00,9,   1.5540,2,      533
  49UP20180501,RF1804,  6233,  1,     10,  25819,2,20180508,0431, 39.9903, 155.6588, 5550,   3299.8,   1.5134,   1.5134,2,  34.6688,2,-999.0000,9,    134.1,2,    134.0,2,   156.95,2,    37.28,2,     0.00,2,     2.59,2,   -999.0,9,   -999.0,9,-999.0000,9,  -999.00,  -999.00,9,  -999.00,9,   1.5134,2,      527
  49UP20180501,RF1804,  6233,  1,      9,  25818,2,20180508,0431, 39.9903, 155.6588, 5550,   3557.1,   1.4904,   1.4902,2,  34.6741,2,-999.0000,9,    140.0,2,    139.6,2,   155.75,2,    37.03,2,     0.00,2,     2.57,2,   -999.0,9,   -999.0,9,-999.0000,9,  -999.00,  -999.00,9,  -999.00,9,   1.4902,2,      521
  49UP20180501,RF1804,  6233,  1,      8,  25817,2,20180508,0431, 39.9903, 155.6588, 5550,   3813.1,   1.4769,   1.4770,2,  34.6784,2,-999.0000,9,    145.4,2,    145.1,2,   154.21,2,    36.68,2,     0.00,2,     2.54,2,   -999.0,9,   -999.0,9,-999.0000,9,  -999.00,  -999.00,9,  -999.00,9,   1.4770,2,      515
  49UP20180501,RF1804,  6233,  1,      7,  25816,2,20180508,0431, 39.9903, 155.6588, 5550,   4069.5,   1.4712,   1.4712,2,  34.6821,2,-999.0000,9,    150.1,2,    149.9,2,   152.53,2,    36.35,2,     0.00,2,     2.51,2,   -999.0,9,   -999.0,9,-999.0000,9,  -999.00,  -999.00,9,  -999.00,9,   1.4712,2,      509
  49UP20180501,RF1804,  6233,  1,      6,  25815,2,20180508,0431, 39.9903, 155.6588, 5550,   4325.9,   1.4742,   1.4742,2,  34.6848,2,-999.0000,9,    153.3,2,    152.9,6,   151.92,6,    36.03,6,     0.00,6,     2.49,6,   -999.0,9,   -999.0,9,-999.0000,9,  -999.00,  -999.00,9,  -999.00,9,   1.4742,2,      503
  49UP20180501,RF1804,  6233,  1,      5,  25814,2,20180508,0431, 39.9903, 155.6588, 5550,   4584.2,   1.4832,   1.4834,2,  34.6872,2,-999.0000,9,    156.1,2,    155.8,2,   151.32,2,    35.97,2,     0.00,2,     2.48,2,   -999.0,9,   -999.0,9,-999.0000,9,  -999.00,  -999.00,9,  -999.00,9,   1.4834,2,      457
  49UP20180501,RF1804,  6233,  1,      4,  25813,2,20180508,0431, 39.9903, 155.6588, 5550,   5099.2,   1.5265,   1.5264,2,  34.6894,2,-999.0000,9,    158.1,2,    157.9,2,   152.48,2,    35.81,2,     0.00,2,     2.47,2,   -999.0,9,   -999.0,9,-999.0000,9,  -999.00,  -999.00,9,  -999.00,9,   1.5264,2,      446
  49UP20180501,RF1804,  6233,  1,      3,  25812,2,20180508,0431, 39.9903, 155.6588, 5550,   5356.7,   1.5535,   1.5535,2,  34.6900,2,-999.0000,9,    159.4,2,    158.9,2,   150.89,2,    35.62,2,     0.00,2,     2.47,2,   -999.0,9,   -999.0,9,-999.0000,9,  -999.00,  -999.00,9,  -999.00,9,   1.5535,2,      440
  49UP20180501,RF1804,  6233,  1,      2,  25811,2,20180508,0431, 39.9903, 155.6588, 5550,   5614.2,   1.5740,   1.5739,2,  34.6913,2,-999.0000,9,    162.5,2,    162.5,2,   146.47,2,    35.39,2,     0.00,2,     2.45,2,   -999.0,9,   -999.0,9,-999.0000,9,  -999.00,  -999.00,9,  -999.00,9,   1.5739,2,      434
  49UP20180501,RF1804,  6233,  1,      1,  25810,2,20180508,0431, 39.9903, 155.6588, 5550,   5668.2,   1.5811,   1.5809,2,  34.6914,2,-999.0000,9,    162.5,2,    162.3,2,   146.65,2,    35.47,2,     0.00,2,     2.45,2,   -999.0,9,   -999.0,9,-999.0000,9,  -999.00,  -999.00,9,  -999.00,9,   1.5809,2,      431