BOTTLE,20200310PRINUNIVRMK
EXPOCODE,SECT_ID,STNNBR,CASTNO,SAMPNO,BTLNBR,BTLNBR_FLAG_W,DATE,TIME,LATITUDE,LONGITUDE,DEPTH,CTDPRS,CTDTMP,SBE35,SBE35_FLAG_W,CTDSAL,CTDSAL_FLAG_W,SALNTY,SALNTY_FLAG_W,CTDOXY,CTDOXY_FLAG_W,OXYGEN,OXYGEN_FLAG_W,SILCAT,SILCAT_FLAG_W,NITRAT,NITRAT_FLAG_W,NITRIT,NITRIT_FLAG_W,PHSPHT,PHSPHT_FLAG_W,TCARBN,TCARBN_FLAG_W,ALKALI,ALKALI_FLAG_W,PH_TOT,PH_TOT_FLAG_W,PH_TMP,CHLORA,CHLORA_FLAG_W,PPHYTN,PPHYTN_FLAG_W,SBE35,SBE35_FLAG_W,BTL_TIME
,,,,,,,,,,,METERS,DBAR,ITS-90,,,PSS-78,,PSS-78,,UMOL/KG,,UMOL/KG,,UMOL/KG,,UMOL/KG,,UMOL/KG,,UMOL/KG,,UMOL/KG,,UMOL/KG,,,,DEG C,UG/KG,,UG/KG,,,,
  49UP20180501,RF1804,  6241,  1,     99,     99,2,20180513,1810, 43.0067, 159.9995, 5450,      0.0,   6.7505,-999.0000,9,  33.5327,2,  33.5290,2,    309.5,2,    309.0,2,    20.93,2,    12.12,2,     0.30,2,     1.04,2,   -999.0,9,   -999.0,9,-999.0000,9,  -999.00,     0.95,2,     0.25,2,-999.0000,9,     2019
  49UP20180501,RF1804,  6241,  1,     36,  25845,2,20180513,1810, 43.0067, 159.9995, 5450,     11.0,   6.7387,   6.7386,2,  33.5310,2,  33.5323,2,    309.6,2,    308.9,2,    20.86,2,    12.12,2,     0.30,2,     1.03,2,   -999.0,9,   -999.0,9,-999.0000,9,  -999.00,     0.92,2,     0.19,2,   6.7386,2,     2042
  49UP20180501,RF1804,  6241,  1,     35,  25844,2,20180513,1810, 43.0067, 159.9995, 5450,     25.0,   6.7397,   6.7397,2,  33.5311,2,-999.0000,9,    309.6,2,    308.9,2,    20.90,2,    12.15,2,     0.30,2,     1.02,2,   -999.0,9,   -999.0,9,-999.0000,9,  -999.00,     0.95,2,     0.16,2,   6.7397,2,     2040
  49UP20180501,RF1804,  6241,  1,     34,  25843,2,20180513,1810, 43.0067, 159.9995, 5450,     50.6,   6.5970,   6.6121,2,  33.5194,2,-999.0000,9,    310.4,2,    308.7,2,    20.92,2,    12.21,2,     0.31,2,     1.03,2,   -999.0,9,   -999.0,9,-999.0000,9,  -999.00,     0.87,2,     0.20,2,   6.6121,2,     2036
  49UP20180501,RF1804,  6241,  1,     33,  25842,2,20180513,1810, 43.0067, 159.9995, 5450,     74.0,   5.7314,   5.7310,2,  33.5562,2,-999.0000,9,    303.9,2,    303.8,2,    21.82,2,    14.54,2,     0.31,2,     1.16,2,   -999.0,9,   -999.0,9,-999.0000,9,  -999.00,     0.17,2,     0.10,2,   5.7310,2,     2035
  49UP20180501,RF1804,  6241,  1,     32,  25841,2,20180513,1810, 43.0067, 159.9995, 5450,     99.4,   5.7526,   5.7521,2,  33.5624,2,  33.5631,2,    303.7,2,    303.5,2,    21.27,2,    14.32,2,     0.26,2,     1.14,2,   -999.0,9,   -999.0,9,-999.0000,9,  -999.00,     0.11,2,     0.09,2,   5.7521,2,     2033
  49UP20180501,RF1804,  6241,  1,     31,  25840,2,20180513,1810, 43.0067, 159.9995, 5450,    125.1,   5.7551,   5.7553,2,  33.5650,2,-999.0000,9,    302.9,2,    302.7,2,    21.59,2,    14.60,2,     0.14,2,     1.15,2,   -999.0,9,   -999.0,9,-999.0000,9,  -999.00,     0.07,2,     0.08,2,   5.7553,2,     2032
  49UP20180501,RF1804,  6241,  1,     30,  25839,2,20180513,1810, 43.0067, 159.9995, 5450,    150.0,   5.7562,   5.7566,2,  33.5701,2,-999.0000,9,    301.6,2,    301.7,2,    21.46,2,    14.73,2,     0.03,2,     1.15,2,   -999.0,9,   -999.0,9,-999.0000,9,  -999.00,     0.04,2,     0.06,2,   5.7566,2,     2030
  49UP20180501,RF1804,  6241,  1,     29,  25838,2,20180513,1810, 43.0067, 159.9995, 5450,    202.6,   5.5606,   5.5598,2,  33.5676,2,-999.0000,9,    296.9,2,    297.6,2,    24.03,2,    15.94,2,     0.01,2,     1.24,2,   -999.0,9,   -999.0,9,-999.0000,9,  -999.00,     0.02,2,     0.05,2,   5.5598,2,     2028
  49UP20180501,RF1804,  6241,  1,     28,  25837,2,20180513,1810, 43.0067, 159.9995, 5450,    252.4,   5.3996,   5.4038,2,  33.6343,2,-999.0000,9,    259.1,2,    261.8,6,    33.27,6,    19.91,6,     0.01,6,     1.51,6,   -999.0,9,   -999.0,9,-999.0000,9,  -999.00,  -999.00,9,  -999.00,9,   5.4038,2,     2026
  49UP20180501,RF1804,  6241,  1,     27,  24661,2,20180513,1810, 43.0067, 159.9995, 5450,    308.0,   4.7893,   4.7878,2,  33.6990,2,  33.6942,2,    186.4,2,    187.9,2,    52.57,2,    27.70,2,     0.00,2,     2.05,2,   -999.0,9,   -999.0,9,-999.0000,9,  -999.00,  -999.00,9,  -999.00,9,   4.7878,2,     2024
  49UP20180501,RF1804,  6241,  1,     26,  25835,2,20180513,1810, 43.0067, 159.9995, 5450,    409.4,   4.3825,   4.3826,2,  33.8374,2,-999.0000,9,    123.6,2,    123.5,2,    73.77,2,    34.19,2,     0.00,2,     2.49,2,   -999.0,9,   -999.0,9,-999.0000,9,  -999.00,  -999.00,9,  -999.00,9,   4.3826,2,     2021
  49UP20180501,RF1804,  6241,  1,     25,  25834,2,20180513,1810, 43.0067, 159.9995, 5450,    506.6,   4.2476,   4.2477,2,  33.9766,2,  33.9762,2,     79.7,2,     80.0,2,    89.95,2,    38.28,2,     0.00,2,     2.75,2,   -999.0,9,   -999.0,9,-999.0000,9,  -999.00,  -999.00,9,  -999.00,9,   4.2477,2,     2017
  49UP20180501,RF1804,  6241,  1,     24,  25833,2,20180513,1810, 43.0067, 159.9995, 5450,    606.4,   3.9397,   3.9398,2,  34.0958,2,-999.0000,9,     53.7,2,     54.1,2,   105.51,2,    40.63,2,     0.00,2,     2.90,2,   -999.0,9,   -999.0,9,-999.0000,9,  -999.00,  -999.00,9,  -999.00,9,   3.9398,2,     2014
  49UP20180501,RF1804,  6241,  1,     23,  25832,2,20180513,1810, 43.0067, 159.9995, 5450,    703.9,   3.7146,   3.7150,2,  34.1724,2,-999.0000,9,     41.8,2,     41.9,2,   116.23,2,    41.70,2,     0.00,2,     2.98,2,   -999.0,9,   -999.0,9,-999.0000,9,  -999.00,  -999.00,9,  -999.00,9,   3.7150,2,     2011
  49UP20180501,RF1804,  6241,  1,     22,  25831,2,20180513,1810, 43.0067, 159.9995, 5450,    805.8,   3.4969,   3.4972,2,  34.2418,2,-999.0000,9,     34.4,2,     34.4,2,   125.69,2,    42.46,2,     0.00,2,     3.03,2,   -999.0,9,   -999.0,9,-999.0000,9,  -999.00,  -999.00,9,  -999.00,9,   3.4972,2,     2008
  49UP20180501,RF1804,  6241,  1,     21,  25830,2,20180513,1810, 43.0067, 159.9995, 5450,    908.1,   3.2723,   3.2724,2,  34.3003,2,  34.2999,2,     33.2,2,     33.1,2,   133.30,2,    42.65,2,     0.00,2,     3.04,2,   -999.0,9,   -999.0,9,-999.0000,9,  -999.00,  -999.00,9,  -999.00,9,   3.2724,2,     2005
  49UP20180501,RF1804,  6241,  1,     20,  25829,2,20180513,1810, 43.0067, 159.9995, 5450,   1009.9,   3.0525,   3.0528,2,  34.3470,2,-999.0000,9,     32.2,2,     32.0,2,   140.14,2,    42.80,2,     0.00,2,     3.06,2,   -999.0,9,   -999.0,9,-999.0000,9,  -999.00,  -999.00,9,  -999.00,9,   3.0528,2,     2003
  49UP20180501,RF1804,  6241,  1,     19,  25828,2,20180513,1810, 43.0067, 159.9995, 5450,   1217.8,   2.7242,   2.7239,2,  34.4180,2,  34.4177,2,     32.7,2,     32.8,2,   151.11,2,    43.15,2,     0.00,2,     3.08,2,   -999.0,9,   -999.0,9,-999.0000,9,  -999.00,  -999.00,9,  -999.00,9,   2.7239,2,     1957
  49UP20180501,RF1804,  6241,  1,     18,  25827,2,20180513,1810, 43.0067, 159.9995, 5450,   1415.3,   2.4166,   2.4171,2,  34.4754,2,-999.0000,9,     37.1,2,     37.3,2,   161.00,2,    43.05,2,     0.00,2,     3.06,2,   -999.0,9,   -999.0,9,-999.0000,9,  -999.00,  -999.00,9,  -999.00,9,   2.4171,2,     1953
  49UP20180501,RF1804,  6241,  1,     17,  25826,2,20180513,1810, 43.0067, 159.9995, 5450,   1615.8,   2.2372,   2.2371,2,  34.5164,2,  34.5163,6,     44.1,2,     44.2,2,   165.47,2,    42.68,2,     0.00,2,     3.03,2,   -999.0,9,   -999.0,9,-999.0000,9,  -999.00,  -999.00,9,  -999.00,9,   2.2371,2,     1948
  49UP20180501,RF1804,  6241,  1,     16,  25825,2,20180513,1810, 43.0067, 159.9995, 5450,   1819.6,   2.1075,   2.1073,2,  34.5536,2,-999.0000,9,     55.5,2,     55.7,2,   166.23,2,    42.05,2,     0.00,2,     2.98,2,   -999.0,9,   -999.0,9,-999.0000,9,  -999.00,  -999.00,9,  -999.00,9,   2.1073,2,     1943
  49UP20180501,RF1804,  6241,  1,     15,  25824,2,20180513,1810, 43.0067, 159.9995, 5450,   2027.2,   1.9807,   1.9806,2,  34.5816,2,  34.5817,2,     66.0,2,     66.4,2,   167.66,2,    41.45,2,     0.00,2,     2.93,2,   -999.0,9,   -999.0,9,-999.0000,9,  -999.00,  -999.00,9,  -999.00,9,   1.9806,2,     1938
  49UP20180501,RF1804,  6241,  1,     14,  25823,2,20180513,1810, 43.0067, 159.9995, 5450,   2278.1,   1.8337,   1.8337,2,  34.6108,2,  34.6110,2,     82.4,2,     82.8,2,   167.42,2,    40.44,2,     0.00,2,     2.85,2,   -999.0,9,   -999.0,9,-999.0000,9,  -999.00,  -999.00,9,  -999.00,9,   1.8337,2,     1932
  49UP20180501,RF1804,  6241,  1,     13,  25822,2,20180513,1810, 43.0067, 159.9995, 5450,   2536.4,   1.7277,   1.7278,2,  34.6308,2,  34.6309,2,     96.4,2,     97.3,2,   166.20,2,    39.57,2,     0.00,2,     2.78,2,   -999.0,9,   -999.0,9,-999.0000,9,  -999.00,  -999.00,9,  -999.00,9,   1.7278,2,     1924
  49UP20180501,RF1804,  6241,  1,     12,  25821,2,20180513,1810, 43.0067, 159.9995, 5450,   2789.7,   1.6438,   1.6439,2,  34.6459,2,  34.6462,2,    109.3,2,    109.5,2,   164.31,2,    38.75,2,     0.00,2,     2.72,2,   -999.0,9,   -999.0,9,-999.0000,9,  -999.00,  -999.00,9,  -999.00,9,   1.6439,2,     1917
  49UP20180501,RF1804,  6241,  1,     11,  25820,2,20180513,1810, 43.0067, 159.9995, 5450,   3047.1,   1.5793,   1.5795,2,  34.6579,2,  34.6576,2,    121.0,2,    121.2,2,   161.30,2,    38.06,2,     0.00,2,     2.66,2,   -999.0,9,   -999.0,9,-999.0000,9,  -999.00,  -999.00,9,  -999.00,9,   1.5795,2,     1911
  49UP20180501,RF1804,  6241,  1,     10,  25819,2,20180513,1810, 43.0067, 159.9995, 5450,   3299.0,   1.5369,   1.5368,2,  34.6659,2,  34.6660,2,    129.9,2,    130.2,2,   159.30,2,    37.48,2,     0.00,2,     2.61,2,   -999.0,9,   -999.0,9,-999.0000,9,  -999.00,  -999.00,9,  -999.00,9,   1.5368,2,     1905
  49UP20180501,RF1804,  6241,  1,      9,  25818,2,20180513,1810, 43.0067, 159.9995, 5450,   3558.3,   1.5098,   1.5099,2,  34.6723,2,  34.6724,6,    136.8,2,    137.2,2,   157.48,2,    36.93,2,     0.00,2,     2.58,2,   -999.0,9,   -999.0,9,-999.0000,9,  -999.00,  -999.00,9,  -999.00,9,   1.5099,2,     1900
  49UP20180501,RF1804,  6241,  1,      8,  25817,2,20180513,1810, 43.0067, 159.9995, 5450,   3813.7,   1.4908,   1.4910,2,  34.6772,2,  34.6771,2,    142.9,2,    142.9,2,   155.61,2,    36.61,2,     0.00,2,     2.55,2,   -999.0,9,   -999.0,9,-999.0000,9,  -999.00,  -999.00,9,  -999.00,9,   1.4910,2,     1854
  49UP20180501,RF1804,  6241,  1,      7,  25816,2,20180513,1810, 43.0067, 159.9995, 5450,   4070.7,   1.4836,   1.4837,2,  34.6809,2,  34.6808,2,    147.6,2,    147.8,6,   154.25,6,    36.34,6,     0.00,6,     2.53,6,   -999.0,9,   -999.0,9,-999.0000,9,  -999.00,  -999.00,9,  -999.00,9,   1.4837,2,     1848
  49UP20180501,RF1804,  6241,  1,      6,  25815,2,20180513,1810, 43.0067, 159.9995, 5450,   4328.1,   1.4820,   1.4821,2,  34.6841,2,  34.6848,2,    151.7,2,    152.0,2,   153.00,2,    36.10,2,     0.00,2,     2.50,2,   -999.0,9,   -999.0,9,-999.0000,9,  -999.00,  -999.00,9,  -999.00,9,   1.4821,2,     1842
  49UP20180501,RF1804,  6241,  1,      5,  25814,2,20180513,1810, 43.0067, 159.9995, 5450,   4586.0,   1.4926,   1.4926,2,  34.6862,2,  34.6859,2,    154.3,2,    154.0,2,   152.58,2,    36.00,2,     0.00,2,     2.49,2,   -999.0,9,   -999.0,9,-999.0000,9,  -999.00,  -999.00,9,  -999.00,9,   1.4926,2,     1835
  49UP20180501,RF1804,  6241,  1,      4,  25813,4,20180513,1810, 43.0067, 159.9995, 5450,   4841.8,   1.5075,   1.5077,2,  34.6881,2,-999.0000,9,    156.3,2,   -999.0,9,  -999.00,9,  -999.00,9,  -999.00,9,  -999.00,9,   -999.0,9,   -999.0,9,-999.0000,9,  -999.00,  -999.00,9,  -999.00,9,   1.5077,2,     1829
  49UP20180501,RF1804,  6241,  1,      3,  25812,2,20180513,1810, 43.0067, 159.9995, 5450,   5100.0,   1.5308,   1.5310,2,  34.6891,2,  34.6887,2,    157.4,2,    157.5,2,   152.73,2,    35.75,2,     0.00,2,     2.47,2,   -999.0,9,   -999.0,9,-999.0000,9,  -999.00,  -999.00,9,  -999.00,9,   1.5310,2,     1822
  49UP20180501,RF1804,  6241,  1,      2,  25811,2,20180513,1810, 43.0067, 159.9995, 5450,   5358.4,   1.5604,   1.5604,2,  34.6896,2,  34.6897,2,    157.8,2,    157.9,2,   152.98,2,    35.66,2,     0.00,2,     2.46,2,   -999.0,9,   -999.0,9,-999.0000,9,  -999.00,  -999.00,9,  -999.00,9,   1.5604,2,     1816
  49UP20180501,RF1804,  6241,  1,      1,  25810,2,20180513,1810, 43.0067, 159.9995, 5450,   5568.0,   1.5875,   1.5874,2,  34.6897,2,  34.6896,6,    157.8,2,    158.2,6,   152.94,6,    35.69,6,     0.00,6,     2.47,6,   -999.0,9,   -999.0,9,-999.0000,9,  -999.00,  -999.00,9,  -999.00,9,   1.5874,2,     1811