BOTTLE,20200310PRINUNIVRMK
EXPOCODE,SECT_ID,STNNBR,CASTNO,SAMPNO,BTLNBR,BTLNBR_FLAG_W,DATE,TIME,LATITUDE,LONGITUDE,DEPTH,CTDPRS,CTDTMP,SBE35,SBE35_FLAG_W,CTDSAL,CTDSAL_FLAG_W,SALNTY,SALNTY_FLAG_W,CTDOXY,CTDOXY_FLAG_W,OXYGEN,OXYGEN_FLAG_W,SILCAT,SILCAT_FLAG_W,NITRAT,NITRAT_FLAG_W,NITRIT,NITRIT_FLAG_W,PHSPHT,PHSPHT_FLAG_W,TCARBN,TCARBN_FLAG_W,ALKALI,ALKALI_FLAG_W,PH_TOT,PH_TOT_FLAG_W,PH_TMP,CHLORA,CHLORA_FLAG_W,PPHYTN,PPHYTN_FLAG_W,SBE35,SBE35_FLAG_W,BTL_TIME
,,,,,,,,,,,METERS,DBAR,ITS-90,,,PSS-78,,PSS-78,,UMOL/KG,,UMOL/KG,,UMOL/KG,,UMOL/KG,,UMOL/KG,,UMOL/KG,,UMOL/KG,,UMOL/KG,,,,DEG C,UG/KG,,UG/KG,,,,
  49UP20180501,RF1804,  6237,  1,     99,     99,2,20180510,1132, 40.0135, 160.9877, 5442,      0.0,  13.1350,-999.0000,9,  34.1889,2,-999.0000,9,    273.7,2,    269.9,2,    11.14,2,     4.91,2,     0.08,2,     0.42,2,   -999.0,9,   -999.0,9,-999.0000,9,  -999.00,  -999.00,9,  -999.00,9,-999.0000,9,     1333
  49UP20180501,RF1804,  6237,  1,     36,  25845,2,20180510,1132, 40.0135, 160.9877, 5442,     10.8,  13.1312,  13.1308,2,  34.1884,2,-999.0000,9,    273.7,2,    273.3,2,    10.70,2,     5.15,2,     0.10,2,     0.41,2,   -999.0,9,   -999.0,9,-999.0000,9,  -999.00,  -999.00,9,  -999.00,9,  13.1308,2,     1409
  49UP20180501,RF1804,  6237,  1,     35,  25844,2,20180510,1132, 40.0135, 160.9877, 5442,     26.0,  13.1183,  13.1191,2,  34.1889,2,-999.0000,9,    273.9,2,    274.0,2,    10.70,2,     5.16,2,     0.10,2,     0.41,2,   -999.0,9,   -999.0,9,-999.0000,9,  -999.00,  -999.00,9,  -999.00,9,  13.1191,2,     1407
  49UP20180501,RF1804,  6237,  1,     34,  25843,3,20180510,1132, 40.0135, 160.9877, 5442,     51.0,  12.2000,  12.2044,2,  34.3192,2,-999.0000,9,    263.4,2,    263.0,2,    12.51,2,     7.23,2,     0.21,2,     0.53,2,   -999.0,9,   -999.0,9,-999.0000,9,  -999.00,  -999.00,9,  -999.00,9,  12.2044,2,     1405
  49UP20180501,RF1804,  6237,  1,     33,  25842,2,20180510,1132, 40.0135, 160.9877, 5442,     75.7,  10.9509,  10.9483,2,  34.2294,2,-999.0000,9,    261.0,2,    260.6,2,    14.56,2,     9.35,2,     0.29,2,     0.70,2,   -999.0,9,   -999.0,9,-999.0000,9,  -999.00,  -999.00,9,  -999.00,9,  10.9483,2,     1403
  49UP20180501,RF1804,  6237,  1,     32,  25841,2,20180510,1132, 40.0135, 160.9877, 5442,    100.2,  10.4566,  10.4569,2,  34.2025,2,-999.0000,9,    247.4,2,    246.6,2,    17.05,2,    11.79,2,     0.05,2,     0.84,2,   -999.0,9,   -999.0,9,-999.0000,9,  -999.00,  -999.00,9,  -999.00,9,  10.4569,2,     1357
  49UP20180501,RF1804,  6237,  1,     31,  25840,2,20180510,1132, 40.0135, 160.9877, 5442,    124.2,  10.1698,  10.1693,2,  34.1868,2,-999.0000,9,    255.3,2,    255.1,2,    16.74,2,    11.64,2,     0.01,2,     0.82,2,   -999.0,9,   -999.0,9,-999.0000,9,  -999.00,  -999.00,9,  -999.00,9,  10.1693,2,     1356
  49UP20180501,RF1804,  6237,  1,     30,  25839,2,20180510,1132, 40.0135, 160.9877, 5442,    152.9,   9.7290,   9.7289,2,  34.1281,2,-999.0000,9,    239.2,2,    239.9,2,    19.86,2,    13.52,2,     0.01,2,     0.96,2,   -999.0,9,   -999.0,9,-999.0000,9,  -999.00,  -999.00,9,  -999.00,9,   9.7289,2,     1354
  49UP20180501,RF1804,  6237,  1,     29,  25838,2,20180510,1132, 40.0135, 160.9877, 5442,    202.5,   8.9364,   8.9360,2,  34.0445,2,-999.0000,9,    235.6,2,    236.0,2,    23.57,2,    15.31,2,     0.01,2,     1.10,2,   -999.0,9,   -999.0,9,-999.0000,9,  -999.00,  -999.00,9,  -999.00,9,   8.9360,2,     1351
  49UP20180501,RF1804,  6237,  1,     28,  25837,4,20180510,1132, 40.0135, 160.9877, 5442,    250.1,   7.6217,   7.6215,2,  33.9219,2,-999.0000,9,    218.0,2,    160.7,4,   148.51,4,    35.51,4,     0.00,4,     2.44,4,   -999.0,9,   -999.0,9,-999.0000,9,  -999.00,  -999.00,9,  -999.00,9,   7.6215,2,     1349
  49UP20180501,RF1804,  6237,  1,     27,  24661,2,20180510,1132, 40.0135, 160.9877, 5442,    304.2,   6.7828,   6.7830,2,  33.9052,2,-999.0000,9,    184.8,2,    185.0,2,    43.57,2,    24.08,2,     0.01,2,     1.74,2,   -999.0,9,   -999.0,9,-999.0000,9,  -999.00,  -999.00,9,  -999.00,9,   6.7830,2,     1347
  49UP20180501,RF1804,  6237,  1,     26,  25835,2,20180510,1132, 40.0135, 160.9877, 5442,    402.9,   5.5757,   5.5764,2,  33.9386,2,-999.0000,9,    136.7,2,    136.3,2,    63.41,2,    30.75,2,     0.00,2,     2.22,2,   -999.0,9,   -999.0,9,-999.0000,9,  -999.00,  -999.00,9,  -999.00,9,   5.5764,2,     1344
  49UP20180501,RF1804,  6237,  1,     25,  25834,2,20180510,1132, 40.0135, 160.9877, 5442,    504.9,   4.7330,   4.7350,2,  34.0106,2,-999.0000,9,     93.8,2,     93.9,2,    82.44,2,    36.00,2,     0.00,2,     2.59,2,   -999.0,9,   -999.0,9,-999.0000,9,  -999.00,  -999.00,9,  -999.00,9,   4.7350,2,     1341
  49UP20180501,RF1804,  6237,  1,     24,  25833,2,20180510,1132, 40.0135, 160.9877, 5442,    606.7,   4.2598,   4.2601,2,  34.1221,2,-999.0000,9,     61.7,2,     61.4,2,   100.67,2,    39.44,2,     0.00,2,     2.81,2,   -999.0,9,   -999.0,9,-999.0000,9,  -999.00,  -999.00,9,  -999.00,9,   4.2601,2,     1338
  49UP20180501,RF1804,  6237,  1,     23,  25832,2,20180510,1132, 40.0135, 160.9877, 5442,    708.8,   3.8922,   3.8922,2,  34.1981,2,-999.0000,9,     46.8,2,     46.8,2,   113.39,2,    41.05,2,     0.00,2,     2.91,2,   -999.0,9,   -999.0,9,-999.0000,9,  -999.00,  -999.00,9,  -999.00,9,   3.8922,2,     1334
  49UP20180501,RF1804,  6237,  1,     22,  25831,2,20180510,1132, 40.0135, 160.9877, 5442,    810.2,   3.5824,   3.5826,2,  34.2721,2,-999.0000,9,     39.8,2,     40.3,2,   123.54,2,    41.88,2,     0.00,2,     2.99,2,   -999.0,9,   -999.0,9,-999.0000,9,  -999.00,  -999.00,9,  -999.00,9,   3.5826,2,     1331
  49UP20180501,RF1804,  6237,  1,     21,  25830,2,20180510,1132, 40.0135, 160.9877, 5442,    910.4,   3.3786,   3.3789,2,  34.3274,2,-999.0000,9,     38.8,2,     39.0,6,   130.11,6,    42.10,6,     0.00,6,     3.01,6,   -999.0,9,   -999.0,9,-999.0000,9,  -999.00,  -999.00,9,  -999.00,9,   3.3789,2,     1327
  49UP20180501,RF1804,  6237,  1,     20,  25829,2,20180510,1132, 40.0135, 160.9877, 5442,   1012.7,   3.1442,   3.1442,2,  34.3689,2,-999.0000,9,     37.4,2,     37.1,2,   137.43,2,    42.45,2,     0.00,2,     3.03,2,   -999.0,9,   -999.0,9,-999.0000,9,  -999.00,  -999.00,9,  -999.00,9,   3.1442,2,     1324
  49UP20180501,RF1804,  6237,  1,     19,  25828,2,20180510,1132, 40.0135, 160.9877, 5442,   1213.6,   2.7735,   2.7714,2,  34.4326,2,-999.0000,9,     36.3,2,     36.4,2,   148.30,2,    43.01,2,     0.00,2,     3.06,2,   -999.0,9,   -999.0,9,-999.0000,9,  -999.00,  -999.00,9,  -999.00,9,   2.7714,2,     1318
  49UP20180501,RF1804,  6237,  1,     18,  25827,2,20180510,1132, 40.0135, 160.9877, 5442,   1416.0,   2.4908,   2.4908,2,  34.4793,2,-999.0000,9,     38.6,2,     38.3,2,   156.89,2,    43.00,2,     0.00,2,     3.06,2,   -999.0,9,   -999.0,9,-999.0000,9,  -999.00,  -999.00,9,  -999.00,9,   2.4908,2,     1313
  49UP20180501,RF1804,  6237,  1,     17,  25826,2,20180510,1132, 40.0135, 160.9877, 5442,   1619.9,   2.2771,   2.2771,2,  34.5218,2,-999.0000,9,     46.8,2,     46.7,2,   161.86,2,    42.62,2,     0.00,2,     3.02,2,   -999.0,9,   -999.0,9,-999.0000,9,  -999.00,  -999.00,9,  -999.00,9,   2.2771,2,     1307
  49UP20180501,RF1804,  6237,  1,     16,  25825,2,20180510,1132, 40.0135, 160.9877, 5442,   1821.2,   2.1135,   2.1135,2,  34.5576,2,-999.0000,9,     57.0,2,     57.4,2,   164.46,2,    42.10,2,     0.00,2,     2.97,2,   -999.0,9,   -999.0,9,-999.0000,9,  -999.00,  -999.00,9,  -999.00,9,   2.1135,2,     1302
  49UP20180501,RF1804,  6237,  1,     15,  25824,2,20180510,1132, 40.0135, 160.9877, 5442,   2024.4,   1.9686,   1.9686,2,  34.5865,2,-999.0000,9,     69.1,2,     69.1,2,   165.87,2,    41.34,2,     0.00,2,     2.91,2,   -999.0,9,   -999.0,9,-999.0000,9,  -999.00,  -999.00,9,  -999.00,9,   1.9686,2,     1257
  49UP20180501,RF1804,  6237,  1,     14,  25823,2,20180510,1132, 40.0135, 160.9877, 5442,   2278.5,   1.8257,   1.8257,2,  34.6135,2,-999.0000,9,     85.2,2,     85.2,2,   165.11,2,    40.34,2,     0.00,2,     2.83,2,   -999.0,9,   -999.0,9,-999.0000,9,  -999.00,  -999.00,9,  -999.00,9,   1.8257,2,     1251
  49UP20180501,RF1804,  6237,  1,     13,  25822,2,20180510,1132, 40.0135, 160.9877, 5442,   2533.6,   1.7108,   1.7107,2,  34.6342,2,-999.0000,9,    100.3,2,    100.4,6,   163.84,6,    39.37,6,     0.00,6,     2.77,6,   -999.0,9,   -999.0,9,-999.0000,9,  -999.00,  -999.00,9,  -999.00,9,   1.7107,2,     1245
  49UP20180501,RF1804,  6237,  1,     12,  25821,2,20180510,1132, 40.0135, 160.9877, 5442,   2788.5,   1.6271,   1.6271,2,  34.6485,2,-999.0000,9,    112.6,2,    112.6,2,   161.94,2,    38.66,2,     0.00,2,     2.71,2,   -999.0,9,   -999.0,9,-999.0000,9,  -999.00,  -999.00,9,  -999.00,9,   1.6271,2,     1239
  49UP20180501,RF1804,  6237,  1,     11,  25820,2,20180510,1132, 40.0135, 160.9877, 5442,   3044.8,   1.5591,   1.5593,2,  34.6603,2,-999.0000,9,    124.0,2,    125.2,3,   159.76,2,    37.94,2,     0.00,2,     2.65,2,   -999.0,9,   -999.0,9,-999.0000,9,  -999.00,  -999.00,9,  -999.00,9,   1.5593,2,     1233
  49UP20180501,RF1804,  6237,  1,     10,  25819,2,20180510,1132, 40.0135, 160.9877, 5442,   3302.1,   1.5165,   1.5165,2,  34.6682,2,-999.0000,9,    132.8,2,    133.2,2,   157.53,2,    37.33,2,     0.00,2,     2.60,2,   -999.0,9,   -999.0,9,-999.0000,9,  -999.00,  -999.00,9,  -999.00,9,   1.5165,2,     1227
  49UP20180501,RF1804,  6237,  1,      9,  25818,2,20180510,1132, 40.0135, 160.9877, 5442,   3556.9,   1.4918,   1.4917,2,  34.6740,2,-999.0000,9,    139.5,2,    139.4,2,   155.95,2,    37.01,2,     0.00,2,     2.57,2,   -999.0,9,   -999.0,9,-999.0000,9,  -999.00,  -999.00,9,  -999.00,9,   1.4917,2,     1220
  49UP20180501,RF1804,  6237,  1,      8,  25817,2,20180510,1132, 40.0135, 160.9877, 5442,   3811.1,   1.4799,   1.4799,2,  34.6783,2,-999.0000,9,    144.5,2,    144.6,2,   154.37,2,    36.65,2,     0.00,2,     2.54,2,   -999.0,9,   -999.0,9,-999.0000,9,  -999.00,  -999.00,9,  -999.00,9,   1.4799,2,     1214
  49UP20180501,RF1804,  6237,  1,      7,  25816,2,20180510,1132, 40.0135, 160.9877, 5442,   4070.6,   1.4740,   1.4740,2,  34.6819,2,-999.0000,9,    149.0,2,    148.3,2,   153.65,2,    36.34,2,     0.00,2,     2.52,2,   -999.0,9,   -999.0,9,-999.0000,9,  -999.00,  -999.00,9,  -999.00,9,   1.4740,2,     1208
  49UP20180501,RF1804,  6237,  1,      6,  25815,2,20180510,1132, 40.0135, 160.9877, 5442,   4326.4,   1.4764,   1.4764,2,  34.6847,2,-999.0000,9,    152.6,2,    152.6,2,   151.98,2,    36.11,2,     0.00,2,     2.50,2,   -999.0,9,   -999.0,9,-999.0000,9,  -999.00,  -999.00,9,  -999.00,9,   1.4764,2,     1202
  49UP20180501,RF1804,  6237,  1,      5,  25814,2,20180510,1132, 40.0135, 160.9877, 5442,   4584.0,   1.4895,   1.4897,2,  34.6866,2,-999.0000,9,    155.0,2,    155.1,2,   151.24,2,    35.89,2,     0.00,2,     2.48,2,   -999.0,9,   -999.0,9,-999.0000,9,  -999.00,  -999.00,9,  -999.00,9,   1.4897,2,     1156
  49UP20180501,RF1804,  6237,  1,      4,  25813,2,20180510,1132, 40.0135, 160.9877, 5442,   4840.2,   1.5049,   1.5049,2,  34.6881,2,-999.0000,9,    157.3,2,    158.2,2,   150.01,2,    35.79,2,     0.00,2,     2.47,2,   -999.0,9,   -999.0,9,-999.0000,9,  -999.00,  -999.00,9,  -999.00,9,   1.5049,2,     1150
  49UP20180501,RF1804,  6237,  1,      3,  25812,2,20180510,1132, 40.0135, 160.9877, 5442,   5100.0,   1.5239,   1.5239,2,  34.6896,2,-999.0000,9,    159.1,2,    159.1,2,   149.58,2,    35.61,2,     0.00,2,     2.46,2,   -999.0,9,   -999.0,9,-999.0000,9,  -999.00,  -999.00,9,  -999.00,9,   1.5239,2,     1144
  49UP20180501,RF1804,  6237,  1,      2,  25811,2,20180510,1132, 40.0135, 160.9877, 5442,   5359.3,   1.5463,   1.5463,2,  34.6909,2,-999.0000,9,    160.9,2,    160.4,2,   148.55,2,    35.53,2,     0.00,2,     2.45,2,   -999.0,9,   -999.0,9,-999.0000,9,  -999.00,  -999.00,9,  -999.00,9,   1.5463,2,     1138
  49UP20180501,RF1804,  6237,  1,      1,  25810,2,20180510,1132, 40.0135, 160.9877, 5442,   5556.4,   1.5704,   1.5703,2,  34.6911,2,-999.0000,9,    161.1,2,    161.2,6,   147.96,6,    35.48,6,     0.00,6,     2.44,6,   -999.0,9,   -999.0,9,-999.0000,9,  -999.00,  -999.00,9,  -999.00,9,   1.5703,2,     1133