BOTTLE,20200310PRINUNIVRMK
EXPOCODE,SECT_ID,STNNBR,CASTNO,SAMPNO,BTLNBR,BTLNBR_FLAG_W,DATE,TIME,LATITUDE,LONGITUDE,DEPTH,CTDPRS,CTDTMP,SBE35,SBE35_FLAG_W,CTDSAL,CTDSAL_FLAG_W,SALNTY,SALNTY_FLAG_W,CTDOXY,CTDOXY_FLAG_W,OXYGEN,OXYGEN_FLAG_W,SILCAT,SILCAT_FLAG_W,NITRAT,NITRAT_FLAG_W,NITRIT,NITRIT_FLAG_W,PHSPHT,PHSPHT_FLAG_W,TCARBN,TCARBN_FLAG_W,ALKALI,ALKALI_FLAG_W,PH_TOT,PH_TOT_FLAG_W,PH_TMP,CHLORA,CHLORA_FLAG_W,PPHYTN,PPHYTN_FLAG_W,SBE35,SBE35_FLAG_W,BTL_TIME
,,,,,,,,,,,METERS,DBAR,ITS-90,,,PSS-78,,PSS-78,,UMOL/KG,,UMOL/KG,,UMOL/KG,,UMOL/KG,,UMOL/KG,,UMOL/KG,,UMOL/KG,,UMOL/KG,,,,DEG C,UG/KG,,UG/KG,,,,
  49UP20180501,RF1804,  6238,  1,     99,     99,2,20180510,2242, 39.9863, 162.3180, 5397,      0.0,  12.9877,-999.0000,9,  34.2432,2,  34.2565,2,    274.5,2,    272.1,2,    11.35,2,     4.99,2,     0.08,2,     0.42,2,   -999.0,9,   -999.0,9,-999.0000,9,  -999.00,     0.76,2,     0.23,2,-999.0000,9,       37
  49UP20180501,RF1804,  6238,  1,     36,  25845,2,20180510,2242, 39.9863, 162.3180, 5397,     10.6,  12.9766,  12.9763,2,  34.2420,2,  34.2414,2,    274.6,2,    273.5,2,    11.22,2,     4.83,2,     0.08,2,     0.39,2,   -999.0,9,   -999.0,9,-999.0000,9,  -999.00,     0.74,2,     0.19,2,  12.9763,2,      116
  49UP20180501,RF1804,  6238,  1,     35,  25844,3,20180510,2242, 39.9863, 162.3180, 5397,     24.9,  12.9714,  12.9718,2,  34.2529,2,-999.0000,9,    273.9,2,    272.9,2,    11.31,2,     4.80,2,     0.08,2,     0.39,2,   -999.0,9,   -999.0,9,-999.0000,9,  -999.00,     0.75,2,     0.29,2,  12.9718,2,      114
  49UP20180501,RF1804,  6238,  1,     34,  25843,2,20180510,2242, 39.9863, 162.3180, 5397,     50.7,  12.5887,  12.5911,2,  34.3084,2,-999.0000,9,    267.5,2,    267.5,6,    11.75,6,     5.92,6,     0.18,6,     0.48,6,   -999.0,9,   -999.0,9,-999.0000,9,  -999.00,     0.67,2,     0.35,2,  12.5911,2,      112
  49UP20180501,RF1804,  6238,  1,     33,  25842,2,20180510,2242, 39.9863, 162.3180, 5397,     75.6,  12.1342,  12.1266,2,  34.3731,2,-999.0000,9,    255.4,2,    254.8,2,    13.10,2,     7.78,2,     0.40,2,     0.59,2,   -999.0,9,   -999.0,9,-999.0000,9,  -999.00,     0.20,2,     0.16,2,  12.1266,2,      110
  49UP20180501,RF1804,  6238,  1,     32,  25841,3,20180510,2242, 39.9863, 162.3180, 5397,    103.1,  11.2845,  11.2840,2,  34.2951,2,-999.0000,9,    250.7,2,    250.2,2,    15.12,2,     9.86,2,     0.09,2,     0.72,2,   -999.0,9,   -999.0,9,-999.0000,9,  -999.00,     0.05,2,     0.08,2,  11.2840,2,      108
  49UP20180501,RF1804,  6238,  1,     31,  25840,2,20180510,2242, 39.9863, 162.3180, 5397,    125.8,  10.6264,  10.6267,2,  34.2190,2,-999.0000,9,    239.1,2,    238.6,2,    18.03,2,    12.16,2,     0.03,2,     0.88,2,   -999.0,9,   -999.0,9,-999.0000,9,  -999.00,     0.03,2,     0.07,2,  10.6267,2,      106
  49UP20180501,RF1804,  6238,  1,     30,  25839,2,20180510,2242, 39.9863, 162.3180, 5397,    152.0,  10.0700,  10.0703,2,  34.1666,2,  34.1681,2,    255.5,2,    254.5,2,    17.25,2,    11.70,2,     0.02,2,     0.85,2,   -999.0,9,   -999.0,9,-999.0000,9,  -999.00,     0.03,2,     0.06,2,  10.0703,2,      101
  49UP20180501,RF1804,  6238,  1,     29,  25838,2,20180510,2242, 39.9863, 162.3180, 5397,    200.6,   8.8057,   8.8069,2,  34.0061,2,-999.0000,9,    259.8,2,    259.2,2,    20.32,2,    13.47,2,     0.01,2,     0.99,2,   -999.0,9,   -999.0,9,-999.0000,9,  -999.00,     0.00,2,     0.08,2,   8.8069,2,       59
  49UP20180501,RF1804,  6238,  1,     28,  25837,2,20180510,2242, 39.9863, 162.3180, 5397,    253.0,   7.6353,   7.6366,2,  33.8442,2,  33.8459,2,    273.3,2,    272.6,2,    21.82,2,    14.33,2,     0.01,2,     1.08,2,   -999.0,9,   -999.0,9,-999.0000,9,  -999.00,  -999.00,9,  -999.00,9,   7.6366,2,       57
  49UP20180501,RF1804,  6238,  1,     27,  24661,2,20180510,2242, 39.9863, 162.3180, 5397,    307.4,   7.0220,   7.0207,2,  33.8622,2,-999.0000,9,    227.4,2,    233.8,2,    32.45,2,    19.10,2,     0.01,2,     1.42,2,   -999.0,9,   -999.0,9,-999.0000,9,  -999.00,  -999.00,9,  -999.00,9,   7.0207,2,       55
  49UP20180501,RF1804,  6238,  1,     26,  25835,2,20180510,2242, 39.9863, 162.3180, 5397,    406.0,   5.3251,   5.3228,2,  33.8610,2,-999.0000,9,    150.2,2,    149.9,2,    60.65,2,    30.08,2,     0.00,2,     2.19,2,   -999.0,9,   -999.0,9,-999.0000,9,  -999.00,  -999.00,9,  -999.00,9,   5.3228,2,       51
  49UP20180501,RF1804,  6238,  1,     25,  25834,2,20180510,2242, 39.9863, 162.3180, 5397,    509.4,   4.6815,   4.6811,2,  33.9796,2,-999.0000,9,     96.9,2,     97.2,2,    81.67,2,    36.02,2,     0.00,2,     2.59,2,   -999.0,9,   -999.0,9,-999.0000,9,  -999.00,  -999.00,9,  -999.00,9,   4.6811,2,       48
  49UP20180501,RF1804,  6238,  1,     24,  25833,2,20180510,2242, 39.9863, 162.3180, 5397,    603.9,   4.2971,   4.2972,2,  34.1072,2,-999.0000,9,     63.8,2,     64.3,2,    99.09,2,    39.35,2,     0.00,2,     2.81,2,   -999.0,9,   -999.0,9,-999.0000,9,  -999.00,  -999.00,9,  -999.00,9,   4.2972,2,       44
  49UP20180501,RF1804,  6238,  1,     23,  25832,2,20180510,2242, 39.9863, 162.3180, 5397,    709.2,   3.9199,   3.9199,2,  34.1972,2,  34.1964,2,     47.7,2,     47.8,2,   112.54,2,    41.00,2,     0.00,2,     2.92,2,   -999.0,9,   -999.0,9,-999.0000,9,  -999.00,  -999.00,9,  -999.00,9,   3.9199,2,       41
  49UP20180501,RF1804,  6238,  1,     22,  25831,2,20180510,2242, 39.9863, 162.3180, 5397,    811.1,   3.6158,   3.6159,2,  34.2671,2,-999.0000,9,     40.5,2,     40.8,2,   122.98,2,    41.99,2,     0.00,2,     2.98,2,   -999.0,9,   -999.0,9,-999.0000,9,  -999.00,  -999.00,9,  -999.00,9,   3.6159,2,       38
  49UP20180501,RF1804,  6238,  1,     21,  25830,2,20180510,2242, 39.9863, 162.3180, 5397,    905.8,   3.3389,   3.3391,2,  34.3120,2,-999.0000,9,     36.6,2,     36.3,2,   131.44,2,    42.47,2,     0.00,2,     3.02,2,   -999.0,9,   -999.0,9,-999.0000,9,  -999.00,  -999.00,9,  -999.00,9,   3.3391,2,       34
  49UP20180501,RF1804,  6238,  1,     20,  25829,2,20180510,2242, 39.9863, 162.3180, 5397,   1011.2,   3.1157,   3.1168,2,  34.3556,2,  34.3541,2,     34.9,2,     34.6,6,   137.90,6,    42.88,6,     0.00,6,     3.04,6,   -999.0,9,   -999.0,9,-999.0000,9,  -999.00,  -999.00,9,  -999.00,9,   3.1168,2,       31
  49UP20180501,RF1804,  6238,  1,     19,  25828,2,20180510,2242, 39.9863, 162.3180, 5397,   1217.8,   2.7610,   2.7604,2,  34.4307,2,-999.0000,9,     35.1,2,     34.6,2,   148.90,2,    43.19,2,     0.00,2,     3.06,2,   -999.0,9,   -999.0,9,-999.0000,9,  -999.00,  -999.00,9,  -999.00,9,   2.7604,2,       26
  49UP20180501,RF1804,  6238,  1,     18,  25827,2,20180510,2242, 39.9863, 162.3180, 5397,   1419.1,   2.4794,   2.4797,2,  34.4836,2,  34.4830,2,     38.2,2,     37.7,2,   157.23,2,    43.32,2,     0.00,2,     3.05,2,   -999.0,9,   -999.0,9,-999.0000,9,  -999.00,  -999.00,9,  -999.00,9,   2.4797,2,       21
  49UP20180501,RF1804,  6238,  1,     17,  25826,3,20180510,2242, 39.9863, 162.3180, 5397,   1622.2,   2.2496,   2.2495,2,  34.5279,2,-999.0000,9,     47.1,2,     46.6,2,   162.69,2,    42.94,2,     0.00,2,     3.01,2,   -999.0,9,   -999.0,9,-999.0000,9,  -999.00,  -999.00,9,  -999.00,9,   2.2495,2,       16
  49UP20180501,RF1804,  6238,  1,     16,  25825,2,20180510,2242, 39.9863, 162.3180, 5397,   1821.7,   2.0739,   2.0738,2,  34.5642,2,-999.0000,9,     59.4,2,     59.5,2,   165.22,2,    42.15,2,     0.00,2,     2.95,2,   -999.0,9,   -999.0,9,-999.0000,9,  -999.00,  -999.00,9,  -999.00,9,   2.0738,2,       11
  49UP20180501,RF1804,  6238,  1,     15,  25824,3,20180510,2242, 39.9863, 162.3180, 5397,   2025.3,   1.9507,   1.9506,2,  34.5898,2,  34.5892,2,     71.1,2,     70.9,2,   165.72,2,    41.44,2,     0.00,2,     2.90,2,   -999.0,9,   -999.0,9,-999.0000,9,  -999.00,  -999.00,9,  -999.00,9,   1.9506,2,        5
  49UP20180501,RF1804,  6238,  1,     14,  25823,2,20180510,2242, 39.9863, 162.3180, 5397,   2278.8,   1.7941,   1.7941,2,  34.6173,2,  34.6177,6,     87.2,2,     87.2,2,   166.05,2,    40.43,2,     0.00,2,     2.83,2,   -999.0,9,   -999.0,9,-999.0000,9,  -999.00,  -999.00,9,  -999.00,9,   1.7941,2,        0
  49UP20180501,RF1804,  6238,  1,     13,  25822,2,20180510,2242, 39.9863, 162.3180, 5397,   2536.6,   1.6946,   1.6947,2,  34.6364,2,  34.6370,2,    102.1,2,    101.9,2,   163.55,2,    39.49,2,     0.00,2,     2.75,2,   -999.0,9,   -999.0,9,-999.0000,9,  -999.00,  -999.00,9,  -999.00,9,   1.6947,2,     2354
  49UP20180501,RF1804,  6238,  1,     12,  25821,2,20180510,2242, 39.9863, 162.3180, 5397,   2789.3,   1.6128,   1.6127,2,  34.6504,2,  34.6501,2,    114.4,2,    114.3,2,   161.73,2,    38.67,2,     0.00,2,     2.69,2,   -999.0,9,   -999.0,9,-999.0000,9,  -999.00,  -999.00,9,  -999.00,9,   1.6127,2,     2348
  49UP20180501,RF1804,  6238,  1,     11,  25820,2,20180510,2242, 39.9863, 162.3180, 5397,   3041.0,   1.5561,   1.5561,2,  34.6605,2,  34.6605,6,    124.3,2,    124.2,2,   159.60,2,    38.16,2,     0.00,2,     2.64,2,   -999.0,9,   -999.0,9,-999.0000,9,  -999.00,  -999.00,9,  -999.00,9,   1.5561,2,     2341
  49UP20180501,RF1804,  6238,  1,     10,  25819,2,20180510,2242, 39.9863, 162.3180, 5397,   3298.3,   1.5198,   1.5198,2,  34.6678,2,  34.6684,2,    132.4,2,    132.6,2,   157.77,2,    37.59,2,     0.00,2,     2.60,2,   -999.0,9,   -999.0,9,-999.0000,9,  -999.00,  -999.00,9,  -999.00,9,   1.5198,2,     2335
  49UP20180501,RF1804,  6238,  1,      9,  25818,2,20180510,2242, 39.9863, 162.3180, 5397,   3559.3,   1.4916,   1.4917,2,  34.6741,2,  34.6729,4,    139.5,2,    139.4,2,   155.69,2,    37.11,2,     0.00,2,     2.57,2,   -999.0,9,   -999.0,9,-999.0000,9,  -999.00,  -999.00,9,  -999.00,9,   1.4917,2,     2329
  49UP20180501,RF1804,  6238,  1,      8,  25817,2,20180510,2242, 39.9863, 162.3180, 5397,   3813.2,   1.4760,   1.4761,2,  34.6785,2,  34.6780,2,    144.9,2,    144.6,2,   154.63,2,    36.77,2,     0.00,2,     2.54,2,   -999.0,9,   -999.0,9,-999.0000,9,  -999.00,  -999.00,9,  -999.00,9,   1.4761,2,     2323
  49UP20180501,RF1804,  6238,  1,      7,  25816,2,20180510,2242, 39.9863, 162.3180, 5397,   4072.6,   1.4676,   1.4678,2,  34.6825,2,  34.6819,2,    149.9,2,    149.3,2,   153.02,2,    36.39,2,     0.00,2,     2.51,2,   -999.0,9,   -999.0,9,-999.0000,9,  -999.00,  -999.00,9,  -999.00,9,   1.4678,2,     2317
  49UP20180501,RF1804,  6238,  1,      6,  25815,2,20180510,2242, 39.9863, 162.3180, 5397,   4326.6,   1.4763,   1.4762,2,  34.6846,2,  34.6845,2,    152.6,2,    152.4,2,   152.26,2,    36.21,2,     0.00,2,     2.49,2,   -999.0,9,   -999.0,9,-999.0000,9,  -999.00,  -999.00,9,  -999.00,9,   1.4762,2,     2311
  49UP20180501,RF1804,  6238,  1,      5,  25814,2,20180510,2242, 39.9863, 162.3180, 5397,   4587.0,   1.4884,   1.4886,2,  34.6867,2,  34.6864,2,    155.1,2,    154.8,2,   151.36,2,    36.04,2,     0.00,2,     2.48,2,   -999.0,9,   -999.0,9,-999.0000,9,  -999.00,  -999.00,9,  -999.00,9,   1.4886,2,     2305
  49UP20180501,RF1804,  6238,  1,      4,  25813,2,20180510,2242, 39.9863, 162.3180, 5397,   4840.1,   1.5042,   1.5043,2,  34.6883,2,  34.6889,2,    157.1,2,    157.1,6,   151.10,6,    35.87,6,     0.00,6,     2.47,6,   -999.0,9,   -999.0,9,-999.0000,9,  -999.00,  -999.00,9,  -999.00,9,   1.5043,2,     2258
  49UP20180501,RF1804,  6238,  1,      3,  25812,2,20180510,2242, 39.9863, 162.3180, 5397,   5101.0,   1.5259,   1.5259,2,  34.6894,2,  34.6896,6,    158.5,2,    158.3,2,   150.95,2,    35.88,2,     0.00,2,     2.46,2,   -999.0,9,   -999.0,9,-999.0000,9,  -999.00,  -999.00,9,  -999.00,9,   1.5259,2,     2252
  49UP20180501,RF1804,  6238,  1,      2,  25811,2,20180510,2242, 39.9863, 162.3180, 5397,   5351.7,   1.5475,   1.5473,2,  34.6906,2,  34.6908,2,    160.0,2,    160.6,2,   149.59,2,    35.63,2,     0.00,2,     2.45,2,   -999.0,9,   -999.0,9,-999.0000,9,  -999.00,  -999.00,9,  -999.00,9,   1.5473,2,     2246
  49UP20180501,RF1804,  6238,  1,      1,  25810,2,20180510,2242, 39.9863, 162.3180, 5397,   5513.5,   1.5678,   1.5679,2,  34.6909,2,  34.6921,4,    160.2,2,    160.4,2,   149.78,2,    35.68,2,     0.00,2,     2.45,2,   -999.0,9,   -999.0,9,-999.0000,9,  -999.00,  -999.00,9,  -999.00,9,   1.5679,2,     2242