BOTTLE,20200310PRINUNIVRMK
EXPOCODE,SECT_ID,STNNBR,CASTNO,SAMPNO,BTLNBR,BTLNBR_FLAG_W,DATE,TIME,LATITUDE,LONGITUDE,DEPTH,CTDPRS,CTDTMP,SBE35,SBE35_FLAG_W,CTDSAL,CTDSAL_FLAG_W,SALNTY,SALNTY_FLAG_W,CTDOXY,CTDOXY_FLAG_W,OXYGEN,OXYGEN_FLAG_W,SILCAT,SILCAT_FLAG_W,NITRAT,NITRAT_FLAG_W,NITRIT,NITRIT_FLAG_W,PHSPHT,PHSPHT_FLAG_W,TCARBN,TCARBN_FLAG_W,ALKALI,ALKALI_FLAG_W,PH_TOT,PH_TOT_FLAG_W,PH_TMP,CHLORA,CHLORA_FLAG_W,PPHYTN,PPHYTN_FLAG_W,SBE35,SBE35_FLAG_W,BTL_TIME
,,,,,,,,,,,METERS,DBAR,ITS-90,,,PSS-78,,PSS-78,,UMOL/KG,,UMOL/KG,,UMOL/KG,,UMOL/KG,,UMOL/KG,,UMOL/KG,,UMOL/KG,,UMOL/KG,,,,DEG C,UG/KG,,UG/KG,,,,
  49UP20180501,RF1804,  6236,  1,     99,     99,2,20180509,2340, 39.9820, 159.6415, 5509,      0.0,  10.8939,-999.0000,9,  33.8610,2,  33.8680,2,    286.0,2,    285.3,2,    14.70,2,     8.21,2,     0.12,2,     0.71,2,   2061.9,2,   2254.4,2,   7.8589,2,    25.00,     0.56,2,     0.16,2,-999.0000,9,      127
  49UP20180501,RF1804,  6236,  1,     36,  25845,2,20180509,2340, 39.9820, 159.6415, 5509,     10.7,  10.8829,  10.8837,2,  33.8619,2,  33.8627,2,    285.9,2,    285.6,2,    14.61,2,     8.24,2,     0.12,2,     0.67,2,   2070.3,2,   2255.9,2,   7.8582,2,    25.00,     0.51,2,     0.14,2,  10.8837,2,      215
  49UP20180501,RF1804,  6236,  1,     35,  25844,2,20180509,2340, 39.9820, 159.6415, 5509,     25.8,  10.8179,  10.8177,2,  33.8772,2,-999.0000,9,    285.5,2,    285.3,2,    14.61,2,     8.33,2,     0.12,2,     0.68,2,   2068.0,2,   2257.6,2,   7.8600,2,    25.00,     0.58,2,     0.18,2,  10.8177,2,      213
  49UP20180501,RF1804,  6236,  1,     34,  25843,2,20180509,2340, 39.9820, 159.6415, 5509,     52.4,   9.5738,   9.5584,2,  34.0075,2,  33.9911,4,    286.2,2,    286.7,2,    16.16,2,     9.51,2,     0.19,2,     0.76,2,   2081.6,2,   2262.4,2,   7.8372,2,    25.00,     0.58,2,     0.12,2,   9.5584,2,      211
  49UP20180501,RF1804,  6236,  1,     33,  25842,2,20180509,2340, 39.9820, 159.6415, 5509,     77.1,   9.2210,   9.2217,2,  33.9984,2,-999.0000,9,    279.8,2,    279.4,2,    16.60,2,    10.37,2,     0.31,2,     0.82,2,   2089.4,2,   2264.4,2,   7.8222,2,    25.00,     0.26,2,     0.22,2,   9.2217,2,      209
  49UP20180501,RF1804,  6236,  1,     32,  25841,2,20180509,2340, 39.9820, 159.6415, 5509,    101.6,   9.0650,   9.0662,2,  33.9803,2,-999.0000,9,    279.3,2,    279.1,2,    16.69,2,    10.71,2,     0.32,2,     0.84,2,   2092.7,2,   2262.4,2,   7.8178,2,    25.00,     0.13,2,     0.15,2,   9.0662,2,      203
  49UP20180501,RF1804,  6236,  1,     31,  25840,3,20180509,2340, 39.9820, 159.6415, 5509,    126.3,   8.9593,   8.9593,2,  33.9946,2,  33.9956,2,    271.7,2,    271.8,2,    17.93,2,    12.00,2,     0.04,2,     0.90,2,   2097.7,2,   2263.9,2,   7.8048,2,    25.00,     0.05,2,     0.06,2,   8.9593,2,      202
  49UP20180501,RF1804,  6236,  1,     30,  25839,2,20180509,2340, 39.9820, 159.6415, 5509,    154.0,   8.0330,   8.0371,2,  33.8902,2,-999.0000,9,    272.9,2,    272.2,2,    20.16,2,    13.60,2,     0.02,2,     1.01,2,   2103.3,2,   2261.3,2,   7.7819,2,    25.00,     0.02,2,     0.06,2,   8.0371,2,      200
  49UP20180501,RF1804,  6236,  1,     29,  25838,2,20180509,2340, 39.9820, 159.6415, 5509,    203.4,   7.0205,   7.0207,2,  33.7926,2,-999.0000,9,    251.5,2,    251.8,2,    27.78,2,    17.39,2,     0.01,2,     1.30,2,   2129.8,2,   2261.8,2,   7.7215,2,    25.00,     0.01,2,     0.04,2,   7.0207,2,      157
  49UP20180501,RF1804,  6236,  1,     28,  25837,2,20180509,2340, 39.9820, 159.6415, 5509,    256.6,   5.9969,   5.9988,2,  33.7727,2,-999.0000,9,    206.2,2,    206.6,2,    42.13,2,    23.66,2,     0.01,2,     1.75,2,   2175.0,2,   2268.3,2,   7.6203,2,    25.00,  -999.00,9,  -999.00,9,   5.9988,2,      155
  49UP20180501,RF1804,  6236,  1,     27,  24661,2,20180509,2340, 39.9820, 159.6415, 5509,    306.4,   5.2339,   5.2377,2,  33.7836,2,  33.7831,2,    173.4,2,    174.6,2,    54.27,2,    27.96,2,     0.01,2,     2.06,2,   2209.0,2,   2277.1,2,   7.5494,2,    25.00,  -999.00,9,  -999.00,9,   5.2377,2,      153
  49UP20180501,RF1804,  6236,  1,     26,  25835,2,20180509,2340, 39.9820, 159.6415, 5509,    408.7,   4.7695,   4.7661,2,  33.9357,2,-999.0000,9,    110.4,2,    110.6,6,    75.96,6,    34.59,6,     0.00,6,     2.50,6,   2265.8,2,   2296.7,2,   7.4380,2,    25.00,  -999.00,9,  -999.00,9,   4.7661,2,      149
  49UP20180501,RF1804,  6236,  1,     25,  25834,2,20180509,2340, 39.9820, 159.6415, 5509,    507.3,   4.3718,   4.3716,2,  34.0436,2,  34.0423,2,     73.7,2,     73.7,2,    92.60,2,    38.51,2,     0.00,2,     2.76,2,   2297.0,6,   2314.9,6,   7.3812,2,    25.00,  -999.00,9,  -999.00,9,   4.3716,2,      145
  49UP20180501,RF1804,  6236,  1,     24,  25833,2,20180509,2340, 39.9820, 159.6415, 5509,    606.7,   4.0986,   4.0982,2,  34.1385,2,-999.0000,9,     54.9,2,     55.0,2,   105.08,2,    40.29,2,     0.00,2,     2.87,2,   2323.5,2,   2328.0,2,   7.3527,6,    25.00,  -999.00,9,  -999.00,9,   4.0982,2,      142
  49UP20180501,RF1804,  6236,  1,     23,  25832,2,20180509,2340, 39.9820, 159.6415, 5509,    705.4,   3.8114,   3.8113,2,  34.2154,2,-999.0000,9,     44.5,2,     44.3,2,   115.91,2,    41.33,2,     0.00,2,     2.95,2,   2334.2,2,   2343.7,2,   7.3499,2,    25.00,  -999.00,9,  -999.00,9,   3.8113,2,      139
  49UP20180501,RF1804,  6236,  1,     22,  25831,2,20180509,2340, 39.9820, 159.6415, 5509,    806.1,   3.4796,   3.4798,2,  34.2851,2,  34.2848,6,     38.2,2,     38.0,2,   126.82,2,    42.09,2,     0.00,2,     3.01,2,   2351.8,2,   2357.1,2,   7.3462,2,    25.00,  -999.00,9,  -999.00,9,   3.4798,2,      136
  49UP20180501,RF1804,  6236,  1,     21,  25830,2,20180509,2340, 39.9820, 159.6415, 5509,    906.6,   3.2183,   3.2183,2,  34.3338,2,-999.0000,9,     35.7,2,     35.3,2,   135.06,2,    42.59,2,     0.00,2,     3.03,2,   2359.4,2,   2367.7,2,   7.3413,2,    25.00,  -999.00,9,  -999.00,9,   3.2183,2,      133
  49UP20180501,RF1804,  6236,  1,     20,  25829,2,20180509,2340, 39.9820, 159.6415, 5509,   1007.1,   3.0184,   3.0188,2,  34.3728,2,-999.0000,9,     34.8,2,     34.2,2,   141.05,2,    42.84,2,     0.00,2,     3.05,2,   2365.2,2,   2374.2,2,   7.3430,2,    25.00,  -999.00,9,  -999.00,9,   3.0188,2,      131
  49UP20180501,RF1804,  6236,  1,     19,  25828,2,20180509,2340, 39.9820, 159.6415, 5509,   1211.7,   2.6563,   2.6563,2,  34.4461,2,  34.4460,2,     35.9,2,     35.4,2,   152.17,2,    43.12,2,     0.00,2,     3.06,2,   2377.2,2,   2388.5,2,   7.3516,2,    25.00,  -999.00,9,  -999.00,9,   2.6563,2,      126
  49UP20180501,RF1804,  6236,  1,     18,  25827,2,20180509,2340, 39.9820, 159.6415, 5509,   1415.4,   2.4008,   2.4007,2,  34.4948,2,-999.0000,9,     41.5,2,     41.2,2,   159.03,2,    42.93,2,     0.00,2,     3.04,2,   2383.7,2,   2398.9,2,   7.3649,2,    25.00,  -999.00,9,  -999.00,9,   2.4007,2,      121
  49UP20180501,RF1804,  6236,  1,     17,  25826,2,20180509,2340, 39.9820, 159.6415, 5509,   1618.9,   2.2312,   2.2311,2,  34.5309,2,-999.0000,9,     49.3,2,     49.1,2,   162.76,2,    42.61,2,     0.00,2,     3.01,2,   2387.7,2,   2403.2,2,   7.3809,2,    25.00,  -999.00,9,  -999.00,9,   2.2311,2,      117
  49UP20180501,RF1804,  6236,  1,     16,  25825,2,20180509,2340, 39.9820, 159.6415, 5509,   1823.4,   2.0689,   2.0687,2,  34.5663,2,  34.5662,2,     60.7,2,     60.5,2,   165.05,2,    41.92,2,     0.00,2,     2.96,2,   2378.5,2,   2410.2,2,   7.4127,6,    25.00,  -999.00,9,  -999.00,9,   2.0687,2,      112
  49UP20180501,RF1804,  6236,  1,     15,  25824,2,20180509,2340, 39.9820, 159.6415, 5509,   2025.9,   1.9446,   1.9444,2,  34.5912,2,  34.5909,2,     72.0,2,     71.8,2,   165.69,2,    41.26,2,     0.00,2,     2.90,2,   2370.7,2,   2414.5,2,   7.4371,2,    25.00,  -999.00,9,  -999.00,9,   1.9444,2,      105
  49UP20180501,RF1804,  6236,  1,     14,  25823,2,20180509,2340, 39.9820, 159.6415, 5509,   2280.6,   1.8023,   1.8024,2,  34.6175,2,  34.6174,2,     87.8,2,     88.2,2,   165.12,2,    40.21,2,     0.00,2,     2.82,2,   2368.7,2,   2416.9,2,   7.4672,2,    25.00,  -999.00,9,  -999.00,9,   1.8024,2,       59
  49UP20180501,RF1804,  6236,  1,     13,  25822,2,20180509,2340, 39.9820, 159.6415, 5509,   2531.5,   1.6779,   1.6778,2,  34.6388,2,  34.6388,2,    104.2,2,    104.3,2,   163.45,2,    39.23,2,     0.00,2,     2.75,2,   2354.6,2,   2419.5,2,   7.4952,2,    25.00,  -999.00,9,  -999.00,9,   1.6778,2,       53
  49UP20180501,RF1804,  6236,  1,     12,  25821,2,20180509,2340, 39.9820, 159.6415, 5509,   2791.6,   1.6063,   1.6061,2,  34.6519,2,  34.6516,2,    115.5,2,    116.1,2,   161.35,2,    38.43,2,     0.00,2,     2.69,2,   2355.9,2,   2419.1,2,   7.5179,2,    25.00,  -999.00,9,  -999.00,9,   1.6061,2,       47
  49UP20180501,RF1804,  6236,  1,     11,  25820,2,20180509,2340, 39.9820, 159.6415, 5509,   3044.5,   1.5584,   1.5583,2,  34.6606,2,  34.6602,2,    124.7,2,    124.8,2,   159.57,2,    37.89,2,     0.00,2,     2.64,2,   2349.2,2,   2420.6,2,   7.5317,2,    25.00,  -999.00,9,  -999.00,9,   1.5583,2,       41
  49UP20180501,RF1804,  6236,  1,     10,  25819,2,20180509,2340, 39.9820, 159.6415, 5509,   3298.2,   1.5165,   1.5165,2,  34.6684,2,  34.6687,2,    133.2,2,    133.1,2,   157.52,2,    37.30,2,     0.00,2,     2.60,2,   2340.8,2,   2419.4,2,   7.5520,2,    25.00,  -999.00,9,  -999.00,9,   1.5165,2,       35
  49UP20180501,RF1804,  6236,  1,      9,  25818,2,20180509,2340, 39.9820, 159.6415, 5509,   3556.5,   1.4879,   1.4878,2,  34.6746,2,  34.6746,2,    140.0,2,    140.0,2,   155.93,2,    36.83,2,     0.00,2,     2.56,2,   2335.8,6,   2419.4,6,   7.5633,2,    25.00,  -999.00,9,  -999.00,9,   1.4878,2,       29
  49UP20180501,RF1804,  6236,  1,      8,  25817,2,20180509,2340, 39.9820, 159.6415, 5509,   3810.7,   1.4750,   1.4750,2,  34.6787,2,  34.6790,2,    145.2,2,    145.2,2,   154.52,2,    36.53,2,     0.00,2,     2.54,2,   2332.5,2,   2419.3,2,   7.5716,2,    25.00,  -999.00,9,  -999.00,9,   1.4750,2,       23
  49UP20180501,RF1804,  6236,  1,      7,  25816,2,20180509,2340, 39.9820, 159.6415, 5509,   4065.0,   1.4714,   1.4714,2,  34.6821,2,  34.6817,2,    149.3,2,    149.1,6,   153.42,6,    36.30,6,     0.00,6,     2.52,6,   2331.1,2,   2418.5,2,   7.5770,2,    25.00,  -999.00,9,  -999.00,9,   1.4714,2,       17
  49UP20180501,RF1804,  6236,  1,      6,  25815,2,20180509,2340, 39.9820, 159.6415, 5509,   4323.1,   1.4774,   1.4774,2,  34.6846,2,  34.6847,2,    152.4,2,    152.2,2,   152.53,2,    36.06,2,     0.00,2,     2.50,2,   2324.1,2,   2417.9,2,   7.5831,2,    25.00,  -999.00,9,  -999.00,9,   1.4774,2,       12
  49UP20180501,RF1804,  6236,  1,      5,  25814,2,20180509,2340, 39.9820, 159.6415, 5509,   4584.7,   1.4864,   1.4864,2,  34.6870,2,  34.6865,2,    155.3,2,    155.3,2,   151.48,2,    35.86,2,     0.00,2,     2.49,2,   2325.1,2,   2418.7,2,   7.5889,2,    25.00,  -999.00,9,  -999.00,9,   1.4864,2,        5
  49UP20180501,RF1804,  6236,  1,      4,  25813,2,20180509,2340, 39.9820, 159.6415, 5509,   4843.0,   1.5026,   1.5027,2,  34.6887,2,  34.6889,2,    157.3,2,    157.9,6,   151.05,6,    35.69,6,     0.00,6,     2.48,6,   2319.1,2,   2417.5,2,   7.5888,2,    25.00,  -999.00,9,  -999.00,9,   1.5027,2,     2359
  49UP20180501,RF1804,  6236,  1,      3,  25812,2,20180509,2340, 39.9820, 159.6415, 5509,   5102.6,   1.5247,   1.5247,2,  34.6898,2,  34.6896,2,    158.8,2,    158.9,2,   150.54,2,    35.54,2,     0.00,2,     2.46,2,   2321.2,6,   2416.8,6,   7.5937,2,    25.00,  -999.00,9,  -999.00,9,   1.5247,2,     2353
  49UP20180501,RF1804,  6236,  1,      2,  25811,2,20180509,2340, 39.9820, 159.6415, 5509,   5359.7,   1.5493,   1.5493,2,  34.6907,2,  34.6905,2,    160.1,2,    160.5,2,   149.64,2,    35.47,2,     0.00,2,     2.46,2,   2322.4,2,   2415.4,2,   7.5945,6,    25.00,  -999.00,9,  -999.00,9,   1.5493,2,     2346
  49UP20180501,RF1804,  6236,  1,      1,  25810,2,20180509,2340, 39.9820, 159.6415, 5509,   5597.4,   1.5767,   1.5768,2,  34.6912,2,  34.6906,6,    160.9,2,    161.0,2,   148.74,2,    35.50,2,     0.00,2,     2.45,2,   2319.4,2,   2415.5,2,   7.5941,2,    25.00,  -999.00,9,  -999.00,9,   1.5768,2,     2340