BOTTLE,20200310PRINUNIVRMK
EXPOCODE,SECT_ID,STNNBR,CASTNO,SAMPNO,BTLNBR,BTLNBR_FLAG_W,DATE,TIME,LATITUDE,LONGITUDE,DEPTH,CTDPRS,CTDTMP,SBE35,SBE35_FLAG_W,CTDSAL,CTDSAL_FLAG_W,SALNTY,SALNTY_FLAG_W,CTDOXY,CTDOXY_FLAG_W,OXYGEN,OXYGEN_FLAG_W,SILCAT,SILCAT_FLAG_W,NITRAT,NITRAT_FLAG_W,NITRIT,NITRIT_FLAG_W,PHSPHT,PHSPHT_FLAG_W,TCARBN,TCARBN_FLAG_W,ALKALI,ALKALI_FLAG_W,PH_TOT,PH_TOT_FLAG_W,PH_TMP,CHLORA,CHLORA_FLAG_W,PPHYTN,PPHYTN_FLAG_W,SBE35,SBE35_FLAG_W,BTL_TIME
,,,,,,,,,,,METERS,DBAR,ITS-90,,,PSS-78,,PSS-78,,UMOL/KG,,UMOL/KG,,UMOL/KG,,UMOL/KG,,UMOL/KG,,UMOL/KG,,UMOL/KG,,UMOL/KG,,,,DEG C,UG/KG,,UG/KG,,,,
  49UP20180501,RF1804,  6235,  1,     99,     99,2,20180509,1200, 39.9877, 158.3525, 5473,      0.0,  12.3757,-999.0000,9,  34.1879,2,-999.0000,9,    278.2,2,    278.5,2,     8.93,2,     5.60,2,     0.15,2,     0.40,2,   -999.0,9,   -999.0,9,-999.0000,9,  -999.00,  -999.00,9,  -999.00,9,-999.0000,9,     1406
  49UP20180501,RF1804,  6235,  1,     36,  25845,2,20180509,1200, 39.9877, 158.3525, 5473,     10.6,  12.3800,  12.3797,2,  34.1876,2,-999.0000,9,    278.0,2,    277.5,2,     9.33,2,     5.52,2,     0.14,2,     0.37,2,   -999.0,9,   -999.0,9,-999.0000,9,  -999.00,  -999.00,9,  -999.00,9,  12.3797,2,     1438
  49UP20180501,RF1804,  6235,  1,     35,  25844,2,20180509,1200, 39.9877, 158.3525, 5473,     25.5,  12.3588,  12.3592,2,  34.1842,2,-999.0000,9,    277.8,2,    277.4,2,     9.31,2,     5.56,2,     0.15,2,     0.38,2,   -999.0,9,   -999.0,9,-999.0000,9,  -999.00,  -999.00,9,  -999.00,9,  12.3592,2,     1436
  49UP20180501,RF1804,  6235,  1,     34,  25843,2,20180509,1200, 39.9877, 158.3525, 5473,     51.2,  12.0222,  12.0188,2,  34.3772,2,-999.0000,9,    255.5,2,    256.0,2,    13.49,2,     7.88,2,     0.39,2,     0.60,2,   -999.0,9,   -999.0,9,-999.0000,9,  -999.00,  -999.00,9,  -999.00,9,  12.0188,2,     1434
  49UP20180501,RF1804,  6235,  1,     33,  25842,2,20180509,1200, 39.9877, 158.3525, 5473,     77.3,  11.5627,  11.5649,2,  34.3181,2,-999.0000,9,    254.5,2,    254.0,2,    14.64,2,     9.10,2,     0.31,2,     0.67,2,   -999.0,9,   -999.0,9,-999.0000,9,  -999.00,  -999.00,9,  -999.00,9,  11.5649,2,     1432
  49UP20180501,RF1804,  6235,  1,     32,  25841,2,20180509,1200, 39.9877, 158.3525, 5473,    103.3,  11.0060,  11.0072,2,  34.2854,2,-999.0000,9,    238.4,2,    239.1,2,    17.21,2,    11.56,2,     0.02,2,     0.83,2,   -999.0,9,   -999.0,9,-999.0000,9,  -999.00,  -999.00,9,  -999.00,9,  11.0072,2,     1430
  49UP20180501,RF1804,  6235,  1,     31,  25840,3,20180509,1200, 39.9877, 158.3525, 5473,    127.2,  10.2567,  10.2616,2,  34.2134,2,-999.0000,9,    241.5,2,    241.3,2,    18.88,2,    12.45,2,     0.02,2,     0.90,2,   -999.0,9,   -999.0,9,-999.0000,9,  -999.00,  -999.00,9,  -999.00,9,  10.2616,2,     1428
  49UP20180501,RF1804,  6235,  1,     30,  25839,2,20180509,1200, 39.9877, 158.3525, 5473,    150.8,   9.1725,   9.1768,2,  34.0456,2,-999.0000,9,    259.1,2,    260.8,2,    20.32,2,    12.65,2,     0.19,2,     0.98,2,   -999.0,9,   -999.0,9,-999.0000,9,  -999.00,  -999.00,9,  -999.00,9,   9.1768,2,     1422
  49UP20180501,RF1804,  6235,  1,     29,  25838,2,20180509,1200, 39.9877, 158.3525, 5473,    202.6,   7.3785,   7.3774,2,  33.8237,2,-999.0000,9,    270.6,2,    271.1,2,    24.92,2,    15.71,2,     0.08,2,     1.19,2,   -999.0,9,   -999.0,9,-999.0000,9,  -999.00,  -999.00,9,  -999.00,9,   7.3774,2,     1420
  49UP20180501,RF1804,  6235,  1,     28,  25837,2,20180509,1200, 39.9877, 158.3525, 5473,    253.5,   6.6335,   6.6335,2,  33.7982,2,-999.0000,9,    247.9,2,    246.1,2,    32.32,2,    18.77,2,     0.02,2,     1.40,2,   -999.0,9,   -999.0,9,-999.0000,9,  -999.00,  -999.00,9,  -999.00,9,   6.6335,2,     1417
  49UP20180501,RF1804,  6235,  1,     27,  24661,2,20180509,1200, 39.9877, 158.3525, 5473,    307.4,   6.4256,   6.4274,2,  33.8739,2,-999.0000,9,    186.1,2,    187.6,6,    45.72,6,    24.50,6,     0.01,6,     1.81,6,   -999.0,9,   -999.0,9,-999.0000,9,  -999.00,  -999.00,9,  -999.00,9,   6.4274,2,     1415
  49UP20180501,RF1804,  6235,  1,     26,  25835,2,20180509,1200, 39.9877, 158.3525, 5473,    403.3,   5.2884,   5.2887,2,  33.9255,2,-999.0000,9,    132.3,2,    132.1,2,    66.94,2,    31.66,2,     0.01,2,     2.30,2,   -999.0,9,   -999.0,9,-999.0000,9,  -999.00,  -999.00,9,  -999.00,9,   5.2887,2,     1412
  49UP20180501,RF1804,  6235,  1,     25,  25834,2,20180509,1200, 39.9877, 158.3525, 5473,    508.0,   4.7034,   4.7039,2,  34.0595,2,-999.0000,9,     83.8,2,     85.0,2,    87.12,2,    36.77,2,     0.00,2,     2.65,2,   -999.0,9,   -999.0,9,-999.0000,9,  -999.00,  -999.00,9,  -999.00,9,   4.7039,2,     1408
  49UP20180501,RF1804,  6235,  1,     24,  25833,2,20180509,1200, 39.9877, 158.3525, 5473,    608.8,   4.1519,   4.1513,2,  34.1490,2,-999.0000,9,     57.5,2,     57.5,2,   104.28,2,    39.82,2,     0.00,2,     2.85,2,   -999.0,9,   -999.0,9,-999.0000,9,  -999.00,  -999.00,9,  -999.00,9,   4.1513,2,     1405
  49UP20180501,RF1804,  6235,  1,     23,  25832,2,20180509,1200, 39.9877, 158.3525, 5473,    707.0,   3.7953,   3.7953,2,  34.2228,2,-999.0000,9,     45.2,2,     45.5,2,   116.57,2,    41.19,2,     0.00,2,     2.94,2,   -999.0,9,   -999.0,9,-999.0000,9,  -999.00,  -999.00,9,  -999.00,9,   3.7953,2,     1401
  49UP20180501,RF1804,  6235,  1,     22,  25831,2,20180509,1200, 39.9877, 158.3525, 5473,    807.4,   3.5252,   3.5253,2,  34.2837,2,-999.0000,9,     40.2,2,     40.0,2,   125.46,2,    41.84,2,     0.00,2,     2.99,2,   -999.0,9,   -999.0,9,-999.0000,9,  -999.00,  -999.00,9,  -999.00,9,   3.5253,2,     1358
  49UP20180501,RF1804,  6235,  1,     21,  25830,2,20180509,1200, 39.9877, 158.3525, 5473,    908.3,   3.2733,   3.2733,2,  34.3300,2,-999.0000,9,     37.6,2,     37.5,2,   133.08,2,    42.28,2,     0.00,2,     3.01,2,   -999.0,9,   -999.0,9,-999.0000,9,  -999.00,  -999.00,9,  -999.00,9,   3.2733,2,     1355
  49UP20180501,RF1804,  6235,  1,     20,  25829,2,20180509,1200, 39.9877, 158.3525, 5473,   1009.4,   3.0735,   3.0736,2,  34.3739,2,-999.0000,9,     36.7,2,     36.5,2,   138.95,2,    42.54,2,     0.00,2,     3.03,2,   -999.0,9,   -999.0,9,-999.0000,9,  -999.00,  -999.00,9,  -999.00,9,   3.0736,2,     1352
  49UP20180501,RF1804,  6235,  1,     19,  25828,2,20180509,1200, 39.9877, 158.3525, 5473,   1211.8,   2.7002,   2.7003,2,  34.4355,2,-999.0000,9,     36.3,2,     36.3,2,   150.60,2,    43.03,2,     0.00,2,     3.06,2,   -999.0,9,   -999.0,9,-999.0000,9,  -999.00,  -999.00,9,  -999.00,9,   2.7003,2,     1347
  49UP20180501,RF1804,  6235,  1,     18,  25827,2,20180509,1200, 39.9877, 158.3525, 5473,   1416.1,   2.4516,   2.4514,2,  34.4893,2,-999.0000,9,     40.9,2,     40.6,2,   157.44,2,    42.89,2,     0.00,2,     3.04,2,   -999.0,9,   -999.0,9,-999.0000,9,  -999.00,  -999.00,9,  -999.00,9,   2.4514,2,     1342
  49UP20180501,RF1804,  6235,  1,     17,  25826,2,20180509,1200, 39.9877, 158.3525, 5473,   1619.0,   2.2598,   2.2596,2,  34.5276,2,-999.0000,9,     49.0,2,     48.6,2,   161.80,2,    42.49,2,     0.00,2,     3.01,2,   -999.0,9,   -999.0,9,-999.0000,9,  -999.00,  -999.00,9,  -999.00,9,   2.2596,2,     1337
  49UP20180501,RF1804,  6235,  1,     16,  25825,2,20180509,1200, 39.9877, 158.3525, 5473,   1822.7,   2.0874,   2.0872,2,  34.5637,2,-999.0000,9,     59.8,2,     59.6,2,   164.42,2,    41.95,2,     0.00,2,     2.95,2,   -999.0,9,   -999.0,9,-999.0000,9,  -999.00,  -999.00,9,  -999.00,9,   2.0872,2,     1332
  49UP20180501,RF1804,  6235,  1,     15,  25824,2,20180509,1200, 39.9877, 158.3525, 5473,   2027.4,   1.9427,   1.9426,2,  34.5919,2,-999.0000,9,     72.7,2,     72.8,2,   165.21,2,    41.21,2,     0.00,2,     2.89,2,   -999.0,9,   -999.0,9,-999.0000,9,  -999.00,  -999.00,9,  -999.00,9,   1.9426,2,     1326
  49UP20180501,RF1804,  6235,  1,     14,  25823,2,20180509,1200, 39.9877, 158.3525, 5473,   2280.9,   1.8028,   1.8027,2,  34.6174,2,-999.0000,9,     87.9,2,     88.1,2,   164.98,2,    40.23,2,     0.00,2,     2.82,2,   -999.0,9,   -999.0,9,-999.0000,9,  -999.00,  -999.00,9,  -999.00,9,   1.8027,2,     1321
  49UP20180501,RF1804,  6235,  1,     13,  25822,2,20180509,1200, 39.9877, 158.3525, 5473,   2534.6,   1.6979,   1.6978,2,  34.6360,2,-999.0000,9,    101.7,2,    102.6,2,   163.64,2,    39.27,2,     0.00,2,     2.75,2,   -999.0,9,   -999.0,9,-999.0000,9,  -999.00,  -999.00,9,  -999.00,9,   1.6978,2,     1314
  49UP20180501,RF1804,  6235,  1,     12,  25821,2,20180509,1200, 39.9877, 158.3525, 5473,   2790.7,   1.6101,   1.6103,2,  34.6511,2,-999.0000,9,    115.1,2,    115.6,2,   161.41,2,    38.48,2,     0.00,2,     2.69,2,   -999.0,9,   -999.0,9,-999.0000,9,  -999.00,  -999.00,9,  -999.00,9,   1.6103,2,     1308
  49UP20180501,RF1804,  6235,  1,     11,  25820,2,20180509,1200, 39.9877, 158.3525, 5473,   3048.5,   1.5590,   1.5590,2,  34.6608,2,-999.0000,9,    124.5,2,    124.8,2,   159.28,2,    37.94,2,     0.00,2,     2.64,2,   -999.0,9,   -999.0,9,-999.0000,9,  -999.00,  -999.00,9,  -999.00,9,   1.5590,2,     1302
  49UP20180501,RF1804,  6235,  1,     10,  25819,2,20180509,1200, 39.9877, 158.3525, 5473,   3303.5,   1.5099,   1.5099,2,  34.6694,2,-999.0000,9,    133.9,2,    134.2,2,   157.13,2,    37.16,2,     0.00,2,     2.59,2,   -999.0,9,   -999.0,9,-999.0000,9,  -999.00,  -999.00,9,  -999.00,9,   1.5099,2,     1256
  49UP20180501,RF1804,  6235,  1,      9,  25818,2,20180509,1200, 39.9877, 158.3525, 5473,   3554.1,   1.4898,   1.4899,2,  34.6744,2,-999.0000,9,    139.9,2,    140.0,6,   155.56,6,    36.85,6,     0.00,6,     2.56,6,   -999.0,9,   -999.0,9,-999.0000,9,  -999.00,  -999.00,9,  -999.00,9,   1.4899,2,     1250
  49UP20180501,RF1804,  6235,  1,      8,  25817,2,20180509,1200, 39.9877, 158.3525, 5473,   3815.3,   1.4759,   1.4760,2,  34.6789,2,-999.0000,9,    145.2,2,    145.2,2,   153.96,2,    36.45,2,     0.00,2,     2.53,2,   -999.0,9,   -999.0,9,-999.0000,9,  -999.00,  -999.00,9,  -999.00,9,   1.4760,2,     1243
  49UP20180501,RF1804,  6235,  1,      7,  25816,2,20180509,1200, 39.9877, 158.3525, 5473,   4071.1,   1.4712,   1.4714,2,  34.6823,2,-999.0000,9,    149.5,2,    150.0,2,   152.72,2,    36.22,2,     0.00,2,     2.51,2,   -999.0,9,   -999.0,9,-999.0000,9,  -999.00,  -999.00,9,  -999.00,9,   1.4714,2,     1237
  49UP20180501,RF1804,  6235,  1,      6,  25815,2,20180509,1200, 39.9877, 158.3525, 5473,   4329.3,   1.4722,   1.4724,2,  34.6854,2,-999.0000,9,    153.2,2,    153.3,2,   151.91,2,    35.92,2,     0.00,2,     2.49,2,   -999.0,9,   -999.0,9,-999.0000,9,  -999.00,  -999.00,9,  -999.00,9,   1.4724,2,     1231
  49UP20180501,RF1804,  6235,  1,      5,  25814,2,20180509,1200, 39.9877, 158.3525, 5473,   4581.7,   1.4817,   1.4817,2,  34.6874,2,-999.0000,9,    156.0,2,    156.0,2,   151.29,2,    35.77,2,     0.00,2,     2.47,2,   -999.0,9,   -999.0,9,-999.0000,9,  -999.00,  -999.00,9,  -999.00,9,   1.4817,2,     1225
  49UP20180501,RF1804,  6235,  1,      4,  25813,2,20180509,1200, 39.9877, 158.3525, 5473,   4840.2,   1.4991,   1.4990,2,  34.6890,2,-999.0000,9,    157.5,2,    158.0,2,   151.23,2,    35.58,2,     0.00,2,     2.46,2,   -999.0,9,   -999.0,9,-999.0000,9,  -999.00,  -999.00,9,  -999.00,9,   1.4990,2,     1219
  49UP20180501,RF1804,  6235,  1,      3,  25812,2,20180509,1200, 39.9877, 158.3525, 5473,   5101.5,   1.5229,   1.5229,2,  34.6899,2,-999.0000,9,    158.9,2,    158.9,2,   150.93,2,    35.49,2,     0.00,2,     2.46,2,   -999.0,9,   -999.0,9,-999.0000,9,  -999.00,  -999.00,9,  -999.00,9,   1.5229,2,     1213
  49UP20180501,RF1804,  6235,  1,      2,  25811,2,20180509,1200, 39.9877, 158.3525, 5473,   5359.7,   1.5458,   1.5458,2,  34.6910,2,-999.0000,9,    161.0,2,    161.2,2,   148.12,2,    35.27,2,     0.00,2,     2.44,2,   -999.0,9,   -999.0,9,-999.0000,9,  -999.00,  -999.00,9,  -999.00,9,   1.5458,2,     1207
  49UP20180501,RF1804,  6235,  1,      1,  25810,2,20180509,1200, 39.9877, 158.3525, 5473,   5594.1,   1.5698,   1.5696,2,  34.6918,2,-999.0000,9,    162.4,2,    162.6,6,   146.50,6,    35.28,6,     0.00,6,     2.44,6,   -999.0,9,   -999.0,9,-999.0000,9,  -999.00,  -999.00,9,  -999.00,9,   1.5696,2,     1201