BOTTLE,20200309PRINUNIVRMK
# 08/30/2019 Initialized README file  
# Data source:  Masao Ishii 2018/11/30 
# SHIP: R/V Ryofu Maru III 
# Cruise: RF17.08 
# Region: North Pacific Ocean 
# EXPOCODE: 49UP20170815 
# DATES: 20170815-20171006 
# Chief Scientist: Naoki Nagai 
# 16 stations with 36 place Rosette 
# CTD: Who - Kazuhiro Nemoto; Status - final 
# 	Includes: CTDSAL 
# SALNTY: Who - Kazuhiro Nemoto; Status - final 
# 	Notes: 	 
# Nutrients: Who - Kazuhiro Nemoto; Status - final 
# 	Includes: nitrate, nitrite, silicate, phosphate 
# 	Nitrite and NO3+NO2 reported. Separated by subtraction 
# OXYGEN: Who - Kazuhiro Nemoto; Status - final 
# 	Notes: 
# TCARBN: Who - Kazuhiro Nemoto; Status - final 
# 	Notes:  
# ALKALI: Who - Kazuhiro Nemoto; Status - final 
# 	Notes:  
# PH: Who - Kazuhiro Nemoto; Status - final 
# 	Notes: total H+ scale at 25C 
# CFC: Who - Kazuhiro Nemoto; Status - final 
# 	Notes:  
# These data should be cited as:               
# References that have used data from this cruise: 
EXPOCODE,SECT_ID,STNNBR,CASTNO,SAMPNO,BTLNBR,BTLNBR_FLAG_W,DATE,TIME,LATITUDE,LONGITUDE,DEPTH,CTDPRS,CTDTMP,CTDSAL,CTDSAL_FLAG_W,SALNTY,SALNTY_FLAG_W,OXYGEN,OXYGEN_FLAG_W,SILCAT,SILCAT_FLAG_W,NITRAT,NITRAT_FLAG_W,NITRIT,NITRIT_FLAG_W,PHSPHT,PHSPHT_FLAG_W,CFC-11,CFC-11_FLAG_W,CFC-12,CFC-12_FLAG_W,TCARBN,TCARBN_FLAG_W,ALKALI,ALKALI_FLAG_W,PH_TOT,PH_TOT_FLAG_W,PH_TMP,BTL_TIME
,,,,,,,,,,,METERS,DBAR,ITS-90,PSS-78,,PSS-78,,UMOL/KG,,UMOL/KG,,UMOL/KG,,UMOL/KG,,UMOL/KG,,PMOL/KG,,PMOL/KG,,UMOL/KG,,UMOL/KG,,,,DEG C,
  49UP20170815,RF1708,  6077,  1,     99,     99,2,20170819,1954, 29.0302, 165.0007, 5823,      0.0,  28.1510,  34.2945,2,  33.5569,2,    201.9,2,     1.47,2,     0.12,2,     0.00,2,     0.13,2, -999.000,9, -999.000,9,   1903.9,2,   2207.2,2,   8.0864,2,    25.00,     2150
  49UP20170815,RF1708,  6077,  1,     36,  25845,2,20170819,1954, 29.0302, 165.0007, 5823,     10.7,  28.1470,  34.5580,2,  34.5453,4,    201.3,6,     1.49,6,     0.03,6,     0.00,6,     0.02,6,    1.580,2,    1.002,2,   1961.7,2,   2270.6,2,   8.0762,2,    25.00,     2217
  49UP20170815,RF1708,  6077,  1,     35,  25844,2,20170819,1954, 29.0302, 165.0007, 5823,     51.1,  21.2795,  35.0848,2,  35.0820,2,    227.8,2,     1.83,2,     0.00,2,     0.00,2,     0.04,2,    2.094,2,    1.298,2,   2013.0,2,   2307.1,2,   8.0344,2,    25.00,     2212
  49UP20170815,RF1708,  6077,  1,     34,  25843,3,20170819,1954, 29.0302, 165.0007, 5823,     99.9,  18.4451,  34.8579,2,  34.8356,4,    228.1,2,     2.57,2,     0.57,2,     0.03,2,     0.10,2,    2.296,6,    1.425,6,   2026.1,2,   2291.8,2,   7.9889,2,    25.00,     2210
  49UP20170815,RF1708,  6077,  1,     33,  25842,2,20170819,1954, 29.0302, 165.0007, 5823,    152.5,  16.9725,  34.7427,2,  34.7410,2,    222.7,2,     3.60,2,     3.00,2,     0.15,2,     0.23,2,    2.402,2,    1.490,2,   2041.0,2,   2285.0,2,   7.9598,2,    25.00,     2208
  49UP20170815,RF1708,  6077,  1,     32,  25841,2,20170819,1954, 29.0302, 165.0007, 5823,    203.2,  16.4658,  34.7328,2,  34.7312,2,    224.1,2,     4.33,2,     4.10,2,     0.01,2,     0.29,2,    2.412,2,    1.500,2,   2040.5,2,   2284.1,2,   7.9539,2,    25.00,     2207
  49UP20170815,RF1708,  6077,  1,     31,  25840,2,20170819,1954, 29.0302, 165.0007, 5823,    252.7,  16.0652,  34.6857,2,  34.6839,2,    227.6,2,     4.65,2,     4.23,2,     0.01,2,     0.31,2,    2.467,2,    1.530,2,   2044.7,2,   2282.9,2,   7.9469,2,    25.00,     2205
  49UP20170815,RF1708,  6077,  1,     30,  25839,2,20170819,1954, 29.0302, 165.0007, 5823,    303.5,  15.2782,  34.5910,2,  34.5909,2,    207.9,2,     7.17,2,     7.17,2,     0.01,2,     0.50,2,    2.530,2,    1.563,2,   2062.7,2,   2278.3,2,   7.8989,2,    25.00,     2203
  49UP20170815,RF1708,  6077,  1,     29,  25838,2,20170819,1954, 29.0302, 165.0007, 5823,    405.2,  12.9846,  34.3972,2,  34.3952,2,    212.0,2,    12.30,2,    10.51,2,     0.00,2,     0.74,2,    2.777,2,    1.688,2,   2083.6,2,   2273.9,2,   7.8472,6,    25.00,     2200
  49UP20170815,RF1708,  6077,  1,     28,  25837,2,20170819,1954, 29.0302, 165.0007, 5823,    504.9,  10.3156,  34.1962,2,  34.1922,2,    188.5,2,    23.89,2,    17.59,2,     0.00,2,     1.24,2,    2.923,2,    1.695,2,   2130.3,6,   2274.3,6,   7.7392,2,    25.00,     2158
  49UP20170815,RF1708,  6077,  1,     27,  25836,2,20170819,1954, 29.0302, 165.0007, 5823,    605.6,   7.5304,  34.0475,2,  34.0469,2,    152.4,6,    44.72,6,    26.07,6,     0.00,6,     1.86,6,    2.670,2,    1.475,2,   2190.8,2,   2282.6,2,   7.6012,2,    25.00,     2155
  49UP20170815,RF1708,  6077,  1,     26,  25835,2,20170819,1954, 29.0302, 165.0007, 5823,    706.9,   5.6080,  34.0392,2,  34.0410,2,    106.8,2,    70.23,2,    33.64,2,     0.00,2,     2.42,2,    2.003,2,    1.051,2,   2252.8,2,   2304.4,2,   7.4772,2,    25.00,     2153
  49UP20170815,RF1708,  6077,  1,     25,  25834,2,20170819,1954, 29.0302, 165.0007, 5823,    807.8,   4.5250,  34.1605,2,  34.1611,2,     58.9,2,    95.97,2,    39.43,2,     0.00,2,     2.82,2,    0.985,2,    0.485,2,   2304.5,2,   2331.0,2,   7.3881,2,    25.00,     2150
  49UP20170815,RF1708,  6077,  1,     24,  25833,2,20170819,1954, 29.0302, 165.0007, 5823,    908.3,   4.0500,  34.2534,2,  34.2520,2,     40.2,2,   109.87,2,    41.58,2,     0.00,2,     2.98,2,    0.447,2,    0.222,2,   2334.2,2,   2346.9,2,   7.3599,2,    25.00,     2147
  49UP20170815,RF1708,  6077,  1,     23,  25832,2,20170819,1954, 29.0302, 165.0007, 5823,   1009.1,   3.6276,  34.3155,2,  34.3150,2,     34.0,2,   122.15,2,    42.64,2,     0.00,2,     3.05,2,    0.274,6,    0.130,6,   2349.2,2,   2363.1,2,   7.3517,2,    25.00,     2145
  49UP20170815,RF1708,  6077,  1,     22,  25831,2,20170819,1954, 29.0302, 165.0007, 5823,   1211.9,   2.9878,  34.4284,2,  34.4270,6,     32.6,2,   140.55,2,    43.34,2,     0.00,2,     3.09,2,    0.076,2,    0.034,2,   2372.7,2,   2385.5,2,   7.3564,2,    25.00,     2140
  49UP20170815,RF1708,  6077,  1,     21,  25830,2,20170819,1954, 29.0302, 165.0007, 5823,   1413.2,   2.5615,  34.4976,2,  34.4959,2,     40.4,2,   151.69,2,    43.16,2,     0.00,2,     3.06,2,    0.046,2,    0.016,2,   2385.5,2,   2399.5,2,   7.3719,2,    25.00,     2136
  49UP20170815,RF1708,  6077,  1,     20,  25829,2,20170819,1954, 29.0302, 165.0007, 5823,   1617.2,   2.2620,  34.5461,2,  34.5454,2,     52.1,2,   158.55,2,    42.57,2,     0.00,2,     3.00,2,    0.005,2,    0.003,2,   2378.2,2,   2407.6,2,   7.3965,6,    25.00,     2132
  49UP20170815,RF1708,  6077,  1,     19,  25828,2,20170819,1954, 29.0302, 165.0007, 5823,   1820.4,   2.0530,  34.5795,2,  34.5789,2,     65.5,2,   161.64,2,    41.78,2,     0.00,2,     2.94,2,    0.000,2,    0.000,2,   2376.1,6,   2414.5,6,   7.4232,2,    25.00,     2127
  49UP20170815,RF1708,  6077,  1,     18,  25827,2,20170819,1954, 29.0302, 165.0007, 5823,   2023.7,   1.8865,  34.6086,2,  34.6052,4,     82.2,6,   161.31,6,    40.71,6,     0.00,6,     2.86,6,    0.006,2,    0.002,2,   2362.9,2,   2419.1,2,   7.4573,2,    25.00,     2123
  49UP20170815,RF1708,  6077,  1,     17,  25826,3,20170819,1954, 29.0302, 165.0007, 5823,   2226.8,   1.7734,  34.6274,2,  34.6204,4,     96.9,2,   159.26,2,    39.66,2,     0.00,2,     2.78,2,    0.004,2,    0.002,2,   2362.2,2,   2419.2,2,   7.4886,2,    25.00,     2118
  49UP20170815,RF1708,  6077,  1,     16,  25825,2,20170819,1954, 29.0302, 165.0007, 5823,   2430.4,   1.6817,  34.6413,2,  34.6396,2,    107.3,2,   158.98,2,    39.11,2,     0.00,2,     2.73,2,    0.002,2,    0.000,2,   2356.4,2,   2421.4,2,   7.5059,2,    25.00,     2114
  49UP20170815,RF1708,  6077,  1,     15,  25824,2,20170819,1954, 29.0302, 165.0007, 5823,   2633.5,   1.6277,  34.6535,2,  34.6506,4,    120.0,2,   154.18,2,    38.25,2,     0.00,2,     2.67,2,    0.000,2,    0.000,2,   2346.8,2,   2421.1,2,   7.5291,2,    25.00,     2109
  49UP20170815,RF1708,  6077,  1,     14,  25823,2,20170819,1954, 29.0302, 165.0007, 5823,   2838.2,   1.5753,  34.6612,2,  34.6597,2,    127.4,2,   153.52,2,    37.79,2,     0.00,2,     2.64,2,    0.000,2,    0.000,2,   2342.2,2,   2422.4,2,   7.5428,2,    25.00,     2105
  49UP20170815,RF1708,  6077,  1,     13,  25822,2,20170819,1954, 29.0302, 165.0007, 5823,   3042.9,   1.5419,  34.6666,2,  34.6646,4,    132.1,2,   152.94,2,    37.51,2,     0.00,2,     2.61,2, -999.000,9, -999.000,9,   2338.6,2,   2421.7,2,   7.5524,2,    25.00,     2100
  49UP20170815,RF1708,  6077,  1,     12,  25821,2,20170819,1954, 29.0302, 165.0007, 5823,   3298.7,   1.5121,  34.6725,2,  34.6711,2,    138.3,2,   151.57,2,    37.09,2,     0.00,2,     2.58,2, -999.000,9, -999.000,9,   2331.7,2,   2422.3,2,   7.5588,2,    25.00,     2055
  49UP20170815,RF1708,  6077,  1,     11,  25820,2,20170819,1954, 29.0302, 165.0007, 5823,   3555.1,   1.4882,  34.6773,2,  34.6753,4,    143.1,2,   150.22,2,    36.72,2,     0.00,2,     2.55,2, -999.000,9, -999.000,9,   2329.9,2,   2421.9,2,   7.5692,2,    25.00,     2049
  49UP20170815,RF1708,  6077,  1,     10,  25819,2,20170819,1954, 29.0302, 165.0007, 5823,   3811.6,   1.4731,  34.6812,2,  34.6793,4,    148.4,2,   148.59,2,    36.35,2,     0.00,2,     2.52,2,    0.000,2,    0.005,2,   2325.5,2,   2420.9,2,   7.5795,2,    25.00,     2043
  49UP20170815,RF1708,  6077,  1,      9,  25818,2,20170819,1954, 29.0302, 165.0007, 5823,   4067.1,   1.4620,  34.6848,2,  34.6833,2,    152.7,6,   147.02,6,    36.07,6,     0.00,6,     2.50,6, -999.000,9, -999.000,9,   2328.7,2,   2419.4,2,   7.5849,2,    25.00,     2037
  49UP20170815,RF1708,  6077,  1,      8,  25817,2,20170819,1954, 29.0302, 165.0007, 5823,   4323.2,   1.4614,  34.6875,2,  34.6850,4,    157.1,2,   145.08,2,    35.74,2,     0.00,2,     2.47,2, -999.000,9, -999.000,9,   2321.0,2,   2417.4,2,   7.5909,2,    25.00,     2031
  49UP20170815,RF1708,  6077,  1,      7,  25816,2,20170819,1954, 29.0302, 165.0007, 5823,   4579.1,   1.4648,  34.6900,2,  34.6884,2,    160.8,2,   143.40,2,    35.49,2,     0.00,2,     2.45,2, -999.000,9, -999.000,9,   2317.4,2,   2416.2,2,   7.5955,2,    25.00,     2025
  49UP20170815,RF1708,  6077,  1,      6,  25815,2,20170819,1954, 29.0302, 165.0007, 5823,   4835.5,   1.4724,  34.6920,2,  34.6908,2,    164.9,2,   140.69,2,    35.18,2,     0.00,2,     2.43,2,    0.001,2,    0.003,2,   2311.8,2,   2413.7,2,   7.6000,2,    25.00,     2019
  49UP20170815,RF1708,  6077,  1,      5,  25814,2,20170819,1954, 29.0302, 165.0007, 5823,   5092.8,   1.4876,  34.6935,2,  34.6922,2,    167.4,2,   138.43,2,    34.97,2,     0.00,2,     2.42,2, -999.000,9, -999.000,9,   2309.9,2,   2411.4,2,   7.6041,2,    25.00,     2014
  49UP20170815,RF1708,  6077,  1,      4,  25813,2,20170819,1954, 29.0302, 165.0007, 5823,   5351.8,   1.5064,  34.6948,2,  34.6924,4,    169.8,2,   136.87,2,    34.80,2,     0.00,2,     2.40,2, -999.000,9, -999.000,9,   2313.9,2,   2409.6,2,   7.6033,6,    25.00,     2008
  49UP20170815,RF1708,  6077,  1,      3,  25812,2,20170819,1954, 29.0302, 165.0007, 5823,   5610.0,   1.5277,  34.6956,2,  34.6946,2,    171.1,2,   135.91,2,    34.68,2,     0.00,2,     2.40,2, -999.000,9, -999.000,9,   2305.9,2,   2409.0,6,   7.6052,2,    25.00,     2002
  49UP20170815,RF1708,  6077,  1,      2,  25811,2,20170819,1954, 29.0302, 165.0007, 5823,   5868.6,   1.5429,  34.6967,2,  34.6960,6,    173.6,2,   134.41,2,    34.50,2,     0.00,2,     2.38,2, -999.000,9, -999.000,9,   2302.7,2,   2406.5,2,   7.6092,2,    25.00,     1956
  49UP20170815,RF1708,  6077,  1,      1,  25810,2,20170819,1954, 29.0302, 165.0007, 5823,   5972.7,   1.5346,  34.6980,2,  34.6959,4,    176.0,2,   132.60,2,    34.31,2,     0.00,2,     2.37,2,    0.001,2,    0.000,2,   2297.2,2,   2404.0,2,   7.6121,2,    25.00,     1954
  49UP20170815,RF1708,  6079,  1,     99,     99,2,20170917,0436, 24.9935, 165.0007, 5899,      0.0,  29.6504,  34.9680,2,-999.0000,9,    195.9,2,     1.11,2,     0.11,2,     0.00,2,     0.06,2, -999.000,9, -999.000,9,   -999.0,9,   -999.0,9,-999.0000,9,  -999.00,      525
  49UP20170815,RF1708,  6079,  1,     36,  25845,2,20170917,0436, 24.9935, 165.0007, 5899,     11.1,  29.6269,  34.9649,2,  34.9627,2,    196.4,2,     1.11,2,     0.03,2,     0.00,2,     0.03,2, -999.000,9, -999.000,9,   -999.0,9,   -999.0,9,-999.0000,9,  -999.00,      537
  49UP20170815,RF1708,  6079,  1,     35,  25844,2,20170917,0436, 24.9935, 165.0007, 5899,     25.6,  29.4422,  34.9578,2,  34.9572,2,    196.9,2,     1.11,2,     0.01,2,     0.00,2,     0.02,2, -999.000,9, -999.000,9,   -999.0,9,   -999.0,9,-999.0000,9,  -999.00,      536
  49UP20170815,RF1708,  6079,  1,     34,  25843,2,20170917,0436, 24.9935, 165.0007, 5899,     50.6,  26.4230,  35.0684,2,  35.0747,2,    221.2,2,     1.33,2,     0.01,2,     0.00,2,     0.03,2, -999.000,9, -999.000,9,   -999.0,9,   -999.0,9,-999.0000,9,  -999.00,      532
  49UP20170815,RF1708,  6079,  1,     30,  25839,2,20170917,0436, 24.9935, 165.0007, 5899,     76.0,  22.8524,  35.1626,2,  35.1687,2,    216.4,2,     1.55,2,     0.00,2,     0.00,2,     0.04,2, -999.000,9, -999.000,9,   -999.0,9,   -999.0,9,-999.0000,9,  -999.00,      531
  49UP20170815,RF1708,  6079,  1,     29,  25838,2,20170917,0436, 24.9935, 165.0007, 5899,    101.7,  20.8473,  35.0862,2,  35.0679,4,    213.7,2,     1.89,2,     0.02,2,     0.02,2,     0.06,2, -999.000,9, -999.000,9,   -999.0,9,   -999.0,9,-999.0000,9,  -999.00,      529
  49UP20170815,RF1708,  6079,  1,     28,  25837,2,20170917,0436, 24.9935, 165.0007, 5899,    125.7,  19.3483,  34.9547,2,  34.9604,2,    215.9,2,     2.20,2,     0.39,2,     0.08,2,     0.09,2, -999.000,9, -999.000,9,   -999.0,9,   -999.0,9,-999.0000,9,  -999.00,      528
  49UP20170815,RF1708,  6079,  1,     27,  25836,2,20170917,0436, 24.9935, 165.0007, 5899,    152.5,  18.1568,  34.8478,2,  34.8404,2,    214.7,2,     2.87,2,     2.22,2,     0.02,2,     0.19,2, -999.000,9, -999.000,9,   -999.0,9,   -999.0,9,-999.0000,9,  -999.00,      526
  49UP20170815,RF1708,  6079,  1,     26,  25835,2,20170917,0436, 24.9935, 165.0007, 5899,    201.7,  17.0740,  34.7664,2,  34.7652,2,    215.4,2,     3.79,2,     3.95,2,     0.01,2,     0.29,2, -999.000,9, -999.000,9,   -999.0,9,   -999.0,9,-999.0000,9,  -999.00,      525
  49UP20170815,RF1708,  6079,  1,     25,  25834,2,20170917,0436, 24.9935, 165.0007, 5899,    253.5,  16.4577,  34.7166,2,  34.7175,2,    216.5,6,     4.73,6,     4.82,6,     0.01,6,     0.34,6, -999.000,9, -999.000,9,   -999.0,9,   -999.0,9,-999.0000,9,  -999.00,      523
  49UP20170815,RF1708,  6079,  1,     21,  25830,2,20170917,0436, 24.9935, 165.0007, 5899,    305.1,  15.4633,  34.6021,2,  34.6053,2,    204.7,2,     6.87,2,     7.17,2,     0.01,4,     0.50,2, -999.000,9, -999.000,9,   -999.0,9,   -999.0,9,-999.0000,9,  -999.00,      521
  49UP20170815,RF1708,  6079,  1,     20,  25829,2,20170917,0436, 24.9935, 165.0007, 5899,    405.3,  12.9885,  34.3846,2,  34.3835,2,    200.8,2,    12.64,2,    11.52,2,     0.00,4,     0.81,2, -999.000,9, -999.000,9,   -999.0,9,   -999.0,9,-999.0000,9,  -999.00,      519
  49UP20170815,RF1708,  6079,  1,     19,  25828,2,20170917,0436, 24.9935, 165.0007, 5899,    405.4,  12.9715,  34.3823,2,  34.3835,2,    200.7,2,    12.66,2,    11.52,2,     0.00,2,     0.82,2, -999.000,9, -999.000,9,   -999.0,9,   -999.0,9,-999.0000,9,  -999.00,      519
  49UP20170815,RF1708,  6079,  1,     18,  25827,4,20170917,0436, 24.9935, 165.0007, 5899,    505.6,  10.2070,  34.1838,2,-999.0000,9,   -999.0,9,  -999.00,9,  -999.00,9,  -999.00,9,  -999.00,9, -999.000,9, -999.000,9,   -999.0,9,   -999.0,9,-999.0000,9,  -999.00,      516
  49UP20170815,RF1708,  6079,  1,     17,  25826,2,20170917,0436, 24.9935, 165.0007, 5899,    609.4,   7.5440,  34.0852,2,  34.0860,6,    129.5,2,    46.44,2,    28.04,2,     0.00,2,     2.00,2, -999.000,9, -999.000,9,   -999.0,9,   -999.0,9,-999.0000,9,  -999.00,      513
  49UP20170815,RF1708,  6079,  1,     16,  25825,3,20170917,0436, 24.9935, 165.0007, 5899,    706.7,   5.7873,  34.0843,2,  34.0896,4,     90.5,2,    70.37,2,    34.69,2,     0.00,2,     2.49,2, -999.000,9, -999.000,9,   -999.0,9,   -999.0,9,-999.0000,9,  -999.00,      511
  49UP20170815,RF1708,  6079,  1,     12,  25821,4,20170917,0436, 24.9935, 165.0007, 5899,    809.6,   4.5496,  34.1645,2,  34.2073,4,     70.6,4,    86.24,4,    36.45,4,     0.00,4,     2.60,4, -999.000,9, -999.000,9,   -999.0,9,   -999.0,9,-999.0000,9,  -999.00,      506
  49UP20170815,RF1708,  6079,  1,     11,  25820,2,20170917,0436, 24.9935, 165.0007, 5899,    907.7,   4.0020,  34.2536,2,  34.2546,2,     38.8,2,   110.87,2,    41.74,2,     0.00,2,     2.99,2, -999.000,9, -999.000,9,   -999.0,9,   -999.0,9,-999.0000,9,  -999.00,      503
  49UP20170815,RF1708,  6079,  1,     10,  25819,2,20170917,0436, 24.9935, 165.0007, 5899,   1009.3,   3.5635,  34.3340,2,  34.3363,6,     31.3,2,   123.79,2,    42.85,2,     0.00,2,     3.06,2, -999.000,9, -999.000,9,   -999.0,9,   -999.0,9,-999.0000,9,  -999.00,      500
  49UP20170815,RF1708,  6079,  1,      9,  25818,2,20170917,0436, 24.9935, 165.0007, 5899,   1214.0,   3.0636,  34.4575,2,  34.4584,2,     41.2,2,   135.86,2,    42.71,2,     0.00,2,     3.05,2, -999.000,9, -999.000,9,   -999.0,9,   -999.0,9,-999.0000,9,  -999.00,      456
  49UP20170815,RF1708,  6079,  1,      8,  25817,2,20170917,0436, 24.9935, 165.0007, 5899,   1415.2,   2.6981,  34.5357,2,  34.5372,6,     69.3,2,   139.22,2,    40.97,2,     0.00,2,     2.90,2, -999.000,9, -999.000,9,   -999.0,9,   -999.0,9,-999.0000,9,  -999.00,      450
  49UP20170815,RF1708,  6079,  1,      7,  25816,2,20170917,0436, 24.9935, 165.0007, 5899,   1617.9,   2.3642,  34.5727,2,  34.5727,2,     83.4,6,   143.70,6,    40.17,6,     0.00,6,     2.84,6, -999.000,9, -999.000,9,   -999.0,9,   -999.0,9,-999.0000,9,  -999.00,      445
  49UP20170815,RF1708,  6079,  1,      3,  25812,3,20170917,0436, 24.9935, 165.0007, 5899,   1820.1,   2.1504,  34.5984,2,  34.5983,6,     92.5,2,   146.63,2,    39.63,2,     0.00,2,     2.79,2, -999.000,9, -999.000,9,   -999.0,9,   -999.0,9,-999.0000,9,  -999.00,      441
  49UP20170815,RF1708,  6079,  1,      2,  25811,2,20170917,0436, 24.9935, 165.0007, 5899,   2023.1,   1.9745,  34.6200,2,  34.6213,2,    102.9,2,   149.10,2,    39.17,2,     0.00,2,     2.75,2, -999.000,9, -999.000,9,   -999.0,9,   -999.0,9,-999.0000,9,  -999.00,      436
  49UP20170815,RF1708,  6079,  1,      1,  25810,2,20170917,0436, 24.9935, 165.0007, 5899,   2023.1,   1.9737,  34.6200,2,  34.6211,2,    103.3,2,   149.12,2,    39.15,2,     0.00,2,     2.76,2, -999.000,9, -999.000,9,   -999.0,9,   -999.0,9,-999.0000,9,  -999.00,      436