BOTTLE,20200309PRINUNIVRMK
EXPOCODE,SECT_ID,STNNBR,CASTNO,SAMPNO,BTLNBR,BTLNBR_FLAG_W,DATE,TIME,LATITUDE,LONGITUDE,DEPTH,CTDPRS,CTDTMP,CTDSAL,CTDSAL_FLAG_W,SALNTY,SALNTY_FLAG_W,OXYGEN,OXYGEN_FLAG_W,SILCAT,SILCAT_FLAG_W,NITRAT,NITRAT_FLAG_W,NITRIT,NITRIT_FLAG_W,PHSPHT,PHSPHT_FLAG_W,CFC-11,CFC-11_FLAG_W,CFC-12,CFC-12_FLAG_W,TCARBN,TCARBN_FLAG_W,ALKALI,ALKALI_FLAG_W,PH_TOT,PH_TOT_FLAG_W,PH_TMP,BTL_TIME
,,,,,,,,,,,METERS,DBAR,ITS-90,PSS-78,,PSS-78,,UMOL/KG,,UMOL/KG,,UMOL/KG,,UMOL/KG,,UMOL/KG,,PMOL/KG,,PMOL/KG,,UMOL/KG,,UMOL/KG,,,,DEG C,
  49UP20170815,RF1708,  6082,  1,     99,     99,2,20170919,1556, 14.9907, 164.9873, 5203,      0.0,  29.4815,  34.5678,2,  34.5889,2,    195.1,2,     1.07,2,     0.02,2,     0.00,2,     0.14,2, -999.000,9, -999.000,9,   1945.4,2,   2271.5,2,   8.1049,2,    25.00,     1740
  49UP20170815,RF1708,  6082,  1,     36,  25845,2,20170919,1556, 14.9907, 164.9873, 5203,     11.5,  29.4910,  34.5714,2,  34.5696,2,    194.9,2,     1.03,2,     0.00,2,     0.00,2,     0.10,2, -999.000,9, -999.000,9,   1943.4,2,   2272.2,2,   8.1083,2,    25.00,     1806
  49UP20170815,RF1708,  6082,  1,     35,  25844,2,20170919,1556, 14.9907, 164.9873, 5203,     25.8,  29.4949,  34.5725,2,  34.5713,2,    194.8,2,     0.96,2,     0.00,2,     0.00,2,     0.11,2, -999.000,9, -999.000,9,   1942.2,2,   2273.5,2,   8.1069,2,    25.00,     1804
  49UP20170815,RF1708,  6082,  1,     34,  25843,2,20170919,1556, 14.9907, 164.9873, 5203,     50.3,  29.4740,  34.5720,2,  34.5812,4,    195.4,2,     1.04,2,     0.01,2,     0.00,2,     0.10,2, -999.000,9, -999.000,9,   1941.5,2,   2271.5,2,   8.1094,2,    25.00,     1801
  49UP20170815,RF1708,  6082,  1,     33,  25842,3,20170919,1556, 14.9907, 164.9873, 5203,     77.2,  27.9666,  34.7264,2,  34.7056,4,    209.1,2,     1.04,2,     0.00,2,     0.00,2,     0.06,2, -999.000,9, -999.000,9,   1957.2,2,   2281.4,2,   8.1090,2,    25.00,     1759
  49UP20170815,RF1708,  6082,  1,     32,  25841,2,20170919,1556, 14.9907, 164.9873, 5203,    101.3,  26.8849,  34.9342,2,  34.9223,4,    207.6,2,     1.06,2,     0.00,2,     0.00,2,     0.06,2, -999.000,9, -999.000,9,   1967.5,2,   2296.6,2,   8.0946,2,    25.00,     1758
  49UP20170815,RF1708,  6082,  1,     31,  25840,2,20170919,1556, 14.9907, 164.9873, 5203,    127.2,  25.9167,  35.0823,2,  35.0715,4,    202.8,2,     1.09,2,     0.00,2,     0.00,2,     0.06,2, -999.000,9, -999.000,9,   1995.5,2,   2307.0,2,   8.0801,2,    25.00,     1757
  49UP20170815,RF1708,  6082,  1,     30,  25839,2,20170919,1556, 14.9907, 164.9873, 5203,    151.9,  24.0033,  35.1297,2,  35.1376,4,    194.0,6,     1.48,6,     0.03,6,     0.16,6,     0.13,6, -999.000,9, -999.000,9,   2020.3,6,   2312.9,6,   8.0306,2,    25.00,     1755
  49UP20170815,RF1708,  6082,  1,     29,  25838,2,20170919,1556, 14.9907, 164.9873, 5203,    201.8,  19.2983,  34.9071,2,  34.9011,2,    177.0,2,     3.71,2,     4.29,2,     0.01,2,     0.42,2, -999.000,9, -999.000,9,   2072.5,2,   2298.1,2,   7.9126,6,    25.00,     1754
  49UP20170815,RF1708,  6082,  1,     28,  25837,2,20170919,1556, 14.9907, 164.9873, 5203,    252.5,  14.2765,  34.4582,2,  34.4518,2,    171.0,2,    10.32,2,    11.31,2,     0.00,2,     0.87,2, -999.000,9, -999.000,9,   2098.7,2,   2270.3,2,   7.8046,2,    25.00,     1752
  49UP20170815,RF1708,  6082,  1,     27,  25836,3,20170919,1556, 14.9907, 164.9873, 5203,    302.0,  11.7380,  34.2786,2,  34.2817,2,    158.5,2,    18.10,2,    16.96,2,     0.00,2,     1.26,2, -999.000,9, -999.000,9,   2128.3,2,   2267.9,2,   7.7192,2,    25.00,     1750
  49UP20170815,RF1708,  6082,  1,     26,  25835,3,20170919,1556, 14.9907, 164.9873, 5203,    352.6,   9.8557,  34.2441,2,  34.2513,4,    117.6,2,    30.48,2,    24.54,2,     0.00,2,     1.82,2, -999.000,9, -999.000,9,   2181.4,2,   2275.5,2,   7.6002,2,    25.00,     1748
  49UP20170815,RF1708,  6082,  1,     25,  25834,2,20170919,1556, 14.9907, 164.9873, 5203,    401.4,   9.0764,  34.3678,2,  34.3703,2,     65.7,2,    38.71,2,    30.88,2,     0.00,2,     2.29,2, -999.000,9, -999.000,9,   2240.9,2,   2289.6,2,   7.4971,2,    25.00,     1747
  49UP20170815,RF1708,  6082,  1,     24,  25833,2,20170919,1556, 14.9907, 164.9873, 5203,    453.5,   8.5098,  34.4547,2,  34.4531,2,     46.9,2,    43.60,2,    34.09,2,     0.00,2,     2.49,2, -999.000,9, -999.000,9,   2250.7,2,   2299.6,2,   7.4627,2,    25.00,     1745
  49UP20170815,RF1708,  6082,  1,     23,  25832,2,20170919,1556, 14.9907, 164.9873, 5203,    503.7,   7.8346,  34.4867,2,  34.4871,2,     47.6,2,    49.08,2,    35.75,2,     0.00,2,     2.58,2, -999.000,9, -999.000,9,   2261.2,2,   2307.2,2,   7.4626,2,    25.00,     1743
  49UP20170815,RF1708,  6082,  1,     22,  25831,2,20170919,1556, 14.9907, 164.9873, 5203,    605.5,   6.8844,  34.4917,2,  34.4924,2,     55.7,2,    58.32,2,    37.09,2,     0.00,2,     2.67,2, -999.000,9, -999.000,9,   2269.7,2,   2321.0,2,   7.4622,2,    25.00,     1740
  49UP20170815,RF1708,  6082,  1,     21,  25830,2,20170919,1556, 14.9907, 164.9873, 5203,    706.0,   6.1904,  34.4996,2,  34.4992,2,     59.1,6,    67.61,6,    38.22,6,     0.00,6,     2.74,6, -999.000,9, -999.000,9,   2281.7,2,   2331.2,2,   7.4614,2,    25.00,     1738
  49UP20170815,RF1708,  6082,  1,     20,  25829,2,20170919,1556, 14.9907, 164.9873, 5203,    806.8,   5.4993,  34.4933,2,  34.4942,2,     63.9,2,    78.48,2,    38.74,2,     0.00,2,     2.79,2, -999.000,9, -999.000,9,   2294.4,2,   2341.5,2,   7.4640,2,    25.00,     1735
  49UP20170815,RF1708,  6082,  1,     19,  25828,2,20170919,1556, 14.9907, 164.9873, 5203,    907.3,   5.0081,  34.5200,2,  34.5209,2,     60.3,2,    86.30,2,    39.99,2,     0.00,2,     2.87,2, -999.000,9, -999.000,9,   2307.2,2,   2351.9,2,   7.4518,2,    25.00,     1732
  49UP20170815,RF1708,  6082,  1,     18,  25827,2,20170919,1556, 14.9907, 164.9873, 5203,   1009.8,   4.6080,  34.5327,2,  34.5324,2,     61.3,2,    93.66,2,    40.55,2,     0.00,2,     2.90,2, -999.000,9, -999.000,9,   2314.6,6,   2360.8,6,   7.4526,2,    25.00,     1729
  49UP20170815,RF1708,  6082,  1,     17,  25826,2,20170919,1556, 14.9907, 164.9873, 5203,   1211.6,   3.8287,  34.5539,2,  34.5547,2,     70.4,2,   109.44,2,    40.53,2,     0.00,2,     2.89,2, -999.000,9, -999.000,9,   2325.0,2,   2376.8,2,   7.4630,6,    25.00,     1725
  49UP20170815,RF1708,  6082,  1,     16,  25825,2,20170919,1556, 14.9907, 164.9873, 5203,   1413.6,   3.2582,  34.5743,2,  34.5752,2,     76.2,2,   121.77,2,    40.60,2,     0.00,2,     2.88,2, -999.000,9, -999.000,9,   2337.4,2,   2389.5,2,   7.4686,2,    25.00,     1720
  49UP20170815,RF1708,  6082,  1,     15,  25824,2,20170919,1556, 14.9907, 164.9873, 5203,   1615.7,   2.7501,  34.5964,2,  34.5969,2,     86.6,2,   131.56,2,    40.11,2,     0.00,2,     2.83,2, -999.000,9, -999.000,9,   2341.2,2,   2398.8,2,   7.4876,2,    25.00,     1715
  49UP20170815,RF1708,  6082,  1,     14,  25823,2,20170919,1556, 14.9907, 164.9873, 5203,   1819.2,   2.4516,  34.6110,2,  34.6119,2,     94.9,2,   138.16,2,    39.70,2,     0.00,2,     2.79,2, -999.000,9, -999.000,9,   2345.2,2,   2406.4,2,   7.4967,2,    25.00,     1711
  49UP20170815,RF1708,  6082,  1,     13,  25822,2,20170919,1556, 14.9907, 164.9873, 5203,   2023.2,   2.2145,  34.6247,2,  34.6259,2,    102.2,2,   142.28,2,    39.25,2,     0.00,2,     2.75,2, -999.000,9, -999.000,9,   2345.2,2,   2411.3,2,   7.5114,2,    25.00,     1706
  49UP20170815,RF1708,  6082,  1,     12,  25821,2,20170919,1556, 14.9907, 164.9873, 5203,   2276.1,   1.9947,  34.6404,2,  34.6410,2,    111.0,6,   146.16,6,    38.74,6,     0.00,6,     2.71,6, -999.000,9, -999.000,9,   2340.3,2,   2416.9,2,   7.5236,2,    25.00,     1701
  49UP20170815,RF1708,  6082,  1,     11,  25820,2,20170919,1556, 14.9907, 164.9873, 5203,   2530.2,   1.8261,  34.6519,2,  34.6525,2,    118.3,2,   148.79,2,    38.30,2,     0.00,2,     2.67,2, -999.000,9, -999.000,9,   2342.4,2,   2419.6,2,   7.5355,2,    25.00,     1655
  49UP20170815,RF1708,  6082,  1,     10,  25819,2,20170919,1556, 14.9907, 164.9873, 5203,   2784.8,   1.7254,  34.6610,2,  34.6616,2,    125.0,2,   149.94,2,    37.93,2,     0.00,2,     2.64,2, -999.000,9, -999.000,9,   2336.9,3,   2423.0,2,   7.5469,2,    25.00,     1650
  49UP20170815,RF1708,  6082,  1,      9,  25818,2,20170919,1556, 14.9907, 164.9873, 5203,   3040.4,   1.6450,  34.6671,2,  34.6671,2,    130.1,2,   150.51,2,    37.56,2,     0.00,2,     2.61,2, -999.000,9, -999.000,9,   2335.6,3,   2421.6,2,   7.5570,2,    25.00,     1644
  49UP20170815,RF1708,  6082,  1,      8,  25817,2,20170919,1556, 14.9907, 164.9873, 5203,   3295.1,   1.5845,  34.6729,2,  34.6736,2,    136.4,2,   150.84,2,    37.23,2,     0.00,2,     2.58,2, -999.000,9, -999.000,9,   2338.2,2,   2422.8,2,   7.5659,2,    25.00,     1639
  49UP20170815,RF1708,  6082,  1,      7,  25816,2,20170919,1556, 14.9907, 164.9873, 5203,   3550.0,   1.5385,  34.6776,2,  34.6778,2,    141.4,2,   149.59,2,    36.84,2,     0.00,2,     2.54,2, -999.000,9, -999.000,9,   2342.9,2,   2422.9,2,   7.5702,2,    25.00,     1633
  49UP20170815,RF1708,  6082,  1,      6,  25815,2,20170919,1556, 14.9907, 164.9873, 5203,   3806.1,   1.5042,  34.6809,2,  34.6815,2,    147.8,2,   147.61,2,    36.45,2,     0.00,2,     2.51,2, -999.000,9, -999.000,9,   2326.8,6,   2420.4,6,   7.5812,2,    25.00,     1628
  49UP20170815,RF1708,  6082,  1,      5,  25814,2,20170919,1556, 14.9907, 164.9873, 5203,   4063.4,   1.4804,  34.6848,2,  34.6853,2,    153.5,2,   145.32,2,    36.05,2,     0.00,2,     2.48,2, -999.000,9, -999.000,9,   2321.7,2,   2417.1,2,   7.5893,6,    25.00,     1622
  49UP20170815,RF1708,  6082,  1,      4,  25813,2,20170919,1556, 14.9907, 164.9873, 5203,   4576.1,   1.4280,  34.6926,2,  34.6935,2,    168.4,2,   136.68,2,    34.92,2,     0.00,2,     2.41,2, -999.000,9, -999.000,9,   2303.7,2,   2408.0,2,   7.6069,2,    25.00,     1612
  49UP20170815,RF1708,  6082,  1,      3,  25812,2,20170919,1556, 14.9907, 164.9873, 5203,   4833.4,   1.4094,  34.6957,2,  34.6955,2,    173.2,3,   133.61,6,    34.55,6,     0.00,6,     2.38,6, -999.000,9, -999.000,9,   2301.9,2,   2402.7,2,   7.6092,2,    25.00,     1606
  49UP20170815,RF1708,  6082,  1,      2,  25811,2,20170919,1556, 14.9907, 164.9873, 5203,   5088.9,   1.4051,  34.6977,2,  34.6983,6,    178.6,2,   131.26,2,    34.19,2,     0.00,2,     2.35,2, -999.000,9, -999.000,9,   2295.3,2,   2398.6,2,   7.6166,2,    25.00,     1601
  49UP20170815,RF1708,  6082,  1,      1,  25810,2,20170919,1556, 14.9907, 164.9873, 5203,   5310.0,   1.4100,  34.6990,2,  34.6985,6,    179.1,3,   130.27,2,    34.08,2,     0.00,2,     2.34,2, -999.000,9, -999.000,9,   2293.8,2,   2396.4,2,   7.6146,2,    25.00,     1556