BOTTLE,20200309PRINUNIVRMK
EXPOCODE,SECT_ID,STNNBR,CASTNO,SAMPNO,BTLNBR,BTLNBR_FLAG_W,DATE,TIME,LATITUDE,LONGITUDE,DEPTH,CTDPRS,CTDTMP,CTDSAL,CTDSAL_FLAG_W,SALNTY,SALNTY_FLAG_W,OXYGEN,OXYGEN_FLAG_W,SILCAT,SILCAT_FLAG_W,NITRAT,NITRAT_FLAG_W,NITRIT,NITRIT_FLAG_W,PHSPHT,PHSPHT_FLAG_W,CFC-11,CFC-11_FLAG_W,CFC-12,CFC-12_FLAG_W,TCARBN,TCARBN_FLAG_W,ALKALI,ALKALI_FLAG_W,PH_TOT,PH_TOT_FLAG_W,PH_TMP,BTL_TIME
,,,,,,,,,,,METERS,DBAR,ITS-90,PSS-78,,PSS-78,,UMOL/KG,,UMOL/KG,,UMOL/KG,,UMOL/KG,,UMOL/KG,,PMOL/KG,,PMOL/KG,,UMOL/KG,,UMOL/KG,,,,DEG C,
  49UP20170815,RF1708,  6081,  1,     99,     99,2,20170918,1158, 19.9858, 162.4877, 4805,      0.0,  29.8493,  34.7416,2,  34.7451,2,    193.5,2,     1.05,2,     0.00,2,     0.00,2,     0.07,2, -999.000,9, -999.000,9,   1946.5,2,   2285.8,2,   8.1200,2,    25.00,     1330
  49UP20170815,RF1708,  6081,  1,     36,  25845,2,20170918,1158, 19.9858, 162.4877, 4805,      9.7,  29.8469,  34.7405,2,  34.7391,2,    194.3,2,     1.08,2,     0.01,2,     0.00,2,     0.02,2, -999.000,9, -999.000,9,   1943.0,2,   2284.1,2,   8.1241,2,    25.00,     1403
  49UP20170815,RF1708,  6081,  1,     35,  25844,2,20170918,1158, 19.9858, 162.4877, 4805,     26.2,  29.8990,  34.7705,2,  34.7700,2,    194.3,2,     1.05,2,     0.01,2,     0.00,2,     0.03,2, -999.000,9, -999.000,9,   1948.1,2,   2287.3,2,   8.1205,2,    25.00,     1402
  49UP20170815,RF1708,  6081,  1,     34,  25843,2,20170918,1158, 19.9858, 162.4877, 4805,     49.8,  28.4323,  35.0165,2,  35.0340,4,    213.4,2,     1.07,2,     0.00,2,     0.00,2,     0.01,2, -999.000,9, -999.000,9,   1961.8,2,   2303.2,2,   8.1153,2,    25.00,     1358
  49UP20170815,RF1708,  6081,  1,     33,  25842,2,20170918,1158, 19.9858, 162.4877, 4805,     75.1,  26.5154,  35.1104,2,  35.1110,2,    211.6,2,     1.12,2,     0.00,2,     0.00,2,     0.02,2, -999.000,9, -999.000,9,   1973.5,2,   2308.3,2,   8.1023,2,    25.00,     1357
  49UP20170815,RF1708,  6081,  1,     32,  25841,2,20170918,1158, 19.9858, 162.4877, 4805,    100.6,  25.2433,  35.1864,2,  35.1853,2,    204.6,2,     1.18,2,     0.00,2,     0.00,2,     0.03,2, -999.000,9, -999.000,9,   2000.8,2,   2315.2,2,   8.0761,2,    25.00,     1355
  49UP20170815,RF1708,  6081,  1,     31,  25840,2,20170918,1158, 19.9858, 162.4877, 4805,    126.3,  24.2844,  35.2266,2,  35.2258,2,    205.0,2,     1.37,2,     0.03,2,     0.00,2,     0.04,2, -999.000,9, -999.000,9,   2005.1,6,   2316.7,6,   8.0647,2,    25.00,     1354
  49UP20170815,RF1708,  6081,  1,     30,  25839,2,20170918,1158, 19.9858, 162.4877, 4805,    151.3,  22.2899,  35.2168,2,  35.2163,2,    192.3,2,     1.76,2,     0.58,2,     0.10,2,     0.12,2, -999.000,9, -999.000,9,   2039.6,2,   2316.6,2,   8.0115,6,    25.00,     1352
  49UP20170815,RF1708,  6081,  1,     29,  25838,2,20170918,1158, 19.9858, 162.4877, 4805,    201.2,  19.0495,  34.9613,2,  34.9626,2,    194.2,6,     2.90,6,     2.81,6,     0.01,6,     0.24,6, -999.000,9, -999.000,9,   2048.1,2,   2297.7,2,   7.9562,2,    25.00,     1350
  49UP20170815,RF1708,  6081,  1,     28,  25837,2,20170918,1158, 19.9858, 162.4877, 4805,    252.2,  16.4755,  34.6999,2,  34.7006,2,    198.4,2,     5.11,2,     5.93,2,     0.00,2,     0.43,2, -999.000,9, -999.000,9,   2061.6,2,   2282.0,2,   7.9110,2,    25.00,     1348
  49UP20170815,RF1708,  6081,  1,     27,  25836,2,20170918,1158, 19.9858, 162.4877, 4805,    302.7,  14.9614,  34.5504,2,  34.5511,2,    201.7,2,     7.60,2,     8.00,2,     0.00,2,     0.55,2, -999.000,9, -999.000,9,   2068.3,2,   2275.0,2,   7.8829,2,    25.00,     1347
  49UP20170815,RF1708,  6081,  1,     26,  25835,2,20170918,1158, 19.9858, 162.4877, 4805,    353.3,  13.5095,  34.4149,2,  34.4159,2,    198.8,2,    10.65,2,    10.51,2,     0.00,2,     0.74,2, -999.000,9, -999.000,9,   2081.9,2,   2270.2,2,   7.8393,2,    25.00,     1345
  49UP20170815,RF1708,  6081,  1,     25,  25834,2,20170918,1158, 19.9858, 162.4877, 4805,    403.9,  12.0368,  34.2966,2,  34.2995,2,    191.1,2,    15.04,2,    13.73,2,     0.00,2,     0.97,2, -999.000,9, -999.000,9,   2102.8,2,   2266.4,2,   7.7876,2,    25.00,     1343
  49UP20170815,RF1708,  6081,  1,     24,  25833,2,20170918,1158, 19.9858, 162.4877, 4805,    455.8,  10.3505,  34.1992,2,  34.2009,2,    168.4,2,    23.42,2,    18.90,2,     0.00,2,     1.35,2, -999.000,9, -999.000,9,   2139.1,2,   2270.9,2,   7.7033,2,    25.00,     1341
  49UP20170815,RF1708,  6081,  1,     23,  25832,2,20170918,1158, 19.9858, 162.4877, 4805,    505.6,   8.8263,  34.1437,2,  34.1424,2,    143.9,2,    34.23,2,    23.95,2,     0.00,2,     1.71,2, -999.000,9, -999.000,9,   2177.0,2,   2275.1,2,   7.6256,2,    25.00,     1339
  49UP20170815,RF1708,  6081,  1,     22,  25831,2,20170918,1158, 19.9858, 162.4877, 4805,    606.1,   6.8503,  34.1510,2,  34.1525,2,     87.6,2,    57.55,2,    32.85,2,     0.00,2,     2.37,2, -999.000,9, -999.000,9,   2244.7,2,   2296.8,2,   7.4813,2,    25.00,     1336
  49UP20170815,RF1708,  6081,  1,     21,  25830,2,20170918,1158, 19.9858, 162.4877, 4805,    707.9,   5.5666,  34.2820,2,  34.2801,2,     55.7,2,    79.13,2,    38.22,2,     0.00,2,     2.76,2, -999.000,9, -999.000,9,   2291.7,2,   2325.6,2,   7.4198,2,    25.00,     1333
  49UP20170815,RF1708,  6081,  1,     20,  25829,2,20170918,1158, 19.9858, 162.4877, 4805,    808.1,   5.0891,  34.3742,2,  34.3748,2,     56.4,6,    88.03,6,    39.04,6,     0.00,6,     2.82,6, -999.000,9, -999.000,9,   2260.6,3,   2341.3,3,   7.4313,2,    25.00,     1330
  49UP20170815,RF1708,  6081,  1,     19,  25828,2,20170918,1158, 19.9858, 162.4877, 4805,    908.7,   4.5947,  34.4420,2,  34.4424,2,     62.3,2,    97.04,2,    39.35,2,     0.00,2,     2.83,2, -999.000,9, -999.000,9,   2314.1,2,   2355.5,2,   7.4422,2,    25.00,     1327
  49UP20170815,RF1708,  6081,  1,     18,  25827,3,20170918,1158, 19.9858, 162.4877, 4805,   1010.2,   4.2117,  34.4836,2,  34.4843,2,     68.7,2,   103.95,2,    39.40,2,     0.00,2,     2.82,2, -999.000,9, -999.000,9,   2320.5,2,   2366.8,2,   7.4538,6,    25.00,     1324
  49UP20170815,RF1708,  6081,  1,     17,  25826,2,20170918,1158, 19.9858, 162.4877, 4805,   1211.5,   3.5221,  34.5319,2,  34.5318,2,     77.5,2,   117.18,2,    39.50,2,     0.00,2,     2.82,2, -999.000,9, -999.000,9,   2325.7,2,   2381.5,2,   7.4699,2,    25.00,     1320
  49UP20170815,RF1708,  6081,  1,     16,  25825,2,20170918,1158, 19.9858, 162.4877, 4805,   1413.3,   2.9302,  34.5625,2,  34.5632,2,     83.2,2,   129.65,2,    39.75,2,     0.00,2,     2.82,2, -999.000,9, -999.000,9,   2344.1,2,   2392.2,2,   7.4740,2,    25.00,     1315
  49UP20170815,RF1708,  6081,  1,     15,  25824,2,20170918,1158, 19.9858, 162.4877, 4805,   1615.8,   2.5780,  34.5857,2,  34.5842,2,     89.8,2,   135.80,2,    39.53,2,     0.00,2,     2.80,2, -999.000,9, -999.000,9,   2347.3,2,   2400.0,2,   7.4859,2,    25.00,     1311
  49UP20170815,RF1708,  6081,  1,     14,  25823,2,20170918,1158, 19.9858, 162.4877, 4805,   1819.7,   2.3236,  34.6055,2,  34.6063,2,     96.5,2,   141.29,2,    39.46,2,     0.00,2,     2.78,2, -999.000,9, -999.000,9,   2348.9,2,   2407.6,2,   7.4954,2,    25.00,     1306
  49UP20170815,RF1708,  6081,  1,     13,  25822,2,20170918,1158, 19.9858, 162.4877, 4805,   2022.9,   2.0883,  34.6154,2,  34.6154,2,    103.3,2,   145.54,2,    39.06,2,     0.00,2,     2.74,2, -999.000,9, -999.000,9,   2351.7,2,   2410.4,2,   7.5036,2,    25.00,     1301
  49UP20170815,RF1708,  6081,  1,     12,  25821,2,20170918,1158, 19.9858, 162.4877, 4805,   2277.6,   1.8752,  34.6336,2,  34.6344,2,    112.9,2,   148.49,2,    38.69,2,     0.00,2,     2.70,2, -999.000,9, -999.000,9,   2345.9,2,   2414.7,2,   7.5195,2,    25.00,     1256
  49UP20170815,RF1708,  6081,  1,     11,  25820,2,20170918,1158, 19.9858, 162.4877, 4805,   2530.0,   1.7492,  34.6478,2,  34.6473,2,    120.3,2,   149.50,6,    38.15,6,     0.00,6,     2.65,6, -999.000,9, -999.000,9,   2348.3,2,   2415.3,2,   7.5359,2,    25.00,     1250
  49UP20170815,RF1708,  6081,  1,     10,  25819,2,20170918,1158, 19.9858, 162.4877, 4805,   2784.1,   1.6610,  34.6573,2,  34.6586,2,    127.2,2,   150.46,2,    37.76,2,     0.00,2,     2.62,2, -999.000,9, -999.000,9,   2344.0,2,   2418.0,2,   7.5487,2,    25.00,     1245
  49UP20170815,RF1708,  6081,  1,      9,  25818,2,20170918,1158, 19.9858, 162.4877, 4805,   3040.0,   1.5941,  34.6649,2,  34.6650,6,    133.6,2,   150.33,2,    37.40,2,     0.00,2,     2.59,2, -999.000,9, -999.000,9,   2336.9,2,   2418.9,2,   7.5554,2,    25.00,     1239
  49UP20170815,RF1708,  6081,  1,      8,  25817,2,20170918,1158, 19.9858, 162.4877, 4805,   3296.1,   1.5482,  34.6709,2,  34.6717,2,    139.3,2,   149.77,2,    37.00,2,     0.00,2,     2.56,2, -999.000,9, -999.000,9,   2333.9,2,   2417.3,2,   7.5630,2,    25.00,     1233
  49UP20170815,RF1708,  6081,  1,      7,  25816,2,20170918,1158, 19.9858, 162.4877, 4805,   3551.1,   1.5019,  34.6767,2,  34.6765,2,    145.6,2,   147.93,2,    36.61,2,     0.00,2,     2.52,2, -999.000,9, -999.000,9,   2330.1,2,   2415.5,6,   7.5725,2,    25.00,     1228
  49UP20170815,RF1708,  6081,  1,      6,  25815,2,20170918,1158, 19.9858, 162.4877, 4805,   3806.6,   1.4804,  34.6803,2,  34.6810,2,    150.1,2,   147.08,2,    36.31,2,     0.00,2,     2.51,2, -999.000,9, -999.000,9,   2323.6,2,   2415.3,2,   7.5823,6,    25.00,     1222
  49UP20170815,RF1708,  6081,  1,      5,  25814,2,20170918,1158, 19.9858, 162.4877, 4805,   4064.9,   1.4646,  34.6842,2,  34.6803,4,    153.5,4,   144.10,2,    35.86,2,     0.00,2,     2.48,2, -999.000,9, -999.000,9,   2318.8,2,   2413.5,2,   7.5851,2,    25.00,     1217
  49UP20170815,RF1708,  6081,  1,      4,  25813,2,20170918,1158, 19.9858, 162.4877, 4805,   4320.5,   1.4496,  34.6878,2,  34.6881,2,    159.9,2,   142.27,2,    35.48,2,     0.00,2,     2.45,2, -999.000,9, -999.000,9,   2317.1,2,   2411.1,2,   7.5944,2,    25.00,     1211
  49UP20170815,RF1708,  6081,  1,      3,  25812,2,20170918,1158, 19.9858, 162.4877, 4805,   4577.2,   1.4287,  34.6920,2,  34.6905,6,    165.8,3,   138.59,2,    35.05,2,     0.00,2,     2.42,2, -999.000,9, -999.000,9,   2308.8,2,   2407.7,2,   7.6011,2,    25.00,     1206
  49UP20170815,RF1708,  6081,  1,      2,  25811,2,20170918,1158, 19.9858, 162.4877, 4805,   4833.9,   1.4172,  34.6954,2,  34.6955,2,    173.9,6,   134.34,6,    34.48,6,     0.00,6,     2.39,6, -999.000,9, -999.000,9,   2304.2,2,   2400.7,2,   7.6098,2,    25.00,     1200
  49UP20170815,RF1708,  6081,  1,      1,  25810,2,20170918,1158, 19.9858, 162.4877, 4805,   4896.4,   1.4160,  34.6960,2,  34.6959,2,    174.0,2,   133.81,2,    34.48,2,     0.00,2,     2.38,2, -999.000,9, -999.000,9,   2306.4,2,   2401.5,2,   7.6106,2,    25.00,     1158