BOTTLE,20200309PRINUNIVRMK
EXPOCODE,SECT_ID,STNNBR,CASTNO,SAMPNO,BTLNBR,BTLNBR_FLAG_W,DATE,TIME,LATITUDE,LONGITUDE,DEPTH,CTDPRS,CTDTMP,CTDSAL,CTDSAL_FLAG_W,SALNTY,SALNTY_FLAG_W,OXYGEN,OXYGEN_FLAG_W,SILCAT,SILCAT_FLAG_W,NITRAT,NITRAT_FLAG_W,NITRIT,NITRIT_FLAG_W,PHSPHT,PHSPHT_FLAG_W,CFC-11,CFC-11_FLAG_W,CFC-12,CFC-12_FLAG_W,TCARBN,TCARBN_FLAG_W,ALKALI,ALKALI_FLAG_W,PH_TOT,PH_TOT_FLAG_W,PH_TMP,BTL_TIME
,,,,,,,,,,,METERS,DBAR,ITS-90,PSS-78,,PSS-78,,UMOL/KG,,UMOL/KG,,UMOL/KG,,UMOL/KG,,UMOL/KG,,PMOL/KG,,PMOL/KG,,UMOL/KG,,UMOL/KG,,,,DEG C,
  49UP20170815,RF1708,  6090,  1,     99,     99,2,20170922,2024,  6.0072, 165.0027, 4986,      0.0,  30.1914,  33.4920,2,-999.0000,9,    194.8,2,     1.17,2,     0.01,2,     0.00,2,     0.05,2, -999.000,9, -999.000,9,   -999.0,9,   -999.0,9,-999.0000,9,  -999.00,     2158
  49UP20170815,RF1708,  6090,  1,     36,  25845,2,20170922,2024,  6.0072, 165.0027, 4986,     10.0,  30.1578,  33.4907,2,  33.4906,2,    194.7,2,     1.15,2,     0.01,2,     0.00,2,     0.03,2, -999.000,9, -999.000,9,   -999.0,9,   -999.0,9,-999.0000,9,  -999.00,     2228
  49UP20170815,RF1708,  6090,  1,     35,  25844,2,20170922,2024,  6.0072, 165.0027, 4986,     25.4,  30.1605,  33.4905,2,  33.4901,2,    194.5,2,     1.17,2,     0.02,2,     0.00,2,     0.02,2, -999.000,9, -999.000,9,   -999.0,9,   -999.0,9,-999.0000,9,  -999.00,     2226
  49UP20170815,RF1708,  6090,  1,     34,  25843,2,20170922,2024,  6.0072, 165.0027, 4986,     50.2,  30.1633,  33.4913,2,  33.4910,2,    194.4,2,     1.13,2,     0.00,2,     0.00,2,     0.02,2, -999.000,9, -999.000,9,   -999.0,9,   -999.0,9,-999.0000,9,  -999.00,     2223
  49UP20170815,RF1708,  6090,  1,     33,  25842,2,20170922,2024,  6.0072, 165.0027, 4986,     75.4,  29.9224,  34.0004,2,  34.0088,4,    203.3,2,     1.39,2,     0.00,2,     0.00,2,     0.03,2, -999.000,9, -999.000,9,   -999.0,9,   -999.0,9,-999.0000,9,  -999.00,     2222
  49UP20170815,RF1708,  6090,  1,     32,  25841,2,20170922,2024,  6.0072, 165.0027, 4986,    100.5,  28.2157,  34.3819,2,  34.3208,4,    194.0,2,     1.66,2,     0.00,2,     0.00,2,     0.08,2, -999.000,9, -999.000,9,   -999.0,9,   -999.0,9,-999.0000,9,  -999.00,     2220
  49UP20170815,RF1708,  6090,  1,     31,  25840,2,20170922,2024,  6.0072, 165.0027, 4986,    125.3,  23.5544,  34.7340,2,  34.7373,2,    166.7,2,     3.93,2,     2.06,2,     0.19,2,     0.38,2, -999.000,9, -999.000,9,   -999.0,9,   -999.0,9,-999.0000,9,  -999.00,     2219
  49UP20170815,RF1708,  6090,  1,     30,  25839,2,20170922,2024,  6.0072, 165.0027, 4986,    150.5,  19.6085,  34.7426,2,  34.7390,2,    144.9,2,     7.82,2,     8.79,2,     0.15,2,     0.75,2, -999.000,9, -999.000,9,   -999.0,9,   -999.0,9,-999.0000,9,  -999.00,     2218
  49UP20170815,RF1708,  6090,  1,     29,  25838,2,20170922,2024,  6.0072, 165.0027, 4986,    201.5,  11.7876,  34.5465,2,  34.5485,2,     66.7,6,    26.16,6,    27.04,6,     0.00,6,     1.99,6, -999.000,9, -999.000,9,   -999.0,9,   -999.0,9,-999.0000,9,  -999.00,     2216
  49UP20170815,RF1708,  6090,  1,     28,  25837,3,20170922,2024,  6.0072, 165.0027, 4986,    250.8,  10.0224,  34.6425,2,  34.6419,2,     34.3,2,    33.24,2,    33.77,2,     0.00,2,     2.41,2, -999.000,9, -999.000,9,   -999.0,9,   -999.0,9,-999.0000,9,  -999.00,     2214
  49UP20170815,RF1708,  6090,  1,     27,  25836,3,20170922,2024,  6.0072, 165.0027, 4986,    301.8,   9.2560,  34.6310,2,  34.6304,2,     45.2,2,    35.64,2,    34.31,2,     0.00,2,     2.43,2, -999.000,9, -999.000,9,   -999.0,9,   -999.0,9,-999.0000,9,  -999.00,     2213
  49UP20170815,RF1708,  6090,  1,     26,  25835,2,20170922,2024,  6.0072, 165.0027, 4986,    352.7,   8.7240,  34.6201,2,  34.6192,2,     53.2,2,    37.33,2,    34.80,2,     0.00,2,     2.45,2, -999.000,9, -999.000,9,   -999.0,9,   -999.0,9,-999.0000,9,  -999.00,     2211
  49UP20170815,RF1708,  6090,  1,     25,  25834,2,20170922,2024,  6.0072, 165.0027, 4986,    402.9,   8.3399,  34.6063,2,  34.6050,2,     48.2,2,    40.54,2,    36.02,2,     0.00,2,     2.55,2, -999.000,9, -999.000,9,   -999.0,9,   -999.0,9,-999.0000,9,  -999.00,     2209
  49UP20170815,RF1708,  6090,  1,     24,  25833,2,20170922,2024,  6.0072, 165.0027, 4986,    453.0,   8.1064,  34.5918,2,  34.5908,2,     45.9,2,    43.13,2,    36.56,2,     0.00,2,     2.60,2, -999.000,9, -999.000,9,   -999.0,9,   -999.0,9,-999.0000,9,  -999.00,     2207
  49UP20170815,RF1708,  6090,  1,     23,  25832,2,20170922,2024,  6.0072, 165.0027, 4986,    503.6,   7.7561,  34.5856,2,  34.5843,2,     53.2,2,    44.56,2,    36.89,2,     0.00,2,     2.61,2, -999.000,9, -999.000,9,   -999.0,9,   -999.0,9,-999.0000,9,  -999.00,     2205
  49UP20170815,RF1708,  6090,  1,     22,  25831,2,20170922,2024,  6.0072, 165.0027, 4986,    604.6,   7.0980,  34.5659,2,  34.5651,2,     51.6,2,    50.81,2,    38.36,2,     0.00,2,     2.73,2, -999.000,9, -999.000,9,   -999.0,9,   -999.0,9,-999.0000,9,  -999.00,     2203
  49UP20170815,RF1708,  6090,  1,     21,  25830,2,20170922,2024,  6.0072, 165.0027, 4986,    705.2,   6.3064,  34.5460,2,  34.5459,2,     51.5,2,    61.53,2,    39.78,2,     0.00,2,     2.84,2, -999.000,9, -999.000,9,   -999.0,9,   -999.0,9,-999.0000,9,  -999.00,     2200
  49UP20170815,RF1708,  6090,  1,     20,  25829,2,20170922,2024,  6.0072, 165.0027, 4986,    807.1,   5.6455,  34.5418,2,  34.5419,2,     51.6,6,    71.72,6,    40.70,6,     0.00,6,     2.90,6, -999.000,9, -999.000,9,   -999.0,9,   -999.0,9,-999.0000,9,  -999.00,     2157
  49UP20170815,RF1708,  6090,  1,     19,  25828,2,20170922,2024,  6.0072, 165.0027, 4986,    907.5,   5.0493,  34.5469,2,  34.5470,2,     61.5,2,    80.91,2,    40.65,2,     0.00,2,     2.89,2, -999.000,9, -999.000,9,   -999.0,9,   -999.0,9,-999.0000,9,  -999.00,     2155
  49UP20170815,RF1708,  6090,  1,     18,  25827,2,20170922,2024,  6.0072, 165.0027, 4986,   1010.0,   4.6120,  34.5540,2,  34.5544,2,     64.6,2,    89.68,2,    40.82,2,     0.00,2,     2.91,2, -999.000,9, -999.000,9,   -999.0,9,   -999.0,9,-999.0000,9,  -999.00,     2152
  49UP20170815,RF1708,  6090,  1,     17,  25826,2,20170922,2024,  6.0072, 165.0027, 4986,   1212.5,   3.7969,  34.5737,2,  34.5737,2,     75.0,2,   106.26,2,    40.57,2,     0.00,2,     2.89,2, -999.000,9, -999.000,9,   -999.0,9,   -999.0,9,-999.0000,9,  -999.00,     2147
  49UP20170815,RF1708,  6090,  1,     16,  25825,2,20170922,2024,  6.0072, 165.0027, 4986,   1414.4,   3.2422,  34.5913,2,  34.5910,2,     85.1,2,   117.95,2,    40.14,2,     0.00,2,     2.85,2, -999.000,9, -999.000,9,   -999.0,9,   -999.0,9,-999.0000,9,  -999.00,     2143
  49UP20170815,RF1708,  6090,  1,     15,  25824,3,20170922,2024,  6.0072, 165.0027, 4986,   1615.8,   2.8336,  34.6084,2,  34.6089,2,     94.4,2,   125.79,2,    39.71,2,     0.00,2,     2.81,2, -999.000,9, -999.000,9,   -999.0,9,   -999.0,9,-999.0000,9,  -999.00,     2138
  49UP20170815,RF1708,  6090,  1,     14,  25823,2,20170922,2024,  6.0072, 165.0027, 4986,   1819.7,   2.5178,  34.6219,2,  34.6221,2,    104.7,2,   131.57,2,    39.10,2,     0.00,2,     2.75,2, -999.000,9, -999.000,9,   -999.0,9,   -999.0,9,-999.0000,9,  -999.00,     2134
  49UP20170815,RF1708,  6090,  1,     13,  25822,2,20170922,2024,  6.0072, 165.0027, 4986,   2022.6,   2.2316,  34.6363,2,  34.6364,2,    107.7,2,   139.19,2,    38.97,2,     0.00,2,     2.73,2, -999.000,9, -999.000,9,   -999.0,9,   -999.0,9,-999.0000,9,  -999.00,     2129
  49UP20170815,RF1708,  6090,  1,     12,  25821,2,20170922,2024,  6.0072, 165.0027, 4986,   2276.1,   1.9978,  34.6497,2,  34.6498,2,    113.8,2,   144.52,2,    38.57,2,     0.00,2,     2.70,2, -999.000,9, -999.000,9,   -999.0,9,   -999.0,9,-999.0000,9,  -999.00,     2124
  49UP20170815,RF1708,  6090,  1,     11,  25820,2,20170922,2024,  6.0072, 165.0027, 4986,   2530.6,   1.8469,  34.6590,2,  34.6587,2,    122.0,6,   145.63,6,    38.02,6,     0.00,6,     2.65,6, -999.000,9, -999.000,9,   -999.0,9,   -999.0,9,-999.0000,9,  -999.00,     2119
  49UP20170815,RF1708,  6090,  1,     10,  25819,2,20170922,2024,  6.0072, 165.0027, 4986,   2784.4,   1.7528,  34.6641,2,  34.6632,2,    129.3,2,   145.34,2,    37.52,2,     0.00,2,     2.61,2, -999.000,9, -999.000,9,   -999.0,9,   -999.0,9,-999.0000,9,  -999.00,     2113
  49UP20170815,RF1708,  6090,  1,      9,  25818,2,20170922,2024,  6.0072, 165.0027, 4986,   3039.5,   1.6604,  34.6703,2,  34.6691,2,    134.4,2,   146.27,2,    37.15,2,     0.00,2,     2.59,2, -999.000,9, -999.000,9,   -999.0,9,   -999.0,9,-999.0000,9,  -999.00,     2108
  49UP20170815,RF1708,  6090,  1,      8,  25817,2,20170922,2024,  6.0072, 165.0027, 4986,   3295.5,   1.5808,  34.6754,2,  34.6743,6,    143.0,2,   144.51,2,    36.57,2,     0.00,2,     2.54,2, -999.000,9, -999.000,9,   -999.0,9,   -999.0,9,-999.0000,9,  -999.00,     2102
  49UP20170815,RF1708,  6090,  1,      7,  25816,2,20170922,2024,  6.0072, 165.0027, 4986,   3549.6,   1.5148,  34.6811,2,  34.6800,2,    150.2,2,   142.92,2,    36.10,2,     0.00,2,     2.50,2, -999.000,9, -999.000,9,   -999.0,9,   -999.0,9,-999.0000,9,  -999.00,     2057
  49UP20170815,RF1708,  6090,  1,      6,  25815,2,20170922,2024,  6.0072, 165.0027, 4986,   3805.5,   1.4683,  34.6858,2,  34.6855,6,    156.6,2,   140.82,2,    35.62,2,     0.00,2,     2.46,2, -999.000,9, -999.000,9,   -999.0,9,   -999.0,9,-999.0000,9,  -999.00,     2051
  49UP20170815,RF1708,  6090,  1,      5,  25814,2,20170922,2024,  6.0072, 165.0027, 4986,   4062.6,   1.4504,  34.6892,2,  34.6889,2,    162.8,2,   138.08,2,    35.25,2,     0.00,2,     2.43,2, -999.000,9, -999.000,9,   -999.0,9,   -999.0,9,-999.0000,9,  -999.00,     2045
  49UP20170815,RF1708,  6090,  1,      4,  25813,2,20170922,2024,  6.0072, 165.0027, 4986,   4318.1,   1.4409,  34.6918,2,  34.6922,6,    167.4,2,   135.77,2,    34.95,2,     0.00,2,     2.41,2, -999.000,9, -999.000,9,   -999.0,9,   -999.0,9,-999.0000,9,  -999.00,     2040
  49UP20170815,RF1708,  6090,  1,      3,  25812,2,20170922,2024,  6.0072, 165.0027, 4986,   4575.0,   1.4232,  34.6950,2,  34.6954,2,    172.7,2,   132.48,2,    34.48,2,     0.00,2,     2.37,2, -999.000,9, -999.000,9,   -999.0,9,   -999.0,9,-999.0000,9,  -999.00,     2035
  49UP20170815,RF1708,  6090,  1,      2,  25811,2,20170922,2024,  6.0072, 165.0027, 4986,   4831.5,   1.4000,  34.6982,2,  34.6985,2,    179.0,6,   129.79,6,    34.00,6,     0.00,6,     2.35,6, -999.000,9, -999.000,9,   -999.0,9,   -999.0,9,-999.0000,9,  -999.00,     2029
  49UP20170815,RF1708,  6090,  1,      1,  25810,2,20170922,2024,  6.0072, 165.0027, 4986,   5070.7,   1.3934,  34.7003,2,  34.7002,6,    182.4,2,   127.76,2,    33.69,2,     0.00,2,     2.32,2, -999.000,9, -999.000,9,   -999.0,9,   -999.0,9,-999.0000,9,  -999.00,     2024