BOTTLE,20200309PRINUNIVRMK
EXPOCODE,SECT_ID,STNNBR,CASTNO,SAMPNO,BTLNBR,BTLNBR_FLAG_W,DATE,TIME,LATITUDE,LONGITUDE,DEPTH,CTDPRS,CTDTMP,CTDSAL,CTDSAL_FLAG_W,SALNTY,SALNTY_FLAG_W,OXYGEN,OXYGEN_FLAG_W,SILCAT,SILCAT_FLAG_W,NITRAT,NITRAT_FLAG_W,NITRIT,NITRIT_FLAG_W,PHSPHT,PHSPHT_FLAG_W,CFC-11,CFC-11_FLAG_W,CFC-12,CFC-12_FLAG_W,TCARBN,TCARBN_FLAG_W,ALKALI,ALKALI_FLAG_W,PH_TOT,PH_TOT_FLAG_W,PH_TMP,BTL_TIME
,,,,,,,,,,,METERS,DBAR,ITS-90,PSS-78,,PSS-78,,UMOL/KG,,UMOL/KG,,UMOL/KG,,UMOL/KG,,UMOL/KG,,PMOL/KG,,PMOL/KG,,UMOL/KG,,UMOL/KG,,,,DEG C,
  49UP20170815,RF1708,  6084,  1,     99,     99,2,20170920,1337, 11.9902, 164.4865, 4669,      0.0,  29.4800,  34.5605,2,-999.0000,9,    195.1,2,     1.12,2,     0.00,2,     0.00,2,     0.14,2, -999.000,9, -999.000,9,   -999.0,9,   -999.0,9,-999.0000,9,  -999.00,     1515
  49UP20170815,RF1708,  6084,  1,     36,  25845,2,20170920,1337, 11.9902, 164.4865, 4669,     10.7,  29.4977,  34.5591,2,  34.5583,2,    195.1,2,     1.12,2,     0.02,2,     0.00,2,     0.11,2, -999.000,9, -999.000,9,   -999.0,9,   -999.0,9,-999.0000,9,  -999.00,     1535
  49UP20170815,RF1708,  6084,  1,     35,  25844,2,20170920,1337, 11.9902, 164.4865, 4669,     25.6,  29.4923,  34.5613,2,  34.5611,2,    194.7,3,     1.08,2,     0.00,2,     0.00,2,     0.11,2, -999.000,9, -999.000,9,   -999.0,9,   -999.0,9,-999.0000,9,  -999.00,     1533
  49UP20170815,RF1708,  6084,  1,     34,  25843,2,20170920,1337, 11.9902, 164.4865, 4669,     50.1,  29.4809,  34.5652,2,  34.5635,2,    195.0,2,     1.09,2,     0.01,2,     0.00,2,     0.11,2, -999.000,9, -999.000,9,   -999.0,9,   -999.0,9,-999.0000,9,  -999.00,     1529
  49UP20170815,RF1708,  6084,  1,     33,  25842,3,20170920,1337, 11.9902, 164.4865, 4669,     76.5,  28.8248,  34.5538,2,  34.5523,2,    201.9,2,     1.09,2,     0.00,2,     0.00,2,     0.09,2, -999.000,9, -999.000,9,   -999.0,9,   -999.0,9,-999.0000,9,  -999.00,     1528
  49UP20170815,RF1708,  6084,  1,     32,  25841,2,20170920,1337, 11.9902, 164.4865, 4669,    102.7,  27.4566,  34.6715,2,  34.6756,2,    209.6,6,     1.07,6,     0.00,6,     0.00,6,     0.08,6, -999.000,9, -999.000,9,   -999.0,9,   -999.0,9,-999.0000,9,  -999.00,     1527
  49UP20170815,RF1708,  6084,  1,     31,  25840,2,20170920,1337, 11.9902, 164.4865, 4669,    126.7,  26.2575,  34.9224,2,  34.9265,2,    207.0,2,     1.16,2,     0.00,2,     0.00,2,     0.07,2, -999.000,9, -999.000,9,   -999.0,9,   -999.0,9,-999.0000,9,  -999.00,     1525
  49UP20170815,RF1708,  6084,  1,     30,  25839,2,20170920,1337, 11.9902, 164.4865, 4669,    152.3,  23.4421,  35.0533,2,  35.0544,2,    190.6,2,     1.84,2,     0.15,2,     0.11,2,     0.18,2, -999.000,9, -999.000,9,   -999.0,9,   -999.0,9,-999.0000,9,  -999.00,     1524
  49UP20170815,RF1708,  6084,  1,     29,  25838,2,20170920,1337, 11.9902, 164.4865, 4669,    203.1,  16.6521,  34.6712,2,  34.6734,2,    169.2,2,     7.12,2,     8.10,2,     0.01,2,     0.67,2, -999.000,9, -999.000,9,   -999.0,9,   -999.0,9,-999.0000,9,  -999.00,     1522
  49UP20170815,RF1708,  6084,  1,     28,  25837,2,20170920,1337, 11.9902, 164.4865, 4669,    252.4,  11.5083,  34.3572,2,  34.3583,2,    118.4,2,    22.51,2,    21.42,2,     0.00,2,     1.61,2, -999.000,9, -999.000,9,   -999.0,9,   -999.0,9,-999.0000,9,  -999.00,     1521
  49UP20170815,RF1708,  6084,  1,     27,  25836,2,20170920,1337, 11.9902, 164.4865, 4669,    304.5,   9.7613,  34.3833,2,  34.3871,2,     70.3,2,    34.09,2,    29.06,2,     0.00,2,     2.18,2, -999.000,9, -999.000,9,   -999.0,9,   -999.0,9,-999.0000,9,  -999.00,     1519
  49UP20170815,RF1708,  6084,  1,     26,  25835,2,20170920,1337, 11.9902, 164.4865, 4669,    355.4,   9.0812,  34.4307,2,  34.4302,2,     54.2,2,    39.22,2,    32.02,2,     0.00,2,     2.37,2, -999.000,9, -999.000,9,   -999.0,9,   -999.0,9,-999.0000,9,  -999.00,     1517
  49UP20170815,RF1708,  6084,  1,     25,  25834,2,20170920,1337, 11.9902, 164.4865, 4669,    405.1,   8.6235,  34.4567,2,  34.4549,2,     47.1,2,    42.87,2,    33.74,2,     0.00,2,     2.48,2, -999.000,9, -999.000,9,   -999.0,9,   -999.0,9,-999.0000,9,  -999.00,     1515
  49UP20170815,RF1708,  6084,  1,     24,  25833,2,20170920,1337, 11.9902, 164.4865, 4669,    456.3,   7.9479,  34.4880,2,  34.4868,2,     50.7,2,    47.73,2,    35.11,2,     0.00,2,     2.54,2, -999.000,9, -999.000,9,   -999.0,9,   -999.0,9,-999.0000,9,  -999.00,     1514
  49UP20170815,RF1708,  6084,  1,     23,  25832,2,20170920,1337, 11.9902, 164.4865, 4669,    505.7,   7.1447,  34.4854,2,  34.4852,2,     60.9,6,    55.02,6,    35.98,6,     0.00,6,     2.59,6, -999.000,9, -999.000,9,   -999.0,9,   -999.0,9,-999.0000,9,  -999.00,     1512
  49UP20170815,RF1708,  6084,  1,     22,  25831,2,20170920,1337, 11.9902, 164.4865, 4669,    606.2,   6.4944,  34.4942,2,  34.4936,2,     68.8,2,    62.15,2,    36.62,2,     0.00,2,     2.62,2, -999.000,9, -999.000,9,   -999.0,9,   -999.0,9,-999.0000,9,  -999.00,     1509
  49UP20170815,RF1708,  6084,  1,     20,  25829,2,20170920,1337, 11.9902, 164.4865, 4669,    707.1,   5.8295,  34.5037,2,  34.5042,2,     57.6,2,    72.56,2,    38.86,2,     0.00,2,     2.80,2, -999.000,9, -999.000,9,   -999.0,9,   -999.0,9,-999.0000,9,  -999.00,     1506
  49UP20170815,RF1708,  6084,  1,     21,  25830,2,20170920,1337, 11.9902, 164.4865, 4669,    707.4,   5.8289,  34.5038,2,  34.5035,2,     56.7,2,    72.61,2,    38.87,2,     0.00,2,     2.80,2, -999.000,9, -999.000,9,   -999.0,9,   -999.0,9,-999.0000,9,  -999.00,     1506
  49UP20170815,RF1708,  6084,  1,     19,  25828,2,20170920,1337, 11.9902, 164.4865, 4669,    807.2,   5.2926,  34.5186,2,  34.5187,2,     66.5,2,    80.25,2,    38.96,2,     0.00,2,     2.79,2, -999.000,9, -999.000,9,   -999.0,9,   -999.0,9,-999.0000,9,  -999.00,     1503
  49UP20170815,RF1708,  6084,  1,     18,  25827,2,20170920,1337, 11.9902, 164.4865, 4669,    908.1,   4.9042,  34.5293,2,  34.5293,2,     67.4,2,    87.20,2,    39.52,2,     0.00,2,     2.83,2, -999.000,9, -999.000,9,   -999.0,9,   -999.0,9,-999.0000,9,  -999.00,     1501
  49UP20170815,RF1708,  6084,  1,     17,  25826,2,20170920,1337, 11.9902, 164.4865, 4669,   1008.7,   4.4564,  34.5404,2,  34.5411,2,     69.0,2,    95.43,2,    39.86,2,     0.00,2,     2.85,2, -999.000,9, -999.000,9,   -999.0,9,   -999.0,9,-999.0000,9,  -999.00,     1458
  49UP20170815,RF1708,  6084,  1,     16,  25825,2,20170920,1337, 11.9902, 164.4865, 4669,   1210.5,   3.6327,  34.5681,2,  34.5687,2,     76.6,2,   112.04,2,    40.10,2,     0.00,2,     2.86,2, -999.000,9, -999.000,9,   -999.0,9,   -999.0,9,-999.0000,9,  -999.00,     1453
  49UP20170815,RF1708,  6084,  1,     15,  25824,3,20170920,1337, 11.9902, 164.4865, 4669,   1414.0,   3.0131,  34.5880,2,  34.5892,2,     85.3,2,   124.56,2,    39.83,2,     0.00,2,     2.83,2, -999.000,9, -999.000,9,   -999.0,9,   -999.0,9,-999.0000,9,  -999.00,     1448
  49UP20170815,RF1708,  6084,  1,     14,  25823,2,20170920,1337, 11.9902, 164.4865, 4669,   1617.4,   2.6838,  34.6060,2,  34.6068,2,     91.3,6,   132.10,6,    39.71,6,     0.00,6,     2.81,6, -999.000,9, -999.000,9,   -999.0,9,   -999.0,9,-999.0000,9,  -999.00,     1444
  49UP20170815,RF1708,  6084,  1,     13,  25822,2,20170920,1337, 11.9902, 164.4865, 4669,   1818.2,   2.3989,  34.6210,2,  34.6217,2,     98.3,2,   138.23,2,    39.45,2,     0.00,2,     2.78,2, -999.000,9, -999.000,9,   -999.0,9,   -999.0,9,-999.0000,9,  -999.00,     1439
  49UP20170815,RF1708,  6084,  1,     12,  25821,2,20170920,1337, 11.9902, 164.4865, 4669,   2022.2,   2.1972,  34.6312,2,  34.6323,2,    104.6,2,   142.16,2,    39.05,2,     0.00,2,     2.74,2, -999.000,9, -999.000,9,   -999.0,9,   -999.0,9,-999.0000,9,  -999.00,     1435
  49UP20170815,RF1708,  6084,  1,     11,  25820,2,20170920,1337, 11.9902, 164.4865, 4669,   2275.1,   2.0033,  34.6448,2,  34.6455,2,    112.3,2,   145.34,2,    38.60,2,     0.00,2,     2.70,2, -999.000,9, -999.000,9,   -999.0,9,   -999.0,9,-999.0000,9,  -999.00,     1430
  49UP20170815,RF1708,  6084,  1,     10,  25819,2,20170920,1337, 11.9902, 164.4865, 4669,   2530.6,   1.8282,  34.6570,2,  34.6578,2,    120.2,2,   148.17,2,    38.17,2,     0.00,2,     2.66,2, -999.000,9, -999.000,9,   -999.0,9,   -999.0,9,-999.0000,9,  -999.00,     1424
  49UP20170815,RF1708,  6084,  1,      9,  25818,2,20170920,1337, 11.9902, 164.4865, 4669,   2783.7,   1.7089,  34.6653,2,  34.6657,6,    127.1,2,   149.16,2,    37.66,2,     0.00,2,     2.62,2, -999.000,9, -999.000,9,   -999.0,9,   -999.0,9,-999.0000,9,  -999.00,     1419
  49UP20170815,RF1708,  6084,  1,      8,  25817,2,20170920,1337, 11.9902, 164.4865, 4669,   3037.2,   1.6319,  34.6708,2,  34.6714,2,    133.4,2,   149.09,2,    37.30,2,     0.00,2,     2.59,2, -999.000,9, -999.000,9,   -999.0,9,   -999.0,9,-999.0000,9,  -999.00,     1414
  49UP20170815,RF1708,  6084,  1,      7,  25816,2,20170920,1337, 11.9902, 164.4865, 4669,   3292.8,   1.5533,  34.6765,2,  34.6757,6,    140.3,2,   147.49,2,    36.84,2,     0.00,2,     2.55,2, -999.000,9, -999.000,9,   -999.0,9,   -999.0,9,-999.0000,9,  -999.00,     1408
  49UP20170815,RF1708,  6084,  1,      6,  25815,2,20170920,1337, 11.9902, 164.4865, 4669,   3549.0,   1.4947,  34.6816,2,  34.6820,2,    148.4,2,   145.95,2,    36.27,2,     0.00,2,     2.50,2, -999.000,9, -999.000,9,   -999.0,9,   -999.0,9,-999.0000,9,  -999.00,     1403
  49UP20170815,RF1708,  6084,  1,      5,  25814,2,20170920,1337, 11.9902, 164.4865, 4669,   3807.0,   1.4561,  34.6859,2,  34.6862,2,    155.6,6,   142.73,6,    35.77,6,     0.00,6,     2.47,6, -999.000,9, -999.000,9,   -999.0,9,   -999.0,9,-999.0000,9,  -999.00,     1358
  49UP20170815,RF1708,  6084,  1,      4,  25813,2,20170920,1337, 11.9902, 164.4865, 4669,   4062.5,   1.4269,  34.6898,2,  34.6901,6,    162.8,2,   139.10,2,    35.26,2,     0.00,2,     2.43,2, -999.000,9, -999.000,9,   -999.0,9,   -999.0,9,-999.0000,9,  -999.00,     1352
  49UP20170815,RF1708,  6084,  1,      3,  25812,2,20170920,1337, 11.9902, 164.4865, 4669,   4319.6,   1.4020,  34.6938,2,  34.6922,2,    168.4,3,   134.61,2,    34.82,2,     0.00,2,     2.40,2, -999.000,9, -999.000,9,   -999.0,9,   -999.0,9,-999.0000,9,  -999.00,     1347
  49UP20170815,RF1708,  6084,  1,      2,  25811,2,20170920,1337, 11.9902, 164.4865, 4669,   4574.6,   1.3768,  34.6976,2,  34.6978,2,    177.5,2,   130.70,2,    34.24,2,     0.00,2,     2.35,2, -999.000,9, -999.000,9,   -999.0,9,   -999.0,9,-999.0000,9,  -999.00,     1341
  49UP20170815,RF1708,  6084,  1,      1,  25810,2,20170920,1337, 11.9902, 164.4865, 4669,   4748.1,   1.3886,  34.6981,2,  34.6987,6,    178.7,2,   129.68,2,    34.07,2,     0.00,2,     2.34,2, -999.000,9, -999.000,9,   -999.0,9,   -999.0,9,-999.0000,9,  -999.00,     1337