BOTTLE,20200309PRINUNIVRMK
EXPOCODE,SECT_ID,STNNBR,CASTNO,SAMPNO,BTLNBR,BTLNBR_FLAG_W,DATE,TIME,LATITUDE,LONGITUDE,DEPTH,CTDPRS,CTDTMP,CTDSAL,CTDSAL_FLAG_W,SALNTY,SALNTY_FLAG_W,OXYGEN,OXYGEN_FLAG_W,SILCAT,SILCAT_FLAG_W,NITRAT,NITRAT_FLAG_W,NITRIT,NITRIT_FLAG_W,PHSPHT,PHSPHT_FLAG_W,CFC-11,CFC-11_FLAG_W,CFC-12,CFC-12_FLAG_W,TCARBN,TCARBN_FLAG_W,ALKALI,ALKALI_FLAG_W,PH_TOT,PH_TOT_FLAG_W,PH_TMP,BTL_TIME
,,,,,,,,,,,METERS,DBAR,ITS-90,PSS-78,,PSS-78,,UMOL/KG,,UMOL/KG,,UMOL/KG,,UMOL/KG,,UMOL/KG,,PMOL/KG,,PMOL/KG,,UMOL/KG,,UMOL/KG,,,,DEG C,
  49UP20170815,RF1708,  6083,  1,     99,     99,2,20170920,0448, 12.9962, 164.9747, 5195,      0.0,  29.9699,  34.6062,2,-999.0000,9,    194.0,2,     1.01,2,     0.03,2,     0.00,2,     0.12,2, -999.000,9, -999.000,9,   -999.0,9,   -999.0,9,-999.0000,9,  -999.00,      640
  49UP20170815,RF1708,  6083,  1,     36,  25845,2,20170920,0448, 12.9962, 164.9747, 5195,      9.9,  29.7996,  34.5994,2,  34.6016,2,    194.6,2,     1.00,2,     0.01,2,     0.00,2,     0.09,2, -999.000,9, -999.000,9,   -999.0,9,   -999.0,9,-999.0000,9,  -999.00,      700
  49UP20170815,RF1708,  6083,  1,     35,  25844,2,20170920,0448, 12.9962, 164.9747, 5195,     25.2,  29.4721,  34.5933,2,  34.5920,2,    195.0,2,     1.02,2,     0.01,2,     0.00,2,     0.09,2, -999.000,9, -999.000,9,   -999.0,9,   -999.0,9,-999.0000,9,  -999.00,      659
  49UP20170815,RF1708,  6083,  1,     34,  25843,2,20170920,0448, 12.9962, 164.9747, 5195,     51.6,  29.4191,  34.5883,2,  34.5874,2,    195.2,2,     1.05,2,     0.00,2,     0.00,2,     0.09,2, -999.000,9, -999.000,9,   -999.0,9,   -999.0,9,-999.0000,9,  -999.00,      655
  49UP20170815,RF1708,  6083,  1,     33,  25842,3,20170920,0448, 12.9962, 164.9747, 5195,     76.0,  29.2942,  34.5900,2,  34.5902,2,    196.7,2,     1.03,2,     0.03,2,     0.00,2,     0.10,2, -999.000,9, -999.000,9,   -999.0,9,   -999.0,9,-999.0000,9,  -999.00,      654
  49UP20170815,RF1708,  6083,  1,     32,  25841,2,20170920,0448, 12.9962, 164.9747, 5195,    101.0,  27.6728,  34.6876,2,  34.6776,4,    210.5,2,     1.06,2,     0.01,2,     0.00,2,     0.07,2, -999.000,9, -999.000,9,   -999.0,9,   -999.0,9,-999.0000,9,  -999.00,      653
  49UP20170815,RF1708,  6083,  1,     31,  25840,2,20170920,0448, 12.9962, 164.9747, 5195,    127.0,  26.4609,  34.8670,2,  34.8666,2,    207.8,6,     1.08,6,     0.02,6,     0.00,6,     0.07,6, -999.000,9, -999.000,9,   -999.0,9,   -999.0,9,-999.0000,9,  -999.00,      652
  49UP20170815,RF1708,  6083,  1,     30,  25839,2,20170920,0448, 12.9962, 164.9747, 5195,    154.4,  24.5219,  35.1009,2,  35.1027,2,    199.3,2,     1.26,2,     0.00,2,     0.00,2,     0.10,2, -999.000,9, -999.000,9,   -999.0,9,   -999.0,9,-999.0000,9,  -999.00,      651
  49UP20170815,RF1708,  6083,  1,     29,  25838,2,20170920,0448, 12.9962, 164.9747, 5195,    202.5,  20.0110,  34.9715,2,  34.9765,2,    176.7,2,     3.30,2,     3.40,2,     0.02,2,     0.37,2, -999.000,9, -999.000,9,   -999.0,9,   -999.0,9,-999.0000,9,  -999.00,      649
  49UP20170815,RF1708,  6083,  1,     28,  25837,2,20170920,0448, 12.9962, 164.9747, 5195,    254.6,  14.5901,  34.4983,2,  34.4988,2,    152.7,2,    11.34,2,    12.80,2,     0.00,2,     0.99,2, -999.000,9, -999.000,9,   -999.0,9,   -999.0,9,-999.0000,9,  -999.00,      647
  49UP20170815,RF1708,  6083,  1,     27,  25836,2,20170920,0448, 12.9962, 164.9747, 5195,    301.3,  11.8662,  34.3792,2,  34.3758,2,    113.7,2,    21.37,2,    21.37,2,     0.00,2,     1.60,2, -999.000,9, -999.000,9,   -999.0,9,   -999.0,9,-999.0000,9,  -999.00,      646
  49UP20170815,RF1708,  6083,  1,     26,  25835,2,20170920,0448, 12.9962, 164.9747, 5195,    353.6,   9.8516,  34.3559,2,  34.3558,2,     83.2,2,    32.82,2,    27.90,2,     0.00,2,     2.07,2, -999.000,9, -999.000,9,   -999.0,9,   -999.0,9,-999.0000,9,  -999.00,      644
  49UP20170815,RF1708,  6083,  1,     25,  25834,2,20170920,0448, 12.9962, 164.9747, 5195,    404.1,   8.6120,  34.3930,2,  34.3973,2,     57.4,2,    42.53,2,    32.71,2,     0.00,2,     2.41,2, -999.000,9, -999.000,9,   -999.0,9,   -999.0,9,-999.0000,9,  -999.00,      642
  49UP20170815,RF1708,  6083,  1,     24,  25833,2,20170920,0448, 12.9962, 164.9747, 5195,    454.9,   8.1036,  34.4668,2,  34.4669,2,     53.7,2,    46.57,2,    34.58,2,     0.00,2,     2.50,2, -999.000,9, -999.000,9,   -999.0,9,   -999.0,9,-999.0000,9,  -999.00,      641
  49UP20170815,RF1708,  6083,  1,     23,  25832,3,20170920,0448, 12.9962, 164.9747, 5195,    504.3,   7.7087,  34.5039,2,  34.5035,2,     56.6,2,    49.32,2,    35.45,2,     0.00,2,     2.55,2, -999.000,9, -999.000,9,   -999.0,9,   -999.0,9,-999.0000,9,  -999.00,      639
  49UP20170815,RF1708,  6083,  1,     22,  25831,2,20170920,0448, 12.9962, 164.9747, 5195,    605.9,   6.6605,  34.4924,2,  34.4923,2,     67.5,6,    59.65,6,    36.45,6,     0.00,6,     2.61,6, -999.000,9, -999.000,9,   -999.0,9,   -999.0,9,-999.0000,9,  -999.00,      636
  49UP20170815,RF1708,  6083,  1,     21,  25830,2,20170920,0448, 12.9962, 164.9747, 5195,    705.3,   5.8686,  34.4985,2,  34.4991,2,     65.1,2,    71.21,2,    38.06,2,     0.00,2,     2.73,2, -999.000,9, -999.000,9,   -999.0,9,   -999.0,9,-999.0000,9,  -999.00,      633
  49UP20170815,RF1708,  6083,  1,     20,  25829,2,20170920,0448, 12.9962, 164.9747, 5195,    806.9,   5.4396,  34.5135,2,  34.5143,2,     67.6,2,    77.51,2,    38.68,2,     0.00,2,     2.76,2, -999.000,9, -999.000,9,   -999.0,9,   -999.0,9,-999.0000,9,  -999.00,      630
  49UP20170815,RF1708,  6083,  1,     19,  25828,2,20170920,0448, 12.9962, 164.9747, 5195,    908.1,   4.8802,  34.5217,2,  34.5232,2,     66.2,2,    88.18,2,    39.58,2,     0.00,2,     2.83,2, -999.000,9, -999.000,9,   -999.0,9,   -999.0,9,-999.0000,9,  -999.00,      628
  49UP20170815,RF1708,  6083,  1,     18,  25827,2,20170920,0448, 12.9962, 164.9747, 5195,   1009.2,   4.3554,  34.5415,2,  34.5421,2,     62.0,2,    98.45,2,    40.78,2,     0.00,2,     2.92,2, -999.000,9, -999.000,9,   -999.0,9,   -999.0,9,-999.0000,9,  -999.00,      625
  49UP20170815,RF1708,  6083,  1,     17,  25826,2,20170920,0448, 12.9962, 164.9747, 5195,   1211.6,   3.7259,  34.5600,2,  34.5612,2,     67.2,2,   111.58,2,    40.95,2,     0.00,2,     2.93,2, -999.000,9, -999.000,9,   -999.0,9,   -999.0,9,-999.0000,9,  -999.00,      620
  49UP20170815,RF1708,  6083,  1,     16,  25825,2,20170920,0448, 12.9962, 164.9747, 5195,   1413.6,   3.1424,  34.5831,2,  34.5838,2,     83.0,2,   122.45,2,    40.03,2,     0.00,2,     2.84,2, -999.000,9, -999.000,9,   -999.0,9,   -999.0,9,-999.0000,9,  -999.00,      616
  49UP20170815,RF1708,  6083,  1,     15,  25824,2,20170920,0448, 12.9962, 164.9747, 5195,   1616.4,   2.6755,  34.6010,2,  34.6013,2,     91.1,2,   131.98,2,    39.69,2,     0.00,2,     2.81,2, -999.000,9, -999.000,9,   -999.0,9,   -999.0,9,-999.0000,9,  -999.00,      611
  49UP20170815,RF1708,  6083,  1,     14,  25823,2,20170920,0448, 12.9962, 164.9747, 5195,   1821.0,   2.3616,  34.6213,2,  34.6220,2,     98.5,2,   139.13,2,    39.51,2,     0.00,2,     2.78,2, -999.000,9, -999.000,9,   -999.0,9,   -999.0,9,-999.0000,9,  -999.00,      606
  49UP20170815,RF1708,  6083,  1,     13,  25822,2,20170920,0448, 12.9962, 164.9747, 5195,   2023.6,   2.1295,  34.6365,2,  34.6370,2,    105.5,2,   143.70,6,    39.09,6,     0.00,6,     2.74,6, -999.000,9, -999.000,9,   -999.0,9,   -999.0,9,-999.0000,9,  -999.00,      601
  49UP20170815,RF1708,  6083,  1,     12,  25821,2,20170920,0448, 12.9962, 164.9747, 5195,   2278.3,   1.9406,  34.6491,2,  34.6494,2,    113.7,2,   146.83,2,    38.59,2,     0.00,2,     2.70,2, -999.000,9, -999.000,9,   -999.0,9,   -999.0,9,-999.0000,9,  -999.00,      555
  49UP20170815,RF1708,  6083,  1,     11,  25820,2,20170920,0448, 12.9962, 164.9747, 5195,   2530.9,   1.8367,  34.6548,2,  34.6539,2,    118.6,2,   147.73,2,    38.21,2,     0.00,2,     2.67,2, -999.000,9, -999.000,9,   -999.0,9,   -999.0,9,-999.0000,9,  -999.00,      550
  49UP20170815,RF1708,  6083,  1,     10,  25819,2,20170920,0448, 12.9962, 164.9747, 5195,   2786.0,   1.7409,  34.6629,2,  34.6632,2,    124.9,2,   149.59,2,    37.91,2,     0.00,2,     2.64,2, -999.000,9, -999.000,9,   -999.0,9,   -999.0,9,-999.0000,9,  -999.00,      544
  49UP20170815,RF1708,  6083,  1,      9,  25818,2,20170920,0448, 12.9962, 164.9747, 5195,   3040.1,   1.6610,  34.6693,2,  34.6690,6,    130.2,2,   149.91,2,    37.53,2,     0.00,2,     2.60,2, -999.000,9, -999.000,9,   -999.0,9,   -999.0,9,-999.0000,9,  -999.00,      538
  49UP20170815,RF1708,  6083,  1,      8,  25817,2,20170920,0448, 12.9962, 164.9747, 5195,   3295.5,   1.5949,  34.6736,2,  34.6745,2,    136.3,2,   150.28,2,    37.14,2,     0.00,2,     2.57,2, -999.000,9, -999.000,9,   -999.0,9,   -999.0,9,-999.0000,9,  -999.00,      532
  49UP20170815,RF1708,  6083,  1,      7,  25816,2,20170920,0448, 12.9962, 164.9747, 5195,   3552.2,   1.5254,  34.6795,2,  34.6790,2,    143.1,2,   148.59,2,    36.70,2,     0.00,2,     2.54,2, -999.000,9, -999.000,9,   -999.0,9,   -999.0,9,-999.0000,9,  -999.00,      527
  49UP20170815,RF1708,  6083,  1,      6,  25815,2,20170920,0448, 12.9962, 164.9747, 5195,   3807.1,   1.4801,  34.6837,2,  34.6828,2,    150.5,2,   146.51,2,    36.17,2,     0.00,2,     2.50,2, -999.000,9, -999.000,9,   -999.0,9,   -999.0,9,-999.0000,9,  -999.00,      521
  49UP20170815,RF1708,  6083,  1,      5,  25814,3,20170920,0448, 12.9962, 164.9747, 5195,   4063.2,   1.4496,  34.6870,2,  34.6871,2,    157.4,2,   143.22,2,    35.68,2,     0.00,2,     2.46,2, -999.000,9, -999.000,9,   -999.0,9,   -999.0,9,-999.0000,9,  -999.00,      515
  49UP20170815,RF1708,  6083,  1,      4,  25813,2,20170920,0448, 12.9962, 164.9747, 5195,   4575.5,   1.4068,  34.6941,2,  34.6945,2,    171.2,6,   135.35,6,    34.70,6,     0.00,6,     2.39,6, -999.000,9, -999.000,9,   -999.0,9,   -999.0,9,-999.0000,9,  -999.00,      505
  49UP20170815,RF1708,  6083,  1,      3,  25812,2,20170920,0448, 12.9962, 164.9747, 5195,   4832.9,   1.3908,  34.6971,2,  34.6971,2,    176.0,2,   132.11,2,    34.32,2,     0.00,2,     2.36,2, -999.000,9, -999.000,9,   -999.0,9,   -999.0,9,-999.0000,9,  -999.00,      459
  49UP20170815,RF1708,  6083,  1,      2,  25811,2,20170920,0448, 12.9962, 164.9747, 5195,   5090.0,   1.3794,  34.6992,2,  34.6991,2,    182.0,2,   129.57,2,    33.97,2,     0.00,2,     2.34,2, -999.000,9, -999.000,9,   -999.0,9,   -999.0,9,-999.0000,9,  -999.00,      453
  49UP20170815,RF1708,  6083,  1,      1,  25810,2,20170920,0448, 12.9962, 164.9747, 5195,   5298.9,   1.3764,  34.7010,2,  34.7010,6,    184.7,2,   127.89,2,    33.73,2,     0.00,2,     2.32,2, -999.000,9, -999.000,9,   -999.0,9,   -999.0,9,-999.0000,9,  -999.00,      448