BOTTLE,20200309PRINUNIVRMK
EXPOCODE,SECT_ID,STNNBR,CASTNO,SAMPNO,BTLNBR,BTLNBR_FLAG_W,DATE,TIME,LATITUDE,LONGITUDE,DEPTH,CTDPRS,CTDTMP,CTDSAL,CTDSAL_FLAG_W,SALNTY,SALNTY_FLAG_W,OXYGEN,OXYGEN_FLAG_W,SILCAT,SILCAT_FLAG_W,NITRAT,NITRAT_FLAG_W,NITRIT,NITRIT_FLAG_W,PHSPHT,PHSPHT_FLAG_W,CFC-11,CFC-11_FLAG_W,CFC-12,CFC-12_FLAG_W,TCARBN,TCARBN_FLAG_W,ALKALI,ALKALI_FLAG_W,PH_TOT,PH_TOT_FLAG_W,PH_TMP,BTL_TIME
,,,,,,,,,,,METERS,DBAR,ITS-90,PSS-78,,PSS-78,,UMOL/KG,,UMOL/KG,,UMOL/KG,,UMOL/KG,,UMOL/KG,,PMOL/KG,,PMOL/KG,,UMOL/KG,,UMOL/KG,,,,DEG C,
  49UP20170815,RF1708,  6092,  1,     99,     99,2,20170923,1320,  3.9868, 164.9828, 4485,      0.0,  30.1738,  33.8860,2,-999.0000,9,    194.8,2,     1.23,2,     0.00,2,     0.00,2,     0.08,2, -999.000,9, -999.000,9,   -999.0,9,   -999.0,9,-999.0000,9,  -999.00,     1450
  49UP20170815,RF1708,  6092,  1,     36,  25845,2,20170923,1320,  3.9868, 164.9828, 4485,     10.8,  30.1847,  33.8857,2,  33.8861,2,    194.3,2,     1.23,2,     0.00,2,     0.00,2,     0.05,2, -999.000,9, -999.000,9,   -999.0,9,   -999.0,9,-999.0000,9,  -999.00,     1516
  49UP20170815,RF1708,  6092,  1,     35,  25844,2,20170923,1320,  3.9868, 164.9828, 4485,     26.0,  30.1920,  33.8893,2,  33.8909,2,    194.5,2,     1.23,2,     0.00,2,     0.00,2,     0.05,2, -999.000,9, -999.000,9,   -999.0,9,   -999.0,9,-999.0000,9,  -999.00,     1515
  49UP20170815,RF1708,  6092,  1,     34,  25843,2,20170923,1320,  3.9868, 164.9828, 4485,     51.1,  30.3428,  34.1329,2,  34.1306,2,    194.8,2,     1.22,2,     0.00,2,     0.00,2,     0.07,2, -999.000,9, -999.000,9,   -999.0,9,   -999.0,9,-999.0000,9,  -999.00,     1511
  49UP20170815,RF1708,  6092,  1,     33,  25842,2,20170923,1320,  3.9868, 164.9828, 4485,     76.7,  30.3872,  34.4678,2,  34.4673,2,    194.2,2,     1.28,2,     0.01,2,     0.00,2,     0.11,2, -999.000,9, -999.000,9,   -999.0,9,   -999.0,9,-999.0000,9,  -999.00,     1510
  49UP20170815,RF1708,  6092,  1,     32,  25841,2,20170923,1320,  3.9868, 164.9828, 4485,    100.4,  28.4232,  34.3274,2,  34.3266,2,    188.4,6,     1.71,6,     0.01,6,     0.00,6,     0.09,6, -999.000,9, -999.000,9,   -999.0,9,   -999.0,9,-999.0000,9,  -999.00,     1509
  49UP20170815,RF1708,  6092,  1,     31,  25840,2,20170923,1320,  3.9868, 164.9828, 4485,    125.6,  24.5714,  34.6726,2,  34.6822,4,    155.9,2,     4.34,2,     4.29,2,     0.15,2,     0.41,2, -999.000,9, -999.000,9,   -999.0,9,   -999.0,9,-999.0000,9,  -999.00,     1508
  49UP20170815,RF1708,  6092,  1,     30,  25839,2,20170923,1320,  3.9868, 164.9828, 4485,    151.1,  17.3850,  34.6862,2,  34.6895,2,    132.5,2,    11.69,2,    12.72,2,     0.01,2,     0.98,2, -999.000,9, -999.000,9,   -999.0,9,   -999.0,9,-999.0000,9,  -999.00,     1506
  49UP20170815,RF1708,  6092,  1,     29,  25838,2,20170923,1320,  3.9868, 164.9828, 4485,    202.1,  11.5293,  34.4898,2,  34.4938,2,    112.1,2,    27.70,2,    23.31,2,     0.00,2,     1.69,2, -999.000,9, -999.000,9,   -999.0,9,   -999.0,9,-999.0000,9,  -999.00,     1504
  49UP20170815,RF1708,  6092,  1,     28,  25837,2,20170923,1320,  3.9868, 164.9828, 4485,    252.3,  10.1961,  34.5907,2,  34.5911,2,    114.9,2,    29.60,2,    25.74,2,     0.00,2,     1.85,2, -999.000,9, -999.000,9,   -999.0,9,   -999.0,9,-999.0000,9,  -999.00,     1503
  49UP20170815,RF1708,  6092,  1,     27,  25836,2,20170923,1320,  3.9868, 164.9828, 4485,    301.2,   9.6205,  34.6476,2,  34.6471,2,    119.3,2,    28.18,2,    26.77,2,     0.00,2,     1.90,2, -999.000,9, -999.000,9,   -999.0,9,   -999.0,9,-999.0000,9,  -999.00,     1501
  49UP20170815,RF1708,  6092,  1,     26,  25835,2,20170923,1320,  3.9868, 164.9828, 4485,    353.7,   9.2493,  34.6447,2,  34.6436,6,    114.4,2,    28.81,2,    28.12,2,     0.00,2,     1.98,2, -999.000,9, -999.000,9,   -999.0,9,   -999.0,9,-999.0000,9,  -999.00,     1459
  49UP20170815,RF1708,  6092,  1,     25,  25834,2,20170923,1320,  3.9868, 164.9828, 4485,    402.9,   8.9063,  34.6285,2,  34.6279,2,    114.1,2,    30.00,2,    28.81,2,     0.00,2,     2.02,2, -999.000,9, -999.000,9,   -999.0,9,   -999.0,9,-999.0000,9,  -999.00,     1458
  49UP20170815,RF1708,  6092,  1,     24,  25833,2,20170923,1320,  3.9868, 164.9828, 4485,    453.1,   8.4004,  34.5989,2,  34.5982,2,    104.8,2,    33.77,2,    30.63,2,     0.00,2,     2.15,2, -999.000,9, -999.000,9,   -999.0,9,   -999.0,9,-999.0000,9,  -999.00,     1456
  49UP20170815,RF1708,  6092,  1,     23,  25832,2,20170923,1320,  3.9868, 164.9828, 4485,    503.7,   7.9970,  34.5801,2,  34.5799,2,     97.0,6,    37.40,6,    32.08,6,     0.00,6,     2.26,6, -999.000,9, -999.000,9,   -999.0,9,   -999.0,9,-999.0000,9,  -999.00,     1454
  49UP20170815,RF1708,  6092,  1,     21,  25830,2,20170923,1320,  3.9868, 164.9828, 4485,    606.0,   6.9251,  34.5602,2,  34.5595,2,     66.0,2,    50.13,2,    37.30,2,     0.00,2,     2.65,2, -999.000,9, -999.000,9,   -999.0,9,   -999.0,9,-999.0000,9,  -999.00,     1451
  49UP20170815,RF1708,  6092,  1,     22,  25831,2,20170923,1320,  3.9868, 164.9828, 4485,    606.2,   6.9230,  34.5605,2,  34.5596,2,     66.9,2,    50.07,2,    37.29,2,     0.00,2,     2.65,2, -999.000,9, -999.000,9,   -999.0,9,   -999.0,9,-999.0000,9,  -999.00,     1451
  49UP20170815,RF1708,  6092,  1,     20,  25829,2,20170923,1320,  3.9868, 164.9828, 4485,    705.2,   6.1983,  34.5466,2,  34.5460,6,     71.2,2,    57.84,2,    38.31,2,     0.00,2,     2.73,2, -999.000,9, -999.000,9,   -999.0,9,   -999.0,9,-999.0000,9,  -999.00,     1449
  49UP20170815,RF1708,  6092,  1,     19,  25828,2,20170923,1320,  3.9868, 164.9828, 4485,    805.8,   5.5983,  34.5380,2,  34.5382,2,     86.6,2,    64.73,2,    37.59,2,     0.00,2,     2.67,2, -999.000,9, -999.000,9,   -999.0,9,   -999.0,9,-999.0000,9,  -999.00,     1445
  49UP20170815,RF1708,  6092,  1,     18,  25827,2,20170923,1320,  3.9868, 164.9828, 4485,    907.7,   5.1100,  34.5418,2,  34.5420,2,     87.9,2,    73.78,2,    38.05,2,     0.00,2,     2.71,2, -999.000,9, -999.000,9,   -999.0,9,   -999.0,9,-999.0000,9,  -999.00,     1442
  49UP20170815,RF1708,  6092,  1,     17,  25826,2,20170923,1320,  3.9868, 164.9828, 4485,   1008.4,   4.5940,  34.5513,2,  34.5517,2,     91.5,2,    84.52,2,    38.12,2,     0.00,2,     2.72,2, -999.000,9, -999.000,9,   -999.0,9,   -999.0,9,-999.0000,9,  -999.00,     1440
  49UP20170815,RF1708,  6092,  1,     16,  25825,2,20170923,1320,  3.9868, 164.9828, 4485,   1211.5,   3.7928,  34.5737,2,  34.5737,2,     85.2,2,   104.34,2,    39.50,2,     0.00,2,     2.82,2, -999.000,9, -999.000,9,   -999.0,9,   -999.0,9,-999.0000,9,  -999.00,     1434
  49UP20170815,RF1708,  6092,  1,     15,  25824,2,20170923,1320,  3.9868, 164.9828, 4485,   1413.6,   3.1870,  34.5941,2,  34.5935,2,     91.6,2,   116.60,2,    39.44,2,     0.00,2,     2.81,2, -999.000,9, -999.000,9,   -999.0,9,   -999.0,9,-999.0000,9,  -999.00,     1429
  49UP20170815,RF1708,  6092,  1,     14,  25823,2,20170923,1320,  3.9868, 164.9828, 4485,   1616.3,   2.8042,  34.6091,2,  34.6096,2,     99.7,6,   124.81,6,    39.11,6,     0.00,6,     2.78,6, -999.000,9, -999.000,9,   -999.0,9,   -999.0,9,-999.0000,9,  -999.00,     1425
  49UP20170815,RF1708,  6092,  1,     13,  25822,2,20170923,1320,  3.9868, 164.9828, 4485,   1817.7,   2.4811,  34.6235,2,  34.6237,2,    108.1,2,   130.44,2,    38.53,2,     0.00,2,     2.72,2, -999.000,9, -999.000,9,   -999.0,9,   -999.0,9,-999.0000,9,  -999.00,     1420
  49UP20170815,RF1708,  6092,  1,     12,  25821,2,20170923,1320,  3.9868, 164.9828, 4485,   2020.9,   2.2456,  34.6360,2,  34.6366,2,    112.2,2,   136.27,2,    38.46,2,     0.00,2,     2.71,2, -999.000,9, -999.000,9,   -999.0,9,   -999.0,9,-999.0000,9,  -999.00,     1415
  49UP20170815,RF1708,  6092,  1,     11,  25820,2,20170923,1320,  3.9868, 164.9828, 4485,   2274.6,   2.0065,  34.6495,2,  34.6496,2,    119.3,2,   140.79,2,    38.06,2,     0.00,2,     2.67,2, -999.000,9, -999.000,9,   -999.0,9,   -999.0,9,-999.0000,9,  -999.00,     1410
  49UP20170815,RF1708,  6092,  1,     10,  25819,2,20170923,1320,  3.9868, 164.9828, 4485,   2528.8,   1.8578,  34.6585,2,  34.6586,2,    123.8,2,   144.32,2,    37.80,2,     0.00,2,     2.65,2, -999.000,9, -999.000,9,   -999.0,9,   -999.0,9,-999.0000,9,  -999.00,     1404
  49UP20170815,RF1708,  6092,  1,      9,  25818,2,20170923,1320,  3.9868, 164.9828, 4485,   2784.7,   1.7791,  34.6632,2,  34.6636,2,    128.3,2,   145.14,2,    37.52,2,     0.00,2,     2.62,2, -999.000,9, -999.000,9,   -999.0,9,   -999.0,9,-999.0000,9,  -999.00,     1359
  49UP20170815,RF1708,  6092,  1,      8,  25817,2,20170923,1320,  3.9868, 164.9828, 4485,   3038.6,   1.6934,  34.6686,2,  34.6694,2,    134.0,2,   146.01,2,    37.21,2,     0.00,2,     2.59,2, -999.000,9, -999.000,9,   -999.0,9,   -999.0,9,-999.0000,9,  -999.00,     1353
  49UP20170815,RF1708,  6092,  1,      7,  25816,2,20170923,1320,  3.9868, 164.9828, 4485,   3294.1,   1.6328,  34.6725,2,  34.6724,2,    140.2,2,   144.90,2,    36.77,2,     0.00,2,     2.56,2, -999.000,9, -999.000,9,   -999.0,9,   -999.0,9,-999.0000,9,  -999.00,     1348
  49UP20170815,RF1708,  6092,  1,      6,  25815,2,20170923,1320,  3.9868, 164.9828, 4485,   3549.6,   1.5490,  34.6791,2,  34.6788,6,    147.8,2,   143.87,2,    36.22,2,     0.00,2,     2.51,2, -999.000,9, -999.000,9,   -999.0,9,   -999.0,9,-999.0000,9,  -999.00,     1342
  49UP20170815,RF1708,  6092,  1,      5,  25814,2,20170923,1320,  3.9868, 164.9828, 4485,   3805.1,   1.5020,  34.6837,2,  34.6837,2,    153.9,6,   141.98,6,    35.82,6,     0.00,6,     2.48,6, -999.000,9, -999.000,9,   -999.0,9,   -999.0,9,-999.0000,9,  -999.00,     1337
  49UP20170815,RF1708,  6092,  1,      4,  25813,2,20170923,1320,  3.9868, 164.9828, 4485,   4061.1,   1.4665,  34.6881,2,  34.6882,2,    160.6,2,   138.90,2,    35.30,2,     0.00,2,     2.45,2, -999.000,9, -999.000,9,   -999.0,9,   -999.0,9,-999.0000,9,  -999.00,     1331
  49UP20170815,RF1708,  6092,  1,      3,  25812,2,20170923,1320,  3.9868, 164.9828, 4485,   4061.6,   1.4664,  34.6882,2,  34.6881,2,    160.5,2,   138.99,2,    35.32,2,     0.00,2,     2.45,2, -999.000,9, -999.000,9,   -999.0,9,   -999.0,9,-999.0000,9,  -999.00,     1331
  49UP20170815,RF1708,  6092,  1,      2,  25811,2,20170923,1320,  3.9868, 164.9828, 4485,   4317.5,   1.4288,  34.6927,2,  34.6930,2,    168.6,2,   135.31,2,    34.78,2,     0.00,2,     2.40,2, -999.000,9, -999.000,9,   -999.0,9,   -999.0,9,-999.0000,9,  -999.00,     1326
  49UP20170815,RF1708,  6092,  1,      1,  25810,2,20170923,1320,  3.9868, 164.9828, 4485,   4547.1,   1.4005,  34.6965,2,  34.6966,6,    174.8,2,   131.86,2,    34.31,2,     0.00,2,     2.37,2, -999.000,9, -999.000,9,   -999.0,9,   -999.0,9,-999.0000,9,  -999.00,     1320