BOTTLE,20200309PRINUNIVRMK
EXPOCODE,SECT_ID,STNNBR,CASTNO,SAMPNO,BTLNBR,BTLNBR_FLAG_W,DATE,TIME,LATITUDE,LONGITUDE,DEPTH,CTDPRS,CTDTMP,CTDSAL,CTDSAL_FLAG_W,SALNTY,SALNTY_FLAG_W,OXYGEN,OXYGEN_FLAG_W,SILCAT,SILCAT_FLAG_W,NITRAT,NITRAT_FLAG_W,NITRIT,NITRIT_FLAG_W,PHSPHT,PHSPHT_FLAG_W,CFC-11,CFC-11_FLAG_W,CFC-12,CFC-12_FLAG_W,TCARBN,TCARBN_FLAG_W,ALKALI,ALKALI_FLAG_W,PH_TOT,PH_TOT_FLAG_W,PH_TMP,BTL_TIME
,,,,,,,,,,,METERS,DBAR,ITS-90,PSS-78,,PSS-78,,UMOL/KG,,UMOL/KG,,UMOL/KG,,UMOL/KG,,UMOL/KG,,PMOL/KG,,PMOL/KG,,UMOL/KG,,UMOL/KG,,,,DEG C,
  49UP20170815,RF1708,  6089,  1,     99,     99,2,20170922,1115,  7.0193, 164.5050, 5087,      0.0,  29.8512,  33.8197,2,-999.0000,9,    195.4,2,     1.14,2,     0.03,2,     0.00,2,     0.10,2, -999.000,9, -999.000,9,   -999.0,9,   -999.0,9,-999.0000,9,  -999.00,     1302
  49UP20170815,RF1708,  6089,  1,     36,  25845,2,20170922,1115,  7.0193, 164.5050, 5087,     10.9,  29.8610,  33.8200,2,  33.8194,2,    194.4,2,     1.14,2,     0.02,2,     0.00,2,     0.07,2, -999.000,9, -999.000,9,   -999.0,9,   -999.0,9,-999.0000,9,  -999.00,     1325
  49UP20170815,RF1708,  6089,  1,     35,  25844,2,20170922,1115,  7.0193, 164.5050, 5087,     26.4,  29.8739,  33.8408,2,  33.8503,4,    194.6,2,     1.10,2,     0.02,2,     0.00,2,     0.08,2, -999.000,9, -999.000,9,   -999.0,9,   -999.0,9,-999.0000,9,  -999.00,     1324
  49UP20170815,RF1708,  6089,  1,     34,  25843,2,20170922,1115,  7.0193, 164.5050, 5087,     51.4,  29.8674,  34.0673,2,  34.1070,4,    195.2,2,     1.14,2,     0.02,2,     0.00,2,     0.09,2, -999.000,9, -999.000,9,   -999.0,9,   -999.0,9,-999.0000,9,  -999.00,     1319
  49UP20170815,RF1708,  6089,  1,     33,  25842,2,20170922,1115,  7.0193, 164.5050, 5087,     75.6,  29.4476,  34.6347,2,  34.6376,2,    198.7,2,     1.21,2,     0.01,2,     0.00,2,     0.13,2, -999.000,9, -999.000,9,   -999.0,9,   -999.0,9,-999.0000,9,  -999.00,     1318
  49UP20170815,RF1708,  6089,  1,     32,  25841,2,20170922,1115,  7.0193, 164.5050, 5087,     99.2,  27.4343,  34.6089,2,  34.6072,2,    196.9,2,     1.58,2,     0.02,2,     0.00,2,     0.15,2, -999.000,9, -999.000,9,   -999.0,9,   -999.0,9,-999.0000,9,  -999.00,     1317
  49UP20170815,RF1708,  6089,  1,     31,  25840,3,20170922,1115,  7.0193, 164.5050, 5087,    127.0,  22.9407,  34.7642,2,  34.7680,2,    170.0,2,     3.94,2,     3.12,2,     0.41,2,     0.45,2, -999.000,9, -999.000,9,   -999.0,9,   -999.0,9,-999.0000,9,  -999.00,     1315
  49UP20170815,RF1708,  6089,  1,     30,  25839,2,20170922,1115,  7.0193, 164.5050, 5087,    152.4,  17.0843,  34.6687,2,  34.6694,2,    151.0,2,     8.46,2,     9.51,2,     0.24,2,     0.82,2, -999.000,9, -999.000,9,   -999.0,9,   -999.0,9,-999.0000,9,  -999.00,     1314
  49UP20170815,RF1708,  6089,  1,     29,  25838,2,20170922,1115,  7.0193, 164.5050, 5087,    201.4,  11.7440,  34.5627,2,  34.5639,2,     57.4,2,    26.45,2,    27.83,2,     0.00,2,     2.07,2, -999.000,9, -999.000,9,   -999.0,9,   -999.0,9,-999.0000,9,  -999.00,     1312
  49UP20170815,RF1708,  6089,  1,     28,  25837,2,20170922,1115,  7.0193, 164.5050, 5087,    252.6,   9.9526,  34.6326,2,  34.6337,2,     54.4,6,    32.59,6,    31.88,6,     0.00,6,     2.29,6, -999.000,9, -999.000,9,   -999.0,9,   -999.0,9,-999.0000,9,  -999.00,     1310
  49UP20170815,RF1708,  6089,  1,     27,  25836,2,20170922,1115,  7.0193, 164.5050, 5087,    302.1,   9.6257,  34.6624,2,  34.6611,2,     32.6,2,    34.19,2,    34.49,2,     0.00,2,     2.47,2, -999.000,9, -999.000,9,   -999.0,9,   -999.0,9,-999.0000,9,  -999.00,     1308
  49UP20170815,RF1708,  6089,  1,     26,  25835,2,20170922,1115,  7.0193, 164.5050, 5087,    352.9,   9.1784,  34.6440,2,  34.6425,2,     40.4,2,    35.84,2,    34.85,2,     0.00,2,     2.49,2, -999.000,9, -999.000,9,   -999.0,9,   -999.0,9,-999.0000,9,  -999.00,     1307
  49UP20170815,RF1708,  6089,  1,     25,  25834,2,20170922,1115,  7.0193, 164.5050, 5087,    403.0,   8.8587,  34.6286,2,  34.6271,6,     40.6,2,    37.77,2,    35.42,2,     0.00,2,     2.53,2, -999.000,9, -999.000,9,   -999.0,9,   -999.0,9,-999.0000,9,  -999.00,     1305
  49UP20170815,RF1708,  6089,  1,     24,  25833,2,20170922,1115,  7.0193, 164.5050, 5087,    453.5,   8.4022,  34.6058,2,  34.6042,2,     48.1,2,    40.51,2,    35.64,2,     0.00,2,     2.55,2, -999.000,9, -999.000,9,   -999.0,9,   -999.0,9,-999.0000,9,  -999.00,     1303
  49UP20170815,RF1708,  6089,  1,     23,  25832,2,20170922,1115,  7.0193, 164.5050, 5087,    503.0,   8.0053,  34.5927,2,  34.5909,2,     53.2,2,    42.74,2,    36.05,2,     0.00,2,     2.58,2, -999.000,9, -999.000,9,   -999.0,9,   -999.0,9,-999.0000,9,  -999.00,     1301
  49UP20170815,RF1708,  6089,  1,     22,  25831,2,20170922,1115,  7.0193, 164.5050, 5087,    603.9,   7.1811,  34.5635,2,  34.5630,2,     43.9,2,    51.97,2,    38.31,2,     0.00,2,     2.78,2, -999.000,9, -999.000,9,   -999.0,9,   -999.0,9,-999.0000,9,  -999.00,     1258
  49UP20170815,RF1708,  6089,  1,     21,  25830,2,20170922,1115,  7.0193, 164.5050, 5087,    706.1,   6.4700,  34.5493,2,  34.5484,2,     45.8,2,    60.10,2,    39.57,2,     0.00,2,     2.87,2, -999.000,9, -999.000,9,   -999.0,9,   -999.0,9,-999.0000,9,  -999.00,     1256
  49UP20170815,RF1708,  6089,  1,     20,  25829,2,20170922,1115,  7.0193, 164.5050, 5087,    806.4,   5.7816,  34.5423,2,  34.5424,6,     49.5,2,    70.33,2,    40.50,2,     0.00,2,     2.93,2, -999.000,9, -999.000,9,   -999.0,9,   -999.0,9,-999.0000,9,  -999.00,     1253
  49UP20170815,RF1708,  6089,  1,     19,  25828,2,20170922,1115,  7.0193, 164.5050, 5087,    907.1,   5.2095,  34.5450,2,  34.5454,2,     56.0,6,    79.01,6,    40.73,6,     0.00,6,     2.94,6, -999.000,9, -999.000,9,   -999.0,9,   -999.0,9,-999.0000,9,  -999.00,     1250
  49UP20170815,RF1708,  6089,  1,     18,  25827,2,20170922,1115,  7.0193, 164.5050, 5087,   1009.3,   4.7341,  34.5514,2,  34.5519,2,     61.2,2,    87.60,2,    40.73,2,     0.00,2,     2.94,2, -999.000,9, -999.000,9,   -999.0,9,   -999.0,9,-999.0000,9,  -999.00,     1247
  49UP20170815,RF1708,  6089,  1,     17,  25826,2,20170922,1115,  7.0193, 164.5050, 5087,   1212.8,   3.9420,  34.5701,2,  34.5702,2,     73.6,2,   102.87,2,    40.26,2,     0.00,2,     2.91,2, -999.000,9, -999.000,9,   -999.0,9,   -999.0,9,-999.0000,9,  -999.00,     1243
  49UP20170815,RF1708,  6089,  1,     16,  25825,2,20170922,1115,  7.0193, 164.5050, 5087,   1414.1,   3.2881,  34.5900,2,  34.5913,6,     82.3,2,   117.56,2,    40.04,2,     0.00,2,     2.88,2, -999.000,9, -999.000,9,   -999.0,9,   -999.0,9,-999.0000,9,  -999.00,     1239
  49UP20170815,RF1708,  6089,  1,     15,  25824,2,20170922,1115,  7.0193, 164.5050, 5087,   1617.3,   2.7658,  34.6092,2,  34.6091,2,     91.1,2,   128.63,2,    39.65,2,     0.00,2,     2.84,2, -999.000,9, -999.000,9,   -999.0,9,   -999.0,9,-999.0000,9,  -999.00,     1234
  49UP20170815,RF1708,  6089,  1,     14,  25823,2,20170922,1115,  7.0193, 164.5050, 5087,   1819.2,   2.4055,  34.6264,2,  34.6274,2,    101.1,2,   136.56,2,    39.14,2,     0.00,2,     2.79,2, -999.000,9, -999.000,9,   -999.0,9,   -999.0,9,-999.0000,9,  -999.00,     1229
  49UP20170815,RF1708,  6089,  1,     13,  25822,2,20170922,1115,  7.0193, 164.5050, 5087,   2023.4,   2.1461,  34.6405,2,  34.6405,2,    108.8,2,   141.26,2,    38.69,2,     0.00,2,     2.74,2, -999.000,9, -999.000,9,   -999.0,9,   -999.0,9,-999.0000,9,  -999.00,     1225
  49UP20170815,RF1708,  6089,  1,     12,  25821,2,20170922,1115,  7.0193, 164.5050, 5087,   2275.1,   1.9569,  34.6523,2,  34.6532,2,    115.5,2,   144.96,2,    38.25,2,     0.00,2,     2.70,2, -999.000,9, -999.000,9,   -999.0,9,   -999.0,9,-999.0000,9,  -999.00,     1220
  49UP20170815,RF1708,  6089,  1,     11,  25820,2,20170922,1115,  7.0193, 164.5050, 5087,   2529.5,   1.8389,  34.6596,2,  34.6595,2,    120.7,2,   146.44,2,    37.93,2,     0.00,2,     2.67,2, -999.000,9, -999.000,9,   -999.0,9,   -999.0,9,-999.0000,9,  -999.00,     1214
  49UP20170815,RF1708,  6089,  1,     10,  25819,2,20170922,1115,  7.0193, 164.5050, 5087,   2784.0,   1.7378,  34.6653,2,  34.6679,4,    128.1,6,   147.32,6,    37.48,6,     0.00,6,     2.63,6, -999.000,9, -999.000,9,   -999.0,9,   -999.0,9,-999.0000,9,  -999.00,     1208
  49UP20170815,RF1708,  6089,  1,      9,  25818,2,20170922,1115,  7.0193, 164.5050, 5087,   3039.7,   1.6420,  34.6712,2,  34.6716,2,    135.1,2,   146.67,2,    37.02,2,     0.00,2,     2.59,2, -999.000,9, -999.000,9,   -999.0,9,   -999.0,9,-999.0000,9,  -999.00,     1203
  49UP20170815,RF1708,  6089,  1,      8,  25817,2,20170922,1115,  7.0193, 164.5050, 5087,   3294.1,   1.5723,  34.6763,2,  34.6766,2,    141.9,2,   146.26,2,    36.63,2,     0.00,2,     2.55,2, -999.000,9, -999.000,9,   -999.0,9,   -999.0,9,-999.0000,9,  -999.00,     1157
  49UP20170815,RF1708,  6089,  1,      7,  25816,2,20170922,1115,  7.0193, 164.5050, 5087,   3548.4,   1.5109,  34.6813,2,  34.6815,2,    149.2,2,   144.61,2,    36.18,2,     0.00,2,     2.52,2, -999.000,9, -999.000,9,   -999.0,9,   -999.0,9,-999.0000,9,  -999.00,     1152
  49UP20170815,RF1708,  6089,  1,      6,  25815,2,20170922,1115,  7.0193, 164.5050, 5087,   3805.2,   1.4702,  34.6855,2,  34.6856,2,    156.3,2,   141.79,2,    35.69,2,     0.00,2,     2.48,2, -999.000,9, -999.000,9,   -999.0,9,   -999.0,9,-999.0000,9,  -999.00,     1145
  49UP20170815,RF1708,  6089,  1,      5,  25814,2,20170922,1115,  7.0193, 164.5050, 5087,   4061.0,   1.4364,  34.6896,2,  34.6897,2,    163.3,2,   138.13,2,    35.13,2,     0.00,2,     2.44,2, -999.000,9, -999.000,9,   -999.0,9,   -999.0,9,-999.0000,9,  -999.00,     1140
  49UP20170815,RF1708,  6089,  1,      4,  25813,2,20170922,1115,  7.0193, 164.5050, 5087,   4573.6,   1.4133,  34.6956,2,  34.6958,2,    173.8,2,   132.66,2,    34.43,2,     0.00,2,     2.38,2, -999.000,9, -999.000,9,   -999.0,9,   -999.0,9,-999.0000,9,  -999.00,     1129
  49UP20170815,RF1708,  6089,  1,      3,  25812,2,20170922,1115,  7.0193, 164.5050, 5087,   4831.5,   1.4061,  34.6977,2,  34.6975,2,    177.4,2,   130.25,2,    34.10,2,     0.00,2,     2.36,2, -999.000,9, -999.000,9,   -999.0,9,   -999.0,9,-999.0000,9,  -999.00,     1124
  49UP20170815,RF1708,  6089,  1,      2,  25811,2,20170922,1115,  7.0193, 164.5050, 5087,   5088.5,   1.3971,  34.7001,2,  34.7004,6,    182.7,2,   128.09,2,    33.76,2,     0.00,2,     2.34,2, -999.000,9, -999.000,9,   -999.0,9,   -999.0,9,-999.0000,9,  -999.00,     1118
  49UP20170815,RF1708,  6089,  1,      1,  25810,3,20170922,1115,  7.0193, 164.5050, 5087,   5181.2,   1.4051,  34.7006,2,  34.6994,2,    181.6,3,   127.70,6,    33.76,6,     0.00,6,     2.35,6, -999.000,9, -999.000,9,   -999.0,9,   -999.0,9,-999.0000,9,  -999.00,     1115