BOTTLE,20200309PRINUNIVRMK
EXPOCODE,SECT_ID,STNNBR,CASTNO,SAMPNO,BTLNBR,BTLNBR_FLAG_W,DATE,TIME,LATITUDE,LONGITUDE,DEPTH,CTDPRS,CTDTMP,CTDSAL,CTDSAL_FLAG_W,SALNTY,SALNTY_FLAG_W,OXYGEN,OXYGEN_FLAG_W,SILCAT,SILCAT_FLAG_W,NITRAT,NITRAT_FLAG_W,NITRIT,NITRIT_FLAG_W,PHSPHT,PHSPHT_FLAG_W,CFC-11,CFC-11_FLAG_W,CFC-12,CFC-12_FLAG_W,TCARBN,TCARBN_FLAG_W,ALKALI,ALKALI_FLAG_W,PH_TOT,PH_TOT_FLAG_W,PH_TMP,BTL_TIME
,,,,,,,,,,,METERS,DBAR,ITS-90,PSS-78,,PSS-78,,UMOL/KG,,UMOL/KG,,UMOL/KG,,UMOL/KG,,UMOL/KG,,PMOL/KG,,PMOL/KG,,UMOL/KG,,UMOL/KG,,,,DEG C,
  49UP20170815,RF1708,  6085,  1,     99,     99,2,20170920,2209, 10.9867, 163.9833, 4805,      0.0,  29.7224,  34.5965,2,-999.0000,9,    194.8,2,     1.16,2,     0.00,2,     0.00,2,     0.14,2, -999.000,9, -999.000,9,   -999.0,9,   -999.0,9,-999.0000,9,  -999.00,     2335
  49UP20170815,RF1708,  6085,  1,     36,  25845,3,20170920,2209, 10.9867, 163.9833, 4805,     10.4,  29.7208,  34.5967,2,  34.5957,2,    194.4,2,     1.09,2,     0.00,2,     0.00,2,     0.12,2, -999.000,9, -999.000,9,   -999.0,9,   -999.0,9,-999.0000,9,  -999.00,       19
  49UP20170815,RF1708,  6085,  1,     35,  25844,2,20170920,2209, 10.9867, 163.9833, 4805,     26.7,  29.7083,  34.5972,2,  34.5961,2,    194.9,2,     1.10,2,     0.00,2,     0.00,2,     0.12,2, -999.000,9, -999.000,9,   -999.0,9,   -999.0,9,-999.0000,9,  -999.00,       18
  49UP20170815,RF1708,  6085,  1,     34,  25843,2,20170920,2209, 10.9867, 163.9833, 4805,     51.0,  29.4345,  34.7175,2,  34.7162,2,    197.8,2,     1.14,2,     0.00,2,     0.00,2,     0.13,2, -999.000,9, -999.000,9,   -999.0,9,   -999.0,9,-999.0000,9,  -999.00,       16
  49UP20170815,RF1708,  6085,  1,     33,  25842,3,20170920,2209, 10.9867, 163.9833, 4805,     76.4,  29.2391,  34.7115,2,  34.7099,2,    198.3,6,     1.14,6,     0.00,6,     0.00,6,     0.13,6, -999.000,9, -999.000,9,   -999.0,9,   -999.0,9,-999.0000,9,  -999.00,       15
  49UP20170815,RF1708,  6085,  1,     32,  25841,2,20170920,2209, 10.9867, 163.9833, 4805,    101.9,  28.6869,  34.7042,2,  34.7036,2,    199.0,2,     1.19,2,     0.00,2,     0.00,2,     0.13,2, -999.000,9, -999.000,9,   -999.0,9,   -999.0,9,-999.0000,9,  -999.00,       14
  49UP20170815,RF1708,  6085,  1,     31,  25840,3,20170920,2209, 10.9867, 163.9833, 4805,    126.2,  25.7888,  34.7352,2,  34.7393,2,    200.0,2,     1.54,2,    -0.01,2,     0.01,2,     0.15,2, -999.000,9, -999.000,9,   -999.0,9,   -999.0,9,-999.0000,9,  -999.00,       12
  49UP20170815,RF1708,  6085,  1,     30,  25839,2,20170920,2209, 10.9867, 163.9833, 4805,    151.8,  18.8596,  34.7847,2,  34.7336,4,    163.7,2,     6.09,2,     7.01,2,     0.03,2,     0.63,2, -999.000,9, -999.000,9,   -999.0,9,   -999.0,9,-999.0000,9,  -999.00,       11
  49UP20170815,RF1708,  6085,  1,     29,  25838,2,20170920,2209, 10.9867, 163.9833, 4805,    202.0,  12.8964,  34.4220,2,  34.4231,2,    128.0,2,    17.29,2,    18.19,2,     0.00,2,     1.37,2, -999.000,9, -999.000,9,   -999.0,9,   -999.0,9,-999.0000,9,  -999.00,        6
  49UP20170815,RF1708,  6085,  1,     28,  25837,2,20170920,2209, 10.9867, 163.9833, 4805,    251.6,  10.7463,  34.5433,2,  34.5446,2,     46.2,2,    30.31,2,    30.67,2,     0.00,2,     2.25,2, -999.000,9, -999.000,9,   -999.0,9,   -999.0,9,-999.0000,9,  -999.00,        4
  49UP20170815,RF1708,  6085,  1,     27,  25836,2,20170920,2209, 10.9867, 163.9833, 4805,    301.8,  10.0090,  34.6128,2,  34.6123,2,     33.6,2,    33.68,2,    33.65,2,     0.00,2,     2.42,2, -999.000,9, -999.000,9,   -999.0,9,   -999.0,9,-999.0000,9,  -999.00,        3
  49UP20170815,RF1708,  6085,  1,     26,  25835,3,20170920,2209, 10.9867, 163.9833, 4805,    350.6,   9.5370,  34.6180,2,  34.6163,2,     36.7,2,    35.64,2,    34.43,2,     0.00,2,     2.46,2, -999.000,9, -999.000,9,   -999.0,9,   -999.0,9,-999.0000,9,  -999.00,        1
  49UP20170815,RF1708,  6085,  1,     25,  25834,2,20170920,2209, 10.9867, 163.9833, 4805,    400.9,   9.1388,  34.6092,2,  34.6075,2,     40.8,2,    37.47,2,    34.74,2,     0.00,2,     2.47,2, -999.000,9, -999.000,9,   -999.0,9,   -999.0,9,-999.0000,9,  -999.00,        0
  49UP20170815,RF1708,  6085,  1,     24,  25833,2,20170920,2209, 10.9867, 163.9833, 4805,    453.7,   8.7166,  34.5936,2,  34.5934,2,     44.6,6,    39.75,6,    35.15,6,     0.00,6,     2.50,6, -999.000,9, -999.000,9,   -999.0,9,   -999.0,9,-999.0000,9,  -999.00,     2357
  49UP20170815,RF1708,  6085,  1,     23,  25832,2,20170920,2209, 10.9867, 163.9833, 4805,    505.9,   8.2235,  34.5681,2,  34.5672,2,     54.0,2,    43.27,2,    35.32,2,     0.00,2,     2.52,2, -999.000,9, -999.000,9,   -999.0,9,   -999.0,9,-999.0000,9,  -999.00,     2354
  49UP20170815,RF1708,  6085,  1,     22,  25831,2,20170920,2209, 10.9867, 163.9833, 4805,    607.7,   7.4182,  34.5444,2,  34.5438,2,     56.5,2,    50.53,2,    36.55,2,     0.00,2,     2.62,2, -999.000,9, -999.000,9,   -999.0,9,   -999.0,9,-999.0000,9,  -999.00,     2348
  49UP20170815,RF1708,  6085,  1,     21,  25830,2,20170920,2209, 10.9867, 163.9833, 4805,    708.8,   6.5512,  34.5258,2,  34.5253,2,     53.6,2,    60.92,2,    38.26,2,     0.00,2,     2.75,2, -999.000,9, -999.000,9,   -999.0,9,   -999.0,9,-999.0000,9,  -999.00,     2345
  49UP20170815,RF1708,  6085,  1,     20,  25829,2,20170920,2209, 10.9867, 163.9833, 4805,    809.8,   5.8586,  34.5286,2,  34.5278,2,     50.7,2,    70.88,2,    39.93,2,     0.00,2,     2.87,2, -999.000,9, -999.000,9,   -999.0,9,   -999.0,9,-999.0000,9,  -999.00,     2342
  49UP20170815,RF1708,  6085,  1,     19,  25828,2,20170920,2209, 10.9867, 163.9833, 4805,    908.7,   5.1826,  34.5357,2,  34.5350,2,     55.5,2,    81.50,2,    40.60,2,     0.00,2,     2.91,2, -999.000,9, -999.000,9,   -999.0,9,   -999.0,9,-999.0000,9,  -999.00,     2339
  49UP20170815,RF1708,  6085,  1,     18,  25827,2,20170920,2209, 10.9867, 163.9833, 4805,   1012.1,   4.6207,  34.5475,2,  34.5469,2,     60.6,2,    91.67,2,    40.85,2,     0.00,2,     2.93,2, -999.000,9, -999.000,9,   -999.0,9,   -999.0,9,-999.0000,9,  -999.00,     2335
  49UP20170815,RF1708,  6085,  1,     17,  25826,2,20170920,2209, 10.9867, 163.9833, 4805,   1212.9,   3.6916,  34.5724,2,  34.5719,6,     75.4,2,   109.86,2,    40.40,2,     0.00,2,     2.89,2, -999.000,9, -999.000,9,   -999.0,9,   -999.0,9,-999.0000,9,  -999.00,     2328
  49UP20170815,RF1708,  6085,  1,     16,  25825,2,20170920,2209, 10.9867, 163.9833, 4805,   1418.0,   3.0757,  34.5893,2,  34.5891,2,     84.3,2,   123.84,2,    40.05,2,     0.00,2,     2.85,2, -999.000,9, -999.000,9,   -999.0,9,   -999.0,9,-999.0000,9,  -999.00,     2322
  49UP20170815,RF1708,  6085,  1,     15,  25824,2,20170920,2209, 10.9867, 163.9833, 4805,   1617.0,   2.8090,  34.6000,2,  34.5989,2,     89.2,6,   128.97,6,    39.82,6,     0.00,6,     2.83,6, -999.000,9, -999.000,9,   -999.0,9,   -999.0,9,-999.0000,9,  -999.00,     2316
  49UP20170815,RF1708,  6085,  1,     14,  25823,2,20170920,2209, 10.9867, 163.9833, 4805,   1818.9,   2.4603,  34.6174,2,  34.6177,6,     97.0,2,   137.29,2,    39.51,2,     0.00,2,     2.79,2, -999.000,9, -999.000,9,   -999.0,9,   -999.0,9,-999.0000,9,  -999.00,     2311
  49UP20170815,RF1708,  6085,  1,     13,  25822,2,20170920,2209, 10.9867, 163.9833, 4805,   2023.5,   2.2468,  34.6304,2,  34.6304,2,    103.4,2,   141.37,2,    39.16,2,     0.00,2,     2.76,2, -999.000,9, -999.000,9,   -999.0,9,   -999.0,9,-999.0000,9,  -999.00,     2307
  49UP20170815,RF1708,  6085,  1,     12,  25821,2,20170920,2209, 10.9867, 163.9833, 4805,   2274.8,   2.0168,  34.6449,2,  34.6451,6,    111.5,2,   145.50,2,    38.69,2,     0.00,2,     2.71,2, -999.000,9, -999.000,9,   -999.0,9,   -999.0,9,-999.0000,9,  -999.00,     2301
  49UP20170815,RF1708,  6085,  1,     11,  25820,2,20170920,2209, 10.9867, 163.9833, 4805,   2528.6,   1.8580,  34.6563,2,  34.6561,2,    118.6,2,   147.85,2,    38.27,2,     0.00,2,     2.67,2, -999.000,9, -999.000,9,   -999.0,9,   -999.0,9,-999.0000,9,  -999.00,     2256
  49UP20170815,RF1708,  6085,  1,     10,  25819,2,20170920,2209, 10.9867, 163.9833, 4805,   2782.4,   1.7412,  34.6640,2,  34.6643,2,    126.4,2,   148.96,2,    37.84,2,     0.00,2,     2.63,2, -999.000,9, -999.000,9,   -999.0,9,   -999.0,9,-999.0000,9,  -999.00,     2250
  49UP20170815,RF1708,  6085,  1,      9,  25818,2,20170920,2209, 10.9867, 163.9833, 4805,   3039.0,   1.6658,  34.6692,2,  34.6694,2,    131.7,2,   149.49,2,    37.49,2,     0.00,2,     2.60,2, -999.000,9, -999.000,9,   -999.0,9,   -999.0,9,-999.0000,9,  -999.00,     2245
  49UP20170815,RF1708,  6085,  1,      8,  25817,2,20170920,2209, 10.9867, 163.9833, 4805,   3294.5,   1.5705,  34.6758,2,  34.6749,2,    139.9,2,   147.60,2,    36.83,2,     0.00,2,     2.56,2, -999.000,9, -999.000,9,   -999.0,9,   -999.0,9,-999.0000,9,  -999.00,     2240
  49UP20170815,RF1708,  6085,  1,      7,  25816,2,20170920,2209, 10.9867, 163.9833, 4805,   3547.6,   1.5370,  34.6793,2,  34.6792,2,    145.3,2,   147.00,2,    36.56,2,     0.00,2,     2.53,2, -999.000,9, -999.000,9,   -999.0,9,   -999.0,9,-999.0000,9,  -999.00,     2235
  49UP20170815,RF1708,  6085,  1,      6,  25815,2,20170920,2209, 10.9867, 163.9833, 4805,   3803.6,   1.4740,  34.6847,2,  34.6848,2,    154.2,6,   143.83,6,    35.95,6,     0.00,6,     2.48,6, -999.000,9, -999.000,9,   -999.0,9,   -999.0,9,-999.0000,9,  -999.00,     2230
  49UP20170815,RF1708,  6085,  1,      5,  25814,2,20170920,2209, 10.9867, 163.9833, 4805,   4060.0,   1.4409,  34.6888,2,  34.6879,2,    160.3,2,   139.96,2,    35.46,2,     0.00,2,     2.45,2, -999.000,9, -999.000,9,   -999.0,9,   -999.0,9,-999.0000,9,  -999.00,     2225
  49UP20170815,RF1708,  6085,  1,      4,  25813,2,20170920,2209, 10.9867, 163.9833, 4805,   4315.3,   1.4219,  34.6924,2,  34.6928,2,    167.9,2,   136.75,2,    35.01,2,     0.00,2,     2.41,2, -999.000,9, -999.000,9,   -999.0,9,   -999.0,9,-999.0000,9,  -999.00,     2220
  49UP20170815,RF1708,  6085,  1,      3,  25812,2,20170920,2209, 10.9867, 163.9833, 4805,   4571.4,   1.4139,  34.6949,2,  34.6935,2,    170.9,3,   133.80,2,    34.72,2,     0.00,2,     2.39,2, -999.000,9, -999.000,9,   -999.0,9,   -999.0,9,-999.0000,9,  -999.00,     2216
  49UP20170815,RF1708,  6085,  1,      2,  25811,2,20170920,2209, 10.9867, 163.9833, 4805,   4827.9,   1.4064,  34.6976,2,  34.6981,2,    177.5,2,   130.97,2,    34.26,2,     0.00,2,     2.36,2, -999.000,9, -999.000,9,   -999.0,9,   -999.0,9,-999.0000,9,  -999.00,     2211
  49UP20170815,RF1708,  6085,  1,      1,  25810,3,20170920,2209, 10.9867, 163.9833, 4805,   4880.5,   1.4052,  34.6979,2,  34.6977,6,    177.4,3,   130.51,2,    34.26,2,     0.00,2,     2.36,2, -999.000,9, -999.000,9,   -999.0,9,   -999.0,9,-999.0000,9,  -999.00,     2209