BOTTLE,20200309PRINUNIVRMK
EXPOCODE,SECT_ID,STNNBR,CASTNO,SAMPNO,BTLNBR,BTLNBR_FLAG_W,DATE,TIME,LATITUDE,LONGITUDE,DEPTH,CTDPRS,CTDTMP,CTDSAL,CTDSAL_FLAG_W,SALNTY,SALNTY_FLAG_W,OXYGEN,OXYGEN_FLAG_W,SILCAT,SILCAT_FLAG_W,NITRAT,NITRAT_FLAG_W,NITRIT,NITRIT_FLAG_W,PHSPHT,PHSPHT_FLAG_W,CFC-11,CFC-11_FLAG_W,CFC-12,CFC-12_FLAG_W,TCARBN,TCARBN_FLAG_W,ALKALI,ALKALI_FLAG_W,PH_TOT,PH_TOT_FLAG_W,PH_TMP,BTL_TIME
,,,,,,,,,,,METERS,DBAR,ITS-90,PSS-78,,PSS-78,,UMOL/KG,,UMOL/KG,,UMOL/KG,,UMOL/KG,,UMOL/KG,,PMOL/KG,,PMOL/KG,,UMOL/KG,,UMOL/KG,,,,DEG C,
  49UP20170815,RF1708,  6086,  1,     99,     99,2,20170921,0651,  9.9925, 163.9907, 4975,      0.0,  29.6981,  34.5324,2,  34.5328,2,    195.2,2,     1.13,2,     0.04,2,     0.00,2,     0.14,2, -999.000,9, -999.000,9,   1939.2,2,   2269.0,2,   8.1084,2,    25.00,      820
  49UP20170815,RF1708,  6086,  1,     36,  25845,3,20170921,0651,  9.9925, 163.9907, 4975,     11.5,  29.7015,  34.5321,2,  34.5316,2,    194.8,2,     1.13,2,     0.00,2,     0.00,2,     0.12,2, -999.000,9, -999.000,9,   1938.3,2,   2268.7,2,   8.1075,2,    25.00,      853
  49UP20170815,RF1708,  6086,  1,     35,  25844,2,20170921,0651,  9.9925, 163.9907, 4975,     26.7,  29.7073,  34.5325,2,  34.5314,2,    194.7,2,     1.09,2,     0.03,2,     0.00,2,     0.12,2, -999.000,9, -999.000,9,   1940.6,2,   2268.5,2,   8.1077,2,    25.00,      852
  49UP20170815,RF1708,  6086,  1,     34,  25843,2,20170921,0651,  9.9925, 163.9907, 4975,     51.3,  29.6960,  34.5417,2,  34.5355,2,    195.0,6,     1.14,6,     0.01,6,     0.00,6,     0.12,6, -999.000,9, -999.000,9,   1938.6,2,   2268.3,2,   8.1085,2,    25.00,      851
  49UP20170815,RF1708,  6086,  1,     33,  25842,2,20170921,0651,  9.9925, 163.9907, 4975,     77.0,  28.7140,  34.6443,2,  34.6514,2,    200.6,2,     1.17,2,     0.00,2,     0.00,2,     0.12,2, -999.000,9, -999.000,9,   1956.8,2,   2276.4,2,   8.1029,2,    25.00,      849
  49UP20170815,RF1708,  6086,  1,     32,  25841,2,20170921,0651,  9.9925, 163.9907, 4975,    100.3,  26.7048,  34.7098,2,  34.7076,2,    201.9,2,     1.34,2,     0.00,2,     0.00,2,     0.12,2, -999.000,9, -999.000,9,   1970.3,2,   2282.3,2,   8.0742,2,    25.00,      846
  49UP20170815,RF1708,  6086,  1,     31,  25840,2,20170921,0651,  9.9925, 163.9907, 4975,    130.1,  22.8284,  34.8067,2,  34.8108,2,    182.6,2,     2.84,2,     1.25,2,     0.26,2,     0.31,2, -999.000,9, -999.000,9,   2034.3,2,   2294.1,2,   7.9853,2,    25.00,      845
  49UP20170815,RF1708,  6086,  1,     30,  25839,2,20170921,0651,  9.9925, 163.9907, 4975,    151.9,  17.3045,  34.6979,2,  34.7111,4,    165.8,2,     6.49,2,     7.54,2,     0.02,2,     0.65,2, -999.000,9, -999.000,9,   2089.7,2,   2285.9,2,   7.8603,2,    25.00,      843
  49UP20170815,RF1708,  6086,  1,     29,  25838,2,20170921,0651,  9.9925, 163.9907, 4975,    204.6,  11.1965,  34.5106,2,  34.5096,2,     62.7,2,    27.68,2,    28.11,2,     0.00,2,     2.07,2, -999.000,9, -999.000,9,   2214.3,6,   2287.3,6,   7.5455,2,    25.00,      842
  49UP20170815,RF1708,  6086,  1,     28,  25837,2,20170921,0651,  9.9925, 163.9907, 4975,    251.8,  10.2854,  34.6115,2,  34.6100,2,     30.1,2,    32.70,2,    33.31,2,     0.00,2,     2.41,2, -999.000,9, -999.000,9,   2245.3,2,   2295.0,2,   7.4681,6,    25.00,      840
  49UP20170815,RF1708,  6086,  1,     27,  25836,2,20170921,0651,  9.9925, 163.9907, 4975,    302.6,   9.8141,  34.6253,2,  34.6242,2,     31.3,2,    34.50,2,    34.25,2,     0.00,2,     2.45,2, -999.000,9, -999.000,9,   2249.4,2,   2299.7,2,   7.4661,2,    25.00,      838
  49UP20170815,RF1708,  6086,  1,     26,  25835,2,20170921,0651,  9.9925, 163.9907, 4975,    352.1,   9.3274,  34.6194,2,  34.6182,2,     41.5,2,    36.18,2,    34.49,2,     0.00,2,     2.45,2, -999.000,9, -999.000,9,   2254.3,2,   2303.3,2,   7.4758,2,    25.00,      836
  49UP20170815,RF1708,  6086,  1,     25,  25834,2,20170921,0651,  9.9925, 163.9907, 4975,    403.0,   9.0243,  34.6104,2,  34.6094,2,     47.1,6,    37.45,6,    34.57,6,     0.00,6,     2.45,6, -999.000,9, -999.000,9,   2252.9,2,   2304.0,2,   7.4812,2,    25.00,      835
  49UP20170815,RF1708,  6086,  1,     24,  25833,2,20170921,0651,  9.9925, 163.9907, 4975,    452.7,   8.7161,  34.5926,2,  34.5927,6,     45.8,2,    39.90,2,    35.14,2,     0.00,2,     2.50,2, -999.000,9, -999.000,9,   2250.7,2,   2306.6,2,   7.4742,2,    25.00,      833
  49UP20170815,RF1708,  6086,  1,     23,  25832,2,20170921,0651,  9.9925, 163.9907, 4975,    503.1,   8.4177,  34.5833,2,  34.5836,2,     49.0,2,    41.69,2,    35.43,2,     0.00,2,     2.52,2, -999.000,9, -999.000,9,   2252.2,2,   2306.4,2,   7.4764,2,    25.00,      832
  49UP20170815,RF1708,  6086,  1,     22,  25831,2,20170921,0651,  9.9925, 163.9907, 4975,    606.7,   7.3699,  34.5451,2,  34.5444,2,     47.0,2,    52.09,2,    37.40,2,     0.00,2,     2.69,2, -999.000,9, -999.000,9,   2278.7,2,   2316.1,2,   7.4555,2,    25.00,      829
  49UP20170815,RF1708,  6086,  1,     21,  25830,2,20170921,0651,  9.9925, 163.9907, 4975,    710.8,   6.5313,  34.5307,2,  34.5300,2,     50.2,2,    61.42,2,    38.75,2,     0.00,2,     2.78,2, -999.000,9, -999.000,9,   2282.2,2,   2327.2,2,   7.4475,2,    25.00,      826
  49UP20170815,RF1708,  6086,  1,     20,  25829,2,20170921,0651,  9.9925, 163.9907, 4975,    807.9,   5.8010,  34.5342,2,  34.5339,2,     48.0,2,    71.62,2,    40.45,2,     0.00,2,     2.90,2, -999.000,9, -999.000,9,   2294.5,2,   2335.5,2,   7.4332,2,    25.00,      823
  49UP20170815,RF1708,  6086,  1,     19,  25828,2,20170921,0651,  9.9925, 163.9907, 4975,    906.7,   5.2205,  34.5389,2,  34.5387,6,     52.3,2,    80.84,2,    41.04,2,     0.00,2,     2.93,2, -999.000,9, -999.000,9,   2305.7,2,   2347.9,2,   7.4368,2,    25.00,      820
  49UP20170815,RF1708,  6086,  1,     18,  25827,3,20170921,0651,  9.9925, 163.9907, 4975,   1007.9,   4.8133,  34.5450,2,  34.5451,2,     59.3,2,    87.73,2,    40.88,2,     0.00,2,     2.92,2, -999.000,9, -999.000,9,   2313.5,2,   2352.8,2,   7.4461,2,    25.00,      818
  49UP20170815,RF1708,  6086,  1,     17,  25826,2,20170921,0651,  9.9925, 163.9907, 4975,   1210.2,   4.0405,  34.5631,2,  34.5630,2,     75.5,2,   102.21,2,    40.07,2,     0.00,2,     2.86,2, -999.000,9, -999.000,9,   2315.4,6,   2372.2,6,   7.4741,2,    25.00,      813
  49UP20170815,RF1708,  6086,  1,     16,  25825,2,20170921,0651,  9.9925, 163.9907, 4975,   1414.3,   3.3842,  34.5834,2,  34.5838,2,     80.4,6,   116.42,6,    40.34,6,     0.00,6,     2.87,6, -999.000,9, -999.000,9,   2326.4,2,   2386.0,2,   7.4759,6,    25.00,      809
  49UP20170815,RF1708,  6086,  1,     15,  25824,2,20170921,0651,  9.9925, 163.9907, 4975,   1619.5,   2.7559,  34.6042,2,  34.6045,2,     89.8,2,   130.69,2,    39.90,2,     0.00,2,     2.82,2, -999.000,9, -999.000,9,   2337.1,2,   2400.4,2,   7.4888,2,    25.00,      804
  49UP20170815,RF1708,  6086,  1,     14,  25823,2,20170921,0651,  9.9925, 163.9907, 4975,   1819.2,   2.4212,  34.6197,2,  34.6200,2,     97.8,2,   138.05,2,    39.48,2,     0.00,2,     2.78,2, -999.000,9, -999.000,9,   2343.2,3,   2407.0,2,   7.5020,2,    25.00,      800
  49UP20170815,RF1708,  6086,  1,     13,  25822,2,20170921,0651,  9.9925, 163.9907, 4975,   2021.9,   2.1739,  34.6359,2,  34.6357,2,    105.4,2,   142.59,2,    39.07,2,     0.00,2,     2.74,2, -999.000,9, -999.000,9,   2340.9,3,   2414.6,2,   7.5138,2,    25.00,      755
  49UP20170815,RF1708,  6086,  1,     12,  25821,2,20170921,0651,  9.9925, 163.9907, 4975,   2273.2,   1.9481,  34.6504,2,  34.6503,2,    114.3,2,   146.35,2,    38.52,2,     0.00,2,     2.69,2, -999.000,9, -999.000,9,   2341.2,3,   2419.3,2,   7.5339,2,    25.00,      750
  49UP20170815,RF1708,  6086,  1,     11,  25820,2,20170921,0651,  9.9925, 163.9907, 4975,   2529.8,   1.8106,  34.6598,2,  34.6591,2,    121.4,2,   147.80,2,    38.07,2,     0.00,2,     2.66,2, -999.000,9, -999.000,9,   2340.0,3,   2421.2,2,   7.5418,2,    25.00,      745
  49UP20170815,RF1708,  6086,  1,     10,  25819,2,20170921,0651,  9.9925, 163.9907, 4975,   2786.0,   1.7115,  34.6658,2,  34.6649,2,    127.7,2,   148.49,2,    37.62,2,     0.00,2,     2.62,2, -999.000,9, -999.000,9,   2334.2,3,   2421.3,2,   7.5537,2,    25.00,      739
  49UP20170815,RF1708,  6086,  1,      9,  25818,2,20170921,0651,  9.9925, 163.9907, 4975,   3039.2,   1.6471,  34.6705,2,  34.6696,2,    133.3,2,   147.92,2,    37.28,2,     0.00,2,     2.59,2, -999.000,9, -999.000,9,   2332.7,3,   2420.1,2,   7.5631,2,    25.00,      734
  49UP20170815,RF1708,  6086,  1,      8,  25817,2,20170921,0651,  9.9925, 163.9907, 4975,   3294.7,   1.5579,  34.6769,2,  34.6764,2,    142.4,2,   146.99,2,    36.67,2,     0.00,2,     2.54,2, -999.000,9, -999.000,9,   2337.9,3,   2419.0,2,   7.5727,2,    25.00,      728
  49UP20170815,RF1708,  6086,  1,      7,  25816,2,20170921,0651,  9.9925, 163.9907, 4975,   3549.7,   1.5001,  34.6814,2,  34.6795,4,    147.7,2,   145.19,6,    36.27,6,     0.00,6,     2.51,6, -999.000,9, -999.000,9,   2322.8,2,   2416.4,2,   7.5784,2,    25.00,      723
  49UP20170815,RF1708,  6086,  1,      6,  25815,3,20170921,0651,  9.9925, 163.9907, 4975,   3806.2,   1.4573,  34.6858,2,  34.6854,2,    156.1,2,   142.60,2,    35.68,2,     0.00,2,     2.47,2, -999.000,9, -999.000,9,   2321.8,2,   2412.5,2,   7.5904,2,    25.00,      717
  49UP20170815,RF1708,  6086,  1,      5,  25814,2,20170921,0651,  9.9925, 163.9907, 4975,   4063.0,   1.4391,  34.6889,2,  34.6887,2,    161.2,2,   139.94,2,    35.36,2,     0.00,2,     2.44,2, -999.000,9, -999.000,9,   2310.8,6,   2410.6,6,   7.5941,2,    25.00,      712
  49UP20170815,RF1708,  6086,  1,      4,  25813,2,20170921,0651,  9.9925, 163.9907, 4975,   4319.2,   1.4193,  34.6926,2,  34.6924,2,    168.4,2,   136.16,2,    34.85,2,     0.00,2,     2.40,2, -999.000,9, -999.000,9,   2304.5,2,   2407.8,2,   7.6049,6,    25.00,      706
  49UP20170815,RF1708,  6086,  1,      3,  25812,2,20170921,0651,  9.9925, 163.9907, 4975,   4576.7,   1.4016,  34.6959,2,  34.6947,2,    173.7,2,   132.63,2,    34.42,2,     0.00,2,     2.38,2, -999.000,9, -999.000,9,   2298.2,2,   2402.7,2,   7.6097,2,    25.00,      701
  49UP20170815,RF1708,  6086,  1,      2,  25811,2,20170921,0651,  9.9925, 163.9907, 4975,   4830.9,   1.3884,  34.6988,2,  34.6982,6,    180.3,2,   129.50,2,    33.96,2,     0.00,2,     2.34,2, -999.000,9, -999.000,9,   2295.3,2,   2396.0,2,   7.6157,2,    25.00,      656
  49UP20170815,RF1708,  6086,  1,      1,  25810,2,20170921,0651,  9.9925, 163.9907, 4975,   5056.1,   1.3916,  34.7003,2,  34.6977,4,    180.7,3,   127.95,2,    33.87,2,     0.00,2,     2.34,2, -999.000,9, -999.000,9,   2289.1,2,   2393.7,2,   7.6156,2,    25.00,      651