BOTTLE,20200309PRINUNIVRMK
EXPOCODE,SECT_ID,STNNBR,CASTNO,SAMPNO,BTLNBR,BTLNBR_FLAG_W,DATE,TIME,LATITUDE,LONGITUDE,DEPTH,CTDPRS,CTDTMP,CTDSAL,CTDSAL_FLAG_W,SALNTY,SALNTY_FLAG_W,OXYGEN,OXYGEN_FLAG_W,SILCAT,SILCAT_FLAG_W,NITRAT,NITRAT_FLAG_W,NITRIT,NITRIT_FLAG_W,PHSPHT,PHSPHT_FLAG_W,CFC-11,CFC-11_FLAG_W,CFC-12,CFC-12_FLAG_W,TCARBN,TCARBN_FLAG_W,ALKALI,ALKALI_FLAG_W,PH_TOT,PH_TOT_FLAG_W,PH_TMP,BTL_TIME
,,,,,,,,,,,METERS,DBAR,ITS-90,PSS-78,,PSS-78,,UMOL/KG,,UMOL/KG,,UMOL/KG,,UMOL/KG,,UMOL/KG,,PMOL/KG,,PMOL/KG,,UMOL/KG,,UMOL/KG,,,,DEG C,
  49UP20170815,RF1708,  6080,  1,     99,     99,2,20170917,1215, 23.9838, 164.9763, 6046,      0.0,  29.2968,  35.0652,2,  35.0571,2,    196.4,2,     1.09,2,     0.02,2,     0.00,2,     0.05,2, -999.000,9, -999.000,9,   1972.5,2,   2303.2,2,   8.1095,2,    25.00,     1417
  49UP20170815,RF1708,  6080,  1,     36,  25845,2,20170917,1215, 23.9838, 164.9763, 6046,     10.6,  29.3117,  35.0659,2,  35.0650,2,    196.4,2,     1.07,2,     0.00,2,     0.00,2,     0.02,2, -999.000,9, -999.000,9,   1967.9,2,   2304.6,2,   8.1107,2,    25.00,     1445
  49UP20170815,RF1708,  6080,  1,     35,  25844,2,20170917,1215, 23.9838, 164.9763, 6046,     25.4,  29.3105,  35.0691,2,  35.0705,2,    196.2,2,     1.08,2,     0.00,2,     0.00,2,     0.02,2, -999.000,9, -999.000,9,   1965.4,2,   2305.7,2,   8.1129,2,    25.00,     1444
  49UP20170815,RF1708,  6080,  1,     34,  25843,2,20170917,1215, 23.9838, 164.9763, 6046,     49.6,  26.6138,  35.2178,2,  35.2315,4,    219.3,2,     1.17,2,     0.00,2,     0.00,2,     0.02,2, -999.000,9, -999.000,9,   1985.3,2,   2315.3,2,   8.0968,2,    25.00,     1440
  49UP20170815,RF1708,  6080,  1,     33,  25842,2,20170917,1215, 23.9838, 164.9763, 6046,     74.9,  23.5125,  35.2578,2,  35.2587,2,    216.7,2,     1.39,2,     0.00,2,     0.00,2,     0.03,2, -999.000,9, -999.000,9,   2010.9,2,   2319.3,2,   8.0635,2,    25.00,     1439
  49UP20170815,RF1708,  6080,  1,     32,  25841,2,20170917,1215, 23.9838, 164.9763, 6046,    102.5,  21.5933,  35.1680,2,  35.1723,2,    211.8,2,     1.73,2,     0.00,2,     0.00,2,     0.05,2, -999.000,9, -999.000,9,   2019.5,6,   2311.9,6,   8.0324,2,    25.00,     1437
  49UP20170815,RF1708,  6080,  1,     31,  25840,2,20170917,1215, 23.9838, 164.9763, 6046,    126.0,  20.1627,  35.0487,2,  35.0476,2,    213.8,2,     1.96,2,     0.07,2,     0.06,2,     0.07,2, -999.000,9, -999.000,9,   2031.2,2,   2304.1,2,   8.0087,6,    25.00,     1436
  49UP20170815,RF1708,  6080,  1,     30,  25839,2,20170917,1215, 23.9838, 164.9763, 6046,    152.0,  18.9071,  34.9252,2,  34.9249,2,    214.0,2,     2.27,2,     0.61,2,     0.17,2,     0.11,2, -999.000,9, -999.000,9,   2030.9,2,   2295.2,2,   7.9876,2,    25.00,     1434
  49UP20170815,RF1708,  6080,  1,     29,  25838,2,20170917,1215, 23.9838, 164.9763, 6046,    201.4,  17.5596,  34.8082,2,  34.8077,2,    208.5,2,     3.47,2,     3.80,2,     0.01,2,     0.27,2, -999.000,9, -999.000,9,   2043.1,2,   2286.8,2,   7.9590,2,    25.00,     1432
  49UP20170815,RF1708,  6080,  1,     28,  25837,2,20170917,1215, 23.9838, 164.9763, 6046,    253.0,  16.9423,  34.7741,2,  34.7734,2,    218.1,6,     3.94,6,     4.12,6,     0.01,6,     0.29,6, -999.000,9, -999.000,9,   2040.0,2,   2285.0,2,   7.9553,2,    25.00,     1430
  49UP20170815,RF1708,  6080,  1,     27,  25836,2,20170917,1215, 23.9838, 164.9763, 6046,    303.7,  16.0327,  34.6719,2,  34.6682,2,    212.1,2,     5.64,2,     5.82,2,     0.01,2,     0.40,2, -999.000,9, -999.000,9,   2048.3,2,   2280.1,2,   7.9248,2,    25.00,     1428
  49UP20170815,RF1708,  6080,  1,     26,  25835,2,20170917,1215, 23.9838, 164.9763, 6046,    408.3,  13.0692,  34.3936,2,  34.4008,4,    197.1,2,    12.76,2,    11.65,2,     0.00,2,     0.81,2, -999.000,9, -999.000,9,   2087.7,2,   2272.5,2,   7.8299,2,    25.00,     1425
  49UP20170815,RF1708,  6080,  1,     25,  25834,2,20170917,1215, 23.9838, 164.9763, 6046,    506.6,  10.5092,  34.2006,2,  34.2059,4,    184.8,2,    21.61,2,    17.19,2,     0.00,2,     1.22,2, -999.000,9, -999.000,9,   2122.8,2,   2270.7,2,   7.7388,2,    25.00,     1421
  49UP20170815,RF1708,  6080,  1,     24,  25833,2,20170917,1215, 23.9838, 164.9763, 6046,    606.8,   7.7849,  34.0810,2,  34.0826,2,    142.3,2,    42.86,2,    26.32,2,     0.00,2,     1.88,2, -999.000,9, -999.000,9,   2196.2,2,   2281.4,2,   7.5972,2,    25.00,     1418
  49UP20170815,RF1708,  6080,  1,     23,  25832,2,20170917,1215, 23.9838, 164.9763, 6046,    708.0,   5.7435,  34.0811,2,  34.0803,2,     93.0,2,    70.08,2,    34.40,2,     0.00,2,     2.48,2, -999.000,9, -999.000,9,   2258.8,2,   2304.5,2,   7.4673,2,    25.00,     1414
  49UP20170815,RF1708,  6080,  1,     22,  25831,2,20170917,1215, 23.9838, 164.9763, 6046,    808.2,   4.7608,  34.1982,2,  34.1999,2,     52.1,2,    92.43,2,    39.55,2,     0.00,2,     2.85,2, -999.000,9, -999.000,9,   2309.9,2,   2331.1,2,   7.3880,2,    25.00,     1411
  49UP20170815,RF1708,  6080,  1,     21,  25830,2,20170917,1215, 23.9838, 164.9763, 6046,    908.9,   4.1908,  34.2979,2,  34.2987,2,     40.3,2,   106.26,2,    41.29,2,     0.00,2,     2.97,2, -999.000,9, -999.000,9,   2339.0,2,   2350.7,2,   7.3747,2,    25.00,     1408
  49UP20170815,RF1708,  6080,  1,     20,  25829,2,20170917,1215, 23.9838, 164.9763, 6046,   1011.0,   3.8408,  34.3812,2,  34.3804,2,     40.8,2,   115.72,2,    41.90,2,     0.00,2,     3.01,2, -999.000,9, -999.000,9,   2339.5,6,   2364.5,6,   7.3802,2,    25.00,     1406
  49UP20170815,RF1708,  6080,  1,     19,  25828,2,20170917,1215, 23.9838, 164.9763, 6046,   1212.1,   3.2072,  34.4742,2,  34.4749,2,     52.5,6,   130.12,6,    41.60,6,     0.00,6,     2.98,6, -999.000,9, -999.000,9,   2355.5,2,   2385.7,2,   7.4084,6,    25.00,     1401
  49UP20170815,RF1708,  6080,  1,     18,  25827,3,20170917,1215, 23.9838, 164.9763, 6046,   1412.9,   2.8001,  34.5274,2,  34.5277,2,     68.0,2,   137.28,2,    40.87,2,     0.00,2,     2.91,2, -999.000,9, -999.000,9,   2352.9,2,   2395.4,2,   7.4348,2,    25.00,     1357
  49UP20170815,RF1708,  6080,  1,     17,  25826,2,20170917,1215, 23.9838, 164.9763, 6046,   1617.6,   2.4759,  34.5634,2,  34.5620,2,     79.2,2,   142.05,2,    40.25,2,     0.00,2,     2.86,2, -999.000,9, -999.000,9,   2355.2,2,   2402.8,2,   7.4607,2,    25.00,     1352
  49UP20170815,RF1708,  6080,  1,     16,  25825,2,20170917,1215, 23.9838, 164.9763, 6046,   1820.1,   2.1999,  34.5925,2,  34.5936,2,     90.0,2,   147.44,2,    39.87,2,     0.00,2,     2.82,2, -999.000,9, -999.000,9,   2350.3,2,   2409.5,2,   7.4781,2,    25.00,     1348
  49UP20170815,RF1708,  6080,  1,     15,  25824,2,20170917,1215, 23.9838, 164.9763, 6046,   2022.1,   1.9982,  34.6147,2,  34.6094,4,    100.0,2,   148.27,2,    39.12,2,     0.00,2,     2.76,2, -999.000,9, -999.000,9,   2346.0,2,   2413.5,2,   7.4961,2,    25.00,     1344
  49UP20170815,RF1708,  6080,  1,     14,  25823,2,20170917,1215, 23.9838, 164.9763, 6046,   2277.0,   1.8392,  34.6356,2,  34.6366,2,    111.3,2,   151.11,2,    38.64,2,     0.00,2,     2.71,2, -999.000,9, -999.000,9,   2343.3,2,   2418.6,2,   7.5171,2,    25.00,     1338
  49UP20170815,RF1708,  6080,  1,     13,  25822,4,20170917,1215, 23.9838, 164.9763, 6046,   2529.8,   1.7334,  34.6475,2,  34.6235,4,    120.9,4,   139.02,4,    36.27,4,     0.00,4,     2.55,4, -999.000,9, -999.000,9,   2326.7,4,   2405.9,4,   7.5507,4,    25.00,     1334
  49UP20170815,RF1708,  6080,  1,     12,  25821,4,20170917,1215, 23.9838, 164.9763, 6046,   2783.3,   1.6598,  34.6560,2,  34.6264,4,    123.2,4,    52.11,4,    18.61,4,     0.01,4,     1.30,4, -999.000,9, -999.000,9,   2286.1,4,   2387.9,4,   7.7528,4,    25.00,     1329
  49UP20170815,RF1708,  6080,  1,     11,  25820,2,20170917,1215, 23.9838, 164.9763, 6046,   3039.6,   1.6085,  34.6642,2,  34.6644,2,    131.3,2,   151.47,2,    37.45,2,     0.00,2,     2.62,2, -999.000,9, -999.000,9,   2336.5,2,   2421.5,2,   7.5550,2,    25.00,     1323
  49UP20170815,RF1708,  6080,  1,     10,  25819,2,20170917,1215, 23.9838, 164.9763, 6046,   3295.3,   1.5699,  34.6693,2,  34.6701,2,    136.6,6,   150.97,6,    37.06,6,     0.00,6,     2.59,6, -999.000,9, -999.000,9,   2341.8,3,   2421.7,2,   7.5596,2,    25.00,     1318
  49UP20170815,RF1708,  6080,  1,      9,  25818,2,20170917,1215, 23.9838, 164.9763, 6046,   3553.7,   1.5382,  34.6742,2,  34.6745,2,    141.5,2,   150.02,2,    36.75,2,     0.00,2,     2.56,2, -999.000,9, -999.000,9,   2331.5,2,   2421.2,2,   7.5671,2,    25.00,     1312
  49UP20170815,RF1708,  6080,  1,      8,  25817,2,20170917,1215, 23.9838, 164.9763, 6046,   3809.2,   1.5187,  34.6778,2,  34.6783,2,    146.0,2,   148.29,2,    36.40,2,     0.00,2,     2.53,2, -999.000,9, -999.000,9,   2325.8,6,   2419.4,6,   7.5749,2,    25.00,     1307
  49UP20170815,RF1708,  6080,  1,      7,  25816,2,20170917,1215, 23.9838, 164.9763, 6046,   4064.2,   1.4985,  34.6815,2,  34.6826,2,    151.8,2,   146.60,2,    36.06,2,     0.00,2,     2.51,2, -999.000,9, -999.000,9,   2324.9,2,   2418.2,2,   7.5830,6,    25.00,     1301
  49UP20170815,RF1708,  6080,  1,      6,  25815,2,20170917,1215, 23.9838, 164.9763, 6046,   4577.4,   1.4809,  34.6875,2,  34.6883,2,    160.4,2,   142.59,2,    35.44,2,     0.00,2,     2.46,2, -999.000,9, -999.000,9,   2318.2,2,   2414.7,2,   7.5922,2,    25.00,     1250
  49UP20170815,RF1708,  6080,  1,      5,  25814,2,20170917,1215, 23.9838, 164.9763, 6046,   5093.2,   1.4735,  34.6931,2,  34.6933,2,    169.9,2,   137.26,2,    34.83,2,     0.00,2,     2.41,2, -999.000,9, -999.000,9,   2303.7,3,   2408.5,2,   7.6040,2,    25.00,     1239
  49UP20170815,RF1708,  6080,  1,      4,  25813,2,20170917,1215, 23.9838, 164.9763, 6046,   5349.9,   1.4796,  34.6949,2,  34.6960,2,    173.5,2,   135.25,2,    34.56,2,     0.00,2,     2.40,2, -999.000,9, -999.000,9,   2304.2,2,   2405.8,2,   7.6063,2,    25.00,     1233
  49UP20170815,RF1708,  6080,  1,      3,  25812,2,20170917,1215, 23.9838, 164.9763, 6046,   5607.5,   1.4928,  34.6963,2,  34.6956,2,    174.6,3,   133.85,2,    34.42,2,     0.00,2,     2.38,2, -999.000,9, -999.000,9,   2297.6,2,   2403.2,2,   7.6098,2,    25.00,     1227
  49UP20170815,RF1708,  6080,  1,      2,  25811,2,20170917,1215, 23.9838, 164.9763, 6046,   5867.6,   1.5166,  34.6970,2,  34.6978,6,    177.4,2,   132.50,2,    34.27,2,     0.00,2,     2.38,2, -999.000,9, -999.000,9,   2294.4,2,   2401.6,2,   7.6128,2,    25.00,     1221
  49UP20170815,RF1708,  6080,  1,      1,  25810,2,20170917,1215, 23.9838, 164.9763, 6046,   6130.2,   1.5480,  34.6973,2,  34.6979,6,    177.9,6,   132.32,6,    34.23,6,     0.00,6,     2.37,6, -999.000,9, -999.000,9,   2306.1,3,   2401.8,2,   7.6150,2,    25.00,     1215