BOTTLE,20200309PRINUNIVRMK
EXPOCODE,SECT_ID,STNNBR,CASTNO,SAMPNO,BTLNBR,BTLNBR_FLAG_W,DATE,TIME,LATITUDE,LONGITUDE,DEPTH,CTDPRS,CTDTMP,CTDSAL,CTDSAL_FLAG_W,SALNTY,SALNTY_FLAG_W,OXYGEN,OXYGEN_FLAG_W,SILCAT,SILCAT_FLAG_W,NITRAT,NITRAT_FLAG_W,NITRIT,NITRIT_FLAG_W,PHSPHT,PHSPHT_FLAG_W,CFC-11,CFC-11_FLAG_W,CFC-12,CFC-12_FLAG_W,TCARBN,TCARBN_FLAG_W,ALKALI,ALKALI_FLAG_W,PH_TOT,PH_TOT_FLAG_W,PH_TMP,BTL_TIME
,,,,,,,,,,,METERS,DBAR,ITS-90,PSS-78,,PSS-78,,UMOL/KG,,UMOL/KG,,UMOL/KG,,UMOL/KG,,UMOL/KG,,PMOL/KG,,PMOL/KG,,UMOL/KG,,UMOL/KG,,,,DEG C,
  49UP20170815,RF1708,  6087,  1,     99,     99,2,20170921,1540,  8.9953, 163.9843, 5193,      0.0,  29.5161,  33.7337,2,-999.0000,9,    195.2,2,     1.23,2,     0.03,2,     0.00,2,     0.12,2, -999.000,9, -999.000,9,   -999.0,9,   -999.0,9,-999.0000,9,  -999.00,     1720
  49UP20170815,RF1708,  6087,  1,     36,  25845,2,20170921,1540,  8.9953, 163.9843, 5193,     11.9,  29.7402,  34.2998,2,  34.2760,4,    194.0,2,     1.21,2,     0.03,2,     0.00,2,     0.11,2, -999.000,9, -999.000,9,   -999.0,9,   -999.0,9,-999.0000,9,  -999.00,     1747
  49UP20170815,RF1708,  6087,  1,     35,  25844,2,20170921,1540,  8.9953, 163.9843, 5193,     27.8,  29.7614,  34.3386,2,  34.3371,2,    194.0,6,     1.25,6,     0.01,6,     0.00,6,     0.11,6, -999.000,9, -999.000,9,   -999.0,9,   -999.0,9,-999.0000,9,  -999.00,     1746
  49UP20170815,RF1708,  6087,  1,     34,  25843,2,20170921,1540,  8.9953, 163.9843, 5193,     51.6,  29.6800,  34.5497,2,  34.5370,4,    196.3,2,     1.22,2,     0.03,2,     0.00,2,     0.13,2, -999.000,9, -999.000,9,   -999.0,9,   -999.0,9,-999.0000,9,  -999.00,     1744
  49UP20170815,RF1708,  6087,  1,     33,  25842,2,20170921,1540,  8.9953, 163.9843, 5193,     77.0,  28.8703,  34.6795,2,  34.6774,2,    198.8,2,     1.29,2,     0.02,2,     0.00,2,     0.13,2, -999.000,9, -999.000,9,   -999.0,9,   -999.0,9,-999.0000,9,  -999.00,     1743
  49UP20170815,RF1708,  6087,  1,     32,  25841,2,20170921,1540,  8.9953, 163.9843, 5193,    102.7,  26.5547,  34.7603,2,  34.7607,2,    202.4,2,     1.46,2,     0.02,2,     0.00,2,     0.12,2, -999.000,9, -999.000,9,   -999.0,9,   -999.0,9,-999.0000,9,  -999.00,     1741
  49UP20170815,RF1708,  6087,  1,     31,  25840,2,20170921,1540,  8.9953, 163.9843, 5193,    127.2,  20.8084,  34.7544,2,  34.7591,2,    168.9,2,     4.93,2,     4.30,2,     0.39,2,     0.52,2, -999.000,9, -999.000,9,   -999.0,9,   -999.0,9,-999.0000,9,  -999.00,     1739
  49UP20170815,RF1708,  6087,  1,     30,  25839,2,20170921,1540,  8.9953, 163.9843, 5193,    152.1,  15.0144,  34.5463,2,  34.5578,4,    136.0,2,    12.19,2,    13.92,2,     0.03,2,     1.09,2, -999.000,9, -999.000,9,   -999.0,9,   -999.0,9,-999.0000,9,  -999.00,     1735
  49UP20170815,RF1708,  6087,  1,     29,  25838,2,20170921,1540,  8.9953, 163.9843, 5193,    200.7,  11.6974,  34.4702,2,  34.4702,2,     80.4,2,    24.54,2,    25.13,2,     0.00,2,     1.88,2, -999.000,9, -999.000,9,   -999.0,9,   -999.0,9,-999.0000,9,  -999.00,     1733
  49UP20170815,RF1708,  6087,  1,     28,  25837,2,20170921,1540,  8.9953, 163.9843, 5193,    253.4,  10.3730,  34.5971,2,  34.5956,2,     39.2,2,    32.03,2,    32.26,2,     0.00,2,     2.33,2, -999.000,9, -999.000,9,   -999.0,9,   -999.0,9,-999.0000,9,  -999.00,     1731
  49UP20170815,RF1708,  6087,  1,     27,  25836,2,20170921,1540,  8.9953, 163.9843, 5193,    303.6,   9.7939,  34.6202,2,  34.6201,2,     36.8,2,    34.31,2,    33.74,2,     0.00,2,     2.41,2, -999.000,9, -999.000,9,   -999.0,9,   -999.0,9,-999.0000,9,  -999.00,     1730
  49UP20170815,RF1708,  6087,  1,     26,  25835,2,20170921,1540,  8.9953, 163.9843, 5193,    354.6,   9.2740,  34.6218,2,  34.6209,2,     38.7,6,    36.47,6,    34.65,6,     0.00,6,     2.47,6, -999.000,9, -999.000,9,   -999.0,9,   -999.0,9,-999.0000,9,  -999.00,     1728
  49UP20170815,RF1708,  6087,  1,     25,  25834,2,20170921,1540,  8.9953, 163.9843, 5193,    402.8,   8.9544,  34.6079,2,  34.6068,2,     42.9,2,    38.31,2,    34.89,2,     0.00,2,     2.49,2, -999.000,9, -999.000,9,   -999.0,9,   -999.0,9,-999.0000,9,  -999.00,     1727
  49UP20170815,RF1708,  6087,  1,     24,  25833,2,20170921,1540,  8.9953, 163.9843, 5193,    452.5,   8.5463,  34.5883,2,  34.5876,2,     50.6,2,    40.49,2,    35.00,2,     0.00,2,     2.49,2, -999.000,9, -999.000,9,   -999.0,9,   -999.0,9,-999.0000,9,  -999.00,     1725
  49UP20170815,RF1708,  6087,  1,     23,  25832,2,20170921,1540,  8.9953, 163.9843, 5193,    505.3,   8.1539,  34.5729,2,  34.5728,2,     49.4,2,    43.74,2,    35.70,2,     0.00,2,     2.55,2, -999.000,9, -999.000,9,   -999.0,9,   -999.0,9,-999.0000,9,  -999.00,     1723
  49UP20170815,RF1708,  6087,  1,     22,  25831,2,20170921,1540,  8.9953, 163.9843, 5193,    605.0,   7.2274,  34.5406,2,  34.5408,2,     54.0,2,    52.69,2,    37.05,2,     0.00,2,     2.66,2, -999.000,9, -999.000,9,   -999.0,9,   -999.0,9,-999.0000,9,  -999.00,     1721
  49UP20170815,RF1708,  6087,  1,     21,  25830,2,20170921,1540,  8.9953, 163.9843, 5193,    707.4,   6.4079,  34.5323,2,  34.5323,2,     54.6,2,    62.40,2,    38.64,2,     0.00,2,     2.77,2, -999.000,9, -999.000,9,   -999.0,9,   -999.0,9,-999.0000,9,  -999.00,     1718
  49UP20170815,RF1708,  6087,  1,     20,  25829,2,20170921,1540,  8.9953, 163.9843, 5193,    809.0,   5.7057,  34.5336,2,  34.5333,2,     62.1,2,    71.79,2,    39.22,2,     0.00,2,     2.80,2, -999.000,9, -999.000,9,   -999.0,9,   -999.0,9,-999.0000,9,  -999.00,     1715
  49UP20170815,RF1708,  6087,  1,     19,  25828,2,20170921,1540,  8.9953, 163.9843, 5193,    908.8,   5.1300,  34.5395,2,  34.5398,2,     60.7,2,    81.49,2,    40.28,2,     0.00,2,     2.87,2, -999.000,9, -999.000,9,   -999.0,9,   -999.0,9,-999.0000,9,  -999.00,     1712
  49UP20170815,RF1708,  6087,  1,     18,  25827,2,20170921,1540,  8.9953, 163.9843, 5193,   1010.9,   4.7451,  34.5461,2,  34.5468,2,     63.1,2,    88.72,2,    40.49,2,     0.00,2,     2.90,2, -999.000,9, -999.000,9,   -999.0,9,   -999.0,9,-999.0000,9,  -999.00,     1709
  49UP20170815,RF1708,  6087,  1,     17,  25826,2,20170921,1540,  8.9953, 163.9843, 5193,   1211.4,   3.8889,  34.5673,2,  34.5683,2,     76.0,6,   105.28,6,    40.19,6,     0.00,6,     2.87,6, -999.000,9, -999.000,9,   -999.0,9,   -999.0,9,-999.0000,9,  -999.00,     1704
  49UP20170815,RF1708,  6087,  1,     16,  25825,2,20170921,1540,  8.9953, 163.9843, 5193,   1413.6,   3.1980,  34.5885,2,  34.5892,2,     83.1,2,   120.47,2,    40.15,2,     0.00,2,     2.85,2, -999.000,9, -999.000,9,   -999.0,9,   -999.0,9,-999.0000,9,  -999.00,     1700
  49UP20170815,RF1708,  6087,  1,     15,  25824,2,20170921,1540,  8.9953, 163.9843, 5193,   1617.2,   2.7498,  34.6067,2,  34.6068,2,     90.6,2,   129.55,2,    39.84,2,     0.00,2,     2.83,2, -999.000,9, -999.000,9,   -999.0,9,   -999.0,9,-999.0000,9,  -999.00,     1655
  49UP20170815,RF1708,  6087,  1,     14,  25823,2,20170921,1540,  8.9953, 163.9843, 5193,   1821.3,   2.3933,  34.6246,2,  34.6252,2,     99.4,2,   137.53,2,    39.42,2,     0.00,2,     2.78,2, -999.000,9, -999.000,9,   -999.0,9,   -999.0,9,-999.0000,9,  -999.00,     1651
  49UP20170815,RF1708,  6087,  1,     13,  25822,2,20170921,1540,  8.9953, 163.9843, 5193,   2023.0,   2.1913,  34.6362,2,  34.6368,2,    105.1,2,   141.97,2,    39.12,2,     0.00,2,     2.75,2, -999.000,9, -999.000,9,   -999.0,9,   -999.0,9,-999.0000,9,  -999.00,     1646
  49UP20170815,RF1708,  6087,  1,     12,  25821,2,20170921,1540,  8.9953, 163.9843, 5193,   2276.7,   1.9762,  34.6497,2,  34.6504,2,    112.9,2,   146.18,2,    38.65,2,     0.00,2,     2.70,2, -999.000,9, -999.000,9,   -999.0,9,   -999.0,9,-999.0000,9,  -999.00,     1640
  49UP20170815,RF1708,  6087,  1,     11,  25820,2,20170921,1540,  8.9953, 163.9843, 5193,   2531.5,   1.8257,  34.6590,2,  34.6586,2,    120.1,2,   147.43,2,    38.16,2,     0.00,2,     2.66,2, -999.000,9, -999.000,9,   -999.0,9,   -999.0,9,-999.0000,9,  -999.00,     1635
  49UP20170815,RF1708,  6087,  1,     10,  25819,2,20170921,1540,  8.9953, 163.9843, 5193,   2786.3,   1.7281,  34.6652,2,  34.6656,2,    127.1,2,   148.62,2,    37.71,2,     0.00,2,     2.62,2, -999.000,9, -999.000,9,   -999.0,9,   -999.0,9,-999.0000,9,  -999.00,     1629
  49UP20170815,RF1708,  6087,  1,      9,  25818,2,20170921,1540,  8.9953, 163.9843, 5193,   3037.2,   1.6450,  34.6708,2,  34.6706,2,    132.7,2,   148.24,2,    37.30,2,     0.00,2,     2.59,2, -999.000,9, -999.000,9,   -999.0,9,   -999.0,9,-999.0000,9,  -999.00,     1624
  49UP20170815,RF1708,  6087,  1,      8,  25817,2,20170921,1540,  8.9953, 163.9843, 5193,   3294.5,   1.5587,  34.6770,2,  34.6773,2,    140.9,6,   147.95,6,    36.78,6,     0.00,6,     2.55,6, -999.000,9, -999.000,9,   -999.0,9,   -999.0,9,-999.0000,9,  -999.00,     1619
  49UP20170815,RF1708,  6087,  1,      7,  25816,2,20170921,1540,  8.9953, 163.9843, 5193,   3549.4,   1.5089,  34.6812,2,  34.6816,6,    147.7,2,   146.41,2,    36.34,2,     0.00,2,     2.52,2, -999.000,9, -999.000,9,   -999.0,9,   -999.0,9,-999.0000,9,  -999.00,     1614
  49UP20170815,RF1708,  6087,  1,      6,  25815,2,20170921,1540,  8.9953, 163.9843, 5193,   3805.1,   1.4662,  34.6853,2,  34.6853,2,    154.7,2,   143.08,2,    35.79,2,     0.00,2,     2.47,2, -999.000,9, -999.000,9,   -999.0,9,   -999.0,9,-999.0000,9,  -999.00,     1609
  49UP20170815,RF1708,  6087,  1,      5,  25814,2,20170921,1540,  8.9953, 163.9843, 5193,   4062.7,   1.4348,  34.6897,2,  34.6904,6,    162.9,2,   138.52,2,    35.18,2,     0.00,2,     2.43,2, -999.000,9, -999.000,9,   -999.0,9,   -999.0,9,-999.0000,9,  -999.00,     1603
  49UP20170815,RF1708,  6087,  1,      4,  25813,2,20170921,1540,  8.9953, 163.9843, 5193,   4575.1,   1.4108,  34.6957,2,  34.6962,6,    173.9,2,   132.60,2,    34.45,2,     0.00,2,     2.37,2, -999.000,9, -999.000,9,   -999.0,9,   -999.0,9,-999.0000,9,  -999.00,     1554
  49UP20170815,RF1708,  6087,  1,      3,  25812,2,20170921,1540,  8.9953, 163.9843, 5193,   4829.8,   1.3948,  34.6984,2,  34.6991,2,    179.1,2,   129.66,2,    34.00,2,     0.00,2,     2.34,2, -999.000,9, -999.000,9,   -999.0,9,   -999.0,9,-999.0000,9,  -999.00,     1549
  49UP20170815,RF1708,  6087,  1,      2,  25811,2,20170921,1540,  8.9953, 163.9843, 5193,   5087.5,   1.3998,  34.7000,2,  34.7007,2,    182.7,2,   127.92,2,    33.75,2,     0.00,2,     2.32,2, -999.000,9, -999.000,9,   -999.0,9,   -999.0,9,-999.0000,9,  -999.00,     1544
  49UP20170815,RF1708,  6087,  1,      1,  25810,2,20170921,1540,  8.9953, 163.9843, 5193,   5289.6,   1.4163,  34.7008,2,  34.7008,6,    182.8,2,   127.59,2,    33.69,2,     0.00,2,     2.32,2, -999.000,9, -999.000,9,   -999.0,9,   -999.0,9,-999.0000,9,  -999.00,     1540