BOTTLE,20200309PRINUNIVRMK
EXPOCODE,SECT_ID,STNNBR,CASTNO,SAMPNO,BTLNBR,BTLNBR_FLAG_W,DATE,TIME,LATITUDE,LONGITUDE,DEPTH,CTDPRS,CTDTMP,CTDSAL,CTDSAL_FLAG_W,SALNTY,SALNTY_FLAG_W,OXYGEN,OXYGEN_FLAG_W,SILCAT,SILCAT_FLAG_W,NITRAT,NITRAT_FLAG_W,NITRIT,NITRIT_FLAG_W,PHSPHT,PHSPHT_FLAG_W,CFC-11,CFC-11_FLAG_W,CFC-12,CFC-12_FLAG_W,TCARBN,TCARBN_FLAG_W,ALKALI,ALKALI_FLAG_W,PH_TOT,PH_TOT_FLAG_W,PH_TMP,BTL_TIME
,,,,,,,,,,,METERS,DBAR,ITS-90,PSS-78,,PSS-78,,UMOL/KG,,UMOL/KG,,UMOL/KG,,UMOL/KG,,UMOL/KG,,PMOL/KG,,PMOL/KG,,UMOL/KG,,UMOL/KG,,,,DEG C,
  49UP20170815,RF1708,  6088,  1,     99,     99,2,20170922,0138,  8.0330, 164.0002, 5148,      0.0,  29.8291,  33.9532,2,-999.0000,9,    195.3,2,     1.12,2,     0.02,2,     0.00,2,     0.09,2, -999.000,9, -999.000,9,   -999.0,9,   -999.0,9,-999.0000,9,  -999.00,      320
  49UP20170815,RF1708,  6088,  1,     36,  25845,2,20170922,0138,  8.0330, 164.0002, 5148,     12.4,  29.8550,  33.9622,2,  33.9599,2,    195.2,6,     1.10,6,     0.00,6,     0.00,6,     0.08,6, -999.000,9, -999.000,9,   -999.0,9,   -999.0,9,-999.0000,9,  -999.00,      344
  49UP20170815,RF1708,  6088,  1,     35,  25844,2,20170922,0138,  8.0330, 164.0002, 5148,     26.2,  29.8870,  33.9857,2,  33.9848,2,    195.6,2,     1.13,2,     0.00,2,     0.00,2,     0.08,2, -999.000,9, -999.000,9,   -999.0,9,   -999.0,9,-999.0000,9,  -999.00,      343
  49UP20170815,RF1708,  6088,  1,     34,  25843,2,20170922,0138,  8.0330, 164.0002, 5148,     53.1,  29.4707,  34.5545,2,  34.5436,4,    199.3,2,     1.13,2,     0.00,2,     0.00,2,     0.12,2, -999.000,9, -999.000,9,   -999.0,9,   -999.0,9,-999.0000,9,  -999.00,      341
  49UP20170815,RF1708,  6088,  1,     33,  25842,2,20170922,0138,  8.0330, 164.0002, 5148,     77.3,  29.0478,  34.6600,2,  34.6613,2,    198.3,2,     1.19,2,     0.00,2,     0.00,2,     0.14,2, -999.000,9, -999.000,9,   -999.0,9,   -999.0,9,-999.0000,9,  -999.00,      340
  49UP20170815,RF1708,  6088,  1,     32,  25841,2,20170922,0138,  8.0330, 164.0002, 5148,    101.5,  27.9495,  34.7318,2,  34.7341,2,    194.7,2,     1.37,2,    -0.01,2,     0.01,2,     0.18,2, -999.000,9, -999.000,9,   -999.0,9,   -999.0,9,-999.0000,9,  -999.00,      336
  49UP20170815,RF1708,  6088,  1,     31,  25840,2,20170922,0138,  8.0330, 164.0002, 5148,    127.2,  20.1441,  34.7579,2,  34.7522,2,    165.3,2,     5.28,2,     4.57,2,     0.33,2,     0.55,2, -999.000,9, -999.000,9,   -999.0,9,   -999.0,9,-999.0000,9,  -999.00,      335
  49UP20170815,RF1708,  6088,  1,     30,  25839,2,20170922,0138,  8.0330, 164.0002, 5148,    150.5,  14.8606,  34.5575,2,  34.5531,2,    118.1,2,    14.78,2,    16.75,2,     0.03,2,     1.30,2, -999.000,9, -999.000,9,   -999.0,9,   -999.0,9,-999.0000,9,  -999.00,      333
  49UP20170815,RF1708,  6088,  1,     29,  25838,2,20170922,0138,  8.0330, 164.0002, 5148,    202.2,  10.8628,  34.5534,2,  34.5531,2,     44.2,2,    29.91,2,    30.57,2,     0.00,2,     2.25,2, -999.000,9, -999.000,9,   -999.0,9,   -999.0,9,-999.0000,9,  -999.00,      332
  49UP20170815,RF1708,  6088,  1,     28,  25837,2,20170922,0138,  8.0330, 164.0002, 5148,    254.3,  10.1695,  34.6331,2,  34.6320,2,     40.6,2,    32.46,2,    32.78,2,     0.00,2,     2.35,2, -999.000,9, -999.000,9,   -999.0,9,   -999.0,9,-999.0000,9,  -999.00,      330
  49UP20170815,RF1708,  6088,  1,     27,  25836,2,20170922,0138,  8.0330, 164.0002, 5148,    303.8,   9.6999,  34.6408,2,  34.6398,2,     51.5,6,    33.26,6,    32.78,6,     0.00,6,     2.33,6, -999.000,9, -999.000,9,   -999.0,9,   -999.0,9,-999.0000,9,  -999.00,      328
  49UP20170815,RF1708,  6088,  1,     26,  25835,2,20170922,0138,  8.0330, 164.0002, 5148,    353.3,   9.2757,  34.6191,2,  34.6185,2,     74.0,2,    33.80,2,    31.67,2,     0.00,2,     2.24,2, -999.000,9, -999.000,9,   -999.0,9,   -999.0,9,-999.0000,9,  -999.00,      326
  49UP20170815,RF1708,  6088,  1,     25,  25834,2,20170922,0138,  8.0330, 164.0002, 5148,    402.3,   8.9540,  34.6148,2,  34.6138,2,     47.6,2,    37.45,2,    34.65,2,     0.00,2,     2.45,2, -999.000,9, -999.000,9,   -999.0,9,   -999.0,9,-999.0000,9,  -999.00,      325
  49UP20170815,RF1708,  6088,  1,     24,  25833,2,20170922,0138,  8.0330, 164.0002, 5148,    453.8,   8.5035,  34.5950,2,  34.5958,2,     44.8,2,    40.86,2,    35.58,2,     0.00,2,     2.54,2, -999.000,9, -999.000,9,   -999.0,9,   -999.0,9,-999.0000,9,  -999.00,      323
  49UP20170815,RF1708,  6088,  1,     23,  25832,2,20170922,0138,  8.0330, 164.0002, 5148,    504.4,   8.1517,  34.5825,2,  34.5821,2,     52.0,2,    42.97,2,    35.76,2,     0.00,2,     2.54,2, -999.000,9, -999.000,9,   -999.0,9,   -999.0,9,-999.0000,9,  -999.00,      322
  49UP20170815,RF1708,  6088,  1,     22,  25831,2,20170922,0138,  8.0330, 164.0002, 5148,    605.2,   7.4317,  34.5613,2,  34.5609,2,     46.5,2,    50.23,2,    37.64,2,     0.00,2,     2.70,2, -999.000,9, -999.000,9,   -999.0,9,   -999.0,9,-999.0000,9,  -999.00,      319
  49UP20170815,RF1708,  6088,  1,     21,  25830,2,20170922,0138,  8.0330, 164.0002, 5148,    706.4,   6.6019,  34.5394,2,  34.5370,2,     49.8,2,    59.93,2,    38.89,2,     0.00,2,     2.79,2, -999.000,9, -999.000,9,   -999.0,9,   -999.0,9,-999.0000,9,  -999.00,      316
  49UP20170815,RF1708,  6088,  1,     20,  25829,2,20170922,0138,  8.0330, 164.0002, 5148,    806.3,   5.8967,  34.5371,2,  34.5372,2,     57.8,2,    68.52,2,    39.48,2,     0.00,2,     2.82,2, -999.000,9, -999.000,9,   -999.0,9,   -999.0,9,-999.0000,9,  -999.00,      314
  49UP20170815,RF1708,  6088,  1,     19,  25828,2,20170922,0138,  8.0330, 164.0002, 5148,    905.9,   5.2181,  34.5399,2,  34.5402,2,     68.0,2,    79.50,2,    39.45,2,     0.00,2,     2.81,2, -999.000,9, -999.000,9,   -999.0,9,   -999.0,9,-999.0000,9,  -999.00,      311
  49UP20170815,RF1708,  6088,  1,     18,  25827,2,20170922,0138,  8.0330, 164.0002, 5148,   1008.9,   4.7132,  34.5486,2,  34.5491,2,     74.3,6,    88.29,6,    39.50,6,     0.00,6,     2.82,6, -999.000,9, -999.000,9,   -999.0,9,   -999.0,9,-999.0000,9,  -999.00,      309
  49UP20170815,RF1708,  6088,  1,     17,  25826,2,20170922,0138,  8.0330, 164.0002, 5148,   1211.3,   3.8850,  34.5682,2,  34.5687,2,     80.0,2,   104.75,2,    39.81,2,     0.00,2,     2.84,2, -999.000,9, -999.000,9,   -999.0,9,   -999.0,9,-999.0000,9,  -999.00,      304
  49UP20170815,RF1708,  6088,  1,     16,  25825,2,20170922,0138,  8.0330, 164.0002, 5148,   1413.2,   3.2769,  34.5860,2,  34.5864,2,     84.3,2,   118.75,2,    39.98,2,     0.00,2,     2.84,2, -999.000,9, -999.000,9,   -999.0,9,   -999.0,9,-999.0000,9,  -999.00,      300
  49UP20170815,RF1708,  6088,  1,     15,  25824,2,20170922,0138,  8.0330, 164.0002, 5148,   1614.6,   2.8266,  34.6027,2,  34.6035,2,     89.6,2,   128.69,2,    39.83,2,     0.00,2,     2.83,2, -999.000,9, -999.000,9,   -999.0,9,   -999.0,9,-999.0000,9,  -999.00,      256
  49UP20170815,RF1708,  6088,  1,     14,  25823,2,20170922,0138,  8.0330, 164.0002, 5148,   1818.7,   2.4562,  34.6219,2,  34.6226,2,     98.7,2,   136.42,2,    39.46,2,     0.00,2,     2.79,2, -999.000,9, -999.000,9,   -999.0,9,   -999.0,9,-999.0000,9,  -999.00,      251
  49UP20170815,RF1708,  6088,  1,     13,  25822,2,20170922,0138,  8.0330, 164.0002, 5148,   2022.9,   2.1894,  34.6362,2,  34.6364,6,    105.0,2,   141.82,2,    39.10,2,     0.00,2,     2.75,2, -999.000,9, -999.000,9,   -999.0,9,   -999.0,9,-999.0000,9,  -999.00,      247
  49UP20170815,RF1708,  6088,  1,     12,  25821,2,20170922,0138,  8.0330, 164.0002, 5148,   2275.8,   1.9820,  34.6497,2,  34.6507,2,    113.5,2,   145.60,2,    38.55,2,     0.00,2,     2.70,2, -999.000,9, -999.000,9,   -999.0,9,   -999.0,9,-999.0000,9,  -999.00,      241
  49UP20170815,RF1708,  6088,  1,     11,  25820,2,20170922,0138,  8.0330, 164.0002, 5148,   2529.2,   1.8528,  34.6576,2,  34.6580,6,    119.4,2,   147.47,2,    38.14,2,     0.00,2,     2.66,2, -999.000,9, -999.000,9,   -999.0,9,   -999.0,9,-999.0000,9,  -999.00,      236
  49UP20170815,RF1708,  6088,  1,     10,  25819,2,20170922,0138,  8.0330, 164.0002, 5148,   2785.2,   1.7528,  34.6642,2,  34.6651,2,    126.2,2,   148.21,2,    37.76,2,     0.00,2,     2.63,2, -999.000,9, -999.000,9,   -999.0,9,   -999.0,9,-999.0000,9,  -999.00,      230
  49UP20170815,RF1708,  6088,  1,      9,  25818,2,20170922,0138,  8.0330, 164.0002, 5148,   3039.2,   1.6705,  34.6696,2,  34.6689,2,    132.7,6,   146.76,6,    37.24,6,     0.00,6,     2.59,6, -999.000,9, -999.000,9,   -999.0,9,   -999.0,9,-999.0000,9,  -999.00,      225
  49UP20170815,RF1708,  6088,  1,      8,  25817,2,20170922,0138,  8.0330, 164.0002, 5148,   3295.0,   1.5773,  34.6760,2,  34.6763,6,    141.3,2,   146.76,2,    36.76,2,     0.00,2,     2.56,2, -999.000,9, -999.000,9,   -999.0,9,   -999.0,9,-999.0000,9,  -999.00,      219
  49UP20170815,RF1708,  6088,  1,      7,  25816,2,20170922,0138,  8.0330, 164.0002, 5148,   3548.6,   1.5145,  34.6812,2,  34.6814,2,    149.1,2,   144.01,2,    36.22,2,     0.00,2,     2.51,2, -999.000,9, -999.000,9,   -999.0,9,   -999.0,9,-999.0000,9,  -999.00,      214
  49UP20170815,RF1708,  6088,  1,      6,  25815,2,20170922,0138,  8.0330, 164.0002, 5148,   3804.7,   1.4723,  34.6856,2,  34.6854,2,    156.0,2,   141.84,2,    35.73,2,     0.00,2,     2.47,2, -999.000,9, -999.000,9,   -999.0,9,   -999.0,9,-999.0000,9,  -999.00,      209
  49UP20170815,RF1708,  6088,  1,      5,  25814,3,20170922,0138,  8.0330, 164.0002, 5148,   4061.8,   1.4534,  34.6888,2,  34.6888,2,    161.4,2,   138.83,2,    35.26,2,     0.00,2,     2.44,2, -999.000,9, -999.000,9,   -999.0,9,   -999.0,9,-999.0000,9,  -999.00,      203
  49UP20170815,RF1708,  6088,  1,      4,  25813,2,20170922,0138,  8.0330, 164.0002, 5148,   4574.6,   1.4230,  34.6949,2,  34.6952,2,    172.5,2,   133.60,2,    34.57,2,     0.00,2,     2.38,2, -999.000,9, -999.000,9,   -999.0,9,   -999.0,9,-999.0000,9,  -999.00,      153
  49UP20170815,RF1708,  6088,  1,      3,  25812,2,20170922,0138,  8.0330, 164.0002, 5148,   4831.1,   1.4187,  34.6971,2,  34.6972,2,    176.0,2,   131.66,2,    34.30,2,     0.00,2,     2.36,2, -999.000,9, -999.000,9,   -999.0,9,   -999.0,9,-999.0000,9,  -999.00,      147
  49UP20170815,RF1708,  6088,  1,      2,  25811,2,20170922,0138,  8.0330, 164.0002, 5148,   5087.6,   1.4076,  34.6995,2,  34.6997,2,    181.7,2,   128.63,2,    33.88,2,     0.00,2,     2.34,2, -999.000,9, -999.000,9,   -999.0,9,   -999.0,9,-999.0000,9,  -999.00,      142
  49UP20170815,RF1708,  6088,  1,      1,  25810,2,20170922,0138,  8.0330, 164.0002, 5148,   5245.4,   1.4111,  34.7010,2,  34.7011,6,    183.2,2,   127.89,2,    33.76,2,     0.00,2,     2.32,2, -999.000,9, -999.000,9,   -999.0,9,   -999.0,9,-999.0000,9,  -999.00,      138