BOTTLE,20200309PRINUNIVRMK
EXPOCODE,SECT_ID,STNNBR,CASTNO,SAMPNO,BTLNBR,BTLNBR_FLAG_W,DATE,TIME,LATITUDE,LONGITUDE,DEPTH,CTDPRS,CTDTMP,CTDSAL,CTDSAL_FLAG_W,SALNTY,SALNTY_FLAG_W,OXYGEN,OXYGEN_FLAG_W,SILCAT,SILCAT_FLAG_W,NITRAT,NITRAT_FLAG_W,NITRIT,NITRIT_FLAG_W,PHSPHT,PHSPHT_FLAG_W,CFC-11,CFC-11_FLAG_W,CFC-12,CFC-12_FLAG_W,TCARBN,TCARBN_FLAG_W,ALKALI,ALKALI_FLAG_W,PH_TOT,PH_TOT_FLAG_W,PH_TMP,BTL_TIME
,,,,,,,,,,,METERS,DBAR,ITS-90,PSS-78,,PSS-78,,UMOL/KG,,UMOL/KG,,UMOL/KG,,UMOL/KG,,UMOL/KG,,PMOL/KG,,PMOL/KG,,UMOL/KG,,UMOL/KG,,,,DEG C,
  49UP20170815,RF1708,  6093,  1,     99,     99,2,20170923,2114,  2.9948, 164.9958, 4245,      0.0,  30.2849,  34.5875,2,-999.0000,9,    193.7,2,     1.22,2,     0.01,2,     0.00,2,     0.13,2, -999.000,9, -999.000,9,   -999.0,9,   -999.0,9,-999.0000,9,  -999.00,     2238
  49UP20170815,RF1708,  6093,  1,     36,  25845,2,20170923,2114,  2.9948, 164.9958, 4245,     10.4,  30.2920,  34.5868,2,  34.5889,2,    194.2,2,     1.20,2,     0.00,2,     0.00,2,     0.11,2, -999.000,9, -999.000,9,   -999.0,9,   -999.0,9,-999.0000,9,  -999.00,     2308
  49UP20170815,RF1708,  6093,  1,     35,  25844,2,20170923,2114,  2.9948, 164.9958, 4245,     25.3,  30.2625,  34.5903,2,  34.5895,2,    193.4,2,     1.18,2,     0.00,2,     0.00,2,     0.11,2, -999.000,9, -999.000,9,   -999.0,9,   -999.0,9,-999.0000,9,  -999.00,     2307
  49UP20170815,RF1708,  6093,  1,     34,  25843,2,20170923,2114,  2.9948, 164.9958, 4245,     51.1,  30.2419,  34.6184,2,  34.6181,2,    194.3,2,     1.20,2,     0.02,2,     0.00,2,     0.12,2, -999.000,9, -999.000,9,   -999.0,9,   -999.0,9,-999.0000,9,  -999.00,     2306
  49UP20170815,RF1708,  6093,  1,     33,  25842,2,20170923,2114,  2.9948, 164.9958, 4245,     77.1,  29.9832,  34.7662,2,  34.7639,2,    192.1,6,     1.32,6,     0.01,6,     0.00,6,     0.14,6, -999.000,9, -999.000,9,   -999.0,9,   -999.0,9,-999.0000,9,  -999.00,     2304
  49UP20170815,RF1708,  6093,  1,     32,  25841,2,20170923,2114,  2.9948, 164.9958, 4245,    100.9,  29.5899,  34.8894,2,  34.8798,4,    189.8,2,     1.37,2,     0.00,2,     0.00,2,     0.17,2, -999.000,9, -999.000,9,   -999.0,9,   -999.0,9,-999.0000,9,  -999.00,     2300
  49UP20170815,RF1708,  6093,  1,     31,  25840,2,20170923,2114,  2.9948, 164.9958, 4245,    126.7,  26.7521,  34.7771,2,  34.7814,2,    156.9,2,     3.15,2,     3.32,2,     0.29,2,     0.38,2, -999.000,9, -999.000,9,   -999.0,9,   -999.0,9,-999.0000,9,  -999.00,     2258
  49UP20170815,RF1708,  6093,  1,     30,  25839,2,20170923,2114,  2.9948, 164.9958, 4245,    152.1,  20.8156,  34.8535,2,  34.8682,4,    145.2,2,     6.58,2,     7.86,2,     0.03,2,     0.64,2, -999.000,9, -999.000,9,   -999.0,9,   -999.0,9,-999.0000,9,  -999.00,     2257
  49UP20170815,RF1708,  6093,  1,     29,  25838,2,20170923,2114,  2.9948, 164.9958, 4245,    203.8,  11.3761,  34.6982,2,  34.6864,4,    126.3,2,    23.34,2,    22.65,2,     0.01,2,     1.63,2, -999.000,9, -999.000,9,   -999.0,9,   -999.0,9,-999.0000,9,  -999.00,     2255
  49UP20170815,RF1708,  6093,  1,     28,  25837,2,20170923,2114,  2.9948, 164.9958, 4245,    253.3,  10.9407,  34.7589,2,  34.7575,2,    115.1,2,    22.07,2,    24.88,2,     0.00,2,     1.77,2, -999.000,9, -999.000,9,   -999.0,9,   -999.0,9,-999.0000,9,  -999.00,     2253
  49UP20170815,RF1708,  6093,  1,     27,  25836,2,20170923,2114,  2.9948, 164.9958, 4245,    303.2,  10.3298,  34.7244,2,  34.7240,2,    111.3,2,    24.02,2,    26.39,2,     0.00,2,     1.86,2, -999.000,9, -999.000,9,   -999.0,9,   -999.0,9,-999.0000,9,  -999.00,     2251
  49UP20170815,RF1708,  6093,  1,     26,  25835,2,20170923,2114,  2.9948, 164.9958, 4245,    353.4,   9.9186,  34.7001,2,  34.7005,2,     93.0,2,    26.93,2,    29.05,2,     0.00,2,     2.03,2, -999.000,9, -999.000,9,   -999.0,9,   -999.0,9,-999.0000,9,  -999.00,     2249
  49UP20170815,RF1708,  6093,  1,     25,  25834,2,20170923,2114,  2.9948, 164.9958, 4245,    404.8,   9.5987,  34.6769,2,  34.6766,2,    105.8,2,    27.06,2,    28.37,2,     0.00,2,     1.99,2, -999.000,9, -999.000,9,   -999.0,9,   -999.0,9,-999.0000,9,  -999.00,     2248
  49UP20170815,RF1708,  6093,  1,     24,  25833,2,20170923,2114,  2.9948, 164.9958, 4245,    456.0,   9.0900,  34.6415,2,  34.6417,2,    108.2,6,    29.26,6,    29.05,6,     0.00,6,     2.03,6, -999.000,9, -999.000,9,   -999.0,9,   -999.0,9,-999.0000,9,  -999.00,     2246
  49UP20170815,RF1708,  6093,  1,     22,  25831,2,20170923,2114,  2.9948, 164.9958, 4245,    507.7,   8.4731,  34.6045,2,  34.6050,2,    102.0,2,    33.09,2,    30.72,2,     0.00,2,     2.15,2, -999.000,9, -999.000,9,   -999.0,9,   -999.0,9,-999.0000,9,  -999.00,     2244
  49UP20170815,RF1708,  6093,  1,     23,  25832,2,20170923,2114,  2.9948, 164.9958, 4245,    508.9,   8.4659,  34.6039,2,  34.6043,2,    102.2,2,    33.13,2,    30.71,2,     0.00,2,     2.15,2, -999.000,9, -999.000,9,   -999.0,9,   -999.0,9,-999.0000,9,  -999.00,     2244
  49UP20170815,RF1708,  6093,  1,     21,  25830,2,20170923,2114,  2.9948, 164.9958, 4245,    606.3,   7.2673,  34.5663,2,  34.5663,2,     71.4,2,    46.30,2,    35.93,2,     0.00,2,     2.55,2, -999.000,9, -999.000,9,   -999.0,9,   -999.0,9,-999.0000,9,  -999.00,     2241
  49UP20170815,RF1708,  6093,  1,     20,  25829,2,20170923,2114,  2.9948, 164.9958, 4245,    708.5,   6.2020,  34.5460,2,  34.5453,2,     71.6,2,    57.59,2,    38.15,2,     0.00,2,     2.71,2, -999.000,9, -999.000,9,   -999.0,9,   -999.0,9,-999.0000,9,  -999.00,     2235
  49UP20170815,RF1708,  6093,  1,     19,  25828,2,20170923,2114,  2.9948, 164.9958, 4245,    807.8,   5.4976,  34.5398,2,  34.5403,2,     82.7,2,    66.87,2,    38.14,2,     0.00,2,     2.71,2, -999.000,9, -999.000,9,   -999.0,9,   -999.0,9,-999.0000,9,  -999.00,     2232
  49UP20170815,RF1708,  6093,  1,     18,  25827,2,20170923,2114,  2.9948, 164.9958, 4245,    908.1,   5.0186,  34.5437,2,  34.5438,2,     86.7,2,    75.53,2,    38.29,2,     0.00,2,     2.73,2, -999.000,9, -999.000,9,   -999.0,9,   -999.0,9,-999.0000,9,  -999.00,     2229
  49UP20170815,RF1708,  6093,  1,     17,  25826,2,20170923,2114,  2.9948, 164.9958, 4245,   1008.7,   4.6440,  34.5504,2,  34.5512,2,     89.6,2,    82.94,2,    38.35,2,     0.00,2,     2.73,2, -999.000,9, -999.000,9,   -999.0,9,   -999.0,9,-999.0000,9,  -999.00,     2226
  49UP20170815,RF1708,  6093,  1,     16,  25825,2,20170923,2114,  2.9948, 164.9958, 4245,   1211.0,   3.8919,  34.5696,2,  34.5695,2,     96.2,2,    98.94,2,    38.45,2,     0.00,2,     2.74,2, -999.000,9, -999.000,9,   -999.0,9,   -999.0,9,-999.0000,9,  -999.00,     2219
  49UP20170815,RF1708,  6093,  1,     15,  25824,2,20170923,2114,  2.9948, 164.9958, 4245,   1412.5,   3.2832,  34.5900,2,  34.5904,2,     97.0,6,   112.34,6,    38.84,6,     0.00,6,     2.76,6, -999.000,9, -999.000,9,   -999.0,9,   -999.0,9,-999.0000,9,  -999.00,     2215
  49UP20170815,RF1708,  6093,  1,     14,  25823,2,20170923,2114,  2.9948, 164.9958, 4245,   1615.2,   2.8618,  34.6065,2,  34.6068,2,    102.8,2,   121.81,2,    38.69,2,     0.00,2,     2.74,2, -999.000,9, -999.000,9,   -999.0,9,   -999.0,9,-999.0000,9,  -999.00,     2211
  49UP20170815,RF1708,  6093,  1,     13,  25822,2,20170923,2114,  2.9948, 164.9958, 4245,   1817.9,   2.5306,  34.6216,2,  34.6214,2,    106.8,2,   130.00,2,    38.62,2,     0.00,2,     2.73,2, -999.000,9, -999.000,9,   -999.0,9,   -999.0,9,-999.0000,9,  -999.00,     2205
  49UP20170815,RF1708,  6093,  1,     12,  25821,2,20170923,2114,  2.9948, 164.9958, 4245,   2020.9,   2.3026,  34.6333,2,  34.6316,2,    111.3,2,   134.98,2,    38.38,2,     0.00,2,     2.71,2, -999.000,9, -999.000,9,   -999.0,9,   -999.0,9,-999.0000,9,  -999.00,     2201
  49UP20170815,RF1708,  6093,  1,     11,  25820,2,20170923,2114,  2.9948, 164.9958, 4245,   2273.9,   2.0400,  34.6480,2,  34.6477,2,    115.5,2,   141.90,2,    38.28,2,     0.00,2,     2.69,2, -999.000,9, -999.000,9,   -999.0,9,   -999.0,9,-999.0000,9,  -999.00,     2155
  49UP20170815,RF1708,  6093,  1,     10,  25819,2,20170923,2114,  2.9948, 164.9958, 4245,   2274.2,   2.0399,  34.6479,2,  34.6480,2,    115.7,2,   141.68,2,    38.22,2,     0.00,2,     2.69,2, -999.000,9, -999.000,9,   -999.0,9,   -999.0,9,-999.0000,9,  -999.00,     2155
  49UP20170815,RF1708,  6093,  1,      9,  25818,2,20170923,2114,  2.9948, 164.9958, 4245,   2526.9,   1.8784,  34.6578,2,  34.6560,2,    121.7,2,   144.83,2,    37.90,2,     0.00,2,     2.66,2, -999.000,9, -999.000,9,   -999.0,9,   -999.0,9,-999.0000,9,  -999.00,     2150
  49UP20170815,RF1708,  6093,  1,      8,  25817,2,20170923,2114,  2.9948, 164.9958, 4245,   2782.6,   1.7687,  34.6638,2,  34.6640,2,    127.9,2,   145.97,2,    37.49,2,     0.00,2,     2.62,2, -999.000,9, -999.000,9,   -999.0,9,   -999.0,9,-999.0000,9,  -999.00,     2145
  49UP20170815,RF1708,  6093,  1,      7,  25816,2,20170923,2114,  2.9948, 164.9958, 4245,   3038.2,   1.6639,  34.6697,2,  34.6700,6,    135.8,2,   145.89,2,    37.00,2,     0.00,2,     2.58,2, -999.000,9, -999.000,9,   -999.0,9,   -999.0,9,-999.0000,9,  -999.00,     2141
  49UP20170815,RF1708,  6093,  1,      6,  25815,2,20170923,2114,  2.9948, 164.9958, 4245,   3293.0,   1.5969,  34.6749,2,  34.6749,2,    141.7,6,   145.20,6,    36.61,6,     0.00,6,     2.55,6, -999.000,9, -999.000,9,   -999.0,9,   -999.0,9,-999.0000,9,  -999.00,     2136
  49UP20170815,RF1708,  6093,  1,      5,  25814,2,20170923,2114,  2.9948, 164.9958, 4245,   3547.8,   1.5156,  34.6810,2,  34.6816,2,    150.1,2,   142.89,2,    36.12,2,     0.00,2,     2.50,2, -999.000,9, -999.000,9,   -999.0,9,   -999.0,9,-999.0000,9,  -999.00,     2130
  49UP20170815,RF1708,  6093,  1,      4,  25813,2,20170923,2114,  2.9948, 164.9958, 4245,   3548.1,   1.5155,  34.6811,2,  34.6808,2,    150.2,2,   143.10,2,    36.10,2,     0.00,2,     2.50,2, -999.000,9, -999.000,9,   -999.0,9,   -999.0,9,-999.0000,9,  -999.00,     2130
  49UP20170815,RF1708,  6093,  1,      3,  25812,2,20170923,2114,  2.9948, 164.9958, 4245,   3804.4,   1.4687,  34.6859,2,  34.6862,6,    157.2,2,   140.32,2,    35.55,2,     0.00,2,     2.46,2, -999.000,9, -999.000,9,   -999.0,9,   -999.0,9,-999.0000,9,  -999.00,     2125
  49UP20170815,RF1708,  6093,  1,      2,  25811,2,20170923,2114,  2.9948, 164.9958, 4245,   4061.1,   1.4411,  34.6900,2,  34.6903,6,    163.8,2,   137.47,2,    35.13,2,     0.00,2,     2.43,2, -999.000,9, -999.000,9,   -999.0,9,   -999.0,9,-999.0000,9,  -999.00,     2120
  49UP20170815,RF1708,  6093,  1,      1,  25810,2,20170923,2114,  2.9948, 164.9958, 4245,   4293.8,   1.4059,  34.6941,2,  34.6943,2,    171.0,2,   133.90,2,    34.59,2,     0.00,2,     2.39,2, -999.000,9, -999.000,9,   -999.0,9,   -999.0,9,-999.0000,9,  -999.00,     2114