BOTTLE,20200309PRINUNIVRMK
EXPOCODE,SECT_ID,STNNBR,CASTNO,SAMPNO,BTLNBR,BTLNBR_FLAG_W,DATE,TIME,LATITUDE,LONGITUDE,DEPTH,CTDPRS,CTDTMP,CTDSAL,CTDSAL_FLAG_W,SALNTY,SALNTY_FLAG_W,OXYGEN,OXYGEN_FLAG_W,SILCAT,SILCAT_FLAG_W,NITRAT,NITRAT_FLAG_W,NITRIT,NITRIT_FLAG_W,PHSPHT,PHSPHT_FLAG_W,CFC-11,CFC-11_FLAG_W,CFC-12,CFC-12_FLAG_W,TCARBN,TCARBN_FLAG_W,ALKALI,ALKALI_FLAG_W,PH_TOT,PH_TOT_FLAG_W,PH_TMP,BTL_TIME
,,,,,,,,,,,METERS,DBAR,ITS-90,PSS-78,,PSS-78,,UMOL/KG,,UMOL/KG,,UMOL/KG,,UMOL/KG,,UMOL/KG,,PMOL/KG,,PMOL/KG,,UMOL/KG,,UMOL/KG,,,,DEG C,
  49UP20170815,RF1708,  6091,  1,     99,     99,2,20170923,0447,  4.9985, 164.9978, 4761,      0.0,  30.3559,  33.5682,2,  33.5778,2,    195.0,2,     1.17,2,     0.02,2,     0.00,2,     0.04,2, -999.000,9, -999.000,9,   1871.7,2,   2208.4,2,   8.1396,2,    25.00,      620
  49UP20170815,RF1708,  6091,  1,     36,  25845,2,20170923,0447,  4.9985, 164.9978, 4761,     11.4,  30.3605,  33.5662,2,  33.5657,2,    194.8,2,     1.13,2,     0.03,2,     0.00,2,     0.03,2, -999.000,9, -999.000,9,   1871.0,2,   2206.9,2,   8.1397,2,    25.00,      648
  49UP20170815,RF1708,  6091,  1,     35,  25844,2,20170923,0447,  4.9985, 164.9978, 4761,     26.0,  30.2660,  33.5611,2,  33.5603,2,    195.0,2,     1.09,2,     0.02,2,     0.00,2,     0.03,2, -999.000,9, -999.000,9,   1871.4,2,   2206.3,2,   8.1397,2,    25.00,      647
  49UP20170815,RF1708,  6091,  1,     34,  25843,2,20170923,0447,  4.9985, 164.9978, 4761,     51.0,  30.2562,  33.5709,2,  33.5766,2,    195.4,2,     1.14,2,     0.02,2,     0.00,2,     0.03,2, -999.000,9, -999.000,9,   1872.2,2,   2207.1,2,   8.1435,2,    25.00,      644
  49UP20170815,RF1708,  6091,  1,     33,  25842,2,20170923,0447,  4.9985, 164.9978, 4761,     79.6,  29.2121,  34.0895,2,  34.0856,2,    200.1,2,     1.54,2,     0.01,2,     0.00,2,     0.04,2, -999.000,9, -999.000,9,   1925.9,2,   2242.2,2,   8.1018,2,    25.00,      642
  49UP20170815,RF1708,  6091,  1,     32,  25841,2,20170923,0447,  4.9985, 164.9978, 4761,    102.5,  27.4428,  34.2984,2,  34.3187,4,    179.6,2,     2.70,2,     0.20,2,     0.01,2,     0.16,2, -999.000,9, -999.000,9,   1965.1,2,   2258.3,2,   8.0503,2,    25.00,      641
  49UP20170815,RF1708,  6091,  1,     31,  25840,2,20170923,0447,  4.9985, 164.9978, 4761,    126.7,  25.1028,  34.6028,2,  34.6123,4,    155.3,2,     4.43,2,     4.16,2,     0.35,2,     0.40,2, -999.000,9, -999.000,9,   2017.1,2,   2274.4,2,   7.9839,2,    25.00,      640
  49UP20170815,RF1708,  6091,  1,     30,  25839,2,20170923,0447,  4.9985, 164.9978, 4761,    148.2,  22.8755,  34.7184,2,  34.7193,2,    154.5,6,     5.05,6,     4.77,6,     0.39,6,     0.50,6, -999.000,9, -999.000,9,   2048.3,2,   2283.7,2,   7.9433,2,    25.00,      639
  49UP20170815,RF1708,  6091,  1,     29,  25838,2,20170923,0447,  4.9985, 164.9978, 4761,    201.5,  12.1376,  34.5364,2,  34.5363,2,     94.8,2,    24.48,2,    23.75,2,     0.00,2,     1.74,2, -999.000,9, -999.000,9,   2182.0,2,   2287.7,2,   7.6357,2,    25.00,      637
  49UP20170815,RF1708,  6091,  1,     28,  25837,2,20170923,0447,  4.9985, 164.9978, 4761,    202.0,  12.1003,  34.5340,2,  34.5364,2,     94.1,2,    24.67,2,    23.92,2,     0.00,2,     1.75,2, -999.000,9, -999.000,9,   2181.3,2,   2288.3,2,   7.6315,2,    25.00,      637
  49UP20170815,RF1708,  6091,  1,     27,  25836,2,20170923,0447,  4.9985, 164.9978, 4761,    252.3,  10.1585,  34.6247,2,  34.6257,2,     48.7,2,    32.26,2,    32.11,2,     0.00,2,     2.30,2, -999.000,9, -999.000,9,   2239.8,6,   2300.5,6,   7.5071,2,    25.00,      635
  49UP20170815,RF1708,  6091,  1,     26,  25835,2,20170923,0447,  4.9985, 164.9978, 4761,    303.0,   9.5447,  34.6382,2,  34.6369,2,     45.6,2,    34.26,2,    33.57,2,     0.00,2,     2.38,2, -999.000,9, -999.000,9,   2243.6,2,   2304.1,2,   7.4912,6,    25.00,      633
  49UP20170815,RF1708,  6091,  1,     25,  25834,2,20170923,0447,  4.9985, 164.9978, 4761,    352.0,   9.2167,  34.6329,2,  34.6315,2,     52.3,2,    35.06,2,    33.75,2,     0.00,2,     2.39,2, -999.000,9, -999.000,9,   2247.0,2,   2304.4,2,   7.4957,2,    25.00,      631
  49UP20170815,RF1708,  6091,  1,     24,  25833,2,20170923,0447,  4.9985, 164.9978, 4761,    403.6,   8.6937,  34.6051,2,  34.6046,2,     92.3,2,    34.05,2,    31.15,2,     0.00,2,     2.18,2, -999.000,9, -999.000,9,   2220.0,2,   2305.3,2,   7.5635,2,    25.00,      630
  49UP20170815,RF1708,  6091,  1,     23,  25832,2,20170923,0447,  4.9985, 164.9978, 4761,    454.3,   8.2695,  34.6018,2,  34.6016,2,     68.9,2,    38.41,2,    34.39,2,     0.00,2,     2.42,2, -999.000,9, -999.000,9,   2242.0,2,   2305.5,2,   7.5121,2,    25.00,      628
  49UP20170815,RF1708,  6091,  1,     22,  25831,3,20170923,0447,  4.9985, 164.9978, 4761,    503.8,   7.8918,  34.5899,2,  34.5892,2,     61.9,2,    42.03,2,    35.79,2,     0.00,2,     2.53,2, -999.000,9, -999.000,9,   2252.0,2,   2311.4,2,   7.4928,2,    25.00,      626
  49UP20170815,RF1708,  6091,  1,     21,  25830,2,20170923,0447,  4.9985, 164.9978, 4761,    603.9,   7.0069,  34.5589,2,  34.5581,2,     49.5,6,    53.07,6,    38.41,6,     0.00,6,     2.75,6, -999.000,9, -999.000,9,   2279.3,2,   2320.6,2,   7.4562,2,    25.00,      624
  49UP20170815,RF1708,  6091,  1,     20,  25829,2,20170923,0447,  4.9985, 164.9978, 4761,    705.2,   6.1236,  34.5421,2,  34.5419,2,     72.6,2,    59.82,2,    38.10,2,     0.00,2,     2.71,2, -999.000,9, -999.000,9,   2273.8,2,   2327.1,2,   7.4836,2,    25.00,      621
  49UP20170815,RF1708,  6091,  1,     19,  25828,2,20170923,0447,  4.9985, 164.9978, 4761,    807.1,   5.4667,  34.5419,2,  34.5418,2,     62.9,2,    73.63,2,    39.72,2,     0.00,2,     2.84,2, -999.000,9, -999.000,9,   2291.8,2,   2341.2,2,   7.4625,2,    25.00,      617
  49UP20170815,RF1708,  6091,  1,     18,  25827,2,20170923,0447,  4.9985, 164.9978, 4761,    907.8,   5.0338,  34.5437,2,  34.5441,2,     81.4,2,    79.54,2,    38.48,2,     0.00,2,     2.74,2, -999.000,9, -999.000,9,   2287.4,2,   2348.4,2,   7.4907,2,    25.00,      614
  49UP20170815,RF1708,  6091,  1,     17,  25826,2,20170923,0447,  4.9985, 164.9978, 4761,   1009.0,   4.5785,  34.5539,2,  34.5541,2,     75.0,2,    88.91,2,    39.64,2,     0.00,2,     2.83,2, -999.000,9, -999.000,9,   2304.6,2,   2358.5,2,   7.4758,2,    25.00,      612
  49UP20170815,RF1708,  6091,  1,     16,  25825,2,20170923,0447,  4.9985, 164.9978, 4761,   1211.6,   3.8418,  34.5725,2,  34.5731,6,     82.4,2,   103.78,2,    39.73,2,     0.00,2,     2.84,2, -999.000,9, -999.000,9,   2313.5,6,   2374.4,6,   7.4847,2,    25.00,      607
  49UP20170815,RF1708,  6091,  1,     15,  25824,2,20170923,0447,  4.9985, 164.9978, 4761,   1413.4,   3.2995,  34.5906,2,  34.5909,2,     85.2,2,   115.50,2,    39.94,2,     0.00,2,     2.85,2, -999.000,9, -999.000,9,   2327.2,2,   2387.5,2,   7.4881,6,    25.00,      603
  49UP20170815,RF1708,  6091,  1,     14,  25823,2,20170923,0447,  4.9985, 164.9978, 4761,   1617.1,   2.8412,  34.6084,2,  34.6087,2,     93.5,2,   125.93,2,    39.62,2,     0.00,2,     2.82,2, -999.000,9, -999.000,9,   2338.5,3,   2396.3,2,   7.4990,2,    25.00,      558
  49UP20170815,RF1708,  6091,  1,     13,  25822,2,20170923,0447,  4.9985, 164.9978, 4761,   1819.0,   2.5046,  34.6223,2,  34.6223,6,    104.9,2,   131.98,2,    38.87,2,     0.00,2,     2.75,2, -999.000,9, -999.000,9,   2335.3,3,   2404.5,2,   7.5177,2,    25.00,      554
  49UP20170815,RF1708,  6091,  1,     12,  25821,2,20170923,0447,  4.9985, 164.9978, 4761,   2022.1,   2.2317,  34.6363,2,  34.6368,2,    111.4,6,   137.59,6,    38.53,6,     0.00,6,     2.72,6, -999.000,9, -999.000,9,   2335.6,3,   2411.5,2,   7.5263,2,    25.00,      548
  49UP20170815,RF1708,  6091,  1,     11,  25820,2,20170923,0447,  4.9985, 164.9978, 4761,   2275.0,   2.0359,  34.6474,2,  34.6477,6,    117.2,2,   141.22,2,    38.18,2,     0.00,2,     2.68,2, -999.000,9, -999.000,9,   2334.1,3,   2415.5,2,   7.5367,2,    25.00,      542
  49UP20170815,RF1708,  6091,  1,     10,  25819,2,20170923,0447,  4.9985, 164.9978, 4761,   2530.7,   1.9134,  34.6556,2,  34.6556,2,    120.2,2,   144.90,2,    38.06,2,     0.00,2,     2.67,2, -999.000,9, -999.000,9,   2338.0,3,   2420.4,2,   7.5449,2,    25.00,      537
  49UP20170815,RF1708,  6091,  1,      9,  25818,2,20170923,0447,  4.9985, 164.9978, 4761,   2784.3,   1.8078,  34.6621,2,  34.6617,6,    125.3,2,   145.64,2,    37.69,2,     0.00,2,     2.64,2, -999.000,9, -999.000,9,   2338.1,3,   2419.5,2,   7.5546,2,    25.00,      531
  49UP20170815,RF1708,  6091,  1,      8,  25817,2,20170923,0447,  4.9985, 164.9978, 4761,   3038.8,   1.7167,  34.6678,2,  34.6679,2,    130.6,2,   147.39,2,    37.40,2,     0.00,2,     2.61,2, -999.000,9, -999.000,9,   2341.0,2,   2420.2,2,   7.5559,2,    25.00,      526
  49UP20170815,RF1708,  6091,  1,      7,  25816,2,20170923,0447,  4.9985, 164.9978, 4761,   3295.6,   1.6267,  34.6730,2,  34.6732,2,    139.4,2,   145.75,2,    36.80,2,     0.00,2,     2.56,2, -999.000,9, -999.000,9,   2331.4,2,   2419.6,2,   7.5701,2,    25.00,      521
  49UP20170815,RF1708,  6091,  1,      6,  25815,2,20170923,0447,  4.9985, 164.9978, 4761,   3550.5,   1.5473,  34.6793,2,  34.6786,2,    147.2,2,   144.67,2,    36.32,2,     0.00,2,     2.52,2, -999.000,9, -999.000,9,   2327.1,2,   2417.6,2,   7.5817,2,    25.00,      515
  49UP20170815,RF1708,  6091,  1,      5,  25814,3,20170923,0447,  4.9985, 164.9978, 4761,   3805.1,   1.4911,  34.6845,2,  34.6842,2,    154.6,2,   141.86,2,    35.80,2,     0.00,2,     2.48,2, -999.000,9, -999.000,9,   2317.1,2,   2414.9,2,   7.5904,2,    25.00,      510
  49UP20170815,RF1708,  6091,  1,      4,  25813,2,20170923,0447,  4.9985, 164.9978, 4761,   4060.7,   1.4576,  34.6887,2,  34.6880,2,    161.4,2,   139.03,2,    35.34,2,     0.00,2,     2.44,2, -999.000,9, -999.000,9,   2313.3,6,   2412.6,6,   7.5976,2,    25.00,      504
  49UP20170815,RF1708,  6091,  1,      3,  25812,2,20170923,0447,  4.9985, 164.9978, 4761,   4318.1,   1.4332,  34.6923,2,  34.6913,2,    167.0,6,   135.80,6,    34.90,6,     0.00,6,     2.41,6, -999.000,9, -999.000,9,   2306.9,2,   2407.4,2,   7.6052,6,    25.00,      458
  49UP20170815,RF1708,  6091,  1,      2,  25811,2,20170923,0447,  4.9985, 164.9978, 4761,   4573.4,   1.4136,  34.6956,2,  34.6946,2,    173.8,2,   132.72,2,    34.43,2,     0.00,2,     2.38,2, -999.000,9, -999.000,9,   2300.5,2,   2404.1,2,   7.6135,2,    25.00,      453
  49UP20170815,RF1708,  6091,  1,      1,  25810,2,20170923,0447,  4.9985, 164.9978, 4761,   4834.5,   1.3635,  34.7005,2,  34.6999,2,    182.0,2,   127.83,2,    33.74,2,     0.00,2,     2.33,2, -999.000,9, -999.000,9,   2291.6,2,   2394.7,2,   7.6174,2,    25.00,      447