BOTTLE,20200309PRINUNIVRMK
EXPOCODE,SECT_ID,STNNBR,CASTNO,SAMPNO,BTLNBR,BTLNBR_FLAG_W,DATE,TIME,LATITUDE,LONGITUDE,DEPTH,CTDPRS,CTDTMP,CTDSAL,CTDSAL_FLAG_W,SALNTY,SALNTY_FLAG_W,OXYGEN,OXYGEN_FLAG_W,SILCAT,SILCAT_FLAG_W,NITRAT,NITRAT_FLAG_W,NITRIT,NITRIT_FLAG_W,PHSPHT,PHSPHT_FLAG_W,CFC-11,CFC-11_FLAG_W,CFC-12,CFC-12_FLAG_W,TCARBN,TCARBN_FLAG_W,ALKALI,ALKALI_FLAG_W,PH_TOT,PH_TOT_FLAG_W,PH_TMP,BTL_TIME
,,,,,,,,,,,METERS,DBAR,ITS-90,PSS-78,,PSS-78,,UMOL/KG,,UMOL/KG,,UMOL/KG,,UMOL/KG,,UMOL/KG,,PMOL/KG,,PMOL/KG,,UMOL/KG,,UMOL/KG,,,,DEG C,
  49UP20170623,RF1707,  6036,  1,     99,     99,2,20170628,0157, 41.5590, 150.9698, 5182,      0.0,  13.0737,  33.5148,2,  33.5339,2,    271.8,2,     1.83,2,     2.55,2,     0.09,2,     0.35,2, -999.000,9, -999.000,9,   2016.6,2,   2255.0,2,   7.9585,2,    25.00,      345
  49UP20170623,RF1707,  6036,  1,     36,  25845,2,20170628,0157, 41.5590, 150.9698, 5182,     10.6,  12.7414,  33.4987,2,  33.5135,4,    273.0,2,     2.08,6,     2.75,6,     0.10,6,     0.37,6,    3.223,2,    1.931,2,   2016.9,2,   2253.8,2,   7.9593,2,    25.00,      411
  49UP20170623,RF1707,  6036,  1,     35,  25844,2,20170628,0157, 41.5590, 150.9698, 5182,     26.3,  11.6374,  34.3219,2,  34.3199,2,    250.6,2,    13.42,2,     9.21,2,     0.27,2,     0.79,2, -999.000,9, -999.000,9,   2084.0,2,   2275.2,2,   7.8571,2,    25.00,      410
  49UP20170623,RF1707,  6036,  1,     34,  25843,2,20170628,0157, 41.5590, 150.9698, 5182,     51.7,  10.5598,  34.2459,2,  34.2423,2,    244.4,2,    15.72,2,    11.45,2,     0.07,2,     0.83,2,    3.176,2,    1.914,2,   2093.4,2,   2272.0,2,   7.8256,2,    25.00,      406
  49UP20170623,RF1707,  6036,  1,     33,  25842,2,20170628,0157, 41.5590, 150.9698, 5182,     74.8,  10.0761,  34.1990,2,  34.1988,2,    240.8,2,    17.75,2,    12.50,2,     0.04,2,     0.90,2, -999.000,9, -999.000,9,   2098.3,2,   2271.6,2,   7.8085,2,    25.00,      405
  49UP20170623,RF1707,  6036,  1,     32,  25841,2,20170628,0157, 41.5590, 150.9698, 5182,    102.1,   9.2117,  34.0837,2,  34.0831,2,    241.4,2,    19.81,2,    13.57,2,     0.03,2,     0.99,2,    3.300,2,    1.967,2,   2110.2,2,   2268.5,2,   7.7871,2,    25.00,      404
  49UP20170623,RF1707,  6036,  1,     31,  25840,2,20170628,0157, 41.5590, 150.9698, 5182,    127.0,   8.0356,  33.9216,2,  33.9218,2,    245.1,2,    21.82,2,    14.60,2,     0.02,2,     1.09,2, -999.000,9, -999.000,9,   2116.4,6,   2264.1,6,   7.7593,2,    25.00,      402
  49UP20170623,RF1707,  6036,  1,     30,  25839,2,20170628,0157, 41.5590, 150.9698, 5182,    154.2,   6.8828,  33.7831,2,  33.7810,2,    244.3,2,    26.70,2,    16.80,2,     0.02,2,     1.26,2,    3.722,2,    2.164,2,   2128.8,2,   2261.5,2,   7.7218,6,    25.00,      401
  49UP20170623,RF1707,  6036,  1,     29,  25838,2,20170628,0157, 41.5590, 150.9698, 5182,    201.9,   5.9740,  33.7590,2,  33.7675,4,    211.9,2,    40.04,2,    22.47,2,     0.01,2,     1.67,2,    3.503,2,    2.012,2,   2163.0,2,   2266.8,2,   7.6373,2,    25.00,      359
  49UP20170623,RF1707,  6036,  1,     28,  25837,3,20170628,0157, 41.5590, 150.9698, 5182,    253.5,   5.8480,  33.9185,2,  33.9192,2,    152.2,2,    58.00,2,    29.13,2,     0.01,2,     2.12,2,    2.776,6,    1.566,6,   2214.1,2,   2284.8,2,   7.5379,2,    25.00,      358
  49UP20170623,RF1707,  6036,  1,     27,  25836,2,20170628,0157, 41.5590, 150.9698, 5182,    283.7,   5.4765,  33.9230,2,  33.9233,2,    135.7,2,    63.91,2,    31.07,2,     0.01,2,     2.25,2,    2.671,2,    1.506,2,   2227.7,2,   2288.5,2,   7.5010,2,    25.00,      356
  49UP20170623,RF1707,  6036,  1,     26,  25835,2,20170628,0157, 41.5590, 150.9698, 5182,    373.9,   4.0592,  33.9069,2,  33.9146,4,     92.7,2,    85.75,2,    37.46,2,     0.01,2,     2.70,2,    2.348,2,    1.260,2,   2286.2,2,   2302.1,2,   7.3805,2,    25.00,      354
  49UP20170623,RF1707,  6036,  1,     25,  25834,2,20170628,0157, 41.5590, 150.9698, 5182,    474.2,   3.7827,  34.0450,2,  34.0479,2,     54.0,6,   103.65,6,    41.00,6,     0.01,6,     2.93,6,    1.629,2,    0.844,2,   2318.3,2,   2320.4,2,   7.3228,2,    25.00,      351
  49UP20170623,RF1707,  6036,  1,     24,  25833,2,20170628,0157, 41.5590, 150.9698, 5182,    576.0,   3.5161,  34.1497,2,  34.1495,2,     34.4,2,   118.50,2,    42.72,2,     0.00,2,     3.04,2,    1.106,2,    0.559,2,   2340.1,2,   2336.8,2,   7.3009,2,    25.00,      348
  49UP20170623,RF1707,  6036,  1,     23,  25832,2,20170628,0157, 41.5590, 150.9698, 5182,    677.1,   3.3744,  34.2416,2,  34.2436,2,     33.6,2,   126.35,2,    42.57,2,     0.00,2,     3.04,2,    0.708,2,    0.368,2,   2348.6,2,   2349.7,2,   7.3179,2,    25.00,      346
  49UP20170623,RF1707,  6036,  1,     22,  25831,2,20170628,0157, 41.5590, 150.9698, 5182,    777.3,   3.3158,  34.3037,2,  34.3054,2,     38.1,6,   129.95,6,    42.39,6,     0.00,6,     3.02,6,    0.493,2,    0.256,2,   2349.6,2,   2359.9,2,   7.3405,2,    25.00,      343
  49UP20170623,RF1707,  6036,  1,     21,  25830,3,20170628,0157, 41.5590, 150.9698, 5182,    878.6,   3.0765,  34.3458,2,  34.3479,6,     35.5,3,   137.18,2,    42.64,2,     0.00,2,     3.04,2,    0.366,2,    0.194,2,   2363.0,6,   2368.2,6,   7.3362,2,    25.00,      340
  49UP20170623,RF1707,  6036,  1,     20,  25829,2,20170628,0157, 41.5590, 150.9698, 5182,    979.9,   2.9155,  34.3920,2,  34.3933,2,     36.1,2,   141.87,2,    42.73,2,     0.00,2,     3.04,2,    0.245,2,    0.130,2,   2363.5,2,   2376.0,2,   7.3481,6,    25.00,      337
  49UP20170623,RF1707,  6036,  1,     19,  25828,2,20170628,0157, 41.5590, 150.9698, 5182,   1143.1,   2.6208,  34.4499,2,  34.4501,2,     39.9,3,   150.21,2,    42.83,2,     0.00,2,     3.04,2,    0.139,2,    0.070,2,   2370.0,2,   2388.3,2,   7.3572,2,    25.00,      333
  49UP20170623,RF1707,  6036,  1,     18,  25827,3,20170628,0157, 41.5590, 150.9698, 5182,   1345.1,   2.4098,  34.4984,2,  34.4979,2,     46.2,3,   155.56,2,    42.75,2,     0.00,2,     3.03,2,    0.069,2,    0.038,2,   2378.1,2,   2395.8,2,   7.3732,2,    25.00,      328
  49UP20170623,RF1707,  6036,  1,     17,  25826,2,20170628,0157, 41.5590, 150.9698, 5182,   1548.6,   2.2198,  34.5355,2,  34.5352,2,     52.0,2,   159.75,2,    42.35,2,     0.00,2,     2.99,2,    0.042,2,    0.027,2,   2389.1,3,   2402.3,2,   7.3925,2,    25.00,      323
  49UP20170623,RF1707,  6036,  1,     16,  25825,3,20170628,0157, 41.5590, 150.9698, 5182,   1751.1,   2.0594,  34.5680,2,  34.5680,2,     63.0,2,   161.97,2,    41.71,2,     0.00,2,     2.94,2,    0.019,6,    0.015,6,   2371.3,2,   2407.3,2,   7.4138,2,    25.00,      318
  49UP20170623,RF1707,  6036,  1,     15,  25824,2,20170628,0157, 41.5590, 150.9698, 5182,   1955.5,   1.9152,  34.5968,2,  34.5959,2,     75.6,2,   162.61,2,    41.00,2,     0.00,2,     2.88,2,    0.001,2,    0.009,2,   2368.0,2,   2410.5,2,   7.4416,2,    25.00,      314
  49UP20170623,RF1707,  6036,  1,     14,  25823,2,20170628,0157, 41.5590, 150.9698, 5182,   2158.7,   1.8115,  34.6156,2,  34.6151,2,     86.6,2,   162.56,2,    40.29,2,     0.00,2,     2.83,2,    0.000,2,    0.009,2,   2358.9,2,   2415.1,2,   7.4616,2,    25.00,      309
  49UP20170623,RF1707,  6036,  1,     13,  25822,2,20170628,0157, 41.5590, 150.9698, 5182,   2361.0,   1.7133,  34.6325,2,  34.6322,6,     99.0,2,   162.23,2,    39.56,2,     0.00,2,     2.77,2,    0.000,2,    0.005,2,   2352.4,2,   2416.1,6,   7.4847,2,    25.00,      304
  49UP20170623,RF1707,  6036,  1,     12,  25821,2,20170628,0157, 41.5590, 150.9698, 5182,   2567.0,   1.6435,  34.6449,2,  34.6446,2,    108.9,2,   160.44,2,    38.90,2,     0.00,2,     2.72,2,    0.000,2,    0.006,2,   2348.6,2,   2416.8,2,   7.5047,6,    25.00,      300
  49UP20170623,RF1707,  6036,  1,     11,  25820,2,20170628,0157, 41.5590, 150.9698, 5182,   2770.7,   1.5837,  34.6549,2,  34.6539,2,    117.8,2,   159.00,2,    38.30,2,     0.00,2,     2.67,2,    0.000,2,    0.008,2,   2348.5,2,   2416.2,2,   7.5187,2,    25.00,      255
  49UP20170623,RF1707,  6036,  1,     10,  25819,2,20170628,0157, 41.5590, 150.9698, 5182,   2974.8,   1.5372,  34.6632,2,  34.6623,2,    126.5,2,   157.37,2,    37.80,2,     0.00,2,     2.63,2, -999.000,9, -999.000,9,   2337.6,2,   2417.6,2,   7.5353,2,    25.00,      250
  49UP20170623,RF1707,  6036,  1,      9,  25818,2,20170628,0157, 41.5590, 150.9698, 5182,   3220.5,   1.5037,  34.6697,2,  34.6695,2,    133.6,6,   155.59,6,    37.32,6,     0.00,6,     2.59,6, -999.000,9, -999.000,9,   2334.7,2,   2416.4,2,   7.5497,2,    25.00,      245
  49UP20170623,RF1707,  6036,  1,      8,  25817,3,20170628,0157, 41.5590, 150.9698, 5182,   3476.1,   1.4764,  34.6756,2,  34.6753,6,    140.7,2,   153.64,2,    36.87,2,     0.00,2,     2.56,2, -999.000,9, -999.000,9,   2328.6,2,   2416.0,2,   7.5565,2,    25.00,      239
  49UP20170623,RF1707,  6036,  1,      7,  25816,2,20170628,0157, 41.5590, 150.9698, 5182,   3730.8,   1.4604,  34.6802,2,  34.6795,2,    146.3,2,   152.27,2,    36.55,2,     0.00,2,     2.53,2,    0.003,2,    0.008,2,   2324.4,2,   2417.1,2,   7.5715,2,    25.00,      233
  49UP20170623,RF1707,  6036,  1,      6,  25815,2,20170628,0157, 41.5590, 150.9698, 5182,   3987.8,   1.4519,  34.6839,2,  34.6834,2,    150.9,2,   150.93,2,    36.21,2,     0.00,2,     2.50,2, -999.000,9, -999.000,9,   2322.2,2,   2416.0,2,   7.5784,2,    25.00,      227
  49UP20170623,RF1707,  6036,  1,      5,  25814,2,20170628,0157, 41.5590, 150.9698, 5182,   4244.9,   1.4565,  34.6863,2,  34.6858,2,    153.9,2,   150.21,2,    35.98,2,     0.00,2,     2.49,2, -999.000,9, -999.000,9,   2329.8,3,   2414.7,2,   7.5820,2,    25.00,      221
  49UP20170623,RF1707,  6036,  1,      4,  25813,2,20170628,0157, 41.5590, 150.9698, 5182,   4503.7,   1.4679,  34.6883,2,  34.6882,2,    156.4,2,   150.10,2,    35.81,2,     0.00,2,     2.47,2, -999.000,9, -999.000,9,   2319.6,2,   2413.3,2,   7.5870,2,    25.00,      215
  49UP20170623,RF1707,  6036,  1,      3,  25812,2,20170628,0157, 41.5590, 150.9698, 5182,   4759.4,   1.4893,  34.6893,2,  34.6895,2,    157.3,2,   150.34,2,    35.74,2,     0.00,2,     2.47,2,    0.002,2,    0.011,2,   2322.2,2,   2414.8,2,   7.5877,2,    25.00,      209
  49UP20170623,RF1707,  6036,  1,      2,  25811,2,20170628,0157, 41.5590, 150.9698, 5182,   5018.1,   1.5155,  34.6900,2,  34.6900,2,    157.8,2,   150.89,2,    35.70,2,     0.00,2,     2.46,2, -999.000,9, -999.000,9,   2329.7,2,   2415.5,2,   7.5917,2,    25.00,      203
  49UP20170623,RF1707,  6036,  1,      1,  25810,2,20170628,0157, 41.5590, 150.9698, 5182,   5274.5,   1.5468,  34.6901,2,  34.6894,6,    157.2,2,   151.39,2,    35.72,2,     0.00,2,     2.47,2,    0.008,6,    0.012,6,   2326.7,2,   2415.2,2,   7.5902,2,    25.00,      157