BOTTLE,20200309PRINUNIVRMK
EXPOCODE,SECT_ID,STNNBR,CASTNO,SAMPNO,BTLNBR,BTLNBR_FLAG_W,DATE,TIME,LATITUDE,LONGITUDE,DEPTH,CTDPRS,CTDTMP,CTDSAL,CTDSAL_FLAG_W,SALNTY,SALNTY_FLAG_W,OXYGEN,OXYGEN_FLAG_W,SILCAT,SILCAT_FLAG_W,NITRAT,NITRAT_FLAG_W,NITRIT,NITRIT_FLAG_W,PHSPHT,PHSPHT_FLAG_W,CFC-11,CFC-11_FLAG_W,CFC-12,CFC-12_FLAG_W,TCARBN,TCARBN_FLAG_W,ALKALI,ALKALI_FLAG_W,PH_TOT,PH_TOT_FLAG_W,PH_TMP,BTL_TIME
,,,,,,,,,,,METERS,DBAR,ITS-90,PSS-78,,PSS-78,,UMOL/KG,,UMOL/KG,,UMOL/KG,,UMOL/KG,,UMOL/KG,,PMOL/KG,,PMOL/KG,,UMOL/KG,,UMOL/KG,,,,DEG C,
  49UP20170623,RF1707,  6047,  1,     99,     99,2,20170703,1417, 49.0010, 164.9835, 5500,      0.0,   7.2268,  32.9884,2,  32.9828,2,    314.8,2,    22.05,2,    17.13,2,     0.29,2,     1.50,2, -999.000,9, -999.000,9,   2069.7,2,   2236.4,2,   7.8179,2,    25.00,     1605
  49UP20170623,RF1707,  6047,  1,     36,  25845,3,20170703,1417, 49.0010, 164.9835, 5500,      9.6,   7.2254,  32.9887,2,  32.9909,2,    313.8,2,    22.01,2,    17.25,2,     0.29,2,     1.49,2,    4.388,2,    2.546,2,   2061.9,6,   2237.0,6,   7.8143,2,    25.00,     1637
  49UP20170623,RF1707,  6047,  1,     35,  25844,2,20170703,1417, 49.0010, 164.9835, 5500,     26.0,   6.9578,  33.0164,2,  33.0201,4,    316.2,2,    22.52,2,    17.57,2,     0.30,2,     1.50,2, -999.000,9, -999.000,9,   2073.4,2,   2238.1,2,   7.8107,6,    25.00,     1636
  49UP20170623,RF1707,  6047,  1,     34,  25843,2,20170703,1417, 49.0010, 164.9835, 5500,     52.4,   4.2901,  33.0875,2,  33.0895,2,    315.5,2,    44.66,2,    23.35,2,     0.43,2,     2.02,2,    4.887,2,    2.792,2,   2122.6,2,   2239.3,2,   7.6839,2,    25.00,     1631
  49UP20170623,RF1707,  6047,  1,     33,  25842,2,20170703,1417, 49.0010, 164.9835, 5500,    101.4,   3.4939,  33.1112,2,  33.1135,2,    309.2,2,    49.78,2,    27.39,2,     0.03,2,     2.10,2,    4.911,6,    2.794,6,   2134.7,2,   2235.3,2,   7.6322,2,    25.00,     1629
  49UP20170623,RF1707,  6047,  1,     32,  25841,2,20170703,1417, 49.0010, 164.9835, 5500,    125.8,   3.5779,  33.1605,2,  33.1704,4,    285.0,2,    52.71,2,    28.46,2,     0.02,2,     2.15,2, -999.000,9, -999.000,9,   2147.2,2,   2238.5,2,   7.6000,2,    25.00,     1628
  49UP20170623,RF1707,  6047,  1,     31,  25840,2,20170703,1417, 49.0010, 164.9835, 5500,    151.0,   4.5044,  33.6007,2,  33.6010,2,    117.1,2,    71.83,2,    36.51,2,     0.01,2,     2.62,2,    3.046,2,    1.699,2,   2248.5,2,   2268.4,2,   7.3778,2,    25.00,     1626
  49UP20170623,RF1707,  6047,  1,     30,  25839,3,20170703,1417, 49.0010, 164.9835, 5500,    201.8,   4.4092,  33.7606,2,  33.7602,2,     79.0,2,    79.97,2,    39.42,2,     0.01,2,     2.80,2,    2.665,2,    1.434,2,   2280.1,2,   2282.8,2,   7.3234,2,    25.00,     1624
  49UP20170623,RF1707,  6047,  1,     29,  25838,2,20170703,1417, 49.0010, 164.9835, 5500,    253.2,   4.2033,  33.8631,2,  33.8626,2,     52.0,6,    87.45,6,    41.74,6,     0.01,6,     2.95,6,    2.349,2,    1.245,2,   2299.7,2,   2292.9,2,   7.2812,2,    25.00,     1622
  49UP20170623,RF1707,  6047,  1,     28,  25837,2,20170703,1417, 49.0010, 164.9835, 5500,    336.9,   3.9897,  33.9706,2,  33.9704,2,     28.1,2,    97.67,2,    43.72,2,     0.00,2,     3.08,2,    1.875,2,    0.970,2,   2322.8,2,   2306.4,2,   7.2500,2,    25.00,     1618
  49UP20170623,RF1707,  6047,  1,     27,  25836,2,20170703,1417, 49.0010, 164.9835, 5500,    435.8,   3.8449,  34.0683,2,  34.0671,2,     19.2,2,   107.22,2,    44.08,2,     0.00,2,     3.12,2,    1.369,2,    0.694,2,   2347.4,2,   2320.6,2,   7.2510,2,    25.00,     1615
  49UP20170623,RF1707,  6047,  1,     26,  25835,2,20170703,1417, 49.0010, 164.9835, 5500,    535.9,   3.6910,  34.1413,2,  34.1405,2,     15.6,2,   115.42,2,    44.16,2,     0.00,2,     3.12,2,    0.993,2,    0.477,2,   2348.4,2,   2332.4,2,   7.2587,2,    25.00,     1611
  49UP20170623,RF1707,  6047,  1,     25,  25834,2,20170703,1417, 49.0010, 164.9835, 5500,    638.7,   3.4933,  34.2125,2,  34.2124,2,     14.2,2,   124.41,2,    44.18,2,     0.00,2,     3.13,2,    0.638,2,    0.318,2,   2357.7,2,   2345.7,2,   7.2738,2,    25.00,     1608
  49UP20170623,RF1707,  6047,  1,     24,  25833,2,20170703,1417, 49.0010, 164.9835, 5500,    741.5,   3.3156,  34.2670,2,  34.2650,2,     15.5,2,   131.41,2,    44.19,2,     0.00,2,     3.13,2,    0.447,2,    0.225,2,   2363.5,2,   2354.8,2,   7.2800,2,    25.00,     1604
  49UP20170623,RF1707,  6047,  1,     23,  25832,2,20170703,1417, 49.0010, 164.9835, 5500,    842.3,   3.1548,  34.3097,2,  34.3087,2,     14.3,2,   137.23,2,    44.18,2,     0.00,2,     3.13,2,    0.316,2,    0.160,2,   2369.3,2,   2362.7,2,   7.2912,2,    25.00,     1601
  49UP20170623,RF1707,  6047,  1,     22,  25831,2,20170703,1417, 49.0010, 164.9835, 5500,    941.7,   3.0015,  34.3477,2,  34.3471,2,     14.8,2,   142.57,2,    44.19,2,     0.00,2,     3.14,2,    0.229,6,    0.101,6,   2377.5,6,   2369.3,6,   7.2948,2,    25.00,     1557
  49UP20170623,RF1707,  6047,  1,     21,  25830,2,20170703,1417, 49.0010, 164.9835, 5500,   1086.4,   2.7915,  34.3963,2,  34.3964,2,     16.8,2,   149.53,2,    44.20,2,     0.00,2,     3.13,2,    0.133,2,    0.053,2,   2380.6,2,   2378.8,2,   7.3025,6,    25.00,     1553
  49UP20170623,RF1707,  6047,  1,     20,  25829,2,20170703,1417, 49.0010, 164.9835, 5500,   1285.7,   2.4951,  34.4557,2,  34.4559,6,     22.3,6,   159.48,6,    43.92,6,     0.00,6,     3.10,6,    0.080,2,    0.029,2,   2386.7,2,   2389.4,2,   7.3187,2,    25.00,     1548
  49UP20170623,RF1707,  6047,  1,     19,  25828,2,20170703,1417, 49.0010, 164.9835, 5500,   1489.9,   2.2850,  34.5043,2,  34.5042,2,     32.9,2,   164.23,2,    43.39,2,     0.00,2,     3.06,2,    0.049,2,    0.012,2,   2386.7,2,   2398.7,2,   7.3429,2,    25.00,     1542
  49UP20170623,RF1707,  6047,  1,     18,  25827,2,20170703,1417, 49.0010, 164.9835, 5500,   1693.7,   2.1233,  34.5405,2,  34.5410,6,     43.7,2,   167.76,2,    42.77,2,     0.00,2,     3.01,2,    0.020,2,    0.000,2,   2381.8,2,   2404.9,2,   7.3660,2,    25.00,     1537
  49UP20170623,RF1707,  6047,  1,     17,  25826,2,20170703,1417, 49.0010, 164.9835, 5500,   1895.6,   1.9778,  34.5736,2,  34.5738,2,     57.5,2,   169.43,2,    41.92,2,     0.00,2,     2.95,2,    0.011,2,    0.000,2,   2383.5,2,   2409.6,2,   7.3976,2,    25.00,     1532
  49UP20170623,RF1707,  6047,  1,     16,  25825,2,20170703,1417, 49.0010, 164.9835, 5500,   2100.1,   1.8482,  34.5988,2,  34.5997,2,     69.9,2,   171.34,2,    41.18,2,     0.00,2,     2.90,2,    0.003,2,    0.000,2,   2376.8,2,   2414.2,2,   7.4175,2,    25.00,     1527
  49UP20170623,RF1707,  6047,  1,     15,  25824,2,20170703,1417, 49.0010, 164.9835, 5500,   2302.5,   1.7632,  34.6173,2,  34.6165,2,     82.3,2,   170.17,2,    40.41,2,     0.00,2,     2.84,2,    0.000,2,    0.000,2,   2367.8,2,   2416.8,2,   7.4447,2,    25.00,     1523
  49UP20170623,RF1707,  6047,  1,     14,  25823,2,20170703,1417, 49.0010, 164.9835, 5500,   2507.2,   1.6903,  34.6346,2,  34.6351,2,     97.1,2,   166.36,2,    39.44,2,     0.00,2,     2.78,2,    0.002,2,    0.000,2,   2368.7,3,   2416.1,2,   7.4728,2,    25.00,     1518
  49UP20170623,RF1707,  6047,  1,     13,  25822,2,20170703,1417, 49.0010, 164.9835, 5500,   2711.2,   1.6274,  34.6458,2,  34.6462,2,    107.3,2,   165.28,2,    38.83,2,     0.00,2,     2.73,2,    0.000,2,    0.000,2,   2348.0,2,   2417.1,2,   7.4969,2,    25.00,     1514
  49UP20170623,RF1707,  6047,  1,     12,  25821,2,20170703,1417, 49.0010, 164.9835, 5500,   2915.5,   1.5875,  34.6541,2,  34.6545,6,    115.9,2,   163.32,2,    38.30,2,     0.00,2,     2.69,2,    0.009,2,    0.000,2,   2344.5,2,   2418.7,2,   7.5131,2,    25.00,     1509
  49UP20170623,RF1707,  6047,  1,     11,  25820,2,20170703,1417, 49.0010, 164.9835, 5500,   3129.6,   1.5493,  34.6623,2,  34.6618,2,    124.2,6,   160.08,6,    37.79,6,     0.00,6,     2.64,6, -999.000,9, -999.000,9,   2339.1,2,   2415.6,2,   7.5255,2,    25.00,     1505
  49UP20170623,RF1707,  6047,  1,     10,  25819,2,20170703,1417, 49.0010, 164.9835, 5500,   3384.3,   1.5124,  34.6699,2,  34.6700,2,    133.5,2,   157.16,2,    37.20,2,     0.00,2,     2.60,2, -999.000,9, -999.000,9,   2341.4,2,   2417.4,2,   7.5451,2,    25.00,     1500
  49UP20170623,RF1707,  6047,  1,      9,  25818,2,20170703,1417, 49.0010, 164.9835, 5500,   3640.3,   1.4957,  34.6749,2,  34.6750,2,    139.2,2,   155.30,2,    36.82,2,     0.00,2,     2.56,2, -999.000,9, -999.000,9,   2333.0,2,   2417.2,2,   7.5521,2,    25.00,     1455
  49UP20170623,RF1707,  6047,  1,      8,  25817,2,20170703,1417, 49.0010, 164.9835, 5500,   3897.6,   1.4875,  34.6787,2,  34.6790,2,    144.1,2,   154.08,2,    36.51,2,     0.00,2,     2.54,2,    0.000,2,    0.000,2,   2326.9,2,   2416.7,2,   7.5634,2,    25.00,     1450
  49UP20170623,RF1707,  6047,  1,      7,  25816,2,20170703,1417, 49.0010, 164.9835, 5500,   4153.6,   1.4863,  34.6819,2,  34.6826,6,    148.1,2,   152.82,2,    36.29,2,     0.00,2,     2.52,2, -999.000,9, -999.000,9,   2320.5,2,   2418.0,6,   7.5672,2,    25.00,     1445
  49UP20170623,RF1707,  6047,  1,      6,  25815,2,20170703,1417, 49.0010, 164.9835, 5500,   4410.2,   1.4902,  34.6847,2,  34.6849,2,    151.4,2,   151.98,2,    36.07,2,     0.00,2,     2.50,2, -999.000,9, -999.000,9,   2321.0,2,   2417.3,2,   7.5748,6,    25.00,     1440
  49UP20170623,RF1707,  6047,  1,      5,  25814,3,20170703,1417, 49.0010, 164.9835, 5500,   4667.4,   1.4998,  34.6867,2,  34.6869,2,    154.2,2,   151.57,2,    35.87,2,     0.00,2,     2.49,2, -999.000,9, -999.000,9,   2328.2,3,   2416.7,2,   7.5800,2,    25.00,     1435
  49UP20170623,RF1707,  6047,  1,      4,  25813,2,20170703,1417, 49.0010, 164.9835, 5500,   4925.8,   1.5171,  34.6883,2,  34.6870,2,    156.1,2,   151.81,2,    35.77,2,     0.00,2,     2.48,2,    0.008,2,    0.000,2,   2317.7,2,   2416.9,2,   7.5807,2,    25.00,     1430
  49UP20170623,RF1707,  6047,  1,      3,  25812,2,20170703,1417, 49.0010, 164.9835, 5500,   5183.8,   1.5412,  34.6893,2,  34.6894,2,    157.2,2,   152.05,2,    35.68,2,     0.00,2,     2.47,2, -999.000,9, -999.000,9,   2320.2,2,   2416.6,2,   7.5834,2,    25.00,     1425
  49UP20170623,RF1707,  6047,  1,      2,  25811,2,20170703,1417, 49.0010, 164.9835, 5500,   5444.0,   1.5726,  34.6895,2,  34.6902,2,    157.5,6,   151.84,6,    35.66,6,     0.00,6,     2.47,6, -999.000,9, -999.000,9,   2322.0,2,   2415.8,2,   7.5857,2,    25.00,     1420
  49UP20170623,RF1707,  6047,  1,      1,  25810,2,20170703,1417, 49.0010, 164.9835, 5500,   5552.1,   1.5866,  34.6895,2,  34.6889,2,    158.1,2,   151.46,2,    35.66,2,     0.00,2,     2.47,2,    0.004,6,    0.000,6,   2316.3,2,   2415.5,2,   7.5861,2,    25.00,     1417