BOTTLE,20200309PRINUNIVRMK
EXPOCODE,SECT_ID,STNNBR,CASTNO,SAMPNO,BTLNBR,BTLNBR_FLAG_W,DATE,TIME,LATITUDE,LONGITUDE,DEPTH,CTDPRS,CTDTMP,CTDSAL,CTDSAL_FLAG_W,SALNTY,SALNTY_FLAG_W,OXYGEN,OXYGEN_FLAG_W,SILCAT,SILCAT_FLAG_W,NITRAT,NITRAT_FLAG_W,NITRIT,NITRIT_FLAG_W,PHSPHT,PHSPHT_FLAG_W,CFC-11,CFC-11_FLAG_W,CFC-12,CFC-12_FLAG_W,TCARBN,TCARBN_FLAG_W,ALKALI,ALKALI_FLAG_W,PH_TOT,PH_TOT_FLAG_W,PH_TMP,BTL_TIME
,,,,,,,,,,,METERS,DBAR,ITS-90,PSS-78,,PSS-78,,UMOL/KG,,UMOL/KG,,UMOL/KG,,UMOL/KG,,UMOL/KG,,PMOL/KG,,PMOL/KG,,UMOL/KG,,UMOL/KG,,,,DEG C,
  49UP20170623,RF1707,  6058,  1,     99,     99,2,20170722,0155, 38.9877, 165.0112, 5298,      0.0,  22.1680,  34.2685,2,  34.2677,2,    228.2,2,     1.69,2,     0.03,2,     0.00,2,     0.05,2, -999.000,9, -999.000,9,   1992.7,2,   2260.9,2,   8.0066,2,    25.00,      345
  49UP20170623,RF1707,  6058,  1,     36,  25845,2,20170722,0155, 38.9877, 165.0112, 5298,     10.9,  21.7879,  34.2410,2,  34.2441,2,    230.4,2,     1.60,2,     0.01,2,     0.00,2,     0.04,2,    2.201,2,    1.401,2,   1998.1,6,   2260.2,6,   8.0054,2,    25.00,      406
  49UP20170623,RF1707,  6058,  1,     35,  25844,2,20170722,0155, 38.9877, 165.0112, 5298,     51.3,  13.7196,  34.3859,2,  34.3886,2,    242.6,2,     9.79,2,     6.57,2,     0.52,2,     0.55,2,    2.845,2,    1.759,2,   2062.2,2,   2274.5,2,   7.9011,6,    25.00,      402
  49UP20170623,RF1707,  6058,  1,     34,  25843,3,20170722,0155, 38.9877, 165.0112, 5298,     76.5,  12.4033,  34.3680,2,  34.3671,2,    236.4,2,    12.23,2,     9.47,2,     0.03,2,     0.68,2, -999.000,9, -999.000,9,   2083.6,2,   2274.0,2,   7.8618,2,    25.00,      400
  49UP20170623,RF1707,  6058,  1,     33,  25842,2,20170722,0155, 38.9877, 165.0112, 5298,    101.8,  11.9770,  34.3479,2,  34.3470,2,    231.4,2,    13.71,2,    10.50,2,     0.02,2,     0.75,2,    2.957,6,    1.820,6,   2080.7,2,   2272.3,2,   7.8447,2,    25.00,      359
  49UP20170623,RF1707,  6058,  1,     32,  25841,2,20170722,0155, 38.9877, 165.0112, 5298,    127.0,  11.5036,  34.3066,2,  34.3066,2,    227.4,2,    15.65,2,    11.60,2,     0.02,2,     0.83,2, -999.000,9, -999.000,9,   2094.9,2,   2274.4,2,   7.8258,2,    25.00,      358
  49UP20170623,RF1707,  6058,  1,     31,  25840,2,20170722,0155, 38.9877, 165.0112, 5298,    152.0,  10.8637,  34.2454,2,  34.2454,2,    221.2,2,    18.53,2,    13.28,2,     0.02,2,     0.95,2,    3.002,2,    1.837,2,   2108.1,2,   2271.4,2,   7.8064,2,    25.00,      357
  49UP20170623,RF1707,  6058,  1,     30,  25839,2,20170722,0155, 38.9877, 165.0112, 5298,    202.1,   9.5294,  34.1040,2,  34.1027,2,    217.3,3,    23.73,2,    15.99,2,     0.01,2,     1.15,2,    3.130,2,    1.883,2,   2121.5,2,   2271.2,2,   7.7606,2,    25.00,      355
  49UP20170623,RF1707,  6058,  1,     29,  25838,2,20170722,0155, 38.9877, 165.0112, 5298,    252.1,   8.5181,  34.0367,2,  34.0342,2,    197.5,6,    31.83,6,    19.74,6,     0.01,6,     1.43,6,    3.076,2,    1.827,2,   2148.2,2,   2274.7,2,   7.6980,2,    25.00,      354
  49UP20170623,RF1707,  6058,  1,     28,  25837,2,20170722,0155, 38.9877, 165.0112, 5298,    282.0,   7.6013,  33.9618,2,  33.9611,6,    196.5,2,    36.63,2,    21.57,2,     0.01,2,     1.57,2,    3.178,2,    1.859,2,   2161.4,2,   2274.1,2,   7.6677,2,    25.00,      353
  49UP20170623,RF1707,  6058,  1,     27,  25836,3,20170722,0155, 38.9877, 165.0112, 5298,    374.3,   5.7016,  33.8814,2,  33.8784,2,    151.6,2,    57.73,2,    29.41,2,     0.01,2,     2.14,2,    2.926,2,    1.674,2,   2219.5,2,   2282.8,2,   7.5346,2,    25.00,      350
  49UP20170623,RF1707,  6058,  1,     26,  25835,2,20170722,0155, 38.9877, 165.0112, 5298,    474.3,   4.9217,  33.9821,2,  33.9887,4,    104.5,2,    77.51,2,    34.94,2,     0.01,2,     2.52,2,    2.223,2,    1.222,2,   2265.3,2,   2304.4,2,   7.4459,2,    25.00,      348
  49UP20170623,RF1707,  6058,  1,     25,  25834,2,20170722,0155, 38.9877, 165.0112, 5298,    575.1,   4.5163,  34.0957,2,  34.0962,2,     74.5,2,    92.52,2,    38.02,2,     0.01,2,     2.73,2,    1.585,2,    0.849,2,   2294.0,2,   2321.9,2,   7.4018,2,    25.00,      346
  49UP20170623,RF1707,  6058,  1,     24,  25833,2,20170722,0155, 38.9877, 165.0112, 5298,    676.0,   3.9808,  34.1564,2,  34.1568,2,     52.3,2,   107.30,2,    40.54,2,     0.00,2,     2.90,2,    1.183,2,    0.626,2,   2325.9,2,   2335.1,2,   7.3584,2,    25.00,      343
  49UP20170623,RF1707,  6058,  1,     23,  25832,3,20170722,0155, 38.9877, 165.0112, 5298,    777.4,   3.8165,  34.2540,2,  34.2524,2,     49.1,2,   115.34,2,    41.11,2,     0.00,2,     2.93,2,    0.682,2,    0.367,2,   2333.6,2,   2348.7,2,   7.3705,2,    25.00,      341
  49UP20170623,RF1707,  6058,  1,     22,  25831,2,20170722,0155, 38.9877, 165.0112, 5298,    878.3,   3.3648,  34.2929,2,  34.2925,2,     37.5,2,   128.13,2,    42.24,2,     0.00,2,     3.01,2,    0.539,2,    0.271,2,   2355.6,2,   2360.5,2,   7.3393,2,    25.00,      338
  49UP20170623,RF1707,  6058,  1,     21,  25830,3,20170722,0155, 38.9877, 165.0112, 5298,    980.9,   3.1647,  34.3438,2,  34.3441,2,     37.4,2,   134.48,2,    42.67,2,     0.00,2,     3.03,2,    0.344,2,    0.172,2,   2363.2,2,   2369.6,2,   7.3459,2,    25.00,      336
  49UP20170623,RF1707,  6058,  1,     20,  25829,2,20170722,0155, 38.9877, 165.0112, 5298,   1142.6,   2.8560,  34.3976,2,  34.3973,2,     32.6,6,   144.25,6,    43.08,6,     0.00,6,     3.06,6,    0.217,6,    0.100,6,   2376.8,2,   2380.9,2,   7.3464,2,    25.00,      332
  49UP20170623,RF1707,  6058,  1,     19,  25828,2,20170722,0155, 38.9877, 165.0112, 5298,   1344.7,   2.5334,  34.4596,2,  34.4588,2,     35.2,2,   153.86,2,    43.20,2,     0.00,2,     3.06,2,    0.116,2,    0.047,2,   2381.3,2,   2392.1,2,   7.3530,2,    25.00,      328
  49UP20170623,RF1707,  6058,  1,     18,  25827,2,20170722,0155, 38.9877, 165.0112, 5298,   1548.8,   2.3046,  34.5081,2,  34.5077,2,     42.8,2,   160.31,2,    42.86,2,     0.00,2,     3.03,2,    0.060,2,    0.018,2,   2385.2,2,   2399.9,2,   7.3738,2,    25.00,      323
  49UP20170623,RF1707,  6058,  1,     17,  25826,2,20170722,0155, 38.9877, 165.0112, 5298,   1751.3,   2.1205,  34.5478,2,  34.5463,2,     52.4,2,   163.99,2,    42.33,2,     0.00,2,     2.98,2,    0.031,2,    0.005,2,   2380.5,2,   2406.5,2,   7.3963,2,    25.00,      318
  49UP20170623,RF1707,  6058,  1,     16,  25825,2,20170722,0155, 38.9877, 165.0112, 5298,   1954.9,   1.9862,  34.5776,2,  34.5768,6,     63.9,2,   165.53,2,    41.69,2,     0.00,2,     2.93,2,    0.012,2,    0.000,2,   2378.1,2,   2411.7,2,   7.4209,2,    25.00,      313
  49UP20170623,RF1707,  6058,  1,     15,  25824,2,20170722,0155, 38.9877, 165.0112, 5298,   2158.7,   1.8585,  34.6038,2,  34.6032,2,     78.2,2,   165.56,2,    40.82,2,     0.00,2,     2.87,2,    0.004,2,    0.000,2,   2374.2,6,   2413.2,6,   7.4465,2,    25.00,      309
  49UP20170623,RF1707,  6058,  1,     14,  25823,2,20170722,0155, 38.9877, 165.0112, 5298,   2360.8,   1.7535,  34.6237,2,  34.6233,2,     91.7,2,   163.96,2,    39.95,2,     0.00,2,     2.80,2,    0.004,2,    0.000,2,   2362.6,2,   2417.8,2,   7.4742,6,    25.00,      304
  49UP20170623,RF1707,  6058,  1,     13,  25822,2,20170722,0155, 38.9877, 165.0112, 5298,   2565.2,   1.6642,  34.6395,2,  34.6396,6,    104.2,2,   162.61,2,    39.18,2,     0.00,2,     2.74,2,    0.000,2,    0.000,2,   2357.7,2,   2418.3,2,   7.5020,2,    25.00,      300
  49UP20170623,RF1707,  6058,  1,     12,  25821,2,20170722,0155, 38.9877, 165.0112, 5298,   2769.6,   1.6005,  34.6506,2,  34.6503,2,    114.4,2,   160.55,2,    38.54,2,     0.00,2,     2.69,2,    0.017,3,    0.030,3,   2346.5,2,   2421.0,2,   7.5205,2,    25.00,      255
  49UP20170623,RF1707,  6058,  1,     11,  25820,2,20170722,0155, 38.9877, 165.0112, 5298,   2973.9,   1.5525,  34.6592,2,  34.6590,2,    123.2,6,   158.15,6,    37.98,6,     0.00,6,     2.65,6, -999.000,9, -999.000,9,   2340.2,2,   2419.9,2,-999.0000,5,  -999.00,      251
  49UP20170623,RF1707,  6058,  1,     10,  25819,2,20170722,0155, 38.9877, 165.0112, 5298,   3218.7,   1.5120,  34.6670,2,  34.6667,2,    131.9,2,   156.50,2,    37.40,2,     0.00,2,     2.60,2, -999.000,9, -999.000,9,   2341.2,2,   2420.1,2,   7.5518,2,    25.00,      245
  49UP20170623,RF1707,  6058,  1,      9,  25818,2,20170722,0155, 38.9877, 165.0112, 5298,   3474.9,   1.4856,  34.6729,2,  34.6726,2,    138.3,2,   154.66,2,    36.99,2,     0.00,2,     2.56,2, -999.000,9, -999.000,9,   2336.7,2,   2418.1,2,   7.5601,2,    25.00,      240
  49UP20170623,RF1707,  6058,  1,      8,  25817,3,20170722,0155, 38.9877, 165.0112, 5298,   3731.1,   1.4649,  34.6782,2,  34.6781,2,    145.5,2,   152.31,2,    36.49,2,     0.00,2,     2.53,2,    0.000,2,    0.000,2,   2339.2,3,   2419.6,2,   7.5755,2,    25.00,      234
  49UP20170623,RF1707,  6058,  1,      7,  25816,2,20170722,0155, 38.9877, 165.0112, 5298,   3987.5,   1.4612,  34.6816,2,  34.6808,2,    148.8,2,   151.96,2,    36.26,2,     0.00,2,     2.51,2, -999.000,9, -999.000,9,   2327.4,2,   2419.1,2,   7.5813,2,    25.00,      228
  49UP20170623,RF1707,  6058,  1,      6,  25815,2,20170722,0155, 38.9877, 165.0112, 5298,   4244.4,   1.4610,  34.6847,2,  34.6840,2,    153.1,2,   150.87,2,    36.02,2,     0.00,2,     2.49,2, -999.000,9, -999.000,9,   2332.0,2,   2419.7,2,   7.5897,2,    25.00,      222
  49UP20170623,RF1707,  6058,  1,      5,  25814,3,20170722,0155, 38.9877, 165.0112, 5298,   4501.2,   1.4729,  34.6868,2,  34.6861,2,    156.6,3,   150.68,2,    35.83,2,     0.00,2,     2.48,2, -999.000,9, -999.000,9,   2328.4,6,   2419.4,6,   7.5931,2,    25.00,      216
  49UP20170623,RF1707,  6058,  1,      4,  25813,2,20170722,0155, 38.9877, 165.0112, 5298,   4757.4,   1.4957,  34.6877,2,  34.6874,2,    156.3,2,   150.76,2,    35.75,2,     0.00,2,     2.47,2,    0.002,2,    0.000,2,   2324.1,2,   2418.9,2,   7.5948,6,    25.00,      211
  49UP20170623,RF1707,  6058,  1,      3,  25812,2,20170722,0155, 38.9877, 165.0112, 5298,   5015.6,   1.5200,  34.6887,2,  34.6867,4,    156.8,2,   151.24,2,    35.67,2,     0.00,2,     2.47,2, -999.000,9, -999.000,9,   2317.2,3,   2419.0,2,   7.5973,2,    25.00,      205
  49UP20170623,RF1707,  6058,  1,      2,  25811,2,20170722,0155, 38.9877, 165.0112, 5298,   5273.5,   1.5488,  34.6894,2,  34.6894,6,    157.7,6,   151.70,6,    35.69,6,     0.00,6,     2.47,6, -999.000,9, -999.000,9,   2322.7,2,   2419.5,2,   7.5990,2,    25.00,      159
  49UP20170623,RF1707,  6058,  1,      1,  25810,2,20170722,0155, 38.9877, 165.0112, 5298,   5457.6,   1.5731,  34.6894,2,  34.6893,2,    157.8,2,   151.66,2,    35.70,2,     0.00,2,     2.47,2,    0.007,6,    0.000,6,   2325.6,2,   2419.1,2,   7.5968,2,    25.00,      155