BOTTLE,20200309PRINUNIVRMK
EXPOCODE,SECT_ID,STNNBR,CASTNO,SAMPNO,BTLNBR,BTLNBR_FLAG_W,DATE,TIME,LATITUDE,LONGITUDE,DEPTH,CTDPRS,CTDTMP,CTDSAL,CTDSAL_FLAG_W,SALNTY,SALNTY_FLAG_W,OXYGEN,OXYGEN_FLAG_W,SILCAT,SILCAT_FLAG_W,NITRAT,NITRAT_FLAG_W,NITRIT,NITRIT_FLAG_W,PHSPHT,PHSPHT_FLAG_W,CFC-11,CFC-11_FLAG_W,CFC-12,CFC-12_FLAG_W,TCARBN,TCARBN_FLAG_W,ALKALI,ALKALI_FLAG_W,PH_TOT,PH_TOT_FLAG_W,PH_TMP,BTL_TIME
,,,,,,,,,,,METERS,DBAR,ITS-90,PSS-78,,PSS-78,,UMOL/KG,,UMOL/KG,,UMOL/KG,,UMOL/KG,,UMOL/KG,,PMOL/KG,,PMOL/KG,,UMOL/KG,,UMOL/KG,,,,DEG C,
  49UP20170623,RF1707,  6034,  1,     99,     99,2,20170627,0235, 39.6748, 147.8945, 5338,      0.0,  13.5260,  32.9879,2,  32.9720,2,    286.6,2,     0.44,2,     0.10,2,     0.01,2,     0.19,2, -999.000,9, -999.000,9,   1996.3,2,   2238.9,2,   7.9843,2,    25.00,      430
  49UP20170623,RF1707,  6034,  1,     36,  25845,2,20170627,0235, 39.6748, 147.8945, 5338,     11.5,  12.9090,  32.9665,2,  32.9729,4,    291.0,2,     0.49,2,     0.07,2,     0.01,2,     0.18,2,    3.461,2,    2.035,2,   1994.5,2,   2239.2,2,   7.9871,2,    25.00,      454
  49UP20170623,RF1707,  6034,  1,     35,  25844,2,20170627,0235, 39.6748, 147.8945, 5338,     26.2,   8.1764,  32.9569,2,  33.0212,4,    330.3,2,     4.04,2,     4.58,2,     0.13,2,     0.60,2, -999.000,9, -999.000,9,   2031.7,6,   2243.3,6,   7.9236,2,    25.00,      453
  49UP20170623,RF1707,  6034,  1,     34,  25843,2,20170627,0235, 39.6748, 147.8945, 5338,     50.7,   3.5495,  33.1792,2,  33.1528,4,    311.5,2,    25.12,2,    17.16,2,     0.24,2,     1.56,2,    5.154,2,    2.877,2,   2114.7,2,   2245.4,2,   7.6933,6,    25.00,      449
  49UP20170623,RF1707,  6034,  1,     33,  25842,2,20170627,0235, 39.6748, 147.8945, 5338,     76.0,   3.8680,  33.2882,2,  33.2764,4,    296.4,6,    30.40,6,    18.83,6,     0.20,6,     1.53,6, -999.000,9, -999.000,9,   2136.6,2,   2245.4,2,   7.6784,2,    25.00,      447
  49UP20170623,RF1707,  6034,  1,     32,  25841,2,20170627,0235, 39.6748, 147.8945, 5338,    101.0,   3.1920,  33.2624,2,  33.2570,2,    292.8,2,    35.87,2,    21.35,2,     0.07,2,     1.68,2,    4.963,6,    2.780,6,   2141.9,2,   2245.4,2,   7.6465,2,    25.00,      446
  49UP20170623,RF1707,  6034,  1,     31,  25840,2,20170627,0235, 39.6748, 147.8945, 5338,    151.1,   1.9645,  33.2196,2,  33.2205,2,    274.0,2,    47.55,2,    25.65,2,     0.02,2,     1.99,2,    4.935,2,    2.747,2,   2175.0,2,   2247.7,2,   7.5678,2,    25.00,      444
  49UP20170623,RF1707,  6034,  1,     30,  25839,2,20170627,0235, 39.6748, 147.8945, 5338,    201.9,   2.3209,  33.3631,2,  33.3609,2,    232.4,2,    56.34,2,    28.40,2,     0.02,2,     2.17,2,    4.427,2,    2.467,2,   2203.2,2,   2260.1,2,   7.5140,2,    25.00,      442
  49UP20170623,RF1707,  6034,  1,     29,  25838,2,20170627,0235, 39.6748, 147.8945, 5338,    252.0,   2.6559,  33.5059,2,  33.5115,2,    169.0,2,    70.96,2,    33.65,2,     0.01,2,     2.51,2,    3.750,2,    2.078,2,   2244.2,2,   2270.9,2,   7.4226,2,    25.00,      440
  49UP20170623,RF1707,  6034,  1,     28,  25837,2,20170627,0235, 39.6748, 147.8945, 5338,    303.8,   2.7898,  33.6338,2,  33.6404,4,    128.2,2,    82.26,2,    36.82,2,     0.02,2,     2.71,2,    3.244,2,    1.780,2,   2273.6,2,   2284.4,2,   7.3612,2,    25.00,      438
  49UP20170623,RF1707,  6034,  1,     27,  25836,2,20170627,0235, 39.6748, 147.8945, 5338,    402.8,   3.3155,  33.8680,2,  33.8743,4,     63.5,6,    98.87,6,    41.38,6,     0.01,6,     2.97,6,    2.252,2,    1.153,2,   2318.1,2,   2306.3,2,   7.2945,2,    25.00,      436
  49UP20170623,RF1707,  6034,  1,     26,  25835,3,20170627,0235, 39.6748, 147.8945, 5338,    505.2,   4.0153,  34.1265,2,  34.1296,2,     58.1,2,   104.37,2,    40.16,2,     0.01,2,     2.87,2,    1.315,2,    0.656,2,   2322.0,2,   2327.6,2,   7.3509,2,    25.00,      433
  49UP20170623,RF1707,  6034,  1,     25,  25834,3,20170627,0235, 39.6748, 147.8945, 5338,    605.8,   3.7347,  34.2101,2,  34.2063,2,     46.4,2,   116.18,2,    41.37,2,     0.00,2,     2.95,2,    0.933,2,    0.460,2,   2340.2,2,   2343.0,2,   7.3401,2,    25.00,      430
  49UP20170623,RF1707,  6034,  1,     24,  25833,2,20170627,0235, 39.6748, 147.8945, 5338,    707.2,   3.1882,  34.2466,2,  34.2461,2,     27.6,2,   131.66,2,    43.18,2,     0.00,2,     3.07,2,    0.676,2,    0.339,2,   2371.8,2,   2365.4,2,   7.3084,2,    25.00,      427
  49UP20170623,RF1707,  6034,  1,     23,  25832,3,20170627,0235, 39.6748, 147.8945, 5338,    807.3,   2.9969,  34.3001,2,  34.2978,2,     30.6,3,   139.03,2,    43.34,2,     0.00,2,     3.09,2,    0.512,2,    0.256,2,   2369.8,2,   2355.1,2,   7.3098,2,    25.00,      424
  49UP20170623,RF1707,  6034,  1,     22,  25831,2,20170627,0235, 39.6748, 147.8945, 5338,    909.2,   2.8299,  34.3409,2,  34.3393,2,     25.8,2,   145.17,2,    43.46,2,     0.00,2,     3.09,2,    0.396,2,    0.196,2,   2372.9,6,   2372.0,6,   7.3130,2,    25.00,      421
  49UP20170623,RF1707,  6034,  1,     21,  25830,2,20170627,0235, 39.6748, 147.8945, 5338,   1010.5,   2.7335,  34.4004,2,  34.3988,6,     33.3,2,   147.80,2,    42.96,2,     0.00,2,     3.06,2,    0.254,2,    0.123,2,   2375.0,2,   2380.6,2,   7.3368,6,    25.00,      418
  49UP20170623,RF1707,  6034,  1,     20,  25829,2,20170627,0235, 39.6748, 147.8945, 5338,   1213.7,   2.5284,  34.4607,2,  34.4595,2,     38.5,2,   153.58,2,    42.82,2,     0.00,2,     3.05,2,    0.135,2,    0.062,2,   2383.4,2,   2390.2,2,   7.3584,2,    25.00,      413
  49UP20170623,RF1707,  6034,  1,     19,  25828,3,20170627,0235, 39.6748, 147.8945, 5338,   1415.4,   2.3244,  34.5023,2,  34.5002,2,     46.9,3,   158.96,6,    42.58,6,     0.00,6,     3.02,6,    0.103,2,    0.049,2,   2380.4,2,   2397.9,2,   7.3695,2,    25.00,      408
  49UP20170623,RF1707,  6034,  1,     18,  25827,2,20170627,0235, 39.6748, 147.8945, 5338,   1618.8,   2.1606,  34.5456,2,  34.5434,2,     55.2,2,   161.28,2,    42.06,2,     0.00,2,     2.97,2,    0.043,6,    0.017,6,   2381.0,2,   2405.0,2,   7.3958,2,    25.00,      403
  49UP20170623,RF1707,  6034,  1,     17,  25826,2,20170627,0235, 39.6748, 147.8945, 5338,   1822.2,   1.9978,  34.5766,2,  34.5754,2,     65.6,2,   164.01,2,    41.43,2,     0.00,2,     2.92,2,    0.021,2,    0.008,2,   2374.3,2,   2410.5,2,   7.4169,2,    25.00,      358
  49UP20170623,RF1707,  6034,  1,     16,  25825,2,20170627,0235, 39.6748, 147.8945, 5338,   2025.0,   1.8763,  34.6038,2,  34.6024,2,     80.1,2,   162.69,2,    40.63,2,     0.00,2,     2.85,2,    0.008,2,    0.002,2,   2378.2,2,   2413.3,2,   7.4483,2,    25.00,      353
  49UP20170623,RF1707,  6034,  1,     15,  25824,2,20170627,0235, 39.6748, 147.8945, 5338,   2228.6,   1.7768,  34.6223,2,  34.6189,4,     92.2,2,   161.56,2,    39.89,2,     0.00,2,     2.80,2,    0.007,2,    0.004,2,   2364.0,2,   2414.8,2,   7.4719,2,    25.00,      349
  49UP20170623,RF1707,  6034,  1,     14,  25823,2,20170627,0235, 39.6748, 147.8945, 5338,   2432.5,   1.6977,  34.6365,2,  34.6354,2,    102.8,2,   160.43,2,    39.16,2,     0.00,2,     2.74,2,    0.007,2,    0.000,2,   2354.8,2,   2416.5,2,   7.4942,2,    25.00,      344
  49UP20170623,RF1707,  6034,  1,     13,  25822,2,20170627,0235, 39.6748, 147.8945, 5338,   2636.3,   1.6225,  34.6489,2,  34.6481,2,    113.0,2,   159.32,2,    38.55,2,     0.00,2,     2.69,2,    0.002,2,    0.000,2,   2350.1,2,   2417.4,2,   7.5126,2,    25.00,      339
  49UP20170623,RF1707,  6034,  1,     12,  25821,2,20170627,0235, 39.6748, 147.8945, 5338,   2839.9,   1.5715,  34.6583,2,  34.6549,4,    122.6,2,   156.70,2,    37.98,2,     0.00,2,     2.64,2,    0.007,2,    0.001,2,   2346.4,2,   2417.2,6,   7.5295,2,    25.00,      334
  49UP20170623,RF1707,  6034,  1,     11,  25820,2,20170627,0235, 39.6748, 147.8945, 5338,   3044.7,   1.5290,  34.6653,2,  34.6632,2,    129.0,2,   155.87,2,    37.51,2,     0.00,2,     2.61,2, -999.000,9, -999.000,9,   2344.9,2,   2417.3,2,   7.5398,6,    25.00,      330
  49UP20170623,RF1707,  6034,  1,     10,  25819,2,20170627,0235, 39.6748, 147.8945, 5338,   3299.6,   1.4966,  34.6719,2,  34.6711,6,    136.4,2,   153.93,2,    37.07,2,     0.00,2,     2.58,2, -999.000,9, -999.000,9,   2341.3,2,   2417.6,2,   7.5561,2,    25.00,      324
  49UP20170623,RF1707,  6034,  1,      9,  25818,2,20170627,0235, 39.6748, 147.8945, 5338,   3556.7,   1.4746,  34.6770,2,  34.6763,2,    142.2,2,   152.56,2,    36.68,2,     0.00,2,     2.54,2, -999.000,9, -999.000,9,   2332.1,2,   2417.0,2,   7.5641,2,    25.00,      318
  49UP20170623,RF1707,  6034,  1,      8,  25817,2,20170627,0235, 39.6748, 147.8945, 5338,   3812.4,   1.4594,  34.6813,2,  34.6798,2,    147.9,2,   150.94,2,    36.28,2,     0.00,2,     2.51,2,    0.006,2,    0.001,2,   2336.8,3,   2416.3,2,   7.5758,2,    25.00,      312
  49UP20170623,RF1707,  6034,  1,      7,  25816,2,20170627,0235, 39.6748, 147.8945, 5338,   4070.1,   1.4539,  34.6848,2,  34.6828,6,    152.4,2,   149.56,2,    36.01,2,     0.00,2,     2.49,2, -999.000,9, -999.000,9,   2326.1,2,   2416.5,2,   7.5814,2,    25.00,      306
  49UP20170623,RF1707,  6034,  1,      6,  25815,2,20170627,0235, 39.6748, 147.8945, 5338,   4326.7,   1.4600,  34.6871,2,  34.6858,2,    155.1,2,   149.03,2,    35.82,2,     0.00,2,     2.48,2, -999.000,9, -999.000,9,   2323.3,2,   2415.1,2,   7.5861,2,    25.00,      300
  49UP20170623,RF1707,  6034,  1,      5,  25814,3,20170627,0235, 39.6748, 147.8945, 5338,   4583.3,   1.4713,  34.6890,2,  34.6865,2,    157.6,6,   148.81,6,    35.62,6,     0.00,6,     2.46,6, -999.000,9, -999.000,9,   2323.0,2,   2414.4,2,   7.5892,2,    25.00,      255
  49UP20170623,RF1707,  6034,  1,      4,  25813,2,20170627,0235, 39.6748, 147.8945, 5338,   4841.7,   1.4928,  34.6900,2,  34.6901,2,    158.7,2,   148.40,2,    35.59,2,     0.00,2,     2.46,2,    0.008,2,    0.003,2,   2321.9,2,   2414.7,2,   7.5923,2,    25.00,      249
  49UP20170623,RF1707,  6034,  1,      3,  25812,2,20170627,0235, 39.6748, 147.8945, 5338,   5098.0,   1.5160,  34.6910,2,  34.6900,2,    159.9,2,   147.47,2,    35.46,2,     0.00,2,     2.45,2, -999.000,9, -999.000,9,   2318.2,2,   2414.1,2,   7.5930,2,    25.00,      243
  49UP20170623,RF1707,  6034,  1,      2,  25811,2,20170627,0235, 39.6748, 147.8945, 5338,   5357.7,   1.5434,  34.6915,2,  34.6912,6,    161.2,2,   146.03,2,    35.36,2,     0.00,2,     2.44,2, -999.000,9, -999.000,9,   2315.9,2,   2412.5,2,   7.5935,2,    25.00,      237
  49UP20170623,RF1707,  6034,  1,      1,  25810,2,20170627,0235, 39.6748, 147.8945, 5338,   5432.5,   1.5516,  34.6916,2,  34.6917,2,    161.6,2,   146.22,2,    35.34,2,     0.00,2,     2.44,2,    0.007,6,    0.005,6,   2318.3,2,   2412.9,2,   7.5960,2,    25.00,      235