BOTTLE,20200309PRINUNIVRMK
EXPOCODE,SECT_ID,STNNBR,CASTNO,SAMPNO,BTLNBR,BTLNBR_FLAG_W,DATE,TIME,LATITUDE,LONGITUDE,DEPTH,CTDPRS,CTDTMP,CTDSAL,CTDSAL_FLAG_W,SALNTY,SALNTY_FLAG_W,OXYGEN,OXYGEN_FLAG_W,SILCAT,SILCAT_FLAG_W,NITRAT,NITRAT_FLAG_W,NITRIT,NITRIT_FLAG_W,PHSPHT,PHSPHT_FLAG_W,CFC-11,CFC-11_FLAG_W,CFC-12,CFC-12_FLAG_W,TCARBN,TCARBN_FLAG_W,ALKALI,ALKALI_FLAG_W,PH_TOT,PH_TOT_FLAG_W,PH_TMP,BTL_TIME
,,,,,,,,,,,METERS,DBAR,ITS-90,PSS-78,,PSS-78,,UMOL/KG,,UMOL/KG,,UMOL/KG,,UMOL/KG,,UMOL/KG,,PMOL/KG,,PMOL/KG,,UMOL/KG,,UMOL/KG,,,,DEG C,
  49UP20170623,RF1707,  6064,  1,     99,     99,2,20170724,0000, 35.5068, 165.0075, 5758,      0.0,  25.5109,  34.6973,2,-999.0000,9,    210.1,2,     1.77,2,     0.04,2,     0.00,2,     0.02,2, -999.000,9, -999.000,9,   -999.0,9,   -999.0,9,-999.0000,9,  -999.00,      155
  49UP20170623,RF1707,  6064,  1,     36,  25845,2,20170724,0000, 35.5068, 165.0075, 5758,     10.5,  25.4930,  34.6959,2,  34.6944,2,    210.3,2,     1.75,2,     0.05,2,     0.00,2,     0.01,2, -999.000,9, -999.000,9,   -999.0,9,   -999.0,9,-999.0000,9,  -999.00,      228
  49UP20170623,RF1707,  6064,  1,     35,  25844,2,20170724,0000, 35.5068, 165.0075, 5758,     52.1,  20.1496,  34.8176,2,  34.8123,4,    233.5,2,     2.08,2,     0.04,2,     0.00,2,     0.05,2, -999.000,9, -999.000,9,   -999.0,9,   -999.0,9,-999.0000,9,  -999.00,      226
  49UP20170623,RF1707,  6064,  1,     34,  25843,2,20170724,0000, 35.5068, 165.0075, 5758,    102.5,  18.1055,  34.8561,2,  34.8389,4,    212.9,2,     3.59,2,     2.80,2,     0.12,2,     0.22,2, -999.000,9, -999.000,9,   -999.0,9,   -999.0,9,-999.0000,9,  -999.00,      223
  49UP20170623,RF1707,  6064,  1,     33,  25842,2,20170724,0000, 35.5068, 165.0075, 5758,    153.2,  17.3248,  34.7925,2,  34.7864,4,    209.9,2,     4.39,2,     4.44,2,     0.01,2,     0.30,2, -999.000,9, -999.000,9,   -999.0,9,   -999.0,9,-999.0000,9,  -999.00,      221
  49UP20170623,RF1707,  6064,  1,     32,  25841,2,20170724,0000, 35.5068, 165.0075, 5758,    203.0,  16.7397,  34.7471,2,  34.7453,2,    210.1,6,     5.24,6,     5.35,6,     0.01,6,     0.36,6, -999.000,9, -999.000,9,   -999.0,9,   -999.0,9,-999.0000,9,  -999.00,      218
  49UP20170623,RF1707,  6064,  1,     31,  25840,2,20170724,0000, 35.5068, 165.0075, 5758,    255.6,  16.1701,  34.6873,2,  34.6902,2,    206.3,2,     6.45,2,     6.47,2,     0.01,2,     0.44,2, -999.000,9, -999.000,9,   -999.0,9,   -999.0,9,-999.0000,9,  -999.00,      216
  49UP20170623,RF1707,  6064,  1,     30,  25839,2,20170724,0000, 35.5068, 165.0075, 5758,    283.5,  15.7043,  34.6430,2,  34.6409,2,    200.2,2,     8.09,2,     7.83,2,     0.01,2,     0.53,2, -999.000,9, -999.000,9,   -999.0,9,   -999.0,9,-999.0000,9,  -999.00,      212
  49UP20170623,RF1707,  6064,  1,     29,  25838,2,20170724,0000, 35.5068, 165.0075, 5758,    374.1,  13.6776,  34.4878,2,  34.4870,2,    196.1,2,    14.01,2,    11.43,2,     0.00,2,     0.78,2, -999.000,9, -999.000,9,   -999.0,9,   -999.0,9,-999.0000,9,  -999.00,      209
  49UP20170623,RF1707,  6064,  1,     28,  25837,2,20170724,0000, 35.5068, 165.0075, 5758,    474.6,  10.7660,  34.2607,2,  34.2662,4,    198.9,2,    22.73,2,    15.59,2,     0.00,2,     1.10,2, -999.000,9, -999.000,9,   -999.0,9,   -999.0,9,-999.0000,9,  -999.00,      205
  49UP20170623,RF1707,  6064,  1,     27,  25836,2,20170724,0000, 35.5068, 165.0075, 5758,    576.2,   8.0155,  34.0010,2,  34.0016,2,    193.1,6,    35.17,6,    21.07,6,     0.00,6,     1.52,6, -999.000,9, -999.000,9,   -999.0,9,   -999.0,9,-999.0000,9,  -999.00,      202
  49UP20170623,RF1707,  6064,  1,     26,  25835,2,20170724,0000, 35.5068, 165.0075, 5758,    677.8,   6.3074,  34.0022,2,  34.0030,6,    138.8,2,    57.57,2,    29.40,2,     0.00,2,     2.12,2, -999.000,9, -999.000,9,   -999.0,9,   -999.0,9,-999.0000,9,  -999.00,      159
  49UP20170623,RF1707,  6064,  1,     25,  25834,2,20170724,0000, 35.5068, 165.0075, 5758,    778.2,   5.0478,  34.0507,2,  34.0516,2,     96.3,2,    79.65,2,    35.42,2,     0.00,2,     2.54,2, -999.000,9, -999.000,9,   -999.0,9,   -999.0,9,-999.0000,9,  -999.00,      156
  49UP20170623,RF1707,  6064,  1,     24,  25833,2,20170724,0000, 35.5068, 165.0075, 5758,    876.1,   4.5027,  34.1487,2,  34.1505,2,     67.6,2,    96.78,2,    38.67,2,     0.00,2,     2.76,2, -999.000,9, -999.000,9,   -999.0,9,   -999.0,9,-999.0000,9,  -999.00,      154
  49UP20170623,RF1707,  6064,  1,     23,  25832,2,20170724,0000, 35.5068, 165.0075, 5758,    977.5,   3.9765,  34.2256,2,  34.2265,2,     50.1,2,   111.47,2,    40.64,2,     0.00,2,     2.90,2, -999.000,9, -999.000,9,   -999.0,9,   -999.0,9,-999.0000,9,  -999.00,      151
  49UP20170623,RF1707,  6064,  1,     22,  25831,2,20170724,0000, 35.5068, 165.0075, 5758,   1142.1,   3.4348,  34.3373,2,  34.3378,2,     41.0,2,   127.68,2,    41.96,2,     0.00,2,     2.99,2, -999.000,9, -999.000,9,   -999.0,9,   -999.0,9,-999.0000,9,  -999.00,      146
  49UP20170623,RF1707,  6064,  1,     21,  25830,2,20170724,0000, 35.5068, 165.0075, 5758,   1344.9,   2.9454,  34.4163,2,  34.4156,2,     35.2,2,   141.72,2,    42.92,2,     0.00,2,     3.05,2, -999.000,9, -999.000,9,   -999.0,9,   -999.0,9,-999.0000,9,  -999.00,      142
  49UP20170623,RF1707,  6064,  1,     20,  25829,2,20170724,0000, 35.5068, 165.0075, 5758,   1546.7,   2.5947,  34.4813,2,  34.4817,2,     38.2,2,   152.43,2,    43.11,2,     0.00,2,     3.06,2, -999.000,9, -999.000,9,   -999.0,9,   -999.0,9,-999.0000,9,  -999.00,      137
  49UP20170623,RF1707,  6064,  1,     19,  25828,2,20170724,0000, 35.5068, 165.0075, 5758,   1750.5,   2.3322,  34.5234,2,  34.5238,2,     46.5,2,   157.77,2,    42.74,2,     0.00,2,     3.02,2, -999.000,9, -999.000,9,   -999.0,9,   -999.0,9,-999.0000,9,  -999.00,      132
  49UP20170623,RF1707,  6064,  1,     18,  25827,2,20170724,0000, 35.5068, 165.0075, 5758,   1954.2,   2.0914,  34.5628,2,  34.5624,2,     57.4,2,   163.42,2,    42.12,2,     0.00,2,     2.96,2, -999.000,9, -999.000,9,   -999.0,9,   -999.0,9,-999.0000,9,  -999.00,      128
  49UP20170623,RF1707,  6064,  1,     17,  25826,2,20170724,0000, 35.5068, 165.0075, 5758,   2156.8,   1.9254,  34.5939,2,  34.5934,2,     72.3,6,   164.87,6,    41.25,6,     0.00,6,     2.89,6, -999.000,9, -999.000,9,   -999.0,9,   -999.0,9,-999.0000,9,  -999.00,      123
  49UP20170623,RF1707,  6064,  1,     16,  25825,2,20170724,0000, 35.5068, 165.0075, 5758,   2361.3,   1.8042,  34.6161,2,  34.6165,2,     86.5,2,   164.30,2,    40.41,2,     0.00,2,     2.83,2, -999.000,9, -999.000,9,   -999.0,9,   -999.0,9,-999.0000,9,  -999.00,      118
  49UP20170623,RF1707,  6064,  1,     15,  25824,2,20170724,0000, 35.5068, 165.0075, 5758,   2565.1,   1.7251,  34.6314,2,  34.6313,6,     98.1,2,   162.92,2,    39.68,2,     0.00,2,     2.77,2, -999.000,9, -999.000,9,   -999.0,9,   -999.0,9,-999.0000,9,  -999.00,      113
  49UP20170623,RF1707,  6064,  1,     14,  25823,2,20170724,0000, 35.5068, 165.0075, 5758,   2768.7,   1.6432,  34.6460,2,  34.6465,2,    111.7,2,   161.34,2,    38.81,2,     0.00,2,     2.70,2, -999.000,9, -999.000,9,   -999.0,9,   -999.0,9,-999.0000,9,  -999.00,      109
  49UP20170623,RF1707,  6064,  1,     13,  25822,2,20170724,0000, 35.5068, 165.0075, 5758,   2972.9,   1.5957,  34.6552,2,  34.6554,2,    120.3,2,   158.60,2,    38.28,2,     0.00,2,     2.66,2, -999.000,9, -999.000,9,   -999.0,9,   -999.0,9,-999.0000,9,  -999.00,      104
  49UP20170623,RF1707,  6064,  1,     12,  25821,2,20170724,0000, 35.5068, 165.0075, 5758,   3217.7,   1.5486,  34.6635,2,  34.6640,2,    129.4,2,   156.20,2,    37.67,2,     0.00,2,     2.61,2, -999.000,9, -999.000,9,   -999.0,9,   -999.0,9,-999.0000,9,  -999.00,       59
  49UP20170623,RF1707,  6064,  1,     11,  25820,2,20170724,0000, 35.5068, 165.0075, 5758,   3473.7,   1.5177,  34.6701,2,  34.6705,2,    135.6,2,   154.80,2,    37.23,2,     0.00,2,     2.58,2, -999.000,9, -999.000,9,   -999.0,9,   -999.0,9,-999.0000,9,  -999.00,       53
  49UP20170623,RF1707,  6064,  1,     10,  25819,2,20170724,0000, 35.5068, 165.0075, 5758,   3730.4,   1.4979,  34.6750,2,  34.6755,2,    141.7,2,   153.12,2,    36.87,2,     0.00,2,     2.56,2, -999.000,9, -999.000,9,   -999.0,9,   -999.0,9,-999.0000,9,  -999.00,       48
  49UP20170623,RF1707,  6064,  1,      9,  25818,2,20170724,0000, 35.5068, 165.0075, 5758,   3985.7,   1.4851,  34.6795,2,  34.6776,4,    145.8,3,   151.58,2,    36.55,2,     0.00,2,     2.53,2, -999.000,9, -999.000,9,   -999.0,9,   -999.0,9,-999.0000,9,  -999.00,       42
  49UP20170623,RF1707,  6064,  1,      8,  25817,2,20170724,0000, 35.5068, 165.0075, 5758,   4242.7,   1.4885,  34.6820,2,  34.6823,6,    150.6,6,   150.01,6,    36.28,6,     0.00,6,     2.51,6, -999.000,9, -999.000,9,   -999.0,9,   -999.0,9,-999.0000,9,  -999.00,       37
  49UP20170623,RF1707,  6064,  1,      7,  25816,2,20170724,0000, 35.5068, 165.0075, 5758,   4499.5,   1.4907,  34.6848,2,  34.6852,2,    154.0,2,   150.09,2,    36.02,2,     0.00,2,     2.49,2, -999.000,9, -999.000,9,   -999.0,9,   -999.0,9,-999.0000,9,  -999.00,       32
  49UP20170623,RF1707,  6064,  1,      6,  25815,2,20170724,0000, 35.5068, 165.0075, 5758,   4756.6,   1.5032,  34.6866,2,  34.6869,2,    156.4,2,   148.75,2,    35.85,2,     0.00,2,     2.48,2, -999.000,9, -999.000,9,   -999.0,9,   -999.0,9,-999.0000,9,  -999.00,       26
  49UP20170623,RF1707,  6064,  1,      5,  25814,2,20170724,0000, 35.5068, 165.0075, 5758,   5013.2,   1.5111,  34.6889,2,  34.6894,2,    159.8,2,   146.23,2,    35.59,2,     0.00,2,     2.46,2, -999.000,9, -999.000,9,   -999.0,9,   -999.0,9,-999.0000,9,  -999.00,       20
  49UP20170623,RF1707,  6064,  1,      4,  25813,2,20170724,0000, 35.5068, 165.0075, 5758,   5269.7,   1.5237,  34.6907,2,  34.6914,2,    163.5,2,   143.44,2,    35.34,2,     0.00,2,     2.44,2, -999.000,9, -999.000,9,   -999.0,9,   -999.0,9,-999.0000,9,  -999.00,       14
  49UP20170623,RF1707,  6064,  1,      3,  25812,2,20170724,0000, 35.5068, 165.0075, 5758,   5530.0,   1.5338,  34.6926,2,  34.6930,2,    167.4,2,   139.96,2,    35.07,2,     0.00,2,     2.42,2, -999.000,9, -999.000,9,   -999.0,9,   -999.0,9,-999.0000,9,  -999.00,        9
  49UP20170623,RF1707,  6064,  1,      2,  25811,2,20170724,0000, 35.5068, 165.0075, 5758,   5789.7,   1.5414,  34.6949,2,  34.6955,6,    171.6,2,   136.55,2,    34.72,2,     0.00,2,     2.39,2, -999.000,9, -999.000,9,   -999.0,9,   -999.0,9,-999.0000,9,  -999.00,        3
  49UP20170623,RF1707,  6064,  1,      1,  25810,2,20170724,0000, 35.5068, 165.0075, 5758,   5900.8,   1.5526,  34.6952,2,  34.6956,2,    172.1,2,   136.28,2,    34.71,2,     0.00,2,     2.39,2, -999.000,9, -999.000,9,   -999.0,9,   -999.0,9,-999.0000,9,  -999.00,        0