BOTTLE,20200309PRINUNIVRMK
EXPOCODE,SECT_ID,STNNBR,CASTNO,SAMPNO,BTLNBR,BTLNBR_FLAG_W,DATE,TIME,LATITUDE,LONGITUDE,DEPTH,CTDPRS,CTDTMP,CTDSAL,CTDSAL_FLAG_W,SALNTY,SALNTY_FLAG_W,OXYGEN,OXYGEN_FLAG_W,SILCAT,SILCAT_FLAG_W,NITRAT,NITRAT_FLAG_W,NITRIT,NITRIT_FLAG_W,PHSPHT,PHSPHT_FLAG_W,CFC-11,CFC-11_FLAG_W,CFC-12,CFC-12_FLAG_W,TCARBN,TCARBN_FLAG_W,ALKALI,ALKALI_FLAG_W,PH_TOT,PH_TOT_FLAG_W,PH_TMP,BTL_TIME
,,,,,,,,,,,METERS,DBAR,ITS-90,PSS-78,,PSS-78,,UMOL/KG,,UMOL/KG,,UMOL/KG,,UMOL/KG,,UMOL/KG,,PMOL/KG,,PMOL/KG,,UMOL/KG,,UMOL/KG,,,,DEG C,
  49UP20170623,RF1707,  6057,  1,     99,     99,2,20170721,1341, 40.0068, 164.9865, 5458,      0.0,  19.5200,  33.8692,2,-999.0000,5,    244.2,2,     6.67,2,     1.77,2,     0.04,2,     0.26,2, -999.000,9, -999.000,9,   2010.4,3,   2256.3,3,   7.9741,3,    25.00,     1528
  49UP20170623,RF1707,  6057,  1,     36,  25845,2,20170721,1341, 40.0068, 164.9865, 5458,     10.6,  17.8666,  34.0276,2,  34.0247,2,    256.4,2,     3.34,2,     0.88,2,     0.02,2,     0.15,2,    2.625,6,    1.651,6,   2004.9,2,   2257.5,2,   7.9800,2,    25.00,     1553
  49UP20170623,RF1707,  6057,  1,     35,  25844,3,20170721,1341, 40.0068, 164.9865, 5458,     50.9,  13.0814,  34.4163,2,  34.4331,4,    257.6,2,    10.55,2,     6.64,2,     0.26,2,     0.53,2,    2.933,2,    1.835,2,   2062.9,2,   2277.1,2,   7.9003,2,    25.00,     1548
  49UP20170623,RF1707,  6057,  1,     34,  25843,3,20170721,1341, 40.0068, 164.9865, 5458,     76.3,  12.2883,  34.4018,2,  34.4011,2,    235.5,2,    13.51,2,    10.00,2,     0.08,2,     0.73,2, -999.000,9, -999.000,9,   2082.8,2,   2278.1,2,   7.8550,2,    25.00,     1547
  49UP20170623,RF1707,  6057,  1,     33,  25842,2,20170721,1341, 40.0068, 164.9865, 5458,    101.5,  11.3638,  34.2841,2,  34.2804,2,    239.2,2,    15.36,2,    11.13,2,     0.04,2,     0.82,2,    3.073,2,    1.916,2,   2089.2,2,   2273.2,2,   7.8349,2,    25.00,     1546
  49UP20170623,RF1707,  6057,  1,     32,  25841,2,20170721,1341, 40.0068, 164.9865, 5458,    126.1,  10.4007,  34.1729,2,  34.1705,2,    241.8,2,    17.73,2,    12.51,2,     0.02,2,     0.92,2, -999.000,9, -999.000,9,   2098.6,2,   2272.1,2,   7.8086,2,    25.00,     1544
  49UP20170623,RF1707,  6057,  1,     31,  25840,2,20170721,1341, 40.0068, 164.9865, 5458,    151.6,   9.7559,  34.1195,2,  34.1199,2,    247.9,2,    18.83,2,    12.96,2,     0.02,2,     0.96,2,    3.325,2,    2.023,2,   2101.5,2,   2271.6,2,   7.8007,2,    25.00,     1543
  49UP20170623,RF1707,  6057,  1,     30,  25839,2,20170721,1341, 40.0068, 164.9865, 5458,    203.5,   8.5371,  33.9873,2,  33.9862,2,    237.0,2,    24.10,2,    16.05,2,     0.01,2,     1.19,2,    3.440,2,    2.075,2,   2123.6,6,   2269.0,6,   7.7496,2,    25.00,     1542
  49UP20170623,RF1707,  6057,  1,     29,  25838,2,20170721,1341, 40.0068, 164.9865, 5458,    252.7,   7.7039,  33.9472,2,  33.9484,6,    222.4,2,    30.73,2,    19.00,2,     0.01,2,     1.40,2,    3.415,2,    2.014,2,   2140.1,2,   2272.8,2,   7.7071,6,    25.00,     1540
  49UP20170623,RF1707,  6057,  1,     28,  25837,2,20170721,1341, 40.0068, 164.9865, 5458,    333.6,   6.5843,  33.9486,2,  33.9497,2,    159.5,6,    49.93,6,    26.96,6,     0.01,6,     1.95,6,    2.904,2,    1.670,2,   2200.5,2,   2285.6,2,   7.5814,2,    25.00,     1538
  49UP20170623,RF1707,  6057,  1,     27,  25836,3,20170721,1341, 40.0068, 164.9865, 5458,    435.0,   5.2509,  33.9780,2,  33.9784,2,    117.5,2,    70.77,2,    33.25,2,     0.01,2,     2.40,2,    2.386,2,    1.319,2,   2251.5,2,   2300.0,2,   7.4775,2,    25.00,     1535
  49UP20170623,RF1707,  6057,  1,     26,  25835,2,20170721,1341, 40.0068, 164.9865, 5458,    535.7,   4.5134,  34.0603,2,  34.0602,2,     80.6,2,    89.80,2,    37.65,2,     0.00,2,     2.70,2,    1.769,2,    0.939,2,   2294.4,2,   2315.9,2,   7.4032,2,    25.00,     1533
  49UP20170623,RF1707,  6057,  1,     25,  25834,2,20170721,1341, 40.0068, 164.9865, 5458,    635.8,   4.1747,  34.1477,2,  34.1486,2,     59.6,2,   102.84,2,    39.79,2,     0.00,2,     2.85,2,    1.252,2,    0.636,2,   2314.4,2,   2330.9,2,   7.3761,2,    25.00,     1530
  49UP20170623,RF1707,  6057,  1,     24,  25833,2,20170721,1341, 40.0068, 164.9865, 5458,    739.3,   3.8432,  34.2264,2,  34.2255,2,     46.9,6,   114.30,6,    41.13,6,     0.00,6,     2.94,6,    0.842,2,    0.419,2,   2334.5,2,   2348.3,2,   7.3610,2,    25.00,     1528
  49UP20170623,RF1707,  6057,  1,     23,  25832,2,20170721,1341, 40.0068, 164.9865, 5458,    838.9,   3.5287,  34.2968,2,  34.2966,2,     40.6,2,   124.60,2,    41.91,2,     0.00,2,     3.00,2,    0.500,2,    0.246,2,   2354.5,2,   2358.5,2,   7.3592,2,    25.00,     1525
  49UP20170623,RF1707,  6057,  1,     22,  25831,2,20170721,1341, 40.0068, 164.9865, 5458,    939.4,   3.2197,  34.3277,2,  34.3268,2,     34.8,2,   133.19,2,    42.66,2,     0.00,2,     3.05,2,    0.401,2,    0.192,2,   2360.6,6,   2368.9,6,   7.3447,2,    25.00,     1522
  49UP20170623,RF1707,  6057,  1,     21,  25830,2,20170721,1341, 40.0068, 164.9865, 5458,   1081.6,   2.9978,  34.3891,2,  34.3889,2,     34.3,2,   140.32,2,    42.97,2,     0.00,2,     3.06,2,    0.211,6,    0.097,6,   2368.2,2,   2379.5,2,   7.3537,6,    25.00,     1519
  49UP20170623,RF1707,  6057,  1,     20,  25829,2,20170721,1341, 40.0068, 164.9865, 5458,   1282.9,   2.6245,  34.4531,2,  34.4531,2,     35.1,2,   151.59,2,    43.29,2,     0.00,2,     3.07,2,    0.102,2,    0.035,2,   2380.4,2,   2394.0,2,   7.3569,2,    25.00,     1514
  49UP20170623,RF1707,  6057,  1,     19,  25828,2,20170721,1341, 40.0068, 164.9865, 5458,   1486.0,   2.3498,  34.5037,2,  34.5017,2,     41.2,2,   159.19,2,    43.09,2,     0.00,2,     3.05,2,    0.054,2,    0.017,2,   2382.3,2,   2402.2,2,   7.3685,2,    25.00,     1510
  49UP20170623,RF1707,  6057,  1,     18,  25827,2,20170721,1341, 40.0068, 164.9865, 5458,   1689.5,   2.1569,  34.5417,2,  34.5418,2,     51.5,2,   163.08,2,    42.50,2,     0.00,2,     3.00,2,    0.027,2,    0.001,2,   2381.4,2,   2407.6,2,   7.3958,2,    25.00,     1505
  49UP20170623,RF1707,  6057,  1,     17,  25826,3,20170721,1341, 40.0068, 164.9865, 5458,   1893.5,   2.0548,  34.5635,2,  34.5583,4,     67.2,4,   163.87,2,    41.96,2,     0.00,2,     2.96,2,    0.078,3,    0.035,3,   2379.8,2,   2410.7,2,   7.4176,2,    25.00,     1501
  49UP20170623,RF1707,  6057,  1,     16,  25825,2,20170721,1341, 40.0068, 164.9865, 5458,   2096.9,   1.9481,  34.5869,2,  34.5861,2,     69.0,2,   165.79,2,    41.49,2,     0.00,2,     2.92,2,    0.011,2,    0.000,2,   2379.9,2,   2415.1,2,   7.4296,2,    25.00,     1457
  49UP20170623,RF1707,  6057,  1,     15,  25824,2,20170721,1341, 40.0068, 164.9865, 5458,   2299.9,   1.8383,  34.6091,2,  34.6085,2,     81.2,2,   165.17,2,    40.72,2,     0.00,2,     2.86,2,    0.003,2,    0.001,2,   2369.5,2,   2417.2,2,   7.4534,2,    25.00,     1452
  49UP20170623,RF1707,  6057,  1,     14,  25823,2,20170721,1341, 40.0068, 164.9865, 5458,   2504.7,   1.7395,  34.6276,2,  34.6276,6,     94.4,2,   163.98,2,    39.85,2,     0.00,2,     2.80,2,    0.003,2,    0.000,2,   2364.6,2,   2419.6,2,   7.4825,2,    25.00,     1448
  49UP20170623,RF1707,  6057,  1,     13,  25822,2,20170721,1341, 40.0068, 164.9865, 5458,   2707.5,   1.6529,  34.6420,2,  34.6418,2,    106.5,2,   162.99,2,    39.09,2,     0.00,2,     2.74,2,    0.004,2,    0.000,2,   2354.5,2,   2420.8,2,   7.5030,2,    25.00,     1443
  49UP20170623,RF1707,  6057,  1,     12,  25821,2,20170721,1341, 40.0068, 164.9865, 5458,   2912.6,   1.5904,  34.6534,2,  34.6530,2,    117.2,2,   160.64,2,    38.43,2,     0.00,2,     2.69,2,    0.000,2,    0.000,2,   2348.1,2,   2420.3,2,   7.5247,2,    25.00,     1439
  49UP20170623,RF1707,  6057,  1,     11,  25820,2,20170721,1341, 40.0068, 164.9865, 5458,   3126.6,   1.5451,  34.6619,2,  34.6601,6,    125.4,2,   158.48,2,    37.87,2,     0.00,2,     2.64,2, -999.000,9, -999.000,9,   2342.8,2,   2421.2,2,   7.5400,2,    25.00,     1434
  49UP20170623,RF1707,  6057,  1,     10,  25819,2,20170721,1341, 40.0068, 164.9865, 5458,   3383.0,   1.5029,  34.6704,2,  34.6703,2,    135.9,6,   155.62,6,    37.24,6,     0.00,6,     2.59,6, -999.000,9, -999.000,9,   2340.3,2,   2421.2,2,   7.5570,2,    25.00,     1429
  49UP20170623,RF1707,  6057,  1,      9,  25818,2,20170721,1341, 40.0068, 164.9865, 5458,   3638.4,   1.4805,  34.6756,2,  34.6752,2,    141.9,2,   154.36,2,    36.82,2,     0.00,2,     2.56,2, -999.000,9, -999.000,9,   2338.5,2,   2419.1,2,   7.5670,2,    25.00,     1423
  49UP20170623,RF1707,  6057,  1,      8,  25817,2,20170721,1341, 40.0068, 164.9865, 5458,   3894.2,   1.4738,  34.6794,2,  34.6787,2,    146.3,2,   152.62,2,    36.50,2,     0.00,2,     2.54,2,    0.000,2,    0.000,2,   2333.7,2,   2420.9,2,   7.5756,2,    25.00,     1418
  49UP20170623,RF1707,  6057,  1,      7,  25816,2,20170721,1341, 40.0068, 164.9865, 5458,   4152.1,   1.4754,  34.6822,2,  34.6815,2,    150.1,2,   152.06,2,    36.28,2,     0.00,2,     2.52,2, -999.000,9, -999.000,9,   2328.4,2,   2419.4,2,   7.5784,2,    25.00,     1412
  49UP20170623,RF1707,  6057,  1,      6,  25815,2,20170721,1341, 40.0068, 164.9865, 5458,   4409.1,   1.4796,  34.6850,2,  34.6836,2,    153.1,2,   151.45,2,    36.04,2,     0.00,2,     2.50,2, -999.000,9, -999.000,9,   2326.2,2,   2419.4,2,   7.5859,2,    25.00,     1407
  49UP20170623,RF1707,  6057,  1,      5,  25814,2,20170721,1341, 40.0068, 164.9865, 5458,   4666.9,   1.4940,  34.6868,2,  34.6862,2,    155.2,2,   151.16,2,    35.88,2,     0.00,2,     2.49,2, -999.000,9, -999.000,9,   2324.1,2,   2419.3,2,   7.5901,2,    25.00,     1401
  49UP20170623,RF1707,  6057,  1,      4,  25813,2,20170721,1341, 40.0068, 164.9865, 5458,   4923.4,   1.5142,  34.6882,2,  34.6879,2,    156.5,2,   151.47,2,    35.82,2,     0.00,2,     2.48,2,    0.000,2,    0.000,2,   2322.7,6,   2419.5,6,   7.5923,2,    25.00,     1355
  49UP20170623,RF1707,  6057,  1,      3,  25812,2,20170721,1341, 40.0068, 164.9865, 5458,   5181.5,   1.5392,  34.6891,2,  34.6888,2,    157.6,2,   151.46,2,    35.72,2,     0.00,2,     2.48,2, -999.000,9, -999.000,9,   2328.4,2,   2417.7,2,   7.5959,6,    25.00,     1350
  49UP20170623,RF1707,  6057,  1,      2,  25811,2,20170721,1341, 40.0068, 164.9865, 5458,   5439.7,   1.5698,  34.6897,2,  34.6890,6,    157.7,2,   152.30,2,    35.72,2,     0.00,2,     2.48,2, -999.000,9, -999.000,9,   2327.1,2,   2419.0,2,   7.5961,2,    25.00,     1344
  49UP20170623,RF1707,  6057,  1,      1,  25810,2,20170721,1341, 40.0068, 164.9865, 5458,   5571.0,   1.5873,  34.6896,2,  34.6887,2,    157.8,6,   151.83,6,    35.71,6,     0.00,6,     2.48,6,    0.004,6,    0.000,6,   2322.4,2,   2419.8,2,   7.5966,2,    25.00,     1341