BOTTLE,20200309PRINUNIVRMK
EXPOCODE,SECT_ID,STNNBR,CASTNO,SAMPNO,BTLNBR,BTLNBR_FLAG_W,DATE,TIME,LATITUDE,LONGITUDE,DEPTH,CTDPRS,CTDTMP,CTDSAL,CTDSAL_FLAG_W,SALNTY,SALNTY_FLAG_W,OXYGEN,OXYGEN_FLAG_W,SILCAT,SILCAT_FLAG_W,NITRAT,NITRAT_FLAG_W,NITRIT,NITRIT_FLAG_W,PHSPHT,PHSPHT_FLAG_W,CFC-11,CFC-11_FLAG_W,CFC-12,CFC-12_FLAG_W,TCARBN,TCARBN_FLAG_W,ALKALI,ALKALI_FLAG_W,PH_TOT,PH_TOT_FLAG_W,PH_TMP,BTL_TIME
,,,,,,,,,,,METERS,DBAR,ITS-90,PSS-78,,PSS-78,,UMOL/KG,,UMOL/KG,,UMOL/KG,,UMOL/KG,,UMOL/KG,,PMOL/KG,,PMOL/KG,,UMOL/KG,,UMOL/KG,,,,DEG C,
  49UP20170623,RF1707,  6045,  1,     99,     99,2,20170702,1523, 49.0095, 163.3428, 5574,      0.0,   6.9700,  32.8553,2,  32.8553,2,    330.5,2,    17.83,2,    13.62,2,     0.13,2,     1.22,2, -999.000,9, -999.000,9,   2055.8,2,   2233.4,2,   7.8345,2,    25.00,     1715
  49UP20170623,RF1707,  6045,  1,     36,  25845,2,20170702,1523, 49.0095, 163.3428, 5574,     11.9,   6.6875,  32.8700,2,  32.8735,2,    339.0,2,    15.21,2,    13.24,2,     0.14,2,     1.19,2,    4.628,6,    2.671,6,   2056.7,2,   2234.4,2,   7.8373,2,    25.00,     1744
  49UP20170623,RF1707,  6045,  1,     35,  25844,2,20170702,1523, 49.0095, 163.3428, 5574,     26.5,   4.9674,  32.9300,2,  32.9320,2,    331.3,6,    29.63,6,    16.20,6,     0.16,6,     1.46,6, -999.000,9, -999.000,9,   2082.9,2,   2234.2,2,   7.7551,2,    25.00,     1742
  49UP20170623,RF1707,  6045,  1,     34,  25843,2,20170702,1523, 49.0095, 163.3428, 5574,     50.8,   2.7050,  32.9146,2,  32.9171,2,    333.6,2,    38.43,2,    21.76,2,     0.20,2,     1.81,2,    5.536,2,    3.112,2,   2118.8,2,   2232.3,2,   7.6671,2,    25.00,     1738
  49UP20170623,RF1707,  6045,  1,     33,  25842,2,20170702,1523, 49.0095, 163.3428, 5574,    101.4,   1.6609,  32.9655,2,  32.9692,2,    322.3,2,    40.44,2,    23.75,2,     0.43,2,     1.91,2,    5.520,2,    3.113,2,   2136.1,2,   2231.8,2,   7.6276,2,    25.00,     1736
  49UP20170623,RF1707,  6045,  1,     32,  25841,2,20170702,1523, 49.0095, 163.3428, 5574,    150.9,   3.1415,  33.6448,2,  33.6464,2,     88.2,2,    83.35,2,    41.21,2,     0.01,2,     2.95,2,    3.077,2,    1.728,2,   2292.2,6,   2280.3,6,   7.2924,2,    25.00,     1735
  49UP20170623,RF1707,  6045,  1,     31,  25840,2,20170702,1523, 49.0095, 163.3428, 5574,    201.9,   3.5437,  33.8492,2,  33.8480,2,     33.2,2,    96.60,2,    44.84,2,     0.00,2,     3.16,2,    2.339,2,    1.258,2,   2333.6,2,   2298.7,2,   7.2206,6,    25.00,     1733
  49UP20170623,RF1707,  6045,  1,     30,  25839,2,20170702,1523, 49.0095, 163.3428, 5574,    251.7,   3.5502,  33.9358,2,  33.9354,2,     23.6,2,   103.47,2,    45.06,2,     0.01,2,     3.17,2,    1.975,2,    1.037,2,   2339.7,2,   2309.2,2,   7.2204,2,    25.00,     1731
  49UP20170623,RF1707,  6045,  1,     29,  25838,2,20170702,1523, 49.0095, 163.3428, 5574,    282.9,   3.5493,  33.9768,2,  33.9762,2,     21.4,2,   106.72,2,    44.97,2,     0.00,2,     3.17,2,    1.786,2,    0.934,2,   2339.0,2,   2315.0,2,   7.2322,2,    25.00,     1729
  49UP20170623,RF1707,  6045,  1,     28,  25837,2,20170702,1523, 49.0095, 163.3428, 5574,    374.2,   3.5208,  34.1014,2,  34.1003,2,     19.3,2,   116.59,2,    44.30,2,     0.00,2,     3.13,2,    1.214,2,    0.615,2,   2347.5,2,   2331.0,2,   7.2533,2,    25.00,     1727
  49UP20170623,RF1707,  6045,  1,     27,  25836,2,20170702,1523, 49.0095, 163.3428, 5574,    475.9,   3.4244,  34.1923,2,  34.1929,6,     12.1,2,   125.91,2,    44.63,2,     0.00,2,     3.14,2,    0.736,2,    0.360,2,   2367.9,2,   2346.2,2,   7.2612,2,    25.00,     1724
  49UP20170623,RF1707,  6045,  1,     26,  25835,2,20170702,1523, 49.0095, 163.3428, 5574,    577.2,   3.2558,  34.2522,2,  34.2521,2,     12.2,6,   132.78,6,    44.54,6,     0.00,6,     3.14,6,    0.508,2,    0.243,2,   2368.4,2,   2356.8,2,   7.2731,2,    25.00,     1721
  49UP20170623,RF1707,  6045,  1,     25,  25834,2,20170702,1523, 49.0095, 163.3428, 5574,    677.1,   3.0861,  34.3027,2,  34.3021,2,     13.4,2,   139.46,2,    44.47,2,     0.00,2,     3.14,2,    0.349,6,    0.169,6,   2377.1,2,   2364.9,2,   7.2841,2,    25.00,     1718
  49UP20170623,RF1707,  6045,  1,     24,  25833,2,20170702,1523, 49.0095, 163.3428, 5574,    778.3,   2.9548,  34.3446,2,  34.3447,2,     14.5,2,   143.92,2,    44.42,2,     0.00,2,     3.14,2,    0.237,2,    0.113,2,   2375.8,2,   2372.0,2,   7.2965,2,    25.00,     1716
  49UP20170623,RF1707,  6045,  1,     23,  25832,2,20170702,1523, 49.0095, 163.3428, 5574,    880.2,   2.7820,  34.3834,2,  34.3838,2,     15.5,2,   150.45,2,    44.36,2,     0.00,2,     3.13,2,    0.172,2,    0.075,2,   2381.4,6,   2380.3,6,   7.2997,2,    25.00,     1713
  49UP20170623,RF1707,  6045,  1,     22,  25831,2,20170702,1523, 49.0095, 163.3428, 5574,    982.1,   2.6410,  34.4147,2,  34.4158,2,     32.4,4,   155.83,2,    44.28,2,     0.00,2,     3.13,2,    0.125,2,    0.059,2,   2389.7,2,   2385.5,2,   7.3041,6,    25.00,     1711
  49UP20170623,RF1707,  6045,  1,     21,  25830,3,20170702,1523, 49.0095, 163.3428, 5574,   1145.1,   2.4149,  34.4652,2,  34.4657,2,     23.9,2,   162.58,2,    43.87,2,     0.00,2,     3.10,2,    0.077,2,    0.032,2,   2388.4,2,   2394.4,2,   7.3178,2,    25.00,     1706
  49UP20170623,RF1707,  6045,  1,     20,  25829,2,20170702,1523, 49.0095, 163.3428, 5574,   1346.0,   2.2016,  34.5156,2,  34.5161,2,     37.4,2,   166.93,2,    43.14,2,     0.00,2,     3.04,2,    0.041,2,    0.015,2,   2386.7,2,   2401.4,2,   7.3524,2,    25.00,     1702
  49UP20170623,RF1707,  6045,  1,     19,  25828,2,20170702,1523, 49.0095, 163.3428, 5574,   1548.8,   2.0361,  34.5550,2,  34.5549,2,     48.5,2,   169.48,2,    42.48,2,     0.00,2,     2.99,2,    0.015,2,    0.006,2,   2384.0,2,   2409.1,2,   7.3747,2,    25.00,     1657
  49UP20170623,RF1707,  6045,  1,     18,  25827,2,20170702,1523, 49.0095, 163.3428, 5574,   1753.8,   1.9062,  34.5840,2,  34.5843,2,     61.5,2,   170.57,2,    41.76,2,     0.00,2,     2.93,2,    0.000,2,    0.000,2,   2375.6,2,   2414.2,2,   7.4057,2,    25.00,     1652
  49UP20170623,RF1707,  6045,  1,     17,  25826,2,20170702,1523, 49.0095, 163.3428, 5574,   1955.6,   1.8093,  34.6052,2,  34.6057,2,     74.1,6,   170.26,6,    40.96,6,     0.00,6,     2.88,6,    0.000,2,    0.000,2,   2367.2,2,   2417.0,2,   7.4294,2,    25.00,     1647
  49UP20170623,RF1707,  6045,  1,     16,  25825,2,20170702,1523, 49.0095, 163.3428, 5574,   2160.0,   1.7311,  34.6235,2,  34.6242,2,     89.0,2,   166.93,2,    40.06,2,     0.00,2,     2.81,2,    0.000,2,    0.000,2,   2363.9,2,   2416.7,2,   7.4585,2,    25.00,     1643
  49UP20170623,RF1707,  6045,  1,     15,  25824,2,20170702,1523, 49.0095, 163.3428, 5574,   2363.9,   1.6534,  34.6385,2,  34.6381,2,    101.3,2,   164.61,2,    39.26,2,     0.00,2,     2.75,2,    0.000,2,    0.000,2,   2358.0,2,   2418.3,2,   7.4846,2,    25.00,     1638
  49UP20170623,RF1707,  6045,  1,     14,  25823,2,20170702,1523, 49.0095, 163.3428, 5574,   2567.0,   1.5991,  34.6489,2,  34.6490,2,    111.1,2,   162.45,2,    38.69,2,     0.00,2,     2.70,2,    0.000,2,    0.000,2,   2348.1,2,   2419.1,2,   7.4998,2,    25.00,     1633
  49UP20170623,RF1707,  6045,  1,     13,  25822,2,20170702,1523, 49.0095, 163.3428, 5574,   2771.4,   1.5576,  34.6570,2,  34.6570,2,    119.4,2,   160.26,2,    38.19,2,     0.00,2,     2.66,2,    0.000,2,    0.000,2,   2343.1,2,   2419.1,2,   7.5201,2,    25.00,     1629
  49UP20170623,RF1707,  6045,  1,     12,  25821,2,20170702,1523, 49.0095, 163.3428, 5574,   2977.3,   1.5189,  34.6645,2,  34.6649,2,    127.5,2,   157.92,2,    37.67,2,     0.00,2,     2.62,2, -999.000,9, -999.000,9,   2333.6,3,   2418.5,2,   7.5356,2,    25.00,     1624
  49UP20170623,RF1707,  6045,  1,     11,  25820,2,20170702,1523, 49.0095, 163.3428, 5574,   3221.0,   1.4856,  34.6708,2,  34.6708,6,    135.0,2,   156.32,2,    37.15,2,     0.00,2,     2.58,2, -999.000,9, -999.000,9,   2340.6,2,   2418.4,2,   7.5472,2,    25.00,     1618
  49UP20170623,RF1707,  6045,  1,     10,  25819,2,20170702,1523, 49.0095, 163.3428, 5574,   3478.4,   1.4691,  34.6757,2,  34.6760,2,    140.7,2,   154.28,2,    36.78,2,     0.00,2,     2.55,2, -999.000,9, -999.000,9,   2332.1,2,   2418.7,2,   7.5549,2,    25.00,     1613
  49UP20170623,RF1707,  6045,  1,      9,  25818,2,20170702,1523, 49.0095, 163.3428, 5574,   3734.4,   1.4598,  34.6797,2,  34.6798,2,    145.5,2,   152.78,2,    36.45,2,     0.00,2,     2.52,2,    0.000,2,    0.000,2,   2325.3,2,   2419.3,2,   7.5674,2,    25.00,     1607
  49UP20170623,RF1707,  6045,  1,      8,  25817,2,20170702,1523, 49.0095, 163.3428, 5574,   3992.4,   1.4588,  34.6827,2,  34.6823,2,    149.5,6,   152.16,6,    36.18,6,     0.00,6,     2.50,6, -999.000,9, -999.000,9,   2325.6,2,   2417.0,2,   7.5737,2,    25.00,     1601
  49UP20170623,RF1707,  6045,  1,      7,  25816,2,20170702,1523, 49.0095, 163.3428, 5574,   4248.4,   1.4648,  34.6852,2,  34.6850,6,    152.0,2,   151.65,2,    36.00,2,     0.00,2,     2.49,2, -999.000,9, -999.000,9,   2332.6,3,   2418.0,2,   7.5805,2,    25.00,     1556
  49UP20170623,RF1707,  6045,  1,      6,  25815,2,20170702,1523, 49.0095, 163.3428, 5574,   4504.4,   1.4779,  34.6869,2,  34.6872,2,    154.6,2,   151.49,2,    35.85,2,     0.00,2,     2.48,2, -999.000,9, -999.000,9,   2329.6,3,   2417.4,6,   7.5834,2,    25.00,     1550
  49UP20170623,RF1707,  6045,  1,      5,  25814,3,20170702,1523, 49.0095, 163.3428, 5574,   4762.5,   1.4983,  34.6881,2,  34.6883,6,    155.9,2,   151.24,2,    35.74,2,     0.00,2,     2.47,2,    0.000,2,    0.000,2,   2323.5,2,   2416.9,2,   7.5841,6,    25.00,     1544
  49UP20170623,RF1707,  6045,  1,      4,  25813,2,20170702,1523, 49.0095, 163.3428, 5574,   5020.9,   1.5236,  34.6889,2,  34.6896,2,    156.9,2,   151.43,2,    35.67,2,     0.00,2,     2.47,2, -999.000,9, -999.000,9,   2321.7,2,   2416.6,2,   7.5863,2,    25.00,     1538
  49UP20170623,RF1707,  6045,  1,      3,  25812,2,20170702,1523, 49.0095, 163.3428, 5574,   5278.8,   1.5528,  34.6893,2,  34.6890,2,    157.5,2,   151.33,2,    35.63,2,     0.00,2,     2.46,2, -999.000,9, -999.000,9,   2324.3,2,   2417.2,2,   7.5862,2,    25.00,     1533
  49UP20170623,RF1707,  6045,  1,      2,  25811,2,20170702,1523, 49.0095, 163.3428, 5574,   5537.2,   1.5854,  34.6894,2,  34.6901,2,    157.3,2,   152.26,2,    35.58,2,     0.00,2,     2.46,2, -999.000,9, -999.000,9,   2315.6,3,   2416.8,2,   7.5880,2,    25.00,     1527
  49UP20170623,RF1707,  6045,  1,      1,  25810,2,20170702,1523, 49.0095, 163.3428, 5574,   5686.5,   1.6049,  34.6893,2,  34.6902,2,    157.6,2,   151.84,2,    35.61,2,     0.00,2,     2.46,2,    0.001,6,    0.000,6,   2325.0,2,   2417.5,2,   7.5878,2,    25.00,     1523