BOTTLE,20200309PRINUNIVRMK
EXPOCODE,SECT_ID,STNNBR,CASTNO,SAMPNO,BTLNBR,BTLNBR_FLAG_W,DATE,TIME,LATITUDE,LONGITUDE,DEPTH,CTDPRS,CTDTMP,CTDSAL,CTDSAL_FLAG_W,SALNTY,SALNTY_FLAG_W,OXYGEN,OXYGEN_FLAG_W,SILCAT,SILCAT_FLAG_W,NITRAT,NITRAT_FLAG_W,NITRIT,NITRIT_FLAG_W,PHSPHT,PHSPHT_FLAG_W,CFC-11,CFC-11_FLAG_W,CFC-12,CFC-12_FLAG_W,TCARBN,TCARBN_FLAG_W,ALKALI,ALKALI_FLAG_W,PH_TOT,PH_TOT_FLAG_W,PH_TMP,BTL_TIME
,,,,,,,,,,,METERS,DBAR,ITS-90,PSS-78,,PSS-78,,UMOL/KG,,UMOL/KG,,UMOL/KG,,UMOL/KG,,UMOL/KG,,PMOL/KG,,PMOL/KG,,UMOL/KG,,UMOL/KG,,,,DEG C,
  49UP20170623,RF1707,  6038,  1,     99,     99,2,20170629,0051, 43.0813, 153.3667, 5164,      0.0,  12.1551,  33.2367,2,  33.2226,2,    281.6,2,     0.38,2,     1.36,2,     0.06,2,     0.26,4, -999.000,9, -999.000,9,   2005.9,2,   2247.1,2,   7.9774,2,    25.00,      225
  49UP20170623,RF1707,  6038,  1,     36,  25845,2,20170629,0051, 43.0813, 153.3667, 5164,     11.2,  12.1384,  33.2353,2,  33.2506,4,    282.4,2,     0.49,2,     1.58,2,     0.06,2,     0.27,4,    3.330,2,    1.980,2,   2010.0,2,   2245.9,2,   7.9808,2,    25.00,      303
  49UP20170623,RF1707,  6038,  1,     35,  25844,2,20170629,0051, 43.0813, 153.3667, 5164,     26.5,   7.6862,  33.4067,2,  33.4308,4,    339.1,2,     5.19,2,     8.01,2,     0.20,2,     0.82,3, -999.000,9, -999.000,9,   2053.1,2,   2252.6,2,   7.8811,2,    25.00,      302
  49UP20170623,RF1707,  6038,  1,     34,  25843,2,20170629,0051, 43.0813, 153.3667, 5164,     50.8,   4.0311,  33.2529,2,  33.2963,4,    303.4,2,    24.48,2,    16.70,2,     0.31,2,     1.48,2,    4.878,2,    2.750,2,   2119.0,2,   2246.1,2,   7.7066,2,    25.00,      258
  49UP20170623,RF1707,  6038,  1,     33,  25842,2,20170629,0051, 43.0813, 153.3667, 5164,     75.7,   3.6445,  33.2999,2,  33.3187,4,    296.8,2,    31.41,2,    19.96,2,     0.05,2,     1.58,2, -999.000,9, -999.000,9,   2132.6,2,   2247.8,2,   7.6717,2,    25.00,      257
  49UP20170623,RF1707,  6038,  1,     32,  25841,2,20170629,0051, 43.0813, 153.3667, 5164,    101.8,   2.6035,  33.2567,2,  33.2475,4,    293.0,2,    39.63,2,    23.01,2,     0.02,2,     1.81,2,    5.033,2,    2.808,2,   2152.7,2,   2245.3,2,   7.6163,2,    25.00,      256
  49UP20170623,RF1707,  6038,  1,     31,  25840,2,20170629,0051, 43.0813, 153.3667, 5164,    126.7,   2.3177,  33.2827,2,  33.2793,2,    282.7,2,    43.05,2,    23.94,2,     0.01,2,     1.86,2, -999.000,9, -999.000,9,   2159.1,2,   2247.5,2,   7.5962,2,    25.00,      254
  49UP20170623,RF1707,  6038,  1,     30,  25839,2,20170629,0051, 43.0813, 153.3667, 5164,    151.6,   2.5540,  33.3652,2,  33.3699,4,    246.8,2,    50.73,2,    26.40,2,     0.01,2,     2.03,2,    4.562,2,    2.553,2,   2190.2,2,   2257.0,2,   7.5504,6,    25.00,      253
  49UP20170623,RF1707,  6038,  1,     29,  25838,2,20170629,0051, 43.0813, 153.3667, 5164,    202.2,   2.7731,  33.5418,2,  33.5403,2,    159.1,6,    72.87,6,    34.50,6,     0.01,6,     2.56,6,    3.668,2,    2.022,2,   2246.0,2,   2272.3,2,   7.4048,2,    25.00,      251
  49UP20170623,RF1707,  6038,  1,     28,  25837,2,20170629,0051, 43.0813, 153.3667, 5164,    254.2,   3.2429,  33.7107,2,  33.7112,2,    115.0,2,    82.07,2,    37.31,2,     0.01,2,     2.72,2,    3.037,2,    1.648,2,   2274.0,2,   2286.4,2,   7.3621,2,    25.00,      249
  49UP20170623,RF1707,  6038,  1,     27,  25836,3,20170629,0051, 43.0813, 153.3667, 5164,    333.7,   3.6027,  33.9155,2,  33.9123,2,     67.4,2,    96.98,2,    40.79,2,     0.01,2,     2.92,2,    2.194,6,    1.138,6,   2310.7,2,   2304.7,2,   7.3066,2,    25.00,      247
  49UP20170623,RF1707,  6038,  1,     26,  25835,2,20170629,0051, 43.0813, 153.3667, 5164,    435.5,   3.4197,  34.0385,2,  34.0389,2,     30.1,2,   113.38,2,    43.83,2,     0.00,2,     3.11,2,    1.510,2,    0.760,2,   2343.1,2,   2324.3,2,   7.2598,2,    25.00,      244
  49UP20170623,RF1707,  6038,  1,     25,  25834,2,20170629,0051, 43.0813, 153.3667, 5164,    537.2,   3.3207,  34.1486,2,  34.1479,2,     22.2,2,   123.75,2,    44.03,2,     0.00,2,     3.12,2,    1.015,2,    0.504,2,   2358.2,2,   2338.3,2,   7.2717,2,    25.00,      241
  49UP20170623,RF1707,  6038,  1,     24,  25833,2,20170629,0051, 43.0813, 153.3667, 5164,    637.0,   3.2286,  34.2282,2,  34.2284,2,     17.2,2,   131.74,2,    44.26,2,     0.00,2,     3.13,2,    0.651,2,    0.331,2,   2364.0,2,   2350.5,2,   7.2787,2,    25.00,      238
  49UP20170623,RF1707,  6038,  1,     23,  25832,2,20170629,0051, 43.0813, 153.3667, 5164,    738.6,   3.0238,  34.2902,2,  34.2889,6,     25.0,2,   138.17,2,    43.53,2,     0.00,2,     3.10,2,    0.525,2,    0.269,2,   2365.0,2,   2361.1,2,   7.3021,2,    25.00,      235
  49UP20170623,RF1707,  6038,  1,     22,  25831,2,20170629,0051, 43.0813, 153.3667, 5164,    839.3,   2.8438,  34.3445,2,  34.3437,2,     26.3,2,   144.69,2,    43.51,2,     0.00,2,     3.10,2,    0.383,2,    0.192,2,   2372.0,6,   2371.2,6,   7.3139,2,    25.00,      232
  49UP20170623,RF1707,  6038,  1,     21,  25830,2,20170629,0051, 43.0813, 153.3667, 5164,    942.0,   2.7039,  34.3812,2,  34.3813,2,     24.3,2,   150.88,2,    43.76,2,     0.00,2,     3.11,2,    0.271,2,    0.128,2,   2380.8,2,   2377.4,2,   7.3179,2,    25.00,      229
  49UP20170623,RF1707,  6038,  1,     20,  25829,2,20170629,0051, 43.0813, 153.3667, 5164,   1082.7,   2.5209,  34.4278,2,  34.4269,2,     30.0,6,   156.30,6,    43.39,6,     0.00,6,     3.09,6,    0.199,2,    0.090,2,   2380.3,2,   2385.9,2,   7.3312,2,    25.00,      225
  49UP20170623,RF1707,  6038,  1,     19,  25828,2,20170629,0051, 43.0813, 153.3667, 5164,   1285.6,   2.3177,  34.4778,2,  34.4779,2,     39.9,2,   161.47,2,    42.88,2,     0.00,2,     3.05,2,    0.137,2,    0.065,2,   2379.2,2,   2393.6,2,   7.3494,2,    25.00,      220
  49UP20170623,RF1707,  6038,  1,     18,  25827,2,20170629,0051, 43.0813, 153.3667, 5164,   1487.6,   2.2004,  34.5243,2,  34.5258,4,     49.1,2,   162.17,2,    42.35,2,     0.00,2,     3.01,2,    0.063,2,    0.030,2,   2383.6,2,   2401.0,2,   7.3808,2,    25.00,      215
  49UP20170623,RF1707,  6038,  1,     17,  25826,2,20170629,0051, 43.0813, 153.3667, 5164,   1691.3,   2.0575,  34.5590,2,  34.5591,2,     56.7,2,   165.63,2,    41.98,2,     0.00,2,     2.97,2,    0.024,2,    0.013,2,   2377.7,2,   2406.2,2,   7.3959,2,    25.00,      210
  49UP20170623,RF1707,  6038,  1,     16,  25825,3,20170629,0051, 43.0813, 153.3667, 5164,   1894.3,   1.9305,  34.5883,2,  34.5868,2,     69.3,2,   166.05,2,    41.25,2,     0.00,2,     2.91,2,    0.007,2,    0.001,2,   2370.6,2,   2411.1,2,   7.4222,2,    25.00,      206
  49UP20170623,RF1707,  6038,  1,     15,  25824,2,20170629,0051, 43.0813, 153.3667, 5164,   2097.2,   1.8125,  34.6114,2,  34.6112,2,     82.1,2,   166.12,2,    40.51,2,     0.00,2,     2.85,2,    0.000,6,    0.000,6,   2372.1,2,   2413.9,2,   7.4503,2,    25.00,      201
  49UP20170623,RF1707,  6038,  1,     14,  25823,2,20170629,0051, 43.0813, 153.3667, 5164,   2299.0,   1.7168,  34.6308,2,  34.6306,2,     97.4,2,   162.63,2,    39.58,2,     0.00,2,     2.78,2,    0.000,2,    0.000,2,   2357.9,2,   2416.1,2,   7.4822,2,    25.00,      156
  49UP20170623,RF1707,  6038,  1,     13,  25822,2,20170629,0051, 43.0813, 153.3667, 5164,   2504.4,   1.6420,  34.6438,2,  34.6438,6,    107.8,2,   161.53,2,    38.93,2,     0.00,2,     2.73,2,    0.000,2,    0.000,2,   2350.5,2,   2416.4,2,   7.5006,2,    25.00,      152
  49UP20170623,RF1707,  6038,  1,     12,  25821,2,20170629,0051, 43.0813, 153.3667, 5164,   2708.4,   1.5816,  34.6545,2,  34.6534,2,    118.2,2,   158.70,2,    38.24,2,     0.00,2,     2.68,2,    0.000,2,    0.000,2,   2354.8,3,   2416.7,2,   7.5244,2,    25.00,      147
  49UP20170623,RF1707,  6038,  1,     11,  25820,2,20170629,0051, 43.0813, 153.3667, 5164,   2912.2,   1.5433,  34.6617,2,  34.6615,2,    125.2,6,   157.24,6,    37.78,6,     0.00,6,     2.64,6,    0.000,2,    0.000,2,   2341.3,2,   2416.1,2,   7.5337,2,    25.00,      143
  49UP20170623,RF1707,  6038,  1,     10,  25819,2,20170629,0051, 43.0813, 153.3667, 5164,   3127.5,   1.5071,  34.6683,2,  34.6681,2,    132.2,2,   155.72,2,    37.32,2,     0.00,2,     2.60,2, -999.000,9, -999.000,9,   2334.1,2,   2417.0,2,   7.5460,2,    25.00,      138
  49UP20170623,RF1707,  6038,  1,      9,  25818,2,20170629,0051, 43.0813, 153.3667, 5164,   3383.0,   1.4792,  34.6741,2,  34.6742,2,    139.5,2,   154.35,2,    36.89,2,     0.00,2,     2.57,2, -999.000,9, -999.000,9,   2329.1,2,   2416.2,6,   7.5582,2,    25.00,      132
  49UP20170623,RF1707,  6038,  1,      8,  25817,2,20170629,0051, 43.0813, 153.3667, 5164,   3639.0,   1.4585,  34.6792,2,  34.6789,6,    145.4,2,   152.75,2,    36.51,2,     0.00,2,     2.54,2, -999.000,9, -999.000,9,   2334.1,3,   2412.4,2,   7.5693,6,    25.00,      127
  49UP20170623,RF1707,  6038,  1,      7,  25816,2,20170629,0051, 43.0813, 153.3667, 5164,   3896.3,   1.4508,  34.6830,2,  34.6825,2,    150.0,2,   150.97,2,    36.17,2,     0.00,2,     2.51,2,    0.001,2,    0.005,2,   2325.5,2,   2415.4,2,   7.5741,2,    25.00,      121
  49UP20170623,RF1707,  6038,  1,      6,  25815,2,20170629,0051, 43.0813, 153.3667, 5164,   4153.1,   1.4517,  34.6856,2,  34.6853,2,    153.5,2,   150.00,2,    35.94,2,     0.00,2,     2.49,2, -999.000,9, -999.000,9,   2324.0,2,   2414.4,2,   7.5818,2,    25.00,      116
  49UP20170623,RF1707,  6038,  1,      5,  25814,2,20170629,0051, 43.0813, 153.3667, 5164,   4409.5,   1.4642,  34.6875,2,  34.6870,2,    155.0,2,   150.48,2,    35.80,2,     0.00,2,     2.49,2, -999.000,9, -999.000,9,   2332.1,3,   2416.9,2,   7.5870,2,    25.00,      110
  49UP20170623,RF1707,  6038,  1,      4,  25813,2,20170629,0051, 43.0813, 153.3667, 5164,   4667.1,   1.4831,  34.6887,2,  34.6891,2,    156.6,2,   151.01,2,    35.74,2,     0.00,2,     2.48,2, -999.000,9, -999.000,9,   2321.5,2,   2415.7,2,   7.5863,2,    25.00,      105
  49UP20170623,RF1707,  6038,  1,      3,  25812,2,20170629,0051, 43.0813, 153.3667, 5164,   4923.9,   1.5092,  34.6892,2,  34.6879,2,    157.2,2,   150.93,2,    35.65,2,     0.00,2,     2.47,2,    0.014,2,    0.007,2,   2321.2,2,   2415.5,2,   7.5892,2,    25.00,       59
  49UP20170623,RF1707,  6038,  1,      2,  25811,2,20170629,0051, 43.0813, 153.3667, 5164,   5181.7,   1.5365,  34.6898,2,  34.6902,6,    157.9,6,   151.12,6,    35.61,6,     0.00,6,     2.47,6, -999.000,9, -999.000,9,   2320.5,2,   2416.0,2,   7.5892,2,    25.00,       53
  49UP20170623,RF1707,  6038,  1,      1,  25810,2,20170629,0051, 43.0813, 153.3667, 5164,   5247.7,   1.5448,  34.6898,2,  34.6893,2,    158.2,2,   150.88,2,    35.58,2,     0.00,2,     2.47,2,    0.004,6,    0.002,6,   2320.4,2,   2416.3,2,   7.5912,2,    25.00,       51