BOTTLE,20200309PRINUNIVRMK
EXPOCODE,SECT_ID,STNNBR,CASTNO,SAMPNO,BTLNBR,BTLNBR_FLAG_W,DATE,TIME,LATITUDE,LONGITUDE,DEPTH,CTDPRS,CTDTMP,CTDSAL,CTDSAL_FLAG_W,SALNTY,SALNTY_FLAG_W,OXYGEN,OXYGEN_FLAG_W,SILCAT,SILCAT_FLAG_W,NITRAT,NITRAT_FLAG_W,NITRIT,NITRIT_FLAG_W,PHSPHT,PHSPHT_FLAG_W,CFC-11,CFC-11_FLAG_W,CFC-12,CFC-12_FLAG_W,TCARBN,TCARBN_FLAG_W,ALKALI,ALKALI_FLAG_W,PH_TOT,PH_TOT_FLAG_W,PH_TMP,BTL_TIME
,,,,,,,,,,,METERS,DBAR,ITS-90,PSS-78,,PSS-78,,UMOL/KG,,UMOL/KG,,UMOL/KG,,UMOL/KG,,UMOL/KG,,PMOL/KG,,PMOL/KG,,UMOL/KG,,UMOL/KG,,,,DEG C,
  49UP20170623,RF1707,  6067,  1,     99,     99,2,20170725,2347, 33.9837, 165.0007, 6068,      0.0,  24.6042,  34.4227,2,  34.4252,2,    214.8,2,     1.59,2,     0.01,2,     0.00,2,     0.02,2, -999.000,9, -999.000,9,   1988.2,2,   2266.3,2,   8.0247,2,    25.00,      155
  49UP20170623,RF1707,  6067,  1,     36,  25845,2,20170725,2347, 33.9837, 165.0007, 6068,     11.0,  24.5672,  34.4217,2,  34.4220,2,    214.4,2,     1.60,2,     0.01,2,     0.00,2,     0.02,2,    1.867,2,    1.174,2,   1989.6,6,   2267.2,6,   8.0258,2,    25.00,      225
  49UP20170623,RF1707,  6067,  1,     35,  25844,3,20170725,2347, 33.9837, 165.0007, 6068,     51.1,  19.5943,  34.7689,2,  34.7663,2,    224.4,2,     2.56,2,     0.19,2,     0.04,2,     0.08,2,    2.171,2,    1.327,2,   2015.0,2,   2293.4,2,   8.0237,6,    25.00,      223
  49UP20170623,RF1707,  6067,  1,     34,  25843,2,20170725,2347, 33.9837, 165.0007, 6068,    101.0,  17.6516,  34.8051,2,  34.8041,2,    210.0,2,     4.31,2,     3.89,2,     0.09,2,     0.27,2,    2.294,2,    1.399,2,   2038.8,2,   2289.2,2,   7.9692,2,    25.00,      218
  49UP20170623,RF1707,  6067,  1,     33,  25842,3,20170725,2347, 33.9837, 165.0007, 6068,    151.7,  16.7975,  34.7468,2,  34.7457,2,    221.5,2,     3.99,2,     3.93,2,     0.03,2,     0.26,2,    2.398,2,    1.450,2,   2038.3,2,   2285.0,2,   7.9566,2,    25.00,      216
  49UP20170623,RF1707,  6067,  1,     32,  25841,2,20170725,2347, 33.9837, 165.0007, 6068,    202.8,  15.8589,  34.6517,2,  34.6511,2,    203.9,2,     8.05,2,     7.29,2,     0.01,2,     0.50,2,    2.457,2,    1.529,2,   2061.9,2,   2282.2,2,   7.9110,2,    25.00,      213
  49UP20170623,RF1707,  6067,  1,     31,  25840,2,20170725,2347, 33.9837, 165.0007, 6068,    251.8,  14.8194,  34.5796,2,  34.5805,2,    206.4,2,    10.22,2,     8.70,2,     0.01,2,     0.60,2,    2.550,2,    1.578,2,   2076.9,2,   2281.3,2,   7.8900,2,    25.00,      211
  49UP20170623,RF1707,  6067,  1,     30,  25839,2,20170725,2347, 33.9837, 165.0007, 6068,    285.2,  14.0244,  34.5005,2,  34.5147,4,    203.8,2,    11.65,2,     9.82,2,     0.01,2,     0.68,2,    2.622,2,    1.607,2,   2078.1,2,   2278.5,2,   7.8696,2,    25.00,      210
  49UP20170623,RF1707,  6067,  1,     29,  25838,2,20170725,2347, 33.9837, 165.0007, 6068,    374.2,  12.0396,  34.3745,2,  34.3750,2,    204.9,6,    18.67,6,    13.10,6,     0.01,6,     0.93,6,    2.739,2,    1.638,2,   2105.4,2,   2278.3,2,   7.8172,2,    25.00,      207
  49UP20170623,RF1707,  6067,  1,     28,  25837,2,20170725,2347, 33.9837, 165.0007, 6068,    476.3,   9.4133,  34.1248,2,  34.1266,2,    214.8,2,    25.30,2,    16.41,2,     0.00,2,     1.19,2, -999.000,5, -999.000,5,   2128.9,2,   2273.8,2,   7.7549,2,    25.00,      204
  49UP20170623,RF1707,  6067,  1,     27,  25836,3,20170725,2347, 33.9837, 165.0007, 6068,    572.0,   7.0536,  33.9495,2,  33.9511,2,    173.6,2,    44.04,2,    24.66,2,     0.00,2,     1.79,2, -999.000,5, -999.000,5,   2183.2,2,   2278.1,2,   7.6178,2,    25.00,      201
  49UP20170623,RF1707,  6067,  1,     26,  25835,2,20170725,2347, 33.9837, 165.0007, 6068,    676.1,   5.3527,  33.9668,2,  33.9664,2,    123.7,2,    67.91,2,    32.31,2,     0.00,2,     2.34,2, -999.000,5, -999.000,5,   2243.1,2,   2296.6,2,   7.4937,2,    25.00,      157
  49UP20170623,RF1707,  6067,  1,     25,  25834,2,20170725,2347, 33.9837, 165.0007, 6068,    777.0,   4.4527,  34.0678,2,  34.0689,2,     76.1,2,    91.71,2,    38.05,2,     0.00,2,     2.73,2, -999.000,5, -999.000,5,   2295.8,2,   2318.3,2,   7.3920,2,    25.00,      154
  49UP20170623,RF1707,  6067,  1,     24,  25833,3,20170725,2347, 33.9837, 165.0007, 6068,    877.8,   4.1415,  34.1859,2,  34.1867,2,     55.1,2,   105.38,2,    40.01,2,     0.00,2,     2.87,2, -999.000,5, -999.000,5,   2322.8,6,   2338.0,6,   7.3771,2,    25.00,      151
  49UP20170623,RF1707,  6067,  1,     23,  25832,3,20170725,2347, 33.9837, 165.0007, 6068,    978.2,   3.7885,  34.2604,2,  34.2608,2,     44.0,2,   117.12,2,    41.32,2,     0.00,2,     2.95,2, -999.000,5, -999.000,5,   2341.3,2,   2352.3,2,   7.3633,6,    25.00,      147
  49UP20170623,RF1707,  6067,  1,     22,  25831,3,20170725,2347, 33.9837, 165.0007, 6068,   1142.4,   3.3541,  34.3510,2,  34.3516,6,     34.0,2,   129.73,2,    42.61,2,     0.00,2,     3.04,2, -999.000,5, -999.000,5,   2354.9,2,   2371.2,2,   7.3558,2,    25.00,      142
  49UP20170623,RF1707,  6067,  1,     21,  25830,2,20170725,2347, 33.9837, 165.0007, 6068,   1346.0,   2.7993,  34.4379,2,  34.4377,2,     36.1,2,   145.76,2,    42.89,2,     0.00,2,     3.05,2, -999.000,5, -999.000,5,   2375.5,2,   2389.3,2,   7.3646,2,    25.00,      137
  49UP20170623,RF1707,  6067,  1,     20,  25829,2,20170725,2347, 33.9837, 165.0007, 6068,   1548.0,   2.5052,  34.4913,2,  34.4913,2,     40.0,6,   154.16,6,    42.96,6,     0.00,6,     3.05,6, -999.000,5, -999.000,5,   2381.1,2,   2398.5,2,   7.3767,2,    25.00,      131
  49UP20170623,RF1707,  6067,  1,     19,  25828,2,20170725,2347, 33.9837, 165.0007, 6068,   1751.3,   2.2639,  34.5362,2,  34.5362,2,     46.9,2,   160.37,2,    42.73,2,     0.00,2,     3.02,2, -999.000,5, -999.000,5,   2389.0,2,   2409.6,2,   7.3929,2,    25.00,      126
  49UP20170623,RF1707,  6067,  1,     18,  25827,2,20170725,2347, 33.9837, 165.0007, 6068,   1954.5,   2.0743,  34.5699,2,  34.5702,2,     59.4,2,   163.67,2,    41.95,2,     0.00,2,     2.96,2, -999.000,5, -999.000,5,   2380.2,2,   2414.4,2,   7.4144,2,    25.00,      120
  49UP20170623,RF1707,  6067,  1,     17,  25826,2,20170725,2347, 33.9837, 165.0007, 6068,   2157.8,   1.8945,  34.6010,2,  34.6016,2,     76.1,2,   164.98,2,    40.95,2,     0.00,2,     2.88,2, -999.000,5, -999.000,5,   2373.8,2,   2419.2,2,   7.4470,2,    25.00,      115
  49UP20170623,RF1707,  6067,  1,     16,  25825,2,20170725,2347, 33.9837, 165.0007, 6068,   2363.7,   1.7841,  34.6210,2,  34.6210,2,     90.6,2,   163.74,2,    40.03,2,     0.00,2,     2.81,2, -999.000,5, -999.000,5,   2366.1,2,   2420.5,2,   7.4731,2,    25.00,      109
  49UP20170623,RF1707,  6067,  1,     15,  25824,2,20170725,2347, 33.9837, 165.0007, 6068,   2566.4,   1.6906,  34.6367,2,  34.6330,4,    102.7,2,   160.71,2,    39.18,2,     0.00,2,     2.75,2, -999.000,5, -999.000,5,   2358.0,6,   2420.4,6,   7.4952,2,    25.00,      104
  49UP20170623,RF1707,  6067,  1,     14,  25823,2,20170725,2347, 33.9837, 165.0007, 6068,   2769.1,   1.6364,  34.6465,2,  34.6468,2,    111.6,2,   160.47,2,    38.63,2,     0.00,2,     2.71,2, -999.000,5, -999.000,5,   2352.7,2,   2420.3,2,   7.5180,6,    25.00,       59
  49UP20170623,RF1707,  6067,  1,     13,  25822,2,20170725,2347, 33.9837, 165.0007, 6068,   2974.1,   1.5796,  34.6564,2,  34.6557,6,    121.1,2,   158.03,2,    38.03,2,     0.00,2,     2.66,2, -999.000,9, -999.000,9,   2344.8,2,   2421.4,2,   7.5336,2,    25.00,       54
  49UP20170623,RF1707,  6067,  1,     12,  25821,2,20170725,2347, 33.9837, 165.0007, 6068,   3216.0,   1.5316,  34.6652,2,  34.6655,2,    130.7,2,   155.97,2,    37.45,2,     0.00,2,     2.61,2, -999.000,9, -999.000,9,   2342.0,2,   2422.5,2,   7.5509,2,    25.00,       48
  49UP20170623,RF1707,  6067,  1,     11,  25820,2,20170725,2347, 33.9837, 165.0007, 6068,   3472.6,   1.5020,  34.6718,2,  34.6703,2,    137.1,6,   153.82,6,    36.96,6,     0.00,6,     2.57,6, -999.000,9, -999.000,9,   2335.6,2,   2421.8,2,   7.5639,2,    25.00,       42
  49UP20170623,RF1707,  6067,  1,     10,  25819,2,20170725,2347, 33.9837, 165.0007, 6068,   3729.1,   1.4819,  34.6769,2,  34.6770,2,    143.9,2,   152.15,2,    36.55,2,     0.00,2,     2.54,2, -999.000,5, -999.000,5,   2332.1,2,   2420.7,2,   7.5744,2,    25.00,       37
  49UP20170623,RF1707,  6067,  1,      9,  25818,2,20170725,2347, 33.9837, 165.0007, 6068,   3983.5,   1.4758,  34.6803,2,  34.6796,2,    147.6,2,   150.81,2,    36.28,2,     0.00,2,     2.52,2, -999.000,9, -999.000,9,   2328.3,2,   2419.2,2,   7.5774,2,    25.00,       31
  49UP20170623,RF1707,  6067,  1,      8,  25817,2,20170725,2347, 33.9837, 165.0007, 6068,   4244.2,   1.4752,  34.6833,2,  34.6841,2,    152.0,2,   150.00,2,    35.98,2,     0.00,2,     2.50,2, -999.000,9, -999.000,9,   2326.2,2,   2420.3,2,   7.5871,2,    25.00,       26
  49UP20170623,RF1707,  6067,  1,      7,  25816,2,20170725,2347, 33.9837, 165.0007, 6068,   4498.5,   1.4810,  34.6856,2,  34.6863,6,    155.6,2,   148.39,2,    35.77,2,     0.00,2,     2.48,2, -999.000,9, -999.000,9,   2325.2,2,   2418.9,2,   7.5894,2,    25.00,       20
  49UP20170623,RF1707,  6067,  1,      6,  25815,2,20170725,2347, 33.9837, 165.0007, 6068,   4755.6,   1.4885,  34.6879,2,  34.6886,2,    159.6,2,   145.89,2,    35.51,2,     0.00,2,     2.46,2, -999.000,5, -999.000,5,   2321.0,2,   2417.7,2,   7.5908,2,    25.00,       14
  49UP20170623,RF1707,  6067,  1,      5,  25814,3,20170725,2347, 33.9837, 165.0007, 6068,   5009.1,   1.4971,  34.6900,2,  34.6906,2,    163.1,2,   142.84,2,    35.17,2,     0.00,2,     2.44,2, -999.000,9, -999.000,9,   2313.3,2,   2416.0,2,   7.6038,2,    25.00,       10
  49UP20170623,RF1707,  6067,  1,      4,  25813,2,20170725,2347, 33.9837, 165.0007, 6068,   5269.1,   1.5055,  34.6922,2,  34.6929,2,    167.2,2,   139.62,2,    34.89,2,     0.00,2,     2.42,2, -999.000,9, -999.000,9,   2313.4,2,   2412.8,2,   7.6062,2,    25.00,        5
  49UP20170623,RF1707,  6067,  1,      3,  25812,3,20170725,2347, 33.9837, 165.0007, 6068,   5531.4,   1.5207,  34.6938,2,  34.6942,6,    170.0,2,   137.24,2,    34.67,2,     0.00,2,     2.40,2, -999.000,9, -999.000,9,   2309.6,2,   2409.5,2,   7.6091,2,    25.00,     2359
  49UP20170623,RF1707,  6067,  1,      2,  25811,2,20170725,2347, 33.9837, 165.0007, 6068,   5780.6,   1.5399,  34.6950,2,  34.6956,2,    172.3,6,   135.71,6,    34.54,6,     0.00,6,     2.39,6, -999.000,9, -999.000,9,   2304.8,2,   2407.8,2,   7.6120,2,    25.00,     2354
  49UP20170623,RF1707,  6067,  1,      1,  25810,3,20170725,2347, 33.9837, 165.0007, 6068,   6132.3,   1.5732,  34.6960,2,  34.6939,4,    172.5,3,   135.40,2,    34.49,2,     0.00,2,     2.39,2, -999.000,5, -999.000,5,   2304.1,2,   2407.6,2,   7.6102,2,    25.00,     2347