BOTTLE,20200309PRINUNIVRMK
EXPOCODE,SECT_ID,STNNBR,CASTNO,SAMPNO,BTLNBR,BTLNBR_FLAG_W,DATE,TIME,LATITUDE,LONGITUDE,DEPTH,CTDPRS,CTDTMP,CTDSAL,CTDSAL_FLAG_W,SALNTY,SALNTY_FLAG_W,OXYGEN,OXYGEN_FLAG_W,SILCAT,SILCAT_FLAG_W,NITRAT,NITRAT_FLAG_W,NITRIT,NITRIT_FLAG_W,PHSPHT,PHSPHT_FLAG_W,CFC-11,CFC-11_FLAG_W,CFC-12,CFC-12_FLAG_W,TCARBN,TCARBN_FLAG_W,ALKALI,ALKALI_FLAG_W,PH_TOT,PH_TOT_FLAG_W,PH_TMP,BTL_TIME
,,,,,,,,,,,METERS,DBAR,ITS-90,PSS-78,,PSS-78,,UMOL/KG,,UMOL/KG,,UMOL/KG,,UMOL/KG,,UMOL/KG,,PMOL/KG,,PMOL/KG,,UMOL/KG,,UMOL/KG,,,,DEG C,
  49UP20170623,RF1707,  6031,  1,     99,     99,2,20170625,1836, 42.0172, 146.1977, 5703,      0.0,  11.0554,  32.7854,2,  32.7706,2,    294.2,2,     2.67,2,     4.70,2,     0.09,2,     0.65,2, -999.000,9, -999.000,9,   2015.0,2,   2240.2,2,   7.9349,2,    25.00,     2027
  49UP20170623,RF1707,  6031,  1,     36,  25845,2,20170625,1836, 42.0172, 146.1977, 5703,     11.2,  11.0019,  32.7933,2,  32.7974,4,    296.5,2,     2.67,2,     4.66,2,     0.09,2,     0.64,2,    3.898,2,    2.229,2,   2020.0,2,   2239.5,2,   7.9335,2,    25.00,     2052
  49UP20170623,RF1707,  6031,  1,     35,  25844,2,20170625,1836, 42.0172, 146.1977, 5703,     50.9,   2.3230,  33.0544,2,  33.0589,2,    323.3,2,    35.11,2,    20.99,2,     0.27,2,     1.82,2,    5.491,2,    3.034,2,   2134.6,6,   2242.6,6,   7.6488,2,    25.00,     2048
  49UP20170623,RF1707,  6031,  1,     34,  25843,2,20170625,1836, 42.0172, 146.1977, 5703,    101.6,   1.6733,  33.1453,2,  33.1602,4,    299.4,2,    44.94,2,    25.26,2,     0.02,2,     1.98,2,    5.254,2,    2.897,2,   2158.1,2,   2246.0,2,   7.5884,6,    25.00,     2046
  49UP20170623,RF1707,  6031,  1,     33,  25842,3,20170625,1836, 42.0172, 146.1977, 5703,    126.9,   1.9825,  33.2558,2,  33.2659,4,    264.0,6,    51.36,6,    27.20,6,     0.01,6,     2.11,6, -999.000,9, -999.000,9,   2183.7,2,   2253.3,2,   7.5456,2,    25.00,     2044
  49UP20170623,RF1707,  6031,  1,     32,  25841,3,20170625,1836, 42.0172, 146.1977, 5703,    152.6,   2.2984,  33.3779,2,  33.3782,2,    213.2,2,    61.80,2,    30.89,2,     0.01,2,     2.34,2,    4.299,6,    2.376,6,   2216.7,2,   2262.6,2,   7.4713,2,    25.00,     2043
  49UP20170623,RF1707,  6031,  1,     31,  25840,2,20170625,1836, 42.0172, 146.1977, 5703,    201.6,   2.7576,  33.5604,2,  33.5759,4,    141.0,2,    77.65,2,    36.09,2,     0.01,2,     2.66,2,    3.448,2,    1.888,2,   2264.9,2,   2279.2,2,   7.3761,2,    25.00,     2042
  49UP20170623,RF1707,  6031,  1,     30,  25839,3,20170625,1836, 42.0172, 146.1977, 5703,    251.1,   3.0483,  33.7209,2,  33.7326,4,     92.6,2,    89.44,2,    39.69,2,     0.01,2,     2.87,2,    6.157,4,   10.868,4,   2298.4,2,   2293.2,2,   7.3144,2,    25.00,     2040
  49UP20170623,RF1707,  6031,  1,     29,  25838,2,20170625,1836, 42.0172, 146.1977, 5703,    300.9,   3.3492,  33.8520,2,  33.8541,2,     62.2,2,    97.54,2,    41.59,2,     0.02,2,     2.98,2,    2.342,2,    1.207,2,   2317.9,2,   2305.0,2,   7.2810,2,    25.00,     2038
  49UP20170623,RF1707,  6031,  1,     28,  25837,2,20170625,1836, 42.0172, 146.1977, 5703,    402.1,   3.4715,  34.0419,2,  34.0423,2,     40.3,2,   110.99,2,    42.56,2,     0.01,2,     3.05,2,    1.552,2,    0.778,2,   2337.5,2,   2326.8,2,   7.2854,2,    25.00,     2036
  49UP20170623,RF1707,  6031,  1,     27,  25836,3,20170625,1836, 42.0172, 146.1977, 5703,    502.1,   3.3757,  34.1677,2,  34.1664,2,     34.1,3,   122.76,2,    43.06,2,     0.00,2,     3.07,2,    1.015,2,    0.504,2,   2348.9,2,   2343.9,2,   7.2892,2,    25.00,     2033
  49UP20170623,RF1707,  6031,  1,     26,  25835,2,20170625,1836, 42.0172, 146.1977, 5703,    605.9,   3.1967,  34.2480,2,  34.2487,2,     29.8,2,   131.56,2,    43.13,2,     0.00,2,     3.08,2,    0.676,2,    0.348,2,   2360.6,2,   2357.2,2,   7.3016,2,    25.00,     2030
  49UP20170623,RF1707,  6031,  1,     25,  25834,2,20170625,1836, 42.0172, 146.1977, 5703,    704.9,   3.0132,  34.3026,2,  34.3038,2,     28.1,2,   138.52,2,    43.11,2,     0.00,2,     3.08,2,    0.504,2,    0.263,2,   2366.1,2,   2366.9,2,   7.3141,2,    25.00,     2027
  49UP20170623,RF1707,  6031,  1,     24,  25833,2,20170625,1836, 42.0172, 146.1977, 5703,    804.7,   2.8594,  34.3492,2,  34.3487,2,     31.6,2,   143.92,2,    43.05,2,     0.00,2,     3.07,2,    0.422,6,    0.218,6,   2373.6,2,   2373.6,2,   7.3236,2,    25.00,     2025
  49UP20170623,RF1707,  6031,  1,     23,  25832,3,20170625,1836, 42.0172, 146.1977, 5703,    906.6,   2.7296,  34.3920,2,  34.3896,2,     38.4,3,   147.98,2,    42.92,2,     0.00,2,     3.06,2,    0.317,2,    0.165,2,   2374.8,2,   2381.6,2,   7.3364,2,    25.00,     2022
  49UP20170623,RF1707,  6031,  1,     22,  25831,2,20170625,1836, 42.0172, 146.1977, 5703,   1010.4,   2.5934,  34.4296,2,  34.4279,2,     35.4,2,   151.74,2,    42.82,2,     0.00,2,     3.05,2,    0.207,2,    0.101,2,   2377.9,2,   2387.8,2,   7.3465,2,    25.00,     2019
  49UP20170623,RF1707,  6031,  1,     21,  25830,2,20170625,1836, 42.0172, 146.1977, 5703,   1214.4,   2.4151,  34.4766,2,  34.4760,2,     41.9,2,   156.69,2,    42.68,2,     0.00,2,     3.03,2,    0.130,2,    0.065,2,   2379.2,2,   2395.6,2,   7.3594,2,    25.00,     2015
  49UP20170623,RF1707,  6031,  1,     20,  25829,2,20170625,1836, 42.0172, 146.1977, 5703,   1415.6,   2.2450,  34.5204,2,  34.5205,2,     49.2,2,   160.05,2,    42.31,2,     0.00,2,     3.00,2,    0.064,2,    0.032,2,   2381.9,6,   2403.7,6,   7.3817,2,    25.00,     2010
  49UP20170623,RF1707,  6031,  1,     19,  25828,2,20170625,1836, 42.0172, 146.1977, 5703,   1618.4,   2.1006,  34.5586,2,  34.5563,6,     62.0,3,   161.49,2,    41.70,2,     0.00,2,     2.95,2,    0.046,2,    0.024,2,   2375.0,2,   2409.8,2,   7.4073,6,    25.00,     2006
  49UP20170623,RF1707,  6031,  1,     18,  25827,2,20170625,1836, 42.0172, 146.1977, 5703,   1822.2,   1.9672,  34.5867,2,  34.5846,2,     72.4,6,   162.11,6,    41.06,6,     0.00,6,     2.90,6,    0.007,2,    0.005,2,   2372.2,2,   2415.4,2,   7.4336,2,    25.00,     2001
  49UP20170623,RF1707,  6031,  1,     17,  25826,3,20170625,1836, 42.0172, 146.1977, 5703,   2025.4,   1.8351,  34.6113,2,  34.6112,2,     85.4,2,   161.74,2,    40.24,2,     0.00,2,     2.83,2,    0.014,2,    0.009,2,   2368.3,2,   2417.3,2,   7.4589,2,    25.00,     1957
  49UP20170623,RF1707,  6031,  1,     16,  25825,2,20170625,1836, 42.0172, 146.1977, 5703,   2230.4,   1.7377,  34.6289,2,  34.6281,6,     98.0,2,   160.48,2,    39.46,2,     0.00,2,     2.77,2,    0.000,2,    0.002,2,   2362.6,2,   2417.5,2,   7.4868,2,    25.00,     1952
  49UP20170623,RF1707,  6031,  1,     15,  25824,2,20170625,1836, 42.0172, 146.1977, 5703,   2433.9,   1.6567,  34.6425,2,  34.6405,2,    108.5,2,   159.25,2,    38.83,2,     0.00,2,     2.71,2,    0.000,2,    0.000,2,   2352.3,2,   2419.3,2,   7.5059,2,    25.00,     1948
  49UP20170623,RF1707,  6031,  1,     14,  25823,2,20170625,1836, 42.0172, 146.1977, 5703,   2637.7,   1.6018,  34.6529,2,  34.6511,2,    118.9,2,   156.37,2,    38.20,2,     0.00,2,     2.66,2,    0.000,2,    0.004,2,   2349.2,2,   2418.2,2,   7.5217,2,    25.00,     1943
  49UP20170623,RF1707,  6031,  1,     13,  25822,2,20170625,1836, 42.0172, 146.1977, 5703,   2841.6,   1.5652,  34.6595,2,  34.6593,2,    124.7,6,   155.58,6,    37.84,6,     0.00,6,     2.63,6,    0.000,2,    0.000,2,   2344.8,2,   2420.3,2,   7.5338,2,    25.00,     1939
  49UP20170623,RF1707,  6031,  1,     12,  25821,2,20170625,1836, 42.0172, 146.1977, 5703,   3045.8,   1.5447,  34.6642,2,  34.6621,2,    128.8,2,   154.66,2,    37.54,2,     0.00,2,     2.61,2, -999.000,9, -999.000,9,   2340.7,2,   2420.2,2,   7.5421,2,    25.00,     1935
  49UP20170623,RF1707,  6031,  1,     11,  25820,2,20170625,1836, 42.0172, 146.1977, 5703,   3301.6,   1.5177,  34.6698,2,  34.6675,2,    134.5,2,   153.85,2,    37.18,2,     0.00,2,     2.58,2, -999.000,9, -999.000,9,   2338.5,2,   2418.4,2,   7.5490,2,    25.00,     1929
  49UP20170623,RF1707,  6031,  1,     10,  25819,3,20170625,1836, 42.0172, 146.1977, 5703,   3558.7,   1.4929,  34.6754,2,  34.6751,2,    140.7,2,   152.54,2,    36.80,2,     0.00,2,     2.56,2, -999.000,9, -999.000,9,   2333.4,2,   2418.2,2,   7.5609,2,    25.00,     1924
  49UP20170623,RF1707,  6031,  1,      9,  25818,2,20170625,1836, 42.0172, 146.1977, 5703,   3814.3,   1.4701,  34.6804,2,  34.6802,2,    146.6,2,   151.14,2,    36.35,2,     0.00,2,     2.52,2,    0.000,2,    0.000,2,   2333.0,2,   2416.9,2,   7.5714,2,    25.00,     1918
  49UP20170623,RF1707,  6031,  1,      8,  25817,2,20170625,1836, 42.0172, 146.1977, 5703,   4071.7,   1.4590,  34.6842,2,  34.6836,2,    151.2,2,   150.18,2,    36.02,2,     0.00,2,     2.50,2, -999.000,9, -999.000,9,   2325.6,2,   2416.8,2,   7.5777,2,    25.00,     1913
  49UP20170623,RF1707,  6031,  1,      7,  25816,2,20170625,1836, 42.0172, 146.1977, 5703,   4328.7,   1.4585,  34.6874,2,  34.6848,2,    154.8,2,   148.93,2,    35.76,2,     0.00,2,     2.47,2, -999.000,9, -999.000,9,   2320.6,2,   2415.6,2,   7.5842,2,    25.00,     1908
  49UP20170623,RF1707,  6031,  1,      6,  25815,2,20170625,1836, 42.0172, 146.1977, 5703,   4584.4,   1.4689,  34.6892,2,  34.6870,2,    158.0,2,   147.41,2,    35.55,2,     0.00,2,     2.46,2, -999.000,9, -999.000,9,   2322.0,2,   2415.0,2,   7.5871,2,    25.00,     1902
  49UP20170623,RF1707,  6031,  1,      5,  25814,3,20170625,1836, 42.0172, 146.1977, 5703,   4842.4,   1.4871,  34.6905,2,  34.6902,2,    160.0,2,   146.16,2,    35.43,2,     0.00,2,     2.45,2,    0.000,2,    0.001,2,   2318.4,6,   2414.0,6,   7.5899,2,    25.00,     1857
  49UP20170623,RF1707,  6031,  1,      4,  25813,2,20170625,1836, 42.0172, 146.1977, 5703,   5100.2,   1.5110,  34.6914,2,  34.6913,6,    160.5,2,   147.08,2,    35.39,2,     0.00,2,     2.45,2, -999.000,9, -999.000,9,   2314.3,2,   2413.2,2,   7.5920,6,    25.00,     1851
  49UP20170623,RF1707,  6031,  1,      3,  25812,2,20170625,1836, 42.0172, 146.1977, 5703,   5357.7,   1.5416,  34.6916,2,  34.6912,2,    161.0,2,   146.91,2,    35.35,2,     0.00,2,     2.46,2, -999.000,9, -999.000,9,   2320.1,2,   2413.2,2,   7.5921,2,    25.00,     1846
  49UP20170623,RF1707,  6031,  1,      2,  25811,2,20170625,1836, 42.0172, 146.1977, 5703,   5615.7,   1.5752,  34.6916,2,  34.6909,2,    161.5,2,   146.48,2,    35.35,2,     0.00,2,     2.45,2, -999.000,9, -999.000,9,   2318.0,2,   2412.7,2,   7.5921,2,    25.00,     1840
  49UP20170623,RF1707,  6031,  1,      1,  25810,2,20170625,1836, 42.0172, 146.1977, 5703,   5823.8,   1.6037,  34.6916,2,  34.6876,4,    160.4,6,   146.70,6,    35.34,6,     0.00,6,     2.45,6,    0.003,6,    0.006,6,   2320.6,2,   2413.7,2,   7.5926,2,    25.00,     1836