BOTTLE,20200309PRINUNIVRMK
EXPOCODE,SECT_ID,STNNBR,CASTNO,SAMPNO,BTLNBR,BTLNBR_FLAG_W,DATE,TIME,LATITUDE,LONGITUDE,DEPTH,CTDPRS,CTDTMP,CTDSAL,CTDSAL_FLAG_W,SALNTY,SALNTY_FLAG_W,OXYGEN,OXYGEN_FLAG_W,SILCAT,SILCAT_FLAG_W,NITRAT,NITRAT_FLAG_W,NITRIT,NITRIT_FLAG_W,PHSPHT,PHSPHT_FLAG_W,CFC-11,CFC-11_FLAG_W,CFC-12,CFC-12_FLAG_W,TCARBN,TCARBN_FLAG_W,ALKALI,ALKALI_FLAG_W,PH_TOT,PH_TOT_FLAG_W,PH_TMP,BTL_TIME
,,,,,,,,,,,METERS,DBAR,ITS-90,PSS-78,,PSS-78,,UMOL/KG,,UMOL/KG,,UMOL/KG,,UMOL/KG,,UMOL/KG,,PMOL/KG,,PMOL/KG,,UMOL/KG,,UMOL/KG,,,,DEG C,
  49UP20170623,RF1707,  6069,  1,     99,     99,2,20170726,1508, 32.9797, 165.0028, 6203,      0.0,  24.4263,  34.3578,2,  34.3569,2,    213.9,2,     1.38,2,     0.03,2,     0.00,2,     0.04,2, -999.000,9, -999.000,9,   1986.3,2,   2262.3,2,   8.0209,2,    25.00,     1658
  49UP20170623,RF1707,  6069,  1,     36,  25845,2,20170726,1508, 32.9797, 165.0028, 6203,     10.7,  24.4032,  34.3552,2,  34.3538,2,    214.6,2,     1.40,2,     0.01,2,     0.00,2,     0.03,2,    1.876,2,    1.205,2,   1985.2,2,   2262.2,2,   8.0162,2,    25.00,     1728
  49UP20170623,RF1707,  6069,  1,     35,  25844,2,20170726,1508, 32.9797, 165.0028, 6203,     52.6,  16.2684,  34.6182,2,  34.6089,4,    251.3,2,     4.77,2,     2.14,2,     0.19,2,     0.19,2,    2.542,2,    1.575,2,   2024.9,2,   2280.2,2,   7.9800,2,    25.00,     1726
  49UP20170623,RF1707,  6069,  1,     34,  25843,2,20170726,1508, 32.9797, 165.0028, 6203,    103.4,  13.9853,  34.5021,2,  34.5043,2,    228.6,2,     9.77,2,     7.84,2,     0.03,2,     0.54,2,    2.728,2,    1.676,2,   2062.5,2,   2275.6,2,   7.8935,2,    25.00,     1724
  49UP20170623,RF1707,  6069,  1,     33,  25842,2,20170726,1508, 32.9797, 165.0028, 6203,    151.3,  13.2296,  34.4517,2,  34.4507,2,    235.9,2,     9.83,2,     7.64,2,     0.03,2,     0.55,2,    2.787,2,    1.720,2,   2067.0,6,   2273.6,6,   7.8878,2,    25.00,     1718
  49UP20170623,RF1707,  6069,  1,     32,  25841,2,20170726,1508, 32.9797, 165.0028, 6203,    203.6,  12.3044,  34.3655,2,  34.3627,2,    229.2,2,    13.17,2,    10.02,2,     0.01,2,     0.71,2,    2.866,2,    1.751,2,   2081.4,2,   2273.3,2,   7.8527,6,    25.00,     1717
  49UP20170623,RF1707,  6069,  1,     31,  25840,3,20170726,1508, 32.9797, 165.0028, 6203,    253.2,  11.5077,  34.3121,2,  34.3127,2,    237.2,6,    13.90,6,    10.33,6,     0.01,6,     0.74,6,    2.968,2,    1.805,2,   2082.3,2,   2271.1,2,   7.8423,2,    25.00,     1715
  49UP20170623,RF1707,  6069,  1,     30,  25839,2,20170726,1508, 32.9797, 165.0028, 6203,    332.7,   9.6574,  34.1092,2,  34.1080,2,    226.5,2,    21.87,2,    15.02,2,     0.01,2,     1.08,2,    3.184,2,    1.890,2,   2120.7,2,   2269.1,2,   7.7701,2,    25.00,     1713
  49UP20170623,RF1707,  6069,  1,     29,  25838,2,20170726,1508, 32.9797, 165.0028, 6203,    433.8,   7.5904,  33.9868,2,  33.9811,4,    178.9,2,    40.40,2,    23.31,2,     0.00,2,     1.67,2,    3.009,6,    1.726,6,   2177.0,2,   2276.9,2,   7.6429,2,    25.00,     1710
  49UP20170623,RF1707,  6069,  1,     28,  25837,3,20170726,1508, 32.9797, 165.0028, 6203,    535.7,   6.0156,  34.0024,2,  34.0048,2,    131.7,2,    62.08,2,    30.66,2,     0.00,2,     2.21,2,    2.451,2,    1.309,2,   2229.3,2,   2293.0,2,   7.5236,2,    25.00,     1708
  49UP20170623,RF1707,  6069,  1,     27,  25836,2,20170726,1508, 32.9797, 165.0028, 6203,    635.3,   4.9036,  34.0705,2,  34.0734,2,     90.6,2,    83.87,2,    35.96,2,     0.00,2,     2.58,2,    1.793,2,    0.929,2,   2274.0,2,   2312.9,2,   7.4367,2,    25.00,     1705
  49UP20170623,RF1707,  6069,  1,     26,  25835,2,20170726,1508, 32.9797, 165.0028, 6203,    737.0,   4.3752,  34.1661,2,  34.1672,2,     62.5,2,    99.77,2,    39.03,2,     0.00,2,     2.79,2,    1.122,2,    0.552,2,   2302.5,2,   2331.1,2,   7.3987,2,    25.00,     1702
  49UP20170623,RF1707,  6069,  1,     25,  25834,2,20170726,1508, 32.9797, 165.0028, 6203,    838.2,   3.9576,  34.2357,2,  34.2383,2,     48.1,2,   112.57,2,    40.75,2,     0.00,2,     2.91,2,    0.690,2,    0.341,2,   2327.6,2,   2345.5,2,   7.3654,2,    25.00,     1700
  49UP20170623,RF1707,  6069,  1,     24,  25833,2,20170726,1508, 32.9797, 165.0028, 6203,    939.3,   3.6044,  34.2992,2,  34.2980,2,     39.8,2,   122.23,2,    41.81,2,     0.00,2,     2.98,2,    0.423,2,    0.197,2,   2345.0,6,   2357.8,6,   7.3623,2,    25.00,     1657
  49UP20170623,RF1707,  6069,  1,     23,  25832,2,20170726,1508, 32.9797, 165.0028, 6203,   1081.0,   3.1552,  34.3712,2,  34.3711,2,     34.8,2,   135.50,2,    42.62,2,     0.00,2,     3.04,2,    0.222,2,    0.101,2,   2369.2,2,   2372.3,2,   7.3491,6,    25.00,     1654
  49UP20170623,RF1707,  6069,  1,     22,  25831,2,20170726,1508, 32.9797, 165.0028, 6203,   1282.9,   2.7327,  34.4453,2,  34.4465,2,     35.1,6,   148.08,6,    43.06,6,     0.00,6,     3.06,6,    0.093,2,    0.036,2,   2374.9,2,   2388.9,2,   7.3570,2,    25.00,     1649
  49UP20170623,RF1707,  6069,  1,     21,  25830,2,20170726,1508, 32.9797, 165.0028, 6203,   1486.3,   2.4525,  34.4982,2,  34.4990,2,     42.5,2,   155.33,2,    42.81,2,     0.00,2,     3.03,2,    0.037,2,    0.011,2,   2389.2,2,   2397.7,2,   7.3720,2,    25.00,     1645
  49UP20170623,RF1707,  6069,  1,     20,  25829,2,20170726,1508, 32.9797, 165.0028, 6203,   1690.1,   2.2262,  34.5421,2,  34.5427,2,     51.3,2,   159.98,2,    42.38,2,     0.00,2,     2.99,2,    0.011,2,    0.000,2,   2378.0,2,   2405.8,2,   7.3949,2,    25.00,     1641
  49UP20170623,RF1707,  6069,  1,     19,  25828,2,20170726,1508, 32.9797, 165.0028, 6203,   1893.0,   2.0202,  34.5795,2,  34.5787,2,     65.6,2,   163.22,2,    41.49,2,     0.00,2,     2.92,2,    0.009,2,    0.000,2,   2380.4,2,   2411.7,2,   7.4282,2,    25.00,     1636
  49UP20170623,RF1707,  6069,  1,     18,  25827,2,20170726,1508, 32.9797, 165.0028, 6203,   2095.7,   1.8620,  34.6082,2,  34.6095,2,     82.6,2,   162.65,2,    40.47,2,     0.00,2,     2.84,2,    0.001,2,    0.000,2,   2366.9,2,   2415.7,2,   7.4614,2,    25.00,     1631
  49UP20170623,RF1707,  6069,  1,     17,  25826,2,20170726,1508, 32.9797, 165.0028, 6203,   2299.8,   1.7485,  34.6248,2,  34.6226,6,     92.8,2,   163.34,2,    39.78,2,     0.00,2,     2.79,2,    0.012,2,    0.000,2,   2364.9,2,   2416.8,2,   7.4789,2,    25.00,     1627
  49UP20170623,RF1707,  6069,  1,     16,  25825,2,20170726,1508, 32.9797, 165.0028, 6203,   2503.6,   1.6800,  34.6399,2,  34.6414,2,    107.6,2,   159.39,2,    38.87,2,     0.00,2,     2.72,2,    0.001,6,    0.000,6,   2362.2,2,   2419.7,2,   7.5053,2,    25.00,     1623
  49UP20170623,RF1707,  6069,  1,     15,  25824,2,20170726,1508, 32.9797, 165.0028, 6203,   2706.6,   1.6215,  34.6499,2,  34.6465,4,    116.0,2,   157.45,2,    38.26,2,     0.00,2,     2.68,2,    0.006,2,    0.000,2,   2350.7,2,   2418.3,2,   7.5264,2,    25.00,     1619
  49UP20170623,RF1707,  6069,  1,     14,  25823,2,20170726,1508, 32.9797, 165.0028, 6203,   2911.6,   1.5786,  34.6580,2,  34.6590,2,    124.8,2,   155.91,2,    37.74,2,     0.00,2,     2.63,2,    0.003,2,    0.000,2,   2342.4,2,   2419.4,2,   7.5345,2,    25.00,     1614
  49UP20170623,RF1707,  6069,  1,     13,  25822,2,20170726,1508, 32.9797, 165.0028, 6203,   3125.3,   1.5457,  34.6641,2,  34.6655,2,    131.3,6,   154.77,6,    37.35,6,     0.00,6,     2.60,6, -999.000,9, -999.000,9,   2336.5,2,   2420.0,2,   7.5543,2,    25.00,     1610
  49UP20170623,RF1707,  6069,  1,     12,  25821,2,20170726,1508, 32.9797, 165.0028, 6203,   3380.5,   1.5134,  34.6697,2,  34.6711,2,    136.7,2,   154.25,2,    36.98,2,     0.00,2,     2.57,2, -999.000,9, -999.000,9,   2334.9,2,   2421.2,2,   7.5604,2,    25.00,     1605
  49UP20170623,RF1707,  6069,  1,     11,  25820,4,20170726,1508, 32.9797, 165.0028, 6203,   3637.0,   1.4955,  34.6748,2,  34.6647,4,    131.1,4,   155.38,4,    37.32,4,     0.00,4,     2.60,4, -999.000,9, -999.000,9,   2339.2,4,   2420.3,4,   7.5542,4,    25.00,     1600
  49UP20170623,RF1707,  6069,  1,     10,  25819,2,20170726,1508, 32.9797, 165.0028, 6203,   3893.7,   1.4881,  34.6784,2,  34.6705,4,    147.1,2,   154.27,4,    37.00,4,     0.00,4,     2.57,4,    0.005,2,    0.000,2,   2335.1,4,   2421.5,4,   7.5612,4,    25.00,     1554
  49UP20170623,RF1707,  6069,  1,      9,  25818,2,20170726,1508, 32.9797, 165.0028, 6203,   4149.2,   1.4830,  34.6817,2,  34.6825,2,    151.0,2,   149.03,2,    35.97,2,     0.00,2,     2.50,2, -999.000,9, -999.000,9,   2321.4,2,   2419.0,2,   7.5879,2,    25.00,     1549
  49UP20170623,RF1707,  6069,  1,      8,  25817,2,20170726,1508, 32.9797, 165.0028, 6203,   4406.6,   1.4836,  34.6846,2,  34.6830,2,    154.9,2,   147.63,2,    35.70,2,     0.00,2,     2.47,2, -999.000,9, -999.000,9,   2318.4,2,   2416.9,2,   7.5924,2,    25.00,     1544
  49UP20170623,RF1707,  6069,  1,      7,  25816,2,20170726,1508, 32.9797, 165.0028, 6203,   4663.2,   1.4912,  34.6869,2,  34.6875,2,    158.0,2,   146.35,2,    35.48,2,     0.00,2,     2.46,2, -999.000,9, -999.000,9,   2323.9,3,   2417.3,2,   7.5982,2,    25.00,     1539
  49UP20170623,RF1707,  6069,  1,      6,  25815,2,20170726,1508, 32.9797, 165.0028, 6203,   4920.0,   1.5005,  34.6889,2,  34.6892,6,    161.7,2,   144.17,2,    35.24,2,     0.00,2,     2.44,2,    0.000,2,    0.000,2,   2317.0,2,   2414.9,6,   7.5987,2,    25.00,     1534
  49UP20170623,RF1707,  6069,  1,      5,  25814,2,20170726,1508, 32.9797, 165.0028, 6203,   5178.2,   1.5092,  34.6911,2,  34.6908,2,    165.9,2,   140.70,2,    34.94,2,     0.00,2,     2.41,2, -999.000,9, -999.000,9,   2308.4,2,   2411.8,2,   7.6089,6,    25.00,     1528
  49UP20170623,RF1707,  6069,  1,      4,  25813,2,20170726,1508, 32.9797, 165.0028, 6203,   5435.6,   1.5213,  34.6929,2,  34.6935,2,    168.8,6,   138.23,6,    34.71,6,     0.00,6,     2.40,6, -999.000,9, -999.000,9,   2318.6,3,   2408.7,2,   7.6097,2,    25.00,     1523
  49UP20170623,RF1707,  6069,  1,      3,  25812,2,20170726,1508, 32.9797, 165.0028, 6203,   5695.5,   1.5387,  34.6942,2,  34.6942,2,    171.6,2,   136.62,2,    34.47,2,     0.00,2,     2.38,2, -999.000,9, -999.000,9,   2301.6,2,   2407.3,2,   7.6166,2,    25.00,     1518
  49UP20170623,RF1707,  6069,  1,      2,  25811,2,20170726,1508, 32.9797, 165.0028, 6203,   5953.2,   1.5611,  34.6952,2,  34.6954,2,    173.2,2,   135.64,2,    34.43,2,     0.00,2,     2.37,2, -999.000,9, -999.000,9,   2303.9,2,   2406.1,2,   7.6112,2,    25.00,     1512
  49UP20170623,RF1707,  6069,  1,      1,  25810,2,20170726,1508, 32.9797, 165.0028, 6203,   6129.1,   1.5786,  34.6957,2,  34.6955,6,    173.3,2,   135.17,2,    34.37,2,     0.00,2,     2.37,2,    0.001,6,    0.000,6,   2303.1,2,   2404.7,2,   7.6089,2,    25.00,     1508