BOTTLE,20200309PRINUNIVRMK
EXPOCODE,SECT_ID,STNNBR,CASTNO,SAMPNO,BTLNBR,BTLNBR_FLAG_W,DATE,TIME,LATITUDE,LONGITUDE,DEPTH,CTDPRS,CTDTMP,CTDSAL,CTDSAL_FLAG_W,SALNTY,SALNTY_FLAG_W,OXYGEN,OXYGEN_FLAG_W,SILCAT,SILCAT_FLAG_W,NITRAT,NITRAT_FLAG_W,NITRIT,NITRIT_FLAG_W,PHSPHT,PHSPHT_FLAG_W,CFC-11,CFC-11_FLAG_W,CFC-12,CFC-12_FLAG_W,TCARBN,TCARBN_FLAG_W,ALKALI,ALKALI_FLAG_W,PH_TOT,PH_TOT_FLAG_W,PH_TMP,BTL_TIME
,,,,,,,,,,,METERS,DBAR,ITS-90,PSS-78,,PSS-78,,UMOL/KG,,UMOL/KG,,UMOL/KG,,UMOL/KG,,UMOL/KG,,PMOL/KG,,PMOL/KG,,UMOL/KG,,UMOL/KG,,,,DEG C,
  49UP20170623,RF1707,  6051,  1,     99,     99,2,20170705,1929, 45.0112, 164.9938, 5961,      0.0,   8.4700,  32.9393,2,  32.9407,2,    297.4,2,    19.42,2,    12.03,2,     0.15,2,     1.16,2, -999.000,9, -999.000,9,   2063.3,2,   2224.7,2,   7.7995,2,    25.00,     2135
  49UP20170623,RF1707,  6051,  1,     36,  25845,2,20170705,1929, 45.0112, 164.9938, 5961,     10.4,   8.4638,  32.9394,2,  32.9413,2,    297.3,2,    19.42,2,    12.02,2,     0.15,2,     1.16,2,    4.028,2,    2.357,2,   2062.4,2,   2225.2,2,   7.7974,2,    25.00,     2144
  49UP20170623,RF1707,  6051,  1,     35,  25844,2,20170705,1929, 45.0112, 164.9938, 5961,     50.9,   5.9156,  33.1077,2,  33.1209,4,    319.0,2,    22.32,2,    13.86,2,     0.21,2,     1.26,2,    4.606,2,    2.661,2,   2087.8,6,   2233.1,6,   7.7645,2,    25.00,     2140
  49UP20170623,RF1707,  6051,  1,     34,  25843,2,20170705,1929, 45.0112, 164.9938, 5961,    100.8,   4.6502,  33.2298,2,  33.2305,2,    305.9,2,    24.88,2,    16.94,2,     0.01,2,     1.37,2,    4.661,2,    2.693,2,   2106.2,2,   2237.0,2,   7.7180,6,    25.00,     2138
  49UP20170623,RF1707,  6051,  1,     33,  25842,2,20170705,1929, 45.0112, 164.9938, 5961,    151.4,   4.5579,  33.5148,2,  33.5162,2,    227.4,6,    41.95,6,    24.40,6,     0.01,6,     1.83,6,    4.074,2,    2.356,2,   2169.2,2,   2255.2,2,   7.5929,2,    25.00,     2137
  49UP20170623,RF1707,  6051,  1,     32,  25841,2,20170705,1929, 45.0112, 164.9938, 5961,    203.3,   4.1731,  33.6313,2,  33.6326,2,    175.6,2,    56.73,2,    30.11,2,     0.01,2,     2.21,2,    3.652,2,    2.074,2,   2219.1,2,   2269.0,2,   7.4944,2,    25.00,     2136
  49UP20170623,RF1707,  6051,  1,     31,  25840,2,20170705,1929, 45.0112, 164.9938, 5961,    252.9,   4.0092,  33.6938,2,  33.6957,2,    146.1,2,    66.01,2,    33.22,2,     0.01,2,     2.42,2,    3.343,2,    1.870,2,   2244.6,2,   2276.4,2,   7.4361,2,    25.00,     2134
  49UP20170623,RF1707,  6051,  1,     30,  25839,2,20170705,1929, 45.0112, 164.9938, 5961,    283.5,   4.0181,  33.7625,2,  33.7620,2,    125.3,2,    72.06,2,    35.08,2,     0.01,2,     2.53,2,    3.071,2,    1.715,2,   2250.7,2,   2282.9,2,   7.4109,2,    25.00,     2133
  49UP20170623,RF1707,  6051,  1,     29,  25838,2,20170705,1929, 45.0112, 164.9938, 5961,    374.6,   3.9483,  33.9029,2,  33.9030,2,     87.8,2,    86.20,2,    38.32,2,     0.00,2,     2.74,2,    2.401,2,    1.285,2,   2282.1,2,   2300.0,2,   7.3606,2,    25.00,     2131
  49UP20170623,RF1707,  6051,  1,     28,  25837,2,20170705,1929, 45.0112, 164.9938, 5961,    475.1,   3.8497,  34.0362,2,  34.0365,2,     57.7,2,   100.79,2,    40.78,2,     0.00,2,     2.90,2,    1.713,6,    0.896,6,   2306.5,2,   2317.4,2,   7.3249,2,    25.00,     2128
  49UP20170623,RF1707,  6051,  1,     27,  25836,2,20170705,1929, 45.0112, 164.9938, 5961,    575.8,   3.6820,  34.1415,2,  34.1431,2,     41.9,2,   113.05,2,    42.00,2,     0.00,2,     2.98,2,    1.167,2,    0.593,2,   2339.5,2,   2333.5,2,   7.3196,2,    25.00,     2126
  49UP20170623,RF1707,  6051,  1,     26,  25835,2,20170705,1929, 45.0112, 164.9938, 5961,    676.6,   3.5260,  34.2170,2,  34.2178,2,     36.8,2,   121.26,2,    42.42,2,     0.00,2,     3.01,2,    0.825,2,    0.416,2,   2349.1,2,   2346.0,2,   7.3191,2,    25.00,     2123
  49UP20170623,RF1707,  6051,  1,     25,  25834,2,20170705,1929, 45.0112, 164.9938, 5961,    779.0,   3.2735,  34.2810,2,  34.2817,2,     31.8,2,   130.50,2,    42.92,2,     0.00,2,     3.04,2,    0.546,2,    0.277,2,   2351.7,2,   2358.0,2,   7.3200,2,    25.00,     2121
  49UP20170623,RF1707,  6051,  1,     24,  25833,2,20170705,1929, 45.0112, 164.9938, 5961,    880.2,   3.0471,  34.3355,2,  34.3350,2,     30.1,6,   138.23,6,    43.22,6,     0.00,6,     3.06,6,    0.368,2,    0.181,2,   2361.5,2,   2367.0,2,   7.3219,2,    25.00,     2118
  49UP20170623,RF1707,  6051,  1,     23,  25832,2,20170705,1929, 45.0112, 164.9938, 5961,    981.5,   2.8961,  34.3755,2,  34.3759,2,     30.6,2,   143.18,2,    43.30,2,     0.00,2,     3.07,2,    0.265,2,    0.118,2,   2369.0,2,   2374.6,2,   7.3330,2,    25.00,     2116
  49UP20170623,RF1707,  6051,  1,     22,  25831,2,20170705,1929, 45.0112, 164.9938, 5961,   1142.7,   2.6728,  34.4280,2,  34.4284,2,     33.5,2,   150.14,2,    43.34,2,     0.00,2,     3.06,2,    0.163,2,    0.067,2,   2371.5,2,   2385.2,2,   7.3424,2,    25.00,     2111
  49UP20170623,RF1707,  6051,  1,     21,  25830,3,20170705,1929, 45.0112, 164.9938, 5961,   1347.2,   2.4379,  34.4776,2,  34.4778,2,     39.1,2,   156.78,2,    43.20,2,     0.00,2,     3.05,2,    0.096,2,    0.035,2,   2374.0,2,   2393.4,6,   7.3561,2,    25.00,     2106
  49UP20170623,RF1707,  6051,  1,     20,  25829,2,20170705,1929, 45.0112, 164.9938, 5961,   1549.5,   2.2690,  34.5194,2,  34.5197,2,     45.3,2,   160.50,2,    42.89,2,     0.00,2,     3.02,2,    0.048,2,    0.006,2,   2383.8,2,   2400.7,2,   7.3731,6,    25.00,     2102
  49UP20170623,RF1707,  6051,  1,     19,  25828,2,20170705,1929, 45.0112, 164.9938, 5961,   1752.8,   2.1349,  34.5502,2,  34.5500,2,     55.4,2,   162.72,2,    42.38,2,     0.00,2,     2.98,2,    0.024,6,    0.000,6,   2374.5,2,   2405.8,2,   7.3886,2,    25.00,     2058
  49UP20170623,RF1707,  6051,  1,     18,  25827,3,20170705,1929, 45.0112, 164.9938, 5961,   1955.9,   2.0115,  34.5769,2,  34.5763,6,     65.2,2,   164.07,2,    41.81,2,     0.00,2,     2.93,2,    0.004,2,    0.000,2,   2370.5,2,   2409.4,2,   7.4142,2,    25.00,     2053
  49UP20170623,RF1707,  6051,  1,     17,  25826,2,20170705,1929, 45.0112, 164.9938, 5961,   2159.4,   1.8869,  34.6017,2,  34.6016,2,     77.2,2,   164.24,2,    41.06,2,     0.00,2,     2.87,2,    0.000,2,    0.000,2,   2364.3,2,   2412.5,2,   7.4417,2,    25.00,     2049
  49UP20170623,RF1707,  6051,  1,     16,  25825,2,20170705,1929, 45.0112, 164.9938, 5961,   2363.2,   1.7872,  34.6199,2,  34.6193,2,     88.7,2,   163.95,2,    40.33,2,     0.00,2,     2.81,2,    0.000,2,    0.000,2,   2372.0,3,   2415.1,2,   7.4615,2,    25.00,     2045
  49UP20170623,RF1707,  6051,  1,     15,  25824,2,20170705,1929, 45.0112, 164.9938, 5961,   2566.9,   1.7037,  34.6344,2,  34.6344,2,     98.9,6,   164.10,6,    39.65,6,     0.00,6,     2.77,6,    0.000,2,    0.000,2,   2359.7,2,   2415.6,2,   7.4792,2,    25.00,     2040
  49UP20170623,RF1707,  6051,  1,     14,  25823,2,20170705,1929, 45.0112, 164.9938, 5961,   2770.7,   1.6414,  34.6459,2,  34.6457,2,    109.0,2,   162.30,2,    39.00,2,     0.00,2,     2.72,2,    0.000,2,    0.000,2,   2354.8,2,   2416.7,2,   7.4997,2,    25.00,     2036
  49UP20170623,RF1707,  6051,  1,     13,  25822,2,20170705,1929, 45.0112, 164.9938, 5961,   2976.0,   1.5915,  34.6551,2,  34.6550,2,    118.5,2,   160.21,2,    38.42,2,     0.00,2,     2.68,2, -999.000,9, -999.000,9,   2347.1,2,   2417.4,2,   7.5155,2,    25.00,     2032
  49UP20170623,RF1707,  6051,  1,     12,  25821,2,20170705,1929, 45.0112, 164.9938, 5961,   3221.0,   1.5490,  34.6636,2,  34.6632,2,    127.7,2,   157.60,2,    37.84,2,     0.00,2,     2.63,2, -999.000,9, -999.000,9,   2337.8,2,   2418.1,2,   7.5343,2,    25.00,     2027
  49UP20170623,RF1707,  6051,  1,     11,  25820,2,20170705,1929, 45.0112, 164.9938, 5961,   3478.1,   1.5154,  34.6705,2,  34.6710,2,    135.1,2,   155.71,2,    37.37,2,     0.00,2,     2.58,2, -999.000,9, -999.000,9,   2334.5,2,   2417.8,2,   7.5501,2,    25.00,     2022
  49UP20170623,RF1707,  6051,  1,     10,  25819,2,20170705,1929, 45.0112, 164.9938, 5961,   3732.6,   1.4960,  34.6756,2,  34.6758,6,    141.3,2,   154.08,2,    36.96,2,     0.00,2,     2.55,2,    0.000,2,    0.000,2,   2331.2,6,   2416.9,6,   7.5598,2,    25.00,     2016
  49UP20170623,RF1707,  6051,  1,      9,  25818,3,20170705,1929, 45.0112, 164.9938, 5961,   3990.3,   1.4896,  34.6791,2,  34.6767,4,    144.9,2,   152.88,2,    36.71,2,     0.00,2,     2.54,2, -999.000,9, -999.000,9,   2329.0,2,   2416.4,2,   7.5655,2,    25.00,     2011
  49UP20170623,RF1707,  6051,  1,      8,  25817,2,20170705,1929, 45.0112, 164.9938, 5961,   4246.0,   1.4900,  34.6822,2,  34.6817,2,    149.2,2,   151.75,2,    36.37,2,     0.00,2,     2.51,2, -999.000,9, -999.000,9,   2322.2,2,   2416.1,2,   7.5727,2,    25.00,     2006
  49UP20170623,RF1707,  6051,  1,      7,  25816,2,20170705,1929, 45.0112, 164.9938, 5961,   4503.7,   1.4953,  34.6846,2,  34.6850,2,    152.6,2,   150.98,2,    36.17,2,     0.00,2,     2.49,2, -999.000,9, -999.000,9,   2317.7,2,   2416.7,2,   7.5788,2,    25.00,     2001
  49UP20170623,RF1707,  6051,  1,      6,  25815,2,20170705,1929, 45.0112, 164.9938, 5961,   4760.1,   1.5076,  34.6866,2,  34.6865,2,    155.0,6,   150.47,6,    36.00,6,     0.00,6,     2.48,6,    0.000,2,    0.000,2,   2316.3,2,   2415.7,2,   7.5794,2,    25.00,     1956
  49UP20170623,RF1707,  6051,  1,      5,  25814,3,20170705,1929, 45.0112, 164.9938, 5961,   5018.6,   1.5267,  34.6879,2,  34.6880,6,    156.4,2,   150.52,2,    35.87,2,     0.00,2,     2.47,2, -999.000,9, -999.000,9,   2317.6,2,   2414.6,2,   7.5857,2,    25.00,     1951
  49UP20170623,RF1707,  6051,  1,      4,  25813,2,20170705,1929, 45.0112, 164.9938, 5961,   5276.1,   1.5528,  34.6888,2,  34.6895,2,    157.2,2,   151.29,2,    35.84,2,     0.00,2,     2.47,2, -999.000,9, -999.000,9,   2325.8,3,   2415.5,2,   7.5870,2,    25.00,     1945
  49UP20170623,RF1707,  6051,  1,      3,  25812,2,20170705,1929, 45.0112, 164.9938, 5961,   5534.3,   1.5835,  34.6892,2,  34.6893,2,    157.6,2,   152.01,2,    35.80,2,     0.00,2,     2.47,2, -999.000,9, -999.000,9,   2317.3,2,   2415.8,2,   7.5896,2,    25.00,     1940
  49UP20170623,RF1707,  6051,  1,      2,  25811,2,20170705,1929, 45.0112, 164.9938, 5961,   5793.5,   1.6175,  34.6892,2,  34.6899,6,    157.6,2,   151.84,2,    35.77,2,     0.00,2,     2.47,2, -999.000,9, -999.000,9,   2321.2,2,   2415.7,2,   7.5908,2,    25.00,     1935
  49UP20170623,RF1707,  6051,  1,      1,  25810,2,20170705,1929, 45.0112, 164.9938, 5961,   6098.6,   1.6556,  34.6897,2,  34.6896,2,    158.4,2,   150.95,2,    35.74,2,     0.00,2,     2.46,2,    0.003,6,    0.000,6,   2313.8,2,   2415.4,2,   7.5876,2,    25.00,     1929