BOTTLE,20200309PRINUNIVRMK
EXPOCODE,SECT_ID,STNNBR,CASTNO,SAMPNO,BTLNBR,BTLNBR_FLAG_W,DATE,TIME,LATITUDE,LONGITUDE,DEPTH,CTDPRS,CTDTMP,CTDSAL,CTDSAL_FLAG_W,SALNTY,SALNTY_FLAG_W,OXYGEN,OXYGEN_FLAG_W,SILCAT,SILCAT_FLAG_W,NITRAT,NITRAT_FLAG_W,NITRIT,NITRIT_FLAG_W,PHSPHT,PHSPHT_FLAG_W,CFC-11,CFC-11_FLAG_W,CFC-12,CFC-12_FLAG_W,TCARBN,TCARBN_FLAG_W,ALKALI,ALKALI_FLAG_W,PH_TOT,PH_TOT_FLAG_W,PH_TMP,BTL_TIME
,,,,,,,,,,,METERS,DBAR,ITS-90,PSS-78,,PSS-78,,UMOL/KG,,UMOL/KG,,UMOL/KG,,UMOL/KG,,UMOL/KG,,PMOL/KG,,PMOL/KG,,UMOL/KG,,UMOL/KG,,,,DEG C,
  49UP20170623,RF1707,  6037,  1,     99,     99,2,20170628,1254, 42.3857, 152.0598, 5053,      0.0,  10.4112,  32.7658,2,  32.7689,2,    304.4,2,     0.56,2,     5.91,2,     0.15,2,     0.69,3, -999.000,9, -999.000,9,   2007.5,2,   2236.4,2,   7.9541,2,    25.00,     1430
  49UP20170623,RF1707,  6037,  1,     36,  25845,2,20170628,1254, 42.3857, 152.0598, 5053,     11.4,  10.0524,  32.7707,2,  32.7771,4,    311.8,2,     0.75,2,     6.44,2,     0.16,2,     0.73,2,    3.942,2,    2.280,2,   2011.5,2,   2236.6,2,   7.9425,2,    25.00,     1507
  49UP20170623,RF1707,  6037,  1,     35,  25844,2,20170628,1254, 42.3857, 152.0598, 5053,     25.7,   6.0256,  32.9085,2,  32.9408,4,    331.7,2,    14.96,2,    13.71,2,     0.21,2,     1.56,2, -999.000,9, -999.000,9,   2083.7,2,   2243.1,2,   7.7963,2,    25.00,     1506
  49UP20170623,RF1707,  6037,  1,     34,  25843,2,20170628,1254, 42.3857, 152.0598, 5053,     50.7,   2.8915,  33.1387,2,  33.1395,2,    317.4,2,    34.54,2,    20.62,2,     0.30,2,     1.78,2,    5.274,2,    2.923,2,   2138.5,2,   2241.8,2,   7.6553,2,    25.00,     1502
  49UP20170623,RF1707,  6037,  1,     33,  25842,2,20170628,1254, 42.3857, 152.0598, 5053,     75.5,   2.6634,  33.1560,2,  33.1583,2,    315.8,2,    37.76,2,    22.49,2,     0.15,2,     1.81,2, -999.000,9, -999.000,9,   2141.8,6,   2242.6,6,   7.6397,2,    25.00,     1501
  49UP20170623,RF1707,  6037,  1,     32,  25841,2,20170628,1254, 42.3857, 152.0598, 5053,    101.4,   2.5529,  33.1952,2,  33.1975,2,    310.0,2,    39.61,2,    23.04,2,     0.02,2,     1.82,2,    5.258,2,    2.925,2,   2147.2,2,   2244.2,2,   7.6335,6,    25.00,     1500
  49UP20170623,RF1707,  6037,  1,     31,  25840,2,20170628,1254, 42.3857, 152.0598, 5053,    125.5,   2.2002,  33.2214,2,  33.2256,2,    290.1,2,    46.02,2,    25.34,2,     0.02,2,     1.98,2, -999.000,9, -999.000,9,   2162.1,2,   2247.3,2,   7.5947,2,    25.00,     1459
  49UP20170623,RF1707,  6037,  1,     30,  25839,3,20170628,1254, 42.3857, 152.0598, 5053,    150.3,   2.0350,  33.3057,2,  33.3180,4,    232.4,2,    59.85,2,    30.60,2,     0.02,2,     2.32,2,    4.503,2,    2.505,2,   2206.3,2,   2258.8,2,   7.4893,2,    25.00,     1457
  49UP20170623,RF1707,  6037,  1,     29,  25838,2,20170628,1254, 42.3857, 152.0598, 5053,    201.8,   2.9679,  33.6126,2,  33.6151,2,    134.5,2,    78.19,2,    36.30,2,     0.02,2,     2.67,2,    3.366,6,    1.854,6,   2268.9,2,   2281.0,2,   7.3776,2,    25.00,     1456
  49UP20170623,RF1707,  6037,  1,     28,  25837,3,20170628,1254, 42.3857, 152.0598, 5053,    252.4,   3.2236,  33.7522,2,  33.7554,2,     90.8,6,    89.41,6,    39.67,6,     0.01,6,     2.86,6,    2.758,2,    1.491,2,   2296.0,2,   2294.8,2,   7.3221,2,    25.00,     1454
  49UP20170623,RF1707,  6037,  1,     27,  25836,3,20170628,1254, 42.3857, 152.0598, 5053,    303.8,   3.6188,  33.8868,2,  33.8856,2,     75.2,2,    93.24,2,    39.95,2,     0.01,2,     2.87,2,    2.331,2,    1.215,2,   2305.4,2,   2303.9,2,   7.3184,2,    25.00,     1452
  49UP20170623,RF1707,  6037,  1,     26,  25835,2,20170628,1254, 42.3857, 152.0598, 5053,    404.0,   3.8229,  34.0695,2,  34.0689,2,     51.3,2,   104.83,2,    41.12,2,     0.01,2,     2.94,2,    1.540,2,    0.781,2,   2324.7,2,   2324.6,2,   7.3217,2,    25.00,     1449
  49UP20170623,RF1707,  6037,  1,     25,  25834,2,20170628,1254, 42.3857, 152.0598, 5053,    506.4,   3.3578,  34.1214,2,  34.1222,2,     24.7,2,   120.80,2,    43.90,2,     0.00,2,     3.11,2,    1.132,2,    0.568,2,   2355.3,6,   2337.3,6,   7.2720,2,    25.00,     1446
  49UP20170623,RF1707,  6037,  1,     24,  25833,2,20170628,1254, 42.3857, 152.0598, 5053,    607.7,   3.2102,  34.1913,2,  34.1904,2,     21.4,2,   128.80,2,    43.99,2,     0.00,2,     3.12,2,    0.847,2,    0.424,2,   2362.4,2,   2349.1,2,   7.2799,6,    25.00,     1443
  49UP20170623,RF1707,  6037,  1,     23,  25832,2,20170628,1254, 42.3857, 152.0598, 5053,    709.6,   3.0525,  34.2682,2,  34.2670,2,     24.0,2,   136.58,2,    43.69,2,     0.00,2,     3.11,2,    0.577,2,    0.299,2,   2368.2,2,   2360.1,2,   7.2987,2,    25.00,     1440
  49UP20170623,RF1707,  6037,  1,     22,  25831,2,20170628,1254, 42.3857, 152.0598, 5053,    809.5,   2.9394,  34.3200,2,  34.3198,6,     22.3,2,   142.29,2,    43.85,2,     0.00,2,     3.11,2,    0.408,2,    0.203,2,   2378.3,2,   2369.0,2,   7.2992,2,    25.00,     1437
  49UP20170623,RF1707,  6037,  1,     21,  25830,2,20170628,1254, 42.3857, 152.0598, 5053,    911.7,   2.8000,  34.3631,2,  34.3624,2,     25.6,2,   146.97,2,    43.68,2,     0.00,2,     3.10,2,    0.309,2,    0.167,2,   2378.2,2,   2376.4,2,   7.3136,2,    25.00,     1434
  49UP20170623,RF1707,  6037,  1,     20,  25829,2,20170628,1254, 42.3857, 152.0598, 5053,   1013.1,   2.6537,  34.3976,2,  34.3971,2,     25.5,2,   152.47,2,    43.70,2,     0.00,2,     3.10,2,    0.238,2,    0.122,2,   2382.1,2,   2382.4,2,   7.3158,2,    25.00,     1430
  49UP20170623,RF1707,  6037,  1,     19,  25828,2,20170628,1254, 42.3857, 152.0598, 5053,   1215.8,   2.4254,  34.4590,2,  34.4565,2,     33.5,6,   159.30,6,    43.24,6,     0.00,6,     3.07,6,    0.145,2,    0.079,2,   2392.1,3,   2391.7,2,   7.3406,2,    25.00,     1425
  49UP20170623,RF1707,  6037,  1,     18,  25827,2,20170628,1254, 42.3857, 152.0598, 5053,   1419.2,   2.2472,  34.5088,2,  34.5078,2,     46.6,2,   161.32,2,    42.54,2,     0.00,2,     3.02,2,    0.086,2,    0.049,2,   2381.3,2,   2402.3,2,   7.3743,2,    25.00,     1419
  49UP20170623,RF1707,  6037,  1,     17,  25826,2,20170628,1254, 42.3857, 152.0598, 5053,   1621.3,   2.1167,  34.5462,2,  34.5460,2,     54.6,2,   163.31,2,    42.11,2,     0.00,2,     2.98,2,    0.040,2,    0.026,2,   2380.6,2,   2407.9,2,   7.3947,2,    25.00,     1412
  49UP20170623,RF1707,  6037,  1,     16,  25825,2,20170628,1254, 42.3857, 152.0598, 5053,   1823.7,   1.9880,  34.5785,2,  34.5785,2,     67.2,2,   163.73,2,    41.39,2,     0.00,2,     2.92,2,    0.010,2,    0.016,2,   2378.3,2,   2412.8,2,   7.4179,2,    25.00,     1407
  49UP20170623,RF1707,  6037,  1,     15,  25824,2,20170628,1254, 42.3857, 152.0598, 5053,   2027.2,   1.8760,  34.6032,2,  34.6011,2,     81.8,3,   162.67,2,    40.64,2,     0.00,2,     2.86,2,    0.003,6,    0.011,6,   2373.5,2,   2413.9,2,   7.4453,2,    25.00,     1402
  49UP20170623,RF1707,  6037,  1,     14,  25823,2,20170628,1254, 42.3857, 152.0598, 5053,   2228.8,   1.7696,  34.6227,2,  34.6224,2,     92.1,2,   162.30,2,    39.94,2,     0.00,2,     2.80,2,    0.003,2,    0.016,2,   2365.7,2,   2417.0,2,   7.4721,2,    25.00,     1358
  49UP20170623,RF1707,  6037,  1,     13,  25822,2,20170628,1254, 42.3857, 152.0598, 5053,   2433.5,   1.6854,  34.6365,2,  34.6354,2,    101.6,2,   162.47,2,    39.28,2,     0.00,2,     2.75,2,    0.000,2,    0.012,2,   2360.8,2,   2418.7,2,   7.4892,2,    25.00,     1353
  49UP20170623,RF1707,  6037,  1,     12,  25821,2,20170628,1254, 42.3857, 152.0598, 5053,   2635.8,   1.6176,  34.6493,2,  34.6484,2,    113.7,2,   159.36,2,    38.55,2,     0.00,2,     2.70,2,    0.000,2,    0.012,2,   2354.4,2,   2419.6,2,   7.5118,2,    25.00,     1349
  49UP20170623,RF1707,  6037,  1,     11,  25820,2,20170628,1254, 42.3857, 152.0598, 5053,   2840.3,   1.5658,  34.6583,2,  34.6581,2,    121.6,2,   157.80,2,    38.05,2,     0.00,2,     2.65,2,    0.000,2,    0.009,2,   2348.8,2,   2421.7,2,   7.5248,2,    25.00,     1344
  49UP20170623,RF1707,  6037,  1,     10,  25819,2,20170628,1254, 42.3857, 152.0598, 5053,   3045.0,   1.5233,  34.6657,2,  34.6654,2,    129.6,6,   155.97,6,    37.54,6,     0.00,6,     2.61,6, -999.000,9, -999.000,9,   2344.1,2,   2419.6,2,   7.5382,2,    25.00,     1339
  49UP20170623,RF1707,  6037,  1,      9,  25818,2,20170628,1254, 42.3857, 152.0598, 5053,   3302.5,   1.4911,  34.6719,2,  34.6732,4,    135.3,3,   155.03,2,    37.12,2,     0.00,2,     2.58,2, -999.000,9, -999.000,9,   2339.6,2,   2420.0,2,   7.5545,2,    25.00,     1333
  49UP20170623,RF1707,  6037,  1,      8,  25817,2,20170628,1254, 42.3857, 152.0598, 5053,   3558.3,   1.4651,  34.6778,2,  34.6776,2,    143.4,2,   152.82,2,    36.68,2,     0.00,2,     2.54,2, -999.000,9, -999.000,9,   2334.9,2,   2419.6,2,   7.5651,2,    25.00,     1328
  49UP20170623,RF1707,  6037,  1,      7,  25816,2,20170628,1254, 42.3857, 152.0598, 5053,   3812.8,   1.4515,  34.6818,2,  34.6818,2,    148.8,2,   150.97,2,    36.30,2,     0.00,2,     2.52,2,    0.000,2,    0.010,2,   2330.0,2,   2418.8,2,   7.5736,2,    25.00,     1322
  49UP20170623,RF1707,  6037,  1,      6,  25815,2,20170628,1254, 42.3857, 152.0598, 5053,   4069.3,   1.4495,  34.6849,2,  34.6849,2,    152.4,2,   150.43,2,    36.01,2,     0.00,2,     2.50,2, -999.000,9, -999.000,9,   2330.4,2,   2418.8,2,   7.5782,2,    25.00,     1317
  49UP20170623,RF1707,  6037,  1,      5,  25814,3,20170628,1254, 42.3857, 152.0598, 5053,   4325.4,   1.4560,  34.6874,2,  34.6871,2,    155.3,2,   150.06,2,    35.83,2,     0.00,2,     2.48,2, -999.000,9, -999.000,9,   2325.9,6,   2418.1,6,   7.5857,2,    25.00,     1312
  49UP20170623,RF1707,  6037,  1,      4,  25813,2,20170628,1254, 42.3857, 152.0598, 5053,   4583.6,   1.4739,  34.6886,2,  34.6887,6,    156.5,2,   150.10,2,    35.72,2,     0.00,2,     2.47,2, -999.000,9, -999.000,9,   2326.9,2,   2417.2,2,   7.5851,6,    25.00,     1307
  49UP20170623,RF1707,  6037,  1,      3,  25812,2,20170628,1254, 42.3857, 152.0598, 5053,   4841.2,   1.4980,  34.6893,2,  34.6895,2,    157.3,2,   150.27,2,    35.68,2,     0.00,2,     2.47,2,    0.000,2,    0.013,2,   2323.4,2,   2418.0,2,   7.5867,2,    25.00,     1301
  49UP20170623,RF1707,  6037,  1,      2,  25811,2,20170628,1254, 42.3857, 152.0598, 5053,   5099.1,   1.5254,  34.6899,2,  34.6899,6,    158.2,2,   150.36,2,    35.63,2,     0.00,2,     2.47,2, -999.000,9, -999.000,9,   2323.3,2,   2416.8,2,   7.5883,2,    25.00,     1255
  49UP20170623,RF1707,  6037,  1,      1,  25810,2,20170628,1254, 42.3857, 152.0598, 5053,   5141.2,   1.5304,  34.6898,2,  34.6893,2,    157.7,6,   150.03,6,    35.62,6,     0.00,6,     2.47,6,    0.000,2,    0.017,2,   2331.3,2,   2416.7,2,   7.5872,2,    25.00,     1254