BOTTLE,20200309PRINUNIVRMK
EXPOCODE,SECT_ID,STNNBR,CASTNO,SAMPNO,BTLNBR,BTLNBR_FLAG_W,DATE,TIME,LATITUDE,LONGITUDE,DEPTH,CTDPRS,CTDTMP,CTDSAL,CTDSAL_FLAG_W,SALNTY,SALNTY_FLAG_W,OXYGEN,OXYGEN_FLAG_W,SILCAT,SILCAT_FLAG_W,NITRAT,NITRAT_FLAG_W,NITRIT,NITRIT_FLAG_W,PHSPHT,PHSPHT_FLAG_W,CFC-11,CFC-11_FLAG_W,CFC-12,CFC-12_FLAG_W,TCARBN,TCARBN_FLAG_W,ALKALI,ALKALI_FLAG_W,PH_TOT,PH_TOT_FLAG_W,PH_TMP,BTL_TIME
,,,,,,,,,,,METERS,DBAR,ITS-90,PSS-78,,PSS-78,,UMOL/KG,,UMOL/KG,,UMOL/KG,,UMOL/KG,,UMOL/KG,,PMOL/KG,,PMOL/KG,,UMOL/KG,,UMOL/KG,,,,DEG C,
  49UP20170623,RF1707,  6070,  1,     99,     99,2,20170726,2307, 32.4907, 165.0130, 6203,      0.0,  24.9704,  34.6331,2,-999.0000,9,    212.4,2,     1.79,2,     0.02,2,     0.00,2,     0.02,2, -999.000,9, -999.000,9,   -999.0,9,   -999.0,9,-999.0000,9,  -999.00,      110
  49UP20170623,RF1707,  6070,  1,     36,  25845,2,20170726,2307, 32.4907, 165.0130, 6203,     10.7,  24.9154,  34.6344,2,  34.6316,2,    212.0,2,     1.85,2,     0.02,2,     0.00,2,     0.01,2, -999.000,9, -999.000,9,   -999.0,9,   -999.0,9,-999.0000,9,  -999.00,      134
  49UP20170623,RF1707,  6070,  1,     35,  25844,2,20170726,2307, 32.4907, 165.0130, 6203,     52.9,  18.6880,  34.8099,2,  34.7976,4,    240.3,2,     2.33,2,     0.04,2,     0.00,2,     0.05,2, -999.000,9, -999.000,9,   -999.0,9,   -999.0,9,-999.0000,9,  -999.00,      132
  49UP20170623,RF1707,  6070,  1,     34,  25843,2,20170726,2307, 32.4907, 165.0130, 6203,    105.2,  16.8479,  34.7868,2,  34.7849,2,    223.3,2,     3.96,2,     3.83,2,     0.02,2,     0.25,2, -999.000,9, -999.000,9,   -999.0,9,   -999.0,9,-999.0000,9,  -999.00,      127
  49UP20170623,RF1707,  6070,  1,     33,  25842,2,20170726,2307, 32.4907, 165.0130, 6203,    147.2,  16.5445,  34.7629,2,  34.7609,2,    225.0,2,     4.33,2,     3.96,2,     0.01,2,     0.27,2, -999.000,9, -999.000,9,   -999.0,9,   -999.0,9,-999.0000,9,  -999.00,      125
  49UP20170623,RF1707,  6070,  1,     32,  25841,2,20170726,2307, 32.4907, 165.0130, 6203,    202.5,  15.3589,  34.6251,2,  34.6276,2,    209.7,6,     8.12,6,     7.36,6,     0.01,6,     0.50,6, -999.000,9, -999.000,9,   -999.0,9,   -999.0,9,-999.0000,9,  -999.00,      123
  49UP20170623,RF1707,  6070,  1,     31,  25840,2,20170726,2307, 32.4907, 165.0130, 6203,    255.1,  13.9381,  34.4910,2,  34.4909,2,    206.6,2,    11.28,2,     9.71,2,     0.01,2,     0.67,2, -999.000,9, -999.000,9,   -999.0,9,   -999.0,9,-999.0000,9,  -999.00,      121
  49UP20170623,RF1707,  6070,  1,     30,  25839,2,20170726,2307, 32.4907, 165.0130, 6203,    285.5,  13.0950,  34.4237,2,  34.4257,2,    203.0,2,    13.71,2,    11.36,2,     0.01,2,     0.78,2, -999.000,9, -999.000,9,   -999.0,9,   -999.0,9,-999.0000,9,  -999.00,      120
  49UP20170623,RF1707,  6070,  1,     29,  25838,2,20170726,2307, 32.4907, 165.0130, 6203,    372.0,  11.3099,  34.2770,2,  34.2782,2,    234.0,2,    15.15,2,    11.06,2,     0.01,2,     0.79,2, -999.000,9, -999.000,9,   -999.0,9,   -999.0,9,-999.0000,9,  -999.00,      117
  49UP20170623,RF1707,  6070,  1,     28,  25837,2,20170726,2307, 32.4907, 165.0130, 6203,    474.0,   8.5840,  34.0080,2,  34.0087,2,    224.3,2,    26.67,2,    17.15,2,     0.01,2,     1.25,2, -999.000,9, -999.000,9,   -999.0,9,   -999.0,9,-999.0000,9,  -999.00,      114
  49UP20170623,RF1707,  6070,  1,     27,  25836,3,20170726,2307, 32.4907, 165.0130, 6203,    576.4,   6.3396,  33.9343,2,  33.9378,2,    157.7,2,    51.82,2,    27.35,2,     0.00,2,     1.98,2, -999.000,9, -999.000,9,   -999.0,9,   -999.0,9,-999.0000,9,  -999.00,      112
  49UP20170623,RF1707,  6070,  1,     26,  25835,2,20170726,2307, 32.4907, 165.0130, 6203,    674.9,   5.0909,  34.0044,2,  34.0051,2,    108.7,2,    74.89,2,    34.00,2,     0.00,2,     2.45,2, -999.000,9, -999.000,9,   -999.0,9,   -999.0,9,-999.0000,9,  -999.00,      109
  49UP20170623,RF1707,  6070,  1,     25,  25834,2,20170726,2307, 32.4907, 165.0130, 6203,    777.5,   4.5795,  34.1354,2,  34.1366,2,     71.8,2,    93.79,2,    37.87,2,     0.00,2,     2.71,2, -999.000,9, -999.000,9,   -999.0,9,   -999.0,9,-999.0000,9,  -999.00,      106
  49UP20170623,RF1707,  6070,  1,     24,  25833,2,20170726,2307, 32.4907, 165.0130, 6203,    878.4,   4.0535,  34.2171,2,  34.2176,2,     51.1,2,   108.88,2,    40.27,2,     0.00,2,     2.88,2, -999.000,9, -999.000,9,   -999.0,9,   -999.0,9,-999.0000,9,  -999.00,      103
  49UP20170623,RF1707,  6070,  1,     23,  25832,2,20170726,2307, 32.4907, 165.0130, 6203,    982.3,   3.6078,  34.2898,2,  34.2890,2,     39.1,6,   121.83,6,    41.65,6,     0.00,6,     2.98,6, -999.000,9, -999.000,9,   -999.0,9,   -999.0,9,-999.0000,9,  -999.00,      100
  49UP20170623,RF1707,  6070,  1,     22,  25831,2,20170726,2307, 32.4907, 165.0130, 6203,   1143.9,   3.1666,  34.3758,2,  34.3760,2,     37.2,2,   135.05,2,    42.24,2,     0.00,2,     3.02,2, -999.000,9, -999.000,9,   -999.0,9,   -999.0,9,-999.0000,9,  -999.00,       56
  49UP20170623,RF1707,  6070,  1,     21,  25830,2,20170726,2307, 32.4907, 165.0130, 6203,   1344.3,   2.7229,  34.4518,2,  34.4520,2,     31.0,2,   149.15,2,    43.30,2,     0.00,2,     3.07,2, -999.000,9, -999.000,9,   -999.0,9,   -999.0,9,-999.0000,9,  -999.00,       52
  49UP20170623,RF1707,  6070,  1,     20,  25829,2,20170726,2307, 32.4907, 165.0130, 6203,   1548.5,   2.4086,  34.5085,2,  34.5091,2,     39.0,2,   157.31,2,    43.02,2,     0.00,2,     3.04,2, -999.000,9, -999.000,9,   -999.0,9,   -999.0,9,-999.0000,9,  -999.00,       47
  49UP20170623,RF1707,  6070,  1,     19,  25828,2,20170726,2307, 32.4907, 165.0130, 6203,   1750.9,   2.2145,  34.5528,2,  34.5527,2,     54.4,2,   159.70,2,    42.12,2,     0.00,2,     2.97,2, -999.000,9, -999.000,9,   -999.0,9,   -999.0,9,-999.0000,9,  -999.00,       41
  49UP20170623,RF1707,  6070,  1,     18,  25827,2,20170726,2307, 32.4907, 165.0130, 6203,   1953.5,   2.0234,  34.5819,2,  34.5823,6,     66.6,2,   162.73,2,    41.39,2,     0.00,2,     2.92,2, -999.000,9, -999.000,9,   -999.0,9,   -999.0,9,-999.0000,9,  -999.00,       37
  49UP20170623,RF1707,  6070,  1,     17,  25826,2,20170726,2307, 32.4907, 165.0130, 6203,   2157.5,   1.8724,  34.6061,2,  34.6059,2,     79.9,2,   163.35,2,    40.51,2,     0.00,2,     2.84,2, -999.000,9, -999.000,9,   -999.0,9,   -999.0,9,-999.0000,9,  -999.00,       32
  49UP20170623,RF1707,  6070,  1,     16,  25825,2,20170726,2307, 32.4907, 165.0130, 6203,   2361.3,   1.7683,  34.6254,2,  34.6260,2,     95.6,2,   161.36,2,    39.63,2,     0.00,2,     2.78,2, -999.000,9, -999.000,9,   -999.0,9,   -999.0,9,-999.0000,9,  -999.00,       27
  49UP20170623,RF1707,  6070,  1,     15,  25824,2,20170726,2307, 32.4907, 165.0130, 6203,   2565.3,   1.6812,  34.6410,2,  34.6400,2,    107.7,2,   158.83,2,    38.81,2,     0.00,2,     2.71,2, -999.000,9, -999.000,9,   -999.0,9,   -999.0,9,-999.0000,9,  -999.00,       23
  49UP20170623,RF1707,  6070,  1,     14,  25823,2,20170726,2307, 32.4907, 165.0130, 6203,   2768.8,   1.6221,  34.6500,2,  34.6509,2,    116.5,6,   158.15,6,    38.23,6,     0.00,6,     2.68,6, -999.000,9, -999.000,9,   -999.0,9,   -999.0,9,-999.0000,9,  -999.00,       18
  49UP20170623,RF1707,  6070,  1,     13,  25822,2,20170726,2307, 32.4907, 165.0130, 6203,   2973.0,   1.5757,  34.6578,2,  34.6571,2,    122.9,2,   157.20,2,    37.85,2,     0.00,2,     2.64,2, -999.000,9, -999.000,9,   -999.0,9,   -999.0,9,-999.0000,9,  -999.00,       13
  49UP20170623,RF1707,  6070,  1,     12,  25821,2,20170726,2307, 32.4907, 165.0130, 6203,   3215.3,   1.5432,  34.6654,2,  34.6658,6,    131.7,2,   154.52,2,    37.25,2,     0.00,2,     2.60,2, -999.000,9, -999.000,9,   -999.0,9,   -999.0,9,-999.0000,9,  -999.00,        8
  49UP20170623,RF1707,  6070,  1,     11,  25820,2,20170726,2307, 32.4907, 165.0130, 6203,   3474.0,   1.5196,  34.6706,2,  34.6693,2,    135.8,3,   153.60,2,    36.96,2,     0.00,2,     2.57,2, -999.000,9, -999.000,9,   -999.0,9,   -999.0,9,-999.0000,9,  -999.00,        3
  49UP20170623,RF1707,  6070,  1,     10,  25819,2,20170726,2307, 32.4907, 165.0130, 6203,   3728.8,   1.5008,  34.6754,2,  34.6751,2,    142.0,2,   152.15,2,    36.56,2,     0.00,2,     2.54,2, -999.000,9, -999.000,9,   -999.0,9,   -999.0,9,-999.0000,9,  -999.00,     2357
  49UP20170623,RF1707,  6070,  1,      9,  25818,2,20170726,2307, 32.4907, 165.0130, 6203,   3986.0,   1.4902,  34.6793,2,  34.6796,2,    147.1,2,   150.80,2,    36.24,2,     0.00,2,     2.52,2, -999.000,9, -999.000,9,   -999.0,9,   -999.0,9,-999.0000,9,  -999.00,     2352
  49UP20170623,RF1707,  6070,  1,      8,  25817,2,20170726,2307, 32.4907, 165.0130, 6203,   4241.9,   1.4871,  34.6825,2,  34.6833,2,    151.4,2,   149.26,2,    35.99,2,     0.00,2,     2.49,2, -999.000,9, -999.000,9,   -999.0,9,   -999.0,9,-999.0000,9,  -999.00,     2347
  49UP20170623,RF1707,  6070,  1,      7,  25816,2,20170726,2307, 32.4907, 165.0130, 6203,   4496.1,   1.4896,  34.6851,2,  34.6854,6,    154.9,2,   147.79,2,    35.74,2,     0.00,2,     2.48,2, -999.000,9, -999.000,9,   -999.0,9,   -999.0,9,-999.0000,9,  -999.00,     2341
  49UP20170623,RF1707,  6070,  1,      6,  25815,2,20170726,2307, 32.4907, 165.0130, 6203,   4757.5,   1.4991,  34.6871,2,  34.6880,2,    157.8,2,   146.67,2,    35.51,2,     0.00,2,     2.46,2, -999.000,9, -999.000,9,   -999.0,9,   -999.0,9,-999.0000,9,  -999.00,     2336
  49UP20170623,RF1707,  6070,  1,      5,  25814,3,20170726,2307, 32.4907, 165.0130, 6203,   5013.8,   1.5091,  34.6893,2,  34.6899,2,    161.6,6,   143.16,6,    35.21,6,     0.00,6,     2.43,6, -999.000,9, -999.000,9,   -999.0,9,   -999.0,9,-999.0000,9,  -999.00,     2330
  49UP20170623,RF1707,  6070,  1,      4,  25813,2,20170726,2307, 32.4907, 165.0130, 6203,   5270.3,   1.5206,  34.6911,2,  34.6917,2,    165.5,2,   140.70,2,    34.91,2,     0.00,2,     2.42,2, -999.000,9, -999.000,9,   -999.0,9,   -999.0,9,-999.0000,9,  -999.00,     2325
  49UP20170623,RF1707,  6070,  1,      3,  25812,2,20170726,2307, 32.4907, 165.0130, 6203,   5529.4,   1.5333,  34.6929,2,  34.6934,2,    168.8,2,   138.44,2,    34.73,2,     0.00,2,     2.40,2, -999.000,9, -999.000,9,   -999.0,9,   -999.0,9,-999.0000,9,  -999.00,     2319
  49UP20170623,RF1707,  6070,  1,      2,  25811,2,20170726,2307, 32.4907, 165.0130, 6203,   5786.4,   1.5522,  34.6943,2,  34.6939,2,    171.6,2,   136.77,2,    34.56,2,     0.00,2,     2.38,2, -999.000,9, -999.000,9,   -999.0,9,   -999.0,9,-999.0000,9,  -999.00,     2314
  49UP20170623,RF1707,  6070,  1,      1,  25810,2,20170726,2307, 32.4907, 165.0130, 6203,   6128.1,   1.5839,  34.6953,2,  34.6956,6,    173.0,2,   135.26,2,    34.37,2,     0.00,2,     2.37,2, -999.000,9, -999.000,9,   -999.0,9,   -999.0,9,-999.0000,9,  -999.00,     2307