BOTTLE,20200309PRINUNIVRMK
EXPOCODE,SECT_ID,STNNBR,CASTNO,SAMPNO,BTLNBR,BTLNBR_FLAG_W,DATE,TIME,LATITUDE,LONGITUDE,DEPTH,CTDPRS,CTDTMP,CTDSAL,CTDSAL_FLAG_W,SALNTY,SALNTY_FLAG_W,OXYGEN,OXYGEN_FLAG_W,SILCAT,SILCAT_FLAG_W,NITRAT,NITRAT_FLAG_W,NITRIT,NITRIT_FLAG_W,PHSPHT,PHSPHT_FLAG_W,CFC-11,CFC-11_FLAG_W,CFC-12,CFC-12_FLAG_W,TCARBN,TCARBN_FLAG_W,ALKALI,ALKALI_FLAG_W,PH_TOT,PH_TOT_FLAG_W,PH_TMP,BTL_TIME
,,,,,,,,,,,METERS,DBAR,ITS-90,PSS-78,,PSS-78,,UMOL/KG,,UMOL/KG,,UMOL/KG,,UMOL/KG,,UMOL/KG,,PMOL/KG,,PMOL/KG,,UMOL/KG,,UMOL/KG,,,,DEG C,
  49UP20170623,RF1707,  6072,  1,     99,     99,2,20170727,1759, 31.0122, 164.9558, 6013,      0.0,  25.9008,  34.6062,2,  34.5980,2,    206.6,2,     1.80,2,     0.00,2,     0.00,2,     0.03,2, -999.000,9, -999.000,9,   1979.0,2,   2272.1,2,   8.0512,2,    25.00,     2010
  49UP20170623,RF1707,  6072,  1,     36,  25845,3,20170727,1759, 31.0122, 164.9558, 6013,     10.9,  25.9051,  34.6049,2,  34.6038,2,    206.3,2,     1.82,2,     0.01,2,     0.00,2,     0.01,2,    1.691,2,    1.126,2,   1977.8,6,   2274.1,6,   8.0541,2,    25.00,     2030
  49UP20170623,RF1707,  6072,  1,     35,  25844,2,20170727,1759, 31.0122, 164.9558, 6013,     50.9,  20.3024,  34.8267,2,  34.8273,2,    235.4,2,     2.12,2,     0.01,2,     0.00,2,     0.04,2,    2.169,2,    1.345,2,   2007.7,2,   2289.8,2,   8.0407,6,    25.00,     2028
  49UP20170623,RF1707,  6072,  1,     34,  25843,2,20170727,1759, 31.0122, 164.9558, 6013,    100.6,  18.1944,  34.8030,2,  34.8044,2,    221.8,6,     3.18,6,     1.91,6,     0.21,6,     0.16,6,    2.294,2,    1.421,2,   2026.8,2,   2286.9,2,   7.9907,2,    25.00,     2024
  49UP20170623,RF1707,  6072,  1,     33,  25842,2,20170727,1759, 31.0122, 164.9558, 6013,    150.6,  17.3281,  34.7829,2,  34.7818,2,    209.7,2,     4.78,2,     4.56,2,     0.02,2,     0.31,2,    2.340,2,    1.464,2,   2048.6,2,   2284.9,2,   7.9612,2,    25.00,     2022
  49UP20170623,RF1707,  6072,  1,     32,  25841,2,20170727,1759, 31.0122, 164.9558, 6013,    201.9,  16.5785,  34.7333,2,  34.7318,2,    213.2,2,     5.85,2,     5.33,2,     0.01,2,     0.37,2,    2.397,2,    1.532,2,   2039.9,2,   2284.5,2,   7.9469,2,    25.00,     2020
  49UP20170623,RF1707,  6072,  1,     31,  25840,2,20170727,1759, 31.0122, 164.9558, 6013,    251.9,  15.6627,  34.6533,2,  34.6543,2,    204.8,2,     8.33,2,     7.50,2,     0.02,2,     0.51,2,    2.454,2,    1.543,2,   2059.0,2,   2282.6,2,   7.9138,2,    25.00,     2018
  49UP20170623,RF1707,  6072,  1,     30,  25839,2,20170727,1759, 31.0122, 164.9558, 6013,    333.1,  14.0658,  34.5172,2,  34.5175,2,    202.1,2,    12.20,2,    10.14,2,     0.01,2,     0.70,2,    2.611,2,    1.622,2,   2082.9,2,   2277.3,2,   7.8696,2,    25.00,     2016
  49UP20170623,RF1707,  6072,  1,     29,  25838,2,20170727,1759, 31.0122, 164.9558, 6013,    435.0,  11.7439,  34.3409,2,  34.3439,2,    209.8,2,    17.95,2,    12.91,2,     0.01,2,     0.91,2,    2.808,2,    1.718,2,   2105.9,2,   2274.0,2,   7.8192,2,    25.00,     2013
  49UP20170623,RF1707,  6072,  1,     28,  25837,2,20170727,1759, 31.0122, 164.9558, 6013,    537.2,   8.8025,  34.0701,2,  34.0748,2,    193.3,2,    30.99,2,    19.52,2,     0.00,2,     1.40,2,    3.014,2,    1.763,2,   2140.2,2,   2274.7,2,   7.7103,2,    25.00,     2010
  49UP20170623,RF1707,  6072,  1,     27,  25836,2,20170727,1759, 31.0122, 164.9558, 6013,    635.1,   6.6365,  33.9724,2,  33.9722,2,    154.9,2,    51.13,2,    27.19,2,     0.00,2,     1.96,2,    2.803,2,    1.594,2,   2199.8,6,   2283.1,6,   7.5792,2,    25.00,     2007
  49UP20170623,RF1707,  6072,  1,     26,  25835,2,20170727,1759, 31.0122, 164.9558, 6013,    737.2,   5.0304,  34.0124,2,  34.0143,2,    104.2,2,    77.09,2,    34.59,2,     0.00,2,     2.49,2,    2.140,2,    1.147,2,   2257.3,2,   2301.8,2,   7.4542,2,    25.00,     2005
  49UP20170623,RF1707,  6072,  1,     25,  25834,2,20170727,1759, 31.0122, 164.9558, 6013,    839.8,   4.5082,  34.1299,2,  34.1293,2,     70.4,6,    94.61,6,    38.23,6,     0.00,6,     2.73,6,    1.368,2,    0.719,2,   2295.5,2,   2323.5,2,   7.4039,2,    25.00,     2002
  49UP20170623,RF1707,  6072,  1,     24,  25833,2,20170727,1759, 31.0122, 164.9558, 6013,    941.5,   4.0287,  34.2197,2,  34.2179,2,     48.0,2,   109.33,2,    40.77,2,     0.00,2,     2.91,2,    0.750,6,    0.385,6,   2321.3,2,   2342.0,2,   7.3674,2,    25.00,     1959
  49UP20170623,RF1707,  6072,  1,     23,  25832,3,20170727,1759, 31.0122, 164.9558, 6013,   1082.2,   3.4763,  34.3240,2,  34.3229,2,     34.4,2,   126.25,2,    42.44,2,     0.00,2,     3.02,2,    0.298,2,    0.148,2,   2348.5,2,   2363.0,2,   7.3525,2,    25.00,     1955
  49UP20170623,RF1707,  6072,  1,     22,  25831,2,20170727,1759, 31.0122, 164.9558, 6013,   1284.6,   2.8958,  34.4277,2,  34.4274,6,     31.6,2,   143.60,2,    43.24,2,     0.00,2,     3.06,2,    0.094,2,    0.044,2,   2379.7,2,   2385.7,2,   7.3532,2,    25.00,     1950
  49UP20170623,RF1707,  6072,  1,     21,  25830,3,20170727,1759, 31.0122, 164.9558, 6013,   1488.4,   2.5372,  34.4958,2,  34.4923,4,     39.9,2,   152.26,2,    42.99,2,     0.00,2,     3.03,2,    0.046,2,    0.020,2,   2376.3,2,   2397.2,2,   7.3779,2,    25.00,     1945
  49UP20170623,RF1707,  6072,  1,     20,  25829,2,20170727,1759, 31.0122, 164.9558, 6013,   1691.7,   2.2581,  34.5453,2,  34.5452,2,     53.0,2,   159.05,2,    42.37,2,     0.00,2,     2.98,2,    0.011,2,    0.000,2,   2379.1,2,   2407.8,2,   7.4055,2,    25.00,     1940
  49UP20170623,RF1707,  6072,  1,     19,  25828,2,20170727,1759, 31.0122, 164.9558, 6013,   1894.1,   2.0500,  34.5821,2,  34.5814,2,     67.7,2,   161.27,2,    41.42,2,     0.00,2,     2.91,2,    0.007,2,    0.002,2,   2365.7,2,   2412.6,2,   7.4363,2,    25.00,     1936
  49UP20170623,RF1707,  6072,  1,     18,  25827,2,20170727,1759, 31.0122, 164.9558, 6013,   2096.4,   1.8803,  34.6094,2,  34.6099,2,     84.8,2,   160.96,2,    40.38,2,     0.00,2,     2.83,2,    0.000,2,    0.000,2,   2367.1,2,   2416.0,2,   7.4680,2,    25.00,     1930
  49UP20170623,RF1707,  6072,  1,     17,  25826,2,20170727,1759, 31.0122, 164.9558, 6013,   2300.9,   1.7647,  34.6274,2,  34.6245,4,     97.0,2,   159.81,2,    39.56,2,     0.00,2,     2.76,2,    0.000,2,    0.000,2,   2356.7,2,   2417.8,2,   7.4868,2,    25.00,     1925
  49UP20170623,RF1707,  6072,  1,     16,  25825,2,20170727,1759, 31.0122, 164.9558, 6013,   2504.4,   1.6807,  34.6403,2,  34.6409,2,    107.9,6,   158.84,6,    38.86,6,     0.00,6,     2.71,6,    0.000,2,    0.000,2,   2353.3,2,   2418.2,2,   7.5126,2,    25.00,     1921
  49UP20170623,RF1707,  6072,  1,     15,  25824,2,20170727,1759, 31.0122, 164.9558, 6013,   2708.5,   1.6191,  34.6511,2,  34.6454,4,    116.3,3,   156.17,2,    38.24,2,     0.00,2,     2.67,2,    0.007,6,    0.001,6,   2350.9,2,   2419.1,2,   7.5265,2,    25.00,     1916
  49UP20170623,RF1707,  6072,  1,     14,  25823,2,20170727,1759, 31.0122, 164.9558, 6013,   2911.3,   1.5710,  34.6597,2,  34.6603,2,    126.6,2,   155.30,2,    37.67,2,     0.00,2,     2.62,2,    0.000,2,    0.000,2,   2340.6,2,   2419.8,2,   7.5428,2,    25.00,     1911
  49UP20170623,RF1707,  6072,  1,     13,  25822,2,20170727,1759, 31.0122, 164.9558, 6013,   3127.6,   1.5399,  34.6655,2,  34.6625,4,    131.5,2,   153.35,2,    37.31,2,     0.00,2,     2.59,2, -999.000,9, -999.000,9,   2343.6,2,   2420.5,2,   7.5501,2,    25.00,     1906
  49UP20170623,RF1707,  6072,  1,     12,  25821,2,20170727,1759, 31.0122, 164.9558, 6013,   3384.0,   1.5066,  34.6716,2,  34.6720,2,    138.7,2,   152.55,2,    36.87,2,     0.00,2,     2.56,2, -999.000,9, -999.000,9,   2338.2,2,   2420.0,2,   7.5639,2,    25.00,     1900
  49UP20170623,RF1707,  6072,  1,     11,  25820,2,20170727,1759, 31.0122, 164.9558, 6013,   3638.0,   1.4911,  34.6758,2,  34.6702,4,    141.5,3,   151.26,2,    36.65,2,     0.00,2,     2.54,2, -999.000,9, -999.000,9,   2329.2,2,   2418.6,2,   7.5711,2,    25.00,     1855
  49UP20170623,RF1707,  6072,  1,     10,  25819,2,20170727,1759, 31.0122, 164.9558, 6013,   3895.1,   1.4820,  34.6791,2,  34.6789,2,    147.4,2,   150.15,2,    36.24,2,     0.00,2,     2.51,2,    0.000,2,    0.000,2,   2327.7,2,   2417.2,2,   7.5791,2,    25.00,     1849
  49UP20170623,RF1707,  6072,  1,      9,  25818,2,20170727,1759, 31.0122, 164.9558, 6013,   4151.1,   1.4753,  34.6826,2,  34.6798,4,    150.2,3,   148.76,2,    36.04,2,     0.00,2,     2.49,2, -999.000,9, -999.000,9,   2322.4,6,   2417.0,6,   7.5850,2,    25.00,     1843
  49UP20170623,RF1707,  6072,  1,      8,  25817,3,20170727,1759, 31.0122, 164.9558, 6013,   4407.3,   1.4770,  34.6852,2,  34.6839,2,    156.6,3,   147.24,2,    35.75,2,     0.00,2,     2.47,2, -999.000,9, -999.000,9,   2320.4,2,   2418.2,2,   7.5893,6,    25.00,     1837
  49UP20170623,RF1707,  6072,  1,      7,  25816,2,20170727,1759, 31.0122, 164.9558, 6013,   4662.6,   1.4845,  34.6874,2,  34.6879,6,    158.6,6,   145.46,6,    35.51,6,     0.00,6,     2.45,6, -999.000,9, -999.000,9,   2314.7,2,   2416.0,2,   7.5925,2,    25.00,     1831
  49UP20170623,RF1707,  6072,  1,      6,  25815,2,20170727,1759, 31.0122, 164.9558, 6013,   4920.5,   1.4913,  34.6898,2,  34.6902,2,    162.8,2,   143.06,2,    35.22,2,     0.00,2,     2.43,2,    0.000,2,    0.000,2,   2309.0,2,   2414.2,2,   7.6021,2,    25.00,     1826
  49UP20170623,RF1707,  6072,  1,      5,  25814,2,20170727,1759, 31.0122, 164.9558, 6013,   5179.8,   1.5019,  34.6918,2,  34.6922,2,    166.2,2,   139.68,2,    34.98,2,     0.00,2,     2.41,2, -999.000,9, -999.000,9,   2308.2,2,   2409.9,2,   7.6045,2,    25.00,     1820
  49UP20170623,RF1707,  6072,  1,      4,  25813,2,20170727,1759, 31.0122, 164.9558, 6013,   5435.0,   1.5146,  34.6934,2,  34.6939,2,    169.4,2,   137.55,2,    34.72,2,     0.00,2,     2.39,2, -999.000,9, -999.000,9,   2303.2,2,   2407.6,2,   7.6056,2,    25.00,     1814
  49UP20170623,RF1707,  6072,  1,      3,  25812,2,20170727,1759, 31.0122, 164.9558, 6013,   5693.8,   1.5319,  34.6949,2,  34.6954,6,    171.7,2,   135.89,2,    34.58,2,     0.00,2,     2.38,2, -999.000,9, -999.000,9,   2312.2,3,   2406.9,2,   7.6076,2,    25.00,     1808
  49UP20170623,RF1707,  6072,  1,      2,  25811,2,20170727,1759, 31.0122, 164.9558, 6013,   5951.9,   1.5557,  34.6957,2,  34.6953,2,    173.3,2,   135.12,2,    34.39,2,     0.00,2,     2.37,2, -999.000,9, -999.000,9,   2302.3,2,   2405.2,2,   7.6118,2,    25.00,     1803
  49UP20170623,RF1707,  6072,  1,      1,  25810,2,20170727,1759, 31.0122, 164.9558, 6013,   6128.6,   1.5757,  34.6960,2,  34.6946,2,    172.9,3,   134.41,2,    34.44,2,     0.00,2,     2.38,2,    0.000,6,    0.002,6,   2303.5,2,   2405.8,2,   7.6111,2,    25.00,     1759