BOTTLE,20200309PRINUNIVRMK
EXPOCODE,SECT_ID,STNNBR,CASTNO,SAMPNO,BTLNBR,BTLNBR_FLAG_W,DATE,TIME,LATITUDE,LONGITUDE,DEPTH,CTDPRS,CTDTMP,CTDSAL,CTDSAL_FLAG_W,SALNTY,SALNTY_FLAG_W,OXYGEN,OXYGEN_FLAG_W,SILCAT,SILCAT_FLAG_W,NITRAT,NITRAT_FLAG_W,NITRIT,NITRIT_FLAG_W,PHSPHT,PHSPHT_FLAG_W,CFC-11,CFC-11_FLAG_W,CFC-12,CFC-12_FLAG_W,TCARBN,TCARBN_FLAG_W,ALKALI,ALKALI_FLAG_W,PH_TOT,PH_TOT_FLAG_W,PH_TMP,BTL_TIME
,,,,,,,,,,,METERS,DBAR,ITS-90,PSS-78,,PSS-78,,UMOL/KG,,UMOL/KG,,UMOL/KG,,UMOL/KG,,UMOL/KG,,PMOL/KG,,PMOL/KG,,UMOL/KG,,UMOL/KG,,,,DEG C,
  49UP20170623,RF1707,  6044,  1,     99,     99,2,20170702,0234, 48.0248, 161.6862, 5648,      0.0,   6.8220,  32.8003,2,  32.7996,2,    320.5,2,    34.21,2,    16.81,2,     0.15,2,     1.47,2, -999.000,9, -999.000,9,   2072.3,2,   2227.9,2,   7.7795,2,    25.00,      435
  49UP20170623,RF1707,  6044,  1,     36,  25845,2,20170702,0234, 48.0248, 161.6862, 5648,     11.7,   6.6681,  32.8223,2,  32.8172,2,    320.7,6,    34.08,6,    16.88,6,     0.16,6,     1.47,2,    4.636,2,    2.678,2,   2074.7,2,   2229.0,2,   7.7810,2,    25.00,      504
  49UP20170623,RF1707,  6044,  1,     35,  25844,2,20170702,0234, 48.0248, 161.6862, 5648,     49.8,   2.9254,  32.9285,2,  32.9283,2,    338.4,2,    38.22,2,    21.66,2,     0.17,2,     1.79,2,    5.533,2,    3.114,2,   2118.9,6,   2232.4,6,   7.6751,2,    25.00,      500
  49UP20170623,RF1707,  6044,  1,     34,  25843,2,20170702,0234, 48.0248, 161.6862, 5648,    100.5,   1.8306,  32.9594,2,  32.9610,2,    329.4,2,    40.19,2,    23.18,2,     0.41,2,     1.90,2,    5.555,2,    3.118,2,   2132.4,2,   2233.8,2,   7.6374,6,    25.00,      458
  49UP20170623,RF1707,  6044,  1,     33,  25842,2,20170702,0234, 48.0248, 161.6862, 5648,    124.8,   1.9048,  33.0946,2,  33.0861,4,    284.4,2,    48.23,2,    27.30,2,     0.05,2,     2.10,2, -999.000,9, -999.000,9,   2166.9,2,   2239.9,2,   7.5719,2,    25.00,      457
  49UP20170623,RF1707,  6044,  1,     32,  25841,2,20170702,0234, 48.0248, 161.6862, 5648,    152.3,   3.0332,  33.6015,2,  33.6042,2,    101.9,2,    81.00,2,    40.30,2,     0.03,2,     2.89,2,    3.258,2,    1.808,2,   2286.0,2,   2276.8,2,   7.3112,2,    25.00,      455
  49UP20170623,RF1707,  6044,  1,     31,  25840,3,20170702,0234, 48.0248, 161.6862, 5648,    202.1,   3.4860,  33.8097,2,  33.8076,2,     41.9,2,    94.27,2,    44.48,2,     0.01,2,     3.13,2,    2.502,2,    1.307,2,   2329.5,2,   2294.6,2,   7.2334,2,    25.00,      453
  49UP20170623,RF1707,  6044,  1,     30,  25839,2,20170702,0234, 48.0248, 161.6862, 5648,    251.8,   3.5761,  33.9093,2,  33.9084,2,     23.5,2,   101.42,2,    45.34,2,     0.01,2,     3.18,2,    2.080,2,    1.059,2,   2340.9,2,   2304.0,2,   7.2159,2,    25.00,      451
  49UP20170623,RF1707,  6044,  1,     29,  25838,2,20170702,0234, 48.0248, 161.6862, 5648,    333.9,   3.5666,  34.0392,2,  34.0388,2,     16.2,2,   111.64,2,    45.00,2,     0.00,2,     3.18,2,    1.471,2,    0.736,2,   2350.7,2,   2322.5,2,   7.2333,2,    25.00,      448
  49UP20170623,RF1707,  6044,  1,     28,  25837,2,20170702,0234, 48.0248, 161.6862, 5648,    436.4,   3.4169,  34.1383,2,  34.1362,2,     19.9,2,   121.35,2,    44.19,2,     0.00,2,     3.11,2,    1.052,2,    0.519,2,   2356.2,2,   2337.4,2,   7.2639,2,    25.00,      445
  49UP20170623,RF1707,  6044,  1,     27,  25836,3,20170702,0234, 48.0248, 161.6862, 5648,    533.6,   3.3306,  34.2140,2,  34.2122,2,     18.5,3,   128.63,6,    44.36,6,     0.00,6,     3.12,6,    0.752,2,    0.361,2,   2364.9,2,   2348.5,2,   7.2732,2,    25.00,      442
  49UP20170623,RF1707,  6044,  1,     26,  25835,2,20170702,0234, 48.0248, 161.6862, 5648,    636.3,   3.1708,  34.2680,2,  34.2683,2,     14.0,2,   135.74,2,    44.38,2,     0.00,2,     3.13,2,    0.483,2,    0.235,2,   2374.8,6,   2359.0,6,   7.2780,2,    25.00,      439
  49UP20170623,RF1707,  6044,  1,     25,  25834,2,20170702,0234, 48.0248, 161.6862, 5648,    739.0,   3.0074,  34.3206,2,  34.3188,2,     14.7,2,   142.00,2,    44.30,2,     0.00,2,     3.13,2,    0.331,2,    0.152,2,   2376.3,2,   2366.3,2,   7.2846,2,    25.00,      436
  49UP20170623,RF1707,  6044,  1,     24,  25833,2,20170702,0234, 48.0248, 161.6862, 5648,    840.6,   2.8622,  34.3616,2,  34.3611,2,     15.5,2,   147.30,2,    44.29,2,     0.00,2,     3.13,2,    0.237,2,    0.104,2,   2385.0,2,   2375.1,2,   7.3006,2,    25.00,      433
  49UP20170623,RF1707,  6044,  1,     23,  25832,2,20170702,0234, 48.0248, 161.6862, 5648,    940.2,   2.7155,  34.3997,2,  34.3985,2,     16.7,2,   152.42,2,    44.29,2,     0.00,2,     3.12,2,    0.153,6,    0.069,6,   2390.0,2,   2382.3,2,   7.3083,2,    25.00,      430
  49UP20170623,RF1707,  6044,  1,     22,  25831,3,20170702,0234, 48.0248, 161.6862, 5648,   1082.6,   2.5152,  34.4441,2,  34.4443,2,     21.4,2,   159.06,2,    44.04,2,     0.00,2,     3.10,2,    0.110,2,    0.050,2,   2394.2,2,   2389.4,2,   7.3174,2,    25.00,      425
  49UP20170623,RF1707,  6044,  1,     21,  25830,2,20170702,0234, 48.0248, 161.6862, 5648,   1287.0,   2.2898,  34.4943,2,  34.4948,6,     30.2,2,   165.88,2,    43.50,2,     0.00,2,     3.06,2,    0.058,2,    0.021,2,   2394.8,2,   2399.5,2,   7.3370,2,    25.00,      420
  49UP20170623,RF1707,  6044,  1,     20,  25829,2,20170702,0234, 48.0248, 161.6862, 5648,   1490.2,   2.1205,  34.5348,2,  34.5343,2,     43.5,2,   168.30,2,    42.67,2,     0.00,2,     3.01,2,    0.042,2,    0.014,2,   2389.9,2,   2405.6,2,   7.3718,2,    25.00,      415
  49UP20170623,RF1707,  6044,  1,     19,  25828,3,20170702,0234, 48.0248, 161.6862, 5648,   1692.7,   1.9973,  34.5666,2,  34.5659,2,     56.8,2,   168.50,2,    41.97,2,     0.00,2,     2.95,2,    0.019,2,    0.003,2,   2385.8,2,   2410.7,2,   7.4012,2,    25.00,      410
  49UP20170623,RF1707,  6044,  1,     18,  25827,2,20170702,0234, 48.0248, 161.6862, 5648,   1896.3,   1.8824,  34.5907,2,  34.5904,2,     65.0,6,   170.97,6,    41.49,6,     0.00,6,     2.91,6,    0.003,2,    0.000,2,   2384.9,2,   2416.0,2,   7.4171,2,    25.00,      405
  49UP20170623,RF1707,  6044,  1,     17,  25826,2,20170702,0234, 48.0248, 161.6862, 5648,   2099.8,   1.7786,  34.6130,2,  34.6130,2,     79.2,2,   170.01,2,    40.61,2,     0.00,2,     2.85,2,    0.001,2,    0.000,2,   2373.1,2,   2417.4,2,   7.4480,2,    25.00,      400
  49UP20170623,RF1707,  6044,  1,     16,  25825,2,20170702,0234, 48.0248, 161.6862, 5648,   2304.1,   1.7009,  34.6293,2,  34.6290,2,     92.4,2,   167.83,2,    39.81,2,     0.00,2,     2.79,2,    0.000,2,    0.000,2,   2366.8,2,   2415.5,2,   7.4676,2,    25.00,      355
  49UP20170623,RF1707,  6044,  1,     15,  25824,2,20170702,0234, 48.0248, 161.6862, 5648,   2507.5,   1.6511,  34.6423,2,  34.6424,2,    106.5,2,   161.58,2,    38.96,2,     0.00,2,     2.72,2,    0.000,2,    0.000,2,   2355.5,2,   2418.7,2,   7.5001,2,    25.00,      350
  49UP20170623,RF1707,  6044,  1,     14,  25823,2,20170702,0234, 48.0248, 161.6862, 5648,   2711.7,   1.5923,  34.6516,2,  34.6513,2,    113.6,2,   162.03,2,    38.52,2,     0.00,2,     2.69,2,    0.000,2,    0.000,2,   2353.2,2,   2418.1,2,   7.5130,2,    25.00,      345
  49UP20170623,RF1707,  6044,  1,     13,  25822,2,20170702,0234, 48.0248, 161.6862, 5648,   2915.8,   1.5568,  34.6591,2,  34.6597,6,    121.8,2,   159.92,2,    38.03,2,     0.00,2,     2.64,2,    0.003,6,    0.000,6,   2349.7,2,   2418.8,2,   7.5276,2,    25.00,      340
  49UP20170623,RF1707,  6044,  1,     12,  25821,2,20170702,0234, 48.0248, 161.6862, 5648,   3130.8,   1.5228,  34.6659,2,  34.6662,2,    129.8,2,   157.56,2,    37.53,2,     0.00,2,     2.61,2, -999.000,9, -999.000,9,   2342.3,6,   2418.6,6,   7.5401,2,    25.00,      335
  49UP20170623,RF1707,  6044,  1,     11,  25820,2,20170702,0234, 48.0248, 161.6862, 5648,   3387.9,   1.4994,  34.6715,2,  34.6706,2,    135.6,2,   155.50,2,    37.08,2,     0.00,2,     2.57,2, -999.000,9, -999.000,9,   2340.2,2,   2418.6,2,   7.5505,6,    25.00,      330
  49UP20170623,RF1707,  6044,  1,     10,  25819,2,20170702,0234, 48.0248, 161.6862, 5648,   3642.8,   1.4809,  34.6766,2,  34.6776,2,    142.9,2,   153.33,2,    36.71,2,     0.00,2,     2.54,2, -999.000,9, -999.000,9,   2337.6,2,   2418.0,2,   7.5624,2,    25.00,      324
  49UP20170623,RF1707,  6044,  1,      9,  25818,2,20170702,0234, 48.0248, 161.6862, 5648,   3899.3,   1.4771,  34.6799,2,  34.6801,2,    146.9,2,   151.62,6,    36.43,6,     0.00,6,     2.52,6,    0.000,2,    0.000,2,   2332.9,2,   2418.5,2,   7.5680,2,    25.00,      318
  49UP20170623,RF1707,  6044,  1,      8,  25817,2,20170702,0234, 48.0248, 161.6862, 5648,   4156.6,   1.4743,  34.6831,2,  34.6835,6,    150.6,2,   150.73,2,    36.13,2,     0.00,2,     2.49,2, -999.000,9, -999.000,9,   2331.1,2,   2417.9,2,   7.5763,2,    25.00,      312
  49UP20170623,RF1707,  6044,  1,      7,  25816,2,20170702,0234, 48.0248, 161.6862, 5648,   4413.4,   1.4819,  34.6854,2,  34.6851,2,    154.1,2,   149.76,2,    35.94,2,     0.00,2,     2.48,2, -999.000,9, -999.000,9,   2325.2,2,   2417.7,2,   7.5820,2,    25.00,      306
  49UP20170623,RF1707,  6044,  1,      6,  25815,2,20170702,0234, 48.0248, 161.6862, 5648,   4669.6,   1.4951,  34.6871,2,  34.6871,2,    155.5,2,   149.72,2,    35.79,2,     0.00,2,     2.47,2, -999.000,9, -999.000,9,   2325.2,2,   2417.3,2,   7.5872,2,    25.00,      300
  49UP20170623,RF1707,  6044,  1,      5,  25814,2,20170702,0234, 48.0248, 161.6862, 5648,   4927.2,   1.5146,  34.6885,2,  34.6887,2,    157.0,2,   149.65,2,    35.69,2,     0.00,2,     2.46,2,    0.001,2,    0.001,2,   2323.1,2,   2415.5,2,   7.5864,2,    25.00,      255
  49UP20170623,RF1707,  6044,  1,      4,  25813,2,20170702,0234, 48.0248, 161.6862, 5648,   5184.2,   1.5390,  34.6891,2,  34.6901,2,    158.2,2,   149.03,2,    35.59,2,     0.00,2,     2.46,2, -999.000,9, -999.000,9,   2324.8,2,   2415.1,2,   7.5928,2,    25.00,      249
  49UP20170623,RF1707,  6044,  1,      3,  25812,2,20170702,0234, 48.0248, 161.6862, 5648,   5442.7,   1.5677,  34.6897,2,  34.6899,6,    159.2,2,   148.99,2,    35.52,2,     0.00,2,     2.45,2, -999.000,9, -999.000,9,   2324.8,2,   2415.4,2,   7.5887,2,    25.00,      243
  49UP20170623,RF1707,  6044,  1,      2,  25811,2,20170702,0234, 48.0248, 161.6862, 5648,   5701.8,   1.5983,  34.6901,2,  34.6913,2,    159.6,2,   148.55,2,    35.46,2,     0.00,2,     2.45,2, -999.000,9, -999.000,9,   2325.1,2,   2416.2,2,   7.5924,2,    25.00,      237
  49UP20170623,RF1707,  6044,  1,      1,  25810,2,20170702,0234, 48.0248, 161.6862, 5648,   5780.7,   1.6071,  34.6902,2,  34.6906,2,    159.8,2,   147.90,2,    35.46,2,     0.00,2,     2.45,2,    0.002,6,    0.001,6,   2321.8,2,   2414.5,2,   7.5946,2,    25.00,      234