BOTTLE,20200309PRINUNIVRMK
# 08/30/2019 Initialized README file  
# Data source:  Masao Ishii 2018/11/30 
# SHIP: R/V Ryofu Maru III 
# Cruise: RF17.07 
# Region: North Pacific Ocean 
# EXPOCODE: 49UP20170623 
# DATES: 20170623-20170827 
# Chief Scientist: Naoki Nagai 
# 46 stations with 36 place Rosette 
# CTD: Who - Kazuhiro Nemoto; Status - final 
# 	Includes: CTDSAL 
# SALNTY: Who - Kazuhiro Nemoto; Status - final 
# 	Notes: 	 
# Nutrients: Who - Kazuhiro Nemoto; Status - final 
# 	Includes: nitrate, nitrite, silicate, phosphate 
# 	Nitrite and NO3+NO2 reported. Separated by subtraction 
# OXYGEN: Who - Kazuhiro Nemoto; Status - final 
# 	Notes: 
# TCARBN: Who - Kazuhiro Nemoto; Status - final 
# 	Notes:  
# ALKALI: Who - Kazuhiro Nemoto; Status - final 
# 	Notes:  
# PH: Who - Kazuhiro Nemoto; Status - final 
# 	Notes:  
# CFC: Who - Kazuhiro Nemoto; Status - final 
# 	Notes:  
# These data should be cited as:               
# References that have used data from this cruise: 
EXPOCODE,SECT_ID,STNNBR,CASTNO,SAMPNO,BTLNBR,BTLNBR_FLAG_W,DATE,TIME,LATITUDE,LONGITUDE,DEPTH,CTDPRS,CTDTMP,CTDSAL,CTDSAL_FLAG_W,SALNTY,SALNTY_FLAG_W,OXYGEN,OXYGEN_FLAG_W,SILCAT,SILCAT_FLAG_W,NITRAT,NITRAT_FLAG_W,NITRIT,NITRIT_FLAG_W,PHSPHT,PHSPHT_FLAG_W,CFC-11,CFC-11_FLAG_W,CFC-12,CFC-12_FLAG_W,TCARBN,TCARBN_FLAG_W,ALKALI,ALKALI_FLAG_W,PH_TOT,PH_TOT_FLAG_W,PH_TMP,BTL_TIME
,,,,,,,,,,,METERS,DBAR,ITS-90,PSS-78,,PSS-78,,UMOL/KG,,UMOL/KG,,UMOL/KG,,UMOL/KG,,UMOL/KG,,PMOL/KG,,PMOL/KG,,UMOL/KG,,UMOL/KG,,,,DEG C,
  49UP20170623,RF1707,  6029,  1,     99,     99,2,20170625,0346, 42.8378, 145.5973, 1415,      0.0,   7.9276,  32.8303,2,-999.0000,9,    325.9,2,     3.06,2,     7.30,2,     0.15,2,     0.71,2, -999.000,9, -999.000,9,   -999.0,9,   -999.0,9,-999.0000,9,  -999.00,      415
  49UP20170623,RF1707,  6029,  1,     36,  25845,3,20170625,0346, 42.8378, 145.5973, 1415,     10.4,   7.7775,  32.8320,2,  32.8555,4,    327.1,2,     2.92,2,     7.04,2,     0.15,2,     0.71,2, -999.000,9, -999.000,9,   -999.0,9,   -999.0,9,-999.0000,9,  -999.00,      441
  49UP20170623,RF1707,  6029,  1,     35,  25844,2,20170625,0346, 42.8378, 145.5973, 1415,     25.8,   6.1772,  32.8499,2,  32.8626,4,    346.2,2,     4.76,2,     8.17,2,     0.17,2,     0.82,2, -999.000,9, -999.000,9,   -999.0,9,   -999.0,9,-999.0000,9,  -999.00,      439
  49UP20170623,RF1707,  6029,  1,     34,  25843,2,20170625,0346, 42.8378, 145.5973, 1415,     50.6,   1.6281,  32.9619,2,  32.9659,2,    313.0,2,    35.80,2,    21.18,2,     0.23,2,     1.82,2, -999.000,9, -999.000,9,   -999.0,9,   -999.0,9,-999.0000,9,  -999.00,      436
  49UP20170623,RF1707,  6029,  1,     30,  25839,2,20170625,0346, 42.8378, 145.5973, 1415,     75.6,   1.1607,  33.1078,2,  33.1061,2,    269.1,2,    49.07,2,    25.86,2,     0.14,2,     2.11,2, -999.000,9, -999.000,9,   -999.0,9,   -999.0,9,-999.0000,9,  -999.00,      434
  49UP20170623,RF1707,  6029,  1,     29,  25838,3,20170625,0346, 42.8378, 145.5973, 1415,    101.1,   1.1660,  33.1436,2,  33.1435,2,    265.8,2,    51.34,2,    26.90,2,     0.09,2,     2.13,2, -999.000,9, -999.000,9,   -999.0,9,   -999.0,9,-999.0000,9,  -999.00,      433
  49UP20170623,RF1707,  6029,  1,     28,  25837,3,20170625,0346, 42.8378, 145.5973, 1415,    126.0,   1.3804,  33.2220,2,  33.2232,2,    242.2,2,    57.04,2,    28.50,2,     0.11,2,     2.25,2, -999.000,9, -999.000,9,   -999.0,9,   -999.0,9,-999.0000,9,  -999.00,      431
  49UP20170623,RF1707,  6029,  1,     27,  25836,3,20170625,0346, 42.8378, 145.5973, 1415,    151.7,   1.5956,  33.2734,2,  33.2722,2,    231.3,2,    60.51,2,    29.41,2,     0.12,2,     2.30,2, -999.000,9, -999.000,9,   -999.0,9,   -999.0,9,-999.0000,9,  -999.00,      430
  49UP20170623,RF1707,  6029,  1,     26,  25835,2,20170625,0346, 42.8378, 145.5973, 1415,    202.1,   1.7313,  33.3480,2,  33.3493,6,    206.4,6,    66.08,6,    31.05,6,     0.12,6,     2.40,6, -999.000,9, -999.000,9,   -999.0,9,   -999.0,9,-999.0000,9,  -999.00,      428
  49UP20170623,RF1707,  6029,  1,     20,  25829,3,20170625,0346, 42.8378, 145.5973, 1415,    252.4,   1.8627,  33.4034,2,  33.4034,2,    188.5,2,    69.99,2,    32.33,2,     0.12,2,     2.49,2, -999.000,9, -999.000,9,   -999.0,9,   -999.0,9,-999.0000,9,  -999.00,      426
  49UP20170623,RF1707,  6029,  1,     21,  25830,2,20170625,0346, 42.8378, 145.5973, 1415,    253.3,   1.8620,  33.4032,2,  33.4031,2,    189.0,2,    70.04,2,    32.33,2,     0.12,2,     2.49,2, -999.000,9, -999.000,9,   -999.0,9,   -999.0,9,-999.0000,9,  -999.00,      426
  49UP20170623,RF1707,  6029,  1,     19,  25828,2,20170625,0346, 42.8378, 145.5973, 1415,    332.6,   2.2057,  33.5315,2,  33.5315,2,    154.3,2,    78.28,2,    34.86,2,     0.03,2,     2.62,2, -999.000,9, -999.000,9,   -999.0,9,   -999.0,9,-999.0000,9,  -999.00,      423
  49UP20170623,RF1707,  6029,  1,     18,  25827,2,20170625,0346, 42.8378, 145.5973, 1415,    434.5,   2.7422,  33.7257,2,  33.7259,2,    100.4,2,    92.82,2,    38.88,2,     0.01,2,     2.84,2, -999.000,9, -999.000,9,   -999.0,9,   -999.0,9,-999.0000,9,  -999.00,      420
  49UP20170623,RF1707,  6029,  1,     17,  25826,3,20170625,0346, 42.8378, 145.5973, 1415,    536.1,   3.2307,  33.9011,2,  33.8985,2,     53.7,2,   104.01,2,    42.31,2,     0.01,2,     3.03,2, -999.000,9, -999.000,9,   -999.0,9,   -999.0,9,-999.0000,9,  -999.00,      417
  49UP20170623,RF1707,  6029,  1,     16,  25825,2,20170625,0346, 42.8378, 145.5973, 1415,    636.8,   3.3164,  34.0440,2,  34.0440,2,     33.6,2,   115.33,2,    43.43,2,     0.00,2,     3.10,2, -999.000,9, -999.000,9,   -999.0,9,   -999.0,9,-999.0000,9,  -999.00,      414
  49UP20170623,RF1707,  6029,  1,     12,  25821,2,20170625,0346, 42.8378, 145.5973, 1415,    738.6,   3.2597,  34.1864,2,  34.1834,2,     20.3,2,   127.95,2,    43.98,2,     0.00,2,     3.13,2, -999.000,9, -999.000,9,   -999.0,9,   -999.0,9,-999.0000,9,  -999.00,      411
  49UP20170623,RF1707,  6029,  1,     11,  25820,2,20170625,0346, 42.8378, 145.5973, 1415,    839.6,   3.1015,  34.2579,2,  34.2559,2,     20.9,2,   135.86,2,    43.86,2,     0.00,2,     3.12,2, -999.000,9, -999.000,9,   -999.0,9,   -999.0,9,-999.0000,9,  -999.00,      408
  49UP20170623,RF1707,  6029,  1,     10,  25819,2,20170625,0346, 42.8378, 145.5973, 1415,    939.8,   2.9581,  34.3162,2,  34.3162,2,     26.6,2,   141.18,2,    43.40,2,     0.01,2,     3.10,2, -999.000,9, -999.000,9,   -999.0,9,   -999.0,9,-999.0000,9,  -999.00,      405
  49UP20170623,RF1707,  6029,  1,      9,  25818,3,20170625,0346, 42.8378, 145.5973, 1415,   1081.4,   2.7749,  34.3935,2,  34.3932,6,     32.8,2,   147.20,2,    43.00,2,     0.00,2,     3.07,2, -999.000,9, -999.000,9,   -999.0,9,   -999.0,9,-999.0000,9,  -999.00,      359
  49UP20170623,RF1707,  6029,  1,      8,  25817,2,20170625,0346, 42.8378, 145.5973, 1415,   1283.5,   2.5289,  34.4522,2,  34.4517,2,     37.5,2,   154.63,2,    42.84,2,     0.01,2,     3.06,2, -999.000,9, -999.000,9,   -999.0,9,   -999.0,9,-999.0000,9,  -999.00,      349
  49UP20170623,RF1707,  6029,  1,      7,  25816,2,20170625,0346, 42.8378, 145.5973, 1415,   1404.0,   2.3758,  34.4810,2,  34.4802,2,     41.4,6,   159.34,6,    42.57,6,     0.02,6,     3.05,6, -999.000,9, -999.000,9,   -999.0,9,   -999.0,9,-999.0000,9,  -999.00,      346
  49UP20170623,RF1707,  6030,  1,     99,     99,2,20170625,0856, 42.4945, 145.8470, 3184,      0.0,  10.1690,  32.8558,2,  32.8560,2,    298.4,2,     4.32,2,     6.16,2,     0.11,2,     0.79,2, -999.000,9, -999.000,9,   2038.3,2,   2238.8,2,   7.9118,2,    25.00,      955
  49UP20170623,RF1707,  6030,  1,     36,  25845,2,20170625,0856, 42.4945, 145.8470, 3184,     10.2,  10.1544,  32.8494,2,  32.8575,4,   -999.0,5,     4.23,2,     5.87,2,     0.11,2,     0.76,2,    3.941,6,    2.279,6,   2029.0,2,   2239.1,2,   7.9160,2,    25.00,     1019
  49UP20170623,RF1707,  6030,  1,     35,  25844,2,20170625,0856, 42.4945, 145.8470, 3184,     25.5,   6.4002,  32.9317,2,  33.0032,4,    322.7,2,    13.72,2,    12.22,2,     0.19,2,     1.26,2, -999.000,9, -999.000,9,   2093.8,2,   2243.0,2,   7.7903,2,    25.00,     1018
  49UP20170623,RF1707,  6030,  1,     34,  25843,2,20170625,0856, 42.4945, 145.8470, 3184,     50.5,   3.6558,  33.2307,2,  33.2096,4,    309.9,2,    27.47,2,    18.37,2,     0.17,2,     1.58,2,    5.081,2,    2.858,2,   2126.9,2,   2244.7,2,   7.6816,2,    25.00,     1015
  49UP20170623,RF1707,  6030,  1,     33,  25842,3,20170625,0856, 42.4945, 145.8470, 3184,     75.4,   3.5973,  33.2926,2,  33.2907,2,    300.8,2,    31.55,2,    20.10,2,     0.02,2,     1.59,2, -999.000,9, -999.000,9,   2133.4,2,   2244.2,2,   7.6705,2,    25.00,     1014
  49UP20170623,RF1707,  6030,  1,     32,  25841,3,20170625,0856, 42.4945, 145.8470, 3184,    101.9,   2.8662,  33.2759,2,  33.2771,6,    292.7,2,    38.29,2,    22.31,2,     0.02,2,     1.75,2,    4.934,2,    2.769,2,   2150.1,2,   2246.0,2,   7.6329,2,    25.00,     1013
  49UP20170623,RF1707,  6030,  1,     31,  25840,3,20170625,0856, 42.4945, 145.8470, 3184,    126.4,   2.5722,  33.3014,2,  33.3022,2,    277.0,2,    43.73,2,    24.18,2,     0.02,2,     1.88,2, -999.000,9, -999.000,9,   2164.5,2,   2248.7,2,   7.5953,2,    25.00,     1012
  49UP20170623,RF1707,  6030,  1,     30,  25839,3,20170625,0856, 42.4945, 145.8470, 3184,    152.0,   2.4599,  33.3528,2,  33.3558,2,    245.1,6,    52.02,6,    27.10,6,     0.02,6,     2.08,6,    4.520,2,    2.499,2,   2192.5,2,   2253.9,2,   7.5371,2,    25.00,     1011
  49UP20170623,RF1707,  6030,  1,     29,  25838,2,20170625,0856, 42.4945, 145.8470, 3184,    202.1,   2.8474,  33.5628,2,  33.5551,2,    156.4,2,    73.47,2,    34.59,2,     0.02,2,     2.56,2,    6.440,4,   10.806,4,   2256.6,6,   2273.9,6,   7.4061,2,    25.00,     1009
  49UP20170623,RF1707,  6030,  1,     28,  25837,2,20170625,0856, 42.4945, 145.8470, 3184,    252.6,   3.0651,  33.6998,2,  33.7154,4,    103.8,2,    85.93,2,    38.54,2,     0.03,2,     2.80,2,    2.918,2,    1.602,2,   2292.6,2,   2289.1,2,   7.3349,6,    25.00,     1008
  49UP20170623,RF1707,  6030,  1,     27,  25836,2,20170625,0856, 42.4945, 145.8470, 3184,    282.3,   3.2728,  33.7885,2,  33.7922,2,     68.9,2,    94.17,2,    41.70,2,     0.02,2,     2.99,2,    2.526,2,    1.304,2,   2310.9,2,   2295.1,2,   7.2825,2,    25.00,     1006
  49UP20170623,RF1707,  6030,  1,     26,  25835,3,20170625,0856, 42.4945, 145.8470, 3184,    372.9,   3.3849,  33.9537,2,  33.9538,2,     47.1,2,   104.82,2,    42.54,2,     0.01,2,     3.05,2,    1.920,2,    0.953,2,   2333.6,2,   2312.4,2,   7.2775,2,    25.00,     1004
  49UP20170623,RF1707,  6030,  1,     25,  25834,2,20170625,0856, 42.4945, 145.8470, 3184,    474.5,   3.5101,  34.0981,2,  34.0989,2,     38.1,2,   114.06,2,    42.45,2,     0.01,2,     3.04,2,    1.320,2,    0.642,2,   2340.5,2,   2330.0,2,   7.2970,2,    25.00,     1002
  49UP20170623,RF1707,  6030,  1,     24,  25833,3,20170625,0856, 42.4945, 145.8470, 3184,    575.3,   3.3499,  34.1929,2,  34.1893,2,     33.7,6,   124.28,6,    42.95,6,     0.00,6,     3.07,6,    0.921,2,    0.446,2,   2354.5,2,   2345.1,2,   7.2979,2,    25.00,      959
  49UP20170623,RF1707,  6030,  1,     23,  25832,2,20170625,0856, 42.4945, 145.8470, 3184,    675.9,   3.1869,  34.2628,2,  34.2610,2,     31.4,2,   131.84,2,    43.01,2,     0.00,2,     3.09,2, -999.000,9, -999.000,9,   2371.4,3,   2355.9,2,   7.3084,2,    25.00,      956
  49UP20170623,RF1707,  6030,  1,     22,  25831,3,20170625,0856, 42.4945, 145.8470, 3184,    675.9,   3.1854,  34.2643,2,  34.2616,2,     34.0,3,   132.04,2,    43.03,2,     0.00,2,     3.08,2,    0.700,2,    0.356,2,   2362.5,2,   2354.1,2,   7.3049,2,    25.00,      956
  49UP20170623,RF1707,  6030,  1,     21,  25830,3,20170625,0856, 42.4945, 145.8470, 3184,    777.0,   3.0009,  34.3066,2,  34.3054,2,     29.5,2,   138.76,2,    43.24,2,     0.00,2,     3.09,2,    0.492,6,    0.249,6,   2371.6,6,   2363.7,6,   7.3132,2,    25.00,      954
  49UP20170623,RF1707,  6030,  1,     20,  25829,2,20170625,0856, 42.4945, 145.8470, 3184,    878.4,   2.8276,  34.3583,2,  34.3578,6,     29.1,2,   144.76,2,    43.21,2,     0.00,2,     3.09,2,    0.354,2,    0.180,2,   2374.3,2,   2372.5,2,   7.3209,6,    25.00,      951
  49UP20170623,RF1707,  6030,  1,     19,  25828,2,20170625,0856, 42.4945, 145.8470, 3184,    979.6,   2.7543,  34.4102,2,  34.4098,2,     34.9,2,   146.77,2,    42.86,2,     0.00,2,     3.06,2, -999.000,9, -999.000,9,   2375.3,2,   2381.0,2,   7.3401,2,    25.00,      949
  49UP20170623,RF1707,  6030,  1,     18,  25827,2,20170625,0856, 42.4945, 145.8470, 3184,    979.9,   2.7494,  34.4105,2,  34.4091,2,     35.6,2,   146.72,2,    42.84,2,     0.00,2,     3.06,2,    0.228,2,    0.117,2,   2374.1,2,   2379.9,2,   7.3432,2,    25.00,      949
  49UP20170623,RF1707,  6030,  1,     17,  25826,3,20170625,0856, 42.4945, 145.8470, 3184,   1141.4,   2.5269,  34.4512,2,  34.4492,2,     42.4,3,   153.64,2,    42.90,2,     0.00,2,     3.07,2,    0.163,2,    0.089,2,   2380.1,2,   2389.7,2,   7.3525,2,    25.00,      944
  49UP20170623,RF1707,  6030,  1,     16,  25825,2,20170625,0856, 42.4945, 145.8470, 3184,   1345.5,   2.3369,  34.4970,2,  34.4965,2,     45.2,2,   158.26,2,    42.61,2,     0.00,2,     3.04,2,    0.105,2,    0.050,2,   2384.6,2,   2396.1,2,   7.3704,2,    25.00,      939
  49UP20170623,RF1707,  6030,  1,     12,  25821,2,20170625,0856, 42.4945, 145.8470, 3184,   1547.6,   2.1807,  34.5375,2,  34.5360,2,     53.9,2,   161.20,2,    42.20,2,     0.00,2,     2.99,2,    0.062,2,    0.031,2,   2379.9,2,   2403.7,2,   7.3911,2,    25.00,      935
  49UP20170623,RF1707,  6030,  1,     11,  25820,2,20170625,0856, 42.4945, 145.8470, 3184,   1751.0,   2.0609,  34.5690,2,  34.5671,2,     67.2,3,   161.43,2,    41.60,2,     0.00,2,     2.94,2,    0.032,2,    0.020,2,   2381.2,2,   2408.1,2,   7.4164,2,    25.00,      929
  49UP20170623,RF1707,  6030,  1,     10,  25819,2,20170625,0856, 42.4945, 145.8470, 3184,   1954.0,   1.9327,  34.5940,2,  34.5918,2,     76.0,2,   162.31,2,    40.93,2,     0.00,2,     2.89,2,    0.017,2,    0.011,2,   2374.0,2,   2412.6,2,   7.4349,2,    25.00,      924
  49UP20170623,RF1707,  6030,  1,      9,  25818,3,20170625,0856, 42.4945, 145.8470, 3184,   2158.3,   1.8061,  34.6172,2,  34.6168,6,     89.5,2,   161.67,2,    40.13,2,     0.00,2,     2.82,2,    0.002,2,    0.004,2,   2368.9,2,   2416.1,2,   7.4633,2,    25.00,      919
  49UP20170623,RF1707,  6030,  1,      8,  25817,2,20170625,0856, 42.4945, 145.8470, 3184,   2362.6,   1.7323,  34.6308,2,  34.6307,2,     99.3,2,   160.46,2,    39.46,2,     0.00,2,     2.77,2,    0.012,2,    0.008,2,   2365.2,6,   2416.7,6,   7.4863,2,    25.00,      915
  49UP20170623,RF1707,  6030,  1,      7,  25816,3,20170625,0856, 42.4945, 145.8470, 3184,   2565.5,   1.6577,  34.6436,2,  34.6416,6,    110.6,3,   159.38,2,    38.87,2,     0.00,2,     2.72,2,    0.009,2,    0.009,2,   2353.8,2,   2417.4,2,   7.5033,6,    25.00,      910
  49UP20170623,RF1707,  6030,  1,      6,  25815,2,20170625,0856, 42.4945, 145.8470, 3184,   2768.8,   1.6018,  34.6535,2,  34.6522,2,    117.9,6,   157.68,6,    38.33,6,     0.00,6,     2.69,6,    0.005,2,    0.004,2,   2348.1,2,   2418.4,2,   7.5222,2,    25.00,      906
  49UP20170623,RF1707,  6030,  1,      5,  25814,3,20170625,0856, 42.4945, 145.8470, 3184,   2975.9,   1.5506,  34.6618,2,  34.6616,6,    126.0,2,   156.50,2,    37.82,2,     0.00,2,     2.68,3, -999.000,9, -999.000,9,   2344.3,2,   2419.0,2,   7.5339,2,    25.00,      902
  49UP20170623,RF1707,  6030,  1,      1,  25810,2,20170625,0856, 42.4945, 145.8470, 3184,   3184.2,   1.5176,  34.6678,2,  34.6661,2,    131.9,2,   156.16,2,    37.37,2,     0.00,2,     2.60,2,    0.002,6,    0.003,6,   2343.7,2,   2418.2,2,   7.5472,2,    25.00,      856
  49UP20170623,RF1707,  6030,  1,      2,  25811,2,20170625,0856, 42.4945, 145.8470, 3184,   3184.3,   1.5178,  34.6678,2,  34.6675,2,    131.9,2,   156.26,2,    37.37,2,     0.01,2,     2.61,2, -999.000,9, -999.000,9,   2341.6,2,   2419.2,2,   7.5442,2,    25.00,      856