BOTTLE,20200309PRINUNIVRMK
EXPOCODE,SECT_ID,STNNBR,CASTNO,SAMPNO,BTLNBR,BTLNBR_FLAG_W,DATE,TIME,LATITUDE,LONGITUDE,DEPTH,CTDPRS,CTDTMP,CTDSAL,CTDSAL_FLAG_W,SALNTY,SALNTY_FLAG_W,OXYGEN,OXYGEN_FLAG_W,SILCAT,SILCAT_FLAG_W,NITRAT,NITRAT_FLAG_W,NITRIT,NITRIT_FLAG_W,PHSPHT,PHSPHT_FLAG_W,CFC-11,CFC-11_FLAG_W,CFC-12,CFC-12_FLAG_W,TCARBN,TCARBN_FLAG_W,ALKALI,ALKALI_FLAG_W,PH_TOT,PH_TOT_FLAG_W,PH_TMP,BTL_TIME
,,,,,,,,,,,METERS,DBAR,ITS-90,PSS-78,,PSS-78,,UMOL/KG,,UMOL/KG,,UMOL/KG,,UMOL/KG,,UMOL/KG,,PMOL/KG,,PMOL/KG,,UMOL/KG,,UMOL/KG,,,,DEG C,
  49UP20170623,RF1707,  6063,  1,     99,     99,2,20170724,1609, 35.9722, 165.0325, 5542,      0.0,  24.4089,  34.6355,2,  34.6313,2,    214.6,2,     1.70,2,     0.02,2,     0.01,2,     0.09,2, -999.000,9, -999.000,9,   1981.9,2,   2279.2,2,   8.0610,2,    25.00,     1755
  49UP20170623,RF1707,  6063,  1,     36,  25845,2,20170724,1609, 35.9722, 165.0325, 5542,     12.5,  24.4099,  34.6353,2,  34.6324,2,    214.7,2,     1.73,2,     0.01,2,     0.00,2,     0.03,2,    1.924,4,    1.207,4,   1979.7,2,   2281.5,2,   8.0591,2,    25.00,     1832
  49UP20170623,RF1707,  6063,  1,     35,  25844,2,20170724,1609, 35.9722, 165.0325, 5542,     25.0,  24.3482,  34.6254,2,  34.6321,4,    217.2,6,     1.73,6,     0.01,6,     0.00,6,     0.03,6, -999.000,9, -999.000,9,   1982.4,2,   2281.4,2,   8.0533,2,    25.00,     1831
  49UP20170623,RF1707,  6063,  1,     34,  25843,2,20170724,1609, 35.9722, 165.0325, 5542,     52.7,  20.0275,  34.6250,2,  34.6060,4,    234.1,2,     1.73,2,     0.00,2,     0.00,2,     0.06,2, -999.000,5,    1.376,4,   1998.0,2,   2283.2,2,   8.0350,2,    25.00,     1830
  49UP20170623,RF1707,  6063,  1,     33,  25842,2,20170724,1609, 35.9722, 165.0325, 5542,     99.3,  17.1504,  34.7066,2,  34.7059,2,    202.2,2,     6.89,2,     5.86,2,     0.05,2,     0.41,2,    2.643,4,    1.585,4,   2051.2,6,   2286.5,6,   7.9413,2,    25.00,     1826
  49UP20170623,RF1707,  6063,  1,     32,  25841,2,20170724,1609, 35.9722, 165.0325, 5542,    125.8,  16.0516,  34.6533,2,  34.6539,2,    190.2,2,     9.84,2,     8.32,2,     0.02,2,     0.58,2, -999.000,9, -999.000,9,   2065.5,2,   2286.1,2,   7.9009,6,    25.00,     1824
  49UP20170623,RF1707,  6063,  1,     31,  25840,2,20170724,1609, 35.9722, 165.0325, 5542,    149.1,  15.4874,  34.6343,2,  34.6333,2,    208.9,2,     8.69,2,     7.50,2,     0.02,2,     0.52,2,    2.849,4,    1.873,4,   2061.5,2,   2283.6,2,   7.9104,2,    25.00,     1823
  49UP20170623,RF1707,  6063,  1,     30,  25839,2,20170724,1609, 35.9722, 165.0325, 5542,    202.7,  13.8203,  34.5050,2,  34.5043,2,    207.0,2,    12.87,2,    10.23,2,     0.01,2,     0.71,2,    3.043,4,    1.974,4,   2085.8,2,   2280.2,2,   7.8607,2,    25.00,     1821
  49UP20170623,RF1707,  6063,  1,     29,  25838,2,20170724,1609, 35.9722, 165.0325, 5542,    251.8,  12.6287,  34.4220,2,  34.4237,2,    204.4,2,    16.47,2,    12.22,2,     0.01,2,     0.85,2,    2.821,4,    1.888,4,   2095.8,2,   2279.7,2,   7.8338,2,    25.00,     1819
  49UP20170623,RF1707,  6063,  1,     28,  25837,2,20170724,1609, 35.9722, 165.0325, 5542,    332.9,  10.5300,  34.2011,2,  34.2005,2,    207.7,2,    20.79,2,    15.27,2,     0.00,2,     1.08,2,    2.992,4,    1.974,4,   2116.3,2,   2274.4,2,   7.7748,2,    25.00,     1817
  49UP20170623,RF1707,  6063,  1,     27,  25836,2,20170724,1609, 35.9722, 165.0325, 5542,    434.4,   8.1170,  33.9774,2,  33.9806,2,    224.2,2,    28.90,2,    17.97,2,     0.01,2,     1.32,2,    3.143,4,    1.883,4,   2137.4,2,   2272.3,2,   7.7242,2,    25.00,     1814
  49UP20170623,RF1707,  6063,  1,     26,  25835,2,20170724,1609, 35.9722, 165.0325, 5542,    534.7,   6.3687,  33.9637,2,  33.9650,2,    150.0,6,    54.12,6,    28.07,6,     0.00,6,     2.04,6,    2.994,4,    1.722,4,   2208.3,2,   2287.9,2,   7.5647,2,    25.00,     1811
  49UP20170623,RF1707,  6063,  1,     25,  25834,2,20170724,1609, 35.9722, 165.0325, 5542,    635.7,   5.1652,  34.0066,2,  34.0076,2,    108.6,2,    74.72,2,    34.00,2,     0.00,2,     2.46,2,    2.071,4,    1.070,4,   2258.0,2,   2303.1,2,   7.4649,2,    25.00,     1809
  49UP20170623,RF1707,  6063,  1,     24,  25833,2,20170724,1609, 35.9722, 165.0325, 5542,    736.7,   4.5285,  34.1227,2,  34.1220,2,     72.6,2,    93.79,2,    38.01,2,     0.00,2,     2.73,2,    1.365,4,    0.656,4,   2299.5,2,   2324.4,2,   7.4063,2,    25.00,     1806
  49UP20170623,RF1707,  6063,  1,     23,  25832,2,20170724,1609, 35.9722, 165.0325, 5542,    838.4,   4.0601,  34.1992,2,  34.1997,2,     52.6,2,   108.80,2,    40.30,2,     0.00,2,     2.88,2,    0.933,4,    0.473,4,   2331.3,2,   2339.4,2,   7.3696,2,    25.00,     1803
  49UP20170623,RF1707,  6063,  1,     22,  25831,2,20170724,1609, 35.9722, 165.0325, 5542,    938.7,   3.7752,  34.2704,2,  34.2710,2,     44.7,2,   117.69,2,    41.22,2,     0.00,2,     2.95,2,    0.569,4,    0.306,4,   2340.7,6,   2354.7,6,   7.3640,2,    25.00,     1800
  49UP20170623,RF1707,  6063,  1,     21,  25830,2,20170724,1609, 35.9722, 165.0325, 5542,   1081.3,   3.4001,  34.3524,2,  34.3533,6,     34.9,2,   128.56,2,    42.60,2,     0.00,2,     3.04,2,    0.199,4,    0.127,4,   2359.3,2,   2369.1,2,   7.3559,6,    25.00,     1756
  49UP20170623,RF1707,  6063,  1,     20,  25829,2,20170724,1609, 35.9722, 165.0325, 5542,   1283.2,   2.8698,  34.4264,2,  34.4266,2,     34.7,2,   144.35,2,    42.98,2,     0.00,2,     3.06,2,    0.122,4,    0.087,4,   2374.8,2,   2387.6,2,   7.3591,2,    25.00,     1751
  49UP20170623,RF1707,  6063,  1,     19,  25828,2,20170724,1609, 35.9722, 165.0325, 5542,   1486.4,   2.5758,  34.4778,2,  34.4782,2,     40.7,2,   151.79,2,    42.77,2,     0.00,2,     3.04,2,    0.070,4,    0.057,4,   2379.1,2,   2395.9,2,   7.3737,2,    25.00,     1747
  49UP20170623,RF1707,  6063,  1,     18,  25827,3,20170724,1609, 35.9722, 165.0325, 5542,   1688.9,   2.2733,  34.5252,2,  34.5232,2,     46.0,2,   159.52,2,    42.42,2,     0.00,2,     3.00,2,    0.042,4,    0.037,4,   2379.1,2,   2406.1,2,   7.3898,2,    25.00,     1742
  49UP20170623,RF1707,  6063,  1,     17,  25826,2,20170724,1609, 35.9722, 165.0325, 5542,   1892.6,   2.1204,  34.5568,2,  34.5570,2,     55.3,6,   163.22,6,    42.16,6,     0.00,6,     2.98,6,    0.017,4,    0.034,4,   2381.0,2,   2410.6,2,   7.4018,2,    25.00,     1737
  49UP20170623,RF1707,  6063,  1,     16,  25825,2,20170724,1609, 35.9722, 165.0325, 5542,   2095.8,   1.9639,  34.5873,2,  34.5869,2,     69.7,2,   163.80,2,    41.30,2,     0.00,2,     2.91,2,    0.007,4,    0.019,4,   2373.7,6,   2414.6,6,   7.4356,2,    25.00,     1732
  49UP20170623,RF1707,  6063,  1,     15,  25824,2,20170724,1609, 35.9722, 165.0325, 5542,   2300.9,   1.8358,  34.6113,2,  34.6079,4,     82.9,4,   163.11,2,    40.41,2,     0.00,2,     2.84,2,    0.008,4,    0.024,4,   2370.5,2,   2417.4,2,   7.4627,6,    25.00,     1726
  49UP20170623,RF1707,  6063,  1,     14,  25823,2,20170724,1609, 35.9722, 165.0325, 5542,   2503.9,   1.7382,  34.6290,2,  34.6295,2,     96.8,2,   162.46,2,    39.61,2,     0.00,2,     2.78,2,    0.002,4,    0.019,4,   2360.4,2,   2418.4,2,   7.4881,2,    25.00,     1721
  49UP20170623,RF1707,  6063,  1,     13,  25822,2,20170724,1609, 35.9722, 165.0325, 5542,   2707.8,   1.6557,  34.6442,2,  34.6444,2,    110.3,2,   160.05,2,    38.77,2,     0.00,2,     2.72,2,    0.000,4,    0.012,4,   2351.2,2,   2419.4,2,   7.5129,2,    25.00,     1716
  49UP20170623,RF1707,  6063,  1,     12,  25821,2,20170724,1609, 35.9722, 165.0325, 5542,   2912.8,   1.6017,  34.6531,2,  34.6531,6,    117.9,2,   158.65,2,    38.25,2,     0.00,2,     2.68,2,    0.000,4,    0.017,4,   2346.6,2,   2419.4,2,   7.5275,2,    25.00,     1710
  49UP20170623,RF1707,  6063,  1,     11,  25820,2,20170724,1609, 35.9722, 165.0325, 5542,   3125.7,   1.5660,  34.6606,2,  34.6580,4,    125.2,2,   156.81,2,    37.77,2,     0.00,2,     2.64,2, -999.000,9, -999.000,9,   2345.2,2,   2419.9,2,   7.5417,2,    25.00,     1705
  49UP20170623,RF1707,  6063,  1,     10,  25819,3,20170724,1609, 35.9722, 165.0325, 5542,   3383.7,   1.5303,  34.6671,2,  34.6673,2,    132.6,2,   155.24,2,    37.27,2,     0.00,2,     2.60,2, -999.000,9, -999.000,9,   2341.1,2,   2421.0,2,   7.5554,2,    25.00,     1658
  49UP20170623,RF1707,  6063,  1,      9,  25818,2,20170724,1609, 35.9722, 165.0325, 5542,   3637.6,   1.4995,  34.6732,2,  34.6733,6,    140.3,3,   155.02,2,    36.87,2,     0.00,2,     2.57,2, -999.000,9, -999.000,9,   2334.0,2,   2421.6,2,   7.5634,2,    25.00,     1652
  49UP20170623,RF1707,  6063,  1,      8,  25817,2,20170724,1609, 35.9722, 165.0325, 5542,   3895.0,   1.4826,  34.6780,2,  34.6787,2,    145.0,6,   152.66,6,    36.45,6,     0.00,6,     2.54,6,    0.005,4,    0.012,4,   2330.4,2,   2420.1,2,   7.5761,2,    25.00,     1647
  49UP20170623,RF1707,  6063,  1,      7,  25816,2,20170724,1609, 35.9722, 165.0325, 5542,   4150.9,   1.4816,  34.6814,2,  34.6820,2,    149.2,2,   151.69,2,    36.20,2,     0.00,2,     2.52,2, -999.000,9, -999.000,9,   2326.0,2,   2419.7,2,   7.5817,2,    25.00,     1641
  49UP20170623,RF1707,  6063,  1,      6,  25815,3,20170724,1609, 35.9722, 165.0325, 5542,   4407.7,   1.4832,  34.6844,2,  34.6845,2,    152.9,2,   150.75,2,    35.96,2,     0.00,2,     2.50,2, -999.000,9, -999.000,9,   2324.5,2,   2420.3,2,   7.5873,2,    25.00,     1635
  49UP20170623,RF1707,  6063,  1,      5,  25814,2,20170724,1609, 35.9722, 165.0325, 5542,   4663.1,   1.4942,  34.6866,2,  34.6864,2,    155.2,2,   150.63,2,    35.79,2,     0.00,2,     2.48,2, -999.000,9, -999.000,9,   2323.5,2,   2419.3,2,   7.5943,2,    25.00,     1630
  49UP20170623,RF1707,  6063,  1,      4,  25813,2,20170724,1609, 35.9722, 165.0325, 5542,   4922.6,   1.5137,  34.6880,2,  34.6884,2,    156.3,2,   150.31,2,    35.68,2,     0.00,2,     2.47,2,    0.005,4,    0.022,4,   2322.5,2,   2419.2,2,   7.5923,2,    25.00,     1624
  49UP20170623,RF1707,  6063,  1,      3,  25812,2,20170724,1609, 35.9722, 165.0325, 5542,   5179.4,   1.5255,  34.6897,2,  34.6883,2,    159.3,3,   146.83,2,    35.44,2,     0.00,2,     2.45,2, -999.000,9, -999.000,9,   2317.7,2,   2417.0,2,   7.5984,2,    25.00,     1619
  49UP20170623,RF1707,  6063,  1,      2,  25811,2,20170724,1609, 35.9722, 165.0325, 5542,   5438.0,   1.5300,  34.6921,2,  34.6922,6,    165.6,2,   141.81,2,    35.01,2,     0.00,2,     2.42,2, -999.000,9, -999.000,9,   2312.8,2,   2414.3,2,   7.6064,2,    25.00,     1614
  49UP20170623,RF1707,  6063,  1,      1,  25810,2,20170724,1609, 35.9722, 165.0325, 5542,   5642.2,   1.5227,  34.6949,2,  34.6952,2,    171.3,2,   136.51,2,    34.59,2,     0.00,2,     2.39,2,    0.001,4,    0.018,4,   2306.4,2,   2410.1,2,   7.6131,2,    25.00,     1609