BOTTLE,20200309PRINUNIVRMK
EXPOCODE,SECT_ID,STNNBR,CASTNO,SAMPNO,BTLNBR,BTLNBR_FLAG_W,DATE,TIME,LATITUDE,LONGITUDE,DEPTH,CTDPRS,CTDTMP,CTDSAL,CTDSAL_FLAG_W,SALNTY,SALNTY_FLAG_W,OXYGEN,OXYGEN_FLAG_W,SILCAT,SILCAT_FLAG_W,NITRAT,NITRAT_FLAG_W,NITRIT,NITRIT_FLAG_W,PHSPHT,PHSPHT_FLAG_W,CFC-11,CFC-11_FLAG_W,CFC-12,CFC-12_FLAG_W,TCARBN,TCARBN_FLAG_W,ALKALI,ALKALI_FLAG_W,PH_TOT,PH_TOT_FLAG_W,PH_TMP,BTL_TIME
,,,,,,,,,,,METERS,DBAR,ITS-90,PSS-78,,PSS-78,,UMOL/KG,,UMOL/KG,,UMOL/KG,,UMOL/KG,,UMOL/KG,,PMOL/KG,,PMOL/KG,,UMOL/KG,,UMOL/KG,,,,DEG C,
  49UP20170623,RF1707,  6074,  1,     99,     99,2,20170728,2200, 28.9827, 164.9973, 5807,      0.0,  26.4569,  34.7009,2,  34.6837,2,    204.7,2,     1.66,2,     0.02,2,     0.00,2,     0.04,4, -999.000,9, -999.000,9,   1971.4,2,   2277.5,2,   8.0607,2,    25.00,     2355
  49UP20170623,RF1707,  6074,  1,     36,  25845,2,20170728,2200, 28.9827, 164.9973, 5807,     10.1,  26.4725,  34.7063,2,  34.7022,4,    204.5,6,     1.66,6,     0.00,6,     0.00,6,     0.01,6,    1.659,2,    1.086,2,   1974.9,2,   2279.4,2,   8.0646,2,    25.00,       25
  49UP20170623,RF1707,  6074,  1,     35,  25844,2,20170728,2200, 28.9827, 164.9973, 5807,     51.2,  19.1121,  34.8080,2,  34.8079,2,    246.9,2,     2.03,2,     0.00,2,     0.00,2,     0.03,2,    2.309,6,    1.428,6,   1999.6,2,   2286.2,2,   8.0321,2,    25.00,       23
  49UP20170623,RF1707,  6074,  1,     34,  25843,3,20170728,2200, 28.9827, 164.9973, 5807,    101.1,  17.5382,  34.8135,2,  34.8114,2,    214.9,2,     3.57,2,     3.39,2,     0.04,2,     0.24,2,    2.320,2,    1.442,2,   2033.7,2,   2286.6,2,   7.9689,2,    25.00,       18
  49UP20170623,RF1707,  6074,  1,     33,  25842,2,20170728,2200, 28.9827, 164.9973, 5807,    150.2,  16.9499,  34.7950,2,  34.7928,2,    221.2,2,     3.94,2,     3.95,2,     0.01,2,     0.27,2,    2.359,2,    1.503,2,   2033.4,6,   2286.4,6,   7.9659,2,    25.00,       16
  49UP20170623,RF1707,  6074,  1,     32,  25841,2,20170728,2200, 28.9827, 164.9973, 5807,    204.0,  16.7733,  34.7976,2,  34.7963,2,    214.3,4,     4.26,2,     3.98,2,     0.01,2,     0.27,2,    2.360,2,    1.509,2,   2034.9,2,   2286.7,2,   7.9678,6,    25.00,       15
  49UP20170623,RF1707,  6074,  1,     31,  25840,2,20170728,2200, 28.9827, 164.9973, 5807,    252.9,  16.4826,  34.7541,2,  34.7528,2,    226.2,2,     4.33,2,     3.94,2,     0.01,2,     0.27,2,    2.412,2,    1.537,2,   2036.0,2,   2284.5,2,   7.9617,2,    25.00,       13
  49UP20170623,RF1707,  6074,  1,     30,  25839,2,20170728,2200, 28.9827, 164.9973, 5807,    303.9,  15.8465,  34.6659,2,  34.6653,2,    214.2,2,     6.26,2,     6.02,2,     0.01,2,     0.41,2,    2.474,2,    1.580,2,   2049.9,2,   2281.8,2,   7.9262,2,    25.00,       11
  49UP20170623,RF1707,  6074,  1,     29,  25838,2,20170728,2200, 28.9827, 164.9973, 5807,    404.7,  13.7536,  34.4785,2,  34.4784,2,    209.8,2,    11.68,2,     9.75,2,     0.00,2,     0.67,2,    2.672,2,    1.669,2,   2073.9,2,   2275.8,2,   7.8702,2,    25.00,        8
  49UP20170623,RF1707,  6074,  1,     28,  25837,2,20170728,2200, 28.9827, 164.9973, 5807,    507.6,  10.5584,  34.2108,2,  34.2137,2,    200.6,2,    21.87,2,    15.80,2,     0.00,2,     1.11,2,    2.951,2,    1.759,2,   2113.6,2,   2273.1,2,   7.7662,2,    25.00,        5
  49UP20170623,RF1707,  6074,  1,     27,  25836,2,20170728,2200, 28.9827, 164.9973, 5807,    605.9,   7.7307,  34.0267,2,  34.0271,2,    170.3,6,    40.91,6,    23.66,6,     0.00,6,     1.70,6,    2.880,2,    1.659,2,   2170.8,2,   2277.3,2,   7.6397,2,    25.00,        2
  49UP20170623,RF1707,  6074,  1,     26,  25835,2,20170728,2200, 28.9827, 164.9973, 5807,    706.5,   5.7344,  34.0052,2,  34.0055,2,    125.1,2,    65.40,2,    31.54,2,     0.00,2,     2.28,2,    2.367,6,    1.272,6,   2234.3,2,   2295.8,2,   7.5097,2,    25.00,     2359
  49UP20170623,RF1707,  6074,  1,     25,  25834,2,20170728,2200, 28.9827, 164.9973, 5807,    809.0,   4.6454,  34.1068,2,  34.1073,2,     75.2,2,    90.59,2,    37.59,2,     0.00,2,     2.71,2,    1.463,2,    0.746,2,   2292.3,2,   2320.9,2,   7.4099,2,    25.00,     2356
  49UP20170623,RF1707,  6074,  1,     24,  25833,2,20170728,2200, 28.9827, 164.9973, 5807,    909.5,   4.0426,  34.2192,2,  34.2177,2,     48.6,2,   109.06,2,    40.47,2,     0.00,2,     2.90,2, -999.000,5, -999.000,5,   2322.6,6,   2342.3,6,   7.3702,2,    25.00,     2353
  49UP20170623,RF1707,  6074,  1,     23,  25832,2,20170728,2200, 28.9827, 164.9973, 5807,   1008.8,   3.6118,  34.2899,2,  34.2894,6,     38.3,2,   121.75,2,    41.84,2,     0.00,2,     2.99,2,    0.440,2,    0.218,2,   2343.9,2,   2357.6,2,   7.3598,6,    25.00,     2350
  49UP20170623,RF1707,  6074,  1,     22,  25831,2,20170728,2200, 28.9827, 164.9973, 5807,   1212.5,   2.9932,  34.4048,2,  34.4050,2,     32.2,2,   140.52,2,    42.93,2,     0.00,2,     3.07,2,    0.137,2,    0.067,2,   2379.9,2,   2380.8,2,   7.3526,2,    25.00,     2345
  49UP20170623,RF1707,  6074,  1,     21,  25830,2,20170728,2200, 28.9827, 164.9973, 5807,   1416.3,   2.5824,  34.4795,2,  34.4785,2,     34.6,2,   152.20,2,    43.16,2,     0.00,2,     3.07,2,    0.046,2,    0.030,2,   2379.6,2,   2395.5,2,   7.3663,2,    25.00,     2340
  49UP20170623,RF1707,  6074,  1,     20,  25829,2,20170728,2200, 28.9827, 164.9973, 5807,   1618.1,   2.2553,  34.5422,2,  34.5423,2,     51.2,2,   158.78,2,    42.34,2,     0.00,2,     3.00,2,    0.009,2,    0.011,2,   2377.0,2,   2406.0,2,   7.4009,2,    25.00,     2335
  49UP20170623,RF1707,  6074,  1,     19,  25828,2,20170728,2200, 28.9827, 164.9973, 5807,   1818.5,   2.0630,  34.5812,2,  34.5803,2,     70.3,2,   158.92,2,    41.11,2,     0.00,2,     2.91,2,    0.000,2,    0.008,2,   2371.8,2,   2411.5,2,   7.4378,2,    25.00,     2331
  49UP20170623,RF1707,  6074,  1,     18,  25827,2,20170728,2200, 28.9827, 164.9973, 5807,   2024.1,   1.9114,  34.6086,2,  34.6076,2,     88.7,6,   157.05,6,    39.98,6,     0.00,6,     2.82,6,    0.003,2,    0.007,2,   2362.4,2,   2415.0,2,   7.4759,2,    25.00,     2326
  49UP20170623,RF1707,  6074,  1,     17,  25826,2,20170728,2200, 28.9827, 164.9973, 5807,   2227.6,   1.7810,  34.6282,2,  34.6267,2,    102.4,2,   156.24,2,    39.13,2,     0.00,2,     2.75,2,    0.001,2,    0.008,2,   2355.9,2,   2417.1,2,   7.5021,2,    25.00,     2322
  49UP20170623,RF1707,  6074,  1,     16,  25825,2,20170728,2200, 28.9827, 164.9973, 5807,   2432.1,   1.6909,  34.6418,2,  34.6412,2,    112.1,2,   155.35,2,    38.51,2,     0.00,2,     2.70,2,    0.002,2,    0.005,2,   2352.7,2,   2418.4,2,   7.5202,2,    25.00,     2317
  49UP20170623,RF1707,  6074,  1,     15,  25824,2,20170728,2200, 28.9827, 164.9973, 5807,   2633.9,   1.6252,  34.6519,2,  34.6489,4,    120.1,4,   154.30,2,    38.02,2,     0.00,2,     2.66,2,    0.000,2,    0.006,2,   2341.6,2,   2418.9,2,   7.5326,2,    25.00,     2312
  49UP20170623,RF1707,  6074,  1,     14,  25823,2,20170728,2200, 28.9827, 164.9973, 5807,   2838.1,   1.5846,  34.6589,2,  34.6585,2,    126.7,2,   153.51,2,    37.56,2,     0.00,2,     2.62,2,    0.000,2,    0.005,2,   2338.7,2,   2419.1,2,   7.5461,2,    25.00,     2308
  49UP20170623,RF1707,  6074,  1,     13,  25822,2,20170728,2200, 28.9827, 164.9973, 5807,   3039.6,   1.5517,  34.6645,2,  34.6650,2,    132.2,2,   152.36,2,    37.23,2,     0.00,2,     2.60,2, -999.000,9, -999.000,9,   2334.4,2,   2419.7,2,   7.5509,2,    25.00,     2303
  49UP20170623,RF1707,  6074,  1,     12,  25821,2,20170728,2200, 28.9827, 164.9973, 5807,   3296.2,   1.5167,  34.6705,2,  34.6666,4,    138.0,2,   151.08,2,    36.75,2,     0.00,2,     2.56,2, -999.000,9, -999.000,9,   2331.3,2,   2419.0,2,   7.5611,2,    25.00,     2258
  49UP20170623,RF1707,  6074,  1,     11,  25820,2,20170728,2200, 28.9827, 164.9973, 5807,   3549.9,   1.4942,  34.6752,2,  34.6750,2,    143.2,2,   150.13,2,    36.46,2,     0.00,2,     2.54,2, -999.000,9, -999.000,9,   2326.2,2,   2419.8,2,   7.5709,2,    25.00,     2253
  49UP20170623,RF1707,  6074,  1,     10,  25819,2,20170728,2200, 28.9827, 164.9973, 5807,   3809.6,   1.4787,  34.6791,2,  34.6771,4,    148.3,2,   148.49,2,    36.07,2,     0.00,2,     2.51,2,    0.002,2,    0.005,2,   2325.1,2,   2418.5,2,   7.5847,2,    25.00,     2248
  49UP20170623,RF1707,  6074,  1,      9,  25818,2,20170728,2200, 28.9827, 164.9973, 5807,   4066.5,   1.4707,  34.6824,2,  34.6828,2,    152.4,6,   147.00,6,    35.85,6,     0.00,6,     2.49,6, -999.000,9, -999.000,9,   2320.7,2,   2414.8,2,   7.5878,2,    25.00,     2243
  49UP20170623,RF1707,  6074,  1,      8,  25817,2,20170728,2200, 28.9827, 164.9973, 5807,   4321.8,   1.4684,  34.6853,2,  34.6835,2,    156.8,2,   145.34,2,    35.51,2,     0.00,2,     2.47,2, -999.000,9, -999.000,9,   2316.0,2,   2416.1,2,   7.5892,2,    25.00,     2237
  49UP20170623,RF1707,  6074,  1,      7,  25816,2,20170728,2200, 28.9827, 164.9973, 5807,   4578.6,   1.4725,  34.6877,2,  34.6863,6,    158.6,3,   143.85,2,    35.38,2,     0.00,2,     2.46,2, -999.000,9, -999.000,9,   2311.4,2,   2413.6,2,   7.5954,2,    25.00,     2231
  49UP20170623,RF1707,  6074,  1,      6,  25815,2,20170728,2200, 28.9827, 164.9973, 5807,   4837.9,   1.4822,  34.6896,2,  34.6894,2,    163.3,2,   141.70,2,    35.06,2,     0.00,2,     2.43,2,    0.002,2,    0.004,2,   2313.7,2,   2412.5,2,   7.6048,2,    25.00,     2226
  49UP20170623,RF1707,  6074,  1,      5,  25814,2,20170728,2200, 28.9827, 164.9973, 5807,   5093.9,   1.4951,  34.6915,2,  34.6900,2,    166.5,2,   139.45,2,    34.85,2,     0.00,2,     2.42,2, -999.000,9, -999.000,9,   2303.4,2,   2410.6,2,   7.6025,2,    25.00,     2220
  49UP20170623,RF1707,  6074,  1,      4,  25813,2,20170728,2200, 28.9827, 164.9973, 5807,   5352.1,   1.5108,  34.6932,2,  34.6936,6,    169.6,2,   136.94,2,    34.67,2,     0.00,2,     2.40,2, -999.000,9, -999.000,9,   2307.3,2,   2408.4,2,   7.6051,2,    25.00,     2214
  49UP20170623,RF1707,  6074,  1,      3,  25812,2,20170728,2200, 28.9827, 164.9973, 5807,   5610.1,   1.5323,  34.6943,2,  34.6927,2,    169.9,2,   136.65,2,    34.56,2,     0.00,2,     2.39,2, -999.000,9, -999.000,9,   2302.4,6,   2407.5,6,   7.6089,2,    25.00,     2208
  49UP20170623,RF1707,  6074,  1,      2,  25811,2,20170728,2200, 28.9827, 164.9973, 5807,   5869.3,   1.5483,  34.6954,2,  34.6955,2,    173.0,2,   134.76,2,    34.38,2,     0.00,2,     2.38,2, -999.000,9, -999.000,9,   2310.8,3,   2405.4,2,   7.6107,6,    25.00,     2203
  49UP20170623,RF1707,  6074,  1,      1,  25810,2,20170728,2200, 28.9827, 164.9973, 5807,   5948.5,   1.5530,  34.6957,2,  34.6957,6,    173.8,2,   134.11,2,    34.31,2,     0.00,2,     2.37,2,    0.001,6,    0.006,6,   2298.9,2,   2405.4,2,   7.6130,2,    25.00,     2200