BOTTLE,20200309PRINUNIVRMK
EXPOCODE,SECT_ID,STNNBR,CASTNO,SAMPNO,BTLNBR,BTLNBR_FLAG_W,DATE,TIME,LATITUDE,LONGITUDE,DEPTH,CTDPRS,CTDTMP,CTDSAL,CTDSAL_FLAG_W,SALNTY,SALNTY_FLAG_W,OXYGEN,OXYGEN_FLAG_W,SILCAT,SILCAT_FLAG_W,NITRAT,NITRAT_FLAG_W,NITRIT,NITRIT_FLAG_W,PHSPHT,PHSPHT_FLAG_W,CFC-11,CFC-11_FLAG_W,CFC-12,CFC-12_FLAG_W,TCARBN,TCARBN_FLAG_W,ALKALI,ALKALI_FLAG_W,PH_TOT,PH_TOT_FLAG_W,PH_TMP,BTL_TIME
,,,,,,,,,,,METERS,DBAR,ITS-90,PSS-78,,PSS-78,,UMOL/KG,,UMOL/KG,,UMOL/KG,,UMOL/KG,,UMOL/KG,,PMOL/KG,,PMOL/KG,,UMOL/KG,,UMOL/KG,,,,DEG C,
  49UP20170623,RF1707,  6043,  1,     99,     99,2,20170701,1419, 47.0980, 160.0960, 5194,      0.0,   6.9727,  32.8797,2,  32.8840,2,    350.4,2,     0.48,2,    10.13,2,     0.25,2,     0.86,2, -999.000,9, -999.000,9,   2029.0,2,   2239.2,2,   7.9152,2,    25.00,     1605
  49UP20170623,RF1707,  6043,  1,     36,  25845,2,20170701,1419, 47.0980, 160.0960, 5194,     12.4,   6.9680,  32.8818,2,  32.8856,2,    350.5,2,     0.69,2,    10.32,2,     0.25,2,     0.89,3,    4.586,2,    2.664,2,   2037.5,2,   2240.2,2,   7.9125,2,    25.00,     1638
  49UP20170623,RF1707,  6043,  1,     35,  25844,2,20170701,1419, 47.0980, 160.0960, 5194,     25.7,   5.2809,  32.9313,2,  32.9363,4,    337.0,2,    30.87,2,    17.94,2,     0.20,2,     1.63,2, -999.000,9, -999.000,9,   2085.8,2,   2237.1,2,   7.7633,2,    25.00,     1636
  49UP20170623,RF1707,  6043,  1,     34,  25843,2,20170701,1419, 47.0980, 160.0960, 5194,     51.3,   3.2492,  33.0083,2,  33.0101,2,    326.5,6,    44.04,6,    23.49,6,     0.29,6,     1.99,6,    5.340,2,    3.023,2,   2121.3,2,   2235.5,2,   7.6652,2,    25.00,     1635
  49UP20170623,RF1707,  6043,  1,     33,  25842,2,20170701,1419, 47.0980, 160.0960, 5194,     77.7,   2.0496,  32.9942,2,  32.9911,2,    324.6,2,    43.19,2,    24.06,2,     0.55,2,     1.97,2, -999.000,9, -999.000,9,   2133.6,2,   2233.0,2,   7.6338,2,    25.00,     1633
  49UP20170623,RF1707,  6043,  1,     32,  25841,2,20170701,1419, 47.0980, 160.0960, 5194,    101.4,   2.2313,  33.1007,2,  33.1012,2,    310.3,2,    49.43,2,    27.26,2,     0.31,2,     2.13,2,    5.314,2,    3.000,2,   2146.9,6,   2237.7,6,   7.6213,4,    25.00,     1628
  49UP20170623,RF1707,  6043,  1,     31,  25840,2,20170701,1419, 47.0980, 160.0960, 5194,    127.1,   2.9445,  33.4967,2,  33.4958,2,    146.6,2,    73.79,2,    37.27,2,     0.03,2,     2.71,2, -999.000,9, -999.000,9,   2253.4,2,   2266.2,2,   7.3755,6,    25.00,     1627
  49UP20170623,RF1707,  6043,  1,     30,  25839,2,20170701,1419, 47.0980, 160.0960, 5194,    152.8,   3.6917,  33.7941,2,  33.7901,2,     48.4,2,    91.27,2,    43.63,2,     0.01,2,     3.09,2,    2.547,2,    1.363,2,   2309.8,2,   2290.6,2,   7.2460,2,    25.00,     1625
  49UP20170623,RF1707,  6043,  1,     29,  25838,2,20170701,1419, 47.0980, 160.0960, 5194,    201.7,   3.7230,  33.9223,2,  33.9235,2,     20.8,2,   100.45,2,    45.24,2,     0.01,2,     3.19,2,    2.027,2,    1.040,2,   2333.1,2,   2308.3,2,   7.2201,2,    25.00,     1623
  49UP20170623,RF1707,  6043,  1,     28,  25837,2,20170701,1419, 47.0980, 160.0960, 5194,    253.1,   3.6131,  33.9927,2,  33.9927,2,     17.6,2,   107.30,2,    45.21,2,     0.00,2,     3.20,2,    1.698,2,    0.860,2,   2344.9,2,   2312.9,2,   7.2322,2,    25.00,     1621
  49UP20170623,RF1707,  6043,  1,     27,  25836,3,20170701,1419, 47.0980, 160.0960, 5194,    303.2,   3.5345,  34.0415,2,  34.0389,2,     20.9,2,   111.84,2,    44.44,2,     0.00,2,     3.16,2,    1.488,2,    0.755,2,   2348.2,2,   2320.4,2,   7.2441,2,    25.00,     1619
  49UP20170623,RF1707,  6043,  1,     26,  25835,2,20170701,1419, 47.0980, 160.0960, 5194,    405.0,   3.4557,  34.1504,2,  34.1496,2,     16.9,2,   122.17,2,    44.34,2,     0.00,2,     3.15,2,    0.961,2,    0.478,2,   2354.7,2,   2337.0,2,   7.2565,2,    25.00,     1616
  49UP20170623,RF1707,  6043,  1,     25,  25834,2,20170701,1419, 47.0980, 160.0960, 5194,    505.4,   3.3213,  34.2222,2,  34.2209,2,     12.9,6,   129.64,6,    44.33,6,     0.00,6,     3.15,6,    0.613,2,    0.319,2,   2361.2,2,   2349.9,2,   7.2695,2,    25.00,     1613
  49UP20170623,RF1707,  6043,  1,     24,  25833,2,20170701,1419, 47.0980, 160.0960, 5194,    607.1,   3.1514,  34.2786,2,  34.2774,2,     14.3,2,   136.91,2,    44.29,2,     0.00,2,     3.15,2,    0.435,6,    0.227,6,   2370.6,2,   2360.1,2,   7.2846,2,    25.00,     1610
  49UP20170623,RF1707,  6043,  1,     23,  25832,2,20170701,1419, 47.0980, 160.0960, 5194,    708.6,   3.0072,  34.3229,2,  34.3229,2,     13.9,2,   142.32,2,    44.23,2,     0.00,2,     3.15,2,    0.309,2,    0.164,2,   2376.2,6,   2367.1,6,   7.2927,2,    25.00,     1607
  49UP20170623,RF1707,  6043,  1,     22,  25831,2,20170701,1419, 47.0980, 160.0960, 5194,    809.8,   2.8617,  34.3608,2,  34.3603,2,     15.6,2,   147.68,2,    44.18,2,     0.00,2,     3.14,2,    0.218,2,    0.120,2,   2374.7,2,   2373.5,2,   7.2992,6,    25.00,     1604
  49UP20170623,RF1707,  6043,  1,     21,  25830,2,20170701,1419, 47.0980, 160.0960, 5194,    908.7,   2.7243,  34.3951,2,  34.3948,2,     17.0,2,   152.29,2,    44.11,2,     0.00,2,     3.14,2,    0.161,2,    0.085,2,   2388.2,2,   2379.9,2,   7.3028,2,    25.00,     1601
  49UP20170623,RF1707,  6043,  1,     20,  25829,2,20170701,1419, 47.0980, 160.0960, 5194,   1012.4,   2.5872,  34.4277,2,  34.4271,2,     18.8,2,   157.07,2,    43.98,2,     0.00,2,     3.13,2,    0.116,2,    0.070,2,   2382.0,2,   2385.2,2,   7.3101,2,    25.00,     1558
  49UP20170623,RF1707,  6043,  1,     19,  25828,2,20170701,1419, 47.0980, 160.0960, 5194,   1214.4,   2.3272,  34.4859,2,  34.4853,6,     28.4,2,   164.75,2,    43.46,2,     0.00,2,     3.09,2,    0.073,2,    0.045,2,   2385.5,2,   2395.2,2,   7.3326,2,    25.00,     1553
  49UP20170623,RF1707,  6043,  1,     18,  25827,2,20170701,1419, 47.0980, 160.0960, 5194,   1418.6,   2.1358,  34.5313,2,  34.5313,2,     40.8,2,   168.56,2,    42.74,2,     0.00,2,     3.03,2,    0.031,2,    0.023,2,   2385.1,2,   2402.4,2,   7.3654,2,    25.00,     1548
  49UP20170623,RF1707,  6043,  1,     17,  25826,2,20170701,1419, 47.0980, 160.0960, 5194,   1621.0,   1.9899,  34.5664,2,  34.5664,2,     54.9,2,   169.67,2,    41.91,2,     0.00,2,     2.97,2,    0.020,2,    0.026,2,   2395.0,2,   2409.1,2,   7.3914,2,    25.00,     1543
  49UP20170623,RF1707,  6043,  1,     16,  25825,2,20170701,1419, 47.0980, 160.0960, 5194,   1823.7,   1.8831,  34.5909,2,  34.5908,2,     66.9,6,   169.91,6,    41.22,6,     0.00,6,     2.92,6,    0.008,2,    0.018,2,   2376.2,2,   2411.5,2,   7.4169,2,    25.00,     1538
  49UP20170623,RF1707,  6043,  1,     15,  25824,2,20170701,1419, 47.0980, 160.0960, 5194,   2027.3,   1.7862,  34.6127,2,  34.6126,2,     81.5,2,   167.94,2,    40.35,2,     0.00,2,     2.85,2,    0.000,2,    0.011,2,   2367.9,2,   2415.8,2,   7.4506,2,    25.00,     1533
  49UP20170623,RF1707,  6043,  1,     14,  25823,2,20170701,1419, 47.0980, 160.0960, 5194,   2230.2,   1.7030,  34.6292,2,  34.6299,2,     93.7,2,   166.26,2,    39.61,2,     0.00,2,     2.80,2,    0.000,2,    0.006,2,   2364.6,2,   2418.1,2,   7.4715,2,    25.00,     1528
  49UP20170623,RF1707,  6043,  1,     13,  25822,2,20170701,1419, 47.0980, 160.0960, 5194,   2435.7,   1.6404,  34.6418,2,  34.6413,2,    104.9,2,   163.56,2,    38.91,2,     0.00,2,     2.74,2,    0.000,2,    0.007,2,   2357.0,2,   2417.3,2,   7.4920,2,    25.00,     1523
  49UP20170623,RF1707,  6043,  1,     12,  25821,2,20170701,1419, 47.0980, 160.0960, 5194,   2640.5,   1.5928,  34.6512,2,  34.6513,2,    114.2,2,   161.13,2,    38.35,2,     0.00,2,     2.70,2,    0.000,2,    0.005,2,   2350.5,2,   2417.6,2,   7.5126,2,    25.00,     1519
  49UP20170623,RF1707,  6043,  1,     11,  25820,2,20170701,1419, 47.0980, 160.0960, 5194,   2843.6,   1.5414,  34.6605,2,  34.6607,6,    123.8,2,   158.53,2,    37.75,2,     0.00,2,     2.64,2,    0.000,6,    0.004,6,   2343.5,2,   2417.7,2,   7.5280,2,    25.00,     1514
  49UP20170623,RF1707,  6043,  1,     10,  25819,2,20170701,1419, 47.0980, 160.0960, 5194,   3048.9,   1.5187,  34.6658,2,  34.6658,2,    130.1,2,   156.40,2,    37.39,2,     0.00,2,     2.62,2, -999.000,9, -999.000,9,   2341.5,2,   2417.3,2,   7.5380,2,    25.00,     1509
  49UP20170623,RF1707,  6043,  1,      9,  25818,2,20170701,1419, 47.0980, 160.0960, 5194,   3302.6,   1.4884,  34.6720,2,  34.6723,2,    137.1,2,   154.50,2,    36.94,2,     0.00,2,     2.58,2, -999.000,9, -999.000,9,   2341.2,2,   2418.1,2,   7.5527,2,    25.00,     1504
  49UP20170623,RF1707,  6043,  1,      8,  25817,2,20170701,1419, 47.0980, 160.0960, 5194,   3558.6,   1.4640,  34.6775,2,  34.6776,2,    143.0,2,   152.88,2,    36.52,2,     0.00,2,     2.55,2, -999.000,9, -999.000,9,   2339.7,2,   2417.5,2,   7.5645,2,    25.00,     1458
  49UP20170623,RF1707,  6043,  1,      7,  25816,2,20170701,1419, 47.0980, 160.0960, 5194,   3817.2,   1.4528,  34.6815,2,  34.6815,2,    148.0,6,   151.64,6,    36.23,6,     0.00,6,     2.52,6,    0.000,2,    0.007,2,   2332.8,2,   2417.1,2,   7.5723,2,    25.00,     1452
  49UP20170623,RF1707,  6043,  1,      6,  25815,2,20170701,1419, 47.0980, 160.0960, 5194,   4072.3,   1.4539,  34.6841,2,  34.6844,2,    151.6,2,   150.97,2,    35.95,2,     0.00,2,     2.50,2, -999.000,9, -999.000,9,   2331.7,2,   2417.2,6,   7.5774,2,    25.00,     1446
  49UP20170623,RF1707,  6043,  1,      5,  25814,2,20170701,1419, 47.0980, 160.0960, 5194,   4330.4,   1.4658,  34.6861,2,  34.6865,6,    153.5,2,   150.80,2,    35.82,2,     0.00,2,     2.48,2, -999.000,9, -999.000,9,   2316.5,3,   2415.9,2,   7.5813,6,    25.00,     1441
  49UP20170623,RF1707,  6043,  1,      4,  25813,2,20170701,1419, 47.0980, 160.0960, 5194,   4588.1,   1.4819,  34.6875,2,  34.6877,2,    155.4,2,   150.57,2,    35.68,2,     0.00,2,     2.48,2, -999.000,9, -999.000,9,   2329.6,2,   2416.8,2,   7.5867,2,    25.00,     1435
  49UP20170623,RF1707,  6043,  1,      3,  25812,2,20170701,1419, 47.0980, 160.0960, 5194,   4845.7,   1.5041,  34.6885,2,  34.6886,2,    156.4,2,   151.33,2,    35.64,2,     0.00,2,     2.48,2,    0.001,2,    0.008,2,   2323.1,2,   2416.6,2,   7.5842,2,    25.00,     1429
  49UP20170623,RF1707,  6043,  1,      2,  25811,2,20170701,1419, 47.0980, 160.0960, 5194,   5102.6,   1.5289,  34.6892,2,  34.6900,6,    158.2,2,   149.97,2,    35.49,2,     0.00,2,     2.46,2, -999.000,9, -999.000,9,   2319.1,2,   2416.8,2,   7.5856,2,    25.00,     1424
  49UP20170623,RF1707,  6043,  1,      1,  25810,2,20170701,1419, 47.0980, 160.0960, 5194,   5285.8,   1.5456,  34.6899,2,  34.6904,2,    158.4,2,   149.17,2,    35.45,2,     0.00,2,     2.47,2,    0.001,6,    0.018,6,   2317.5,2,   2415.5,2,   7.5921,2,    25.00,     1419