BOTTLE,20200309PRINUNIVRMK
EXPOCODE,SECT_ID,STNNBR,CASTNO,SAMPNO,BTLNBR,BTLNBR_FLAG_W,DATE,TIME,LATITUDE,LONGITUDE,DEPTH,CTDPRS,CTDTMP,CTDSAL,CTDSAL_FLAG_W,SALNTY,SALNTY_FLAG_W,OXYGEN,OXYGEN_FLAG_W,SILCAT,SILCAT_FLAG_W,NITRAT,NITRAT_FLAG_W,NITRIT,NITRIT_FLAG_W,PHSPHT,PHSPHT_FLAG_W,CFC-11,CFC-11_FLAG_W,CFC-12,CFC-12_FLAG_W,TCARBN,TCARBN_FLAG_W,ALKALI,ALKALI_FLAG_W,PH_TOT,PH_TOT_FLAG_W,PH_TMP,BTL_TIME
,,,,,,,,,,,METERS,DBAR,ITS-90,PSS-78,,PSS-78,,UMOL/KG,,UMOL/KG,,UMOL/KG,,UMOL/KG,,UMOL/KG,,PMOL/KG,,PMOL/KG,,UMOL/KG,,UMOL/KG,,,,DEG C,
  49UP20170623,RF1707,  6071,  1,     99,     99,2,20170727,0615, 31.9850, 165.0363, 5954,      0.0,  24.5802,  34.6203,2,  34.6211,2,    214.0,2,     1.85,2,     0.03,2,     0.00,2,     0.04,2, -999.000,9, -999.000,9,   1988.9,2,   2275.5,2,   8.0421,2,    25.00,      820
  49UP20170623,RF1707,  6071,  1,     36,  25845,2,20170727,0615, 31.9850, 165.0363, 5954,     10.5,  24.5708,  34.6193,2,  34.6184,2,    214.3,2,     1.83,2,     0.02,2,     0.00,2,     0.02,2,    1.882,2,    1.306,2,   1988.9,2,   2276.3,2,   8.0447,2,    25.00,      847
  49UP20170623,RF1707,  6071,  1,     35,  25844,2,20170727,0615, 31.9850, 165.0363, 5954,     52.5,  19.4272,  34.8548,2,  34.8539,2,    234.4,2,     2.22,2,     0.02,2,     0.00,2,     0.04,2,    2.268,2,    1.519,2,   2008.3,2,   2294.1,2,   8.0253,2,    25.00,      845
  49UP20170623,RF1707,  6071,  1,     34,  25843,2,20170727,0615, 31.9850, 165.0363, 5954,    103.5,  17.2985,  34.7889,2,  34.7949,4,    216.0,2,     3.81,2,     3.63,2,     0.04,2,     0.26,2,    2.338,2,    1.445,2,   2038.1,2,   2287.5,2,   7.9685,2,    25.00,      843
  49UP20170623,RF1707,  6071,  1,     33,  25842,2,20170727,0615, 31.9850, 165.0363, 5954,    151.7,  16.6758,  34.7552,2,  34.7655,4,    217.8,6,     4.70,6,     4.58,6,     0.01,6,     0.31,6,    2.432,3,    1.650,3,   2041.2,2,   2286.8,2,   7.9566,2,    25.00,      839
  49UP20170623,RF1707,  6071,  1,     32,  25841,2,20170727,0615, 31.9850, 165.0363, 5954,    203.3,  16.2784,  34.7157,2,  34.7191,2,    215.0,2,     5.66,2,     5.37,2,     0.01,2,     0.37,2,    2.505,3,    1.748,3,   2047.7,6,   2284.9,6,   7.9471,2,    25.00,      837
  49UP20170623,RF1707,  6071,  1,     31,  25840,2,20170727,0615, 31.9850, 165.0363, 5954,    252.2,  15.5303,  34.6281,2,  34.6268,2,    212.0,2,     6.93,2,     6.65,2,     0.01,2,     0.46,2,    2.595,3,    1.791,3,   2056.3,2,   2280.1,2,   7.9183,6,    25.00,      835
  49UP20170623,RF1707,  6071,  1,     30,  25839,2,20170727,0615, 31.9850, 165.0363, 5954,    303.6,  14.3877,  34.5216,2,  34.5238,2,    213.6,2,     9.17,2,     8.14,2,     0.01,2,     0.57,2,    2.729,2,    1.880,2,   2066.0,2,   2276.0,2,   7.8914,2,    25.00,      833
  49UP20170623,RF1707,  6071,  1,     29,  25838,2,20170727,0615, 31.9850, 165.0363, 5954,    403.7,  12.1472,  34.3459,2,  34.3503,2,    210.7,2,    15.50,2,    12.12,2,     0.01,2,     0.84,2,    2.848,2,    1.746,2,   2093.5,2,   2274.7,2,   7.8297,2,    25.00,      830
  49UP20170623,RF1707,  6071,  1,     28,  25837,2,20170727,0615, 31.9850, 165.0363, 5954,    505.5,   9.6457,  34.1258,2,  34.1249,2,    210.2,2,    24.08,2,    16.58,2,     0.00,2,     1.19,2,    3.282,3,    2.266,3,   2125.2,2,   2272.6,2,   7.7530,2,    25.00,      827
  49UP20170623,RF1707,  6071,  1,     27,  25836,2,20170727,0615, 31.9850, 165.0363, 5954,    608.7,   7.2390,  34.0123,2,  34.0139,2,    160.1,2,    46.33,2,    25.54,2,     0.00,2,     1.85,2,    2.775,6,    1.575,6,   2187.4,2,   2283.1,2,   7.6115,2,    25.00,      824
  49UP20170623,RF1707,  6071,  1,     26,  25835,2,20170727,0615, 31.9850, 165.0363, 5954,    708.6,   5.5976,  34.0229,2,  34.0225,2,    118.8,2,    68.45,2,    32.25,2,     0.00,2,     2.33,2,    2.261,2,    1.210,2,   2241.8,2,   2300.9,2,   7.4965,2,    25.00,      820
  49UP20170623,RF1707,  6071,  1,     25,  25834,2,20170727,0615, 31.9850, 165.0363, 5954,    810.6,   4.7856,  34.0972,2,  34.0978,2,     83.3,3,    87.46,2,    36.74,2,     0.00,2,     2.64,2,    1.629,2,    0.843,2,   2282.9,2,   2318.5,2,   7.4275,2,    25.00,      817
  49UP20170623,RF1707,  6071,  1,     24,  25833,2,20170727,0615, 31.9850, 165.0363, 5954,    910.5,   4.1657,  34.1990,2,  34.1962,4,     56.3,6,   105.54,6,    39.84,6,     0.00,6,     2.85,6,    0.992,2,    0.498,2,   2316.9,2,   2339.2,2,   7.3808,2,    25.00,      814
  49UP20170623,RF1707,  6071,  1,     23,  25832,2,20170727,0615, 31.9850, 165.0363, 5954,   1010.8,   3.7406,  34.2728,2,  34.2721,2,     41.2,2,   118.20,2,    41.68,2,     0.00,2,     2.97,2,    0.508,2,    0.249,2,   2335.4,2,   2354.5,2,   7.3601,2,    25.00,      810
  49UP20170623,RF1707,  6071,  1,     22,  25831,2,20170727,0615, 31.9850, 165.0363, 5954,   1214.8,   3.0881,  34.3839,2,  34.3834,2,     31.0,2,   137.93,2,    43.04,2,     0.00,2,     3.06,2,    0.184,2,    0.090,2,   2368.3,2,   2377.5,2,   7.3413,2,    25.00,      805
  49UP20170623,RF1707,  6071,  1,     21,  25830,2,20170727,0615, 31.9850, 165.0363, 5954,   1415.3,   2.6872,  34.4622,2,  34.4600,2,     37.0,2,   148.84,2,    43.03,2,     0.00,2,     3.05,2,    0.075,2,    0.040,2,   2374.6,2,   2391.1,2,   7.3662,2,    25.00,      800
  49UP20170623,RF1707,  6071,  1,     20,  25829,2,20170727,0615, 31.9850, 165.0363, 5954,   1620.1,   2.3904,  34.5217,2,  34.5226,2,     45.0,2,   155.98,2,    42.80,2,     0.00,2,     3.02,2,    0.014,2,    0.011,2,   2383.6,6,   2404.7,6,   7.3871,2,    25.00,      754
  49UP20170623,RF1707,  6071,  1,     19,  25828,2,20170727,0615, 31.9850, 165.0363, 5954,   1820.4,   2.1206,  34.5628,2,  34.5625,6,     57.4,2,   162.03,2,    42.02,2,     0.00,2,     2.95,2,    0.014,2,    0.008,2,   2376.0,2,   2411.3,2,   7.4091,6,    25.00,      749
  49UP20170623,RF1707,  6071,  1,     18,  25827,2,20170727,0615, 31.9850, 165.0363, 5954,   2024.5,   1.9452,  34.5947,2,  34.5956,2,     73.9,2,   162.70,2,    41.06,2,     0.00,2,     2.88,2,    0.000,2,    0.001,2,   2370.6,2,   2415.9,2,   7.4402,2,    25.00,      744
  49UP20170623,RF1707,  6071,  1,     17,  25826,2,20170727,0615, 31.9850, 165.0363, 5954,   2227.6,   1.8090,  34.6183,2,  34.6190,2,     89.4,2,   161.77,2,    40.08,2,     0.00,2,     2.81,2,    0.000,2,    0.003,2,   2363.2,2,   2419.1,2,   7.4750,2,    25.00,      739
  49UP20170623,RF1707,  6071,  1,     16,  25825,2,20170727,0615, 31.9850, 165.0363, 5954,   2430.7,   1.7188,  34.6338,2,  34.6332,2,    102.5,2,   160.27,2,    39.24,2,     0.00,2,     2.74,2,    0.000,2,    0.005,2,   2355.5,2,   2419.6,2,   7.4977,2,    25.00,      734
  49UP20170623,RF1707,  6071,  1,     15,  25824,3,20170727,0615, 31.9850, 165.0363, 5954,   2635.6,   1.6454,  34.6462,2,  34.6415,4,    111.3,3,   157.61,6,    38.59,6,     0.00,6,     2.70,6,    0.012,2,    0.006,2,   2348.6,2,   2419.0,2,   7.5189,2,    25.00,      729
  49UP20170623,RF1707,  6071,  1,     14,  25823,2,20170727,0615, 31.9850, 165.0363, 5954,   2839.6,   1.5942,  34.6551,2,  34.6559,2,    121.5,2,   156.46,2,    38.03,2,     0.00,2,     2.65,2,    0.006,6,    0.009,6,   2345.8,2,   2422.0,2,   7.5327,2,    25.00,      724
  49UP20170623,RF1707,  6071,  1,     13,  25822,2,20170727,0615, 31.9850, 165.0363, 5954,   3042.5,   1.5524,  34.6628,2,  34.6614,2,    129.3,2,   154.38,2,    37.52,2,     0.00,2,     2.61,2, -999.000,9, -999.000,9,   2339.0,2,   2420.4,2,   7.5511,2,    25.00,      720
  49UP20170623,RF1707,  6071,  1,     12,  25821,2,20170727,0615, 31.9850, 165.0363, 5954,   3298.7,   1.5167,  34.6691,2,  34.6685,6,    135.6,2,   153.36,2,    37.07,2,     0.00,2,     2.57,2, -999.000,9, -999.000,9,   2336.1,2,   2420.3,2,   7.5599,2,    25.00,      714
  49UP20170623,RF1707,  6071,  1,     11,  25820,3,20170727,0615, 31.9850, 165.0363, 5954,   3556.1,   1.4942,  34.6743,2,  34.6700,4,    140.9,2,   151.56,2,    36.73,2,     0.00,2,     2.54,2, -999.000,9, -999.000,9,   2332.4,2,   2417.7,2,   7.5676,2,    25.00,      708
  49UP20170623,RF1707,  6071,  1,     10,  25819,2,20170727,0615, 31.9850, 165.0363, 5954,   3811.5,   1.4764,  34.6790,2,  34.6795,2,    147.8,2,   149.74,2,    36.31,2,     0.00,2,     2.51,2, -999.000,5, -999.000,5,   2333.8,2,   2418.6,2,   7.5806,2,    25.00,      702
  49UP20170623,RF1707,  6071,  1,      9,  25818,2,20170727,0615, 31.9850, 165.0363, 5954,   4066.9,   1.4674,  34.6824,2,  34.6798,4,    150.2,3,   148.82,2,    36.05,2,     0.00,2,     2.50,2, -999.000,9, -999.000,9,   2326.7,2,   2418.1,2,   7.5842,2,    25.00,      657
  49UP20170623,RF1707,  6071,  1,      8,  25817,2,20170727,0615, 31.9850, 165.0363, 5954,   4324.2,   1.4690,  34.6851,2,  34.6856,6,    155.7,2,   147.35,2,    35.76,2,     0.00,2,     2.47,2, -999.000,9, -999.000,9,   2322.1,2,   2416.5,2,   7.5875,2,    25.00,      651
  49UP20170623,RF1707,  6071,  1,      7,  25816,2,20170727,0615, 31.9850, 165.0363, 5954,   4581.2,   1.4737,  34.6875,2,  34.6879,2,    158.8,2,   145.56,2,    35.51,2,     0.00,2,     2.46,2, -999.000,9, -999.000,9,   2323.8,2,   2417.1,2,   7.5959,2,    25.00,      646
  49UP20170623,RF1707,  6071,  1,      6,  25815,2,20170727,0615, 31.9850, 165.0363, 5954,   4835.5,   1.4821,  34.6895,2,  34.6901,2,    162.8,6,   142.87,6,    35.26,6,     0.00,6,     2.44,6,    0.003,2,    0.008,2,   2316.2,2,   2414.3,2,   7.5999,2,    25.00,      641
  49UP20170623,RF1707,  6071,  1,      5,  25814,3,20170727,0615, 31.9850, 165.0363, 5954,   5096.3,   1.4907,  34.6917,2,  34.6929,2,    166.6,2,   139.37,2,    34.95,2,     0.00,2,     2.41,2, -999.000,9, -999.000,9,   2313.5,2,   2412.6,2,   7.6049,2,    25.00,      636
  49UP20170623,RF1707,  6071,  1,      4,  25813,2,20170727,0615, 31.9850, 165.0363, 5954,   5353.8,   1.5011,  34.6935,2,  34.6895,4,    170.2,2,   137.00,2,    34.67,2,     0.00,2,     2.39,2, -999.000,9, -999.000,9,   2309.7,6,   2409.2,6,   7.6049,2,    25.00,      630
  49UP20170623,RF1707,  6071,  1,      3,  25812,2,20170727,0615, 31.9850, 165.0363, 5954,   5609.3,   1.5199,  34.6948,2,  34.6954,6,    172.1,2,   135.76,2,    34.54,2,     0.00,2,     2.39,2, -999.000,9, -999.000,9,   2306.1,2,   2409.5,2,   7.6095,6,    25.00,      625
  49UP20170623,RF1707,  6071,  1,      2,  25811,2,20170727,0615, 31.9850, 165.0363, 5954,   5867.6,   1.5447,  34.6956,2,  34.6958,2,    173.1,2,   134.93,2,    34.45,2,     0.00,2,     2.38,2, -999.000,9, -999.000,9,   2307.3,2,   2406.0,2,   7.6118,2,    25.00,      620
  49UP20170623,RF1707,  6071,  1,      1,  25810,2,20170727,0615, 31.9850, 165.0363, 5954,   6119.3,   1.5730,  34.6960,2,  34.6954,2,    173.4,2,   134.50,2,    34.38,2,     0.00,2,     2.38,2,    0.003,6,    0.011,6,   2301.1,2,   2407.6,2,   7.6131,2,    25.00,      615