BOTTLE,20200309PRINUNIVRMK
EXPOCODE,SECT_ID,STNNBR,CASTNO,SAMPNO,BTLNBR,BTLNBR_FLAG_W,DATE,TIME,LATITUDE,LONGITUDE,DEPTH,CTDPRS,CTDTMP,CTDSAL,CTDSAL_FLAG_W,SALNTY,SALNTY_FLAG_W,OXYGEN,OXYGEN_FLAG_W,SILCAT,SILCAT_FLAG_W,NITRAT,NITRAT_FLAG_W,NITRIT,NITRIT_FLAG_W,PHSPHT,PHSPHT_FLAG_W,CFC-11,CFC-11_FLAG_W,CFC-12,CFC-12_FLAG_W,TCARBN,TCARBN_FLAG_W,ALKALI,ALKALI_FLAG_W,PH_TOT,PH_TOT_FLAG_W,PH_TMP,BTL_TIME
,,,,,,,,,,,METERS,DBAR,ITS-90,PSS-78,,PSS-78,,UMOL/KG,,UMOL/KG,,UMOL/KG,,UMOL/KG,,UMOL/KG,,PMOL/KG,,PMOL/KG,,UMOL/KG,,UMOL/KG,,,,DEG C,
  49UP20170623,RF1707,  6062,  1,     99,     99,2,20170723,2105, 36.4927, 164.9952, 5566,      0.0,  23.2503,  34.0877,2,-999.0000,9,    220.7,2,     1.52,2,     0.01,2,     0.00,2,     0.03,2, -999.000,9, -999.000,9,   -999.0,9,   -999.0,9,-999.0000,9,  -999.00,     2256
  49UP20170623,RF1707,  6062,  1,     36,  25845,2,20170723,2105, 36.4927, 164.9952, 5566,     10.6,  23.2133,  34.0867,2,  34.0895,2,    221.1,2,     1.53,2,     0.02,2,     0.00,2,     0.03,2, -999.000,9, -999.000,9,   -999.0,9,   -999.0,9,-999.0000,9,  -999.00,     2327
  49UP20170623,RF1707,  6062,  1,     35,  25844,3,20170723,2105, 36.4927, 164.9952, 5566,     25.9,  18.8574,  34.2925,2,  34.2932,2,    255.8,2,     1.16,2,     0.02,2,     0.00,2,     0.03,2, -999.000,9, -999.000,9,   -999.0,9,   -999.0,9,-999.0000,9,  -999.00,     2326
  49UP20170623,RF1707,  6062,  1,     34,  25843,2,20170723,2105, 36.4927, 164.9952, 5566,     50.8,  15.3183,  34.5814,2,  34.5813,2,    244.4,2,     6.93,2,     4.47,2,     0.24,2,     0.35,2, -999.000,9, -999.000,9,   -999.0,9,   -999.0,9,-999.0000,9,  -999.00,     2324
  49UP20170623,RF1707,  6062,  1,     33,  25842,2,20170723,2105, 36.4927, 164.9952, 5566,    101.2,  13.7444,  34.4947,2,  34.4938,2,    200.1,6,    13.58,6,    10.90,6,     0.01,6,     0.75,6, -999.000,9, -999.000,9,   -999.0,9,   -999.0,9,-999.0000,9,  -999.00,     2322
  49UP20170623,RF1707,  6062,  1,     32,  25841,2,20170723,2105, 36.4927, 164.9952, 5566,    152.5,  12.7047,  34.4288,2,  34.4298,2,    210.1,2,    15.73,2,    11.58,2,     0.01,2,     0.81,2, -999.000,9, -999.000,9,   -999.0,9,   -999.0,9,-999.0000,9,  -999.00,     2319
  49UP20170623,RF1707,  6062,  1,     31,  25840,2,20170723,2105, 36.4927, 164.9952, 5566,    201.6,  11.8919,  34.3589,2,  34.3588,2,    227.2,2,    14.71,2,    10.96,2,     0.01,2,     0.78,2, -999.000,9, -999.000,9,   -999.0,9,   -999.0,9,-999.0000,9,  -999.00,     2315
  49UP20170623,RF1707,  6062,  1,     30,  25839,2,20170723,2105, 36.4927, 164.9952, 5566,    252.7,  10.6434,  34.2383,2,  34.2393,2,    204.0,2,    22.21,2,    15.29,2,     0.00,2,     1.08,2, -999.000,9, -999.000,9,   -999.0,9,   -999.0,9,-999.0000,9,  -999.00,     2313
  49UP20170623,RF1707,  6062,  1,     29,  25838,2,20170723,2105, 36.4927, 164.9952, 5566,    304.1,   9.3705,  34.1236,2,  34.1247,2,    199.5,2,    28.00,2,    17.91,2,     0.01,2,     1.28,2, -999.000,9, -999.000,9,   -999.0,9,   -999.0,9,-999.0000,9,  -999.00,     2310
  49UP20170623,RF1707,  6062,  1,     28,  25837,2,20170723,2105, 36.4927, 164.9952, 5566,    404.3,   6.9096,  33.9462,2,  33.9460,2,    171.2,2,    45.64,2,    25.15,2,     0.00,2,     1.82,2, -999.000,9, -999.000,9,   -999.0,9,   -999.0,9,-999.0000,9,  -999.00,     2307
  49UP20170623,RF1707,  6062,  1,     27,  25836,2,20170723,2105, 36.4927, 164.9952, 5566,    507.3,   5.8493,  34.0335,2,  34.0336,2,    121.8,2,    66.45,2,    31.58,2,     0.00,2,     2.28,2, -999.000,9, -999.000,9,   -999.0,9,   -999.0,9,-999.0000,9,  -999.00,     2304
  49UP20170623,RF1707,  6062,  1,     26,  25835,2,20170723,2105, 36.4927, 164.9952, 5566,    604.7,   4.9193,  34.0795,2,  34.0794,2,     88.7,2,    83.74,2,    36.08,2,     0.00,2,     2.59,2, -999.000,9, -999.000,9,   -999.0,9,   -999.0,9,-999.0000,9,  -999.00,     2300
  49UP20170623,RF1707,  6062,  1,     25,  25834,2,20170723,2105, 36.4927, 164.9952, 5566,    706.8,   4.3401,  34.1739,2,  34.1734,2,     60.5,2,   100.70,2,    39.28,2,     0.00,2,     2.81,2, -999.000,9, -999.000,9,   -999.0,9,   -999.0,9,-999.0000,9,  -999.00,     2258
  49UP20170623,RF1707,  6062,  1,     24,  25833,2,20170723,2105, 36.4927, 164.9952, 5566,    806.7,   3.9467,  34.2411,2,  34.2404,2,     49.3,6,   112.49,6,    40.62,6,     0.00,6,     2.90,6, -999.000,9, -999.000,9,   -999.0,9,   -999.0,9,-999.0000,9,  -999.00,     2255
  49UP20170623,RF1707,  6062,  1,     23,  25832,2,20170723,2105, 36.4927, 164.9952, 5566,    906.8,   3.6656,  34.2921,2,  34.2920,2,     42.6,2,   121.04,2,    41.49,2,     0.00,2,     2.96,2, -999.000,9, -999.000,9,   -999.0,9,   -999.0,9,-999.0000,9,  -999.00,     2252
  49UP20170623,RF1707,  6062,  1,     22,  25831,2,20170723,2105, 36.4927, 164.9952, 5566,   1010.4,   3.3936,  34.3375,2,  34.3388,2,     38.2,2,   128.79,2,    42.16,2,     0.00,2,     3.00,2, -999.000,9, -999.000,9,   -999.0,9,   -999.0,9,-999.0000,9,  -999.00,     2249
  49UP20170623,RF1707,  6062,  1,     21,  25830,2,20170723,2105, 36.4927, 164.9952, 5566,   1211.7,   2.8904,  34.4219,2,  34.4215,2,     36.9,2,   143.11,2,    42.77,2,     0.00,2,     3.04,2, -999.000,9, -999.000,9,   -999.0,9,   -999.0,9,-999.0000,9,  -999.00,     2244
  49UP20170623,RF1707,  6062,  1,     20,  25829,2,20170723,2105, 36.4927, 164.9952, 5566,   1415.6,   2.5496,  34.4757,2,  34.4758,2,     37.2,2,   153.63,2,    43.12,2,     0.00,2,     3.05,2, -999.000,9, -999.000,9,   -999.0,9,   -999.0,9,-999.0000,9,  -999.00,     2240
  49UP20170623,RF1707,  6062,  1,     19,  25828,2,20170723,2105, 36.4927, 164.9952, 5566,   1619.8,   2.3250,  34.5216,2,  34.5215,2,     45.9,2,   158.75,2,    42.68,2,     0.00,2,     3.02,2, -999.000,9, -999.000,9,   -999.0,9,   -999.0,9,-999.0000,9,  -999.00,     2235
  49UP20170623,RF1707,  6062,  1,     18,  25827,2,20170723,2105, 36.4927, 164.9952, 5566,   1824.9,   2.1185,  34.5587,2,  34.5583,2,     55.4,2,   162.91,2,    42.17,2,     0.00,2,     2.97,2, -999.000,9, -999.000,9,   -999.0,9,   -999.0,9,-999.0000,9,  -999.00,     2231
  49UP20170623,RF1707,  6062,  1,     17,  25826,2,20170723,2105, 36.4927, 164.9952, 5566,   2026.8,   1.9806,  34.5840,2,  34.5815,2,     67.4,2,   164.43,2,    41.46,2,     0.00,2,     2.91,2, -999.000,9, -999.000,9,   -999.0,9,   -999.0,9,-999.0000,9,  -999.00,     2226
  49UP20170623,RF1707,  6062,  1,     16,  25825,2,20170723,2105, 36.4927, 164.9952, 5566,   2228.9,   1.8348,  34.6097,2,  34.6099,2,     81.8,2,   165.05,2,    40.62,2,     0.00,2,     2.85,2, -999.000,9, -999.000,9,   -999.0,9,   -999.0,9,-999.0000,9,  -999.00,     2221
  49UP20170623,RF1707,  6062,  1,     15,  25824,2,20170723,2105, 36.4927, 164.9952, 5566,   2433.5,   1.7276,  34.6288,2,  34.6244,4,     94.6,3,   163.10,6,    39.72,6,     0.00,6,     2.78,6, -999.000,9, -999.000,9,   -999.0,9,   -999.0,9,-999.0000,9,  -999.00,     2217
  49UP20170623,RF1707,  6062,  1,     14,  25823,2,20170723,2105, 36.4927, 164.9952, 5566,   2635.6,   1.6504,  34.6424,2,  34.6423,2,    106.5,2,   161.80,2,    38.96,2,     0.00,2,     2.72,2, -999.000,9, -999.000,9,   -999.0,9,   -999.0,9,-999.0000,9,  -999.00,     2212
  49UP20170623,RF1707,  6062,  1,     13,  25822,2,20170723,2105, 36.4927, 164.9952, 5566,   2839.7,   1.5933,  34.6526,2,  34.6524,2,    116.0,2,   160.28,2,    38.39,2,     0.00,2,     2.68,2, -999.000,9, -999.000,9,   -999.0,9,   -999.0,9,-999.0000,9,  -999.00,     2208
  49UP20170623,RF1707,  6062,  1,     12,  25821,2,20170723,2105, 36.4927, 164.9952, 5566,   3045.5,   1.5444,  34.6609,2,  34.6610,2,    125.5,2,   158.10,2,    37.81,2,     0.00,2,     2.63,2, -999.000,9, -999.000,9,   -999.0,9,   -999.0,9,-999.0000,9,  -999.00,     2202
  49UP20170623,RF1707,  6062,  1,     11,  25820,2,20170723,2105, 36.4927, 164.9952, 5566,   3297.3,   1.5066,  34.6687,2,  34.6663,4,    132.9,2,   156.12,2,    37.31,2,     0.00,2,     2.59,2, -999.000,9, -999.000,9,   -999.0,9,   -999.0,9,-999.0000,9,  -999.00,     2157
  49UP20170623,RF1707,  6062,  1,     10,  25819,2,20170723,2105, 36.4927, 164.9952, 5566,   3557.7,   1.4823,  34.6745,2,  34.6748,2,    140.7,2,   154.44,2,    36.84,2,     0.00,2,     2.55,2, -999.000,9, -999.000,9,   -999.0,9,   -999.0,9,-999.0000,9,  -999.00,     2151
  49UP20170623,RF1707,  6062,  1,      9,  25818,2,20170723,2105, 36.4927, 164.9952, 5566,   3814.0,   1.4648,  34.6794,2,  34.6793,6,    145.8,2,   152.99,2,    36.48,2,     0.00,2,     2.53,2, -999.000,9, -999.000,9,   -999.0,9,   -999.0,9,-999.0000,9,  -999.00,     2145
  49UP20170623,RF1707,  6062,  1,      8,  25817,2,20170723,2105, 36.4927, 164.9952, 5566,   4068.2,   1.4628,  34.6826,2,  34.6829,2,    150.2,2,   152.28,2,    36.18,2,     0.00,2,     2.50,2, -999.000,9, -999.000,9,   -999.0,9,   -999.0,9,-999.0000,9,  -999.00,     2140
  49UP20170623,RF1707,  6062,  1,      7,  25816,2,20170723,2105, 36.4927, 164.9952, 5566,   4326.8,   1.4673,  34.6854,2,  34.6859,6,    153.6,2,   150.78,2,    35.96,2,     0.00,2,     2.48,2, -999.000,9, -999.000,9,   -999.0,9,   -999.0,9,-999.0000,9,  -999.00,     2135
  49UP20170623,RF1707,  6062,  1,      6,  25815,2,20170723,2105, 36.4927, 164.9952, 5566,   4585.7,   1.4821,  34.6871,2,  34.6868,2,    155.4,6,   150.60,6,    35.80,6,     0.00,6,     2.47,6, -999.000,9, -999.000,9,   -999.0,9,   -999.0,9,-999.0000,9,  -999.00,     2129
  49UP20170623,RF1707,  6062,  1,      5,  25814,2,20170723,2105, 36.4927, 164.9952, 5566,   4840.1,   1.4982,  34.6885,2,  34.6888,2,    158.0,2,   149.69,2,    35.65,2,     0.00,2,     2.46,2, -999.000,9, -999.000,9,   -999.0,9,   -999.0,9,-999.0000,9,  -999.00,     2123
  49UP20170623,RF1707,  6062,  1,      4,  25813,2,20170723,2105, 36.4927, 164.9952, 5566,   5097.1,   1.5066,  34.6907,2,  34.6907,2,    162.3,2,   145.44,2,    35.38,2,     0.00,2,     2.44,2, -999.000,9, -999.000,9,   -999.0,9,   -999.0,9,-999.0000,9,  -999.00,     2118
  49UP20170623,RF1707,  6062,  1,      3,  25812,2,20170723,2105, 36.4927, 164.9952, 5566,   5353.8,   1.5097,  34.6932,2,  34.6932,2,    167.5,2,   140.27,2,    34.98,2,     0.00,2,     2.41,2, -999.000,9, -999.000,9,   -999.0,9,   -999.0,9,-999.0000,9,  -999.00,     2112
  49UP20170623,RF1707,  6062,  1,      2,  25811,2,20170723,2105, 36.4927, 164.9952, 5566,   5612.0,   1.5255,  34.6947,2,  34.6944,6,    170.6,2,   137.83,2,    34.78,2,     0.00,2,     2.39,2, -999.000,9, -999.000,9,   -999.0,9,   -999.0,9,-999.0000,9,  -999.00,     2107
  49UP20170623,RF1707,  6062,  1,      1,  25810,2,20170723,2105, 36.4927, 164.9952, 5566,   5667.3,   1.5309,  34.6949,2,  34.6948,2,    171.0,2,   137.74,2,    34.79,2,     0.00,2,     2.39,2, -999.000,9, -999.000,9,   -999.0,9,   -999.0,9,-999.0000,9,  -999.00,     2105