BOTTLE,20200309PRINUNIVRMK
EXPOCODE,SECT_ID,STNNBR,CASTNO,SAMPNO,BTLNBR,BTLNBR_FLAG_W,DATE,TIME,LATITUDE,LONGITUDE,DEPTH,CTDPRS,CTDTMP,CTDSAL,CTDSAL_FLAG_W,SALNTY,SALNTY_FLAG_W,OXYGEN,OXYGEN_FLAG_W,SILCAT,SILCAT_FLAG_W,NITRAT,NITRAT_FLAG_W,NITRIT,NITRIT_FLAG_W,PHSPHT,PHSPHT_FLAG_W,CFC-11,CFC-11_FLAG_W,CFC-12,CFC-12_FLAG_W,TCARBN,TCARBN_FLAG_W,ALKALI,ALKALI_FLAG_W,PH_TOT,PH_TOT_FLAG_W,PH_TMP,BTL_TIME
,,,,,,,,,,,METERS,DBAR,ITS-90,PSS-78,,PSS-78,,UMOL/KG,,UMOL/KG,,UMOL/KG,,UMOL/KG,,UMOL/KG,,PMOL/KG,,PMOL/KG,,UMOL/KG,,UMOL/KG,,,,DEG C,
  49UP20170623,RF1707,  6055,  1,     99,     99,2,20170720,1446, 42.0152, 165.0083, 4985,      0.0,  14.5227,  32.8958,2,  32.8962,2,    272.3,2,    17.93,2,     9.22,2,     0.12,2,     0.92,2, -999.000,9, -999.000,9,   2025.6,2,   2218.5,2,   7.9751,2,    25.00,     1617
  49UP20170623,RF1707,  6055,  1,     36,  25845,2,20170720,1446, 42.0152, 165.0083, 4985,     10.9,  13.9060,  32.9208,2,  32.9179,2,    278.8,2,    17.93,2,     9.08,2,     0.11,2,     0.86,2,    3.201,2,    1.932,2,   2023.5,2,   2220.5,2,   7.9830,2,    25.00,     1647
  49UP20170623,RF1707,  6055,  1,     35,  25844,2,20170720,1446, 42.0152, 165.0083, 4985,     26.0,  11.3682,  33.1724,2,  33.1736,2,    296.7,6,    18.98,6,    10.03,6,     0.11,6,     0.94,6, -999.000,9, -999.000,9,   2050.4,2,   2234.5,2,   7.9443,2,    25.00,     1646
  49UP20170623,RF1707,  6055,  1,     34,  25843,2,20170720,1446, 42.0152, 165.0083, 4985,     51.9,   5.5295,  33.3350,2,  33.3366,2,    312.1,2,    23.90,2,    14.90,2,     0.35,2,     1.30,2,    4.602,2,    2.671,2,   2106.9,2,   2245.3,2,   7.8884,2,    25.00,     1642
  49UP20170623,RF1707,  6055,  1,     33,  25842,2,20170720,1446, 42.0152, 165.0083, 4985,     75.7,   5.9880,  33.4643,2,  33.4649,2,    301.0,2,    22.19,2,    14.62,2,     0.34,2,     1.22,2, -999.000,9, -999.000,9,   2103.8,2,   2247.0,2,   7.8564,2,    25.00,     1641
  49UP20170623,RF1707,  6055,  1,     32,  25841,2,20170720,1446, 42.0152, 165.0083, 4985,    100.9,   5.8802,  33.4978,2,  33.4983,2,    297.2,2,    23.07,2,    15.59,2,     0.02,2,     1.25,2,    4.381,2,    2.556,2,   2110.6,6,   2248.6,6,   7.7458,2,    25.00,     1639
  49UP20170623,RF1707,  6055,  1,     31,  25840,3,20170720,1446, 42.0152, 165.0083, 4985,    126.3,   5.7371,  33.5287,2,  33.5278,2,    293.1,2,    24.17,2,    16.09,2,     0.02,2,     1.28,2, -999.000,9, -999.000,9,   2111.0,2,   2249.5,2,   7.7392,6,    25.00,     1638
  49UP20170623,RF1707,  6055,  1,     30,  25839,2,20170720,1446, 42.0152, 165.0083, 4985,    151.8,   5.7769,  33.6004,2,  33.5992,2,    282.4,2,    25.86,2,    16.94,2,     0.02,2,     1.32,2,    4.224,2,    2.485,2,   2120.7,2,   2253.4,2,   7.7261,2,    25.00,     1637
  49UP20170623,RF1707,  6055,  1,     29,  25838,2,20170720,1446, 42.0152, 165.0083, 4985,    202.3,   4.9013,  33.6432,2,  33.6419,2,    203.9,2,    46.32,2,    25.86,2,     0.01,2,     1.93,2,    3.780,2,    2.174,2,   2188.5,2,   2266.7,2,   7.5802,2,    25.00,     1636
  49UP20170623,RF1707,  6055,  1,     28,  25837,3,20170720,1446, 42.0152, 165.0083, 4985,    251.7,   4.3460,  33.6961,2,  33.6912,2,    163.0,2,    59.58,2,    30.95,2,     0.01,2,     2.27,2,    3.462,2,    1.957,2,   2224.0,2,   2275.9,2,   7.4911,2,    25.00,     1634
  49UP20170623,RF1707,  6055,  1,     27,  25836,2,20170720,1446, 42.0152, 165.0083, 4985,    283.7,   4.4069,  33.7666,2,  33.7662,2,    140.4,2,    65.47,2,    32.79,2,     0.00,2,     2.39,2,    3.172,2,    1.789,2,   2244.2,2,   2282.7,2,   7.4605,2,    25.00,     1633
  49UP20170623,RF1707,  6055,  1,     26,  25835,2,20170720,1446, 42.0152, 165.0083, 4985,    374.0,   4.3116,  33.9383,2,  33.9371,6,     94.6,2,    82.29,2,    36.95,2,     0.00,2,     2.66,2,    2.345,2,    1.250,2,   2277.6,2,   2302.7,2,   7.4023,2,    25.00,     1630
  49UP20170623,RF1707,  6055,  1,     25,  25834,2,20170720,1446, 42.0152, 165.0083, 4985,    474.3,   3.9382,  34.0505,2,  34.0472,2,     60.8,2,    99.67,2,    40.23,2,     0.00,2,     2.87,2,    1.674,2,    0.874,2,   2314.4,2,   2319.5,2,   7.3498,2,    25.00,     1628
  49UP20170623,RF1707,  6055,  1,     24,  25833,2,20170720,1446, 42.0152, 165.0083, 4985,    576.2,   3.8601,  34.1701,2,  34.1686,2,     48.1,2,   110.17,2,    41.00,2,     0.00,2,     2.93,2,    1.094,2,    0.568,2,   2328.5,2,   2337.7,2,   7.3505,2,    25.00,     1625
  49UP20170623,RF1707,  6055,  1,     23,  25832,2,20170720,1446, 42.0152, 165.0083, 4985,    677.1,   3.5226,  34.2236,2,  34.2236,2,     36.2,2,   121.15,2,    42.25,2,     0.00,2,     3.01,2,    0.798,2,    0.392,2,   2345.8,2,   2348.1,2,   7.3289,2,    25.00,     1623
  49UP20170623,RF1707,  6055,  1,     22,  25831,2,20170720,1446, 42.0152, 165.0083, 4985,    777.4,   3.2665,  34.2803,2,  34.2785,2,     30.6,2,   130.31,2,    42.89,2,     0.00,2,     3.05,2, -999.000,9, -999.000,9,   2358.4,2,   2358.6,2,   7.3219,2,    25.00,     1620
  49UP20170623,RF1707,  6055,  1,     21,  25830,3,20170720,1446, 42.0152, 165.0083, 4985,    778.1,   3.2660,  34.2805,2,  34.2773,4,     34.8,4,   130.20,2,    42.86,2,     0.00,2,     3.05,2,    0.548,6,    0.288,6,   2356.5,2,   2358.1,2,   7.3266,2,    25.00,     1620
  49UP20170623,RF1707,  6055,  1,     20,  25829,2,20170720,1446, 42.0152, 165.0083, 4985,    879.5,   3.0537,  34.3344,2,  34.3341,2,     29.5,2,   137.99,2,    43.11,2,     0.00,2,     3.07,2,    0.405,3,    0.262,3,   2367.2,2,   2369.2,2,   7.3307,2,    25.00,     1618
  49UP20170623,RF1707,  6055,  1,     19,  25828,2,20170720,1446, 42.0152, 165.0083, 4985,    980.4,   2.9057,  34.3738,2,  34.3721,2,     30.2,6,   142.95,6,    43.21,6,     0.00,6,     3.07,6,    0.264,2,    0.134,2,   2369.8,2,   2376.9,2,   7.3360,2,    25.00,     1615
  49UP20170623,RF1707,  6055,  1,     18,  25827,3,20170720,1446, 42.0152, 165.0083, 4985,   1141.9,   2.6986,  34.4265,2,  34.4253,2,     34.4,2,   149.18,2,    43.18,2,     0.00,2,     3.07,2,    0.257,3,    0.311,3,   2378.5,6,   2387.1,6,   7.3513,2,    25.00,     1611
  49UP20170623,RF1707,  6055,  1,     17,  25826,2,20170720,1446, 42.0152, 165.0083, 4985,   1345.8,   2.4091,  34.4831,2,  34.4818,2,     41.8,2,   157.31,2,    42.95,2,     0.00,2,     3.05,2,    0.199,3,    0.275,3,   2383.5,2,   2398.1,2,   7.3642,6,    25.00,     1607
  49UP20170623,RF1707,  6055,  1,     16,  25825,2,20170720,1446, 42.0152, 165.0083, 4985,   1547.8,   2.2333,  34.5235,2,  34.5216,2,     46.9,2,   161.64,2,    42.69,2,     0.00,2,     3.01,2,    0.052,2,    0.026,2,   2382.1,2,   2404.7,2,   7.3861,2,    25.00,     1603
  49UP20170623,RF1707,  6055,  1,     15,  25824,3,20170720,1446, 42.0152, 165.0083, 4985,   1751.6,   2.0816,  34.5583,2,  34.5577,2,     56.7,2,   164.25,2,    42.09,2,     0.00,2,     2.97,2,    0.177,3,    0.374,3,   2378.0,2,   2410.6,2,   7.4068,2,    25.00,     1558
  49UP20170623,RF1707,  6055,  1,     14,  25823,2,20170720,1446, 42.0152, 165.0083, 4985,   1955.2,   1.9461,  34.5863,2,  34.5846,2,     68.3,2,   165.42,2,    41.39,2,     0.00,2,     2.92,2,    0.028,3,    0.038,3,   2377.1,2,   2413.6,2,   7.4303,2,    25.00,     1553
  49UP20170623,RF1707,  6055,  1,     13,  25822,2,20170720,1446, 42.0152, 165.0083, 4985,   2159.1,   1.8311,  34.6084,2,  34.6075,2,     80.8,2,   165.65,2,    40.62,2,     0.00,2,     2.86,2,    0.139,3,    0.302,3,   2372.9,2,   2416.1,2,   7.4550,2,    25.00,     1549
  49UP20170623,RF1707,  6055,  1,     12,  25821,3,20170720,1446, 42.0152, 165.0083, 4985,   2361.5,   1.7281,  34.6277,2,  34.6260,6,     94.1,2,   164.58,2,    39.76,2,     0.00,2,     2.80,2,    0.099,3,    0.224,3,   2361.1,2,   2417.3,2,   7.4777,2,    25.00,     1544
  49UP20170623,RF1707,  6055,  1,     11,  25820,2,20170720,1446, 42.0152, 165.0083, 4985,   2566.0,   1.6544,  34.6412,2,  34.6394,2,    105.2,2,   162.62,2,    39.09,2,     0.00,2,     2.75,2,    0.000,2,    0.001,2,   2353.6,2,   2418.8,2,   7.5035,2,    25.00,     1540
  49UP20170623,RF1707,  6055,  1,     10,  25819,2,20170720,1446, 42.0152, 165.0083, 4985,   2770.9,   1.6108,  34.6500,2,  34.6496,2,    113.5,6,   161.07,6,    38.55,6,     0.00,6,     2.70,6,    0.006,2,    0.005,2,   2355.8,3,   2419.4,2,   7.5169,2,    25.00,     1536
  49UP20170623,RF1707,  6055,  1,      9,  25818,2,20170720,1446, 42.0152, 165.0083, 4985,   2974.6,   1.5647,  34.6584,2,  34.6580,2,    122.4,2,   159.11,2,    38.00,2,     0.00,2,     2.66,2, -999.000,9, -999.000,9,   2343.7,2,   2419.5,2,   7.5328,2,    25.00,     1531
  49UP20170623,RF1707,  6055,  1,      8,  25817,2,20170720,1446, 42.0152, 165.0083, 4985,   3219.2,   1.5165,  34.6670,2,  34.6684,2,    131.3,2,   156.75,2,    37.40,2,     0.00,2,     2.61,2, -999.000,9, -999.000,9,   2339.5,2,   2420.3,2,   7.5497,2,    25.00,     1526
  49UP20170623,RF1707,  6055,  1,      7,  25816,2,20170720,1446, 42.0152, 165.0083, 4985,   3474.8,   1.4857,  34.6733,2,  34.6734,2,    139.0,2,   154.70,2,    36.92,2,     0.00,2,     2.57,2, -999.000,9, -999.000,9,   2333.6,2,   2418.6,2,   7.5635,2,    25.00,     1520
  49UP20170623,RF1707,  6055,  1,      6,  25815,2,20170720,1446, 42.0152, 165.0083, 4985,   3732.2,   1.4656,  34.6784,2,  34.6775,2,    145.1,2,   153.31,2,    36.52,2,     0.00,2,     2.54,2,    0.014,3,    0.037,3,   2331.4,2,   2418.3,2,   7.5710,2,    25.00,     1515
  49UP20170623,RF1707,  6055,  1,      5,  25814,3,20170720,1446, 42.0152, 165.0083, 4985,   3988.9,   1.4548,  34.6825,2,  34.6813,2,    150.5,2,   151.81,2,    36.18,2,     0.00,2,     2.51,2, -999.000,9, -999.000,9,   2326.7,2,   2419.7,2,   7.5828,2,    25.00,     1509
  49UP20170623,RF1707,  6055,  1,      4,  25813,2,20170720,1446, 42.0152, 165.0083, 4985,   4246.0,   1.4595,  34.6851,2,  34.6848,6,    153.3,2,   151.69,2,    35.99,2,     0.00,2,     2.50,2, -999.000,9, -999.000,9,   2322.7,6,   2419.6,6,   7.5863,2,    25.00,     1503
  49UP20170623,RF1707,  6055,  1,      3,  25812,2,20170720,1446, 42.0152, 165.0083, 4985,   4501.5,   1.4771,  34.6866,2,  34.6846,4,    155.6,2,   151.52,2,    35.88,2,     0.00,2,     2.50,2, -999.000,9, -999.000,9,   2320.9,2,   2420.6,2,   7.5902,6,    25.00,     1458
  49UP20170623,RF1707,  6055,  1,      2,  25811,2,20170720,1446, 42.0152, 165.0083, 4985,   4759.3,   1.4984,  34.6877,2,  34.6874,6,    155.8,2,   151.98,2,    35.81,2,     0.00,2,     2.49,2,    0.001,2,    0.015,2,   2328.3,3,   2418.7,2,   7.5960,2,    25.00,     1452
  49UP20170623,RF1707,  6055,  1,      1,  25810,2,20170720,1446, 42.0152, 165.0083, 4985,   5045.6,   1.5308,  34.6881,2,  34.6875,2,    156.1,6,   152.13,6,    35.79,6,     0.00,6,     2.49,6,    0.004,6,    0.010,6,   2324.8,2,   2417.9,2,   7.5970,2,    25.00,     1446