BOTTLE,20200309PRINUNIVRMK
EXPOCODE,SECT_ID,STNNBR,CASTNO,SAMPNO,BTLNBR,BTLNBR_FLAG_W,DATE,TIME,LATITUDE,LONGITUDE,DEPTH,CTDPRS,CTDTMP,CTDSAL,CTDSAL_FLAG_W,SALNTY,SALNTY_FLAG_W,OXYGEN,OXYGEN_FLAG_W,SILCAT,SILCAT_FLAG_W,NITRAT,NITRAT_FLAG_W,NITRIT,NITRIT_FLAG_W,PHSPHT,PHSPHT_FLAG_W,CFC-11,CFC-11_FLAG_W,CFC-12,CFC-12_FLAG_W,TCARBN,TCARBN_FLAG_W,ALKALI,ALKALI_FLAG_W,PH_TOT,PH_TOT_FLAG_W,PH_TMP,BTL_TIME
,,,,,,,,,,,METERS,DBAR,ITS-90,PSS-78,,PSS-78,,UMOL/KG,,UMOL/KG,,UMOL/KG,,UMOL/KG,,UMOL/KG,,PMOL/KG,,PMOL/KG,,UMOL/KG,,UMOL/KG,,,,DEG C,
  49UP20170623,RF1707,  6060,  1,     99,     99,2,20170722,2051, 37.4982, 164.9857, 5294,      0.0,  22.6543,  34.4696,2,-999.0000,9,    222.2,2,     1.74,2,     0.01,2,     0.00,2,     0.02,2, -999.000,9, -999.000,9,   -999.0,9,   -999.0,9,-999.0000,9,  -999.00,     2245
  49UP20170623,RF1707,  6060,  1,     36,  25845,2,20170722,2051, 37.4982, 164.9857, 5294,     10.3,  22.6067,  34.4690,2,  34.4684,2,    222.9,2,     1.74,2,     0.01,2,     0.00,2,     0.02,2, -999.000,9, -999.000,9,   -999.0,9,   -999.0,9,-999.0000,9,  -999.00,     2301
  49UP20170623,RF1707,  6060,  1,     35,  25844,2,20170722,2051, 37.4982, 164.9857, 5294,     25.7,  19.8669,  34.6846,2,  34.6703,4,    235.6,2,     2.50,2,     0.03,2,     0.00,2,     0.04,2, -999.000,9, -999.000,9,   -999.0,9,   -999.0,9,-999.0000,9,  -999.00,     2300
  49UP20170623,RF1707,  6060,  1,     34,  25843,2,20170722,2051, 37.4982, 164.9857, 5294,     50.9,  17.8530,  34.7871,2,  34.7886,2,    231.4,6,     2.79,6,     0.97,6,     0.12,6,     0.12,6, -999.000,9, -999.000,9,   -999.0,9,   -999.0,9,-999.0000,9,  -999.00,     2258
  49UP20170623,RF1707,  6060,  1,     33,  25842,2,20170722,2051, 37.4982, 164.9857, 5294,     76.3,  17.1213,  34.7831,2,  34.7823,2,    213.3,2,     4.42,2,     4.42,2,     0.17,2,     0.30,2, -999.000,9, -999.000,9,   -999.0,9,   -999.0,9,-999.0000,9,  -999.00,     2257
  49UP20170623,RF1707,  6060,  1,     32,  25841,2,20170722,2051, 37.4982, 164.9857, 5294,    100.9,  16.8563,  34.7903,2,  34.7889,2,    218.7,2,     4.47,2,     4.52,2,     0.03,2,     0.30,2, -999.000,9, -999.000,9,   -999.0,9,   -999.0,9,-999.0000,9,  -999.00,     2253
  49UP20170623,RF1707,  6060,  1,     31,  25840,2,20170722,2051, 37.4982, 164.9857, 5294,    126.0,  16.6269,  34.7753,2,  34.7768,2,    221.0,6,     4.71,6,     4.56,6,     0.02,6,     0.30,6, -999.000,9, -999.000,9,   -999.0,9,   -999.0,9,-999.0000,9,  -999.00,     2252
  49UP20170623,RF1707,  6060,  1,     30,  25839,2,20170722,2051, 37.4982, 164.9857, 5294,    152.2,  15.7639,  34.6505,2,  34.6550,2,    202.4,2,     8.19,2,     7.58,2,     0.02,2,     0.50,2, -999.000,9, -999.000,9,   -999.0,9,   -999.0,9,-999.0000,9,  -999.00,     2251
  49UP20170623,RF1707,  6060,  1,     29,  25838,2,20170722,2051, 37.4982, 164.9857, 5294,    203.0,  14.2092,  34.5287,2,  34.5297,2,    209.4,2,    11.24,2,     9.39,2,     0.01,2,     0.64,2, -999.000,9, -999.000,9,   -999.0,9,   -999.0,9,-999.0000,9,  -999.00,     2249
  49UP20170623,RF1707,  6060,  1,     28,  25837,2,20170722,2051, 37.4982, 164.9857, 5294,    255.1,  12.7472,  34.4091,2,  34.4167,4,    224.6,2,    12.98,2,     9.93,2,     0.01,2,     0.69,2, -999.000,9, -999.000,9,   -999.0,9,   -999.0,9,-999.0000,9,  -999.00,     2247
  49UP20170623,RF1707,  6060,  1,     27,  25836,2,20170722,2051, 37.4982, 164.9857, 5294,    334.3,  11.5884,  34.3207,2,  34.3204,2,    252.2,2,    11.23,2,     8.60,2,     0.01,2,     0.62,2, -999.000,9, -999.000,9,   -999.0,9,   -999.0,9,-999.0000,9,  -999.00,     2245
  49UP20170623,RF1707,  6060,  1,     26,  25835,2,20170722,2051, 37.4982, 164.9857, 5294,    432.3,   9.7966,  34.1485,2,  34.1483,2,    201.4,2,    25.53,2,    17.22,2,     0.00,2,     1.21,2, -999.000,9, -999.000,9,   -999.0,9,   -999.0,9,-999.0000,9,  -999.00,     2242
  49UP20170623,RF1707,  6060,  1,     25,  25834,2,20170722,2051, 37.4982, 164.9857, 5294,    533.9,   7.1266,  33.9572,2,  33.9594,6,    173.4,2,    43.78,2,    24.67,2,     0.00,2,     1.77,2, -999.000,9, -999.000,9,   -999.0,9,   -999.0,9,-999.0000,9,  -999.00,     2240
  49UP20170623,RF1707,  6060,  1,     24,  25833,2,20170722,2051, 37.4982, 164.9857, 5294,    636.8,   5.7175,  34.0010,2,  34.0025,2,    124.0,2,    65.67,2,    31.73,2,     0.00,2,     2.27,2, -999.000,9, -999.000,9,   -999.0,9,   -999.0,9,-999.0000,9,  -999.00,     2237
  49UP20170623,RF1707,  6060,  1,     23,  25832,2,20170722,2051, 37.4982, 164.9857, 5294,    736.8,   4.7742,  34.0449,2,  34.0468,2,     90.3,2,    83.68,2,    36.26,2,     0.00,2,     2.60,2, -999.000,9, -999.000,9,   -999.0,9,   -999.0,9,-999.0000,9,  -999.00,     2234
  49UP20170623,RF1707,  6060,  1,     22,  25831,2,20170722,2051, 37.4982, 164.9857, 5294,    840.4,   4.3570,  34.1716,2,  34.1722,2,     62.0,2,   100.27,2,    39.25,2,     0.00,2,     2.79,2, -999.000,9, -999.000,9,   -999.0,9,   -999.0,9,-999.0000,9,  -999.00,     2232
  49UP20170623,RF1707,  6060,  1,     21,  25830,2,20170722,2051, 37.4982, 164.9857, 5294,    942.1,   3.8440,  34.2526,2,  34.2524,2,     46.1,2,   115.09,2,    41.01,2,     0.00,2,     2.92,2, -999.000,9, -999.000,9,   -999.0,9,   -999.0,9,-999.0000,9,  -999.00,     2229
  49UP20170623,RF1707,  6060,  1,     20,  25829,2,20170722,2051, 37.4982, 164.9857, 5294,   1080.3,   3.2884,  34.3433,2,  34.3434,2,     35.4,2,   131.65,2,    42.50,2,     0.00,2,     3.02,2, -999.000,9, -999.000,9,   -999.0,9,   -999.0,9,-999.0000,9,  -999.00,     2225
  49UP20170623,RF1707,  6060,  1,     19,  25828,2,20170722,2051, 37.4982, 164.9857, 5294,   1284.0,   2.8301,  34.4211,2,  34.4221,2,     33.2,2,   145.57,2,    43.11,2,     0.00,2,     3.05,2, -999.000,9, -999.000,9,   -999.0,9,   -999.0,9,-999.0000,9,  -999.00,     2221
  49UP20170623,RF1707,  6060,  1,     18,  25827,2,20170722,2051, 37.4982, 164.9857, 5294,   1487.4,   2.5476,  34.4757,2,  34.4758,2,     35.9,2,   153.76,2,    43.22,2,     0.00,2,     3.05,2, -999.000,9, -999.000,9,   -999.0,9,   -999.0,9,-999.0000,9,  -999.00,     2216
  49UP20170623,RF1707,  6060,  1,     17,  25826,2,20170722,2051, 37.4982, 164.9857, 5294,   1688.9,   2.2825,  34.5198,2,  34.5201,2,     44.6,2,   160.56,2,    42.78,2,     0.00,2,     3.01,2, -999.000,9, -999.000,9,   -999.0,9,   -999.0,9,-999.0000,9,  -999.00,     2212
  49UP20170623,RF1707,  6060,  1,     16,  25825,2,20170722,2051, 37.4982, 164.9857, 5294,   1893.8,   2.1135,  34.5542,2,  34.5544,2,     54.5,2,   163.86,2,    42.21,2,     0.00,2,     2.97,2, -999.000,9, -999.000,9,   -999.0,9,   -999.0,9,-999.0000,9,  -999.00,     2207
  49UP20170623,RF1707,  6060,  1,     15,  25824,2,20170722,2051, 37.4982, 164.9857, 5294,   2096.6,   1.9765,  34.5824,2,  34.5808,6,     65.5,2,   165.25,2,    41.59,2,     0.00,2,     2.91,2, -999.000,9, -999.000,9,   -999.0,9,   -999.0,9,-999.0000,9,  -999.00,     2203
  49UP20170623,RF1707,  6060,  1,     14,  25823,2,20170722,2051, 37.4982, 164.9857, 5294,   2300.0,   1.8466,  34.6073,2,  34.6077,2,     79.3,2,   165.48,2,    40.77,2,     0.00,2,     2.85,2, -999.000,9, -999.000,9,   -999.0,9,   -999.0,9,-999.0000,9,  -999.00,     2158
  49UP20170623,RF1707,  6060,  1,     13,  25822,2,20170722,2051, 37.4982, 164.9857, 5294,   2505.0,   1.7385,  34.6273,2,  34.6274,2,     93.6,6,   164.30,6,    39.91,6,     0.00,6,     2.79,6, -999.000,9, -999.000,9,   -999.0,9,   -999.0,9,-999.0000,9,  -999.00,     2154
  49UP20170623,RF1707,  6060,  1,     12,  25821,2,20170722,2051, 37.4982, 164.9857, 5294,   2707.1,   1.6579,  34.6417,2,  34.6420,2,    105.9,2,   162.24,2,    39.08,2,     0.00,2,     2.72,2, -999.000,9, -999.000,9,   -999.0,9,   -999.0,9,-999.0000,9,  -999.00,     2149
  49UP20170623,RF1707,  6060,  1,     11,  25820,2,20170722,2051, 37.4982, 164.9857, 5294,   2914.1,   1.5906,  34.6536,2,  34.6536,2,    116.8,2,   160.03,2,    38.36,2,     0.00,2,     2.67,2, -999.000,9, -999.000,9,   -999.0,9,   -999.0,9,-999.0000,9,  -999.00,     2144
  49UP20170623,RF1707,  6060,  1,     10,  25819,2,20170722,2051, 37.4982, 164.9857, 5294,   3127.2,   1.5397,  34.6627,2,  34.6628,2,    126.9,2,   157.90,2,    37.74,2,     0.00,2,     2.62,2, -999.000,9, -999.000,9,   -999.0,9,   -999.0,9,-999.0000,9,  -999.00,     2140
  49UP20170623,RF1707,  6060,  1,      9,  25818,2,20170722,2051, 37.4982, 164.9857, 5294,   3382.2,   1.4882,  34.6717,2,  34.6719,6,    136.5,2,   155.42,2,    37.12,2,     0.00,2,     2.57,2, -999.000,9, -999.000,9,   -999.0,9,   -999.0,9,-999.0000,9,  -999.00,     2134
  49UP20170623,RF1707,  6060,  1,      8,  25817,2,20170722,2051, 37.4982, 164.9857, 5294,   3638.5,   1.4639,  34.6774,2,  34.6779,2,    143.4,2,   153.49,2,    36.63,2,     0.00,2,     2.53,2, -999.000,9, -999.000,9,   -999.0,9,   -999.0,9,-999.0000,9,  -999.00,     2129
  49UP20170623,RF1707,  6060,  1,      7,  25816,2,20170722,2051, 37.4982, 164.9857, 5294,   3896.4,   1.4572,  34.6811,2,  34.6816,2,    148.3,2,   152.38,2,    36.34,2,     0.00,2,     2.51,2, -999.000,9, -999.000,9,   -999.0,9,   -999.0,9,-999.0000,9,  -999.00,     2124
  49UP20170623,RF1707,  6060,  1,      6,  25815,2,20170722,2051, 37.4982, 164.9857, 5294,   4153.5,   1.4584,  34.6840,2,  34.6842,2,    151.9,2,   151.87,2,    36.13,2,     0.00,2,     2.49,2, -999.000,9, -999.000,9,   -999.0,9,   -999.0,9,-999.0000,9,  -999.00,     2118
  49UP20170623,RF1707,  6060,  1,      5,  25814,2,20170722,2051, 37.4982, 164.9857, 5294,   4407.9,   1.4699,  34.6860,2,  34.6863,2,    154.2,2,   151.31,2,    35.93,2,     0.00,2,     2.48,2, -999.000,9, -999.000,9,   -999.0,9,   -999.0,9,-999.0000,9,  -999.00,     2112
  49UP20170623,RF1707,  6060,  1,      4,  25813,2,20170722,2051, 37.4982, 164.9857, 5294,   4665.7,   1.4858,  34.6877,2,  34.6878,2,    156.1,6,   151.35,6,    35.80,6,     0.00,6,     2.47,6, -999.000,9, -999.000,9,   -999.0,9,   -999.0,9,-999.0000,9,  -999.00,     2107
  49UP20170623,RF1707,  6060,  1,      3,  25812,2,20170722,2051, 37.4982, 164.9857, 5294,   4924.0,   1.5098,  34.6887,2,  34.6888,2,    157.1,2,   151.79,2,    35.73,2,     0.00,2,     2.47,2, -999.000,9, -999.000,9,   -999.0,9,   -999.0,9,-999.0000,9,  -999.00,     2101
  49UP20170623,RF1707,  6060,  1,      2,  25811,2,20170722,2051, 37.4982, 164.9857, 5294,   5179.6,   1.5394,  34.6891,2,  34.6890,6,    157.3,2,   151.78,2,    35.76,2,     0.00,2,     2.46,2, -999.000,9, -999.000,9,   -999.0,9,   -999.0,9,-999.0000,9,  -999.00,     2056
  49UP20170623,RF1707,  6060,  1,      1,  25810,2,20170722,2051, 37.4982, 164.9857, 5294,   5410.6,   1.5693,  34.6892,2,  34.6892,2,    157.0,2,   152.01,2,    35.79,2,     0.00,2,     2.47,2, -999.000,9, -999.000,9,   -999.0,9,   -999.0,9,-999.0000,9,  -999.00,     2051