BOTTLE,20200309PRINUNIVRMK
EXPOCODE,SECT_ID,STNNBR,CASTNO,SAMPNO,BTLNBR,BTLNBR_FLAG_W,DATE,TIME,LATITUDE,LONGITUDE,DEPTH,CTDPRS,CTDTMP,CTDSAL,CTDSAL_FLAG_W,SALNTY,SALNTY_FLAG_W,OXYGEN,OXYGEN_FLAG_W,SILCAT,SILCAT_FLAG_W,NITRAT,NITRAT_FLAG_W,NITRIT,NITRIT_FLAG_W,PHSPHT,PHSPHT_FLAG_W,CFC-11,CFC-11_FLAG_W,CFC-12,CFC-12_FLAG_W,TCARBN,TCARBN_FLAG_W,ALKALI,ALKALI_FLAG_W,PH_TOT,PH_TOT_FLAG_W,PH_TMP,BTL_TIME
,,,,,,,,,,,METERS,DBAR,ITS-90,PSS-78,,PSS-78,,UMOL/KG,,UMOL/KG,,UMOL/KG,,UMOL/KG,,UMOL/KG,,PMOL/KG,,PMOL/KG,,UMOL/KG,,UMOL/KG,,,,DEG C,
  49UP20170623,RF1707,  6052,  1,     99,     99,2,20170706,0654, 44.0077, 165.0572, 5755,      0.0,   9.2626,  32.9275,2,  32.9407,2,    294.2,2,    19.10,2,    12.51,2,     0.17,2,     1.19,2, -999.000,9, -999.000,9,   2067.3,2,   2227.9,2,   7.7975,2,    25.00,      900
  49UP20170623,RF1707,  6052,  1,     36,  25845,2,20170706,0654, 44.0077, 165.0572, 5755,     10.5,   9.2636,  32.9269,2,  32.9300,2,    292.7,2,    19.01,2,    12.52,2,     0.17,2,     1.18,2,    3.895,2,    2.294,2,   2065.1,2,   2227.5,2,   7.7987,2,    25.00,      916
  49UP20170623,RF1707,  6052,  1,     35,  25844,2,20170706,0654, 44.0077, 165.0572, 5755,     50.3,   5.4154,  33.0797,2,  33.0822,2,    321.7,2,    23.23,2,    14.57,2,     0.21,2,     1.32,2,    4.716,2,    2.732,2,   2090.1,2,   2236.2,2,   7.7534,2,    25.00,      911
  49UP20170623,RF1707,  6052,  1,     34,  25843,2,20170706,0654, 44.0077, 165.0572, 5755,    102.0,   4.3028,  33.2973,2,  33.3029,2,    287.6,6,    30.28,6,    19.30,6,     0.01,6,     1.52,6,    4.614,2,    2.675,2,   2124.9,2,   2245.3,2,   7.6791,2,    25.00,      909
  49UP20170623,RF1707,  6052,  1,     33,  25842,3,20170706,0654, 44.0077, 165.0572, 5755,    127.6,   4.2583,  33.4144,2,  33.4148,2,    253.6,2,    37.95,2,    22.58,2,     0.01,2,     1.72,2, -999.000,9, -999.000,9,   2150.3,6,   2252.6,6,   7.6259,2,    25.00,      908
  49UP20170623,RF1707,  6052,  1,     32,  25841,2,20170706,0654, 44.0077, 165.0572, 5755,    152.8,   4.0009,  33.5403,2,  33.5403,2,    196.4,2,    52.38,2,    28.51,2,     0.00,2,     2.11,2,    3.918,2,    2.240,2,   2198.2,2,   2264.1,2,   7.5200,6,    25.00,      907
  49UP20170623,RF1707,  6052,  1,     31,  25840,3,20170706,0654, 44.0077, 165.0572, 5755,    204.2,   3.8880,  33.6801,2,  33.6824,2,    147.2,2,    66.37,2,    33.18,2,     0.00,2,     2.42,2,    3.382,2,    1.905,2,   2244.7,2,   2279.5,2,   7.4387,2,    25.00,      906
  49UP20170623,RF1707,  6052,  1,     30,  25839,2,20170706,0654, 44.0077, 165.0572, 5755,    253.3,   3.8113,  33.7700,2,  33.7694,2,    112.2,2,    76.67,2,    36.54,2,     0.00,2,     2.64,2,    2.983,2,    1.663,2,   2269.1,2,   2288.4,2,   7.3772,2,    25.00,      904
  49UP20170623,RF1707,  6052,  1,     29,  25838,2,20170706,0654, 44.0077, 165.0572, 5755,    303.6,   3.7286,  33.8440,2,  33.8421,2,     87.4,2,    85.53,2,    38.79,2,     0.00,2,     2.78,2,    2.608,2,    1.404,2,   2288.7,2,   2299.1,2,   7.3425,2,    25.00,      902
  49UP20170623,RF1707,  6052,  1,     28,  25837,2,20170706,0654, 44.0077, 165.0572, 5755,    404.2,   3.7670,  34.0032,2,  34.0004,2,     58.1,2,    99.59,2,    40.93,2,     0.00,2,     2.92,2,    1.864,2,    0.987,2,   2318.1,2,   2315.0,2,   7.3186,2,    25.00,      859
  49UP20170623,RF1707,  6052,  1,     27,  25836,3,20170706,0654, 44.0077, 165.0572, 5755,    507.2,   3.6525,  34.1243,2,  34.1240,2,     39.7,2,   112.28,2,    42.08,2,     0.00,2,     2.99,2,    1.242,2,    0.661,2,   2336.8,2,   2333.5,2,   7.3078,2,    25.00,      856
  49UP20170623,RF1707,  6052,  1,     26,  25835,2,20170706,0654, 44.0077, 165.0572, 5755,    606.7,   3.4958,  34.2016,2,  34.2003,2,     34.6,2,   120.75,2,    42.39,2,     0.00,2,     3.01,2,    0.891,6,    0.455,6,   2346.2,2,   2347.6,2,   7.3126,2,    25.00,      853
  49UP20170623,RF1707,  6052,  1,     25,  25834,2,20170706,0654, 44.0077, 165.0572, 5755,    708.5,   3.3334,  34.2702,2,  34.2695,2,     33.4,6,   128.11,6,    42.58,6,     0.00,6,     3.03,6,    0.588,2,    0.314,2,   2352.1,2,   2358.8,2,   7.3224,2,    25.00,      850
  49UP20170623,RF1707,  6052,  1,     24,  25833,2,20170706,0654, 44.0077, 165.0572, 5755,    809.7,   3.1064,  34.3174,2,-999.0000,5,     31.1,2,   135.54,2,    42.83,2,     0.00,2,     3.05,2,    0.443,2,    0.226,2,   2362.0,6,   2366.6,6,   7.3242,2,    25.00,      847
  49UP20170623,RF1707,  6052,  1,     23,  25832,2,20170706,0654, 44.0077, 165.0572, 5755,    911.9,   2.9498,  34.3591,2,  34.3578,2,     31.8,2,   140.82,2,    42.95,2,     0.00,2,     3.06,2,    0.322,2,    0.163,2,   2369.1,2,   2375.0,2,   7.3331,6,    25.00,      843
  49UP20170623,RF1707,  6052,  1,     22,  25831,2,20170706,0654, 44.0077, 165.0572, 5755,   1013.6,   2.7944,  34.3999,2,  34.3977,2,     31.8,2,   145.87,2,    43.08,2,     0.00,2,     3.06,2,    0.224,2,    0.122,2,   2376.2,2,   2382.5,2,   7.3333,2,    25.00,      840
  49UP20170623,RF1707,  6052,  1,     21,  25830,2,20170706,0654, 44.0077, 165.0572, 5755,   1215.6,   2.5066,  34.4604,2,  34.4593,2,     36.2,2,   154.34,2,    43.00,2,     0.00,2,     3.05,2,    0.131,2,    0.081,2,   2386.9,2,   2392.3,2,   7.3508,2,    25.00,      835
  49UP20170623,RF1707,  6052,  1,     20,  25829,2,20170706,0654, 44.0077, 165.0572, 5755,   1416.7,   2.3144,  34.5050,2,  34.5053,6,     42.6,2,   159.49,2,    42.76,2,     0.00,2,     3.02,2,    0.104,2,    0.128,2,   2383.6,2,   2401.4,2,   7.3702,2,    25.00,      829
  49UP20170623,RF1707,  6052,  1,     19,  25828,2,20170706,0654, 44.0077, 165.0572, 5755,   1620.5,   2.1680,  34.5404,2,  34.5397,2,     51.6,2,   162.13,2,    42.28,2,     0.00,2,     2.98,2,    0.029,2,    0.022,2,   2384.1,2,   2408.0,2,   7.3891,2,    25.00,      824
  49UP20170623,RF1707,  6052,  1,     18,  25827,2,20170706,0654, 44.0077, 165.0572, 5755,   1823.3,   2.0202,  34.5717,2,  34.5712,2,     61.9,2,   164.43,2,    41.72,2,     0.00,2,     2.94,2,    0.018,2,    0.017,2,   2384.2,2,   2413.6,2,   7.4120,2,    25.00,      819
  49UP20170623,RF1707,  6052,  1,     17,  25826,2,20170706,0654, 44.0077, 165.0572, 5755,   2026.1,   1.9023,  34.5954,2,  34.5950,2,     73.1,2,   165.68,2,    41.02,2,     0.00,2,     2.88,2,    0.019,3,    0.043,3,   2375.0,2,   2415.7,2,   7.4328,2,    25.00,      814
  49UP20170623,RF1707,  6052,  1,     16,  25825,2,20170706,0654, 44.0077, 165.0572, 5755,   2230.2,   1.8006,  34.6158,2,  34.6154,2,     85.8,6,   164.38,6,    40.25,6,     0.00,6,     2.82,6,    0.000,2,    0.004,2,   2367.0,2,   2416.3,2,   7.4590,2,    25.00,      810
  49UP20170623,RF1707,  6052,  1,     15,  25824,2,20170706,0654, 44.0077, 165.0572, 5755,   2433.6,   1.7200,  34.6307,2,  34.6297,2,     96.1,2,   163.97,2,    39.58,2,     0.00,2,     2.78,2,    0.001,6,    0.000,6,   2364.3,2,   2416.8,2,   7.4792,2,    25.00,      805
  49UP20170623,RF1707,  6052,  1,     14,  25823,2,20170706,0654, 44.0077, 165.0572, 5755,   2640.1,   1.6517,  34.6433,2,  34.6428,2,    106.8,2,   161.96,2,    38.92,2,     0.00,2,     2.72,2,    0.000,2,    0.001,2,   2356.9,2,   2420.3,2,   7.4991,2,    25.00,      801
  49UP20170623,RF1707,  6052,  1,     13,  25822,2,20170706,0654, 44.0077, 165.0572, 5755,   2843.3,   1.6006,  34.6528,2,  34.6531,2,    115.9,2,   160.10,2,    38.39,2,     0.00,2,     2.68,2,    0.000,2,    0.000,2,   2349.1,2,   2420.3,2,   7.5163,2,    25.00,      756
  49UP20170623,RF1707,  6052,  1,     12,  25821,2,20170706,0654, 44.0077, 165.0572, 5755,   3046.1,   1.5604,  34.6604,2,  34.6600,6,    124.2,2,   157.97,2,    37.82,2,     0.00,2,     2.63,2, -999.000,9, -999.000,9,   2342.4,2,   2420.8,2,   7.5297,2,    25.00,      751
  49UP20170623,RF1707,  6052,  1,     11,  25820,2,20170706,0654, 44.0077, 165.0572, 5755,   3303.3,   1.5242,  34.6675,2,  34.6671,2,    131.6,2,   156.14,2,    37.35,2,     0.00,2,     2.59,2, -999.000,9, -999.000,9,   2335.4,2,   2419.2,2,   7.5451,2,    25.00,      746
  49UP20170623,RF1707,  6052,  1,     10,  25819,2,20170706,0654, 44.0077, 165.0572, 5755,   3559.2,   1.4976,  34.6736,2,  34.6737,2,    138.9,2,   154.43,2,    36.91,2,     0.00,2,     2.56,2, -999.000,9, -999.000,9,   2335.1,2,   2421.4,2,   7.5549,2,    25.00,      740
  49UP20170623,RF1707,  6052,  1,      9,  25818,3,20170706,0654, 44.0077, 165.0572, 5755,   3814.2,   1.4850,  34.6779,2,  34.6778,6,    143.6,2,   152.86,2,    36.56,2,     0.00,2,     2.53,2,    0.050,3,    0.121,3,   2331.1,2,   2420.2,6,   7.5641,2,    25.00,      735
  49UP20170623,RF1707,  6052,  1,      8,  25817,2,20170706,0654, 44.0077, 165.0572, 5755,   4070.6,   1.4816,  34.6810,2,  34.6808,2,    148.0,2,   151.79,2,    36.27,2,     0.00,2,     2.51,2, -999.000,9, -999.000,9,   2325.9,2,   2418.6,2,   7.5734,6,    25.00,      730
  49UP20170623,RF1707,  6052,  1,      7,  25816,2,20170706,0654, 44.0077, 165.0572, 5755,   4328.6,   1.4809,  34.6841,2,  34.6844,2,    151.8,2,   150.79,6,    36.04,6,     0.00,6,     2.49,6, -999.000,9, -999.000,9,   2323.9,2,   2418.8,2,   7.5798,2,    25.00,      725
  49UP20170623,RF1707,  6052,  1,      6,  25815,2,20170706,0654, 44.0077, 165.0572, 5755,   4588.2,   1.4904,  34.6863,2,  34.6863,2,    154.6,2,   150.17,2,    35.85,2,     0.00,2,     2.47,2, -999.000,9, -999.000,9,   2326.3,2,   2418.3,2,   7.5862,2,    25.00,      719
  49UP20170623,RF1707,  6052,  1,      5,  25814,2,20170706,0654, 44.0077, 165.0572, 5755,   4843.4,   1.5076,  34.6876,2,  34.6874,2,    156.0,2,   150.10,2,    35.74,2,     0.00,2,     2.47,2,    0.000,2,    0.000,2,   2321.3,2,   2417.7,2,   7.5876,2,    25.00,      714
  49UP20170623,RF1707,  6052,  1,      4,  25813,2,20170706,0654, 44.0077, 165.0572, 5755,   5100.9,   1.5317,  34.6886,2,  34.6886,2,    157.3,2,   150.41,2,    35.64,2,     0.00,2,     2.46,2, -999.000,9, -999.000,9,   2321.4,2,   2417.6,2,   7.5850,2,    25.00,      709
  49UP20170623,RF1707,  6052,  1,      3,  25812,2,20170706,0654, 44.0077, 165.0572, 5755,   5357.9,   1.5601,  34.6891,2,  34.6897,2,    157.6,2,   150.58,2,    35.63,2,     0.00,2,     2.45,2, -999.000,9, -999.000,9,   2319.0,2,   2417.5,2,   7.5914,2,    25.00,      704
  49UP20170623,RF1707,  6052,  1,      2,  25811,2,20170706,0654, 44.0077, 165.0572, 5755,   5615.9,   1.5913,  34.6895,2,  34.6900,6,    158.2,2,   150.82,2,    35.60,2,     0.00,2,     2.45,2, -999.000,9, -999.000,9,   2320.0,2,   2416.9,2,   7.5930,2,    25.00,      659
  49UP20170623,RF1707,  6052,  1,      1,  25810,2,20170706,0654, 44.0077, 165.0572, 5755,   5863.6,   1.6209,  34.6898,2,  34.6901,2,    159.3,2,   149.83,2,    35.55,2,     0.00,2,     2.45,2,    0.014,6,    0.002,6,   2319.2,2,   2416.6,2,   7.5904,2,    25.00,      654