BOTTLE,20200309PRINUNIVRMK
EXPOCODE,SECT_ID,STNNBR,CASTNO,SAMPNO,BTLNBR,BTLNBR_FLAG_W,DATE,TIME,LATITUDE,LONGITUDE,DEPTH,CTDPRS,CTDTMP,CTDSAL,CTDSAL_FLAG_W,SALNTY,SALNTY_FLAG_W,OXYGEN,OXYGEN_FLAG_W,SILCAT,SILCAT_FLAG_W,NITRAT,NITRAT_FLAG_W,NITRIT,NITRIT_FLAG_W,PHSPHT,PHSPHT_FLAG_W,CFC-11,CFC-11_FLAG_W,CFC-12,CFC-12_FLAG_W,TCARBN,TCARBN_FLAG_W,ALKALI,ALKALI_FLAG_W,PH_TOT,PH_TOT_FLAG_W,PH_TMP,BTL_TIME
,,,,,,,,,,,METERS,DBAR,ITS-90,PSS-78,,PSS-78,,UMOL/KG,,UMOL/KG,,UMOL/KG,,UMOL/KG,,UMOL/KG,,PMOL/KG,,PMOL/KG,,UMOL/KG,,UMOL/KG,,,,DEG C,
  49UP20170623,RF1707,  6049,  1,     99,     99,2,20170704,1331, 47.0062, 164.9900, 5867,      0.0,   6.6794,  32.8351,2,  32.8365,2,    318.8,2,    20.82,2,    14.45,2,     0.18,2,     1.35,2, -999.000,9, -999.000,9,   2068.1,2,   2226.9,2,   7.7889,2,    25.00,     1530
  49UP20170623,RF1707,  6049,  1,     36,  25845,2,20170704,1331, 47.0062, 164.9900, 5867,     10.9,   6.6778,  32.8349,2,  32.8374,2,    319.7,2,    19.24,2,    14.06,2,     0.18,2,     1.33,2,    4.583,2,    2.639,2,   2064.2,2,   2228.2,2,   7.7979,2,    25.00,     1606
  49UP20170623,RF1707,  6049,  1,     35,  25844,2,20170704,1331, 47.0062, 164.9900, 5867,     51.0,   3.3855,  32.9609,2,  32.9649,2,    326.8,2,    34.10,2,    19.26,2,     0.32,2,     1.70,2,    5.267,2,    2.970,2,   2111.9,2,   2232.1,2,   7.6863,2,    25.00,     1602
  49UP20170623,RF1707,  6049,  1,     34,  25843,2,20170704,1331, 47.0062, 164.9900, 5867,    101.8,   2.3964,  33.0619,2,  33.0621,2,    307.8,2,    41.49,2,    24.06,2,     0.08,2,     1.91,2,    5.246,2,    2.947,2,   2138.8,6,   2236.0,6,   7.6262,2,    25.00,     1559
  49UP20170623,RF1707,  6049,  1,     33,  25842,2,20170704,1331, 47.0062, 164.9900, 5867,    152.3,   3.2124,  33.5837,2,  33.5883,2,    146.6,2,    70.55,2,    34.79,2,     0.01,2,     2.56,2,    3.536,2,    1.979,2,   2249.6,2,   2270.7,2,   7.4024,6,    25.00,     1557
  49UP20170623,RF1707,  6049,  1,     32,  25841,2,20170704,1331, 47.0062, 164.9900, 5867,    201.6,   3.3564,  33.7176,2,  33.7189,2,    100.2,2,    82.47,2,    38.70,2,     0.01,2,     2.80,2,    3.014,2,    1.674,2,   2280.8,2,   2283.0,2,   7.3322,2,    25.00,     1555
  49UP20170623,RF1707,  6049,  1,     31,  25840,2,20170704,1331, 47.0062, 164.9900, 5867,    253.7,   3.7179,  33.8629,2,  33.8609,2,     77.9,6,    89.26,6,    39.72,6,     0.01,6,     2.85,6,    2.465,2,    1.313,2,   2298.0,2,   2297.6,2,   7.3258,2,    25.00,     1553
  49UP20170623,RF1707,  6049,  1,     30,  25839,2,20170704,1331, 47.0062, 164.9900, 5867,    303.3,   3.6521,  33.9288,2,  33.9300,2,     59.0,2,    96.63,2,    41.34,2,     0.01,2,     2.95,2,    2.145,6,    1.135,6,   2311.9,2,   2307.2,2,   7.3004,2,    25.00,     1550
  49UP20170623,RF1707,  6049,  1,     29,  25838,2,20170704,1331, 47.0062, 164.9900, 5867,    404.0,   3.6617,  34.0533,2,  34.0535,2,     41.3,2,   107.41,2,    42.30,2,     0.00,2,     3.02,2,    1.554,2,    0.805,2,   2340.4,2,   2321.2,2,   7.2968,2,    25.00,     1547
  49UP20170623,RF1707,  6049,  1,     28,  25837,2,20170704,1331, 47.0062, 164.9900, 5867,    503.6,   3.4614,  34.1427,2,  34.1425,2,     24.4,2,   119.90,2,    43.63,2,     0.00,2,     3.09,2,    1.057,2,    0.532,2,   2349.0,2,   2335.2,2,   7.2783,2,    25.00,     1544
  49UP20170623,RF1707,  6049,  1,     27,  25836,2,20170704,1331, 47.0062, 164.9900, 5867,    607.0,   3.3409,  34.2265,2,  34.2255,2,     28.8,2,   126.39,2,    43.06,2,     0.00,2,     3.06,2,    0.760,2,    0.373,2,   2365.4,2,   2349.0,2,   7.2987,2,    25.00,     1541
  49UP20170623,RF1707,  6049,  1,     26,  25835,2,20170704,1331, 47.0062, 164.9900, 5867,    708.7,   3.1654,  34.2828,2,  34.2824,2,     27.2,2,   133.54,2,    43.31,2,     0.00,2,     3.08,2,    0.534,2,    0.273,2,   2358.9,2,   2358.3,2,   7.3094,2,    25.00,     1537
  49UP20170623,RF1707,  6049,  1,     25,  25834,2,20170704,1331, 47.0062, 164.9900, 5867,    808.8,   2.9935,  34.3284,2,  34.3280,2,     21.6,2,   140.79,2,    43.75,2,     0.00,2,     3.11,2,    0.344,2,    0.167,2,   2368.5,2,   2366.9,2,   7.3032,2,    25.00,     1534
  49UP20170623,RF1707,  6049,  1,     24,  25833,2,20170704,1331, 47.0062, 164.9900, 5867,    911.1,   2.8439,  34.3663,2,  34.3659,6,     20.1,2,   146.79,2,    43.92,2,     0.00,2,     3.12,2,    0.246,2,    0.116,2,   2376.5,2,   2374.6,2,   7.3098,2,    25.00,     1531
  49UP20170623,RF1707,  6049,  1,     23,  25832,2,20170704,1331, 47.0062, 164.9900, 5867,   1012.7,   2.7251,  34.3993,2,  34.3996,2,     28.2,2,   149.17,2,    43.43,2,     0.00,2,     3.09,2,    0.213,2,    0.104,2,   2369.2,2,   2380.2,2,   7.3255,2,    25.00,     1527
  49UP20170623,RF1707,  6049,  1,     22,  25831,2,20170704,1331, 47.0062, 164.9900, 5867,   1214.0,   2.4684,  34.4578,2,  34.4578,2,     32.1,6,   157.41,6,    43.32,6,     0.00,6,     3.07,6,    0.121,2,    0.055,2,   2375.6,2,   2391.9,2,   7.3390,2,    25.00,     1522
  49UP20170623,RF1707,  6049,  1,     21,  25830,2,20170704,1331, 47.0062, 164.9900, 5867,   1417.2,   2.2661,  34.5049,2,  34.5044,2,     38.6,2,   163.89,2,    43.04,2,     0.00,2,     3.05,2,    0.066,6,    0.027,6,   2385.5,2,   2397.5,2,   7.3518,2,    25.00,     1516
  49UP20170623,RF1707,  6049,  1,     20,  25829,2,20170704,1331, 47.0062, 164.9900, 5867,   1619.6,   2.1057,  34.5451,2,  34.5455,2,     50.9,2,   165.83,2,    42.26,2,     0.00,2,     2.99,2,    0.032,2,    0.012,2,   2380.9,6,   2405.9,6,   7.3827,2,    25.00,     1511
  49UP20170623,RF1707,  6049,  1,     19,  25828,2,20170704,1331, 47.0062, 164.9900, 5867,   1823.6,   1.9678,  34.5775,2,  34.5771,2,     62.3,2,   167.25,2,    41.66,2,     0.00,2,     2.94,2,    0.013,2,    0.002,2,   2384.0,2,   2410.3,2,   7.4078,6,    25.00,     1506
  49UP20170623,RF1707,  6049,  1,     18,  25827,2,20170704,1331, 47.0062, 164.9900, 5867,   2026.8,   1.8556,  34.6007,2,  34.6011,2,     73.7,2,   167.88,2,    40.92,2,     0.00,2,     2.88,2,    0.001,2,    0.000,2,   2373.9,2,   2414.0,2,   7.4336,2,    25.00,     1500
  49UP20170623,RF1707,  6049,  1,     17,  25826,2,20170704,1331, 47.0062, 164.9900, 5867,   2232.0,   1.7672,  34.6191,2,  34.6197,6,     86.4,2,   166.69,2,    40.16,2,     0.00,2,     2.83,2,    0.000,2,    0.000,2,   2364.9,2,   2415.1,2,   7.4580,2,    25.00,     1455
  49UP20170623,RF1707,  6049,  1,     16,  25825,2,20170704,1331, 47.0062, 164.9900, 5867,   2435.6,   1.6977,  34.6327,2,  34.6325,2,     97.2,2,   165.21,2,    39.52,2,     0.00,2,     2.78,2,    0.003,2,    0.000,2,   2358.7,2,   2415.8,2,   7.4754,2,    25.00,     1450
  49UP20170623,RF1707,  6049,  1,     15,  25824,2,20170704,1331, 47.0062, 164.9900, 5867,   2638.0,   1.6337,  34.6450,2,  34.6457,2,    108.7,3,   163.11,2,    38.86,2,     0.00,2,     2.73,2,    0.000,2,    0.000,2,   2353.7,2,   2416.6,2,   7.4978,2,    25.00,     1445
  49UP20170623,RF1707,  6049,  1,     14,  25823,2,20170704,1331, 47.0062, 164.9900, 5867,   2841.0,   1.5811,  34.6552,2,  34.6562,2,    118.2,2,   159.79,2,    38.19,2,     0.00,2,     2.67,2,    0.000,2,    0.000,2,   2341.9,2,   2418.0,2,   7.5163,2,    25.00,     1441
  49UP20170623,RF1707,  6049,  1,     13,  25822,2,20170704,1331, 47.0062, 164.9900, 5867,   3048.6,   1.5437,  34.6622,2,  34.6624,2,    125.2,6,   158.45,6,    37.77,6,     0.00,6,     2.64,6, -999.000,9, -999.000,9,   2338.8,2,   2417.5,2,   7.5295,2,    25.00,     1436
  49UP20170623,RF1707,  6049,  1,     12,  25821,2,20170704,1331, 47.0062, 164.9900, 5867,   3302.6,   1.5105,  34.6689,2,  34.6692,2,    132.8,2,   156.60,2,    37.26,2,     0.00,2,     2.60,2, -999.000,9, -999.000,9,   2333.2,2,   2417.3,2,   7.5434,2,    25.00,     1430
  49UP20170623,RF1707,  6049,  1,     11,  25820,2,20170704,1331, 47.0062, 164.9900, 5867,   3558.7,   1.4933,  34.6738,2,  34.6737,2,    138.6,2,   155.03,2,    36.88,2,     0.00,2,     2.57,2, -999.000,9, -999.000,9,   2341.4,3,   2417.3,2,   7.5537,2,    25.00,     1425
  49UP20170623,RF1707,  6049,  1,     10,  25819,2,20170704,1331, 47.0062, 164.9900, 5867,   3816.5,   1.4811,  34.6782,2,  34.6786,2,    143.9,2,   153.44,2,    36.54,2,     0.00,2,     2.54,2,    0.000,2,    0.000,2,   2326.7,2,   2416.6,2,   7.5621,2,    25.00,     1419
  49UP20170623,RF1707,  6049,  1,      9,  25818,2,20170704,1331, 47.0062, 164.9900, 5867,   4072.4,   1.4770,  34.6815,2,  34.6821,2,    147.9,2,   152.19,2,    36.26,2,     0.00,2,     2.52,2, -999.000,9, -999.000,9,   2330.4,3,   2417.6,2,   7.5724,2,    25.00,     1414
  49UP20170623,RF1707,  6049,  1,      8,  25817,2,20170704,1331, 47.0062, 164.9900, 5867,   4328.1,   1.4839,  34.6839,2,  34.6839,2,    151.1,2,   151.59,2,    36.06,2,     0.00,2,     2.50,2, -999.000,9, -999.000,9,   2320.9,2,   2417.5,2,   7.5792,2,    25.00,     1408
  49UP20170623,RF1707,  6049,  1,      7,  25816,2,20170704,1331, 47.0062, 164.9900, 5867,   4587.7,   1.4945,  34.6859,2,-999.0000,5,    153.9,2,   150.81,2,    35.89,2,     0.00,2,     2.49,2, -999.000,9, -999.000,9,   2322.6,6,   2415.9,6,   7.5820,2,    25.00,     1402
  49UP20170623,RF1707,  6049,  1,      6,  25815,2,20170704,1331, 47.0062, 164.9900, 5867,   4844.9,   1.5094,  34.6876,2,  34.6880,6,    156.5,2,   150.92,2,    35.76,2,     0.00,2,     2.48,2,    0.001,2,    0.000,2,   2321.9,2,   2416.8,2,   7.5869,6,    25.00,     1357
  49UP20170623,RF1707,  6049,  1,      5,  25814,2,20170704,1331, 47.0062, 164.9900, 5867,   5102.3,   1.5320,  34.6887,2,  34.6885,2,    156.9,2,   151.49,2,    35.67,2,     0.00,2,     2.47,2, -999.000,9, -999.000,9,   2318.1,2,   2416.5,2,   7.5870,2,    25.00,     1351
  49UP20170623,RF1707,  6049,  1,      4,  25813,2,20170704,1331, 47.0062, 164.9900, 5867,   5359.5,   1.5617,  34.6892,2,  34.6897,2,    157.4,6,   152.17,6,    35.66,6,     0.00,6,     2.47,6, -999.000,9, -999.000,9,   2319.4,2,   2416.2,2,   7.5861,2,    25.00,     1346
  49UP20170623,RF1707,  6049,  1,      3,  25812,2,20170704,1331, 47.0062, 164.9900, 5867,   5619.4,   1.5953,  34.6893,2,  34.6891,2,    157.8,2,   152.09,2,    35.63,2,     0.00,2,     2.47,2, -999.000,9, -999.000,9,   2316.5,2,   2415.6,2,   7.5897,2,    25.00,     1340
  49UP20170623,RF1707,  6049,  1,      2,  25811,2,20170704,1331, 47.0062, 164.9900, 5867,   5879.7,   1.6304,  34.6892,2,  34.6901,6,    157.6,2,   151.92,2,    35.62,2,     0.00,2,     2.47,2, -999.000,9, -999.000,9,   2323.6,2,   2415.3,2,   7.5887,2,    25.00,     1334
  49UP20170623,RF1707,  6049,  1,      1,  25810,2,20170704,1331, 47.0062, 164.9900, 5867,   6010.1,   1.6488,  34.6891,2,  34.6893,2,    157.4,2,   151.92,2,    35.63,2,     0.00,2,     2.47,2,    0.002,6,    0.000,6,   2318.2,2,   2415.7,2,   7.5908,2,    25.00,     1331