BOTTLE,20200309PRINUNIVRMK
EXPOCODE,SECT_ID,STNNBR,CASTNO,SAMPNO,BTLNBR,BTLNBR_FLAG_W,DATE,TIME,LATITUDE,LONGITUDE,DEPTH,CTDPRS,CTDTMP,CTDSAL,CTDSAL_FLAG_W,SALNTY,SALNTY_FLAG_W,OXYGEN,OXYGEN_FLAG_W,SILCAT,SILCAT_FLAG_W,NITRAT,NITRAT_FLAG_W,NITRIT,NITRIT_FLAG_W,PHSPHT,PHSPHT_FLAG_W,CFC-11,CFC-11_FLAG_W,CFC-12,CFC-12_FLAG_W,TCARBN,TCARBN_FLAG_W,ALKALI,ALKALI_FLAG_W,PH_TOT,PH_TOT_FLAG_W,PH_TMP,BTL_TIME
,,,,,,,,,,,METERS,DBAR,ITS-90,PSS-78,,PSS-78,,UMOL/KG,,UMOL/KG,,UMOL/KG,,UMOL/KG,,UMOL/KG,,PMOL/KG,,PMOL/KG,,UMOL/KG,,UMOL/KG,,,,DEG C,
  49UP20170623,RF1707,  6061,  1,     99,     99,2,20170723,0519, 37.0143, 164.9903, 4827,      0.0,  23.6967,  34.3751,2,  34.3740,2,    218.4,2,     1.74,2,     0.00,2,     0.00,2,     0.04,2, -999.000,9, -999.000,9,   1980.9,2,   2262.2,2,   8.0324,2,    25.00,      645
  49UP20170623,RF1707,  6061,  1,     36,  25845,2,20170723,0519, 37.0143, 164.9903, 4827,     11.1,  23.6631,  34.3714,2,  34.3751,2,    217.7,2,     1.77,2,     0.00,2,     0.00,2,     0.02,2,    1.928,2,    1.297,2,   1981.8,2,   2261.9,2,   8.0330,2,    25.00,      714
  49UP20170623,RF1707,  6061,  1,     35,  25844,2,20170723,0519, 37.0143, 164.9903, 4827,     26.0,  19.8570,  34.5503,2,  34.6014,4,    238.5,2,     2.28,2,     0.00,2,     0.00,2,     0.04,2, -999.000,9, -999.000,9,   2003.8,2,   2278.3,2,   8.0252,2,    25.00,      713
  49UP20170623,RF1707,  6061,  1,     34,  25843,3,20170723,0519, 37.0143, 164.9903, 4827,     52.0,  17.4746,  34.7710,2,  34.7696,2,    210.0,2,     4.86,2,     4.30,2,     0.14,2,     0.31,2,    2.329,2,    1.533,2,   2043.0,6,   2288.0,6,   7.9649,2,    25.00,      712
  49UP20170623,RF1707,  6061,  1,     33,  25842,2,20170723,0519, 37.0143, 164.9903, 4827,     78.2,  16.8048,  34.7531,2,  34.7520,2,    214.1,2,     5.24,2,     4.87,2,     0.06,2,     0.34,2, -999.000,9, -999.000,9,   2043.5,2,   2284.0,2,   7.9556,6,    25.00,      710
  49UP20170623,RF1707,  6061,  1,     32,  25841,2,20170723,0519, 37.0143, 164.9903, 4827,    101.8,  16.4605,  34.7394,2,  34.7397,2,    218.1,6,     5.54,6,     5.02,6,     0.04,6,     0.35,6,    2.454,2,    1.578,2,   2046.1,2,   2284.8,2,   7.9534,2,    25.00,      709
  49UP20170623,RF1707,  6061,  1,     31,  25840,2,20170723,0519, 37.0143, 164.9903, 4827,    127.3,  15.6430,  34.6423,2,  34.6425,2,    211.8,2,     7.91,2,     6.96,2,     0.02,2,     0.48,2, -999.000,9, -999.000,9,   2057.0,2,   2281.3,2,   7.9201,2,    25.00,      708
  49UP20170623,RF1707,  6061,  1,     30,  25839,2,20170723,0519, 37.0143, 164.9903, 4827,    151.2,  14.9082,  34.5821,2,  34.5823,2,    210.6,2,     9.75,2,     8.25,2,     0.02,2,     0.58,2,    2.607,6,    1.666,6,   2065.5,2,   2277.9,2,   7.8959,2,    25.00,      707
  49UP20170623,RF1707,  6061,  1,     29,  25838,2,20170723,0519, 37.0143, 164.9903, 4827,    202.4,  13.1305,  34.4534,2,  34.4496,2,    219.5,2,    13.56,2,    10.17,2,     0.01,2,     0.72,2,    2.780,2,    1.755,2,   2081.0,2,   2276.6,2,   7.8646,2,    25.00,      705
  49UP20170623,RF1707,  6061,  1,     28,  25837,2,20170723,0519, 37.0143, 164.9903, 4827,    253.5,  12.1218,  34.3799,2,  34.3785,2,    228.7,2,    14.73,2,    10.77,2,     0.01,2,     0.77,2,    2.911,2,    1.812,2,   2088.6,2,   2276.2,2,   7.8482,2,    25.00,      703
  49UP20170623,RF1707,  6061,  1,     27,  25836,3,20170723,0519, 37.0143, 164.9903, 4827,    282.8,  11.6230,  34.3177,2,  34.1480,4,    233.6,2,    23.61,4,    15.55,4,     0.01,4,     1.14,4,    3.000,2,    1.867,2,   2117.8,4,   2271.5,4,   7.7672,4,    25.00,      659
  49UP20170623,RF1707,  6061,  1,     26,  25835,2,20170723,0519, 37.0143, 164.9903, 4827,    373.9,   9.6814,  34.1469,2,  34.1477,2,    220.2,2,    23.59,2,    15.53,2,     0.01,2,     1.12,2,    3.170,2,    1.937,2,   2117.1,2,   2273.1,2,   7.7723,2,    25.00,      657
  49UP20170623,RF1707,  6061,  1,     25,  25834,2,20170723,0519, 37.0143, 164.9903, 4827,    475.0,   7.4563,  34.0023,2,  34.0027,2,    168.8,2,    43.48,2,    24.41,2,     0.01,2,     1.76,2,    2.920,2,    1.697,2,   2178.6,2,   2280.6,2,   7.6303,2,    25.00,      655
  49UP20170623,RF1707,  6061,  1,     24,  25833,2,20170723,0519, 37.0143, 164.9903, 4827,    575.3,   5.7129,  33.9975,2,  33.9992,2,    124.5,2,    66.24,2,    31.75,2,     0.00,2,     2.29,2,    2.407,2,    1.350,2,   2241.2,2,   2295.8,2,   7.5056,2,    25.00,      652
  49UP20170623,RF1707,  6061,  1,     23,  25832,2,20170723,0519, 37.0143, 164.9903, 4827,    677.1,   4.7355,  34.0895,2,  34.0884,2,     82.9,6,    87.77,6,    36.95,6,     0.00,6,     2.65,6,    1.705,2,    0.913,2,   2285.8,2,   2317.1,2,   7.4254,2,    25.00,      650
  49UP20170623,RF1707,  6061,  1,     22,  25831,2,20170723,0519, 37.0143, 164.9903, 4827,    778.6,   4.1471,  34.1592,2,  34.1580,2,     58.0,2,   103.82,2,    39.85,2,     0.00,2,     2.87,2,    1.218,2,    0.651,2,   2321.6,6,   2332.6,6,   7.3788,3,    25.00,      647
  49UP20170623,RF1707,  6061,  1,     21,  25830,2,20170723,0519, 37.0143, 164.9903, 4827,    878.3,   3.8629,  34.2375,2,  34.2375,2,     46.4,2,   114.34,2,    41.13,2,     0.00,2,     2.98,2,    0.766,2,    0.396,2,   2331.6,2,   2346.9,2,   7.3588,6,    25.00,      644
  49UP20170623,RF1707,  6061,  1,     19,  25828,2,20170723,0519, 37.0143, 164.9903, 4827,    980.9,   3.5536,  34.2950,2,  34.2947,2,     39.6,2,   123.90,2,    41.91,2,     0.00,2,     2.99,2,    0.490,2,    0.252,2,   2350.0,2,   2358.4,2,   7.3572,2,    25.00,      642
  49UP20170623,RF1707,  6061,  1,     20,  25829,2,20170723,0519, 37.0143, 164.9903, 4827,    981.2,   3.5559,  34.2946,2,  34.2944,2,     39.5,2,   123.88,2,    41.92,2,     0.00,2,     2.99,2, -999.000,9, -999.000,9,   2347.0,2,   2358.3,2,   7.3548,2,    25.00,      642
  49UP20170623,RF1707,  6061,  1,     18,  25827,3,20170723,0519, 37.0143, 164.9903, 4827,   1143.4,   3.0949,  34.3703,2,  34.3698,6,     33.2,2,   137.44,2,    42.76,2,     0.00,2,     3.04,2,    0.254,2,    0.117,2,   2361.6,2,   2374.4,2,   7.3538,2,    25.00,      637
  49UP20170623,RF1707,  6061,  1,     17,  25826,3,20170723,0519, 37.0143, 164.9903, 4827,   1344.3,   2.6962,  34.4417,2,  34.4406,2,     33.0,2,   148.58,2,    43.13,2,     0.00,2,     3.06,2,    0.113,2,    0.051,2,   2379.2,2,   2388.2,2,   7.3552,2,    25.00,      633
  49UP20170623,RF1707,  6061,  1,     16,  25825,2,20170723,0519, 37.0143, 164.9903, 4827,   1545.5,   2.4098,  34.4981,2,  34.4977,2,     39.8,2,   157.47,2,    43.04,2,     0.00,2,     3.04,2,    0.057,6,    0.013,6,   2391.9,2,   2399.5,2,   7.3724,2,    25.00,      629
  49UP20170623,RF1707,  6061,  1,     15,  25824,2,20170723,0519, 37.0143, 164.9903, 4827,   1751.2,   2.1986,  34.5434,2,  34.5410,2,     49.8,2,   161.50,2,    42.51,2,     0.00,2,     3.00,2,    0.024,2,    0.000,2,   2381.8,2,   2407.2,2,   7.3927,2,    25.00,      624
  49UP20170623,RF1707,  6061,  1,     14,  25823,2,20170723,0519, 37.0143, 164.9903, 4827,   1954.2,   2.0302,  34.5734,2,  34.5738,2,     61.7,6,   164.71,6,    41.89,6,     0.00,6,     2.95,6,    0.007,2,    0.000,2,   2382.0,2,   2413.1,2,   7.4196,2,    25.00,      620
  49UP20170623,RF1707,  6061,  1,     13,  25822,2,20170723,0519, 37.0143, 164.9903, 4827,   2155.1,   1.8799,  34.6007,2,  34.6002,6,     75.6,2,   165.53,2,    41.00,2,     0.00,2,     2.88,2,    0.000,2,    0.000,2,   2372.1,2,   2414.8,2,   7.4472,2,    25.00,      615
  49UP20170623,RF1707,  6061,  1,     12,  25821,2,20170723,0519, 37.0143, 164.9903, 4827,   2363.2,   1.7768,  34.6195,2,  34.6199,2,     88.1,2,   165.06,2,    40.25,2,     0.00,2,     2.82,2,    0.001,2,    0.000,2,   2364.1,2,   2418.5,2,   7.4680,2,    25.00,      611
  49UP20170623,RF1707,  6061,  1,     11,  25820,3,20170723,0519, 37.0143, 164.9903, 4827,   2564.5,   1.6928,  34.6346,2,  34.6346,2,     99.7,2,   163.60,2,    39.45,2,     0.00,2,     2.76,2,    0.000,2,    0.000,2,   2364.0,2,   2418.5,2,   7.4908,2,    25.00,      607
  49UP20170623,RF1707,  6061,  1,     10,  25819,3,20170723,0519, 37.0143, 164.9903, 4827,   2768.2,   1.6087,  34.6491,2,  34.6497,2,    112.8,2,   161.39,2,    38.63,2,     0.00,2,     2.70,2,    0.000,2,    0.000,2,   2353.2,6,   2420.3,6,   7.5156,2,    25.00,      602
  49UP20170623,RF1707,  6061,  1,      9,  25818,2,20170723,0519, 37.0143, 164.9903, 4827,   2973.4,   1.5467,  34.6598,2,  34.6604,2,    123.5,2,   158.77,2,    37.96,2,     0.00,2,     2.65,2, -999.000,9, -999.000,9,   2347.1,2,   2421.7,2,   7.5365,6,    25.00,      558
  49UP20170623,RF1707,  6061,  1,      8,  25817,2,20170723,0519, 37.0143, 164.9903, 4827,   3217.1,   1.5071,  34.6675,2,  34.6681,2,    131.8,2,   156.88,2,    37.43,2,     0.00,2,     2.60,2, -999.000,9, -999.000,9,   2337.6,2,   2421.9,2,   7.5534,2,    25.00,      553
  49UP20170623,RF1707,  6061,  1,      7,  25816,2,20170723,0519, 37.0143, 164.9903, 4827,   3472.8,   1.4758,  34.6740,2,  34.6745,2,    139.6,2,   154.89,2,    36.93,2,     0.00,2,     2.56,2, -999.000,9, -999.000,9,   2331.7,2,   2421.4,2,   7.5679,2,    25.00,      548
  49UP20170623,RF1707,  6061,  1,      6,  25815,3,20170723,0519, 37.0143, 164.9903, 4827,   3729.9,   1.4554,  34.6794,2,  34.6795,6,    146.0,2,   153.05,2,    36.52,2,     0.00,2,     2.53,2,    0.000,2,    0.000,2,   2328.9,2,   2418.6,2,   7.5766,2,    25.00,      543
  49UP20170623,RF1707,  6061,  1,      5,  25814,3,20170723,0519, 37.0143, 164.9903, 4827,   3987.6,   1.4464,  34.6833,2,  34.6836,2,    151.3,6,   151.81,6,    36.16,6,     0.00,6,     2.51,6, -999.000,9, -999.000,9,   2325.9,2,   2420.2,2,   7.5864,2,    25.00,      538
  49UP20170623,RF1707,  6061,  1,      4,  25813,2,20170723,0519, 37.0143, 164.9903, 4827,   4243.9,   1.4540,  34.6857,2,  34.6853,2,    154.2,2,   150.97,2,    35.94,2,     0.00,2,     2.49,2, -999.000,9, -999.000,9,   2320.2,2,   2419.9,2,   7.5873,2,    25.00,      533
  49UP20170623,RF1707,  6061,  1,      3,  25812,2,20170723,0519, 37.0143, 164.9903, 4827,   4500.6,   1.4730,  34.6869,2,  34.6869,2,    154.9,2,   151.03,2,    35.90,2,     0.00,2,     2.48,2, -999.000,9, -999.000,9,   2320.2,2,   2418.7,2,   7.5920,2,    25.00,      527
  49UP20170623,RF1707,  6061,  1,      2,  25811,2,20170723,0519, 37.0143, 164.9903, 4827,   4759.2,   1.4899,  34.6884,2,  34.6886,6,    157.2,2,   150.71,2,    35.76,2,     0.00,2,     2.47,2,    0.002,2,    0.000,2,   2324.2,2,   2419.0,2,   7.5942,2,    25.00,      522
  49UP20170623,RF1707,  6061,  1,      1,  25810,2,20170723,0519, 37.0143, 164.9903, 4827,   4869.5,   1.5016,  34.6887,2,  34.6879,2,    157.2,2,   150.69,2,    35.73,2,     0.00,2,     2.48,2,    0.003,6,    0.000,6,   2328.0,2,   2419.5,2,   7.5925,2,    25.00,      519