BOTTLE,20200309PRINUNIVRMK
EXPOCODE,SECT_ID,STNNBR,CASTNO,SAMPNO,BTLNBR,BTLNBR_FLAG_W,DATE,TIME,LATITUDE,LONGITUDE,DEPTH,CTDPRS,CTDTMP,CTDSAL,CTDSAL_FLAG_W,SALNTY,SALNTY_FLAG_W,OXYGEN,OXYGEN_FLAG_W,SILCAT,SILCAT_FLAG_W,NITRAT,NITRAT_FLAG_W,NITRIT,NITRIT_FLAG_W,PHSPHT,PHSPHT_FLAG_W,CFC-11,CFC-11_FLAG_W,CFC-12,CFC-12_FLAG_W,TCARBN,TCARBN_FLAG_W,ALKALI,ALKALI_FLAG_W,PH_TOT,PH_TOT_FLAG_W,PH_TMP,BTL_TIME
,,,,,,,,,,,METERS,DBAR,ITS-90,PSS-78,,PSS-78,,UMOL/KG,,UMOL/KG,,UMOL/KG,,UMOL/KG,,UMOL/KG,,PMOL/KG,,PMOL/KG,,UMOL/KG,,UMOL/KG,,,,DEG C,
  49UP20170623,RF1707,  6059,  1,     99,     99,2,20170722,1221, 38.0033, 165.0182, 5448,      0.0,  23.5420,  34.3602,2,  34.3558,2,    218.7,2,     1.71,2,     0.00,2,     0.00,2,     0.03,2, -999.000,9, -999.000,9,   1982.1,2,   2261.6,2,   8.0300,2,    25.00,     1415
  49UP20170623,RF1707,  6059,  1,     36,  25845,3,20170722,1221, 38.0033, 165.0182, 5448,     10.8,  23.5259,  34.3599,2,  34.3635,2,    219.4,2,     1.74,2,     0.00,2,     0.00,2,     0.03,2,    1.965,2,    1.286,2,   1983.3,2,   2264.2,2,   8.0310,2,    25.00,     1437
  49UP20170623,RF1707,  6059,  1,     35,  25844,2,20170722,1221, 38.0033, 165.0182, 5448,     52.1,  18.2097,  34.7125,2,  34.6969,4,    238.0,2,     2.27,2,     0.73,2,     0.06,2,     0.11,2,    2.327,2,    1.464,2,   2016.2,2,   2288.9,2,   8.0144,2,    25.00,     1435
  49UP20170623,RF1707,  6059,  1,     34,  25843,2,20170722,1221, 38.0033, 165.0182, 5448,     75.8,  16.9991,  34.7385,2,  34.7369,2,    210.3,2,     5.66,2,     4.75,2,     0.26,2,     0.36,2, -999.000,9, -999.000,9,   2046.0,2,   2286.6,2,   7.9495,2,    25.00,     1433
  49UP20170623,RF1707,  6059,  1,     33,  25842,2,20170722,1221, 38.0033, 165.0182, 5448,    101.4,  16.2788,  34.6936,2,  34.6970,2,    217.4,2,     5.55,2,     5.16,2,     0.10,2,     0.37,2,    2.477,2,    1.588,2,   2046.0,6,   2283.7,6,   7.9419,2,    25.00,     1429
  49UP20170623,RF1707,  6059,  1,     32,  25841,2,20170722,1221, 38.0033, 165.0182, 5448,    126.6,  15.7692,  34.6416,2,  34.6418,2,    206.0,2,     6.96,2,     6.95,2,     0.04,2,     0.48,2, -999.000,9, -999.000,9,   2059.2,2,   2281.8,2,   7.9162,6,    25.00,     1428
  49UP20170623,RF1707,  6059,  1,     31,  25840,2,20170722,1221, 38.0033, 165.0182, 5448,    152.2,  14.7031,  34.5525,2,  34.5582,4,    204.9,2,    10.85,2,     9.10,2,     0.02,2,     0.64,2,    2.586,2,    1.613,2,   2079.0,2,   2280.5,2,   7.8835,2,    25.00,     1426
  49UP20170623,RF1707,  6059,  1,     30,  25839,2,20170722,1221, 38.0033, 165.0182, 5448,    202.4,  13.4175,  34.4813,2,  34.4788,2,    216.6,6,    13.33,6,    10.07,6,     0.01,6,     0.71,6,    2.732,6,    1.700,6,   2081.0,2,   2280.6,2,   7.8632,2,    25.00,     1424
  49UP20170623,RF1707,  6059,  1,     29,  25838,2,20170722,1221, 38.0033, 165.0182, 5448,    251.3,  12.3356,  34.3959,2,  34.3955,2,    215.5,2,    15.85,2,    11.59,2,     0.01,2,     0.82,2,    2.838,2,    1.755,2,   2093.4,2,   2278.6,2,   7.8369,2,    25.00,     1423
  49UP20170623,RF1707,  6059,  1,     28,  25837,2,20170722,1221, 38.0033, 165.0182, 5448,    303.3,  11.3508,  34.3117,2,  34.3101,2,    221.6,2,    17.62,2,    12.46,2,     0.01,2,     0.90,2,    2.950,2,    1.815,2,   2098.9,2,   2277.3,2,   7.8197,2,    25.00,     1421
  49UP20170623,RF1707,  6059,  1,     27,  25836,2,20170722,1221, 38.0033, 165.0182, 5448,    405.8,   8.8757,  34.0795,2,  34.0822,6,    193.8,2,    30.49,2,    19.39,2,     0.01,2,     1.40,2,    3.047,2,    1.813,2,   2143.3,2,   2274.9,2,   7.7096,2,    25.00,     1418
  49UP20170623,RF1707,  6059,  1,     26,  25835,2,20170722,1221, 38.0033, 165.0182, 5448,    504.8,   6.4860,  33.9540,2,  33.9557,2,    156.7,2,    51.60,2,    27.29,2,     0.00,2,     1.98,2,    2.853,2,    1.641,2,   2202.6,2,   2286.1,2,   7.5777,2,    25.00,     1415
  49UP20170623,RF1707,  6059,  1,     25,  25834,2,20170722,1221, 38.0033, 165.0182, 5448,    606.3,   5.4075,  33.9852,2,  33.9864,2,    121.1,2,    69.06,2,    32.51,2,     0.00,2,     2.36,2,    2.417,2,    1.337,2,   2243.4,2,   2300.1,2,   7.4935,2,    25.00,     1413
  49UP20170623,RF1707,  6059,  1,     24,  25833,2,20170722,1221, 38.0033, 165.0182, 5448,    705.9,   4.5187,  34.0729,2,  34.0718,2,     79.5,2,    90.23,2,    37.56,2,     0.00,2,     2.70,2,    1.719,2,    0.920,2,   2292.6,2,   2318.3,2,   7.4066,2,    25.00,     1410
  49UP20170623,RF1707,  6059,  1,     23,  25832,2,20170722,1221, 38.0033, 165.0182, 5448,    807.8,   4.1444,  34.1805,2,  34.1819,2,     54.8,2,   105.16,2,    40.03,2,     0.00,2,     2.87,2,    1.047,2,    0.529,2,   2318.0,6,   2337.0,6,   7.3745,2,    25.00,     1408
  49UP20170623,RF1707,  6059,  1,     22,  25831,2,20170722,1221, 38.0033, 165.0182, 5448,    907.4,   3.7963,  34.2493,2,  34.2497,2,     44.1,2,   116.44,2,    41.26,2,     0.00,2,     2.96,2,    0.666,2,    0.350,2,   2339.7,2,   2351.2,2,   7.3587,6,    25.00,     1405
  49UP20170623,RF1707,  6059,  1,     21,  25830,2,20170722,1221, 38.0033, 165.0182, 5448,   1011.0,   3.4795,  34.3198,2,  34.3203,2,     40.3,6,   126.31,6,    41.90,6,     0.00,6,     3.00,6,    0.416,2,    0.206,2,   2351.9,2,   2364.3,2,   7.3578,2,    25.00,     1402
  49UP20170623,RF1707,  6059,  1,     20,  25829,2,20170722,1221, 38.0033, 165.0182, 5448,   1212.5,   2.9891,  34.4028,2,  34.4034,2,     36.1,2,   140.37,2,    42.69,2,     0.00,2,     3.05,2,    0.172,2,    0.097,2,   2369.2,2,   2382.2,2,   7.3558,2,    25.00,     1357
  49UP20170623,RF1707,  6059,  1,     19,  25828,2,20170722,1221, 38.0033, 165.0182, 5448,   1414.3,   2.5895,  34.4649,2,  34.4648,2,     35.8,2,   152.36,2,    43.08,2,     0.00,2,     3.06,2,    0.080,6,    0.052,6,   2381.4,2,   2393.7,2,   7.3620,2,    25.00,     1353
  49UP20170623,RF1707,  6059,  1,     18,  25827,2,20170722,1221, 38.0033, 165.0182, 5448,   1618.3,   2.3550,  34.5052,2,  34.5058,2,     42.4,2,   159.02,2,    42.80,2,     0.00,2,     3.04,2,    0.050,2,    0.035,2,   2385.3,2,   2401.1,2,   7.3729,2,    25.00,     1348
  49UP20170623,RF1707,  6059,  1,     17,  25826,2,20170722,1221, 38.0033, 165.0182, 5448,   1820.3,   2.1933,  34.5424,2,  34.5418,2,     51.9,2,   161.35,2,    42.25,2,     0.00,2,     2.99,2,    0.028,2,    0.021,2,   2386.3,2,   2408.4,2,   7.3955,2,    25.00,     1343
  49UP20170623,RF1707,  6059,  1,     16,  25825,2,20170722,1221, 38.0033, 165.0182, 5448,   2025.2,   2.0249,  34.5753,2,  34.5761,2,     64.3,2,   163.93,2,    41.59,2,     0.00,2,     2.94,2,    0.009,2,    0.018,2,   2377.7,2,   2413.3,2,   7.4208,2,    25.00,     1338
  49UP20170623,RF1707,  6059,  1,     15,  25824,2,20170722,1221, 38.0033, 165.0182, 5448,   2228.4,   1.8807,  34.6027,2,  34.6022,6,     77.7,2,   164.74,2,    40.76,2,     0.00,2,     2.87,2,    0.000,2,    0.010,2,   2371.3,2,   2416.8,2,   7.4485,2,    25.00,     1334
  49UP20170623,RF1707,  6059,  1,     14,  25823,2,20170722,1221, 38.0033, 165.0182, 5448,   2431.8,   1.7786,  34.6200,2,  34.6202,2,     88.9,2,   165.40,2,    40.03,2,     0.00,2,     2.82,2,    0.003,2,    0.020,2,   2366.8,2,   2417.3,2,   7.4683,2,    25.00,     1330
  49UP20170623,RF1707,  6059,  1,     13,  25822,2,20170722,1221, 38.0033, 165.0182, 5448,   2636.6,   1.6684,  34.6398,2,  34.6401,2,    104.8,2,   162.75,2,    39.03,2,     0.00,2,     2.75,2,    0.000,2,    0.009,2,   2355.3,2,   2420.7,2,   7.5031,2,    25.00,     1325
  49UP20170623,RF1707,  6059,  1,     12,  25821,2,20170722,1221, 38.0033, 165.0182, 5448,   2839.8,   1.6027,  34.6516,2,  34.6518,2,    115.4,6,   160.47,6,    38.35,6,     0.00,6,     2.69,6,    0.000,2,    0.008,2,   2348.0,2,   2420.1,2,   7.5209,2,    25.00,     1320
  49UP20170623,RF1707,  6059,  1,     11,  25820,2,20170722,1221, 38.0033, 165.0182, 5448,   3045.9,   1.5517,  34.6606,2,  34.6609,2,    124.4,2,   158.58,2,    37.80,2,     0.00,2,     2.64,2, -999.000,9, -999.000,9,   2343.8,2,   2420.5,2,   7.5414,2,    25.00,     1316
  49UP20170623,RF1707,  6059,  1,     10,  25819,2,20170722,1221, 38.0033, 165.0182, 5448,   3298.6,   1.5130,  34.6678,2,  34.6677,2,    133.2,2,   156.80,2,    37.27,2,     0.00,2,     2.60,2, -999.000,9, -999.000,9,   2338.9,6,   2420.3,6,   7.5529,2,    25.00,     1311
  49UP20170623,RF1707,  6059,  1,      9,  25818,2,20170722,1221, 38.0033, 165.0182, 5448,   3556.8,   1.4798,  34.6747,2,  34.6750,2,    140.2,2,   154.79,2,    36.78,2,     0.00,2,     2.56,2, -999.000,9, -999.000,9,   2333.4,2,   2421.2,2,   7.5662,6,    25.00,     1305
  49UP20170623,RF1707,  6059,  1,      8,  25817,2,20170722,1221, 38.0033, 165.0182, 5448,   3812.1,   1.4554,  34.6802,2,  34.6799,2,    147.7,2,   152.76,2,    36.30,2,     0.00,2,     2.53,2,    0.000,2,    0.009,2,   2330.0,2,   2420.5,2,   7.5777,2,    25.00,     1300
  49UP20170623,RF1707,  6059,  1,      7,  25816,2,20170722,1221, 38.0033, 165.0182, 5448,   4068.7,   1.4517,  34.6837,2,  34.6819,6,    150.3,3,   151.97,2,    36.10,2,     0.00,2,     2.51,2, -999.000,9, -999.000,9,   2325.4,2,   2421.1,2,   7.5857,2,    25.00,     1254
  49UP20170623,RF1707,  6059,  1,      6,  25815,2,20170722,1221, 38.0033, 165.0182, 5448,   4325.3,   1.4663,  34.6852,2,  34.6853,2,    153.8,2,   151.58,2,    35.91,2,     0.00,2,     2.50,2, -999.000,9, -999.000,9,   2324.7,2,   2419.4,2,   7.5888,2,    25.00,     1249
  49UP20170623,RF1707,  6059,  1,      5,  25814,3,20170722,1221, 38.0033, 165.0182, 5448,   4582.4,   1.4810,  34.6870,2,  34.6874,2,    155.9,2,   151.64,2,    35.74,2,     0.00,2,     2.48,2, -999.000,9, -999.000,9,   2321.6,2,   2417.1,2,   7.5951,2,    25.00,     1243
  49UP20170623,RF1707,  6059,  1,      4,  25813,2,20170722,1221, 38.0033, 165.0182, 5448,   4840.8,   1.5027,  34.6882,2,  34.6883,2,    157.4,2,   151.29,2,    35.69,2,     0.00,2,     2.48,2,    0.030,3,    0.073,3,   2321.5,2,   2417.9,2,   7.5947,2,    25.00,     1238
  49UP20170623,RF1707,  6059,  1,      3,  25812,2,20170722,1221, 38.0033, 165.0182, 5448,   5098.3,   1.5302,  34.6887,2,  34.6879,2,    156.7,6,   151.44,6,    35.69,6,     0.00,6,     2.48,6, -999.000,9, -999.000,9,   2320.0,2,   2417.1,2,   7.5939,2,    25.00,     1232
  49UP20170623,RF1707,  6059,  1,      2,  25811,2,20170722,1221, 38.0033, 165.0182, 5448,   5356.3,   1.5612,  34.6891,2,  34.6892,6,    157.5,2,   151.59,2,    35.65,2,     0.00,2,     2.48,2, -999.000,9, -999.000,9,   2319.8,2,   2417.2,2,   7.5961,2,    25.00,     1226
  49UP20170623,RF1707,  6059,  1,      1,  25810,2,20170722,1221, 38.0033, 165.0182, 5448,   5571.9,   1.5871,  34.6894,2,  34.6894,2,    158.4,2,   150.54,2,    35.62,2,     0.00,2,     2.47,2,    0.002,6,    0.017,6,   2320.4,2,   2418.6,2,   7.6006,2,    25.00,     1221