BOTTLE,20200309PRINUNIVRMK
EXPOCODE,SECT_ID,STNNBR,CASTNO,SAMPNO,BTLNBR,BTLNBR_FLAG_W,DATE,TIME,LATITUDE,LONGITUDE,DEPTH,CTDPRS,CTDTMP,CTDSAL,CTDSAL_FLAG_W,SALNTY,SALNTY_FLAG_W,OXYGEN,OXYGEN_FLAG_W,SILCAT,SILCAT_FLAG_W,NITRAT,NITRAT_FLAG_W,NITRIT,NITRIT_FLAG_W,PHSPHT,PHSPHT_FLAG_W,CFC-11,CFC-11_FLAG_W,CFC-12,CFC-12_FLAG_W,TCARBN,TCARBN_FLAG_W,ALKALI,ALKALI_FLAG_W,PH_TOT,PH_TOT_FLAG_W,PH_TMP,BTL_TIME
,,,,,,,,,,,METERS,DBAR,ITS-90,PSS-78,,PSS-78,,UMOL/KG,,UMOL/KG,,UMOL/KG,,UMOL/KG,,UMOL/KG,,PMOL/KG,,PMOL/KG,,UMOL/KG,,UMOL/KG,,,,DEG C,
  49UP20170623,RF1707,  6048,  1,     99,     99,2,20170704,0141, 47.9967, 164.9753, 5844,      0.0,   6.4690,  32.8245,2,  32.8289,2,    330.5,2,    17.94,2,    14.82,2,     0.23,2,     1.32,2, -999.000,9, -999.000,9,   2063.0,2,   2230.8,2,   7.8088,2,    25.00,      345
  49UP20170623,RF1707,  6048,  1,     36,  25845,2,20170704,0141, 47.9967, 164.9753, 5844,     12.3,   6.4366,  32.8242,2,  32.8267,2,    332.0,2,    17.99,2,    14.80,2,     0.23,2,     1.32,2,    4.630,2,    2.661,2,   2065.6,2,   2229.7,2,   7.8110,2,    25.00,      417
  49UP20170623,RF1707,  6048,  1,     35,  25844,2,20170704,0141, 47.9967, 164.9753, 5844,     51.5,   4.3373,  32.8808,2,  32.8823,2,    331.8,2,    32.06,2,    18.98,2,     0.20,2,     1.65,2,    5.103,2,    2.901,2,   2098.2,6,   2231.7,6,   7.7261,2,    25.00,      412
  49UP20170623,RF1707,  6048,  1,     34,  25843,2,20170704,0141, 47.9967, 164.9753, 5844,     99.6,   2.3818,  32.9718,2,  32.9726,2,    322.2,2,    40.18,2,    22.83,2,     0.54,2,     1.89,2,    5.367,2,    3.016,2,   2129.8,2,   2232.7,2,   7.6440,6,    25.00,      410
  49UP20170623,RF1707,  6048,  1,     33,  25842,3,20170704,0141, 47.9967, 164.9753, 5844,    152.8,   2.9064,  33.5574,2,  33.5514,4,    127.3,2,    76.39,2,    38.39,2,     0.04,2,     2.79,2,    3.510,2,    1.964,2,   2268.9,2,   2272.6,2,   7.3416,2,    25.00,      407
  49UP20170623,RF1707,  6048,  1,     32,  25841,2,20170704,0141, 47.9967, 164.9753, 5844,    201.1,   3.3984,  33.7854,2,  33.7825,2,     56.0,2,    92.03,2,    43.13,2,     0.03,2,     3.07,2,    2.648,2,    1.400,2,   2317.7,2,   2293.8,2,   7.2469,2,    25.00,      405
  49UP20170623,RF1707,  6048,  1,     31,  25840,2,20170704,0141, 47.9967, 164.9753, 5844,    253.7,   3.5344,  33.8885,2,  33.8864,2,     37.7,2,    98.91,2,    44.22,2,     0.02,2,     3.13,2,    2.219,6,    1.160,6,   2328.1,2,   2302.6,2,   7.2364,2,    25.00,      402
  49UP20170623,RF1707,  6048,  1,     30,  25839,2,20170704,0141, 47.9967, 164.9753, 5844,    285.4,   3.5875,  33.9454,2,  33.9440,6,     27.7,6,   103.02,6,    44.54,6,     0.01,6,     3.15,6,    1.959,2,    1.015,2,   2336.6,2,   2309.9,2,   7.2350,2,    25.00,      400
  49UP20170623,RF1707,  6048,  1,     29,  25838,2,20170704,0141, 47.9967, 164.9753, 5844,    376.7,   3.5727,  34.0666,2,  34.0652,2,     20.0,2,   113.00,2,    44.40,2,     0.00,2,     3.15,2,    1.379,2,    0.704,2,   2347.9,6,   2327.1,6,   7.2524,2,    25.00,      357
  49UP20170623,RF1707,  6048,  1,     28,  25837,2,20170704,0141, 47.9967, 164.9753, 5844,    476.0,   3.4493,  34.1595,2,  34.1611,2,     22.2,2,   121.91,2,    43.75,2,     0.01,2,     3.10,2,    0.972,2,    0.514,2,   2360.2,2,   2341.7,2,   7.2706,6,    25.00,      353
  49UP20170623,RF1707,  6048,  1,     27,  25836,3,20170704,0141, 47.9967, 164.9753, 5844,    578.9,   3.2952,  34.2307,2,  34.2300,2,     18.9,2,   129.68,2,    43.90,2,     0.00,2,     3.12,2,    0.653,2,    0.322,2,   2365.2,2,   2353.8,2,   7.2799,2,    25.00,      349
  49UP20170623,RF1707,  6048,  1,     26,  25835,2,20170704,0141, 47.9967, 164.9753, 5844,    677.9,   3.1406,  34.2829,2,  34.2828,2,     14.4,2,   137.22,2,    44.31,2,     0.00,2,     3.15,2,    0.433,2,    0.217,2,   2376.4,2,   2362.9,2,   7.2814,2,    25.00,      345
  49UP20170623,RF1707,  6048,  1,     25,  25834,2,20170704,0141, 47.9967, 164.9753, 5844,    779.2,   3.0188,  34.3239,2,  34.3229,2,     14.8,2,   141.96,2,    44.21,2,     0.00,2,     3.15,2,    0.304,2,    0.150,2,   2379.3,2,   2369.3,2,   7.2879,2,    25.00,      342
  49UP20170623,RF1707,  6048,  1,     24,  25833,2,20170704,0141, 47.9967, 164.9753, 5844,    881.9,   2.8469,  34.3675,2,  34.3670,2,     17.1,2,   148.08,2,    44.23,2,     0.00,2,     3.14,2,    0.209,2,    0.098,2,   2382.2,2,   2378.0,2,   7.2924,2,    25.00,      339
  49UP20170623,RF1707,  6048,  1,     23,  25832,3,20170704,0141, 47.9967, 164.9753, 5844,    983.5,   2.7149,  34.3985,2,  34.3980,2,     18.8,2,   152.47,2,    44.11,2,     0.00,2,     3.13,2,    0.159,2,    0.072,2,   2383.9,2,   2382.5,2,   7.3059,2,    25.00,      336
  49UP20170623,RF1707,  6048,  1,     22,  25831,3,20170704,0141, 47.9967, 164.9753, 5844,   1142.9,   2.4996,  34.4487,2,  34.4489,2,     27.0,2,   158.23,2,    43.56,2,     0.00,2,     3.10,2,    0.120,6,    0.052,6,   2385.1,2,   2391.1,2,   7.3258,2,    25.00,      331
  49UP20170623,RF1707,  6048,  1,     21,  25830,2,20170704,0141, 47.9967, 164.9753, 5844,   1347.0,   2.2822,  34.5001,2,  34.5000,2,     37.9,3,   163.98,6,    43.12,6,     0.00,6,     3.06,6,    0.070,2,    0.026,2,   2387.6,2,   2401.3,2,   7.3455,2,    25.00,      326
  49UP20170623,RF1707,  6048,  1,     20,  25829,2,20170704,0141, 47.9967, 164.9753, 5844,   1551.0,   2.1110,  34.5403,2,  34.5407,2,     44.8,2,   168.24,2,    42.69,2,     0.00,2,     3.02,2,    0.025,2,    0.003,2,   2387.9,2,   2407.9,2,   7.3703,2,    25.00,      320
  49UP20170623,RF1707,  6048,  1,     19,  25828,2,20170704,0141, 47.9967, 164.9753, 5844,   1755.2,   1.9782,  34.5710,2,  34.5698,2,     56.7,2,   169.07,2,    42.01,2,     0.00,2,     2.97,2,    0.008,2,    0.000,2,   2385.7,2,   2411.3,2,   7.3957,2,    25.00,      316
  49UP20170623,RF1707,  6048,  1,     18,  25827,2,20170704,0141, 47.9967, 164.9753, 5844,   1957.8,   1.8641,  34.5958,2,  34.5973,2,     69.4,2,   169.56,2,    41.28,2,     0.00,2,     2.91,2,    0.002,2,    0.000,2,   2377.9,2,   2415.4,2,   7.4250,2,    25.00,      311
  49UP20170623,RF1707,  6048,  1,     17,  25826,2,20170704,0141, 47.9967, 164.9753, 5844,   2160.6,   1.7727,  34.6155,2,  34.6153,6,     82.3,2,   168.20,2,    40.43,2,     0.00,2,     2.85,2,    0.012,2,    0.002,2,   2370.0,2,   2418.0,2,   7.4470,2,    25.00,      306
  49UP20170623,RF1707,  6048,  1,     16,  25825,2,20170704,0141, 47.9967, 164.9753, 5844,   2363.7,   1.6966,  34.6317,2,  34.6313,2,     95.5,2,   165.62,2,    39.63,2,     0.00,2,     2.79,2,    0.000,2,    0.000,2,   2363.2,2,   2418.0,2,   7.4754,2,    25.00,      302
  49UP20170623,RF1707,  6048,  1,     15,  25824,2,20170704,0141, 47.9967, 164.9753, 5844,   2567.7,   1.6343,  34.6434,2,  34.6439,2,    105.2,2,   163.75,2,    39.02,2,     0.00,2,     2.74,2,    0.000,2,    0.000,2,   2357.3,2,   2419.6,2,   7.4935,2,    25.00,      257
  49UP20170623,RF1707,  6048,  1,     14,  25823,2,20170704,0141, 47.9967, 164.9753, 5844,   2769.5,   1.5852,  34.6530,2,  34.6551,2,    115.2,2,   161.11,2,    38.36,2,     0.00,2,     2.69,2,    0.000,2,    0.000,2,   2350.9,2,   2419.7,2,   7.5127,2,    25.00,      253
  49UP20170623,RF1707,  6048,  1,     13,  25822,2,20170704,0141, 47.9967, 164.9753, 5844,   2976.5,   1.5460,  34.6609,2,  34.6607,2,    123.6,2,   158.90,2,    37.90,2,     0.00,2,     2.65,2, -999.000,9, -999.000,9,   2350.1,2,   2420.2,2,   7.5289,2,    25.00,      248
  49UP20170623,RF1707,  6048,  1,     12,  25821,2,20170704,0141, 47.9967, 164.9753, 5844,   3218.8,   1.5116,  34.6679,2,  34.6685,2,    131.7,6,   156.60,6,    37.36,6,     0.00,6,     2.61,6, -999.000,9, -999.000,9,   2342.2,2,   2420.2,2,   7.5425,2,    25.00,      243
  49UP20170623,RF1707,  6048,  1,     11,  25820,2,20170704,0141, 47.9967, 164.9753, 5844,   3476.9,   1.4890,  34.6735,2,  34.6736,6,    138.0,2,   154.87,2,    36.97,2,     0.00,2,     2.57,2, -999.000,9, -999.000,9,   2340.4,2,   2421.4,2,   7.5559,2,    25.00,      238
  49UP20170623,RF1707,  6048,  1,     10,  25819,2,20170704,0141, 47.9967, 164.9753, 5844,   3731.9,   1.4781,  34.6776,2,  34.6779,2,    143.4,2,   153.68,2,    36.61,2,     0.00,2,     2.55,2,    0.000,2,    0.000,2,   2333.0,2,   2419.1,2,   7.5641,2,    25.00,      232
  49UP20170623,RF1707,  6048,  1,      9,  25818,2,20170704,0141, 47.9967, 164.9753, 5844,   3988.0,   1.4776,  34.6806,2,  34.6802,2,    146.7,3,   152.66,2,    36.42,2,     0.00,2,     2.53,2, -999.000,9, -999.000,9,   2333.6,2,   2422.1,2,   7.5658,2,    25.00,      226
  49UP20170623,RF1707,  6048,  1,      8,  25817,2,20170704,0141, 47.9967, 164.9753, 5844,   4246.3,   1.4816,  34.6832,2,  34.6835,2,    150.4,2,   151.54,2,    36.14,2,     0.00,2,     2.51,2, -999.000,9, -999.000,9,   2327.2,2,   2419.5,2,   7.5760,2,    25.00,      221
  49UP20170623,RF1707,  6048,  1,      7,  25816,2,20170704,0141, 47.9967, 164.9753, 5844,   4503.3,   1.4923,  34.6852,2,  34.6863,2,    153.3,2,   151.06,2,    35.96,2,     0.00,2,     2.50,2, -999.000,9, -999.000,9,   2324.4,2,   2419.4,2,   7.5849,2,    25.00,      215
  49UP20170623,RF1707,  6048,  1,      6,  25815,2,20170704,0141, 47.9967, 164.9753, 5844,   4761.4,   1.5064,  34.6869,2,  34.6880,2,    155.4,2,   150.67,2,    35.83,2,     0.00,2,     2.49,2,    0.000,2,    0.000,2,   2323.8,6,   2417.8,6,   7.5839,2,    25.00,      209
  49UP20170623,RF1707,  6048,  1,      5,  25814,2,20170704,0141, 47.9967, 164.9753, 5844,   5021.3,   1.5273,  34.6882,2,  34.6899,2,    156.7,2,   151.09,2,    35.76,2,     0.00,2,     2.48,2, -999.000,9, -999.000,9,   2321.6,2,   2417.3,2,   7.5868,6,    25.00,      204
  49UP20170623,RF1707,  6048,  1,      4,  25813,2,20170704,0141, 47.9967, 164.9753, 5844,   5276.7,   1.5522,  34.6892,2,  34.6901,2,    157.3,2,   152.41,2,    35.71,2,     0.00,2,     2.47,2, -999.000,9, -999.000,9,   2324.6,2,   2418.6,2,   7.5850,2,    25.00,      158
  49UP20170623,RF1707,  6048,  1,      3,  25812,2,20170704,0141, 47.9967, 164.9753, 5844,   5536.3,   1.5850,  34.6891,2,  34.6909,2,    157.3,6,   152.44,6,    35.72,6,     0.00,6,     2.47,6, -999.000,9, -999.000,9,   2324.5,2,   2418.3,2,   7.5890,2,    25.00,      152
  49UP20170623,RF1707,  6048,  1,      2,  25811,2,20170704,0141, 47.9967, 164.9753, 5844,   5796.4,   1.6195,  34.6893,2,  34.6898,2,    157.8,2,   152.36,2,    35.68,2,     0.00,2,     2.47,2, -999.000,9, -999.000,9,   2322.8,2,   2418.1,2,   7.5884,2,    25.00,      146
  49UP20170623,RF1707,  6048,  1,      1,  25810,2,20170704,0141, 47.9967, 164.9753, 5844,   5980.5,   1.6452,  34.6891,2,  34.6891,2,    157.2,2,   152.29,2,    35.70,2,     0.00,2,     2.48,2,    0.003,6,    0.000,6,   2325.6,2,   2419.3,2,   7.5866,2,    25.00,      141