BOTTLE,20200309PRINUNIVRMK
EXPOCODE,SECT_ID,STNNBR,CASTNO,SAMPNO,BTLNBR,BTLNBR_FLAG_W,DATE,TIME,LATITUDE,LONGITUDE,DEPTH,CTDPRS,CTDTMP,CTDSAL,CTDSAL_FLAG_W,SALNTY,SALNTY_FLAG_W,OXYGEN,OXYGEN_FLAG_W,SILCAT,SILCAT_FLAG_W,NITRAT,NITRAT_FLAG_W,NITRIT,NITRIT_FLAG_W,PHSPHT,PHSPHT_FLAG_W,CFC-11,CFC-11_FLAG_W,CFC-12,CFC-12_FLAG_W,TCARBN,TCARBN_FLAG_W,ALKALI,ALKALI_FLAG_W,PH_TOT,PH_TOT_FLAG_W,PH_TMP,BTL_TIME
,,,,,,,,,,,METERS,DBAR,ITS-90,PSS-78,,PSS-78,,UMOL/KG,,UMOL/KG,,UMOL/KG,,UMOL/KG,,UMOL/KG,,PMOL/KG,,PMOL/KG,,UMOL/KG,,UMOL/KG,,,,DEG C,
  49UP20170623,RF1707,  6065,  1,     99,     99,2,20170725,0728, 35.0060, 164.9857, 5867,      0.0,  25.4833,  34.6904,2,  34.6896,2,    209.8,2,     1.59,2,     0.02,2,     0.00,2,     0.02,2, -999.000,9, -999.000,9,   1985.4,2,   2280.1,2,   8.0457,2,    25.00,      930
  49UP20170623,RF1707,  6065,  1,     36,  25845,2,20170725,0728, 35.0060, 164.9857, 5867,     11.8,  25.4871,  34.6895,2,  34.6873,2,    209.7,6,     1.62,6,     0.03,6,     0.00,6,     0.02,6,    2.016,4,    1.357,4,   1983.0,2,   2280.2,2,   8.0497,2,    25.00,      953
  49UP20170623,RF1707,  6065,  1,     35,  25844,3,20170725,0728, 35.0060, 164.9857, 5867,     51.4,  19.7036,  34.8258,2,  34.8252,2,    244.4,2,     1.83,2,     0.06,2,     0.00,2,     0.03,2,    2.303,4,    1.382,4,   2004.8,2,   2290.5,2,   8.0337,2,    25.00,      951
  49UP20170623,RF1707,  6065,  1,     34,  25843,2,20170725,0728, 35.0060, 164.9857, 5867,    101.9,  17.6012,  34.8078,2,  34.8059,2,    231.2,2,     2.59,2,     0.58,2,     0.18,2,     0.11,2,    2.486,4,    1.520,4,   2033.5,2,   2287.9,2,   7.9887,2,    25.00,      947
  49UP20170623,RF1707,  6065,  1,     33,  25842,2,20170725,0728, 35.0060, 164.9857, 5867,    151.2,  17.0053,  34.7899,2,  34.7884,2,    223.1,2,     3.55,2,     3.60,2,     0.02,2,     0.25,2,    2.596,4,    1.540,4,   2035.7,2,   2285.5,2,   7.9630,2,    25.00,      945
  49UP20170623,RF1707,  6065,  1,     32,  25841,2,20170725,0728, 35.0060, 164.9857, 5867,    204.0,  16.6749,  34.7750,2,  34.7737,2,    226.3,2,     3.97,2,     3.79,2,     0.01,2,     0.26,2,    2.587,4,    1.548,4,   2036.4,6,   2285.9,6,   7.9603,2,    25.00,      943
  49UP20170623,RF1707,  6065,  1,     31,  25840,3,20170725,0728, 35.0060, 164.9857, 5867,    253.7,  16.4869,  34.7551,2,  34.7552,2,    226.5,2,     4.25,2,     4.00,2,     0.01,2,     0.28,2,    2.734,4,    1.615,4,   2041.8,2,   2285.2,2,   7.9564,6,    25.00,      942
  49UP20170623,RF1707,  6065,  1,     30,  25839,2,20170725,0728, 35.0060, 164.9857, 5867,    302.7,  15.9135,  34.6794,2,  34.6788,2,    215.8,2,     6.18,2,     5.97,2,     0.01,2,     0.41,2,    2.519,4,    1.485,4,   2052.5,2,   2282.4,2,   7.9295,2,    25.00,      940
  49UP20170623,RF1707,  6065,  1,     29,  25838,2,20170725,0728, 35.0060, 164.9857, 5867,    401.7,  13.8057,  34.4769,2,  34.4770,2,    208.7,2,    11.36,2,     9.81,2,     0.00,2,     0.68,2,    2.969,4,    1.712,4,   2076.8,2,   2275.3,2,   7.8651,2,    25.00,      937
  49UP20170623,RF1707,  6065,  1,     28,  25837,2,20170725,0728, 35.0060, 164.9857, 5867,    504.3,  11.6364,  34.2922,2,  34.2931,2,    210.3,2,    16.46,2,    13.15,2,     0.00,2,     0.92,2,    3.127,4,    1.866,4,   2099.5,2,   2270.2,2,   7.8107,2,    25.00,      934
  49UP20170623,RF1707,  6065,  1,     27,  25836,2,20170725,0728, 35.0060, 164.9857, 5867,    605.8,   9.0745,  34.0895,2,  34.0906,2,    194.4,6,    29.01,6,    19.20,6,     0.00,6,     1.37,6,    3.192,4,    1.834,4,   2141.5,2,   2272.5,2,   7.7114,2,    25.00,      931
  49UP20170623,RF1707,  6065,  1,     26,  25835,2,20170725,0728, 35.0060, 164.9857, 5867,    706.6,   6.9489,  34.0015,2,  34.0029,2,    155.1,2,    49.27,2,    26.73,2,     0.00,2,     1.93,2,    2.805,4,    1.487,4,   2198.6,2,   2284.4,2,   7.5885,2,    25.00,      929
  49UP20170623,RF1707,  6065,  1,     25,  25834,2,20170725,0728, 35.0060, 164.9857, 5867,    808.3,   5.2154,  34.0188,2,  34.0211,2,    107.8,2,    74.82,2,    34.03,2,     0.00,2,     2.45,2,    2.162,4,    1.108,4,   2258.5,2,   2303.1,2,   7.4659,2,    25.00,      926
  49UP20170623,RF1707,  6065,  1,     24,  25833,2,20170725,0728, 35.0060, 164.9857, 5867,    908.6,   4.5987,  34.1340,2,  34.1323,2,     73.0,2,    93.92,2,    37.97,2,     0.00,2,     2.72,2,    1.513,4,    0.799,4,   2291.5,2,   2324.0,2,   7.4088,2,    25.00,      923
  49UP20170623,RF1707,  6065,  1,     23,  25832,2,20170725,0728, 35.0060, 164.9857, 5867,   1010.5,   4.0778,  34.2132,2,  34.2142,6,     52.3,2,   108.67,2,    40.31,2,     0.00,2,     2.88,2,    0.882,4,    0.452,4,   2328.0,2,   2341.7,2,   7.3786,2,    25.00,      920
  49UP20170623,RF1707,  6065,  1,     22,  25831,2,20170725,0728, 35.0060, 164.9857, 5867,   1213.3,   3.3715,  34.3449,2,  34.3461,2,     38.5,2,   129.56,2,    42.21,2,     0.00,2,     3.01,2,    0.327,4,    0.172,4,   2350.5,2,   2368.6,2,   7.3592,2,    25.00,      916
  49UP20170623,RF1707,  6065,  1,     21,  25830,2,20170725,0728, 35.0060, 164.9857, 5867,   1415.8,   2.9074,  34.4361,2,  34.4363,2,     33.4,2,   143.52,2,    43.24,2,     0.00,2,     3.07,2,    0.083,4,    0.067,4,   2369.9,6,   2386.9,6,   7.3596,2,    25.00,      911
  49UP20170623,RF1707,  6065,  1,     20,  25829,2,20170725,0728, 35.0060, 164.9857, 5867,   1618.9,   2.5383,  34.4932,2,  34.4937,2,     39.4,2,   153.52,2,    43.14,2,     0.00,2,     3.06,2,    0.038,4,    0.039,4,   2383.1,2,   2398.6,2,   7.3710,6,    25.00,      906
  49UP20170623,RF1707,  6065,  1,     19,  25828,2,20170725,0728, 35.0060, 164.9857, 5867,   1822.1,   2.2792,  34.5400,2,  34.5400,2,     50.1,2,   158.88,2,    42.56,2,     0.00,2,     3.00,2,    0.023,4,    0.028,4,   2388.4,2,   2407.0,2,   7.3961,2,    25.00,      901
  49UP20170623,RF1707,  6065,  1,     18,  25827,2,20170725,0728, 35.0060, 164.9857, 5867,   2023.3,   2.0683,  34.5747,2,  34.5750,2,     63.6,6,   162.57,6,    41.82,6,     0.00,6,     2.94,6,    0.012,4,    0.021,4,   2370.8,2,   2413.1,2,   7.4216,2,    25.00,      857
  49UP20170623,RF1707,  6065,  1,     17,  25826,2,20170725,0728, 35.0060, 164.9857, 5867,   2227.6,   1.9281,  34.5982,2,  34.5941,4,     75.8,2,   162.99,2,    41.01,2,     0.00,2,     2.89,2,    0.036,4,    0.087,4,   2369.1,2,   2415.9,2,   7.4425,2,    25.00,      852
  49UP20170623,RF1707,  6065,  1,     16,  25825,2,20170725,0728, 35.0060, 164.9857, 5867,   2432.1,   1.8006,  34.6197,2,  34.6198,2,     90.0,2,   163.18,2,    40.13,2,     0.00,2,     2.82,2,    0.004,4,    0.014,4,   2359.8,2,   2418.7,2,   7.4717,2,    25.00,      847
  49UP20170623,RF1707,  6065,  1,     15,  25824,2,20170725,0728, 35.0060, 164.9857, 5867,   2635.6,   1.7118,  34.6349,2,  34.6315,4,    101.2,2,   161.55,2,    39.36,2,     0.00,2,     2.76,2,    0.012,4,    0.027,4,   2350.9,2,   2419.9,2,   7.4966,2,    25.00,      843
  49UP20170623,RF1707,  6065,  1,     14,  25823,2,20170725,0728, 35.0060, 164.9857, 5867,   2839.0,   1.6480,  34.6464,2,  34.6472,6,    112.2,2,   159.53,2,    38.71,2,     0.00,2,     2.71,2,    0.025,4,    0.079,4,   2350.3,2,   2420.9,2,   7.5142,2,    25.00,      838
  49UP20170623,RF1707,  6065,  1,     13,  25822,2,20170725,0728, 35.0060, 164.9857, 5867,   3044.0,   1.6005,  34.6555,2,  34.6559,2,    120.7,2,   158.15,2,    38.13,2,     0.00,2,     2.66,2, -999.000,9, -999.000,9,   2342.6,2,   2420.9,2,   7.5301,2,    25.00,      833
  49UP20170623,RF1707,  6065,  1,     12,  25821,2,20170725,0728, 35.0060, 164.9857, 5867,   3299.2,   1.5494,  34.6644,2,  34.6652,2,    130.1,2,   156.18,2,    37.55,2,     0.00,2,     2.62,2, -999.000,9, -999.000,9,   2342.0,2,   2421.9,2,   7.5518,2,    25.00,      827
  49UP20170623,RF1707,  6065,  1,     11,  25820,2,20170725,0728, 35.0060, 164.9857, 5867,   3554.3,   1.5182,  34.6709,2,  34.6690,2,    136.7,2,   153.72,2,    37.07,2,     0.00,2,     2.58,2, -999.000,9, -999.000,9,   2336.4,2,   2421.0,2,   7.5565,2,    25.00,      822
  49UP20170623,RF1707,  6065,  1,     10,  25819,2,20170725,0728, 35.0060, 164.9857, 5867,   3813.5,   1.4970,  34.6758,2,  34.6765,2,    142.5,6,   153.40,6,    36.73,6,     0.00,6,     2.55,6,    0.000,4,    0.000,4,   2333.3,2,   2421.8,2,   7.5703,2,    25.00,      816
  49UP20170623,RF1707,  6065,  1,      9,  25818,2,20170725,0728, 35.0060, 164.9857, 5867,   4068.3,   1.4912,  34.6796,2,  34.6780,2,    146.7,2,   151.09,2,    36.44,2,     0.00,2,     2.53,2, -999.000,9, -999.000,9,   2323.3,3,   2419.1,2,   7.5780,2,    25.00,      811
  49UP20170623,RF1707,  6065,  1,      8,  25817,2,20170725,0728, 35.0060, 164.9857, 5867,   4325.5,   1.4875,  34.6829,2,  34.6832,2,    151.5,2,   150.26,2,    36.12,2,     0.00,2,     2.51,2, -999.000,9, -999.000,9,   2330.5,3,   2418.8,2,   7.5855,2,    25.00,      805
  49UP20170623,RF1707,  6065,  1,      7,  25816,2,20170725,0728, 35.0060, 164.9857, 5867,   4582.5,   1.4956,  34.6852,2,  34.6858,6,    154.1,2,   149.85,2,    35.94,2,     0.00,2,     2.49,2, -999.000,9, -999.000,9,   2321.2,2,   2418.4,6,   7.5886,2,    25.00,      759
  49UP20170623,RF1707,  6065,  1,      6,  25815,2,20170725,0728, 35.0060, 164.9857, 5867,   4839.9,   1.5088,  34.6871,2,  34.6876,2,    156.8,2,   148.89,2,    35.72,2,     0.00,2,     2.48,2,    0.010,4,    0.014,4,   2317.9,2,   2417.1,2,   7.5918,6,    25.00,      754
  49UP20170623,RF1707,  6065,  1,      5,  25814,2,20170725,0728, 35.0060, 164.9857, 5867,   5096.3,   1.5233,  34.6889,2,  34.6893,2,    158.9,2,   148.18,2,    35.59,2,     0.00,2,     2.46,2, -999.000,9, -999.000,9,   2317.3,2,   2418.0,2,   7.5943,2,    25.00,      749
  49UP20170623,RF1707,  6065,  1,      4,  25813,2,20170725,0728, 35.0060, 164.9857, 5867,   5354.1,   1.5337,  34.6908,2,  34.6909,2,    163.2,2,   143.90,2,    35.25,2,     0.00,2,     2.44,2, -999.000,9, -999.000,9,   2315.6,2,   2414.2,2,   7.6012,2,    25.00,      743
  49UP20170623,RF1707,  6065,  1,      3,  25812,2,20170725,0728, 35.0060, 164.9857, 5867,   5613.4,   1.5423,  34.6930,2,  34.6930,2,    168.2,2,   139.01,2,    34.91,2,     0.00,2,     2.41,2, -999.000,9, -999.000,9,   2307.0,2,   2410.5,2,   7.6087,2,    25.00,      738
  49UP20170623,RF1707,  6065,  1,      2,  25811,2,20170725,0728, 35.0060, 164.9857, 5867,   5871.3,   1.5575,  34.6946,2,  34.6944,6,    171.5,2,   136.61,2,    34.69,2,     0.00,2,     2.40,2, -999.000,9, -999.000,9,   2301.1,2,   2408.5,2,   7.6120,2,    25.00,      732
  49UP20170623,RF1707,  6065,  1,      1,  25810,2,20170725,0728, 35.0060, 164.9857, 5867,   6035.9,   1.5700,  34.6955,2,  34.6963,2,    172.8,2,   135.77,2,    34.61,2,     0.00,2,     2.39,2,    0.002,4,    0.006,4,   2299.2,2,   2408.2,2,   7.6141,2,    25.00,      728