BOTTLE,20200309PRINUNIVRMK
EXPOCODE,SECT_ID,STNNBR,CASTNO,SAMPNO,BTLNBR,BTLNBR_FLAG_W,DATE,TIME,LATITUDE,LONGITUDE,DEPTH,CTDPRS,CTDTMP,CTDSAL,CTDSAL_FLAG_W,SALNTY,SALNTY_FLAG_W,OXYGEN,OXYGEN_FLAG_W,SILCAT,SILCAT_FLAG_W,NITRAT,NITRAT_FLAG_W,NITRIT,NITRIT_FLAG_W,PHSPHT,PHSPHT_FLAG_W,CFC-11,CFC-11_FLAG_W,CFC-12,CFC-12_FLAG_W,TCARBN,TCARBN_FLAG_W,ALKALI,ALKALI_FLAG_W,PH_TOT,PH_TOT_FLAG_W,PH_TMP,BTL_TIME
,,,,,,,,,,,METERS,DBAR,ITS-90,PSS-78,,PSS-78,,UMOL/KG,,UMOL/KG,,UMOL/KG,,UMOL/KG,,UMOL/KG,,PMOL/KG,,PMOL/KG,,UMOL/KG,,UMOL/KG,,,,DEG C,
  49UP20170623,RF1707,  6035,  1,     99,     99,2,20170627,1505, 40.9162, 149.9010, 5328,      0.0,  16.9054,  34.4828,2,  34.4850,2,    249.5,2,     2.54,2,     0.50,2,     0.02,2,     0.08,4, -999.000,9, -999.000,9,   2016.6,2,   2281.5,2,   7.9969,2,    25.00,     1655
  49UP20170623,RF1707,  6035,  1,     36,  25845,2,20170627,1505, 40.9162, 149.9010, 5328,      9.9,  16.9034,  34.4830,2,  34.4870,2,    249.2,2,     2.50,2,     0.55,3,     0.02,2,     0.06,3,    2.501,2,    1.547,2,   2016.4,2,   2280.8,2,   8.0010,2,    25.00,     1725
  49UP20170623,RF1707,  6035,  1,     35,  25844,2,20170627,1505, 40.9162, 149.9010, 5328,     25.9,  16.7597,  34.4882,2,  34.4936,4,    248.8,6,     2.93,6,     0.92,6,     0.05,6,     0.09,2, -999.000,9, -999.000,9,   2022.0,2,   2282.7,2,   7.9939,2,    25.00,     1724
  49UP20170623,RF1707,  6035,  1,     34,  25843,2,20170627,1505, 40.9162, 149.9010, 5328,     50.3,  14.6707,  34.4442,2,  34.4420,2,    251.9,2,     9.38,2,     4.89,2,     0.24,2,     0.45,2,    2.814,2,    1.718,2,   2054.8,2,   2282.1,2,   7.9179,2,    25.00,     1719
  49UP20170623,RF1707,  6035,  1,     33,  25842,2,20170627,1505, 40.9162, 149.9010, 5328,     75.5,  12.4952,  34.4120,2,  34.4035,4,    235.5,2,    13.95,2,     9.92,2,     0.07,2,     0.71,2, -999.000,9, -999.000,9,   2080.6,6,   2278.1,2,   7.8573,2,    25.00,     1718
  49UP20170623,RF1707,  6035,  1,     32,  25841,2,20170627,1505, 40.9162, 149.9010, 5328,    101.9,  11.7015,  34.3646,2,  34.3687,4,    235.5,2,    15.73,2,    10.92,2,     0.02,2,     0.78,2,    2.963,2,    1.783,2,   2090.8,2,   2277.7,2,   7.8409,6,    25.00,     1716
  49UP20170623,RF1707,  6035,  1,     31,  25840,2,20170627,1505, 40.9162, 149.9010, 5328,    125.6,  11.1962,  34.3208,2,  34.3188,2,    225.8,2,    18.31,2,    12.64,2,     0.02,2,     0.90,2, -999.000,9, -999.000,9,   2097.8,2,   2278.2,2,   7.8139,2,    25.00,     1714
  49UP20170623,RF1707,  6035,  1,     30,  25839,2,20170627,1505, 40.9162, 149.9010, 5328,    151.0,  10.4446,  34.2343,2,  34.2214,2,    221.3,2,    20.99,2,    14.12,2,     0.02,2,     1.01,2,    2.994,6,    1.778,6,   2112.2,2,   2277.8,2,   7.7875,2,    25.00,     1713
  49UP20170623,RF1707,  6035,  1,     29,  25838,2,20170627,1505, 40.9162, 149.9010, 5328,    202.8,   8.7434,  34.0358,2,  34.0372,2,    240.0,2,    22.79,2,    14.88,2,     0.01,2,     1.09,2,    3.352,2,    1.965,2,   2116.9,2,   2271.6,2,   7.7672,2,    25.00,     1711
  49UP20170623,RF1707,  6035,  1,     28,  25837,2,20170627,1505, 40.9162, 149.9010, 5328,    253.4,   7.6609,  33.9597,2,  33.9636,4,    199.4,2,    35.91,2,    20.98,2,     0.02,2,     1.52,2,    9.548,4,   19.983,4,   2157.5,2,   2275.1,2,   7.6740,2,    25.00,     1709
  49UP20170623,RF1707,  6035,  1,     27,  25836,2,20170627,1505, 40.9162, 149.9010, 5328,    332.8,   6.1410,  33.9599,2,  33.9611,2,    145.4,2,    56.79,2,    28.89,2,     0.01,2,     2.09,2,    2.690,2,    1.501,2,   2218.3,2,   2289.8,2,   7.5434,2,    25.00,     1707
  49UP20170623,RF1707,  6035,  1,     26,  25835,2,20170627,1505, 40.9162, 149.9010, 5328,    433.4,   5.2763,  34.0389,2,  34.0398,2,    105.2,2,    75.40,2,    34.10,2,     0.00,2,     2.45,2,    2.077,2,    1.093,2,   2266.0,2,   2307.2,2,   7.4590,2,    25.00,     1704
  49UP20170623,RF1707,  6035,  1,     25,  25834,2,20170627,1505, 40.9162, 149.9010, 5328,    536.0,   4.4845,  34.1375,2,  34.1399,2,     73.9,2,    95.77,2,    38.38,2,     0.00,2,     2.75,2,    1.373,2,    0.700,2,   2304.7,6,   2327.1,6,   7.3939,2,    25.00,     1702
  49UP20170623,RF1707,  6035,  1,     24,  25833,2,20170627,1505, 40.9162, 149.9010, 5328,    637.1,   4.0130,  34.2161,2,  34.2159,2,     52.2,2,   109.40,2,    40.35,2,     0.00,2,     2.88,2,    0.921,2,    0.454,2,   2331.6,2,   2344.8,2,   7.3675,6,    25.00,     1659
  49UP20170623,RF1707,  6035,  1,     23,  25832,2,20170627,1505, 40.9162, 149.9010, 5328,    738.9,   3.6627,  34.2871,2,  34.2869,2,     45.0,2,   120.01,2,    41.28,2,     0.00,2,     2.94,2,    0.574,2,    0.291,2,   2345.0,2,   2358.0,2,   7.3608,2,    25.00,     1656
  49UP20170623,RF1707,  6035,  1,     22,  25831,2,20170627,1505, 40.9162, 149.9010, 5328,    838.8,   3.3865,  34.3366,2,  34.3355,2,     41.4,6,   127.83,6,    41.87,6,     0.00,6,     2.99,6,    0.382,2,    0.189,2,   2355.7,2,   2366.9,2,   7.3552,2,    25.00,     1653
  49UP20170623,RF1707,  6035,  1,     21,  25830,2,20170627,1505, 40.9162, 149.9010, 5328,    940.5,   3.0449,  34.3550,2,  34.3547,6,     35.3,2,   138.17,2,    42.59,2,     0.00,2,     3.04,2,    0.350,2,    0.176,2,   2365.7,2,   2372.7,2,   7.3370,2,    25.00,     1650
  49UP20170623,RF1707,  6035,  1,     20,  25829,2,20170627,1505, 40.9162, 149.9010, 5328,   1082.7,   2.7737,  34.3992,2,  34.3996,2,     34.8,2,   146.40,2,    42.84,2,     0.00,2,     3.05,2,    0.251,2,    0.121,2,   2378.9,2,   2383.7,2,   7.3434,2,    25.00,     1646
  49UP20170623,RF1707,  6035,  1,     19,  25828,2,20170627,1505, 40.9162, 149.9010, 5328,   1286.0,   2.4671,  34.4653,2,  34.4650,2,     38.4,2,   155.74,2,    42.91,2,     0.00,2,     3.05,2,    0.132,2,    0.060,2,   2386.3,2,   2396.0,2,   7.3525,2,    25.00,     1641
  49UP20170623,RF1707,  6035,  1,     18,  25827,2,20170627,1505, 40.9162, 149.9010, 5328,   1488.7,   2.2823,  34.5113,2,  34.5107,2,     46.0,2,   159.91,2,    42.58,2,     0.00,2,     3.01,2,    0.077,6,    0.028,6,   2386.2,2,   2403.3,2,   7.3715,2,    25.00,     1636
  49UP20170623,RF1707,  6035,  1,     17,  25826,2,20170627,1505, 40.9162, 149.9010, 5328,   1690.3,   2.1521,  34.5528,2,  34.5520,2,     57.2,2,   160.40,2,    42.01,2,     0.00,2,     2.96,2,    0.022,2,    0.000,2,   2380.6,2,   2409.4,2,   7.4020,2,    25.00,     1631
  49UP20170623,RF1707,  6035,  1,     16,  25825,2,20170627,1505, 40.9162, 149.9010, 5328,   1896.3,   1.9832,  34.5857,2,  34.5845,2,     70.7,2,   162.01,2,    41.21,2,     0.00,2,     2.90,2,    0.008,2,    0.000,2,   2377.4,2,   2413.3,2,   7.4284,2,    25.00,     1626
  49UP20170623,RF1707,  6035,  1,     15,  25824,2,20170627,1505, 40.9162, 149.9010, 5328,   2095.1,   1.8731,  34.6064,2,  34.6055,6,     81.9,2,   161.90,2,    40.56,2,     0.00,2,     2.84,2,    0.001,2,    0.000,2,   2374.7,2,   2418.6,2,   7.4494,2,    25.00,     1621
  49UP20170623,RF1707,  6035,  1,     14,  25823,2,20170627,1505, 40.9162, 149.9010, 5328,   2302.2,   1.7643,  34.6255,2,  34.6250,2,     94.5,6,   160.99,6,    39.77,6,     0.00,6,     2.78,6,    0.000,2,    0.000,2,   2364.4,2,   2420.1,2,   7.4767,2,    25.00,     1616
  49UP20170623,RF1707,  6035,  1,     13,  25822,2,20170627,1505, 40.9162, 149.9010, 5328,   2505.6,   1.6949,  34.6379,2,  34.6376,2,    104.1,2,   160.19,2,    39.19,2,     0.00,2,     2.74,2,    0.000,2,    0.000,2,   2360.2,2,   2422.0,2,   7.4948,2,    25.00,     1611
  49UP20170623,RF1707,  6035,  1,     12,  25821,2,20170627,1505, 40.9162, 149.9010, 5328,   2709.1,   1.6261,  34.6495,2,  34.6489,2,    114.0,2,   158.53,2,    38.51,2,     0.00,2,     2.69,2,    0.000,2,    0.000,2,   2351.3,2,   2420.3,2,   7.5151,2,    25.00,     1606
  49UP20170623,RF1707,  6035,  1,     11,  25820,2,20170627,1505, 40.9162, 149.9010, 5328,   2912.4,   1.5725,  34.6587,2,  34.6578,2,    122.3,2,   157.17,2,    38.04,2,     0.00,2,     2.65,2,    0.000,2,    0.000,2,   2349.9,6,   2420.1,6,   7.5285,2,    25.00,     1601
  49UP20170623,RF1707,  6035,  1,     10,  25819,2,20170627,1505, 40.9162, 149.9010, 5328,   3126.2,   1.5301,  34.6663,2,  34.6658,2,    130.5,2,   155.31,2,    37.51,2,     0.00,2,     2.61,2, -999.000,9, -999.000,9,   2344.9,2,   2423.8,3,   7.5404,6,    25.00,     1556
  49UP20170623,RF1707,  6035,  1,      9,  25818,2,20170627,1505, 40.9162, 149.9010, 5328,   3383.1,   1.4949,  34.6728,2,  34.6726,6,    137.4,2,   153.76,2,    37.03,2,     0.01,3,     2.57,2, -999.000,9, -999.000,9,   2340.8,2,   2420.4,2,   7.5549,2,    25.00,     1550
  49UP20170623,RF1707,  6035,  1,      8,  25817,2,20170627,1505, 40.9162, 149.9010, 5328,   3638.8,   1.4733,  34.6781,2,  34.6775,2,    143.6,2,   152.01,2,    36.64,2,     0.01,3,     2.54,2, -999.000,9, -999.000,9,   2341.4,2,   2418.4,2,   7.5632,2,    25.00,     1545
  49UP20170623,RF1707,  6035,  1,      7,  25816,2,20170627,1505, 40.9162, 149.9010, 5328,   3894.7,   1.4633,  34.6820,2,  34.6816,2,    148.6,2,   150.41,2,    36.33,2,     0.01,3,     2.51,2,    0.000,2,    0.000,2,   2330.3,2,   2419.3,2,   7.5736,2,    25.00,     1539
  49UP20170623,RF1707,  6035,  1,      6,  25815,2,20170627,1505, 40.9162, 149.9010, 5328,   4152.7,   1.4606,  34.6850,2,  34.6843,2,    152.7,6,   149.47,6,    36.05,6,     0.01,3,     2.49,6, -999.000,9, -999.000,9,   2328.0,2,   2419.4,2,   7.5785,2,    25.00,     1533
  49UP20170623,RF1707,  6035,  1,      5,  25814,2,20170627,1505, 40.9162, 149.9010, 5328,   4409.0,   1.4685,  34.6872,2,  34.6872,2,    155.5,2,   148.68,2,    35.85,2,     0.00,3,     2.47,2, -999.000,9, -999.000,9,   2326.6,2,   2418.6,2,   7.5845,2,    25.00,     1528
  49UP20170623,RF1707,  6035,  1,      4,  25813,2,20170627,1505, 40.9162, 149.9010, 5328,   4666.8,   1.4831,  34.6888,2,  34.6887,2,    157.2,2,   148.60,2,    35.73,2,     0.00,3,     2.47,2, -999.000,9, -999.000,9,   2331.4,2,   2416.1,2,   7.5887,2,    25.00,     1522
  49UP20170623,RF1707,  6035,  1,      3,  25812,2,20170627,1505, 40.9162, 149.9010, 5328,   4923.7,   1.5027,  34.6900,2,  34.6921,4,    158.4,2,   147.99,2,    35.61,2,     0.00,3,     2.46,2,    0.001,2,    0.000,2,   2322.0,2,   2417.3,2,   7.5918,2,    25.00,     1516
  49UP20170623,RF1707,  6035,  1,      2,  25811,2,20170627,1505, 40.9162, 149.9010, 5328,   5182.1,   1.5285,  34.6906,2,  34.6905,6,    159.7,2,   147.26,2,    35.50,2,     0.00,3,     2.45,2, -999.000,9, -999.000,9,   2330.1,2,   2416.6,2,   7.5948,2,    25.00,     1511
  49UP20170623,RF1707,  6035,  1,      1,  25810,2,20170627,1505, 40.9162, 149.9010, 5328,   5439.1,   1.5535,  34.6913,2,  34.6905,2,    161.5,2,   145.51,2,    35.39,2,     0.01,3,     2.44,2,    0.004,6,    0.000,6,   2323.2,2,   2416.6,2,   7.5930,2,    25.00,     1505