BOTTLE,20200309PRINUNIVRMK
EXPOCODE,SECT_ID,STNNBR,CASTNO,SAMPNO,BTLNBR,BTLNBR_FLAG_W,DATE,TIME,LATITUDE,LONGITUDE,DEPTH,CTDPRS,CTDTMP,CTDSAL,CTDSAL_FLAG_W,SALNTY,SALNTY_FLAG_W,OXYGEN,OXYGEN_FLAG_W,SILCAT,SILCAT_FLAG_W,NITRAT,NITRAT_FLAG_W,NITRIT,NITRIT_FLAG_W,PHSPHT,PHSPHT_FLAG_W,CFC-11,CFC-11_FLAG_W,CFC-12,CFC-12_FLAG_W,TCARBN,TCARBN_FLAG_W,ALKALI,ALKALI_FLAG_W,PH_TOT,PH_TOT_FLAG_W,PH_TMP,BTL_TIME
,,,,,,,,,,,METERS,DBAR,ITS-90,PSS-78,,PSS-78,,UMOL/KG,,UMOL/KG,,UMOL/KG,,UMOL/KG,,UMOL/KG,,PMOL/KG,,PMOL/KG,,UMOL/KG,,UMOL/KG,,,,DEG C,
  49UP20170623,RF1707,  6053,  1,     99,     99,2,20170706,1920, 43.0098, 165.0200, 5402,      0.0,   9.4427,  32.8922,2,  32.8909,2,    293.0,2,    19.74,2,    12.74,2,     0.17,2,     1.22,2, -999.000,9, -999.000,9,   2057.0,2,   2222.8,2,   7.7985,2,    25.00,     2110
  49UP20170623,RF1707,  6053,  1,     36,  25845,2,20170706,1920, 43.0098, 165.0200, 5402,     10.9,   9.4255,  32.8929,2,  32.8942,2,    292.8,2,    19.75,2,    12.75,2,     0.17,2,     1.20,2,    3.907,2,    2.305,2,   2067.5,2,   2221.9,2,   7.8013,2,    25.00,     2129
  49UP20170623,RF1707,  6053,  1,     35,  25844,2,20170706,1920, 43.0098, 165.0200, 5402,     27.7,   8.3091,  33.0027,2,  33.0065,2,    301.0,2,    20.21,2,    12.95,2,     0.17,2,     1.23,2, -999.000,9, -999.000,9,   2070.1,6,   2229.7,6,   7.7906,2,    25.00,     2127
  49UP20170623,RF1707,  6053,  1,     34,  25843,2,20170706,1920, 43.0098, 165.0200, 5402,     51.5,   4.9787,  33.1462,2,  33.1530,4,    323.0,2,    25.66,2,    16.14,2,     0.30,2,     1.42,2,    4.821,2,    2.765,2,   2097.5,2,   2238.5,2,   7.7407,6,    25.00,     2125
  49UP20170623,RF1707,  6053,  1,     33,  25842,2,20170706,1920, 43.0098, 165.0200, 5402,     78.5,   4.6320,  33.2530,2,  33.2476,2,    304.4,6,    26.89,6,    17.66,6,     0.15,6,     1.45,6, -999.000,9, -999.000,9,   2113.9,2,   2239.3,2,   7.7103,2,    25.00,     2124
  49UP20170623,RF1707,  6053,  1,     32,  25841,2,20170706,1920, 43.0098, 165.0200, 5402,    101.0,   4.9482,  33.3913,2,  33.3904,2,    297.4,2,    26.94,2,    17.76,2,     0.03,2,     1.42,2,    4.541,2,    2.627,2,   2117.9,2,   2244.6,2,   7.7098,2,    25.00,     2122
  49UP20170623,RF1707,  6053,  1,     31,  25840,2,20170706,1920, 43.0098, 165.0200, 5402,    152.6,   4.0521,  33.5055,2,  33.5051,2,    209.2,2,    49.02,2,    27.40,2,     0.01,2,     2.05,2,    4.031,2,    2.306,2,   2185.8,2,   2259.4,2,   7.5421,2,    25.00,     2120
  49UP20170623,RF1707,  6053,  1,     30,  25839,3,20170706,1920, 43.0098, 165.0200, 5402,    201.9,   3.9107,  33.6699,2,  33.6696,2,    150.4,2,    65.33,2,    33.09,2,     0.01,2,     2.42,2,    3.435,2,    1.940,2,   2234.9,2,   2273.8,2,   7.4415,2,    25.00,     2115
  49UP20170623,RF1707,  6053,  1,     29,  25838,2,20170706,1920, 43.0098, 165.0200, 5402,    254.0,   4.0563,  33.7926,2,  33.7886,2,    119.1,2,    74.69,2,    35.55,2,     0.02,2,     2.57,2,    2.920,2,    1.627,2,   2255.6,2,   2286.5,2,   7.4033,2,    25.00,     2114
  49UP20170623,RF1707,  6053,  1,     28,  25837,2,20170706,1920, 43.0098, 165.0200, 5402,    334.8,   3.8379,  33.8924,2,  33.8915,2,     81.5,2,    88.56,2,    39.28,2,     0.01,2,     2.81,2,    2.403,2,    1.280,2,   2287.4,2,   2299.7,2,   7.3408,2,    25.00,     2111
  49UP20170623,RF1707,  6053,  1,     27,  25836,2,20170706,1920, 43.0098, 165.0200, 5402,    435.5,   3.7762,  34.0248,2,  34.0256,2,     55.1,2,   101.74,2,    41.29,2,     0.01,2,     2.94,2,    1.751,2,    0.909,2,   2321.3,2,   2316.2,2,   7.3151,2,    25.00,     2109
  49UP20170623,RF1707,  6053,  1,     26,  25835,2,20170706,1920, 43.0098, 165.0200, 5402,    533.2,   3.6436,  34.1121,2,  34.1109,2,     40.0,6,   111.95,6,    42.44,6,     0.01,6,     3.01,6,    1.305,2,    0.652,2,   2332.0,2,   2328.1,2,   7.3045,2,    25.00,     2106
  49UP20170623,RF1707,  6053,  1,     25,  25834,2,20170706,1920, 43.0098, 165.0200, 5402,    636.4,   3.5154,  34.2161,2,  34.2192,2,     36.8,2,   121.76,2,    42.52,2,     0.01,2,     3.02,2,    0.819,2,    0.411,2,   2344.7,6,   2346.0,6,   7.3207,2,    25.00,     2104
  49UP20170623,RF1707,  6053,  1,     24,  25833,2,20170706,1920, 43.0098, 165.0200, 5402,    737.9,   3.2700,  34.2887,2,  34.2881,2,     32.8,2,   130.83,2,    42.84,2,     0.01,2,     3.05,2,    0.533,6,    0.267,6,   2351.8,2,   2358.3,2,   7.3238,6,    25.00,     2102
  49UP20170623,RF1707,  6053,  1,     23,  25832,2,20170706,1920, 43.0098, 165.0200, 5402,    838.8,   3.0738,  34.3393,2,  34.3391,2,     31.9,2,   137.23,2,    43.10,2,     0.00,2,     3.06,2,    0.364,2,    0.180,2,   2361.2,2,   2368.2,2,   7.3304,2,    25.00,     2059
  49UP20170623,RF1707,  6053,  1,     22,  25831,2,20170706,1920, 43.0098, 165.0200, 5402,    940.3,   2.9039,  34.3783,2,  34.3780,2,     31.8,2,   142.81,2,    43.26,2,     0.00,2,     3.06,2,    0.262,2,    0.119,2,   2371.5,2,   2375.5,2,   7.3313,2,    25.00,     2057
  49UP20170623,RF1707,  6053,  1,     21,  25830,2,20170706,1920, 43.0098, 165.0200, 5402,   1082.8,   2.7073,  34.4258,2,  34.4257,2,     33.4,2,   148.72,2,    43.34,2,     0.01,2,     3.06,2,    0.168,2,    0.067,2,   2374.6,2,   2385.7,2,   7.3412,2,    25.00,     2053
  49UP20170623,RF1707,  6053,  1,     20,  25829,2,20170706,1920, 43.0098, 165.0200, 5402,   1285.1,   2.4478,  34.4758,2,  34.4758,2,     37.6,2,   156.42,2,    43.27,2,     0.00,2,     3.05,2,    0.100,2,    0.039,2,   2379.3,2,   2394.2,2,   7.3557,2,    25.00,     2049
  49UP20170623,RF1707,  6053,  1,     19,  25828,2,20170706,1920, 43.0098, 165.0200, 5402,   1486.5,   2.2759,  34.5150,2,  34.5139,6,     44.9,2,   160.52,2,    42.87,2,     0.00,2,     3.02,2,    0.065,2,    0.014,2,   2379.8,2,   2400.4,2,   7.3702,2,    25.00,     2044
  49UP20170623,RF1707,  6053,  1,     18,  25827,2,20170706,1920, 43.0098, 165.0200, 5402,   1689.8,   2.1372,  34.5479,2,  34.5471,2,     54.0,2,   162.98,2,    42.40,2,     0.01,2,     2.98,2,    0.026,2,    0.000,2,   2377.0,2,   2406.1,2,   7.3944,2,    25.00,     2040
  49UP20170623,RF1707,  6053,  1,     17,  25826,2,20170706,1920, 43.0098, 165.0200, 5402,   1893.1,   2.0056,  34.5779,2,  34.5777,2,     64.9,6,   163.94,6,    41.75,6,     0.00,6,     2.93,6,    0.000,2,    0.000,2,   2376.0,2,   2411.3,2,   7.4157,2,    25.00,     2035
  49UP20170623,RF1707,  6053,  1,     16,  25825,2,20170706,1920, 43.0098, 165.0200, 5402,   2096.3,   1.8929,  34.6010,2,  34.5998,2,     77.9,2,   163.52,2,    40.99,2,     0.00,2,     2.87,2,    0.000,2,    0.000,2,   2373.0,2,   2413.3,2,   7.4436,2,    25.00,     2031
  49UP20170623,RF1707,  6053,  1,     15,  25824,2,20170706,1920, 43.0098, 165.0200, 5402,   2300.8,   1.7854,  34.6205,2,  34.6199,2,     89.8,2,   163.05,2,    40.23,2,     0.00,2,     2.81,2,    0.000,6,    0.000,6,   2363.8,2,   2415.9,2,   7.4647,2,    25.00,     2026
  49UP20170623,RF1707,  6053,  1,     14,  25823,2,20170706,1920, 43.0098, 165.0200, 5402,   2504.3,   1.7060,  34.6348,2,  34.6341,2,    101.0,2,   161.74,2,    39.52,2,     0.00,2,     2.76,2,    0.000,2,    0.000,2,   2359.2,2,   2416.8,2,   7.4837,2,    25.00,     2022
  49UP20170623,RF1707,  6053,  1,     13,  25822,2,20170706,1920, 43.0098, 165.0200, 5402,   2709.1,   1.6438,  34.6461,2,  34.6461,6,    110.4,2,   160.51,2,    38.93,2,     0.01,2,     2.71,2,    0.000,2,    0.000,2,   2351.3,2,   2417.8,2,   7.5049,2,    25.00,     2018
  49UP20170623,RF1707,  6053,  1,     12,  25821,2,20170706,1920, 43.0098, 165.0200, 5402,   2913.2,   1.5953,  34.6550,2,  34.6547,2,    118.6,2,   158.73,2,    38.42,2,     0.00,2,     2.67,2,    0.000,2,    0.000,2,   2340.0,3,   2418.7,2,   7.5181,2,    25.00,     2013
  49UP20170623,RF1707,  6053,  1,     11,  25820,2,20170706,1920, 43.0098, 165.0200, 5402,   3129.2,   1.5505,  34.6631,2,  34.6623,2,    126.8,2,   157.13,2,    37.87,2,     0.00,2,     2.63,2, -999.000,9, -999.000,9,   2340.6,2,   2417.8,2,   7.5334,2,    25.00,     2009
  49UP20170623,RF1707,  6053,  1,     10,  25819,2,20170706,1920, 43.0098, 165.0200, 5402,   3384.4,   1.5162,  34.6702,2,  34.6694,2,    134.6,2,   155.18,2,    37.38,2,     0.00,2,     2.59,2, -999.000,9, -999.000,9,   2339.9,2,   2418.3,2,   7.5499,2,    25.00,     2004
  49UP20170623,RF1707,  6053,  1,      9,  25818,2,20170706,1920, 43.0098, 165.0200, 5402,   3640.1,   1.4950,  34.6754,2,  34.6740,6,    140.6,2,   153.62,2,    36.96,2,     0.00,2,     2.56,2, -999.000,9, -999.000,9,   2328.6,2,   2418.1,2,   7.5609,2,    25.00,     1959
  49UP20170623,RF1707,  6053,  1,      8,  25817,2,20170706,1920, 43.0098, 165.0200, 5402,   3894.4,   1.4832,  34.6794,2,  34.6788,2,    145.5,6,   152.42,6,    36.61,6,     0.01,6,     2.53,6,    0.000,2,    0.000,2,   2330.7,2,   2418.5,2,   7.5678,2,    25.00,     1953
  49UP20170623,RF1707,  6053,  1,      7,  25816,2,20170706,1920, 43.0098, 165.0200, 5402,   4154.1,   1.4799,  34.6828,2,  34.6821,2,    149.8,2,   151.54,2,    36.35,2,     0.00,2,     2.51,2, -999.000,9, -999.000,9,   2320.3,2,   2417.2,2,   7.5760,2,    25.00,     1948
  49UP20170623,RF1707,  6053,  1,      6,  25815,2,20170706,1920, 43.0098, 165.0200, 5402,   4410.8,   1.4826,  34.6857,2,  34.6852,2,    153.0,2,   150.39,2,    36.08,2,     0.00,2,     2.49,2, -999.000,9, -999.000,9,   2324.4,6,   2417.3,6,   7.5793,2,    25.00,     1943
  49UP20170623,RF1707,  6053,  1,      5,  25814,2,20170706,1920, 43.0098, 165.0200, 5402,   4669.0,   1.4959,  34.6877,2,  34.6871,2,    154.8,2,   150.96,2,    35.94,2,     0.01,2,     2.48,2, -999.000,9, -999.000,9,   2326.5,2,   2416.8,2,   7.5827,6,    25.00,     1937
  49UP20170623,RF1707,  6053,  1,      4,  25813,2,20170706,1920, 43.0098, 165.0200, 5402,   4925.4,   1.5158,  34.6889,2,  34.6890,6,    156.5,2,   150.79,2,    35.82,2,     0.00,2,     2.47,2,    0.000,2,    0.000,2,   2322.7,2,   2416.2,2,   7.5885,2,    25.00,     1932
  49UP20170623,RF1707,  6053,  1,      3,  25812,2,20170706,1920, 43.0098, 165.0200, 5402,   5182.5,   1.5389,  34.6897,2,  34.6892,2,    158.1,2,   150.12,2,    35.71,2,     0.00,2,     2.47,2, -999.000,9, -999.000,9,   2323.6,2,   2417.7,2,   7.5892,2,    25.00,     1927
  49UP20170623,RF1707,  6053,  1,      2,  25811,2,20170706,1920, 43.0098, 165.0200, 5402,   5442.4,   1.5632,  34.6908,2,  34.6905,2,    159.3,2,   149.47,2,    35.62,2,     0.00,2,     2.46,2, -999.000,9, -999.000,9,   2325.8,2,   2418.0,2,   7.5959,2,    25.00,     1922
  49UP20170623,RF1707,  6053,  1,      1,  25810,2,20170706,1920, 43.0098, 165.0200, 5402,   5506.1,   1.5704,  34.6910,2,  34.6901,2,    159.5,2,   149.47,2,    35.61,2,     0.00,2,     2.46,2,    0.011,6,    0.000,6,   2315.2,2,   2415.7,2,   7.5921,2,    25.00,     1920