BOTTLE,20200309PRINUNIVRMK
EXPOCODE,SECT_ID,STNNBR,CASTNO,SAMPNO,BTLNBR,BTLNBR_FLAG_W,DATE,TIME,LATITUDE,LONGITUDE,DEPTH,CTDPRS,CTDTMP,CTDSAL,CTDSAL_FLAG_W,SALNTY,SALNTY_FLAG_W,OXYGEN,OXYGEN_FLAG_W,SILCAT,SILCAT_FLAG_W,NITRAT,NITRAT_FLAG_W,NITRIT,NITRIT_FLAG_W,PHSPHT,PHSPHT_FLAG_W,CFC-11,CFC-11_FLAG_W,CFC-12,CFC-12_FLAG_W,TCARBN,TCARBN_FLAG_W,ALKALI,ALKALI_FLAG_W,PH_TOT,PH_TOT_FLAG_W,PH_TMP,BTL_TIME
,,,,,,,,,,,METERS,DBAR,ITS-90,PSS-78,,PSS-78,,UMOL/KG,,UMOL/KG,,UMOL/KG,,UMOL/KG,,UMOL/KG,,PMOL/KG,,PMOL/KG,,UMOL/KG,,UMOL/KG,,,,DEG C,
  49UP20170623,RF1707,  6039,  1,     99,     99,2,20170629,1331, 44.0783, 154.9750, 5340,      0.0,   7.7043,  32.7709,2,  32.7677,2,    322.2,2,     1.99,2,    10.05,2,     0.19,2,     0.96,2, -999.000,9, -999.000,9,   2031.8,2,   2233.2,2,   7.8993,2,    25.00,     1520
  49UP20170623,RF1707,  6039,  1,     36,  25845,2,20170629,1331, 44.0783, 154.9750, 5340,     10.4,   7.7100,  32.7697,2,  32.7721,2,    322.8,2,     1.44,2,     9.87,2,     0.19,2,     0.88,2,    8.200,4,   15.351,4,   2035.9,2,   2234.0,2,   7.8980,2,    25.00,     1551
  49UP20170623,RF1707,  6039,  1,     35,  25844,2,20170629,1331, 44.0783, 154.9750, 5340,     26.9,   5.3066,  32.8440,2,  32.8408,2,    347.9,2,     5.73,2,    12.90,2,     0.20,2,     1.17,2, -999.000,9, -999.000,9,   2055.3,2,   2235.6,2,   7.8536,2,    25.00,     1549
  49UP20170623,RF1707,  6039,  1,     34,  25843,3,20170629,1331, 44.0783, 154.9750, 5340,     50.8,   2.8080,  32.9948,2,  32.9984,2,    328.5,2,    40.69,2,    22.65,2,     0.35,2,     1.95,2,    5.409,2,    2.980,2,   2130.8,6,   2237.7,6,   7.6546,2,    25.00,     1546
  49UP20170623,RF1707,  6039,  1,     33,  25842,2,20170629,1331, 44.0783, 154.9750, 5340,     75.6,   1.6581,  33.0511,2,  33.0514,2,    320.7,2,    47.29,2,    26.08,2,     0.71,2,     2.09,2, -999.000,9, -999.000,9,   2148.5,2,   2237.5,2,   7.6026,6,    25.00,     1544
  49UP20170623,RF1707,  6039,  1,     32,  25841,3,20170629,1331, 44.0783, 154.9750, 5340,    101.1,   1.6927,  33.0918,2,  33.0978,4,    308.9,2,    49.97,2,    27.80,2,     0.15,2,     2.15,2,    5.339,2,    2.949,2,   2158.5,2,   2239.4,2,   7.5860,2,    25.00,     1543
  49UP20170623,RF1707,  6039,  1,     31,  25840,2,20170629,1331, 44.0783, 154.9750, 5340,    151.4,   2.7440,  33.4898,2,  33.4894,2,    156.6,6,    74.23,6,    36.45,6,     0.10,6,     2.67,6,    3.634,2,    2.018,2,   2252.8,2,   2270.2,2,   7.3877,2,    25.00,     1541
  49UP20170623,RF1707,  6039,  1,     30,  25839,2,20170629,1331, 44.0783, 154.9750, 5340,    201.5,   3.3562,  33.7744,2,  33.7681,2,     67.6,2,    92.41,2,    42.16,2,     0.03,2,     3.00,2,    2.593,2,    1.366,2,   2311.4,2,   2293.1,2,   7.2773,2,    25.00,     1539
  49UP20170623,RF1707,  6039,  1,     29,  25838,2,20170629,1331, 44.0783, 154.9750, 5340,    251.6,   3.6688,  33.9094,2,  33.9245,4,     28.3,2,   101.93,2,    44.65,2,     0.01,2,     3.14,2,    1.962,2,    1.006,2,   2338.1,2,   2305.6,2,   7.2346,2,    25.00,     1537
  49UP20170623,RF1707,  6039,  1,     28,  25837,3,20170629,1331, 44.0783, 154.9750, 5340,    282.5,   3.6593,  33.9750,2,  33.9820,4,     22.7,2,   106.61,2,    44.76,2,     0.01,2,     3.15,2,    1.692,2,    0.846,2,   2341.9,6,   2312.7,6,   7.2374,2,    25.00,     1535
  49UP20170623,RF1707,  6039,  1,     27,  25836,2,20170629,1331, 44.0783, 154.9750, 5340,    373.6,   3.4767,  34.0746,2,  34.0752,2,     21.3,2,   116.21,2,    44.52,2,     0.00,2,     3.14,2,    1.316,2,    0.663,2,   2355.0,2,   2329.1,2,   7.2482,6,    25.00,     1532
  49UP20170623,RF1707,  6039,  1,     26,  25835,2,20170629,1331, 44.0783, 154.9750, 5340,    474.7,   3.3280,  34.1641,2,  34.1645,2,     22.2,2,   124.49,2,    43.90,2,     0.00,2,     3.11,2,    0.965,6,    0.472,6,   2359.7,2,   2342.6,2,   7.2761,2,    25.00,     1529
  49UP20170623,RF1707,  6039,  1,     25,  25834,2,20170629,1331, 44.0783, 154.9750, 5340,    575.6,   3.2319,  34.2497,2,  34.2489,2,     23.7,2,   131.36,2,    43.57,2,     0.00,2,     3.10,2,    0.626,2,    0.313,2,   2368.9,2,   2356.1,2,   7.2961,2,    25.00,     1526
  49UP20170623,RF1707,  6039,  1,     24,  25833,2,20170629,1331, 44.0783, 154.9750, 5340,    677.0,   3.0098,  34.2992,2,  34.2986,6,     18.1,2,   140.34,2,    44.14,2,     0.00,2,     3.13,2,    0.432,2,    0.214,2,   2376.3,2,   2364.0,2,   7.2908,2,    25.00,     1523
  49UP20170623,RF1707,  6039,  1,     23,  25832,2,20170629,1331, 44.0783, 154.9750, 5340,    779.0,   2.9384,  34.3594,2,  34.3594,2,     29.8,2,   141.75,2,    43.16,2,     0.00,2,     3.07,2,    0.315,2,    0.160,2,   2372.7,2,   2373.5,2,   7.3271,2,    25.00,     1520
  49UP20170623,RF1707,  6039,  1,     22,  25831,2,20170629,1331, 44.0783, 154.9750, 5340,    880.0,   2.7735,  34.4022,2,  34.4021,2,     33.2,6,   146.20,6,    43.03,6,     0.00,6,     3.06,6,    0.227,2,    0.113,2,   2379.6,2,   2382.4,2,   7.3376,2,    25.00,     1517
  49UP20170623,RF1707,  6039,  1,     21,  25830,2,20170629,1331, 44.0783, 154.9750, 5340,    981.8,   2.6486,  34.4352,2,  34.4349,2,     35.4,2,   149.74,2,    43.00,2,     0.00,2,     3.05,2,    0.168,2,    0.079,2,   2379.2,2,   2386.3,2,   7.3484,2,    25.00,     1515
  49UP20170623,RF1707,  6039,  1,     20,  25829,2,20170629,1331, 44.0783, 154.9750, 5340,   1144.0,   2.4208,  34.4711,2,  34.4721,2,     38.2,2,   156.63,2,    42.90,2,     0.00,2,     3.05,2,    0.120,2,    0.060,2,   2384.7,2,   2392.9,2,   7.3574,2,    25.00,     1510
  49UP20170623,RF1707,  6039,  1,     19,  25828,2,20170629,1331, 44.0783, 154.9750, 5340,   1345.9,   2.2422,  34.5088,2,  34.5078,2,     48.0,3,   161.17,2,    42.51,2,     0.00,2,     3.01,2,    0.093,2,    0.039,2,   2383.7,2,   2401.4,2,   7.3719,2,    25.00,     1505
  49UP20170623,RF1707,  6039,  1,     18,  25827,2,20170629,1331, 44.0783, 154.9750, 5340,   1548.3,   2.1063,  34.5448,2,  34.5450,2,     52.3,2,   165.04,2,    42.20,2,     0.00,2,     2.98,2,    0.042,2,    0.021,2,   2385.8,2,   2407.9,2,   7.3907,2,    25.00,     1501
  49UP20170623,RF1707,  6039,  1,     17,  25826,2,20170629,1331, 44.0783, 154.9750, 5340,   1750.9,   1.9893,  34.5764,2,  34.5770,2,     66.4,2,   163.55,2,    41.44,2,     0.00,2,     2.92,2,    0.012,2,    0.006,2,   2376.5,2,   2411.5,2,   7.4157,2,    25.00,     1456
  49UP20170623,RF1707,  6039,  1,     16,  25825,2,20170629,1331, 44.0783, 154.9750, 5340,   1956.2,   1.8524,  34.6035,2,  34.6027,2,     78.2,2,   165.00,2,    40.70,2,     0.00,2,     2.86,2,    0.000,2,    0.004,2,   2373.4,2,   2416.0,2,   7.4399,2,    25.00,     1451
  49UP20170623,RF1707,  6039,  1,     15,  25824,2,20170629,1331, 44.0783, 154.9750, 5340,   2158.9,   1.7707,  34.6211,2,  34.6210,2,     90.2,2,   163.01,2,    40.02,2,     0.00,2,     2.81,2,    0.001,2,    0.004,6,   2364.0,2,   2415.1,2,   7.4638,2,    25.00,     1446
  49UP20170623,RF1707,  6039,  1,     14,  25823,2,20170629,1331, 44.0783, 154.9750, 5340,   2362.8,   1.6807,  34.6368,2,  34.6372,2,    101.4,2,   161.90,2,    39.28,2,     0.00,2,     2.75,2,    0.000,2,    0.000,2,   2364.1,2,   2417.1,2,   7.4899,2,    25.00,     1442
  49UP20170623,RF1707,  6039,  1,     13,  25822,2,20170629,1331, 44.0783, 154.9750, 5340,   2566.4,   1.6136,  34.6481,2,  34.6525,4,    111.0,6,   161.28,6,    38.68,6,     0.00,6,     2.71,6,    0.000,2,    0.007,2,   2356.6,2,   2418.9,2,   7.5047,2,    25.00,     1437
  49UP20170623,RF1707,  6039,  1,     12,  25821,2,20170629,1331, 44.0783, 154.9750, 5340,   2769.8,   1.5650,  34.6568,2,  34.6567,6,    119.4,2,   159.56,2,    38.14,2,     0.00,2,     2.67,2,    0.000,2,    0.001,2,   2350.8,2,   2418.8,2,   7.5222,2,    25.00,     1432
  49UP20170623,RF1707,  6039,  1,     11,  25820,2,20170629,1331, 44.0783, 154.9750, 5340,   2975.4,   1.5254,  34.6642,2,  34.6640,2,    127.6,2,   157.45,2,    37.65,2,     0.00,2,     2.62,2, -999.000,9, -999.000,9,   2343.3,2,   2419.3,2,   7.5391,2,    25.00,     1427
  49UP20170623,RF1707,  6039,  1,     10,  25819,2,20170629,1331, 44.0783, 154.9750, 5340,   3219.9,   1.4862,  34.6717,2,  34.6716,2,    135.8,2,   155.16,2,    37.12,2,     0.00,2,     2.58,2, -999.000,9, -999.000,9,   2339.0,2,   2419.9,2,   7.5626,3,    25.00,     1422
  49UP20170623,RF1707,  6039,  1,      9,  25818,2,20170629,1331, 44.0783, 154.9750, 5340,   3475.6,   1.4633,  34.6770,2,  34.6771,2,    142.4,2,   153.33,2,    36.72,2,     0.00,2,     2.55,2, -999.000,9, -999.000,9,   2335.5,6,   2417.8,6,   7.5506,3,    25.00,     1416
  49UP20170623,RF1707,  6039,  1,      8,  25817,2,20170629,1331, 44.0783, 154.9750, 5340,   3732.1,   1.4573,  34.6805,2,  34.6795,6,    146.9,2,   152.03,2,    36.41,2,     0.00,2,     2.53,2,    0.000,2,    0.004,2,   2331.2,2,   2416.7,2,   7.5700,6,    25.00,     1410
  49UP20170623,RF1707,  6039,  1,      7,  25816,2,20170629,1331, 44.0783, 154.9750, 5340,   3989.6,   1.4538,  34.6837,2,  34.6829,2,    150.7,2,   151.11,2,    36.18,2,     0.00,2,     2.51,2, -999.000,9, -999.000,9,   2330.2,2,   2416.9,2,   7.5747,2,    25.00,     1405
  49UP20170623,RF1707,  6039,  1,      6,  25815,2,20170629,1331, 44.0783, 154.9750, 5340,   4246.4,   1.4591,  34.6862,2,  34.6850,2,    153.9,2,   150.29,2,    35.93,2,     0.00,2,     2.49,2, -999.000,9, -999.000,9,   2327.0,2,   2416.3,2,   7.5822,2,    25.00,     1359
  49UP20170623,RF1707,  6039,  1,      5,  25814,3,20170629,1331, 44.0783, 154.9750, 5340,   4503.1,   1.4719,  34.6880,2,  34.6877,2,    155.6,2,   150.30,2,    35.81,2,     0.00,2,     2.48,2, -999.000,9, -999.000,9,   2328.3,2,   2415.2,2,   7.5856,2,    25.00,     1353
  49UP20170623,RF1707,  6039,  1,      4,  25813,2,20170629,1331, 44.0783, 154.9750, 5340,   4760.4,   1.4936,  34.6888,2,  34.6899,2,    157.3,6,   150.05,6,    35.71,6,     0.00,6,     2.47,6,    0.000,2,    0.004,2,   2325.8,2,   2416.1,2,   7.5887,2,    25.00,     1347
  49UP20170623,RF1707,  6039,  1,      3,  25812,2,20170629,1331, 44.0783, 154.9750, 5340,   5018.1,   1.5179,  34.6897,2,  34.6889,2,    157.7,2,   150.16,2,    35.66,2,     0.00,2,     2.47,2, -999.000,9, -999.000,9,   2323.8,2,   2415.3,2,   7.5909,2,    25.00,     1342
  49UP20170623,RF1707,  6039,  1,      2,  25811,2,20170629,1331, 44.0783, 154.9750, 5340,   5276.3,   1.5475,  34.6901,2,  34.6904,2,    158.1,2,   150.37,2,    35.60,2,     0.00,2,     2.47,2, -999.000,9, -999.000,9,   2327.0,2,   2415.2,2,   7.5899,2,    25.00,     1336
  49UP20170623,RF1707,  6039,  1,      1,  25810,2,20170629,1331, 44.0783, 154.9750, 5340,   5449.9,   1.5695,  34.6902,2,  34.6896,6,    158.2,2,   150.45,2,    35.62,2,     0.00,2,     2.47,2,    0.000,6,    0.009,6,   2329.6,2,   2414.8,2,   7.5917,2,    25.00,     1331