BOTTLE,20200309PRINUNIVRMK
EXPOCODE,SECT_ID,STNNBR,CASTNO,SAMPNO,BTLNBR,BTLNBR_FLAG_W,DATE,TIME,LATITUDE,LONGITUDE,DEPTH,CTDPRS,CTDTMP,CTDSAL,CTDSAL_FLAG_W,SALNTY,SALNTY_FLAG_W,OXYGEN,OXYGEN_FLAG_W,SILCAT,SILCAT_FLAG_W,NITRAT,NITRAT_FLAG_W,NITRIT,NITRIT_FLAG_W,PHSPHT,PHSPHT_FLAG_W,CFC-11,CFC-11_FLAG_W,CFC-12,CFC-12_FLAG_W,TCARBN,TCARBN_FLAG_W,ALKALI,ALKALI_FLAG_W,PH_TOT,PH_TOT_FLAG_W,PH_TMP,BTL_TIME
,,,,,,,,,,,METERS,DBAR,ITS-90,PSS-78,,PSS-78,,UMOL/KG,,UMOL/KG,,UMOL/KG,,UMOL/KG,,UMOL/KG,,PMOL/KG,,PMOL/KG,,UMOL/KG,,UMOL/KG,,,,DEG C,
  49UP20170623,RF1707,  6068,  1,     99,     99,2,20170726,0805, 33.4882, 164.9765, 6102,      0.0,  24.2132,  34.2640,2,-999.0000,9,    217.9,2,     1.39,2,     0.01,2,     0.00,2,     0.03,2, -999.000,9, -999.000,9,   -999.0,9,   -999.0,9,-999.0000,9,  -999.00,     1010
  49UP20170623,RF1707,  6068,  1,     36,  25845,3,20170726,0805, 33.4882, 164.9765, 6102,     11.1,  23.6437,  34.2935,2,  34.2876,4,    220.2,2,     1.40,2,     0.02,2,     0.00,2,     0.02,2, -999.000,9, -999.000,9,   -999.0,9,   -999.0,9,-999.0000,9,  -999.00,     1031
  49UP20170623,RF1707,  6068,  1,     35,  25844,2,20170726,0805, 33.4882, 164.9765, 6102,     50.4,  15.3536,  34.4714,2,  34.4709,2,    276.1,2,     5.47,2,     1.89,2,     0.08,2,     0.19,2, -999.000,9, -999.000,9,   -999.0,9,   -999.0,9,-999.0000,9,  -999.00,     1029
  49UP20170623,RF1707,  6068,  1,     34,  25843,2,20170726,0805, 33.4882, 164.9765, 6102,    100.7,  13.4106,  34.4626,2,  34.4600,2,    222.8,2,    11.33,2,     9.01,2,     0.06,2,     0.63,2, -999.000,9, -999.000,9,   -999.0,9,   -999.0,9,-999.0000,9,  -999.00,     1026
  49UP20170623,RF1707,  6068,  1,     33,  25842,2,20170726,0805, 33.4882, 164.9765, 6102,    150.1,  12.4577,  34.3886,2,  34.3884,2,    227.2,2,    13.13,2,    10.01,2,     0.02,2,     0.71,2, -999.000,9, -999.000,9,   -999.0,9,   -999.0,9,-999.0000,9,  -999.00,     1024
  49UP20170623,RF1707,  6068,  1,     32,  25841,2,20170726,0805, 33.4882, 164.9765, 6102,    204.5,  11.7671,  34.3304,2,  34.3331,2,    232.8,2,    14.05,2,    10.45,2,     0.01,2,     0.75,2, -999.000,9, -999.000,9,   -999.0,9,   -999.0,9,-999.0000,9,  -999.00,     1022
  49UP20170623,RF1707,  6068,  1,     31,  25840,3,20170726,0805, 33.4882, 164.9765, 6102,    252.7,  11.1000,  34.2621,2,  34.2609,2,    226.5,2,    16.81,2,    12.25,2,     0.01,2,     0.88,2, -999.000,9, -999.000,9,   -999.0,9,   -999.0,9,-999.0000,9,  -999.00,     1021
  49UP20170623,RF1707,  6068,  1,     30,  25839,2,20170726,0805, 33.4882, 164.9765, 6102,    303.3,  10.1877,  34.1605,2,  34.1632,2,    233.4,6,    18.70,6,    13.23,6,     0.01,6,     0.96,6, -999.000,9, -999.000,9,   -999.0,9,   -999.0,9,-999.0000,9,  -999.00,     1019
  49UP20170623,RF1707,  6068,  1,     29,  25838,2,20170726,0805, 33.4882, 164.9765, 6102,    404.0,   8.1214,  34.0051,2,  34.0063,2,    193.8,2,    34.15,2,    20.70,2,     0.00,2,     1.49,2, -999.000,9, -999.000,9,   -999.0,9,   -999.0,9,-999.0000,9,  -999.00,     1016
  49UP20170623,RF1707,  6068,  1,     28,  25837,3,20170726,0805, 33.4882, 164.9765, 6102,    511.6,   6.3479,  33.9997,2,  34.0051,2,    141.8,2,    56.16,2,    28.68,2,     0.00,2,     2.08,2, -999.000,9, -999.000,9,   -999.0,9,   -999.0,9,-999.0000,9,  -999.00,     1012
  49UP20170623,RF1707,  6068,  1,     27,  25836,3,20170726,0805, 33.4882, 164.9765, 6102,    604.0,   5.2050,  34.0205,2,  34.0210,2,    107.4,2,    74.51,2,    33.91,2,     0.00,2,     2.46,2, -999.000,9, -999.000,9,   -999.0,9,   -999.0,9,-999.0000,9,  -999.00,     1010
  49UP20170623,RF1707,  6068,  1,     26,  25835,2,20170726,0805, 33.4882, 164.9765, 6102,    702.1,   4.6095,  34.1120,2,  34.1129,2,     74.6,2,    91.45,2,    37.61,2,     0.00,2,     2.71,2, -999.000,9, -999.000,9,   -999.0,9,   -999.0,9,-999.0000,9,  -999.00,     1007
  49UP20170623,RF1707,  6068,  1,     25,  25834,2,20170726,0805, 33.4882, 164.9765, 6102,    807.2,   4.1199,  34.2060,2,  34.2061,2,     50.7,2,   106.63,2,    40.24,2,     0.00,2,     2.89,2, -999.000,9, -999.000,9,   -999.0,9,   -999.0,9,-999.0000,9,  -999.00,     1005
  49UP20170623,RF1707,  6068,  1,     24,  25833,2,20170726,0805, 33.4882, 164.9765, 6102,    909.3,   3.7362,  34.2754,2,  34.2758,2,     43.4,2,   118.66,2,    41.18,2,     0.00,2,     2.95,2, -999.000,9, -999.000,9,   -999.0,9,   -999.0,9,-999.0000,9,  -999.00,     1002
  49UP20170623,RF1707,  6068,  1,     23,  25832,2,20170726,0805, 33.4882, 164.9765, 6102,   1015.0,   3.3980,  34.3344,2,  34.3343,2,     38.3,2,   128.52,2,    41.96,2,     0.00,2,     3.00,2, -999.000,9, -999.000,9,   -999.0,9,   -999.0,9,-999.0000,9,  -999.00,      958
  49UP20170623,RF1707,  6068,  1,     22,  25831,2,20170726,0805, 33.4882, 164.9765, 6102,   1212.1,   2.9174,  34.4171,2,  34.4172,2,     35.6,2,   142.15,2,    42.71,2,     0.00,2,     3.05,2, -999.000,9, -999.000,9,   -999.0,9,   -999.0,9,-999.0000,9,  -999.00,      953
  49UP20170623,RF1707,  6068,  1,     21,  25830,3,20170726,0805, 33.4882, 164.9765, 6102,   1413.7,   2.5735,  34.4772,2,  34.4762,2,     38.7,6,   151.85,6,    42.80,6,     0.00,6,     3.04,6, -999.000,9, -999.000,9,   -999.0,9,   -999.0,9,-999.0000,9,  -999.00,      949
  49UP20170623,RF1707,  6068,  1,     20,  25829,2,20170726,0805, 33.4882, 164.9765, 6102,   1619.2,   2.3060,  34.5271,2,  34.5276,6,     46.0,2,   158.86,2,    42.54,2,     0.00,2,     3.01,2, -999.000,9, -999.000,9,   -999.0,9,   -999.0,9,-999.0000,9,  -999.00,      945
  49UP20170623,RF1707,  6068,  1,     19,  25828,2,20170726,0805, 33.4882, 164.9765, 6102,   1822.1,   2.0953,  34.5637,2,  34.5637,2,     57.4,2,   163.24,2,    41.91,2,     0.00,2,     2.96,2, -999.000,9, -999.000,9,   -999.0,9,   -999.0,9,-999.0000,9,  -999.00,      940
  49UP20170623,RF1707,  6068,  1,     18,  25827,2,20170726,0805, 33.4882, 164.9765, 6102,   2025.3,   1.9380,  34.5940,2,  34.5945,6,     73.4,2,   163.39,2,    41.00,2,     0.00,2,     2.89,2, -999.000,9, -999.000,9,   -999.0,9,   -999.0,9,-999.0000,9,  -999.00,      935
  49UP20170623,RF1707,  6068,  1,     17,  25826,2,20170726,0805, 33.4882, 164.9765, 6102,   2228.7,   1.8056,  34.6157,2,  34.6162,2,     86.4,2,   163.75,2,    40.18,2,     0.00,2,     2.82,2, -999.000,9, -999.000,9,   -999.0,9,   -999.0,9,-999.0000,9,  -999.00,      930
  49UP20170623,RF1707,  6068,  1,     16,  25825,2,20170726,0805, 33.4882, 164.9765, 6102,   2432.5,   1.7039,  34.6338,2,  34.6341,2,    100.5,2,   161.81,2,    39.29,2,     0.00,2,     2.76,2, -999.000,9, -999.000,9,   -999.0,9,   -999.0,9,-999.0000,9,  -999.00,      926
  49UP20170623,RF1707,  6068,  1,     15,  25824,2,20170726,0805, 33.4882, 164.9765, 6102,   2637.8,   1.6313,  34.6455,2,  34.6448,2,    109.9,2,   160.77,2,    38.68,2,     0.00,2,     2.71,2, -999.000,9, -999.000,9,   -999.0,9,   -999.0,9,-999.0000,9,  -999.00,      921
  49UP20170623,RF1707,  6068,  1,     14,  25823,2,20170726,0805, 33.4882, 164.9765, 6102,   2840.6,   1.5811,  34.6548,2,  34.6557,2,    119.4,2,   158.76,2,    38.08,2,     0.00,2,     2.66,2, -999.000,9, -999.000,9,   -999.0,9,   -999.0,9,-999.0000,9,  -999.00,      916
  49UP20170623,RF1707,  6068,  1,     13,  25822,2,20170726,0805, 33.4882, 164.9765, 6102,   3044.2,   1.5425,  34.6632,2,  34.6635,2,    128.9,2,   155.24,2,    37.49,2,     0.00,2,     2.61,2, -999.000,9, -999.000,9,   -999.0,9,   -999.0,9,-999.0000,9,  -999.00,      911
  49UP20170623,RF1707,  6068,  1,     12,  25821,2,20170726,0805, 33.4882, 164.9765, 6102,   3302.2,   1.5101,  34.6697,2,  34.6704,2,    136.1,6,   153.54,6,    36.98,6,     0.00,6,     2.58,6, -999.000,9, -999.000,9,   -999.0,9,   -999.0,9,-999.0000,9,  -999.00,      905
  49UP20170623,RF1707,  6068,  1,     11,  25820,3,20170726,0805, 33.4882, 164.9765, 6102,   3559.0,   1.4899,  34.6750,2,  34.6735,2,    141.5,2,   151.54,2,    36.60,2,     0.00,2,     2.54,2, -999.000,9, -999.000,9,   -999.0,9,   -999.0,9,-999.0000,9,  -999.00,      859
  49UP20170623,RF1707,  6068,  1,     10,  25819,2,20170726,0805, 33.4882, 164.9765, 6102,   3812.4,   1.4797,  34.6785,2,  34.6793,2,    146.3,2,   150.05,2,    36.31,2,     0.00,2,     2.52,2, -999.000,9, -999.000,9,   -999.0,9,   -999.0,9,-999.0000,9,  -999.00,      853
  49UP20170623,RF1707,  6068,  1,      9,  25818,2,20170726,0805, 33.4882, 164.9765, 6102,   4070.2,   1.4729,  34.6817,2,  34.6814,2,    149.6,3,   149.58,2,    36.07,2,     0.00,2,     2.50,2, -999.000,9, -999.000,9,   -999.0,9,   -999.0,9,-999.0000,9,  -999.00,      847
  49UP20170623,RF1707,  6068,  1,      8,  25817,2,20170726,0805, 33.4882, 164.9765, 6102,   4320.2,   1.4722,  34.6847,2,  34.6851,2,    155.0,2,   146.93,2,    35.75,2,     0.00,2,     2.48,2, -999.000,9, -999.000,9,   -999.0,9,   -999.0,9,-999.0000,9,  -999.00,      842
  49UP20170623,RF1707,  6068,  1,      7,  25816,2,20170726,0805, 33.4882, 164.9765, 6102,   4579.7,   1.4769,  34.6873,2,  34.6875,2,    158.5,2,   146.11,2,    35.47,2,     0.00,2,     2.46,2, -999.000,9, -999.000,9,   -999.0,9,   -999.0,9,-999.0000,9,  -999.00,      838
  49UP20170623,RF1707,  6068,  1,      6,  25815,2,20170726,0805, 33.4882, 164.9765, 6102,   4839.2,   1.4833,  34.6894,2,  34.6901,6,    162.5,2,   142.80,2,    35.21,2,     0.00,2,     2.43,2, -999.000,9, -999.000,9,   -999.0,9,   -999.0,9,-999.0000,9,  -999.00,      832
  49UP20170623,RF1707,  6068,  1,      5,  25814,3,20170726,0805, 33.4882, 164.9765, 6102,   5090.3,   1.4937,  34.6913,2,  34.6918,2,    166.1,2,   139.87,2,    34.97,2,     0.00,2,     2.42,2, -999.000,9, -999.000,9,   -999.0,9,   -999.0,9,-999.0000,9,  -999.00,      827
  49UP20170623,RF1707,  6068,  1,      4,  25813,2,20170726,0805, 33.4882, 164.9765, 6102,   5356.8,   1.5062,  34.6931,2,  34.6939,2,    169.5,2,   137.88,2,    34.71,2,     0.00,2,     2.40,2, -999.000,9, -999.000,9,   -999.0,9,   -999.0,9,-999.0000,9,  -999.00,      821
  49UP20170623,RF1707,  6068,  1,      3,  25812,2,20170726,0805, 33.4882, 164.9765, 6102,   5610.3,   1.5223,  34.6946,2,  34.6947,2,    172.0,6,   136.08,6,    34.55,6,     0.00,6,     2.39,6, -999.000,9, -999.000,9,   -999.0,9,   -999.0,9,-999.0000,9,  -999.00,      816
  49UP20170623,RF1707,  6068,  1,      2,  25811,2,20170726,0805, 33.4882, 164.9765, 6102,   5867.4,   1.5464,  34.6955,2,  34.6954,2,    173.4,2,   135.75,2,    34.46,2,     0.00,2,     2.37,2, -999.000,9, -999.000,9,   -999.0,9,   -999.0,9,-999.0000,9,  -999.00,      810
  49UP20170623,RF1707,  6068,  1,      1,  25810,2,20170726,0805, 33.4882, 164.9765, 6102,   6129.7,   1.5753,  34.6959,2,  34.6955,6,    173.5,2,   134.87,2,    34.42,2,     0.00,2,     2.37,2, -999.000,9, -999.000,9,   -999.0,9,   -999.0,9,-999.0000,9,  -999.00,      805