BOTTLE,20200309PRINUNIVRMK
EXPOCODE,SECT_ID,STNNBR,CASTNO,SAMPNO,BTLNBR,BTLNBR_FLAG_W,DATE,TIME,LATITUDE,LONGITUDE,DEPTH,CTDPRS,CTDTMP,CTDSAL,CTDSAL_FLAG_W,SALNTY,SALNTY_FLAG_W,OXYGEN,OXYGEN_FLAG_W,SILCAT,SILCAT_FLAG_W,NITRAT,NITRAT_FLAG_W,NITRIT,NITRIT_FLAG_W,PHSPHT,PHSPHT_FLAG_W,CFC-11,CFC-11_FLAG_W,CFC-12,CFC-12_FLAG_W,TCARBN,TCARBN_FLAG_W,ALKALI,ALKALI_FLAG_W,PH_TOT,PH_TOT_FLAG_W,PH_TMP,BTL_TIME
,,,,,,,,,,,METERS,DBAR,ITS-90,PSS-78,,PSS-78,,UMOL/KG,,UMOL/KG,,UMOL/KG,,UMOL/KG,,UMOL/KG,,PMOL/KG,,PMOL/KG,,UMOL/KG,,UMOL/KG,,,,DEG C,
  49UP20170623,RF1707,  6040,  1,     99,     99,2,20170630,0214, 45.0777, 156.6663, 4717,      0.0,   7.2961,  32.7916,2,  32.7932,2,    312.8,2,    28.38,2,    15.83,2,     0.18,2,     1.47,2, -999.000,9, -999.000,9,   2070.9,2,   2224.6,2,   7.7800,2,    25.00,      355
  49UP20170623,RF1707,  6040,  1,     36,  25845,2,20170630,0214, 45.0777, 156.6663, 4717,     10.1,   7.2323,  32.7909,2,  32.7941,2,    313.7,2,    28.38,2,    15.82,2,     0.18,2,     1.47,2,    4.493,2,    2.545,2,   2071.5,2,   2225.4,2,   7.7817,2,    25.00,      423
  49UP20170623,RF1707,  6040,  1,     35,  25844,2,20170630,0214, 45.0777, 156.6663, 4717,     25.5,   6.0928,  32.8263,2,  32.8566,4,    329.5,2,    30.98,2,    16.60,2,     0.19,2,     1.53,2, -999.000,9, -999.000,9,   2081.0,6,   2228.2,6,   7.7629,2,    25.00,      422
  49UP20170623,RF1707,  6040,  1,     34,  25843,2,20170630,0214, 45.0777, 156.6663, 4717,     50.8,   2.8197,  32.9634,2,  32.9649,2,    333.6,2,    35.48,2,    20.55,2,     0.33,2,     1.76,2,    5.488,2,    3.029,2,   2127.4,2,   2232.0,2,   7.6773,6,    25.00,      418
  49UP20170623,RF1707,  6040,  1,     33,  25842,2,20170630,0214, 45.0777, 156.6663, 4717,     76.0,   2.2971,  32.9920,2,  32.9933,2,    330.0,2,    37.10,2,    21.84,2,     0.53,2,     1.82,2, -999.000,9, -999.000,9,   2129.0,2,   2232.0,2,   7.6531,2,    25.00,      416
  49UP20170623,RF1707,  6040,  1,     32,  25841,2,20170630,0214, 45.0777, 156.6663, 4717,    101.0,   1.9715,  33.0269,2,  33.0311,6,    327.6,2,    39.21,2,    23.04,2,     0.55,2,     1.87,2,    5.489,2,    3.030,2,   2133.3,2,   2234.2,2,   7.6412,2,    25.00,      414
  49UP20170623,RF1707,  6040,  1,     31,  25840,2,20170630,0214, 45.0777, 156.6663, 4717,    127.3,   2.4086,  33.1770,2,  33.1804,2,    292.0,6,    43.17,6,    25.02,6,     0.02,6,     1.96,6, -999.000,9, -999.000,9,   2148.0,2,   2242.1,2,   7.6037,2,    25.00,      413
  49UP20170623,RF1707,  6040,  1,     30,  25839,2,20170630,0214, 45.0777, 156.6663, 4717,    150.5,   2.9009,  33.4215,2,  33.4171,2,    207.8,2,    58.31,2,    30.69,2,     0.01,2,     2.31,2,    4.165,2,    2.324,2,   2203.8,2,   2258.9,2,   7.4922,2,    25.00,      412
  49UP20170623,RF1707,  6040,  1,     29,  25838,2,20170630,0214, 45.0777, 156.6663, 4717,    203.3,   3.2818,  33.7243,2,  33.7238,2,     78.6,2,    87.75,2,    41.27,2,     0.01,2,     2.96,2,    2.852,2,    1.548,2,   2299.9,2,   2286.4,2,   7.2905,2,    25.00,      409
  49UP20170623,RF1707,  6040,  1,     28,  25837,2,20170630,0214, 45.0777, 156.6663, 4717,    251.9,   3.4346,  33.8449,2,  33.8445,2,     49.0,2,    96.77,2,    43.27,2,     0.01,2,     3.08,2,    2.344,2,    1.229,2,   2317.1,2,   2298.8,2,   7.2549,2,    25.00,      408
  49UP20170623,RF1707,  6040,  1,     27,  25836,2,20170630,0214, 45.0777, 156.6663, 4717,    303.7,   3.4559,  33.9196,2,  33.9204,2,     35.8,2,   102.72,2,    44.00,2,     0.01,2,     3.12,2,    2.052,2,    1.065,2,   2339.4,2,   2306.2,2,   7.2387,2,    25.00,      405
  49UP20170623,RF1707,  6040,  1,     26,  25835,2,20170630,0214, 45.0777, 156.6663, 4717,    403.2,   3.4676,  34.0664,2,  34.0668,2,     25.8,2,   114.54,2,    44.00,2,     0.00,2,     3.13,2,    1.381,6,    0.687,6,   2346.7,2,   2327.7,2,   7.2608,2,    25.00,      402
  49UP20170623,RF1707,  6040,  1,     25,  25834,2,20170630,0214, 45.0777, 156.6663, 4717,    506.1,   3.3787,  34.1682,2,  34.1684,2,     21.0,2,   123.96,2,    43.89,2,     0.00,2,     3.12,2,    0.925,2,    0.445,2,   2352.0,2,   2340.4,2,   7.2751,2,    25.00,      359
  49UP20170623,RF1707,  6040,  1,     24,  25833,2,20170630,0214, 45.0777, 156.6663, 4717,    606.4,   3.2174,  34.2484,2,  34.2478,2,     21.8,2,   131.95,2,    43.70,2,     0.00,2,     3.11,2,    0.620,2,    0.315,2,   2361.4,6,   2354.1,6,   7.2944,2,    25.00,      356
  49UP20170623,RF1707,  6040,  1,     23,  25832,2,20170630,0214, 45.0777, 156.6663, 4717,    708.0,   2.9974,  34.3128,2,  34.3131,2,     18.4,2,   141.09,2,    43.98,2,     0.00,2,     3.14,2,    0.394,2,    0.197,2,   2379.1,2,   2364.5,2,   7.2984,6,    25.00,      353
  49UP20170623,RF1707,  6040,  1,     22,  25831,2,20170630,0214, 45.0777, 156.6663, 4717,    809.4,   2.8402,  34.3556,2,  34.3549,2,     24.5,6,   145.54,6,    43.61,6,     0.00,6,     3.11,6,    0.316,2,    0.159,2,   2377.1,2,   2372.2,2,   7.3126,2,    25.00,      351
  49UP20170623,RF1707,  6040,  1,     21,  25830,2,20170630,0214, 45.0777, 156.6663, 4717,    912.2,   2.7025,  34.3938,2,  34.3935,2,     25.7,2,   150.52,2,    43.60,2,     0.00,2,     3.11,2,    0.230,2,    0.112,2,   2375.7,2,   2379.8,2,   7.3177,2,    25.00,      347
  49UP20170623,RF1707,  6040,  1,     20,  25829,2,20170630,0214, 45.0777, 156.6663, 4717,   1013.0,   2.5597,  34.4271,2,  34.4276,2,     23.9,2,   156.62,2,    43.78,2,     0.00,2,     3.12,2,    0.153,2,    0.080,2,   2381.1,2,   2385.6,2,   7.3222,2,    25.00,      344
  49UP20170623,RF1707,  6040,  1,     19,  25828,2,20170630,0214, 45.0777, 156.6663, 4717,   1215.0,   2.3204,  34.4874,2,  34.4867,2,     30.1,2,   164.32,2,    43.53,2,     0.00,2,     3.09,2,    0.073,2,    0.035,2,   2385.7,2,   2395.9,2,   7.3381,2,    25.00,      339
  49UP20170623,RF1707,  6040,  1,     18,  25827,3,20170630,0214, 45.0777, 156.6663, 4717,   1418.8,   2.1362,  34.5314,2,  34.5318,2,     42.2,2,   168.03,2,    42.78,2,     0.00,2,     3.04,2,    0.040,2,    0.021,2,   2382.3,2,   2403.7,2,   7.3642,2,    25.00,      334
  49UP20170623,RF1707,  6040,  1,     17,  25826,2,20170630,0214, 45.0777, 156.6663, 4717,   1622.4,   1.9950,  34.5658,2,  34.5658,2,     56.1,2,   168.84,2,    42.01,2,     0.00,2,     2.98,2,    0.023,2,    0.013,2,   2379.6,2,   2407.3,2,   7.3961,2,    25.00,      328
  49UP20170623,RF1707,  6040,  1,     16,  25825,3,20170630,0214, 45.0777, 156.6663, 4717,   1824.4,   1.8614,  34.5966,2,  34.5959,2,     71.6,2,   168.44,2,    41.10,2,     0.00,2,     2.91,2,    0.007,2,    0.008,2,   2374.1,2,   2411.9,2,   7.4282,2,    25.00,      323
  49UP20170623,RF1707,  6040,  1,     15,  25824,2,20170630,0214, 45.0777, 156.6663, 4717,   2027.6,   1.7680,  34.6166,2,  34.6168,6,     84.8,2,   166.52,2,    40.31,2,     0.00,2,     2.85,2,    0.000,2,    0.006,2,   2366.6,2,   2415.0,2,   7.4573,2,    25.00,      318
  49UP20170623,RF1707,  6040,  1,     14,  25823,2,20170630,0214, 45.0777, 156.6663, 4717,   2231.3,   1.6887,  34.6326,2,  34.6332,2,     97.4,2,   164.03,2,    39.58,2,     0.00,2,     2.79,2,    0.000,2,    0.003,2,   2360.5,2,   2417.8,2,   7.4794,2,    25.00,      314
  49UP20170623,RF1707,  6040,  1,     13,  25822,2,20170630,0214, 45.0777, 156.6663, 4717,   2434.9,   1.6158,  34.6460,2,  34.6460,2,    109.4,6,   161.54,6,    38.84,6,     0.00,6,     2.73,6,    0.000,2,    0.005,2,   2355.6,2,   2418.0,2,   7.5034,2,    25.00,      309
  49UP20170623,RF1707,  6040,  1,     12,  25821,2,20170630,0214, 45.0777, 156.6663, 4717,   2639.3,   1.5661,  34.6551,2,  34.6547,2,    118.5,2,   159.20,2,    38.26,2,     0.00,2,     2.69,2,    0.008,6,    0.011,6,   2347.1,2,   2417.5,2,   7.5204,2,    25.00,      304
  49UP20170623,RF1707,  6040,  1,     11,  25820,3,20170630,0214, 45.0777, 156.6663, 4717,   2842.9,   1.5277,  34.6624,2,  34.6619,2,    125.3,2,   157.72,2,    37.80,2,     0.00,2,     2.64,2,    0.000,2,    0.003,2,   2341.5,2,   2416.5,2,   7.5326,2,    25.00,      300
  49UP20170623,RF1707,  6040,  1,     10,  25819,2,20170630,0214, 45.0777, 156.6663, 4717,   3046.9,   1.4929,  34.6687,2,  34.6684,2,    132.8,2,   155.79,2,    37.37,2,     0.00,2,     2.61,2, -999.000,9, -999.000,9,   2344.2,2,   2418.5,2,   7.5463,2,    25.00,      255
  49UP20170623,RF1707,  6040,  1,      9,  25818,2,20170630,0214, 45.0777, 156.6663, 4717,   3046.9,   1.4930,  34.6687,2,  34.6689,2,    132.9,2,   155.81,2,    37.37,2,     0.00,2,     2.61,2, -999.000,9, -999.000,9,   2343.6,2,   2418.5,2,   7.5445,2,    25.00,      255
  49UP20170623,RF1707,  6040,  1,      8,  25817,2,20170630,0214, 45.0777, 156.6663, 4717,   3302.5,   1.4666,  34.6744,2,  34.6743,2,    139.8,2,   154.15,2,    36.94,2,     0.00,2,     2.58,2, -999.000,9, -999.000,9,   2336.5,2,   2417.6,2,   7.5561,2,    25.00,      249
  49UP20170623,RF1707,  6040,  1,      7,  25816,2,20170630,0214, 45.0777, 156.6663, 4717,   3557.6,   1.4499,  34.6791,2,  34.6788,2,    144.7,2,   152.55,2,    36.60,2,     0.00,2,     2.55,2, -999.000,9, -999.000,9,   2328.9,6,   2417.7,6,   7.5664,2,    25.00,      244
  49UP20170623,RF1707,  6040,  1,      6,  25815,2,20170630,0214, 45.0777, 156.6663, 4717,   3815.5,   1.4435,  34.6825,2,  34.6827,2,    149.4,2,   151.65,2,    36.32,2,     0.00,2,     2.53,2,    0.000,2,    0.006,2,   2322.2,2,   2416.4,2,   7.5741,6,    25.00,      238
  49UP20170623,RF1707,  6040,  1,      5,  25814,2,20170630,0214, 45.0777, 156.6663, 4717,   4071.7,   1.4413,  34.6857,2,  34.6860,6,    153.2,6,   150.82,6,    36.06,6,     0.00,6,     2.51,6, -999.000,9, -999.000,9,   2326.1,2,   2418.0,2,   7.5858,2,    25.00,      232
  49UP20170623,RF1707,  6040,  1,      4,  25813,2,20170630,0214, 45.0777, 156.6663, 4717,   4329.0,   1.4517,  34.6878,2,  34.6889,4,    155.3,2,   150.89,2,    35.89,2,     0.00,2,     2.49,2, -999.000,9, -999.000,9,   2328.7,2,   2418.0,2,   7.5868,2,    25.00,      226
  49UP20170623,RF1707,  6040,  1,      3,  25812,2,20170630,0214, 45.0777, 156.6663, 4717,   4329.2,   1.4518,  34.6877,2,  34.6876,2,    155.1,2,   150.82,2,    35.88,2,     0.00,2,     2.50,2, -999.000,9, -999.000,9,   2319.5,3,   2418.6,2,   7.5862,2,    25.00,      226
  49UP20170623,RF1707,  6040,  1,      2,  25811,2,20170630,0214, 45.0777, 156.6663, 4717,   4584.9,   1.4736,  34.6887,2,  34.6890,6,    156.4,2,   150.94,2,    35.80,2,     0.00,2,     2.48,2, -999.000,9, -999.000,9,   2322.8,2,   2417.6,2,   7.5876,2,    25.00,      220
  49UP20170623,RF1707,  6040,  1,      1,  25810,2,20170630,0214, 45.0777, 156.6663, 4717,   4853.9,   1.5023,  34.6890,2,  34.6889,2,    157.0,2,   151.05,2,    35.74,2,     0.00,2,     2.49,2,    0.007,6,    0.011,6,   2321.8,2,   2418.1,2,   7.5885,2,    25.00,      214