BOTTLE,20200309PRINUNIVRMK
EXPOCODE,SECT_ID,STNNBR,CASTNO,SAMPNO,BTLNBR,BTLNBR_FLAG_W,DATE,TIME,LATITUDE,LONGITUDE,DEPTH,CTDPRS,CTDTMP,CTDSAL,CTDSAL_FLAG_W,SALNTY,SALNTY_FLAG_W,OXYGEN,OXYGEN_FLAG_W,SILCAT,SILCAT_FLAG_W,NITRAT,NITRAT_FLAG_W,NITRIT,NITRIT_FLAG_W,PHSPHT,PHSPHT_FLAG_W,CFC-11,CFC-11_FLAG_W,CFC-12,CFC-12_FLAG_W,TCARBN,TCARBN_FLAG_W,ALKALI,ALKALI_FLAG_W,PH_TOT,PH_TOT_FLAG_W,PH_TMP,BTL_TIME
,,,,,,,,,,,METERS,DBAR,ITS-90,PSS-78,,PSS-78,,UMOL/KG,,UMOL/KG,,UMOL/KG,,UMOL/KG,,UMOL/KG,,PMOL/KG,,PMOL/KG,,UMOL/KG,,UMOL/KG,,,,DEG C,
  49UP20170623,RF1707,  6033,  1,     99,     99,2,20170626,1546, 40.6470, 147.1843, 5293,      0.0,  10.7634,  32.6279,2,  32.6104,2,    309.5,2,     0.44,2,     0.73,2,     0.03,2,     0.40,2, -999.000,9, -999.000,9,   1992.5,2,   2236.0,2,   7.9820,2,    25.00,     1735
  49UP20170623,RF1707,  6033,  1,     36,  25845,2,20170626,1546, 40.6470, 147.1843, 5293,      9.3,  10.7595,  32.6266,2,  32.6299,4,    312.3,2,     0.44,2,     0.81,2,     0.04,2,     0.39,2,    4.070,2,    2.338,2,   1994.4,2,   2235.8,2,   7.9838,2,    25.00,     1805
  49UP20170623,RF1707,  6033,  1,     35,  25844,2,20170626,1546, 40.6470, 147.1843, 5293,     25.2,   7.7322,  32.7310,2,  32.7251,4,    342.5,2,     2.06,2,     3.82,2,     0.08,2,     0.65,2, -999.000,9, -999.000,9,   2019.0,2,   2240.8,2,   7.9443,2,    25.00,     1804
  49UP20170623,RF1707,  6033,  1,     34,  25843,2,20170626,1546, 40.6470, 147.1843, 5293,     49.9,   1.9191,  32.9833,2,  32.9945,4,    319.2,2,    36.25,2,    20.98,2,     0.27,2,     1.87,2,    5.495,6,    3.020,6,   2144.4,2,   2245.4,2,   7.6280,2,    25.00,     1759
  49UP20170623,RF1707,  6033,  1,     33,  25842,2,20170626,1546, 40.6470, 147.1843, 5293,    100.7,   1.2448,  33.0863,2,  33.0903,2,    284.0,6,    49.35,6,    26.63,6,     0.06,6,     2.08,6,    5.218,2,    2.880,2,   2173.1,2,   2245.6,2,   7.5484,2,    25.00,     1757
  49UP20170623,RF1707,  6033,  1,     32,  25841,3,20170626,1546, 40.6470, 147.1843, 5293,    126.4,   1.2376,  33.1301,2,  33.1320,2,    272.4,2,    51.63,2,    27.10,2,     0.03,2,     2.11,2, -999.000,9, -999.000,9,   2186.1,2,   2249.3,2,   7.5276,2,    25.00,     1756
  49UP20170623,RF1707,  6033,  1,     31,  25840,2,20170626,1546, 40.6470, 147.1843, 5293,    150.7,   1.3515,  33.1859,2,  33.1885,2,    255.3,2,    54.81,2,    28.09,2,     0.03,2,     2.17,2,    4.902,2,    2.720,2,   2192.8,2,   2251.9,2,   7.5100,2,    25.00,     1754
  49UP20170623,RF1707,  6033,  1,     30,  25839,3,20170626,1546, 40.6470, 147.1843, 5293,    200.7,   1.5928,  33.2827,2,  33.2860,2,    229.8,2,    60.59,2,    29.93,2,     0.03,2,     2.29,2,    4.593,2,    2.547,2,   2211.2,2,   2260.2,2,   7.4752,2,    25.00,     1753
  49UP20170623,RF1707,  6033,  1,     29,  25838,2,20170626,1546, 40.6470, 147.1843, 5293,    251.6,   2.0303,  33.4216,2,  33.4257,2,    187.1,2,    70.59,2,    32.88,2,     0.02,2,     2.47,2,    4.021,2,    2.230,2,   2239.7,2,   2271.2,2,   7.4278,2,    25.00,     1751
  49UP20170623,RF1707,  6033,  1,     28,  25837,2,20170626,1546, 40.6470, 147.1843, 5293,    281.4,   2.6559,  33.5428,2,  33.5418,2,    155.8,2,    75.01,2,    34.97,2,     0.02,2,     2.58,2,    3.612,2,    2.010,2,   2255.8,2,   2279.0,2,   7.3941,2,    25.00,     1749
  49UP20170623,RF1707,  6033,  1,     27,  25836,2,20170626,1546, 40.6470, 147.1843, 5293,    372.5,   2.9969,  33.7411,2,  33.7414,2,    100.6,2,    90.13,2,    39.06,2,     0.01,2,     2.83,2,    2.819,2,    1.539,2,   2295.1,6,   2295.5,6,   7.3308,2,    25.00,     1747
  49UP20170623,RF1707,  6033,  1,     26,  25835,2,20170626,1546, 40.6470, 147.1843, 5293,    474.1,   3.6121,  33.9906,2,  33.9940,2,     54.4,2,   102.58,2,    41.40,2,     0.00,2,     2.95,2,    1.816,2,    0.935,2,   2324.5,2,   2319.1,2,   7.3045,6,    25.00,     1744
  49UP20170623,RF1707,  6033,  1,     25,  25834,2,20170626,1546, 40.6470, 147.1843, 5293,    575.4,   3.3945,  34.0900,2,  34.0904,2,     31.3,3,   117.75,2,    43.80,2,     0.00,2,     3.10,2,    1.281,2,    0.644,2,   2351.5,2,   2334.3,2,   7.2741,2,    25.00,     1741
  49UP20170623,RF1707,  6033,  1,     24,  25833,2,20170626,1546, 40.6470, 147.1843, 5293,    677.9,   3.2711,  34.1952,2,  34.1917,2,     21.6,2,   127.64,2,    43.88,2,     0.00,2,     3.10,2,    0.843,2,    0.419,2,   2363.1,2,   2349.0,2,   7.2787,2,    25.00,     1738
  49UP20170623,RF1707,  6033,  1,     23,  25832,2,20170626,1546, 40.6470, 147.1843, 5293,    778.2,   3.1191,  34.2759,2,  34.2728,2,     27.2,2,   134.62,2,    43.28,2,     0.00,2,     3.08,2,    0.575,2,    0.301,2,   2364.3,2,   2361.5,2,   7.3063,2,    25.00,     1735
  49UP20170623,RF1707,  6033,  1,     22,  25831,2,20170626,1546, 40.6470, 147.1843, 5293,    879.2,   2.9862,  34.3261,2,  34.3240,2,     37.9,3,   139.53,2,    43.01,2,     0.00,2,     3.07,2,    0.458,2,    0.239,2,   2364.8,2,   2369.1,2,   7.3260,2,    25.00,     1732
  49UP20170623,RF1707,  6033,  1,     21,  25830,2,20170626,1546, 40.6470, 147.1843, 5293,    982.7,   2.9661,  34.3922,2,  34.3899,2,     37.8,2,   139.57,2,    42.57,2,     0.00,2,     3.02,2,    0.239,2,    0.125,2,   2372.4,2,   2379.4,2,   7.3474,2,    25.00,     1727
  49UP20170623,RF1707,  6033,  1,     20,  25829,2,20170626,1546, 40.6470, 147.1843, 5293,   1146.6,   2.6498,  34.4453,2,  34.4430,2,     38.3,2,   149.70,2,    42.82,2,     0.00,2,     3.04,2,    0.158,6,    0.087,6,   2377.9,2,   2391.1,2,   7.3547,2,    25.00,     1721
  49UP20170623,RF1707,  6033,  1,     19,  25828,2,20170626,1546, 40.6470, 147.1843, 5293,   1348.0,   2.4102,  34.4980,2,  34.4963,2,     45.0,2,   155.13,2,    42.58,2,     0.00,2,     3.01,2,    0.068,2,    0.049,2,   2376.5,2,   2400.8,2,   7.3722,2,    25.00,     1715
  49UP20170623,RF1707,  6033,  1,     18,  25827,4,20170626,1546, 40.6470, 147.1843, 5293,   1552.9,   2.2229,  34.5354,2,  34.5274,4,     51.7,4,   159.08,4,    42.34,4,     0.00,4,     2.98,4,    0.040,4,    0.032,4,   2380.6,4,   2406.8,4,   7.3894,4,    25.00,     1709
  49UP20170623,RF1707,  6033,  1,     17,  25826,2,20170626,1546, 40.6470, 147.1843, 5293,   1756.1,   2.0753,  34.5675,2,  34.5670,2,     62.4,6,   161.33,6,    41.77,6,     0.00,6,     2.93,6,    0.014,2,    0.019,2,   2378.7,2,   2411.7,2,   7.4113,2,    25.00,     1703
  49UP20170623,RF1707,  6033,  1,     16,  25825,2,20170626,1546, 40.6470, 147.1843, 5293,   1956.9,   1.9314,  34.5950,2,  34.5946,2,     75.5,2,   162.05,2,    41.01,2,     0.00,2,     2.87,2,    0.012,2,    0.023,2,   2370.9,2,   2416.2,2,   7.4404,2,    25.00,     1658
  49UP20170623,RF1707,  6033,  1,     15,  25824,2,20170626,1546, 40.6470, 147.1843, 5293,   2159.7,   1.8243,  34.6148,2,  34.6135,2,     87.0,2,   161.56,2,    40.28,2,     0.00,2,     2.82,2, -999.000,5, -999.000,5,   2363.8,6,   2416.6,6,   7.4626,2,    25.00,     1653
  49UP20170623,RF1707,  6033,  1,     14,  25823,2,20170626,1546, 40.6470, 147.1843, 5293,   2361.4,   1.7333,  34.6307,2,  34.6285,6,     98.9,2,   160.49,2,    39.53,2,     0.00,2,     2.76,2,    0.004,2,    0.017,2,   2360.5,2,   2418.6,2,   7.4845,6,    25.00,     1648
  49UP20170623,RF1707,  6033,  1,     13,  25822,2,20170626,1546, 40.6470, 147.1843, 5293,   2564.1,   1.6632,  34.6430,2,  34.6424,2,    108.7,2,   159.44,2,    38.94,2,     0.00,2,     2.72,2,    0.000,2,    0.014,2,   2355.2,2,   2420.1,2,   7.5033,2,    25.00,     1644
  49UP20170623,RF1707,  6033,  1,     12,  25821,2,20170626,1546, 40.6470, 147.1843, 5293,   2769.3,   1.6076,  34.6527,2,  34.6504,2,    117.4,6,   157.67,6,    38.37,6,     0.00,6,     2.67,6,    0.000,2,    0.013,2,   2348.1,2,   2419.5,2,   7.5182,2,    25.00,     1639
  49UP20170623,RF1707,  6033,  1,     11,  25820,2,20170626,1546, 40.6470, 147.1843, 5293,   2971.6,   1.5595,  34.6611,2,  34.6588,2,    125.0,2,   156.10,2,    37.87,2,     0.00,2,     2.64,2, -999.000,9, -999.000,9,   2343.3,2,   2422.5,3,   7.5355,2,    25.00,     1635
  49UP20170623,RF1707,  6033,  1,     10,  25819,3,20170626,1546, 40.6470, 147.1843, 5293,   3218.4,   1.5221,  34.6681,2,  34.6646,4,    133.1,2,   154.54,2,    37.35,2,     0.00,2,     2.60,2, -999.000,9, -999.000,9,   2338.9,2,   2418.5,2,   7.5488,2,    25.00,     1630
  49UP20170623,RF1707,  6033,  1,      9,  25818,2,20170626,1546, 40.6470, 147.1843, 5293,   3472.5,   1.4902,  34.6745,2,  34.6737,2,    140.3,2,   152.72,2,    36.91,2,     0.00,2,     2.56,2, -999.000,9, -999.000,9,   2332.4,2,   2419.4,2,   7.5586,2,    25.00,     1625
  49UP20170623,RF1707,  6033,  1,      8,  25817,3,20170626,1546, 40.6470, 147.1843, 5293,   3730.0,   1.4691,  34.6794,2,  34.6759,4,    146.8,3,   151.07,2,    36.51,2,     0.00,2,     2.53,2,    0.000,2,    0.011,2,   2334.7,2,   2417.5,2,   7.5663,2,    25.00,     1620
  49UP20170623,RF1707,  6033,  1,      7,  25816,2,20170626,1546, 40.6470, 147.1843, 5293,   3984.8,   1.4622,  34.6829,2,  34.6820,2,    150.1,2,   150.21,2,    36.25,2,     0.00,2,     2.51,2, -999.000,9, -999.000,9,   2327.8,2,   2419.1,2,   7.5759,2,    25.00,     1615
  49UP20170623,RF1707,  6033,  1,      6,  25815,2,20170626,1546, 40.6470, 147.1843, 5293,   4241.6,   1.4595,  34.6861,2,  34.6850,2,    154.2,2,   149.09,2,    35.93,2,     0.00,2,     2.48,2, -999.000,9, -999.000,9,   2325.7,2,   2418.8,2,   7.5834,2,    25.00,     1610
  49UP20170623,RF1707,  6033,  1,      5,  25814,2,20170626,1546, 40.6470, 147.1843, 5293,   4496.7,   1.4686,  34.6882,2,  34.6852,4,    159.5,3,   148.55,2,    35.80,2,     0.00,2,     2.47,2, -999.000,9, -999.000,9,   2326.1,6,   2417.3,6,   7.5864,2,    25.00,     1605
  49UP20170623,RF1707,  6033,  1,      4,  25813,2,20170626,1546, 40.6470, 147.1843, 5293,   4757.2,   1.4866,  34.6896,2,  34.6890,2,    158.5,2,   148.48,2,    35.61,2,     0.00,2,     2.46,2,    0.006,2,    0.019,2,   2323.2,2,   2416.9,2,   7.5902,6,    25.00,     1600
  49UP20170623,RF1707,  6033,  1,      3,  25812,2,20170626,1546, 40.6470, 147.1843, 5293,   5014.1,   1.5085,  34.6906,2,  34.6892,6,    160.0,2,   147.11,2,    35.45,2,     0.00,2,     2.45,2, -999.000,9, -999.000,9,   2321.3,2,   2415.8,2,   7.5939,2,    25.00,     1554
  49UP20170623,RF1707,  6033,  1,      2,  25811,2,20170626,1546, 40.6470, 147.1843, 5293,   5274.4,   1.5325,  34.6915,2,  34.6912,2,    161.2,6,   146.32,6,    35.32,6,     0.00,6,     2.45,6, -999.000,9, -999.000,9,   2319.3,2,   2416.1,2,   7.5923,2,    25.00,     1549
  49UP20170623,RF1707,  6033,  1,      1,  25810,2,20170626,1546, 40.6470, 147.1843, 5293,   5392.2,   1.5476,  34.6915,2,  34.6892,4,    160.4,2,   146.43,2,    35.30,2,     0.00,2,     2.44,2,    0.006,6,    0.018,6,   2319.4,2,   2417.0,2,   7.5927,2,    25.00,     1546