BOTTLE,20200309PRINUNIVRMK
EXPOCODE,SECT_ID,STNNBR,CASTNO,SAMPNO,BTLNBR,BTLNBR_FLAG_W,DATE,TIME,LATITUDE,LONGITUDE,DEPTH,CTDPRS,CTDTMP,CTDSAL,CTDSAL_FLAG_W,SALNTY,SALNTY_FLAG_W,OXYGEN,OXYGEN_FLAG_W,SILCAT,SILCAT_FLAG_W,NITRAT,NITRAT_FLAG_W,NITRIT,NITRIT_FLAG_W,PHSPHT,PHSPHT_FLAG_W,CFC-11,CFC-11_FLAG_W,CFC-12,CFC-12_FLAG_W,TCARBN,TCARBN_FLAG_W,ALKALI,ALKALI_FLAG_W,PH_TOT,PH_TOT_FLAG_W,PH_TMP,BTL_TIME
,,,,,,,,,,,METERS,DBAR,ITS-90,PSS-78,,PSS-78,,UMOL/KG,,UMOL/KG,,UMOL/KG,,UMOL/KG,,UMOL/KG,,PMOL/KG,,PMOL/KG,,UMOL/KG,,UMOL/KG,,,,DEG C,
  49UP20170623,RF1707,  6073,  1,     99,     99,2,20170728,0536, 30.0135, 164.9932, 5838,      0.0,  26.4371,  34.6969,2,  34.6910,2,    205.5,2,     1.71,2,     0.02,2,     0.00,2,     0.03,2, -999.000,9, -999.000,9,   1977.7,2,   2280.6,2,   8.0578,2,    25.00,      725
  49UP20170623,RF1707,  6073,  1,     36,  25845,2,20170728,0536, 30.0135, 164.9932, 5838,     11.3,  26.4353,  34.6916,2,  34.6929,2,    205.2,2,     1.71,2,     0.00,2,     0.00,2,     0.01,2,    1.661,6,    1.078,6,   1981.3,2,   2282.5,2,   8.0533,2,    25.00,      755
  49UP20170623,RF1707,  6073,  1,     35,  25844,2,20170728,0536, 30.0135, 164.9932, 5838,     51.4,  19.3573,  34.8213,2,  34.8197,2,    241.9,6,     2.04,6,     0.03,6,     0.00,6,     0.04,6,    2.246,2,    1.390,2,   2003.2,2,   2292.1,2,   8.0309,2,    25.00,      753
  49UP20170623,RF1707,  6073,  1,     34,  25843,3,20170728,0536, 30.0135, 164.9932, 5838,    100.9,  17.6509,  34.7981,2,  34.7989,2,    225.5,2,     3.19,2,     1.93,2,     0.12,2,     0.17,2,    2.331,2,    1.449,2,   2028.8,2,   2288.3,2,   7.9838,2,    25.00,      751
  49UP20170623,RF1707,  6073,  1,     33,  25842,2,20170728,0536, 30.0135, 164.9932, 5838,    151.2,  17.0001,  34.7821,2,  34.7838,2,    219.0,2,     4.18,2,     4.13,2,     0.03,2,     0.28,2,    2.360,2,    1.507,2,   2035.1,2,   2288.3,2,   7.9622,2,    25.00,      748
  49UP20170623,RF1707,  6073,  1,     32,  25841,2,20170728,0536, 30.0135, 164.9932, 5838,    201.4,  16.5571,  34.7385,2,  34.7358,2,    221.3,2,     4.52,2,     4.41,2,     0.02,2,     0.30,2,    2.404,2,    1.524,2,   2042.8,6,   2284.4,6,   7.9518,2,    25.00,      746
  49UP20170623,RF1707,  6073,  1,     31,  25840,2,20170728,0536, 30.0135, 164.9932, 5838,    251.4,  15.9513,  34.6775,2,  34.6700,4,    213.7,2,     6.45,2,     6.12,2,     0.01,2,     0.42,2,    2.514,2,    1.587,2,   2054.2,2,   2280.7,2,   7.9275,6,    25.00,      744
  49UP20170623,RF1707,  6073,  1,     30,  25839,3,20170728,0536, 30.0135, 164.9932, 5838,    283.0,  15.0054,  34.5839,2,  34.5823,2,    194.9,2,    10.77,2,     9.49,2,     0.01,2,     0.65,2,    2.516,2,    1.561,2,   2077.1,2,   2284.1,2,   7.8801,2,    25.00,      742
  49UP20170623,RF1707,  6073,  1,     29,  25838,2,20170728,0536, 30.0135, 164.9932, 5838,    374.9,  13.2829,  34.4633,2,  34.4629,2,    212.2,2,    13.65,2,    10.59,2,     0.01,2,     0.74,2,    2.711,2,    1.669,2,   2088.5,2,   2279.7,2,   7.8545,2,    25.00,      740
  49UP20170623,RF1707,  6073,  1,     28,  25837,2,20170728,0536, 30.0135, 164.9932, 5838,    475.8,  10.6478,  34.2073,2,  34.2201,4,    236.7,2,    16.53,2,    12.02,2,     0.01,2,     0.87,2,    3.107,2,    1.870,2,   2096.5,2,   2274.1,2,   7.8167,2,    25.00,      737
  49UP20170623,RF1707,  6073,  1,     27,  25836,2,20170728,0536, 30.0135, 164.9932, 5838,    576.9,   8.3311,  34.0468,2,  34.0484,2,    182.2,2,    35.42,2,    21.62,2,     0.00,2,     1.55,2,    2.985,2,    1.727,2,   2160.1,2,   2279.5,2,   7.6719,2,    25.00,      734
  49UP20170623,RF1707,  6073,  1,     26,  25835,2,20170728,0536, 30.0135, 164.9932, 5838,    675.3,   6.0571,  33.9985,2,  34.0012,2,    132.8,6,    61.33,6,    30.45,6,     0.00,6,     2.20,6,    2.507,2,    1.359,2,   2227.0,2,   2295.3,2,   7.5280,2,    25.00,      731
  49UP20170623,RF1707,  6073,  1,     25,  25834,2,20170728,0536, 30.0135, 164.9932, 5838,    779.4,   4.8431,  34.0741,2,  34.0762,2,     87.5,2,    84.74,2,    36.44,2,     0.00,2,     2.62,2,    1.730,6,    0.899,6,   2281.4,2,   2316.3,2,   7.4308,2,    25.00,      729
  49UP20170623,RF1707,  6073,  1,     24,  25833,2,20170728,0536, 30.0135, 164.9932, 5838,    876.7,   4.2916,  34.1737,2,  34.1744,6,     59.5,2,   101.81,2,    39.58,2,     0.00,2,     2.83,2,    1.075,2,    0.551,2,   2313.5,6,   2335.9,6,   7.3884,2,    25.00,      726
  49UP20170623,RF1707,  6073,  1,     23,  25832,2,20170728,0536, 30.0135, 164.9932, 5838,    979.8,   3.7754,  34.2650,2,  34.2644,2,     42.7,2,   117.11,2,    41.46,2,     0.00,2,     2.96,2,    0.566,2,    0.276,2,   2339.8,2,   2355.1,2,   7.3617,6,    25.00,      723
  49UP20170623,RF1707,  6073,  1,     22,  25831,2,20170728,0536, 30.0135, 164.9932, 5838,   1140.4,   3.2667,  34.3581,2,  34.3562,2,     34.9,2,   131.88,2,    42.56,2,     0.00,2,     3.03,2,    0.254,2,    0.121,2,   2361.4,2,   2371.4,2,   7.3594,2,    25.00,      719
  49UP20170623,RF1707,  6073,  1,     21,  25830,3,20170728,0536, 30.0135, 164.9932, 5838,   1343.3,   2.7823,  34.4417,2,  34.4414,2,     34.5,2,   145.99,2,    43.10,2,     0.00,2,     3.06,2,    0.117,2,    0.052,2,   2374.0,2,   2389.5,2,   7.3651,2,    25.00,      714
  49UP20170623,RF1707,  6073,  1,     20,  25829,2,20170728,0536, 30.0135, 164.9932, 5838,   1546.9,   2.4416,  34.5132,2,  34.5133,2,     42.3,2,   155.08,2,    43.04,2,     0.00,2,     3.04,2,    0.019,2,    0.006,2,   2383.1,2,   2404.4,2,   7.3800,2,    25.00,      709
  49UP20170623,RF1707,  6073,  1,     19,  25828,2,20170728,0536, 30.0135, 164.9932, 5838,   1749.6,   2.1877,  34.5562,2,  34.5560,2,     55.9,2,   159.95,2,    42.23,2,     0.00,2,     2.97,2,    0.129,3,    0.253,3,   2377.7,2,   2410.5,2,   7.4076,2,    25.00,      704
  49UP20170623,RF1707,  6073,  1,     18,  25827,2,20170728,0536, 30.0135, 164.9932, 5838,   1953.2,   1.9783,  34.5898,2,  34.5896,2,     71.4,2,   162.05,2,    41.31,2,     0.00,2,     2.90,2,    0.105,3,    0.204,3,   2372.9,2,   2416.1,2,   7.4405,2,    25.00,      700
  49UP20170623,RF1707,  6073,  1,     17,  25826,2,20170728,0536, 30.0135, 164.9932, 5838,   2157.8,   1.8369,  34.6143,2,  34.6124,2,     86.7,6,   161.39,6,    40.31,6,     0.00,6,     2.83,6,    0.000,2,    0.000,2,   2367.9,2,   2417.8,2,   7.4673,2,    25.00,      655
  49UP20170623,RF1707,  6073,  1,     16,  25825,2,20170728,0536, 30.0135, 164.9932, 5838,   2359.0,   1.7311,  34.6322,2,  34.6326,2,    101.6,2,   159.44,2,    39.40,2,     0.00,2,     2.76,2,    0.000,2,    0.001,2,   2359.0,2,   2419.9,2,   7.4969,2,    25.00,      651
  49UP20170623,RF1707,  6073,  1,     15,  25824,2,20170728,0536, 30.0135, 164.9932, 5838,   2565.4,   1.6573,  34.6448,2,  34.6444,2,    112.0,2,   157.80,2,    38.74,2,     0.00,2,     2.70,2,    0.000,2,    0.000,2,   2355.0,2,   2419.8,2,   7.5143,2,    25.00,      646
  49UP20170623,RF1707,  6073,  1,     14,  25823,3,20170728,0536, 30.0135, 164.9932, 5838,   2768.3,   1.5991,  34.6539,2,  34.6544,2,    120.4,2,   156.66,2,    38.19,2,     0.00,2,     2.66,2,    0.000,2,    0.000,2,   2344.4,2,   2420.5,2,   7.5374,2,    25.00,      642
  49UP20170623,RF1707,  6073,  1,     13,  25822,2,20170728,0536, 30.0135, 164.9932, 5838,   2972.8,   1.5536,  34.6615,2,  34.6621,2,    127.7,2,   155.05,2,    37.76,2,     0.00,2,     2.62,2, -999.000,9, -999.000,9,   2338.9,2,   2421.5,2,   7.5448,2,    25.00,      638
  49UP20170623,RF1707,  6073,  1,     12,  25821,2,20170728,0536, 30.0135, 164.9932, 5838,   3216.7,   1.5135,  34.6687,2,  34.6692,6,    135.7,2,   153.09,2,    37.23,2,     0.00,2,     2.59,2, -999.000,9, -999.000,9,   2338.2,6,   2421.0,6,   7.5563,2,    25.00,      633
  49UP20170623,RF1707,  6073,  1,     11,  25820,2,20170728,0536, 30.0135, 164.9932, 5838,   3471.6,   1.4925,  34.6737,2,  34.6713,4,    140.1,2,   151.69,2,    36.90,2,     0.00,2,     2.56,2, -999.000,9, -999.000,9,   2331.9,2,   2420.0,2,   7.5636,6,    25.00,      627
  49UP20170623,RF1707,  6073,  1,     10,  25819,2,20170728,0536, 30.0135, 164.9932, 5838,   3727.3,   1.4726,  34.6784,2,  34.6791,2,    146.4,2,   150.47,2,    36.50,2,     0.00,2,     2.53,2,    0.005,2,    0.004,2,   2325.6,3,   2421.9,2,   7.5718,2,    25.00,      622
  49UP20170623,RF1707,  6073,  1,      9,  25818,2,20170728,0536, 30.0135, 164.9932, 5838,   3984.9,   1.4633,  34.6819,2,  34.6806,2,    150.0,2,   148.76,2,    36.25,2,     0.00,2,     2.50,2, -999.000,9, -999.000,9,   2326.0,2,   2419.5,2,   7.5772,2,    25.00,      617
  49UP20170623,RF1707,  6073,  1,      8,  25817,2,20170728,0536, 30.0135, 164.9932, 5838,   4240.8,   1.4608,  34.6850,2,  34.6851,6,    155.3,6,   147.05,6,    35.89,6,     0.00,6,     2.48,6, -999.000,9, -999.000,9,   2326.7,2,   2416.8,2,   7.5938,2,    25.00,      612
  49UP20170623,RF1707,  6073,  1,      7,  25816,2,20170728,0536, 30.0135, 164.9932, 5838,   4497.3,   1.4640,  34.6875,2,  34.6877,2,    159.0,2,   145.32,2,    35.63,2,     0.00,2,     2.46,2, -999.000,9, -999.000,9,   2320.5,2,   2418.0,2,   7.5984,2,    25.00,      607
  49UP20170623,RF1707,  6073,  1,      6,  25815,2,20170728,0536, 30.0135, 164.9932, 5838,   4756.2,   1.4690,  34.6899,2,  34.6897,2,    163.1,2,   142.70,2,    35.31,2,     0.00,2,     2.44,2,    0.000,2,    0.000,2,   2321.4,3,   2416.1,2,   7.5983,2,    25.00,      601
  49UP20170623,RF1707,  6073,  1,      5,  25814,2,20170728,0536, 30.0135, 164.9932, 5838,   5012.3,   1.4736,  34.6923,2,  34.6929,2,    167.5,2,   138.82,2,    34.96,2,     0.00,2,     2.41,2, -999.000,9, -999.000,9,   2310.0,2,   2411.8,2,   7.6031,2,    25.00,      556
  49UP20170623,RF1707,  6073,  1,      4,  25813,2,20170728,0536, 30.0135, 164.9932, 5838,   5271.0,   1.4887,  34.6937,2,  34.6944,2,    170.1,2,   136.85,2,    34.83,2,     0.00,2,     2.40,2, -999.000,9, -999.000,9,   2308.9,2,   2411.2,2,-999.0000,5,  -999.00,      551
  49UP20170623,RF1707,  6073,  1,      3,  25812,2,20170728,0536, 30.0135, 164.9932, 5838,   5527.8,   1.5033,  34.6952,2,  34.6955,6,    172.6,2,   135.33,2,    34.59,2,     0.00,2,     2.39,2, -999.000,9, -999.000,9,   2305.4,2,   2408.3,2,   7.6074,2,    25.00,      546
  49UP20170623,RF1707,  6073,  1,      2,  25811,2,20170728,0536, 30.0135, 164.9932, 5838,   5787.3,   1.5331,  34.6956,2,  34.6961,2,    173.7,2,   134.72,2,    34.57,2,     0.00,2,     2.38,2, -999.000,9, -999.000,9,   2301.3,2,   2408.0,2,   7.6124,2,    25.00,      541
  49UP20170623,RF1707,  6073,  1,      1,  25810,3,20170728,0536, 30.0135, 164.9932, 5838,   5988.2,   1.5603,  34.6957,2,  34.6956,2,    173.2,2,   134.39,2,    34.56,2,     0.00,2,     2.38,2,    0.000,6,    0.005,6,   2302.2,2,   2407.0,2,   7.6105,2,    25.00,      536