BOTTLE,20200309PRINUNIVRMK
EXPOCODE,SECT_ID,STNNBR,CASTNO,SAMPNO,BTLNBR,BTLNBR_FLAG_W,DATE,TIME,LATITUDE,LONGITUDE,DEPTH,CTDPRS,CTDTMP,CTDSAL,CTDSAL_FLAG_W,SALNTY,SALNTY_FLAG_W,OXYGEN,OXYGEN_FLAG_W,SILCAT,SILCAT_FLAG_W,NITRAT,NITRAT_FLAG_W,NITRIT,NITRIT_FLAG_W,PHSPHT,PHSPHT_FLAG_W,CFC-11,CFC-11_FLAG_W,CFC-12,CFC-12_FLAG_W,TCARBN,TCARBN_FLAG_W,ALKALI,ALKALI_FLAG_W,PH_TOT,PH_TOT_FLAG_W,PH_TMP,BTL_TIME
,,,,,,,,,,,METERS,DBAR,ITS-90,PSS-78,,PSS-78,,UMOL/KG,,UMOL/KG,,UMOL/KG,,UMOL/KG,,UMOL/KG,,PMOL/KG,,PMOL/KG,,UMOL/KG,,UMOL/KG,,,,DEG C,
  49UP20170623,RF1707,  6066,  1,     99,     99,2,20170725,1532, 34.4835, 164.9807, 5969,      0.0,  25.0280,  34.5733,2,-999.0000,9,    211.8,2,     1.55,2,     0.03,2,     0.00,2,     0.04,2, -999.000,9, -999.000,9,   -999.0,9,   -999.0,9,-999.0000,9,  -999.00,     1728
  49UP20170623,RF1707,  6066,  1,     36,  25845,3,20170725,1532, 34.4835, 164.9807, 5969,     10.4,  25.0333,  34.5731,2,  34.5709,2,    211.8,2,     1.59,2,     0.04,2,     0.00,2,     0.02,2, -999.000,9, -999.000,9,   -999.0,9,   -999.0,9,-999.0000,9,  -999.00,     1759
  49UP20170623,RF1707,  6066,  1,     35,  25844,2,20170725,1532, 34.4835, 164.9807, 5969,     51.0,  19.9404,  34.8533,2,  34.8526,2,    235.1,2,     1.82,2,     0.02,2,     0.00,2,     0.04,2, -999.000,9, -999.000,9,   -999.0,9,   -999.0,9,-999.0000,9,  -999.00,     1753
  49UP20170623,RF1707,  6066,  1,     34,  25843,2,20170725,1532, 34.4835, 164.9807, 5969,    100.9,  17.5942,  34.7790,2,  34.7795,2,    221.9,2,     3.23,2,     1.90,2,     0.21,2,     0.19,2, -999.000,9, -999.000,9,   -999.0,9,   -999.0,9,-999.0000,9,  -999.00,     1752
  49UP20170623,RF1707,  6066,  1,     33,  25842,2,20170725,1532, 34.4835, 164.9807, 5969,    151.3,  16.8773,  34.7366,2,  34.7365,2,    217.7,2,     3.90,2,     4.04,2,     0.02,2,     0.28,2, -999.000,9, -999.000,9,   -999.0,9,   -999.0,9,-999.0000,9,  -999.00,     1750
  49UP20170623,RF1707,  6066,  1,     32,  25841,2,20170725,1532, 34.4835, 164.9807, 5969,    202.7,  16.3580,  34.7193,2,  34.7123,4,    209.2,2,     6.23,2,     6.05,2,     0.01,2,     0.42,2, -999.000,9, -999.000,9,   -999.0,9,   -999.0,9,-999.0000,9,  -999.00,     1748
  49UP20170623,RF1707,  6066,  1,     31,  25840,2,20170725,1532, 34.4835, 164.9807, 5969,    252.0,  15.6315,  34.6349,2,  34.6286,4,    211.3,2,     6.69,2,     6.63,2,     0.01,2,     0.46,2, -999.000,9, -999.000,9,   -999.0,9,   -999.0,9,-999.0000,9,  -999.00,     1747
  49UP20170623,RF1707,  6066,  1,     30,  25839,2,20170725,1532, 34.4835, 164.9807, 5969,    334.2,  14.1960,  34.5280,2,  34.5264,2,    212.5,2,    11.16,2,     9.14,2,     0.01,2,     0.64,2, -999.000,9, -999.000,9,   -999.0,9,   -999.0,9,-999.0000,9,  -999.00,     1744
  49UP20170623,RF1707,  6066,  1,     29,  25838,2,20170725,1532, 34.4835, 164.9807, 5969,    433.9,  11.7755,  34.3255,2,  34.3251,2,    254.0,2,    10.97,2,     8.23,2,     0.01,2,     0.61,2, -999.000,9, -999.000,9,   -999.0,9,   -999.0,9,-999.0000,9,  -999.00,     1741
  49UP20170623,RF1707,  6066,  1,     28,  25837,2,20170725,1532, 34.4835, 164.9807, 5969,    534.8,  10.3936,  34.1730,2,  34.1727,2,    245.2,2,    16.27,2,    11.90,2,     0.01,2,     0.88,2, -999.000,9, -999.000,9,   -999.0,9,   -999.0,9,-999.0000,9,  -999.00,     1739
  49UP20170623,RF1707,  6066,  1,     27,  25836,2,20170725,1532, 34.4835, 164.9807, 5969,    635.9,   8.0989,  34.0265,2,  34.0288,2,    185.0,6,    37.09,6,    21.73,6,     0.00,6,     1.58,6, -999.000,9, -999.000,9,   -999.0,9,   -999.0,9,-999.0000,9,  -999.00,     1736
  49UP20170623,RF1707,  6066,  1,     26,  25835,2,20170725,1532, 34.4835, 164.9807, 5969,    737.1,   5.9250,  33.9937,2,  33.9957,2,    131.3,2,    62.48,2,    30.71,2,     0.00,2,     2.23,2, -999.000,9, -999.000,9,   -999.0,9,   -999.0,9,-999.0000,9,  -999.00,     1733
  49UP20170623,RF1707,  6066,  1,     25,  25834,2,20170725,1532, 34.4835, 164.9807, 5969,    838.5,   4.7066,  34.0456,2,  34.0479,2,     88.3,2,    84.63,2,    36.50,2,     0.00,2,     2.63,2, -999.000,9, -999.000,9,   -999.0,9,   -999.0,9,-999.0000,9,  -999.00,     1730
  49UP20170623,RF1707,  6066,  1,     24,  25833,2,20170725,1532, 34.4835, 164.9807, 5969,    939.9,   4.2548,  34.1661,2,  34.1670,2,     59.1,2,   101.82,2,    39.56,2,     0.00,2,     2.84,2, -999.000,9, -999.000,9,   -999.0,9,   -999.0,9,-999.0000,9,  -999.00,     1728
  49UP20170623,RF1707,  6066,  1,     23,  25832,2,20170725,1532, 34.4835, 164.9807, 5969,   1079.3,   3.6305,  34.2902,2,  34.2922,2,     40.9,2,   121.64,2,    41.68,2,     0.00,2,     2.99,2, -999.000,9, -999.000,9,   -999.0,9,   -999.0,9,-999.0000,9,  -999.00,     1724
  49UP20170623,RF1707,  6066,  1,     22,  25831,2,20170725,1532, 34.4835, 164.9807, 5969,   1283.8,   3.0911,  34.3850,2,  34.3865,2,     34.2,2,   138.60,2,    42.77,2,     0.00,2,     3.06,2, -999.000,9, -999.000,9,   -999.0,9,   -999.0,9,-999.0000,9,  -999.00,     1719
  49UP20170623,RF1707,  6066,  1,     21,  25830,2,20170725,1532, 34.4835, 164.9807, 5969,   1485.9,   2.6938,  34.4575,2,  34.4570,2,     34.8,2,   149.19,2,    43.19,2,     0.00,2,     3.08,2, -999.000,9, -999.000,9,   -999.0,9,   -999.0,9,-999.0000,9,  -999.00,     1715
  49UP20170623,RF1707,  6066,  1,     20,  25829,2,20170725,1532, 34.4835, 164.9807, 5969,   1691.0,   2.3782,  34.5148,2,  34.5158,2,     44.3,2,   157.02,2,    42.76,2,     0.00,2,     3.04,2, -999.000,9, -999.000,9,   -999.0,9,   -999.0,9,-999.0000,9,  -999.00,     1710
  49UP20170623,RF1707,  6066,  1,     19,  25828,2,20170725,1532, 34.4835, 164.9807, 5969,   1892.0,   2.1582,  34.5556,2,  34.5560,2,     55.2,6,   161.58,6,    42.18,6,     0.00,6,     2.99,6, -999.000,9, -999.000,9,   -999.0,9,   -999.0,9,-999.0000,9,  -999.00,     1705
  49UP20170623,RF1707,  6066,  1,     18,  25827,2,20170725,1532, 34.4835, 164.9807, 5969,   2095.4,   1.9986,  34.5848,2,  34.5848,2,     68.2,2,   162.79,2,    41.41,2,     0.00,2,     2.92,2, -999.000,9, -999.000,9,   -999.0,9,   -999.0,9,-999.0000,9,  -999.00,     1700
  49UP20170623,RF1707,  6066,  1,     17,  25826,2,20170725,1532, 34.4835, 164.9807, 5969,   2297.6,   1.8675,  34.6087,2,  34.6090,2,     82.0,2,   163.03,2,    40.57,2,     0.00,2,     2.86,2, -999.000,9, -999.000,9,   -999.0,9,   -999.0,9,-999.0000,9,  -999.00,     1656
  49UP20170623,RF1707,  6066,  1,     16,  25825,2,20170725,1532, 34.4835, 164.9807, 5969,   2505.5,   1.7540,  34.6270,2,  34.6275,2,     95.6,2,   162.98,2,    39.73,2,     0.00,2,     2.80,2, -999.000,9, -999.000,9,   -999.0,9,   -999.0,9,-999.0000,9,  -999.00,     1651
  49UP20170623,RF1707,  6066,  1,     15,  25824,2,20170725,1532, 34.4835, 164.9807, 5969,   2707.4,   1.6708,  34.6422,2,  34.6361,4,    108.2,2,   159.59,2,    38.89,2,     0.00,2,     2.73,2, -999.000,9, -999.000,9,   -999.0,9,   -999.0,9,-999.0000,9,  -999.00,     1646
  49UP20170623,RF1707,  6066,  1,     14,  25823,2,20170725,1532, 34.4835, 164.9807, 5969,   2913.0,   1.6100,  34.6519,2,  34.6526,6,    117.2,2,   158.57,2,    38.32,2,     0.00,2,     2.69,2, -999.000,9, -999.000,9,   -999.0,9,   -999.0,9,-999.0000,9,  -999.00,     1642
  49UP20170623,RF1707,  6066,  1,     13,  25822,2,20170725,1532, 34.4835, 164.9807, 5969,   3125.4,   1.5558,  34.6613,2,  34.6624,2,    126.9,2,   156.82,2,    37.72,2,     0.00,2,     2.64,2, -999.000,9, -999.000,9,   -999.0,9,   -999.0,9,-999.0000,9,  -999.00,     1637
  49UP20170623,RF1707,  6066,  1,     12,  25821,2,20170725,1532, 34.4835, 164.9807, 5969,   3382.3,   1.5130,  34.6695,2,  34.6644,4,    136.1,2,   154.95,2,    37.10,2,     0.00,2,     2.60,2, -999.000,9, -999.000,9,   -999.0,9,   -999.0,9,-999.0000,9,  -999.00,     1632
  49UP20170623,RF1707,  6066,  1,     11,  25820,2,20170725,1532, 34.4835, 164.9807, 5969,   3638.1,   1.4938,  34.6744,2,  34.6743,6,    140.9,2,   153.05,2,    36.79,2,     0.00,2,     2.57,2, -999.000,9, -999.000,9,   -999.0,9,   -999.0,9,-999.0000,9,  -999.00,     1626
  49UP20170623,RF1707,  6066,  1,     10,  25819,2,20170725,1532, 34.4835, 164.9807, 5969,   3894.0,   1.4758,  34.6792,2,  34.6804,2,    147.3,6,   151.06,6,    36.38,6,     0.00,6,     2.54,6, -999.000,9, -999.000,9,   -999.0,9,   -999.0,9,-999.0000,9,  -999.00,     1621
  49UP20170623,RF1707,  6066,  1,      9,  25818,2,20170725,1532, 34.4835, 164.9807, 5969,   4150.7,   1.4746,  34.6822,2,  34.6821,2,    150.2,2,   150.26,2,    36.15,2,     0.00,2,     2.52,2, -999.000,9, -999.000,9,   -999.0,9,   -999.0,9,-999.0000,9,  -999.00,     1615
  49UP20170623,RF1707,  6066,  1,      8,  25817,2,20170725,1532, 34.4835, 164.9807, 5969,   4410.3,   1.4767,  34.6850,2,  34.6853,2,    154.7,2,   148.62,2,    35.85,2,     0.00,2,     2.50,2, -999.000,9, -999.000,9,   -999.0,9,   -999.0,9,-999.0000,9,  -999.00,     1610
  49UP20170623,RF1707,  6066,  1,      7,  25816,2,20170725,1532, 34.4835, 164.9807, 5969,   4663.7,   1.4842,  34.6874,2,  34.6882,2,    158.0,2,   147.08,2,    35.60,2,     0.00,2,     2.48,2, -999.000,9, -999.000,9,   -999.0,9,   -999.0,9,-999.0000,9,  -999.00,     1605
  49UP20170623,RF1707,  6066,  1,      6,  25815,2,20170725,1532, 34.4835, 164.9807, 5969,   4920.4,   1.4917,  34.6897,2,  34.6897,6,    161.6,2,   144.49,2,    35.34,2,     0.00,2,     2.46,2, -999.000,9, -999.000,9,   -999.0,9,   -999.0,9,-999.0000,9,  -999.00,     1600
  49UP20170623,RF1707,  6066,  1,      5,  25814,2,20170725,1532, 34.4835, 164.9807, 5969,   5180.4,   1.5001,  34.6917,2,  34.6920,2,    166.2,2,   140.91,2,    35.05,2,     0.00,2,     2.43,2, -999.000,9, -999.000,9,   -999.0,9,   -999.0,9,-999.0000,9,  -999.00,     1554
  49UP20170623,RF1707,  6066,  1,      4,  25813,2,20170725,1532, 34.4835, 164.9807, 5969,   5435.6,   1.5106,  34.6935,2,  34.6941,2,    169.9,2,   138.03,2,    34.78,2,     0.00,2,     2.42,2, -999.000,9, -999.000,9,   -999.0,9,   -999.0,9,-999.0000,9,  -999.00,     1549
  49UP20170623,RF1707,  6066,  1,      3,  25812,2,20170725,1532, 34.4835, 164.9807, 5969,   5690.7,   1.5303,  34.6948,2,  34.6952,2,    172.0,2,   136.35,2,    34.65,2,     0.00,2,     2.40,2, -999.000,9, -999.000,9,   -999.0,9,   -999.0,9,-999.0000,9,  -999.00,     1544
  49UP20170623,RF1707,  6066,  1,      2,  25811,2,20170725,1532, 34.4835, 164.9807, 5969,   5950.2,   1.5519,  34.6958,2,  34.6958,6,    173.9,2,   134.50,2,    34.44,2,     0.00,2,     2.39,2, -999.000,9, -999.000,9,   -999.0,9,   -999.0,9,-999.0000,9,  -999.00,     1539
  49UP20170623,RF1707,  6066,  1,      1,  25810,2,20170725,1532, 34.4835, 164.9807, 5969,   6130.2,   1.5722,  34.6961,2,  34.6963,2,    174.5,6,   134.28,6,    34.39,6,     0.00,6,     2.39,6, -999.000,9, -999.000,9,   -999.0,9,   -999.0,9,-999.0000,9,  -999.00,     1532