BOTTLE,20200309PRINUNIVRMK
EXPOCODE,SECT_ID,STNNBR,CASTNO,SAMPNO,BTLNBR,BTLNBR_FLAG_W,DATE,TIME,LATITUDE,LONGITUDE,DEPTH,CTDPRS,CTDTMP,CTDSAL,CTDSAL_FLAG_W,SALNTY,SALNTY_FLAG_W,OXYGEN,OXYGEN_FLAG_W,SILCAT,SILCAT_FLAG_W,NITRAT,NITRAT_FLAG_W,NITRIT,NITRIT_FLAG_W,PHSPHT,PHSPHT_FLAG_W,CFC-11,CFC-11_FLAG_W,CFC-12,CFC-12_FLAG_W,TCARBN,TCARBN_FLAG_W,ALKALI,ALKALI_FLAG_W,PH_TOT,PH_TOT_FLAG_W,PH_TMP,BTL_TIME
,,,,,,,,,,,METERS,DBAR,ITS-90,PSS-78,,PSS-78,,UMOL/KG,,UMOL/KG,,UMOL/KG,,UMOL/KG,,UMOL/KG,,PMOL/KG,,PMOL/KG,,UMOL/KG,,UMOL/KG,,,,DEG C,
  49UP20170623,RF1707,  6041,  1,     99,     99,2,20170630,1822, 46.0832, 158.3408, 4849,      0.0,   6.2834,  32.8467,2,  32.8372,2,    328.6,2,    33.85,2,    16.83,2,     0.17,2,     1.51,4, -999.000,9, -999.000,9,   2077.9,2,   2231.3,2,   7.7816,2,    25.00,     1955
  49UP20170623,RF1707,  6041,  1,     36,  25845,2,20170630,1822, 46.0832, 158.3408, 4849,     10.8,   6.2759,  32.8525,2,  32.8566,2,    329.8,2,    33.94,2,    16.91,2,     0.16,2,     1.51,4,    4.760,2,    2.714,2,   2077.3,6,   2233.0,6,   7.7833,2,    25.00,     2024
  49UP20170623,RF1707,  6041,  1,     35,  25844,2,20170630,1822, 46.0832, 158.3408, 4849,     25.8,   5.9311,  32.8532,2,  32.8622,4,    334.2,2,    35.43,2,    17.80,2,     0.17,2,     1.58,4, -999.000,9, -999.000,9,   2087.7,2,   2233.2,2,   7.7622,6,    25.00,     2023
  49UP20170623,RF1707,  6041,  1,     34,  25843,2,20170630,1822, 46.0832, 158.3408, 4849,     50.4,   2.5290,  32.9393,2,  32.9420,2,    335.8,2,    38.59,2,    21.82,2,     0.25,2,     1.88,4,    5.563,2,    3.113,2,   2123.6,2,   2233.9,2,   7.6639,2,    25.00,     2018
  49UP20170623,RF1707,  6041,  1,     33,  25842,2,20170630,1822, 46.0832, 158.3408, 4849,     75.4,   1.8076,  32.9600,2,  32.9620,2,    330.0,2,    39.64,2,    22.92,2,     0.57,2,     1.95,4, -999.000,9, -999.000,9,   2136.7,2,   2233.1,2,   7.6389,2,    25.00,     2017
  49UP20170623,RF1707,  6041,  1,     32,  25841,2,20170630,1822, 46.0832, 158.3408, 4849,    101.4,   1.5649,  32.9898,2,  32.9941,2,    322.2,6,    41.62,6,    24.26,6,     0.25,6,     2.01,4,    5.544,2,    3.105,2,   2141.0,2,   2235.4,2,   7.6234,2,    25.00,     2016
  49UP20170623,RF1707,  6041,  1,     31,  25840,2,20170630,1822, 46.0832, 158.3408, 4849,    127.0,   1.9046,  33.1498,2,  33.1521,2,    279.4,2,    52.98,2,    28.90,2,     0.02,2,     2.27,4, -999.000,9, -999.000,9,   2178.7,2,   2243.1,2,   7.5551,2,    25.00,     2015
  49UP20170623,RF1707,  6041,  1,     30,  25839,3,20170630,1822, 46.0832, 158.3408, 4849,    150.8,   2.6795,  33.4877,2,  33.4931,4,    146.6,2,    74.11,2,    37.05,2,     0.01,2,     2.75,4,    3.650,2,    2.027,2,   2259.9,2,   2270.0,2,   7.3722,2,    25.00,     2014
  49UP20170623,RF1707,  6041,  1,     29,  25838,2,20170630,1822, 46.0832, 158.3408, 4849,    201.5,   3.3799,  33.7670,2,  33.7712,2,     56.4,2,    92.56,2,    43.19,2,     0.01,2,     3.10,4,    2.603,2,    1.379,2,   2320.9,6,   2292.6,6,   7.2574,2,    25.00,     2012
  49UP20170623,RF1707,  6041,  1,     28,  25837,2,20170630,1822, 46.0832, 158.3408, 4849,    252.6,   3.5327,  33.9068,2,  33.9073,2,     31.2,3,   101.67,2,    44.58,2,     0.01,2,     3.18,4,    2.072,2,    1.083,2,   2340.8,2,   2304.0,2,   7.2334,6,    25.00,     2011
  49UP20170623,RF1707,  6041,  1,     27,  25836,2,20170630,1822, 46.0832, 158.3408, 4849,    333.6,   3.4944,  34.0408,2,  34.0422,2,     23.6,2,   112.68,2,    44.31,2,     0.01,2,     3.18,4,    1.472,2,    0.749,2,   2350.6,2,   2326.5,2,   7.2508,2,    25.00,     2008
  49UP20170623,RF1707,  6041,  1,     26,  25835,2,20170630,1822, 46.0832, 158.3408, 4849,    434.9,   3.4015,  34.1619,2,  34.1623,2,     15.1,2,   124.40,2,    44.46,2,     0.00,2,     3.18,4,    0.897,2,    0.444,2,   2365.6,2,   2341.2,2,   7.2617,2,    25.00,     2006
  49UP20170623,RF1707,  6041,  1,     25,  25834,2,20170630,1822, 46.0832, 158.3408, 4849,    535.8,   3.2653,  34.2337,2,  34.2325,2,     13.7,6,   131.74,6,    44.41,6,     0.00,6,     3.18,4,    0.585,2,    0.292,2,   2370.6,2,   2353.5,2,   7.2777,2,    25.00,     2003
  49UP20170623,RF1707,  6041,  1,     23,  25832,2,20170630,1822, 46.0832, 158.3408, 4849,    637.0,   3.1068,  34.2915,2,  34.2919,2,     13.8,2,   138.92,2,    44.36,2,     0.00,2,     3.18,4,    0.391,2,    0.204,2,   2376.5,2,   2362.7,2,   7.2876,2,    25.00,     2000
  49UP20170623,RF1707,  6041,  1,     24,  25833,2,20170630,1822, 46.0832, 158.3408, 4849,    638.2,   3.1054,  34.2918,2,  34.2897,2,     13.8,2,   138.62,2,    44.36,2,     0.00,2,     3.18,4, -999.000,9, -999.000,9,   2378.7,2,   2362.1,2,   7.2827,2,    25.00,     2000
  49UP20170623,RF1707,  6041,  1,     22,  25831,3,20170630,1822, 46.0832, 158.3408, 4849,    737.9,   2.9348,  34.3403,2,  34.3397,2,     15.1,2,   145.09,2,    44.33,2,     0.00,2,     3.18,4,    0.273,6,    0.142,6,   2385.7,2,   2369.2,2,   7.2909,2,    25.00,     1957
  49UP20170623,RF1707,  6041,  1,     21,  25830,2,20170630,1822, 46.0832, 158.3408, 4849,    839.4,   2.7843,  34.3762,2,  34.3768,2,     17.2,2,   150.42,2,    44.20,2,     0.00,2,     3.17,4,    0.213,2,    0.106,2,   2388.2,2,   2378.1,2,   7.2995,2,    25.00,     1954
  49UP20170623,RF1707,  6041,  1,     20,  25829,2,20170630,1822, 46.0832, 158.3408, 4849,    942.0,   2.6374,  34.4139,2,  34.4128,2,     18.4,2,   155.67,2,    44.13,2,     0.00,2,     3.16,4,    0.136,2,    0.071,2,   2392.0,2,   2385.0,2,   7.3032,2,    25.00,     1951
  49UP20170623,RF1707,  6041,  1,     19,  25828,2,20170630,1822, 46.0832, 158.3408, 4849,   1083.2,   2.4529,  34.4565,2,  34.4569,2,     23.6,2,   161.44,2,    43.88,2,     0.00,2,     3.14,4,    0.087,2,    0.044,2,   2394.6,2,   2392.8,2,   7.3197,2,    25.00,     1947
  49UP20170623,RF1707,  6041,  1,     18,  25827,2,20170630,1822, 46.0832, 158.3408, 4849,   1284.8,   2.2249,  34.5078,2,  34.5080,2,     35.2,2,   167.43,2,    43.19,2,     0.00,2,     3.09,4,    0.053,2,    0.023,2,   2391.8,2,   2402.9,2,   7.3458,2,    25.00,     1942
  49UP20170623,RF1707,  6041,  1,     17,  25826,2,20170630,1822, 46.0832, 158.3408, 4849,   1487.9,   2.0656,  34.5472,2,  34.5472,2,     48.2,2,   169.42,2,    42.40,2,     0.00,2,     3.04,4,    0.028,2,    0.024,2,   2385.8,2,   2408.5,2,   7.3765,2,    25.00,     1938
  49UP20170623,RF1707,  6041,  1,     16,  25825,2,20170630,1822, 46.0832, 158.3408, 4849,   1692.0,   1.9458,  34.5773,2,  34.5773,2,     62.2,2,   169.03,2,    41.62,2,     0.00,2,     2.98,4,    0.009,2,    0.015,2,   2386.5,2,   2411.9,2,   7.4086,2,    25.00,     1932
  49UP20170623,RF1707,  6041,  1,     15,  25824,2,20170630,1822, 46.0832, 158.3408, 4849,   1895.5,   1.8379,  34.6032,2,  34.6021,2,     78.0,2,   166.31,2,    40.65,2,     0.00,2,     2.90,4,    0.004,2,    0.009,2,   2375.9,2,   2416.2,2,   7.4428,2,    25.00,     1927
  49UP20170623,RF1707,  6041,  1,     14,  25823,2,20170630,1822, 46.0832, 158.3408, 4849,   2098.9,   1.7365,  34.6235,2,  34.6230,6,     91.6,6,   164.89,6,    39.93,6,     0.00,6,     2.85,4,    0.000,2,    0.007,2,   2370.3,2,   2417.8,2,   7.4678,2,    25.00,     1923
  49UP20170623,RF1707,  6041,  1,     13,  25822,2,20170630,1822, 46.0832, 158.3408, 4849,   2302.3,   1.6588,  34.6381,2,  34.6382,2,    103.3,2,   162.76,2,    39.12,2,     0.00,2,     2.79,4,    0.000,2,    0.006,2,   2363.0,2,   2419.7,2,   7.4899,2,    25.00,     1918
  49UP20170623,RF1707,  6041,  1,     12,  25821,2,20170630,1822, 46.0832, 158.3408, 4849,   2505.6,   1.5947,  34.6496,2,  34.6498,2,    113.5,2,   160.80,2,    38.50,2,     0.00,2,     2.74,4,    0.003,6,    0.006,6,   2353.9,2,   2419.5,2,   7.5118,2,    25.00,     1914
  49UP20170623,RF1707,  6041,  1,     11,  25820,2,20170630,1822, 46.0832, 158.3408, 4849,   2710.5,   1.5534,  34.6574,2,  34.6573,2,    121.4,2,   158.67,2,    38.00,2,     0.00,2,     2.70,4,    0.000,2,    0.007,2,   2349.9,6,   2419.5,6,   7.5261,2,    25.00,     1909
  49UP20170623,RF1707,  6041,  1,     10,  25819,2,20170630,1822, 46.0832, 158.3408, 4849,   2913.8,   1.5220,  34.6638,2,  34.6635,2,    127.9,2,   157.17,2,    37.60,2,     0.00,2,     2.67,4,    0.000,2,    0.003,2,   2346.6,2,   2401.6,4,   7.5348,6,    25.00,     1905
  49UP20170623,RF1707,  6041,  1,      9,  25818,2,20170630,1822, 46.0832, 158.3408, 4849,   3129.1,   1.4926,  34.6695,2,  34.6698,2,    134.1,2,   155.47,2,    37.23,2,     0.00,2,     2.64,4, -999.000,9, -999.000,9,   2339.2,2,   2419.2,2,   7.5478,2,    25.00,     1900
  49UP20170623,RF1707,  6041,  1,      8,  25817,2,20170630,1822, 46.0832, 158.3408, 4849,   3384.8,   1.4670,  34.6750,2,  34.6743,2,    140.6,2,   153.77,2,    36.79,2,     0.00,2,     2.60,4, -999.000,9, -999.000,9,   2334.6,2,   2419.3,2,   7.5623,2,    25.00,     1855
  49UP20170623,RF1707,  6041,  1,      7,  25816,2,20170630,1822, 46.0832, 158.3408, 4849,   3640.6,   1.4445,  34.6803,2,  34.6801,2,    146.9,2,   152.15,2,    36.41,2,     0.00,2,     2.57,4, -999.000,9, -999.000,9,   2330.7,2,   2417.4,2,   7.5693,2,    25.00,     1850
  49UP20170623,RF1707,  6041,  1,      6,  25815,2,20170630,1822, 46.0832, 158.3408, 4849,   3897.7,   1.4413,  34.6834,2,  34.6831,6,    151.0,6,   151.20,6,    36.10,6,     0.00,6,     2.54,4,    0.000,2,    0.005,2,   2330.7,2,   2416.2,2,   7.5767,2,    25.00,     1844
  49UP20170623,RF1707,  6041,  1,      5,  25814,3,20170630,1822, 46.0832, 158.3408, 4849,   4153.4,   1.4456,  34.6860,2,  34.6851,2,    154.8,3,   150.79,2,    35.90,2,     0.00,2,     2.53,4, -999.000,9, -999.000,9,   2327.1,2,   2416.9,2,   7.5804,2,    25.00,     1839
  49UP20170623,RF1707,  6041,  1,      4,  25813,2,20170630,1822, 46.0832, 158.3408, 4849,   4154.1,   1.4456,  34.6860,2,  34.6863,2,    153.4,2,   151.03,2,    35.92,2,     0.00,2,     2.53,4, -999.000,9, -999.000,9,   2326.2,2,   2417.2,2,   7.5816,2,    25.00,     1838
  49UP20170623,RF1707,  6041,  1,      3,  25812,2,20170630,1822, 46.0832, 158.3408, 4849,   4411.5,   1.4609,  34.6875,2,  34.6874,6,    155.2,2,   151.15,2,    35.79,2,     0.00,2,     2.52,4, -999.000,9, -999.000,9,   2326.4,2,   2417.4,2,   7.5835,2,    25.00,     1833
  49UP20170623,RF1707,  6041,  1,      2,  25811,2,20170630,1822, 46.0832, 158.3408, 4849,   4668.6,   1.4835,  34.6884,2,  34.6885,2,    156.0,2,   151.59,2,    35.73,2,     0.00,2,     2.51,4, -999.000,9, -999.000,9,   2323.6,2,   2417.0,2,   7.5855,2,    25.00,     1828
  49UP20170623,RF1707,  6041,  1,      1,  25810,2,20170630,1822, 46.0832, 158.3408, 4849,   4913.3,   1.5065,  34.6892,2,  34.6886,2,    157.0,2,   151.62,2,    35.68,2,     0.00,2,     2.52,4,    0.006,6,    0.010,6,   2327.2,2,   2416.9,2,   7.5890,2,    25.00,     1822