BOTTLE,20200309PRINUNIVRMK
EXPOCODE,SECT_ID,STNNBR,CASTNO,SAMPNO,BTLNBR,BTLNBR_FLAG_W,DATE,TIME,LATITUDE,LONGITUDE,DEPTH,CTDPRS,CTDTMP,CTDSAL,CTDSAL_FLAG_W,SALNTY,SALNTY_FLAG_W,OXYGEN,OXYGEN_FLAG_W,SILCAT,SILCAT_FLAG_W,NITRAT,NITRAT_FLAG_W,NITRIT,NITRIT_FLAG_W,PHSPHT,PHSPHT_FLAG_W,CFC-11,CFC-11_FLAG_W,CFC-12,CFC-12_FLAG_W,TCARBN,TCARBN_FLAG_W,ALKALI,ALKALI_FLAG_W,PH_TOT,PH_TOT_FLAG_W,PH_TMP,BTL_TIME
,,,,,,,,,,,METERS,DBAR,ITS-90,PSS-78,,PSS-78,,UMOL/KG,,UMOL/KG,,UMOL/KG,,UMOL/KG,,UMOL/KG,,PMOL/KG,,PMOL/KG,,UMOL/KG,,UMOL/KG,,,,DEG C,
  49UP20170623,RF1707,  6050,  1,     99,     99,2,20170705,0108, 46.0108, 165.0272, 5785,      0.0,   7.5321,  32.8613,2,  32.8533,2,    306.4,2,    22.26,2,    15.46,2,     0.19,2,     1.38,2, -999.000,9, -999.000,9,   2071.8,2,   2227.2,2,   7.7743,2,    25.00,      320
  49UP20170623,RF1707,  6050,  1,     36,  25845,2,20170705,0108, 46.0108, 165.0272, 5785,     10.4,   7.4945,  32.8616,2,  32.8651,2,    307.0,2,    22.67,2,    15.32,2,     0.19,2,     1.36,2,    4.339,2,    2.513,2,   2071.8,2,   2229.3,2,   7.7773,2,    25.00,      348
  49UP20170623,RF1707,  6050,  1,     35,  25844,2,20170705,0108, 46.0108, 165.0272, 5785,     50.2,   4.2573,  33.1732,2,  33.1771,2,    329.7,2,    28.87,2,    18.37,2,     0.27,2,     1.55,2,    4.987,2,    2.842,2,   2107.9,2,   2243.6,2,   7.7222,2,    25.00,      344
  49UP20170623,RF1707,  6050,  1,     34,  25843,3,20170705,0108, 46.0108, 165.0272, 5785,     99.3,   5.0076,  33.5537,2,  33.5319,4,    291.4,2,    31.55,2,    19.41,2,     0.02,2,     1.50,2,    4.469,2,    2.596,2,   2128.0,2,   2256.1,2,   7.6930,2,    25.00,      342
  49UP20170623,RF1707,  6050,  1,     33,  25842,2,20170705,0108, 46.0108, 165.0272, 5785,    125.6,   4.9352,  33.5592,2,  33.5638,2,    284.6,2,    32.49,2,    19.71,2,     0.01,2,     1.51,2, -999.000,9, -999.000,9,   2138.4,2,   2253.9,2,   7.6894,2,    25.00,      340
  49UP20170623,RF1707,  6050,  1,     32,  25841,2,20170705,0108, 46.0108, 165.0272, 5785,    152.2,   4.7878,  33.5889,2,  33.5911,2,    256.5,6,    38.77,6,    22.26,6,     0.01,6,     1.68,6,    4.159,2,    2.400,2,   2154.1,2,   2259.7,2,   7.6425,2,    25.00,      339
  49UP20170623,RF1707,  6050,  1,     31,  25840,2,20170705,0108, 46.0108, 165.0272, 5785,    203.9,   4.4343,  33.7077,2,  33.7091,2,    162.4,2,    60.95,2,    30.97,2,     0.00,2,     2.27,2,    3.329,2,    1.885,2,   2222.2,2,   2275.8,2,   7.4898,2,    25.00,      336
  49UP20170623,RF1707,  6050,  1,     30,  25839,2,20170705,0108, 46.0108, 165.0272, 5785,    251.7,   4.1295,  33.7740,2,  33.7786,2,    127.5,2,    71.54,2,    34.50,2,     0.00,2,     2.50,2,    2.968,2,    1.658,2,   2259.7,6,   2285.3,6,   7.4249,2,    25.00,      334
  49UP20170623,RF1707,  6050,  1,     29,  25838,2,20170705,0108, 46.0108, 165.0272, 5785,    333.7,   3.8152,  33.8813,2,  33.8780,2,     77.7,2,    88.74,2,    39.58,2,     0.00,2,     2.83,2,    2.422,2,    1.283,2,   2298.5,2,   2300.4,2,   7.3319,6,    25.00,      331
  49UP20170623,RF1707,  6050,  1,     28,  25837,2,20170705,0108, 46.0108, 165.0272, 5785,    434.9,   3.6687,  33.9991,2,  33.9986,2,     47.7,2,   103.09,2,    42.17,2,     0.00,2,     3.00,2,    1.800,6,    0.948,6,   2326.7,2,   2315.5,2,   7.2944,2,    25.00,      327
  49UP20170623,RF1707,  6050,  1,     27,  25836,3,20170705,0108, 46.0108, 165.0272, 5785,    535.9,   3.5655,  34.1248,2,  34.1238,2,     37.0,2,   115.25,2,    42.79,2,     0.00,2,     3.04,2,    1.201,2,    0.623,2,   2342.7,2,   2333.0,2,   7.3012,2,    25.00,      324
  49UP20170623,RF1707,  6050,  1,     26,  25835,2,20170705,0108, 46.0108, 165.0272, 5785,    637.4,   3.4057,  34.1952,2,  34.1953,2,     30.3,2,   123.51,2,    43.02,2,     0.00,2,     3.05,2,    0.888,2,    0.444,2,   2352.3,2,   2344.8,2,   7.3004,2,    25.00,      320
  49UP20170623,RF1707,  6050,  1,     25,  25834,2,20170705,0108, 46.0108, 165.0272, 5785,    739.9,   3.2494,  34.2717,2,  34.2706,2,     28.1,2,   131.24,2,    43.17,2,     0.00,2,     3.06,2,    0.567,2,    0.287,2,   2358.2,2,   2359.1,2,   7.3128,2,    25.00,      316
  49UP20170623,RF1707,  6050,  1,     24,  25833,2,20170705,0108, 46.0108, 165.0272, 5785,    840.1,   3.1023,  34.3237,2,  34.3250,2,     31.9,2,   135.87,2,    42.91,2,     0.00,2,     3.05,2,    0.420,2,    0.201,2,   2363.0,2,   2365.6,2,   7.3282,2,    25.00,      312
  49UP20170623,RF1707,  6050,  1,     23,  25832,2,20170705,0108, 46.0108, 165.0272, 5785,    942.1,   2.9273,  34.3708,2,  34.3711,2,     33.5,6,   141.40,6,    42.91,6,     0.00,6,     3.05,6,    0.304,2,    0.140,2,   2366.7,2,   2375.7,2,   7.3355,2,    25.00,      309
  49UP20170623,RF1707,  6050,  1,     22,  25831,2,20170705,0108, 46.0108, 165.0272, 5785,   1082.8,   2.6852,  34.4139,2,  34.4142,2,     30.5,2,   150.10,2,    43.23,2,     0.00,2,     3.08,2,    0.198,2,    0.083,2,   2381.1,2,   2383.3,2,   7.3386,2,    25.00,      304
  49UP20170623,RF1707,  6050,  1,     21,  25830,2,20170705,0108, 46.0108, 165.0272, 5785,   1285.9,   2.4387,  34.4652,2,  34.4654,2,     35.6,2,   157.56,2,    43.08,2,     0.00,2,     3.06,2,    0.132,2,    0.046,2,   2386.9,6,   2393.3,6,   7.3505,2,    25.00,      258
  49UP20170623,RF1707,  6050,  1,     20,  25829,2,20170705,0108, 46.0108, 165.0272, 5785,   1489.0,   2.2608,  34.5119,2,  34.5123,6,     44.9,2,   161.23,2,    42.71,2,     0.00,2,     3.01,2,    0.074,2,    0.012,2,   2382.7,2,   2402.0,2,   7.3703,6,    25.00,      253
  49UP20170623,RF1707,  6050,  1,     19,  25828,2,20170705,0108, 46.0108, 165.0272, 5785,   1691.7,   2.1364,  34.5471,2,  34.5469,2,     54.0,2,   162.83,2,    42.25,2,     0.00,2,     2.97,2,    0.031,6,    0.000,6,   2380.2,2,   2409.0,2,   7.3885,2,    25.00,      248
  49UP20170623,RF1707,  6050,  1,     18,  25827,2,20170705,0108, 46.0108, 165.0272, 5785,   1893.9,   1.9902,  34.5763,2,  34.5763,2,     62.9,2,   165.73,2,    41.68,2,     0.00,2,     2.93,2,    0.011,2,    0.000,2,   2384.0,2,   2411.3,2,   7.4159,2,    25.00,      243
  49UP20170623,RF1707,  6050,  1,     17,  25826,2,20170705,0108, 46.0108, 165.0272, 5785,   2098.6,   1.8822,  34.5993,2,  34.5996,2,     74.4,2,   166.21,2,    40.99,2,     0.00,2,     2.88,2,    0.003,2,    0.000,2,   2375.8,2,   2415.2,2,   7.4322,2,    25.00,      238
  49UP20170623,RF1707,  6050,  1,     16,  25825,2,20170705,0108, 46.0108, 165.0272, 5785,   2301.7,   1.7825,  34.6183,2,  34.6179,2,     86.2,2,   165.91,2,    40.26,2,     0.00,2,     2.82,2,    0.000,2,    0.000,2,   2370.0,2,   2417.2,2,   7.4548,2,    25.00,      233
  49UP20170623,RF1707,  6050,  1,     15,  25824,2,20170705,0108, 46.0108, 165.0272, 5785,   2505.9,   1.7053,  34.6336,2,  34.6338,2,     98.2,2,   163.19,2,    39.51,2,     0.00,2,     2.77,2,    0.005,2,    0.000,2,   2361.8,2,   2418.3,2,   7.4790,2,    25.00,      227
  49UP20170623,RF1707,  6050,  1,     14,  25823,2,20170705,0108, 46.0108, 165.0272, 5785,   2710.0,   1.6407,  34.6453,2,  34.6457,2,    108.0,6,   162.16,6,    38.90,6,     0.00,6,     2.72,6,    0.000,2,    0.000,2,   2354.7,2,   2419.2,2,   7.4958,2,    25.00,      222
  49UP20170623,RF1707,  6050,  1,     13,  25822,2,20170705,0108, 46.0108, 165.0272, 5785,   2913.7,   1.5943,  34.6540,2,  34.6542,2,    116.6,2,   160.32,2,    38.37,2,     0.00,2,     2.67,2,    0.000,2,    0.000,2,   2347.5,2,   2419.9,2,   7.5149,2,    25.00,      217
  49UP20170623,RF1707,  6050,  1,     12,  25821,2,20170705,0108, 46.0108, 165.0272, 5785,   3128.7,   1.5546,  34.6619,2,  34.6619,2,    125.2,2,   157.98,2,    37.88,2,     0.00,2,     2.63,2, -999.000,9, -999.000,9,   2340.7,2,   2419.8,2,   7.5322,2,    25.00,      212
  49UP20170623,RF1707,  6050,  1,     11,  25820,2,20170705,0108, 46.0108, 165.0272, 5785,   3384.4,   1.5189,  34.6691,2,  34.6687,6,    132.5,2,   155.98,2,    37.34,2,     0.00,2,     2.59,2, -999.000,9, -999.000,9,   2337.2,6,   2419.9,6,   7.5441,2,    25.00,      206
  49UP20170623,RF1707,  6050,  1,     10,  25819,2,20170705,0108, 46.0108, 165.0272, 5785,   3640.7,   1.4949,  34.6748,2,  34.6753,2,    140.2,2,   154.24,2,    36.90,2,     0.00,2,     2.56,2, -999.000,9, -999.000,9,   2332.3,2,   2419.2,2,   7.5563,6,    25.00,      200
  49UP20170623,RF1707,  6050,  1,      9,  25818,2,20170705,0108, 46.0108, 165.0272, 5785,   3896.9,   1.4843,  34.6787,2,  34.6789,2,    144.2,2,   153.07,2,    36.61,2,     0.00,2,     2.53,2,    0.000,2,    0.000,2,   2329.2,2,   2419.3,2,   7.5651,2,    25.00,      154
  49UP20170623,RF1707,  6050,  1,      8,  25817,2,20170705,0108, 46.0108, 165.0272, 5785,   4152.5,   1.4847,  34.6816,2,  34.6832,2,    148.5,2,   151.84,2,    36.32,2,     0.00,2,     2.51,2, -999.000,9, -999.000,9,   2325.8,2,   2418.5,2,   7.5730,2,    25.00,      148
  49UP20170623,RF1707,  6050,  1,      7,  25816,2,20170705,0108, 46.0108, 165.0272, 5785,   4411.3,   1.4890,  34.6843,2,  34.6854,2,    152.3,2,   151.12,2,    36.08,2,     0.00,2,     2.49,2, -999.000,9, -999.000,9,   2331.5,3,   2418.0,2,   7.5790,2,    25.00,      142
  49UP20170623,RF1707,  6050,  1,      6,  25815,2,20170705,0108, 46.0108, 165.0272, 5785,   4668.7,   1.4997,  34.6863,2,  34.6873,2,    154.4,2,   150.70,2,    35.94,2,     0.00,2,     2.48,2, -999.000,9, -999.000,9,   2323.1,2,   2418.7,2,   7.5829,2,    25.00,      136
  49UP20170623,RF1707,  6050,  1,      5,  25814,2,20170705,0108, 46.0108, 165.0272, 5785,   4926.3,   1.5177,  34.6878,2,  34.6884,6,    156.2,6,   150.69,6,    35.80,6,     0.00,6,     2.47,6,    0.001,2,    0.000,2,   2322.8,2,   2418.0,2,   7.5852,2,    25.00,      131
  49UP20170623,RF1707,  6050,  1,      4,  25813,2,20170705,0108, 46.0108, 165.0272, 5785,   5184.0,   1.5403,  34.6890,2,  34.6902,2,    157.8,2,   151.38,2,    35.70,2,     0.00,2,     2.46,2, -999.000,9, -999.000,9,   2324.3,2,   2418.2,2,   7.5900,2,    25.00,      125
  49UP20170623,RF1707,  6050,  1,      3,  25812,2,20170705,0108, 46.0108, 165.0272, 5785,   5442.2,   1.5725,  34.6892,2,  34.6898,2,    157.7,2,   152.05,2,    35.69,2,     0.00,2,     2.46,2, -999.000,9, -999.000,9,   2321.6,2,   2419.7,2,   7.5860,2,    25.00,      119
  49UP20170623,RF1707,  6050,  1,      2,  25811,2,20170705,0108, 46.0108, 165.0272, 5785,   5700.6,   1.6059,  34.6893,2,  34.6904,6,    158.8,3,   151.92,2,    35.66,2,     0.00,2,     2.46,2, -999.000,9, -999.000,9,   2320.5,2,   2418.1,2,   7.5911,2,    25.00,      113
  49UP20170623,RF1707,  6050,  1,      1,  25810,2,20170705,0108, 46.0108, 165.0272, 5785,   5911.0,   1.6343,  34.6893,2,  34.6902,2,    158.7,2,   151.92,2,    35.70,2,     0.00,2,     2.46,2,    0.009,6,    0.000,6,   2320.0,2,   2416.9,2,   7.5903,2,    25.00,      108