BOTTLE,20200309PRINUNIVRMK
EXPOCODE,SECT_ID,STNNBR,CASTNO,SAMPNO,BTLNBR,BTLNBR_FLAG_W,DATE,TIME,LATITUDE,LONGITUDE,DEPTH,CTDPRS,CTDTMP,CTDSAL,CTDSAL_FLAG_W,SALNTY,SALNTY_FLAG_W,OXYGEN,OXYGEN_FLAG_W,SILCAT,SILCAT_FLAG_W,NITRAT,NITRAT_FLAG_W,NITRIT,NITRIT_FLAG_W,PHSPHT,PHSPHT_FLAG_W,CFC-11,CFC-11_FLAG_W,CFC-12,CFC-12_FLAG_W,TCARBN,TCARBN_FLAG_W,ALKALI,ALKALI_FLAG_W,PH_TOT,PH_TOT_FLAG_W,PH_TMP,BTL_TIME
,,,,,,,,,,,METERS,DBAR,ITS-90,PSS-78,,PSS-78,,UMOL/KG,,UMOL/KG,,UMOL/KG,,UMOL/KG,,UMOL/KG,,PMOL/KG,,PMOL/KG,,UMOL/KG,,UMOL/KG,,,,DEG C,
  49UP20170623,RF1707,  6056,  1,     99,     99,2,20170721,0210, 41.0130, 165.0023, 5297,      0.0,  18.9630,  33.7829,2,  33.6813,2,    249.9,2,    10.66,2,     3.01,2,     0.06,2,     0.35,2, -999.000,9, -999.000,9,   2008.5,2,   2248.4,2,   7.9734,2,    25.00,      355
  49UP20170623,RF1707,  6056,  1,     36,  25845,2,20170721,0210, 41.0130, 165.0023, 5297,     10.8,  17.4493,  34.0737,2,  34.0885,4,    256.7,6,     2.99,6,     0.99,6,     0.03,6,     0.15,6,    2.616,2,    1.644,2,   2011.2,2,   2258.9,2,   7.9804,2,    25.00,      418
  49UP20170623,RF1707,  6056,  1,     35,  25844,2,20170721,0210, 41.0130, 165.0023, 5297,     26.6,  15.3134,  34.1227,2,  34.2106,4,    266.6,2,     4.98,2,     3.63,2,     0.08,2,     0.35,2, -999.000,9, -999.000,9,   2033.8,2,   2264.4,2,   7.9422,2,    25.00,      417
  49UP20170623,RF1707,  6056,  1,     34,  25843,2,20170721,0210, 41.0130, 165.0023, 5297,     51.3,  12.4760,  34.3430,2,  34.3489,4,    255.2,2,    10.96,2,     7.21,2,     0.36,2,     0.57,2,    2.986,6,    1.852,6,   2064.3,6,   2271.7,6,   7.8861,2,    25.00,      413
  49UP20170623,RF1707,  6056,  1,     33,  25842,2,20170721,0210, 41.0130, 165.0023, 5297,     75.5,  11.9020,  34.3098,2,  34.3097,2,    241.5,2,    13.28,2,     9.59,2,     0.21,2,     0.72,2, -999.000,9, -999.000,9,   2080.8,2,   2268.2,2,   7.8542,6,    25.00,      412
  49UP20170623,RF1707,  6056,  1,     32,  25841,2,20170721,0210, 41.0130, 165.0023, 5297,    102.5,  11.4742,  34.2961,2,  34.2947,2,    238.8,2,    15.04,2,    10.82,2,     0.05,2,     0.80,2,    3.040,2,    1.883,2,   2089.2,2,   2271.6,2,   7.8401,2,    25.00,      411
  49UP20170623,RF1707,  6056,  1,     31,  25840,2,20170721,0210, 41.0130, 165.0023, 5297,    127.1,  10.9526,  34.2348,2,  34.2351,2,    240.4,2,    15.83,2,    11.40,2,     0.03,2,     0.85,2, -999.000,9, -999.000,9,   2098.4,2,   2269.2,2,   7.8253,2,    25.00,      410
  49UP20170623,RF1707,  6056,  1,     30,  25839,2,20170721,0210, 41.0130, 165.0023, 5297,    151.2,  10.6466,  34.2119,2,  34.2115,6,    237.9,2,    17.46,2,    12.27,2,     0.02,2,     0.90,2,    3.141,2,    1.936,2,   2098.5,2,   2268.7,2,   7.8175,2,    25.00,      409
  49UP20170623,RF1707,  6056,  1,     29,  25838,2,20170721,0210, 41.0130, 165.0023, 5297,    203.0,   9.2580,  34.0445,2,  34.0519,4,    241.8,2,    20.39,2,    14.05,2,     0.02,2,     1.04,2,    3.327,2,    2.017,2,   2110.9,2,   2266.3,2,   7.7815,2,    25.00,      407
  49UP20170623,RF1707,  6056,  1,     28,  25837,2,20170721,0210, 41.0130, 165.0023, 5297,    251.5,   7.9889,  33.8931,2,  33.9013,4,    253.8,6,    22.87,6,    15.23,6,     0.02,6,     1.15,6,    3.607,2,    2.155,2,   2118.0,2,   2262.4,2,   7.7616,2,    25.00,      406
  49UP20170623,RF1707,  6056,  1,     27,  25836,3,20170721,0210, 41.0130, 165.0023, 5297,    301.8,   7.3282,  33.9340,2,  33.9338,2,    187.1,2,    39.28,2,    23.02,2,     0.01,2,     1.67,2,    3.168,2,    1.860,2,   2170.1,2,   2273.6,2,   7.6429,2,    25.00,      404
  49UP20170623,RF1707,  6056,  1,     26,  25835,2,20170721,0210, 41.0130, 165.0023, 5297,    403.3,   5.8088,  33.9412,2,  33.9413,2,    140.7,2,    59.59,2,    30.13,2,     0.01,2,     2.18,2,    2.732,2,    1.498,2,   2228.4,2,   2287.4,2,   7.5307,2,    25.00,      402
  49UP20170623,RF1707,  6056,  1,     25,  25834,2,20170721,0210, 41.0130, 165.0023, 5297,    505.5,   4.6637,  33.9618,2,  33.9611,2,    103.8,2,    78.60,2,    35.52,2,     0.00,2,     2.56,2,    2.319,2,    1.267,2,   2268.7,6,   2300.2,6,   7.4335,2,    25.00,      400
  49UP20170623,RF1707,  6056,  1,     24,  25833,2,20170721,0210, 41.0130, 165.0023, 5297,    606.5,   4.4066,  34.0687,2,  34.0695,2,     75.4,6,    92.15,6,    38.28,6,     0.00,6,     2.75,6,    1.695,2,    0.896,2,   2297.3,2,   2317.1,2,   7.3922,6,    25.00,      357
  49UP20170623,RF1707,  6056,  1,     23,  25832,2,20170721,0210, 41.0130, 165.0023, 5297,    707.6,   3.9692,  34.1492,2,  34.1481,2,     51.5,2,   106.67,2,    40.78,2,     0.00,2,     2.91,2,    1.199,2,    0.626,2,   2321.4,2,   2330.1,2,   7.3589,2,    25.00,      355
  49UP20170623,RF1707,  6056,  1,     22,  25831,2,20170721,0210, 41.0130, 165.0023, 5297,    808.4,   3.7492,  34.2565,2,  34.2558,2,     43.5,2,   117.59,2,    41.48,2,     0.00,2,     2.96,2,    0.646,2,    0.342,2,   2339.9,2,   2349.2,2,   7.3551,2,    25.00,      353
  49UP20170623,RF1707,  6056,  1,     21,  25830,3,20170721,0210, 41.0130, 165.0023, 5297,    909.8,   3.4396,  34.3141,2,  34.3131,2,     38.4,2,   126.86,2,    42.19,2,     0.00,2,     3.01,2,    0.414,6,    0.207,6,   2352.7,2,   2360.1,2,   7.3531,2,    25.00,      350
  49UP20170623,RF1707,  6056,  1,     20,  25829,2,20170721,0210, 41.0130, 165.0023, 5297,   1010.1,   3.1349,  34.3547,2,  34.3549,2,     34.7,2,   136.13,2,    42.77,2,     0.00,2,     3.05,2,    0.297,2,    0.146,2,   2364.6,2,   2370.9,2,   7.3469,2,    25.00,      348
  49UP20170623,RF1707,  6056,  1,     19,  25828,3,20170721,0210, 41.0130, 165.0023, 5297,   1213.6,   2.7836,  34.4290,2,  34.4286,2,     38.3,3,   146.42,2,    43.12,2,     0.00,2,     3.07,2,    0.129,2,    0.065,2,   2378.1,2,   2384.4,2,   7.3567,2,    25.00,      343
  49UP20170623,RF1707,  6056,  1,     18,  25827,2,20170721,0210, 41.0130, 165.0023, 5297,   1416.2,   2.4695,  34.4776,2,  34.4776,2,     37.2,2,   156.13,2,    43.19,2,     0.00,2,     3.06,2,    0.080,2,    0.041,2,   2383.3,2,   2394.2,2,   7.3659,2,    25.00,      338
  49UP20170623,RF1707,  6056,  1,     17,  25826,2,20170721,0210, 41.0130, 165.0023, 5297,   1619.7,   2.2825,  34.5182,2,  34.5168,2,     44.7,2,   160.21,2,    42.82,2,     0.00,2,     3.03,2,    0.045,2,    0.024,2,   2380.3,2,   2402.4,2,   7.3811,2,    25.00,      334
  49UP20170623,RF1707,  6056,  1,     16,  25825,3,20170721,0210, 41.0130, 165.0023, 5297,   1821.6,   2.1224,  34.5512,2,  34.5508,2,     53.9,2,   163.53,2,    42.30,2,     0.00,2,     2.98,2,    0.023,2,    0.009,2,   2383.1,2,   2406.7,2,   7.3968,2,    25.00,      329
  49UP20170623,RF1707,  6056,  1,     15,  25824,2,20170721,0210, 41.0130, 165.0023, 5297,   2026.4,   1.9669,  34.5823,2,  34.5812,2,     66.0,2,   166.11,2,    41.58,2,     0.00,2,     2.92,2,    0.010,2,    0.007,2,   2380.2,2,   2412.4,2,   7.4252,2,    25.00,      325
  49UP20170623,RF1707,  6056,  1,     14,  25823,2,20170721,0210, 41.0130, 165.0023, 5297,   2230.0,   1.8414,  34.6077,2,  34.6068,2,     80.2,2,   165.35,2,    40.71,2,     0.00,2,     2.86,2,    0.005,2,    0.006,2,   2373.6,2,   2415.3,2,   7.4507,2,    25.00,      319
  49UP20170623,RF1707,  6056,  1,     13,  25822,2,20170721,0210, 41.0130, 165.0023, 5297,   2433.9,   1.7431,  34.6258,2,  34.6259,2,     92.9,2,   164.45,2,    39.92,2,     0.00,2,     2.80,2,    0.000,2,    0.001,2,   2367.7,2,   2417.4,2,   7.4792,2,    25.00,      314
  49UP20170623,RF1707,  6056,  1,     12,  25821,2,20170721,0210, 41.0130, 165.0023, 5297,   2637.6,   1.6599,  34.6412,2,  34.6405,6,    105.6,2,   162.04,2,    39.07,2,     0.00,2,     2.73,2,    0.000,2,    0.000,2,   2356.5,2,   2419.0,2,   7.5054,2,    25.00,      309
  49UP20170623,RF1707,  6056,  1,     11,  25820,3,20170721,0210, 41.0130, 165.0023, 5297,   2841.5,   1.6044,  34.6513,2,  34.6511,2,    115.3,2,   160.38,2,    38.50,2,     0.00,2,     2.69,2,    0.000,2,    0.000,2,   2351.2,2,   2419.3,2,   7.5200,2,    25.00,      304
  49UP20170623,RF1707,  6056,  1,     10,  25819,2,20170721,0210, 41.0130, 165.0023, 5297,   3045.7,   1.5604,  34.6595,2,  34.6587,2,    123.6,2,   158.32,2,    37.97,2,     0.00,2,     2.65,2, -999.000,9, -999.000,9,   2343.7,2,   2419.2,2,   7.5362,2,    25.00,      300
  49UP20170623,RF1707,  6056,  1,      9,  25818,2,20170721,0210, 41.0130, 165.0023, 5297,   3301.3,   1.5181,  34.6677,2,  34.6676,2,    133.0,6,   155.77,6,    37.38,6,     0.00,6,     2.60,6, -999.000,9, -999.000,9,   2339.7,2,   2419.8,2,   7.5518,2,    25.00,      254
  49UP20170623,RF1707,  6056,  1,      8,  25817,2,20170721,0210, 41.0130, 165.0023, 5297,   3556.2,   1.4874,  34.6740,2,  34.6742,2,    140.1,2,   154.05,2,    36.86,2,     0.00,2,     2.56,2, -999.000,9, -999.000,9,   2335.8,2,   2418.9,2,   7.5642,2,    25.00,      249
  49UP20170623,RF1707,  6056,  1,      7,  25816,2,20170721,0210, 41.0130, 165.0023, 5297,   3813.5,   1.4776,  34.6781,2,  34.6781,6,    145.6,2,   152.61,2,    36.54,2,     0.00,2,     2.54,2,    0.000,2,    0.002,2,   2332.7,6,   2419.3,6,   7.5738,2,    25.00,      243
  49UP20170623,RF1707,  6056,  1,      6,  25815,2,20170721,0210, 41.0130, 165.0023, 5297,   4070.1,   1.4690,  34.6820,2,  34.6817,2,    149.8,2,   151.72,2,    36.19,2,     0.00,2,     2.51,2, -999.000,9, -999.000,9,   2328.7,2,   2418.6,2,   7.5820,6,    25.00,      238
  49UP20170623,RF1707,  6056,  1,      5,  25814,3,20170721,0210, 41.0130, 165.0023, 5297,   4327.2,   1.4727,  34.6847,2,  34.6845,2,    153.3,2,   151.27,2,    35.98,2,     0.00,2,     2.49,2, -999.000,9, -999.000,9,   2328.1,2,   2419.0,2,   7.5875,2,    25.00,      233
  49UP20170623,RF1707,  6056,  1,      4,  25813,2,20170721,0210, 41.0130, 165.0023, 5297,   4583.0,   1.4885,  34.6863,2,  34.6862,2,    154.8,2,   151.03,2,    35.86,2,     0.00,2,     2.49,2, -999.000,9, -999.000,9,   2325.3,2,   2418.1,2,   7.5899,2,    25.00,      227
  49UP20170623,RF1707,  6056,  1,      3,  25812,2,20170721,0210, 41.0130, 165.0023, 5297,   4839.9,   1.5093,  34.6874,2,  34.6861,2,    155.9,2,   151.11,2,    35.81,2,     0.00,2,     2.48,2,    0.000,2,    0.000,2,   2328.1,2,   2418.4,2,   7.5956,2,    25.00,      222
  49UP20170623,RF1707,  6056,  1,      2,  25811,2,20170721,0210, 41.0130, 165.0023, 5297,   5098.9,   1.5370,  34.6881,2,  34.6879,6,    156.5,2,   151.73,2,    35.73,2,     0.00,2,     2.48,2, -999.000,9, -999.000,9,   2326.1,2,   2418.4,2,   7.5963,2,    25.00,      217
  49UP20170623,RF1707,  6056,  1,      1,  25810,2,20170721,0210, 41.0130, 165.0023, 5297,   5401.9,   1.5674,  34.6891,2,  34.6879,2,    158.1,2,   151.58,2,    35.65,2,     0.00,2,     2.47,2,    0.002,6,    0.004,6,   2321.5,2,   2417.2,2,   7.5990,2,    25.00,      210