BOTTLE,20200309PRINUNIVRMK
EXPOCODE,SECT_ID,STNNBR,CASTNO,SAMPNO,BTLNBR,BTLNBR_FLAG_W,DATE,TIME,LATITUDE,LONGITUDE,DEPTH,CTDPRS,CTDTMP,CTDSAL,CTDSAL_FLAG_W,SALNTY,SALNTY_FLAG_W,OXYGEN,OXYGEN_FLAG_W,SILCAT,SILCAT_FLAG_W,NITRAT,NITRAT_FLAG_W,NITRIT,NITRIT_FLAG_W,PHSPHT,PHSPHT_FLAG_W,CFC-11,CFC-11_FLAG_W,CFC-12,CFC-12_FLAG_W,TCARBN,TCARBN_FLAG_W,ALKALI,ALKALI_FLAG_W,PH_TOT,PH_TOT_FLAG_W,PH_TMP,BTL_TIME
,,,,,,,,,,,METERS,DBAR,ITS-90,PSS-78,,PSS-78,,UMOL/KG,,UMOL/KG,,UMOL/KG,,UMOL/KG,,UMOL/KG,,PMOL/KG,,PMOL/KG,,UMOL/KG,,UMOL/KG,,,,DEG C,
  49UP20170623,RF1707,  6032,  1,     99,     99,2,20170626,0525, 41.3478, 146.6980, 5460,      0.0,  12.9237,  32.9925,2,  32.9993,2,    295.5,2,     2.18,2,     0.35,2,     0.03,2,     0.23,2, -999.000,9, -999.000,9,   1987.5,2,   2236.5,2,   7.9941,2,    25.00,      725
  49UP20170623,RF1707,  6032,  1,     36,  25845,2,20170626,0525, 41.3478, 146.6980, 5460,     11.0,   9.6728,  32.8349,2,  32.7990,4,    339.6,2,     2.63,2,     1.79,2,     0.06,2,     0.43,2,    4.365,2,    2.470,2,   2003.5,6,   2237.7,6,   7.9703,2,    25.00,      741
  49UP20170623,RF1707,  6032,  1,     35,  25844,3,20170626,0525, 41.3478, 146.6980, 5460,     49.9,   1.6424,  32.9753,2,  32.9811,4,    310.0,2,    38.12,2,    21.73,2,     0.26,2,     1.86,2,    5.446,6,    2.984,6,   2165.4,2,   2241.6,2,   7.6161,6,    25.00,      737
  49UP20170623,RF1707,  6032,  1,     34,  25843,3,20170626,0525, 41.3478, 146.6980, 5460,     75.0,   1.3885,  33.0587,2,  33.0553,2,    296.6,2,    46.47,2,    25.47,2,     0.29,2,     2.04,2, -999.000,9, -999.000,9,   2147.4,2,   2240.3,2,   7.5678,2,    25.00,      736
  49UP20170623,RF1707,  6032,  1,     33,  25842,3,20170626,0525, 41.3478, 146.6980, 5460,    101.0,   1.3481,  33.1103,2,  33.1122,2,    281.6,2,    50.39,2,    26.72,2,     0.26,2,     2.10,2,    5.142,2,    2.821,2,   2178.6,2,   2243.9,2,   7.5428,2,    25.00,      735
  49UP20170623,RF1707,  6032,  1,     32,  25841,2,20170626,0525, 41.3478, 146.6980, 5460,    126.3,   1.2418,  33.1466,2,  33.1461,2,    264.9,6,    52.47,6,    27.22,6,     0.13,6,     2.13,6, -999.000,9, -999.000,9,   2191.5,2,   2249.3,2,   7.5179,2,    25.00,      734
  49UP20170623,RF1707,  6032,  1,     31,  25840,3,20170626,0525, 41.3478, 146.6980, 5460,    151.1,   1.2943,  33.1890,2,  33.1934,2,    253.1,2,    55.29,2,    28.03,2,     0.06,2,     2.18,2,    4.850,2,    2.670,2,   2194.8,2,   2252.4,2,   7.5056,2,    25.00,      733
  49UP20170623,RF1707,  6032,  1,     30,  25839,3,20170626,0525, 41.3478, 146.6980, 5460,    201.3,   1.4430,  33.2700,2,  33.2696,2,    232.5,2,    59.68,2,    29.36,2,     0.03,2,     2.27,2,    4.607,2,    2.550,2,   2212.2,2,   2257.8,2,   7.4779,2,    25.00,      731
  49UP20170623,RF1707,  6032,  1,     29,  25838,3,20170626,0525, 41.3478, 146.6980, 5460,    252.6,   2.1105,  33.4215,2,  33.4225,2,    189.2,2,    69.65,2,    32.64,2,     0.04,2,     2.46,2,    4.001,2,    2.196,2,   2232.5,2,   2268.6,2,   7.4302,2,    25.00,      729
  49UP20170623,RF1707,  6032,  1,     28,  25837,2,20170626,0525, 41.3478, 146.6980, 5460,    334.0,   2.6420,  33.6378,2,  33.6348,2,    128.6,2,    84.68,2,    37.01,2,     0.02,2,     2.73,2,    3.221,2,    1.773,2,   2280.9,2,   2284.4,2,   7.3578,2,    25.00,      727
  49UP20170623,RF1707,  6032,  1,     27,  25836,2,20170626,0525, 41.3478, 146.6980, 5460,    434.6,   3.1855,  33.8794,2,  33.8804,2,     63.7,2,   102.24,2,    41.62,2,     0.01,2,     2.99,2,    2.310,2,    1.232,2,   2322.3,2,   2306.5,2,   7.2843,2,    25.00,      724
  49UP20170623,RF1707,  6032,  1,     26,  25835,2,20170626,0525, 41.3478, 146.6980, 5460,    536.6,   3.3995,  34.0210,2,  34.0193,2,     41.0,3,   112.06,2,    43.12,2,     0.00,2,     3.07,2,    1.659,2,    0.852,2,   2339.2,2,   2321.6,2,   7.2712,2,    25.00,      722
  49UP20170623,RF1707,  6032,  1,     25,  25834,3,20170626,0525, 41.3478, 146.6980, 5460,    637.7,   3.3365,  34.1727,2,  34.1722,2,     35.3,3,   124.95,2,    43.32,2,     0.00,2,     3.08,2,    0.978,2,    0.481,2,   2349.0,2,   2341.0,2,   7.2868,2,    25.00,      719
  49UP20170623,RF1707,  6032,  1,     24,  25833,2,20170626,0525, 41.3478, 146.6980, 5460,    739.2,   3.2194,  34.2521,2,  34.2500,2,     33.1,2,   131.34,2,    42.89,2,     0.00,2,     3.06,2,    0.691,2,    0.340,2,   2357.3,6,   2354.0,6,   7.3136,2,    25.00,      716
  49UP20170623,RF1707,  6032,  1,     23,  25832,3,20170626,0525, 41.3478, 146.6980, 5460,    842.1,   3.1571,  34.3252,2,  34.3217,2,     39.2,3,   134.80,2,    42.40,2,     0.00,2,     3.03,2,    0.506,2,    0.255,2,   2358.9,2,   2363.2,2,   7.3387,6,    25.00,      713
  49UP20170623,RF1707,  6032,  1,     22,  25831,3,20170626,0525, 41.3478, 146.6980, 5460,    940.6,   3.0239,  34.3730,2,  34.3701,2,     41.0,3,   139.25,2,    42.39,2,     0.00,2,     3.02,2,    0.352,2,    0.178,2,   2365.7,2,   2372.7,2,   7.3466,2,    25.00,      710
  49UP20170623,RF1707,  6032,  1,     21,  25830,3,20170626,0525, 41.3478, 146.6980, 5460,   1082.2,   2.7595,  34.4231,2,  34.4206,2,     41.2,3,   146.97,2,    42.65,2,     0.00,2,     3.04,2,    0.218,6,    0.101,6,   2372.6,2,   2383.2,2,   7.3551,2,    25.00,      704
  49UP20170623,RF1707,  6032,  1,     20,  25829,2,20170626,0525, 41.3478, 146.6980, 5460,   1284.8,   2.4932,  34.4718,2,  34.4693,2,     41.2,2,   154.72,2,    42.70,2,     0.00,2,     3.03,2,    0.128,2,    0.049,2,   2383.8,2,   2392.1,2,   7.3617,2,    25.00,      700
  49UP20170623,RF1707,  6032,  1,     19,  25828,2,20170626,0525, 41.3478, 146.6980, 5460,   1486.6,   2.3120,  34.5149,2,  34.5114,4,     47.0,2,   158.85,2,    42.38,2,     0.00,2,     3.01,2,    0.060,2,    0.025,2,   2379.4,2,   2398.6,2,   7.3858,2,    25.00,      655
  49UP20170623,RF1707,  6032,  1,     18,  25827,2,20170626,0525, 41.3478, 146.6980, 5460,   1690.2,   2.1470,  34.5556,2,  34.5538,6,     59.4,2,   160.69,2,    41.80,2,     0.00,2,     2.95,2,    0.023,2,    0.007,2,   2375.2,2,   2405.5,2,   7.4043,2,    25.00,      650
  49UP20170623,RF1707,  6032,  1,     17,  25826,2,20170626,0525, 41.3478, 146.6980, 5460,   1889.9,   2.0148,  34.5806,2,  34.5796,2,     68.8,6,   162.49,6,    41.37,6,     0.00,6,     2.91,6,    0.007,2,    0.002,2,   2372.1,2,   2411.7,2,   7.4267,2,    25.00,      646
  49UP20170623,RF1707,  6032,  1,     16,  25825,2,20170626,0525, 41.3478, 146.6980, 5460,   2097.4,   1.8792,  34.6057,2,  34.6026,4,     83.5,3,   162.28,2,    40.52,2,     0.00,2,     2.84,2,    0.034,3,    0.021,3,   2367.9,2,   2412.3,2,   7.4510,2,    25.00,      641
  49UP20170623,RF1707,  6032,  1,     15,  25824,2,20170626,0525, 41.3478, 146.6980, 5460,   2301.2,   1.7774,  34.6240,2,  34.6208,4,     93.5,2,   161.45,2,    39.81,2,     0.00,2,     2.79,2,    0.001,2,    0.000,2,   2361.6,2,   2414.9,2,   7.4754,2,    25.00,      637
  49UP20170623,RF1707,  6032,  1,     14,  25823,2,20170626,0525, 41.3478, 146.6980, 5460,   2505.7,   1.7044,  34.6370,2,  34.6345,2,    104.0,2,   160.29,2,    39.18,2,     0.00,2,     2.74,2,    0.001,2,    0.000,2,   2356.9,2,   2417.3,2,   7.4948,2,    25.00,      632
  49UP20170623,RF1707,  6032,  1,     13,  25822,2,20170626,0525, 41.3478, 146.6980, 5460,   2708.4,   1.6369,  34.6484,2,  34.6477,6,    113.6,2,   159.17,2,    38.61,2,     0.00,2,     2.69,2,    0.000,2,    0.000,2,   2351.4,2,   2417.8,2,   7.5142,2,    25.00,      628
  49UP20170623,RF1707,  6032,  1,     12,  25821,2,20170626,0525, 41.3478, 146.6980, 5460,   2911.8,   1.5934,  34.6564,2,  34.6541,2,    120.9,6,   157.59,6,    38.04,6,     0.00,6,     2.65,6,    0.000,2,    0.001,2,   2348.6,2,   2419.3,2,   7.5244,2,    25.00,      623
  49UP20170623,RF1707,  6032,  1,     11,  25820,3,20170626,0525, 41.3478, 146.6980, 5460,   3126.5,   1.5637,  34.6626,2,  34.6595,4,    128.9,3,   156.66,2,    37.73,2,     0.00,2,     2.62,2, -999.000,9, -999.000,9,   2351.5,3,   2419.2,2,   7.5382,2,    25.00,      619
  49UP20170623,RF1707,  6032,  1,     10,  25819,3,20170626,0525, 41.3478, 146.6980, 5460,   3381.3,   1.5335,  34.6689,2,  34.6678,6,    133.2,2,   155.34,2,    37.33,2,     0.00,2,     2.59,2, -999.000,9, -999.000,9,   2338.1,2,   2417.9,2,   7.5484,2,    25.00,      613
  49UP20170623,RF1707,  6032,  1,      9,  25818,2,20170626,0525, 41.3478, 146.6980, 5460,   3638.1,   1.5100,  34.6743,2,  34.6737,2,    138.9,2,   153.90,2,    36.95,2,     0.00,2,     2.56,2, -999.000,9, -999.000,9,   2342.0,3,   2418.1,2,   7.5623,2,    25.00,      608
  49UP20170623,RF1707,  6032,  1,      8,  25817,3,20170626,0525, 41.3478, 146.6980, 5460,   3895.1,   1.4986,  34.6784,2,  34.6749,4,    144.5,2,   152.33,2,    36.59,2,     0.00,2,     2.54,2,    0.001,2,    0.000,2,   2331.8,6,   2416.9,6,   7.5690,2,    25.00,      602
  49UP20170623,RF1707,  6032,  1,      7,  25816,3,20170626,0525, 41.3478, 146.6980, 5460,   4151.0,   1.4970,  34.6814,2,  34.6805,2,    147.9,2,   151.37,2,    36.40,2,     0.00,2,     2.52,2, -999.000,9, -999.000,9,   2330.9,2,   2416.8,2,   7.5756,6,    25.00,      557
  49UP20170623,RF1707,  6032,  1,      6,  25815,2,20170626,0525, 41.3478, 146.6980, 5460,   4410.2,   1.4982,  34.6843,2,  34.6837,2,    151.8,2,   150.36,2,    36.16,2,     0.00,2,     2.50,2, -999.000,9, -999.000,9,   2330.6,2,   2417.2,2,   7.5817,2,    25.00,      552
  49UP20170623,RF1707,  6032,  1,      5,  25814,3,20170626,0525, 41.3478, 146.6980, 5460,   4666.0,   1.5057,  34.6865,2,  34.6847,2,    156.8,3,   149.38,2,    35.93,2,     0.00,2,     2.49,2, -999.000,9, -999.000,9,   2328.2,2,   2416.9,2,   7.5855,2,    25.00,      545
  49UP20170623,RF1707,  6032,  1,      4,  25813,2,20170626,0525, 41.3478, 146.6980, 5460,   4923.2,   1.5205,  34.6884,2,  34.6878,2,    156.5,2,   148.97,2,    35.77,2,     0.00,2,     2.47,2,    0.002,2,    0.001,2,   2325.3,2,   2415.5,2,   7.5856,2,    25.00,      540
  49UP20170623,RF1707,  6032,  1,      3,  25812,3,20170626,0525, 41.3478, 146.6980, 5460,   5181.2,   1.5359,  34.6899,2,  34.6882,2,    160.0,6,   148.04,6,    35.60,6,     0.00,6,     2.46,6, -999.000,9, -999.000,9,   2318.0,2,   2414.5,2,   7.5909,2,    25.00,      534
  49UP20170623,RF1707,  6032,  1,      2,  25811,2,20170626,0525, 41.3478, 146.6980, 5460,   5438.7,   1.5542,  34.6915,2,  34.6908,6,    161.1,2,   146.51,2,    35.39,2,     0.00,2,     2.45,2, -999.000,9, -999.000,9,   2324.0,2,   2414.3,2,   7.5948,2,    25.00,      528
  49UP20170623,RF1707,  6032,  1,      1,  25810,2,20170626,0525, 41.3478, 146.6980, 5460,   5562.3,   1.5694,  34.6915,2,  34.6889,4,    161.2,2,   146.52,2,    35.37,2,     0.01,2,     2.45,2,    0.011,6,    0.002,6,   2326.3,2,   2414.1,2,   7.5948,2,    25.00,      525