BOTTLE,20200309PRINUNIVRMK
EXPOCODE,SECT_ID,STNNBR,CASTNO,SAMPNO,BTLNBR,BTLNBR_FLAG_W,DATE,TIME,LATITUDE,LONGITUDE,DEPTH,CTDPRS,CTDTMP,CTDSAL,CTDSAL_FLAG_W,SALNTY,SALNTY_FLAG_W,OXYGEN,OXYGEN_FLAG_W,SILCAT,SILCAT_FLAG_W,NITRAT,NITRAT_FLAG_W,NITRIT,NITRIT_FLAG_W,PHSPHT,PHSPHT_FLAG_W,CFC-11,CFC-11_FLAG_W,CFC-12,CFC-12_FLAG_W,TCARBN,TCARBN_FLAG_W,ALKALI,ALKALI_FLAG_W,PH_TOT,PH_TOT_FLAG_W,PH_TMP,BTL_TIME
,,,,,,,,,,,METERS,DBAR,ITS-90,PSS-78,,PSS-78,,UMOL/KG,,UMOL/KG,,UMOL/KG,,UMOL/KG,,UMOL/KG,,PMOL/KG,,PMOL/KG,,UMOL/KG,,UMOL/KG,,,,DEG C,
  49UP20170623,RF1707,  6054,  1,     99,     99,2,20170707,0823, 42.0137, 165.0233, 4794,      0.0,  10.6185,  32.8602,2,  32.8431,2,    288.8,2,    19.39,2,    12.27,2,     0.17,2,     1.18,2, -999.000,9, -999.000,9,   2053.5,2,   2223.2,2,   7.8117,2,    25.00,     1000
  49UP20170623,RF1707,  6054,  1,     36,  25845,2,20170707,0823, 42.0137, 165.0233, 4794,     10.5,  10.5643,  32.8207,2,  32.9404,4,    291.2,2,    20.32,2,    12.22,2,     0.15,2,     1.15,2,    3.800,2,    2.240,2,   2058.6,2,   2227.5,2,   7.8112,2,    25.00,     1021
  49UP20170623,RF1707,  6054,  1,     35,  25844,2,20170707,0823, 42.0137, 165.0233, 4794,     26.3,   7.6079,  33.1591,2,  33.1626,2,    311.5,6,    23.00,6,    12.96,6,     0.17,6,     1.22,6, -999.000,9, -999.000,9,   2078.7,2,   2239.7,2,   7.7883,2,    25.00,     1020
  49UP20170623,RF1707,  6054,  1,     34,  25843,2,20170707,0823, 42.0137, 165.0233, 4794,     51.4,   5.2067,  33.2241,2,  33.2212,2,    319.8,2,    24.64,2,    14.95,2,     0.29,2,     1.33,2,    4.686,2,    2.696,2,   2101.3,2,   2242.0,2,   7.7449,2,    25.00,     1018
  49UP20170623,RF1707,  6054,  1,     33,  25842,3,20170707,0823, 42.0137, 165.0233, 4794,     76.5,   5.4946,  33.3836,2,  33.3829,2,    306.4,2,    23.33,2,    14.57,2,     0.49,2,     1.26,2, -999.000,9, -999.000,9,   2108.9,2,   2247.5,2,   7.7412,2,    25.00,     1017
  49UP20170623,RF1707,  6054,  1,     32,  25841,2,20170707,0823, 42.0137, 165.0233, 4794,    101.6,   5.4572,  33.4346,2,  33.4358,2,    301.2,2,    23.47,2,    15.67,2,     0.01,2,     1.27,2,    4.487,2,    2.611,2,   2108.4,6,   2248.0,6,   7.7343,2,    25.00,     1013
  49UP20170623,RF1707,  6054,  1,     31,  25840,2,20170707,0823, 42.0137, 165.0233, 4794,    126.0,   5.3385,  33.4533,2,  33.4555,2,    298.4,2,    24.08,2,    15.92,2,     0.01,2,     1.28,2, -999.000,9, -999.000,9,   2107.0,2,   2248.2,2,   7.7318,6,    25.00,     1012
  49UP20170623,RF1707,  6054,  1,     30,  25839,2,20170707,0823, 42.0137, 165.0233, 4794,    152.6,   5.3106,  33.4973,2,  33.4984,2,    287.4,2,    26.29,2,    16.94,2,     0.01,2,     1.34,2,    4.348,2,    2.537,2,   2120.3,2,   2251.5,2,   7.7149,2,    25.00,     1011
  49UP20170623,RF1707,  6054,  1,     29,  25838,2,20170707,0823, 42.0137, 165.0233, 4794,    203.5,   4.6860,  33.6354,2,  33.6329,2,    195.2,2,    49.55,2,    27.09,2,     0.01,2,     2.01,2,    3.746,2,    2.151,2,   2193.2,2,   2267.1,2,   7.5494,2,    25.00,     1009
  49UP20170623,RF1707,  6054,  1,     28,  25837,2,20170707,0823, 42.0137, 165.0233, 4794,    251.9,   4.4780,  33.7250,2,  33.7237,2,    156.9,2,    60.85,2,    31.05,2,     0.01,2,     2.28,2,    3.331,2,    1.894,2,   2226.2,2,   2279.5,2,   7.4799,2,    25.00,     1007
  49UP20170623,RF1707,  6054,  1,     27,  25836,2,20170707,0823, 42.0137, 165.0233, 4794,    283.8,   4.3527,  33.7673,2,  33.7671,2,    141.6,2,    66.43,2,    32.85,2,     0.00,2,     2.39,2,    3.117,2,    1.762,2,   2242.8,2,   2285.7,2,   7.4495,2,    25.00,     1006
  49UP20170623,RF1707,  6054,  1,     26,  25835,2,20170707,0823, 42.0137, 165.0233, 4794,    374.6,   4.0382,  33.8862,2,  33.8833,6,     96.3,2,    82.73,2,    37.29,2,     0.01,2,     2.69,2,    2.512,2,    1.337,2,   2280.6,2,   2301.6,2,   7.3745,2,    25.00,     1004
  49UP20170623,RF1707,  6054,  1,     25,  25834,2,20170707,0823, 42.0137, 165.0233, 4794,    474.2,   3.9390,  34.0331,2,  34.0320,2,     63.8,2,    98.11,2,    39.95,2,     0.00,2,     2.86,2,    1.764,2,    0.944,2,   2311.1,2,   2320.9,2,   7.3402,2,    25.00,     1001
  49UP20170623,RF1707,  6054,  1,     24,  25833,2,20170707,0823, 42.0137, 165.0233, 4794,    575.9,   3.7472,  34.1335,2,  34.1318,2,     46.1,2,   110.17,2,    41.37,2,     0.00,2,     2.95,2,    1.235,2,    0.644,2,   2331.5,2,   2334.8,2,   7.3266,2,    25.00,      958
  49UP20170623,RF1707,  6054,  1,     23,  25832,3,20170707,0823, 42.0137, 165.0233, 4794,    677.5,   3.4873,  34.2155,2,  34.2154,2,     35.2,2,   121.73,2,    42.36,2,     0.00,2,     3.02,2,    0.835,2,    0.426,2,   2350.2,2,   2351.0,2,   7.3197,2,    25.00,      955
  49UP20170623,RF1707,  6054,  1,     21,  25830,3,20170707,0823, 42.0137, 165.0233, 4794,    778.5,   3.2931,  34.2808,2,  34.2774,2,     34.9,4,   129.40,2,    42.71,2,     0.00,2,     3.04,2,    0.546,6,    0.281,6,   2356.7,2,   2358.5,2,   7.3204,2,    25.00,      953
  49UP20170623,RF1707,  6054,  1,     22,  25831,3,20170707,0823, 42.0137, 165.0233, 4794,    778.9,   3.2938,  34.2814,2,  34.2805,2,     31.2,2,   129.74,2,    42.75,2,     0.00,2,     3.05,2, -999.000,9, -999.000,9,   2358.5,2,   2359.7,2,   7.3197,2,    25.00,      953
  49UP20170623,RF1707,  6054,  1,     20,  25829,2,20170707,0823, 42.0137, 165.0233, 4794,    879.3,   3.0862,  34.3305,2,  34.3303,2,     30.4,2,   136.61,2,    42.94,2,     0.00,2,     3.06,2,    0.384,2,    0.185,2,   2364.5,2,   2369.5,2,   7.3235,2,    25.00,      950
  49UP20170623,RF1707,  6054,  1,     19,  25828,2,20170707,0823, 42.0137, 165.0233, 4794,    980.4,   2.8655,  34.3740,2,  34.3727,2,     30.2,6,   143.80,6,    43.12,6,     0.00,6,     3.07,6,    0.283,2,    0.136,2,   2372.6,2,   2378.4,2,   7.3306,2,    25.00,      947
  49UP20170623,RF1707,  6054,  1,     18,  25827,2,20170707,0823, 42.0137, 165.0233, 4794,   1142.0,   2.5376,  34.4128,2,  34.4115,2,     32.9,2,   153.77,2,    43.13,2,     0.00,2,     3.07,2,    0.269,2,    0.119,2,   2377.8,6,   2387.8,6,   7.3338,2,    25.00,      943
  49UP20170623,RF1707,  6054,  1,     17,  25826,3,20170707,0823, 42.0137, 165.0233, 4794,   1347.0,   2.4121,  34.4816,2,  34.4812,2,     38.1,2,   157.30,2,    42.97,2,     0.00,2,     3.05,2,    0.105,2,    0.038,2,   2384.5,2,   2398.7,2,   7.3540,6,    25.00,      938
  49UP20170623,RF1707,  6054,  1,     16,  25825,2,20170707,0823, 42.0137, 165.0233, 4794,   1548.4,   2.2091,  34.5274,2,  34.5272,2,     47.0,2,   162.09,2,    42.52,2,     0.00,2,     3.01,2,    0.050,2,    0.011,2,   2384.0,2,   2406.0,2,   7.3741,2,    25.00,      933
  49UP20170623,RF1707,  6054,  1,     15,  25824,2,20170707,0823, 42.0137, 165.0233, 4794,   1751.7,   2.0721,  34.5596,2,  34.5585,2,     56.5,2,   164.17,2,    42.04,2,     0.00,2,     2.97,2,    0.027,2,    0.001,2,   2379.6,2,   2410.7,2,   7.3959,2,    25.00,      928
  49UP20170623,RF1707,  6054,  1,     14,  25823,2,20170707,0823, 42.0137, 165.0233, 4794,   1954.0,   1.9318,  34.5893,2,  34.5884,2,     69.1,2,   165.29,2,    41.27,2,     0.00,2,     2.91,2,    0.023,2,    0.000,2,   2373.6,2,   2414.6,2,   7.4208,2,    25.00,      924
  49UP20170623,RF1707,  6054,  1,     13,  25822,2,20170707,0823, 42.0137, 165.0233, 4794,   2156.8,   1.8224,  34.6106,2,  34.6103,2,     81.8,2,   165.96,2,    40.53,2,     0.00,2,     2.85,2,    0.050,3,    0.110,3,   2374.7,2,   2417.7,2,   7.4484,2,    25.00,      920
  49UP20170623,RF1707,  6054,  1,     12,  25821,2,20170707,0823, 42.0137, 165.0233, 4794,   2361.5,   1.7239,  34.6294,2,  34.6286,6,     95.5,2,   163.66,2,    39.67,2,     0.00,2,     2.79,2,    0.015,2,    0.000,2,   2362.9,2,   2419.2,2,   7.4729,2,    25.00,      916
  49UP20170623,RF1707,  6054,  1,     11,  25820,3,20170707,0823, 42.0137, 165.0233, 4794,   2566.5,   1.6557,  34.6418,2,  34.6395,4,    106.0,3,   162.11,2,    39.07,2,     0.00,2,     2.74,2,    0.022,3,    0.054,3,   2358.7,2,   2419.7,2,   7.4962,2,    25.00,      911
  49UP20170623,RF1707,  6054,  1,     10,  25819,2,20170707,0823, 42.0137, 165.0233, 4794,   2769.6,   1.5998,  34.6521,2,  34.6517,2,    115.3,6,   160.23,6,    38.43,6,     0.00,6,     2.69,6,    0.000,2,    0.000,2,   2356.5,2,   2420.1,2,   7.5105,2,    25.00,      907
  49UP20170623,RF1707,  6054,  1,      9,  25818,3,20170707,0823, 42.0137, 165.0233, 4794,   2972.9,   1.5564,  34.6602,2,  34.6601,2,    123.1,2,   158.22,2,    37.91,2,     0.00,2,     2.65,2, -999.000,9, -999.000,9,   2350.5,2,   2422.5,2,   7.5252,2,    25.00,      903
  49UP20170623,RF1707,  6054,  1,      8,  25817,2,20170707,0823, 42.0137, 165.0233, 4794,   3219.1,   1.5080,  34.6689,2,  34.6687,2,    132.4,2,   155.76,2,    37.32,2,     0.00,2,     2.60,2, -999.000,9, -999.000,9,   2340.0,2,   2420.3,2,   7.5452,2,    25.00,      858
  49UP20170623,RF1707,  6054,  1,      7,  25816,2,20170707,0823, 42.0137, 165.0233, 4794,   3477.0,   1.4757,  34.6754,2,  34.6747,2,    140.2,2,   153.88,2,    36.80,2,     0.00,2,     2.56,2, -999.000,9, -999.000,9,   2334.2,2,   2420.3,2,   7.5602,2,    25.00,      853
  49UP20170623,RF1707,  6054,  1,      6,  25815,2,20170707,0823, 42.0137, 165.0233, 4794,   3730.5,   1.4577,  34.6802,2,  34.6797,2,    145.9,2,   152.47,2,    36.45,2,     0.00,2,     2.53,2, -999.000,9, -999.000,9,   2330.5,2,   2420.1,2,   7.5690,2,    25.00,      848
  49UP20170623,RF1707,  6054,  1,      5,  25814,2,20170707,0823, 42.0137, 165.0233, 4794,   3988.0,   1.4523,  34.6837,2,  34.6836,2,    150.4,2,   151.55,2,    36.15,2,     0.00,2,     2.51,2,    0.040,3,    0.080,3,   2325.8,2,   2420.6,2,   7.5745,2,    25.00,      842
  49UP20170623,RF1707,  6054,  1,      4,  25813,2,20170707,0823, 42.0137, 165.0233, 4794,   4245.5,   1.4534,  34.6868,2,  34.6865,6,    153.8,2,   151.21,2,    35.95,2,     0.00,2,     2.49,2, -999.000,9, -999.000,9,   2325.1,6,   2419.8,6,   7.5834,2,    25.00,      837
  49UP20170623,RF1707,  6054,  1,      3,  25812,2,20170707,0823, 42.0137, 165.0233, 4794,   4503.1,   1.4719,  34.6882,2,  34.6880,2,    155.2,2,   151.32,2,    35.86,2,     0.00,2,     2.48,2, -999.000,9, -999.000,9,   2322.8,2,   2419.9,2,   7.5854,6,    25.00,      832
  49UP20170623,RF1707,  6054,  1,      2,  25811,2,20170707,0823, 42.0137, 165.0233, 4794,   4759.9,   1.4964,  34.6888,2,  34.6886,6,    155.9,2,   151.43,2,    35.79,2,     0.00,2,     2.48,2, -999.000,9, -999.000,9,   2326.9,2,   2420.3,2,   7.5882,2,    25.00,      827
  49UP20170623,RF1707,  6054,  1,      1,  25810,2,20170707,0823, 42.0137, 165.0233, 4794,   4954.8,   1.5190,  34.6889,2,  34.6872,4,    155.8,6,   151.67,6,    35.80,6,     0.00,6,     2.48,6,    0.004,6,    0.000,6,   2327.6,2,   2420.1,2,   7.5867,2,    25.00,      823