BOTTLE,20200309PRINUNIVRMK
EXPOCODE,SECT_ID,STNNBR,CASTNO,SAMPNO,BTLNBR,BTLNBR_FLAG_W,DATE,TIME,LATITUDE,LONGITUDE,DEPTH,CTDPRS,CTDTMP,CTDSAL,CTDSAL_FLAG_W,SALNTY,SALNTY_FLAG_W,OXYGEN,OXYGEN_FLAG_W,SILCAT,SILCAT_FLAG_W,NITRAT,NITRAT_FLAG_W,NITRIT,NITRIT_FLAG_W,PHSPHT,PHSPHT_FLAG_W,CFC-11,CFC-11_FLAG_W,CFC-12,CFC-12_FLAG_W,TCARBN,TCARBN_FLAG_W,ALKALI,ALKALI_FLAG_W,PH_TOT,PH_TOT_FLAG_W,PH_TMP,BTL_TIME
,,,,,,,,,,,METERS,DBAR,ITS-90,PSS-78,,PSS-78,,UMOL/KG,,UMOL/KG,,UMOL/KG,,UMOL/KG,,UMOL/KG,,PMOL/KG,,PMOL/KG,,UMOL/KG,,UMOL/KG,,,,DEG C,
  49UP20170623,RF1707,  6046,  1,     99,     99,2,20170703,0307, 50.0162, 165.0100, 5526,      0.0,   7.0307,  32.8592,2,  32.8612,2,    321.8,2,    31.29,2,    17.36,2,     0.19,2,     1.47,2, -999.000,9, -999.000,9,   2079.5,2,   2230.9,2,   7.7831,2,    25.00,      500
  49UP20170623,RF1707,  6046,  1,     36,  25845,3,20170703,0307, 50.0162, 165.0100, 5526,     10.3,   6.7672,  32.8578,2,  32.8637,2,    325.7,2,    30.39,2,    17.11,2,     0.18,2,     1.47,2,    4.648,2,    2.646,2,   2078.2,2,   2233.6,2,   7.7849,2,    25.00,      528
  49UP20170623,RF1707,  6046,  1,     35,  25844,2,20170703,0307, 50.0162, 165.0100, 5526,     50.2,   4.4241,  32.8901,2,  32.8975,4,    325.6,2,    36.81,2,    19.97,2,     0.20,2,     1.72,2,    5.156,2,    2.905,2,   2109.9,2,   2231.5,2,   7.7113,2,    25.00,      524
  49UP20170623,RF1707,  6046,  1,     34,  25843,2,20170703,0307, 50.0162, 165.0100, 5526,     76.8,   2.1525,  32.9596,2,  32.9622,2,    325.9,2,    39.04,2,    22.41,2,     0.41,2,     1.86,2, -999.000,9, -999.000,9,   2130.6,2,   2233.3,2,   7.6507,2,    25.00,      523
  49UP20170623,RF1707,  6046,  1,     33,  25842,2,20170703,0307, 50.0162, 165.0100, 5526,    101.5,   2.1197,  32.9921,2,  32.9935,2,    323.7,2,    42.33,2,    23.92,2,     0.56,2,     1.94,2,    5.437,2,    3.034,2,   2134.3,6,   2233.4,6,   7.6328,2,    25.00,      521
  49UP20170623,RF1707,  6046,  1,     32,  25841,2,20170703,0307, 50.0162, 165.0100, 5526,    125.8,   2.0527,  33.0452,2,  33.0477,2,    311.7,2,    45.87,2,    26.00,2,     0.21,2,     2.03,2, -999.000,9, -999.000,9,   2145.2,2,   2236.9,2,   7.6121,6,    25.00,      520
  49UP20170623,RF1707,  6046,  1,     31,  25840,2,20170703,0307, 50.0162, 165.0100, 5526,    150.8,   2.5281,  33.3405,2,  33.3716,4,    193.3,2,    65.38,2,    34.08,2,     0.02,2,     2.51,2,    4.116,2,    2.325,2,   2222.9,2,   2260.8,2,   7.4446,2,    25.00,      518
  49UP20170623,RF1707,  6046,  1,     30,  25839,3,20170703,0307, 50.0162, 165.0100, 5526,    202.7,   3.2870,  33.7358,2,  33.7421,4,     68.9,2,    89.57,2,    42.47,2,     0.01,2,     3.02,2,    2.792,6,    1.521,6,   2312.4,2,   2290.1,2,   7.2658,2,    25.00,      516
  49UP20170623,RF1707,  6046,  1,     29,  25838,2,20170703,0307, 50.0162, 165.0100, 5526,    252.5,   3.4710,  33.8593,2,  33.8624,2,     38.5,2,    97.79,2,    44.29,2,     0.00,2,     3.12,2,    2.308,2,    1.218,2,   2332.2,2,   2302.9,2,   7.2358,2,    25.00,      514
  49UP20170623,RF1707,  6046,  1,     28,  25837,2,20170703,0307, 50.0162, 165.0100, 5526,    303.5,   3.5430,  33.9494,2,  33.9510,2,     27.9,6,   103.99,6,    44.67,6,     0.01,6,     3.15,6,    1.934,2,    1.008,2,   2340.7,2,   2311.9,2,   7.2374,2,    25.00,      512
  49UP20170623,RF1707,  6046,  1,     27,  25836,2,20170703,0307, 50.0162, 165.0100, 5526,    404.3,   3.6423,  34.0875,2,  34.0875,6,     17.7,2,   113.14,2,    44.62,2,     0.00,2,     3.14,2,    1.257,2,    0.630,2,   2351.7,2,   2328.2,2,   7.2521,2,    25.00,      509
  49UP20170623,RF1707,  6046,  1,     26,  25835,3,20170703,0307, 50.0162, 165.0100, 5526,    505.7,   3.4717,  34.1640,2,  34.1627,2,     13.8,2,   122.48,2,    44.63,2,     0.00,2,     3.14,2,    0.886,2,    0.452,2,   2359.8,2,   2340.0,2,   7.2614,2,    25.00,      506
  49UP20170623,RF1707,  6046,  1,     25,  25834,2,20170703,0307, 50.0162, 165.0100, 5526,    607.1,   3.3017,  34.2270,2,  34.2264,2,     15.2,2,   129.91,2,    44.37,2,     0.00,2,     3.13,2,    0.627,2,    0.318,2,   2368.1,2,   2351.9,2,   7.2770,2,    25.00,      502
  49UP20170623,RF1707,  6046,  1,     24,  25833,2,20170703,0307, 50.0162, 165.0100, 5526,    708.5,   3.1611,  34.2763,2,  34.2756,2,     15.1,2,   135.92,2,    44.35,2,     0.00,2,     3.13,2,    0.460,2,    0.225,2,   2373.3,2,   2360.1,2,   7.2865,2,    25.00,      459
  49UP20170623,RF1707,  6046,  1,     23,  25832,2,20170703,0307, 50.0162, 165.0100, 5526,    809.4,   3.0088,  34.3226,2,  34.3234,2,     15.1,2,   142.10,2,    44.36,2,     0.00,2,     3.13,2,    0.321,2,    0.154,2,   2382.6,6,   2368.8,6,   7.2921,2,    25.00,      456
  49UP20170623,RF1707,  6046,  1,     22,  25831,2,20170703,0307, 50.0162, 165.0100, 5526,    910.5,   2.8746,  34.3617,2,  34.3597,2,     15.4,2,   147.04,2,    44.40,2,     0.00,2,     3.14,2,    0.229,2,    0.108,2,   2384.4,2,   2374.6,2,   7.2991,6,    25.00,      453
  49UP20170623,RF1707,  6046,  1,     21,  25830,3,20170703,0307, 50.0162, 165.0100, 5526,   1011.8,   2.7808,  34.3965,2,  34.3972,2,     16.9,2,   149.61,2,    44.39,2,     0.00,2,     3.13,2,    0.139,6,    0.059,6,   2385.5,2,   2381.2,2,   7.3057,2,    25.00,      450
  49UP20170623,RF1707,  6046,  1,     20,  25829,2,20170703,0307, 50.0162, 165.0100, 5526,   1216.5,   2.4936,  34.4587,2,  34.4602,2,     23.0,2,   158.24,2,    44.13,2,     0.00,2,     3.10,2,    0.065,2,    0.027,2,   2391.1,2,   2394.2,2,   7.3259,2,    25.00,      444
  49UP20170623,RF1707,  6046,  1,     19,  25828,2,20170703,0307, 50.0162, 165.0100, 5526,   1417.5,   2.2528,  34.5105,2,  34.5102,2,     33.9,6,   164.28,6,    43.49,6,     0.00,6,     3.05,6, -999.000,5, -999.000,5,   2386.4,2,   2402.1,2,   7.3496,2,    25.00,      440
  49UP20170623,RF1707,  6046,  1,     18,  25827,2,20170703,0307, 50.0162, 165.0100, 5526,   1620.7,   2.0816,  34.5477,2,  34.5482,2,     46.2,2,   168.23,2,    42.73,2,     0.00,2,     3.00,2,    0.015,2,    0.004,2,   2385.5,2,   2408.1,2,   7.3737,2,    25.00,      435
  49UP20170623,RF1707,  6046,  1,     17,  25826,2,20170703,0307, 50.0162, 165.0100, 5526,   1824.3,   1.9482,  34.5768,2,  34.5767,2,     58.8,2,   169.48,2,    41.95,2,     0.00,2,     2.94,2,    0.004,2,    0.001,2,   2378.5,2,   2412.7,2,   7.4008,2,    25.00,      430
  49UP20170623,RF1707,  6046,  1,     16,  25825,2,20170703,0307, 50.0162, 165.0100, 5526,   2027.8,   1.8430,  34.5997,2,  34.5994,2,     71.5,2,   169.69,2,    41.14,2,     0.00,2,     2.89,2,    0.000,2,    0.000,2,   2374.4,2,   2414.0,2,   7.4278,2,    25.00,      426
  49UP20170623,RF1707,  6046,  1,     15,  25824,2,20170703,0307, 50.0162, 165.0100, 5526,   2232.0,   1.7553,  34.6198,2,  34.6189,2,     85.3,2,   167.66,2,    40.25,2,     0.00,2,     2.83,2,    0.000,2,    0.000,2,   2375.7,3,   2416.7,2,   7.4572,2,    25.00,      421
  49UP20170623,RF1707,  6046,  1,     14,  25823,2,20170703,0307, 50.0162, 165.0100, 5526,   2436.1,   1.6886,  34.6329,2,  34.6328,2,     96.4,2,   166.77,2,    39.61,2,     0.00,2,     2.78,2,    0.000,2,    0.000,2,   2362.0,2,   2419.2,2,   7.4800,2,    25.00,      416
  49UP20170623,RF1707,  6046,  1,     13,  25822,2,20170703,0307, 50.0162, 165.0100, 5526,   2640.0,   1.6322,  34.6439,2,  34.6439,2,    105.7,2,   164.82,2,    38.97,2,     0.00,2,     2.73,2,    0.000,2,    0.000,2,   2362.2,2,   2418.1,2,   7.4963,2,    25.00,      412
  49UP20170623,RF1707,  6046,  1,     12,  25821,2,20170703,0307, 50.0162, 165.0100, 5526,   2845.2,   1.5888,  34.6530,2,  34.6547,2,    114.6,2,   162.39,2,    38.43,2,     0.00,2,     2.69,2,    0.000,2,    0.000,2,   2354.5,2,   2418.6,2,   7.5109,2,    25.00,      407
  49UP20170623,RF1707,  6046,  1,     11,  25820,2,20170703,0307, 50.0162, 165.0100, 5526,   3049.3,   1.5528,  34.6604,2,  34.6603,6,    122.3,2,   160.21,2,    37.95,2,     0.00,2,     2.65,2, -999.000,9, -999.000,9,   2346.8,2,   2420.3,2,   7.5266,2,    25.00,      403
  49UP20170623,RF1707,  6046,  1,     10,  25819,2,20170703,0307, 50.0162, 165.0100, 5526,   3304.8,   1.5133,  34.6685,2,  34.6689,2,    131.9,6,   157.43,6,    37.32,6,     0.00,6,     2.60,6, -999.000,9, -999.000,9,   2339.7,2,   2419.1,2,   7.5449,2,    25.00,      357
  49UP20170623,RF1707,  6046,  1,      9,  25818,2,20170703,0307, 50.0162, 165.0100, 5526,   3559.7,   1.4962,  34.6736,2,  34.6746,2,    138.1,2,   155.28,2,    36.93,2,     0.00,2,     2.57,2, -999.000,9, -999.000,9,   2339.5,6,   2419.4,6,   7.5536,2,    25.00,      352
  49UP20170623,RF1707,  6046,  1,      8,  25817,2,20170703,0307, 50.0162, 165.0100, 5526,   3817.5,   1.4842,  34.6779,2,  34.6782,2,    143.8,2,   153.63,2,    36.58,2,     0.00,2,     2.54,2,    0.000,2,    0.000,2,   2335.7,2,   2419.1,2,   7.5651,6,    25.00,      346
  49UP20170623,RF1707,  6046,  1,      7,  25816,2,20170703,0307, 50.0162, 165.0100, 5526,   4074.5,   1.4811,  34.6811,2,  34.6819,2,    148.0,2,   152.47,2,    36.36,2,     0.00,2,     2.52,2, -999.000,9, -999.000,9,   2331.6,2,   2419.5,2,   7.5712,2,    25.00,      341
  49UP20170623,RF1707,  6046,  1,      6,  25815,2,20170703,0307, 50.0162, 165.0100, 5526,   4329.6,   1.4867,  34.6838,2,  34.6847,2,    150.6,2,   151.70,2,    36.10,2,     0.00,2,     2.50,2, -999.000,9, -999.000,9,   2333.1,2,   2418.5,2,   7.5809,2,    25.00,      335
  49UP20170623,RF1707,  6046,  1,      5,  25814,3,20170703,0307, 50.0162, 165.0100, 5526,   4587.4,   1.4971,  34.6857,2,  34.6870,6,    153.9,2,   150.98,2,    35.94,2,     0.00,2,     2.49,2, -999.000,9, -999.000,9,   2325.8,2,   2418.5,2,   7.5839,2,    25.00,      330
  49UP20170623,RF1707,  6046,  1,      4,  25813,2,20170703,0307, 50.0162, 165.0100, 5526,   4845.8,   1.5124,  34.6874,2,  34.6880,2,    155.6,2,   150.61,2,    35.78,2,     0.00,2,     2.47,2,    0.000,2,    0.000,2,   2321.9,2,   2419.9,2,   7.5836,2,    25.00,      324
  49UP20170623,RF1707,  6046,  1,      3,  25812,2,20170703,0307, 50.0162, 165.0100, 5526,   5104.0,   1.5332,  34.6888,2,  34.6891,2,    157.2,2,   151.20,2,    35.70,2,     0.00,2,     2.47,2, -999.000,9, -999.000,9,   2323.5,2,   2417.2,2,   7.5873,2,    25.00,      318
  49UP20170623,RF1707,  6046,  1,      2,  25811,2,20170703,0307, 50.0162, 165.0100, 5526,   5363.0,   1.5623,  34.6892,2,  34.6902,6,    157.7,2,   151.41,2,    35.64,2,     0.00,2,     2.47,2, -999.000,9, -999.000,9,   2320.8,2,   2416.3,2,   7.5913,2,    25.00,      312
  49UP20170623,RF1707,  6046,  1,      1,  25810,2,20170703,0307, 50.0162, 165.0100, 5526,   5640.7,   1.5921,  34.6899,2,  34.6898,2,    159.6,6,   148.30,6,    35.47,6,     0.00,6,     2.46,6,    0.000,6,    0.001,6,   2318.1,2,   2415.5,2,   7.5924,2,    25.00,      307