BOTTLE,20200309PRINUNIVRMK
EXPOCODE,SECT_ID,STNNBR,CASTNO,SAMPNO,BTLNBR,BTLNBR_FLAG_W,DATE,TIME,LATITUDE,LONGITUDE,DEPTH,CTDPRS,CTDTMP,CTDSAL,CTDSAL_FLAG_W,SALNTY,SALNTY_FLAG_W,OXYGEN,OXYGEN_FLAG_W,SILCAT,SILCAT_FLAG_W,NITRAT,NITRAT_FLAG_W,NITRIT,NITRIT_FLAG_W,PHSPHT,PHSPHT_FLAG_W,CFC-11,CFC-11_FLAG_W,CFC-12,CFC-12_FLAG_W,TCARBN,TCARBN_FLAG_W,ALKALI,ALKALI_FLAG_W,PH_TOT,PH_TOT_FLAG_W,PH_TMP,BTL_TIME
,,,,,,,,,,,METERS,DBAR,ITS-90,PSS-78,,PSS-78,,UMOL/KG,,UMOL/KG,,UMOL/KG,,UMOL/KG,,UMOL/KG,,PMOL/KG,,PMOL/KG,,UMOL/KG,,UMOL/KG,,,,DEG C,
  49UP20170623,RF1707,  6042,  1,     99,     99,2,20170701,0524, 46.5850, 159.1768, 5118,      0.0,   6.4370,  32.8382,2,-999.0000,9,    328.9,2,    32.74,2,    16.99,2,     0.19,2,     1.46,2, -999.000,9, -999.000,9,   -999.0,9,   -999.0,9,-999.0000,9,  -999.00,      705
  49UP20170623,RF1707,  6042,  1,     36,  25845,2,20170701,0524, 46.5850, 159.1768, 5118,     11.4,   6.4370,  32.8383,2,  32.8411,2,    330.3,2,    32.75,2,    16.98,2,     0.19,2,     1.45,2, -999.000,9, -999.000,9,   -999.0,9,   -999.0,9,-999.0000,9,  -999.00,      730
  49UP20170623,RF1707,  6042,  1,     35,  25844,2,20170701,0524, 46.5850, 159.1768, 5118,     26.5,   6.3387,  32.8422,2,  32.8452,2,    330.5,2,    32.94,2,    17.07,2,     0.19,2,     1.47,2, -999.000,9, -999.000,9,   -999.0,9,   -999.0,9,-999.0000,9,  -999.00,      729
  49UP20170623,RF1707,  6042,  1,     34,  25843,3,20170701,0524, 46.5850, 159.1768, 5118,     50.4,   2.6961,  32.9148,2,  32.9197,2,    335.6,2,    38.69,2,    21.90,2,     0.31,2,     1.82,2, -999.000,9, -999.000,9,   -999.0,9,   -999.0,9,-999.0000,9,  -999.00,      725
  49UP20170623,RF1707,  6042,  1,     33,  25842,3,20170701,0524, 46.5850, 159.1768, 5118,     75.5,   1.9260,  32.9618,2,  32.9630,2,    325.1,6,    41.52,6,    23.75,6,     0.49,6,     1.94,6, -999.000,9, -999.000,9,   -999.0,9,   -999.0,9,-999.0000,9,  -999.00,      724
  49UP20170623,RF1707,  6042,  1,     32,  25841,2,20170701,0524, 46.5850, 159.1768, 5118,    102.4,   1.9110,  33.0393,2,  33.0401,2,    318.7,2,    46.48,2,    25.79,2,     0.47,2,     2.06,2, -999.000,9, -999.000,9,   -999.0,9,   -999.0,9,-999.0000,9,  -999.00,      723
  49UP20170623,RF1707,  6042,  1,     31,  25840,2,20170701,0524, 46.5850, 159.1768, 5118,    126.0,   2.2081,  33.2561,2,  33.2474,4,    247.3,2,    58.95,2,    31.34,2,     0.02,2,     2.37,2, -999.000,9, -999.000,9,   -999.0,9,   -999.0,9,-999.0000,9,  -999.00,      722
  49UP20170623,RF1707,  6042,  1,     30,  25839,2,20170701,0524, 46.5850, 159.1768, 5118,    152.5,   3.2108,  33.6347,2,  33.6353,2,     99.0,2,    83.08,2,    40.55,2,     0.03,2,     2.91,2, -999.000,9, -999.000,9,   -999.0,9,   -999.0,9,-999.0000,9,  -999.00,      721
  49UP20170623,RF1707,  6042,  1,     29,  25838,2,20170701,0524, 46.5850, 159.1768, 5118,    203.1,   3.6523,  33.8853,2,  33.8822,2,     23.8,2,    98.84,2,    45.55,2,     0.01,2,     3.20,2, -999.000,9, -999.000,9,   -999.0,9,   -999.0,9,-999.0000,9,  -999.00,      719
  49UP20170623,RF1707,  6042,  1,     28,  25837,2,20170701,0524, 46.5850, 159.1768, 5118,    253.8,   3.6561,  33.9808,2,  33.9805,2,     17.7,2,   106.43,2,    45.39,2,     0.00,2,     3.20,2, -999.000,9, -999.000,9,   -999.0,9,   -999.0,9,-999.0000,9,  -999.00,      718
  49UP20170623,RF1707,  6042,  1,     27,  25836,2,20170701,0524, 46.5850, 159.1768, 5118,    284.5,   3.5909,  34.0306,2,  34.0272,2,     15.4,2,   110.87,2,    45.23,2,     0.00,2,     3.20,2, -999.000,9, -999.000,9,   -999.0,9,   -999.0,9,-999.0000,9,  -999.00,      716
  49UP20170623,RF1707,  6042,  1,     26,  25835,2,20170701,0524, 46.5850, 159.1768, 5118,    372.7,   3.4566,  34.1212,2,  34.1194,2,     15.6,2,   120.21,2,    44.68,2,     0.00,2,     3.16,2, -999.000,9, -999.000,9,   -999.0,9,   -999.0,9,-999.0000,9,  -999.00,      714
  49UP20170623,RF1707,  6042,  1,     25,  25834,2,20170701,0524, 46.5850, 159.1768, 5118,    475.6,   3.3033,  34.2008,2,  34.2002,2,     15.5,2,   128.52,2,    44.40,2,     0.00,2,     3.14,2, -999.000,9, -999.000,9,   -999.0,9,   -999.0,9,-999.0000,9,  -999.00,      711
  49UP20170623,RF1707,  6042,  1,     24,  25833,2,20170701,0524, 46.5850, 159.1768, 5118,    576.1,   3.1707,  34.2648,2,  34.2612,2,     14.7,6,   135.27,6,    44.42,6,     0.00,6,     3.15,6, -999.000,9, -999.000,9,   -999.0,9,   -999.0,9,-999.0000,9,  -999.00,      708
  49UP20170623,RF1707,  6042,  1,     23,  25832,3,20170701,0524, 46.5850, 159.1768, 5118,    677.7,   3.0104,  34.3165,2,  34.3159,2,     13.2,2,   142.29,2,    44.46,2,     0.00,2,     3.15,2, -999.000,9, -999.000,9,   -999.0,9,   -999.0,9,-999.0000,9,  -999.00,      706
  49UP20170623,RF1707,  6042,  1,     22,  25831,3,20170701,0524, 46.5850, 159.1768, 5118,    778.7,   2.8389,  34.3620,2,  34.3619,2,     15.2,2,   148.46,2,    44.40,2,     0.00,2,     3.15,2, -999.000,9, -999.000,9,   -999.0,9,   -999.0,9,-999.0000,9,  -999.00,      703
  49UP20170623,RF1707,  6042,  1,     21,  25830,2,20170701,0524, 46.5850, 159.1768, 5118,    880.8,   2.6927,  34.4022,2,  34.4017,2,     16.1,2,   153.66,2,    44.38,2,     0.00,2,     3.14,2, -999.000,9, -999.000,9,   -999.0,9,   -999.0,9,-999.0000,9,  -999.00,      700
  49UP20170623,RF1707,  6042,  1,     20,  25829,2,20170701,0524, 46.5850, 159.1768, 5118,    981.1,   2.5642,  34.4329,2,  34.4331,2,     18.9,2,   157.58,2,    44.22,2,     0.00,2,     3.13,2, -999.000,9, -999.000,9,   -999.0,9,   -999.0,9,-999.0000,9,  -999.00,      656
  49UP20170623,RF1707,  6042,  1,     19,  25828,2,20170701,0524, 46.5850, 159.1768, 5118,   1145.8,   2.3559,  34.4794,2,  34.4792,6,     26.8,2,   163.67,2,    43.82,2,     0.00,2,     3.10,2, -999.000,9, -999.000,9,   -999.0,9,   -999.0,9,-999.0000,9,  -999.00,      651
  49UP20170623,RF1707,  6042,  1,     18,  25827,2,20170701,0524, 46.5850, 159.1768, 5118,   1347.2,   2.1578,  34.5249,2,  34.5247,2,     39.5,2,   168.00,2,    43.04,2,     0.00,2,     3.04,2, -999.000,9, -999.000,9,   -999.0,9,   -999.0,9,-999.0000,9,  -999.00,      646
  49UP20170623,RF1707,  6042,  1,     17,  25826,2,20170701,0524, 46.5850, 159.1768, 5118,   1550.0,   2.0073,  34.5610,2,  34.5616,2,     42.9,4,   169.86,2,    42.30,2,     0.00,2,     2.99,2, -999.000,9, -999.000,9,   -999.0,9,   -999.0,9,-999.0000,9,  -999.00,      641
  49UP20170623,RF1707,  6042,  1,     16,  25825,2,20170701,0524, 46.5850, 159.1768, 5118,   1754.7,   1.8848,  34.5892,2,  34.5895,2,     66.1,2,   169.94,2,    41.47,2,     0.00,2,     2.93,2, -999.000,9, -999.000,9,   -999.0,9,   -999.0,9,-999.0000,9,  -999.00,      637
  49UP20170623,RF1707,  6042,  1,     15,  25824,2,20170701,0524, 46.5850, 159.1768, 5118,   1957.5,   1.7895,  34.6113,2,  34.6116,2,     81.8,6,   167.28,6,    40.55,6,     0.00,6,     2.86,6, -999.000,9, -999.000,9,   -999.0,9,   -999.0,9,-999.0000,9,  -999.00,      632
  49UP20170623,RF1707,  6042,  1,     14,  25823,2,20170701,0524, 46.5850, 159.1768, 5118,   2161.6,   1.6961,  34.6303,2,  34.6307,2,     96.4,2,   164.03,2,    39.58,2,     0.00,2,     2.78,2, -999.000,9, -999.000,9,   -999.0,9,   -999.0,9,-999.0000,9,  -999.00,      627
  49UP20170623,RF1707,  6042,  1,     13,  25822,2,20170701,0524, 46.5850, 159.1768, 5118,   2364.9,   1.6291,  34.6432,2,  34.6438,2,    107.7,2,   161.59,2,    38.92,2,     0.00,2,     2.74,2, -999.000,9, -999.000,9,   -999.0,9,   -999.0,9,-999.0000,9,  -999.00,      622
  49UP20170623,RF1707,  6042,  1,     12,  25821,2,20170701,0524, 46.5850, 159.1768, 5118,   2567.4,   1.5795,  34.6525,2,  34.6517,2,    116.6,2,   159.68,2,    38.34,2,     0.00,2,     2.69,2, -999.000,9, -999.000,9,   -999.0,9,   -999.0,9,-999.0000,9,  -999.00,      618
  49UP20170623,RF1707,  6042,  1,     11,  25820,2,20170701,0524, 46.5850, 159.1768, 5118,   2773.1,   1.5440,  34.6593,2,  34.6596,2,    123.0,2,   158.25,2,    37.93,2,     0.00,2,     2.65,2, -999.000,9, -999.000,9,   -999.0,9,   -999.0,9,-999.0000,9,  -999.00,      613
  49UP20170623,RF1707,  6042,  1,     10,  25819,2,20170701,0524, 46.5850, 159.1768, 5118,   2974.2,   1.5065,  34.6663,2,  34.6655,2,    130.6,2,   156.20,2,    37.46,2,     0.00,2,     2.62,2, -999.000,9, -999.000,9,   -999.0,9,   -999.0,9,-999.0000,9,  -999.00,      609
  49UP20170623,RF1707,  6042,  1,      9,  25818,2,20170701,0524, 46.5850, 159.1768, 5118,   3222.3,   1.4805,  34.6719,2,  34.6722,2,    136.6,2,   154.68,2,    37.03,2,     0.00,2,     2.59,2, -999.000,9, -999.000,9,   -999.0,9,   -999.0,9,-999.0000,9,  -999.00,      604
  49UP20170623,RF1707,  6042,  1,      8,  25817,2,20170701,0524, 46.5850, 159.1768, 5118,   3477.8,   1.4607,  34.6768,2,  34.6763,6,    143.0,2,   152.99,2,    36.68,2,     0.00,2,     2.55,2, -999.000,9, -999.000,9,   -999.0,9,   -999.0,9,-999.0000,9,  -999.00,      559
  49UP20170623,RF1707,  6042,  1,      7,  25816,2,20170701,0524, 46.5850, 159.1768, 5118,   3733.5,   1.4492,  34.6809,2,  34.6807,2,    147.7,2,   151.80,2,    36.36,2,     0.00,2,     2.54,2, -999.000,9, -999.000,9,   -999.0,9,   -999.0,9,-999.0000,9,  -999.00,      554
  49UP20170623,RF1707,  6042,  1,      6,  25815,2,20170701,0524, 46.5850, 159.1768, 5118,   3990.2,   1.4479,  34.6838,2,  34.6843,6,    151.7,6,   150.86,6,    36.09,6,     0.00,6,     2.51,6, -999.000,9, -999.000,9,   -999.0,9,   -999.0,9,-999.0000,9,  -999.00,      549
  49UP20170623,RF1707,  6042,  1,      5,  25814,2,20170701,0524, 46.5850, 159.1768, 5118,   4245.2,   1.4549,  34.6861,2,  34.6851,2,    153.8,2,   150.42,2,    35.92,2,     0.00,2,     2.49,2, -999.000,9, -999.000,9,   -999.0,9,   -999.0,9,-999.0000,9,  -999.00,      543
  49UP20170623,RF1707,  6042,  1,      4,  25813,2,20170701,0524, 46.5850, 159.1768, 5118,   4502.7,   1.4699,  34.6876,2,  34.6879,2,    155.9,2,   150.50,2,    35.78,2,     0.00,2,     2.49,2, -999.000,9, -999.000,9,   -999.0,9,   -999.0,9,-999.0000,9,  -999.00,      538
  49UP20170623,RF1707,  6042,  1,      3,  25812,2,20170701,0524, 46.5850, 159.1768, 5118,   4760.7,   1.4934,  34.6884,2,  34.6887,2,    156.8,2,   151.01,2,    35.72,2,     0.00,2,     2.49,2, -999.000,9, -999.000,9,   -999.0,9,   -999.0,9,-999.0000,9,  -999.00,      533
  49UP20170623,RF1707,  6042,  1,      2,  25811,2,20170701,0524, 46.5850, 159.1768, 5118,   5017.8,   1.5161,  34.6894,2,  34.6905,6,    158.0,2,   149.83,2,    35.57,2,     0.00,2,     2.47,2, -999.000,9, -999.000,9,   -999.0,9,   -999.0,9,-999.0000,9,  -999.00,      528
  49UP20170623,RF1707,  6042,  1,      1,  25810,2,20170701,0524, 46.5850, 159.1768, 5118,   5202.2,   1.5345,  34.6899,2,  34.6909,2,    159.1,2,   149.43,2,    35.53,2,     0.00,2,     2.47,2, -999.000,9, -999.000,9,   -999.0,9,   -999.0,9,-999.0000,9,  -999.00,      524