BOTTLE,20200306PRINUNIVRMK
EXPOCODE,SECT_ID,STNNBR,CASTNO,SAMPNO,BTLNBR,BTLNBR_FLAG_W,DATE,TIME,LATITUDE,LONGITUDE,DEPTH,CTDPRS,CTDTMP,CTDSAL,CTDSAL_FLAG_W,SALNTY,SALNTY_FLAG_W,OXYGEN,OXYGEN_FLAG_W,SILCAT,SILCAT_FLAG_W,NITRAT,NITRAT_FLAG_W,NITRIT,NITRIT_FLAG_W,PHSPHT,PHSPHT_FLAG_W,TCARBN,TCARBN_FLAG_W,ALKALI,ALKALI_FLAG_W,PH_TOT,PH_TOT_FLAG_W,PH_TMP,BTL_TIME
,,,,,,,,,,,METERS,DBAR,ITS-90,PSS-78,,PSS-78,,UMOL/KG,,UMOL/KG,,UMOL/KG,,UMOL/KG,,UMOL/KG,,UMOL/KG,,UMOL/KG,,,,DEG C,
  49UP20161021,RF1608,  5916,  1,     99,     99,2,20161029,1921, 39.4917, 136.1705, 2004,      0.0,  18.0077,  33.0234,2,-999.0000,9,    235.6,2,     2.43,2,     0.13,2,     0.02,2,     0.02,2,   -999.0,9,   -999.0,9,-999.0000,9,  -999.00,     1955
  49UP20161021,RF1608,  5916,  1,     36,  22109,2,20161029,1921, 39.4917, 136.1705, 2004,     12.2,  18.0109,  33.0234,2,-999.0000,9,    235.4,2,     2.43,2,     0.08,2,     0.02,2,     0.01,2,   -999.0,9,   -999.0,9,-999.0000,9,  -999.00,     2022
  49UP20161021,RF1608,  5916,  1,     35,  22112,2,20161029,1921, 39.4917, 136.1705, 2004,     26.6,  18.0231,  33.0215,2,-999.0000,9,    235.2,2,     2.43,2,     0.09,2,     0.02,2,     0.01,2,   -999.0,9,   -999.0,9,-999.0000,9,  -999.00,     2021
  49UP20161021,RF1608,  5916,  1,     34,  22094,2,20161029,1921, 39.4917, 136.1705, 2004,     51.2,  14.4183,  33.9518,2,-999.0000,9,    218.0,2,     8.90,2,     5.62,2,     0.17,2,     0.40,2,   -999.0,9,   -999.0,9,-999.0000,9,  -999.00,     2020
  49UP20161021,RF1608,  5916,  1,     33,  24469,2,20161029,1921, 39.4917, 136.1705, 2004,     77.5,  10.0519,  34.1851,2,-999.0000,9,    232.4,2,    11.17,2,     8.91,2,     0.02,2,     0.66,3,   -999.0,9,   -999.0,9,-999.0000,9,  -999.00,     2018
  49UP20161021,RF1608,  5916,  1,     32,  25089,2,20161029,1921, 39.4917, 136.1705, 2004,    102.4,   6.1533,  34.0126,2,-999.0000,9,    270.7,2,     9.93,2,     8.70,2,     0.01,2,     0.66,2,   -999.0,9,   -999.0,9,-999.0000,9,  -999.00,     2017
  49UP20161021,RF1608,  5916,  1,     31,  23515,2,20161029,1921, 39.4917, 136.1705, 2004,    127.2,   4.2756,  33.9921,2,-999.0000,9,    273.4,2,    12.38,2,    10.51,2,     0.01,2,     0.80,2,   -999.0,9,   -999.0,9,-999.0000,9,  -999.00,     2016
  49UP20161021,RF1608,  5916,  1,     30,  22097,2,20161029,1921, 39.4917, 136.1705, 2004,    152.3,   3.2181,  34.0158,2,-999.0000,9,    264.8,2,    18.19,2,    13.93,2,     0.00,2,     1.04,2,   -999.0,9,   -999.0,9,-999.0000,9,  -999.00,     2013
  49UP20161021,RF1608,  5916,  1,     29,  22102,2,20161029,1921, 39.4917, 136.1705, 2004,    202.6,   1.9189,  34.0287,2,-999.0000,9,    254.4,6,    25.32,6,    17.61,6,     0.00,6,     1.32,6,   -999.0,9,   -999.0,9,-999.0000,9,  -999.00,     2011
  49UP20161021,RF1608,  5916,  1,     24,  22110,2,20161029,1921, 39.4917, 136.1705, 2004,    253.1,   1.3385,  34.0401,2,-999.0000,9,    248.8,2,    29.46,2,    19.59,2,     0.00,2,     1.46,2,   -999.0,9,   -999.0,9,-999.0000,9,  -999.00,     2009
  49UP20161021,RF1608,  5916,  1,     23,  23679,2,20161029,1921, 39.4917, 136.1705, 2004,    253.1,   1.3344,  34.0403,2,-999.0000,9,    247.8,2,    29.67,2,    19.65,2,     0.00,2,     1.47,2,   -999.0,9,   -999.0,9,-999.0000,9,  -999.00,     2009
  49UP20161021,RF1608,  5916,  1,     22,  22111,2,20161029,1921, 39.4917, 136.1705, 2004,    302.8,   1.0880,  34.0466,2,-999.0000,9,    247.6,2,    30.96,2,    20.33,2,     0.00,2,     1.52,2,   -999.0,9,   -999.0,9,-999.0000,9,  -999.00,     2007
  49UP20161021,RF1608,  5916,  1,     21,  22078,2,20161029,1921, 39.4917, 136.1705, 2004,    404.0,   0.8374,  34.0605,2,-999.0000,9,    224.6,2,    39.16,2,    23.14,2,     0.00,2,     1.75,2,   -999.0,9,   -999.0,9,-999.0000,9,  -999.00,     2004
  49UP20161021,RF1608,  5916,  1,     20,  22093,2,20161029,1921, 39.4917, 136.1705, 2004,    504.6,   0.7064,  34.0663,2,-999.0000,9,    209.6,2,    46.53,2,    24.61,2,     0.00,2,     1.89,2,   -999.0,9,   -999.0,9,-999.0000,9,  -999.00,     2001
  49UP20161021,RF1608,  5916,  1,     19,  24269,2,20161029,1921, 39.4917, 136.1705, 2004,    608.2,   0.5708,  34.0695,2,-999.0000,9,    204.2,2,    52.01,2,    25.20,2,     0.00,2,     1.94,2,   -999.0,9,   -999.0,9,-999.0000,9,  -999.00,     1959
  49UP20161021,RF1608,  5916,  1,     18,  25088,2,20161029,1921, 39.4917, 136.1705, 2004,    708.4,   0.4697,  34.0697,2,-999.0000,9,    201.0,6,    58.44,6,    25.37,6,     0.00,6,     1.96,6,   -999.0,9,   -999.0,9,-999.0000,9,  -999.00,     1956
  49UP20161021,RF1608,  5916,  1,     16,  24474,2,20161029,1921, 39.4917, 136.1705, 2004,    808.9,   0.4040,  34.0697,2,-999.0000,9,    200.3,2,    62.35,2,    25.45,2,     0.00,2,     1.97,2,   -999.0,9,   -999.0,9,-999.0000,9,  -999.00,     1953
  49UP20161021,RF1608,  5916,  1,     17,  22090,2,20161029,1921, 39.4917, 136.1705, 2004,    809.3,   0.4043,  34.0699,2,-999.0000,9,    200.2,2,    62.18,2,    25.50,2,     0.00,2,     1.97,2,   -999.0,9,   -999.0,9,-999.0000,9,  -999.00,     1953
  49UP20161021,RF1608,  5916,  1,     15,  22665,2,20161029,1921, 39.4917, 136.1705, 2004,    910.9,   0.3586,  34.0697,2,-999.0000,9,    199.8,2,    64.82,2,    25.49,2,     0.00,2,     1.97,2,   -999.0,9,   -999.0,9,-999.0000,9,  -999.00,     1950
  49UP20161021,RF1608,  5916,  1,     14,  21999,2,20161029,1921, 39.4917, 136.1705, 2004,   1011.2,   0.3148,  34.0693,2,-999.0000,9,    199.4,2,    68.33,2,    25.53,2,     0.00,2,     1.98,2,   -999.0,9,   -999.0,9,-999.0000,9,  -999.00,     1945
  49UP20161021,RF1608,  5916,  1,     13,  22667,2,20161029,1921, 39.4917, 136.1705, 2004,   1215.4,   0.2601,  34.0686,2,-999.0000,9,    199.5,2,    73.34,2,    25.57,2,     0.00,2,     1.99,2,   -999.0,9,   -999.0,9,-999.0000,9,  -999.00,     1940
  49UP20161021,RF1608,  5916,  1,      9,  23518,2,20161029,1921, 39.4917, 136.1705, 2004,   1417.8,   0.2407,  34.0682,2,-999.0000,9,    199.3,2,    76.98,2,    25.63,2,     0.00,2,     1.99,2,   -999.0,9,   -999.0,9,-999.0000,9,  -999.00,     1936
  49UP20161021,RF1608,  5916,  1,      8,  24470,2,20161029,1921, 39.4917, 136.1705, 2004,   1619.4,   0.2278,  34.0679,2,-999.0000,9,    198.9,2,    80.27,2,    25.68,2,     0.00,2,     2.00,2,   -999.0,9,   -999.0,9,-999.0000,9,  -999.00,     1929
  49UP20161021,RF1608,  5916,  1,      7,  23516,2,20161029,1921, 39.4917, 136.1705, 2004,   1823.3,   0.2287,  34.0679,2,-999.0000,9,    198.5,2,    83.01,2,    25.74,2,     0.00,2,     2.01,2,   -999.0,9,   -999.0,9,-999.0000,9,  -999.00,     1925
  49UP20161021,RF1608,  5916,  1,      6,  22113,2,20161029,1921, 39.4917, 136.1705, 2004,   1945.6,   0.2278,  34.0679,2,  34.0678,6,    197.7,2,    85.15,2,    25.87,2,     0.00,2,     2.02,2,   -999.0,9,   -999.0,9,-999.0000,9,  -999.00,     1921
  49UP20161021,RF1608,  5918,  1,     99,     99,2,20161030,0331, 39.4792, 136.6952, 2665,      0.0,  17.5572,  33.0713,2,  33.0568,2,    238.5,2,     2.80,2,     0.04,2,     0.01,2,     0.01,2,   1980.9,2,   2242.1,2,   8.0285,2,    25.00,      417
  49UP20161021,RF1608,  5918,  1,     36,  22109,2,20161030,0331, 39.4792, 136.6952, 2665,     12.0,  17.5607,  33.0708,2,  33.0694,2,    239.0,2,     2.82,2,     0.03,2,     0.00,2,     0.01,2,   1977.1,2,   2242.4,2,   8.0267,2,    25.00,      458
  49UP20161021,RF1608,  5918,  1,     35,  22112,2,20161030,0331, 39.4792, 136.6952, 2665,     27.9,  17.4764,  33.1212,2,  33.1207,2,    238.9,2,     3.13,2,     0.04,2,     0.00,2,     0.01,2,   1976.9,2,   2244.7,2,   8.0269,2,    25.00,      457
  49UP20161021,RF1608,  5918,  1,     34,  22094,2,20161030,0331, 39.4792, 136.6952, 2665,     53.2,  17.1664,  33.4008,2,  33.3137,4,    235.7,2,     4.06,2,     0.48,2,     0.07,2,     0.05,2,   1990.5,2,   2251.2,2,   8.0082,2,    25.00,      456
  49UP20161021,RF1608,  5918,  1,     33,  24469,2,20161030,0331, 39.4792, 136.6952, 2665,     77.5,  11.0514,  34.1813,2,  34.1824,2,    244.4,6,     7.87,6,     6.06,6,     0.03,6,     0.47,6,   2080.2,2,   2273.0,2,   7.8492,2,    25.00,      455
  49UP20161021,RF1608,  5918,  1,     31,  23515,2,20161030,0331, 39.4792, 136.6952, 2665,    103.4,   7.1693,  34.0790,2,  34.0781,2,    252.1,2,    11.14,2,    10.07,2,     0.01,2,     0.74,2,   2114.2,2,   2266.1,2,   7.7668,2,    25.00,      451
  49UP20161021,RF1608,  5918,  1,     32,  25089,2,20161030,0331, 39.4792, 136.6952, 2665,    104.2,   7.0635,  34.0729,2,  34.0754,2,    252.1,2,    11.21,2,    10.08,2,     0.01,2,     0.74,2,   2116.6,2,   2266.1,2,   7.7638,2,    25.00,      451
  49UP20161021,RF1608,  5918,  1,     30,  22097,2,20161030,0331, 39.4792, 136.6952, 2665,    128.7,   4.5542,  34.0134,2,  34.0260,2,    262.7,2,    14.38,2,    11.78,2,     0.01,2,     0.89,2,   2140.7,2,   2261.0,2,   7.6933,2,    25.00,      450
  49UP20161021,RF1608,  5918,  1,     29,  22102,2,20161030,0331, 39.4792, 136.6952, 2665,    154.3,   2.8851,  34.0135,2,  34.0132,2,    255.5,2,    20.81,2,    15.31,2,     0.00,2,     1.15,2,   2178.8,2,   2259.9,2,   7.6031,2,    25.00,      448
  49UP20161021,RF1608,  5918,  1,     28,  24472,2,20161030,0331, 39.4792, 136.6952, 2665,    205.0,   1.7335,  34.0292,2,  34.0268,2,    263.4,2,    24.01,2,    16.92,2,     0.00,2,     1.27,2,   2185.8,2,   2260.1,2,   7.5729,2,    25.00,      446
  49UP20161021,RF1608,  5918,  1,     23,  23679,2,20161030,0331, 39.4792, 136.6952, 2665,    255.2,   1.3111,  34.0366,2,  34.0357,2,    260.9,2,    26.52,2,    18.29,2,     0.00,2,     1.36,2,   2191.5,2,   2259.3,2,   7.5421,2,    25.00,      444
  49UP20161021,RF1608,  5918,  1,     22,  22111,2,20161030,0331, 39.4792, 136.6952, 2665,    305.3,   1.0919,  34.0464,2,  34.0458,2,    248.1,2,    30.73,2,    20.18,2,     0.00,2,     1.52,2,   2204.2,2,   2260.8,2,   7.5072,2,    25.00,      442
  49UP20161021,RF1608,  5918,  1,     21,  22078,2,20161030,0331, 39.4792, 136.6952, 2665,    408.2,   0.8075,  34.0606,2,  34.0605,2,    225.1,6,    38.77,6,    23.11,6,     0.00,6,     1.76,6,   2222.2,2,   2261.5,2,   7.4490,2,    25.00,      437
  49UP20161021,RF1608,  5918,  1,     20,  22093,2,20161030,0331, 39.4792, 136.6952, 2665,    507.9,   0.6651,  34.0673,2,  34.0677,6,    208.3,2,    47.36,2,    24.68,2,     0.00,2,     1.90,2,   2236.4,2,   2264.2,2,   7.4160,2,    25.00,      433
  49UP20161021,RF1608,  5918,  1,     19,  24269,2,20161030,0331, 39.4792, 136.6952, 2665,    608.3,   0.5562,  34.0696,2,  34.0695,2,    203.8,2,    52.76,2,    25.16,2,     0.00,2,     1.95,2,   2242.3,2,   2267.1,2,   7.4090,2,    25.00,      429
  49UP20161021,RF1608,  5918,  1,     18,  25088,2,20161030,0331, 39.4792, 136.6952, 2665,    708.8,   0.4738,  34.0701,2,  34.0699,2,    201.6,2,    57.27,2,    25.30,2,     0.00,2,     1.96,2,   2244.4,6,   2268.4,6,   7.4104,2,    25.00,      426
  49UP20161021,RF1608,  5918,  1,     17,  22090,2,20161030,0331, 39.4792, 136.6952, 2665,    810.3,   0.4124,  34.0701,2,  34.0702,6,    200.8,2,    60.70,2,    25.37,2,     0.00,2,     1.96,2,   2247.0,2,   2271.3,2,   7.4040,6,    25.00,      419
  49UP20161021,RF1608,  5918,  1,     16,  24474,2,20161030,0331, 39.4792, 136.6952, 2665,    909.4,   0.3608,  34.0694,2,  34.0705,2,    200.2,2,    64.47,2,    25.44,2,     0.00,2,     1.97,2,   2246.4,2,   2272.5,2,   7.4114,2,    25.00,      416
  49UP20161021,RF1608,  5918,  1,     15,  22665,2,20161030,0331, 39.4792, 136.6952, 2665,   1011.8,   0.3251,  34.0692,2,  34.0695,2,    199.4,2,    67.81,2,    25.45,2,     0.00,2,     1.98,2,   2247.4,2,   2273.9,2,   7.4124,2,    25.00,      413
  49UP20161021,RF1608,  5918,  1,     14,  21999,2,20161030,0331, 39.4792, 136.6952, 2665,   1213.4,   0.2688,  34.0684,2,  34.0688,2,    199.0,2,    73.79,2,    25.53,2,     0.00,2,     1.99,2,   2248.7,2,   2276.0,2,   7.4172,2,    25.00,      407
  49UP20161021,RF1608,  5918,  1,     13,  22667,2,20161030,0331, 39.4792, 136.6952, 2665,   1416.0,   0.2436,  34.0681,2,  34.0690,2,    199.9,2,    76.58,2,    25.52,2,     0.00,2,     1.99,2,   2251.8,2,   2278.7,2,   7.4237,2,    25.00,      401
  49UP20161021,RF1608,  5918,  1,     12,  22074,2,20161030,0331, 39.4792, 136.6952, 2665,   1619.2,   0.2315,  34.0681,2,  34.0678,2,    198.8,2,    80.10,2,    25.64,2,     0.00,2,     2.00,2,   2254.1,6,   2280.8,6,   7.4241,2,    25.00,      356
  49UP20161021,RF1608,  5918,  1,     11,  24268,2,20161030,0331, 39.4792, 136.6952, 2665,   1822.6,   0.2283,  34.0678,2,  34.0681,2,    198.9,2,    82.10,2,    25.68,2,     0.00,2,     2.01,2,   2252.6,2,   2280.1,2,   7.4234,6,    25.00,      351
  49UP20161021,RF1608,  5918,  1,      8,  24470,2,20161030,0331, 39.4792, 136.6952, 2665,   2027.3,   0.2319,  34.0679,2,  34.0675,6,    198.9,6,    83.95,6,    25.73,6,     0.00,6,     2.01,6,   2254.3,2,   2283.2,2,   7.4226,2,    25.00,      345
  49UP20161021,RF1608,  5918,  1,     10,  24267,2,20161030,0331, 39.4792, 136.6952, 2665,   2027.5,   0.2319,  34.0679,2,  34.0687,6,    198.9,6,  -999.00,9,  -999.00,9,  -999.00,9,  -999.00,9,   -999.0,9,   -999.0,9,-999.0000,9,  -999.00,      345
  49UP20161021,RF1608,  5918,  1,      9,  23518,2,20161030,0331, 39.4792, 136.6952, 2665,   2028.0,   0.2319,  34.0679,2,  34.0692,2,    198.9,6,  -999.00,9,  -999.00,9,  -999.00,9,  -999.00,9,   -999.0,9,   -999.0,9,-999.0000,9,  -999.00,      345
  49UP20161021,RF1608,  5918,  1,      7,  23516,2,20161030,0331, 39.4792, 136.6952, 2665,   2279.4,   0.2422,  34.0679,2,  34.0677,2,    198.4,2,    86.32,2,    25.82,2,     0.00,2,     2.02,2,   2254.6,6,   2283.7,6,   7.4247,2,    25.00,      340
  49UP20161021,RF1608,  5918,  1,      6,  22113,2,20161030,0331, 39.4792, 136.6952, 2665,   2535.6,   0.2576,  34.0679,2,  34.0678,2,    198.3,2,    87.15,2,    25.85,2,     0.00,2,     2.02,2,   2253.9,2,   2285.4,2,   7.4284,2,    25.00,      334
  49UP20161021,RF1608,  5918,  1,      5,  24658,2,20161030,0331, 39.4792, 136.6952, 2665,   2536.5,   0.2578,  34.0679,2,  34.0682,2,    198.2,2,    87.31,2,    25.87,2,     0.00,2,     2.02,2,   2258.4,2,   2286.6,2,   7.4271,2,    25.00,      334
  49UP20161021,RF1608,  5918,  1,      4,  24471,2,20161030,0331, 39.4792, 136.6952, 2665,   2636.1,   0.2636,  34.0680,2,  34.0681,2,    198.3,2,    87.87,2,    25.86,2,     0.00,2,     2.02,2,   2255.8,2,   2284.7,2,   7.4268,6,    25.00,      331