BOTTLE,20200306PRINUNIVRMK
# 08/30/2019 Initialized README file  
# Data source:  Masao Ishii 2018/11/30 
# SHIP: R/V Ryofu Maru III 
# Cruise: RF16.08 
# Region: Sea of Japan 
# EXPOCODE: 49UP20161021 
# DATES: 20161021-20161206 
# Chief Scientist: Naoki Nagai 
# 34 stations with 36 place Rosette 
# CTD: Who - Kazuhiro Nemoto; Status - final 
# 	Includes: CTDSAL 
# SALNTY: Who - Kazuhiro Nemoto; Status - final 
# 	Notes: 	 
# Nutrients: Who - Kazuhiro Nemoto; Status - final 
# 	Includes: nitrate, nitrite, silicate, phosphate 
# 	Nitrite and NO3+NO2 reported. Separated by subtraction 
# OXYGEN: Who - Kazuhiro Nemoto; Status - final 
# 	Notes: 
# TCARBN: Who - Kazuhiro Nemoto; Status - final 
# 	Notes:  
# ALKALI: Who - Kazuhiro Nemoto; Status - final 
# 	Notes:  
# PH: Who - Kazuhiro Nemoto; Status - final 
# 	Notes:  
# CFC: Who - Kazuhiro Nemoto; Status - unknown 
# 	Notes: no data in file 
# These data should be cited as:               
# References that have used data from this cruise: 
EXPOCODE,SECT_ID,STNNBR,CASTNO,SAMPNO,BTLNBR,BTLNBR_FLAG_W,DATE,TIME,LATITUDE,LONGITUDE,DEPTH,CTDPRS,CTDTMP,CTDSAL,CTDSAL_FLAG_W,SALNTY,SALNTY_FLAG_W,OXYGEN,OXYGEN_FLAG_W,SILCAT,SILCAT_FLAG_W,NITRAT,NITRAT_FLAG_W,NITRIT,NITRIT_FLAG_W,PHSPHT,PHSPHT_FLAG_W,TCARBN,TCARBN_FLAG_W,ALKALI,ALKALI_FLAG_W,PH_TOT,PH_TOT_FLAG_W,PH_TMP,BTL_TIME
,,,,,,,,,,,METERS,DBAR,ITS-90,PSS-78,,PSS-78,,UMOL/KG,,UMOL/KG,,UMOL/KG,,UMOL/KG,,UMOL/KG,,UMOL/KG,,UMOL/KG,,,,DEG C,
  49UP20161021,RF1608,  5896,  1,     19,  24269,2,20161022,1029, 38.0073, 143.3328,   -9,   2533.7,   1.6882,  34.6407,2,-999.0000,9,   -999.0,9,  -999.00,9,  -999.00,9,  -999.00,9,  -999.00,9,   -999.0,9,   -999.0,9,-999.0000,9,  -999.00,     1029
  49UP20161021,RF1608,  5896,  1,     15,  22665,2,20161022,1029, 38.0073, 143.3328,   -9,   2533.9,   1.6884,  34.6407,2,-999.0000,9,   -999.0,9,  -999.00,9,  -999.00,9,  -999.00,9,  -999.00,9,   -999.0,9,   -999.0,9,-999.0000,9,  -999.00,     1029
  49UP20161021,RF1608,  5896,  1,     11,  24268,2,20161022,1029, 38.0073, 143.3328,   -9,   2533.9,   1.6888,  34.6406,2,-999.0000,9,   -999.0,9,  -999.00,9,  -999.00,9,  -999.00,9,  -999.00,9,   -999.0,9,   -999.0,9,-999.0000,9,  -999.00,     1028
  49UP20161021,RF1608,  5896,  1,     27,  21998,2,20161022,1029, 38.0073, 143.3328,   -9,   2534.1,   1.6875,  34.6407,2,-999.0000,9,   -999.0,9,  -999.00,9,  -999.00,9,  -999.00,9,  -999.00,9,   -999.0,9,   -999.0,9,-999.0000,9,  -999.00,     1030
  49UP20161021,RF1608,  5896,  1,      1,  21997,2,20161022,1029, 38.0073, 143.3328,   -9,   2534.1,   1.6905,  34.6405,2,-999.0000,9,   -999.0,9,  -999.00,9,  -999.00,9,  -999.00,9,  -999.00,9,   -999.0,9,   -999.0,9,-999.0000,9,  -999.00,     1027
  49UP20161021,RF1608,  5896,  1,      7,  23516,2,20161022,1029, 38.0073, 143.3328,   -9,   2534.2,   1.6888,  34.6407,2,-999.0000,9,   -999.0,9,  -999.00,9,  -999.00,9,  -999.00,9,  -999.00,9,   -999.0,9,   -999.0,9,-999.0000,9,  -999.00,     1028
  49UP20161021,RF1608,  5896,  1,      3,  22104,2,20161022,1029, 38.0073, 143.3328,   -9,   2534.2,   1.6902,  34.6404,2,-999.0000,9,   -999.0,9,  -999.00,9,  -999.00,9,  -999.00,9,  -999.00,9,   -999.0,9,   -999.0,9,-999.0000,9,  -999.00,     1028
  49UP20161021,RF1608,  5896,  1,     29,  22102,2,20161022,1029, 38.0073, 143.3328,   -9,   2534.2,   1.6879,  34.6405,2,-999.0000,9,   -999.0,9,  -999.00,9,  -999.00,9,  -999.00,9,  -999.00,9,   -999.0,9,   -999.0,9,-999.0000,9,  -999.00,     1030
  49UP20161021,RF1608,  5896,  1,     21,  22078,2,20161022,1029, 38.0073, 143.3328,   -9,   2534.3,   1.6880,  34.6406,2,-999.0000,9,   -999.0,9,  -999.00,9,  -999.00,9,  -999.00,9,  -999.00,9,   -999.0,9,   -999.0,9,-999.0000,9,  -999.00,     1029
  49UP20161021,RF1608,  5896,  1,     23,  23679,2,20161022,1029, 38.0073, 143.3328,   -9,   2534.3,   1.6878,  34.6407,2,-999.0000,9,   -999.0,9,  -999.00,9,  -999.00,9,  -999.00,9,  -999.00,9,   -999.0,9,   -999.0,9,-999.0000,9,  -999.00,     1030
  49UP20161021,RF1608,  5896,  1,      9,  23518,2,20161022,1029, 38.0073, 143.3328,   -9,   2534.3,   1.6884,  34.6408,2,-999.0000,9,   -999.0,9,  -999.00,9,  -999.00,9,  -999.00,9,  -999.00,9,   -999.0,9,   -999.0,9,-999.0000,9,  -999.00,     1028
  49UP20161021,RF1608,  5896,  1,      5,  24658,2,20161022,1029, 38.0073, 143.3328,   -9,   2534.4,   1.6894,  34.6407,2,-999.0000,9,   -999.0,9,  -999.00,9,  -999.00,9,  -999.00,9,  -999.00,9,   -999.0,9,   -999.0,9,-999.0000,9,  -999.00,     1028
  49UP20161021,RF1608,  5896,  1,     17,  22090,2,20161022,1029, 38.0073, 143.3328,   -9,   2534.6,   1.6878,  34.6408,2,-999.0000,9,   -999.0,9,  -999.00,9,  -999.00,9,  -999.00,9,  -999.00,9,   -999.0,9,   -999.0,9,-999.0000,9,  -999.00,     1029
  49UP20161021,RF1608,  5896,  1,     25,  22098,2,20161022,1029, 38.0073, 143.3328,   -9,   2534.6,   1.6873,  34.6409,2,-999.0000,9,   -999.0,9,  -999.00,9,  -999.00,9,  -999.00,9,  -999.00,9,   -999.0,9,   -999.0,9,-999.0000,9,  -999.00,     1030
  49UP20161021,RF1608,  5896,  1,     13,  22667,2,20161022,1029, 38.0073, 143.3328,   -9,   2534.8,   1.6881,  34.6408,4,-999.0000,9,   -999.0,9,  -999.00,9,  -999.00,9,  -999.00,9,  -999.00,9,   -999.0,9,   -999.0,9,-999.0000,9,  -999.00,     1029
  49UP20161021,RF1608,  5897,  1,     99,     99,2,20161024,1913, 39.7507, 137.2447, 2612,      0.0,  19.9202,  33.7117,2,-999.0000,9,    227.9,2,     2.35,2,     0.05,2,     0.00,2,     0.01,2,   -999.0,9,   -999.0,9,-999.0000,9,  -999.00,     2015
  49UP20161021,RF1608,  5897,  1,     36,  22109,2,20161024,1913, 39.7507, 137.2447, 2612,     11.7,  19.9332,  33.7245,2,  33.7236,2,    227.8,2,     2.35,2,     0.04,2,     0.00,2,     0.02,2,   -999.0,9,   -999.0,9,-999.0000,9,  -999.00,     2042
  49UP20161021,RF1608,  5897,  1,     35,  22112,2,20161024,1913, 39.7507, 137.2447, 2612,     12.1,  19.9335,  33.7253,2,  33.7219,2,    227.9,2,     2.33,2,     0.03,2,     0.00,2,     0.01,2,   -999.0,9,   -999.0,9,-999.0000,9,  -999.00,     2041
  49UP20161021,RF1608,  5897,  1,     34,  22094,2,20161024,1913, 39.7507, 137.2447, 2612,     26.7,  19.9060,  33.7509,2,  33.7522,6,    228.3,6,     2.35,6,     0.04,6,     0.00,6,     0.02,6,   -999.0,9,   -999.0,9,-999.0000,9,  -999.00,     2040
  49UP20161021,RF1608,  5897,  1,     33,  24469,2,20161024,1913, 39.7507, 137.2447, 2612,     52.3,  17.1183,  34.4759,2,  34.4648,4,    218.2,2,     5.11,2,     2.69,2,     0.04,2,     0.24,2,   -999.0,9,   -999.0,9,-999.0000,9,  -999.00,     2039
  49UP20161021,RF1608,  5897,  1,     32,  25089,2,20161024,1913, 39.7507, 137.2447, 2612,     76.6,  15.4065,  34.4711,2,  34.4731,2,    213.6,2,     6.27,2,     4.38,2,     0.02,2,     0.34,2,   -999.0,9,   -999.0,9,-999.0000,9,  -999.00,     2037
  49UP20161021,RF1608,  5897,  1,     31,  23515,2,20161024,1913, 39.7507, 137.2447, 2612,    103.8,  13.2073,  34.3159,2,  34.3228,2,    228.3,2,     5.40,2,     4.94,2,     0.01,2,     0.37,2,   -999.0,9,   -999.0,9,-999.0000,9,  -999.00,     2036
  49UP20161021,RF1608,  5897,  1,     30,  22097,2,20161024,1913, 39.7507, 137.2447, 2612,    127.4,  11.6379,  34.2154,2,  34.2114,2,    240.5,2,     6.00,2,     6.50,2,     0.00,2,     0.46,2,   -999.0,9,   -999.0,9,-999.0000,9,  -999.00,     2034
  49UP20161021,RF1608,  5897,  1,     29,  22102,2,20161024,1913, 39.7507, 137.2447, 2612,    152.8,   9.8489,  34.1591,2,  34.1421,4,    245.1,2,     8.46,2,     8.47,2,     0.00,2,     0.60,2,   -999.0,9,   -999.0,9,-999.0000,9,  -999.00,     2033
  49UP20161021,RF1608,  5897,  1,     28,  24472,2,20161024,1913, 39.7507, 137.2447, 2612,    204.6,   4.0288,  34.0231,2,  34.0231,2,    255.3,6,    17.56,6,    13.77,6,     0.00,6,     1.02,6,   -999.0,9,   -999.0,9,-999.0000,9,  -999.00,     2031
  49UP20161021,RF1608,  5897,  1,     27,  21998,2,20161024,1913, 39.7507, 137.2447, 2612,    251.7,   1.6910,  34.0345,2,  34.0326,2,    249.7,2,    27.28,2,    18.54,2,     0.00,2,     1.39,2,   -999.0,9,   -999.0,9,-999.0000,9,  -999.00,     2027
  49UP20161021,RF1608,  5897,  1,     26,  22084,2,20161024,1913, 39.7507, 137.2447, 2612,    252.3,   1.6746,  34.0332,2,  34.0329,2,    250.1,2,    27.35,2,    18.57,2,     0.00,2,     1.39,2,   -999.0,9,   -999.0,9,-999.0000,9,  -999.00,     2027
  49UP20161021,RF1608,  5897,  1,     25,  22098,2,20161024,1913, 39.7507, 137.2447, 2612,    303.6,   1.2015,  34.0457,2,  34.0449,2,    243.4,2,    31.57,2,    20.54,2,     0.00,2,     1.54,2,   -999.0,9,   -999.0,9,-999.0000,9,  -999.00,     2025
  49UP20161021,RF1608,  5897,  1,     24,  22110,2,20161024,1913, 39.7507, 137.2447, 2612,    405.1,   0.8424,  34.0608,2,  34.0609,2,    222.3,2,    40.12,2,    23.38,2,     0.00,2,     1.77,2,   -999.0,9,   -999.0,9,-999.0000,9,  -999.00,     2022
  49UP20161021,RF1608,  5897,  1,     23,  23679,2,20161024,1913, 39.7507, 137.2447, 2612,    505.8,   0.6689,  34.0668,2,  34.0659,2,    206.9,2,    48.79,2,    24.87,2,     0.00,2,     1.90,2,   -999.0,9,   -999.0,9,-999.0000,9,  -999.00,     2019
  49UP20161021,RF1608,  5897,  1,     22,  22111,2,20161024,1913, 39.7507, 137.2447, 2612,    606.1,   0.5805,  34.0696,2,  34.0694,6,    204.3,2,    51.60,2,    25.26,2,     0.00,2,     1.94,2,   -999.0,9,   -999.0,9,-999.0000,9,  -999.00,     2017
  49UP20161021,RF1608,  5897,  1,     21,  22078,2,20161024,1913, 39.7507, 137.2447, 2612,    707.0,   0.4796,  34.0700,2,  34.0707,2,    200.9,2,    57.84,2,    25.49,2,     0.00,2,     1.96,2,   -999.0,9,   -999.0,9,-999.0000,9,  -999.00,     2013
  49UP20161021,RF1608,  5897,  1,     20,  22093,2,20161024,1913, 39.7507, 137.2447, 2612,    807.6,   0.4116,  34.0698,2,  34.0703,2,    200.0,2,    62.04,2,    25.54,2,     0.00,2,     1.97,2,   -999.0,9,   -999.0,9,-999.0000,9,  -999.00,     2010
  49UP20161021,RF1608,  5897,  1,     19,  24269,2,20161024,1913, 39.7507, 137.2447, 2612,    910.1,   0.3700,  34.0695,2,  34.0694,2,    199.7,2,    64.76,2,    25.59,2,     0.00,2,     1.97,2,   -999.0,9,   -999.0,9,-999.0000,9,  -999.00,     2008
  49UP20161021,RF1608,  5897,  1,     18,  25088,2,20161024,1913, 39.7507, 137.2447, 2612,   1013.6,   0.3287,  34.0695,2,  34.0696,2,    199.5,6,    67.42,6,    25.61,6,     0.00,6,     1.98,6,   -999.0,9,   -999.0,9,-999.0000,9,  -999.00,     2002
  49UP20161021,RF1608,  5897,  1,     16,  24474,2,20161024,1913, 39.7507, 137.2447, 2612,   1215.1,   0.2701,  34.0687,2,  34.0685,2,    199.8,2,    71.36,2,    25.62,2,     0.00,2,     1.98,2,   -999.0,9,   -999.0,9,-999.0000,9,  -999.00,     1955
  49UP20161021,RF1608,  5897,  1,     17,  22090,2,20161024,1913, 39.7507, 137.2447, 2612,   1215.6,   0.2696,  34.0687,2,  34.0711,4,    199.7,2,    71.43,2,    25.65,2,     0.00,2,     1.99,2,   -999.0,9,   -999.0,9,-999.0000,9,  -999.00,     1956
  49UP20161021,RF1608,  5897,  1,     15,  22665,2,20161024,1913, 39.7507, 137.2447, 2612,   1417.4,   0.2413,  34.0682,2,  34.0690,2,    199.8,2,    75.50,2,    25.64,2,     0.00,2,     1.99,2,   -999.0,9,   -999.0,9,-999.0000,9,  -999.00,     1950
  49UP20161021,RF1608,  5897,  1,     14,  21999,2,20161024,1913, 39.7507, 137.2447, 2612,   1620.8,   0.2267,  34.0680,2,  34.0688,2,    199.6,2,    78.85,2,    25.70,2,     0.00,2,     2.00,2,   -999.0,9,   -999.0,9,-999.0000,9,  -999.00,     1942
  49UP20161021,RF1608,  5897,  1,     13,  22667,2,20161024,1913, 39.7507, 137.2447, 2612,   1824.5,   0.2220,  34.0679,2,  34.0676,6,    198.6,2,    83.23,2,    25.83,2,     0.00,2,     2.02,2,   -999.0,9,   -999.0,9,-999.0000,9,  -999.00,     1937
  49UP20161021,RF1608,  5897,  1,     12,  22074,2,20161024,1913, 39.7507, 137.2447, 2612,   2028.0,   0.2218,  34.0678,2,  34.0679,2,    199.6,2,    84.15,2,    25.79,2,     0.00,2,     2.01,2,   -999.0,9,   -999.0,9,-999.0000,9,  -999.00,     1932
  49UP20161021,RF1608,  5897,  1,     11,  24268,2,20161024,1913, 39.7507, 137.2447, 2612,   2280.8,   0.2295,  34.0679,2,  34.0677,2,    200.1,2,    86.44,2,    25.86,2,     0.00,2,     2.01,2,   -999.0,9,   -999.0,9,-999.0000,9,  -999.00,     1922
  49UP20161021,RF1608,  5897,  1,     10,  24267,2,20161024,1913, 39.7507, 137.2447, 2612,   2535.8,   0.2447,  34.0679,2,  34.0675,2,    200.6,2,    86.87,2,    25.89,2,     0.00,2,     2.01,2,   -999.0,9,   -999.0,9,-999.0000,9,  -999.00,     1916
  49UP20161021,RF1608,  5897,  1,      1,  21997,2,20161024,1913, 39.7507, 137.2447, 2612,   2585.6,   0.2487,  34.0680,2,  34.0687,2,    200.9,2,    87.15,2,    25.88,2,     0.00,2,     2.01,2,   -999.0,9,   -999.0,9,-999.0000,9,  -999.00,     1913
  49UP20161021,RF1608,  5898,  1,     99,     99,2,20161025,0407, 40.0102, 137.7458, 2740,      0.0,  19.4010,  33.4143,2,-999.0000,9,    230.7,2,     2.72,2,     0.02,2,     0.00,2,     0.02,2,   -999.0,9,   -999.0,9,-999.0000,9,  -999.00,      505
  49UP20161021,RF1608,  5898,  1,     36,  22109,2,20161025,0407, 40.0102, 137.7458, 2740,     11.9,  19.4122,  33.4172,2,-999.0000,9,    230.6,6,     2.73,6,     0.00,6,     0.00,6,     0.02,6,   -999.0,9,   -999.0,9,-999.0000,9,  -999.00,      529
  49UP20161021,RF1608,  5898,  1,     34,  22094,2,20161025,0407, 40.0102, 137.7458, 2740,     26.7,  19.4775,  33.4460,2,-999.0000,9,    230.4,2,     2.72,2,     0.00,2,     0.00,2,     0.02,2,   -999.0,9,   -999.0,9,-999.0000,9,  -999.00,      528
  49UP20161021,RF1608,  5898,  1,     35,  22112,2,20161025,0407, 40.0102, 137.7458, 2740,     26.8,  19.4642,  33.4392,2,-999.0000,9,    230.2,2,     2.65,2,     0.00,2,     0.00,2,     0.02,2,   -999.0,9,   -999.0,9,-999.0000,9,  -999.00,      528
  49UP20161021,RF1608,  5898,  1,     33,  24469,2,20161025,0407, 40.0102, 137.7458, 2740,     51.8,  17.5875,  34.4380,2,-999.0000,9,    229.2,2,     3.98,2,     1.42,2,     0.09,2,     0.18,2,   -999.0,9,   -999.0,9,-999.0000,9,  -999.00,      525
  49UP20161021,RF1608,  5898,  1,     32,  25089,2,20161025,0407, 40.0102, 137.7458, 2740,     76.5,  15.1309,  34.4518,2,-999.0000,9,    213.8,2,     6.76,2,     4.72,2,     0.03,2,     0.37,2,   -999.0,9,   -999.0,9,-999.0000,9,  -999.00,      524
  49UP20161021,RF1608,  5898,  1,     31,  23515,2,20161025,0407, 40.0102, 137.7458, 2740,    102.7,  12.5406,  34.2392,2,-999.0000,9,    235.1,2,     5.18,2,     5.25,2,     0.02,2,     0.38,2,   -999.0,9,   -999.0,9,-999.0000,9,  -999.00,      523
  49UP20161021,RF1608,  5898,  1,     30,  22097,2,20161025,0407, 40.0102, 137.7458, 2740,    126.4,  10.9718,  34.1942,2,-999.0000,9,    240.9,2,     7.44,2,     7.29,2,     0.02,2,     0.52,2,   -999.0,9,   -999.0,9,-999.0000,9,  -999.00,      522
  49UP20161021,RF1608,  5898,  1,     29,  22102,2,20161025,0407, 40.0102, 137.7458, 2740,    152.5,   6.9192,  34.0623,2,-999.0000,9,    257.4,6,    11.34,6,     9.87,6,     0.01,6,     0.74,6,   -999.0,9,   -999.0,9,-999.0000,9,  -999.00,      520
  49UP20161021,RF1608,  5898,  1,     28,  24472,2,20161025,0407, 40.0102, 137.7458, 2740,    202.4,   2.8858,  34.0151,2,-999.0000,9,    267.4,2,    18.92,2,    14.15,2,     0.00,2,     1.06,2,   -999.0,9,   -999.0,9,-999.0000,9,  -999.00,      518
  49UP20161021,RF1608,  5898,  1,     27,  21998,2,20161025,0407, 40.0102, 137.7458, 2740,    202.7,   2.8734,  34.0146,2,-999.0000,9,    267.7,2,    19.03,2,    14.25,2,     0.00,2,     1.07,2,   -999.0,9,   -999.0,9,-999.0000,9,  -999.00,      518
  49UP20161021,RF1608,  5898,  1,     26,  22084,2,20161025,0407, 40.0102, 137.7458, 2740,    254.7,   1.7588,  34.0322,2,-999.0000,9,    254.9,2,    26.39,2,    17.86,2,     0.00,2,     1.34,2,   -999.0,9,   -999.0,9,-999.0000,9,  -999.00,      516
  49UP20161021,RF1608,  5898,  1,     25,  22098,2,20161025,0407, 40.0102, 137.7458, 2740,    304.3,   1.2582,  34.0415,2,-999.0000,9,    251.2,2,    29.64,2,    19.40,2,     0.00,2,     1.45,2,   -999.0,9,   -999.0,9,-999.0000,9,  -999.00,      514
  49UP20161021,RF1608,  5898,  1,     24,  22110,2,20161025,0407, 40.0102, 137.7458, 2740,    405.4,   0.8914,  34.0532,2,-999.0000,9,    243.2,2,    32.79,2,    21.28,2,     0.00,2,     1.59,2,   -999.0,9,   -999.0,9,-999.0000,9,  -999.00,      511
  49UP20161021,RF1608,  5898,  1,     23,  23679,2,20161025,0407, 40.0102, 137.7458, 2740,    507.2,   0.7461,  34.0638,2,-999.0000,9,    221.8,2,    40.52,2,    23.57,2,     0.00,2,     1.80,2,   -999.0,9,   -999.0,9,-999.0000,9,  -999.00,      509
  49UP20161021,RF1608,  5898,  1,     22,  22111,2,20161025,0407, 40.0102, 137.7458, 2740,    607.1,   0.6472,  34.0681,2,-999.0000,9,    210.8,2,    46.23,2,    24.60,2,     0.00,2,     1.90,2,   -999.0,9,   -999.0,9,-999.0000,9,  -999.00,      505
  49UP20161021,RF1608,  5898,  1,     21,  22078,2,20161025,0407, 40.0102, 137.7458, 2740,    707.7,   0.5487,  34.0701,2,-999.0000,9,    205.0,2,    52.09,2,    25.08,2,     0.00,2,     1.95,2,   -999.0,9,   -999.0,9,-999.0000,9,  -999.00,      503
  49UP20161021,RF1608,  5898,  1,     20,  22093,2,20161025,0407, 40.0102, 137.7458, 2740,    810.3,   0.4720,  34.0704,2,-999.0000,9,    202.5,2,    56.93,2,    25.27,2,     0.00,2,     1.95,2,   -999.0,9,   -999.0,9,-999.0000,9,  -999.00,      500
  49UP20161021,RF1608,  5898,  1,     19,  24269,2,20161025,0407, 40.0102, 137.7458, 2740,    911.3,   0.4043,  34.0701,2,-999.0000,9,    200.8,2,    61.32,2,    25.39,2,     0.00,2,     1.96,2,   -999.0,9,   -999.0,9,-999.0000,9,  -999.00,      457
  49UP20161021,RF1608,  5898,  1,     18,  25088,2,20161025,0407, 40.0102, 137.7458, 2740,   1012.6,   0.3530,  34.0697,2,-999.0000,9,    200.3,2,    64.76,2,    25.41,2,     0.00,2,     1.97,2,   -999.0,9,   -999.0,9,-999.0000,9,  -999.00,      452
  49UP20161021,RF1608,  5898,  1,     17,  22090,2,20161025,0407, 40.0102, 137.7458, 2740,   1212.7,   0.2868,  34.0688,2,-999.0000,9,    199.7,6,    70.67,6,    25.46,6,     0.00,6,     1.98,6,   -999.0,9,   -999.0,9,-999.0000,9,  -999.00,      447
  49UP20161021,RF1608,  5898,  1,     16,  24474,2,20161025,0407, 40.0102, 137.7458, 2740,   1417.2,   0.2593,  34.0684,2,-999.0000,9,    199.9,2,    74.41,2,    25.47,2,     0.00,2,     1.98,2,   -999.0,9,   -999.0,9,-999.0000,9,  -999.00,      442
  49UP20161021,RF1608,  5898,  1,     15,  22665,2,20161025,0407, 40.0102, 137.7458, 2740,   1417.3,   0.2594,  34.0682,2,-999.0000,9,    199.8,2,    74.45,2,    25.50,2,     0.00,2,     1.99,2,   -999.0,9,   -999.0,9,-999.0000,9,  -999.00,      442
  49UP20161021,RF1608,  5898,  1,     14,  21999,2,20161025,0407, 40.0102, 137.7458, 2740,   1620.0,   0.2374,  34.0680,2,-999.0000,9,    199.9,2,    78.17,2,    25.57,2,     0.00,2,     2.00,2,   -999.0,9,   -999.0,9,-999.0000,9,  -999.00,      436
  49UP20161021,RF1608,  5898,  1,     13,  22667,2,20161025,0407, 40.0102, 137.7458, 2740,   1823.4,   0.2302,  34.0679,2,-999.0000,9,    199.9,2,    80.57,2,    25.54,2,     0.00,2,     2.00,2,   -999.0,9,   -999.0,9,-999.0000,9,  -999.00,      431
  49UP20161021,RF1608,  5898,  1,     12,  22074,2,20161025,0407, 40.0102, 137.7458, 2740,   2026.6,   0.2282,  34.0677,2,-999.0000,9,    199.7,2,    83.53,2,    25.68,2,     0.00,2,     2.02,2,   -999.0,9,   -999.0,9,-999.0000,9,  -999.00,      426
  49UP20161021,RF1608,  5898,  1,     11,  24268,2,20161025,0407, 40.0102, 137.7458, 2740,   2281.1,   0.2350,  34.0678,2,-999.0000,9,    200.1,2,    85.70,2,    25.72,2,     0.00,2,     2.01,2,   -999.0,9,   -999.0,9,-999.0000,9,  -999.00,      420
  49UP20161021,RF1608,  5898,  1,      2,  22075,2,20161025,0407, 40.0102, 137.7458, 2740,   2536.6,   0.2470,  34.0678,2,  34.0675,2,    200.5,2,    87.16,2,    25.86,2,     0.00,2,     2.02,2,   -999.0,9,   -999.0,9,-999.0000,9,  -999.00,      412
  49UP20161021,RF1608,  5898,  1,      1,  21997,2,20161025,0407, 40.0102, 137.7458, 2740,   2711.2,   0.2611,  34.0678,2,  34.0669,2,    200.4,2,    87.09,2,    25.81,2,     0.00,2,     2.01,2,   -999.0,9,   -999.0,9,-999.0000,9,  -999.00,      407