BOTTLE,20200306PRINUNIVRMK
EXPOCODE,SECT_ID,STNNBR,CASTNO,SAMPNO,BTLNBR,BTLNBR_FLAG_W,DATE,TIME,LATITUDE,LONGITUDE,DEPTH,CTDPRS,CTDTMP,CTDSAL,CTDSAL_FLAG_W,SALNTY,SALNTY_FLAG_W,OXYGEN,OXYGEN_FLAG_W,SILCAT,SILCAT_FLAG_W,NITRAT,NITRAT_FLAG_W,NITRIT,NITRIT_FLAG_W,PHSPHT,PHSPHT_FLAG_W,TCARBN,TCARBN_FLAG_W,ALKALI,ALKALI_FLAG_W,PH_TOT,PH_TOT_FLAG_W,PH_TMP,BTL_TIME
,,,,,,,,,,,METERS,DBAR,ITS-90,PSS-78,,PSS-78,,UMOL/KG,,UMOL/KG,,UMOL/KG,,UMOL/KG,,UMOL/KG,,UMOL/KG,,UMOL/KG,,,,DEG C,
  49UP20161021,RF1608,  5920,  1,     99,     99,2,20161030,1308, 39.4995, 137.4998, 2589,      0.0,  19.3420,  33.6843,2,-999.0000,9,    229.2,2,     2.62,2,     0.16,2,     0.02,2,     0.02,2,   -999.0,9,   -999.0,9,-999.0000,9,  -999.00,     1352
  49UP20161021,RF1608,  5920,  1,     36,  22109,2,20161030,1308, 39.4995, 137.4998, 2589,     11.6,  19.3492,  33.6842,2,  33.6819,2,    229.2,2,     2.62,2,     0.13,2,     0.02,2,     0.02,2,   -999.0,9,   -999.0,9,-999.0000,9,  -999.00,     1420
  49UP20161021,RF1608,  5920,  1,     35,  22112,2,20161030,1308, 39.4995, 137.4998, 2589,     26.7,  19.3436,  33.6836,2,  33.6831,2,    229.3,2,     2.59,2,     0.13,2,     0.02,2,     0.02,2,   -999.0,9,   -999.0,9,-999.0000,9,  -999.00,     1419
  49UP20161021,RF1608,  5920,  1,     34,  22094,2,20161030,1308, 39.4995, 137.4998, 2589,     51.0,  18.0509,  34.4094,2,  34.4166,2,    221.1,2,     4.44,2,     2.16,2,     0.05,2,     0.21,2,   -999.0,9,   -999.0,9,-999.0000,9,  -999.00,     1416
  49UP20161021,RF1608,  5920,  1,     33,  24469,2,20161030,1308, 39.4995, 137.4998, 2589,     76.0,  15.7423,  34.4512,2,  34.4567,2,    217.2,2,     5.64,2,     3.63,2,     0.02,2,     0.30,2,   -999.0,9,   -999.0,9,-999.0000,9,  -999.00,     1415
  49UP20161021,RF1608,  5920,  1,     32,  25089,2,20161030,1308, 39.4995, 137.4998, 2589,    100.2,  13.1520,  34.3232,2,  34.3349,2,    230.5,2,     4.73,2,     4.71,2,     0.01,2,     0.35,2,   -999.0,9,   -999.0,9,-999.0000,9,  -999.00,     1414
  49UP20161021,RF1608,  5920,  1,     31,  23515,2,20161030,1308, 39.4995, 137.4998, 2589,    126.1,  11.6187,  34.2190,2,  34.2292,2,    239.5,2,     5.74,2,     6.21,2,     0.01,2,     0.43,2,   -999.0,9,   -999.0,9,-999.0000,9,  -999.00,     1413
  49UP20161021,RF1608,  5920,  1,     30,  22097,2,20161030,1308, 39.4995, 137.4998, 2589,    151.8,  10.5448,  34.1847,2,  34.1772,2,    243.7,6,     7.35,6,     7.61,6,     0.01,6,     0.53,6,   -999.0,9,   -999.0,9,-999.0000,9,  -999.00,     1411
  49UP20161021,RF1608,  5920,  1,     29,  22102,2,20161030,1308, 39.4995, 137.4998, 2589,    203.1,   6.5306,  34.0638,2,  34.0620,2,    254.4,2,    12.40,2,    10.77,2,     0.00,2,     0.78,2,   -999.0,9,   -999.0,9,-999.0000,9,  -999.00,     1410
  49UP20161021,RF1608,  5920,  1,     28,  24472,2,20161030,1308, 39.4995, 137.4998, 2589,    203.1,   6.5255,  34.0625,2,  34.0614,2,    254.6,2,    12.43,2,    10.80,2,     0.00,2,     0.79,2,   -999.0,9,   -999.0,9,-999.0000,9,  -999.00,     1410
  49UP20161021,RF1608,  5920,  1,     23,  23679,2,20161030,1308, 39.4995, 137.4998, 2589,    253.4,   2.6023,  34.0281,2,  34.0275,2,    247.1,2,    24.63,2,    17.10,2,     0.00,2,     1.29,2,   -999.0,9,   -999.0,9,-999.0000,9,  -999.00,     1408
  49UP20161021,RF1608,  5920,  1,     22,  22111,2,20161030,1308, 39.4995, 137.4998, 2589,    304.2,   1.5663,  34.0353,2,  34.0351,2,    253.2,2,    27.33,2,    18.54,2,     0.00,2,     1.38,2,   -999.0,9,   -999.0,9,-999.0000,9,  -999.00,     1406
  49UP20161021,RF1608,  5920,  1,     21,  22078,2,20161030,1308, 39.4995, 137.4998, 2589,    403.5,   0.9595,  34.0567,2,  34.0578,2,    225.4,2,    38.68,2,    22.73,2,     0.00,2,     1.71,2,   -999.0,9,   -999.0,9,-999.0000,9,  -999.00,     1404
  49UP20161021,RF1608,  5920,  1,     20,  22093,2,20161030,1308, 39.4995, 137.4998, 2589,    504.9,   0.7414,  34.0650,2,  34.0655,2,    212.1,2,    45.02,2,    24.38,2,     0.00,2,     1.86,2,   -999.0,9,   -999.0,9,-999.0000,9,  -999.00,     1401
  49UP20161021,RF1608,  5920,  1,     19,  24269,2,20161030,1308, 39.4995, 137.4998, 2589,    606.4,   0.6098,  34.0689,2,  34.0696,2,    205.3,2,    50.31,2,    25.11,2,     0.00,2,     1.92,2,   -999.0,9,   -999.0,9,-999.0000,9,  -999.00,     1358
  49UP20161021,RF1608,  5920,  1,     18,  25088,2,20161030,1308, 39.4995, 137.4998, 2589,    707.0,   0.5095,  34.0701,2,  34.0695,2,    202.5,2,    55.16,2,    25.35,2,     0.00,2,     1.95,2,   -999.0,9,   -999.0,9,-999.0000,9,  -999.00,     1355
  49UP20161021,RF1608,  5920,  1,     17,  22090,2,20161030,1308, 39.4995, 137.4998, 2589,    808.7,   0.4385,  34.0701,2,  34.0684,4,    201.1,6,    59.08,6,    25.48,6,     0.00,6,     1.96,6,   -999.0,9,   -999.0,9,-999.0000,9,  -999.00,     1352
  49UP20161021,RF1608,  5920,  1,     15,  22665,2,20161030,1308, 39.4995, 137.4998, 2589,    910.2,   0.3775,  34.0698,2,  34.0699,2,    200.0,2,    63.03,2,    25.56,2,     0.00,2,     1.97,2,   -999.0,9,   -999.0,9,-999.0000,9,  -999.00,     1349
  49UP20161021,RF1608,  5920,  1,     16,  24474,2,20161030,1308, 39.4995, 137.4998, 2589,    912.0,   0.3772,  34.0699,2,  34.0724,4,    200.2,2,    62.95,2,    25.55,2,     0.00,2,     1.96,2,   -999.0,9,   -999.0,9,-999.0000,9,  -999.00,     1350
  49UP20161021,RF1608,  5920,  1,     14,  21999,2,20161030,1308, 39.4995, 137.4998, 2589,   1010.7,   0.3306,  34.0694,2,  34.0700,2,    199.5,2,    66.57,2,    25.61,2,     0.00,2,     1.97,2,   -999.0,9,   -999.0,9,-999.0000,9,  -999.00,     1345
  49UP20161021,RF1608,  5920,  1,     13,  22667,2,20161030,1308, 39.4995, 137.4998, 2589,   1214.1,   0.2794,  34.0687,2,  34.0692,2,    199.2,2,    71.68,2,    25.61,2,     0.00,2,     1.98,2,   -999.0,9,   -999.0,9,-999.0000,9,  -999.00,     1340
  49UP20161021,RF1608,  5920,  1,      9,  23518,2,20161030,1308, 39.4995, 137.4998, 2589,   1416.2,   0.2484,  34.0681,2,  34.0686,2,    198.8,2,    76.63,2,    25.66,2,     0.00,2,     1.99,2,   -999.0,9,   -999.0,9,-999.0000,9,  -999.00,     1335
  49UP20161021,RF1608,  5920,  1,      8,  24470,2,20161030,1308, 39.4995, 137.4998, 2589,   1619.9,   0.2348,  34.0681,2,  34.0699,4,    198.6,2,    79.57,2,    25.74,2,     0.00,2,     2.00,2,   -999.0,9,   -999.0,9,-999.0000,9,  -999.00,     1330
  49UP20161021,RF1608,  5920,  1,      7,  23516,2,20161030,1308, 39.4995, 137.4998, 2589,   1823.1,   0.2283,  34.0677,2,  34.0682,2,    199.3,2,    80.89,2,    25.73,2,     0.00,2,     2.00,2,   -999.0,9,   -999.0,9,-999.0000,9,  -999.00,     1325
  49UP20161021,RF1608,  5920,  1,      6,  22113,2,20161030,1308, 39.4995, 137.4998, 2589,   2026.7,   0.2287,  34.0677,2,  34.0676,2,    198.7,2,    84.41,2,    25.84,2,     0.00,2,     2.01,2,   -999.0,9,   -999.0,9,-999.0000,9,  -999.00,     1321
  49UP20161021,RF1608,  5920,  1,      5,  24658,2,20161030,1308, 39.4995, 137.4998, 2589,   2281.3,   0.2343,  34.0677,2,  34.0673,2,    199.5,2,    85.97,2,    25.86,2,     0.00,2,     2.01,2,   -999.0,9,   -999.0,9,-999.0000,9,  -999.00,     1314
  49UP20161021,RF1608,  5920,  1,      4,  24471,2,20161030,1308, 39.4995, 137.4998, 2589,   2561.2,   0.2484,  34.0678,2,  34.0677,6,    200.4,2,    87.01,2,    25.88,2,     0.00,2,     2.01,2,   -999.0,9,   -999.0,9,-999.0000,9,  -999.00,     1308
  49UP20161021,RF1608,  5922,  1,     99,     99,2,20161030,2038, 39.5223, 138.3142, 2346,      0.0,  18.9941,  33.7898,2,-999.0000,9,    230.6,2,     2.66,2,     0.14,3,     0.02,2,     0.02,2,   -999.0,9,   -999.0,9,-999.0000,9,  -999.00,     2125
  49UP20161021,RF1608,  5922,  1,     36,  22109,2,20161030,2038, 39.5223, 138.3142, 2346,     11.7,  18.9999,  33.7896,2,-999.0000,9,    229.8,2,     2.68,2,     0.10,2,     0.02,2,     0.02,2,   -999.0,9,   -999.0,9,-999.0000,9,  -999.00,     2149
  49UP20161021,RF1608,  5922,  1,     35,  22112,2,20161030,2038, 39.5223, 138.3142, 2346,     26.8,  19.0063,  33.7884,2,-999.0000,9,    230.0,2,     2.61,2,     0.09,2,     0.02,2,     0.02,2,   -999.0,9,   -999.0,9,-999.0000,9,  -999.00,     2148
  49UP20161021,RF1608,  5922,  1,     34,  22094,2,20161030,2038, 39.5223, 138.3142, 2346,     50.8,  19.0097,  33.7879,2,-999.0000,9,    229.8,2,     2.65,2,     0.14,2,     0.02,2,     0.03,2,   -999.0,9,   -999.0,9,-999.0000,9,  -999.00,     2145
  49UP20161021,RF1608,  5922,  1,     33,  24469,2,20161030,2038, 39.5223, 138.3142, 2346,     77.0,  16.6453,  34.4896,2,-999.0000,9,    214.6,2,     5.55,2,     3.36,2,     0.05,2,     0.28,2,   -999.0,9,   -999.0,9,-999.0000,9,  -999.00,     2144
  49UP20161021,RF1608,  5922,  1,     32,  25089,2,20161030,2038, 39.5223, 138.3142, 2346,    102.3,  15.4725,  34.4858,2,-999.0000,9,    216.1,2,     5.63,2,     4.09,2,     0.03,2,     0.33,2,   -999.0,9,   -999.0,9,-999.0000,9,  -999.00,     2142
  49UP20161021,RF1608,  5922,  1,     31,  23515,2,20161030,2038, 39.5223, 138.3142, 2346,    126.2,  14.1771,  34.4164,2,-999.0000,9,    225.7,6,     4.40,6,     3.88,6,     0.02,6,     0.31,6,   -999.0,9,   -999.0,9,-999.0000,9,  -999.00,     2141
  49UP20161021,RF1608,  5922,  1,     29,  22102,2,20161030,2038, 39.5223, 138.3142, 2346,    152.9,  12.6699,  34.2752,2,-999.0000,9,    237.2,2,     4.58,2,     5.02,2,     0.02,2,     0.36,2,   -999.0,9,   -999.0,9,-999.0000,9,  -999.00,     2140
  49UP20161021,RF1608,  5922,  1,     30,  22097,2,20161030,2038, 39.5223, 138.3142, 2346,    153.1,  12.6879,  34.2779,2,-999.0000,9,    237.0,2,     4.58,2,     5.01,2,     0.01,2,     0.36,2,   -999.0,9,   -999.0,9,-999.0000,9,  -999.00,     2140
  49UP20161021,RF1608,  5922,  1,     28,  24472,2,20161030,2038, 39.5223, 138.3142, 2346,    205.3,  10.6922,  34.1854,2,-999.0000,9,    244.6,2,     7.07,2,     7.39,2,     0.01,2,     0.52,2,   -999.0,9,   -999.0,9,-999.0000,9,  -999.00,     2138
  49UP20161021,RF1608,  5922,  1,     24,  22110,2,20161030,2038, 39.5223, 138.3142, 2346,    254.7,   4.7260,  34.0280,2,-999.0000,9,    265.7,2,    14.59,2,    11.95,2,     0.01,2,     0.88,2,   -999.0,9,   -999.0,9,-999.0000,9,  -999.00,     2136
  49UP20161021,RF1608,  5922,  1,     23,  23679,2,20161030,2038, 39.5223, 138.3142, 2346,    303.2,   2.2105,  34.0045,2,-999.0000,9,    281.8,2,    18.29,2,    13.83,2,     0.00,2,     1.02,2,   -999.0,9,   -999.0,9,-999.0000,9,  -999.00,     2134
  49UP20161021,RF1608,  5922,  1,     22,  22111,2,20161030,2038, 39.5223, 138.3142, 2346,    404.2,   1.0763,  34.0520,2,-999.0000,9,    231.0,2,    35.98,2,    21.96,2,     0.00,2,     1.65,2,   -999.0,9,   -999.0,9,-999.0000,9,  -999.00,     2132
  49UP20161021,RF1608,  5922,  1,     21,  22078,2,20161030,2038, 39.5223, 138.3142, 2346,    506.2,   0.8202,  34.0613,2,-999.0000,9,    217.1,2,    42.54,2,    23.82,2,     0.00,2,     1.81,2,   -999.0,9,   -999.0,9,-999.0000,9,  -999.00,     2129
  49UP20161021,RF1608,  5922,  1,     20,  22093,2,20161030,2038, 39.5223, 138.3142, 2346,    604.5,   0.6650,  34.0666,2,-999.0000,9,    205.6,2,    49.82,2,    24.95,2,     0.00,2,     1.91,2,   -999.0,9,   -999.0,9,-999.0000,9,  -999.00,     2126
  49UP20161021,RF1608,  5922,  1,     19,  24269,2,20161030,2038, 39.5223, 138.3142, 2346,    707.6,   0.5460,  34.0689,2,-999.0000,9,    201.7,2,    55.09,2,    25.35,2,     0.00,2,     1.95,2,   -999.0,9,   -999.0,9,-999.0000,9,  -999.00,     2124
  49UP20161021,RF1608,  5922,  1,     18,  25088,2,20161030,2038, 39.5223, 138.3142, 2346,    807.7,   0.4701,  34.0695,2,-999.0000,9,    200.8,2,    58.95,2,    25.48,2,     0.00,2,     1.96,2,   -999.0,9,   -999.0,9,-999.0000,9,  -999.00,     2121
  49UP20161021,RF1608,  5922,  1,     17,  22090,2,20161030,2038, 39.5223, 138.3142, 2346,    913.4,   0.3989,  34.0695,2,-999.0000,9,    199.7,2,    63.39,2,    25.51,2,     0.00,2,     1.97,2,   -999.0,9,   -999.0,9,-999.0000,9,  -999.00,     2118
  49UP20161021,RF1608,  5922,  1,     16,  24474,2,20161030,2038, 39.5223, 138.3142, 2346,   1010.4,   0.3482,  34.0691,2,-999.0000,9,    198.8,6,    67.42,6,    25.57,6,     0.00,6,     1.98,6,   -999.0,9,   -999.0,9,-999.0000,9,  -999.00,     2112
  49UP20161021,RF1608,  5922,  1,     14,  21999,2,20161030,2038, 39.5223, 138.3142, 2346,   1214.8,   0.2830,  34.0685,2,-999.0000,9,    198.7,2,    73.07,2,    25.63,2,     0.00,2,     1.99,2,   -999.0,9,   -999.0,9,-999.0000,9,  -999.00,     2107
  49UP20161021,RF1608,  5922,  1,     15,  22665,2,20161030,2038, 39.5223, 138.3142, 2346,   1215.3,   0.2837,  34.0687,2,-999.0000,9,    198.6,2,    72.97,2,    25.63,2,     0.00,2,     1.99,2,   -999.0,9,   -999.0,9,-999.0000,9,  -999.00,     2108
  49UP20161021,RF1608,  5922,  1,     13,  22667,2,20161030,2038, 39.5223, 138.3142, 2346,   1414.6,   0.2514,  34.0681,2,-999.0000,9,    198.7,2,    76.62,2,    25.66,2,     0.00,2,     1.99,2,   -999.0,9,   -999.0,9,-999.0000,9,  -999.00,     2102
  49UP20161021,RF1608,  5922,  1,      8,  24470,2,20161030,2038, 39.5223, 138.3142, 2346,   1620.2,   0.2335,  34.0679,2,-999.0000,9,    198.7,2,    80.05,2,    25.68,2,     0.00,2,     2.00,2,   -999.0,9,   -999.0,9,-999.0000,9,  -999.00,     2056
  49UP20161021,RF1608,  5922,  1,      7,  23516,2,20161030,2038, 39.5223, 138.3142, 2346,   1822.2,   0.2332,  34.0678,2,-999.0000,9,    198.7,2,    81.75,2,    25.73,2,     0.00,2,     2.00,2,   -999.0,9,   -999.0,9,-999.0000,9,  -999.00,     2051
  49UP20161021,RF1608,  5922,  1,      6,  22113,2,20161030,2038, 39.5223, 138.3142, 2346,   2026.1,   0.2309,  34.0677,2,  34.0668,2,    198.8,2,    84.56,2,    25.79,2,     0.00,2,     2.01,2,   -999.0,9,   -999.0,9,-999.0000,9,  -999.00,     2047
  49UP20161021,RF1608,  5922,  1,      4,  24471,2,20161030,2038, 39.5223, 138.3142, 2346,   2315.3,   0.2317,  34.0677,2,  34.0671,2,    199.9,2,    87.43,2,    25.89,2,     0.00,2,     2.01,2,   -999.0,9,   -999.0,9,-999.0000,9,  -999.00,     2038