BOTTLE,20200306PRINUNIVRMK
EXPOCODE,SECT_ID,STNNBR,CASTNO,SAMPNO,BTLNBR,BTLNBR_FLAG_W,DATE,TIME,LATITUDE,LONGITUDE,DEPTH,CTDPRS,CTDTMP,CTDSAL,CTDSAL_FLAG_W,SALNTY,SALNTY_FLAG_W,OXYGEN,OXYGEN_FLAG_W,SILCAT,SILCAT_FLAG_W,NITRAT,NITRAT_FLAG_W,NITRIT,NITRIT_FLAG_W,PHSPHT,PHSPHT_FLAG_W,TCARBN,TCARBN_FLAG_W,ALKALI,ALKALI_FLAG_W,PH_TOT,PH_TOT_FLAG_W,PH_TMP,BTL_TIME
,,,,,,,,,,,METERS,DBAR,ITS-90,PSS-78,,PSS-78,,UMOL/KG,,UMOL/KG,,UMOL/KG,,UMOL/KG,,UMOL/KG,,UMOL/KG,,UMOL/KG,,,,DEG C,
  49UP20161021,RF1608,  5908,  1,     99,     99,2,20161028,0545, 42.1492, 137.4403, 3684,      0.0,  13.8512,  33.8550,2,-999.0000,9,    259.5,2,     3.40,2,     0.04,2,     0.00,2,     0.02,2,   -999.0,9,   -999.0,9,-999.0000,9,  -999.00,      700
  49UP20161021,RF1608,  5908,  1,     36,  22109,2,20161028,0545, 42.1492, 137.4403, 3684,     10.5,  13.8482,  33.8548,2,-999.0000,9,    258.8,2,     3.35,2,     0.02,2,     0.00,2,     0.01,2,   -999.0,9,   -999.0,9,-999.0000,9,  -999.00,      723
  49UP20161021,RF1608,  5908,  1,     35,  22112,2,20161028,0545, 42.1492, 137.4403, 3684,     10.7,  13.8541,  33.8545,2,-999.0000,9,    258.9,2,     3.35,2,     0.02,2,     0.00,2,     0.01,2,   -999.0,9,   -999.0,9,-999.0000,9,  -999.00,      722
  49UP20161021,RF1608,  5908,  1,     34,  22094,2,20161028,0545, 42.1492, 137.4403, 3684,     26.2,  13.8513,  33.8520,2,-999.0000,9,    258.8,6,     3.37,6,     0.03,6,     0.00,6,     0.01,6,   -999.0,9,   -999.0,9,-999.0000,9,  -999.00,      721
  49UP20161021,RF1608,  5908,  1,     33,  24469,2,20161028,0545, 42.1492, 137.4403, 3684,     51.1,   8.4925,  34.0076,2,-999.0000,9,    313.2,2,     4.40,2,     0.64,2,     0.05,2,     0.18,2,   -999.0,9,   -999.0,9,-999.0000,9,  -999.00,      718
  49UP20161021,RF1608,  5908,  1,     32,  25089,2,20161028,0545, 42.1492, 137.4403, 3684,     75.9,   4.3366,  34.0360,2,-999.0000,9,    289.2,2,    10.35,2,     9.43,2,     0.03,2,     0.68,2,   -999.0,9,   -999.0,9,-999.0000,9,  -999.00,      717
  49UP20161021,RF1608,  5908,  1,     31,  23515,2,20161028,0545, 42.1492, 137.4403, 3684,    102.7,   2.9689,  34.0468,2,-999.0000,9,    294.7,2,    13.06,2,    11.28,2,     0.01,2,     0.82,2,   -999.0,9,   -999.0,9,-999.0000,9,  -999.00,      715
  49UP20161021,RF1608,  5908,  1,     27,  21998,2,20161028,0545, 42.1492, 137.4403, 3684,    126.6,   2.5425,  34.0577,2,-999.0000,9,    299.6,2,    13.20,2,    11.48,2,     0.00,2,     0.83,2,   -999.0,9,   -999.0,9,-999.0000,9,  -999.00,      714
  49UP20161021,RF1608,  5908,  1,     26,  22084,2,20161028,0545, 42.1492, 137.4403, 3684,    152.2,   2.1646,  34.0532,2,-999.0000,9,    301.4,2,    14.49,2,    12.03,2,     0.00,2,     0.88,2,   -999.0,9,   -999.0,9,-999.0000,9,  -999.00,      713
  49UP20161021,RF1608,  5908,  1,     25,  22098,2,20161028,0545, 42.1492, 137.4403, 3684,    202.6,   1.6635,  34.0449,2,-999.0000,9,    307.2,6,    15.57,6,    12.36,6,     0.00,6,     0.91,6,   -999.0,9,   -999.0,9,-999.0000,9,  -999.00,      711
  49UP20161021,RF1608,  5908,  1,     23,  23679,2,20161028,0545, 42.1492, 137.4403, 3684,    253.3,   1.5604,  34.0477,2,-999.0000,9,    307.6,2,    15.91,2,    12.44,2,     0.00,2,     0.92,2,   -999.0,9,   -999.0,9,-999.0000,9,  -999.00,      710
  49UP20161021,RF1608,  5908,  1,     24,  22110,2,20161028,0545, 42.1492, 137.4403, 3684,    254.1,   1.5538,  34.0474,2,-999.0000,9,    307.8,2,    15.92,2,    12.43,2,     0.00,2,     0.92,2,   -999.0,9,   -999.0,9,-999.0000,9,  -999.00,      710
  49UP20161021,RF1608,  5908,  1,     22,  22111,2,20161028,0545, 42.1492, 137.4403, 3684,    305.3,   1.3781,  34.0451,2,-999.0000,9,    300.8,2,    18.29,2,    13.76,2,     0.00,2,     1.02,2,   -999.0,9,   -999.0,9,-999.0000,9,  -999.00,      708
  49UP20161021,RF1608,  5908,  1,     21,  22078,2,20161028,0545, 42.1492, 137.4403, 3684,    406.5,   1.0343,  34.0516,2,-999.0000,9,    265.0,2,    27.36,2,    18.81,2,     0.00,2,     1.39,2,   -999.0,9,   -999.0,9,-999.0000,9,  -999.00,      705
  49UP20161021,RF1608,  5908,  1,     20,  22093,2,20161028,0545, 42.1492, 137.4403, 3684,    507.0,   0.8208,  34.0602,2,-999.0000,9,    234.4,2,    35.52,2,    22.43,2,     0.00,2,     1.69,2,   -999.0,9,   -999.0,9,-999.0000,9,  -999.00,      703
  49UP20161021,RF1608,  5908,  1,     19,  24269,2,20161028,0545, 42.1492, 137.4403, 3684,    607.3,   0.6916,  34.0672,2,-999.0000,9,    214.3,2,    43.72,2,    24.38,2,     0.00,2,     1.87,2,   -999.0,9,   -999.0,9,-999.0000,9,  -999.00,      700
  49UP20161021,RF1608,  5908,  1,     18,  25088,2,20161028,0545, 42.1492, 137.4403, 3684,    707.8,   0.5836,  34.0704,2,-999.0000,9,    205.8,2,    50.11,2,    25.14,2,     0.00,2,     1.93,2,   -999.0,9,   -999.0,9,-999.0000,9,  -999.00,      657
  49UP20161021,RF1608,  5908,  1,     17,  22090,2,20161028,0545, 42.1492, 137.4403, 3684,    809.1,   0.4928,  34.0709,2,-999.0000,9,    202.6,2,    55.17,2,    25.40,2,     0.00,2,     1.95,2,   -999.0,9,   -999.0,9,-999.0000,9,  -999.00,      655
  49UP20161021,RF1608,  5908,  1,     16,  24474,2,20161028,0545, 42.1492, 137.4403, 3684,    910.3,   0.4285,  34.0707,2,-999.0000,9,    201.0,2,    58.97,2,    25.51,2,     0.00,2,     1.96,2,   -999.0,9,   -999.0,9,-999.0000,9,  -999.00,      652
  49UP20161021,RF1608,  5908,  1,     15,  22665,2,20161028,0545, 42.1492, 137.4403, 3684,   1012.3,   0.3717,  34.0701,2,-999.0000,9,    200.3,2,    62.43,2,    25.55,2,     0.00,2,     1.96,2,   -999.0,9,   -999.0,9,-999.0000,9,  -999.00,      648
  49UP20161021,RF1608,  5908,  1,     13,  22667,2,20161028,0545, 42.1492, 137.4403, 3684,   1214.7,   0.3013,  34.0690,2,-999.0000,9,    200.0,2,    67.95,2,    25.61,2,     0.00,2,     1.97,2,   -999.0,9,   -999.0,9,-999.0000,9,  -999.00,      644
  49UP20161021,RF1608,  5908,  1,     12,  22074,2,20161028,0545, 42.1492, 137.4403, 3684,   1417.4,   0.2628,  34.0683,2,-999.0000,9,    200.9,2,    71.99,2,    25.59,2,     0.00,2,     1.97,2,   -999.0,9,   -999.0,9,-999.0000,9,  -999.00,      639
  49UP20161021,RF1608,  5908,  1,     11,  24268,2,20161028,0545, 42.1492, 137.4403, 3684,   1619.9,   0.2391,  34.0679,2,-999.0000,9,    200.9,2,    75.56,2,    25.57,2,     0.00,2,     1.97,2,   -999.0,9,   -999.0,9,-999.0000,9,  -999.00,      633
  49UP20161021,RF1608,  5908,  1,     10,  24267,2,20161028,0545, 42.1492, 137.4403, 3684,   1823.3,   0.2312,  34.0678,2,-999.0000,9,    201.1,6,    78.09,6,    25.59,6,     0.00,6,     1.98,6,   -999.0,9,   -999.0,9,-999.0000,9,  -999.00,      629
  49UP20161021,RF1608,  5908,  1,      9,  23518,2,20161028,0545, 42.1492, 137.4403, 3684,   2028.5,   0.2291,  34.0677,2,-999.0000,9,    201.4,2,    80.45,2,    25.63,2,     0.00,2,     1.98,2,   -999.0,9,   -999.0,9,-999.0000,9,  -999.00,      624
  49UP20161021,RF1608,  5908,  1,      8,  24470,2,20161028,0545, 42.1492, 137.4403, 3684,   2028.5,   0.2291,  34.0677,2,-999.0000,9,    201.6,2,    80.52,2,    25.63,2,     0.00,2,     1.98,2,   -999.0,9,   -999.0,9,-999.0000,9,  -999.00,      624
  49UP20161021,RF1608,  5908,  1,      7,  23516,2,20161028,0545, 42.1492, 137.4403, 3684,   2280.9,   0.2341,  34.0678,2,-999.0000,9,    202.0,2,    82.44,2,    25.68,2,     0.00,2,     1.99,2,   -999.0,9,   -999.0,9,-999.0000,9,  -999.00,      617
  49UP20161021,RF1608,  5908,  1,      6,  22113,2,20161028,0545, 42.1492, 137.4403, 3684,   2535.9,   0.2407,  34.0679,2,-999.0000,9,    202.5,2,    86.16,2,    25.74,2,     0.00,2,     1.99,2,   -999.0,9,   -999.0,9,-999.0000,9,  -999.00,      612
  49UP20161021,RF1608,  5908,  1,      5,  24658,2,20161028,0545, 42.1492, 137.4403, 3684,   2791.5,   0.2610,  34.0679,2,-999.0000,9,    202.8,2,    86.26,2,    25.75,2,     0.00,2,     1.99,2,   -999.0,9,   -999.0,9,-999.0000,9,  -999.00,      606
  49UP20161021,RF1608,  5908,  1,      4,  24471,2,20161028,0545, 42.1492, 137.4403, 3684,   3046.6,   0.2831,  34.0679,2,-999.0000,9,    202.8,2,    86.33,2,    25.76,2,     0.00,2,     1.99,2,   -999.0,9,   -999.0,9,-999.0000,9,  -999.00,      600
  49UP20161021,RF1608,  5908,  1,      3,  22104,2,20161028,0545, 42.1492, 137.4403, 3684,   3303.6,   0.3065,  34.0679,2,-999.0000,9,    202.9,2,    86.36,2,    25.78,2,     0.00,2,     1.99,2,   -999.0,9,   -999.0,9,-999.0000,9,  -999.00,      554
  49UP20161021,RF1608,  5908,  1,      2,  22075,2,20161028,0545, 42.1492, 137.4403, 3684,   3558.4,   0.3308,  34.0679,2,  34.0682,2,    202.7,2,    86.19,2,    25.77,2,     0.00,2,     1.99,2,   -999.0,9,   -999.0,9,-999.0000,9,  -999.00,      548
  49UP20161021,RF1608,  5908,  1,      1,  21997,2,20161028,0545, 42.1492, 137.4403, 3684,   3680.2,   0.3432,  34.0680,2,  34.0680,2,    202.7,2,    86.40,2,    25.77,2,     0.00,2,     1.99,2,   -999.0,9,   -999.0,9,-999.0000,9,  -999.00,      545
  49UP20161021,RF1608,  5910,  1,     99,     99,2,20161028,1504, 41.5198, 137.0293, 3600,      0.0,  14.9490,  33.7213,2,  33.7265,2,    254.3,2,     3.45,2,     0.06,2,     0.00,2,     0.01,2,   2006.9,2,   2259.0,2,   7.9917,2,    25.00,     1606
  49UP20161021,RF1608,  5910,  1,     36,  22109,2,20161028,1504, 41.5198, 137.0293, 3600,     11.6,  14.9517,  33.7209,2,  33.7208,2,    252.0,6,     3.36,6,     0.04,6,     0.00,6,     0.01,6,   2004.1,2,   2256.4,2,   7.9955,2,    25.00,     1650
  49UP20161021,RF1608,  5910,  1,     35,  22112,2,20161028,1504, 41.5198, 137.0293, 3600,     27.5,  14.9392,  33.7157,2,  33.7198,2,    252.1,2,     3.34,2,     0.03,2,     0.00,2,     0.01,2,   2005.6,2,   2258.8,2,   7.9926,2,    25.00,     1649
  49UP20161021,RF1608,  5910,  1,     34,  22094,2,20161028,1504, 41.5198, 137.0293, 3600,     27.6,  14.9351,  33.7116,2,  33.7199,2,    252.3,2,     3.36,2,     0.05,2,     0.00,2,     0.01,2,   2006.5,2,   2258.8,2,   7.9928,2,    25.00,     1649
  49UP20161021,RF1608,  5910,  1,     33,  24469,2,20161028,1504, 41.5198, 137.0293, 3600,     52.6,   4.2915,  33.9452,2,  33.9454,2,    332.5,2,     7.98,2,     2.25,2,     0.13,2,     0.40,2,   2108.0,2,   2265.2,2,   7.7851,2,    25.00,     1647
  49UP20161021,RF1608,  5910,  1,     32,  25089,2,20161028,1504, 41.5198, 137.0293, 3600,     78.4,   2.6117,  33.9764,2,  33.9755,2,    299.8,2,    12.26,2,    10.94,2,     0.02,2,     0.80,2,   2145.8,2,   2256.5,2,   7.6749,2,    25.00,     1646
  49UP20161021,RF1608,  5910,  1,     31,  23515,2,20161028,1504, 41.5198, 137.0293, 3600,    102.7,   1.9608,  33.9983,2,  33.9943,2,    298.7,2,    14.48,2,    12.46,2,     0.01,2,     0.91,2,   2154.1,2,   2258.6,2,   7.6517,2,    25.00,     1643
  49UP20161021,RF1608,  5910,  1,     27,  21998,2,20161028,1504, 41.5198, 137.0293, 3600,    126.0,   1.7619,  34.0153,2,  34.0148,2,    301.1,2,    15.42,2,    12.64,2,     0.00,2,     0.92,2,   2154.4,2,   2259.1,2,   7.6497,2,    25.00,     1642
  49UP20161021,RF1608,  5910,  1,     26,  22084,2,20161028,1504, 41.5198, 137.0293, 3600,    152.3,   1.5506,  34.0222,2,  34.0208,2,    294.8,2,    17.82,2,    14.00,2,     0.00,2,     1.03,2,   2167.4,2,   2258.3,2,   7.6240,2,    25.00,     1640
  49UP20161021,RF1608,  5910,  1,     25,  22098,2,20161028,1504, 41.5198, 137.0293, 3600,    201.2,   1.3810,  34.0406,2,  34.0403,2,    288.1,2,    20.60,2,    15.40,2,     0.00,2,     1.13,2,   2169.9,2,   2259.1,2,   7.6018,2,    25.00,     1639
  49UP20161021,RF1608,  5910,  1,     24,  22110,2,20161028,1504, 41.5198, 137.0293, 3600,    255.9,   1.1020,  34.0417,2,  34.0410,2,    275.1,6,    24.52,6,    17.53,6,     0.00,6,     1.29,6,   2184.1,2,   2259.1,2,   7.5627,2,    25.00,     1636
  49UP20161021,RF1608,  5910,  1,     22,  22111,2,20161028,1504, 41.5198, 137.0293, 3600,    305.3,   0.9792,  34.0522,2,  34.0515,2,    256.5,2,    29.35,2,    19.88,2,     0.00,2,     1.47,2,   2207.1,2,   2257.9,2,   7.5114,2,    25.00,     1634
  49UP20161021,RF1608,  5910,  1,     23,  23679,3,20161028,1504, 41.5198, 137.0293, 3600,    308.0,   0.9815,  34.0528,2,  34.0521,2,    256.4,2,    29.33,2,    19.85,2,     0.00,2,     1.47,2,   2201.9,2,   2259.8,2,   7.5170,2,    25.00,     1634
  49UP20161021,RF1608,  5910,  1,     21,  22078,2,20161028,1504, 41.5198, 137.0293, 3600,    405.0,   0.8034,  34.0620,2,  34.0622,2,    230.0,2,    37.10,2,    22.93,2,     0.00,2,     1.73,2,   2222.7,2,   2261.3,2,   7.4535,2,    25.00,     1630
  49UP20161021,RF1608,  5910,  1,     20,  22093,2,20161028,1504, 41.5198, 137.0293, 3600,    506.5,   0.6816,  34.0680,2,  34.0693,2,    212.2,2,    44.43,2,    24.60,2,     0.00,2,     1.89,2,   2235.5,2,   2262.4,2,   7.4220,2,    25.00,     1627
  49UP20161021,RF1608,  5910,  1,     19,  24269,2,20161028,1504, 41.5198, 137.0293, 3600,    608.1,   0.5740,  34.0706,2,  34.0738,4,    205.0,2,    50.72,2,    25.27,2,     0.00,2,     1.94,2,   2242.6,6,   2264.9,6,   7.4093,2,    25.00,     1624
  49UP20161021,RF1608,  5910,  1,     18,  25088,2,20161028,1504, 41.5198, 137.0293, 3600,    711.0,   0.4914,  34.0710,2,  34.0725,2,    203.0,2,    54.93,2,    25.40,2,     0.00,2,     1.95,2,   2242.9,2,   2266.6,2,   7.4088,6,    25.00,     1620
  49UP20161021,RF1608,  5910,  1,     17,  22090,2,20161028,1504, 41.5198, 137.0293, 3600,    810.7,   0.4180,  34.0706,2,  34.0711,2,    200.9,2,    59.42,2,    25.54,2,     0.00,2,     1.96,2,   2243.1,2,   2269.4,2,   7.4135,2,    25.00,     1615
  49UP20161021,RF1608,  5910,  1,     16,  24474,2,20161028,1504, 41.5198, 137.0293, 3600,    912.1,   0.3589,  34.0699,2,  34.0701,2,    200.3,2,    63.26,2,    25.60,2,     0.00,2,     1.97,2,   2244.5,2,   2270.9,2,   7.4074,2,    25.00,     1611
  49UP20161021,RF1608,  5910,  1,     15,  22665,2,20161028,1504, 41.5198, 137.0293, 3600,   1013.7,   0.3196,  34.0695,2,  34.0696,6,    200.4,2,    66.04,2,    25.63,2,     0.00,2,     1.97,2,   2246.5,2,   2271.5,2,   7.4126,2,    25.00,     1608
  49UP20161021,RF1608,  5910,  1,     13,  22667,2,20161028,1504, 41.5198, 137.0293, 3600,   1215.4,   0.2734,  34.0687,2,  34.0686,2,    201.1,2,    69.95,2,    25.62,2,     0.00,2,     1.97,2,   2245.4,2,   2275.1,2,   7.4206,2,    25.00,     1601
  49UP20161021,RF1608,  5910,  1,     12,  22074,2,20161028,1504, 41.5198, 137.0293, 3600,   1417.3,   0.2420,  34.0681,2,  34.0693,2,    201.3,2,    73.96,2,    25.60,2,     0.00,2,     1.98,2,   2247.1,6,   2277.8,6,   7.4254,2,    25.00,     1556
  49UP20161021,RF1608,  5910,  1,     11,  24268,2,20161028,1504, 41.5198, 137.0293, 3600,   1620.5,   0.2301,  34.0679,2,  34.0677,2,    201.4,2,    76.51,2,    25.61,2,     0.00,2,     1.98,2,   2254.5,2,   2280.3,2,   7.4248,6,    25.00,     1550
  49UP20161021,RF1608,  5910,  1,     10,  24267,2,20161028,1504, 41.5198, 137.0293, 3600,   1823.2,   0.2235,  34.0677,2,  34.0686,2,    201.4,2,    79.33,2,    25.63,2,     0.00,2,     1.99,2,   2250.9,2,   2279.5,2,   7.4262,2,    25.00,     1545
  49UP20161021,RF1608,  5910,  1,      9,  23518,3,20161028,1504, 41.5198, 137.0293, 3600,   2026.7,   0.2254,  34.0678,2,  34.0684,2,    201.9,2,    81.44,2,    25.63,2,     0.00,2,     1.99,2,   2249.4,2,   2282.3,2,   7.4315,2,    25.00,     1540
  49UP20161021,RF1608,  5910,  1,      8,  24470,2,20161028,1504, 41.5198, 137.0293, 3600,   2284.5,   0.2299,  34.0678,2,  34.0671,2,    202.2,2,    84.24,2,    25.73,2,     0.00,2,     2.00,2,   2250.6,2,   2284.6,2,   7.4359,2,    25.00,     1533
  49UP20161021,RF1608,  5910,  1,      7,  23516,2,20161028,1504, 41.5198, 137.0293, 3600,   2535.9,   0.2399,  34.0678,2,  34.0680,2,    202.6,2,    86.46,2,    25.75,2,     0.00,2,     2.00,2,   2250.9,2,   2284.0,2,   7.4369,2,    25.00,     1526
  49UP20161021,RF1608,  5910,  1,      6,  22113,3,20161028,1504, 41.5198, 137.0293, 3600,   2789.0,   0.2604,  34.0678,2,  34.0673,2,    202.6,2,    86.45,2,    25.76,2,     0.00,2,     2.00,2,   2252.8,6,   2286.3,6,   7.4376,2,    25.00,     1520
  49UP20161021,RF1608,  5910,  1,      5,  24658,3,20161028,1504, 41.5198, 137.0293, 3600,   3046.5,   0.2828,  34.0679,2,  34.0662,4,    203.0,6,    86.49,6,    25.78,6,     0.00,6,     2.00,6,   2252.9,2,   2284.5,2,   7.4400,6,    25.00,     1515
  49UP20161021,RF1608,  5910,  1,      4,  24471,2,20161028,1504, 41.5198, 137.0293, 3600,   3300.1,   0.3059,  34.0680,2,  34.0678,6,    203.2,2,    86.63,2,    25.69,2,     0.00,2,     2.00,2,   2249.4,2,   2285.2,2,   7.4415,2,    25.00,     1510
  49UP20161021,RF1608,  5910,  1,      3,  22104,2,20161028,1504, 41.5198, 137.0293, 3600,   3587.1,   0.3336,  34.0679,2,  34.0676,2,    202.6,2,    86.84,2,    25.79,2,     0.00,2,     2.00,2,   2256.6,3,   2286.2,2,   7.4388,2,    25.00,     1504
  49UP20161021,RF1608,  5910,  1,      2,  22075,2,20161028,1504, 41.5198, 137.0293, 3600,   3587.6,   0.3335,  34.0680,2,  34.0676,2,    202.6,2,    86.67,2,    25.77,2,     0.00,2,     2.00,2,   2249.8,2,   2287.1,2,   7.4419,2,    25.00,     1504