BOTTLE,20200306PRINUNIVRMK
EXPOCODE,SECT_ID,STNNBR,CASTNO,SAMPNO,BTLNBR,BTLNBR_FLAG_W,DATE,TIME,LATITUDE,LONGITUDE,DEPTH,CTDPRS,CTDTMP,CTDSAL,CTDSAL_FLAG_W,SALNTY,SALNTY_FLAG_W,OXYGEN,OXYGEN_FLAG_W,SILCAT,SILCAT_FLAG_W,NITRAT,NITRAT_FLAG_W,NITRIT,NITRIT_FLAG_W,PHSPHT,PHSPHT_FLAG_W,TCARBN,TCARBN_FLAG_W,ALKALI,ALKALI_FLAG_W,PH_TOT,PH_TOT_FLAG_W,PH_TMP,BTL_TIME
,,,,,,,,,,,METERS,DBAR,ITS-90,PSS-78,,PSS-78,,UMOL/KG,,UMOL/KG,,UMOL/KG,,UMOL/KG,,UMOL/KG,,UMOL/KG,,UMOL/KG,,,,DEG C,
  49UP20161021,RF1608,  5927,  1,     99,     99,2,20161101,0655, 38.6768, 136.3497, 2712,      0.0,  18.6514,  33.2254,2,-999.0000,9,    232.7,2,     2.87,2,     0.14,2,     0.03,2,     0.03,2,   -999.0,9,   -999.0,9,-999.0000,9,  -999.00,      750
  49UP20161021,RF1608,  5927,  1,     35,  22112,2,20161101,0655, 38.6768, 136.3497, 2712,     10.5,  18.6608,  33.2241,2,  33.2214,2,    231.8,2,     2.86,2,     0.12,2,     0.03,2,     0.02,2,   -999.0,9,   -999.0,9,-999.0000,9,  -999.00,      817
  49UP20161021,RF1608,  5927,  1,     36,  22109,2,20161101,0655, 38.6768, 136.3497, 2712,     10.7,  18.6599,  33.2248,2,  33.2234,2,    231.8,2,     2.88,2,     0.14,2,     0.03,2,     0.02,2,   -999.0,9,   -999.0,9,-999.0000,9,  -999.00,      817
  49UP20161021,RF1608,  5927,  1,     34,  22094,2,20161101,0655, 38.6768, 136.3497, 2712,     27.1,  18.6593,  33.2241,2,  33.2227,2,    231.8,6,     2.86,6,     0.12,6,     0.03,6,     0.03,6,   -999.0,9,   -999.0,9,-999.0000,9,  -999.00,      816
  49UP20161021,RF1608,  5927,  1,     33,  24469,2,20161101,0655, 38.6768, 136.3497, 2712,     51.7,  18.3301,  33.2252,2,  33.2474,4,    229.8,2,     3.24,2,     0.53,2,     0.06,2,     0.06,2,   -999.0,9,   -999.0,9,-999.0000,9,  -999.00,      815
  49UP20161021,RF1608,  5927,  1,     32,  25089,2,20161101,0655, 38.6768, 136.3497, 2712,     78.0,  12.8180,  34.2600,2,  34.2552,2,    222.9,2,     9.76,2,     6.94,2,     0.04,2,     0.53,2,   -999.0,9,   -999.0,9,-999.0000,9,  -999.00,      813
  49UP20161021,RF1608,  5927,  1,     31,  23515,2,20161101,0655, 38.6768, 136.3497, 2712,    103.0,   7.6658,  34.0726,2,  34.0744,2,    257.0,2,    10.07,2,     8.61,2,     0.02,2,     0.66,2,   -999.0,9,   -999.0,9,-999.0000,9,  -999.00,      812
  49UP20161021,RF1608,  5927,  1,     30,  22097,2,20161101,0655, 38.6768, 136.3497, 2712,    128.1,   5.0090,  34.0174,2,  34.0156,2,    263.0,2,    13.17,2,    11.18,2,     0.01,2,     0.84,2,   -999.0,9,   -999.0,9,-999.0000,9,  -999.00,      811
  49UP20161021,RF1608,  5927,  1,     29,  22102,2,20161101,0655, 38.6768, 136.3497, 2712,    153.8,   3.6858,  34.0105,2,  34.0100,2,    259.9,2,    16.99,2,    13.44,2,     0.01,2,     1.02,2,   -999.0,9,   -999.0,9,-999.0000,9,  -999.00,      809
  49UP20161021,RF1608,  5927,  1,     28,  24472,2,20161101,0655, 38.6768, 136.3497, 2712,    204.2,   1.9698,  34.0245,2,  34.0235,2,    254.8,2,    24.78,2,    17.25,2,     0.00,2,     1.31,2,   -999.0,9,   -999.0,9,-999.0000,9,  -999.00,      807
  49UP20161021,RF1608,  5927,  1,     27,  21998,2,20161101,0655, 38.6768, 136.3497, 2712,    253.1,   1.4069,  34.0410,2,  34.0414,2,    234.9,2,    32.29,2,    20.65,2,     0.00,2,     1.57,2,   -999.0,9,   -999.0,9,-999.0000,9,  -999.00,      803
  49UP20161021,RF1608,  5927,  1,     24,  22110,2,20161101,0655, 38.6768, 136.3497, 2712,    300.3,   1.0419,  34.0507,2,  34.0501,2,    225.3,2,    36.88,2,    22.37,2,     0.00,2,     1.71,2,   -999.0,9,   -999.0,9,-999.0000,9,  -999.00,      802
  49UP20161021,RF1608,  5927,  1,     23,  23679,2,20161101,0655, 38.6768, 136.3497, 2712,    405.4,   0.7667,  34.0631,2,  34.0642,2,    214.9,6,    43.36,6,    24.03,6,     0.00,6,     1.84,6,   -999.0,9,   -999.0,9,-999.0000,9,  -999.00,      759
  49UP20161021,RF1608,  5927,  1,     21,  22078,2,20161101,0655, 38.6768, 136.3497, 2712,    506.3,   0.6095,  34.0676,2,  34.0687,6,    204.1,2,    51.74,2,    25.03,2,     0.00,2,     1.94,2,   -999.0,9,   -999.0,9,-999.0000,9,  -999.00,      756
  49UP20161021,RF1608,  5927,  1,     22,  22111,2,20161101,0655, 38.6768, 136.3497, 2712,    507.3,   0.6088,  34.0676,2,  34.0673,2,    203.8,2,    51.72,2,    24.99,2,     0.00,2,     1.94,2,   -999.0,9,   -999.0,9,-999.0000,9,  -999.00,      757
  49UP20161021,RF1608,  5927,  1,     20,  22093,2,20161101,0655, 38.6768, 136.3497, 2712,    605.8,   0.5223,  34.0692,2,-999.0000,9,    202.2,2,    55.44,2,    25.26,2,     0.00,2,     1.96,2,   -999.0,9,   -999.0,9,-999.0000,9,  -999.00,      754
  49UP20161021,RF1608,  5927,  1,     19,  24269,2,20161101,0655, 38.6768, 136.3497, 2712,    707.6,   0.4470,  34.0697,2,  34.0714,2,    200.8,2,    59.30,2,    25.36,2,     0.00,2,     1.97,2,   -999.0,9,   -999.0,9,-999.0000,9,  -999.00,      751
  49UP20161021,RF1608,  5927,  1,     18,  25088,2,20161101,0655, 38.6768, 136.3497, 2712,    808.9,   0.3901,  34.0695,2,  34.0694,2,    200.1,2,    62.93,2,    25.40,2,     0.00,2,     1.98,2,   -999.0,9,   -999.0,9,-999.0000,9,  -999.00,      748
  49UP20161021,RF1608,  5927,  1,     17,  22090,2,20161101,0655, 38.6768, 136.3497, 2712,    909.6,   0.3416,  34.0693,2,  34.0699,2,    199.8,2,    66.17,2,    25.45,2,     0.00,2,     1.98,2,   -999.0,9,   -999.0,9,-999.0000,9,  -999.00,      745
  49UP20161021,RF1608,  5927,  1,     16,  24474,2,20161101,0655, 38.6768, 136.3497, 2712,   1011.7,   0.3010,  34.0688,2,  34.0691,2,    199.8,2,    69.51,2,    25.46,2,     0.00,2,     1.99,2,   -999.0,9,   -999.0,9,-999.0000,9,  -999.00,      741
  49UP20161021,RF1608,  5927,  1,     15,  22665,2,20161101,0655, 38.6768, 136.3497, 2712,   1213.2,   0.2596,  34.0684,2,  34.0679,2,    199.2,2,    74.39,2,    25.53,2,     0.00,2,     2.00,2,   -999.0,9,   -999.0,9,-999.0000,9,  -999.00,      735
  49UP20161021,RF1608,  5927,  1,     14,  21999,2,20161101,0655, 38.6768, 136.3497, 2712,   1414.6,   0.2346,  34.0679,2,  34.0682,2,    199.6,2,    77.66,2,    25.53,2,     0.00,2,     2.00,2,   -999.0,9,   -999.0,9,-999.0000,9,  -999.00,      730
  49UP20161021,RF1608,  5927,  1,     13,  22667,2,20161101,0655, 38.6768, 136.3497, 2712,   1619.5,   0.2265,  34.0678,2,  34.0676,2,    199.2,2,    80.29,2,    25.60,2,     0.00,2,     2.00,2,   -999.0,9,   -999.0,9,-999.0000,9,  -999.00,      723
  49UP20161021,RF1608,  5927,  1,      9,  23518,2,20161101,0655, 38.6768, 136.3497, 2712,   1823.3,   0.2250,  34.0678,2,  34.0680,6,    199.3,2,    82.42,2,    25.66,2,     0.00,2,     2.01,2,   -999.0,9,   -999.0,9,-999.0000,9,  -999.00,      718
  49UP20161021,RF1608,  5927,  1,      8,  24470,2,20161101,0655, 38.6768, 136.3497, 2712,   2025.4,   0.2300,  34.0676,2,  34.0683,2,    199.1,2,    84.15,2,    25.72,2,     0.00,2,     2.01,2,   -999.0,9,   -999.0,9,-999.0000,9,  -999.00,      713
  49UP20161021,RF1608,  5927,  1,      7,  23516,2,20161101,0655, 38.6768, 136.3497, 2712,   2282.2,   0.2423,  34.0677,2,  34.0677,2,    198.4,6,    86.40,6,    25.79,6,     0.00,6,     2.02,6,   -999.0,9,   -999.0,9,-999.0000,9,  -999.00,      706
  49UP20161021,RF1608,  5927,  1,      5,  24658,2,20161101,0655, 38.6768, 136.3497, 2712,   2536.7,   0.2621,  34.0677,2,  34.0671,2,    198.1,2,    86.65,2,    25.80,2,     0.00,2,     2.02,2,   -999.0,9,   -999.0,9,-999.0000,9,  -999.00,      700
  49UP20161021,RF1608,  5927,  1,      6,  22113,2,20161101,0655, 38.6768, 136.3497, 2712,   2538.2,   0.2622,  34.0678,2,  34.0670,2,    198.1,2,    86.73,2,    25.81,2,     0.00,2,     2.02,2,   -999.0,9,   -999.0,9,-999.0000,9,  -999.00,      700
  49UP20161021,RF1608,  5927,  1,      4,  24471,2,20161101,0655, 38.6768, 136.3497, 2712,   2692.0,   0.2749,  34.0678,2,  34.0672,6,    198.1,2,    86.93,2,    25.84,2,     0.00,2,     2.02,2,   -999.0,9,   -999.0,9,-999.0000,9,  -999.00,      655
  49UP20161021,RF1608,  5929,  1,     99,     99,2,20161101,1614, 38.2685, 135.8502, 2811,      0.0,  19.6134,  33.3629,2,-999.0000,9,    225.5,2,     2.54,2,     0.67,2,     0.17,2,     0.05,2,   -999.0,9,   -999.0,9,-999.0000,9,  -999.00,     1700
  49UP20161021,RF1608,  5929,  1,     33,  24469,2,20161101,1614, 38.2685, 135.8502, 2811,     11.9,  19.6009,  33.3591,2,-999.0000,9,    226.3,2,     2.21,2,     0.41,2,     0.09,2,     0.03,2,   -999.0,9,   -999.0,9,-999.0000,9,  -999.00,     1741
  49UP20161021,RF1608,  5929,  1,     32,  25089,2,20161101,1614, 38.2685, 135.8502, 2811,     27.1,  19.6247,  33.3611,2,-999.0000,9,    226.3,6,     2.22,6,     0.45,6,     0.09,6,     0.03,6,   -999.0,9,   -999.0,9,-999.0000,9,  -999.00,     1740
  49UP20161021,RF1608,  5929,  1,     31,  23515,2,20161101,1614, 38.2685, 135.8502, 2811,     52.4,  19.3823,  33.5347,2,-999.0000,9,    221.7,2,     3.00,2,     1.10,2,     0.14,2,     0.08,2,   -999.0,9,   -999.0,9,-999.0000,9,  -999.00,     1738
  49UP20161021,RF1608,  5929,  1,     30,  22097,2,20161101,1614, 38.2685, 135.8502, 2811,     53.3,  19.0516,  33.7106,2,-999.0000,9,    222.7,2,     2.87,2,     0.95,2,     0.14,2,     0.08,2,   -999.0,9,   -999.0,9,-999.0000,9,  -999.00,     1738
  49UP20161021,RF1608,  5929,  1,     29,  22102,2,20161101,1614, 38.2685, 135.8502, 2811,     78.3,  15.9982,  34.3445,2,-999.0000,9,    185.3,2,    11.17,2,     8.04,2,     0.04,2,     0.55,2,   -999.0,9,   -999.0,9,-999.0000,9,  -999.00,     1737
  49UP20161021,RF1608,  5929,  1,     28,  24472,2,20161101,1614, 38.2685, 135.8502, 2811,    103.9,  11.8507,  34.2585,2,-999.0000,9,    226.6,2,     9.10,2,     7.83,2,     0.02,2,     0.56,2,   -999.0,9,   -999.0,9,-999.0000,9,  -999.00,     1736
  49UP20161021,RF1608,  5929,  1,     27,  21998,2,20161101,1614, 38.2685, 135.8502, 2811,    129.3,   7.6720,  34.0993,2,-999.0000,9,    248.7,2,    11.35,2,    10.08,2,     0.01,2,     0.73,2,   -999.0,9,   -999.0,9,-999.0000,9,  -999.00,     1735
  49UP20161021,RF1608,  5929,  1,     26,  22084,2,20161101,1614, 38.2685, 135.8502, 2811,    152.8,   4.9445,  34.0096,2,-999.0000,9,    266.1,2,    12.40,2,    10.91,2,     0.00,2,     0.81,2,   -999.0,9,   -999.0,9,-999.0000,9,  -999.00,     1734
  49UP20161021,RF1608,  5929,  1,     25,  22098,2,20161101,1614, 38.2685, 135.8502, 2811,    203.7,   2.4068,  33.9879,2,-999.0000,9,    287.4,2,    15.21,2,    12.44,2,     0.00,2,     0.91,2,   -999.0,9,   -999.0,9,-999.0000,9,  -999.00,     1732
  49UP20161021,RF1608,  5929,  1,     21,  22078,2,20161101,1614, 38.2685, 135.8502, 2811,    253.5,   1.5946,  34.0171,2,-999.0000,9,    271.6,2,    21.45,2,    16.32,2,     0.00,2,     1.20,2,   -999.0,9,   -999.0,9,-999.0000,9,  -999.00,     1728
  49UP20161021,RF1608,  5929,  1,     20,  22093,2,20161101,1614, 38.2685, 135.8502, 2811,    306.1,   1.2407,  34.0468,2,-999.0000,9,    231.4,2,    33.81,2,    21.45,2,     0.00,2,     1.62,2,   -999.0,9,   -999.0,9,-999.0000,9,  -999.00,     1726
  49UP20161021,RF1608,  5929,  1,     19,  24269,2,20161101,1614, 38.2685, 135.8502, 2811,    406.5,   0.8498,  34.0604,2,-999.0000,9,    217.1,2,    40.87,2,    23.87,2,     0.00,2,     1.81,2,   -999.0,9,   -999.0,9,-999.0000,9,  -999.00,     1723
  49UP20161021,RF1608,  5929,  1,     18,  25088,2,20161101,1614, 38.2685, 135.8502, 2811,    507.5,   0.6711,  34.0671,2,-999.0000,9,    206.8,2,    47.48,2,    25.01,2,     0.00,2,     1.91,2,   -999.0,9,   -999.0,9,-999.0000,9,  -999.00,     1720
  49UP20161021,RF1608,  5929,  1,     17,  22090,2,20161101,1614, 38.2685, 135.8502, 2811,    609.1,   0.5563,  34.0692,2,-999.0000,9,    203.0,6,    52.66,6,    25.41,6,     0.00,6,     1.95,6,   -999.0,9,   -999.0,9,-999.0000,9,  -999.00,     1717
  49UP20161021,RF1608,  5929,  1,     15,  22665,2,20161101,1614, 38.2685, 135.8502, 2811,    709.7,   0.4608,  34.0700,2,-999.0000,9,    201.5,2,    57.72,2,    25.50,2,     0.00,2,     1.96,2,   -999.0,9,   -999.0,9,-999.0000,9,  -999.00,     1713
  49UP20161021,RF1608,  5929,  1,     16,  24474,2,20161101,1614, 38.2685, 135.8502, 2811,    710.7,   0.4607,  34.0700,2,-999.0000,9,    201.4,2,    57.70,2,    25.49,2,     0.00,2,     1.96,2,   -999.0,9,   -999.0,9,-999.0000,9,  -999.00,     1713
  49UP20161021,RF1608,  5929,  1,     14,  21999,2,20161101,1614, 38.2685, 135.8502, 2811,    810.6,   0.3943,  34.0697,2,-999.0000,9,    200.8,2,    61.78,2,    25.57,2,     0.00,2,     1.96,2,   -999.0,9,   -999.0,9,-999.0000,9,  -999.00,     1710
  49UP20161021,RF1608,  5929,  1,     13,  22667,2,20161101,1614, 38.2685, 135.8502, 2811,    911.8,   0.3431,  34.0693,2,-999.0000,9,    200.2,2,    65.19,2,    25.58,2,     0.00,2,     1.97,2,   -999.0,9,   -999.0,9,-999.0000,9,  -999.00,     1704
  49UP20161021,RF1608,  5929,  1,     12,  22074,2,20161101,1614, 38.2685, 135.8502, 2811,   1011.7,   0.3073,  34.0689,2,-999.0000,9,    200.2,2,    68.49,2,    25.59,2,     0.00,2,     1.98,2,   -999.0,9,   -999.0,9,-999.0000,9,  -999.00,     1701
  49UP20161021,RF1608,  5929,  1,     11,  24268,2,20161101,1614, 38.2685, 135.8502, 2811,   1216.3,   0.2672,  34.0684,2,-999.0000,9,    199.8,2,    72.85,2,    25.61,2,     0.00,2,     2.01,2,   -999.0,9,   -999.0,9,-999.0000,9,  -999.00,     1655
  49UP20161021,RF1608,  5929,  1,     10,  24267,2,20161101,1614, 38.2685, 135.8502, 2811,   1419.6,   0.2350,  34.0679,2,-999.0000,9,    200.3,2,    77.27,2,    25.68,2,     0.00,2,     1.99,2,   -999.0,9,   -999.0,9,-999.0000,9,  -999.00,     1648
  49UP20161021,RF1608,  5929,  1,      9,  23518,2,20161101,1614, 38.2685, 135.8502, 2811,   1620.2,   0.2245,  34.0678,2,-999.0000,9,    199.9,2,    79.91,2,    25.68,2,     0.00,2,     2.00,2,   -999.0,9,   -999.0,9,-999.0000,9,  -999.00,     1642
  49UP20161021,RF1608,  5929,  1,      6,  22113,2,20161101,1614, 38.2685, 135.8502, 2811,   1821.6,   0.2211,  34.0677,2,-999.0000,9,    199.6,2,    82.56,2,    25.74,2,     0.00,2,     2.00,2,   -999.0,9,   -999.0,9,-999.0000,9,  -999.00,     1637
  49UP20161021,RF1608,  5929,  1,      5,  24658,2,20161101,1614, 38.2685, 135.8502, 2811,   2027.9,   0.2274,  34.0676,2,-999.0000,9,    199.1,6,    84.79,6,    25.85,6,     0.00,6,     2.02,6,   -999.0,9,   -999.0,9,-999.0000,9,  -999.00,     1631
  49UP20161021,RF1608,  5929,  1,      4,  24471,2,20161101,1614, 38.2685, 135.8502, 2811,   2279.5,   0.2424,  34.0676,2,  34.0678,2,    198.6,2,    86.45,2,    25.91,2,     0.00,2,     2.02,2,   -999.0,9,   -999.0,9,-999.0000,9,  -999.00,     1626
  49UP20161021,RF1608,  5929,  1,      3,  22104,2,20161101,1614, 38.2685, 135.8502, 2811,   2279.5,   0.2425,  34.0676,2,  34.0669,2,    198.4,2,    86.56,2,    25.90,2,     0.00,2,     2.01,2,   -999.0,9,   -999.0,9,-999.0000,9,  -999.00,     1625
  49UP20161021,RF1608,  5929,  1,      2,  22075,2,20161101,1614, 38.2685, 135.8502, 2811,   2535.4,   0.2625,  34.0676,2,-999.0000,9,    198.2,2,    86.68,2,    25.89,2,     0.00,2,     2.01,2,   -999.0,9,   -999.0,9,-999.0000,9,  -999.00,     1619
  49UP20161021,RF1608,  5929,  1,      1,  21997,2,20161101,1614, 38.2685, 135.8502, 2811,   2787.1,   0.2833,  34.0677,2,  34.0662,4,    198.4,2,    86.70,2,    25.92,2,     0.00,2,     2.01,2,   -999.0,9,   -999.0,9,-999.0000,9,  -999.00,     1614