BOTTLE,20200306PRINUNIVRMK
EXPOCODE,SECT_ID,STNNBR,CASTNO,SAMPNO,BTLNBR,BTLNBR_FLAG_W,DATE,TIME,LATITUDE,LONGITUDE,DEPTH,CTDPRS,CTDTMP,CTDSAL,CTDSAL_FLAG_W,SALNTY,SALNTY_FLAG_W,OXYGEN,OXYGEN_FLAG_W,SILCAT,SILCAT_FLAG_W,NITRAT,NITRAT_FLAG_W,NITRIT,NITRIT_FLAG_W,PHSPHT,PHSPHT_FLAG_W,TCARBN,TCARBN_FLAG_W,ALKALI,ALKALI_FLAG_W,PH_TOT,PH_TOT_FLAG_W,PH_TMP,BTL_TIME
,,,,,,,,,,,METERS,DBAR,ITS-90,PSS-78,,PSS-78,,UMOL/KG,,UMOL/KG,,UMOL/KG,,UMOL/KG,,UMOL/KG,,UMOL/KG,,UMOL/KG,,,,DEG C,
  49UP20161021,RF1608,  5931,  1,     99,     99,2,20161102,0237, 38.5003, 135.1565, 3012,      0.0,  17.6990,  33.1144,2,-999.0000,9,    235.5,2,     2.91,2,     0.31,2,     0.03,2,     0.06,2,   -999.0,9,   -999.0,9,-999.0000,9,  -999.00,      325
  49UP20161021,RF1608,  5931,  1,     36,  22109,2,20161102,0237, 38.5003, 135.1565, 3012,     12.0,  17.7029,  33.1143,2,-999.0000,9,    234.9,2,     2.87,2,     0.29,2,     0.02,2,     0.02,2,   -999.0,9,   -999.0,9,-999.0000,9,  -999.00,      359
  49UP20161021,RF1608,  5931,  1,     35,  22112,2,20161102,0237, 38.5003, 135.1565, 3012,     27.2,  17.7043,  33.1149,2,-999.0000,9,    234.8,2,     2.90,2,     0.28,2,     0.02,2,     0.02,2,   -999.0,9,   -999.0,9,-999.0000,9,  -999.00,      358
  49UP20161021,RF1608,  5931,  1,     34,  22094,2,20161102,0237, 38.5003, 135.1565, 3012,     51.7,  17.7064,  33.1136,2,-999.0000,9,    234.4,6,     2.89,6,     0.30,6,     0.03,6,     0.03,6,   -999.0,9,   -999.0,9,-999.0000,9,  -999.00,      355
  49UP20161021,RF1608,  5931,  1,     32,  25089,2,20161102,0237, 38.5003, 135.1565, 3012,     76.6,  16.3432,  34.3732,2,-999.0000,9,    188.1,2,    10.23,2,     6.74,2,     0.03,2,     0.48,2,   -999.0,9,   -999.0,9,-999.0000,9,  -999.00,      354
  49UP20161021,RF1608,  5931,  1,     33,  24469,2,20161102,0237, 38.5003, 135.1565, 3012,     76.7,  16.3595,  34.3787,2,-999.0000,9,    188.0,2,    10.05,2,     6.66,2,     0.03,2,     0.47,2,   -999.0,9,   -999.0,9,-999.0000,9,  -999.00,      354
  49UP20161021,RF1608,  5931,  1,     31,  23515,2,20161102,0237, 38.5003, 135.1565, 3012,    102.9,  13.6968,  34.3621,2,-999.0000,9,    210.8,2,     9.17,2,     7.02,2,     0.02,2,     0.51,2,   -999.0,9,   -999.0,9,-999.0000,9,  -999.00,      353
  49UP20161021,RF1608,  5931,  1,     30,  22097,2,20161102,0237, 38.5003, 135.1565, 3012,    128.2,   9.7974,  34.1690,2,-999.0000,9,    240.7,2,    10.05,2,     8.84,2,     0.01,2,     0.65,2,   -999.0,9,   -999.0,9,-999.0000,9,  -999.00,      351
  49UP20161021,RF1608,  5931,  1,     29,  22102,2,20161102,0237, 38.5003, 135.1565, 3012,    151.9,   5.4081,  34.0341,2,-999.0000,9,    258.4,2,    13.68,2,    11.66,2,     0.01,2,     0.86,2,   -999.0,9,   -999.0,9,-999.0000,9,  -999.00,      350
  49UP20161021,RF1608,  5931,  1,     28,  24472,2,20161102,0237, 38.5003, 135.1565, 3012,    203.7,   2.3492,  34.0150,2,-999.0000,9,    260.9,2,    21.17,2,    15.93,2,     0.00,2,     1.18,2,   -999.0,9,   -999.0,9,-999.0000,9,  -999.00,      348
  49UP20161021,RF1608,  5931,  1,     27,  21998,2,20161102,0237, 38.5003, 135.1565, 3012,    256.8,   1.6190,  34.0287,2,-999.0000,9,    262.4,2,    24.28,2,    17.46,2,     0.00,2,     1.29,2,   -999.0,9,   -999.0,9,-999.0000,9,  -999.00,      345
  49UP20161021,RF1608,  5931,  1,     26,  22084,2,20161102,0237, 38.5003, 135.1565, 3012,    304.1,   1.2921,  34.0422,2,-999.0000,9,    245.4,2,    30.49,2,    20.01,2,     0.00,2,     1.50,2,   -999.0,9,   -999.0,9,-999.0000,9,  -999.00,      343
  49UP20161021,RF1608,  5931,  1,     25,  22098,2,20161102,0237, 38.5003, 135.1565, 3012,    405.6,   0.8798,  34.0586,2,-999.0000,9,    219.8,2,    39.67,2,    23.47,2,     0.00,2,     1.78,2,   -999.0,9,   -999.0,9,-999.0000,9,  -999.00,      340
  49UP20161021,RF1608,  5931,  1,     21,  22078,2,20161102,0237, 38.5003, 135.1565, 3012,    504.2,   0.7009,  34.0663,2,-999.0000,9,    210.0,2,    45.65,2,    24.72,2,     0.00,2,     1.89,2,   -999.0,9,   -999.0,9,-999.0000,9,  -999.00,      338
  49UP20161021,RF1608,  5931,  1,     20,  22093,2,20161102,0237, 38.5003, 135.1565, 3012,    607.9,   0.5986,  34.0690,2,-999.0000,9,    203.8,2,    50.62,2,    25.30,2,     0.00,2,     1.94,2,   -999.0,9,   -999.0,9,-999.0000,9,  -999.00,      335
  49UP20161021,RF1608,  5931,  1,     19,  24269,2,20161102,0237, 38.5003, 135.1565, 3012,    709.7,   0.4968,  34.0697,2,-999.0000,9,    201.6,6,    56.13,6,    25.44,6,     0.00,6,     1.96,6,   -999.0,9,   -999.0,9,-999.0000,9,  -999.00,      332
  49UP20161021,RF1608,  5931,  1,     18,  25088,2,20161102,0237, 38.5003, 135.1565, 3012,    808.6,   0.4395,  34.0700,2,-999.0000,9,    200.9,2,    59.10,2,    25.48,2,     0.00,2,     1.96,2,   -999.0,9,   -999.0,9,-999.0000,9,  -999.00,      329
  49UP20161021,RF1608,  5931,  1,     17,  22090,2,20161102,0237, 38.5003, 135.1565, 3012,    808.7,   0.4391,  34.0698,2,-999.0000,9,    200.7,2,    59.18,2,    25.52,2,     0.00,2,     1.97,2,   -999.0,9,   -999.0,9,-999.0000,9,  -999.00,      329
  49UP20161021,RF1608,  5931,  1,     16,  24474,2,20161102,0237, 38.5003, 135.1565, 3012,    909.8,   0.3836,  34.0696,2,-999.0000,9,    200.3,2,    62.80,2,    25.54,2,     0.00,2,     1.97,2,   -999.0,9,   -999.0,9,-999.0000,9,  -999.00,      325
  49UP20161021,RF1608,  5931,  1,     15,  22665,2,20161102,0237, 38.5003, 135.1565, 3012,   1012.6,   0.3420,  34.0693,2,-999.0000,9,    200.2,2,    65.85,2,    25.55,2,     0.00,2,     1.97,2,   -999.0,9,   -999.0,9,-999.0000,9,  -999.00,      322
  49UP20161021,RF1608,  5931,  1,     14,  21999,2,20161102,0237, 38.5003, 135.1565, 3012,   1215.5,   0.2877,  34.0687,2,-999.0000,9,    200.0,2,    71.06,2,    25.57,2,     0.00,2,     1.98,2,   -999.0,9,   -999.0,9,-999.0000,9,  -999.00,      317
  49UP20161021,RF1608,  5931,  1,     13,  22667,2,20161102,0237, 38.5003, 135.1565, 3012,   1414.2,   0.2505,  34.0681,2,-999.0000,9,    199.9,2,    75.53,2,    25.59,2,     0.00,2,     1.99,2,   -999.0,9,   -999.0,9,-999.0000,9,  -999.00,      313
  49UP20161021,RF1608,  5931,  1,     12,  22074,2,20161102,0237, 38.5003, 135.1565, 3012,   1619.9,   0.2353,  34.0678,2,-999.0000,9,    199.6,2,    78.84,2,    25.71,2,     0.00,2,     2.00,2,   -999.0,9,   -999.0,9,-999.0000,9,  -999.00,      307
  49UP20161021,RF1608,  5931,  1,     11,  24268,2,20161102,0237, 38.5003, 135.1565, 3012,   1819.4,   0.2307,  34.0677,2,-999.0000,9,    199.5,2,    80.97,2,    25.68,2,     0.00,2,     2.00,2,   -999.0,9,   -999.0,9,-999.0000,9,  -999.00,      303
  49UP20161021,RF1608,  5931,  1,     10,  24267,2,20161102,0237, 38.5003, 135.1565, 3012,   2023.9,   0.2344,  34.0676,2,-999.0000,9,    199.3,2,    83.06,2,    25.77,2,     0.00,2,     2.01,2,   -999.0,9,   -999.0,9,-999.0000,9,  -999.00,      259
  49UP20161021,RF1608,  5931,  1,      6,  22113,2,20161102,0237, 38.5003, 135.1565, 3012,   2280.0,   0.2434,  34.0677,2,-999.0000,9,    198.7,6,    85.72,6,    25.83,6,     0.00,6,     2.02,6,   -999.0,9,   -999.0,9,-999.0000,9,  -999.00,      253
  49UP20161021,RF1608,  5931,  1,      5,  24658,2,20161102,0237, 38.5003, 135.1565, 3012,   2535.3,   0.2623,  34.0677,2,  34.0673,2,    198.3,2,    86.46,2,    25.88,2,     0.00,2,     2.02,2,   -999.0,9,   -999.0,9,-999.0000,9,  -999.00,      248
  49UP20161021,RF1608,  5931,  1,      4,  24471,2,20161102,0237, 38.5003, 135.1565, 3012,   2535.6,   0.2622,  34.0677,2,  34.0670,2,    198.2,2,    86.51,2,    25.88,2,     0.00,2,     2.02,2,   -999.0,9,   -999.0,9,-999.0000,9,  -999.00,      248
  49UP20161021,RF1608,  5931,  1,      3,  22104,2,20161102,0237, 38.5003, 135.1565, 3012,   2789.6,   0.2832,  34.0678,2,-999.0000,9,    198.3,2,    86.76,2,    25.88,2,     0.00,2,     2.02,2,   -999.0,9,   -999.0,9,-999.0000,9,  -999.00,      242
  49UP20161021,RF1608,  5931,  1,      1,  21997,2,20161102,0237, 38.5003, 135.1565, 3012,   2989.8,   0.3007,  34.0678,2,  34.0678,2,    198.1,2,    86.83,2,    25.88,2,     0.00,2,     2.02,2,   -999.0,9,   -999.0,9,-999.0000,9,  -999.00,      237
  49UP20161021,RF1608,  5933,  1,     99,     99,2,20161104,0245, 37.3275, 134.3508, 2589,      0.0,  17.7539,  33.3293,2,-999.0000,9,    236.2,2,     3.20,2,     0.38,2,     0.04,2,     0.05,2,   -999.0,9,   -999.0,9,-999.0000,9,  -999.00,      320
  49UP20161021,RF1608,  5933,  1,     36,  22109,2,20161104,0245, 37.3275, 134.3508, 2589,     12.0,  17.7731,  33.3304,2,  33.3275,2,    235.5,2,     3.20,2,     0.35,2,     0.04,2,     0.03,2,   -999.0,9,   -999.0,9,-999.0000,9,  -999.00,      400
  49UP20161021,RF1608,  5933,  1,     35,  22112,2,20161104,0245, 37.3275, 134.3508, 2589,     26.8,  17.7939,  33.3594,2,  33.3594,2,    234.2,2,     3.10,2,     0.37,2,     0.05,2,     0.03,2,   -999.0,9,   -999.0,9,-999.0000,9,  -999.00,      400
  49UP20161021,RF1608,  5933,  1,     34,  22094,2,20161104,0245, 37.3275, 134.3508, 2589,     52.1,  17.2617,  34.3385,2,  34.3641,4,    188.6,6,     9.07,6,     6.41,6,     0.07,6,     0.44,6,   -999.0,9,   -999.0,9,-999.0000,9,  -999.00,      357
  49UP20161021,RF1608,  5933,  1,     30,  22097,2,20161104,0245, 37.3275, 134.3508, 2589,     76.6,  15.7948,  34.4386,2,  34.4388,2,    190.9,2,    10.37,2,     7.43,2,     0.04,2,     0.53,2,   -999.0,9,   -999.0,9,-999.0000,9,  -999.00,      355
  49UP20161021,RF1608,  5933,  1,     29,  22102,2,20161104,0245, 37.3275, 134.3508, 2589,     76.7,  15.7712,  34.4410,2,  34.4394,2,    191.2,2,    10.32,2,     7.45,2,     0.04,2,     0.54,2,   -999.0,9,   -999.0,9,-999.0000,9,  -999.00,      355
  49UP20161021,RF1608,  5933,  1,     28,  24472,2,20161104,0245, 37.3275, 134.3508, 2589,    102.6,  13.5979,  34.3668,2,  34.3585,2,    206.7,2,    10.58,2,     7.96,2,     0.03,2,     0.59,2,   -999.0,9,   -999.0,9,-999.0000,9,  -999.00,      354
  49UP20161021,RF1608,  5933,  1,     27,  21998,2,20161104,0245, 37.3275, 134.3508, 2589,    127.3,  10.0072,  34.1770,2,  34.1738,2,    239.8,2,     9.50,2,     8.57,2,     0.02,2,     0.63,2,   -999.0,9,   -999.0,9,-999.0000,9,  -999.00,      353
  49UP20161021,RF1608,  5933,  1,     26,  22084,2,20161104,0245, 37.3275, 134.3508, 2589,    154.5,   6.1276,  34.0356,2,  34.0372,2,    260.0,2,    11.72,2,     9.93,2,     0.02,2,     0.76,2,   -999.0,9,   -999.0,9,-999.0000,9,  -999.00,      351
  49UP20161021,RF1608,  5933,  1,     25,  22098,2,20161104,0245, 37.3275, 134.3508, 2589,    205.8,   2.8468,  34.0130,2,  34.0125,6,    260.1,2,    19.61,2,    14.84,2,     0.00,2,     1.12,2,   -999.0,9,   -999.0,9,-999.0000,9,  -999.00,      349
  49UP20161021,RF1608,  5933,  1,     24,  22110,2,20161104,0245, 37.3275, 134.3508, 2589,    256.2,   1.4849,  34.0086,2,  34.0096,2,    259.2,2,    23.15,2,    17.49,2,     0.00,2,     1.31,2,   -999.0,9,   -999.0,9,-999.0000,9,  -999.00,      347
  49UP20161021,RF1608,  5933,  1,     23,  23679,2,20161104,0245, 37.3275, 134.3508, 2589,    307.1,   1.1928,  34.0343,2,  34.0339,2,    243.8,2,    28.75,2,    20.09,2,     0.00,2,     1.51,2,   -999.0,9,   -999.0,9,-999.0000,9,  -999.00,      344
  49UP20161021,RF1608,  5933,  1,     22,  22111,2,20161104,0245, 37.3275, 134.3508, 2589,    406.9,   0.8500,  34.0569,2,  34.0563,2,    224.4,2,    37.08,2,    23.06,2,     0.00,2,     1.76,2,   -999.0,9,   -999.0,9,-999.0000,9,  -999.00,      341
  49UP20161021,RF1608,  5933,  1,     18,  25088,2,20161104,0245, 37.3275, 134.3508, 2589,    508.6,   0.6657,  34.0665,2,  34.0669,2,    210.5,2,    45.39,2,    24.52,2,     0.00,2,     1.89,2,   -999.0,9,   -999.0,9,-999.0000,9,  -999.00,      337
  49UP20161021,RF1608,  5933,  1,     17,  22090,2,20161104,0245, 37.3275, 134.3508, 2589,    609.0,   0.5549,  34.0690,2,  34.0693,2,    203.2,2,    52.48,2,    25.21,2,     0.00,2,     1.95,2,   -999.0,9,   -999.0,9,-999.0000,9,  -999.00,      334
  49UP20161021,RF1608,  5933,  1,     16,  24474,2,20161104,0245, 37.3275, 134.3508, 2589,    709.3,   0.4634,  34.0695,2,  34.0702,2,    201.2,2,    57.56,2,    25.35,2,     0.00,2,     1.96,2,   -999.0,9,   -999.0,9,-999.0000,9,  -999.00,      330
  49UP20161021,RF1608,  5933,  1,     15,  22665,2,20161104,0245, 37.3275, 134.3508, 2589,    808.9,   0.4003,  34.0691,2,  34.0691,6,    200.1,6,    61.61,6,    25.42,6,     0.00,6,     1.97,6,   -999.0,9,   -999.0,9,-999.0000,9,  -999.00,      325
  49UP20161021,RF1608,  5933,  1,     13,  22667,2,20161104,0245, 37.3275, 134.3508, 2589,    911.4,   0.3440,  34.0688,2,  34.0690,2,    199.9,2,    65.25,2,    25.49,2,     0.00,2,     1.98,2,   -999.0,9,   -999.0,9,-999.0000,9,  -999.00,      322
  49UP20161021,RF1608,  5933,  1,     14,  21999,2,20161104,0245, 37.3275, 134.3508, 2589,    912.0,   0.3433,  34.0689,2,  34.0691,2,    200.0,2,    65.30,2,    25.48,2,     0.00,2,     1.98,2,   -999.0,9,   -999.0,9,-999.0000,9,  -999.00,      323
  49UP20161021,RF1608,  5933,  1,     12,  22074,2,20161104,0245, 37.3275, 134.3508, 2589,   1011.7,   0.3078,  34.0686,2,  34.0688,6,    199.8,2,    68.29,2,    25.49,2,     0.00,2,     1.98,2,   -999.0,9,   -999.0,9,-999.0000,9,  -999.00,      319
  49UP20161021,RF1608,  5933,  1,     11,  24268,2,20161104,0245, 37.3275, 134.3508, 2589,   1213.5,   0.2657,  34.0679,2,  34.0680,2,    199.2,2,    73.12,2,    25.53,2,     0.00,2,     1.99,2,   -999.0,9,   -999.0,9,-999.0000,9,  -999.00,      314
  49UP20161021,RF1608,  5933,  1,     10,  24267,2,20161104,0245, 37.3275, 134.3508, 2589,   1415.8,   0.2360,  34.0675,2,  34.0674,2,    198.8,2,    77.61,2,    25.57,2,     0.00,2,     2.00,2,   -999.0,9,   -999.0,9,-999.0000,9,  -999.00,      309
  49UP20161021,RF1608,  5933,  1,      9,  23518,2,20161104,0245, 37.3275, 134.3508, 2589,   1619.1,   0.2240,  34.0673,2,  34.0678,2,    199.3,2,    80.14,2,    25.60,2,     0.00,2,     2.00,2,   -999.0,9,   -999.0,9,-999.0000,9,  -999.00,      304
  49UP20161021,RF1608,  5933,  1,      8,  24470,2,20161104,0245, 37.3275, 134.3508, 2589,   1819.9,   0.2233,  34.0671,2,  34.0672,2,    199.0,2,    82.44,2,    25.72,2,     0.00,2,     2.02,2,   -999.0,9,   -999.0,9,-999.0000,9,  -999.00,      300
  49UP20161021,RF1608,  5933,  1,      7,  23516,2,20161104,0245, 37.3275, 134.3508, 2589,   2025.0,   0.2287,  34.0672,2,  34.0672,2,    198.8,2,    84.40,2,    25.76,2,     0.00,2,     2.01,2,   -999.0,9,   -999.0,9,-999.0000,9,  -999.00,      255
  49UP20161021,RF1608,  5933,  1,      3,  22104,2,20161104,0245, 37.3275, 134.3508, 2589,   2278.4,   0.2436,  34.0671,2,  34.0676,6,    197.9,6,    86.19,6,    25.79,6,     0.00,6,     2.02,6,   -999.0,9,   -999.0,9,-999.0000,9,  -999.00,      250
  49UP20161021,RF1608,  5933,  1,      2,  22075,2,20161104,0245, 37.3275, 134.3508, 2589,   2550.7,   0.2651,  34.0672,2,  34.0672,2,    197.8,2,    86.52,2,    25.83,2,     0.00,2,     2.02,2,   -999.0,9,   -999.0,9,-999.0000,9,  -999.00,      245