BOTTLE,20200306PRINUNIVRMK
EXPOCODE,SECT_ID,STNNBR,CASTNO,SAMPNO,BTLNBR,BTLNBR_FLAG_W,DATE,TIME,LATITUDE,LONGITUDE,DEPTH,CTDPRS,CTDTMP,CTDSAL,CTDSAL_FLAG_W,SALNTY,SALNTY_FLAG_W,OXYGEN,OXYGEN_FLAG_W,SILCAT,SILCAT_FLAG_W,NITRAT,NITRAT_FLAG_W,NITRIT,NITRIT_FLAG_W,PHSPHT,PHSPHT_FLAG_W,TCARBN,TCARBN_FLAG_W,ALKALI,ALKALI_FLAG_W,PH_TOT,PH_TOT_FLAG_W,PH_TMP,BTL_TIME
,,,,,,,,,,,METERS,DBAR,ITS-90,PSS-78,,PSS-78,,UMOL/KG,,UMOL/KG,,UMOL/KG,,UMOL/KG,,UMOL/KG,,UMOL/KG,,UMOL/KG,,,,DEG C,
  49UP20161021,RF1608,  5905,  1,     99,     99,2,20161027,0829, 42.8352, 138.0018, 3669,      0.0,  15.0067,  33.7039,2,-999.0000,9,    252.7,2,     3.41,2,     0.04,2,     0.00,2,     0.02,2,   -999.0,9,   -999.0,9,-999.0000,9,  -999.00,      950
  49UP20161021,RF1608,  5905,  1,     36,  22109,2,20161027,0829, 42.8352, 138.0018, 3669,     11.6,  15.0125,  33.7042,2,-999.0000,9,    252.2,2,     3.50,2,     0.02,2,     0.00,2,     0.01,2,   -999.0,9,   -999.0,9,-999.0000,9,  -999.00,     1013
  49UP20161021,RF1608,  5905,  1,     35,  22112,2,20161027,0829, 42.8352, 138.0018, 3669,     26.5,  15.0094,  33.7011,2,-999.0000,9,    252.4,2,     3.50,2,     0.03,2,     0.00,2,     0.02,2,   -999.0,9,   -999.0,9,-999.0000,9,  -999.00,     1011
  49UP20161021,RF1608,  5905,  1,     34,  22094,2,20161027,0829, 42.8352, 138.0018, 3669,     51.9,   7.9263,  34.0158,2,-999.0000,9,    299.5,2,     7.19,2,     4.00,2,     0.12,2,     0.38,2,   -999.0,9,   -999.0,9,-999.0000,9,  -999.00,     1010
  49UP20161021,RF1608,  5905,  1,     33,  24469,2,20161027,0829, 42.8352, 138.0018, 3669,     77.3,   4.4260,  34.0216,2,-999.0000,9,    278.7,2,    12.79,2,    10.64,2,     0.02,2,     0.79,2,   -999.0,9,   -999.0,9,-999.0000,9,  -999.00,     1009
  49UP20161021,RF1608,  5905,  1,     32,  25089,2,20161027,0829, 42.8352, 138.0018, 3669,    102.3,   3.1950,  34.0266,2,-999.0000,9,    286.1,2,    14.28,2,    11.81,2,     0.01,2,     0.86,2,   -999.0,9,   -999.0,9,-999.0000,9,  -999.00,     1006
  49UP20161021,RF1608,  5905,  1,     31,  23515,2,20161027,0829, 42.8352, 138.0018, 3669,    127.7,   2.4970,  34.0332,2,-999.0000,9,    294.3,2,    14.51,2,    12.05,2,     0.01,2,     0.88,2,   -999.0,9,   -999.0,9,-999.0000,9,  -999.00,     1005
  49UP20161021,RF1608,  5905,  1,     27,  21998,2,20161027,0829, 42.8352, 138.0018, 3669,    153.0,   2.0804,  34.0213,2,-999.0000,9,    297.7,6,    15.45,6,    12.50,6,     0.00,6,     0.91,6,   -999.0,9,   -999.0,9,-999.0000,9,  -999.00,     1003
  49UP20161021,RF1608,  5905,  1,     25,  22098,2,20161027,0829, 42.8352, 138.0018, 3669,    201.8,   1.6322,  34.0315,2,-999.0000,9,    298.9,2,    16.97,2,    13.33,2,     0.00,2,     0.97,2,   -999.0,9,   -999.0,9,-999.0000,9,  -999.00,     1001
  49UP20161021,RF1608,  5905,  1,     26,  22084,2,20161027,0829, 42.8352, 138.0018, 3669,    202.3,   1.6351,  34.0321,2,-999.0000,9,    298.7,2,    16.93,2,    13.33,2,     0.00,2,     0.97,2,   -999.0,9,   -999.0,9,-999.0000,9,  -999.00,     1001
  49UP20161021,RF1608,  5905,  1,     24,  22110,2,20161027,0829, 42.8352, 138.0018, 3669,    253.6,   1.4251,  34.0410,2,-999.0000,9,    286.2,2,    20.65,2,    15.57,2,     0.00,2,     1.14,2,   -999.0,9,   -999.0,9,-999.0000,9,  -999.00,      959
  49UP20161021,RF1608,  5905,  1,     23,  23679,2,20161027,0829, 42.8352, 138.0018, 3669,    305.3,   1.1502,  34.0446,2,-999.0000,9,    270.0,2,    25.11,2,    18.06,2,     0.00,2,     1.32,2,   -999.0,9,   -999.0,9,-999.0000,9,  -999.00,      958
  49UP20161021,RF1608,  5905,  1,     22,  22111,3,20161027,0829, 42.8352, 138.0018, 3669,    405.4,   0.8813,  34.0559,2,-999.0000,9,    245.5,2,    32.21,2,    21.37,2,     0.00,2,     1.59,2,   -999.0,9,   -999.0,9,-999.0000,9,  -999.00,      955
  49UP20161021,RF1608,  5905,  1,     21,  22078,2,20161027,0829, 42.8352, 138.0018, 3669,    507.2,   0.7646,  34.0638,2,-999.0000,9,    226.6,6,    38.73,6,    23.35,6,     0.00,6,     1.76,6,   -999.0,9,   -999.0,9,-999.0000,9,  -999.00,      952
  49UP20161021,RF1608,  5905,  1,     19,  24269,2,20161027,0829, 42.8352, 138.0018, 3669,    607.2,   0.6540,  34.0689,2,-999.0000,9,    212.4,2,    45.50,2,    24.62,2,     0.00,2,     1.88,2,   -999.0,9,   -999.0,9,-999.0000,9,  -999.00,      949
  49UP20161021,RF1608,  5905,  1,     20,  22093,2,20161027,0829, 42.8352, 138.0018, 3669,    607.7,   0.6538,  34.0688,2,-999.0000,9,    212.4,2,    45.43,2,    24.61,2,     0.00,2,     1.88,2,   -999.0,9,   -999.0,9,-999.0000,9,  -999.00,      949
  49UP20161021,RF1608,  5905,  1,     18,  25088,2,20161027,0829, 42.8352, 138.0018, 3669,    708.8,   0.5516,  34.0706,2,-999.0000,9,    206.0,2,    51.34,2,    25.15,2,     0.00,2,     1.92,2,   -999.0,9,   -999.0,9,-999.0000,9,  -999.00,      946
  49UP20161021,RF1608,  5905,  1,     17,  22090,2,20161027,0829, 42.8352, 138.0018, 3669,    810.0,   0.4715,  34.0709,2,-999.0000,9,    202.9,2,    56.02,2,    25.42,2,     0.00,2,     1.94,2,   -999.0,9,   -999.0,9,-999.0000,9,  -999.00,      943
  49UP20161021,RF1608,  5905,  1,     16,  24474,3,20161027,0829, 42.8352, 138.0018, 3669,    910.7,   0.4123,  34.0707,2,-999.0000,9,    201.2,2,    59.68,2,    25.53,2,     0.00,2,     1.95,2,   -999.0,9,   -999.0,9,-999.0000,9,  -999.00,      940
  49UP20161021,RF1608,  5905,  1,     15,  22665,2,20161027,0829, 42.8352, 138.0018, 3669,   1012.9,   0.3590,  34.0701,2,-999.0000,9,    200.4,2,    63.26,2,    25.59,2,     0.00,2,     1.96,2,   -999.0,9,   -999.0,9,-999.0000,9,  -999.00,      936
  49UP20161021,RF1608,  5905,  1,     13,  22667,2,20161027,0829, 42.8352, 138.0018, 3669,   1214.7,   0.2883,  34.0690,2,-999.0000,9,    200.5,2,    68.79,2,    25.61,2,     0.00,2,     1.97,2,   -999.0,9,   -999.0,9,-999.0000,9,  -999.00,      931
  49UP20161021,RF1608,  5905,  1,     12,  22074,2,20161027,0829, 42.8352, 138.0018, 3669,   1418.2,   0.2552,  34.0684,2,-999.0000,9,    201.3,2,    72.49,2,    25.57,2,     0.00,2,     1.97,2,   -999.0,9,   -999.0,9,-999.0000,9,  -999.00,      926
  49UP20161021,RF1608,  5905,  1,     11,  24268,2,20161027,0829, 42.8352, 138.0018, 3669,   1621.5,   0.2357,  34.0679,2,-999.0000,9,    201.5,2,    75.63,2,    25.62,2,     0.00,2,     1.97,2,   -999.0,9,   -999.0,9,-999.0000,9,  -999.00,      919
  49UP20161021,RF1608,  5905,  1,     10,  24267,2,20161027,0829, 42.8352, 138.0018, 3669,   1822.7,   0.2270,  34.0675,2,-999.0000,9,    201.6,2,    78.49,2,    25.66,2,     0.00,2,     1.98,2,   -999.0,9,   -999.0,9,-999.0000,9,  -999.00,      914
  49UP20161021,RF1608,  5905,  1,      9,  23518,2,20161027,0829, 42.8352, 138.0018, 3669,   2026.9,   0.2270,  34.0676,2,-999.0000,9,    202.0,2,    80.70,2,    25.68,2,     0.00,2,     1.98,2,   -999.0,9,   -999.0,9,-999.0000,9,  -999.00,      909
  49UP20161021,RF1608,  5905,  1,      7,  23516,2,20161027,0829, 42.8352, 138.0018, 3669,   2281.1,   0.2313,  34.0677,2,-999.0000,9,    202.6,2,    83.39,2,    25.71,2,     0.00,2,     1.99,2,   -999.0,9,   -999.0,9,-999.0000,9,  -999.00,      901
  49UP20161021,RF1608,  5905,  1,      8,  24470,2,20161027,0829, 42.8352, 138.0018, 3669,   2281.2,   0.2310,  34.0679,2,-999.0000,9,    202.2,2,    83.32,2,    25.75,2,     0.00,2,     1.99,2,   -999.0,9,   -999.0,9,-999.0000,9,  -999.00,      901
  49UP20161021,RF1608,  5905,  1,      6,  22113,2,20161027,0829, 42.8352, 138.0018, 3669,   2536.4,   0.2397,  34.0679,2,-999.0000,9,    202.7,2,    86.32,2,    25.79,2,     0.00,2,     2.00,2,   -999.0,9,   -999.0,9,-999.0000,9,  -999.00,      855
  49UP20161021,RF1608,  5905,  1,      5,  24658,2,20161027,0829, 42.8352, 138.0018, 3669,   2791.0,   0.2606,  34.0679,2,-999.0000,9,    202.6,2,    86.32,2,    25.77,2,     0.00,2,     1.99,2,   -999.0,9,   -999.0,9,-999.0000,9,  -999.00,      848
  49UP20161021,RF1608,  5905,  1,      4,  24471,2,20161027,0829, 42.8352, 138.0018, 3669,   3046.5,   0.2827,  34.0679,2,-999.0000,9,    202.6,2,    86.37,2,    25.81,2,     0.00,2,     1.99,2,   -999.0,9,   -999.0,9,-999.0000,9,  -999.00,      842
  49UP20161021,RF1608,  5905,  1,      3,  22104,2,20161027,0829, 42.8352, 138.0018, 3669,   3302.5,   0.3062,  34.0679,2,-999.0000,9,    202.8,2,    86.33,2,    25.82,2,     0.00,2,     1.99,2,   -999.0,9,   -999.0,9,-999.0000,9,  -999.00,      837
  49UP20161021,RF1608,  5905,  1,      2,  22075,2,20161027,0829, 42.8352, 138.0018, 3669,   3557.6,   0.3305,  34.0680,2,  34.0678,2,    202.7,6,    86.38,6,    25.79,6,     0.00,6,     2.00,6,   -999.0,9,   -999.0,9,-999.0000,9,  -999.00,      831
  49UP20161021,RF1608,  5905,  1,      1,  21997,2,20161027,0829, 42.8352, 138.0018, 3669,   3662.2,   0.3413,  34.0678,2,  34.0686,4,    202.8,2,    86.36,2,    25.77,2,     0.00,2,     2.00,2,   -999.0,9,   -999.0,9,-999.0000,9,  -999.00,      829
  49UP20161021,RF1608,  5906,  1,     99,     99,2,20161027,1830, 42.5183, 138.0655, 3688,      0.0,  15.5766,  33.6873,2,  33.7020,2,    248.0,2,     3.76,2,     0.02,2,     0.00,2,     0.02,2,   2003.5,2,   2258.7,2,   8.0024,2,    25.00,     1945
  49UP20161021,RF1608,  5906,  1,     36,  22109,2,20161027,1830, 42.5183, 138.0655, 3688,     11.2,  15.5881,  33.6874,2,  33.6843,2,    248.0,2,     3.82,2,     0.01,2,     0.00,2,     0.02,2,   2012.4,2,   2258.8,2,   8.0019,2,    25.00,     2016
  49UP20161021,RF1608,  5906,  1,     35,  22112,2,20161027,1830, 42.5183, 138.0655, 3688,     26.8,  15.5937,  33.6847,2,  33.6851,2,    247.9,2,     3.81,2,     0.02,2,     0.00,2,     0.02,2,   2003.8,2,   2259.2,2,   8.0024,2,    25.00,     2015
  49UP20161021,RF1608,  5906,  1,     34,  22094,2,20161027,1830, 42.5183, 138.0655, 3688,     52.8,   7.8574,  34.0577,2,  34.0489,2,    279.7,2,     7.69,2,     5.68,2,     0.08,2,     0.48,3,   2090.9,2,   2266.9,2,   7.8279,2,    25.00,     2014
  49UP20161021,RF1608,  5906,  1,     33,  24469,2,20161027,1830, 42.5183, 138.0655, 3688,     76.6,   4.7116,  34.0115,2,  34.0093,2,    277.5,2,    11.81,2,     9.78,2,     0.04,2,     0.75,2,   2131.7,2,   2262.1,2,   7.7175,2,    25.00,     2012
  49UP20161021,RF1608,  5906,  1,     32,  25089,2,20161027,1830, 42.5183, 138.0655, 3688,    103.0,   3.0663,  34.0278,2,  34.0247,2,    274.8,2,    17.14,2,    13.29,2,     0.00,2,     0.98,2,   2157.7,2,   2262.0,2,   7.6516,2,    25.00,     2011
  49UP20161021,RF1608,  5906,  1,     31,  23515,2,20161027,1830, 42.5183, 138.0655, 3688,    130.7,   2.2463,  34.0211,2,  34.0189,2,    294.9,6,    14.85,6,    12.28,6,     0.00,6,     0.90,6,   2154.2,2,   2260.3,2,   7.6611,2,    25.00,     2010
  49UP20161021,RF1608,  5906,  1,     29,  22102,2,20161027,1830, 42.5183, 138.0655, 3688,    153.1,   1.9655,  34.0216,2,  34.0242,2,    297.3,2,    15.62,2,    12.63,2,     0.00,2,     0.93,2,   2156.6,2,   2259.7,2,   7.6500,2,    25.00,     2008
  49UP20161021,RF1608,  5906,  1,     30,  22097,2,20161027,1830, 42.5183, 138.0655, 3688,    155.8,   1.9625,  34.0224,2,  34.0230,2,    297.3,2,    15.60,2,    12.61,2,     0.00,2,     0.93,2,   2154.7,2,   2260.3,2,   7.6471,2,    25.00,     2008
  49UP20161021,RF1608,  5906,  1,     28,  24472,2,20161027,1830, 42.5183, 138.0655, 3688,    203.2,   1.5483,  34.0413,2,  34.0402,6,    287.9,2,    19.41,2,    14.97,2,     0.00,2,     1.10,2,   2169.4,2,   2259.0,2,   7.6135,2,    25.00,     2005
  49UP20161021,RF1608,  5906,  1,     27,  21998,2,20161027,1830, 42.5183, 138.0655, 3688,    254.7,   1.2316,  34.0446,2,  34.0472,2,    276.1,2,    23.35,2,    17.07,2,     0.00,2,     1.25,2,   2184.1,2,   2260.7,2,   7.5713,2,    25.00,     2003
  49UP20161021,RF1608,  5906,  1,     26,  22084,2,20161027,1830, 42.5183, 138.0655, 3688,    303.3,   1.0789,  34.0481,2,  34.0471,2,    263.2,2,    26.88,2,    18.87,2,     0.00,2,     1.39,2,   2196.2,2,   2259.4,2,   7.5349,2,    25.00,     1959
  49UP20161021,RF1608,  5906,  1,     25,  22098,2,20161027,1830, 42.5183, 138.0655, 3688,    405.0,   0.8401,  34.0587,2,  34.0586,2,    240.0,2,    33.68,2,    21.84,2,     0.00,2,     1.64,2,   2214.0,2,   2260.9,2,   7.4762,2,    25.00,     1955
  49UP20161021,RF1608,  5906,  1,     24,  22110,2,20161027,1830, 42.5183, 138.0655, 3688,    508.5,   0.7242,  34.0663,2,  34.0671,2,    221.8,2,    40.72,2,    23.81,2,     0.00,2,     1.82,2,   2229.5,6,   2262.1,6,   7.4373,2,    25.00,     1952
  49UP20161021,RF1608,  5906,  1,     23,  23679,2,20161027,1830, 42.5183, 138.0655, 3688,    609.3,   0.6142,  34.0702,2,  34.0705,2,    208.4,6,    47.71,6,    24.88,6,     0.00,6,     1.91,6,   2236.6,2,   2264.4,2,   7.4174,2,    25.00,     1948
  49UP20161021,RF1608,  5906,  1,     22,  22111,2,20161027,1830, 42.5183, 138.0655, 3688,    709.9,   0.5269,  34.0712,2,  34.0728,2,    204.3,2,    52.72,2,    25.24,2,     0.00,2,     1.94,2,   2240.3,2,   2266.2,2,   7.4100,6,    25.00,     1945
  49UP20161021,RF1608,  5906,  1,     21,  22078,2,20161027,1830, 42.5183, 138.0655, 3688,    809.3,   0.4593,  34.0709,2,  34.0713,2,    202.5,2,    56.41,2,    25.37,2,     0.00,2,     1.95,2,   2242.5,2,   2268.4,2,   7.4081,2,    25.00,     1940
  49UP20161021,RF1608,  5906,  1,     20,  22093,2,20161027,1830, 42.5183, 138.0655, 3688,    910.5,   0.3950,  34.0704,2,  34.0697,2,    201.5,2,    60.55,2,    25.50,2,     0.00,2,     1.96,2,   2243.2,2,   2270.2,2,   7.4136,2,    25.00,     1937
  49UP20161021,RF1608,  5906,  1,     19,  24269,2,20161027,1830, 42.5183, 138.0655, 3688,   1012.5,   0.3483,  34.0699,2,  34.0705,2,    201.1,2,    63.57,2,    25.54,2,     0.00,2,     1.96,2,   2246.8,2,   2272.7,2,   7.4137,2,    25.00,     1934
  49UP20161021,RF1608,  5906,  1,     18,  25088,2,20161027,1830, 42.5183, 138.0655, 3688,   1212.4,   0.2919,  34.0691,2,  34.0686,2,    200.9,2,    68.24,2,    25.54,2,     0.00,2,     1.97,2,   2246.3,6,   2274.9,6,   7.4223,2,    25.00,     1930
  49UP20161021,RF1608,  5906,  1,     17,  22090,2,20161027,1830, 42.5183, 138.0655, 3688,   1414.8,   0.2551,  34.0683,2,  34.0695,6,    201.4,2,    72.11,2,    25.53,2,     0.00,2,     1.98,2,   2246.5,2,   2277.6,2,   7.4233,2,    25.00,     1924
  49UP20161021,RF1608,  5906,  1,     16,  24474,2,20161027,1830, 42.5183, 138.0655, 3688,   1618.6,   0.2347,  34.0679,2,  34.0675,2,    201.4,2,    75.37,2,    25.60,2,     0.00,2,     1.98,2,   2249.5,2,   2278.0,2,   7.4274,2,    25.00,     1919
  49UP20161021,RF1608,  5906,  1,     12,  22074,2,20161027,1830, 42.5183, 138.0655, 3688,   1822.1,   0.2249,  34.0678,2,  34.0671,2,    201.5,2,    78.55,2,    25.62,2,     0.00,2,     1.99,2,   2250.6,2,   2281.6,2,   7.4286,2,    25.00,     1915
  49UP20161021,RF1608,  5906,  1,     11,  24268,2,20161027,1830, 42.5183, 138.0655, 3688,   2025.8,   0.2255,  34.0677,2,  34.0678,6,    201.6,6,  -999.00,9,  -999.00,9,  -999.00,9,  -999.00,9,   -999.0,9,   -999.0,9,-999.0000,9,  -999.00,     1910
  49UP20161021,RF1608,  5906,  1,     10,  24267,2,20161027,1830, 42.5183, 138.0655, 3688,   2026.6,   0.2253,  34.0677,2,  34.0685,6,    201.8,6,  -999.00,9,  -999.00,9,  -999.00,9,  -999.00,9,   -999.0,9,   -999.0,9,-999.0000,9,  -999.00,     1909
  49UP20161021,RF1608,  5906,  1,      9,  23518,2,20161027,1830, 42.5183, 138.0655, 3688,   2027.3,   0.2253,  34.0678,2,  34.0693,6,    201.6,6,    80.64,6,    25.64,6,     0.00,6,     1.99,6,   2249.4,2,   2283.1,2,   7.4281,2,    25.00,     1909
  49UP20161021,RF1608,  5906,  1,      8,  24470,2,20161027,1830, 42.5183, 138.0655, 3688,   2277.2,   0.2278,  34.0678,2,  34.0685,2,    202.2,2,    83.90,2,    25.68,2,     0.00,2,     1.99,2,   2251.3,2,   2284.4,2,   7.4313,2,    25.00,     1904
  49UP20161021,RF1608,  5906,  1,      7,  23516,2,20161027,1830, 42.5183, 138.0655, 3688,   2533.5,   0.2395,  34.0680,2,  34.0695,4,    202.8,2,    85.90,2,    25.77,2,     0.00,2,     2.00,2,   2250.1,6,   2286.1,6,   7.4433,3,    25.00,     1859
  49UP20161021,RF1608,  5906,  1,      6,  22113,2,20161027,1830, 42.5183, 138.0655, 3688,   2790.5,   0.2608,  34.0679,2,  34.0673,2,    203.0,2,    86.21,2,    25.76,2,     0.00,2,     2.00,2,   2251.5,2,   2286.3,2,   7.4394,6,    25.00,     1854
  49UP20161021,RF1608,  5906,  1,      5,  24658,2,20161027,1830, 42.5183, 138.0655, 3688,   3046.5,   0.2832,  34.0680,2,  34.0681,6,    202.8,2,    86.26,2,    25.76,2,     0.00,2,     2.00,2,   2250.7,2,   2286.2,2,   7.4380,2,    25.00,     1848
  49UP20161021,RF1608,  5906,  1,      4,  24471,2,20161027,1830, 42.5183, 138.0655, 3688,   3304.5,   0.3066,  34.0681,2,  34.0682,2,    202.9,6,    86.04,6,    25.75,6,     0.00,6,     2.00,6,   2248.6,2,   2285.3,2,   7.4430,2,    25.00,     1842
  49UP20161021,RF1608,  5906,  1,      2,  22075,2,20161027,1830, 42.5183, 138.0655, 3688,   3562.5,   0.3310,  34.0682,2,  34.0679,2,    202.8,2,    86.31,2,    25.73,2,     0.00,2,     2.00,2,   2257.0,3,   2287.2,2,   7.4414,2,    25.00,     1834
  49UP20161021,RF1608,  5906,  1,      3,  22104,2,20161027,1830, 42.5183, 138.0655, 3688,   3563.7,   0.3312,  34.0681,2,  34.0677,2,    202.8,2,    86.25,2,    25.75,2,     0.00,2,     2.00,2,   2251.7,2,   2285.8,2,   7.4393,2,    25.00,     1834
  49UP20161021,RF1608,  5906,  1,      1,  21997,2,20161027,1830, 42.5183, 138.0655, 3688,   3684.8,   0.3431,  34.0682,2,  34.0674,2,    203.2,2,    86.34,2,    25.77,2,     0.00,2,     2.00,2,   2257.8,3,   2286.2,2,   7.4406,2,    25.00,     1830