BOTTLE,20200306PRINUNIVRMK
EXPOCODE,SECT_ID,STNNBR,CASTNO,SAMPNO,BTLNBR,BTLNBR_FLAG_W,DATE,TIME,LATITUDE,LONGITUDE,DEPTH,CTDPRS,CTDTMP,CTDSAL,CTDSAL_FLAG_W,SALNTY,SALNTY_FLAG_W,OXYGEN,OXYGEN_FLAG_W,SILCAT,SILCAT_FLAG_W,NITRAT,NITRAT_FLAG_W,NITRIT,NITRIT_FLAG_W,PHSPHT,PHSPHT_FLAG_W,TCARBN,TCARBN_FLAG_W,ALKALI,ALKALI_FLAG_W,PH_TOT,PH_TOT_FLAG_W,PH_TMP,BTL_TIME
,,,,,,,,,,,METERS,DBAR,ITS-90,PSS-78,,PSS-78,,UMOL/KG,,UMOL/KG,,UMOL/KG,,UMOL/KG,,UMOL/KG,,UMOL/KG,,UMOL/KG,,,,DEG C,
  49UP20161021,RF1608,  5912,  1,     99,     99,2,20161029,0245, 40.8392, 136.5568, 3286,      0.0,  16.0053,  33.2926,2,-999.0000,9,    246.9,2,     3.74,2,     0.25,2,     0.02,2,     0.03,2,   -999.0,9,   -999.0,9,-999.0000,9,  -999.00,      340
  49UP20161021,RF1608,  5912,  1,     36,  22109,2,20161029,0245, 40.8392, 136.5568, 3286,     11.5,  16.0210,  33.2928,2,-999.0000,9,    246.9,2,     3.77,2,     0.24,2,     0.02,2,     0.03,2,   -999.0,9,   -999.0,9,-999.0000,9,  -999.00,      414
  49UP20161021,RF1608,  5912,  1,     35,  22112,2,20161029,0245, 40.8392, 136.5568, 3286,     25.5,  15.0204,  33.6534,2,-999.0000,9,    252.4,6,     5.77,6,     1.30,6,     0.09,6,     0.15,6,   -999.0,9,   -999.0,9,-999.0000,9,  -999.00,      413
  49UP20161021,RF1608,  5912,  1,     34,  22094,2,20161029,0245, 40.8392, 136.5568, 3286,     52.7,   8.5680,  34.0891,2,-999.0000,9,    254.9,2,     8.91,2,     8.01,2,     0.03,2,     0.60,2,   -999.0,9,   -999.0,9,-999.0000,9,  -999.00,      412
  49UP20161021,RF1608,  5912,  1,     33,  24469,2,20161029,0245, 40.8392, 136.5568, 3286,     52.7,   8.5521,  34.0745,2,-999.0000,9,    254.9,2,     8.96,2,     8.02,2,     0.03,2,     0.60,2,   -999.0,9,   -999.0,9,-999.0000,9,  -999.00,      412
  49UP20161021,RF1608,  5912,  1,     32,  25089,2,20161029,0245, 40.8392, 136.5568, 3286,     76.9,   5.0215,  33.9894,2,-999.0000,9,    275.1,2,    11.77,2,     9.67,2,     0.03,2,     0.75,2,   -999.0,9,   -999.0,9,-999.0000,9,  -999.00,      411
  49UP20161021,RF1608,  5912,  1,     31,  23515,2,20161029,0245, 40.8392, 136.5568, 3286,    101.4,   3.2919,  33.9748,2,-999.0000,9,    281.4,2,    12.99,2,    11.13,2,     0.01,2,     0.83,2,   -999.0,9,   -999.0,9,-999.0000,9,  -999.00,      408
  49UP20161021,RF1608,  5912,  1,     27,  21998,2,20161029,0245, 40.8392, 136.5568, 3286,    127.3,   2.4742,  33.9861,2,-999.0000,9,    282.5,2,    15.95,2,    12.89,2,     0.00,2,     0.95,2,   -999.0,9,   -999.0,9,-999.0000,9,  -999.00,      407
  49UP20161021,RF1608,  5912,  1,     26,  22084,2,20161029,0245, 40.8392, 136.5568, 3286,    152.3,   1.8586,  33.9897,2,-999.0000,9,    300.5,2,    14.96,2,    12.19,2,     0.00,2,     0.90,2,   -999.0,9,   -999.0,9,-999.0000,9,  -999.00,      405
  49UP20161021,RF1608,  5912,  1,     25,  22098,2,20161029,0245, 40.8392, 136.5568, 3286,    202.8,   1.5633,  34.0207,2,-999.0000,9,    280.4,2,    20.53,2,    15.40,2,     0.00,2,     1.13,2,   -999.0,9,   -999.0,9,-999.0000,9,  -999.00,      404
  49UP20161021,RF1608,  5912,  1,     24,  22110,2,20161029,0245, 40.8392, 136.5568, 3286,    253.2,   1.2039,  34.0312,2,-999.0000,9,    281.2,2,    22.36,2,    16.47,2,     0.00,2,     1.21,2,   -999.0,9,   -999.0,9,-999.0000,9,  -999.00,      402
  49UP20161021,RF1608,  5912,  1,     23,  23679,2,20161029,0245, 40.8392, 136.5568, 3286,    303.8,   1.0228,  34.0445,2,-999.0000,9,    259.1,6,    27.97,6,    19.38,6,     0.00,6,     1.43,6,   -999.0,9,   -999.0,9,-999.0000,9,  -999.00,      400
  49UP20161021,RF1608,  5912,  1,     22,  22111,2,20161029,0245, 40.8392, 136.5568, 3286,    404.5,   0.8361,  34.0590,2,-999.0000,9,    235.4,2,    35.03,2,    22.28,2,     0.00,2,     1.67,2,   -999.0,9,   -999.0,9,-999.0000,9,  -999.00,      357
  49UP20161021,RF1608,  5912,  1,     21,  22078,2,20161029,0245, 40.8392, 136.5568, 3286,    404.7,   0.8361,  34.0590,2,-999.0000,9,    235.2,2,    35.08,2,    22.30,2,     0.00,2,     1.68,2,   -999.0,9,   -999.0,9,-999.0000,9,  -999.00,      357
  49UP20161021,RF1608,  5912,  1,     20,  22093,2,20161029,0245, 40.8392, 136.5568, 3286,    505.0,   0.7154,  34.0655,2,-999.0000,9,    216.1,2,    42.19,2,    24.21,2,     0.00,2,     1.85,2,   -999.0,9,   -999.0,9,-999.0000,9,  -999.00,      354
  49UP20161021,RF1608,  5912,  1,     19,  24269,2,20161029,0245, 40.8392, 136.5568, 3286,    605.7,   0.6149,  34.0697,2,-999.0000,9,    207.0,2,    48.29,2,    25.06,2,     0.00,2,     1.92,2,   -999.0,9,   -999.0,9,-999.0000,9,  -999.00,      352
  49UP20161021,RF1608,  5912,  1,     18,  25088,2,20161029,0245, 40.8392, 136.5568, 3286,    708.4,   0.5225,  34.0709,2,-999.0000,9,    203.2,2,    53.46,2,    25.38,2,     0.00,2,     1.95,2,   -999.0,9,   -999.0,9,-999.0000,9,  -999.00,      349
  49UP20161021,RF1608,  5912,  1,     17,  22090,2,20161029,0245, 40.8392, 136.5568, 3286,    807.5,   0.4446,  34.0707,2,-999.0000,9,    201.5,2,    57.93,2,    25.51,2,     0.00,2,     1.96,2,   -999.0,9,   -999.0,9,-999.0000,9,  -999.00,      346
  49UP20161021,RF1608,  5912,  1,     16,  24474,3,20161029,0245, 40.8392, 136.5568, 3286,    909.0,   0.3770,  34.0701,2,-999.0000,9,    200.9,2,    62.04,2,    25.58,2,     0.00,2,     1.96,2,   -999.0,9,   -999.0,9,-999.0000,9,  -999.00,      343
  49UP20161021,RF1608,  5912,  1,     12,  22074,2,20161029,0245, 40.8392, 136.5568, 3286,   1011.4,   0.3327,  34.0696,2,-999.0000,9,    200.0,2,    65.07,2,    25.64,2,     0.00,2,     1.97,2,   -999.0,9,   -999.0,9,-999.0000,9,  -999.00,      339
  49UP20161021,RF1608,  5912,  1,     11,  24268,2,20161029,0245, 40.8392, 136.5568, 3286,   1214.6,   0.2718,  34.0687,2,-999.0000,9,    200.7,2,    70.19,2,    25.59,2,     0.00,2,     1.97,2,   -999.0,9,   -999.0,9,-999.0000,9,  -999.00,      334
  49UP20161021,RF1608,  5912,  1,     10,  24267,3,20161029,0245, 40.8392, 136.5568, 3286,   1416.9,   0.2399,  34.0681,2,-999.0000,9,    200.8,2,    74.66,2,    25.63,2,     0.00,2,     1.98,2,   -999.0,9,   -999.0,9,-999.0000,9,  -999.00,      330
  49UP20161021,RF1608,  5912,  1,      9,  23518,2,20161029,0245, 40.8392, 136.5568, 3286,   1620.1,   0.2280,  34.0678,2,-999.0000,9,    200.5,6,    77.45,6,    25.64,6,     0.00,6,     1.98,6,   -999.0,9,   -999.0,9,-999.0000,9,  -999.00,      324
  49UP20161021,RF1608,  5912,  1,      7,  23516,2,20161029,0245, 40.8392, 136.5568, 3286,   1822.9,   0.2230,  34.0678,2,-999.0000,9,    199.4,2,    81.48,2,    25.68,2,     0.00,2,     2.00,2,   -999.0,9,   -999.0,9,-999.0000,9,  -999.00,      319
  49UP20161021,RF1608,  5912,  1,      8,  24470,2,20161029,0245, 40.8392, 136.5568, 3286,   1823.6,   0.2234,  34.0677,2,-999.0000,9,    199.3,2,    81.51,2,    25.66,2,     0.00,2,     2.00,2,   -999.0,9,   -999.0,9,-999.0000,9,  -999.00,      319
  49UP20161021,RF1608,  5912,  1,      6,  22113,2,20161029,0245, 40.8392, 136.5568, 3286,   2027.2,   0.2243,  34.0677,2,-999.0000,9,    200.4,2,    82.65,2,    25.68,2,     0.00,2,     2.00,2,   -999.0,9,   -999.0,9,-999.0000,9,  -999.00,      314
  49UP20161021,RF1608,  5912,  1,      5,  24658,2,20161029,0245, 40.8392, 136.5568, 3286,   2281.3,   0.2307,  34.0678,2,-999.0000,9,    201.2,2,    84.75,2,    25.75,2,     0.00,2,     2.01,2,   -999.0,9,   -999.0,9,-999.0000,9,  -999.00,      307
  49UP20161021,RF1608,  5912,  1,      4,  24471,2,20161029,0245, 40.8392, 136.5568, 3286,   2535.5,   0.2435,  34.0678,2,-999.0000,9,    201.3,2,    86.88,2,    25.82,2,     0.00,2,     2.01,2,   -999.0,9,   -999.0,9,-999.0000,9,  -999.00,      302
  49UP20161021,RF1608,  5912,  1,      3,  22104,2,20161029,0245, 40.8392, 136.5568, 3286,   2791.5,   0.2631,  34.0677,2,-999.0000,9,    201.7,2,    86.94,2,    25.83,2,     0.00,2,     2.01,2,   -999.0,9,   -999.0,9,-999.0000,9,  -999.00,      256
  49UP20161021,RF1608,  5912,  1,      2,  22075,2,20161029,0245, 40.8392, 136.5568, 3286,   3046.0,   0.2841,  34.0679,2,  34.0677,6,    202.4,2,    86.75,2,    25.81,2,     0.00,2,     2.01,2,   -999.0,9,   -999.0,9,-999.0000,9,  -999.00,      250
  49UP20161021,RF1608,  5912,  1,      1,  21997,2,20161029,0245, 40.8392, 136.5568, 3286,   3271.1,   0.3045,  34.0680,2,  34.0683,2,    202.3,2,    86.70,2,    25.80,2,     0.00,2,     2.01,2,   -999.0,9,   -999.0,9,-999.0000,9,  -999.00,      245
  49UP20161021,RF1608,  5914,  1,     99,     99,2,20161029,1115, 40.3157, 136.0325, 2505,      0.0,  16.7321,  33.2341,2,-999.0000,9,    242.5,2,     3.32,2,     0.07,2,     0.00,2,     0.01,2,   -999.0,9,   -999.0,9,-999.0000,9,  -999.00,     1207
  49UP20161021,RF1608,  5914,  1,     36,  22109,2,20161029,1115, 40.3157, 136.0325, 2505,     11.9,  16.7400,  33.2329,2,  33.2301,2,    241.9,2,     3.27,2,     0.05,2,     0.01,2,     0.01,2,   -999.0,9,   -999.0,9,-999.0000,9,  -999.00,     1232
  49UP20161021,RF1608,  5914,  1,     35,  22112,2,20161029,1115, 40.3157, 136.0325, 2505,     26.8,  16.7268,  33.2341,2,  33.2322,2,    241.7,2,     3.28,2,     0.04,2,     0.01,2,     0.01,2,   -999.0,9,   -999.0,9,-999.0000,9,  -999.00,     1230
  49UP20161021,RF1608,  5914,  1,     34,  22094,2,20161029,1115, 40.3157, 136.0325, 2505,     52.8,  14.0409,  34.2554,2,  34.2476,2,    220.0,6,     8.94,6,     4.91,6,     0.21,6,     0.42,6,   -999.0,9,   -999.0,9,-999.0000,9,  -999.00,     1229
  49UP20161021,RF1608,  5914,  1,     32,  25089,2,20161029,1115, 40.3157, 136.0325, 2505,     76.1,   8.4178,  34.0855,2,  34.0834,2,    259.5,2,     8.55,2,     7.54,2,     0.02,2,     0.58,2,   -999.0,9,   -999.0,9,-999.0000,9,  -999.00,     1227
  49UP20161021,RF1608,  5914,  1,     33,  24469,2,20161029,1115, 40.3157, 136.0325, 2505,     76.7,   8.4937,  34.0872,2,  34.0914,2,    257.4,2,     8.50,2,     7.52,2,     0.02,2,     0.58,2,   -999.0,9,   -999.0,9,-999.0000,9,  -999.00,     1227
  49UP20161021,RF1608,  5914,  1,     31,  23515,2,20161029,1115, 40.3157, 136.0325, 2505,    101.5,   3.7829,  33.9459,2,  33.9446,2,    306.1,2,     8.32,2,     7.09,2,     0.01,2,     0.54,2,   -999.0,9,   -999.0,9,-999.0000,9,  -999.00,     1224
  49UP20161021,RF1608,  5914,  1,     30,  22097,2,20161029,1115, 40.3157, 136.0325, 2505,    126.9,   3.1695,  33.9449,2,  33.9471,2,    306.3,2,     8.76,2,     7.63,2,     0.01,2,     0.57,2,   -999.0,9,   -999.0,9,-999.0000,9,  -999.00,     1222
  49UP20161021,RF1608,  5914,  1,     29,  22102,2,20161029,1115, 40.3157, 136.0325, 2505,    152.5,   2.8335,  33.9470,2,  33.9463,2,    308.1,2,     9.31,2,     7.96,2,     0.01,2,     0.59,2,   -999.0,9,   -999.0,9,-999.0000,9,  -999.00,     1221
  49UP20161021,RF1608,  5914,  1,     28,  24472,2,20161029,1115, 40.3157, 136.0325, 2505,    202.8,   2.4391,  33.9558,2,  33.9554,2,    306.6,2,    11.09,2,     9.29,2,     0.00,2,     0.69,2,   -999.0,9,   -999.0,9,-999.0000,9,  -999.00,     1219
  49UP20161021,RF1608,  5914,  1,     24,  22110,2,20161029,1115, 40.3157, 136.0325, 2505,    254.1,   1.9614,  33.9769,2,  33.9762,2,    302.8,2,    13.73,2,    11.22,2,     0.00,2,     0.83,2,   -999.0,9,   -999.0,9,-999.0000,9,  -999.00,     1217
  49UP20161021,RF1608,  5914,  1,     23,  23679,2,20161029,1115, 40.3157, 136.0325, 2505,    304.2,   1.5155,  34.0072,2,  34.0081,2,    295.4,2,    17.53,2,    13.66,2,     0.00,2,     1.01,2,   -999.0,9,   -999.0,9,-999.0000,9,  -999.00,     1215
  49UP20161021,RF1608,  5914,  1,     22,  22111,2,20161029,1115, 40.3157, 136.0325, 2505,    405.1,   1.0950,  34.0380,2,  34.0391,2,    266.7,2,    25.97,2,    18.36,2,     0.00,2,     1.36,2,   -999.0,9,   -999.0,9,-999.0000,9,  -999.00,     1212
  49UP20161021,RF1608,  5914,  1,     21,  22078,2,20161029,1115, 40.3157, 136.0325, 2505,    506.4,   0.8085,  34.0599,2,  34.0598,2,    229.1,2,    37.01,2,    22.81,2,     0.00,2,     1.73,2,   -999.0,9,   -999.0,9,-999.0000,9,  -999.00,     1209
  49UP20161021,RF1608,  5914,  1,     20,  22093,2,20161029,1115, 40.3157, 136.0325, 2505,    607.1,   0.6888,  34.0672,2,  34.0676,2,    212.9,2,    43.91,2,    24.42,2,     0.00,2,     1.87,2,   -999.0,9,   -999.0,9,-999.0000,9,  -999.00,     1206
  49UP20161021,RF1608,  5914,  1,     19,  24269,3,20161029,1115, 40.3157, 136.0325, 2505,    708.3,   0.5839,  34.0693,2,  34.0694,2,    206.6,2,    50.05,2,    24.99,2,     0.00,2,     1.92,2,   -999.0,9,   -999.0,9,-999.0000,9,  -999.00,     1203
  49UP20161021,RF1608,  5914,  1,     18,  25088,2,20161029,1115, 40.3157, 136.0325, 2505,    810.1,   0.4793,  34.0700,2,  34.0703,2,    202.7,2,    56.41,2,    25.24,2,     0.00,2,     1.95,2,   -999.0,9,   -999.0,9,-999.0000,9,  -999.00,     1200
  49UP20161021,RF1608,  5914,  1,     17,  22090,2,20161029,1115, 40.3157, 136.0325, 2505,    910.0,   0.4188,  34.0702,2,  34.0701,2,    200.8,2,    60.26,2,    25.46,2,     0.00,2,     1.96,2,   -999.0,9,   -999.0,9,-999.0000,9,  -999.00,     1156
  49UP20161021,RF1608,  5914,  1,     16,  24474,3,20161029,1115, 40.3157, 136.0325, 2505,   1012.9,   0.3727,  34.0699,2,  34.0703,2,    200.0,2,    63.27,2,    25.47,2,     0.00,2,     1.97,2,   -999.0,9,   -999.0,9,-999.0000,9,  -999.00,     1153
  49UP20161021,RF1608,  5914,  1,     15,  22665,2,20161029,1115, 40.3157, 136.0325, 2505,   1214.3,   0.3027,  34.0689,2,  34.0712,4,    198.8,2,    69.96,2,    25.54,2,     0.00,2,     1.98,2,   -999.0,9,   -999.0,9,-999.0000,9,  -999.00,     1148
  49UP20161021,RF1608,  5914,  1,     14,  21999,2,20161029,1115, 40.3157, 136.0325, 2505,   1417.4,   0.2721,  34.0685,2,  34.0687,2,    197.7,6,    75.09,6,    25.61,6,     0.00,6,     1.99,6,   -999.0,9,   -999.0,9,-999.0000,9,  -999.00,     1142
  49UP20161021,RF1608,  5914,  1,      8,  24470,2,20161029,1115, 40.3157, 136.0325, 2505,   1620.6,   0.2437,  34.0681,2,  34.0688,2,    198.1,2,    78.61,2,    25.62,2,     0.00,2,     2.00,2,   -999.0,9,   -999.0,9,-999.0000,9,  -999.00,     1136
  49UP20161021,RF1608,  5914,  1,      9,  23518,2,20161029,1115, 40.3157, 136.0325, 2505,   1622.7,   0.2438,  34.0679,2,  34.0674,2,    198.0,2,    78.56,2,    25.59,2,     0.00,2,     2.00,2,   -999.0,9,   -999.0,9,-999.0000,9,  -999.00,     1137
  49UP20161021,RF1608,  5914,  1,      7,  23516,2,20161029,1115, 40.3157, 136.0325, 2505,   1823.6,   0.2383,  34.0679,2,  34.0705,4,    197.7,2,    81.61,2,    25.66,2,     0.00,2,     2.01,2,   -999.0,9,   -999.0,9,-999.0000,9,  -999.00,     1132
  49UP20161021,RF1608,  5914,  1,      6,  22113,2,20161029,1115, 40.3157, 136.0325, 2505,   2026.2,   0.2354,  34.0677,2,  34.0679,2,    197.7,2,    84.03,2,    25.69,2,     0.00,2,     2.02,2,   -999.0,9,   -999.0,9,-999.0000,9,  -999.00,     1126
  49UP20161021,RF1608,  5914,  1,      5,  24658,2,20161029,1115, 40.3157, 136.0325, 2505,   2280.5,   0.2389,  34.0677,2,  34.0693,4,    198.9,2,    86.04,2,    25.75,2,     0.00,2,     2.02,2,   -999.0,9,   -999.0,9,-999.0000,9,  -999.00,     1121
  49UP20161021,RF1608,  5914,  1,      4,  24471,2,20161029,1115, 40.3157, 136.0325, 2505,   2554.0,   0.2494,  34.0677,2,  34.0676,6,    200.3,2,    87.07,2,    25.81,2,     0.00,2,     2.01,2,   -999.0,9,   -999.0,9,-999.0000,9,  -999.00,     1115