BOTTLE,20200306PRINUNIVRMK
EXPOCODE,SECT_ID,STNNBR,CASTNO,SAMPNO,BTLNBR,BTLNBR_FLAG_W,DATE,TIME,LATITUDE,LONGITUDE,DEPTH,CTDPRS,CTDTMP,CTDSAL,CTDSAL_FLAG_W,SALNTY,SALNTY_FLAG_W,OXYGEN,OXYGEN_FLAG_W,SILCAT,SILCAT_FLAG_W,NITRAT,NITRAT_FLAG_W,NITRIT,NITRIT_FLAG_W,PHSPHT,PHSPHT_FLAG_W,TCARBN,TCARBN_FLAG_W,ALKALI,ALKALI_FLAG_W,PH_TOT,PH_TOT_FLAG_W,PH_TMP,BTL_TIME
,,,,,,,,,,,METERS,DBAR,ITS-90,PSS-78,,PSS-78,,UMOL/KG,,UMOL/KG,,UMOL/KG,,UMOL/KG,,UMOL/KG,,UMOL/KG,,UMOL/KG,,,,DEG C,
  49UP20161021,RF1608,  5934,  1,     99,     99,2,20161111,1853, 36.8327, 135.3428, 1675,      0.0,  18.0559,  33.4740,2,-999.0000,9,    233.0,2,     1.94,2,     0.53,2,     0.12,2,     0.05,2,   -999.0,9,   -999.0,9,-999.0000,9,  -999.00,     1918
  49UP20161021,RF1608,  5934,  1,     36,  22109,2,20161111,1853, 36.8327, 135.3428, 1675,     11.3,  18.0659,  33.4725,2,  33.4701,6,    234.8,2,     1.84,2,     0.35,2,     0.11,2,     0.04,2,   -999.0,9,   -999.0,9,-999.0000,9,  -999.00,     1951
  49UP20161021,RF1608,  5934,  1,     35,  22112,2,20161111,1853, 36.8327, 135.3428, 1675,     25.6,  18.0697,  33.4793,2,  33.4787,2,    234.2,2,     1.86,2,     0.40,2,     0.11,2,     0.05,4,   -999.0,9,   -999.0,9,-999.0000,9,  -999.00,     1949
  49UP20161021,RF1608,  5934,  1,     34,  22094,2,20161111,1853, 36.8327, 135.3428, 1675,     50.6,  18.2670,  34.2427,2,  34.2525,2,    163.8,2,    11.63,2,     8.79,2,     0.06,2,     0.56,2,   -999.0,9,   -999.0,9,-999.0000,9,  -999.00,     1945
  49UP20161021,RF1608,  5934,  1,     27,  21998,2,20161111,1853, 36.8327, 135.3428, 1675,     75.3,  16.1961,  34.3979,2,  34.3953,2,    186.0,2,    11.34,2,     7.86,2,     0.04,2,     0.56,2,   -999.0,9,   -999.0,9,-999.0000,9,  -999.00,     1944
  49UP20161021,RF1608,  5934,  1,     26,  22084,2,20161111,1853, 36.8327, 135.3428, 1675,    101.4,  13.0419,  34.3284,2,  34.3158,4,    217.8,6,     8.82,6,     7.35,6,     0.03,6,     0.54,6,   -999.0,9,   -999.0,9,-999.0000,9,  -999.00,     1942
  49UP20161021,RF1608,  5934,  1,     24,  22110,2,20161111,1853, 36.8327, 135.3428, 1675,    125.1,   9.0566,  34.1389,2,  34.1368,2,    244.7,2,     9.58,2,     9.08,2,     0.01,2,     0.66,2,   -999.0,9,   -999.0,9,-999.0000,9,  -999.00,     1941
  49UP20161021,RF1608,  5934,  1,     25,  22098,2,20161111,1853, 36.8327, 135.3428, 1675,    125.7,   9.0090,  34.1403,2,  34.1441,2,    244.0,2,     9.39,2,     8.93,2,     0.02,2,     0.64,2,   -999.0,9,   -999.0,9,-999.0000,9,  -999.00,     1941
  49UP20161021,RF1608,  5934,  1,     23,  23679,2,20161111,1853, 36.8327, 135.3428, 1675,    150.9,   6.6353,  34.0693,2,  34.0661,2,    250.5,2,    12.75,2,    11.01,2,     0.01,2,     0.82,2,   -999.0,9,   -999.0,9,-999.0000,9,  -999.00,     1940
  49UP20161021,RF1608,  5934,  1,     22,  22111,2,20161111,1853, 36.8327, 135.3428, 1675,    205.4,   2.8273,  34.0214,2,  34.0208,2,    246.6,2,    23.58,2,    16.34,2,     0.00,2,     1.24,2,   -999.0,9,   -999.0,9,-999.0000,9,  -999.00,     1938
  49UP20161021,RF1608,  5934,  1,     18,  25088,2,20161111,1853, 36.8327, 135.3428, 1675,    252.8,   1.7294,  34.0323,2,  34.0317,2,    238.3,2,    29.55,2,    19.34,2,     0.00,2,     1.47,2,   -999.0,9,   -999.0,9,-999.0000,9,  -999.00,     1936
  49UP20161021,RF1608,  5934,  1,     17,  22090,2,20161111,1853, 36.8327, 135.3428, 1675,    302.7,   1.1445,  34.0487,2,  34.0485,2,    225.5,2,    35.37,2,    22.09,2,     0.00,2,     1.67,2,   -999.0,9,   -999.0,9,-999.0000,9,  -999.00,     1934
  49UP20161021,RF1608,  5934,  1,     16,  24474,2,20161111,1853, 36.8327, 135.3428, 1675,    404.5,   0.8455,  34.0602,2,  34.0590,2,    213.4,2,    42.14,2,    23.90,2,     0.00,2,     1.82,2,   -999.0,9,   -999.0,9,-999.0000,9,  -999.00,     1931
  49UP20161021,RF1608,  5934,  1,     15,  22665,2,20161111,1853, 36.8327, 135.3428, 1675,    508.9,   0.6943,  34.0657,2,  34.0646,2,    206.7,2,    47.81,2,    24.71,2,     0.00,2,     1.89,2,   -999.0,9,   -999.0,9,-999.0000,9,  -999.00,     1928
  49UP20161021,RF1608,  5934,  1,     14,  21999,2,20161111,1853, 36.8327, 135.3428, 1675,    606.9,   0.5413,  34.0682,2,  34.0671,2,    202.6,2,    56.04,2,    25.14,2,     0.00,2,     1.94,2,   -999.0,9,   -999.0,9,-999.0000,9,  -999.00,     1925
  49UP20161021,RF1608,  5934,  1,     13,  22667,2,20161111,1853, 36.8327, 135.3428, 1675,    709.3,   0.4514,  34.0692,2,  34.0700,2,    200.1,2,    61.31,2,    25.31,2,     0.00,2,     1.96,2,   -999.0,9,   -999.0,9,-999.0000,9,  -999.00,     1923
  49UP20161021,RF1608,  5934,  1,     12,  22074,2,20161111,1853, 36.8327, 135.3428, 1675,    807.8,   0.3781,  34.0695,2,  34.0691,2,    198.8,2,    65.89,2,    25.40,2,     0.00,2,     1.97,2,   -999.0,9,   -999.0,9,-999.0000,9,  -999.00,     1919
  49UP20161021,RF1608,  5934,  1,     11,  24268,2,20161111,1853, 36.8327, 135.3428, 1675,    909.2,   0.3478,  34.0695,2,  34.0710,4,    198.0,2,    68.60,2,    25.49,2,     0.00,2,     1.98,2,   -999.0,9,   -999.0,9,-999.0000,9,  -999.00,     1916
  49UP20161021,RF1608,  5934,  1,     10,  24267,2,20161111,1853, 36.8327, 135.3428, 1675,   1013.2,   0.3132,  34.0691,2,  34.0704,2,    197.3,2,    71.89,2,    25.53,2,     0.00,2,     1.99,2,   -999.0,9,   -999.0,9,-999.0000,9,  -999.00,     1910
  49UP20161021,RF1608,  5934,  1,      9,  23518,2,20161111,1853, 36.8327, 135.3428, 1675,   1213.1,   0.2736,  34.0688,2,  34.0686,2,    196.7,2,    75.39,2,    25.57,2,     0.00,2,     2.00,2,   -999.0,9,   -999.0,9,-999.0000,9,  -999.00,     1905
  49UP20161021,RF1608,  5934,  1,      8,  24470,2,20161111,1853, 36.8327, 135.3428, 1675,   1416.6,   0.2593,  34.0687,2,  34.0691,2,    195.6,6,    78.82,6,    25.66,6,     0.00,6,     2.01,6,   -999.0,9,   -999.0,9,-999.0000,9,  -999.00,     1900
  49UP20161021,RF1608,  5934,  1,      7,  23516,2,20161111,1853, 36.8327, 135.3428, 1675,   1636.8,   0.2474,  34.0685,2,  34.0702,4,    195.0,2,    82.00,2,    25.70,2,     0.01,2,     2.02,2,   -999.0,9,   -999.0,9,-999.0000,9,  -999.00,     1853
  49UP20161021,RF1608,  5934,  1,      2,  22075,2,20161111,1853, 36.8327, 135.3428, 1675,   1637.0,   0.2474,  34.0685,2,  34.0693,2,    194.9,2,    81.93,2,    25.70,2,     0.00,2,     2.02,2,   -999.0,9,   -999.0,9,-999.0000,9,  -999.00,     1853
  49UP20161021,RF1608,  5936,  1,     99,     99,2,20161112,0122, 36.4172, 135.6565,  650,      0.0,  17.3675,  33.3878,2,-999.0000,9,    238.2,2,     2.94,2,     0.39,2,     0.10,2,     0.04,2,   -999.0,9,   -999.0,9,-999.0000,9,  -999.00,      130
  49UP20161021,RF1608,  5936,  1,     27,  21998,2,20161112,0122, 36.4172, 135.6565,  650,     10.7,  17.3446,  33.3887,2,-999.0000,9,    237.9,2,     2.95,2,     0.34,2,     0.10,2,     0.03,2,   -999.0,9,   -999.0,9,-999.0000,9,  -999.00,      149
  49UP20161021,RF1608,  5936,  1,     26,  22084,2,20161112,0122, 36.4172, 135.6565,  650,     26.4,  17.3273,  33.3875,2,-999.0000,9,    237.1,2,     3.01,2,     0.40,2,     0.10,2,     0.04,2,   -999.0,9,   -999.0,9,-999.0000,9,  -999.00,      148
  49UP20161021,RF1608,  5936,  1,     25,  22098,2,20161112,0122, 36.4172, 135.6565,  650,     50.9,  17.3957,  33.4128,2,-999.0000,9,    234.9,2,     3.06,2,     0.43,2,     0.11,2,     0.05,2,   -999.0,9,   -999.0,9,-999.0000,9,  -999.00,      144
  49UP20161021,RF1608,  5936,  1,     24,  22110,2,20161112,0122, 36.4172, 135.6565,  650,     76.2,  17.4442,  34.1297,2,-999.0000,9,    184.2,2,    10.27,2,     6.95,2,     0.09,2,     0.46,2,   -999.0,9,   -999.0,9,-999.0000,9,  -999.00,      143
  49UP20161021,RF1608,  5936,  1,     23,  23679,2,20161112,0122, 36.4172, 135.6565,  650,    101.7,  14.6977,  34.3650,2,-999.0000,9,    195.8,2,    11.37,2,     8.01,2,     0.04,2,     0.57,2,   -999.0,9,   -999.0,9,-999.0000,9,  -999.00,      141
  49UP20161021,RF1608,  5936,  1,     22,  22111,2,20161112,0122, 36.4172, 135.6565,  650,    126.0,  11.1304,  34.2283,2,-999.0000,9,    232.2,6,     8.67,6,     7.96,6,     0.03,6,     0.57,6,   -999.0,9,   -999.0,9,-999.0000,9,  -999.00,      140
  49UP20161021,RF1608,  5936,  1,     18,  25088,2,20161112,0122, 36.4172, 135.6565,  650,    151.8,   6.3637,  34.0889,2,-999.0000,9,    243.4,2,    16.13,2,    12.21,2,     0.01,2,     0.91,2,   -999.0,9,   -999.0,9,-999.0000,9,  -999.00,      138
  49UP20161021,RF1608,  5936,  1,     17,  22090,2,20161112,0122, 36.4172, 135.6565,  650,    152.1,   6.3498,  34.0870,2,-999.0000,9,    243.1,2,    16.22,2,    12.26,2,     0.01,2,     0.91,2,   -999.0,9,   -999.0,9,-999.0000,9,  -999.00,      138
  49UP20161021,RF1608,  5936,  1,     16,  24474,2,20161112,0122, 36.4172, 135.6565,  650,    202.3,   2.1053,  34.0255,2,-999.0000,9,    240.8,2,    27.77,2,    18.46,2,     0.00,2,     1.39,2,   -999.0,9,   -999.0,9,-999.0000,9,  -999.00,      136
  49UP20161021,RF1608,  5936,  1,      9,  23518,3,20161112,0122, 36.4172, 135.6565,  650,    253.9,   1.2574,  34.0438,2,-999.0000,9,    226.4,6,    35.75,6,    21.53,6,     0.00,6,     1.63,6,   -999.0,9,   -999.0,9,-999.0000,9,  -999.00,      134
  49UP20161021,RF1608,  5936,  1,      7,  23516,2,20161112,0122, 36.4172, 135.6565,  650,    305.9,   0.9252,  34.0559,2,-999.0000,9,    217.0,2,    40.48,2,    23.36,2,     0.00,2,     1.77,2,   -999.0,9,   -999.0,9,-999.0000,9,  -999.00,      131
  49UP20161021,RF1608,  5936,  1,      8,  24470,2,20161112,0122, 36.4172, 135.6565,  650,    306.7,   0.9247,  34.0560,2,-999.0000,9,    216.7,2,    40.51,2,    23.34,2,     0.00,2,     1.77,2,   -999.0,9,   -999.0,9,-999.0000,9,  -999.00,      132
  49UP20161021,RF1608,  5936,  1,      3,  22104,2,20161112,0122, 36.4172, 135.6565,  650,    406.3,   0.6754,  34.0654,2,-999.0000,9,    206.1,2,    50.03,2,    24.69,2,     0.00,2,     1.89,2,   -999.0,9,   -999.0,9,-999.0000,9,  -999.00,      129
  49UP20161021,RF1608,  5936,  1,      2,  22075,2,20161112,0122, 36.4172, 135.6565,  650,    506.6,   0.5411,  34.0691,2,-999.0000,9,    202.3,2,    54.99,2,    25.17,2,     0.00,2,     1.93,2,   -999.0,9,   -999.0,9,-999.0000,9,  -999.00,      125
  49UP20161021,RF1608,  5936,  1,      1,  21997,2,20161112,0122, 36.4172, 135.6565,  650,    631.7,   0.3711,  34.0698,2,-999.0000,9,    197.4,2,    67.50,2,    25.38,2,     0.01,2,     1.97,2,   -999.0,9,   -999.0,9,-999.0000,9,  -999.00,      122
  49UP20161021,RF1608,  5937,  1,     99,     99,2,20161112,0339, 36.1528, 135.8380,  233,      0.0,  18.9871,  33.4595,2,-999.0000,9,    229.2,2,     3.09,2,     1.07,2,     0.48,2,     0.09,2,   -999.0,9,   -999.0,9,-999.0000,9,  -999.00,      339
  49UP20161021,RF1608,  5937,  1,     26,  22084,2,20161112,0339, 36.1528, 135.8380,  233,     11.6,  18.9444,  33.4582,2,  33.4565,6,    228.5,2,     3.04,2,     1.01,2,     0.49,2,     0.09,2,   -999.0,9,   -999.0,9,-999.0000,9,  -999.00,      350
  49UP20161021,RF1608,  5937,  1,     25,  22098,2,20161112,0339, 36.1528, 135.8380,  233,     26.8,  18.9200,  33.4581,2,  33.4575,2,    226.8,2,     3.04,2,     1.04,2,     0.51,2,     0.08,2,   -999.0,9,   -999.0,9,-999.0000,9,  -999.00,      349
  49UP20161021,RF1608,  5937,  1,     24,  22110,2,20161112,0339, 36.1528, 135.8380,  233,     51.6,  18.9738,  33.5206,2,  33.5237,2,    224.0,6,     2.83,6,     1.09,6,     0.61,6,     0.10,6,   -999.0,9,   -999.0,9,-999.0000,9,  -999.00,      348
  49UP20161021,RF1608,  5937,  1,     23,  23679,2,20161112,0339, 36.1528, 135.8380,  233,     76.9,  19.0758,  33.6152,2,  33.6463,4,    209.7,2,     4.76,2,     2.62,2,     0.48,2,     0.18,2,   -999.0,9,   -999.0,9,-999.0000,9,  -999.00,      346
  49UP20161021,RF1608,  5937,  1,     22,  22111,2,20161112,0339, 36.1528, 135.8380,  233,     76.9,  19.0781,  33.6174,2,  33.6599,4,    207.9,2,     5.11,2,     2.82,2,     0.47,2,     0.20,2,   -999.0,9,   -999.0,9,-999.0000,9,  -999.00,      346
  49UP20161021,RF1608,  5937,  1,     11,  24268,2,20161112,0339, 36.1528, 135.8380,  233,    101.8,  16.8134,  34.3398,2,  34.3323,4,    173.7,2,    12.33,2,     8.54,2,     0.04,2,     0.57,2,   -999.0,9,   -999.0,9,-999.0000,9,  -999.00,      345
  49UP20161021,RF1608,  5937,  1,     10,  24267,2,20161112,0339, 36.1528, 135.8380,  233,    127.4,  14.2106,  34.3240,2,  34.3378,4,    194.9,2,    12.11,2,     8.65,2,     0.04,2,     0.61,2,   -999.0,9,   -999.0,9,-999.0000,9,  -999.00,      344
  49UP20161021,RF1608,  5937,  1,      3,  22104,2,20161112,0339, 36.1528, 135.8380,  233,    152.9,   9.3440,  34.1793,2,  34.1855,2,    231.8,2,    12.67,2,     9.96,2,     0.02,2,     0.73,2,   -999.0,9,   -999.0,9,-999.0000,9,  -999.00,      342
  49UP20161021,RF1608,  5937,  1,      2,  22075,2,20161112,0339, 36.1528, 135.8380,  233,    219.1,   0.9817,  34.0590,2,  34.0535,4,    211.8,2,    44.98,2,    23.13,2,     0.02,2,     1.81,2,   -999.0,9,   -999.0,9,-999.0000,9,  -999.00,      339
  49UP20161021,RF1608,  5939,  1,     99,     99,2,20161112,1116, 37.2952, 135.0545, 1004,      0.0,  16.7307,  33.4457,2,-999.0000,9,    243.4,2,     3.08,2,     0.07,2,     0.02,2,     0.03,2,   -999.0,9,   -999.0,9,-999.0000,9,  -999.00,     1130
  49UP20161021,RF1608,  5939,  1,     36,  22109,2,20161112,1116, 37.2952, 135.0545, 1004,     10.8,  16.7286,  33.4456,2,-999.0000,9,    243.2,2,     3.08,2,     0.06,2,     0.02,2,     0.02,2,   -999.0,9,   -999.0,9,-999.0000,9,  -999.00,     1154
  49UP20161021,RF1608,  5939,  1,     35,  22112,2,20161112,1116, 37.2952, 135.0545, 1004,     26.9,  16.7156,  33.4468,2,-999.0000,9,    242.1,2,     3.14,2,     0.08,2,     0.02,2,     0.02,2,   -999.0,9,   -999.0,9,-999.0000,9,  -999.00,     1153
  49UP20161021,RF1608,  5939,  1,     34,  22094,2,20161112,1116, 37.2952, 135.0545, 1004,     52.2,  16.6688,  33.4454,2,-999.0000,9,    241.0,2,     3.28,2,     0.17,2,     0.03,2,     0.04,2,   -999.0,9,   -999.0,9,-999.0000,9,  -999.00,     1148
  49UP20161021,RF1608,  5939,  1,     27,  21998,2,20161112,1116, 37.2952, 135.0545, 1004,     77.0,  11.6492,  34.2280,2,-999.0000,9,    230.8,6,     8.94,6,     7.40,6,     0.02,6,     0.54,6,   -999.0,9,   -999.0,9,-999.0000,9,  -999.00,     1146
  49UP20161021,RF1608,  5939,  1,     25,  22098,2,20161112,1116, 37.2952, 135.0545, 1004,    102.1,   7.5533,  34.0748,2,-999.0000,9,    255.0,2,    10.27,2,     9.37,2,     0.01,2,     0.68,2,   -999.0,9,   -999.0,9,-999.0000,9,  -999.00,     1145
  49UP20161021,RF1608,  5939,  1,     26,  22084,2,20161112,1116, 37.2952, 135.0545, 1004,    102.5,   7.5747,  34.0772,2,-999.0000,9,    254.6,2,    10.18,2,     9.34,2,     0.01,2,     0.69,2,   -999.0,9,   -999.0,9,-999.0000,9,  -999.00,     1145
  49UP20161021,RF1608,  5939,  1,     24,  22110,2,20161112,1116, 37.2952, 135.0545, 1004,    127.0,   4.0555,  33.9826,2,-999.0000,9,    273.4,2,    12.81,2,    10.87,2,     0.01,2,     0.81,2,   -999.0,9,   -999.0,9,-999.0000,9,  -999.00,     1144
  49UP20161021,RF1608,  5939,  1,     23,  23679,2,20161112,1116, 37.2952, 135.0545, 1004,    153.0,   2.5103,  33.9995,2,-999.0000,9,    267.4,2,    18.82,2,    14.69,2,     0.00,2,     1.09,2,   -999.0,9,   -999.0,9,-999.0000,9,  -999.00,     1142
  49UP20161021,RF1608,  5939,  1,     22,  22111,3,20161112,1116, 37.2952, 135.0545, 1004,    202.8,   1.5857,  34.0246,2,-999.0000,9,    267.2,2,    23.19,2,    16.87,2,     0.00,2,     1.25,2,   -999.0,9,   -999.0,9,-999.0000,9,  -999.00,     1141
  49UP20161021,RF1608,  5939,  1,     20,  22093,2,20161112,1116, 37.2952, 135.0545, 1004,    253.8,   1.1745,  34.0446,2,-999.0000,9,    243.8,2,    31.28,2,    20.42,2,     0.00,2,     1.52,2,   -999.0,9,   -999.0,9,-999.0000,9,  -999.00,     1139
  49UP20161021,RF1608,  5939,  1,     19,  24269,2,20161112,1116, 37.2952, 135.0545, 1004,    305.0,   1.0480,  34.0502,2,-999.0000,9,    236.9,2,    33.84,2,    21.38,2,     0.00,2,     1.60,2,   -999.0,9,   -999.0,9,-999.0000,9,  -999.00,     1137
  49UP20161021,RF1608,  5939,  1,     18,  25088,2,20161112,1116, 37.2952, 135.0545, 1004,    404.5,   0.8686,  34.0583,2,-999.0000,9,    224.2,2,    38.24,2,    23.06,2,     0.00,2,     1.74,2,   -999.0,9,   -999.0,9,-999.0000,9,  -999.00,     1134
  49UP20161021,RF1608,  5939,  1,     17,  22090,2,20161112,1116, 37.2952, 135.0545, 1004,    506.1,   0.6614,  34.0670,2,-999.0000,9,    207.4,2,    48.26,2,    24.81,2,     0.00,2,     1.89,2,   -999.0,9,   -999.0,9,-999.0000,9,  -999.00,     1131
  49UP20161021,RF1608,  5939,  1,     16,  24474,3,20161112,1116, 37.2952, 135.0545, 1004,    606.9,   0.4991,  34.0697,2,-999.0000,9,    202.0,6,    56.55,6,    25.23,6,     0.00,6,     1.94,6,   -999.0,9,   -999.0,9,-999.0000,9,  -999.00,     1128
  49UP20161021,RF1608,  5939,  1,     15,  22665,2,20161112,1116, 37.2952, 135.0545, 1004,    707.4,   0.4342,  34.0698,2,-999.0000,9,    200.7,2,    60.68,2,    25.34,2,     0.00,2,     1.95,2,   -999.0,9,   -999.0,9,-999.0000,9,  -999.00,     1125
  49UP20161021,RF1608,  5939,  1,     14,  21999,2,20161112,1116, 37.2952, 135.0545, 1004,    808.0,   0.3654,  34.0696,2,-999.0000,9,    199.0,2,    66.04,2,    25.45,2,     0.00,2,     1.97,2,   -999.0,9,   -999.0,9,-999.0000,9,  -999.00,     1123
  49UP20161021,RF1608,  5939,  1,     13,  22667,2,20161112,1116, 37.2952, 135.0545, 1004,    910.2,   0.3473,  34.0695,2,-999.0000,9,    198.5,2,    67.80,2,    25.45,2,     0.00,2,     1.97,2,   -999.0,9,   -999.0,9,-999.0000,9,  -999.00,     1120
  49UP20161021,RF1608,  5939,  1,     11,  24268,2,20161112,1116, 37.2952, 135.0545, 1004,    971.9,   0.3007,  34.0693,2,-999.0000,9,    198.0,2,    71.31,2,    25.50,2,     0.00,2,     1.97,2,   -999.0,9,   -999.0,9,-999.0000,9,  -999.00,     1116
  49UP20161021,RF1608,  5939,  1,     12,  22074,2,20161112,1116, 37.2952, 135.0545, 1004,    972.0,   0.3012,  34.0693,2,-999.0000,9,    197.8,2,    71.34,2,    25.54,2,     0.00,2,     1.98,2,   -999.0,9,   -999.0,9,-999.0000,9,  -999.00,     1116