BOTTLE,20200306PRINUNIVRMK
EXPOCODE,SECT_ID,STNNBR,CASTNO,SAMPNO,BTLNBR,BTLNBR_FLAG_W,DATE,TIME,LATITUDE,LONGITUDE,DEPTH,CTDPRS,CTDTMP,CTDSAL,CTDSAL_FLAG_W,SALNTY,SALNTY_FLAG_W,OXYGEN,OXYGEN_FLAG_W,SILCAT,SILCAT_FLAG_W,NITRAT,NITRAT_FLAG_W,NITRIT,NITRIT_FLAG_W,PHSPHT,PHSPHT_FLAG_W,TCARBN,TCARBN_FLAG_W,ALKALI,ALKALI_FLAG_W,PH_TOT,PH_TOT_FLAG_W,PH_TMP,BTL_TIME
,,,,,,,,,,,METERS,DBAR,ITS-90,PSS-78,,PSS-78,,UMOL/KG,,UMOL/KG,,UMOL/KG,,UMOL/KG,,UMOL/KG,,UMOL/KG,,UMOL/KG,,,,DEG C,
  49UP20161021,RF1608,  5944,  1,     99,     99,2,20161113,1056, 38.7077, 134.4452, 2415,      0.0,  17.0569,  33.5089,2,-999.0000,9,    234.3,2,     4.18,2,     2.27,2,     0.28,2,     0.15,2,   -999.0,9,   -999.0,9,-999.0000,9,  -999.00,     1145
  49UP20161021,RF1608,  5944,  1,     33,  24469,2,20161113,1056, 38.7077, 134.4452, 2415,     11.3,  17.0519,  33.5086,2,  33.5071,2,    234.0,2,     4.13,2,     2.20,2,     0.28,2,     0.14,2,   -999.0,9,   -999.0,9,-999.0000,9,  -999.00,     1208
  49UP20161021,RF1608,  5944,  1,     32,  25089,2,20161113,1056, 38.7077, 134.4452, 2415,     27.4,  17.1206,  33.5290,2,  33.5286,2,    234.1,2,     3.83,2,     1.90,2,     0.25,2,     0.13,3,   -999.0,9,   -999.0,9,-999.0000,9,  -999.00,     1207
  49UP20161021,RF1608,  5944,  1,     31,  23515,2,20161113,1056, 38.7077, 134.4452, 2415,     50.8,  17.2928,  33.6195,2,  33.6172,2,    234.9,2,     2.89,2,     1.05,2,     0.16,2,     0.08,2,   -999.0,9,   -999.0,9,-999.0000,9,  -999.00,     1203
  49UP20161021,RF1608,  5944,  1,     30,  22097,2,20161113,1056, 38.7077, 134.4452, 2415,     76.2,  16.9279,  34.4214,2,  34.4238,2,    193.6,2,     8.66,2,     6.30,2,     0.07,2,     0.44,2,   -999.0,9,   -999.0,9,-999.0000,9,  -999.00,     1202
  49UP20161021,RF1608,  5944,  1,     29,  22102,2,20161113,1056, 38.7077, 134.4452, 2415,    102.0,  15.2444,  34.4356,2,  34.4319,2,    198.0,2,     9.75,2,     7.13,2,     0.03,2,     0.51,2,   -999.0,9,   -999.0,9,-999.0000,9,  -999.00,     1201
  49UP20161021,RF1608,  5944,  1,     28,  24472,2,20161113,1056, 38.7077, 134.4452, 2415,    127.0,  12.6644,  34.2971,2,  34.2475,4,    217.4,2,    11.26,2,     8.50,2,     0.03,2,     0.62,2,   -999.0,9,   -999.0,9,-999.0000,9,  -999.00,     1159
  49UP20161021,RF1608,  5944,  1,     27,  21998,2,20161113,1056, 38.7077, 134.4452, 2415,    152.3,   8.7340,  34.1304,2,  34.1040,4,    248.5,6,    10.98,6,     9.77,6,     0.01,6,     0.71,6,   -999.0,9,   -999.0,9,-999.0000,9,  -999.00,     1158
  49UP20161021,RF1608,  5944,  1,     25,  22098,2,20161113,1056, 38.7077, 134.4452, 2415,    202.7,   3.0158,  33.9597,2,  33.9588,2,    281.2,2,    12.98,2,    11.37,2,     0.01,2,     0.84,2,   -999.0,9,   -999.0,9,-999.0000,9,  -999.00,     1156
  49UP20161021,RF1608,  5944,  1,     26,  22084,2,20161113,1056, 38.7077, 134.4452, 2415,    202.9,   3.0427,  33.9586,2,  33.9583,2,    281.1,2,    12.93,2,    11.30,2,     0.01,2,     0.84,2,   -999.0,9,   -999.0,9,-999.0000,9,  -999.00,     1156
  49UP20161021,RF1608,  5944,  1,     21,  22078,2,20161113,1056, 38.7077, 134.4452, 2415,    253.2,   1.6414,  33.9835,2,  33.9851,2,    284.0,2,    18.04,2,    14.20,2,     0.00,2,     1.05,2,   -999.0,9,   -999.0,9,-999.0000,9,  -999.00,     1155
  49UP20161021,RF1608,  5944,  1,     20,  22093,2,20161113,1056, 38.7077, 134.4452, 2415,    302.8,   1.3523,  34.0111,2,  34.0114,2,    268.5,2,    23.10,2,    16.94,2,     0.00,2,     1.25,2,   -999.0,9,   -999.0,9,-999.0000,9,  -999.00,     1153
  49UP20161021,RF1608,  5944,  1,     19,  24269,2,20161113,1056, 38.7077, 134.4452, 2415,    403.6,   1.0071,  34.0547,2,  34.0547,2,    222.5,2,    37.50,2,    22.84,2,     0.00,2,     1.72,2,   -999.0,9,   -999.0,9,-999.0000,9,  -999.00,     1150
  49UP20161021,RF1608,  5944,  1,     18,  25088,2,20161113,1056, 38.7077, 134.4452, 2415,    505.6,   0.7515,  34.0650,2,  34.0648,2,    214.7,2,    43.33,2,    24.13,2,     0.00,2,     1.83,2,   -999.0,9,   -999.0,9,-999.0000,9,  -999.00,     1148
  49UP20161021,RF1608,  5944,  1,     17,  22090,2,20161113,1056, 38.7077, 134.4452, 2415,    606.0,   0.6410,  34.0684,2,  34.0685,2,    208.2,2,    47.94,2,    24.80,2,     0.00,2,     1.89,2,   -999.0,9,   -999.0,9,-999.0000,9,  -999.00,     1145
  49UP20161021,RF1608,  5944,  1,     16,  24474,2,20161113,1056, 38.7077, 134.4452, 2415,    707.6,   0.5369,  34.0705,2,  34.0701,2,    203.4,2,    53.37,2,    25.19,2,     0.00,2,     1.93,2,   -999.0,9,   -999.0,9,-999.0000,9,  -999.00,     1142
  49UP20161021,RF1608,  5944,  1,     15,  22665,2,20161113,1056, 38.7077, 134.4452, 2415,    809.2,   0.4661,  34.0708,2,  34.0706,2,    201.7,2,    57.44,2,    25.37,2,     0.00,2,     1.95,2,   -999.0,9,   -999.0,9,-999.0000,9,  -999.00,     1140
  49UP20161021,RF1608,  5944,  1,     14,  21999,2,20161113,1056, 38.7077, 134.4452, 2415,    910.0,   0.4034,  34.0705,2,  34.0729,4,    200.6,2,    61.63,2,    25.46,2,     0.00,2,     1.96,2,   -999.0,9,   -999.0,9,-999.0000,9,  -999.00,     1137
  49UP20161021,RF1608,  5944,  1,     13,  22667,2,20161113,1056, 38.7077, 134.4452, 2415,   1011.0,   0.3472,  34.0698,2,  34.0695,2,    200.0,2,    65.78,2,    25.46,2,     0.00,2,     1.96,2,   -999.0,9,   -999.0,9,-999.0000,9,  -999.00,     1132
  49UP20161021,RF1608,  5944,  1,     12,  22074,2,20161113,1056, 38.7077, 134.4452, 2415,   1213.3,   0.2809,  34.0691,2,  34.0683,2,    199.2,6,    71.95,6,    25.53,6,     0.00,6,     1.97,6,   -999.0,9,   -999.0,9,-999.0000,9,  -999.00,     1128
  49UP20161021,RF1608,  5944,  1,     11,  24268,2,20161113,1056, 38.7077, 134.4452, 2415,   1417.1,   0.2475,  34.0685,2,  34.0686,2,    199.0,2,    76.33,2,    25.60,2,     0.00,2,     1.98,2,   -999.0,9,   -999.0,9,-999.0000,9,  -999.00,     1123
  49UP20161021,RF1608,  5944,  1,     10,  24267,2,20161113,1056, 38.7077, 134.4452, 2415,   1417.3,   0.2481,  34.0685,2,  34.0676,2,    199.2,2,    76.33,2,    25.58,2,     0.00,2,     1.98,2,   -999.0,9,   -999.0,9,-999.0000,9,  -999.00,     1123
  49UP20161021,RF1608,  5944,  1,      6,  22113,2,20161113,1056, 38.7077, 134.4452, 2415,   1619.8,   0.2339,  34.0682,2,  34.0681,6,    198.4,2,    79.29,2,    25.60,2,     0.00,2,     1.98,2,   -999.0,9,   -999.0,9,-999.0000,9,  -999.00,     1116
  49UP20161021,RF1608,  5944,  1,      5,  24658,2,20161113,1056, 38.7077, 134.4452, 2415,   1822.7,   0.2326,  34.0681,2,  34.0688,2,    198.3,2,    81.73,2,    25.68,2,     0.00,2,     1.99,2,   -999.0,9,   -999.0,9,-999.0000,9,  -999.00,     1111
  49UP20161021,RF1608,  5944,  1,      4,  24471,2,20161113,1056, 38.7077, 134.4452, 2415,   2026.1,   0.2364,  34.0680,2,  34.0690,2,    198.4,2,    83.48,2,    25.76,2,     0.00,2,     2.00,2,   -999.0,9,   -999.0,9,-999.0000,9,  -999.00,     1106
  49UP20161021,RF1608,  5944,  1,      3,  22104,2,20161113,1056, 38.7077, 134.4452, 2415,   2280.2,   0.2441,  34.0680,2,  34.0676,6,    197.8,2,    86.21,2,    25.84,2,     0.00,2,     2.01,2,   -999.0,9,   -999.0,9,-999.0000,9,  -999.00,     1059
  49UP20161021,RF1608,  5944,  1,      1,  21997,2,20161113,1056, 38.7077, 134.4452, 2415,   2388.5,   0.2522,  34.0680,2,  34.0691,4,    197.8,2,    86.57,2,    25.83,2,     0.00,2,     2.01,2,   -999.0,9,   -999.0,9,-999.0000,9,  -999.00,     1056
  49UP20161021,RF1608,  5947,  1,     99,     99,2,20161114,0129, 39.2877, 134.4730,  698,      0.0,  15.5419,  33.3409,2,-999.0000,9,    247.9,2,     5.00,2,     2.15,2,     0.26,2,     0.14,2,   -999.0,9,   -999.0,9,-999.0000,9,  -999.00,      135
  49UP20161021,RF1608,  5947,  1,     33,  24469,2,20161114,0129, 39.2877, 134.4730,  698,     11.6,  15.3539,  33.3408,2,-999.0000,9,    249.8,2,     4.97,2,     1.97,2,     0.23,2,     0.13,2,   -999.0,9,   -999.0,9,-999.0000,9,  -999.00,      155
  49UP20161021,RF1608,  5947,  1,     32,  25089,2,20161114,0129, 39.2877, 134.4730,  698,     26.5,  13.2859,  33.4687,2,-999.0000,9,    261.4,2,     3.78,2,     0.52,2,     0.05,2,     0.05,2,   -999.0,9,   -999.0,9,-999.0000,9,  -999.00,      154
  49UP20161021,RF1608,  5947,  1,     31,  23515,2,20161114,0129, 39.2877, 134.4730,  698,     51.3,  12.8713,  33.5006,2,-999.0000,9,    262.2,2,     3.40,2,     0.23,2,     0.04,2,     0.04,2,   -999.0,9,   -999.0,9,-999.0000,9,  -999.00,      151
  49UP20161021,RF1608,  5947,  1,     30,  22097,3,20161114,0129, 39.2877, 134.4730,  698,     77.5,   6.8007,  33.9629,2,-999.0000,9,    278.0,2,     8.70,2,     7.20,2,     0.07,2,     0.56,2,   -999.0,9,   -999.0,9,-999.0000,9,  -999.00,      149
  49UP20161021,RF1608,  5947,  1,     29,  22102,2,20161114,0129, 39.2877, 134.4730,  698,    101.6,   3.5311,  33.9831,2,-999.0000,9,    271.6,2,    14.22,2,    12.04,2,     0.01,2,     0.89,2,   -999.0,9,   -999.0,9,-999.0000,9,  -999.00,      148
  49UP20161021,RF1608,  5947,  1,     28,  24472,2,20161114,0129, 39.2877, 134.4730,  698,    127.5,   2.5635,  33.9927,2,-999.0000,9,    269.2,6,    17.55,6,    14.14,6,     0.01,6,     1.04,6,   -999.0,9,   -999.0,9,-999.0000,9,  -999.00,      147
  49UP20161021,RF1608,  5947,  1,     26,  22084,2,20161114,0129, 39.2877, 134.4730,  698,    153.6,   2.0015,  34.0097,2,-999.0000,9,    263.7,2,    21.25,2,    16.12,2,     0.00,2,     1.18,2,   -999.0,9,   -999.0,9,-999.0000,9,  -999.00,      145
  49UP20161021,RF1608,  5947,  1,     27,  21998,2,20161114,0129, 39.2877, 134.4730,  698,    154.0,   2.0097,  34.0105,2,-999.0000,9,    263.4,2,    21.24,2,    16.11,2,     0.00,2,     1.18,2,   -999.0,9,   -999.0,9,-999.0000,9,  -999.00,      145
  49UP20161021,RF1608,  5947,  1,     25,  22098,2,20161114,0129, 39.2877, 134.4730,  698,    203.1,   1.4874,  34.0362,2,-999.0000,9,    246.7,2,    28.36,2,    19.38,2,     0.00,2,     1.44,2,   -999.0,9,   -999.0,9,-999.0000,9,  -999.00,      143
  49UP20161021,RF1608,  5947,  1,     21,  22078,2,20161114,0129, 39.2877, 134.4730,  698,    251.5,   1.0957,  34.0468,2,-999.0000,9,    240.8,2,    32.00,2,    20.94,2,     0.00,2,     1.55,2,   -999.0,9,   -999.0,9,-999.0000,9,  -999.00,      141
  49UP20161021,RF1608,  5947,  1,     20,  22093,2,20161114,0129, 39.2877, 134.4730,  698,    303.5,   0.9179,  34.0531,2,-999.0000,9,    233.3,2,    34.09,2,    22.12,2,     0.00,2,     1.65,2,   -999.0,9,   -999.0,9,-999.0000,9,  -999.00,      139
  49UP20161021,RF1608,  5947,  1,     19,  24269,2,20161114,0129, 39.2877, 134.4730,  698,    405.0,   0.7445,  34.0641,2,-999.0000,9,    217.0,2,    42.11,2,    23.95,2,     0.00,2,     1.81,2,   -999.0,9,   -999.0,9,-999.0000,9,  -999.00,      137
  49UP20161021,RF1608,  5947,  1,     15,  22665,2,20161114,0129, 39.2877, 134.4730,  698,    506.6,   0.5893,  34.0695,2,-999.0000,9,    205.4,2,    50.38,2,    25.04,2,     0.00,2,     1.91,2,   -999.0,9,   -999.0,9,-999.0000,9,  -999.00,      134
  49UP20161021,RF1608,  5947,  1,     14,  21999,2,20161114,0129, 39.2877, 134.4730,  698,    606.9,   0.5249,  34.0705,2,-999.0000,9,    203.6,2,    53.67,2,    25.23,2,     0.00,2,     1.92,2,   -999.0,9,   -999.0,9,-999.0000,9,  -999.00,      131
  49UP20161021,RF1608,  5947,  1,     13,  22667,2,20161114,0129, 39.2877, 134.4730,  698,    672.2,   0.5131,  34.0707,2,-999.0000,9,    202.8,2,    54.65,2,    25.24,2,     0.00,2,     1.92,2,   -999.0,9,   -999.0,9,-999.0000,9,  -999.00,      129
  49UP20161021,RF1608,  5948,  1,     99,     99,2,20161114,0718, 39.8525, 134.5060, 1706,      0.0,  13.3860,  33.5085,2,-999.0000,9,    261.6,2,     3.25,2,     0.23,2,     0.05,2,     0.04,2,   -999.0,9,   -999.0,9,-999.0000,9,  -999.00,      737
  49UP20161021,RF1608,  5948,  1,     33,  24469,2,20161114,0718, 39.8525, 134.5060, 1706,     11.2,  13.3814,  33.5076,2,-999.0000,9,    261.3,2,     3.23,2,     0.24,2,     0.05,2,     0.04,2,   -999.0,9,   -999.0,9,-999.0000,9,  -999.00,      816
  49UP20161021,RF1608,  5948,  1,     32,  25089,2,20161114,0718, 39.8525, 134.5060, 1706,     26.1,  12.4005,  33.5629,2,-999.0000,9,    263.2,2,     3.77,2,     0.42,2,     0.06,2,     0.06,2,   -999.0,9,   -999.0,9,-999.0000,9,  -999.00,      815
  49UP20161021,RF1608,  5948,  1,     31,  23515,2,20161114,0718, 39.8525, 134.5060, 1706,     52.2,   8.5055,  34.0530,2,-999.0000,9,    254.6,2,     9.99,2,     8.17,2,     0.04,2,     0.63,2,   -999.0,9,   -999.0,9,-999.0000,9,  -999.00,      811
  49UP20161021,RF1608,  5948,  1,     30,  22097,2,20161114,0718, 39.8525, 134.5060, 1706,     75.5,   5.4465,  34.0103,2,-999.0000,9,    264.7,6,    11.82,6,    10.31,6,     0.02,6,     0.77,6,   -999.0,9,   -999.0,9,-999.0000,9,  -999.00,      810
  49UP20161021,RF1608,  5948,  1,     28,  24472,3,20161114,0718, 39.8525, 134.5060, 1706,    101.6,   3.1516,  33.9945,2,-999.0000,9,    263.0,2,    17.28,2,    13.87,2,     0.01,2,     1.03,2,   -999.0,9,   -999.0,9,-999.0000,9,  -999.00,      808
  49UP20161021,RF1608,  5948,  1,     29,  22102,2,20161114,0718, 39.8525, 134.5060, 1706,    101.9,   3.2071,  33.9967,2,-999.0000,9,    262.6,2,    17.13,2,    13.80,2,     0.01,2,     1.02,2,   -999.0,9,   -999.0,9,-999.0000,9,  -999.00,      808
  49UP20161021,RF1608,  5948,  1,     27,  21998,2,20161114,0718, 39.8525, 134.5060, 1706,    126.9,   2.0978,  33.9814,2,-999.0000,9,    276.8,2,    17.23,2,    13.96,2,     0.01,2,     1.03,2,   -999.0,9,   -999.0,9,-999.0000,9,  -999.00,      807
  49UP20161021,RF1608,  5948,  1,     26,  22084,2,20161114,0718, 39.8525, 134.5060, 1706,    152.1,   1.6862,  34.0143,2,-999.0000,9,    264.2,2,    22.64,2,    16.77,2,     0.00,2,     1.24,2,   -999.0,9,   -999.0,9,-999.0000,9,  -999.00,      806
  49UP20161021,RF1608,  5948,  1,     25,  22098,2,20161114,0718, 39.8525, 134.5060, 1706,    202.7,   1.1486,  34.0438,2,-999.0000,9,    245.6,2,    30.72,2,    20.30,2,     0.00,2,     1.51,2,   -999.0,9,   -999.0,9,-999.0000,9,  -999.00,      804
  49UP20161021,RF1608,  5948,  1,     21,  22078,2,20161114,0718, 39.8525, 134.5060, 1706,    254.4,   0.9638,  34.0510,2,-999.0000,9,    239.5,2,    33.83,2,    21.37,2,     0.00,2,     1.59,2,   -999.0,9,   -999.0,9,-999.0000,9,  -999.00,      802
  49UP20161021,RF1608,  5948,  1,     20,  22093,2,20161114,0718, 39.8525, 134.5060, 1706,    304.8,   0.8896,  34.0548,2,-999.0000,9,    233.9,2,    35.98,2,    22.09,2,     0.00,2,     1.66,2,   -999.0,9,   -999.0,9,-999.0000,9,  -999.00,      800
  49UP20161021,RF1608,  5948,  1,     19,  24269,2,20161114,0718, 39.8525, 134.5060, 1706,    405.2,   0.8184,  34.0589,2,-999.0000,9,    226.2,2,    38.93,2,    22.97,2,     0.00,2,     1.73,2,   -999.0,9,   -999.0,9,-999.0000,9,  -999.00,      757
  49UP20161021,RF1608,  5948,  1,     15,  22665,2,20161114,0718, 39.8525, 134.5060, 1706,    507.6,   0.7553,  34.0624,2,-999.0000,9,    219.6,2,    42.06,2,    23.63,2,     0.00,2,     1.79,2,   -999.0,9,   -999.0,9,-999.0000,9,  -999.00,      754
  49UP20161021,RF1608,  5948,  1,     14,  21999,2,20161114,0718, 39.8525, 134.5060, 1706,    607.1,   0.6210,  34.0685,2,-999.0000,9,    207.3,2,    49.04,2,    24.87,2,     0.00,2,     1.90,2,   -999.0,9,   -999.0,9,-999.0000,9,  -999.00,      751
  49UP20161021,RF1608,  5948,  1,     13,  22667,2,20161114,0718, 39.8525, 134.5060, 1706,    708.3,   0.5247,  34.0703,2,-999.0000,9,    203.6,2,    53.97,2,    25.21,2,     0.00,2,     1.93,2,   -999.0,9,   -999.0,9,-999.0000,9,  -999.00,      748
  49UP20161021,RF1608,  5948,  1,     12,  22074,2,20161114,0718, 39.8525, 134.5060, 1706,    809.6,   0.4406,  34.0704,2,-999.0000,9,    200.7,2,    59.64,2,    25.42,2,     0.00,2,     1.95,2,   -999.0,9,   -999.0,9,-999.0000,9,  -999.00,      745
  49UP20161021,RF1608,  5948,  1,     11,  24268,2,20161114,0718, 39.8525, 134.5060, 1706,    911.3,   0.3805,  34.0701,2,-999.0000,9,    199.9,2,    63.58,2,    25.42,2,     0.00,2,     1.96,2,   -999.0,9,   -999.0,9,-999.0000,9,  -999.00,      739
  49UP20161021,RF1608,  5948,  1,     10,  24267,2,20161114,0718, 39.8525, 134.5060, 1706,   1013.6,   0.3481,  34.0699,2,-999.0000,9,    199.4,2,    66.46,2,    25.47,2,     0.00,2,     1.97,2,   -999.0,9,   -999.0,9,-999.0000,9,  -999.00,      736
  49UP20161021,RF1608,  5948,  1,      6,  22113,2,20161114,0718, 39.8525, 134.5060, 1706,   1213.6,   0.2925,  34.0690,2,-999.0000,9,    198.0,2,    72.49,2,    25.53,2,     0.00,2,     1.98,2,   -999.0,9,   -999.0,9,-999.0000,9,  -999.00,      731
  49UP20161021,RF1608,  5948,  1,      5,  24658,2,20161114,0718, 39.8525, 134.5060, 1706,   1416.7,   0.2657,  34.0685,2,-999.0000,9,    196.9,6,    76.70,6,    25.59,6,     0.00,6,     1.99,6,   -999.0,9,   -999.0,9,-999.0000,9,  -999.00,      727
  49UP20161021,RF1608,  5948,  1,      3,  22104,2,20161114,0718, 39.8525, 134.5060, 1706,   1619.4,   0.2448,  34.0683,2,-999.0000,9,    194.6,2,    82.16,2,    25.73,2,     0.00,2,     2.02,2,   -999.0,9,   -999.0,9,-999.0000,9,  -999.00,      721
  49UP20161021,RF1608,  5948,  1,      2,  22075,2,20161114,0718, 39.8525, 134.5060, 1706,   1684.7,   0.2423,  34.0682,2,-999.0000,9,    192.9,2,    84.39,2,    25.79,2,     0.00,2,     2.02,2,   -999.0,9,   -999.0,9,-999.0000,9,  -999.00,      718
  49UP20161021,RF1608,  5948,  1,      1,  21997,2,20161114,0718, 39.8525, 134.5060, 1706,   1685.0,   0.2424,  34.0682,2,-999.0000,9,    193.0,2,    84.37,2,    25.84,2,     0.00,2,     2.02,2,   -999.0,9,   -999.0,9,-999.0000,9,  -999.00,      718