BOTTLE,20200306PRINUNIVRMK
EXPOCODE,SECT_ID,STNNBR,CASTNO,SAMPNO,BTLNBR,BTLNBR_FLAG_W,DATE,TIME,LATITUDE,LONGITUDE,DEPTH,CTDPRS,CTDTMP,CTDSAL,CTDSAL_FLAG_W,SALNTY,SALNTY_FLAG_W,OXYGEN,OXYGEN_FLAG_W,SILCAT,SILCAT_FLAG_W,NITRAT,NITRAT_FLAG_W,NITRIT,NITRIT_FLAG_W,PHSPHT,PHSPHT_FLAG_W,TCARBN,TCARBN_FLAG_W,ALKALI,ALKALI_FLAG_W,PH_TOT,PH_TOT_FLAG_W,PH_TMP,BTL_TIME
,,,,,,,,,,,METERS,DBAR,ITS-90,PSS-78,,PSS-78,,UMOL/KG,,UMOL/KG,,UMOL/KG,,UMOL/KG,,UMOL/KG,,UMOL/KG,,UMOL/KG,,,,DEG C,
  49UP20161021,RF1608,  5899,  1,     99,     99,2,20161025,1304, 40.4878, 137.6557, 2915,      0.0,  16.5709,  33.3537,2,-999.0000,9,    244.2,2,     3.61,2,     0.08,2,     0.00,2,     0.01,2,   -999.0,9,   -999.0,9,-999.0000,9,  -999.00,     1405
  49UP20161021,RF1608,  5899,  1,     36,  22109,2,20161025,1304, 40.4878, 137.6557, 2915,     11.2,  16.3757,  33.4418,2,-999.0000,9,    244.4,2,     3.57,2,     0.04,2,     0.00,2,     0.01,2,   -999.0,9,   -999.0,9,-999.0000,9,  -999.00,     1430
  49UP20161021,RF1608,  5899,  1,     35,  22112,2,20161025,1304, 40.4878, 137.6557, 2915,     26.5,  15.7830,  33.5875,2,-999.0000,9,    248.5,6,     3.56,6,     0.03,6,     0.00,6,     0.02,6,   -999.0,9,   -999.0,9,-999.0000,9,  -999.00,     1429
  49UP20161021,RF1608,  5899,  1,     33,  24469,2,20161025,1304, 40.4878, 137.6557, 2915,     51.1,  11.3195,  34.1638,2,-999.0000,9,    249.6,2,     7.64,2,     5.62,2,     0.10,2,     0.45,2,   -999.0,9,   -999.0,9,-999.0000,9,  -999.00,     1426
  49UP20161021,RF1608,  5899,  1,     34,  22094,2,20161025,1304, 40.4878, 137.6557, 2915,     51.4,  11.3322,  34.1669,2,-999.0000,9,    253.0,2,     7.33,2,     4.81,2,     0.12,2,     0.41,2,   -999.0,9,   -999.0,9,-999.0000,9,  -999.00,     1426
  49UP20161021,RF1608,  5899,  1,     32,  25089,2,20161025,1304, 40.4878, 137.6557, 2915,     76.3,   6.7134,  34.0456,2,-999.0000,9,    266.3,2,    10.46,2,     9.13,2,     0.04,2,     0.69,2,   -999.0,9,   -999.0,9,-999.0000,9,  -999.00,     1424
  49UP20161021,RF1608,  5899,  1,     31,  23515,2,20161025,1304, 40.4878, 137.6557, 2915,    101.0,   3.8787,  33.9886,2,-999.0000,9,    282.5,2,    12.77,2,    10.76,2,     0.01,2,     0.79,2,   -999.0,9,   -999.0,9,-999.0000,9,  -999.00,     1423
  49UP20161021,RF1608,  5899,  1,     26,  22084,2,20161025,1304, 40.4878, 137.6557, 2915,    126.8,   2.7764,  34.0029,2,-999.0000,9,    289.0,2,    14.97,2,    12.25,2,     0.01,2,     0.89,2,   -999.0,9,   -999.0,9,-999.0000,9,  -999.00,     1422
  49UP20161021,RF1608,  5899,  1,     25,  22098,2,20161025,1304, 40.4878, 137.6557, 2915,    151.7,   1.8933,  34.0009,2,-999.0000,9,    294.8,2,    16.23,2,    12.92,2,     0.01,2,     0.94,2,   -999.0,9,   -999.0,9,-999.0000,9,  -999.00,     1421
  49UP20161021,RF1608,  5899,  1,     24,  22110,2,20161025,1304, 40.4878, 137.6557, 2915,    202.2,   1.4955,  34.0206,2,-999.0000,9,    289.7,2,    19.06,2,    14.70,2,     0.00,2,     1.07,2,   -999.0,9,   -999.0,9,-999.0000,9,  -999.00,     1419
  49UP20161021,RF1608,  5899,  1,     23,  23679,2,20161025,1304, 40.4878, 137.6557, 2915,    252.8,   1.1969,  34.0322,2,-999.0000,9,    277.7,2,    23.00,2,    16.92,2,     0.00,2,     1.24,3,   -999.0,9,   -999.0,9,-999.0000,9,  -999.00,     1417
  49UP20161021,RF1608,  5899,  1,     22,  22111,2,20161025,1304, 40.4878, 137.6557, 2915,    303.3,   1.0585,  34.0406,2,-999.0000,9,    266.0,2,    26.29,2,    18.60,2,     0.00,2,     1.37,2,   -999.0,9,   -999.0,9,-999.0000,9,  -999.00,     1416
  49UP20161021,RF1608,  5899,  1,     21,  22078,2,20161025,1304, 40.4878, 137.6557, 2915,    403.9,   0.8298,  34.0583,2,-999.0000,9,    231.8,2,    36.08,2,    22.62,2,     0.00,2,     1.70,2,   -999.0,9,   -999.0,9,-999.0000,9,  -999.00,     1413
  49UP20161021,RF1608,  5899,  1,     20,  22093,2,20161025,1304, 40.4878, 137.6557, 2915,    505.8,   0.7055,  34.0661,2,-999.0000,9,    216.1,2,    42.27,2,    24.18,2,     0.00,2,     1.84,2,   -999.0,9,   -999.0,9,-999.0000,9,  -999.00,     1410
  49UP20161021,RF1608,  5899,  1,     19,  24269,2,20161025,1304, 40.4878, 137.6557, 2915,    607.1,   0.6067,  34.0697,2,-999.0000,9,    206.5,2,    48.56,2,    25.06,2,     0.00,2,     1.92,2,   -999.0,9,   -999.0,9,-999.0000,9,  -999.00,     1407
  49UP20161021,RF1608,  5899,  1,     18,  25088,2,20161025,1304, 40.4878, 137.6557, 2915,    707.1,   0.5088,  34.0705,2,-999.0000,9,    202.8,2,    54.48,2,    25.38,2,     0.00,2,     1.94,2,   -999.0,9,   -999.0,9,-999.0000,9,  -999.00,     1404
  49UP20161021,RF1608,  5899,  1,     17,  22090,2,20161025,1304, 40.4878, 137.6557, 2915,    807.8,   0.4342,  34.0702,2,-999.0000,9,    201.3,2,    58.96,2,    25.49,2,     0.00,2,     1.96,2,   -999.0,9,   -999.0,9,-999.0000,9,  -999.00,     1402
  49UP20161021,RF1608,  5899,  1,     16,  24474,2,20161025,1304, 40.4878, 137.6557, 2915,    909.5,   0.3777,  34.0701,2,-999.0000,9,    200.1,2,    62.67,2,    25.54,2,     0.00,2,     1.97,2,   -999.0,9,   -999.0,9,-999.0000,9,  -999.00,     1359
  49UP20161021,RF1608,  5899,  1,     15,  22665,2,20161025,1304, 40.4878, 137.6557, 2915,   1011.8,   0.3401,  34.0697,2,-999.0000,9,    199.3,2,    65.60,2,    25.59,2,     0.00,2,     1.97,2,   -999.0,9,   -999.0,9,-999.0000,9,  -999.00,     1353
  49UP20161021,RF1608,  5899,  1,     13,  22667,2,20161025,1304, 40.4878, 137.6557, 2915,   1214.1,   0.2906,  34.0689,2,-999.0000,9,    199.1,2,    69.93,2,    25.60,2,     0.00,2,     1.98,2,   -999.0,9,   -999.0,9,-999.0000,9,  -999.00,     1348
  49UP20161021,RF1608,  5899,  1,     12,  22074,2,20161025,1304, 40.4878, 137.6557, 2915,   1416.9,   0.2497,  34.0682,2,-999.0000,9,    199.6,6,    74.32,6,    25.59,6,     0.00,6,     1.98,6,   -999.0,9,   -999.0,9,-999.0000,9,  -999.00,     1343
  49UP20161021,RF1608,  5899,  1,     11,  24268,2,20161025,1304, 40.4878, 137.6557, 2915,   1620.2,   0.2329,  34.0680,2,-999.0000,9,    199.6,2,    77.89,2,    25.63,2,     0.00,2,     1.99,2,   -999.0,9,   -999.0,9,-999.0000,9,  -999.00,     1335
  49UP20161021,RF1608,  5899,  1,     10,  24267,2,20161025,1304, 40.4878, 137.6557, 2915,   1823.2,   0.2273,  34.0679,2,-999.0000,9,    199.2,2,    80.48,2,    25.65,2,     0.00,2,     2.00,2,   -999.0,9,   -999.0,9,-999.0000,9,  -999.00,     1330
  49UP20161021,RF1608,  5899,  1,      8,  24470,2,20161025,1304, 40.4878, 137.6557, 2915,   2026.3,   0.2265,  34.0678,2,-999.0000,9,    199.2,6,  -999.00,9,  -999.00,9,  -999.00,9,  -999.00,9,   -999.0,9,   -999.0,9,-999.0000,9,  -999.00,     1325
  49UP20161021,RF1608,  5899,  1,      7,  23516,2,20161025,1304, 40.4878, 137.6557, 2915,   2026.3,   0.2265,  34.0678,2,-999.0000,9,    199.3,6,    83.40,6,    25.70,6,     0.00,6,     2.01,6,   -999.0,9,   -999.0,9,-999.0000,9,  -999.00,     1325
  49UP20161021,RF1608,  5899,  1,      9,  23518,2,20161025,1304, 40.4878, 137.6557, 2915,   2026.8,   0.2268,  34.0678,2,-999.0000,9,    199.2,6,  -999.00,9,  -999.00,9,  -999.00,9,  -999.00,9,   -999.0,9,   -999.0,9,-999.0000,9,  -999.00,     1325
  49UP20161021,RF1608,  5899,  1,      6,  22113,2,20161025,1304, 40.4878, 137.6557, 2915,   2279.4,   0.2326,  34.0679,2,-999.0000,9,    199.8,2,    85.47,2,    25.77,2,     0.00,2,     2.01,2,   -999.0,9,   -999.0,9,-999.0000,9,  -999.00,     1317
  49UP20161021,RF1608,  5899,  1,      5,  24658,2,20161025,1304, 40.4878, 137.6557, 2915,   2534.5,   0.2453,  34.0679,2,-999.0000,9,    200.8,2,    86.54,2,    25.82,2,     0.00,2,     2.00,2,   -999.0,9,   -999.0,9,-999.0000,9,  -999.00,     1312
  49UP20161021,RF1608,  5899,  1,      4,  24471,2,20161025,1304, 40.4878, 137.6557, 2915,   2789.9,   0.2648,  34.0679,2,  34.0692,4,    201.1,2,    86.92,2,    25.80,2,     0.00,2,     2.00,2,   -999.0,9,   -999.0,9,-999.0000,9,  -999.00,     1307
  49UP20161021,RF1608,  5899,  1,      2,  22075,2,20161025,1304, 40.4878, 137.6557, 2915,   2899.5,   0.2743,  34.0679,2,  34.0674,2,    200.9,2,    87.03,2,    25.81,2,     0.00,2,     2.01,2,   -999.0,9,   -999.0,9,-999.0000,9,  -999.00,     1304
  49UP20161021,RF1608,  5899,  1,      1,  21997,2,20161025,1304, 40.4878, 137.6557, 2915,   2900.0,   0.2744,  34.0678,2,  34.0672,2,    200.9,2,    86.99,2,    25.82,2,     0.00,2,     2.00,2,   -999.0,9,   -999.0,9,-999.0000,9,  -999.00,     1304
  49UP20161021,RF1608,  5900,  1,     99,     99,2,20161025,2222, 40.8515, 137.9942, 3655,      0.0,  15.4540,  33.5954,2,  33.6033,2,    250.7,2,     3.37,2,     0.03,2,     0.00,2,     0.01,2,   2005.8,2,   2248.1,2,   7.9748,2,    25.00,     2337
  49UP20161021,RF1608,  5900,  1,     36,  22109,2,20161025,2222, 40.8515, 137.9942, 3655,     11.4,  15.4557,  33.5949,2,  33.5930,2,    250.6,2,     3.34,2,     0.04,2,     0.00,2,     0.01,2,   2007.6,2,   2247.0,2,   7.9769,2,    25.00,        3
  49UP20161021,RF1608,  5900,  1,     35,  22112,2,20161025,2222, 40.8515, 137.9942, 3655,     26.7,  15.4036,  33.5866,2,  33.5928,2,    250.5,2,     3.30,2,     0.02,2,     0.00,2,     0.01,2,   2008.0,2,   2249.5,2,   7.9754,2,    25.00,        2
  49UP20161021,RF1608,  5900,  1,     34,  22094,2,20161025,2222, 40.8515, 137.9942, 3655,     52.2,   3.6919,  33.9815,2,  33.9818,2,    291.8,6,    11.51,6,     9.86,6,     0.05,6,     0.74,6,   2133.5,2,   2259.2,2,   7.6997,2,    25.00,        0
  49UP20161021,RF1608,  5900,  1,     32,  25089,2,20161025,2222, 40.8515, 137.9942, 3655,     77.3,   2.4495,  33.9822,2,  33.9827,2,    295.0,2,    13.57,2,    11.53,2,     0.01,2,     0.84,2,   2149.3,2,   2258.0,2,   7.6660,2,    25.00,     2358
  49UP20161021,RF1608,  5900,  1,     33,  24469,2,20161025,2222, 40.8515, 137.9942, 3655,     77.4,   2.4482,  33.9825,2,  33.9810,2,    293.9,2,    13.58,2,    11.58,2,     0.01,2,     0.85,2,   2148.3,2,   2259.2,2,   7.6652,2,    25.00,     2359
  49UP20161021,RF1608,  5900,  1,     31,  23515,2,20161025,2222, 40.8515, 137.9942, 3655,    103.4,   2.0598,  34.0006,2,  34.0008,2,    298.2,2,    14.63,2,    12.07,2,     0.01,2,     0.88,2,   2152.2,2,   2259.4,2,   7.6559,2,    25.00,     2357
  49UP20161021,RF1608,  5900,  1,     27,  21998,2,20161025,2222, 40.8515, 137.9942, 3655,    127.2,   1.8631,  34.0284,2,  34.0274,2,    302.4,2,    15.08,2,    12.22,2,     0.00,2,     0.89,2,   2150.5,2,   2261.9,2,   7.6564,2,    25.00,     2356
  49UP20161021,RF1608,  5900,  1,     26,  22084,2,20161025,2222, 40.8515, 137.9942, 3655,    155.4,   1.7030,  34.0324,2,  34.0308,2,    298.9,2,    16.48,2,    13.08,2,     0.00,2,     0.96,2,   2159.8,2,   2260.8,2,   7.6438,2,    25.00,     2352
  49UP20161021,RF1608,  5900,  1,     25,  22098,2,20161025,2222, 40.8515, 137.9942, 3655,    204.3,   1.3991,  34.0418,2,  34.0394,2,    285.9,2,    20.90,2,    15.59,2,     0.00,2,     1.14,2,   2177.3,2,   2261.0,2,   7.5996,2,    25.00,     2351
  49UP20161021,RF1608,  5900,  1,     24,  22110,2,20161025,2222, 40.8515, 137.9942, 3655,    253.0,   1.2381,  34.0475,2,  34.0466,2,    276.8,6,    23.70,6,    16.96,6,     0.00,6,     1.25,6,   2184.7,2,   2261.8,2,   7.5719,2,    25.00,     2349
  49UP20161021,RF1608,  5900,  1,     22,  22111,2,20161025,2222, 40.8515, 137.9942, 3655,    304.2,   1.0601,  34.0509,2,  34.0504,2,    264.0,2,    27.40,2,    18.83,2,     0.00,2,     1.39,2,   2195.1,2,   2260.3,2,   7.5369,2,    25.00,     2347
  49UP20161021,RF1608,  5900,  1,     23,  23679,2,20161025,2222, 40.8515, 137.9942, 3655,    304.8,   1.0511,  34.0502,2,  34.0496,2,    264.5,2,    27.21,2,    18.73,2,     0.00,2,     1.38,2,   2192.4,2,   2262.8,2,   7.5378,2,    25.00,     2347
  49UP20161021,RF1608,  5900,  1,     21,  22078,2,20161025,2222, 40.8515, 137.9942, 3655,    406.4,   0.8047,  34.0605,2,  34.0614,2,    230.9,2,    36.29,2,    22.69,2,     0.00,2,     1.71,2,   2222.3,6,   2261.2,6,   7.4566,2,    25.00,     2344
  49UP20161021,RF1608,  5900,  1,     20,  22093,2,20161025,2222, 40.8515, 137.9942, 3655,    506.2,   0.6917,  34.0663,2,  34.0740,4,    215.0,2,    43.10,2,    24.25,2,     0.00,2,     1.85,2,   2236.2,2,   2262.2,2,   7.4289,6,    25.00,     2342
  49UP20161021,RF1608,  5900,  1,     19,  24269,2,20161025,2222, 40.8515, 137.9942, 3655,    605.7,   0.5970,  34.0699,2,  34.0727,4,    205.8,2,    49.22,2,    25.05,2,     0.00,2,     1.93,2,   2246.1,2,   2265.2,2,   7.4137,2,    25.00,     2339
  49UP20161021,RF1608,  5900,  1,     18,  25088,2,20161025,2222, 40.8515, 137.9942, 3655,    708.3,   0.4977,  34.0707,2,  34.0701,2,    202.4,2,    54.64,2,    25.30,2,     0.00,2,     1.95,2,   2246.2,2,   2267.3,2,   7.4086,2,    25.00,     2336
  49UP20161021,RF1608,  5900,  1,     17,  22090,2,20161025,2222, 40.8515, 137.9942, 3655,    808.6,   0.4283,  34.0705,2,  34.0711,2,    200.6,2,    58.95,2,    25.46,2,     0.00,2,     1.96,2,   2247.8,2,   2269.7,2,   7.4059,2,    25.00,     2334
  49UP20161021,RF1608,  5900,  1,     16,  24474,3,20161025,2222, 40.8515, 137.9942, 3655,    911.3,   0.3789,  34.0702,2,  34.0702,2,    199.6,2,    62.17,2,    25.51,2,     0.00,2,     1.97,2,   2247.1,2,   2271.0,2,   7.4074,2,    25.00,     2331
  49UP20161021,RF1608,  5900,  1,     15,  22665,2,20161025,2222, 40.8515, 137.9942, 3655,   1011.7,   0.3334,  34.0697,2,  34.0698,2,    199.3,2,    65.64,2,    25.53,2,     0.00,2,     1.97,2,   2251.6,6,   2271.6,6,   7.4069,2,    25.00,     2327
  49UP20161021,RF1608,  5900,  1,     13,  22667,3,20161025,2222, 40.8515, 137.9942, 3655,   1214.6,   0.2792,  34.0689,2,  34.0689,6,    200.1,2,    69.73,2,    25.50,2,     0.00,2,     1.97,2,   2250.2,2,   2275.9,2,   7.4160,6,    25.00,     2322
  49UP20161021,RF1608,  5900,  1,     12,  22074,2,20161025,2222, 40.8515, 137.9942, 3655,   1418.2,   0.2461,  34.0681,2,  34.0692,2,    200.5,2,    73.84,2,    25.51,2,     0.00,2,     1.98,2,   2250.7,2,   2278.0,2,   7.4210,2,    25.00,     2317
  49UP20161021,RF1608,  5900,  1,     11,  24268,2,20161025,2222, 40.8515, 137.9942, 3655,   1618.8,   0.2313,  34.0678,2,  34.0682,2,    200.6,2,    76.82,2,    25.53,2,     0.00,2,     1.98,2,   2249.8,2,   2280.4,2,   7.4233,2,    25.00,     2311
  49UP20161021,RF1608,  5900,  1,     10,  24267,2,20161025,2222, 40.8515, 137.9942, 3655,   1824.2,   0.2258,  34.0677,2,  34.0668,2,    200.7,2,    79.17,2,    25.56,2,     0.00,2,     1.99,2,   2252.3,2,   2281.0,2,   7.4270,2,    25.00,     2307
  49UP20161021,RF1608,  5900,  1,      9,  23518,2,20161025,2222, 40.8515, 137.9942, 3655,   2027.5,   0.2266,  34.0677,2,  34.0680,2,    201.1,2,    81.11,2,    25.58,2,     0.00,2,     1.99,2,   2254.3,2,   2281.6,2,   7.4285,2,    25.00,     2302
  49UP20161021,RF1608,  5900,  1,      8,  24470,2,20161025,2222, 40.8515, 137.9942, 3655,   2281.3,   0.2336,  34.0678,2,  34.0673,2,    201.5,2,    83.20,2,    25.61,2,     0.00,2,     1.99,2,   2251.6,6,   2283.4,6,   7.4331,2,    25.00,     2255
  49UP20161021,RF1608,  5900,  1,      7,  23516,2,20161025,2222, 40.8515, 137.9942, 3655,   2537.3,   0.2427,  34.0678,2,  34.0671,2,    202.2,2,    86.06,2,    25.69,2,     0.00,2,     2.00,2,   2251.0,2,   2286.8,2,   7.4390,6,    25.00,     2250
  49UP20161021,RF1608,  5900,  1,      6,  22113,2,20161025,2222, 40.8515, 137.9942, 3655,   2790.8,   0.2614,  34.0678,2,  34.0670,2,    202.1,6,    86.58,6,    25.72,6,     0.00,6,     2.00,6,   2252.2,2,   2284.8,2,   7.4412,2,    25.00,     2243
  49UP20161021,RF1608,  5900,  1,      4,  24471,2,20161025,2222, 40.8515, 137.9942, 3655,   3046.9,   0.2834,  34.0679,2,  34.0684,2,    202.4,2,    86.43,2,    25.72,2,     0.00,2,     2.00,2,   2255.4,2,   2283.8,2,   7.4387,2,    25.00,     2238
  49UP20161021,RF1608,  5900,  1,      5,  24658,2,20161025,2222, 40.8515, 137.9942, 3655,   3047.0,   0.2834,  34.0680,2,  34.0682,2,    202.3,2,    86.47,2,    25.71,2,     0.00,2,     2.00,2,   2251.2,2,   2284.7,2,   7.4369,2,    25.00,     2238
  49UP20161021,RF1608,  5900,  1,      3,  22104,2,20161025,2222, 40.8515, 137.9942, 3655,   3302.5,   0.3066,  34.0678,2,  34.0679,6,    202.3,2,    86.45,2,    25.74,2,     0.00,2,     2.00,2,   2252.1,2,   2288.0,2,   7.4363,2,    25.00,     2230
  49UP20161021,RF1608,  5900,  1,      2,  22075,2,20161025,2222, 40.8515, 137.9942, 3655,   3557.6,   0.3308,  34.0679,2,  34.0677,2,    202.4,2,    86.42,2,    25.70,2,     0.00,2,     2.00,2,   2252.0,2,   2285.6,2,   7.4394,2,    25.00,     2225
  49UP20161021,RF1608,  5900,  1,      1,  21997,2,20161025,2222, 40.8515, 137.9942, 3655,   3644.4,   0.3396,  34.0679,2,  34.0673,2,    202.4,2,    86.35,2,    25.71,2,     0.00,2,     2.00,2,   2251.4,2,   2285.5,2,   7.4395,2,    25.00,     2222