BOTTLE,20200306PRINUNIVRMK
EXPOCODE,SECT_ID,STNNBR,CASTNO,SAMPNO,BTLNBR,BTLNBR_FLAG_W,DATE,TIME,LATITUDE,LONGITUDE,DEPTH,CTDPRS,CTDTMP,CTDSAL,CTDSAL_FLAG_W,SALNTY,SALNTY_FLAG_W,OXYGEN,OXYGEN_FLAG_W,SILCAT,SILCAT_FLAG_W,NITRAT,NITRAT_FLAG_W,NITRIT,NITRIT_FLAG_W,PHSPHT,PHSPHT_FLAG_W,TCARBN,TCARBN_FLAG_W,ALKALI,ALKALI_FLAG_W,PH_TOT,PH_TOT_FLAG_W,PH_TMP,BTL_TIME
,,,,,,,,,,,METERS,DBAR,ITS-90,PSS-78,,PSS-78,,UMOL/KG,,UMOL/KG,,UMOL/KG,,UMOL/KG,,UMOL/KG,,UMOL/KG,,UMOL/KG,,,,DEG C,
  49UP20161021,RF1608,  5949,  1,     99,     99,2,20161114,1350, 39.5990, 134.5268, 2085,      0.0,  13.3417,  33.4863,2,  33.4864,2,    261.5,2,     3.12,2,     0.03,2,     0.02,2,     0.02,2,   2011.9,2,   2253.4,2,   7.9778,2,    25.00,     1430
  49UP20161021,RF1608,  5949,  1,     33,  24469,2,20161114,1350, 39.5990, 134.5268, 2085,     11.9,  13.3409,  33.4855,2,  33.4834,2,    261.6,2,     3.10,2,     0.01,2,     0.02,2,     0.02,3,   2011.8,2,   2254.5,2,   7.9779,2,    25.00,     1455
  49UP20161021,RF1608,  5949,  1,     32,  25089,2,20161114,1350, 39.5990, 134.5268, 2085,     26.5,  13.2050,  33.5012,2,  33.5034,2,    261.1,2,     3.15,2,     0.02,2,     0.01,2,     0.03,2,   2013.3,2,   2254.4,2,   7.9759,2,    25.00,     1454
  49UP20161021,RF1608,  5949,  1,     31,  23515,2,20161114,1350, 39.5990, 134.5268, 2085,     51.4,   6.0177,  33.9644,2,  33.9701,2,    293.4,2,     8.39,2,     6.26,2,     0.06,2,     0.52,2,   2110.7,2,   2265.0,2,   7.7840,2,    25.00,     1451
  49UP20161021,RF1608,  5949,  1,     30,  22097,2,20161114,1350, 39.5990, 134.5268, 2085,     76.3,   3.7245,  33.9885,2,  33.9884,2,    271.0,2,    14.05,2,    11.80,2,     0.01,2,     0.87,2,   2144.1,2,   2258.5,2,   7.6757,2,    25.00,     1450
  49UP20161021,RF1608,  5949,  1,     29,  22102,2,20161114,1350, 39.5990, 134.5268, 2085,    101.8,   2.6962,  33.9879,2,  33.9873,2,    271.2,6,    17.07,6,    13.62,6,     0.01,6,     1.01,6,   2160.8,2,   2259.2,2,   7.6364,2,    25.00,     1449
  49UP20161021,RF1608,  5949,  1,     27,  21998,2,20161114,1350, 39.5990, 134.5268, 2085,    127.1,   2.1546,  33.9948,2,  33.9996,2,    263.7,2,    20.28,2,    15.52,2,     0.01,2,     1.15,2,   2171.6,2,   2258.5,2,   7.5954,2,    25.00,     1448
  49UP20161021,RF1608,  5949,  1,     28,  24472,2,20161114,1350, 39.5990, 134.5268, 2085,    127.4,   2.1488,  33.9953,2,  33.9978,2,    266.6,2,    19.75,2,    15.20,2,     0.01,2,     1.13,2,   2170.4,2,   2258.4,2,   7.5970,2,    25.00,     1448
  49UP20161021,RF1608,  5949,  1,     26,  22084,2,20161114,1350, 39.5990, 134.5268, 2085,    152.0,   1.5695,  33.9926,2,  33.9942,6,    282.4,2,    18.85,2,    14.60,2,     0.01,2,     1.08,2,   2169.3,2,   2257.4,2,   7.6085,2,    25.00,     1447
  49UP20161021,RF1608,  5949,  1,     25,  22098,2,20161114,1350, 39.5990, 134.5268, 2085,    202.2,   1.3219,  34.0269,2,  34.0254,2,    263.9,2,    24.79,2,    17.78,2,     0.00,2,     1.31,2,   2190.5,2,   2259.7,2,   7.5483,2,    25.00,     1445
  49UP20161021,RF1608,  5949,  1,     21,  22078,2,20161114,1350, 39.5990, 134.5268, 2085,    254.0,   1.0750,  34.0488,2,  34.0483,2,    236.1,2,    33.39,2,    21.31,2,     0.00,2,     1.60,2,   2214.2,2,   2261.8,2,   7.4882,2,    25.00,     1443
  49UP20161021,RF1608,  5949,  1,     20,  22093,2,20161114,1350, 39.5990, 134.5268, 2085,    303.6,   0.9234,  34.0555,2,  34.0546,2,    228.2,2,    36.72,2,    22.48,2,     0.00,2,     1.69,2,   2219.6,2,   2261.7,2,   7.4641,2,    25.00,     1441
  49UP20161021,RF1608,  5949,  1,     19,  24269,2,20161114,1350, 39.5990, 134.5268, 2085,    405.6,   0.7449,  34.0643,2,  34.0623,4,    215.2,2,    42.82,2,    24.03,2,     0.00,2,     1.82,2,   2230.7,2,   2261.4,2,   7.4338,2,    25.00,     1438
  49UP20161021,RF1608,  5949,  1,     15,  22665,2,20161114,1350, 39.5990, 134.5268, 2085,    506.7,   0.6292,  34.0683,2,  34.0680,2,    207.9,2,    48.26,2,    24.79,2,     0.00,2,     1.89,2,   2235.6,2,   2264.1,2,   7.4157,2,    25.00,     1435
  49UP20161021,RF1608,  5949,  1,     14,  21999,2,20161114,1350, 39.5990, 134.5268, 2085,    607.8,   0.5550,  34.0700,2,  34.0692,2,    204.0,2,    52.29,2,    25.10,2,     0.00,2,     1.92,2,   2240.5,2,   2265.6,2,   7.4086,2,    25.00,     1432
  49UP20161021,RF1608,  5949,  1,     13,  22667,2,20161114,1350, 39.5990, 134.5268, 2085,    707.6,   0.4746,  34.0705,2,-999.0000,9,    201.9,2,    56.80,2,    25.28,2,     0.00,2,     1.94,2,   2242.3,2,   2266.6,2,   7.4122,2,    25.00,     1429
  49UP20161021,RF1608,  5949,  1,     12,  22074,2,20161114,1350, 39.5990, 134.5268, 2085,    809.1,   0.4081,  34.0705,2,  34.0702,6,    200.4,2,    61.07,2,    25.37,2,     0.00,2,     1.95,2,   2245.2,6,   2269.6,6,   7.4117,2,    25.00,     1426
  49UP20161021,RF1608,  5949,  1,     11,  24268,2,20161114,1350, 39.5990, 134.5268, 2085,    910.8,   0.3641,  34.0701,2,  34.0703,2,    199.4,2,    64.50,2,    25.39,2,     0.00,2,     1.95,2,   2245.1,2,   2273.7,2,   7.4106,6,    25.00,     1423
  49UP20161021,RF1608,  5949,  1,     10,  24267,2,20161114,1350, 39.5990, 134.5268, 2085,   1011.0,   0.3266,  34.0696,2,  34.0705,2,    199.1,2,    67.81,2,    25.45,2,     0.00,2,     1.96,2,   2252.1,2,   2274.0,2,   7.4115,2,    25.00,     1418
  49UP20161021,RF1608,  5949,  1,      9,  23518,2,20161114,1350, 39.5990, 134.5268, 2085,   1214.7,   0.2851,  34.0689,2,  34.0691,6,    197.9,2,    72.83,2,    25.49,2,     0.00,2,     1.97,2,   2252.9,2,   2276.8,2,   7.4154,2,    25.00,     1413
  49UP20161021,RF1608,  5949,  1,      8,  24470,2,20161114,1350, 39.5990, 134.5268, 2085,   1418.9,   0.2528,  34.0686,2,  34.0683,2,    197.4,2,    77.47,2,    25.54,2,     0.00,2,     1.99,2,   2251.1,6,   2279.7,6,   7.4181,2,    25.00,     1408
  49UP20161021,RF1608,  5949,  1,      7,  23516,3,20161114,1350, 39.5990, 134.5268, 2085,   1621.2,   0.2337,  34.0683,2,  34.0691,2,    194.3,6,    83.41,6,    25.71,6,     0.00,6,     2.01,6,   2257.6,2,   2282.5,2,   7.4147,2,    25.00,     1401
  49UP20161021,RF1608,  5949,  1,      4,  24471,2,20161114,1350, 39.5990, 134.5268, 2085,   1822.9,   0.2375,  34.0682,2,  34.0691,2,    190.2,2,    88.07,2,    25.97,2,     0.00,2,     2.03,2,   2259.1,2,   2285.5,2,   7.4081,2,    25.00,     1356
  49UP20161021,RF1608,  5949,  1,      5,  24658,2,20161114,1350, 39.5990, 134.5268, 2085,   1823.2,   0.2375,  34.0682,2,  34.0671,4,    190.4,2,    88.24,2,    25.95,2,     0.00,2,     2.03,2,   2261.7,2,   2286.1,2,   7.4104,2,    25.00,     1356
  49UP20161021,RF1608,  5949,  1,      3,  22104,3,20161114,1350, 39.5990, 134.5268, 2085,   2049.1,   0.2517,  34.0682,2,  34.0676,2,    190.8,2,    88.14,2,    25.92,2,     0.00,2,     2.03,2,   2260.9,2,   2285.5,2,   7.4099,6,    25.00,     1350
  49UP20161021,RF1608,  5950,  1,     99,     99,2,20161119,0259, 39.7555, 137.2327, 2613,      0.0,  16.5126,  33.4568,2,-999.0000,9,    239.8,2,  -999.00,9,  -999.00,9,  -999.00,9,  -999.00,9,   -999.0,9,   -999.0,9,-999.0000,9,  -999.00,      350
  49UP20161021,RF1608,  5950,  1,     36,  22109,2,20161119,0259, 39.7555, 137.2327, 2613,     10.7,  16.5171,  33.4714,2,  33.4711,2,    239.9,2,  -999.00,9,  -999.00,9,  -999.00,9,  -999.00,9,   -999.0,9,   -999.0,9,-999.0000,9,  -999.00,      413
  49UP20161021,RF1608,  5950,  1,     35,  22112,2,20161119,0259, 39.7555, 137.2327, 2613,     26.5,  16.5439,  33.5308,2,  33.5263,6,    239.1,2,  -999.00,9,  -999.00,9,  -999.00,9,  -999.00,9,   -999.0,9,   -999.0,9,-999.0000,9,  -999.00,      412
  49UP20161021,RF1608,  5950,  1,     34,  22094,2,20161119,0259, 39.7555, 137.2327, 2613,     51.2,  16.5975,  33.5818,2,  33.5886,2,    236.6,2,  -999.00,9,  -999.00,9,  -999.00,9,  -999.00,9,   -999.0,9,   -999.0,9,-999.0000,9,  -999.00,      409
  49UP20161021,RF1608,  5950,  1,     33,  24469,2,20161119,0259, 39.7555, 137.2327, 2613,     76.9,  15.7592,  34.4006,2,  34.4060,2,    186.3,6,  -999.00,9,  -999.00,9,  -999.00,9,  -999.00,9,   -999.0,9,   -999.0,9,-999.0000,9,  -999.00,      408
  49UP20161021,RF1608,  5950,  1,     32,  25089,2,20161119,0259, 39.7555, 137.2327, 2613,    101.7,  13.5757,  34.3563,2,  34.3645,2,    213.3,2,  -999.00,9,  -999.00,9,  -999.00,9,  -999.00,9,   -999.0,9,   -999.0,9,-999.0000,9,  -999.00,      407
  49UP20161021,RF1608,  5950,  1,     31,  23515,2,20161119,0259, 39.7555, 137.2327, 2613,    101.7,  13.3645,  34.3377,2,  34.3572,4,    214.3,2,  -999.00,9,  -999.00,9,  -999.00,9,  -999.00,9,   -999.0,9,   -999.0,9,-999.0000,9,  -999.00,      406
  49UP20161021,RF1608,  5950,  1,     30,  22097,2,20161119,0259, 39.7555, 137.2327, 2613,    127.2,  10.7917,  34.1855,2,  34.1826,2,    240.7,2,  -999.00,9,  -999.00,9,  -999.00,9,  -999.00,9,   -999.0,9,   -999.0,9,-999.0000,9,  -999.00,      405
  49UP20161021,RF1608,  5950,  1,     29,  22102,2,20161119,0259, 39.7555, 137.2327, 2613,    152.2,   7.1572,  34.0833,2,  34.0798,2,    245.6,2,  -999.00,9,  -999.00,9,  -999.00,9,  -999.00,9,   -999.0,9,   -999.0,9,-999.0000,9,  -999.00,      404
  49UP20161021,RF1608,  5950,  1,     28,  24472,2,20161119,0259, 39.7555, 137.2327, 2613,    202.0,   2.9775,  34.0269,2,  34.0266,2,    251.8,2,  -999.00,9,  -999.00,9,  -999.00,9,  -999.00,9,   -999.0,9,   -999.0,9,-999.0000,9,  -999.00,      403
  49UP20161021,RF1608,  5950,  1,     27,  21998,2,20161119,0259, 39.7555, 137.2327, 2613,    253.2,   1.6427,  34.0337,2,  34.0335,2,    255.5,2,  -999.00,9,  -999.00,9,  -999.00,9,  -999.00,9,   -999.0,9,   -999.0,9,-999.0000,9,  -999.00,      401
  49UP20161021,RF1608,  5950,  1,     26,  22084,2,20161119,0259, 39.7555, 137.2327, 2613,    303.2,   1.2312,  34.0441,2,  34.0433,2,    246.2,2,  -999.00,9,  -999.00,9,  -999.00,9,  -999.00,9,   -999.0,9,   -999.0,9,-999.0000,9,  -999.00,      359
  49UP20161021,RF1608,  5950,  1,     25,  22098,2,20161119,0259, 39.7555, 137.2327, 2613,    404.2,   0.8419,  34.0611,2,  34.0604,2,    215.3,2,  -999.00,9,  -999.00,9,  -999.00,9,  -999.00,9,   -999.0,9,   -999.0,9,-999.0000,9,  -999.00,      357
  49UP20161021,RF1608,  5950,  1,     21,  22078,2,20161119,0259, 39.7555, 137.2327, 2613,    505.8,   0.7031,  34.0662,2,  34.0657,2,    209.0,2,  -999.00,9,  -999.00,9,  -999.00,9,  -999.00,9,   -999.0,9,   -999.0,9,-999.0000,9,  -999.00,      354
  49UP20161021,RF1608,  5950,  1,     20,  22093,2,20161119,0259, 39.7555, 137.2327, 2613,    606.7,   0.5933,  34.0701,2,  34.0693,6,    206.7,2,  -999.00,9,  -999.00,9,  -999.00,9,  -999.00,9,   -999.0,9,   -999.0,9,-999.0000,9,  -999.00,      351
  49UP20161021,RF1608,  5950,  1,     19,  24269,2,20161119,0259, 39.7555, 137.2327, 2613,    707.1,   0.5044,  34.0708,2,  34.0695,2,    202.7,6,  -999.00,9,  -999.00,9,  -999.00,9,  -999.00,9,   -999.0,9,   -999.0,9,-999.0000,9,  -999.00,      349
  49UP20161021,RF1608,  5950,  1,     17,  22090,2,20161119,0259, 39.7555, 137.2327, 2613,    808.8,   0.4255,  34.0708,2,  34.0697,2,    201.0,2,  -999.00,9,  -999.00,9,  -999.00,9,  -999.00,9,   -999.0,9,   -999.0,9,-999.0000,9,  -999.00,      346
  49UP20161021,RF1608,  5950,  1,     18,  25088,2,20161119,0259, 39.7555, 137.2327, 2613,    809.1,   0.4309,  34.0706,2,  34.0715,2,    201.2,2,  -999.00,9,  -999.00,9,  -999.00,9,  -999.00,9,   -999.0,9,   -999.0,9,-999.0000,9,  -999.00,      347
  49UP20161021,RF1608,  5950,  1,     15,  22665,2,20161119,0259, 39.7555, 137.2327, 2613,    910.0,   0.3598,  34.0703,2,  34.0704,2,    199.8,2,  -999.00,9,  -999.00,9,  -999.00,9,  -999.00,9,   -999.0,9,   -999.0,9,-999.0000,9,  -999.00,      344
  49UP20161021,RF1608,  5950,  1,     14,  21999,2,20161119,0259, 39.7555, 137.2327, 2613,   1012.1,   0.3227,  34.0695,2,  34.0699,2,    199.4,2,  -999.00,9,  -999.00,9,  -999.00,9,  -999.00,9,   -999.0,9,   -999.0,9,-999.0000,9,  -999.00,      338
  49UP20161021,RF1608,  5950,  1,     13,  22667,2,20161119,0259, 39.7555, 137.2327, 2613,   1213.1,   0.2687,  34.0687,2,  34.0684,2,    199.4,6,  -999.00,9,  -999.00,9,  -999.00,9,  -999.00,9,   -999.0,9,   -999.0,9,-999.0000,9,  -999.00,      333
  49UP20161021,RF1608,  5950,  1,     11,  24268,2,20161119,0259, 39.7555, 137.2327, 2613,   1416.5,   0.2402,  34.0683,2,  34.0685,2,    198.8,2,  -999.00,9,  -999.00,9,  -999.00,9,  -999.00,9,   -999.0,9,   -999.0,9,-999.0000,9,  -999.00,      328
  49UP20161021,RF1608,  5950,  1,     12,  22074,2,20161119,0259, 39.7555, 137.2327, 2613,   1417.4,   0.2411,  34.0682,2,  34.0691,2,    198.8,2,  -999.00,9,  -999.00,9,  -999.00,9,  -999.00,9,   -999.0,9,   -999.0,9,-999.0000,9,  -999.00,      329
  49UP20161021,RF1608,  5950,  1,     10,  24267,2,20161119,0259, 39.7555, 137.2327, 2613,   1619.0,   0.2289,  34.0680,2,  34.0675,2,    199.2,2,  -999.00,9,  -999.00,9,  -999.00,9,  -999.00,9,   -999.0,9,   -999.0,9,-999.0000,9,  -999.00,      323
  49UP20161021,RF1608,  5950,  1,      9,  23518,2,20161119,0259, 39.7555, 137.2327, 2613,   1822.3,   0.2261,  34.0678,2,  34.0678,6,    199.0,2,  -999.00,9,  -999.00,9,  -999.00,9,  -999.00,9,   -999.0,9,   -999.0,9,-999.0000,9,  -999.00,      318
  49UP20161021,RF1608,  5950,  1,      8,  24470,2,20161119,0259, 39.7555, 137.2327, 2613,   2026.6,   0.2288,  34.0678,2,  34.0673,2,    199.0,2,  -999.00,9,  -999.00,9,  -999.00,9,  -999.00,9,   -999.0,9,   -999.0,9,-999.0000,9,  -999.00,      314
  49UP20161021,RF1608,  5950,  1,      3,  22104,2,20161119,0259, 39.7555, 137.2327, 2613,   2280.9,   0.2395,  34.0678,2,  34.0675,2,    198.4,2,  -999.00,9,  -999.00,9,  -999.00,9,  -999.00,9,   -999.0,9,   -999.0,9,-999.0000,9,  -999.00,      306
  49UP20161021,RF1608,  5950,  1,      2,  22075,2,20161119,0259, 39.7555, 137.2327, 2613,   2535.3,   0.2477,  34.0679,2,  34.0674,2,    200.3,2,  -999.00,9,  -999.00,9,  -999.00,9,  -999.00,9,   -999.0,9,   -999.0,9,-999.0000,9,  -999.00,      301
  49UP20161021,RF1608,  5950,  1,      1,  21997,2,20161119,0259, 39.7555, 137.2327, 2613,   2585.1,   0.2513,  34.0679,2,  34.0682,2,    200.3,2,  -999.00,9,  -999.00,9,  -999.00,9,  -999.00,9,   -999.0,9,   -999.0,9,-999.0000,9,  -999.00,      259