BOTTLE,20200306PRINUNIVRMK
EXPOCODE,SECT_ID,STNNBR,CASTNO,SAMPNO,BTLNBR,BTLNBR_FLAG_W,DATE,TIME,LATITUDE,LONGITUDE,DEPTH,CTDPRS,CTDTMP,CTDSAL,CTDSAL_FLAG_W,SALNTY,SALNTY_FLAG_W,OXYGEN,OXYGEN_FLAG_W,SILCAT,SILCAT_FLAG_W,NITRAT,NITRAT_FLAG_W,NITRIT,NITRIT_FLAG_W,PHSPHT,PHSPHT_FLAG_W,TCARBN,TCARBN_FLAG_W,ALKALI,ALKALI_FLAG_W,PH_TOT,PH_TOT_FLAG_W,PH_TMP,BTL_TIME
,,,,,,,,,,,METERS,DBAR,ITS-90,PSS-78,,PSS-78,,UMOL/KG,,UMOL/KG,,UMOL/KG,,UMOL/KG,,UMOL/KG,,UMOL/KG,,UMOL/KG,,,,DEG C,
  49UP20161021,RF1608,  5941,  1,     99,     99,2,20161112,1824, 37.7232, 134.7347, 2980,      0.0,  17.3685,  33.6149,2,  33.6138,2,    237.7,2,     2.77,2,     0.23,2,     0.04,2,     0.03,2,   1984.9,2,   2255.1,2,   8.0233,2,    25.00,     1910
  49UP20161021,RF1608,  5941,  1,     36,  22109,2,20161112,1824, 37.7232, 134.7347, 2980,     11.2,  17.3761,  33.6148,2,  33.6140,2,    236.8,2,     2.80,2,     0.25,2,     0.05,2,     0.04,2,   1987.3,2,   2257.6,2,   8.0216,2,    25.00,     1954
  49UP20161021,RF1608,  5941,  1,     34,  22094,2,20161112,1824, 37.7232, 134.7347, 2980,     26.1,  17.3832,  33.6164,2,  33.6138,2,    236.8,2,     2.77,2,     0.25,2,     0.05,2,     0.04,2,   1987.7,2,   2255.9,2,   8.0238,2,    25.00,     1952
  49UP20161021,RF1608,  5941,  1,     35,  22112,2,20161112,1824, 37.7232, 134.7347, 2980,     26.5,  17.3875,  33.6177,2,  33.6157,2,    236.7,2,     2.80,2,     0.27,2,     0.05,2,     0.04,2,   1986.0,2,   2255.4,2,   8.0229,2,    25.00,     1952
  49UP20161021,RF1608,  5941,  1,     33,  24469,2,20161112,1824, 37.7232, 134.7347, 2980,     52.0,  17.3861,  33.6125,2,  33.6323,4,    235.8,2,     2.98,2,     0.42,2,     0.05,2,     0.05,2,   1988.6,2,   2256.4,2,   8.0192,2,    25.00,     1948
  49UP20161021,RF1608,  5941,  1,     32,  25089,2,20161112,1824, 37.7232, 134.7347, 2980,     76.0,  12.0111,  34.2539,2,  34.2525,2,    223.1,2,     9.81,2,     7.88,2,     0.03,2,     0.58,2,   2085.1,2,   2274.4,2,   7.8513,2,    25.00,     1946
  49UP20161021,RF1608,  5941,  1,     31,  23515,2,20161112,1824, 37.7232, 134.7347, 2980,    101.5,   7.8921,  34.1017,2,  34.0995,2,    248.4,2,    10.94,2,     9.91,2,     0.01,2,     0.72,2,   2110.7,2,   2268.0,2,   7.7779,2,    25.00,     1945
  49UP20161021,RF1608,  5941,  1,     30,  22097,2,20161112,1824, 37.7232, 134.7347, 2980,    128.4,   5.1035,  34.0247,2,  34.0230,2,    259.8,2,    13.79,2,    11.66,2,     0.01,2,     0.87,2,   2136.7,2,   2261.5,2,   7.7042,2,    25.00,     1944
  49UP20161021,RF1608,  5941,  1,     29,  22102,2,20161112,1824, 37.7232, 134.7347, 2980,    151.9,   3.5249,  33.9973,2,  33.9990,2,    268.0,2,    15.79,2,    12.88,2,     0.00,2,     0.95,2,   2150.4,2,   2259.8,2,   7.6553,2,    25.00,     1942
  49UP20161021,RF1608,  5941,  1,     28,  24472,2,20161112,1824, 37.7232, 134.7347, 2980,    202.6,   1.9578,  34.0061,2,  34.0072,2,    262.0,2,    21.39,2,    16.36,2,     0.00,2,     1.21,2,   2177.7,2,   2259.2,2,   7.5875,2,    25.00,     1941
  49UP20161021,RF1608,  5941,  1,     27,  21998,2,20161112,1824, 37.7232, 134.7347, 2980,    253.9,   1.4159,  34.0389,2,  34.0390,2,    238.2,2,    31.27,2,    20.34,2,     0.00,2,     1.53,2,   2206.0,2,   2260.8,2,   7.5052,2,    25.00,     1939
  49UP20161021,RF1608,  5941,  1,     26,  22084,2,20161112,1824, 37.7232, 134.7347, 2980,    303.7,   1.0266,  34.0480,2,  34.0478,2,    247.5,2,    31.06,2,    20.53,2,     0.00,2,     1.53,2,   2204.0,2,   2261.4,2,   7.5014,2,    25.00,     1937
  49UP20161021,RF1608,  5941,  1,     25,  22098,2,20161112,1824, 37.7232, 134.7347, 2980,    404.2,   0.8109,  34.0609,2,  34.0596,2,    223.7,2,    39.38,2,    23.26,2,     0.00,2,     1.76,2,   2223.1,2,   2261.7,2,   7.4499,2,    25.00,     1934
  49UP20161021,RF1608,  5941,  1,     24,  22110,2,20161112,1824, 37.7232, 134.7347, 2980,    505.6,   0.6663,  34.0677,2,  34.0674,2,    207.5,2,    47.84,2,    24.82,2,     0.00,2,     1.90,2,   2236.1,6,   2265.2,6,   7.4175,2,    25.00,     1931
  49UP20161021,RF1608,  5941,  1,     23,  23679,2,20161112,1824, 37.7232, 134.7347, 2980,    607.3,   0.5424,  34.0701,2,  34.2254,4,    202.1,2,    54.03,2,    25.31,2,     0.00,2,     1.94,2,   2240.2,2,   2268.3,2,   7.4119,6,    25.00,     1928
  49UP20161021,RF1608,  5941,  1,     22,  22111,3,20161112,1824, 37.7232, 134.7347, 2980,    707.8,   0.4641,  34.0706,2,  34.0693,2,    201.6,2,    57.77,2,    25.39,2,     0.00,2,     1.95,2,   2240.3,2,   2269.8,2,   7.4117,2,    25.00,     1925
  49UP20161021,RF1608,  5941,  1,     18,  25088,2,20161112,1824, 37.7232, 134.7347, 2980,    809.1,   0.4006,  34.0703,2,  34.0703,6,    200.3,2,    61.48,2,    25.47,2,     0.00,2,     1.96,2,   2244.9,2,   2270.1,2,   7.4087,2,    25.00,     1922
  49UP20161021,RF1608,  5941,  1,     17,  22090,2,20161112,1824, 37.7232, 134.7347, 2980,    910.9,   0.3502,  34.0700,2,  34.0699,2,    199.8,6,    65.09,6,    25.52,6,     0.00,6,     1.97,6,   2244.8,2,   2273.6,2,   7.4126,2,    25.00,     1919
  49UP20161021,RF1608,  5941,  1,     15,  22665,2,20161112,1824, 37.7232, 134.7347, 2980,   1011.7,   0.3080,  34.0693,2,  34.0702,2,    199.5,2,    68.62,2,    25.51,2,     0.00,2,     1.97,2,   2243.9,2,   2275.8,2,   7.4160,2,    25.00,     1913
  49UP20161021,RF1608,  5941,  1,     16,  24474,3,20161112,1824, 37.7232, 134.7347, 2980,   1012.0,   0.3079,  34.0694,2,  34.0714,4,    199.6,2,    68.59,2,    25.51,2,     0.00,2,     1.97,2,   2244.4,2,   2273.7,2,   7.4152,2,    25.00,     1913
  49UP20161021,RF1608,  5941,  1,     14,  21999,2,20161112,1824, 37.7232, 134.7347, 2980,   1214.4,   0.2661,  34.0686,2,  34.0688,2,    199.5,2,    73.19,2,    25.55,2,     0.00,2,     1.98,2,   2250.9,6,   2277.6,6,   7.4156,2,    25.00,     1908
  49UP20161021,RF1608,  5941,  1,     13,  22667,2,20161112,1824, 37.7232, 134.7347, 2980,   1417.2,   0.2431,  34.0683,2,  34.0687,2,    199.5,2,    76.57,2,    25.61,2,     0.00,2,     1.99,2,   2250.0,2,   2281.6,2,   7.4205,6,    25.00,     1902
  49UP20161021,RF1608,  5941,  1,     12,  22074,2,20161112,1824, 37.7232, 134.7347, 2980,   1619.7,   0.2267,  34.0679,2,  34.0694,4,    199.3,2,    79.98,2,    25.65,2,     0.00,2,     1.99,2,   2249.5,2,   2282.7,2,   7.4231,2,    25.00,     1856
  49UP20161021,RF1608,  5941,  1,     11,  24268,2,20161112,1824, 37.7232, 134.7347, 2980,   1824.1,   0.2254,  34.0679,2,  34.0677,6,    199.2,2,    82.16,2,    25.68,2,     0.00,2,     1.99,2,   2254.4,2,   2282.5,2,   7.4254,2,    25.00,     1851
  49UP20161021,RF1608,  5941,  1,      8,  24470,2,20161112,1824, 37.7232, 134.7347, 2980,   2025.8,   0.2298,  34.0679,2,  34.0687,6,    198.9,6,    84.25,6,    25.76,6,     0.00,6,     2.00,6,   2251.9,2,   2284.5,2,   7.4276,2,    25.00,     1846
  49UP20161021,RF1608,  5941,  1,      9,  23518,2,20161112,1824, 37.7232, 134.7347, 2980,   2026.0,   0.2299,  34.0678,2,  34.0677,6,    198.8,6,  -999.00,9,  -999.00,9,  -999.00,9,  -999.00,9,   -999.0,9,   -999.0,9,-999.0000,9,  -999.00,     1846
  49UP20161021,RF1608,  5941,  1,     10,  24267,3,20161112,1824, 37.7232, 134.7347, 2980,   2026.3,   0.2299,  34.0677,2,  34.0674,6,    198.8,6,  -999.00,9,  -999.00,9,  -999.00,9,  -999.00,9,   -999.0,9,   -999.0,9,-999.0000,9,  -999.00,     1846
  49UP20161021,RF1608,  5941,  1,      7,  23516,2,20161112,1824, 37.7232, 134.7347, 2980,   2280.8,   0.2423,  34.0678,2,  34.0677,2,    198.4,2,    86.50,2,    25.84,2,     0.00,2,     2.00,2,   2252.8,2,   2287.2,2,   7.4271,2,    25.00,     1839
  49UP20161021,RF1608,  5941,  1,      3,  22104,2,20161112,1824, 37.7232, 134.7347, 2980,   2535.4,   0.2621,  34.0681,2,  34.0687,2,    198.4,2,    86.56,2,    25.85,2,     0.00,2,     2.01,2,   2255.6,6,   2285.0,6,   7.4249,2,    25.00,     1833
  49UP20161021,RF1608,  5941,  1,      2,  22075,2,20161112,1824, 37.7232, 134.7347, 2980,   2790.8,   0.2833,  34.0681,2,  34.0679,6,    198.2,2,    86.60,2,    25.83,2,     0.00,2,     2.01,2,   2255.0,2,   2284.9,2,   7.4284,6,    25.00,     1828
  49UP20161021,RF1608,  5941,  1,      1,  21997,2,20161112,1824, 37.7232, 134.7347, 2980,   2955.2,   0.2977,  34.0682,2,  34.0684,2,    198.0,6,    86.79,6,    25.85,6,     0.00,6,     2.01,6,   2253.1,2,   2284.3,2,   7.4284,2,    25.00,     1824
  49UP20161021,RF1608,  5943,  1,     99,     99,2,20161113,0431, 38.1535, 134.3938, 1152,      0.0,  17.0435,  33.5397,2,-999.0000,9,    237.4,2,     3.80,2,     1.69,2,     0.20,2,     0.11,2,   -999.0,9,   -999.0,9,-999.0000,9,  -999.00,      439
  49UP20161021,RF1608,  5943,  1,     32,  25089,2,20161113,0431, 38.1535, 134.3938, 1152,     11.1,  17.0306,  33.5409,2,-999.0000,9,    237.1,2,     3.86,2,     1.72,2,     0.21,2,     0.11,2,   -999.0,9,   -999.0,9,-999.0000,9,  -999.00,      501
  49UP20161021,RF1608,  5943,  1,     33,  24469,2,20161113,0431, 38.1535, 134.3938, 1152,     11.4,  17.0343,  33.5409,2,-999.0000,9,    237.0,2,     3.84,2,     1.71,2,     0.21,2,     0.11,2,   -999.0,9,   -999.0,9,-999.0000,9,  -999.00,      501
  49UP20161021,RF1608,  5943,  1,     31,  23515,2,20161113,0431, 38.1535, 134.3938, 1152,     26.5,  17.0516,  33.5987,2,-999.0000,9,    235.3,6,     3.69,6,     1.59,6,     0.18,6,     0.11,6,   -999.0,9,   -999.0,9,-999.0000,9,  -999.00,      500
  49UP20161021,RF1608,  5943,  1,     30,  22097,2,20161113,0431, 38.1535, 134.3938, 1152,     51.3,  17.0847,  33.6615,2,-999.0000,9,    233.8,2,     3.36,2,     1.11,2,     0.10,2,     0.09,2,   -999.0,9,   -999.0,9,-999.0000,9,  -999.00,      458
  49UP20161021,RF1608,  5943,  1,     29,  22102,2,20161113,0431, 38.1535, 134.3938, 1152,     76.7,  17.0652,  34.3593,2,-999.0000,9,    180.5,2,    10.92,2,     7.67,2,     0.05,2,     0.52,2,   -999.0,9,   -999.0,9,-999.0000,9,  -999.00,      457
  49UP20161021,RF1608,  5943,  1,     28,  24472,2,20161113,0431, 38.1535, 134.3938, 1152,    102.3,  15.3172,  34.4478,2,-999.0000,9,    194.4,2,     9.88,2,     7.29,2,     0.03,2,     0.51,2,   -999.0,9,   -999.0,9,-999.0000,9,  -999.00,      456
  49UP20161021,RF1608,  5943,  1,     27,  21998,2,20161113,0431, 38.1535, 134.3938, 1152,    127.5,  13.3985,  34.3553,2,-999.0000,9,    222.2,2,     6.41,2,     5.78,2,     0.02,2,     0.43,2,   -999.0,9,   -999.0,9,-999.0000,9,  -999.00,      455
  49UP20161021,RF1608,  5943,  1,     26,  22084,2,20161113,0431, 38.1535, 134.3938, 1152,    151.6,   9.0808,  34.1311,2,-999.0000,9,    244.6,2,     9.46,2,     8.93,2,     0.01,2,     0.64,2,   -999.0,9,   -999.0,9,-999.0000,9,  -999.00,      454
  49UP20161021,RF1608,  5943,  1,     25,  22098,2,20161113,0431, 38.1535, 134.3938, 1152,    202.8,   3.5357,  33.9626,2,-999.0000,9,    282.3,2,    11.19,2,     9.89,2,     0.01,2,     0.75,2,   -999.0,9,   -999.0,9,-999.0000,9,  -999.00,      453
  49UP20161021,RF1608,  5943,  1,     21,  22078,2,20161113,0431, 38.1535, 134.3938, 1152,    253.2,   1.8837,  33.9708,2,-999.0000,9,    284.2,2,    16.41,2,    13.39,2,     0.00,2,     0.99,2,   -999.0,9,   -999.0,9,-999.0000,9,  -999.00,      452
  49UP20161021,RF1608,  5943,  1,     20,  22093,2,20161113,0431, 38.1535, 134.3938, 1152,    303.1,   1.3358,  34.0280,2,-999.0000,9,    251.2,2,    26.11,2,    18.90,2,     0.00,2,     1.40,2,   -999.0,9,   -999.0,9,-999.0000,9,  -999.00,      450
  49UP20161021,RF1608,  5943,  1,     19,  24269,3,20161113,0431, 38.1535, 134.3938, 1152,    403.8,   0.8682,  34.0553,2,-999.0000,9,    225.6,2,    36.46,2,    22.86,2,     0.00,2,     1.72,2,   -999.0,9,   -999.0,9,-999.0000,9,  -999.00,      448
  49UP20161021,RF1608,  5943,  1,     18,  25088,2,20161113,0431, 38.1535, 134.3938, 1152,    505.7,   0.7729,  34.0614,2,-999.0000,9,    220.0,2,    39.14,2,    23.68,2,     0.00,3,     1.79,2,   -999.0,9,   -999.0,9,-999.0000,9,  -999.00,      446
  49UP20161021,RF1608,  5943,  1,     17,  22090,2,20161113,0431, 38.1535, 134.3938, 1152,    606.3,   0.6061,  34.0685,2,-999.0000,9,    206.6,2,    49.82,2,    24.89,2,     0.00,2,     1.90,2,   -999.0,9,   -999.0,9,-999.0000,9,  -999.00,      443
  49UP20161021,RF1608,  5943,  1,     16,  24474,3,20161113,0431, 38.1535, 134.3938, 1152,    707.6,   0.5024,  34.0698,2,-999.0000,9,    202.9,2,    55.42,2,    25.19,2,     0.00,2,     1.93,2,   -999.0,9,   -999.0,9,-999.0000,9,  -999.00,      441
  49UP20161021,RF1608,  5943,  1,     15,  22665,2,20161113,0431, 38.1535, 134.3938, 1152,    808.6,   0.4392,  34.0699,2,-999.0000,9,    200.9,2,    59.84,2,    25.32,2,     0.00,2,     1.94,2,   -999.0,9,   -999.0,9,-999.0000,9,  -999.00,      439
  49UP20161021,RF1608,  5943,  1,     14,  21999,2,20161113,0431, 38.1535, 134.3938, 1152,    909.6,   0.3899,  34.0700,2,-999.0000,9,    199.4,2,    64.09,2,    25.43,2,     0.00,2,     1.96,2,   -999.0,9,   -999.0,9,-999.0000,9,  -999.00,      437
  49UP20161021,RF1608,  5943,  1,     13,  22667,2,20161113,0431, 38.1535, 134.3938, 1152,   1011.9,   0.3542,  34.0697,2,-999.0000,9,    198.3,6,    67.28,6,    25.47,6,     0.00,6,     1.97,6,   -999.0,9,   -999.0,9,-999.0000,9,  -999.00,      434
  49UP20161021,RF1608,  5943,  1,      1,  21997,2,20161113,0431, 38.1535, 134.3938, 1152,   1139.6,   0.3253,  34.0695,2,-999.0000,9,    197.3,3,    70.48,2,    25.49,2,     0.00,2,     1.97,2,   -999.0,9,   -999.0,9,-999.0000,9,  -999.00,      431
  49UP20161021,RF1608,  5943,  1,      2,  22075,2,20161113,0431, 38.1535, 134.3938, 1152,   1140.0,   0.3253,  34.0695,2,-999.0000,9,    197.4,3,    70.43,2,    25.51,2,     0.00,2,     1.98,2,   -999.0,9,   -999.0,9,-999.0000,9,  -999.00,      431