BOTTLE,20200306PRINUNIVRMK
EXPOCODE,SECT_ID,STNNBR,CASTNO,SAMPNO,BTLNBR,BTLNBR_FLAG_W,DATE,TIME,LATITUDE,LONGITUDE,DEPTH,CTDPRS,CTDTMP,CTDSAL,CTDSAL_FLAG_W,SALNTY,SALNTY_FLAG_W,OXYGEN,OXYGEN_FLAG_W,SILCAT,SILCAT_FLAG_W,NITRAT,NITRAT_FLAG_W,NITRIT,NITRIT_FLAG_W,PHSPHT,PHSPHT_FLAG_W,TCARBN,TCARBN_FLAG_W,ALKALI,ALKALI_FLAG_W,PH_TOT,PH_TOT_FLAG_W,PH_TMP,BTL_TIME
,,,,,,,,,,,METERS,DBAR,ITS-90,PSS-78,,PSS-78,,UMOL/KG,,UMOL/KG,,UMOL/KG,,UMOL/KG,,UMOL/KG,,UMOL/KG,,UMOL/KG,,,,DEG C,
  49UP20160227,RF1602,  5669,  1,     99,     99,2,20160304,1540, 34.0028, 148.5710, 6146,      0.0,  18.1260,  34.8406,2,  34.8246,2,    231.0,2,     2.63,2,     1.32,2,     0.28,2,     0.18,3,   2013.9,2,   2287.7,2,   8.0082,2,    25.00,     1758
  49UP20160227,RF1602,  5669,  1,     36,  22109,2,20160304,1540, 34.0028, 148.5710, 6146,     12.3,  18.1316,  34.8407,2,  34.8396,2,    229.5,2,     2.70,2,     1.29,2,     0.28,2,     0.14,2,   2017.8,2,   2286.7,2,   8.0075,2,    25.00,     1816
  49UP20160227,RF1602,  5669,  1,     35,  22112,2,20160304,1540, 34.0028, 148.5710, 6146,     27.7,  18.1454,  34.8401,2,-999.0000,9,    229.3,2,     2.61,2,     1.29,2,     0.28,2,     0.14,2,   2013.9,2,   2289.7,2,   8.0065,2,    25.00,     1815
  49UP20160227,RF1602,  5669,  1,     34,  22094,2,20160304,1540, 34.0028, 148.5710, 6146,     52.3,  18.1469,  34.8402,2,  34.8403,2,    229.4,2,     2.64,2,     1.29,2,     0.28,2,     0.14,2,   2014.0,2,   2288.4,2,   8.0046,2,    25.00,     1813
  49UP20160227,RF1602,  5669,  1,     33,  24469,2,20160304,1540, 34.0028, 148.5710, 6146,     77.7,  18.1666,  34.8406,2,-999.0000,9,    229.2,2,     2.58,2,     1.30,2,     0.29,2,     0.13,2,   2015.7,2,   2287.0,2,   8.0100,2,    25.00,     1811
  49UP20160227,RF1602,  5669,  1,     32,  22105,2,20160304,1540, 34.0028, 148.5710, 6146,    103.8,  18.1735,  34.8395,2,  34.8389,2,    229.4,6,     2.63,6,     1.31,6,     0.28,6,     0.13,6,   2014.0,2,   2285.8,2,   8.0093,2,    25.00,     1808
  49UP20160227,RF1602,  5669,  1,     31,  23515,2,20160304,1540, 34.0028, 148.5710, 6146,    126.0,  18.1730,  34.8401,2,-999.0000,9,    229.6,2,     2.68,2,     1.33,2,     0.29,2,     0.14,2,   2014.0,2,   2286.4,2,   8.0052,2,    25.00,     1807
  49UP20160227,RF1602,  5669,  1,     30,  22097,2,20160304,1540, 34.0028, 148.5710, 6146,    153.4,  18.1814,  34.8412,2,  34.8409,2,    229.4,2,     2.71,2,     1.34,2,     0.29,2,     0.14,2,   2015.5,6,   2286.1,6,   8.0095,2,    25.00,     1805
  49UP20160227,RF1602,  5669,  1,     29,  22102,2,20160304,1540, 34.0028, 148.5710, 6146,    202.7,  18.1148,  34.8315,2,-999.0000,9,    226.9,2,     2.75,2,     1.60,2,     0.27,2,     0.15,2,   2018.3,2,   2286.2,2,   8.0015,6,    25.00,     1803
  49UP20160227,RF1602,  5669,  1,     28,  22108,2,20160304,1540, 34.0028, 148.5710, 6146,    254.2,  17.3914,  34.7467,2,  34.7466,2,    205.0,2,     4.08,2,     4.54,2,     0.02,2,     0.32,2,   2041.1,2,   2280.4,2,   7.9484,2,    25.00,     1801
  49UP20160227,RF1602,  5669,  1,     27,  21998,2,20160304,1540, 34.0028, 148.5710, 6146,    303.4,  16.9744,  34.7311,2,  34.7308,2,    210.7,2,     4.28,2,     4.70,2,     0.01,2,     0.32,2,   2041.7,2,   2279.4,2,   7.9487,2,    25.00,     1759
  49UP20160227,RF1602,  5669,  1,     26,  22084,2,20160304,1540, 34.0028, 148.5710, 6146,    402.2,  15.8941,  34.6318,2,  34.6327,2,    196.1,2,     8.06,2,     7.78,2,     0.01,2,     0.53,2,   2062.1,2,   2276.7,2,   7.9019,2,    25.00,     1757
  49UP20160227,RF1602,  5669,  1,     25,  22098,2,20160304,1540, 34.0028, 148.5710, 6146,    504.8,  13.1430,  34.4344,2,  34.4336,2,    182.4,2,    17.40,2,    13.48,2,     0.00,2,     0.94,2,   2105.9,2,   2273.7,2,   7.8094,2,    25.00,     1753
  49UP20160227,RF1602,  5669,  1,     24,  22110,2,20160304,1540, 34.0028, 148.5710, 6146,    606.5,  10.4128,  34.2275,2,  34.2274,2,    181.9,2,    26.92,2,    17.97,2,     0.00,2,     1.27,2,   2136.5,2,   2276.5,6,   7.7335,2,    25.00,     1750
  49UP20160227,RF1602,  5669,  1,     23,  22096,2,20160304,1540, 34.0028, 148.5710, 6146,    707.0,   7.5213,  34.0498,2,  34.0502,2,    161.8,2,    45.30,2,    24.85,2,     0.00,2,     1.80,2,   2186.7,2,   2281.0,2,   7.6148,6,    25.00,     1747
  49UP20160227,RF1602,  5669,  1,     22,  22111,2,20160304,1540, 34.0028, 148.5710, 6146,    808.1,   5.8880,  34.0047,2,  34.0050,2,    132.4,2,    62.81,2,    30.55,2,     0.00,2,     2.21,2,   2233.7,2,   2293.7,2,   7.5153,2,    25.00,     1744
  49UP20160227,RF1602,  5669,  1,     21,  22078,2,20160304,1540, 34.0028, 148.5710, 6146,    910.1,   4.8039,  34.0971,2,  34.0970,2,     82.9,6,    86.90,6,    36.73,6,     0.00,6,     2.65,6,   2287.0,2,   2316.8,2,   7.4142,2,    25.00,     1741
  49UP20160227,RF1602,  5669,  1,     20,  22093,2,20160304,1540, 34.0028, 148.5710, 6146,   1011.5,   4.2545,  34.1942,2,  34.1945,2,     57.8,2,   103.94,2,    39.61,2,     0.00,2,     2.84,2,   2322.2,2,   2337.7,2,   7.3764,2,    25.00,     1738
  49UP20160227,RF1602,  5669,  1,     19,  22092,2,20160304,1540, 34.0028, 148.5710, 6146,   1213.0,   3.4680,  34.3349,2,  34.3341,2,     40.7,2,   126.98,2,    41.76,2,     0.00,2,     2.99,2,   2356.5,2,   2363.4,2,   7.3547,2,    25.00,     1734
  49UP20160227,RF1602,  5669,  1,     18,  22101,2,20160304,1540, 34.0028, 148.5710, 6146,   1415.2,   2.9702,  34.4172,2,  34.4169,2,     34.6,2,   141.49,2,    42.77,2,     0.00,2,     3.05,2,   2377.4,2,   2381.7,2,   7.3492,2,    25.00,     1729
  49UP20160227,RF1602,  5669,  1,     17,  22090,2,20160304,1540, 34.0028, 148.5710, 6146,   1620.6,   2.5956,  34.4824,2,  34.4829,2,     39.2,2,   151.81,2,    42.88,2,     0.00,2,     3.04,2,   2385.8,2,   2395.1,2,   7.3623,2,    25.00,     1724
  49UP20160227,RF1602,  5669,  1,     16,  22089,3,20160304,1540, 34.0028, 148.5710, 6146,   1822.2,   2.3317,  34.5288,2,  34.5286,2,     49.8,2,   157.71,2,    42.32,2,     0.00,2,     3.00,2,   2380.9,2,   2402.2,2,   7.3810,2,    25.00,     1719
  49UP20160227,RF1602,  5669,  1,     15,  22088,2,20160304,1540, 34.0028, 148.5710, 6146,   2026.8,   2.1141,  34.5700,2,  34.5693,2,     63.2,6,   160.78,6,    41.59,6,     0.00,6,     2.93,6,   2378.8,2,   2409.9,2,   7.4090,2,    25.00,     1714
  49UP20160227,RF1602,  5669,  1,     14,  21999,2,20160304,1540, 34.0028, 148.5710, 6146,   2279.9,   1.9259,  34.6052,2,  34.6055,2,     84.1,2,   159.86,2,    40.38,2,     0.00,2,     2.83,2,   2371.7,2,   2413.2,2,   7.4498,2,    25.00,     1707
  49UP20160227,RF1602,  5669,  1,     13,  22667,2,20160304,1540, 34.0028, 148.5710, 6146,   2534.7,   1.7669,  34.6302,2,  34.6307,6,    100.6,2,   159.59,2,    39.34,2,     0.00,2,     2.76,2,   2362.7,2,   2417.6,2,   7.4844,2,    25.00,     1701
  49UP20160227,RF1602,  5669,  1,     12,  22074,2,20160304,1540, 34.0028, 148.5710, 6146,   2790.6,   1.6701,  34.6468,2,  34.6469,2,    113.6,2,   157.39,2,    38.47,2,     0.00,2,     2.69,2,   2353.4,2,   2417.8,2,   7.5065,2,    25.00,     1655
  49UP20160227,RF1602,  5669,  1,     11,  24268,2,20160304,1540, 34.0028, 148.5710, 6146,   3045.5,   1.6127,  34.6571,2,  34.6570,6,    123.3,2,   155.49,2,    37.83,2,     0.00,2,     2.64,2,   2348.5,2,   2419.8,2,   7.5238,2,    25.00,     1648
  49UP20160227,RF1602,  5669,  1,     10,  24267,3,20160304,1540, 34.0028, 148.5710, 6146,   3300.9,   1.5663,  34.6653,2,  34.6651,2,    131.1,2,   154.12,2,    37.33,2,     0.00,2,     2.60,2,   2342.8,2,   2420.8,2,   7.5399,2,    25.00,     1642
  49UP20160227,RF1602,  5669,  1,      9,  23518,2,20160304,1540, 34.0028, 148.5710, 6146,   3557.9,   1.5196,  34.6729,2,  34.6729,2,    139.8,2,   152.31,2,    36.68,2,     0.00,2,     2.56,2,   2338.2,2,   2418.1,2,   7.5551,2,    25.00,     1636
  49UP20160227,RF1602,  5669,  1,      8,  22081,2,20160304,1540, 34.0028, 148.5710, 6146,   3813.2,   1.5059,  34.6772,2,  34.6774,2,    143.8,2,   151.66,2,    36.53,2,     0.00,2,     2.53,2,   2335.0,2,   2419.6,2,   7.5662,2,    25.00,     1630
  49UP20160227,RF1602,  5669,  1,      7,  23516,2,20160304,1540, 34.0028, 148.5710, 6146,   4069.8,   1.4932,  34.6812,2,  34.6867,4,    148.4,2,   150.03,2,    36.18,2,     0.00,2,     2.51,2,   2332.9,2,   2417.6,2,   7.5724,2,    25.00,     1624
  49UP20160227,RF1602,  5669,  1,      6,  22113,2,20160304,1540, 34.0028, 148.5710, 6146,   4582.0,   1.4894,  34.6871,2,  34.6871,2,    156.7,2,   147.32,2,    35.62,2,     0.00,2,     2.47,2,   2325.2,2,   2414.7,2,   7.5781,2,    25.00,     1613
  49UP20160227,RF1602,  5669,  1,      5,  24658,2,20160304,1540, 34.0028, 148.5710, 6146,   5099.7,   1.5222,  34.6900,2,  34.6903,2,    160.6,2,   144.68,2,    35.32,2,     0.00,2,     2.45,2,   2322.7,2,   2414.2,2,   7.5882,2,    25.00,     1602
  49UP20160227,RF1602,  5669,  1,      4,  24471,2,20160304,1540, 34.0028, 148.5710, 6146,   5356.5,   1.5454,  34.6911,2,  34.6919,2,    162.8,6,   143.33,6,    35.16,6,     0.00,6,     2.44,6,   2310.8,3,   2412.0,2,   7.5896,2,    25.00,     1556
  49UP20160227,RF1602,  5669,  1,      3,  22104,2,20160304,1540, 34.0028, 148.5710, 6146,   5612.4,   1.5738,  34.6916,2,  34.6906,2,    163.7,2,   142.88,2,    35.10,2,     0.00,2,     2.43,2,   2319.1,6,   2412.5,6,   7.5912,2,    25.00,     1551
  49UP20160227,RF1602,  5669,  1,      2,  22075,2,20160304,1540, 34.0028, 148.5710, 6146,   5872.0,   1.6058,  34.6921,2,  34.6920,2,    164.2,2,   142.12,2,    35.02,2,     0.00,2,     2.42,2,   2319.6,2,   2410.5,2,   7.5907,6,    25.00,     1545
  49UP20160227,RF1602,  5669,  1,      1,  21997,2,20160304,1540, 34.0028, 148.5710, 6146,   6128.5,   1.6378,  34.6923,2,  34.6926,2,    164.5,2,   141.75,2,    35.07,2,     0.00,2,     2.42,2,   2317.5,2,   2410.9,2,   7.5930,2,    25.00,     1540
  49UP20160227,RF1602,  5671,  1,     99,     99,2,20160305,2224, 34.9928, 148.9365, 6057,      0.0,  18.5163,  34.8590,2,-999.0000,9,    227.1,2,     2.60,2,     1.45,2,     0.20,2,     0.13,2,   -999.0,9,   -999.0,9,-999.0000,9,  -999.00,     2300
  49UP20160227,RF1602,  5671,  1,     36,  22109,2,20160305,2224, 34.9928, 148.9365, 6057,     11.2,  18.5169,  34.8591,2,-999.0000,9,    226.0,2,     2.51,2,     1.46,2,     0.20,2,     0.13,2,   -999.0,9,   -999.0,9,-999.0000,9,  -999.00,     2321
  49UP20160227,RF1602,  5671,  1,     35,  22112,2,20160305,2224, 34.9928, 148.9365, 6057,     26.0,  18.5179,  34.8589,2,-999.0000,9,    225.4,2,     2.60,2,     1.46,2,     0.20,2,     0.13,2,   -999.0,9,   -999.0,9,-999.0000,9,  -999.00,     2319
  49UP20160227,RF1602,  5671,  1,     34,  22094,2,20160305,2224, 34.9928, 148.9365, 6057,     51.8,  18.5244,  34.8587,2,-999.0000,9,    226.0,2,     2.54,2,     1.44,2,     0.20,2,     0.13,2,   -999.0,9,   -999.0,9,-999.0000,9,  -999.00,     2318
  49UP20160227,RF1602,  5671,  1,     33,  24469,2,20160305,2224, 34.9928, 148.9365, 6057,     76.0,  18.5253,  34.8593,2,-999.0000,9,    225.8,2,     2.54,2,     1.46,2,     0.20,2,     0.13,2,   -999.0,9,   -999.0,9,-999.0000,9,  -999.00,     2316
  49UP20160227,RF1602,  5671,  1,     32,  22105,2,20160305,2224, 34.9928, 148.9365, 6057,    101.3,  18.5277,  34.8593,2,-999.0000,9,    226.0,2,     2.63,2,     1.44,2,     0.20,2,     0.13,3,   -999.0,9,   -999.0,9,-999.0000,9,  -999.00,     2313
  49UP20160227,RF1602,  5671,  1,     31,  23515,3,20160305,2224, 34.9928, 148.9365, 6057,    126.3,  18.5337,  34.8592,2,-999.0000,9,    225.8,2,     2.65,2,     1.45,2,     0.20,2,     0.13,2,   -999.0,9,   -999.0,9,-999.0000,9,  -999.00,     2312
  49UP20160227,RF1602,  5671,  1,     30,  22097,2,20160305,2224, 34.9928, 148.9365, 6057,    152.5,  18.5375,  34.8587,2,-999.0000,9,    225.9,6,     2.61,6,     1.44,6,     0.20,6,     0.13,6,   -999.0,9,   -999.0,9,-999.0000,9,  -999.00,     2311
  49UP20160227,RF1602,  5671,  1,     29,  22102,2,20160305,2224, 34.9928, 148.9365, 6057,    205.4,  18.5492,  34.8593,2,-999.0000,9,    225.7,2,     2.63,2,     1.47,2,     0.20,2,     0.13,2,   -999.0,9,   -999.0,9,-999.0000,9,  -999.00,     2309
  49UP20160227,RF1602,  5671,  1,     28,  22108,2,20160305,2224, 34.9928, 148.9365, 6057,    254.5,  18.3072,  34.8249,2,-999.0000,9,    218.9,2,     2.99,2,     2.37,2,     0.12,2,     0.19,2,   -999.0,9,   -999.0,9,-999.0000,9,  -999.00,     2307
  49UP20160227,RF1602,  5671,  1,     24,  22110,2,20160305,2224, 34.9928, 148.9365, 6057,    306.4,  17.1655,  34.7236,2,-999.0000,9,    201.8,2,     5.14,2,     5.33,2,     0.01,2,     0.36,2,   -999.0,9,   -999.0,9,-999.0000,9,  -999.00,     2306
  49UP20160227,RF1602,  5671,  1,     23,  22096,2,20160305,2224, 34.9928, 148.9365, 6057,    407.1,  15.3745,  34.6014,2,-999.0000,9,    192.4,2,    10.95,2,     9.21,2,     0.01,2,     0.63,2,   -999.0,9,   -999.0,9,-999.0000,9,  -999.00,     2303
  49UP20160227,RF1602,  5671,  1,     22,  22111,2,20160305,2224, 34.9928, 148.9365, 6057,    507.1,  13.2210,  34.4425,2,-999.0000,9,    179.0,2,    17.87,2,    13.78,2,     0.01,2,     0.95,2,   -999.0,9,   -999.0,9,-999.0000,9,  -999.00,     2300
  49UP20160227,RF1602,  5671,  1,     18,  22101,2,20160305,2224, 34.9928, 148.9365, 6057,    609.3,  10.1646,  34.2223,2,-999.0000,9,    176.7,2,    29.83,2,    18.71,2,     0.00,2,     1.33,2,   -999.0,9,   -999.0,9,-999.0000,9,  -999.00,     2258
  49UP20160227,RF1602,  5671,  1,     16,  22089,2,20160305,2224, 34.9928, 148.9365, 6057,    707.5,   8.3785,  34.1591,2,-999.0000,9,    149.9,2,    44.71,2,    24.54,2,     0.00,2,     1.75,2,   -999.0,9,   -999.0,9,-999.0000,9,  -999.00,     2255
  49UP20160227,RF1602,  5671,  1,     17,  22090,2,20160305,2224, 34.9928, 148.9365, 6057,    708.0,   8.3759,  34.1595,2,-999.0000,9,    149.7,2,    44.84,2,    24.58,2,     0.00,2,     1.75,2,   -999.0,9,   -999.0,9,-999.0000,9,  -999.00,     2255
  49UP20160227,RF1602,  5671,  1,     15,  22088,2,20160305,2224, 34.9928, 148.9365, 6057,    808.0,   6.5429,  34.1782,2,-999.0000,9,    110.2,6,    68.88,6,    31.38,6,     0.00,6,     2.25,6,   -999.0,9,   -999.0,9,-999.0000,9,  -999.00,     2252
  49UP20160227,RF1602,  5671,  1,     14,  21999,2,20160305,2224, 34.9928, 148.9365, 6057,    909.8,   5.2787,  34.1690,2,-999.0000,9,     89.2,2,    84.89,2,    35.21,2,     0.00,2,     2.54,2,   -999.0,9,   -999.0,9,-999.0000,9,  -999.00,     2250
  49UP20160227,RF1602,  5671,  1,     13,  22667,2,20160305,2224, 34.9928, 148.9365, 6057,   1009.5,   4.5154,  34.2440,2,-999.0000,9,     66.0,2,   101.82,2,    38.43,2,     0.00,2,     2.75,2,   -999.0,9,   -999.0,9,-999.0000,9,  -999.00,     2247
  49UP20160227,RF1602,  5671,  1,     12,  22074,2,20160305,2224, 34.9928, 148.9365, 6057,   1211.5,   3.5186,  34.3581,2,-999.0000,9,     49.1,2,   125.87,2,    41.15,2,     0.00,2,     2.93,2,   -999.0,9,   -999.0,9,-999.0000,9,  -999.00,     2242
  49UP20160227,RF1602,  5671,  1,     11,  24268,2,20160305,2224, 34.9928, 148.9365, 6057,   1414.6,   3.0177,  34.4286,2,-999.0000,9,     47.7,2,   138.47,2,    41.80,2,     0.00,2,     2.97,2,   -999.0,9,   -999.0,9,-999.0000,9,  -999.00,     2238
  49UP20160227,RF1602,  5671,  1,     10,  24267,2,20160305,2224, 34.9928, 148.9365, 6057,   1616.8,   2.6451,  34.4823,2,-999.0000,9,     47.0,2,   149.01,2,    42.29,2,     0.00,2,     3.00,2,   -999.0,9,   -999.0,9,-999.0000,9,  -999.00,     2234
  49UP20160227,RF1602,  5671,  1,      6,  22113,2,20160305,2224, 34.9928, 148.9365, 6057,   1818.4,   2.3548,  34.5254,2,-999.0000,9,     48.7,2,   157.56,2,    42.53,2,     0.00,2,     3.00,2,   -999.0,9,   -999.0,9,-999.0000,9,  -999.00,     2229
  49UP20160227,RF1602,  5671,  1,      4,  24471,2,20160305,2224, 34.9928, 148.9365, 6057,   2034.6,   2.1935,  34.5562,2,-999.0000,9,     60.4,2,   159.58,2,    41.86,2,     0.00,2,     2.95,2,   -999.0,9,   -999.0,9,-999.0000,9,  -999.00,     2224
  49UP20160227,RF1602,  5671,  1,      5,  24658,2,20160305,2224, 34.9928, 148.9365, 6057,   2035.5,   2.1932,  34.5563,2,-999.0000,9,     60.1,2,   159.82,2,    41.83,2,     0.00,2,     2.95,2,   -999.0,9,   -999.0,9,-999.0000,9,  -999.00,     2224