BOTTLE,20200306PRINUNIVRMK
EXPOCODE,SECT_ID,STNNBR,CASTNO,SAMPNO,BTLNBR,BTLNBR_FLAG_W,DATE,TIME,LATITUDE,LONGITUDE,DEPTH,CTDPRS,CTDTMP,CTDSAL,CTDSAL_FLAG_W,SALNTY,SALNTY_FLAG_W,OXYGEN,OXYGEN_FLAG_W,SILCAT,SILCAT_FLAG_W,NITRAT,NITRAT_FLAG_W,NITRIT,NITRIT_FLAG_W,PHSPHT,PHSPHT_FLAG_W,TCARBN,TCARBN_FLAG_W,ALKALI,ALKALI_FLAG_W,PH_TOT,PH_TOT_FLAG_W,PH_TMP,BTL_TIME
,,,,,,,,,,,METERS,DBAR,ITS-90,PSS-78,,PSS-78,,UMOL/KG,,UMOL/KG,,UMOL/KG,,UMOL/KG,,UMOL/KG,,UMOL/KG,,UMOL/KG,,,,DEG C,
  49UP20160227,RF1602,  5673,  1,     99,     99,2,20160306,0719, 36.0218, 149.3042, 6012,      0.0,  14.9893,  34.6715,2,  34.6665,2,    247.1,2,     8.28,2,     4.98,2,     0.23,2,     0.40,2,   2045.5,2,   2285.4,2,   7.9505,2,    25.00,      755
  49UP20160227,RF1602,  5673,  1,     36,  22109,2,20160306,0719, 36.0218, 149.3042, 6012,     10.4,  15.0002,  34.6712,2,-999.0000,9,    245.1,2,     8.30,2,     5.00,2,     0.23,2,     0.39,2,   2044.9,2,   2285.8,2,   7.9483,2,    25.00,      817
  49UP20160227,RF1602,  5673,  1,     35,  22112,3,20160306,0719, 36.0218, 149.3042, 6012,     25.3,  14.9181,  34.6631,2,-999.0000,9,    244.3,2,     8.30,2,     5.01,2,     0.24,2,     0.39,2,   2049.9,2,   2285.3,2,   7.9511,2,    25.00,      816
  49UP20160227,RF1602,  5673,  1,     34,  22094,2,20160306,0719, 36.0218, 149.3042, 6012,     50.2,  14.5253,  34.6286,2,-999.0000,9,    244.6,2,     9.20,2,     5.71,2,     0.21,2,     0.44,2,   2053.0,2,   2283.3,2,   7.9318,2,    25.00,      813
  49UP20160227,RF1602,  5673,  1,     33,  24469,2,20160306,0719, 36.0218, 149.3042, 6012,     74.7,  14.0565,  34.5701,2,-999.0000,9,    239.4,2,    10.57,2,     6.87,2,     0.26,2,     0.52,2,   2064.6,2,   2280.4,2,   7.9127,2,    25.00,      812
  49UP20160227,RF1602,  5673,  1,     32,  22105,2,20160306,0719, 36.0218, 149.3042, 6012,    100.5,  13.1341,  34.4522,2,-999.0000,9,    210.7,2,    16.33,2,    10.74,2,     0.21,2,     0.78,2,   2088.5,6,   2279.1,6,   7.8500,2,    25.00,      811
  49UP20160227,RF1602,  5673,  1,     31,  23515,2,20160306,0719, 36.0218, 149.3042, 6012,    125.8,  11.8977,  34.3621,2,-999.0000,9,    180.8,2,    22.87,2,    15.45,2,     0.06,2,     1.09,2,   2118.9,2,   2276.0,2,   7.7748,6,    25.00,      810
  49UP20160227,RF1602,  5673,  1,     30,  22097,2,20160306,0719, 36.0218, 149.3042, 6012,    150.8,  10.9478,  34.2162,2,-999.0000,9,    212.6,2,    20.33,2,    13.16,2,     0.13,2,     0.96,2,   2107.8,2,   2274.3,2,   7.7983,2,    25.00,      809
  49UP20160227,RF1602,  5673,  1,     29,  22102,2,20160306,0719, 36.0218, 149.3042, 6012,    202.4,  10.1726,  34.2206,2,-999.0000,9,    178.8,2,    28.95,2,    18.22,2,     0.01,2,     1.29,2,   2139.6,2,   2277.0,2,   7.7290,2,    25.00,      808
  49UP20160227,RF1602,  5673,  1,     28,  22108,2,20160306,0719, 36.0218, 149.3042, 6012,    251.3,   8.6975,  34.0957,2,-999.0000,9,    174.5,2,    37.60,2,    21.30,2,     0.01,2,     1.54,2,   2164.0,2,   2277.3,2,   7.6714,2,    25.00,      806
  49UP20160227,RF1602,  5673,  1,     24,  22110,2,20160306,0719, 36.0218, 149.3042, 6012,    303.1,   7.9231,  34.1054,2,-999.0000,9,    155.1,2,    46.79,2,    24.64,2,     0.01,2,     1.79,2,   2189.3,2,   2282.6,2,   7.6224,2,    25.00,      804
  49UP20160227,RF1602,  5673,  1,     23,  22096,3,20160306,0719, 36.0218, 149.3042, 6012,    405.4,   6.1346,  34.0425,2,-999.0000,9,    131.3,2,    62.95,2,    30.01,2,     0.00,2,     2.18,2,   2230.0,2,   2294.3,2,   7.5268,2,    25.00,      801
  49UP20160227,RF1602,  5673,  1,     22,  22111,2,20160306,0719, 36.0218, 149.3042, 6012,    505.9,   5.3839,  34.1272,2,-999.0000,9,     96.8,2,    80.00,2,    34.39,2,     0.00,2,     2.48,2,   2272.1,2,   2312.2,2,   7.4607,2,    25.00,      758
  49UP20160227,RF1602,  5673,  1,     17,  22090,2,20160306,0719, 36.0218, 149.3042, 6012,    606.8,   4.7218,  34.1988,2,-999.0000,9,     73.6,2,    95.41,2,    37.51,2,     0.00,2,     2.69,2,   2304.3,2,   2329.5,2,   7.4156,2,    25.00,      754
  49UP20160227,RF1602,  5673,  1,     18,  22101,2,20160306,0719, 36.0218, 149.3042, 6012,    609.1,   4.7191,  34.2037,2,-999.0000,9,     72.9,2,    95.61,2,    37.53,2,     0.00,2,     2.69,2,   2302.4,2,   2328.1,2,   7.4132,2,    25.00,      755
  49UP20160227,RF1602,  5673,  1,     16,  22089,3,20160306,0719, 36.0218, 149.3042, 6012,    708.8,   4.1753,  34.2522,2,-999.0000,9,     58.1,6,   108.30,6,    39.47,6,     0.00,6,     2.84,6,   2322.7,2,   2343.4,2,   7.3852,2,    25.00,      751
  49UP20160227,RF1602,  5673,  1,     15,  22088,2,20160306,0719, 36.0218, 149.3042, 6012,    807.8,   3.9108,  34.2971,2,-999.0000,9,     53.1,2,   115.53,2,    40.22,2,     0.00,2,     2.88,2,   2334.1,2,   2350.7,2,   7.3809,2,    25.00,      748
  49UP20160227,RF1602,  5673,  1,     14,  21999,2,20160306,0719, 36.0218, 149.3042, 6012,    909.4,   3.4258,  34.3371,2,-999.0000,9,     40.3,2,   127.55,2,    41.85,2,     0.00,2,     2.99,2,   2356.6,6,   2362.2,6,   7.3531,2,    25.00,      745
  49UP20160227,RF1602,  5673,  1,     13,  22667,2,20160306,0719, 36.0218, 149.3042, 6012,   1010.2,   3.1514,  34.3818,2,-999.0000,9,     37.8,2,   134.88,2,    42.32,2,     0.00,2,     3.02,2,   2364.6,2,   2370.9,2,   7.3489,6,    25.00,      742
  49UP20160227,RF1602,  5673,  1,     12,  22074,3,20160306,0719, 36.0218, 149.3042, 6012,   1212.1,   2.7405,  34.4518,2,-999.0000,9,     38.5,2,   147.33,2,    42.73,2,     0.00,2,     3.05,2,   2379.3,2,   2385.9,2,   7.3568,2,    25.00,      737
  49UP20160227,RF1602,  5673,  1,     11,  24268,2,20160306,0719, 36.0218, 149.3042, 6012,   1413.6,   2.4552,  34.5010,2,-999.0000,9,     43.8,2,   154.85,2,    42.59,2,     0.00,2,     3.02,2,   2382.2,2,   2396.3,2,   7.3727,2,    25.00,      732
  49UP20160227,RF1602,  5673,  1,     10,  24267,3,20160306,0719, 36.0218, 149.3042, 6012,   1616.9,   2.2561,  34.5391,2,-999.0000,9,     54.1,2,   158.32,2,    42.05,2,     0.00,2,     2.98,2,   2384.5,2,   2402.1,2,   7.3933,2,    25.00,      728
  49UP20160227,RF1602,  5673,  1,      6,  22113,2,20160306,0719, 36.0218, 149.3042, 6012,   1817.8,   2.1023,  34.5671,2,-999.0000,9,     62.4,2,   160.97,2,    41.66,2,     0.00,2,     2.94,2,   2383.5,2,   2407.1,2,   7.4069,2,    25.00,      724
  49UP20160227,RF1602,  5673,  1,      5,  24658,2,20160306,0719, 36.0218, 149.3042, 6012,   1819.2,   2.0991,  34.5676,2,-999.0000,9,     62.7,2,   161.13,2,    41.68,2,     0.00,2,     2.95,2,   2379.7,2,   2418.1,3,   7.4093,2,    25.00,      724
  49UP20160227,RF1602,  5673,  1,      4,  24471,2,20160306,0719, 36.0218, 149.3042, 6012,   2031.2,   1.9305,  34.5965,2,-999.0000,9,     75.1,6,   163.12,6,    40.94,6,     0.00,6,     2.89,6,   2377.2,2,   2412.5,2,   7.4388,2,    25.00,      719
  49UP20160227,RF1602,  5675,  1,     99,     99,2,20160306,1701, 37.0157, 149.6750, 5954,      0.0,  11.2896,  34.2714,2,  34.2786,2,    260.0,2,    12.96,2,     8.34,2,     0.17,2,     0.64,2,   2069.5,2,   2273.5,2,   7.8731,2,    25.00,     1910
  49UP20160227,RF1602,  5675,  1,     36,  22109,2,20160306,1701, 37.0157, 149.6750, 5954,     10.4,  11.2858,  34.2705,2,-999.0000,9,    259.7,2,    12.92,2,     8.33,2,     0.18,2,     0.64,2,   2069.8,2,   2271.5,2,   7.8725,2,    25.00,     1925
  49UP20160227,RF1602,  5675,  1,     35,  22112,2,20160306,1701, 37.0157, 149.6750, 5954,     25.7,  11.2820,  34.2691,2,  34.2655,2,    259.4,2,    13.01,2,     8.41,2,     0.18,2,     0.65,2,   2069.8,2,   2271.6,2,   7.8708,2,    25.00,     1924
  49UP20160227,RF1602,  5675,  1,     34,  22094,2,20160306,1701, 37.0157, 149.6750, 5954,     50.0,  11.0094,  34.2405,2,-999.0000,9,    257.1,2,    14.17,2,     9.08,2,     0.17,2,     0.70,2,   2076.4,2,   2272.1,2,   7.8614,2,    25.00,     1921
  49UP20160227,RF1602,  5675,  1,     33,  24469,3,20160306,1701, 37.0157, 149.6750, 5954,     74.7,  10.7749,  34.2252,2,  34.2237,2,    261.1,6,    14.15,6,     9.09,6,     0.20,6,     0.70,6,   2076.9,2,   2270.8,2,   7.8569,2,    25.00,     1920
  49UP20160227,RF1602,  5675,  1,     32,  22105,2,20160306,1701, 37.0157, 149.6750, 5954,    100.0,  10.3160,  34.1439,2,-999.0000,9,    256.1,2,    15.77,2,    10.22,2,     0.13,2,     0.77,2,   2086.0,2,   2269.1,2,   7.8394,2,    25.00,     1919
  49UP20160227,RF1602,  5675,  1,     31,  23515,2,20160306,1701, 37.0157, 149.6750, 5954,    125.5,   9.4018,  34.0082,2,  34.0060,2,    241.5,2,    19.82,2,    12.79,2,     0.04,2,     0.96,2,   2101.5,2,   2266.7,2,   7.7880,2,    25.00,     1918
  49UP20160227,RF1602,  5675,  1,     30,  22097,2,20160306,1701, 37.0157, 149.6750, 5954,    149.5,   8.4473,  33.8660,2,-999.0000,9,    256.2,2,    19.58,2,    12.40,2,     0.03,2,     0.95,2,   2099.2,2,   2262.0,2,   7.7856,2,    25.00,     1917
  49UP20160227,RF1602,  5675,  1,     29,  22102,2,20160306,1701, 37.0157, 149.6750, 5954,    201.1,   6.4080,  33.6031,2,  33.6084,2,    276.0,2,    23.77,2,    14.07,2,     0.04,2,     1.10,2,   2109.7,6,   2256.3,6,   7.7466,2,    25.00,     1916
  49UP20160227,RF1602,  5675,  1,     28,  22108,2,20160306,1701, 37.0157, 149.6750, 5954,    251.8,   5.8888,  33.6138,2,-999.0000,9,    258.5,2,    30.59,2,    17.56,2,     0.03,2,     1.35,2,   2130.6,2,   2260.2,2,   7.7046,6,    25.00,     1914
  49UP20160227,RF1602,  5675,  1,     27,  21998,3,20160306,1701, 37.0157, 149.6750, 5954,    302.2,   6.8241,  33.9297,2,  33.9309,2,    176.5,2,    45.80,2,    24.64,2,     0.01,2,     1.80,2,   2185.1,2,   2277.9,2,   7.6147,2,    25.00,     1912
  49UP20160227,RF1602,  5675,  1,     26,  22084,2,20160306,1701, 37.0157, 149.6750, 5954,    402.9,   6.5442,  34.1291,2,  34.1303,2,    121.0,2,    64.64,2,    30.42,2,     0.00,2,     2.19,2,   2232.8,2,   2300.6,2,   7.5339,2,    25.00,     1910
  49UP20160227,RF1602,  5675,  1,     25,  22098,3,20160306,1701, 37.0157, 149.6750, 5954,    504.4,   5.4852,  34.1847,2,  34.1834,2,     96.3,6,    83.06,6,    34.87,6,     0.00,6,     2.50,6,   2272.1,2,   2318.5,2,   7.4642,2,    25.00,     1907
  49UP20160227,RF1602,  5675,  1,     24,  22110,2,20160306,1701, 37.0157, 149.6750, 5954,    604.6,   4.8378,  34.2350,2,  34.2357,2,     73.2,2,    96.17,2,    37.36,2,     0.00,2,     2.68,2,   2301.0,2,   2332.7,2,   7.4247,2,    25.00,     1905
  49UP20160227,RF1602,  5675,  1,     23,  22096,2,20160306,1701, 37.0157, 149.6750, 5954,    705.7,   3.9271,  34.2558,2,  34.2537,2,     51.6,2,   113.78,2,    40.52,2,     0.00,2,     2.90,2,   2332.9,2,   2347.3,2,   7.3648,2,    25.00,     1902
  49UP20160227,RF1602,  5675,  1,     22,  22111,3,20160306,1701, 37.0157, 149.6750, 5954,    807.2,   3.5740,  34.3153,2,  34.3188,2,     48.8,2,   123.41,2,    41.37,2,     0.00,2,     2.95,2,   2344.2,2,   2358.7,2,   7.3625,2,    25.00,     1900
  49UP20160227,RF1602,  5675,  1,     21,  22078,3,20160306,1701, 37.0157, 149.6750, 5954,    908.1,   3.2914,  34.3618,2,  34.3619,2,     42.2,2,   131.33,2,    41.86,2,     0.00,2,     2.99,2,   2360.9,6,   2369.6,6,   7.3624,2,    25.00,     1857
  49UP20160227,RF1602,  5675,  1,     20,  22093,3,20160306,1701, 37.0157, 149.6750, 5954,   1009.3,   3.0328,  34.4030,2,  34.4027,2,     42.5,2,   138.31,2,    42.20,2,     0.00,2,     3.01,2,   2368.2,2,   2377.4,2,   7.3608,6,    25.00,     1855
  49UP20160227,RF1602,  5675,  1,     19,  22092,2,20160306,1701, 37.0157, 149.6750, 5954,   1213.2,   2.6754,  34.4611,2,  34.4599,2,     40.4,2,   148.53,2,    42.74,2,     0.00,2,     3.03,2,   2378.8,2,   2391.2,2,   7.3600,2,    25.00,     1850
  49UP20160227,RF1602,  5675,  1,     18,  22101,2,20160306,1701, 37.0157, 149.6750, 5954,   1416.5,   2.4008,  34.5100,2,  34.5084,2,     46.2,2,   155.56,2,    42.58,2,     0.00,2,     3.01,2,   2382.2,2,   2397.9,2,   7.3763,2,    25.00,     1846
  49UP20160227,RF1602,  5675,  1,     17,  22090,2,20160306,1701, 37.0157, 149.6750, 5954,   1617.8,   2.1924,  34.5472,2,  34.5464,2,     53.4,2,   160.41,2,    42.33,2,     0.00,2,     2.98,2,   2381.3,2,   2405.3,2,   7.3925,2,    25.00,     1841
  49UP20160227,RF1602,  5675,  1,     16,  22089,3,20160306,1701, 37.0157, 149.6750, 5954,   1823.6,   2.0293,  34.5791,2,  34.5789,2,     67.9,6,   161.28,6,    41.38,6,     0.00,6,     2.91,6,   2374.5,2,   2410.3,2,   7.4229,2,    25.00,     1836
  49UP20160227,RF1602,  5675,  1,     15,  22088,2,20160306,1701, 37.0157, 149.6750, 5954,   2025.7,   1.9004,  34.6029,2,  34.6040,2,     80.5,2,   161.64,2,    40.70,2,     0.00,2,     2.85,2,   2370.8,2,   2414.2,2,   7.4493,2,    25.00,     1831
  49UP20160227,RF1602,  5675,  1,     14,  21999,2,20160306,1701, 37.0157, 149.6750, 5954,   2280.9,   1.7656,  34.6264,2,  34.6264,2,     96.2,2,   160.57,2,    39.66,2,     0.00,2,     2.78,2,   2362.3,2,   2416.0,2,   7.4754,2,    25.00,     1825
  49UP20160227,RF1602,  5675,  1,     13,  22667,2,20160306,1701, 37.0157, 149.6750, 5954,   2535.8,   1.6592,  34.6439,2,  34.6418,2,    109.8,2,   158.94,2,    38.84,2,     0.00,2,     2.72,2,   2351.1,2,   2417.3,2,   7.5012,2,    25.00,     1819
  49UP20160227,RF1602,  5675,  1,     12,  22074,2,20160306,1701, 37.0157, 149.6750, 5954,   2790.4,   1.5842,  34.6562,2,  34.6560,2,    121.0,2,   157.35,2,    38.17,2,     0.00,2,     2.66,2,   2346.9,2,   2420.3,2,   7.5234,2,    25.00,     1814
  49UP20160227,RF1602,  5675,  1,     11,  24268,2,20160306,1701, 37.0157, 149.6750, 5954,   3044.7,   1.5411,  34.6644,2,  34.6639,2,    129.2,2,   155.47,2,    37.62,2,     0.00,2,     2.61,2,   2341.6,2,   2417.8,2,   7.5384,2,    25.00,     1808
  49UP20160227,RF1602,  5675,  1,     10,  24267,2,20160306,1701, 37.0157, 149.6750, 5954,   3300.5,   1.4995,  34.6717,2,  34.6710,2,    137.0,2,   153.89,2,    37.11,2,     0.00,2,     2.57,2,   2337.2,2,   2418.8,2,   7.5498,2,    25.00,     1802
  49UP20160227,RF1602,  5675,  1,      9,  23518,2,20160306,1701, 37.0157, 149.6750, 5954,   3557.6,   1.4759,  34.6771,2,  34.6764,2,    143.1,2,   152.07,2,    36.74,2,     0.00,2,     2.54,2,   2333.8,6,   2417.2,6,   7.5607,2,    25.00,     1756
  49UP20160227,RF1602,  5675,  1,      8,  22081,2,20160306,1701, 37.0157, 149.6750, 5954,   3812.6,   1.4648,  34.6811,2,  34.6809,2,    148.0,2,   150.58,2,    36.41,2,     0.00,2,     2.51,2,   2337.8,2,   2417.6,2,   7.5703,6,    25.00,     1751
  49UP20160227,RF1602,  5675,  1,      7,  23516,3,20160306,1701, 37.0157, 149.6750, 5954,   4069.3,   1.4629,  34.6840,2,  34.6835,2,    151.5,2,   149.70,2,    36.17,2,     0.00,2,     2.50,2,   2331.4,2,   2417.1,2,   7.5765,2,    25.00,     1745
  49UP20160227,RF1602,  5675,  1,      6,  22113,2,20160306,1701, 37.0157, 149.6750, 5954,   4583.8,   1.4792,  34.6881,2,  34.6891,2,    158.0,2,   147.11,2,    35.72,2,     0.00,2,     2.47,2,   2322.5,2,   2413.5,2,   7.5844,2,    25.00,     1734
  49UP20160227,RF1602,  5675,  1,      5,  24658,2,20160306,1701, 37.0157, 149.6750, 5954,   5098.8,   1.5139,  34.6910,2,  34.6910,2,    161.7,6,   144.37,6,    35.39,6,     0.00,6,     2.45,6,   2317.6,2,   2411.4,2,   7.5897,2,    25.00,     1724
  49UP20160227,RF1602,  5675,  1,      4,  24471,2,20160306,1701, 37.0157, 149.6750, 5954,   5356.6,   1.5377,  34.6918,2,  34.6930,6,    164.0,2,   142.74,2,    35.25,2,     0.00,2,     2.43,2,   2317.3,2,   2413.4,2,   7.5938,2,    25.00,     1718
  49UP20160227,RF1602,  5675,  1,      3,  22104,2,20160306,1701, 37.0157, 149.6750, 5954,   5614.4,   1.5657,  34.6926,2,  34.6917,2,    165.0,2,   141.88,2,    35.18,2,     0.00,2,     2.43,2,   2318.7,2,   2411.3,2,   7.5932,2,    25.00,     1712
  49UP20160227,RF1602,  5675,  1,      2,  22075,3,20160306,1701, 37.0157, 149.6750, 5954,   5872.5,   1.5961,  34.6931,2,  34.6924,2,    166.1,2,   141.15,2,    35.09,2,     0.00,2,     2.42,2,   2314.6,2,   2412.0,2,   7.5948,2,    25.00,     1706
  49UP20160227,RF1602,  5675,  1,      1,  21997,2,20160306,1701, 37.0157, 149.6750, 5954,   6111.7,   1.6282,  34.6930,2,  34.6925,6,    166.1,2,   141.00,2,    35.19,2,     0.00,2,     2.42,2,   2316.4,2,   2409.5,2,   7.5921,2,    25.00,     1701