BOTTLE,20200306PRINUNIVRMK
EXPOCODE,SECT_ID,STNNBR,CASTNO,SAMPNO,BTLNBR,BTLNBR_FLAG_W,DATE,TIME,LATITUDE,LONGITUDE,DEPTH,CTDPRS,CTDTMP,CTDSAL,CTDSAL_FLAG_W,SALNTY,SALNTY_FLAG_W,OXYGEN,OXYGEN_FLAG_W,SILCAT,SILCAT_FLAG_W,NITRAT,NITRAT_FLAG_W,NITRIT,NITRIT_FLAG_W,PHSPHT,PHSPHT_FLAG_W,TCARBN,TCARBN_FLAG_W,ALKALI,ALKALI_FLAG_W,PH_TOT,PH_TOT_FLAG_W,PH_TMP,BTL_TIME
,,,,,,,,,,,METERS,DBAR,ITS-90,PSS-78,,PSS-78,,UMOL/KG,,UMOL/KG,,UMOL/KG,,UMOL/KG,,UMOL/KG,,UMOL/KG,,UMOL/KG,,,,DEG C,
  49UP20160227,RF1602,  5683,  1,     99,     99,2,20160308,0218, 39.6840, 147.8905, 5328,      0.0,  15.1592,  34.6760,2,  34.6885,2,    238.6,2,     8.37,2,     5.64,2,     0.23,2,     0.44,2,   2047.7,2,   2285.5,2,   7.9354,2,    25.00,      400
  49UP20160227,RF1602,  5683,  1,     36,  22109,2,20160308,0218, 39.6840, 147.8905, 5328,     12.1,  15.1848,  34.6767,2,-999.0000,9,    239.8,2,     8.33,2,     5.61,2,     0.23,2,     0.43,2,   2046.7,2,   2284.2,2,   7.9348,2,    25.00,      427
  49UP20160227,RF1602,  5683,  1,     35,  22112,2,20160308,0218, 39.6840, 147.8905, 5328,     27.7,  13.9285,  34.5647,2,  34.5642,2,    245.3,2,     9.22,2,     6.37,2,     0.21,2,     0.48,2,   2053.8,2,   2282.4,2,   7.9159,2,    25.00,      425
  49UP20160227,RF1602,  5683,  1,     34,  22094,2,20160308,0218, 39.6840, 147.8905, 5328,     51.5,  13.5384,  34.5393,2,-999.0000,9,    245.2,2,     9.68,2,     6.71,2,     0.24,2,     0.51,2,   2059.7,2,   2280.7,2,   7.9133,2,    25.00,      421
  49UP20160227,RF1602,  5683,  1,     33,  24469,2,20160308,0218, 39.6840, 147.8905, 5328,     77.6,  11.5834,  34.3029,2,  34.3043,2,    217.0,2,    18.34,2,    12.04,2,     0.09,2,     0.88,2,   2096.7,2,   2274.9,2,   7.8253,2,    25.00,      420
  49UP20160227,RF1602,  5683,  1,     32,  22105,2,20160308,0218, 39.6840, 147.8905, 5328,    103.3,   9.7378,  34.0949,2,-999.0000,9,    266.6,2,    15.70,2,     9.78,2,     0.20,2,     0.77,2,   2080.5,2,   2268.4,2,   7.8434,2,    25.00,      419
  49UP20160227,RF1602,  5683,  1,     31,  23515,2,20160308,0218, 39.6840, 147.8905, 5328,    128.6,   6.9341,  33.7091,2,  33.7236,4,    287.2,2,    19.96,2,    11.90,2,     0.17,2,     0.95,2,   2102.2,2,   2253.5,2,   7.7848,2,    25.00,      417
  49UP20160227,RF1602,  5683,  1,     30,  22097,2,20160308,0218, 39.6840, 147.8905, 5328,    154.6,   6.5270,  33.6536,2,-999.0000,9,    291.7,2,    20.11,2,    11.97,2,     0.17,2,     0.96,2,   2105.0,2,   2255.3,2,   7.7805,2,    25.00,      416
  49UP20160227,RF1602,  5683,  1,     29,  22102,2,20160308,0218, 39.6840, 147.8905, 5328,    203.7,   5.1909,  33.5066,2,  33.5146,2,    276.1,6,    29.24,6,    16.71,6,     0.03,6,     1.32,6,   2127.6,2,   2253.0,2,   7.7073,2,    25.00,      413
  49UP20160227,RF1602,  5683,  1,     28,  22108,2,20160308,0218, 39.6840, 147.8905, 5328,    255.6,   4.1913,  33.4683,2,-999.0000,9,    237.0,2,    42.07,2,    22.70,2,     0.01,2,     1.76,2,   2168.7,2,   2257.3,2,   7.6104,2,    25.00,      411
  49UP20160227,RF1602,  5683,  1,     27,  21998,2,20160308,0218, 39.6840, 147.8905, 5328,    306.7,   4.1534,  33.6255,2,  33.5189,4,    196.0,2,    58.83,2,    29.21,2,     0.01,2,     2.22,2,   2211.3,2,   2266.4,2,   7.4980,2,    25.00,      408
  49UP20160227,RF1602,  5683,  1,     26,  22084,2,20160308,0218, 39.6840, 147.8905, 5328,    406.9,   3.9458,  33.8253,2,  33.8196,2,    126.0,6,    76.22,6,    34.55,6,     0.00,6,     2.53,6,   2260.9,2,   2289.1,2,   7.4189,2,    25.00,      404
  49UP20160227,RF1602,  5683,  1,     25,  22098,2,20160308,0218, 39.6840, 147.8905, 5328,    507.2,   3.6131,  33.9484,2,  33.9547,2,     77.1,2,    96.09,2,    39.19,2,     0.00,2,     2.83,2,   2306.1,2,   2307.7,2,   7.3416,2,    25.00,      400
  49UP20160227,RF1602,  5683,  1,     24,  22110,2,20160308,0218, 39.6840, 147.8905, 5328,    610.6,   3.8658,  34.1309,2,  34.1241,2,     57.2,2,   106.54,2,    40.28,2,     0.00,2,     2.89,2,   2325.5,6,   2329.5,6,   7.3431,2,    25.00,      356
  49UP20160227,RF1602,  5683,  1,     23,  22096,2,20160308,0218, 39.6840, 147.8905, 5328,    710.3,   3.5959,  34.2183,2,  34.2162,2,     42.7,2,   119.25,2,    41.53,2,     0.00,2,     2.98,2,   2343.7,2,   2346.0,2,   7.3279,6,    25.00,      353
  49UP20160227,RF1602,  5683,  1,     22,  22111,2,20160308,0218, 39.6840, 147.8905, 5328,    809.5,   3.3135,  34.2774,2,  34.2749,2,     36.6,2,   128.60,2,    42.29,2,     0.00,2,     3.02,2,   2354.7,2,   2355.5,2,   7.3237,2,    25.00,      350
  49UP20160227,RF1602,  5683,  1,     21,  22078,2,20160308,0218, 39.6840, 147.8905, 5328,    911.1,   3.1085,  34.3303,2,  34.3291,2,     36.5,2,   135.59,2,    42.46,2,     0.00,2,     3.03,2,   2362.4,2,   2365.8,2,   7.3296,2,    25.00,      347
  49UP20160227,RF1602,  5683,  1,     20,  22093,2,20160308,0218, 39.6840, 147.8905, 5328,   1012.0,   2.9916,  34.3798,2,  34.3787,2,     38.5,2,   139.37,2,    42.44,2,     0.00,2,     3.03,2,   2369.6,2,   2373.3,2,   7.3416,2,    25.00,      344
  49UP20160227,RF1602,  5683,  1,     19,  22092,2,20160308,0218, 39.6840, 147.8905, 5328,   1214.8,   2.5664,  34.4417,2,  34.4408,2,     37.8,2,   152.81,2,    42.86,2,     0.00,2,     3.05,2,   2379.6,2,   2385.9,2,   7.3402,2,    25.00,      339
  49UP20160227,RF1602,  5683,  1,     18,  22101,2,20160308,0218, 39.6840, 147.8905, 5328,   1417.0,   2.3680,  34.4887,2,  34.4883,2,     42.4,2,   158.34,2,    42.67,2,     0.00,2,     3.03,2,   2382.1,2,   2395.7,2,   7.3603,2,    25.00,      335
  49UP20160227,RF1602,  5683,  1,     17,  22090,2,20160308,0218, 39.6840, 147.8905, 5328,   1620.7,   2.2025,  34.5350,2,  34.5346,2,     52.3,6,   161.35,6,    42.21,6,     0.00,6,     2.99,6,   2383.6,2,   2404.2,2,   7.3848,2,    25.00,      331
  49UP20160227,RF1602,  5683,  1,     16,  22089,2,20160308,0218, 39.6840, 147.8905, 5328,   1821.7,   2.0505,  34.5702,2,  34.5697,2,     63.8,2,   162.50,2,    41.59,2,     0.00,2,     2.93,2,   2380.3,2,   2407.8,2,   7.4082,2,    25.00,      328
  49UP20160227,RF1602,  5683,  1,     15,  22088,2,20160308,0218, 39.6840, 147.8905, 5328,   2026.4,   1.9148,  34.5966,2,  34.5954,2,     76.2,2,   163.34,2,    40.82,2,     0.00,2,     2.87,2,   2374.6,6,   2411.2,6,   7.4308,2,    25.00,      324
  49UP20160227,RF1602,  5683,  1,     14,  21999,2,20160308,0218, 39.6840, 147.8905, 5328,   2281.2,   1.7790,  34.6230,2,  34.6229,2,     93.3,2,   161.45,2,    39.88,2,     0.00,2,     2.80,2,   2361.7,2,   2414.3,2,   7.4672,6,    25.00,      320
  49UP20160227,RF1602,  5683,  1,     13,  22667,2,20160308,0218, 39.6840, 147.8905, 5328,   2536.2,   1.6763,  34.6406,2,  34.6397,2,    106.7,2,   160.27,2,    38.98,2,     0.00,2,     2.73,2,   2356.3,2,   2416.6,2,   7.4923,2,    25.00,      316
  49UP20160227,RF1602,  5683,  1,     12,  22074,2,20160308,0218, 39.6840, 147.8905, 5328,   2790.8,   1.6080,  34.6527,2,  34.6532,2,    116.9,2,   158.36,2,    38.29,2,     0.00,2,     2.68,2,   2346.3,2,   2416.1,2,   7.5110,2,    25.00,      312
  49UP20160227,RF1602,  5683,  1,     11,  24268,2,20160308,0218, 39.6840, 147.8905, 5328,   3045.1,   1.5470,  34.6632,2,  34.6639,2,    127.7,2,   156.19,2,    37.61,2,     0.00,2,     2.63,2,   2345.8,2,   2416.0,2,   7.5310,2,    25.00,      307
  49UP20160227,RF1602,  5683,  1,     10,  24267,2,20160308,0218, 39.6840, 147.8905, 5328,   3298.2,   1.5147,  34.6697,2,  34.6724,4,    134.3,2,   154.61,2,    37.19,2,     0.00,2,     2.59,2,   2343.1,2,   2416.6,2,   7.5422,2,    25.00,      303
  49UP20160227,RF1602,  5683,  1,      9,  23518,2,20160308,0218, 39.6840, 147.8905, 5328,   3556.5,   1.4895,  34.6752,2,  34.6756,2,    140.2,2,   152.93,2,    36.78,2,     0.00,2,     2.56,2,   2336.5,2,   2418.0,2,   7.5574,2,    25.00,      258
  49UP20160227,RF1602,  5683,  1,      8,  22081,2,20160308,0218, 39.6840, 147.8905, 5328,   3814.3,   1.4732,  34.6798,2,  34.6820,4,    146.4,2,   151.44,2,    36.41,2,     0.00,2,     2.52,2,   2330.0,2,   2418.1,2,   7.5627,2,    25.00,      253
  49UP20160227,RF1602,  5683,  1,      7,  23516,2,20160308,0218, 39.6840, 147.8905, 5328,   4070.8,   1.4653,  34.6834,2,  34.6832,2,    151.2,2,   150.41,2,    36.11,2,     0.00,2,     2.50,2,   2328.0,2,   2416.7,2,   7.5708,2,    25.00,      248
  49UP20160227,RF1602,  5683,  1,      6,  22113,2,20160308,0218, 39.6840, 147.8905, 5328,   4326.2,   1.4705,  34.6858,2,  34.6857,2,    153.8,6,   149.14,6,    35.89,6,     0.00,6,     2.49,6,   2325.0,2,   2414.8,2,   7.5777,2,    25.00,      242
  49UP20160227,RF1602,  5683,  1,      5,  24658,2,20160308,0218, 39.6840, 147.8905, 5328,   4585.3,   1.4774,  34.6883,2,  34.6875,6,    155.9,2,   149.05,2,    35.73,2,     0.00,2,     2.48,2,   2324.9,2,   2415.9,2,   7.5822,2,    25.00,      237
  49UP20160227,RF1602,  5683,  1,      4,  24471,2,20160308,0218, 39.6840, 147.8905, 5328,   4843.3,   1.4957,  34.6896,2,  34.6897,2,    158.3,2,   149.90,2,    35.55,2,     0.00,2,     2.47,2,   2324.7,2,   2415.0,2,   7.5836,2,    25.00,      232
  49UP20160227,RF1602,  5683,  1,      3,  22104,2,20160308,0218, 39.6840, 147.8905, 5328,   5101.2,   1.5170,  34.6907,2,  34.6908,2,    159.7,2,   147.73,2,    35.44,2,     0.00,2,     2.46,2,   2325.6,6,   2412.9,6,   7.5885,2,    25.00,      226
  49UP20160227,RF1602,  5683,  1,      2,  22075,2,20160308,0218, 39.6840, 147.8905, 5328,   5358.8,   1.5422,  34.6914,2,  34.6907,2,    161.4,2,   146.11,2,    35.36,2,     0.00,2,     2.44,2,   2318.5,2,   2410.9,2,   7.5876,6,    25.00,      221
  49UP20160227,RF1602,  5683,  1,      1,  21997,2,20160308,0218, 39.6840, 147.8905, 5328,   5433.4,   1.5503,  34.6917,2,  34.6919,2,    161.2,2,   146.57,2,    35.37,2,     0.00,2,     2.45,2,   2321.2,2,   2412.4,2,   7.5881,2,    25.00,      218
  49UP20160227,RF1602,  5686,  1,     99,     99,2,20160308,1500, 40.6725, 147.1812, 5296,      0.0,   6.2491,  33.4338,2,-999.0000,9,    295.0,2,    19.18,2,    11.47,2,     0.13,2,     0.92,2,   -999.0,9,   -999.0,9,-999.0000,9,  -999.00,     1535
  49UP20160227,RF1602,  5686,  1,     33,  24469,2,20160308,1500, 40.6725, 147.1812, 5296,     11.6,   6.4096,  33.4769,2,-999.0000,9,    294.3,2,    19.22,2,    11.44,2,     0.13,2,     0.91,2,   -999.0,9,   -999.0,9,-999.0000,9,  -999.00,     1600
  49UP20160227,RF1602,  5686,  1,     32,  22105,2,20160308,1500, 40.6725, 147.1812, 5296,     27.0,   7.8511,  33.8285,2,-999.0000,9,    281.4,2,    16.42,2,    10.44,2,     0.09,2,     0.80,2,   -999.0,9,   -999.0,9,-999.0000,9,  -999.00,     1558
  49UP20160227,RF1602,  5686,  1,     31,  23515,3,20160308,1500, 40.6725, 147.1812, 5296,     52.0,   7.8231,  33.8373,2,-999.0000,9,    279.7,2,    17.00,2,    10.72,2,     0.10,2,     0.83,2,   -999.0,9,   -999.0,9,-999.0000,9,  -999.00,     1554
  49UP20160227,RF1602,  5686,  1,     30,  22097,2,20160308,1500, 40.6725, 147.1812, 5296,     76.4,   7.7041,  33.8249,2,-999.0000,9,    279.5,6,    17.70,6,    11.12,6,     0.11,6,     0.86,6,   -999.0,9,   -999.0,9,-999.0000,9,  -999.00,     1553
  49UP20160227,RF1602,  5686,  1,     29,  22102,2,20160308,1500, 40.6725, 147.1812, 5296,    101.6,   7.6282,  33.8158,2,-999.0000,9,    280.6,2,    17.90,2,    11.23,2,     0.11,2,     0.87,2,   -999.0,9,   -999.0,9,-999.0000,9,  -999.00,     1552
  49UP20160227,RF1602,  5686,  1,     28,  22108,2,20160308,1500, 40.6725, 147.1812, 5296,    127.3,   7.6154,  33.8132,2,-999.0000,9,    280.4,2,    18.00,2,    11.25,2,     0.11,2,     0.87,2,   -999.0,9,   -999.0,9,-999.0000,9,  -999.00,     1551
  49UP20160227,RF1602,  5686,  1,     27,  21998,3,20160308,1500, 40.6725, 147.1812, 5296,    152.5,   7.3991,  33.7855,2,-999.0000,9,    281.6,2,    18.66,2,    11.50,2,     0.11,2,     0.89,2,   -999.0,9,   -999.0,9,-999.0000,9,  -999.00,     1550
  49UP20160227,RF1602,  5686,  1,     25,  22098,2,20160308,1500, 40.6725, 147.1812, 5296,    204.9,   6.8240,  33.7164,2,-999.0000,9,    283.8,2,    21.22,2,    12.72,2,     0.15,2,     1.00,2,   -999.0,9,   -999.0,9,-999.0000,9,  -999.00,     1548
  49UP20160227,RF1602,  5686,  1,     26,  22084,2,20160308,1500, 40.6725, 147.1812, 5296,    206.1,   6.8082,  33.7139,2,-999.0000,9,    283.9,2,    21.07,2,    12.72,2,     0.15,2,     1.00,2,   -999.0,9,   -999.0,9,-999.0000,9,  -999.00,     1548
  49UP20160227,RF1602,  5686,  1,     21,  22078,2,20160308,1500, 40.6725, 147.1812, 5296,    254.3,   4.0021,  33.3470,2,-999.0000,9,    298.1,2,    31.15,2,    17.43,2,     0.14,2,     1.40,2,   -999.0,9,   -999.0,9,-999.0000,9,  -999.00,     1545
  49UP20160227,RF1602,  5686,  1,     20,  22093,2,20160308,1500, 40.6725, 147.1812, 5296,    303.9,   4.6417,  33.5723,2,-999.0000,9,    215.1,6,    47.00,6,    24.86,6,     0.01,6,     1.88,6,   -999.0,9,   -999.0,9,-999.0000,9,  -999.00,     1543
  49UP20160227,RF1602,  5686,  1,     19,  22092,2,20160308,1500, 40.6725, 147.1812, 5296,    405.8,   3.5630,  33.6590,2,-999.0000,9,    160.4,2,    67.35,2,    32.20,2,     0.00,2,     2.38,2,   -999.0,9,   -999.0,9,-999.0000,9,  -999.00,     1540
  49UP20160227,RF1602,  5686,  1,     15,  22088,2,20160308,1500, 40.6725, 147.1812, 5296,    506.9,   3.8823,  33.8666,2,-999.0000,9,    109.3,2,    82.49,2,    36.09,2,     0.00,2,     2.63,2,   -999.0,9,   -999.0,9,-999.0000,9,  -999.00,     1537
  49UP20160227,RF1602,  5686,  1,     14,  21999,2,20160308,1500, 40.6725, 147.1812, 5296,    607.8,   3.8213,  33.9903,2,-999.0000,9,     73.3,2,    96.84,2,    39.31,2,     0.00,2,     2.83,2,   -999.0,9,   -999.0,9,-999.0000,9,  -999.00,     1534
  49UP20160227,RF1602,  5686,  1,     13,  22667,2,20160308,1500, 40.6725, 147.1812, 5296,    710.4,   3.5444,  34.0973,2,-999.0000,9,     47.6,2,   112.20,2,    41.58,2,     0.00,2,     2.97,2,   -999.0,9,   -999.0,9,-999.0000,9,  -999.00,     1531
  49UP20160227,RF1602,  5686,  1,     12,  22074,2,20160308,1500, 40.6725, 147.1812, 5296,    809.3,   3.5673,  34.1974,2,-999.0000,9,     41.8,2,   119.16,2,    41.69,2,     0.00,2,     2.98,2,   -999.0,9,   -999.0,9,-999.0000,9,  -999.00,     1528
  49UP20160227,RF1602,  5686,  1,     11,  24268,2,20160308,1500, 40.6725, 147.1812, 5296,    910.6,   3.3163,  34.2646,2,-999.0000,9,     35.7,2,   128.83,2,    42.40,2,     0.00,2,     3.03,2,   -999.0,9,   -999.0,9,-999.0000,9,  -999.00,     1526
  49UP20160227,RF1602,  5686,  1,     10,  24267,2,20160308,1500, 40.6725, 147.1812, 5296,   1012.8,   3.1479,  34.3355,2,-999.0000,9,     37.0,2,   134.96,2,    42.44,2,     0.00,2,     3.03,2,   -999.0,9,   -999.0,9,-999.0000,9,  -999.00,     1523
  49UP20160227,RF1602,  5686,  1,      9,  23518,2,20160308,1500, 40.6725, 147.1812, 5296,   1215.9,   2.7663,  34.4133,2,-999.0000,9,     36.6,2,   147.10,2,    42.82,2,     0.00,2,     3.05,2,   -999.0,9,   -999.0,9,-999.0000,9,  -999.00,     1518
  49UP20160227,RF1602,  5686,  1,      7,  23516,2,20160308,1500, 40.6725, 147.1812, 5296,   1418.0,   2.4997,  34.4811,2,-999.0000,9,     43.1,2,   154.41,2,    42.84,2,     0.00,2,     3.03,2,   -999.0,9,   -999.0,9,-999.0000,9,  -999.00,     1513
  49UP20160227,RF1602,  5686,  1,      8,  22081,2,20160308,1500, 40.6725, 147.1812, 5296,   1418.6,   2.4997,  34.4812,2,-999.0000,9,     42.4,2,   153.93,2,    42.78,2,     0.00,2,     3.03,2,   -999.0,9,   -999.0,9,-999.0000,9,  -999.00,     1513
  49UP20160227,RF1602,  5686,  1,      3,  22104,2,20160308,1500, 40.6725, 147.1812, 5296,   1620.5,   2.2751,  34.5226,2,-999.0000,9,     49.2,2,   160.14,2,    42.47,2,     0.00,2,     3.00,2,   -999.0,9,   -999.0,9,-999.0000,9,  -999.00,     1509
  49UP20160227,RF1602,  5686,  1,      2,  22075,3,20160308,1500, 40.6725, 147.1812, 5296,   1824.6,   2.1145,  34.5615,2,-999.0000,9,     60.2,2,   161.76,2,    41.90,2,     0.00,2,     2.95,2,   -999.0,9,   -999.0,9,-999.0000,9,  -999.00,     1504
  49UP20160227,RF1602,  5686,  1,      1,  21997,2,20160308,1500, 40.6725, 147.1812, 5296,   2027.8,   1.9625,  34.5911,2,-999.0000,9,     73.3,2,   162.66,2,    41.09,2,     0.00,2,     2.89,2,   -999.0,9,   -999.0,9,-999.0000,9,  -999.00,     1500