BOTTLE,20200306PRINUNIVRMK
EXPOCODE,SECT_ID,STNNBR,CASTNO,SAMPNO,BTLNBR,BTLNBR_FLAG_W,DATE,TIME,LATITUDE,LONGITUDE,DEPTH,CTDPRS,CTDTMP,CTDSAL,CTDSAL_FLAG_W,SALNTY,SALNTY_FLAG_W,OXYGEN,OXYGEN_FLAG_W,SILCAT,SILCAT_FLAG_W,NITRAT,NITRAT_FLAG_W,NITRIT,NITRIT_FLAG_W,PHSPHT,PHSPHT_FLAG_W,TCARBN,TCARBN_FLAG_W,ALKALI,ALKALI_FLAG_W,PH_TOT,PH_TOT_FLAG_W,PH_TMP,BTL_TIME
,,,,,,,,,,,METERS,DBAR,ITS-90,PSS-78,,PSS-78,,UMOL/KG,,UMOL/KG,,UMOL/KG,,UMOL/KG,,UMOL/KG,,UMOL/KG,,UMOL/KG,,,,DEG C,
  49UP20160227,RF1602,  5689,  1,     99,     99,2,20160309,2051, 41.6705, 146.4943, 6270,      0.0,   1.0761,  33.0217,2,  33.0280,2,    334.3,2,    38.89,2,    22.32,2,     0.15,2,     1.81,2,   2133.0,2,   2236.2,2,   7.6449,2,    25.00,     2250
  49UP20160227,RF1602,  5689,  1,     36,  22109,2,20160309,2051, 41.6705, 146.4943, 6270,     10.6,   1.0627,  33.0221,2,  33.0254,2,    334.3,2,    38.89,2,    22.32,2,     0.15,2,     1.80,2,   2130.4,2,   2235.7,2,   7.6468,2,    25.00,     2312
  49UP20160227,RF1602,  5689,  1,     35,  22112,2,20160309,2051, 41.6705, 146.4943, 6270,     26.3,   1.0609,  33.0222,2,-999.0000,9,    334.2,2,    38.99,2,    22.37,2,     0.15,2,     1.80,2,   2131.2,2,   2236.0,2,   7.6449,2,    25.00,     2311
  49UP20160227,RF1602,  5689,  1,     34,  22094,2,20160309,2051, 41.6705, 146.4943, 6270,     51.9,   1.0592,  33.0224,2,  33.0241,2,    334.0,6,    38.98,6,    22.37,6,     0.15,6,     1.80,6,   2133.7,2,   2237.8,2,   7.6463,2,    25.00,     2308
  49UP20160227,RF1602,  5689,  1,     33,  24469,2,20160309,2051, 41.6705, 146.4943, 6270,     76.4,   1.0513,  33.0250,2,-999.0000,9,    330.1,2,    39.23,2,    22.49,2,     0.15,2,     1.81,2,   2135.1,2,   2237.1,2,   7.6408,2,    25.00,     2306
  49UP20160227,RF1602,  5689,  1,     32,  22105,2,20160309,2051, 41.6705, 146.4943, 6270,    100.9,   0.9972,  33.0473,2,  33.0846,4,    303.0,2,    43.55,2,    24.22,2,     0.08,2,     1.92,2,   2156.7,2,   2238.9,2,   7.6017,2,    25.00,     2305
  49UP20160227,RF1602,  5689,  1,     31,  23515,2,20160309,2051, 41.6705, 146.4943, 6270,    127.8,   2.5676,  33.3536,2,-999.0000,9,    198.1,2,    62.79,2,    31.84,2,     0.01,2,     2.38,2,   2216.8,2,   2259.2,2,   7.4711,2,    25.00,     2304
  49UP20160227,RF1602,  5689,  1,     30,  22097,2,20160309,2051, 41.6705, 146.4943, 6270,    150.6,   2.8149,  33.4679,2,  33.4907,4,    155.8,2,    73.04,2,    35.67,2,     0.01,2,     2.61,2,   2247.3,2,   2268.0,2,   7.3984,2,    25.00,     2303
  49UP20160227,RF1602,  5689,  1,     29,  22102,2,20160309,2051, 41.6705, 146.4943, 6270,    205.5,   3.2756,  33.6777,2,  33.6823,2,     97.2,2,    86.35,2,    40.05,2,     0.01,2,     2.87,2,   2290.1,2,   2283.3,2,   7.3121,2,    25.00,     2301
  49UP20160227,RF1602,  5689,  1,     28,  22108,2,20160309,2051, 41.6705, 146.4943, 6270,    254.4,   2.8974,  33.7578,2,-999.0000,9,     88.1,6,    94.13,6,    39.99,6,     0.01,6,     2.90,6,   2305.4,2,   2295.3,2,   7.3048,2,    25.00,     2259
  49UP20160227,RF1602,  5689,  1,     27,  21998,3,20160309,2051, 41.6705, 146.4943, 6270,    305.7,   2.9415,  33.8249,2,  33.8243,2,     76.4,2,    99.42,2,    40.75,2,     0.01,2,     2.95,2,   2316.3,6,   2302.4,6,   7.2887,2,    25.00,     2257
  49UP20160227,RF1602,  5689,  1,     26,  22084,2,20160309,2051, 41.6705, 146.4943, 6270,    407.4,   3.4673,  34.0533,2,  34.0469,2,     51.2,2,   110.06,2,    41.81,2,     0.00,2,     2.98,2,   2330.8,2,   2321.6,2,   7.3052,6,    25.00,     2255
  49UP20160227,RF1602,  5689,  1,     25,  22098,2,20160309,2051, 41.6705, 146.4943, 6270,    506.2,   3.1073,  34.0962,2,  34.0958,2,     35.5,2,   122.56,2,    43.14,2,     0.00,2,     3.08,2,   2348.7,2,   2334.3,2,   7.2763,2,    25.00,     2252
  49UP20160227,RF1602,  5689,  1,     24,  22110,2,20160309,2051, 41.6705, 146.4943, 6270,    605.8,   3.0310,  34.1646,2,  34.1754,4,     31.7,2,   129.42,2,    43.27,2,     0.00,2,     3.09,2,   2358.3,2,   2341.7,2,   7.2867,2,    25.00,     2249
  49UP20160227,RF1602,  5689,  1,     23,  22096,3,20160309,2051, 41.6705, 146.4943, 6270,    705.5,   3.0781,  34.2578,2,  34.2569,2,     32.6,2,   134.34,2,    42.83,2,     0.00,2,     3.06,2,   2362.9,2,   2354.6,2,   7.3094,2,    25.00,     2247
  49UP20160227,RF1602,  5689,  1,     22,  22111,2,20160309,2051, 41.6705, 146.4943, 6270,    806.7,   2.6896,  34.2794,2,  34.2797,2,     36.4,6,   143.13,6,    42.77,6,     0.00,6,     3.07,6,   2368.7,2,   2360.8,2,   7.3100,2,    25.00,     2244
  49UP20160227,RF1602,  5689,  1,     21,  22078,2,20160309,2051, 41.6705, 146.4943, 6270,    907.1,   2.8167,  34.3591,2,  34.3586,2,     33.1,2,   144.60,2,    42.97,2,     0.00,2,     3.06,2,   2371.3,2,   2370.9,2,   7.3251,2,    25.00,     2242
  49UP20160227,RF1602,  5689,  1,     20,  22093,2,20160309,2051, 41.6705, 146.4943, 6270,   1009.5,   2.7172,  34.3953,2,  34.3965,2,     35.1,2,   148.06,2,    42.88,2,     0.00,2,     3.06,2,   2374.8,2,   2377.3,2,   7.3363,2,    25.00,     2239
  49UP20160227,RF1602,  5689,  1,     19,  22092,2,20160309,2051, 41.6705, 146.4943, 6270,   1211.0,   2.4779,  34.4581,2,  34.4591,2,     39.1,2,   155.56,2,    42.81,2,     0.00,2,     3.04,2,   2381.0,2,   2388.4,2,   7.3530,2,    25.00,     2235
  49UP20160227,RF1602,  5689,  1,     18,  22101,2,20160309,2051, 41.6705, 146.4943, 6270,   1415.3,   2.3329,  34.5037,2,  34.5038,2,     45.7,2,   158.82,2,    42.53,2,     0.00,2,     3.02,2,   2381.0,6,   2397.4,6,   7.3710,2,    25.00,     2230
  49UP20160227,RF1602,  5689,  1,     17,  22090,2,20160309,2051, 41.6705, 146.4943, 6270,   1618.5,   2.1609,  34.5458,2,  34.5467,2,     55.2,2,   161.83,2,    42.06,2,     0.00,2,     2.97,2,   2381.9,2,   2405.4,2,   7.3927,6,    25.00,     2226
  49UP20160227,RF1602,  5689,  1,     16,  22089,2,20160309,2051, 41.6705, 146.4943, 6270,   1821.9,   2.0369,  34.5736,2,  34.5734,2,     65.9,2,   163.00,2,    41.55,2,     0.00,2,     2.93,2,   2378.2,2,   2407.8,2,   7.4155,2,    25.00,     2221
  49UP20160227,RF1602,  5689,  1,     15,  22088,3,20160309,2051, 41.6705, 146.4943, 6270,   2024.2,   1.8909,  34.6018,2,  34.6038,2,     79.9,2,   163.22,2,    40.59,2,     0.00,2,     2.86,2,   2374.2,2,   2411.4,2,   7.4444,2,    25.00,     2217
  49UP20160227,RF1602,  5689,  1,     14,  21999,2,20160309,2051, 41.6705, 146.4943, 6270,   2280.5,   1.7514,  34.6273,2,  34.6289,2,     96.7,2,   161.68,2,    39.62,2,     0.00,2,     2.78,2,   2364.4,2,   2414.6,2,   7.4744,2,    25.00,     2211
  49UP20160227,RF1602,  5689,  1,     13,  22667,4,20160309,2051, 41.6705, 146.4943, 6270,   2534.1,   1.6576,  34.6436,2,  34.6336,4,    102.5,4,   160.77,4,    39.27,4,     0.00,4,     2.75,4,   2358.5,4,   2413.8,4,   7.4853,4,    25.00,     2206
  49UP20160227,RF1602,  5689,  1,     12,  22074,2,20160309,2051, 41.6705, 146.4943, 6270,   2789.5,   1.5924,  34.6551,2,  34.6560,2,    120.2,2,   157.69,2,    38.18,2,     0.00,2,     2.66,2,   2349.1,2,   2416.4,2,   7.5225,2,    25.00,     2200
  49UP20160227,RF1602,  5689,  1,     11,  24268,2,20160309,2051, 41.6705, 146.4943, 6270,   3046.9,   1.5385,  34.6646,2,  34.6659,2,    129.4,2,   155.39,2,    37.51,2,     0.00,2,     2.61,2,   2340.8,2,   2419.2,2,   7.5390,2,    25.00,     2155
  49UP20160227,RF1602,  5689,  1,     10,  24267,2,20160309,2051, 41.6705, 146.4943, 6270,   3303.3,   1.5126,  34.6704,2,  34.6719,2,    136.8,3,   153.75,2,    37.07,2,     0.00,2,     2.58,2,   2336.0,2,   2418.1,2,   7.5495,2,    25.00,     2149
  49UP20160227,RF1602,  5689,  1,      9,  23518,2,20160309,2051, 41.6705, 146.4943, 6270,   3558.3,   1.4897,  34.6754,2,  34.6759,2,    141.3,2,   153.44,2,    36.70,2,     0.00,2,     2.55,2,   2334.9,2,   2414.4,2,   7.5567,2,    25.00,     2144
  49UP20160227,RF1602,  5689,  1,      8,  22081,2,20160309,2051, 41.6705, 146.4943, 6270,   3813.0,   1.4692,  34.6806,2,  34.6798,2,    147.8,6,   150.63,6,    36.32,6,     0.00,6,     2.52,6,   2326.9,2,   2415.9,2,   7.5693,2,    25.00,     2138
  49UP20160227,RF1602,  5689,  1,      7,  23516,2,20160309,2051, 41.6705, 146.4943, 6270,   4070.4,   1.4607,  34.6841,2,  34.6845,2,    152.6,2,   149.11,2,    36.01,2,     0.00,2,     2.49,2,   2325.8,2,   2415.4,2,   7.5800,2,    25.00,     2133
  49UP20160227,RF1602,  5689,  1,      6,  22113,2,20160309,2051, 41.6705, 146.4943, 6270,   4583.2,   1.4739,  34.6885,2,  34.6878,2,    158.4,2,   147.13,2,    35.60,2,     0.00,2,     2.46,2,   2319.9,6,   2413.7,6,   7.5853,2,    25.00,     2123
  49UP20160227,RF1602,  5689,  1,      5,  24658,2,20160309,2051, 41.6705, 146.4943, 6270,   5099.5,   1.5194,  34.6904,2,  34.6883,4,    161.0,2,   145.37,2,    35.43,2,     0.00,2,     2.44,2,   2317.9,2,   2410.7,2,   7.5901,6,    25.00,     2113
  49UP20160227,RF1602,  5689,  1,      4,  24471,2,20160309,2051, 41.6705, 146.4943, 6270,   5358.6,   1.5453,  34.6910,2,  34.6917,6,    162.3,2,   144.24,2,    35.32,2,     0.00,2,     2.44,2,   2317.5,2,   2408.8,2,   7.5926,2,    25.00,     2107
  49UP20160227,RF1602,  5689,  1,      3,  22104,2,20160309,2051, 41.6705, 146.4943, 6270,   5615.6,   1.5753,  34.6915,2,  34.6895,4,    162.7,2,   143.67,2,    35.29,2,     0.00,2,     2.43,2,   2315.1,2,   2410.7,2,   7.5886,2,    25.00,     2102
  49UP20160227,RF1602,  5689,  1,      2,  22075,2,20160309,2051, 41.6705, 146.4943, 6270,   5873.2,   1.6089,  34.6916,2,  34.6934,4,    162.9,2,   144.61,2,    35.27,2,     0.00,2,     2.44,2,   2314.1,2,   2411.4,2,   7.5863,2,    25.00,     2057
  49UP20160227,RF1602,  5689,  1,      1,  21997,2,20160309,2051, 41.6705, 146.4943, 6270,   6135.4,   1.6432,  34.6919,2,  34.6921,2,    163.5,2,   143.37,2,    35.27,2,     0.00,2,     2.43,2,   2313.3,2,   2411.8,2,   7.5941,2,    25.00,     2051
  49UP20160227,RF1602,  5693,  1,     99,     99,2,20160310,1209, 42.6483, 145.7175, 2451,      0.0,   0.7247,  32.9788,2,-999.0000,9,    337.4,2,    37.58,2,    21.10,2,     0.12,2,     1.74,2,   -999.0,9,   -999.0,9,-999.0000,9,  -999.00,     1250
  49UP20160227,RF1602,  5693,  1,     33,  24469,3,20160310,1209, 42.6483, 145.7175, 2451,     12.9,   0.7243,  32.9789,2,-999.0000,9,    337.0,2,    37.69,2,    21.12,2,     0.12,2,     1.74,2,   -999.0,9,   -999.0,9,-999.0000,9,  -999.00,     1307
  49UP20160227,RF1602,  5693,  1,     32,  22105,2,20160310,1209, 42.6483, 145.7175, 2451,     26.8,   0.6789,  32.9789,2,  32.9808,2,    336.0,2,    37.76,2,    21.19,2,     0.12,2,     1.74,2,   -999.0,9,   -999.0,9,-999.0000,9,  -999.00,     1306
  49UP20160227,RF1602,  5693,  1,     31,  23515,2,20160310,1209, 42.6483, 145.7175, 2451,     52.9,   0.6785,  32.9822,2,-999.0000,9,    335.3,2,    38.02,2,    21.34,2,     0.12,2,     1.75,2,   -999.0,9,   -999.0,9,-999.0000,9,  -999.00,     1302
  49UP20160227,RF1602,  5693,  1,     30,  22097,3,20160310,1209, 42.6483, 145.7175, 2451,     76.3,   0.8160,  33.0119,2,  33.0083,2,    331.3,2,    40.15,2,    22.68,2,     0.12,2,     1.84,2,   -999.0,9,   -999.0,9,-999.0000,9,  -999.00,     1301
  49UP20160227,RF1602,  5693,  1,     29,  22102,3,20160310,1209, 42.6483, 145.7175, 2451,    102.3,   0.8416,  33.0187,2,-999.0000,9,    331.0,2,    40.65,2,    22.93,2,     0.12,2,     1.85,2,   -999.0,9,   -999.0,9,-999.0000,9,  -999.00,     1300
  49UP20160227,RF1602,  5693,  1,     28,  22108,3,20160310,1209, 42.6483, 145.7175, 2451,    129.8,   0.9164,  33.0373,2,-999.0000,9,    318.1,2,    41.86,2,    23.44,2,     0.11,2,     1.88,2,   -999.0,9,   -999.0,9,-999.0000,9,  -999.00,     1259
  49UP20160227,RF1602,  5693,  1,     27,  21998,3,20160310,1209, 42.6483, 145.7175, 2451,    152.5,   1.0380,  33.0689,2,  33.0642,2,    309.7,2,    43.93,2,    24.10,2,     0.09,2,     1.93,2,   -999.0,9,   -999.0,9,-999.0000,9,  -999.00,     1258
  49UP20160227,RF1602,  5693,  1,     26,  22084,2,20160310,1209, 42.6483, 145.7175, 2451,    153.3,   1.0372,  33.0689,2,  33.0708,2,    309.2,2,    44.07,2,    24.18,2,     0.09,2,     1.93,2,   -999.0,9,   -999.0,9,-999.0000,9,  -999.00,     1258
  49UP20160227,RF1602,  5693,  1,     25,  22098,2,20160310,1209, 42.6483, 145.7175, 2451,    204.4,   2.7252,  33.4363,2,  33.4401,2,    168.5,6,    69.89,6,    34.96,6,     0.01,6,     2.57,6,   -999.0,9,   -999.0,9,-999.0000,9,  -999.00,     1256
  49UP20160227,RF1602,  5693,  1,     21,  22078,2,20160310,1209, 42.6483, 145.7175, 2451,    254.0,   3.2315,  33.6395,2,-999.0000,9,    105.9,2,    83.54,2,    39.48,2,     0.00,2,     2.84,2,   -999.0,9,   -999.0,9,-999.0000,9,  -999.00,     1254
  49UP20160227,RF1602,  5693,  1,     20,  22093,2,20160310,1209, 42.6483, 145.7175, 2451,    304.6,   3.3086,  33.7339,2,  33.7332,2,     79.7,2,    90.06,2,    41.28,2,     0.00,2,     2.94,2,   -999.0,9,   -999.0,9,-999.0000,9,  -999.00,     1253
  49UP20160227,RF1602,  5693,  1,     19,  22092,2,20160310,1209, 42.6483, 145.7175, 2451,    405.8,   3.1120,  33.8447,2,  33.8426,2,     65.2,2,    99.32,2,    41.80,2,     0.00,2,     3.00,2,   -999.0,9,   -999.0,9,-999.0000,9,  -999.00,     1250
  49UP20160227,RF1602,  5693,  1,     15,  22088,2,20160310,1209, 42.6483, 145.7175, 2451,    509.0,   3.4898,  33.9897,2,  33.9932,2,     29.9,2,   109.16,2,    44.11,2,     0.00,2,     3.13,2,   -999.0,9,   -999.0,9,-999.0000,9,  -999.00,     1247
  49UP20160227,RF1602,  5693,  1,     14,  21999,3,20160310,1209, 42.6483, 145.7175, 2451,    609.7,   3.2508,  34.0518,2,  34.0511,2,     33.8,2,   116.71,2,    43.48,2,     0.00,2,     3.09,2,   -999.0,9,   -999.0,9,-999.0000,9,  -999.00,     1244
  49UP20160227,RF1602,  5693,  1,     13,  22667,2,20160310,1209, 42.6483, 145.7175, 2451,    711.0,   2.8972,  34.1132,2,  34.1117,2,     41.7,2,   126.76,2,    42.65,2,     0.00,2,     3.06,2,   -999.0,9,   -999.0,9,-999.0000,9,  -999.00,     1241
  49UP20160227,RF1602,  5693,  1,     12,  22074,2,20160310,1209, 42.6483, 145.7175, 2451,    810.9,   2.7415,  34.1775,2,  34.1762,2,     41.6,2,   134.46,2,    42.49,2,     0.00,2,     3.06,2,   -999.0,9,   -999.0,9,-999.0000,9,  -999.00,     1238
  49UP20160227,RF1602,  5693,  1,     11,  24268,2,20160310,1209, 42.6483, 145.7175, 2451,    912.6,   2.9569,  34.2735,2,  34.2742,2,     25.6,2,   139.20,2,    43.60,2,     0.00,2,     3.10,2,   -999.0,9,   -999.0,9,-999.0000,9,  -999.00,     1235
  49UP20160227,RF1602,  5693,  1,     10,  24267,2,20160310,1209, 42.6483, 145.7175, 2451,   1013.3,   2.7355,  34.3248,2,  34.3240,2,     32.3,2,   145.64,2,    43.25,2,     0.00,2,     3.08,2,   -999.0,9,   -999.0,9,-999.0000,9,  -999.00,     1232
  49UP20160227,RF1602,  5693,  1,      9,  23518,2,20160310,1209, 42.6483, 145.7175, 2451,   1215.4,   2.4964,  34.4019,2,  34.4011,2,     38.9,3,   153.94,2,    42.85,2,     0.00,2,     3.06,2,   -999.0,9,   -999.0,9,-999.0000,9,  -999.00,     1227
  49UP20160227,RF1602,  5693,  1,      8,  22081,2,20160310,1209, 42.6483, 145.7175, 2451,   1216.6,   2.4941,  34.4036,2,  34.4010,2,     38.1,2,   153.96,2,    42.93,2,     0.00,2,     3.06,2,   -999.0,9,   -999.0,9,-999.0000,9,  -999.00,     1227
  49UP20160227,RF1602,  5693,  1,      7,  23516,2,20160310,1209, 42.6483, 145.7175, 2451,   1419.7,   2.3613,  34.4679,2,  34.4671,6,     42.6,2,   158.85,2,    42.75,2,     0.00,2,     3.04,2,   -999.0,9,   -999.0,9,-999.0000,9,  -999.00,     1222
  49UP20160227,RF1602,  5693,  1,      3,  22104,2,20160310,1209, 42.6483, 145.7175, 2451,   1620.5,   2.1818,  34.4975,2,  34.4951,2,     53.2,6,   162.22,6,    41.97,6,     0.00,6,     2.99,6,   -999.0,9,   -999.0,9,-999.0000,9,  -999.00,     1218
  49UP20160227,RF1602,  5693,  1,      2,  22075,2,20160310,1209, 42.6483, 145.7175, 2451,   1824.6,   2.1221,  34.5327,2,  34.5323,6,     56.9,2,   163.68,2,    41.94,2,     0.00,2,     2.97,2,   -999.0,9,   -999.0,9,-999.0000,9,  -999.00,     1214
  49UP20160227,RF1602,  5693,  1,      1,  21997,2,20160310,1209, 42.6483, 145.7175, 2451,   2032.5,   2.0445,  34.5695,2,  34.5683,2,     64.5,2,   163.68,2,    41.58,2,     0.00,2,     2.94,2,   -999.0,9,   -999.0,9,-999.0000,9,  -999.00,     1209
  49UP20160227,RF1602,  5701,  1,     99,     99,2,20160311,1850, 40.9998, 143.0008, 1901,      0.0,   8.3863,  33.8517,2,-999.0000,9,    282.4,2,  -999.00,9,  -999.00,9,  -999.00,9,  -999.00,9,   -999.0,9,   -999.0,9,-999.0000,9,  -999.00,     1855
  49UP20160227,RF1602,  5701,  1,     30,  22097,2,20160311,1850, 40.9998, 143.0008, 1901,     10.4,   8.3895,  33.8522,2,  33.8498,2,    281.6,2,  -999.00,9,  -999.00,9,  -999.00,9,  -999.00,9,   -999.0,9,   -999.0,9,-999.0000,9,  -999.00,     1903
  49UP20160227,RF1602,  5701,  1,     29,  22102,2,20160311,1850, 40.9998, 143.0008, 1901,     25.5,   8.3843,  33.8489,2,  33.8500,2,    281.8,2,  -999.00,9,  -999.00,9,  -999.00,9,  -999.00,9,   -999.0,9,   -999.0,9,-999.0000,9,  -999.00,     1902
  49UP20160227,RF1602,  5701,  1,     28,  22108,2,20160311,1850, 40.9998, 143.0008, 1901,     50.5,   7.8585,  33.7688,2,  33.7410,4,    284.9,2,  -999.00,9,  -999.00,9,  -999.00,9,  -999.00,9,   -999.0,9,   -999.0,9,-999.0000,9,  -999.00,     1901
  49UP20160227,RF1602,  5701,  1,     21,  22078,2,20160311,1850, 40.9998, 143.0008, 1901,     75.9,   7.4333,  33.7085,2,  33.7072,2,    285.3,2,  -999.00,9,  -999.00,9,  -999.00,9,  -999.00,9,   -999.0,9,   -999.0,9,-999.0000,9,  -999.00,     1900
  49UP20160227,RF1602,  5701,  1,     20,  22093,2,20160311,1850, 40.9998, 143.0008, 1901,    102.8,   7.3870,  33.7024,2,  33.7011,2,    285.3,2,  -999.00,9,  -999.00,9,  -999.00,9,  -999.00,9,   -999.0,9,   -999.0,9,-999.0000,9,  -999.00,     1858
  49UP20160227,RF1602,  5701,  1,     19,  22092,2,20160311,1850, 40.9998, 143.0008, 1901,    127.9,   7.3529,  33.6959,2,  33.6962,2,    285.4,2,  -999.00,9,  -999.00,9,  -999.00,9,  -999.00,9,   -999.0,9,   -999.0,9,-999.0000,9,  -999.00,     1857
  49UP20160227,RF1602,  5701,  1,     12,  22074,2,20160311,1850, 40.9998, 143.0008, 1901,    154.0,   7.3650,  33.6962,2,  33.6930,6,    285.5,2,  -999.00,9,  -999.00,9,  -999.00,9,  -999.00,9,   -999.0,9,   -999.0,9,-999.0000,9,  -999.00,     1856
  49UP20160227,RF1602,  5701,  1,     11,  24268,2,20160311,1850, 40.9998, 143.0008, 1901,    204.6,   7.3420,  33.6943,2,  33.6948,6,    285.5,2,  -999.00,9,  -999.00,9,  -999.00,9,  -999.00,9,   -999.0,9,   -999.0,9,-999.0000,9,  -999.00,     1854
  49UP20160227,RF1602,  5701,  1,      2,  22075,3,20160311,1850, 40.9998, 143.0008, 1901,    254.6,   6.3949,  33.5831,2,  33.5781,2,    263.9,2,  -999.00,9,  -999.00,9,  -999.00,9,  -999.00,9,   -999.0,9,   -999.0,9,-999.0000,9,  -999.00,     1852
  49UP20160227,RF1602,  5701,  1,      3,  22104,2,20160311,1850, 40.9998, 143.0008, 1901,    254.7,   6.3738,  33.5817,2,  33.5827,2,    267.0,2,  -999.00,9,  -999.00,9,  -999.00,9,  -999.00,9,   -999.0,9,   -999.0,9,-999.0000,9,  -999.00,     1852
  49UP20160227,RF1602,  5701,  1,      1,  21997,2,20160311,1850, 40.9998, 143.0008, 1901,    306.8,   4.9242,  33.5748,2,  33.5770,2,    223.0,6,  -999.00,9,  -999.00,9,  -999.00,9,  -999.00,9,   -999.0,9,   -999.0,9,-999.0000,9,  -999.00,     1850