BOTTLE,20200306PRINUNIVRMK
EXPOCODE,SECT_ID,STNNBR,CASTNO,SAMPNO,BTLNBR,BTLNBR_FLAG_W,DATE,TIME,LATITUDE,LONGITUDE,DEPTH,CTDPRS,CTDTMP,CTDSAL,CTDSAL_FLAG_W,SALNTY,SALNTY_FLAG_W,OXYGEN,OXYGEN_FLAG_W,SILCAT,SILCAT_FLAG_W,NITRAT,NITRAT_FLAG_W,NITRIT,NITRIT_FLAG_W,PHSPHT,PHSPHT_FLAG_W,TCARBN,TCARBN_FLAG_W,ALKALI,ALKALI_FLAG_W,PH_TOT,PH_TOT_FLAG_W,PH_TMP,BTL_TIME
,,,,,,,,,,,METERS,DBAR,ITS-90,PSS-78,,PSS-78,,UMOL/KG,,UMOL/KG,,UMOL/KG,,UMOL/KG,,UMOL/KG,,UMOL/KG,,UMOL/KG,,,,DEG C,
  49UP20160227,RF1602,  5661,  1,     99,     99,2,20160302,2339, 29.9855, 147.4787, 6188,      0.0,  19.8520,  34.9692,2,  34.9803,2,    227.1,2,     2.03,2,     0.12,2,     0.02,2,     0.05,2,   2006.8,2,   2296.5,2,   8.0286,2,    25.00,      146
  49UP20160227,RF1602,  5661,  1,     36,  22109,2,20160302,2339, 29.9855, 147.4787, 6188,     11.4,  19.8339,  34.9695,2,  34.9685,2,    227.3,2,     1.76,2,     0.05,2,     0.02,2,     0.04,2,   2006.4,2,   2296.5,2,   8.0363,2,    25.00,      210
  49UP20160227,RF1602,  5661,  1,     35,  22112,2,20160302,2339, 29.9855, 147.4787, 6188,     26.4,  19.7899,  34.9665,2,-999.0000,9,    227.1,2,     1.92,2,     0.08,2,     0.02,2,     0.04,2,   2005.6,2,   2295.8,2,   8.0322,2,    25.00,      209
  49UP20160227,RF1602,  5661,  1,     34,  22094,2,20160302,2339, 29.9855, 147.4787, 6188,     50.1,  19.7577,  34.9608,2,  34.9600,2,    226.4,2,     1.88,2,     0.12,2,     0.03,2,     0.04,2,   2006.9,2,   2294.8,2,   8.0317,2,    25.00,      205
  49UP20160227,RF1602,  5661,  1,     33,  24469,2,20160302,2339, 29.9855, 147.4787, 6188,     75.7,  19.3301,  34.8751,2,-999.0000,9,    222.4,2,     2.12,2,     0.62,2,     0.16,2,     0.08,2,   2013.1,2,   2289.2,2,   8.0183,2,    25.00,      204
  49UP20160227,RF1602,  5661,  1,     32,  22105,2,20160302,2339, 29.9855, 147.4787, 6188,    102.4,  18.8773,  34.8451,2,  34.8423,2,    221.7,2,     2.29,2,     0.92,2,     0.24,2,     0.10,2,   2017.2,2,   2287.4,2,   8.0016,2,    25.00,      203
  49UP20160227,RF1602,  5661,  1,     31,  23515,2,20160302,2339, 29.9855, 147.4787, 6188,    127.1,  18.6690,  34.8291,2,-999.0000,9,    229.0,6,     2.25,6,     0.56,6,     0.34,6,     0.09,6,   2005.9,2,   2286.9,2,   8.0162,2,    25.00,      201
  49UP20160227,RF1602,  5661,  1,     30,  22097,2,20160302,2339, 29.9855, 147.4787, 6188,    151.4,  18.3681,  34.8112,2,  34.8082,2,    215.5,2,     2.85,2,     2.24,2,     0.10,2,     0.17,2,   2021.4,2,   2284.7,2,   7.9878,2,    25.00,      200
  49UP20160227,RF1602,  5661,  1,     29,  22102,2,20160302,2339, 29.9855, 147.4787, 6188,    204.3,  17.3367,  34.7441,2,-999.0000,9,    205.4,2,     4.21,2,     4.66,2,     0.01,2,     0.31,2,   2041.3,6,   2280.0,6,   7.9485,2,    25.00,      158
  49UP20160227,RF1602,  5661,  1,     28,  22108,2,20160302,2339, 29.9855, 147.4787, 6188,    251.1,  16.8401,  34.7202,2,  34.7188,2,    209.0,2,     4.93,2,     5.20,2,     0.01,2,     0.35,2,   2043.4,2,   2280.9,2,   7.9423,6,    25.00,      156
  49UP20160227,RF1602,  5661,  1,     27,  21998,2,20160302,2339, 29.9855, 147.4787, 6188,    304.4,  16.3416,  34.6832,2,  34.6815,2,    210.6,2,     5.43,2,     5.70,2,     0.01,2,     0.39,2,   2044.5,2,   2278.3,2,   7.9331,2,    25.00,      154
  49UP20160227,RF1602,  5661,  1,     26,  22084,2,20160302,2339, 29.9855, 147.4787, 6188,    404.1,  14.3837,  34.5182,2,  34.5175,2,    192.3,2,    12.00,2,    10.61,2,     0.01,2,     0.73,2,   2082.0,2,   2275.0,2,   7.8542,2,    25.00,      152
  49UP20160227,RF1602,  5661,  1,     25,  22098,2,20160302,2339, 29.9855, 147.4787, 6188,    506.2,  12.0216,  34.3288,2,  34.3301,2,    189.7,2,    17.86,2,    14.42,2,     0.00,2,     1.00,2,   2118.9,2,   2272.0,2,   7.7827,2,    25.00,      149
  49UP20160227,RF1602,  5661,  1,     24,  22110,2,20160302,2339, 29.9855, 147.4787, 6188,    606.8,   8.8530,  34.1223,2,  34.1238,2,    176.1,2,    35.49,2,    21.11,2,     0.00,2,     1.51,2,   2155.3,2,   2279.2,2,   7.6781,2,    25.00,      146
  49UP20160227,RF1602,  5661,  1,     23,  22096,2,20160302,2339, 29.9855, 147.4787, 6188,    708.2,   6.8101,  34.0318,2,  34.0336,2,    148.9,2,    53.02,2,    27.43,2,     0.00,2,     1.98,2,   2206.3,6,   2287.2,6,   7.5752,2,    25.00,      143
  49UP20160227,RF1602,  5661,  1,     22,  22111,2,20160302,2339, 29.9855, 147.4787, 6188,    808.2,   5.1086,  34.0503,2,  34.0505,2,    101.3,2,    78.22,2,    34.84,2,     0.00,2,     2.51,2,   2266.8,2,   2308.1,2,   7.4446,6,    25.00,      140
  49UP20160227,RF1602,  5661,  1,     21,  22078,2,20160302,2339, 29.9855, 147.4787, 6188,    910.3,   4.4626,  34.1607,2,  34.1592,2,     64.8,2,    97.59,2,    38.88,2,     0.00,2,     2.78,2,   2312.2,2,   2328.5,2,   7.3828,2,    25.00,      138
  49UP20160227,RF1602,  5661,  1,     20,  22093,2,20160302,2339, 29.9855, 147.4787, 6188,   1011.4,   4.0267,  34.2367,2,  34.2370,2,     50.0,2,   110.68,2,    40.65,2,     0.00,2,     2.90,2,   2331.0,2,   2344.1,2,   7.3627,2,    25.00,      135
  49UP20160227,RF1602,  5661,  1,     19,  22092,2,20160302,2339, 29.9855, 147.4787, 6188,   1213.7,   3.2578,  34.3723,2,  34.3716,2,     36.8,2,   132.84,6,    42.55,6,     0.00,6,     3.03,6,   2361.9,2,   2371.3,2,   7.3491,2,    25.00,      130
  49UP20160227,RF1602,  5661,  1,     18,  22101,2,20160302,2339, 29.9855, 147.4787, 6188,   1416.5,   2.7847,  34.4535,2,  34.4537,2,     37.8,2,   146.44,2,    43.01,2,     0.00,2,     3.05,2,   2381.1,2,   2388.3,2,   7.3527,2,    25.00,      125
  49UP20160227,RF1602,  5661,  1,     17,  22090,2,20160302,2339, 29.9855, 147.4787, 6188,   1619.0,   2.4115,  34.5147,2,  34.5144,2,     44.5,2,   156.22,2,    42.88,2,     0.00,2,     3.02,2,   2385.9,2,   2399.6,2,   7.3718,2,    25.00,      120
  49UP20160227,RF1602,  5661,  1,     16,  22089,2,20160302,2339, 29.9855, 147.4787, 6188,   1821.9,   2.1608,  34.5607,2,  34.7511,4,     59.6,2,   160.29,2,    42.03,2,     0.00,2,     2.96,2,   2381.4,2,   2408.6,2,   7.3987,2,    25.00,      115
  49UP20160227,RF1602,  5661,  1,     15,  22088,2,20160302,2339, 29.9855, 147.4787, 6188,   2024.4,   2.0052,  34.5916,2,  34.5908,2,     77.4,2,   158.93,2,    40.91,2,     0.00,2,     2.87,2,   2377.9,2,   2412.0,2,   7.4377,2,    25.00,      110
  49UP20160227,RF1602,  5661,  1,     14,  21999,2,20160302,2339, 29.9855, 147.4787, 6188,   2278.9,   1.8255,  34.6219,2,  34.6218,2,     97.0,2,   157.68,2,    39.65,2,     0.00,2,     2.77,2,   2361.8,2,   2415.2,2,   7.4798,2,    25.00,      103
  49UP20160227,RF1602,  5661,  1,     13,  22667,2,20160302,2339, 29.9855, 147.4787, 6188,   2534.0,   1.7122,  34.6407,2,  34.6404,2,    111.5,6,   155.86,6,    38.77,6,     0.00,6,     2.70,6,   2353.9,2,   2417.8,2,   7.5045,2,    25.00,       57
  49UP20160227,RF1602,  5661,  1,     12,  22074,2,20160302,2339, 29.9855, 147.4787, 6188,   2789.1,   1.6450,  34.6525,2,  34.6528,6,    121.9,2,   153.47,2,    38.09,2,     0.00,2,     2.65,2,   2347.5,2,   2419.6,2,   7.5223,2,    25.00,       51
  49UP20160227,RF1602,  5661,  1,     11,  24268,2,20160302,2339, 29.9855, 147.4787, 6188,   3043.5,   1.5902,  34.6620,2,  34.6618,2,    130.7,2,   151.81,2,    37.53,2,     0.00,2,     2.60,2,   2341.5,2,   2418.4,2,   7.5396,2,    25.00,       45
  49UP20160227,RF1602,  5661,  1,     10,  24267,2,20160302,2339, 29.9855, 147.4787, 6188,   3299.5,   1.5503,  34.6690,2,  34.6689,2,    137.5,2,   150.89,2,    37.13,2,     0.00,2,     2.57,2,   2338.7,2,   2418.8,2,   7.5499,2,    25.00,       39
  49UP20160227,RF1602,  5661,  1,      9,  23518,2,20160302,2339, 29.9855, 147.4787, 6188,   3556.3,   1.5268,  34.6737,2,  34.6736,2,    141.1,2,   150.54,2,    36.86,2,     0.00,2,     2.55,2,   2346.1,3,   2418.0,2,   7.5565,2,    25.00,       33
  49UP20160227,RF1602,  5661,  1,      8,  22081,2,20160302,2339, 29.9855, 147.4787, 6188,   3811.6,   1.5081,  34.6781,2,  34.6772,2,    145.8,2,   149.24,2,    36.52,2,     0.00,2,     2.52,2,   2324.7,3,   2417.8,2,   7.5654,2,    25.00,       28
  49UP20160227,RF1602,  5661,  1,      7,  23516,2,20160302,2339, 29.9855, 147.4787, 6188,   4069.4,   1.4931,  34.6818,2,  34.6819,2,    150.2,2,   148.22,2,    36.25,2,     0.00,2,     2.50,2,   2329.8,2,   2416.3,2,   7.5710,2,    25.00,       22
  49UP20160227,RF1602,  5661,  1,      6,  22113,2,20160302,2339, 29.9855, 147.4787, 6188,   4582.2,   1.4969,  34.6868,2,  34.6870,2,    157.1,2,   145.92,2,    35.80,2,     0.00,2,     2.47,2,   2320.6,6,   2413.2,6,   7.5810,2,    25.00,       12
  49UP20160227,RF1602,  5661,  1,      5,  24658,2,20160302,2339, 29.9855, 147.4787, 6188,   5094.2,   1.5217,  34.6904,2,  34.6910,2,    161.8,2,   143.04,2,    35.43,2,     0.00,2,     2.44,2,   2317.2,2,   2413.4,2,   7.5862,6,    25.00,        1
  49UP20160227,RF1602,  5661,  1,      4,  24471,2,20160302,2339, 29.9855, 147.4787, 6188,   5352.2,   1.5411,  34.6915,2,  34.6914,2,    164.1,2,   141.58,2,    35.22,2,     0.00,2,     2.43,2,   2315.7,2,   2411.4,2,   7.5916,2,    25.00,     2356
  49UP20160227,RF1602,  5661,  1,      3,  22104,2,20160302,2339, 29.9855, 147.4787, 6188,   5611.3,   1.5646,  34.6927,2,  34.6946,4,    166.0,6,   140.36,6,    35.09,6,     0.00,6,     2.43,6,   2318.4,2,   2411.2,2,   7.5929,2,    25.00,     2350
  49UP20160227,RF1602,  5661,  1,      2,  22075,2,20160302,2339, 29.9855, 147.4787, 6188,   5870.1,   1.5909,  34.6934,2,  34.6932,2,    168.0,2,   138.97,2,    34.90,2,     0.00,2,     2.41,2,   2305.0,3,   2408.8,2,   7.5962,2,    25.00,     2345
  49UP20160227,RF1602,  5661,  1,      1,  21997,2,20160302,2339, 29.9855, 147.4787, 6188,   6131.6,   1.6189,  34.6942,2,  34.6944,2,    169.9,2,   137.66,2,    34.83,2,     0.00,2,     2.40,2,   2307.5,2,   2407.3,2,   7.5988,2,    25.00,     2339
  49UP20160227,RF1602,  5663,  1,     99,     99,2,20160303,1111, 30.9962, 147.7105, 6102,      0.0,  18.6396,  34.8491,2,-999.0000,9,    232.2,2,     2.19,2,     0.45,2,     0.18,2,     0.08,2,   -999.0,9,   -999.0,9,-999.0000,9,  -999.00,     1148
  49UP20160227,RF1602,  5663,  1,     36,  22109,2,20160303,1111, 30.9962, 147.7105, 6102,     11.6,  18.6451,  34.8489,2,-999.0000,9,    231.5,2,     2.24,2,     0.48,2,     0.19,2,     0.07,2,   -999.0,9,   -999.0,9,-999.0000,9,  -999.00,     1210
  49UP20160227,RF1602,  5663,  1,     35,  22112,2,20160303,1111, 30.9962, 147.7105, 6102,     26.9,  18.6530,  34.8493,2,-999.0000,9,    231.4,2,     2.22,2,     0.41,2,     0.19,2,     0.08,2,   -999.0,9,   -999.0,9,-999.0000,9,  -999.00,     1209
  49UP20160227,RF1602,  5663,  1,     34,  22094,2,20160303,1111, 30.9962, 147.7105, 6102,     51.5,  18.6555,  34.8490,2,-999.0000,9,    231.3,2,     2.22,2,     0.47,2,     0.19,2,     0.08,2,   -999.0,9,   -999.0,9,-999.0000,9,  -999.00,     1206
  49UP20160227,RF1602,  5663,  1,     33,  24469,2,20160303,1111, 30.9962, 147.7105, 6102,     77.0,  18.6454,  34.8463,2,-999.0000,9,    230.4,2,     2.17,2,     0.48,2,     0.21,2,     0.07,2,   -999.0,9,   -999.0,9,-999.0000,9,  -999.00,     1205
  49UP20160227,RF1602,  5663,  1,     32,  22105,2,20160303,1111, 30.9962, 147.7105, 6102,    100.9,  18.6482,  34.8469,2,-999.0000,9,    230.5,2,     2.22,2,     0.50,2,     0.22,2,     0.08,2,   -999.0,9,   -999.0,9,-999.0000,9,  -999.00,     1203
  49UP20160227,RF1602,  5663,  1,     31,  23515,2,20160303,1111, 30.9962, 147.7105, 6102,    127.4,  18.6452,  34.8451,2,-999.0000,9,    230.3,2,     2.22,2,     0.52,2,     0.23,2,     0.08,2,   -999.0,9,   -999.0,9,-999.0000,9,  -999.00,     1202
  49UP20160227,RF1602,  5663,  1,     30,  22097,2,20160303,1111, 30.9962, 147.7105, 6102,    152.3,  18.1886,  34.7984,2,-999.0000,9,    207.8,2,     3.25,2,     3.12,2,     0.06,2,     0.23,2,   -999.0,9,   -999.0,9,-999.0000,9,  -999.00,     1200
  49UP20160227,RF1602,  5663,  1,     28,  22108,2,20160303,1111, 30.9962, 147.7105, 6102,    203.8,  17.1681,  34.7262,2,-999.0000,9,    201.4,2,     5.03,2,     5.37,2,     0.01,2,     0.37,2,   -999.0,9,   -999.0,9,-999.0000,9,  -999.00,     1158
  49UP20160227,RF1602,  5663,  1,     29,  22102,2,20160303,1111, 30.9962, 147.7105, 6102,    204.8,  17.1587,  34.7266,2,-999.0000,9,    201.3,2,     5.11,2,     5.37,2,     0.01,2,     0.36,2,   -999.0,9,   -999.0,9,-999.0000,9,  -999.00,     1158
  49UP20160227,RF1602,  5663,  1,     24,  22110,2,20160303,1111, 30.9962, 147.7105, 6102,    253.3,  16.7449,  34.7227,2,-999.0000,9,    213.8,2,     4.52,2,     4.80,2,     0.01,2,     0.32,2,   -999.0,9,   -999.0,9,-999.0000,9,  -999.00,     1156
  49UP20160227,RF1602,  5663,  1,     23,  22096,2,20160303,1111, 30.9962, 147.7105, 6102,    302.7,  15.9977,  34.6415,2,-999.0000,9,    197.8,6,     7.51,6,     7.47,6,     0.01,6,     0.50,6,   -999.0,9,   -999.0,9,-999.0000,9,  -999.00,     1154
  49UP20160227,RF1602,  5663,  1,     22,  22111,2,20160303,1111, 30.9962, 147.7105, 6102,    404.3,  14.1122,  34.5028,2,-999.0000,9,    184.0,2,    14.17,2,    11.81,2,     0.00,2,     0.81,2,   -999.0,9,   -999.0,9,-999.0000,9,  -999.00,     1152
  49UP20160227,RF1602,  5663,  1,     18,  22101,2,20160303,1111, 30.9962, 147.7105, 6102,    506.5,  10.9606,  34.2668,2,-999.0000,9,    184.2,2,    23.75,2,    16.68,2,     0.00,2,     1.17,2,   -999.0,9,   -999.0,9,-999.0000,9,  -999.00,     1149
  49UP20160227,RF1602,  5663,  1,     17,  22090,2,20160303,1111, 30.9962, 147.7105, 6102,    606.2,   8.2505,  34.0861,2,-999.0000,9,    170.8,2,    39.14,2,    22.61,2,     0.00,2,     1.62,2,   -999.0,9,   -999.0,9,-999.0000,9,  -999.00,     1146
  49UP20160227,RF1602,  5663,  1,     16,  22089,2,20160303,1111, 30.9962, 147.7105, 6102,    707.5,   5.9441,  34.0048,2,-999.0000,9,    134.3,2,    61.53,2,    30.27,2,     0.00,2,     2.18,2,   -999.0,9,   -999.0,9,-999.0000,9,  -999.00,     1143
  49UP20160227,RF1602,  5663,  1,     15,  22088,2,20160303,1111, 30.9962, 147.7105, 6102,    808.7,   4.9395,  34.0689,2,-999.0000,9,     94.0,2,    82.50,2,    35.67,2,     0.00,2,     2.56,2,   -999.0,9,   -999.0,9,-999.0000,9,  -999.00,     1140
  49UP20160227,RF1602,  5663,  1,     14,  21999,2,20160303,1111, 30.9962, 147.7105, 6102,    909.8,   4.3356,  34.1794,2,-999.0000,9,     61.5,2,   101.04,2,    39.26,2,     0.00,2,     2.80,2,   -999.0,9,   -999.0,9,-999.0000,9,  -999.00,     1137
  49UP20160227,RF1602,  5663,  1,     13,  22667,2,20160303,1111, 30.9962, 147.7105, 6102,   1010.9,   3.8601,  34.2667,2,-999.0000,9,     45.4,2,   115.33,2,    41.07,2,     0.00,2,     2.93,2,   -999.0,9,   -999.0,9,-999.0000,9,  -999.00,     1134
  49UP20160227,RF1602,  5663,  1,     11,  24268,2,20160303,1111, 30.9962, 147.7105, 6102,   1214.8,   3.1714,  34.3804,2,-999.0000,9,     36.1,2,   135.12,2,    42.59,2,     0.00,2,     3.03,2,   -999.0,9,   -999.0,9,-999.0000,9,  -999.00,     1129
  49UP20160227,RF1602,  5663,  1,     12,  22074,3,20160303,1111, 30.9962, 147.7105, 6102,   1216.5,   3.1664,  34.3811,2,-999.0000,9,     35.7,2,   135.05,2,    42.56,2,     0.00,2,     3.03,2,   -999.0,9,   -999.0,9,-999.0000,9,  -999.00,     1130
  49UP20160227,RF1602,  5663,  1,     10,  24267,2,20160303,1111, 30.9962, 147.7105, 6102,   1415.6,   2.7612,  34.4529,2,-999.0000,9,     36.4,6,   146.81,6,    43.05,6,     0.00,6,     3.05,6,   -999.0,9,   -999.0,9,-999.0000,9,  -999.00,     1125
  49UP20160227,RF1602,  5663,  1,      6,  22113,2,20160303,1111, 30.9962, 147.7105, 6102,   1618.7,   2.4070,  34.5182,2,-999.0000,9,     46.7,2,   155.38,2,    42.65,2,     0.00,2,     3.01,2,   -999.0,9,   -999.0,9,-999.0000,9,  -999.00,     1120
  49UP20160227,RF1602,  5663,  1,      5,  24658,2,20160303,1111, 30.9962, 147.7105, 6102,   1821.0,   2.1991,  34.5586,2,-999.0000,9,     61.4,2,   157.85,2,    41.85,2,     0.00,2,     2.95,2,   -999.0,9,   -999.0,9,-999.0000,9,  -999.00,     1116
  49UP20160227,RF1602,  5663,  1,      4,  24471,2,20160303,1111, 30.9962, 147.7105, 6102,   2029.8,   2.0115,  34.5908,2,-999.0000,9,     77.4,2,   158.88,2,    40.90,2,     0.00,2,     2.87,2,   -999.0,9,   -999.0,9,-999.0000,9,  -999.00,     1111