BOTTLE,20200306PRINUNIVRMK
EXPOCODE,SECT_ID,STNNBR,CASTNO,SAMPNO,BTLNBR,BTLNBR_FLAG_W,DATE,TIME,LATITUDE,LONGITUDE,DEPTH,CTDPRS,CTDTMP,CTDSAL,CTDSAL_FLAG_W,SALNTY,SALNTY_FLAG_W,OXYGEN,OXYGEN_FLAG_W,SILCAT,SILCAT_FLAG_W,NITRAT,NITRAT_FLAG_W,NITRIT,NITRIT_FLAG_W,PHSPHT,PHSPHT_FLAG_W,TCARBN,TCARBN_FLAG_W,ALKALI,ALKALI_FLAG_W,PH_TOT,PH_TOT_FLAG_W,PH_TMP,BTL_TIME
,,,,,,,,,,,METERS,DBAR,ITS-90,PSS-78,,PSS-78,,UMOL/KG,,UMOL/KG,,UMOL/KG,,UMOL/KG,,UMOL/KG,,UMOL/KG,,UMOL/KG,,,,DEG C,
  49UP20160227,RF1602,  5678,  1,     99,     99,2,20160307,0627, 37.9920, 148.9823, 5824,      0.0,  14.1448,  34.5739,2,  34.5788,2,    247.3,2,     7.15,2,     5.43,2,     0.08,2,     0.42,2,   2043.8,2,   2279.0,2,   7.9294,2,    25.00,      705
  49UP20160227,RF1602,  5678,  1,     33,  24469,3,20160307,0627, 37.9920, 148.9823, 5824,      9.9,  14.1462,  34.5740,2,  34.5730,2,    246.8,2,     7.23,2,     5.40,2,     0.08,2,     0.40,2,   2045.5,2,   2278.6,2,   7.9296,2,    25.00,      724
  49UP20160227,RF1602,  5678,  1,     32,  22105,2,20160307,0627, 37.9920, 148.9823, 5824,     25.6,  14.1516,  34.5718,2,-999.0000,9,    246.3,2,     7.09,2,     5.40,2,     0.08,2,     0.40,2,   2047.3,2,   2277.7,2,   7.9265,2,    25.00,      723
  49UP20160227,RF1602,  5678,  1,     31,  23515,2,20160307,0627, 37.9920, 148.9823, 5824,     50.4,  14.1006,  34.5688,2,  34.5682,2,    246.2,2,     7.17,2,     5.45,2,     0.08,2,     0.40,2,   2046.7,2,   2280.2,2,   7.9320,2,    25.00,      722
  49UP20160227,RF1602,  5678,  1,     30,  22097,2,20160307,0627, 37.9920, 148.9823, 5824,     75.9,  13.9412,  34.5535,2,-999.0000,9,    246.2,2,     7.39,2,     5.52,2,     0.10,2,     0.41,2,   2047.9,2,   2277.9,2,   7.9256,2,    25.00,      721
  49UP20160227,RF1602,  5678,  1,     29,  22102,2,20160307,0627, 37.9920, 148.9823, 5824,     98.1,  13.8916,  34.5470,2,  34.5481,2,    246.3,2,     7.39,2,     5.55,2,     0.11,2,     0.42,2,   2044.9,2,   2279.2,2,   7.9337,2,    25.00,      718
  49UP20160227,RF1602,  5678,  1,     28,  22108,2,20160307,0627, 37.9920, 148.9823, 5824,    125.2,  13.8838,  34.5454,2,-999.0000,9,    246.0,2,     7.41,2,     5.56,2,     0.11,2,     0.42,2,   2050.9,2,   2277.4,2,   7.9257,2,    25.00,      717
  49UP20160227,RF1602,  5678,  1,     27,  21998,2,20160307,0627, 37.9920, 148.9823, 5824,    151.2,  13.8840,  34.5447,2,  34.5425,2,    245.6,2,     7.50,2,     5.63,2,     0.11,2,     0.42,2,   2048.7,6,   2278.4,6,   7.9265,2,    25.00,      716
  49UP20160227,RF1602,  5678,  1,     26,  22084,2,20160307,0627, 37.9920, 148.9823, 5824,    200.4,  13.8336,  34.5316,2,-999.0000,9,    242.1,2,     8.12,2,     6.09,2,     0.11,2,     0.45,2,   2052.2,2,   2278.6,2,   7.9190,6,    25.00,      714
  49UP20160227,RF1602,  5678,  1,     25,  22098,2,20160307,0627, 37.9920, 148.9823, 5824,    252.5,  13.2564,  34.4841,2,  34.4829,2,    245.5,2,     9.19,2,     6.68,2,     0.20,2,     0.51,2,   2055.1,2,   2278.8,2,   7.9081,2,    25.00,      713
  49UP20160227,RF1602,  5678,  1,     21,  22078,2,20160307,0627, 37.9920, 148.9823, 5824,    301.5,  12.5933,  34.3719,2,  34.3721,2,    228.5,2,    12.90,2,     9.37,2,     0.04,2,     0.69,2,   2074.7,2,   2274.6,2,   7.8667,2,    25.00,      711
  49UP20160227,RF1602,  5678,  1,     19,  22092,2,20160307,0627, 37.9920, 148.9823, 5824,    403.4,   9.5519,  34.1413,2,  34.1421,2,    185.2,2,    31.23,2,    19.02,2,     0.01,2,     1.37,2,   2144.5,2,   2276.5,2,   7.7041,2,    25.00,      708
  49UP20160227,RF1602,  5678,  1,     20,  22093,2,20160307,0627, 37.9920, 148.9823, 5824,    405.6,   9.5190,  34.1397,2,  34.1417,2,    185.5,2,    31.10,2,    19.01,2,     0.01,2,     1.37,2,   2145.1,2,   2277.5,2,   7.7079,2,    25.00,      709
  49UP20160227,RF1602,  5678,  1,     15,  22088,2,20160307,0627, 37.9920, 148.9823, 5824,    505.0,   6.5652,  34.0101,2,  34.0104,2,    147.4,2,    55.55,2,    27.98,2,     0.00,2,     2.03,2,   2209.5,2,   2289.6,2,   7.5585,2,    25.00,      706
  49UP20160227,RF1602,  5678,  1,     14,  21999,2,20160307,0627, 37.9920, 148.9823, 5824,    606.0,   5.3433,  34.0749,2,  34.0741,2,    105.1,6,    76.91,6,    33.94,6,     0.00,6,     2.45,6,   2263.4,2,   2309.5,2,   7.4598,2,    25.00,      703
  49UP20160227,RF1602,  5678,  1,     13,  22667,2,20160307,0627, 37.9920, 148.9823, 5824,    707.9,   4.6148,  34.1553,2,  34.1438,4,     73.9,2,    94.62,2,    37.84,2,     0.00,2,     2.71,2,   2298.9,2,   2324.8,2,   7.4015,2,    25.00,      700
  49UP20160227,RF1602,  5678,  1,     12,  22074,2,20160307,0627, 37.9920, 148.9823, 5824,    810.0,   4.3159,  34.2409,2,  34.2423,2,     61.8,2,   105.02,2,    39.07,2,     0.00,2,     2.80,2,   2315.3,2,   2340.1,2,   7.3917,2,    25.00,      657
  49UP20160227,RF1602,  5678,  1,     11,  24268,2,20160307,0627, 37.9920, 148.9823, 5824,    910.7,   3.7210,  34.2800,2,  34.2798,6,     46.9,2,   119.08,2,    41.05,2,     0.00,2,     2.94,2,   2350.6,3,   2351.0,2,   7.3591,2,    25.00,      655
  49UP20160227,RF1602,  5678,  1,     10,  24267,2,20160307,0627, 37.9920, 148.9823, 5824,   1012.7,   3.4600,  34.3263,2,  34.3271,2,     43.2,2,   126.70,2,    41.69,2,     0.00,2,     2.98,2,   2352.1,2,   2362.1,2,   7.3540,2,    25.00,      652
  49UP20160227,RF1602,  5678,  1,      9,  23518,2,20160307,0627, 37.9920, 148.9823, 5824,   1215.4,   2.9952,  34.3999,2,  34.3993,6,     39.9,2,   140.12,2,    42.46,2,     0.00,2,     3.03,2,   2368.3,2,   2378.3,2,   7.3505,2,    25.00,      647
  49UP20160227,RF1602,  5678,  1,      8,  22081,2,20160307,0627, 37.9920, 148.9823, 5824,   1417.4,   2.6153,  34.4720,2,  34.4713,2,     41.4,2,   150.57,2,    42.68,2,     0.00,2,     3.03,2,   2379.9,6,   2393.7,6,   7.3628,2,    25.00,      642
  49UP20160227,RF1602,  5678,  1,      7,  23516,2,20160307,0627, 37.9920, 148.9823, 5824,   1619.9,   2.3675,  34.5178,2,  34.5171,2,     47.4,2,   156.64,2,    42.53,2,     0.00,2,     3.01,2,   2380.1,2,   2400.1,2,   7.3764,6,    25.00,      637
  49UP20160227,RF1602,  5678,  1,      3,  22104,2,20160307,0627, 37.9920, 148.9823, 5824,   1823.8,   2.1600,  34.5577,2,  34.5579,2,     59.7,6,   160.12,6,    41.87,2,     0.00,6,     2.96,6,   2378.5,2,   2406.4,2,   7.3998,2,    25.00,      633
  49UP20160227,RF1602,  5678,  1,      2,  22075,2,20160307,0627, 37.9920, 148.9823, 5824,   2025.0,   2.0275,  34.5819,2,  34.5818,2,     69.5,2,   161.65,2,    41.37,2,     0.00,2,     2.91,2,   2378.1,2,   2411.8,2,   7.4207,2,    25.00,      627
  49UP20160227,RF1602,  5678,  1,      1,  21997,2,20160307,0627, 37.9920, 148.9823, 5824,   2025.1,   2.0273,  34.5819,2,  34.5823,2,     69.2,2,   161.68,2,    41.39,2,     0.00,2,     2.91,2,   2377.6,2,   2409.9,2,   7.4232,2,    25.00,      627
  49UP20160227,RF1602,  5681,  1,     99,     99,2,20160307,1805, 39.0060, 148.3513, 5530,      0.0,  17.0148,  34.7938,2,-999.0000,9,    229.5,2,     5.21,2,     3.77,2,     0.25,2,     0.30,2,   -999.0,9,   -999.0,9,-999.0000,9,  -999.00,     1845
  49UP20160227,RF1602,  5681,  1,     33,  24469,2,20160307,1805, 39.0060, 148.3513, 5530,     10.4,  17.0252,  34.7938,2,-999.0000,9,    228.2,2,     5.03,2,     3.61,2,     0.25,2,     0.28,2,   -999.0,9,   -999.0,9,-999.0000,9,  -999.00,     1907
  49UP20160227,RF1602,  5681,  1,     32,  22105,2,20160307,1805, 39.0060, 148.3513, 5530,     25.2,  17.0172,  34.7913,2,-999.0000,9,    227.3,2,     5.15,2,     3.67,2,     0.25,2,     0.28,2,   -999.0,9,   -999.0,9,-999.0000,9,  -999.00,     1905
  49UP20160227,RF1602,  5681,  1,     31,  23515,2,20160307,1805, 39.0060, 148.3513, 5530,     50.1,  16.9438,  34.7831,2,-999.0000,9,    226.8,2,     5.35,2,     3.91,2,     0.24,2,     0.30,2,   -999.0,9,   -999.0,9,-999.0000,9,  -999.00,     1904
  49UP20160227,RF1602,  5681,  1,     30,  22097,2,20160307,1805, 39.0060, 148.3513, 5530,     75.7,  16.7677,  34.7768,2,-999.0000,9,    227.3,2,     5.65,2,     4.06,2,     0.25,2,     0.31,2,   -999.0,9,   -999.0,9,-999.0000,9,  -999.00,     1903
  49UP20160227,RF1602,  5681,  1,     29,  22102,2,20160307,1805, 39.0060, 148.3513, 5530,    101.1,  16.7343,  34.7784,2,-999.0000,9,    228.6,2,     5.61,2,     4.00,2,     0.25,2,     0.31,2,   -999.0,9,   -999.0,9,-999.0000,9,  -999.00,     1902
  49UP20160227,RF1602,  5681,  1,     28,  22108,2,20160307,1805, 39.0060, 148.3513, 5530,    126.0,  16.6996,  34.7742,2,-999.0000,9,    229.0,6,     5.70,6,     4.06,6,     0.25,6,     0.32,6,   -999.0,9,   -999.0,9,-999.0000,9,  -999.00,     1900
  49UP20160227,RF1602,  5681,  1,     27,  21998,2,20160307,1805, 39.0060, 148.3513, 5530,    152.3,  16.6776,  34.7709,2,-999.0000,9,    229.0,2,     5.86,2,     4.15,2,     0.24,2,     0.32,2,   -999.0,9,   -999.0,9,-999.0000,9,  -999.00,     1859
  49UP20160227,RF1602,  5681,  1,     26,  22084,2,20160307,1805, 39.0060, 148.3513, 5530,    202.9,  16.1603,  34.6861,2,-999.0000,9,    205.7,2,     8.50,2,     6.98,2,     0.12,2,     0.50,2,   -999.0,9,   -999.0,9,-999.0000,9,  -999.00,     1855
  49UP20160227,RF1602,  5681,  1,     25,  22098,2,20160307,1805, 39.0060, 148.3513, 5530,    254.4,  13.9244,  34.5169,2,-999.0000,9,    211.1,2,    13.06,2,     9.55,2,     0.08,2,     0.68,2,   -999.0,9,   -999.0,9,-999.0000,9,  -999.00,     1853
  49UP20160227,RF1602,  5681,  1,     20,  22093,2,20160307,1805, 39.0060, 148.3513, 5530,    305.1,  11.3313,  34.2317,2,-999.0000,9,    229.9,2,    15.24,2,    10.47,2,     0.03,2,     0.76,2,   -999.0,9,   -999.0,9,-999.0000,9,  -999.00,     1851
  49UP20160227,RF1602,  5681,  1,     21,  22078,2,20160307,1805, 39.0060, 148.3513, 5530,    307.4,  11.2935,  34.2263,2,-999.0000,9,    229.8,2,    15.22,2,    10.47,2,     0.03,2,     0.76,2,   -999.0,9,   -999.0,9,-999.0000,9,  -999.00,     1852
  49UP20160227,RF1602,  5681,  1,     19,  22092,2,20160307,1805, 39.0060, 148.3513, 5530,    403.1,   8.7284,  34.0830,2,-999.0000,9,    180.2,6,    35.49,6,    20.68,6,     0.01,6,     1.49,6,   -999.0,9,   -999.0,9,-999.0000,9,  -999.00,     1849
  49UP20160227,RF1602,  5681,  1,     15,  22088,2,20160307,1805, 39.0060, 148.3513, 5530,    506.0,   6.0522,  33.9610,2,-999.0000,9,    145.3,2,    58.61,2,    28.99,2,     0.00,2,     2.11,2,   -999.0,9,   -999.0,9,-999.0000,9,  -999.00,     1846
  49UP20160227,RF1602,  5681,  1,     14,  21999,2,20160307,1805, 39.0060, 148.3513, 5530,    606.8,   5.3482,  34.0742,2,-999.0000,9,    105.5,2,    76.45,2,    33.86,2,     0.00,2,     2.44,2,   -999.0,9,   -999.0,9,-999.0000,9,  -999.00,     1843
  49UP20160227,RF1602,  5681,  1,     13,  22667,2,20160307,1805, 39.0060, 148.3513, 5530,    708.6,   4.6677,  34.1823,2,-999.0000,9,     73.5,2,    95.17,2,    37.71,2,     0.00,2,     2.70,2,   -999.0,9,   -999.0,9,-999.0000,9,  -999.00,     1840
  49UP20160227,RF1602,  5681,  1,     12,  22074,2,20160307,1805, 39.0060, 148.3513, 5530,    809.1,   4.2636,  34.2821,2,-999.0000,9,     61.5,2,   107.80,2,    39.17,2,     0.00,2,     2.80,2,   -999.0,9,   -999.0,9,-999.0000,9,  -999.00,     1837
  49UP20160227,RF1602,  5681,  1,     11,  24268,2,20160307,1805, 39.0060, 148.3513, 5530,    911.4,   3.8421,  34.3266,2,-999.0000,9,     54.3,2,   117.26,2,    40.36,2,     0.00,2,     2.88,2,   -999.0,9,   -999.0,9,-999.0000,9,  -999.00,     1834
  49UP20160227,RF1602,  5681,  1,     10,  24267,3,20160307,1805, 39.0060, 148.3513, 5530,   1013.6,   3.4595,  34.3630,2,-999.0000,9,     48.9,2,   126.54,2,    41.11,2,     0.00,2,     2.94,2,   -999.0,9,   -999.0,9,-999.0000,9,  -999.00,     1831
  49UP20160227,RF1602,  5681,  1,      9,  23518,2,20160307,1805, 39.0060, 148.3513, 5530,   1212.7,   2.9341,  34.4212,2,-999.0000,9,     39.9,2,   141.37,2,    42.59,2,     0.00,2,     3.03,2,   -999.0,9,   -999.0,9,-999.0000,9,  -999.00,     1826
  49UP20160227,RF1602,  5681,  1,      8,  22081,2,20160307,1805, 39.0060, 148.3513, 5530,   1417.4,   2.6080,  34.4745,2,-999.0000,9,     42.4,2,   150.47,2,    42.64,2,     0.00,2,     3.04,2,   -999.0,9,   -999.0,9,-999.0000,9,  -999.00,     1821
  49UP20160227,RF1602,  5681,  1,      7,  23516,2,20160307,1805, 39.0060, 148.3513, 5530,   1623.2,   2.3078,  34.5282,2,-999.0000,9,     50.1,2,   157.87,2,    42.46,2,     0.00,2,     3.00,2,   -999.0,9,   -999.0,9,-999.0000,9,  -999.00,     1816
  49UP20160227,RF1602,  5681,  1,      3,  22104,2,20160307,1805, 39.0060, 148.3513, 5530,   1821.0,   2.1323,  34.5623,2,-999.0000,9,     61.4,2,   160.33,2,    41.78,2,     0.00,2,     2.94,2,   -999.0,9,   -999.0,9,-999.0000,9,  -999.00,     1810
  49UP20160227,RF1602,  5681,  1,      2,  22075,2,20160307,1805, 39.0060, 148.3513, 5530,   1822.2,   2.1317,  34.5622,2,-999.0000,9,     61.9,2,   160.22,2,    41.81,2,     0.00,2,     2.94,2,   -999.0,9,   -999.0,9,-999.0000,9,  -999.00,     1810
  49UP20160227,RF1602,  5681,  1,      1,  21997,2,20160307,1805, 39.0060, 148.3513, 5530,   2027.9,   1.9863,  34.5881,2,-999.0000,9,     72.4,2,   162.06,2,    41.21,2,     0.00,2,     2.89,2,   -999.0,9,   -999.0,9,-999.0000,9,  -999.00,     1805