BOTTLE,20200306PRINUNIVRMK
# 08/30/2019 Initialized README file  
# Data source:  Masao Ishii 2018/11/30 
# SHIP: R/V Ryofu Maru III 
# Cruise: RF16.02 
# Region: North Pacific Ocean 
# EXPOCODE: 49UP20160227 
# DATES: 20160227-20160324 
# Chief Scientist: Keizo Shutta 
# 17 stations with 36 place Rosette 
# CTD: Who - Kazuhiro Nemoto; Status - final 
# 	Includes: CTDSAL 
# SALNTY: Who - Kazuhiro Nemoto; Status - final 
# 	Notes: 	 
# Nutrients: Who - Kazuhiro Nemoto; Status - final 
# 	Includes: nitrate, nitrite, silicate, phosphate 
# 	Nitrite and NO3+NO2 reported. Separated by subtraction 
# OXYGEN: Who - Kazuhiro Nemoto; Status - final 
# 	Notes: 
# TCARBN: Who - Kazuhiro Nemoto; Status - final 
# 	Notes:  
# ALKALI: Who - Kazuhiro Nemoto; Status - final 
# 	Notes:  
# PH: Who - Kazuhiro Nemoto; Status - final 
# 	Notes: total H+ scale at 25C 
# These data should be cited as:               
# References that have used data from this cruise: 
EXPOCODE,SECT_ID,STNNBR,CASTNO,SAMPNO,BTLNBR,BTLNBR_FLAG_W,DATE,TIME,LATITUDE,LONGITUDE,DEPTH,CTDPRS,CTDTMP,CTDSAL,CTDSAL_FLAG_W,SALNTY,SALNTY_FLAG_W,OXYGEN,OXYGEN_FLAG_W,SILCAT,SILCAT_FLAG_W,NITRAT,NITRAT_FLAG_W,NITRIT,NITRIT_FLAG_W,PHSPHT,PHSPHT_FLAG_W,TCARBN,TCARBN_FLAG_W,ALKALI,ALKALI_FLAG_W,PH_TOT,PH_TOT_FLAG_W,PH_TMP,BTL_TIME
,,,,,,,,,,,METERS,DBAR,ITS-90,PSS-78,,PSS-78,,UMOL/KG,,UMOL/KG,,UMOL/KG,,UMOL/KG,,UMOL/KG,,UMOL/KG,,UMOL/KG,,,,DEG C,
  49UP20160227,RF1602,  5657,  1,     99,     99,2,20160229,0334, 28.0125, 146.9905, 5737,      0.0,  23.1338,  35.1760,2,  35.1926,2,    215.2,2,     1.35,2,     0.05,2,     0.00,2,     0.06,2,   1997.5,2,   2307.7,2,   8.0723,2,    25.00,      532
  49UP20160227,RF1602,  5657,  1,     36,  22109,2,20160229,0334, 28.0125, 146.9905, 5737,     11.9,  23.1395,  35.1762,2,-999.0000,9,    215.2,2,     1.42,2,     0.00,2,     0.00,2,     0.02,2,   1996.8,2,   2307.4,2,   8.0719,2,    25.00,      604
  49UP20160227,RF1602,  5657,  1,     35,  22112,2,20160229,0334, 28.0125, 146.9905, 5737,     25.8,  23.1231,  35.1748,2,  35.1735,2,    215.4,2,     1.39,2,     0.00,2,     0.00,2,     0.02,2,   1997.0,2,   2306.7,2,   8.0688,2,    25.00,      603
  49UP20160227,RF1602,  5657,  1,     34,  22094,2,20160229,0334, 28.0125, 146.9905, 5737,     51.9,  23.0871,  35.1738,2,-999.0000,9,    215.2,2,     1.42,2,     0.00,2,     0.00,2,     0.02,2,   1997.1,2,   2307.8,2,   8.0686,2,    25.00,      602
  49UP20160227,RF1602,  5657,  1,     33,  24469,2,20160229,0334, 28.0125, 146.9905, 5737,     76.4,  23.0826,  35.2042,2,  35.2035,2,    214.8,2,     1.31,2,     0.00,2,     0.00,2,     0.02,2,   1995.4,6,   2309.4,6,   8.0722,2,    25.00,      600
  49UP20160227,RF1602,  5657,  1,     32,  22105,2,20160229,0334, 28.0125, 146.9905, 5737,    103.0,  21.9297,  35.0275,2,-999.0000,9,    212.3,2,     1.75,2,     0.02,2,     0.01,2,     0.04,2,   2009.7,2,   2298.6,2,   8.0442,6,    25.00,      558
  49UP20160227,RF1602,  5657,  1,     31,  23515,2,20160229,0334, 28.0125, 146.9905, 5737,    127.0,  20.2054,  34.9864,2,  34.9774,4,    203.8,2,     2.27,2,     1.12,2,     0.05,2,     0.12,2,   2030.9,2,   2296.3,2,   7.9962,2,    25.00,      556
  49UP20160227,RF1602,  5657,  1,     30,  22097,2,20160229,0334, 28.0125, 146.9905, 5737,    154.4,  19.1277,  34.9016,2,-999.0000,9,    202.1,2,     2.56,2,     1.88,2,     0.02,2,     0.17,2,   2036.7,2,   2290.4,2,   7.9758,2,    25.00,      554
  49UP20160227,RF1602,  5657,  1,     29,  22102,2,20160229,0334, 28.0125, 146.9905, 5737,    202.9,  17.5905,  34.7764,2,  34.7838,2,    204.1,6,     3.46,6,     3.78,6,     0.01,6,     0.28,6,   2044.6,2,   2284.1,2,   7.9495,2,    25.00,      549
  49UP20160227,RF1602,  5657,  1,     28,  22108,2,20160229,0334, 28.0125, 146.9905, 5737,    256.6,  16.6631,  34.6955,2,-999.0000,9,    206.8,2,     4.52,2,     5.13,2,     0.00,2,     0.36,2,   2042.9,2,   2278.6,2,   7.9376,2,    25.00,      546
  49UP20160227,RF1602,  5657,  1,     27,  21998,2,20160229,0334, 28.0125, 146.9905, 5737,    306.8,  16.0096,  34.6376,2,  34.6753,4,    205.3,2,     5.95,2,     6.40,2,     0.00,2,     0.45,2,   2054.9,6,   2275.7,6,   7.9147,2,    25.00,      543
  49UP20160227,RF1602,  5657,  1,     26,  22084,2,20160229,0334, 28.0125, 146.9905, 5737,    405.3,  14.2656,  34.4918,2,  34.4971,2,    197.8,2,    10.38,2,     9.83,2,     0.00,2,     0.68,2,   2075.9,2,   2270.1,2,   7.8608,6,    25.00,      539
  49UP20160227,RF1602,  5657,  1,     25,  22098,2,20160229,0334, 28.0125, 146.9905, 5737,    508.7,  11.4462,  34.2822,2,  34.2886,2,    190.1,2,    18.59,2,    15.14,2,     0.00,2,     1.06,2,   2114.7,2,   2268.5,2,   7.7691,2,    25.00,      535
  49UP20160227,RF1602,  5657,  1,     24,  22110,2,20160229,0334, 28.0125, 146.9905, 5737,    608.9,   9.0962,  34.1410,2,  34.1445,2,    171.5,2,    31.93,2,    21.04,2,     0.00,2,     1.51,2,   2155.4,2,   2274.7,2,   7.6785,2,    25.00,      532
  49UP20160227,RF1602,  5657,  1,     23,  22096,2,20160229,0334, 28.0125, 146.9905, 5737,    710.5,   6.2784,  34.0475,2,  34.0516,2,    124.7,6,    60.02,6,    30.49,6,     0.00,6,     2.21,6,   2229.7,2,   2292.5,2,   7.5208,2,    25.00,      528
  49UP20160227,RF1602,  5657,  1,     22,  22111,2,20160229,0334, 28.0125, 146.9905, 5737,    812.3,   5.1250,  34.1112,2,  34.1972,4,     85.1,2,    81.94,2,    36.05,2,     0.00,2,     2.60,2,   2278.9,2,   2313.5,2,   7.4281,2,    25.00,      525
  49UP20160227,RF1602,  5657,  1,     21,  22078,2,20160229,0334, 28.0125, 146.9905, 5737,    911.3,   4.5166,  34.1644,2,  34.1662,2,     66.4,2,    96.28,2,    38.54,2,     0.00,2,     2.77,2,   2306.5,2,   2326.6,2,   7.3908,2,    25.00,      522
  49UP20160227,RF1602,  5657,  1,     20,  22093,2,20160229,0334, 28.0125, 146.9905, 5737,   1011.0,   4.0027,  34.2560,2,  34.2561,2,     48.3,2,   111.19,2,    40.79,2,     0.00,2,     2.92,2,   2335.8,2,   2345.9,2,   7.3582,2,    25.00,      520
  49UP20160227,RF1602,  5657,  1,     19,  22092,2,20160229,0334, 28.0125, 146.9905, 5737,   1212.4,   3.1614,  34.3976,2,  34.3982,2,     37.8,2,   134.98,2,    42.48,2,     0.00,2,     3.03,2,   2363.9,2,   2376.0,2,   7.3544,2,    25.00,      515
  49UP20160227,RF1602,  5657,  1,     18,  22101,2,20160229,0334, 28.0125, 146.9905, 5737,   1415.0,   2.7021,  34.4804,2,  34.4811,2,     44.6,6,   146.54,6,    42.55,6,     0.00,6,     3.02,6,   2375.1,2,   2391.9,2,   7.3732,2,    25.00,      511
  49UP20160227,RF1602,  5657,  1,     17,  22090,2,20160229,0334, 28.0125, 146.9905, 5737,   1619.2,   2.3888,  34.5356,2,  34.5369,2,     58.4,2,   152.08,2,    41.86,2,     0.00,2,     2.96,2,   2374.5,2,   2399.8,2,   7.4031,2,    25.00,      508
  49UP20160227,RF1602,  5657,  1,     16,  22089,2,20160229,0334, 28.0125, 146.9905, 5737,   1818.8,   2.1045,  34.5797,2,  34.5799,2,     82.3,2,   152.39,2,    40.34,2,     0.00,2,     2.84,2,   2357.0,2,   2407.4,2,   7.4470,2,    25.00,      504
  49UP20160227,RF1602,  5657,  1,     15,  22088,4,20160229,0334, 28.0125, 146.9905, 5737,   2023.3,   1.9431,  34.6056,2,  34.5362,4,     59.0,4,   152.06,4,    41.83,4,     0.00,4,     2.96,4,   2374.8,4,   2400.7,4,   7.4028,4,    25.00,      500
  49UP20160227,RF1602,  5657,  1,     14,  21999,2,20160229,0334, 28.0125, 146.9905, 5737,   2278.7,   1.8185,  34.6246,2,  34.6256,2,    106.6,2,   152.85,2,    38.88,2,     0.00,2,     2.73,2,   2353.3,2,   2413.1,2,   7.4939,2,    25.00,      455
  49UP20160227,RF1602,  5657,  1,     13,  22667,2,20160229,0334, 28.0125, 146.9905, 5737,   2533.6,   1.7278,  34.6418,2,  34.6398,2,    117.0,2,   151.09,2,    38.19,2,     0.00,2,     2.67,2,   2347.2,2,   2415.3,2,   7.5132,2,    25.00,      448
  49UP20160227,RF1602,  5657,  1,     12,  22074,2,20160229,0334, 28.0125, 146.9905, 5737,   2786.5,   1.6519,  34.6522,2,  34.6541,2,    124.2,2,   151.41,2,    37.74,2,     0.00,2,     2.64,2,   2345.5,2,   2415.3,2,   7.5275,2,    25.00,      442
  49UP20160227,RF1602,  5657,  1,     11,  24268,2,20160229,0334, 28.0125, 146.9905, 5737,   3044.1,   1.6002,  34.6607,2,  34.6622,2,    130.8,2,   150.97,2,    37.46,2,     0.00,2,     2.61,2,   2345.5,2,   2417.8,2,   7.5379,2,    25.00,      436
  49UP20160227,RF1602,  5657,  1,     10,  24267,2,20160229,0334, 28.0125, 146.9905, 5737,   3299.1,   1.5560,  34.6681,2,  34.6681,2,    137.1,2,   150.37,2,    37.02,2,     0.00,2,     2.58,2,   2337.2,2,   2417.6,2,   7.5472,2,    25.00,      431
  49UP20160227,RF1602,  5657,  1,      9,  23518,2,20160229,0334, 28.0125, 146.9905, 5737,   3553.6,   1.5278,  34.6730,2,  34.6749,4,    140.7,2,   150.02,2,    36.69,2,     0.00,2,     2.55,2,   2333.5,6,   2416.6,6,   7.5557,2,    25.00,      425
  49UP20160227,RF1602,  5657,  1,      8,  22081,2,20160229,0334, 28.0125, 146.9905, 5737,   3811.3,   1.5040,  34.6782,2,  34.6781,2,    146.2,2,   148.82,2,    36.33,2,     0.00,2,     2.53,2,   2331.2,2,   2416.4,2,   7.5647,6,    25.00,      419
  49UP20160227,RF1602,  5657,  1,      7,  23516,2,20160229,0334, 28.0125, 146.9905, 5737,   4066.3,   1.4962,  34.6814,2,  34.6817,2,    149.6,2,   148.38,2,    36.12,2,     0.00,2,     2.51,2,   2329.4,2,   2415.6,2,   7.5717,2,    25.00,      413
  49UP20160227,RF1602,  5657,  1,      6,  22113,2,20160229,0334, 28.0125, 146.9905, 5737,   4322.8,   1.4853,  34.6850,2,  34.6848,2,    153.9,2,   146.92,2,    35.82,2,     0.00,2,     2.49,2,   2325.8,2,   2415.1,2,   7.5766,2,    25.00,      408
  49UP20160227,RF1602,  5657,  1,      5,  24658,2,20160229,0334, 28.0125, 146.9905, 5737,   4580.4,   1.4876,  34.6876,2,  34.6861,2,    156.7,2,   145.36,2,    35.63,2,     0.00,2,     2.47,2,   2317.9,3,   2412.6,2,   7.5799,2,    25.00,      402
  49UP20160227,RF1602,  5657,  1,      4,  24471,2,20160229,0334, 28.0125, 146.9905, 5737,   5094.5,   1.5209,  34.6903,2,  34.6903,2,    162.0,2,   143.05,2,    35.28,2,     0.00,2,     2.44,2,   2316.0,2,   2411.2,2,   7.5882,2,    25.00,      351
  49UP20160227,RF1602,  5657,  1,      3,  22104,3,20160229,0334, 28.0125, 146.9905, 5737,   5353.1,   1.5430,  34.6914,2,  34.6920,2,    163.6,2,   141.79,2,    35.13,2,     0.00,2,     2.43,2,   2318.4,2,   2410.2,2,   7.5908,2,    25.00,      346
  49UP20160227,RF1602,  5657,  1,      2,  22075,2,20160229,0334, 28.0125, 146.9905, 5737,   5611.7,   1.5661,  34.6925,2,  34.6948,4,    165.7,6,   139.88,6,    34.95,6,     0.00,6,     2.42,6,   2316.0,2,   2408.9,2,   7.5951,2,    25.00,      340
  49UP20160227,RF1602,  5657,  1,      1,  21997,2,20160229,0334, 28.0125, 146.9905, 5737,   5880.7,   1.5925,  34.6936,2,  34.6936,6,    167.6,2,   138.19,2,    34.89,2,     0.00,2,     2.42,2,   2314.5,2,   2405.9,2,   7.5925,2,    25.00,      334
  49UP20160227,RF1602,  5659,  1,     99,     99,2,20160302,0201, 29.0018, 147.2380, 6085,      0.0,  21.2993,  35.1352,2,-999.0000,9,    221.8,2,     1.58,2,     0.00,2,     0.00,2,     0.02,2,   -999.0,9,   -999.0,9,-999.0000,9,  -999.00,      238
  49UP20160227,RF1602,  5659,  1,     36,  22109,2,20160302,0201, 29.0018, 147.2380, 6085,     11.3,  21.2982,  35.1348,2,-999.0000,9,    221.1,2,     1.54,2,    -0.01,2,     0.01,2,     0.02,2,   -999.0,9,   -999.0,9,-999.0000,9,  -999.00,      258
  49UP20160227,RF1602,  5659,  1,     35,  22112,2,20160302,0201, 29.0018, 147.2380, 6085,     25.9,  21.2977,  35.1341,2,-999.0000,9,    220.9,2,     1.59,2,     0.00,2,     0.00,2,     0.02,2,   -999.0,9,   -999.0,9,-999.0000,9,  -999.00,      257
  49UP20160227,RF1602,  5659,  1,     34,  22094,2,20160302,0201, 29.0018, 147.2380, 6085,     52.1,  21.1922,  35.1123,2,-999.0000,9,    220.8,2,     1.64,2,     0.01,2,     0.01,2,     0.02,2,   -999.0,9,   -999.0,9,-999.0000,9,  -999.00,      255
  49UP20160227,RF1602,  5659,  1,     33,  24469,2,20160302,0201, 29.0018, 147.2380, 6085,     77.6,  20.0841,  34.9444,2,-999.0000,9,    222.6,2,     2.00,2,     0.16,2,     0.09,2,     0.05,2,   -999.0,9,   -999.0,9,-999.0000,9,  -999.00,      254
  49UP20160227,RF1602,  5659,  1,     32,  22105,2,20160302,0201, 29.0018, 147.2380, 6085,    103.5,  19.7620,  34.9056,2,-999.0000,9,    224.1,2,     2.00,2,     0.12,2,     0.15,2,     0.06,2,   -999.0,9,   -999.0,9,-999.0000,9,  -999.00,      251
  49UP20160227,RF1602,  5659,  1,     31,  23515,2,20160302,0201, 29.0018, 147.2380, 6085,    129.1,  19.3782,  34.8615,2,-999.0000,9,    224.2,2,     2.09,2,     0.26,2,     0.31,2,     0.07,2,   -999.0,9,   -999.0,9,-999.0000,9,  -999.00,      250
  49UP20160227,RF1602,  5659,  1,     30,  22097,2,20160302,0201, 29.0018, 147.2380, 6085,    152.9,  19.1968,  34.8537,2,-999.0000,9,    224.4,2,     2.19,2,     0.43,2,     0.30,2,     0.09,3,   -999.0,9,   -999.0,9,-999.0000,9,  -999.00,      248
  49UP20160227,RF1602,  5659,  1,     29,  22102,2,20160302,0201, 29.0018, 147.2380, 6085,    203.6,  17.6299,  34.7647,2,-999.0000,9,    205.5,2,     3.76,2,     4.07,2,     0.02,2,     0.29,2,   -999.0,9,   -999.0,9,-999.0000,9,  -999.00,      247
  49UP20160227,RF1602,  5659,  1,     28,  22108,2,20160302,0201, 29.0018, 147.2380, 6085,    253.9,  17.1921,  34.7420,2,-999.0000,9,    209.0,2,     4.18,2,     4.48,2,     0.02,2,     0.31,2,   -999.0,9,   -999.0,9,-999.0000,9,  -999.00,      245
  49UP20160227,RF1602,  5659,  1,     24,  22110,2,20160302,0201, 29.0018, 147.2380, 6085,    303.0,  16.6974,  34.7187,2,-999.0000,9,    214.8,2,     4.51,2,     4.61,2,     0.01,2,     0.33,2,   -999.0,9,   -999.0,9,-999.0000,9,  -999.00,      243
  49UP20160227,RF1602,  5659,  1,     23,  22096,2,20160302,0201, 29.0018, 147.2380, 6085,    303.1,  16.6958,  34.7182,2,-999.0000,9,    214.7,2,     4.52,2,     4.64,2,     0.01,2,     0.33,2,   -999.0,9,   -999.0,9,-999.0000,9,  -999.00,      243
  49UP20160227,RF1602,  5659,  1,     22,  22111,2,20160302,0201, 29.0018, 147.2380, 6085,    408.2,  15.3442,  34.5869,2,-999.0000,9,    196.1,6,     9.06,6,     8.59,6,     0.01,6,     0.60,6,   -999.0,9,   -999.0,9,-999.0000,9,  -999.00,      240
  49UP20160227,RF1602,  5659,  1,     18,  22101,2,20160302,0201, 29.0018, 147.2380, 6085,    506.0,  12.8099,  34.4011,2,-999.0000,9,    187.5,2,    17.08,2,    13.41,2,     0.01,2,     0.94,2,   -999.0,9,   -999.0,9,-999.0000,9,  -999.00,      237
  49UP20160227,RF1602,  5659,  1,     17,  22090,2,20160302,0201, 29.0018, 147.2380, 6085,    606.1,   9.2000,  34.1349,2,-999.0000,9,    180.6,2,    32.39,2,    20.02,2,     0.00,2,     1.44,2,   -999.0,9,   -999.0,9,-999.0000,9,  -999.00,      234
  49UP20160227,RF1602,  5659,  1,     16,  22089,2,20160302,0201, 29.0018, 147.2380, 6085,    706.4,   6.6246,  34.0144,2,-999.0000,9,    148.2,2,    53.89,2,    27.86,2,     0.01,2,     2.02,2,   -999.0,9,   -999.0,9,-999.0000,9,  -999.00,      232
  49UP20160227,RF1602,  5659,  1,     15,  22088,2,20160302,0201, 29.0018, 147.2380, 6085,    809.6,   5.1189,  34.0508,2,-999.0000,9,    101.1,2,    77.89,2,    34.78,2,     0.00,2,     2.52,2,   -999.0,9,   -999.0,9,-999.0000,9,  -999.00,      229
  49UP20160227,RF1602,  5659,  1,     14,  21999,2,20160302,0201, 29.0018, 147.2380, 6085,    909.4,   4.5573,  34.1497,2,-999.0000,9,     68.5,2,    94.93,2,    38.37,2,     0.00,2,     2.76,2,   -999.0,9,   -999.0,9,-999.0000,9,  -999.00,      226
  49UP20160227,RF1602,  5659,  1,     13,  22667,2,20160302,0201, 29.0018, 147.2380, 6085,   1011.7,   3.9877,  34.2440,2,-999.0000,9,     48.9,2,   111.49,2,    40.67,2,     0.00,2,     2.92,2,   -999.0,9,   -999.0,9,-999.0000,9,  -999.00,      224
  49UP20160227,RF1602,  5659,  1,     12,  22074,2,20160302,0201, 29.0018, 147.2380, 6085,   1213.9,   3.2463,  34.3777,2,-999.0000,9,     37.9,2,   133.05,2,    42.49,2,     0.00,2,     3.04,2,   -999.0,9,   -999.0,9,-999.0000,9,  -999.00,      219
  49UP20160227,RF1602,  5659,  1,     10,  24267,2,20160302,0201, 29.0018, 147.2380, 6085,   1414.5,   2.7753,  34.4593,2,-999.0000,9,     40.4,3,   146.17,2,    42.87,2,     0.00,2,     3.05,2,   -999.0,9,   -999.0,9,-999.0000,9,  -999.00,      215
  49UP20160227,RF1602,  5659,  1,     11,  24268,2,20160302,0201, 29.0018, 147.2380, 6085,   1415.3,   2.7797,  34.4587,2,-999.0000,9,     38.9,2,   145.89,2,    42.83,2,     0.00,2,     3.05,2,   -999.0,9,   -999.0,9,-999.0000,9,  -999.00,      215
  49UP20160227,RF1602,  5659,  1,      6,  22113,2,20160302,0201, 29.0018, 147.2380, 6085,   1619.6,   2.4526,  34.5163,2,-999.0000,9,     48.4,6,   153.66,6,    42.52,6,     0.00,6,     3.01,6,   -999.0,9,   -999.0,9,-999.0000,9,  -999.00,      210
  49UP20160227,RF1602,  5659,  1,      5,  24658,2,20160302,0201, 29.0018, 147.2380, 6085,   1823.0,   2.2025,  34.5651,2,-999.0000,9,     68.4,2,   155.23,2,    41.24,2,     0.00,2,     2.91,2,   -999.0,9,   -999.0,9,-999.0000,9,  -999.00,      206
  49UP20160227,RF1602,  5659,  1,      4,  24471,2,20160302,0201, 29.0018, 147.2380, 6085,   2027.8,   2.0063,  34.5963,2,-999.0000,9,     85.8,2,   155.45,2,    40.22,2,     0.00,2,     2.83,2,   -999.0,9,   -999.0,9,-999.0000,9,  -999.00,      201