BOTTLE,20200306PRINUNIVRMK
EXPOCODE,SECT_ID,STNNBR,CASTNO,SAMPNO,BTLNBR,BTLNBR_FLAG_W,DATE,TIME,LATITUDE,LONGITUDE,DEPTH,CTDPRS,CTDTMP,CTDSAL,CTDSAL_FLAG_W,SALNTY,SALNTY_FLAG_W,OXYGEN,OXYGEN_FLAG_W,SILCAT,SILCAT_FLAG_W,NITRAT,NITRAT_FLAG_W,NITRIT,NITRIT_FLAG_W,PHSPHT,PHSPHT_FLAG_W,TCARBN,TCARBN_FLAG_W,ALKALI,ALKALI_FLAG_W,PH_TOT,PH_TOT_FLAG_W,PH_TMP,BTL_TIME
,,,,,,,,,,,METERS,DBAR,ITS-90,PSS-78,,PSS-78,,UMOL/KG,,UMOL/KG,,UMOL/KG,,UMOL/KG,,UMOL/KG,,UMOL/KG,,UMOL/KG,,,,DEG C,
  49UP20160227,RF1602,  5665,  1,     99,     99,2,20160303,1950, 32.0050, 147.9437, 5611,      0.0,  18.7563,  34.8578,2,  34.8696,2,    229.8,2,     2.04,2,     0.36,2,     0.23,2,     0.07,2,   2007.7,2,   2290.3,2,   8.0171,2,    25.00,     2030
  49UP20160227,RF1602,  5665,  1,     36,  22109,3,20160303,1950, 32.0050, 147.9437, 5611,     10.4,  18.7908,  34.8563,2,-999.0000,9,    229.3,2,     2.03,2,     0.41,2,     0.24,2,     0.07,2,   2007.5,2,   2290.2,2,   8.0213,2,    25.00,     2047
  49UP20160227,RF1602,  5665,  1,     35,  22112,2,20160303,1950, 32.0050, 147.9437, 5611,     24.0,  18.7684,  34.8565,2,  34.8571,2,    229.4,2,     2.03,2,     0.40,2,     0.24,2,     0.07,2,   2007.0,2,   2290.2,2,   8.0199,2,    25.00,     2046
  49UP20160227,RF1602,  5665,  1,     34,  22094,2,20160303,1950, 32.0050, 147.9437, 5611,     50.1,  18.7730,  34.8577,2,-999.0000,9,    229.3,2,     2.05,2,     0.39,2,     0.23,2,     0.07,2,   2010.3,2,   2290.1,2,   8.0189,2,    25.00,     2043
  49UP20160227,RF1602,  5665,  1,     33,  24469,2,20160303,1950, 32.0050, 147.9437, 5611,     76.2,  18.7737,  34.8575,2,  34.8572,2,    229.5,2,     1.98,2,     0.39,2,     0.23,2,     0.07,2,   2008.4,2,   2289.7,2,   8.0201,2,    25.00,     2042
  49UP20160227,RF1602,  5665,  1,     32,  22105,2,20160303,1950, 32.0050, 147.9437, 5611,     99.9,  18.7725,  34.8556,2,-999.0000,9,    229.2,2,     2.00,2,     0.38,2,     0.24,2,     0.07,2,   2008.1,2,   2290.6,2,   8.0207,2,    25.00,     2041
  49UP20160227,RF1602,  5665,  1,     31,  23515,2,20160303,1950, 32.0050, 147.9437, 5611,    124.5,  18.7596,  34.8519,2,-999.0000,9,    229.3,2,     2.00,2,     0.38,2,     0.26,2,     0.07,2,   2007.0,2,   2289.6,2,   8.0192,2,    25.00,     2040
  49UP20160227,RF1602,  5665,  1,     29,  22102,2,20160303,1950, 32.0050, 147.9437, 5611,    152.0,  18.7069,  34.8428,2,  34.8437,2,    228.4,2,     2.09,2,     0.53,2,     0.26,2,     0.09,2,   2007.4,2,   2288.3,2,   8.0174,2,    25.00,     2038
  49UP20160227,RF1602,  5665,  1,     30,  22097,2,20160303,1950, 32.0050, 147.9437, 5611,    152.9,  18.7071,  34.8433,2,  34.8434,2,    228.0,2,     2.09,2,     0.53,2,     0.27,2,     0.09,2,   2009.5,2,   2289.9,2,   8.0148,2,    25.00,     2038
  49UP20160227,RF1602,  5665,  1,     28,  22108,2,20160303,1950, 32.0050, 147.9437, 5611,    201.8,  17.2480,  34.7361,2,  34.7356,2,    203.5,2,     4.50,2,     4.98,2,     0.01,2,     0.33,2,   2043.2,2,   2280.7,2,   7.9488,2,    25.00,     2036
  49UP20160227,RF1602,  5665,  1,     24,  22110,2,20160303,1950, 32.0050, 147.9437, 5611,    252.4,  16.8150,  34.7260,2,-999.0000,9,    212.4,6,     4.40,6,     4.78,6,     0.01,6,     0.32,6,   2040.0,2,   2282.6,2,   7.9497,2,    25.00,     2034
  49UP20160227,RF1602,  5665,  1,     23,  22096,2,20160303,1950, 32.0050, 147.9437, 5611,    302.8,  16.3772,  34.6775,2,  34.6794,2,    204.0,2,     5.96,2,     6.19,2,     0.01,2,     0.42,2,   2060.3,2,   2280.5,2,   7.9288,2,    25.00,     2033
  49UP20160227,RF1602,  5665,  1,     22,  22111,2,20160303,1950, 32.0050, 147.9437, 5611,    401.7,  14.9852,  34.5594,2,  34.5590,2,    193.7,2,    10.12,2,     9.47,2,     0.01,2,     0.64,2,   2069.1,2,   2277.0,2,   7.8731,2,    25.00,     2030
  49UP20160227,RF1602,  5665,  1,     18,  22101,2,20160303,1950, 32.0050, 147.9437, 5611,    504.0,  12.6252,  34.4015,2,  34.4031,2,    176.8,2,    20.10,2,    14.89,2,     0.00,2,     1.03,2,   2109.1,6,   2277.0,6,   7.7868,2,    25.00,     2027
  49UP20160227,RF1602,  5665,  1,     17,  22090,2,20160303,1950, 32.0050, 147.9437, 5611,    606.3,   9.4545,  34.1632,2,  34.1656,2,    177.1,2,    32.37,2,    19.93,2,     0.00,2,     1.41,2,   2146.6,2,   2276.0,2,   7.6989,6,    25.00,     2025
  49UP20160227,RF1602,  5665,  1,     16,  22089,2,20160303,1950, 32.0050, 147.9437, 5611,    707.0,   7.1989,  34.0322,2,  34.0338,2,    158.4,2,    47.89,2,    25.80,2,     0.00,2,     1.85,2,   2193.1,2,   2284.2,2,   7.6016,2,    25.00,     2022
  49UP20160227,RF1602,  5665,  1,     15,  22088,2,20160303,1950, 32.0050, 147.9437, 5611,    806.1,   5.4112,  34.0264,2,  34.0259,2,    116.0,2,    71.75,2,    32.87,2,     0.00,2,     2.37,2,   2253.5,2,   2301.0,2,   7.4776,2,    25.00,     2019
  49UP20160227,RF1602,  5665,  1,     14,  21999,2,20160303,1950, 32.0050, 147.9437, 5611,    908.8,   4.7680,  34.1684,2,  34.1654,2,     76.6,2,    93.10,2,    37.28,2,     0.00,2,     2.66,2,   2297.2,2,   2326.6,2,   7.4131,2,    25.00,     2017
  49UP20160227,RF1602,  5665,  1,     13,  22667,2,20160303,1950, 32.0050, 147.9437, 5611,   1008.7,   4.0533,  34.2355,2,  34.2359,2,     54.0,2,   110.28,2,    40.16,2,     0.00,2,     2.86,2,   2324.5,2,   2342.6,2,   7.3709,2,    25.00,     2014
  49UP20160227,RF1602,  5665,  1,     12,  22074,2,20160303,1950, 32.0050, 147.9437, 5611,   1008.8,   4.0531,  34.2354,2,  34.2346,2,     54.4,2,   110.41,2,    40.15,2,     0.00,2,     2.86,2,   2323.9,2,   2343.1,2,   7.3674,2,    25.00,     2014
  49UP20160227,RF1602,  5665,  1,     11,  24268,2,20160303,1950, 32.0050, 147.9437, 5611,   1211.1,   3.3264,  34.3592,2,  34.3579,2,     41.0,6,   130.91,6,    42.01,6,     0.00,6,     2.99,6,   2356.9,2,   2367.5,2,   7.3553,2,    25.00,     2009
  49UP20160227,RF1602,  5665,  1,     10,  24267,2,20160303,1950, 32.0050, 147.9437, 5611,   1414.7,   2.8410,  34.4374,2,  34.4376,6,     37.3,2,   145.02,2,    42.94,2,     0.00,2,     3.05,2,   2375.4,2,   2385.5,2,   7.3491,2,    25.00,     2005
  49UP20160227,RF1602,  5665,  1,      6,  22113,2,20160303,1950, 32.0050, 147.9437, 5611,   1616.4,   2.4542,  34.5035,2,  34.5089,4,     45.1,2,   155.18,2,    42.72,2,     0.00,2,     3.03,2,   2380.7,2,   2399.2,6,   7.3685,2,    25.00,     2000
  49UP20160227,RF1602,  5665,  1,      5,  24658,2,20160303,1950, 32.0050, 147.9437, 5611,   1819.6,   2.2119,  34.5485,2,  34.5491,2,     55.7,2,   159.68,2,    42.18,2,     0.00,2,     2.97,2,   2378.6,2,   2405.9,2,   7.3924,6,    25.00,     1955
  49UP20160227,RF1602,  5665,  1,      4,  24471,2,20160303,1950, 32.0050, 147.9437, 5611,   2034.2,   1.9961,  34.5873,2,  34.5876,6,     71.4,2,   162.06,2,    41.32,2,     0.00,2,     2.91,2,   2383.8,2,   2410.7,2,   7.4239,2,    25.00,     1950
  49UP20160227,RF1602,  5667,  1,     99,     99,2,20160304,0457, 32.9947, 148.1665, 5755,      0.0,  18.5306,  34.8470,2,-999.0000,9,    229.5,2,     2.49,2,     1.18,2,     0.23,2,     0.14,2,   -999.0,9,   -999.0,9,-999.0000,9,  -999.00,      535
  49UP20160227,RF1602,  5667,  1,     36,  22109,2,20160304,0457, 32.9947, 148.1665, 5755,     11.0,  18.5405,  34.8470,2,-999.0000,9,    228.7,2,     2.50,2,     1.17,2,     0.23,2,     0.12,2,   -999.0,9,   -999.0,9,-999.0000,9,  -999.00,      555
  49UP20160227,RF1602,  5667,  1,     35,  22112,2,20160304,0457, 32.9947, 148.1665, 5755,     27.6,  18.5044,  34.8439,2,-999.0000,9,    228.9,2,     2.46,2,     1.10,2,     0.23,2,     0.12,2,   -999.0,9,   -999.0,9,-999.0000,9,  -999.00,      554
  49UP20160227,RF1602,  5667,  1,     34,  22094,2,20160304,0457, 32.9947, 148.1665, 5755,     53.1,  18.4605,  34.8398,2,-999.0000,9,    228.5,2,     2.37,2,     0.93,2,     0.25,2,     0.12,2,   -999.0,9,   -999.0,9,-999.0000,9,  -999.00,      552
  49UP20160227,RF1602,  5667,  1,     33,  24469,2,20160304,0457, 32.9947, 148.1665, 5755,     77.4,  18.4602,  34.8392,2,-999.0000,9,    227.9,2,     2.40,2,     0.98,2,     0.25,2,     0.12,2,   -999.0,9,   -999.0,9,-999.0000,9,  -999.00,      551
  49UP20160227,RF1602,  5667,  1,     32,  22105,2,20160304,0457, 32.9947, 148.1665, 5755,    102.6,  18.4629,  34.8393,2,-999.0000,9,    227.8,2,     2.45,2,     1.00,2,     0.26,2,     0.12,2,   -999.0,9,   -999.0,9,-999.0000,9,  -999.00,      547
  49UP20160227,RF1602,  5667,  1,     31,  23515,2,20160304,0457, 32.9947, 148.1665, 5755,    127.9,  18.4669,  34.8395,2,-999.0000,9,    227.6,2,     2.48,2,     0.96,2,     0.26,2,     0.13,2,   -999.0,9,   -999.0,9,-999.0000,9,  -999.00,      546
  49UP20160227,RF1602,  5667,  1,     30,  22097,2,20160304,0457, 32.9947, 148.1665, 5755,    128.4,  18.4665,  34.8394,2,-999.0000,9,    227.9,2,     2.44,2,     1.03,2,     0.26,2,     0.12,2,   -999.0,9,   -999.0,9,-999.0000,9,  -999.00,      546
  49UP20160227,RF1602,  5667,  1,     29,  22102,2,20160304,0457, 32.9947, 148.1665, 5755,    153.1,  18.4647,  34.8382,2,-999.0000,9,    227.2,2,     2.54,2,     1.00,2,     0.26,2,     0.12,2,   -999.0,9,   -999.0,9,-999.0000,9,  -999.00,      545
  49UP20160227,RF1602,  5667,  1,     28,  22108,2,20160304,0457, 32.9947, 148.1665, 5755,    203.1,  17.4003,  34.7396,2,-999.0000,9,    201.7,6,     4.95,6,     5.03,6,     0.01,6,     0.35,6,   -999.0,9,   -999.0,9,-999.0000,9,  -999.00,      543
  49UP20160227,RF1602,  5667,  1,     24,  22110,2,20160304,0457, 32.9947, 148.1665, 5755,    252.9,  16.9936,  34.7395,2,-999.0000,9,    213.6,2,     4.05,2,     4.40,2,     0.01,2,     0.32,2,   -999.0,9,   -999.0,9,-999.0000,9,  -999.00,      541
  49UP20160227,RF1602,  5667,  1,     23,  22096,2,20160304,0457, 32.9947, 148.1665, 5755,    302.6,  16.7855,  34.7326,2,-999.0000,9,    216.7,2,     4.19,2,     4.41,2,     0.01,2,     0.34,2,   -999.0,9,   -999.0,9,-999.0000,9,  -999.00,      540
  49UP20160227,RF1602,  5667,  1,     22,  22111,2,20160304,0457, 32.9947, 148.1665, 5755,    405.2,  15.5196,  34.6005,2,-999.0000,9,    195.5,2,     8.55,2,     8.39,2,     0.01,2,     0.59,2,   -999.0,9,   -999.0,9,-999.0000,9,  -999.00,      537
  49UP20160227,RF1602,  5667,  1,     18,  22101,2,20160304,0457, 32.9947, 148.1665, 5755,    505.0,  13.1743,  34.4274,2,-999.0000,9,    188.4,2,    15.65,2,    12.78,2,     0.00,2,     0.90,2,   -999.0,9,   -999.0,9,-999.0000,9,  -999.00,      534
  49UP20160227,RF1602,  5667,  1,     17,  22090,2,20160304,0457, 32.9947, 148.1665, 5755,    606.5,  10.2118,  34.2229,2,-999.0000,9,    175.1,2,    28.77,2,    18.94,2,     0.00,2,     1.35,2,   -999.0,9,   -999.0,9,-999.0000,9,  -999.00,      531
  49UP20160227,RF1602,  5667,  1,     16,  22089,3,20160304,0457, 32.9947, 148.1665, 5755,    706.6,   7.7447,  34.0541,2,-999.0000,9,    166.1,2,    43.07,2,    24.14,2,     0.00,2,     1.74,2,   -999.0,9,   -999.0,9,-999.0000,9,  -999.00,      528
  49UP20160227,RF1602,  5667,  1,     15,  22088,2,20160304,0457, 32.9947, 148.1665, 5755,    809.2,   5.8662,  34.0727,2,-999.0000,9,    116.6,2,    69.28,2,    32.03,2,     0.00,2,     2.32,2,   -999.0,9,   -999.0,9,-999.0000,9,  -999.00,      526
  49UP20160227,RF1602,  5667,  1,     13,  22667,2,20160304,0457, 32.9947, 148.1665, 5755,    908.7,   4.7248,  34.1281,2,-999.0000,9,     79.8,2,    91.39,2,    37.08,2,     0.00,2,     2.68,2,   -999.0,9,   -999.0,9,-999.0000,9,  -999.00,      523
  49UP20160227,RF1602,  5667,  1,     14,  21999,2,20160304,0457, 32.9947, 148.1665, 5755,    910.0,   4.7286,  34.1291,2,-999.0000,9,     79.4,2,    91.11,2,    37.08,2,     0.00,2,     2.68,2,   -999.0,9,   -999.0,9,-999.0000,9,  -999.00,      523
  49UP20160227,RF1602,  5667,  1,     12,  22074,2,20160304,0457, 32.9947, 148.1665, 5755,   1010.8,   4.2227,  34.2082,2,-999.0000,9,     60.0,6,   105.58,6,    39.37,6,     0.00,6,     2.84,6,   -999.0,9,   -999.0,9,-999.0000,9,  -999.00,      520
  49UP20160227,RF1602,  5667,  1,     11,  24268,2,20160304,0457, 32.9947, 148.1665, 5755,   1213.8,   3.4728,  34.3583,2,-999.0000,9,     47.0,2,   126.83,2,    41.31,2,     0.00,2,     2.96,2,   -999.0,9,   -999.0,9,-999.0000,9,  -999.00,      516
  49UP20160227,RF1602,  5667,  1,     10,  24267,2,20160304,0457, 32.9947, 148.1665, 5755,   1416.5,   2.9287,  34.4261,2,-999.0000,9,     41.1,2,   142.00,2,    42.35,2,     0.00,2,     3.04,2,   -999.0,9,   -999.0,9,-999.0000,9,  -999.00,      511
  49UP20160227,RF1602,  5667,  1,      6,  22113,2,20160304,0457, 32.9947, 148.1665, 5755,   1619.7,   2.5550,  34.4873,2,-999.0000,9,     41.8,2,   152.65,2,    42.64,2,     0.00,2,     3.04,2,   -999.0,9,   -999.0,9,-999.0000,9,  -999.00,      506
  49UP20160227,RF1602,  5667,  1,      5,  24658,2,20160304,0457, 32.9947, 148.1665, 5755,   1823.4,   2.3178,  34.5316,2,-999.0000,9,     50.1,2,   157.86,2,    42.33,2,     0.00,2,     3.01,2,   -999.0,9,   -999.0,9,-999.0000,9,  -999.00,      502
  49UP20160227,RF1602,  5667,  1,      4,  24471,2,20160304,0457, 32.9947, 148.1665, 5755,   2027.4,   2.1183,  34.5676,2,-999.0000,9,     63.5,2,   161.10,2,    41.62,2,     0.00,2,     2.95,2,   -999.0,9,   -999.0,9,-999.0000,9,  -999.00,      457