BOTTLE,20200303PRINUNIVRMK
EXPOCODE,SECT_ID,STNNBR,CASTNO,SAMPNO,BTLNBR,BTLNBR_FLAG_W,DATE,TIME,LATITUDE,LONGITUDE,DEPTH,CTDPRS,CTDTMP,CTDSAL,CTDSAL_FLAG_W,SALNTY,SALNTY_FLAG_W,OXYGEN,OXYGEN_FLAG_W,SILCAT,SILCAT_FLAG_W,NITRAT,NITRAT_FLAG_W,NITRIT,NITRIT_FLAG_W,PHSPHT,PHSPHT_FLAG_W,TCARBN,TCARBN_FLAG_W,ALKALI,ALKALI_FLAG_W,PH_TOT,PH_TOT_FLAG_W,PH_TMP,BTL_TIME
,,,,,,,,,,,METERS,DBAR,ITS-90,PSS-78,,PSS-78,,UMOL/KG,,UMOL/KG,,UMOL/KG,,UMOL/KG,,UMOL/KG,,UMOL/KG,,UMOL/KG,,,,DEG C,
  49UP20131128,RF1310,  4916,  1,     99,     99,2,20131217,0201, 33.5178, 141.5040, 5786,      0.0,  20.2706,  34.7153,2,  34.7266,2,    217.7,2,     1.95,2,     0.34,2,     0.07,2,     0.06,2,   1989.7,2,   2280.0,2,   8.0396,2,    25.00,      240
  49UP20131128,RF1310,  4916,  1,     33,  23517,3,20131217,0201, 33.5178, 141.5040, 5786,      9.6,  20.2752,  34.7158,2,  34.7149,6,    217.9,2,     1.89,2,     0.27,2,     0.06,2,     0.04,2,   1985.6,2,   2278.9,2,   8.0387,2,    25.00,      259
  49UP20131128,RF1310,  4916,  1,     32,  22105,2,20131217,0201, 33.5178, 141.5040, 5786,     24.9,  20.2876,  34.7149,2,-999.0000,9,    217.5,2,     1.89,2,     0.28,2,     0.06,2,     0.04,2,   1985.1,2,   2278.9,2,   8.0392,2,    25.00,      258
  49UP20131128,RF1310,  4916,  1,     31,  22076,2,20131217,0201, 33.5178, 141.5040, 5786,     49.4,  20.2827,  34.7154,2,-999.0000,9,    216.9,2,     2.00,2,     0.34,2,     0.07,2,     0.04,2,   1987.4,2,   2278.3,2,   8.0375,2,    25.00,      257
  49UP20131128,RF1310,  4916,  1,     28,  22091,3,20131217,0201, 33.5178, 141.5040, 5786,     77.4,  20.2795,  34.7157,2,-999.0000,9,    216.4,2,     1.90,2,     0.36,2,     0.07,2,     0.04,2,   1989.1,2,   2279.0,2,   8.0372,2,    25.00,      255
  49UP20131128,RF1310,  4916,  1,     27,  21998,2,20131217,0201, 33.5178, 141.5040, 5786,    101.1,  20.1961,  34.7249,2,  34.7314,4,    211.2,2,     2.14,2,     0.90,2,     0.07,2,     0.07,2,   1996.0,2,   2280.3,2,   8.0267,2,    25.00,      252
  49UP20131128,RF1310,  4916,  1,     26,  22084,2,20131217,0201, 33.5178, 141.5040, 5786,    124.8,  18.9523,  34.7751,2,-999.0000,9,    200.6,6,     2.75,6,     2.57,6,     0.02,6,     0.16,6,   2019.3,2,   2281.7,2,   7.9845,2,    25.00,      251
  49UP20131128,RF1310,  4916,  1,     22,  22111,2,20131217,0201, 33.5178, 141.5040, 5786,    150.9,  18.7776,  34.7736,2,-999.0000,9,    200.6,2,     2.86,2,     2.75,2,     0.02,2,     0.19,2,   2024.1,2,   2281.5,2,   7.9815,2,    25.00,      249
  49UP20131128,RF1310,  4916,  1,     21,  22078,2,20131217,0201, 33.5178, 141.5040, 5786,    150.9,  18.7776,  34.7736,2,-999.0000,9,    200.5,2,     2.95,2,     2.80,2,     0.02,2,     0.19,2,   2024.0,2,   2281.8,2,   7.9805,2,    25.00,      249
  49UP20131128,RF1310,  4916,  1,     20,  22093,2,20131217,0201, 33.5178, 141.5040, 5786,    199.5,  18.0276,  34.7509,2,  34.7514,6,    201.7,2,     3.41,2,     3.74,2,     0.01,2,     0.24,2,   2028.7,2,   2281.6,2,   7.9698,2,    25.00,      247
  49UP20131128,RF1310,  4916,  1,     19,  22092,2,20131217,0201, 33.5178, 141.5040, 5786,    249.9,  17.5284,  34.7250,2,-999.0000,9,    201.7,2,     4.22,2,     4.51,2,     0.01,2,     0.30,2,   2035.3,2,   2277.8,2,   7.9565,2,    25.00,      245
  49UP20131128,RF1310,  4916,  1,     18,  22101,2,20131217,0201, 33.5178, 141.5040, 5786,    306.1,  16.7642,  34.6797,2,-999.0000,9,    197.5,2,     5.74,2,     6.01,2,     0.00,2,     0.39,2,   2045.0,2,   2276.7,2,   7.9326,2,    25.00,      243
  49UP20131128,RF1310,  4916,  1,     17,  22090,2,20131217,0201, 33.5178, 141.5040, 5786,    403.3,  14.1653,  34.5059,2,  34.5073,2,    177.1,2,    14.37,2,    12.10,2,     0.00,2,     0.82,2,   2091.5,2,   2274.9,2,   7.8385,2,    25.00,      241
  49UP20131128,RF1310,  4916,  1,     16,  22089,2,20131217,0201, 33.5178, 141.5040, 5786,    506.5,  11.7513,  34.3604,2,-999.0000,9,    164.7,2,    24.88,2,    17.13,2,     0.00,2,     1.19,2,   2128.3,2,   2277.7,2,   7.7562,2,    25.00,      238
  49UP20131128,RF1310,  4916,  1,     15,  22088,2,20131217,0201, 33.5178, 141.5040, 5786,    606.5,  10.1865,  34.2842,2,  34.2856,2,    152.1,2,    34.80,2,    20.98,2,     0.00,2,     1.48,2,   2157.4,2,   2282.1,2,   7.6961,2,    25.00,      236
  49UP20131128,RF1310,  4916,  1,     14,  21999,2,20131217,0201, 33.5178, 141.5040, 5786,    706.2,   7.8877,  34.2353,2,-999.0000,9,    120.0,2,    57.28,2,    27.81,2,     0.00,2,     1.98,2,   2216.0,2,   2299.9,2,   7.5857,2,    25.00,      233
  49UP20131128,RF1310,  4916,  1,     13,  22667,2,20131217,0201, 33.5178, 141.5040, 5786,    807.9,   5.5372,  34.1994,2,  34.1999,2,     89.4,2,    82.71,2,    34.65,2,     0.00,2,     2.49,2,   2274.3,6,   2319.6,6,   7.4760,2,    25.00,      230
  49UP20131128,RF1310,  4916,  1,     12,  22074,2,20131217,0201, 33.5178, 141.5040, 5786,    909.9,   4.7135,  34.2922,2,-999.0000,9,     71.1,2,   100.14,2,    37.56,2,     0.00,2,     2.69,2,   2305.5,2,   2340.6,2,   7.4360,6,    25.00,      227
  49UP20131128,RF1310,  4916,  1,     11,  21996,2,20131217,0201, 33.5178, 141.5040, 5786,   1009.5,   3.7283,  34.2948,2,  34.2937,2,     46.2,2,   119.11,2,    41.06,2,     0.00,2,     2.93,2,   2341.9,2,   2352.9,2,   7.3666,2,    25.00,      225
  49UP20131128,RF1310,  4916,  1,     10,  22107,2,20131217,0201, 33.5178, 141.5040, 5786,   1210.4,   3.0823,  34.4016,2,  34.4047,2,     41.8,2,   136.79,2,    42.13,2,     0.00,2,     3.00,2,   2367.2,2,   2374.9,2,   7.3667,2,    25.00,      220
  49UP20131128,RF1310,  4916,  1,      5,  22094,2,20131217,0201, 33.5178, 141.5040, 5786,   1414.9,   2.6672,  34.4760,2,  34.4758,2,     42.7,2,   148.11,2,    42.56,2,     0.00,2,     3.03,2,   2376.8,6,   2391.1,6,   7.3732,2,    25.00,      215
  49UP20131128,RF1310,  4916,  1,      4,  22077,2,20131217,0201, 33.5178, 141.5040, 5786,   1618.5,   2.3616,  34.5308,2,  34.5307,2,     55.2,2,   153.24,2,    42.02,2,     0.00,2,     2.96,2,   2375.7,2,   2399.4,2,   7.4007,6,    25.00,      211
  49UP20131128,RF1310,  4916,  1,      3,  22104,2,20131217,0201, 33.5178, 141.5040, 5786,   1819.4,   2.1483,  34.5646,2,  34.5650,2,     65.1,6,   157.91,6,    41.52,6,     0.00,6,     2.93,6,   2376.5,2,   2405.8,2,   7.4182,2,    25.00,      206
  49UP20131128,RF1310,  4916,  1,      2,  22075,2,20131217,0201, 33.5178, 141.5040, 5786,   2023.1,   1.9690,  34.5941,2,  34.5935,2,     78.1,2,   159.37,2,    40.69,2,     0.00,2,     2.87,2,   2370.9,2,   2410.2,2,   7.4428,2,    25.00,      201
  49UP20131128,RF1310,  4916,  1,      1,  21997,2,20131217,0201, 33.5178, 141.5040, 5786,   2023.1,   1.9690,  34.5941,2,  34.5947,6,     78.1,2,   159.41,2,    40.85,2,     0.00,2,     2.86,2,   2372.7,2,   2410.7,2,   7.4457,2,    25.00,      201
  49UP20131128,RF1310,  4919,  1,     99,     99,2,20131217,1651, 31.9907, 143.0128, 5679,      0.0,  20.4915,  34.6674,2,  34.7111,2,    217.8,2,     1.79,2,     0.12,2,     0.03,2,     0.05,2,   1984.9,2,   2280.0,2,   8.0432,2,    25.00,     1810
  49UP20131128,RF1310,  4919,  1,     36,  22109,2,20131217,1651, 31.9907, 143.0128, 5679,     10.0,  20.4985,  34.6675,2,  34.6677,2,    218.1,2,     1.77,2,     0.06,2,     0.02,2,     0.03,2,   1982.8,2,   2276.5,2,   8.0421,2,    25.00,     1839
  49UP20131128,RF1310,  4919,  1,     35,  22112,2,20131217,1651, 31.9907, 143.0128, 5679,     25.5,  20.5155,  34.6679,2,-999.0000,9,    218.2,2,     1.73,2,     0.06,2,     0.02,2,     0.02,2,   1982.7,2,   2276.0,2,   8.0440,2,    25.00,     1838
  49UP20131128,RF1310,  4919,  1,     34,  22083,2,20131217,1651, 31.9907, 143.0128, 5679,     50.2,  20.5226,  34.6681,2,-999.0000,9,    218.1,2,     1.56,2,     0.04,2,     0.01,2,     0.02,2,   1981.6,2,   2276.1,2,   8.0466,2,    25.00,     1837
  49UP20131128,RF1310,  4919,  1,     33,  23517,2,20131217,1651, 31.9907, 143.0128, 5679,     76.6,  20.5136,  34.6648,2,-999.0000,9,    218.9,2,     1.67,2,     0.03,2,     0.01,2,     0.01,2,   1979.3,2,   2276.5,2,   8.0481,2,    25.00,     1835
  49UP20131128,RF1310,  4919,  1,     32,  22105,2,20131217,1651, 31.9907, 143.0128, 5679,    102.8,  20.5063,  34.6662,2,  34.6654,2,    218.6,6,     1.66,6,     0.00,6,     0.01,6,     0.01,6,   1981.0,2,   2276.2,2,   8.0443,2,    25.00,     1834
  49UP20131128,RF1310,  4919,  1,     31,  22076,2,20131217,1651, 31.9907, 143.0128, 5679,    128.2,  19.1745,  34.7685,2,-999.0000,9,    201.2,2,     2.87,2,     2.41,2,     0.04,2,     0.16,2,   2021.0,2,   2282.6,2,   7.9833,2,    25.00,     1832
  49UP20131128,RF1310,  4919,  1,     30,  22097,2,20131217,1651, 31.9907, 143.0128, 5679,    128.2,  19.1745,  34.7685,2,-999.0000,9,    200.7,2,     2.97,2,     2.40,2,     0.04,2,     0.17,2,   2021.3,2,   2282.1,2,   7.9871,2,    25.00,     1832
  49UP20131128,RF1310,  4919,  1,     29,  22102,2,20131217,1651, 31.9907, 143.0128, 5679,    150.8,  18.7191,  34.7947,2,-999.0000,9,    210.9,2,     2.42,2,     1.19,2,     0.02,2,     0.11,2,   2019.3,2,   2284.8,2,   7.9896,2,    25.00,     1829
  49UP20131128,RF1310,  4919,  1,     28,  22091,2,20131217,1651, 31.9907, 143.0128, 5679,    202.2,  17.8803,  34.7381,2,  34.7378,2,    200.9,2,     3.75,2,     3.93,2,     0.01,2,     0.26,2,   2031.2,2,   2280.6,2,   7.9635,2,    25.00,     1827
  49UP20131128,RF1310,  4919,  1,     27,  21998,2,20131217,1651, 31.9907, 143.0128, 5679,    251.6,  17.3201,  34.7140,2,-999.0000,9,    206.1,2,     3.98,2,     4.28,2,     0.01,2,     0.28,2,   2032.0,2,   2280.2,2,   7.9565,2,    25.00,     1825
  49UP20131128,RF1310,  4919,  1,     26,  22084,2,20131217,1651, 31.9907, 143.0128, 5679,    301.8,  16.9228,  34.6967,2,-999.0000,9,    209.2,2,     4.37,2,     4.55,2,     0.01,2,     0.30,2,   2033.8,2,   2278.0,2,   7.9546,2,    25.00,     1823
  49UP20131128,RF1310,  4919,  1,     25,  22098,2,20131217,1651, 31.9907, 143.0128, 5679,    403.0,  15.9574,  34.6208,2,  34.6229,6,    198.0,2,     7.07,2,     7.23,2,     0.00,2,     0.49,2,   2051.3,2,   2275.9,2,   7.9132,2,    25.00,     1820
  49UP20131128,RF1310,  4919,  1,     24,  22110,2,20131217,1651, 31.9907, 143.0128, 5679,    506.6,  13.1912,  34.4296,2,-999.0000,9,    191.2,2,    14.77,2,    12.19,2,     0.00,2,     0.84,2,   2089.6,2,   2272.2,2,   7.8305,2,    25.00,     1813
  49UP20131128,RF1310,  4919,  1,     23,  22096,2,20131217,1651, 31.9907, 143.0128, 5679,    606.4,  10.3773,  34.2365,2,  34.2421,4,    174.9,2,    26.59,2,    18.38,2,     0.00,2,     1.29,2,   2133.4,2,   2274.8,2,   7.7304,2,    25.00,     1810
  49UP20131128,RF1310,  4919,  1,     22,  22111,2,20131217,1651, 31.9907, 143.0128, 5679,    708.4,   7.7226,  34.0631,2,-999.0000,9,    162.4,2,    43.32,2,    24.29,2,     0.00,2,     1.75,2,   2179.0,2,   2280.9,2,   7.6318,2,    25.00,     1806
  49UP20131128,RF1310,  4919,  1,     21,  22078,2,20131217,1651, 31.9907, 143.0128, 5679,    809.0,   5.6837,  34.0369,2,  34.0367,2,    116.3,2,    68.10,2,    32.36,2,     0.00,2,     2.34,2,   2244.3,2,   2297.2,2,   7.4978,2,    25.00,     1803
  49UP20131128,RF1310,  4919,  1,     20,  22093,2,20131217,1651, 31.9907, 143.0128, 5679,    911.2,   4.8866,  34.0928,2,-999.0000,9,     87.6,2,    84.95,2,    36.26,2,     0.00,2,     2.62,2,   2282.2,6,   2313.3,6,   7.4354,2,    25.00,     1759
  49UP20131128,RF1310,  4919,  1,     16,  22089,2,20131217,1651, 31.9907, 143.0128, 5679,   1011.5,   4.4100,  34.1750,2,  34.1736,2,     63.8,2,    99.29,2,    38.98,2,     0.00,2,     2.80,2,   2310.9,2,   2329.3,2,   7.3920,2,    25.00,     1756
  49UP20131128,RF1310,  4919,  1,     15,  22088,2,20131217,1651, 31.9907, 143.0128, 5679,   1213.3,   3.5203,  34.3313,2,  34.3319,6,     38.8,2,   125.07,2,    42.19,2,     0.00,2,     3.02,2,   2351.2,2,   2360.3,2,   7.3569,6,    25.00,     1751
  49UP20131128,RF1310,  4919,  1,     14,  21999,2,20131217,1651, 31.9907, 143.0128, 5679,   1417.7,   2.9323,  34.4271,2,  34.4260,2,     40.6,2,   141.76,2,    42.58,2,     0.00,2,     3.04,2,   2369.3,6,   2380.0,6,   7.3629,2,    25.00,     1746
  49UP20131128,RF1310,  4919,  1,     13,  22667,2,20131217,1651, 31.9907, 143.0128, 5679,   1616.9,   2.5574,  34.4872,2,  34.4841,2,     44.3,6,   150.92,6,    42.61,6,     0.00,6,     3.04,6,   2376.7,2,   2392.1,2,   7.3749,2,    25.00,     1742
  49UP20131128,RF1310,  4919,  1,     12,  22074,2,20131217,1651, 31.9907, 143.0128, 5679,   1818.5,   2.2695,  34.5403,2,  34.5407,2,     54.1,2,   158.11,2,    42.26,2,     0.00,2,     3.00,2,   2377.4,2,   2403.2,2,   7.3972,2,    25.00,     1737
  49UP20131128,RF1310,  4919,  1,     11,  21996,2,20131217,1651, 31.9907, 143.0128, 5679,   1818.5,   2.2695,  34.5403,2,  34.5388,2,     53.8,2,   158.02,2,    42.30,2,     0.00,2,     3.01,2,   2378.7,2,   2402.6,2,   7.3967,2,    25.00,     1737
  49UP20131128,RF1310,  4919,  1,     10,  22107,2,20131217,1651, 31.9907, 143.0128, 5679,   2024.4,   2.0945,  34.5736,2,  34.5725,2,     66.0,2,   159.97,2,    41.59,2,     0.00,2,     2.94,2,   2376.2,2,   2407.2,2,   7.4217,6,    25.00,     1733
  49UP20131128,RF1310,  4919,  1,      9,  22108,2,20131217,1651, 31.9907, 143.0128, 5679,   2274.9,   1.8780,  34.6123,2,  34.6108,6,     88.3,2,   158.60,2,    40.14,2,     0.00,2,     2.83,2,   2363.7,2,   2412.7,2,   7.4678,2,    25.00,     1728
  49UP20131128,RF1310,  4919,  1,      8,  22081,2,20131217,1651, 31.9907, 143.0128, 5679,   2529.7,   1.7576,  34.6312,2,-999.0000,9,    100.0,6,   158.82,6,    39.46,6,     0.00,6,     2.78,6,   2359.5,2,   2415.6,2,   7.4889,2,    25.00,     1723
  49UP20131128,RF1310,  4919,  1,      7,  22106,2,20131217,1651, 31.9907, 143.0128, 5679,   2785.3,   1.6512,  34.6481,2,  34.6457,2,    112.5,2,   157.06,2,    38.64,2,     0.00,2,     2.71,2,   2351.6,2,   2417.3,2,   7.5120,2,    25.00,     1718
  49UP20131128,RF1310,  4919,  1,      6,  22113,2,20131217,1651, 31.9907, 143.0128, 5679,   2785.3,   1.6512,  34.6481,2,  34.6467,2,    113.3,2,   157.35,2,    38.48,2,     0.00,2,     2.71,2,   2350.1,2,   2415.1,2,   7.5130,2,    25.00,     1718
  49UP20131128,RF1310,  4919,  1,      5,  22094,2,20131217,1651, 31.9907, 143.0128, 5679,   3034.8,   1.5917,  34.6582,2,  34.6583,2,    122.3,2,   155.77,2,    37.95,2,     0.00,2,     2.66,2,   2343.3,2,   2415.3,2,   7.5293,2,    25.00,     1713
  49UP20131128,RF1310,  4919,  1,      4,  22077,2,20131217,1651, 31.9907, 143.0128, 5679,   3297.7,   1.5346,  34.6675,2,  34.6684,2,    131.6,2,   153.78,2,    37.38,2,     0.00,2,     2.59,3,   2337.7,2,   2416.3,2,   7.5456,2,    25.00,     1707
  49UP20131128,RF1310,  4919,  1,      3,  22104,2,20131217,1651, 31.9907, 143.0128, 5679,   3553.2,   1.5052,  34.6732,2,  34.6728,2,    137.3,2,   152.47,2,    36.85,2,     0.00,2,     2.57,3,   2335.2,6,   2415.8,6,   7.5581,2,    25.00,     1702
  49UP20131128,RF1310,  4919,  1,      2,  22075,2,20131217,1651, 31.9907, 143.0128, 5679,   3807.3,   1.4837,  34.6780,2,  34.6795,2,    143.2,2,   150.82,2,    36.55,2,     0.00,2,     2.55,2,   2330.9,2,   2415.8,2,   7.5664,6,    25.00,     1657
  49UP20131128,RF1310,  4919,  1,      1,  21997,2,20131217,1651, 31.9907, 143.0128, 5679,   4068.3,   1.4785,  34.6813,2,  34.6822,6,    147.8,2,   149.63,2,    36.26,2,     0.00,2,     2.54,2,   2328.0,2,   2414.1,2,   7.5721,2,    25.00,     1651