BOTTLE,20200303PRINUNIVRMK
EXPOCODE,SECT_ID,STNNBR,CASTNO,SAMPNO,BTLNBR,BTLNBR_FLAG_W,DATE,TIME,LATITUDE,LONGITUDE,DEPTH,CTDPRS,CTDTMP,CTDSAL,CTDSAL_FLAG_W,SALNTY,SALNTY_FLAG_W,OXYGEN,OXYGEN_FLAG_W,SILCAT,SILCAT_FLAG_W,NITRAT,NITRAT_FLAG_W,NITRIT,NITRIT_FLAG_W,PHSPHT,PHSPHT_FLAG_W,TCARBN,TCARBN_FLAG_W,ALKALI,ALKALI_FLAG_W,PH_TOT,PH_TOT_FLAG_W,PH_TMP,BTL_TIME
,,,,,,,,,,,METERS,DBAR,ITS-90,PSS-78,,PSS-78,,UMOL/KG,,UMOL/KG,,UMOL/KG,,UMOL/KG,,UMOL/KG,,UMOL/KG,,UMOL/KG,,,,DEG C,
  49UP20131128,RF1310,  4909,  1,     99,     99,2,20131205,1621, 41.3228, 141.8443,  962,      0.0,  14.8815,  33.4202,2,-999.0000,9,    233.8,2,  -999.00,9,  -999.00,9,  -999.00,9,  -999.00,9,   -999.0,9,   -999.0,9,-999.0000,9,  -999.00,     1639
  49UP20131128,RF1310,  4909,  1,     36,  22109,2,20131205,1621, 41.3228, 141.8443,  962,     11.4,  14.8906,  33.4198,2,  33.4167,2,    231.1,2,  -999.00,9,  -999.00,9,  -999.00,9,  -999.00,9,   -999.0,9,   -999.0,9,-999.0000,9,  -999.00,     1654
  49UP20131128,RF1310,  4909,  1,     35,  22112,3,20131205,1621, 41.3228, 141.8443,  962,     26.1,  14.8808,  33.4195,2,-999.0000,9,    230.8,2,  -999.00,9,  -999.00,9,  -999.00,9,  -999.00,9,   -999.0,9,   -999.0,9,-999.0000,9,  -999.00,     1653
  49UP20131128,RF1310,  4909,  1,     34,  22083,3,20131205,1621, 41.3228, 141.8443,  962,     51.0,  14.4047,  33.4259,2,-999.0000,9,    230.0,2,  -999.00,9,  -999.00,9,  -999.00,9,  -999.00,9,   -999.0,9,   -999.0,9,-999.0000,9,  -999.00,     1650
  49UP20131128,RF1310,  4909,  1,     30,  22097,3,20131205,1621, 41.3228, 141.8443,  962,     75.8,  14.3267,  33.4271,2,-999.0000,9,    230.0,2,  -999.00,9,  -999.00,9,  -999.00,9,  -999.00,9,   -999.0,9,   -999.0,9,-999.0000,9,  -999.00,     1649
  49UP20131128,RF1310,  4909,  1,     29,  22102,2,20131205,1621, 41.3228, 141.8443,  962,    103.6,  14.1511,  33.4285,2,  33.4340,6,    229.3,2,  -999.00,9,  -999.00,9,  -999.00,9,  -999.00,9,   -999.0,9,   -999.0,9,-999.0000,9,  -999.00,     1647
  49UP20131128,RF1310,  4909,  1,     28,  22091,3,20131205,1621, 41.3228, 141.8443,  962,    127.3,  12.1520,  33.5023,2,-999.0000,9,    228.7,2,  -999.00,9,  -999.00,9,  -999.00,9,  -999.00,9,   -999.0,9,   -999.0,9,-999.0000,9,  -999.00,     1646
  49UP20131128,RF1310,  4909,  1,     27,  21998,2,20131205,1621, 41.3228, 141.8443,  962,    152.9,   9.6630,  33.5280,2,-999.0000,9,    228.8,2,  -999.00,9,  -999.00,9,  -999.00,9,  -999.00,9,   -999.0,9,   -999.0,9,-999.0000,9,  -999.00,     1645
  49UP20131128,RF1310,  4909,  1,     26,  22084,3,20131205,1621, 41.3228, 141.8443,  962,    201.0,   5.8598,  33.5912,2,  33.5780,4,    244.0,2,  -999.00,9,  -999.00,9,  -999.00,9,  -999.00,9,   -999.0,9,   -999.0,9,-999.0000,9,  -999.00,     1643
  49UP20131128,RF1310,  4909,  1,     22,  22111,3,20131205,1621, 41.3228, 141.8443,  962,    252.3,   3.1668,  33.4482,2,-999.0000,9,    236.8,2,  -999.00,9,  -999.00,9,  -999.00,9,  -999.00,9,   -999.0,9,   -999.0,9,-999.0000,9,  -999.00,     1641
  49UP20131128,RF1310,  4909,  1,     21,  22078,3,20131205,1621, 41.3228, 141.8443,  962,    302.4,   3.0007,  33.5667,2,-999.0000,9,    191.9,2,  -999.00,9,  -999.00,9,  -999.00,9,  -999.00,9,   -999.0,9,   -999.0,9,-999.0000,9,  -999.00,     1639
  49UP20131128,RF1310,  4909,  1,     20,  22093,2,20131205,1621, 41.3228, 141.8443,  962,    404.8,   3.0807,  33.7482,2,  33.7471,2,    124.4,2,  -999.00,9,  -999.00,9,  -999.00,9,  -999.00,9,   -999.0,9,   -999.0,9,-999.0000,9,  -999.00,     1637
  49UP20131128,RF1310,  4909,  1,     19,  22092,3,20131205,1621, 41.3228, 141.8443,  962,    505.5,   3.3686,  33.9134,2,-999.0000,9,     78.3,6,  -999.00,9,  -999.00,9,  -999.00,9,  -999.00,9,   -999.0,9,   -999.0,9,-999.0000,9,  -999.00,     1634
  49UP20131128,RF1310,  4909,  1,     14,  21999,3,20131205,1621, 41.3228, 141.8443,  962,    605.9,   3.5149,  34.0615,2,  34.0615,2,     50.2,2,  -999.00,9,  -999.00,9,  -999.00,9,  -999.00,9,   -999.0,9,   -999.0,9,-999.0000,9,  -999.00,     1632
  49UP20131128,RF1310,  4909,  1,     13,  22667,3,20131205,1621, 41.3228, 141.8443,  962,    605.9,   3.5149,  34.0615,2,  34.0633,2,     50.6,2,  -999.00,9,  -999.00,9,  -999.00,9,  -999.00,9,   -999.0,9,   -999.0,9,-999.0000,9,  -999.00,     1632
  49UP20131128,RF1310,  4909,  1,     12,  22074,2,20131205,1621, 41.3228, 141.8443,  962,    708.0,   3.5223,  34.1818,2,  34.1830,2,     40.4,6,  -999.00,9,  -999.00,9,  -999.00,9,  -999.00,9,   -999.0,9,   -999.0,9,-999.0000,9,  -999.00,     1629
  49UP20131128,RF1310,  4909,  1,     11,  21996,4,20131205,1621, 41.3228, 141.8443,  962,    806.9,   3.3443,  34.2771,2,-999.0000,9,   -999.0,9,  -999.00,9,  -999.00,9,  -999.00,9,  -999.00,9,   -999.0,9,   -999.0,9,-999.0000,9,  -999.00,     1627
  49UP20131128,RF1310,  4909,  1,      8,  22081,3,20131205,1621, 41.3228, 141.8443,  962,    910.3,   2.9901,  34.3400,2,-999.0000,9,     29.6,2,  -999.00,9,  -999.00,9,  -999.00,9,  -999.00,9,   -999.0,9,   -999.0,9,-999.0000,9,  -999.00,     1624
  49UP20131128,RF1310,  4909,  1,      7,  22106,3,20131205,1621, 41.3228, 141.8443,  962,    945.3,   2.9765,  34.3443,2,  34.3447,2,     29.1,2,  -999.00,9,  -999.00,9,  -999.00,9,  -999.00,9,   -999.0,9,   -999.0,9,-999.0000,9,  -999.00,     1621
  49UP20131128,RF1310,  4909,  1,      6,  22113,3,20131205,1621, 41.3228, 141.8443,  962,    945.3,   2.9765,  34.3443,2,  34.3437,6,     29.3,2,  -999.00,9,  -999.00,9,  -999.00,9,  -999.00,9,   -999.0,9,   -999.0,9,-999.0000,9,  -999.00,     1621
  49UP20131128,RF1310,  4911,  1,     99,     99,2,20131215,2311, 34.9597, 140.2552, 1898,      0.0,  19.8551,  34.6229,2,-999.0000,9,    216.5,2,     3.28,2,     1.50,2,     0.30,2,     0.16,2,   -999.0,9,   -999.0,9,-999.0000,9,  -999.00,     2352
  49UP20131128,RF1310,  4911,  1,     36,  22109,2,20131215,2311, 34.9597, 140.2552, 1898,     10.5,  19.8638,  34.6244,2,  34.6245,6,    215.5,2,     3.31,2,     1.50,2,     0.28,2,     0.15,2,   -999.0,9,   -999.0,9,-999.0000,9,  -999.00,       14
  49UP20131128,RF1310,  4911,  1,     35,  22112,2,20131215,2311, 34.9597, 140.2552, 1898,     25.6,  19.8631,  34.6239,2,-999.0000,9,    215.1,2,     3.32,2,     1.48,2,     0.28,2,     0.15,2,   -999.0,9,   -999.0,9,-999.0000,9,  -999.00,       13
  49UP20131128,RF1310,  4911,  1,     34,  22083,2,20131215,2311, 34.9597, 140.2552, 1898,     49.9,  19.4769,  34.5951,2,-999.0000,9,    216.1,2,     3.93,2,     1.95,2,     0.38,2,     0.20,2,   -999.0,9,   -999.0,9,-999.0000,9,  -999.00,        9
  49UP20131128,RF1310,  4911,  1,     33,  23517,2,20131215,2311, 34.9597, 140.2552, 1898,     77.0,  19.0654,  34.5511,2,-999.0000,9,    217.5,2,     4.40,2,     2.22,2,     0.47,2,     0.21,2,   -999.0,9,   -999.0,9,-999.0000,9,  -999.00,        8
  49UP20131128,RF1310,  4911,  1,     32,  22105,2,20131215,2311, 34.9597, 140.2552, 1898,    102.6,  18.0326,  34.5226,2,  34.5183,4,    206.4,2,     7.11,2,     4.21,2,     0.39,2,     0.34,2,   -999.0,9,   -999.0,9,-999.0000,9,  -999.00,        6
  49UP20131128,RF1310,  4911,  1,     31,  22076,2,20131215,2311, 34.9597, 140.2552, 1898,    127.8,  16.1766,  34.6096,2,-999.0000,9,    176.2,2,    11.93,2,     9.20,2,     0.01,2,     0.63,2,   -999.0,9,   -999.0,9,-999.0000,9,  -999.00,        5
  49UP20131128,RF1310,  4911,  1,     28,  22091,2,20131215,2311, 34.9597, 140.2552, 1898,    151.0,  15.2519,  34.5772,2,-999.0000,9,    180.0,2,    11.82,2,    10.06,2,     0.01,2,     0.68,2,   -999.0,9,   -999.0,9,-999.0000,9,  -999.00,        3
  49UP20131128,RF1310,  4911,  1,     27,  21998,2,20131215,2311, 34.9597, 140.2552, 1898,    198.4,  13.0578,  34.4556,2,  34.4554,2,    162.3,6,    22.99,6,    15.31,6,     0.01,6,     1.07,6,   -999.0,9,   -999.0,9,-999.0000,9,  -999.00,        1
  49UP20131128,RF1310,  4911,  1,     26,  22084,2,20131215,2311, 34.9597, 140.2552, 1898,    251.4,  10.5833,  34.2504,2,-999.0000,9,    179.7,2,    25.54,2,    17.54,2,     0.00,2,     1.23,2,   -999.0,9,   -999.0,9,-999.0000,9,  -999.00,        0
  49UP20131128,RF1310,  4911,  1,     25,  22098,2,20131215,2311, 34.9597, 140.2552, 1898,    251.4,  10.5833,  34.2504,2,-999.0000,9,    179.5,2,    25.50,2,    17.53,2,     0.00,2,     1.23,2,   -999.0,9,   -999.0,9,-999.0000,9,  -999.00,        0
  49UP20131128,RF1310,  4911,  1,     24,  22110,2,20131215,2311, 34.9597, 140.2552, 1898,    300.5,   9.4155,  34.1751,2,-999.0000,9,    172.5,2,    32.49,2,    20.11,2,     0.00,2,     1.43,2,   -999.0,9,   -999.0,9,-999.0000,9,  -999.00,     2358
  49UP20131128,RF1310,  4911,  1,     18,  22101,2,20131215,2311, 34.9597, 140.2552, 1898,    407.8,   7.0799,  34.0893,2,  34.1289,4,    140.2,2,    52.29,2,    26.66,2,     0.00,2,     1.92,2,   -999.0,9,   -999.0,9,-999.0000,9,  -999.00,     2354
  49UP20131128,RF1310,  4911,  1,     17,  22090,2,20131215,2311, 34.9597, 140.2552, 1898,    500.9,   6.0189,  34.0836,2,-999.0000,9,    119.8,2,    67.25,2,    31.15,2,     0.00,2,     2.25,2,   -999.0,9,   -999.0,9,-999.0000,9,  -999.00,     2349
  49UP20131128,RF1310,  4911,  1,     16,  22089,2,20131215,2311, 34.9597, 140.2552, 1898,    604.4,   5.2794,  34.2037,2,  34.2040,6,     84.6,2,    86.69,2,    35.42,2,     0.00,2,     2.54,2,   -999.0,9,   -999.0,9,-999.0000,9,  -999.00,     2346
  49UP20131128,RF1310,  4911,  1,     15,  22088,2,20131215,2311, 34.9597, 140.2552, 1898,    709.2,   4.8298,  34.2578,2,-999.0000,9,     73.6,2,    97.38,2,    37.00,2,     0.00,2,     2.65,2,   -999.0,9,   -999.0,9,-999.0000,9,  -999.00,     2343
  49UP20131128,RF1310,  4911,  1,      9,  22108,2,20131215,2311, 34.9597, 140.2552, 1898,    802.5,   4.2404,  34.3047,2,  34.3037,2,     62.8,6,   109.33,6,    38.81,6,     0.00,6,     2.79,6,   -999.0,9,   -999.0,9,-999.0000,9,  -999.00,     2340
  49UP20131128,RF1310,  4911,  1,      8,  22081,2,20131215,2311, 34.9597, 140.2552, 1898,    911.4,   3.6679,  34.3553,2,-999.0000,9,     54.5,2,   121.37,2,    40.29,2,     0.00,2,     2.89,2,   -999.0,9,   -999.0,9,-999.0000,9,  -999.00,     2337
  49UP20131128,RF1310,  4911,  1,      7,  22106,2,20131215,2311, 34.9597, 140.2552, 1898,    911.4,   3.6679,  34.3553,2,-999.0000,9,     54.8,2,   121.48,2,    40.36,2,     0.00,2,     2.89,2,   -999.0,9,   -999.0,9,-999.0000,9,  -999.00,     2337
  49UP20131128,RF1310,  4911,  1,      6,  22113,2,20131215,2311, 34.9597, 140.2552, 1898,   1012.5,   3.3227,  34.3937,2,  34.3944,2,     52.1,2,   129.92,2,    40.97,2,     0.00,2,     2.93,2,   -999.0,9,   -999.0,9,-999.0000,9,  -999.00,     2332
  49UP20131128,RF1310,  4911,  1,      5,  22094,2,20131215,2311, 34.9597, 140.2552, 1898,   1218.9,   2.7530,  34.4611,2,  34.4589,2,     49.8,2,   144.87,2,    41.72,2,     0.00,2,     2.98,2,   -999.0,9,   -999.0,9,-999.0000,9,  -999.00,     2325
  49UP20131128,RF1310,  4911,  1,      4,  22077,2,20131215,2311, 34.9597, 140.2552, 1898,   1419.6,   2.4641,  34.5016,2,  34.5031,2,     49.8,2,   152.79,2,    42.03,2,     0.00,2,     3.00,2,   -999.0,9,   -999.0,9,-999.0000,9,  -999.00,     2319
  49UP20131128,RF1310,  4911,  1,      3,  22104,2,20131215,2311, 34.9597, 140.2552, 1898,   1614.0,   2.3125,  34.5292,2,  34.5308,2,     56.0,2,   155.81,2,    41.82,2,     0.00,2,     2.97,2,   -999.0,9,   -999.0,9,-999.0000,9,  -999.00,     2316
  49UP20131128,RF1310,  4911,  1,      2,  22075,2,20131215,2311, 34.9597, 140.2552, 1898,   1813.3,   2.1352,  34.5605,2,  34.5605,2,     67.1,2,   157.74,2,    41.14,2,     0.00,2,     2.92,2,   -999.0,9,   -999.0,9,-999.0000,9,  -999.00,     2313
  49UP20131128,RF1310,  4911,  1,      1,  21997,2,20131215,2311, 34.9597, 140.2552, 1898,   1895.3,   2.1084,  34.5659,2,  34.5662,6,     69.2,2,   157.96,2,    41.09,2,     0.00,2,     2.90,2,   -999.0,9,   -999.0,9,-999.0000,9,  -999.00,     2311
  49UP20131128,RF1310,  4914,  1,     99,     99,2,20131216,1035, 34.2253, 141.0160, 4821,      0.0,  20.1356,  34.6012,2,-999.0000,9,    216.0,2,     2.94,2,     1.28,2,     0.35,2,     0.14,2,   -999.0,9,   -999.0,9,-999.0000,9,  -999.00,     1110
  49UP20131128,RF1310,  4914,  1,     33,  23517,2,20131216,1035, 34.2253, 141.0160, 4821,     10.1,  20.1516,  34.6016,2,  34.5988,2,    215.2,2,     3.03,2,     1.31,2,     0.36,2,     0.14,3,   -999.0,9,   -999.0,9,-999.0000,9,  -999.00,     1135
  49UP20131128,RF1310,  4914,  1,     32,  22105,2,20131216,1035, 34.2253, 141.0160, 4821,     25.7,  20.0537,  34.5909,2,-999.0000,9,    215.3,2,     3.10,2,     1.33,2,     0.37,2,     0.14,2,   -999.0,9,   -999.0,9,-999.0000,9,  -999.00,     1134
  49UP20131128,RF1310,  4914,  1,     31,  22076,2,20131216,1035, 34.2253, 141.0160, 4821,     50.2,  19.0615,  34.5053,2,-999.0000,9,    215.8,2,     4.10,2,     2.17,2,     0.59,2,     0.21,2,   -999.0,9,   -999.0,9,-999.0000,9,  -999.00,     1132
  49UP20131128,RF1310,  4914,  1,     28,  22091,2,20131216,1035, 34.2253, 141.0160, 4821,     77.0,  18.9506,  34.4910,2,-999.0000,9,    215.5,2,     4.38,2,     2.31,2,     0.63,2,     0.22,2,   -999.0,9,   -999.0,9,-999.0000,9,  -999.00,     1131
  49UP20131128,RF1310,  4914,  1,     27,  21998,2,20131216,1035, 34.2253, 141.0160, 4821,     98.6,  18.9240,  34.4882,2,  34.4881,6,    215.1,2,     4.39,2,     2.35,2,     0.64,2,     0.22,2,   -999.0,9,   -999.0,9,-999.0000,9,  -999.00,     1129
  49UP20131128,RF1310,  4914,  1,     26,  22084,2,20131216,1035, 34.2253, 141.0160, 4821,    126.8,  18.8583,  34.4883,2,-999.0000,9,    214.0,2,     4.45,2,     2.51,2,     0.63,2,     0.23,2,   -999.0,9,   -999.0,9,-999.0000,9,  -999.00,     1127
  49UP20131128,RF1310,  4914,  1,     22,  22111,2,20131216,1035, 34.2253, 141.0160, 4821,    154.3,  18.7488,  34.4827,2,-999.0000,9,    213.8,6,     4.64,6,     2.65,6,     0.64,6,     0.25,6,   -999.0,9,   -999.0,9,-999.0000,9,  -999.00,     1123
  49UP20131128,RF1310,  4914,  1,     21,  22078,2,20131216,1035, 34.2253, 141.0160, 4821,    199.1,  17.7351,  34.6788,2,  34.6929,4,    185.3,2,     6.58,2,     6.16,2,     0.03,2,     0.42,2,   -999.0,9,   -999.0,9,-999.0000,9,  -999.00,     1121
  49UP20131128,RF1310,  4914,  1,     20,  22093,2,20131216,1035, 34.2253, 141.0160, 4821,    199.1,  17.7351,  34.6788,2,  34.6769,2,    184.4,2,     7.05,2,     6.34,2,     0.04,2,     0.43,2,   -999.0,9,   -999.0,9,-999.0000,9,  -999.00,     1121
  49UP20131128,RF1310,  4914,  1,     19,  22092,2,20131216,1035, 34.2253, 141.0160, 4821,    246.6,  16.1677,  34.6382,2,-999.0000,9,    191.4,2,     7.37,2,     7.55,2,     0.01,2,     0.49,2,   -999.0,9,   -999.0,9,-999.0000,9,  -999.00,     1120
  49UP20131128,RF1310,  4914,  1,     18,  22101,2,20131216,1035, 34.2253, 141.0160, 4821,    305.2,  14.1915,  34.5190,2,-999.0000,9,    169.3,2,    17.24,2,    12.57,2,     0.01,2,     0.86,2,   -999.0,9,   -999.0,9,-999.0000,9,  -999.00,     1115
  49UP20131128,RF1310,  4914,  1,     17,  22090,2,20131216,1035, 34.2253, 141.0160, 4821,    401.5,  10.1534,  34.2214,2,  34.2271,4,    177.3,2,    28.18,2,    18.35,2,     0.00,2,     1.29,2,   -999.0,9,   -999.0,9,-999.0000,9,  -999.00,     1112
  49UP20131128,RF1310,  4914,  1,     16,  22089,2,20131216,1035, 34.2253, 141.0160, 4821,    504.4,   6.8806,  34.0315,2,-999.0000,9,    149.9,2,    51.36,2,    26.85,2,     0.00,2,     1.94,2,   -999.0,9,   -999.0,9,-999.0000,9,  -999.00,     1110
  49UP20131128,RF1310,  4914,  1,     15,  22088,2,20131216,1035, 34.2253, 141.0160, 4821,    601.7,   5.6068,  34.0373,2,  34.0390,2,    113.9,2,    69.55,2,    32.57,2,     0.00,2,     2.35,2,   -999.0,9,   -999.0,9,-999.0000,9,  -999.00,     1107
  49UP20131128,RF1310,  4914,  1,     14,  21999,2,20131216,1035, 34.2253, 141.0160, 4821,    698.8,   4.7533,  34.1030,2,-999.0000,9,     82.1,6,    88.21,6,    36.76,6,     0.00,6,     2.64,6,   -999.0,9,   -999.0,9,-999.0000,9,  -999.00,     1105
  49UP20131128,RF1310,  4914,  1,     13,  22667,2,20131216,1035, 34.2253, 141.0160, 4821,    803.8,   4.4640,  34.2626,2,  34.2619,2,     64.4,2,   103.56,2,    38.49,2,     0.00,2,     2.76,2,   -999.0,9,   -999.0,9,-999.0000,9,  -999.00,     1102
  49UP20131128,RF1310,  4914,  1,     12,  22074,2,20131216,1035, 34.2253, 141.0160, 4821,    803.8,   4.4640,  34.2626,2,  34.2620,6,     64.3,2,   103.67,2,    38.43,2,     0.00,2,     2.76,2,   -999.0,9,   -999.0,9,-999.0000,9,  -999.00,     1102
  49UP20131128,RF1310,  4914,  1,     11,  21996,2,20131216,1035, 34.2253, 141.0160, 4821,    907.5,   4.0303,  34.3435,2,-999.0000,9,     61.0,2,   114.09,2,    39.08,2,     0.00,2,     2.82,2,   -999.0,9,   -999.0,9,-999.0000,9,  -999.00,     1100
  49UP20131128,RF1310,  4914,  1,     10,  22107,2,20131216,1035, 34.2253, 141.0160, 4821,   1007.7,   3.5833,  34.3747,2,  34.3735,2,     55.2,2,   123.73,2,    40.40,2,     0.00,2,     2.89,2,   -999.0,9,   -999.0,9,-999.0000,9,  -999.00,     1058
  49UP20131128,RF1310,  4914,  1,      5,  22094,2,20131216,1035, 34.2253, 141.0160, 4821,   1211.1,   2.8962,  34.4388,2,  34.4387,6,     45.7,2,   141.54,2,    41.89,2,     0.00,2,     2.99,2,   -999.0,9,   -999.0,9,-999.0000,9,  -999.00,     1053
  49UP20131128,RF1310,  4914,  1,      4,  22077,2,20131216,1035, 34.2253, 141.0160, 4821,   1416.1,   2.5369,  34.4906,2,  34.4907,2,     46.2,2,   151.37,2,    42.24,2,     0.00,2,     3.01,2,   -999.0,9,   -999.0,9,-999.0000,9,  -999.00,     1049
  49UP20131128,RF1310,  4914,  1,      3,  22104,2,20131216,1035, 34.2253, 141.0160, 4821,   1620.0,   2.2910,  34.5347,2,  34.5349,2,     54.7,2,   156.94,2,    41.89,2,     0.00,2,     2.98,2,   -999.0,9,   -999.0,9,-999.0000,9,  -999.00,     1045
  49UP20131128,RF1310,  4914,  1,      2,  22075,2,20131216,1035, 34.2253, 141.0160, 4821,   1822.5,   2.1088,  34.5662,2,  34.5671,6,     64.0,2,   160.08,2,    41.42,2,     0.00,2,     2.93,2,   -999.0,9,   -999.0,9,-999.0000,9,  -999.00,     1040
  49UP20131128,RF1310,  4914,  1,      1,  21997,2,20131216,1035, 34.2253, 141.0160, 4821,   2029.4,   1.9349,  34.5977,2,  34.5987,2,     79.1,2,   160.49,2,    40.53,2,     0.00,2,     2.86,2,   -999.0,9,   -999.0,9,-999.0000,9,  -999.00,     1035