BOTTLE,20200303PRINUNIVRMK
# 08/30/2019 Initialized README file  
# Data source:  Masao Ishii 2018/11/30 
# SHIP: R/V Ryofu Maru III 
# Cruise: rf201310 
# Region: North Pacific Ocean 
# EXPOCODE: 49UP20131128 
# DATES: 20131128-20131223 
# Chief Scientist: Tatsuo Nakamura 
# 15 stations with 36 place Rosette 
# CTD: Who - Kazuhiro Nemoto; Status - final 
# 	Includes: CTDSAL 
# SALNTY: Who - Kazuhiro Nemoto; Status - final 
# 	Notes: 	 
# Nutrients: Who - Kazuhiro Nemoto; Status - final 
# 	Includes: nitrate, nitrite, silicate, phosphate 
# 	Nitrite and NO3+NO2 reported. Separated by subtraction 
# OXYGEN: Who - Kazuhiro Nemoto; Status - final 
# 	Notes: 
# TCARBN: Who - Kazuhiro Nemoto; Status - final 
# 	Notes:  
# ALKALI: Who - Kazuhiro Nemoto; Status - final 
# 	Notes:  
# pH: Who - Kazuhiro Nemoto; Status - final  
# 	Notes: total H+ scale at 25C 
# These data should be cited as:               
# References that have used data from this cruise: 
EXPOCODE,SECT_ID,STNNBR,CASTNO,SAMPNO,BTLNBR,BTLNBR_FLAG_W,DATE,TIME,LATITUDE,LONGITUDE,DEPTH,CTDPRS,CTDTMP,CTDSAL,CTDSAL_FLAG_W,SALNTY,SALNTY_FLAG_W,OXYGEN,OXYGEN_FLAG_W,SILCAT,SILCAT_FLAG_W,NITRAT,NITRAT_FLAG_W,NITRIT,NITRIT_FLAG_W,PHSPHT,PHSPHT_FLAG_W,TCARBN,TCARBN_FLAG_W,ALKALI,ALKALI_FLAG_W,PH_TOT,PH_TOT_FLAG_W,PH_TMP,BTL_TIME
,,,,,,,,,,,METERS,DBAR,ITS-90,PSS-78,,PSS-78,,UMOL/KG,,UMOL/KG,,UMOL/KG,,UMOL/KG,,UMOL/KG,,UMOL/KG,,UMOL/KG,,,,DEG C,
  49UP20131128,RF1310,  4879,  1,     99,     99,2,20131130,2254, 37.0027, 149.6557, 5954,      0.0,  17.6956,  34.1607,2,  34.1563,2,    230.5,2,     3.30,2,     1.06,2,     0.24,2,     0.19,2,   1995.5,2,   2258.4,2,   8.0002,2,    25.00,       10
  49UP20131128,RF1310,  4879,  1,     36,  22109,2,20131130,2254, 37.0027, 149.6557, 5954,     10.1,  17.6983,  34.1610,2,  34.1567,2,    229.6,2,     3.38,2,     1.09,2,     0.24,2,     0.17,2,   1994.9,2,   2261.2,2,   8.0016,2,    25.00,       35
  49UP20131128,RF1310,  4879,  1,     35,  22112,2,20131130,2254, 37.0027, 149.6557, 5954,     25.6,  17.6906,  34.1603,2,-999.0000,9,    229.3,2,     3.39,2,     1.07,2,     0.24,2,     0.15,2,   1994.7,2,   2259.6,2,   8.0030,2,    25.00,       34
  49UP20131128,RF1310,  4879,  1,     34,  22083,2,20131130,2254, 37.0027, 149.6557, 5954,     49.7,  17.6781,  34.1625,2,-999.0000,9,    229.4,6,     3.32,6,     1.08,6,     0.24,6,     0.16,2,   1993.8,2,   2258.8,2,   8.0038,2,    25.00,       32
  49UP20131128,RF1310,  4879,  1,     33,  23517,2,20131130,2254, 37.0027, 149.6557, 5954,     76.3,  17.5101,  34.2815,2,-999.0000,9,    226.4,2,     3.69,2,     1.44,2,     0.29,2,     0.18,2,   2000.7,2,   2264.3,2,   7.9940,2,    25.00,       31
  49UP20131128,RF1310,  4879,  1,     32,  22105,2,20131130,2254, 37.0027, 149.6557, 5954,     76.3,  17.5101,  34.2815,2,-999.0000,9,    226.3,2,     3.65,2,     1.41,2,     0.28,2,     0.18,2,   1999.5,2,   2262.2,2,   7.9958,2,    25.00,       31
  49UP20131128,RF1310,  4879,  1,     31,  22076,2,20131130,2254, 37.0027, 149.6557, 5954,    102.1,  13.1765,  34.1715,2,  34.1792,2,    202.6,2,    15.15,2,    11.04,2,     0.03,2,     0.81,2,   2080.7,2,   2269.6,2,   7.8462,2,    25.00,       29
  49UP20131128,RF1310,  4879,  1,     30,  22097,2,20131130,2254, 37.0027, 149.6557, 5954,    125.3,   9.9555,  33.9178,2,-999.0000,9,    213.8,2,    22.63,2,    15.03,2,     0.02,2,     1.15,2,   2110.7,2,   2266.2,2,   7.7719,2,    25.00,       28
  49UP20131128,RF1310,  4879,  1,     29,  22102,2,20131130,2254, 37.0027, 149.6557, 5954,    151.1,   8.1427,  33.9132,2,-999.0000,9,    203.8,2,    31.52,2,    19.23,2,     0.01,2,     1.44,2,   2141.0,2,   2270.0,2,   7.7062,2,    25.00,       27
  49UP20131128,RF1310,  4879,  1,     25,  22098,2,20131130,2254, 37.0027, 149.6557, 5954,    201.1,   6.5693,  33.8669,2,  33.8651,2,    195.0,2,    41.16,2,    22.90,2,     0.00,2,     1.70,2,   2168.9,2,   2273.7,2,   7.6424,2,    25.00,       23
  49UP20131128,RF1310,  4879,  1,     24,  22110,2,20131130,2254, 37.0027, 149.6557, 5954,    253.7,   5.6965,  33.8653,2,-999.0000,9,    177.8,2,    50.92,2,    26.19,2,     0.00,2,     1.93,2,   2196.6,2,   2281.8,2,   7.5929,2,    25.00,       21
  49UP20131128,RF1310,  4879,  1,     23,  22096,2,20131130,2254, 37.0027, 149.6557, 5954,    300.5,   5.3283,  33.9274,2,-999.0000,9,    148.4,2,    62.02,2,    29.78,2,     0.00,2,     2.19,2,   2219.9,2,   2289.8,2,   7.5343,2,    25.00,       19
  49UP20131128,RF1310,  4879,  1,     22,  22111,2,20131130,2254, 37.0027, 149.6557, 5954,    403.1,   4.6842,  34.0108,2,  34.0128,6,    102.7,2,    80.98,2,    35.06,2,     0.00,2,     2.55,2,   2270.6,2,   2306.2,2,   7.4442,2,    25.00,       16
  49UP20131128,RF1310,  4879,  1,     21,  22078,2,20131130,2254, 37.0027, 149.6557, 5954,    503.8,   4.2730,  34.1005,2,-999.0000,9,     70.7,2,    96.87,2,    38.41,2,     0.00,2,     2.77,2,   2302.6,2,   2322.2,2,   7.3868,2,    25.00,       14
  49UP20131128,RF1310,  4879,  1,     20,  22093,2,20131130,2254, 37.0027, 149.6557, 5954,    607.5,   4.1214,  34.2174,2,  34.2142,2,     56.4,2,   107.12,2,    39.64,2,     0.00,2,     2.85,2,   2320.0,2,   2337.2,2,   7.3817,2,    25.00,       11
  49UP20131128,RF1310,  4879,  1,     19,  22092,2,20131130,2254, 37.0027, 149.6557, 5954,    706.7,   3.6725,  34.2929,2,-999.0000,9,     46.0,2,   119.73,2,    40.93,2,     0.00,2,     2.95,2,   2339.5,2,   2352.8,2,   7.3670,2,    25.00,        8
  49UP20131128,RF1310,  4879,  1,     18,  22101,2,20131130,2254, 37.0027, 149.6557, 5954,    807.7,   3.4080,  34.3387,2,  34.3392,2,     41.7,6,   127.67,6,    41.64,6,     0.00,6,     2.99,6,   2351.6,2,   2364.6,2,   7.3632,2,    25.00,        6
  49UP20131128,RF1310,  4879,  1,     17,  22090,2,20131130,2254, 37.0027, 149.6557, 5954,    908.2,   3.1694,  34.3785,2,-999.0000,9,     40.7,2,   134.07,2,    41.94,2,     0.00,2,     3.01,2,   2363.6,2,   2370.7,2,   7.3640,2,    25.00,        3
  49UP20131128,RF1310,  4879,  1,     16,  22089,2,20131130,2254, 37.0027, 149.6557, 5954,    908.2,   3.1694,  34.3785,2,-999.0000,9,     40.7,2,   134.22,2,    41.96,2,     0.00,2,     3.01,2,   2359.7,2,   2370.5,2,   7.3674,2,    25.00,        3
  49UP20131128,RF1310,  4879,  1,     15,  22088,2,20131130,2254, 37.0027, 149.6557, 5954,   1008.7,   2.9179,  34.4114,2,  34.4104,2,     39.1,2,   141.20,2,    42.26,2,     0.00,2,     3.03,2,   2368.7,6,   2377.3,6,   7.3647,2,    25.00,        0
  49UP20131128,RF1310,  4879,  1,     14,  21999,2,20131130,2254, 37.0027, 149.6557, 5954,   1214.0,   2.5253,  34.4812,2,  34.4808,2,     41.0,2,   152.62,2,    42.60,2,     0.00,2,     3.04,2,   2380.5,2,   2393.7,2,   7.3702,6,    25.00,     2356
  49UP20131128,RF1310,  4879,  1,     13,  22667,2,20131130,2254, 37.0027, 149.6557, 5954,   1414.8,   2.3308,  34.5234,2,  34.5226,6,     50.7,2,   155.80,2,    42.12,2,     0.00,2,     3.00,2,   2381.4,2,   2399.6,2,   7.3922,2,    25.00,     2351
  49UP20131128,RF1310,  4879,  1,     12,  22074,2,20131130,2254, 37.0027, 149.6557, 5954,   1617.5,   2.1416,  34.5594,2,  34.5591,2,     61.3,2,   158.79,2,    41.58,2,     0.00,2,     2.95,2,   2375.8,2,   2405.1,2,   7.4151,2,    25.00,     2347
  49UP20131128,RF1310,  4879,  1,     11,  21996,2,20131130,2254, 37.0027, 149.6557, 5954,   1820.5,   1.9872,  34.5857,2,  34.5851,2,     70.9,2,   161.22,2,    41.08,2,     0.00,2,     2.91,2,   2372.7,2,   2410.3,2,   7.4382,2,    25.00,     2342
  49UP20131128,RF1310,  4879,  1,     10,  22107,2,20131130,2254, 37.0027, 149.6557, 5954,   2025.8,   1.8480,  34.6100,2,  34.6096,2,     84.4,2,   161.07,2,    40.23,2,     0.00,2,     2.84,2,   2365.8,6,   2413.8,6,   7.4607,2,    25.00,     2338
  49UP20131128,RF1310,  4879,  1,      9,  22108,2,20131130,2254, 37.0027, 149.6557, 5954,   2280.7,   1.7219,  34.6320,2,  34.6320,6,     99.3,2,   159.30,2,    39.25,2,     0.00,2,     2.76,2,   2358.2,2,   2418.3,2,   7.4920,6,    25.00,     2333
  49UP20131128,RF1310,  4879,  1,      8,  22081,2,20131130,2254, 37.0027, 149.6557, 5954,   2532.6,   1.6266,  34.6481,2,  34.6481,2,    113.1,2,   156.78,2,    38.33,2,     0.00,2,     2.69,2,   2351.1,2,   2417.5,2,   7.5175,2,    25.00,     2327
  49UP20131128,RF1310,  4879,  1,      7,  22106,2,20131130,2254, 37.0027, 149.6557, 5954,   2788.5,   1.5682,  34.6582,2,  34.6583,2,    122.3,2,   155.40,2,    37.72,2,     0.00,2,     2.65,2,   2346.1,2,   2419.1,2,   7.5347,2,    25.00,     2321
  49UP20131128,RF1310,  4879,  1,      6,  22113,2,20131130,2254, 37.0027, 149.6557, 5954,   3043.4,   1.5358,  34.6647,2,  34.6640,2,    128.2,2,   154.02,2,    37.33,2,     0.00,2,     2.61,2,   2340.6,2,   2416.6,2,   7.5453,2,    25.00,     2316
  49UP20131128,RF1310,  4879,  1,      5,  22094,2,20131130,2254, 37.0027, 149.6557, 5954,   3300.9,   1.4992,  34.6715,2,  34.6711,6,    135.4,2,   152.73,2,    36.90,2,     0.00,2,     2.58,2,   2338.0,6,   2416.9,6,   7.5575,2,    25.00,     2311
  49UP20131128,RF1310,  4879,  1,      4,  22077,2,20131130,2254, 37.0027, 149.6557, 5954,   3556.7,   1.4845,  34.6761,2,  34.6751,2,    140.3,6,   150.75,6,    36.51,6,     0.00,6,     2.55,6,   2332.9,2,   2415.1,2,   7.5664,2,    25.00,     2305
  49UP20131128,RF1310,  4879,  1,      3,  22104,2,20131130,2254, 37.0027, 149.6557, 5954,   3813.3,   1.4752,  34.6796,2,  34.6789,2,    144.0,2,   150.39,2,    36.27,2,     0.00,2,     2.52,2,   2328.5,2,   2414.8,2,   7.5732,2,    25.00,     2300
  49UP20131128,RF1310,  4879,  1,      2,  22075,2,20131130,2254, 37.0027, 149.6557, 5954,   3813.3,   1.4752,  34.6796,2,  34.6785,2,    144.4,2,   150.16,2,    36.25,2,     0.00,2,     2.52,2,   2330.2,2,   2416.0,2,   7.5722,2,    25.00,     2300
  49UP20131128,RF1310,  4879,  1,      1,  21997,2,20131130,2254, 37.0027, 149.6557, 5954,   4069.7,   1.4748,  34.6828,2,  34.6821,2,    147.6,2,   149.48,2,    36.08,2,     0.00,2,     2.51,2,   2326.7,2,   2415.0,2,   7.5780,6,    25.00,     2254
  49UP20131128,RF1310,  4882,  1,     99,     99,2,20131201,1115, 37.9997, 149.1022, 5820,      0.0,  16.9881,  34.1157,2,  34.1087,2,    233.1,2,     3.47,2,     1.19,2,     0.22,2,     0.18,2,   1997.5,2,   2254.2,2,   7.9967,2,    25.00,     1150
  49UP20131128,RF1310,  4882,  1,     36,  22109,2,20131201,1115, 37.9997, 149.1022, 5820,      9.9,  16.9890,  34.1146,2,  34.1099,2,    232.2,2,     3.55,2,     1.26,2,     0.22,2,     0.17,2,   1994.8,2,   2255.9,2,   7.9925,2,    25.00,     1212
  49UP20131128,RF1310,  4882,  1,     35,  22112,2,20131201,1115, 37.9997, 149.1022, 5820,     25.8,  16.9938,  34.1159,2,-999.0000,9,    232.1,2,     3.49,2,     1.24,2,     0.22,2,     0.17,2,   1994.0,2,   2256.8,2,   7.9967,2,    25.00,     1210
  49UP20131128,RF1310,  4882,  1,     34,  22083,2,20131201,1115, 37.9997, 149.1022, 5820,     50.2,  16.8862,  34.1553,2,-999.0000,9,    232.6,2,     3.56,2,     1.29,2,     0.23,2,     0.18,2,   1999.2,2,   2259.2,2,   7.9944,2,    25.00,     1209
  49UP20131128,RF1310,  4882,  1,     33,  23517,2,20131201,1115, 37.9997, 149.1022, 5820,     75.9,  16.5852,  34.2596,2,-999.0000,9,    232.5,6,     3.97,6,     1.71,6,     0.24,6,     0.20,6,   2008.8,2,   2263.2,2,   7.9813,2,    25.00,     1207
  49UP20131128,RF1310,  4882,  1,     32,  22105,2,20131201,1115, 37.9997, 149.1022, 5820,    101.0,  14.0889,  34.2803,2,  34.2810,2,    201.5,2,    13.41,2,    10.08,2,     0.04,2,     0.72,2,   2078.9,2,   2269.3,2,   7.8608,2,    25.00,     1204
  49UP20131128,RF1310,  4882,  1,     31,  22076,2,20131201,1115, 37.9997, 149.1022, 5820,    101.0,  14.0889,  34.2803,2,  34.2836,2,    201.2,2,    13.45,2,    10.11,2,     0.04,2,     0.73,2,   2077.4,2,   2269.9,2,   7.8596,2,    25.00,     1204
  49UP20131128,RF1310,  4882,  1,     28,  22091,2,20131201,1115, 37.9997, 149.1022, 5820,    125.5,  12.2924,  34.2272,2,-999.0000,9,    197.4,2,    17.32,2,    12.72,2,     0.02,2,     0.92,2,   2096.9,2,   2270.4,2,   7.8184,2,    25.00,     1203
  49UP20131128,RF1310,  4882,  1,     27,  21998,2,20131201,1115, 37.9997, 149.1022, 5820,    150.1,  10.7915,  34.1298,2,-999.0000,9,    197.2,2,    22.30,2,    15.15,2,     0.01,2,     1.11,2,   2114.6,2,   2269.5,2,   7.7756,2,    25.00,     1202
  49UP20131128,RF1310,  4882,  1,     26,  22084,2,20131201,1115, 37.9997, 149.1022, 5820,    200.2,   8.1020,  33.9874,2,  33.9906,2,    194.1,2,    32.79,2,    19.70,2,     0.01,2,     1.44,2,   2144.2,2,   2271.4,2,   7.6981,2,    25.00,     1200
  49UP20131128,RF1310,  4882,  1,     25,  22098,2,20131201,1115, 37.9997, 149.1022, 5820,    251.3,   6.3080,  33.8745,2,-999.0000,9,    192.0,2,    43.57,2,    23.61,2,     0.00,2,     1.74,2,   2174.2,2,   2275.6,2,   7.6310,2,    25.00,     1158
  49UP20131128,RF1310,  4882,  1,     24,  22110,2,20131201,1115, 37.9997, 149.1022, 5820,    302.3,   5.6680,  33.8909,2,-999.0000,9,    169.6,2,    53.55,2,    27.16,2,     0.00,2,     1.99,2,   2200.1,2,   2282.2,2,   7.5754,2,    25.00,     1157
  49UP20131128,RF1310,  4882,  1,     18,  22101,2,20131201,1115, 37.9997, 149.1022, 5820,    404.8,   4.8450,  33.9649,2,  33.9621,2,    121.0,2,    73.75,2,    33.20,2,     0.00,2,     2.42,2,   2253.9,2,   2297.9,2,   7.4748,2,    25.00,     1154
  49UP20131128,RF1310,  4882,  1,     17,  22090,2,20131201,1115, 37.9997, 149.1022, 5820,    505.2,   3.8295,  34.0012,2,-999.0000,9,     76.3,2,    96.13,2,    38.66,2,     0.00,2,     2.80,2,   2303.4,2,   2312.3,2,   7.3664,2,    25.00,     1151
  49UP20131128,RF1310,  4882,  1,     16,  22089,2,20131201,1115, 37.9997, 149.1022, 5820,    606.4,   3.7870,  34.1456,2,  34.1456,6,     51.6,2,   109.99,2,    40.61,2,     0.00,2,     2.92,2,   2331.0,2,   2331.0,2,   7.3464,2,    25.00,     1148
  49UP20131128,RF1310,  4882,  1,     15,  22088,2,20131201,1115, 37.9997, 149.1022, 5820,    706.4,   3.8425,  34.2720,2,-999.0000,9,     49.8,2,   115.80,2,    40.45,2,     0.00,2,     2.90,2,   2337.0,2,   2346.5,2,   7.3728,2,    25.00,     1146
  49UP20131128,RF1310,  4882,  1,      9,  22108,2,20131201,1115, 37.9997, 149.1022, 5820,    808.0,   3.5982,  34.3385,2,  34.3366,2,     48.6,2,   123.16,2,    40.82,2,     0.00,2,     2.93,2,   2344.8,2,   2356.9,2,   7.3830,2,    25.00,     1143
  49UP20131128,RF1310,  4882,  1,      8,  22081,2,20131201,1115, 37.9997, 149.1022, 5820,    907.5,   3.3792,  34.3695,2,-999.0000,9,     46.9,6,   128.76,6,    41.24,6,     0.00,6,     2.95,6,   2350.6,2,   2363.5,2,   7.3791,2,    25.00,     1140
  49UP20131128,RF1310,  4882,  1,      7,  22106,2,20131201,1115, 37.9997, 149.1022, 5820,   1010.4,   3.0503,  34.4033,2,  34.4028,2,     43.3,2,   137.74,2,    41.91,2,     0.00,2,     3.00,2,   2361.9,2,   2372.6,2,   7.3716,2,    25.00,     1137
  49UP20131128,RF1310,  4882,  1,      6,  22113,2,20131201,1115, 37.9997, 149.1022, 5820,   1010.4,   3.0503,  34.4033,2,  34.4026,2,     42.5,2,   137.62,2,    41.86,2,     0.00,2,     3.00,2,   2364.0,2,   2376.9,2,   7.3728,2,    25.00,     1137
  49UP20131128,RF1310,  4882,  1,      5,  22094,2,20131201,1115, 37.9997, 149.1022, 5820,   1212.9,   2.6490,  34.4614,2,  34.4614,2,     39.1,2,   149.46,2,    42.62,2,     0.00,2,     3.04,2,   2378.2,6,   2388.3,6,   7.3677,2,    25.00,     1133
  49UP20131128,RF1310,  4882,  1,      4,  22077,2,20131201,1115, 37.9997, 149.1022, 5820,   1416.8,   2.3685,  34.5055,2,  34.5046,2,     44.5,2,   157.13,2,    42.50,2,     0.00,2,     3.02,2,   2383.1,2,   2397.0,2,   7.3786,6,    25.00,     1128
  49UP20131128,RF1310,  4882,  1,      3,  22104,2,20131201,1115, 37.9997, 149.1022, 5820,   1616.8,   2.1850,  34.5492,2,  34.5494,6,     54.9,2,   160.00,2,    41.98,2,     0.00,2,     2.97,2,   2380.4,2,   2404.4,2,   7.4034,2,    25.00,     1124
  49UP20131128,RF1310,  4882,  1,      2,  22075,2,20131201,1115, 37.9997, 149.1022, 5820,   1821.0,   2.0468,  34.5746,2,  34.5715,4,     63.1,3,   161.29,2,    41.51,2,     0.00,2,     2.94,2,   2378.9,6,   2406.7,6,   7.4191,2,    25.00,     1119
  49UP20131128,RF1310,  4882,  1,      1,  21997,2,20131201,1115, 37.9997, 149.1022, 5820,   2024.0,   1.9282,  34.5969,2,  34.5984,2,     75.8,2,   162.00,2,    40.77,2,     0.00,2,     2.87,2,   2371.7,2,   2411.0,2,   7.4466,6,    25.00,     1115