BOTTLE,20200303PRINUNIVRMK
EXPOCODE,SECT_ID,STNNBR,CASTNO,SAMPNO,BTLNBR,BTLNBR_FLAG_W,DATE,TIME,LATITUDE,LONGITUDE,DEPTH,CTDPRS,CTDTMP,CTDSAL,CTDSAL_FLAG_W,SALNTY,SALNTY_FLAG_W,OXYGEN,OXYGEN_FLAG_W,SILCAT,SILCAT_FLAG_W,NITRAT,NITRAT_FLAG_W,NITRIT,NITRIT_FLAG_W,PHSPHT,PHSPHT_FLAG_W,TCARBN,TCARBN_FLAG_W,ALKALI,ALKALI_FLAG_W,PH_TOT,PH_TOT_FLAG_W,PH_TMP,BTL_TIME
,,,,,,,,,,,METERS,DBAR,ITS-90,PSS-78,,PSS-78,,UMOL/KG,,UMOL/KG,,UMOL/KG,,UMOL/KG,,UMOL/KG,,UMOL/KG,,UMOL/KG,,,,DEG C,
  49UP20131128,RF1310,  4921,  1,     99,     99,2,20131218,0307, 30.9988, 143.9965, 5767,      0.0,  21.1030,  34.7642,2,-999.0000,9,    217.1,2,     1.77,2,     0.12,2,     0.01,2,     0.03,2,   -999.0,9,   -999.0,9,-999.0000,9,  -999.00,      345
  49UP20131128,RF1310,  4921,  1,     33,  23517,2,20131218,0307, 30.9988, 143.9965, 5767,     10.3,  21.1209,  34.7637,2,  34.7633,2,    216.7,2,     1.91,2,     0.10,2,     0.01,2,     0.02,2,   -999.0,9,   -999.0,9,-999.0000,9,  -999.00,      402
  49UP20131128,RF1310,  4921,  1,     32,  22105,2,20131218,0307, 30.9988, 143.9965, 5767,     25.5,  21.1240,  34.7636,2,-999.0000,9,    217.0,2,     1.84,2,     0.05,2,     0.01,2,     0.02,2,   -999.0,9,   -999.0,9,-999.0000,9,  -999.00,      401
  49UP20131128,RF1310,  4921,  1,     31,  22076,2,20131218,0307, 30.9988, 143.9965, 5767,     50.2,  21.1324,  34.7629,2,-999.0000,9,    216.6,2,     1.79,2,     0.07,2,     0.01,2,     0.02,2,   -999.0,9,   -999.0,9,-999.0000,9,  -999.00,      400
  49UP20131128,RF1310,  4921,  1,     28,  22091,2,20131218,0307, 30.9988, 143.9965, 5767,     74.9,  20.8100,  34.7607,2,-999.0000,9,    213.9,6,     2.18,6,     0.50,6,     0.03,6,     0.05,6,   -999.0,9,   -999.0,9,-999.0000,9,  -999.00,      358
  49UP20131128,RF1310,  4921,  1,     27,  21998,2,20131218,0307, 30.9988, 143.9965, 5767,    102.6,  19.3187,  34.7697,2,  34.7701,2,    207.3,2,     2.72,2,     1.73,2,     0.06,2,     0.13,2,   -999.0,9,   -999.0,9,-999.0000,9,  -999.00,      357
  49UP20131128,RF1310,  4921,  1,     26,  22084,3,20131218,0307, 30.9988, 143.9965, 5767,    102.6,  19.3187,  34.7697,2,  34.7733,4,    206.9,2,     2.73,2,     1.69,2,     0.06,2,     0.13,2,   -999.0,9,   -999.0,9,-999.0000,9,  -999.00,      357
  49UP20131128,RF1310,  4921,  1,     22,  22111,2,20131218,0307, 30.9988, 143.9965, 5767,    127.8,  18.5093,  34.7604,2,-999.0000,9,    212.0,2,     2.80,2,     1.05,2,     0.02,2,     0.11,2,   -999.0,9,   -999.0,9,-999.0000,9,  -999.00,      355
  49UP20131128,RF1310,  4921,  1,     21,  22078,2,20131218,0307, 30.9988, 143.9965, 5767,    150.2,  18.2209,  34.7548,2,-999.0000,9,    208.0,2,     3.00,2,     1.82,2,     0.02,2,     0.16,2,   -999.0,9,   -999.0,9,-999.0000,9,  -999.00,      352
  49UP20131128,RF1310,  4921,  1,     20,  22093,2,20131218,0307, 30.9988, 143.9965, 5767,    199.9,  17.5854,  34.7251,2,  34.7256,6,    204.5,2,     4.03,2,     4.16,2,     0.01,2,     0.27,2,   -999.0,9,   -999.0,9,-999.0000,9,  -999.00,      351
  49UP20131128,RF1310,  4921,  1,     19,  22092,2,20131218,0307, 30.9988, 143.9965, 5767,    253.2,  16.9795,  34.6971,2,-999.0000,9,    203.9,2,     4.89,2,     5.15,2,     0.01,2,     0.33,2,   -999.0,9,   -999.0,9,-999.0000,9,  -999.00,      349
  49UP20131128,RF1310,  4921,  1,     18,  22101,2,20131218,0307, 30.9988, 143.9965, 5767,    303.0,  16.4233,  34.6578,2,-999.0000,9,    199.4,2,     6.48,2,     6.48,2,     0.01,2,     0.42,2,   -999.0,9,   -999.0,9,-999.0000,9,  -999.00,      347
  49UP20131128,RF1310,  4921,  1,     17,  22090,2,20131218,0307, 30.9988, 143.9965, 5767,    400.9,  14.5486,  34.5290,2,  34.5318,2,    185.5,2,    12.65,2,    10.84,2,     0.00,2,     0.72,2,   -999.0,9,   -999.0,9,-999.0000,9,  -999.00,      345
  49UP20131128,RF1310,  4921,  1,     16,  22089,3,20131218,0307, 30.9988, 143.9965, 5767,    500.8,  11.9543,  34.3404,2,-999.0000,9,    184.4,2,    19.12,2,    14.98,2,     0.00,2,     1.02,2,   -999.0,9,   -999.0,9,-999.0000,9,  -999.00,      342
  49UP20131128,RF1310,  4921,  1,     15,  22088,2,20131218,0307, 30.9988, 143.9965, 5767,    603.0,   9.0825,  34.1391,2,  34.1444,4,    175.2,2,    32.50,2,    20.64,2,     0.00,2,     1.45,2,   -999.0,9,   -999.0,9,-999.0000,9,  -999.00,      339
  49UP20131128,RF1310,  4921,  1,     14,  21999,2,20131218,0307, 30.9988, 143.9965, 5767,    706.4,   6.6430,  34.0207,2,-999.0000,9,    145.5,2,    54.07,2,    27.98,2,     0.00,2,     2.02,2,   -999.0,9,   -999.0,9,-999.0000,9,  -999.00,      336
  49UP20131128,RF1310,  4921,  1,     13,  22667,2,20131218,0307, 30.9988, 143.9965, 5767,    807.5,   5.1002,  34.0513,2,  34.0537,2,    100.3,2,    78.29,2,    34.70,2,     0.00,2,     2.51,2,   -999.0,9,   -999.0,9,-999.0000,9,  -999.00,      334
  49UP20131128,RF1310,  4921,  1,     12,  22074,2,20131218,0307, 30.9988, 143.9965, 5767,    907.6,   4.4675,  34.1476,2,  34.1484,6,     68.5,2,    96.88,2,    38.51,2,     0.00,2,     2.78,2,   -999.0,9,   -999.0,9,-999.0000,9,  -999.00,      331
  49UP20131128,RF1310,  4921,  1,     11,  21996,4,20131218,0307, 30.9988, 143.9965, 5767,   1010.1,   4.0106,  34.2362,2,-999.0000,9,    206.8,4,     3.00,4,     1.90,4,     0.02,4,     0.17,4,   -999.0,9,   -999.0,9,-999.0000,9,  -999.00,      328
  49UP20131128,RF1310,  4921,  1,     10,  22107,2,20131218,0307, 30.9988, 143.9965, 5767,   1213.8,   3.2716,  34.3644,2,  34.3610,2,     39.9,2,   132.13,2,    42.16,2,     0.00,2,     3.01,2,   -999.0,9,   -999.0,9,-999.0000,9,  -999.00,      324
  49UP20131128,RF1310,  4921,  1,      5,  22094,2,20131218,0307, 30.9988, 143.9965, 5767,   1411.4,   2.7843,  34.4522,2,  34.4514,2,     37.9,6,   146.34,6,    42.84,6,     0.00,6,     3.06,6,   -999.0,9,   -999.0,9,-999.0000,9,  -999.00,      320
  49UP20131128,RF1310,  4921,  1,      4,  22077,2,20131218,0307, 30.9988, 143.9965, 5767,   1617.4,   2.4411,  34.5102,2,  34.5107,2,     44.5,2,   155.35,2,    42.67,2,     0.00,2,     3.04,2,   -999.0,9,   -999.0,9,-999.0000,9,  -999.00,      315
  49UP20131128,RF1310,  4921,  1,      3,  22104,2,20131218,0307, 30.9988, 143.9965, 5767,   1617.4,   2.4411,  34.5102,2,  34.5097,2,     44.3,2,   155.14,2,    42.80,2,     0.00,2,     3.04,2,   -999.0,9,   -999.0,9,-999.0000,9,  -999.00,      315
  49UP20131128,RF1310,  4921,  1,      2,  22075,2,20131218,0307, 30.9988, 143.9965, 5767,   1818.9,   2.2181,  34.5496,2,  34.5506,2,     54.8,2,   159.61,2,    42.04,2,     0.00,2,     2.98,2,   -999.0,9,   -999.0,9,-999.0000,9,  -999.00,      311
  49UP20131128,RF1310,  4921,  1,      1,  21997,2,20131218,0307, 30.9988, 143.9965, 5767,   2025.2,   2.0430,  34.5820,2,  34.5817,6,     70.7,2,   160.63,2,    41.29,2,     0.00,2,     2.92,2,   -999.0,9,   -999.0,9,-999.0000,9,  -999.00,      307