BOTTLE,20200303PRINUNIVRMK
EXPOCODE,SECT_ID,STNNBR,CASTNO,SAMPNO,BTLNBR,BTLNBR_FLAG_W,DATE,TIME,LATITUDE,LONGITUDE,DEPTH,CTDPRS,CTDTMP,CTDSAL,CTDSAL_FLAG_W,SALNTY,SALNTY_FLAG_W,OXYGEN,OXYGEN_FLAG_W,SILCAT,SILCAT_FLAG_W,NITRAT,NITRAT_FLAG_W,NITRIT,NITRIT_FLAG_W,PHSPHT,PHSPHT_FLAG_W,TCARBN,TCARBN_FLAG_W,ALKALI,ALKALI_FLAG_W,PH_TOT,PH_TOT_FLAG_W,PH_TMP,BTL_TIME
,,,,,,,,,,,METERS,DBAR,ITS-90,PSS-78,,PSS-78,,UMOL/KG,,UMOL/KG,,UMOL/KG,,UMOL/KG,,UMOL/KG,,UMOL/KG,,UMOL/KG,,,,DEG C,
  49UP20131128,RF1310,  4899,  1,     99,     99,2,20131204,0424, 42.6697, 145.7260, 2363,      0.0,   7.0553,  33.0232,2,-999.0000,9,    290.3,2,    24.81,2,    12.11,2,     0.18,2,     1.09,2,   -999.0,9,   -999.0,9,-999.0000,9,  -999.00,      502
  49UP20131128,RF1310,  4899,  1,     36,  22109,2,20131204,0424, 42.6697, 145.7260, 2363,     10.5,   7.0342,  33.0230,2,  33.0209,2,    290.2,2,    25.35,2,    12.39,2,     0.19,2,     1.11,2,   -999.0,9,   -999.0,9,-999.0000,9,  -999.00,      519
  49UP20131128,RF1310,  4899,  1,     35,  22112,3,20131204,0424, 42.6697, 145.7260, 2363,     25.7,   5.8082,  33.0288,2,-999.0000,9,    296.4,2,    30.10,2,    14.78,2,     0.23,2,     1.28,2,   -999.0,9,   -999.0,9,-999.0000,9,  -999.00,      518
  49UP20131128,RF1310,  4899,  1,     34,  22083,2,20131204,0424, 42.6697, 145.7260, 2363,     51.9,   5.1913,  33.0193,2,-999.0000,9,    297.3,2,    32.99,2,    16.40,2,     0.24,2,     1.40,2,   -999.0,9,   -999.0,9,-999.0000,9,  -999.00,      514
  49UP20131128,RF1310,  4899,  1,     30,  22097,3,20131204,0424, 42.6697, 145.7260, 2363,     75.7,   3.3626,  33.1358,2,-999.0000,9,    254.4,2,    48.82,2,    24.34,2,     0.02,2,     1.95,2,   -999.0,9,   -999.0,9,-999.0000,9,  -999.00,      513
  49UP20131128,RF1310,  4899,  1,     29,  22102,2,20131204,0424, 42.6697, 145.7260, 2363,    102.6,   3.6216,  33.3695,2,  33.3737,6,    263.1,2,    38.02,2,    22.94,2,     0.01,2,     1.79,2,   -999.0,9,   -999.0,9,-999.0000,9,  -999.00,      512
  49UP20131128,RF1310,  4899,  1,     28,  22091,3,20131204,0424, 42.6697, 145.7260, 2363,    127.5,   3.2547,  33.3970,2,-999.0000,9,    253.3,2,    43.30,2,    24.57,2,     0.01,2,     1.90,2,   -999.0,9,   -999.0,9,-999.0000,9,  -999.00,      511
  49UP20131128,RF1310,  4899,  1,     27,  21998,2,20131204,0424, 42.6697, 145.7260, 2363,    151.9,   2.2444,  33.3491,2,-999.0000,9,    231.5,2,    56.46,2,    28.42,2,     0.01,2,     2.19,2,   -999.0,9,   -999.0,9,-999.0000,9,  -999.00,      510
  49UP20131128,RF1310,  4899,  1,     26,  22084,2,20131204,0424, 42.6697, 145.7260, 2363,    202.7,   2.3073,  33.4547,2,  33.4528,2,    206.4,2,    62.83,2,    30.71,2,     0.00,2,     2.33,2,   -999.0,9,   -999.0,9,-999.0000,9,  -999.00,      508
  49UP20131128,RF1310,  4899,  1,     25,  22098,2,20131204,0424, 42.6697, 145.7260, 2363,    253.4,   2.1003,  33.5197,2,-999.0000,9,    173.1,6,    73.51,6,    33.62,6,     0.00,6,     2.54,6,   -999.0,9,   -999.0,9,-999.0000,9,  -999.00,      507
  49UP20131128,RF1310,  4899,  1,     24,  22110,2,20131204,0424, 42.6697, 145.7260, 2363,    303.5,   2.7354,  33.6659,2,-999.0000,9,    137.4,2,    80.46,2,    35.96,2,     0.00,2,     2.67,2,   -999.0,9,   -999.0,9,-999.0000,9,  -999.00,      505
  49UP20131128,RF1310,  4899,  1,     23,  22096,3,20131204,0424, 42.6697, 145.7260, 2363,    303.5,   2.7354,  33.6659,2,-999.0000,9,    137.7,2,    80.50,2,    35.96,2,     0.01,2,     2.66,2,   -999.0,9,   -999.0,9,-999.0000,9,  -999.00,      505
  49UP20131128,RF1310,  4899,  1,     22,  22111,3,20131204,0424, 42.6697, 145.7260, 2363,    405.0,   2.7919,  33.8279,2,  33.8292,2,     85.5,2,    98.90,2,    39.75,2,     0.00,2,     2.91,2,   -999.0,9,   -999.0,9,-999.0000,9,  -999.00,      502
  49UP20131128,RF1310,  4899,  1,     21,  22078,2,20131204,0424, 42.6697, 145.7260, 2363,    505.9,   3.5293,  34.0508,2,-999.0000,9,     52.1,2,   108.13,2,    41.28,2,     0.00,2,     2.97,2,   -999.0,9,   -999.0,9,-999.0000,9,  -999.00,      500
  49UP20131128,RF1310,  4899,  1,     20,  22093,3,20131204,0424, 42.6697, 145.7260, 2363,    606.2,   3.4771,  34.1686,2,  34.1711,2,     37.7,2,   119.54,2,    42.17,2,     0.00,2,     3.03,2,   -999.0,9,   -999.0,9,-999.0000,9,  -999.00,      457
  49UP20131128,RF1310,  4899,  1,     19,  22092,3,20131204,0424, 42.6697, 145.7260, 2363,    707.8,   3.3316,  34.2463,2,-999.0000,9,     34.2,2,   127.27,2,    42.39,2,     0.00,2,     3.04,2,   -999.0,9,   -999.0,9,-999.0000,9,  -999.00,      455
  49UP20131128,RF1310,  4899,  1,     14,  21999,2,20131204,0424, 42.6697, 145.7260, 2363,    808.7,   3.0508,  34.2923,2,  34.2918,2,     28.3,2,   136.77,2,    43.03,2,     0.00,2,     3.09,2,   -999.0,9,   -999.0,9,-999.0000,9,  -999.00,      452
  49UP20131128,RF1310,  4899,  1,     13,  22667,3,20131204,0424, 42.6697, 145.7260, 2363,    909.4,   2.9369,  34.3523,2,-999.0000,9,     31.4,2,   141.46,2,    42.72,2,     0.00,2,     3.08,2,   -999.0,9,   -999.0,9,-999.0000,9,  -999.00,      449
  49UP20131128,RF1310,  4899,  1,     12,  22074,3,20131204,0424, 42.6697, 145.7260, 2363,   1011.0,   2.8487,  34.4010,2,  34.4004,2,     36.2,2,   143.99,2,    42.48,2,     0.00,2,     3.06,2,   -999.0,9,   -999.0,9,-999.0000,9,  -999.00,      447
  49UP20131128,RF1310,  4899,  1,     11,  21996,3,20131204,0424, 42.6697, 145.7260, 2363,   1212.5,   2.6135,  34.4562,2,  34.4561,2,     39.0,2,   151.06,2,    42.56,2,     0.00,2,     3.05,2,   -999.0,9,   -999.0,9,-999.0000,9,  -999.00,      442
  49UP20131128,RF1310,  4899,  1,     10,  22107,3,20131204,0424, 42.6697, 145.7260, 2363,   1416.3,   2.4066,  34.5009,2,  34.5012,6,     44.5,2,   156.21,2,    42.43,2,     0.00,2,     3.03,2,   -999.0,9,   -999.0,9,-999.0000,9,  -999.00,      438
  49UP20131128,RF1310,  4899,  1,      9,  22108,2,20131204,0424, 42.6697, 145.7260, 2363,   1619.6,   2.2159,  34.5337,2,  34.5337,2,     51.5,2,   160.65,2,    42.11,2,     0.00,2,     3.00,2,   -999.0,9,   -999.0,9,-999.0000,9,  -999.00,      434
  49UP20131128,RF1310,  4899,  1,      8,  22081,2,20131204,0424, 42.6697, 145.7260, 2363,   1822.9,   2.1029,  34.5620,2,  34.5644,2,     60.3,6,   162.19,6,    41.62,6,     0.00,6,     2.96,6,   -999.0,9,   -999.0,9,-999.0000,9,  -999.00,      429
  49UP20131128,RF1310,  4899,  1,      7,  22106,3,20131204,0424, 42.6697, 145.7260, 2363,   2029.0,   1.9589,  34.5916,2,  34.5924,2,     73.0,2,   163.05,2,    40.83,2,     0.00,2,     2.90,2,   -999.0,9,   -999.0,9,-999.0000,9,  -999.00,      424
  49UP20131128,RF1310,  4899,  1,      6,  22113,2,20131204,0424, 42.6697, 145.7260, 2363,   2029.0,   1.9589,  34.5916,2,  34.5926,2,     73.1,2,   162.88,2,    40.82,2,     0.00,2,     2.91,2,   -999.0,9,   -999.0,9,-999.0000,9,  -999.00,      424
  49UP20131128,RF1310,  4902,  1,     99,     99,2,20131204,1540, 41.8100, 144.6042, 2416,      0.0,  11.5505,  33.6571,2,-999.0000,9,    256.3,2,  -999.00,9,  -999.00,9,  -999.00,9,  -999.00,9,   -999.0,9,   -999.0,9,-999.0000,9,  -999.00,     1619
  49UP20131128,RF1310,  4902,  1,     36,  22109,2,20131204,1540, 41.8100, 144.6042, 2416,     11.2,  11.5582,  33.6557,2,  33.6549,2,    254.5,2,  -999.00,9,  -999.00,9,  -999.00,9,  -999.00,9,   -999.0,9,   -999.0,9,-999.0000,9,  -999.00,     1634
  49UP20131128,RF1310,  4902,  1,     35,  22112,2,20131204,1540, 41.8100, 144.6042, 2416,     26.3,  10.9913,  33.5489,2,-999.0000,9,    255.1,2,  -999.00,9,  -999.00,9,  -999.00,9,  -999.00,9,   -999.0,9,   -999.0,9,-999.0000,9,  -999.00,     1633
  49UP20131128,RF1310,  4902,  1,     34,  22083,2,20131204,1540, 41.8100, 144.6042, 2416,     55.4,   9.2704,  33.3578,2,-999.0000,9,    264.7,2,  -999.00,9,  -999.00,9,  -999.00,9,  -999.00,9,   -999.0,9,   -999.0,9,-999.0000,9,  -999.00,     1630
  49UP20131128,RF1310,  4902,  1,     30,  22097,3,20131204,1540, 41.8100, 144.6042, 2416,     80.9,   6.4764,  33.2624,2,-999.0000,9,    257.3,2,  -999.00,9,  -999.00,9,  -999.00,9,  -999.00,9,   -999.0,9,   -999.0,9,-999.0000,9,  -999.00,     1629
  49UP20131128,RF1310,  4902,  1,     29,  22102,2,20131204,1540, 41.8100, 144.6042, 2416,    105.1,   3.6311,  33.2134,2,  33.2146,6,    258.3,2,  -999.00,9,  -999.00,9,  -999.00,9,  -999.00,9,   -999.0,9,   -999.0,9,-999.0000,9,  -999.00,     1627
  49UP20131128,RF1310,  4902,  1,     28,  22091,2,20131204,1540, 41.8100, 144.6042, 2416,    126.8,   3.8624,  33.3717,2,-999.0000,9,    242.6,2,  -999.00,9,  -999.00,9,  -999.00,9,  -999.00,9,   -999.0,9,   -999.0,9,-999.0000,9,  -999.00,     1626
  49UP20131128,RF1310,  4902,  1,     27,  21998,2,20131204,1540, 41.8100, 144.6042, 2416,    151.8,   4.9114,  33.6026,2,-999.0000,9,    223.7,2,  -999.00,9,  -999.00,9,  -999.00,9,  -999.00,9,   -999.0,9,   -999.0,9,-999.0000,9,  -999.00,     1625
  49UP20131128,RF1310,  4902,  1,     26,  22084,2,20131204,1540, 41.8100, 144.6042, 2416,    202.0,   5.4727,  33.8200,2,  33.8222,2,    185.1,2,  -999.00,9,  -999.00,9,  -999.00,9,  -999.00,9,   -999.0,9,   -999.0,9,-999.0000,9,  -999.00,     1624
  49UP20131128,RF1310,  4902,  1,     25,  22098,2,20131204,1540, 41.8100, 144.6042, 2416,    252.5,   5.4818,  33.9279,2,-999.0000,9,    153.8,2,  -999.00,9,  -999.00,9,  -999.00,9,  -999.00,9,   -999.0,9,   -999.0,9,-999.0000,9,  -999.00,     1622
  49UP20131128,RF1310,  4902,  1,     24,  22110,2,20131204,1540, 41.8100, 144.6042, 2416,    303.9,   5.4928,  34.0297,2,-999.0000,9,    121.8,6,  -999.00,9,  -999.00,9,  -999.00,9,  -999.00,9,   -999.0,9,   -999.0,9,-999.0000,9,  -999.00,     1620
  49UP20131128,RF1310,  4902,  1,     23,  22096,2,20131204,1540, 41.8100, 144.6042, 2416,    408.1,   4.7017,  34.0815,2,  34.0722,4,     91.2,2,  -999.00,9,  -999.00,9,  -999.00,9,  -999.00,9,   -999.0,9,   -999.0,9,-999.0000,9,  -999.00,     1617
  49UP20131128,RF1310,  4902,  1,     22,  22111,2,20131204,1540, 41.8100, 144.6042, 2416,    408.1,   4.7017,  34.0815,2,  34.0786,2,     91.1,2,  -999.00,9,  -999.00,9,  -999.00,9,  -999.00,9,   -999.0,9,   -999.0,9,-999.0000,9,  -999.00,     1617
  49UP20131128,RF1310,  4902,  1,     21,  22078,2,20131204,1540, 41.8100, 144.6042, 2416,    505.9,   3.9303,  34.0976,2,-999.0000,9,     62.2,2,  -999.00,9,  -999.00,9,  -999.00,9,  -999.00,9,   -999.0,9,   -999.0,9,-999.0000,9,  -999.00,     1615
  49UP20131128,RF1310,  4902,  1,     20,  22093,2,20131204,1540, 41.8100, 144.6042, 2416,    608.1,   3.4435,  34.1451,2,  34.1438,2,     39.4,2,  -999.00,9,  -999.00,9,  -999.00,9,  -999.00,9,   -999.0,9,   -999.0,9,-999.0000,9,  -999.00,     1612
  49UP20131128,RF1310,  4902,  1,     19,  22092,2,20131204,1540, 41.8100, 144.6042, 2416,    706.9,   3.6420,  34.2655,2,-999.0000,9,     44.7,6,  -999.00,9,  -999.00,9,  -999.00,9,  -999.00,9,   -999.0,9,   -999.0,9,-999.0000,9,  -999.00,     1610
  49UP20131128,RF1310,  4902,  1,     14,  21999,3,20131204,1540, 41.8100, 144.6042, 2416,    808.3,   3.4147,  34.3154,2,  34.3159,2,     41.0,2,  -999.00,9,  -999.00,9,  -999.00,9,  -999.00,9,   -999.0,9,   -999.0,9,-999.0000,9,  -999.00,     1607
  49UP20131128,RF1310,  4902,  1,     13,  22667,2,20131204,1540, 41.8100, 144.6042, 2416,    808.3,   3.4147,  34.3154,2,  34.3140,2,     41.3,2,  -999.00,9,  -999.00,9,  -999.00,9,  -999.00,9,   -999.0,9,   -999.0,9,-999.0000,9,  -999.00,     1607
  49UP20131128,RF1310,  4902,  1,     12,  22074,2,20131204,1540, 41.8100, 144.6042, 2416,    912.8,   2.9453,  34.3500,2,-999.0000,9,     30.4,2,  -999.00,9,  -999.00,9,  -999.00,9,  -999.00,9,   -999.0,9,   -999.0,9,-999.0000,9,  -999.00,     1604
  49UP20131128,RF1310,  4902,  1,     11,  21996,2,20131204,1540, 41.8100, 144.6042, 2416,   1012.0,   2.7598,  34.4043,2,  34.4050,2,     33.2,2,  -999.00,9,  -999.00,9,  -999.00,9,  -999.00,9,   -999.0,9,   -999.0,9,-999.0000,9,  -999.00,     1602
  49UP20131128,RF1310,  4902,  1,     10,  22107,2,20131204,1540, 41.8100, 144.6042, 2416,   1215.9,   2.5762,  34.4854,2,  34.4848,2,     45.0,2,  -999.00,9,  -999.00,9,  -999.00,9,  -999.00,9,   -999.0,9,   -999.0,9,-999.0000,9,  -999.00,     1557
  49UP20131128,RF1310,  4902,  1,      9,  22108,2,20131204,1540, 41.8100, 144.6042, 2416,   1416.4,   2.4090,  34.5149,2,  34.5152,6,     49.7,2,  -999.00,9,  -999.00,9,  -999.00,9,  -999.00,9,   -999.0,9,   -999.0,9,-999.0000,9,  -999.00,     1553
  49UP20131128,RF1310,  4902,  1,      8,  22081,2,20131204,1540, 41.8100, 144.6042, 2416,   1620.1,   2.1921,  34.5482,2,  34.5521,4,     56.1,2,  -999.00,9,  -999.00,9,  -999.00,9,  -999.00,9,   -999.0,9,   -999.0,9,-999.0000,9,  -999.00,     1548
  49UP20131128,RF1310,  4902,  1,      7,  22106,2,20131204,1540, 41.8100, 144.6042, 2416,   1822.9,   2.0544,  34.5751,2,  34.5758,2,     66.6,2,  -999.00,9,  -999.00,9,  -999.00,9,  -999.00,9,   -999.0,9,   -999.0,9,-999.0000,9,  -999.00,     1544
  49UP20131128,RF1310,  4902,  1,      6,  22113,2,20131204,1540, 41.8100, 144.6042, 2416,   2026.9,   1.9297,  34.5978,2,  34.6055,4,     78.0,2,  -999.00,9,  -999.00,9,  -999.00,9,  -999.00,9,   -999.0,9,   -999.0,9,-999.0000,9,  -999.00,     1540
  49UP20131128,RF1310,  4905,  1,     99,     99,2,20131205,0259, 40.9948, 143.4913, 2023,      0.0,  12.9296,  33.4753,2,-999.0000,9,    245.3,2,  -999.00,9,  -999.00,9,  -999.00,9,  -999.00,9,   -999.0,9,   -999.0,9,-999.0000,9,  -999.00,      342
  49UP20131128,RF1310,  4905,  1,     36,  22109,2,20131205,0259, 40.9948, 143.4913, 2023,     10.6,  11.5185,  33.3514,2,  33.3656,4,    255.5,2,  -999.00,9,  -999.00,9,  -999.00,9,  -999.00,9,   -999.0,9,   -999.0,9,-999.0000,9,  -999.00,      357
  49UP20131128,RF1310,  4905,  1,     35,  22112,2,20131205,0259, 40.9948, 143.4913, 2023,     25.6,   7.2636,  33.0550,2,-999.0000,9,    286.0,2,  -999.00,9,  -999.00,9,  -999.00,9,  -999.00,9,   -999.0,9,   -999.0,9,-999.0000,9,  -999.00,      356
  49UP20131128,RF1310,  4905,  1,     34,  22083,2,20131205,0259, 40.9948, 143.4913, 2023,     51.5,   6.4032,  32.9864,2,-999.0000,9,    290.4,2,  -999.00,9,  -999.00,9,  -999.00,9,  -999.00,9,   -999.0,9,   -999.0,9,-999.0000,9,  -999.00,      353
  49UP20131128,RF1310,  4905,  1,     30,  22097,2,20131205,0259, 40.9948, 143.4913, 2023,     75.0,   6.3514,  33.0912,2,-999.0000,9,    276.0,2,  -999.00,9,  -999.00,9,  -999.00,9,  -999.00,9,   -999.0,9,   -999.0,9,-999.0000,9,  -999.00,      352
  49UP20131128,RF1310,  4905,  1,     29,  22102,2,20131205,0259, 40.9948, 143.4913, 2023,    101.7,   6.1575,  33.5514,2,  33.5341,4,    240.7,2,  -999.00,9,  -999.00,9,  -999.00,9,  -999.00,9,   -999.0,9,   -999.0,9,-999.0000,9,  -999.00,      350
  49UP20131128,RF1310,  4905,  1,     28,  22091,2,20131205,0259, 40.9948, 143.4913, 2023,    126.9,   3.8588,  33.3388,2,-999.0000,9,    250.5,2,  -999.00,9,  -999.00,9,  -999.00,9,  -999.00,9,   -999.0,9,   -999.0,9,-999.0000,9,  -999.00,      349
  49UP20131128,RF1310,  4905,  1,     27,  21998,2,20131205,0259, 40.9948, 143.4913, 2023,    153.3,   2.4914,  33.3106,2,-999.0000,9,    246.7,2,  -999.00,9,  -999.00,9,  -999.00,9,  -999.00,9,   -999.0,9,   -999.0,9,-999.0000,9,  -999.00,      348
  49UP20131128,RF1310,  4905,  1,     26,  22084,2,20131205,0259, 40.9948, 143.4913, 2023,    201.7,   3.1668,  33.5187,2,  33.5167,2,    216.7,2,  -999.00,9,  -999.00,9,  -999.00,9,  -999.00,9,   -999.0,9,   -999.0,9,-999.0000,9,  -999.00,      346
  49UP20131128,RF1310,  4905,  1,     25,  22098,3,20131205,0259, 40.9948, 143.4913, 2023,    251.9,   2.3410,  33.4973,2,-999.0000,9,    195.8,2,  -999.00,9,  -999.00,9,  -999.00,9,  -999.00,9,   -999.0,9,   -999.0,9,-999.0000,9,  -999.00,      344
  49UP20131128,RF1310,  4905,  1,     24,  22110,2,20131205,0259, 40.9948, 143.4913, 2023,    303.6,   2.8745,  33.6446,2,-999.0000,9,    155.2,2,  -999.00,9,  -999.00,9,  -999.00,9,  -999.00,9,   -999.0,9,   -999.0,9,-999.0000,9,  -999.00,      342
  49UP20131128,RF1310,  4905,  1,     23,  22096,2,20131205,0259, 40.9948, 143.4913, 2023,    404.2,   3.2686,  33.7926,2,  33.7890,2,    116.0,6,  -999.00,9,  -999.00,9,  -999.00,9,  -999.00,9,   -999.0,9,   -999.0,9,-999.0000,9,  -999.00,      340
  49UP20131128,RF1310,  4905,  1,     22,  22111,2,20131205,0259, 40.9948, 143.4913, 2023,    506.4,   3.5662,  33.9534,2,-999.0000,9,     75.5,2,  -999.00,9,  -999.00,9,  -999.00,9,  -999.00,9,   -999.0,9,   -999.0,9,-999.0000,9,  -999.00,      337
  49UP20131128,RF1310,  4905,  1,     21,  22078,2,20131205,0259, 40.9948, 143.4913, 2023,    506.4,   3.5662,  33.9534,2,-999.0000,9,     75.0,2,  -999.00,9,  -999.00,9,  -999.00,9,  -999.00,9,   -999.0,9,   -999.0,9,-999.0000,9,  -999.00,      337
  49UP20131128,RF1310,  4905,  1,     20,  22093,2,20131205,0259, 40.9948, 143.4913, 2023,    608.5,   3.9271,  34.1519,2,  34.1500,2,     55.3,2,  -999.00,9,  -999.00,9,  -999.00,9,  -999.00,9,   -999.0,9,   -999.0,9,-999.0000,9,  -999.00,      334
  49UP20131128,RF1310,  4905,  1,     19,  22092,3,20131205,0259, 40.9948, 143.4913, 2023,    707.4,   3.8597,  34.2760,2,-999.0000,9,     50.1,2,  -999.00,9,  -999.00,9,  -999.00,9,  -999.00,9,   -999.0,9,   -999.0,9,-999.0000,9,  -999.00,      331
  49UP20131128,RF1310,  4905,  1,     14,  21999,2,20131205,0259, 40.9948, 143.4913, 2023,    808.9,   3.6082,  34.3386,2,  34.3371,2,     48.9,6,  -999.00,9,  -999.00,9,  -999.00,9,  -999.00,9,   -999.0,9,   -999.0,9,-999.0000,9,  -999.00,      329
  49UP20131128,RF1310,  4905,  1,     13,  22667,3,20131205,0259, 40.9948, 143.4913, 2023,    908.9,   3.3232,  34.3783,2,-999.0000,9,     46.6,2,  -999.00,9,  -999.00,9,  -999.00,9,  -999.00,9,   -999.0,9,   -999.0,9,-999.0000,9,  -999.00,      326
  49UP20131128,RF1310,  4905,  1,     12,  22074,3,20131205,0259, 40.9948, 143.4913, 2023,    908.9,   3.3232,  34.3783,2,-999.0000,9,     46.3,2,  -999.00,9,  -999.00,9,  -999.00,9,  -999.00,9,   -999.0,9,   -999.0,9,-999.0000,9,  -999.00,      326
  49UP20131128,RF1310,  4905,  1,     11,  21996,2,20131205,0259, 40.9948, 143.4913, 2023,   1011.3,   3.0825,  34.4098,2,  34.4104,2,     44.4,2,  -999.00,9,  -999.00,9,  -999.00,9,  -999.00,9,   -999.0,9,   -999.0,9,-999.0000,9,  -999.00,      323
  49UP20131128,RF1310,  4905,  1,     10,  22107,3,20131205,0259, 40.9948, 143.4913, 2023,   1214.8,   2.6798,  34.4572,2,  34.4575,2,     41.0,2,  -999.00,9,  -999.00,9,  -999.00,9,  -999.00,9,   -999.0,9,   -999.0,9,-999.0000,9,  -999.00,      319
  49UP20131128,RF1310,  4905,  1,      9,  22108,2,20131205,0259, 40.9948, 143.4913, 2023,   1419.7,   2.3759,  34.5008,2,  34.4997,2,     44.2,2,  -999.00,9,  -999.00,9,  -999.00,9,  -999.00,9,   -999.0,9,   -999.0,9,-999.0000,9,  -999.00,      314
  49UP20131128,RF1310,  4905,  1,      8,  22081,2,20131205,0259, 40.9948, 143.4913, 2023,   1623.5,   2.2061,  34.5428,2,  34.5445,2,     54.0,2,  -999.00,9,  -999.00,9,  -999.00,9,  -999.00,9,   -999.0,9,   -999.0,9,-999.0000,9,  -999.00,      309
  49UP20131128,RF1310,  4905,  1,      7,  22106,3,20131205,0259, 40.9948, 143.4913, 2023,   1823.0,   2.0262,  34.5780,2,  34.5794,6,     67.2,2,  -999.00,9,  -999.00,9,  -999.00,9,  -999.00,9,   -999.0,9,   -999.0,9,-999.0000,9,  -999.00,      303
  49UP20131128,RF1310,  4905,  1,      1,  21997,2,20131205,0259, 40.9948, 143.4913, 2023,   1994.9,   1.8354,  34.6113,2,  34.6104,2,     85.0,2,  -999.00,9,  -999.00,9,  -999.00,9,  -999.00,9,   -999.0,9,   -999.0,9,-999.0000,9,  -999.00,      259