BOTTLE,20200303PRINUNIVRMK
EXPOCODE,SECT_ID,STNNBR,CASTNO,SAMPNO,BTLNBR,BTLNBR_FLAG_W,DATE,TIME,LATITUDE,LONGITUDE,DEPTH,CTDPRS,CTDTMP,CTDSAL,CTDSAL_FLAG_W,SALNTY,SALNTY_FLAG_W,OXYGEN,OXYGEN_FLAG_W,SILCAT,SILCAT_FLAG_W,NITRAT,NITRAT_FLAG_W,NITRIT,NITRIT_FLAG_W,PHSPHT,PHSPHT_FLAG_W,TCARBN,TCARBN_FLAG_W,ALKALI,ALKALI_FLAG_W,PH_TOT,PH_TOT_FLAG_W,PH_TMP,BTL_TIME
,,,,,,,,,,,METERS,DBAR,ITS-90,PSS-78,,PSS-78,,UMOL/KG,,UMOL/KG,,UMOL/KG,,UMOL/KG,,UMOL/KG,,UMOL/KG,,UMOL/KG,,,,DEG C,
  49UP20131128,RF1310,  4890,  1,     99,     99,2,20131202,2202, 40.6775, 147.1757, 5304,      0.0,  10.3601,  33.1446,2,-999.0000,9,    268.6,2,    15.31,2,     7.84,2,     0.23,2,     0.77,2,   -999.0,9,   -999.0,9,-999.0000,9,  -999.00,     2240
  49UP20131128,RF1310,  4890,  1,     36,  22109,2,20131202,2202, 40.6775, 147.1757, 5304,     10.0,  10.3605,  33.1458,2,  33.1435,2,    269.8,2,    16.12,2,     8.37,2,     0.21,2,     0.81,2,   -999.0,9,   -999.0,9,-999.0000,9,  -999.00,     2302
  49UP20131128,RF1310,  4890,  1,     35,  22112,2,20131202,2202, 40.6775, 147.1757, 5304,     24.9,  10.3988,  33.1487,2,-999.0000,9,    270.0,2,    15.98,2,     8.33,2,     0.21,2,     0.80,2,   -999.0,9,   -999.0,9,-999.0000,9,  -999.00,     2300
  49UP20131128,RF1310,  4890,  1,     34,  22083,2,20131202,2202, 40.6775, 147.1757, 5304,     52.0,  10.2443,  33.1221,2,-999.0000,9,    271.4,2,    17.02,2,     9.02,2,     0.20,2,     0.86,2,   -999.0,9,   -999.0,9,-999.0000,9,  -999.00,     2259
  49UP20131128,RF1310,  4890,  1,     30,  22097,3,20131202,2202, 40.6775, 147.1757, 5304,     75.1,   4.1180,  33.1403,2,-999.0000,9,    281.5,2,    35.05,2,    21.61,2,     0.01,2,     1.74,2,   -999.0,9,   -999.0,9,-999.0000,9,  -999.00,     2258
  49UP20131128,RF1310,  4890,  1,     29,  22102,2,20131202,2202, 40.6775, 147.1757, 5304,    100.6,   3.5305,  33.3782,2,  33.3832,2,    251.7,2,    43.94,2,    24.81,2,     0.01,2,     1.93,2,   -999.0,9,   -999.0,9,-999.0000,9,  -999.00,     2254
  49UP20131128,RF1310,  4890,  1,     28,  22091,3,20131202,2202, 40.6775, 147.1757, 5304,    126.8,   2.6119,  33.3929,2,-999.0000,9,    236.8,2,    52.78,2,    27.74,2,     0.01,2,     2.13,2,   -999.0,9,   -999.0,9,-999.0000,9,  -999.00,     2253
  49UP20131128,RF1310,  4890,  1,     27,  21998,2,20131202,2202, 40.6775, 147.1757, 5304,    151.6,   3.5354,  33.5741,2,-999.0000,9,    203.6,6,    56.31,6,    28.55,6,     0.01,6,     2.16,6,   -999.0,9,   -999.0,9,-999.0000,9,  -999.00,     2252
  49UP20131128,RF1310,  4890,  1,     26,  22084,2,20131202,2202, 40.6775, 147.1757, 5304,    202.1,   2.4708,  33.5893,2,  33.5892,2,    148.3,2,    77.63,2,    35.91,2,     0.01,2,     2.67,2,   -999.0,9,   -999.0,9,-999.0000,9,  -999.00,     2250
  49UP20131128,RF1310,  4890,  1,     25,  22098,2,20131202,2202, 40.6775, 147.1757, 5304,    202.1,   2.4708,  33.5893,2,  33.5882,2,    148.2,2,    77.68,2,    35.91,2,     0.01,2,     2.67,2,   -999.0,9,   -999.0,9,-999.0000,9,  -999.00,     2250
  49UP20131128,RF1310,  4890,  1,     24,  22110,2,20131202,2202, 40.6775, 147.1757, 5304,    252.9,   2.8856,  33.7233,2,-999.0000,9,    122.4,2,    83.82,2,    36.78,2,     0.00,2,     2.72,2,   -999.0,9,   -999.0,9,-999.0000,9,  -999.00,     2248
  49UP20131128,RF1310,  4890,  1,     23,  22096,2,20131202,2202, 40.6775, 147.1757, 5304,    303.1,   2.9365,  33.7835,2,-999.0000,9,    100.0,2,    90.86,2,    38.57,2,     0.01,2,     2.83,2,   -999.0,9,   -999.0,9,-999.0000,9,  -999.00,     2246
  49UP20131128,RF1310,  4890,  1,     22,  22111,2,20131202,2202, 40.6775, 147.1757, 5304,    403.9,   3.6958,  34.0259,2,  34.0227,2,     61.1,2,   101.64,2,    40.26,2,     0.00,2,     2.91,2,   -999.0,9,   -999.0,9,-999.0000,9,  -999.00,     2243
  49UP20131128,RF1310,  4890,  1,     21,  22078,2,20131202,2202, 40.6775, 147.1757, 5304,    503.8,   3.4714,  34.1120,2,-999.0000,9,     42.0,2,   114.25,2,    41.87,2,     0.00,2,     3.01,2,   -999.0,9,   -999.0,9,-999.0000,9,  -999.00,     2240
  49UP20131128,RF1310,  4890,  1,     20,  22093,3,20131202,2202, 40.6775, 147.1757, 5304,    605.1,   3.4114,  34.2277,2,  34.2259,2,     36.8,2,   123.48,2,    42.09,2,     0.00,2,     3.02,2,   -999.0,9,   -999.0,9,-999.0000,9,  -999.00,     2237
  49UP20131128,RF1310,  4890,  1,     19,  22092,2,20131202,2202, 40.6775, 147.1757, 5304,    706.9,   3.1204,  34.2801,2,-999.0000,9,     30.9,2,   133.34,2,    42.66,2,     0.00,2,     3.07,2,   -999.0,9,   -999.0,9,-999.0000,9,  -999.00,     2235
  49UP20131128,RF1310,  4890,  1,     14,  21999,2,20131202,2202, 40.6775, 147.1757, 5304,    807.9,   3.2906,  34.3731,2,  34.3719,2,     46.9,2,   130.63,2,    41.27,2,     0.00,2,     2.97,2,   -999.0,9,   -999.0,9,-999.0000,9,  -999.00,     2232
  49UP20131128,RF1310,  4890,  1,     13,  22667,2,20131202,2202, 40.6775, 147.1757, 5304,    910.8,   2.9813,  34.3968,2,-999.0000,9,     40.5,2,   139.10,2,    41.97,2,     0.00,2,     3.02,2,   -999.0,9,   -999.0,9,-999.0000,9,  -999.00,     2229
  49UP20131128,RF1310,  4890,  1,     12,  22074,2,20131202,2202, 40.6775, 147.1757, 5304,   1013.8,   2.7604,  34.4306,2,  34.4305,6,     38.3,2,   145.74,2,    42.38,2,     0.00,2,     3.05,2,   -999.0,9,   -999.0,9,-999.0000,9,  -999.00,     2226
  49UP20131128,RF1310,  4890,  1,     11,  21996,2,20131202,2202, 40.6775, 147.1757, 5304,   1213.6,   2.4933,  34.4842,2,  34.4850,2,     42.7,2,   153.17,2,    42.40,2,     0.00,2,     3.04,2,   -999.0,9,   -999.0,9,-999.0000,9,  -999.00,     2221
  49UP20131128,RF1310,  4890,  1,     10,  22107,2,20131202,2202, 40.6775, 147.1757, 5304,   1417.3,   2.2654,  34.5292,2,  34.5283,2,     50.3,6,   158.52,6,    42.20,6,     0.00,6,     3.01,6,   -999.0,9,   -999.0,9,-999.0000,9,  -999.00,     2216
  49UP20131128,RF1310,  4890,  1,      9,  22108,2,20131202,2202, 40.6775, 147.1757, 5304,   1619.1,   2.1136,  34.5561,2,  34.5540,2,     58.2,2,   161.54,2,    41.71,2,     0.00,2,     2.97,2,   -999.0,9,   -999.0,9,-999.0000,9,  -999.00,     2211
  49UP20131128,RF1310,  4890,  1,      8,  22081,2,20131202,2202, 40.6775, 147.1757, 5304,   1619.1,   2.1136,  34.5561,2,  34.5546,2,     58.0,2,   161.47,2,    41.67,2,     0.00,2,     2.97,2,   -999.0,9,   -999.0,9,-999.0000,9,  -999.00,     2211
  49UP20131128,RF1310,  4890,  1,      7,  22106,2,20131202,2202, 40.6775, 147.1757, 5304,   1821.5,   1.9628,  34.5869,2,  34.5865,2,     70.9,2,   162.18,2,    40.96,2,     0.00,2,     2.91,2,   -999.0,9,   -999.0,9,-999.0000,9,  -999.00,     2206
  49UP20131128,RF1310,  4890,  1,      6,  22113,2,20131202,2202, 40.6775, 147.1757, 5304,   2025.4,   1.8513,  34.6083,2,  34.6086,6,     82.7,2,   161.94,2,    40.24,2,     0.00,2,     2.86,2,   -999.0,9,   -999.0,9,-999.0000,9,  -999.00,     2202
  49UP20131128,RF1310,  4893,  1,     99,     99,2,20131203,1010, 41.6690, 146.4543, 6362,      0.0,  10.6549,  33.6002,2,  33.6020,2,    261.7,2,    14.18,2,     7.98,2,     0.29,2,     0.71,2,   2052.3,2,   2247.2,2,   7.8496,2,    25.00,     1130
  49UP20131128,RF1310,  4893,  1,     36,  22109,2,20131203,1010, 41.6690, 146.4543, 6362,      9.9,  10.6596,  33.6009,2,  33.5988,6,    260.2,2,    14.27,2,     8.02,2,     0.29,2,     0.71,2,   2053.6,2,   2237.8,2,   7.8539,2,    25.00,     1148
  49UP20131128,RF1310,  4893,  1,     35,  22112,2,20131203,1010, 41.6690, 146.4543, 6362,     25.4,  10.6614,  33.6004,2,-999.0000,9,    260.5,2,    14.25,2,     8.03,2,     0.29,2,     0.70,2,   2049.6,2,   2246.3,2,   7.8542,2,    25.00,     1147
  49UP20131128,RF1310,  4893,  1,     34,  22083,2,20131203,1010, 41.6690, 146.4543, 6362,     50.5,  10.6653,  33.6004,2,-999.0000,9,    260.5,2,    14.27,2,     8.03,2,     0.29,2,     0.71,2,   2054.3,2,   2245.7,2,   7.8553,2,    25.00,     1144
  49UP20131128,RF1310,  4893,  1,     33,  23517,2,20131203,1010, 41.6690, 146.4543, 6362,     74.8,  10.6658,  33.5999,2,-999.0000,9,    260.1,2,    14.28,2,     8.05,2,     0.29,2,     0.71,2,   2055.0,2,   2245.2,2,   7.8569,2,    25.00,     1143
  49UP20131128,RF1310,  4893,  1,     32,  22105,3,20131203,1010, 41.6690, 146.4543, 6362,    100.3,   9.2314,  33.8437,2,  33.8477,2,    220.7,2,    24.91,2,    16.21,2,     0.02,2,     1.22,2,   2114.6,2,   2263.4,2,   7.7432,2,    25.00,     1142
  49UP20131128,RF1310,  4893,  1,     31,  22076,2,20131203,1010, 41.6690, 146.4543, 6362,    125.9,   6.2939,  33.6725,2,-999.0000,9,    236.6,2,    32.56,2,    19.94,2,     0.01,2,     1.51,2,   2141.0,2,   2256.1,2,   7.6730,2,    25.00,     1141
  49UP20131128,RF1310,  4893,  1,     30,  22097,3,20131203,1010, 41.6690, 146.4543, 6362,    151.0,   4.7915,  33.5623,2,-999.0000,9,    244.7,2,    36.93,2,    21.64,2,     0.01,2,     1.66,2,   2154.3,2,   2254.5,2,   7.6371,2,    25.00,     1140
  49UP20131128,RF1310,  4893,  1,     29,  22102,2,20131203,1010, 41.6690, 146.4543, 6362,    201.7,   3.7157,  33.5272,2,  33.5230,2,    258.4,6,    39.73,6,    22.38,6,     0.00,6,     1.72,6,   2161.8,2,   2257.5,2,   7.6190,2,    25.00,     1138
  49UP20131128,RF1310,  4893,  1,     28,  22091,2,20131203,1010, 41.6690, 146.4543, 6362,    251.8,   2.9436,  33.5246,2,-999.0000,9,    207.5,2,    57.89,2,    28.74,2,     0.00,2,     2.18,2,   2207.2,2,   2267.3,2,   7.5158,2,    25.00,     1136
  49UP20131128,RF1310,  4893,  1,     27,  21998,2,20131203,1010, 41.6690, 146.4543, 6362,    251.8,   2.9436,  33.5246,2,-999.0000,9,    207.5,2,    57.92,2,    28.76,2,     0.00,2,     2.18,2,   2207.2,2,   2266.2,2,   7.5104,2,    25.00,     1136
  49UP20131128,RF1310,  4893,  1,     26,  22084,2,20131203,1010, 41.6690, 146.4543, 6362,    304.5,   2.8501,  33.5821,2,-999.0000,9,    186.8,2,    65.32,2,    30.99,2,     0.00,2,     2.34,2,   2227.5,2,   2272.4,2,   7.4698,2,    25.00,     1134
  49UP20131128,RF1310,  4893,  1,     25,  22098,2,20131203,1010, 41.6690, 146.4543, 6362,    404.0,   2.8894,  33.7380,2,  33.7461,4,    122.3,2,    84.82,2,    36.57,2,     0.00,2,     2.69,2,   2276.7,2,   2291.4,2,   7.3718,2,    25.00,     1132
  49UP20131128,RF1310,  4893,  1,     24,  22110,2,20131203,1010, 41.6690, 146.4543, 6362,    504.3,   3.9082,  33.9912,2,-999.0000,9,     79.3,2,    94.04,2,    38.34,2,     0.00,2,     2.78,2,   2301.1,2,   2311.7,2,   7.3652,2,    25.00,     1130
  49UP20131128,RF1310,  4893,  1,     23,  22096,3,20131203,1010, 41.6690, 146.4543, 6362,    605.0,   3.8347,  34.1102,2,  34.1141,2,     55.1,2,   106.89,2,    40.30,2,     0.00,2,     2.91,2,   2325.3,2,   2326.9,2,   7.3405,2,    25.00,     1127
  49UP20131128,RF1310,  4893,  1,     19,  22092,2,20131203,1010, 41.6690, 146.4543, 6362,    706.6,   3.3254,  34.1532,2,-999.0000,9,     35.0,2,   121.43,2,    42.51,2,     0.00,2,     3.05,2,   2346.1,2,   2336.7,2,   7.2975,2,    25.00,     1125
  49UP20131128,RF1310,  4893,  1,     18,  22101,2,20131203,1010, 41.6690, 146.4543, 6362,    808.4,   3.2526,  34.2542,2,  34.2564,2,     32.2,2,   129.68,2,    42.49,2,     0.00,2,     3.06,2,   2357.6,2,   2353.2,2,   7.3150,2,    25.00,     1122
  49UP20131128,RF1310,  4893,  1,     17,  22090,2,20131203,1010, 41.6690, 146.4543, 6362,    909.6,   3.1494,  34.3250,2,-999.0000,9,     35.9,2,   134.38,2,    42.20,2,     0.00,2,     3.04,2,   2358.7,2,   2360.8,2,   7.3367,2,    25.00,     1120
  49UP20131128,RF1310,  4893,  1,     16,  22089,2,20131203,1010, 41.6690, 146.4543, 6362,   1010.4,   2.9916,  34.3686,2,  34.3671,2,     36.0,2,   139.61,2,    42.32,2,     0.00,2,     3.05,2,   2366.5,2,   2370.1,2,   7.3398,2,    25.00,     1117
  49UP20131128,RF1310,  4893,  1,     15,  22088,2,20131203,1010, 41.6690, 146.4543, 6362,   1213.8,   2.7210,  34.4356,2,  34.4352,6,     38.0,2,   147.62,2,    42.43,2,     0.00,2,     3.05,2,   2374.2,6,   2383.0,6,   7.3565,2,    25.00,     1113
  49UP20131128,RF1310,  4893,  1,     14,  21999,2,20131203,1010, 41.6690, 146.4543, 6362,   1416.3,   2.4147,  34.4857,2,  34.4851,2,     42.7,2,   156.47,2,    42.40,2,     0.00,2,     3.03,2,   2379.9,2,   2392.4,2,   7.3659,6,    25.00,     1108
  49UP20131128,RF1310,  4893,  1,     13,  22667,2,20131203,1010, 41.6690, 146.4543, 6362,   1619.0,   2.2478,  34.5295,2,  34.5282,2,     50.4,6,   159.73,6,    42.04,6,     0.00,6,     3.00,6,   2379.6,2,   2401.6,2,   7.3864,2,    25.00,     1104
  49UP20131128,RF1310,  4893,  1,     12,  22074,2,20131203,1010, 41.6690, 146.4543, 6362,   1822.3,   2.0957,  34.5618,2,  34.5627,2,     59.6,2,   162.09,2,    41.55,2,     0.00,2,     2.96,2,   2380.1,2,   2407.1,2,   7.4094,2,    25.00,     1100
  49UP20131128,RF1310,  4893,  1,     11,  21996,2,20131203,1010, 41.6690, 146.4543, 6362,   1822.3,   2.0957,  34.5618,2,  34.5628,2,     59.4,2,   162.07,2,    41.56,2,     0.00,2,     2.95,2,   2378.8,2,   2405.9,2,   7.4066,2,    25.00,     1100
  49UP20131128,RF1310,  4893,  1,     10,  22107,3,20131203,1010, 41.6690, 146.4543, 6362,   2027.2,   1.9675,  34.5889,2,  34.5889,2,     72.0,2,   162.22,2,    40.80,2,     0.00,2,     2.90,2,   2374.6,2,   2411.1,2,   7.4333,2,    25.00,     1055
  49UP20131128,RF1310,  4893,  1,      9,  22108,2,20131203,1010, 41.6690, 146.4543, 6362,   2280.4,   1.8346,  34.6156,2,  34.6152,2,     88.1,2,   160.42,2,    39.79,2,     0.00,2,     2.82,2,   2364.6,6,   2414.5,6,   7.4660,2,    25.00,     1050
  49UP20131128,RF1310,  4893,  1,      8,  22081,2,20131203,1010, 41.6690, 146.4543, 6362,   2535.0,   1.7265,  34.6337,2,  34.6329,2,    100.0,2,   160.10,2,    39.11,2,     0.00,2,     2.76,2,   2359.3,2,   2413.9,2,   7.4918,6,    25.00,     1045
  49UP20131128,RF1310,  4893,  1,      7,  22106,2,20131203,1010, 41.6690, 146.4543, 6362,   2789.8,   1.6540,  34.6467,2,  34.6463,2,    110.5,2,   158.50,2,    38.36,2,     0.00,2,     2.71,2,   2353.6,2,   2415.3,2,   7.5100,2,    25.00,     1038
  49UP20131128,RF1310,  4893,  1,      6,  22113,2,20131203,1010, 41.6690, 146.4543, 6362,   3044.8,   1.5838,  34.6586,2,  34.6581,6,    121.5,2,   156.52,2,    37.72,2,     0.00,2,     2.66,2,   2345.2,2,   2415.4,2,   7.5307,2,    25.00,     1033
  49UP20131128,RF1310,  4893,  1,      5,  22094,2,20131203,1010, 41.6690, 146.4543, 6362,   3301.4,   1.5503,  34.6657,2,  34.6654,2,    128.4,6,   154.89,6,    37.26,6,     0.00,6,     2.62,6,   2338.0,2,   2414.8,2,   7.5420,2,    25.00,     1027
  49UP20131128,RF1310,  4893,  1,      4,  22077,2,20131203,1010, 41.6690, 146.4543, 6362,   3557.9,   1.5323,  34.6707,2,  34.6708,2,    133.9,2,   153.65,2,    36.93,2,     0.00,2,     2.58,2,   2336.7,2,   2416.0,2,   7.5514,2,    25.00,     1021
  49UP20131128,RF1310,  4893,  1,      3,  22104,2,20131203,1010, 41.6690, 146.4543, 6362,   3557.9,   1.5323,  34.6707,2,  34.6708,2,    133.7,2,   153.61,2,    36.91,2,     0.00,2,     2.59,2,   2339.8,3,   2416.2,2,   7.5524,2,    25.00,     1021
  49UP20131128,RF1310,  4893,  1,      2,  22075,2,20131203,1010, 41.6690, 146.4543, 6362,   3814.3,   1.5141,  34.6758,2,  34.6769,2,    139.5,2,   152.26,2,    36.57,2,     0.00,2,     2.57,2,   2335.0,6,   2417.0,6,   7.5616,2,    25.00,     1016
  49UP20131128,RF1310,  4893,  1,      1,  21997,2,20131203,1010, 41.6690, 146.4543, 6362,   4070.5,   1.5008,  34.6804,2,  34.6800,6,    143.9,2,   151.17,2,    36.27,2,     0.00,2,     2.54,2,   2331.0,2,   2417.5,2,   7.5711,6,    25.00,     1010