BOTTLE,20200303PRINUNIVRMK
EXPOCODE,SECT_ID,STNNBR,CASTNO,SAMPNO,BTLNBR,BTLNBR_FLAG_W,DATE,TIME,LATITUDE,LONGITUDE,DEPTH,CTDPRS,CTDTMP,CTDSAL,CTDSAL_FLAG_W,SALNTY,SALNTY_FLAG_W,OXYGEN,OXYGEN_FLAG_W,SILCAT,SILCAT_FLAG_W,NITRAT,NITRAT_FLAG_W,NITRIT,NITRIT_FLAG_W,PHSPHT,PHSPHT_FLAG_W,TCARBN,TCARBN_FLAG_W,ALKALI,ALKALI_FLAG_W,PH_TOT,PH_TOT_FLAG_W,PH_TMP,BTL_TIME
,,,,,,,,,,,METERS,DBAR,ITS-90,PSS-78,,PSS-78,,UMOL/KG,,UMOL/KG,,UMOL/KG,,UMOL/KG,,UMOL/KG,,UMOL/KG,,UMOL/KG,,,,DEG C,
  49UP20131128,RF1310,  4885,  1,     99,     99,2,20131201,2334, 39.0118, 148.3332, 5465,      0.0,  16.4813,  34.2894,2,-999.0000,9,    234.0,2,     3.93,2,     1.79,2,     0.24,2,     0.20,2,   -999.0,9,   -999.0,9,-999.0000,9,  -999.00,       15
  49UP20131128,RF1310,  4885,  1,     36,  22109,2,20131201,2334, 39.0118, 148.3332, 5465,     11.2,  16.4837,  34.2886,2,-999.0000,9,    231.4,2,     4.27,2,     2.08,2,     0.23,2,     0.21,2,   -999.0,9,   -999.0,9,-999.0000,9,  -999.00,       30
  49UP20131128,RF1310,  4885,  1,     35,  22112,2,20131201,2334, 39.0118, 148.3332, 5465,     25.5,  16.4672,  34.2879,2,-999.0000,9,    232.0,2,     4.12,2,     2.07,2,     0.23,2,     0.21,2,   -999.0,9,   -999.0,9,-999.0000,9,  -999.00,       29
  49UP20131128,RF1310,  4885,  1,     34,  22083,2,20131201,2334, 39.0118, 148.3332, 5465,     49.9,  16.4373,  34.2846,2,-999.0000,9,    232.6,2,     4.02,2,     1.93,2,     0.22,2,     0.20,2,   -999.0,9,   -999.0,9,-999.0000,9,  -999.00,       27
  49UP20131128,RF1310,  4885,  1,     30,  22097,2,20131201,2334, 39.0118, 148.3332, 5465,     75.9,  16.4393,  34.2825,2,-999.0000,9,    232.3,2,     4.02,2,     1.96,2,     0.22,2,     0.20,2,   -999.0,9,   -999.0,9,-999.0000,9,  -999.00,       26
  49UP20131128,RF1310,  4885,  1,     29,  22102,2,20131201,2334, 39.0118, 148.3332, 5465,    101.3,  13.8407,  34.4294,2,-999.0000,9,    189.3,6,    14.30,6,    11.45,6,     0.02,6,     0.79,6,   -999.0,9,   -999.0,9,-999.0000,9,  -999.00,       23
  49UP20131128,RF1310,  4885,  1,     28,  22091,2,20131201,2334, 39.0118, 148.3332, 5465,    127.0,  11.8843,  34.2799,2,-999.0000,9,    184.5,2,    20.89,2,    14.60,2,     0.01,2,     1.04,2,   -999.0,9,   -999.0,9,-999.0000,9,  -999.00,       21
  49UP20131128,RF1310,  4885,  1,     27,  21998,2,20131201,2334, 39.0118, 148.3332, 5465,    127.0,  11.8843,  34.2799,2,-999.0000,9,    184.3,2,    20.84,2,    14.62,2,     0.01,2,     1.05,2,   -999.0,9,   -999.0,9,-999.0000,9,  -999.00,       21
  49UP20131128,RF1310,  4885,  1,     26,  22084,2,20131201,2334, 39.0118, 148.3332, 5465,    151.9,  10.9502,  34.2111,2,-999.0000,9,    187.3,2,    23.16,2,    15.73,2,     0.01,2,     1.13,2,   -999.0,9,   -999.0,9,-999.0000,9,  -999.00,       20
  49UP20131128,RF1310,  4885,  1,     25,  22098,2,20131201,2334, 39.0118, 148.3332, 5465,    203.0,   8.1748,  33.9626,2,-999.0000,9,    203.5,2,    30.47,2,    18.77,2,     0.01,2,     1.38,2,   -999.0,9,   -999.0,9,-999.0000,9,  -999.00,       18
  49UP20131128,RF1310,  4885,  1,     24,  22110,2,20131201,2334, 39.0118, 148.3332, 5465,    251.8,   6.9626,  33.8966,2,-999.0000,9,    202.1,2,    37.27,2,    21.41,2,     0.00,2,     1.58,2,   -999.0,9,   -999.0,9,-999.0000,9,  -999.00,       16
  49UP20131128,RF1310,  4885,  1,     23,  22096,2,20131201,2334, 39.0118, 148.3332, 5465,    302.8,   6.0026,  33.8716,2,-999.0000,9,    190.5,2,    45.90,2,    24.50,2,     0.00,2,     1.81,2,   -999.0,9,   -999.0,9,-999.0000,9,  -999.00,       14
  49UP20131128,RF1310,  4885,  1,     22,  22111,2,20131201,2334, 39.0118, 148.3332, 5465,    404.5,   4.7526,  33.9373,2,-999.0000,9,    126.2,2,    72.19,2,    32.89,2,     0.00,2,     2.41,2,   -999.0,9,   -999.0,9,-999.0000,9,  -999.00,       11
  49UP20131128,RF1310,  4885,  1,     21,  22078,2,20131201,2334, 39.0118, 148.3332, 5465,    505.3,   4.6001,  34.0474,2,-999.0000,9,     92.5,2,    85.49,2,    36.01,2,     0.00,2,     2.62,2,   -999.0,9,   -999.0,9,-999.0000,9,  -999.00,        8
  49UP20131128,RF1310,  4885,  1,     20,  22093,2,20131201,2334, 39.0118, 148.3332, 5465,    606.2,   4.2857,  34.1695,2,-999.0000,9,     64.5,2,   100.95,2,    38.77,2,     0.00,2,     2.80,2,   -999.0,9,   -999.0,9,-999.0000,9,  -999.00,        6
  49UP20131128,RF1310,  4885,  1,     19,  22092,2,20131201,2334, 39.0118, 148.3332, 5465,    705.6,   3.7421,  34.2253,2,-999.0000,9,     45.3,2,   115.96,2,    41.06,2,     0.00,2,     2.96,2,   -999.0,9,   -999.0,9,-999.0000,9,  -999.00,        3
  49UP20131128,RF1310,  4885,  1,     14,  21999,2,20131201,2334, 39.0118, 148.3332, 5465,    807.4,   3.4566,  34.2871,2,-999.0000,9,     39.1,2,   125.45,2,    41.78,2,     0.00,2,     3.01,2,   -999.0,9,   -999.0,9,-999.0000,9,  -999.00,        0
  49UP20131128,RF1310,  4885,  1,     13,  22667,2,20131201,2334, 39.0118, 148.3332, 5465,    908.5,   3.1662,  34.3316,2,-999.0000,9,     35.8,2,   134.16,2,    42.28,2,     0.00,2,     3.05,2,   -999.0,9,   -999.0,9,-999.0000,9,  -999.00,     2358
  49UP20131128,RF1310,  4885,  1,     12,  22074,2,20131201,2334, 39.0118, 148.3332, 5465,   1009.7,   2.9952,  34.3800,2,-999.0000,9,     37.1,6,   139.52,6,    42.40,6,     0.00,6,     3.05,6,   -999.0,9,   -999.0,9,-999.0000,9,  -999.00,     2355
  49UP20131128,RF1310,  4885,  1,     11,  21996,2,20131201,2334, 39.0118, 148.3332, 5465,   1211.6,   2.6835,  34.4531,2,-999.0000,9,     38.5,2,   148.50,2,    42.64,2,     0.00,2,     3.05,2,   -999.0,9,   -999.0,9,-999.0000,9,  -999.00,     2351
  49UP20131128,RF1310,  4885,  1,     10,  22107,2,20131201,2334, 39.0118, 148.3332, 5465,   1211.6,   2.6835,  34.4531,2,-999.0000,9,     38.6,2,   148.42,2,    42.60,2,     0.00,2,     3.05,2,   -999.0,9,   -999.0,9,-999.0000,9,  -999.00,     2351
  49UP20131128,RF1310,  4885,  1,      9,  22108,2,20131201,2334, 39.0118, 148.3332, 5465,   1414.4,   2.4244,  34.4972,2,-999.0000,9,     42.9,2,   155.62,2,    42.56,2,     0.00,2,     3.04,2,   -999.0,9,   -999.0,9,-999.0000,9,  -999.00,     2347
  49UP20131128,RF1310,  4885,  1,      8,  22081,2,20131201,2334, 39.0118, 148.3332, 5465,   1616.5,   2.2326,  34.5361,2,-999.0000,9,     51.2,2,   159.54,2,    42.17,2,     0.00,2,     3.01,2,   -999.0,9,   -999.0,9,-999.0000,9,  -999.00,     2343
  49UP20131128,RF1310,  4885,  1,      7,  22106,2,20131201,2334, 39.0118, 148.3332, 5465,   1821.4,   2.0710,  34.5697,2,-999.0000,9,     62.2,2,   161.68,2,    41.57,2,     0.00,2,     2.96,2,   -999.0,9,   -999.0,9,-999.0000,9,  -999.00,     2339
  49UP20131128,RF1310,  4885,  1,      6,  22113,2,20131201,2334, 39.0118, 148.3332, 5465,   2024.7,   1.9432,  34.5938,2,-999.0000,9,     73.7,2,   162.37,2,    40.86,2,     0.00,2,     2.90,2,   -999.0,9,   -999.0,9,-999.0000,9,  -999.00,     2334
  49UP20131128,RF1310,  4887,  1,     99,     99,2,20131202,0807, 39.6927, 147.8677, 5314,      0.0,  15.2608,  34.0166,2,  34.0159,2,    239.9,2,     5.78,2,     2.65,2,     0.34,2,     0.29,2,   2011.6,2,   2255.7,2,   7.9690,2,    25.00,      828
  49UP20131128,RF1310,  4887,  1,     36,  22109,2,20131202,0807, 39.6927, 147.8677, 5314,     10.1,  15.2660,  34.0174,2,  34.0134,2,    240.1,2,     5.78,2,     2.59,2,     0.35,2,     0.27,2,   2010.4,2,   2254.7,2,   7.9694,2,    25.00,      956
  49UP20131128,RF1310,  4887,  1,     35,  22112,2,20131202,0807, 39.6927, 147.8677, 5314,     24.6,  15.2695,  34.0173,2,-999.0000,9,    240.6,2,     5.70,2,     2.56,2,     0.35,2,     0.27,2,   2009.7,2,   2253.9,2,   7.9691,2,    25.00,      955
  49UP20131128,RF1310,  4887,  1,     34,  22083,2,20131202,0807, 39.6927, 147.8677, 5314,     51.7,  15.2386,  34.0131,2,-999.0000,9,    240.3,2,     5.81,2,     2.62,2,     0.36,2,     0.27,2,   2010.8,2,   2255.2,2,   7.9659,2,    25.00,      953
  49UP20131128,RF1310,  4887,  1,     33,  23517,2,20131202,0807, 39.6927, 147.8677, 5314,     77.0,  12.7482,  33.7311,2,-999.0000,9,    237.4,2,    13.44,2,     7.53,2,     0.45,2,     0.65,2,   2048.3,2,   2249.3,2,   7.8847,2,    25.00,      951
  49UP20131128,RF1310,  4887,  1,     32,  22105,3,20131202,0807, 39.6927, 147.8677, 5314,    101.4,  12.8251,  34.3539,2,  34.3548,2,    185.7,2,    18.27,2,    13.41,2,     0.02,2,     0.95,2,   2100.9,2,   2275.1,2,   7.8144,2,    25.00,      950
  49UP20131128,RF1310,  4887,  1,     31,  22076,2,20131202,0807, 39.6927, 147.8677, 5314,    125.9,  11.5748,  34.2858,2,-999.0000,9,    188.5,6,    21.33,6,    14.96,6,     0.01,6,     1.07,6,   2109.7,2,   2276.6,2,   7.7890,2,    25.00,      948
  49UP20131128,RF1310,  4887,  1,     30,  22097,3,20131202,0807, 39.6927, 147.8677, 5314,    151.7,  10.3406,  34.1839,2,-999.0000,9,    192.0,2,    24.46,2,    16.36,2,     0.01,2,     1.18,2,   2125.4,2,   2275.5,2,   7.7627,2,    25.00,      942
  49UP20131128,RF1310,  4887,  1,     29,  22102,2,20131202,0807, 39.6927, 147.8677, 5314,    151.7,  10.3406,  34.1839,2,-999.0000,9,    192.1,2,    24.51,2,    16.37,2,     0.01,2,     1.18,2,   2123.6,2,   2272.7,2,   7.7621,2,    25.00,      942
  49UP20131128,RF1310,  4887,  1,     28,  22091,2,20131202,0807, 39.6927, 147.8677, 5314,    204.2,   8.2072,  34.0070,2,  34.0095,2,    195.2,2,    31.76,2,    19.35,2,     0.01,2,     1.41,2,   2143.8,2,   2273.2,2,   7.7050,2,    25.00,      940
  49UP20131128,RF1310,  4887,  1,     27,  21998,2,20131202,0807, 39.6927, 147.8677, 5314,    254.5,   6.3860,  33.9031,2,-999.0000,9,    195.6,2,    42.06,2,    23.16,2,     0.01,2,     1.71,2,   2170.7,2,   2275.1,2,   7.6439,2,    25.00,      938
  49UP20131128,RF1310,  4887,  1,     26,  22084,2,20131202,0807, 39.6927, 147.8677, 5314,    309.3,   4.8959,  33.8469,2,-999.0000,9,    161.9,2,    60.84,2,    29.63,2,     0.00,2,     2.20,2,   2217.5,2,   2285.5,2,   7.5323,2,    25.00,      936
  49UP20131128,RF1310,  4887,  1,     22,  22111,2,20131202,0807, 39.6927, 147.8677, 5314,    407.5,   4.6471,  33.9945,2,  33.9874,4,    107.2,2,    79.42,2,    34.89,2,     0.00,2,     2.54,2,   2269.3,2,   2303.5,2,   7.4458,2,    25.00,      932
  49UP20131128,RF1310,  4887,  1,     21,  22078,2,20131202,0807, 39.6927, 147.8677, 5314,    509.0,   4.2182,  34.0786,2,-999.0000,9,     72.7,2,    95.59,2,    38.43,2,     0.00,2,     2.78,2,   2303.5,2,   2318.8,2,   7.3843,2,    25.00,      928
  49UP20131128,RF1310,  4887,  1,     20,  22093,2,20131202,0807, 39.6927, 147.8677, 5314,    606.3,   3.9300,  34.1992,2,  34.1962,2,     52.6,2,   109.98,2,    40.35,2,     0.00,2,     2.91,2,   2327.5,2,   2338.9,2,   7.3643,2,    25.00,      925
  49UP20131128,RF1310,  4887,  1,     19,  22092,2,20131202,0807, 39.6927, 147.8677, 5314,    707.1,   3.5876,  34.2612,2,-999.0000,9,     42.2,2,   121.09,2,    41.39,3,     0.00,2,     2.98,2,   2345.2,2,   2351.6,2,   7.3516,2,    25.00,      921
  49UP20131128,RF1310,  4887,  1,     18,  22101,2,20131202,0807, 39.6927, 147.8677, 5314,    809.5,   3.3556,  34.3145,2,  34.3143,6,     38.9,2,   128.53,2,    41.94,2,     0.00,2,     3.02,2,   2354.4,2,   2359.6,2,   7.3533,2,    25.00,      918
  49UP20131128,RF1310,  4887,  1,     17,  22090,2,20131202,0807, 39.6927, 147.8677, 5314,    909.2,   3.1157,  34.3650,2,-999.0000,9,     37.8,2,   135.83,2,    42.27,2,     0.00,2,     3.04,2,   2362.3,6,   2369.3,6,   7.3558,2,    25.00,      915
  49UP20131128,RF1310,  4887,  1,     16,  22089,2,20131202,0807, 39.6927, 147.8677, 5314,   1011.4,   2.9049,  34.4061,2,  34.4054,2,     37.9,2,   141.90,2,    42.47,2,     0.00,2,     3.05,2,   2366.3,2,   2376.4,2,   7.3594,6,    25.00,      912
  49UP20131128,RF1310,  4887,  1,     15,  22088,2,20131202,0807, 39.6927, 147.8677, 5314,   1211.3,   2.5329,  34.4674,2,  34.4666,2,     39.6,6,   152.95,6,    42.73,6,     0.00,6,     3.06,6,   2378.3,2,   2390.7,2,   7.3667,2,    25.00,      907
  49UP20131128,RF1310,  4887,  1,     14,  21999,2,20131202,0807, 39.6927, 147.8677, 5314,   1415.1,   2.3349,  34.5141,2,  34.5139,2,     45.0,2,   157.95,2,    42.65,2,     0.00,2,     3.04,2,   2381.3,2,   2401.3,2,   7.3797,2,    25.00,      902
  49UP20131128,RF1310,  4887,  1,     13,  22667,2,20131202,0807, 39.6927, 147.8677, 5314,   1415.1,   2.3349,  34.5141,2,  34.5137,2,     45.5,2,   157.96,2,    42.61,2,     0.00,2,     3.04,2,   2379.9,2,   2397.8,2,   7.3801,2,    25.00,      902
  49UP20131128,RF1310,  4887,  1,     12,  22074,2,20131202,0807, 39.6927, 147.8677, 5314,   1617.6,   2.1626,  34.5519,2,  34.5524,2,     56.4,2,   160.37,2,    42.03,2,     0.00,2,     2.98,2,   2382.6,2,   2407.3,2,   7.4041,2,    25.00,      857
  49UP20131128,RF1310,  4887,  1,     11,  21996,2,20131202,0807, 39.6927, 147.8677, 5314,   1819.7,   1.9980,  34.5823,2,  34.5835,6,     68.7,2,   162.19,2,    41.27,2,     0.00,2,     2.94,2,   2375.6,6,   2410.4,6,   7.4305,2,    25.00,      853
  49UP20131128,RF1310,  4887,  1,     10,  22107,2,20131202,0807, 39.6927, 147.8677, 5314,   2023.0,   1.8823,  34.6036,2,  34.6036,2,     79.5,2,   162.18,2,    40.49,2,     0.00,2,     2.88,2,   2371.3,2,   2414.3,2,   7.4522,6,    25.00,      849
  49UP20131128,RF1310,  4887,  1,      9,  22108,2,20131202,0807, 39.6927, 147.8677, 5314,   2276.9,   1.7484,  34.6268,2,  34.6269,2,     94.4,2,   161.48,2,    39.66,2,     0.00,2,     2.80,2,   2360.9,2,   2416.4,2,   7.4802,2,    25.00,      844
  49UP20131128,RF1310,  4887,  1,      8,  22081,2,20131202,0807, 39.6927, 147.8677, 5314,   2532.0,   1.6503,  34.6438,2,  34.6450,6,    108.3,2,   159.23,2,    38.74,2,     0.00,2,     2.73,2,   2356.5,2,   2417.3,2,   7.5089,2,    25.00,      839
  49UP20131128,RF1310,  4887,  1,      7,  22106,2,20131202,0807, 39.6927, 147.8677, 5314,   2788.6,   1.5740,  34.6563,2,  34.6575,2,    118.5,2,   157.55,2,    38.10,2,     0.00,2,     2.68,2,   2345.8,2,   2417.5,2,   7.5282,2,    25.00,      834
  49UP20131128,RF1310,  4887,  1,      6,  22113,2,20131202,0807, 39.6927, 147.8677, 5314,   3045.8,   1.5320,  34.6643,2,  34.6651,2,    126.7,2,   156.14,2,    37.55,2,     0.00,2,     2.64,2,   2342.4,2,   2417.4,2,   7.5438,2,    25.00,      829
  49UP20131128,RF1310,  4887,  1,      5,  22094,2,20131202,0807, 39.6927, 147.8677, 5314,   3300.5,   1.4962,  34.6712,2,  34.6727,2,    134.3,2,   154.37,2,    37.07,2,     0.00,2,     2.59,2,   2334.4,2,   2417.8,6,   7.5564,2,    25.00,      823
  49UP20131128,RF1310,  4887,  1,      4,  22077,2,20131202,0807, 39.6927, 147.8677, 5314,   3557.3,   1.4756,  34.6763,2,  34.6772,6,    140.0,2,   152.55,2,    36.68,2,     0.00,2,     2.57,2,   2329.4,2,   2418.7,2,   7.5649,6,    25.00,      818
  49UP20131128,RF1310,  4887,  1,      3,  22104,2,20131202,0807, 39.6927, 147.8677, 5314,   3811.7,   1.4647,  34.6804,2,  34.6806,2,    144.8,6,   151.52,6,    36.31,6,     0.00,6,     2.54,6,   2329.7,2,   2418.5,2,   7.5732,2,    25.00,      813
  49UP20131128,RF1310,  4887,  1,      2,  22075,2,20131202,0807, 39.6927, 147.8677, 5314,   4069.9,   1.4554,  34.6844,2,  34.6842,2,    149.1,2,   150.12,2,    36.01,2,     0.00,2,     2.53,2,   2326.7,2,   2417.2,2,   7.5809,2,    25.00,      807
  49UP20131128,RF1310,  4887,  1,      1,  21997,2,20131202,0807, 39.6927, 147.8677, 5314,   4069.9,   1.4554,  34.6844,2,  34.6843,2,    148.8,2,   150.38,2,    36.02,2,     0.00,2,     2.52,2,   2325.1,2,   2413.7,2,   7.5782,2,    25.00,      807