BOTTLE,20200115CCHSIOCBG
EXPOCODE,SECT_ID,STNNBR,CASTNO,SAMPNO,BTLNBR,BTLNBR_FLAG_W,DATE,TIME,LATITUDE,LONGITUDE,DEPTH,CTDPRS,CTDTMP,CTDSAL,SALNTY,SALNTY_FLAG_W,OXYGEN,OXYGEN_FLAG_W,SILCAT,SILCAT_FLAG_W,PHSPHT,PHSPHT_FLAG_W,TCARBN,TCARBN_FLAG_W,ALKALI,ALKALI_FLAG_W,NO2+NO3,NO2+NO3_FLAG_W,CFC-11,CFC-11_FLAG_W,CFC-12,CFC-12_FLAG_W,CFC113,CFC113_FLAG_W,CCL4,CCL4_FLAG_W,THETA,SF6,SF6_FLAG_W
,,,,,,,,,,,METERS,DBAR,ITS-90,PSS-78,PSS-78,,UMOL/KG,,UMOL/KG,,UMOL/KG,,UMOL/KG,,UMOL/KG,,UMOL/KG,,PMOL/L,,PMOL/L,,PMOL/L,,PMOL/L,,ITS-90,FMOL/L,
  74DI20100106,        A05,      23,          1,          1,          1,2,20100110,       1522,   26.48366,  -76.44330,       4837,  4912.5,   2.1669,  34.8707,  34.8703,2,   250.4,2,   46.26,2,    1.44,2,  2179.2,3,  2336.1,2,   21.94,2,     -999.0,1,     -999.0,1,     -999.0,1,     -999.0,1,     1.7197,     -999.0,1
  74DI20100106,        A05,      23,          1,          2,          2,2,20100110,       1522,   26.48366,  -76.44330,       4837,  4912.7,   2.1670,  34.8707,  34.8698,2,   252.6,2,   46.50,2,    1.45,2,  -999.0,9,  -999.0,9,   21.86,2,     -999.0,1,     -999.0,1,     -999.0,1,     -999.0,1,     1.7198,     -999.0,1
  74DI20100106,        A05,      23,          1,          3,          3,2,20100110,       1522,   26.48366,  -76.44330,       4837,  4322.2,   2.2649,  34.8893,  34.8895,2,   262.3,2,   33.33,2,    1.31,2,  2171.0,2,  2324.5,2,   19.87,2,     -999.0,1,     -999.0,1,     -999.0,1,     -999.0,1,     1.8860,     -999.0,1
  74DI20100106,        A05,      23,          1,          4,          4,2,20100110,       1522,   26.48366,  -76.44330,       4837,  3811.1,   2.3237,  34.8983,  34.8979,2,   264.4,2,   29.16,2,    1.26,2,  2167.2,2,  2321.9,2,   19.40,2,     -999.0,1,     -999.0,1,     -999.0,1,     -999.0,1,     2.0017,     -999.0,1
  74DI20100106,        A05,      23,          1,          5,          5,2,20100110,       1522,   26.48366,  -76.44330,       4837,  3302.8,   2.5633,  34.9143,  34.9144,2,   265.5,2,   24.16,2,    1.23,2,  -999.0,9,  -999.0,9,   20.91,4,     -999.0,1,     -999.0,1,     -999.0,1,     -999.0,1,     2.2905,     -999.0,1
  74DI20100106,        A05,      23,          1,          6,          6,2,20100110,       1522,   26.48366,  -76.44330,       4837,  2793.9,   2.9097,  34.9324,  34.9324,2,   264.0,2,   19.40,2,    1.23,2,  2163.3,2,  2314.5,2,   18.81,2,     -999.0,9,     -999.0,9,     -999.0,9,     -999.0,9,     2.6821,     -999.0,9
  74DI20100106,        A05,      23,          1,          7,          7,2,20100110,       1522,   26.48366,  -76.44330,       4837,  2538.0,   3.1515,  34.9448,  34.9444,2,   262.0,2, -999.00,9, -999.00,9,  2161.7,2,  -999.0,9, -999.00,9,     -999.0,1,     -999.0,1,     -999.0,9,     -999.0,9,     2.9450,     -999.0,1
  74DI20100106,        A05,      23,          1,          8,          8,2,20100110,       1522,   26.48366,  -76.44330,       4837,  2286.4,   3.3915,  34.9541,  34.9536,2,   261.2,2,   17.46,2,    1.21,2,  -999.0,9,  -999.0,9,   18.81,2,     -999.0,1,     -999.0,1,     -999.0,1,     -999.0,1,     3.2056,     -999.0,1
  74DI20100106,        A05,      23,          1,          9,          9,2,20100110,       1522,   26.48366,  -76.44330,       4837,  2032.3,   3.6310,  34.9660,  34.9654,2,   260.3,2,   15.87,2,    1.22,2,  2161.6,2,  2308.6,2,   18.77,2,     -999.0,1,     -999.0,1,     -999.0,1,     -999.0,1,     3.4658,     -999.0,1
  74DI20100106,        A05,      23,          1,         10,         10,2,20100110,       1522,   26.48366,  -76.44330,       4837,  1776.3,   3.9210,  34.9780,  34.9772,2,   257.6,2,   14.29,2,    1.22,2,  -999.0,9,  -999.0,9,   18.91,2,     -999.0,1,     -999.0,1,     -999.0,1,     -999.0,1,     3.7761,     -999.0,1
  74DI20100106,        A05,      23,          1,         11,         11,2,20100110,       1522,   26.48366,  -76.44330,       4837,  1523.9,   4.3067,  35.0022,  35.0020,2,   251.2,2,   13.69,2,    1.23,2,  2162.9,2,  2307.5,2,   19.24,2,     -999.0,1,     -999.0,1,     -999.0,1,     -999.0,1,     4.1807,     -999.0,1
  74DI20100106,        A05,      23,          1,         12,         12,2,20100110,       1522,   26.48366,  -76.44330,       4837,  1270.4,   4.9789,  35.0451,  35.0454,2,   234.7,2,   13.67,2,    1.28,2,  2168.3,2,  2311.1,2,   19.83,2,     -999.0,1,     -999.0,1,     -999.0,1,     -999.0,1,     4.8697,     -999.0,1
  74DI20100106,        A05,      23,          1,         13,         13,2,20100110,       1522,   26.48366,  -76.44330,       4837,  1014.8,   6.6504,  35.0866,  35.0865,2,   183.1,2,   16.43,2,    1.54,2,  2183.4,2,  -999.0,9,   24.31,4,     -999.0,1,     -999.0,1,     -999.0,1,     -999.0,1,     6.5523,     -999.0,1
  74DI20100106,        A05,      23,          1,         14,         14,3,20100110,       1522,   26.48366,  -76.44330,       4837,   881.0,   8.6242,  35.1780,-999.0000,9,  -999.0,4, -999.00,9, -999.00,9,  -999.0,9,  -999.0,9, -999.00,9,     -999.0,9,     -999.0,9,     -999.0,9,     -999.0,9,     8.5269,     -999.0,9
  74DI20100106,        A05,      23,          1,         15,         15,2,20100110,       1522,   26.48366,  -76.44330,       4837,   754.3,  11.0604,  35.4239,  35.4226,2,   140.9,2,   11.27,2,    1.39,2,  2180.1,2,  2326.8,2,   23.10,2,     -999.0,1,     -999.0,1,     -999.0,9,     -999.0,9,    10.9643,     -999.0,1
  74DI20100106,        A05,      23,          1,         16,         16,2,20100110,       1522,   26.48366,  -76.44330,       4837,   631.8,  13.6633,  35.7989,  35.7989,2,   154.9,2,    6.50,2,    0.97,2,  2160.5,2,  2344.6,2,   16.70,2,     -999.0,9,     -999.0,9,     -999.0,9,     -999.0,9,    13.5714,     -999.0,9
  74DI20100106,        A05,      23,          1,         17,         17,2,20100110,       1522,   26.48366,  -76.44330,       4837,   505.4,  16.5024,  36.2686,  36.2684,2,   178.4,2,    2.98,2,    0.50,2,  2133.1,2,  2368.3,2,    9.10,2,     -999.0,1,     -999.0,1,     -999.0,1,     -999.0,1,    16.4193,     -999.0,1
  74DI20100106,        A05,      23,          1,         18,         18,2,20100110,       1522,   26.48366,  -76.44330,       4837,   379.9,  18.0094,  36.5400,  36.5393,2,   194.2,2,    1.66,2,    0.23,2,  -999.0,9,  -999.0,9,    4.79,2,     -999.0,9,     -999.0,9,     -999.0,9,     -999.0,9,    17.9432,     -999.0,9
  74DI20100106,        A05,      23,          1,         19,         19,2,20100110,       1522,   26.48366,  -76.44330,       4837,   252.0,  19.2779,  36.6459,  36.6430,2,   193.6,2,    1.25,2,    0.06,2,  2105.5,2,  2390.4,2,    2.38,2,     -999.0,1,     -999.0,1,     -999.0,1,     -999.0,1,    19.2320,     -999.0,1
  74DI20100106,        A05,      23,          1,         20,         20,2,20100110,       1522,   26.48366,  -76.44330,       4837,   175.9,  20.5335,  36.7382,  36.7393,2,   200.0,2,    0.92,2,    0.02,2,  -999.0,9,  -999.0,9,    0.37,2,     -999.0,9,     -999.0,9,     -999.0,9,     -999.0,9,    20.5001,     -999.0,9
  74DI20100106,        A05,      23,          1,         21,         21,2,20100110,       1522,   26.48366,  -76.44330,       4837,   123.1,  22.4266,  36.8301,  36.8306,2,   196.3,2, -999.00,9, -999.00,9,  2086.4,2,  -999.0,9, -999.00,9,     -999.0,1,     -999.0,1,     -999.0,1,     -999.0,1,    22.4017,     -999.0,1
  74DI20100106,        A05,      23,          1,         22,         22,2,20100110,       1522,   26.48366,  -76.44330,       4837,   123.2,  22.4377,  36.8304,  36.8304,2,   196.8,2,    0.77,2,    0.00,2,  -999.0,9,  -999.0,9,    0.40,2,     -999.0,9,     -999.0,9,     -999.0,9,     -999.0,9,    22.4128,     -999.0,9
  74DI20100106,        A05,      23,          1,         23,         23,2,20100110,       1522,   26.48366,  -76.44330,       4837,    50.0,  23.6302,  36.7304,  36.7287,2,   205.0,2,    0.81,2,    0.01,2,  2050.9,2,  2392.4,2,    0.51,2,     -999.0,1,     -999.0,1,     -999.0,1,     -999.0,9,    23.6198,     -999.0,1
  74DI20100106,        A05,      23,          1,         24,         24,2,20100110,       1522,   26.48366,  -76.44330,       4837,     6.1,  23.6063,  36.7318,  36.7308,2,   206.1,2,    1.02,2,    0.00,2,  2048.9,2,  2393.1,2,    0.00,2,     -999.0,1,     -999.0,1,     -999.0,1,     -999.0,1,    23.6050,     -999.0,1
  74DI20100106,        A05,      24,          1,          1,          1,2,20100110,       2129,   26.49589,  -76.30294,       4835,  4907.0,   2.1938,  34.8741,  34.8736,2,   251.4,2,   44.95,2,    1.45,2,  2191.6,2,  2335.8,2,   21.39,2,     -999.0,1,     -999.0,1,     -999.0,1,     -999.0,1,     1.7464,     -999.0,1
  74DI20100106,        A05,      24,          1,          2,          2,2,20100110,       2129,   26.49589,  -76.30294,       4835,  4907.4,   2.1937,  34.8741,-999.0000,9,   253.6,2,   45.22,2,    1.45,2,  -999.0,9,  -999.0,9,   21.45,2,     -999.0,1,     -999.0,1,     -999.0,1,     -999.0,1,     1.7463,     -999.0,1
  74DI20100106,        A05,      24,          1,          3,          3,2,20100110,       2129,   26.49589,  -76.30294,       4835,  4584.2,   2.2419,  34.8843,  34.8839,2,   260.3,2,   37.37,2,    1.37,2,  2181.7,2,  2327.9,2,   20.09,2,     -999.0,1,     -999.0,1,     -999.0,1,     -999.0,1,     1.8325,     -999.0,1
  74DI20100106,        A05,      24,          1,          4,          4,2,20100110,       2129,   26.49589,  -76.30294,       4835,  4070.4,   2.2651,  34.8913,  34.8907,2,   262.6,2,   32.21,2,    1.31,2,  2176.6,2,  2324.9,2,   19.44,2,     -999.0,1,     -999.0,1,     -999.0,1,     -999.0,1,     1.9155,     -999.0,1
  74DI20100106,        A05,      24,          1,          5,          5,2,20100110,       2129,   26.49589,  -76.30294,       4835,  3558.6,   2.3736,  34.9020,  34.9011,2,   266.2,2,   27.08,2,    1.26,2,  2169.7,2,  2316.5,2,   18.64,2,     -999.0,1,     -999.0,1,     -999.0,1,     -999.0,1,     2.0780,     -999.0,1
  74DI20100106,        A05,      24,          1,          6,          6,2,20100110,       2129,   26.49589,  -76.30294,       4835,  3050.2,   2.7014,  34.9235,  34.9229,2,   264.3,2,   23.08,2,    1.24,2,  2166.4,2,  2314.6,2,   18.82,2,     -999.0,1,     -999.0,1,     -999.0,1,     -999.0,1,     2.4519,     -999.0,1
  74DI20100106,        A05,      24,          1,          7,          7,2,20100110,       2129,   26.49589,  -76.30294,       4835,  2535.7,   3.1901,  34.9524,  34.9524,2,   259.9,2,   20.22,2,    1.27,2,  2164.8,2,  2313.8,2,   19.55,2,     -999.0,1,     -999.0,1,     -999.0,1,     -999.0,1,     2.9831,     -999.0,1
  74DI20100106,        A05,      24,          1,          8,          8,2,20100110,       2129,   26.49589,  -76.30294,       4835,  2284.6,   3.4050,  34.9607,  34.9608,2,   260.3,2,   18.24,2,    1.25,2,  -999.0,9,  -999.0,9,   18.89,2,     -999.0,1,     -999.0,1,     -999.0,1,     -999.0,1,     3.2190,     -999.0,1
  74DI20100106,        A05,      24,          1,          9,          9,2,20100110,       2129,   26.49589,  -76.30294,       4835,  2031.4,   3.6258,  34.9644,  34.9643,2,   260.5,2,   16.02,22,    1.23,2,  2161.9,2,  -999.0,9,   18.64,2,     -999.0,1,     -999.0,1,     -999.0,1,     -999.0,1,     3.4608,     -999.0,1
  74DI20100106,        A05,      24,          1,         10,         10,2,20100110,       2129,   26.49589,  -76.30294,       4835,  1777.2,   3.9090,  34.9788,  34.9786,2,   257.9,2,   14.61,2,    1.24,2,  -999.0,9,  -999.0,9,   19.05,2,     -999.0,1,     -999.0,1,     -999.0,1,     -999.0,1,     3.7642,     -999.0,1
  74DI20100106,        A05,      24,          1,         11,         11,2,20100110,       2129,   26.49589,  -76.30294,       4835,  1521.3,   4.3016,  35.0025,  35.0025,2,   251.2,2,   13.75,2,    1.24,2,  2166.4,2,  2309.6,2,   19.09,2,     -999.0,1,     -999.0,1,     -999.0,1,     -999.0,1,     4.1759,     -999.0,1
  74DI20100106,        A05,      24,          1,         12,         12,2,20100110,       2129,   26.49589,  -76.30294,       4835,  1266.0,   5.0238,  35.0454,  35.0452,2,   234.4,2,   13.70,2,    1.29,2,  2173.7,2,  2310.5,2,   20.04,2,     -999.0,1,     -999.0,1,     -999.0,1,     -999.0,1,     4.9146,     -999.0,1
  74DI20100106,        A05,      24,          1,         13,         13,2,20100110,       2129,   26.49589,  -76.30294,       4835,  1019.5,   6.8921,  35.0899,  35.0892,2,   177.6,2,   16.30,2,    1.56,2,  2190.2,2,  2315.5,2,   24.40,2,     -999.0,1,     -999.0,1,     -999.0,1,     -999.0,1,     6.7916,     -999.0,1
  74DI20100106,        A05,      24,          1,         14,         14,2,20100110,       2129,   26.49589,  -76.30294,       4835,   893.6,   8.7377,  35.1858,  35.1853,2,   147.7,2,   15.58,2,    1.62,2,  2189.7,2,  2319.6,2,   25.80,2,     -999.0,1,     -999.0,1,     -999.0,1,     -999.0,1,     8.6382,     -999.0,1
  74DI20100106,        A05,      24,          1,         15,         15,10,20100110,       2129,   26.49589,  -76.30294,       4835,   756.6,  11.2559,  35.4525,  35.4521,2,   142.6,2,   10.86,2,    1.36,2,  -999.0,9,  -999.0,9,   22.50,2,     -999.0,1,     -999.0,1,     -999.0,1,     -999.0,1,    11.1584,     -999.0,1
  74DI20100106,        A05,      24,          1,         16,         16,2,20100110,       2129,   26.49589,  -76.30294,       4835,   756.1,  11.2601,  35.4534,-999.0000,9,   142.4,2,   10.82,2,    1.35,2,  -999.0,9,  -999.0,9,   22.36,2,     -999.0,9,     -999.0,9,     -999.0,9,     -999.0,9,    11.1627,     -999.0,9
  74DI20100106,        A05,      24,          1,         17,         17,2,20100110,       2129,   26.49589,  -76.30294,       4835,   629.5,  13.9044,  35.8371,  35.8372,2,   156.6,2,    6.14,2,    0.93,2,  2158.5,2,  2346.6,2,   16.13,2,     -999.0,1,     -999.0,1,     -999.0,1,     -999.0,1,    13.8118,     -999.0,1
  74DI20100106,        A05,      24,          1,         18,         18,2,20100110,       2129,   26.49589,  -76.30294,       4835,   503.3,  16.6327,  36.2925,  36.2918,2,   180.8,2,    2.91,22,    0.48,2,  -999.0,9,  -999.0,9,    8.88,2,     -999.0,9,     -999.0,9,     -999.0,9,     -999.0,9,    16.5495,     -999.0,9
  74DI20100106,        A05,      24,          1,         19,         19,2,20100110,       2129,   26.49589,  -76.30294,       4835,   378.5,  17.9571,  36.5307,  36.5305,2,   192.9,2,    1.82,2,    0.25,2,  2107.9,2,  2383.5,2,    5.14,2,     -999.0,1,     -999.0,1,     -999.0,9,     -999.0,9,    17.8912,     -999.0,1
  74DI20100106,        A05,      24,          1,         20,         20,3,20100110,       2129,   26.49589,  -76.30294,       4835,   252.1,  19.1259,  36.6455,-999.0000,9,  -999.0,9,   14.54,3,    1.22,3,  -999.0,9,  -999.0,9,   18.77,3,     -999.0,9,     -999.0,9,     -999.0,9,     -999.0,9,    19.0802,     -999.0,9
  74DI20100106,        A05,      24,          1,         21,         21,2,20100110,       2129,   26.49589,  -76.30294,       4835,   176.8,  20.5802,  36.7527,  36.7524,2,   193.5,2,    0.87,2,    0.01,2,  2094.7,2,  2399.4,2,    0.86,2,     -999.0,1,     -999.0,1,     -999.0,9,     -999.0,9,    20.5466,     -999.0,1
  74DI20100106,        A05,      24,          1,         22,         22,2,20100110,       2129,   26.49589,  -76.30294,       4835,   121.1,  22.8294,  36.8475,  36.8273,2,   200.8,2,    0.91,2,    0.00,2,  -999.0,9,  -999.0,9,    0.01,2,     -999.0,9,     -999.0,9,     -999.0,9,     -999.0,9,    22.8046,     -999.0,9
  74DI20100106,        A05,      24,          1,         23,         23,2,20100110,       2129,   26.49589,  -76.30294,       4835,    50.3,  23.6370,  36.7409,  36.7408,2,   205.3,2,    0.99,2,    0.00,2,  2045.5,2,  2399.0,2,    0.00,2,     -999.0,1,     -999.0,1,     -999.0,9,     -999.0,9,    23.6265,     -999.0,1
  74DI20100106,        A05,      24,          1,         24,         24,10,20100110,       2129,   26.49589,  -76.30294,       4835,     4.2,  23.6345,  36.7421,  36.7427,2,   206.0,2,    0.95,2,    0.00,2,  2045.0,2,  2393.4,2,    0.24,3,     -999.0,1,     -999.0,1,     -999.0,1,     -999.0,1,    23.6336,     -999.0,1