BOTTLE,20200115CCHSIOCBG
EXPOCODE,SECT_ID,STNNBR,CASTNO,SAMPNO,BTLNBR,BTLNBR_FLAG_W,DATE,TIME,LATITUDE,LONGITUDE,DEPTH,CTDPRS,CTDTMP,CTDSAL,SALNTY,SALNTY_FLAG_W,OXYGEN,OXYGEN_FLAG_W,SILCAT,SILCAT_FLAG_W,PHSPHT,PHSPHT_FLAG_W,TCARBN,TCARBN_FLAG_W,ALKALI,ALKALI_FLAG_W,NO2+NO3,NO2+NO3_FLAG_W,CFC-11,CFC-11_FLAG_W,CFC-12,CFC-12_FLAG_W,CFC113,CFC113_FLAG_W,CCL4,CCL4_FLAG_W,THETA,SF6,SF6_FLAG_W
,,,,,,,,,,,METERS,DBAR,ITS-90,PSS-78,PSS-78,,UMOL/KG,,UMOL/KG,,UMOL/KG,,UMOL/KG,,UMOL/KG,,UMOL/KG,,PMOL/L,,PMOL/L,,PMOL/L,,PMOL/L,,ITS-90,FMOL/L,
  74DI20100106,        A05,      79,          1,          1,          1,3,20100129,       1115,   24.19602,  -48.47303,       5287,  5372.1,   2.1538,  34.8596,-999.0000,9,   204.1,4, -999.00,9, -999.00,9,  -999.0,9,  -999.0,9, -999.00,9,     -999.0,9,     -999.0,9,     -999.0,9,     -999.0,9,     1.6488,     -999.0,9
  74DI20100106,        A05,      79,          1,          2,          2,2,20100129,       1115,   24.19602,  -48.47303,       5287,  4844.2,   2.1039,  34.8617,  34.8617,2,   249.1,2,   53.74,2,    1.50,2,  2190.7,2,  2336.3,2,   22.66,2,     -999.0,1,     -999.0,1,     -999.0,1,     -999.0,1,     1.6674,     -999.0,1
  74DI20100106,        A05,      79,          1,          3,          3,2,20100129,       1115,   24.19602,  -48.47303,       5287,  4329.9,   2.2020,  34.8778,  34.8793,2,   250.8,2,   47.65,2,    1.46,2,  -999.0,9,  -999.0,9,   22.15,2,     -999.0,1,     -999.0,1,     -999.0,1,     -999.0,1,     1.8241,     -999.0,1
  74DI20100106,        A05,      79,          1,          4,          4,2,20100129,       1115,   24.19602,  -48.47303,       5287,  3818.7,   2.3688,  34.8964,  34.8961,2,   249.8,2,   43.55,2,    1.43,2,  -999.0,9,  -999.0,9,   21.62,2,     -999.0,1,     -999.0,1,     -999.0,1,     -999.0,1,     2.0447,     -999.0,1
  74DI20100106,        A05,      79,          1,          5,          5,2,20100129,       1115,   24.19602,  -48.47303,       5287,  3308.7,   2.6040,  34.9190,  34.9191,2,   247.8,2,   39.48,2,    1.40,2,  -999.0,9,  -999.0,9,   21.47,2,     -999.0,1,     -999.0,1,     -999.0,1,     -999.0,1,     2.3296,     -999.0,1
  74DI20100106,        A05,      79,          1,          6,          6,2,20100129,       1115,   24.19602,  -48.47303,       5287,  2796.2,   2.8927,  34.9462,  34.9460,2,   246.9,2,   33.94,2,    1.37,2,  -999.0,9,  -999.0,9,   21.21,2,     -999.0,1,     -999.0,1,     -999.0,1,     -999.0,1,     2.6652,     -999.0,1
  74DI20100106,        A05,      79,          1,          7,          7,2,20100129,       1115,   24.19602,  -48.47303,       5287,  2544.4,   3.0485,  34.9602,  34.9603,2,   245.6,2,   31.13,2,    1.35,2,  -999.0,9,  -999.0,9,   20.69,2,     -999.0,1,     -999.0,1,     -999.0,1,     -999.0,1,     2.8432,     -999.0,1
  74DI20100106,        A05,      79,          1,          8,          8,10,20100129,       1115,   24.19602,  -48.47303,       5287,  2289.1,   3.3273,  34.9851,  34.9854,2,   246.1,2,   27.21,2,    1.32,2,  -999.0,9,  -999.0,9,   20.31,2,     -999.0,9,     -999.0,9,     -999.0,9,     -999.0,9,     3.1421,     -999.0,1
  74DI20100106,        A05,      79,          1,          9,          9,2,20100129,       1115,   24.19602,  -48.47303,       5287,  2034.7,   3.8204,  35.0278,  35.0281,2,   241.5,2,   22.62,2,    1.29,2,  -999.0,9,  -999.0,9,   20.27,2,     -999.0,1,     -999.0,1,     -999.0,1,     -999.0,1,     3.6520,     -999.0,1
  74DI20100106,        A05,      79,          1,         10,         10,2,20100129,       1115,   24.19602,  -48.47303,       5287,  1781.7,   4.3525,  35.0612,  35.0613,2,   237.1,2,   18.43,2,    1.28,2,  -999.0,9,  -999.0,9,   20.07,2,     -999.0,1,     -999.0,1,     -999.0,1,     -999.0,1,     4.2011,     -999.0,1
  74DI20100106,        A05,      79,          1,         11,         11,2,20100129,       1115,   24.19602,  -48.47303,       5287,  1526.6,   4.8784,  35.0732,  35.0738,2,   227.1,2,   16.14,2,    1.31,2,  -999.0,9,  -999.0,9,   20.67,2,     -999.0,1,     -999.0,1,     -999.0,1,     -999.0,1,     4.7455,     -999.0,1
  74DI20100106,        A05,      79,          1,         12,         12,3,20100129,       1115,   24.19602,  -48.47303,       5287,  1274.3,   5.6544,  35.0631,-999.0000,9,  -999.0,9, -999.00,9, -999.00,9,  -999.0,9,  -999.0,9, -999.00,9,     -999.0,9,     -999.0,9,     -999.0,9,     -999.0,9,     5.5384,     -999.0,9
  74DI20100106,        A05,      79,          1,         13,         13,2,20100129,       1115,   24.19602,  -48.47303,       5287,  1009.3,   6.9642,  35.0422,  35.0430,2,   150.3,3,   19.98,2,    1.78,2,  -999.0,9,  -999.0,9,   28.27,2,     -999.0,1,     -999.0,1,     -999.0,1,     -999.0,1,     6.8643,     -999.0,1
  74DI20100106,        A05,      79,          1,         14,         14,2,20100129,       1115,   24.19602,  -48.47303,       5287,   883.7,   8.4156,  35.1719,  35.1705,2,   142.8,2,   16.90,2,    1.66,2,  -999.0,9,  -999.0,9,   26.97,2,     -999.0,1,     -999.0,1,     -999.0,1,     -999.0,1,     8.3194,     -999.0,1
  74DI20100106,        A05,      79,          1,         15,         15,10,20100129,       1115,   24.19602,  -48.47303,       5287,   756.2,  10.3591,  35.4142,  35.4145,2,   146.8,2,   11.68,2,    1.36,2,  -999.0,9,  -999.0,9,   23.03,2,     -999.0,1,     -999.0,1,     -999.0,1,     -999.0,1,    10.2665,     -999.0,1
  74DI20100106,        A05,      79,          1,         16,         16,2,20100129,       1115,   24.19602,  -48.47303,       5287,   630.9,  12.4322,  35.6622,  35.6588,2,   158.9,2,    7.34,2,    1.01,2,  -999.0,9,  -999.0,9,   17.66,2,     -999.0,1,     -999.0,1,     -999.0,1,     -999.0,1,    12.3460,     -999.0,1
  74DI20100106,        A05,      79,          1,         17,         17,10,20100129,       1115,   24.19602,  -48.47303,       5287,   504.6,  14.8432,  36.0069,  36.0074,2,   174.5,2,    3.98,2,    0.63,2,  -999.0,9,  -999.0,9,   11.76,2,     -999.0,1,     -999.0,1,     -999.0,9,     -999.0,9,    14.7659,     -999.0,1
  74DI20100106,        A05,      79,          1,         18,         18,2,20100129,       1115,   24.19602,  -48.47303,       5287,   378.3,  16.9762,  36.3646,  36.3675,2,   187.9,2,    2.06,2,    0.33,2,  -999.0,9,  -999.0,9,    6.88,2,     -999.0,9,     -999.0,9,     -999.0,9,     -999.0,9,    16.9129,     -999.0,9
  74DI20100106,        A05,      79,          1,         19,         19,2,20100129,       1115,   24.19602,  -48.47303,       5287,   252.7,  18.2901,  36.5614,  36.5627,2,   196.3,2,    1.16,2,    0.14,2,  -999.0,9,  -999.0,9,    3.78,2,     -999.0,1,     -999.0,1,     -999.0,9,     -999.0,9,    18.2457,     -999.0,1
  74DI20100106,        A05,      79,          1,         20,         20,2,20100129,       1115,   24.19602,  -48.47303,       5287,   176.7,  20.4661,  36.9052,  36.9060,2,   188.6,2,    0.60,2,    0.00,2,  -999.0,9,  -999.0,9,    0.89,2,     -999.0,9,     -999.0,9,     -999.0,9,     -999.0,9,    20.4325,     -999.0,9
  74DI20100106,        A05,      79,          1,         21,         21,2,20100129,       1115,   24.19602,  -48.47303,       5287,   100.2,  23.7214,  37.3400,  37.3409,2,   207.9,2,    0.49,2,    0.00,2,  -999.0,9,  -999.0,9,    0.00,2,     -999.0,1,     -999.0,1,     -999.0,1,     -999.0,1,    23.7003,     -999.0,1
  74DI20100106,        A05,      79,          1,         22,         22,2,20100129,       1115,   24.19602,  -48.47303,       5287,    49.4,  23.7202,  37.3420,  37.3423,2,   207.4,2,    0.51,2,    0.00,2,  -999.0,9,  -999.0,9,    0.00,2,     -999.0,1,     -999.0,1,     -999.0,1,     -999.0,1,    23.7098,     -999.0,1
  74DI20100106,        A05,      79,          1,         23,         23,3,20100129,       1115,   24.19602,  -48.47303,       5287,    26.2,  23.7158,  37.3417,-999.0000,9,  -999.0,9, -999.00,9, -999.00,9,  -999.0,9,  -999.0,9, -999.00,9,     -999.0,9,     -999.0,9,     -999.0,9,     -999.0,9,    23.7102,     -999.0,9
  74DI20100106,        A05,      79,          1,         24,         24,2,20100129,       1115,   24.19602,  -48.47303,       5287,     4.6,  23.7093,  37.3423,  37.3429,2,   209.4,3,    0.52,2,    0.00,2,  -999.0,9,  -999.0,9,    0.00,2,     -999.0,1,     -999.0,1,     -999.0,1,     -999.0,1,    23.7083,     -999.0,1
  74DI20100106,        A05,      80,          1,          1,          1,2,20100129,       1831,   24.06623,  -47.94259,       5302,  5390.0,   2.1675,  34.8609,  34.8630,2,   245.5,2,   54.55,2,    1.53,2,  2195.3,2,  2338.0,2,   23.31,2,     -999.0,1,     -999.0,1,     -999.0,1,     -999.0,1,     1.6597,     -999.0,1
  74DI20100106,        A05,      80,          1,          2,          2,3,20100129,       1831,   24.06623,  -47.94259,       5302,  5097.1,   2.1361,  34.8618,-999.0000,9,  -999.0,9, -999.00,9, -999.00,9,  -999.0,9,  -999.0,9, -999.00,9,     -999.0,9,     -999.0,9,     -999.0,9,     -999.0,9,     1.6670,     -999.0,9
  74DI20100106,        A05,      80,          1,          3,          3,2,20100129,       1831,   24.06623,  -47.94259,       5302,  4588.2,   2.1209,  34.8665,  34.8691,2,   246.8,2,   52.85,2,    1.52,2,  2189.5,2,  2345.2,2,   23.39,2,     -999.0,1,     -999.0,1,     -999.0,1,     -999.0,1,     1.7150,     -999.0,1
  74DI20100106,        A05,      80,          1,          4,          4,2,20100129,       1831,   24.06623,  -47.94259,       5302,  4074.8,   2.2496,  34.8843,  34.8864,2,   248.4,2,   46.84,2,    1.46,2,  2185.0,2,  2341.7,2,   22.43,2,     -999.0,1,     -999.0,1,     -999.0,1,     -999.0,1,     1.8999,     -999.0,1
  74DI20100106,        A05,      80,          1,          5,          5,2,20100129,       1831,   24.06623,  -47.94259,       5302,  3562.9,   2.4232,  34.9030,  34.9049,2,   248.5,2,   42.78,2,    1.43,2,  2184.2,2,  2337.6,2,   22.11,2,     -999.0,1,     -999.0,1,     -999.0,1,     -999.0,1,     2.1259,     -999.0,1
  74DI20100106,        A05,      80,          1,          6,          6,2,20100129,       1831,   24.06623,  -47.94259,       5302,  3053.4,   2.7761,  34.9350,  34.9368,2,   245.1,2,   36.15,2,    1.40,2,  2182.5,2,  2333.0,2,   21.54,2,     -999.0,1,     -999.0,1,     -999.0,1,     -999.0,1,     2.5247,     -999.0,1
  74DI20100106,        A05,      80,          1,          7,          7,2,20100129,       1831,   24.06623,  -47.94259,       5302,  2532.3,   3.1639,  34.9702,  34.9720,2,   244.2,2,   29.77,2,    1.35,2,  2175.6,2,  2331.2,2,   20.99,2,     -999.0,1,     -999.0,1,     -999.0,1,     -999.0,1,     2.9576,     -999.0,1
  74DI20100106,        A05,      80,          1,          8,          8,2,20100129,       1831,   24.06623,  -47.94259,       5302,  2277.1,   3.4334,  34.9944,  34.9963,2,   244.0,2,   26.27,2,    1.32,2,  -999.0,9,  -999.0,9,   20.51,2,     -999.0,1,     -999.0,1,     -999.0,1,     -999.0,1,     3.2476,     -999.0,1
  74DI20100106,        A05,      80,          1,          9,          9,2,20100129,       1831,   24.06623,  -47.94259,       5302,  2025.9,   3.8211,  35.0141,  35.0078,2,   240.7,2,   23.93,2,    1.33,2,  2170.5,2,  2324.5,2,   20.70,2,     -999.0,1,     -999.0,1,     -999.0,1,     -999.0,1,     3.6536,     -999.0,1
  74DI20100106,        A05,      80,          1,         10,         10,2,20100129,       1831,   24.06623,  -47.94259,       5302,  1771.0,   4.3039,  35.0380,  35.0402,2,   232.8,2,   18.94,2,    1.33,2,  -999.0,9,  -999.0,9,   20.87,2,     -999.0,1,     -999.0,1,     -999.0,1,     -999.0,1,     4.1543,     -999.0,1
  74DI20100106,        A05,      80,          1,         11,         11,2,20100129,       1831,   24.06623,  -47.94259,       5302,  1489.3,   4.9663,  35.0438,  35.0461,2,   213.2,2,   18.04,2,    1.43,2,  2173.1,2,  2319.4,2,   22.80,2,     -999.0,1,     -999.0,1,     -999.0,1,     -999.0,1,     4.8361,     -999.0,1
  74DI20100106,        A05,      80,          1,         12,         12,2,20100129,       1831,   24.06623,  -47.94259,       5302,  1263.4,   5.5697,  35.0170,  35.0198,2,   183.9,2,   20.30,2,    1.64,2,  -999.0,9,  -999.0,9,   25.83,2,     -999.0,1,     -999.0,1,     -999.0,1,     -999.0,1,     5.4557,     -999.0,1
  74DI20100106,        A05,      80,          1,         13,         13,2,20100129,       1831,   24.06623,  -47.94259,       5302,  1009.6,   6.5250,  35.0126,  35.0165,2,   151.3,2,   21.45,2,    1.82,2,  2201.5,2,  2316.6,2,   29.43,2,     -999.0,1,     -999.0,1,     -999.0,1,     -999.0,1,     6.4284,     -999.0,1
  74DI20100106,        A05,      80,          1,         14,         14,2,20100129,       1831,   24.06623,  -47.94259,       5302,   885.3,   7.9728,  35.1601,  35.1642,2,   142.1,2,   18.03,2,    1.70,2,  -999.0,9,  -999.0,9,   28.40,2,     -999.0,1,     -999.0,1,     -999.0,1,     -999.0,1,     7.8792,     -999.0,1
  74DI20100106,        A05,      80,          1,         15,         15,10,20100129,       1831,   24.06623,  -47.94259,       5302,   757.3,  10.0120,  35.3868,  35.3878,2,   142.4,2,   12.40,2,    1.41,2,  2188.8,2,  2325.8,2,   23.97,2,     -999.0,1,     -999.0,1,     -999.0,1,     -999.0,1,     9.9211,     -999.0,1
  74DI20100106,        A05,      80,          1,         16,         16,10,20100129,       1831,   24.06623,  -47.94259,       5302,   629.6,  12.0500,  35.6261,  35.6283,2,   157.1,2,    7.54,2,    1.05,2,  -999.0,9,  -999.0,9,   18.23,2,     -999.0,9,     -999.0,9,     -999.0,9,     -999.0,9,    11.9656,     -999.0,9
  74DI20100106,        A05,      80,          1,         17,         17,2,20100129,       1831,   24.06623,  -47.94259,       5302,   505.3,  14.0676,  35.8897,  35.8918,2,   171.0,2,    4.75,2,    0.78,2,  2147.4,2,  2347.9,2,   13.36,2,     -999.0,1,     -999.0,1,     -999.0,9,     -999.0,9,    13.9931,     -999.0,1
  74DI20100106,        A05,      80,          1,         18,         18,2,20100129,       1831,   24.06623,  -47.94259,       5302,   380.7,  16.2137,  36.2284,  36.2319,2,   183.0,2,    2.72,2,    0.45,2,  2130.9,2,  2367.6,2,    8.45,2,     -999.0,1,     -999.0,1,     -999.0,9,     -999.0,9,    16.1520,     -999.0,1
  74DI20100106,        A05,      80,          1,         19,         19,2,20100129,       1831,   24.06623,  -47.94259,       5302,   253.0,  17.9463,  36.5345,  36.5391,2,   189.9,2,    1.87,2,    0.20,2,  -999.0,9,  -999.0,9,    4.86,2,     -999.0,9,     -999.0,9,     -999.0,9,     -999.0,9,    17.9024,     -999.0,9
  74DI20100106,        A05,      80,          1,         20,         20,2,20100129,       1831,   24.06623,  -47.94259,       5302,   178.6,  19.1224,  36.6765,  36.6748,2,   186.2,2,    0.86,2,    0.03,2,  2115.6,2,  2393.7,2,    2.03,2,     -999.0,1,     -999.0,1,     -999.0,9,     -999.0,9,    19.0901,     -999.0,1
  74DI20100106,        A05,      80,          1,         21,         21,2,20100129,       1831,   24.06623,  -47.94259,       5302,    99.3,  23.2744,  37.2411,  37.2619,2,   205.1,2,    0.48,2,    0.00,2,  -999.0,9,  -999.0,9,    0.00,2,     -999.0,9,     -999.0,9,     -999.0,9,     -999.0,9,    23.2537,     -999.0,9
  74DI20100106,        A05,      80,          1,         22,         22,10,20100129,       1831,   24.06623,  -47.94259,       5302,    48.8,  23.5613,  37.2909,  37.2935,2,   205.2,2,    0.56,2,    0.00,2,  2080.7,2,  2431.3,2,    0.00,2,     -999.0,1,     -999.0,1,     -999.0,9,     -999.0,9,    23.5510,     -999.0,1
  74DI20100106,        A05,      80,          1,         23,         23,2,20100129,       1831,   24.06623,  -47.94259,       5302,    24.5,  23.5545,  37.2921,  37.2943,2,   206.4,2,    0.49,2,    0.00,2,  2079.4,2,  2429.8,2,    0.00,2,     -999.0,9,     -999.0,9,     -999.0,9,     -999.0,9,    23.5494,     -999.0,9
  74DI20100106,        A05,      80,          1,         24,         24,10,20100129,       1831,   24.06623,  -47.94259,       5302,     3.6,  23.5488,  37.2925,  37.2953,2,   205.3,2,    0.54,2,    0.00,2,  2080.0,2,  2431.3,2,    0.00,2,     -999.0,1,     -999.0,1,     -999.0,1,     -999.0,1,    23.5480,     -999.0,1