BOTTLE,20200115CCHSIOCBG
EXPOCODE,SECT_ID,STNNBR,CASTNO,SAMPNO,BTLNBR,BTLNBR_FLAG_W,DATE,TIME,LATITUDE,LONGITUDE,DEPTH,CTDPRS,CTDTMP,CTDSAL,SALNTY,SALNTY_FLAG_W,OXYGEN,OXYGEN_FLAG_W,SILCAT,SILCAT_FLAG_W,PHSPHT,PHSPHT_FLAG_W,TCARBN,TCARBN_FLAG_W,ALKALI,ALKALI_FLAG_W,NO2+NO3,NO2+NO3_FLAG_W,CFC-11,CFC-11_FLAG_W,CFC-12,CFC-12_FLAG_W,CFC113,CFC113_FLAG_W,CCL4,CCL4_FLAG_W,THETA,SF6,SF6_FLAG_W
,,,,,,,,,,,METERS,DBAR,ITS-90,PSS-78,PSS-78,,UMOL/KG,,UMOL/KG,,UMOL/KG,,UMOL/KG,,UMOL/KG,,UMOL/KG,,PMOL/L,,PMOL/L,,PMOL/L,,PMOL/L,,ITS-90,FMOL/L,
  74DI20100106,        A05,      57,          1,          1,          1,2,20100120,       1954,   24.50113,  -62.55592,       5912,  6021.1,   2.0996,  34.8449,  34.8464,2,   242.5,2,   60.31,2,    1.08,3,  2200.0,2,  2348.6,2,   23.55,2,     -999.0,1,     -999.0,1,     -999.0,1,     -999.0,1,     1.5102,     -999.0,1
  74DI20100106,        A05,      57,          1,          2,          2,2,20100120,       1954,   24.50113,  -62.55592,       5912,  5364.8,   2.0511,  34.8508,  34.8504,2,   244.3,2,   57.24,2,    4.74,4,  2198.3,2,  -999.0,9,   23.44,2,     -999.0,1,     -999.0,1,     -999.0,1,     -999.0,1,     1.5508,     -999.0,1
  74DI20100106,        A05,      57,          1,          3,          3,2,20100120,       1954,   24.50113,  -62.55592,       5912,  4850.0,   2.2115,  34.8779,  34.8793,2,   253.3,2,   44.16,2,    4.41,4,  2181.6,2,  -999.0,9,   21.30,2,     -999.0,1,     -999.0,1,     -999.0,1,     -999.0,1,     1.7706,     -999.0,1
  74DI20100106,        A05,      57,          1,          4,          4,2,20100120,       1954,   24.50113,  -62.55592,       5912,  4336.3,   2.2968,  34.8940,  34.8938,2,   257.6,2,   34.86,2,    4.10,4,  2172.0,2,  -999.0,9,   19.76,2,     -999.0,1,     -999.0,1,     -999.0,1,     -999.0,1,     1.9152,     -999.0,1
  74DI20100106,        A05,      57,          1,          5,          5,2,20100120,       1954,   24.50113,  -62.55592,       5912,  3822.8,   2.3772,  34.9021,  34.9007,2,   256.9,2,   35.63,2,    3.66,4,  2175.5,2,  -999.0,9,   20.38,2,     -999.0,1,     -999.0,1,     -999.0,1,     -999.0,1,     2.0524,     -999.0,1
  74DI20100106,        A05,      57,          1,          6,          6,2,20100120,       1954,   24.50113,  -62.55592,       5912,  3312.3,   2.5969,  34.9211,  34.9204,2,   253.4,2,   32.83,2,    3.30,4,  2173.0,2,  -999.0,9,   20.29,2,     -999.0,1,     -999.0,1,     -999.0,1,     -999.0,1,     2.3222,     -999.0,1
  74DI20100106,        A05,      57,          1,          7,          7,2,20100120,       1954,   24.50113,  -62.55592,       5912,  2802.6,   2.8995,  34.9467,  34.9458,2,   249.4,2,   30.38,2,    2.86,4,  2170.6,2,  -999.0,9,   20.32,2,     -999.0,1,     -999.0,1,     -999.0,1,     -999.0,1,     2.6712,     -999.0,1
  74DI20100106,        A05,      57,          1,          8,          8,2,20100120,       1954,   24.50113,  -62.55592,       5912,  2546.2,   3.1165,  34.9663,  34.9664,2,   245.3,2,   29.70,2,    1.38,3,  -999.0,9,  -999.0,9,   20.57,2,     -999.0,1,     -999.0,1,     -999.0,1,     -999.0,1,     2.9097,     -999.0,1
  74DI20100106,        A05,      57,          1,          9,          9,2,20100120,       1954,   24.50113,  -62.55592,       5912,  2292.1,   3.3622,  34.9867,  34.9888,2,   244.8,2,   26.39,2,    1.36,3,  2168.2,2,  2329.4,2,   20.66,2,     -999.0,1,     -999.0,1,     -999.0,1,     -999.0,1,     3.1761,     -999.0,1
  74DI20100106,        A05,      57,          1,         10,         10,2,20100120,       1954,   24.50113,  -62.55592,       5912,  2037.7,   3.6743,  35.0054,  35.0078,2,   248.5,2,   20.91,2,    1.30,3,  -999.0,9,  -999.0,9,   19.72,2,     -999.0,1,     -999.0,1,     -999.0,1,     -999.0,1,     3.5079,     -999.0,1
  74DI20100106,        A05,      57,          1,         11,         11,2,20100120,       1954,   24.50113,  -62.55592,       5912,  1784.7,   3.9973,  35.0174,  35.0187,2,   249.1,2,   17.11,2,    1.28,3,  2165.3,2,  2314.9,2,   19.20,2,     -999.0,1,     -999.0,1,     -999.0,1,     -999.0,1,     3.8504,     -999.0,1
  74DI20100106,        A05,      57,          1,         12,         12,2,20100120,       1954,   24.50113,  -62.55592,       5912,  1531.9,   4.5670,  35.0483,  35.0494,2,   240.9,2,   15.04,2,    1.28,3,  -999.0,9,  -999.0,9,   19.48,2,     -999.0,1,     -999.0,1,     -999.0,1,     -999.0,1,     4.4372,     -999.0,1
  74DI20100106,        A05,      57,          1,         13,         13,3,20100120,       1954,   24.50113,  -62.55592,       5912,  1268.1,   5.2616,  35.0531,-999.0000,9,  -999.0,9, -999.00,9, -999.00,9,  -999.0,9,  -999.0,9, -999.00,9,     -999.0,9,     -999.0,9,     -999.0,9,     -999.0,9,     5.1500,     -999.0,9
  74DI20100106,        A05,      57,          1,         14,         14,2,20100120,       1954,   24.50113,  -62.55592,       5912,  1011.6,   6.9433,  35.0475,  35.0416,2,   159.7,2,   19.46,2,    1.72,3,  2196.5,2,  2317.7,3,   27.11,2,     -999.0,1,     -999.0,1,     -999.0,1,     -999.0,1,     6.8434,     -999.0,1
  74DI20100106,        A05,      57,          1,         15,         15,2,20100120,       1954,   24.50113,  -62.55592,       5912,   883.1,   7.6725,  35.0095,  35.0083,2,   134.2,2,   20.18,2,    1.90,3,  2207.3,2,  2315.3,2,   29.67,2,     -999.0,1,     -999.0,1,     -999.0,1,     -999.0,1,     7.5813,     -999.0,1
  74DI20100106,        A05,      57,          1,         16,         16,2,20100120,       1954,   24.50113,  -62.55592,       5912,   757.1,   9.4398,  35.2137,  35.2126,2,   133.4,2,   15.12,2,    1.62,3,  -999.0,9,  -999.0,9,   26.46,2,     -999.0,1,     -999.0,1,     -999.0,1,     -999.0,1,     9.3522,     -999.0,1
  74DI20100106,        A05,      57,          1,         17,         17,2,20100120,       1954,   24.50113,  -62.55592,       5912,   630.8,  11.9987,  35.5679,  35.5685,2,   147.3,2,    8.95,2,    2.67,4,  2174.9,2,  -999.0,9,   19.80,2,     -999.0,1,     -999.0,1,     -999.0,1,     -999.0,1,    11.9145,     -999.0,1
  74DI20100106,        A05,      57,          1,         18,         18,2,20100120,       1954,   24.50113,  -62.55592,       5912,   505.2,  14.8271,  35.9931,  35.9888,2,   162.2,2,    4.66,2,    2.92,4,  2150.2,2,  -999.0,9,   13.17,2,     -999.0,1,     -999.0,1,     -999.0,9,     -999.0,9,    14.7498,     -999.0,1
  74DI20100106,        A05,      57,          1,         19,         19,2,20100120,       1954,   24.50113,  -62.55592,       5912,   377.6,  17.3381,  36.4202,  36.4177,2,   183.4,2,    2.27,2,    2.38,4,  -999.0,9,  -999.0,9,    6.85,2,     -999.0,9,     -999.0,9,     -999.0,9,     -999.0,9,    17.2740,     -999.0,9
  74DI20100106,        A05,      57,          1,         20,         20,2,20100120,       1954,   24.50113,  -62.55592,       5912,   253.0,  18.8359,  36.6422,  36.6468,2,   179.3,2,    1.33,2,    1.83,4,  2122.4,2,  -999.0,9,    3.55,2,     -999.0,1,     -999.0,1,     -999.0,9,     -999.0,9,    18.7905,     -999.0,1
  74DI20100106,        A05,      57,          1,         21,         21,2,20100120,       1954,   24.50113,  -62.55592,       5912,   177.7,  20.9665,  36.8944,  36.8976,2,   183.0,2,    0.86,2,    1.23,4,  -999.0,9,  -999.0,9,    1.02,2,     -999.0,9,     -999.0,9,     -999.0,9,     -999.0,9,    20.9322,     -999.0,9
  74DI20100106,        A05,      57,          1,         22,         22,2,20100120,       1954,   24.50113,  -62.55592,       5912,   102.3,  24.8238,  37.1064,  37.1078,2,   206.2,2,    0.82,2,    0.14,3,  2072.5,2,  2420.6,2,    0.00,2,     -999.0,1,     -999.0,1,     -999.0,1,     -999.0,1,    24.8016,     -999.0,1
  74DI20100106,        A05,      57,          1,         23,         23,2,20100120,       1954,   24.50113,  -62.55592,       5912,    51.8,  25.5156,  36.5194,  36.4852,2,   205.2,2,    1.09,2,    0.14,3,  -999.0,9,  -999.0,9,    0.00,2,     -999.0,9,     -999.0,9,     -999.0,9,     -999.0,9,    25.5042,     -999.0,9
  74DI20100106,        A05,      57,          1,         24,         24,2,20100120,       1954,   24.50113,  -62.55592,       5912,     5.1,  25.3947,  36.2386,  36.2460,2,   205.2,2,    1.10,2,    0.11,3,  2018.3,2,  2370.5,2,    0.00,2,     -999.0,1,     -999.0,1,     -999.0,1,     -999.0,1,    25.3936,     -999.0,1
  74DI20100106,        A05,      58,          1,          1,          1,2,20100121,       0422,   24.50841,  -61.80627,       5649,  5750.4,   2.0615,  34.8451,  34.8469,2,   243.5,2,   59.54,2,    1.56,2,  2203.4,2,  2343.6,2,   23.50,2,     -999.0,9,     -999.0,9,     -999.0,9,     -999.0,9,     1.5102,     -999.0,9
  74DI20100106,        A05,      58,          1,          2,          2,2,20100121,       0422,   24.50841,  -61.80627,       5649,  5620.2,   2.0494,  34.8460,  34.8456,2,   243.6,2,   58.83,2,    1.57,2,  2203.4,2,  2343.0,2,   23.61,2,     -999.0,9,     -999.0,9,     -999.0,9,     -999.0,9,     1.5158,     -999.0,9
  74DI20100106,        A05,      58,          1,          3,          3,2,20100121,       0422,   24.50841,  -61.80627,       5649,  5103.6,   2.1162,  34.8629,  34.8635,2,   248.3,2,   50.29,2,    1.48,2,  -999.0,9,  -999.0,9,   22.41,2,     -999.0,9,     -999.0,9,     -999.0,9,     -999.0,9,     1.6469,     -999.0,9
  74DI20100106,        A05,      58,          1,          4,          4,2,20100121,       0422,   24.50841,  -61.80627,       5649,  4589.5,   2.2712,  34.8886,  34.8886,2,   256.7,2,   37.29,2,    1.36,2,  -999.0,9,  -999.0,9,   20.24,2,     -999.0,1,     -999.0,1,     -999.0,1,     -999.0,1,     1.8602,     -999.0,1
  74DI20100106,        A05,      58,          1,          5,          5,2,20100121,       0422,   24.50841,  -61.80627,       5649,  4076.8,   2.3200,  34.8978,  34.9014,2,   259.0,2,   32.99,2,    1.32,2,  -999.0,9,  -999.0,9,   19.65,2,     -999.0,9,     -999.0,9,     -999.0,9,     -999.0,9,     1.9680,     -999.0,9
  74DI20100106,        A05,      58,          1,          6,          6,2,20100121,       0422,   24.50841,  -61.80627,       5649,  3564.2,   2.4556,  34.9098,  34.9093,2,   255.7,2,   33.46,2,    1.34,2,  -999.0,9,  -999.0,9,   20.11,2,     -999.0,9,     -999.0,9,     -999.0,9,     -999.0,9,     2.1573,     -999.0,9
  74DI20100106,        A05,      58,          1,          7,          7,2,20100121,       0422,   24.50841,  -61.80627,       5649,  3053.2,   2.7152,  34.9312,  34.9310,2,   251.1,2,   31.93,2,    1.36,2,  -999.0,9,  -999.0,9,   20.54,2,     -999.0,9,     -999.0,9,     -999.0,9,     -999.0,9,     2.4651,     -999.0,9
  74DI20100106,        A05,      58,          1,          8,          8,2,20100121,       0422,   24.50841,  -61.80627,       5649,  2544.3,   3.0498,  34.9590,  34.9577,2,   248.6,2,   27.72,2,    1.34,2,  -999.0,9,  -999.0,9,   20.38,2,     -999.0,9,     -999.0,9,     -999.0,9,     -999.0,9,     2.8445,     -999.0,9
  74DI20100106,        A05,      58,          1,          9,          9,2,20100121,       0422,   24.50841,  -61.80627,       5649,  2289.4,   3.3044,  34.9804,  34.9810,2,   246.6,2,   25.10,2,    1.33,2,  -999.0,9,  -999.0,9,   20.21,2,     -999.0,9,     -999.0,9,     -999.0,9,     -999.0,9,     3.1196,     -999.0,9
  74DI20100106,        A05,      58,          1,         10,         10,2,20100121,       0422,   24.50841,  -61.80627,       5649,  2034.4,   3.5953,  34.9969,  34.9965,2,   248.2,2,   20.32,2,    1.29,2,  -999.0,9,  -999.0,9,   19.75,2,     -999.0,9,     -999.0,9,     -999.0,9,     -999.0,9,     3.4304,     -999.0,9
  74DI20100106,        A05,      58,          1,         11,         11,2,20100121,       0422,   24.50841,  -61.80627,       5649,  1782.2,   3.9505,  35.0114,  35.0107,2,   247.7,2,   16.62,2,    1.27,2,  -999.0,9,  -999.0,9,   19.61,2,     -999.0,9,     -999.0,9,     -999.0,9,     -999.0,9,     3.8045,     -999.0,9
  74DI20100106,        A05,      58,          1,         12,         12,2,20100121,       0422,   24.50841,  -61.80627,       5649,  1528.6,   4.4287,  35.0334,  35.0217,2,   245.5,2,   15.36,2,    1.27,2,  -999.0,9,  -999.0,9,   19.55,2,     -999.0,9,     -999.0,9,     -999.0,9,     -999.0,9,     4.3009,     -999.0,9
  74DI20100106,        A05,      58,          1,         13,         13,2,20100121,       0422,   24.50841,  -61.80627,       5649,  1276.6,   5.2229,  35.0707,  35.0727,2,   222.5,2,   14.78,2,    1.35,2,  -999.0,9,  -999.0,9,   21.23,2,     -999.0,9,     -999.0,9,     -999.0,9,     -999.0,9,     5.1107,     -999.0,9
  74DI20100106,        A05,      58,          1,         14,         14,2,20100121,       0422,   24.50841,  -61.80627,       5649,  1023.4,   6.4097,  35.0408,  35.0422,2,   173.8,2,   18.48,2,    1.64,2,  -999.0,9,  -999.0,9,   26.12,2,     -999.0,9,     -999.0,9,     -999.0,9,     -999.0,9,     6.3126,     -999.0,9
  74DI20100106,        A05,      58,          1,         15,         15,10,20100121,       0422,   24.50841,  -61.80627,       5649,   883.3,   7.5576,  35.0689,  35.0660,2,   145.6,2,   18.47,2,    1.74,2,  -999.0,9,  -999.0,9,   28.08,2,     -999.0,1,     -999.0,1,     -999.0,1,     -999.0,1,     7.4671,     -999.0,1
  74DI20100106,        A05,      58,          1,         16,         16,2,20100121,       0422,   24.50841,  -61.80627,       5649,   757.8,   9.6584,  35.2734,  35.2700,2,   138.5,2,   13.85,2,    1.54,2,  -999.0,9,  -999.0,9,   25.70,2,     -999.0,9,     -999.0,9,     -999.0,9,     -999.0,9,     9.5696,     -999.0,9
  74DI20100106,        A05,      58,          1,         17,         17,2,20100121,       0422,   24.50841,  -61.80627,       5649,   631.2,  12.3455,  35.6232,  35.6172,2,   156.5,2,    7.92,2,    1.12,2,  -999.0,9,  -999.0,9,   18.79,2,     -999.0,9,     -999.0,9,     -999.0,9,     -999.0,9,    12.2596,     -999.0,9
  74DI20100106,        A05,      58,          1,         18,         18,2,20100121,       0422,   24.50841,  -61.80627,       5649,   505.4,  14.8386,  35.9887,  35.9817,2,   159.8,2,    4.59,2,    0.82,2,  -999.0,9,  -999.0,9,   13.89,2,     -999.0,9,     -999.0,9,     -999.0,9,     -999.0,9,    14.7612,     -999.0,9
  74DI20100106,        A05,      58,          1,         19,         19,2,20100121,       0422,   24.50841,  -61.80627,       5649,   378.6,  17.1743,  36.3884,  36.3883,2,   180.7,2,    2.35,2,    0.46,2,  -999.0,9,  -999.0,9,    7.69,2,     -999.0,9,     -999.0,9,     -999.0,9,     -999.0,9,    17.1105,     -999.0,9
  74DI20100106,        A05,      58,          1,         20,         20,2,20100121,       0422,   24.50841,  -61.80627,       5649,   251.8,  18.6889,  36.6162,  36.6184,2,   184.3,2,    1.22,2,    0.19,2,  -999.0,9,  -999.0,9,    3.66,2,     -999.0,9,     -999.0,9,     -999.0,9,     -999.0,9,    18.6440,     -999.0,9
  74DI20100106,        A05,      58,          1,         21,         21,2,20100121,       0422,   24.50841,  -61.80627,       5649,   176.8,  20.4080,  36.7984,  36.8198,2,   177.8,2,    1.08,2,    0.17,2,  -999.0,9,  -999.0,9,    2.17,2,     -999.0,9,     -999.0,9,     -999.0,9,     -999.0,9,    20.3745,     -999.0,9
  74DI20100106,        A05,      58,          1,         22,         22,2,20100121,       0422,   24.50841,  -61.80627,       5649,   110.2,  23.9607,  37.1669,  37.1351,3,   197.5,2,    0.76,2,    0.09,2,  -999.0,9,  -999.0,9,    0.02,2,     -999.0,9,     -999.0,9,     -999.0,9,     -999.0,9,    23.9373,     -999.0,9
  74DI20100106,        A05,      58,          1,         23,         23,2,20100121,       0422,   24.50841,  -61.80627,       5649,    51.3,  24.9835,  36.4111,  36.4096,2,   203.4,2,    1.00,2,    0.09,2,  -999.0,9,  -999.0,9,    0.00,2,     -999.0,1,     -999.0,1,     -999.0,1,     -999.0,1,    24.9724,     -999.0,1
  74DI20100106,        A05,      58,          1,         24,         24,2,20100121,       0422,   24.50841,  -61.80627,       5649,     5.6,  25.3754,  36.2650,  36.2587,2,   203.2,2,    1.09,2,    0.09,2,  -999.0,9,  -999.0,9,    0.00,2,     -999.0,1,     -999.0,1,     -999.0,1,     -999.0,1,    25.3742,     -999.0,1