BOTTLE,20200115CCHSIOCBG
EXPOCODE,SECT_ID,STNNBR,CASTNO,SAMPNO,BTLNBR,BTLNBR_FLAG_W,DATE,TIME,LATITUDE,LONGITUDE,DEPTH,CTDPRS,CTDTMP,CTDSAL,SALNTY,SALNTY_FLAG_W,OXYGEN,OXYGEN_FLAG_W,SILCAT,SILCAT_FLAG_W,PHSPHT,PHSPHT_FLAG_W,TCARBN,TCARBN_FLAG_W,ALKALI,ALKALI_FLAG_W,NO2+NO3,NO2+NO3_FLAG_W,CFC-11,CFC-11_FLAG_W,CFC-12,CFC-12_FLAG_W,CFC113,CFC113_FLAG_W,CCL4,CCL4_FLAG_W,THETA,SF6,SF6_FLAG_W
,,,,,,,,,,,METERS,DBAR,ITS-90,PSS-78,PSS-78,,UMOL/KG,,UMOL/KG,,UMOL/KG,,UMOL/KG,,UMOL/KG,,UMOL/KG,,PMOL/L,,PMOL/L,,PMOL/L,,PMOL/L,,ITS-90,FMOL/L,
  74DI20100106,        A05,      29,          1,          1,          1,2,20100112,       0928,   26.50049,  -75.50892,       4687,  4757.5,   2.1688,  34.8730,  34.8731,2,   254.2,2,   44.89,2,    1.42,2,  2190.4,2,  2336.2,2,   21.22,2,     -999.0,1,     -999.0,1,     -999.0,1,     -999.0,1,     1.7407,     -999.0,1
  74DI20100106,        A05,      29,          1,          2,          2,4,20100112,       0928,   26.50049,  -75.50892,       4687,  4329.7,   2.2219,  34.8852,  35.8216,4,   201.3,4, -999.00,9, -999.00,9,  -999.0,9,  -999.0,9, -999.00,9,     -999.0,1,     -999.0,1,     -999.0,1,     -999.0,1,     1.8434,     -999.0,1
  74DI20100106,        A05,      29,          1,          3,          3,2,20100112,       0928,   26.50049,  -75.50892,       4687,  3814.5,   2.2485,  34.8923,  34.8914,2,   262.9,2,   31.19,2,    1.28,2,  2173.7,2,  2322.4,2,   19.24,2,     -999.0,1,     -999.0,1,     -999.0,1,     -999.0,1,     1.9282,     -999.0,1
  74DI20100106,        A05,      29,          1,          4,          4,2,20100112,       0928,   26.50049,  -75.50892,       4687,  3302.6,   2.3738,  34.9037,  34.9030,2,   265.9,2,   26.19,2,    1.22,2,  2170.6,2,  2315.2,2,   18.43,2,     -999.0,1,     -999.0,1,     -999.0,1,     -999.0,1,     2.1056,     -999.0,1
  74DI20100106,        A05,      29,          1,          5,          5,2,20100112,       0928,   26.50049,  -75.50892,       4687,  2791.7,   2.7379,  34.9268,  34.9276,2,   264.3,2,   22.25,2,    1.21,2,  2166.8,2,  2314.6,2,   18.54,2,     -999.0,9,     -999.0,9,     -999.0,9,     -999.0,9,     2.5141,     -999.0,9
  74DI20100106,        A05,      29,          1,          6,          6,2,20100112,       0928,   26.50049,  -75.50892,       4687,  2536.5,   2.9969,  34.9421,  34.9425,2,   261.5,2,   21.25,2,    1.21,2,  -999.0,9,  -999.0,9,   18.77,2,     -999.0,1,     -999.0,1,     -999.0,1,     -999.0,1,     2.7934,     -999.0,1
  74DI20100106,        A05,      29,          1,          7,          7,2,20100112,       0928,   26.50049,  -75.50892,       4687,  2283.1,   3.2864,  34.9569,  34.9572,2,   259.4,2,   14.78,4,    1.18,4,  2162.7,2,  -999.0,9,   18.41,4,     -999.0,1,     -999.0,1,     -999.0,1,     -999.0,1,     3.1025,     -999.0,1
  74DI20100106,        A05,      29,          1,          8,          8,3,20100112,       0928,   26.50049,  -75.50892,       4687,  2029.7,   3.5073,  34.9630,-999.0000,9,  -999.0,9, -999.00,9, -999.00,9,  -999.0,9,  -999.0,9, -999.00,9,     -999.0,9,     -999.0,9,     -999.0,9,     -999.0,9,     3.3443,     -999.0,9
  74DI20100106,        A05,      29,          1,          9,          9,10,20100112,       0928,   26.50049,  -75.50892,       4687,  1775.1,   3.7542,  34.9696,  34.9702,2,   259.6,2,   13.73,2,    1.19,2,  2162.8,2,  2306.6,2,   18.59,2,     -999.0,1,     -999.0,1,     -999.0,1,     -999.0,1,     3.6117,     -999.0,1
  74DI20100106,        A05,      29,          1,         10,         10,2,20100112,       0928,   26.50049,  -75.50892,       4687,  1520.4,   4.1733,  34.9932,  34.9863,2,   255.3,2,   13.18,2,    1.28,2,  -999.0,9,  -999.0,9,   19.43,2,     -999.0,1,     -999.0,1,     -999.0,1,     -999.0,1,     4.0492,     -999.0,1
  74DI20100106,        A05,      29,          1,         11,         11,2,20100112,       0928,   26.50049,  -75.50892,       4687,  1270.7,   4.9284,  35.0396,  35.0397,2,   236.6,2,   14.54,2,    1.40,2,  2171.6,2,  2309.2,2,   22.09,2,     -999.0,1,     -999.0,1,     -999.0,1,     -999.0,1,     4.8196,     -999.0,1
  74DI20100106,        A05,      29,          1,         12,         12,2,20100112,       0928,   26.50049,  -75.50892,       4687,  1019.5,   7.1122,  35.1017,  35.0788,4,   201.6,4,   15.33,2,    1.60,2,  -999.0,9,  -999.0,9,   25.58,2,     -999.0,1,     -999.0,1,     -999.0,1,     -999.0,1,     7.0100,     -999.0,1
  74DI20100106,        A05,      29,          1,         13,         13,10,20100112,       0928,   26.50049,  -75.50892,       4687,   880.7,   8.9057,  35.1863,  35.1874,2,   142.1,2,    9.57,2,    1.22,2,  2190.3,2,  2316.0,2,   20.38,2,     -999.0,1,     -999.0,1,     -999.0,1,     -999.0,1,     8.8067,     -999.0,1
  74DI20100106,        A05,      29,          1,         14,         14,2,20100112,       0928,   26.50049,  -75.50892,       4687,   753.6,  11.6140,  35.5095,  35.5099,2,   148.2,2,    5.27,2,    0.81,2,  2173.9,2,  2329.4,2,   13.95,2,     -999.0,1,     -999.0,1,     -999.0,1,     -999.0,1,    11.5150,     -999.0,1
  74DI20100106,        A05,      29,          1,         15,         15,10,20100112,       0928,   26.50049,  -75.50892,       4687,   625.9,  14.2901,  35.8981,  35.8986,2,  -999.0,9,    2.56,2,    0.40,2,  2153.1,2,  2348.3,2,    7.82,2,     -999.0,1,     -999.0,1,     -999.0,1,     -999.0,1,    14.1964,     -999.0,1
  74DI20100106,        A05,      29,          1,         16,         16,10,20100112,       0928,   26.50049,  -75.50892,       4687,   507.0,  16.8638,  36.3342,  36.3353,2,   184.1,2,    1.69,2,    0.23,2,  2124.5,2,  2372.7,2,    5.08,2,     -999.0,1,     -999.0,1,     -999.0,1,     -999.0,1,    16.7792,     -999.0,1
  74DI20100106,        A05,      29,          1,         17,         17,10,20100112,       0928,   26.50049,  -75.50892,       4687,   382.4,  17.9226,  36.5290,  36.5296,2,   193.7,2,    1.25,2,    0.11,2,  -999.0,9,  -999.0,9,    3.41,2,     -999.0,9,     -999.0,9,     -999.0,9,     -999.0,9,    17.8562,     -999.0,9
  74DI20100106,        A05,      29,          1,         18,         18,2,20100112,       0928,   26.50049,  -75.50892,       4687,   254.5,  18.9193,  36.6340,  36.6346,2,   183.6,2,    0.81,2,    0.02,2,  2116.2,2,  2390.0,2,    0.86,2,     -999.0,1,     -999.0,1,     -999.0,9,     -999.0,9,    18.8736,     -999.0,1
  74DI20100106,        A05,      29,          1,         19,         19,2,20100112,       0928,   26.50049,  -75.50892,       4687,   179.8,  20.3696,  36.7368,  36.7381,2,   192.5,2,    0.73,2,    0.00,2,  -999.0,9,  -999.0,9,    0.16,2,     -999.0,9,     -999.0,9,     -999.0,9,     -999.0,9,    20.3356,     -999.0,9
  74DI20100106,        A05,      29,          1,         20,         20,10,20100112,       0928,   26.50049,  -75.50892,       4687,   121.5,  22.7469,  36.8552,-999.0000,9,  -999.0,9, -999.00,9, -999.00,9,  -999.0,9,  -999.0,9, -999.00,9,     -999.0,9,     -999.0,9,     -999.0,9,     -999.0,9,    22.7221,     -999.0,9
  74DI20100106,        A05,      29,          1,         21,         21,2,20100112,       0928,   26.50049,  -75.50892,       4687,   122.0,  22.7480,  36.8552,  36.8551,2,   202.4,2,    0.76,2,    0.00,2,  2079.4,2,  2403.3,2,    0.05,2,     -999.0,1,     -999.0,1,     -999.0,9,     -999.0,9,    22.7230,     -999.0,1
  74DI20100106,        A05,      29,          1,         22,         22,10,20100112,       0928,   26.50049,  -75.50892,       4687,    50.0,  23.7114,  36.7481,  36.7478,2,   205.5,2,    0.88,2,    0.00,2,  2045.5,2,  2393.2,2,    0.00,2,     -999.0,1,     -999.0,1,     -999.0,9,     -999.0,9,    23.7009,     -999.0,1
  74DI20100106,        A05,      29,          1,         23,         23,10,20100112,       0928,   26.50049,  -75.50892,       4687,    10.4,  23.7872,  36.7585,  36.7579,2,   205.0,2,    0.96,2,    0.00,2,  2044.8,2,  2395.1,2,    0.00,2,     -999.0,1,     -999.0,1,     -999.0,1,     -999.0,1,    23.7850,     -999.0,1
  74DI20100106,        A05,      29,          1,         24,         24,10,20100112,       0928,   26.50049,  -75.50892,       4687,    10.4,  23.7877,  36.7582,-999.0000,9,   205.7,2, -999.00,9, -999.00,9,  -999.0,9,  -999.0,9, -999.00,9,     -999.0,9,     -999.0,9,     -999.0,9,     -999.0,9,    23.7855,     -999.0,9
  74DI20100106,        A05,      30,          1,          1,          1,2,20100112,       1501,   26.49692,  -75.31196,       4642,  4711.1,   2.1714,  34.8740,  34.8739,2,   250.0,2,   44.30,2,    1.41,2,  2187.8,2,  2337.3,2,   21.15,2,     -999.0,1,     -999.0,1,     -999.0,1,     -999.0,1,     1.7489,     -999.0,1
  74DI20100106,        A05,      30,          1,          2,          2,3,20100112,       1501,   26.49692,  -75.31196,       4642,  4580.2,   2.1743,  34.8765,  34.9632,4,   260.4,3,   16.07,4,    1.20,4,  -999.0,9,  -999.0,9,   18.64,4,     -999.0,1,     -999.0,1,     -999.0,1,     -999.0,1,     1.7675,     -999.0,1
  74DI20100106,        A05,      30,          1,          3,          3,4,20100112,       1501,   26.49692,  -75.31196,       4642,  4069.1,   2.2311,  34.8888,  36.1998,4,   197.9,4,    5.45,4,    0.47,4,  -999.0,9,  -999.0,9,    8.06,4,     -999.0,9,     -999.0,9,     -999.0,9,     -999.0,9,     1.8825,     -999.0,9
  74DI20100106,        A05,      30,          1,          4,          4,2,20100112,       1501,   26.49692,  -75.31196,       4642,  3559.6,   2.2866,  34.8968,  34.8958,2,   263.2,2,   28.90,2,    1.25,2,  2164.4,2,  2322.1,2,   18.98,2,     -999.0,1,     -999.0,1,     -999.0,1,     -999.0,1,     1.9932,     -999.0,1
  74DI20100106,        A05,      30,          1,          5,          5,2,20100112,       1501,   26.49692,  -75.31196,       4642,  3050.4,   2.5568,  34.9150,  34.9142,2,   265.0,2,   23.64,2,    1.21,2,  2159.0,2,  2315.4,2,   18.75,2,     -999.0,1,     -999.0,1,     -999.0,1,     -999.0,1,     2.3106,     -999.0,1
  74DI20100106,        A05,      30,          1,          6,          6,2,20100112,       1501,   26.49692,  -75.31196,       4642,  2795.9,   2.7854,  34.9289,  34.9289,2,   262.5,2,   21.97,2,    1.21,2,  2156.3,2,  2315.1,2,   18.60,2,     -999.0,1,     -999.0,1,     -999.0,1,     -999.0,1,     2.5602,     -999.0,1
  74DI20100106,        A05,      30,          1,          7,          7,2,20100112,       1501,   26.49692,  -75.31196,       4642,  2541.3,   3.0436,  34.9448,  34.9447,2,   260.8,2,   21.09,2,    1.23,2,  2157.2,2,  2314.2,2,   18.87,2,     -999.0,1,     -999.0,1,     -999.0,1,     -999.0,1,     2.8388,     -999.0,1
  74DI20100106,        A05,      30,          1,          8,          8,2,20100112,       1501,   26.49692,  -75.31196,       4642,  2285.8,   3.2958,  34.9578,  34.9581,2,   259.2,2,   19.22,2,    1.22,2,  -999.0,9,  -999.0,9,   18.99,2,     -999.0,1,     -999.0,1,     -999.0,1,     -999.0,1,     3.1116,     -999.0,1
  74DI20100106,        A05,      30,          1,          9,          9,2,20100112,       1501,   26.49692,  -75.31196,       4642,  2032.4,   3.5278,  34.9628,  34.9630,2,   259.4,2,   16.46,2,    1.21,2,  2156.9,2,  2310.6,2,   18.95,2,     -999.0,1,     -999.0,1,     -999.0,1,     -999.0,1,     3.3642,     -999.0,1
  74DI20100106,        A05,      30,          1,         10,         10,2,20100112,       1501,   26.49692,  -75.31196,       4642,  1778.3,   3.8124,  34.9724,  34.9726,2,   258.8,2,   14.52,2,    1.20,2,  -999.0,9,  -999.0,9,   18.95,2,     -999.0,1,     -999.0,1,     -999.0,1,     -999.0,1,     3.6688,     -999.0,1
  74DI20100106,        A05,      30,          1,         11,         11,2,20100112,       1501,   26.49692,  -75.31196,       4642,  1524.7,   4.2272,  34.9948,  34.9953,2,   251.6,2,   13.48,2,    1.21,2,  2159.1,2,  2309.2,2,   18.97,2,     -999.0,1,     -999.0,1,     -999.0,1,     -999.0,1,     4.1021,     -999.0,1
  74DI20100106,        A05,      30,          1,         12,         12,2,20100112,       1501,   26.49692,  -75.31196,       4642,  1270.9,   4.8005,  35.0248,  35.0246,2,   240.6,2,   12.89,2,    1.23,2,  -999.0,9,  -999.0,9,   19.36,2,     -999.0,1,     -999.0,1,     -999.0,1,     -999.0,1,     4.6930,     -999.0,1
  74DI20100106,        A05,      30,          1,         13,         13,2,20100112,       1501,   26.49692,  -75.31196,       4642,  1008.6,   7.0799,  35.0949,  35.0939,2,   174.7,2,   16.20,2,    1.54,2,  2189.8,2,  2316.9,2,   24.62,2,     -999.0,1,     -999.0,1,     -999.0,1,     -999.0,1,     6.9792,     -999.0,1
  74DI20100106,        A05,      30,          1,         14,         14,2,20100112,       1501,   26.49692,  -75.31196,       4642,   882.3,   8.8581,  35.1904,  35.1875,2,   144.0,2,   15.55,2,    1.60,2,  -999.0,9,  -999.0,9,   25.73,2,     -999.0,1,     -999.0,1,     -999.0,1,     -999.0,1,     8.7592,     -999.0,1
  74DI20100106,        A05,      30,          1,         15,         15,10,20100112,       1501,   26.49692,  -75.31196,       4642,   755.1,  11.1466,  35.4499,  35.4504,2,   145.9,2,   10.72,2,    1.30,2,  2176.3,2,  2328.2,2,   22.11,2,     -999.0,9,     -999.0,9,     -999.0,9,     -999.0,9,    11.0499,     -999.0,9
  74DI20100106,        A05,      30,          1,         16,         16,10,20100112,       1501,   26.49692,  -75.31196,       4642,   755.2,  11.1403,  35.4491,  35.4509,2,   146.7,2, -999.00,9, -999.00,9,  -999.0,9,  -999.0,9, -999.00,9,     -999.0,1,     -999.0,1,     -999.0,1,     -999.0,1,    11.0436,     -999.0,1
  74DI20100106,        A05,      30,          1,         17,         17,10,20100112,       1501,   26.49692,  -75.31196,       4642,   631.2,  14.2890,  35.8921,  35.8937,2,   160.4,2,    5.60,2,    0.83,2,  2152.6,2,  2348.0,2,   14.93,2,     -999.0,1,     -999.0,1,     -999.0,1,     -999.0,1,    14.1944,     -999.0,1
  74DI20100106,        A05,      30,          1,         18,         18,2,20100112,       1501,   26.49692,  -75.31196,       4642,   504.8,  16.9005,  36.3413,  36.3407,2,   183.9,2,    2.61,2,    0.40,2,  -999.0,9,  -999.0,9,    7.95,2,     -999.0,9,     -999.0,9,     -999.0,9,     -999.0,9,    16.8161,     -999.0,9
  74DI20100106,        A05,      30,          1,         19,         19,10,20100112,       1501,   26.49692,  -75.31196,       4642,   378.2,  18.0582,  36.5498,  36.5501,2,   194.1,2,    1.59,2,    0.20,2,  2112.6,2,  2384.5,2,    4.76,2,     -999.0,1,     -999.0,1,     -999.0,1,     -999.0,1,    17.9922,     -999.0,1
  74DI20100106,        A05,      30,          1,         20,         20,2,20100112,       1501,   26.49692,  -75.31196,       4642,   253.0,  18.9579,  36.6378,  36.6379,2,   184.0,2,    1.24,2,    0.11,2,  -999.0,9,  -999.0,9,    3.30,2,     -999.0,9,     -999.0,9,     -999.0,9,     -999.0,9,    18.9123,     -999.0,9
  74DI20100106,        A05,      30,          1,         21,         21,2,20100112,       1501,   26.49692,  -75.31196,       4642,   175.5,  20.2820,  36.7298,  36.7310,2,   191.4,2,    0.84,2,    0.01,2,  2104.4,2,  2395.1,2,    1.01,2,     -999.0,1,     -999.0,1,     -999.0,9,     -999.0,9,    20.2489,     -999.0,1
  74DI20100106,        A05,      30,          1,         22,         22,2,20100112,       1501,   26.49692,  -75.31196,       4642,   100.9,  22.9053,  36.8546,  36.8552,2,   204.9,2,    0.74,2,    0.00,2,  2077.7,2,  2400.5,2,    0.13,2,     -999.0,1,     -999.0,1,     -999.0,9,     -999.0,9,    22.8846,     -999.0,1
  74DI20100106,        A05,      30,          1,         23,         23,3,20100112,       1501,   26.49692,  -75.31196,       4642,    50.9,  24.0085,  36.7630,-999.0000,9,  -999.0,9, -999.00,9, -999.00,9,  -999.0,9,  -999.0,9, -999.00,9,     -999.0,9,     -999.0,9,     -999.0,9,     -999.0,9,    23.9978,     -999.0,9
  74DI20100106,        A05,      30,          1,         24,         24,2,20100112,       1501,   26.49692,  -75.31196,       4642,     4.2,  24.0636,  36.7633,  36.7632,2,   203.7,2,    0.98,2,    0.00,2,  2044.3,2,  2394.2,2,    0.00,2,     -999.0,1,     -999.0,1,     -999.0,1,     -999.0,1,    24.0627,     -999.0,1