BOTTLE,20200115CCHSIOCBG
EXPOCODE,SECT_ID,STNNBR,CASTNO,SAMPNO,BTLNBR,BTLNBR_FLAG_W,DATE,TIME,LATITUDE,LONGITUDE,DEPTH,CTDPRS,CTDTMP,CTDSAL,SALNTY,SALNTY_FLAG_W,OXYGEN,OXYGEN_FLAG_W,SILCAT,SILCAT_FLAG_W,PHSPHT,PHSPHT_FLAG_W,TCARBN,TCARBN_FLAG_W,ALKALI,ALKALI_FLAG_W,NO2+NO3,NO2+NO3_FLAG_W,CFC-11,CFC-11_FLAG_W,CFC-12,CFC-12_FLAG_W,CFC113,CFC113_FLAG_W,CCL4,CCL4_FLAG_W,THETA,SF6,SF6_FLAG_W
,,,,,,,,,,,METERS,DBAR,ITS-90,PSS-78,PSS-78,,UMOL/KG,,UMOL/KG,,UMOL/KG,,UMOL/KG,,UMOL/KG,,UMOL/KG,,PMOL/L,,PMOL/L,,PMOL/L,,PMOL/L,,ITS-90,FMOL/L,
  74DI20100106,        A05,     123,          1,          1,         25,10,20100213,       0045,   25.96236,  -19.18842,       3545,  3584.1,   2.4356,  34.9029,-999.0000,9,  -999.0,2, -999.00,9, -999.00,9,  -999.0,9,  -999.0,9, -999.00,9,     -999.0,9,     -999.0,9,     -999.0,9,     -999.0,9,     2.1357,     -999.0,9
  74DI20100106,        A05,     123,          1,          2,          2,2,20100213,       0045,   25.96236,  -19.18842,       3545,  3584.3,   2.4356,  34.9029,  34.9041,2,   228.3,3,   47.82,2,    1.52,2,  2210.8,2,  2363.4,2,   22.76,2,     -999.0,1,     -999.0,1,     -999.0,1,     -999.0,1,     2.1357,     -999.0,1
  74DI20100106,        A05,     123,          1,          3,          3,3,20100213,       0045,   25.96236,  -19.18842,       3545,  3294.8,   2.5580,  34.9167,-999.0000,9,  -999.0,9, -999.00,9, -999.00,9,  -999.0,9,  -999.0,9, -999.00,9,     -999.0,9,     -999.0,9,     -999.0,9,     -999.0,9,     2.2861,     -999.0,9
  74DI20100106,        A05,     123,          1,          4,          4,2,20100213,       0045,   25.96236,  -19.18842,       3545,  2784.3,   2.8959,  34.9505,  34.9510,2,   225.3,2,   39.17,2,    1.48,2,  -999.0,9,  -999.0,9,   22.33,2,     -999.0,1,     -999.0,1,     -999.0,1,     -999.0,1,     2.6695,     -999.0,1
  74DI20100106,        A05,     123,          1,          5,          5,2,20100213,       0045,   25.96236,  -19.18842,       3545,  2530.7,   3.1883,  34.9799,  34.9805,2,   222.8,2,   35.66,2,    1.47,2,  -999.0,9,  -999.0,9,   22.44,2,     -999.0,1,     -999.0,1,     -999.0,1,     -999.0,1,     2.9817,     -999.0,1
  74DI20100106,        A05,     123,          1,          6,          6,2,20100213,       0045,   25.96236,  -19.18842,       3545,  2277.4,   3.5829,  35.0203,  35.0210,2,   220.2,2,   32.05,2,    1.45,2,  -999.0,9,  -999.0,9,   21.88,2,     -999.0,9,     -999.0,9,     -999.0,9,     -999.0,9,     3.3945,     -999.0,9
  74DI20100106,        A05,     123,          1,          7,          7,2,20100213,       0045,   25.96236,  -19.18842,       3545,  2024.9,   4.0790,  35.0743,  35.0757,2,   216.4,2,   28.08,2,    1.43,2,  -999.0,9,  -999.0,9,   21.63,2,     -999.0,9,     -999.0,9,     -999.0,9,     -999.0,9,     3.9076,     -999.0,9
  74DI20100106,        A05,     123,          1,          8,          8,2,20100213,       0045,   25.96236,  -19.18842,       3545,  1771.7,   4.6203,  35.1245,  35.1253,2,   208.9,2,   25.01,2,    1.44,2,  -999.0,9,  -999.0,9,   21.71,2,     -999.0,1,     -999.0,1,     -999.0,1,     -999.0,1,     4.4662,     -999.0,1
  74DI20100106,        A05,     123,          1,          9,          9,2,20100213,       0045,   25.96236,  -19.18842,       3545,  1519.3,   5.4922,  35.2042,  35.2051,2,   194.6,2,   22.09,2,    1.45,2,  -999.0,9,  -999.0,9,   22.48,2,     -999.0,1,     -999.0,1,     -999.0,1,     -999.0,1,     5.3528,     -999.0,1
  74DI20100106,        A05,     123,          1,         10,         10,2,20100213,       0045,   25.96236,  -19.18842,       3545,  1267.3,   6.4118,  35.2533,  35.2580,2,   173.2,2,   19.65,2,    1.53,2,  2200.4,2,  2336.4,2,   23.73,2,     -999.0,9,     -999.0,9,     -999.0,9,     -999.0,9,     6.2890,     -999.0,9
  74DI20100106,        A05,     123,          1,         11,         11,2,20100213,       0045,   25.96236,  -19.18842,       3545,  1009.6,   7.3449,  35.2488,  35.2496,2,   151.0,2,   19.62,2,    1.53,2,  -999.0,9,  -999.0,9,   24.09,2,     -999.0,9,     -999.0,9,     -999.0,9,     -999.0,9,     7.2418,     -999.0,9
  74DI20100106,        A05,     123,          1,         12,         12,2,20100213,       0045,   25.96236,  -19.18842,       3545,   879.4,   8.0006,  35.2438,  35.2455,2,   136.1,2,   18.08,2,    1.68,2,  -999.0,9,  -999.0,9,   26.36,2,     -999.0,9,     -999.0,9,     -999.0,9,     -999.0,9,     7.9074,     -999.0,9
  74DI20100106,        A05,     123,          1,         13,         13,2,20100213,       0045,   25.96236,  -19.18842,       3545,   756.8,   9.0658,  35.3234,  35.3199,2,   129.7,2,   17.93,2,    1.70,2,  -999.0,9,  -999.0,9,   27.18,2,     -999.0,9,     -999.0,9,     -999.0,9,     -999.0,9,     8.9802,     -999.0,9
  74DI20100106,        A05,     123,          1,         14,         14,3,20100213,       0045,   25.96236,  -19.18842,       3545,   631.3,  10.4135,  35.4592,-999.0000,9,  -999.0,9, -999.00,9, -999.00,9,  -999.0,9,  -999.0,9, -999.00,9,     -999.0,9,     -999.0,9,     -999.0,9,     -999.0,9,    10.3364,     -999.0,9
  74DI20100106,        A05,     123,          1,         15,         26,2,20100213,       0045,   25.96236,  -19.18842,       3545,   504.9,  11.8320,  35.6226,  35.6216,2,   163.7,2,   15.45,2,    1.62,2,  -999.0,9,  -999.0,9,   25.90,2,     -999.0,9,     -999.0,9,     -999.0,9,     -999.0,9,    11.7654,     -999.0,9
  74DI20100106,        A05,     123,          1,         16,         16,2,20100213,       0045,   25.96236,  -19.18842,       3545,   378.7,  13.4744,  35.8506,  35.8464,2,   175.9,2,    7.18,2,    1.02,2,  -999.0,9,  -999.0,9,   17.26,2,     -999.0,9,     -999.0,9,     -999.0,9,     -999.0,9,    13.4203,     -999.0,9
  74DI20100106,        A05,     123,          1,         17,         17,2,20100213,       0045,   25.96236,  -19.18842,       3545,   253.3,  15.6475,  36.2321,  36.2460,2,   190.2,2,    4.80,2,    0.76,2,  -999.0,9,  -999.0,9,   12.89,2,     -999.0,9,     -999.0,9,     -999.0,9,     -999.0,9,    15.6075,     -999.0,9
  74DI20100106,        A05,     123,          1,         18,         19,2,20100213,       0045,   25.96236,  -19.18842,       3545,   178.8,  17.0190,  36.4915,  36.4938,2,   197.3,2,    2.69,2,    0.45,2,  -999.0,9,  -999.0,9,    7.51,2,     -999.0,9,     -999.0,9,     -999.0,9,     -999.0,9,    16.9892,     -999.0,9
  74DI20100106,        A05,     123,          1,         19,         27,2,20100213,       0045,   25.96236,  -19.18842,       3545,    94.1,  19.3899,  36.7567,  36.7553,2,   210.4,2,    1.71,2,    0.29,2,  -999.0,9,  -999.0,9,    4.81,2,     -999.0,9,     -999.0,9,     -999.0,9,     -999.0,9,    19.3727,     -999.0,9
  74DI20100106,        A05,     123,          1,         20,         20,2,20100213,       0045,   25.96236,  -19.18842,       3545,    94.3,  19.3863,  36.7564,  36.7596,2,   210.2,2,    0.83,2,    0.06,2,  -999.0,9,  -999.0,9,    1.01,2,     -999.0,9,     -999.0,9,     -999.0,9,     -999.0,9,    19.3691,     -999.0,9
  74DI20100106,        A05,     123,          1,         21,         21,2,20100213,       0045,   25.96236,  -19.18842,       3545,    50.8,  21.4403,  37.0263,  37.0278,2,   214.4,2,    0.84,2,    0.06,2,  -999.0,9,  -999.0,9,    0.91,2,     -999.0,9,     -999.0,9,     -999.0,9,     -999.0,9,    21.4303,     -999.0,9
  74DI20100106,        A05,     123,          1,         22,         22,2,20100213,       0045,   25.96236,  -19.18842,       3545,    25.7,  21.4560,  37.0292,  37.0315,2,   214.7,2,    0.62,2,    0.01,2,  -999.0,9,  -999.0,9,    0.00,2,     -999.0,9,     -999.0,9,     -999.0,9,     -999.0,9,    21.4510,     -999.0,9
  74DI20100106,        A05,     123,          1,         23,         23,2,20100213,       0045,   25.96236,  -19.18842,       3545,     5.4,  21.5301,  37.0418,  37.0435,2,   214.3,2,    0.62,2,    0.00,2,  -999.0,9,  -999.0,9,    0.02,2,     -999.0,9,     -999.0,9,     -999.0,9,     -999.0,9,    21.5291,     -999.0,9
  74DI20100106,        A05,     123,          1,         24,         24,2,20100213,       0045,   25.96236,  -19.18842,       3545,     5.2,  21.5285,  37.0421,  37.0430,2,  -999.0,9,    0.62,2,    0.00,2,  -999.0,9,  -999.0,9,    0.17,2,     -999.0,9,     -999.0,9,     -999.0,9,     -999.0,9,    21.5275,     -999.0,9
  74DI20100106,        A05,     124,          1,          1,         25,4,20100213,       0658,   26.16765,  -18.57381,       3442,  3481.8,   2.5619,  34.9142,-999.0000,9,  -999.0,9, -999.00,9, -999.00,9,  -999.0,9,  -999.0,9, -999.00,9,     -999.0,9,     -999.0,9,     -999.0,9,     -999.0,9,     2.2699,     -999.0,9
  74DI20100106,        A05,     124,          1,          2,          2,2,20100213,       0658,   26.16765,  -18.57381,       3442,  3481.0,   2.5628,  34.9143,  34.9153,4,   225.3,2,   46.25,2,    1.54,2,  -999.0,9,  -999.0,9,   23.22,2,     -999.0,9,     -999.0,9,     -999.0,9,     -999.0,9,     2.2709,     -999.0,9
  74DI20100106,        A05,     124,          1,          3,          3,2,20100213,       0658,   26.16765,  -18.57381,       3442,  3046.7,   2.7348,  34.9332,  35.0023,2,   221.8,3,   33.92,2,    1.49,2,  2197.5,2,  2340.6,2,   22.18,2,     -999.0,1,     -999.0,1,     -999.0,1,     -999.0,1,     2.4849,     -999.0,1
  74DI20100106,        A05,     124,          1,          4,          4,2,20100213,       0658,   26.16765,  -18.57381,       3442,  2536.8,   3.2407,  34.9847,  34.9852,2,   222.6,2,   35.84,2,    1.48,2,  2197.8,2,  2342.7,2,   22.20,2,     -999.0,1,     -999.0,1,     -999.0,1,     -999.0,1,     3.0325,     -999.0,1
  74DI20100106,        A05,     124,          1,          5,          5,2,20100213,       0658,   26.16765,  -18.57381,       3442,  2283.9,   3.5472,  35.0162,  35.0172,2,   220.8,2,   32.58,2,    1.47,2,  -999.0,9,  -999.0,9,   22.47,2,     -999.0,1,     -999.0,1,     -999.0,1,     -999.0,1,     3.3586,     -999.0,1
  74DI20100106,        A05,     124,          1,          6,          6,2,20100213,       0658,   26.16765,  -18.57381,       3442,  2024.8,   4.0795,  35.0697,  35.0707,2,   215.2,2,   28.01,2,    1.47,2,  2193.3,2,  2334.8,2,   22.44,2,     -999.0,1,     -999.0,1,     -999.0,1,     -999.0,1,     3.9081,     -999.0,1
  74DI20100106,        A05,     124,          1,          7,          7,2,20100213,       0658,   26.16765,  -18.57381,       3442,  1770.9,   4.6434,  35.1270,  35.1277,2,   208.5,2,   25.12,2,    1.45,2,  -999.0,9,  -999.0,9,   22.43,2,     -999.0,1,     -999.0,1,     -999.0,1,     -999.0,1,     4.4891,     -999.0,1
  74DI20100106,        A05,     124,          1,          8,          8,2,20100213,       0658,   26.16765,  -18.57381,       3442,  1517.6,   5.5134,  35.2024,  35.2022,2,   193.9,2,   22.18,2,    1.48,2,  2195.4,2,  2334.0,2,   22.87,2,     -999.0,1,     -999.0,1,     -999.0,1,     -999.0,1,     5.3739,     -999.0,1
  74DI20100106,        A05,     124,          1,          9,          9,2,20100213,       0658,   26.16765,  -18.57381,       3442,  1263.9,   6.6569,  35.2577,  35.2596,2,   170.1,2,   19.94,2,    1.59,2,  -999.0,9,  -999.0,9,   24.27,2,     -999.0,1,     -999.0,1,     -999.0,1,     -999.0,1,     6.5322,     -999.0,1
  74DI20100106,        A05,     124,          1,         10,         10,2,20100213,       0658,   26.16765,  -18.57381,       3442,  1010.3,   7.6543,  35.2518,  35.2520,2,   144.0,2,   18.58,2,    1.68,2,  2207.1,2,  2327.0,2,   26.80,2,     -999.0,1,     -999.0,1,     -999.0,1,     -999.0,1,     7.5490,     -999.0,1
  74DI20100106,        A05,     124,          1,         11,         11,2,20100213,       0658,   26.16765,  -18.57381,       3442,   884.2,   8.2055,  35.2522,  35.2487,2,   132.0,2,   17.83,2,    1.72,2,  2207.0,2,  2325.1,2,   27.34,2,     -999.0,1,     -999.0,1,     -999.0,1,     -999.0,1,     8.1105,     -999.0,1
  74DI20100106,        A05,     124,          1,         12,         12,2,20100213,       0658,   26.16765,  -18.57381,       3442,   758.6,   9.3129,  35.3413,  35.3382,2,   127.5,2,   14.97,2,    1.62,2,  2204.8,2,  2325.4,2,   26.17,2,     -999.0,1,     -999.0,1,     -999.0,1,     -999.0,1,     9.2257,     -999.0,1
  74DI20100106,        A05,     124,          1,         13,         13,2,20100213,       0658,   26.16765,  -18.57381,       3442,   632.7,  10.7098,  35.4924,  35.4918,2,   141.2,2,   10.73,2,    1.34,2,  -999.0,9,  -999.0,9,   22.20,2,     -999.0,1,     -999.0,1,     -999.0,1,     -999.0,1,    10.6311,     -999.0,1
  74DI20100106,        A05,     124,          1,         14,         14,2,20100213,       0658,   26.16765,  -18.57381,       3442,   506.3,  12.2597,  35.6747,  35.6732,2,   170.0,2,    6.28,2,    0.93,2,  -999.0,9,  -999.0,9,   15.86,2,     -999.0,9,     -999.0,9,     -999.0,9,     -999.0,9,    12.1914,     -999.0,9
  74DI20100106,        A05,     124,          1,         15,         26,2,20100213,       0658,   26.16765,  -18.57381,       3442,   380.6,  13.9686,  35.9195,  35.9199,2,   182.9,2,    4.10,2,    0.66,2,  -999.0,9,  -999.0,9,   11.41,2,     -999.0,1,     -999.0,1,     -999.0,9,     -999.0,9,    13.9129,     -999.0,1
  74DI20100106,        A05,     124,          1,         16,         16,2,20100213,       0658,   26.16765,  -18.57381,       3442,   249.8,  16.1646,  36.3027,  36.2979,2,   190.4,2,    2.46,2,    0.39,2,  -999.0,9,  -999.0,9,    6.97,2,     -999.0,9,     -999.0,9,     -999.0,9,     -999.0,9,    16.1243,     -999.0,9
  74DI20100106,        A05,     124,          1,         17,         17,2,20100213,       0658,   26.16765,  -18.57381,       3442,   174.5,  18.0274,  36.6804,  36.6693,2,   197.6,2,    1.38,2,    0.19,2,  2134.7,2,  2394.6,2,    3.52,2,     -999.0,9,     -999.0,9,     -999.0,9,     -999.0,9,    17.9971,     -999.0,9
  74DI20100106,        A05,     124,          1,         18,         19,2,20100213,       0658,   26.16765,  -18.57381,       3442,    93.9,  21.2938,  36.9464,  36.9476,2,   202.8,2,    0.99,2,    0.08,2,  -999.0,9,  -999.0,9,    1.25,2,     -999.0,1,     -999.0,1,     -999.0,9,     -999.0,9,    21.2755,     -999.0,1
  74DI20100106,        A05,     124,          1,         19,         27,2,20100213,       0658,   26.16765,  -18.57381,       3442,    93.7,  21.2932,  36.9464,  36.9478,2,   203.2,2,    0.97,2,    0.08,2,  -999.0,9,  -999.0,9,    1.27,2,     -999.0,9,     -999.0,9,     -999.0,9,     -999.0,9,    21.2749,     -999.0,9
  74DI20100106,        A05,     124,          1,         20,         20,2,20100213,       0658,   26.16765,  -18.57381,       3442,    73.4,  21.8582,  37.0365,  37.0387,2,   212.3,2,    0.75,2,    0.02,2,  -999.0,9,  -999.0,9,    0.02,2,     -999.0,9,     -999.0,9,     -999.0,9,     -999.0,9,    21.8436,     -999.0,9
  74DI20100106,        A05,     124,          1,         21,         21,2,20100213,       0658,   26.16765,  -18.57381,       3442,    48.3,  21.8659,  37.0375,  37.0391,2,   211.9,2,    0.77,2,    0.02,2,  2108.1,2,  2418.9,2,    0.00,2,     -999.0,9,     -999.0,9,     -999.0,9,     -999.0,9,    21.8563,     -999.0,9
  74DI20100106,        A05,     124,          1,         22,         22,10,20100213,       0658,   26.16765,  -18.57381,       3442,    23.0,  21.8740,  37.0404,  37.0417,2,   213.5,2,    0.69,2,    0.00,2,  -999.0,9,  -999.0,9,    0.08,2,     -999.0,1,     -999.0,1,     -999.0,9,     -999.0,9,    21.8695,     -999.0,1
  74DI20100106,        A05,     124,          1,         23,         23,2,20100213,       0658,   26.16765,  -18.57381,       3442,     4.8,  21.8702,  37.0408,  37.0418,2,   212.1,2,    0.73,2,    0.01,2,  2105.1,2,  2419.0,2,    0.04,2,     -999.0,9,     -999.0,9,     -999.0,9,     -999.0,9,    21.8693,     -999.0,9
  74DI20100106,        A05,     124,          1,         24,         24,2,20100213,       0658,   26.16765,  -18.57381,       3442,     4.4,  21.8649,  37.0409,  37.0416,2,   212.3,2,    0.74,2,    0.00,2,  -999.0,9,  -999.0,9,    0.00,2,     -999.0,1,     -999.0,1,     -999.0,1,     -999.0,1,    21.8640,     -999.0,1