BOTTLE,20200115CCHSIOCBG
EXPOCODE,SECT_ID,STNNBR,CASTNO,SAMPNO,BTLNBR,BTLNBR_FLAG_W,DATE,TIME,LATITUDE,LONGITUDE,DEPTH,CTDPRS,CTDTMP,CTDSAL,SALNTY,SALNTY_FLAG_W,OXYGEN,OXYGEN_FLAG_W,SILCAT,SILCAT_FLAG_W,PHSPHT,PHSPHT_FLAG_W,TCARBN,TCARBN_FLAG_W,ALKALI,ALKALI_FLAG_W,NO2+NO3,NO2+NO3_FLAG_W,CFC-11,CFC-11_FLAG_W,CFC-12,CFC-12_FLAG_W,CFC113,CFC113_FLAG_W,CCL4,CCL4_FLAG_W,THETA,SF6,SF6_FLAG_W
,,,,,,,,,,,METERS,DBAR,ITS-90,PSS-78,PSS-78,,UMOL/KG,,UMOL/KG,,UMOL/KG,,UMOL/KG,,UMOL/KG,,UMOL/KG,,PMOL/L,,PMOL/L,,PMOL/L,,PMOL/L,,ITS-90,FMOL/L,
  74DI20100106,        A05,      43,          1,          1,          1,2,20100116,       0115,   26.47574,  -71.00418,       5489,  5581.7,   2.1146,  34.8542,  34.8530,2,   244.0,2,   56.04,2,    1.59,2,  2202.6,2,  2342.8,2,   22.78,2,     -999.0,1,     -999.0,1,     -999.0,1,     -999.0,1,     1.5837,     -999.0,1
  74DI20100106,        A05,      43,          1,          2,          2,3,20100116,       0115,   26.47574,  -71.00418,       5489,  5271.1,   2.2461,  34.8752,-999.0000,9,  -999.0,9, -999.00,9, -999.00,9,  -999.0,9,  -999.0,9, -999.00,9,     -999.0,9,     -999.0,9,     -999.0,9,     -999.0,9,     1.7508,     -999.0,9
  74DI20100106,        A05,      43,          1,          3,          3,2,20100116,       0115,   26.47574,  -71.00418,       5489,  4770.7,   2.2940,  34.8871,  34.8858,2,   261.1,2,   35.31,2,    1.35,2,  2181.5,2,  2326.4,2,   19.45,2,     -999.0,1,     -999.0,1,     -999.0,1,     -999.0,1,     1.8601,     -999.0,1
  74DI20100106,        A05,      43,          1,          4,          4,2,20100116,       0115,   26.47574,  -71.00418,       5489,  4286.1,   2.3061,  34.8927,  34.8921,2,   261.8,2,   31.48,2,    1.31,2,  -999.0,9,  -999.0,9,   19.27,2,     -999.0,1,     -999.0,1,     -999.0,1,     -999.0,1,     1.9302,     -999.0,1
  74DI20100106,        A05,      43,          1,          5,          5,2,20100116,       0115,   26.47574,  -71.00418,       5489,  3794.4,   2.3840,  34.9021,  34.9015,2,   265.0,2,   27.98,2,    1.27,2,  -999.0,9,  -999.0,9,   18.38,2,     -999.0,9,     -999.0,9,     -999.0,9,     -999.0,9,     2.0622,     -999.0,9
  74DI20100106,        A05,      43,          1,          6,          6,10,20100116,       0115,   26.47574,  -71.00418,       5489,  3296.8,   2.6156,  34.9173,  34.9161,2,   263.9,2,   23.83,2,    1.25,2,  -999.0,9,  -999.0,9,   18.52,2,     -999.0,9,     -999.0,9,     -999.0,9,     -999.0,9,     2.3422,     -999.0,9
  74DI20100106,        A05,      43,          1,          7,          7,2,20100116,       0115,   26.47574,  -71.00418,       5489,  2794.6,   2.9813,  34.9391,  34.9384,2,   261.5,2,   21.32,2,    1.27,2,  -999.0,9,  -999.0,9,   18.67,2,     -999.0,9,     -999.0,9,     -999.0,9,     -999.0,9,     2.7522,     -999.0,9
  74DI20100106,        A05,      43,          1,          8,          8,2,20100116,       0115,   26.47574,  -71.00418,       5489,  2542.1,   3.2124,  34.9544,  34.9535,2,   259.1,2,   20.12,2,    1.26,2,  -999.0,9,  -999.0,9,   18.49,2,     -999.0,9,     -999.0,9,     -999.0,9,     -999.0,9,     3.0043,     -999.0,9
  74DI20100106,        A05,      43,          1,          9,          9,2,20100116,       0115,   26.47574,  -71.00418,       5489,  2289.8,   3.4097,  34.9618,  34.9609,2,   259.3,2,   18.27,2,    1.25,2,  -999.0,9,  -999.0,9,   18.52,2,     -999.0,9,     -999.0,9,     -999.0,9,     -999.0,9,     3.2231,     -999.0,9
  74DI20100106,        A05,      43,          1,         10,         10,2,20100116,       0115,   26.47574,  -71.00418,       5489,  2036.5,   3.6082,  34.9645,  34.9638,2,   260.1,2,   16.00,2,    1.22,2,  -999.0,9,  -999.0,9,   18.48,2,     -999.0,1,     -999.0,1,     -999.0,1,     -999.0,1,     3.4430,     -999.0,1
  74DI20100106,        A05,      43,          1,         11,         11,2,20100116,       0115,   26.47574,  -71.00418,       5489,  1778.9,   3.9176,  34.9803,  34.9797,2,   257.8,2,   14.51,2,    1.23,2,  -999.0,9,  -999.0,9,   18.86,2,     -999.0,1,     -999.0,1,     -999.0,1,     -999.0,1,     3.7725,     -999.0,1
  74DI20100106,        A05,      43,          1,         12,         12,2,20100116,       0115,   26.47574,  -71.00418,       5489,  1511.8,   4.3515,  35.0112,  35.0108,2,   248.6,2,   13.68,2,    1.26,2,  -999.0,9,  -999.0,9,   19.00,2,     -999.0,9,     -999.0,9,     -999.0,9,     -999.0,9,     4.2261,     -999.0,9
  74DI20100106,        A05,      43,          1,         13,         13,2,20100116,       0115,   26.47574,  -71.00418,       5489,  1251.3,   5.2041,  35.0562,  35.0561,2,   227.9,2,   13.76,2,    1.31,2,  -999.0,9,  -999.0,9,   19.82,2,     -999.0,9,     -999.0,9,     -999.0,9,     -999.0,9,     5.0945,     -999.0,9
  74DI20100106,        A05,      43,          1,         14,         14,2,20100116,       0115,   26.47574,  -71.00418,       5489,   997.1,   7.2457,  35.0994,  35.1001,2,   166.4,2,   16.69,2,    1.61,2,  -999.0,9,  -999.0,9,   25.00,2,     -999.0,9,     -999.0,9,     -999.0,9,     -999.0,9,     7.1450,     -999.0,9
  74DI20100106,        A05,      43,          1,         15,         15,2,20100116,       0115,   26.47574,  -71.00418,       5489,   861.6,   9.0404,  35.1985,  35.1977,2,   141.0,2,   15.37,2,    1.66,2,  -999.0,9,  -999.0,9,   25.44,2,     -999.0,9,     -999.0,9,     -999.0,9,     -999.0,9,     8.9427,     -999.0,9
  74DI20100106,        A05,      43,          1,         16,         16,2,20100116,       0115,   26.47574,  -71.00418,       5489,   760.2,  11.0985,  35.4402,  35.4435,2,   144.3,2,   10.88,2,    1.34,2,  -999.0,9,  -999.0,9,   21.86,2,     -999.0,9,     -999.0,9,     -999.0,9,     -999.0,9,    11.0013,     -999.0,9
  74DI20100106,        A05,      43,          1,         17,         17,10,20100116,       0115,   26.47574,  -71.00418,       5489,   636.9,  14.4115,  35.9175,  35.9186,2,   166.2,2,    5.08,2,    0.78,2,  -999.0,9,  -999.0,9,   13.69,2,     -999.0,9,     -999.0,9,     -999.0,9,     -999.0,9,    14.3156,     -999.0,9
  74DI20100106,        A05,      43,          1,         18,         18,2,20100116,       0115,   26.47574,  -71.00418,       5489,   506.2,  16.7032,  36.3080,  36.3076,2,   184.5,2,    2.71,2,    0.42,2,  -999.0,9,  -999.0,9,    8.03,2,     -999.0,9,     -999.0,9,     -999.0,9,     -999.0,9,    16.6193,     -999.0,9
  74DI20100106,        A05,      43,          1,         19,         19,4,20100116,       0115,   26.47574,  -71.00418,       5489,   384.5,  18.0138,  36.5388,-999.0000,9,  -999.0,9, -999.00,9, -999.00,9,  -999.0,9,  -999.0,9, -999.00,9,     -999.0,9,     -999.0,9,     -999.0,9,     -999.0,9,    17.9468,     -999.0,9
  74DI20100106,        A05,      43,          1,         20,         20,4,20100116,       0115,   26.47574,  -71.00418,       5489,   260.0,  19.0429,  36.6257,-999.0000,9,  -999.0,9, -999.00,9, -999.00,9,  -999.0,9,  -999.0,9, -999.00,9,     -999.0,9,     -999.0,9,     -999.0,9,     -999.0,9,    18.9959,     -999.0,9
  74DI20100106,        A05,      43,          1,         21,         21,4,20100116,       0115,   26.47574,  -71.00418,       5489,   186.7,  20.0811,  36.7002,-999.0000,9,  -999.0,9, -999.00,9, -999.00,9,  -999.0,9,  -999.0,9, -999.00,9,     -999.0,9,     -999.0,9,     -999.0,9,     -999.0,9,    20.0461,     -999.0,9
  74DI20100106,        A05,      43,          1,         22,         22,2,20100116,       0115,   26.47574,  -71.00418,       5489,   105.0,  22.2970,  36.7167,  36.7161,2,   210.3,2,    1.00,2,    0.00,2,  -999.0,9,  -999.0,9,    0.07,2,     -999.0,9,     -999.0,9,     -999.0,9,     -999.0,9,    22.2758,     -999.0,9
  74DI20100106,        A05,      43,          1,         23,         23,2,20100116,       0115,   26.47574,  -71.00418,       5489,    50.2,  22.9233,  36.7369,  36.7356,2,   207.7,2,    0.93,2,    0.00,2,  -999.0,9,  -999.0,9,    0.00,2,     -999.0,9,     -999.0,9,     -999.0,9,     -999.0,9,    22.9130,     -999.0,9
  74DI20100106,        A05,      43,          1,         24,         24,10,20100116,       0115,   26.47574,  -71.00418,       5489,     3.2,  23.4320,  36.7642,  36.7627,2,   209.9,2,    0.94,2,    0.00,2,  -999.0,9,  -999.0,9,    0.00,2,     -999.0,9,     -999.0,9,     -999.0,9,     -999.0,9,    23.4313,     -999.0,9
  74DI20100106,        A05,      44,          1,          1,          1,2,20100116,       0856,   26.10264,  -70.63383,       5503,  5596.1,   2.1852,  34.8626,  34.8621,2,   249.9,2,   51.15,2,    1.50,2,  2194.8,2,  2342.0,2,   21.88,2,     -999.0,1,     -999.0,1,     -999.0,1,     -999.0,1,     1.6497,     -999.0,1
  74DI20100106,        A05,      44,          1,          2,          2,10,20100116,       0856,   26.10264,  -70.63383,       5503,  5096.6,   2.2853,  34.8820,  34.9355,4,   260.4,2,   22.74,3,    1.24,3,  -999.0,9,  -999.0,9,   18.43,3,     -999.0,1,     -999.0,1,     -999.0,1,     -999.0,1,     1.8109,     -999.0,1
  74DI20100106,        A05,      44,          1,          3,          3,2,20100116,       0856,   26.10264,  -70.63383,       5503,  4581.6,   2.2954,  34.8891,  34.8885,2,   261.2,2,   34.25,2,    1.33,2,  2178.6,2,  2327.4,2,   19.26,2,     -999.0,1,     -999.0,1,     -999.0,1,     -999.0,1,     1.8846,     -999.0,1
  74DI20100106,        A05,      44,          1,          4,          4,2,20100116,       0856,   26.10264,  -70.63383,       5503,  4070.4,   2.3259,  34.8958,  34.8947,2,   263.5,2,   29.85,2,    1.27,2,  2169.9,2,  2323.8,2,   18.66,2,     -999.0,1,     -999.0,1,     -999.0,1,     -999.0,1,     1.9745,     -999.0,1
  74DI20100106,        A05,      44,          1,          5,          5,2,20100116,       0856,   26.10264,  -70.63383,       5503,  3561.7,   2.4435,  34.9063,  34.9050,2,   265.0,2,   26.05,2,    1.24,2,  2166.1,2,  2317.8,2,   18.61,2,     -999.0,1,     -999.0,1,     -999.0,1,     -999.0,1,     2.1458,     -999.0,1
  74DI20100106,        A05,      44,          1,          6,          6,2,20100116,       0856,   26.10264,  -70.63383,       5503,  3050.8,   2.7463,  34.9260,  34.9255,2,   262.9,2,   22.93,2,    1.24,2,  2167.5,2,  2316.8,2,   18.28,2,     -999.0,1,     -999.0,1,     -999.0,1,     -999.0,1,     2.4958,     -999.0,1
  74DI20100106,        A05,      44,          1,          7,          7,2,20100116,       0856,   26.10264,  -70.63383,       5503,  2543.4,   3.1548,  34.9502,  34.9484,2,   259.7,2,   20.18,2,    1.23,2,  2165.1,2,  2315.0,2,   18.58,2,     -999.0,9,     -999.0,9,     -999.0,9,     -999.0,9,     2.9477,     -999.0,9
  74DI20100106,        A05,      44,          1,          8,          8,2,20100116,       0856,   26.10264,  -70.63383,       5503,  2289.1,   3.3665,  34.9588,  34.9574,2,   259.1,2,   18.20,2,    1.22,2,  -999.0,9,  -999.0,9,   18.76,2,     -999.0,1,     -999.0,1,     -999.0,1,     -999.0,1,     3.1807,     -999.0,1
  74DI20100106,        A05,      44,          1,          9,          9,10,20100116,       0856,   26.10264,  -70.63383,       5503,  2034.8,   3.5862,  34.9660,  34.9642,2,   259.0,2,   16.21,2,    1.21,2,  2161.8,2,  2312.0,2,   18.57,2,     -999.0,1,     -999.0,1,     -999.0,1,     -999.0,1,     3.4215,     -999.0,1
  74DI20100106,        A05,      44,          1,         10,         10,2,20100116,       0856,   26.10264,  -70.63383,       5503,  1780.6,   3.8608,  34.9766,  34.9752,2,   256.7,2,   14.55,2,    1.20,2,  -999.0,9,  -999.0,9,   18.66,2,     -999.0,1,     -999.0,1,     -999.0,1,     -999.0,1,     3.7163,     -999.0,1
  74DI20100106,        A05,      44,          1,         11,         11,10,20100116,       0856,   26.10264,  -70.63383,       5503,  1528.1,   4.2049,  34.9970,  34.9965,2,   252.0,2,   13.64,2,    1.22,2,  2165.6,2,  2310.9,2,   18.65,2,     -999.0,1,     -999.0,1,     -999.0,1,     -999.0,1,     4.0797,     -999.0,1
  74DI20100106,        A05,      44,          1,         12,         12,2,20100116,       0856,   26.10264,  -70.63383,       5503,  1263.8,   4.9006,  35.0380,  35.0370,2,   236.2,2,   13.29,2,    1.26,2,  -999.0,9,  -999.0,9,   19.21,2,     -999.0,1,     -999.0,1,     -999.0,1,     -999.0,1,     4.7928,     -999.0,1
  74DI20100106,        A05,      44,          1,         13,         13,2,20100116,       0856,   26.10264,  -70.63383,       5503,  1011.0,   6.6124,  35.0889,  35.0886,2,   184.6,2,   15.53,2,    1.50,2,  2185.9,2,  2316.7,2,   22.98,2,     -999.0,1,     -999.0,1,     -999.0,1,     -999.0,1,     6.5149,     -999.0,1
  74DI20100106,        A05,      44,          1,         14,         14,2,20100116,       0856,   26.10264,  -70.63383,       5503,   885.3,   7.8461,  35.1016,  35.1012,2,   149.6,2,   17.33,2,    1.69,2,  -999.0,9,  -999.0,9,   26.17,2,     -999.0,1,     -999.0,1,     -999.0,1,     -999.0,1,     7.7534,     -999.0,1
  74DI20100106,        A05,      44,          1,         15,         15,10,20100116,       0856,   26.10264,  -70.63383,       5503,   760.4,  10.3743,  35.3461,  35.3447,2,   140.1,2,   12.55,2,    1.45,2,  2181.9,2,  2326.1,2,   23.28,2,     -999.0,1,     -999.0,1,     -999.0,1,     -999.0,1,    10.2812,     -999.0,1
  74DI20100106,        A05,      44,          1,         16,         16,10,20100116,       0856,   26.10264,  -70.63383,       5503,   630.9,  13.1995,  35.7292,  35.7258,2,   153.5,2,    7.08,2,    1.00,2,  2162.3,2,  2343.2,2,   17.01,2,     -999.0,1,     -999.0,1,     -999.0,1,     -999.0,1,    13.1099,     -999.0,1
  74DI20100106,        A05,      44,          1,         17,         17,10,20100116,       0856,   26.10264,  -70.63383,       5503,   505.0,  15.7885,  36.1441,  36.1422,2,   170.3,2,    3.71,2,    0.59,2,  -999.0,9,  -999.0,9,   10.85,2,     -999.0,9,     -999.0,9,     -999.0,9,     -999.0,9,    15.7079,     -999.0,9
  74DI20100106,        A05,      44,          1,         18,         18,10,20100116,       0856,   26.10264,  -70.63383,       5503,   379.8,  17.4054,  36.4329,  36.4291,2,   185.9,2,    2.18,2,    0.33,2,  2122.1,2,  2379.0,2,    6.68,2,     -999.0,1,     -999.0,1,     -999.0,1,     -999.0,1,    17.3408,     -999.0,9
  74DI20100106,        A05,      44,          1,         19,         19,10,20100116,       0856,   26.10264,  -70.63383,       5503,   252.9,  18.6797,  36.6091,  36.6079,2,   185.5,2,    1.34,2,    0.13,2,  -999.0,9,  -999.0,9,    3.88,2,     -999.0,9,     -999.0,9,     -999.0,9,     -999.0,9,    18.6347,     -999.0,9
  74DI20100106,        A05,      44,          1,         20,         20,2,20100116,       0856,   26.10264,  -70.63383,       5503,   176.1,  19.8031,  36.6927,  36.6925,2,   187.0,2,    0.97,2,    0.03,2,  2110.2,2,  2393.2,2,    1.83,2,     -999.0,1,     -999.0,1,     -999.0,1,     -999.0,1,    19.7705,     -999.0,1
  74DI20100106,        A05,      44,          1,         21,         21,2,20100116,       0856,   26.10264,  -70.63383,       5503,   100.5,  21.6987,  36.7578,  36.7559,2,   202.4,2,    0.79,2,    0.00,2,  -999.0,9,  -999.0,9,    0.34,2,     -999.0,9,     -999.0,9,     -999.0,9,     -999.0,9,    21.6788,     -999.0,9
  74DI20100106,        A05,      44,          1,         22,         22,2,20100116,       0856,   26.10264,  -70.63383,       5503,    75.4,  22.1789,  36.7257,  36.7248,2,   209.0,2,    0.85,2,    0.00,2,  2065.1,2,  2394.1,2,    0.00,2,     -999.0,1,     -999.0,1,     -999.0,1,     -999.0,1,    22.1638,     -999.0,1
  74DI20100106,        A05,      44,          1,         23,         23,10,20100116,       0856,   26.10264,  -70.63383,       5503,    50.3,  22.3061,  36.7192,  36.7201,2,   210.1,2,    0.79,2,    0.00,2,  -999.0,9,  -999.0,9,    0.00,2,     -999.0,9,     -999.0,9,     -999.0,9,     -999.0,9,    22.2960,     -999.0,9
  74DI20100106,        A05,      44,          1,         24,         24,10,20100116,       0856,   26.10264,  -70.63383,       5503,     5.2,  22.5563,  36.7457,  36.7451,2,   208.8,2,    0.85,2,    0.00,2,  2057.7,2,  2395.4,2,    0.00,2,     -999.0,1,     -999.0,1,     -999.0,1,     -999.0,1,    22.5552,     -999.0,1