BOTTLE,20200115CCHSIOCBG
EXPOCODE,SECT_ID,STNNBR,CASTNO,SAMPNO,BTLNBR,BTLNBR_FLAG_W,DATE,TIME,LATITUDE,LONGITUDE,DEPTH,CTDPRS,CTDTMP,CTDSAL,SALNTY,SALNTY_FLAG_W,OXYGEN,OXYGEN_FLAG_W,SILCAT,SILCAT_FLAG_W,PHSPHT,PHSPHT_FLAG_W,TCARBN,TCARBN_FLAG_W,ALKALI,ALKALI_FLAG_W,NO2+NO3,NO2+NO3_FLAG_W,CFC-11,CFC-11_FLAG_W,CFC-12,CFC-12_FLAG_W,CFC113,CFC113_FLAG_W,CCL4,CCL4_FLAG_W,THETA,SF6,SF6_FLAG_W
,,,,,,,,,,,METERS,DBAR,ITS-90,PSS-78,PSS-78,,UMOL/KG,,UMOL/KG,,UMOL/KG,,UMOL/KG,,UMOL/KG,,UMOL/KG,,PMOL/L,,PMOL/L,,PMOL/L,,PMOL/L,,ITS-90,FMOL/L,
  74DI20100106,        A05,      31,          1,          1,          1,2,20100112,       2042,   26.50315,  -75.07308,       4605,  4674.3,   2.1518,  34.8721,  34.8718,2,   250.8,2,   45.17,2,    1.44,2,  2180.0,2,  2329.1,2,   21.21,2,     -999.0,9,     -999.0,9,     -999.0,9,     -999.0,9,     1.7344,     -999.0,9
  74DI20100106,        A05,      31,          1,          2,          2,2,20100112,       2042,   26.50315,  -75.07308,       4605,  4328.9,   2.2010,  34.8830,  34.8833,2,   258.6,2,   37.34,2,    1.36,2,  2188.6,2,  2331.7,2,   20.12,2,     -999.0,9,     -999.0,9,     -999.0,9,     -999.0,9,     1.8233,     -999.0,9
  74DI20100106,        A05,      31,          1,          3,          3,2,20100112,       2042,   26.50315,  -75.07308,       4605,  3813.0,   2.2649,  34.8931,  34.8928,2,   263.2,2,   30.78,2,    1.28,2,  -999.0,9,  -999.0,9,   19.17,2,     -999.0,9,     -999.0,9,     -999.0,9,     -999.0,9,     1.9443,     -999.0,9
  74DI20100106,        A05,      31,          1,          4,          4,3,20100112,       2042,   26.50315,  -75.07308,       4605,  3304.4,   2.4108,  34.9060,  34.9057,3,   266.6,3,   25.58,3,    1.24,3,  -999.0,9,  -999.0,9,   18.39,3,     -999.0,9,     -999.0,9,     -999.0,9,     -999.0,9,     2.1415,     -999.0,9
  74DI20100106,        A05,      31,          1,          5,          5,2,20100112,       2042,   26.50315,  -75.07308,       4605,  3049.2,   2.5677,  34.9154,  34.9152,2,   264.6,2,   23.22,2,    1.22,2,  -999.0,9,  -999.0,9,   18.32,2,     -999.0,9,     -999.0,9,     -999.0,9,     -999.0,9,     2.3214,     -999.0,9
  74DI20100106,        A05,      31,          1,          6,          6,2,20100112,       2042,   26.50315,  -75.07308,       4605,  2794.0,   2.7956,  34.9289,  34.9290,2,   263.9,2,   21.69,2,    1.22,2,  -999.0,9,  -999.0,9,   18.37,2,     -999.0,9,     -999.0,9,     -999.0,9,     -999.0,9,     2.5704,     -999.0,9
  74DI20100106,        A05,      31,          1,          7,          7,2,20100112,       2042,   26.50315,  -75.07308,       4605,  2539.7,   3.0824,  34.9473,  34.9477,2,   259.4,2,   20.69,2,    1.24,2,  -999.0,9,  -999.0,9,   18.89,2,     -999.0,9,     -999.0,9,     -999.0,9,     -999.0,9,     2.8770,     -999.0,9
  74DI20100106,        A05,      31,          1,          8,          8,2,20100112,       2042,   26.50315,  -75.07308,       4605,  2284.5,   3.3310,  34.9587,  34.9592,2,   259.5,2,   18.65,2,    1.23,2,  -999.0,9,  -999.0,9,   18.77,2,     -999.0,9,     -999.0,9,     -999.0,9,     -999.0,9,     3.1463,     -999.0,9
  74DI20100106,        A05,      31,          1,          9,          9,2,20100112,       2042,   26.50315,  -75.07308,       4605,  2030.0,   3.5593,  34.9634,  34.9639,2,   260.7,2,   16.20,2,    1.22,2,  -999.0,9,  -999.0,9,   18.71,2,     -999.0,1,     -999.0,1,     -999.0,1,     -999.0,1,     3.3955,     -999.0,9
  74DI20100106,        A05,      31,          1,         10,         10,2,20100112,       2042,   26.50315,  -75.07308,       4605,  1775.1,   3.8536,  34.9741,  34.9740,2,   258.4,2,   14.20,2,    1.20,2,  -999.0,9,  -999.0,9,   18.36,2,     -999.0,1,     -999.0,1,     -999.0,1,     -999.0,1,     3.7098,     -999.0,1
  74DI20100106,        A05,      31,          1,         11,         11,2,20100112,       2042,   26.50315,  -75.07308,       4605,  1520.1,   4.2414,  34.9968,  34.9969,2,   251.6,2,   13.46,2,    4.42,4,  -999.0,9,  -999.0,9,   19.40,2,     -999.0,1,     -999.0,1,     -999.0,1,     -999.0,1,     4.1165,     -999.0,1
  74DI20100106,        A05,      31,          1,         12,         12,2,20100112,       2042,   26.50315,  -75.07308,       4605,  1267.3,   4.9145,  35.0378,  35.0379,2,   236.2,2,   13.37,2,    1.26,2,  -999.0,9,  -999.0,9,   19.62,2,     -999.0,1,     -999.0,1,     -999.0,1,     -999.0,1,     4.8063,     -999.0,1
  74DI20100106,        A05,      31,          1,         13,         13,2,20100112,       2042,   26.50315,  -75.07308,       4605,  1015.6,   6.5944,  35.0854,  35.0848,2,   185.7,2,   15.65,2,    1.50,2,  -999.0,9,  -999.0,9,   23.33,2,     -999.0,1,     -999.0,1,     -999.0,1,     -999.0,1,     6.4966,     -999.0,1
  74DI20100106,        A05,      31,          1,         14,         14,2,20100112,       2042,   26.50315,  -75.07308,       4605,   885.8,   8.1089,  35.1272,  35.1277,2,   149.6,2,   16.42,2,    1.63,2,  -999.0,9,  -999.0,9,   26.03,2,     -999.0,9,     -999.0,9,     -999.0,9,     -999.0,9,     8.0144,     -999.0,9
  74DI20100106,        A05,      31,          1,         15,         15,2,20100112,       2042,   26.50315,  -75.07308,       4605,   756.7,  10.8371,  35.4141,  35.4127,2,   145.2,2,   11.13,2,    1.34,2,  -999.0,9,  -999.0,9,   21.81,2,     -999.0,9,     -999.0,9,     -999.0,9,     -999.0,9,    10.7418,     -999.0,9
  74DI20100106,        A05,      31,          1,         16,         16,2,20100112,       2042,   26.50315,  -75.07308,       4605,   757.2,  10.8366,  35.4139,-999.0000,9,   146.3,2,   11.14,2,    1.34,2,  -999.0,9,  -999.0,9,   21.81,2,     -999.0,9,     -999.0,9,     -999.0,9,     -999.0,9,    10.7414,     -999.0,9
  74DI20100106,        A05,      31,          1,         17,         17,2,20100112,       2042,   26.50315,  -75.07308,       4605,   633.5,  13.4842,  35.7770,  35.7764,2,   159.3,2,    6.30,2,    0.94,2,  -999.0,9,  -999.0,9,   15.94,2,     -999.0,9,     -999.0,9,     -999.0,9,     -999.0,9,    13.3929,     -999.0,9
  74DI20100106,        A05,      31,          1,         18,         18,2,20100112,       2042,   26.50315,  -75.07308,       4605,   507.8,  16.0787,  36.1933,  36.1956,2,   175.9,2,    3.25,2,    0.54,2,  -999.0,9,  -999.0,9,    9.83,2,     -999.0,9,     -999.0,9,     -999.0,9,     -999.0,9,    15.9966,     -999.0,9
  74DI20100106,        A05,      31,          1,         19,         19,2,20100112,       2042,   26.50315,  -75.07308,       4605,   378.4,  17.8175,  36.5125,  36.5124,2,   192.7,2,    1.69,2,    0.25,2,  -999.0,9,  -999.0,9,    5.21,2,     -999.0,9,     -999.0,9,     -999.0,9,     -999.0,9,    17.7521,     -999.0,9
  74DI20100106,        A05,      31,          1,         20,         20,2,20100112,       2042,   26.50315,  -75.07308,       4605,   250.5,  18.7965,  36.6208,  36.6204,2,   185.6,2,    1.21,2,    0.14,2,  -999.0,9,  -999.0,9,    3.52,2,     -999.0,9,     -999.0,9,     -999.0,9,     -999.0,9,    18.7517,     -999.0,9
  74DI20100106,        A05,      31,          1,         21,         21,2,20100112,       2042,   26.50315,  -75.07308,       4605,   178.5,  20.0484,  36.7221,  36.7220,2,   186.1,2,    0.85,2,    0.03,2,  -999.0,9,  -999.0,9,    1.33,2,     -999.0,9,     -999.0,9,     -999.0,9,     -999.0,9,    20.0150,     -999.0,9
  74DI20100106,        A05,      31,          1,         22,         22,2,20100112,       2042,   26.50315,  -75.07308,       4605,   101.2,  24.1164,  36.7630,  36.7627,2,   204.9,2,    0.82,2,    0.00,2,  -999.0,9,  -999.0,9,    0.00,2,     -999.0,9,     -999.0,9,     -999.0,9,     -999.0,9,    24.0949,     -999.0,9
  74DI20100106,        A05,      31,          1,         23,         23,10,20100112,       2042,   26.50315,  -75.07308,       4605,    49.7,  24.1717,  36.7648,  36.7651,2,   204.7,2,    0.78,2,    0.00,2,  -999.0,9,  -999.0,9,    0.00,2,     -999.0,9,     -999.0,9,     -999.0,9,     -999.0,9,    24.1611,     -999.0,9
  74DI20100106,        A05,      31,          1,         24,         24,2,20100112,       2042,   26.50315,  -75.07308,       4605,     4.4,  24.1671,  36.7672,  36.7667,2,   204.7,2,    0.77,2,    0.00,2,  -999.0,9,  -999.0,9,    0.00,2,     -999.0,9,     -999.0,9,     -999.0,9,     -999.0,9,    24.1662,     -999.0,9
  74DI20100106,        A05,      32,          1,          1,          1,2,20100113,       0224,   26.49660,  -74.80413,       4538,  4604.2,   2.1318,  34.8708,  34.8704,2,   250.8,2,   45.78,2,    1.45,2,  2185.3,2,  2336.5,2,   21.65,2,     -999.0,1,     -999.0,1,     -999.0,1,     -999.0,1,     1.7235,     -999.0,1
  74DI20100106,        A05,      32,          1,          2,          2,3,20100113,       0224,   26.49660,  -74.80413,       4538,  4064.5,   2.2273,  34.8884,  34.9208,4,   264.5,3,   22.72,3,    1.21,3,  -999.0,9,  -999.0,9,   18.56,3,     -999.0,1,     -999.0,1,     -999.0,1,     -999.0,1,     1.8794,     -999.0,1
  74DI20100106,        A05,      32,          1,          3,          3,2,20100113,       0224,   26.49660,  -74.80413,       4538,  3548.4,   2.3009,  34.8978,  34.8971,2,   264.9,2,   28.59,2,    1.25,2,  2167.4,2,  2318.5,2,   18.99,2,     -999.0,1,     -999.0,1,     -999.0,1,     -999.0,1,     2.0083,     -999.0,1
  74DI20100106,        A05,      32,          1,          4,          4,2,20100113,       0224,   26.49660,  -74.80413,       4538,  3042.5,   2.5987,  34.9179,  34.9167,2,   264.9,2,   23.42,2,    1.22,2,  2164.6,2,  2315.3,2,   18.56,2,     -999.0,1,     -999.0,1,     -999.0,1,     -999.0,1,     2.3523,     -999.0,1
  74DI20100106,        A05,      32,          1,          5,          5,2,20100113,       0224,   26.49660,  -74.80413,       4538,  2786.9,   2.8262,  34.9317,  34.9304,2,   262.9,2,   21.95,2,    1.23,2,  -999.0,9,  -999.0,9,   18.81,2,     -999.0,1,     -999.0,1,     -999.0,1,     -999.0,1,     2.6011,     -999.0,1
  74DI20100106,        A05,      32,          1,          6,          6,2,20100113,       0224,   26.49660,  -74.80413,       4538,  2534.4,   3.1053,  34.9478,  34.9459,2,   259.5,2,   20.43,2,    1.23,2,  2161.9,2,  2313.2,2,   18.98,2,     -999.0,9,     -999.0,9,     -999.0,9,     -999.0,9,     2.9000,     -999.0,9
  74DI20100106,        A05,      32,          1,          7,          7,2,20100113,       0224,   26.49660,  -74.80413,       4538,  2272.9,   3.3401,  34.9552,  34.9547,2,   261.1,2,   18.19,2,    1.22,2,  -999.0,9,  -999.0,9,   18.83,2,     -999.0,1,     -999.0,1,     -999.0,1,     -999.0,1,     3.1563,     -999.0,1
  74DI20100106,        A05,      32,          1,          8,          8,2,20100113,       0224,   26.49660,  -74.80413,       4538,  2027.6,   3.5696,  34.9634,  34.9630,2,   260.1,2,   16.23,2,    1.21,2,  2158.5,2,  2308.8,2,   18.79,2,     -999.0,1,     -999.0,1,     -999.0,1,     -999.0,1,     3.4059,     -999.0,1
  74DI20100106,        A05,      32,          1,          9,          9,2,20100113,       0224,   26.49660,  -74.80413,       4538,  1776.6,   3.8483,  34.9742,  34.9744,2,   257.9,2,   14.53,2,    1.21,2,  -999.0,9,  -999.0,9,   18.65,2,     -999.0,1,     -999.0,1,     -999.0,1,     -999.0,1,     3.7043,     -999.0,1
  74DI20100106,        A05,      32,          1,         10,         10,2,20100113,       0224,   26.49660,  -74.80413,       4538,  1514.6,   4.2392,  35.0006,  35.0000,2,   251.3,2,   13.54,2,    1.23,2,  2163.6,2,  2307.2,2,   18.88,2,     -999.0,1,     -999.0,1,     -999.0,1,     -999.0,1,     4.1149,     -999.0,1
  74DI20100106,        A05,      32,          1,         11,         11,10,20100113,       0224,   26.49660,  -74.80413,       4538,  1261.9,   4.9214,  35.0432,  35.0426,2,   235.5,2,   13.71,2,    1.28,2,  -999.0,9,  -999.0,9,   19.81,2,     -999.0,1,     -999.0,1,     -999.0,1,     -999.0,1,     4.8135,     -999.0,1
  74DI20100106,        A05,      32,          1,         12,         12,2,20100113,       0224,   26.49660,  -74.80413,       4538,  1010.4,   6.6268,  35.0892,  35.0888,2,   185.8,2,   15.58,2,    1.48,2,  2183.9,2,  2313.6,2,   23.51,2,     -999.0,1,     -999.0,1,     -999.0,1,     -999.0,1,     6.5293,     -999.0,1
  74DI20100106,        A05,      32,          1,         13,         13,2,20100113,       0224,   26.49660,  -74.80413,       4538,   881.2,   8.1899,  35.1259,  35.1253,2,   147.1,2,   16.91,2,    1.65,2,  2196.6,2,  2317.4,2,   26.55,2,     -999.0,1,     -999.0,1,     -999.0,1,     -999.0,1,     8.0954,     -999.0,1
  74DI20100106,        A05,      32,          1,         14,         14,2,20100113,       0224,   26.49660,  -74.80413,       4538,   758.3,  10.4787,  35.3685,  35.3716,2,   143.2,2,   12.00,2,    1.40,2,  2182.2,2,  2324.1,2,   23.11,2,     -999.0,1,     -999.0,1,     -999.0,1,     -999.0,1,    10.3852,     -999.0,1
  74DI20100106,        A05,      32,          1,         15,         15,3,20100113,       0224,   26.49660,  -74.80413,       4538,   634.6,  12.9776,  35.6963,-999.0000,9,   153.1,3,    7.45,3,    1.04,3,  -999.0,9,  -999.0,9,   17.61,3,     -999.0,9,     -999.0,9,     -999.0,9,     -999.0,9,    12.8884,     -999.0,9
  74DI20100106,        A05,      32,          1,         16,         16,2,20100113,       0224,   26.49660,  -74.80413,       4538,   635.1,  12.9786,  35.6964,  35.6953,2,   153.1,2,    3.69,4,    0.59,4,  2163.0,2,  -999.0,9,   10.96,4,     -999.0,1,     -999.0,1,     -999.0,1,     -999.0,1,    12.8893,     -999.0,1
  74DI20100106,        A05,      32,          1,         17,         17,2,20100113,       0224,   26.49660,  -74.80413,       4538,   509.2,  15.6857,  36.1262,  36.1261,2,   172.7,2,    1.91,2,    0.28,2,  -999.0,9,  -999.0,9,    5.93,2,     -999.0,9,     -999.0,9,     -999.0,9,     -999.0,9,    15.6048,     -999.0,9
  74DI20100106,        A05,      32,          1,         18,         18,2,20100113,       0224,   26.49660,  -74.80413,       4538,   377.6,  17.6314,  36.4768,  36.4764,2,   189.4,2,    1.28,2,    0.16,2,  2116.4,2,  2380.1,2,    4.06,2,     -999.0,1,     -999.0,1,     -999.0,9,     -999.0,9,    17.5666,     -999.0,1
  74DI20100106,        A05,      32,          1,         19,         19,2,20100113,       0224,   26.49660,  -74.80413,       4538,   251.7,  18.7546,  36.6236,  36.6244,2,   179.9,2,    0.86,2,    0.00,2,  -999.0,9,  -999.0,9,    1.11,2,     -999.0,9,     -999.0,9,     -999.0,9,     -999.0,9,    18.7096,     -999.0,9
  74DI20100106,        A05,      32,          1,         20,         20,2,20100113,       0224,   26.49660,  -74.80413,       4538,   176.4,  20.1975,  36.7362,  36.7344,2,   184.7,2,    0.82,2,    0.00,2,  2112.8,2,  2396.2,2,    0.00,2,     -999.0,1,     -999.0,1,     -999.0,9,     -999.0,9,    20.1643,     -999.0,1
  74DI20100106,        A05,      32,          1,         21,         21,2,20100113,       0224,   26.49660,  -74.80413,       4538,   101.3,  22.8341,  36.8312,  36.8316,2,   210.7,2,    0.85,2,    0.00,2,  -999.0,9,  -999.0,9,    0.00,2,     -999.0,9,     -999.0,9,     -999.0,9,     -999.0,9,    22.8133,     -999.0,9
  74DI20100106,        A05,      32,          1,         22,         22,10,20100113,       0224,   26.49660,  -74.80413,       4538,    76.5,  24.1112,  36.7666,  36.7661,2,   205.2,2,    0.84,2,    0.00,2,  2047.8,2,  2394.0,2,    0.00,2,     -999.0,9,     -999.0,9,     -999.0,9,     -999.0,9,    24.0949,     -999.0,9
  74DI20100106,        A05,      32,          1,         23,         23,2,20100113,       0224,   26.49660,  -74.80413,       4538,    50.8,  24.1091,  36.7671,  36.7658,2,   205.0,2, -999.00,9, -999.00,9,  2048.0,2,  -999.0,9, -999.00,9,     -999.0,1,     -999.0,1,     -999.0,1,     -999.0,1,    24.0983,     -999.0,1
  74DI20100106,        A05,      32,          1,         24,         24,2,20100113,       0224,   26.49660,  -74.80413,       4538,     4.0,  24.1087,  36.7680,  36.7663,2,   205.0,2,    0.81,2,    0.00,2,  2045.0,2,  2393.5,2,    0.00,2,     -999.0,1,     -999.0,1,     -999.0,1,     -999.0,1,    24.1079,     -999.0,1