BOTTLE,20200115CCHSIOCBG
EXPOCODE,SECT_ID,STNNBR,CASTNO,SAMPNO,BTLNBR,BTLNBR_FLAG_W,DATE,TIME,LATITUDE,LONGITUDE,DEPTH,CTDPRS,CTDTMP,CTDSAL,SALNTY,SALNTY_FLAG_W,OXYGEN,OXYGEN_FLAG_W,SILCAT,SILCAT_FLAG_W,PHSPHT,PHSPHT_FLAG_W,TCARBN,TCARBN_FLAG_W,ALKALI,ALKALI_FLAG_W,NO2+NO3,NO2+NO3_FLAG_W,CFC-11,CFC-11_FLAG_W,CFC-12,CFC-12_FLAG_W,CFC113,CFC113_FLAG_W,CCL4,CCL4_FLAG_W,THETA,SF6,SF6_FLAG_W
,,,,,,,,,,,METERS,DBAR,ITS-90,PSS-78,PSS-78,,UMOL/KG,,UMOL/KG,,UMOL/KG,,UMOL/KG,,UMOL/KG,,UMOL/KG,,PMOL/L,,PMOL/L,,PMOL/L,,PMOL/L,,ITS-90,FMOL/L,
  74DI20100106,        A05,     135,          1,          1,         25,2,20100215,       1541,   27.92751,  -13.36915,        356,   344.0,  13.9462,  35.9475,  35.9504,2,   168.8,4,    5.43,2,    0.81,2,  -999.0,9,  -999.0,9,   13.21,2,     -999.0,1,     -999.0,1,     -999.0,1,     -999.0,1,    13.8959,     -999.0,1
  74DI20100106,        A05,     135,          1,          2,          2,2,20100215,       1541,   27.92751,  -13.36915,        356,   344.2,  13.9394,  35.9448,-999.0000,9,   166.6,3,    5.38,2,    0.79,2,  -999.0,9,  -999.0,9,   13.31,2,     -999.0,9,     -999.0,9,     -999.0,9,     -999.0,9,    13.8891,     -999.0,9
  74DI20100106,        A05,     135,          1,          3,          3,2,20100215,       1541,   27.92751,  -13.36915,        356,   344.5,  13.9292,  35.9450,-999.0000,9,  -999.0,9,    5.49,2,    0.80,2,  -999.0,9,  -999.0,9,   13.32,2,     -999.0,9,     -999.0,9,     -999.0,9,     -999.0,9,    13.8790,     -999.0,9
  74DI20100106,        A05,     135,          1,          4,          4,2,20100215,       1541,   27.92751,  -13.36915,        356,   344.7,  13.9106,  35.9418,-999.0000,9,  -999.0,9,    5.45,2,    0.79,2,  -999.0,9,  -999.0,9,   13.56,2,     -999.0,9,     -999.0,9,     -999.0,9,     -999.0,9,    13.8603,     -999.0,9
  74DI20100106,        A05,     135,          1,          5,          5,10,20100215,       1541,   27.92751,  -13.36915,        356,   254.2,  15.1753,  36.1537,-999.0000,9,   180.0,2,    3.73,2,    0.58,2,  -999.0,9,  -999.0,9,    9.92,2,     -999.0,9,     -999.0,9,     -999.0,9,     -999.0,9,    15.1361,     -999.0,9
  74DI20100106,        A05,     135,          1,          6,          6,2,20100215,       1541,   27.92751,  -13.36915,        356,   254.2,  15.1982,  36.1555,  36.1435,2,   179.2,2,    3.65,2,    0.59,2,  2151.4,2,  2365.3,2,    9.72,2,     -999.0,1,     -999.0,1,     -999.0,1,     -999.0,1,    15.1589,     -999.0,1
  74DI20100106,        A05,     135,          1,          7,          7,2,20100215,       1541,   27.92751,  -13.36915,        356,   253.8,  15.1901,  36.1527,-999.0000,9,  -999.0,9,    3.69,2,    0.58,2,  -999.0,9,  -999.0,9,    9.58,2,     -999.0,9,     -999.0,9,     -999.0,9,     -999.0,9,    15.1509,     -999.0,9
  74DI20100106,        A05,     135,          1,          8,          8,10,20100215,       1541,   27.92751,  -13.36915,        356,   179.1,  16.3300,  36.3387,  36.3394,2,   186.8,2,    2.85,2,    0.44,2,  2146.9,2,  2375.9,2,    7.24,2,     -999.0,1,     -999.0,1,     -999.0,1,     -999.0,1,    16.3009,     -999.0,1
  74DI20100106,        A05,     135,          1,          9,          9,10,20100215,       1541,   27.92751,  -13.36915,        356,   178.9,  16.3528,  36.3419,-999.0000,9,   186.9,2,    2.82,2,    0.44,2,  -999.0,9,  -999.0,9,    6.97,2,     -999.0,9,     -999.0,9,     -999.0,9,     -999.0,9,    16.3238,     -999.0,9
  74DI20100106,        A05,     135,          1,         10,         10,2,20100215,       1541,   27.92751,  -13.36915,        356,   103.4,  17.7956,  36.5496,  36.6731,4,   212.5,4,    1.16,2,    0.12,2,  -999.0,9,  -999.0,9,    1.02,2,     -999.0,1,     -999.0,1,     -999.0,1,     -999.0,1,    17.7778,     -999.0,1
  74DI20100106,        A05,     135,          1,         11,         11,10,20100215,       1541,   27.92751,  -13.36915,        356,   102.9,  17.7907,  36.5500,-999.0000,9,   195.5,2,    1.93,2,    0.27,2,  -999.0,9,  -999.0,9,    4.14,2,     -999.0,9,     -999.0,9,     -999.0,9,     -999.0,9,    17.7730,     -999.0,9
  74DI20100106,        A05,     135,          1,         12,         12,2,20100215,       1541,   27.92751,  -13.36915,        356,   102.4,  17.7932,  36.5497,-999.0000,9,  -999.0,9,    1.89,2,    0.27,2,  -999.0,9,  -999.0,9,    4.08,2,     -999.0,9,     -999.0,9,     -999.0,9,     -999.0,9,    17.7756,     -999.0,9
  74DI20100106,        A05,     135,          1,         13,         13,2,20100215,       1541,   27.92751,  -13.36915,        356,   102.6,  17.7950,  36.5502,-999.0000,9,  -999.0,9,    1.90,2,    0.26,2,  -999.0,9,  -999.0,9,    4.13,2,     -999.0,9,     -999.0,9,     -999.0,9,     -999.0,9,    17.7774,     -999.0,9
  74DI20100106,        A05,     135,          1,         14,         14,2,20100215,       1541,   27.92751,  -13.36915,        356,    77.5,  18.6348,  36.6420,  36.6404,2,   206.0,2,    1.29,2,    0.15,2,  -999.0,9,  -999.0,9,    1.83,2,     -999.0,9,     -999.0,9,     -999.0,9,     -999.0,9,    18.6210,     -999.0,9
  74DI20100106,        A05,     135,          1,         15,         26,2,20100215,       1541,   27.92751,  -13.36915,        356,    78.0,  18.6558,  36.6431,-999.0000,9,   206.8,2,    1.30,2,    0.14,2,  -999.0,9,  -999.0,9,    1.78,2,     -999.0,9,     -999.0,9,     -999.0,9,     -999.0,9,    18.6419,     -999.0,9
  74DI20100106,        A05,     135,          1,         16,         16,2,20100215,       1541,   27.92751,  -13.36915,        356,    77.8,  18.6580,  36.6440,-999.0000,9,  -999.0,9,    1.35,2,    0.15,2,  -999.0,9,  -999.0,9,    1.76,2,     -999.0,9,     -999.0,9,     -999.0,9,     -999.0,9,    18.6442,     -999.0,9
  74DI20100106,        A05,     135,          1,         17,         17,2,20100215,       1541,   27.92751,  -13.36915,        356,    63.7,  19.2385,  36.7199,  36.7189,2,   218.9,2,    0.77,2,    0.06,2,  2109.7,2,  2401.0,2,    0.14,2,     -999.0,1,     -999.0,1,     -999.0,1,     -999.0,1,    19.2269,     -999.0,1
  74DI20100106,        A05,     135,          1,         18,         19,2,20100215,       1541,   27.92751,  -13.36915,        356,    63.6,  19.2273,  36.7190,-999.0000,9,   218.9,2,    0.80,2,    0.05,2,  -999.0,9,  -999.0,9,    0.10,2,     -999.0,9,     -999.0,9,     -999.0,9,     -999.0,9,    19.2157,     -999.0,9
  74DI20100106,        A05,     135,          1,         19,         27,2,20100215,       1541,   27.92751,  -13.36915,        356,    63.5,  19.2299,  36.7193,-999.0000,9,  -999.0,9,    0.66,2,    0.00,2,  -999.0,9,  -999.0,9,    0.00,2,     -999.0,9,     -999.0,9,     -999.0,9,     -999.0,9,    19.2184,     -999.0,9
  74DI20100106,        A05,     135,          1,         20,         20,2,20100215,       1541,   27.92751,  -13.36915,        356,    63.4,  19.2361,  36.7199,-999.0000,9,  -999.0,9,    0.84,2,    0.01,2,  -999.0,9,  -999.0,9,    0.00,2,     -999.0,9,     -999.0,9,     -999.0,9,     -999.0,9,    19.2246,     -999.0,9
  74DI20100106,        A05,     135,          1,         21,         21,2,20100215,       1541,   27.92751,  -13.36915,        356,    27.7,  19.5117,  36.7510,  36.7532,2,   223.9,3,    0.78,2,    0.09,2,  -999.0,9,  -999.0,9,    0.81,2,     -999.0,9,     -999.0,9,     -999.0,9,     -999.0,9,    19.5066,     -999.0,9
  74DI20100106,        A05,     135,          1,         22,         22,2,20100215,       1541,   27.92751,  -13.36915,        356,     6.8,  19.5091,  36.7511,  36.7529,2,   222.8,2,    0.75,2,    0.02,2,  2108.0,2,  2400.5,2,    0.23,2,     -999.0,1,     -999.0,1,     -999.0,1,     -999.0,1,    19.5079,     -999.0,1
  74DI20100106,        A05,     135,          1,         23,         23,2,20100215,       1541,   27.92751,  -13.36915,        356,     7.0,  19.5086,  36.7510,-999.0000,9,   222.8,2,    0.78,2,    0.00,2,  -999.0,9,  -999.0,9,    0.02,2,     -999.0,9,     -999.0,9,     -999.0,9,     -999.0,9,    19.5074,     -999.0,9
  74DI20100106,        A05,     135,          1,         24,         24,2,20100215,       1541,   27.92751,  -13.36915,        356,     7.2,  19.5087,  36.7512,-999.0000,9,  -999.0,9,    0.78,2,    0.04,2,  -999.0,9,  -999.0,9,    0.00,2,     -999.0,9,     -999.0,9,     -999.0,9,     -999.0,9,    19.5074,     -999.0,9
  74DI20100106,        A05,     200,          1,          1,          1,2,20100123,       1307,   24.49673,  -57.05057,       6228,  6349.8,   2.1540,  34.8457,  34.8472,2,   242.7,2, -999.00,9, -999.00,9,  -999.0,9,  -999.0,9, -999.00,9,     -999.0,9,     -999.0,9,     -999.0,9,     -999.0,9,     1.5168,     -999.0,9
  74DI20100106,        A05,     200,          1,          2,          2,2,20100123,       1307,   24.49673,  -57.05057,       6228,  6348.4,   2.1539,  34.8457,  34.8453,2,   244.1,3, -999.00,9, -999.00,9,  -999.0,9,  -999.0,9, -999.00,9,     -999.0,9,     -999.0,9,     -999.0,9,     -999.0,9,     1.5170,     -999.0,9
  74DI20100106,        A05,     200,          1,          3,          3,2,20100123,       1307,   24.49673,  -57.05057,       6228,  6349.3,   2.1539,  34.8457,  34.8479,2,   242.6,2, -999.00,9, -999.00,9,  -999.0,9,  -999.0,9, -999.00,9,     -999.0,9,     -999.0,9,     -999.0,9,     -999.0,9,     1.5168,     -999.0,9
  74DI20100106,        A05,     200,          1,          4,          4,2,20100123,       1307,   24.49673,  -57.05057,       6228,  6348.9,   2.1539,  34.8457,  34.8476,2,   242.9,2, -999.00,9, -999.00,9,  -999.0,9,  -999.0,9, -999.00,9,     -999.0,9,     -999.0,9,     -999.0,9,     -999.0,9,     1.5169,     -999.0,9
  74DI20100106,        A05,     200,          1,          5,          5,2,20100123,       1307,   24.49673,  -57.05057,       6228,  6349.4,   2.1539,  34.8457,  34.8464,2,   243.0,2, -999.00,9, -999.00,9,  -999.0,9,  -999.0,9, -999.00,9,     -999.0,9,     -999.0,9,     -999.0,9,     -999.0,9,     1.5168,     -999.0,9
  74DI20100106,        A05,     200,          1,          6,          6,2,20100123,       1307,   24.49673,  -57.05057,       6228,  6348.6,   2.1538,  34.8458,  34.8469,2,   243.1,2, -999.00,9, -999.00,9,  -999.0,9,  -999.0,9, -999.00,9,     -999.0,9,     -999.0,9,     -999.0,9,     -999.0,9,     1.5169,     -999.0,9
  74DI20100106,        A05,     200,          1,          7,          7,2,20100123,       1307,   24.49673,  -57.05057,       6228,  6349.2,   2.1539,  34.8457,  34.8454,2,   243.2,2, -999.00,9, -999.00,9,  -999.0,9,  -999.0,9, -999.00,9,     -999.0,9,     -999.0,9,     -999.0,9,     -999.0,9,     1.5168,     -999.0,9
  74DI20100106,        A05,     200,          1,          8,          8,2,20100123,       1307,   24.49673,  -57.05057,       6228,  6349.3,   2.1540,  34.8456,  34.8471,2,   243.1,2, -999.00,9, -999.00,9,  -999.0,9,  -999.0,9, -999.00,9,     -999.0,9,     -999.0,9,     -999.0,9,     -999.0,9,     1.5169,     -999.0,9
  74DI20100106,        A05,     200,          1,          9,          9,2,20100123,       1307,   24.49673,  -57.05057,       6228,  6348.7,   2.1538,  34.8457,  34.8452,2,   243.2,2, -999.00,9, -999.00,9,  -999.0,9,  -999.0,9, -999.00,9,     -999.0,9,     -999.0,9,     -999.0,9,     -999.0,9,     1.5168,     -999.0,9
  74DI20100106,        A05,     200,          1,         10,         10,2,20100123,       1307,   24.49673,  -57.05057,       6228,  6349.1,   2.1538,  34.8456,  34.8451,2,   242.7,2, -999.00,9, -999.00,9,  -999.0,9,  -999.0,9, -999.00,9,     -999.0,9,     -999.0,9,     -999.0,9,     -999.0,9,     1.5168,     -999.0,9
  74DI20100106,        A05,     200,          1,         11,         11,2,20100123,       1307,   24.49673,  -57.05057,       6228,  6349.3,   2.1538,  34.8457,  34.8459,2,   242.7,2, -999.00,9, -999.00,9,  -999.0,9,  -999.0,9, -999.00,9,     -999.0,9,     -999.0,9,     -999.0,9,     -999.0,9,     1.5167,     -999.0,9
  74DI20100106,        A05,     200,          1,         12,         12,2,20100123,       1307,   24.49673,  -57.05057,       6228,  6348.9,   2.1539,  34.8457,  34.8467,2,   242.6,2, -999.00,9, -999.00,9,  -999.0,9,  -999.0,9, -999.00,9,     -999.0,9,     -999.0,9,     -999.0,9,     -999.0,9,     1.5169,     -999.0,9
  74DI20100106,        A05,     200,          1,         13,         13,2,20100123,       1307,   24.49673,  -57.05057,       6228,  6349.3,   2.1539,  34.8457,  34.8462,2,   241.2,4, -999.00,9, -999.00,9,  -999.0,9,  -999.0,9, -999.00,9,     -999.0,9,     -999.0,9,     -999.0,9,     -999.0,9,     1.5168,     -999.0,9
  74DI20100106,        A05,     200,          1,         14,         14,2,20100123,       1307,   24.49673,  -57.05057,       6228,  6348.6,   2.1538,  34.8457,  34.8490,2,   243.1,2, -999.00,9, -999.00,9,  -999.0,9,  -999.0,9, -999.00,9,     -999.0,9,     -999.0,9,     -999.0,9,     -999.0,9,     1.5168,     -999.0,9
  74DI20100106,        A05,     200,          1,         15,         15,2,20100123,       1307,   24.49673,  -57.05057,       6228,  6349.2,   2.1537,  34.8458,  34.8455,2,   243.7,3, -999.00,9, -999.00,9,  -999.0,9,  -999.0,9, -999.00,9,     -999.0,9,     -999.0,9,     -999.0,9,     -999.0,9,     1.5166,     -999.0,9
  74DI20100106,        A05,     200,          1,         16,         16,2,20100123,       1307,   24.49673,  -57.05057,       6228,  6349.2,   2.1537,  34.8457,  34.8452,2,   243.2,2, -999.00,9, -999.00,9,  -999.0,9,  -999.0,9, -999.00,9,     -999.0,9,     -999.0,9,     -999.0,9,     -999.0,9,     1.5167,     -999.0,9
  74DI20100106,        A05,     200,          1,         17,         17,2,20100123,       1307,   24.49673,  -57.05057,       6228,  6349.2,   2.1537,  34.8458,  34.8461,2,   243.1,2, -999.00,9, -999.00,9,  -999.0,9,  -999.0,9, -999.00,9,     -999.0,9,     -999.0,9,     -999.0,9,     -999.0,9,     1.5167,     -999.0,9
  74DI20100106,        A05,     200,          1,         18,         18,2,20100123,       1307,   24.49673,  -57.05057,       6228,  6348.4,   2.1537,  34.8457,  34.8479,2,   242.8,2, -999.00,9, -999.00,9,  -999.0,9,  -999.0,9, -999.00,9,     -999.0,9,     -999.0,9,     -999.0,9,     -999.0,9,     1.5168,     -999.0,9
  74DI20100106,        A05,     200,          1,         19,         19,2,20100123,       1307,   24.49673,  -57.05057,       6228,  6348.7,   2.1539,  34.8456,  34.8459,2,   243.1,2, -999.00,9, -999.00,9,  -999.0,9,  -999.0,9, -999.00,9,     -999.0,9,     -999.0,9,     -999.0,9,     -999.0,9,     1.5169,     -999.0,9
  74DI20100106,        A05,     200,          1,         20,         20,2,20100123,       1307,   24.49673,  -57.05057,       6228,  6349.8,   2.1539,  34.8456,  34.8460,2,   242.6,2, -999.00,9, -999.00,9,  -999.0,9,  -999.0,9, -999.00,9,     -999.0,9,     -999.0,9,     -999.0,9,     -999.0,9,     1.5167,     -999.0,9
  74DI20100106,        A05,     200,          1,         21,         21,2,20100123,       1307,   24.49673,  -57.05057,       6228,  6348.8,   2.1537,  34.8458,  34.8463,2,   243.3,2, -999.00,9, -999.00,9,  -999.0,9,  -999.0,9, -999.00,9,     -999.0,9,     -999.0,9,     -999.0,9,     -999.0,9,     1.5167,     -999.0,9
  74DI20100106,        A05,     200,          1,         22,         22,2,20100123,       1307,   24.49673,  -57.05057,       6228,  6348.6,   2.1538,  34.8457,  34.8458,2,   247.0,4, -999.00,9, -999.00,9,  -999.0,9,  -999.0,9, -999.00,9,     -999.0,9,     -999.0,9,     -999.0,9,     -999.0,9,     1.5169,     -999.0,9
  74DI20100106,        A05,     200,          1,         23,         23,2,20100123,       1307,   24.49673,  -57.05057,       6228,  6349.0,   2.1537,  34.8458,  34.8452,2,   240.3,3, -999.00,9, -999.00,9,  -999.0,9,  -999.0,9, -999.00,9,     -999.0,9,     -999.0,9,     -999.0,9,     -999.0,9,     1.5167,     -999.0,9
  74DI20100106,        A05,     200,          1,         24,         24,2,20100123,       1307,   24.49673,  -57.05057,       6228,  6349.5,   2.1537,  34.8456,  34.8469,2,   241.0,3, -999.00,9, -999.00,9,  -999.0,9,  -999.0,9, -999.00,9,     -999.0,9,     -999.0,9,     -999.0,9,     -999.0,9,     1.5166,     -999.0,9