BOTTLE,20200115CCHSIOCBG
EXPOCODE,SECT_ID,STNNBR,CASTNO,SAMPNO,BTLNBR,BTLNBR_FLAG_W,DATE,TIME,LATITUDE,LONGITUDE,DEPTH,CTDPRS,CTDTMP,CTDSAL,SALNTY,SALNTY_FLAG_W,OXYGEN,OXYGEN_FLAG_W,SILCAT,SILCAT_FLAG_W,PHSPHT,PHSPHT_FLAG_W,TCARBN,TCARBN_FLAG_W,ALKALI,ALKALI_FLAG_W,NO2+NO3,NO2+NO3_FLAG_W,CFC-11,CFC-11_FLAG_W,CFC-12,CFC-12_FLAG_W,CFC113,CFC113_FLAG_W,CCL4,CCL4_FLAG_W,THETA,SF6,SF6_FLAG_W
,,,,,,,,,,,METERS,DBAR,ITS-90,PSS-78,PSS-78,,UMOL/KG,,UMOL/KG,,UMOL/KG,,UMOL/KG,,UMOL/KG,,UMOL/KG,,PMOL/L,,PMOL/L,,PMOL/L,,PMOL/L,,ITS-90,FMOL/L,
  74DI20100106,        A05,      33,          1,          1,          1,2,20100113,       0805,   26.49803,  -74.51690,       4496,  4561.1,   2.1748,  34.8766,  34.8768,2,   253.8,2,   41.73,2,    1.41,2,  2188.5,2,  2335.3,2,   20.93,2,     -999.0,1,     -999.0,1,     -999.0,1,     -999.0,1,     1.7703,     -999.0,1
  74DI20100106,        A05,      33,          1,          2,          2,2,20100113,       0805,   26.49803,  -74.51690,       4496,  4328.3,   2.1994,  34.8830,  34.8829,2,   258.9,2,   36.59,2,    1.34,2,  2181.2,2,  2329.5,2,   20.30,2,     -999.0,1,     -999.0,1,     -999.0,1,     -999.0,1,     1.8217,     -999.0,1
  74DI20100106,        A05,      33,          1,          3,          3,2,20100113,       0805,   26.49803,  -74.51690,       4496,  3815.2,   2.2594,  34.8937,  34.8937,2,   263.9,2,   30.61,2,    1.27,2,  2173.5,2,  2321.5,2,   19.44,2,     -999.0,1,     -999.0,1,     -999.0,1,     -999.0,1,     1.9387,     -999.0,1
  74DI20100106,        A05,      33,          1,          4,          4,2,20100113,       0805,   26.49803,  -74.51690,       4496,  3303.8,   2.4329,  34.9080,  34.9080,2,   265.2,2,   25.37,2,    1.22,2,  2168.2,2,  2316.6,2,   18.52,2,     -999.0,1,     -999.0,1,     -999.0,1,     -999.0,1,     2.1631,     -999.0,1
  74DI20100106,        A05,      33,          1,          5,          5,2,20100113,       0805,   26.49803,  -74.51690,       4496,  3050.3,   2.6333,  34.9206,  34.9204,2,   264.0,2,   23.22,2,    1.22,2,  -999.0,9,  -999.0,9,   18.85,2,     -999.0,1,     -999.0,1,     -999.0,1,     -999.0,1,     2.3854,     -999.0,1
  74DI20100106,        A05,      33,          1,          6,          6,2,20100113,       0805,   26.49803,  -74.51690,       4496,  2794.5,   2.8712,  34.9345,  34.9341,2,   262.2,2,   21.67,2,    1.24,2,  2164.4,2,  2313.8,2,   18.80,2,     -999.0,1,     -999.0,1,     -999.0,1,     -999.0,1,     2.6444,     -999.0,1
  74DI20100106,        A05,      33,          1,          7,          7,2,20100113,       0805,   26.49803,  -74.51690,       4496,  2539.2,   3.1145,  34.9484,  34.9482,2,   260.5,2,   20.23,2,    1.23,2,  -999.0,9,  -999.0,9,   19.26,2,     -999.0,1,     -999.0,1,     -999.0,1,     -999.0,1,     2.9085,     -999.0,1
  74DI20100106,        A05,      33,          1,          8,          8,2,20100113,       0805,   26.49803,  -74.51690,       4496,  2285.9,   3.3673,  34.9599,  34.9596,2,   259.4,2,   18.25,2,    1.23,2,  2166.2,2,  2312.1,2,   19.27,2,     -999.0,1,     -999.0,1,     -999.0,1,     -999.0,1,     3.1818,     -999.0,1
  74DI20100106,        A05,      33,          1,          9,          9,2,20100113,       0805,   26.49803,  -74.51690,       4496,  2031.2,   3.5929,  34.9648,  34.9647,2,   260.0,2,   16.00,2,    1.21,2,  -999.0,9,  -999.0,9,   19.01,2,     -999.0,9,     -999.0,9,     -999.0,9,     -999.0,9,     3.4284,     -999.0,9
  74DI20100106,        A05,      33,          1,         10,         10,2,20100113,       0805,   26.49803,  -74.51690,       4496,  1777.7,   3.8708,  34.9750,  34.9745,2,   257.7,2,   14.34,2,    1.21,2,  2169.0,2,  2309.4,2,   19.01,2,     -999.0,1,     -999.0,1,     -999.0,1,     -999.0,1,     3.7265,     -999.0,1
  74DI20100106,        A05,      33,          1,         11,         11,10,20100113,       0805,   26.49803,  -74.51690,       4496,  1524.2,   4.2172,  34.9965,  34.9958,2,   252.6,2,   13.45,2,    1.22,2,  -999.0,9,  -999.0,9,   18.94,2,     -999.0,1,     -999.0,1,     -999.0,1,     -999.0,1,     4.0922,     -999.0,1
  74DI20100106,        A05,      33,          1,         12,         12,10,20100113,       0805,   26.49803,  -74.51690,       4496,  1269.7,   4.9038,  35.0399,  35.0400,2,   236.6,2,   13.31,2,    1.27,2,  2175.7,2,  2312.8,2,   19.94,2,     -999.0,1,     -999.0,1,     -999.0,1,     -999.0,1,     4.7954,     -999.0,1
  74DI20100106,        A05,      33,          1,         13,         13,2,20100113,       0805,   26.49803,  -74.51690,       4496,  1017.3,   6.4178,  35.0862,  35.0864,2,   190.9,2,   15.33,2,    1.46,2,  -999.0,9,  -999.0,9,   23.17,2,     -999.0,1,     -999.0,1,     -999.0,1,     -999.0,1,     6.3212,     -999.0,1
  74DI20100106,        A05,      33,          1,         14,         14,2,20100113,       0805,   26.49803,  -74.51690,       4496,   890.4,   7.7266,  35.1118,  35.1146,2,   155.3,2,   16.73,2,    1.62,2,  2195.2,2,  2317.2,2,   26.44,2,     -999.0,1,     -999.0,1,     -999.0,1,     -999.0,1,     7.6341,     -999.0,1
  74DI20100106,        A05,      33,          1,         15,         15,10,20100113,       0805,   26.49803,  -74.51690,       4496,   765.8,  10.0288,  35.3175,  35.3154,2,   143.8,2,   12.89,2,    1.46,2,  2183.2,2,  2323.8,2,   23.96,2,     -999.0,1,     -999.0,1,     -999.0,1,     -999.0,1,     9.9369,     -999.0,1
  74DI20100106,        A05,      33,          1,         16,         16,10,20100113,       0805,   26.49803,  -74.51690,       4496,   639.7,  12.6139,  35.6456,  35.6420,2,   150.4,2,    8.01,2,    1.10,2,  2166.8,2,  2336.7,2,   19.05,2,     -999.0,1,     -999.0,1,     -999.0,1,     -999.0,1,    12.5256,     -999.0,1
  74DI20100106,        A05,      33,          1,         17,         17,2,20100113,       0805,   26.49803,  -74.51690,       4496,   513.8,  15.1580,  36.0338,  36.0328,2,   160.6,2,    4.49,2,    0.74,2,  2151.4,2,  2357.2,2,   13.19,2,     -999.0,1,     -999.0,1,     -999.0,1,     -999.0,1,    15.0782,     -999.0,1
  74DI20100106,        A05,      33,          1,         18,         18,2,20100113,       0805,   26.49803,  -74.51690,       4496,   387.5,  17.4328,  36.4402,  36.4392,2,   188.7,2,    2.08,2,    0.31,2,  -999.0,9,  -999.0,9,    6.61,2,     -999.0,9,     -999.0,9,     -999.0,9,     -999.0,9,    17.3668,     -999.0,9
  74DI20100106,        A05,      33,          1,         19,         19,10,20100113,       0805,   26.49803,  -74.51690,       4496,   251.5,  18.6193,  36.6073,  36.6084,2,   180.0,2,    1.46,2,    0.18,2,  2121.6,2,  2388.3,2,    4.56,2,     -999.0,1,     -999.0,1,     -999.0,9,     -999.0,9,    18.5746,     -999.0,1
  74DI20100106,        A05,      33,          1,         20,         20,2,20100113,       0805,   26.49803,  -74.51690,       4496,   176.3,  20.1434,  36.7407,  36.7393,2,   181.9,2,    1.18,2,    0.01,2,  -999.0,9,  -999.0,9,    1.48,2,     -999.0,9,     -999.0,9,     -999.0,9,     -999.0,9,    20.1103,     -999.0,9
  74DI20100106,        A05,      33,          1,         21,         21,2,20100113,       0805,   26.49803,  -74.51690,       4496,   101.6,  23.2931,  36.8403,  36.8391,2,   195.5,2,    0.92,2,    0.00,2,  2077.5,2,  2402.4,2,    0.25,2,     -999.0,1,     -999.0,1,     -999.0,9,     -999.0,9,    23.2720,     -999.0,1
  74DI20100106,        A05,      33,          1,         22,         22,2,20100113,       0805,   26.49803,  -74.51690,       4496,    51.1,  24.1816,  36.7575,  36.7569,2,   203.8,2,    0.94,2,    0.00,2,  2046.7,2,  2395.9,2,    0.00,2,     -999.0,1,     -999.0,1,     -999.0,9,     -999.0,9,    24.1707,     -999.0,9
  74DI20100106,        A05,      33,          1,         23,         23,2,20100113,       0805,   26.49803,  -74.51690,       4496,    25.2,  24.1872,  36.7577,-999.0000,9,  -999.0,9, -999.00,9, -999.00,9,  -999.0,9,  -999.0,9, -999.00,9,     -999.0,9,     -999.0,9,     -999.0,9,     -999.0,9,    24.1818,     -999.0,9
  74DI20100106,        A05,      33,          1,         24,         24,10,20100113,       0805,   26.49803,  -74.51690,       4496,     4.2,  24.1668,  36.7586,  36.7577,2,   204.0,2,    0.90,2,    0.00,2,  2048.7,2,  2396.4,2,    0.00,2,     -999.0,9,     -999.0,9,     -999.0,9,     -999.0,9,    24.1659,     -999.0,9
  74DI20100106,        A05,      34,          1,          1,          1,2,20100113,       1342,   26.49805,  -74.24194,       4542,  4608.6,   2.1572,  34.8738,  34.8742,2,   253.1,2,   44.07,2,    1.42,2,  2188.7,2,  2337.3,2,   21.60,2,     -999.0,9,     -999.0,9,     -999.0,9,     -999.0,9,     1.7476,     -999.0,9
  74DI20100106,        A05,      34,          1,          2,          2,2,20100113,       1342,   26.49805,  -74.24194,       4542,  4607.7,   2.1572,  34.8738,  34.8735,2,   254.1,2,   43.72,2,    1.43,2,  -999.0,9,  -999.0,9,   21.78,2,     -999.0,9,     -999.0,9,     -999.0,9,     -999.0,9,     1.7477,     -999.0,9
  74DI20100106,        A05,      34,          1,          3,          3,2,20100113,       1342,   26.49805,  -74.24194,       4542,  4069.1,   2.2266,  34.8885,  34.8875,2,   261.4,2,   33.65,2,    1.31,2,  -999.0,9,  -999.0,9,   20.06,2,     -999.0,9,     -999.0,9,     -999.0,9,     -999.0,9,     1.8781,     -999.0,9
  74DI20100106,        A05,      34,          1,          4,          4,3,20100113,       1342,   26.49805,  -74.24194,       4542,  3554.8,   2.3252,  34.8995,-999.0000,9,  -999.0,9, -999.00,9, -999.00,9,  -999.0,9,  -999.0,9, -999.00,9,     -999.0,9,     -999.0,9,     -999.0,9,     -999.0,9,     2.0313,     -999.0,9
  74DI20100106,        A05,      34,          1,          5,          5,2,20100113,       1342,   26.49805,  -74.24194,       4542,  3046.3,   2.6629,  34.9231,  34.9232,2,   264.2,2,   23.37,2,    1.23,2,  -999.0,9,  -999.0,9,   18.91,2,     -999.0,9,     -999.0,9,     -999.0,9,     -999.0,9,     2.4147,     -999.0,9
  74DI20100106,        A05,      34,          1,          6,          6,2,20100113,       1342,   26.49805,  -74.24194,       4542,  2791.8,   2.8610,  34.9325,  34.9324,2,   262.5,2,   21.50,2,    1.22,2,  -999.0,9,  -999.0,9,   18.87,2,     -999.0,9,     -999.0,9,     -999.0,9,     -999.0,9,     2.6347,     -999.0,9
  74DI20100106,        A05,      34,          1,          7,          7,2,20100113,       1342,   26.49805,  -74.24194,       4542,  2539.4,   3.1284,  34.9492,  34.9487,2,   259.7,2,   20.34,2,    1.23,2,  -999.0,9,  -999.0,9,   18.81,2,     -999.0,9,     -999.0,9,     -999.0,9,     -999.0,9,     2.9222,     -999.0,9
  74DI20100106,        A05,      34,          1,          8,          8,2,20100113,       1342,   26.49805,  -74.24194,       4542,  2284.6,   3.3623,  34.9587,  34.9578,2,   259.7,2,   18.16,2,    1.22,2,  -999.0,9,  -999.0,9,   18.87,2,     -999.0,9,     -999.0,9,     -999.0,9,     -999.0,9,     3.1770,     -999.0,9
  74DI20100106,        A05,      34,          1,          9,          9,2,20100113,       1342,   26.49805,  -74.24194,       4542,  2030.4,   3.5787,  34.9637,  34.9632,2,   260.3,2,   15.90,2,    1.21,2,  -999.0,9,  -999.0,9,   18.56,2,     -999.0,9,     -999.0,9,     -999.0,9,     -999.0,9,     3.4145,     -999.0,9
  74DI20100106,        A05,      34,          1,         10,         10,2,20100113,       1342,   26.49805,  -74.24194,       4542,  1774.5,   3.8900,  34.9817,  34.9804,2,   257.0,2,   14.64,2,    1.21,2,  -999.0,9,  -999.0,9,   19.07,2,     -999.0,1,     -999.0,1,     -999.0,1,     -999.0,1,     3.7457,     -999.0,1
  74DI20100106,        A05,      34,          1,         11,         11,10,20100113,       1342,   26.49805,  -74.24194,       4542,  1524.6,   4.2514,  35.0027,  35.0029,2,   250.9,2,   13.82,2,    1.24,2,  -999.0,9,  -999.0,9,   19.40,2,     -999.0,9,     -999.0,9,     -999.0,9,     -999.0,9,     4.1260,     -999.0,9
  74DI20100106,        A05,      34,          1,         12,         12,2,20100113,       1342,   26.49805,  -74.24194,       4542,  1272.3,   4.8429,  35.0345,  35.0342,2,   237.9,2,   13.43,2,    1.26,2,  -999.0,9,  -999.0,9,   19.51,2,     -999.0,9,     -999.0,9,     -999.0,9,     -999.0,9,     4.7349,     -999.0,9
  74DI20100106,        A05,      34,          1,         13,         13,2,20100113,       1342,   26.49805,  -74.24194,       4542,  1008.7,   6.5469,  35.0924,  35.0929,2,   185.3,2,   16.15,2,    1.52,2,  -999.0,9,  -999.0,9,   24.01,2,     -999.0,9,     -999.0,9,     -999.0,9,     -999.0,9,     6.4501,     -999.0,9
  74DI20100106,        A05,      34,          1,         14,         14,2,20100113,       1342,   26.49805,  -74.24194,       4542,   882.4,   8.0265,  35.1260,  35.1250,2,   151.2,2,   16.50,2,    1.63,2,  -999.0,9,  -999.0,9,   26.35,2,     -999.0,9,     -999.0,9,     -999.0,9,     -999.0,9,     7.9330,     -999.0,9
  74DI20100106,        A05,      34,          1,         15,         15,10,20100113,       1342,   26.49805,  -74.24194,       4542,   756.1,  10.2458,  35.3371,  35.3373,2,  -999.0,9,   12.63,2,    1.45,2,  -999.0,9,  -999.0,9,   23.95,2,     -999.0,9,     -999.0,9,     -999.0,9,     -999.0,9,    10.1538,     -999.0,9
  74DI20100106,        A05,      34,          1,         16,         16,2,20100113,       1342,   26.49805,  -74.24194,       4542,   756.4,  10.2429,  35.3365,-999.0000,9,   141.5,2, -999.00,9, -999.00,9,  -999.0,9,  -999.0,9, -999.00,9,     -999.0,9,     -999.0,9,     -999.0,9,     -999.0,9,    10.1510,     -999.0,9
  74DI20100106,        A05,      34,          1,         17,         17,10,20100113,       1342,   26.49805,  -74.24194,       4542,   629.9,  13.0891,  35.7141,  35.7149,2,   153.4,2,    7.20,2,    1.02,2,  -999.0,9,  -999.0,9,   17.59,2,     -999.0,9,     -999.0,9,     -999.0,9,     -999.0,9,    13.0001,     -999.0,9
  74DI20100106,        A05,      34,          1,         18,         18,10,20100113,       1342,   26.49805,  -74.24194,       4542,   504.1,  15.8343,  36.1528,  36.1528,2,   172.2,2,    3.66,2,    0.60,2,  -999.0,9,  -999.0,9,   10.95,2,     -999.0,9,     -999.0,9,     -999.0,9,     -999.0,9,    15.7537,     -999.0,9
  74DI20100106,        A05,      34,          1,         19,         19,2,20100113,       1342,   26.49805,  -74.24194,       4542,   378.7,  17.7040,  36.4861,  36.4844,2,   188.3,2,    1.90,2,    0.30,2,  -999.0,9,  -999.0,9,    5.96,2,     -999.0,9,     -999.0,9,     -999.0,9,     -999.0,9,    17.6387,     -999.0,9
  74DI20100106,        A05,      34,          1,         20,         20,10,20100113,       1342,   26.49805,  -74.24194,       4542,   251.9,  18.8023,  36.6267,  36.6270,2,   181.0,2,    1.31,2,    0.14,2,  -999.0,9,  -999.0,9,    3.79,2,     -999.0,9,     -999.0,9,     -999.0,9,     -999.0,9,    18.7572,     -999.0,9
  74DI20100106,        A05,      34,          1,         21,         21,2,20100113,       1342,   26.49805,  -74.24194,       4542,   177.3,  20.5729,  36.7616,  36.7620,2,   188.5,2,    0.86,2,    0.00,2,  -999.0,9,  -999.0,9,    0.80,2,     -999.0,9,     -999.0,9,     -999.0,9,     -999.0,9,    20.5391,     -999.0,9
  74DI20100106,        A05,      34,          1,         22,         22,2,20100113,       1342,   26.49805,  -74.24194,       4542,   101.8,  23.7102,  36.8452,  36.8440,2,   194.8,2,    0.88,2,    0.00,2,  -999.0,9,  -999.0,9,    0.19,2,     -999.0,9,     -999.0,9,     -999.0,9,     -999.0,9,    23.6888,     -999.0,9
  74DI20100106,        A05,      34,          1,         23,         23,3,20100113,       1342,   26.49805,  -74.24194,       4542,    51.0,  24.3590,  36.7553,-999.0000,9,  -999.0,9, -999.00,9, -999.00,9,  -999.0,9,  -999.0,9, -999.00,9,     -999.0,9,     -999.0,9,     -999.0,9,     -999.0,9,    24.3480,     -999.0,9
  74DI20100106,        A05,      34,          1,         24,         24,10,20100113,       1342,   26.49805,  -74.24194,       4542,    11.1,  24.3517,  36.7560,  36.7561,2,   202.7,2,    0.96,2,    0.00,2,  -999.0,9,  -999.0,9,    0.00,2,     -999.0,9,     -999.0,9,     -999.0,9,     -999.0,9,    24.3493,     -999.0,9