BOTTLE,20200115CCHSIOCBG
EXPOCODE,SECT_ID,STNNBR,CASTNO,SAMPNO,BTLNBR,BTLNBR_FLAG_W,DATE,TIME,LATITUDE,LONGITUDE,DEPTH,CTDPRS,CTDTMP,CTDSAL,SALNTY,SALNTY_FLAG_W,OXYGEN,OXYGEN_FLAG_W,SILCAT,SILCAT_FLAG_W,PHSPHT,PHSPHT_FLAG_W,TCARBN,TCARBN_FLAG_W,ALKALI,ALKALI_FLAG_W,NO2+NO3,NO2+NO3_FLAG_W,CFC-11,CFC-11_FLAG_W,CFC-12,CFC-12_FLAG_W,CFC113,CFC113_FLAG_W,CCL4,CCL4_FLAG_W,THETA,SF6,SF6_FLAG_W
,,,,,,,,,,,METERS,DBAR,ITS-90,PSS-78,PSS-78,,UMOL/KG,,UMOL/KG,,UMOL/KG,,UMOL/KG,,UMOL/KG,,UMOL/KG,,PMOL/L,,PMOL/L,,PMOL/L,,PMOL/L,,ITS-90,FMOL/L,
  74DI20100106,        A05,     125,          1,          1,         25,2,20100213,       1319,   26.37640,  -17.95900,       3639,  3682.8,   2.4454,  34.9025,  34.9038,2,   226.4,3,   47.96,2,    1.53,2,  -999.0,9,  -999.0,9,   23.25,2,     -999.0,1,     -999.0,1,     -999.0,1,     -999.0,1,     2.1344,     -999.0,1
  74DI20100106,        A05,     125,          1,          2,          2,2,20100213,       1319,   26.37640,  -17.95900,       3639,  3681.8,   2.4453,  34.9025,  34.9029,2,   228.1,2,   48.16,2,    1.53,2,  -999.0,9,  -999.0,9,   23.21,2,     -999.0,1,     -999.0,1,     -999.0,1,     -999.0,1,     2.1344,     -999.0,1
  74DI20100106,        A05,     125,          1,          3,          3,3,20100213,       1319,   26.37640,  -17.95900,       3639,  3277.9,   2.6408,  34.9230,-999.0000,9,  -999.0,9, -999.00,9, -999.00,9,  -999.0,9,  -999.0,9, -999.00,9,     -999.0,9,     -999.0,9,     -999.0,9,     -999.0,9,     2.3688,     -999.0,9
  74DI20100106,        A05,     125,          1,          4,          4,2,20100213,       1319,   26.37640,  -17.95900,       3639,  2784.3,   2.9588,  34.9558,  34.9545,2,   224.9,2,   38.22,2,    1.49,2,  2196.8,2,  2344.3,2,   22.75,2,     -999.0,1,     -999.0,1,     -999.0,1,     -999.0,1,     2.7312,     -999.0,1
  74DI20100106,        A05,     125,          1,          5,          5,2,20100213,       1319,   26.37640,  -17.95900,       3639,  2529.7,   3.2412,  34.9837,  34.9837,2,   222.2,2,   34.95,2,    1.48,2,  -999.0,9,  -999.0,9,   22.48,2,     -999.0,1,     -999.0,1,     -999.0,1,     -999.0,1,     3.0337,     -999.0,1
  74DI20100106,        A05,     125,          1,          6,          6,2,20100213,       1319,   26.37640,  -17.95900,       3639,  2278.6,   3.6257,  35.0219,  35.0217,2,   220.1,2,   31.11,2,    1.46,2,  2190.1,2,  2335.1,2,   22.29,2,     -999.0,9,     -999.0,9,     -999.0,9,     -999.0,9,     3.4363,     -999.0,9
  74DI20100106,        A05,     125,          1,          7,          7,2,20100213,       1319,   26.37640,  -17.95900,       3639,  2023.8,   4.0919,  35.0710,  35.0710,2,   214.4,2,   27.79,2,    1.45,2,  -999.0,9,  -999.0,9,   22.11,2,     -999.0,1,     -999.0,1,     -999.0,1,     -999.0,1,     3.9204,     -999.0,1
  74DI20100106,        A05,     125,          1,          8,          8,2,20100213,       1319,   26.37640,  -17.95900,       3639,  1772.6,   4.6749,  35.1251,  35.1248,2,   206.6,2,   24.50,2,    1.45,2,  2188.6,2,  2333.3,2,   22.28,2,     -999.0,1,     -999.0,1,     -999.0,1,     -999.0,1,     4.5200,     -999.0,1
  74DI20100106,        A05,     125,          1,          9,          9,2,20100213,       1319,   26.37640,  -17.95900,       3639,  1519.2,   5.5014,  35.1970,  35.1979,2,   193.0,2,   21.71,2,    1.48,2,  -999.0,9,  -999.0,9,   23.17,2,     -999.0,1,     -999.0,1,     -999.0,1,     -999.0,1,     5.3619,     -999.0,1
  74DI20100106,        A05,     125,          1,         10,         10,2,20100213,       1319,   26.37640,  -17.95900,       3639,  1267.5,   6.8513,  35.3110,  35.3127,2,   173.5,2,   18.81,2,    1.49,2,  2197.7,2,  2334.8,2,   23.39,2,     -999.0,1,     -999.0,1,     -999.0,1,     -999.0,1,     6.7243,     -999.0,1
  74DI20100106,        A05,     125,          1,         11,         11,2,20100213,       1319,   26.37640,  -17.95900,       3639,  1008.2,   7.6444,  35.2446,  35.2457,2,   143.2,2,   18.47,2,    1.68,2,  -999.0,9,  -999.0,9,   26.34,2,     -999.0,1,     -999.0,1,     -999.0,1,     -999.0,1,     7.5394,     -999.0,1
  74DI20100106,        A05,     125,          1,         12,         12,2,20100213,       1319,   26.37640,  -17.95900,       3639,   885.6,   8.4509,  35.2856,  35.2851,2,   133.3,2,   16.74,2,    1.66,2,  2200.4,2,  2336.3,3,   26.31,2,     -999.0,1,     -999.0,1,     -999.0,1,     -999.0,1,     8.3540,     -999.0,1
  74DI20100106,        A05,     125,          1,         13,         13,2,20100213,       1319,   26.37640,  -17.95900,       3639,   760.3,   9.5341,  35.3640,  35.3648,2,   130.4,2,   13.96,2,    1.55,2,  -999.0,9,  -999.0,9,   25.22,2,     -999.0,1,     -999.0,1,     -999.0,1,     -999.0,1,     9.4455,     -999.0,1
  74DI20100106,        A05,     125,          1,         14,         14,2,20100213,       1319,   26.37640,  -17.95900,       3639,   630.6,  10.8561,  35.5070,  35.5065,2,   142.5,2,   10.13,2,    1.29,2,  2187.5,2,  2334.9,2,   21.70,2,     -999.0,9,     -999.0,9,     -999.0,9,     -999.0,9,    10.7770,     -999.0,9
  74DI20100106,        A05,     125,          1,         15,         26,2,20100213,       1319,   26.37640,  -17.95900,       3639,   506.5,  12.4013,  35.6934,  35.6916,2,   162.4,2,    6.50,2,    0.97,2,  -999.0,9,  -999.0,9,   16.47,2,     -999.0,1,     -999.0,1,     -999.0,9,     -999.0,9,    12.3325,     -999.0,1
  74DI20100106,        A05,     125,          1,         16,         16,2,20100213,       1319,   26.37640,  -17.95900,       3639,   376.0,  13.9599,  35.9188,  35.9170,2,   178.7,2,    4.24,2,    0.68,2,  -999.0,9,  -999.0,9,   11.80,2,     -999.0,9,     -999.0,9,     -999.0,9,     -999.0,9,    13.9049,     -999.0,9
  74DI20100106,        A05,     125,          1,         17,         17,2,20100213,       1319,   26.37640,  -17.95900,       3639,   249.6,  16.1115,  36.2875,  36.2866,2,   184.6,2,    2.68,2,    0.44,2,  2138.5,2,  2371.3,2,    7.79,2,     -999.0,1,     -999.0,1,     -999.0,9,     -999.0,9,    16.0714,     -999.0,1
  74DI20100106,        A05,     125,          1,         18,         19,2,20100213,       1319,   26.37640,  -17.95900,       3639,   175.2,  17.6186,  36.5871,  36.5881,2,   190.4,2,    1.76,2,    0.27,2,  2126.8,2,  2399.6,2,    4.81,2,     -999.0,9,     -999.0,9,     -999.0,9,     -999.0,9,    17.5886,     -999.0,9
  74DI20100106,        A05,     125,          1,         19,         27,2,20100213,       1319,   26.37640,  -17.95900,       3639,    84.0,  19.6676,  36.7311,  36.7385,2,   199.5,2,    1.34,2,    0.15,2,  -999.0,9,  -999.0,9,    2.29,2,     -999.0,1,     -999.0,1,     -999.0,9,     -999.0,9,    19.6522,     -999.0,1
  74DI20100106,        A05,     125,          1,         20,         20,3,20100213,       1319,   26.37640,  -17.95900,       3639,    74.1,  20.5355,  36.8462,-999.0000,9,  -999.0,9, -999.00,9, -999.00,9,  -999.0,9,  -999.0,9, -999.00,9,     -999.0,9,     -999.0,9,     -999.0,9,     -999.0,9,    20.5214,     -999.0,9
  74DI20100106,        A05,     125,          1,         21,         21,2,20100213,       1319,   26.37640,  -17.95900,       3639,    50.9,  21.2659,  36.9750,  36.9777,2,   218.0,2,    0.77,2,    0.00,2,  -999.0,9,  -999.0,9,    0.07,2,     -999.0,1,     -999.0,1,     -999.0,9,     -999.0,9,    21.2560,     -999.0,1
  74DI20100106,        A05,     125,          1,         22,         22,2,20100213,       1319,   26.37640,  -17.95900,       3639,    25.6,  21.2955,  36.9807,  36.9820,2,   216.8,2,    0.79,2,    0.00,2,  2108.2,2,  2416.4,2,    0.07,2,     -999.0,9,     -999.0,9,     -999.0,9,     -999.0,9,    21.2905,     -999.0,9
  74DI20100106,        A05,     125,          1,         23,         23,2,20100213,       1319,   26.37640,  -17.95900,       3639,     4.9,  21.3966,  36.9872,  36.9875,2,   215.8,2,    0.79,2,    0.00,2,  -999.0,9,  -999.0,9,    0.02,2,     -999.0,1,     -999.0,1,     -999.0,1,     -999.0,1,    21.3957,     -999.0,1
  74DI20100106,        A05,     125,          1,         24,         24,2,20100213,       1319,   26.37640,  -17.95900,       3639,     5.3,  21.3927,  36.9873,  36.9887,2,   215.8,2,    0.78,2,    0.00,2,  2108.6,2,  2417.0,2,    0.02,2,     -999.0,9,     -999.0,9,     -999.0,9,     -999.0,9,    21.3916,     -999.0,9
  74DI20100106,        A05,     126,          1,          1,         25,2,20100213,       1949,   26.57626,  -17.33438,       3628,  3670.9,   2.4568,  34.9036,  34.9054,2,   227.7,2,   49.12,2,    1.53,2,  -999.0,9,  -999.0,9,   23.59,2,     -999.0,9,     -999.0,9,     -999.0,9,     -999.0,9,     2.1468,     -999.0,9
  74DI20100106,        A05,     126,          1,          2,          2,2,20100213,       1949,   26.57626,  -17.33438,       3628,  3671.8,   2.4567,  34.9037,  34.9048,2,   228.0,2,   49.12,2,    1.53,2,  -999.0,9,  -999.0,9,   23.64,2,     -999.0,9,     -999.0,9,     -999.0,9,     -999.0,9,     2.1466,     -999.0,9
  74DI20100106,        A05,     126,          1,          3,          3,2,20100213,       1949,   26.57626,  -17.33438,       3628,  3553.8,   2.4546,  34.9047,  34.9058,2,   227.5,2,   49.18,2,    1.53,2,  2216.5,2,  2363.8,2,   23.55,2,     -999.0,9,     -999.0,9,     -999.0,9,     -999.0,9,     2.1575,     -999.0,9
  74DI20100106,        A05,     126,          1,          4,          4,2,20100213,       1949,   26.57626,  -17.33438,       3628,  3044.1,   2.7183,  34.9324,  34.9328,2,   225.4,2,   42.77,2,    1.52,2,  2209.1,2,  2353.5,2,   23.12,2,     -999.0,9,     -999.0,9,     -999.0,9,     -999.0,9,     2.4691,     -999.0,9
  74DI20100106,        A05,     126,          1,          5,          5,2,20100213,       1949,   26.57626,  -17.33438,       3628,  2536.1,   3.1929,  34.9780,  34.9780,2,   222.2,2,   36.05,2,    1.49,2,  -999.0,9,  -999.0,9,   22.59,2,     -999.0,9,     -999.0,9,     -999.0,9,     -999.0,9,     2.9856,     -999.0,9
  74DI20100106,        A05,     126,          1,          6,          6,2,20100213,       1949,   26.57626,  -17.33438,       3628,  2281.0,   3.5260,  35.0134,  35.0138,2,   220.1,2,   32.89,2,    1.48,2,  -999.0,9,  -999.0,9,   22.81,2,     -999.0,9,     -999.0,9,     -999.0,9,     -999.0,9,     3.3382,     -999.0,9
  74DI20100106,        A05,     126,          1,          7,          7,2,20100213,       1949,   26.57626,  -17.33438,       3628,  2025.8,   3.9386,  35.0542,  35.0540,2,   216.4,2,   29.10,2,    1.46,2,  -999.0,9,  -999.0,9,   22.49,2,     -999.0,9,     -999.0,9,     -999.0,9,     -999.0,9,     3.7692,     -999.0,9
  74DI20100106,        A05,     126,          1,          8,          8,2,20100213,       1949,   26.57626,  -17.33438,       3628,  1772.4,   4.6092,  35.1190,  35.1208,2,   208.0,2,   25.22,2,    1.47,2,  -999.0,9,  -999.0,9,   22.62,2,     -999.0,9,     -999.0,9,     -999.0,9,     -999.0,9,     4.4553,     -999.0,9
  74DI20100106,        A05,     126,          1,          9,          9,2,20100213,       1949,   26.57626,  -17.33438,       3628,  1519.8,   5.7756,  35.2630,  35.2641,2,   198.0,2,   20.93,2,    1.40,2,  -999.0,9,  -999.0,9,   22.06,2,     -999.0,9,     -999.0,9,     -999.0,9,     -999.0,9,     5.6329,     -999.0,9
  74DI20100106,        A05,     126,          1,         10,         10,2,20100213,       1949,   26.57626,  -17.33438,       3628,  1267.0,   6.9665,  35.3564,  35.3579,2,   177.4,2,   18.28,2,    1.44,2,  -999.0,9,  -999.0,9,   22.96,2,     -999.0,9,     -999.0,9,     -999.0,9,     -999.0,9,     6.8384,     -999.0,9
  74DI20100106,        A05,     126,          1,         11,         11,2,20100213,       1949,   26.57626,  -17.33438,       3628,  1014.5,   7.5478,  35.2384,  35.2399,2,   143.5,2,   18.79,2,    1.70,2,  -999.0,9,  -999.0,9,   27.20,2,     -999.0,9,     -999.0,9,     -999.0,9,     -999.0,9,     7.4428,     -999.0,9
  74DI20100106,        A05,     126,          1,         12,         12,2,20100213,       1949,   26.57626,  -17.33438,       3628,   884.1,   7.9349,  35.1882,  35.1870,2,   124.3,2,   18.96,2,    1.81,2,  -999.0,9,  -999.0,9,   29.28,2,     -999.0,9,     -999.0,9,     -999.0,9,     -999.0,9,     7.8416,     -999.0,9
  74DI20100106,        A05,     126,          1,         13,         13,2,20100213,       1949,   26.57626,  -17.33438,       3628,   757.0,   9.3344,  35.3387,  35.3281,2,   125.9,2,   15.11,2,    1.65,2,  -999.0,9,  -999.0,9,   26.63,2,     -999.0,9,     -999.0,9,     -999.0,9,     -999.0,9,     9.2473,     -999.0,9
  74DI20100106,        A05,     126,          1,         14,         14,2,20100213,       1949,   26.57626,  -17.33438,       3628,   633.2,  10.6529,  35.4709,  35.4703,2,   132.6,2,   11.11,2,    1.39,2,  -999.0,9,  -999.0,9,   23.22,2,     -999.0,9,     -999.0,9,     -999.0,9,     -999.0,9,    10.5744,     -999.0,9
  74DI20100106,        A05,     126,          1,         15,         26,2,20100213,       1949,   26.57626,  -17.33438,       3628,   505.3,  12.0502,  35.6474,  35.6429,2,   161.3,2,    6.98,2,    1.01,2,  -999.0,9,  -999.0,9,   17.72,2,     -999.0,9,     -999.0,9,     -999.0,9,     -999.0,9,    11.9828,     -999.0,9
  74DI20100106,        A05,     126,          1,         16,         16,2,20100213,       1949,   26.57626,  -17.33438,       3628,   378.5,  13.8762,  35.9156,  35.9168,2,   177.0,2,    4.39,2,    0.72,2,  -999.0,9,  -999.0,9,   12.36,2,     -999.0,9,     -999.0,9,     -999.0,9,     -999.0,9,    13.8211,     -999.0,9
  74DI20100106,        A05,     126,          1,         17,         17,2,20100213,       1949,   26.57626,  -17.33438,       3628,   252.8,  15.7882,  36.2465,  36.2463,2,   184.2,2,    2.88,2,    0.48,2,  -999.0,9,  -999.0,9,    8.29,2,     -999.0,9,     -999.0,9,     -999.0,9,     -999.0,9,    15.7481,     -999.0,9
  74DI20100106,        A05,     126,          1,         18,         19,2,20100213,       1949,   26.57626,  -17.33438,       3628,   176.8,  17.4368,  36.5706,  36.5741,2,   200.0,2,    1.49,2,    0.22,2,  -999.0,9,  -999.0,9,    4.04,2,     -999.0,9,     -999.0,9,     -999.0,9,     -999.0,9,    17.4068,     -999.0,9
  74DI20100106,        A05,     126,          1,         19,         27,2,20100213,       1949,   26.57626,  -17.33438,       3628,    85.9,  21.0133,  36.9785,  36.9683,2,   216.6,2,    0.74,2,    0.01,2,  -999.0,9,  -999.0,9,    0.20,2,     -999.0,9,     -999.0,9,     -999.0,9,     -999.0,9,    20.9967,     -999.0,9
  74DI20100106,        A05,     126,          1,         20,         20,2,20100213,       1949,   26.57626,  -17.33438,       3628,    86.4,  21.0169,  36.9770,  36.9846,2,   215.6,2,    0.70,2,    0.00,2,  -999.0,9,  -999.0,9,    0.03,2,     -999.0,9,     -999.0,9,     -999.0,9,     -999.0,9,    21.0002,     -999.0,9
  74DI20100106,        A05,     126,          1,         21,         21,2,20100213,       1949,   26.57626,  -17.33438,       3628,    76.2,  21.1059,  36.9888,  36.9871,2,   215.8,2,    0.71,2,    0.00,2,  -999.0,9,  -999.0,9,    0.04,2,     -999.0,9,     -999.0,9,     -999.0,9,     -999.0,9,    21.0911,     -999.0,9
  74DI20100106,        A05,     126,          1,         22,         22,2,20100213,       1949,   26.57626,  -17.33438,       3628,    50.8,  21.2296,  36.9747,  36.9754,2,   215.8,2,    0.73,2,    0.00,2,  -999.0,9,  -999.0,9,    0.00,2,     -999.0,9,     -999.0,9,     -999.0,9,     -999.0,9,    21.2197,     -999.0,9
  74DI20100106,        A05,     126,          1,         23,         23,2,20100213,       1949,   26.57626,  -17.33438,       3628,     5.5,  21.3579,  36.9766,  36.9749,2,   215.8,2,    0.73,2,    0.00,2,  -999.0,9,  -999.0,9,    0.00,2,     -999.0,9,     -999.0,9,     -999.0,9,     -999.0,9,    21.3568,     -999.0,9
  74DI20100106,        A05,     126,          1,         24,         24,2,20100213,       1949,   26.57626,  -17.33438,       3628,     5.5,  21.3705,  36.9773,  36.9765,2,   215.8,2,    0.71,2,    0.00,2,  -999.0,9,  -999.0,9,    0.00,2,     -999.0,9,     -999.0,9,     -999.0,9,     -999.0,9,    21.3694,     -999.0,9