BOTTLE,20200115CCHSIOCBG
EXPOCODE,SECT_ID,STNNBR,CASTNO,SAMPNO,BTLNBR,BTLNBR_FLAG_W,DATE,TIME,LATITUDE,LONGITUDE,DEPTH,CTDPRS,CTDTMP,CTDSAL,SALNTY,SALNTY_FLAG_W,OXYGEN,OXYGEN_FLAG_W,SILCAT,SILCAT_FLAG_W,PHSPHT,PHSPHT_FLAG_W,TCARBN,TCARBN_FLAG_W,ALKALI,ALKALI_FLAG_W,NO2+NO3,NO2+NO3_FLAG_W,CFC-11,CFC-11_FLAG_W,CFC-12,CFC-12_FLAG_W,CFC113,CFC113_FLAG_W,CCL4,CCL4_FLAG_W,THETA,SF6,SF6_FLAG_W
,,,,,,,,,,,METERS,DBAR,ITS-90,PSS-78,PSS-78,,UMOL/KG,,UMOL/KG,,UMOL/KG,,UMOL/KG,,UMOL/KG,,UMOL/KG,,PMOL/L,,PMOL/L,,PMOL/L,,PMOL/L,,ITS-90,FMOL/L,
  74DI20100106,        A05,     129,          1,          1,         25,4,20100214,       1444,   27.19710,  -15.48300,       3104,  3134.6,   2.7176,  34.9305,-999.0000,9,   188.2,4, -999.00,9, -999.00,9,  -999.0,9,  -999.0,9, -999.00,9,     -999.0,9,     -999.0,9,     -999.0,9,     -999.0,9,     2.4589,     -999.0,9
  74DI20100106,        A05,     129,          1,          2,          2,2,20100214,       1444,   27.19710,  -15.48300,       3104,  3035.2,   2.7390,  34.9330,  34.9332,2,   223.3,2,   42.76,2,    1.54,2,  2206.4,2,  2351.6,2,   23.09,2,     -999.0,1,     -999.0,1,     -999.0,1,     -999.0,1,     2.4903,     -999.0,1
  74DI20100106,        A05,     129,          1,          3,          3,2,20100214,       1444,   27.19710,  -15.48300,       3104,  2780.9,   2.9651,  34.9548,  34.9545,2,   222.8,2,   39.11,2,    1.53,2,  2202.1,2,  2348.9,2,   22.63,2,     -999.0,1,     -999.0,1,     -999.0,1,     -999.0,1,     2.7377,     -999.0,1
  74DI20100106,        A05,     129,          1,          4,          4,2,20100214,       1444,   27.19710,  -15.48300,       3104,  2535.5,   3.2111,  34.9789,  34.9783,2,   221.3,2,   35.92,2,    1.52,2,  -999.0,9,  -999.0,9,   22.30,2,     -999.0,9,     -999.0,9,     -999.0,9,     -999.0,9,     3.0036,     -999.0,9
  74DI20100106,        A05,     129,          1,          5,          5,2,20100214,       1444,   27.19710,  -15.48300,       3104,  2275.2,   3.6266,  35.0217,  35.0218,2,   218.4,2,   32.01,2,    1.49,2,  2197.4,2,  2338.1,2,   22.32,2,     -999.0,1,     -999.0,1,     -999.0,1,     -999.0,1,     3.4376,     -999.0,1
  74DI20100106,        A05,     129,          1,          6,          6,2,20100214,       1444,   27.19710,  -15.48300,       3104,  2017.8,   4.0944,  35.0734,  35.0736,2,   214.5,2,   28.29,2,    1.47,2,  -999.0,9,  -999.0,9,   22.16,2,     -999.0,9,     -999.0,9,     -999.0,9,     -999.0,9,     3.9234,     -999.0,9
  74DI20100106,        A05,     129,          1,          7,          7,2,20100214,       1444,   27.19710,  -15.48300,       3104,  1767.2,   4.7713,  35.1480,  35.1484,2,   208.1,2,   24.71,2,    1.46,2,  -999.0,9,  -999.0,9,   22.08,2,     -999.0,1,     -999.0,1,     -999.0,1,     -999.0,1,     4.6156,     -999.0,1
  74DI20100106,        A05,     129,          1,          8,          8,2,20100214,       1444,   27.19710,  -15.48300,       3104,  1515.7,   5.6474,  35.2242,  35.2244,2,   193.3,2,   21.88,2,    1.49,2,  -999.0,9,  -999.0,9,   22.79,2,     -999.0,9,     -999.0,9,     -999.0,9,     -999.0,9,     5.5066,     -999.0,9
  74DI20100106,        A05,     129,          1,          9,          9,2,20100214,       1444,   27.19710,  -15.48300,       3104,  1256.6,   6.7659,  35.2695,  35.2700,2,   168.1,2,   19.32,2,    1.58,2,  2206.5,2,  2334.0,2,   24.45,2,     -999.0,1,     -999.0,1,     -999.0,1,     -999.0,1,     6.6410,     -999.0,1
  74DI20100106,        A05,     129,          1,         10,         10,2,20100214,       1444,   27.19710,  -15.48300,       3104,   999.3,   7.5310,  35.2216,  35.2210,2,   140.0,2,   18.91,2,    1.76,2,  -999.0,9,  -999.0,9,   27.65,2,     -999.0,9,     -999.0,9,     -999.0,9,     -999.0,9,     7.4278,     -999.0,9
  74DI20100106,        A05,     129,          1,         11,         11,2,20100214,       1444,   27.19710,  -15.48300,       3104,   882.4,   8.1269,  35.2291,  35.2286,2,   127.6,2,   17.85,2,    1.77,2,  -999.0,9,  -999.0,9,   28.11,2,     -999.0,1,     -999.0,1,     -999.0,1,     -999.0,1,     8.0326,     -999.0,1
  74DI20100106,        A05,     129,          1,         12,         12,2,20100214,       1444,   27.19710,  -15.48300,       3104,   759.1,   9.0697,  35.2819,  35.2822,2,   116.8,2,   15.92,2,    1.73,2,  -999.0,9,  -999.0,9,   27.92,2,     -999.0,9,     -999.0,9,     -999.0,9,     -999.0,9,     8.9839,     -999.0,9
  74DI20100106,        A05,     129,          1,         13,         13,2,20100214,       1444,   27.19710,  -15.48300,       3104,   636.3,  10.1918,  35.3983,  35.3967,2,   119.1,2,   13.02,2,    1.58,2,  -999.0,9,  -999.0,9,   25.77,2,     -999.0,1,     -999.0,1,     -999.0,1,     -999.0,1,    10.1151,     -999.0,1
  74DI20100106,        A05,     129,          1,         14,         14,2,20100214,       1444,   27.19710,  -15.48300,       3104,   504.4,  12.0836,  35.6717,  35.6700,2,   170.4,2,    6.57,2,    0.97,2,  -999.0,9,  -999.0,9,   16.03,2,     -999.0,1,     -999.0,1,     -999.0,9,     -999.0,9,    12.0162,     -999.0,1
  74DI20100106,        A05,     129,          1,         15,         26,2,20100214,       1444,   27.19710,  -15.48300,       3104,   375.6,  13.3077,  35.8360,  35.8320,2,   187.4,2,    4.33,2,    0.71,2,  -999.0,9,  -999.0,9,   12.06,2,     -999.0,9,     -999.0,9,     -999.0,9,     -999.0,9,    13.2544,     -999.0,9
  74DI20100106,        A05,     129,          1,         16,         16,2,20100214,       1444,   27.19710,  -15.48300,       3104,   252.2,  15.7387,  36.2552,  36.2550,2,   195.7,2,    2.39,2,    0.43,2,  -999.0,9,  -999.0,9,    7.02,2,     -999.0,1,     -999.0,1,     -999.0,9,     -999.0,9,    15.6988,     -999.0,1
  74DI20100106,        A05,     129,          1,         17,         17,2,20100214,       1444,   27.19710,  -15.48300,       3104,   176.7,  17.0739,  36.4870,  36.4880,2,   193.8,2,    1.73,2,    0.31,2,  -999.0,9,  -999.0,9,    5.04,2,     -999.0,9,     -999.0,9,     -999.0,9,     -999.0,9,    17.0443,     -999.0,9
  74DI20100106,        A05,     129,          1,         18,         19,2,20100214,       1444,   27.19710,  -15.48300,       3104,    97.2,  19.8982,  36.8589,  36.8592,2,   217.3,2,    0.59,2,    0.01,2,  -999.0,9,  -999.0,9,    0.06,2,     -999.0,1,     -999.0,1,     -999.0,9,     -999.0,9,    19.8801,     -999.0,1
  74DI20100106,        A05,     129,          1,         19,         27,2,20100214,       1444,   27.19710,  -15.48300,       3104,    96.9,  19.8893,  36.8575,  36.8584,2,   218.0,2,    0.56,2,    0.02,2,  -999.0,9,  -999.0,9,    0.00,2,     -999.0,9,     -999.0,9,     -999.0,9,     -999.0,9,    19.8713,     -999.0,9
  74DI20100106,        A05,     129,          1,         20,         20,2,20100214,       1444,   27.19710,  -15.48300,       3104,    76.7,  19.9806,  36.8712,  36.8721,2,   219.6,2,    0.52,2,    0.00,2,  2111.0,2,  2409.2,2,    0.00,2,     -999.0,1,     -999.0,1,     -999.0,9,     -999.0,9,    19.9663,     -999.0,1
  74DI20100106,        A05,     129,          1,         21,         21,10,20100214,       1444,   27.19710,  -15.48300,       3104,    51.4,  20.1564,  36.8967,  36.8961,2,   219.7,2,    0.51,2,    0.00,2,  -999.0,9,  -999.0,9,    0.00,2,     -999.0,9,     -999.0,9,     -999.0,9,     -999.0,9,    20.1467,     -999.0,9
  74DI20100106,        A05,     129,          1,         22,         22,3,20100214,       1444,   27.19710,  -15.48300,       3104,    26.1,  20.3021,  36.9144,-999.0000,9,  -999.0,9, -999.00,9, -999.00,9,  -999.0,9,  -999.0,9, -999.00,9,     -999.0,9,     -999.0,9,     -999.0,9,     -999.0,9,    20.2972,     -999.0,9
  74DI20100106,        A05,     129,          1,         23,         23,2,20100214,       1444,   27.19710,  -15.48300,       3104,     5.8,  20.4200,  36.9102,  36.9106,2,   218.8,2,    0.58,2,    0.00,2,  2111.4,2,  2411.1,2,    0.00,2,     -999.0,1,     -999.0,1,     -999.0,1,     -999.0,1,    20.4189,     -999.0,1
  74DI20100106,        A05,     129,          1,         24,         24,2,20100214,       1444,   27.19710,  -15.48300,       3104,     6.0,  20.4212,  36.9101,-999.0000,9,  -999.0,9, -999.00,9, -999.00,9,  -999.0,9,  -999.0,9, -999.00,9,     -999.0,9,     -999.0,9,     -999.0,9,     -999.0,9,    20.4201,     -999.0,9
  74DI20100106,        A05,     130,          1,          1,         25,2,20100214,       2047,   27.41451,  -14.86862,       2605,  2626.9,   3.1773,  34.9742,  34.9758,2,   219.8,2,   36.79,2,    1.51,2,  -999.0,9,  -999.0,9,   22.22,2,     -999.0,1,     -999.0,1,     -999.0,1,     -999.0,1,     2.9612,     -999.0,1
  74DI20100106,        A05,     130,          1,          2,          2,10,20100214,       2047,   27.41451,  -14.86862,       2605,  2626.8,   3.1769,  34.9744,  34.9748,2,   219.9,2,   36.67,2,    1.49,2,  -999.0,9,  -999.0,9,   22.64,2,     -999.0,9,     -999.0,9,     -999.0,9,     -999.0,9,     2.9609,     -999.0,9
  74DI20100106,        A05,     130,          1,          3,          3,2,20100214,       2047,   27.41451,  -14.86862,       2605,  2535.6,   3.2153,  34.9784,  34.9796,2,   220.1,2,   36.27,2,    1.50,2,  2205.1,2,  2346.1,2,   22.52,2,     -999.0,9,     -999.0,9,     -999.0,9,     -999.0,9,     3.0078,     -999.0,9
  74DI20100106,        A05,     130,          1,          4,          4,2,20100214,       2047,   27.41451,  -14.86862,       2605,  2536.2,   3.2167,  34.9784,  34.9800,2,   219.9,2,   36.39,2,    1.49,2,  -999.0,9,  -999.0,9,   22.42,2,     -999.0,1,     -999.0,1,     -999.0,1,     -999.0,1,     3.0090,     -999.0,1
  74DI20100106,        A05,     130,          1,          5,          5,2,20100214,       2047,   27.41451,  -14.86862,       2605,  2279.9,   3.5213,  35.0093,  35.0114,2,   218.0,2,   33.25,2,    1.48,2,  -999.0,9,  -999.0,9,   22.17,2,     -999.0,1,     -999.0,1,     -999.0,1,     -999.0,1,     3.3336,     -999.0,1
  74DI20100106,        A05,     130,          1,          6,          6,2,20100214,       2047,   27.41451,  -14.86862,       2605,  2019.8,   4.0455,  35.0633,  35.0640,2,   214.1,2,   28.90,2,    1.46,2,  2195.6,2,  2336.6,2,   22.23,2,     -999.0,1,     -999.0,1,     -999.0,1,     -999.0,1,     3.8751,     -999.0,1
  74DI20100106,        A05,     130,          1,          7,          7,2,20100214,       2047,   27.41451,  -14.86862,       2605,  1772.1,   4.6094,  35.1145,  35.1151,2,   205.4,2,   26.16,2,    1.47,2,  -999.0,9,  -999.0,9,   22.18,2,     -999.0,9,     -999.0,9,     -999.0,9,     -999.0,9,     4.4555,     -999.0,9
  74DI20100106,        A05,     130,          1,          8,          8,2,20100214,       2047,   27.41451,  -14.86862,       2605,  1520.3,   5.6846,  35.2149,  35.2176,2,   189.8,2,   22.30,2,    1.48,2,  2197.9,2,  2338.3,2,   22.84,2,     -999.0,1,     -999.0,1,     -999.0,1,     -999.0,1,     5.5430,     -999.0,1
  74DI20100106,        A05,     130,          1,          9,          9,10,20100214,       2047,   27.41451,  -14.86862,       2605,  1267.2,   6.8279,  35.2932,  35.2940,2,   171.4,2,   19.48,2,    1.52,2,  -999.0,9,  -999.0,9,   23.93,2,     -999.0,1,     -999.0,1,     -999.0,1,     -999.0,1,     6.7012,     -999.0,1
  74DI20100106,        A05,     130,          1,         10,         10,2,20100214,       2047,   27.41451,  -14.86862,       2605,  1013.3,   7.5853,  35.2532,  35.2424,2,   129.5,4,   18.14,2,    1.75,2,  2212.7,2,  2326.6,2,   27.55,2,     -999.0,1,     -999.0,1,     -999.0,1,     -999.0,1,     7.4801,     -999.0,1
  74DI20100106,        A05,     130,          1,         11,         11,2,20100214,       2047,   27.41451,  -14.86862,       2605,   887.1,   8.2057,  35.2456,  35.2460,2,   128.9,2,   17.95,2,    1.73,2,  2213.4,2,  2326.7,2,   27.52,2,     -999.0,1,     -999.0,1,     -999.0,1,     -999.0,1,     8.1103,     -999.0,1
  74DI20100106,        A05,     130,          1,         12,         12,2,20100214,       2047,   27.41451,  -14.86862,       2605,   761.0,   9.1039,  35.3053,  35.3055,2,   122.6,2,   15.72,2,    1.66,2,  -999.0,9,  -999.0,9,   26.98,2,     -999.0,1,     -999.0,1,     -999.0,1,     -999.0,1,     9.0177,     -999.0,1
  74DI20100106,        A05,     130,          1,         13,         13,2,20100214,       2047,   27.41451,  -14.86862,       2605,   634.9,  10.2034,  35.4200,  35.4215,2,   126.9,2,   12.82,2,    1.48,2,  2206.4,2,  2330.8,2,   24.47,2,     -999.0,1,     -999.0,1,     -999.0,1,     -999.0,1,    10.1268,     -999.0,1
  74DI20100106,        A05,     130,          1,         14,         14,2,20100214,       2047,   27.41451,  -14.86862,       2605,   509.1,  11.6484,  35.6003,  35.5986,2,   147.6,2,    8.67,2,    1.16,2,  -999.0,9,  -999.0,9,   19.73,2,     -999.0,9,     -999.0,9,     -999.0,9,     -999.0,9,    11.5820,     -999.0,9
  74DI20100106,        A05,     130,          1,         15,         26,2,20100214,       2047,   27.41451,  -14.86862,       2605,   378.0,  13.5185,  35.8657,  35.8656,2,   165.8,2,    5.24,2,    0.82,2,  -999.0,9,  -999.0,9,   14.14,2,     -999.0,1,     -999.0,1,     -999.0,9,     -999.0,9,    13.4644,     -999.0,1
  74DI20100106,        A05,     130,          1,         16,         16,2,20100214,       2047,   27.41451,  -14.86862,       2605,   251.8,  15.6676,  36.2363,  36.2455,2,   185.9,2,    2.79,2,    0.48,2,  -999.0,9,  -999.0,9,    8.23,2,     -999.0,9,     -999.0,9,     -999.0,9,     -999.0,9,    15.6279,     -999.0,9
  74DI20100106,        A05,     130,          1,         17,         17,2,20100214,       2047,   27.41451,  -14.86862,       2605,   177.1,  16.8543,  36.4504,  36.4549,2,   193.4,2,    1.83,2,    0.32,2,  2139.7,2,  2384.5,2,    5.44,2,     -999.0,1,     -999.0,1,     -999.0,9,     -999.0,9,    16.8249,     -999.0,1
  74DI20100106,        A05,     130,          1,         18,         19,2,20100214,       2047,   27.41451,  -14.86862,       2605,   100.9,  19.3479,  36.7313,  36.7287,2,   214.9,2,    0.79,2,    0.06,2,  -999.0,9,  -999.0,9,    0.73,2,     -999.0,9,     -999.0,9,     -999.0,9,     -999.0,9,    19.3295,     -999.0,9
  74DI20100106,        A05,     130,          1,         19,         27,2,20100214,       2047,   27.41451,  -14.86862,       2605,   101.1,  19.3656,  36.7334,  36.7273,2,   213.9,2,    0.79,2,    0.06,2,  -999.0,9,  -999.0,9,    0.72,2,     -999.0,9,     -999.0,9,     -999.0,9,     -999.0,9,    19.3471,     -999.0,9
  74DI20100106,        A05,     130,          1,         20,         20,2,20100214,       2047,   27.41451,  -14.86862,       2605,    76.1,  19.7701,  36.7879,  36.7915,2,   217.9,2,    0.73,2,    0.02,2,  2111.0,2,  2406.0,2,    0.15,2,     -999.0,9,     -999.0,9,     -999.0,9,     -999.0,9,    19.7560,     -999.0,9
  74DI20100106,        A05,     130,          1,         21,         21,2,20100214,       2047,   27.41451,  -14.86862,       2605,    50.7,  19.8904,  36.8036,  36.8065,2,   221.3,2,    0.63,2,    0.00,2,  2108.7,2,  2405.3,2,    0.11,2,     -999.0,9,     -999.0,9,     -999.0,9,     -999.0,9,    19.8810,     -999.0,9
  74DI20100106,        A05,     130,          1,         22,         22,2,20100214,       2047,   27.41451,  -14.86862,       2605,    25.6,  19.9409,  36.8070,  36.8089,2,   222.1,2,    0.73,2,    0.00,2,  -999.0,9,  -999.0,9,    0.00,2,     -999.0,9,     -999.0,9,     -999.0,9,     -999.0,9,    19.9362,     -999.0,9
  74DI20100106,        A05,     130,          1,         23,         23,2,20100214,       2047,   27.41451,  -14.86862,       2605,     4.8,  19.9510,  36.8077,  36.8099,2,   221.5,2,    0.64,2,    0.00,2,  2107.8,2,  2407.6,2,    0.00,2,     -999.0,1,     -999.0,1,     -999.0,1,     -999.0,1,    19.9501,     -999.0,1
  74DI20100106,        A05,     130,          1,         24,         24,2,20100214,       2047,   27.41451,  -14.86862,       2605,     5.5,  19.9521,  36.8077,  36.8089,2,   221.0,2,    0.63,2,    0.00,2,  -999.0,9,  -999.0,9,    0.00,2,     -999.0,9,     -999.0,9,     -999.0,9,     -999.0,9,    19.9511,     -999.0,9