BOTTLE,20200115CCHSIOCBG
EXPOCODE,SECT_ID,STNNBR,CASTNO,SAMPNO,BTLNBR,BTLNBR_FLAG_W,DATE,TIME,LATITUDE,LONGITUDE,DEPTH,CTDPRS,CTDTMP,CTDSAL,SALNTY,SALNTY_FLAG_W,OXYGEN,OXYGEN_FLAG_W,SILCAT,SILCAT_FLAG_W,PHSPHT,PHSPHT_FLAG_W,TCARBN,TCARBN_FLAG_W,ALKALI,ALKALI_FLAG_W,NO2+NO3,NO2+NO3_FLAG_W,CFC-11,CFC-11_FLAG_W,CFC-12,CFC-12_FLAG_W,CFC113,CFC113_FLAG_W,CCL4,CCL4_FLAG_W,THETA,SF6,SF6_FLAG_W
,,,,,,,,,,,METERS,DBAR,ITS-90,PSS-78,PSS-78,,UMOL/KG,,UMOL/KG,,UMOL/KG,,UMOL/KG,,UMOL/KG,,UMOL/KG,,PMOL/L,,PMOL/L,,PMOL/L,,PMOL/L,,ITS-90,FMOL/L,
  74DI20100106,        A05,     127,          1,          1,         25,2,20100214,       0214,   26.78984,  -16.71507,       3617,  3661.8,   2.4999,  34.9072,  34.9074,2,   225.7,2,   48.95,2,    1.55,2,  -999.0,9,  -999.0,9,   23.35,2,     -999.0,1,     -999.0,1,     -999.0,1,     -999.0,1,     2.1898,     -999.0,1
  74DI20100106,        A05,     127,          1,          2,          2,4,20100214,       0214,   26.78984,  -16.71507,       3617,  3662.5,   2.5000,  34.9070,  35.2526,4,   174.5,4,   20.33,4,    1.55,3,  -999.0,9,  -999.0,9,   24.20,3,     -999.0,9,     -999.0,9,     -999.0,9,     -999.0,9,     2.1898,     -999.0,9
  74DI20100106,        A05,     127,          1,          3,          3,2,20100214,       0214,   26.78984,  -16.71507,       3617,  3302.3,   2.6063,  34.9197,  34.9293,2,   224.1,2,   43.84,2,    1.53,2,  2209.4,2,  2355.0,2,   22.93,2,     -999.0,1,     -999.0,1,     -999.0,1,     -999.0,1,     2.3325,     -999.0,1
  74DI20100106,        A05,     127,          1,          4,          4,2,20100214,       0214,   26.78984,  -16.71507,       3617,  2792.6,   2.8946,  34.9486,  34.9484,2,   224.0,2,   40.56,2,    1.52,2,  2204.3,2,  2348.8,2,   22.82,2,     -999.0,1,     -999.0,1,     -999.0,1,     -999.0,1,     2.6675,     -999.0,1
  74DI20100106,        A05,     127,          1,          5,          5,2,20100214,       0214,   26.78984,  -16.71507,       3617,  2537.8,   3.1443,  34.9723,  34.9713,2,   222.2,2,   37.14,2,    1.51,2,  -999.0,9,  -999.0,9,   22.75,2,     -999.0,1,     -999.0,1,     -999.0,1,     -999.0,1,     2.9378,     -999.0,1
  74DI20100106,        A05,     127,          1,          6,          6,2,20100214,       0214,   26.78984,  -16.71507,       3617,  2283.1,   3.4975,  35.0054,  35.0050,2,   218.6,2,   33.72,2,    1.50,2,  2196.5,2,  2339.6,2,   22.72,2,     -999.0,1,     -999.0,1,     -999.0,1,     -999.0,1,     3.3099,     -999.0,1
  74DI20100106,        A05,     127,          1,          7,          7,2,20100214,       0214,   26.78984,  -16.71507,       3617,  2028.8,   3.9267,  35.0467,  35.0466,2,   214.0,2,   30.05,2,    1.49,2,  -999.0,9,  -999.0,9,   22.78,2,     -999.0,1,     -999.0,1,     -999.0,1,     -999.0,1,     3.7572,     -999.0,1
  74DI20100106,        A05,     127,          1,          8,          8,2,20100214,       0214,   26.78984,  -16.71507,       3617,  1775.5,   4.5147,  35.1073,  35.1071,2,   207.2,2,   26.25,2,    1.48,2,  2193.0,2,  2332.7,2,   22.91,2,     -999.0,1,     -999.0,1,     -999.0,1,     -999.0,1,     4.3617,     -999.0,1
  74DI20100106,        A05,     127,          1,          9,          9,2,20100214,       0214,   26.78984,  -16.71507,       3617,  1521.9,   5.4317,  35.1988,  35.1993,2,   195.0,2,   22.54,2,    1.48,2,  -999.0,9,  -999.0,9,   22.96,2,     -999.0,1,     -999.0,1,     -999.0,1,     -999.0,1,     5.2927,     -999.0,1
  74DI20100106,        A05,     127,          1,         10,         10,2,20100214,       0214,   26.78984,  -16.71507,       3617,  1268.8,   6.3788,  35.2556,  35.2555,2,   175.8,2,   20.31,2,    1.55,2,  2201.8,2,  2333.6,2,   24.10,2,     -999.0,1,     -999.0,1,     -999.0,1,     -999.0,1,     6.2562,     -999.0,1
  74DI20100106,        A05,     127,          1,         11,         11,2,20100214,       0214,   26.78984,  -16.71507,       3617,  1010.4,   7.5748,  35.2837,  35.2848,2,   149.9,2,   18.34,2,    1.65,2,  -999.0,9,  -999.0,9,   25.57,2,     -999.0,1,     -999.0,1,     -999.0,1,     -999.0,1,     7.4700,     -999.0,1
  74DI20100106,        A05,     127,          1,         12,         12,2,20100214,       0214,   26.78984,  -16.71507,       3617,   883.7,   8.0008,  35.2654,  35.2650,2,   138.7,2,   18.06,2,    1.69,2,  2209.5,2,  2327.4,2,   26.59,2,     -999.0,1,     -999.0,1,     -999.0,1,     -999.0,1,     7.9071,     -999.0,1
  74DI20100106,        A05,     127,          1,         13,         13,2,20100214,       0214,   26.78984,  -16.71507,       3617,   757.1,   9.2131,  35.3927,  35.3933,2,   142.5,2,   14.54,2,    1.52,2,  2201.6,2,  2331.2,2,   24.55,2,     -999.0,1,     -999.0,1,     -999.0,1,     -999.0,1,     9.1266,     -999.0,1
  74DI20100106,        A05,     127,          1,         14,         14,2,20100214,       0214,   26.78984,  -16.71507,       3617,   630.2,  10.4717,  35.4983,  35.4970,2,   147.9,2,   11.18,2,    1.32,2,  -999.0,9,  -999.0,9,   21.67,2,     -999.0,9,     -999.0,9,     -999.0,9,     -999.0,9,    10.3944,     -999.0,9
  74DI20100106,        A05,     127,          1,         15,         26,2,20100214,       0214,   26.78984,  -16.71507,       3617,   505.5,  11.6004,  35.5977,  35.5914,2,   152.0,2,    8.56,2,    1.18,2,  -999.0,9,  -999.0,9,   19.65,2,     -999.0,1,     -999.0,1,     -999.0,1,     -999.0,1,    11.5347,     -999.0,1
  74DI20100106,        A05,     127,          1,         16,         16,2,20100214,       0214,   26.78984,  -16.71507,       3617,   378.9,  12.9628,  35.7795,  35.7787,2,   170.0,2,    5.64,2,    0.86,2,  -999.0,9,  -999.0,9,   14.71,2,     -999.0,9,     -999.0,9,     -999.0,9,     -999.0,9,    12.9101,     -999.0,9
  74DI20100106,        A05,     127,          1,         17,         17,2,20100214,       0214,   26.78984,  -16.71507,       3617,   252.5,  15.1197,  36.1240,  36.1113,2,   180.7,2,    3.45,2,    0.58,2,  2151.3,2,  2364.6,2,   10.07,2,     -999.0,1,     -999.0,1,     -999.0,9,     -999.0,9,    15.0808,     -999.0,1
  74DI20100106,        A05,     127,          1,         18,         19,2,20100214,       0214,   26.78984,  -16.71507,       3617,   176.7,  16.6890,  36.4269,  36.4201,2,   196.6,2,    2.01,2,    0.31,2,  2136.2,2,  2393.3,2,    5.46,2,     -999.0,9,     -999.0,9,     -999.0,9,     -999.0,9,    16.6599,     -999.0,9
  74DI20100106,        A05,     127,          1,         19,         27,2,20100214,       0214,   26.78984,  -16.71507,       3617,   101.2,  17.9394,  36.6146,  36.6166,2,   199.4,2,    1.34,2,    0.19,2,  -999.0,9,  -999.0,9,    3.20,2,     -999.0,1,     -999.0,1,     -999.0,9,     -999.0,9,    17.9219,     -999.0,1
  74DI20100106,        A05,     127,          1,         20,         20,2,20100214,       0214,   26.78984,  -16.71507,       3617,    76.2,  19.4987,  36.7489,  36.7508,2,   213.2,2,    0.92,2,    0.03,2,  -999.0,9,  -999.0,9,    0.37,2,     -999.0,9,     -999.0,9,     -999.0,9,     -999.0,9,    19.4848,     -999.0,9
  74DI20100106,        A05,     127,          1,         21,         21,2,20100214,       0214,   26.78984,  -16.71507,       3617,    76.1,  19.5140,  36.7508,  36.7535,2,   213.5,2,    0.92,2,    0.03,2,  -999.0,9,  -999.0,9,    0.43,2,     -999.0,9,     -999.0,9,     -999.0,9,     -999.0,9,    19.5001,     -999.0,9
  74DI20100106,        A05,     127,          1,         22,         22,2,20100214,       0214,   26.78984,  -16.71507,       3617,    51.3,  20.4534,  36.8787,  36.8799,2,   219.8,2,    0.79,2,    0.00,2,  2111.5,2,  2408.6,2,    0.00,2,     -999.0,1,     -999.0,1,     -999.0,1,     -999.0,1,    20.4437,     -999.0,1
  74DI20100106,        A05,     127,          1,         23,         23,2,20100214,       0214,   26.78984,  -16.71507,       3617,    26.0,  20.6854,  36.9121,  36.9139,2,   218.1,2,    0.79,2,    0.00,2,  -999.0,9,  -999.0,9,    0.00,2,     -999.0,9,     -999.0,9,     -999.0,9,     -999.0,9,    20.6804,     -999.0,9
  74DI20100106,        A05,     127,          1,         24,         24,2,20100214,       0214,   26.78984,  -16.71507,       3617,     5.4,  20.8233,  36.9267,  36.9274,2,   218.2,2,    0.78,2,    0.00,2,  2113.5,2,  2414.3,2,    0.00,2,     -999.0,1,     -999.0,1,     -999.0,1,     -999.0,1,    20.8222,     -999.0,1
  74DI20100106,        A05,     128,          1,          1,         25,2,20100214,       0826,   26.98856,  -16.09685,       3481,  3518.5,   2.5703,  34.9145,  34.9152,2,   222.6,2,   46.03,2,    1.55,2,  -999.0,9,  -999.0,9,   23.42,2,     -999.0,9,     -999.0,9,     -999.0,9,     -999.0,9,     2.2741,     -999.0,9
  74DI20100106,        A05,     128,          1,          2,          2,2,20100214,       0826,   26.98856,  -16.09685,       3481,  3519.5,   2.5704,  34.9144,  34.9151,2,   223.0,2,   46.16,2,    1.55,2,  -999.0,9,  -999.0,9,   23.28,2,     -999.0,1,     -999.0,1,     -999.0,1,     -999.0,1,     2.2741,     -999.0,1
  74DI20100106,        A05,     128,          1,          3,          3,2,20100214,       0826,   26.98856,  -16.09685,       3481,  3025.3,   2.7738,  34.9362,  34.9483,2,   222.8,2,   39.40,2,    1.51,2,  2202.7,2,  2346.5,2,   22.72,2,     -999.0,1,     -999.0,1,     -999.0,1,     -999.0,1,     2.5253,     -999.0,1
  74DI20100106,        A05,     128,          1,          4,          4,2,20100214,       0826,   26.98856,  -16.09685,       3481,  2539.2,   3.2197,  34.9797,  34.9796,2,   220.6,2,   35.52,2,    1.50,2,  2203.7,2,  2342.0,2,   22.26,2,     -999.0,1,     -999.0,1,     -999.0,1,     -999.0,1,     3.0116,     -999.0,1
  74DI20100106,        A05,     128,          1,          5,          5,2,20100214,       0826,   26.98856,  -16.09685,       3481,  2283.7,   3.5928,  35.0183,  35.0192,2,   218.1,2,   31.45,2,    1.49,2,  -999.0,9,  -999.0,9,   22.19,2,     -999.0,1,     -999.0,1,     -999.0,1,     -999.0,1,     3.4035,     -999.0,1
  74DI20100106,        A05,     128,          1,          6,          6,2,20100214,       0826,   26.98856,  -16.09685,       3481,  2023.8,   4.0946,  35.0723,  35.0728,2,   214.9,2,   28.03,2,    1.47,2,  2190.3,2,  2336.6,2,   22.21,2,     -999.0,1,     -999.0,1,     -999.0,1,     -999.0,1,     3.9230,     -999.0,1
  74DI20100106,        A05,     128,          1,          7,          7,2,20100214,       0826,   26.98856,  -16.09685,       3481,  1773.3,   4.7526,  35.1429,  35.1420,2,   208.1,2,   24.38,2,    1.45,2,  -999.0,9,  -999.0,9,   22.23,2,     -999.0,1,     -999.0,1,     -999.0,1,     -999.0,1,     4.5966,     -999.0,1
  74DI20100106,        A05,     128,          1,          8,          8,2,20100214,       0826,   26.98856,  -16.09685,       3481,  1519.7,   5.4782,  35.1963,  35.1970,2,   192.3,2,   22.37,2,    1.49,2,  2192.2,2,  2333.9,2,   22.69,2,     -999.0,1,     -999.0,1,     -999.0,1,     -999.0,1,     5.3389,     -999.0,1
  74DI20100106,        A05,     128,          1,          9,          9,2,20100214,       0826,   26.98856,  -16.09685,       3481,  1265.7,   6.7104,  35.2690,  35.2707,2,   169.4,2,   19.47,2,    1.57,2,  -999.0,9,  -999.0,9,   24.60,2,     -999.0,1,     -999.0,1,     -999.0,1,     -999.0,1,     6.5849,     -999.0,1
  74DI20100106,        A05,     128,          1,         10,         10,2,20100214,       0826,   26.98856,  -16.09685,       3481,  1006.8,   7.3603,  35.1904,  35.1925,2,   139.0,4,   19.30,2,    1.77,2,  2206.0,2,  2323.4,2,   27.68,2,     -999.0,1,     -999.0,1,     -999.0,1,     -999.0,1,     7.2576,     -999.0,1
  74DI20100106,        A05,     128,          1,         11,         11,2,20100214,       0826,   26.98856,  -16.09685,       3481,   880.2,   8.1779,  35.2262,  35.2256,2,   126.2,2,   17.81,2,    1.78,2,  -999.0,9,  -999.0,9,   28.44,2,     -999.0,1,     -999.0,1,     -999.0,1,     -999.0,1,     8.0835,     -999.0,1
  74DI20100106,        A05,     128,          1,         12,         12,2,20100214,       0826,   26.98856,  -16.09685,       3481,   752.7,   9.3834,  35.3265,  35.3267,2,   121.6,2,   14.88,2,    1.68,2,  2205.6,2,  2326.7,2,   26.75,2,     -999.0,9,     -999.0,9,     -999.0,9,     -999.0,9,     9.2965,     -999.0,9
  74DI20100106,        A05,     128,          1,         13,         13,2,20100214,       0826,   26.98856,  -16.09685,       3481,   752.2,   9.3765,  35.3244,  35.3263,2,   120.8,2,   15.05,2,    1.66,2,  -999.0,9,  -999.0,9,   27.06,2,     -999.0,1,     -999.0,1,     -999.0,1,     -999.0,1,     9.2897,     -999.0,1
  74DI20100106,        A05,     128,          1,         14,         14,2,20100214,       0826,   26.98856,  -16.09685,       3481,   633.8,  10.3677,  35.4175,  35.4172,2,   120.1,2,   12.50,2,    1.54,2,  2200.2,2,  2326.6,2,   25.54,2,     -999.0,1,     -999.0,1,     -999.0,1,     -999.0,1,    10.2904,     -999.0,1
  74DI20100106,        A05,     128,          1,         15,         26,2,20100214,       0826,   26.98856,  -16.09685,       3481,   508.2,  11.8636,  35.6126,  35.6129,2,   139.0,2,    8.59,2,    1.22,2,  -999.0,9,  -999.0,9,   20.34,2,     -999.0,9,     -999.0,9,     -999.0,9,     -999.0,9,    11.7965,     -999.0,9
  74DI20100106,        A05,     128,          1,         16,         16,2,20100214,       0826,   26.98856,  -16.09685,       3481,   376.6,  13.8411,  35.9141,  35.9152,2,   175.6,2,    4.43,2,    0.74,2,  2154.2,2,  2353.2,2,   12.31,2,     -999.0,1,     -999.0,1,     -999.0,9,     -999.0,9,    13.7864,     -999.0,1
  74DI20100106,        A05,     128,          1,         17,         17,2,20100214,       0826,   26.98856,  -16.09685,       3481,   252.0,  16.1149,  36.3220,  36.3212,2,   197.5,2,    2.08,2,    0.37,2,  -999.0,9,  -999.0,9,    6.08,2,     -999.0,9,     -999.0,9,     -999.0,9,     -999.0,9,    16.0744,     -999.0,9
  74DI20100106,        A05,     128,          1,         18,         19,2,20100214,       0826,   26.98856,  -16.09685,       3481,   177.6,  17.4733,  36.5412,  36.5433,2,   201.1,2,    1.33,2,    0.21,2,  -999.0,9,  -999.0,9,    3.45,2,     -999.0,1,     -999.0,1,     -999.0,9,     -999.0,9,    17.4431,     -999.0,1
  74DI20100106,        A05,     128,          1,         19,         27,2,20100214,       0826,   26.98856,  -16.09685,       3481,   101.8,  19.9250,  36.8456,  36.8396,2,   213.2,2,    0.65,2,    0.04,2,  -999.0,9,  -999.0,9,    0.49,2,     -999.0,9,     -999.0,9,     -999.0,9,     -999.0,9,    19.9060,     -999.0,9
  74DI20100106,        A05,     128,          1,         20,         20,2,20100214,       0826,   26.98856,  -16.09685,       3481,    86.0,  20.2921,  36.9018,  36.9049,2,   217.6,2,    0.61,2,    0.00,2,  2108.7,2,  2413.3,2,    0.00,2,     -999.0,9,     -999.0,9,     -999.0,9,     -999.0,9,    20.2759,     -999.0,9
  74DI20100106,        A05,     128,          1,         21,         21,2,20100214,       0826,   26.98856,  -16.09685,       3481,    87.5,  20.2962,  36.9021,-999.0000,9,   217.1,2,    0.57,2,    0.01,2,  -999.0,9,  -999.0,9,    0.01,2,     -999.0,9,     -999.0,9,     -999.0,9,     -999.0,9,    20.2797,     -999.0,9
  74DI20100106,        A05,     128,          1,         22,         22,2,20100214,       0826,   26.98856,  -16.09685,       3481,    51.9,  20.3363,  36.9105,  36.9117,2,   217.8,2,    0.59,2,    0.00,2,  2105.9,2,  2415.0,2,    0.06,2,     -999.0,1,     -999.0,1,     -999.0,1,     -999.0,1,    20.3265,     -999.0,1
  74DI20100106,        A05,     128,          1,         23,         23,2,20100214,       0826,   26.98856,  -16.09685,       3481,    25.6,  20.3509,  36.9123,  36.9134,2,   218.1,2,    0.57,2,    0.00,2,  -999.0,9,  -999.0,9,    0.00,2,     -999.0,9,     -999.0,9,     -999.0,9,     -999.0,9,    20.3461,     -999.0,9
  74DI20100106,        A05,     128,          1,         24,         24,2,20100214,       0826,   26.98856,  -16.09685,       3481,     4.8,  20.8117,  36.9492,  36.9501,2,   217.2,2,    0.67,2,    0.00,2,  2106.9,2,  2417.3,2,    0.02,2,     -999.0,1,     -999.0,1,     -999.0,1,     -999.0,1,    20.8108,     -999.0,1