BOTTLE,20200115CCHSIOCBG
EXPOCODE,SECT_ID,STNNBR,CASTNO,SAMPNO,BTLNBR,BTLNBR_FLAG_W,DATE,TIME,LATITUDE,LONGITUDE,DEPTH,CTDPRS,CTDTMP,CTDSAL,SALNTY,SALNTY_FLAG_W,OXYGEN,OXYGEN_FLAG_W,SILCAT,SILCAT_FLAG_W,PHSPHT,PHSPHT_FLAG_W,TCARBN,TCARBN_FLAG_W,ALKALI,ALKALI_FLAG_W,NO2+NO3,NO2+NO3_FLAG_W,CFC-11,CFC-11_FLAG_W,CFC-12,CFC-12_FLAG_W,CFC113,CFC113_FLAG_W,CCL4,CCL4_FLAG_W,THETA,SF6,SF6_FLAG_W
,,,,,,,,,,,METERS,DBAR,ITS-90,PSS-78,PSS-78,,UMOL/KG,,UMOL/KG,,UMOL/KG,,UMOL/KG,,UMOL/KG,,UMOL/KG,,PMOL/L,,PMOL/L,,PMOL/L,,PMOL/L,,ITS-90,FMOL/L,
  74DI20100106,        A05,      47,          1,          1,          1,2,20100117,       0842,   24.90456,  -69.53582,       5593,  5692.6,   2.0795,  34.8484,  34.8480,2,   243.3,2,   58.26,2,    1.54,2,  2231.7,3,  2350.2,2,   23.28,2,     -999.0,1,     -999.0,1,     -999.0,1,     -999.0,1,     1.5352,     -999.0,1
  74DI20100106,        A05,      47,          1,          2,          2,2,20100117,       0842,   24.90456,  -69.53582,       5593,  5357.9,   2.0839,  34.8547,  34.8530,2,   247.5,2,   54.74,2,    1.51,2,  2233.7,3,  2346.0,2,   23.09,2,     -999.0,1,     -999.0,1,     -999.0,1,     -999.0,1,     1.5832,     -999.0,1
  74DI20100106,        A05,      47,          1,          3,          3,2,20100117,       0842,   24.90456,  -69.53582,       5593,  4843.1,   2.2178,  34.8785,  34.8787,2,   255.6,2,   41.65,2,    1.37,2,  2189.1,2,  2336.4,2,   20.98,2,     -999.0,1,     -999.0,1,     -999.0,1,     -999.0,1,     1.7775,     -999.0,1
  74DI20100106,        A05,      47,          1,          4,          4,2,20100117,       0842,   24.90456,  -69.53582,       5593,  4329.0,   2.2779,  34.8914,  34.8895,2,   260.2,2,   33.76,2,    1.29,2,  2177.6,2,  2329.5,2,   19.84,2,     -999.0,1,     -999.0,1,     -999.0,1,     -999.0,1,     1.8978,     -999.0,1
  74DI20100106,        A05,      47,          1,          5,          5,2,20100117,       0842,   24.90456,  -69.53582,       5593,  3816.3,   2.3402,  34.9001,  34.9006,2,   263.3,2,   29.14,2,    1.23,2,  2174.7,2,  2324.9,2,   18.89,2,     -999.0,1,     -999.0,1,     -999.0,1,     -999.0,1,     2.0171,     -999.0,1
  74DI20100106,        A05,      47,          1,          6,          6,10,20100117,       0842,   24.90456,  -69.53582,       5593,  3305.5,   2.5136,  34.9147,  34.9174,2,   260.2,2,   27.61,2,    1.24,2,  2171.3,2,  2323.3,2,   19.23,2,     -999.0,1,     -999.0,1,     -999.0,1,     -999.0,1,     2.2417,     -999.0,1
  74DI20100106,        A05,      47,          1,          7,          7,2,20100117,       0842,   24.90456,  -69.53582,       5593,  2795.1,   2.8135,  34.9344,  34.9378,2,   259.7,2,   24.24,2,    1.23,2,  2170.5,2,  2323.0,2,   19.45,2,     -999.0,1,     -999.0,1,     -999.0,1,     -999.0,1,     2.5878,     -999.0,1
  74DI20100106,        A05,      47,          1,          8,          8,2,20100117,       0842,   24.90456,  -69.53582,       5593,  2541.9,   3.0417,  34.9529,  34.9563,2,   254.4,2,   24.18,2,    1.25,2,  -999.0,9,  -999.0,9,   19.64,2,     -999.0,1,     -999.0,1,     -999.0,1,     -999.0,1,     2.8368,     -999.0,1
  74DI20100106,        A05,      47,          1,          9,          9,2,20100117,       0842,   24.90456,  -69.53582,       5593,  2285.8,   3.2706,  34.9685,  34.9681,2,   253.1,2,   21.68,2,    1.24,2,  2167.5,2,  2322.3,2,   19.57,2,     -999.0,1,     -999.0,1,     -999.0,1,     -999.0,1,     3.0867,     -999.0,1
  74DI20100106,        A05,      47,          1,         10,         10,2,20100117,       0842,   24.90456,  -69.53582,       5593,  2032.2,   3.5833,  34.9930,  34.9931,2,   250.7,2,   20.05,2,    1.24,2,  -999.0,9,  -999.0,9,   19.37,2,     -999.0,1,     -999.0,1,     -999.0,1,     -999.0,1,     3.4188,     -999.0,1
  74DI20100106,        A05,      47,          1,         11,         11,10,20100117,       0842,   24.90456,  -69.53582,       5593,  1781.3,   3.7771,  34.9809,  34.9808,2,   257.1,2,   15.25,2,    1.19,2,  2165.8,2,  2315.0,2,   18.59,2,     -999.0,9,     -999.0,9,     -999.0,9,     -999.0,9,     3.6337,     -999.0,9
  74DI20100106,        A05,      47,          1,         12,         12,2,20100117,       0842,   24.90456,  -69.53582,       5593,  1526.8,   4.2264,  35.0138,  35.0153,2,   250.0,2,   14.18,2,    1.22,2,  -999.0,9,  -999.0,9,   19.21,2,     -999.0,1,     -999.0,1,     -999.0,1,     -999.0,1,     4.1011,     -999.0,1
  74DI20100106,        A05,      47,          1,         13,         13,2,20100117,       0842,   24.90456,  -69.53582,       5593,  1272.8,   4.9616,  35.0527,  35.0565,2,   231.9,2,   16.57,3,    1.50,3,  2172.7,2,  2315.8,2,   23.89,3,     -999.0,1,     -999.0,1,     -999.0,1,     -999.0,1,     4.8523,     -999.0,1
  74DI20100106,        A05,      47,          1,         14,         14,2,20100117,       0842,   24.90456,  -69.53582,       5593,  1010.2,   6.4029,  35.0702,  35.0808,2,   183.9,2,   17.67,2,    1.69,2,  -999.0,9,  -999.0,9,   27.07,2,     -999.0,1,     -999.0,1,     -999.0,1,     -999.0,1,     6.3071,     -999.0,1
  74DI20100106,        A05,      47,          1,         15,         15,10,20100117,       0842,   24.90456,  -69.53582,       5593,   884.4,   7.7217,  35.0853,  35.0830,2,   147.5,2,   12.87,2,    1.44,2,  2197.8,2,  2317.1,2,   23.84,2,     -999.0,9,     -999.0,9,     -999.0,9,     -999.0,9,     7.6299,     -999.0,9
  74DI20100106,        A05,      47,          1,         16,         16,2,20100117,       0842,   24.90456,  -69.53582,       5593,   758.6,   9.9833,  35.3209,  35.3127,2,   143.6,2,    7.50,2,    1.03,2,  2188.8,2,  2324.2,2,   17.74,2,     -999.0,9,     -999.0,9,     -999.0,9,     -999.0,9,     9.8925,     -999.0,9
  74DI20100106,        A05,      47,          1,         17,         17,10,20100117,       0842,   24.90456,  -69.53582,       5593,   632.7,  12.9595,  35.6916,  35.6896,2,   150.3,2,    3.68,2,    0.56,2,  2169.5,2,  2338.2,2,   10.58,2,     -999.0,1,     -999.0,1,     -999.0,1,     -999.0,1,    12.8706,     -999.0,1
  74DI20100106,        A05,      47,          1,         18,         18,2,20100117,       0842,   24.90456,  -69.53582,       5593,   507.8,  15.8981,  36.1599,  36.1527,2,   171.9,2,    1.79,2,    0.22,2,  2140.6,2,  2362.8,2,    5.46,2,     -999.0,1,     -999.0,1,     -999.0,1,     -999.0,9,    15.8166,     -999.0,1
  74DI20100106,        A05,      47,          1,         19,         19,2,20100117,       0842,   24.90456,  -69.53582,       5593,   378.7,  17.8503,  36.5148,  36.6022,4,   191.8,2,    1.31,2,    0.10,2,  -999.0,9,  -999.0,9,    3.50,2,     -999.0,9,     -999.0,9,     -999.0,9,     -999.0,9,    17.7848,     -999.0,9
  74DI20100106,        A05,      47,          1,         20,         20,2,20100117,       0842,   24.90456,  -69.53582,       5593,   253.4,  18.7056,  36.6041,  36.6031,2,   192.7,2,    0.90,2,    0.00,2,  2115.5,2,  2388.7,2,    1.56,2,     -999.0,1,     -999.0,1,     -999.0,1,     -999.0,1,    18.6604,     -999.0,1
  74DI20100106,        A05,      47,          1,         21,         21,2,20100117,       0842,   24.90456,  -69.53582,       5593,   178.1,  19.5420,  36.6520,  36.6540,2,   197.9,2,    0.72,2,    0.00,2,  -999.0,9,  -999.0,9,    0.22,2,     -999.0,9,     -999.0,9,     -999.0,9,     -999.0,9,    19.5093,     -999.0,9
  74DI20100106,        A05,      47,          1,         22,         22,10,20100117,       0842,   24.90456,  -69.53582,       5593,   115.6,  21.7337,  36.7967,  36.7985,2,   199.9,2,    0.87,2,    0.00,2,  2092.7,2,  2400.4,2,    0.00,2,     -999.0,1,     -999.0,1,     -999.0,1,     -999.0,1,    21.7108,     -999.0,1
  74DI20100106,        A05,      47,          1,         23,         23,2,20100117,       0842,   24.90456,  -69.53582,       5593,    52.2,  24.1586,  36.7474,  36.7499,2,   205.1,2,    0.20,2,    0.00,2,  -999.0,9,  -999.0,9,    0.61,3,     -999.0,9,     -999.0,9,     -999.0,9,     -999.0,9,    24.1475,     -999.0,9
  74DI20100106,        A05,      47,          1,         24,         24,2,20100117,       0842,   24.90456,  -69.53582,       5593,     6.0,  24.1608,  36.7495,  36.7524,2,   206.1,2,    0.00,2,    0.00,2,  2049.9,2,  2396.5,2,    0.00,2,     -999.0,1,     -999.0,1,     -999.0,1,     -999.0,1,    24.1595,     -999.0,1
  74DI20100106,        A05,      48,          1,          1,          1,2,20100117,       1615,   24.50502,  -69.15280,       5637,  5738.0,   2.0838,  34.8481,  34.8481,2,   245.0,2,   59.67,2,    1.58,2,  2201.1,2,  2345.9,2,   23.66,2,     -999.0,1,     -999.0,1,     -999.0,1,     -999.0,1,     1.5332,     -999.0,1
  74DI20100106,        A05,      48,          1,          2,          2,2,20100117,       1615,   24.50502,  -69.15280,       5637,  5612.5,   2.0704,  34.8487,  34.8498,2,   247.5,2,   59.52,2,    1.58,2,  2201.4,2,  2345.4,2,   24.15,2,     -999.0,1,     -999.0,1,     -999.0,1,     -999.0,1,     1.5370,     -999.0,1
  74DI20100106,        A05,      48,          1,          3,          3,2,20100117,       1615,   24.50502,  -69.15280,       5637,  5095.4,   2.1453,  34.8665,  34.8666,2,   251.9,2,   50.05,2,    1.48,2,  2190.7,2,  2339.3,2,   22.10,2,     -999.0,1,     -999.0,1,     -999.0,1,     -999.0,1,     1.6760,     -999.0,1
  74DI20100106,        A05,      48,          1,          4,          4,2,20100117,       1615,   24.50502,  -69.15280,       5637,  4583.5,   2.2634,  34.8867,  34.8886,2,   259.8,2,   36.58,2,    1.34,2,  2180.3,2,  2327.3,2,   20.15,2,     -999.0,1,     -999.0,1,     -999.0,1,     -999.0,1,     1.8534,     -999.0,1
  74DI20100106,        A05,      48,          1,          5,          5,2,20100117,       1615,   24.50502,  -69.15280,       5637,  4071.6,   2.2774,  34.8933,  34.8943,2,   262.9,2,   32.62,2,    1.29,2,  2173.7,2,  2324.4,2,   19.49,2,     -999.0,1,     -999.0,1,     -999.0,1,     -999.0,1,     1.9272,     -999.0,1
  74DI20100106,        A05,      48,          1,          6,          6,2,20100117,       1615,   24.50502,  -69.15280,       5637,  3560.3,   2.3528,  34.9031,  34.9047,2,   264.2,2,   29.55,2,    1.27,2,  2168.6,2,  2321.0,2,   19.34,2,     -999.0,1,     -999.0,1,     -999.0,1,     -999.0,1,     2.0576,     -999.0,1
  74DI20100106,        A05,      48,          1,          7,          7,2,20100117,       1615,   24.50502,  -69.15280,       5637,  3052.5,   2.5406,  34.9179,  34.9197,2,   260.1,2,   29.25,2,    1.29,2,  2171.4,2,  2321.0,2,   19.85,2,     -999.0,1,     -999.0,1,     -999.0,1,     -999.0,1,     2.2945,     -999.0,1
  74DI20100106,        A05,      48,          1,          8,          8,2,20100117,       1615,   24.50502,  -69.15280,       5637,  2544.7,   2.8186,  34.9360,  34.9364,2,   259.5,2,   24.47,2,    1.25,2,  2169.4,2,  2318.2,2,   19.32,2,     -999.0,1,     -999.0,1,     -999.0,1,     -999.0,1,     2.6177,     -999.0,1
  74DI20100106,        A05,      48,          1,          9,          9,2,20100117,       1615,   24.50502,  -69.15280,       5637,  2289.2,   2.9985,  34.9466,  34.9499,2,   260.4,2,   22.44,2,    1.24,2,  -999.0,9,  -999.0,9,   19.12,2,     -999.0,1,     -999.0,1,     -999.0,1,     -999.0,1,     2.8189,     -999.0,1
  74DI20100106,        A05,      48,          1,         10,         10,2,20100117,       1615,   24.50502,  -69.15280,       5637,  2032.7,   3.4434,  34.9638,-999.0000,9,   259.8,2,   18.08,2,    1.23,2,  -999.0,9,  -999.0,9,   19.01,2,     -999.0,1,     -999.0,1,     -999.0,1,     -999.0,1,     3.2811,     -999.0,1
  74DI20100106,        A05,      48,          1,         11,         11,2,20100117,       1615,   24.50502,  -69.15280,       5637,  2032.9,   3.4435,  34.9638,  34.9658,2,   259.1,2, -999.00,9, -999.00,9,  -999.0,9,  -999.0,9, -999.00,9,     -999.0,9,     -999.0,9,     -999.0,9,     -999.0,9,     3.2811,     -999.0,9
  74DI20100106,        A05,      48,          1,         12,         12,3,20100117,       1615,   24.50502,  -69.15280,       5637,  1780.4,   3.7915,  34.9744,  35.9144,4,  -999.0,9, -999.00,9, -999.00,9,  -999.0,9,  -999.0,9, -999.00,9,     -999.0,9,     -999.0,9,     -999.0,9,     -999.0,9,     3.6479,     -999.0,9
  74DI20100106,        A05,      48,          1,         13,         13,2,20100117,       1615,   24.50502,  -69.15280,       5637,  1529.5,   4.3106,  35.0087,  35.0106,2,   250.1,2,   14.20,2,    1.22,2,  2168.4,2,  2311.5,2,   19.01,2,     -999.0,1,     -999.0,1,     -999.0,1,     -999.0,1,     4.1840,     -999.0,1
  74DI20100106,        A05,      48,          1,         14,         14,2,20100117,       1615,   24.50502,  -69.15280,       5637,  1276.4,   5.2209,  35.0619,  35.0637,2,   224.7,2,   14.49,2,    1.31,2,  -999.0,9,  -999.0,9,   20.49,2,     -999.0,1,     -999.0,1,     -999.0,1,     -999.0,1,     5.1088,     -999.0,1
  74DI20100106,        A05,      48,          1,         15,         15,2,20100117,       1615,   24.50502,  -69.15280,       5637,  1013.8,   6.5875,  35.0787,  35.0802,2,   181.4,2,   16.86,2,    1.52,2,  2188.5,2,  2317.5,2,   23.84,2,     -999.0,1,     -999.0,1,     -999.0,1,     -999.0,1,     6.4899,     -999.0,1
  74DI20100106,        A05,      48,          1,         16,         16,2,20100117,       1615,   24.50502,  -69.15280,       5637,   882.8,   7.7617,  35.0851,  35.0849,2,   148.8,2,   18.10,2,    1.71,2,  -999.0,9,  -999.0,9,   27.14,2,     -999.0,1,     -999.0,1,     -999.0,1,     -999.0,1,     7.6699,     -999.0,1
  74DI20100106,        A05,      48,          1,         17,         17,2,20100117,       1615,   24.50502,  -69.15280,       5637,   752.6,   9.8082,  35.2875,  35.2881,2,   146.0,2,   13.70,2,    1.50,2,  2186.9,2,  2321.5,2,   24.50,2,     -999.0,1,     -999.0,1,     -999.0,1,     -999.0,1,     9.7192,     -999.0,1
  74DI20100106,        A05,      48,          1,         18,         18,2,20100117,       1615,   24.50502,  -69.15280,       5637,   507.3,  15.4565,  36.0865,  36.0872,2,   169.2,2,    4.15,2,    0.63,2,  -999.0,9,  -999.0,9,   11.72,2,     -999.0,9,     -999.0,9,     -999.0,9,     -999.0,9,    15.3767,     -999.0,9
  74DI20100106,        A05,      48,          1,         19,         19,2,20100117,       1615,   24.50502,  -69.15280,       5637,   383.2,  17.4241,  36.4404,  36.4415,2,   189.7,2,    2.19,2,    0.30,2,  2123.4,2,  2379.0,2,    6.26,2,     -999.0,1,     -999.0,1,     -999.0,9,     -999.0,9,    17.3589,     -999.0,1
  74DI20100106,        A05,      48,          1,         20,         20,2,20100117,       1615,   24.50502,  -69.15280,       5637,   255.7,  18.4318,  36.5888,  36.5904,2,   188.3,2,    1.49,2,    0.17,2,  -999.0,9,  -999.0,9,    4.37,2,     -999.0,9,     -999.0,9,     -999.0,9,     -999.0,9,    18.3866,     -999.0,9
  74DI20100106,        A05,      48,          1,         21,         21,2,20100117,       1615,   24.50502,  -69.15280,       5637,   179.1,  19.4642,  36.6680,  36.6671,2,   188.6,2,    1.15,2,    0.03,2,  2111.7,2,  2391.1,2,    2.22,2,     -999.0,1,     -999.0,1,     -999.0,9,     -999.0,9,    19.4314,     -999.0,1
  74DI20100106,        A05,      48,          1,         22,         22,2,20100117,       1615,   24.50502,  -69.15280,       5637,   101.5,  21.9242,  36.8512,  36.8329,2,   205.2,2,    0.81,2,    0.00,2,  -999.0,9,  -999.0,9,    0.03,2,     -999.0,9,     -999.0,9,     -999.0,9,     -999.0,9,    21.9040,     -999.0,9
  74DI20100106,        A05,      48,          1,         23,         23,2,20100117,       1615,   24.50502,  -69.15280,       5637,    50.6,  24.2396,  36.7641,  36.7652,2,   207.2,2,    0.98,2,    0.00,2,  2048.1,2,  2396.4,2,    0.00,2,     -999.0,1,     -999.0,1,     -999.0,9,     -999.0,9,    24.2288,     -999.0,1
  74DI20100106,        A05,      48,          1,         24,         24,2,20100117,       1615,   24.50502,  -69.15280,       5637,     5.3,  24.3479,  36.7679,  36.7691,2,   208.3,2,    1.00,2,    0.00,2,  2048.5,2,  2396.8,2,    0.00,2,     -999.0,1,     -999.0,1,     -999.0,1,     -999.0,1,    24.3468,     -999.0,1