BOTTLE,20200115CCHSIOCBG
EXPOCODE,SECT_ID,STNNBR,CASTNO,SAMPNO,BTLNBR,BTLNBR_FLAG_W,DATE,TIME,LATITUDE,LONGITUDE,DEPTH,CTDPRS,CTDTMP,CTDSAL,SALNTY,SALNTY_FLAG_W,OXYGEN,OXYGEN_FLAG_W,SILCAT,SILCAT_FLAG_W,PHSPHT,PHSPHT_FLAG_W,TCARBN,TCARBN_FLAG_W,ALKALI,ALKALI_FLAG_W,NO2+NO3,NO2+NO3_FLAG_W,CFC-11,CFC-11_FLAG_W,CFC-12,CFC-12_FLAG_W,CFC113,CFC113_FLAG_W,CCL4,CCL4_FLAG_W,THETA,SF6,SF6_FLAG_W
,,,,,,,,,,,METERS,DBAR,ITS-90,PSS-78,PSS-78,,UMOL/KG,,UMOL/KG,,UMOL/KG,,UMOL/KG,,UMOL/KG,,UMOL/KG,,PMOL/L,,PMOL/L,,PMOL/L,,PMOL/L,,ITS-90,FMOL/L,
  74DI20100106,        A05,      55,          1,          1,          1,3,20100120,       0331,   24.51364,  -64.01611,       5628,     4.4,  25.4542,  36.2182,-999.0000,9,  -999.0,9, -999.00,9, -999.00,9,  -999.0,9,  -999.0,9, -999.00,9,     -999.0,9,     -999.0,9,     -999.0,9,     -999.0,9,    25.4532,     -999.0,9
  74DI20100106,        A05,      55,          1,          2,          2,2,20100120,       0331,   24.51364,  -64.01611,       5628,  5726.1,   2.0784,  34.8479,  34.8488,2,   245.4,2,   58.42,2,    1.55,2,  -999.0,9,  -999.0,9,   23.51,2,     -999.0,1,     -999.0,1,     -999.0,1,     -999.0,1,     1.5297,     -999.0,1
  74DI20100106,        A05,      55,          1,          3,          3,2,20100120,       0331,   24.51364,  -64.01611,       5628,  5354.7,   2.0883,  34.8555,  34.8572,2,   248.2,2,   54.50,2,    1.51,2,  -999.0,9,  -999.0,9,   22.95,2,     -999.0,1,     -999.0,1,     -999.0,1,     -999.0,1,     1.5879,     -999.0,1
  74DI20100106,        A05,      55,          1,          4,          4,2,20100120,       0331,   24.51364,  -64.01611,       5628,  4841.6,   2.2688,  34.8850,  34.8855,2,   255.3,2,   38.60,2,    1.35,2,  -999.0,9,  -999.0,9,   20.73,2,     -999.0,1,     -999.0,1,     -999.0,1,     -999.0,1,     1.8270,     -999.0,1
  74DI20100106,        A05,      55,          1,          5,          5,2,20100120,       0331,   24.51364,  -64.01611,       5628,  4328.1,   2.3034,  34.8941,  34.8954,2,   258.5,2,   32.44,2,    1.30,2,  -999.0,9,  -999.0,9,   19.68,2,     -999.0,1,     -999.0,1,     -999.0,1,     -999.0,1,     1.9226,     -999.0,1
  74DI20100106,        A05,      55,          1,          6,          6,2,20100120,       0331,   24.51364,  -64.01611,       5628,  3817.7,   2.3542,  34.9022,  34.9018,2,   262.5,2,   29.63,2,    1.27,2,  -999.0,9,  -999.0,9,   19.25,2,     -999.0,1,     -999.0,1,     -999.0,1,     -999.0,1,     2.0306,     -999.0,1
  74DI20100106,        A05,      55,          1,          7,          7,2,20100120,       0331,   24.51364,  -64.01611,       5628,  3308.4,   2.5483,  34.9179,  34.9183,2,   257.1,2,   29.54,2,    1.31,2,  -999.0,9,  -999.0,9,   19.77,2,     -999.0,1,     -999.0,1,     -999.0,1,     -999.0,1,     2.2752,     -999.0,1
  74DI20100106,        A05,      55,          1,          8,          8,2,20100120,       0331,   24.51364,  -64.01611,       5628,  2799.1,   2.8463,  34.9403,  34.9404,2,   254.3,2,   26.45,2,    1.30,2,  -999.0,9,  -999.0,9,   19.67,2,     -999.0,1,     -999.0,1,     -999.0,1,     -999.0,1,     2.6195,     -999.0,1
  74DI20100106,        A05,      55,          1,          9,          9,2,20100120,       0331,   24.51364,  -64.01611,       5628,  2544.1,   3.0604,  34.9585,  34.9592,2,   248.6,2,   26.37,2,    1.30,2,  -999.0,9,  -999.0,9,   20.03,2,     -999.0,1,     -999.0,1,     -999.0,1,     -999.0,1,     2.8549,     -999.0,1
  74DI20100106,        A05,      55,          1,         10,         10,2,20100120,       0331,   24.51364,  -64.01611,       5628,  2289.9,   3.2956,  34.9749,  34.9763,2,   248.2,2,   23.00,2,    1.31,2,  -999.0,9,  -999.0,9,   19.82,2,     -999.0,1,     -999.0,1,     -999.0,1,     -999.0,1,     3.1109,     -999.0,1
  74DI20100106,        A05,      55,          1,         11,         11,2,20100120,       0331,   24.51364,  -64.01611,       5628,  2034.9,   3.6327,  35.0029,  35.0026,2,   249.1,2,   21.10,2,    1.30,2,  -999.0,9,  -999.0,9,   19.66,2,     -999.0,1,     -999.0,1,     -999.0,1,     -999.0,1,     3.4672,     -999.0,1
  74DI20100106,        A05,      55,          1,         12,         12,2,20100120,       0331,   24.51364,  -64.01611,       5628,  1781.2,   4.0476,  35.0254,  35.0272,2,   246.0,2,   17.11,2,    1.28,2,  -999.0,9,  -999.0,9,   19.48,2,     -999.0,1,     -999.0,1,     -999.0,1,     -999.0,1,     3.9004,     -999.0,1
  74DI20100106,        A05,      55,          1,         13,         13,3,20100120,       0331,   24.51364,  -64.01611,       5628,  1527.9,   4.5739,  35.0504,-999.0000,9,  -999.0,9, -999.00,9, -999.00,9,  -999.0,9,  -999.0,9, -999.00,9,     -999.0,9,     -999.0,9,     -999.0,9,     -999.0,9,     4.4444,     -999.0,9
  74DI20100106,        A05,      55,          1,         14,         14,2,20100120,       0331,   24.51364,  -64.01611,       5628,  1274.8,   5.2258,  35.0732,  35.0731,2,   223.5,2,   14.67,2,    1.32,2,  -999.0,9,  -999.0,9,   20.36,2,     -999.0,1,     -999.0,1,     -999.0,1,     -999.0,1,     5.1138,     -999.0,1
  74DI20100106,        A05,      55,          1,         15,         15,2,20100120,       0331,   24.51364,  -64.01611,       5628,  1023.0,   6.2968,  35.0134,  35.0158,2,   170.8,2,   19.21,2,    1.69,2,  -999.0,9,  -999.0,9,   26.05,2,     -999.0,1,     -999.0,1,     -999.0,1,     -999.0,1,     6.2006,     -999.0,1
  74DI20100106,        A05,      55,          1,         16,         16,2,20100120,       0331,   24.51364,  -64.01611,       5628,   883.5,   7.4123,  35.0218,  35.0180,2,   142.9,2,   19.44,2,    1.82,2,  -999.0,9,  -999.0,9,   28.50,2,     -999.0,9,     -999.0,9,     -999.0,9,     -999.0,9,     7.3228,     -999.0,9
  74DI20100106,        A05,      55,          1,         17,         17,2,20100120,       0331,   24.51364,  -64.01611,       5628,   756.9,   9.4511,  35.2488,  35.2425,2,   139.7,2,   14.28,2,    1.56,2,  -999.0,9,  -999.0,9,   25.22,2,     -999.0,9,     -999.0,9,     -999.0,9,     -999.0,9,     9.3635,     -999.0,9
  74DI20100106,        A05,      55,          1,         18,         18,2,20100120,       0331,   24.51364,  -64.01611,       5628,   630.5,  11.8987,  35.5649,  35.5610,2,   149.0,2,    8.82,2,    1.19,2,  2171.2,2,  2331.9,2,   19.61,2,     -999.0,9,     -999.0,9,     -999.0,9,     -999.0,9,    11.8150,     -999.0,9
  74DI20100106,        A05,      55,          1,         19,         19,2,20100120,       0331,   24.51364,  -64.01611,       5628,   505.8,  14.5920,  35.9489,  35.9464,2,   168.4,2,    4.73,2,    0.76,2,  -999.0,9,  -999.0,9,   12.90,2,     -999.0,9,     -999.0,9,     -999.0,9,     -999.0,9,    14.5155,     -999.0,9
  74DI20100106,        A05,      55,          1,         20,         20,2,20100120,       0331,   24.51364,  -64.01611,       5628,   380.1,  17.1182,  36.3839,  36.3838,2,   184.9,2,    2.24,2,    0.38,2,  2126.7,2,  2376.1,2,    7.15,2,     -999.0,1,     -999.0,1,     -999.0,1,     -999.0,1,    17.0543,     -999.0,1
  74DI20100106,        A05,      55,          1,         21,         21,2,20100120,       0331,   24.51364,  -64.01611,       5628,   252.2,  18.2993,  36.5723,  36.5742,2,   194.1,2,    1.34,2,    0.19,2,  -999.0,9,  -999.0,9,    4.06,2,     -999.0,9,     -999.0,9,     -999.0,9,     -999.0,9,    18.2550,     -999.0,9
  74DI20100106,        A05,      55,          1,         22,         22,2,20100120,       0331,   24.51364,  -64.01611,       5628,   176.4,  19.3994,  36.6567,  36.6608,2,   194.7,2,    0.90,2,    0.05,2,  2107.9,2,  2391.7,2,    1.55,2,     -999.0,9,     -999.0,9,     -999.0,9,     -999.0,9,    19.3672,     -999.0,9
  74DI20100106,        A05,      55,          1,         23,         23,2,20100120,       0331,   24.51364,  -64.01611,       5628,   111.1,  21.6763,  36.8611,  36.8649,2,   195.1,2,    0.69,2,    0.01,2,  -999.0,9,  -999.0,9,    0.07,2,     -999.0,9,     -999.0,9,     -999.0,9,     -999.0,9,    21.6543,     -999.0,9
  74DI20100106,        A05,      55,          1,         24,         24,2,20100120,       0331,   24.51364,  -64.01611,       5628,    50.6,  25.7411,  36.4333,  36.3040,3,   202.3,2,    1.01,2,    0.00,2,  2021.8,2,  2374.4,2,    0.00,2,     -999.0,1,     -999.0,1,     -999.0,1,     -999.0,1,    25.7299,     -999.0,1
  74DI20100106,        A05,      56,          1,          1,          1,2,20100120,       1142,   24.49544,  -63.29192,       5802,  5905.5,   2.0902,  34.8458,  34.8538,2,   243.9,2,   58.69,2,    1.61,2,  2203.1,2,  2345.8,2,   23.17,2,     -999.0,1,     -999.0,1,     -999.0,1,     -999.0,1,     1.5169,     -999.0,1
  74DI20100106,        A05,      56,          1,          2,          2,2,20100120,       1142,   24.49544,  -63.29192,       5802,  5622.0,   2.0613,  34.8477,  34.8477,2,   243.6,2,   58.28,2,    1.61,2,  2203.8,2,  2345.0,2,   23.23,2,     -999.0,1,     -999.0,1,     -999.0,1,     -999.0,1,     1.5270,     -999.0,1
  74DI20100106,        A05,      56,          1,          3,          3,2,20100120,       1142,   24.49544,  -63.29192,       5802,  5106.9,   2.1320,  34.8648,  34.8646,2,   250.0,2,   49.68,2,    1.52,2,  2194.2,2,  2339.3,2,   21.89,2,     -999.0,1,     -999.0,1,     -999.0,1,     -999.0,1,     1.6617,     -999.0,1
  74DI20100106,        A05,      56,          1,          4,          4,10,20100120,       1142,   24.49544,  -63.29192,       5802,  4592.5,   2.2711,  34.8884,  34.8901,2,   257.3,2,   36.80,2,    1.39,2,  2182.1,2,  2329.6,2,   20.12,2,     -999.0,1,     -999.0,1,     -999.0,1,     -999.0,1,     1.8597,     -999.0,1
  74DI20100106,        A05,      56,          1,          5,          5,2,20100120,       1142,   24.49544,  -63.29192,       5802,  4078.8,   2.3304,  34.8981,  34.9011,2,   259.4,2,   33.36,2,    1.36,2,  2176.5,2,  2327.0,2,   19.63,2,     -999.0,1,     -999.0,1,     -999.0,1,     -999.0,1,     1.9778,     -999.0,1
  74DI20100106,        A05,      56,          1,          6,          6,2,20100120,       1142,   24.49544,  -63.29192,       5802,  3566.5,   2.4773,  34.9109,  34.9111,2,   254.3,2,   33.36,2,    1.38,2,  2174.1,2,  2328.5,2,   20.05,2,     -999.0,1,     -999.0,1,     -999.0,1,     -999.0,1,     2.1783,     -999.0,1
  74DI20100106,        A05,      56,          1,          7,          7,2,20100120,       1142,   24.49544,  -63.29192,       5802,  3056.1,   2.7211,  34.9317,  34.9293,2,   249.8,2,   31.55,2,    1.40,2,  2176.5,2,  2327.1,2,   20.20,2,     -999.0,1,     -999.0,1,     -999.0,1,     -999.0,1,     2.4705,     -999.0,1
  74DI20100106,        A05,      56,          1,          8,          8,2,20100120,       1142,   24.49544,  -63.29192,       5802,  2545.8,   3.0638,  34.9592,  34.9596,2,   249.7,2,   27.12,2,    1.39,2,  2176.8,2,  2324.9,2,   20.16,2,     -999.0,1,     -999.0,1,     -999.0,1,     -999.0,1,     2.8581,     -999.0,1
  74DI20100106,        A05,      56,          1,          9,          9,2,20100120,       1142,   24.49544,  -63.29192,       5802,  2292.1,   3.3093,  34.9783,  34.9793,2,   249.3,2,   24.01,2,    1.36,2,  -999.0,9,  -999.0,9,   19.53,2,     -999.0,1,     -999.0,1,     -999.0,1,     -999.0,1,     3.1241,     -999.0,1
  74DI20100106,        A05,      56,          1,         10,         10,2,20100120,       1142,   24.49544,  -63.29192,       5802,  2038.6,   3.6761,  35.0097,  35.0140,2,   245.2,2,   21.56,2,    1.35,2,  2173.5,2,  2322.9,2,   19.81,2,     -999.0,1,     -999.0,1,     -999.0,1,     -999.0,1,     3.5095,     -999.0,1
  74DI20100106,        A05,      56,          1,         11,         11,10,20100120,       1142,   24.49544,  -63.29192,       5802,  1785.6,   4.0990,  35.0297,  35.0331,2,   246.0,2,   16.70,2,    1.32,2,  -999.0,9,  -999.0,9,   19.11,2,     -999.0,1,     -999.0,1,     -999.0,1,     -999.0,1,     3.9508,     -999.0,1
  74DI20100106,        A05,      56,          1,         12,         12,2,20100120,       1142,   24.49544,  -63.29192,       5802,  1531.1,   4.5649,  35.0496,  35.0510,2,   240.9,2,   14.44,2,    1.31,2,  2168.7,2,  2315.6,2,   19.15,2,     -999.0,1,     -999.0,1,     -999.0,1,     -999.0,1,     4.4352,     -999.0,1
  74DI20100106,        A05,      56,          1,         13,         13,2,20100120,       1142,   24.49544,  -63.29192,       5802,  1278.4,   5.3608,  35.0709,  35.0719,2,   216.2,2,   15.34,2,    1.43,2,  -999.0,9,  -999.0,9,   21.07,2,     -999.0,1,     -999.0,1,     -999.0,1,     -999.0,1,     5.2471,     -999.0,1
  74DI20100106,        A05,      56,          1,         14,         14,2,20100120,       1142,   24.49544,  -63.29192,       5802,  1010.9,   6.2746,  34.9408,  34.9379,2,   153.3,2,   21.68,2,    1.95,2,  2205.7,2,  2312.4,2,   28.66,2,     -999.0,1,     -999.0,1,     -999.0,1,     -999.0,1,     6.1799,     -999.0,1
  74DI20100106,        A05,      56,          1,         15,         15,10,20100120,       1142,   24.49544,  -63.29192,       5802,   883.6,   7.7182,  35.0503,  35.0525,2,   138.0,2,   18.78,2,    1.87,2,  -999.0,9,  -999.0,9,   28.34,2,     -999.0,1,     -999.0,1,     -999.0,1,     -999.0,1,     7.6266,     -999.0,1
  74DI20100106,        A05,      56,          1,         16,         16,2,20100120,       1142,   24.49544,  -63.29192,       5802,   757.3,   9.6262,  35.2478,  35.2432,2,   136.9,2,   14.23,2,    1.65,2,  2193.9,2,  2320.2,2,   25.30,2,     -999.0,1,     -999.0,1,     -999.0,1,     -999.0,1,     9.5376,     -999.0,1
  74DI20100106,        A05,      56,          1,         17,         17,2,20100120,       1142,   24.49544,  -63.29192,       5802,   630.7,  12.4925,  35.6479,  35.6500,2,   151.1,2,    7.66,2,    1.18,2,  -999.0,9,  -999.0,9,   18.34,2,     -999.0,9,     -999.0,9,     -999.0,9,     -999.0,9,    12.4060,     -999.0,9
  74DI20100106,        A05,      56,          1,         18,         18,2,20100120,       1142,   24.49544,  -63.29192,       5802,   504.1,  14.6420,  35.9351,  35.9391,2,   153.4,2,    5.13,2,    0.94,2,  2160.6,2,  2350.2,2,   14.32,2,     -999.0,1,     -999.0,1,     -999.0,9,     -999.0,9,    14.5656,     -999.0,1
  74DI20100106,        A05,      56,          1,         19,         19,2,20100120,       1142,   24.49544,  -63.29192,       5802,   378.9,  17.3792,  36.4329,  36.4329,2,   190.1,2,    2.12,2,    0.40,2,  2121.6,2,  2383.0,2,    6.09,2,     -999.0,1,     -999.0,1,     -999.0,9,     -999.0,9,    17.3148,     -999.0,1
  74DI20100106,        A05,      56,          1,         20,         20,2,20100120,       1142,   24.49544,  -63.29192,       5802,   252.7,  18.6370,  36.6002,  36.6007,2,   194.0,2,    1.29,2,    0.21,2,  -999.0,9,  -999.0,9,    3.13,2,     -999.0,9,     -999.0,9,     -999.0,9,     -999.0,9,    18.5920,     -999.0,9
  74DI20100106,        A05,      56,          1,         21,         21,2,20100120,       1142,   24.49544,  -63.29192,       5802,   176.2,  20.1943,  36.7369,  36.7413,2,   191.7,2,    0.87,2,    0.19,2,  2109.1,2,  2397.7,2,    0.60,2,     -999.0,1,     -999.0,1,     -999.0,9,     -999.0,9,    20.1612,     -999.0,1
  74DI20100106,        A05,      56,          1,         22,         22,2,20100120,       1142,   24.49544,  -63.29192,       5802,   100.7,  24.2428,  36.8928,  36.9005,2,   208.7,2,    0.87,2,    0.10,2,  -999.0,9,  -999.0,9,    0.00,2,     -999.0,9,     -999.0,9,     -999.0,9,     -999.0,9,    24.2213,     -999.0,9
  74DI20100106,        A05,      56,          1,         23,         23,10,20100120,       1142,   24.49544,  -63.29192,       5802,    50.1,  25.4682,  36.4015,  36.3986,2,   203.5,2,    1.08,2,    0.09,2,  2029.7,2,  2377.7,2,    0.00,2,     -999.0,1,     -999.0,1,     -999.0,9,     -999.0,9,    25.4572,     -999.0,1
  74DI20100106,        A05,      56,          1,         24,         24,2,20100120,       1142,   24.49544,  -63.29192,       5802,     5.1,  25.3890,  36.2818,  36.2820,2,   203.5,2,    1.10,2,    0.15,2,  2021.2,2,  2370.8,2,    0.00,2,     -999.0,1,     -999.0,1,     -999.0,1,     -999.0,1,    25.3879,     -999.0,1