BOTTLE,20200115CCHSIOCBG
EXPOCODE,SECT_ID,STNNBR,CASTNO,SAMPNO,BTLNBR,BTLNBR_FLAG_W,DATE,TIME,LATITUDE,LONGITUDE,DEPTH,CTDPRS,CTDTMP,CTDSAL,SALNTY,SALNTY_FLAG_W,OXYGEN,OXYGEN_FLAG_W,SILCAT,SILCAT_FLAG_W,PHSPHT,PHSPHT_FLAG_W,TCARBN,TCARBN_FLAG_W,ALKALI,ALKALI_FLAG_W,NO2+NO3,NO2+NO3_FLAG_W,CFC-11,CFC-11_FLAG_W,CFC-12,CFC-12_FLAG_W,CFC113,CFC113_FLAG_W,CCL4,CCL4_FLAG_W,THETA,SF6,SF6_FLAG_W
,,,,,,,,,,,METERS,DBAR,ITS-90,PSS-78,PSS-78,,UMOL/KG,,UMOL/KG,,UMOL/KG,,UMOL/KG,,UMOL/KG,,UMOL/KG,,PMOL/L,,PMOL/L,,PMOL/L,,PMOL/L,,ITS-90,FMOL/L,
  74DI20100106,        A05,     103,          1,          1,         25,3,20100206,       1218,   24.49397,  -32.35736,       5649,  5743.3,   2.4564,  34.8811,-999.0000,9,  -999.0,9, -999.00,9, -999.00,9,  -999.0,9,  -999.0,9, -999.00,9,     -999.0,9,     -999.0,9,     -999.0,9,     -999.0,9,     1.8910,     -999.0,9
  74DI20100106,        A05,     103,          1,          2,          2,2,20100206,       1218,   24.49397,  -32.35736,       5649,  5358.4,   2.4145,  34.8824,  34.8803,2,   240.4,2,   49.41,2, -999.00,9,  2197.1,2,  -999.0,9,   22.36,2,     -999.0,1,     -999.0,1,     -999.0,1,     -999.0,1,     1.9019,     -999.0,1
  74DI20100106,        A05,     103,          1,          3,          3,2,20100206,       1218,   24.49397,  -32.35736,       5649,  4833.8,   2.4001,  34.8880,  34.8860,2,   239.0,2,   48.86,2, -999.00,9,  2198.4,2,  -999.0,9,   22.53,2,     -999.0,1,     -999.0,1,     -999.0,1,     -999.0,1,     1.9550,     -999.0,1
  74DI20100106,        A05,     103,          1,          4,          4,2,20100206,       1218,   24.49397,  -32.35736,       5649,  4320.4,   2.4000,  34.8944,  34.8931,2,   238.9,2,   46.56,2, -999.00,9,  2196.4,2,  -999.0,9,   21.98,2,     -999.0,1,     -999.0,1,     -999.0,1,     -999.0,1,     2.0173,     -999.0,1
  74DI20100106,        A05,     103,          1,          5,          5,2,20100206,       1218,   24.49397,  -32.35736,       5649,  3808.5,   2.4623,  34.9060,  34.9056,2,   239.9,2,   43.91,2, -999.00,9,  2191.8,2,  -999.0,9,   21.91,2,     -999.0,1,     -999.0,1,     -999.0,1,     -999.0,1,     2.1368,     -999.0,1
  74DI20100106,        A05,     103,          1,          6,          6,2,20100206,       1218,   24.49397,  -32.35736,       5649,  3297.4,   2.6194,  34.9263,  34.9269,2,   238.2,2,   39.87,2, -999.00,9,  2186.8,2,  -999.0,9,   22.02,2,     -999.0,1,     -999.0,1,     -999.0,1,     -999.0,1,     2.3458,     -999.0,1
  74DI20100106,        A05,     103,          1,          7,          7,2,20100206,       1218,   24.49397,  -32.35736,       5649,  2788.3,   2.9480,  34.9596,  34.9589,2,   239.0,2,   33.14,2, -999.00,9,  2182.1,2,  -999.0,9,   21.23,2,     -999.0,1,     -999.0,1,     -999.0,1,     -999.0,1,     2.7201,     -999.0,1
  74DI20100106,        A05,     103,          1,          8,          8,2,20100206,       1218,   24.49397,  -32.35736,       5649,  2533.5,   3.2328,  34.9867,  34.9859,2,   236.8,2,   29.15,2, -999.00,9,  -999.0,9,  -999.0,9,   20.55,2,     -999.0,1,     -999.0,1,     -999.0,1,     -999.0,1,     3.0251,     -999.0,1
  74DI20100106,        A05,     103,          1,          9,          9,2,20100206,       1218,   24.49397,  -32.35736,       5649,  2278.9,   3.6088,  35.0205,  35.0204,2,   232.7,2,   25.73,2, -999.00,9,  2176.8,2,  -999.0,9,   20.74,2,     -999.0,1,     -999.0,1,     -999.0,1,     -999.0,1,     3.4197,     -999.0,1
  74DI20100106,        A05,     103,          1,         10,         10,2,20100206,       1218,   24.49397,  -32.35736,       5649,  2025.5,   4.0759,  35.0615,  35.0614,2,   225.6,2,   23.09,2, -999.00,9,  -999.0,9,  -999.0,9,   21.15,2,     -999.0,1,     -999.0,1,     -999.0,1,     -999.0,1,     3.9045,     -999.0,1
  74DI20100106,        A05,     103,          1,         11,         11,2,20100206,       1218,   24.49397,  -32.35736,       5649,  1771.5,   4.5400,  35.0953,  35.0949,2,   217.2,2,   21.18,2, -999.00,9,  2178.9,2,  -999.0,9,   21.35,2,     -999.0,1,     -999.0,1,     -999.0,1,     -999.0,1,     4.3871,     -999.0,1
  74DI20100106,        A05,     103,          1,         12,         12,3,20100206,       1218,   24.49397,  -32.35736,       5649,  1519.1,   5.2390,  35.1353,-999.0000,9,  -999.0,9, -999.00,9, -999.00,9,  -999.0,9,  -999.0,9, -999.00,9,     -999.0,9,     -999.0,9,     -999.0,9,     -999.0,9,     5.1026,     -999.0,9
  74DI20100106,        A05,     103,          1,         13,         13,2,20100206,       1218,   24.49397,  -32.35736,       5649,  1265.9,   6.0127,  35.1364,  35.1363,2,   180.2,2,   18.87,2, -999.00,9,  2188.4,2,  -999.0,9,   24.52,2,     -999.0,1,     -999.0,1,     -999.0,1,     -999.0,1,     5.8940,     -999.0,1
  74DI20100106,        A05,     103,          1,         14,         14,2,20100206,       1218,   24.49397,  -32.35736,       5649,  1012.5,   6.9181,  35.0994,  35.0993,2,   146.8,2,   19.80,2, -999.00,9,  -999.0,9,  -999.0,9,   27.98,2,     -999.0,1,     -999.0,1,     -999.0,1,     -999.0,1,     6.8182,     -999.0,1
  74DI20100106,        A05,     103,          1,         15,         26,2,20100206,       1218,   24.49397,  -32.35736,       5649,   887.2,   7.8990,  35.1551,  35.1524,2,   129.9,2,   18.40,2, -999.00,9,  -999.0,9,  -999.0,9,   28.25,2,     -999.0,9,     -999.0,9,     -999.0,9,     -999.0,9,     7.8057,     -999.0,9
  74DI20100106,        A05,     103,          1,         16,         16,2,20100206,       1218,   24.49397,  -32.35736,       5649,   755.9,   9.1384,  35.2752,  35.2734,2,   119.7,2,   15.47,2, -999.00,9,  -999.0,9,  -999.0,9,   27.45,2,     -999.0,9,     -999.0,9,     -999.0,9,     -999.0,9,     9.0526,     -999.0,1
  74DI20100106,        A05,     103,          1,         17,         17,2,20100206,       1218,   24.49397,  -32.35736,       5649,   504.7,  12.6935,  35.7180,  35.7137,2,   158.1,2,    6.35,2, -999.00,9,  2165.2,2,  -999.0,9,   16.37,2,     -999.0,9,     -999.0,9,     -999.0,9,     -999.0,9,    12.6239,     -999.0,9
  74DI20100106,        A05,     103,          1,         18,         18,2,20100206,       1218,   24.49397,  -32.35736,       5649,   378.6,  14.7708,  36.0282,  36.0314,2,   166.9,2,    4.11,2, -999.00,9,  -999.0,9,  -999.0,9,   12.06,2,     -999.0,1,     -999.0,1,     -999.0,9,     -999.0,9,    14.7133,     -999.0,1
  74DI20100106,        A05,     103,          1,         19,         19,3,20100206,       1218,   24.49397,  -32.35736,       5649,   252.2,  17.1166,  36.4335,-999.0000,9,  -999.0,9, -999.00,9, -999.00,9,  -999.0,9,  -999.0,9, -999.00,9,     -999.0,9,     -999.0,9,     -999.0,9,     -999.0,9,    17.0743,     -999.0,9
  74DI20100106,        A05,     103,          1,         20,         20,2,20100206,       1218,   24.49397,  -32.35736,       5649,   176.3,  19.7484,  36.9785,  36.9836,2,   195.8,2,    1.10,2, -999.00,9,  2128.1,2,  -999.0,9,    1.52,2,     -999.0,1,     -999.0,1,     -999.0,9,     -999.0,9,    19.7158,     -999.0,1
  74DI20100106,        A05,     103,          1,         21,         21,2,20100206,       1218,   24.49397,  -32.35736,       5649,   121.7,  21.0785,  37.1512,  37.1528,2,   201.9,2,    0.94,2, -999.00,9,  2124.6,2,  -999.0,9,    0.54,2,     -999.0,1,     -999.0,1,     -999.0,9,     -999.0,9,    21.0549,     -999.0,1
  74DI20100106,        A05,     103,          1,         22,         22,2,20100206,       1218,   24.49397,  -32.35736,       5649,   121.8,  21.0862,  37.1513,-999.0000,9,  -999.0,9,    0.83,2, -999.00,9,  -999.0,9,  -999.0,9,    0.00,2,     -999.0,9,     -999.0,9,     -999.0,9,     -999.0,9,    21.0626,     -999.0,9
  74DI20100106,        A05,     103,          1,         23,         23,2,20100206,       1218,   24.49397,  -32.35736,       5649,    51.8,  22.9593,  37.4975,  37.4976,2,   207.3,2,    0.84,2, -999.00,9,  -999.0,9,  -999.0,9,    0.00,2,     -999.0,9,     -999.0,9,     -999.0,9,     -999.0,9,    22.9486,     -999.0,9
  74DI20100106,        A05,     103,          1,         24,         24,2,20100206,       1218,   24.49397,  -32.35736,       5649,     4.6,  23.0406,  37.4983,  37.4983,2,   207.2,2,    0.84,2, -999.00,9,  2106.3,2,  -999.0,9,    0.00,2,     -999.0,1,     -999.0,1,     -999.0,1,     -999.0,1,    23.0397,     -999.0,1
  74DI20100106,        A05,     104,          1,          1,         25,10,20100206,       1957,   24.49761,  -31.68083,       5674,  5772.4,   2.4708,  34.8822,  34.8832,2,   238.7,2,   50.53,2,    1.50,2,  -999.0,9,  -999.0,9,   22.46,2,     -999.0,1,     -999.0,1,     -999.0,1,     -999.0,1,     1.9009,     -999.0,1
  74DI20100106,        A05,     104,          1,          2,          2,2,20100206,       1957,   24.49761,  -31.68083,       5674,  5618.5,   2.4493,  34.8823,  34.8824,2,   240.5,2,   51.10,2,    1.50,2,  2197.8,2,  2349.1,2,   22.81,2,     -999.0,1,     -999.0,1,     -999.0,1,     -999.0,1,     1.9009,     -999.0,1
  74DI20100106,        A05,     104,          1,          3,          3,2,20100206,       1957,   24.49761,  -31.68083,       5674,  5102.5,   2.4010,  34.8847,  34.8848,2,   239.9,2,   50.30,2,    1.50,2,  2197.6,2,  2348.7,2,   22.52,2,     -999.0,1,     -999.0,1,     -999.0,1,     -999.0,1,     1.9220,     -999.0,1
  74DI20100106,        A05,     104,          1,          4,          4,2,20100206,       1957,   24.49761,  -31.68083,       5674,  4587.8,   2.3825,  34.8895,  34.8896,2,   238.4,2,   49.34,2,    1.50,2,  2195.5,2,  2350.4,2,   22.63,2,     -999.0,1,     -999.0,1,     -999.0,1,     -999.0,1,     1.9683,     -999.0,1
  74DI20100106,        A05,     104,          1,          5,          5,2,20100206,       1957,   24.49761,  -31.68083,       5674,  4076.0,   2.4007,  34.8975,  34.8978,2,   239.0,2,   47.21,2,    1.48,2,  2196.0,2,  2353.3,2,   22.43,2,     -999.0,1,     -999.0,1,     -999.0,1,     -999.0,1,     2.0465,     -999.0,1
  74DI20100106,        A05,     104,          1,          6,          6,2,20100206,       1957,   24.49761,  -31.68083,       5674,  3565.9,   2.5057,  34.9130,  34.9135,2,   238.9,2,   44.03,2,    1.46,2,  2192.6,2,  2345.5,2,   22.11,2,     -999.0,1,     -999.0,1,     -999.0,1,     -999.0,1,     2.2060,     -999.0,1
  74DI20100106,        A05,     104,          1,          7,          7,2,20100206,       1957,   24.49761,  -31.68083,       5674,  3056.8,   2.7349,  34.9388,  34.9391,2,   238.8,2,   38.28,2,    1.43,2,  2186.8,2,  2339.7,2,   21.41,2,     -999.0,1,     -999.0,1,     -999.0,1,     -999.0,1,     2.4840,     -999.0,1
  74DI20100106,        A05,     104,          1,          8,          8,2,20100206,       1957,   24.49761,  -31.68083,       5674,  2545.7,   3.1846,  34.9822,  34.9829,2,   237.6,2,   30.65,2,    1.38,2,  2181.6,2,  2331.4,2,   21.10,2,     -999.0,1,     -999.0,1,     -999.0,1,     -999.0,1,     2.9766,     -999.0,1
  74DI20100106,        A05,     104,          1,          9,          9,2,20100206,       1957,   24.49761,  -31.68083,       5674,  2290.3,   3.5176,  35.0122,  35.0125,2,   233.5,2,   27.28,2,    1.38,2,  -999.0,9,  -999.0,9,   20.90,2,     -999.0,1,     -999.0,1,     -999.0,1,     -999.0,1,     3.3289,     -999.0,1
  74DI20100106,        A05,     104,          1,         10,         10,2,20100206,       1957,   24.49761,  -31.68083,       5674,  2036.9,   3.9725,  35.0501,  35.0506,2,   227.0,2,   24.14,2,    1.39,2,  2177.1,2,  2327.4,2,   21.33,2,     -999.0,1,     -999.0,1,     -999.0,1,     -999.0,1,     3.8015,     -999.0,1
  74DI20100106,        A05,     104,          1,         11,         11,2,20100206,       1957,   24.49761,  -31.68083,       5674,  1782.2,   4.4873,  35.0902,  35.0902,2,   217.6,2,   21.73,2,    1.40,2,  -999.0,9,  -999.0,9,   21.55,2,     -999.0,1,     -999.0,1,     -999.0,1,     -999.0,1,     4.3340,     -999.0,1
  74DI20100106,        A05,     104,          1,         12,         12,2,20100206,       1957,   24.49761,  -31.68083,       5674,  1528.8,   5.2132,  35.1355,  35.1364,2,   201.6,2,   19.94,2,    1.45,2,  2183.0,2,  2325.9,2,   22.44,2,     -999.0,1,     -999.0,1,     -999.0,1,     -999.0,1,     5.0761,     -999.0,1
  74DI20100106,        A05,     104,          1,         13,         13,2,20100206,       1957,   24.49761,  -31.68083,       5674,  1278.3,   6.1678,  35.1735,  35.1744,2,   177.7,2,   19.11,2,    1.55,2,  -999.0,9,  -999.0,9,   24.09,2,     -999.0,1,     -999.0,1,     -999.0,1,     -999.0,1,     6.0463,     -999.0,9
  74DI20100106,        A05,     104,          1,         14,         14,2,20100206,       1957,   24.49761,  -31.68083,       5674,  1014.0,   6.8516,  35.1125,  35.1126,2,   149.3,2,   19.86,2,    1.74,2,  2203.7,2,  2322.7,3,   27.33,2,     -999.0,1,     -999.0,1,     -999.0,1,     -999.0,1,     6.7519,     -999.0,9
  74DI20100106,        A05,     104,          1,         15,         26,2,20100206,       1957,   24.49761,  -31.68083,       5674,   887.5,   7.6281,  35.1572,  35.1576,2,   135.3,2,   18.82,2,    1.78,2,  -999.0,9,  -999.0,9,   27.89,2,     -999.0,1,     -999.0,1,     -999.0,1,     -999.0,1,     7.5365,     -999.0,9
  74DI20100106,        A05,     104,          1,         16,         16,2,20100206,       1957,   24.49761,  -31.68083,       5674,   758.6,   9.0224,  35.2854,  35.2823,2,   126.7,2,   15.62,2,    1.65,2,  2204.1,2,  2324.2,3,   26.78,2,     -999.0,1,     -999.0,1,     -999.0,1,     -999.0,1,     8.9369,     -999.0,1
  74DI20100106,        A05,     104,          1,         17,         17,2,20100206,       1957,   24.49761,  -31.68083,       5674,   631.1,  10.5842,  35.4544,  35.4533,2,   132.3,2,   11.17,2,    1.39,2,  2193.5,2,  2324.3,3,   23.11,2,     -999.0,1,     -999.0,1,     -999.0,1,     -999.0,1,    10.5063,     -999.0,1
  74DI20100106,        A05,     104,          1,         18,         18,2,20100206,       1957,   24.49761,  -31.68083,       5674,   500.9,  12.6153,  35.7038,  35.7041,2,   164.7,2,    6.37,2,    0.93,2,  -999.0,9,  -999.0,9,   15.88,2,     -999.0,9,     -999.0,9,     -999.0,9,     -999.0,9,    12.5465,     -999.0,9
  74DI20100106,        A05,     104,          1,         19,         19,2,20100206,       1957,   24.49761,  -31.68083,       5674,   378.3,  15.0668,  36.0737,  36.0760,2,   182.4,2,    3.46,2,    0.55,2,  2142.8,2,  2361.9,2,    9.72,2,     -999.0,1,     -999.0,1,     -999.0,9,     -999.0,9,    15.0086,     -999.0,1
  74DI20100106,        A05,     104,          1,         20,         20,2,20100206,       1957,   24.49761,  -31.68083,       5674,   254.6,  16.9390,  36.3945,  36.3959,2,   189.0,2,    2.17,2,    0.32,2,  -999.0,9,  -999.0,9,    6.16,2,     -999.0,9,     -999.0,9,     -999.0,9,     -999.0,9,    16.8967,     -999.0,9
  74DI20100106,        A05,     104,          1,         21,         21,2,20100206,       1957,   24.49761,  -31.68083,       5674,   176.3,  18.9610,  36.8217,  36.8224,2,   191.3,2,    1.36,2,    0.17,2,  2131.4,2,  2402.9,2,    3.14,2,     -999.0,1,     -999.0,1,     -999.0,9,     -999.0,9,    18.9292,     -999.0,1
  74DI20100106,        A05,     104,          1,         22,         22,2,20100206,       1957,   24.49761,  -31.68083,       5674,    91.8,  21.7953,  37.2660,  37.2868,2,   209.6,2,    0.86,2,    0.00,2,  -999.0,9,  -999.0,9,    0.00,2,     -999.0,9,     -999.0,9,     -999.0,9,     -999.0,9,    21.7771,     -999.0,9
  74DI20100106,        A05,     104,          1,         23,         23,2,20100206,       1957,   24.49761,  -31.68083,       5674,    50.0,  22.7667,  37.4591,  37.4595,2,   208.8,2,    0.85,2,    0.00,2,  2108.0,2,  2440.1,2,    0.00,2,     -999.0,1,     -999.0,1,     -999.0,9,     -999.0,9,    22.7564,     -999.0,1
  74DI20100106,        A05,     104,          1,         24,         24,2,20100206,       1957,   24.49761,  -31.68083,       5674,     5.5,  22.8362,  37.4595,  37.4592,2,   209.0,2,    0.85,2,    0.00,2,  2110.2,2,  2441.7,2,    0.00,2,     -999.0,1,     -999.0,1,     -999.0,1,     -999.0,1,    22.8351,     -999.0,1