BOTTLE,20200115CCHSIOCBG
# Merged parameters: TCARBN, TCARBN_FLAG_W, ALKALI, ALKALI_FLAG_W
# 20100220OOCNOCBAK
# Original header:
# There are 12 instances of the bottle quality flag being set to 10. These correspond to cases where there was something anomalous about the bottle closure. The samples are believed to be good. The cruise used 20 litre bottles. In the majority of cases, the bottleappeared to have closed normally. The CFC sampler reported that a dribble leaked out of the bottom tap when it was pushed in even though the top vent was still closed. We could not find any other bottle QC flag to describe this situation. We do not consider that the bottle leaked under water to make the samples questionable. Likewise we did not with to use BOTTLE_QC_FLAG 2 because this information about on-deck dribbling would have been lost.
# The CTD PRS;  TMP;  SAL;  OXY; data are all calibrated and good .
#
#BOTTLE,20120321PRINUNIVRMK
# 3/13/20121 Initialized README file  
# Data source: 8/3/2011 un-processed file a05_hy.csv.gz downloaded from CCHDO 
#       carbon from U.Schuster 3/9/2012 
# SHIP: Discovery 
# Cruise: DI346 
# Region: A5 section at 24N 
# EXPOCODE: 74DI20100106 
# DATES: 1/6 - 2/18/2010 
# Chief Scientist: Brian King 
# 137 stations with 24 place Rosette 
# Hydro: Who - B. King, NOC; Status - final
#       Notes:   
# Nuts: Who - S Torres-Vlades, NOC; Status - final
#       Notes:  
#       nitrate is NO2+NO3 
# O2: Who - S Torres-Vlades, NOC; Status - final
#       Notes:  
# TCO2: Who - U.Schuster, UEA; Status - final 
#       Notes:  
# TA: Who - U.Schuster, UEA; Status - final 
#       Notes:  
# CFC: Who - M-J Messias, UEA; Status - measured
#       Notes:    
# C14: Who - ; Status -   
#       Notes:    
# H3/He3: Who - ; Status -   
#       Notes:    
# Other: Who -  ; Status -     
#       Notes:  
# References: 
EXPOCODE,SECT_ID,STNNBR,CASTNO,SAMPNO,BTLNBR,BTLNBR_FLAG_W,DATE,TIME,LATITUDE,LONGITUDE,DEPTH,CTDPRS,CTDTMP,CTDSAL,SALNTY,SALNTY_FLAG_W,OXYGEN,OXYGEN_FLAG_W,SILCAT,SILCAT_FLAG_W,PHSPHT,PHSPHT_FLAG_W,TCARBN,TCARBN_FLAG_W,ALKALI,ALKALI_FLAG_W,NO2+NO3,NO2+NO3_FLAG_W,CFC-11,CFC-11_FLAG_W,CFC-12,CFC-12_FLAG_W,CFC113,CFC113_FLAG_W,CCL4,CCL4_FLAG_W,THETA,SF6,SF6_FLAG_W
,,,,,,,,,,,METERS,DBAR,ITS-90,PSS-78,PSS-78,,UMOL/KG,,UMOL/KG,,UMOL/KG,,UMOL/KG,,UMOL/KG,,UMOL/KG,,PMOL/L,,PMOL/L,,PMOL/L,,PMOL/L,,ITS-90,FMOL/L,
  74DI346_1,        A05,       1,          1,          1,          1,2,20100106,       1720,   27.83502,  -78.84019,        852,   843.5,   6.0308,  35.0649,  35.0669,2,   206.4,2, -999.00,9, -999.00,9,  2180.9,2,  -999.0,9, -999.00,9,     -999.0,9,     -999.0,9,     -999.0,9,     -999.0,9,     5.9541,     -999.0,9
  74DI20100106,        A05,       1,          1,          2,          2,2,20100106,       1720,   27.83502,  -78.84019,        852,   843.3,   6.0357,  35.0648,  35.0667,2,   204.3,2, -999.00,9, -999.00,9,  2182.1,2,  -999.0,9, -999.00,9,     -999.0,9,     -999.0,9,     -999.0,9,     -999.0,9,     5.9590,     -999.0,9
  74DI20100106,        A05,       1,          1,          3,          3,2,20100106,       1720,   27.83502,  -78.84019,        852,   843.4,   6.0421,  35.0653,  35.0671,2,   203.8,2, -999.00,9, -999.00,9,  2183.6,2,  -999.0,9, -999.00,9,     -999.0,9,     -999.0,9,     -999.0,9,     -999.0,9,     5.9654,     -999.0,9
  74DI20100106,        A05,       1,          1,          4,          4,2,20100106,       1720,   27.83502,  -78.84019,        852,   806.8,   7.3785,  35.1146,  35.1161,2,   170.4,2, -999.00,9, -999.00,9,  2192.9,2,  -999.0,9, -999.00,9,     -999.0,9,     -999.0,9,     -999.0,9,     -999.0,9,     7.2972,     -999.0,9
  74DI20100106,        A05,       1,          1,          5,          5,3,20100106,       1720,   27.83502,  -78.84019,        852,   807.3,   7.4120,  35.1149,-999.0000,9,  -999.0,9, -999.00,3, -999.00,3,  -999.0,9,  -999.0,9, -999.00,3,     -999.0,9,     -999.0,9,     -999.0,9,     -999.0,9,     7.3305,     -999.0,9
  74DI20100106,        A05,       1,          1,          6,          6,2,20100106,       1720,   27.83502,  -78.84019,        852,   808.3,   7.4278,  35.1153,  35.1155,2,   170.4,2, -999.00,9, -999.00,9,  2191.1,2,  -999.0,9, -999.00,9,     -999.0,9,     -999.0,9,     -999.0,9,     -999.0,9,     7.3460,     -999.0,9
  74DI20100106,        A05,       1,          1,          7,          7,2,20100106,       1720,   27.83502,  -78.84019,        852,   654.5,  13.0332,  35.7035,  35.7053,2,   150.6,2, -999.00,9, -999.00,9,  2168.1,2,  -999.0,9, -999.00,9,     -999.0,9,     -999.0,9,     -999.0,9,     -999.0,9,    12.9409,     -999.0,9
  74DI20100106,        A05,       1,          1,          8,          8,2,20100106,       1720,   27.83502,  -78.84019,        852,   654.9,  13.0579,  35.7067,  35.7737,4,   157.9,2, -999.00,9, -999.00,9,  -999.0,9,  -999.0,9, -999.00,9,     -999.0,9,     -999.0,9,     -999.0,9,     -999.0,9,    12.9654,     -999.0,9
  74DI20100106,        A05,       1,          1,          9,          9,2,20100106,       1720,   27.83502,  -78.84019,        852,   653.5,  13.0541,  35.7067,  35.7068,2,   151.6,2, -999.00,9, -999.00,9,  2169.3,2,  -999.0,9, -999.00,9,     -999.0,9,     -999.0,9,     -999.0,9,     -999.0,9,    12.9618,     -999.0,9
  74DI20100106,        A05,       1,          1,         10,         10,2,20100106,       1720,   27.83502,  -78.84019,        852,   452.6,  17.5540,  36.4615,  36.4606,2,   192.7,2, -999.00,9, -999.00,9,  2122.9,2,  -999.0,9, -999.00,9,     -999.0,9,     -999.0,9,     -999.0,9,     -999.0,9,    17.4764,     -999.0,9
  74DI20100106,        A05,       1,          1,         11,         11,2,20100106,       1720,   27.83502,  -78.84019,        852,   452.4,  17.5579,  36.4622,  36.4623,2,   192.6,2, -999.00,9, -999.00,9,  2124.0,2,  -999.0,9, -999.00,9,     -999.0,9,     -999.0,9,     -999.0,9,     -999.0,9,    17.4803,     -999.0,9
  74DI20100106,        A05,       1,          1,         12,         12,2,20100106,       1720,   27.83502,  -78.84019,        852,   452.7,  17.5577,  36.4622,  36.4628,2,   192.4,2, -999.00,9, -999.00,9,  2122.7,2,  -999.0,9, -999.00,9,     -999.0,9,     -999.0,9,     -999.0,9,     -999.0,9,    17.4800,     -999.0,9
  74DI20100106,        A05,       1,          1,         13,         13,2,20100106,       1720,   27.83502,  -78.84019,        852,   303.1,  18.7475,  36.6102,  36.6090,2,   191.8,2, -999.00,9, -999.00,9,  2116.6,2,  -999.0,9, -999.00,9,     -999.0,9,     -999.0,9,     -999.0,9,     -999.0,9,    18.6932,     -999.0,9
  74DI20100106,        A05,       1,          1,         14,         14,2,20100106,       1720,   27.83502,  -78.84019,        852,   303.8,  18.7457,  36.6099,  36.6095,2,   191.8,2, -999.00,9, -999.00,9,  -999.0,9,  -999.0,9, -999.00,9,     -999.0,9,     -999.0,9,     -999.0,9,     -999.0,9,    18.6914,     -999.0,9
  74DI20100106,        A05,       1,          1,         15,         15,3,20100106,       1720,   27.83502,  -78.84019,        852,   304.6,  18.7399,  36.6093,-999.0000,9,  -999.0,9, -999.00,3, -999.00,3,  -999.0,9,  -999.0,9, -999.00,3,     -999.0,9,     -999.0,9,     -999.0,9,     -999.0,9,    18.6854,     -999.0,9
  74DI20100106,        A05,       1,          1,         16,         16,2,20100106,       1720,   27.83502,  -78.84019,        852,   183.4,  20.7556,  36.7382,  36.7397,2,   197.8,2, -999.00,9, -999.00,9,  -999.0,9,  -999.0,9, -999.00,9,     -999.0,9,     -999.0,9,     -999.0,9,     -999.0,9,    20.7205,     -999.0,9
  74DI20100106,        A05,       1,          1,         17,         17,4,20100106,       1720,   27.83502,  -78.84019,        852,   183.3,  20.7816,  36.7386,-999.0000,9,  -999.0,9, -999.00,3, -999.00,3,  -999.0,9,  -999.0,9, -999.00,3,     -999.0,9,     -999.0,9,     -999.0,9,     -999.0,9,    20.7464,     -999.0,9
  74DI20100106,        A05,       1,          1,         18,         18,2,20100106,       1720,   27.83502,  -78.84019,        852,   183.2,  20.7984,  36.7392,  36.7406,2,   198.1,2, -999.00,9, -999.00,9,  -999.0,9,  -999.0,9, -999.00,9,     -999.0,9,     -999.0,9,     -999.0,9,     -999.0,9,    20.7633,     -999.0,9
  74DI20100106,        A05,       1,          1,         19,         19,10,20100106,       1720,   27.83502,  -78.84019,        852,    52.6,  24.0064,  36.6578,-999.0000,9,   207.9,2, -999.00,9, -999.00,9,  -999.0,9,  -999.0,9, -999.00,9,     -999.0,9,     -999.0,9,     -999.0,9,     -999.0,9,    23.9953,     -999.0,9
  74DI20100106,        A05,       1,          1,         20,         20,2,20100106,       1720,   27.83502,  -78.84019,        852,    53.5,  24.0067,  36.6578,  36.6596,2,   200.6,3, -999.00,9, -999.00,9,  -999.0,9,  -999.0,9, -999.00,9,     -999.0,9,     -999.0,9,     -999.0,9,     -999.0,9,    23.9954,     -999.0,9
  74DI20100106,        A05,       1,          1,         21,         21,2,20100106,       1720,   27.83502,  -78.84019,        852,    53.1,  24.0051,  36.6579,  36.6598,2,   207.4,2, -999.00,9, -999.00,9,  -999.0,9,  -999.0,9, -999.00,9,     -999.0,9,     -999.0,9,     -999.0,9,     -999.0,9,    23.9939,     -999.0,9
  74DI20100106,        A05,       1,          1,         22,         22,3,20100106,       1720,   27.83502,  -78.84019,        852,    12.4,  23.9918,  36.6558,-999.0000,9,  -999.0,9, -999.00,3, -999.00,3,  -999.0,9,  -999.0,9, -999.00,3,     -999.0,9,     -999.0,9,     -999.0,9,     -999.0,9,    23.9892,     -999.0,9
  74DI20100106,        A05,       1,          1,         23,         23,2,20100106,       1720,   27.83502,  -78.84019,        852,    12.3,  23.9885,  36.6555,  36.6575,2,   208.2,2, -999.00,9, -999.00,9,  -999.0,9,  -999.0,9, -999.00,9,     -999.0,9,     -999.0,9,     -999.0,9,     -999.0,9,    23.9859,     -999.0,9
  74DI20100106,        A05,       1,          1,         24,         24,2,20100106,       1720,   27.83502,  -78.84019,        852,    12.5,  23.9930,  36.6551,  36.6565,2,   206.4,2, -999.00,9, -999.00,9,  -999.0,9,  -999.0,9, -999.00,9,     -999.0,9,     -999.0,9,     -999.0,9,     -999.0,9,    23.9904,     -999.0,9
  74DI20100106,        A05,       2,          1,          1,          1,10,20100107,       0432,   27.33821,  -79.94750,        113,   102.2,  21.3461,  36.4268,-999.0000,9,   206.2,4, -999.00,9, -999.00,9,  -999.0,9,  -999.0,9, -999.00,9,     -999.0,1,     -999.0,1,     -999.0,9,     -999.0,9,    21.3262,     -999.0,9
  74DI20100106,        A05,       2,          1,          2,          2,10,20100107,       0432,   27.33821,  -79.94750,        113,   102.5,  21.3330,  36.4257,-999.0000,9,   204.1,4, -999.00,9, -999.00,9,  -999.0,9,  -999.0,9, -999.00,9,     -999.0,9,     -999.0,9,     -999.0,9,     -999.0,9,    21.3131,     -999.0,9
  74DI20100106,        A05,       2,          1,          3,          3,2,20100107,       0432,   27.33821,  -79.94750,        113,   102.7,  21.3431,  36.4272,  36.4283,2,   203.5,4, -999.00,9,    0.01,2,  2061.2,2,  -999.0,9,    0.00,2,     -999.0,1,     -999.0,1,     -999.0,9,     -999.0,9,    21.3231,     -999.0,1
  74DI20100106,        A05,       2,          1,          4,          4,10,20100107,       0432,   27.33821,  -79.94750,        113,   102.6,  21.3403,  36.4267,-999.0000,9,   170.2,4, -999.00,9, -999.00,9,  -999.0,9,  -999.0,9, -999.00,9,     -999.0,9,     -999.0,9,     -999.0,9,     -999.0,9,    21.3203,     -999.0,9
  74DI20100106,        A05,       2,          1,          6,          6,4,20100107,       0432,   27.33821,  -79.94750,        113,   102.9,  21.3418,  36.4291,-999.0000,9,   170.0,4, -999.00,9, -999.00,9,  -999.0,9,  -999.0,9, -999.00,9,     -999.0,9,     -999.0,9,     -999.0,9,     -999.0,9,    21.3217,     -999.0,9
  74DI20100106,        A05,       2,          1,          7,          7,10,20100107,       0432,   27.33821,  -79.94750,        113,    51.8,  22.9422,  36.3731,-999.0000,9,   150.5,4, -999.00,9, -999.00,9,  -999.0,9,  -999.0,9, -999.00,9,     -999.0,9,     -999.0,9,     -999.0,9,     -999.0,9,    22.9315,     -999.0,9
  74DI20100106,        A05,       2,          1,          8,          8,10,20100107,       0432,   27.33821,  -79.94750,        113,    52.0,  22.9276,  36.3710,-999.0000,9,   157.8,4, -999.00,9, -999.00,9,  -999.0,9,  -999.0,9, -999.00,9,     -999.0,9,     -999.0,9,     -999.0,9,     -999.0,9,    22.9170,     -999.0,9
  74DI20100106,        A05,       2,          1,          9,          9,10,20100107,       0432,   27.33821,  -79.94750,        113,    52.4,  22.9243,  36.3716,-999.0000,9,   151.6,4, -999.00,9, -999.00,9,  -999.0,9,  -999.0,9, -999.00,9,     -999.0,9,     -999.0,9,     -999.0,9,     -999.0,9,    22.9135,     -999.0,9
  74DI20100106,        A05,       2,          1,         10,         10,10,20100107,       0432,   27.33821,  -79.94750,        113,    52.3,  22.8832,  36.3695,-999.0000,9,   192.7,4, -999.00,9, -999.00,9,  -999.0,9,  -999.0,9, -999.00,9,     -999.0,9,     -999.0,9,     -999.0,9,     -999.0,9,    22.8725,     -999.0,9
  74DI20100106,        A05,       2,          1,         11,         11,10,20100107,       0432,   27.33821,  -79.94750,        113,    52.2,  22.8456,  36.3694,-999.0000,9,   192.6,4, -999.00,9, -999.00,9,  -999.0,9,  -999.0,9, -999.00,9,     -999.0,9,     -999.0,9,     -999.0,9,     -999.0,9,    22.8349,     -999.0,9
  74DI20100106,        A05,       2,          1,         12,         12,2,20100107,       0432,   27.33821,  -79.94750,        113,    52.7,  22.8003,  36.3731,  36.3723,2,   192.4,4, -999.00,9,    0.00,2,  2055.4,2,  -999.0,9,    0.11,2,     -999.0,1,     -999.0,1,     -999.0,9,     -999.0,9,    22.7895,     -999.0,1
  74DI20100106,        A05,       2,          1,         13,         13,10,20100107,       0432,   27.33821,  -79.94750,        113,    52.5,  22.8217,  36.3726,-999.0000,9,   191.8,4, -999.00,9, -999.00,9,  -999.0,9,  -999.0,9, -999.00,9,     -999.0,9,     -999.0,9,     -999.0,9,     -999.0,9,    22.8110,     -999.0,9
  74DI20100106,        A05,       2,          1,         14,         14,10,20100107,       0432,   27.33821,  -79.94750,        113,    51.7,  22.8274,  36.3710,-999.0000,9,   191.8,4, -999.00,9, -999.00,9,  -999.0,9,  -999.0,9, -999.00,9,     -999.0,9,     -999.0,9,     -999.0,9,     -999.0,9,    22.8168,     -999.0,9
  74DI20100106,        A05,       2,          1,         16,         16,2,20100107,       0432,   27.33821,  -79.94750,        113,     7.0,  23.7277,  36.3975,-999.0000,9,   203.7,3, -999.00,9, -999.00,9,  -999.0,9,  -999.0,9, -999.00,9,     -999.0,9,     -999.0,9,     -999.0,9,     -999.0,9,    23.7262,     -999.0,9
  74DI20100106,        A05,       2,          1,         18,         18,10,20100107,       0432,   27.33821,  -79.94750,        113,     6.9,  23.7151,  36.3976,-999.0000,9,   197.9,4, -999.00,9, -999.00,9,  -999.0,9,  -999.0,9, -999.00,9,     -999.0,9,     -999.0,9,     -999.0,9,     -999.0,9,    23.7136,     -999.0,9
  74DI20100106,        A05,       2,          1,         20,         20,2,20100107,       0432,   27.33821,  -79.94750,        113,     7.2,  23.7208,  36.3977,  36.3989,2,   207.9,4, -999.00,9,    0.00,2,  2053.1,2,  -999.0,9,    0.00,2,     -999.0,1,     -999.0,1,     -999.0,9,     -999.0,9,    23.7193,     -999.0,1
  74DI20100106,        A05,       2,          1,         21,         21,10,20100107,       0432,   27.33821,  -79.94750,        113,     7.8,  23.7136,  36.3981,-999.0000,9,   207.4,4, -999.00,9, -999.00,9,  -999.0,9,  -999.0,9, -999.00,9,     -999.0,9,     -999.0,9,     -999.0,9,     -999.0,9,    23.7120,     -999.0,9
  74DI20100106,        A05,       3,          1,          1,          1,2,20100107,       0609,   27.34560,  -79.85163,        265,   259.5,  11.0654,  35.3648,  35.3652,2,   206.4,4, -999.00,9,    1.54,2,  2191.4,2,  -999.0,9,   24.67,2,     -999.0,1,     -999.0,1,     -999.0,9,     -999.0,9,    11.0331,     -999.0,1
  74DI20100106,        A05,       3,          1,          7,          7,2,20100107,       0609,   27.34560,  -79.85163,        265,   152.7,  19.5820,  36.4556,  36.4573,2,   150.5,4, -999.00,9,    0.47,2,  2145.0,2,  -999.0,9,    9.18,2,     -999.0,1,     -999.0,1,     -999.0,9,     -999.0,9,    19.5540,     -999.0,1
  74DI20100106,        A05,       3,          1,          8,          8,2,20100107,       0609,   27.34560,  -79.85163,        265,   152.5,  19.6575,  36.4639,-999.0000,9,   157.8,4, -999.00,9, -999.00,9,  -999.0,9,  -999.0,9, -999.00,9,     -999.0,9,     -999.0,9,     -999.0,9,     -999.0,9,    19.6294,     -999.0,9
  74DI20100106,        A05,       3,          1,         13,         13,2,20100107,       0609,   27.34560,  -79.85163,        265,    52.3,  23.9280,  36.3828,  36.3833,2,   191.8,4, -999.00,9,    0.00,2,  2049.1,2,  -999.0,9,    0.02,2,     -999.0,1,     -999.0,1,     -999.0,9,     -999.0,9,    23.9170,     -999.0,1
  74DI20100106,        A05,       3,          1,         14,         14,2,20100107,       0609,   27.34560,  -79.85163,        265,    52.3,  23.9264,  36.3827,-999.0000,9,   191.8,4, -999.00,9, -999.00,9,  -999.0,9,  -999.0,9, -999.00,9,     -999.0,9,     -999.0,9,     -999.0,9,     -999.0,9,    23.9153,     -999.0,9
  74DI20100106,        A05,       3,          1,         19,         19,2,20100107,       0609,   27.34560,  -79.85163,        265,     7.2,  23.9038,  36.3837,  36.3838,2,  -999.0,9, -999.00,9,    0.00,2,  2046.4,2,  -999.0,9,    0.05,2,     -999.0,1,     -999.0,1,     -999.0,9,     -999.0,9,    23.9023,     -999.0,1
  74DI20100106,        A05,       3,          1,         20,         20,2,20100107,       0609,   27.34560,  -79.85163,        265,     6.6,  23.8975,  36.3839,-999.0000,9,   207.9,2, -999.00,9, -999.00,9,  -999.0,9,  -999.0,9, -999.00,9,     -999.0,9,     -999.0,9,     -999.0,9,     -999.0,9,    23.8961,     -999.0,9
  74DI20100106,        A05,       3,          1,         22,         22,3,20100107,       0609,   27.34560,  -79.85163,        265,     6.7,  23.8975,  36.3841,-999.0000,9,  -999.0,9, -999.00,9, -999.00,9,  -999.0,9,  -999.0,9, -999.00,9,     -999.0,9,     -999.0,9,     -999.0,9,     -999.0,9,    23.8961,     -999.0,9
  74DI20100106,        A05,       3,          1,         23,         23,2,20100107,       0609,   27.34560,  -79.85163,        265,     7.0,  23.9017,  36.3842,-999.0000,9,   205.9,2, -999.00,9, -999.00,9,  -999.0,9,  -999.0,9, -999.00,9,     -999.0,9,     -999.0,9,     -999.0,9,     -999.0,9,    23.9002,     -999.0,9
  74DI20100106,        A05,       3,          1,         24,         24,2,20100107,       0609,   27.34560,  -79.85163,        265,     6.9,  23.9116,  36.3838,-999.0000,9,   206.4,2, -999.00,9, -999.00,9,  -999.0,9,  -999.0,9, -999.00,9,     -999.0,9,     -999.0,9,     -999.0,9,     -999.0,9,    23.9101,     -999.0,9