BOTTLE,20200115CCHSIOCBG
EXPOCODE,SECT_ID,STNNBR,CASTNO,SAMPNO,BTLNBR,BTLNBR_FLAG_W,DATE,TIME,LATITUDE,LONGITUDE,DEPTH,CTDPRS,CTDTMP,CTDSAL,SALNTY,SALNTY_FLAG_W,OXYGEN,OXYGEN_FLAG_W,SILCAT,SILCAT_FLAG_W,PHSPHT,PHSPHT_FLAG_W,TCARBN,TCARBN_FLAG_W,ALKALI,ALKALI_FLAG_W,NO2+NO3,NO2+NO3_FLAG_W,CFC-11,CFC-11_FLAG_W,CFC-12,CFC-12_FLAG_W,CFC113,CFC113_FLAG_W,CCL4,CCL4_FLAG_W,THETA,SF6,SF6_FLAG_W
,,,,,,,,,,,METERS,DBAR,ITS-90,PSS-78,PSS-78,,UMOL/KG,,UMOL/KG,,UMOL/KG,,UMOL/KG,,UMOL/KG,,UMOL/KG,,PMOL/L,,PMOL/L,,PMOL/L,,PMOL/L,,ITS-90,FMOL/L,
  74DI20100106,        A05,     133,          1,          1,         25,10,20100215,       1040,   27.86665,  -13.55615,       1120,  1117.1,   7.3108,  35.2129,-999.0000,9,   143.3,2,   19.60,2,    1.74,2,  -999.0,9,  -999.0,9,   28.05,2,     -999.0,9,     -999.0,9,     -999.0,9,     -999.0,9,     7.1964,     -999.0,9
  74DI20100106,        A05,     133,          1,          2,          2,2,20100215,       1040,   27.86665,  -13.55615,       1120,  1117.0,   7.3094,  35.2133,  35.2131,2,   143.0,2,   19.74,2,    1.74,2,  2208.0,2,  2327.2,2,   29.27,2,     -999.0,1,     -999.0,1,     -999.0,1,     -999.0,1,     7.1950,     -999.0,1
  74DI20100106,        A05,     133,          1,          3,          3,2,20100215,       1040,   27.86665,  -13.55615,       1120,  1011.4,   7.6012,  35.2062,  35.2274,3,   126.9,3,   18.10,2,    1.79,2,  2209.3,2,  2324.5,2,   30.47,2,     -999.0,9,     -999.0,9,     -999.0,9,     -999.0,9,     7.4961,     -999.0,9
  74DI20100106,        A05,     133,          1,          4,          4,2,20100215,       1040,   27.86665,  -13.55615,       1120,  1011.6,   7.6001,  35.2061,-999.0000,9,   135.6,2,   19.25,2,    1.76,2,  -999.0,9,  -999.0,9,   29.82,2,     -999.0,9,     -999.0,9,     -999.0,9,     -999.0,9,     7.4951,     -999.0,9
  74DI20100106,        A05,     133,          1,          5,          5,2,20100215,       1040,   27.86665,  -13.55615,       1120,   884.8,   8.4274,  35.2433,  35.2445,2,   124.1,2,   17.53,2,    1.77,2,  2210.8,2,  2323.9,2,   30.38,2,     -999.0,1,     -999.0,1,     -999.0,1,     -999.0,1,     8.3308,     -999.0,1
  74DI20100106,        A05,     133,          1,          6,          6,2,20100215,       1040,   27.86665,  -13.55615,       1120,   885.0,   8.4331,  35.2436,-999.0000,9,   123.8,2,   17.53,2,    1.76,2,  -999.0,9,  -999.0,9,   30.36,2,     -999.0,9,     -999.0,9,     -999.0,9,     -999.0,9,     8.3365,     -999.0,9
  74DI20100106,        A05,     133,          1,          7,          7,10,20100215,       1040,   27.86665,  -13.55615,       1120,   758.7,   9.2316,  35.3126,-999.0000,9,   121.8,2,   15.61,2,    1.68,2,  -999.0,9,  -999.0,9,   29.17,2,     -999.0,9,     -999.0,9,     -999.0,9,     -999.0,9,     9.1449,     -999.0,9
  74DI20100106,        A05,     133,          1,          8,          8,10,20100215,       1040,   27.86665,  -13.55615,       1120,   758.8,   9.2326,  35.3128,  35.3118,2,   121.2,2,   15.59,2,    1.67,2,  2206.0,2,  2323.6,2,   29.39,2,     -999.0,1,     -999.0,1,     -999.0,1,     -999.0,1,     9.1459,     -999.0,1
  74DI20100106,        A05,     133,          1,          9,          9,2,20100215,       1040,   27.86665,  -13.55615,       1120,   633.0,  10.0994,  35.4069,  35.4061,2,   126.5,2,   13.21,2,    1.53,2,  -999.0,9,  -999.0,9,   26.72,2,     -999.0,9,     -999.0,9,     -999.0,9,     -999.0,9,    10.0235,     -999.0,9
  74DI20100106,        A05,     133,          1,         10,         10,3,20100215,       1040,   27.86665,  -13.55615,       1120,   506.8,  11.5321,  35.5838,-999.0000,9,  -999.0,9, -999.00,9, -999.00,9,  -999.0,9,  -999.0,9, -999.00,9,     -999.0,9,     -999.0,9,     -999.0,9,     -999.0,9,    11.4664,     -999.0,9
  74DI20100106,        A05,     133,          1,         11,         11,2,20100215,       1040,   27.86665,  -13.55615,       1120,   506.7,  11.5179,  35.5820,  35.5817,2,   140.5,2,    9.55,2,    1.25,2,  2187.7,2,  2333.6,2,   22.43,2,     -999.0,1,     -999.0,1,     -999.0,1,     -999.0,1,    11.4523,     -999.0,1
  74DI20100106,        A05,     133,          1,         12,         12,10,20100215,       1040,   27.86665,  -13.55615,       1120,   381.3,  13.2628,  35.8276,  35.8272,2,   160.7,2,    6.04,2,    0.91,2,  -999.0,9,  -999.0,9,   16.64,2,     -999.0,9,     -999.0,9,     -999.0,9,     -999.0,9,    13.2089,     -999.0,9
  74DI20100106,        A05,     133,          1,         13,         13,2,20100215,       1040,   27.86665,  -13.55615,       1120,   380.7,  13.2577,  35.8271,-999.0000,9,   160.7,2,    6.04,2,    0.91,2,  -999.0,9,  -999.0,9,   16.47,2,     -999.0,9,     -999.0,9,     -999.0,9,     -999.0,9,    13.2039,     -999.0,9
  74DI20100106,        A05,     133,          1,         14,         14,2,20100215,       1040,   27.86665,  -13.55615,       1120,   254.9,  15.0840,  36.1310,  36.1303,2,   178.9,2,    3.65,2,    0.60,2,  2154.5,2,  2362.2,2,   10.90,2,     -999.0,1,     -999.0,1,     -999.0,1,     -999.0,1,    15.0449,     -999.0,1
  74DI20100106,        A05,     133,          1,         15,         26,2,20100215,       1040,   27.86665,  -13.55615,       1120,   254.9,  15.0813,  36.1303,-999.0000,9,   179.1,2,    3.63,2,    0.60,2,  -999.0,9,  -999.0,9,   10.85,2,     -999.0,9,     -999.0,9,     -999.0,9,     -999.0,9,    15.0421,     -999.0,9
  74DI20100106,        A05,     133,          1,         16,         16,10,20100215,       1040,   27.86665,  -13.55615,       1120,   179.5,  16.9430,  36.4625,  36.4625,2,   193.6,2,    2.07,2,    0.34,2,  -999.0,9,  -999.0,9,    6.04,2,     -999.0,9,     -999.0,9,     -999.0,9,     -999.0,9,    16.9132,     -999.0,9
  74DI20100106,        A05,     133,          1,         17,         17,2,20100215,       1040,   27.86665,  -13.55615,       1120,   104.1,  17.8729,  36.5475,  36.5478,2,   197.9,2,    2.12,2,    0.31,2,  2136.1,2,  2387.5,2,    4.48,2,     -999.0,1,     -999.0,1,     -999.0,9,     -999.0,9,    17.8550,     -999.0,1
  74DI20100106,        A05,     133,          1,         18,         19,2,20100215,       1040,   27.86665,  -13.55615,       1120,   104.1,  17.8726,  36.5475,-999.0000,9,   198.0,2,    2.10,2,    0.31,2,  -999.0,9,  -999.0,9,    4.38,2,     -999.0,9,     -999.0,9,     -999.0,9,     -999.0,9,    17.8547,     -999.0,9
  74DI20100106,        A05,     133,          1,         19,         27,2,20100215,       1040,   27.86665,  -13.55615,       1120,    63.8,  19.2942,  36.7252,  36.7271,2,   219.8,2,    0.77,2,    0.06,2,  -999.0,9,  -999.0,9,    0.16,2,     -999.0,9,     -999.0,9,     -999.0,9,     -999.0,9,    19.2826,     -999.0,9
  74DI20100106,        A05,     133,          1,         20,         20,3,20100215,       1040,   27.86665,  -13.55615,       1120,    63.8,  19.2999,  36.7257,-999.0000,9,  -999.0,9, -999.00,9, -999.00,9,  -999.0,9,  -999.0,9, -999.00,9,     -999.0,9,     -999.0,9,     -999.0,9,     -999.0,9,    19.2883,     -999.0,9
  74DI20100106,        A05,     133,          1,         21,         21,2,20100215,       1040,   27.86665,  -13.55615,       1120,    50.5,  19.3992,  36.7389,  36.7404,2,   222.7,2,    0.72,2,    0.04,2,  2111.2,2,  2403.0,2,    0.00,2,     -999.0,1,     -999.0,1,     -999.0,1,     -999.0,1,    19.3900,     -999.0,1
  74DI20100106,        A05,     133,          1,         22,         22,2,20100215,       1040,   27.86665,  -13.55615,       1120,    25.6,  19.4190,  36.7390,  36.7404,2,   223.4,2,    0.68,2,    0.04,2,  -999.0,9,  -999.0,9,    0.00,2,     -999.0,9,     -999.0,9,     -999.0,9,     -999.0,9,    19.4143,     -999.0,9
  74DI20100106,        A05,     133,          1,         23,         23,2,20100215,       1040,   27.86665,  -13.55615,       1120,     5.2,  19.4188,  36.7382,  36.7398,2,   222.9,2,    0.67,2,    0.03,2,  2110.4,2,  2402.0,2,    0.00,2,     -999.0,9,     -999.0,9,     -999.0,9,     -999.0,9,    19.4178,     -999.0,9
  74DI20100106,        A05,     133,          1,         24,         24,2,20100215,       1040,   27.86665,  -13.55615,       1120,     5.3,  19.4179,  36.7381,-999.0000,9,   223.5,2,    0.65,2,    0.05,2,  -999.0,9,  -999.0,9,    0.00,2,     -999.0,1,     -999.0,1,     -999.0,1,     -999.0,1,    19.4170,     -999.0,1
  74DI20100106,        A05,     134,          1,          1,         25,10,20100215,       1320,   27.91129,  -13.41012,        555,   546.1,  11.1135,  35.5387,-999.0000,9,  -999.0,9,   10.59,2,    1.29,2,  -999.0,9,  -999.0,9,   21.45,2,     -999.0,9,     -999.0,9,     -999.0,9,     -999.0,9,    11.0442,     -999.0,9
  74DI20100106,        A05,     134,          1,          2,          2,3,20100215,       1320,   27.91129,  -13.41012,        555,   545.6,  11.1398,  35.5424,-999.0000,9,  -999.0,9, -999.00,9, -999.00,9,  -999.0,9,  -999.0,9, -999.00,9,     -999.0,9,     -999.0,9,     -999.0,9,     -999.0,9,    11.0705,     -999.0,9
  74DI20100106,        A05,     134,          1,          3,          3,2,20100215,       1320,   27.91129,  -13.41012,        555,   545.5,  11.1244,  35.5404,  35.5438,2,   137.5,2,   10.68,2,    1.30,2,  -999.0,9,  -999.0,9,   21.59,2,     -999.0,1,     -999.0,1,     -999.0,1,     -999.0,1,    11.0552,     -999.0,1
  74DI20100106,        A05,     134,          1,          4,          4,2,20100215,       1320,   27.91129,  -13.41012,        555,   499.5,  11.9737,  35.6451,  35.6452,2,   146.5,2,    8.50,2,    1.14,2,  2177.6,2,  2338.4,2,   19.34,2,     -999.0,1,     -999.0,1,     -999.0,1,     -999.0,1,    11.9074,     -999.0,1
  74DI20100106,        A05,     134,          1,          5,          5,10,20100215,       1320,   27.91129,  -13.41012,        555,   500.0,  11.9740,  35.6453,-999.0000,9,   146.4,2,    8.57,2,    1.13,2,  -999.0,9,  -999.0,9,   19.60,2,     -999.0,9,     -999.0,9,     -999.0,9,     -999.0,9,    11.9076,     -999.0,9
  74DI20100106,        A05,     134,          1,          6,          6,3,20100215,       1320,   27.91129,  -13.41012,        555,   383.0,  13.2056,  35.8248,-999.0000,9,  -999.0,9, -999.00,9, -999.00,9,  -999.0,9,  -999.0,9, -999.00,9,     -999.0,9,     -999.0,9,     -999.0,9,     -999.0,9,    13.1516,     -999.0,9
  74DI20100106,        A05,     134,          1,          7,          7,2,20100215,       1320,   27.91129,  -13.41012,        555,   382.8,  13.2074,  35.8248,  35.8247,2,   159.1,2,    6.41,2,    0.93,2,  2166.3,2,  2346.4,2,   15.91,2,     -999.0,1,     -999.0,1,     -999.0,9,     -999.0,9,    13.1534,     -999.0,1
  74DI20100106,        A05,     134,          1,          8,          8,10,20100215,       1320,   27.91129,  -13.41012,        555,   252.7,  15.2552,  36.1636,  36.1641,2,   180.0,2,    3.55,2,    0.57,2,  2152.2,2,  2364.8,2,    9.70,2,     -999.0,1,     -999.0,1,     -999.0,9,     -999.0,9,    15.2161,     -999.0,1
  74DI20100106,        A05,     134,          1,          9,          9,10,20100215,       1320,   27.91129,  -13.41012,        555,   253.1,  15.2575,  36.1642,-999.0000,9,   180.2,2,    2.80,2,    0.43,2,  -999.0,9,  -999.0,9,    7.00,2,     -999.0,9,     -999.0,9,     -999.0,9,     -999.0,9,    15.2183,     -999.0,9
  74DI20100106,        A05,     134,          1,         10,         10,2,20100215,       1320,   27.91129,  -13.41012,        555,   177.2,  16.3192,  36.3357,  36.3649,2,   187.6,2,    2.81,2,    0.43,2,  2143.6,2,  2375.9,2,    7.02,2,     -999.0,1,     -999.0,1,     -999.0,9,     -999.0,9,    16.2905,     -999.0,1
  74DI20100106,        A05,     134,          1,         11,         11,2,20100215,       1320,   27.91129,  -13.41012,        555,   177.2,  16.3219,  36.3360,-999.0000,9,   186.9,2,    2.86,2,    0.45,2,  -999.0,9,  -999.0,9,    7.47,2,     -999.0,9,     -999.0,9,     -999.0,9,     -999.0,9,    16.2933,     -999.0,9
  74DI20100106,        A05,     134,          1,         12,         12,2,20100215,       1320,   27.91129,  -13.41012,        555,   100.9,  16.8931,  36.4257,  36.4281,2,   190.7,2,    2.63,2,    0.40,2,  -999.0,9,  -999.0,9,    6.29,2,     -999.0,9,     -999.0,9,     -999.0,9,     -999.0,9,    16.8764,     -999.0,9
  74DI20100106,        A05,     134,          1,         13,         13,2,20100215,       1320,   27.91129,  -13.41012,        555,   101.4,  16.8935,  36.4258,-999.0000,9,   190.7,2,    2.62,2,    0.40,2,  -999.0,9,  -999.0,9,    6.18,2,     -999.0,9,     -999.0,9,     -999.0,9,     -999.0,9,    16.8767,     -999.0,9
  74DI20100106,        A05,     134,          1,         14,         14,2,20100215,       1320,   27.91129,  -13.41012,        555,   100.9,  16.8953,  36.4261,-999.0000,9,  -999.0,9,    2.65,2,    0.39,2,  -999.0,9,  -999.0,9,    6.14,2,     -999.0,9,     -999.0,9,     -999.0,9,     -999.0,9,    16.8786,     -999.0,9
  74DI20100106,        A05,     134,          1,         15,         26,3,20100215,       1320,   27.91129,  -13.41012,        555,    76.7,  17.1496,  36.4710,-999.0000,9,  -999.0,9, -999.00,9, -999.00,9,  -999.0,9,  -999.0,9, -999.00,9,     -999.0,9,     -999.0,9,     -999.0,9,     -999.0,9,    17.1368,     -999.0,9
  74DI20100106,        A05,     134,          1,         16,         16,2,20100215,       1320,   27.91129,  -13.41012,        555,    76.4,  17.1603,  36.4721,  36.4818,2,   194.5,2,    2.37,2,    0.36,2,  2139.0,2,  2385.5,2,    5.39,2,     -999.0,1,     -999.0,1,     -999.0,9,     -999.0,9,    17.1476,     -999.0,1
  74DI20100106,        A05,     134,          1,         17,         17,2,20100215,       1320,   27.91129,  -13.41012,        555,    76.3,  17.1676,  36.4730,-999.0000,9,  -999.0,9,    2.38,2,    0.36,2,  -999.0,9,  -999.0,9,    5.45,2,     -999.0,9,     -999.0,9,     -999.0,9,     -999.0,9,    17.1548,     -999.0,9
  74DI20100106,        A05,     134,          1,         18,         19,3,20100215,       1320,   27.91129,  -13.41012,        555,    41.5,  19.2988,  36.7293,-999.0000,9,  -999.0,9, -999.00,9, -999.00,9,  -999.0,9,  -999.0,9, -999.00,9,     -999.0,9,     -999.0,9,     -999.0,9,     -999.0,9,    19.2912,     -999.0,9
  74DI20100106,        A05,     134,          1,         19,         27,2,20100215,       1320,   27.91129,  -13.41012,        555,    41.7,  19.2986,  36.7295,  36.7295,2,   220.4,2,    0.79,2,    0.03,2,  -999.0,9,  -999.0,9,    0.13,2,     -999.0,9,     -999.0,9,     -999.0,9,     -999.0,9,    19.2910,     -999.0,9
  74DI20100106,        A05,     134,          1,         20,         20,2,20100215,       1320,   27.91129,  -13.41012,        555,    41.7,  19.3019,  36.7299,-999.0000,9,  -999.0,9,    0.77,2,    0.02,2,  -999.0,9,  -999.0,9,    0.00,2,     -999.0,9,     -999.0,9,     -999.0,9,     -999.0,9,    19.2943,     -999.0,9
  74DI20100106,        A05,     134,          1,         21,         21,2,20100215,       1320,   27.91129,  -13.41012,        555,    26.7,  19.4178,  36.7417,  36.7436,2,   222.8,2,    0.64,2,    0.01,2,  2107.7,2,  2401.4,2,    0.00,2,     -999.0,1,     -999.0,1,     -999.0,1,     -999.0,1,    19.4129,     -999.0,1
  74DI20100106,        A05,     134,          1,         22,         22,2,20100215,       1320,   27.91129,  -13.41012,        555,     6.6,  19.4791,  36.7439,  36.7454,2,   222.9,2,    0.63,2,    0.01,2,  2106.1,2,  2402.8,2,    0.00,2,     -999.0,1,     -999.0,1,     -999.0,1,     -999.0,1,    19.4779,     -999.0,1
  74DI20100106,        A05,     134,          1,         23,         23,2,20100215,       1320,   27.91129,  -13.41012,        555,     6.7,  19.4792,  36.7440,-999.0000,9,   222.8,2,    0.66,2,    0.00,2,  -999.0,9,  -999.0,9,    0.00,2,     -999.0,9,     -999.0,9,     -999.0,9,     -999.0,9,    19.4780,     -999.0,9
  74DI20100106,        A05,     134,          1,         24,         24,2,20100215,       1320,   27.91129,  -13.41012,        555,     6.2,  19.4776,  36.7440,-999.0000,9,  -999.0,9,    0.68,2,    0.00,2,  -999.0,9,  -999.0,9,    0.00,2,     -999.0,9,     -999.0,9,     -999.0,9,     -999.0,9,    19.4765,     -999.0,9