BOTTLE,20200115CCHSIOCBG
EXPOCODE,SECT_ID,STNNBR,CASTNO,SAMPNO,BTLNBR,BTLNBR_FLAG_W,DATE,TIME,LATITUDE,LONGITUDE,DEPTH,CTDPRS,CTDTMP,CTDSAL,SALNTY,SALNTY_FLAG_W,OXYGEN,OXYGEN_FLAG_W,SILCAT,SILCAT_FLAG_W,PHSPHT,PHSPHT_FLAG_W,TCARBN,TCARBN_FLAG_W,ALKALI,ALKALI_FLAG_W,NO2+NO3,NO2+NO3_FLAG_W,CFC-11,CFC-11_FLAG_W,CFC-12,CFC-12_FLAG_W,CFC113,CFC113_FLAG_W,CCL4,CCL4_FLAG_W,THETA,SF6,SF6_FLAG_W
,,,,,,,,,,,METERS,DBAR,ITS-90,PSS-78,PSS-78,,UMOL/KG,,UMOL/KG,,UMOL/KG,,UMOL/KG,,UMOL/KG,,UMOL/KG,,PMOL/L,,PMOL/L,,PMOL/L,,PMOL/L,,ITS-90,FMOL/L,
  74DI20100106,        A05,      41,          1,          1,          1,2,20100115,       1117,   26.51369,  -71.71889,       5378,  5465.6,   2.1521,  34.8607,  34.8584,2,   248.8,2,   50.95,2,    1.50,2,  2195.8,2,  2343.9,2,   22.38,2,     -999.0,1,     -999.0,1,     -999.0,1,     -999.0,1,     1.6350,     -999.0,1
  74DI20100106,        A05,      41,          1,          2,          2,2,20100115,       1117,   26.51369,  -71.71889,       5378,  5280.4,   2.2385,  34.8743,  34.8724,2,   253.4,2,   43.44,2,    1.42,2,  2189.5,2,  2335.7,2,   21.35,2,     -999.0,1,     -999.0,1,     -999.0,1,     -999.0,9,     1.7423,     -999.0,1
  74DI20100106,        A05,      41,          1,          3,          3,2,20100115,       1117,   26.51369,  -71.71889,       5378,  4760.8,   2.2959,  34.8874,  34.8861,2,   259.8,2,   34.50,2,    1.31,2,  2182.7,2,  2326.1,2,   19.69,2,     -999.0,1,     -999.0,1,     -999.0,1,     -999.0,1,     1.8632,     -999.0,1
  74DI20100106,        A05,      41,          1,          4,          4,2,20100115,       1117,   26.51369,  -71.71889,       5378,  4322.5,   2.3041,  34.8926,  34.8922,2,   261.9,2,   31.45,2,    1.30,2,  2175.8,2,  2325.8,2,   19.28,2,     -999.0,1,     -999.0,1,     -999.0,1,     -999.0,1,     1.9240,     -999.0,1
  74DI20100106,        A05,      41,          1,          5,          5,2,20100115,       1117,   26.51369,  -71.71889,       5378,  3812.6,   2.3722,  34.9011,  34.9004,2,   263.6,2,   27.65,2,    1.24,2,  2171.2,2,  2322.4,2,   18.68,2,     -999.0,9,     -999.0,9,     -999.0,9,     -999.0,9,     2.0487,     -999.0,9
  74DI20100106,        A05,      41,          1,          6,          6,2,20100115,       1117,   26.51369,  -71.71889,       5378,  3295.3,   2.5965,  34.9170,  34.9162,2,   263.6,2,   24.09,2,    1.22,2,  2168.0,2,  2317.6,2,   18.60,2,     -999.0,9,     -999.0,9,     -999.0,9,     -999.0,9,     2.3237,     -999.0,9
  74DI20100106,        A05,      41,          1,          7,          7,2,20100115,       1117,   26.51369,  -71.71889,       5378,  2795.0,   2.9954,  34.9415,  34.9409,2,   260.8,2,   21.47,2,    1.22,2,  2165.3,2,  2315.2,2,   18.75,2,     -999.0,1,     -999.0,1,     -999.0,1,     -999.0,1,     2.7660,     -999.0,1
  74DI20100106,        A05,      41,          1,          8,          8,2,20100115,       1117,   26.51369,  -71.71889,       5378,  2516.6,   3.2144,  34.9527,  34.9522,2,   259.5,2,   19.46,2,    1.22,2,  -999.0,9,  -999.0,9,   18.57,2,     -999.0,1,     -999.0,1,     -999.0,1,     -999.0,1,     3.0088,     -999.0,1
  74DI20100106,        A05,      41,          1,          9,          9,2,20100115,       1117,   26.51369,  -71.71889,       5378,  2252.5,   3.4446,  34.9617,  34.9613,2,   259.7,2,   17.32,2,    1.21,2,  2165.1,2,  2312.0,2,   18.37,2,     -999.0,1,     -999.0,1,     -999.0,1,     -999.0,1,     3.2611,     -999.0,1
  74DI20100106,        A05,      41,          1,         10,         10,2,20100115,       1117,   26.51369,  -71.71889,       5378,  2007.4,   3.7740,  34.9855,  34.9855,2,   255.8,2,   15.96,2,    1.21,2,  -999.0,9,  -999.0,9,   18.67,2,     -999.0,1,     -999.0,1,     -999.0,1,     -999.0,1,     3.6090,     -999.0,1
  74DI20100106,        A05,      41,          1,         11,         11,2,20100115,       1117,   26.51369,  -71.71889,       5378,  1778.0,   3.9252,  34.9775,  34.9776,2,   256.5,2,   13.80,2,    1.21,2,  2159.9,2,  2309.4,2,   18.59,2,     -999.0,1,     -999.0,1,     -999.0,1,     -999.0,1,     3.7801,     -999.0,1
  74DI20100106,        A05,      41,          1,         12,         12,2,20100115,       1117,   26.51369,  -71.71889,       5378,  1521.7,   4.3397,  35.0037,  35.0041,2,   249.7,2,   13.01,2,    1.21,2,  -999.0,9,  -999.0,9,   18.84,2,     -999.0,1,     -999.0,1,     -999.0,1,     -999.0,1,     4.2136,     -999.0,1
  74DI20100106,        A05,      41,          1,         13,         13,2,20100115,       1117,   26.51369,  -71.71889,       5378,  1258.1,   5.2632,  35.0592,  35.0619,2,   225.3,2,   13.59,2,    1.30,2,  2172.9,2,  2314.3,2,   20.35,2,     -999.0,1,     -999.0,1,     -999.0,1,     -999.0,1,     5.1525,     -999.0,1
  74DI20100106,        A05,      41,          1,         14,         14,2,20100115,       1117,   26.51369,  -71.71889,       5378,  1012.5,   7.3092,  35.0991,  35.0997,2,   166.1,2,   16.01,2,    1.57,2,  -999.0,9,  -999.0,9,   24.77,2,     -999.0,1,     -999.0,1,     -999.0,1,     -999.0,1,     7.2064,     -999.0,1
  74DI20100106,        A05,      41,          1,         15,         15,10,20100115,       1117,   26.51369,  -71.71889,       5378,   873.4,   9.3320,  35.2226,  35.2232,2,   138.6,2,   14.55,2,    1.57,2,  2188.4,2,  2321.6,2,   25.47,2,     -999.0,1,     -999.0,1,     -999.0,1,     -999.0,1,     9.2311,     -999.0,1
  74DI20100106,        A05,      41,          1,         16,         16,2,20100115,       1117,   26.51369,  -71.71889,       5378,   754.5,  11.7572,  35.5199,  35.5202,2,   143.3,2,    9.51,2,    1.24,2,  2175.6,2,  2333.2,2,   20.60,2,     -999.0,1,     -999.0,1,     -999.0,1,     -999.0,1,    11.6573,     -999.0,1
  74DI20100106,        A05,      41,          1,         17,         17,2,20100115,       1117,   26.51369,  -71.71889,       5378,   615.8,  15.3864,  36.0704,  36.0727,2,   173.1,2,    4.01,2,    0.62,2,  -999.0,9,  -999.0,9,   11.31,2,     -999.0,9,     -999.0,9,     -999.0,9,     -999.0,9,    15.2895,     -999.0,9
  74DI20100106,        A05,      41,          1,         18,         18,10,20100115,       1117,   26.51369,  -71.71889,       5378,   504.3,  17.3022,  36.4123,  36.4124,2,   185.3,2,    2.20,2,    0.33,2,  2123.4,2,  2378.9,2,    6.81,2,     -999.0,9,     -999.0,9,     -999.0,9,     -999.0,9,    17.2165,     -999.0,9
  74DI20100106,        A05,      41,          1,         19,         19,2,20100115,       1117,   26.51369,  -71.71889,       5378,   380.3,  18.3438,  36.5747,  36.5771,2,   191.4,2,    1.37,2,    0.17,2,  -999.0,9,  -999.0,9,    4.06,2,     -999.0,9,     -999.0,9,     -999.0,9,     -999.0,9,    18.2767,     -999.0,9
  74DI20100106,        A05,      41,          1,         20,         20,2,20100115,       1117,   26.51369,  -71.71889,       5378,   252.6,  19.5411,  36.6551,  36.6562,2,   199.3,2,    0.89,2,    0.06,2,  2099.1,2,  2392.7,2,    1.55,2,     -999.0,1,     -999.0,1,     -999.0,1,     -999.0,1,    19.4946,     -999.0,1
  74DI20100106,        A05,      41,          1,         21,         21,2,20100115,       1117,   26.51369,  -71.71889,       5378,   179.1,  20.4424,  36.7420,  36.7442,2,   199.6,2,    0.72,2,    0.00,2,  -999.0,9,  -999.0,9,    0.58,2,     -999.0,9,     -999.0,9,     -999.0,9,     -999.0,9,    20.4085,     -999.0,9
  74DI20100106,        A05,      41,          1,         22,         22,2,20100115,       1117,   26.51369,  -71.71889,       5378,   120.7,  23.0081,  36.8203,  36.8057,2,   202.4,2,    0.91,2,    0.00,2,  2068.8,2,  2400.5,2,    0.05,2,     -999.0,1,     -999.0,1,     -999.0,1,     -999.0,1,    22.9833,     -999.0,1
  74DI20100106,        A05,      41,          1,         23,         23,2,20100115,       1117,   26.51369,  -71.71889,       5378,    50.3,  23.6828,  36.7571,  36.7570,2,   204.7,2,    0.96,2,    0.00,2,  -999.0,9,  -999.0,9,    0.00,2,     -999.0,9,     -999.0,9,     -999.0,9,     -999.0,9,    23.6722,     -999.0,9
  74DI20100106,        A05,      41,          1,         24,         24,2,20100115,       1117,   26.51369,  -71.71889,       5378,     4.2,  24.1060,  36.7605,  36.7600,2,   203.4,2,    0.96,2,    0.00,2,  2049.1,2,  2398.0,2,    0.00,2,     -999.0,9,     -999.0,9,     -999.0,9,     -999.0,9,    24.1051,     -999.0,9
  74DI20100106,        A05,      42,          1,          1,          1,2,20100115,       1818,   26.49589,  -71.36150,       5481,  5577.8,   2.1328,  34.8560,  34.8543,2,   247.1,2,   55.11,2,    1.60,2,  2202.9,2,  2346.2,2,   23.01,2,     -999.0,1,     -999.0,1,     -999.0,1,     -999.0,1,     1.6017,     -999.0,1
  74DI20100106,        A05,      42,          1,          2,          2,2,20100115,       1818,   26.49589,  -71.36150,       5481,  5101.6,   2.2919,  34.8828,  34.8873,2,   261.1,2,   35.16,2,    1.37,2,  2181.9,2,  2327.6,2,   19.69,2,     -999.0,1,     -999.0,1,     -999.0,1,     -999.0,1,     1.8167,     -999.0,1
  74DI20100106,        A05,      42,          1,          3,          3,2,20100115,       1818,   26.49589,  -71.36150,       5481,  4585.2,   2.3069,  34.8902,  34.8897,2,   261.4,2,   33.71,2,    1.35,2,  2179.2,2,  2326.2,2,   19.41,2,     -999.0,1,     -999.0,1,     -999.0,1,     -999.0,1,     1.8953,     -999.0,1
  74DI20100106,        A05,      42,          1,          4,          4,2,20100115,       1818,   26.49589,  -71.36150,       5481,  4072.4,   2.3478,  34.8977,  34.8975,2,   264.2,2,   29.53,2,    1.31,2,  2176.1,2,  2323.5,2,   19.14,2,     -999.0,1,     -999.0,1,     -999.0,1,     -999.0,1,     1.9956,     -999.0,1
  74DI20100106,        A05,      42,          1,          5,          5,2,20100115,       1818,   26.49589,  -71.36150,       5481,  3563.8,   2.4836,  34.9087,  34.9084,2,   265.6,2,   25.62,2,    1.28,2,  2167.7,2,  2320.8,2,   18.61,2,     -999.0,1,     -999.0,1,     -999.0,1,     -999.0,1,     2.1847,     -999.0,1
  74DI20100106,        A05,      42,          1,          6,          6,2,20100115,       1818,   26.49589,  -71.36150,       5481,  3049.1,   2.7977,  34.9288,  34.9281,2,   263.2,2,   22.75,2,    1.27,2,  2167.1,2,  2318.5,2,   18.82,2,     -999.0,1,     -999.0,1,     -999.0,1,     -999.0,1,     2.5462,     -999.0,1
  74DI20100106,        A05,      42,          1,          7,          7,2,20100115,       1818,   26.49589,  -71.36150,       5481,  2539.2,   3.2116,  34.9540,  34.9538,2,   258.4,2,   20.13,2,    1.28,2,  2167.1,2,  2313.9,2,   18.82,2,     -999.0,1,     -999.0,1,     -999.0,1,     -999.0,1,     3.0038,     -999.0,1
  74DI20100106,        A05,      42,          1,          8,          8,2,20100115,       1818,   26.49589,  -71.36150,       5481,  2287.9,   3.4031,  34.9602,  34.9603,2,   259.8,2,   18.07,2,    1.27,2,  -999.0,9,  -999.0,9,   18.85,2,     -999.0,1,     -999.0,1,     -999.0,1,     -999.0,1,     3.2168,     -999.0,1
  74DI20100106,        A05,      42,          1,          9,          9,2,20100115,       1818,   26.49589,  -71.36150,       5481,  2032.7,   3.6145,  34.9645,  34.9650,2,   260.0,2,   15.83,2,    1.25,2,  2165.0,2,  2311.1,2,   18.58,2,     -999.0,1,     -999.0,1,     -999.0,1,     -999.0,1,     3.4495,     -999.0,1
  74DI20100106,        A05,      42,          1,         10,         10,2,20100115,       1818,   26.49589,  -71.36150,       5481,  1780.7,   3.8614,  34.9744,  34.9751,2,   258.1,2,   14.53,2,    1.25,2,  -999.0,9,  -999.0,9,   18.68,2,     -999.0,1,     -999.0,1,     -999.0,1,     -999.0,1,     3.7169,     -999.0,1
  74DI20100106,        A05,      42,          1,         11,         11,10,20100115,       1818,   26.49589,  -71.36150,       5481,  1526.7,   4.3196,  35.0031,  35.0036,2,   250.6,2,   13.47,2,    1.27,2,  2168.8,2,  2310.1,2,   19.07,2,     -999.0,1,     -999.0,1,     -999.0,1,     -999.0,1,     4.1932,     -999.0,1
  74DI20100106,        A05,      42,          1,         12,         12,2,20100115,       1818,   26.49589,  -71.36150,       5481,  1261.7,   5.2059,  35.0546,  35.0545,2,   228.6,2,   13.52,2,    1.37,2,  -999.0,9,  -999.0,9,   20.24,2,     -999.0,1,     -999.0,1,     -999.0,1,     -999.0,1,     5.0953,     -999.0,1
  74DI20100106,        A05,      42,          1,         13,         13,2,20100115,       1818,   26.49589,  -71.36150,       5481,  1009.1,   7.3466,  35.1023,  35.1023,2,   164.7,2,   16.59,2,    1.65,2,  2193.4,2,  2317.0,2,   25.12,2,     -999.0,1,     -999.0,1,     -999.0,1,     -999.0,1,     7.2439,     -999.0,1
  74DI20100106,        A05,      42,          1,         14,         14,2,20100115,       1818,   26.49589,  -71.36150,       5481,   885.5,   9.2011,  35.2324,  35.2320,2,   143.5,2,   14.49,2,    1.59,2,  -999.0,9,  -999.0,9,   24.82,2,     -999.0,1,     -999.0,1,     -999.0,1,     -999.0,1,     9.0996,     -999.0,9
  74DI20100106,        A05,      42,          1,         15,         15,2,20100115,       1818,   26.49589,  -71.36150,       5481,   758.7,  12.1998,  35.6020,-999.0000,9,   154.9,2,    8.35,2,    1.14,2,  -999.0,9,  -999.0,9,   18.59,2,     -999.0,9,     -999.0,9,     -999.0,9,     -999.0,9,    12.0969,     -999.0,9
  74DI20100106,        A05,      42,          1,         16,         16,2,20100115,       1818,   26.49589,  -71.36150,       5481,   759.2,  12.1991,  35.6019,  35.6017,2,   155.2,2,    8.31,2,    1.14,2,  2171.8,2,  2333.8,2,   18.42,2,     -999.0,1,     -999.0,1,     -999.0,1,     -999.0,1,    12.0961,     -999.0,1
  74DI20100106,        A05,      42,          1,         17,         17,2,20100115,       1818,   26.49589,  -71.36150,       5481,   632.7,  14.9519,  36.0024,  36.0043,2,   162.8,2,    4.67,2,    0.76,2,  2153.9,2,  2355.0,2,   13.07,2,     -999.0,1,     -999.0,1,     -999.0,1,     -999.0,1,    14.8542,     -999.0,1
  74DI20100106,        A05,      42,          1,         18,         18,2,20100115,       1818,   26.49589,  -71.36150,       5481,   506.1,  17.2327,  36.4034,  36.4099,2,   188.8,2,    2.21,2,    0.34,2,  -999.0,9,  -999.0,9,    6.70,2,     -999.0,9,     -999.0,9,     -999.0,9,     -999.0,9,    17.1470,     -999.0,9
  74DI20100106,        A05,      42,          1,         19,         19,2,20100115,       1818,   26.49589,  -71.36150,       5481,   378.5,  18.4412,  36.5845,  36.5856,2,   191.0,2,    1.31,2,    0.16,2,  2118.3,2,  2386.7,2,    4.01,2,     -999.0,1,     -999.0,1,     -999.0,1,     -999.0,1,    18.3742,     -999.0,1
  74DI20100106,        A05,      42,          1,         20,         20,2,20100115,       1818,   26.49589,  -71.36150,       5481,   255.5,  19.6065,  36.6566,  36.6581,2,   202.3,2,    0.83,2,    0.00,2,  -999.0,9,  -999.0,9,    1.34,2,     -999.0,9,     -999.0,9,     -999.0,9,     -999.0,9,    19.5594,     -999.0,9
  74DI20100106,        A05,      42,          1,         21,         21,2,20100115,       1818,   26.49589,  -71.36150,       5481,   177.1,  20.7401,  36.7782,  36.7799,2,   199.7,2,    0.72,2,    0.00,2,  2097.9,2,  2399.2,2,    0.44,2,     -999.0,1,     -999.0,1,     -999.0,9,     -999.0,9,    20.7062,     -999.0,9
  74DI20100106,        A05,      42,          1,         22,         22,2,20100115,       1818,   26.49589,  -71.36150,       5481,   103.4,  23.6125,  36.7445,  36.7456,2,   205.5,2,    0.92,2,    0.00,2,  -999.0,9,  -999.0,9,    0.00,2,     -999.0,9,     -999.0,9,     -999.0,9,     -999.0,9,    23.5908,     -999.0,9
  74DI20100106,        A05,      42,          1,         23,         23,2,20100115,       1818,   26.49589,  -71.36150,       5481,    51.8,  23.6355,  36.7403,  36.7405,2,   205.1,2,    0.90,2,    0.00,2,  2055.1,2,  2396.2,2,    0.00,2,     -999.0,1,     -999.0,1,     -999.0,1,     -999.0,1,    23.6247,     -999.0,1
  74DI20100106,        A05,      42,          1,         24,         24,2,20100115,       1818,   26.49589,  -71.36150,       5481,    10.5,  23.6490,  36.7391,  36.7382,2,   206.1,2,    0.90,2,    0.00,2,  2055.0,2,  2393.9,2,    0.00,2,     -999.0,1,     -999.0,1,     -999.0,1,     -999.0,1,    23.6468,     -999.0,1