BOTTLE,20200115CCHSIOCBG
EXPOCODE,SECT_ID,STNNBR,CASTNO,SAMPNO,BTLNBR,BTLNBR_FLAG_W,DATE,TIME,LATITUDE,LONGITUDE,DEPTH,CTDPRS,CTDTMP,CTDSAL,SALNTY,SALNTY_FLAG_W,OXYGEN,OXYGEN_FLAG_W,SILCAT,SILCAT_FLAG_W,PHSPHT,PHSPHT_FLAG_W,TCARBN,TCARBN_FLAG_W,ALKALI,ALKALI_FLAG_W,NO2+NO3,NO2+NO3_FLAG_W,CFC-11,CFC-11_FLAG_W,CFC-12,CFC-12_FLAG_W,CFC113,CFC113_FLAG_W,CCL4,CCL4_FLAG_W,THETA,SF6,SF6_FLAG_W
,,,,,,,,,,,METERS,DBAR,ITS-90,PSS-78,PSS-78,,UMOL/KG,,UMOL/KG,,UMOL/KG,,UMOL/KG,,UMOL/KG,,UMOL/KG,,PMOL/L,,PMOL/L,,PMOL/L,,PMOL/L,,ITS-90,FMOL/L,
  74DI20100106,        A05,     131,          1,          1,         25,2,20100215,       0231,   27.62288,  -14.23675,       2034,  2044.4,   3.9462,  35.0508,  35.0514,2,   213.3,2,   29.52,9,    1.47,9,  -999.0,9,  -999.0,9,   22.43,9,     -999.0,1,     -999.0,1,     -999.0,1,     -999.0,1,     3.7748,     -999.0,1
  74DI20100106,        A05,     131,          1,          2,          2,2,20100215,       0231,   27.62288,  -14.23675,       2034,  2045.4,   3.9457,  35.0506,-999.0000,9,   214.0,2,   29.49,9,    1.46,9,  -999.0,9,  -999.0,9,   22.37,9,     -999.0,9,     -999.0,9,     -999.0,9,     -999.0,9,     3.7742,     -999.0,9
  74DI20100106,        A05,     131,          1,          3,          3,2,20100215,       0231,   27.62288,  -14.23675,       2034,  2022.1,   3.9741,  35.0536,  35.0545,2,   213.4,2,   29.19,9,    1.46,9,  2186.8,2,  -999.0,9,   21.99,9,     -999.0,1,     -999.0,1,     -999.0,1,     -999.0,1,     3.8045,     -999.0,1
  74DI20100106,        A05,     131,          1,          4,          4,2,20100215,       0231,   27.62288,  -14.23675,       2034,  1764.5,   4.5677,  35.1084,  35.1093,2,   205.0,2,   25.78,9,    1.46,9,  2188.7,2,  -999.0,9,   22.34,9,     -999.0,1,     -999.0,1,     -999.0,1,     -999.0,1,     4.4151,     -999.0,1
  74DI20100106,        A05,     131,          1,          5,          5,2,20100215,       0231,   27.62288,  -14.23675,       2034,  1764.2,   4.5716,  35.1090,-999.0000,9,   206.0,2,   25.61,9,    1.46,9,  -999.0,9,  -999.0,9,   22.30,9,     -999.0,9,     -999.0,9,     -999.0,9,     -999.0,9,     4.4190,     -999.0,9
  74DI20100106,        A05,     131,          1,          6,          6,2,20100215,       0231,   27.62288,  -14.23675,       2034,  1513.1,   5.6631,  35.2273,  35.2269,2,   193.0,2,   21.76,9,    1.43,9,  2190.8,2,  -999.0,9,   22.19,9,     -999.0,1,     -999.0,1,     -999.0,1,     -999.0,1,     5.5224,     -999.0,1
  74DI20100106,        A05,     131,          1,          7,          7,10,20100215,       0231,   27.62288,  -14.23675,       2034,  1262.3,   6.7990,  35.2965,  35.2960,2,   172.5,2,   18.95,9,    1.50,9,  2194.9,2,  -999.0,9,   23.50,9,     -999.0,1,     -999.0,1,     -999.0,1,     -999.0,1,     6.6731,     -999.0,1
  74DI20100106,        A05,     131,          1,          8,          8,2,20100215,       0231,   27.62288,  -14.23675,       2034,  1006.4,   7.6080,  35.2557,  35.2555,2,   144.1,2,   18.32,9,    1.67,9,  2204.0,2,  -999.0,9,   25.95,9,     -999.0,1,     -999.0,1,     -999.0,1,     -999.0,1,     7.5034,     -999.0,1
  74DI20100106,        A05,     131,          1,          9,          9,2,20100215,       0231,   27.62288,  -14.23675,       2034,  1005.8,   7.6082,  35.2557,-999.0000,9,   143.9,2,   18.19,9,    1.66,9,  -999.0,9,  -999.0,9,   26.08,9,     -999.0,9,     -999.0,9,     -999.0,9,     -999.0,9,     7.5037,     -999.0,9
  74DI20100106,        A05,     131,          1,         10,         10,2,20100215,       0231,   27.62288,  -14.23675,       2034,   879.4,   8.1692,  35.2619,  35.2613,2,   132.4,2,   17.41,9,    1.71,9,  -999.0,9,  -999.0,9,   26.85,9,     -999.0,1,     -999.0,1,     -999.0,1,     -999.0,1,     8.0748,     -999.0,1
  74DI20100106,        A05,     131,          1,         11,         11,2,20100215,       0231,   27.62288,  -14.23675,       2034,   757.1,   8.9331,  35.2813,  35.2746,2,   120.4,2,   16.01,9,    1.70,9,  2207.3,2,  -999.0,9,   27.25,9,     -999.0,1,     -999.0,1,     -999.0,1,     -999.0,1,     8.8483,     -999.0,1
  74DI20100106,        A05,     131,          1,         12,         12,2,20100215,       0231,   27.62288,  -14.23675,       2034,   756.3,   8.9167,  35.2791,-999.0000,9,   120.2,2,   15.97,9,    1.70,9,  -999.0,9,  -999.0,9,   27.43,9,     -999.0,9,     -999.0,9,     -999.0,9,     -999.0,9,     8.8320,     -999.0,9
  74DI20100106,        A05,     131,          1,         13,         13,2,20100215,       0231,   27.62288,  -14.23675,       2034,   631.2,  10.1586,  35.4204,  35.4180,2,   130.3,2,   12.52,9,    1.46,9,  -999.0,9,  -999.0,9,   24.32,9,     -999.0,9,     -999.0,9,     -999.0,9,     -999.0,9,    10.0827,     -999.0,9
  74DI20100106,        A05,     131,          1,         14,         14,2,20100215,       0231,   27.62288,  -14.23675,       2034,   506.5,  11.5236,  35.5866,  35.5869,2,   148.9,2,    8.52,9,    1.16,9,  2178.9,2,  -999.0,9,   19.55,9,     -999.0,1,     -999.0,1,     -999.0,1,     -999.0,1,    11.4580,     -999.0,1
  74DI20100106,        A05,     131,          1,         15,         26,2,20100215,       0231,   27.62288,  -14.23675,       2034,   382.8,  12.9239,  35.7789,  35.7756,2,   165.1,2,    5.83,9,    0.89,9,  -999.0,9,  -999.0,9,   15.23,9,     -999.0,9,     -999.0,9,     -999.0,9,     -999.0,9,    12.8707,     -999.0,9
  74DI20100106,        A05,     131,          1,         16,         16,2,20100215,       0231,   27.62288,  -14.23675,       2034,   255.7,  14.9158,  36.0996,  36.0979,2,   177.9,2,    3.60,9,    0.61,9,  2148.4,2,  -999.0,9,   10.48,9,     -999.0,9,     -999.0,9,     -999.0,9,     -999.0,9,    14.8768,     -999.0,9
  74DI20100106,        A05,     131,          1,         17,         17,2,20100215,       0231,   27.62288,  -14.23675,       2034,   176.1,  16.5238,  36.3938,  36.3972,2,   191.0,2,    2.16,9,    0.37,9,  -999.0,9,  -999.0,9,    6.24,9,     -999.0,9,     -999.0,9,     -999.0,9,     -999.0,9,    16.4950,     -999.0,9
  74DI20100106,        A05,     131,          1,         18,         19,2,20100215,       0231,   27.62288,  -14.23675,       2034,   100.7,  18.7102,  36.6518,  36.6432,2,   205.6,2,    1.18,9,    0.17,9,  -999.0,9,  -999.0,9,    2.20,9,     -999.0,1,     -999.0,1,     -999.0,1,     -999.0,1,    18.6923,     -999.0,1
  74DI20100106,        A05,     131,          1,         19,         27,2,20100215,       0231,   27.62288,  -14.23675,       2034,    63.2,  19.2304,  36.7108,  36.7117,2,   218.0,2,    0.72,9,    0.06,9,  -999.0,9,  -999.0,9,    0.27,9,     -999.0,9,     -999.0,9,     -999.0,9,     -999.0,9,    19.2190,     -999.0,9
  74DI20100106,        A05,     131,          1,         20,         20,2,20100215,       0231,   27.62288,  -14.23675,       2034,    63.0,  19.2358,  36.7117,-999.0000,9,   218.6,2,    0.74,9,    0.06,9,  -999.0,9,  -999.0,9,    0.26,9,     -999.0,9,     -999.0,9,     -999.0,9,     -999.0,9,    19.2244,     -999.0,9
  74DI20100106,        A05,     131,          1,         21,         21,2,20100215,       0231,   27.62288,  -14.23675,       2034,    50.9,  19.3003,  36.7161,  36.7185,2,   221.0,2,    0.62,9,    0.04,9,  2108.2,2,  -999.0,9,    0.00,9,     -999.0,1,     -999.0,1,     -999.0,1,     -999.0,1,    19.2910,     -999.0,1
  74DI20100106,        A05,     131,          1,         22,         22,2,20100215,       0231,   27.62288,  -14.23675,       2034,    25.5,  19.5476,  36.7463,  36.7474,2,   223.4,2,    0.62,9,    0.02,9,  -999.0,9,  -999.0,9,    0.00,9,     -999.0,9,     -999.0,9,     -999.0,9,     -999.0,9,    19.5429,     -999.0,9
  74DI20100106,        A05,     131,          1,         23,         23,2,20100215,       0231,   27.62288,  -14.23675,       2034,     4.8,  19.5738,  36.7497,  36.7505,2,   223.1,2,    0.65,9,    0.02,9,  2106.5,2,  -999.0,9,    0.00,9,     -999.0,1,     -999.0,1,     -999.0,1,     -999.0,1,    19.5729,     -999.0,1
  74DI20100106,        A05,     131,          1,         24,         24,2,20100215,       0231,   27.62288,  -14.23675,       2034,     5.3,  19.5741,  36.7498,-999.0000,9,   224.2,2,    0.64,9,    0.02,9,  -999.0,9,  -999.0,9,    0.00,9,     -999.0,9,     -999.0,9,     -999.0,9,     -999.0,9,    19.5731,     -999.0,9
  74DI20100106,        A05,     132,          1,          1,         25,10,20100215,       0704,   27.78945,  -13.77718,       1446,  1448.0,   5.7164,  35.1870,  35.1858,2,   183.9,2,   22.46,2,    1.55,2,  -999.0,9,  -999.0,9,   25.43,2,     -999.0,1,     -999.0,1,     -999.0,1,     -999.0,1,     5.5819,     -999.0,1
  74DI20100106,        A05,     132,          1,          2,          2,2,20100215,       0704,   27.78945,  -13.77718,       1446,  1448.5,   5.7035,  35.1865,-999.0000,9,   124.5,4,   18.40,2,    1.79,2,  -999.0,9,  -999.0,9,   30.49,2,     -999.0,9,     -999.0,9,     -999.0,9,     -999.0,9,     5.5691,     -999.0,9
  74DI20100106,        A05,     132,          1,          3,          3,10,20100215,       0704,   27.78945,  -13.77718,       1446,  1264.9,   6.5235,  35.2253,  35.2257,2,   167.6,2,   20.56,2,    1.62,2,  2203.3,2,  2330.0,2,   26.84,2,     -999.0,1,     -999.0,1,     -999.0,1,     -999.0,1,     6.4000,     -999.0,1
  74DI20100106,        A05,     132,          1,          4,          4,10,20100215,       0704,   27.78945,  -13.77718,       1446,  1010.7,   7.6972,  35.2064,  35.2069,2,   133.9,2,   19.07,2,    1.78,2,  2211.1,2,  2326.0,2,   29.80,2,     -999.0,1,     -999.0,1,     -999.0,1,     -999.0,1,     7.5916,     -999.0,1
  74DI20100106,        A05,     132,          1,          5,          5,10,20100215,       0704,   27.78945,  -13.77718,       1446,  1010.2,   7.6973,  35.2065,-999.0000,9,   132.3,2,   19.03,2,    1.78,2,  -999.0,9,  -999.0,9,   30.02,2,     -999.0,9,     -999.0,9,     -999.0,9,     -999.0,9,     7.5917,     -999.0,9
  74DI20100106,        A05,     132,          1,          6,          6,2,20100215,       0704,   27.78945,  -13.77718,       1446,   884.3,   8.0694,  35.2103,  35.2108,2,   124.8,2,   18.42,2,    1.80,2,  2212.8,2,  2324.2,2,   30.61,2,     -999.0,1,     -999.0,1,     -999.0,1,     -999.0,1,     7.9752,     -999.0,1
  74DI20100106,        A05,     132,          1,          7,          7,10,20100215,       0704,   27.78945,  -13.77718,       1446,   884.3,   8.0720,  35.2106,-999.0000,9,   124.9,2,   18.51,2,    1.81,2,  -999.0,9,  -999.0,9,   30.80,2,     -999.0,9,     -999.0,9,     -999.0,9,     -999.0,9,     7.9778,     -999.0,9
  74DI20100106,        A05,     132,          1,          8,          8,2,20100215,       0704,   27.78945,  -13.77718,       1446,   753.7,   8.7508,  35.2574,  35.2574,2,   118.8,2,   16.87,2,    1.76,2,  -999.0,9,  -999.0,9,   30.26,2,     -999.0,9,     -999.0,9,     -999.0,9,     -999.0,9,     8.6673,     -999.0,9
  74DI20100106,        A05,     132,          1,          9,          9,2,20100215,       0704,   27.78945,  -13.77718,       1446,   623.8,   9.9691,  35.3927,  35.3930,2,   125.8,2,   13.53,2,    1.57,2,  2202.9,2,  2327.7,2,   27.46,2,     -999.0,1,     -999.0,1,     -999.0,1,     -999.0,1,     9.8950,     -999.0,1
  74DI20100106,        A05,     132,          1,         10,         10,10,20100215,       0704,   27.78945,  -13.77718,       1446,   624.3,   9.9689,  35.3926,-999.0000,9,   129.5,2,   12.30,2,    1.47,2,  -999.0,9,  -999.0,9,   26.23,2,     -999.0,9,     -999.0,9,     -999.0,9,     -999.0,9,     9.8947,     -999.0,9
  74DI20100106,        A05,     132,          1,         11,         11,10,20100215,       0704,   27.78945,  -13.77718,       1446,   509.7,  11.4353,  35.5778,  35.5777,2,   145.9,2,    9.09,2,    1.21,2,  -999.0,9,  -999.0,9,   22.36,2,     -999.0,9,     -999.0,9,     -999.0,9,     -999.0,9,    11.3696,     -999.0,9
  74DI20100106,        A05,     132,          1,         12,         12,2,20100215,       0704,   27.78945,  -13.77718,       1446,   381.0,  13.2444,  35.8233,  35.8202,2,   161.1,2,    5.99,2,    0.91,2,  2169.2,2,  2345.2,2,   16.60,2,     -999.0,1,     -999.0,1,     -999.0,1,     -999.0,1,    13.1906,     -999.0,1
  74DI20100106,        A05,     132,          1,         13,         13,10,20100215,       0704,   27.78945,  -13.77718,       1446,   381.5,  13.2493,  35.8235,-999.0000,9,   161.4,2,    5.98,2,    0.91,2,  -999.0,9,  -999.0,9,   16.78,2,     -999.0,9,     -999.0,9,     -999.0,9,     -999.0,9,    13.1954,     -999.0,9
  74DI20100106,        A05,     132,          1,         14,         14,2,20100215,       0704,   27.78945,  -13.77718,       1446,   255.0,  14.9641,  36.1078,  36.1102,2,   178.9,2,    3.65,2,    0.61,2,  -999.0,9,  -999.0,9,   11.00,2,     -999.0,9,     -999.0,9,     -999.0,9,     -999.0,9,    14.9251,     -999.0,9
  74DI20100106,        A05,     132,          1,         15,         26,2,20100215,       0704,   27.78945,  -13.77718,       1446,   180.0,  16.1177,  36.3183,  36.3194,2,   186.7,2,    2.70,2,    0.46,2,  -999.0,9,  -999.0,9,    8.24,2,     -999.0,9,     -999.0,9,     -999.0,9,     -999.0,9,    16.0888,     -999.0,9
  74DI20100106,        A05,     132,          1,         16,         16,2,20100215,       0704,   27.78945,  -13.77718,       1446,   180.0,  16.1241,  36.3195,-999.0000,9,   186.4,2,    2.70,2,    0.46,2,  -999.0,9,  -999.0,9,    8.12,2,     -999.0,9,     -999.0,9,     -999.0,9,     -999.0,9,    16.0952,     -999.0,1
  74DI20100106,        A05,     132,          1,         17,         17,10,20100215,       0704,   27.78945,  -13.77718,       1446,    99.5,  17.9318,  36.5599,  36.5595,2,   195.1,2,    1.86,2,    0.27,2,  -999.0,9,  -999.0,9,    4.43,2,     -999.0,9,     -999.0,9,     -999.0,9,     -999.0,9,    17.9146,     -999.0,9
  74DI20100106,        A05,     132,          1,         18,         19,2,20100215,       0704,   27.78945,  -13.77718,       1446,    99.0,  17.9180,  36.5580,-999.0000,9,   194.8,2,    1.84,2,    0.27,2,  -999.0,9,  -999.0,9,    4.43,2,     -999.0,9,     -999.0,9,     -999.0,9,     -999.0,9,    17.9010,     -999.0,9
  74DI20100106,        A05,     132,          1,         19,         27,2,20100215,       0704,   27.78945,  -13.77718,       1446,    69.6,  18.8822,  36.6658,  36.6662,2,   217.0,2,    1.13,2,    0.17,2,  -999.0,9,  -999.0,9,    0.52,2,     -999.0,1,     -999.0,1,     -999.0,1,     -999.0,1,    18.8698,     -999.0,1
  74DI20100106,        A05,     132,          1,         20,         20,2,20100215,       0704,   27.78945,  -13.77718,       1446,    69.7,  18.8917,  36.6662,-999.0000,9,  -999.0,9, -999.00,9, -999.00,9,  -999.0,9,  -999.0,9, -999.00,9,     -999.0,9,     -999.0,9,     -999.0,9,     -999.0,9,    18.8793,     -999.0,9
  74DI20100106,        A05,     132,          1,         21,         21,10,20100215,       0704,   27.78945,  -13.77718,       1446,    50.4,  19.2054,  36.7022,  36.7087,2,   222.9,2,    0.93,2,    0.07,2,  2114.3,2,  2401.1,2,    0.46,2,     -999.0,9,     -999.0,9,     -999.0,9,     -999.0,9,    19.1963,     -999.0,9
  74DI20100106,        A05,     132,          1,         22,         22,2,20100215,       0704,   27.78945,  -13.77718,       1446,    25.1,  19.4913,  36.7568,-999.0000,9,  -999.0,9, -999.00,9, -999.00,9,  -999.0,9,  -999.0,9, -999.00,9,     -999.0,9,     -999.0,9,     -999.0,9,     -999.0,9,    19.4867,     -999.0,9
  74DI20100106,        A05,     132,          1,         23,         23,2,20100215,       0704,   27.78945,  -13.77718,       1446,     5.3,  19.5005,  36.7572,  36.7581,2,   223.1,2,    0.71,2,    0.02,2,  2106.5,2,  2403.2,2,    0.17,2,     -999.0,9,     -999.0,9,     -999.0,9,     -999.0,9,    19.4995,     -999.0,9
  74DI20100106,        A05,     132,          1,         24,         24,10,20100215,       0704,   27.78945,  -13.77718,       1446,     5.5,  19.5005,  36.7572,-999.0000,9,   223.4,2,    0.71,2,    0.02,2,  -999.0,9,  -999.0,9,    0.00,2,     -999.0,1,     -999.0,1,     -999.0,1,     -999.0,1,    19.4995,     -999.0,1