BOTTLE,20200115CCHSIOCBG
EXPOCODE,SECT_ID,STNNBR,CASTNO,SAMPNO,BTLNBR,BTLNBR_FLAG_W,DATE,TIME,LATITUDE,LONGITUDE,DEPTH,CTDPRS,CTDTMP,CTDSAL,SALNTY,SALNTY_FLAG_W,OXYGEN,OXYGEN_FLAG_W,SILCAT,SILCAT_FLAG_W,PHSPHT,PHSPHT_FLAG_W,TCARBN,TCARBN_FLAG_W,ALKALI,ALKALI_FLAG_W,NO2+NO3,NO2+NO3_FLAG_W,CFC-11,CFC-11_FLAG_W,CFC-12,CFC-12_FLAG_W,CFC113,CFC113_FLAG_W,CCL4,CCL4_FLAG_W,THETA,SF6,SF6_FLAG_W
,,,,,,,,,,,METERS,DBAR,ITS-90,PSS-78,PSS-78,,UMOL/KG,,UMOL/KG,,UMOL/KG,,UMOL/KG,,UMOL/KG,,UMOL/KG,,PMOL/L,,PMOL/L,,PMOL/L,,PMOL/L,,ITS-90,FMOL/L,
  74DI20100106,        A05,      59,          1,          1,          1,2,20100121,       1203,   24.50161,  -61.08442,       5882,  5989.8,   2.0920,  34.8445,  34.8432,2,   241.3,2,   60.52,2,    1.59,2,  2203.0,2,  2345.3,2,   23.74,2,     -999.0,1,     -999.0,1,     -999.0,1,     -999.0,1,     1.5072,     -999.0,1
  74DI20100106,        A05,      59,          1,          2,          2,2,20100121,       1203,   24.50161,  -61.08442,       5882,  5881.2,   2.0797,  34.8451,  34.8473,2,   243.7,2,   60.10,2,    1.60,2,  2200.6,2,  2343.8,2,   23.75,2,     -999.0,1,     -999.0,1,     -999.0,1,     -999.0,1,     1.5101,     -999.0,1
  74DI20100106,        A05,      59,          1,          3,          3,2,20100121,       1203,   24.50161,  -61.08442,       5882,  5331.2,   2.0456,  34.8506,  34.8512,2,   244.3,2,   57.24,2,    1.56,2,  2203.3,2,  2343.2,2,   23.31,2,     -999.0,1,     -999.0,1,     -999.0,1,     -999.0,1,     1.5498,     -999.0,1
  74DI20100106,        A05,      59,          1,          4,          4,2,20100121,       1203,   24.50161,  -61.08442,       5882,  4850.5,   2.2207,  34.8790,  34.8788,2,   252.0,2,   43.10,2,    1.42,2,  2187.0,2,  2334.1,2,   21.32,2,     -999.0,1,     -999.0,1,     -999.0,1,     -999.0,1,     1.7794,     -999.0,1
  74DI20100106,        A05,      59,          1,          5,          5,2,20100121,       1203,   24.50161,  -61.08442,       5882,  4337.4,   2.2993,  34.8939,  34.8945,2,   260.5,2,   35.18,2,    1.33,2,  2177.0,2,  2329.4,2,   20.06,2,     -999.0,1,     -999.0,1,     -999.0,1,     -999.0,1,     1.9176,     -999.0,1
  74DI20100106,        A05,      59,          1,          6,          6,2,20100121,       1203,   24.50161,  -61.08442,       5882,  3823.5,   2.3880,  34.9035,  34.9059,2,   256.8,2,   34.00,2,    1.32,2,  2173.1,2,  2325.3,2,   20.06,2,     -999.0,1,     -999.0,1,     -999.0,1,     -999.0,1,     2.0628,     -999.0,1
  74DI20100106,        A05,      59,          1,          7,          7,2,20100121,       1203,   24.50161,  -61.08442,       5882,  3311.7,   2.5940,  34.9207,  34.9210,2,   252.3,2,   32.87,2,    1.34,2,  2176.3,2,  2325.2,2,   20.53,2,     -999.0,1,     -999.0,1,     -999.0,1,     -999.0,1,     2.3195,     -999.0,1
  74DI20100106,        A05,      59,          1,          8,          8,2,20100121,       1203,   24.50161,  -61.08442,       5882,  2802.0,   2.8963,  34.9453,  34.9465,2,   250.7,2,   28.30,2,    1.31,2,  2175.1,2,  2325.1,2,   19.97,2,     -999.0,1,     -999.0,1,     -999.0,1,     -999.0,1,     2.6682,     -999.0,1
  74DI20100106,        A05,      59,          1,          9,          9,2,20100121,       1203,   24.50161,  -61.08442,       5882,  2547.3,   3.0997,  34.9630,  34.9625,2,   247.7,2,   27.20,2,    1.32,2,  -999.0,9,  -999.0,9,   20.16,2,     -999.0,1,     -999.0,1,     -999.0,1,     -999.0,1,     2.8932,     -999.0,1
  74DI20100106,        A05,      59,          1,         10,         10,2,20100121,       1203,   24.50161,  -61.08442,       5882,  2294.1,   3.3341,  34.9805,  34.9808,2,   248.0,2,   23.94,2,    1.30,2,  2170.4,2,  2320.3,2,   20.05,2,     -999.0,1,     -999.0,1,     -999.0,1,     -999.0,1,     3.1483,     -999.0,1
  74DI20100106,        A05,      59,          1,         11,         11,10,20100121,       1203,   24.50161,  -61.08442,       5882,  2038.5,   3.6216,  34.9990,  34.9982,2,   247.9,2,   22.27,2,    1.29,2,  -999.0,9,  -999.0,9,   19.71,2,     -999.0,1,     -999.0,1,     -999.0,1,     -999.0,1,     3.4559,     -999.0,1
  74DI20100106,        A05,      59,          1,         12,         12,2,20100121,       1203,   24.50161,  -61.08442,       5882,  1785.7,   4.0013,  35.0157,  34.9991,2,   247.6,2,   18.48,2,    1.27,2,  2167.5,2,  2315.8,2,   19.58,2,     -999.0,1,     -999.0,1,     -999.0,1,     -999.0,1,     3.8543,     -999.0,1
  74DI20100106,        A05,      59,          1,         13,         13,2,20100121,       1203,   24.50161,  -61.08442,       5882,  1531.6,   4.4303,  35.0306,  35.0312,2,   241.2,2,   14.73,2,    1.25,2,  -999.0,9,  -999.0,9,   19.19,2,     -999.0,1,     -999.0,1,     -999.0,1,     -999.0,1,     4.3021,     -999.0,1
  74DI20100106,        A05,      59,          1,         14,         14,2,20100121,       1203,   24.50161,  -61.08442,       5882,  1279.4,   5.1722,  35.0603,  35.0603,2,   218.7,2,   15.32,2,    1.33,2,  2175.2,2,  2314.7,2,   21.01,2,     -999.0,1,     -999.0,1,     -999.0,1,     -999.0,1,     5.0602,     -999.0,1
  74DI20100106,        A05,      59,          1,         15,         15,10,20100121,       1203,   24.50161,  -61.08442,       5882,  1026.2,   6.4282,  35.0383,  35.0405,2,   170.1,2,   18.61,2,    1.63,2,  -999.0,9,  -999.0,9,   25.76,2,     -999.0,1,     -999.0,1,     -999.0,1,     -999.0,1,     6.3307,     -999.0,1
  74DI20100106,        A05,      59,          1,         16,         16,2,20100121,       1203,   24.50161,  -61.08442,       5882,   884.3,   7.7630,  35.0960,  35.0945,2,   147.2,2,   17.80,2,    1.70,2,  2197.3,2,  2316.6,2,   26.66,2,     -999.0,1,     -999.0,1,     -999.0,1,     -999.0,1,     7.6710,     -999.0,1
  74DI20100106,        A05,      59,          1,         17,         17,2,20100121,       1203,   24.50161,  -61.08442,       5882,   757.4,   9.9887,  35.3282,  35.3206,2,   143.0,2,   12.91,2,    1.43,2,  -999.0,9,  -999.0,9,   23.40,2,     -999.0,9,     -999.0,9,     -999.0,9,     -999.0,9,     9.8980,     -999.0,9
  74DI20100106,        A05,      59,          1,         18,         18,2,20100121,       1203,   24.50161,  -61.08442,       5882,   505.6,  14.7026,  35.9704,  35.9708,2,   166.2,2,    4.64,2,    0.73,2,  2148.9,2,  2353.6,2,   12.72,2,     -999.0,1,     -999.0,1,     -999.0,1,     -999.0,1,    14.6257,     -999.0,1
  74DI20100106,        A05,      59,          1,         19,         19,2,20100121,       1203,   24.50161,  -61.08442,       5882,   379.6,  16.9845,  36.3599,  36.3595,2,   181.8,2,    2.46,2,    0.40,2,  -999.0,9,  -999.0,9,    7.47,2,     -999.0,9,     -999.0,9,     -999.0,9,     -999.0,9,    16.9210,     -999.0,9
  74DI20100106,        A05,      59,          1,         20,         20,2,20100121,       1203,   24.50161,  -61.08442,       5882,   253.4,  18.4351,  36.5884,  36.5900,2,   186.7,2,    1.37,2,    0.17,2,  2115.9,2,  2387.6,2,    4.01,2,     -999.0,1,     -999.0,1,     -999.0,1,     -999.0,1,    18.3903,     -999.0,1
  74DI20100106,        A05,      59,          1,         21,         21,10,20100121,       1203,   24.50161,  -61.08442,       5882,   177.4,  20.2547,  36.8057,  36.8064,2,   178.0,2,    1.08,2,    0.08,2,  -999.0,9,  -999.0,9,    2.07,2,     -999.0,9,     -999.0,9,     -999.0,9,     -999.0,9,    20.2213,     -999.0,9
  74DI20100106,        A05,      59,          1,         22,         22,2,20100121,       1203,   24.50161,  -61.08442,       5882,   101.8,  23.5134,  37.0075,  36.9744,3,   200.0,2,    0.81,2,    0.00,2,  2085.4,2,  2409.8,2,    0.04,2,     -999.0,1,     -999.0,1,     -999.0,1,     -999.0,1,    23.4922,     -999.0,1
  74DI20100106,        A05,      59,          1,         23,         23,2,20100121,       1203,   24.50161,  -61.08442,       5882,    51.1,  25.0099,  36.5241,  36.4989,3,   201.7,2,    0.96,2,    0.00,2,  -999.0,9,  -999.0,9,    0.00,2,     -999.0,9,     -999.0,9,     -999.0,9,     -999.0,9,    24.9987,     -999.0,9
  74DI20100106,        A05,      59,          1,         24,         24,2,20100121,       1203,   24.50161,  -61.08442,       5882,     6.5,  25.0571,  36.3674,  36.3677,2,   201.8,2,    1.04,2,    0.00,2,  2024.9,2,  2375.4,2,    0.00,2,     -999.0,9,     -999.0,9,     -999.0,9,     -999.0,9,    25.0556,     -999.0,9
  74DI20100106,        A05,      60,          1,          1,          1,3,20100121,       2007,   24.49955,  -60.34706,       5819,  5923.6,   2.0878,  34.8453,-999.0000,9,  -999.0,9, -999.00,9, -999.00,9,  -999.0,9,  -999.0,9, -999.00,9,     -999.0,9,     -999.0,9,     -999.0,9,     -999.0,9,     1.5122,     -999.0,9
  74DI20100106,        A05,      60,          1,          2,          2,2,20100121,       2007,   24.49955,  -60.34706,       5819,  5621.8,   2.0546,  34.8468,  34.8498,2,   243.0,2,   58.56,2,    1.57,2,  2201.8,2,  2344.0,2,   23.37,2,     -999.0,1,     -999.0,1,     -999.0,1,     -999.0,1,     1.5206,     -999.0,1
  74DI20100106,        A05,      60,          1,          3,          3,2,20100121,       2007,   24.49955,  -60.34706,       5819,  5108.2,   2.0678,  34.8568,  34.8570,2,   246.7,2,   54.26,2,    1.52,2,  2197.8,2,  2340.3,2,   22.78,2,     -999.0,1,     -999.0,1,     -999.0,1,     -999.0,1,     1.5996,     -999.0,1
  74DI20100106,        A05,      60,          1,          4,          4,2,20100121,       2007,   24.49955,  -60.34706,       5819,  4593.3,   2.2456,  34.8850,  34.8846,2,   253.6,2,   39.90,2,    1.36,2,  2182.3,2,  2330.5,2,   20.67,2,     -999.0,1,     -999.0,1,     -999.0,1,     -999.0,1,     1.8350,     -999.0,1
  74DI20100106,        A05,      60,          1,          5,          5,2,20100121,       2007,   24.49955,  -60.34706,       5819,  4080.0,   2.3218,  34.8977,  34.8976,2,   258.0,2,   33.99,2,    1.30,2,  2173.2,2,  2333.4,2,   19.65,2,     -999.0,1,     -999.0,1,     -999.0,1,     -999.0,1,     1.9694,     -999.0,1
  74DI20100106,        A05,      60,          1,          6,          6,3,20100121,       2007,   24.49955,  -60.34706,       5819,  3565.9,   2.4655,  34.9098,-999.0000,9,  -999.0,9, -999.00,9, -999.00,9,  -999.0,9,  -999.0,9, -999.00,9,     -999.0,9,     -999.0,9,     -999.0,9,     -999.0,9,     2.1667,     -999.0,9
  74DI20100106,        A05,      60,          1,          7,          7,2,20100121,       2007,   24.49955,  -60.34706,       5819,  3057.6,   2.7519,  34.9339,  34.9343,2,   249.2,2,   32.31,2,    1.35,2,  2175.7,2,  2328.4,2,   20.48,2,     -999.0,1,     -999.0,1,     -999.0,1,     -999.0,1,     2.5005,     -999.0,1
  74DI20100106,        A05,      60,          1,          8,          8,2,20100121,       2007,   24.49955,  -60.34706,       5819,  2548.0,   3.0795,  34.9623,  34.9630,2,   246.1,2,   28.39,2,    1.33,2,  2179.3,2,  2327.6,2,   20.34,2,     -999.0,1,     -999.0,1,     -999.0,1,     -999.0,1,     2.8732,     -999.0,1
  74DI20100106,        A05,      60,          1,          9,          9,2,20100121,       2007,   24.49955,  -60.34706,       5819,  2294.1,   3.3421,  34.9837,  34.9827,2,   245.6,2,   25.20,2,    1.31,2,  -999.0,9,  -999.0,9,   20.01,2,     -999.0,1,     -999.0,1,     -999.0,1,     -999.0,1,     3.1562,     -999.0,1
  74DI20100106,        A05,      60,          1,         10,         10,2,20100121,       2007,   24.49955,  -60.34706,       5819,  2039.8,   3.7009,  35.0099,  35.0099,2,   243.6,2,   21.22,2,    1.29,2,  2175.8,2,  2318.4,2,   19.32,2,     -999.0,1,     -999.0,1,     -999.0,1,     -999.0,1,     3.5339,     -999.0,1
  74DI20100106,        A05,      60,          1,         11,         11,10,20100121,       2007,   24.49955,  -60.34706,       5819,  1786.6,   4.0944,  35.0291,  35.0288,2,   244.7,2,   17.19,2,    1.26,2,  -999.0,9,  -999.0,9,   19.42,2,     -999.0,1,     -999.0,1,     -999.0,1,     -999.0,1,     3.9461,     -999.0,1
  74DI20100106,        A05,      60,          1,         12,         12,2,20100121,       2007,   24.49955,  -60.34706,       5819,  1521.7,   4.6795,  35.0602,  35.0590,2,   235.9,2,   14.99,2,    1.27,2,  2172.8,2,  2316.2,2,   19.64,2,     -999.0,1,     -999.0,1,     -999.0,1,     -999.0,1,     4.5493,     -999.0,1
  74DI20100106,        A05,      60,          1,         13,         13,2,20100121,       2007,   24.49955,  -60.34706,       5819,  1265.8,   5.4214,  35.0715,  35.0710,2,   213.7,2,   15.33,2,    1.36,2,  -999.0,9,  -999.0,9,   21.34,2,     -999.0,1,     -999.0,1,     -999.0,1,     -999.0,1,     5.3084,     -999.0,1
  74DI20100106,        A05,      60,          1,         14,         14,2,20100121,       2007,   24.49955,  -60.34706,       5819,  1006.7,   6.7567,  35.0406,  35.0401,2,   160.5,2,   18.83,2,    1.69,2,  2211.6,3,  2316.4,2,   26.46,2,     -999.0,1,     -999.0,1,     -999.0,1,     -999.0,1,     6.6587,     -999.0,1
  74DI20100106,        A05,      60,          1,         15,         15,2,20100121,       2007,   24.49955,  -60.34706,       5819,   883.3,   7.9722,  35.0968,  35.1042,2,   142.7,2,   17.52,2,    1.69,2,  -999.0,9,  -999.0,9,   27.14,2,     -999.0,1,     -999.0,1,     -999.0,1,     -999.0,1,     7.8790,     -999.0,1
  74DI20100106,        A05,      60,          1,         16,         16,2,20100121,       2007,   24.49955,  -60.34706,       5819,   757.6,   9.9330,  35.3037,  35.3008,2,   141.8,2,   13.45,2,    1.47,2,  2202.5,2,  2328.1,2,   24.23,2,     -999.0,1,     -999.0,1,     -999.0,1,     -999.0,1,     9.8426,     -999.0,1
  74DI20100106,        A05,      60,          1,         17,         17,2,20100121,       2007,   24.49955,  -60.34706,       5819,   632.8,  12.1613,  35.5979,  35.5931,2,   148.2,2,    8.52,2,    1.16,2,  2171.2,2,  2334.4,2,   19.35,2,     -999.0,1,     -999.0,1,     -999.0,1,     -999.0,1,    12.0761,     -999.0,1
  74DI20100106,        A05,      60,          1,         18,         18,2,20100121,       2007,   24.49955,  -60.34706,       5819,   504.1,  14.6032,  35.9705,  35.9741,2,   169.5,2,    4.37,2,    0.71,2,  -999.0,9,  -999.0,9,   12.28,2,     -999.0,9,     -999.0,9,     -999.0,9,     -999.0,9,    14.5268,     -999.0,9
  74DI20100106,        A05,      60,          1,         19,         19,2,20100121,       2007,   24.49955,  -60.34706,       5819,   378.0,  16.8172,  36.3333,  36.3332,2,   184.2,2,    2.41,2,    0.40,2,  2129.6,2,  2373.5,2,    7.37,2,     -999.0,1,     -999.0,1,     -999.0,9,     -999.0,9,    16.7544,     -999.0,1
  74DI20100106,        A05,      60,          1,         20,         20,2,20100121,       2007,   24.49955,  -60.34706,       5819,   252.6,  18.5428,  36.6279,  36.6267,2,   184.3,2,    1.39,2,    0.18,2,  -999.0,9,  -999.0,9,    4.21,2,     -999.0,9,     -999.0,9,     -999.0,9,     -999.0,9,    18.4980,     -999.0,9
  74DI20100106,        A05,      60,          1,         21,         21,2,20100121,       2007,   24.49955,  -60.34706,       5819,   176.7,  20.6479,  36.8449,  36.8488,2,   187.2,2,    0.85,2,    0.02,2,  2116.4,2,  2402.7,2,    0.90,2,     -999.0,1,     -999.0,1,     -999.0,1,     -999.0,1,    20.6142,     -999.0,1
  74DI20100106,        A05,      60,          1,         22,         22,2,20100121,       2007,   24.49955,  -60.34706,       5819,   114.0,  23.5427,  37.1375,  37.1423,2,   211.3,2,    0.72,2,    0.00,2,  -999.0,9,  -999.0,9,    0.00,2,     -999.0,9,     -999.0,9,     -999.0,9,     -999.0,9,    23.5189,     -999.0,9
  74DI20100106,        A05,      60,          1,         23,         23,2,20100121,       2007,   24.49955,  -60.34706,       5819,    48.9,  24.9253,  36.8483,  36.8270,3,   205.0,3,    0.90,2,    0.00,2,  2047.5,2,  2401.9,2,    0.00,2,     -999.0,1,     -999.0,1,     -999.0,1,     -999.0,1,    24.9146,     -999.0,1
  74DI20100106,        A05,      60,          1,         24,         24,3,20100121,       2007,   24.49955,  -60.34706,       5819,     4.9,  25.1669,  36.3603,-999.0000,9,  -999.0,9, -999.00,9, -999.00,9,  -999.0,9,  -999.0,9, -999.00,9,     -999.0,9,     -999.0,9,     -999.0,9,     -999.0,9,    25.1658,     -999.0,9