BOTTLE,20200115CCHSIOCBG
EXPOCODE,SECT_ID,STNNBR,CASTNO,SAMPNO,BTLNBR,BTLNBR_FLAG_W,DATE,TIME,LATITUDE,LONGITUDE,DEPTH,CTDPRS,CTDTMP,CTDSAL,SALNTY,SALNTY_FLAG_W,OXYGEN,OXYGEN_FLAG_W,SILCAT,SILCAT_FLAG_W,PHSPHT,PHSPHT_FLAG_W,TCARBN,TCARBN_FLAG_W,ALKALI,ALKALI_FLAG_W,NO2+NO3,NO2+NO3_FLAG_W,CFC-11,CFC-11_FLAG_W,CFC-12,CFC-12_FLAG_W,CFC113,CFC113_FLAG_W,CCL4,CCL4_FLAG_W,THETA,SF6,SF6_FLAG_W
,,,,,,,,,,,METERS,DBAR,ITS-90,PSS-78,PSS-78,,UMOL/KG,,UMOL/KG,,UMOL/KG,,UMOL/KG,,UMOL/KG,,UMOL/KG,,PMOL/L,,PMOL/L,,PMOL/L,,PMOL/L,,ITS-90,FMOL/L,
  74DI20100106,        A05,      97,          1,          1,         25,2,20100204,       0709,   24.21925,  -36.76976,       5140,  5222.1,   2.3984,  34.8821,  34.8825,2,   241.0,2,   50.64,2,    1.51,2,  -999.0,9,  -999.0,9,   22.78,2,     -999.0,1,     -999.0,1,     -999.0,1,     -999.0,1,     1.9041,     -999.0,1
  74DI20100106,        A05,      97,          1,          2,          2,2,20100204,       0709,   24.21925,  -36.76976,       5140,  5222.1,   2.3984,  34.8821,  34.9567,2,   238.7,2,   34.46,3,    1.43,3,  -999.0,9,  -999.0,9,   21.71,3,     -999.0,1,     -999.0,1,     -999.0,1,     -999.0,1,     1.9041,     -999.0,1
  74DI20100106,        A05,      97,          1,          3,          3,2,20100204,       0709,   24.21925,  -36.76976,       5140,  4844.3,   2.3787,  34.8854,  34.8851,2,   240.1,2,   50.11,2,    1.50,2,  2198.5,2,  2351.1,2,   22.63,2,     -999.0,1,     -999.0,1,     -999.0,1,     -999.0,1,     1.9330,     -999.0,1
  74DI20100106,        A05,      97,          1,          4,          4,2,20100204,       0709,   24.21925,  -36.76976,       5140,  4331.4,   2.3809,  34.8920,  34.8908,2,   239.2,2,   48.47,2,    1.50,2,  2200.2,2,  2351.5,2,   22.74,2,     -999.0,1,     -999.0,1,     -999.0,1,     -999.0,1,     1.9974,     -999.0,1
  74DI20100106,        A05,      97,          1,          5,          5,2,20100204,       0709,   24.21925,  -36.76976,       5140,  3819.4,   2.4563,  34.9049,  34.9046,2,   239.6,2,   45.25,2,    1.48,2,  2199.9,2,  2349.8,2,   22.62,2,     -999.0,1,     -999.0,1,     -999.0,1,     -999.0,1,     2.1297,     -999.0,1
  74DI20100106,        A05,      97,          1,          6,          6,2,20100204,       0709,   24.21925,  -36.76976,       5140,  3307.7,   2.6505,  34.9276,  34.9272,2,   236.8,2,   40.61,2,    1.45,2,  2193.8,2,  2347.1,2,   22.26,2,     -999.0,1,     -999.0,1,     -999.0,1,     -999.0,1,     2.3751,     -999.0,1
  74DI20100106,        A05,      97,          1,          7,          7,2,20100204,       0709,   24.21925,  -36.76976,       5140,  2797.3,   2.9499,  34.9560,  34.9551,2,   236.9,2,   34.57,2,    1.42,2,  2188.6,2,  2338.3,2,   21.77,2,     -999.0,1,     -999.0,1,     -999.0,1,     -999.0,1,     2.7211,     -999.0,1
  74DI20100106,        A05,      97,          1,          8,          8,2,20100204,       0709,   24.21925,  -36.76976,       5140,  2542.9,   3.1596,  34.9739,  34.9734,2,   236.1,2,   31.39,2,    1.41,2,  -999.0,9,  -999.0,9,   21.49,2,     -999.0,1,     -999.0,1,     -999.0,1,     -999.0,1,     2.9523,     -999.0,1
  74DI20100106,        A05,      97,          1,          9,          9,2,20100204,       0709,   24.21925,  -36.76976,       5140,  2289.3,   3.4401,  34.9947,  34.9940,2,   235.1,2,   27.73,2,    1.40,2,  2178.1,2,  2332.5,2,   21.43,2,     -999.0,1,     -999.0,1,     -999.0,1,     -999.0,1,     3.2529,     -999.0,1
  74DI20100106,        A05,      97,          1,         10,         10,2,20100204,       0709,   24.21925,  -36.76976,       5140,  2035.0,   3.7857,  35.0211,  35.0205,2,   232.9,2,   24.15,2,    1.37,2,  -999.0,9,  -999.0,9,   21.07,2,     -999.0,1,     -999.0,1,     -999.0,1,     -999.0,1,     3.6178,     -999.0,1
  74DI20100106,        A05,      97,          1,         11,         11,2,20100204,       0709,   24.21925,  -36.76976,       5140,  1770.6,   4.2988,  35.0546,  35.0543,2,   226.4,2,   20.99,2,    1.38,2,  2176.3,2,  2327.1,2,   21.23,2,     -999.0,1,     -999.0,1,     -999.0,1,     -999.0,1,     4.1492,     -999.0,1
  74DI20100106,        A05,      97,          1,         12,         12,2,20100204,       0709,   24.21925,  -36.76976,       5140,  1518.4,   4.9643,  35.0885,  35.0879,2,   214.6,2,   18.53,2,    1.41,2,  -999.0,9,  -999.0,9,   21.78,2,     -999.0,1,     -999.0,1,     -999.0,1,     -999.0,1,     4.8312,     -999.0,1
  74DI20100106,        A05,      97,          1,         13,         13,2,20100204,       0709,   24.21925,  -36.76976,       5140,  1264.3,   5.7146,  35.0959,  35.0968,2,   190.8,2,   18.69,2,    1.52,2,  2187.3,2,  2326.3,2,   23.74,2,     -999.0,1,     -999.0,1,     -999.0,1,     -999.0,1,     5.5990,     -999.0,1
  74DI20100106,        A05,      97,          1,         14,         14,2,20100204,       0709,   24.21925,  -36.76976,       5140,  1010.4,   6.6920,  35.1000,  35.0993,2,   158.8,2,   19.58,2,    1.70,2,  -999.0,9,  -999.0,9,   26.82,2,     -999.0,1,     -999.0,1,     -999.0,1,     -999.0,1,     6.5940,     -999.0,1
  74DI20100106,        A05,      97,          1,         15,         26,2,20100204,       0709,   24.21925,  -36.76976,       5140,   885.4,   7.5281,  35.1464,  35.1447,2,   143.3,2,   18.77,2,    1.74,2,  -999.0,9,  -999.0,9,   27.51,2,     -999.0,1,     -999.0,1,     -999.0,1,     -999.0,1,     7.4374,     -999.0,1
  74DI20100106,        A05,      97,          1,         16,         16,2,20100204,       0709,   24.21925,  -36.76976,       5140,   759.0,   9.2244,  35.3160,  35.3141,2,   142.5,2,   14.46,2,    1.52,2,  2193.7,2,  2330.7,2,   24.73,2,     -999.0,1,     -999.0,1,     -999.0,1,     -999.0,1,     9.1377,     -999.0,1
  74DI20100106,        A05,      97,          1,         17,         17,2,20100204,       0709,   24.21925,  -36.76976,       5140,   630.6,  11.2821,  35.5435,  35.5416,2,   155.0,2,    8.87,2,    1.17,2,  2174.1,2,  2334.2,2,   19.56,2,     -999.0,9,     -999.0,9,     -999.0,9,     -999.0,9,    11.2011,     -999.0,9
  74DI20100106,        A05,      97,          1,         18,         18,2,20100204,       0709,   24.21925,  -36.76976,       5140,   504.0,  13.0317,  35.7585,  35.7604,2,   164.8,2,    5.74,2,    0.89,2,  2157.9,2,  2342.6,2,   15.34,2,     -999.0,1,     -999.0,1,     -999.0,1,     -999.0,1,    12.9610,     -999.0,1
  74DI20100106,        A05,      97,          1,         19,         19,2,20100204,       0709,   24.21925,  -36.76976,       5140,   378.3,  15.2681,  36.1073,  36.1052,2,   172.8,2,    3.50,2,    0.60,2,  -999.0,9,  -999.0,9,   10.84,2,     -999.0,9,     -999.0,9,     -999.0,9,     -999.0,9,    15.2093,     -999.0,9
  74DI20100106,        A05,      97,          1,         20,         20,2,20100204,       0709,   24.21925,  -36.76976,       5140,   252.0,  17.9324,  36.5745,  36.5756,2,   186.1,2,    1.66,2,    0.23,2,  2130.4,2,  2388.4,2,    5.03,2,     -999.0,1,     -999.0,1,     -999.0,1,     -999.0,1,    17.8887,     -999.0,1
  74DI20100106,        A05,      97,          1,         21,         21,2,20100204,       0709,   24.21925,  -36.76976,       5140,   177.4,  20.5895,  37.1639,  37.1646,2,   192.2,2,    0.84,2,    0.06,2,  -999.0,9,  -999.0,9,    1.37,2,     -999.0,9,     -999.0,9,     -999.0,9,     -999.0,9,    20.5556,     -999.0,9
  74DI20100106,        A05,      97,          1,         22,         22,2,20100204,       0709,   24.21925,  -36.76976,       5140,   130.0,  22.9242,  37.5131,  37.5171,2,   205.6,2,    0.70,2,    0.00,2,  2111.3,2,  2451.0,2,    0.00,2,     -999.0,1,     -999.0,1,     -999.0,1,     -999.0,1,    22.8974,     -999.0,1
  74DI20100106,        A05,      97,          1,         23,         23,2,20100204,       0709,   24.21925,  -36.76976,       5140,    51.0,  23.1031,  37.5474,  37.5466,2,   206.6,2,    0.73,2,    0.00,2,  -999.0,9,  -999.0,9,    0.00,2,     -999.0,9,     -999.0,9,     -999.0,9,     -999.0,9,    23.0926,     -999.0,9
  74DI20100106,        A05,      97,          1,         24,         24,2,20100204,       0709,   24.21925,  -36.76976,       5140,     5.3,  23.0892,  37.5479,  37.5469,2,   206.4,2,    0.70,2,    0.00,2,  2110.3,2,  2452.1,2,    0.00,2,     -999.0,1,     -999.0,1,     -999.0,1,     -999.0,1,    23.0881,     -999.0,1
  74DI20100106,        A05,      98,          1,          1,         25,2,20100204,       1542,   24.36337,  -35.92732,       5766,  5867.6,   2.4535,  34.8789,  34.8790,2,   240.3,2,   51.44,2,    1.51,2,  -999.0,9,  -999.0,9,   22.60,2,     -999.0,1,     -999.0,1,     -999.0,1,     -999.0,1,     1.8713,     -999.0,1
  74DI20100106,        A05,      98,          1,          2,          2,2,20100204,       1542,   24.36337,  -35.92732,       5766,  5592.1,   2.4241,  34.8801,  34.8792,2,   241.8,2,   51.11,2,    1.51,2,  2197.8,2,  2337.1,2,   22.96,2,     -999.0,1,     -999.0,1,     -999.0,1,     -999.0,1,     1.8803,     -999.0,1
  74DI20100106,        A05,      98,          1,          3,          3,2,20100204,       1542,   24.36337,  -35.92732,       5766,  5074.1,   2.3859,  34.8832,  34.8825,2,   241.8,2,   50.36,2,    1.51,2,  2199.3,2,  2346.9,2,   23.04,2,     -999.0,1,     -999.0,1,     -999.0,1,     -999.0,1,     1.9110,     -999.0,1
  74DI20100106,        A05,      98,          1,          4,          4,2,20100204,       1542,   24.36337,  -35.92732,       5766,  4554.0,   2.3832,  34.8895,  34.8891,2,   239.2,2,   49.28,2,    1.50,2,  2199.2,2,  2351.8,2,   22.85,2,     -999.0,1,     -999.0,1,     -999.0,1,     -999.0,1,     1.9730,     -999.0,1
  74DI20100106,        A05,      98,          1,          5,          5,2,20100204,       1542,   24.36337,  -35.92732,       5766,  4070.8,   2.4198,  34.8987,  34.8979,2,   241.0,2,   46.98,2,    1.49,2,  2195.4,2,  2347.6,2,   22.62,2,     -999.0,1,     -999.0,1,     -999.0,1,     -999.0,1,     2.0656,     -999.0,1
  74DI20100106,        A05,      98,          1,          6,          6,2,20100204,       1542,   24.36337,  -35.92732,       5766,  3559.8,   2.5314,  34.9147,  34.9137,2,   240.1,2,   43.93,2,    1.49,2,  2194.6,2,  2347.7,2,   22.47,2,     -999.0,1,     -999.0,1,     -999.0,1,     -999.0,1,     2.2316,     -999.0,1
  74DI20100106,        A05,      98,          1,          7,          7,2,20100204,       1542,   24.36337,  -35.92732,       5766,  3045.8,   2.7554,  34.9388,  34.9380,2,   238.7,2,   38.67,2,    1.44,2,  2192.6,2,  2341.9,2,   22.06,2,     -999.0,1,     -999.0,1,     -999.0,1,     -999.0,1,     2.5051,     -999.0,1
  74DI20100106,        A05,      98,          1,          8,          8,2,20100204,       1542,   24.36337,  -35.92732,       5766,  2535.3,   3.1287,  34.9730,  34.9723,2,   236.4,2,   31.65,2,    1.41,2,  2185.8,2,  2331.1,3,   21.42,2,     -999.0,1,     -999.0,1,     -999.0,1,     -999.0,1,     2.9228,     -999.0,1
  74DI20100106,        A05,      98,          1,          9,          9,2,20100204,       1542,   24.36337,  -35.92732,       5766,  2283.3,   3.4277,  34.9981,  34.9977,2,   236.1,2,   28.06,2,    1.41,2,  -999.0,9,  -999.0,9,   21.23,2,     -999.0,1,     -999.0,1,     -999.0,1,     -999.0,1,     3.2413,     -999.0,1
  74DI20100106,        A05,      98,          1,         10,         10,2,20100204,       1542,   24.36337,  -35.92732,       5766,  2023.1,   3.8887,  35.0445,  35.0440,2,   231.6,2,   24.02,2,    1.38,2,  2176.7,2,  2328.2,2,   20.97,2,     -999.0,1,     -999.0,1,     -999.0,1,     -999.0,1,     3.7203,     -999.0,1
  74DI20100106,        A05,      98,          1,         11,         11,2,20100204,       1542,   24.36337,  -35.92732,       5766,  1770.2,   4.3704,  35.0754,  35.0751,2,   224.4,2,   21.39,2,    1.39,2,  -999.0,9,  -999.0,9,   21.05,2,     -999.0,1,     -999.0,1,     -999.0,1,     -999.0,1,     4.2199,     -999.0,1
  74DI20100106,        A05,      98,          1,         12,         12,2,20100204,       1542,   24.36337,  -35.92732,       5766,  1521.0,   4.9266,  35.0899,  35.0898,2,   214.6,2,   18.99,2,    1.42,2,  2177.4,2,  2323.1,2,   22.15,2,     -999.0,1,     -999.0,1,     -999.0,1,     -999.0,1,     4.7936,     -999.0,1
  74DI20100106,        A05,      98,          1,         13,         13,2,20100204,       1542,   24.36337,  -35.92732,       5766,  1266.8,   5.6346,  35.1047,  35.1052,2,   194.4,2,   18.64,2,    1.51,2,  -999.0,9,  -999.0,9,   23.51,2,     -999.0,1,     -999.0,1,     -999.0,1,     -999.0,1,     5.5194,     -999.0,1
  74DI20100106,        A05,      98,          1,         14,         14,2,20100204,       1542,   24.36337,  -35.92732,       5766,  1011.4,   6.7591,  35.0872,  35.0872,2,   158.8,2,   19.29,2,    1.71,2,  2196.5,2,  2318.9,2,   26.60,2,     -999.0,1,     -999.0,1,     -999.0,1,     -999.0,1,     6.6605,     -999.0,1
  74DI20100106,        A05,      98,          1,         15,         26,2,20100204,       1542,   24.36337,  -35.92732,       5766,   886.2,   7.7264,  35.1578,  35.1571,2,   145.8,2,   18.01,2,    1.71,2,  -999.0,9,  -999.0,9,   27.07,2,     -999.0,1,     -999.0,1,     -999.0,1,     -999.0,1,     7.6343,     -999.0,1
  74DI20100106,        A05,      98,          1,         16,         16,2,20100204,       1542,   24.36337,  -35.92732,       5766,   760.6,   9.2674,  35.3123,  35.3110,2,   144.1,2,   14.29,2,    1.54,2,  2192.7,2,  2326.3,2,   24.83,2,     -999.0,1,     -999.0,1,     -999.0,1,     -999.0,1,     9.1803,     -999.0,1
  74DI20100106,        A05,      98,          1,         17,         17,2,20100204,       1542,   24.36337,  -35.92732,       5766,   504.8,  13.3616,  35.8026,  35.8006,2,   169.1,2,    5.41,2,    0.85,2,  -999.0,9,  -999.0,9,   14.66,2,     -999.0,9,     -999.0,9,     -999.0,9,     -999.0,9,    13.2895,     -999.0,9
  74DI20100106,        A05,      98,          1,         18,         18,2,20100204,       1542,   24.36337,  -35.92732,       5766,   378.1,  15.3774,  36.1145,  36.1155,2,   179.3,2,    3.29,2,    0.56,2,  2142.2,2,  2363.6,2,   10.05,2,     -999.0,1,     -999.0,1,     -999.0,1,     -999.0,1,    15.3183,     -999.0,1
  74DI20100106,        A05,      98,          1,         19,         19,2,20100204,       1542,   24.36337,  -35.92732,       5766,   253.2,  17.8605,  36.5684,  36.5682,2,   178.1,2,    1.92,2,    0.34,2,  -999.0,9,  -999.0,9,    6.19,2,     -999.0,9,     -999.0,9,     -999.0,9,     -999.0,9,    17.8168,     -999.0,9
  74DI20100106,        A05,      98,          1,         20,         20,2,20100204,       1542,   24.36337,  -35.92732,       5766,   131.7,  22.6412,  37.4718,  37.4714,2,   206.5,2,    0.71,2,    0.01,2,  2110.2,2,  2442.2,2,    0.22,2,     -999.0,1,     -999.0,1,     -999.0,1,     -999.0,1,    22.6143,     -999.0,1
  74DI20100106,        A05,      98,          1,         21,         21,2,20100204,       1542,   24.36337,  -35.92732,       5766,   132.4,  22.5790,  37.4567,  37.4563,2,   206.4,2,    0.73,2,    0.01,2,  -999.0,9,  -999.0,9,    0.00,2,     -999.0,9,     -999.0,9,     -999.0,9,     -999.0,9,    22.5520,     -999.0,9
  74DI20100106,        A05,      98,          1,         22,         22,2,20100204,       1542,   24.36337,  -35.92732,       5766,    51.0,  23.3078,  37.5583,  37.5575,2,   206.7,2,    0.71,2,    0.01,2,  2106.8,2,  2447.6,2,    0.00,2,     -999.0,1,     -999.0,1,     -999.0,1,     -999.0,1,    23.2972,     -999.0,1
  74DI20100106,        A05,      98,          1,         23,         23,3,20100204,       1542,   24.36337,  -35.92732,       5766,     5.3,  23.4602,  37.5646,-999.0000,9,  -999.0,9, -999.00,9, -999.00,9,  -999.0,9,  -999.0,9, -999.00,9,     -999.0,9,     -999.0,9,     -999.0,9,     -999.0,9,    23.4591,     -999.0,9
  74DI20100106,        A05,      98,          1,         24,         24,2,20100204,       1542,   24.36337,  -35.92732,       5766,     6.0,  23.4624,  37.5645,  37.5640,2,   209.7,3,    0.70,2,    0.01,2,  2107.9,2,  2449.0,2,    0.00,2,     -999.0,1,     -999.0,1,     -999.0,1,     -999.0,1,    23.4612,     -999.0,1