BOTTLE,20200115CCHSIOCBG
EXPOCODE,SECT_ID,STNNBR,CASTNO,SAMPNO,BTLNBR,BTLNBR_FLAG_W,DATE,TIME,LATITUDE,LONGITUDE,DEPTH,CTDPRS,CTDTMP,CTDSAL,SALNTY,SALNTY_FLAG_W,OXYGEN,OXYGEN_FLAG_W,SILCAT,SILCAT_FLAG_W,PHSPHT,PHSPHT_FLAG_W,TCARBN,TCARBN_FLAG_W,ALKALI,ALKALI_FLAG_W,NO2+NO3,NO2+NO3_FLAG_W,CFC-11,CFC-11_FLAG_W,CFC-12,CFC-12_FLAG_W,CFC113,CFC113_FLAG_W,CCL4,CCL4_FLAG_W,THETA,SF6,SF6_FLAG_W
,,,,,,,,,,,METERS,DBAR,ITS-90,PSS-78,PSS-78,,UMOL/KG,,UMOL/KG,,UMOL/KG,,UMOL/KG,,UMOL/KG,,UMOL/KG,,PMOL/L,,PMOL/L,,PMOL/L,,PMOL/L,,ITS-90,FMOL/L,
  74DI20100106,        A05,      37,          1,          1,          1,2,20100114,       0832,   26.51020,  -73.20547,       5043,  5123.6,   2.1188,  34.8621,  34.8610,2,   443.1,4,   51.50,2,    1.49,2,  2194.8,2,  2340.2,2,   22.05,2,     -999.0,1,     -999.0,1,     -999.0,1,     -999.0,1,     1.6468,     -999.0,9
  74DI20100106,        A05,      37,          1,          2,          2,2,20100114,       0832,   26.51020,  -73.20547,       5043,  4845.1,   2.2224,  34.8786,  34.8772,2,  -999.0,4,   40.78,2,    1.40,2,  -999.0,9,  -999.0,9,   20.65,2,     -999.0,1,     -999.0,1,     -999.0,1,     -999.0,1,     1.7817,     -999.0,9
  74DI20100106,        A05,      37,          1,          3,          3,2,20100114,       0832,   26.51020,  -73.20547,       5043,  4331.3,   2.2725,  34.8899,  34.8891,2,   262.9,2,   32.69,2,    1.28,2,  -999.0,9,  -999.0,9,   19.31,2,     -999.0,9,     -999.0,9,     -999.0,9,     -999.0,9,     1.8923,     -999.0,9
  74DI20100106,        A05,      37,          1,          4,          4,2,20100114,       0832,   26.51020,  -73.20547,       5043,  3818.5,   2.3213,  34.8973,  34.8960,2,   265.5,2,   28.36,2,    1.24,2,  -999.0,9,  -999.0,9,   18.50,2,     -999.0,9,     -999.0,9,     -999.0,9,     -999.0,9,     1.9985,     -999.0,9
  74DI20100106,        A05,      37,          1,          5,          5,2,20100114,       0832,   26.51020,  -73.20547,       5043,  3306.6,   2.5574,  34.9144,  34.9136,2,   265.6,2,   23.93,2,    1.20,2,  -999.0,9,  -999.0,9,   18.21,2,     -999.0,9,     -999.0,9,     -999.0,9,     -999.0,9,     2.2844,     -999.0,9
  74DI20100106,        A05,      37,          1,          6,          6,2,20100114,       0832,   26.51020,  -73.20547,       5043,  2787.5,   2.9378,  34.9380,  34.9369,2,   261.8,2,   21.48,2,    1.21,2,  -999.0,9,  -999.0,9,   18.39,2,     -999.0,9,     -999.0,9,     -999.0,9,     -999.0,9,     2.7103,     -999.0,9
  74DI20100106,        A05,      37,          1,          7,          7,2,20100114,       0832,   26.51020,  -73.20547,       5043,  2534.7,   3.1549,  34.9510,  34.9508,2,   260.1,2,   20.09,2,    1.21,2,  -999.0,9,  -999.0,9,   18.56,2,     -999.0,9,     -999.0,9,     -999.0,9,     -999.0,9,     2.9487,     -999.0,9
  74DI20100106,        A05,      37,          1,          8,          8,2,20100114,       0832,   26.51020,  -73.20547,       5043,  2279.8,   3.3846,  34.9632,  34.9630,2,   259.4,2,   18.35,2,    1.21,2,  -999.0,9,  -999.0,9,   18.52,2,     -999.0,9,     -999.0,9,     -999.0,9,     -999.0,9,     3.1994,     -999.0,9
  74DI20100106,        A05,      37,          1,          9,          9,2,20100114,       0832,   26.51020,  -73.20547,       5043,  2024.8,   3.6063,  34.9662,  34.9660,2,   260.3,2,   15.79,2,    1.19,2,  -999.0,9,  -999.0,9,   18.33,2,     -999.0,9,     -999.0,9,     -999.0,9,     -999.0,9,     3.4423,     -999.0,9
  74DI20100106,        A05,      37,          1,         10,         10,2,20100114,       0832,   26.51020,  -73.20547,       5043,  1770.5,   3.8629,  34.9766,  34.9764,2,   258.4,2,   14.28,2,    1.19,2,  -999.0,9,  -999.0,9,   18.36,2,     -999.0,1,     -999.0,1,     -999.0,1,     -999.0,1,     3.7193,     -999.0,1
  74DI20100106,        A05,      37,          1,         11,         11,10,20100114,       0832,   26.51020,  -73.20547,       5043,  1516.0,   4.2500,  34.9973,  34.9975,2,   251.3,2,   13.42,2,    1.24,2,  -999.0,9,  -999.0,9,   19.06,2,     -999.0,1,     -999.0,1,     -999.0,1,     -999.0,1,     4.1254,     -999.0,1
  74DI20100106,        A05,      37,          1,         12,         12,2,20100114,       0832,   26.51020,  -73.20547,       5043,  1268.7,   5.0578,  35.0594,  35.0611,2,   232.9,2,   15.43,2,    1.46,2,  -999.0,9,  -999.0,9,   22.83,2,     -999.0,1,     -999.0,1,     -999.0,1,     -999.0,1,     4.9479,     -999.0,1
  74DI20100106,        A05,      37,          1,         13,         13,2,20100114,       0832,   26.51020,  -73.20547,       5043,  1016.8,   6.5261,  35.0879,  35.0891,2,   187.6,2,   16.50,2,    1.64,2,  -999.0,9,  -999.0,9,   25.63,2,     -999.0,1,     -999.0,1,     -999.0,1,     -999.0,1,     6.4287,     -999.0,9
  74DI20100106,        A05,      37,          1,         14,         14,10,20100114,       0832,   26.51020,  -73.20547,       5043,   890.8,   8.2503,  35.1311,  35.1329,2,   147.2,2,   16.58,2,    1.65,2,  -999.0,9,  -999.0,9,   25.94,2,     -999.0,9,     -999.0,9,     -999.0,9,     -999.0,9,     8.1544,     -999.0,9
  74DI20100106,        A05,      37,          1,         16,         16,2,20100114,       0832,   26.51020,  -73.20547,       5043,   766.1,  10.4612,  35.3519,  35.3522,2,   139.2,2,    6.31,2,    0.94,2,  -999.0,9,  -999.0,9,   15.99,2,     -999.0,9,     -999.0,9,     -999.0,9,     -999.0,9,    10.3668,     -999.0,9
  74DI20100106,        A05,      37,          1,         17,         17,2,20100114,       0832,   26.51020,  -73.20547,       5043,   631.1,  13.7284,  35.8080,  35.8068,2,   153.4,2,    3.00,2,    0.49,2,  -999.0,9,  -999.0,9,    9.07,2,     -999.0,9,     -999.0,9,     -999.0,9,     -999.0,9,    13.6364,     -999.0,9
  74DI20100106,        A05,      37,          1,         18,         18,2,20100114,       0832,   26.51020,  -73.20547,       5043,   505.1,  16.5206,  36.2707,  36.2712,2,   177.0,2,    1.77,2,    0.24,2,  -999.0,9,  -999.0,9,    5.26,2,     -999.0,9,     -999.0,9,     -999.0,9,     -999.0,9,    16.4375,     -999.0,9
  74DI20100106,        A05,      37,          1,         19,         19,2,20100114,       0832,   26.51020,  -73.20547,       5043,   379.5,  17.9293,  36.5236,  36.5223,2,   191.7,2,    1.21,2,    0.08,2,  -999.0,9,  -999.0,9,    2.63,2,     -999.0,9,     -999.0,9,     -999.0,9,     -999.0,9,    17.8634,     -999.0,9
  74DI20100106,        A05,      37,          1,         20,         20,10,20100114,       0832,   26.51020,  -73.20547,       5043,   264.1,  19.2002,  36.6453,  36.6465,2,   190.3,2,    0.92,2,    0.01,2,  -999.0,9,  -999.0,9,    0.80,2,     -999.0,9,     -999.0,9,     -999.0,9,     -999.0,9,    19.1522,     -999.0,9
  74DI20100106,        A05,      37,          1,         21,         21,2,20100114,       0832,   26.51020,  -73.20547,       5043,   178.4,  21.3095,  36.8024,  36.8037,2,   192.7,2,    0.99,2,    0.00,2,  -999.0,9,  -999.0,9,    0.00,2,     -999.0,9,     -999.0,9,     -999.0,9,     -999.0,9,    21.2747,     -999.0,9
  74DI20100106,        A05,      37,          1,         22,         22,3,20100114,       0832,   26.51020,  -73.20547,       5043,   143.5,  23.1416,  36.8532,-999.0000,9,  -999.0,9, -999.00,9, -999.00,9,  -999.0,9,  -999.0,9, -999.00,9,     -999.0,9,     -999.0,9,     -999.0,9,     -999.0,9,    23.1119,     -999.0,9
  74DI20100106,        A05,      37,          1,         23,         23,2,20100114,       0832,   26.51020,  -73.20547,       5043,    52.5,  24.5049,  36.7447,  36.7445,2,   205.0,3,    0.99,2,    0.00,2,  -999.0,9,  -999.0,9,    0.00,2,     -999.0,9,     -999.0,9,     -999.0,9,     -999.0,9,    24.4936,     -999.0,9
  74DI20100106,        A05,      37,          1,         24,         24,2,20100114,       0832,   26.51020,  -73.20547,       5043,     6.3,  24.4995,  36.7456,  36.7461,2,   203.7,2,    1.01,2,    0.00,2,  -999.0,9,  -999.0,9,    0.00,2,     -999.0,9,     -999.0,9,     -999.0,9,     -999.0,9,    24.4982,     -999.0,9
  74DI20100106,        A05,      38,          1,          1,          1,2,20100114,       1501,   26.50588,  -72.84151,       5132,  5219.1,   2.1229,  34.8609,  34.8606,2,   248.5,2, -999.00,9, -999.00,9,  2197.3,2,  -999.0,9, -999.00,9,     -999.0,1,     -999.0,1,     -999.0,1,     -999.0,1,     1.6387,     -999.0,1
  74DI20100106,        A05,      38,          1,          2,          2,2,20100114,       1501,   26.50588,  -72.84151,       5132,  5099.0,   2.1552,  34.8668,  34.8667,2,   251.3,2, -999.00,9, -999.00,9,  2192.1,2,  -999.0,9, -999.00,9,     -999.0,1,     -999.0,1,     -999.0,1,     -999.0,1,     1.6851,     -999.0,1
  74DI20100106,        A05,      38,          1,          3,          3,2,20100114,       1501,   26.50588,  -72.84151,       5132,  4579.0,   2.2506,  34.8852,  34.8854,2,   259.4,2, -999.00,9, -999.00,9,  2180.8,2,  -999.0,9, -999.00,9,     -999.0,1,     -999.0,1,     -999.0,1,     -999.0,1,     1.8415,     -999.0,1
  74DI20100106,        A05,      38,          1,          4,          4,2,20100114,       1501,   26.50588,  -72.84151,       5132,  4072.3,   2.2929,  34.8943,  34.8939,2,   262.8,2, -999.00,9, -999.00,9,  2173.0,2,  -999.0,9, -999.00,9,     -999.0,1,     -999.0,1,     -999.0,1,     -999.0,1,     1.9422,     -999.0,1
  74DI20100106,        A05,      38,          1,          5,          5,2,20100114,       1501,   26.50588,  -72.84151,       5132,  3555.9,   2.4289,  34.9060,  34.9059,2,   265.0,2, -999.00,9, -999.00,9,  2167.8,2,  -999.0,9, -999.00,9,     -999.0,1,     -999.0,1,     -999.0,1,     -999.0,1,     2.1322,     -999.0,1
  74DI20100106,        A05,      38,          1,          6,          6,2,20100114,       1501,   26.50588,  -72.84151,       5132,  3043.9,   2.7231,  34.9244,  34.9247,2,   264.6,2, -999.00,9, -999.00,9,  2165.1,2,  -999.0,9, -999.00,9,     -999.0,1,     -999.0,1,     -999.0,1,     -999.0,1,     2.4739,     -999.0,1
  74DI20100106,        A05,      38,          1,          7,          7,2,20100114,       1501,   26.50588,  -72.84151,       5132,  2539.6,   3.1430,  34.9495,  34.9494,2,   260.1,2, -999.00,9, -999.00,9,  2160.6,2,  -999.0,9, -999.00,9,     -999.0,1,     -999.0,1,     -999.0,1,     -999.0,1,     2.9365,     -999.0,1
  74DI20100106,        A05,      38,          1,          8,          8,2,20100114,       1501,   26.50588,  -72.84151,       5132,  2278.1,   3.3708,  34.9626,  34.9632,2,   258.9,2, -999.00,9, -999.00,9,  -999.0,9,  -999.0,9, -999.00,9,     -999.0,1,     -999.0,1,     -999.0,1,     -999.0,1,     3.1860,     -999.0,1
  74DI20100106,        A05,      38,          1,          9,          9,2,20100114,       1501,   26.50588,  -72.84151,       5132,  2012.1,   3.6350,  34.9724,  34.9730,2,   258.3,2, -999.00,9, -999.00,9,  2161.8,2,  -999.0,9, -999.00,9,     -999.0,1,     -999.0,1,     -999.0,1,     -999.0,1,     3.4717,     -999.0,1
  74DI20100106,        A05,      38,          1,         10,         10,2,20100114,       1501,   26.50588,  -72.84151,       5132,  1770.3,   3.9640,  34.9934,  34.9936,2,   255.1,2, -999.00,9, -999.00,9,  -999.0,9,  -999.0,9, -999.00,9,     -999.0,1,     -999.0,1,     -999.0,1,     -999.0,1,     3.8191,     -999.0,1
  74DI20100106,        A05,      38,          1,         11,         11,10,20100114,       1501,   26.50588,  -72.84151,       5132,  1517.9,   4.4586,  35.0301,  35.0311,2,   246.2,2, -999.00,9, -999.00,9,  2164.6,2,  -999.0,9, -999.00,9,     -999.0,1,     -999.0,1,     -999.0,1,     -999.0,1,     4.3314,     -999.0,1
  74DI20100106,        A05,      38,          1,         12,         12,2,20100114,       1501,   26.50588,  -72.84151,       5132,  1268.5,   5.2940,  35.0814,  35.0824,2,   227.2,2, -999.00,9, -999.00,9,  -999.0,9,  -999.0,9, -999.00,9,     -999.0,9,     -999.0,9,     -999.0,9,     -999.0,9,     5.1819,     -999.0,9
  74DI20100106,        A05,      38,          1,         13,         13,2,20100114,       1501,   26.50588,  -72.84151,       5132,  1013.2,   7.0843,  35.1015,  35.1022,2,   176.4,2, -999.00,9, -999.00,9,  2182.6,2,  -999.0,9, -999.00,9,     -999.0,1,     -999.0,1,     -999.0,1,     -999.0,1,     6.9831,     -999.0,1
  74DI20100106,        A05,      38,          1,         14,         14,2,20100114,       1501,   26.50588,  -72.84151,       5132,   886.4,   9.3368,  35.2345,  35.2352,2,   141.5,2, -999.00,9, -999.00,9,  -999.0,9,  -999.0,9, -999.00,9,     -999.0,1,     -999.0,1,     -999.0,1,     -999.0,1,     9.2342,     -999.0,1
  74DI20100106,        A05,      38,          1,         15,         15,10,20100114,       1501,   26.50588,  -72.84151,       5132,   758.3,  11.1739,  35.4367,-999.0000,9,  -999.0,9, -999.00,9, -999.00,9,  -999.0,9,  -999.0,9, -999.00,9,     -999.0,9,     -999.0,9,     -999.0,9,     -999.0,9,    11.0766,     -999.0,9
  74DI20100106,        A05,      38,          1,         16,         16,2,20100114,       1501,   26.50588,  -72.84151,       5132,   758.2,  11.1690,  35.4355,  35.4386,2,   139.7,2, -999.00,9, -999.00,9,  2177.7,2,  -999.0,9, -999.00,9,     -999.0,1,     -999.0,1,     -999.0,1,     -999.0,1,    11.0718,     -999.0,1
  74DI20100106,        A05,      38,          1,         17,         17,10,20100114,       1501,   26.50588,  -72.84151,       5132,   631.6,  14.0035,  35.8533,  35.8544,2,   155.2,2, -999.00,9, -999.00,9,  2155.3,2,  -999.0,9, -999.00,9,     -999.0,1,     -999.0,1,     -999.0,1,     -999.0,1,    13.9101,     -999.0,1
  74DI20100106,        A05,      38,          1,         18,         18,2,20100114,       1501,   26.50588,  -72.84151,       5132,   505.3,  16.6637,  36.2978,  36.2993,2,   181.8,2, -999.00,9, -999.00,9,  -999.0,9,  -999.0,9, -999.00,9,     -999.0,9,     -999.0,9,     -999.0,9,     -999.0,9,    16.5800,     -999.0,9
  74DI20100106,        A05,      38,          1,         19,         19,10,20100114,       1501,   26.50588,  -72.84151,       5132,   380.6,  17.9280,  36.5209,  36.5216,2,   189.3,2, -999.00,9, -999.00,9,  2116.4,2,  -999.0,9, -999.00,9,     -999.0,1,     -999.0,1,     -999.0,1,     -999.0,1,    17.8619,     -999.0,1
  74DI20100106,        A05,      38,          1,         20,         20,2,20100114,       1501,   26.50588,  -72.84151,       5132,   255.0,  19.2874,  36.6488,  36.6497,2,   192.7,2, -999.00,9, -999.00,9,  -999.0,9,  -999.0,9, -999.00,9,     -999.0,9,     -999.0,9,     -999.0,9,     -999.0,9,    19.2409,     -999.0,9
  74DI20100106,        A05,      38,          1,         21,         21,2,20100114,       1501,   26.50588,  -72.84151,       5132,   177.0,  20.7953,  36.7768,  36.7777,2,   190.7,2, -999.00,9, -999.00,9,  2102.7,2,  -999.0,9, -999.00,9,     -999.0,1,     -999.0,1,     -999.0,1,     -999.0,1,    20.7614,     -999.0,1
  74DI20100106,        A05,      38,          1,         22,         22,2,20100114,       1501,   26.50588,  -72.84151,       5132,   100.7,  23.8502,  36.7449,  36.7443,2,   206.3,2, -999.00,9, -999.00,9,  -999.0,9,  -999.0,9, -999.00,9,     -999.0,9,     -999.0,9,     -999.0,9,     -999.0,9,    23.8289,     -999.0,9
  74DI20100106,        A05,      38,          1,         23,         23,10,20100114,       1501,   26.50588,  -72.84151,       5132,    50.1,  23.9484,  36.7471,  36.7468,2,   204.7,2, -999.00,9, -999.00,9,  2048.7,2,  -999.0,9, -999.00,9,     -999.0,1,     -999.0,1,     -999.0,9,     -999.0,9,    23.9378,     -999.0,1
  74DI20100106,        A05,      38,          1,         24,         24,10,20100114,       1501,   26.50588,  -72.84151,       5132,     4.4,  23.9473,  36.7477,  36.7470,2,   205.0,2, -999.00,9, -999.00,9,  2048.6,2,  -999.0,9, -999.00,9,     -999.0,1,     -999.0,1,     -999.0,1,     -999.0,1,    23.9464,     -999.0,1