BOTTLE,20200115CCHSIOCBG
EXPOCODE,SECT_ID,STNNBR,CASTNO,SAMPNO,BTLNBR,BTLNBR_FLAG_W,DATE,TIME,LATITUDE,LONGITUDE,DEPTH,CTDPRS,CTDTMP,CTDSAL,SALNTY,SALNTY_FLAG_W,OXYGEN,OXYGEN_FLAG_W,SILCAT,SILCAT_FLAG_W,PHSPHT,PHSPHT_FLAG_W,TCARBN,TCARBN_FLAG_W,ALKALI,ALKALI_FLAG_W,NO2+NO3,NO2+NO3_FLAG_W,CFC-11,CFC-11_FLAG_W,CFC-12,CFC-12_FLAG_W,CFC113,CFC113_FLAG_W,CCL4,CCL4_FLAG_W,THETA,SF6,SF6_FLAG_W
,,,,,,,,,,,METERS,DBAR,ITS-90,PSS-78,PSS-78,,UMOL/KG,,UMOL/KG,,UMOL/KG,,UMOL/KG,,UMOL/KG,,UMOL/KG,,PMOL/L,,PMOL/L,,PMOL/L,,PMOL/L,,ITS-90,FMOL/L,
  74DI20100106,        A05,      75,          1,          1,          1,2,20100128,       0515,   24.79837,  -50.63198,       5183,  5265.6,   2.1055,  34.8566,  34.8557,2,   244.8,2,   55.77,2,    1.54,2,  2201.4,2,  2343.2,2,   22.81,2,     -999.0,1,     -999.0,1,     -999.0,1,     -999.0,1,     1.6159,     -999.0,1
  74DI20100106,        A05,      75,          1,          2,          2,2,20100128,       0515,   24.79837,  -50.63198,       5183,  4844.9,   2.1400,  34.8662,  34.8682,2,   246.5,2,   51.24,2,    1.54,2,  2194.7,2,  2340.8,2,   22.71,2,     -999.0,1,     -999.0,1,     -999.0,1,     -999.0,1,     1.7022,     -999.0,1
  74DI20100106,        A05,      75,          1,          3,          3,2,20100128,       0515,   24.79837,  -50.63198,       5183,  4333.3,   2.2077,  34.8788,  34.8781,2,   247.8,2,   47.40,2,    1.47,2,  2190.2,2,  2337.9,2,   22.06,2,     -999.0,1,     -999.0,1,     -999.0,1,     -999.0,1,     1.8292,     -999.0,1
  74DI20100106,        A05,      75,          1,          4,          4,2,20100128,       0515,   24.79837,  -50.63198,       5183,  3819.8,   2.3618,  34.8971,  34.8971,2,   247.3,2,   42.58,2,    1.44,2,  2188.6,2,  2336.3,2,   21.44,2,     -999.0,1,     -999.0,1,     -999.0,1,     -999.0,1,     2.0378,     -999.0,1
  74DI20100106,        A05,      75,          1,          5,          5,2,20100128,       0515,   24.79837,  -50.63198,       5183,  3309.9,   2.6144,  34.9209,  34.9203,2,   244.8,2,   38.27,2,    1.42,2,  2187.1,2,  2334.2,2,   21.37,2,     -999.0,1,     -999.0,1,     -999.0,1,     -999.0,1,     2.3396,     -999.0,1
  74DI20100106,        A05,      75,          1,          6,          6,2,20100128,       0515,   24.79837,  -50.63198,       5183,  2798.8,   2.9165,  34.9490,  34.9475,2,   244.1,2,   33.16,2,    1.39,2,  2182.4,2,  2330.2,2,   20.80,2,     -999.0,1,     -999.0,1,     -999.0,1,     -999.0,1,     2.6883,     -999.0,1
  74DI20100106,        A05,      75,          1,          7,          7,2,20100128,       0515,   24.79837,  -50.63198,       5183,  2543.7,   3.0951,  34.9647,  34.9635,2,   243.6,2,   30.31,2,    1.36,2,  2178.2,2,  2329.3,2,   20.46,2,     -999.0,1,     -999.0,1,     -999.0,1,     -999.0,1,     2.8890,     -999.0,1
  74DI20100106,        A05,      75,          1,          8,          8,2,20100128,       0515,   24.79837,  -50.63198,       5183,  2289.2,   3.3527,  34.9872,  34.9868,2,   241.8,2,   26.69,2,    1.34,2,  -999.0,9,  -999.0,9,   20.25,2,     -999.0,1,     -999.0,1,     -999.0,1,     -999.0,1,     3.1671,     -999.0,1
  74DI20100106,        A05,      75,          1,          9,          9,2,20100128,       0515,   24.79837,  -50.63198,       5183,  2034.2,   3.8015,  35.0258,  35.0258,2,   239.5,2,   22.44,2,    1.31,2,  2175.8,2,  2323.1,2,   20.07,2,     -999.0,1,     -999.0,1,     -999.0,1,     -999.0,1,     3.6334,     -999.0,1
  74DI20100106,        A05,      75,          1,         10,         10,2,20100128,       0515,   24.79837,  -50.63198,       5183,  1781.1,   4.3712,  35.0626,  35.0629,2,   235.6,2,   18.08,2,    1.30,2,  -999.0,9,  -999.0,9,   19.80,2,     -999.0,1,     -999.0,1,     -999.0,1,     -999.0,1,     4.2197,     -999.0,1
  74DI20100106,        A05,      75,          1,         11,         11,2,20100128,       0515,   24.79837,  -50.63198,       5183,  1527.2,   4.9660,  35.0824,  35.0820,2,   224.4,2,   15.80,2,    1.33,2,  2171.8,2,  2319.0,2,   20.51,2,     -999.0,1,     -999.0,1,     -999.0,1,     -999.0,1,     4.8321,     -999.0,1
  74DI20100106,        A05,      75,          1,         12,         12,2,20100128,       0515,   24.79837,  -50.63198,       5183,  1276.2,   5.6074,  35.0396,  35.0419,2,   195.6,2,   17.56,2,    1.51,2,  -999.0,9,  -999.0,9,   23.22,2,     -999.0,1,     -999.0,1,     -999.0,1,     -999.0,1,     5.4916,     -999.0,1
  74DI20100106,        A05,      75,          1,         13,         13,2,20100128,       0515,   24.79837,  -50.63198,       5183,  1006.9,   7.0228,  35.0387,  35.0377,2,   147.0,2,   19.97,2,    1.80,2,  2200.3,2,  2318.8,2,   27.53,2,     -999.0,1,     -999.0,1,     -999.0,1,     -999.0,1,     6.9228,     -999.0,1
  74DI20100106,        A05,      75,          1,         14,         14,2,20100128,       0515,   24.79837,  -50.63198,       5183,   880.4,   8.2862,  35.1529,  35.1522,2,   136.4,2,   17.47,2,    1.71,2,  -999.0,9,  -999.0,9,   27.20,2,     -999.0,1,     -999.0,1,     -999.0,1,     -999.0,9,     8.1912,     -999.0,1
  74DI20100106,        A05,      75,          1,         15,         15,2,20100128,       0515,   24.79837,  -50.63198,       5183,   756.3,  10.0848,  35.3809,  35.3813,2,   142.3,2,   12.22,2,    1.42,2,  2190.4,2,  2328.1,2,   23.25,2,     -999.0,1,     -999.0,1,     -999.0,1,     -999.0,1,     9.9937,     -999.0,1
  74DI20100106,        A05,      75,          1,         16,         16,2,20100128,       0515,   24.79837,  -50.63198,       5183,   757.4,  10.0902,  35.3817,  35.3824,2,   142.8,2,   12.41,2,    1.42,2,  -999.0,9,  -999.0,9,   23.01,2,     -999.0,9,     -999.0,9,     -999.0,9,     -999.0,9,     9.9989,     -999.0,9
  74DI20100106,        A05,      75,          1,         17,         17,2,20100128,       0515,   24.79837,  -50.63198,       5183,   631.2,  12.0390,  35.6182,  35.6176,2,   143.4,2,    8.20,2,    1.19,2,  2175.8,2,  2336.9,2,   19.62,2,     -999.0,1,     -999.0,1,     -999.0,1,     -999.0,1,    11.9545,     -999.0,1
  74DI20100106,        A05,      75,          1,         18,         18,2,20100128,       0515,   24.79837,  -50.63198,       5183,   502.6,  14.2199,  35.9214,  35.9234,2,   163.4,2,    4.60,2,    0.78,2,  -999.0,9,  -999.0,9,   13.34,2,     -999.0,1,     -999.0,1,     -999.0,1,     -999.0,1,    14.1452,     -999.0,1
  74DI20100106,        A05,      75,          1,         19,         19,2,20100128,       0515,   24.79837,  -50.63198,       5183,   378.5,  16.4675,  36.2761,  36.2762,2,   184.2,2,    2.58,2,    0.43,2,  2127.9,2,  2373.2,2,    7.79,2,     -999.0,1,     -999.0,1,     -999.0,1,     -999.0,1,    16.4055,     -999.0,1
  74DI20100106,        A05,      75,          1,         20,         20,2,20100128,       0515,   24.79837,  -50.63198,       5183,   251.3,  18.2385,  36.5675,  36.5681,2,   190.6,2,    1.38,2,    0.19,2,  -999.0,9,  -999.0,9,    3.79,2,     -999.0,9,     -999.0,9,     -999.0,9,     -999.0,9,    18.1944,     -999.0,9
  74DI20100106,        A05,      75,          1,         21,         21,2,20100128,       0515,   24.79837,  -50.63198,       5183,   175.7,  20.4621,  36.8251,  36.8226,2,   192.0,2,    0.78,2,    0.06,2,  2110.1,2,  2403.4,2,    0.31,2,     -999.0,1,     -999.0,1,     -999.0,1,     -999.0,1,    20.4287,     -999.0,1
  74DI20100106,        A05,      75,          1,         22,         22,2,20100128,       0515,   24.79837,  -50.63198,       5183,   139.2,  23.0658,  37.1290,  37.1391,2,   206.4,2,    0.72,2,    0.01,2,  -999.0,9,  -999.0,9,    0.00,2,     -999.0,9,     -999.0,9,     -999.0,9,     -999.0,9,    23.0370,     -999.0,9
  74DI20100106,        A05,      75,          1,         23,         23,10,20100128,       0515,   24.79837,  -50.63198,       5183,    48.5,  24.2425,  37.3714,  37.3726,2,   209.4,3,    0.71,2,    0.02,2,  2081.4,2,  2435.9,2,    0.00,2,     -999.0,1,     -999.0,1,     -999.0,1,     -999.0,1,    24.2322,     -999.0,1
  74DI20100106,        A05,      75,          1,         24,         24,10,20100128,       0515,   24.79837,  -50.63198,       5183,     4.4,  24.2712,  37.3730,  37.3721,2,   204.8,2,    0.71,2,    0.00,2,  2080.2,2,  2435.3,2,    0.00,2,     -999.0,1,     -999.0,1,     -999.0,1,     -999.0,1,    24.2703,     -999.0,1
  74DI20100106,        A05,      76,          1,          1,          1,2,20100128,       1232,   24.66872,  -50.08992,       5593,  5688.8,   2.1588,  34.8564,  34.8557,2,   243.9,2,   55.93,2,    1.53,2,  2198.5,2,  2341.5,2,   22.99,2,     -999.0,1,     -999.0,1,     -999.0,1,     -999.0,1,     1.6120,     -999.0,1
  74DI20100106,        A05,      76,          1,          2,          2,3,20100128,       1232,   24.66872,  -50.08992,       5593,  5100.4,   2.1754,  34.8669,-999.0000,9,  -999.0,9, -999.00,9, -999.00,9,  -999.0,9,  -999.0,9, -999.00,9,     -999.0,9,     -999.0,9,     -999.0,9,     -999.0,9,     1.7044,     -999.0,9
  74DI20100106,        A05,      76,          1,          3,          3,2,20100128,       1232,   24.66872,  -50.08992,       5593,  4583.4,   2.1894,  34.8747,  34.8737,2,   248.6,2,   48.69,2,    1.45,2,  -999.0,9,  -999.0,9,   22.08,2,     -999.0,1,     -999.0,1,     -999.0,1,     -999.0,1,     1.7818,     -999.0,1
  74DI20100106,        A05,      76,          1,          4,          4,2,20100128,       1232,   24.66872,  -50.08992,       5593,  4065.7,   2.2874,  34.8886,  34.8847,2,   248.9,2,   45.09,2,    1.42,2,  -999.0,9,  -999.0,9,   21.63,2,     -999.0,1,     -999.0,1,     -999.0,1,     -999.0,1,     1.9377,     -999.0,1
  74DI20100106,        A05,      76,          1,          5,          5,2,20100128,       1232,   24.66872,  -50.08992,       5593,  3550.5,   2.5094,  34.9104,  34.9088,2,   247.6,2,   40.70,2,    1.41,2,  -999.0,9,  -999.0,9,   21.45,2,     -999.0,1,     -999.0,1,     -999.0,1,     -999.0,1,     2.2112,     -999.0,1
  74DI20100106,        A05,      76,          1,          6,          6,2,20100128,       1232,   24.66872,  -50.08992,       5593,  3046.1,   2.8076,  34.9381,  34.9363,2,   245.3,2,   35.54,2,    1.38,2,  -999.0,9,  -999.0,9,   21.03,2,     -999.0,1,     -999.0,1,     -999.0,1,     -999.0,1,     2.5562,     -999.0,1
  74DI20100106,        A05,      76,          1,          7,          7,2,20100128,       1232,   24.66872,  -50.08992,       5593,  2540.2,   3.1784,  34.9716,  34.9696,2,   244.5,2,   29.32,2,    1.32,2,  -999.0,9,  -999.0,9,   20.45,2,     -999.0,1,     -999.0,1,     -999.0,1,     -999.0,1,     2.9711,     -999.0,1
  74DI20100106,        A05,      76,          1,          8,          8,2,20100128,       1232,   24.66872,  -50.08992,       5593,  2286.7,   3.4728,  34.9973,  34.9956,2,   243.6,2,   25.58,2,    1.30,2,  -999.0,9,  -999.0,9,   20.15,2,     -999.0,1,     -999.0,1,     -999.0,1,     -999.0,1,     3.2853,     -999.0,1
  74DI20100106,        A05,      76,          1,          9,          9,2,20100128,       1232,   24.66872,  -50.08992,       5593,  2030.9,   3.9165,  35.0322,  35.0308,2,   240.4,2,   21.50,2,    1.28,2,  -999.0,9,  -999.0,9,   19.78,2,     -999.0,1,     -999.0,1,     -999.0,1,     -999.0,1,     3.7469,     -999.0,1
  74DI20100106,        A05,      76,          1,         10,         10,2,20100128,       1232,   24.66872,  -50.08992,       5593,  1776.3,   4.4011,  35.0493,  35.0486,2,   238.2,2,   16.82,2,    1.26,2,  -999.0,9,  -999.0,9,   19.56,2,     -999.0,1,     -999.0,1,     -999.0,1,     -999.0,1,     4.2497,     -999.0,1
  74DI20100106,        A05,      76,          1,         11,         11,2,20100128,       1232,   24.66872,  -50.08992,       5593,  1514.6,   4.8254,  35.0393,  35.0380,2,   225.2,2,   16.20,2,    1.33,2,  -999.0,9,  -999.0,9,   21.16,2,     -999.0,1,     -999.0,1,     -999.0,1,     -999.0,1,     4.6943,     -999.0,1
  74DI20100106,        A05,      76,          1,         12,         12,2,20100128,       1232,   24.66872,  -50.08992,       5593,  1267.6,   5.5978,  35.0089,  35.0073,2,   183.5,2,   19.89,2,    1.64,2,  -999.0,9,  -999.0,9,   25.37,2,     -999.0,1,     -999.0,1,     -999.0,1,     -999.0,1,     5.4831,     -999.0,1
  74DI20100106,        A05,      76,          1,         13,         13,2,20100128,       1232,   24.66872,  -50.08992,       5593,  1008.1,   7.0490,  35.0538,  35.0527,2,   146.4,2,   20.11,2,    1.75,2,  -999.0,9,  -999.0,9,   28.08,2,     -999.0,1,     -999.0,1,     -999.0,1,     -999.0,1,     6.9486,     -999.0,1
  74DI20100106,        A05,      76,          1,         14,         14,3,20100128,       1232,   24.66872,  -50.08992,       5593,   880.5,   8.4671,  35.1840,-999.0000,9,  -999.0,9, -999.00,9, -999.00,9,  -999.0,9,  -999.0,9, -999.00,9,     -999.0,9,     -999.0,9,     -999.0,9,     -999.0,9,     8.3709,     -999.0,9
  74DI20100106,        A05,      76,          1,         15,         15,10,20100128,       1232,   24.66872,  -50.08992,       5593,   755.3,  10.1916,  35.4059,  35.4062,2,   142.8,2,   11.95,2,    1.38,2,  -999.0,9,  -999.0,9,   23.19,2,     -999.0,1,     -999.0,1,     -999.0,1,     -999.0,1,    10.1000,     -999.0,1
  74DI20100106,        A05,      76,          1,         16,         16,10,20100128,       1232,   24.66872,  -50.08992,       5593,   630.7,  12.1912,  35.6412,  35.6426,2,   148.8,2,    7.70,2,    1.08,2,  -999.0,9,  -999.0,9,   18.88,2,     -999.0,1,     -999.0,1,     -999.0,1,     -999.0,1,    12.1061,     -999.0,1
  74DI20100106,        A05,      76,          1,         17,         17,2,20100128,       1232,   24.66872,  -50.08992,       5593,   505.8,  14.3292,  35.9353,  35.9354,2,   173.8,2,    4.50,2,    0.68,2,  -999.0,9,  -999.0,9,   12.26,2,     -999.0,9,     -999.0,9,     -999.0,9,     -999.0,9,    14.2536,     -999.0,9
  74DI20100106,        A05,      76,          1,         18,         18,2,20100128,       1232,   24.66872,  -50.08992,       5593,   376.8,  16.7955,  36.3316,  36.3318,2,   188.3,2,    2.42,2,    0.36,2,  -999.0,9,  -999.0,9,    7.13,2,     -999.0,1,     -999.0,1,     -999.0,1,     -999.0,1,    16.7329,     -999.0,1
  74DI20100106,        A05,      76,          1,         19,         19,2,20100128,       1232,   24.66872,  -50.08992,       5593,   253.1,  18.1884,  36.5608,  36.5616,2,   192.0,2,    1.47,2,    0.17,2,  -999.0,9,  -999.0,9,    4.08,2,     -999.0,9,     -999.0,9,     -999.0,9,     -999.0,9,    18.1441,     -999.0,9
  74DI20100106,        A05,      76,          1,         20,         20,3,20100128,       1232,   24.66872,  -50.08992,       5593,   177.7,  20.0593,  36.8391,-999.0000,9,  -999.0,9,    0.77,3,    0.00,3,  -999.0,9,  -999.0,9,    0.21,3,     -999.0,9,     -999.0,9,     -999.0,9,     -999.0,9,    20.0261,     -999.0,9
  74DI20100106,        A05,      76,          1,         21,         21,2,20100128,       1232,   24.66872,  -50.08992,       5593,   102.8,  24.1184,  37.4425,  37.4428,2,   206.8,3,    0.77,2,    0.00,2,  -999.0,9,  -999.0,9,    0.00,2,     -999.0,1,     -999.0,1,     -999.0,1,     -999.0,1,    24.0965,     -999.0,1
  74DI20100106,        A05,      76,          1,         22,         22,10,20100128,       1232,   24.66872,  -50.08992,       5593,    52.4,  24.1192,  37.4430,  37.4431,2,   203.3,2,    0.77,2,    0.00,2,  -999.0,9,  -999.0,9,    0.00,2,     -999.0,9,     -999.0,9,     -999.0,9,     -999.0,9,    24.1080,     -999.0,9
  74DI20100106,        A05,      76,          1,         23,         23,2,20100128,       1232,   24.66872,  -50.08992,       5593,     6.1,  24.1162,  37.4435,  37.4435,2,   204.7,2, -999.00,9, -999.00,9,  -999.0,9,  -999.0,9, -999.00,9,     -999.0,1,     -999.0,1,     -999.0,1,     -999.0,1,    24.1149,     -999.0,1
  74DI20100106,        A05,      76,          1,         24,         24,2,20100128,       1232,   24.66872,  -50.08992,       5593,     5.3,  24.1151,  37.4435,  37.4432,2,   204.6,2,    0.73,2,    0.00,2,  -999.0,9,  -999.0,9,    0.00,2,     -999.0,9,     -999.0,9,     -999.0,9,     -999.0,9,    24.1139,     -999.0,9