BOTTLE,20200115CCHSIOCBG
EXPOCODE,SECT_ID,STNNBR,CASTNO,SAMPNO,BTLNBR,BTLNBR_FLAG_W,DATE,TIME,LATITUDE,LONGITUDE,DEPTH,CTDPRS,CTDTMP,CTDSAL,SALNTY,SALNTY_FLAG_W,OXYGEN,OXYGEN_FLAG_W,SILCAT,SILCAT_FLAG_W,PHSPHT,PHSPHT_FLAG_W,TCARBN,TCARBN_FLAG_W,ALKALI,ALKALI_FLAG_W,NO2+NO3,NO2+NO3_FLAG_W,CFC-11,CFC-11_FLAG_W,CFC-12,CFC-12_FLAG_W,CFC113,CFC113_FLAG_W,CCL4,CCL4_FLAG_W,THETA,SF6,SF6_FLAG_W
,,,,,,,,,,,METERS,DBAR,ITS-90,PSS-78,PSS-78,,UMOL/KG,,UMOL/KG,,UMOL/KG,,UMOL/KG,,UMOL/KG,,UMOL/KG,,PMOL/L,,PMOL/L,,PMOL/L,,PMOL/L,,ITS-90,FMOL/L,
  74DI20100106,        A05,     113,          1,          1,         25,10,20100210,       0125,   24.51120,  -25.54157,       5310,  5396.7,   2.4587,  34.8861,  34.8860,2,   239.4,2,   49.89,2,    1.52,2,  -999.0,9,  -999.0,9,   23.09,2,     -999.0,1,     -999.0,1,     -999.0,1,     -999.0,1,     1.9394,     -999.0,1
  74DI20100106,        A05,     113,          1,          2,          2,4,20100210,       0125,   24.51120,  -25.54157,       5310,  5397.7,   2.4587,  34.8861,-999.0000,9,   157.1,4, -999.00,9, -999.00,9,  -999.0,9,  -999.0,9, -999.00,9,     -999.0,9,     -999.0,9,     -999.0,9,     -999.0,9,     1.9393,     -999.0,9
  74DI20100106,        A05,     113,          1,          3,          3,2,20100210,       0125,   24.51120,  -25.54157,       5310,  4836.9,   2.3941,  34.8874,  34.8877,2,   239.2,2,   50.05,2,    1.51,2,  2202.6,2,  2349.9,2,   23.26,2,     -999.0,1,     -999.0,1,     -999.0,1,     -999.0,1,     1.9488,     -999.0,1
  74DI20100106,        A05,     113,          1,          4,          4,2,20100210,       0125,   24.51120,  -25.54157,       5310,  4315.5,   2.3772,  34.8926,  34.8922,2,   239.0,2,   48.62,2,    1.52,2,  2197.3,2,  2348.9,2,   22.68,2,     -999.0,1,     -999.0,1,     -999.0,1,     -999.0,1,     1.9957,     -999.0,1
  74DI20100106,        A05,     113,          1,          5,          5,2,20100210,       0125,   24.51120,  -25.54157,       5310,  3801.0,   2.4398,  34.9040,  34.9043,2,   240.1,2,   45.74,2,    1.49,2,  -999.0,9,  -999.0,9,   22.90,2,     -999.0,1,     -999.0,1,     -999.0,1,     -999.0,1,     2.1158,     -999.0,1
  74DI20100106,        A05,     113,          1,          6,          6,2,20100210,       0125,   24.51120,  -25.54157,       5310,  3298.3,   2.5826,  34.9225,  34.9224,2,   240.3,2,   41.27,2,    1.45,2,  2191.6,2,  2342.2,2,   22.35,2,     -999.0,1,     -999.0,1,     -999.0,1,     -999.0,1,     2.3098,     -999.0,1
  74DI20100106,        A05,     113,          1,          7,          7,2,20100210,       0125,   24.51120,  -25.54157,       5310,  2786.0,   2.9376,  34.9584,  34.9572,2,   239.8,2,   34.37,2,    1.42,2,  2185.0,2,  2337.2,2,   21.50,2,     -999.0,1,     -999.0,1,     -999.0,1,     -999.0,1,     2.7102,     -999.0,1
  74DI20100106,        A05,     113,          1,          8,          8,2,20100210,       0125,   24.51120,  -25.54157,       5310,  2524.8,   3.2427,  34.9879,  34.9882,2,   236.2,2,   30.25,2,    1.41,2,  -999.0,9,  -999.0,9,   21.18,2,     -999.0,1,     -999.0,1,     -999.0,1,     -999.0,1,     3.0357,     -999.0,1
  74DI20100106,        A05,     113,          1,          9,          9,2,20100210,       0125,   24.51120,  -25.54157,       5310,  2260.9,   3.5703,  35.0142,  35.0140,2,   229.1,2,   28.13,2,    1.42,2,  2181.5,2,  2328.9,2,   21.63,2,     -999.0,1,     -999.0,1,     -999.0,1,     -999.0,1,     3.3837,     -999.0,1
  74DI20100106,        A05,     113,          1,         10,         10,2,20100210,       0125,   24.51120,  -25.54157,       5310,  1972.5,   4.0508,  35.0571,  35.0568,2,   221.0,2,   25.13,2,    1.44,2,  -999.0,9,  -999.0,9,   22.13,2,     -999.0,1,     -999.0,1,     -999.0,1,     -999.0,1,     3.8850,     -999.0,1
  74DI20100106,        A05,     113,          1,         11,         11,2,20100210,       0125,   24.51120,  -25.54157,       5310,  1764.8,   4.6493,  35.1195,  35.1191,2,   213.2,2,   22.48,2,    1.42,2,  2181.5,2,  2334.6,3,   22.20,2,     -999.0,1,     -999.0,1,     -999.0,1,     -999.0,1,     4.4956,     -999.0,1
  74DI20100106,        A05,     113,          1,         12,         12,2,20100210,       0125,   24.51120,  -25.54157,       5310,  1521.7,   5.3374,  35.1595,  35.1579,2,   196.9,2,   20.72,2,    1.49,2,  -999.0,9,  -999.0,9,   23.40,2,     -999.0,1,     -999.0,1,     -999.0,1,     -999.0,1,     5.1996,     -999.0,1
  74DI20100106,        A05,     113,          1,         13,         13,2,20100210,       0125,   24.51120,  -25.54157,       5310,  1265.0,   6.4009,  35.2182,  35.2188,2,   173.0,2,   19.51,2,    1.59,2,  2194.9,2,  2327.4,2,   24.79,2,     -999.0,1,     -999.0,1,     -999.0,1,     -999.0,1,     6.2786,     -999.0,1
  74DI20100106,        A05,     113,          1,         14,         14,2,20100210,       0125,   24.51120,  -25.54157,       5310,  1009.7,   7.3735,  35.1983,  35.1990,2,   147.6,2,   18.57,2,    1.70,2,  -999.0,9,  -999.0,9,   26.66,2,     -999.0,1,     -999.0,1,     -999.0,1,     -999.0,1,     7.2703,     -999.0,1
  74DI20100106,        A05,     113,          1,         15,         26,2,20100210,       0125,   24.51120,  -25.54157,       5310,   885.7,   8.1031,  35.2233,  35.2240,2,   135.6,2,   17.50,2,    1.71,2,  -999.0,9,  -999.0,9,   27.43,2,     -999.0,1,     -999.0,1,     -999.0,1,     -999.0,1,     8.0086,     -999.0,1
  74DI20100106,        A05,     113,          1,         16,         16,2,20100210,       0125,   24.51120,  -25.54157,       5310,   759.7,   9.2479,  35.3139,  35.3146,2,   126.4,2,   14.84,2,    1.63,2,  2199.8,2,  2323.0,2,   26.67,2,     -999.0,1,     -999.0,1,     -999.0,1,     -999.0,1,     9.1610,     -999.0,1
  74DI20100106,        A05,     113,          1,         17,         17,2,20100210,       0125,   24.51120,  -25.54157,       5310,   629.2,  10.9329,  35.4993,  35.4998,2,   136.3,2,   10.24,2,    1.35,2,  -999.0,9,  -999.0,9,   22.72,2,     -999.0,9,     -999.0,9,     -999.0,9,     -999.0,9,    10.8537,     -999.0,9
  74DI20100106,        A05,     113,          1,         18,         18,10,20100210,       0125,   24.51120,  -25.54157,       5310,   501.8,  12.5302,  35.6967,  35.6983,2,   149.6,2,    6.92,2,    1.05,2,  2175.4,2,  2335.4,2,   18.77,2,     -999.0,1,     -999.0,1,     -999.0,1,     -999.0,1,    12.4616,     -999.0,1
  74DI20100106,        A05,     113,          1,         19,         19,2,20100210,       0125,   24.51120,  -25.54157,       5310,   380.5,  14.3421,  35.9732,  35.9740,2,   167.5,2,    4.30,2,    0.72,2,  -999.0,9,  -999.0,9,   12.59,2,     -999.0,9,     -999.0,9,     -999.0,9,     -999.0,9,    14.2854,     -999.0,9
  74DI20100106,        A05,     113,          1,         20,         20,2,20100210,       0125,   24.51120,  -25.54157,       5310,   254.1,  16.4152,  36.3149,  36.3139,2,   157.6,2,    3.23,2,    0.59,2,  2160.7,2,  2373.7,2,   10.44,2,     -999.0,1,     -999.0,1,     -999.0,9,     -999.0,9,    16.3738,     -999.0,1
  74DI20100106,        A05,     113,          1,         21,         21,2,20100210,       0125,   24.51120,  -25.54157,       5310,   176.7,  18.3233,  36.7053,  36.7069,2,   179.9,2,    1.74,2,    0.31,2,  -999.0,9,  -999.0,9,    5.43,2,     -999.0,9,     -999.0,9,     -999.0,9,     -999.0,9,    18.2922,     -999.0,9
  74DI20100106,        A05,     113,          1,         22,         22,2,20100210,       0125,   24.51120,  -25.54157,       5310,   102.5,  20.3846,  36.9166,  36.9256,2,   204.8,2,    0.99,2,    0.09,2,  2127.4,2,  2408.4,2,    1.34,2,     -999.0,1,     -999.0,1,     -999.0,9,     -999.0,9,    20.3652,     -999.0,1
  74DI20100106,        A05,     113,          1,         23,         23,2,20100210,       0125,   24.51120,  -25.54157,       5310,    50.4,  22.9872,  37.0926,  37.0930,2,   208.1,2,    0.70,2,    0.01,2,  -999.0,9,  -999.0,9,    0.00,2,     -999.0,9,     -999.0,9,     -999.0,9,     -999.0,9,    22.9768,     -999.0,9
  74DI20100106,        A05,     113,          1,         24,         24,2,20100210,       0125,   24.51120,  -25.54157,       5310,     3.6,  22.9573,  37.0836,  37.0847,2,   208.7,2,    0.62,2,    0.01,2,  -999.0,9,  -999.0,9,    0.00,2,     -999.0,1,     -999.0,1,     -999.0,1,     -999.0,1,    22.9566,     -999.0,1
  74DI20100106,        A05,     114,          1,          1,         25,2,20100210,       0950,   24.51425,  -24.84706,       5226,  5311.8,   2.4579,  34.8872,  34.8874,2,   239.5,2,   49.33,2,    1.50,2,  -999.0,9,  -999.0,9,   22.91,2,     -999.0,9,     -999.0,9,     -999.0,9,     -999.0,9,     1.9498,     -999.0,9
  74DI20100106,        A05,     114,          1,          2,          2,4,20100210,       0950,   24.51425,  -24.84706,       5226,  5311.9,   2.4580,  34.8871,-999.0000,9,  -999.0,9, -999.00,9, -999.00,9,  -999.0,9,  -999.0,9, -999.00,9,     -999.0,9,     -999.0,9,     -999.0,9,     -999.0,9,     1.9498,     -999.0,9
  74DI20100106,        A05,     114,          1,          3,          3,2,20100210,       0950,   24.51425,  -24.84706,       5226,  5068.6,   2.4255,  34.8872,  34.8869,2,   239.1,2,   49.06,2,    1.51,2,  2200.7,2,  2351.8,2,   23.15,2,     -999.0,9,     -999.0,9,     -999.0,9,     -999.0,9,     1.9499,     -999.0,9
  74DI20100106,        A05,     114,          1,          4,          4,2,20100210,       0950,   24.51425,  -24.84706,       5226,  4561.0,   2.3853,  34.8901,  34.8896,2,   240.8,2,   48.47,2,    1.51,2,  -999.0,9,  -999.0,9,   22.84,2,     -999.0,9,     -999.0,9,     -999.0,9,     -999.0,9,     1.9742,     -999.0,9
  74DI20100106,        A05,     114,          1,          5,          5,2,20100210,       0950,   24.51425,  -24.84706,       5226,  4049.7,   2.4217,  34.8993,  34.8984,2,   240.8,2,   46.29,2,    1.48,2,  -999.0,9,  -999.0,9,   22.67,2,     -999.0,9,     -999.0,9,     -999.0,9,     -999.0,9,     2.0699,     -999.0,9
  74DI20100106,        A05,     114,          1,          6,          6,2,20100210,       0950,   24.51425,  -24.84706,       5226,  3542.4,   2.5428,  34.9160,  34.9159,2,   239.6,2,   42.33,2,    1.45,2,  -999.0,9,  -999.0,9,   22.19,2,     -999.0,9,     -999.0,9,     -999.0,9,     -999.0,9,     2.2446,     -999.0,9
  74DI20100106,        A05,     114,          1,          7,          7,2,20100210,       0950,   24.51425,  -24.84706,       5226,  3048.4,   2.7645,  34.9404,  34.9407,2,   238.5,2,   37.43,2,    1.43,2,  -999.0,9,  -999.0,9,   21.75,2,     -999.0,9,     -999.0,9,     -999.0,9,     -999.0,9,     2.5138,     -999.0,9
  74DI20100106,        A05,     114,          1,          8,          8,2,20100210,       0950,   24.51425,  -24.84706,       5226,  2532.8,   3.2394,  34.9846,  34.9841,2,   232.3,2,   30.91,2,    1.42,2,  -999.0,9,  -999.0,9,   21.52,2,     -999.0,9,     -999.0,9,     -999.0,9,     -999.0,9,     3.0317,     -999.0,9
  74DI20100106,        A05,     114,          1,          9,          9,2,20100210,       0950,   24.51425,  -24.84706,       5226,  2276.3,   3.5132,  35.0054,  35.0059,2,   226.0,2,   29.56,2,    1.44,2,  -999.0,9,  -999.0,9,   22.48,2,     -999.0,9,     -999.0,9,     -999.0,9,     -999.0,9,     3.3261,     -999.0,9
  74DI20100106,        A05,     114,          1,         10,         10,2,20100210,       0950,   24.51425,  -24.84706,       5226,  2021.9,   3.8747,  35.0394,  35.0416,2,   221.3,2,   26.27,2,    1.44,2,  2186.3,2,  2332.1,2,   21.97,2,     -999.0,9,     -999.0,9,     -999.0,9,     -999.0,9,     3.7067,     -999.0,9
  74DI20100106,        A05,     114,          1,         11,         11,2,20100210,       0950,   24.51425,  -24.84706,       5226,  1772.6,   4.3929,  35.0754,  35.0762,2,   215.3,2,   22.74,2,    1.45,2,  -999.0,9,  -999.0,9,   22.49,2,     -999.0,9,     -999.0,9,     -999.0,9,     -999.0,9,     4.2419,     -999.0,9
  74DI20100106,        A05,     114,          1,         12,         12,2,20100210,       0950,   24.51425,  -24.84706,       5226,  1519.4,   5.2913,  35.1628,  35.1637,2,   198.6,2,   20.85,2,    1.49,2,  2186.9,2,  2329.4,2,   23.08,2,     -999.0,9,     -999.0,9,     -999.0,9,     -999.0,9,     5.1542,     -999.0,9
  74DI20100106,        A05,     114,          1,         13,         13,2,20100210,       0950,   24.51425,  -24.84706,       5226,  1271.4,   6.3749,  35.2149,  35.2171,2,   174.1,2,   19.39,2,    1.58,2,  -999.0,9,  -999.0,9,   24.56,2,     -999.0,9,     -999.0,9,     -999.0,9,     -999.0,9,     6.2521,     -999.0,9
  74DI20100106,        A05,     114,          1,         14,         14,2,20100210,       0950,   24.51425,  -24.84706,       5226,  1008.5,   7.1723,  35.1591,  35.1599,2,   142.6,2,   19.49,2,    1.77,2,  2206.4,2,  2324.2,2,   28.05,2,     -999.0,9,     -999.0,9,     -999.0,9,     -999.0,9,     7.0708,     -999.0,9
  74DI20100106,        A05,     114,          1,         15,         26,2,20100210,       0950,   24.51425,  -24.84706,       5226,   883.6,   7.7696,  35.1477,  35.1495,2,   127.1,2,   18.99,2,    1.83,2,  -999.0,9,  -999.0,9,   29.12,2,     -999.0,9,     -999.0,9,     -999.0,9,     -999.0,9,     7.6775,     -999.0,9
  74DI20100106,        A05,     114,          1,         16,         16,2,20100210,       0950,   24.51425,  -24.84706,       5226,   759.9,   8.8127,  35.2327,  35.2335,2,   116.2,2,   16.34,2,    1.77,2,  -999.0,9,  -999.0,9,   28.75,2,     -999.0,9,     -999.0,9,     -999.0,9,     -999.0,9,     8.7283,     -999.0,9
  74DI20100106,        A05,     114,          1,         17,         17,2,20100210,       0950,   24.51425,  -24.84706,       5226,   633.2,  10.4167,  35.4027,  35.4037,2,   115.4,2,   12.60,2,    1.59,2,  -999.0,9,  -999.0,9,   26.67,2,     -999.0,9,     -999.0,9,     -999.0,9,     -999.0,9,    10.3393,     -999.0,9
  74DI20100106,        A05,     114,          1,         18,         18,2,20100210,       0950,   24.51425,  -24.84706,       5226,   501.2,  12.6075,  35.6915,  35.6928,2,   131.4,2,    7.63,2,    1.17,2,  -999.0,9,  -999.0,9,   20.20,2,     -999.0,9,     -999.0,9,     -999.0,9,     -999.0,9,    12.5387,     -999.0,9
  74DI20100106,        A05,     114,          1,         19,         19,2,20100210,       0950,   24.51425,  -24.84706,       5226,   376.7,  14.4938,  35.9844,  35.9862,2,   155.8,2,    4.61,2,    0.81,2,  -999.0,9,  -999.0,9,   13.84,2,     -999.0,9,     -999.0,9,     -999.0,9,     -999.0,9,    14.4373,     -999.0,9
  74DI20100106,        A05,     114,          1,         20,         20,2,20100210,       0950,   24.51425,  -24.84706,       5226,   251.7,  16.8369,  36.4019,  36.4035,2,   166.0,2,    2.85,2,    0.53,2,  -999.0,9,  -999.0,9,    9.06,2,     -999.0,9,     -999.0,9,     -999.0,9,     -999.0,9,    16.7951,     -999.0,9
  74DI20100106,        A05,     114,          1,         21,         21,2,20100210,       0950,   24.51425,  -24.84706,       5226,   176.6,  18.6943,  36.7412,  36.7423,2,   172.7,2,    1.86,2,    0.36,2,  -999.0,9,  -999.0,9,    6.02,2,     -999.0,9,     -999.0,9,     -999.0,9,     -999.0,9,    18.6628,     -999.0,9
  74DI20100106,        A05,     114,          1,         22,         22,2,20100210,       0950,   24.51425,  -24.84706,       5226,    65.4,  22.8119,  37.0953,  37.0959,2,   209.0,2,    0.63,2,    0.02,2,  -999.0,9,  -999.0,9,    0.00,2,     -999.0,9,     -999.0,9,     -999.0,9,     -999.0,9,    22.7985,     -999.0,9
  74DI20100106,        A05,     114,          1,         23,         23,2,20100210,       0950,   24.51425,  -24.84706,       5226,    50.6,  22.8145,  37.0932,  37.0946,2,   208.9,2,    0.66,2,    0.03,2,  -999.0,9,  -999.0,9,    0.00,2,     -999.0,9,     -999.0,9,     -999.0,9,     -999.0,9,    22.8041,     -999.0,9
  74DI20100106,        A05,     114,          1,         24,         24,2,20100210,       0950,   24.51425,  -24.84706,       5226,     4.8,  22.8088,  37.0934,  37.0939,2,   210.5,2,    0.63,2,    0.02,2,  -999.0,9,  -999.0,9,    0.00,2,     -999.0,1,     -999.0,1,     -999.0,1,     -999.0,1,    22.8078,     -999.0,1