BOTTLE,20200115CCHSIOCBG
EXPOCODE,SECT_ID,STNNBR,CASTNO,SAMPNO,BTLNBR,BTLNBR_FLAG_W,DATE,TIME,LATITUDE,LONGITUDE,DEPTH,CTDPRS,CTDTMP,CTDSAL,SALNTY,SALNTY_FLAG_W,OXYGEN,OXYGEN_FLAG_W,SILCAT,SILCAT_FLAG_W,PHSPHT,PHSPHT_FLAG_W,TCARBN,TCARBN_FLAG_W,ALKALI,ALKALI_FLAG_W,NO2+NO3,NO2+NO3_FLAG_W,CFC-11,CFC-11_FLAG_W,CFC-12,CFC-12_FLAG_W,CFC113,CFC113_FLAG_W,CCL4,CCL4_FLAG_W,THETA,SF6,SF6_FLAG_W
,,,,,,,,,,,METERS,DBAR,ITS-90,PSS-78,PSS-78,,UMOL/KG,,UMOL/KG,,UMOL/KG,,UMOL/KG,,UMOL/KG,,UMOL/KG,,PMOL/L,,PMOL/L,,PMOL/L,,PMOL/L,,ITS-90,FMOL/L,
  74DI20100106,        A05,      85,          1,          1,          1,2,20100131,       0654,   23.73253,  -45.27002,       4469,  4506.1,   2.2999,  34.8826,  34.8838,2,   246.5,2,   46.66,2,    1.47,2,  2190.9,2,  2340.7,2,   21.73,2,     -999.0,1,     -999.0,1,     -999.0,1,     -999.0,1,     1.8981,     -999.0,1
  74DI20100106,        A05,      85,          1,          2,          2,3,20100131,       0654,   23.73253,  -45.27002,       4469,  4506.9,   2.3001,  34.8828,-999.0000,9,  -999.0,9, -999.00,9, -999.00,9,  -999.0,9,  -999.0,9, -999.00,9,     -999.0,9,     -999.0,9,     -999.0,9,     -999.0,9,     1.8982,     -999.0,9
  74DI20100106,        A05,      85,          1,          3,          3,2,20100131,       0654,   23.73253,  -45.27002,       4469,  4328.1,   2.2881,  34.8835,  34.8839,2,   247.5,2,   46.33,2,    1.47,2,  2190.4,2,  2339.3,2,   21.74,2,     -999.0,1,     -999.0,1,     -999.0,1,     -999.0,1,     1.9078,     -999.0,1
  74DI20100106,        A05,      85,          1,          4,          4,2,20100131,       0654,   23.73253,  -45.27002,       4469,  3816.6,   2.4686,  34.9031,  34.8944,2,   245.3,2,   44.19,2,    1.46,2,  2188.8,2,  2337.1,2,   21.82,2,     -999.0,1,     -999.0,1,     -999.0,1,     -999.0,1,     2.1420,     -999.0,1
  74DI20100106,        A05,      85,          1,          5,          5,2,20100131,       0654,   23.73253,  -45.27002,       4469,  3302.8,   2.6893,  34.9268,  34.9271,2,   242.1,2,   38.65,2,    1.45,2,  2185.4,2,  2337.8,2,   21.56,2,     -999.0,1,     -999.0,1,     -999.0,1,     -999.0,1,     2.4135,     -999.0,1
  74DI20100106,        A05,      85,          1,          6,          6,2,20100131,       0654,   23.73253,  -45.27002,       4469,  2792.8,   2.8844,  34.9459,  34.9456,2,   244.5,2,   33.84,2,    1.39,2,  2183.8,2,  2333.9,2,   21.12,2,     -999.0,1,     -999.0,1,     -999.0,1,     -999.0,1,     2.6574,     -999.0,1
  74DI20100106,        A05,      85,          1,          7,          7,2,20100131,       0654,   23.73253,  -45.27002,       4469,  2538.7,   3.0925,  34.9644,  34.9648,2,   244.3,2,   29.40,2,    1.35,2,  -999.0,9,  -999.0,9,   20.23,2,     -999.0,1,     -999.0,1,     -999.0,1,     -999.0,1,     2.8869,     -999.0,1
  74DI20100106,        A05,      85,          1,          8,          8,2,20100131,       0654,   23.73253,  -45.27002,       4469,  2284.6,   3.3658,  34.9876,  34.9878,2,   245.2,2,   25.42,2,    1.36,2,  2176.6,2,  2327.4,2,   19.86,2,     -999.0,9,     -999.0,9,     -999.0,9,     -999.0,9,     3.1803,     -999.0,9
  74DI20100106,        A05,      85,          1,          9,          9,2,20100131,       0654,   23.73253,  -45.27002,       4469,  2030.5,   3.8701,  35.0248,  35.0251,2,   237.5,2,   21.96,2,    1.33,2,  2173.7,2,  2325.0,2,   20.03,2,     -999.0,1,     -999.0,1,     -999.0,1,     -999.0,1,     3.7013,     -999.0,1
  74DI20100106,        A05,      85,          1,         10,         10,2,20100131,       0654,   23.73253,  -45.27002,       4469,  2029.6,   3.8696,  35.0250,-999.0000,9,   238.9,2, -999.00,9, -999.00,9,  -999.0,9,  -999.0,9, -999.00,9,     -999.0,9,     -999.0,9,     -999.0,9,     -999.0,9,     3.7010,     -999.0,9
  74DI20100106,        A05,      85,          1,         11,         11,2,20100131,       0654,   23.73253,  -45.27002,       4469,  1777.6,   4.2563,  35.0438,  35.0451,2,   232.2,2,   19.51,2,    1.35,2,  2169.5,3,  2320.7,2,   20.52,2,     -999.0,1,     -999.0,1,     -999.0,1,     -999.0,1,     4.1067,     -999.0,1
  74DI20100106,        A05,      85,          1,         12,         12,2,20100131,       0654,   23.73253,  -45.27002,       4469,  1523.8,   4.8662,  35.0402,  35.0408,2,   212.8,2,   18.47,2,    1.45,2,  -999.0,9,  -999.0,9,   22.09,2,     -999.0,1,     -999.0,1,     -999.0,1,     -999.0,1,     4.7338,     -999.0,1
  74DI20100106,        A05,      85,          1,         13,         13,2,20100131,       0654,   23.73253,  -45.27002,       4469,  1271.8,   5.5141,  35.0209,  35.0208,2,   187.8,2,   19.35,2,    1.62,2,  2189.2,2,  2318.8,2,   24.67,2,     -999.0,1,     -999.0,1,     -999.0,1,     -999.0,1,     5.3998,     -999.0,1
  74DI20100106,        A05,      85,          1,         14,         14,2,20100131,       0654,   23.73253,  -45.27002,       4469,  1016.7,   6.8168,  35.0461,  35.0456,2,   149.5,2,   20.23,2,    1.81,2,  2202.3,2,  2319.5,2,   28.28,2,     -999.0,1,     -999.0,1,     -999.0,1,     -999.0,1,     6.7173,     -999.0,1
  74DI20100106,        A05,      85,          1,         15,         15,3,20100131,       0654,   23.73253,  -45.27002,       4469,   882.0,   7.9989,  35.1118,  35.8349,4,  -999.0,9, -999.00,9, -999.00,9,  -999.0,9,  -999.0,9, -999.00,9,     -999.0,9,     -999.0,9,     -999.0,9,     -999.0,9,     7.9056,     -999.0,9
  74DI20100106,        A05,      85,          1,         16,         16,2,20100131,       0654,   23.73253,  -45.27002,       4469,   757.1,   9.3352,  35.2749,  35.2871,2,   133.3,2,   14.65,2,    1.59,2,  2198.0,2,  2322.7,2,   26.02,2,     -999.0,1,     -999.0,1,     -999.0,1,     -999.0,1,     9.2482,     -999.0,1
  74DI20100106,        A05,      85,          1,         17,         17,2,20100131,       0654,   23.73253,  -45.27002,       4469,   630.5,  11.3955,  35.5332,  35.5340,2,   134.4,2,    3.35,4,    0.57,4,  2187.4,2,  -999.0,9,    9.87,4,     -999.0,9,     -999.0,9,     -999.0,9,     -999.0,9,    11.3140,     -999.0,9
  74DI20100106,        A05,      85,          1,         18,         18,2,20100131,       0654,   23.73253,  -45.27002,       4469,   504.5,  13.2062,  35.7691,  35.7765,2,   146.3,2,    6.35,2,    1.01,2,  2171.9,2,  2343.3,2,   17.64,2,     -999.0,9,     -999.0,9,     -999.0,9,     -999.0,9,    13.1348,     -999.0,9
  74DI20100106,        A05,      85,          1,         19,         19,2,20100131,       0654,   23.73253,  -45.27002,       4469,   378.6,  15.6460,  36.1539,  36.1548,2,   176.6,2,    3.38,2,    0.58,2,  -999.0,9,  -999.0,9,    9.94,2,     -999.0,9,     -999.0,9,     -999.0,9,     -999.0,9,    15.5861,     -999.0,9
  74DI20100106,        A05,      85,          1,         20,         20,2,20100131,       0654,   23.73253,  -45.27002,       4469,   253.2,  17.8087,  36.5160,  36.5165,2,   189.4,2,    1.90,2,    0.27,2,  2123.3,2,  2384.5,2,    6.73,2,     -999.0,1,     -999.0,1,     -999.0,1,     -999.0,9,    17.7650,     -999.0,1
  74DI20100106,        A05,      85,          1,         21,         21,2,20100131,       0654,   23.73253,  -45.27002,       4469,   176.6,  20.0484,  36.9435,  36.9707,2,   182.8,2,    1.16,2,    0.08,2,  -999.0,9,  -999.0,9,    2.01,2,     -999.0,9,     -999.0,9,     -999.0,9,     -999.0,9,    20.0153,     -999.0,9
  74DI20100106,        A05,      85,          1,         22,         22,2,20100131,       0654,   23.73253,  -45.27002,       4469,   124.1,  22.3271,  37.2983,  37.3017,2,   198.3,2,    0.86,2,    0.00,2,  2118.7,2,  2429.3,2,    0.20,2,     -999.0,1,     -999.0,1,     -999.0,1,     -999.0,1,    22.3021,     -999.0,1
  74DI20100106,        A05,      85,          1,         23,         23,2,20100131,       0654,   23.73253,  -45.27002,       4469,    49.4,  23.8868,  37.4911,  37.4909,2,   204.2,2,    0.92,2,    0.00,2,  -999.0,9,  -999.0,9,    0.00,2,     -999.0,9,     -999.0,9,     -999.0,9,     -999.0,9,    23.8764,     -999.0,9
  74DI20100106,        A05,      85,          1,         24,         24,2,20100131,       0654,   23.73253,  -45.27002,       4469,     4.0,  23.8714,  37.4880,  37.4874,2,   204.4,2,    0.93,2,    0.01,2,  2096.2,2,  2441.3,2,    0.00,2,     -999.0,1,     -999.0,1,     -999.0,1,     -999.0,1,    23.8705,     -999.0,1
  74DI20100106,        A05,      86,          1,          1,          1,2,20100131,       1401,   23.63548,  -44.73539,       4419,  4479.0,   2.4186,  34.8926,  34.8933,2,   247.2,2,   44.70,2,    1.45,2,  2189.0,2,  2337.7,2,   21.77,2,     -999.0,1,     -999.0,1,     -999.0,1,     -999.0,1,     2.0163,     -999.0,1
  74DI20100106,        A05,      86,          1,          2,          2,2,20100131,       1401,   23.63548,  -44.73539,       4419,  4305.8,   2.3898,  34.8921,  34.8930,2,   247.3,2,   45.01,2,    1.45,2,  2187.5,2,  2336.4,2,   21.73,2,     -999.0,1,     -999.0,1,     -999.0,1,     -999.0,1,     2.0091,     -999.0,1
  74DI20100106,        A05,      86,          1,          3,          3,2,20100131,       1401,   23.63548,  -44.73539,       4419,  4043.2,   2.4803,  34.9020,  34.9025,2,   245.8,2,   43.55,2,    1.45,2,  2186.0,2,  2339.6,2,   21.63,2,     -999.0,1,     -999.0,1,     -999.0,1,     -999.0,1,     2.1276,     -999.0,1
  74DI20100106,        A05,      86,          1,          4,          4,2,20100131,       1401,   23.63548,  -44.73539,       4419,  3550.0,   2.6134,  34.9172,  34.9177,2,   244.3,2,   40.53,2,    1.45,2,  2184.8,2,  2337.8,2,   21.42,2,     -999.0,1,     -999.0,1,     -999.0,1,     -999.0,1,     2.3126,     -999.0,1
  74DI20100106,        A05,      86,          1,          5,          5,2,20100131,       1401,   23.63548,  -44.73539,       4419,  3047.9,   2.7897,  34.9367,  34.9370,2,   243.4,2,   36.12,2,    1.41,2,  2182.7,2,  2336.1,2,   21.16,2,     -999.0,1,     -999.0,1,     -999.0,1,     -999.0,1,     2.5385,     -999.0,1
  74DI20100106,        A05,      86,          1,          6,          6,2,20100131,       1401,   23.63548,  -44.73539,       4419,  3049.0,   2.7907,  34.9369,  34.9371,2,   244.2,2,   36.18,2,    1.41,2,  2185.0,2,  2336.7,2,   21.36,2,     -999.0,1,     -999.0,1,     -999.0,1,     -999.0,1,     2.5394,     -999.0,1
  74DI20100106,        A05,      86,          1,          7,          7,2,20100131,       1401,   23.63548,  -44.73539,       4419,  2539.3,   3.1194,  34.9659,  34.9660,2,   243.9,2,   30.43,2,    1.36,2,  2179.8,2,  2331.3,2,   20.94,2,     -999.0,1,     -999.0,1,     -999.0,1,     -999.0,1,     2.9133,     -999.0,1
  74DI20100106,        A05,      86,          1,          8,          8,10,20100131,       1401,   23.63548,  -44.73539,       4419,  2284.0,   3.4498,  34.9932,  34.9932,2,   242.5,2,   26.31,2,    1.38,2,  -999.0,9,  -999.0,9,   20.51,2,     -999.0,1,     -999.0,1,     -999.0,1,     -999.0,1,     3.2630,     -999.0,1
  74DI20100106,        A05,      86,          1,          9,          9,2,20100131,       1401,   23.63548,  -44.73539,       4419,  2024.6,   3.8934,  35.0223,  35.0221,2,   236.5,2,   22.43,2,    1.35,2,  2173.9,2,  2322.1,2,   20.78,2,     -999.0,1,     -999.0,1,     -999.0,1,     -999.0,1,     3.7249,     -999.0,1
  74DI20100106,        A05,      86,          1,         10,         10,2,20100131,       1401,   23.63548,  -44.73539,       4419,  2026.7,   3.8927,  35.0223,-999.0000,9,   237.3,2, -999.00,9, -999.00,9,  -999.0,9,  -999.0,9, -999.00,9,     -999.0,9,     -999.0,9,     -999.0,9,     -999.0,9,     3.7240,     -999.0,9
  74DI20100106,        A05,      86,          1,         11,         11,2,20100131,       1401,   23.63548,  -44.73539,       4419,  1771.0,   4.3285,  35.0371,  35.0376,2,   228.5,2,   19.89,2,    1.38,2,  -999.0,9,  -999.0,9,   21.29,2,     -999.0,1,     -999.0,1,     -999.0,1,     -999.0,1,     4.1786,     -999.0,1
  74DI20100106,        A05,      86,          1,         12,         12,2,20100131,       1401,   23.63548,  -44.73539,       4419,  1519.3,   4.9408,  35.0425,  35.0427,2,   212.6,2,   18.50,2,    1.45,2,  2179.8,2,  2320.1,2,   22.50,2,     -999.0,1,     -999.0,1,     -999.0,1,     -999.0,1,     4.8079,     -999.0,1
  74DI20100106,        A05,      86,          1,         13,         13,2,20100131,       1401,   23.63548,  -44.73539,       4419,  1267.3,   5.5337,  35.0167,  35.0173,2,   186.2,2,   20.36,2,    1.64,2,  -999.0,9,  -999.0,9,   25.32,2,     -999.0,1,     -999.0,1,     -999.0,1,     -999.0,1,     5.4196,     -999.0,1
  74DI20100106,        A05,      86,          1,         14,         14,2,20100131,       1401,   23.63548,  -44.73539,       4419,  1016.5,   6.7300,  35.0409,  35.0412,2,   149.8,2,   21.05,2,    1.80,2,  2202.6,2,  2318.7,2,   28.17,2,     -999.0,1,     -999.0,1,     -999.0,1,     -999.0,1,     6.6311,     -999.0,1
  74DI20100106,        A05,      86,          1,         15,         15,2,20100131,       1401,   23.63548,  -44.73539,       4419,   885.9,   7.9507,  35.1366,  35.1356,2,   134.4,2,   18.88,2,    1.77,2,  -999.0,9,  -999.0,9,   28.16,2,     -999.0,1,     -999.0,1,     -999.0,1,     -999.0,1,     7.8572,     -999.0,1
  74DI20100106,        A05,      86,          1,         16,         16,2,20100131,       1401,   23.63548,  -44.73539,       4419,   754.3,   9.6119,  35.3104,  35.3109,2,   125.8,2,   14.82,2,    1.60,2,  2198.9,2,  2321.5,2,   26.24,2,     -999.0,1,     -999.0,1,     -999.0,1,     -999.0,1,     9.5237,     -999.0,1
  74DI20100106,        A05,      86,          1,         17,         17,2,20100131,       1401,   23.63548,  -44.73539,       4419,   502.0,  14.2598,  35.9286,  35.9305,2,   167.5,2,    4.84,2,    0.76,2,  -999.0,9,  -999.0,9,   13.23,2,     -999.0,9,     -999.0,9,     -999.0,9,     -999.0,9,    14.1851,     -999.0,9
  74DI20100106,        A05,      86,          1,         18,         18,2,20100131,       1401,   23.63548,  -44.73539,       4419,   327.3,  17.0590,  36.3784,  36.3770,2,   191.3,2,    2.40,2,    0.35,2,  2124.3,2,  2375.9,2,    6.54,2,     -999.0,1,     -999.0,1,     -999.0,9,     -999.0,9,    17.0041,     -999.0,1
  74DI20100106,        A05,      86,          1,         19,         19,2,20100131,       1401,   23.63548,  -44.73539,       4419,   251.3,  17.9061,  36.5189,  36.5195,2,   199.2,2,    1.81,2,    0.21,2,  -999.0,9,  -999.0,9,    4.55,2,     -999.0,9,     -999.0,9,     -999.0,9,     -999.0,9,    17.8626,     -999.0,9
  74DI20100106,        A05,      86,          1,         20,         20,2,20100131,       1401,   23.63548,  -44.73539,       4419,   177.2,  19.5495,  36.7424,  36.7355,2,   187.8,2,    1.23,2,    0.03,2,  2118.5,2,  2399.2,2,    1.65,2,     -999.0,1,     -999.0,1,     -999.0,1,     -999.0,1,    19.5170,     -999.0,1
  74DI20100106,        A05,      86,          1,         21,         21,2,20100131,       1401,   23.63548,  -44.73539,       4419,   100.8,  23.8645,  37.5033,  37.5038,2,   205.0,2,    0.97,2,    0.00,2,  -999.0,9,  -999.0,9,    0.00,2,     -999.0,9,     -999.0,9,     -999.0,9,     -999.0,9,    23.8432,     -999.0,9
  74DI20100106,        A05,      86,          1,         22,         22,10,20100131,       1401,   23.63548,  -44.73539,       4419,    51.1,  23.8636,  37.5037,  37.5036,2,   204.6,2,    0.94,2,    0.00,2,  2095.4,2,  2444.9,2,    0.00,2,     -999.0,1,     -999.0,1,     -999.0,1,     -999.0,1,    23.8527,     -999.0,1
  74DI20100106,        A05,      86,          1,         23,         23,2,20100131,       1401,   23.63548,  -44.73539,       4419,    10.5,  23.8583,  37.5049,  37.5045,2,   204.3,2,    0.91,2,    0.00,2,  2095.6,2,  2445.3,2,    0.00,2,     -999.0,1,     -999.0,1,     -999.0,1,     -999.0,1,    23.8561,     -999.0,1
  74DI20100106,        A05,      86,          1,         24,         24,2,20100131,       1401,   23.63548,  -44.73539,       4419,    10.4,  23.8584,  37.5047,-999.0000,9,  -999.0,9, -999.00,9, -999.00,9,  -999.0,9,  -999.0,9, -999.00,9,     -999.0,9,     -999.0,9,     -999.0,9,     -999.0,9,    23.8562,     -999.0,9