BOTTLE,20200115CCHSIOCBG
EXPOCODE,SECT_ID,STNNBR,CASTNO,SAMPNO,BTLNBR,BTLNBR_FLAG_W,DATE,TIME,LATITUDE,LONGITUDE,DEPTH,CTDPRS,CTDTMP,CTDSAL,SALNTY,SALNTY_FLAG_W,OXYGEN,OXYGEN_FLAG_W,SILCAT,SILCAT_FLAG_W,PHSPHT,PHSPHT_FLAG_W,TCARBN,TCARBN_FLAG_W,ALKALI,ALKALI_FLAG_W,NO2+NO3,NO2+NO3_FLAG_W,CFC-11,CFC-11_FLAG_W,CFC-12,CFC-12_FLAG_W,CFC113,CFC113_FLAG_W,CCL4,CCL4_FLAG_W,THETA,SF6,SF6_FLAG_W
,,,,,,,,,,,METERS,DBAR,ITS-90,PSS-78,PSS-78,,UMOL/KG,,UMOL/KG,,UMOL/KG,,UMOL/KG,,UMOL/KG,,UMOL/KG,,PMOL/L,,PMOL/L,,PMOL/L,,PMOL/L,,ITS-90,FMOL/L,
  74DI20100106,        A05,      16,          1,          1,          1,2,20100109,       0006,   26.53280,  -76.81624,       1689,  1606.7,   4.0197,  34.9754,  34.9754,2,   254.6,2,   13.30,2,    1.22,2,  -999.0,9,  -999.0,9,   18.22,2,     -999.0,1,     -999.0,1,     -999.0,1,     -999.0,1,     3.8895,     -999.0,1
  74DI20100106,        A05,      16,          1,          2,          2,2,20100109,       0006,   26.53280,  -76.81624,       1689,  1607.0,   4.0137,  34.9751,-999.0000,9,  -999.0,9, -999.00,9, -999.00,9,  -999.0,9,  -999.0,9, -999.00,9,     -999.0,9,     -999.0,9,     -999.0,9,     -999.0,9,     3.8835,     -999.0,9
  74DI20100106,        A05,      16,          1,          3,          3,2,20100109,       0006,   26.53280,  -76.81624,       1689,  1515.5,   4.1291,  34.9842,  34.9848,2,   254.7,2,   13.38,2,    1.21,2,  -999.0,9,  -999.0,9,   18.76,2,     -999.0,1,     -999.0,1,     -999.0,1,     -999.0,1,     4.0059,     -999.0,1
  74DI20100106,        A05,      16,          1,          5,          5,2,20100109,       0006,   26.53280,  -76.81624,       1689,  1262.8,   4.4077,  35.0013,  35.0005,2,   250.6,2,   13.11,2,    1.21,2,  -999.0,9,  -999.0,9,   18.92,2,     -999.0,1,     -999.0,1,     -999.0,1,     -999.0,1,     4.3047,     -999.0,1
  74DI20100106,        A05,      16,          1,          6,          6,2,20100109,       0006,   26.53280,  -76.81624,       1689,  1009.3,   5.4803,  35.0596,  35.0599,2,   222.4,2,   13.68,2,    1.32,2,  -999.0,9,  -999.0,9,   20.64,2,     -999.0,1,     -999.0,1,     -999.0,1,     -999.0,1,     5.3916,     -999.0,1
  74DI20100106,        A05,      16,          1,          8,          8,2,20100109,       0006,   26.53280,  -76.81624,       1689,   882.4,   7.7536,  35.1310,  35.1285,2,   163.2,2,   15.57,2,    1.56,2,  -999.0,9,  -999.0,9,   24.54,2,     -999.0,1,     -999.0,1,     -999.0,1,     -999.0,1,     7.6618,     -999.0,1
  74DI20100106,        A05,      16,          1,          9,          9,2,20100109,       0006,   26.53280,  -76.81624,       1689,   756.3,  10.3853,  35.3505,  35.3468,2,   143.5,2,   12.31,2,    1.43,2,  -999.0,9,  -999.0,9,   23.37,2,     -999.0,1,     -999.0,1,     -999.0,1,     -999.0,1,    10.2926,     -999.0,1
  74DI20100106,        A05,      16,          1,         11,         11,2,20100109,       0006,   26.53280,  -76.81624,       1689,   630.1,  13.2335,  35.7327,  35.7264,2,   155.0,2,    7.14,2,    1.02,2,  -999.0,9,  -999.0,9,   16.96,2,     -999.0,9,     -999.0,9,     -999.0,9,     -999.0,9,    13.1438,     -999.0,9
  74DI20100106,        A05,      16,          1,         12,         12,2,20100109,       0006,   26.53280,  -76.81624,       1689,   504.3,  15.9309,  36.1687,  36.1588,2,   173.3,2,    3.61,2,    0.57,2,  -999.0,9,  -999.0,9,   10.41,2,     -999.0,1,     -999.0,1,     -999.0,1,     -999.0,1,    15.8499,     -999.0,1
  74DI20100106,        A05,      16,          1,         14,         14,2,20100109,       0006,   26.53280,  -76.81624,       1689,   377.8,  17.7526,  36.4981,  36.5003,2,   192.8,2,    1.89,2,    0.25,2,  -999.0,9,  -999.0,9,    5.46,2,     -999.0,9,     -999.0,9,     -999.0,9,     -999.0,9,    17.6874,     -999.0,9
  74DI20100106,        A05,      16,          1,         15,         15,2,20100109,       0006,   26.53280,  -76.81624,       1689,   252.9,  18.9246,  36.6257,  36.6250,2,   191.9,2,    1.27,2,    0.10,2,  -999.0,9,  -999.0,9,    3.08,2,     -999.0,1,     -999.0,1,     -999.0,1,     -999.0,1,    18.8792,     -999.0,1
  74DI20100106,        A05,      16,          1,         17,         17,2,20100109,       0006,   26.53280,  -76.81624,       1689,   177.6,  20.8684,  36.8017,  36.8005,2,   187.3,2,    0.90,2,    0.01,2,  -999.0,9,  -999.0,9,    1.12,2,     -999.0,9,     -999.0,9,     -999.0,9,     -999.0,9,    20.8343,     -999.0,9
  74DI20100106,        A05,      16,          1,         18,         18,10,20100109,       0006,   26.53280,  -76.81624,       1689,   102.8,  23.2985,  36.7588,  36.7537,2,   205.5,2,    0.93,2,    0.00,2,  -999.0,9,  -999.0,9,    0.21,2,     -999.0,9,     -999.0,9,     -999.0,9,     -999.0,9,    23.2772,     -999.0,9
  74DI20100106,        A05,      16,          1,         19,         19,10,20100109,       0006,   26.53280,  -76.81624,       1689,   102.3,  23.2783,  36.7528,-999.0000,9,  -999.0,9, -999.00,9, -999.00,9,  -999.0,9,  -999.0,9, -999.00,9,     -999.0,9,     -999.0,9,     -999.0,9,     -999.0,9,    23.2571,     -999.0,9
  74DI20100106,        A05,      16,          1,         20,         20,2,20100109,       0006,   26.53280,  -76.81624,       1689,    77.1,  23.7187,  36.7106,  36.7090,2,   206.2,2,    1.04,2,    0.00,2,  -999.0,9,  -999.0,9,    0.00,2,     -999.0,9,     -999.0,9,     -999.0,9,     -999.0,9,    23.7025,     -999.0,9
  74DI20100106,        A05,      16,          1,         21,         21,2,20100109,       0006,   26.53280,  -76.81624,       1689,    51.8,  23.7144,  36.7103,  36.7105,2,   208.1,2,    0.98,2,    0.00,2,  -999.0,9,  -999.0,9,    0.01,2,     -999.0,9,     -999.0,9,     -999.0,9,     -999.0,9,    23.7036,     -999.0,9
  74DI20100106,        A05,      16,          1,         22,         22,2,20100109,       0006,   26.53280,  -76.81624,       1689,    26.9,  23.7047,  36.7095,  36.7089,2,   208.0,2,    1.04,2,    0.00,2,  -999.0,9,  -999.0,9,    0.01,2,     -999.0,9,     -999.0,9,     -999.0,9,     -999.0,9,    23.6990,     -999.0,9
  74DI20100106,        A05,      16,          1,         23,         23,2,20100109,       0006,   26.53280,  -76.81624,       1689,     6.8,  23.7027,  36.7108,  36.7103,2,   207.2,2,    1.01,2,    0.00,2,  -999.0,9,  -999.0,9,    0.02,2,     -999.0,1,     -999.0,1,     -999.0,1,     -999.0,1,    23.7013,     -999.0,1
  74DI20100106,        A05,      16,          1,         24,         24,10,20100109,       0006,   26.53280,  -76.81624,       1689,     6.9,  23.7036,  36.7106,-999.0000,9,  -999.0,9, -999.00,9, -999.00,9,  -999.0,9,  -999.0,9, -999.00,9,     -999.0,9,     -999.0,9,     -999.0,9,     -999.0,9,    23.7021,     -999.0,9
  74DI20100106,        A05,      17,          1,          1,          1,2,20100109,       0407,   26.50317,  -76.78211,       2289,  2307.7,   3.4738,  34.9515,  34.9520,2,   261.7,2,   15.98,2,    1.18,2,  2159.2,2,  2309.4,2,   18.06,2,     -999.0,1,     -999.0,1,     -999.0,1,     -999.0,1,     3.2845,     -999.0,1
  74DI20100106,        A05,      17,          1,          3,          3,2,20100109,       0407,   26.50317,  -76.78211,       2289,  2021.6,   3.6348,  34.9560,  34.9559,2,   264.5,2,   14.76,2,    1.18,2,  2157.6,2,  2308.4,2,   18.16,2,     -999.0,1,     -999.0,1,     -999.0,1,     -999.0,1,     3.4706,     -999.0,1
  74DI20100106,        A05,      17,          1,          5,          5,2,20100109,       0407,   26.50317,  -76.78211,       2289,  1767.6,   3.8241,  34.9656,  34.9653,2,   260.5,2,   14.03,2,    1.19,2,  -999.0,9,  -999.0,9,   18.28,2,     -999.0,9,     -999.0,9,     -999.0,9,     -999.0,9,     3.6814,     -999.0,9
  74DI20100106,        A05,      17,          1,          6,          6,2,20100109,       0407,   26.50317,  -76.78211,       2289,  1516.0,   3.9661,  34.9728,  34.9729,2,   259.5,2,   13.50,2,    1.19,2,  2159.3,2,  2307.4,2,   18.36,2,     -999.0,1,     -999.0,1,     -999.0,1,     -999.0,1,     3.8448,     -999.0,1
  74DI20100106,        A05,      17,          1,          8,          8,2,20100109,       0407,   26.50317,  -76.78211,       2289,  1262.3,   4.4692,  35.0014,  35.0031,2,   249.4,2,   12.66,2,    1.20,2,  -999.0,9,  -999.0,9,   18.73,2,     -999.0,9,     -999.0,9,     -999.0,9,     -999.0,9,     4.3657,     -999.0,9
  74DI20100106,        A05,      17,          1,          9,          9,2,20100109,       0407,   26.50317,  -76.78211,       2289,  1011.2,   5.6622,  35.0628,  35.0630,2,   216.9,2,   14.09,2,    1.34,2,  2174.5,2,  2313.8,2,   20.83,2,     -999.0,9,     -999.0,9,     -999.0,9,     -999.0,9,     5.5719,     -999.0,9
  74DI20100106,        A05,      17,          1,         11,         11,2,20100109,       0407,   26.50317,  -76.78211,       2289,   885.1,   7.4786,  35.1112,  35.1112,2,   167.2,2,   13.55,2,    1.48,2,  -999.0,9,  -999.0,9,   24.13,2,     -999.0,9,     -999.0,9,     -999.0,9,     -999.0,9,     7.3884,     -999.0,9
  74DI20100106,        A05,      17,          1,         12,         12,2,20100109,       0407,   26.50317,  -76.78211,       2289,   759.0,   9.9106,  35.2920,  35.2851,2,   142.1,2, -999.00,9, -999.00,9,  2181.9,2,  -999.0,9, -999.00,9,     -999.0,1,     -999.0,1,     -999.0,1,     -999.0,1,     9.8202,     -999.0,1
  74DI20100106,        A05,      17,          1,         14,         14,2,20100109,       0407,   26.50317,  -76.78211,       2289,   632.2,  12.8795,  35.6799,  35.6737,2,   150.1,2,    7.69,2,    1.07,2,  2164.4,2,  2338.6,2,   18.13,2,     -999.0,1,     -999.0,1,     -999.0,1,     -999.0,1,    12.7911,     -999.0,1
  74DI20100106,        A05,      17,          1,         15,         15,3,20100109,       0407,   26.50317,  -76.78211,       2289,   506.9,  16.1475,  36.2071,-999.0000,9,  -999.0,9, -999.00,9, -999.00,9,  -999.0,9,  -999.0,9, -999.00,9,     -999.0,9,     -999.0,9,     -999.0,9,     -999.0,9,    16.0654,     -999.0,9
  74DI20100106,        A05,      17,          1,         16,         16,2,20100109,       0407,   26.50317,  -76.78211,       2289,   381.2,  17.7695,  36.4992,  36.4957,2,   192.7,2,    1.93,2,    0.25,2,  -999.0,9,  -999.0,9,    5.59,2,     -999.0,9,     -999.0,9,     -999.0,9,     -999.0,9,    17.7037,     -999.0,9
  74DI20100106,        A05,      17,          1,         17,         17,2,20100109,       0407,   26.50317,  -76.78211,       2289,   255.2,  18.9367,  36.6314,  36.6282,2,   185.9,2,    1.34,2,    0.11,2,  2116.8,2,  2391.3,2,    3.38,2,     -999.0,1,     -999.0,1,     -999.0,1,     -999.0,1,    18.8908,     -999.0,1
  74DI20100106,        A05,      17,          1,         18,         18,2,20100109,       0407,   26.50317,  -76.78211,       2289,   179.7,  20.4933,  36.7598,  36.7548,2,   188.9,2,    0.98,2,    0.01,2,  -999.0,9,  -999.0,9,    1.23,2,     -999.0,9,     -999.0,9,     -999.0,9,     -999.0,9,    20.4591,     -999.0,9
  74DI20100106,        A05,      17,          1,         19,         19,3,20100109,       0407,   26.50317,  -76.78211,       2289,   104.4,  23.3425,  36.7166,-999.0000,9,  -999.0,9, -999.00,9, -999.00,9,  -999.0,9,  -999.0,9, -999.00,9,     -999.0,9,     -999.0,9,     -999.0,9,     -999.0,9,    23.3208,     -999.0,9
  74DI20100106,        A05,      17,          1,         20,         20,2,20100109,       0407,   26.50317,  -76.78211,       2289,    79.3,  23.5978,  36.7040,  36.7042,2,   204.7,2,    0.98,2,    0.00,2,  2054.1,2,  2390.9,2,    0.07,2,     -999.0,1,     -999.0,1,     -999.0,1,     -999.0,1,    23.5812,     -999.0,1
  74DI20100106,        A05,      17,          1,         21,         21,2,20100109,       0407,   26.50317,  -76.78211,       2289,    54.0,  23.6699,  36.7051,  36.7048,2,   206.0,2,    0.97,2,    0.00,2,  2049.6,2,  2391.1,2,    0.00,2,     -999.0,9,     -999.0,9,     -999.0,9,     -999.0,9,    23.6586,     -999.0,9
  74DI20100106,        A05,      17,          1,         22,         22,2,20100109,       0407,   26.50317,  -76.78211,       2289,    28.7,  23.6670,  36.7052,  36.7044,2,   206.0,2,    2.01,2,    0.00,2,  -999.0,9,  -999.0,9,    0.13,2,     -999.0,9,     -999.0,9,     -999.0,9,     -999.0,9,    23.6609,     -999.0,9
  74DI20100106,        A05,      17,          1,         23,         23,2,20100109,       0407,   26.50317,  -76.78211,       2289,     8.6,  23.6704,  36.7055,  36.7050,2,   206.5,2,    0.98,2,    0.00,2,  2050.4,2,  2390.8,2,    0.00,2,     -999.0,1,     -999.0,1,     -999.0,1,     -999.0,1,    23.6686,     -999.0,1
  74DI20100106,        A05,      17,          1,         24,         24,2,20100109,       0407,   26.50317,  -76.78211,       2289,     8.8,  23.6640,  36.7055,-999.0000,9,  -999.0,9, -999.00,9, -999.00,9,  -999.0,9,  -999.0,9, -999.00,9,     -999.0,9,     -999.0,9,     -999.0,9,     -999.0,9,    23.6621,     -999.0,9
  74DI20100106,        A05,      18,          1,          1,          1,2,20100109,       0737,   26.49876,  -76.80078,       1501,  1507.7,   4.0855,  34.9812,  34.9819,2,   254.9,2,   13.42,2,    1.20,2,  2162.6,2,  2308.9,2,   18.51,2,     -999.0,1,     -999.0,1,     -999.0,1,     -999.0,1,     3.9636,     -999.0,1
  74DI20100106,        A05,      18,          1,          3,          3,2,20100109,       0737,   26.49876,  -76.80078,       1501,  1265.3,   4.5072,  35.0031,  35.0038,2,   248.8,2,   12.82,2,    1.21,2,  2164.5,2,  2309.6,2,   18.93,2,     -999.0,1,     -999.0,1,     -999.0,1,     -999.0,1,     4.4030,     -999.0,1
  74DI20100106,        A05,      18,          1,          4,          4,2,20100109,       0737,   26.49876,  -76.80078,       1501,  1012.0,   5.6501,  35.0626,  35.0632,2,   219.9,2,   14.06,2,    1.35,2,  2177.8,2,  2315.4,2,   20.89,2,     -999.0,1,     -999.0,1,     -999.0,1,     -999.0,1,     5.5598,     -999.0,1
  74DI20100106,        A05,      18,          1,          6,          6,2,20100109,       0737,   26.49876,  -76.80078,       1501,   885.7,   7.4911,  35.1157,  35.1158,2,   170.1,2,   15.71,2,    1.55,2,  2189.1,2,  2316.5,2,   24.41,2,     -999.0,1,     -999.0,1,     -999.0,1,     -999.0,1,     7.4007,     -999.0,1
  74DI20100106,        A05,      18,          1,          8,          8,2,20100109,       0737,   26.49876,  -76.80078,       1501,   759.4,   9.6341,  35.2663,  35.2645,2,   145.2,2,   13.79,2,    1.52,2,  -999.0,9,  -999.0,9,   24.36,2,     -999.0,9,     -999.0,9,     -999.0,9,     -999.0,9,     9.5452,     -999.0,9
  74DI20100106,        A05,      18,          1,          9,          9,2,20100109,       0737,   26.49876,  -76.80078,       1501,   633.1,  12.8476,  35.6736,  35.6729,2,   151.3,2,    7.68,2,    1.06,2,  2164.2,2,  2337.9,2,   17.86,2,     -999.0,1,     -999.0,1,     -999.0,1,     -999.0,1,    12.7592,     -999.0,1
  74DI20100106,        A05,      18,          1,         11,         11,2,20100109,       0737,   26.49876,  -76.80078,       1501,   507.0,  15.7241,  36.1331,  36.1279,2,   174.5,2,    3.71,2,    0.60,2,  -999.0,9,  -999.0,9,   10.82,2,     -999.0,9,     -999.0,9,     -999.0,9,     -999.0,9,    15.6434,     -999.0,9
  74DI20100106,        A05,      18,          1,         12,         12,2,20100109,       0737,   26.49876,  -76.80078,       1501,   381.6,  17.6885,  36.4873,  36.4842,2,   193.8,2,    1.84,2,    0.27,2,  2119.3,2,  2381.9,2,    5.60,2,     -999.0,1,     -999.0,1,     -999.0,1,     -999.0,1,    17.6229,     -999.0,1
  74DI20100106,        A05,      18,          1,         14,         14,2,20100109,       0737,   26.49876,  -76.80078,       1501,   255.7,  18.8644,  36.6211,  36.6176,2,   193.2,2,    1.23,2,    0.13,2,  2112.8,2,  2390.9,2,    3.21,2,     -999.0,1,     -999.0,1,     -999.0,1,     -999.0,1,    18.8185,     -999.0,1
  74DI20100106,        A05,      18,          1,         15,         15,10,20100109,       0737,   26.49876,  -76.80078,       1501,   180.3,  20.1945,  36.7311,-999.0000,9,  -999.0,9, -999.00,9, -999.00,9,  -999.0,9,  -999.0,9, -999.00,9,     -999.0,9,     -999.0,9,     -999.0,9,     -999.0,9,    20.1606,     -999.0,9
  74DI20100106,        A05,      18,          1,         16,         16,10,20100109,       0737,   26.49876,  -76.80078,       1501,   180.2,  20.2065,  36.7324,-999.0000,9,  -999.0,9, -999.00,9, -999.00,9,  -999.0,9,  -999.0,9, -999.00,9,     -999.0,9,     -999.0,9,     -999.0,9,     -999.0,9,    20.1726,     -999.0,9
  74DI20100106,        A05,      18,          1,         17,         17,10,20100109,       0737,   26.49876,  -76.80078,       1501,   104.9,  23.6349,  36.7180,-999.0000,9,  -999.0,9, -999.00,9, -999.00,9,  -999.0,9,  -999.0,9, -999.00,9,     -999.0,9,     -999.0,9,     -999.0,9,     -999.0,9,    23.6129,     -999.0,9
  74DI20100106,        A05,      18,          1,         18,         18,10,20100109,       0737,   26.49876,  -76.80078,       1501,   104.9,  23.6315,  36.7187,-999.0000,9,  -999.0,9, -999.00,9, -999.00,9,  -999.0,9,  -999.0,9, -999.00,9,     -999.0,9,     -999.0,9,     -999.0,9,     -999.0,9,    23.6095,     -999.0,9
  74DI20100106,        A05,      18,          1,         19,         19,10,20100109,       0737,   26.49876,  -76.80078,       1501,    79.7,  23.7009,  36.7133,-999.0000,9,  -999.0,9, -999.00,9, -999.00,9,  -999.0,9,  -999.0,9, -999.00,9,     -999.0,9,     -999.0,9,     -999.0,9,     -999.0,9,    23.6842,     -999.0,9
  74DI20100106,        A05,      18,          1,         20,         20,10,20100109,       0737,   26.49876,  -76.80078,       1501,    54.5,  23.6980,  36.7137,-999.0000,9,  -999.0,9, -999.00,9, -999.00,9,  -999.0,9,  -999.0,9, -999.00,9,     -999.0,9,     -999.0,9,     -999.0,9,     -999.0,9,    23.6866,     -999.0,9
  74DI20100106,        A05,      18,          1,         21,         21,2,20100109,       0737,   26.49876,  -76.80078,       1501,    54.6,  23.6989,  36.7137,  36.7129,2,   208.9,2,    0.89,2,    0.00,2,  2052.0,2,  2393.8,2,    0.00,2,     -999.0,1,     -999.0,1,     -999.0,1,     -999.0,1,    23.6875,     -999.0,1
  74DI20100106,        A05,      18,          1,         22,         22,10,20100109,       0737,   26.49876,  -76.80078,       1501,    29.3,  23.6924,  36.7139,-999.0000,9,  -999.0,9, -999.00,9, -999.00,9,  -999.0,9,  -999.0,9, -999.00,9,     -999.0,9,     -999.0,9,     -999.0,9,     -999.0,9,    23.6863,     -999.0,9
  74DI20100106,        A05,      18,          1,         23,         23,2,20100109,       0737,   26.49876,  -76.80078,       1501,     9.1,  23.6870,  36.7139,  36.7132,2,   210.3,2,    0.89,2,    0.00,2,  2048.1,2,  2398.5,2,    0.00,2,     -999.0,1,     -999.0,1,     -999.0,1,     -999.0,1,    23.6851,     -999.0,1
  74DI20100106,        A05,      18,          1,         24,         24,10,20100109,       0737,   26.49876,  -76.80078,       1501,     9.2,  23.6876,  36.7134,-999.0000,9,  -999.0,9, -999.00,9, -999.00,9,  -999.0,9,  -999.0,9, -999.00,9,     -999.0,9,     -999.0,9,     -999.0,9,     -999.0,9,    23.6856,     -999.0,9