BOTTLE,20200115CCHSIOCBG
EXPOCODE,SECT_ID,STNNBR,CASTNO,SAMPNO,BTLNBR,BTLNBR_FLAG_W,DATE,TIME,LATITUDE,LONGITUDE,DEPTH,CTDPRS,CTDTMP,CTDSAL,SALNTY,SALNTY_FLAG_W,OXYGEN,OXYGEN_FLAG_W,SILCAT,SILCAT_FLAG_W,PHSPHT,PHSPHT_FLAG_W,TCARBN,TCARBN_FLAG_W,ALKALI,ALKALI_FLAG_W,NO2+NO3,NO2+NO3_FLAG_W,CFC-11,CFC-11_FLAG_W,CFC-12,CFC-12_FLAG_W,CFC113,CFC113_FLAG_W,CCL4,CCL4_FLAG_W,THETA,SF6,SF6_FLAG_W
,,,,,,,,,,,METERS,DBAR,ITS-90,PSS-78,PSS-78,,UMOL/KG,,UMOL/KG,,UMOL/KG,,UMOL/KG,,UMOL/KG,,UMOL/KG,,PMOL/L,,PMOL/L,,PMOL/L,,PMOL/L,,ITS-90,FMOL/L,
  74DI20100106,        A05,     121,          1,          1,         25,2,20100212,       1148,   25.54576,  -20.41844,       4284,  4342.6,   2.3868,  34.8912,  34.8918,2,   234.3,3,   49.61,2,    1.50,2,  -999.0,9,  -999.0,9,   23.45,2,     -999.0,1,     -999.0,1,     -999.0,1,     -999.0,1,     2.0019,     -999.0,1
  74DI20100106,        A05,     121,          1,          2,          2,2,20100212,       1148,   25.54576,  -20.41844,       4284,  4342.8,   2.3868,  34.8912,-999.0000,9,   237.1,2,   49.67,2,    1.51,2,  -999.0,9,  -999.0,9,   23.42,2,     -999.0,1,     -999.0,1,     -999.0,1,     -999.0,1,     2.0018,     -999.0,1
  74DI20100106,        A05,     121,          1,          3,          3,4,20100212,       1148,   25.54576,  -20.41844,       4284,  3814.7,   2.4560,  34.9041,  35.0533,4,   218.7,4,   27.99,3,    1.45,3,  -999.0,9,  -999.0,9,   22.48,3,     -999.0,1,     -999.0,1,     -999.0,1,     -999.0,1,     2.1300,     -999.0,1
  74DI20100106,        A05,     121,          1,          4,          4,2,20100212,       1148,   25.54576,  -20.41844,       4284,  3300.3,   2.6678,  34.9281,  34.9279,2,   231.0,2,   42.51,2,    1.48,2,  -999.0,9,  -999.0,9,   23.22,2,     -999.0,1,     -999.0,1,     -999.0,1,     -999.0,1,     2.3927,     -999.0,1
  74DI20100106,        A05,     121,          1,          5,          5,2,20100212,       1148,   25.54576,  -20.41844,       4284,  2790.2,   3.0292,  34.9625,  34.9625,2,   229.5,2,   36.81,2,    1.45,2,  2193.2,2,  2341.5,2,   22.58,2,     -999.0,1,     -999.0,1,     -999.0,1,     -999.0,1,     2.7995,     -999.0,1
  74DI20100106,        A05,     121,          1,          6,          6,2,20100212,       1148,   25.54576,  -20.41844,       4284,  2530.3,   3.2992,  34.9904,  34.9909,2,   226.2,2,   33.61,2,    1.45,2,  2191.6,2,  2336.9,2,   22.65,2,     -999.0,1,     -999.0,1,     -999.0,1,     -999.0,1,     3.0906,     -999.0,1
  74DI20100106,        A05,     121,          1,          7,          7,2,20100212,       1148,   25.54576,  -20.41844,       4284,  2275.3,   3.6667,  35.0262,  35.0270,2,   222.9,2,   29.76,2,    1.49,2,  -999.0,9,  -999.0,9,   22.45,2,     -999.0,1,     -999.0,1,     -999.0,1,     -999.0,1,     3.4771,     -999.0,1
  74DI20100106,        A05,     121,          1,          8,          8,2,20100212,       1148,   25.54576,  -20.41844,       4284,  2019.1,   4.0614,  35.0657,  35.0660,2,   216.9,2,   27.53,2,    1.45,2,  2190.8,2,  2333.8,2,   22.77,2,     -999.0,1,     -999.0,1,     -999.0,1,     -999.0,1,     3.8908,     -999.0,1
  74DI20100106,        A05,     121,          1,          9,          9,2,20100212,       1148,   25.54576,  -20.41844,       4284,  1762.0,   4.7996,  35.1444,  35.1450,2,   207.9,2,   24.10,2,    1.43,2,  -999.0,9,  -999.0,9,   22.62,2,     -999.0,1,     -999.0,1,     -999.0,1,     -999.0,1,     4.6441,     -999.0,1
  74DI20100106,        A05,     121,          1,         10,         10,2,20100212,       1148,   25.54576,  -20.41844,       4284,  1519.0,   5.7796,  35.2432,  35.2641,2,   190.1,2,   20.04,2,    1.50,2,  2194.6,2,  2333.5,2,   23.29,2,     -999.0,1,     -999.0,1,     -999.0,1,     -999.0,1,     5.6369,     -999.0,1
  74DI20100106,        A05,     121,          1,         11,         11,2,20100212,       1148,   25.54576,  -20.41844,       4284,  1268.0,   6.5073,  35.2441,  35.2436,2,   171.6,2,   19.88,2,    1.57,2,  -999.0,9,  -999.0,9,   24.77,2,     -999.0,1,     -999.0,1,     -999.0,1,     -999.0,1,     6.3836,     -999.0,1
  74DI20100106,        A05,     121,          1,         12,         12,2,20100212,       1148,   25.54576,  -20.41844,       4284,  1016.3,   7.4387,  35.2032,  35.2036,2,   141.0,2,   19.33,2,    1.72,2,  2209.7,2,  2325.0,2,   27.94,2,     -999.0,1,     -999.0,1,     -999.0,1,     -999.0,1,     7.3344,     -999.0,1
  74DI20100106,        A05,     121,          1,         13,         13,2,20100212,       1148,   25.54576,  -20.41844,       4284,   885.4,   8.1522,  35.2132,  35.2147,2,   125.9,2,   18.23,2,    1.77,2,  -999.0,9,  -999.0,9,   29.10,2,     -999.0,1,     -999.0,1,     -999.0,1,     -999.0,1,     8.0574,     -999.0,1
  74DI20100106,        A05,     121,          1,         14,         14,2,20100212,       1148,   25.54576,  -20.41844,       4284,   755.4,   8.9253,  35.2385,  35.2333,2,   108.0,2,   16.92,2,    1.80,2,  2214.9,2,  2318.7,2,   30.00,2,     -999.0,1,     -999.0,1,     -999.0,1,     -999.0,1,     8.8407,     -999.0,1
  74DI20100106,        A05,     121,          1,         15,         26,2,20100212,       1148,   25.54576,  -20.41844,       4284,   504.3,  12.6204,  35.7108,  35.7085,2,   147.0,2,    6.94,2,    1.07,2,  -999.0,9,  -999.0,9,   18.41,2,     -999.0,9,     -999.0,9,     -999.0,9,     -999.0,9,    12.5511,     -999.0,9
  74DI20100106,        A05,     121,          1,         16,         16,2,20100212,       1148,   25.54576,  -20.41844,       4284,   378.4,  14.7728,  36.0533,  36.0491,2,   176.0,2,    3.68,2,    0.62,2,  2151.7,2,  2355.5,2,   11.08,2,     -999.0,1,     -999.0,1,     -999.0,9,     -999.0,9,    14.7153,     -999.0,1
  74DI20100106,        A05,     121,          1,         17,         17,2,20100212,       1148,   25.54576,  -20.41844,       4284,   251.2,  16.5605,  36.2913,  36.2840,2,   134.0,2,    4.21,2,    0.79,2,  -999.0,9,  -999.0,9,   13.85,2,     -999.0,9,     -999.0,9,     -999.0,9,     -999.0,9,    16.5193,     -999.0,9
  74DI20100106,        A05,     121,          1,         18,         18,2,20100212,       1148,   25.54576,  -20.41844,       4284,  3558.7,   2.5456,  34.9146,-999.0000,9,  -999.0,9, -999.00,9, -999.00,9,  -999.0,9,  -999.0,9, -999.00,9,     -999.0,1,     -999.0,1,     -999.0,1,     -999.0,1,     2.2456,     -999.0,1
  74DI20100106,        A05,     121,          1,         19,         27,2,20100212,       1148,   25.54576,  -20.41844,       4284,   177.3,  18.3758,  36.7007,  36.6988,2,   181.9,2,    1.60,2,    0.29,2,  -999.0,9,  -999.0,9,    5.19,2,     -999.0,1,     -999.0,1,     -999.0,9,     -999.0,9,    18.3446,     -999.0,1
  74DI20100106,        A05,     121,          1,         20,         20,3,20100212,       1148,   25.54576,  -20.41844,       4284,    95.9,  21.6933,  36.9254,-999.0000,9,  -999.0,9, -999.00,9, -999.00,9,  -999.0,9,  -999.0,9, -999.00,9,     -999.0,9,     -999.0,9,     -999.0,9,     -999.0,9,    21.6744,     -999.0,9
  74DI20100106,        A05,     121,          1,         21,         21,2,20100212,       1148,   25.54576,  -20.41844,       4284,    97.2,  21.6995,  36.9260,  36.9311,2,   204.4,2,    0.83,2,    0.07,2,  2114.4,2,  2413.1,2,    0.94,2,     -999.0,1,     -999.0,1,     -999.0,9,     -999.0,9,    21.6803,     -999.0,1
  74DI20100106,        A05,     121,          1,         22,         22,2,20100212,       1148,   25.54576,  -20.41844,       4284,    51.0,  22.1403,  37.0061,  37.0075,2,   211.4,2,    0.63,2,    0.01,2,  2107.2,2,  2414.9,2,    0.06,2,     -999.0,9,     -999.0,9,     -999.0,9,     -999.0,9,    22.1301,     -999.0,9
  74DI20100106,        A05,     121,          1,         23,         23,2,20100212,       1148,   25.54576,  -20.41844,       4284,     4.7,  22.2262,  37.0072,  37.0078,2,   212.6,2,    0.60,2,    0.00,2,  -999.0,9,  -999.0,9,    0.08,2,     -999.0,1,     -999.0,1,     -999.0,9,     -999.0,9,    22.2253,     -999.0,1
  74DI20100106,        A05,     121,          1,         24,         24,2,20100212,       1148,   25.54576,  -20.41844,       4284,     4.4,  22.2206,  37.0071,  37.0076,2,   211.8,2,    0.68,2,    0.01,2,  2106.4,2,  2415.0,2,    0.16,2,     -999.0,1,     -999.0,1,     -999.0,1,     -999.0,1,    22.2197,     -999.0,1
  74DI20100106,        A05,     122,          1,          1,         25,2,20100212,       1824,   25.74256,  -19.79678,       3922,  3969.6,   2.3570,  34.8925,  34.8944,2,   236.6,2,   49.33,2,    1.51,2,  -999.0,9,  -999.0,9,   22.77,2,     -999.0,1,     -999.0,1,     -999.0,9,     -999.0,1,     2.0163,     -999.0,1
  74DI20100106,        A05,     122,          1,          2,          2,2,20100212,       1824,   25.74256,  -19.79678,       3922,  3969.6,   2.3568,  34.8925,  34.8933,2,   236.5,2,   49.65,2,    1.51,2,  -999.0,9,  -999.0,9,   22.57,2,     -999.0,9,     -999.0,9,     -999.0,9,     -999.0,9,     2.0161,     -999.0,9
  74DI20100106,        A05,     122,          1,          3,          3,4,20100212,       1824,   25.74256,  -19.79678,       3922,  3556.7,   2.4723,  34.9079,-999.0000,9,  -999.0,9, -999.00,9, -999.00,9,  -999.0,9,  -999.0,9, -999.00,9,     -999.0,9,     -999.0,9,     -999.0,9,     -999.0,9,     2.1744,     -999.0,9
  74DI20100106,        A05,     122,          1,          4,          4,2,20100212,       1824,   25.74256,  -19.79678,       3922,  3044.9,   2.7198,  34.9337,  34.9340,2,   228.0,2,   42.31,2,    1.50,2,  2197.7,2,  2345.8,2,   22.46,2,     -999.0,1,     -999.0,1,     -999.0,1,     -999.0,1,     2.4705,     -999.0,1
  74DI20100106,        A05,     122,          1,          5,          5,2,20100212,       1824,   25.74256,  -19.79678,       3922,  2534.8,   3.2429,  34.9858,  34.9859,2,   226.6,2,   34.11,2,    1.45,2,  -999.0,9,  -999.0,9,   21.96,2,     -999.0,1,     -999.0,1,     -999.0,1,     -999.0,1,     3.0348,     -999.0,9
  74DI20100106,        A05,     122,          1,          6,          6,2,20100212,       1824,   25.74256,  -19.79678,       3922,  2281.3,   3.5920,  35.0203,  35.0218,2,   222.7,2,   31.16,2,    1.45,2,  -999.0,9,  -999.0,9,   21.64,2,     -999.0,1,     -999.0,1,     -999.0,1,     -999.0,1,     3.4030,     -999.0,9
  74DI20100106,        A05,     122,          1,          7,          7,2,20100212,       1824,   25.74256,  -19.79678,       3922,  2027.7,   3.9900,  35.0599,  35.0601,2,   219.1,2,   27.61,2,    1.44,2,  2184.6,2,  2329.1,2,   21.50,2,     -999.0,1,     -999.0,1,     -999.0,1,     -999.0,1,     3.8196,     -999.0,9
  74DI20100106,        A05,     122,          1,          8,          8,2,20100212,       1824,   25.74256,  -19.79678,       3922,  1774.9,   4.6323,  35.1284,  35.1285,2,   209.9,2,   24.78,2,    1.44,2,  -999.0,9,  -999.0,9,   21.81,2,     -999.0,1,     -999.0,1,     -999.0,1,     -999.0,1,     4.4777,     -999.0,1
  74DI20100106,        A05,     122,          1,          9,          9,2,20100212,       1824,   25.74256,  -19.79678,       3922,  1522.0,   5.4297,  35.2100,  35.2103,2,   200.0,2,   21.48,2,    1.45,2,  2186.2,2,  2330.3,2,   21.95,2,     -999.0,9,     -999.0,9,     -999.0,9,     -999.0,9,     5.2907,     -999.0,9
  74DI20100106,        A05,     122,          1,         10,         10,2,20100212,       1824,   25.74256,  -19.79678,       3922,  1269.4,   6.6690,  35.3058,  35.3064,2,   177.4,2,   19.05,2,    1.49,2,  2194.7,2,  2335.0,2,   23.43,2,     -999.0,1,     -999.0,1,     -999.0,1,     -999.0,1,     6.5435,     -999.0,1
  74DI20100106,        A05,     122,          1,         11,         11,2,20100212,       1824,   25.74256,  -19.79678,       3922,  1016.3,   7.5066,  35.2684,  35.2712,2,   150.6,2,   18.26,2,    1.54,2,  2201.2,2,  2328.7,2,   25.32,2,     -999.0,1,     -999.0,1,     -999.0,1,     -999.0,1,     7.4016,     -999.0,1
  74DI20100106,        A05,     122,          1,         12,         12,3,20100212,       1824,   25.74256,  -19.79678,       3922,   883.3,   8.1567,  35.2675,-999.0000,9,  -999.0,9, -999.00,9, -999.00,9,  -999.0,9,  -999.0,9, -999.00,9,     -999.0,9,     -999.0,9,     -999.0,9,     -999.0,9,     8.0620,     -999.0,9
  74DI20100106,        A05,     122,          1,         13,         13,2,20100212,       1824,   25.74256,  -19.79678,       3922,   757.3,   9.3767,  35.3563,  35.3571,2,   131.0,2,   14.63,2,    1.57,2,  2198.1,2,  2323.5,2,   24.76,2,     -999.0,1,     -999.0,1,     -999.0,1,     -999.0,1,     9.2893,     -999.0,1
  74DI20100106,        A05,     122,          1,         14,         14,2,20100212,       1824,   25.74256,  -19.79678,       3922,   630.4,  10.7587,  35.4948,  35.4933,2,   140.5,2,   10.57,2,    1.33,2,  2188.0,2,  2329.7,2,   21.78,2,     -999.0,1,     -999.0,1,     -999.0,1,     -999.0,1,    10.6801,     -999.0,1
  74DI20100106,        A05,     122,          1,         15,         26,2,20100212,       1824,   25.74256,  -19.79678,       3922,   504.4,  12.1576,  35.6730,  35.6668,2,   166.8,2,    6.83,2,    0.99,2,  -999.0,9,  -999.0,9,   16.51,2,     -999.0,9,     -999.0,9,     -999.0,9,     -999.0,9,    12.0900,     -999.0,9
  74DI20100106,        A05,     122,          1,         16,         16,2,20100212,       1824,   25.74256,  -19.79678,       3922,   377.2,  13.9356,  35.9261,  35.9301,2,   180.1,2,    4.25,2,    0.68,2,  2150.0,2,  2350.8,2,   11.70,2,     -999.0,1,     -999.0,1,     -999.0,1,     -999.0,1,    13.8805,     -999.0,1
  74DI20100106,        A05,     122,          1,         17,         17,2,20100212,       1824,   25.74256,  -19.79678,       3922,   252.2,  16.2527,  36.3423,  36.3521,2,   192.7,2,    2.30,2,    0.39,2,  -999.0,9,  -999.0,9,    6.47,2,     -999.0,9,     -999.0,9,     -999.0,9,     -999.0,9,    16.2118,     -999.0,9
  74DI20100106,        A05,     122,          1,         18,         18,2,20100212,       1824,   25.74256,  -19.79678,       3922,   176.1,  18.0230,  36.6586,  36.6614,2,   200.3,2,    1.23,2,    0.18,2,  2129.8,2,  2394.3,2,    2.93,2,     -999.0,1,     -999.0,1,     -999.0,1,     -999.0,1,    17.9924,     -999.0,1
  74DI20100106,        A05,     122,          1,         19,         27,2,20100212,       1824,   25.74256,  -19.79678,       3922,   119.1,  18.9645,  36.7137,  36.7134,2,   209.0,2,    0.92,2,    0.07,2,  -999.0,9,  -999.0,9,    1.25,2,     -999.0,9,     -999.0,9,     -999.0,9,     -999.0,9,    18.9431,     -999.0,9
  74DI20100106,        A05,     122,          1,         20,         20,2,20100212,       1824,   25.74256,  -19.79678,       3922,    75.9,  21.3076,  37.0169,  37.0190,2,   214.8,2,    0.68,2,    0.00,2,  2105.4,2,  2418.2,2,    0.07,2,     -999.0,9,     -999.0,9,     -999.0,9,     -999.0,9,    21.2928,     -999.0,9
  74DI20100106,        A05,     122,          1,         21,         21,2,20100212,       1824,   25.74256,  -19.79678,       3922,    50.3,  21.3762,  37.0157,  37.0177,2,   214.4,2,    0.61,2,    0.02,2,  2104.3,2,  2416.8,2,    1.47,2,     -999.0,1,     -999.0,1,     -999.0,1,     -999.0,1,    21.3663,     -999.0,1
  74DI20100106,        A05,     122,          1,         22,         22,3,20100212,       1824,   25.74256,  -19.79678,       3922,    25.5,  21.6132,  37.0150,-999.0000,9,   215.0,3, -999.00,9, -999.00,9,  -999.0,9,  -999.0,9, -999.00,9,     -999.0,9,     -999.0,9,     -999.0,9,     -999.0,9,    21.6081,     -999.0,9
  74DI20100106,        A05,     122,          1,         23,         23,2,20100212,       1824,   25.74256,  -19.79678,       3922,     5.5,  21.9782,  36.9689,  36.9714,2,   213.0,2,    0.63,2,    0.03,2,  2102.9,2,  2415.4,2,    0.05,2,     -999.0,1,     -999.0,1,     -999.0,1,     -999.0,1,    21.9771,     -999.0,1
  74DI20100106,        A05,     122,          1,         24,         24,2,20100212,       1824,   25.74256,  -19.79678,       3922,     4.9,  22.0383,  36.9689,  36.9702,2,   213.6,2,    0.65,2,    0.03,2,  -999.0,9,  -999.0,9,    0.05,2,     -999.0,9,     -999.0,9,     -999.0,9,     -999.0,9,    22.0373,     -999.0,9