BOTTLE,20200115CCHSIOCBG
EXPOCODE,SECT_ID,STNNBR,CASTNO,SAMPNO,BTLNBR,BTLNBR_FLAG_W,DATE,TIME,LATITUDE,LONGITUDE,DEPTH,CTDPRS,CTDTMP,CTDSAL,SALNTY,SALNTY_FLAG_W,OXYGEN,OXYGEN_FLAG_W,SILCAT,SILCAT_FLAG_W,PHSPHT,PHSPHT_FLAG_W,TCARBN,TCARBN_FLAG_W,ALKALI,ALKALI_FLAG_W,NO2+NO3,NO2+NO3_FLAG_W,CFC-11,CFC-11_FLAG_W,CFC-12,CFC-12_FLAG_W,CFC113,CFC113_FLAG_W,CCL4,CCL4_FLAG_W,THETA,SF6,SF6_FLAG_W
,,,,,,,,,,,METERS,DBAR,ITS-90,PSS-78,PSS-78,,UMOL/KG,,UMOL/KG,,UMOL/KG,,UMOL/KG,,UMOL/KG,,UMOL/KG,,PMOL/L,,PMOL/L,,PMOL/L,,PMOL/L,,ITS-90,FMOL/L,
  74DI20100106,        A05,     117,          1,          1,         25,2,20100211,       0821,   24.71421,  -22.88416,       4910,  4987.0,   2.4218,  34.8874,  34.8880,2,   239.1,2,   49.46,2,    1.50,2,  -999.0,9,  -999.0,9,   23.05,2,     -999.0,1,     -999.0,1,     -999.0,1,     -999.0,1,     1.9567,     -999.0,1
  74DI20100106,        A05,     117,          1,          2,          2,2,20100211,       0821,   24.71421,  -22.88416,       4910,  4987.3,   2.4216,  34.8875,  34.8870,2,   239.1,2,   49.18,2,    1.50,2,  -999.0,9,  -999.0,9,   23.30,2,     -999.0,1,     -999.0,1,     -999.0,9,     -999.0,9,     1.9565,     -999.0,1
  74DI20100106,        A05,     117,          1,          3,          3,2,20100211,       0821,   24.71421,  -22.88416,       4910,  4840.1,   2.4038,  34.8878,  34.9168,2,   237.5,2,   42.47,3,    1.45,3,  2195.0,2,  2344.3,2,   22.52,2,     -999.0,1,     -999.0,1,     -999.0,1,     -999.0,1,     1.9578,     -999.0,1
  74DI20100106,        A05,     117,          1,          4,          4,2,20100211,       0821,   24.71421,  -22.88416,       4910,  4327.2,   2.3626,  34.8901,  34.8899,2,   239.1,2,   48.52,2,    1.50,2,  -999.0,9,  -999.0,9,   22.90,2,     -999.0,1,     -999.0,1,     -999.0,1,     -999.0,1,     1.9802,     -999.0,1
  74DI20100106,        A05,     117,          1,          5,          5,2,20100211,       0821,   24.71421,  -22.88416,       4910,  3814.4,   2.4225,  34.9021,  34.9012,2,   239.4,2,   45.59,2,    1.47,2,  -999.0,9,  -999.0,9,   22.35,2,     -999.0,1,     -999.0,1,     -999.0,1,     -999.0,1,     2.0974,     -999.0,1
  74DI20100106,        A05,     117,          1,          6,          6,2,20100211,       0821,   24.71421,  -22.88416,       4910,  3295.8,   2.5827,  34.9229,  34.9219,2,   236.3,2,   42.03,2,    1.46,2,  -999.0,9,  -999.0,9,   22.44,2,     -999.0,1,     -999.0,1,     -999.0,1,     -999.0,1,     2.3101,     -999.0,1
  74DI20100106,        A05,     117,          1,          7,          7,2,20100211,       0821,   24.71421,  -22.88416,       4910,  2785.0,   2.9352,  34.9582,  34.9581,2,   238.8,2,   33.60,2,    1.38,2,  -999.0,9,  -999.0,9,   21.38,2,     -999.0,1,     -999.0,1,     -999.0,1,     -999.0,1,     2.7080,     -999.0,1
  74DI20100106,        A05,     117,          1,          8,          8,10,20100211,       0821,   24.71421,  -22.88416,       4910,  2529.9,   3.2690,  34.9893,  34.9886,2,   234.6,2,   30.30,2,    1.39,2,  -999.0,9,  -999.0,9,   21.59,2,     -999.0,1,     -999.0,1,     -999.0,1,     -999.0,1,     3.0610,     -999.0,1
  74DI20100106,        A05,     117,          1,          9,          9,2,20100211,       0821,   24.71421,  -22.88416,       4910,  2275.4,   3.5541,  35.0107,  35.0094,2,   227.0,2,   28.23,2,    1.41,2,  -999.0,9,  -999.0,9,   21.70,2,     -999.0,1,     -999.0,1,     -999.0,1,     -999.0,1,     3.3663,     -999.0,1
  74DI20100106,        A05,     117,          1,         10,         10,2,20100211,       0821,   24.71421,  -22.88416,       4910,  2022.1,   3.9660,  35.0551,  35.0539,2,   223.7,2,   25.18,2,    1.41,2,  -999.0,9,  -999.0,9,   21.64,2,     -999.0,1,     -999.0,1,     -999.0,1,     -999.0,1,     3.7965,     -999.0,1
  74DI20100106,        A05,     117,          1,         11,         11,2,20100211,       0821,   24.71421,  -22.88416,       4910,  1767.3,   4.6571,  35.1203,  35.1199,2,   208.1,2,   23.75,2,    1.44,2,  -999.0,9,  -999.0,9,   22.22,2,     -999.0,9,     -999.0,9,     -999.0,9,     -999.0,9,     4.5030,     -999.0,9
  74DI20100106,        A05,     117,          1,         12,         12,3,20100211,       0821,   24.71421,  -22.88416,       4910,  1512.0,   5.5337,  35.1999,-999.0000,9,  -999.0,9,   18.81,3,    1.52,3,  -999.0,9,  -999.0,9,   24.06,3,     -999.0,9,     -999.0,9,     -999.0,9,     -999.0,9,     5.3946,     -999.0,9
  74DI20100106,        A05,     117,          1,         13,         13,2,20100211,       0821,   24.71421,  -22.88416,       4910,  1256.8,   6.7414,  35.2765,  35.2764,2,   171.1,2,   18.76,2,    1.52,2,  -999.0,9,  -999.0,9,   24.15,2,     -999.0,1,     -999.0,1,     -999.0,1,     -999.0,1,     6.6166,     -999.0,1
  74DI20100106,        A05,     117,          1,         14,         14,4,20100211,       0821,   24.71421,  -22.88416,       4910,  1010.8,   7.3356,  35.1900,  35.1662,3,   124.1,4,   19.14,3,    1.82,3,  -999.0,9,  -999.0,9,   29.20,3,     -999.0,1,     -999.0,1,     -999.0,1,     -999.0,1,     7.2326,     -999.0,1
  74DI20100106,        A05,     117,          1,         15,         26,2,20100211,       0821,   24.71421,  -22.88416,       4910,   885.4,   7.8096,  35.1664,  35.1656,2,   123.6,2,   19.00,2,    1.81,2,  -999.0,9,  -999.0,9,   29.25,2,     -999.0,9,     -999.0,9,     -999.0,9,     -999.0,9,     7.7170,     -999.0,9
  74DI20100106,        A05,     117,          1,         16,         16,2,20100211,       0821,   24.71421,  -22.88416,       4910,   754.6,   9.2871,  35.3213,  35.3210,2,   123.7,2,   14.93,2,    1.64,2,  -999.0,9,  -999.0,9,   26.84,2,     -999.0,9,     -999.0,9,     -999.0,9,     -999.0,9,     9.2006,     -999.0,9
  74DI20100106,        A05,     117,          1,         17,         17,10,20100211,       0821,   24.71421,  -22.88416,       4910,   629.1,  10.7549,  35.4761,  35.4757,2,   129.2,2,   11.02,2,    1.40,2,  -999.0,9,  -999.0,9,   23.72,2,     -999.0,9,     -999.0,9,     -999.0,9,     -999.0,9,    10.6765,     -999.0,9
  74DI20100106,        A05,     117,          1,         18,         18,10,20100211,       0821,   24.71421,  -22.88416,       4910,   504.5,  12.1430,  35.6293,  35.6263,2,   127.0,2,    8.38,2,    1.25,2,  -999.0,9,  -999.0,9,   21.52,2,     -999.0,9,     -999.0,9,     -999.0,9,     -999.0,9,    12.0754,     -999.0,9
  74DI20100106,        A05,     117,          1,         19,         27,2,20100211,       0821,   24.71421,  -22.88416,       4910,   379.9,  14.0840,  35.9220,  35.9219,2,   153.0,2,    4.92,2,    0.84,2,  -999.0,9,  -999.0,9,   14.93,2,     -999.0,9,     -999.0,9,     -999.0,9,     -999.0,9,    14.0281,     -999.0,9
  74DI20100106,        A05,     117,          1,         20,         20,2,20100211,       0821,   24.71421,  -22.88416,       4910,   255.3,  16.6452,  36.3886,  36.3850,2,   178.3,2,    2.48,2,    0.47,2,  -999.0,9,  -999.0,9,    8.04,2,     -999.0,9,     -999.0,9,     -999.0,9,     -999.0,9,    16.6032,     -999.0,9
  74DI20100106,        A05,     117,          1,         21,         21,10,20100211,       0821,   24.71421,  -22.88416,       4910,   175.9,  18.7063,  36.8022,  36.8175,2,   191.6,2,    1.18,2,    0.19,2,  -999.0,9,  -999.0,9,    3.22,2,     -999.0,9,     -999.0,9,     -999.0,9,     -999.0,9,    18.6750,     -999.0,9
  74DI20100106,        A05,     117,          1,         22,         22,2,20100211,       0821,   24.71421,  -22.88416,       4910,   111.6,  21.9288,  37.1367,  37.1420,2,   205.4,2,    0.67,2,    0.03,2,  -999.0,9,  -999.0,9,    0.45,2,     -999.0,9,     -999.0,9,     -999.0,9,     -999.0,9,    21.9065,     -999.0,9
  74DI20100106,        A05,     117,          1,         23,         23,2,20100211,       0821,   24.71421,  -22.88416,       4910,    49.8,  22.4152,  37.0787,  37.0799,2,   209.5,2,    0.56,2,    0.02,2,  -999.0,9,  -999.0,9,    0.00,2,     -999.0,9,     -999.0,9,     -999.0,9,     -999.0,9,    22.4051,     -999.0,9
  74DI20100106,        A05,     117,          1,         24,         24,2,20100211,       0821,   24.71421,  -22.88416,       4910,     3.9,  22.4121,  37.0796,  37.0799,2,   210.4,2,    0.56,2,    0.03,2,  -999.0,9,  -999.0,9,    0.00,2,     -999.0,1,     -999.0,1,     -999.0,1,     -999.0,1,    22.4113,     -999.0,1
  74DI20100106,        A05,     118,          1,          1,         25,2,20100211,       1537,   24.91868,  -22.26560,       4767,  4839.2,   2.4114,  34.8879,  34.8898,2,   240.1,2,   49.18,2,    1.52,2,  -999.0,9,  -999.0,9,   22.84,2,     -999.0,1,     -999.0,1,     -999.0,1,     -999.0,1,     1.9652,     -999.0,1
  74DI20100106,        A05,     118,          1,          2,          2,2,20100211,       1537,   24.91868,  -22.26560,       4767,  4840.4,   2.4115,  34.8881,  34.8877,2,   238.7,2,   49.24,2,    1.51,2,  -999.0,9,  -999.0,9,   22.84,2,     -999.0,1,     -999.0,1,     -999.0,1,     -999.0,1,     1.9652,     -999.0,1
  74DI20100106,        A05,     118,          1,          3,          3,2,20100211,       1537,   24.91868,  -22.26560,       4767,  4072.0,   2.3739,  34.8943,  34.8952,2,  -999.0,9,   47.73,2,    1.50,2,  -999.0,9,  -999.0,9,   22.74,2,     -999.0,9,     -999.0,9,     -999.0,9,     -999.0,9,     2.0209,     -999.0,9
  74DI20100106,        A05,     118,          1,          4,          4,2,20100211,       1537,   24.91868,  -22.26560,       4767,  4072.1,   2.3738,  34.8945,  34.8940,2,   239.2,2,   47.26,2,    1.49,2,  2198.3,2,  2347.8,2,   22.74,2,     -999.0,1,     -999.0,1,     -999.0,1,     -999.0,1,     2.0208,     -999.0,1
  74DI20100106,        A05,     118,          1,          5,          5,2,20100211,       1537,   24.91868,  -22.26560,       4767,  3549.6,   2.4790,  34.9104,  34.9113,2,   238.7,2,   44.02,2,    1.45,2,  2198.4,2,  2346.9,2,   22.35,2,     -999.0,1,     -999.0,1,     -999.0,1,     -999.0,1,     2.1818,     -999.0,1
  74DI20100106,        A05,     118,          1,          6,          6,2,20100211,       1537,   24.91868,  -22.26560,       4767,  3037.6,   2.7381,  34.9390,  34.9394,2,   236.3,2,   38.21,2,    1.44,2,  2193.6,2,  2341.9,2,   22.05,2,     -999.0,1,     -999.0,1,     -999.0,1,     -999.0,1,     2.4891,     -999.0,1
  74DI20100106,        A05,     118,          1,          7,          7,2,20100211,       1537,   24.91868,  -22.26560,       4767,  2529.8,   3.2423,  34.9854,  34.9862,2,   231.1,2,   31.80,2,    1.46,2,  2187.5,2,  2334.2,2,   21.86,2,     -999.0,1,     -999.0,1,     -999.0,1,     -999.0,1,     3.0348,     -999.0,1
  74DI20100106,        A05,     118,          1,          8,          8,10,20100211,       1537,   24.91868,  -22.26560,       4767,  2276.2,   3.5394,  35.0111,  35.0122,2,   225.9,2,   29.71,2,    1.48,2,  -999.0,9,  -999.0,9,   21.96,2,     -999.0,1,     -999.0,1,     -999.0,1,     -999.0,1,     3.3518,     -999.0,1
  74DI20100106,        A05,     118,          1,          9,          9,2,20100211,       1537,   24.91868,  -22.26560,       4767,  2021.2,   3.9419,  35.0496,  35.0504,2,  -999.0,9,   27.76,2,    1.48,2,  2185.2,2,  2330.2,2,   22.44,2,     -999.0,1,     -999.0,1,     -999.0,1,     -999.0,1,     3.7729,     -999.0,1
  74DI20100106,        A05,     118,          1,         10,         10,2,20100211,       1537,   24.91868,  -22.26560,       4767,  1768.2,   4.5407,  35.1074,  35.1079,2,   208.6,2,   24.90,2,    1.59,2,  -999.0,9,  -999.0,9,   22.44,2,     -999.0,1,     -999.0,1,     -999.0,1,     -999.0,1,     4.3881,     -999.0,1
  74DI20100106,        A05,     118,          1,         11,         11,3,20100211,       1537,   24.91868,  -22.26560,       4767,  1514.3,   5.5134,  35.2020,-999.0000,9,  -999.0,9, -999.00,9, -999.00,9,  -999.0,9,  -999.0,9, -999.00,9,     -999.0,9,     -999.0,9,     -999.0,9,     -999.0,9,     5.3743,     -999.0,9
  74DI20100106,        A05,     118,          1,         12,         12,2,20100211,       1537,   24.91868,  -22.26560,       4767,  1259.7,   6.6921,  35.2680,  35.2682,2,   171.5,2,   19.46,2,    1.64,2,  2198.3,2,  2330.9,2,   24.68,2,     -999.0,1,     -999.0,1,     -999.0,1,     -999.0,1,     6.5675,     -999.0,1
  74DI20100106,        A05,     118,          1,         13,         13,2,20100211,       1537,   24.91868,  -22.26560,       4767,  1007.6,   7.3083,  35.1871,  35.1875,2,   141.9,2,   19.43,2,    1.79,2,  2207.3,2,  2324.6,2,   27.71,2,     -999.0,1,     -999.0,1,     -999.0,1,     -999.0,1,     7.2059,     -999.0,1
  74DI20100106,        A05,     118,          1,         14,         14,2,20100211,       1537,   24.91868,  -22.26560,       4767,   880.6,   8.0477,  35.2061,  35.2089,2,   126.1,2,   18.31,2,    1.72,2,  2211.0,2,  2321.7,2,   28.59,2,     -999.0,1,     -999.0,1,     -999.0,1,     -999.0,1,     7.9541,     -999.0,1
  74DI20100106,        A05,     118,          1,         15,         26,2,20100211,       1537,   24.91868,  -22.26560,       4767,   755.9,   9.1606,  35.3012,  35.3007,2,   121.6,2,   15.52,2,    1.47,2,  -999.0,9,  -999.0,9,   27.41,2,     -999.0,1,     -999.0,1,     -999.0,1,     -999.0,1,     9.0747,     -999.0,9
  74DI20100106,        A05,     118,          1,         16,         16,2,20100211,       1537,   24.91868,  -22.26560,       4767,   629.7,  10.4204,  35.4347,  35.4347,2,   127.8,2,   11.88,2,    1.07,2,  2200.6,2,  2326.3,2,   24.39,2,     -999.0,1,     -999.0,1,     -999.0,9,     -999.0,9,    10.3435,     -999.0,9
  74DI20100106,        A05,     118,          1,         17,         17,2,20100211,       1537,   24.91868,  -22.26560,       4767,   502.9,  12.1559,  35.6529,  35.6541,2,   152.5,2,    7.19,2,    0.68,2,  -999.0,9,  -999.0,9,   18.43,2,     -999.0,9,     -999.0,9,     -999.0,9,     -999.0,9,    12.0885,     -999.0,9
  74DI20100106,        A05,     118,          1,         18,         18,2,20100211,       1537,   24.91868,  -22.26560,       4767,   378.9,  14.0859,  35.9391,  35.9406,2,   179.4,2,    4.03,2,    0.58,2,  2151.3,2,  2350.1,2,   11.70,2,     -999.0,1,     -999.0,1,     -999.0,1,     -999.0,1,    14.0301,     -999.0,1
  74DI20100106,        A05,     118,          1,         19,         27,2,20100211,       1537,   24.91868,  -22.26560,       4767,   254.3,  15.9733,  36.2524,  36.2532,2,   169.3,2,    3.15,2,    0.53,2,  -999.0,9,  -999.0,9,    9.65,2,     -999.0,9,     -999.0,9,     -999.0,9,     -999.0,9,    15.9327,     -999.0,9
  74DI20100106,        A05,     118,          1,         20,         20,2,20100211,       1537,   24.91868,  -22.26560,       4767,   178.6,  17.4325,  36.4959,  36.5014,2,   160.7,2,    2.78,2,    0.53,2,  2160.6,2,  2382.7,2,    8.87,2,     -999.0,1,     -999.0,1,     -999.0,1,     -999.0,1,    17.4022,     -999.0,1
  74DI20100106,        A05,     118,          1,         21,         21,2,20100211,       1537,   24.91868,  -22.26560,       4767,   101.7,  19.2221,  36.5391,  36.5424,2,   163.1,2,    2.28,2,    0.10,2,  -999.0,9,  -999.0,9,    7.99,2,     -999.0,9,     -999.0,9,     -999.0,9,     -999.0,9,    19.2036,     -999.0,9
  74DI20100106,        A05,     118,          1,         22,         22,2,20100211,       1537,   24.91868,  -22.26560,       4767,    75.8,  21.6994,  36.8510,  36.8547,2,   204.1,2,    0.85,2,    0.04,2,  2114.5,2,  2405.3,2,    0.97,2,     -999.0,1,     -999.0,1,     -999.0,1,     -999.0,1,    21.6845,     -999.0,1
  74DI20100106,        A05,     118,          1,         23,         23,2,20100211,       1537,   24.91868,  -22.26560,       4767,    50.4,  21.9712,  36.8838,  36.8856,2,   212.7,2,    0.70,2,    0.04,2,  -999.0,9,  -999.0,9,    0.00,2,     -999.0,9,     -999.0,9,     -999.0,9,     -999.0,9,    21.9611,     -999.0,9
  74DI20100106,        A05,     118,          1,         24,         24,10,20100211,       1537,   24.91868,  -22.26560,       4767,     5.0,  22.0679,  36.8812,  36.8828,2,   213.9,2,    0.74,2,    0.85,3,  2101.2,2,  2407.4,2,    0.00,2,     -999.0,1,     -999.0,1,     -999.0,1,     -999.0,1,    22.0669,     -999.0,1