BOTTLE,20200115CCHSIOCBG
EXPOCODE,SECT_ID,STNNBR,CASTNO,SAMPNO,BTLNBR,BTLNBR_FLAG_W,DATE,TIME,LATITUDE,LONGITUDE,DEPTH,CTDPRS,CTDTMP,CTDSAL,SALNTY,SALNTY_FLAG_W,OXYGEN,OXYGEN_FLAG_W,SILCAT,SILCAT_FLAG_W,PHSPHT,PHSPHT_FLAG_W,TCARBN,TCARBN_FLAG_W,ALKALI,ALKALI_FLAG_W,NO2+NO3,NO2+NO3_FLAG_W,CFC-11,CFC-11_FLAG_W,CFC-12,CFC-12_FLAG_W,CFC113,CFC113_FLAG_W,CCL4,CCL4_FLAG_W,THETA,SF6,SF6_FLAG_W
,,,,,,,,,,,METERS,DBAR,ITS-90,PSS-78,PSS-78,,UMOL/KG,,UMOL/KG,,UMOL/KG,,UMOL/KG,,UMOL/KG,,UMOL/KG,,PMOL/L,,PMOL/L,,PMOL/L,,PMOL/L,,ITS-90,FMOL/L,
  74DI20100106,        A05,       4,          1,          1,          1,3,20100107,       0815,   27.35178,  -79.75482,        407,   397.2,   8.5358,  35.0500,-999.0000,9,  -999.0,9, -999.00,9, -999.00,9,  -999.0,9,  -999.0,9, -999.00,9,     -999.0,9,     -999.0,9,     -999.0,9,     -999.0,9,     8.4935,     -999.0,9
  74DI20100106,        A05,       4,          1,          2,          2,2,20100107,       0815,   27.35178,  -79.75482,        407,   397.7,   8.5325,  35.0494,  35.0499,2,   123.3,2, -999.00,9,    1.86,2,  2202.4,2,  -999.0,9,   29.24,2,     -999.0,1,     -999.0,1,     -999.0,9,     -999.0,9,     8.4901,     -999.0,1
  74DI20100106,        A05,       4,          1,          5,          5,2,20100107,       0815,   27.35178,  -79.75482,        407,   302.3,  12.9744,  35.6272,  35.6293,2,   125.2,2, -999.00,9,    1.28,2,  2178.0,2,  -999.0,9,   21.47,2,     -999.0,1,     -999.0,1,     -999.0,9,     -999.0,9,    12.9324,     -999.0,1
  74DI20100106,        A05,       4,          1,          9,          9,2,20100107,       0815,   27.35178,  -79.75482,        407,   203.2,  17.6225,  36.3378,  36.3463,2,   137.4,2, -999.00,9,    0.63,2,  2156.4,2,  -999.0,9,   12.14,2,     -999.0,1,     -999.0,1,     -999.0,9,     -999.0,9,    17.5878,     -999.0,1
  74DI20100106,        A05,       4,          1,         13,         13,2,20100107,       0815,   27.35178,  -79.75482,        407,   101.9,  23.7608,  36.3893,  36.3906,2,   198.7,2, -999.00,9,    0.00,2,  2054.2,2,  -999.0,9,    0.03,2,     -999.0,9,     -999.0,9,     -999.0,9,     -999.0,9,    23.7394,     -999.0,9
  74DI20100106,        A05,       4,          1,         15,         15,3,20100107,       0815,   27.35178,  -79.75482,        407,   102.6,  23.7625,  36.3893,-999.0000,9,  -999.0,9, -999.00,9, -999.00,9,  -999.0,9,  -999.0,9, -999.00,9,     -999.0,9,     -999.0,9,     -999.0,9,     -999.0,9,    23.7409,     -999.0,9
  74DI20100106,        A05,       4,          1,         16,         16,3,20100107,       0815,   27.35178,  -79.75482,        407,   102.2,  23.7622,  36.3893,-999.0000,9,  -999.0,9, -999.00,9, -999.00,9,  -999.0,9,  -999.0,9, -999.00,9,     -999.0,9,     -999.0,9,     -999.0,9,     -999.0,9,    23.7408,     -999.0,9
  74DI20100106,        A05,       4,          1,         17,         17,10,20100107,       0815,   27.35178,  -79.75482,        407,    52.2,  24.3913,  36.3895,-999.0000,9,  -999.0,9, -999.00,9, -999.00,9,  -999.0,9,  -999.0,9, -999.00,9,     -999.0,9,     -999.0,9,     -999.0,9,     -999.0,9,    24.3801,     -999.0,9
  74DI20100106,        A05,       4,          1,         18,         18,2,20100107,       0815,   27.35178,  -79.75482,        407,    52.1,  24.3923,  36.3895,-999.0000,9,  -999.0,9, -999.00,9, -999.00,9,  -999.0,9,  -999.0,9, -999.00,9,     -999.0,9,     -999.0,9,     -999.0,9,     -999.0,9,    24.3812,     -999.0,9
  74DI20100106,        A05,       4,          1,         19,         19,3,20100107,       0815,   27.35178,  -79.75482,        407,    52.1,  24.3894,  36.3894,  36.3892,3,   201.2,3, -999.00,9,    0.00,3,  2043.4,2,  -999.0,9,    0.00,3,     -999.0,1,     -999.0,1,     -999.0,9,     -999.0,9,    24.3782,     -999.0,1
  74DI20100106,        A05,       4,          1,         21,         21,2,20100107,       0815,   27.35178,  -79.75482,        407,     6.5,  24.3664,  36.3902,  36.3900,2,   201.7,2, -999.00,9,    0.00,2,  2042.9,2,  -999.0,9,    0.00,2,     -999.0,1,     -999.0,1,     -999.0,9,     -999.0,9,    24.3650,     -999.0,1
  74DI20100106,        A05,       4,          1,         22,         22,2,20100107,       0815,   27.35178,  -79.75482,        407,     6.8,  24.3713,  36.3903,-999.0000,9,  -999.0,9, -999.00,9, -999.00,9,  -999.0,9,  -999.0,9, -999.00,9,     -999.0,9,     -999.0,9,     -999.0,9,     -999.0,9,    24.3698,     -999.0,9
  74DI20100106,        A05,       5,          1,          1,          1,2,20100107,       1031,   27.34022,  -79.67417,        554,   540.6,   6.7011,  34.9206,  34.9270,2,   133.9,2,   23.30,2,    1.92,2,  2210.4,2,  2311.4,2,   29.41,2,     -999.0,1,     -999.0,1,     -999.0,9,     -999.0,9,     6.6505,     -999.0,1
  74DI20100106,        A05,       5,          1,          4,          4,2,20100107,       1031,   27.34022,  -79.67417,        554,   446.7,  10.3696,  35.2338,  35.2263,2,   120.1,2,   14.77,2,    1.64,2,  -999.0,9,  -999.0,9,   26.09,2,     -999.0,1,     -999.0,1,     -999.0,9,     -999.0,9,    10.3157,     -999.0,1
  74DI20100106,        A05,       5,          1,          7,          7,2,20100107,       1031,   27.34022,  -79.67417,        554,   351.8,  13.2322,  35.6598,  35.6598,2,   124.5,2,    9.33,2,    1.21,2,  2182.1,2,  2335.6,2,   20.13,2,     -999.0,1,     -999.0,1,     -999.0,9,     -999.0,9,    13.1826,     -999.0,1
  74DI20100106,        A05,       5,          1,         10,         10,2,20100107,       1031,   27.34022,  -79.67417,        554,   251.6,  15.7236,  36.0616,  36.0591,2,  -999.0,9,    6.10,2,    0.84,2,  2168.9,2,  2353.5,2,   14.91,2,     -999.0,1,     -999.0,1,     -999.0,9,     -999.0,9,    15.6839,     -999.0,1
  74DI20100106,        A05,       5,          1,         13,         13,2,20100107,       1031,   27.34022,  -79.67417,        554,   151.8,  20.5536,  36.6117,  36.6111,2,   140.4,2,    3.12,2,    0.31,2,  2146.4,2,  2388.6,2,    7.09,2,     -999.0,1,     -999.0,1,     -999.0,9,     -999.0,9,    20.5247,     -999.0,1
  74DI20100106,        A05,       5,          1,         15,         15,3,20100107,       1031,   27.34022,  -79.67417,        554,   152.3,  20.6796,  36.6179,-999.0000,9,  -999.0,9, -999.00,9, -999.00,9,  -999.0,9,  -999.0,9, -999.00,9,     -999.0,9,     -999.0,9,     -999.0,9,     -999.0,9,    20.6505,     -999.0,9
  74DI20100106,        A05,       5,          1,         16,         16,2,20100107,       1031,   27.34022,  -79.67417,        554,   152.1,  20.7429,  36.6211,-999.0000,9,  -999.0,9, -999.00,9, -999.00,9,  -999.0,9,  -999.0,9, -999.00,9,     -999.0,9,     -999.0,9,     -999.0,9,     -999.0,9,    20.7138,     -999.0,9
  74DI20100106,        A05,       5,          1,         17,         17,2,20100107,       1031,   27.34022,  -79.67417,        554,    51.6,  24.7843,  36.3713,  36.3715,2,   201.7,2,    1.37,2,    0.00,2,  2040.3,2,  2371.4,2,    0.08,2,     -999.0,9,     -999.0,9,     -999.0,9,     -999.0,9,    24.7731,     -999.0,9
  74DI20100106,        A05,       5,          1,         18,         18,2,20100107,       1031,   27.34022,  -79.67417,        554,    51.4,  24.7873,  36.3710,-999.0000,9,  -999.0,9, -999.00,9, -999.00,9,  -999.0,9,  -999.0,9, -999.00,9,     -999.0,1,     -999.0,1,     -999.0,9,     -999.0,9,    24.7762,     -999.0,1
  74DI20100106,        A05,       5,          1,         19,         19,10,20100107,       1031,   27.34022,  -79.67417,        554,    51.3,  24.7833,  36.3712,-999.0000,9,  -999.0,9, -999.00,9, -999.00,9,  -999.0,9,  -999.0,9, -999.00,9,     -999.0,9,     -999.0,9,     -999.0,9,     -999.0,9,    24.7721,     -999.0,9
  74DI20100106,        A05,       5,          1,         20,         20,2,20100107,       1031,   27.34022,  -79.67417,        554,    52.0,  24.7867,  36.3711,-999.0000,9,  -999.0,4, -999.00,9, -999.00,9,  -999.0,9,  -999.0,9, -999.00,9,     -999.0,9,     -999.0,9,     -999.0,9,     -999.0,9,    24.7755,     -999.0,9
  74DI20100106,        A05,       5,          1,         21,         21,2,20100107,       1031,   27.34022,  -79.67417,        554,     6.3,  24.7881,  36.3699,  36.3691,2,   202.3,2,    1.36,3,    0.00,2,  2038.8,2,  2369.7,2,    0.00,2,     -999.0,1,     -999.0,1,     -999.0,9,     -999.0,9,    24.7868,     -999.0,1
  74DI20100106,        A05,       5,          1,         23,         23,2,20100107,       1031,   27.34022,  -79.67417,        554,     6.4,  24.7734,  36.3701,-999.0000,9,  -999.0,9, -999.00,9, -999.00,9,  -999.0,9,  -999.0,9, -999.00,9,     -999.0,9,     -999.0,9,     -999.0,9,     -999.0,9,    24.7720,     -999.0,9
  74DI20100106,        A05,       6,          1,          1,          1,2,20100107,       1316,   27.34395,  -79.57788,        741,   735.8,   6.8062,  34.9138,  34.9141,2,   132.8,2,   23.44,2,    1.98,2,  2212.3,2,  2309.4,2,   30.45,2,     -999.0,1,     -999.0,1,     -999.0,9,     -999.0,9,     6.7358,     -999.0,1
  74DI20100106,        A05,       6,          1,          2,          2,2,20100107,       1316,   27.34395,  -79.57788,        741,   735.6,   6.8085,  34.9139,-999.0000,9,  -999.0,9, -999.00,9, -999.00,9,  -999.0,9,  -999.0,9, -999.00,9,     -999.0,9,     -999.0,9,     -999.0,9,     -999.0,9,     6.7381,     -999.0,9
  74DI20100106,        A05,       6,          1,          4,          4,2,20100107,       1316,   27.34395,  -79.57788,        741,   603.5,   7.9668,  34.9634,  34.9645,2,   121.9,2,   20.31,2,    1.94,2,  2211.5,2,  2305.3,2,   30.61,2,     -999.0,1,     -999.0,1,     -999.0,9,     -999.0,9,     7.9043,     -999.0,1
  74DI20100106,        A05,       6,          1,          5,          5,3,20100107,       1316,   27.34395,  -79.57788,        741,   603.6,   7.9871,  34.9645,-999.0000,9,  -999.0,9, -999.00,9, -999.00,9,  -999.0,9,  -999.0,9, -999.00,9,     -999.0,9,     -999.0,9,     -999.0,9,     -999.0,9,     7.9245,     -999.0,9
  74DI20100106,        A05,       6,          1,          7,          7,2,20100107,       1316,   27.34395,  -79.57788,        741,   503.6,   9.3891,  35.1056,  35.1063,2,   116.1,2,   16.78,2,    1.81,2,  2203.8,2,  2310.9,2,   28.93,2,     -999.0,1,     -999.0,1,     -999.0,9,     -999.0,9,     9.3320,     -999.0,1
  74DI20100106,        A05,       6,          1,         10,         10,2,20100107,       1316,   27.34395,  -79.57788,        741,   403.2,  12.2247,  35.4975,  35.4878,2,   125.4,2,   10.73,2,    1.39,2,  2185.3,2,  2326.4,2,   22.86,2,     -999.0,1,     -999.0,1,     -999.0,9,     -999.0,9,    12.1708,     -999.0,1
  74DI20100106,        A05,       6,          1,         12,         12,10,20100107,       1316,   27.34395,  -79.57788,        741,   302.4,  15.0633,  35.9622,-999.0000,9,  -999.0,9, -999.00,9, -999.00,9,  -999.0,9,  -999.0,9, -999.00,9,     -999.0,9,     -999.0,9,     -999.0,9,     -999.0,9,    15.0169,     -999.0,9
  74DI20100106,        A05,       6,          1,         13,         13,2,20100107,       1316,   27.34395,  -79.57788,        741,   302.4,  15.0645,  35.9621,  35.9596,2,   141.4,2,    6.04,2,    0.91,2,  2164.1,2,  2348.6,2,   15.51,2,     -999.0,1,     -999.0,1,     -999.0,9,     -999.0,9,    15.0181,     -999.0,1
  74DI20100106,        A05,       6,          1,         14,         14,2,20100107,       1316,   27.34395,  -79.57788,        741,   202.4,  18.3432,  36.4336,  36.4318,2,   134.6,2,    3.88,2,    0.57,2,  2162.9,3,  2373.7,3,   10.92,2,     -999.0,1,     -999.0,1,     -999.0,9,     -999.0,9,    18.3076,     -999.0,1
  74DI20100106,        A05,       6,          1,         15,         15,10,20100107,       1316,   27.34395,  -79.57788,        741,   202.4,  18.3368,  36.4334,-999.0000,9,  -999.0,9, -999.00,9, -999.00,9,  -999.0,9,  -999.0,9, -999.00,9,     -999.0,9,     -999.0,9,     -999.0,9,     -999.0,9,    18.3013,     -999.0,9
  74DI20100106,        A05,       6,          1,         16,         16,2,20100107,       1316,   27.34395,  -79.57788,        741,   202.3,  18.3310,  36.4321,-999.0000,9,  -999.0,9, -999.00,9, -999.00,9,  -999.0,9,  -999.0,9, -999.00,9,     -999.0,9,     -999.0,9,     -999.0,9,     -999.0,9,    18.2955,     -999.0,9
  74DI20100106,        A05,       6,          1,         17,         17,10,20100107,       1316,   27.34395,  -79.57788,        741,   101.9,  24.0191,  36.4275,  36.4394,2,   192.4,2,    1.22,2,    0.00,2,  2063.9,2,  2389.6,3,    0.70,2,     -999.0,1,     -999.0,1,     -999.0,9,     -999.0,9,    23.9975,     -999.0,1
  74DI20100106,        A05,       6,          1,         18,         18,10,20100107,       1316,   27.34395,  -79.57788,        741,   101.8,  24.0191,  36.4255,-999.0000,9,  -999.0,9, -999.00,9, -999.00,9,  -999.0,9,  -999.0,9, -999.00,9,     -999.0,9,     -999.0,9,     -999.0,9,     -999.0,9,    23.9976,     -999.0,9
  74DI20100106,        A05,       6,          1,         19,         19,10,20100107,       1316,   27.34395,  -79.57788,        741,    51.6,  24.8251,  36.3895,-999.0000,9,  -999.0,9, -999.00,9, -999.00,9,  -999.0,9,  -999.0,9, -999.00,9,     -999.0,9,     -999.0,9,     -999.0,9,     -999.0,9,    24.8139,     -999.0,9
  74DI20100106,        A05,       6,          1,         20,         20,2,20100107,       1316,   27.34395,  -79.57788,        741,    51.5,  24.8265,  36.3890,  36.3887,2,   149.1,4,    1.22,2,    0.00,2,  2013.4,3,  2372.1,2,    0.04,2,     -999.0,1,     -999.0,1,     -999.0,9,     -999.0,9,    24.8153,     -999.0,1
  74DI20100106,        A05,       6,          1,         21,         21,2,20100107,       1316,   27.34395,  -79.57788,        741,    51.5,  24.8287,  36.3891,-999.0000,9,  -999.0,9, -999.00,9, -999.00,9,  -999.0,9,  -999.0,9, -999.00,9,     -999.0,9,     -999.0,9,     -999.0,9,     -999.0,9,    24.8175,     -999.0,9
  74DI20100106,        A05,       6,          1,         22,         22,2,20100107,       1316,   27.34395,  -79.57788,        741,    11.2,  24.8274,  36.3909,  36.3911,2,   198.4,2,    1.24,2,    0.00,2,  2004.2,3,  2371.0,2,    0.05,2,     -999.0,1,     -999.0,1,     -999.0,9,     -999.0,9,    24.8250,     -999.0,1
  74DI20100106,        A05,       6,          1,         23,         23,2,20100107,       1316,   27.34395,  -79.57788,        741,    11.7,  24.8249,  36.3909,-999.0000,9,  -999.0,9, -999.00,9, -999.00,9,  -999.0,9,  -999.0,9, -999.00,9,     -999.0,9,     -999.0,9,     -999.0,9,     -999.0,9,    24.8223,     -999.0,9
  74DI20100106,        A05,       6,          1,         24,         24,10,20100107,       1316,   27.34395,  -79.57788,        741,    11.2,  24.8252,  36.3908,-999.0000,9,  -999.0,9, -999.00,9, -999.00,9,  -999.0,9,  -999.0,9, -999.00,9,     -999.0,9,     -999.0,9,     -999.0,9,     -999.0,9,    24.8227,     -999.0,9
  74DI20100106,        A05,       7,          1,          1,          1,2,20100107,       1552,   27.34431,  -79.50238,        725,   717.7,   7.4794,  34.9353,  34.9378,2,   124.6,2,   21.54,2,    1.96,2,  2210.9,2,  2310.0,2,   30.88,2,     -999.0,1,     -999.0,1,     -999.0,9,     -999.0,9,     7.4072,     -999.0,1
  74DI20100106,        A05,       7,          1,          3,          3,2,20100107,       1552,   27.34431,  -79.50238,        725,   717.4,   7.4926,  34.9358,-999.0000,9,  -999.0,9, -999.00,9, -999.00,9,  -999.0,9,  -999.0,9, -999.00,9,     -999.0,1,     -999.0,1,     -999.0,9,     -999.0,9,     7.4203,     -999.0,1
  74DI20100106,        A05,       7,          1,          4,          4,2,20100107,       1552,   27.34431,  -79.50238,        725,   645.0,   7.8966,  34.9511,  34.9515,2,     0.0,4,   20.58,2,    1.94,2,  2217.4,2,  2308.5,2,   30.87,2,     -999.0,1,     -999.0,1,     -999.0,9,     -999.0,9,     7.8300,     -999.0,1
  74DI20100106,        A05,       7,          1,          7,          7,2,20100107,       1552,   27.34431,  -79.50238,        725,   549.8,   9.1184,  35.0713,  35.0731,2,   117.4,2,   17.19,2,    1.82,2,  2203.8,2,  2312.4,2,   29.01,2,     -999.0,1,     -999.0,1,     -999.0,9,     -999.0,9,     9.0569,     -999.0,1
  74DI20100106,        A05,       7,          1,         10,         10,2,20100107,       1552,   27.34431,  -79.50238,        725,   447.9,  11.7211,  35.4225,  35.4197,2,   122.1,2,   11.46,2,    1.46,2,  2189.3,2,  2325.7,2,   23.33,2,     -999.0,1,     -999.0,1,     -999.0,9,     -999.0,9,    11.6627,     -999.0,1
  74DI20100106,        A05,       7,          1,         12,         12,2,20100107,       1552,   27.34431,  -79.50238,        725,   348.1,  14.5152,  35.8673,  35.8694,2,   135.7,2,    6.90,2,    0.98,2,  2167.9,2,  2346.3,2,   16.76,2,     -999.0,1,     -999.0,1,     -999.0,9,     -999.0,9,    14.4630,     -999.0,1
  74DI20100106,        A05,       7,          1,         14,         14,2,20100107,       1552,   27.34431,  -79.50238,        725,   251.5,  17.0219,  36.2968,  36.2948,2,   154.2,2,    3.81,2,    0.56,2,  2141.7,2,  2368.5,2,   10.56,2,     -999.0,1,     -999.0,1,     -999.0,9,     -999.0,9,    16.9799,     -999.0,1
  74DI20100106,        A05,       7,          1,         17,         17,2,20100107,       1552,   27.34431,  -79.50238,        725,   151.3,  20.7046,  36.6497,  36.6562,2,   139.3,2,    2.72,2,    0.29,2,  2143.4,2,  2394.3,3,    6.74,2,     -999.0,1,     -999.0,1,     -999.0,9,     -999.0,9,    20.6757,     -999.0,1
  74DI20100106,        A05,       7,          1,         19,         19,2,20100107,       1552,   27.34431,  -79.50238,        725,    50.7,  25.2333,  36.5287,  36.5284,2,   196.0,2,    2.73,2,    0.29,2,  2044.9,2,  2373.8,2,    0.00,2,     -999.0,1,     -999.0,1,     -999.0,9,     -999.0,9,    25.2221,     -999.0,1
  74DI20100106,        A05,       7,          1,         21,         21,2,20100107,       1552,   27.34431,  -79.50238,        725,    51.2,  25.2339,  36.5287,-999.0000,9,  -999.0,9, -999.00,9, -999.00,9,  -999.0,9,  -999.0,9, -999.00,9,     -999.0,9,     -999.0,9,     -999.0,9,     -999.0,9,    25.2227,     -999.0,9
  74DI20100106,        A05,       7,          1,         22,         22,2,20100107,       1552,   27.34431,  -79.50238,        725,     5.7,  25.2408,  36.5304,  36.5303,2,   196.8,2,    1.09,2,    0.00,2,  2043.0,2,  2376.0,2,    0.14,2,     -999.0,1,     -999.0,1,     -999.0,9,     -999.0,9,    25.2396,     -999.0,1
  74DI20100106,        A05,       7,          1,         24,         24,2,20100107,       1552,   27.34431,  -79.50238,        725,     6.1,  25.2398,  36.5305,-999.0000,9,  -999.0,9, -999.00,9, -999.00,9,  -999.0,9,  -999.0,9, -999.00,9,     -999.0,9,     -999.0,9,     -999.0,9,     -999.0,9,    25.2384,     -999.0,9