BOTTLE,20200115CCHSIOCBG
EXPOCODE,SECT_ID,STNNBR,CASTNO,SAMPNO,BTLNBR,BTLNBR_FLAG_W,DATE,TIME,LATITUDE,LONGITUDE,DEPTH,CTDPRS,CTDTMP,CTDSAL,SALNTY,SALNTY_FLAG_W,OXYGEN,OXYGEN_FLAG_W,SILCAT,SILCAT_FLAG_W,PHSPHT,PHSPHT_FLAG_W,TCARBN,TCARBN_FLAG_W,ALKALI,ALKALI_FLAG_W,NO2+NO3,NO2+NO3_FLAG_W,CFC-11,CFC-11_FLAG_W,CFC-12,CFC-12_FLAG_W,CFC113,CFC113_FLAG_W,CCL4,CCL4_FLAG_W,THETA,SF6,SF6_FLAG_W
,,,,,,,,,,,METERS,DBAR,ITS-90,PSS-78,PSS-78,,UMOL/KG,,UMOL/KG,,UMOL/KG,,UMOL/KG,,UMOL/KG,,UMOL/KG,,PMOL/L,,PMOL/L,,PMOL/L,,PMOL/L,,ITS-90,FMOL/L,
  74DI20100106,        A05,     115,          1,          1,         25,2,20100210,       1739,   24.49983,  -24.16472,       5128,  5211.3,   2.4449,  34.8870,  34.8889,2,   239.1,2,   49.50,2,    1.49,2,  -999.0,9,  -999.0,9,   22.73,2,     -999.0,1,     -999.0,1,     -999.0,1,     -999.0,1,     1.9503,     -999.0,1
  74DI20100106,        A05,     115,          1,          2,          2,4,20100210,       1739,   24.49983,  -24.16472,       5128,  4843.3,   2.3986,  34.8874,-999.0000,9,  -999.0,9, -999.00,9, -999.00,9,  -999.0,9,  -999.0,9, -999.00,9,     -999.0,9,     -999.0,9,     -999.0,9,     -999.0,9,     1.9523,     -999.0,9
  74DI20100106,        A05,     115,          1,          3,          3,2,20100210,       1739,   24.49983,  -24.16472,       5128,  4318.8,   2.3677,  34.8912,  34.8920,2,   240.9,2,   48.38,2,    1.50,2,  2196.8,2,  2346.5,2,   22.86,2,     -999.0,1,     -999.0,1,     -999.0,1,     -999.0,1,     1.9861,     -999.0,1
  74DI20100106,        A05,     115,          1,          4,          4,2,20100210,       1739,   24.49983,  -24.16472,       5128,  3788.0,   2.4418,  34.9043,  34.9045,2,   239.4,2,   45.46,2,    1.48,2,  2195.4,2,  2344.3,2,   22.68,2,     -999.0,1,     -999.0,1,     -999.0,1,     -999.0,1,     2.1192,     -999.0,1
  74DI20100106,        A05,     115,          1,          5,          5,2,20100210,       1739,   24.49983,  -24.16472,       5128,  3295.7,   2.6178,  34.9253,  34.9258,2,   234.7,2,   41.42,2,    1.46,2,  -999.0,9,  -999.0,9,   22.38,2,     -999.0,1,     -999.0,1,     -999.0,1,     -999.0,1,     2.3444,     -999.0,1
  74DI20100106,        A05,     115,          1,          6,          6,2,20100210,       1739,   24.49983,  -24.16472,       5128,  2782.7,   3.0002,  34.9620,  34.9620,2,   232.9,2,   34.74,2,    1.42,2,  2189.1,2,  2338.4,2,   21.80,2,     -999.0,1,     -999.0,1,     -999.0,1,     -999.0,1,     2.7719,     -999.0,1
  74DI20100106,        A05,     115,          1,          7,          7,2,20100210,       1739,   24.49983,  -24.16472,       5128,  2534.7,   3.2682,  34.9866,  34.9867,2,   228.9,2,   32.12,2,    1.43,2,  -999.0,9,  -999.0,9,   22.02,2,     -999.0,1,     -999.0,1,     -999.0,1,     -999.0,1,     3.0597,     -999.0,1
  74DI20100106,        A05,     115,          1,          8,          8,10,20100210,       1739,   24.49983,  -24.16472,       5128,  2282.5,   3.5630,  35.0088,  35.0094,2,   226.6,2,   28.34,2,    1.43,2,  -999.0,9,  -999.0,9,   21.60,2,     -999.0,1,     -999.0,1,     -999.0,1,     -999.0,1,     3.3744,     -999.0,1
  74DI20100106,        A05,     115,          1,          9,          9,2,20100210,       1739,   24.49983,  -24.16472,       5128,  2021.6,   3.9387,  35.0430,  35.0442,2,   220.2,2,   26.09,2,    1.44,2,  -999.0,9,  -999.0,9,   21.99,2,     -999.0,1,     -999.0,1,     -999.0,1,     -999.0,1,     3.7697,     -999.0,1
  74DI20100106,        A05,     115,          1,         10,         10,2,20100210,       1739,   24.49983,  -24.16472,       5128,  1766.6,   4.5320,  35.1018,  35.1687,2,   210.0,2,   23.62,2,    1.46,2,  2185.2,2,  2325.5,2,   22.63,2,     -999.0,1,     -999.0,1,     -999.0,1,     -999.0,1,     4.3797,     -999.0,1
  74DI20100106,        A05,     115,          1,         11,         11,2,20100210,       1739,   24.49983,  -24.16472,       5128,  1513.2,   5.3291,  35.1682,  35.2349,2,   195.8,2,   21.09,2,    1.47,2,  -999.0,9,  -999.0,9,   22.93,2,     -999.0,1,     -999.0,1,     -999.0,1,     -999.0,1,     5.1922,     -999.0,1
  74DI20100106,        A05,     115,          1,         12,         12,2,20100210,       1739,   24.49983,  -24.16472,       5128,  1263.9,   6.4410,  35.2340,  35.2345,2,   172.8,2,   19.01,2,    1.54,2,  2198.0,2,  2327.8,2,   23.91,2,     -999.0,1,     -999.0,1,     -999.0,1,     -999.0,1,     6.3183,     -999.0,1
  74DI20100106,        A05,     115,          1,         13,         13,2,20100210,       1739,   24.49983,  -24.16472,       5128,  1021.4,   7.1717,  35.1589,  35.1622,2,   140.9,2,   19.49,2,    1.75,2,  -999.0,9,  -999.0,9,   27.23,2,     -999.0,1,     -999.0,1,     -999.0,1,     -999.0,1,     7.0689,     -999.0,1
  74DI20100106,        A05,     115,          1,         14,         14,2,20100210,       1739,   24.49983,  -24.16472,       5128,   882.2,   7.6795,  35.1297,  35.1297,2,   121.4,2,   19.23,2,    1.85,2,  2213.5,2,  2315.8,2,   29.75,2,     -999.0,1,     -999.0,1,     -999.0,1,     -999.0,1,     7.5882,     -999.0,1
  74DI20100106,        A05,     115,          1,         15,         26,2,20100210,       1739,   24.49983,  -24.16472,       5128,   756.3,   8.8090,  35.2334,  35.2318,2,   110.9,2,   16.69,2,    1.78,2,  -999.0,9,  -999.0,9,   28.83,2,     -999.0,1,     -999.0,1,     -999.0,1,     -999.0,1,     8.7250,     -999.0,1
  74DI20100106,        A05,     115,          1,         16,         16,2,20100210,       1739,   24.49983,  -24.16472,       5128,   630.4,  10.2289,  35.3770,  35.3758,2,   106.7,2,   13.16,2,    1.62,2,  -999.0,9,  -999.0,9,   27.14,2,     -999.0,1,     -999.0,1,     -999.0,1,     -999.0,1,    10.1527,     -999.0,1
  74DI20100106,        A05,     115,          1,         17,         17,2,20100210,       1739,   24.49983,  -24.16472,       5128,   503.8,  11.9445,  35.5914,  35.5880,2,   117.2,2,    9.09,2,    1.33,2,  2196.2,2,  2332.0,2,   22.71,2,     -999.0,1,     -999.0,1,     -999.0,9,     -999.0,9,    11.8777,     -999.0,1
  74DI20100106,        A05,     115,          1,         18,         18,2,20100210,       1739,   24.49983,  -24.16472,       5128,   378.9,  14.2548,  35.9304,  35.9280,2,   137.2,2,    5.37,2,    0.94,2,  -999.0,9,  -999.0,9,   15.93,2,     -999.0,9,     -999.0,9,     -999.0,9,     -999.0,9,    14.1986,     -999.0,9
  74DI20100106,        A05,     115,          1,         19,         19,2,20100210,       1739,   24.49983,  -24.16472,       5128,  3787.2,   2.4418,  34.9043,-999.0000,9,  -999.0,9, -999.00,9, -999.00,9,  -999.0,9,  -999.0,9, -999.00,9,     -999.0,9,     -999.0,9,     -999.0,9,     -999.0,9,     2.1192,     -999.0,9
  74DI20100106,        A05,     115,          1,         20,         20,2,20100210,       1739,   24.49983,  -24.16472,       5128,   250.5,  16.5484,  36.3271,  36.3267,2,   150.6,2,    3.04,2,    0.66,2,  2168.5,2,  2367.9,2,   11.27,2,     -999.0,1,     -999.0,1,     -999.0,9,     -999.0,9,    16.5074,     -999.0,1
  74DI20100106,        A05,     115,          1,         21,         21,2,20100210,       1739,   24.49983,  -24.16472,       5128,   178.0,  18.2681,  36.6889,  36.6944,2,   179.2,2,    1.71,2,    0.33,2,  -999.0,9,  -999.0,9,    5.57,2,     -999.0,9,     -999.0,9,     -999.0,9,     -999.0,9,    18.2369,     -999.0,9
  74DI20100106,        A05,     115,          1,         22,         22,2,20100210,       1739,   24.49983,  -24.16472,       5128,    99.2,  22.1652,  37.0346,  37.0680,3,   205.8,2,    0.72,2,    0.05,2,  2101.7,2,  2420.6,2,    0.25,2,     -999.0,1,     -999.0,1,     -999.0,9,     -999.0,9,    22.1453,     -999.0,1
  74DI20100106,        A05,     115,          1,         23,         23,2,20100210,       1739,   24.49983,  -24.16472,       5128,    50.0,  22.6512,  37.0908,  37.0923,2,   209.5,2,    0.61,2,    0.03,2,  -999.0,9,  -999.0,9,    0.00,2,     -999.0,9,     -999.0,9,     -999.0,9,     -999.0,9,    22.6411,     -999.0,9
  74DI20100106,        A05,     115,          1,         24,         24,2,20100210,       1739,   24.49983,  -24.16472,       5128,     4.7,  22.6627,  37.0917,  37.0926,2,   210.1,2,    0.58,2,    0.03,2,  2095.3,2,  2419.4,2,    0.00,2,     -999.0,1,     -999.0,1,     -999.0,1,     -999.0,1,    22.6618,     -999.0,1
  74DI20100106,        A05,     116,          1,          1,         25,4,20100211,       0102,   24.49424,  -23.50097,       5013,  5089.8,   2.4327,  34.8873,  35.6048,3,   125.7,4, -999.00,9, -999.00,9,  -999.0,9,  -999.0,9, -999.00,9,     -999.0,9,     -999.0,9,     -999.0,9,     -999.0,9,     1.9542,     -999.0,9
  74DI20100106,        A05,     116,          1,          2,          2,10,20100211,       0102,   24.49424,  -23.50097,       5013,  5091.1,   2.4329,  34.8873,  34.8886,2,   239.8,2,   49.55,2,    1.52,2,  2198.8,2,  2352.2,2,   23.16,2,     -999.0,1,     -999.0,1,     -999.0,1,     -999.0,1,     1.9542,     -999.0,1
  74DI20100106,        A05,     116,          1,          3,          3,4,20100211,       0102,   24.49424,  -23.50097,       5013,  4583.3,   2.3772,  34.8885,  35.2161,4,   190.0,4, -999.00,9, -999.00,9,  -999.0,9,  -999.0,9, -999.00,9,     -999.0,9,     -999.0,9,     -999.0,9,     -999.0,9,     1.9636,     -999.0,9
  74DI20100106,        A05,     116,          1,          4,          4,2,20100211,       0102,   24.49424,  -23.50097,       5013,  4071.2,   2.3846,  34.8956,  34.8957,2,   240.4,2,   48.01,2,    1.49,2,  2196.0,2,  2346.3,2,   22.75,2,     -999.0,1,     -999.0,1,     -999.0,1,     -999.0,1,     2.0314,     -999.0,1
  74DI20100106,        A05,     116,          1,          5,          5,2,20100211,       0102,   24.49424,  -23.50097,       5013,  3560.4,   2.4826,  34.9106,  34.9109,2,   239.8,2,   43.94,2,    1.48,3,  2196.1,2,  2344.4,2,   22.44,2,     -999.0,1,     -999.0,1,     -999.0,1,     -999.0,1,     2.1840,     -999.0,1
  74DI20100106,        A05,     116,          1,          6,          6,2,20100211,       0102,   24.49424,  -23.50097,       5013,  3048.9,   2.7413,  34.9395,  34.9392,2,   238.3,2,   37.36,2,    1.42,2,  2186.0,2,  2340.4,2,   21.84,2,     -999.0,1,     -999.0,1,     -999.0,1,     -999.0,1,     2.4910,     -999.0,1
  74DI20100106,        A05,     116,          1,          7,          7,3,20100211,       0102,   24.49424,  -23.50097,       5013,  2538.8,   3.2300,  34.9847,-999.0000,9,   226.1,3, -999.00,9, -999.00,9,  -999.0,9,  -999.0,9, -999.00,9,     -999.0,9,     -999.0,9,     -999.0,9,     -999.0,9,     3.0218,     -999.0,9
  74DI20100106,        A05,     116,          1,          8,          8,2,20100211,       0102,   24.49424,  -23.50097,       5013,  2286.8,   3.5532,  35.0115,  35.0113,2,   226.6,2,   29.16,2,    1.44,2,  -999.0,9,  -999.0,9,   22.19,2,     -999.0,1,     -999.0,1,     -999.0,1,     -999.0,1,     3.3643,     -999.0,1
  74DI20100106,        A05,     116,          1,          9,          9,2,20100211,       0102,   24.49424,  -23.50097,       5013,  2034.3,   3.8948,  35.0400,  35.0401,2,   222.2,2,   26.42,2,    1.45,2,  2180.0,2,  2329.3,2,   22.22,2,     -999.0,1,     -999.0,1,     -999.0,1,     -999.0,1,     3.7253,     -999.0,1
  74DI20100106,        A05,     116,          1,         10,         10,2,20100211,       0102,   24.49424,  -23.50097,       5013,  1780.8,   4.4890,  35.0978,  35.0964,2,   210.5,2,   24.30,2,    1.46,2,  -999.0,9,  -999.0,9,   22.56,2,     -999.0,1,     -999.0,1,     -999.0,1,     -999.0,1,     4.3359,     -999.0,1
  74DI20100106,        A05,     116,          1,         11,         11,2,20100211,       0102,   24.49424,  -23.50097,       5013,  1515.3,   5.4978,  35.1938,  35.1937,2,   195.5,2,   21.09,2,    1.48,2,  2188.3,2,  2330.9,2,   23.20,2,     -999.0,1,     -999.0,1,     -999.0,1,     -999.0,1,     5.3588,     -999.0,1
  74DI20100106,        A05,     116,          1,         12,         12,3,20100211,       0102,   24.49424,  -23.50097,       5013,  1263.8,   6.5165,  35.2350,-999.0000,9,   134.5,4, -999.00,9, -999.00,9,  -999.0,9,  -999.0,9, -999.00,9,     -999.0,9,     -999.0,9,     -999.0,9,     -999.0,9,     6.3932,     -999.0,9
  74DI20100106,        A05,     116,          1,         13,         13,2,20100211,       0102,   24.49424,  -23.50097,       5013,  1010.6,   6.9791,  35.0957,  35.1012,2,   137.9,2,   20.79,2,    1.86,2,  2209.7,2,  2319.3,2,   29.50,2,     -999.0,1,     -999.0,1,     -999.0,1,     -999.0,1,     6.8789,     -999.0,1
  74DI20100106,        A05,     116,          1,         14,         14,2,20100211,       0102,   24.49424,  -23.50097,       5013,   882.6,   7.8870,  35.1559,  35.1568,2,   121.4,2,   19.01,2,    1.85,2,  -999.0,9,  -999.0,9,   29.74,2,     -999.0,1,     -999.0,1,     -999.0,1,     -999.0,1,     7.7943,     -999.0,1
  74DI20100106,        A05,     116,          1,         15,         26,2,20100211,       0102,   24.49424,  -23.50097,       5013,   755.4,   8.7075,  35.2009,  35.1978,2,   107.1,2,   17.26,2,    1.86,2,  -999.0,9,  -999.0,9,   30.39,2,     -999.0,1,     -999.0,1,     -999.0,1,     -999.0,1,     8.6241,     -999.0,1
  74DI20100106,        A05,     116,          1,         16,         16,2,20100211,       0102,   24.49424,  -23.50097,       5013,   630.9,  10.3491,  35.3926,  35.3912,2,   107.7,2,   13.01,2,    1.62,2,  -999.0,9,  -999.0,9,   27.56,2,     -999.0,1,     -999.0,1,     -999.0,1,     -999.0,1,    10.2723,     -999.0,1
  74DI20100106,        A05,     116,          1,         17,         17,2,20100211,       0102,   24.49424,  -23.50097,       5013,   505.1,  11.9509,  35.6025,  35.6016,2,   124.7,2,    8.79,2,    1.29,2,  -999.0,9,  -999.0,9,   22.05,2,     -999.0,9,     -999.0,9,     -999.0,9,     -999.0,9,    11.8840,     -999.0,9
  74DI20100106,        A05,     116,          1,         18,         18,2,20100211,       0102,   24.49424,  -23.50097,       5013,   379.1,  13.6181,  35.8472,  35.8469,2,   149.6,2,    5.73,2,    0.96,2,  2170.4,2,  2344.4,2,   16.68,2,     -999.0,1,     -999.0,1,     -999.0,1,     -999.0,1,    13.5636,     -999.0,1
  74DI20100106,        A05,     116,          1,         19,         27,2,20100211,       0102,   24.49424,  -23.50097,       5013,   252.6,  15.9409,  36.2261,  36.2170,2,   159.3,2,    3.64,2,    0.68,2,  -999.0,9,  -999.0,9,   11.68,2,     -999.0,9,     -999.0,9,     -999.0,9,     -999.0,9,    15.9006,     -999.0,9
  74DI20100106,        A05,     116,          1,         20,         20,2,20100211,       0102,   24.49424,  -23.50097,       5013,   176.6,  17.7879,  36.5844,  36.5876,2,   168.3,2,    2.28,2,    0.45,2,  2150.9,2,  2387.3,2,    7.68,2,     -999.0,1,     -999.0,1,     -999.0,1,     -999.0,1,    17.7575,     -999.0,1
  74DI20100106,        A05,     116,          1,         21,         21,2,20100211,       0102,   24.49424,  -23.50097,       5013,   101.2,  19.6007,  36.7856,  37.0376,4,   183.4,2,    1.39,2,    0.31,2,  -999.0,9,  -999.0,9,    4.69,2,     -999.0,9,     -999.0,9,     -999.0,9,     -999.0,9,    19.5820,     -999.0,9
  74DI20100106,        A05,     116,          1,         22,         22,2,20100211,       0102,   24.49424,  -23.50097,       5013,    70.4,  22.1065,  37.0418,  36.7858,2,   210.4,2,    0.67,2,    0.04,2,  2106.0,2,  2419.5,2,    0.17,2,     -999.0,1,     -999.0,1,     -999.0,1,     -999.0,1,    22.0924,     -999.0,1
  74DI20100106,        A05,     116,          1,         23,         23,10,20100211,       0102,   24.49424,  -23.50097,       5013,    50.2,  22.2821,  37.0650,  37.0661,2,   211.5,2,    0.67,2,    0.02,2,  -999.0,9,  -999.0,9,    0.00,2,     -999.0,9,     -999.0,9,     -999.0,9,     -999.0,9,    22.2720,     -999.0,9
  74DI20100106,        A05,     116,          1,         24,         24,10,20100211,       0102,   24.49424,  -23.50097,       5013,     5.4,  22.2994,  37.0284,  37.0398,2,   211.4,2,    0.61,2,    0.02,2,  2097.5,2,  2417.5,2,    0.00,2,     -999.0,1,     -999.0,1,     -999.0,1,     -999.0,1,    22.2983,     -999.0,1