BOTTLE,20200115CCHSIOCBG
EXPOCODE,SECT_ID,STNNBR,CASTNO,SAMPNO,BTLNBR,BTLNBR_FLAG_W,DATE,TIME,LATITUDE,LONGITUDE,DEPTH,CTDPRS,CTDTMP,CTDSAL,SALNTY,SALNTY_FLAG_W,OXYGEN,OXYGEN_FLAG_W,SILCAT,SILCAT_FLAG_W,PHSPHT,PHSPHT_FLAG_W,TCARBN,TCARBN_FLAG_W,ALKALI,ALKALI_FLAG_W,NO2+NO3,NO2+NO3_FLAG_W,CFC-11,CFC-11_FLAG_W,CFC-12,CFC-12_FLAG_W,CFC113,CFC113_FLAG_W,CCL4,CCL4_FLAG_W,THETA,SF6,SF6_FLAG_W
,,,,,,,,,,,METERS,DBAR,ITS-90,PSS-78,PSS-78,,UMOL/KG,,UMOL/KG,,UMOL/KG,,UMOL/KG,,UMOL/KG,,UMOL/KG,,PMOL/L,,PMOL/L,,PMOL/L,,PMOL/L,,ITS-90,FMOL/L,
  74DI20100106,        A05,      83,          1,          1,          1,3,20100130,       1712,   23.87387,  -46.33368,       5059,  5155.8,   2.3193,  34.8775,-999.0000,9,   193.7,4,   11.32,4,    0.77,4,  -999.0,9,  -999.0,9,   12.38,4,     -999.0,9,     -999.0,9,     -999.0,9,     -999.0,9,     1.8363,     -999.0,9
  74DI20100106,        A05,      83,          1,          2,          2,2,20100130,       1712,   23.87387,  -46.33368,       5059,  4818.8,   2.2764,  34.8776,  34.8776,2,   248.0,2,   48.48,2,    1.47,2,  2190.4,2,  2345.0,2,   22.38,2,     -999.0,1,     -999.0,1,     -999.0,1,     -999.0,1,     1.8372,     -999.0,1
  74DI20100106,        A05,      83,          1,          3,          3,2,20100130,       1712,   23.87387,  -46.33368,       5059,  4315.4,   2.2442,  34.8804,  34.8793,2,   247.1,2,   47.11,2,    1.47,2,  2189.2,2,  2344.2,2,   21.90,2,     -999.0,1,     -999.0,1,     -999.0,1,     -999.0,1,     1.8668,     -999.0,1
  74DI20100106,        A05,      83,          1,          4,          4,2,20100130,       1712,   23.87387,  -46.33368,       5059,  3816.2,   2.4001,  34.8981,  34.8977,2,   248.4,2,   42.80,2,    1.44,2,  2185.6,2,  2340.2,2,   21.61,2,     -999.0,1,     -999.0,1,     -999.0,1,     -999.0,1,     2.0755,     -999.0,1
  74DI20100106,        A05,      83,          1,          5,          5,2,20100130,       1712,   23.87387,  -46.33368,       5059,  3303.9,   2.6103,  34.9188,  34.9179,2,   243.0,2,   39.28,2,    1.42,2,  2183.1,2,  2338.2,2,   21.44,2,     -999.0,1,     -999.0,1,     -999.0,1,     -999.0,1,     2.3363,     -999.0,1
  74DI20100106,        A05,      83,          1,          6,          6,2,20100130,       1712,   23.87387,  -46.33368,       5059,  2782.1,   2.8901,  34.9436,  34.9429,2,   243.8,2,   34.04,2,    1.39,2,  2180.3,2,  2335.2,2,   21.10,2,     -999.0,1,     -999.0,1,     -999.0,1,     -999.0,1,     2.6641,     -999.0,1
  74DI20100106,        A05,      83,          1,          7,          7,2,20100130,       1712,   23.87387,  -46.33368,       5059,  2531.2,   3.0744,  34.9588,  34.9588,2,   243.5,2,   30.81,2,    1.38,2,  -999.0,9,  -999.0,9,   21.01,2,     -999.0,1,     -999.0,1,     -999.0,1,     -999.0,1,     2.8699,     -999.0,1
  74DI20100106,        A05,      83,          1,          8,          8,2,20100130,       1712,   23.87387,  -46.33368,       5059,  2278.1,   3.2811,  34.9751,  34.9743,2,   241.8,2,   28.27,2,    1.37,2,  2174.2,2,  2331.2,2,   20.92,2,     -999.0,1,     -999.0,1,     -999.0,1,     -999.0,1,     3.0978,     -999.0,1
  74DI20100106,        A05,      83,          1,          9,          9,2,20100130,       1712,   23.87387,  -46.33368,       5059,  2025.6,   3.7209,  35.0068,-999.0000,9,  -999.0,9, -999.00,9, -999.00,9,  -999.0,9,  -999.0,9, -999.00,9,     -999.0,9,     -999.0,9,     -999.0,9,     -999.0,9,     3.5549,     -999.0,9
  74DI20100106,        A05,      83,          1,         10,         10,2,20100130,       1712,   23.87387,  -46.33368,       5059,  2021.9,   3.7323,  35.0074,  35.0069,2,   238.2,2,   23.55,2,    1.35,2,  -999.0,9,  -999.0,9,   20.76,2,     -999.0,1,     -999.0,1,     -999.0,1,     -999.0,1,     3.5665,     -999.0,1
  74DI20100106,        A05,      83,          1,         11,         11,2,20100130,       1712,   23.87387,  -46.33368,       5059,  1766.3,   4.1181,  35.0263,  35.0261,2,   231.2,2,   20.84,2,    1.36,2,  2175.3,2,  2324.8,2,   20.97,2,     -999.0,1,     -999.0,1,     -999.0,1,     -999.0,1,     3.9714,     -999.0,1
  74DI20100106,        A05,      83,          1,         12,         12,2,20100130,       1712,   23.87387,  -46.33368,       5059,  1517.2,   4.7305,  35.0398,  35.0400,2,   219.2,2,   18.14,2,    1.41,2,  -999.0,9,  -999.0,9,   21.96,2,     -999.0,1,     -999.0,1,     -999.0,1,     -999.0,1,     4.6003,     -999.0,1
  74DI20100106,        A05,      83,          1,         13,         13,2,20100130,       1712,   23.87387,  -46.33368,       5059,  1259.2,   5.2605,  35.0064,  35.0061,2,   197.1,2,   18.82,2,    1.55,2,  2188.8,2,  2318.5,2,   24.12,2,     -999.0,1,     -999.0,1,     -999.0,1,     -999.0,1,     5.1498,     -999.0,1
  74DI20100106,        A05,      83,          1,         14,         14,2,20100130,       1712,   23.87387,  -46.33368,       5059,  1010.7,   6.3752,  35.0091,  35.0094,2,   158.8,2,   20.45,2,    1.78,2,  -999.0,9,  -999.0,9,   27.63,2,     -999.0,1,     -999.0,1,     -999.0,1,     -999.0,1,     6.2797,     -999.0,1
  74DI20100106,        A05,      83,          1,         15,         15,2,20100130,       1712,   23.87387,  -46.33368,       5059,   885.0,   7.3204,  35.0676,  35.0682,2,   144.4,2,   19.05,2,    1.77,2,  2201.2,2,  2318.7,2,   27.91,2,     -999.0,1,     -999.0,1,     -999.0,1,     -999.0,1,     7.2313,     -999.0,1
  74DI20100106,        A05,      83,          1,         16,         16,2,20100130,       1712,   23.87387,  -46.33368,       5059,   758.0,   9.3634,  35.2889,  35.2847,2,   143.8,2,   14.15,2,    1.51,2,  2189.9,2,  2323.2,2,   24.37,2,     -999.0,1,     -999.0,1,     -999.0,1,     -999.0,1,     9.2761,     -999.0,1
  74DI20100106,        A05,      83,          1,         17,         17,2,20100130,       1712,   23.87387,  -46.33368,       5059,   629.8,  11.3486,  35.5286,  35.5282,2,   154.7,2,    9.09,2,    1.15,2,  2174.5,2,  2333.0,2,   19.40,2,     -999.0,1,     -999.0,1,     -999.0,1,     -999.0,1,    11.2674,     -999.0,1
  74DI20100106,        A05,      83,          1,         18,         18,2,20100130,       1712,   23.87387,  -46.33368,       5059,   506.5,  13.5910,  35.8176,  35.8167,2,   168.0,2,    5.47,2,    0.81,2,  2153.1,2,  2345.7,2,   14.19,2,     -999.0,1,     -999.0,1,     -999.0,1,     -999.0,1,    13.5179,     -999.0,1
  74DI20100106,        A05,      83,          1,         19,         19,2,20100130,       1712,   23.87387,  -46.33368,       5059,   379.9,  16.4187,  36.2817,  36.2852,2,   173.9,2,    2.84,2,    0.48,2,  -999.0,9,  -999.0,9,    8.87,2,     -999.0,9,     -999.0,9,     -999.0,9,     -999.0,9,    16.3566,     -999.0,9
  74DI20100106,        A05,      83,          1,         20,         20,2,20100130,       1712,   23.87387,  -46.33368,       5059,   251.2,  18.3306,  36.6179,  36.6203,2,   182.1,2,    1.64,2,    0.19,2,  2123.8,2,  2390.5,2,    4.77,2,     -999.0,1,     -999.0,1,     -999.0,9,     -999.0,9,    18.2864,     -999.0,1
  74DI20100106,        A05,      83,          1,         21,         21,2,20100130,       1712,   23.87387,  -46.33368,       5059,   175.7,  21.2205,  37.1427,  37.1509,2,   188.4,2,    0.88,2,    0.01,2,  -999.0,9,  -999.0,9,    0.95,2,     -999.0,9,     -999.0,9,     -999.0,9,     -999.0,9,    21.1863,     -999.0,9
  74DI20100106,        A05,      83,          1,         22,         22,2,20100130,       1712,   23.87387,  -46.33368,       5059,   103.0,  23.8530,  37.3844,  37.3847,2,   204.3,2,    0.85,2,    0.00,2,  2066.9,3,  2435.7,2,    0.04,2,     -999.0,1,     -999.0,1,     -999.0,9,     -999.0,9,    23.8312,     -999.0,1
  74DI20100106,        A05,      83,          1,         23,         23,3,20100130,       1712,   23.87387,  -46.33368,       5059,    52.3,  23.8423,  37.3858,-999.0000,9,  -999.0,9, -999.00,9, -999.00,9,  -999.0,9,  -999.0,9, -999.00,9,     -999.0,9,     -999.0,9,     -999.0,9,     -999.0,9,    23.8312,     -999.0,9
  74DI20100106,        A05,      83,          1,         24,         24,2,20100130,       1712,   23.87387,  -46.33368,       5059,    11.4,  23.8388,  37.3879,  37.3877,2,   204.3,2,    0.85,2,    0.00,2,  2085.5,2,  2439.1,2,    0.00,2,     -999.0,1,     -999.0,1,     -999.0,1,     -999.0,1,    23.8364,     -999.0,1
  74DI20100106,        A05,      84,          1,          1,          1,2,20100131,       0020,   23.76692,  -45.80198,       4529,  4589.7,   2.2763,  34.8800,  34.8836,2,   246.8,2,   47.09,2,    1.47,2,  2188.9,2,  2341.5,2,   22.08,2,     -999.0,1,     -999.0,1,     -999.0,1,     -999.0,1,     1.8652,     -999.0,1
  74DI20100106,        A05,      84,          1,          2,          2,2,20100131,       0020,   23.76692,  -45.80198,       4529,  4587.6,   2.2763,  34.8799,  34.8902,2,   248.0,2,   45.38,2,    1.46,2,  -999.0,9,  -999.0,9,   21.93,2,     -999.0,1,     -999.0,1,     -999.0,1,     -999.0,1,     1.8654,     -999.0,1
  74DI20100106,        A05,      84,          1,          3,          3,2,20100131,       0020,   23.76692,  -45.80198,       4529,  4065.2,   2.2711,  34.8851,  34.8872,2,   248.2,2,   45.35,2,    1.46,2,  2187.1,2,  2337.5,2,   22.08,2,     -999.0,1,     -999.0,1,     -999.0,1,     -999.0,1,     1.9218,     -999.0,1
  74DI20100106,        A05,      84,          1,          4,          4,2,20100131,       0020,   23.76692,  -45.80198,       4529,  4064.6,   2.2712,  34.8852,  34.8856,2,   246.7,2,   45.70,2,    1.47,2,  -999.0,9,  -999.0,9,   22.18,2,     -999.0,1,     -999.0,1,     -999.0,1,     -999.0,1,     1.9221,     -999.0,1
  74DI20100106,        A05,      84,          1,          5,          5,2,20100131,       0020,   23.76692,  -45.80198,       4529,  3554.3,   2.5593,  34.9118,  34.9123,2,   245.5,2,   40.50,2,    1.43,2,  -999.0,9,  -999.0,9,   21.71,2,     -999.0,1,     -999.0,1,     -999.0,1,     -999.0,1,     2.2595,     -999.0,1
  74DI20100106,        A05,      84,          1,          6,          6,2,20100131,       0020,   23.76692,  -45.80198,       4529,  3044.4,   2.7276,  34.9303,  34.9290,2,   243.5,2,   36.85,2,    1.42,2,  -999.0,9,  -999.0,9,   21.44,2,     -999.0,1,     -999.0,1,     -999.0,1,     -999.0,1,     2.4781,     -999.0,1
  74DI20100106,        A05,      84,          1,          7,          7,2,20100131,       0020,   23.76692,  -45.80198,       4529,  2536.5,   3.0874,  34.9636,  34.9634,2,   242.6,2,   30.46,2,    1.38,2,  -999.0,9,  -999.0,9,   21.01,2,     -999.0,1,     -999.0,1,     -999.0,1,     -999.0,1,     2.8821,     -999.0,1
  74DI20100106,        A05,      84,          1,          8,          8,10,20100131,       0020,   23.76692,  -45.80198,       4529,  2284.5,   3.3079,  34.9823,  34.9835,2,   242.5,2,   27.11,2,    1.39,2,  -999.0,9,  -999.0,9,   20.42,2,     -999.0,1,     -999.0,1,     -999.0,1,     -999.0,1,     3.1234,     -999.0,1
  74DI20100106,        A05,      84,          1,          9,          9,2,20100131,       0020,   23.76692,  -45.80198,       4529,  2029.0,   3.7040,  35.0146,  35.0144,2,   240.2,2,   23.15,2,    1.31,2,  -999.0,9,  -999.0,9,   20.01,2,     -999.0,1,     -999.0,1,     -999.0,1,     -999.0,1,     3.5379,     -999.0,1
  74DI20100106,        A05,      84,          1,         10,         10,2,20100131,       0020,   23.76692,  -45.80198,       4529,  1776.9,   4.2462,  35.0367,  35.0367,2,   229.9,2,   19.84,2,    1.37,2,  -999.0,9,  -999.0,9,   20.73,2,     -999.0,1,     -999.0,1,     -999.0,1,     -999.0,1,     4.0968,     -999.0,1
  74DI20100106,        A05,      84,          1,         11,         11,2,20100131,       0020,   23.76692,  -45.80198,       4529,  1517.1,   4.7675,  35.0268,  35.0260,2,   213.8,2,   18.80,2,    1.46,2,  -999.0,9,  -999.0,9,   22.37,2,     -999.0,1,     -999.0,1,     -999.0,1,     -999.0,1,     4.6369,     -999.0,1
  74DI20100106,        A05,      84,          1,         12,         12,2,20100131,       0020,   23.76692,  -45.80198,       4529,  1263.7,   5.4463,  35.0156,  35.0149,2,   185.7,2,   19.59,2,    1.62,2,  -999.0,9,  -999.0,9,   24.91,2,     -999.0,1,     -999.0,1,     -999.0,1,     -999.0,1,     5.3334,     -999.0,1
  74DI20100106,        A05,      84,          1,         13,         13,2,20100131,       0020,   23.76692,  -45.80198,       4529,  1007.6,   6.6684,  35.0174,  35.0178,2,   150.6,2,   20.34,2,    1.80,2,  -999.0,9,  -999.0,9,   27.95,2,     -999.0,1,     -999.0,1,     -999.0,1,     -999.0,1,     6.5710,     -999.0,1
  74DI20100106,        A05,      84,          1,         14,         14,2,20100131,       0020,   23.76692,  -45.80198,       4529,   881.7,   8.0139,  35.1607,  35.1599,2,   142.4,2,   17.22,2,    1.69,2,  -999.0,9,  -999.0,9,   26.79,2,     -999.0,9,     -999.0,9,     -999.0,9,     -999.0,9,     7.9205,     -999.0,9
  74DI20100106,        A05,      84,          1,         15,         15,2,20100131,       0020,   23.76692,  -45.80198,       4529,   755.2,   9.7435,  35.3308,  35.3303,2,   134.7,2,   13.31,2,    1.53,2,  -999.0,9,  -999.0,9,   25.11,2,     -999.0,9,     -999.0,9,     -999.0,9,     -999.0,9,     9.6544,     -999.0,9
  74DI20100106,        A05,      84,          1,         16,         16,2,20100131,       0020,   23.76692,  -45.80198,       4529,   631.0,  11.3888,  35.5321,  35.5264,2,   137.0,2,    9.59,2,    1.29,2,  -999.0,9,  -999.0,9,   21.64,2,     -999.0,9,     -999.0,9,     -999.0,9,     -999.0,9,    11.3073,     -999.0,9
  74DI20100106,        A05,      84,          1,         17,         17,2,20100131,       0020,   23.76692,  -45.80198,       4529,   504.5,  13.3254,  35.7918,  35.7928,2,   156.4,2,    5.78,2,    0.92,2,  -999.0,9,  -999.0,9,   15.94,2,     -999.0,9,     -999.0,9,     -999.0,9,     -999.0,9,    13.2536,     -999.0,9
  74DI20100106,        A05,      84,          1,         18,         18,2,20100131,       0020,   23.76692,  -45.80198,       4529,   378.1,  15.7592,  36.1792,  36.1757,2,   168.0,2,    3.33,2,    0.59,2,  -999.0,9,  -999.0,9,   10.51,2,     -999.0,9,     -999.0,9,     -999.0,9,     -999.0,9,    15.6991,     -999.0,9
  74DI20100106,        A05,      84,          1,         19,         19,2,20100131,       0020,   23.76692,  -45.80198,       4529,   252.7,  17.8393,  36.5485,  36.5497,2,   179.5,2,    1.95,2,    0.31,2,  -999.0,9,  -999.0,9,    5.97,2,     -999.0,9,     -999.0,9,     -999.0,9,     -999.0,9,    17.7957,     -999.0,9
  74DI20100106,        A05,      84,          1,         20,         20,2,20100131,       0020,   23.76692,  -45.80198,       4529,   178.1,  19.8338,  36.9175,  36.9246,2,   180.2,2,    1.24,2,    0.11,2,  -999.0,9,  -999.0,9,    2.67,2,     -999.0,9,     -999.0,9,     -999.0,9,     -999.0,9,    19.8007,     -999.0,9
  74DI20100106,        A05,      84,          1,         21,         21,2,20100131,       0020,   23.76692,  -45.80198,       4529,   120.4,  22.4962,  37.3175,  37.3207,2,   201.2,2,    0.84,2,    0.01,2,  -999.0,9,  -999.0,9,    0.09,2,     -999.0,9,     -999.0,9,     -999.0,9,     -999.0,9,    22.4718,     -999.0,9
  74DI20100106,        A05,      84,          1,         22,         22,10,20100131,       0020,   23.76692,  -45.80198,       4529,    47.3,  24.1922,  37.4902,  37.4899,2,   202.9,2,    0.90,2,    0.01,2,  -999.0,9,  -999.0,9,    0.00,2,     -999.0,9,     -999.0,9,     -999.0,9,     -999.0,9,    24.1821,     -999.0,9
  74DI20100106,        A05,      84,          1,         23,         23,2,20100131,       0020,   23.76692,  -45.80198,       4529,    27.6,  24.2064,  37.4892,  37.4888,2,   202.9,2,    0.94,2,    0.00,2,  -999.0,9,  -999.0,9,    0.00,2,     -999.0,9,     -999.0,9,     -999.0,9,     -999.0,9,    24.2005,     -999.0,9
  74DI20100106,        A05,      84,          1,         24,         24,2,20100131,       0020,   23.76692,  -45.80198,       4529,     5.2,  24.1962,  37.4898,  37.4892,2,   203.4,2,    0.93,2,    0.00,2,  -999.0,9,  -999.0,9,    0.00,2,     -999.0,9,     -999.0,9,     -999.0,9,     -999.0,9,    24.1951,     -999.0,9