BOTTLE,20200115CCHSIOCBG
EXPOCODE,SECT_ID,STNNBR,CASTNO,SAMPNO,BTLNBR,BTLNBR_FLAG_W,DATE,TIME,LATITUDE,LONGITUDE,DEPTH,CTDPRS,CTDTMP,CTDSAL,SALNTY,SALNTY_FLAG_W,OXYGEN,OXYGEN_FLAG_W,SILCAT,SILCAT_FLAG_W,PHSPHT,PHSPHT_FLAG_W,TCARBN,TCARBN_FLAG_W,ALKALI,ALKALI_FLAG_W,NO2+NO3,NO2+NO3_FLAG_W,CFC-11,CFC-11_FLAG_W,CFC-12,CFC-12_FLAG_W,CFC113,CFC113_FLAG_W,CCL4,CCL4_FLAG_W,THETA,SF6,SF6_FLAG_W
,,,,,,,,,,,METERS,DBAR,ITS-90,PSS-78,PSS-78,,UMOL/KG,,UMOL/KG,,UMOL/KG,,UMOL/KG,,UMOL/KG,,UMOL/KG,,PMOL/L,,PMOL/L,,PMOL/L,,PMOL/L,,ITS-90,FMOL/L,
  74DI20100106,        A05,      19,          1,          1,          1,2,20100109,       1140,   26.49571,  -76.76129,       3778,  3821.3,   2.3660,  34.8990,  34.8992,2,   270.3,2,   27.75,2,    1.28,2,  2172.4,2,  2319.4,2,   18.79,2,     -999.0,1,     -999.0,1,     -999.0,1,     -999.0,1,     2.0417,     -999.0,1
  74DI20100106,        A05,      19,          1,          2,          2,2,20100109,       1140,   26.49571,  -76.76129,       3778,  3550.7,   2.4505,  34.9056,  34.9061,2,   266.3,2,   25.54,2,    1.24,2,  -999.0,9,  -999.0,9,   18.81,2,     -999.0,1,     -999.0,1,     -999.0,1,     -999.0,1,     2.1539,     -999.0,1
  74DI20100106,        A05,      19,          1,          3,          3,2,20100109,       1140,   26.49571,  -76.76129,       3778,  3295.5,   2.5527,  34.9129,  34.9131,2,   266.7,2,   23.92,2,    1.22,2,  2167.9,2,  2315.9,2,   18.25,2,     -999.0,1,     -999.0,1,     -999.0,1,     -999.0,1,     2.2810,     -999.0,1
  74DI20100106,        A05,      19,          1,          4,          4,10,20100109,       1140,   26.49571,  -76.76129,       3778,  3039.1,   2.9958,  34.9353,  34.9354,2,   263.5,2,   20.41,2,    1.22,2,  -999.0,9,  -999.0,9,   18.44,2,     -999.0,9,     -999.0,9,     -999.0,9,     -999.0,9,     2.7410,     -999.0,9
  74DI20100106,        A05,      19,          1,          5,          5,2,20100109,       1140,   26.49571,  -76.76129,       3778,  2783.4,   3.3213,  34.9472,  34.9469,2,   263.7,2,   17.87,2,    1.21,2,  2160.7,2,  2310.1,2,   18.29,2,     -999.0,1,     -999.0,1,     -999.0,1,     -999.0,1,     3.0864,     -999.0,1
  74DI20100106,        A05,      19,          1,          6,          6,2,20100109,       1140,   26.49571,  -76.76129,       3778,  2531.4,   3.4300,  34.9509,  34.9512,2,   264.6,2,   16.83,2,    1.22,2,  -999.0,9,  -999.0,9,   18.48,2,     -999.0,9,     -999.0,9,     -999.0,9,     -999.0,9,     3.2190,     -999.0,9
  74DI20100106,        A05,      19,          1,          7,          7,2,20100109,       1140,   26.49571,  -76.76129,       3778,  2280.6,   3.5242,  34.9511,  34.9510,2,   263.0,2,   15.83,2,    1.22,2,  2159.9,2,  2308.6,2,   18.33,2,     -999.0,1,     -999.0,1,     -999.0,1,     -999.0,1,     3.3366,     -999.0,1
  74DI20100106,        A05,      19,          1,          8,          8,2,20100109,       1140,   26.49571,  -76.76129,       3778,  2029.6,   3.5987,  34.9543,  34.9545,2,   266.5,2,   15.28,2,    1.21,2,  -999.0,9,  -999.0,9,   18.39,2,     -999.0,1,     -999.0,1,     -999.0,1,     -999.0,1,     3.4343,     -999.0,1
  74DI20100106,        A05,      19,          1,          9,          9,2,20100109,       1140,   26.49571,  -76.76129,       3778,  1777.6,   3.7176,  34.9593,  34.9593,2,   264.5,2,   14.52,2,    1.22,2,  2162.6,2,  2307.3,2,   18.65,2,     -999.0,1,     -999.0,1,     -999.0,1,     -999.0,1,     3.5753,     -999.0,1
  74DI20100106,        A05,      19,          1,         10,         10,2,20100109,       1140,   26.49571,  -76.76129,       3778,  1524.6,   3.9330,  34.9715,  34.9712,2,   259.4,3,   13.71,2,    1.21,2,  2163.9,2,  2305.2,2,   18.57,2,     -999.0,1,     -999.0,1,     -999.0,1,     -999.0,1,     3.8113,     -999.0,1
  74DI20100106,        A05,      19,          1,         11,         11,10,20100109,       1140,   26.49571,  -76.76129,       3778,  1271.5,   4.4431,  35.0001,  34.9999,2,  -999.0,9,   12.93,2,    1.24,2,  -999.0,9,  -999.0,9,   19.07,2,     -999.0,9,     -999.0,9,     -999.0,9,     -999.0,9,     4.3390,     -999.0,9
  74DI20100106,        A05,      19,          1,         12,         12,10,20100109,       1140,   26.49571,  -76.76129,       3778,  1018.7,   6.1101,  35.0770,  35.0757,2,   205.4,2,   14.60,2,    1.41,2,  2182.8,2,  2312.6,2,   22.13,2,     -999.0,1,     -999.0,1,     -999.0,1,     -999.0,1,     6.0157,     -999.0,1
  74DI20100106,        A05,      19,          1,         13,         13,10,20100109,       1140,   26.49571,  -76.76129,       3778,   839.6,   8.8972,  35.1957,  35.1952,2,   150.6,2,   14.89,2,    1.57,2,  -999.0,9,  -999.0,9,   24.98,2,     -999.0,9,     -999.0,9,     -999.0,9,     -999.0,9,     8.8030,     -999.0,9
  74DI20100106,        A05,      19,          1,         14,         14,2,20100109,       1140,   26.49571,  -76.76129,       3778,   765.7,  10.1420,  35.3169,  35.3126,2,   140.4,2,   13.03,2,    1.48,2,  2186.5,2,  2322.4,2,   24.10,2,     -999.0,1,     -999.0,1,     -999.0,1,     -999.0,1,    10.0495,     -999.0,1
  74DI20100106,        A05,      19,          1,         15,         15,2,20100109,       1140,   26.49571,  -76.76129,       3778,   639.0,  13.0112,  35.7049,  35.6988,2,   156.1,2,    7.24,2,    1.01,2,  2162.8,2,  2338.9,2,   16.93,2,     -999.0,1,     -999.0,1,     -999.0,1,     -999.0,1,    12.9213,     -999.0,1
  74DI20100106,        A05,      19,          1,         16,         16,2,20100109,       1140,   26.49571,  -76.76129,       3778,   511.6,  15.8302,  36.1519,  36.1515,2,   173.5,2,    3.61,2,    0.59,2,  -999.0,9,  -999.0,9,   10.47,2,     -999.0,9,     -999.0,9,     -999.0,9,     -999.0,9,    15.7484,     -999.0,9
  74DI20100106,        A05,      19,          1,         17,         17,2,20100109,       1140,   26.49571,  -76.76129,       3778,   387.2,  17.6931,  36.4844,  36.4843,2,   190.1,2,    1.97,2,    0.28,2,  2117.7,2,  2384.4,2,    5.75,2,     -999.0,1,     -999.0,1,     -999.0,1,     -999.0,1,    17.6264,     -999.0,1
  74DI20100106,        A05,      19,          1,         18,         18,2,20100109,       1140,   26.49571,  -76.76129,       3778,   261.3,  18.7974,  36.6209,  36.6215,2,   186.1,2,    1.32,2,    0.13,2,  -999.0,9,  -999.0,9,    3.49,2,     -999.0,9,     -999.0,9,     -999.0,9,     -999.0,9,    18.7506,     -999.0,9
  74DI20100106,        A05,      19,          1,         19,         19,2,20100109,       1140,   26.49571,  -76.76129,       3778,   186.5,  20.3107,  36.7688,  36.7653,2,   182.9,2,    0.96,2,    0.03,2,  2113.2,2,  2397.4,2,    1.41,2,     -999.0,1,     -999.0,1,     -999.0,1,     -999.0,1,    20.2755,     -999.0,1
  74DI20100106,        A05,      19,          1,         20,         20,2,20100109,       1140,   26.49571,  -76.76129,       3778,   100.1,  23.2415,  36.7176,  36.7159,2,   203.6,2,    0.95,2,    0.00,2,  -999.0,9,  -999.0,9,    0.07,2,     -999.0,9,     -999.0,9,     -999.0,9,     -999.0,9,    23.2208,     -999.0,9
  74DI20100106,        A05,      19,          1,         21,         21,2,20100109,       1140,   26.49571,  -76.76129,       3778,    74.8,  23.6441,  36.7071,  36.7060,2,   204.4,2,    0.98,2,    0.00,2,  2050.1,2,  2392.2,2,    0.00,2,     -999.0,1,     -999.0,1,     -999.0,1,     -999.0,1,    23.6284,     -999.0,1
  74DI20100106,        A05,      19,          1,         22,         22,2,20100109,       1140,   26.49571,  -76.76129,       3778,    49.3,  23.6452,  36.7073,  36.7062,2,   204.3,2,    1.07,2,    0.00,2,  -999.0,9,  -999.0,9,    0.00,2,     -999.0,9,     -999.0,9,     -999.0,9,     -999.0,9,    23.6349,     -999.0,9
  74DI20100106,        A05,      19,          1,         23,         23,2,20100109,       1140,   26.49571,  -76.76129,       3778,    25.2,  23.6403,  36.7075,  36.7065,2,   205.8,2,    1.00,2,    0.00,2,  2049.0,2,  2392.0,2,    0.00,2,     -999.0,9,     -999.0,9,     -999.0,9,     -999.0,9,    23.6350,     -999.0,9
  74DI20100106,        A05,      19,          1,         24,         24,2,20100109,       1140,   26.49571,  -76.76129,       3778,     5.3,  23.6375,  36.7085,  36.7070,2,   205.1,2,    0.95,2,    0.00,2,  2049.8,2,  2391.2,2,    0.01,2,     -999.0,1,     -999.0,1,     -999.0,1,     -999.0,1,    23.6364,     -999.0,1
  74DI20100106,        A05,      20,          1,          1,          1,2,20100109,       1743,   26.49924,  -76.68259,       4574,  4638.9,   2.3033,  34.8912,  34.8898,2,   259.7,2,   33.40,2,    1.28,2,  2178.2,2,  2326.9,2,   19.42,2,     -999.0,1,     -999.0,1,     -999.0,1,     -999.0,1,     1.8853,     -999.0,1
  74DI20100106,        A05,      20,          1,          2,          2,2,20100109,       1743,   26.49924,  -76.68259,       4574,  4638.7,   2.3031,  34.8911,  34.8889,2,   261.7,2,   33.33,2,    1.27,2,  2176.5,2,  2324.1,2,   19.31,2,     -999.0,1,     -999.0,1,     -999.0,1,     -999.0,1,     1.8852,     -999.0,1
  74DI20100106,        A05,      20,          1,          3,          3,3,20100109,       1743,   26.49924,  -76.68259,       4574,  4576.2,   2.2954,  34.8894,-999.0000,9,  -999.0,9, -999.00,9, -999.00,9,  -999.0,9,  -999.0,9, -999.00,9,     -999.0,9,     -999.0,9,     -999.0,9,     -999.0,9,     1.8852,     -999.0,9
  74DI20100106,        A05,      20,          1,          4,          4,2,20100109,       1743,   26.49924,  -76.68259,       4574,  4067.3,   2.2945,  34.8934,  34.8928,2,   263.8,2,   30.40,2,    1.24,2,  2174.8,2,  2321.6,2,   18.99,2,     -999.0,1,     -999.0,1,     -999.0,1,     -999.0,9,     1.9443,     -999.0,1
  74DI20100106,        A05,      20,          1,          5,          5,2,20100109,       1743,   26.49924,  -76.68259,       4574,  3557.1,   2.5300,  34.9105,  34.9100,2,   266.0,2,   24.27,2,    1.19,2,  2165.0,2,  2314.4,2,   18.38,2,     -999.0,1,     -999.0,1,     -999.0,1,     -999.0,1,     2.2306,     -999.0,1
  74DI20100106,        A05,      20,          1,          6,          6,10,20100109,       1743,   26.49924,  -76.68259,       4574,  3048.6,   2.9960,  34.9346,  34.9345,2,   263.5,2,   20.03,2,    1.19,2,  -999.0,9,  -999.0,9,   18.53,2,     -999.0,9,     -999.0,9,     -999.0,9,     -999.0,9,     2.7403,     -999.0,9
  74DI20100106,        A05,      20,          1,          7,          7,2,20100109,       1743,   26.49924,  -76.68259,       4574,  2536.1,   3.3264,  34.9471,  34.9470,2,   262.6,2,   17.37,2,    1.18,2,  2160.7,2,  2309.4,2,   18.41,2,     -999.0,1,     -999.0,1,     -999.0,1,     -999.0,1,     3.1168,     -999.0,1
  74DI20100106,        A05,      20,          1,          8,          8,2,20100109,       1743,   26.49924,  -76.68259,       4574,  2285.0,   3.4518,  34.9491,  34.9484,2,   262.7,2,   16.07,2,    1.17,2,  -999.0,9,  -999.0,9,   18.63,2,     -999.0,9,     -999.0,9,     -999.0,9,     -999.0,9,     3.2651,     -999.0,9
  74DI20100106,        A05,      20,          1,          9,          9,2,20100109,       1743,   26.49924,  -76.68259,       4574,  2030.2,   3.5703,  34.9540,  34.9539,2,   262.0,2,   15.29,2,    1.17,2,  2161.0,2,  2308.3,2,   18.46,2,     -999.0,1,     -999.0,1,     -999.0,1,     -999.0,1,     3.4063,     -999.0,1
  74DI20100106,        A05,      20,          1,         10,         10,2,20100109,       1743,   26.49924,  -76.68259,       4574,  1776.4,   3.7541,  34.9611,  34.9599,2,   260.4,2,   14.25,2,    1.18,2,  2161.1,2,  2305.1,2,   18.47,2,     -999.0,1,     -999.0,1,     -999.0,1,     -999.0,1,     3.6114,     -999.0,1
  74DI20100106,        A05,      20,          1,         11,         11,10,20100109,       1743,   26.49924,  -76.68259,       4574,  1518.2,   3.8335,  34.9654,  34.9648,2,   259.7,2,   13.90,2,    1.18,2,  -999.0,9,  -999.0,9,   18.66,2,     -999.0,9,     -999.0,9,     -999.0,9,     -999.0,9,     3.7136,     -999.0,9
  74DI20100106,        A05,      20,          1,         12,         12,3,20100109,       1743,   26.49924,  -76.68259,       4574,  1266.8,   4.4112,  34.9931,-999.0000,9,  -999.0,9, -999.00,9, -999.00,9,  -999.0,9,  -999.0,9, -999.00,9,     -999.0,9,     -999.0,9,     -999.0,9,     -999.0,9,     4.3079,     -999.0,9
  74DI20100106,        A05,      20,          1,         13,         13,2,20100109,       1743,   26.49924,  -76.68259,       4574,  1014.7,   6.0988,  35.0785,  35.0777,2,   204.4,2,   11.21,2,    1.38,2,  2182.3,2,  2314.1,2,   21.89,2,     -999.0,1,     -999.0,1,     -999.0,1,     -999.0,1,     6.0048,     -999.0,1
  74DI20100106,        A05,      20,          1,         14,         14,3,20100109,       1743,   26.49924,  -76.68259,       4574,   891.7,   7.9047,  35.1160,-999.0000,9,  -999.0,9, -999.00,9, -999.00,9,  -999.0,9,  -999.0,9, -999.00,9,     -999.0,9,     -999.0,9,     -999.0,9,     -999.0,9,     7.8109,     -999.0,9
  74DI20100106,        A05,      20,          1,         15,         15,2,20100109,       1743,   26.49924,  -76.68259,       4574,   765.7,  10.5984,  35.3983,  35.3973,2,   148.8,2,   11.21,2,    1.39,2,  -999.0,9,  -999.0,9,   22.08,2,     -999.0,9,     -999.0,9,     -999.0,9,     -999.0,9,    10.5033,     -999.0,9
  74DI20100106,        A05,      20,          1,         16,         16,2,20100109,       1743,   26.49924,  -76.68259,       4574,   765.5,  10.6016,  35.3984,  35.3979,2,   149.8,2,   11.38,2,    1.35,2,  2182.1,2,  2325.8,2,   22.47,2,     -999.0,1,     -999.0,1,     -999.0,1,     -999.0,1,    10.5065,     -999.0,1
  74DI20100106,        A05,      20,          1,         17,         17,2,20100109,       1743,   26.49924,  -76.68259,       4574,   639.4,  13.2805,  35.7456,  35.7448,2,   160.8,2,    6.67,2,    0.98,2,  2159.1,2,  2341.7,2,   16.37,2,     -999.0,1,     -999.0,1,     -999.0,1,     -999.0,1,    13.1893,     -999.0,1
  74DI20100106,        A05,      20,          1,         18,         18,2,20100109,       1743,   26.49924,  -76.68259,       4574,   508.3,  16.1632,  36.2090,  36.2108,2,   175.1,2,    3.25,2,    0.53,2,  -999.0,9,  -999.0,9,    9.96,2,     -999.0,9,     -999.0,9,     -999.0,9,     -999.0,9,    16.0808,     -999.0,9
  74DI20100106,        A05,      20,          1,         19,         19,10,20100109,       1743,   26.49924,  -76.68259,       4574,   382.1,  17.7690,  36.4975,  36.4979,2,   190.8,2,    1.79,2,    0.26,2,  -999.0,9,  -999.0,9,    5.63,2,     -999.0,9,     -999.0,9,     -999.0,9,     -999.0,9,    17.7030,     -999.0,9
  74DI20100106,        A05,      20,          1,         20,         20,2,20100109,       1743,   26.49924,  -76.68259,       4574,   251.8,  18.8762,  36.6270,  36.6274,2,   185.7,2,    1.27,2,    0.12,2,  2116.5,2,  2390.1,2,    3.53,2,     -999.0,1,     -999.0,1,     -999.0,9,     -999.0,9,    18.8310,     -999.0,1
  74DI20100106,        A05,      20,          1,         21,         21,2,20100109,       1743,   26.49924,  -76.68259,       4574,   176.2,  20.4019,  36.7555,  36.7537,2,   186.9,2,    0.82,2,    0.00,2,  2109.4,2,  2397.4,2,    1.13,2,     -999.0,1,     -999.0,1,     -999.0,9,     -999.0,9,    20.3685,     -999.0,1
  74DI20100106,        A05,      20,          1,         22,         22,2,20100109,       1743,   26.49924,  -76.68259,       4574,   100.8,  23.4449,  36.7090,  36.7106,2,   205.2,2,    0.86,2,    0.00,2,  -999.0,9,  -999.0,9,    0.00,2,     -999.0,9,     -999.0,9,     -999.0,9,     -999.0,9,    23.4239,     -999.0,9
  74DI20100106,        A05,      20,          1,         23,         23,10,20100109,       1743,   26.49924,  -76.68259,       4574,    50.0,  23.6549,  36.7130,  36.7126,2,   204.4,2,    0.90,2,    0.00,2,  2049.9,2,  2392.3,2,    0.02,2,     -999.0,1,     -999.0,1,     -999.0,1,     -999.0,9,    23.6444,     -999.0,1
  74DI20100106,        A05,      20,          1,         24,         24,2,20100109,       1743,   26.49924,  -76.68259,       4574,     3.0,  23.6286,  36.7089,  36.7077,2,   205.7,2,    0.90,2,    0.00,2,  2050.0,2,  2393.0,2,    0.00,2,     -999.0,1,     -999.0,1,     -999.0,1,     -999.0,1,    23.6280,     -999.0,1