BOTTLE,20200115CCHSIOCBG
EXPOCODE,SECT_ID,STNNBR,CASTNO,SAMPNO,BTLNBR,BTLNBR_FLAG_W,DATE,TIME,LATITUDE,LONGITUDE,DEPTH,CTDPRS,CTDTMP,CTDSAL,SALNTY,SALNTY_FLAG_W,OXYGEN,OXYGEN_FLAG_W,SILCAT,SILCAT_FLAG_W,PHSPHT,PHSPHT_FLAG_W,TCARBN,TCARBN_FLAG_W,ALKALI,ALKALI_FLAG_W,NO2+NO3,NO2+NO3_FLAG_W,CFC-11,CFC-11_FLAG_W,CFC-12,CFC-12_FLAG_W,CFC113,CFC113_FLAG_W,CCL4,CCL4_FLAG_W,THETA,SF6,SF6_FLAG_W
,,,,,,,,,,,METERS,DBAR,ITS-90,PSS-78,PSS-78,,UMOL/KG,,UMOL/KG,,UMOL/KG,,UMOL/KG,,UMOL/KG,,UMOL/KG,,PMOL/L,,PMOL/L,,PMOL/L,,PMOL/L,,ITS-90,FMOL/L,
  74DI20100106,        A05,      81,          1,          1,          1,3,20100130,       0122,   23.97554,  -47.40871,       4564,  4554.7,   2.1400,  34.8682,-999.0000,9,  -999.0,9, -999.00,9, -999.00,9,  -999.0,9,  -999.0,9, -999.00,9,     -999.0,9,     -999.0,9,     -999.0,9,     -999.0,9,     1.7374,     -999.0,9
  74DI20100106,        A05,      81,          1,          2,          2,3,20100130,       0122,   23.97554,  -47.40871,       4564,  4317.3,   2.1785,  34.8745,-999.0000,9,  -999.0,9, -999.00,9, -999.00,9,  -999.0,9,  -999.0,9, -999.00,9,     -999.0,9,     -999.0,9,     -999.0,9,     -999.0,9,     1.8028,     -999.0,9
  74DI20100106,        A05,      81,          1,          3,          3,3,20100130,       0122,   23.97554,  -47.40871,       4564,  4318.3,   2.1786,  34.8746,-999.0000,9,  -999.0,9, -999.00,9, -999.00,9,  -999.0,9,  -999.0,9, -999.00,9,     -999.0,9,     -999.0,9,     -999.0,9,     -999.0,9,     1.8029,     -999.0,9
  74DI20100106,        A05,      81,          1,          4,          4,10,20100130,       0122,   23.97554,  -47.40871,       4564,  3805.5,   2.3322,  34.8924,  34.8844,2,   247.5,2,   47.23,2,    1.45,2,  -999.0,9,  -999.0,9,   21.93,2,     -999.0,9,     -999.0,9,     -999.0,9,     -999.0,9,     2.0106,     -999.0,9
  74DI20100106,        A05,      81,          1,          5,          5,2,20100130,       0122,   23.97554,  -47.40871,       4564,  3290.8,   2.6171,  34.9200,  34.9134,2,   245.4,2,   40.73,2,    1.42,2,  -999.0,9,  -999.0,9,   21.51,2,     -999.0,1,     -999.0,1,     -999.0,1,     -999.0,9,     2.3443,     -999.0,1
  74DI20100106,        A05,      81,          1,          6,          6,2,20100130,       0122,   23.97554,  -47.40871,       4564,  2782.5,   2.8995,  34.9469,  34.9464,2,   243.1,2,   34.34,2,    1.39,2,  -999.0,9,  -999.0,9,   21.14,2,     -999.0,1,     -999.0,1,     -999.0,1,     -999.0,1,     2.6732,     -999.0,1
  74DI20100106,        A05,      81,          1,          7,          7,2,20100130,       0122,   23.97554,  -47.40871,       4564,  2533.6,   3.1048,  34.9648,  34.9638,2,   243.2,2,   31.10,2,    1.36,2,  -999.0,9,  -999.0,9,   20.63,2,     -999.0,1,     -999.0,1,     -999.0,1,     -999.0,1,     2.8995,     -999.0,1
  74DI20100106,        A05,      81,          1,          8,          8,2,20100130,       0122,   23.97554,  -47.40871,       4564,  2282.1,   3.3486,  34.9850,  34.9844,2,   243.0,2,   27.37,2,    1.32,2,  -999.0,9,  -999.0,9,   20.47,2,     -999.0,1,     -999.0,1,     -999.0,1,     -999.0,1,     3.1637,     -999.0,1
  74DI20100106,        A05,      81,          1,          9,          9,2,20100130,       0122,   23.97554,  -47.40871,       4564,  2031.3,   3.8399,  35.0292,  35.0294,2,   241.1,2,   22.45,2,    1.28,2,  -999.0,9,  -999.0,9,   20.07,2,     -999.0,9,     -999.0,9,     -999.0,9,     -999.0,9,     3.6715,     -999.0,9
  74DI20100106,        A05,      81,          1,         10,         10,2,20100130,       0122,   23.97554,  -47.40871,       4564,  1776.9,   4.2227,  35.0431,  35.0438,2,   235.1,2,   19.56,2,    1.30,2,  -999.0,9,  -999.0,9,   20.21,2,     -999.0,1,     -999.0,1,     -999.0,1,     -999.0,1,     4.0736,     -999.0,1
  74DI20100106,        A05,      81,          1,         11,         11,2,20100130,       0122,   23.97554,  -47.40871,       4564,  1520.2,   4.8010,  35.0500,  35.0507,2,   223.3,2,   17.25,2,    1.35,2,  -999.0,9,  -999.0,9,   21.02,2,     -999.0,1,     -999.0,1,     -999.0,1,     -999.0,1,     4.6696,     -999.0,1
  74DI20100106,        A05,      81,          1,         12,         12,2,20100130,       0122,   23.97554,  -47.40871,       4564,  1266.4,   5.4549,  35.0226,  35.0226,2,   189.4,2,   19.63,2,    1.57,2,  -999.0,9,  -999.0,9,   24.52,2,     -999.0,1,     -999.0,1,     -999.0,1,     -999.0,1,     5.3416,     -999.0,1
  74DI20100106,        A05,      81,          1,         13,         13,2,20100130,       0122,   23.97554,  -47.40871,       4564,  1013.8,   6.6273,  35.0361,  35.0381,2,   153.0,2,   20.67,2,    1.77,2,  -999.0,9,  -999.0,9,   27.85,2,     -999.0,1,     -999.0,1,     -999.0,1,     -999.0,1,     6.5295,     -999.0,1
  74DI20100106,        A05,      81,          1,         14,         14,2,20100130,       0122,   23.97554,  -47.40871,       4564,   882.1,   7.7829,  35.1237,  35.1236,2,   140.7,2,   18.35,2,    1.72,2,  -999.0,9,  -999.0,9,   27.91,2,     -999.0,9,     -999.0,9,     -999.0,9,     -999.0,9,     7.6909,     -999.0,9
  74DI20100106,        A05,      81,          1,         15,         15,10,20100130,       0122,   23.97554,  -47.40871,       4564,   765.4,   9.3605,  35.2991,  35.2957,2,   141.3,2,   14.31,2,    1.51,2,  -999.0,9,  -999.0,9,   25.01,2,     -999.0,9,     -999.0,9,     -999.0,9,     -999.0,9,     9.2723,     -999.0,9
  74DI20100106,        A05,      81,          1,         16,         16,2,20100130,       0122,   23.97554,  -47.40871,       4564,   639.3,  11.2461,  35.5182,  35.5192,2,   153.3,2,    9.25,2,    1.18,2,  -999.0,9,  -999.0,9,   20.06,2,     -999.0,9,     -999.0,9,     -999.0,9,     -999.0,9,    11.1641,     -999.0,9
  74DI20100106,        A05,      81,          1,         17,         17,2,20100130,       0122,   23.97554,  -47.40871,       4564,   514.4,  13.6374,  35.8336,  35.8320,2,   161.1,2,    5.38,2,    0.87,2,  -999.0,9,  -999.0,9,   15.33,2,     -999.0,9,     -999.0,9,     -999.0,9,     -999.0,9,    13.5629,     -999.0,9
  74DI20100106,        A05,      81,          1,         18,         18,2,20100130,       0122,   23.97554,  -47.40871,       4564,   378.0,  16.4327,  36.2705,  36.2593,2,   185.1,2,    2.55,2,    0.43,2,  -999.0,9,  -999.0,9,    8.26,2,     -999.0,9,     -999.0,9,     -999.0,9,     -999.0,9,    16.3709,     -999.0,9
  74DI20100106,        A05,      81,          1,         19,         19,2,20100130,       0122,   23.97554,  -47.40871,       4564,   251.9,  18.2235,  36.5601,  36.5602,2,   194.7,2,    1.29,2,    0.17,2,  -999.0,9,  -999.0,9,    4.04,2,     -999.0,9,     -999.0,9,     -999.0,9,     -999.0,9,    18.1793,     -999.0,9
  74DI20100106,        A05,      81,          1,         20,         20,2,20100130,       0122,   23.97554,  -47.40871,       4564,   177.2,  19.1791,  36.6638,  36.6685,2,   189.5,2,    0.84,2,    0.02,2,  -999.0,9,  -999.0,9,    1.84,2,     -999.0,9,     -999.0,9,     -999.0,9,     -999.0,9,    19.1470,     -999.0,9
  74DI20100106,        A05,      81,          1,         21,         21,10,20100130,       0122,   23.97554,  -47.40871,       4564,   112.0,  22.5542,  37.2847,  36.6988,4,   187.3,4,    2.06,4,    0.23,4,  -999.0,9,  -999.0,9,    4.21,4,     -999.0,9,     -999.0,9,     -999.0,9,     -999.0,9,    22.5314,     -999.0,9
  74DI20100106,        A05,      81,          1,         22,         22,10,20100130,       0122,   23.97554,  -47.40871,       4564,    75.4,  23.9799,  37.4240,  36.7960,4,   187.8,4,    2.05,4,    0.20,4,  -999.0,9,  -999.0,9,    3.84,4,     -999.0,9,     -999.0,9,     -999.0,9,     -999.0,9,    23.9639,     -999.0,9
  74DI20100106,        A05,      81,          1,         23,         23,10,20100130,       0122,   23.97554,  -47.40871,       4564,    50.5,  24.0185,  37.4269,  36.7198,4,   191.3,4,    2.03,4,    0.27,4,  -999.0,9,  -999.0,9,    4.32,4,     -999.0,9,     -999.0,9,     -999.0,9,     -999.0,9,    24.0077,     -999.0,9
  74DI20100106,        A05,      81,          1,         24,         24,10,20100130,       0122,   23.97554,  -47.40871,       4564,    10.4,  24.0146,  37.4288,  36.9703,4,   188.9,4,    1.71,4,    0.17,4,  -999.0,9,  -999.0,9,    2.92,4,     -999.0,9,     -999.0,9,     -999.0,9,     -999.0,9,    24.0124,     -999.0,9
  74DI20100106,        A05,      82,          1,          1,          1,2,20100130,       0924,   23.89923,  -46.87608,       4910,  4937.8,   2.2708,  34.8758,  34.8763,2,   248.1,2,   48.50,2,    1.47,2,  2194.7,2,  2340.0,2,   21.81,2,     -999.0,1,     -999.0,1,     -999.0,1,     -999.0,1,     1.8170,     -999.0,1
  74DI20100106,        A05,      82,          1,          2,          2,2,20100130,       0924,   23.89923,  -46.87608,       4910,  4936.3,   2.2709,  34.8758,  34.8777,2,   247.8,2,   48.29,2,    1.49,2,  -999.0,9,  -999.0,9,   22.10,2,     -999.0,1,     -999.0,1,     -999.0,1,     -999.0,1,     1.8173,     -999.0,1
  74DI20100106,        A05,      82,          1,          3,          3,2,20100130,       0924,   23.89923,  -46.87608,       4910,  4069.7,   2.2646,  34.8849,  34.8854,2,   248.0,2,   46.30,2,    1.47,2,  2194.6,2,  2339.2,2,   21.89,2,     -999.0,1,     -999.0,1,     -999.0,1,     -999.0,1,     1.9150,     -999.0,1
  74DI20100106,        A05,      82,          1,          4,          4,2,20100130,       0924,   23.89923,  -46.87608,       4910,  3558.0,   2.4947,  34.9080,  34.9080,2,   246.5,2,   41.09,2,    1.42,2,  2189.2,2,  2337.1,2,   21.23,2,     -999.0,1,     -999.0,1,     -999.0,1,     -999.0,1,     2.1961,     -999.0,1
  74DI20100106,        A05,      82,          1,          5,          5,2,20100130,       0924,   23.89923,  -46.87608,       4910,  3049.6,   2.7599,  34.9336,  34.9337,2,   243.0,2,   36.42,2,    1.41,2,  2187.3,2,  2336.3,2,   21.04,2,     -999.0,9,     -999.0,9,     -999.0,9,     -999.0,9,     2.5092,     -999.0,9
  74DI20100106,        A05,      82,          1,          6,          6,2,20100130,       0924,   23.89923,  -46.87608,       4910,  2542.2,   3.0510,  34.9592,  34.9591,2,   243.1,2,   31.22,2,    1.38,2,  2182.4,2,  2329.6,2,   20.68,2,     -999.0,1,     -999.0,1,     -999.0,1,     -999.0,1,     2.8459,     -999.0,1
  74DI20100106,        A05,      82,          1,          7,          7,2,20100130,       0924,   23.89923,  -46.87608,       4910,  2276.8,   3.3075,  34.9816,  34.9816,2,   240.9,2,   27.62,2,    1.35,2,  -999.0,9,  -999.0,9,   20.47,2,     -999.0,1,     -999.0,1,     -999.0,1,     -999.0,1,     3.1238,     -999.0,1
  74DI20100106,        A05,      82,          1,          8,          8,2,20100130,       0924,   23.89923,  -46.87608,       4910,  2023.2,   3.6677,  35.0080,  35.0083,2,   240.1,2,   23.90,2,    1.33,2,  2174.8,2,  2324.4,2,   20.05,2,     -999.0,1,     -999.0,1,     -999.0,1,     -999.0,1,     3.5027,     -999.0,1
  74DI20100106,        A05,      82,          1,          9,          9,2,20100130,       0924,   23.89923,  -46.87608,       4910,  1767.3,   4.2339,  35.0561,  35.0564,2,   235.3,2,   19.36,2,    1.30,2,  -999.0,9,  -999.0,9,   19.95,2,     -999.0,1,     -999.0,1,     -999.0,1,     -999.0,1,     4.0855,     -999.0,1
  74DI20100106,        A05,      82,          1,         10,         10,2,20100130,       0924,   23.89923,  -46.87608,       4910,  1515.9,   4.7489,  35.0742,  35.0736,2,   226.7,2,   17.04,2,    1.33,2,  2177.1,2,  2318.9,2,   20.54,2,     -999.0,1,     -999.0,1,     -999.0,1,     -999.0,1,     4.6185,     -999.0,1
  74DI20100106,        A05,      82,          1,         11,         11,2,20100130,       0924,   23.89923,  -46.87608,       4910,  1264.9,   5.4252,  35.0647,  35.0641,2,   206.1,2,   16.91,2,    1.44,2,  -999.0,9,  -999.0,9,   22.16,2,     -999.0,9,     -999.0,9,     -999.0,9,     -999.0,9,     5.3123,     -999.0,1
  74DI20100106,        A05,      82,          1,         12,         12,2,20100130,       0924,   23.89923,  -46.87608,       4910,  1010.2,   6.8729,  35.0728,  35.0738,2,   161.0,2,   18.73,2,    1.68,2,  2199.9,2,  2318.5,2,   26.07,2,     -999.0,1,     -999.0,1,     -999.0,1,     -999.0,1,     6.7736,     -999.0,1
  74DI20100106,        A05,      82,          1,         13,         13,2,20100130,       0924,   23.89923,  -46.87608,       4910,   868.2,   8.1678,  35.1630,  35.1588,2,   147.5,2,   16.81,2,    1.66,2,  2196.0,2,  2318.7,2,   26.23,2,     -999.0,1,     -999.0,1,     -999.0,1,     -999.0,1,     8.0748,     -999.0,1
  74DI20100106,        A05,      82,          1,         14,         14,2,20100130,       0924,   23.89923,  -46.87608,       4910,   755.5,   9.4411,  35.3041,  35.3052,2,   145.9,2,   13.66,2,    1.48,2,  2186.1,2,  2325.5,2,   24.03,2,     -999.0,1,     -999.0,1,     -999.0,1,     -999.0,1,     9.3536,     -999.0,1
  74DI20100106,        A05,      82,          1,         15,         15,2,20100130,       0924,   23.89923,  -46.87608,       4910,   631.8,  11.5569,  35.5559,  35.5562,2,   159.3,2,    8.65,2,    1.13,2,  2169.0,2,  2334.3,2,   18.76,2,     -999.0,1,     -999.0,1,     -999.0,1,     -999.0,1,    11.4745,     -999.0,1
  74DI20100106,        A05,      82,          1,         16,         16,2,20100130,       0924,   23.89923,  -46.87608,       4910,   506.4,  14.2229,  35.9093,  35.9122,2,   174.9,2,    4.77,2,    0.71,2,  -999.0,9,  -999.0,9,   12.47,2,     -999.0,9,     -999.0,9,     -999.0,9,     -999.0,9,    14.1476,     -999.0,9
  74DI20100106,        A05,      82,          1,         17,         17,2,20100130,       0924,   23.89923,  -46.87608,       4910,   381.5,  16.3173,  36.2538,  36.2553,2,   182.7,2,    2.85,2,    0.45,2,  2132.2,2,  2370.7,2,    8.50,2,     -999.0,1,     -999.0,1,     -999.0,1,     -999.0,1,    16.2552,     -999.0,1
  74DI20100106,        A05,      82,          1,         18,         18,2,20100130,       0924,   23.89923,  -46.87608,       4910,   252.8,  18.5102,  36.6456,  36.6468,2,   183.5,2,    1.54,2,    0.19,2,  -999.0,9,  -999.0,9,    4.33,2,     -999.0,9,     -999.0,9,     -999.0,9,     -999.0,9,    18.4654,     -999.0,9
  74DI20100106,        A05,      82,          1,         19,         19,2,20100130,       0924,   23.89923,  -46.87608,       4910,   178.3,  20.7383,  37.0097,  37.0108,2,   185.8,2,    0.97,2,    0.03,2,  2124.0,2,  2416.1,2,    1.33,2,     -999.0,1,     -999.0,1,     -999.0,9,     -999.0,9,    20.7041,     -999.0,1
  74DI20100106,        A05,      82,          1,         20,         20,2,20100130,       0924,   23.89923,  -46.87608,       4910,   101.4,  24.0674,  37.3944,  37.3994,2,   206.0,2,    0.90,2,    0.00,2,  -999.0,9,  -999.0,9,    0.00,2,     -999.0,9,     -999.0,9,     -999.0,9,     -999.0,9,    24.0458,     -999.0,9
  74DI20100106,        A05,      82,          1,         21,         21,2,20100130,       0924,   23.89923,  -46.87608,       4910,    74.7,  24.1067,  37.4024,  37.4032,2,   205.4,2,    0.91,2,    0.00,2,  -999.0,9,  -999.0,9,    0.00,2,     -999.0,9,     -999.0,9,     -999.0,9,     -999.0,9,    24.0907,     -999.0,9
  74DI20100106,        A05,      82,          1,         22,         22,2,20100130,       0924,   23.89923,  -46.87608,       4910,    50.7,  24.1017,  37.4052,  37.4032,2,   205.7,2,    0.90,2,    0.00,2,  2087.3,2,  2436.7,2,    0.00,2,     -999.0,1,     -999.0,1,     -999.0,1,     -999.0,1,    24.0909,     -999.0,1
  74DI20100106,        A05,      82,          1,         23,         23,2,20100130,       0924,   23.89923,  -46.87608,       4910,    25.4,  24.1008,  37.4054,  37.4043,2,   207.1,3,    0.89,2,    0.00,2,  2084.4,2,  2436.2,2,    0.00,2,     -999.0,1,     -999.0,1,     -999.0,1,     -999.0,1,    24.0953,     -999.0,1
  74DI20100106,        A05,      82,          1,         24,         24,2,20100130,       0924,   23.89923,  -46.87608,       4910,     5.4,  24.0992,  37.4057,  37.4049,2,   205.2,2,    0.89,2,    0.00,2,  2085.0,2,  2438.5,2,    0.00,2,     -999.0,1,     -999.0,1,     -999.0,1,     -999.0,1,    24.0981,     -999.0,1