BOTTLE,20200115CCHSIOCBG
EXPOCODE,SECT_ID,STNNBR,CASTNO,SAMPNO,BTLNBR,BTLNBR_FLAG_W,DATE,TIME,LATITUDE,LONGITUDE,DEPTH,CTDPRS,CTDTMP,CTDSAL,SALNTY,SALNTY_FLAG_W,OXYGEN,OXYGEN_FLAG_W,SILCAT,SILCAT_FLAG_W,PHSPHT,PHSPHT_FLAG_W,TCARBN,TCARBN_FLAG_W,ALKALI,ALKALI_FLAG_W,NO2+NO3,NO2+NO3_FLAG_W,CFC-11,CFC-11_FLAG_W,CFC-12,CFC-12_FLAG_W,CFC113,CFC113_FLAG_W,CCL4,CCL4_FLAG_W,THETA,SF6,SF6_FLAG_W
,,,,,,,,,,,METERS,DBAR,ITS-90,PSS-78,PSS-78,,UMOL/KG,,UMOL/KG,,UMOL/KG,,UMOL/KG,,UMOL/KG,,UMOL/KG,,PMOL/L,,PMOL/L,,PMOL/L,,PMOL/L,,ITS-90,FMOL/L,
  74DI20100106,        A05,     101,          1,          1,         25,2,20100205,       2106,   24.49609,  -33.72851,       5350,  5443.1,   2.4104,  34.8805,  34.8810,2,   237.8,2,   50.54,2,    1.51,2,  -999.0,9,  -999.0,9,   22.73,2,     -999.0,1,     -999.0,1,     -999.0,1,     -999.0,1,     1.8868,     -999.0,1
  74DI20100106,        A05,     101,          1,          2,          2,2,20100205,       2106,   24.49609,  -33.72851,       5350,  5360.3,   2.3996,  34.8805,  34.8793,2,   239.7,2,   50.90,2,    1.52,2,  2198.0,2,  2344.1,2,   23.03,2,     -999.0,1,     -999.0,1,     -999.0,1,     -999.0,1,     1.8872,     -999.0,1
  74DI20100106,        A05,     101,          1,          3,          3,2,20100205,       2106,   24.49609,  -33.72851,       5350,  4845.1,   2.3834,  34.8859,  34.8852,2,   239.3,2,   49.84,2,    1.51,2,  2201.5,2,  2347.3,2,   22.84,2,     -999.0,1,     -999.0,1,     -999.0,1,     -999.0,1,     1.9375,     -999.0,1
  74DI20100106,        A05,     101,          1,          4,          4,2,20100205,       2106,   24.49609,  -33.72851,       5350,  4331.6,   2.4025,  34.8942,  34.8941,2,   238.3,2,   47.33,2,    1.49,2,  2195.4,2,  2345.5,2,   22.70,2,     -999.0,1,     -999.0,1,     -999.0,1,     -999.0,1,     2.0184,     -999.0,1
  74DI20100106,        A05,     101,          1,          5,          5,2,20100205,       2106,   24.49609,  -33.72851,       5350,  3819.9,   2.4462,  34.9041,  34.9036,2,   238.7,2,   44.82,2,    1.49,2,  2197.3,2,  2342.8,2,   22.78,2,     -999.0,1,     -999.0,1,     -999.0,1,     -999.0,1,     2.1199,     -999.0,1
  74DI20100106,        A05,     101,          1,          6,          6,2,20100205,       2106,   24.49609,  -33.72851,       5350,  3309.4,   2.5884,  34.9223,  34.9242,2,   237.1,2,   41.21,2,    1.46,2,  2195.6,2,  2342.4,2,   22.06,2,     -999.0,1,     -999.0,1,     -999.0,1,     -999.0,1,     2.3143,     -999.0,1
  74DI20100106,        A05,     101,          1,          7,          7,2,20100205,       2106,   24.49609,  -33.72851,       5350,  2797.5,   2.9211,  34.9559,  34.9558,2,   237.2,2,   34.63,2,    1.42,2,  2184.3,2,  2333.2,2,   21.54,2,     -999.0,1,     -999.0,1,     -999.0,1,     -999.0,1,     2.6929,     -999.0,1
  74DI20100106,        A05,     101,          1,          8,          8,2,20100205,       2106,   24.49609,  -33.72851,       5350,  2544.4,   3.1921,  34.9822,  34.9816,2,   237.1,2,   30.25,2,    1.39,2,  -999.0,9,  -999.0,9,   21.20,2,     -999.0,1,     -999.0,1,     -999.0,1,     -999.0,1,     2.9840,     -999.0,1
  74DI20100106,        A05,     101,          1,          9,          9,2,20100205,       2106,   24.49609,  -33.72851,       5350,  2287.9,   3.5377,  35.0148,  35.0146,2,   234.2,2,   26.49,2,    1.38,2,  2179.0,2,  2323.1,2,   21.00,2,     -999.0,1,     -999.0,1,     -999.0,1,     -999.0,1,     3.3490,     -999.0,1
  74DI20100106,        A05,     101,          1,         10,         10,2,20100205,       2106,   24.49609,  -33.72851,       5350,  2035.1,   3.9890,  35.0557,  35.0561,2,   228.7,2,   22.92,2,    1.37,2,  -999.0,9,  -999.0,9,   21.03,2,     -999.0,1,     -999.0,1,     -999.0,1,     -999.0,1,     3.8179,     -999.0,1
  74DI20100106,        A05,     101,          1,         11,         11,10,20100205,       2106,   24.49609,  -33.72851,       5350,  1782.5,   4.5141,  35.0947,  35.0946,2,   221.2,2,   21.05,2,    1.41,2,  2175.3,2,  2324.9,2,   21.35,2,     -999.0,1,     -999.0,1,     -999.0,1,     -999.0,1,     4.3604,     -999.0,1
  74DI20100106,        A05,     101,          1,         12,         12,2,20100205,       2106,   24.49609,  -33.72851,       5350,  1528.6,   5.1989,  35.1458,  35.1458,2,   209.5,2,   18.72,2,    1.41,2,  -999.0,9,  -999.0,9,   21.85,2,     -999.0,1,     -999.0,1,     -999.0,1,     -999.0,1,     5.0620,     -999.0,1
  74DI20100106,        A05,     101,          1,         13,         13,10,20100205,       2106,   24.49609,  -33.72851,       5350,  1274.8,   5.9048,  35.1465,  35.1477,2,   183.1,2,   19.19,2,    1.56,2,  2188.9,2,  2322.6,2,   24.38,2,     -999.0,1,     -999.0,1,     -999.0,1,     -999.0,1,     5.7862,     -999.0,1
  74DI20100106,        A05,     101,          1,         14,         14,2,20100205,       2106,   24.49609,  -33.72851,       5350,  1010.8,   6.9334,  35.1246,  35.1233,2,   154.1,2,   19.14,2,    1.71,2,  -999.0,9,  -999.0,9,   26.89,2,     -999.0,1,     -999.0,1,     -999.0,1,     -999.0,1,     6.8335,     -999.0,1
  74DI20100106,        A05,     101,          1,         15,         26,2,20100205,       2106,   24.49609,  -33.72851,       5350,   881.9,   7.7692,  35.1767,  35.1767,2,   141.6,2,   17.69,2,    1.72,2,  -999.0,9,  -999.0,9,   27.35,2,     -999.0,1,     -999.0,1,     -999.0,1,     -999.0,1,     7.6773,     -999.0,1
  74DI20100106,        A05,     101,          1,         16,         16,2,20100205,       2106,   24.49609,  -33.72851,       5350,   755.9,   9.1713,  35.3079,  35.3077,2,   136.5,2,   14.64,2,    1.56,2,  -999.0,9,  -999.0,9,   25.45,2,     -999.0,9,     -999.0,9,     -999.0,9,     -999.0,9,     9.0852,     -999.0,9
  74DI20100106,        A05,     101,          1,         17,         17,2,20100205,       2106,   24.49609,  -33.72851,       5350,   629.7,  11.1553,  35.5222,  35.5215,2,   142.9,2,    9.35,2,    1.25,2,  2180.4,2,  2328.8,2,   20.97,2,     -999.0,1,     -999.0,1,     -999.0,1,     -999.0,1,    11.0750,     -999.0,1
  74DI20100106,        A05,     101,          1,         18,         18,2,20100205,       2106,   24.49609,  -33.72851,       5350,   504.4,  12.8526,  35.7370,  35.7353,2,   162.3,2,    5.97,2,    0.92,2,  2162.6,2,  2338.0,2,   16.03,2,     -999.0,1,     -999.0,1,     -999.0,1,     -999.0,1,    12.7824,     -999.0,1
  74DI20100106,        A05,     101,          1,         19,         19,2,20100205,       2106,   24.49609,  -33.72851,       5350,   378.4,  15.2938,  36.1117,  36.1155,2,   173.4,2,    3.44,2,    0.60,2,  -999.0,9,  -999.0,9,   10.45,2,     -999.0,9,     -999.0,9,     -999.0,9,     -999.0,9,    15.2349,     -999.0,9
  74DI20100106,        A05,     101,          1,         20,         20,2,20100205,       2106,   24.49609,  -33.72851,       5350,   251.9,  17.4442,  36.4878,  36.4940,2,   183.9,2,    1.96,2,    0.32,2,  2130.3,2,  2382.4,2,    5.98,2,     -999.0,1,     -999.0,1,     -999.0,1,     -999.0,1,    17.4014,     -999.0,1
  74DI20100106,        A05,     101,          1,         21,         21,2,20100205,       2106,   24.49609,  -33.72851,       5350,   176.9,  20.1005,  37.0338,  37.0420,2,   190.0,2,    1.04,2,    0.10,2,  -999.0,9,  -999.0,9,    1.90,2,     -999.0,9,     -999.0,9,     -999.0,9,     -999.0,9,    20.0673,     -999.0,9
  74DI20100106,        A05,     101,          1,         22,         22,2,20100205,       2106,   24.49609,  -33.72851,       5350,   150.9,  21.0380,  37.1904,  37.1898,2,   196.2,2,    0.87,2,    0.05,2,  2124.6,2,  2426.8,2,    0.67,2,     -999.0,1,     -999.0,1,     -999.0,1,     -999.0,1,    21.0088,     -999.0,1
  74DI20100106,        A05,     101,          1,         23,         23,10,20100205,       2106,   24.49609,  -33.72851,       5350,    49.8,  23.0045,  37.5555,  37.5559,2,   206.3,2,    0.80,2,    0.01,2,  -999.0,9,  -999.0,9,    0.00,2,     -999.0,9,     -999.0,9,     -999.0,9,     -999.0,9,    22.9942,     -999.0,9
  74DI20100106,        A05,     101,          1,         24,         24,10,20100205,       2106,   24.49609,  -33.72851,       5350,     4.1,  23.0176,  37.5599,  37.5594,2,   206.3,2,    0.76,2,    0.01,2,  2109.3,2,  2446.3,2,    0.00,2,     -999.0,1,     -999.0,1,     -999.0,1,     -999.0,1,    23.0167,     -999.0,1
  74DI20100106,        A05,     102,          1,          1,         25,2,20100206,       0435,   24.50022,  -33.04486,       5732,  5829.7,   2.4647,  34.8808,  34.8815,2,   240.7,2,   50.16,2,    1.54,2,  -999.0,9,  -999.0,9,   22.79,2,     -999.0,1,     -999.0,1,     -999.0,1,     -999.0,1,     1.8872,     -999.0,1
  74DI20100106,        A05,     102,          1,          2,          2,2,20100206,       0435,   24.50022,  -33.04486,       5732,  5829.8,   2.4645,  34.8808,  34.8807,2,   240.0,2,   50.11,2,    1.53,2,  -999.0,9,  -999.0,9,   22.85,2,     -999.0,9,     -999.0,9,     -999.0,9,     -999.0,9,     1.8870,     -999.0,9
  74DI20100106,        A05,     102,          1,          3,          3,2,20100206,       0435,   24.50022,  -33.04486,       5732,  5104.9,   2.3919,  34.8835,  34.8837,2,   239.0,2,   50.01,2,    1.53,2,  2197.5,2,  2347.0,2,   22.92,2,     -999.0,1,     -999.0,1,     -999.0,1,     -999.0,1,     1.9129,     -999.0,1
  74DI20100106,        A05,     102,          1,          4,          4,2,20100206,       0435,   24.50022,  -33.04486,       5732,  4592.0,   2.3860,  34.8896,  34.8893,2,   238.5,2,   48.60,2,    1.52,2,  2198.7,2,  2350.2,2,   22.74,2,     -999.0,9,     -999.0,9,     -999.0,9,     -999.0,9,     1.9711,     -999.0,9
  74DI20100106,        A05,     102,          1,          5,          5,2,20100206,       0435,   24.50022,  -33.04486,       5732,  4078.3,   2.4058,  34.8976,  34.8977,2,   239.2,2,   46.39,2,    1.51,2,  -999.0,9,  -999.0,9,   22.56,2,     -999.0,1,     -999.0,1,     -999.0,1,     -999.0,1,     2.0512,     -999.0,1
  74DI20100106,        A05,     102,          1,          6,          6,2,20100206,       0435,   24.50022,  -33.04486,       5732,  3564.4,   2.5011,  34.9120,  34.9126,2,   237.5,2,   43.52,2,    1.49,2,  -999.0,9,  -999.0,9,   22.07,2,     -999.0,9,     -999.0,9,     -999.0,9,     -999.0,9,     2.2017,     -999.0,9
  74DI20100106,        A05,     102,          1,          7,          7,2,20100206,       0435,   24.50022,  -33.04486,       5732,  3053.8,   2.7299,  34.9380,  34.9384,2,   237.6,2,   37.50,2,    1.44,2,  -999.0,9,  -999.0,9,   21.70,2,     -999.0,9,     -999.0,9,     -999.0,9,     -999.0,9,     2.4794,     -999.0,9
  74DI20100106,        A05,     102,          1,          8,          8,2,20100206,       0435,   24.50022,  -33.04486,       5732,  2545.2,   3.1969,  34.9835,  34.9836,2,   237.5,2,   29.49,2,    1.41,2,  -999.0,9,  -999.0,9,   21.00,2,     -999.0,1,     -999.0,1,     -999.0,1,     -999.0,1,     2.9886,     -999.0,1
  74DI20100106,        A05,     102,          1,          9,          9,2,20100206,       0435,   24.50022,  -33.04486,       5732,  2291.2,   3.5589,  35.0159,  35.0167,2,   233.7,2,   26.30,2,    1.40,2,  -999.0,9,  -999.0,9,   21.03,2,     -999.0,1,     -999.0,1,     -999.0,1,     -999.0,1,     3.3695,     -999.0,1
  74DI20100106,        A05,     102,          1,         10,         10,10,20100206,       0435,   24.50022,  -33.04486,       5732,  2037.4,   3.9896,  35.0551,  35.0571,2,   227.2,2,   23.22,2,    1.40,2,  -999.0,9,  -999.0,9,   20.92,2,     -999.0,1,     -999.0,1,     -999.0,1,     -999.0,1,     3.8182,     -999.0,9
  74DI20100106,        A05,     102,          1,         11,         11,10,20100206,       0435,   24.50022,  -33.04486,       5732,  1784.1,   4.4313,  35.0875,  35.0880,2,   220.6,2,   21.15,2,    1.41,2,  -999.0,9,  -999.0,9,   21.45,2,     -999.0,1,     -999.0,1,     -999.0,1,     -999.0,1,     4.2786,     -999.0,1
  74DI20100106,        A05,     102,          1,         12,         12,2,20100206,       0435,   24.50022,  -33.04486,       5732,  1531.0,   5.0666,  35.1301,  35.1296,2,   207.8,2,   19.24,2,    1.44,2,  -999.0,9,  -999.0,9,   21.95,2,     -999.0,1,     -999.0,1,     -999.0,1,     -999.0,1,     4.9310,     -999.0,1
  74DI20100106,        A05,     102,          1,         13,         13,2,20100206,       0435,   24.50022,  -33.04486,       5732,  1278.3,   5.9358,  35.1424,  35.1444,2,   184.8,2,   18.70,2,    1.56,2,  -999.0,9,  -999.0,9,   23.96,2,     -999.0,9,     -999.0,9,     -999.0,9,     -999.0,9,     5.8165,     -999.0,9
  74DI20100106,        A05,     102,          1,         14,         14,4,20100206,       0435,   24.50022,  -33.04486,       5732,  1010.0,   6.9913,  35.1289,  35.4955,3,   139.4,4,    9.91,4,    1.32,4,  -999.0,9,  -999.0,9,   21.85,4,     -999.0,9,     -999.0,9,     -999.0,9,     -999.0,9,     6.8911,     -999.0,9
  74DI20100106,        A05,     102,          1,         15,         26,2,20100206,       0435,   24.50022,  -33.04486,       5732,   883.8,   7.8465,  35.1664,  35.1634,3,   133.7,2,   18.07,2,    1.77,2,  -999.0,9,  -999.0,9,   27.80,2,     -999.0,9,     -999.0,9,     -999.0,9,     -999.0,9,     7.7539,     -999.0,9
  74DI20100106,        A05,     102,          1,         16,         16,10,20100206,       0435,   24.50022,  -33.04486,       5732,   756.7,   9.3608,  35.3164,  35.3132,2,   127.2,2,   14.48,2,    1.60,2,  -999.0,9,  -999.0,9,   25.88,2,     -999.0,9,     -999.0,9,     -999.0,9,     -999.0,9,     9.2737,     -999.0,9
  74DI20100106,        A05,     102,          1,         17,         17,2,20100206,       0435,   24.50022,  -33.04486,       5732,   629.4,  10.9156,  35.4967,  35.4960,2,   139.6,2,    9.95,2,    1.32,2,  -999.0,9,  -999.0,9,   21.88,2,     -999.0,9,     -999.0,9,     -999.0,9,     -999.0,9,    10.8364,     -999.0,9
  74DI20100106,        A05,     102,          1,         18,         18,2,20100206,       0435,   24.50022,  -33.04486,       5732,   504.9,  12.6514,  35.7122,  35.7075,2,   155.5,2,    6.35,2,    0.99,2,  -999.0,9,  -999.0,9,   16.84,2,     -999.0,9,     -999.0,9,     -999.0,9,     -999.0,9,    12.5819,     -999.0,9
  74DI20100106,        A05,     102,          1,         19,         19,2,20100206,       0435,   24.50022,  -33.04486,       5732,   379.0,  14.8427,  36.0344,  36.0333,2,   172.8,2,    3.84,2,    2.36,4,  -999.0,9,  -999.0,9,   11.18,2,     -999.0,9,     -999.0,9,     -999.0,9,     -999.0,9,    14.7850,     -999.0,9
  74DI20100106,        A05,     102,          1,         20,         20,2,20100206,       0435,   24.50022,  -33.04486,       5732,   252.3,  17.6131,  36.5256,  36.5356,2,   185.1,2,    1.83,2,    0.30,2,  -999.0,9,  -999.0,9,    5.48,2,     -999.0,9,     -999.0,9,     -999.0,9,     -999.0,9,    17.5699,     -999.0,9
  74DI20100106,        A05,     102,          1,         21,         21,2,20100206,       0435,   24.50022,  -33.04486,       5732,   177.0,  20.0198,  37.0252,  37.0255,2,   193.1,2,    1.01,2,    0.09,2,  -999.0,9,  -999.0,9,    1.71,9,     -999.0,9,     -999.0,9,     -999.0,9,     -999.0,9,    19.9867,     -999.0,9
  74DI20100106,        A05,     102,          1,         22,         22,2,20100206,       0435,   24.50022,  -33.04486,       5732,   117.5,  22.5212,  37.4269,  37.4260,2,   207.3,2,    0.80,2,    0.01,2,  -999.0,9,  -999.0,9,    0.00,2,     -999.0,9,     -999.0,9,     -999.0,9,     -999.0,9,    22.4973,     -999.0,9
  74DI20100106,        A05,     102,          1,         23,         23,2,20100206,       0435,   24.50022,  -33.04486,       5732,    51.3,  22.9691,  37.5026,  37.5016,2,   207.6,2,    0.78,2,    0.00,2,  -999.0,9,  -999.0,9,    0.00,2,     -999.0,9,     -999.0,9,     -999.0,9,     -999.0,9,    22.9585,     -999.0,9
  74DI20100106,        A05,     102,          1,         24,         24,2,20100206,       0435,   24.50022,  -33.04486,       5732,     5.8,  22.9958,  37.5022,  37.5006,2,   206.5,2,    0.76,2,    0.01,2,  -999.0,9,  -999.0,9,    0.00,2,     -999.0,9,     -999.0,9,     -999.0,9,     -999.0,9,    22.9946,     -999.0,9