BOTTLE,20200115CCHSIOCBG
EXPOCODE,SECT_ID,STNNBR,CASTNO,SAMPNO,BTLNBR,BTLNBR_FLAG_W,DATE,TIME,LATITUDE,LONGITUDE,DEPTH,CTDPRS,CTDTMP,CTDSAL,SALNTY,SALNTY_FLAG_W,OXYGEN,OXYGEN_FLAG_W,SILCAT,SILCAT_FLAG_W,PHSPHT,PHSPHT_FLAG_W,TCARBN,TCARBN_FLAG_W,ALKALI,ALKALI_FLAG_W,NO2+NO3,NO2+NO3_FLAG_W,CFC-11,CFC-11_FLAG_W,CFC-12,CFC-12_FLAG_W,CFC113,CFC113_FLAG_W,CCL4,CCL4_FLAG_W,THETA,SF6,SF6_FLAG_W
,,,,,,,,,,,METERS,DBAR,ITS-90,PSS-78,PSS-78,,UMOL/KG,,UMOL/KG,,UMOL/KG,,UMOL/KG,,UMOL/KG,,UMOL/KG,,PMOL/L,,PMOL/L,,PMOL/L,,PMOL/L,,ITS-90,FMOL/L,
  74DI20100106,        A05,      63,          1,          1,          1,3,20100122,       2138,   24.50175,  -58.15048,       5663,  5764.5,   2.0709,  34.8461,-999.0000,9,  -999.0,9, -999.00,9, -999.00,9,  -999.0,9,  -999.0,9, -999.00,9,     -999.0,9,     -999.0,9,     -999.0,9,     -999.0,9,     1.5174,     -999.0,9
  74DI20100106,        A05,      63,          1,          2,          2,2,20100122,       2138,   24.50175,  -58.15048,       5663,  5357.2,   2.0278,  34.8480,  34.8491,2,   241.3,2,   58.34,2,    1.57,2,  2202.3,2,  2346.7,2,   23.15,2,     -999.0,1,     -999.0,1,     -999.0,1,     -999.0,1,     1.5293,     -999.0,1
  74DI20100106,        A05,      63,          1,          3,          3,2,20100122,       2138,   24.50175,  -58.15048,       5663,  4841.2,   2.1372,  34.8675,  34.8696,2,   247.7,2,   49.55,2,    1.48,2,  2194.8,2,  2338.4,2,   22.26,2,     -999.0,1,     -999.0,1,     -999.0,1,     -999.0,1,     1.6999,     -999.0,1
  74DI20100106,        A05,      63,          1,          4,          4,2,20100122,       2138,   24.50175,  -58.15048,       5663,  4328.6,   2.2708,  34.8873,  34.8907,2,   251.3,2,   41.48,2,    1.40,2,  2183.7,2,  2334.3,2,   21.12,2,     -999.0,1,     -999.0,1,     -999.0,1,     -999.0,1,     1.8910,     -999.0,1
  74DI20100106,        A05,      63,          1,          5,          5,2,20100122,       2138,   24.50175,  -58.15048,       5663,  3816.7,   2.4139,  34.9031,  34.9031,2,   251.5,2,   37.96,2,    1.40,2,  2178.3,2,  2331.9,2,   20.80,2,     -999.0,1,     -999.0,1,     -999.0,1,     -999.0,1,     2.0888,     -999.0,1
  74DI20100106,        A05,      63,          1,          6,          6,2,20100122,       2138,   24.50175,  -58.15048,       5663,  3306.2,   2.6448,  34.9239,  34.9234,2,   248.7,2,   34.70,2,    1.37,2,  2180.6,2,  2330.2,2,   20.78,2,     -999.0,1,     -999.0,1,     -999.0,1,     -999.0,1,     2.3696,     -999.0,1
  74DI20100106,        A05,      63,          1,          7,          7,2,20100122,       2138,   24.50175,  -58.15048,       5663,  2798.0,   2.9289,  34.9493,  34.9504,2,   245.7,2,   31.51,2,    1.37,2,  2179.7,2,  2329.3,2,   20.83,2,     -999.0,1,     -999.0,1,     -999.0,1,     -999.0,1,     2.7005,     -999.0,1
  74DI20100106,        A05,      63,          1,          8,          8,2,20100122,       2138,   24.50175,  -58.15048,       5663,  2545.1,   3.1206,  34.9658,  34.9664,2,   244.7,2,   28.78,2,    1.34,2,  -999.0,9,  -999.0,9,   20.58,2,     -999.0,1,     -999.0,1,     -999.0,1,     -999.0,1,     2.9138,     -999.0,1
  74DI20100106,        A05,      63,          1,          9,          9,2,20100122,       2138,   24.50175,  -58.15048,       5663,  2291.8,   3.3492,  34.9845,  34.9851,2,   244.2,2,   25.49,2,    1.33,2,  2173.5,2,  2324.7,2,   20.13,2,     -999.0,1,     -999.0,1,     -999.0,1,     -999.0,1,     3.1633,     -999.0,1
  74DI20100106,        A05,      63,          1,         10,         10,2,20100122,       2138,   24.50175,  -58.15048,       5663,  2037.7,   3.7275,  35.0120,  35.0126,2,   242.9,2,   21.36,2,    1.28,2,  -999.0,9,  -999.0,9,   19.67,2,     -999.0,1,     -999.0,1,     -999.0,1,     -999.0,1,     3.5602,     -999.0,1
  74DI20100106,        A05,      63,          1,         11,         11,2,20100122,       2138,   24.50175,  -58.15048,       5663,  1784.3,   4.1146,  35.0295,  35.0316,2,   242.4,2,   17.46,2,    1.26,2,  2168.5,2,  2316.6,2,   19.49,2,     -999.0,1,     -999.0,1,     -999.0,1,     -999.0,1,     3.9662,     -999.0,1
  74DI20100106,        A05,      63,          1,         12,         12,2,20100122,       2138,   24.50175,  -58.15048,       5663,  1530.2,   4.6713,  35.0506,  35.0501,2,   232.9,2,   15.04,2,    1.27,2,  -999.0,9,  -999.0,9,   19.85,2,     -999.0,1,     -999.0,1,     -999.0,1,     -999.0,1,     4.5405,     -999.0,1
  74DI20100106,        A05,      63,          1,         13,         13,2,20100122,       2138,   24.50175,  -58.15048,       5663,  1277.6,   5.5075,  35.0592,  35.0601,2,   205.5,2,   16.37,2,    1.42,2,  2179.5,2,  2314.6,2,   21.97,2,     -999.0,1,     -999.0,1,     -999.0,1,     -999.0,1,     5.3925,     -999.0,1
  74DI20100106,        A05,      63,          1,         14,         14,2,20100122,       2138,   24.50175,  -58.15048,       5663,  1024.4,   6.7139,  35.0230,  35.0277,2,   157.8,2,   19.29,2,    1.73,2,  -999.0,9,  -999.0,9,   26.88,2,     -999.0,1,     -999.0,1,     -999.0,1,     -999.0,1,     6.6144,     -999.0,1
  74DI20100106,        A05,      63,          1,         15,         15,2,20100122,       2138,   24.50175,  -58.15048,       5663,   897.9,   7.6337,  35.0221,  35.0259,2,   132.7,2,   19.35,2,    1.87,2,  2204.1,2,  2313.4,2,   28.95,2,     -999.0,1,     -999.0,1,     -999.0,1,     -999.0,1,     7.5411,     -999.0,1
  74DI20100106,        A05,      63,          1,         16,         16,2,20100122,       2138,   24.50175,  -58.15048,       5663,   756.7,  10.1609,  35.3616,  35.3568,2,   140.8,2,   12.50,2,    1.43,2,  -999.0,9,  -999.0,9,   23.47,2,     -999.0,9,     -999.0,9,     -999.0,9,     -999.0,9,    10.0693,     -999.0,9
  74DI20100106,        A05,      63,          1,         17,         17,2,20100122,       2138,   24.50175,  -58.15048,       5663,   630.5,  12.2515,  35.6489,  35.6454,2,   155.0,2,    7.42,2,    1.05,2,  2172.2,2,  2337.6,2,   17.93,2,     -999.0,1,     -999.0,1,     -999.0,1,     -999.0,1,    12.1661,     -999.0,1
  74DI20100106,        A05,      63,          1,         18,         18,2,20100122,       2138,   24.50175,  -58.15048,       5663,   504.6,  14.7612,  35.9888,  35.9767,2,   171.9,2,    4.35,2,    0.67,2,  2150.2,2,  2355.1,2,   12.25,2,     -999.0,1,     -999.0,1,     -999.0,9,     -999.0,9,    14.6843,     -999.0,1
  74DI20100106,        A05,      63,          1,         19,         19,2,20100122,       2138,   24.50175,  -58.15048,       5663,   379.1,  17.2040,  36.4034,  36.4002,2,   186.9,2,    2.13,2,    0.31,2,  -999.0,9,  -999.0,9,    6.59,2,     -999.0,9,     -999.0,9,     -999.0,9,     -999.0,9,    17.1401,     -999.0,9
  74DI20100106,        A05,      63,          1,         20,         20,2,20100122,       2138,   24.50175,  -58.15048,       5663,   253.9,  18.2363,  36.5580,  36.5592,2,   199.6,2,    1.38,2,    0.14,2,  2110.8,2,  2385.7,2,    3.70,2,     -999.0,1,     -999.0,1,     -999.0,1,     -999.0,1,    18.1918,     -999.0,1
  74DI20100106,        A05,      63,          1,         21,         21,2,20100122,       2138,   24.50175,  -58.15048,       5663,   175.5,  19.3007,  36.6538,  36.6466,2,   192.0,2,    0.96,2,    0.01,2,  -999.0,9,  -999.0,9,    1.72,2,     -999.0,9,     -999.0,9,     -999.0,9,     -999.0,9,    19.2688,     -999.0,9
  74DI20100106,        A05,      63,          1,         22,         22,2,20100122,       2138,   24.50175,  -58.15048,       5663,   117.0,  22.4405,  37.0642,  37.0662,2,   206.4,2,    0.66,2,    0.00,2,  2096.4,2,  2417.0,2,    0.00,2,     -999.0,1,     -999.0,1,     -999.0,1,     -999.0,1,    22.4168,     -999.0,1
  74DI20100106,        A05,      63,          1,         23,         23,10,20100122,       2138,   24.50175,  -58.15048,       5663,    49.7,  24.5316,  37.2164,  37.2173,2,  -999.0,2,    0.77,2,    0.00,2,  2073.1,2,  2425.7,2,    0.00,2,     -999.0,1,     -999.0,1,     -999.0,1,     -999.0,1,    24.5209,     -999.0,1
  74DI20100106,        A05,      63,          1,         24,         24,3,20100122,       2138,   24.50175,  -58.15048,       5663,     5.0,  24.8856,  36.9663,-999.0000,9,  -999.0,9, -999.00,9, -999.00,9,  -999.0,9,  -999.0,9, -999.00,9,     -999.0,9,     -999.0,9,     -999.0,9,     -999.0,9,    24.8845,     -999.0,9
  74DI20100106,        A05,      64,          1,          1,          1,2,20100123,       0625,   24.50196,  -57.39854,       6273,  6398.5,   2.1569,  34.8452,  34.8468,2,   243.0,2,   58.97,2,    1.56,2,  2205.3,2,  2344.1,2,   23.42,2,     -999.0,1,     -999.0,1,     -999.0,1,     -999.0,1,     1.5127,     -999.0,1
  74DI20100106,        A05,      64,          1,          2,          2,2,20100123,       0625,   24.50196,  -57.39854,       6273,  6123.7,   2.1196,  34.8458,  34.8460,2,   243.0,2,   58.74,2,    1.56,2,  2202.4,2,  2346.9,2,   23.53,2,     -999.0,9,     -999.0,9,     -999.0,9,     -999.0,9,     1.5154,     -999.0,9
  74DI20100106,        A05,      64,          1,          3,          3,2,20100123,       0625,   24.50196,  -57.39854,       6273,  5657.8,   2.0611,  34.8472,  34.8558,2,   242.3,2,   58.46,2,    1.55,2,  2200.5,2,  2345.2,2,   23.34,2,     -999.0,9,     -999.0,9,     -999.0,9,     -999.0,9,     1.5221,     -999.0,9
  74DI20100106,        A05,      64,          1,          4,          4,2,20100123,       0625,   24.50196,  -57.39854,       6273,  5142.4,   2.0373,  34.8527,  34.8520,2,   244.2,2,   55.34,2,    1.52,2,  2197.9,2,  2343.8,2,   23.12,2,     -999.0,9,     -999.0,9,     -999.0,9,     -999.0,9,     1.5659,     -999.0,9
  74DI20100106,        A05,      64,          1,          5,          5,2,20100123,       0625,   24.50196,  -57.39854,       6273,  4627.7,   2.1870,  34.8758,  34.8759,2,   248.8,2,   46.46,2,    1.43,2,  2186.5,2,  2337.7,2,   21.96,2,     -999.0,9,     -999.0,9,     -999.0,9,     -999.0,9,     1.7741,     -999.0,9
  74DI20100106,        A05,      64,          1,          6,          6,2,20100123,       0625,   24.50196,  -57.39854,       6273,  4063.2,   2.3221,  34.8931,  34.8924,2,   250.7,2,   41.30,2,    1.40,2,  -999.0,9,  -999.0,9,   21.12,2,     -999.0,9,     -999.0,9,     -999.0,9,     -999.0,9,     1.9716,     -999.0,9
  74DI20100106,        A05,      64,          1,          7,          7,2,20100123,       0625,   24.50196,  -57.39854,       6273,  3552.1,   2.5484,  34.9149,  34.9161,2,   248.8,2,   37.05,2,    1.38,2,  -999.0,9,  -999.0,9,   20.85,2,     -999.0,9,     -999.0,9,     -999.0,9,     -999.0,9,     2.2491,     -999.0,9
  74DI20100106,        A05,      64,          1,          8,          8,2,20100123,       0625,   24.50196,  -57.39854,       6273,  3041.3,   2.8086,  34.9384,  34.9373,2,   246.4,2,   33.14,2,    1.36,2,  -999.0,9,  -999.0,9,   20.82,2,     -999.0,9,     -999.0,9,     -999.0,9,     -999.0,9,     2.5577,     -999.0,9
  74DI20100106,        A05,      64,          1,          9,          9,2,20100123,       0625,   24.50196,  -57.39854,       6273,  2531.5,   3.2052,  34.9723,  34.9715,2,   245.2,2,   27.65,2,    1.34,2,  -999.0,9,  -999.0,9,   20.47,2,     -999.0,9,     -999.0,9,     -999.0,9,     -999.0,9,     2.9982,     -999.0,9
  74DI20100106,        A05,      64,          1,         10,         10,2,20100123,       0625,   24.50196,  -57.39854,       6273,  2277.6,   3.4859,  34.9933,  34.9941,2,   245.6,2,   23.31,2,    1.28,2,  -999.0,9,  -999.0,9,   20.05,2,     -999.0,9,     -999.0,9,     -999.0,9,     -999.0,9,     3.2992,     -999.0,9
  74DI20100106,        A05,      64,          1,         11,         11,10,20100123,       0625,   24.50196,  -57.39854,       6273,  2023.8,   3.8234,  35.0155,  35.0168,2,   244.4,2,   19.60,2,    1.26,2,  -999.0,9,  -999.0,9,   19.59,2,     -999.0,9,     -999.0,9,     -999.0,9,     -999.0,9,     3.6561,     -999.0,9
  74DI20100106,        A05,      64,          1,         12,         12,2,20100123,       0625,   24.50196,  -57.39854,       6273,  1769.2,   4.2797,  35.0333,  35.0278,2,   240.9,2,   17.78,2,    1.26,2,  -999.0,9,  -999.0,9,   19.67,2,     -999.0,9,     -999.0,9,     -999.0,9,     -999.0,9,     4.1306,     -999.0,9
  74DI20100106,        A05,      64,          1,         13,         13,2,20100123,       0625,   24.50196,  -57.39854,       6273,  1516.4,   4.8811,  35.0479,  35.0481,2,   226.6,2,   15.37,2,    1.30,2,  -999.0,9,  -999.0,9,   20.43,2,     -999.0,9,     -999.0,9,     -999.0,9,     -999.0,9,     4.7492,     -999.0,9
  74DI20100106,        A05,      64,          1,         14,         14,2,20100123,       0625,   24.50196,  -57.39854,       6273,  1262.7,   5.6152,  35.0169,  35.0157,2,   189.6,2,   18.66,2,    1.55,2,  -999.0,9,  -999.0,9,   24.21,2,     -999.0,9,     -999.0,9,     -999.0,9,     -999.0,9,     5.5008,     -999.0,9
  74DI20100106,        A05,      64,          1,         15,         15,2,20100123,       0625,   24.50196,  -57.39854,       6273,  1009.9,   6.7474,  34.9911,  34.9949,2,   145.8,2,   20.93,2,    1.82,2,  -999.0,9,  -999.0,9,   28.93,2,     -999.0,9,     -999.0,9,     -999.0,9,     -999.0,9,     6.6492,     -999.0,9
  74DI20100106,        A05,      64,          1,         16,         16,2,20100123,       0625,   24.50196,  -57.39854,       6273,   884.6,   7.9560,  35.0908,  35.0802,2,   135.7,2,   18.65,2,    1.77,2,  -999.0,9,  -999.0,9,   28.37,2,     -999.0,9,     -999.0,9,     -999.0,9,     -999.0,9,     7.8627,     -999.0,9
  74DI20100106,        A05,      64,          1,         17,         17,10,20100123,       0625,   24.50196,  -57.39854,       6273,   758.6,  10.3874,  35.4022,  35.3985,2,   143.4,2,   11.79,2,    1.36,2,  -999.0,9,  -999.0,9,   22.74,2,     -999.0,9,     -999.0,9,     -999.0,9,     -999.0,9,    10.2943,     -999.0,9
  74DI20100106,        A05,      64,          1,         18,         18,2,20100123,       0625,   24.50196,  -57.39854,       6273,   505.9,  15.0193,  36.0356,  36.0276,2,   172.9,2,    3.88,2,    0.63,2,  -999.0,9,  -999.0,9,   11.40,2,     -999.0,9,     -999.0,9,     -999.0,9,     -999.0,9,    14.9413,     -999.0,9
  74DI20100106,        A05,      64,          1,         19,         19,2,20100123,       0625,   24.50196,  -57.39854,       6273,   379.4,  17.4487,  36.4449,  36.4412,2,   189.3,2,    1.97,2,    0.27,2,  -999.0,9,  -999.0,9,    6.03,2,     -999.0,9,     -999.0,9,     -999.0,9,     -999.0,9,    17.3840,     -999.0,9
  74DI20100106,        A05,      64,          1,         20,         20,2,20100123,       0625,   24.50196,  -57.39854,       6273,   252.3,  18.3663,  36.5631,  36.5629,2,   199.9,2,    1.22,2,    0.12,2,  -999.0,9,  -999.0,9,    3.24,2,     -999.0,9,     -999.0,9,     -999.0,9,     -999.0,9,    18.3218,     -999.0,9
  74DI20100106,        A05,      64,          1,         21,         21,2,20100123,       0625,   24.50196,  -57.39854,       6273,   176.5,  19.1545,  36.6206,  36.6272,2,   200.2,2,    0.80,2,    0.00,2,  -999.0,9,  -999.0,9,    1.02,2,     -999.0,9,     -999.0,9,     -999.0,9,     -999.0,9,    19.1226,     -999.0,9
  74DI20100106,        A05,      64,          1,         22,         22,2,20100123,       0625,   24.50196,  -57.39854,       6273,   116.0,  22.6650,  37.0613,  37.0810,2,   203.7,2,    0.57,2,    0.00,2,  -999.0,9,  -999.0,9,    0.00,2,     -999.0,9,     -999.0,9,     -999.0,9,     -999.0,9,    22.6414,     -999.0,9
  74DI20100106,        A05,      64,          1,         23,         23,10,20100123,       0625,   24.50196,  -57.39854,       6273,    49.6,  24.5020,  37.2089,  37.2092,2,   202.9,2,    0.74,2,    0.00,2,  2070.6,2,  2426.5,2,    0.00,2,     -999.0,9,     -999.0,9,     -999.0,9,     -999.0,9,    24.4913,     -999.0,9
  74DI20100106,        A05,      64,          1,         24,         24,10,20100123,       0625,   24.50196,  -57.39854,       6273,     6.2,  24.5313,  37.1613,  37.1638,2,   202.6,2,    0.73,2,    0.00,2,  -999.0,9,  -999.0,9,    0.00,2,     -999.0,9,     -999.0,9,     -999.0,9,     -999.0,9,    24.5299,     -999.0,9