BOTTLE,20200115CCHSIOCBG
EXPOCODE,SECT_ID,STNNBR,CASTNO,SAMPNO,BTLNBR,BTLNBR_FLAG_W,DATE,TIME,LATITUDE,LONGITUDE,DEPTH,CTDPRS,CTDTMP,CTDSAL,SALNTY,SALNTY_FLAG_W,OXYGEN,OXYGEN_FLAG_W,SILCAT,SILCAT_FLAG_W,PHSPHT,PHSPHT_FLAG_W,TCARBN,TCARBN_FLAG_W,ALKALI,ALKALI_FLAG_W,NO2+NO3,NO2+NO3_FLAG_W,CFC-11,CFC-11_FLAG_W,CFC-12,CFC-12_FLAG_W,CFC113,CFC113_FLAG_W,CCL4,CCL4_FLAG_W,THETA,SF6,SF6_FLAG_W
,,,,,,,,,,,METERS,DBAR,ITS-90,PSS-78,PSS-78,,UMOL/KG,,UMOL/KG,,UMOL/KG,,UMOL/KG,,UMOL/KG,,UMOL/KG,,PMOL/L,,PMOL/L,,PMOL/L,,PMOL/L,,ITS-90,FMOL/L,
  74DI20100106,        A05,      53,          1,          1,          1,3,20100119,       0958,   24.50163,  -65.48927,       5441,  5540.5,   2.0654,  34.8494,-999.0000,9,  -999.0,9, -999.00,9, -999.00,9,  -999.0,9,  -999.0,9, -999.00,9,     -999.0,9,     -999.0,9,     -999.0,9,     -999.0,9,     1.5417,     -999.0,9
  74DI20100106,        A05,      53,          1,          2,          2,2,20100119,       0958,   24.50163,  -65.48927,       5441,  5103.7,   2.1403,  34.8658,  34.8721,2,   249.2,2,   49.19,2,    1.46,2,  2191.7,2,  2336.9,2,   21.83,2,     -999.0,1,     -999.0,1,     -999.0,1,     -999.0,1,     1.6701,     -999.0,1
  74DI20100106,        A05,      53,          1,          3,          3,10,20100119,       0958,   24.50163,  -65.48927,       5441,  4589.9,   2.2728,  34.8885,  34.8931,2,   258.1,2,   36.65,2,    1.33,2,  2178.4,2,  2328.4,2,   19.89,2,     -999.0,1,     -999.0,1,     -999.0,1,     -999.0,1,     1.8618,     -999.0,1
  74DI20100106,        A05,      53,          1,          4,          4,10,20100119,       0958,   24.50163,  -65.48927,       5441,  4076.4,   2.3089,  34.8971,  34.9002,2,   259.4,2,   31.86,2,    1.28,2,  2174.0,2,  2322.4,2,   19.20,2,     -999.0,1,     -999.0,1,     -999.0,1,     -999.0,1,     1.9573,     -999.0,1
  74DI20100106,        A05,      53,          1,          5,          5,2,20100119,       0958,   24.50163,  -65.48927,       5441,  3565.2,   2.4201,  34.9080,  34.9111,2,   261.0,2,   29.19,2,    1.25,2,  2166.9,2,  2320.0,2,   19.04,2,     -999.0,1,     -999.0,1,     -999.0,1,     -999.0,1,     2.1226,     -999.0,1
  74DI20100106,        A05,      53,          1,          6,          6,2,20100119,       0958,   24.50163,  -65.48927,       5441,  3054.3,   2.6646,  34.9262,  34.9290,2,   259.1,2,   27.05,2,    1.25,2,  2167.0,2,  2321.6,2,   19.17,2,     -999.0,1,     -999.0,1,     -999.0,1,     -999.0,1,     2.4155,     -999.0,1
  74DI20100106,        A05,      53,          1,          7,          7,2,20100119,       0958,   24.50163,  -65.48927,       5441,  2544.6,   3.0581,  34.9596,  34.9631,2,   250.8,2,   27.40,2,    1.31,2,  -999.0,9,  -999.0,9,   19.96,2,     -999.0,1,     -999.0,1,     -999.0,1,     -999.0,1,     2.8526,     -999.0,1
  74DI20100106,        A05,      53,          1,          8,          8,2,20100119,       0958,   24.50163,  -65.48927,       5441,  2290.5,   3.2599,  34.9754,  34.9813,2,   249.7,2,   25.16,2,    1.29,2,  2171.2,2,  2321.9,2,   19.83,2,     -999.0,1,     -999.0,1,     -999.0,1,     -999.0,1,     3.0757,     -999.0,1
  74DI20100106,        A05,      53,          1,          9,          9,2,20100119,       0958,   24.50163,  -65.48927,       5441,  2036.4,   3.5104,  34.9849,  34.9871,2,   252.0,2,   20.37,2,    1.24,2,  2162.1,2,  2317.0,2,   19.56,2,     -999.0,1,     -999.0,1,     -999.0,1,     -999.0,1,     3.3467,     -999.0,1
  74DI20100106,        A05,      53,          1,         10,         10,10,20100119,       0958,   24.50163,  -65.48927,       5441,  1782.7,   3.7674,  34.9889,  34.9938,2,   254.3,2,   16.79,2,    1.23,2,  -999.0,9,  -999.0,9,   19.20,2,     -999.0,1,     -999.0,1,     -999.0,1,     -999.0,1,     3.6239,     -999.0,1
  74DI20100106,        A05,      53,          1,         11,         11,10,20100119,       0958,   24.50163,  -65.48927,       5441,  1529.0,   4.2627,  35.0181,  35.0234,2,   248.0,2,   14.56,2,    1.25,2,  2163.0,2,  2314.2,2,   19.12,2,     -999.0,1,     -999.0,1,     -999.0,1,     -999.0,1,     4.1367,     -999.0,1
  74DI20100106,        A05,      53,          1,         12,         12,2,20100119,       0958,   24.50163,  -65.48927,       5441,  1275.9,   5.0330,  35.0670,  35.0563,2,   236.4,3,   14.54,2,    1.25,2,  2170.4,2,  2315.5,2,   19.81,2,     -999.0,1,     -999.0,1,     -999.0,1,     -999.0,1,     4.9227,     -999.0,1
  74DI20100106,        A05,      53,          1,         13,         13,2,20100119,       0958,   24.50163,  -65.48927,       5441,  1012.8,   6.4715,  35.0685,  35.0737,2,   180.3,2,   17.44,2,    1.54,2,  -999.0,9,  -999.0,9,   24.35,2,     -999.0,1,     -999.0,1,     -999.0,1,     -999.0,1,     6.3750,     -999.0,1
  74DI20100106,        A05,      53,          1,         14,         14,2,20100119,       0958,   24.50163,  -65.48927,       5441,   883.5,   7.4192,  35.0515,  35.0498,2,   147.5,2,   19.49,2,    1.76,2,  2200.9,2,  2315.9,2,   28.16,2,     -999.0,1,     -999.0,1,     -999.0,1,     -999.0,1,     7.3296,     -999.0,1
  74DI20100106,        A05,      53,          1,         15,         15,10,20100119,       0958,   24.50163,  -65.48927,       5441,   883.3,   7.4065,  35.0507,  35.0503,2,   147.6,2,   19.46,2,    1.76,2,  -999.0,9,  -999.0,9,   28.17,2,     -999.0,9,     -999.0,9,     -999.0,9,     -999.0,9,     7.3170,     -999.0,9
  74DI20100106,        A05,      53,          1,         16,         16,2,20100119,       0958,   24.50163,  -65.48927,       5441,   757.2,   9.3370,  35.2327,  35.2305,2,   139.6,2,   15.19,2,    1.58,2,  2190.4,2,  2320.0,2,   25.74,2,     -999.0,1,     -999.0,1,     -999.0,1,     -999.0,1,     9.2500,     -999.0,1
  74DI20100106,        A05,      53,          1,         17,         17,2,20100119,       0958,   24.50163,  -65.48927,       5441,   630.7,  11.7914,  35.5411,  35.5292,2,   148.4,2,    9.57,2,    1.21,2,  2174.6,2,  2331.9,2,   20.07,2,     -999.0,1,     -999.0,1,     -999.0,9,     -999.0,9,    11.7081,     -999.0,1
  74DI20100106,        A05,      53,          1,         18,         18,2,20100119,       0958,   24.50163,  -65.48927,       5441,   505.1,  14.5688,  35.9401,  35.9350,2,   166.3,2,    5.05,2,    0.77,2,  2151.3,2,  2351.2,2,   13.28,2,     -999.0,1,     -999.0,1,     -999.0,1,     -999.0,1,    14.4924,     -999.0,1
  74DI20100106,        A05,      53,          1,         19,         19,2,20100119,       0958,   24.50163,  -65.48927,       5441,   378.8,  17.3294,  36.4252,  36.4212,2,   188.5,2,    2.18,2,    0.32,2,  -999.0,9,  -999.0,9,    6.60,2,     -999.0,9,     -999.0,9,     -999.0,9,     -999.0,9,    17.2651,     -999.0,9
  74DI20100106,        A05,      53,          1,         20,         20,2,20100119,       0958,   24.50163,  -65.48927,       5441,   253.2,  18.3528,  36.5797,  36.5829,2,   190.9,2,    1.35,2,    0.16,2,  2117.3,2,  2383.7,2,    4.13,2,     -999.0,9,     -999.0,9,     -999.0,9,     -999.0,9,    18.3082,     -999.0,9
  74DI20100106,        A05,      53,          1,         21,         21,2,20100119,       0958,   24.50163,  -65.48927,       5441,   176.3,  19.1656,  36.6488,  36.6501,2,   187.5,2,    1.08,2,    0.07,2,  -999.0,9,  -999.0,9,    2.60,2,     -999.0,9,     -999.0,9,     -999.0,9,     -999.0,9,    19.1337,     -999.0,9
  74DI20100106,        A05,      53,          1,         22,         22,2,20100119,       0958,   24.50163,  -65.48927,       5441,   102.2,  21.8559,  36.8252,  36.8252,2,   203.7,2,    0.63,2,    0.03,2,  2087.9,2,  2401.4,2,    0.00,2,     -999.0,1,     -999.0,1,     -999.0,1,     -999.0,1,    21.8356,     -999.0,1
  74DI20100106,        A05,      53,          1,         23,         23,2,20100119,       0958,   24.50163,  -65.48927,       5441,    51.0,  23.6889,  36.7978,  36.7953,2,   207.1,2,    0.78,2,    0.03,2,  -999.0,9,  -999.0,9,    0.00,2,     -999.0,9,     -999.0,9,     -999.0,9,     -999.0,9,    23.6782,     -999.0,9
  74DI20100106,        A05,      53,          1,         24,         24,2,20100119,       0958,   24.50163,  -65.48927,       5441,     5.0,  25.1175,  36.4431,  36.4430,2,   202.7,2,    0.95,2,    0.03,2,  2029.5,2,  2378.2,2,    0.00,2,     -999.0,9,     -999.0,9,     -999.0,9,     -999.0,9,    25.1164,     -999.0,9
  74DI20100106,        A05,      54,          1,          1,          1,2,20100119,       1844,   24.49893,  -64.76769,       5940,  6046.3,   2.1183,  34.8470,  34.8495,2,   243.1,2,   59.47,2,    1.57,2,  2203.1,2,  2349.9,2,   23.65,2,     -999.0,1,     -999.0,1,     -999.0,1,     -999.0,1,     1.5247,     -999.0,1
  74DI20100106,        A05,      54,          1,          2,          2,2,20100119,       1844,   24.49893,  -64.76769,       5940,  5617.9,   2.0720,  34.8492,  34.8493,2,   243.6,2,   48.30,4,    1.45,4,  2201.7,2,  -999.0,9,   22.09,4,     -999.0,1,     -999.0,1,     -999.0,1,     -999.0,1,     1.5379,     -999.0,1
  74DI20100106,        A05,      54,          1,          3,          3,2,20100119,       1844,   24.49893,  -64.76769,       5940,  5098.6,   2.1710,  34.8698,  34.8712,2,   250.8,2,   36.41,4,    1.33,4,  2190.9,2,  -999.0,9,   20.23,4,     -999.0,1,     -999.0,1,     -999.0,1,     -999.0,1,     1.7003,     -999.0,1
  74DI20100106,        A05,      54,          1,          4,          4,2,20100119,       1844,   24.49893,  -64.76769,       5940,  4579.5,   2.2774,  34.8893,  34.8906,2,   258.8,2,   36.16,2,    1.32,2,  2183.4,2,  2331.9,2,   19.84,2,     -999.0,1,     -999.0,1,     -999.0,1,     -999.0,1,     1.8674,     -999.0,1
  74DI20100106,        A05,      54,          1,          5,          5,2,20100119,       1844,   24.49893,  -64.76769,       5940,  4077.1,   2.3168,  34.8977,  34.9002,2,   261.6,2,   31.69,2,    1.27,2,  2171.5,2,  2329.1,2,   19.18,2,     -999.0,1,     -999.0,1,     -999.0,1,     -999.0,1,     1.9648,     -999.0,1
  74DI20100106,        A05,      54,          1,          6,          6,2,20100119,       1844,   24.49893,  -64.76769,       5940,  3550.4,   2.4504,  34.9099,  34.9120,2,   260.1,2,   30.08,2,    1.28,2,  2172.0,2,  2322.3,2,   19.28,2,     -999.0,1,     -999.0,1,     -999.0,1,     -999.0,1,     2.1537,     -999.0,1
  74DI20100106,        A05,      54,          1,          7,          7,2,20100119,       1844,   24.49893,  -64.76769,       5940,  3031.5,   2.7226,  34.9316,  34.9322,2,   254.9,2,   30.03,2,    1.31,2,  2171.1,2,  2328.4,2,   20.19,2,     -999.0,1,     -999.0,1,     -999.0,1,     -999.0,1,     2.4746,     -999.0,1
  74DI20100106,        A05,      54,          1,          8,          8,2,20100119,       1844,   24.49893,  -64.76769,       5940,  2547.9,   3.0619,  34.9569,  34.9597,2,   253.3,2,   25.54,2,    1.28,2,  -999.0,9,  -999.0,9,   19.87,2,     -999.0,1,     -999.0,1,     -999.0,1,     -999.0,1,     2.8560,     -999.0,1
  74DI20100106,        A05,      54,          1,          9,          9,2,20100119,       1844,   24.49893,  -64.76769,       5940,  2295.9,   3.2970,  34.9716,-999.0000,9,   253.4,2,   22.21,2,    1.26,2,  -999.0,9,  -999.0,9,   19.64,2,     -999.0,1,     -999.0,1,     -999.0,1,     -999.0,1,     3.1117,     -999.0,1
  74DI20100106,        A05,      54,          1,         10,         10,2,20100119,       1844,   24.49893,  -64.76769,       5940,  2042.4,   3.5575,  34.9834,-999.0000,9,   255.5,2,   18.96,2,    1.24,2,  -999.0,9,  -999.0,9,   19.02,2,     -999.0,1,     -999.0,1,     -999.0,1,     -999.0,1,     3.3925,     -999.0,1
  74DI20100106,        A05,      54,          1,         11,         11,2,20100119,       1844,   24.49893,  -64.76769,       5940,  1776.5,   3.8432,  34.9939,-999.0000,9,   253.5,2,   16.22,2,    1.22,2,  -999.0,9,  -999.0,9,   18.88,2,     -999.0,1,     -999.0,1,     -999.0,1,     -999.0,1,     3.6993,     -999.0,1
  74DI20100106,        A05,      54,          1,         12,         12,2,20100119,       1844,   24.49893,  -64.76769,       5940,  1507.8,   4.3254,  35.0199,-999.0000,9,   247.4,2,   14.51,2,    1.24,2,  -999.0,9,  -999.0,9,   19.15,2,     -999.0,1,     -999.0,1,     -999.0,1,     -999.0,1,     4.2007,     -999.0,1
  74DI20100106,        A05,      54,          1,         13,         13,2,20100119,       1844,   24.49893,  -64.76769,       5940,  1269.5,   5.0136,  35.0619,  35.0638,2,   233.9,3,   14.73,2,    1.30,2,  2168.0,2,  2316.6,2,   20.20,2,     -999.0,1,     -999.0,1,     -999.0,1,     -999.0,1,     4.9041,     -999.0,1
  74DI20100106,        A05,      54,          1,         14,         14,3,20100119,       1844,   24.49893,  -64.76769,       5940,  1026.1,   6.0027,  35.0379,-999.0000,9,  -999.0,9, -999.00,9, -999.00,9,  -999.0,9,  -999.0,9, -999.00,9,     -999.0,9,     -999.0,9,     -999.0,9,     -999.0,9,     5.9084,     -999.0,9
  74DI20100106,        A05,      54,          1,         15,         15,2,20100119,       1844,   24.49893,  -64.76769,       5940,   889.9,   6.5188,  34.9442,  34.9432,2,   153.0,2,   22.34,2,    1.88,2,  2200.3,2,  2312.8,2,   29.56,2,     -999.0,1,     -999.0,1,     -999.0,1,     -999.0,1,     6.4345,     -999.0,1
  74DI20100106,        A05,      54,          1,         16,         16,2,20100119,       1844,   24.49893,  -64.76769,       5940,   756.9,   7.9530,  35.0692,  35.0653,2,   143.3,2,   18.72,2,    1.79,2,  -999.0,9,  -999.0,9,   28.48,2,     -999.0,1,     -999.0,1,     -999.0,1,     -999.0,1,     7.8738,     -999.0,1
  74DI20100106,        A05,      54,          1,         17,         17,2,20100119,       1844,   24.49893,  -64.76769,       5940,   632.0,   9.8662,  35.2822,  35.2819,2,   134.2,2,   14.00,2,    1.54,2,  2186.6,2,  2320.4,2,   25.09,2,     -999.0,1,     -999.0,1,     -999.0,1,     -999.0,1,     9.7916,     -999.0,1
  74DI20100106,        A05,      54,          1,         18,         18,2,20100119,       1844,   24.49893,  -64.76769,       5940,   504.3,  11.9299,  35.5550,  35.5590,2,   143.9,2,    9.14,2,    1.24,2,  2175.6,2,  2330.6,2,   20.45,2,     -999.0,1,     -999.0,1,     -999.0,9,     -999.0,9,    11.8631,     -999.0,1
  74DI20100106,        A05,      54,          1,         19,         19,2,20100119,       1844,   24.49893,  -64.76769,       5940,   378.5,  14.0630,  35.8554,  35.8653,2,   155.7,2,    5.73,2,    0.90,2,  -999.0,9,  -999.0,9,   15.28,2,     -999.0,9,     -999.0,9,     -999.0,9,     -999.0,9,    14.0074,     -999.0,9
  74DI20100106,        A05,      54,          1,         20,         20,2,20100119,       1844,   24.49893,  -64.76769,       5940,   252.8,  15.1973,  35.8962,  35.9005,2,   135.7,2,    6.12,2,    0.98,2,  2165.9,3,  2349.3,3,   16.03,2,     -999.0,1,     -999.0,1,     -999.0,9,     -999.0,9,    15.1583,     -999.0,1
  74DI20100106,        A05,      54,          1,         21,         21,2,20100119,       1844,   24.49893,  -64.76769,       5940,   177.7,  17.4212,  36.1893,  36.1808,2,   129.7,2,    4.91,2,    0.81,2,  -999.0,9,  -999.0,9,   13.52,2,     -999.0,9,     -999.0,9,     -999.0,9,     -999.0,9,    17.3911,     -999.0,9
  74DI20100106,        A05,      54,          1,         22,         22,2,20100119,       1844,   24.49893,  -64.76769,       5940,   100.6,  24.4257,  36.6429,  36.6399,2,   176.9,2,    1.39,2,    0.11,2,  2080.2,3,  2392.6,2,    1.82,2,     -999.0,1,     -999.0,1,     -999.0,9,     -999.0,9,    24.4041,     -999.0,1
  74DI20100106,        A05,      54,          1,         23,         23,2,20100119,       1844,   24.49893,  -64.76769,       5940,    50.6,  25.0553,  36.4023,  36.4026,2,   202.3,2,    0.99,2,    0.04,2,  -999.0,9,  -999.0,9,    0.00,2,     -999.0,9,     -999.0,9,     -999.0,9,     -999.0,9,    25.0442,     -999.0,9
  74DI20100106,        A05,      54,          1,         24,         24,10,20100119,       1844,   24.49893,  -64.76769,       5940,     5.1,  25.2064,  36.3475,  36.3563,2,   203.2,2,    0.90,2,    0.05,2,  2023.8,2,  2376.1,2,    0.00,2,     -999.0,1,     -999.0,1,     -999.0,1,     -999.0,1,    25.2053,     -999.0,1