BOTTLE,20200115CCHSIOCBG
EXPOCODE,SECT_ID,STNNBR,CASTNO,SAMPNO,BTLNBR,BTLNBR_FLAG_W,DATE,TIME,LATITUDE,LONGITUDE,DEPTH,CTDPRS,CTDTMP,CTDSAL,SALNTY,SALNTY_FLAG_W,OXYGEN,OXYGEN_FLAG_W,SILCAT,SILCAT_FLAG_W,PHSPHT,PHSPHT_FLAG_W,TCARBN,TCARBN_FLAG_W,ALKALI,ALKALI_FLAG_W,NO2+NO3,NO2+NO3_FLAG_W,CFC-11,CFC-11_FLAG_W,CFC-12,CFC-12_FLAG_W,CFC113,CFC113_FLAG_W,CCL4,CCL4_FLAG_W,THETA,SF6,SF6_FLAG_W
,,,,,,,,,,,METERS,DBAR,ITS-90,PSS-78,PSS-78,,UMOL/KG,,UMOL/KG,,UMOL/KG,,UMOL/KG,,UMOL/KG,,UMOL/KG,,PMOL/L,,PMOL/L,,PMOL/L,,PMOL/L,,ITS-90,FMOL/L,
  74DI20100106,        A05,      12,          1,          1,          1,2,20100108,       0214,   27.33824,  -79.18358,        256,   243.6,  19.0620,  36.6298,  36.6272,2,   184.5,2,    1.11,3,    0.04,3,  2113.3,2,  2390.0,2,    1.54,3,     -999.0,1,     -999.0,1,     -999.0,1,     -999.0,1,    19.0180,     -999.0,1
  74DI20100106,        A05,      12,          1,          7,          7,2,20100108,       0214,   27.33824,  -79.18358,        256,   102.4,  24.1263,  36.6402,-999.0000,9,   194.7,2,    0.96,2,    0.00,2,  -999.0,9,  -999.0,9,    0.45,2,     -999.0,1,     -999.0,1,     -999.0,1,     -999.0,1,    24.1045,     -999.0,1
  74DI20100106,        A05,      12,          1,          8,          8,10,20100108,       0214,   27.33824,  -79.18358,        256,   102.5,  24.1267,  36.6403,-999.0000,9,  -999.0,9, -999.00,9, -999.00,9,  -999.0,9,  -999.0,9, -999.00,9,     -999.0,9,     -999.0,9,     -999.0,9,     -999.0,9,    24.1049,     -999.0,9
  74DI20100106,        A05,      12,          1,          9,          9,2,20100108,       0214,   27.33824,  -79.18358,        256,   102.3,  24.1253,  36.6410,-999.0000,9,  -999.0,9, -999.00,9, -999.00,9,  -999.0,9,  -999.0,9, -999.00,9,     -999.0,9,     -999.0,9,     -999.0,9,     -999.0,9,    24.1035,     -999.0,9
  74DI20100106,        A05,      12,          1,         13,         13,2,20100108,       0214,   27.33824,  -79.18358,        256,    52.1,  24.9769,  36.5226,  36.5236,2,   197.9,2,    1.01,2,    0.00,2,  2036.9,2,  2377.7,2,    0.03,2,     -999.0,1,     -999.0,1,     -999.0,1,     -999.0,1,    24.9655,     -999.0,1
  74DI20100106,        A05,      12,          1,         14,         14,2,20100108,       0214,   27.33824,  -79.18358,        256,    52.2,  24.9756,  36.5221,-999.0000,9,  -999.0,9, -999.00,9, -999.00,9,  -999.0,9,  -999.0,9, -999.00,9,     -999.0,9,     -999.0,9,     -999.0,9,     -999.0,9,    24.9642,     -999.0,9
  74DI20100106,        A05,      12,          1,         19,         19,10,20100108,       0214,   27.33824,  -79.18358,        256,    11.9,  25.1799,  36.4827,-999.0000,9,  -999.0,9, -999.00,9, -999.00,9,  -999.0,9,  -999.0,9, -999.00,9,     -999.0,1,     -999.0,1,     -999.0,1,     -999.0,1,    25.1773,     -999.0,1
  74DI20100106,        A05,      12,          1,         20,         20,10,20100108,       0214,   27.33824,  -79.18358,        256,    11.9,  25.1724,  36.4837,-999.0000,9,  -999.0,9, -999.00,9, -999.00,9,  -999.0,9,  -999.0,9, -999.00,9,     -999.0,1,     -999.0,1,     -999.0,1,     -999.0,1,    25.1698,     -999.0,1
  74DI20100106,        A05,      12,          1,         21,         21,10,20100108,       0214,   27.33824,  -79.18358,        256,    12.0,  25.1781,  36.4826,-999.0000,9,  -999.0,9, -999.00,9, -999.00,9,  -999.0,9,  -999.0,9, -999.00,9,     -999.0,9,     -999.0,9,     -999.0,9,     -999.0,9,    25.1755,     -999.0,9
  74DI20100106,        A05,      12,          1,         22,         22,10,20100108,       0214,   27.33824,  -79.18358,        256,    11.8,  25.1727,  36.4838,-999.0000,9,  -999.0,9, -999.00,9, -999.00,9,  -999.0,9,  -999.0,9, -999.00,9,     -999.0,9,     -999.0,9,     -999.0,9,     -999.0,9,    25.1701,     -999.0,9
  74DI20100106,        A05,      12,          1,         23,         23,2,20100108,       0214,   27.33824,  -79.18358,        256,    11.9,  25.1730,  36.4834,  36.4840,2,   202.1,2,    1.01,2,    0.02,2,  1995.0,3,  2375.9,2,    0.00,2,     -999.0,9,     -999.0,9,     -999.0,9,     -999.0,9,    25.1704,     -999.0,9
  74DI20100106,        A05,      12,          1,         24,         24,10,20100108,       0214,   27.33824,  -79.18358,        256,    11.8,  25.1725,  36.4833,-999.0000,9,  -999.0,9, -999.00,9, -999.00,9,  -999.0,9,  -999.0,9, -999.00,9,     -999.0,9,     -999.0,9,     -999.0,9,     -999.0,9,    25.1699,     -999.0,9
  74DI20100106,        A05,      13,          1,          1,          1,2,20100108,       0408,   27.33472,  -79.17417,        177,   167.5,  20.7625,  36.7407,  36.7164,2,   187.8,2,    1.02,2,    0.04,2,  2072.4,3,  2394.4,2,    1.64,2,     -999.0,1,     -999.0,1,     -999.0,1,     -999.0,1,    20.7304,     -999.0,1
  74DI20100106,        A05,      13,          1,          2,          2,2,20100108,       0408,   27.33472,  -79.17417,        177,   167.6,  20.7356,  36.7427,-999.0000,9,  -999.0,9, -999.00,9, -999.00,9,  -999.0,9,  -999.0,9, -999.00,9,     -999.0,9,     -999.0,9,     -999.0,9,     -999.0,9,    20.7036,     -999.0,9
  74DI20100106,        A05,      13,          1,          9,          9,2,20100108,       0408,   27.33472,  -79.17417,        177,    52.0,  24.9434,  36.5369,  36.5367,2,   197.4,2,    1.01,2,    0.00,2,  2043.4,2,  2378.3,2,    0.05,2,     -999.0,1,     -999.0,1,     -999.0,1,     -999.0,1,    24.9321,     -999.0,1
  74DI20100106,        A05,      13,          1,         10,         10,2,20100108,       0408,   27.33472,  -79.17417,        177,    52.1,  24.9472,  36.5356,-999.0000,9,  -999.0,9, -999.00,9, -999.00,9,  -999.0,9,  -999.0,9, -999.00,9,     -999.0,9,     -999.0,9,     -999.0,9,     -999.0,9,    24.9358,     -999.0,9
  74DI20100106,        A05,      13,          1,         17,         17,10,20100108,       0408,   27.33472,  -79.17417,        177,     6.4,  25.0776,  36.4863,-999.0000,9,  -999.0,9, -999.00,9, -999.00,9,  -999.0,9,  -999.0,9, -999.00,9,     -999.0,1,     -999.0,1,     -999.0,1,     -999.0,1,    25.0762,     -999.0,1
  74DI20100106,        A05,      13,          1,         18,         18,10,20100108,       0408,   27.33472,  -79.17417,        177,     6.4,  25.0769,  36.4850,-999.0000,9,  -999.0,9, -999.00,9, -999.00,9,  -999.0,9,  -999.0,9, -999.00,9,     -999.0,9,     -999.0,9,     -999.0,9,     -999.0,9,    25.0755,     -999.0,9
  74DI20100106,        A05,      13,          1,         19,         19,10,20100108,       0408,   27.33472,  -79.17417,        177,     6.4,  25.0820,  36.4828,-999.0000,9,  -999.0,9, -999.00,9, -999.00,9,  -999.0,9,  -999.0,9, -999.00,9,     -999.0,9,     -999.0,9,     -999.0,9,     -999.0,9,    25.0806,     -999.0,9
  74DI20100106,        A05,      13,          1,         20,         20,2,20100108,       0408,   27.33472,  -79.17417,        177,     6.5,  25.0866,  36.4805,  36.4815,2,   199.0,2,    0.05,2,    0.00,2,  2039.0,2,  2378.2,2,    0.00,2,     -999.0,9,     -999.0,9,     -999.0,9,     -999.0,9,    25.0852,     -999.0,9
  74DI20100106,        A05,      13,          1,         21,         21,10,20100108,       0408,   27.33472,  -79.17417,        177,     6.3,  25.0905,  36.4802,-999.0000,9,  -999.0,9, -999.00,9, -999.00,9,  -999.0,9,  -999.0,9, -999.00,9,     -999.0,9,     -999.0,9,     -999.0,9,     -999.0,9,    25.0891,     -999.0,9
  74DI20100106,        A05,      13,          1,         22,         22,10,20100108,       0408,   27.33472,  -79.17417,        177,     6.4,  25.0974,  36.4794,-999.0000,9,  -999.0,9, -999.00,9, -999.00,9,  -999.0,9,  -999.0,9, -999.00,9,     -999.0,9,     -999.0,9,     -999.0,9,     -999.0,9,    25.0960,     -999.0,9
  74DI20100106,        A05,      14,          1,          1,          1,2,20100108,       1903,   26.50125,  -76.93419,        249,   247.7,  18.9556,  36.6253,  36.6260,2,   185.4,3,    1.08,2,    0.11,2,  2113.5,2,  2384.9,2,    3.17,2,     -999.0,1,     -999.0,1,     -999.0,1,     -999.0,1,    18.9110,     -999.0,1
  74DI20100106,        A05,      14,          1,          2,          2,2,20100108,       1903,   26.50125,  -76.93419,        249,   247.8,  18.9515,  36.6247,-999.0000,9,  -999.0,9, -999.00,9, -999.00,9,  -999.0,9,  -999.0,9, -999.00,9,     -999.0,1,     -999.0,1,     -999.0,1,     -999.0,1,    18.9069,     -999.0,1
  74DI20100106,        A05,      14,          1,          4,          4,2,20100108,       1903,   26.50125,  -76.93419,        249,   201.8,  19.7828,  36.6798,  36.6826,2,   195.5,2,    1.06,2,    0.05,2,  2105.2,2,  2393.3,2,    1.86,2,     -999.0,1,     -999.0,1,     -999.0,1,     -999.0,1,    19.7454,     -999.0,1
  74DI20100106,        A05,      14,          1,          7,          7,2,20100108,       1903,   26.50125,  -76.93419,        249,   151.8,  22.2149,  36.7357,  36.7457,2,  -999.0,9,    0.92,2,    0.00,2,  2078.4,2,  2396.2,2,    0.57,2,     -999.0,1,     -999.0,1,     -999.0,1,     -999.0,1,    22.1844,     -999.0,1
  74DI20100106,        A05,      14,          1,         10,         10,2,20100108,       1903,   26.50125,  -76.93419,        249,   101.4,  23.5391,  36.7084,  36.7084,2,   206.3,2,    0.96,2,    0.00,2,  2054.4,2,  2393.4,2,    0.04,2,     -999.0,1,     -999.0,1,     -999.0,1,     -999.0,1,    23.5179,     -999.0,1
  74DI20100106,        A05,      14,          1,         13,         13,2,20100108,       1903,   26.50125,  -76.93419,        249,    76.2,  23.6428,  36.7081,  36.7082,2,   210.0,2,    1.00,2,    0.00,2,  -999.0,9,  -999.0,9,    0.06,2,     -999.0,9,     -999.0,9,     -999.0,9,     -999.0,9,    23.6268,     -999.0,9
  74DI20100106,        A05,      14,          1,         16,         16,2,20100108,       1903,   26.50125,  -76.93419,        249,    51.2,  23.6815,  36.7061,  36.7063,2,   210.7,3,    1.02,2,    0.00,2,  2046.8,2,  2380.4,2,    0.00,2,     -999.0,1,     -999.0,1,     -999.0,1,     -999.0,1,    23.6708,     -999.0,1
  74DI20100106,        A05,      14,          1,         18,         18,2,20100108,       1903,   26.50125,  -76.93419,        249,    51.3,  23.6813,  36.7061,-999.0000,9,  -999.0,9, -999.00,9, -999.00,9,  -999.0,9,  -999.0,9, -999.00,9,     -999.0,9,     -999.0,9,     -999.0,9,     -999.0,9,    23.6705,     -999.0,9
  74DI20100106,        A05,      14,          1,         19,         19,2,20100108,       1903,   26.50125,  -76.93419,        249,    26.0,  23.6979,  36.7060,  36.7054,2,   210.3,2,    1.03,2,    0.00,2,  -999.0,9,  -999.0,9,    0.00,2,     -999.0,9,     -999.0,9,     -999.0,9,     -999.0,9,    23.6924,     -999.0,9
  74DI20100106,        A05,      14,          1,         21,         21,2,20100108,       1903,   26.50125,  -76.93419,        249,    25.9,  23.6985,  36.7060,-999.0000,9,  -999.0,9, -999.00,9, -999.00,9,  -999.0,9,  -999.0,9, -999.00,9,     -999.0,9,     -999.0,9,     -999.0,9,     -999.0,9,    23.6930,     -999.0,9
  74DI20100106,        A05,      14,          1,         22,         22,3,20100108,       1903,   26.50125,  -76.93419,        249,     6.0,  23.7261,  36.7101,  36.7101,3,  -999.0,9, -999.00,9, -999.00,9,  -999.0,9,  -999.0,9, -999.00,9,     -999.0,1,     -999.0,1,     -999.0,1,     -999.0,1,    23.7248,     -999.0,1
  74DI20100106,        A05,      14,          1,         23,         23,2,20100108,       1903,   26.50125,  -76.93419,        249,     5.9,  23.7267,  36.7099,-999.0000,9,   207.8,2,    1.01,2,    0.00,2,  -999.0,9,  -999.0,9,    0.05,2,     -999.0,9,     -999.0,9,     -999.0,9,     -999.0,9,    23.7255,     -999.0,9
  74DI20100106,        A05,      14,          1,         24,         24,2,20100108,       1903,   26.50125,  -76.93419,        249,     6.1,  23.7267,  36.7099,-999.0000,9,  -999.0,9, -999.00,9, -999.00,9,  -999.0,9,  -999.0,9, -999.00,9,     -999.0,9,     -999.0,9,     -999.0,9,     -999.0,9,    23.7254,     -999.0,9
  74DI20100106,        A05,      15,          1,          1,          1,2,20100108,       2109,   26.49892,  -76.86477,       1318,  1231.3,   4.5525,  35.0097,  35.0099,2,   244.9,2,   13.14,2,    1.23,2,  2165.9,2,  2309.9,2,   18.86,2,     -999.0,1,     -999.0,1,     -999.0,1,     -999.0,1,     4.4510,     -999.0,1
  74DI20100106,        A05,      15,          1,          3,          3,2,20100108,       2109,   26.49892,  -76.86477,       1318,  1008.7,   5.3877,  35.0543,  35.0542,2,   224.5,2,   13.87,2,    1.34,2,  2172.4,2,  2314.5,2,   20.46,2,     -999.0,1,     -999.0,1,     -999.0,1,     -999.0,1,     5.2997,     -999.0,1
  74DI20100106,        A05,      15,          1,          5,          5,2,20100108,       2109,   26.49892,  -76.86477,       1318,   882.2,   7.3210,  35.1121,  35.1126,2,   170.0,2,   15.70,2,    1.55,2,  2186.8,2,  2317.3,2,   24.41,2,     -999.0,1,     -999.0,1,     -999.0,1,     -999.0,1,     7.2320,     -999.0,1
  74DI20100106,        A05,      15,          1,          7,          7,2,20100108,       2109,   26.49892,  -76.86477,       1318,   755.6,  10.1069,  35.3244,  35.3251,2,   143.3,2,   12.65,2,    1.46,2,  -999.0,9,  -999.0,9,   23.60,2,     -999.0,9,     -999.0,9,     -999.0,9,     -999.0,9,    10.0158,     -999.0,9
  74DI20100106,        A05,      15,          1,          8,          8,2,20100108,       2109,   26.49892,  -76.86477,       1318,   629.9,  12.9054,  35.6850,  35.6847,2,   151.8,2,    7.70,2,    1.07,2,  2165.2,2,  2339.2,2,   18.00,2,     -999.0,1,     -999.0,1,     -999.0,1,     -999.0,1,    12.8172,     -999.0,1
  74DI20100106,        A05,      15,          1,         10,         10,2,20100108,       2109,   26.49892,  -76.86477,       1318,   503.1,  15.5122,  36.0981,  36.0967,2,   170.0,2,    4.00,2,    0.63,2,  -999.0,9,  -999.0,9,   11.35,2,     -999.0,9,     -999.0,9,     -999.0,9,     -999.0,9,    15.4329,     -999.0,9
  74DI20100106,        A05,      15,          1,         11,         11,2,20100108,       2109,   26.49892,  -76.86477,       1318,   376.8,  17.7399,  36.4927,  36.4925,2,   190.8,2,    1.96,2,    0.27,2,  2117.1,2,  2382.5,2,    5.65,2,     -999.0,1,     -999.0,1,     -999.0,9,     -999.0,1,    17.6750,     -999.0,1
  74DI20100106,        A05,      15,          1,         13,         13,2,20100108,       2109,   26.49892,  -76.86477,       1318,   252.2,  19.0492,  36.6425,  36.6417,2,   186.6,2,    1.28,2,    0.10,2,  -999.0,9,  -999.0,9,    3.10,2,     -999.0,9,     -999.0,9,     -999.0,9,     -999.0,9,    19.0037,     -999.0,9
  74DI20100106,        A05,      15,          1,         14,         14,2,20100108,       2109,   26.49892,  -76.86477,       1318,   177.0,  20.7498,  36.7465,  36.7462,2,   192.6,2,    0.99,2,    0.02,2,  2099.3,2,  2398.5,2,    1.13,2,     -999.0,1,     -999.0,1,     -999.0,1,     -999.0,1,    20.7159,     -999.0,1
  74DI20100106,        A05,      15,          1,         16,         16,2,20100108,       2109,   26.49892,  -76.86477,       1318,   101.3,  23.6957,  36.7106,  36.7105,2,   206.0,2,    1.07,2,    0.00,2,  -999.0,9,  -999.0,9,    0.00,2,     -999.0,9,     -999.0,9,     -999.0,9,     -999.0,9,    23.6745,     -999.0,9
  74DI20100106,        A05,      15,          1,         17,         17,2,20100108,       2109,   26.49892,  -76.86477,       1318,    76.7,  23.7033,  36.7053,  36.7055,2,   207.7,2,    1.01,2,    0.00,2,  2048.8,2,  2395.2,2,    0.00,2,     -999.0,1,     -999.0,1,     -999.0,1,     -999.0,1,    23.6872,     -999.0,1
  74DI20100106,        A05,      15,          1,         19,         19,2,20100108,       2109,   26.49892,  -76.86477,       1318,    51.1,  23.7039,  36.7045,  36.7032,2,   205.8,2,    0.98,2,    0.00,2,  -999.0,9,  -999.0,9,    0.01,2,     -999.0,9,     -999.0,9,     -999.0,9,     -999.0,9,    23.6931,     -999.0,9
  74DI20100106,        A05,      15,          1,         20,         20,2,20100108,       2109,   26.49892,  -76.86477,       1318,    50.8,  23.7042,  36.7044,-999.0000,9,  -999.0,9, -999.00,9, -999.00,9,  -999.0,9,  -999.0,9, -999.00,9,     -999.0,9,     -999.0,9,     -999.0,9,     -999.0,9,    23.6935,     -999.0,9
  74DI20100106,        A05,      15,          1,         21,         21,10,20100108,       2109,   26.49892,  -76.86477,       1318,    25.9,  23.7324,  36.7054,-999.0000,9,  -999.0,9, -999.00,9, -999.00,9,  -999.0,9,  -999.0,9, -999.00,9,     -999.0,1,     -999.0,1,     -999.0,1,     -999.0,1,    23.7270,     -999.0,1
  74DI20100106,        A05,      15,          1,         22,         22,2,20100108,       2109,   26.49892,  -76.86477,       1318,    26.0,  23.7332,  36.7055,  36.7047,2,   206.3,2,    1.10,2,    0.00,2,  2050.3,2,  2394.9,2,    0.60,2,     -999.0,9,     -999.0,9,     -999.0,9,     -999.0,9,    23.7277,     -999.0,9
  74DI20100106,        A05,      15,          1,         23,         23,2,20100108,       2109,   26.49892,  -76.86477,       1318,     6.1,  23.7301,  36.7058,  36.7057,2,   205.4,3,    1.00,2,    0.00,2,  2049.6,2,  2396.8,2,    0.12,2,     -999.0,1,     -999.0,1,     -999.0,1,     -999.0,1,    23.7288,     -999.0,1
  74DI20100106,        A05,      15,          1,         24,         24,2,20100108,       2109,   26.49892,  -76.86477,       1318,     5.6,  23.7299,  36.7060,-999.0000,9,  -999.0,9, -999.00,9, -999.00,9,  -999.0,9,  -999.0,9, -999.00,9,     -999.0,9,     -999.0,9,     -999.0,9,     -999.0,9,    23.7287,     -999.0,9