BOTTLE,20200115CCHSIOCBG
EXPOCODE,SECT_ID,STNNBR,CASTNO,SAMPNO,BTLNBR,BTLNBR_FLAG_W,DATE,TIME,LATITUDE,LONGITUDE,DEPTH,CTDPRS,CTDTMP,CTDSAL,SALNTY,SALNTY_FLAG_W,OXYGEN,OXYGEN_FLAG_W,SILCAT,SILCAT_FLAG_W,PHSPHT,PHSPHT_FLAG_W,TCARBN,TCARBN_FLAG_W,ALKALI,ALKALI_FLAG_W,NO2+NO3,NO2+NO3_FLAG_W,CFC-11,CFC-11_FLAG_W,CFC-12,CFC-12_FLAG_W,CFC113,CFC113_FLAG_W,CCL4,CCL4_FLAG_W,THETA,SF6,SF6_FLAG_W
,,,,,,,,,,,METERS,DBAR,ITS-90,PSS-78,PSS-78,,UMOL/KG,,UMOL/KG,,UMOL/KG,,UMOL/KG,,UMOL/KG,,UMOL/KG,,PMOL/L,,PMOL/L,,PMOL/L,,PMOL/L,,ITS-90,FMOL/L,
  74DI20100106,        A05,      95,          1,          1,         25,10,20100203,       1335,   23.93483,  -38.43322,       5728,  5827.3,   2.4526,  34.8794,  34.8808,2,   242.0,2,   51.19,2,    1.52,2,  -999.0,9,  -999.0,9,   23.04,2,     -999.0,1,     -999.0,1,     -999.0,1,     -999.0,1,     1.8760,     -999.0,1
  74DI20100106,        A05,      95,          1,          2,          2,2,20100203,       1335,   23.93483,  -38.43322,       5728,  5828.6,   2.4528,  34.8793,  34.8793,2,   242.1,2,   51.08,2,    1.53,2,  2202.7,2,  -999.0,9,   23.20,2,     -999.0,1,     -999.0,1,     -999.0,1,     -999.0,1,     1.8760,     -999.0,1
  74DI20100106,        A05,      95,          1,          3,          3,2,20100203,       1335,   23.93483,  -38.43322,       5728,  5362.0,   2.4090,  34.8816,  34.8811,2,   241.4,2,   50.69,2,    1.53,2,  2199.1,2,  -999.0,9,   23.30,2,     -999.0,1,     -999.0,1,     -999.0,1,     -999.0,1,     1.8961,     -999.0,1
  74DI20100106,        A05,      95,          1,          4,          4,2,20100203,       1335,   23.93483,  -38.43322,       5728,  4836.0,   2.3820,  34.8859,  34.8858,2,   241.3,2,   49.98,2,    1.53,2,  -999.0,9,  -999.0,9,   23.29,2,     -999.0,1,     -999.0,1,     -999.0,1,     -999.0,1,     1.9372,     -999.0,1
  74DI20100106,        A05,      95,          1,          5,          5,10,20100203,       1335,   23.93483,  -38.43322,       5728,  4320.5,   2.3931,  34.8932,  34.8942,2,  -999.0,9,   48.31,2,    1.53,2,  -999.0,9,  -999.0,9,   22.92,2,     -999.0,9,     -999.0,9,     -999.0,9,     -999.0,9,     2.0105,     -999.0,9
  74DI20100106,        A05,      95,          1,          6,          6,2,20100203,       1335,   23.93483,  -38.43322,       5728,  3805.3,   2.4586,  34.9053,  34.9051,2,   240.1,2,   45.19,2,    1.50,2,  2196.5,2,  2344.5,2,   22.69,2,     -999.0,1,     -999.0,1,     -999.0,1,     -999.0,1,     2.1336,     -999.0,1
  74DI20100106,        A05,      95,          1,          7,          7,2,20100203,       1335,   23.93483,  -38.43322,       5728,  3301.0,   2.6278,  34.9256,  34.9255,2,   238.3,2,   41.20,2,    1.48,2,  2196.1,2,  2343.0,2,   22.41,2,     -999.0,1,     -999.0,1,     -999.0,1,     -999.0,1,     2.3537,     -999.0,1
  74DI20100106,        A05,      95,          1,          8,          8,2,20100203,       1335,   23.93483,  -38.43322,       5728,  2791.5,   2.9280,  34.9533,  34.9536,2,   237.1,2,   34.63,2,    1.44,2,  2188.7,2,  2334.8,2,   22.07,2,     -999.0,1,     -999.0,1,     -999.0,1,     -999.0,1,     2.7002,     -999.0,1
  74DI20100106,        A05,      95,          1,          9,          9,2,20100203,       1335,   23.93483,  -38.43322,       5728,  2536.1,   3.1252,  34.9689,  34.9689,2,   236.8,2,   31.01,2,    1.42,2,  -999.0,9,  -999.0,9,   21.53,2,     -999.0,1,     -999.0,1,     -999.0,1,     -999.0,1,     2.9193,     -999.0,1
  74DI20100106,        A05,      95,          1,         10,         10,2,20100203,       1335,   23.93483,  -38.43322,       5728,  2281.9,   3.3529,  34.9862,  34.9859,2,   237.7,2,   28.22,2,    1.41,2,  2181.3,2,  2326.9,2,   21.41,2,     -999.0,1,     -999.0,1,     -999.0,1,     -999.0,1,     3.1679,     -999.0,1
  74DI20100106,        A05,      95,          1,         11,         11,2,20100203,       1335,   23.93483,  -38.43322,       5728,  2025.1,   3.7334,  35.0154,  35.0160,2,   234.6,2,   24.07,2,    1.36,2,  -999.0,9,  -999.0,9,   20.74,2,     -999.0,1,     -999.0,1,     -999.0,1,     -999.0,1,     3.5673,     -999.0,1
  74DI20100106,        A05,      95,          1,         12,         12,2,20100203,       1335,   23.93483,  -38.43322,       5728,  1772.0,   4.1501,  35.0355,  35.0359,2,   228.6,2,   20.81,2,    1.37,2,  2176.8,2,  2318.2,2,   21.30,2,     -999.0,1,     -999.0,1,     -999.0,1,     -999.0,1,     4.0025,     -999.0,1
  74DI20100106,        A05,      95,          1,         13,         13,2,20100203,       1335,   23.93483,  -38.43322,       5728,  1515.7,   4.7426,  35.0671,  35.0680,2,   220.3,2,   18.05,2,    1.38,2,  -999.0,9,  -999.0,9,   21.42,2,     -999.0,1,     -999.0,1,     -999.0,1,     -999.0,1,     4.6123,     -999.0,1
  74DI20100106,        A05,      95,          1,         14,         14,2,20100203,       1335,   23.93483,  -38.43322,       5728,  1263.1,   5.4533,  35.0761,  35.0764,2,   200.6,2,   17.63,2,    1.48,2,  2185.1,2,  2332.7,3,   22.94,2,     -999.0,1,     -999.0,1,     -999.0,1,     -999.0,1,     5.3403,     -999.0,1
  74DI20100106,        A05,      95,          1,         15,         26,2,20100203,       1335,   23.93483,  -38.43322,       5728,  1009.7,   6.6748,  35.0964,  35.0962,2,   164.7,2,   18.57,2,    1.66,2,  -999.0,9,  -999.0,9,   26.16,2,     -999.0,1,     -999.0,1,     -999.0,1,     -999.0,1,     6.5770,     -999.0,1
  74DI20100106,        A05,      95,          1,         16,         16,2,20100203,       1335,   23.93483,  -38.43322,       5728,   882.7,   7.5731,  35.1497,  35.1505,2,   149.6,2,   17.65,2,    1.67,2,  2204.2,2,  -999.0,9,   26.76,2,     -999.0,1,     -999.0,1,     -999.0,1,     -999.0,1,     7.4824,     -999.0,1
  74DI20100106,        A05,      95,          1,         17,         17,2,20100203,       1335,   23.93483,  -38.43322,       5728,   757.6,   9.3042,  35.3184,  35.3168,2,   146.5,2,   13.86,2,    1.48,2,  -999.0,9,  -999.0,9,   24.08,2,     -999.0,9,     -999.0,9,     -999.0,9,     -999.0,9,     9.2173,     -999.0,9
  74DI20100106,        A05,      95,          1,         18,         18,2,20100203,       1335,   23.93483,  -38.43322,       5728,   504.9,  13.5162,  35.8251,  35.8277,2,   175.2,2,    5.01,2,    0.77,2,  -999.0,9,  -999.0,9,   13.57,2,     -999.0,1,     -999.0,1,     -999.0,9,     -999.0,9,    13.4436,     -999.0,1
  74DI20100106,        A05,      95,          1,         19,         19,2,20100203,       1335,   23.93483,  -38.43322,       5728,   379.5,  15.6328,  36.1588,  36.1603,2,   175.3,2,    3.29,2,    0.56,2,  -999.0,9,  -999.0,9,    9.93,2,     -999.0,9,     -999.0,9,     -999.0,9,     -999.0,9,    15.5729,     -999.0,9
  74DI20100106,        A05,      95,          1,         20,         20,2,20100203,       1335,   23.93483,  -38.43322,       5728,   253.6,  18.0225,  36.6024,  36.6027,2,   174.2,2,    2.11,2,    0.35,2,  -999.0,9,  -999.0,9,    6.39,2,     -999.0,9,     -999.0,9,     -999.0,9,     -999.0,9,    17.9784,     -999.0,1
  74DI20100106,        A05,      95,          1,         21,         21,2,20100203,       1335,   23.93483,  -38.43322,       5728,   178.8,  20.0225,  37.0098,  37.0123,2,   191.5,2,    1.17,2,    0.08,2,  -999.0,9,  -999.0,9,    1.79,2,     -999.0,9,     -999.0,9,     -999.0,9,     -999.0,9,    19.9890,     -999.0,9
  74DI20100106,        A05,      95,          1,         22,         22,10,20100203,       1335,   23.93483,  -38.43322,       5728,   138.0,  21.4951,  37.2344,  37.2399,2,   207.8,2,    0.91,2,    0.00,2,  -999.0,9,  -999.0,9,    0.08,2,     -999.0,9,     -999.0,9,     -999.0,9,     -999.0,9,    21.4679,     -999.0,9
  74DI20100106,        A05,      95,          1,         23,         23,2,20100203,       1335,   23.93483,  -38.43322,       5728,    51.8,  23.5357,  37.5628,  37.5632,2,   206.3,2,    0.85,2,    0.00,2,  -999.0,9,  -999.0,9,    0.00,2,     -999.0,9,     -999.0,9,     -999.0,9,     -999.0,9,    23.5248,     -999.0,9
  74DI20100106,        A05,      95,          1,         24,         24,2,20100203,       1335,   23.93483,  -38.43322,       5728,     5.8,  23.6166,  37.5657,  37.5652,2,   206.3,2,    0.88,2,    0.00,2,  -999.0,9,  -999.0,9,    0.00,2,     -999.0,1,     -999.0,1,     -999.0,1,     -999.0,1,    23.6154,     -999.0,1
  74DI20100106,        A05,      96,          1,          1,         25,2,20100203,       2235,   24.08953,  -37.61107,       5238,  5322.6,   2.4125,  34.8822,  34.8829,2,   240.0,2,   49.61,2,    1.50,2,  -999.0,9,  -999.0,9,   22.84,2,     -999.0,1,     -999.0,1,     -999.0,1,     -999.0,1,     1.9046,     -999.0,1
  74DI20100106,        A05,      96,          1,          2,          2,2,20100203,       2235,   24.08953,  -37.61107,       5238,  5322.7,   2.4125,  34.8824,  34.8813,2,   241.7,2,   49.99,2,    1.50,2,  -999.0,9,  -999.0,9,   23.17,2,     -999.0,9,     -999.0,9,     -999.0,9,     -999.0,9,     1.9046,     -999.0,9
  74DI20100106,        A05,      96,          1,          3,          3,2,20100203,       2235,   24.08953,  -37.61107,       5238,  5078.1,   2.3979,  34.8843,  34.8829,2,   240.4,2,   50.26,2,    1.50,2,  2197.1,2,  2348.6,2,   23.15,2,     -999.0,1,     -999.0,1,     -999.0,1,     -999.0,1,     1.9221,     -999.0,1
  74DI20100106,        A05,      96,          1,          4,          4,2,20100203,       2235,   24.08953,  -37.61107,       5238,  4567.3,   2.3890,  34.8900,  34.8895,2,   240.3,2,   48.73,2,    1.50,2,  2196.4,2,  2349.3,2,   23.07,2,     -999.0,1,     -999.0,1,     -999.0,1,     -999.0,1,     1.9771,     -999.0,1
  74DI20100106,        A05,      96,          1,          5,          5,2,20100203,       2235,   24.08953,  -37.61107,       5238,  4059.1,   2.4316,  34.8998,  34.8991,2,   239.9,2,   46.36,2,    1.48,2,  -999.0,9,  -999.0,9,   22.83,2,     -999.0,1,     -999.0,1,     -999.0,1,     -999.0,1,     2.0785,     -999.0,1
  74DI20100106,        A05,      96,          1,          6,          6,2,20100203,       2235,   24.08953,  -37.61107,       5238,  3548.6,   2.5568,  34.9166,  34.9155,2,   238.5,2,   42.75,2,    1.47,2,  -999.0,9,  -999.0,9,   22.50,2,     -999.0,1,     -999.0,1,     -999.0,1,     -999.0,1,     2.2576,     -999.0,1
  74DI20100106,        A05,      96,          1,          7,          7,2,20100203,       2235,   24.08953,  -37.61107,       5238,  3044.9,   2.7739,  34.9401,  34.9391,2,   236.9,2,   37.79,2,    1.45,2,  -999.0,9,  -999.0,9,   22.38,2,     -999.0,1,     -999.0,1,     -999.0,1,     -999.0,1,     2.5233,     -999.0,1
  74DI20100106,        A05,      96,          1,          8,          8,2,20100203,       2235,   24.08953,  -37.61107,       5238,  2540.2,   3.1474,  34.9715,  34.9709,2,   236.1,2,   31.30,2,    1.41,2,  -999.0,9,  -999.0,9,   21.75,2,     -999.0,1,     -999.0,1,     -999.0,1,     -999.0,1,     2.9406,     -999.0,1
  74DI20100106,        A05,      96,          1,          9,          9,2,20100203,       2235,   24.08953,  -37.61107,       5238,  2287.7,   3.4424,  34.9948,  34.9941,2,   235.1,2,   27.12,2,    1.40,2,  -999.0,9,  -999.0,9,   21.67,2,     -999.0,1,     -999.0,1,     -999.0,1,     -999.0,1,     3.2554,     -999.0,1
  74DI20100106,        A05,      96,          1,         10,         10,2,20100203,       2235,   24.08953,  -37.61107,       5238,  2034.5,   3.7921,  35.0235,  35.0225,2,   232.2,2,   24.01,2,    1.38,2,  -999.0,9,  -999.0,9,   21.46,2,     -999.0,1,     -999.0,1,     -999.0,1,     -999.0,1,     3.6241,     -999.0,1
  74DI20100106,        A05,      96,          1,         11,         11,2,20100203,       2235,   24.08953,  -37.61107,       5238,  1781.6,   4.2509,  35.0517,  35.0509,2,   225.7,2,   21.06,2,    1.39,2,  -999.0,9,  -999.0,9,   21.41,2,     -999.0,1,     -999.0,1,     -999.0,1,     -999.0,1,     4.1009,     -999.0,1
  74DI20100106,        A05,      96,          1,         12,         12,3,20100203,       2235,   24.08953,  -37.61107,       5238,  1527.8,   4.8249,  35.0773,-999.0000,9,  -999.0,9,   18.66,3,    1.55,3,  -999.0,9,  -999.0,9,   24.12,3,     -999.0,9,     -999.0,9,     -999.0,9,     -999.0,9,     4.6925,     -999.0,9
  74DI20100106,        A05,      96,          1,         13,         13,2,20100203,       2235,   24.08953,  -37.61107,       5238,  1274.3,   5.5553,  35.0698,  35.0704,2,   193.0,2,   18.74,2,    1.54,2,  -999.0,9,  -999.0,9,   24.10,2,     -999.0,1,     -999.0,1,     -999.0,1,     -999.0,1,     5.4402,     -999.0,1
  74DI20100106,        A05,      96,          1,         14,         14,2,20100203,       2235,   24.08953,  -37.61107,       5238,  1020.8,   6.9407,  35.1285,  35.1284,2,   150.7,2,   19.79,2,    1.75,2,  -999.0,9,  -999.0,9,   27.87,2,     -999.0,1,     -999.0,1,     -999.0,1,     -999.0,1,     6.8397,     -999.0,1
  74DI20100106,        A05,      96,          1,         15,         26,2,20100203,       2235,   24.08953,  -37.61107,       5238,   883.7,   7.9656,  35.1875,  35.1838,2,   139.9,2,   17.87,2,    1.71,2,  -999.0,9,  -999.0,9,   27.35,2,     -999.0,1,     -999.0,1,     -999.0,1,     -999.0,1,     7.8722,     -999.0,1
  74DI20100106,        A05,      96,          1,         16,         16,2,20100203,       2235,   24.08953,  -37.61107,       5238,   752.3,   9.5091,  35.3413,  35.3401,2,   136.7,2,   13.96,2,    1.54,2,  -999.0,9,  -999.0,9,   25.36,2,     -999.0,9,     -999.0,9,     -999.0,9,     -999.0,9,     9.4216,     -999.0,9
  74DI20100106,        A05,      96,          1,         17,         17,2,20100203,       2235,   24.08953,  -37.61107,       5238,   506.3,  13.0301,  35.7590,  35.7527,2,   154.4,2,    6.20,2,    0.97,2,  -999.0,9,  -999.0,9,   16.75,2,     -999.0,9,     -999.0,9,     -999.0,9,     -999.0,9,    12.9591,     -999.0,9
  74DI20100106,        A05,      96,          1,         18,         18,2,20100203,       2235,   24.08953,  -37.61107,       5238,   379.0,  15.0989,  36.0700,  36.0671,2,   175.4,2,    3.81,2,    0.62,2,  2143.7,2,  2360.1,2,   11.02,2,     -999.0,9,     -999.0,9,     -999.0,9,     -999.0,9,    15.0404,     -999.0,9
  74DI20100106,        A05,      96,          1,         19,         19,2,20100203,       2235,   24.08953,  -37.61107,       5238,   254.0,  17.6428,  36.5252,  36.5154,2,   180.4,2,    2.15,2,    0.33,2,  -999.0,9,  -999.0,9,    6.38,2,     -999.0,9,     -999.0,9,     -999.0,9,     -999.0,9,    17.5993,     -999.0,9
  74DI20100106,        A05,      96,          1,         20,         20,2,20100203,       2235,   24.08953,  -37.61107,       5238,   178.0,  20.0916,  37.0290,  37.0363,2,   191.2,2,    1.24,2,    0.08,2,  2132.4,2,  2419.5,2,    1.90,2,     -999.0,9,     -999.0,9,     -999.0,9,     -999.0,9,    20.0583,     -999.0,9
  74DI20100106,        A05,      96,          1,         21,         21,10,20100203,       2235,   24.08953,  -37.61107,       5238,   120.7,  22.7617,  37.4040,-999.0000,9,  -999.0,9,    1.02,2,    0.00,2,  -999.0,9,  -999.0,9,    0.00,2,     -999.0,9,     -999.0,9,     -999.0,9,     -999.0,9,    22.7370,     -999.0,9
  74DI20100106,        A05,      96,          1,         22,         22,2,20100203,       2235,   24.08953,  -37.61107,       5238,   120.0,  22.7738,  37.4059,  37.4066,2,   208.1,2,    1.02,2,    0.00,2,  2109.5,2,  2439.3,2,    0.00,2,     -999.0,9,     -999.0,9,     -999.0,9,     -999.0,9,    22.7492,     -999.0,9
  74DI20100106,        A05,      96,          1,         23,         23,2,20100203,       2235,   24.08953,  -37.61107,       5238,    51.8,  23.3819,  37.5470,  37.5468,2,   206.0,2,    0.93,2,    0.00,2,  -999.0,9,  -999.0,9,    0.00,2,     -999.0,9,     -999.0,9,     -999.0,9,     -999.0,9,    23.3711,     -999.0,9
  74DI20100106,        A05,      96,          1,         24,         24,2,20100203,       2235,   24.08953,  -37.61107,       5238,     4.8,  23.5301,  37.5585,  37.5581,2,   207.8,2,    0.90,2,    0.00,2,  -999.0,9,  -999.0,9,    0.00,2,     -999.0,9,     -999.0,9,     -999.0,9,     -999.0,9,    23.5291,     -999.0,9