BOTTLE,20200115CCHSIOCBG
EXPOCODE,SECT_ID,STNNBR,CASTNO,SAMPNO,BTLNBR,BTLNBR_FLAG_W,DATE,TIME,LATITUDE,LONGITUDE,DEPTH,CTDPRS,CTDTMP,CTDSAL,SALNTY,SALNTY_FLAG_W,OXYGEN,OXYGEN_FLAG_W,SILCAT,SILCAT_FLAG_W,PHSPHT,PHSPHT_FLAG_W,TCARBN,TCARBN_FLAG_W,ALKALI,ALKALI_FLAG_W,NO2+NO3,NO2+NO3_FLAG_W,CFC-11,CFC-11_FLAG_W,CFC-12,CFC-12_FLAG_W,CFC113,CFC113_FLAG_W,CCL4,CCL4_FLAG_W,THETA,SF6,SF6_FLAG_W
,,,,,,,,,,,METERS,DBAR,ITS-90,PSS-78,PSS-78,,UMOL/KG,,UMOL/KG,,UMOL/KG,,UMOL/KG,,UMOL/KG,,UMOL/KG,,PMOL/L,,PMOL/L,,PMOL/L,,PMOL/L,,ITS-90,FMOL/L,
  74DI20100106,        A05,      71,          1,          1,          1,2,20100126,       1143,   25.11083,  -52.84053,       5859,  5818.5,   2.1113,  34.8496,  34.8486,2,   243.7,2,   58.53,2,    1.56,2,  2198.1,2,  2347.4,2,   23.57,2,     -999.0,1,     -999.0,1,     -999.0,1,     -999.0,1,     1.5489,     -999.0,1
  74DI20100106,        A05,      71,          1,          2,          2,3,20100126,       1143,   25.11083,  -52.84053,       5859,  5301.3,   2.0814,  34.8540,-999.0000,9,  -999.0,9, -999.00,9, -999.00,9,  -999.0,9,  -999.0,9, -999.00,9,     -999.0,9,     -999.0,9,     -999.0,9,     -999.0,9,     1.5881,     -999.0,9
  74DI20100106,        A05,      71,          1,          3,          3,2,20100126,       1143,   25.11083,  -52.84053,       5859,  4839.4,   2.1337,  34.8656,  34.8646,2,   247.0,2,   53.02,2,    1.53,2,  2191.4,2,  2341.3,2,   23.09,2,     -999.0,1,     -999.0,1,     -999.0,1,     -999.0,1,     1.6967,     -999.0,1
  74DI20100106,        A05,      71,          1,          4,          4,3,20100126,       1143,   25.11083,  -52.84053,       5859,  4332.3,   2.2221,  34.8802,-999.0000,9,  -999.0,9, -999.00,9, -999.00,9,  -999.0,9,  -999.0,9, -999.00,9,     -999.0,9,     -999.0,9,     -999.0,9,     -999.0,9,     1.8433,     -999.0,9
  74DI20100106,        A05,      71,          1,          5,          5,2,20100126,       1143,   25.11083,  -52.84053,       5859,  3820.0,   2.3689,  34.8977,  34.8966,2,   249.1,2,   42.95,2,    1.42,2,  2182.6,2,  2333.2,2,   21.52,2,     -999.0,1,     -999.0,1,     -999.0,1,     -999.0,1,     2.0447,     -999.0,1
  74DI20100106,        A05,      71,          1,          6,          6,2,20100126,       1143,   25.11083,  -52.84053,       5859,  3310.5,   2.6287,  34.9224,  34.9215,2,   246.5,2,   38.34,2,    1.42,2,  2180.5,2,  2332.8,2,   21.76,2,     -999.0,1,     -999.0,1,     -999.0,1,     -999.0,1,     2.3535,     -999.0,1
  74DI20100106,        A05,      71,          1,          7,          7,2,20100126,       1143,   25.11083,  -52.84053,       5859,  2795.2,   2.9572,  34.9524,  34.9507,2,   244.8,2,   32.67,2,    1.36,2,  2177.5,2,  2328.0,2,   21.10,2,     -999.0,1,     -999.0,1,     -999.0,1,     -999.0,1,     2.7285,     -999.0,1
  74DI20100106,        A05,      71,          1,          8,          8,2,20100126,       1143,   25.11083,  -52.84053,       5859,  2544.3,   3.1474,  34.9691,  34.9669,2,   243.9,2,   29.33,2,    1.34,2,  -999.0,9,  -999.0,9,   20.23,4,     -999.0,1,     -999.0,1,     -999.0,1,     -999.0,1,     2.9402,     -999.0,1
  74DI20100106,        A05,      71,          1,          9,          9,2,20100126,       1143,   25.11083,  -52.84053,       5859,  2289.8,   3.4060,  34.9910,  34.9883,2,   243.7,2,   26.05,2,    1.35,2,  2170.1,2,  2324.3,2,   20.77,2,     -999.0,1,     -999.0,1,     -999.0,1,     -999.0,1,     3.2194,     -999.0,1
  74DI20100106,        A05,      71,          1,         10,         10,2,20100126,       1143,   25.11083,  -52.84053,       5859,  2030.6,   3.8387,  35.0259,  35.0252,2,   240.4,2,   21.83,2,    1.34,2,  -999.0,9,  -999.0,9,   20.69,2,     -999.0,1,     -999.0,1,     -999.0,1,     -999.0,1,     3.6704,     -999.0,1
  74DI20100106,        A05,      71,          1,         11,         11,2,20100126,       1143,   25.11083,  -52.84053,       5859,  1769.2,   4.3927,  35.0669,  35.0659,2,   234.7,2,   18.54,2,    1.30,2,  2167.8,2,  2319.0,2,   20.58,2,     -999.0,1,     -999.0,1,     -999.0,1,     -999.0,1,     4.2420,     -999.0,1
  74DI20100106,        A05,      71,          1,         12,         12,2,20100126,       1143,   25.11083,  -52.84053,       5859,  1515.1,   4.7913,  35.0507,  35.0503,2,   228.0,2,   15.93,2,    1.33,2,  -999.0,9,  -999.0,9,   21.07,2,     -999.0,1,     -999.0,1,     -999.0,1,     -999.0,1,     4.6605,     -999.0,1
  74DI20100106,        A05,      71,          1,         13,         13,2,20100126,       1143,   25.11083,  -52.84053,       5859,  1265.4,   5.6592,  35.0387,  35.0378,2,  -999.0,9,   17.91,2,    1.53,2,  2181.2,2,  2315.8,2,   23.81,2,     -999.0,1,     -999.0,1,     -999.0,1,     -999.0,1,     5.5441,     -999.0,1
  74DI20100106,        A05,      71,          1,         14,         14,2,20100126,       1143,   25.11083,  -52.84053,       5859,  1016.1,   6.7001,  34.9721,  34.9707,2,   144.4,2,   21.55,2,    1.90,2,  -999.0,9,  -999.0,9,   30.34,2,     -999.0,1,     -999.0,1,     -999.0,1,     -999.0,1,     6.6017,     -999.0,1
  74DI20100106,        A05,      71,          1,         15,         15,2,20100126,       1143,   25.11083,  -52.84053,       5859,   895.6,   7.8548,  35.0842,  35.0859,2,   136.5,2,   18.71,2,    1.81,2,  2200.5,2,  2316.2,2,   29.31,2,     -999.0,1,     -999.0,1,     -999.0,1,     -999.0,1,     7.7609,     -999.0,1
  74DI20100106,        A05,      71,          1,         16,         16,2,20100126,       1143,   25.11083,  -52.84053,       5859,   759.9,   9.9545,  35.3426,  35.3415,2,   139.9,2,   13.02,2,    1.50,2,  -999.0,9,  -999.0,9,   24.77,2,     -999.0,9,     -999.0,9,     -999.0,9,     -999.0,9,     9.8637,     -999.0,9
  74DI20100106,        A05,      71,          1,         17,         17,2,20100126,       1143,   25.11083,  -52.84053,       5859,   632.6,  12.3209,  35.6506,  35.6506,2,   156.9,2, -999.00,9, -999.00,9,  2166.1,2,  -999.0,9, -999.00,9,     -999.0,1,     -999.0,1,     -999.0,1,     -999.0,1,    12.2349,     -999.0,1
  74DI20100106,        A05,      71,          1,         18,         18,2,20100126,       1143,   25.11083,  -52.84053,       5859,   503.3,  14.8623,  36.0049,  36.0047,2,   172.4,2,    4.14,2,    0.66,2,  2142.4,2,  2356.1,2,   12.38,2,     -999.0,1,     -999.0,1,     -999.0,1,     -999.0,1,    14.7852,     -999.0,1
  74DI20100106,        A05,      71,          1,         19,         19,2,20100126,       1143,   25.11083,  -52.84053,       5859,   379.0,  16.8939,  36.3517,  36.3512,2,   185.3,2,    2.26,2,    0.36,2,  2125.4,2,  2374.6,2,    7.43,2,     -999.0,1,     -999.0,1,     -999.0,1,     -999.0,1,    16.8307,     -999.0,1
  74DI20100106,        A05,      71,          1,         20,         20,3,20100126,       1143,   25.11083,  -52.84053,       5859,   255.4,  18.2845,  36.5856,-999.0000,9,  -999.0,9, -999.00,9, -999.00,9,  -999.0,9,  -999.0,9, -999.00,9,     -999.0,9,     -999.0,9,     -999.0,9,     -999.0,9,    18.2396,     -999.0,9
  74DI20100106,        A05,      71,          1,         21,         21,2,20100126,       1143,   25.11083,  -52.84053,       5859,   179.6,  20.0912,  36.8763,  36.8785,2,   181.8,2,    0.89,2,    0.03,2,  2124.6,2,  2408.0,2,    1.74,2,     -999.0,9,     -999.0,9,     -999.0,9,     -999.0,9,    20.0576,     -999.0,9
  74DI20100106,        A05,      71,          1,         22,         22,2,20100126,       1143,   25.11083,  -52.84053,       5859,   102.6,  24.2974,  37.2958,  37.2960,2,   205.2,2,    0.69,2,    0.00,2,  2073.3,2,  2430.3,2,    0.00,2,     -999.0,1,     -999.0,1,     -999.0,1,     -999.0,1,    24.2754,     -999.0,1
  74DI20100106,        A05,      71,          1,         23,         23,2,20100126,       1143,   25.11083,  -52.84053,       5859,    52.6,  24.2990,  37.2975,  37.2964,2,   204.0,2,    0.68,2,    0.00,2,  -999.0,9,  -999.0,9,    0.00,2,     -999.0,9,     -999.0,9,     -999.0,9,     -999.0,9,    24.2877,     -999.0,9
  74DI20100106,        A05,      71,          1,         24,         24,2,20100126,       1143,   25.11083,  -52.84053,       5859,    11.0,  24.2949,  37.2982,  37.2976,2,   204.7,2,    0.67,2,    0.00,2,  2073.1,2,  2431.7,2,    0.00,2,     -999.0,1,     -999.0,1,     -999.0,1,     -999.0,1,    24.2926,     -999.0,1
  74DI20100106,        A05,      72,          1,          1,          1,2,20100126,       1926,   25.07994,  -52.29025,       5529,  5623.6,   2.1204,  34.8533,  34.8520,2,   243.3,2,   56.26,2,    1.57,2,  2200.8,2,  2341.4,2,   23.84,2,     -999.0,1,     -999.0,1,     -999.0,1,     -999.0,1,     1.5837,     -999.0,1
  74DI20100106,        A05,      72,          1,          2,          2,2,20100126,       1926,   25.07994,  -52.29025,       5529,  5075.7,   2.1081,  34.8600,  34.8577,2,   245.6,2,   54.40,2,    1.57,2,  2200.4,2,  2340.5,2,   23.98,2,     -999.0,9,     -999.0,9,     -999.0,9,     -999.0,9,     1.6426,     -999.0,9
  74DI20100106,        A05,      72,          1,          3,          3,2,20100126,       1926,   25.07994,  -52.29025,       5529,  4573.8,   2.1542,  34.8712,  34.8705,2,   247.7,2,   49.79,2,    1.51,2,  2191.6,2,  2338.5,2,   23.23,2,     -999.0,1,     -999.0,1,     -999.0,1,     -999.0,1,     1.7488,     -999.0,1
  74DI20100106,        A05,      72,          1,          4,          4,2,20100126,       1926,   25.07994,  -52.29025,       5529,  4067.7,   2.2816,  34.8883,  34.8874,2,   248.9,2,   44.44,2,    1.46,2,  2188.9,2,  2335.7,2,   22.56,2,     -999.0,1,     -999.0,1,     -999.0,1,     -999.0,1,     1.9317,     -999.0,1
  74DI20100106,        A05,      72,          1,          5,          5,2,20100126,       1926,   25.07994,  -52.29025,       5529,  3560.8,   2.4795,  34.9091,  34.9084,2,   247.7,2,   40.06,2,    1.43,2,  2191.6,2,  2331.5,2,   22.33,2,     -999.0,1,     -999.0,1,     -999.0,1,     -999.0,1,     2.1810,     -999.0,1
  74DI20100106,        A05,      72,          1,          6,          6,2,20100126,       1926,   25.07994,  -52.29025,       5529,  3051.6,   2.8031,  34.9382,  34.9370,2,   245.4,2,   35.20,2,    1.41,2,  2184.6,2,  2332.5,2,   21.82,2,     -999.0,1,     -999.0,1,     -999.0,1,     -999.0,1,     2.5512,     -999.0,1
  74DI20100106,        A05,      72,          1,          7,          7,2,20100126,       1926,   25.07994,  -52.29025,       5529,  2532.1,   3.1443,  34.9691,  34.9677,2,   244.5,2,   29.12,2,    1.36,2,  2177.6,2,  2328.4,2,   20.99,2,     -999.0,1,     -999.0,1,     -999.0,1,     -999.0,1,     2.9384,     -999.0,1
  74DI20100106,        A05,      72,          1,          8,          8,2,20100126,       1926,   25.07994,  -52.29025,       5529,  2278.9,   3.4099,  34.9916,  34.9907,2,   243.9,2,   25.83,2,    1.34,2,  -999.0,9,  -999.0,9,   21.01,2,     -999.0,1,     -999.0,1,     -999.0,1,     -999.0,1,     3.2242,     -999.0,1
  74DI20100106,        A05,      72,          1,          9,          9,2,20100126,       1926,   25.07994,  -52.29025,       5529,  2024.3,   3.8195,  35.0237,  35.0232,2,   241.0,2,   21.32,2,    1.30,2,  2174.3,2,  2320.1,2,   20.12,2,     -999.0,1,     -999.0,1,     -999.0,1,     -999.0,1,     3.6521,     -999.0,1
  74DI20100106,        A05,      72,          1,         10,         10,2,20100126,       1926,   25.07994,  -52.29025,       5529,  1771.3,   4.4287,  35.0626,  35.0617,2,   235.6,2,   17.41,2,    1.31,2,  -999.0,9,  -999.0,9,   20.68,2,     -999.0,1,     -999.0,1,     -999.0,1,     -999.0,1,     4.2773,     -999.0,1
  74DI20100106,        A05,      72,          1,         11,         11,2,20100126,       1926,   25.07994,  -52.29025,       5529,  1514.7,   4.9722,  35.0709,  35.0709,2,   223.6,2,   15.93,2,    1.36,2,  2173.8,2,  2316.0,2,   21.57,2,     -999.0,1,     -999.0,1,     -999.0,1,     -999.0,1,     4.8394,     -999.0,1
  74DI20100106,        A05,      72,          1,         12,         12,2,20100126,       1926,   25.07994,  -52.29025,       5529,  1263.2,   5.6145,  35.0355,  35.0354,2,   192.6,2,   18.16,2,    1.56,2,  -999.0,9,  -999.0,9,   24.76,2,     -999.0,1,     -999.0,1,     -999.0,1,     -999.0,1,     5.5000,     -999.0,1
  74DI20100106,        A05,      72,          1,         13,         13,2,20100126,       1926,   25.07994,  -52.29025,       5529,  1008.2,   6.9351,  35.0191,  35.0092,2,   146.8,2,   20.55,2,    1.86,2,  2205.9,2,  2313.7,2,   29.77,2,     -999.0,1,     -999.0,1,     -999.0,1,     -999.0,1,     6.8356,     -999.0,1
  74DI20100106,        A05,      72,          1,         14,         14,2,20100126,       1926,   25.07994,  -52.29025,       5529,   882.9,   8.5185,  35.1777,  35.1761,2,   139.3,2,   16.46,2,    1.70,2,  -999.0,9,  -999.0,9,   27.84,2,     -999.0,1,     -999.0,1,     -999.0,1,     -999.0,1,     8.4217,     -999.0,9
  74DI20100106,        A05,      72,          1,         15,         15,2,20100126,       1926,   25.07994,  -52.29025,       5529,   756.5,  10.3872,  35.3999,  35.3998,2,   144.0,2,   11.65,2,    1.40,2,  2186.6,2,  2326.0,2,   23.61,2,     -999.0,1,     -999.0,1,     -999.0,1,     -999.0,1,    10.2944,     -999.0,1
  74DI20100106,        A05,      72,          1,         16,         16,2,20100126,       1926,   25.07994,  -52.29025,       5529,   632.1,  12.8089,  35.7073,-999.0000,2,   160.1,2,    6.79,2,    0.98,2,  -999.0,9,  -999.0,9,   17.18,2,     -999.0,1,     -999.0,1,     -999.0,1,     -999.0,1,    12.7208,     -999.0,1
  74DI20100106,        A05,      72,          1,         17,         17,2,20100126,       1926,   25.07994,  -52.29025,       5529,   506.2,  15.0913,  36.0422,-999.0000,2,   172.9,2,    3.79,2,    0.61,2,  -999.0,9,  -999.0,9,   11.53,2,     -999.0,1,     -999.0,1,     -999.0,1,     -999.0,1,    15.0130,     -999.0,1
  74DI20100106,        A05,      72,          1,         18,         18,3,20100126,       1926,   25.07994,  -52.29025,       5529,   379.9,  17.3056,  36.4217,-999.0000,9,  -999.0,9, -999.00,9, -999.00,9,  -999.0,9,  -999.0,9, -999.00,9,     -999.0,9,     -999.0,9,     -999.0,9,     -999.0,9,    17.2412,     -999.0,9
  74DI20100106,        A05,      72,          1,         19,         19,2,20100126,       1926,   25.07994,  -52.29025,       5529,   254.7,  18.3158,  36.5737,  36.5739,2,   191.4,2, -999.00,9, -999.00,9,  2118.2,2,  -999.0,9, -999.00,9,     -999.0,1,     -999.0,1,     -999.0,9,     -999.0,9,    18.2710,     -999.0,1
  74DI20100106,        A05,      72,          1,         20,         20,2,20100126,       1926,   25.07994,  -52.29025,       5529,   177.5,  20.4517,  36.8694,  36.8752,2,   190.3,2,    0.87,2,    0.01,2,  2117.2,2,  2406.8,2,    0.74,2,     -999.0,1,     -999.0,1,     -999.0,9,     -999.0,9,    20.4180,     -999.0,1
  74DI20100106,        A05,      72,          1,         21,         21,10,20100126,       1926,   25.07994,  -52.29025,       5529,   127.5,  22.8971,  37.1475,  37.1472,2,   206.8,2,    0.76,2,    0.00,2,  -999.0,9,  -999.0,9,    0.00,2,     -999.0,9,     -999.0,9,     -999.0,9,     -999.0,9,    22.8709,     -999.0,9
  74DI20100106,        A05,      72,          1,         22,         22,2,20100126,       1926,   25.07994,  -52.29025,       5529,   126.8,  22.8722,  37.1470,-999.0000,9,   206.6,2,    0.80,2,    0.01,2,  -999.0,9,  -999.0,9,    0.00,2,     -999.0,9,     -999.0,9,     -999.0,9,     -999.0,9,    22.8462,     -999.0,9
  74DI20100106,        A05,      72,          1,         23,         23,2,20100126,       1926,   25.07994,  -52.29025,       5529,    51.0,  23.8875,  37.2006,  37.2004,2,   204.5,2,    0.86,2,    0.01,2,  2078.1,2,  2422.1,2,    0.00,2,     -999.0,9,     -999.0,9,     -999.0,9,     -999.0,9,    23.8767,     -999.0,9
  74DI20100106,        A05,      72,          1,         24,         24,2,20100126,       1926,   25.07994,  -52.29025,       5529,     5.2,  23.9204,  37.2118,  37.2104,2,   204.0,2,    0.85,2,    0.00,2,  2076.9,2,  2422.6,2,    0.00,9,     -999.0,1,     -999.0,1,     -999.0,1,     -999.0,1,    23.9193,     -999.0,1