BOTTLE,20200115CCHSIOCBG
EXPOCODE,SECT_ID,STNNBR,CASTNO,SAMPNO,BTLNBR,BTLNBR_FLAG_W,DATE,TIME,LATITUDE,LONGITUDE,DEPTH,CTDPRS,CTDTMP,CTDSAL,SALNTY,SALNTY_FLAG_W,OXYGEN,OXYGEN_FLAG_W,SILCAT,SILCAT_FLAG_W,PHSPHT,PHSPHT_FLAG_W,TCARBN,TCARBN_FLAG_W,ALKALI,ALKALI_FLAG_W,NO2+NO3,NO2+NO3_FLAG_W,CFC-11,CFC-11_FLAG_W,CFC-12,CFC-12_FLAG_W,CFC113,CFC113_FLAG_W,CCL4,CCL4_FLAG_W,THETA,SF6,SF6_FLAG_W
,,,,,,,,,,,METERS,DBAR,ITS-90,PSS-78,PSS-78,,UMOL/KG,,UMOL/KG,,UMOL/KG,,UMOL/KG,,UMOL/KG,,UMOL/KG,,PMOL/L,,PMOL/L,,PMOL/L,,PMOL/L,,ITS-90,FMOL/L,
  74DI20100106,        A05,      87,          1,          1,         25,2,20100131,       2050,   23.53531,  -44.20905,       4862,  4925.6,   2.5263,  34.8971,  34.8989,2,   244.8,2,   44.10,2,    1.44,2,  -999.0,9,  -999.0,9,   21.99,2,     -999.0,9,     -999.0,9,     -999.0,9,     -999.0,9,     2.0654,     -999.0,9
  74DI20100106,        A05,      87,          1,          2,          2,3,20100131,       2050,   23.53531,  -44.20905,       4862,  4584.0,   2.4865,  34.8976,-999.0000,9,  -999.0,9, -999.00,9, -999.00,9,  -999.0,9,  -999.0,9, -999.00,9,     -999.0,9,     -999.0,9,     -999.0,9,     -999.0,9,     2.0694,     -999.0,9
  74DI20100106,        A05,      87,          1,          3,          3,2,20100131,       2050,   23.53531,  -44.20905,       4862,  4326.7,   2.4720,  34.8989,  34.8995,2,   246.9,2,   44.01,2,    1.44,2,  2184.4,2,  2333.5,2,   22.11,2,     -999.0,1,     -999.0,1,     -999.0,1,     -999.0,1,     2.0863,     -999.0,1
  74DI20100106,        A05,      87,          1,          4,          4,2,20100131,       2050,   23.53531,  -44.20905,       4862,  3816.6,   2.5749,  34.9124,  34.9127,2,   243.7,2,   42.03,2,    1.43,2,  -999.0,9,  -999.0,9,   21.93,2,     -999.0,1,     -999.0,1,     -999.0,1,     -999.0,1,     2.2455,     -999.0,1
  74DI20100106,        A05,      87,          1,          5,          5,2,20100131,       2050,   23.53531,  -44.20905,       4862,  3303.7,   2.6835,  34.9266,  34.9268,2,   242.0,2,   39.24,2,    1.42,2,  -999.0,9,  -999.0,9,   21.51,2,     -999.0,1,     -999.0,1,     -999.0,1,     -999.0,1,     2.4078,     -999.0,1
  74DI20100106,        A05,      87,          1,          6,          6,2,20100131,       2050,   23.53531,  -44.20905,       4862,  2794.9,   2.9115,  34.9479,  34.9477,2,   243.1,2,   33.37,2,    1.38,2,  -999.0,9,  -999.0,9,   20.95,2,     -999.0,1,     -999.0,1,     -999.0,1,     -999.0,1,     2.6838,     -999.0,1
  74DI20100106,        A05,      87,          1,          7,          7,2,20100131,       2050,   23.53531,  -44.20905,       4862,  2540.0,   3.0899,  34.9633,  34.9633,2,   243.2,2,   30.13,2,    1.36,2,  -999.0,9,  -999.0,9,   20.67,2,     -999.0,1,     -999.0,1,     -999.0,1,     -999.0,1,     2.8842,     -999.0,1
  74DI20100106,        A05,      87,          1,          8,          8,2,20100131,       2050,   23.53531,  -44.20905,       4862,  2286.5,   3.4333,  34.9909,  34.9909,2,   241.5,2,   26.18,2,    1.33,2,  -999.0,9,  -999.0,9,   20.38,2,     -999.0,1,     -999.0,1,     -999.0,1,     -999.0,1,     3.2466,     -999.0,1
  74DI20100106,        A05,      87,          1,          9,          9,2,20100131,       2050,   23.53531,  -44.20905,       4862,  2030.8,   3.8839,  35.0197,  35.0201,2,   236.1,2,   22.67,2,    1.34,2,  -999.0,9,  -999.0,9,   20.85,2,     -999.0,1,     -999.0,1,     -999.0,1,     -999.0,1,     3.7150,     -999.0,1
  74DI20100106,        A05,      87,          1,         10,         10,2,20100131,       2050,   23.53531,  -44.20905,       4862,  1777.8,   4.3144,  35.0321,  35.0323,2,   229.2,2,   19.56,2,    1.37,2,  -999.0,9,  -999.0,9,   21.23,2,     -999.0,1,     -999.0,1,     -999.0,1,     -999.0,1,     4.1640,     -999.0,1
  74DI20100106,        A05,      87,          1,         11,         11,2,20100131,       2050,   23.53531,  -44.20905,       4862,  1524.9,   4.7988,  35.0207,  35.0208,2,   210.4,2,   18.87,2,    1.48,2,  -999.0,9,  -999.0,9,   22.89,2,     -999.0,1,     -999.0,1,     -999.0,1,     -999.0,1,     4.6671,     -999.0,1
  74DI20100106,        A05,      87,          1,         12,         12,2,20100131,       2050,   23.53531,  -44.20905,       4862,  1270.9,   5.6194,  35.0370,  35.0370,2,   183.0,2,   19.64,2,    1.63,2,  -999.0,9,  -999.0,9,   25.28,2,     -999.0,1,     -999.0,1,     -999.0,1,     -999.0,1,     5.5041,     -999.0,1
  74DI20100106,        A05,      87,          1,         13,         13,2,20100131,       2050,   23.53531,  -44.20905,       4862,  1017.6,   6.7874,  35.0399,  35.0402,2,   147.6,2,   20.48,2,    1.82,2,  -999.0,9,  -999.0,9,   28.59,2,     -999.0,1,     -999.0,1,     -999.0,1,     -999.0,1,     6.6880,     -999.0,1
  74DI20100106,        A05,      87,          1,         14,         14,2,20100131,       2050,   23.53531,  -44.20905,       4862,   882.3,   8.0888,  35.1500,  35.1502,2,   133.6,2,   17.89,2,    1.76,2,  -999.0,9,  -999.0,9,   28.22,2,     -999.0,1,     -999.0,1,     -999.0,1,     -999.0,1,     7.9948,     -999.0,1
  74DI20100106,        A05,      87,          1,         15,         26,2,20100131,       2050,   23.53531,  -44.20905,       4862,   757.6,   9.8339,  35.3408,  35.3315,2,   127.9,2,   13.63,2,    1.56,2,  -999.0,9,  -999.0,9,   25.99,2,     -999.0,9,     -999.0,9,     -999.0,9,     -999.0,9,     9.7441,     -999.0,9
  74DI20100106,        A05,      87,          1,         16,         16,2,20100131,       2050,   23.53531,  -44.20905,       4862,   633.4,  11.6793,  35.5652,  35.5618,2,   131.6,2,    9.10,2,    1.28,2,  -999.0,9,  -999.0,9,   22.04,2,     -999.0,9,     -999.0,9,     -999.0,9,     -999.0,9,    11.5961,     -999.0,9
  74DI20100106,        A05,      87,          1,         17,         17,2,20100131,       2050,   23.53531,  -44.20905,       4862,   505.2,  13.6271,  35.8408,  35.8413,2,   165.7,2,    5.13,2,    0.82,2,  -999.0,9,  -999.0,9,   14.52,2,     -999.0,1,     -999.0,1,     -999.0,1,     -999.0,1,    13.5541,     -999.0,1
  74DI20100106,        A05,      87,          1,         18,         18,2,20100131,       2050,   23.53531,  -44.20905,       4862,   380.1,  16.2716,  36.2587,  36.2585,2,   180.6,2,    2.71,2,    0.46,2,  -999.0,9,  -999.0,9,    8.52,2,     -999.0,9,     -999.0,9,     -999.0,9,     -999.0,9,    16.2099,     -999.0,9
  74DI20100106,        A05,      87,          1,         19,         19,2,20100131,       2050,   23.53531,  -44.20905,       4862,   252.2,  17.9830,  36.5305,  36.5324,2,   198.1,2,    1.61,2,    0.19,2,  -999.0,9,  -999.0,9,    4.24,2,     -999.0,1,     -999.0,1,     -999.0,1,     -999.0,1,    17.9392,     -999.0,1
  74DI20100106,        A05,      87,          1,         20,         20,2,20100131,       2050,   23.53531,  -44.20905,       4862,   176.2,  19.8581,  36.8088,  36.8191,2,   188.5,2,    0.93,2,    0.04,2,  -999.0,9,  -999.0,9,    1.16,2,     -999.0,9,     -999.0,9,     -999.0,9,     -999.0,9,    19.8254,     -999.0,9
  74DI20100106,        A05,      87,          1,         21,         21,2,20100131,       2050,   23.53531,  -44.20905,       4862,   125.6,  23.4175,  37.3972,  37.4142,2,   204.6,2,    0.75,2,    0.00,2,  -999.0,9,  -999.0,9,    0.00,2,     -999.0,9,     -999.0,9,     -999.0,9,     -999.0,9,    23.3913,     -999.0,9
  74DI20100106,        A05,      87,          1,         22,         22,10,20100131,       2050,   23.53531,  -44.20905,       4862,    51.0,  23.6164,  37.4461,  37.4465,2,   207.7,2,    0.76,2,    0.00,2,  -999.0,9,  -999.0,9,    0.00,2,     -999.0,9,     -999.0,9,     -999.0,9,     -999.0,9,    23.6057,     -999.0,9
  74DI20100106,        A05,      87,          1,         23,         23,10,20100131,       2050,   23.53531,  -44.20905,       4862,    25.2,  23.6116,  37.4465,  37.4464,2,   204.6,2,    0.79,2,    0.00,2,  -999.0,9,  -999.0,9,    0.00,2,     -999.0,1,     -999.0,1,     -999.0,1,     -999.0,1,    23.6063,     -999.0,9
  74DI20100106,        A05,      87,          1,         24,         24,10,20100131,       2050,   23.53531,  -44.20905,       4862,     5.9,  23.6029,  37.4467,  37.4467,2,   205.5,2,    0.76,2,    0.00,2,  -999.0,9,  -999.0,9,    0.00,2,     -999.0,1,     -999.0,1,     -999.0,1,     -999.0,1,    23.6017,     -999.0,1
  74DI20100106,        A05,      88,          1,          1,         25,10,20100201,       0401,   23.45004,  -43.67183,       4870,  4941.6,   2.4451,  34.8893,  34.8892,2,   242.4,2,   47.01,2,    1.47,2,  -999.0,9,  -999.0,9,   22.23,2,     -999.0,9,     -999.0,9,     -999.0,9,     -999.0,9,     1.9850,     -999.0,9
  74DI20100106,        A05,      88,          1,          2,          2,2,20100201,       0401,   23.45004,  -43.67183,       4870,  4940.4,   2.4449,  34.8892,  34.9311,2,   241.4,2,   37.71,2,    1.42,2,  2181.9,3,  2344.6,2,   21.71,2,     -999.0,1,     -999.0,1,     -999.0,1,     -999.0,1,     1.9850,     -999.0,1
  74DI20100106,        A05,      88,          1,          3,          3,2,20100201,       0401,   23.45004,  -43.67183,       4870,  4584.7,   2.4342,  34.8925,  34.8967,2,   245.2,2,   43.72,2,    1.44,2,  2188.8,2,  2342.9,2,   21.98,2,     -999.0,1,     -999.0,1,     -999.0,1,     -999.0,1,     2.0187,     -999.0,1
  74DI20100106,        A05,      88,          1,          4,          4,2,20100201,       0401,   23.45004,  -43.67183,       4870,  4070.6,   2.4692,  34.9010,  34.9007,2,   244.7,2,   43.22,2,    1.43,2,  2186.5,2,  2344.2,2,   21.70,2,     -999.0,1,     -999.0,1,     -999.0,1,     -999.0,1,     2.1136,     -999.0,1
  74DI20100106,        A05,      88,          1,          5,          5,2,20100201,       0401,   23.45004,  -43.67183,       4870,  3560.7,   2.5681,  34.9145,  34.9138,2,   242.7,2,   41.17,2,    1.43,2,  2185.8,2,  2338.8,2,   21.81,2,     -999.0,1,     -999.0,1,     -999.0,1,     -999.0,1,     2.2673,     -999.0,1
  74DI20100106,        A05,      88,          1,          6,          6,2,20100201,       0401,   23.45004,  -43.67183,       4870,  3050.1,   2.7015,  34.9305,  34.9295,2,   241.5,2,   37.81,2,    1.42,2,  2187.4,2,  2339.9,2,   21.55,2,     -999.0,1,     -999.0,1,     -999.0,1,     -999.0,1,     2.4521,     -999.0,1
  74DI20100106,        A05,      88,          1,          7,          7,2,20100201,       0401,   23.45004,  -43.67183,       4870,  2543.0,   3.1129,  34.9653,  34.9646,2,   243.5,2,   29.19,2,    1.33,2,  2176.7,2,  2333.0,2,   20.57,2,     -999.0,1,     -999.0,1,     -999.0,1,     -999.0,1,     2.9065,     -999.0,1
  74DI20100106,        A05,      88,          1,          8,          8,2,20100201,       0401,   23.45004,  -43.67183,       4870,  2286.8,   3.4935,  34.9954,  34.9936,2,   241.5,2,   24.72,2,    1.31,2,  -999.0,9,  -999.0,9,   20.17,2,     -999.0,1,     -999.0,1,     -999.0,1,     -999.0,1,     3.3057,     -999.0,1
  74DI20100106,        A05,      88,          1,          9,          9,2,20100201,       0401,   23.45004,  -43.67183,       4870,  2032.2,   3.8394,  35.0111,  35.0106,2,   235.8,2,   22.20,2,    1.34,2,  2164.6,2,  2325.6,2,   20.60,2,     -999.0,1,     -999.0,1,     -999.0,1,     -999.0,1,     3.6710,     -999.0,1
  74DI20100106,        A05,      88,          1,         10,         10,2,20100201,       0401,   23.45004,  -43.67183,       4870,  1777.2,   4.2966,  35.0173,  35.0168,2,   224.9,2,   19.53,2,    1.39,2,  -999.0,9,  -999.0,9,   21.77,2,     -999.0,1,     -999.0,1,     -999.0,1,     -999.0,1,     4.1465,     -999.0,1
  74DI20100106,        A05,      88,          1,         11,         11,2,20100201,       0401,   23.45004,  -43.67183,       4870,  1524.9,   4.7565,  35.0241,  35.0237,2,   211.1,2,   18.57,2,    1.45,2,  2177.8,2,  2320.0,2,   22.92,2,     -999.0,1,     -999.0,1,     -999.0,1,     -999.0,1,     4.6252,     -999.0,1
  74DI20100106,        A05,      88,          1,         12,         12,2,20100201,       0401,   23.45004,  -43.67183,       4870,  1272.8,   5.4260,  35.0133,  35.0128,2,   184.7,2,   19.52,2,    1.62,2,  -999.0,9,  -999.0,9,   25.16,2,     -999.0,1,     -999.0,1,     -999.0,1,     -999.0,1,     5.3123,     -999.0,1
  74DI20100106,        A05,      88,          1,         13,         13,2,20100201,       0401,   23.45004,  -43.67183,       4870,  1019.8,   6.6176,  35.0364,  35.0361,2,   150.6,2,   20.20,2,    1.79,2,  2202.2,2,  2319.4,2,   28.26,2,     -999.0,1,     -999.0,1,     -999.0,1,     -999.0,1,     6.5192,     -999.0,1
  74DI20100106,        A05,      88,          1,         14,         14,2,20100201,       0401,   23.45004,  -43.67183,       4870,   884.0,   7.5271,  35.0970,  35.0966,2,   141.0,2,   18.59,2,    1.75,2,  -999.0,9,  -999.0,9,   27.88,2,     -999.0,1,     -999.0,1,     -999.0,1,     -999.0,1,     7.4366,     -999.0,1
  74DI20100106,        A05,      88,          1,         15,         26,2,20100201,       0401,   23.45004,  -43.67183,       4870,   756.2,   9.5646,  35.3366,  35.3405,2,   139.2,2,   13.27,2,    1.47,2,  -999.0,9,  -999.0,9,   24.39,2,     -999.0,1,     -999.0,1,     -999.0,1,     -999.0,1,     9.4763,     -999.0,1
  74DI20100106,        A05,      88,          1,         16,         16,2,20100201,       0401,   23.45004,  -43.67183,       4870,   757.2,   9.6349,  35.3467,  35.3463,2,   140.4,2,   13.05,2,    1.48,2,  2192.2,2,  2325.7,2,   24.64,2,     -999.0,1,     -999.0,1,     -999.0,1,     -999.0,1,     9.5462,     -999.0,1
  74DI20100106,        A05,      88,          1,         17,         17,2,20100201,       0401,   23.45004,  -43.67183,       4870,   630.7,  11.2436,  35.5294,  35.5318,2,   151.5,2,    8.91,2,    1.17,2,  2177.2,2,  2333.5,2,   20.06,2,     -999.0,1,     -999.0,1,     -999.0,1,     -999.0,1,    11.1627,     -999.0,1
  74DI20100106,        A05,      88,          1,         18,         18,2,20100201,       0401,   23.45004,  -43.67183,       4870,   505.9,  13.1223,  35.7628,  35.7631,2,   163.7,2,    5.81,2,    0.88,2,  -999.0,9,  -999.0,9,   15.44,2,     -999.0,9,     -999.0,9,     -999.0,9,     -999.0,9,    13.0509,     -999.0,9
  74DI20100106,        A05,      88,          1,         19,         19,2,20100201,       0401,   23.45004,  -43.67183,       4870,   378.7,  15.8379,  36.1674,  36.2547,4,   182.2,2,    3.08,2,    0.49,2,  -999.0,9,  -999.0,9,    9.08,2,     -999.0,1,     -999.0,1,     -999.0,9,     -999.0,9,    15.7775,     -999.0,1
  74DI20100106,        A05,      88,          1,         20,         20,2,20100201,       0401,   23.45004,  -43.67183,       4870,   253.2,  17.9366,  36.5267,  36.5270,2,   194.5,2,    1.62,2,    0.19,2,  -999.0,9,  -999.0,9,    4.52,2,     -999.0,9,     -999.0,9,     -999.0,9,     -999.0,9,    17.8927,     -999.0,9
  74DI20100106,        A05,      88,          1,         21,         21,2,20100201,       0401,   23.45004,  -43.67183,       4870,   178.0,  19.1836,  36.7464,  36.7481,2,   183.2,2,    1.19,2,    0.08,2,  2127.8,2,  2399.3,2,    2.66,2,     -999.0,1,     -999.0,1,     -999.0,9,     -999.0,9,    19.1513,     -999.0,1
  74DI20100106,        A05,      88,          1,         22,         22,2,20100201,       0401,   23.45004,  -43.67183,       4870,   123.0,  21.3416,  37.1032,  37.1136,2,   196.6,2,    0.75,2,    0.00,2,  -999.0,9,  -999.0,9,    0.32,2,     -999.0,9,     -999.0,9,     -999.0,9,     -999.0,9,    21.3176,     -999.0,9
  74DI20100106,        A05,      88,          1,         23,         23,2,20100201,       0401,   23.45004,  -43.67183,       4870,    50.5,  23.6604,  37.4780,  37.4777,2,   205.3,2,    0.73,2,    0.00,2,  2096.4,2,  2444.3,2,    0.00,2,     -999.0,1,     -999.0,1,     -999.0,9,     -999.0,9,    23.6498,     -999.0,1
  74DI20100106,        A05,      88,          1,         24,         24,10,20100201,       0401,   23.45004,  -43.67183,       4870,     4.7,  23.6573,  37.4797,  37.4798,2,   204.8,2,    0.75,2,    0.00,2,  2096.3,2,  2443.7,2,    0.00,2,     -999.0,1,     -999.0,1,     -999.0,1,     -999.0,1,    23.6563,     -999.0,1