BOTTLE,20200115CCHSIOCBG
EXPOCODE,SECT_ID,STNNBR,CASTNO,SAMPNO,BTLNBR,BTLNBR_FLAG_W,DATE,TIME,LATITUDE,LONGITUDE,DEPTH,CTDPRS,CTDTMP,CTDSAL,SALNTY,SALNTY_FLAG_W,OXYGEN,OXYGEN_FLAG_W,SILCAT,SILCAT_FLAG_W,PHSPHT,PHSPHT_FLAG_W,TCARBN,TCARBN_FLAG_W,ALKALI,ALKALI_FLAG_W,NO2+NO3,NO2+NO3_FLAG_W,CFC-11,CFC-11_FLAG_W,CFC-12,CFC-12_FLAG_W,CFC113,CFC113_FLAG_W,CCL4,CCL4_FLAG_W,THETA,SF6,SF6_FLAG_W
,,,,,,,,,,,METERS,DBAR,ITS-90,PSS-78,PSS-78,,UMOL/KG,,UMOL/KG,,UMOL/KG,,UMOL/KG,,UMOL/KG,,UMOL/KG,,PMOL/L,,PMOL/L,,PMOL/L,,PMOL/L,,ITS-90,FMOL/L,
  74DI20100106,        A05,      27,          1,          1,          1,2,20100111,       2140,   26.50184,  -75.90878,       4746,  4817.6,   2.1721,  34.8725,  34.8723,2,   250.4,3,   44.89,2,    1.42,2,  2184.8,2,  2337.4,2,   20.80,2,     -999.0,1,     -999.0,1,     -999.0,1,     -999.0,1,     1.7365,     -999.0,1
  74DI20100106,        A05,      27,          1,          2,          2,2,20100111,       2140,   26.50184,  -75.90878,       4746,  4567.9,   2.2173,  34.8816,  34.8820,2,   259.3,2,   38.30,2,    1.35,2,  2175.3,2,  2331.6,2,   19.97,2,     -999.0,1,     -999.0,1,     -999.0,1,     -999.0,1,     1.8107,     -999.0,1
  74DI20100106,        A05,      27,          1,          3,          3,2,20100111,       2140,   26.50184,  -75.90878,       4746,  4310.0,   2.2347,  34.8865,  34.8870,2,   261.8,2,   34.50,2,    1.30,2,  2171.3,2,  2325.8,2,   19.49,2,     -999.0,1,     -999.0,1,     -999.0,1,     -999.0,1,     1.8582,     -999.0,1
  74DI20100106,        A05,      27,          1,          4,          4,2,20100111,       2140,   26.50184,  -75.90878,       4746,  3802.2,   2.2697,  34.8939,  34.8941,2,   262.2,2,   30.18,2,    1.25,2,  2168.0,2,  2321.8,2,   18.51,2,     -999.0,1,     -999.0,1,     -999.0,1,     -999.0,1,     1.9502,     -999.0,1
  74DI20100106,        A05,      27,          1,          5,          5,2,20100111,       2140,   26.50184,  -75.90878,       4746,  3286.2,   2.4367,  34.9077,  34.9085,2,   266.7,2,   25.34,2,    1.22,2,  2162.7,2,  2317.7,2,   18.16,2,     -999.0,1,     -999.0,1,     -999.0,1,     -999.0,1,     2.1686,     -999.0,1
  74DI20100106,        A05,      27,          1,          6,          6,2,20100111,       2140,   26.50184,  -75.90878,       4746,  3034.2,   2.5900,  34.9169,  34.9173,2,   265.6,2,   23.09,2,    1.20,2,  -999.0,9,  -999.0,9,   18.20,2,     -999.0,1,     -999.0,1,     -999.0,1,     -999.0,1,     2.3447,     -999.0,1
  74DI20100106,        A05,      27,          1,          7,          7,2,20100111,       2140,   26.50184,  -75.90878,       4746,  2780.2,   2.8318,  34.9319,  34.9311,2,   262.6,2,   21.98,2,    1.22,2,  2161.4,2,  2314.9,2,   18.25,2,     -999.0,1,     -999.0,1,     -999.0,1,     -999.0,1,     2.6072,     -999.0,1
  74DI20100106,        A05,      27,          1,          8,          8,2,20100111,       2140,   26.50184,  -75.90878,       4746,  2527.5,   3.0674,  34.9467,  34.9464,2,   261.1,2,   20.84,2,    1.22,2,  -999.0,9,  -999.0,9,   18.61,2,     -999.0,1,     -999.0,1,     -999.0,1,     -999.0,9,     2.8635,     -999.0,1
  74DI20100106,        A05,      27,          1,          9,          9,2,20100111,       2140,   26.50184,  -75.90878,       4746,  2275.9,   3.2811,  34.9568,  34.9565,2,   260.0,2,   19.27,2,    1.22,2,  2158.9,2,  2311.4,2,   18.58,2,     -999.0,1,     -999.0,1,     -999.0,1,     -999.0,1,     3.0981,     -999.0,1
  74DI20100106,        A05,      27,          1,         10,         10,2,20100111,       2140,   26.50184,  -75.90878,       4746,  2021.7,   3.5237,  34.9626,  34.9621,2,   260.7,2,   16.66,2,    1.20,2,  -999.0,9,  -999.0,9,   18.52,2,     -999.0,1,     -999.0,1,     -999.0,1,     -999.0,1,     3.3612,     -999.0,1
  74DI20100106,        A05,      27,          1,         11,         11,2,20100111,       2140,   26.50184,  -75.90878,       4746,  1770.5,   3.8181,  34.9725,  34.9717,2,   258.4,2,   14.59,2,    1.18,2,  2158.3,2,  2307.8,2,   17.90,2,     -999.0,1,     -999.0,1,     -999.0,1,     -999.0,1,     3.6751,     -999.0,1
  74DI20100106,        A05,      27,          1,         12,         12,2,20100111,       2140,   26.50184,  -75.90878,       4746,  1518.1,   4.3123,  35.0014,  35.0001,2,   250.7,2,   13.35,2,    1.21,2,  -999.0,9,  -999.0,9,   18.66,2,     -999.0,1,     -999.0,1,     -999.0,1,     -999.0,1,     4.1868,     -999.0,1
  74DI20100106,        A05,      27,          1,         13,         13,2,20100111,       2140,   26.50184,  -75.90878,       4746,  1266.1,   5.1673,  35.0512,  35.0505,2,   229.5,2,   13.59,2,    1.27,2,  2169.8,2,  2313.7,2,   19.58,2,     -999.0,1,     -999.0,1,     -999.0,1,     -999.0,1,     5.0567,     -999.0,1
  74DI20100106,        A05,      27,          1,         14,         14,2,20100111,       2140,   26.50184,  -75.90878,       4746,  1011.9,   7.3051,  35.0952,  35.0947,2,   166.0,2,   16.68,2,    1.58,2,  -999.0,9,  -999.0,9,   25.04,2,     -999.0,1,     -999.0,1,     -999.0,1,     -999.0,1,     7.2024,     -999.0,1
  74DI20100106,        A05,      27,          1,         15,         15,2,20100111,       2140,   26.50184,  -75.90878,       4746,   885.6,   8.9922,  35.1996,  35.1987,2,   143.5,2,   15.24,2,    1.58,2,  2189.8,2,  2317.8,2,   25.88,2,     -999.0,1,     -999.0,1,     -999.0,1,     -999.0,1,     8.8920,     -999.0,1
  74DI20100106,        A05,      27,          1,         16,         16,2,20100111,       2140,   26.50184,  -75.90878,       4746,   762.9,  11.4277,  35.4808,  35.4801,2,   144.6,2,   10.14,2,    1.28,2,  2173.8,2,  2328.0,2,   21.28,2,     -999.0,1,     -999.0,1,     -999.0,1,     -999.0,1,    11.3284,     -999.0,1
  74DI20100106,        A05,      27,          1,         17,         17,2,20100111,       2140,   26.50184,  -75.90878,       4746,   639.1,  14.2688,  35.8927,  35.8947,2,   162.7,2,    5.39,2,    0.81,2,  2149.3,2,  2346.8,2,   14.01,2,     -999.0,1,     -999.0,1,     -999.0,1,     -999.0,1,    14.1731,     -999.0,1
  74DI20100106,        A05,      27,          1,         18,         18,2,20100111,       2140,   26.50184,  -75.90878,       4746,   515.0,  16.6276,  36.2907,  36.2877,2,   180.8,2,    2.91,2,    0.45,2,  2132.0,2,  2369.3,2,    8.28,2,     -999.0,1,     -999.0,1,     -999.0,9,     -999.0,9,    16.5425,     -999.0,1
  74DI20100106,        A05,      27,          1,         19,         19,2,20100111,       2140,   26.50184,  -75.90878,       4746,   389.2,  17.9512,  36.5301,  36.5311,2,   192.4,2,    1.76,2,    0.22,2,  -999.0,9,  -999.0,9,    4.86,2,     -999.0,9,     -999.0,9,     -999.0,9,     -999.0,9,    17.8835,     -999.0,9
  74DI20100106,        A05,      27,          1,         20,         20,2,20100111,       2140,   26.50184,  -75.90878,       4746,   253.4,  19.2112,  36.6495,  36.6505,2,   187.6,2,    1.18,2,    0.05,2,  2111.3,2,  2392.2,2,    2.44,2,     -999.0,1,     -999.0,1,     -999.0,9,     -999.0,9,    19.1652,     -999.0,1
  74DI20100106,        A05,      27,          1,         21,         21,2,20100111,       2140,   26.50184,  -75.90878,       4746,   175.9,  20.7658,  36.7637,  36.7641,2,   193.0,2,    0.80,2,    0.00,2,  -999.0,9,  -999.0,9,    0.45,2,     -999.0,9,     -999.0,9,     -999.0,9,     -999.0,9,    20.7321,     -999.0,9
  74DI20100106,        A05,      27,          1,         22,         22,2,20100111,       2140,   26.50184,  -75.90878,       4746,   103.0,  23.5363,  36.7308,  36.7305,2,   206.2,2,    0.97,2,    0.00,2,  2049.9,2,  2393.3,2,    0.00,2,     -999.0,1,     -999.0,1,     -999.0,9,     -999.0,9,    23.5147,     -999.0,1
  74DI20100106,        A05,      27,          1,         23,         23,2,20100111,       2140,   26.50184,  -75.90878,       4746,    52.8,  23.6865,  36.7515,  36.7506,2,   206.3,2,    0.94,2,    0.00,2,  -999.0,9,  -999.0,9,    0.00,2,     -999.0,9,     -999.0,9,     -999.0,9,     -999.0,9,    23.6754,     -999.0,9
  74DI20100106,        A05,      27,          1,         24,         24,2,20100111,       2140,   26.50184,  -75.90878,       4746,    11.9,  23.6834,  36.7512,  36.7518,2,   205.7,2,    0.97,2,    0.00,2,  2046.9,2,  2394.5,2,    0.00,2,     -999.0,1,     -999.0,1,     -999.0,1,     -999.0,1,    23.6809,     -999.0,1
  74DI20100106,        A05,      28,          1,          1,          1,2,20100112,       0349,   26.49850,  -75.72600,       4696,  4767.0,   2.1677,  34.8728,  34.8714,2,   250.7,2,   44.80,2,    1.42,2,  2185.8,2,  2335.8,2,   21.54,2,     -999.0,9,     -999.0,9,     -999.0,9,     -999.0,9,     1.7385,     -999.0,9
  74DI20100106,        A05,      28,          1,          2,          2,2,20100112,       0349,   26.49850,  -75.72600,       4696,  4575.4,   2.2116,  34.8808,  34.8802,2,   257.5,2,   38.58,2,    1.36,2,  2180.6,2,  2328.9,2,   20.67,2,     -999.0,1,     -999.0,1,     -999.0,1,     -999.0,1,     1.8042,     -999.0,1
  74DI20100106,        A05,      28,          1,          3,          3,2,20100112,       0349,   26.49850,  -75.72600,       4696,  4064.1,   2.2390,  34.8892,  34.8876,2,   263.2,2,   33.03,2,    1.29,2,  -999.0,9,  -999.0,9,   19.39,2,     -999.0,1,     -999.0,1,     -999.0,1,     -999.0,1,     1.8908,     -999.0,1
  74DI20100106,        A05,      28,          1,          4,          4,2,20100112,       0349,   26.49850,  -75.72600,       4696,  3552.1,   2.2914,  34.8971,  34.8959,2,   264.5,2,   28.69,2,    1.24,2,  -999.0,9,  -999.0,9,   18.96,2,     -999.0,1,     -999.0,1,     -999.0,1,     -999.0,1,     1.9987,     -999.0,1
  74DI20100106,        A05,      28,          1,          5,          5,2,20100112,       0349,   26.49850,  -75.72600,       4696,  3043.6,   2.5187,  34.9128,  34.9128,2,   266.0,2,   23.77,2,    1.20,2,  -999.0,9,  -999.0,9,   18.32,2,     -999.0,1,     -999.0,1,     -999.0,1,     -999.0,1,     2.2741,     -999.0,1
  74DI20100106,        A05,      28,          1,          6,          6,2,20100112,       0349,   26.49850,  -75.72600,       4696,  2786.8,   2.6985,  34.9245,  34.9239,2,   264.2,2,   22.39,2,    1.21,2,  -999.0,9,  -999.0,9,   18.75,2,     -999.0,9,     -999.0,9,     -999.0,9,     -999.0,9,     2.4760,     -999.0,9
  74DI20100106,        A05,      28,          1,          7,          7,2,20100112,       0349,   26.49850,  -75.72600,       4696,  2533.0,   2.9084,  34.9379,  34.9367,2,   261.1,2,   21.52,2,    1.22,2,  -999.0,9,  -999.0,9,   18.91,2,     -999.0,9,     -999.0,9,     -999.0,9,     -999.0,9,     2.7069,     -999.0,9
  74DI20100106,        A05,      28,          1,          8,          8,2,20100112,       0349,   26.49850,  -75.72600,       4696,  2284.1,   3.0753,  34.9482,  34.9475,2,   259.4,2,   20.58,2,    1.22,2,  2166.3,2,  2316.9,2,   18.91,2,     -999.0,9,     -999.0,9,     -999.0,9,     -999.0,9,     2.8950,     -999.0,9
  74DI20100106,        A05,      28,          1,          9,          9,2,20100112,       0349,   26.49850,  -75.72600,       4696,  2032.8,   3.3013,  34.9575,  34.9565,2,   260.3,2,   18.43,2,    1.21,2,  -999.0,9,  -999.0,9,   18.82,2,     -999.0,9,     -999.0,9,     -999.0,9,     -999.0,9,     3.1411,     -999.0,9
  74DI20100106,        A05,      28,          1,         10,         10,2,20100112,       0349,   26.49850,  -75.72600,       4696,  1778.0,   3.5593,  34.9630,  34.9627,2,   260.1,2,   15.90,2,    1.20,2,  -999.0,9,  -999.0,9,   18.61,2,     -999.0,9,     -999.0,9,     -999.0,9,     -999.0,9,     3.4191,     -999.0,9
  74DI20100106,        A05,      28,          1,         11,         11,2,20100112,       0349,   26.49850,  -75.72600,       4696,  1524.5,   4.3476,  35.0038,  35.0029,2,   248.5,2,   13.72,2,    1.22,2,  -999.0,9,  -999.0,9,   19.03,2,     -999.0,9,     -999.0,9,     -999.0,9,     -999.0,9,     4.2211,     -999.0,9
  74DI20100106,        A05,      28,          1,         12,         12,2,20100112,       0349,   26.49850,  -75.72600,       4696,  1269.8,   5.5894,  35.0673,  35.0670,2,   219.0,2,   13.90,2,    1.32,2,  -999.0,9,  -999.0,9,   20.76,2,     -999.0,9,     -999.0,9,     -999.0,9,     -999.0,9,     5.4744,     -999.0,9
  74DI20100106,        A05,      28,          1,         13,         13,2,20100112,       0349,   26.49850,  -75.72600,       4696,  1019.5,   7.3961,  35.1097,  35.1084,2,   168.3,2,   15.98,2,    1.55,2,  -999.0,9,  -999.0,9,   24.69,2,     -999.0,9,     -999.0,9,     -999.0,9,     -999.0,9,     7.2918,     -999.0,9
  74DI20100106,        A05,      28,          1,         14,         14,2,20100112,       0349,   26.49850,  -75.72600,       4696,   883.2,   9.1839,  35.2225,  35.2236,2,   143.8,2,   14.61,2,    1.55,2,  -999.0,9,  -999.0,9,   25.27,2,     -999.0,9,     -999.0,9,     -999.0,9,     -999.0,9,     9.0827,     -999.0,9
  74DI20100106,        A05,      28,          1,         15,         15,10,20100112,       0349,   26.49850,  -75.72600,       4696,   754.5,  11.6084,  35.5077,  35.5001,2,   145.9,2,    9.95,2,    1.25,2,  -999.0,9,  -999.0,9,   21.15,2,     -999.0,9,     -999.0,9,     -999.0,9,     -999.0,9,    11.5092,     -999.0,9
  74DI20100106,        A05,      28,          1,         16,         16,3,20100112,       0349,   26.49850,  -75.72600,       4696,   755.0,  11.6215,  35.5090,-999.0000,9,  -999.0,9, -999.00,9, -999.00,9,  -999.0,9,  -999.0,9,   13.15,3,     -999.0,9,     -999.0,9,     -999.0,9,     -999.0,9,    11.5222,     -999.0,9
  74DI20100106,        A05,      28,          1,         17,         17,2,20100112,       0349,   26.49850,  -75.72600,       4696,   629.9,  14.7126,  35.9627,  35.9613,2,   166.9,2,    4.80,2,    0.73,2,  -999.0,9,  -999.0,9,    7.91,2,     -999.0,9,     -999.0,9,     -999.0,9,     -999.0,9,    14.6165,     -999.0,9
  74DI20100106,        A05,      28,          1,         18,         18,2,20100112,       0349,   26.49850,  -75.72600,       4696,   504.0,  16.7589,  36.3164,  36.3160,2,   183.8,2,    2.67,2,    0.40,2,  -999.0,9,  -999.0,9,    4.69,2,     -999.0,9,     -999.0,9,     -999.0,9,     -999.0,9,    16.6751,     -999.0,9
  74DI20100106,        A05,      28,          1,         19,         19,2,20100112,       0349,   26.49850,  -75.72600,       4696,   378.5,  18.0848,  36.5477,  36.5478,2,   192.7,2,    1.73,2,    0.20,2,  -999.0,9,  -999.0,9,    0.73,2,     -999.0,9,     -999.0,9,     -999.0,9,     -999.0,9,    18.0187,     -999.0,9
  74DI20100106,        A05,      28,          1,         20,         20,3,20100112,       0349,   26.49850,  -75.72600,       4696,   253.6,  18.9553,  36.6350,-999.0000,9,  -999.0,9, -999.00,9, -999.00,9,  -999.0,9,  -999.0,9,   -0.11,3,     -999.0,9,     -999.0,9,     -999.0,9,     -999.0,9,    18.9096,     -999.0,9
  74DI20100106,        A05,      28,          1,         21,         21,2,20100112,       0349,   26.49850,  -75.72600,       4696,   177.9,  20.3659,  36.7334,  36.7358,2,   192.2,2,    0.96,2,    0.00,2,  -999.0,9,  -999.0,9,    0.00,2,     -999.0,9,     -999.0,9,     -999.0,9,     -999.0,9,    20.3323,     -999.0,9
  74DI20100106,        A05,      28,          1,         22,         22,2,20100112,       0349,   26.49850,  -75.72600,       4696,   102.4,  23.2222,  36.8115,  36.8064,2,   204.1,2,    1.03,2,    0.00,2,  -999.0,9,  -999.0,9,    0.00,2,     -999.0,9,     -999.0,9,     -999.0,9,     -999.0,9,    23.2009,     -999.0,9
  74DI20100106,        A05,      28,          1,         23,         23,10,20100112,       0349,   26.49850,  -75.72600,       4696,    52.2,  23.9565,  36.7688,  36.7692,2,   205.4,2,    1.00,2,    0.00,2,  -999.0,9,  -999.0,9,    0.00,2,     -999.0,9,     -999.0,9,     -999.0,9,     -999.0,9,    23.9455,     -999.0,9
  74DI20100106,        A05,      28,          1,         24,         24,2,20100112,       0349,   26.49850,  -75.72600,       4696,    11.0,  23.9567,  36.7679,  36.7679,2,   204.7,2,    1.01,2,    0.00,2,  -999.0,9,  -999.0,9,    0.00,2,     -999.0,9,     -999.0,9,     -999.0,9,     -999.0,9,    23.9544,     -999.0,9