BOTTLE,20200115CCHSIOCBG
EXPOCODE,SECT_ID,STNNBR,CASTNO,SAMPNO,BTLNBR,BTLNBR_FLAG_W,DATE,TIME,LATITUDE,LONGITUDE,DEPTH,CTDPRS,CTDTMP,CTDSAL,SALNTY,SALNTY_FLAG_W,OXYGEN,OXYGEN_FLAG_W,SILCAT,SILCAT_FLAG_W,PHSPHT,PHSPHT_FLAG_W,TCARBN,TCARBN_FLAG_W,ALKALI,ALKALI_FLAG_W,NO2+NO3,NO2+NO3_FLAG_W,CFC-11,CFC-11_FLAG_W,CFC-12,CFC-12_FLAG_W,CFC113,CFC113_FLAG_W,CCL4,CCL4_FLAG_W,THETA,SF6,SF6_FLAG_W
,,,,,,,,,,,METERS,DBAR,ITS-90,PSS-78,PSS-78,,UMOL/KG,,UMOL/KG,,UMOL/KG,,UMOL/KG,,UMOL/KG,,UMOL/KG,,PMOL/L,,PMOL/L,,PMOL/L,,PMOL/L,,ITS-90,FMOL/L,
  74DI20100106,        A05,      91,          1,          1,         25,2,20100202,       0312,   23.38470,  -41.76906,       4593,  4658.5,   2.3937,  34.8880,  34.8888,2,   240.7,2,   47.10,2,    1.48,2,  -999.0,9,  -999.0,9,   22.45,2,     -999.0,1,     -999.0,1,     -999.0,1,     -999.0,1,     1.9705,     -999.0,1
  74DI20100106,        A05,      91,          1,          2,          2,2,20100202,       0312,   23.38470,  -41.76906,       4593,  4658.7,   2.3936,  34.8879,  34.8880,2,  -999.0,9,   47.47,2,    1.48,2,  -999.0,9,  -999.0,9,   22.28,2,     -999.0,1,     -999.0,1,     -999.0,1,     -999.0,1,     1.9703,     -999.0,1
  74DI20100106,        A05,      91,          1,          3,          3,2,20100202,       0312,   23.38470,  -41.76906,       4593,  4329.0,   2.4184,  34.8941,  34.8955,2,   241.1,2,   45.23,2,    1.46,2,  2194.8,2,  2348.9,2,   22.27,2,     -999.0,1,     -999.0,1,     -999.0,1,     -999.0,1,     2.0341,     -999.0,1
  74DI20100106,        A05,      91,          1,          4,          4,2,20100202,       0312,   23.38470,  -41.76906,       4593,  3817.8,   2.4443,  34.9023,  34.9018,2,   241.7,2,   43.98,2,    1.46,2,  2195.2,2,  2346.0,2,   22.01,2,     -999.0,1,     -999.0,1,     -999.0,1,     -999.0,1,     2.1183,     -999.0,1
  74DI20100106,        A05,      91,          1,          5,          5,2,20100202,       0312,   23.38470,  -41.76906,       4593,  3305.4,   2.6287,  34.9246,  34.9248,2,   238.9,2,   39.92,2,    1.46,2,  2190.3,2,  2346.4,2,   21.77,2,     -999.0,1,     -999.0,1,     -999.0,1,     -999.0,1,     2.3541,     -999.0,1
  74DI20100106,        A05,      91,          1,          6,          6,2,20100202,       0312,   23.38470,  -41.76906,       4593,  2795.0,   2.9156,  34.9516,  34.9518,2,   237.8,2,   34.16,2,    1.41,2,  2187.6,2,  2341.4,2,   21.23,2,     -999.0,1,     -999.0,1,     -999.0,1,     -999.0,1,     2.6877,     -999.0,1
  74DI20100106,        A05,      91,          1,          7,          7,2,20100202,       0312,   23.38470,  -41.76906,       4593,  2539.7,   3.1152,  34.9669,  34.9663,2,   237.9,2,   30.51,2,    1.39,2,  -999.0,9,  -999.0,9,   21.15,2,     -999.0,1,     -999.0,1,     -999.0,1,     -999.0,1,     2.9091,     -999.0,1
  74DI20100106,        A05,      91,          1,          8,          8,2,20100202,       0312,   23.38470,  -41.76906,       4593,  2286.6,   3.4330,  34.9887,  34.9896,2,   237.1,2,   26.30,2,    1.37,2,  2174.2,2,  2327.7,2,   20.87,2,     -999.0,1,     -999.0,1,     -999.0,1,     -999.0,1,     3.2462,     -999.0,1
  74DI20100106,        A05,      91,          1,          9,          9,2,20100202,       0312,   23.38470,  -41.76906,       4593,  2029.8,   3.7267,  35.0087,  35.0091,2,   233.0,2,   23.75,2,    1.39,2,  -999.0,9,  -999.0,9,   20.81,2,     -999.0,1,     -999.0,1,     -999.0,1,     -999.0,1,     3.5602,     -999.0,1
  74DI20100106,        A05,      91,          1,         10,         10,2,20100202,       0312,   23.38470,  -41.76906,       4593,  1771.7,   4.1530,  35.0271,  35.0257,2,   227.6,2,   20.17,2,    1.38,2,  2172.1,2,  2323.4,2,   21.27,2,     -999.0,1,     -999.0,1,     -999.0,1,     -999.0,1,     4.0053,     -999.0,9
  74DI20100106,        A05,      91,          1,         11,         11,2,20100202,       0312,   23.38470,  -41.76906,       4593,  1517.8,   4.7283,  35.0484,  35.0486,2,   216.1,2,   18.36,2,    1.41,2,  -999.0,9,  -999.0,9,   21.64,2,     -999.0,1,     -999.0,1,     -999.0,1,     -999.0,1,     4.5980,     -999.0,1
  74DI20100106,        A05,      91,          1,         12,         12,2,20100202,       0312,   23.38470,  -41.76906,       4593,  1262.4,   5.5436,  35.0645,  35.0647,2,   192.1,2,   18.49,2,    1.54,2,  2185.8,2,  2320.2,2,   23.60,2,     -999.0,1,     -999.0,1,     -999.0,1,     -999.0,1,     5.4298,     -999.0,1
  74DI20100106,        A05,      91,          1,         13,         13,2,20100202,       0312,   23.38470,  -41.76906,       4593,  1006.8,   6.6650,  35.0825,  35.0831,2,   160.3,2,   18.85,2,    1.68,2,  -999.0,9,  -999.0,9,   26.42,2,     -999.0,1,     -999.0,1,     -999.0,1,     -999.0,1,     6.5676,     -999.0,1
  74DI20100106,        A05,      91,          1,         14,         14,2,20100202,       0312,   23.38470,  -41.76906,       4593,   885.6,   7.8770,  35.1763,  35.1760,2,   145.8,2,   17.15,2,    1.65,2,  2194.4,2,  2321.7,2,   26.06,2,     -999.0,1,     -999.0,1,     -999.0,1,     -999.0,1,     7.7840,     -999.0,1
  74DI20100106,        A05,      91,          1,         15,         26,2,20100202,       0312,   23.38470,  -41.76906,       4593,   886.1,   7.8718,  35.1757,  35.1765,2,   145.4,2,   17.06,2,    1.65,2,  -999.0,9,  -999.0,9,   26.06,2,     -999.0,9,     -999.0,9,     -999.0,9,     -999.0,9,     7.7788,     -999.0,9
  74DI20100106,        A05,      91,          1,         16,         16,2,20100202,       0312,   23.38470,  -41.76906,       4593,   760.2,   9.3168,  35.3218,  35.3213,2,   144.8,2,   13.65,2,    1.48,2,  -999.0,9,  -999.0,9,   24.05,2,     -999.0,1,     -999.0,1,     -999.0,1,     -999.0,1,     9.2294,     -999.0,1
  74DI20100106,        A05,      91,          1,         17,         17,2,20100202,       0312,   23.38470,  -41.76906,       4593,   633.1,  11.1191,  35.5188,  35.5184,2,   147.1,2,    9.37,2,    1.24,2,  2178.7,2,  2331.0,2,   20.65,2,     -999.0,9,     -999.0,9,     -999.0,9,     -999.0,9,    11.0385,     -999.0,9
  74DI20100106,        A05,      91,          1,         18,         18,2,20100202,       0312,   23.38470,  -41.76906,       4593,   505.6,  13.1751,  35.7755,  35.7738,2,   164.4,2,    5.68,2,    0.89,2,  2160.9,2,  2338.1,2,   15.03,2,     -999.0,1,     -999.0,1,     -999.0,9,     -999.0,9,    13.1036,     -999.0,1
  74DI20100106,        A05,      91,          1,         19,         19,2,20100202,       0312,   23.38470,  -41.76906,       4593,   380.7,  15.4154,  36.1214,  36.1249,2,   171.4,2,    3.49,2,    0.61,2,  -999.0,9,  -999.0,9,   10.68,2,     -999.0,9,     -999.0,9,     -999.0,9,     -999.0,9,    15.3558,     -999.0,9
  74DI20100106,        A05,      91,          1,         20,         20,2,20100202,       0312,   23.38470,  -41.76906,       4593,   252.6,  17.7676,  36.5179,  36.5184,2,   188.4,2,    1.86,2,    0.27,2,  2121.5,2,  2380.0,2,    5.13,2,     -999.0,1,     -999.0,1,     -999.0,9,     -999.0,9,    17.7241,     -999.0,1
  74DI20100106,        A05,      91,          1,         21,         21,2,20100202,       0312,   23.38470,  -41.76906,       4593,   177.5,  19.5623,  36.8598,  36.8638,2,   182.8,2,    1.28,2,    0.12,2,  -999.0,9,  -999.0,9,    2.46,2,     -999.0,9,     -999.0,9,     -999.0,9,     -999.0,9,    19.5297,     -999.0,9
  74DI20100106,        A05,      91,          1,         22,         22,10,20100202,       0312,   23.38470,  -41.76906,       4593,   116.4,  21.5773,  37.1552,  37.1681,2,   202.8,2,    0.87,2,    0.02,2,  2112.0,2,  2423.5,2,    0.00,2,     -999.0,1,     -999.0,1,     -999.0,9,     -999.0,9,    21.5543,     -999.0,1
  74DI20100106,        A05,      91,          1,         23,         23,2,20100202,       0312,   23.38470,  -41.76906,       4593,    51.8,  23.7709,  37.5077,  37.5072,2,   204.6,2,    0.88,2,    0.02,2,  -999.0,9,  -999.0,9,    0.00,2,     -999.0,9,     -999.0,9,     -999.0,9,     -999.0,9,    23.7599,     -999.0,9
  74DI20100106,        A05,      91,          1,         24,         24,2,20100202,       0312,   23.38470,  -41.76906,       4593,     5.1,  23.7560,  37.5082,  37.5076,2,   204.8,2,    0.88,2,    0.02,2,  2097.9,2,  2444.3,2,    0.00,2,     -999.0,1,     -999.0,1,     -999.0,1,     -999.0,1,    23.7549,     -999.0,1
  74DI20100106,        A05,      92,          1,          1,         25,10,20100202,       1131,   23.52044,  -40.94439,       4740,  4812.0,   2.3915,  34.8860,  34.8875,2,   241.0,2,   48.52,2,    1.49,2,  -999.0,9,  -999.0,9,   22.11,2,     -999.0,1,     -999.0,1,     -999.0,1,     -999.0,1,     1.9494,     -999.0,1
  74DI20100106,        A05,      92,          1,          2,          2,2,20100202,       1131,   23.52044,  -40.94439,       4740,  4811.7,   2.3915,  34.8862,  34.8865,2,   240.7,3,   48.87,2,    1.49,2,  2194.7,2,  2348.0,2,   22.40,2,     -999.0,1,     -999.0,1,     -999.0,1,     -999.0,1,     1.9495,     -999.0,1
  74DI20100106,        A05,      92,          1,          3,          3,2,20100202,       1131,   23.52044,  -40.94439,       4740,  4583.3,   2.3751,  34.8875,  34.8875,2,   240.7,2,   48.96,2,    1.49,2,  2198.9,2,  2347.4,2,   22.43,2,     -999.0,1,     -999.0,1,     -999.0,1,     -999.0,1,     1.9616,     -999.0,9
  74DI20100106,        A05,      92,          1,          4,          4,2,20100202,       1131,   23.52044,  -40.94439,       4740,  4065.6,   2.4185,  34.8979,  34.8981,2,   240.6,2,   45.89,2,    1.48,2,  2193.6,2,  2344.1,2,   22.06,2,     -999.0,1,     -999.0,1,     -999.0,1,     -999.0,1,     2.0650,     -999.0,1
  74DI20100106,        A05,      92,          1,          5,          5,2,20100202,       1131,   23.52044,  -40.94439,       4740,  3556.6,   2.5239,  34.9131,  34.9131,2,   238.6,2,   42.68,2,    1.47,2,  2194.7,2,  2344.4,2,   21.75,2,     -999.0,1,     -999.0,1,     -999.0,1,     -999.0,1,     2.2247,     -999.0,1
  74DI20100106,        A05,      92,          1,          6,          6,2,20100202,       1131,   23.52044,  -40.94439,       4740,  3050.6,   2.7615,  34.9385,  34.9380,2,   237.1,2,   36.75,2,    1.44,2,  2186.6,2,  2340.0,2,   21.41,2,     -999.0,1,     -999.0,1,     -999.0,1,     -999.0,1,     2.5106,     -999.0,1
  74DI20100106,        A05,      92,          1,          7,          7,2,20100202,       1131,   23.52044,  -40.94439,       4740,  2531.0,   3.1771,  34.9720,  34.9721,2,   237.6,2,   29.86,2,    1.40,2,  2181.6,2,  2330.5,2,   20.62,2,     -999.0,1,     -999.0,1,     -999.0,1,     -999.0,1,     2.9707,     -999.0,1
  74DI20100106,        A05,      92,          1,          8,          8,2,20100202,       1131,   23.52044,  -40.94439,       4740,  2276.7,   3.4405,  34.9899,  34.9897,2,   237.1,2,   26.70,2,    1.38,2,  -999.0,9,  -999.0,9,   20.51,2,     -999.0,1,     -999.0,1,     -999.0,1,     -999.0,1,     3.2546,     -999.0,1
  74DI20100106,        A05,      92,          1,          9,          9,2,20100202,       1131,   23.52044,  -40.94439,       4740,  2024.3,   3.8307,  35.0130,  35.0135,2,   233.1,2,   22.75,2,    1.37,2,  2174.7,2,  2323.7,2,   20.40,2,     -999.0,1,     -999.0,1,     -999.0,1,     -999.0,1,     3.6632,     -999.0,1
  74DI20100106,        A05,      92,          1,         10,         10,2,20100202,       1131,   23.52044,  -40.94439,       4740,  1770.4,   4.3624,  35.0429,  35.0429,2,   227.2,2,   19.64,2,    1.37,2,  -999.0,9,  -999.0,9,   20.97,2,     -999.0,1,     -999.0,1,     -999.0,1,     -999.0,1,     4.2120,     -999.0,9
  74DI20100106,        A05,      92,          1,         11,         11,2,20100202,       1131,   23.52044,  -40.94439,       4740,  1516.9,   4.8059,  35.0414,  35.0414,2,   212.1,2,   18.76,2,    1.44,2,  2179.6,2,  2319.8,2,   21.79,2,     -999.0,1,     -999.0,1,     -999.0,1,     -999.0,9,     4.6749,     -999.0,1
  74DI20100106,        A05,      92,          1,         12,         12,2,20100202,       1131,   23.52044,  -40.94439,       4740,  1263.0,   5.4161,  35.0355,  35.0358,2,   190.8,2,   19.29,2,    1.58,2,  -999.0,9,  -999.0,9,   24.28,2,     -999.0,1,     -999.0,1,     -999.0,1,     -999.0,1,     5.3035,     -999.0,9
  74DI20100106,        A05,      92,          1,         13,         13,2,20100202,       1131,   23.52044,  -40.94439,       4740,  1011.1,   6.4064,  35.0385,  35.0391,2,   159.2,2,   20.00,2,    1.74,2,  2199.1,2,  2319.0,2,   26.72,2,     -999.0,1,     -999.0,1,     -999.0,1,     -999.0,1,     6.3105,     -999.0,1
  74DI20100106,        A05,      92,          1,         14,         14,2,20100202,       1131,   23.52044,  -40.94439,       4740,   882.6,   7.7357,  35.1486,  35.1483,2,   144.4,2,   17.90,2,    1.70,2,  -999.0,9,  -999.0,9,   26.53,2,     -999.0,1,     -999.0,1,     -999.0,1,     -999.0,1,     7.6439,     -999.0,1
  74DI20100106,        A05,      92,          1,         15,         26,2,20100202,       1131,   23.52044,  -40.94439,       4740,   882.7,   7.7385,  35.1496,  35.1483,2,   144.1,2,   17.83,2,    1.70,2,  -999.0,9,  -999.0,9,   26.58,2,     -999.0,9,     -999.0,9,     -999.0,9,     -999.0,9,     7.6468,     -999.0,9
  74DI20100106,        A05,      92,          1,         16,         16,2,20100202,       1131,   23.52044,  -40.94439,       4740,   756.3,   9.2311,  35.3025,  35.3014,2,   140.1,2,   14.29,2,    1.54,2,  2193.8,2,  2323.7,2,   24.77,2,     -999.0,1,     -999.0,1,     -999.0,1,     -999.0,1,     9.1447,     -999.0,1
  74DI20100106,        A05,      92,          1,         17,         17,2,20100202,       1131,   23.52044,  -40.94439,       4740,   630.3,  10.9245,  35.4974,  35.4952,2,   147.5,2,    9.87,2,    1.26,2,  2182.4,2,  2330.5,2,   20.87,2,     -999.0,1,     -999.0,1,     -999.0,9,     -999.0,9,    10.8451,     -999.0,1
  74DI20100106,        A05,      92,          1,         18,         18,2,20100202,       1131,   23.52044,  -40.94439,       4740,   499.7,  13.1813,  35.7746,  35.7751,2,   173.8,2,    5.52,2,    0.83,2,  -999.0,9,  -999.0,9,   14.02,2,     -999.0,9,     -999.0,9,     -999.0,9,     -999.0,9,    13.1107,     -999.0,9
  74DI20100106,        A05,      92,          1,         19,         19,2,20100202,       1131,   23.52044,  -40.94439,       4740,   379.7,  15.6825,  36.1556,  36.1583,2,   184.3,2,    3.07,2,    0.50,2,  2139.5,2,  2364.1,2,    8.63,2,     -999.0,1,     -999.0,1,     -999.0,9,     -999.0,9,    15.6223,     -999.0,1
  74DI20100106,        A05,      92,          1,         20,         20,2,20100202,       1131,   23.52044,  -40.94439,       4740,   252.8,  17.5683,  36.4723,  36.4782,2,   190.1,2,    1.87,2,    0.26,2,  -999.0,9,  -999.0,9,    5.17,2,     -999.0,9,     -999.0,9,     -999.0,9,     -999.0,9,    17.5251,     -999.0,9
  74DI20100106,        A05,      92,          1,         21,         21,2,20100202,       1131,   23.52044,  -40.94439,       4740,   176.3,  19.6237,  36.8907,  36.9013,2,   180.1,2,    0.85,2,    0.01,2,  2132.5,2,  2404.9,2,    0.00,2,     -999.0,1,     -999.0,1,     -999.0,1,     -999.0,1,    19.5912,     -999.0,1
  74DI20100106,        A05,      92,          1,         22,         22,2,20100202,       1131,   23.52044,  -40.94439,       4740,   124.6,  22.0296,  37.2375,  37.2457,2,   203.6,2,    0.86,2,    0.02,2,  -999.0,9,  -999.0,9,    0.00,2,     -999.0,9,     -999.0,9,     -999.0,9,     -999.0,9,    22.0046,     -999.0,9
  74DI20100106,        A05,      92,          1,         23,         23,2,20100202,       1131,   23.52044,  -40.94439,       4740,    51.5,  23.7890,  37.5248,  37.5248,2,   205.4,2,    0.90,2,    0.01,2,  2096.5,2,  2445.6,2,    0.00,2,     -999.0,1,     -999.0,1,     -999.0,1,     -999.0,1,    23.7781,     -999.0,1
  74DI20100106,        A05,      92,          1,         24,         24,10,20100202,       1131,   23.52044,  -40.94439,       4740,     5.1,  23.7829,  37.5247,  37.5237,2,   205.6,2,    0.84,2,    0.00,2,  2098.9,2,  2446.9,2,    0.00,2,     -999.0,1,     -999.0,1,     -999.0,1,     -999.0,1,    23.7818,     -999.0,1