BOTTLE,20200115CCHSIOCBG
EXPOCODE,SECT_ID,STNNBR,CASTNO,SAMPNO,BTLNBR,BTLNBR_FLAG_W,DATE,TIME,LATITUDE,LONGITUDE,DEPTH,CTDPRS,CTDTMP,CTDSAL,SALNTY,SALNTY_FLAG_W,OXYGEN,OXYGEN_FLAG_W,SILCAT,SILCAT_FLAG_W,PHSPHT,PHSPHT_FLAG_W,TCARBN,TCARBN_FLAG_W,ALKALI,ALKALI_FLAG_W,NO2+NO3,NO2+NO3_FLAG_W,CFC-11,CFC-11_FLAG_W,CFC-12,CFC-12_FLAG_W,CFC113,CFC113_FLAG_W,CCL4,CCL4_FLAG_W,THETA,SF6,SF6_FLAG_W
,,,,,,,,,,,METERS,DBAR,ITS-90,PSS-78,PSS-78,,UMOL/KG,,UMOL/KG,,UMOL/KG,,UMOL/KG,,UMOL/KG,,UMOL/KG,,PMOL/L,,PMOL/L,,PMOL/L,,PMOL/L,,ITS-90,FMOL/L,
  74DI20100106,        A05,      67,          1,          1,          1,2,20100124,       2026,   24.49628,  -55.23888,       6107,  6220.5,   2.1361,  34.8458,  34.8464,2,   243.0,2,   60.67,2,    1.59,2,  2203.0,2,  2344.3,2,   22.73,2,     -999.0,1,     -999.0,1,     -999.0,1,     -999.0,1,     1.5177,     -999.0,1
  74DI20100106,        A05,      67,          1,          2,          2,2,20100124,       2026,   24.49628,  -55.23888,       6107,  5886.3,   2.0894,  34.8464,  34.8490,2,   243.4,2,   60.47,2,    1.60,2,  2203.8,2,  2344.9,2,   22.57,2,     -999.0,1,     -999.0,1,     -999.0,1,     -999.0,1,     1.5187,     -999.0,1
  74DI20100106,        A05,      67,          1,          3,          3,2,20100124,       2026,   24.49628,  -55.23888,       6107,  5378.5,   2.0412,  34.8488,  34.8488,2,   243.7,2,   59.21,2,    1.59,2,  2204.3,2,  2344.3,2,   22.48,2,     -999.0,9,     -999.0,9,     -999.0,9,     -999.0,9,     1.5395,     -999.0,9
  74DI20100106,        A05,      67,          1,          4,          4,2,20100124,       2026,   24.49628,  -55.23888,       6107,  4863.0,   2.0820,  34.8605,  34.8609,2,   246.6,2,   54.30,2,    1.52,2,  2198.2,2,  2340.6,2,   23.19,2,     -999.0,9,     -999.0,9,     -999.0,9,     -999.0,9,     1.6439,     -999.0,9
  74DI20100106,        A05,      67,          1,          5,          5,2,20100124,       2026,   24.49628,  -55.23888,       6107,  4318.3,   2.2046,  34.8797,  34.8803,2,   249.5,2,   47.12,2,    1.48,2,  -999.0,9,  -999.0,9,   22.21,2,     -999.0,9,     -999.0,9,     -999.0,9,     -999.0,9,     1.8281,     -999.0,9
  74DI20100106,        A05,      67,          1,          6,          6,2,20100124,       2026,   24.49628,  -55.23888,       6107,  3807.7,   2.3337,  34.8961,  34.8967,2,   250.1,2,   42.02,2,    1.42,4,  -999.0,9,  -999.0,9,   23.30,4,     -999.0,9,     -999.0,9,     -999.0,9,     -999.0,9,     2.0118,     -999.0,9
  74DI20100106,        A05,      67,          1,          7,          7,2,20100124,       2026,   24.49628,  -55.23888,       6107,  3291.4,   2.5953,  34.9204,  34.9216,2,   248.5,2,   37.45,2,    1.39,2,  -999.0,9,  -999.0,9,   22.83,4,     -999.0,9,     -999.0,9,     -999.0,9,     -999.0,9,     2.3230,     -999.0,9
  74DI20100106,        A05,      67,          1,          8,          8,2,20100124,       2026,   24.49628,  -55.23888,       6107,  2786.5,   2.9058,  34.9482,  34.9489,2,   245.7,2,   32.73,2,    1.39,2,  -999.0,9,  -999.0,9,   21.87,4,     -999.0,9,     -999.0,9,     -999.0,9,     -999.0,9,     2.6790,     -999.0,9
  74DI20100106,        A05,      67,          1,          9,          9,2,20100124,       2026,   24.49628,  -55.23888,       6107,  2531.6,   3.0756,  34.9634,  34.9645,2,   244.6,2,   30.32,2,    1.36,2,  -999.0,9,  -999.0,9,   22.63,4,     -999.0,9,     -999.0,9,     -999.0,9,     -999.0,9,     2.8710,     -999.0,9
  74DI20100106,        A05,      67,          1,         10,         10,2,20100124,       2026,   24.49628,  -55.23888,       6107,  2274.7,   3.3018,  34.9833,  34.9833,2,   243.9,2,   27.33,2,    1.36,2,  -999.0,9,  -999.0,9,   21.80,4,     -999.0,9,     -999.0,9,     -999.0,9,     -999.0,9,     3.1184,     -999.0,9
  74DI20100106,        A05,      67,          1,         11,         11,2,20100124,       2026,   24.49628,  -55.23888,       6107,  2014.2,   3.6752,  35.0136,  35.0172,2,   242.0,2,   22.51,2,    1.33,2,  -999.0,9,  -999.0,9,   21.60,2,     -999.0,9,     -999.0,9,     -999.0,9,     -999.0,9,     3.5110,     -999.0,9
  74DI20100106,        A05,      67,          1,         12,         12,2,20100124,       2026,   24.49628,  -55.23888,       6107,  1778.9,   4.2120,  35.0574,  35.0607,2,   238.9,2,   18.36,2,    1.28,2,  -999.0,9,  -999.0,9,   22.30,4,     -999.0,1,     -999.0,1,     -999.0,1,     -999.0,1,     4.0628,     -999.0,1
  74DI20100106,        A05,      67,          1,         13,         13,2,20100124,       2026,   24.49628,  -55.23888,       6107,  1522.6,   4.8319,  35.0958,  35.0973,2,   231.2,2,   15.95,2,    1.29,2,  -999.0,9,  -999.0,9,   20.79,2,     -999.0,1,     -999.0,1,     -999.0,1,     -999.0,1,     4.6999,     -999.0,1
  74DI20100106,        A05,      67,          1,         14,         14,2,20100124,       2026,   24.49628,  -55.23888,       6107,  1249.7,   5.7125,  35.1088,  35.1111,2,   205.3,2,   16.06,2,    1.40,2,  -999.0,9,  -999.0,9,   23.36,2,     -999.0,1,     -999.0,1,     -999.0,1,     -999.0,1,     5.5983,     -999.0,1
  74DI20100106,        A05,      67,          1,         15,         15,2,20100124,       2026,   24.49628,  -55.23888,       6107,  1008.3,   6.9602,  35.0854,  35.0864,2,   161.5,2,   18.56,2,    1.69,2,  -999.0,9,  -999.0,9,   29.40,2,     -999.0,1,     -999.0,1,     -999.0,1,     -999.0,1,     6.8604,     -999.0,1
  74DI20100106,        A05,      67,          1,         16,         16,2,20100124,       2026,   24.49628,  -55.23888,       6107,   893.5,   7.9080,  35.1251,  35.1266,2,   145.5,2,   17.67,2,    1.69,2,  -999.0,9,  -999.0,9,   28.41,2,     -999.0,9,     -999.0,9,     -999.0,9,     -999.0,9,     7.8140,     -999.0,9
  74DI20100106,        A05,      67,          1,         17,         17,2,20100124,       2026,   24.49628,  -55.23888,       6107,   769.6,   9.6556,  35.3064,  35.3001,2,   144.7,2,   13.63,2,    1.47,2,  -999.0,9,  -999.0,9,   27.54,2,     -999.0,9,     -999.0,9,     -999.0,9,     -999.0,9,     9.5653,     -999.0,9
  74DI20100106,        A05,      67,          1,         18,         18,10,20100124,       2026,   24.49628,  -55.23888,       6107,   502.3,  14.0910,  35.8918,  35.8932,2,   169.2,2,    4.97,2,    0.77,2,  -999.0,9,  -999.0,9,   14.52,2,     -999.0,9,     -999.0,9,     -999.0,9,     -999.0,9,    14.0168,     -999.0,9
  74DI20100106,        A05,      67,          1,         19,         19,2,20100124,       2026,   24.49628,  -55.23888,       6107,   377.8,  16.4253,  36.2731,  36.2783,2,   184.7,2,    2.54,2,    0.42,2,  -999.0,9,  -999.0,9,    8.68,2,     -999.0,9,     -999.0,9,     -999.0,9,     -999.0,9,    16.3636,     -999.0,9
  74DI20100106,        A05,      67,          1,         20,         20,2,20100124,       2026,   24.49628,  -55.23888,       6107,   244.2,  18.1880,  36.5631,  36.5638,2,  -999.0,2,    1.40,2,    0.18,2,  -999.0,9,  -999.0,9,    4.78,2,     -999.0,9,     -999.0,9,     -999.0,9,     -999.0,9,    18.1453,     -999.0,9
  74DI20100106,        A05,      67,          1,         21,         21,2,20100124,       2026,   24.49628,  -55.23888,       6107,   172.3,  20.0421,  36.8402,  36.8407,2,   175.8,2,    1.06,2,    0.05,2,  -999.0,9,  -999.0,9,    2.44,2,     -999.0,9,     -999.0,9,     -999.0,9,     -999.0,9,    20.0099,     -999.0,9
  74DI20100106,        A05,      67,          1,         22,         22,2,20100124,       2026,   24.49628,  -55.23888,       6107,    99.7,  23.5619,  37.2116,  37.2170,2,   199.8,2,    0.85,2,    0.00,2,  -999.0,9,  -999.0,9,    0.42,2,     -999.0,9,     -999.0,9,     -999.0,9,     -999.0,9,    23.5410,     -999.0,9
  74DI20100106,        A05,      67,          1,         23,         23,2,20100124,       2026,   24.49628,  -55.23888,       6107,    50.6,  25.2392,  36.6793,  36.6802,2,   201.9,2,    1.05,2,    0.00,2,  -999.0,9,  -999.0,9,    0.29,2,     -999.0,9,     -999.0,9,     -999.0,9,     -999.0,9,    25.2281,     -999.0,9
  74DI20100106,        A05,      67,          1,         24,         24,2,20100124,       2026,   24.49628,  -55.23888,       6107,     9.5,  25.4274,  36.6913,  36.6943,2,   201.6,2,    0.97,2,    0.00,2,  -999.0,9,  -999.0,9,    0.23,2,     -999.0,9,     -999.0,9,     -999.0,9,     -999.0,9,    25.4253,     -999.0,1
  74DI20100106,        A05,      68,          1,          1,          1,2,20100125,       0830,   24.50969,  -54.45284,       5292,  5368.4,   2.0503,  34.8496,  34.8515,2,   243.7,2,   58.53,2,    1.58,2,  2204.3,2,  2346.2,2,   22.90,2,     -999.0,1,     -999.0,1,     -999.0,1,     -999.0,1,     1.5496,     -999.0,1
  74DI20100106,        A05,      68,          1,          2,          2,2,20100125,       0830,   24.50969,  -54.45284,       5292,  5078.0,   2.0496,  34.8539,  34.8550,2,   245.1,2,   57.09,2,    1.56,2,  2200.5,2,  2344.1,2,   23.15,2,     -999.0,1,     -999.0,1,     -999.0,1,     -999.0,1,     1.5859,     -999.0,1
  74DI20100106,        A05,      68,          1,          3,          3,2,20100125,       0830,   24.50969,  -54.45284,       5292,  4560.3,   2.1587,  34.8729,  34.8726,2,   249.4,2,   48.19,2,    1.46,2,  2192.2,2,  2340.6,2,   22.06,2,     -999.0,1,     -999.0,1,     -999.0,1,     -999.0,1,     1.7548,     -999.0,1
  74DI20100106,        A05,      68,          1,          4,          4,10,20100125,       0830,   24.50969,  -54.45284,       5292,  4052.3,   2.2724,  34.8875,  34.8871,2,   248.6,2,   44.54,2,    1.44,2,  2188.9,2,  2337.4,2,   21.45,2,     -999.0,1,     -999.0,1,     -999.0,1,     -999.0,1,     1.9246,     -999.0,1
  74DI20100106,        A05,      68,          1,          5,          5,2,20100125,       0830,   24.50969,  -54.45284,       5292,  3544.5,   2.4754,  34.9087,  34.9095,2,   248.8,2,   39.68,2,    2.70,3,  2184.5,2,  -999.0,9,   21.38,2,     -999.0,1,     -999.0,1,     -999.0,1,     -999.0,1,     2.1788,     -999.0,1
  74DI20100106,        A05,      68,          1,          6,          6,2,20100125,       0830,   24.50969,  -54.45284,       5292,  3041.8,   2.7615,  34.9349,  34.9334,2,   246.4,2,   34.72,2,    1.39,2,  2183.2,2,  2332.1,2,   20.69,2,     -999.0,1,     -999.0,1,     -999.0,1,     -999.0,1,     2.5116,     -999.0,1
  74DI20100106,        A05,      68,          1,          7,          7,2,20100125,       0830,   24.50969,  -54.45284,       5292,  2531.7,   3.1035,  34.9654,  34.9646,2,   243.2,2,   29.56,2,    1.38,2,  2180.9,2,  2330.8,2,   20.24,2,     -999.0,1,     -999.0,1,     -999.0,1,     -999.0,1,     2.8984,     -999.0,1
  74DI20100106,        A05,      68,          1,          8,          8,2,20100125,       0830,   24.50969,  -54.45284,       5292,  2274.8,   3.3797,  34.9884,  34.9870,2,   242.7,2,   25.92,2,    1.35,2,  -999.0,9,  -999.0,9,   20.18,2,     -999.0,1,     -999.0,1,     -999.0,1,     -999.0,1,     3.1950,     -999.0,1
  74DI20100106,        A05,      68,          1,          9,          9,2,20100125,       0830,   24.50969,  -54.45284,       5292,  2024.5,   3.7444,  35.0142,  35.0144,2,   242.5,2,   21.40,2,    1.32,2,  2172.7,2,  2323.6,2,   19.81,2,     -999.0,1,     -999.0,1,     -999.0,1,     -999.0,1,     3.5782,     -999.0,1
  74DI20100106,        A05,      68,          1,         10,         10,2,20100125,       0830,   24.50969,  -54.45284,       5292,  1771.7,   4.1808,  35.0362,  35.0358,2,   239.6,2,   17.72,2,    1.31,2,  -999.0,9,  -999.0,9,   19.85,2,     -999.0,1,     -999.0,1,     -999.0,1,     -999.0,1,     4.0327,     -999.0,1
  74DI20100106,        A05,      68,          1,         11,         11,2,20100125,       0830,   24.50969,  -54.45284,       5292,  1515.3,   4.6750,  35.0478,  35.0471,2,   234.2,2,   14.95,2,    1.31,2,  2173.0,2,  2316.9,2,   19.69,2,     -999.0,1,     -999.0,1,     -999.0,1,     -999.0,1,     4.5456,     -999.0,1
  74DI20100106,        A05,      68,          1,         12,         12,2,20100125,       0830,   24.50969,  -54.45284,       5292,  1259.6,   5.4735,  35.0488,  35.0485,2,   204.6,2,   16.61,2,    1.45,2,  2187.3,2,  2317.3,2,   22.18,2,     -999.0,1,     -999.0,1,     -999.0,1,     -999.0,1,     5.3607,     -999.0,1
  74DI20100106,        A05,      68,          1,         13,         13,3,20100125,       0830,   24.50969,  -54.45284,       5292,  1014.5,   6.3705,  34.9556,  36.3001,4,  -999.0,9, -999.00,9, -999.00,9,  -999.0,9,  -999.0,9, -999.00,9,     -999.0,9,     -999.0,9,     -999.0,9,     -999.0,9,     6.2747,     -999.0,9
  74DI20100106,        A05,      68,          1,         14,         14,2,20100125,       0830,   24.50969,  -54.45284,       5292,   889.0,   7.5686,  35.0369,  35.0368,2,   136.6,2,   19.54,2,    1.84,2,  2209.0,2,  2315.9,2,   28.50,2,     -999.0,1,     -999.0,1,     -999.0,1,     -999.0,1,     7.4774,     -999.0,1
  74DI20100106,        A05,      68,          1,         15,         15,2,20100125,       0830,   24.50969,  -54.45284,       5292,   757.3,   9.7120,  35.2958,  35.2977,2,   137.9,2,   13.76,2,    1.53,2,  2196.5,2,  2325.7,2,   24.59,2,     -999.0,1,     -999.0,1,     -999.0,1,     -999.0,1,     9.6228,     -999.0,1
  74DI20100106,        A05,      68,          1,         16,         16,2,20100125,       0830,   24.50969,  -54.45284,       5292,   757.8,   9.7127,  35.2964,  35.2982,2,   137.7,2,   13.70,2,    1.54,2,  -999.0,9,  -999.0,9,   24.74,2,     -999.0,9,     -999.0,9,     -999.0,9,     -999.0,9,     9.6235,     -999.0,9
  74DI20100106,        A05,      68,          1,         17,         17,10,20100125,       0830,   24.50969,  -54.45284,       5292,   629.8,  11.8865,  35.5752,  35.5762,2,   150.2,2,    8.62,2,    1.17,2,  -999.0,9,  2333.8,2,   19.18,2,     -999.0,1,     -999.0,1,     -999.0,1,     -999.0,1,    11.8029,     -999.0,1
  74DI20100106,        A05,      68,          1,         18,         18,3,20100125,       0830,   24.50969,  -54.45284,       5292,   509.0,  14.0879,  35.8857,-999.0000,9,  -999.0,9, -999.00,9, -999.00,9,  -999.0,9,  -999.0,9, -999.00,9,     -999.0,9,     -999.0,9,     -999.0,9,     -999.0,9,    14.0127,     -999.0,9
  74DI20100106,        A05,      68,          1,         19,         19,2,20100125,       0830,   24.50969,  -54.45284,       5292,   380.6,  16.2615,  36.2409,  36.2415,2,   176.2,2,    2.98,2,    0.52,2,  2135.3,2,  2367.8,2,    9.32,2,     -999.0,1,     -999.0,1,     -999.0,9,     -999.0,9,    16.1997,     -999.0,1
  74DI20100106,        A05,      68,          1,         20,         20,2,20100125,       0830,   24.50969,  -54.45284,       5292,   253.8,  18.5956,  36.6282,  36.6273,2,   180.9,2,    1.42,2,    0.19,2,  -999.0,9,  -999.0,9,    4.24,2,     -999.0,9,     -999.0,9,     -999.0,9,     -999.0,9,    18.5505,     -999.0,9
  74DI20100106,        A05,      68,          1,         21,         21,2,20100125,       0830,   24.50969,  -54.45284,       5292,   178.0,  20.4939,  36.8573,  36.8578,2,   181.7,2,    0.94,2,    0.02,2,  2123.2,2,  2400.6,2,    1.41,2,     -999.0,1,     -999.0,1,     -999.0,9,     -999.0,9,    20.4601,     -999.0,1
  74DI20100106,        A05,      68,          1,         22,         22,2,20100125,       0830,   24.50969,  -54.45284,       5292,   102.5,  23.9241,  37.2202,  37.2217,2,   205.0,2,    0.78,2,    0.00,2,  -999.0,9,  -999.0,9,    0.00,2,     -999.0,9,     -999.0,9,     -999.0,9,     -999.0,9,    23.9024,     -999.0,9
  74DI20100106,        A05,      68,          1,         23,         23,2,20100125,       0830,   24.50969,  -54.45284,       5292,    49.5,  25.2168,  36.9443,  36.9441,2,   204.0,2,    0.95,2,    0.00,2,  2053.6,2,  2408.0,2,    0.00,2,     -999.0,1,     -999.0,1,     -999.0,9,     -999.0,9,    25.2060,     -999.0,1
  74DI20100106,        A05,      68,          1,         24,         24,2,20100125,       0830,   24.50969,  -54.45284,       5292,     5.8,  25.1728,  36.9424,  36.9450,2,   203.3,2,    0.95,2,    0.00,2,  2056.9,2,  2408.7,2,    0.05,2,     -999.0,1,     -999.0,1,     -999.0,1,     -999.0,1,    25.1715,     -999.0,1