BOTTLE,20200115CCHSIOCBG
EXPOCODE,SECT_ID,STNNBR,CASTNO,SAMPNO,BTLNBR,BTLNBR_FLAG_W,DATE,TIME,LATITUDE,LONGITUDE,DEPTH,CTDPRS,CTDTMP,CTDSAL,SALNTY,SALNTY_FLAG_W,OXYGEN,OXYGEN_FLAG_W,SILCAT,SILCAT_FLAG_W,PHSPHT,PHSPHT_FLAG_W,TCARBN,TCARBN_FLAG_W,ALKALI,ALKALI_FLAG_W,NO2+NO3,NO2+NO3_FLAG_W,CFC-11,CFC-11_FLAG_W,CFC-12,CFC-12_FLAG_W,CFC113,CFC113_FLAG_W,CCL4,CCL4_FLAG_W,THETA,SF6,SF6_FLAG_W
,,,,,,,,,,,METERS,DBAR,ITS-90,PSS-78,PSS-78,,UMOL/KG,,UMOL/KG,,UMOL/KG,,UMOL/KG,,UMOL/KG,,UMOL/KG,,PMOL/L,,PMOL/L,,PMOL/L,,PMOL/L,,ITS-90,FMOL/L,
  74DI20100106,        A05,       8,          1,          1,          1,2,20100107,       1818,   27.34718,  -79.41679,        678,   666.5,   8.8858,  35.0630,  35.0629,2,   117.8,3,   17.70,2,    1.81,2,  2197.9,2,  2309.3,2,   28.62,2,     -999.0,1,     -999.0,1,     -999.0,1,     -999.0,1,     8.8119,     -999.0,1
  74DI20100106,        A05,       8,          1,          4,          4,2,20100107,       1818,   27.34718,  -79.41679,        678,   596.3,   8.9053,  35.0574,  35.0578,2,   120.3,2,   17.70,2,    1.81,2,  2185.2,3,  2308.7,2,   28.83,2,     -999.0,1,     -999.0,1,     -999.0,9,     -999.0,9,     8.8394,     -999.0,1
  74DI20100106,        A05,       8,          1,          5,          5,2,20100107,       1818,   27.34718,  -79.41679,        678,   596.9,   8.9216,  35.0620,-999.0000,9,  -999.0,9, -999.00,9, -999.00,9,  -999.0,9,  -999.0,9, -999.00,9,     -999.0,1,     -999.0,1,     -999.0,9,     -999.0,9,     8.8555,     -999.0,1
  74DI20100106,        A05,       8,          1,          7,          7,2,20100107,       1818,   27.34718,  -79.41679,        678,   501.2,  10.7226,  35.2750,  35.2748,2,   119.2,2,   13.62,2,    1.58,2,  2189.2,2,  2317.2,2,   25.61,2,     -999.0,1,     -999.0,1,     -999.0,9,     -999.0,9,    10.6608,     -999.0,1
  74DI20100106,        A05,       8,          1,          9,          9,2,20100107,       1818,   27.34718,  -79.41679,        678,   403.9,  13.3780,  35.6823,  35.6808,2,   132.9,2,    8.28,2,    1.14,2,  2168.0,2,  2334.3,2,   19.20,2,     -999.0,1,     -999.0,1,     -999.0,1,     -999.0,1,    13.3205,     -999.0,1
  74DI20100106,        A05,       8,          1,         12,         12,10,20100107,       1818,   27.34718,  -79.41679,        678,   303.9,  16.3099,  36.1817,-999.0000,9,  -999.0,9, -999.00,9, -999.00,9,  -999.0,9,  -999.0,9, -999.00,9,     -999.0,9,     -999.0,9,     -999.0,9,     -999.0,9,    16.2605,     -999.0,9
  74DI20100106,        A05,       8,          1,         13,         13,2,20100107,       1818,   27.34718,  -79.41679,        678,   303.9,  16.3173,  36.1830,  36.1809,2,   151.9,2,    4.40,2,    0.65,2,  2126.2,3,  2363.2,2,   12.10,2,     -999.0,1,     -999.0,1,     -999.0,1,     -999.0,1,    16.2680,     -999.0,1
  74DI20100106,        A05,       8,          1,         15,         15,10,20100107,       1818,   27.34718,  -79.41679,        678,   203.2,  18.6314,  36.5739,-999.0000,9,  -999.0,9, -999.00,9, -999.00,9,  -999.0,9,  -999.0,9, -999.00,9,     -999.0,9,     -999.0,9,     -999.0,9,     -999.0,9,    18.5953,     -999.0,9
  74DI20100106,        A05,       8,          1,         16,         16,2,20100107,       1818,   27.34718,  -79.41679,        678,   203.2,  18.6342,  36.5744,  36.5757,2,   170.0,2,    1.95,2,    0.23,2,  2100.7,3,  2385.7,2,    5.57,2,     -999.0,1,     -999.0,1,     -999.0,1,     -999.0,1,    18.5981,     -999.0,1
  74DI20100106,        A05,       8,          1,         17,         17,2,20100107,       1818,   27.34718,  -79.41679,        678,   101.8,  24.6140,  36.7352,  36.7319,2,   171.1,2,    1.30,2,    0.03,2,  2062.5,3,  2391.4,2,    1.71,2,     -999.0,1,     -999.0,1,     -999.0,1,     -999.0,1,    24.5920,     -999.0,1
  74DI20100106,        A05,       8,          1,         19,         19,2,20100107,       1818,   27.34718,  -79.41679,        678,   102.0,  24.6278,  36.7332,-999.0000,9,  -999.0,9, -999.00,9, -999.00,9,  -999.0,9,  -999.0,9, -999.00,9,     -999.0,9,     -999.0,9,     -999.0,9,     -999.0,9,    24.6058,     -999.0,9
  74DI20100106,        A05,       8,          1,         20,         20,2,20100107,       1818,   27.34718,  -79.41679,        678,    51.9,  25.2582,  36.5159,  36.5143,2,   195.2,2,    1.09,2,    0.00,2,  2038.7,2,  2374.3,2,    0.18,2,     -999.0,1,     -999.0,1,     -999.0,1,     -999.0,1,    25.2468,     -999.0,9
  74DI20100106,        A05,       8,          1,         21,         21,2,20100107,       1818,   27.34718,  -79.41679,        678,    51.9,  25.2590,  36.5160,-999.0000,9,  -999.0,9, -999.00,9, -999.00,9,  -999.0,9,  -999.0,9, -999.00,9,     -999.0,9,     -999.0,9,     -999.0,9,     -999.0,9,    25.2476,     -999.0,9
  74DI20100106,        A05,       8,          1,         22,         22,2,20100107,       1818,   27.34718,  -79.41679,        678,    11.9,  25.2811,  36.5128,  36.5124,2,   197.5,2,    1.07,2,    0.00,2,  -999.0,9,  2374.5,2,    0.11,2,     -999.0,1,     -999.0,1,     -999.0,1,     -999.0,1,    25.2785,     -999.0,1
  74DI20100106,        A05,       8,          1,         23,         23,2,20100107,       1818,   27.34718,  -79.41679,        678,    12.1,  25.2793,  36.5125,-999.0000,9,  -999.0,9, -999.00,9, -999.00,9,  -999.0,9,  -999.0,9, -999.00,9,     -999.0,9,     -999.0,9,     -999.0,9,     -999.0,9,    25.2766,     -999.0,9
  74DI20100106,        A05,       9,          1,          1,          1,2,20100107,       2042,   27.33350,  -79.33568,        587,   582.5,  11.3856,  35.4531,  35.4560,2,   136.0,2,   11.23,2,    1.37,2,  2181.4,2,  2325.9,2,   22.62,2,     -999.0,1,     -999.0,1,     -999.0,1,     -999.0,1,    11.3105,     -999.0,1
  74DI20100106,        A05,       9,          1,          4,          4,2,20100107,       2042,   27.33350,  -79.33568,        587,   453.5,  13.8517,  35.7735,  35.7750,2,   138.6,2,    7.71,2,    1.08,2,  2170.2,2,  2341.7,2,   18.76,2,     -999.0,1,     -999.0,1,     -999.0,1,     -999.0,1,    13.7856,     -999.0,1
  74DI20100106,        A05,       9,          1,          7,          7,2,20100107,       2042,   27.33350,  -79.33568,        587,   353.4,  16.1026,  36.1480,  36.1491,2,   156.9,2,    4.56,2,    0.71,2,  2153.3,2,  2360.8,2,   12.89,2,     -999.0,9,     -999.0,9,     -999.0,9,     -999.0,9,    16.0457,     -999.0,9
  74DI20100106,        A05,       9,          1,          8,          8,2,20100107,       2042,   27.33350,  -79.33568,        587,   353.4,  16.1007,  36.1467,-999.0000,9,  -999.0,9, -999.00,9, -999.00,9,  -999.0,9,  -999.0,9, -999.00,9,     -999.0,9,     -999.0,9,     -999.0,9,     -999.0,9,    16.0438,     -999.0,9
  74DI20100106,        A05,       9,          1,         11,         11,2,20100107,       2042,   27.33350,  -79.33568,        587,   253.2,  18.1692,  36.4960,  36.5046,2,   169.1,2,    2.38,2,    0.36,2,  2151.4,2,  2360.1,3,    7.43,2,     -999.0,1,     -999.0,1,     -999.0,1,     -999.0,1,    18.1249,     -999.0,1
  74DI20100106,        A05,       9,          1,         15,         15,2,20100107,       2042,   27.33350,  -79.33568,        587,   152.3,  21.3880,  36.8069,  36.8055,2,   154.9,2,    1.64,2,    0.20,2,  2130.0,2,  2398.1,2,    4.74,2,     -999.0,1,     -999.0,1,     -999.0,1,     -999.0,1,    21.3583,     -999.0,1
  74DI20100106,        A05,       9,          1,         18,         18,2,20100107,       2042,   27.33350,  -79.33568,        587,   152.0,  21.4156,  36.8081,-999.0000,9,  -999.0,9, -999.00,9, -999.00,9,  -999.0,9,  -999.0,9, -999.00,9,     -999.0,9,     -999.0,9,     -999.0,9,     -999.0,9,    21.3859,     -999.0,9
  74DI20100106,        A05,       9,          1,         19,         19,10,20100107,       2042,   27.33350,  -79.33568,        587,    51.7,  25.3153,  36.5161,-999.0000,9,  -999.0,9, -999.00,9, -999.00,9,  -999.0,9,  -999.0,9, -999.00,9,     -999.0,9,     -999.0,9,     -999.0,9,     -999.0,9,    25.3039,     -999.0,9
  74DI20100106,        A05,       9,          1,         20,         20,2,20100107,       2042,   27.33350,  -79.33568,        587,    51.7,  25.3145,  36.5161,  36.5157,2,   198.3,2,    1.01,2,    0.00,2,  2045.3,2,  2374.0,2,    0.14,2,     -999.0,1,     -999.0,1,     -999.0,1,     -999.0,1,    25.3032,     -999.0,1
  74DI20100106,        A05,       9,          1,         21,         21,2,20100107,       2042,   27.33350,  -79.33568,        587,    52.0,  25.3157,  36.5161,-999.0000,9,  -999.0,9, -999.00,9, -999.00,9,  -999.0,9,  -999.0,9, -999.00,9,     -999.0,9,     -999.0,9,     -999.0,9,     -999.0,9,    25.3042,     -999.0,9
  74DI20100106,        A05,       9,          1,         22,         22,2,20100107,       2042,   27.33350,  -79.33568,        587,     7.6,  25.3451,  36.5133,  36.5130,2,   197.5,2,    1.00,2,    0.00,2,  2043.5,2,  2373.2,2,    0.15,2,     -999.0,1,     -999.0,1,     -999.0,1,     -999.0,1,    25.3434,     -999.0,1
  74DI20100106,        A05,       9,          1,         24,         24,2,20100107,       2042,   27.33350,  -79.33568,        587,     6.9,  25.3495,  36.5129,-999.0000,9,  -999.0,9, -999.00,9, -999.00,9,  -999.0,9,  -999.0,9, -999.00,9,     -999.0,9,     -999.0,9,     -999.0,9,     -999.0,9,    25.3480,     -999.0,9
  74DI20100106,        A05,      10,          1,          1,          1,2,20100107,       2247,   27.33227,  -79.25043,        449,   438.2,  15.8040,  36.1301,  36.1451,2,   160.5,2, -999.00,9, -999.00,9,  2145.4,2,  -999.0,9, -999.00,9,     -999.0,1,     -999.0,1,     -999.0,1,     -999.0,1,    15.7342,     -999.0,1
  74DI20100106,        A05,      10,          1,          5,          5,2,20100107,       2247,   27.33227,  -79.25043,        449,   302.1,  18.0209,  36.5287,  36.5259,2,   189.3,2, -999.00,9, -999.00,9,  2121.0,2,  -999.0,9, -999.00,9,     -999.0,1,     -999.0,1,     -999.0,1,     -999.0,1,    17.9683,     -999.0,1
  74DI20100106,        A05,      10,          1,          9,          9,2,20100107,       2247,   27.33227,  -79.25043,        449,   201.6,  20.3370,  36.7645,  36.7630,2,   182.3,2, -999.00,9, -999.00,9,  2115.4,2,  -999.0,9, -999.00,9,     -999.0,1,     -999.0,1,     -999.0,1,     -999.0,1,    20.2989,     -999.0,1
  74DI20100106,        A05,      10,          1,         11,         11,2,20100107,       2247,   27.33227,  -79.25043,        449,   201.8,  20.3364,  36.7648,-999.0000,9,  -999.0,9, -999.00,9, -999.00,9,  -999.0,9,  -999.0,9, -999.00,9,     -999.0,9,     -999.0,9,     -999.0,9,     -999.0,9,    20.2983,     -999.0,9
  74DI20100106,        A05,      10,          1,         13,         13,10,20100107,       2247,   27.33227,  -79.25043,        449,   101.1,  24.8651,  36.5710,  36.5713,2,  -999.0,9, -999.00,9, -999.00,9,  -999.0,9,  -999.0,9, -999.00,9,     -999.0,9,     -999.0,9,     -999.0,9,     -999.0,9,    24.8432,     -999.0,9
  74DI20100106,        A05,      10,          1,         14,         14,2,20100107,       2247,   27.33227,  -79.25043,        449,   101.1,  24.8653,  36.5711,-999.0000,9,  -999.0,9, -999.00,9, -999.00,9,  -999.0,9,  -999.0,9, -999.00,9,     -999.0,9,     -999.0,9,     -999.0,9,     -999.0,9,    24.8433,     -999.0,9
  74DI20100106,        A05,      10,          1,         15,         15,10,20100107,       2247,   27.33227,  -79.25043,        449,   101.3,  24.8658,  36.5711,-999.0000,9,  -999.0,9, -999.00,9, -999.00,9,  -999.0,9,  -999.0,9, -999.00,9,     -999.0,9,     -999.0,9,     -999.0,9,     -999.0,9,    24.8438,     -999.0,9
  74DI20100106,        A05,      10,          1,         16,         16,2,20100107,       2247,   27.33227,  -79.25043,        449,   101.2,  24.8658,  36.5710,-999.0000,9,   201.8,3, -999.00,9, -999.00,9,  -999.0,9,  -999.0,9, -999.00,9,     -999.0,1,     -999.0,1,     -999.0,1,     -999.0,1,    24.8438,     -999.0,9
  74DI20100106,        A05,      10,          1,         17,         17,10,20100107,       2247,   27.33227,  -79.25043,        449,    51.1,  25.1475,  36.5342,  36.5340,2,  -999.0,9, -999.00,9, -999.00,9,  -999.0,9,  -999.0,9, -999.00,9,     -999.0,9,     -999.0,9,     -999.0,9,     -999.0,9,    25.1363,     -999.0,9
  74DI20100106,        A05,      10,          1,         18,         18,2,20100107,       2247,   27.33227,  -79.25043,        449,    51.2,  25.1484,  36.5343,-999.0000,9,  -999.0,9, -999.00,9, -999.00,9,  -999.0,9,  -999.0,9, -999.00,9,     -999.0,9,     -999.0,9,     -999.0,9,     -999.0,9,    25.1372,     -999.0,9
  74DI20100106,        A05,      10,          1,         19,         19,2,20100107,       2247,   27.33227,  -79.25043,        449,    51.1,  25.1490,  36.5342,-999.0000,9,   197.6,2, -999.00,9, -999.00,9,  -999.0,9,  -999.0,9, -999.00,9,     -999.0,1,     -999.0,1,     -999.0,1,     -999.0,1,    25.1378,     -999.0,9
  74DI20100106,        A05,      10,          1,         21,         21,2,20100107,       2247,   27.33227,  -79.25043,        449,    10.8,  25.2108,  36.4078,  36.4070,2,   202.0,2, -999.00,9, -999.00,9,  2038.2,2,  -999.0,9, -999.00,9,     -999.0,1,     -999.0,1,     -999.0,1,     -999.0,1,    25.2084,     -999.0,1
  74DI20100106,        A05,      10,          1,         22,         22,2,20100107,       2247,   27.33227,  -79.25043,        449,    11.1,  25.2117,  36.4082,-999.0000,9,  -999.0,9, -999.00,9, -999.00,9,  -999.0,9,  -999.0,9, -999.00,9,     -999.0,9,     -999.0,9,     -999.0,9,     -999.0,9,    25.2092,     -999.0,9
  74DI20100106,        A05,      11,          1,          1,          1,2,20100108,       0035,   27.33515,  -79.20832,        362,   351.4,  17.9017,  36.5006,  36.4997,2,   184.6,2,    1.75,3,    0.24,3,  2119.1,2,  2381.0,2,    5.16,3,     -999.0,1,     -999.0,1,     -999.0,1,     -999.0,1,    17.8408,     -999.0,1
  74DI20100106,        A05,      11,          1,          6,          6,2,20100108,       0035,   27.33515,  -79.20832,        362,   251.4,  18.8806,  36.6332,  36.6337,2,   182.7,2,    1.86,3,    0.14,3,  2117.4,2,  2388.8,2,    3.60,3,     -999.0,1,     -999.0,1,     -999.0,1,     -999.0,1,    18.8354,     -999.0,1
  74DI20100106,        A05,      11,          1,         10,         10,2,20100108,       0035,   27.33515,  -79.20832,        362,   150.9,  22.4001,  36.8539,  36.8552,2,   182.7,2,    0.80,3,    0.04,3,  2096.3,2,  2402.1,2,    1.29,3,     -999.0,1,     -999.0,1,     -999.0,1,     -999.0,1,    22.3696,     -999.0,1
  74DI20100106,        A05,      11,          1,         11,         11,10,20100108,       0035,   27.33515,  -79.20832,        362,   151.1,  22.3677,  36.8541,-999.0000,9,  -999.0,9, -999.00,9, -999.00,9,  -999.0,9,  -999.0,9, -999.00,9,     -999.0,9,     -999.0,9,     -999.0,9,     -999.0,9,    22.3372,     -999.0,9
  74DI20100106,        A05,      11,          1,         12,         12,10,20100108,       0035,   27.33515,  -79.20832,        362,   150.9,  22.3741,  36.8542,-999.0000,9,  -999.0,9, -999.00,9, -999.00,9,  -999.0,9,  -999.0,9, -999.00,9,     -999.0,9,     -999.0,9,     -999.0,9,     -999.0,9,    22.3436,     -999.0,9
  74DI20100106,        A05,      11,          1,         13,         13,2,20100108,       0035,   27.33515,  -79.20832,        362,   151.0,  22.3607,  36.8542,-999.0000,9,  -999.0,9, -999.00,9, -999.00,9,  -999.0,9,  -999.0,9, -999.00,9,     -999.0,1,     -999.0,1,     -999.0,1,     -999.0,1,    22.3302,     -999.0,1
  74DI20100106,        A05,      11,          1,         14,         14,2,20100108,       0035,   27.33515,  -79.20832,        362,   151.0,  22.3541,  36.8539,-999.0000,9,  -999.0,9, -999.00,9, -999.00,9,  -999.0,9,  -999.0,9, -999.00,9,     -999.0,9,     -999.0,9,     -999.0,9,     -999.0,9,    22.3237,     -999.0,9
  74DI20100106,        A05,      11,          1,         15,         15,10,20100108,       0035,   27.33515,  -79.20832,        362,    51.1,  24.9662,  36.5396,-999.0000,9,  -999.0,9, -999.00,9, -999.00,9,  -999.0,9,  -999.0,9, -999.00,9,     -999.0,9,     -999.0,9,     -999.0,9,     -999.0,9,    24.9551,     -999.0,9
  74DI20100106,        A05,      11,          1,         16,         16,2,20100108,       0035,   27.33515,  -79.20832,        362,    51.2,  24.9676,  36.5397,  36.5397,2,   197.1,2,    1.00,2,    0.00,2,  2041.5,2,  2378.4,2,    0.04,2,     -999.0,1,     -999.0,1,     -999.0,1,     -999.0,1,    24.9565,     -999.0,1
  74DI20100106,        A05,      11,          1,         17,         17,2,20100108,       0035,   27.33515,  -79.20832,        362,    50.8,  24.9663,  36.5396,-999.0000,9,  -999.0,9, -999.00,9, -999.00,9,  -999.0,9,  -999.0,9, -999.00,9,     -999.0,9,     -999.0,9,     -999.0,9,     -999.0,9,    24.9553,     -999.0,9
  74DI20100106,        A05,      11,          1,         20,         20,2,20100108,       0035,   27.33515,  -79.20832,        362,     6.0,  25.3045,  36.4756,  36.4753,2,   198.0,2,    1.06,2,    0.00,2,  2035.3,2,  2373.8,2,    0.00,2,     -999.0,1,     -999.0,1,     -999.0,1,     -999.0,1,    25.3032,     -999.0,1
  74DI20100106,        A05,      11,          1,         21,         21,2,20100108,       0035,   27.33515,  -79.20832,        362,     5.9,  25.3043,  36.4754,-999.0000,9,  -999.0,9, -999.00,9, -999.00,9,  -999.0,9,  -999.0,9, -999.00,9,     -999.0,9,     -999.0,9,     -999.0,9,     -999.0,9,    25.3030,     -999.0,9