BOTTLE,20200115CCHSIOCBG
EXPOCODE,SECT_ID,STNNBR,CASTNO,SAMPNO,BTLNBR,BTLNBR_FLAG_W,DATE,TIME,LATITUDE,LONGITUDE,DEPTH,CTDPRS,CTDTMP,CTDSAL,SALNTY,SALNTY_FLAG_W,OXYGEN,OXYGEN_FLAG_W,SILCAT,SILCAT_FLAG_W,PHSPHT,PHSPHT_FLAG_W,TCARBN,TCARBN_FLAG_W,ALKALI,ALKALI_FLAG_W,NO2+NO3,NO2+NO3_FLAG_W,CFC-11,CFC-11_FLAG_W,CFC-12,CFC-12_FLAG_W,CFC113,CFC113_FLAG_W,CCL4,CCL4_FLAG_W,THETA,SF6,SF6_FLAG_W
,,,,,,,,,,,METERS,DBAR,ITS-90,PSS-78,PSS-78,,UMOL/KG,,UMOL/KG,,UMOL/KG,,UMOL/KG,,UMOL/KG,,UMOL/KG,,PMOL/L,,PMOL/L,,PMOL/L,,PMOL/L,,ITS-90,FMOL/L,
  74DI20100106,        A05,      49,          1,          1,          1,2,20100118,       0055,   24.50942,  -68.40718,       5711,  5813.8,   2.0914,  34.8475,  34.8518,2,   242.8,2,   60.13,2,    1.57,2,  2201.8,2,  2345.0,2,   23.58,2,     -999.0,1,     -999.0,1,     -999.0,1,     -999.0,1,     1.5304,     -999.0,1
  74DI20100106,        A05,      49,          1,          2,          2,2,20100118,       0055,   24.50942,  -68.40718,       5711,  5338.3,   2.0850,  34.8552,  34.8559,2,   247.8,2,   56.20,2,    1.53,2,  2198.5,2,  2343.6,2,   23.10,2,     -999.0,1,     -999.0,1,     -999.0,1,     -999.0,1,     1.5868,     -999.0,1
  74DI20100106,        A05,      49,          1,          3,          3,2,20100118,       0055,   24.50942,  -68.40718,       5711,  4820.8,   2.2558,  34.8828,  34.8845,2,   256.9,2,   39.63,2,    1.36,2,  -999.0,9,  -999.0,9,   20.48,2,     -999.0,1,     -999.0,1,     -999.0,1,     -999.0,1,     1.8170,     -999.0,1
  74DI20100106,        A05,      49,          1,          4,          4,2,20100118,       0055,   24.50942,  -68.40718,       5711,  4305.4,   2.2898,  34.8924,  34.8929,2,   261.6,2,   33.57,2,    1.30,2,  -999.0,9,  -999.0,9,   19.44,2,     -999.0,1,     -999.0,1,     -999.0,1,     -999.0,1,     1.9121,     -999.0,1
  74DI20100106,        A05,      49,          1,          5,          5,2,20100118,       0055,   24.50942,  -68.40718,       5711,  3797.1,   2.3304,  34.8987,  34.9063,2,   264.2,2,   29.74,2,    1.26,2,  -999.0,9,  -999.0,9,   18.94,2,     -999.0,1,     -999.0,1,     -999.0,1,     -999.0,1,     2.0098,     -999.0,1
  74DI20100106,        A05,      49,          1,          6,          6,2,20100118,       0055,   24.50942,  -68.40718,       5711,  3290.1,   2.5269,  34.9154,  34.9158,2,   262.6,2,   28.92,2,    1.28,2,  -999.0,9,  -999.0,9,   19.26,2,     -999.0,1,     -999.0,1,     -999.0,1,     -999.0,1,     2.2563,     -999.0,1
  74DI20100106,        A05,      49,          1,          7,          7,2,20100118,       0055,   24.50942,  -68.40718,       5711,  2787.5,   2.8485,  34.9379,  34.9403,2,   258.1,2,   25.56,2,    1.27,2,  -999.0,9,  -999.0,9,   19.43,2,     -999.0,1,     -999.0,1,     -999.0,1,     -999.0,1,     2.6228,     -999.0,1
  74DI20100106,        A05,      49,          1,          8,          8,2,20100118,       0055,   24.50942,  -68.40718,       5711,  2533.8,   3.0516,  34.9552,  34.9591,2,   254.1,2,   25.74,2,    1.29,2,  -999.0,9,  -999.0,9,   19.61,2,     -999.0,9,     -999.0,9,     -999.0,9,     -999.0,9,     2.8473,     -999.0,9
  74DI20100106,        A05,      49,          1,          9,          9,2,20100118,       0055,   24.50942,  -68.40718,       5711,  2274.8,   3.2994,  34.9721,  34.9729,2,   254.8,2,   22.79,2,    1.27,2,  -999.0,9,  -999.0,9,   19.58,2,     -999.0,9,     -999.0,9,     -999.0,9,     -999.0,9,     3.1160,     -999.0,9
  74DI20100106,        A05,      49,          1,         10,         10,2,20100118,       0055,   24.50942,  -68.40718,       5711,  2017.6,   3.5483,  34.9816,  34.9819,2,   255.3,2,   19.02,2,    1.25,2,  -999.0,9,  -999.0,9,   19.18,2,     -999.0,9,     -999.0,9,     -999.0,9,     -999.0,9,     3.3857,     -999.0,9
  74DI20100106,        A05,      49,          1,         11,         11,2,20100118,       0055,   24.50942,  -68.40718,       5711,  1774.8,   3.9437,  35.0071,  35.0072,2,   253.3,2,   16.66,2,    1.24,2,  -999.0,9,  -999.0,9,   19.11,2,     -999.0,1,     -999.0,1,     -999.0,1,     -999.0,1,     3.7986,     -999.0,1
  74DI20100106,        A05,      49,          1,         12,         12,2,20100118,       0055,   24.50942,  -68.40718,       5711,  1526.2,   4.2148,  35.0023,  35.0030,2,   252.0,2,   13.95,2,    1.22,2,  -999.0,9,  -999.0,9,   18.79,2,     -999.0,1,     -999.0,1,     -999.0,1,     -999.0,1,     4.0897,     -999.0,1
  74DI20100106,        A05,      49,          1,         13,         13,2,20100118,       0055,   24.50942,  -68.40718,       5711,  1275.7,   5.1328,  35.0668,  35.0666,2,   230.2,2,   14.31,2,    1.31,2,  -999.0,9,  -999.0,9,   20.12,2,     -999.0,9,     -999.0,9,     -999.0,9,     -999.0,9,     5.0216,     -999.0,9
  74DI20100106,        A05,      49,          1,         14,         14,2,20100118,       0055,   24.50942,  -68.40718,       5711,  1021.5,   6.5359,  35.0525,  35.0536,2,   173.4,2,   18.10,2,    1.62,2,  -999.0,9,  -999.0,9,   25.42,2,     -999.0,9,     -999.0,9,     -999.0,9,     -999.0,9,     6.4380,     -999.0,9
  74DI20100106,        A05,      49,          1,         15,         15,2,20100118,       0055,   24.50942,  -68.40718,       5711,   896.3,   7.8205,  35.0882,  35.0856,2,   148.5,2,   18.00,2,    1.71,2,  -999.0,9,  -999.0,9,   27.10,2,     -999.0,9,     -999.0,9,     -999.0,9,     -999.0,9,     7.7268,     -999.0,9
  74DI20100106,        A05,      49,          1,         16,         16,2,20100118,       0055,   24.50942,  -68.40718,       5711,   755.0,  10.1052,  35.3203,  35.3211,2,   143.6,2,   13.03,2,    1.46,2,  -999.0,9,  -999.0,9,   23.77,2,     -999.0,9,     -999.0,9,     -999.0,9,     -999.0,9,    10.0142,     -999.0,9
  74DI20100106,        A05,      49,          1,         17,         17,2,20100118,       0055,   24.50942,  -68.40718,       5711,   628.9,  12.7404,  35.6733,  35.6730,2,   156.8,2,    7.50,2,    1.02,2,  -999.0,9,  -999.0,9,   17.00,2,     -999.0,9,     -999.0,9,     -999.0,9,     -999.0,9,    12.6531,     -999.0,9
  74DI20100106,        A05,      49,          1,         18,         18,2,20100118,       0055,   24.50942,  -68.40718,       5711,   506.3,  15.7183,  36.1315,  36.1204,2,   172.5,2,    3.83,2,    0.60,2,  -999.0,9,  -999.0,9,   10.71,2,     -999.0,9,     -999.0,9,     -999.0,9,     -999.0,9,    15.6378,     -999.0,9
  74DI20100106,        A05,      49,          1,         19,         19,2,20100118,       0055,   24.50942,  -68.40718,       5711,   377.0,  17.6751,  36.4846,  36.4855,2,   191.1,2,    1.94,2,    0.26,2,  -999.0,9,  -999.0,9,    5.69,2,     -999.0,9,     -999.0,9,     -999.0,9,     -999.0,9,    17.6103,     -999.0,9
  74DI20100106,        A05,      49,          1,         20,         20,2,20100118,       0055,   24.50942,  -68.40718,       5711,   252.9,  18.6767,  36.6072,  36.6066,2,   187.7,2,    1.37,2,    0.12,2,  -999.0,9,  -999.0,9,    3.69,2,     -999.0,9,     -999.0,9,     -999.0,9,     -999.0,9,    18.6316,     -999.0,9
  74DI20100106,        A05,      49,          1,         21,         21,2,20100118,       0055,   24.50942,  -68.40718,       5711,   177.4,  19.6796,  36.6681,  36.6703,2,   195.1,2,    0.95,2,    0.01,2,  -999.0,9,  -999.0,9,    1.41,2,     -999.0,9,     -999.0,9,     -999.0,9,     -999.0,9,    19.6468,     -999.0,9
  74DI20100106,        A05,      49,          1,         22,         22,2,20100118,       0055,   24.50942,  -68.40718,       5711,   111.3,  21.9822,  36.7842,  36.7842,2,   210.1,2,    0.74,2,    0.00,2,  -999.0,9,  -999.0,9,    0.00,2,     -999.0,9,     -999.0,9,     -999.0,9,     -999.0,9,    21.9601,     -999.0,9
  74DI20100106,        A05,      49,          1,         23,         23,10,20100118,       0055,   24.50942,  -68.40718,       5711,    51.6,  24.0103,  36.7240,  36.7240,2,   205.8,2,    0.97,2,    0.00,2,  -999.0,9,  -999.0,9,    0.00,2,     -999.0,9,     -999.0,9,     -999.0,9,     -999.0,9,    23.9993,     -999.0,9
  74DI20100106,        A05,      49,          1,         24,         24,2,20100118,       0055,   24.50942,  -68.40718,       5711,     5.5,  24.5670,  36.7376,  36.7380,2,   205.7,2,    0.99,2,    0.00,2,  -999.0,9,  -999.0,9,    0.00,2,     -999.0,9,     -999.0,9,     -999.0,9,     -999.0,9,    24.5658,     -999.0,9
  74DI20100106,        A05,      50,          1,          1,          1,2,20100118,       0946,   24.50837,  -67.67001,       5716,  5818.5,   2.0985,  34.8482,  34.8494,2,   244.3,2,   58.78,2,    1.59,2,  2202.1,2,  2346.0,2,   23.50,2,     -999.0,1,     -999.0,1,     -999.0,1,     -999.0,1,     1.5367,     -999.0,1
  74DI20100106,        A05,      50,          1,          2,          2,4,20100118,       0946,   24.50837,  -67.67001,       5716,  5603.4,   2.0843,  34.8504,  34.9360,4,   256.5,4,   26.88,4,    2.64,4,  -999.0,9,  -999.0,9,   19.62,4,     -999.0,1,     -999.0,1,     -999.0,1,     -999.0,1,     1.5516,     -999.0,1
  74DI20100106,        A05,      50,          1,          3,          3,2,20100118,       0946,   24.50837,  -67.67001,       5716,  5086.3,   2.1760,  34.8701,  34.8707,2,   251.5,2,   47.53,2,    1.46,2,  2188.7,2,  2337.9,2,   21.90,2,     -999.0,9,     -999.0,9,     -999.0,9,     -999.0,9,     1.7068,     -999.0,9
  74DI20100106,        A05,      50,          1,          4,          4,2,20100118,       0946,   24.50837,  -67.67001,       5716,  4572.1,   2.2819,  34.8892,  34.8894,2,   259.1,2,   35.54,2,    1.33,2,  2176.5,2,  2326.1,2,   19.91,2,     -999.0,1,     -999.0,1,     -999.0,1,     -999.0,1,     1.8726,     -999.0,1
  74DI20100106,        A05,      50,          1,          5,          5,2,20100118,       0946,   24.50837,  -67.67001,       5716,  4059.9,   2.3177,  34.8970,  34.8974,2,   261.5,2,   31.04,2,    1.28,2,  2170.3,2,  2321.9,2,   19.20,2,     -999.0,1,     -999.0,1,     -999.0,1,     -999.0,1,     1.9677,     -999.0,1
  74DI20100106,        A05,      50,          1,          6,          6,2,20100118,       0946,   24.50837,  -67.67001,       5716,  3548.4,   2.4456,  34.9094,  34.9108,2,   259.5,2,   30.03,2,    1.29,2,  2169.7,2,  2321.4,2,   19.46,2,     -999.0,9,     -999.0,9,     -999.0,9,     -999.0,9,     2.1493,     -999.0,9
  74DI20100106,        A05,      50,          1,          7,          7,2,20100118,       0946,   24.50837,  -67.67001,       5716,  3038.5,   2.7305,  34.9309,  34.9290,2,   256.2,2,   28.34,2,    1.31,2,  2169.4,2,  2322.1,2,   19.71,2,     -999.0,1,     -999.0,1,     -999.0,1,     -999.0,1,     2.4816,     -999.0,1
  74DI20100106,        A05,      50,          1,          8,          8,2,20100118,       0946,   24.50837,  -67.67001,       5716,  2531.1,   3.0711,  34.9548,  34.9544,2,   254.7,2,   24.17,2,    1.28,2,  2168.1,2,  2318.1,2,   19.54,2,     -999.0,1,     -999.0,1,     -999.0,1,     -999.0,1,     2.8667,     -999.0,1
  74DI20100106,        A05,      50,          1,          9,          9,2,20100118,       0946,   24.50837,  -67.67001,       5716,  2281.0,   3.2975,  34.9646,  34.9652,2,   259.3,2,   20.48,2,    1.25,2,  -999.0,9,  -999.0,9,   19.14,2,     -999.0,1,     -999.0,1,     -999.0,1,     -999.0,1,     3.1136,     -999.0,1
  74DI20100106,        A05,      50,          1,         10,         10,2,20100118,       0946,   24.50837,  -67.67001,       5716,  2030.2,   3.6336,  34.9894,  34.9906,2,   255.3,2,   18.73,2,    1.26,2,  2165.7,2,  2313.2,2,   19.23,2,     -999.0,1,     -999.0,1,     -999.0,1,     -999.0,1,     3.4686,     -999.0,1
  74DI20100106,        A05,      50,          1,         11,         11,10,20100118,       0946,   24.50837,  -67.67001,       5716,  1779.7,   4.0950,  35.0282,  35.0300,2,   246.1,2,   17.19,2,    1.27,2,  -999.0,9,  -999.0,9,   19.40,2,     -999.0,1,     -999.0,1,     -999.0,1,     -999.0,1,     3.9473,     -999.0,1
  74DI20100106,        A05,      50,          1,         12,         12,2,20100118,       0946,   24.50837,  -67.67001,       5716,  1523.8,   4.4740,  35.0325,  35.0333,2,   243.3,2,   14.49,2,    1.25,2,  2164.8,2,  2312.2,2,   19.36,2,     -999.0,1,     -999.0,1,     -999.0,1,     -999.0,1,     4.3461,     -999.0,1
  74DI20100106,        A05,      50,          1,         13,         13,2,20100118,       0946,   24.50837,  -67.67001,       5716,  1274.3,   5.2548,  35.0597,  35.0854,2,   222.3,2,   14.47,2,    1.32,2,  -999.0,9,  -999.0,9,   20.49,2,     -999.0,1,     -999.0,1,     -999.0,1,     -999.0,1,     5.1426,     -999.0,1
  74DI20100106,        A05,      50,          1,         14,         14,2,20100118,       0946,   24.50837,  -67.67001,       5716,  1012.8,   6.9426,  35.0461,  35.0600,2,   164.4,2,   18.01,2,    1.66,2,  2193.0,2,  2315.1,2,   25.80,2,     -999.0,1,     -999.0,1,     -999.0,9,     -999.0,9,     6.8425,     -999.0,1
  74DI20100106,        A05,      50,          1,         15,         15,10,20100118,       0946,   24.50837,  -67.67001,       5716,   886.9,   8.2668,  35.0865,  35.0840,2,   136.6,2,   17.83,2,    1.76,2,  -999.0,9,  -999.0,9,   28.01,2,     -999.0,1,     -999.0,1,     -999.0,1,     -999.0,1,     8.1713,     -999.0,9
  74DI20100106,        A05,      50,          1,         16,         16,2,20100118,       0946,   24.50837,  -67.67001,       5716,   757.4,  10.3000,  35.3286,  35.3322,2,   138.5,2,   12.91,2,    1.48,2,  2188.2,2,  2321.4,2,   24.74,2,     -999.0,1,     -999.0,1,     -999.0,1,     -999.0,1,    10.2077,     -999.0,1
  74DI20100106,        A05,      50,          1,         17,         17,3,20100118,       0946,   24.50837,  -67.67001,       5716,   631.1,  12.7579,  35.6558,-999.0000,9,   165.9,4, -999.00,9, -999.00,9,  -999.0,9,  -999.0,9, -999.00,9,     -999.0,9,     -999.0,9,     -999.0,9,     -999.0,9,    12.6702,     -999.0,9
  74DI20100106,        A05,      50,          1,         18,         18,2,20100118,       0946,   24.50837,  -67.67001,       5716,   505.5,  15.4143,  36.0810,  36.0775,2,   166.0,2,    4.16,2,    0.67,2,  2150.2,2,  2356.6,2,   12.10,2,     -999.0,1,     -999.0,1,     -999.0,9,     -999.0,9,    15.3350,     -999.0,1
  74DI20100106,        A05,      50,          1,         19,         19,10,20100118,       0946,   24.50837,  -67.67001,       5716,   379.9,  17.7232,  36.4953,  36.4952,2,   192.1,2,    1.91,2,    0.25,2,  2122.1,2,  2380.9,2,    5.55,2,     -999.0,1,     -999.0,1,     -999.0,9,     -999.0,9,    17.6578,     -999.0,1
  74DI20100106,        A05,      50,          1,         20,         20,2,20100118,       0946,   24.50837,  -67.67001,       5716,   252.5,  18.8665,  36.6269,  36.6261,2,   184.0,2,    1.31,2,    0.12,2,  -999.0,9,  -999.0,9,    3.50,2,     -999.0,9,     -999.0,9,     -999.0,9,     -999.0,9,    18.8212,     -999.0,9
  74DI20100106,        A05,      50,          1,         21,         21,2,20100118,       0946,   24.50837,  -67.67001,       5716,   177.1,  20.6254,  36.7961,  36.8047,2,   185.8,2,    0.84,2,    0.01,2,  2110.7,2,  2399.4,2,    1.02,2,     -999.0,1,     -999.0,1,     -999.0,9,     -999.0,9,    20.5916,     -999.0,1
  74DI20100106,        A05,      50,          1,         22,         22,2,20100118,       0946,   24.50837,  -67.67001,       5716,   101.1,  24.1145,  36.9041,  36.8856,2,   203.5,2,    0.88,2,    0.00,2,  -999.0,9,  -999.0,9,    0.00,2,     -999.0,9,     -999.0,9,     -999.0,9,     -999.0,9,    24.0929,     -999.0,9
  74DI20100106,        A05,      50,          1,         23,         23,10,20100118,       0946,   24.50837,  -67.67001,       5716,    51.2,  25.4501,  36.7682,  36.7643,2,   203.8,2,    0.95,2,    0.00,2,  2047.7,2,  2397.8,2,    0.00,2,     -999.0,1,     -999.0,1,     -999.0,9,     -999.0,9,    25.4388,     -999.0,1
  74DI20100106,        A05,      50,          1,         24,         24,10,20100118,       0946,   24.50837,  -67.67001,       5716,     5.0,  25.3266,  36.4849,  36.4855,2,   201.1,2,    1.07,2,    0.00,2,  2031.3,2,  2381.4,2,    0.00,2,     -999.0,1,     -999.0,1,     -999.0,1,     -999.0,1,    25.3255,     -999.0,1