BOTTLE,20200115CCHSIOCBG
EXPOCODE,SECT_ID,STNNBR,CASTNO,SAMPNO,BTLNBR,BTLNBR_FLAG_W,DATE,TIME,LATITUDE,LONGITUDE,DEPTH,CTDPRS,CTDTMP,CTDSAL,SALNTY,SALNTY_FLAG_W,OXYGEN,OXYGEN_FLAG_W,SILCAT,SILCAT_FLAG_W,PHSPHT,PHSPHT_FLAG_W,TCARBN,TCARBN_FLAG_W,ALKALI,ALKALI_FLAG_W,NO2+NO3,NO2+NO3_FLAG_W,CFC-11,CFC-11_FLAG_W,CFC-12,CFC-12_FLAG_W,CFC113,CFC113_FLAG_W,CCL4,CCL4_FLAG_W,THETA,SF6,SF6_FLAG_W
,,,,,,,,,,,METERS,DBAR,ITS-90,PSS-78,PSS-78,,UMOL/KG,,UMOL/KG,,UMOL/KG,,UMOL/KG,,UMOL/KG,,UMOL/KG,,PMOL/L,,PMOL/L,,PMOL/L,,PMOL/L,,ITS-90,FMOL/L,
  74DI20100106,        A05,      35,          1,          1,          1,2,20100113,       1935,   26.50307,  -73.93881,       4668,  4738.6,   2.0714,  34.8616,  34.8625,2,   249.0,2,   51.31,2,    1.51,2,  2196.9,2,  2340.3,2,   22.42,2,     -999.0,1,     -999.0,1,     -999.0,1,     -999.0,1,     1.6488,     -999.0,1
  74DI20100106,        A05,      35,          1,          2,          2,2,20100113,       1935,   26.50307,  -73.93881,       4668,  4325.1,   2.2031,  34.8836,  34.8841,2,   258.8,2,   36.73,2,    1.35,2,  2182.1,2,  2328.1,2,   20.10,2,     -999.0,1,     -999.0,1,     -999.0,1,     -999.0,1,     1.8257,     -999.0,1
  74DI20100106,        A05,      35,          1,          3,          3,2,20100113,       1935,   26.50307,  -73.93881,       4668,  3814.9,   2.2675,  34.8945,  34.8943,2,   263.0,2,   30.89,2,    1.28,2,  2172.4,2,  2320.6,2,   19.27,2,     -999.0,1,     -999.0,1,     -999.0,1,     -999.0,1,     1.9466,     -999.0,1
  74DI20100106,        A05,      35,          1,          4,          4,2,20100113,       1935,   26.50307,  -73.93881,       4668,  3306.1,   2.4640,  34.9091,  34.9093,2,   265.1,2,   25.00,2,    1.24,2,  2166.2,2,  2315.7,2,   18.86,2,     -999.0,1,     -999.0,1,     -999.0,1,     -999.0,1,     2.1933,     -999.0,1
  74DI20100106,        A05,      35,          1,          5,          5,2,20100113,       1935,   26.50307,  -73.93881,       4668,  3051.0,   2.6450,  34.9199,  34.9198,2,   265.1,2,   22.83,2,    1.23,2,  -999.0,9,  -999.0,9,   18.56,2,     -999.0,1,     -999.0,1,     -999.0,1,     -999.0,1,     2.3967,     -999.0,1
  74DI20100106,        A05,      35,          1,          6,          6,2,20100113,       1935,   26.50307,  -73.93881,       4668,  2795.5,   2.8845,  34.9370,  34.9369,2,   260.1,2,   23.01,2,    1.25,2,  2166.3,2,  2319.4,2,   19.19,2,     -999.0,1,     -999.0,1,     -999.0,1,     -999.0,1,     2.6573,     -999.0,1
  74DI20100106,        A05,      35,          1,          7,          7,2,20100113,       1935,   26.50307,  -73.93881,       4668,  2540.0,   3.1191,  34.9490,  34.9484,2,   259.5,2,   20.34,2,    1.24,2,  -999.0,9,  -999.0,9,   19.10,2,     -999.0,1,     -999.0,1,     -999.0,1,     -999.0,1,     2.9129,     -999.0,1
  74DI20100106,        A05,      35,          1,          8,          8,2,20100113,       1935,   26.50307,  -73.93881,       4668,  2285.3,   3.3042,  34.9554,  34.9553,2,   259.8,2,   18.40,2,    1.26,2,  2166.1,2,  2328.0,4,   19.08,2,     -999.0,1,     -999.0,1,     -999.0,1,     -999.0,1,     3.1199,     -999.0,1
  74DI20100106,        A05,      35,          1,          9,          9,2,20100113,       1935,   26.50307,  -73.93881,       4668,  2033.2,   3.5025,  34.9616,  34.9609,2,   259.6,2,   16.54,2,    1.22,2,  -999.0,9,  -999.0,9,   18.84,2,     -999.0,1,     -999.0,1,     -999.0,1,     -999.0,1,     3.3393,     -999.0,1
  74DI20100106,        A05,      35,          1,         10,         10,2,20100113,       1935,   26.50307,  -73.93881,       4668,  1778.5,   3.7618,  34.9641,  34.9632,2,   259.6,2,   14.25,2,    1.21,2,  2163.1,2,  2309.4,2,   18.68,2,     -999.0,1,     -999.0,1,     -999.0,1,     -999.0,1,     3.6188,     -999.0,1
  74DI20100106,        A05,      35,          1,         11,         11,2,20100113,       1935,   26.50307,  -73.93881,       4668,  1525.0,   4.1667,  34.9929,  34.9923,2,   253.6,2,   13.42,2,    1.22,2,  2163.6,2,  2310.8,2,   19.13,2,     -999.0,1,     -999.0,1,     -999.0,1,     -999.0,1,     4.0422,     -999.0,1
  74DI20100106,        A05,      35,          1,         12,         12,3,20100113,       1935,   26.50307,  -73.93881,       4668,  1271.5,   4.7288,  35.0221,-999.0000,9,  -999.0,3, -999.00,9, -999.00,9,  -999.0,9,  -999.0,9, -999.00,9,     -999.0,9,     -999.0,9,     -999.0,9,     -999.0,9,     4.6220,     -999.0,9
  74DI20100106,        A05,      35,          1,         13,         13,2,20100113,       1935,   26.50307,  -73.93881,       4668,  1008.4,   6.3639,  35.0829,  35.0820,2,   193.2,2,   15.07,2,    1.45,2,  2184.8,2,  2316.9,2,   22.78,2,     -999.0,1,     -999.0,1,     -999.0,1,     -999.0,1,     6.2686,     -999.0,1
  74DI20100106,        A05,      35,          1,         14,         14,2,20100113,       1935,   26.50307,  -73.93881,       4668,   882.4,   7.5633,  35.1003,  35.1008,2,   157.5,2,   16.68,2,    1.65,2,  2194.6,2,  2316.7,2,   25.98,2,     -999.0,9,     -999.0,1,     -999.0,9,     -999.0,9,     7.4728,     -999.0,1
  74DI20100106,        A05,      35,          1,         15,         15,10,20100113,       1935,   26.50307,  -73.93881,       4668,   755.1,   9.8669,  35.2880,-999.0000,9,  -999.0,9, -999.00,9, -999.00,9,  -999.0,9,  -999.0,9, -999.00,9,     -999.0,1,     -999.0,1,     -999.0,1,     -999.0,9,     9.7773,     -999.0,1
  74DI20100106,        A05,      35,          1,         16,         16,2,20100113,       1935,   26.50307,  -73.93881,       4668,   755.0,   9.8670,  35.2883,  35.2879,2,   140.0,2,   13.44,2,    1.51,2,  2186.2,2,  2323.2,2,   24.88,2,     -999.0,9,     -999.0,9,     -999.0,9,     -999.0,9,     9.7773,     -999.0,9
  74DI20100106,        A05,      35,          1,         17,         17,2,20100113,       1935,   26.50307,  -73.93881,       4668,   629.1,  12.7660,  35.6658,  35.6650,2,   150.8,2,    7.71,2,    1.09,2,  2168.9,2,  2339.6,2,   18.59,2,     -999.0,1,     -999.0,1,     -999.0,1,     -999.0,1,    12.6785,     -999.0,1
  74DI20100106,        A05,      35,          1,         18,         18,2,20100113,       1935,   26.50307,  -73.93881,       4668,   503.6,  15.4079,  36.0754,  36.0757,2,   161.2,2,    4.21,2,    0.70,2,  2149.4,2,  2361.3,2,   12.71,2,     -999.0,1,     -999.0,1,     -999.0,1,     -999.0,1,    15.3288,     -999.0,1
  74DI20100106,        A05,      35,          1,         19,         19,2,20100113,       1935,   26.50307,  -73.93881,       4668,   378.7,  17.6295,  36.4757,  36.4769,2,   189.5,2,    1.94,2,    0.28,2,  -999.0,9,  -999.0,9,    5.97,2,     -999.0,9,     -999.0,9,     -999.0,9,     -999.0,9,    17.5644,     -999.0,9
  74DI20100106,        A05,      35,          1,         20,         20,10,20100113,       1935,   26.50307,  -73.93881,       4668,   253.0,  18.8249,  36.6200,  36.6195,2,   185.7,2,    1.35,2,    0.13,2,  2134.7,3,  2391.1,2,    3.62,2,     -999.0,9,     -999.0,1,     -999.0,9,     -999.0,9,    18.7795,     -999.0,1
  74DI20100106,        A05,      35,          1,         21,         21,2,20100113,       1935,   26.50307,  -73.93881,       4668,   177.0,  20.7152,  36.7669,  36.7663,2,   188.7,2,    0.94,2,    0.01,2,  -999.0,9,  -999.0,9,    1.00,2,     -999.0,9,     -999.0,9,     -999.0,9,     -999.0,9,    20.6813,     -999.0,9
  74DI20100106,        A05,      35,          1,         22,         22,2,20100113,       1935,   26.50307,  -73.93881,       4668,   100.7,  24.5608,  36.7728,  36.7722,2,   201.6,2,    0.97,2,    0.00,2,  2052.9,2,  2397.3,2,    8.77,2,     -999.0,1,     -999.0,1,     -999.0,9,     -999.0,9,    24.5391,     -999.0,1
  74DI20100106,        A05,      35,          1,         23,         23,3,20100113,       1935,   26.50307,  -73.93881,       4668,    51.8,  24.5691,  36.7745,-999.0000,9,  -999.0,9, -999.00,9, -999.00,9,  -999.0,9,  -999.0,9, -999.00,9,     -999.0,9,     -999.0,9,     -999.0,9,     -999.0,9,    24.5580,     -999.0,9
  74DI20100106,        A05,      35,          1,         24,         24,10,20100113,       1935,   26.50307,  -73.93881,       4668,    10.7,  24.5617,  36.7735,  36.7725,2,   201.5,2,    0.94,2,    0.00,2,  2052.4,2,  2396.5,2,    0.00,2,     -999.0,1,     -999.0,1,     -999.0,1,     -999.0,1,    24.5594,     -999.0,1
  74DI20100106,        A05,      36,          1,          1,          1,2,20100114,       0203,   26.51640,  -73.58575,       4918,  4989.2,   2.1076,  34.8627,  34.8624,2,   248.9,2,   50.77,2,    1.49,2,  2196.5,2,  2343.8,2,   22.33,2,     -999.0,1,     -999.0,1,     -999.0,1,     -999.0,1,     1.6529,     -999.0,1
  74DI20100106,        A05,      36,          1,          2,          2,2,20100114,       0203,   26.51640,  -73.58575,       4918,  4519.8,   2.2219,  34.8832,  34.8827,2,   258.2,2,   37.75,2,    1.35,2,  2181.9,2,  2331.9,2,   20.66,2,     -999.0,1,     -999.0,1,     -999.0,1,     -999.0,1,     1.8209,     -999.0,1
  74DI20100106,        A05,      36,          1,          3,          3,2,20100114,       0203,   26.51640,  -73.58575,       4918,  4017.9,   2.2788,  34.8931,  34.8932,2,   263.5,2,   31.03,2,    1.26,2,  2176.3,2,  2324.0,2,   19.89,2,     -999.0,1,     -999.0,1,     -999.0,1,     -999.0,1,     1.9348,     -999.0,1
  74DI20100106,        A05,      36,          1,          4,          4,2,20100114,       0203,   26.51640,  -73.58575,       4918,  3521.4,   2.4333,  34.9057,  34.9058,2,   265.5,2,   25.81,2,    1.22,2,  2169.1,2,  2318.6,2,   18.38,2,     -999.0,1,     -999.0,1,     -999.0,1,     -999.0,1,     2.1403,     -999.0,1
  74DI20100106,        A05,      36,          1,          5,          5,2,20100114,       0203,   26.51640,  -73.58575,       4918,  3025.1,   2.7850,  34.9290,  34.9292,2,   261.8,2,   23.21,2,    1.22,2,  2167.1,2,  2317.3,2,   19.05,2,     -999.0,1,     -999.0,1,     -999.0,1,     -999.0,1,     2.5363,     -999.0,1
  74DI20100106,        A05,      36,          1,          6,          6,2,20100114,       0203,   26.51640,  -73.58575,       4918,  2773.7,   2.9435,  34.9396,  34.9394,2,   260.5,2,   22.20,2,    1.23,2,  -999.0,9,  -999.0,9,   18.74,2,     -999.0,1,     -999.0,1,     -999.0,1,     -999.0,1,     2.7173,     -999.0,1
  74DI20100106,        A05,      36,          1,          7,          7,2,20100114,       0203,   26.51640,  -73.58575,       4918,  2524.9,   3.1841,  34.9511,  34.9511,2,   260.4,2,   19.96,2,    1.22,2,  2164.7,2,  2315.2,2,   20.16,3,     -999.0,9,     -999.0,9,     -999.0,9,     -999.0,9,     2.9783,     -999.0,9
  74DI20100106,        A05,      36,          1,          8,          8,2,20100114,       0203,   26.51640,  -73.58575,       4918,  2279.8,   3.3932,  34.9594,  34.9593,2,   259.8,2,   18.09,2,    1.20,2,  -999.0,9,  -999.0,9,   18.57,2,     -999.0,1,     -999.0,1,     -999.0,1,     -999.0,1,     3.2079,     -999.0,1
  74DI20100106,        A05,      36,          1,          9,          9,2,20100114,       0203,   26.51640,  -73.58575,       4918,  2030.1,   3.6273,  34.9647,  34.9653,2,   259.9,2,   15.68,2,    1.19,2,  2162.6,2,  2313.8,2,   18.53,2,     -999.0,1,     -999.0,1,     -999.0,1,     -999.0,1,     3.4624,     -999.0,1
  74DI20100106,        A05,      36,          1,         10,         10,2,20100114,       0203,   26.51640,  -73.58575,       4918,  1776.4,   3.8235,  34.9716,  34.9825,2,   258.7,2,   14.31,2,    1.21,2,  -999.0,9,  -999.0,9,   18.34,2,     -999.0,1,     -999.0,1,     -999.0,1,     -999.0,1,     3.6800,     -999.0,1
  74DI20100106,        A05,      36,          1,         11,         11,2,20100114,       0203,   26.51640,  -73.58575,       4918,  1524.0,   3.9901,  34.9826,  34.9713,2,   256.0,2,   13.88,2,    1.20,2,  2163.6,2,  2311.6,2,   18.70,2,     -999.0,1,     -999.0,1,     -999.0,1,     -999.0,1,     3.8678,     -999.0,1
  74DI20100106,        A05,      36,          1,         12,         12,2,20100114,       0203,   26.51640,  -73.58575,       4918,  1273.0,   4.5271,  35.0129,  35.0125,2,   245.9,2,   13.10,2,    1.21,2,  -999.0,9,  -999.0,9,   19.05,2,     -999.0,1,     -999.0,1,     -999.0,1,     -999.0,1,     4.4220,     -999.0,1
  74DI20100106,        A05,      36,          1,         13,         13,2,20100114,       0203,   26.51640,  -73.58575,       4918,  1018.7,   6.0217,  35.0736,  35.0734,2,   199.3,2,   15.55,2,    1.42,2,  2183.1,2,  2317.9,2,   22.42,2,     -999.0,1,     -999.0,1,     -999.0,1,     -999.0,1,     5.9279,     -999.0,1
  74DI20100106,        A05,      36,          1,         14,         14,2,20100114,       0203,   26.51640,  -73.58575,       4918,   893.8,   7.4366,  35.0990,  35.0994,2,   161.7,2,   16.78,2,    1.58,2,  2193.6,2,  2317.6,2,   24.94,2,     -999.0,1,     -999.0,1,     -999.0,1,     -999.0,1,     7.3456,     -999.0,1
  74DI20100106,        A05,      36,          1,         15,         15,10,20100114,       0203,   26.51640,  -73.58575,       4918,   761.4,   9.9845,  35.3060,-999.0000,9,  -999.0,9, -999.00,9, -999.00,9,  -999.0,9,  -999.0,9, -999.00,9,     -999.0,1,     -999.0,1,     -999.0,1,     -999.0,1,     9.8934,     -999.0,1
  74DI20100106,        A05,      36,          1,         16,         16,2,20100114,       0203,   26.51640,  -73.58575,       4918,   761.5,   9.9862,  35.3062,  35.3056,2,   142.9,2,   13.17,2,    1.47,2,  2186.4,2,  2322.8,2,   23.48,2,     -999.0,9,     -999.0,9,     -999.0,9,     -999.0,9,     9.8951,     -999.0,9
  74DI20100106,        A05,      36,          1,         17,         17,2,20100114,       0203,   26.51640,  -73.58575,       4918,   641.1,  12.6853,  35.6497,  35.6419,2,   146.9,2,    8.08,2,    1.09,2,  2170.7,2,  2337.7,2,   18.76,2,     -999.0,1,     -999.0,1,     -999.0,1,     -999.0,1,    12.5965,     -999.0,1
  74DI20100106,        A05,      36,          1,         18,         18,2,20100114,       0203,   26.51640,  -73.58575,       4918,   514.7,  15.5872,  36.1108,  36.1084,2,   166.3,2,    3.82,2,    0.62,2,  -999.0,9,  -999.0,9,   11.48,2,     -999.0,9,     -999.0,9,     -999.0,9,     -999.0,9,    15.5058,     -999.0,9
  74DI20100106,        A05,      36,          1,         19,         19,10,20100114,       0203,   26.51640,  -73.58575,       4918,   388.6,  17.6429,  36.4741,  36.4744,2,   187.9,2,    1.86,2,    0.26,2,  2119.7,2,  2382.5,2,    5.82,2,     -999.0,1,     -999.0,1,     -999.0,9,     -999.0,9,    17.5762,     -999.0,1
  74DI20100106,        A05,      36,          1,         20,         20,2,20100114,       0203,   26.51640,  -73.58575,       4918,   262.9,  18.9135,  36.6328,  36.6328,2,   184.3,2,    1.14,2,    0.08,2,  -999.0,9,  -999.0,9,    3.23,2,     -999.0,9,     -999.0,9,     -999.0,9,     -999.0,9,    18.8662,     -999.0,9
  74DI20100106,        A05,      36,          1,         21,         21,2,20100114,       0203,   26.51640,  -73.58575,       4918,   187.7,  20.4049,  36.7531,  36.7538,2,   183.7,2,    0.84,2,    0.00,2,  2106.3,2,  2407.5,3,    1.29,2,     -999.0,1,     -999.0,1,     -999.0,1,     -999.0,1,    20.3693,     -999.0,1
  74DI20100106,        A05,      36,          1,         22,         22,2,20100114,       0203,   26.51640,  -73.58575,       4918,   122.1,  23.1704,  36.8693,  36.8691,2,   192.3,2,    0.69,2,    0.00,2,  -999.0,9,  -999.0,9,    0.19,2,     -999.0,9,     -999.0,9,     -999.0,9,     -999.0,9,    23.1452,     -999.0,9
  74DI20100106,        A05,      36,          1,         23,         23,10,20100114,       0203,   26.51640,  -73.58575,       4918,    51.6,  24.5529,  36.7401,  36.7400,2,   201.3,2,    0.85,2,    0.00,2,  2045.8,2,  2396.3,2,    0.00,2,     -999.0,9,     -999.0,9,     -999.0,9,     -999.0,9,    24.5418,     -999.0,9
  74DI20100106,        A05,      36,          1,         24,         24,10,20100114,       0203,   26.51640,  -73.58575,       4918,    11.5,  24.5483,  36.7403,  36.7394,2,   201.7,2,    0.84,2,    0.00,2,  2044.3,2,  2394.2,2,    0.00,2,     -999.0,1,     -999.0,1,     -999.0,1,     -999.0,1,    24.5459,     -999.0,1