BOTTLE,20200115CCHSIOCBG
EXPOCODE,SECT_ID,STNNBR,CASTNO,SAMPNO,BTLNBR,BTLNBR_FLAG_W,DATE,TIME,LATITUDE,LONGITUDE,DEPTH,CTDPRS,CTDTMP,CTDSAL,SALNTY,SALNTY_FLAG_W,OXYGEN,OXYGEN_FLAG_W,SILCAT,SILCAT_FLAG_W,PHSPHT,PHSPHT_FLAG_W,TCARBN,TCARBN_FLAG_W,ALKALI,ALKALI_FLAG_W,NO2+NO3,NO2+NO3_FLAG_W,CFC-11,CFC-11_FLAG_W,CFC-12,CFC-12_FLAG_W,CFC113,CFC113_FLAG_W,CCL4,CCL4_FLAG_W,THETA,SF6,SF6_FLAG_W
,,,,,,,,,,,METERS,DBAR,ITS-90,PSS-78,PSS-78,,UMOL/KG,,UMOL/KG,,UMOL/KG,,UMOL/KG,,UMOL/KG,,UMOL/KG,,PMOL/L,,PMOL/L,,PMOL/L,,PMOL/L,,ITS-90,FMOL/L,
  74DI20100106,        A05,      93,          1,          1,         25,4,20100202,       2017,   23.66710,  -40.10834,       5421,  5512.9,   2.4326,  34.8816,-999.0000,9,   192.9,4,   16.11,4,    0.99,4,  -999.0,9,  -999.0,9,   15.44,4,     -999.0,9,     -999.0,9,     -999.0,9,     -999.0,9,     1.8990,     -999.0,9
  74DI20100106,        A05,      93,          1,          2,          2,2,20100202,       2017,   23.66710,  -40.10834,       5421,  5513.2,   2.4327,  34.8815,  34.8811,2,   241.4,2,   50.19,2,    1.53,2,  2195.0,2,  2346.7,2,   23.33,2,     -999.0,1,     -999.0,1,     -999.0,1,     -999.0,1,     1.8990,     -999.0,1
  74DI20100106,        A05,      93,          1,          3,          3,2,20100202,       2017,   23.66710,  -40.10834,       5421,  5359.1,   2.4121,  34.8816,  34.8813,2,   241.4,2,   50.35,2,    1.53,2,  2195.4,2,  2355.7,3,   23.14,2,     -999.0,1,     -999.0,1,     -999.0,1,     -999.0,1,     1.8994,     -999.0,1
  74DI20100106,        A05,      93,          1,          4,          4,2,20100202,       2017,   23.66710,  -40.10834,       5421,  4847.9,   2.3733,  34.8845,  34.8841,2,   241.0,2,   49.75,2,    1.52,2,  2196.0,2,  2345.8,2,   23.03,2,     -999.0,9,     -999.0,9,     -999.0,9,     -999.0,9,     1.9273,     -999.0,1
  74DI20100106,        A05,      93,          1,          5,          5,2,20100202,       2017,   23.66710,  -40.10834,       5421,  4333.5,   2.3877,  34.8923,  34.8917,2,   240.7,2,   47.94,2,    1.53,2,  -999.0,9,  -999.0,9,   22.96,2,     -999.0,1,     -999.0,1,     -999.0,1,     -999.0,1,     2.0038,     -999.0,1
  74DI20100106,        A05,      93,          1,          6,          6,2,20100202,       2017,   23.66710,  -40.10834,       5421,  3819.0,   2.4419,  34.9034,  34.9034,2,   243.5,2,   45.22,2,    1.51,2,  -999.0,9,  -999.0,9,   22.69,2,     -999.0,1,     -999.0,1,     -999.0,1,     -999.0,1,     2.1158,     -999.0,1
  74DI20100106,        A05,      93,          1,          7,          7,2,20100202,       2017,   23.66710,  -40.10834,       5421,  3306.3,   2.6155,  34.9244,  34.9244,2,   238.3,2,   41.09,2,    1.47,2,  -999.0,9,  -999.0,9,   22.38,2,     -999.0,1,     -999.0,1,     -999.0,1,     -999.0,1,     2.3410,     -999.0,1
  74DI20100106,        A05,      93,          1,          8,          8,10,20100202,       2017,   23.66710,  -40.10834,       5421,  2795.7,   2.8793,  34.9504,  34.9502,2,   237.1,2,   35.24,2,    1.46,2,  -999.0,9,  -999.0,9,   22.16,2,     -999.0,9,     -999.0,9,     -999.0,9,     -999.0,9,     2.6521,     -999.0,9
  74DI20100106,        A05,      93,          1,          9,          9,2,20100202,       2017,   23.66710,  -40.10834,       5421,  2539.0,   3.1098,  34.9677,  34.9671,2,   237.1,2,   31.23,2,    1.42,2,  -999.0,9,  -999.0,9,   21.62,2,     -999.0,1,     -999.0,1,     -999.0,1,     -999.0,1,     2.9038,     -999.0,1
  74DI20100106,        A05,      93,          1,         10,         10,2,20100202,       2017,   23.66710,  -40.10834,       5421,  2284.1,   3.3652,  34.9852,  34.9845,2,   238.0,2,   27.63,2,    1.41,2,  -999.0,9,  -999.0,9,   21.51,2,     -999.0,9,     -999.0,9,     -999.0,9,     -999.0,9,     3.1799,     -999.0,9
  74DI20100106,        A05,      93,          1,         11,         11,2,20100202,       2017,   23.66710,  -40.10834,       5421,  2034.3,   3.7413,  35.0123,  35.0122,2,   236.2,2,   23.46,2,    1.36,2,  -999.0,9,  -999.0,9,   20.91,2,     -999.0,1,     -999.0,1,     -999.0,1,     -999.0,1,     3.5742,     -999.0,1
  74DI20100106,        A05,      93,          1,         12,         12,3,20100202,       2017,   23.66710,  -40.10834,       5421,  1779.4,   4.1950,  35.0395,-999.0000,9,  -999.0,9,   10.02,3,    0.87,3,  -999.0,9,  -999.0,9,   13.70,3,     -999.0,9,     -999.0,9,     -999.0,9,     -999.0,9,     4.0460,     -999.0,9
  74DI20100106,        A05,      93,          1,         13,         13,2,20100202,       2017,   23.66710,  -40.10834,       5421,  1528.2,   4.7038,  35.0509,  35.0510,2,   218.8,2,   18.53,2,    1.41,2,  -999.0,9,  -999.0,9,   21.71,2,     -999.0,1,     -999.0,1,     -999.0,1,     -999.0,1,     4.5728,     -999.0,1
  74DI20100106,        A05,      93,          1,         14,         14,2,20100202,       2017,   23.66710,  -40.10834,       5421,  1275.3,   5.3445,  35.0522,  35.0520,2,   152.1,4,   18.16,2,    1.51,2,  -999.0,9,  -999.0,9,   23.53,2,     -999.0,9,     -999.0,9,     -999.0,9,     -999.0,9,     5.2313,     -999.0,9
  74DI20100106,        A05,      93,          1,         15,         26,2,20100202,       2017,   23.66710,  -40.10834,       5421,  1023.1,   6.2883,  35.0328,  35.0329,2,   165.1,2,   19.69,2,    1.72,2,  -999.0,9,  -999.0,9,   26.82,2,     -999.0,1,     -999.0,1,     -999.0,1,     -999.0,1,     6.1922,     -999.0,1
  74DI20100106,        A05,      93,          1,         16,         16,2,20100202,       2017,   23.66710,  -40.10834,       5421,   883.2,   7.4090,  35.0925,  35.0888,2,   146.6,2,   18.57,2,    1.75,2,  -999.0,9,  -999.0,9,   27.47,2,     -999.0,9,     -999.0,9,     -999.0,9,     -999.0,9,     7.3194,     -999.0,9
  74DI20100106,        A05,      93,          1,         17,         17,2,20100202,       2017,   23.66710,  -40.10834,       5421,   756.5,   9.5251,  35.3340,  35.3325,2,   136.2,3,   13.47,2,    1.49,2,  -999.0,9,  -999.0,9,   24.36,2,     -999.0,9,     -999.0,9,     -999.0,9,     -999.0,9,     9.4371,     -999.0,9
  74DI20100106,        A05,      93,          1,         18,         18,2,20100202,       2017,   23.66710,  -40.10834,       5421,   505.1,  13.1519,  35.7663,  35.7630,2,   164.8,2,    5.89,2,    0.91,2,  -999.0,9,  -999.0,9,   15.22,2,     -999.0,9,     -999.0,9,     -999.0,9,     -999.0,9,    13.0806,     -999.0,9
  74DI20100106,        A05,      93,          1,         19,         19,2,20100202,       2017,   23.66710,  -40.10834,       5421,   378.4,  15.3754,  36.1118,  36.1114,2,   171.8,2,    3.58,2,    0.60,2,  -999.0,9,  -999.0,9,   10.72,2,     -999.0,9,     -999.0,9,     -999.0,9,     -999.0,9,    15.3163,     -999.0,9
  74DI20100106,        A05,      93,          1,         20,         20,2,20100202,       2017,   23.66710,  -40.10834,       5421,   252.3,  18.0630,  36.6084,  36.6024,2,   163.8,2,    2.20,2,    0.40,2,  -999.0,9,  -999.0,9,    7.38,2,     -999.0,9,     -999.0,9,     -999.0,9,     -999.0,9,    18.0190,     -999.0,9
  74DI20100106,        A05,      93,          1,         21,         21,2,20100202,       2017,   23.66710,  -40.10834,       5421,   177.7,  20.4912,  37.0758,  37.0722,2,   177.9,2,    1.28,2,    0.15,2,  -999.0,9,  -999.0,9,    2.75,2,     -999.0,9,     -999.0,9,     -999.0,9,     -999.0,9,    20.4574,     -999.0,9
  74DI20100106,        A05,      93,          1,         22,         22,3,20100202,       2017,   23.66710,  -40.10834,       5421,   117.0,  22.0452,  37.2905,-999.0000,9,  -999.0,9,    1.26,3,    0.13,3,  -999.0,9,  -999.0,9,    2.72,3,     -999.0,9,     -999.0,9,     -999.0,9,     -999.0,9,    22.0218,     -999.0,9
  74DI20100106,        A05,      93,          1,         23,         23,2,20100202,       2017,   23.66710,  -40.10834,       5421,    50.5,  23.8038,  37.5170,  37.5162,2,   204.6,2,    0.88,2,    0.00,2,  -999.0,9,  -999.0,9,    0.00,2,     -999.0,9,     -999.0,9,     -999.0,9,     -999.0,9,    23.7931,     -999.0,9
  74DI20100106,        A05,      93,          1,         24,         24,2,20100202,       2017,   23.66710,  -40.10834,       5421,     4.9,  23.7909,  37.5050,  37.5036,2,   205.8,2,    0.91,2,    0.00,2,  -999.0,9,  -999.0,9,    0.00,2,     -999.0,9,     -999.0,9,     -999.0,9,     -999.0,9,    23.7899,     -999.0,9
  74DI20100106,        A05,      94,          1,          1,         25,2,20100203,       0457,   23.79935,  -39.26220,       5444,  5535.5,   2.4111,  34.8792,  34.8787,2,   241.7,2,   50.04,2,    1.50,2,  -999.0,9,  -999.0,9,   22.70,2,     -999.0,1,     -999.0,1,     -999.0,1,     -999.0,1,     1.8752,     -999.0,1
  74DI20100106,        A05,      94,          1,          2,          2,2,20100203,       0457,   23.79935,  -39.26220,       5444,  5535.1,   2.4109,  34.8792,  34.8789,2,   241.0,2,   50.21,2,    1.51,2,  -999.0,9,  -999.0,9,   22.82,2,     -999.0,9,     -999.0,9,     -999.0,9,     -999.0,9,     1.8752,     -999.0,9
  74DI20100106,        A05,      94,          1,          3,          3,2,20100203,       0457,   23.79935,  -39.26220,       5444,  5103.8,   2.3755,  34.8815,  34.8991,2,   240.1,2,   45.58,4,    1.48,4,  2193.6,2,  -999.0,9,   22.46,4,     -999.0,1,     -999.0,1,     -999.0,1,     -999.0,1,     1.8972,     -999.0,1
  74DI20100106,        A05,      94,          1,          4,          4,2,20100203,       0457,   23.79935,  -39.26220,       5444,  4590.8,   2.3750,  34.8880,  34.8876,2,   239.9,2,   47.48,2,    1.50,2,  2197.8,2,  2346.1,2,   22.93,2,     -999.0,1,     -999.0,1,     -999.0,1,     -999.0,1,     1.9606,     -999.0,1
  74DI20100106,        A05,      94,          1,          5,          5,2,20100203,       0457,   23.79935,  -39.26220,       5444,  4077.8,   2.4095,  34.8974,  34.8977,2,   239.2,2,   45.39,2,    1.48,2,  2195.0,2,  2347.1,2,   22.40,2,     -999.0,1,     -999.0,1,     -999.0,1,     -999.0,1,     2.0549,     -999.0,1
  74DI20100106,        A05,      94,          1,          6,          6,2,20100203,       0457,   23.79935,  -39.26220,       5444,  3566.3,   2.5072,  34.9121,  34.9122,2,   238.4,2,   42.62,2,    1.47,2,  2189.7,2,  2343.1,2,   22.27,2,     -999.0,1,     -999.0,1,     -999.0,1,     -999.0,1,     2.2074,     -999.0,1
  74DI20100106,        A05,      94,          1,          7,          7,2,20100203,       0457,   23.79935,  -39.26220,       5444,  3054.8,   2.7312,  34.9367,  34.9371,2,   236.9,2,   37.80,2,    1.44,2,  2186.8,2,  2339.1,2,   21.91,2,     -999.0,1,     -999.0,1,     -999.0,1,     -999.0,1,     2.4806,     -999.0,1
  74DI20100106,        A05,      94,          1,          8,          8,2,20100203,       0457,   23.79935,  -39.26220,       5444,  2545.2,   3.0997,  34.9674,  34.9676,2,   237.5,2,   31.06,2,    1.40,2,  2180.1,2,  2333.4,2,   21.12,2,     -999.0,1,     -999.0,1,     -999.0,1,     -999.0,1,     2.8933,     -999.0,1
  74DI20100106,        A05,      94,          1,          9,          9,2,20100203,       0457,   23.79935,  -39.26220,       5444,  2290.3,   3.3849,  34.9870,  34.9873,2,   236.8,2,   27.17,2,    1.38,2,  -999.0,9,  -999.0,9,   21.10,2,     -999.0,1,     -999.0,1,     -999.0,1,     -999.0,1,     3.1986,     -999.0,1
  74DI20100106,        A05,      94,          1,         10,         10,2,20100203,       0457,   23.79935,  -39.26220,       5444,  2037.2,   3.7027,  35.0084,  35.0183,2,   232.2,2,   22.70,2,    1.37,2,  2172.0,2,  2324.2,2,   21.06,2,     -999.0,1,     -999.0,1,     -999.0,1,     -999.0,1,     3.5359,     -999.0,1
  74DI20100106,        A05,      94,          1,         11,         11,2,20100203,       0457,   23.79935,  -39.26220,       5444,  1782.3,   4.2148,  35.0452,  35.0458,2,   229.4,2,   20.29,2,    1.36,2,  -999.0,9,  -999.0,9,   20.81,2,     -999.0,1,     -999.0,1,     -999.0,1,     -999.0,1,     4.0653,     -999.0,1
  74DI20100106,        A05,      94,          1,         12,         12,2,20100203,       0457,   23.79935,  -39.26220,       5444,  1529.7,   4.7877,  35.0757,  35.0756,2,   220.2,2,   17.93,2,    1.37,2,  2174.1,2,  2318.5,2,   21.17,2,     -999.0,1,     -999.0,1,     -999.0,1,     -999.0,1,     4.6555,     -999.0,1
  74DI20100106,        A05,      94,          1,         13,         13,2,20100203,       0457,   23.79935,  -39.26220,       5444,  1276.1,   5.4052,  35.0700,  35.0694,2,   196.4,2,   18.13,2,    1.51,2,  -999.0,9,  -999.0,9,   23.57,2,     -999.0,1,     -999.0,1,     -999.0,1,     -999.0,1,     5.2913,     -999.0,1
  74DI20100106,        A05,      94,          1,         14,         14,2,20100203,       0457,   23.79935,  -39.26220,       5444,  1009.9,   6.6066,  35.0723,  35.0708,2,   162.2,2,   19.02,2,    1.68,2,  2195.5,2,  2317.0,2,   26.47,2,     -999.0,1,     -999.0,1,     -999.0,1,     -999.0,1,     6.5093,     -999.0,1
  74DI20100106,        A05,      94,          1,         15,         26,2,20100203,       0457,   23.79935,  -39.26220,       5444,   883.5,   7.4364,  35.1335,  35.1343,2,   150.2,2,   17.82,2,    1.68,2,  -999.0,9,  -999.0,9,   26.79,2,     -999.0,1,     -999.0,1,     -999.0,1,     -999.0,1,     7.3466,     -999.0,1
  74DI20100106,        A05,      94,          1,         16,         16,2,20100203,       0457,   23.79935,  -39.26220,       5444,   756.7,   9.7375,  35.3651,  35.3664,2,   147.9,2,   12.44,2,    1.40,2,  2187.3,2,  2326.0,2,   22.81,2,     -999.0,1,     -999.0,1,     -999.0,1,     -999.0,1,     9.6482,     -999.0,1
  74DI20100106,        A05,      94,          1,         17,         17,2,20100203,       0457,   23.79935,  -39.26220,       5444,   630.4,  11.3154,  35.5492,  35.5505,2,   157.4,2,    8.49,2,    1.13,2,  2172.8,2,  2330.8,2,   18.97,2,     -999.0,1,     -999.0,1,     -999.0,1,     -999.0,1,    11.2343,     -999.0,1
  74DI20100106,        A05,      94,          1,         18,         18,2,20100203,       0457,   23.79935,  -39.26220,       5444,   504.9,  13.4372,  35.8170,  35.8220,2,   173.8,2,    4.92,2,    0.77,2,  -999.0,9,  -999.0,9,   13.20,2,     -999.0,9,     -999.0,9,     -999.0,9,     -999.0,9,    13.3649,     -999.0,9
  74DI20100106,        A05,      94,          1,         19,         19,2,20100203,       0457,   23.79935,  -39.26220,       5444,   378.4,  15.7518,  36.1639,  36.1537,2,   184.6,2,    2.99,2,    0.47,2,  2137.4,2,  2364.5,2,    8.37,2,     -999.0,1,     -999.0,1,     -999.0,1,     -999.0,1,    15.6918,     -999.0,1
  74DI20100106,        A05,      94,          1,         20,         20,2,20100203,       0457,   23.79935,  -39.26220,       5444,   253.1,  17.6611,  36.4965,  36.4952,2,   187.2,2,    1.85,2,    0.26,2,  -999.0,9,  -999.0,9,    5.08,2,     -999.0,9,     -999.0,9,     -999.0,9,     -999.0,9,    17.6177,     -999.0,9
  74DI20100106,        A05,      94,          1,         21,         21,2,20100203,       0457,   23.79935,  -39.26220,       5444,   177.6,  19.7629,  36.8977,  36.9068,2,   188.4,2,    1.11,2,    0.02,2,  -999.0,9,  -999.0,9,    0.95,2,     -999.0,1,     -999.0,1,     -999.0,1,     -999.0,1,    19.7300,     -999.0,1
  74DI20100106,        A05,      94,          1,         22,         22,10,20100203,       0457,   23.79935,  -39.26220,       5444,   128.6,  21.4207,  37.1574,  37.1604,2,   202.4,2,    0.80,2,    0.00,2,  -999.0,9,  -999.0,9,    0.00,2,     -999.0,9,     -999.0,9,     -999.0,9,     -999.0,9,    21.3955,     -999.0,9
  74DI20100106,        A05,      94,          1,         23,         23,2,20100203,       0457,   23.79935,  -39.26220,       5444,    50.7,  23.6862,  37.5166,  37.5164,2,   205.6,2,    0.83,2,    0.00,2,  2101.1,2,  2449.6,2,    0.00,2,     -999.0,1,     -999.0,1,     -999.0,1,     -999.0,1,    23.6755,     -999.0,1
  74DI20100106,        A05,      94,          1,         24,         24,2,20100203,       0457,   23.79935,  -39.26220,       5444,     4.5,  23.6750,  37.5173,  37.5170,2,   205.5,2,    0.81,2,    0.00,2,  2099.4,2,  2447.1,2,    0.00,2,     -999.0,1,     -999.0,1,     -999.0,1,     -999.0,1,    23.6740,     -999.0,1