BOTTLE,20200115CCHSIOCBG
EXPOCODE,SECT_ID,STNNBR,CASTNO,SAMPNO,BTLNBR,BTLNBR_FLAG_W,DATE,TIME,LATITUDE,LONGITUDE,DEPTH,CTDPRS,CTDTMP,CTDSAL,SALNTY,SALNTY_FLAG_W,OXYGEN,OXYGEN_FLAG_W,SILCAT,SILCAT_FLAG_W,PHSPHT,PHSPHT_FLAG_W,TCARBN,TCARBN_FLAG_W,ALKALI,ALKALI_FLAG_W,NO2+NO3,NO2+NO3_FLAG_W,CFC-11,CFC-11_FLAG_W,CFC-12,CFC-12_FLAG_W,CFC113,CFC113_FLAG_W,CCL4,CCL4_FLAG_W,THETA,SF6,SF6_FLAG_W
,,,,,,,,,,,METERS,DBAR,ITS-90,PSS-78,PSS-78,,UMOL/KG,,UMOL/KG,,UMOL/KG,,UMOL/KG,,UMOL/KG,,UMOL/KG,,PMOL/L,,PMOL/L,,PMOL/L,,PMOL/L,,ITS-90,FMOL/L,
  74DI20100106,        A05,      39,          1,          1,          1,2,20100114,       2145,   26.50767,  -72.46375,       5140,  5226.1,   2.1152,  34.8601,  34.8601,2,   248.1,2,   52.49,2,    1.52,2,  2191.6,2,  2345.8,2,   22.57,2,     -999.0,1,     -999.0,1,     -999.0,1,     -999.0,1,     1.6303,     -999.0,1
  74DI20100106,        A05,      39,          1,          2,          2,2,20100114,       2145,   26.50767,  -72.46375,       5140,  4836.9,   2.2642,  34.8833,  34.8835,2,   258.6,2,   38.27,2,    1.35,2,  2180.2,2,  2332.3,2,   20.40,2,     -999.0,1,     -999.0,1,     -999.0,1,     -999.0,1,     1.8231,     -999.0,1
  74DI20100106,        A05,      39,          1,          3,          3,2,20100114,       2145,   26.50767,  -72.46375,       5140,  4322.7,   2.2806,  34.8906,  34.8908,2,   262.2,2,   32.79,2,    1.29,2,  2173.5,2,  2326.9,2,   19.34,2,     -999.0,1,     -999.0,1,     -999.0,1,     -999.0,1,     1.9012,     -999.0,1
  74DI20100106,        A05,      39,          1,          4,          4,2,20100114,       2145,   26.50767,  -72.46375,       5140,  3809.1,   2.3729,  34.9012,  34.9013,2,   265.2,2,   27.68,2,    1.24,2,  2169.2,2,  2321.2,2,   18.93,2,     -999.0,1,     -999.0,1,     -999.0,1,     -999.0,1,     2.0498,     -999.0,1
  74DI20100106,        A05,      39,          1,          5,          5,2,20100114,       2145,   26.50767,  -72.46375,       5140,  3293.6,   2.5932,  34.9158,  34.9153,2,   266.0,2,   23.44,2,    1.21,2,  2163.3,2,  2319.3,2,   18.55,2,     -999.0,1,     -999.0,1,     -999.0,1,     -999.0,1,     2.3207,     -999.0,1
  74DI20100106,        A05,      39,          1,          6,          6,2,20100114,       2145,   26.50767,  -72.46375,       5140,  2785.5,   2.9663,  34.9388,  34.9378,2,   261.6,2,   21.30,2,    1.22,2,  2164.4,3,  2317.4,2,   18.54,2,     -999.0,1,     -999.0,1,     -999.0,1,     -999.0,1,     2.7385,     -999.0,1
  74DI20100106,        A05,      39,          1,          7,          7,3,20100114,       2145,   26.50767,  -72.46375,       5140,  2530.5,   3.2279,  34.9544,-999.0000,9,  -999.0,9, -999.00,9, -999.00,9,  -999.0,9,  -999.0,9, -999.00,9,     -999.0,9,     -999.0,9,     -999.0,9,     -999.0,9,     3.0207,     -999.0,9
  74DI20100106,        A05,      39,          1,          8,          8,10,20100114,       2145,   26.50767,  -72.46375,       5140,  2277.6,   3.3764,  34.9562,  34.9556,2,   260.5,2,   17.65,2,    1.20,2,  2162.9,3,  2314.9,2,   18.55,2,     -999.0,1,     -999.0,1,     -999.0,1,     -999.0,1,     3.1916,     -999.0,1
  74DI20100106,        A05,      39,          1,          9,          9,2,20100114,       2145,   26.50767,  -72.46375,       5140,  2026.8,   3.6315,  34.9660,  34.9623,2,   259.6,2,   15.53,2,    1.20,2,  -999.0,9,  -999.0,9,   18.69,2,     -999.0,1,     -999.0,1,     -999.0,1,     -999.0,1,     3.4669,     -999.0,1
  74DI20100106,        A05,      39,          1,         10,         10,2,20100114,       2145,   26.50767,  -72.46375,       5140,  1773.7,   3.8826,  34.9790,  34.9780,2,   257.0,2,   14.35,2,    1.20,2,  2164.5,2,  2311.6,2,   18.64,2,     -999.0,9,     -999.0,9,     -999.0,9,     -999.0,9,     3.7384,     -999.0,9
  74DI20100106,        A05,      39,          1,         11,         11,10,20100114,       2145,   26.50767,  -72.46375,       5140,  1521.5,   4.2501,  34.9972,  34.9982,2,   251.3,2,   13.44,2,    1.21,2,  -999.0,9,  -999.0,9,   18.81,2,     -999.0,1,     -999.0,1,     -999.0,1,     -999.0,1,     4.1250,     -999.0,1
  74DI20100106,        A05,      39,          1,         12,         12,2,20100114,       2145,   26.50767,  -72.46375,       5140,  1270.4,   4.9228,  35.0342,  35.0535,2,   238.2,2,   13.14,2,    1.24,2,  2172.8,2,  2314.0,2,   19.39,2,     -999.0,1,     -999.0,1,     -999.0,1,     -999.0,1,     4.8142,     -999.0,1
  74DI20100106,        A05,      39,          1,         13,         13,2,20100114,       2145,   26.50767,  -72.46375,       5140,  1017.9,   7.3527,  35.1001,  35.0993,2,   165.7,2,   16.33,2,    1.57,2,  -999.0,9,  -999.0,9,   24.93,2,     -999.0,1,     -999.0,1,     -999.0,1,     -999.0,1,     7.2489,     -999.0,1
  74DI20100106,        A05,      39,          1,         14,         14,2,20100114,       2145,   26.50767,  -72.46375,       5140,   892.8,   8.8978,  35.1791,  35.1824,2,   141.1,2,   15.62,2,    1.62,2,  2195.7,2,  2318.3,2,   25.88,2,     -999.0,1,     -999.0,1,     -999.0,1,     -999.0,1,     8.7974,     -999.0,1
  74DI20100106,        A05,      39,          1,         15,         15,10,20100114,       2145,   26.50767,  -72.46375,       5140,   756.6,  11.2551,  35.4489,  35.4515,2,   140.7,2,   10.63,2,    1.33,2,  -999.0,9,  -999.0,9,   21.85,2,     -999.0,9,     -999.0,9,     -999.0,9,     -999.0,9,    11.1576,     -999.0,9
  74DI20100106,        A05,      39,          1,         16,         16,10,20100114,       2145,   26.50767,  -72.46375,       5140,   631.6,  13.7462,  35.8144,  35.8188,2,   158.2,2,    6.11,2,    0.90,2,  2160.4,2,  2344.3,2,   15.60,2,     -999.0,1,     -999.0,1,     -999.0,1,     -999.0,1,    13.6540,     -999.0,1
  74DI20100106,        A05,      39,          1,         17,         17,2,20100114,       2145,   26.50767,  -72.46375,       5140,   506.4,  16.3860,  36.2469,  36.2513,2,   175.9,2,    3.14,2,    0.49,2,  2137.2,2,  2367.9,2,    9.40,2,     -999.0,1,     -999.0,1,     -999.0,9,     -999.0,9,    16.3031,     -999.0,1
  74DI20100106,        A05,      39,          1,         18,         18,2,20100114,       2145,   26.50767,  -72.46375,       5140,   379.4,  17.9327,  36.5257,  36.5294,2,   192.1,2,    1.74,2,    0.22,2,  -999.0,9,  -999.0,9,    5.10,2,     -999.0,9,     -999.0,9,     -999.0,9,     -999.0,9,    17.8668,     -999.0,9
  74DI20100106,        A05,      39,          1,         19,         19,2,20100114,       2145,   26.50767,  -72.46375,       5140,   254.1,  19.1389,  36.6592,  36.6619,2,   180.3,2,    1.19,2,    0.07,2,  2122.0,2,  2392.1,2,    3.10,2,     -999.0,1,     -999.0,1,     -999.0,9,     -999.0,9,    19.0929,     -999.0,1
  74DI20100106,        A05,      39,          1,         20,         20,2,20100114,       2145,   26.50767,  -72.46375,       5140,   175.8,  20.3677,  36.7309,  36.7333,2,   195.0,2,    0.83,2,    0.00,2,  -999.0,9,  -999.0,9,    0.72,2,     -999.0,9,     -999.0,9,     -999.0,9,     -999.0,9,    20.3344,     -999.0,9
  74DI20100106,        A05,      39,          1,         21,         21,2,20100114,       2145,   26.50767,  -72.46375,       5140,    80.1,  23.3011,  36.7702,  36.7699,2,   204.9,2,    0.87,2,    0.00,2,  2064.5,2,  2398.9,2,    0.00,2,     -999.0,1,     -999.0,1,     -999.0,9,     -999.0,9,    23.2845,     -999.0,1
  74DI20100106,        A05,      39,          1,         22,         22,2,20100114,       2145,   26.50767,  -72.46375,       5140,    80.5,  23.3111,  36.7695,-999.0000,9,   206.5,2, -999.00,9, -999.00,9,  -999.0,9,  -999.0,9, -999.00,9,     -999.0,9,     -999.0,9,     -999.0,9,     -999.0,9,    23.2944,     -999.0,9
  74DI20100106,        A05,      39,          1,         23,         23,2,20100114,       2145,   26.50767,  -72.46375,       5140,    50.2,  23.4775,  36.7399,  36.7413,2,  -999.0,9,    0.91,2,    0.00,2,  -999.0,9,  -999.0,9,    0.00,2,     -999.0,9,     -999.0,9,     -999.0,9,     -999.0,9,    23.4671,     -999.0,9
  74DI20100106,        A05,      39,          1,         24,         24,2,20100114,       2145,   26.50767,  -72.46375,       5140,     4.9,  23.6701,  36.7504,  36.7515,2,   206.1,2,    0.96,2,    0.00,2,  2051.1,2,  2396.9,2,    0.00,2,     -999.0,1,     -999.0,1,     -999.0,1,     -999.0,1,    23.6691,     -999.0,1
  74DI20100106,        A05,      40,          1,          1,          1,2,20100115,       0430,   26.51356,  -72.10672,       5269,  5355.2,   2.0781,  34.8533,  34.8547,2,   244.0,2,   54.42,2,    1.56,2,  2200.0,2,  2344.2,2,   22.88,2,     -999.0,9,     -999.0,9,     -999.0,9,     -999.0,9,     1.5780,     -999.0,9
  74DI20100106,        A05,      40,          1,          2,          2,2,20100115,       0430,   26.51356,  -72.10672,       5269,  5088.1,   2.2565,  34.8792,  34.8806,2,   254.4,2,   40.61,2,    1.38,2,  -999.0,9,  -999.0,9,   20.80,2,     -999.0,9,     -999.0,9,     -999.0,9,     -999.0,9,     1.7842,     -999.0,9
  74DI20100106,        A05,      40,          1,          3,          3,2,20100115,       0430,   26.51356,  -72.10672,       5269,  4578.8,   2.2971,  34.8894,  34.8901,2,   263.2,2,   33.34,2,    1.30,2,  -999.0,9,  -999.0,9,   19.68,2,     -999.0,9,     -999.0,9,     -999.0,9,     -999.0,9,     1.8865,     -999.0,9
  74DI20100106,        A05,      40,          1,          4,          4,2,20100115,       0430,   26.51356,  -72.10672,       5269,  4070.5,   2.3260,  34.8962,  34.8975,2,   262.5,2,   29.65,2,    1.25,2,  -999.0,9,  -999.0,9,   18.92,2,     -999.0,9,     -999.0,9,     -999.0,9,     -999.0,9,     1.9746,     -999.0,9
  74DI20100106,        A05,      40,          1,          5,          5,2,20100115,       0430,   26.51356,  -72.10672,       5269,  3560.6,   2.4291,  34.9060,  34.9090,2,   265.4,2,   26.50,2,    1.23,2,  -999.0,9,  -999.0,9,   18.63,2,     -999.0,9,     -999.0,9,     -999.0,9,     -999.0,9,     2.1319,     -999.0,9
  74DI20100106,        A05,      40,          1,          6,          6,2,20100115,       0430,   26.51356,  -72.10672,       5269,  3052.3,   2.7505,  34.9272,  34.9288,2,   262.5,2,   23.08,2,    1.22,2,  -999.0,9,  -999.0,9,   18.45,2,     -999.0,9,     -999.0,9,     -999.0,9,     -999.0,9,     2.4998,     -999.0,9
  74DI20100106,        A05,      40,          1,          7,          7,2,20100115,       0430,   26.51356,  -72.10672,       5269,  2544.1,   3.2383,  34.9547,  34.9560,2,   259.7,2,   19.72,2,    1.22,2,  -999.0,9,  -999.0,9,   18.64,2,     -999.0,9,     -999.0,9,     -999.0,9,     -999.0,9,     3.0295,     -999.0,9
  74DI20100106,        A05,      40,          1,          8,          8,2,20100115,       0430,   26.51356,  -72.10672,       5269,  2289.2,   3.4251,  34.9607,  34.9618,2,   258.7,2,   17.42,2,    1.21,2,  -999.0,9,  -999.0,9,   18.44,2,     -999.0,9,     -999.0,9,     -999.0,9,     -999.0,9,     3.2383,     -999.0,9
  74DI20100106,        A05,      40,          1,          9,          9,2,20100115,       0430,   26.51356,  -72.10672,       5269,  2035.2,   3.6377,  34.9670,  34.9698,2,   260.0,2,   15.24,2,    1.21,2,  -999.0,9,  -999.0,9,   18.40,2,     -999.0,9,     -999.0,9,     -999.0,9,     -999.0,9,     3.4722,     -999.0,9
  74DI20100106,        A05,      40,          1,         10,         10,2,20100115,       0430,   26.51356,  -72.10672,       5269,  1780.9,   3.8909,  34.9759,  34.9779,2,   257.7,2,   13.95,2,    1.19,2,  -999.0,9,  -999.0,9,   18.51,2,     -999.0,9,     -999.0,9,     -999.0,9,     -999.0,9,     3.7459,     -999.0,9
  74DI20100106,        A05,      40,          1,         11,         11,10,20100115,       0430,   26.51356,  -72.10672,       5269,  1527.6,   4.2836,  35.0025,  35.0044,2,  -999.0,9,   13.40,2,    1.21,2,  -999.0,9,  -999.0,9,   18.84,2,     -999.0,9,     -999.0,9,     -999.0,9,     -999.0,9,     4.1576,     -999.0,9
  74DI20100106,        A05,      40,          1,         12,         12,2,20100115,       0430,   26.51356,  -72.10672,       5269,  1273.5,   5.0319,  35.0424,  35.0444,2,   233.9,2,   13.26,2,    1.26,2,  -999.0,9,  -999.0,9,   19.98,2,     -999.0,9,     -999.0,9,     -999.0,9,     -999.0,9,     4.9219,     -999.0,9
  74DI20100106,        A05,      40,          1,         13,         13,10,20100115,       0430,   26.51356,  -72.10672,       5269,  1020.6,   7.2610,  35.1018,  35.1031,2,   169.3,2,   15.95,2,    1.56,2,  -999.0,9,  -999.0,9,   24.78,2,     -999.0,9,     -999.0,9,     -999.0,9,     -999.0,9,     7.1576,     -999.0,9
  74DI20100106,        A05,      40,          1,         14,         14,2,20100115,       0430,   26.51356,  -72.10672,       5269,   882.9,   9.6306,  35.2663,  35.2647,2,   140.4,2, -999.00,9, -999.00,9,  -999.0,9,  -999.0,9, -999.00,9,     -999.0,9,     -999.0,9,     -999.0,9,     -999.0,9,     9.5266,     -999.0,9
  74DI20100106,        A05,      40,          1,         15,         15,3,20100115,       0430,   26.51356,  -72.10672,       5269,   756.6,  11.7954,  35.5269,-999.0000,9,  -999.0,9, -999.00,9, -999.00,9,  -999.0,9,  -999.0,9, -999.00,9,     -999.0,9,     -999.0,9,     -999.0,9,     -999.0,9,    11.6950,     -999.0,9
  74DI20100106,        A05,      40,          1,         16,         16,2,20100115,       0430,   26.51356,  -72.10672,       5269,   756.8,  11.7882,  35.5262,  35.5264,2,   144.7,2,    9.35,2,    1.23,2,  -999.0,9,  -999.0,9,   20.54,2,     -999.0,9,     -999.0,9,     -999.0,9,     -999.0,9,    11.6878,     -999.0,9
  74DI20100106,        A05,      40,          1,         17,         17,10,20100115,       0430,   26.51356,  -72.10672,       5269,   632.0,  14.4784,  35.9354,  35.9344,2,   166.5,2,    4.87,2,    0.75,2,  -999.0,9,  -999.0,9,   13.26,2,     -999.0,9,     -999.0,9,     -999.0,9,     -999.0,9,    14.3829,     -999.0,9
  74DI20100106,        A05,      40,          1,         18,         18,2,20100115,       0430,   26.51356,  -72.10672,       5269,   504.6,  16.9011,  36.3392,  36.3354,2,   181.1,2,    2.55,2,    0.41,2,  -999.0,9,  -999.0,9,    8.01,2,     -999.0,9,     -999.0,9,     -999.0,9,     -999.0,9,    16.8168,     -999.0,9
  74DI20100106,        A05,      40,          1,         19,         19,2,20100115,       0430,   26.51356,  -72.10672,       5269,   378.8,  18.0106,  36.5387,  36.5373,2,   193.4,2,    1.59,2,    0.20,2,  -999.0,9,  -999.0,9,    4.82,2,     -999.0,9,     -999.0,9,     -999.0,9,     -999.0,9,    17.9446,     -999.0,9
  74DI20100106,        A05,      40,          1,         20,         20,2,20100115,       0430,   26.51356,  -72.10672,       5269,   250.8,  19.3001,  36.6503,  36.6503,2,   193.0,2,    0.99,2,    0.03,2,  -999.0,9,  -999.0,9,    2.12,2,     -999.0,9,     -999.0,9,     -999.0,9,     -999.0,9,    19.2544,     -999.0,9
  74DI20100106,        A05,      40,          1,         21,         21,2,20100115,       0430,   26.51356,  -72.10672,       5269,   176.6,  20.9119,  36.7836,  36.7816,2,   194.1,2,    0.74,2,    0.00,2,  -999.0,9,  -999.0,9,    0.61,2,     -999.0,9,     -999.0,9,     -999.0,9,     -999.0,9,    20.8778,     -999.0,9
  74DI20100106,        A05,      40,          1,         22,         22,2,20100115,       0430,   26.51356,  -72.10672,       5269,   111.2,  23.4789,  36.7885,  36.7830,2,   203.8,2,    0.88,2,    0.00,2,  -999.0,9,  -999.0,9,    0.00,2,     -999.0,9,     -999.0,9,     -999.0,9,     -999.0,9,    23.4557,     -999.0,9
  74DI20100106,        A05,      40,          1,         23,         23,10,20100115,       0430,   26.51356,  -72.10672,       5269,    50.7,  23.9080,  36.7432,  36.7429,2,   204.7,2,    0.90,2,    0.00,2,  -999.0,9,  -999.0,9,    0.00,2,     -999.0,9,     -999.0,9,     -999.0,9,     -999.0,9,    23.8973,     -999.0,9
  74DI20100106,        A05,      40,          1,         24,         24,10,20100115,       0430,   26.51356,  -72.10672,       5269,     4.8,  24.3002,  36.7567,  36.7561,2,   204.3,2,    0.91,2,    0.00,2,  -999.0,9,  -999.0,9,    0.00,2,     -999.0,9,     -999.0,9,     -999.0,9,     -999.0,9,    24.2992,     -999.0,9