BOTTLE,20200115CCHSIOCBG
EXPOCODE,SECT_ID,STNNBR,CASTNO,SAMPNO,BTLNBR,BTLNBR_FLAG_W,DATE,TIME,LATITUDE,LONGITUDE,DEPTH,CTDPRS,CTDTMP,CTDSAL,SALNTY,SALNTY_FLAG_W,OXYGEN,OXYGEN_FLAG_W,SILCAT,SILCAT_FLAG_W,PHSPHT,PHSPHT_FLAG_W,TCARBN,TCARBN_FLAG_W,ALKALI,ALKALI_FLAG_W,NO2+NO3,NO2+NO3_FLAG_W,CFC-11,CFC-11_FLAG_W,CFC-12,CFC-12_FLAG_W,CFC113,CFC113_FLAG_W,CCL4,CCL4_FLAG_W,THETA,SF6,SF6_FLAG_W
,,,,,,,,,,,METERS,DBAR,ITS-90,PSS-78,PSS-78,,UMOL/KG,,UMOL/KG,,UMOL/KG,,UMOL/KG,,UMOL/KG,,UMOL/KG,,PMOL/L,,PMOL/L,,PMOL/L,,PMOL/L,,ITS-90,FMOL/L,
  74DI20100106,        A05,      65,          1,          1,          1,2,20100123,       2148,   24.48910,  -56.68970,       5840,  5938.3,   2.0891,  34.8453,  34.8448,2,   242.7,2,   59.47,2,    1.56,2,  2202.3,2,  2354.8,2,   23.34,2,     -999.0,1,     -999.0,1,     -999.0,1,     -999.0,1,     1.5114,     -999.0,1
  74DI20100106,        A05,      65,          1,          2,          2,2,20100123,       2148,   24.48910,  -56.68970,       5840,  5358.6,   2.0216,  34.8472,  34.8464,2,   243.4,2,   58.60,2,    1.56,2,  2207.0,2,  2353.9,2,   23.54,2,     -999.0,1,     -999.0,1,     -999.0,1,     -999.0,1,     1.5231,     -999.0,1
  74DI20100106,        A05,      65,          1,          3,          3,2,20100123,       2148,   24.48910,  -56.68970,       5840,  4836.6,   2.0884,  34.8630,  34.8626,2,   247.0,2,   50.97,2,    1.46,2,  2197.6,2,  2352.6,2,   22.24,2,     -999.0,1,     -999.0,1,     -999.0,1,     -999.0,1,     1.6533,     -999.0,1
  74DI20100106,        A05,      65,          1,          4,          4,2,20100123,       2148,   24.48910,  -56.68970,       5840,  4333.0,   2.2300,  34.8828,  34.8837,2,   250.3,2,   44.26,2,    1.41,2,  2190.0,2,  2338.6,2,   21.45,2,     -999.0,1,     -999.0,1,     -999.0,1,     -999.0,1,     1.8509,     -999.0,1
  74DI20100106,        A05,      65,          1,          5,          5,2,20100123,       2148,   24.48910,  -56.68970,       5840,  3822.9,   2.3911,  34.9004,  34.8997,2,   250.9,2,   39.81,2,    1.38,2,  2182.8,2,  2337.2,2,   20.99,2,     -999.0,1,     -999.0,1,     -999.0,1,     -999.0,1,     2.0659,     -999.0,1
  74DI20100106,        A05,      65,          1,          6,          6,2,20100123,       2148,   24.48910,  -56.68970,       5840,  3311.4,   2.6719,  34.9255,  34.9259,2,   247.8,2,   35.02,2,    1.35,2,  2179.5,2,  2337.5,2,   20.44,2,     -999.0,1,     -999.0,1,     -999.0,1,     -999.0,1,     2.3956,     -999.0,1
  74DI20100106,        A05,      65,          1,          7,          7,2,20100123,       2148,   24.48910,  -56.68970,       5840,  2798.5,   2.9525,  34.9515,  34.9512,2,   245.6,2,   31.44,2,    1.35,2,  2176.1,2,  2334.8,2,   20.22,2,     -999.0,1,     -999.0,1,     -999.0,1,     -999.0,1,     2.7235,     -999.0,9
  74DI20100106,        A05,      65,          1,          8,          8,2,20100123,       2148,   24.48910,  -56.68970,       5840,  2543.0,   3.1525,  34.9698,  34.9700,2,   244.4,2,   28.59,2,    1.32,2,  -999.0,9,  -999.0,9,   20.15,2,     -999.0,1,     -999.0,1,     -999.0,1,     -999.0,1,     2.9454,     -999.0,1
  74DI20100106,        A05,      65,          1,          9,          9,2,20100123,       2148,   24.48910,  -56.68970,       5840,  2288.5,   3.4140,  34.9913,  34.9910,2,   244.2,2,   24.97,2,    1.30,2,  2173.4,2,  2329.7,2,   19.79,2,     -999.0,1,     -999.0,1,     -999.0,1,     -999.0,1,     3.2274,     -999.0,9
  74DI20100106,        A05,      65,          1,         10,         10,2,20100123,       2148,   24.48910,  -56.68970,       5840,  2038.2,   3.8349,  35.0211,  35.0210,2,   241.9,2,   20.67,2,    1.29,2,  -999.0,9,  -999.0,9,   19.56,2,     -999.0,1,     -999.0,1,     -999.0,1,     -999.0,1,     3.6659,     -999.0,1
  74DI20100106,        A05,      65,          1,         11,         11,2,20100123,       2148,   24.48910,  -56.68970,       5840,  1784.7,   4.2660,  35.0466,  35.0484,2,   239.7,2,   17.44,2,    1.26,2,  2169.5,2,  2324.4,2,   19.63,2,     -999.0,1,     -999.0,1,     -999.0,1,     -999.0,1,     4.1156,     -999.0,1
  74DI20100106,        A05,      65,          1,         12,         12,2,20100123,       2148,   24.48910,  -56.68970,       5840,  1530.4,   4.8778,  35.0638,  35.0633,2,   228.6,2,   15.08,2,    1.32,2,  -999.0,9,  -999.0,9,   20.06,2,     -999.0,1,     -999.0,1,     -999.0,1,     -999.0,1,     4.7446,     -999.0,1
  74DI20100106,        A05,      65,          1,         13,         13,2,20100123,       2148,   24.48910,  -56.68970,       5840,  1276.3,   5.4378,  35.0178,  35.0179,2,   194.6,2,   18.37,2,    1.51,2,  2185.8,2,  2322.8,2,   23.47,2,     -999.0,1,     -999.0,1,     -999.0,1,     -999.0,1,     5.3237,     -999.0,1
  74DI20100106,        A05,      65,          1,         14,         14,2,20100123,       2148,   24.48910,  -56.68970,       5840,  1018.0,   6.5819,  34.9797,  34.9794,2,   149.1,2,   21.19,2,    1.82,2,  -999.0,9,  -999.0,9,   28.11,2,     -999.0,1,     -999.0,1,     -999.0,1,     -999.0,1,     6.4841,     -999.0,1
  74DI20100106,        A05,      65,          1,         15,         15,2,20100123,       2148,   24.48910,  -56.68970,       5840,   887.8,   7.9874,  35.1113,  35.1126,2,   137.5,2,   18.11,2,    1.73,2,  2199.0,2,  2322.1,2,   27.60,2,     -999.0,1,     -999.0,1,     -999.0,1,     -999.0,1,     7.8935,     -999.0,1
  74DI20100106,        A05,      65,          1,         16,         16,2,20100123,       2148,   24.48910,  -56.68970,       5840,   759.7,  10.3308,  35.3986,  35.3864,2,   144.2,2,   11.85,2,    1.36,2,  -999.0,9,  -999.0,9,   22.59,2,     -999.0,9,     -999.0,9,     -999.0,9,     -999.0,9,    10.2379,     -999.0,9
  74DI20100106,        A05,      65,          1,         17,         17,2,20100123,       2148,   24.48910,  -56.68970,       5840,   635.5,  12.2539,  35.6426,  35.6418,2,   157.4,2,    7.51,2,    1.02,2,  2167.1,2,  2339.2,2,   17.62,2,     -999.0,1,     -999.0,1,     -999.0,1,     -999.0,1,    12.1678,     -999.0,1
  74DI20100106,        A05,      65,          1,         18,         18,2,20100123,       2148,   24.48910,  -56.68970,       5840,   503.6,  14.7464,  35.9916,  35.9960,2,   169.6,2,    4.21,2,    0.68,2,  2145.8,2,  2358.3,2,   11.90,2,     -999.0,1,     -999.0,1,     -999.0,9,     -999.0,9,    14.6696,     -999.0,1
  74DI20100106,        A05,      65,          1,         19,         19,2,20100123,       2148,   24.48910,  -56.68970,       5840,   378.0,  17.1820,  36.3987,  36.3987,2,   187.2,2,    4.15,2,    0.64,2,  -999.0,9,  -999.0,9,   11.86,2,     -999.0,9,     -999.0,9,     -999.0,9,     -999.0,9,    17.1183,     -999.0,9
  74DI20100106,        A05,      65,          1,         20,         20,2,20100123,       2148,   24.48910,  -56.68970,       5840,   252.2,  18.2123,  36.5563,  36.5550,2,   199.6,2,    1.36,2,    0.14,2,  2113.2,2,  2388.5,2,    3.66,2,     -999.0,1,     -999.0,1,     -999.0,9,     -999.0,9,    18.1682,     -999.0,1
  74DI20100106,        A05,      65,          1,         21,         21,2,20100123,       2148,   24.48910,  -56.68970,       5840,   176.7,  19.1634,  36.6528,  36.6541,2,   190.9,2,    0.96,2,    0.01,2,  -999.0,9,  -999.0,9,    1.85,2,     -999.0,9,     -999.0,9,     -999.0,9,     -999.0,9,    19.1314,     -999.0,9
  74DI20100106,        A05,      65,          1,         22,         22,2,20100123,       2148,   24.48910,  -56.68970,       5840,   101.1,  22.4726,  37.0601,  37.0617,2,   204.9,2,    0.62,2,    0.00,2,  2093.8,2,  2422.1,2,    0.00,2,     -999.0,1,     -999.0,1,     -999.0,9,     -999.0,9,    22.4521,     -999.0,1
  74DI20100106,        A05,      65,          1,         23,         23,2,20100123,       2148,   24.48910,  -56.68970,       5840,    50.7,  24.2315,  37.1222,  37.1227,2,   204.4,2,    0.76,2,    0.00,2,  -999.0,9,  -999.0,9,    0.00,2,     -999.0,9,     -999.0,9,     -999.0,9,     -999.0,9,    24.2207,     -999.0,9
  74DI20100106,        A05,      65,          1,         24,         24,2,20100123,       2148,   24.48910,  -56.68970,       5840,     4.4,  24.2520,  37.1297,  37.1298,2,   204.6,2,    0.75,2,    0.00,2,  2068.1,2,  2426.4,2,    0.00,2,     -999.0,1,     -999.0,1,     -999.0,1,     -999.0,1,    24.2510,     -999.0,1
  74DI20100106,        A05,      66,          1,          1,          1,2,20100124,       0742,   24.47990,  -55.94367,       6461,  6590.8,   2.1897,  34.8456,  34.8458,2,   244.0,2,   60.13,2,    1.56,2,  2200.8,2,  2351.8,2,   23.38,2,     -999.0,1,     -999.0,1,     -999.0,1,     -999.0,1,     1.5168,     -999.0,1
  74DI20100106,        A05,      66,          1,          2,          2,2,20100124,       0742,   24.47990,  -55.94367,       6461,  6159.2,   2.1256,  34.8461,  34.8456,2,   243.0,2,   59.93,2,    1.59,2,  2201.5,2,  2354.7,2,   24.07,4,     -999.0,1,     -999.0,1,     -999.0,1,     -999.0,1,     1.5162,     -999.0,1
  74DI20100106,        A05,      66,          1,          3,          3,2,20100124,       0742,   24.47990,  -55.94367,       6461,  5674.2,   2.0610,  34.8470,  34.8474,2,   243.1,2,   59.67,2,    1.55,2,  2200.1,2,  2351.8,2,   23.64,2,     -999.0,1,     -999.0,1,     -999.0,1,     -999.0,1,     1.5198,     -999.0,1
  74DI20100106,        A05,      66,          1,          4,          4,2,20100124,       0742,   24.47990,  -55.94367,       6461,  5160.7,   2.0190,  34.8502,  34.8500,2,   244.2,2,   58.39,2,    1.53,2,  2191.4,3,  2343.7,2,   23.33,2,     -999.0,1,     -999.0,1,     -999.0,1,     -999.0,1,     1.5459,     -999.0,1
  74DI20100106,        A05,      66,          1,          5,          5,2,20100124,       0742,   24.47990,  -55.94367,       6461,  4583.8,   2.1759,  34.8762,  34.8751,2,   250.5,2,   46.40,2,    1.42,2,  2185.9,2,  2346.6,2,   21.38,2,     -999.0,1,     -999.0,1,     -999.0,1,     -999.0,1,     1.7687,     -999.0,1
  74DI20100106,        A05,      66,          1,          6,          6,2,20100124,       0742,   24.47990,  -55.94367,       6461,  4065.1,   2.2974,  34.8921,  34.8933,2,   251.7,2,   41.05,2,    1.39,2,  2181.5,2,  2339.0,2,   21.12,2,     -999.0,1,     -999.0,1,     -999.0,1,     -999.0,1,     1.9474,     -999.0,1
  74DI20100106,        A05,      66,          1,          7,          7,2,20100124,       0742,   24.47990,  -55.94367,       6461,  3552.5,   2.4857,  34.9102,  34.9093,2,   250.2,2,   38.19,2,    1.37,2,  2180.0,2,  2342.3,2,   20.95,2,     -999.0,1,     -999.0,1,     -999.0,1,     -999.0,1,     2.1879,     -999.0,1
  74DI20100106,        A05,      66,          1,          8,          8,2,20100124,       0742,   24.47990,  -55.94367,       6461,  3044.7,   2.7578,  34.9344,  34.9346,2,   245.7,2,   35.44,2,    1.37,2,  2178.4,2,  2342.6,2,   20.94,2,     -999.0,1,     -999.0,1,     -999.0,1,     -999.0,1,     2.5076,     -999.0,1
  74DI20100106,        A05,      66,          1,          9,          9,2,20100124,       0742,   24.47990,  -55.94367,       6461,  2530.2,   3.1004,  34.9649,  34.9670,2,   244.9,2,   29.62,2,    1.34,2,  2175.7,2,  2335.9,2,   20.32,2,     -999.0,1,     -999.0,1,     -999.0,1,     -999.0,1,     2.8955,     -999.0,1
  74DI20100106,        A05,      66,          1,         10,         10,2,20100124,       0742,   24.47990,  -55.94367,       6461,  2242.4,   3.3910,  34.9891,  34.9894,2,   244.3,2,   25.82,2,    1.33,2,  -999.0,9,  -999.0,9,   20.27,2,     -999.0,1,     -999.0,1,     -999.0,1,     -999.0,1,     3.2092,     -999.0,1
  74DI20100106,        A05,      66,          1,         11,         11,2,20100124,       0742,   24.47990,  -55.94367,       6461,  2023.3,   3.7434,  35.0151,  35.0158,2,   243.1,2,   21.79,2,    1.30,2,  2169.0,2,  2328.1,2,   19.76,2,     -999.0,9,     -999.0,9,     -999.0,9,     -999.0,9,     3.5772,     -999.0,9
  74DI20100106,        A05,      66,          1,         12,         12,2,20100124,       0742,   24.47990,  -55.94367,       6461,  1769.4,   4.1857,  35.0408,  35.0289,2,   241.6,2,   19.73,2,    1.29,2,  -999.0,9,  -999.0,9,   19.58,2,     -999.0,1,     -999.0,1,     -999.0,1,     -999.0,1,     4.0378,     -999.0,1
  74DI20100106,        A05,      66,          1,         13,         13,2,20100124,       0742,   24.47990,  -55.94367,       6461,  1514.0,   4.6702,  35.0507,  35.0540,2,   232.9,2,   15.46,2,    1.30,2,  2167.6,2,  2323.1,2,   19.94,2,     -999.0,1,     -999.0,1,     -999.0,1,     -999.0,1,     4.5409,     -999.0,1
  74DI20100106,        A05,      66,          1,         14,         14,2,20100124,       0742,   24.47990,  -55.94367,       6461,  1267.4,   5.4603,  35.0619,  35.0633,2,   207.7,2,   16.54,2,    1.41,2,  -999.0,9,  -999.0,9,   21.99,2,     -999.0,1,     -999.0,1,     -999.0,1,     -999.0,1,     5.3468,     -999.0,1
  74DI20100106,        A05,      66,          1,         15,         15,2,20100124,       0742,   24.47990,  -55.94367,       6461,  1010.9,   6.8274,  35.0286,  35.0289,2,   156.4,2,   19.82,2,    1.74,2,  2195.4,2,  2322.3,2,   27.56,2,     -999.0,1,     -999.0,1,     -999.0,1,     -999.0,1,     6.7284,     -999.0,1
  74DI20100106,        A05,      66,          1,         16,         16,2,20100124,       0742,   24.47990,  -55.94367,       6461,   885.0,   7.9138,  35.0947,  35.0970,2,   139.8,2,   18.32,2,    1.74,2,  -999.0,9,  -999.0,9,   27.92,2,     -999.0,1,     -999.0,1,     -999.0,1,     -999.0,1,     7.8207,     -999.0,1
  74DI20100106,        A05,      66,          1,         17,         17,2,20100124,       0742,   24.47990,  -55.94367,       6461,   759.7,  10.1593,  35.3646,  35.3634,2,   141.6,2,   12.45,2,    1.43,2,  2184.9,2,  2326.3,2,   23.62,2,     -999.0,1,     -999.0,1,     -999.0,1,     -999.0,1,    10.0673,     -999.0,1
  74DI20100106,        A05,      66,          1,         18,         18,4,20100124,       0742,   24.47990,  -55.94367,       6461,   505.7,  14.6914,  35.9768,  35.6121,4,   159.2,4,    9.77,3,    1.15,3,  -999.0,9,  -999.0,9,   18.61,3,     -999.0,9,     -999.0,9,     -999.0,9,     -999.0,9,    14.6145,     -999.0,9
  74DI20100106,        A05,      66,          1,         19,         19,2,20100124,       0742,   24.47990,  -55.94367,       6461,   380.5,  16.9812,  36.3573,  36.3579,2,   186.5,2,    2.45,2,    0.36,2,  2125.6,2,  2379.2,2,    7.10,2,     -999.0,1,     -999.0,1,     -999.0,9,     -999.0,9,    16.9175,     -999.0,1
  74DI20100106,        A05,      66,          1,         20,         20,2,20100124,       0742,   24.47990,  -55.94367,       6461,   253.3,  18.2795,  36.5714,  36.5721,2,   191.3,2,    1.41,2,    0.16,2,  -999.0,9,  -999.0,9,    4.01,2,     -999.0,9,     -999.0,9,     -999.0,9,     -999.0,9,    18.2350,     -999.0,9
  74DI20100106,        A05,      66,          1,         21,         21,2,20100124,       0742,   24.47990,  -55.94367,       6461,   178.7,  19.9209,  36.7868,  36.8228,3,   184.4,2,    0.96,2,    0.00,2,  2119.6,2,  2407.6,2,    1.17,2,     -999.0,1,     -999.0,1,     -999.0,9,     -999.0,9,    19.8877,     -999.0,1
  74DI20100106,        A05,      66,          1,         22,         22,4,20100124,       0742,   24.47990,  -55.94367,       6461,   102.8,  24.0465,  37.1613,  36.8210,3,   187.2,4,    2.87,3,    0.31,3,  -999.0,9,  -999.0,9,    5.31,3,     -999.0,9,     -999.0,9,     -999.0,9,     -999.0,9,    24.0247,     -999.0,9
  74DI20100106,        A05,      66,          1,         23,         23,4,20100124,       0742,   24.47990,  -55.94367,       6461,    51.9,  24.1550,  37.1427,  36.7623,4,   190.0,4,    2.00,3,    0.18,3,  -999.0,9,  -999.0,9,    3.32,3,     -999.0,1,     -999.0,1,     -999.0,9,     -999.0,9,    24.1440,     -999.0,1
  74DI20100106,        A05,      66,          1,         24,         24,2,20100124,       0742,   24.47990,  -55.94367,       6461,    11.8,  24.1963,  37.1365,  37.1363,2,   203.9,2,    0.85,2,    0.00,2,  2065.7,2,  2424.2,2,    0.14,2,     -999.0,1,     -999.0,1,     -999.0,1,     -999.0,1,    24.1938,     -999.0,1