BOTTLE,20200115CCHSIOCBG
EXPOCODE,SECT_ID,STNNBR,CASTNO,SAMPNO,BTLNBR,BTLNBR_FLAG_W,DATE,TIME,LATITUDE,LONGITUDE,DEPTH,CTDPRS,CTDTMP,CTDSAL,SALNTY,SALNTY_FLAG_W,OXYGEN,OXYGEN_FLAG_W,SILCAT,SILCAT_FLAG_W,PHSPHT,PHSPHT_FLAG_W,TCARBN,TCARBN_FLAG_W,ALKALI,ALKALI_FLAG_W,NO2+NO3,NO2+NO3_FLAG_W,CFC-11,CFC-11_FLAG_W,CFC-12,CFC-12_FLAG_W,CFC113,CFC113_FLAG_W,CCL4,CCL4_FLAG_W,THETA,SF6,SF6_FLAG_W
,,,,,,,,,,,METERS,DBAR,ITS-90,PSS-78,PSS-78,,UMOL/KG,,UMOL/KG,,UMOL/KG,,UMOL/KG,,UMOL/KG,,UMOL/KG,,PMOL/L,,PMOL/L,,PMOL/L,,PMOL/L,,ITS-90,FMOL/L,
  74DI20100106,        A05,      21,          1,          1,          1,2,20100110,       0100,   26.49710,  -76.62983,       4698,  4768.1,   2.2641,  34.8839,  34.8841,2,   256.6,3,   36.60,2,    1.34,2,  2176.7,2,  2330.3,2,   26.63,2,     -999.0,1,     -999.0,1,     -999.0,1,     -999.0,1,     1.8316,     -999.0,1
  74DI20100106,        A05,      21,          1,          3,          3,3,20100110,       0100,   26.49710,  -76.62983,       4698,  4303.8,   2.2866,  34.8908,-999.0000,9,  -999.0,9, -999.00,9, -999.00,9,  -999.0,9,  -999.0,9, -999.00,9,     -999.0,9,     -999.0,9,     -999.0,9,     -999.0,9,     1.9092,     -999.0,9
  74DI20100106,        A05,      21,          1,          4,          4,2,20100110,       0100,   26.49710,  -76.62983,       4698,  3798.5,   2.3677,  34.9001,  34.9004,2,   265.8,2,   27.12,2,    1.24,2,  2166.5,2,  2319.1,2,   18.79,2,     -999.0,1,     -999.0,1,     -999.0,1,     -999.0,1,     2.0459,     -999.0,1
  74DI20100106,        A05,      21,          1,          5,          5,2,20100110,       0100,   26.49710,  -76.62983,       4698,  3295.9,   2.7176,  34.9179,  34.9179,2,   267.7,2,   20.82,2,    1.19,2,  2160.9,2,  2314.7,2,   17.77,2,     -999.0,1,     -999.0,1,     -999.0,1,     -999.0,1,     2.4419,     -999.0,1
  74DI20100106,        A05,      21,          1,          6,          6,2,20100110,       0100,   26.49710,  -76.62983,       4698,  2781.7,   3.1382,  34.9412,  34.9415,2,   262.8,2,   18.83,2,    1.20,2,  2158.7,2,  2312.5,2,   18.29,2,     -999.0,1,     -999.0,1,     -999.0,1,     -999.0,1,     2.9072,     -999.0,1
  74DI20100106,        A05,      21,          1,          7,          7,2,20100110,       0100,   26.49710,  -76.62983,       4698,  2526.1,   3.3228,  34.9455,  34.9453,2,   262.9,2,   17.06,2,    1.20,2,  -999.0,9,  -999.0,9,   18.15,2,     -999.0,9,     -999.0,9,     -999.0,9,     -999.0,9,     3.1144,     -999.0,9
  74DI20100106,        A05,      21,          1,          8,          8,2,20100110,       0100,   26.49710,  -76.62983,       4698,  2260.6,   3.4377,  34.9495,  34.9494,2,   261.1,2,   16.34,2,    1.20,2,  2158.4,2,  2307.3,2,   18.48,2,     -999.0,1,     -999.0,1,     -999.0,1,     -999.0,1,     3.2535,     -999.0,1
  74DI20100106,        A05,      21,          1,          9,          9,2,20100110,       0100,   26.49710,  -76.62983,       4698,  2015.4,   3.5458,  34.9530,  34.9532,2,   261.7,2,   15.34,2,    1.19,2,  -999.0,9,  -999.0,9,   18.14,2,     -999.0,9,     -999.0,9,     -999.0,9,     -999.0,9,     3.3836,     -999.0,9
  74DI20100106,        A05,      21,          1,         10,         10,2,20100110,       0100,   26.49710,  -76.62983,       4698,  1765.0,   3.7506,  34.9611,  34.9608,2,   260.7,2,   14.13,2,    1.20,2,  2159.1,2,  2307.0,2,   18.41,2,     -999.0,1,     -999.0,1,     -999.0,1,     -999.0,1,     3.6091,     -999.0,1
  74DI20100106,        A05,      21,          1,         11,         11,2,20100110,       0100,   26.49710,  -76.62983,       4698,  1517.4,   3.9559,  34.9714,  34.9723,2,   265.2,3,   13.39,2,    1.19,2,  2161.4,2,  2307.0,2,   18.61,2,     -999.0,1,     -999.0,1,     -999.0,1,     -999.0,1,     3.8346,     -999.0,1
  74DI20100106,        A05,      21,          1,         12,         12,3,20100110,       0100,   26.49710,  -76.62983,       4698,  1267.1,   4.5028,  35.0027,-999.0000,9,  -999.0,9, -999.00,9, -999.00,9,  -999.0,9,  -999.0,9, -999.00,9,     -999.0,9,     -999.0,9,     -999.0,9,     -999.0,9,     4.3985,     -999.0,9
  74DI20100106,        A05,      21,          1,         13,         13,2,20100110,       0100,   26.49710,  -76.62983,       4698,  1019.1,   6.1303,  35.0795,  35.0799,2,   202.7,2,   14.29,2,    1.39,2,  2178.1,2,  2313.0,2,   21.74,2,     -999.0,1,     -999.0,1,     -999.0,1,     -999.0,1,     6.0356,     -999.0,1
  74DI20100106,        A05,      21,          1,         14,         14,2,20100110,       0100,   26.49710,  -76.62983,       4698,   892.5,   8.2371,  35.1567,  35.1561,2,   152.8,2,   15.70,2,    1.59,2,  2188.9,2,  2318.0,2,   25.45,2,     -999.0,1,     -999.0,1,     -999.0,1,     -999.0,1,     8.1411,     -999.0,1
  74DI20100106,        A05,      21,          1,         15,         15,10,20100110,       0100,   26.49710,  -76.62983,       4698,   766.1,  10.7702,  35.4129,-999.0000,9,  -999.0,9, -999.00,9, -999.00,9,  -999.0,9,  -999.0,9, -999.00,9,     -999.0,1,     -999.0,1,     -999.0,1,     -999.0,1,    10.6741,     -999.0,1
  74DI20100106,        A05,      21,          1,         16,         16,2,20100110,       0100,   26.49710,  -76.62983,       4698,   765.8,  10.7688,  35.4129,  35.4140,2,   147.9,2,   10.97,2,    1.33,2,  2174.4,2,  2326.1,2,   21.90,2,     -999.0,1,     -999.0,1,     -999.0,1,     -999.0,1,    10.6727,     -999.0,1
  74DI20100106,        A05,      21,          1,         17,         17,2,20100110,       0100,   26.49710,  -76.62983,       4698,   641.1,  13.5499,  35.7889,  35.7870,2,   161.9,2,    6.19,2,    0.91,2,  2155.0,2,  2342.9,2,   15.64,2,     -999.0,1,     -999.0,1,     -999.0,1,     -999.0,1,    13.4572,     -999.0,1
  74DI20100106,        A05,      21,          1,         18,         18,2,20100110,       0100,   26.49710,  -76.62983,       4698,   514.5,  16.2760,  36.2299,  36.2306,2,   180.2,2,    3.06,2,    0.49,2,  2136.8,2,  2366.0,2,    9.07,2,     -999.0,1,     -999.0,1,     -999.0,1,     -999.0,1,    16.1922,     -999.0,1
  74DI20100106,        A05,      21,          1,         19,         19,10,20100110,       0100,   26.49710,  -76.62983,       4698,   388.7,  17.8904,  36.5230,  36.5221,2,   193.5,2,    1.76,2,    0.23,2,  -999.0,9,  -999.0,9,    5.46,2,     -999.0,9,     -999.0,9,     -999.0,9,     -999.0,9,    17.8230,     -999.0,9
  74DI20100106,        A05,      21,          1,         20,         20,2,20100110,       0100,   26.49710,  -76.62983,       4698,   263.1,  18.8420,  36.6257,  36.6314,2,   184.8,2,    1.68,2,    0.12,2,  2117.8,2,  2389.6,2,    3.49,2,     -999.0,1,     -999.0,1,     -999.0,9,     -999.0,9,    18.7948,     -999.0,1
  74DI20100106,        A05,      21,          1,         21,         21,2,20100110,       0100,   26.49710,  -76.62983,       4698,   187.6,  20.4207,  36.7382,  36.7399,2,   194.1,2,    0.91,2,    0.01,2,  -999.0,9,  -999.0,9,    1.14,2,     -999.0,9,     -999.0,9,     -999.0,9,     -999.0,9,    20.3852,     -999.0,9
  74DI20100106,        A05,      21,          1,         22,         22,2,20100110,       0100,   26.49710,  -76.62983,       4698,   111.8,  23.5909,  36.7151,  36.7123,2,   207.7,2,    0.96,2,    0.00,2,  2047.0,2,  2389.9,2,    0.10,2,     -999.0,1,     -999.0,1,     -999.0,9,     -999.0,9,    23.5675,     -999.0,1
  74DI20100106,        A05,      21,          1,         23,         23,2,20100110,       0100,   26.49710,  -76.62983,       4698,    61.7,  23.6319,  36.7084,  36.7091,2,   205.1,2,    1.04,2,    0.00,2,  2049.2,2,  2390.4,2,    0.01,2,     -999.0,1,     -999.0,1,     -999.0,9,     -999.0,9,    23.6189,     -999.0,1
  74DI20100106,        A05,      21,          1,         24,         24,10,20100110,       0100,   26.49710,  -76.62983,       4698,     5.6,  23.6201,  36.7088,  36.7089,2,   205.1,2,    0.95,2,    0.00,2,  2046.6,2,  2389.8,2,    0.00,2,     -999.0,1,     -999.0,1,     -999.0,1,     -999.0,1,    23.6189,     -999.0,1
  74DI20100106,        A05,      22,          1,          1,          1,2,20100110,       0652,   26.49608,  -76.53794,       4839,  4917.6,   2.2182,  34.8766,  34.8773,2,   255.5,2,   43.14,2,    1.42,2,  2188.8,2,  2334.1,2,   20.86,2,     -999.0,1,     -999.0,1,     -999.0,1,     -999.0,1,     1.7687,     -999.0,1
  74DI20100106,        A05,      22,          1,          2,          2,2,20100110,       0652,   26.49608,  -76.53794,       4839,  4917.4,   2.2182,  34.8766,-999.0000,9,   256.8,3, -999.00,9, -999.00,9,  -999.0,9,  -999.0,9, -999.00,9,     -999.0,9,     -999.0,9,     -999.0,9,     -999.0,9,     1.7688,     -999.0,9
  74DI20100106,        A05,      22,          1,          3,          3,2,20100110,       0652,   26.49608,  -76.53794,       4839,  4583.0,   2.2522,  34.8852,  34.8856,2,   261.8,2,   36.13,2,    1.34,2,  2180.8,2,  2327.7,2,   19.77,2,     -999.0,1,     -999.0,1,     -999.0,1,     -999.0,1,     1.8427,     -999.0,1
  74DI20100106,        A05,      22,          1,          4,          4,2,20100110,       0652,   26.49608,  -76.53794,       4839,  4072.0,   2.3016,  34.8940,  34.8948,2,   264.5,2,   30.97,2,    1.28,2,  2174.0,2,  2320.9,2,   19.04,2,     -999.0,1,     -999.0,1,     -999.0,1,     -999.0,1,     1.9506,     -999.0,1
  74DI20100106,        A05,      22,          1,          5,          5,2,20100110,       0652,   26.49608,  -76.53794,       4839,  3562.0,   2.4522,  34.9068,  34.9081,2,   267.0,2,   26.08,2,    1.32,4,  2166.5,2,  -999.0,9,   18.58,2,     -999.0,1,     -999.0,1,     -999.0,1,     -999.0,1,     2.1543,     -999.0,1
  74DI20100106,        A05,      22,          1,          6,          6,2,20100110,       0652,   26.49608,  -76.53794,       4839,  3047.9,   2.7620,  34.9214,  34.9221,2,   266.8,2,   21.19,2,    1.21,2,  2164.9,2,  2311.7,2,   17.89,2,     -999.0,1,     -999.0,1,     -999.0,1,     -999.0,1,     2.5115,     -999.0,1
  74DI20100106,        A05,      22,          1,          7,          7,2,20100110,       0652,   26.49608,  -76.53794,       4839,  2535.9,   3.1823,  34.9424,  34.9428,2,   264.0,2,   18.78,2,    1.22,2,  2162.7,2,  2305.8,3,   18.31,2,     -999.0,1,     -999.0,1,     -999.0,1,     -999.0,1,     2.9754,     -999.0,1
  74DI20100106,        A05,      22,          1,          8,          8,2,20100110,       0652,   26.49608,  -76.53794,       4839,  2278.7,   3.3976,  34.9515,  34.9521,2,   262.7,2,   17.22,2,    1.22,2,  -999.0,9,  -999.0,9,   18.22,2,     -999.0,9,     -999.0,9,     -999.0,9,     -999.0,9,     3.2123,     -999.0,9
  74DI20100106,        A05,      22,          1,          9,          9,2,20100110,       0652,   26.49608,  -76.53794,       4839,  2025.2,   3.5934,  34.9545,  34.9556,2,   263.7,2,   15.49,2,    1.23,2,  2161.8,2,  2306.8,2,   18.57,2,     -999.0,1,     -999.0,1,     -999.0,1,     -999.0,1,     3.4295,     -999.0,1
  74DI20100106,        A05,      22,          1,         10,         10,2,20100110,       0652,   26.49608,  -76.53794,       4839,  1773.2,   3.8554,  34.9667,  34.9674,2,   260.4,2,   12.25,2,    1.22,2,  -999.0,9,  -999.0,9,   18.34,2,     -999.0,9,     -999.0,9,     -999.0,9,     -999.0,9,     3.7117,     -999.0,9
  74DI20100106,        A05,      22,          1,         11,         11,2,20100110,       0652,   26.49608,  -76.53794,       4839,  1523.8,   4.1758,  34.9853,  34.9857,2,   255.6,2,   13.46,2,    1.23,2,  2163.2,2,  2307.1,2,   18.50,2,     -999.0,1,     -999.0,1,     -999.0,1,     -999.0,1,     4.0514,     -999.0,1
  74DI20100106,        A05,      22,          1,         12,         12,2,20100110,       0652,   26.49608,  -76.53794,       4839,  1271.9,   4.8293,  35.0343,  35.0348,2,   239.6,2,   13.51,2,    1.28,2,  -999.0,9,  -999.0,9,   19.16,2,     -999.0,9,     -999.0,9,     -999.0,9,     -999.0,9,     4.7214,     -999.0,9
  74DI20100106,        A05,      22,          1,         13,         13,2,20100110,       0652,   26.49608,  -76.53794,       4839,  1019.0,   6.5832,  35.0851,  35.0858,2,   186.8,2,   16.15,2,    1.52,2,  2184.8,2,  2315.6,2,   23.40,2,     -999.0,1,     -999.0,1,     -999.0,1,     -999.0,1,     6.4851,     -999.0,1
  74DI20100106,        A05,      22,          1,         14,         14,2,20100110,       0652,   26.49608,  -76.53794,       4839,   893.7,   8.2868,  35.1538,  35.1542,2,   150.7,2,   16.38,2,    1.65,2,  2192.6,2,  2317.4,2,   25.75,2,     -999.0,1,     -999.0,1,     -999.0,1,     -999.0,1,     8.1902,     -999.0,1
  74DI20100106,        A05,      22,          1,         15,         15,3,20100110,       0652,   26.49608,  -76.53794,       4839,   767.1,  10.6345,  35.3884,-999.0000,9,  -999.0,9, -999.00,9, -999.00,9,  -999.0,9,  -999.0,9, -999.00,9,     -999.0,9,     -999.0,9,     -999.0,9,     -999.0,9,    10.5390,     -999.0,9
  74DI20100106,        A05,      22,          1,         16,         16,3,20100110,       0652,   26.49608,  -76.53794,       4839,   768.3,  10.6370,  35.3883,-999.0000,9,  -999.0,9, -999.00,9, -999.00,9,  -999.0,9,  -999.0,9, -999.00,9,     -999.0,9,     -999.0,9,     -999.0,9,     -999.0,9,    10.5414,     -999.0,9
  74DI20100106,        A05,      22,          1,         17,         17,2,20100110,       0652,   26.49608,  -76.53794,       4839,   641.1,  13.6449,  35.8017,  35.7934,2,   160.8,2,    0.95,4,    0.95,2,  2157.0,2,  -999.0,9,   15.66,2,     -999.0,1,     -999.0,1,     -999.0,1,     -999.0,1,    13.5518,     -999.0,1
  74DI20100106,        A05,      22,          1,         18,         18,2,20100110,       0652,   26.49608,  -76.53794,       4839,   506.9,  16.4081,  36.2527,  36.2520,2,   177.8,2,    3.11,2,    0.51,2,  -999.0,9,  -999.0,9,    9.21,2,     -999.0,9,     -999.0,9,     -999.0,9,     -999.0,9,    16.3251,     -999.0,9
  74DI20100106,        A05,      22,          1,         19,         19,2,20100110,       0652,   26.49608,  -76.53794,       4839,   380.8,  17.8847,  36.5201,  36.5186,2,   193.5,3,    1.82,2,    0.25,2,  2114.1,2,  2382.5,2,    5.13,2,     -999.0,1,     -999.0,1,     -999.0,9,     -999.0,9,    17.8186,     -999.0,1
  74DI20100106,        A05,      22,          1,         20,         20,2,20100110,       0652,   26.49608,  -76.53794,       4839,   255.1,  19.1263,  36.6480,  36.6473,2,   185.4,2,    1.20,2,    0.09,2,  -999.0,9,  -999.0,9,    2.92,2,     -999.0,9,     -999.0,9,     -999.0,9,     -999.0,9,    19.0800,     -999.0,9
  74DI20100106,        A05,      22,          1,         21,         21,2,20100110,       0652,   26.49608,  -76.53794,       4839,   176.3,  20.5216,  36.7347,  36.7372,2,   199.0,2,    0.82,2,    0.01,2,  2104.5,2,  2395.6,2,    0.62,2,     -999.0,1,     -999.0,1,     -999.0,9,     -999.0,9,    20.4881,     -999.0,1
  74DI20100106,        A05,      22,          1,         22,         22,2,20100110,       0652,   26.49608,  -76.53794,       4839,   120.8,  22.7215,  36.8268,  36.8270,2,   193.0,2, -999.00,9, -999.00,9,  2084.2,2,  -999.0,9, -999.00,9,     -999.0,9,     -999.0,9,     -999.0,9,     -999.0,9,    22.6968,     -999.0,9
  74DI20100106,        A05,      22,          1,         23,         23,3,20100110,       0652,   26.49608,  -76.53794,       4839,    50.3,  23.6577,  36.7301,-999.0000,9,  -999.0,9, -999.00,9, -999.00,9,  -999.0,9,  -999.0,9, -999.00,9,     -999.0,9,     -999.0,9,     -999.0,9,     -999.0,9,    23.6471,     -999.0,9
  74DI20100106,        A05,      22,          1,         24,         24,10,20100110,       0652,   26.49608,  -76.53794,       4839,     4.1,  23.6306,  36.7308,-999.0000,9,  -999.0,9, -999.00,9, -999.00,9,  -999.0,9,  -999.0,9, -999.00,9,     -999.0,9,     -999.0,9,     -999.0,9,     -999.0,9,    23.6298,     -999.0,9