BOTTLE,20200115CCHSIOCBG
EXPOCODE,SECT_ID,STNNBR,CASTNO,SAMPNO,BTLNBR,BTLNBR_FLAG_W,DATE,TIME,LATITUDE,LONGITUDE,DEPTH,CTDPRS,CTDTMP,CTDSAL,SALNTY,SALNTY_FLAG_W,OXYGEN,OXYGEN_FLAG_W,SILCAT,SILCAT_FLAG_W,PHSPHT,PHSPHT_FLAG_W,TCARBN,TCARBN_FLAG_W,ALKALI,ALKALI_FLAG_W,NO2+NO3,NO2+NO3_FLAG_W,CFC-11,CFC-11_FLAG_W,CFC-12,CFC-12_FLAG_W,CFC113,CFC113_FLAG_W,CCL4,CCL4_FLAG_W,THETA,SF6,SF6_FLAG_W
,,,,,,,,,,,METERS,DBAR,ITS-90,PSS-78,PSS-78,,UMOL/KG,,UMOL/KG,,UMOL/KG,,UMOL/KG,,UMOL/KG,,UMOL/KG,,PMOL/L,,PMOL/L,,PMOL/L,,PMOL/L,,ITS-90,FMOL/L,
  74DI20100106,        A05,      99,          1,          1,         25,10,20100205,       0238,   24.50623,  -35.08503,       5756,  5861.4,   2.4493,  34.8786,  34.8793,2,   241.4,3,   50.86,2,    1.49,2,  -999.0,9,  -999.0,9,   22.53,2,     -999.0,1,     -999.0,1,     -999.0,1,     -999.0,1,     1.8681,     -999.0,1
  74DI20100106,        A05,      99,          1,          2,          2,2,20100205,       0238,   24.50623,  -35.08503,       5756,  5360.2,   2.3880,  34.8795,  34.8798,2,   241.4,2,   50.65,2,    1.49,2,  2197.4,2,  2345.7,2,   22.40,2,     -999.0,1,     -999.0,1,     -999.0,1,     -999.0,1,     1.8761,     -999.0,1
  74DI20100106,        A05,      99,          1,          3,          3,2,20100205,       0238,   24.50623,  -35.08503,       5756,  4846.2,   2.3771,  34.8854,  34.8853,2,   240.4,2,   49.72,2,    1.49,2,  -999.0,9,  -999.0,9,   22.60,2,     -999.0,1,     -999.0,1,     -999.0,1,     -999.0,1,     1.9312,     -999.0,1
  74DI20100106,        A05,      99,          1,          4,          4,2,20100205,       0238,   24.50623,  -35.08503,       5756,  4335.2,   2.3899,  34.8927,  34.8929,2,   239.9,2,   48.58,2,    1.49,2,  -999.0,9,  -999.0,9,   22.38,2,     -999.0,1,     -999.0,1,     -999.0,1,     -999.0,1,     2.0057,     -999.0,1
  74DI20100106,        A05,      99,          1,          5,          5,2,20100205,       0238,   24.50623,  -35.08503,       5756,  3820.6,   2.4642,  34.9058,  34.9058,2,   239.6,2,   45.80,2,    1.47,2,  -999.0,9,  -999.0,9,   22.05,2,     -999.0,1,     -999.0,1,     -999.0,1,     -999.0,1,     2.1373,     -999.0,1
  74DI20100106,        A05,      99,          1,          6,          6,2,20100205,       0238,   24.50623,  -35.08503,       5756,  3309.9,   2.6107,  34.9242,  34.9239,2,   238.4,2,   41.71,2,    1.46,2,  -999.0,9,  -999.0,9,   21.60,2,     -999.0,1,     -999.0,1,     -999.0,1,     -999.0,1,     2.3360,     -999.0,1
  74DI20100106,        A05,      99,          1,          7,          7,2,20100205,       0238,   24.50623,  -35.08503,       5756,  2799.5,   2.9434,  34.9568,  34.9564,2,   237.2,2,   30.72,4,    1.41,4,  -999.0,9,  -999.0,9,   20.92,4,     -999.0,1,     -999.0,1,     -999.0,1,     -999.0,1,     2.7145,     -999.0,1
  74DI20100106,        A05,      99,          1,          8,          8,2,20100205,       0238,   24.50623,  -35.08503,       5756,  2545.1,   3.1841,  34.9793,  34.9788,2,   237.5,2,   27.40,4,    1.38,4,  -999.0,9,  -999.0,9,   20.60,4,     -999.0,1,     -999.0,1,     -999.0,1,     -999.0,1,     2.9762,     -999.0,1
  74DI20100106,        A05,      99,          1,          9,          9,2,20100205,       0238,   24.50623,  -35.08503,       5756,  2292.2,   3.4595,  35.0053,  35.0048,2,   236.1,2,   27.46,2,    1.37,2,  -999.0,9,  -999.0,9,   20.91,2,     -999.0,1,     -999.0,1,     -999.0,1,     -999.0,1,     3.2716,     -999.0,1
  74DI20100106,        A05,      99,          1,         10,         10,2,20100205,       0238,   24.50623,  -35.08503,       5756,  2037.1,   3.8586,  35.0405,  35.0399,2,   232.2,2,   24.03,2,    1.36,2,  -999.0,9,  -999.0,9,   20.65,2,     -999.0,1,     -999.0,1,     -999.0,1,     -999.0,1,     3.6893,     -999.0,1
  74DI20100106,        A05,      99,          1,         11,         11,2,20100205,       0238,   24.50623,  -35.08503,       5756,  1784.4,   4.3891,  35.0794,  35.0796,2,   224.0,2,   21.12,2,    1.36,2,  -999.0,9,  -999.0,9,   20.79,2,     -999.0,1,     -999.0,1,     -999.0,1,     -999.0,1,     4.2369,     -999.0,1
  74DI20100106,        A05,      99,          1,         12,         12,2,20100205,       0238,   24.50623,  -35.08503,       5756,  1529.5,   5.0399,  35.1102,  35.1104,2,   210.5,2,   18.92,2,    1.41,2,  -999.0,9,  -999.0,9,   21.53,2,     -999.0,1,     -999.0,1,     -999.0,1,     -999.0,1,     4.9047,     -999.0,1
  74DI20100106,        A05,      99,          1,         13,         13,10,20100205,       0238,   24.50623,  -35.08503,       5756,  1277.2,   5.5125,  35.0896,  35.0907,2,   195.5,2,   18.63,2,    1.49,2,  -999.0,9,  -999.0,9,   23.16,2,     -999.0,1,     -999.0,1,     -999.0,1,     -999.0,1,     5.3974,     -999.0,1
  74DI20100106,        A05,      99,          1,         14,         14,2,20100205,       0238,   24.50623,  -35.08503,       5756,  1009.2,   6.7253,  35.0997,  35.0999,2,   163.2,2,   18.99,2,    1.65,2,  -999.0,9,  -999.0,9,   25.63,2,     -999.0,1,     -999.0,1,     -999.0,1,     -999.0,1,     6.6271,     -999.0,9
  74DI20100106,        A05,      99,          1,         15,         26,2,20100205,       0238,   24.50623,  -35.08503,       5756,   881.5,   7.9603,  35.1832,  35.1846,2,   146.7,2,   17.00,2,    1.63,2,  -999.0,9,  -999.0,9,   25.80,2,     -999.0,1,     -999.0,1,     -999.0,1,     -999.0,1,     7.8672,     -999.0,1
  74DI20100106,        A05,      99,          1,         16,         16,2,20100205,       0238,   24.50623,  -35.08503,       5756,   755.8,   9.3048,  35.3163,  35.3181,2,   144.8,2,   13.78,2,    1.47,2,  -999.0,9,  -999.0,9,   24.06,2,     -999.0,9,     -999.0,9,     -999.0,9,     -999.0,9,     9.2181,     -999.0,9
  74DI20100106,        A05,      99,          1,         17,         17,2,20100205,       0238,   24.50623,  -35.08503,       5756,   630.5,  11.2880,  35.5418,  35.5440,2,   157.1,2,    8.72,2,    1.13,2,  -999.0,9,  -999.0,9,   19.08,2,     -999.0,9,     -999.0,9,     -999.0,9,     -999.0,9,    11.2070,     -999.0,9
  74DI20100106,        A05,      99,          1,         18,         18,2,20100205,       0238,   24.50623,  -35.08503,       5756,   504.1,  13.0472,  35.7608,  35.7610,2,   172.7,2,    5.49,2,    0.83,2,  -999.0,9,  -999.0,9,   14.67,2,     -999.0,9,     -999.0,9,     -999.0,9,     -999.0,9,    12.9764,     -999.0,9
  74DI20100106,        A05,      99,          1,         19,         19,2,20100205,       0238,   24.50623,  -35.08503,       5756,   378.1,  15.5675,  36.1436,  36.1449,2,   186.7,2,    2.98,2,    0.48,2,  -999.0,9,  -999.0,9,    8.81,2,     -999.0,9,     -999.0,9,     -999.0,9,     -999.0,9,    15.5079,     -999.0,9
  74DI20100106,        A05,      99,          1,         20,         20,2,20100205,       0238,   24.50623,  -35.08503,       5756,   253.0,  17.8066,  36.5599,  36.5594,2,   188.1,2,    1.72,2,    0.22,2,  -999.0,9,  -999.0,9,    4.95,2,     -999.0,9,     -999.0,9,     -999.0,9,     -999.0,9,    17.7630,     -999.0,9
  74DI20100106,        A05,      99,          1,         21,         21,2,20100205,       0238,   24.50623,  -35.08503,       5756,   177.1,  20.2268,  37.0547,  37.0659,2,   193.1,2,    0.92,2,    0.03,2,  -999.0,9,  -999.0,9,    1.23,2,     -999.0,9,     -999.0,9,     -999.0,9,     -999.0,9,    20.1934,     -999.0,9
  74DI20100106,        A05,      99,          1,         22,         22,10,20100205,       0238,   24.50623,  -35.08503,       5756,   108.7,  22.2674,  37.3968,  37.4110,2,  -999.0,9,    0.72,2,    0.00,2,  -999.0,9,  -999.0,9,    0.00,2,     -999.0,9,     -999.0,9,     -999.0,9,     -999.0,9,    22.2455,     -999.0,9
  74DI20100106,        A05,      99,          1,         23,         23,2,20100205,       0238,   24.50623,  -35.08503,       5756,    49.9,  22.9936,  37.4891,  37.4888,2,   206.0,2,    0.71,2,    0.00,2,  -999.0,9,  -999.0,9,    0.00,2,     -999.0,9,     -999.0,9,     -999.0,9,     -999.0,9,    22.9833,     -999.0,9
  74DI20100106,        A05,      99,          1,         24,         24,2,20100205,       0238,   24.50623,  -35.08503,       5756,     4.6,  23.3205,  37.5602,  37.5597,2,   206.2,2,    0.14,2,    0.00,2,  -999.0,9,  -999.0,9,    0.31,2,     -999.0,9,     -999.0,9,     -999.0,9,     -999.0,9,    23.3196,     -999.0,9
  74DI20100106,        A05,     100,          1,          1,         25,10,20100205,       1028,   24.49545,  -34.41669,       6096,  6122.1,   2.4911,  34.8791,  34.8792,2,   241.7,2,   50.74,2,    1.50,2,  -999.0,9,  -999.0,9,   22.74,2,     -999.0,1,     -999.0,1,     -999.0,1,     -999.0,1,     1.8722,     -999.0,1
  74DI20100106,        A05,     100,          1,          2,          2,2,20100205,       1028,   24.49545,  -34.41669,       6096,  6122.5,   2.4911,  34.8792,  34.8787,2,   241.4,2,   51.38,2,    1.53,2,  2198.7,2,  2351.0,2,   22.88,2,     -999.0,1,     -999.0,1,     -999.0,1,     -999.0,1,     1.8721,     -999.0,1
  74DI20100106,        A05,     100,          1,          3,          3,2,20100205,       1028,   24.49545,  -34.41669,       6096,  5615.3,   2.4245,  34.8798,  34.8788,2,   241.8,2,   50.97,2,    1.52,2,  2198.7,2,  2352.3,2,   22.91,2,     -999.0,1,     -999.0,1,     -999.0,1,     -999.0,1,     1.8775,     -999.0,1
  74DI20100106,        A05,     100,          1,          4,          4,2,20100205,       1028,   24.49545,  -34.41669,       6096,  5095.8,   2.3769,  34.8822,  34.8811,2,   241.7,2,   50.58,2,    1.52,2,  2199.3,2,  2348.0,2,   23.03,2,     -999.0,1,     -999.0,1,     -999.0,1,     -999.0,1,     1.8996,     -999.0,1
  74DI20100106,        A05,     100,          1,          5,          5,2,20100205,       1028,   24.49545,  -34.41669,       6096,  4570.6,   2.3814,  34.8892,  34.8891,2,   240.3,2,   49.22,2,    1.52,2,  2199.5,2,  2351.7,2,   22.90,2,     -999.0,1,     -999.0,1,     -999.0,1,     -999.0,1,     1.9692,     -999.0,1
  74DI20100106,        A05,     100,          1,          6,          6,2,20100205,       1028,   24.49545,  -34.41669,       6096,  4060.9,   2.4181,  34.8986,  34.8980,2,   239.5,2,   46.89,2,    1.50,2,  2199.8,2,  2347.3,2,   22.61,2,     -999.0,1,     -999.0,1,     -999.0,1,     -999.0,1,     2.0652,     -999.0,1
  74DI20100106,        A05,     100,          1,          7,          7,2,20100205,       1028,   24.49545,  -34.41669,       6096,  3567.5,   2.5233,  34.9139,  34.9132,2,   238.7,2,   43.45,2,    1.48,2,  2191.6,2,  2350.3,2,   22.47,2,     -999.0,1,     -999.0,1,     -999.0,1,     -999.0,1,     2.2229,     -999.0,1
  74DI20100106,        A05,     100,          1,          8,          8,2,20100205,       1028,   24.49545,  -34.41669,       6096,  3042.7,   2.7437,  34.9381,  34.9373,2,   237.8,2,   38.42,2,    1.44,2,  2184.5,2,  2340.2,2,   22.00,2,     -999.0,1,     -999.0,1,     -999.0,1,     -999.0,1,     2.4940,     -999.0,1
  74DI20100106,        A05,     100,          1,          9,          9,2,20100205,       1028,   24.49545,  -34.41669,       6096,  2535.8,   3.1857,  34.9803,  34.9799,2,   237.1,2,   30.49,2,    1.40,2,  2176.6,2,  2331.6,2,   21.38,2,     -999.0,1,     -999.0,1,     -999.0,1,     -999.0,1,     2.9787,     -999.0,1
  74DI20100106,        A05,     100,          1,         10,         10,3,20100205,       1028,   24.49545,  -34.41669,       6096,  2279.4,   3.5203,  35.0105,-999.0000,9,  -999.0,9,   24.09,3,    1.37,3,  -999.0,9,  -999.0,9,   20.94,3,     -999.0,9,     -999.0,9,     -999.0,9,     -999.0,9,     3.3327,     -999.0,9
  74DI20100106,        A05,     100,          1,         11,         11,10,20100205,       1028,   24.49545,  -34.41669,       6096,  2026.6,   3.8518,  35.0427,  35.0422,2,   231.9,2,   24.00,2,    1.36,2,  2174.0,2,  2324.2,2,   20.92,2,     -999.0,1,     -999.0,1,     -999.0,1,     -999.0,1,     3.6836,     -999.0,1
  74DI20100106,        A05,     100,          1,         12,         12,2,20100205,       1028,   24.49545,  -34.41669,       6096,  1773.1,   4.5198,  35.1051,  35.1058,2,   222.9,2,   20.78,2,    1.35,2,  -999.0,9,  -999.0,9,   20.97,2,     -999.0,1,     -999.0,1,     -999.0,1,     -999.0,1,     4.3670,     -999.0,1
  74DI20100106,        A05,     100,          1,         13,         13,10,20100205,       1028,   24.49545,  -34.41669,       6096,  1509.0,   5.1778,  35.1314,  35.1310,2,   209.7,2,   18.43,2,    1.41,2,  2181.0,2,  2323.8,2,   21.82,2,     -999.0,1,     -999.0,1,     -999.0,1,     -999.0,1,     5.0431,     -999.0,1
  74DI20100106,        A05,     100,          1,         14,         14,2,20100205,       1028,   24.49545,  -34.41669,       6096,  1252.6,   5.8381,  35.1122,  35.1122,2,   187.7,2,   18.50,2,    1.53,2,  -999.0,9,  -999.0,9,   23.89,2,     -999.0,1,     -999.0,1,     -999.0,1,     -999.0,1,     5.7224,     -999.0,1
  74DI20100106,        A05,     100,          1,         15,         26,2,20100205,       1028,   24.49545,  -34.41669,       6096,  1010.4,   6.8823,  35.1117,  35.1117,2,   156.1,2,   18.99,2,    1.70,2,  -999.0,9,  -999.0,9,   26.90,2,     -999.0,1,     -999.0,1,     -999.0,1,     -999.0,1,     6.7828,     -999.0,1
  74DI20100106,        A05,     100,          1,         16,         16,2,20100205,       1028,   24.49545,  -34.41669,       6096,   881.8,   7.9087,  35.1846,  35.1858,2,   145.5,2,   17.02,2,    1.64,2,  -999.0,9,  -999.0,9,   26.71,2,     -999.0,1,     -999.0,1,     -999.0,1,     -999.0,1,     7.8159,     -999.0,1
  74DI20100106,        A05,     100,          1,         17,         17,10,20100205,       1028,   24.49545,  -34.41669,       6096,   757.4,   9.3931,  35.3311,  35.3320,2,  -999.0,9,   13.94,2,    1.49,2,  -999.0,9,  -999.0,9,   24.78,2,     -999.0,9,     -999.0,9,     -999.0,9,     -999.0,9,     9.3057,     -999.0,9
  74DI20100106,        A05,     100,          1,         18,         18,2,20100205,       1028,   24.49545,  -34.41669,       6096,   506.2,  13.0963,  35.7673,  35.7726,2,   160.8,2,    5.76,2,    0.90,2,  2161.3,2,  2349.6,2,   15.48,2,     -999.0,1,     -999.0,1,     -999.0,1,     -999.0,1,    13.0250,     -999.0,1
  74DI20100106,        A05,     100,          1,         19,         19,2,20100205,       1028,   24.49545,  -34.41669,       6096,   380.9,  15.3282,  36.1080,  36.1088,2,   174.0,2,    3.49,2,    0.58,2,  2142.1,2,  2368.4,2,   10.59,2,     -999.0,1,     -999.0,1,     -999.0,9,     -999.0,9,    15.2688,     -999.0,1
  74DI20100106,        A05,     100,          1,         20,         20,2,20100205,       1028,   24.49545,  -34.41669,       6096,   255.3,  17.2551,  36.4374,  36.4383,2,   190.1,2,    1.96,2,    0.28,2,  -999.0,9,  -999.0,9,    5.86,2,     -999.0,9,     -999.0,9,     -999.0,9,     -999.0,9,    17.2120,     -999.0,9
  74DI20100106,        A05,     100,          1,         21,         21,2,20100205,       1028,   24.49545,  -34.41669,       6096,   179.8,  19.2580,  36.8765,  36.8822,2,   196.7,3,    1.10,2,    0.08,2,  2125.4,2,  2416.4,2,    2.13,2,     -999.0,1,     -999.0,1,     -999.0,9,     -999.0,9,    19.2253,     -999.0,1
  74DI20100106,        A05,     100,          1,         22,         22,3,20100205,       1028,   24.49545,  -34.41669,       6096,   113.9,  21.0045,  37.1636,-999.0000,9,  -999.0,3, -999.00,9, -999.00,9,  -999.0,9,  -999.0,9, -999.00,9,     -999.0,9,     -999.0,9,     -999.0,9,     -999.0,9,    20.9825,     -999.0,9
  74DI20100106,        A05,     100,          1,         23,         23,10,20100205,       1028,   24.49545,  -34.41669,       6096,    53.2,  22.7858,  37.5443,  37.5440,2,   209.0,2,    0.70,2,    0.00,2,  2110.1,2,  2451.5,2,    0.00,2,     -999.0,1,     -999.0,1,     -999.0,1,     -999.0,1,    22.7749,     -999.0,1
  74DI20100106,        A05,     100,          1,         24,         24,2,20100205,       1028,   24.49545,  -34.41669,       6096,     7.1,  22.8472,  37.5443,  37.5441,2,   207.8,2,    0.89,2,    0.01,2,  2110.2,2,  2448.8,2,    0.09,2,     -999.0,1,     -999.0,1,     -999.0,1,     -999.0,1,    22.8457,     -999.0,1