BOTTLE,20200115CCHSIOCBG
EXPOCODE,SECT_ID,STNNBR,CASTNO,SAMPNO,BTLNBR,BTLNBR_FLAG_W,DATE,TIME,LATITUDE,LONGITUDE,DEPTH,CTDPRS,CTDTMP,CTDSAL,SALNTY,SALNTY_FLAG_W,OXYGEN,OXYGEN_FLAG_W,SILCAT,SILCAT_FLAG_W,PHSPHT,PHSPHT_FLAG_W,TCARBN,TCARBN_FLAG_W,ALKALI,ALKALI_FLAG_W,NO2+NO3,NO2+NO3_FLAG_W,CFC-11,CFC-11_FLAG_W,CFC-12,CFC-12_FLAG_W,CFC113,CFC113_FLAG_W,CCL4,CCL4_FLAG_W,THETA,SF6,SF6_FLAG_W
,,,,,,,,,,,METERS,DBAR,ITS-90,PSS-78,PSS-78,,UMOL/KG,,UMOL/KG,,UMOL/KG,,UMOL/KG,,UMOL/KG,,UMOL/KG,,PMOL/L,,PMOL/L,,PMOL/L,,PMOL/L,,ITS-90,FMOL/L,
  74DI20100106,        A05,      51,          1,          1,          1,2,20100118,       1754,   24.49988,  -66.93920,       5699,  5800.0,   2.1053,  34.8497,  34.8512,2,   244.4,2,   57.78,2,    1.57,2,  2213.2,2,  2351.9,2,   23.26,2,     -999.0,1,     -999.0,1,     -999.0,1,     -999.0,1,     1.5457,     -999.0,1
  74DI20100106,        A05,      51,          1,          2,          2,2,20100118,       1754,   24.49988,  -66.93920,       5699,  5354.6,   2.0805,  34.8545,  34.8554,2,   246.1,2,   55.66,2,    1.56,2,  2212.6,2,  2361.1,4,   23.15,2,     -999.0,1,     -999.0,1,     -999.0,1,     -999.0,1,     1.5804,     -999.0,1
  74DI20100106,        A05,      51,          1,          3,          3,2,20100118,       1754,   24.49988,  -66.93920,       5699,  4844.0,   2.2081,  34.8779,  34.8786,2,   253.5,2,   42.93,2,    1.42,2,  2200.3,2,  2338.5,2,   21.20,2,     -999.0,1,     -999.0,1,     -999.0,1,     -999.0,1,     1.7680,     -999.0,1
  74DI20100106,        A05,      51,          1,          4,          4,2,20100118,       1754,   24.49988,  -66.93920,       5699,  4332.9,   2.2812,  34.8926,  34.8957,2,   259.4,2,   34.49,2,    1.32,2,  2188.2,2,  2332.2,2,   19.57,2,     -999.0,1,     -999.0,1,     -999.0,1,     -999.0,1,     1.9005,     -999.0,1
  74DI20100106,        A05,      51,          1,          5,          5,2,20100118,       1754,   24.49988,  -66.93920,       5699,  3820.9,   2.3509,  34.9020,  34.9035,2,   260.9,2,   31.21,2,    1.30,2,  2185.0,2,  2322.5,2,   19.32,2,     -999.0,1,     -999.0,1,     -999.0,1,     -999.0,1,     2.0270,     -999.0,1
  74DI20100106,        A05,      51,          1,          6,          6,2,20100118,       1754,   24.49988,  -66.93920,       5699,  3309.4,   2.5170,  34.9151,  34.9166,2,   261.1,2,   27.88,2,    1.27,2,  2177.6,2,  2325.2,2,   19.01,2,     -999.0,1,     -999.0,1,     -999.0,1,     -999.0,1,     2.2446,     -999.0,1
  74DI20100106,        A05,      51,          1,          7,          7,2,20100118,       1754,   24.49988,  -66.93920,       5699,  2799.0,   2.8021,  34.9367,  34.9368,2,   256.0,2,   26.83,2,    1.30,2,  2177.5,2,  2326.0,2,   19.33,2,     -999.0,1,     -999.0,1,     -999.0,1,     -999.0,1,     2.5762,     -999.0,1
  74DI20100106,        A05,      51,          1,          8,          8,10,20100118,       1754,   24.49988,  -66.93920,       5699,  2544.5,   2.9138,  34.9427,  34.9445,2,   258.4,2,   23.83,2,    1.27,2,  -999.0,9,  -999.0,9,   19.01,2,     -999.0,1,     -999.0,1,     -999.0,1,     -999.0,1,     2.7110,     -999.0,1
  74DI20100106,        A05,      51,          1,          9,          9,2,20100118,       1754,   24.49988,  -66.93920,       5699,  2289.1,   3.2077,  34.9562,  34.9588,2,   256.8,2,   20.32,2,    1.25,2,  2171.2,2,  2319.3,2,   18.80,2,     -999.0,1,     -999.0,1,     -999.0,1,     -999.0,1,     3.0246,     -999.0,1
  74DI20100106,        A05,      51,          1,         10,         10,2,20100118,       1754,   24.49988,  -66.93920,       5699,  2033.1,   3.4846,  34.9674,  34.9681,2,   259.0,2,   17.66,2,    1.23,2,  -999.0,9,  -999.0,9,   18.84,2,     -999.0,1,     -999.0,1,     -999.0,1,     -999.0,1,     3.3216,     -999.0,1
  74DI20100106,        A05,      51,          1,         11,         11,10,20100118,       1754,   24.49988,  -66.93920,       5699,  1778.5,   3.7779,  34.9757,  34.9770,2,   255.9,2,   15.27,2,    1.22,2,  2168.4,2,  2315.5,2,   18.76,2,     -999.0,1,     -999.0,1,     -999.0,1,     -999.0,1,     3.6347,     -999.0,1
  74DI20100106,        A05,      51,          1,         12,         12,2,20100118,       1754,   24.49988,  -66.93920,       5699,  1515.2,   4.6026,  35.0249,  35.0255,2,   241.9,2,   13.92,2,    1.25,2,  -999.0,9,  -999.0,9,   19.37,2,     -999.0,1,     -999.0,1,     -999.0,1,     -999.0,1,     4.4740,     -999.0,1
  74DI20100106,        A05,      51,          1,         13,         13,10,20100118,       1754,   24.49988,  -66.93920,       5699,  1264.5,   5.4097,  35.0665,  35.0673,2,   216.9,2,   15.10,2,    1.37,2,  2183.6,2,  2321.9,2,   21.00,2,     -999.0,1,     -999.0,1,     -999.0,1,     -999.0,1,     5.2970,     -999.0,1
  74DI20100106,        A05,      51,          1,         14,         14,2,20100118,       1754,   24.49988,  -66.93920,       5699,  1013.0,   6.8866,  35.0161,  35.0183,2,   155.8,2,   19.76,2,    1.77,2,  -999.0,9,  -999.0,9,   27.25,2,     -999.0,1,     -999.0,1,     -999.0,1,     -999.0,1,     6.7870,     -999.0,1
  74DI20100106,        A05,      51,          1,         15,         15,2,20100118,       1754,   24.49988,  -66.93920,       5699,   887.0,   8.0360,  35.0900,  35.0826,2,   195.9,4,   18.28,2,    1.76,2,  2204.9,2,  2316.3,2,   27.58,2,     -999.0,1,     -999.0,1,     -999.0,1,     -999.0,1,     7.9419,     -999.0,1
  74DI20100106,        A05,      51,          1,         16,         16,10,20100118,       1754,   24.49988,  -66.93920,       5699,   758.0,  10.2378,  35.3262,  35.3213,2,   138.8,2,   13.12,2,    1.49,2,  -999.0,9,  -999.0,9,   24.07,2,     -999.0,1,     -999.0,1,     -999.0,1,     -999.0,1,    10.1457,     -999.0,1
  74DI20100106,        A05,      51,          1,         17,         17,2,20100118,       1754,   24.49988,  -66.93920,       5699,   631.6,  12.6135,  35.6444,  35.6421,2,   146.8,2,    8.20,2,    1.14,2,  2180.5,2,  2335.4,2,   19.04,2,     -999.0,1,     -999.0,1,     -999.0,1,     -999.0,1,    12.5264,     -999.0,1
  74DI20100106,        A05,      51,          1,         18,         18,2,20100118,       1754,   24.49988,  -66.93920,       5699,   505.5,  15.4093,  36.0756,  36.0674,2,   160.4,2,    4.35,2,    0.71,2,  2154.9,2,  2357.2,2,   12.47,2,     -999.0,1,     -999.0,1,     -999.0,9,     -999.0,9,    15.3300,     -999.0,1
  74DI20100106,        A05,      51,          1,         19,         19,2,20100118,       1754,   24.49988,  -66.93920,       5699,   380.2,  17.5030,  36.4500,  36.4407,2,   186.9,2,    2.17,2,    0.32,2,  -999.0,9,  -999.0,9,    6.44,2,     -999.0,9,     -999.0,9,     -999.0,9,     -999.0,9,    17.4381,     -999.0,9
  74DI20100106,        A05,      51,          1,         20,         20,2,20100118,       1754,   24.49988,  -66.93920,       5699,   253.7,  18.8022,  36.6280,  36.6311,2,   180.7,2,    1.34,2,    0.14,2,  2119.8,2,  2390.8,2,    3.76,2,     -999.0,1,     -999.0,1,     -999.0,9,     -999.0,9,    18.7568,     -999.0,1
  74DI20100106,        A05,      51,          1,         21,         21,2,20100118,       1754,   24.49988,  -66.93920,       5699,   177.4,  20.8545,  36.8781,  36.8825,2,   178.1,2,    0.91,2,    0.04,2,  -999.0,9,  -999.0,9,    1.34,2,     -999.0,9,     -999.0,9,     -999.0,9,     -999.0,9,    20.8204,     -999.0,9
  74DI20100106,        A05,      51,          1,         22,         22,2,20100118,       1754,   24.49988,  -66.93920,       5699,   102.2,  23.8798,  36.8488,  36.8465,2,   213.2,2,    0.86,2,    0.00,2,  2067.6,2,  2403.0,2,    0.00,2,     -999.0,1,     -999.0,1,     -999.0,9,     -999.0,9,    23.8582,     -999.0,1
  74DI20100106,        A05,      51,          1,         23,         23,10,20100118,       1754,   24.49988,  -66.93920,       5699,    51.6,  24.7957,  36.7476,  36.7461,2,   203.7,2,    0.96,2,    0.00,2,  -999.0,9,  -999.0,9,    0.00,2,     -999.0,9,     -999.0,9,     -999.0,9,     -999.0,9,    24.7845,     -999.0,9
  74DI20100106,        A05,      51,          1,         24,         24,10,20100118,       1754,   24.49988,  -66.93920,       5699,     5.3,  25.0243,  36.7149,  36.7128,2,   205.6,2,    0.99,2,    0.00,2,  2042.2,2,  2395.8,2,    0.00,2,     -999.0,1,     -999.0,1,     -999.0,1,     -999.0,1,    25.0232,     -999.0,1
  74DI20100106,        A05,      52,          1,          1,          1,2,20100119,       0147,   24.49907,  -66.21046,       5135,  5217.0,   2.0494,  34.8526,  34.8520,2,   242.8,3,   56.89,2,    1.56,2,  2200.7,2,  2339.7,2,   23.57,2,     -999.0,9,     -999.0,9,     -999.0,9,     -999.0,9,     1.5681,     -999.0,9
  74DI20100106,        A05,      52,          1,          2,          2,2,20100119,       0147,   24.49907,  -66.21046,       5135,  5099.5,   2.0769,  34.8581,  34.8586,2,   247.4,2,   54.22,2,    1.52,2,  2195.7,2,  2339.8,2,   22.91,2,     -999.0,9,     -999.0,9,     -999.0,9,     -999.0,9,     1.6095,     -999.0,9
  74DI20100106,        A05,      52,          1,          3,          3,2,20100119,       0147,   24.49907,  -66.21046,       5135,  4584.5,   2.2441,  34.8856,  34.8858,2,   256.9,2,   39.19,2,    1.37,2,  -999.0,9,  -999.0,9,   20.80,2,     -999.0,9,     -999.0,9,     -999.0,9,     -999.0,9,     1.8346,     -999.0,9
  74DI20100106,        A05,      52,          1,          4,          4,2,20100119,       0147,   24.49907,  -66.21046,       5135,  4073.8,   2.3130,  34.8978,  34.8980,2,   259.5,2,   32.99,2,    1.31,2,  -999.0,9,  -999.0,9,   19.90,2,     -999.0,9,     -999.0,9,     -999.0,9,     -999.0,9,     1.9616,     -999.0,9
  74DI20100106,        A05,      52,          1,          5,          5,2,20100119,       0147,   24.49907,  -66.21046,       5135,  3561.3,   2.4306,  34.9090,  34.9086,2,   260.2,2,   29.46,2,    1.28,2,  -999.0,9,  -999.0,9,   19.33,2,     -999.0,9,     -999.0,9,     -999.0,9,     -999.0,9,     2.1333,     -999.0,9
  74DI20100106,        A05,      52,          1,          6,          6,2,20100119,       0147,   24.49907,  -66.21046,       5135,  3048.2,   2.6820,  34.9283,  34.9301,2,   255.6,2,   28.89,2,    1.32,2,  -999.0,9,  -999.0,9,   19.91,2,     -999.0,1,     -999.0,1,     -999.0,1,     -999.0,1,     2.4332,     -999.0,1
  74DI20100106,        A05,      52,          1,          7,          7,2,20100119,       0147,   24.49907,  -66.21046,       5135,  2543.0,   3.0424,  34.9560,  34.9568,2,   252.5,2,   26.04,2,    1.31,2,  -999.0,9,  -999.0,9,   19.76,2,     -999.0,1,     -999.0,1,     -999.0,1,     -999.0,1,     2.8373,     -999.0,1
  74DI20100106,        A05,      52,          1,          8,          8,2,20100119,       0147,   24.49907,  -66.21046,       5135,  2288.4,   3.2787,  34.9746,  34.9761,2,   250.5,2,   23.60,2,    1.30,2,  -999.0,9,  -999.0,9,   19.71,2,     -999.0,1,     -999.0,1,     -999.0,1,     -999.0,1,     3.0944,     -999.0,1
  74DI20100106,        A05,      52,          1,          9,          9,2,20100119,       0147,   24.49907,  -66.21046,       5135,  2034.6,   3.5994,  34.9913,  34.9917,2,   251.0,2,   19.73,2,    1.28,2,  -999.0,9,  -999.0,9,   19.58,2,     -999.0,1,     -999.0,1,     -999.0,1,     -999.0,1,     3.4344,     -999.0,1
  74DI20100106,        A05,      52,          1,         10,         10,2,20100119,       0147,   24.49907,  -66.21046,       5135,  1777.9,   3.9806,  35.0142,  35.0137,2,   249.5,2,   16.66,2,    1.25,2,  -999.0,9,  -999.0,9,   19.17,2,     -999.0,1,     -999.0,1,     -999.0,1,     -999.0,1,     3.8346,     -999.0,1
  74DI20100106,        A05,      52,          1,         11,         11,2,20100119,       0147,   24.49907,  -66.21046,       5135,  1525.7,   4.3966,  35.0280,  35.0277,2,   245.0,2,   14.47,2,    1.25,2,  -999.0,9,  -999.0,9,   19.27,2,     -999.0,1,     -999.0,1,     -999.0,1,     -999.0,1,     4.2694,     -999.0,1
  74DI20100106,        A05,      52,          1,         12,         12,2,20100119,       0147,   24.49907,  -66.21046,       5135,  1273.8,   5.1800,  35.0631,  35.0615,2,   225.1,2,   14.54,2,    1.32,2,  -999.0,9,  -999.0,9,   20.48,2,     -999.0,1,     -999.0,1,     -999.0,1,     -999.0,1,     5.0685,     -999.0,1
  74DI20100106,        A05,      52,          1,         13,         13,2,20100119,       0147,   24.49907,  -66.21046,       5135,  1022.5,   6.5641,  35.0385,  35.0400,2,   170.0,2,   18.62,2,    1.67,2,  -999.0,9,  -999.0,9,   26.04,2,     -999.0,1,     -999.0,1,     -999.0,1,     -999.0,1,     6.4658,     -999.0,1
  74DI20100106,        A05,      52,          1,         14,         14,2,20100119,       0147,   24.49907,  -66.21046,       5135,   885.6,   7.6257,  35.0464,  35.0481,2,   141.8,2,   19.16,2,    1.80,2,  -999.0,9,  -999.0,9,   28.43,2,     -999.0,9,     -999.0,9,     -999.0,9,     -999.0,9,     7.5345,     -999.0,9
  74DI20100106,        A05,      52,          1,         15,         15,2,20100119,       0147,   24.49907,  -66.21046,       5135,   758.2,  10.0639,  35.2993,-999.0000,9,  -999.0,9,   13.41,2,    1.53,2,  -999.0,9,  -999.0,9,   24.98,2,     -999.0,9,     -999.0,9,     -999.0,9,     -999.0,9,     9.9728,     -999.0,9
  74DI20100106,        A05,      52,          1,         16,         16,2,20100119,       0147,   24.49907,  -66.21046,       5135,   757.6,  10.0817,  35.3020,  35.2991,2,   137.6,2,   13.26,2,    1.52,2,  -999.0,9,  -999.0,9,   24.69,2,     -999.0,9,     -999.0,9,     -999.0,9,     -999.0,9,     9.9905,     -999.0,9
  74DI20100106,        A05,      52,          1,         17,         17,2,20100119,       0147,   24.49907,  -66.21046,       5135,   630.8,  11.8600,  35.4602,  35.4601,2,   125.3,2,   10.25,2,    1.40,2,  -999.0,9,  -999.0,9,   23.12,2,     -999.0,9,     -999.0,9,     -999.0,9,     -999.0,9,    11.7765,     -999.0,9
  74DI20100106,        A05,      52,          1,         18,         18,2,20100119,       0147,   24.49907,  -66.21046,       5135,   504.3,  15.2239,  36.0506,  36.0506,2,   168.0,2,    4.30,2,    0.67,2,  -999.0,9,  -999.0,9,   12.03,2,     -999.0,9,     -999.0,9,     -999.0,9,     -999.0,9,    15.1454,     -999.0,9
  74DI20100106,        A05,      52,          1,         19,         19,2,20100119,       0147,   24.49907,  -66.21046,       5135,   378.8,  17.4473,  36.4424,  36.4396,2,   187.3,2,    2.17,2,    0.31,2,  -999.0,9,  -999.0,9,    6.39,2,     -999.0,9,     -999.0,9,     -999.0,9,     -999.0,9,    17.3827,     -999.0,9
  74DI20100106,        A05,      52,          1,         20,         20,2,20100119,       0147,   24.49907,  -66.21046,       5135,   253.5,  18.6372,  36.6079,  36.6057,2,   185.6,2,    1.41,2,    0.15,2,  -999.0,9,  -999.0,9,    3.91,2,     -999.0,9,     -999.0,9,     -999.0,9,     -999.0,9,    18.5921,     -999.0,9
  74DI20100106,        A05,      52,          1,         21,         21,2,20100119,       0147,   24.49907,  -66.21046,       5135,   176.4,  19.9929,  36.7181,  36.7222,2,   191.5,2,    0.91,2,    0.01,2,  2104.0,2,  2391.4,2,    0.96,2,     -999.0,9,     -999.0,9,     -999.0,9,     -999.0,9,    19.9600,     -999.0,9
  74DI20100106,        A05,      52,          1,         22,         22,2,20100119,       0147,   24.49907,  -66.21046,       5135,   112.1,  22.3226,  36.8444,  36.7718,3,   204.8,2,    0.82,2,    0.00,2,  -999.0,9,  -999.0,9,    0.00,2,     -999.0,9,     -999.0,9,     -999.0,9,     -999.0,9,    22.3000,     -999.0,9
  74DI20100106,        A05,      52,          1,         23,         23,2,20100119,       0147,   24.49907,  -66.21046,       5135,    51.2,  23.5763,  36.7933,  36.7935,2,   207.3,2,    0.94,2,    0.00,2,  2053.4,2,  2407.4,3,    0.00,2,     -999.0,9,     -999.0,9,     -999.0,9,     -999.0,9,    23.5655,     -999.0,9
  74DI20100106,        A05,      52,          1,         24,         24,2,20100119,       0147,   24.49907,  -66.21046,       5135,     4.6,  24.4544,  36.7744,  36.7718,2,   205.6,2,    0.98,2,    0.00,2,  2048.0,2,  2398.7,2,    0.00,2,     -999.0,9,     -999.0,9,     -999.0,9,     -999.0,9,    24.4535,     -999.0,9