BOTTLE,20200115CCHSIOCBG
EXPOCODE,SECT_ID,STNNBR,CASTNO,SAMPNO,BTLNBR,BTLNBR_FLAG_W,DATE,TIME,LATITUDE,LONGITUDE,DEPTH,CTDPRS,CTDTMP,CTDSAL,SALNTY,SALNTY_FLAG_W,OXYGEN,OXYGEN_FLAG_W,SILCAT,SILCAT_FLAG_W,PHSPHT,PHSPHT_FLAG_W,TCARBN,TCARBN_FLAG_W,ALKALI,ALKALI_FLAG_W,NO2+NO3,NO2+NO3_FLAG_W,CFC-11,CFC-11_FLAG_W,CFC-12,CFC-12_FLAG_W,CFC113,CFC113_FLAG_W,CCL4,CCL4_FLAG_W,THETA,SF6,SF6_FLAG_W
,,,,,,,,,,,METERS,DBAR,ITS-90,PSS-78,PSS-78,,UMOL/KG,,UMOL/KG,,UMOL/KG,,UMOL/KG,,UMOL/KG,,UMOL/KG,,PMOL/L,,PMOL/L,,PMOL/L,,PMOL/L,,ITS-90,FMOL/L,
  74DI20100106,        A05,      61,          1,          1,          1,2,20100122,       0429,   24.50617,  -59.62815,       5784,  5887.9,   2.0746,  34.8443,  34.8455,2,   243.3,2,   60.19,2,    1.57,2,  2201.0,2,  2342.5,2,   23.18,2,     -999.0,9,     -999.0,9,     -999.0,9,     -999.0,9,     1.5043,     -999.0,9
  74DI20100106,        A05,      61,          1,          2,          2,2,20100122,       0429,   24.50617,  -59.62815,       5784,  5821.5,   2.0687,  34.8446,  34.8448,2,   242.7,2,   59.73,2,    1.59,2,  2201.6,2,  2342.2,2,   23.70,2,     -999.0,9,     -999.0,9,     -999.0,9,     -999.0,9,     1.5076,     -999.0,9
  74DI20100106,        A05,      61,          1,          3,          3,2,20100122,       0429,   24.50617,  -59.62815,       5784,  5357.4,   2.0302,  34.8482,  34.8481,2,   243.0,2,   58.26,2,    1.55,2,  -999.0,9,  -999.0,9,   23.40,2,     -999.0,9,     -999.0,9,     -999.0,9,     -999.0,9,     1.5316,     -999.0,9
  74DI20100106,        A05,      61,          1,          4,          4,2,20100122,       0429,   24.50617,  -59.62815,       5784,  4843.5,   2.1604,  34.8720,  34.8710,2,   249.2,2,   46.65,2,    1.43,2,  -999.0,9,  -999.0,9,   21.47,2,     -999.0,1,     -999.0,1,     -999.0,1,     -999.0,1,     1.7220,     -999.0,1
  74DI20100106,        A05,      61,          1,          5,          5,2,20100122,       0429,   24.50617,  -59.62815,       5784,  4332.0,   2.2790,  34.8899,  34.8889,2,   253.9,2,   39.93,2,    1.38,2,  -999.0,9,  -999.0,9,   20.41,2,     -999.0,1,     -999.0,1,     -999.0,1,     -999.0,1,     1.8985,     -999.0,1
  74DI20100106,        A05,      61,          1,          6,          6,2,20100122,       0429,   24.50617,  -59.62815,       5784,  3818.2,   2.4051,  34.9032,  34.9020,2,   252.8,2,   37.26,2,    1.36,2,  -999.0,9,  -999.0,9,   20.42,2,     -999.0,1,     -999.0,1,     -999.0,1,     -999.0,1,     2.0800,     -999.0,1
  74DI20100106,        A05,      61,          1,          7,          7,2,20100122,       0429,   24.50617,  -59.62815,       5784,  3307.2,   2.6298,  34.9231,  34.9231,2,   249.9,2,   34.37,2,    1.37,2,  -999.0,9,  -999.0,9,   20.56,2,     -999.0,9,     -999.0,9,     -999.0,9,     -999.0,9,     2.3550,     -999.0,9
  74DI20100106,        A05,      61,          1,          8,          8,2,20100122,       0429,   24.50617,  -59.62815,       5784,  2795.3,   2.9202,  34.9482,  34.9640,2,   247.0,2,   30.32,2,    1.33,2,  -999.0,9,  -999.0,9,   20.28,2,     -999.0,9,     -999.0,9,     -999.0,9,     -999.0,9,     2.6922,     -999.0,9
  74DI20100106,        A05,      61,          1,          9,          9,2,20100122,       0429,   24.50617,  -59.62815,       5784,  2542.7,   3.1139,  34.9638,  34.9635,2,   246.3,2,   27.69,2,    1.32,2,  -999.0,9,  -999.0,9,   20.10,2,     -999.0,9,     -999.0,9,     -999.0,9,     -999.0,9,     2.9075,     -999.0,9
  74DI20100106,        A05,      61,          1,         10,         10,2,20100122,       0429,   24.50617,  -59.62815,       5784,  2288.6,   3.3365,  34.9804,  34.9794,2,   246.9,2,   24.73,2,    1.31,2,  -999.0,9,  -999.0,9,   19.86,2,     -999.0,9,     -999.0,9,     -999.0,9,     -999.0,9,     3.1512,     -999.0,9
  74DI20100106,        A05,      61,          1,         11,         11,10,20100122,       0429,   24.50617,  -59.62815,       5784,  2034.7,   3.6611,  35.0025,  35.0017,2,   246.8,2,   20.76,2,    1.31,2,  -999.0,9,  -999.0,9,   19.38,2,     -999.0,9,     -999.0,9,     -999.0,9,     -999.0,9,     3.4952,     -999.0,9
  74DI20100106,        A05,      61,          1,         12,         12,2,20100122,       0429,   24.50617,  -59.62815,       5784,  1781.9,   4.0209,  35.0175,  35.0157,2,   245.9,2,   16.76,2,    1.27,2,  -999.0,9,  -999.0,9,   19.21,2,     -999.0,9,     -999.0,9,     -999.0,9,     -999.0,9,     3.8740,     -999.0,9
  74DI20100106,        A05,      61,          1,         13,         13,2,20100122,       0429,   24.50617,  -59.62815,       5784,  1529.0,   4.5739,  35.0444,  35.0434,2,   237.5,2,   14.95,2,    1.26,2,  -999.0,9,  -999.0,9,   19.54,2,     -999.0,9,     -999.0,9,     -999.0,9,     -999.0,9,     4.4443,     -999.0,9
  74DI20100106,        A05,      61,          1,         14,         14,2,20100122,       0429,   24.50617,  -59.62815,       5784,  1264.0,   5.3859,  35.0595,  35.0564,2,   204.3,2,   17.08,2,    1.44,2,  -999.0,9,  -999.0,9,   22.37,2,     -999.0,9,     -999.0,9,     -999.0,9,     -999.0,9,     5.2735,     -999.0,9
  74DI20100106,        A05,      61,          1,         15,         15,2,20100122,       0429,   24.50617,  -59.62815,       5784,  1008.6,   6.6166,  35.0425,  35.0414,2,   164.3,2,   19.18,2,    1.68,2,  -999.0,9,  -999.0,9,   26.38,2,     -999.0,9,     -999.0,9,     -999.0,9,     -999.0,9,     6.5194,     -999.0,9
  74DI20100106,        A05,      61,          1,         16,         16,2,20100122,       0429,   24.50617,  -59.62815,       5784,   882.6,   7.7335,  35.0855,  35.0845,2,   142.5,2,   18.72,2,    1.74,2,  -999.0,9,  -999.0,9,   27.57,2,     -999.0,9,     -999.0,9,     -999.0,9,     -999.0,9,     7.6418,     -999.0,9
  74DI20100106,        A05,      61,          1,         17,         17,2,20100122,       0429,   24.50617,  -59.62815,       5784,   756.0,   9.4290,  35.2502,  35.2494,2,   136.8,2,   14.69,2,    1.56,2,  -999.0,9,  -999.0,9,   25.28,2,     -999.0,9,     -999.0,9,     -999.0,9,     -999.0,9,     9.3416,     -999.0,9
  74DI20100106,        A05,      61,          1,         18,         18,2,20100122,       0429,   24.50617,  -59.62815,       5784,   502.7,  14.1380,  35.8932,  35.8893,2,   163.4,2,    5.18,2,    0.81,2,  -999.0,9,  -999.0,9,   13.95,2,     -999.0,9,     -999.0,9,     -999.0,9,     -999.0,9,    14.0635,     -999.0,9
  74DI20100106,        A05,      61,          1,         19,         19,2,20100122,       0429,   24.50617,  -59.62815,       5784,   378.8,  16.3656,  36.2569,  36.2524,2,   173.4,2,    2.92,2,    0.52,2,  -999.0,9,  -999.0,9,    9.16,2,     -999.0,9,     -999.0,9,     -999.0,9,     -999.0,9,    16.3039,     -999.0,9
  74DI20100106,        A05,      61,          1,         20,         20,2,20100122,       0429,   24.50617,  -59.62815,       5784,   251.9,  18.6060,  36.6588,  36.6589,2,   169.4,2,    1.66,2,    0.28,2,  -999.0,9,  -999.0,9,    5.57,2,     -999.0,9,     -999.0,9,     -999.0,9,     -999.0,9,    18.5612,     -999.0,9
  74DI20100106,        A05,      61,          1,         21,         21,2,20100122,       0429,   24.50617,  -59.62815,       5784,   178.0,  20.5931,  36.9145,  36.9143,2,   179.5,2,    0.84,2,    0.03,2,  -999.0,9,  -999.0,9,    1.16,2,     -999.0,9,     -999.0,9,     -999.0,9,     -999.0,9,    20.5591,     -999.0,9
  74DI20100106,        A05,      61,          1,         22,         22,2,20100122,       0429,   24.50617,  -59.62815,       5784,   111.1,  23.7065,  37.1145,  37.1155,2,   208.9,2,    0.72,2,    0.00,2,  2084.4,2,  2420.0,2,    0.00,2,     -999.0,9,     -999.0,9,     -999.0,9,     -999.0,9,    23.6831,     -999.0,9
  74DI20100106,        A05,      61,          1,         23,         23,2,20100122,       0429,   24.50617,  -59.62815,       5784,    50.6,  24.7628,  37.0196,  37.0139,2,   202.2,2,    0.81,2,    0.00,2,  -999.0,9,  -999.0,9,    0.00,2,     -999.0,9,     -999.0,9,     -999.0,9,     -999.0,9,    24.7518,     -999.0,9
  74DI20100106,        A05,      61,          1,         24,         24,2,20100122,       0429,   24.50617,  -59.62815,       5784,     5.3,  24.9980,  36.7393,  36.7646,3,   203.3,2,    0.89,2,    0.00,2,  2045.8,2,  2399.7,2,    0.00,2,     -999.0,9,     -999.0,9,     -999.0,9,     -999.0,9,    24.9969,     -999.0,9
  74DI20100106,        A05,      62,          1,          1,          1,10,20100122,       1256,   24.49800,  -58.89637,       5851,  5957.4,   2.0853,  34.8443,  34.8433,2,   241.0,2,   60.22,2,    1.60,2,  2203.5,2,  2348.4,2,   23.60,2,     -999.0,1,     -999.0,1,     -999.0,1,     -999.0,1,     1.5052,     -999.0,1
  74DI20100106,        A05,      62,          1,          2,          2,2,20100122,       1256,   24.49800,  -58.89637,       5851,  5619.9,   2.0504,  34.8462,  34.8453,2,   243.4,2,   59.13,2,    1.59,2,  2203.7,2,  2349.1,2,   23.75,2,     -999.0,1,     -999.0,1,     -999.0,1,     -999.0,1,     1.5168,     -999.0,1
  74DI20100106,        A05,      62,          1,          3,          3,2,20100122,       1256,   24.49800,  -58.89637,       5851,  5105.5,   2.0982,  34.8603,  34.8591,2,   247.3,2,   52.10,2,    1.52,2,  2195.5,2,  2342.6,2,   23.00,2,     -999.0,1,     -999.0,1,     -999.0,1,     -999.0,1,     1.6293,     -999.0,1
  74DI20100106,        A05,      62,          1,          4,          4,2,20100122,       1256,   24.49800,  -58.89637,       5851,  4591.2,   2.2590,  34.8865,  34.8850,2,   253.7,2,   39.51,2,    1.39,2,  2179.9,2,  2335.3,2,   20.56,2,     -999.0,1,     -999.0,1,     -999.0,1,     -999.0,1,     1.8482,     -999.0,1
  74DI20100106,        A05,      62,          1,          5,          5,2,20100122,       1256,   24.49800,  -58.89637,       5851,  4078.8,   2.3461,  34.8981,  34.8971,2,   254.9,2,   36.11,2,    1.36,2,  2175.4,2,  2332.1,2,   20.14,2,     -999.0,1,     -999.0,1,     -999.0,1,     -999.0,1,     1.9931,     -999.0,1
  74DI20100106,        A05,      62,          1,          6,          6,2,20100122,       1256,   24.49800,  -58.89637,       5851,  3565.3,   2.5190,  34.9136,  34.9138,2,   253.1,2,   33.65,2,    1.35,2,  2171.9,2,  2328.4,2,   20.03,2,     -999.0,1,     -999.0,1,     -999.0,1,     -999.0,1,     2.2190,     -999.0,1
  74DI20100106,        A05,      62,          1,          7,          7,2,20100122,       1256,   24.49800,  -58.89637,       5851,  3055.1,   2.7797,  34.9356,  34.9356,2,   249.5,2,   31.76,2,    1.37,2,  2172.3,2,  2331.0,2,   20.38,2,     -999.0,1,     -999.0,1,     -999.0,1,     -999.0,1,     2.5280,     -999.0,1
  74DI20100106,        A05,      62,          1,          8,          8,2,20100122,       1256,   24.49800,  -58.89637,       5851,  2547.3,   3.0931,  34.9619,  34.9633,2,   246.7,2,   27.75,2,    1.34,2,  2172.7,2,  2327.9,2,   20.28,2,     -999.0,1,     -999.0,1,     -999.0,1,     -999.0,1,     2.8866,     -999.0,1
  74DI20100106,        A05,      62,          1,          9,          9,2,20100122,       1256,   24.49800,  -58.89637,       5851,  2293.2,   3.3310,  34.9811,  34.9817,2,   247.0,2,   24.91,2,    1.33,2,  -999.0,9,  -999.0,9,   20.09,2,     -999.0,1,     -999.0,1,     -999.0,1,     -999.0,1,     3.1453,     -999.0,1
  74DI20100106,        A05,      62,          1,         10,         10,2,20100122,       1256,   24.49800,  -58.89637,       5851,  2039.0,   3.6612,  35.0062,  35.0046,2,   244.3,2,   21.28,2,    1.31,2,  2170.2,2,  2320.2,2,   19.80,2,     -999.0,1,     -999.0,1,     -999.0,1,     -999.0,1,     3.4948,     -999.0,1
  74DI20100106,        A05,      62,          1,         11,         11,2,20100122,       1256,   24.49800,  -58.89637,       5851,  1785.6,   4.0259,  35.0199,  35.0195,2,   244.8,2,   16.98,2,    1.27,2,  -999.0,9,  -999.0,9,   19.28,2,     -999.0,1,     -999.0,1,     -999.0,1,     -999.0,1,     3.8786,     -999.0,1
  74DI20100106,        A05,      62,          1,         12,         12,3,20100122,       1256,   24.49800,  -58.89637,       5851,  1531.5,   4.4480,  35.0297,  35.9972,3,  -999.0,9, -999.00,9, -999.00,9,  -999.0,9,  -999.0,9, -999.00,9,     -999.0,9,     -999.0,9,     -999.0,9,     -999.0,9,     4.3196,     -999.0,9
  74DI20100106,        A05,      62,          1,         13,         13,2,20100122,       1256,   24.49800,  -58.89637,       5851,  1263.8,   5.2632,  35.0532,  35.0521,2,   216.3,2,   15.63,2,    1.39,2,  2177.8,2,  2323.4,2,   21.07,2,     -999.0,1,     -999.0,1,     -999.0,1,     -999.0,1,     5.1519,     -999.0,1
  74DI20100106,        A05,      62,          1,         14,         14,2,20100122,       1256,   24.49800,  -58.89637,       5851,  1010.8,   6.6078,  35.0421,  35.0429,2,   164.8,2,   19.08,2,    1.70,2,  2196.3,2,  2319.0,2,   26.28,2,     -999.0,1,     -999.0,1,     -999.0,1,     -999.0,1,     6.5104,     -999.0,1
  74DI20100106,        A05,      62,          1,         15,         15,2,20100122,       1256,   24.49800,  -58.89637,       5851,   884.9,   7.8065,  35.0975,  35.0949,2,   143.7,2,   18.42,2,    1.75,2,  -999.0,9,  -999.0,9,   27.28,2,     -999.0,1,     -999.0,1,     -999.0,1,     -999.0,1,     7.7141,     -999.0,1
  74DI20100106,        A05,      62,          1,         16,         16,2,20100122,       1256,   24.49800,  -58.89637,       5851,   757.7,   9.5432,  35.2727,  35.2646,2,   140.5,2,   14.30,2,    1.55,2,  2188.1,2,  2322.7,2,   24.81,2,     -999.0,1,     -999.0,1,     -999.0,1,     -999.0,1,     9.4550,     -999.0,1
  74DI20100106,        A05,      62,          1,         17,         17,2,20100122,       1256,   24.49800,  -58.89637,       5851,   631.3,  11.9034,  35.5728,  35.5734,2,   149.9,2,    8.68,2,    1.17,2,  2171.6,2,  2336.0,2,   19.54,2,     -999.0,1,     -999.0,1,     -999.0,1,     -999.0,1,    11.8195,     -999.0,1
  74DI20100106,        A05,      62,          1,         18,         18,3,20100122,       1256,   24.49800,  -58.89637,       5851,   505.7,  14.4793,  35.9511,-999.0000,9,  -999.0,9, -999.00,9, -999.00,9,  -999.0,9,  -999.0,9, -999.00,9,     -999.0,9,     -999.0,9,     -999.0,9,     -999.0,9,    14.4032,     -999.0,9
  74DI20100106,        A05,      62,          1,         19,         19,2,20100122,       1256,   24.49800,  -58.89637,       5851,   378.8,  16.6280,  36.3045,  36.3058,2,   179.2,2,    2.63,2,    0.45,2,  2132.5,2,  2372.7,2,    8.21,2,     -999.0,1,     -999.0,1,     -999.0,1,     -999.0,1,    16.5656,     -999.0,1
  74DI20100106,        A05,      62,          1,         20,         20,2,20100122,       1256,   24.49800,  -58.89637,       5851,   252.8,  18.4912,  36.6263,  36.6263,2,   179.1,2,    1.53,2,    0.22,2,  -999.0,9,  -999.0,9,    4.68,2,     -999.0,9,     -999.0,9,     -999.0,9,     -999.0,9,    18.4465,     -999.0,9
  74DI20100106,        A05,      62,          1,         21,         21,2,20100122,       1256,   24.49800,  -58.89637,       5851,   177.0,  20.6754,  37.0272,  37.0401,2,   173.1,2,    1.03,2,    0.11,2,  2137.6,2,  2416.4,3,    2.26,2,     -999.0,1,     -999.0,1,     -999.0,1,     -999.0,1,    20.6415,     -999.0,1
  74DI20100106,        A05,      62,          1,         22,         22,2,20100122,       1256,   24.49800,  -58.89637,       5851,   101.8,  24.3566,  37.2160,  37.2145,2,   202.7,2,    0.83,2,    0.01,2,  -999.0,9,  -999.0,9,    0.00,2,     -999.0,9,     -999.0,9,     -999.0,9,     -999.0,9,    24.3347,     -999.0,9
  74DI20100106,        A05,      62,          1,         23,         23,2,20100122,       1256,   24.49800,  -58.89637,       5851,    49.4,  25.0619,  37.0545,  37.0497,2,   203.7,2,    0.89,2,    0.00,2,  2058.4,2,  2420.3,2,    0.00,2,     -999.0,1,     -999.0,1,     -999.0,1,     -999.0,1,    25.0511,     -999.0,1
  74DI20100106,        A05,      62,          1,         24,         24,10,20100122,       1256,   24.49800,  -58.89637,       5851,     4.9,  24.9442,  36.8894,  36.8890,2,   203.0,2,    0.92,2,    0.00,2,  2049.6,2,  2412.5,2,    0.00,2,     -999.0,1,     -999.0,1,     -999.0,1,     -999.0,1,    24.9431,     -999.0,1