BOTTLE,20200115CCHSIOCBG
EXPOCODE,SECT_ID,STNNBR,CASTNO,SAMPNO,BTLNBR,BTLNBR_FLAG_W,DATE,TIME,LATITUDE,LONGITUDE,DEPTH,CTDPRS,CTDTMP,CTDSAL,SALNTY,SALNTY_FLAG_W,OXYGEN,OXYGEN_FLAG_W,SILCAT,SILCAT_FLAG_W,PHSPHT,PHSPHT_FLAG_W,TCARBN,TCARBN_FLAG_W,ALKALI,ALKALI_FLAG_W,NO2+NO3,NO2+NO3_FLAG_W,CFC-11,CFC-11_FLAG_W,CFC-12,CFC-12_FLAG_W,CFC113,CFC113_FLAG_W,CCL4,CCL4_FLAG_W,THETA,SF6,SF6_FLAG_W
,,,,,,,,,,,METERS,DBAR,ITS-90,PSS-78,PSS-78,,UMOL/KG,,UMOL/KG,,UMOL/KG,,UMOL/KG,,UMOL/KG,,UMOL/KG,,PMOL/L,,PMOL/L,,PMOL/L,,PMOL/L,,ITS-90,FMOL/L,
  74DI20100106,        A05,     111,          1,          1,         25,2,20100209,       0821,   24.51199,  -26.91182,       5489,  5583.9,   2.4813,  34.8858,  34.8859,2,   239.8,2,   50.06,2,    1.51,2,  -999.0,9,  -999.0,9,   23.22,2,     -999.0,1,     -999.0,1,     -999.0,1,     -999.0,1,     1.9364,     -999.0,1
  74DI20100106,        A05,     111,          1,          2,          2,2,20100209,       0821,   24.51199,  -26.91182,       5489,  5352.1,   2.4504,  34.8862,  34.8849,2,   239.5,2,   50.36,2,    1.51,2,  2201.4,2,  2351.2,2,   23.24,2,     -999.0,1,     -999.0,1,     -999.0,1,     -999.0,1,     1.9373,     -999.0,1
  74DI20100106,        A05,     111,          1,          3,          3,2,20100209,       0821,   24.51199,  -26.91182,       5489,  4835.0,   2.3964,  34.8878,  34.8972,2,   239.2,2,   47.24,3,    1.49,2,  -999.0,9,  -999.0,9,   22.72,2,     -999.0,1,     -999.0,1,     -999.0,1,     -999.0,1,     1.9512,     -999.0,1
  74DI20100106,        A05,     111,          1,          4,          4,2,20100209,       0821,   24.51199,  -26.91182,       5489,  4326.8,   2.3870,  34.8934,  34.8929,2,   239.1,2,   48.33,2,    1.50,2,  -999.0,9,  -999.0,9,   23.22,2,     -999.0,1,     -999.0,1,     -999.0,9,     -999.0,9,     2.0039,     -999.0,1
  74DI20100106,        A05,     111,          1,          5,          5,2,20100209,       0821,   24.51199,  -26.91182,       5489,  3816.9,   2.4501,  34.9049,  34.9049,2,   239.1,2,   45.40,2,    1.48,2,  -999.0,9,  -999.0,9,   22.96,2,     -999.0,1,     -999.0,1,     -999.0,9,     -999.0,9,     2.1240,     -999.0,9
  74DI20100106,        A05,     111,          1,          6,          6,2,20100209,       0821,   24.51199,  -26.91182,       5489,  3305.9,   2.5888,  34.9230,  34.9220,2,   239.3,2,   41.54,2,    1.45,2,  -999.0,9,  -999.0,9,   22.41,2,     -999.0,1,     -999.0,1,     -999.0,1,     -999.0,1,     2.3150,     -999.0,1
  74DI20100106,        A05,     111,          1,          7,          7,2,20100209,       0821,   24.51199,  -26.91182,       5489,  2794.6,   2.9496,  34.9595,  34.9586,2,   238.5,2,   33.81,2,    1.39,2,  -999.0,9,  -999.0,9,   21.68,2,     -999.0,1,     -999.0,1,     -999.0,9,     -999.0,9,     2.7211,     -999.0,1
  74DI20100106,        A05,     111,          1,          8,          8,2,20100209,       0821,   24.51199,  -26.91182,       5489,  2536.2,   3.2397,  34.9874,  34.9870,2,   235.3,2,   30.44,2,    1.41,2,  -999.0,9,  -999.0,9,   21.84,2,     -999.0,9,     -999.0,9,     -999.0,9,     -999.0,9,     3.0315,     -999.0,9
  74DI20100106,        A05,     111,          1,          9,          9,2,20100209,       0821,   24.51199,  -26.91182,       5489,  2281.2,   3.5692,  35.0153,  35.0153,2,   228.1,2,   28.35,2,    1.41,2,  -999.0,9,  -999.0,9,   22.02,2,     -999.0,9,     -999.0,9,     -999.0,9,     -999.0,9,     3.3806,     -999.0,9
  74DI20100106,        A05,     111,          1,         10,         10,2,20100209,       0821,   24.51199,  -26.91182,       5489,  2023.2,   4.0228,  35.0612,  35.0617,2,   218.0,2,   27.06,2,    1.44,2,  -999.0,9,  -999.0,9,   22.36,2,     -999.0,9,     -999.0,9,     -999.0,9,     -999.0,9,     3.8524,     -999.0,9
  74DI20100106,        A05,     111,          1,         11,         11,2,20100209,       0821,   24.51199,  -26.91182,       5489,  1768.2,   4.4675,  35.0992,  35.1010,2,   213.2,2,   23.95,2,    1.43,2,  -999.0,9,  -999.0,9,   22.83,2,     -999.0,9,     -999.0,9,     -999.0,9,     -999.0,9,     4.3158,     -999.0,9
  74DI20100106,        A05,     111,          1,         12,         12,2,20100209,       0821,   24.51199,  -26.91182,       5489,  1516.6,   5.2214,  35.1498,  35.1493,2,   197.6,2,   21.32,2,    1.48,2,  -999.0,9,  -999.0,9,   23.38,2,     -999.0,9,     -999.0,9,     -999.0,9,     -999.0,9,     5.0854,     -999.0,9
  74DI20100106,        A05,     111,          1,         13,         13,2,20100209,       0821,   24.51199,  -26.91182,       5489,  1266.2,   6.3696,  35.2248,  35.2251,2,   176.4,2,   19.04,2,    1.54,2,  -999.0,9,  -999.0,9,   24.38,2,     -999.0,9,     -999.0,9,     -999.0,9,     -999.0,9,     6.2474,     -999.0,9
  74DI20100106,        A05,     111,          1,         14,         14,2,20100209,       0821,   24.51199,  -26.91182,       5489,  1020.2,   7.2369,  35.1710,  35.1711,2,   148.0,2,   18.89,2,    1.69,2,  -999.0,9,  -999.0,9,   27.07,2,     -999.0,9,     -999.0,9,     -999.0,9,     -999.0,9,     7.1337,     -999.0,9
  74DI20100106,        A05,     111,          1,         15,         26,2,20100209,       0821,   24.51199,  -26.91182,       5489,   883.4,   8.1043,  35.2101,  35.2095,2,   129.8,2,   17.89,2,    1.73,2,  -999.0,9,  -999.0,9,   27.85,2,     -999.0,9,     -999.0,9,     -999.0,9,     -999.0,9,     8.0100,     -999.0,9
  74DI20100106,        A05,     111,          1,         16,         16,2,20100209,       0821,   24.51199,  -26.91182,       5489,   761.7,   9.6916,  35.3862,  35.3868,2,   139.3,2,   13.09,2,    1.47,2,  -999.0,9,  -999.0,9,   24.01,2,     -999.0,9,     -999.0,9,     -999.0,9,     -999.0,9,     9.6019,     -999.0,9
  74DI20100106,        A05,     111,          1,         17,         17,2,20100209,       0821,   24.51199,  -26.91182,       5489,   634.4,  11.0371,  35.5251,  35.5262,2,   151.2,2,    9.30,2,    1.21,2,  -999.0,9,  -999.0,9,   20.47,2,     -999.0,9,     -999.0,9,     -999.0,9,     -999.0,9,    10.9567,     -999.0,9
  74DI20100106,        A05,     111,          1,         18,         18,3,20100209,       0821,   24.51199,  -26.91182,       5489,   503.8,  12.6773,  35.7202,-999.0000,9,  -999.0,9,    9.35,4,    1.21,4,  -999.0,9,  -999.0,9,   20.30,4,     -999.0,9,     -999.0,9,     -999.0,9,     -999.0,9,    12.6078,     -999.0,9
  74DI20100106,        A05,     111,          1,         19,         19,2,20100209,       0821,   24.51199,  -26.91182,       5489,   378.7,  14.3765,  35.8965,  35.8994,2,   120.8,3,    6.02,3,    1.06,3,  -999.0,9,  -999.0,9,   17.97,3,     -999.0,1,     -999.0,1,     -999.0,9,     -999.0,9,    14.3200,     -999.0,1
  74DI20100106,        A05,     111,          1,         20,         20,2,20100209,       0821,   24.51199,  -26.91182,       5489,   252.2,  16.6398,  36.2928,  36.2959,2,   133.0,2,    3.91,3,    0.78,3,  -999.0,9,  -999.0,9,   13.35,3,     -999.0,1,     -999.0,1,     -999.0,9,     -999.0,9,    16.5984,     -999.0,1
  74DI20100106,        A05,     111,          1,         21,         21,2,20100209,       0821,   24.51199,  -26.91182,       5489,   177.9,  18.8020,  36.7025,  36.7086,2,   159.6,2,    2.20,3,    0.50,3,  -999.0,9,  -999.0,9,    7.84,3,     -999.0,9,     -999.0,9,     -999.0,9,     -999.0,9,    18.7702,     -999.0,9
  74DI20100106,        A05,     111,          1,         22,         22,2,20100209,       0821,   24.51199,  -26.91182,       5489,   102.1,  22.1196,  37.1941,  37.1958,2,   207.6,2,    0.76,2,    0.01,2,  -999.0,9,  -999.0,9,    0.41,2,     -999.0,1,     -999.0,1,     -999.0,9,     -999.0,9,    22.0991,     -999.0,1
  74DI20100106,        A05,     111,          1,         23,         23,2,20100209,       0821,   24.51199,  -26.91182,       5489,    51.1,  23.2182,  37.2096,  37.2096,2,   207.6,2,    0.64,2,    0.00,2,  -999.0,9,  -999.0,9,    0.00,2,     -999.0,9,     -999.0,9,     -999.0,9,     -999.0,9,    23.2076,     -999.0,9
  74DI20100106,        A05,     111,          1,         24,         24,2,20100209,       0821,   24.51199,  -26.91182,       5489,     4.4,  23.2245,  37.2055,  37.2054,2,   207.8,2,    0.64,2,    0.02,2,  -999.0,9,  -999.0,9,    0.04,2,     -999.0,1,     -999.0,1,     -999.0,1,     -999.0,1,    23.2236,     -999.0,1
  74DI20100106,        A05,     112,          1,          1,         25,2,20100209,       1643,   24.50995,  -26.22501,       5390,  5478.7,   2.4687,  34.8861,  34.8863,2,   239.8,2,   50.14,2,    1.54,2,  -999.0,9,  -999.0,9,   22.73,2,     -999.0,1,     -999.0,1,     -999.0,1,     -999.0,1,     1.9383,     -999.0,1
  74DI20100106,        A05,     112,          1,          2,          2,2,20100209,       1643,   24.50995,  -26.22501,       5390,  5072.2,   2.4206,  34.8868,  34.8866,2,   239.8,2,   50.37,2,    1.53,2,  2203.7,2,  2348.2,2,   22.74,2,     -999.0,1,     -999.0,1,     -999.0,1,     -999.0,1,     1.9447,     -999.0,1
  74DI20100106,        A05,     112,          1,          3,          3,2,20100209,       1643,   24.50995,  -26.22501,       5390,  4573.2,   2.3870,  34.8902,  34.8908,2,   239.5,2,   49.08,2,    1.52,2,  2197.6,2,  2348.8,2,   23.02,2,     -999.0,1,     -999.0,1,     -999.0,1,     -999.0,1,     1.9744,     -999.0,1
  74DI20100106,        A05,     112,          1,          4,          4,3,20100209,       1643,   24.50995,  -26.22501,       5390,  4060.6,   2.4275,  34.9003,-999.0000,9,  -999.0,9,   49.07,3,    1.53,3,  -999.0,9,  -999.0,9,   22.82,3,     -999.0,9,     -999.0,9,     -999.0,9,     -999.0,9,     2.0743,     -999.0,9
  74DI20100106,        A05,     112,          1,          5,          5,2,20100209,       1643,   24.50995,  -26.22501,       5390,  3550.5,   2.5330,  34.9154,  34.9151,2,   239.4,2,   42.90,2,    1.49,2,  2194.9,2,  2342.7,2,   22.27,2,     -999.0,1,     -999.0,1,     -999.0,1,     -999.0,1,     2.2343,     -999.0,1
  74DI20100106,        A05,     112,          1,          6,          6,2,20100209,       1643,   24.50995,  -26.22501,       5390,  3041.5,   2.7736,  34.9418,  34.9409,2,   239.6,2,   36.87,2,    1.44,2,  -999.0,9,  -999.0,9,   21.32,2,     -999.0,1,     -999.0,1,     -999.0,1,     -999.0,1,     2.5234,     -999.0,1
  74DI20100106,        A05,     112,          1,          7,          7,2,20100209,       1643,   24.50995,  -26.22501,       5390,  2531.9,   3.3201,  34.9922,  34.9926,2,   231.8,2,   30.48,2,    1.44,2,  2185.9,2,  2330.5,2,   21.53,2,     -999.0,1,     -999.0,1,     -999.0,1,     -999.0,1,     3.1109,     -999.0,1
  74DI20100106,        A05,     112,          1,          8,          8,2,20100209,       1643,   24.50995,  -26.22501,       5390,  2285.9,   3.6404,  35.0191,  35.0201,2,   227.6,2,   27.42,2,    1.42,2,  -999.0,9,  -999.0,9,   21.56,2,     -999.0,1,     -999.0,1,     -999.0,1,     -999.0,1,     3.4501,     -999.0,1
  74DI20100106,        A05,     112,          1,          9,          9,2,20100209,       1643,   24.50995,  -26.22501,       5390,  2031.2,   4.0467,  35.0555,  35.0559,2,   221.2,2,   25.00,2,    1.45,2,  2183.7,2,  2330.3,2,   21.94,2,     -999.0,1,     -999.0,1,     -999.0,1,     -999.0,1,     3.8752,     -999.0,1
  74DI20100106,        A05,     112,          1,         10,         10,2,20100209,       1643,   24.50995,  -26.22501,       5390,  1773.5,   4.6429,  35.1070,  35.1061,2,   211.6,2,   22.44,2,    1.47,2,  -999.0,9,  -999.0,9,   22.35,2,     -999.0,1,     -999.0,1,     -999.0,1,     -999.0,1,     4.4884,     -999.0,1
  74DI20100106,        A05,     112,          1,         11,         11,2,20100209,       1643,   24.50995,  -26.22501,       5390,  1522.5,   5.3349,  35.1496,  35.1503,2,   196.1,2,   20.72,2,    1.53,2,  2188.5,2,  2335.2,2,   23.56,2,     -999.0,1,     -999.0,1,     -999.0,1,     -999.0,1,     5.1971,     -999.0,1
  74DI20100106,        A05,     112,          1,         12,         12,2,20100209,       1643,   24.50995,  -26.22501,       5390,  1261.1,   6.0500,  35.1407,  35.1402,2,   175.1,2,   19.82,2,    1.65,2,  -999.0,9,  -999.0,9,   25.06,2,     -999.0,1,     -999.0,1,     -999.0,1,     -999.0,1,     5.9314,     -999.0,1
  74DI20100106,        A05,     112,          1,         13,         13,10,20100209,       1643,   24.50995,  -26.22501,       5390,  1009.4,   6.7193,  35.0621,  35.0646,2,   143.2,2,   20.92,2,    1.86,2,  2205.3,2,  2318.3,2,   28.74,2,     -999.0,1,     -999.0,1,     -999.0,1,     -999.0,1,     6.6212,     -999.0,1
  74DI20100106,        A05,     112,          1,         14,         14,2,20100209,       1643,   24.50995,  -26.22501,       5390,   882.7,   7.5787,  35.1131,  35.1137,2,   123.5,2,   19.84,2,    1.90,2,  -999.0,9,  -999.0,9,   29.96,2,     -999.0,1,     -999.0,1,     -999.0,1,     -999.0,1,     7.4880,     -999.0,1
  74DI20100106,        A05,     112,          1,         15,         26,2,20100209,       1643,   24.50995,  -26.22501,       5390,   757.4,   8.9412,  35.2483,  35.2484,2,   118.4,2,   16.03,2,    1.74,2,  -999.0,9,  -999.0,9,   27.95,2,     -999.0,1,     -999.0,1,     -999.0,1,     -999.0,1,     8.8563,     -999.0,1
  74DI20100106,        A05,     112,          1,         16,         16,2,20100209,       1643,   24.50995,  -26.22501,       5390,   630.1,  10.4489,  35.4292,  35.4294,2,   123.7,2,   11.70,2,    1.48,2,  2202.8,2,  2323.9,2,   24.57,2,     -999.0,1,     -999.0,1,     -999.0,1,     -999.0,1,    10.3717,     -999.0,1
  74DI20100106,        A05,     112,          1,         17,         17,2,20100209,       1643,   24.50995,  -26.22501,       5390,   508.2,  12.3093,  35.6568,  35.6575,2,   141.5,2,    7.41,2,    1.13,2,  -999.0,9,  -999.0,9,   19.41,2,     -999.0,9,     -999.0,9,     -999.0,9,     -999.0,9,    12.2406,     -999.0,9
  74DI20100106,        A05,     112,          1,         18,         18,2,20100209,       1643,   24.50995,  -26.22501,       5390,   385.8,  14.2885,  35.9532,  35.9528,2,   157.5,2,    4.59,2,    0.80,2,  2161.3,2,  2352.2,2,   13.71,2,     -999.0,1,     -999.0,1,     -999.0,9,     -999.0,9,    14.2312,     -999.0,1
  74DI20100106,        A05,     112,          1,         19,         19,2,20100209,       1643,   24.50995,  -26.22501,       5390,   257.2,  16.7454,  36.3442,  36.3458,2,   154.1,2,    3.28,2,    0.63,2,  -999.0,9,  -999.0,9,   10.71,2,     -999.0,9,     -999.0,9,     -999.0,9,     -999.0,9,    16.7030,     -999.0,9
  74DI20100106,        A05,     112,          1,         20,         20,2,20100209,       1643,   24.50995,  -26.22501,       5390,   179.9,  19.1030,  36.8842,  36.8867,2,   197.3,2,    1.07,2,    0.11,2,  2133.4,2,  2407.1,2,    2.16,2,     -999.0,1,     -999.0,1,     -999.0,9,     -999.0,9,    19.0704,     -999.0,1
  74DI20100106,        A05,     112,          1,         21,         21,2,20100209,       1643,   24.50995,  -26.22501,       5390,    85.3,  21.6821,  37.1640,  37.1688,2,   211.3,2,    0.74,2,    0.01,2,  2113.0,2,  2425.0,2,    0.00,2,     -999.0,9,     -999.0,9,     -999.0,9,     -999.0,9,    21.6652,     -999.0,9
  74DI20100106,        A05,     112,          1,         22,         22,2,20100209,       1643,   24.50995,  -26.22501,       5390,    85.2,  21.6602,  37.1602,  37.1674,2,  -999.0,9,    0.82,2,    0.00,2,  -999.0,9,  -999.0,9,    0.00,2,     -999.0,9,     -999.0,9,     -999.0,9,     -999.0,9,    21.6433,     -999.0,9
  74DI20100106,        A05,     112,          1,         23,         23,2,20100209,       1643,   24.50995,  -26.22501,       5390,    51.3,  22.7685,  37.2851,  37.2860,2,   209.2,2,    0.64,2,    0.00,2,  2097.2,2,  2433.5,2,    0.00,2,     -999.0,1,     -999.0,1,     -999.0,9,     -999.0,9,    22.7580,     -999.0,1
  74DI20100106,        A05,     112,          1,         24,         24,2,20100209,       1643,   24.50995,  -26.22501,       5390,     5.7,  23.1145,  37.2516,  37.2527,2,   209.4,2,    0.64,2,    0.00,2,  2096.5,2,  2429.0,2,    0.00,2,     -999.0,1,     -999.0,1,     -999.0,1,     -999.0,1,    23.1133,     -999.0,1