BOTTLE,20200115CCHSIOCBG
EXPOCODE,SECT_ID,STNNBR,CASTNO,SAMPNO,BTLNBR,BTLNBR_FLAG_W,DATE,TIME,LATITUDE,LONGITUDE,DEPTH,CTDPRS,CTDTMP,CTDSAL,SALNTY,SALNTY_FLAG_W,OXYGEN,OXYGEN_FLAG_W,SILCAT,SILCAT_FLAG_W,PHSPHT,PHSPHT_FLAG_W,TCARBN,TCARBN_FLAG_W,ALKALI,ALKALI_FLAG_W,NO2+NO3,NO2+NO3_FLAG_W,CFC-11,CFC-11_FLAG_W,CFC-12,CFC-12_FLAG_W,CFC113,CFC113_FLAG_W,CCL4,CCL4_FLAG_W,THETA,SF6,SF6_FLAG_W
,,,,,,,,,,,METERS,DBAR,ITS-90,PSS-78,PSS-78,,UMOL/KG,,UMOL/KG,,UMOL/KG,,UMOL/KG,,UMOL/KG,,UMOL/KG,,PMOL/L,,PMOL/L,,PMOL/L,,PMOL/L,,ITS-90,FMOL/L,
  74DI20100106,        A05,      45,          1,          1,          1,2,20100116,       1710,   25.69898,  -70.26566,       5513,  5609.7,   2.1092,  34.8530,  34.8519,2,   247.1,2,   56.15,2,    1.58,2,  2205.4,2,  2348.7,2,   23.13,2,     -999.0,1,     -999.0,1,     -999.0,1,     -999.0,1,     1.5747,     -999.0,1
  74DI20100106,        A05,      45,          1,          2,          2,2,20100116,       1710,   25.69898,  -70.26566,       5513,  5356.1,   2.2166,  34.8705,  34.8669,2,   251.7,2,   46.30,2,    1.45,2,  2194.4,2,  2341.4,2,   21.65,2,     -999.0,1,     -999.0,1,     -999.0,1,     -999.0,1,     1.7113,     -999.0,1
  74DI20100106,        A05,      45,          1,          3,          3,3,20100116,       1710,   25.69898,  -70.26566,       5513,  4841.7,   2.2975,  34.8867,-999.0000,9,  -999.0,9, -999.00,9, -999.00,9,  -999.0,9,  -999.0,9, -999.00,9,     -999.0,9,     -999.0,9,     -999.0,9,     -999.0,9,     1.8548,     -999.0,9
  74DI20100106,        A05,      45,          1,          4,          4,2,20100116,       1710,   25.69898,  -70.26566,       5513,  4327.8,   2.3074,  34.8932,  34.8923,2,   262.9,2,   31.72,2,    1.30,2,  2179.5,2,  2326.2,2,   19.15,2,     -999.0,1,     -999.0,1,     -999.0,1,     -999.0,1,     1.9266,     -999.0,1
  74DI20100106,        A05,      45,          1,          5,          5,2,20100116,       1710,   25.69898,  -70.26566,       5513,  3818.4,   2.3565,  34.8993,  34.8994,2,   264.0,2,   27.86,2,    1.25,2,  2175.1,2,  2321.8,2,   18.71,2,     -999.0,1,     -999.0,1,     -999.0,1,     -999.0,1,     2.0328,     -999.0,1
  74DI20100106,        A05,      45,          1,          6,          6,2,20100116,       1710,   25.69898,  -70.26566,       5513,  3308.9,   2.5511,  34.9143,  34.9160,2,   262.6,2,   24.82,2,    1.23,2,  2170.8,2,  2318.1,2,   18.53,2,     -999.0,1,     -999.0,1,     -999.0,1,     -999.0,1,     2.2780,     -999.0,1
  74DI20100106,        A05,      45,          1,          7,          7,2,20100116,       1710,   25.69898,  -70.26566,       5513,  2798.0,   2.9138,  34.9369,  34.9411,2,   260.2,2,   21.80,2,    1.23,2,  2169.7,2,  2315.9,2,   18.61,2,     -999.0,1,     -999.0,1,     -999.0,1,     -999.0,1,     2.6857,     -999.0,1
  74DI20100106,        A05,      45,          1,          8,          8,2,20100116,       1710,   25.69898,  -70.26566,       5513,  2543.5,   3.1276,  34.9513,  34.9518,2,   257.8,2,   20.93,2,    1.24,2,  -999.0,9,  -999.0,9,   18.78,2,     -999.0,1,     -999.0,1,     -999.0,1,     -999.0,1,     2.9210,     -999.0,1
  74DI20100106,        A05,      45,          1,          9,          9,2,20100116,       1710,   25.69898,  -70.26566,       5513,  2288.9,   3.3627,  34.9648,  34.9655,2,   257.3,2,   18.98,2,    1.24,2,  2169.1,2,  2315.8,2,   18.72,2,     -999.0,1,     -999.0,1,     -999.0,1,     -999.0,1,     3.1769,     -999.0,1
  74DI20100106,        A05,      45,          1,         10,         10,10,20100116,       1710,   25.69898,  -70.26566,       5513,  2033.6,   3.5556,  34.9637,-999.0000,9,   259.4,2, -999.00,9, -999.00,9,  -999.0,9,  -999.0,9, -999.00,9,     -999.0,9,     -999.0,9,     -999.0,9,     -999.0,9,     3.3914,     -999.0,9
  74DI20100106,        A05,      45,          1,         11,         11,2,20100116,       1710,   25.69898,  -70.26566,       5513,  2034.5,   3.5555,  34.9636,  34.9661,2,   259.2,2,   16.32,2,    1.21,2,  -999.0,9,  -999.0,9,   18.48,2,     -999.0,1,     -999.0,1,     -999.0,1,     -999.0,1,     3.3913,     -999.0,1
  74DI20100106,        A05,      45,          1,         12,         12,2,20100116,       1710,   25.69898,  -70.26566,       5513,  1780.5,   3.7975,  34.9718,  34.9735,2,   259.4,2,   14.42,2,    1.19,2,  2162.9,2,  2312.4,2,   18.46,2,     -999.0,1,     -999.0,1,     -999.0,1,     -999.0,1,     3.6539,     -999.0,1
  74DI20100106,        A05,      45,          1,         13,         13,2,20100116,       1710,   25.69898,  -70.26566,       5513,  1524.5,   4.1958,  34.9956,  34.9959,2,   251.5,2,   13.51,2,    1.20,2,  -999.0,9,  -999.0,9,   18.69,2,     -999.0,1,     -999.0,1,     -999.0,1,     -999.0,1,     4.0711,     -999.0,1
  74DI20100106,        A05,      45,          1,         14,         14,2,20100116,       1710,   25.69898,  -70.26566,       5513,  1272.0,   5.0898,  35.0747,  35.0750,2,   231.4,2,   13.74,2,    1.27,2,  2171.9,2,  2317.8,2,   19.57,2,     -999.0,1,     -999.0,1,     -999.0,1,     -999.0,1,     4.9793,     -999.0,1
  74DI20100106,        A05,      45,          1,         15,         15,2,20100116,       1710,   25.69898,  -70.26566,       5513,  1012.4,   6.4467,  35.0942,  35.0949,2,   189.6,2,   15.70,2,    1.47,2,  -999.0,9,  -999.0,9,   23.03,2,     -999.0,1,     -999.0,1,     -999.0,1,     -999.0,1,     6.3503,     -999.0,1
  74DI20100106,        A05,      45,          1,         16,         16,2,20100116,       1710,   25.69898,  -70.26566,       5513,   883.5,   8.0199,  35.1347,  35.1321,2,   151.1,2,   16.57,2,    1.63,2,  2192.8,2,  2318.5,2,   25.88,2,     -999.0,1,     -999.0,1,     -999.0,1,     -999.0,1,     7.9263,     -999.0,1
  74DI20100106,        A05,      45,          1,         17,         17,2,20100116,       1710,   25.69898,  -70.26566,       5513,   759.4,  10.6921,  35.4107,  35.4109,2,   148.0,2,   11.06,2,    1.33,2,  -999.0,9,  -999.0,9,   21.68,2,     -999.0,1,     -999.0,1,     -999.0,1,     -999.0,1,    10.5973,     -999.0,1
  74DI20100106,        A05,      45,          1,         18,         18,2,20100116,       1710,   25.69898,  -70.26566,       5513,   507.8,  16.2186,  36.2190,  36.2127,2,   175.3,2,    3.29,2,    0.52,2,  2135.7,2,  2365.5,2,    9.71,2,     -999.0,1,     -999.0,1,     -999.0,9,     -999.0,9,    16.1361,     -999.0,1
  74DI20100106,        A05,      45,          1,         19,         19,2,20100116,       1710,   25.69898,  -70.26566,       5513,   379.8,  17.9130,  36.5233,  36.5230,2,   191.4,2,    1.75,2,    0.23,2,  -999.0,9,  -999.0,9,    5.15,2,     -999.0,9,     -999.0,9,     -999.0,9,     -999.0,9,    17.8471,     -999.0,9
  74DI20100106,        A05,      45,          1,         20,         20,2,20100116,       1710,   25.69898,  -70.26566,       5513,   252.2,  18.8041,  36.6205,  36.6204,2,   186.4,2,    1.29,2,    0.14,2,  2117.1,2,  2390.9,2,    3.51,2,     -999.0,1,     -999.0,1,     -999.0,9,     -999.0,9,    18.7589,     -999.0,1
  74DI20100106,        A05,      45,          1,         21,         21,2,20100116,       1710,   25.69898,  -70.26566,       5513,   176.8,  20.2847,  36.7312,  36.7320,2,   190.7,2,    0.84,2,    0.00,2,  -999.0,9,  -999.0,9,    0.91,2,     -999.0,1,     -999.0,1,     -999.0,9,     -999.0,9,    20.2514,     -999.0,1
  74DI20100106,        A05,      45,          1,         22,         22,3,20100116,       1710,   25.69898,  -70.26566,       5513,   101.0,  23.0433,  36.7955,-999.0000,9,  -999.0,9, -999.00,9, -999.00,9,  -999.0,9,  -999.0,9, -999.00,9,     -999.0,9,     -999.0,9,     -999.0,9,     -999.0,9,    23.0225,     -999.0,9
  74DI20100106,        A05,      45,          1,         23,         23,2,20100116,       1710,   25.69898,  -70.26566,       5513,    50.4,  23.5108,  36.7734,  36.7728,2,   206.0,2,    0.93,2,    0.00,2,  2056.1,2,  2398.7,2,    0.00,2,     -999.0,1,     -999.0,1,     -999.0,9,     -999.0,9,    23.5003,     -999.0,1
  74DI20100106,        A05,      45,          1,         24,         24,2,20100116,       1710,   25.69898,  -70.26566,       5513,     5.8,  23.6569,  36.7784,  36.7780,2,   205.8,2,    0.94,2,    0.00,2,  2058.2,2,  2398.4,2,    0.00,2,     -999.0,1,     -999.0,1,     -999.0,1,     -999.0,1,    23.6557,     -999.0,1
  74DI20100106,        A05,      46,          1,          1,          1,2,20100117,       0101,   25.30517,  -69.90275,       5501,  5594.3,   2.0893,  34.8509,  34.8514,2,   242.3,3,   56.40,2,    1.55,2,  2199.3,2,  2346.5,2,   23.09,2,     -999.0,9,     -999.0,9,     -999.0,9,     -999.0,9,     1.5576,     -999.0,9
  74DI20100106,        A05,      46,          1,          2,          2,2,20100117,       0101,   25.30517,  -69.90275,       5501,  5103.3,   2.2451,  34.8778,  34.8811,2,   255.1,2,   41.29,2,    1.40,2,  2183.7,2,  2334.2,2,   20.91,2,     -999.0,9,     -999.0,9,     -999.0,9,     -999.0,9,     1.7713,     -999.0,9
  74DI20100106,        A05,      46,          1,          3,          3,2,20100117,       0101,   25.30517,  -69.90275,       5501,  4588.1,   2.2880,  34.8888,  34.8908,2,   259.7,2,   33.95,2,    1.30,2,  -999.0,9,  -999.0,9,   19.54,2,     -999.0,1,     -999.0,1,     -999.0,1,     -999.0,1,     1.8767,     -999.0,1
  74DI20100106,        A05,      46,          1,          4,          4,2,20100117,       0101,   25.30517,  -69.90275,       5501,  4076.0,   2.3051,  34.8949,  34.8973,2,   262.5,2,   30.69,2,    1.26,2,  -999.0,9,  -999.0,9,   19.05,2,     -999.0,1,     -999.0,1,     -999.0,1,     -999.0,1,     1.9536,     -999.0,1
  74DI20100106,        A05,      46,          1,          5,          5,2,20100117,       0101,   25.30517,  -69.90275,       5501,  3564.6,   2.3921,  34.9042,  34.9065,2,   264.6,2,   27.06,2,    1.23,2,  -999.0,9,  -999.0,9,   18.56,2,     -999.0,1,     -999.0,1,     -999.0,1,     -999.0,1,     2.0954,     -999.0,1
  74DI20100106,        A05,      46,          1,          6,          6,2,20100117,       0101,   25.30517,  -69.90275,       5501,  3053.7,   2.6747,  34.9248,  34.9320,2,   259.2,2,   25.59,2,    1.25,2,  -999.0,9,  -999.0,9,   19.15,2,     -999.0,1,     -999.0,1,     -999.0,1,     -999.0,1,     2.4255,     -999.0,1
  74DI20100106,        A05,      46,          1,          7,          7,2,20100117,       0101,   25.30517,  -69.90275,       5501,  2542.7,   3.0077,  34.9435,  34.9510,2,   259.7,2,   20.97,2,    1.21,2,  -999.0,9,  -999.0,9,   18.60,2,     -999.0,1,     -999.0,1,     -999.0,1,     -999.0,1,     2.8034,     -999.0,1
  74DI20100106,        A05,      46,          1,          8,          8,2,20100117,       0101,   25.30517,  -69.90275,       5501,  2289.2,   3.2343,  34.9569,  34.9586,2,   259.1,2,   19.56,2,    1.23,2,  -999.0,9,  -999.0,9,   18.65,2,     -999.0,1,     -999.0,1,     -999.0,1,     -999.0,1,     3.0508,     -999.0,1
  74DI20100106,        A05,      46,          1,          9,          9,2,20100117,       0101,   25.30517,  -69.90275,       5501,  2034.6,   3.4710,  34.9635,  34.9650,2,   259.3,2,   16.89,2,    1.20,2,  -999.0,9,  -999.0,9,   18.32,2,     -999.0,1,     -999.0,1,     -999.0,1,     -999.0,1,     3.3080,     -999.0,1
  74DI20100106,        A05,      46,          1,         10,         10,2,20100117,       0101,   25.30517,  -69.90275,       5501,  1781.1,   3.7416,  34.9744,  34.9754,2,   257.7,2,   14.48,2,    1.20,2,  -999.0,9,  -999.0,9,   18.59,2,     -999.0,9,     -999.0,9,     -999.0,9,     -999.0,9,     3.5986,     -999.0,9
  74DI20100106,        A05,      46,          1,         11,         11,10,20100117,       0101,   25.30517,  -69.90275,       5501,  1527.7,   4.1878,  35.0077,  35.0113,2,  -999.0,9, -999.00,9, -999.00,9,  -999.0,9,  -999.0,9, -999.00,9,     -999.0,1,     -999.0,1,     -999.0,1,     -999.0,1,     4.0628,     -999.0,1
  74DI20100106,        A05,      46,          1,         12,         12,2,20100117,       0101,   25.30517,  -69.90275,       5501,  1273.9,   4.8976,  35.0496,  35.0524,2,   236.2,2,   13.51,2,    1.24,2,  -999.0,9,  -999.0,9,   19.54,2,     -999.0,1,     -999.0,1,     -999.0,1,     -999.0,1,     4.7888,     -999.0,1
  74DI20100106,        A05,      46,          1,         13,         13,2,20100117,       0101,   25.30517,  -69.90275,       5501,  1022.5,   6.3612,  35.0920,  35.0947,2,   192.3,2,   15.40,2,    1.46,2,  -999.0,9,  -999.0,9,   22.77,2,     -999.0,9,     -999.0,9,     -999.0,9,     -999.0,9,     6.2644,     -999.0,9
  74DI20100106,        A05,      46,          1,         14,         14,2,20100117,       0101,   25.30517,  -69.90275,       5501,   895.9,   7.6610,  35.1179,  35.1226,2,   159.7,2,   16.19,2,    1.58,2,  -999.0,9,  -999.0,9,   25.14,2,     -999.0,1,     -999.0,1,     -999.0,9,     -999.0,1,     7.5684,     -999.0,1
  74DI20100106,        A05,      46,          1,         15,         15,2,20100117,       0101,   25.30517,  -69.90275,       5501,   770.7,  10.1472,  35.3392,  35.3368,2,   145.2,2,   12.49,2,    1.41,2,  -999.0,9,  -999.0,9,   23.11,2,     -999.0,9,     -999.0,9,     -999.0,9,     -999.0,9,    10.0540,     -999.0,9
  74DI20100106,        A05,      46,          1,         16,         16,2,20100117,       0101,   25.30517,  -69.90275,       5501,   769.8,  10.1284,  35.3373,-999.0000,9,   144.9,2,   12.55,3,    1.41,3,  -999.0,9,  -999.0,9,   23.29,3,     -999.0,9,     -999.0,9,     -999.0,9,     -999.0,9,    10.0354,     -999.0,9
  74DI20100106,        A05,      46,          1,         17,         17,2,20100117,       0101,   25.30517,  -69.90275,       5501,   644.0,  12.7660,  35.6673,  35.6789,2,   153.8,2,   12.53,3,    1.41,3,  -999.0,9,  -999.0,9,   23.34,3,     -999.0,9,     -999.0,9,     -999.0,9,     -999.0,9,    12.6764,     -999.0,9
  74DI20100106,        A05,      46,          1,         18,         18,2,20100117,       0101,   25.30517,  -69.90275,       5501,   517.8,  15.5282,  36.0996,  36.1033,2,   169.4,2,    3.87,2,    0.59,2,  -999.0,9,  -999.0,9,   11.31,2,     -999.0,9,     -999.0,9,     -999.0,9,     -999.0,9,    15.4464,     -999.0,9
  74DI20100106,        A05,      46,          1,         19,         19,2,20100117,       0101,   25.30517,  -69.90275,       5501,   391.5,  17.4138,  36.4375,  36.4374,2,   190.3,2,    2.09,2,    0.27,2,  -999.0,9,  -999.0,9,    6.22,2,     -999.0,9,     -999.0,9,     -999.0,9,     -999.0,9,    17.3471,     -999.0,9
  74DI20100106,        A05,      46,          1,         20,         20,2,20100117,       0101,   25.30517,  -69.90275,       5501,   266.1,  18.5534,  36.5980,  36.6008,2,   188.0,2,    1.30,2,    0.09,2,  -999.0,9,  -999.0,9,    3.76,2,     -999.0,9,     -999.0,9,     -999.0,9,     -999.0,9,    18.5062,     -999.0,9
  74DI20100106,        A05,      46,          1,         21,         21,2,20100117,       0101,   25.30517,  -69.90275,       5501,   189.8,  20.1567,  36.7528,  36.7676,2,   185.4,2,    0.85,2,    0.00,2,  -999.0,9,  -999.0,9,    1.22,2,     -999.0,9,     -999.0,9,     -999.0,9,     -999.0,9,    20.1210,     -999.0,9
  74DI20100106,        A05,      46,          1,         22,         22,2,20100117,       0101,   25.30517,  -69.90275,       5501,   115.2,  23.8505,  36.8147,  36.8198,2,   204.5,2,    0.90,2,    0.00,2,  -999.0,9,  -999.0,9,    0.00,2,     -999.0,9,     -999.0,9,     -999.0,9,     -999.0,9,    23.8262,     -999.0,9
  74DI20100106,        A05,      46,          1,         23,         23,2,20100117,       0101,   25.30517,  -69.90275,       5501,    64.2,  24.1768,  36.8396,  36.8430,2,   204.7,2,    0.85,2,    0.00,2,  -999.0,9,  -999.0,9,    0.00,2,     -999.0,9,     -999.0,9,     -999.0,9,     -999.0,9,    24.1631,     -999.0,9
  74DI20100106,        A05,      46,          1,         24,         24,2,20100117,       0101,   25.30517,  -69.90275,       5501,     5.6,  24.1692,  36.8399,  36.8400,2,   204.4,2,    0.55,2,    0.00,2,  -999.0,9,  -999.0,9,    0.00,2,     -999.0,9,     -999.0,9,     -999.0,9,     -999.0,9,    24.1680,     -999.0,9