BOTTLE,20200115CCHSIOCBG
EXPOCODE,SECT_ID,STNNBR,CASTNO,SAMPNO,BTLNBR,BTLNBR_FLAG_W,DATE,TIME,LATITUDE,LONGITUDE,DEPTH,CTDPRS,CTDTMP,CTDSAL,SALNTY,SALNTY_FLAG_W,OXYGEN,OXYGEN_FLAG_W,SILCAT,SILCAT_FLAG_W,PHSPHT,PHSPHT_FLAG_W,TCARBN,TCARBN_FLAG_W,ALKALI,ALKALI_FLAG_W,NO2+NO3,NO2+NO3_FLAG_W,CFC-11,CFC-11_FLAG_W,CFC-12,CFC-12_FLAG_W,CFC113,CFC113_FLAG_W,CCL4,CCL4_FLAG_W,THETA,SF6,SF6_FLAG_W
,,,,,,,,,,,METERS,DBAR,ITS-90,PSS-78,PSS-78,,UMOL/KG,,UMOL/KG,,UMOL/KG,,UMOL/KG,,UMOL/KG,,UMOL/KG,,PMOL/L,,PMOL/L,,PMOL/L,,PMOL/L,,ITS-90,FMOL/L,
  74DI20100106,        A05,      25,          1,          1,          1,2,20100111,       0333,   26.48707,  -76.22495,       4810,  4886.5,   2.2079,  34.8758,  34.8757,2,   251.4,2,   42.04,2,    1.41,2,  2187.8,2,  2335.8,2,   21.02,2,     -999.0,1,     -999.0,1,     -999.0,1,     -999.0,1,     1.7626,     -999.0,1
  74DI20100106,        A05,      25,          1,          2,          2,4,20100111,       0333,   26.48707,  -76.22495,       4810,  4845.2,   2.2060,  34.8762,  35.9837,4,   202.9,4,    6.83,3,    0.62,3,  -999.0,9,  -999.0,9,   10.17,3,     -999.0,9,     -999.0,9,     -999.0,9,     -999.0,9,     1.7659,     -999.0,9
  74DI20100106,        A05,      25,          1,          3,          3,10,20100111,       0333,   26.48707,  -76.22495,       4810,  4328.2,   2.2532,  34.8880,  34.8877,2,   261.4,2,   32.87,2,    1.31,2,  2175.5,2,  2322.6,2,   19.49,2,     -999.0,1,     -999.0,1,     -999.0,1,     -999.0,1,     1.8739,     -999.0,1
  74DI20100106,        A05,      25,          1,          4,          4,3,20100111,       0333,   26.48707,  -76.22495,       4810,  3815.9,   2.2976,  34.8957,  34.9224,4,   262.8,3,   23.47,4,    1.23,3,  -999.0,9,  -999.0,9,   18.93,3,     -999.0,1,     -999.0,1,     -999.0,1,     -999.0,1,     1.9758,     -999.0,1
  74DI20100106,        A05,      25,          1,          5,          5,2,20100111,       0333,   26.48707,  -76.22495,       4810,  3303.8,   2.5424,  34.9134,  34.9131,2,   265.6,2,   23.69,2,    1.22,2,  -999.0,9,  -999.0,9,   18.57,2,     -999.0,1,     -999.0,1,     -999.0,1,     -999.0,1,     2.2700,     -999.0,1
  74DI20100106,        A05,      25,          1,          6,          6,2,20100111,       0333,   26.48707,  -76.22495,       4810,  2979.5,   2.7523,  34.9263,  34.9262,2,   263.8,2,   22.06,2,    1.22,2,  -999.0,9,  -999.0,9,   18.44,2,     -999.0,1,     -999.0,1,     -999.0,1,     -999.0,1,     2.5090,     -999.0,1
  74DI20100106,        A05,      25,          1,          7,          7,10,20100111,       0333,   26.48707,  -76.22495,       4810,  2795.9,   2.9314,  34.9388,  34.9389,2,   261.4,2,   21.64,2,    1.23,2,  -999.0,9,  -999.0,9,   19.07,2,     -999.0,1,     -999.0,1,     -999.0,1,     -999.0,1,     2.7032,     -999.0,9
  74DI20100106,        A05,      25,          1,          8,          8,2,20100111,       0333,   26.48707,  -76.22495,       4810,  2541.9,   3.1733,  34.9519,  34.9523,2,   259.7,2,   19.94,2,    1.24,2,  -999.0,9,  -999.0,9,   19.05,2,     -999.0,1,     -999.0,1,     -999.0,1,     -999.0,1,     2.9660,     -999.0,1
  74DI20100106,        A05,      25,          1,          9,          9,2,20100111,       0333,   26.48707,  -76.22495,       4810,  2288.9,   3.3872,  34.9601,  34.9605,2,   260.3,2,   17.85,2,    1.22,2,  -999.0,9,  -999.0,9,   18.66,2,     -999.0,1,     -999.0,1,     -999.0,1,     -999.0,1,     3.2011,     -999.0,1
  74DI20100106,        A05,      25,          1,         10,         10,2,20100111,       0333,   26.48707,  -76.22495,       4810,  2033.9,   3.6032,  34.9609,  34.9611,2,   260.7,2,   15.33,2,    1.20,2,  -999.0,9,  -999.0,9,   18.49,2,     -999.0,1,     -999.0,1,     -999.0,1,     -999.0,1,     3.4383,     -999.0,1
  74DI20100106,        A05,      25,          1,         11,         11,3,20100111,       0333,   26.48707,  -76.22495,       4810,  1781.0,   3.9161,  34.9778,-999.0000,9,  -999.0,9,   13.82,3,    1.19,3,  -999.0,9,  -999.0,9,   18.59,3,     -999.0,9,     -999.0,9,     -999.0,9,     -999.0,9,     3.7708,     -999.0,9
  74DI20100106,        A05,      25,          1,         12,         12,2,20100111,       0333,   26.48707,  -76.22495,       4810,  1525.2,   4.2451,  34.9910,  34.9927,2,   253.0,2,   12.74,2,    1.20,2,  -999.0,9,  -999.0,9,   18.94,2,     -999.0,1,     -999.0,1,     -999.0,1,     -999.0,1,     4.1197,     -999.0,1
  74DI20100106,        A05,      25,          1,         13,         13,2,20100111,       0333,   26.48707,  -76.22495,       4810,  1273.9,   4.9954,  35.0430,  35.0447,2,   234.8,2,   13.17,2,    1.26,2,  -999.0,9,  -999.0,9,   19.99,2,     -999.0,1,     -999.0,1,     -999.0,1,     -999.0,1,     4.8857,     -999.0,1
  74DI20100106,        A05,      25,          1,         14,         14,2,20100111,       0333,   26.48707,  -76.22495,       4810,  1020.8,   6.7496,  35.0693,  35.0713,2,   174.6,2,   16.77,2,    1.58,2,  -999.0,9,  -999.0,9,   25.51,2,     -999.0,1,     -999.0,1,     -999.0,1,     -999.0,1,     6.6501,     -999.0,1
  74DI20100106,        A05,      25,          1,         15,         15,10,20100111,       0333,   26.48707,  -76.22495,       4810,   882.9,   8.9809,  35.2251,  35.2262,2,  -999.0,9,   14.30,2,    1.53,2,  -999.0,9,  -999.0,9,   25.15,2,     -999.0,1,     -999.0,1,     -999.0,1,     -999.0,1,     8.8810,     -999.0,1
  74DI20100106,        A05,      25,          1,         16,         16,2,20100111,       0333,   26.48707,  -76.22495,       4810,   752.9,  11.3597,  35.4641,  35.4623,2,   142.1,2,   10.29,2,    1.30,2,  -999.0,9,  -999.0,9,   21.83,2,     -999.0,9,     -999.0,9,     -999.0,9,     -999.0,9,    11.2621,     -999.0,9
  74DI20100106,        A05,      25,          1,         17,         17,10,20100111,       0333,   26.48707,  -76.22495,       4810,   630.4,  13.9065,  35.8364,  35.8379,2,  -999.0,9,    5.93,2,    0.89,2,  -999.0,9,  -999.0,9,   15.82,2,     -999.0,1,     -999.0,1,     -999.0,1,     -999.0,9,    13.8138,     -999.0,1
  74DI20100106,        A05,      25,          1,         18,         18,10,20100111,       0333,   26.48707,  -76.22495,       4810,   505.7,  16.6858,  36.3019,  36.3029,2,   179.8,2,    2.81,2,    0.45,2,  -999.0,9,  -999.0,9,    8.67,2,     -999.0,1,     -999.0,1,     -999.0,9,     -999.0,9,    16.6020,     -999.0,1
  74DI20100106,        A05,      25,          1,         19,         19,2,20100111,       0333,   26.48707,  -76.22495,       4810,   379.5,  17.9467,  36.5272,  36.5791,4,   193.2,2,    1.57,2,    0.16,2,  -999.0,9,  -999.0,9,    3.82,2,     -999.0,9,     -999.0,9,     -999.0,9,     -999.0,9,    17.8807,     -999.0,9
  74DI20100106,        A05,      25,          1,         20,         20,2,20100111,       0333,   26.48707,  -76.22495,       4810,   254.3,  19.1672,  36.6410,  36.6420,2,   192.3,2,    1.23,2,    0.07,2,  -999.0,9,  -999.0,9,    2.54,2,     -999.0,1,     -999.0,1,     -999.0,9,     -999.0,9,    19.1210,     -999.0,1
  74DI20100106,        A05,      25,          1,         21,         21,2,20100111,       0333,   26.48707,  -76.22495,       4810,   178.9,  20.1990,  36.7091,  36.7108,2,   200.6,2,    0.84,2,    0.00,2,  -999.0,9,  -999.0,9,    0.75,2,     -999.0,9,     -999.0,9,     -999.0,9,     -999.0,9,    20.1654,     -999.0,9
  74DI20100106,        A05,      25,          1,         22,         22,2,20100111,       0333,   26.48707,  -76.22495,       4810,   119.7,  22.6998,  36.8338,  36.8342,2,   199.6,2,    0.89,2,    0.00,2,  -999.0,9,  -999.0,9,    0.19,2,     -999.0,1,     -999.0,1,     -999.0,1,     -999.0,1,    22.6754,     -999.0,1
  74DI20100106,        A05,      25,          1,         23,         23,2,20100111,       0333,   26.48707,  -76.22495,       4810,    54.3,  23.4330,  36.7379,  36.7376,2,   206.4,2,    0.97,2,    0.00,2,  -999.0,9,  -999.0,9,    0.00,2,     -999.0,9,     -999.0,9,     -999.0,9,     -999.0,9,    23.4217,     -999.0,9
  74DI20100106,        A05,      25,          1,         24,         24,10,20100111,       0333,   26.48707,  -76.22495,       4810,     8.2,  23.4103,  36.7386,  36.7384,2,   205.8,2,    0.09,2,    0.00,2,  -999.0,9,  -999.0,9,    0.00,2,     -999.0,1,     -999.0,1,     -999.0,1,     -999.0,1,    23.4086,     -999.0,1
  74DI20100106,        A05,      26,          1,          1,          1,2,20100111,       1520,   26.49578,  -76.10870,       4805,  4879.0,   2.1743,  34.8718,  34.8719,2,   252.1,2,   45.67,2,    1.42,2,  2188.2,2,  2324.3,3,   24.51,2,     -999.0,1,     -999.0,1,     -999.0,1,     -999.0,1,     1.7311,     -999.0,1
  74DI20100106,        A05,      26,          1,          2,          2,2,20100111,       1520,   26.49578,  -76.10870,       4805,  4879.8,   2.1743,  34.8718,  34.8717,2,   253.4,2,   44.50,2,    1.42,2,  2192.5,2,  2335.4,2,   21.44,2,     -999.0,9,     -999.0,9,     -999.0,9,     -999.0,9,     1.7310,     -999.0,9
  74DI20100106,        A05,      26,          1,          3,          3,2,20100111,       1520,   26.49578,  -76.10870,       4805,  4580.2,   2.2328,  34.8833,  34.8824,2,   259.4,2,   36.26,2,    1.34,2,  2180.8,2,  2329.6,2,   19.93,2,     -999.0,1,     -999.0,1,     -999.0,1,     -999.0,1,     1.8242,     -999.0,1
  74DI20100106,        A05,      26,          1,          4,          4,2,20100111,       1520,   26.49578,  -76.10870,       4805,  4069.4,   2.2665,  34.8915,  34.8908,2,   263.2,2,   31.10,2,    1.27,2,  2173.2,2,  2323.4,2,   19.03,2,     -999.0,1,     -999.0,1,     -999.0,1,     -999.0,1,     1.9169,     -999.0,1
  74DI20100106,        A05,      26,          1,          5,          5,2,20100111,       1520,   26.49578,  -76.10870,       4805,  3561.3,   2.3737,  34.9021,  34.9010,2,   265.6,2,   26.33,2,    1.22,2,  2171.7,2,  2317.5,2,   18.59,2,     -999.0,1,     -999.0,1,     -999.0,1,     -999.0,1,     2.0779,     -999.0,1
  74DI20100106,        A05,      26,          1,          6,          6,2,20100111,       1520,   26.49578,  -76.10870,       4805,  3049.2,   2.6894,  34.9222,  34.9218,2,   264.6,2,   22.17,2,    1.21,2,  2162.8,2,  2317.0,2,   18.53,2,     -999.0,1,     -999.0,1,     -999.0,1,     -999.0,1,     2.4403,     -999.0,1
  74DI20100106,        A05,      26,          1,          7,          7,2,20100111,       1520,   26.49578,  -76.10870,       4805,  2538.7,   3.1476,  34.9506,  34.9502,2,   260.5,2,   19.88,2,    1.22,2,  2159.9,2,  2305.7,2,   19.09,2,     -999.0,1,     -999.0,1,     -999.0,1,     -999.0,1,     2.9411,     -999.0,1
  74DI20100106,        A05,      26,          1,          8,          8,2,20100111,       1520,   26.49578,  -76.10870,       4805,  2282.5,   3.3639,  34.9590,  34.9582,2,   259.4,2,   17.71,2,    1.21,2,  -999.0,9,  -999.0,9,   18.83,2,     -999.0,1,     -999.0,1,     -999.0,1,     -999.0,1,     3.1788,     -999.0,1
  74DI20100106,        A05,      26,          1,          9,          9,2,20100111,       1520,   26.49578,  -76.10870,       4805,  2030.8,   3.6138,  34.9631,  34.9623,2,   260.3,2,   15.23,2,    1.19,2,  2162.6,2,  2312.0,2,   18.69,2,     -999.0,1,     -999.0,1,     -999.0,1,     -999.0,1,     3.4491,     -999.0,1
  74DI20100106,        A05,      26,          1,         10,         10,2,20100111,       1520,   26.49578,  -76.10870,       4805,  1778.7,   3.8977,  34.9760,  34.9754,2,   258.4,2,   13.80,2,    1.19,2,  -999.0,9,  -999.0,9,   18.82,2,     -999.0,1,     -999.0,1,     -999.0,1,     -999.0,1,     3.7529,     -999.0,1
  74DI20100106,        A05,      26,          1,         11,         11,10,20100111,       1520,   26.49578,  -76.10870,       4805,  1523.6,   4.2664,  34.9979,  34.9973,2,   251.6,2,   12.70,2,    1.20,2,  2157.4,2,  2306.6,2,   18.91,2,     -999.0,1,     -999.0,1,     -999.0,1,     -999.0,1,     4.1410,     -999.0,1
  74DI20100106,        A05,      26,          1,         12,         12,3,20100111,       1520,   26.49578,  -76.10870,       4805,  1269.1,   5.1024,  35.0385,-999.0000,9,  -999.0,9,    3.63,3,    0.34,3,  -999.0,9,  -999.0,9,    6.05,3,     -999.0,9,     -999.0,9,     -999.0,9,     -999.0,9,     4.9921,     -999.0,9
  74DI20100106,        A05,      26,          1,         13,         13,2,20100111,       1520,   26.49578,  -76.10870,       4805,  1020.8,   6.7880,  35.0762,  35.0763,2,   176.4,2,   16.24,2,    1.55,2,  2186.6,2,  2314.8,2,   24.34,2,     -999.0,1,     -999.0,1,     -999.0,1,     -999.0,1,     6.6882,     -999.0,1
  74DI20100106,        A05,      26,          1,         14,         14,2,20100111,       1520,   26.49578,  -76.10870,       4805,   892.7,   8.7278,  35.2015,  35.2017,2,   149.6,2,   15.46,2,    1.56,2,  2188.1,2,  2317.8,2,   24.97,2,     -999.0,1,     -999.0,1,     -999.0,1,     -999.0,1,     8.6284,     -999.0,1
  74DI20100106,        A05,      26,          1,         15,         15,10,20100111,       1520,   26.49578,  -76.10870,       4805,   766.1,  11.2098,  35.4528,  35.4565,2,   144.6,2,   10.36,2,    1.36,2,  2177.8,2,  2325.2,2,   21.83,2,     -999.0,1,     -999.0,1,     -999.0,1,     -999.0,1,    11.1113,     -999.0,1
  74DI20100106,        A05,      26,          1,         16,         16,10,20100111,       1520,   26.49578,  -76.10870,       4805,   767.3,  11.2178,  35.4537,  35.4573,2,   145.0,2,   10.45,2,    1.34,2,  -999.0,9,  -999.0,9,   21.39,2,     -999.0,9,     -999.0,9,     -999.0,9,     -999.0,9,    11.1191,     -999.0,9
  74DI20100106,        A05,      26,          1,         17,         17,10,20100111,       1520,   26.49578,  -76.10870,       4805,   640.5,  13.8152,  35.8224,  35.8247,2,   155.5,2,    5.97,2,    0.92,2,  2160.5,2,  2344.1,2,   15.93,2,     -999.0,1,     -999.0,1,     -999.0,1,     -999.0,9,    13.7214,     -999.0,1
  74DI20100106,        A05,      26,          1,         18,         18,2,20100111,       1520,   26.49578,  -76.10870,       4805,   509.5,  16.5915,  36.2842,  36.2846,2,   179.1,2,    2.84,2,    0.45,2,  -999.0,9,  -999.0,9,    8.75,2,     -999.0,1,     -999.0,1,     -999.0,1,     -999.0,1,    16.5074,     -999.0,1
  74DI20100106,        A05,      26,          1,         19,         19,10,20100111,       1520,   26.49578,  -76.10870,       4805,   378.1,  17.9765,  36.5309,  36.5306,2,   191.4,2,    1.70,2,    0.22,2,  2114.5,2,  2382.6,2,    5.18,2,     -999.0,1,     -999.0,1,     -999.0,1,     -999.0,1,    17.9107,     -999.0,1
  74DI20100106,        A05,      26,          1,         20,         20,2,20100111,       1520,   26.49578,  -76.10870,       4805,   252.4,  19.1021,  36.6460,  36.6470,2,   184.7,2,    1.19,2,    0.08,2,  -999.0,9,  -999.0,9,    2.95,2,     -999.0,9,     -999.0,9,     -999.0,9,     -999.0,9,    19.0564,     -999.0,9
  74DI20100106,        A05,      26,          1,         21,         21,2,20100111,       1520,   26.49578,  -76.10870,       4805,   177.2,  20.3303,  36.7336,  36.7343,2,   192.7,2,    0.84,2,    0.00,2,  2101.4,2,  2397.0,2,    1.08,2,     -999.0,1,     -999.0,1,     -999.0,1,     -999.0,1,    20.2968,     -999.0,1
  74DI20100106,        A05,      26,          1,         22,         22,2,20100111,       1520,   26.49578,  -76.10870,       4805,   107.1,  23.3872,  36.7596,  36.7575,2,   206.3,2,    0.94,2,    0.00,2,  -999.0,9,  -999.0,9,    0.00,2,     -999.0,9,     -999.0,9,     -999.0,9,     -999.0,9,    23.3649,     -999.0,9
  74DI20100106,        A05,      26,          1,         23,         23,2,20100111,       1520,   26.49578,  -76.10870,       4805,    51.2,  23.4314,  36.7514,  36.7505,2,   206.1,2,    0.90,2,    0.00,2,  2054.5,2,  2393.3,2,    0.00,2,     -999.0,1,     -999.0,1,     -999.0,1,     -999.0,1,    23.4207,     -999.0,1
  74DI20100106,        A05,      26,          1,         24,         24,2,20100111,       1520,   26.49578,  -76.10870,       4805,    10.9,  23.4168,  36.7526,  36.7516,2,   206.8,2,    0.89,2,    0.00,2,  2053.0,2,  2393.5,2,    0.00,2,     -999.0,9,     -999.0,9,     -999.0,9,     -999.0,9,    23.4145,     -999.0,9