BOTTLE,20200115CCHSIOCBG
EXPOCODE,SECT_ID,STNNBR,CASTNO,SAMPNO,BTLNBR,BTLNBR_FLAG_W,DATE,TIME,LATITUDE,LONGITUDE,DEPTH,CTDPRS,CTDTMP,CTDSAL,SALNTY,SALNTY_FLAG_W,OXYGEN,OXYGEN_FLAG_W,SILCAT,SILCAT_FLAG_W,PHSPHT,PHSPHT_FLAG_W,TCARBN,TCARBN_FLAG_W,ALKALI,ALKALI_FLAG_W,NO2+NO3,NO2+NO3_FLAG_W,CFC-11,CFC-11_FLAG_W,CFC-12,CFC-12_FLAG_W,CFC113,CFC113_FLAG_W,CCL4,CCL4_FLAG_W,THETA,SF6,SF6_FLAG_W
,,,,,,,,,,,METERS,DBAR,ITS-90,PSS-78,PSS-78,,UMOL/KG,,UMOL/KG,,UMOL/KG,,UMOL/KG,,UMOL/KG,,UMOL/KG,,PMOL/L,,PMOL/L,,PMOL/L,,PMOL/L,,ITS-90,FMOL/L,
  74DI20100106,        A05,      73,          1,          1,          1,2,20100127,       1410,   25.02216,  -51.75318,       6038,  6150.9,   2.1930,  34.8527,  34.8532,2,   243.3,2,   56.48,2,    1.59,2,  2200.9,2,  2342.8,2,   22.86,2,     -999.0,9,     -999.0,9,     -999.0,9,     -999.0,9,     1.5820,     -999.0,9
  74DI20100106,        A05,      73,          1,          2,          2,2,20100127,       1410,   25.02216,  -51.75318,       6038,  5864.7,   2.1530,  34.8532,  34.8527,2,   243.8,2,   56.31,2,    1.59,2,  2200.3,2,  2342.6,2,   25.48,4,     -999.0,9,     -999.0,9,     -999.0,9,     -999.0,9,     1.5828,     -999.0,9
  74DI20100106,        A05,      73,          1,          3,          3,2,20100127,       1410,   25.02216,  -51.75318,       6038,  5352.4,   2.1056,  34.8560,  34.8543,2,   245.3,2,   54.82,2,    1.59,2,  2201.6,2,  2343.4,2,   23.15,2,     -999.0,9,     -999.0,9,     -999.0,9,     -999.0,9,     1.6049,     -999.0,9
  74DI20100106,        A05,      73,          1,          4,          4,2,20100127,       1410,   25.02216,  -51.75318,       6038,  4840.4,   2.1342,  34.8658,  34.8650,2,   246.6,2,   51.67,2,    1.54,2,  -999.0,9,  -999.0,9,   22.79,2,     -999.0,9,     -999.0,9,     -999.0,9,     -999.0,9,     1.6971,     -999.0,9
  74DI20100106,        A05,      73,          1,          5,          5,2,20100127,       1410,   25.02216,  -51.75318,       6038,  4323.0,   2.1794,  34.8767,  34.8750,2,   247.8,2,   47.98,2,    1.51,2,  -999.0,9,  -999.0,9,   22.58,2,     -999.0,9,     -999.0,9,     -999.0,9,     -999.0,9,     1.8030,     -999.0,9
  74DI20100106,        A05,      73,          1,          6,          6,2,20100127,       1410,   25.02216,  -51.75318,       6038,  3811.1,   2.3261,  34.8951,  34.8957,2,   249.5,2,   42.51,2,    1.44,2,  -999.0,9,  -999.0,9,   21.72,2,     -999.0,9,     -999.0,9,     -999.0,9,     -999.0,9,     2.0040,     -999.0,9
  74DI20100106,        A05,      73,          1,          7,          7,2,20100127,       1410,   25.02216,  -51.75318,       6038,  3302.2,   2.6236,  34.9228,  34.9223,2,   246.9,2,   37.56,2,    1.42,2,  -999.0,9,  -999.0,9,   21.62,2,     -999.0,9,     -999.0,9,     -999.0,9,     -999.0,9,     2.3494,     -999.0,9
  74DI20100106,        A05,      73,          1,          8,          8,2,20100127,       1410,   25.02216,  -51.75318,       6038,  2787.7,   2.9472,  34.9519,  34.9509,2,   244.3,2,   32.83,2,    1.40,2,  -999.0,9,  -999.0,9,   20.91,2,     -999.0,9,     -999.0,9,     -999.0,9,     -999.0,9,     2.7195,     -999.0,9
  74DI20100106,        A05,      73,          1,          9,          9,2,20100127,       1410,   25.02216,  -51.75318,       6038,  2536.5,   3.1234,  34.9673,  34.9663,2,   243.5,2,   30.12,2,    1.38,2,  -999.0,9,  -999.0,9,   20.98,2,     -999.0,9,     -999.0,9,     -999.0,9,     -999.0,9,     2.9175,     -999.0,9
  74DI20100106,        A05,      73,          1,         10,         10,2,20100127,       1410,   25.02216,  -51.75318,       6038,  2285.4,   3.4006,  34.9911,  34.9908,2,   242.8,2,   26.47,2,    1.36,2,  -999.0,9,  -999.0,9,   20.43,2,     -999.0,9,     -999.0,9,     -999.0,9,     -999.0,9,     3.2145,     -999.0,9
  74DI20100106,        A05,      73,          1,         11,         11,2,20100127,       1410,   25.02216,  -51.75318,       6038,  2024.9,   3.8420,  35.0287,  35.0268,2,   239.2,2,   22.57,2,    1.34,2,  -999.0,9,  -999.0,9,   20.10,2,     -999.0,9,     -999.0,9,     -999.0,9,     -999.0,9,     3.6743,     -999.0,9
  74DI20100106,        A05,      73,          1,         12,         12,2,20100127,       1410,   25.02216,  -51.75318,       6038,  1765.8,   4.4535,  35.0728,  35.0727,2,   234.5,2,   18.74,2,    1.32,2,  -999.0,9,  -999.0,9,   20.29,2,     -999.0,9,     -999.0,9,     -999.0,9,     -999.0,9,     4.3024,     -999.0,9
  74DI20100106,        A05,      73,          1,         13,         13,2,20100127,       1410,   25.02216,  -51.75318,       6038,  1520.9,   4.8901,  35.0757,  35.0760,2,   226.9,2,   16.37,2,    1.34,2,  -999.0,9,  -999.0,9,   20.53,2,     -999.0,9,     -999.0,9,     -999.0,9,     -999.0,9,     4.7576,     -999.0,9
  74DI20100106,        A05,      73,          1,         14,         14,2,20100127,       1410,   25.02216,  -51.75318,       6038,  1262.6,   5.5630,  35.0583,  35.0586,2,   202.1,2,   17.35,2,    1.48,2,  -999.0,9,  -999.0,9,   23.01,2,     -999.0,9,     -999.0,9,     -999.0,9,     -999.0,9,     5.4490,     -999.0,9
  74DI20100106,        A05,      73,          1,         15,         15,10,20100127,       1410,   25.02216,  -51.75318,       6038,  1012.3,   6.8091,  35.0056,  35.0053,2,   148.0,2,   20.94,2,    1.84,2,  -999.0,9,  -999.0,9,   28.46,2,     -999.0,9,     -999.0,9,     -999.0,9,     -999.0,9,     6.7102,     -999.0,9
  74DI20100106,        A05,      73,          1,         16,         16,2,20100127,       1410,   25.02216,  -51.75318,       6038,   887.7,   8.0927,  35.1160,  35.1165,2,   137.5,2,   17.92,2,    1.74,2,  -999.0,9,  -999.0,9,   26.47,2,     -999.0,9,     -999.0,9,     -999.0,9,     -999.0,9,     7.9982,     -999.0,9
  74DI20100106,        A05,      73,          1,         17,         17,2,20100127,       1410,   25.02216,  -51.75318,       6038,   759.8,   9.9609,  35.3442,  35.3449,2,   140.4,2,   13.39,2,    1.48,2,  -999.0,9,  -999.0,9,   24.13,2,     -999.0,9,     -999.0,9,     -999.0,9,     -999.0,9,     9.8701,     -999.0,9
  74DI20100106,        A05,      73,          1,         18,         18,2,20100127,       1410,   25.02216,  -51.75318,       6038,   505.9,  14.4483,  35.9497,  35.9494,2,   171.9,2,    4.67,2,    0.73,2,  -999.0,9,  -999.0,9,   12.42,2,     -999.0,9,     -999.0,9,     -999.0,9,     -999.0,9,    14.3723,     -999.0,9
  74DI20100106,        A05,      73,          1,         19,         19,2,20100127,       1410,   25.02216,  -51.75318,       6038,   380.6,  16.6661,  36.3094,  36.3101,2,   186.4,2,    2.75,2,    0.40,2,  -999.0,9,  -999.0,9,    7.35,2,     -999.0,9,     -999.0,9,     -999.0,9,     -999.0,9,    16.6033,     -999.0,9
  74DI20100106,        A05,      73,          1,         20,         20,2,20100127,       1410,   25.02216,  -51.75318,       6038,   254.2,  18.0711,  36.5466,  36.5463,2,   195.4,2,    1.77,2,    0.21,2,  -999.0,9,  -999.0,9,    4.26,2,     -999.0,9,     -999.0,9,     -999.0,9,     -999.0,9,    18.0268,     -999.0,9
  74DI20100106,        A05,      73,          1,         21,         21,2,20100127,       1410,   25.02216,  -51.75318,       6038,   176.9,  19.6754,  36.7672,  36.7681,2,   184.1,2,    1.16,2,    0.00,2,  -999.0,9,  -999.0,9,    1.37,2,     -999.0,9,     -999.0,9,     -999.0,9,     -999.0,9,    19.6428,     -999.0,9
  74DI20100106,        A05,      73,          1,         22,         22,2,20100127,       1410,   25.02216,  -51.75318,       6038,   102.0,  23.2218,  37.1556,  37.1556,2,   206.1,2,    0.92,2,    0.00,2,  -999.0,9,  -999.0,9,    0.00,2,     -999.0,9,     -999.0,9,     -999.0,9,     -999.0,9,    23.2007,     -999.0,9
  74DI20100106,        A05,      73,          1,         23,         23,2,20100127,       1410,   25.02216,  -51.75318,       6038,    50.9,  23.3050,  37.1751,  37.1753,2,   206.5,2,    0.92,2,    0.00,2,  -999.0,9,  -999.0,9,    0.00,2,     -999.0,9,     -999.0,9,     -999.0,9,     -999.0,9,    23.2944,     -999.0,9
  74DI20100106,        A05,      73,          1,         24,         24,2,20100127,       1410,   25.02216,  -51.75318,       6038,     6.1,  23.3025,  37.1782,  37.1766,2,  -999.0,9,    0.84,2,    0.00,2,  -999.0,9,  -999.0,9,    0.00,2,     -999.0,9,     -999.0,9,     -999.0,9,     -999.0,9,    23.3012,     -999.0,9
  74DI20100106,        A05,      74,          1,          1,          1,2,20100127,       2212,   24.93740,  -51.18523,       5784,  5882.5,   2.1596,  34.8536,  34.8530,2,   244.3,2,   57.26,2,    1.56,2,  2198.0,2,  2348.3,2,   23.16,2,     -999.0,1,     -999.0,1,     -999.0,1,     -999.0,1,     1.5867,     -999.0,1
  74DI20100106,        A05,      74,          1,          2,          2,2,20100127,       2212,   24.93740,  -51.18523,       5784,  5619.6,   2.1247,  34.8540,  34.8532,2,   243.8,2,   57.04,2,    1.56,2,  2196.6,2,  2345.3,2,   23.24,2,     -999.0,1,     -999.0,1,     -999.0,1,     -999.0,1,     1.5883,     -999.0,1
  74DI20100106,        A05,      74,          1,          3,          3,2,20100127,       2212,   24.93740,  -51.18523,       5784,  5103.8,   2.1102,  34.8597,  34.8590,2,   245.0,2,   54.35,2,    1.54,2,  2194.5,2,  2344.5,2,   23.30,2,     -999.0,1,     -999.0,1,     -999.0,1,     -999.0,1,     1.6410,     -999.0,1
  74DI20100106,        A05,      74,          1,          4,          4,2,20100127,       2212,   24.93740,  -51.18523,       5784,  4591.3,   2.1485,  34.8705,  34.8701,2,   247.2,2,   50.36,2,    1.50,2,  2190.0,2,  2340.6,2,   22.40,2,     -999.0,1,     -999.0,1,     -999.0,1,     -999.0,1,     1.7412,     -999.0,1
  74DI20100106,        A05,      74,          1,          5,          5,2,20100127,       2212,   24.93740,  -51.18523,       5784,  4076.9,   2.2426,  34.8847,  34.8846,2,   248.0,2,   46.20,2,    1.47,2,  2189.1,2,  2341.0,2,   21.89,2,     -999.0,1,     -999.0,1,     -999.0,1,     -999.0,1,     1.8928,     -999.0,1
  74DI20100106,        A05,      74,          1,          6,          6,2,20100127,       2212,   24.93740,  -51.18523,       5784,  3565.4,   2.4508,  34.9063,  34.9055,2,   247.8,2,   41.51,2,    1.42,2,  2183.9,2,  2337.4,2,   21.26,2,     -999.0,1,     -999.0,1,     -999.0,1,     -999.0,1,     2.1525,     -999.0,1
  74DI20100106,        A05,      74,          1,          7,          7,2,20100127,       2212,   24.93740,  -51.18523,       5784,  3055.5,   2.7551,  34.9346,  34.9336,2,   244.8,2,   36.69,2,    1.41,2,  2182.1,2,  2334.2,2,   21.12,2,     -999.0,1,     -999.0,1,     -999.0,1,     -999.0,1,     2.5038,     -999.0,1
  74DI20100106,        A05,      74,          1,          8,          8,2,20100127,       2212,   24.93740,  -51.18523,       5784,  2544.7,   3.0882,  34.9640,  34.9633,2,   243.5,2,   31.41,2,    1.37,2,  2176.6,2,  2333.0,2,   20.72,2,     -999.0,1,     -999.0,1,     -999.0,1,     -999.0,1,     2.8821,     -999.0,1
  74DI20100106,        A05,      74,          1,          9,          9,2,20100127,       2212,   24.93740,  -51.18523,       5784,  2291.4,   3.3712,  34.9885,  34.9878,2,   242.0,2,   27.78,2,    1.35,2,  -999.0,9,  -999.0,9,   20.31,2,     -999.0,1,     -999.0,1,     -999.0,1,     -999.0,1,     3.1850,     -999.0,1
  74DI20100106,        A05,      74,          1,         10,         10,2,20100127,       2212,   24.93740,  -51.18523,       5784,  2037.0,   3.7943,  35.0243,  35.0241,2,   239.8,2,   23.16,2,    1.36,2,  2173.3,2,  2325.2,2,   20.11,2,     -999.0,1,     -999.0,1,     -999.0,1,     -999.0,1,     3.6261,     -999.0,1
  74DI20100106,        A05,      74,          1,         11,         11,2,20100127,       2212,   24.93740,  -51.18523,       5784,  1780.7,   4.3785,  35.0655,  35.0652,2,   233.7,2,   18.90,2,    1.34,2,  -999.0,9,  -999.0,9,   20.04,2,     -999.0,1,     -999.0,1,     -999.0,1,     -999.0,1,     4.2269,     -999.0,1
  74DI20100106,        A05,      74,          1,         12,         12,2,20100127,       2212,   24.93740,  -51.18523,       5784,  1527.7,   4.9042,  35.0772,  35.0769,2,   223.6,2,   16.89,2,    1.38,2,  2173.4,2,  2320.2,2,   20.44,2,     -999.0,1,     -999.0,1,     -999.0,1,     -999.0,1,     4.7708,     -999.0,1
  74DI20100106,        A05,      74,          1,         13,         13,10,20100127,       2212,   24.93740,  -51.18523,       5784,  1277.5,   5.5449,  35.0611,  35.0602,2,   200.9,2,   17.50,2,    1.50,2,  -999.0,9,  -999.0,9, -999.00,9,     -999.0,1,     -999.0,1,     -999.0,1,     -999.0,1,     5.4296,     -999.0,1
  74DI20100106,        A05,      74,          1,         14,         14,2,20100127,       2212,   24.93740,  -51.18523,       5784,  1023.2,   6.8343,  35.0260,  35.0263,2,   150.5,2,   20.10,2,    1.77,2,  2201.1,2,  2314.1,2, -999.00,9,     -999.0,1,     -999.0,1,     -999.0,1,     -999.0,1,     6.7340,     -999.0,1
  74DI20100106,        A05,      74,          1,         15,         15,2,20100127,       2212,   24.93740,  -51.18523,       5784,   897.7,   7.9961,  35.1139,  35.1140,2,   138.5,2,   18.32,2,    1.78,2,  -999.0,9,  -999.0,9, -999.00,9,     -999.0,1,     -999.0,1,     -999.0,1,     -999.0,1,     7.9011,     -999.0,1
  74DI20100106,        A05,      74,          1,         16,         16,2,20100127,       2212,   24.93740,  -51.18523,       5784,   759.0,   9.9523,  35.3519,  35.3528,2,   141.4,2,   12.98,2,    1.49,2,  2187.4,2,  2324.4,2, -999.00,9,     -999.0,1,     -999.0,1,     -999.0,1,     -999.0,1,     9.8616,     -999.0,1
  74DI20100106,        A05,      74,          1,         17,         17,2,20100127,       2212,   24.93740,  -51.18523,       5784,   629.6,  12.1755,  35.6323,  35.6271,2,   157.9,2,    7.81,2,    1.09,2,  -999.0,9,  -999.0,9, -999.00,9,     -999.0,9,     -999.0,9,     -999.0,9,     -999.0,9,    12.0906,     -999.0,9
  74DI20100106,        A05,      74,          1,         18,         18,2,20100127,       2212,   24.93740,  -51.18523,       5784,   504.7,  14.3982,  35.9369,  35.9339,2,   171.2,2,    4.64,2,    0.75,2,  -999.0,9,  -999.0,9,   12.43,2,     -999.0,9,     -999.0,9,     -999.0,9,     -999.0,9,    14.3225,     -999.0,9
  74DI20100106,        A05,      74,          1,         19,         19,2,20100127,       2212,   24.93740,  -51.18523,       5784,   373.7,  16.6231,  36.3032,  36.3034,2,   184.2,2,    2.54,2,    0.44,2,  2128.0,2,  2370.5,2,    7.67,2,     -999.0,1,     -999.0,1,     -999.0,1,     -999.0,1,    16.5616,     -999.0,1
  74DI20100106,        A05,      74,          1,         20,         20,2,20100127,       2212,   24.93740,  -51.18523,       5784,   257.9,  17.9562,  36.5326,  36.5328,2,   192.2,2,    1.61,2,    0.24,2,  -999.0,9,  -999.0,9,    4.70,2,     -999.0,9,     -999.0,9,     -999.0,9,     -999.0,9,    17.9114,     -999.0,9
  74DI20100106,        A05,      74,          1,         21,         21,2,20100127,       2212,   24.93740,  -51.18523,       5784,   175.0,  19.2054,  36.7041,  36.7177,2,   183.3,2,    1.11,2,    0.05,2,  2123.8,2,  2395.5,2,    2.14,2,     -999.0,1,     -999.0,1,     -999.0,1,     -999.0,1,    19.1736,     -999.0,1
  74DI20100106,        A05,      74,          1,         22,         22,10,20100127,       2212,   24.93740,  -51.18523,       5784,   116.7,  22.3155,  37.0496,  37.0566,2,   205.9,2,    0.72,2,    0.00,2,  -999.0,9,  -999.0,9,    0.00,2,     -999.0,1,     -999.0,1,     -999.0,1,     -999.0,1,    22.2920,     -999.0,1
  74DI20100106,        A05,      74,          1,         23,         23,3,20100127,       2212,   24.93740,  -51.18523,       5784,    50.9,  23.6782,  37.2614,-999.0000,9,  -999.0,9, -999.00,9, -999.00,9,  -999.0,9,  -999.0,9, -999.00,9,     -999.0,9,     -999.0,9,     -999.0,9,     -999.0,9,    23.6675,     -999.0,9
  74DI20100106,        A05,      74,          1,         24,         24,2,20100127,       2212,   24.93740,  -51.18523,       5784,     5.4,  23.6973,  37.2757,  37.2730,2,   204.8,2,    0.73,2,    0.00,2,  2078.1,2,  2427.2,2,    0.00,2,     -999.0,1,     -999.0,1,     -999.0,1,     -999.0,1,    23.6961,     -999.0,1