BOTTLE,20200115CCHSIOCBG
EXPOCODE,SECT_ID,STNNBR,CASTNO,SAMPNO,BTLNBR,BTLNBR_FLAG_W,DATE,TIME,LATITUDE,LONGITUDE,DEPTH,CTDPRS,CTDTMP,CTDSAL,SALNTY,SALNTY_FLAG_W,OXYGEN,OXYGEN_FLAG_W,SILCAT,SILCAT_FLAG_W,PHSPHT,PHSPHT_FLAG_W,TCARBN,TCARBN_FLAG_W,ALKALI,ALKALI_FLAG_W,NO2+NO3,NO2+NO3_FLAG_W,CFC-11,CFC-11_FLAG_W,CFC-12,CFC-12_FLAG_W,CFC113,CFC113_FLAG_W,CCL4,CCL4_FLAG_W,THETA,SF6,SF6_FLAG_W
,,,,,,,,,,,METERS,DBAR,ITS-90,PSS-78,PSS-78,,UMOL/KG,,UMOL/KG,,UMOL/KG,,UMOL/KG,,UMOL/KG,,UMOL/KG,,PMOL/L,,PMOL/L,,PMOL/L,,PMOL/L,,ITS-90,FMOL/L,
  74DI20100106,        A05,      89,          1,          1,         25,10,20100201,       1057,   23.37270,  -43.14151,       4904,  4977.3,   2.4131,  34.8861,  34.8877,2,   242.4,2,   48.94,2,    1.49,2,  -999.0,9,  -999.0,9,   22.24,2,     -999.0,1,     -999.0,1,     -999.0,1,     -999.0,1,     1.9496,     -999.0,1
  74DI20100106,        A05,      89,          1,          2,          2,2,20100201,       1057,   23.37270,  -43.14151,       4904,  4978.1,   2.4133,  34.8860,  34.8871,2,   242.7,3,   49.42,2,    1.48,2,  2196.3,2,  2347.3,2,   22.49,2,     -999.0,1,     -999.0,1,     -999.0,1,     -999.0,1,     1.9496,     -999.0,1
  74DI20100106,        A05,      89,          1,          3,          3,2,20100201,       1057,   23.37270,  -43.14151,       4904,  4325.3,   2.4291,  34.8949,  34.8959,2,   244.5,2,   45.54,2,    1.45,2,  2192.9,2,  2340.6,2,   21.77,2,     -999.0,1,     -999.0,1,     -999.0,1,     -999.0,1,     2.0449,     -999.0,1
  74DI20100106,        A05,      89,          1,          4,          4,2,20100201,       1057,   23.37270,  -43.14151,       4904,  3813.7,   2.5311,  34.9091,  34.9117,2,   244.3,2,   42.88,2,    1.44,2,  2192.1,2,  2340.9,2,   21.94,2,     -999.0,1,     -999.0,1,     -999.0,1,     -999.0,1,     2.2032,     -999.0,1
  74DI20100106,        A05,      89,          1,          5,          5,2,20100201,       1057,   23.37270,  -43.14151,       4904,  3305.6,   2.5846,  34.9192,  34.9205,2,   241.4,2,   41.70,2,    1.43,2,  2191.5,2,  2341.9,2,   21.92,2,     -999.0,1,     -999.0,1,     -999.0,1,     -999.0,1,     2.3110,     -999.0,1
  74DI20100106,        A05,      89,          1,          6,          6,2,20100201,       1057,   23.37270,  -43.14151,       4904,  2796.5,   2.8239,  34.9433,  34.9433,2,   242.2,2,   36.00,2,    1.41,2,  2187.1,2,  2335.6,2,   21.50,2,     -999.0,1,     -999.0,1,     -999.0,1,     -999.0,1,     2.5978,     -999.0,1
  74DI20100106,        A05,      89,          1,          7,          7,2,20100201,       1057,   23.37270,  -43.14151,       4904,  2540.5,   3.1030,  34.9660,  34.9663,2,   242.6,2,   30.47,2,    1.37,2,  -999.0,9,  -999.0,9,   20.62,2,     -999.0,1,     -999.0,1,     -999.0,1,     -999.0,1,     2.8970,     -999.0,1
  74DI20100106,        A05,      89,          1,          8,          8,2,20100201,       1057,   23.37270,  -43.14151,       4904,  2286.4,   3.3318,  34.9839,  35.0052,2,   240.8,2,   28.07,2,    1.36,2,  2179.8,2,  2326.9,2,   20.72,2,     -999.0,1,     -999.0,1,     -999.0,1,     -999.0,1,     3.1468,     -999.0,1
  74DI20100106,        A05,      89,          1,          9,          9,2,20100201,       1057,   23.37270,  -43.14151,       4904,  2034.1,   3.8069,  35.0148,  35.0161,2,   238.5,2,   22.83,2,    1.34,2,  -999.0,9,  -999.0,9,   20.45,2,     -999.0,1,     -999.0,1,     -999.0,1,     -999.0,1,     3.6388,     -999.0,1
  74DI20100106,        A05,      89,          1,         10,         10,2,20100201,       1057,   23.37270,  -43.14151,       4904,  1766.9,   4.3130,  35.0386,  35.0391,2,   229.9,2,   19.89,2,    1.36,2,  2174.8,2,  2319.0,2,   20.70,2,     -999.0,1,     -999.0,1,     -999.0,1,     -999.0,1,     4.1637,     -999.0,1
  74DI20100106,        A05,      89,          1,         11,         11,3,20100201,       1057,   23.37270,  -43.14151,       4904,  1516.0,   4.7850,  35.0339,-999.0000,9,  -999.0,9, -999.00,9, -999.00,9,  -999.0,9,  -999.0,9, -999.00,9,     -999.0,9,     -999.0,9,     -999.0,9,     -999.0,9,     4.6542,     -999.0,9
  74DI20100106,        A05,      89,          1,         12,         12,2,20100201,       1057,   23.37270,  -43.14151,       4904,  1263.4,   5.4671,  35.0400,  35.0389,2,   192.1,2,   19.26,2,    1.56,2,  2189.7,2,  2317.7,2,   24.03,2,     -999.0,1,     -999.0,1,     -999.0,1,     -999.0,1,     5.3539,     -999.0,1
  74DI20100106,        A05,      89,          1,         13,         13,2,20100201,       1057,   23.37270,  -43.14151,       4904,  1009.9,   6.5921,  35.0586,  35.0581,2,   159.6,2,   20.12,2,    1.73,2,  -999.0,9,  -999.0,9,   26.95,2,     -999.0,1,     -999.0,1,     -999.0,1,     -999.0,1,     6.4949,     -999.0,9
  74DI20100106,        A05,      89,          1,         14,         14,2,20100201,       1057,   23.37270,  -43.14151,       4904,   883.6,   7.8618,  35.1659,  35.1656,2,   145.8,2,   17.77,2,    1.67,2,  2200.5,2,  2321.7,2,   26.50,2,     -999.0,1,     -999.0,1,     -999.0,1,     -999.0,1,     7.7691,     -999.0,1
  74DI20100106,        A05,      89,          1,         15,         26,10,20100201,       1057,   23.37270,  -43.14151,       4904,   757.6,   9.6329,  35.3535,  35.3535,2,   145.8,2,   13.30,2,    1.44,2,  -999.0,9,  -999.0,9,   23.62,2,     -999.0,1,     -999.0,1,     -999.0,1,     -999.0,1,     9.5441,     -999.0,1
  74DI20100106,        A05,      89,          1,         16,         16,10,20100201,       1057,   23.37270,  -43.14151,       4904,   757.2,   9.6411,  35.3544,  35.3554,2,   144.1,2,   13.20,2,    1.44,2,  -999.0,9,  -999.0,9,   23.41,2,     -999.0,9,     -999.0,9,     -999.0,9,     -999.0,9,     9.5523,     -999.0,9
  74DI20100106,        A05,      89,          1,         17,         17,2,20100201,       1057,   23.37270,  -43.14151,       4904,   630.7,  11.3270,  35.5365,  35.5374,2,   155.1,2,    9.05,2,    1.17,2,  2177.7,2,  2332.7,2,   19.68,2,     -999.0,1,     -999.0,1,     -999.0,1,     -999.0,1,    11.2458,     -999.0,1
  74DI20100106,        A05,      89,          1,         18,         18,2,20100201,       1057,   23.37270,  -43.14151,       4904,   506.5,  13.5187,  35.8187,  35.8190,2,   161.4,2,    5.55,2,    0.86,2,  2163.0,2,  2344.5,2,   14.98,2,     -999.0,1,     -999.0,1,     -999.0,9,     -999.0,9,    13.4458,     -999.0,1
  74DI20100106,        A05,      89,          1,         19,         19,2,20100201,       1057,   23.37270,  -43.14151,       4904,   380.1,  15.5965,  36.1462,  36.1483,2,   175.7,2,    3.34,2,    0.55,2,  -999.0,9,  -999.0,9,    9.98,2,     -999.0,9,     -999.0,9,     -999.0,9,     -999.0,9,    15.5366,     -999.0,9
  74DI20100106,        A05,      89,          1,         20,         20,2,20100201,       1057,   23.37270,  -43.14151,       4904,   254.6,  18.1373,  36.5872,  36.5886,2,   187.1,2,    1.67,2,    0.20,2,  2126.7,2,  2385.4,2,    4.85,2,     -999.0,1,     -999.0,1,     -999.0,9,     -999.0,9,    18.0929,     -999.0,1
  74DI20100106,        A05,      89,          1,         21,         21,2,20100201,       1057,   23.37270,  -43.14151,       4904,   177.6,  20.5687,  37.0511,  37.0569,2,   185.6,2,    1.01,2,    0.05,2,  -999.0,9,  -999.0,9,    1.51,2,     -999.0,9,     -999.0,9,     -999.0,9,     -999.0,9,    20.5348,     -999.0,9
  74DI20100106,        A05,      89,          1,         22,         22,2,20100201,       1057,   23.37270,  -43.14151,       4904,   101.7,  23.7841,  37.4822,  37.4822,2,   205.3,2,    0.85,2,    0.00,2,  2087.9,2,  2440.3,2,    0.00,2,     -999.0,1,     -999.0,1,     -999.0,9,     -999.0,9,    23.7626,     -999.0,1
  74DI20100106,        A05,      89,          1,         23,         23,2,20100201,       1057,   23.37270,  -43.14151,       4904,    51.5,  23.8312,  37.4856,  37.4859,2,   206.7,2,    0.87,2,    0.00,2,  -999.0,9,  -999.0,9,    0.00,2,     -999.0,9,     -999.0,9,     -999.0,9,     -999.0,9,    23.8203,     -999.0,9
  74DI20100106,        A05,      89,          1,         24,         24,2,20100201,       1057,   23.37270,  -43.14151,       4904,     4.7,  23.8449,  37.4889,  37.4883,2,   206.2,2,    0.89,2,    0.00,2,  2096.0,2,  2440.0,2,    0.00,2,     -999.0,1,     -999.0,1,     -999.0,1,     -999.0,1,    23.8440,     -999.0,1
  74DI20100106,        A05,      90,          1,          1,         25,2,20100201,       1814,   23.25035,  -42.60044,       5405,  5492.3,   2.4716,  34.8852,  34.8860,2,   239.6,3,   48.78,2,    1.47,2,  -999.0,9,  -999.0,9,   22.24,2,     -999.0,1,     -999.0,1,     -999.0,1,     -999.0,1,     1.9393,     -999.0,1
  74DI20100106,        A05,      90,          1,          2,          2,2,20100201,       1814,   23.25035,  -42.60044,       5405,  5492.5,   2.4713,  34.8854,  34.8848,2,   241.8,2,   48.41,2,    1.48,2,  -999.0,9,  -999.0,9,   22.36,2,     -999.0,1,     -999.0,1,     -999.0,1,     -999.0,1,     1.9390,     -999.0,1
  74DI20100106,        A05,      90,          1,          3,          3,2,20100201,       1814,   23.25035,  -42.60044,       5405,  5102.4,   2.4246,  34.8861,  34.8855,2,   242.0,2,   48.84,2,    1.48,2,  2201.8,2,  2347.7,2,   22.46,2,     -999.0,1,     -999.0,1,     -999.0,1,     -999.0,1,     1.9447,     -999.0,1
  74DI20100106,        A05,      90,          1,          4,          4,2,20100201,       1814,   23.25035,  -42.60044,       5405,  4578.7,   2.3980,  34.8896,  34.8891,2,   242.6,2,   47.21,2,    1.47,2,  2195.4,2,  2345.4,2,   22.06,2,     -999.0,1,     -999.0,1,     -999.0,1,     -999.0,1,     1.9844,     -999.0,1
  74DI20100106,        A05,      90,          1,          5,          5,2,20100201,       1814,   23.25035,  -42.60044,       5405,  4067.4,   2.4513,  34.8997,  34.8994,2,   243.7,2,   44.60,2,    1.45,2,  -999.0,9,  -999.0,9,   21.66,2,     -999.0,1,     -999.0,1,     -999.0,1,     -999.0,1,     2.0966,     -999.0,1
  74DI20100106,        A05,      90,          1,          6,          6,10,20100201,       1814,   23.25035,  -42.60044,       5405,  3553.7,   2.5223,  34.9112,  34.9122,2,   242.2,2,   42.23,2,    1.45,2,  -999.0,9,  -999.0,9,   21.80,2,     -999.0,9,     -999.0,9,     -999.0,9,     -999.0,9,     2.2235,     -999.0,9
  74DI20100106,        A05,      90,          1,          7,          7,2,20100201,       1814,   23.25035,  -42.60044,       5405,  3041.2,   2.6961,  34.9314,  34.9311,2,   241.1,2,   38.36,2,    1.42,2,  -999.0,9,  -999.0,9,   21.52,2,     -999.0,1,     -999.0,1,     -999.0,1,     -999.0,1,     2.4477,     -999.0,9
  74DI20100106,        A05,      90,          1,          8,          8,2,20100201,       1814,   23.25035,  -42.60044,       5405,  2533.5,   3.1334,  34.9683,  34.9679,2,   241.8,2,   30.37,2,    1.38,2,  -999.0,9,  -999.0,9,   20.91,2,     -999.0,9,     -999.0,9,     -999.0,9,     -999.0,9,     2.9276,     -999.0,9
  74DI20100106,        A05,      90,          1,          9,          9,2,20100201,       1814,   23.25035,  -42.60044,       5405,  2279.0,   3.4107,  34.9895,  34.9889,2,   241.6,2,   26.21,2,    1.33,2,  -999.0,9,  -999.0,9,   20.16,2,     -999.0,9,     -999.0,9,     -999.0,9,     -999.0,9,     3.2251,     -999.0,9
  74DI20100106,        A05,      90,          1,         10,         10,2,20100201,       1814,   23.25035,  -42.60044,       5405,  2023.7,   3.8647,  35.0193,  35.0192,2,   236.2,2,   22.33,2,    1.33,2,  -999.0,9,  -999.0,9,   20.46,2,     -999.0,9,     -999.0,9,     -999.0,9,     -999.0,9,     3.6967,     -999.0,9
  74DI20100106,        A05,      90,          1,         11,         11,2,20100201,       1814,   23.25035,  -42.60044,       5405,  1767.9,   4.3063,  35.0395,  35.0390,2,   229.4,2,   19.67,2,    1.36,2,  -999.0,9,  -999.0,9,   20.56,2,     -999.0,9,     -999.0,9,     -999.0,9,     -999.0,9,     4.1569,     -999.0,9
  74DI20100106,        A05,      90,          1,         12,         12,2,20100201,       1814,   23.25035,  -42.60044,       5405,  1515.7,   4.8367,  35.0525,  35.0522,2,   215.1,2,   18.41,2,    1.41,2,  -999.0,9,  -999.0,9,   21.84,2,     -999.0,9,     -999.0,9,     -999.0,9,     -999.0,9,     4.7054,     -999.0,9
  74DI20100106,        A05,      90,          1,         13,         13,2,20100201,       1814,   23.25035,  -42.60044,       5405,  1264.9,   5.4265,  35.0385,  35.0386,2,   192.1,2,   19.39,2,    1.55,2,  -999.0,9,  -999.0,9,   24.09,2,     -999.0,9,     -999.0,9,     -999.0,9,     -999.0,9,     5.3136,     -999.0,9
  74DI20100106,        A05,      90,          1,         14,         14,2,20100201,       1814,   23.25035,  -42.60044,       5405,  1011.5,   6.5666,  35.0534,  35.0532,2,   158.1,2,   20.24,2,    1.73,2,  -999.0,9,  -999.0,9,   27.16,2,     -999.0,1,     -999.0,1,     -999.0,1,     -999.0,1,     6.4695,     -999.0,1
  74DI20100106,        A05,      90,          1,         15,         26,2,20100201,       1814,   23.25035,  -42.60044,       5405,   885.6,   7.9954,  35.1828,  35.1814,2,   145.1,2,   17.38,2,    1.64,2,  -999.0,9,  -999.0,9,   26.23,2,     -999.0,9,     -999.0,9,     -999.0,9,     -999.0,9,     7.9016,     -999.0,9
  74DI20100106,        A05,      90,          1,         16,         16,2,20100201,       1814,   23.25035,  -42.60044,       5405,   756.8,   9.6762,  35.3621,  35.3626,2,   145.9,2,   13.00,2,    1.44,2,  -999.0,9,  -999.0,9,   23.19,2,     -999.0,9,     -999.0,9,     -999.0,9,     -999.0,9,     9.5872,     -999.0,9
  74DI20100106,        A05,      90,          1,         17,         17,2,20100201,       1814,   23.25035,  -42.60044,       5405,   631.6,  11.3651,  35.5459,  35.5460,2,   148.8,2,    9.07,2,    1.19,2,  -999.0,9,  -999.0,9,   20.02,2,     -999.0,9,     -999.0,9,     -999.0,9,     -999.0,9,    11.2835,     -999.0,9
  74DI20100106,        A05,      90,          1,         18,         18,2,20100201,       1814,   23.25035,  -42.60044,       5405,   506.4,  13.4293,  35.8022,  35.8022,2,   153.1,2,    5.87,2,    0.93,2,  -999.0,9,  -999.0,9,   15.91,2,     -999.0,9,     -999.0,9,     -999.0,9,     -999.0,9,    13.3568,     -999.0,9
  74DI20100106,        A05,      90,          1,         19,         19,2,20100201,       1814,   23.25035,  -42.60044,       5405,   379.1,  15.7119,  36.1617,  36.1648,2,   175.7,2,    3.29,2,    0.55,2,  -999.0,9,  -999.0,9,    9.72,2,     -999.0,9,     -999.0,9,     -999.0,9,     -999.0,9,    15.6518,     -999.0,9
  74DI20100106,        A05,      90,          1,         20,         20,2,20100201,       1814,   23.25035,  -42.60044,       5405,   250.6,  17.6417,  36.4979,  36.4961,2,   187.8,2,    1.94,2,    0.28,2,  -999.0,9,  -999.0,9,    5.63,2,     -999.0,9,     -999.0,9,     -999.0,9,     -999.0,9,    17.5988,     -999.0,9
  74DI20100106,        A05,      90,          1,         21,         21,2,20100201,       1814,   23.25035,  -42.60044,       5405,   178.1,  20.0377,  36.9971,  36.9963,2,   182.1,2,    1.21,2,    0.13,2,  -999.0,9,  -999.0,9,    2.77,2,     -999.0,9,     -999.0,9,     -999.0,9,     -999.0,9,    20.0043,     -999.0,9
  74DI20100106,        A05,      90,          1,         22,         22,2,20100201,       1814,   23.25035,  -42.60044,       5405,   115.6,  21.9375,  37.1906,  37.2047,2,   201.8,2,    0.79,2,    0.01,2,  -999.0,9,  -999.0,9,    0.00,2,     -999.0,9,     -999.0,9,     -999.0,9,     -999.0,9,    21.9144,     -999.0,9
  74DI20100106,        A05,      90,          1,         23,         23,2,20100201,       1814,   23.25035,  -42.60044,       5405,    50.6,  23.8559,  37.4903,  37.4902,2,   207.6,2,    0.87,2,    0.01,2,  -999.0,9,  -999.0,9,    0.00,2,     -999.0,9,     -999.0,9,     -999.0,9,     -999.0,9,    23.8452,     -999.0,9
  74DI20100106,        A05,      90,          1,         24,         24,2,20100201,       1814,   23.25035,  -42.60044,       5405,     5.0,  23.8426,  37.4910,  37.4910,2,   205.8,2,    0.85,2,    0.00,2,  -999.0,9,  -999.0,9,    0.00,2,     -999.0,9,     -999.0,9,     -999.0,9,     -999.0,9,    23.8415,     -999.0,9