BOTTLE,20200115CCHSIOCBG
EXPOCODE,SECT_ID,STNNBR,CASTNO,SAMPNO,BTLNBR,BTLNBR_FLAG_W,DATE,TIME,LATITUDE,LONGITUDE,DEPTH,CTDPRS,CTDTMP,CTDSAL,SALNTY,SALNTY_FLAG_W,OXYGEN,OXYGEN_FLAG_W,SILCAT,SILCAT_FLAG_W,PHSPHT,PHSPHT_FLAG_W,TCARBN,TCARBN_FLAG_W,ALKALI,ALKALI_FLAG_W,NO2+NO3,NO2+NO3_FLAG_W,CFC-11,CFC-11_FLAG_W,CFC-12,CFC-12_FLAG_W,CFC113,CFC113_FLAG_W,CCL4,CCL4_FLAG_W,THETA,SF6,SF6_FLAG_W
,,,,,,,,,,,METERS,DBAR,ITS-90,PSS-78,PSS-78,,UMOL/KG,,UMOL/KG,,UMOL/KG,,UMOL/KG,,UMOL/KG,,UMOL/KG,,PMOL/L,,PMOL/L,,PMOL/L,,PMOL/L,,ITS-90,FMOL/L,
  74DI20100106,        A05,      69,          1,          1,          1,2,20100125,       1711,   24.51001,  -53.93799,       6155,  6275.6,   2.1613,  34.8475,  34.8481,2,   242.6,2,   58.20,2,    1.53,2,  2202.6,2,  2353.3,2,   24.04,2,     -999.0,1,     -999.0,1,     -999.0,1,     -999.0,1,     1.5343,     -999.0,1
  74DI20100106,        A05,      69,          1,          2,          2,4,20100125,       1711,   24.51001,  -53.93799,       6155,  5884.3,   2.1143,  34.8490,  35.4664,4,   188.8,4,   17.63,3,    1.15,3,  -999.0,9,  -999.0,9,   19.37,4,     -999.0,1,     -999.0,1,     -999.0,1,     -999.0,1,     1.5430,     -999.0,1
  74DI20100106,        A05,      69,          1,          3,          3,2,20100125,       1711,   24.51001,  -53.93799,       6155,  5359.7,   2.0774,  34.8531,  34.8539,2,   246.7,2,   56.03,2,    1.51,2,  2197.3,2,  2351.2,2,   24.04,2,     -999.0,1,     -999.0,1,     -999.0,1,     -999.0,1,     1.5767,     -999.0,1
  74DI20100106,        A05,      69,          1,          4,          4,2,20100125,       1711,   24.51001,  -53.93799,       6155,  4844.0,   2.1163,  34.8640,  34.8651,2,   245.3,2,   51.78,2,    1.48,2,  2197.7,2,  2348.6,2,   23.57,2,     -999.0,1,     -999.0,1,     -999.0,1,     -999.0,1,     1.6794,     -999.0,1
  74DI20100106,        A05,      69,          1,          5,          5,2,20100125,       1711,   24.51001,  -53.93799,       6155,  4319.7,   2.2013,  34.8790,  34.8803,2,   248.8,2,   46.19,2,    1.42,2,  2185.1,2,  2346.6,2,   22.49,2,     -999.0,1,     -999.0,1,     -999.0,1,     -999.0,1,     1.8247,     -999.0,1
  74DI20100106,        A05,      69,          1,          6,          6,2,20100125,       1711,   24.51001,  -53.93799,       6155,  3808.8,   2.3928,  34.9008,  34.9024,2,   250.7,2,   39.94,2,    1.37,2,  2177.3,2,  2342.9,2,   21.67,2,     -999.0,1,     -999.0,1,     -999.0,1,     -999.0,1,     2.0692,     -999.0,1
  74DI20100106,        A05,      69,          1,          7,          7,2,20100125,       1711,   24.51001,  -53.93799,       6155,  3297.0,   2.6468,  34.9238,  34.9252,2,   248.1,2,   37.30,2,    1.39,2,  2182.1,2,  2335.9,2,   21.71,2,     -999.0,1,     -999.0,1,     -999.0,1,     -999.0,1,     2.3726,     -999.0,1
  74DI20100106,        A05,      69,          1,          8,          8,2,20100125,       1711,   24.51001,  -53.93799,       6155,  2785.1,   2.9747,  34.9536,  34.9537,2,   244.0,2,   31.78,2,    1.34,2,  2177.8,2,  2330.4,2,   21.26,2,     -999.0,1,     -999.0,1,     -999.0,1,     -999.0,1,     2.7467,     -999.0,1
  74DI20100106,        A05,      69,          1,          9,          9,2,20100125,       1711,   24.51001,  -53.93799,       6155,  2533.2,   3.1309,  34.9676,  34.9676,2,   244.5,2,   29.33,2,    1.32,2,  -999.0,9,  -999.0,9,   21.11,2,     -999.0,1,     -999.0,1,     -999.0,1,     -999.0,1,     2.9251,     -999.0,1
  74DI20100106,        A05,      69,          1,         10,         10,2,20100125,       1711,   24.51001,  -53.93799,       6155,  2278.3,   3.4650,  34.9945,  34.9953,2,   243.6,2,   24.84,2,    1.29,2,  2172.1,2,  2330.4,2,   20.62,2,     -999.0,1,     -999.0,1,     -999.0,1,     -999.0,1,     3.2785,     -999.0,1
  74DI20100106,        A05,      69,          1,         11,         11,2,20100125,       1711,   24.51001,  -53.93799,       6155,  2023.9,   3.8101,  35.0183,  35.0196,2,   243.1,2,   20.65,2,    1.26,2,  -999.0,9,  -999.0,9,   20.64,2,     -999.0,1,     -999.0,1,     -999.0,1,     -999.0,1,     3.6429,     -999.0,1
  74DI20100106,        A05,      69,          1,         12,         12,2,20100125,       1711,   24.51001,  -53.93799,       6155,  1770.6,   4.2888,  35.0366,  35.0384,2,   240.0,2,   16.97,2,    1.24,2,  2162.5,2,  2320.8,2,   20.52,2,     -999.0,1,     -999.0,1,     -999.0,1,     -999.0,1,     4.1394,     -999.0,1
  74DI20100106,        A05,      69,          1,         13,         13,2,20100125,       1711,   24.51001,  -53.93799,       6155,  1517.9,   4.7791,  35.0449,  35.0466,2,   228.6,2,   15.63,2,    1.29,2,  -999.0,9,  -999.0,9,   20.94,2,     -999.0,1,     -999.0,1,     -999.0,1,     -999.0,1,     4.6482,     -999.0,1
  74DI20100106,        A05,      69,          1,         14,         14,2,20100125,       1711,   24.51001,  -53.93799,       6155,  1263.7,   5.4031,  35.0301,  35.0313,2,   200.6,2,   17.66,2,    1.46,2,  2181.1,2,  2320.3,2,   24.10,2,     -999.0,1,     -999.0,1,     -999.0,1,     -999.0,1,     5.2905,     -999.0,1
  74DI20100106,        A05,      69,          1,         15,         15,2,20100125,       1711,   24.51001,  -53.93799,       6155,  1011.3,   6.4866,  34.9578,  34.9628,2,   147.1,2,   21.99,2,    1.86,2,  -999.0,9,  -999.0,9,   30.01,2,     -999.0,1,     -999.0,1,     -999.0,1,     -999.0,1,     6.3903,     -999.0,1
  74DI20100106,        A05,      69,          1,         16,         16,2,20100125,       1711,   24.51001,  -53.93799,       6155,   885.6,   7.5953,  35.0296,  35.0315,2,   134.7,2,   19.73,2,    1.82,2,  2202.8,2,  2318.9,2,   29.91,2,     -999.0,1,     -999.0,1,     -999.0,1,     -999.0,1,     7.5043,     -999.0,1
  74DI20100106,        A05,      69,          1,         17,         17,2,20100125,       1711,   24.51001,  -53.93799,       6155,   758.7,   9.5820,  35.2529,  35.2556,2,   133.5,2,   14.62,2,    1.57,2,  -999.0,9,  -999.0,9,   26.43,2,     -999.0,1,     -999.0,1,     -999.0,1,     -999.0,1,     9.4934,     -999.0,1
  74DI20100106,        A05,      69,          1,         18,         18,10,20100125,       1711,   24.51001,  -53.93799,       6155,   507.4,  13.9377,  35.8660,  35.8718,2,   162.4,2,    5.40,2,    0.81,2,  2154.8,2,  2348.6,2,   15.14,2,     -999.0,1,     -999.0,1,     -999.0,9,     -999.0,9,    13.8633,     -999.0,1
  74DI20100106,        A05,      69,          1,         19,         19,2,20100125,       1711,   24.51001,  -53.93799,       6155,   378.5,  16.2436,  36.2390,  36.2434,2,   183.1,2,    2.80,2,    0.42,2,  -999.0,9,  -999.0,9,    8.71,2,     -999.0,9,     -999.0,9,     -999.0,9,     -999.0,9,    16.1822,     -999.0,9
  74DI20100106,        A05,      69,          1,         20,         20,2,20100125,       1711,   24.51001,  -53.93799,       6155,   252.3,  19.2210,  36.7625,  36.7650,2,   159.7,2,    1.71,2,    0.25,2,  2145.2,2,  2399.4,3,    6.23,2,     -999.0,1,     -999.0,1,     -999.0,9,     -999.0,9,    19.1751,     -999.0,1
  74DI20100106,        A05,      69,          1,         21,         21,2,20100125,       1711,   24.51001,  -53.93799,       6155,   175.6,  22.1426,  37.0744,  37.0784,2,   190.6,2,    0.77,2,    0.00,2,  -999.0,9,  -999.0,9,    0.58,2,     -999.0,9,     -999.0,9,     -999.0,9,     -999.0,9,    22.1074,     -999.0,9
  74DI20100106,        A05,      69,          1,         22,         22,2,20100125,       1711,   24.51001,  -53.93799,       6155,   102.5,  24.7227,  37.2753,  37.2759,2,   201.5,2,    0.84,2,    0.00,2,  2071.4,2,  2430.1,2,    0.04,2,     -999.0,1,     -999.0,1,     -999.0,1,     -999.0,1,    24.7005,     -999.0,1
  74DI20100106,        A05,      69,          1,         23,         23,10,20100125,       1711,   24.51001,  -53.93799,       6155,    53.7,  25.0915,  36.9180,  36.9151,2,   202.2,2,    0.92,2,    0.00,2,  -999.0,9,  -999.0,9,    0.20,2,     -999.0,9,     -999.0,9,     -999.0,9,     -999.0,9,    25.0798,     -999.0,9
  74DI20100106,        A05,      69,          1,         24,         24,2,20100125,       1711,   24.51001,  -53.93799,       6155,     5.2,  25.0720,  36.9066,  36.9084,2,   203.3,2,    0.90,2,    0.00,2,  2047.9,2,  2410.5,2,    0.00,2,     -999.0,1,     -999.0,1,     -999.0,1,     -999.0,1,    25.0708,     -999.0,1
  74DI20100106,        A05,      70,          1,          1,          1,2,20100126,       0251,   24.83913,  -53.39925,       5931,  6038.6,   2.1403,  34.8491,  34.8478,2,   243.4,2,   57.48,2,    1.54,3,  2199.9,2,  2344.7,2,   23.70,2,     -999.0,1,     -999.0,1,     -999.0,1,     -999.0,1,     1.5469,     -999.0,1
  74DI20100106,        A05,      70,          1,          2,          2,2,20100126,       0251,   24.83913,  -53.39925,       5931,  5603.9,   2.0889,  34.8506,  34.8493,2,   244.2,2,   57.41,2,    1.55,3,  2199.1,2,  2340.5,2,   24.24,2,     -999.0,1,     -999.0,1,     -999.0,1,     -999.0,1,     1.5560,     -999.0,1
  74DI20100106,        A05,      70,          1,          3,          3,2,20100126,       0251,   24.83913,  -53.39925,       5931,  5089.5,   2.0808,  34.8569,  34.8556,2,   245.1,2,   54.62,2,    1.51,3,  2195.6,2,  2344.4,2,   23.60,2,     -999.0,1,     -999.0,1,     -999.0,1,     -999.0,1,     1.6145,     -999.0,1
  74DI20100106,        A05,      70,          1,          4,          4,2,20100126,       0251,   24.83913,  -53.39925,       5931,  4572.9,   2.1602,  34.8718,  34.8706,2,   246.3,2,   48.85,2,    1.46,3,  -999.0,9,  -999.0,9,   22.62,2,     -999.0,1,     -999.0,1,     -999.0,1,     -999.0,1,     1.7548,     -999.0,1
  74DI20100106,        A05,      70,          1,          5,          5,2,20100126,       0251,   24.83913,  -53.39925,       5931,  4059.8,   2.2839,  34.8889,  34.8875,2,   248.2,2,   43.40,2,    1.42,3,  -999.0,9,  -999.0,9,   22.13,2,     -999.0,1,     -999.0,1,     -999.0,1,     -999.0,1,     1.9349,     -999.0,1
  74DI20100106,        A05,      70,          1,          6,          6,2,20100126,       0251,   24.83913,  -53.39925,       5931,  3552.3,   2.4784,  34.9086,  34.9075,2,   246.9,2,   39.63,2,    1.39,3,  -999.0,9,  -999.0,9,   21.97,2,     -999.0,1,     -999.0,1,     -999.0,1,     -999.0,1,     2.1809,     -999.0,1
  74DI20100106,        A05,      70,          1,          7,          7,2,20100126,       0251,   24.83913,  -53.39925,       5931,  3044.7,   2.7644,  34.9352,  34.9342,2,   246.1,2,   34.99,2,    1.37,3,  -999.0,9,  -999.0,9,   21.33,2,     -999.0,1,     -999.0,1,     -999.0,1,     -999.0,1,     2.5141,     -999.0,1
  74DI20100106,        A05,      70,          1,          8,          8,2,20100126,       0251,   24.83913,  -53.39925,       5931,  2540.0,   3.1439,  34.9690,  34.9675,2,   243.4,2,   29.45,2,    1.33,3,  -999.0,9,  -999.0,9,   21.08,2,     -999.0,1,     -999.0,1,     -999.0,1,     -999.0,1,     2.9372,     -999.0,1
  74DI20100106,        A05,      70,          1,          9,          9,2,20100126,       0251,   24.83913,  -53.39925,       5931,  2288.3,   3.4147,  34.9907,  34.9800,2,   244.3,2,   27.19,2,    1.31,3,  -999.0,9,  -999.0,9,   20.92,2,     -999.0,1,     -999.0,1,     -999.0,1,     -999.0,1,     3.2281,     -999.0,1
  74DI20100106,        A05,      70,          1,         10,         10,2,20100126,       0251,   24.83913,  -53.39925,       5931,  2035.3,   3.7486,  35.0149,  35.0146,2,   241.7,2,   17.07,4,    1.24,3,  -999.0,9,  -999.0,9,   20.08,2,     -999.0,1,     -999.0,1,     -999.0,1,     -999.0,1,     3.5813,     -999.0,1
  74DI20100106,        A05,      70,          1,         11,         11,2,20100126,       0251,   24.83913,  -53.39925,       5931,  1782.4,   4.2815,  35.0419,  35.0423,2,   238.7,2,   17.18,2,    1.27,3,  -999.0,9,  -999.0,9,   20.20,2,     -999.0,1,     -999.0,1,     -999.0,1,     -999.0,1,     4.1311,     -999.0,1
  74DI20100106,        A05,      70,          1,         12,         12,2,20100126,       0251,   24.83913,  -53.39925,       5931,  1529.4,   4.7429,  35.0460,  35.0416,2,   235.3,2,   16.33,2,    1.26,3,  -999.0,9,  -999.0,9,   20.61,2,     -999.0,1,     -999.0,1,     -999.0,1,     -999.0,1,     4.6114,     -999.0,1
  74DI20100106,        A05,      70,          1,         13,         13,2,20100126,       0251,   24.83913,  -53.39925,       5931,  1276.4,   5.4748,  35.0288,  35.0382,2,   211.4,4,   16.90,2,    1.40,3,  -999.0,9,  -999.0,9,   22.66,2,     -999.0,1,     -999.0,1,     -999.0,1,     -999.0,1,     5.3603,     -999.0,1
  74DI20100106,        A05,      70,          1,         14,         14,2,20100126,       0251,   24.83913,  -53.39925,       5931,  1025.3,   6.4822,  34.9536,  34.9528,2,   150.4,2,   21.59,2,    1.83,3,  -999.0,9,  -999.0,9,   29.42,2,     -999.0,1,     -999.0,1,     -999.0,1,     -999.0,1,     6.3845,     -999.0,1
  74DI20100106,        A05,      70,          1,         15,         15,10,20100126,       0251,   24.83913,  -53.39925,       5931,   883.0,   7.7824,  35.0349,  35.0330,2,   133.5,2,   19.29,2,    1.82,3,  -999.0,9,  -999.0,9,   29.53,2,     -999.0,1,     -999.0,1,     -999.0,1,     -999.0,1,     7.6905,     -999.0,1
  74DI20100106,        A05,      70,          1,         16,         16,2,20100126,       0251,   24.83913,  -53.39925,       5931,   756.1,   9.9839,  35.3345,  35.3330,2,   137.1,2,   13.24,2,    1.47,3,  -999.0,9,  -999.0,9,   24.98,2,     -999.0,1,     -999.0,1,     -999.0,1,     -999.0,1,     9.8934,     -999.0,1
  74DI20100106,        A05,      70,          1,         17,         17,2,20100126,       0251,   24.83913,  -53.39925,       5931,   631.4,  12.4853,  35.6696,  35.3542,4,   150.9,2,   13.20,4,    1.38,3,  -999.0,9,  -999.0,9,   23.61,2,     -999.0,1,     -999.0,1,     -999.0,1,     -999.0,1,    12.3988,     -999.0,1
  74DI20100106,        A05,      70,          1,         18,         18,2,20100126,       0251,   24.83913,  -53.39925,       5931,   504.2,  14.6941,  35.9849,  35.9827,2,   172.0,2,    4.26,2,    0.66,3,  -999.0,9,  -999.0,9,   12.58,2,     -999.0,9,     -999.0,9,     -999.0,9,     -999.0,9,    14.6175,     -999.0,9
  74DI20100106,        A05,      70,          1,         19,         19,2,20100126,       0251,   24.83913,  -53.39925,       5931,   377.5,  16.9124,  36.3539,  36.3472,2,   186.2,2,    2.32,2,    0.35,3,  -999.0,9,  -999.0,9,    7.27,2,     -999.0,1,     -999.0,1,     -999.0,1,     -999.0,1,    16.8494,     -999.0,1
  74DI20100106,        A05,      70,          1,         20,         20,2,20100126,       0251,   24.83913,  -53.39925,       5931,   253.0,  18.1672,  36.5583,  36.5579,2,   192.9,2,    1.43,2,    0.14,3,  -999.0,9,  -999.0,9,    4.23,2,     -999.0,9,     -999.0,9,     -999.0,9,     -999.0,9,    18.1230,     -999.0,9
  74DI20100106,        A05,      70,          1,         21,         21,3,20100126,       0251,   24.83913,  -53.39925,       5931,   178.1,  20.4608,  36.9004,-999.0000,9,  -999.0,9,    1.41,2,    0.15,3,  -999.0,9,  -999.0,9,    4.27,4,     -999.0,9,     -999.0,9,     -999.0,9,     -999.0,9,    20.4270,     -999.0,9
  74DI20100106,        A05,      70,          1,         22,         22,2,20100126,       0251,   24.83913,  -53.39925,       5931,   102.5,  23.0388,  37.1428,  37.1624,2,   201.6,2,    0.67,2,    0.00,3,  -999.0,9,  -999.0,9,    0.34,2,     -999.0,1,     -999.0,1,     -999.0,1,     -999.0,1,    23.0177,     -999.0,1
  74DI20100106,        A05,      70,          1,         23,         23,2,20100126,       0251,   24.83913,  -53.39925,       5931,    52.3,  24.3259,  37.1545,  37.1534,2,   203.2,2,    0.75,2,    0.00,3,  -999.0,9,  -999.0,9,    0.09,2,     -999.0,9,     -999.0,9,     -999.0,9,     -999.0,9,    24.3147,     -999.0,9
  74DI20100106,        A05,      70,          1,         24,         24,2,20100126,       0251,   24.83913,  -53.39925,       5931,     9.6,  24.2811,  37.1143,  37.1123,2,   204.2,2,    0.82,2,    0.00,3,  -999.0,9,  -999.0,9,    0.11,2,     -999.0,1,     -999.0,1,     -999.0,1,     -999.0,1,    24.2791,     -999.0,1