BOTTLE,20200115CCHSIOCBG
EXPOCODE,SECT_ID,STNNBR,CASTNO,SAMPNO,BTLNBR,BTLNBR_FLAG_W,DATE,TIME,LATITUDE,LONGITUDE,DEPTH,CTDPRS,CTDTMP,CTDSAL,SALNTY,SALNTY_FLAG_W,OXYGEN,OXYGEN_FLAG_W,SILCAT,SILCAT_FLAG_W,PHSPHT,PHSPHT_FLAG_W,TCARBN,TCARBN_FLAG_W,ALKALI,ALKALI_FLAG_W,NO2+NO3,NO2+NO3_FLAG_W,CFC-11,CFC-11_FLAG_W,CFC-12,CFC-12_FLAG_W,CFC113,CFC113_FLAG_W,CCL4,CCL4_FLAG_W,THETA,SF6,SF6_FLAG_W
,,,,,,,,,,,METERS,DBAR,ITS-90,PSS-78,PSS-78,,UMOL/KG,,UMOL/KG,,UMOL/KG,,UMOL/KG,,UMOL/KG,,UMOL/KG,,PMOL/L,,PMOL/L,,PMOL/L,,PMOL/L,,ITS-90,FMOL/L,
  74DI20100106,        A05,      77,          1,          1,          1,2,20100128,       2022,   24.52075,  -49.53417,       5956,  6064.8,   2.2232,  34.8574,  34.8572,2,   246.0,2,   54.89,2,    1.52,2,  2209.8,3,  2344.6,2,   22.56,2,     -999.0,1,     -999.0,1,     -999.0,1,     -999.0,1,     1.6229,     -999.0,1
  74DI20100106,        A05,      77,          1,          2,          2,2,20100128,       2022,   24.52075,  -49.53417,       5956,  5872.2,   2.1976,  34.8576,  34.8575,2,   246.4,2,   54.75,2,    1.53,2,  2201.8,2,  2345.0,2,   22.94,2,     -999.0,1,     -999.0,9,     -999.0,1,     -999.0,1,     1.6246,     -999.0,1
  74DI20100106,        A05,      77,          1,          3,          3,2,20100128,       2022,   24.52075,  -49.53417,       5956,  5354.6,   2.1363,  34.8588,  34.8579,2,   245.9,2,   54.10,3,    1.52,2,  2201.4,2,  2341.8,2,   22.91,2,     -999.0,1,     -999.0,1,     -999.0,1,     -999.0,1,     1.6342,     -999.0,9
  74DI20100106,        A05,      77,          1,          4,          4,2,20100128,       2022,   24.52075,  -49.53417,       5956,  4841.4,   2.1294,  34.8649,  34.8646,2,   246.9,2,   52.10,2,    1.50,2,  2197.4,2,  2342.9,2,   22.85,2,     -999.0,1,     -999.0,1,     -999.0,1,     -999.0,1,     1.6924,     -999.0,1
  74DI20100106,        A05,      77,          1,          5,          5,2,20100128,       2022,   24.52075,  -49.53417,       5956,  4328.3,   2.2168,  34.8794,  34.8796,2,   249.4,2,   46.73,2,    1.45,2,  2190.5,2,  2338.1,2,   22.06,2,     -999.0,1,     -999.0,1,     -999.0,1,     -999.0,1,     1.8387,     -999.0,1
  74DI20100106,        A05,      77,          1,          6,          6,2,20100128,       2022,   24.52075,  -49.53417,       5956,  3818.2,   2.4074,  34.8998,  34.8996,2,   248.3,2,   41.82,2,    1.42,2,  2184.2,2,  2336.1,2,   21.55,2,     -999.0,1,     -999.0,1,     -999.0,1,     -999.0,1,     2.0823,     -999.0,1
  74DI20100106,        A05,      77,          1,          7,          7,2,20100128,       2022,   24.52075,  -49.53417,       5956,  3307.7,   2.6697,  34.9243,  34.9250,2,   246.2,2,   37.74,2,    1.41,2,  2185.3,2,  2334.6,2,   21.38,2,     -999.0,1,     -999.0,1,     -999.0,1,     -999.0,1,     2.3938,     -999.0,1
  74DI20100106,        A05,      77,          1,          8,          8,2,20100128,       2022,   24.52075,  -49.53417,       5956,  2795.7,   2.9688,  34.9520,  34.9515,2,   244.9,2,   32.42,2,    1.37,2,  2181.8,2,  2331.7,2,   20.83,2,     -999.0,1,     -999.0,1,     -999.0,1,     -999.0,1,     2.7398,     -999.0,1
  74DI20100106,        A05,      77,          1,          9,          9,2,20100128,       2022,   24.52075,  -49.53417,       5956,  2541.8,   3.1527,  34.9690,  34.9683,2,   245.8,2,   29.40,2,    1.34,2,  -999.0,9,  -999.0,9,   20.44,2,     -999.0,1,     -999.0,1,     -999.0,1,     -999.0,1,     2.9457,     -999.0,1
  74DI20100106,        A05,      77,          1,         10,         10,2,20100128,       2022,   24.52075,  -49.53417,       5956,  2287.6,   3.4390,  34.9931,  34.9930,2,   243.5,2,   25.86,2,    1.32,2,  2177.3,2,  2323.9,2,   20.28,2,     -999.0,1,     -999.0,1,     -999.0,1,     -999.0,1,     3.2520,     -999.0,1
  74DI20100106,        A05,      77,          1,         11,         11,2,20100128,       2022,   24.52075,  -49.53417,       5956,  2034.9,   3.9063,  35.0313,  35.0316,2,   240.5,2,   21.43,2,    1.30,2,  -999.0,9,  -999.0,9,   20.09,2,     -999.0,1,     -999.0,1,     -999.0,1,     -999.0,1,     3.7366,     -999.0,1
  74DI20100106,        A05,      77,          1,         12,         12,2,20100128,       2022,   24.52075,  -49.53417,       5956,  1783.0,   4.4358,  35.0572,  35.0553,2,   236.8,2,   17.32,2,    1.29,2,  2173.3,2,  2320.0,2,   20.07,2,     -999.0,1,     -999.0,1,     -999.0,1,     -999.0,1,     4.2832,     -999.0,1
  74DI20100106,        A05,      77,          1,         13,         13,3,20100128,       2022,   24.52075,  -49.53417,       5956,  1531.9,   5.0071,  35.0571,-999.0000,9,  -999.0,9, -999.00,9, -999.00,9,  -999.0,9,  -999.0,9, -999.00,9,     -999.0,9,     -999.0,9,     -999.0,9,     -999.0,9,     4.8723,     -999.0,9
  74DI20100106,        A05,      77,          1,         14,         14,2,20100128,       2022,   24.52075,  -49.53417,       5956,  1277.8,   5.5653,  35.0027,  35.0058,2,   183.4,2,   20.00,2,    1.65,2,  2189.0,2,  2316.6,2,   25.41,2,     -999.0,1,     -999.0,1,     -999.0,1,     -999.0,1,     5.4499,     -999.0,1
  74DI20100106,        A05,      77,          1,         15,         15,2,20100128,       2022,   24.52075,  -49.53417,       5956,  1025.0,   6.7901,  35.0491,  35.0075,2,   145.2,2,   21.17,2,    1.85,2,  -999.0,9,  -999.0,9,   28.94,2,     -999.0,1,     -999.0,1,     -999.0,1,     -999.0,1,     6.6899,     -999.0,1
  74DI20100106,        A05,      77,          1,         16,         16,2,20100128,       2022,   24.52075,  -49.53417,       5956,   881.8,   8.4530,  35.2020,  35.2030,4,   138.7,2,   16.69,2,    1.64,2,  -999.0,9,  -999.0,9,   26.63,2,     -999.0,1,     -999.0,1,     -999.0,1,     -999.0,1,     8.3567,     -999.0,1
  74DI20100106,        A05,      77,          1,         17,         17,2,20100128,       2022,   24.52075,  -49.53417,       5956,   757.5,  10.5055,  35.4446,  35.4409,2,   145.8,2,   11.14,2,    1.33,2,  -999.0,9,  -999.0,9,   22.44,2,     -999.0,1,     -999.0,1,     -999.0,1,     -999.0,1,    10.4119,     -999.0,1
  74DI20100106,        A05,      77,          1,         18,         18,2,20100128,       2022,   24.52075,  -49.53417,       5956,   507.2,  14.6888,  35.9960,  35.9952,2,   176.6,2,    3.92,2,    0.62,2,  2144.5,2,  2354.5,2,   11.53,2,     -999.0,1,     -999.0,1,     -999.0,1,     -999.0,1,    14.6117,     -999.0,1
  74DI20100106,        A05,      77,          1,         19,         19,2,20100128,       2022,   24.52075,  -49.53417,       5956,   378.1,  17.3372,  36.4341,  36.4305,2,   197.8,2,    1.86,2,    0.24,2,  -999.0,9,  -999.0,9,    5.21,2,     -999.0,9,     -999.0,9,     -999.0,9,     -999.0,9,    17.2731,     -999.0,9
  74DI20100106,        A05,      77,          1,         20,         20,2,20100128,       2022,   24.52075,  -49.53417,       5956,   251.7,  18.1431,  36.5605,  36.5604,2,   200.5,2,    1.31,2,    0.14,2,  2107.3,2,  2386.2,2,    3.43,2,     -999.0,9,     -999.0,9,     -999.0,9,     -999.0,9,    18.0992,     -999.0,9
  74DI20100106,        A05,      77,          1,         21,         21,2,20100128,       2022,   24.52075,  -49.53417,       5956,   176.4,  20.4641,  37.0028,  37.0085,2,   188.7,2,    0.84,2,    0.01,2,  -999.0,9,  -999.0,9,    1.17,2,     -999.0,9,     -999.0,9,     -999.0,9,     -999.0,9,    20.4306,     -999.0,9
  74DI20100106,        A05,      77,          1,         22,         22,2,20100128,       2022,   24.52075,  -49.53417,       5956,   119.0,  23.2021,  37.2561,  37.3083,4,   202.9,2,    0.69,2,    0.00,2,  -999.0,9,  -999.0,9,    0.00,2,     -999.0,1,     -999.0,1,     -999.0,1,     -999.0,1,    23.1774,     -999.0,1
  74DI20100106,        A05,      77,          1,         23,         23,10,20100128,       2022,   24.52075,  -49.53417,       5956,    49.4,  23.7173,  37.3296,  37.3306,2,   205.3,2,    0.69,2,    0.00,2,  -999.0,9,  -999.0,9,    0.00,2,     -999.0,9,     -999.0,9,     -999.0,9,     -999.0,9,    23.7069,     -999.0,9
  74DI20100106,        A05,      77,          1,         24,         24,2,20100128,       2022,   24.52075,  -49.53417,       5956,     5.4,  23.7178,  37.3307,  37.3317,2,   205.5,2,    0.71,2,    0.00,2,  2081.6,2,  2432.8,2,    0.00,2,     -999.0,1,     -999.0,1,     -999.0,1,     -999.0,1,    23.7167,     -999.0,1
  74DI20100106,        A05,      78,          1,          1,          1,2,20100129,       0409,   24.34898,  -49.00817,       5390,  5482.0,   2.1450,  34.8569,  34.8587,2,   251.3,3,   55.30,2,    1.52,2,  2197.5,2,  2345.0,2,   22.97,2,     -999.0,9,     -999.0,9,     -999.0,9,     -999.0,9,     1.6260,     -999.0,9
  74DI20100106,        A05,      78,          1,          2,          2,2,20100129,       0409,   24.34898,  -49.00817,       5390,  5098.1,   2.1023,  34.8582,  34.8597,2,   243.6,2,   54.68,2,    1.52,2,  2193.3,2,  2343.3,2,   23.18,2,     -999.0,9,     -999.0,9,     -999.0,9,     -999.0,9,     1.6342,     -999.0,9
  74DI20100106,        A05,      78,          1,          3,          3,2,20100129,       0409,   24.34898,  -49.00817,       5390,  4585.6,   2.1738,  34.8721,  34.8817,2,   252.2,3,   47.06,2,    1.44,2,  2184.6,2,  2341.6,2,   22.06,2,     -999.0,1,     -999.0,1,     -999.0,1,     -999.0,1,     1.7665,     -999.0,1
  74DI20100106,        A05,      78,          1,          4,          4,2,20100129,       0409,   24.34898,  -49.00817,       5390,  4073.4,   2.3011,  34.8886,  34.8900,2,   248.4,2,   44.70,2,    1.43,2,  2181.8,2,  2340.1,2,   21.68,2,     -999.0,1,     -999.0,1,     -999.0,1,     -999.0,1,     1.9501,     -999.0,1
  74DI20100106,        A05,      78,          1,          5,          5,2,20100129,       0409,   24.34898,  -49.00817,       5390,  3561.1,   2.5386,  34.9119,  34.9142,2,   247.8,2,   40.11,2,    1.41,2,  2180.4,2,  2337.4,2,   21.26,2,     -999.0,1,     -999.0,1,     -999.0,1,     -999.0,1,     2.2386,     -999.0,1
  74DI20100106,        A05,      78,          1,          6,          6,10,20100129,       0409,   24.34898,  -49.00817,       5390,  3049.1,   2.8412,  34.9397,  34.9410,2,   249.3,2,   34.96,2,    1.37,2,  2175.1,2,  2336.4,2,   20.92,2,     -999.0,1,     -999.0,1,     -999.0,1,     -999.0,9,     2.5887,     -999.0,1
  74DI20100106,        A05,      78,          1,          7,          7,2,20100129,       0409,   24.34898,  -49.00817,       5390,  2540.5,   3.1382,  34.9667,  34.9675,2,   246.3,2,   29.12,2,    1.31,2,  2168.7,2,  2329.3,2,   20.16,2,     -999.0,9,     -999.0,9,     -999.0,9,     -999.0,9,     2.9316,     -999.0,1
  74DI20100106,        A05,      78,          1,          8,          8,2,20100129,       0409,   24.34898,  -49.00817,       5390,  2283.7,   3.3630,  34.9866,  34.9877,2,   244.3,2,   26.60,2,    1.32,2,  -999.0,9,  -999.0,9,   20.01,2,     -999.0,1,     -999.0,1,     -999.0,1,     -999.0,1,     3.1777,     -999.0,1
  74DI20100106,        A05,      78,          1,          9,          9,2,20100129,       0409,   24.34898,  -49.00817,       5390,  2025.5,   3.8836,  35.0321,  35.0337,2,   240.7,2,   21.67,2,    1.30,2,  2172.0,3,  2323.8,2,   19.81,2,     -999.0,1,     -999.0,1,     -999.0,1,     -999.0,1,     3.7151,     -999.0,1
  74DI20100106,        A05,      78,          1,         10,         10,3,20100129,       0409,   24.34898,  -49.00817,       5390,  1774.8,   4.4887,  35.0752,-999.0000,9,  -999.0,9, -999.00,9, -999.00,9,  -999.0,9,  -999.0,9, -999.00,9,     -999.0,9,     -999.0,9,     -999.0,9,     -999.0,9,     4.3362,     -999.0,9
  74DI20100106,        A05,      78,          1,         11,         11,2,20100129,       0409,   24.34898,  -49.00817,       5390,  1522.5,   4.9035,  35.0532,  35.0569,2,   225.7,2,   15.71,2,    1.31,2,  2164.7,2,  2316.6,2,   20.52,2,     -999.0,1,     -999.0,1,     -999.0,1,     -999.0,1,     4.7707,     -999.0,1
  74DI20100106,        A05,      78,          1,         12,         12,2,20100129,       0409,   24.34898,  -49.00817,       5390,  1267.5,   5.5404,  35.0103,  35.0287,2,   202.8,4,   18.16,2,    1.49,2,  -999.0,9,  -999.0,9,   23.21,2,     -999.0,1,     -999.0,1,     -999.0,1,     -999.0,1,     5.4263,     -999.0,9
  74DI20100106,        A05,      78,          1,         13,         13,2,20100129,       0409,   24.34898,  -49.00817,       5390,  1016.4,   6.7440,  35.0037,  35.0067,2,   146.5,2,   20.83,2,    1.83,2,  2204.1,2,  2314.8,2,   28.87,2,     -999.0,1,     -999.0,1,     -999.0,1,     -999.0,1,     6.6452,     -999.0,1
  74DI20100106,        A05,      78,          1,         14,         14,2,20100129,       0409,   24.34898,  -49.00817,       5390,   886.9,   8.3513,  35.1748,  35.1740,2,   137.3,2,   17.02,2,    1.67,2,  -999.0,9,  -999.0,9,   27.45,2,     -999.0,1,     -999.0,1,     -999.0,1,     -999.0,1,     8.2551,     -999.0,1
  74DI20100106,        A05,      78,          1,         15,         15,10,20100129,       0409,   24.34898,  -49.00817,       5390,   756.6,  10.6221,  35.4540,  35.4559,2,   144.7,2,   10.84,2,    1.32,2,  2185.3,2,  2329.5,2,   22.07,2,     -999.0,1,     -999.0,1,     -999.0,1,     -999.0,1,    10.5280,     -999.0,1
  74DI20100106,        A05,      78,          1,         16,         16,2,20100129,       0409,   24.34898,  -49.00817,       5390,   633.9,  12.1752,  35.6469,  35.6460,2,   158.8,2,    7.25,2,    1.01,2,  2169.8,2,  2336.7,2,   17.73,2,     -999.0,1,     -999.0,1,     -999.0,1,     -999.0,1,    12.0897,     -999.0,1
  74DI20100106,        A05,      78,          1,         17,         17,2,20100129,       0409,   24.34898,  -49.00817,       5390,   504.3,  14.3688,  35.9408,  35.9349,2,   158.7,2,    4.79,2,    0.79,2,  -999.0,9,  -999.0,9,   14.22,2,     -999.0,9,     -999.0,9,     -999.0,9,     -999.0,9,    14.2933,     -999.0,9
  74DI20100106,        A05,      78,          1,         18,         18,2,20100129,       0409,   24.34898,  -49.00817,       5390,   377.4,  16.4344,  36.2724,  36.2722,2,   184.1,2,    2.62,2,    0.41,2,  2136.1,2,  2373.3,2,    7.99,2,     -999.0,1,     -999.0,1,     -999.0,1,     -999.0,1,    16.3727,     -999.0,1
  74DI20100106,        A05,      78,          1,         19,         19,2,20100129,       0409,   24.34898,  -49.00817,       5390,   253.3,  18.3377,  36.5895,  36.5902,2,   189.9,2,    1.39,2,    0.15,2,  -999.0,9,  -999.0,9,    3.99,2,     -999.0,9,     -999.0,9,     -999.0,9,     -999.0,9,    18.2931,     -999.0,9
  74DI20100106,        A05,      78,          1,         20,         20,2,20100129,       0409,   24.34898,  -49.00817,       5390,   174.5,  20.8164,  37.0062,  37.0083,2,   187.8,2,    0.87,2,    0.00,2,  2124.6,2,  2415.2,2,    1.01,2,     -999.0,1,     -999.0,1,     -999.0,1,     -999.0,1,    20.7828,     -999.0,1
  74DI20100106,        A05,      78,          1,         21,         21,2,20100129,       0409,   24.34898,  -49.00817,       5390,   131.5,  22.7158,  37.3603,  37.3579,2,   197.9,2,    0.70,2,    0.00,2,  -999.0,9,  -999.0,9,    0.23,2,     -999.0,9,     -999.0,9,     -999.0,9,     -999.0,9,    22.6889,     -999.0,9
  74DI20100106,        A05,      78,          1,         22,         22,2,20100129,       0409,   24.34898,  -49.00817,       5390,    76.8,  23.9283,  37.3849,  37.3852,2,   200.0,2,    0.74,2,    0.00,2,  2089.0,2,  2436.2,2,    0.00,2,     -999.0,1,     -999.0,1,     -999.0,1,     -999.0,1,    23.9120,     -999.0,1
  74DI20100106,        A05,      78,          1,         23,         23,10,20100129,       0409,   24.34898,  -49.00817,       5390,    50.4,  23.9929,  37.4087,  37.4084,2,   207.7,2,    0.71,2,    0.00,2,  2089.4,2,  2437.2,2,    0.00,2,     -999.0,9,     -999.0,9,     -999.0,9,     -999.0,9,    23.9822,     -999.0,9
  74DI20100106,        A05,      78,          1,         24,         24,10,20100129,       0409,   24.34898,  -49.00817,       5390,     5.5,  23.9780,  37.4088,  37.4084,2,   203.3,2,    0.71,2,    0.00,2,  2090.0,2,  2435.5,2,    0.00,2,     -999.0,1,     -999.0,1,     -999.0,1,     -999.0,1,    23.9769,     -999.0,1