BOTTLE,20200115CCHSIOCBG
EXPOCODE,SECT_ID,STNNBR,CASTNO,SAMPNO,BTLNBR,BTLNBR_FLAG_W,DATE,TIME,LATITUDE,LONGITUDE,DEPTH,CTDPRS,CTDTMP,CTDSAL,SALNTY,SALNTY_FLAG_W,OXYGEN,OXYGEN_FLAG_W,SILCAT,SILCAT_FLAG_W,PHSPHT,PHSPHT_FLAG_W,TCARBN,TCARBN_FLAG_W,ALKALI,ALKALI_FLAG_W,NO2+NO3,NO2+NO3_FLAG_W,CFC-11,CFC-11_FLAG_W,CFC-12,CFC-12_FLAG_W,CFC113,CFC113_FLAG_W,CCL4,CCL4_FLAG_W,THETA,SF6,SF6_FLAG_W
,,,,,,,,,,,METERS,DBAR,ITS-90,PSS-78,PSS-78,,UMOL/KG,,UMOL/KG,,UMOL/KG,,UMOL/KG,,UMOL/KG,,UMOL/KG,,PMOL/L,,PMOL/L,,PMOL/L,,PMOL/L,,ITS-90,FMOL/L,
  74DI20100106,        A05,     119,          1,          1,         25,2,20100211,       2230,   25.13669,  -21.65230,       4650,  4719.1,   2.4042,  34.8886,  34.8903,2,   239.1,2,   49.54,2,    1.53,2,  -999.0,9,  -999.0,9,   23.23,2,     -999.0,1,     -999.0,1,     -999.0,1,     -999.0,1,     1.9732,     -999.0,1
  74DI20100106,        A05,     119,          1,          2,          2,2,20100211,       2230,   25.13669,  -21.65230,       4650,  4718.7,   2.4044,  34.8885,  34.8892,2,   238.1,2,   49.52,2,    1.52,2,  -999.0,9,  -999.0,9,   22.84,2,     -999.0,1,     -999.0,1,     -999.0,1,     -999.0,1,     1.9734,     -999.0,1
  74DI20100106,        A05,     119,          1,          3,          3,2,20100211,       2230,   25.13669,  -21.65230,       4650,  4321.9,   2.3781,  34.8913,  34.8924,2,   238.8,2,   49.45,2,    1.51,2,  2196.5,2,  2349.0,2,   23.03,2,     -999.0,1,     -999.0,1,     -999.0,1,     -999.0,1,     1.9958,     -999.0,1
  74DI20100106,        A05,     119,          1,          4,          4,2,20100211,       2230,   25.13669,  -21.65230,       4650,  3811.2,   2.4411,  34.9036,  34.9041,2,   237.8,2,   46.78,2,    1.50,2,  2204.1,2,  2347.9,2,   22.93,2,     -999.0,1,     -999.0,1,     -999.0,1,     -999.0,1,     2.1159,     -999.0,1
  74DI20100106,        A05,     119,          1,          5,          5,2,20100211,       2230,   25.13669,  -21.65230,       4650,  3300.5,   2.6311,  34.9257,  34.9263,2,   234.0,2,   42.66,2,    1.43,2,  2193.8,2,  2344.7,2,   22.54,2,     -999.0,1,     -999.0,1,     -999.0,1,     -999.0,1,     2.3569,     -999.0,1
  74DI20100106,        A05,     119,          1,          6,          6,10,20100211,       2230,   25.13669,  -21.65230,       4650,  2790.9,   3.0446,  34.9669,  34.9686,2,   235.6,2,   34.07,2,    1.47,2,  2179.0,3,  2336.1,3,   21.57,2,     -999.0,1,     -999.0,1,     -999.0,1,     -999.0,1,     2.8145,     -999.0,1
  74DI20100106,        A05,     119,          1,          7,          7,2,20100211,       2230,   25.13669,  -21.65230,       4650,  2537.8,   3.3162,  34.9915,  34.9921,2,   227.9,2,   32.53,2,    1.47,2,  -999.0,9,  -999.0,9,   21.96,2,     -999.0,1,     -999.0,1,     -999.0,1,     -999.0,1,     3.1064,     -999.0,1
  74DI20100106,        A05,     119,          1,          8,          8,2,20100211,       2230,   25.13669,  -21.65230,       4650,  2282.5,   3.6154,  35.0206,  35.0209,2,   222.6,2,   30.92,2,    1.48,2,  2187.0,2,  2333.5,2,   22.54,2,     -999.0,1,     -999.0,1,     -999.0,1,     -999.0,1,     3.4259,     -999.0,1
  74DI20100106,        A05,     119,          1,          9,          9,2,20100211,       2230,   25.13669,  -21.65230,       4650,  2027.0,   4.0317,  35.0640,  35.0641,2,   216.8,2,   28.27,2,    1.48,2,  -999.0,9,  -999.0,9,   22.25,2,     -999.0,1,     -999.0,1,     -999.0,1,     -999.0,1,     3.8607,     -999.0,1
  74DI20100106,        A05,     119,          1,         10,         10,2,20100211,       2230,   25.13669,  -21.65230,       4650,  1774.0,   4.5842,  35.1146,  35.1148,2,   208.2,2,   25.26,2,    1.48,2,  2184.3,2,  2329.7,2,   22.74,2,     -999.0,1,     -999.0,1,     -999.0,1,     -999.0,1,     4.4304,     -999.0,1
  74DI20100106,        A05,     119,          1,         11,         11,2,20100211,       2230,   25.13669,  -21.65230,       4650,  1522.7,   5.4567,  35.2006,  35.2002,2,   195.5,2,   21.97,2,    1.73,2,  -999.0,9,  -999.0,9,   22.54,2,     -999.0,1,     -999.0,1,     -999.0,1,     -999.0,1,     5.3173,     -999.0,1
  74DI20100106,        A05,     119,          1,         12,         12,3,20100211,       2230,   25.13669,  -21.65230,       4650,  1270.0,   6.6298,  35.2746,-999.0000,9,  -999.0,9, -999.00,9, -999.00,9,  -999.0,9,  -999.0,9, -999.00,9,     -999.0,9,     -999.0,9,     -999.0,9,     -999.0,9,     6.5047,     -999.0,9
  74DI20100106,        A05,     119,          1,         13,         13,2,20100211,       2230,   25.13669,  -21.65230,       4650,  1010.3,   7.3696,  35.2111,  35.2104,2,   145.7,2,   19.08,2,    1.82,2,  2202.6,2,  2323.2,2,   27.61,2,     -999.0,1,     -999.0,1,     -999.0,1,     -999.0,1,     7.2664,     -999.0,1
  74DI20100106,        A05,     119,          1,         14,         14,2,20100211,       2230,   25.13669,  -21.65230,       4650,   883.5,   7.9248,  35.1830,  35.1884,2,   125.8,2,   18.72,2,    1.80,2,  2209.8,2,  2319.5,2,   29.08,2,     -999.0,1,     -999.0,1,     -999.0,1,     -999.0,1,     7.8317,     -999.0,1
  74DI20100106,        A05,     119,          1,         15,         26,2,20100211,       2230,   25.13669,  -21.65230,       4650,   758.0,   9.1276,  35.2906,-999.0000,9,   118.8,2,   15.79,2,    1.54,2,  -999.0,9,  -999.0,9,   27.71,2,     -999.0,1,     -999.0,1,     -999.0,1,     -999.0,1,     9.0416,     -999.0,1
  74DI20100106,        A05,     119,          1,         16,         16,2,20100211,       2230,   25.13669,  -21.65230,       4650,   629.8,  10.3876,  35.4182,-999.0000,9,   118.9,2,   12.52,2,    1.19,2,  -999.0,9,  -999.0,9,   25.36,2,     -999.0,1,     -999.0,1,     -999.0,1,     -999.0,1,    10.3108,     -999.0,1
  74DI20100106,        A05,     119,          1,         17,         17,2,20100211,       2230,   25.13669,  -21.65230,       4650,   503.4,  12.1004,  35.6378,  35.6363,2,   138.4,2,    8.08,2,    0.87,2,  2184.0,2,  2335.2,2,   20.09,2,     -999.0,1,     -999.0,1,     -999.0,1,     -999.0,1,    12.0331,     -999.0,1
  74DI20100106,        A05,     119,          1,         18,         18,2,20100211,       2230,   25.13669,  -21.65230,       4650,   379.8,  14.0027,  35.9146,  35.9138,2,   155.1,2,    5.14,2,    0.69,2,  -999.0,9,  -999.0,9,   14.63,2,     -999.0,9,     -999.0,9,     -999.0,9,     -999.0,9,    13.9470,     -999.0,9
  74DI20100106,        A05,     119,          1,         19,         27,2,20100211,       2230,   25.13669,  -21.65230,       4650,   251.4,  16.0124,  36.2406,  36.2380,2,   152.7,2,    3.70,2,    0.43,2,  -999.0,9,  -999.0,9,   11.80,2,     -999.0,1,     -999.0,1,     -999.0,1,     -999.0,1,    15.9721,     -999.0,1
  74DI20100106,        A05,     119,          1,         20,         20,2,20100211,       2230,   25.13669,  -21.65230,       4650,   176.8,  17.9198,  36.6074,  36.6092,2,   171.0,2,    2.09,2,    0.08,2,  -999.0,9,  -999.0,9,    7.02,2,     -999.0,9,     -999.0,9,     -999.0,9,     -999.0,9,    17.8893,     -999.0,9
  74DI20100106,        A05,     119,          1,         21,         21,2,20100211,       2230,   25.13669,  -21.65230,       4650,    93.9,  21.9755,  37.0509,  36.9805,4,   204.1,2,    0.80,2,    0.00,2,  -999.0,9,  -999.0,9,    1.07,2,     -999.0,1,     -999.0,1,     -999.0,1,     -999.0,1,    21.9568,     -999.0,1
  74DI20100106,        A05,     119,          1,         22,         22,3,20100211,       2230,   25.13669,  -21.65230,       4650,    50.9,  22.1645,  37.0456,-999.0000,9,  -999.0,9, -999.00,9, -999.00,9,  -999.0,9,  -999.0,9, -999.00,9,     -999.0,9,     -999.0,9,     -999.0,9,     -999.0,9,    22.1543,     -999.0,9
  74DI20100106,        A05,     119,          1,         23,         23,2,20100211,       2230,   25.13669,  -21.65230,       4650,    25.1,  22.1730,  37.0388,  37.0400,2,   211.7,2,    0.58,2,    0.02,2,  2104.6,2,  2419.9,2,    0.00,2,     -999.0,9,     -999.0,9,     -999.0,9,     -999.0,9,    22.1680,     -999.0,9
  74DI20100106,        A05,     119,          1,         24,         24,2,20100211,       2230,   25.13669,  -21.65230,       4650,     2.9,  22.2605,  37.0467,  37.0481,2,   211.4,2,    0.58,2,    0.02,3,  2104.2,2,  2420.5,2,    0.00,2,     -999.0,1,     -999.0,1,     -999.0,1,     -999.0,1,    22.2599,     -999.0,1
  74DI20100106,        A05,     120,          1,          1,         25,2,20100212,       0512,   25.33459,  -21.03036,       4457,  4518.1,   2.3965,  34.8901,  34.8923,2,   238.1,2,   49.64,2,    1.51,2,  -999.0,9,  -999.0,9,   23.03,2,     -999.0,1,     -999.0,1,     -999.0,1,     -999.0,1,     1.9902,     -999.0,1
  74DI20100106,        A05,     120,          1,          2,          2,2,20100212,       0512,   25.33459,  -21.03036,       4457,  4519.2,   2.3964,  34.8901,  34.8905,3,   238.1,2,   49.82,2,    1.51,2,  -999.0,9,  -999.0,9,   22.93,2,     -999.0,1,     -999.0,1,     -999.0,1,     -999.0,1,     1.9901,     -999.0,1
  74DI20100106,        A05,     120,          1,          3,          3,4,20100212,       0512,   25.33459,  -21.03036,       4457,  4073.7,   2.3908,  34.8953,  34.9288,3,   228.4,3,   42.82,3,    1.49,3,  -999.0,9,  -999.0,9,   22.74,3,     -999.0,1,     -999.0,1,     -999.0,1,     -999.0,1,     2.0372,     -999.0,1
  74DI20100106,        A05,     120,          1,          4,          4,2,20100212,       0512,   25.33459,  -21.03036,       4457,  3560.8,   2.5370,  34.9141,  34.9150,2,   232.3,2,   45.64,2,    1.49,2,  -999.0,9,  -999.0,9,   22.74,2,     -999.0,1,     -999.0,1,     -999.0,1,     -999.0,1,     2.2370,     -999.0,1
  74DI20100106,        A05,     120,          1,          5,          5,2,20100212,       0512,   25.33459,  -21.03036,       4457,  3049.5,   2.7852,  34.9393,  34.9396,2,   229.5,2,   40.57,2,    1.47,2,  -999.0,9,  -999.0,9,   22.45,2,     -999.0,1,     -999.0,1,     -999.0,1,     -999.0,1,     2.5339,     -999.0,1
  74DI20100106,        A05,     120,          1,          6,          6,2,20100212,       0512,   25.33459,  -21.03036,       4457,  2540.6,   3.2855,  34.9889,  34.9890,2,   226.6,2,   33.99,2,    1.46,2,  -999.0,9,  -999.0,9,   22.25,2,     -999.0,1,     -999.0,1,     -999.0,1,     -999.0,1,     3.0760,     -999.0,1
  74DI20100106,        A05,     120,          1,          7,          7,3,20100212,       0512,   25.33459,  -21.03036,       4457,  2286.6,   3.6003,  35.0203,-999.0000,9,  -999.0,9, -999.00,9, -999.00,9,  -999.0,9,  -999.0,9, -999.00,9,     -999.0,9,     -999.0,9,     -999.0,9,     -999.0,9,     3.4106,     -999.0,9
  74DI20100106,        A05,     120,          1,          8,          8,2,20100212,       0512,   25.33459,  -21.03036,       4457,  2031.8,   4.0351,  35.0644,  35.0654,2,   216.9,2, -999.00,9, -999.00,9,  -999.0,9,  -999.0,9, -999.00,9,     -999.0,1,     -999.0,1,     -999.0,1,     -999.0,1,     3.8636,     -999.0,1
  74DI20100106,        A05,     120,          1,          9,          9,2,20100212,       0512,   25.33459,  -21.03036,       4457,  1770.6,   4.7217,  35.1268,  35.1269,2,   205.9,2,   24.58,2,    1.46,2,  -999.0,9,  -999.0,9,   22.73,2,     -999.0,1,     -999.0,1,     -999.0,1,     -999.0,1,     4.5664,     -999.0,1
  74DI20100106,        A05,     120,          1,         10,         10,2,20100212,       0512,   25.33459,  -21.03036,       4457,  1514.7,   5.5381,  35.2024,  35.2023,2,   193.1,2,   21.86,2,    1.48,2,  2196.3,2,  2334.5,2,   23.03,2,     -999.0,1,     -999.0,1,     -999.0,1,     -999.0,1,     5.3987,     -999.0,1
  74DI20100106,        A05,     120,          1,         11,         11,2,20100212,       0512,   25.33459,  -21.03036,       4457,  1261.3,   6.8012,  35.2899,  35.2886,2,   171.2,2,   19.05,2,    1.53,2,  2202.2,2,  2335.4,2,   24.59,2,     -999.0,1,     -999.0,1,     -999.0,1,     -999.0,1,     6.6754,     -999.0,1
  74DI20100106,        A05,     120,          1,         12,         12,3,20100212,       0512,   25.33459,  -21.03036,       4457,  1010.5,   7.2286,  35.1594,-999.0000,9,  -999.0,9, -999.00,9, -999.00,9,  -999.0,9,  -999.0,9, -999.00,9,     -999.0,9,     -999.0,9,     -999.0,9,     -999.0,9,     7.1265,     -999.0,9
  74DI20100106,        A05,     120,          1,         13,         13,2,20100212,       0512,   25.33459,  -21.03036,       4457,   884.2,   8.0309,  35.1755,  35.1743,2,   119.6,2,   18.93,2,    1.85,2,  -999.0,9,  -999.0,9,   29.86,2,     -999.0,1,     -999.0,1,     -999.0,1,     -999.0,1,     7.9371,     -999.0,9
  74DI20100106,        A05,     120,          1,         14,         14,2,20100212,       0512,   25.33459,  -21.03036,       4457,   757.7,   9.0956,  35.2594,  35.2822,3,   108.3,2,   15.81,2,    1.76,2,  -999.0,9,  -999.0,9,   29.37,2,     -999.0,1,     -999.0,1,     -999.0,1,     -999.0,1,     9.0098,     -999.0,1
  74DI20100106,        A05,     120,          1,         15,         26,2,20100212,       0512,   25.33459,  -21.03036,       4457,   630.6,  10.9737,  35.4888,  35.4840,2,   123.3,2,   10.73,2,    1.41,2,  -999.0,9,  -999.0,9,   24.00,2,     -999.0,1,     -999.0,1,     -999.0,1,     -999.0,1,    10.8940,     -999.0,1
  74DI20100106,        A05,     120,          1,         16,         16,2,20100212,       0512,   25.33459,  -21.03036,       4457,   504.2,  12.4340,  35.6819,  35.6795,2,   139.3,2,    7.43,2,    1.11,2,  -999.0,9,  -999.0,9,   19.31,2,     -999.0,9,     -999.0,9,     -999.0,9,     -999.0,9,    12.3654,     -999.0,9
  74DI20100106,        A05,     120,          1,         17,         17,2,20100212,       0512,   25.33459,  -21.03036,       4457,   378.3,  14.1834,  35.9172,  35.9147,2,   133.9,2,    5.80,2,    0.98,2,  -999.0,9,  -999.0,9,   17.26,2,     -999.0,9,     -999.0,9,     -999.0,9,     -999.0,9,    14.1275,     -999.0,9
  74DI20100106,        A05,     120,          1,         18,         18,2,20100212,       0512,   25.33459,  -21.03036,       4457,   252.6,  16.8524,  36.4439,  36.4486,2,   187.6,2,    2.06,2,    0.36,2,  -999.0,9,  -999.0,9,    6.34,2,     -999.0,9,     -999.0,9,     -999.0,9,     -999.0,9,    16.8105,     -999.0,9
  74DI20100106,        A05,     120,          1,         19,         27,2,20100212,       0512,   25.33459,  -21.03036,       4457,   177.2,  17.9098,  36.5894,  36.6045,2,   171.4,2,    2.15,2,    0.41,2,  -999.0,9,  -999.0,9,    6.92,2,     -999.0,9,     -999.0,9,     -999.0,9,     -999.0,9,    17.8791,     -999.0,9
  74DI20100106,        A05,     120,          1,         20,         20,2,20100212,       0512,   25.33459,  -21.03036,       4457,   101.8,  21.5732,  36.9910,  36.9862,2,   203.0,2,    0.79,2,    0.08,2,  -999.0,9,  -999.0,9,    1.07,2,     -999.0,9,     -999.0,9,     -999.0,9,     -999.0,9,    21.5532,     -999.0,9
  74DI20100106,        A05,     120,          1,         21,         21,2,20100212,       0512,   25.33459,  -21.03036,       4457,    76.1,  22.0009,  37.0373,  37.0392,2,   205.9,2,    0.67,2,    0.03,2,  -999.0,9,  -999.0,9,    0.39,2,     -999.0,9,     -999.0,9,     -999.0,9,     -999.0,9,    21.9858,     -999.0,9
  74DI20100106,        A05,     120,          1,         22,         22,3,20100212,       0512,   25.33459,  -21.03036,       4457,    50.8,  22.0740,  36.9904,-999.0000,9,  -999.0,9, -999.00,9, -999.00,9,  -999.0,9,  -999.0,9, -999.00,9,     -999.0,9,     -999.0,9,     -999.0,9,     -999.0,9,    22.0638,     -999.0,9
  74DI20100106,        A05,     120,          1,         23,         23,2,20100212,       0512,   25.33459,  -21.03036,       4457,     2.9,  22.0888,  36.9937,  36.9929,2,   211.5,2,    0.58,2,    0.00,2,  -999.0,9,  -999.0,9,    0.10,2,     -999.0,9,     -999.0,9,     -999.0,9,     -999.0,9,    22.0882,     -999.0,9
  74DI20100106,        A05,     120,          1,         24,         24,2,20100212,       0512,   25.33459,  -21.03036,       4457,     2.9,  22.0886,  36.9936,  36.9928,2,   212.1,2,    0.97,2,    0.01,2,  -999.0,9,  -999.0,9,    0.10,2,     -999.0,9,     -999.0,9,     -999.0,9,     -999.0,9,    22.0880,     -999.0,9