BOTTLE,20200115CCHSIOCBG
EXPOCODE,SECT_ID,STNNBR,CASTNO,SAMPNO,BTLNBR,BTLNBR_FLAG_W,DATE,TIME,LATITUDE,LONGITUDE,DEPTH,CTDPRS,CTDTMP,CTDSAL,SALNTY,SALNTY_FLAG_W,OXYGEN,OXYGEN_FLAG_W,SILCAT,SILCAT_FLAG_W,PHSPHT,PHSPHT_FLAG_W,TCARBN,TCARBN_FLAG_W,ALKALI,ALKALI_FLAG_W,NO2+NO3,NO2+NO3_FLAG_W,CFC-11,CFC-11_FLAG_W,CFC-12,CFC-12_FLAG_W,CFC113,CFC113_FLAG_W,CCL4,CCL4_FLAG_W,THETA,SF6,SF6_FLAG_W
,,,,,,,,,,,METERS,DBAR,ITS-90,PSS-78,PSS-78,,UMOL/KG,,UMOL/KG,,UMOL/KG,,UMOL/KG,,UMOL/KG,,UMOL/KG,,PMOL/L,,PMOL/L,,PMOL/L,,PMOL/L,,ITS-90,FMOL/L,
  74DI20100106,        A05,     105,          1,          1,         25,10,20100207,       0410,   24.49638,  -31.00274,       5909,  6009.6,   2.5061,  34.8824,  34.8832,2,   239.8,2,   50.09,2,    1.50,2,  -999.0,9,  -999.0,9,   22.70,2,     -999.0,9,     -999.0,9,     -999.0,9,     -999.0,9,     1.9023,     -999.0,9
  74DI20100106,        A05,     105,          1,          2,          2,2,20100207,       0410,   24.49638,  -31.00274,       5909,  5880.2,   2.4912,  34.8828,  34.8828,2,   240.2,2,   49.58,2,    1.51,2,  2199.4,2,  2348.3,2,   22.78,2,     -999.0,1,     -999.0,1,     -999.0,1,     -999.0,1,     1.9058,     -999.0,1
  74DI20100106,        A05,     105,          1,          3,          3,2,20100207,       0410,   24.49638,  -31.00274,       5909,  5365.5,   2.4247,  34.8833,  34.8835,2,   239.2,2,   49.38,2,    1.50,2,  2200.9,2,  -999.0,9,   22.95,2,     -999.0,9,     -999.0,9,     -999.0,9,     -999.0,9,     1.9108,     -999.0,9
  74DI20100106,        A05,     105,          1,          4,          4,2,20100207,       0410,   24.49638,  -31.00274,       5909,  4851.0,   2.3868,  34.8866,  34.8860,2,   240.4,2,   49.41,2,    1.49,2,  -999.0,9,  -999.0,9,   22.71,2,     -999.0,9,     -999.0,9,     -999.0,9,     -999.0,9,     1.9400,     -999.0,9
  74DI20100106,        A05,     105,          1,          5,          5,10,20100207,       0410,   24.49638,  -31.00274,       5909,  4338.9,   2.3841,  34.8929,  34.8931,2,   239.0,2,   47.98,2,    1.49,2,  -999.0,9,  -999.0,9,   22.69,2,     -999.0,9,     -999.0,9,     -999.0,9,     -999.0,9,     1.9997,     -999.0,9
  74DI20100106,        A05,     105,          1,          6,          6,2,20100207,       0410,   24.49638,  -31.00274,       5909,  3825.1,   2.4449,  34.9045,  34.9049,2,   239.3,2,   45.14,2,    1.47,2,  -999.0,9,  -999.0,9,   22.25,2,     -999.0,9,     -999.0,9,     -999.0,9,     -999.0,9,     2.1181,     -999.0,9
  74DI20100106,        A05,     105,          1,          7,          7,2,20100207,       0410,   24.49638,  -31.00274,       5909,  3312.6,   2.5966,  34.9239,  34.9236,2,   239.1,2,   40.57,2,    1.45,2,  -999.0,9,  -999.0,9,   21.90,2,     -999.0,9,     -999.0,9,     -999.0,9,     -999.0,9,     2.3219,     -999.0,9
  74DI20100106,        A05,     105,          1,          8,          8,2,20100207,       0410,   24.49638,  -31.00274,       5909,  2803.5,   2.9000,  34.9554,  34.9557,2,   239.6,2,   33.99,2,    1.39,2,  -999.0,9,  -999.0,9,   21.03,2,     -999.0,9,     -999.0,9,     -999.0,9,     -999.0,9,     2.6716,     -999.0,9
  74DI20100106,        A05,     105,          1,          9,          9,2,20100207,       0410,   24.49638,  -31.00274,       5909,  2542.8,   3.1801,  34.9826,  34.9822,2,   238.3,2,   29.87,2,    1.37,2,  -999.0,9,  -999.0,9,   20.84,2,     -999.0,9,     -999.0,9,     -999.0,9,     -999.0,9,     2.9725,     -999.0,9
  74DI20100106,        A05,     105,          1,         10,         10,2,20100207,       0410,   24.49638,  -31.00274,       5909,  2291.1,   3.5226,  35.0162,  35.0162,2,   235.8,2,   26.43,2,    1.36,2,  -999.0,9,  -999.0,9,   20.86,2,     -999.0,9,     -999.0,9,     -999.0,9,     -999.0,9,     3.3337,     -999.0,9
  74DI20100106,        A05,     105,          1,         11,         11,10,20100207,       0410,   24.49638,  -31.00274,       5909,  2033.3,   3.9955,  35.0596,  35.0600,2,   228.9,2,   23.53,2,    1.39,2,  -999.0,9,  -999.0,9,   20.89,2,     -999.0,9,     -999.0,9,     -999.0,9,     -999.0,9,     3.8245,     -999.0,9
  74DI20100106,        A05,     105,          1,         12,         12,10,20100207,       0410,   24.49638,  -31.00274,       5909,  1781.7,   4.5382,  35.1013,  35.1019,2,   219.7,2,   20.97,2,    1.39,2,  -999.0,9,  -999.0,9,   21.27,2,     -999.0,1,     -999.0,1,     -999.0,1,     -999.0,1,     4.3842,     -999.0,1
  74DI20100106,        A05,     105,          1,         13,         13,2,20100207,       0410,   24.49638,  -31.00274,       5909,  1530.7,   5.3296,  35.1564,  35.1568,2,   206.2,2,   19.01,2,    1.41,2,  -999.0,9,  -999.0,9,   21.82,2,     -999.0,1,     -999.0,1,     -999.0,1,     -999.0,1,     5.1910,     -999.0,1
  74DI20100106,        A05,     105,          1,         14,         14,2,20100207,       0410,   24.49638,  -31.00274,       5909,  1278.3,   6.2510,  35.1869,  35.1870,2,   175.1,2,   19.36,2,    1.57,2,  -999.0,9,  -999.0,9,   24.32,2,     -999.0,1,     -999.0,1,     -999.0,1,     -999.0,1,     6.1287,     -999.0,1
  74DI20100106,        A05,     105,          1,         15,         26,2,20100207,       0410,   24.49638,  -31.00274,       5909,  1011.8,   7.0881,  35.1321,  35.1322,2,   148.0,2,   19.37,2,    1.74,2,  -999.0,9,  -999.0,9,   27.25,2,     -999.0,9,     -999.0,9,     -999.0,9,     -999.0,9,     6.9869,     -999.0,9
  74DI20100106,        A05,     105,          1,         16,         16,2,20100207,       0410,   24.49638,  -31.00274,       5909,   886.3,   7.7401,  35.1630,  35.1622,2,   133.2,2,   18.61,2,    1.78,2,  -999.0,9,  -999.0,9,   28.34,2,     -999.0,9,     -999.0,9,     -999.0,9,     -999.0,9,     7.6479,     -999.0,9
  74DI20100106,        A05,     105,          1,         17,         17,2,20100207,       0410,   24.49638,  -31.00274,       5909,   758.8,   9.0596,  35.2844,  35.2827,2,   124.4,2,   15.51,2,    1.66,2,  -999.0,9,  -999.0,9,   26.82,2,     -999.0,9,     -999.0,9,     -999.0,9,     -999.0,9,     8.9739,     -999.0,9
  74DI20100106,        A05,     105,          1,         18,         18,2,20100207,       0410,   24.49638,  -31.00274,       5909,   506.9,  12.8889,  35.7448,  35.7487,2,   167.5,2,    5.76,2,    0.87,2,  -999.0,9,  -999.0,9,   15.24,2,     -999.0,9,     -999.0,9,     -999.0,9,     -999.0,9,    12.8183,     -999.0,9
  74DI20100106,        A05,     105,          1,         19,         19,3,20100207,       0410,   24.49638,  -31.00274,       5909,   379.3,  14.8681,  36.0413,-999.0000,9,  -999.0,9,    2.08,3,    0.31,3,  -999.0,9,  -999.0,9,    6.08,3,     -999.0,9,     -999.0,9,     -999.0,9,     -999.0,9,    14.8102,     -999.0,9
  74DI20100106,        A05,     105,          1,         20,         20,2,20100207,       0410,   24.49638,  -31.00274,       5909,   252.3,  17.1700,  36.4396,  36.4414,2,   186.3,2,    2.10,2,    0.30,2,  -999.0,9,  -999.0,9,    6.03,2,     -999.0,9,     -999.0,9,     -999.0,9,     -999.0,9,    17.1276,     -999.0,9
  74DI20100106,        A05,     105,          1,         21,         21,2,20100207,       0410,   24.49638,  -31.00274,       5909,   176.4,  19.2229,  36.8701,  36.8789,2,   188.5,2,    1.31,2,    0.17,2,  -999.0,9,  -999.0,9,    3.08,2,     -999.0,9,     -999.0,9,     -999.0,9,     -999.0,9,    19.1909,     -999.0,9
  74DI20100106,        A05,     105,          1,         22,         22,2,20100207,       0410,   24.49638,  -31.00274,       5909,   129.9,  20.6504,  37.0989,  37.1048,2,   206.1,2,    0.90,2,    0.00,2,  -999.0,9,  -999.0,9,    0.24,2,     -999.0,9,     -999.0,9,     -999.0,9,     -999.0,9,    20.6256,     -999.0,9
  74DI20100106,        A05,     105,          1,         23,         23,2,20100207,       0410,   24.49638,  -31.00274,       5909,    50.4,  23.0054,  37.4705,  37.4702,2,   206.8,2,    0.79,2,    0.00,2,  -999.0,9,  -999.0,9,    0.14,2,     -999.0,9,     -999.0,9,     -999.0,9,     -999.0,9,    22.9950,     -999.0,9
  74DI20100106,        A05,     105,          1,         24,         24,2,20100207,       0410,   24.49638,  -31.00274,       5909,     5.4,  23.0295,  37.4694,  37.4684,2,   206.7,2,    0.78,2,    0.00,2,  -999.0,9,  -999.0,9,    0.00,2,     -999.0,9,     -999.0,9,     -999.0,9,     -999.0,9,    23.0284,     -999.0,9
  74DI20100106,        A05,     106,          1,          1,         25,2,20100207,       1229,   24.49193,  -30.32146,       5409,  5500.2,   2.4545,  34.8845,  34.8844,2,   239.1,2,   50.79,2,    1.51,2,  -999.0,9,  -999.0,9,   23.08,2,     -999.0,1,     -999.0,1,     -999.0,1,     -999.0,1,     1.9217,     -999.0,1
  74DI20100106,        A05,     106,          1,          2,          2,2,20100207,       1229,   24.49193,  -30.32146,       5409,  5089.7,   2.4081,  34.8855,  34.8848,2,   239.8,2,   50.76,2,    1.50,2,  2203.1,2,  2352.5,2,   22.72,2,     -999.0,1,     -999.0,1,     -999.0,1,     -999.0,1,     1.9304,     -999.0,1
  74DI20100106,        A05,     106,          1,          3,          3,2,20100207,       1229,   24.49193,  -30.32146,       5409,  4575.4,   2.3739,  34.8887,  34.8882,2,   238.9,2,   49.44,2,    1.52,2,  2200.5,2,  2353.0,2,   22.84,2,     -999.0,1,     -999.0,1,     -999.0,1,     -999.0,1,     1.9614,     -999.0,1
  74DI20100106,        A05,     106,          1,          4,          4,2,20100207,       1229,   24.49193,  -30.32146,       5409,  4065.7,   2.4136,  34.8991,  34.8988,2,   238.8,2,   47.05,2,    1.50,2,  2199.2,2,  2350.9,2,   22.64,2,     -999.0,1,     -999.0,1,     -999.0,1,     -999.0,1,     2.0602,     -999.0,1
  74DI20100106,        A05,     106,          1,          5,          5,2,20100207,       1229,   24.49193,  -30.32146,       5409,  3556.6,   2.5206,  34.9146,  34.9146,2,   239.5,2,   43.84,2,    1.47,2,  2195.2,2,  2346.3,2,   22.50,2,     -999.0,1,     -999.0,1,     -999.0,1,     -999.0,1,     2.2215,     -999.0,1
  74DI20100106,        A05,     106,          1,          6,          6,2,20100207,       1229,   24.49193,  -30.32146,       5409,  3046.9,   2.6932,  34.9351,  34.9344,2,   238.7,2,   39.15,2,    1.42,2,  2190.9,2,  2344.2,2,   21.68,2,     -999.0,1,     -999.0,1,     -999.0,1,     -999.0,1,     2.4442,     -999.0,1
  74DI20100106,        A05,     106,          1,          7,          7,2,20100207,       1229,   24.49193,  -30.32146,       5409,  2538.1,   3.1133,  34.9767,  34.9767,2,   238.5,2,   30.98,2,    1.38,2,  -999.0,9,  -999.0,9,   20.93,2,     -999.0,1,     -999.0,1,     -999.0,1,     -999.0,1,     2.9073,     -999.0,1
  74DI20100106,        A05,     106,          1,          8,          8,10,20100207,       1229,   24.49193,  -30.32146,       5409,  2275.5,   3.4836,  35.0126,  35.0136,2,   236.3,2,   27.25,2,    1.38,2,  -999.0,9,  -999.0,9,   20.79,2,     -999.0,1,     -999.0,1,     -999.0,1,     -999.0,1,     3.2970,     -999.0,1
  74DI20100106,        A05,     106,          1,          9,          9,2,20100207,       1229,   24.49193,  -30.32146,       5409,  2026.5,   3.9706,  35.0576,  35.0580,2,   229.5,2,   23.98,2,    1.39,2,  2177.6,2,  2328.9,2,   20.98,2,     -999.0,1,     -999.0,1,     -999.0,1,     -999.0,1,     3.8007,     -999.0,1
  74DI20100106,        A05,     106,          1,         10,         10,2,20100207,       1229,   24.49193,  -30.32146,       5409,  1779.8,   4.5715,  35.1143,  35.1147,2,   220.0,2,   21.16,2,    1.39,2,  -999.0,9,  -999.0,9,   21.33,2,     -999.0,1,     -999.0,1,     -999.0,1,     -999.0,1,     4.4173,     -999.0,1
  74DI20100106,        A05,     106,          1,         11,         11,2,20100207,       1229,   24.49193,  -30.32146,       5409,  1518.8,   5.4525,  35.1833,  35.1850,2,   204.1,2,   18.85,2,    1.42,2,  2185.9,2,  2329.3,2,   22.04,2,     -999.0,1,     -999.0,1,     -999.0,1,     -999.0,1,     5.3136,     -999.0,1
  74DI20100106,        A05,     106,          1,         12,         12,2,20100207,       1229,   24.49193,  -30.32146,       5409,  1261.7,   6.0885,  35.1619,  35.1627,2,   183.6,2,   18.85,2,    1.54,2,  -999.0,9,  -999.0,9,   24.49,2,     -999.0,1,     -999.0,1,     -999.0,1,     -999.0,1,     5.9695,     -999.0,1
  74DI20100106,        A05,     106,          1,         13,         13,2,20100207,       1229,   24.49193,  -30.32146,       5409,  1009.7,   6.9322,  35.1342,  35.1350,2,   150.2,2,   19.60,2,    1.74,2,  2205.0,2,  2322.6,2,   27.26,2,     -999.0,1,     -999.0,1,     -999.0,1,     -999.0,1,     6.8324,     -999.0,1
  74DI20100106,        A05,     106,          1,         14,         14,2,20100207,       1229,   24.49193,  -30.32146,       5409,   880.1,   7.7925,  35.1736,  35.1776,2,   133.3,2,   18.39,2,    1.75,2,  -999.0,9,  -999.0,9,   27.79,2,     -999.0,1,     -999.0,1,     -999.0,1,     -999.0,1,     7.7006,     -999.0,1
  74DI20100106,        A05,     106,          1,         15,         26,2,20100207,       1229,   24.49193,  -30.32146,       5409,   753.9,   9.0432,  35.2890,  35.2890,2,   128.8,2,   15.24,2,    1.63,2,  -999.0,9,  -999.0,9,   26.45,2,     -999.0,1,     -999.0,1,     -999.0,1,     -999.0,1,     8.9582,     -999.0,1
  74DI20100106,        A05,     106,          1,         16,         16,2,20100207,       1229,   24.49193,  -30.32146,       5409,   502.4,  12.6831,  35.7201,  35.7217,2,   167.2,2,    5.90,2,    0.92,2,  -999.0,9,  -999.0,9,   15.48,2,     -999.0,9,     -999.0,9,     -999.0,9,     -999.0,9,    12.6139,     -999.0,9
  74DI20100106,        A05,     106,          1,         17,         17,2,20100207,       1229,   24.49193,  -30.32146,       5409,   376.6,  15.0248,  36.0672,  36.0683,2,   179.7,2,    3.39,2,    0.57,2,  2143.2,2,  2357.5,2,    9.88,2,     -999.0,1,     -999.0,1,     -999.0,1,     -999.0,1,    14.9669,     -999.0,1
  74DI20100106,        A05,     106,          1,         18,         18,2,20100207,       1229,   24.49193,  -30.32146,       5409,   252.0,  17.4809,  36.5164,  36.5178,2,   188.4,2,    1.89,2,    0.29,2,  -999.0,9,  -999.0,9,    5.51,2,     -999.0,9,     -999.0,9,     -999.0,9,     -999.0,9,    17.4380,     -999.0,9
  74DI20100106,        A05,     106,          1,         19,         19,2,20100207,       1229,   24.49193,  -30.32146,       5409,   176.8,  19.3066,  36.8950,  36.8781,2,   196.3,2,    1.17,2,    0.10,2,  2127.0,2,  2407.1,2,    2.32,2,     -999.0,1,     -999.0,1,     -999.0,1,     -999.0,1,    19.2743,     -999.0,1
  74DI20100106,        A05,     106,          1,         20,         20,2,20100207,       1229,   24.49193,  -30.32146,       5409,   110.3,  21.2595,  37.1684,-999.0000,9,  -999.0,2,    0.87,2,    0.01,2,  -999.0,9,  -999.0,9,    0.00,2,     -999.0,9,     -999.0,9,     -999.0,9,     -999.0,9,    21.2380,     -999.0,9
  74DI20100106,        A05,     106,          1,         21,         21,2,20100207,       1229,   24.49193,  -30.32146,       5409,   111.3,  21.3083,  37.1705,  37.1981,3,   210.7,2,    0.90,2,    0.00,2,  2115.9,2,  2425.4,2,    0.00,2,     -999.0,9,     -999.0,9,     -999.0,9,     -999.0,9,    21.2866,     -999.0,9
  74DI20100106,        A05,     106,          1,         22,         22,2,20100207,       1229,   24.49193,  -30.32146,       5409,    49.3,  22.8109,  37.4211,  37.4225,2,   209.6,2,    0.81,2,    0.01,2,  2106.4,2,  2438.9,2,    0.00,2,     -999.0,1,     -999.0,1,     -999.0,1,     -999.0,1,    22.8008,     -999.0,1
  74DI20100106,        A05,     106,          1,         23,         23,2,20100207,       1229,   24.49193,  -30.32146,       5409,     4.5,  22.8550,  37.4230,-999.0000,9,  -999.0,9,    0.82,2,    0.01,2,  -999.0,9,  -999.0,9,    0.00,2,     -999.0,9,     -999.0,9,     -999.0,9,     -999.0,9,    22.8541,     -999.0,9
  74DI20100106,        A05,     106,          1,         24,         24,2,20100207,       1229,   24.49193,  -30.32146,       5409,     4.5,  22.8540,  37.4231,  37.4231,2,   209.1,2,    0.78,2,    0.01,2,  -999.0,9,  -999.0,9,    0.00,2,     -999.0,1,     -999.0,1,     -999.0,1,     -999.0,1,    22.8531,     -999.0,1