BOTTLE,20200115CCHSIOCBG
EXPOCODE,SECT_ID,STNNBR,CASTNO,SAMPNO,BTLNBR,BTLNBR_FLAG_W,DATE,TIME,LATITUDE,LONGITUDE,DEPTH,CTDPRS,CTDTMP,CTDSAL,SALNTY,SALNTY_FLAG_W,OXYGEN,OXYGEN_FLAG_W,SILCAT,SILCAT_FLAG_W,PHSPHT,PHSPHT_FLAG_W,TCARBN,TCARBN_FLAG_W,ALKALI,ALKALI_FLAG_W,NO2+NO3,NO2+NO3_FLAG_W,CFC-11,CFC-11_FLAG_W,CFC-12,CFC-12_FLAG_W,CFC113,CFC113_FLAG_W,CCL4,CCL4_FLAG_W,THETA,SF6,SF6_FLAG_W
,,,,,,,,,,,METERS,DBAR,ITS-90,PSS-78,PSS-78,,UMOL/KG,,UMOL/KG,,UMOL/KG,,UMOL/KG,,UMOL/KG,,UMOL/KG,,PMOL/L,,PMOL/L,,PMOL/L,,PMOL/L,,ITS-90,FMOL/L,
  74DI20100106,        A05,     109,          1,          1,         25,2,20100208,       1523,   24.50091,  -28.29528,       5645,  5739.6,   2.4946,  34.8851,  34.8867,2,   239.1,2,   49.47,2,    1.53,2,  -999.0,9,  -999.0,9,   22.85,2,     -999.0,1,     -999.0,1,     -999.0,1,     -999.0,1,     1.9283,     -999.0,1
  74DI20100106,        A05,     109,          1,          2,          2,2,20100208,       1523,   24.50091,  -28.29528,       5645,  5344.1,   2.4431,  34.8856,  34.8868,2,   238.7,2,   49.77,2,    1.53,2,  2201.3,2,  2349.6,2,   22.88,2,     -999.0,1,     -999.0,1,     -999.0,1,     -999.0,1,     1.9313,     -999.0,1
  74DI20100106,        A05,     109,          1,          3,          3,2,20100208,       1523,   24.50091,  -28.29528,       5645,  4845.4,   2.3948,  34.8876,  34.8878,2,   238.2,2,   49.03,2,    1.52,2,  2199.7,2,  2350.4,2,   23.03,2,     -999.0,9,     -999.0,1,     -999.0,1,     -999.0,1,     1.9484,     -999.0,1
  74DI20100106,        A05,     109,          1,          4,          4,2,20100208,       1523,   24.50091,  -28.29528,       5645,  4325.8,   2.3893,  34.8940,  34.8943,2,   238.5,2,   47.23,2,    1.51,2,  -999.0,9,  -999.0,9,   22.80,2,     -999.0,1,     -999.0,1,     -999.0,1,     -999.0,1,     2.0063,     -999.0,1
  74DI20100106,        A05,     109,          1,          5,          5,2,20100208,       1523,   24.50091,  -28.29528,       5645,  3825.7,   2.4440,  34.9047,  34.9050,2,   238.8,2,   44.78,2,    1.49,2,  2193.9,2,  2345.2,2,   22.41,2,     -999.0,1,     -999.0,1,     -999.0,1,     -999.0,1,     2.1170,     -999.0,1
  74DI20100106,        A05,     109,          1,          6,          6,2,20100208,       1523,   24.50091,  -28.29528,       5645,  3310.8,   2.5774,  34.9223,  34.9221,2,   239.0,2,   40.93,2,    1.47,2,  2191.8,2,  2343.1,2,   22.03,2,     -999.0,1,     -999.0,1,     -999.0,1,     -999.0,1,     2.3034,     -999.0,1
  74DI20100106,        A05,     109,          1,          7,          7,2,20100208,       1523,   24.50091,  -28.29528,       5645,  2804.6,   2.8903,  34.9544,  34.9545,2,   239.2,2,   34.16,2,    1.42,2,  2184.6,2,  2336.7,2,   21.30,2,     -999.0,1,     -999.0,1,     -999.0,1,     -999.0,1,     2.6620,     -999.0,1
  74DI20100106,        A05,     109,          1,          8,          8,2,20100208,       1523,   24.50091,  -28.29528,       5645,  2542.7,   3.2089,  34.9848,  34.9857,2,   236.6,2,   29.86,2,    1.41,2,  -999.0,9,  -999.0,9,   21.19,2,     -999.0,1,     -999.0,1,     -999.0,1,     -999.0,1,     3.0007,     -999.0,1
  74DI20100106,        A05,     109,          1,          9,          9,2,20100208,       1523,   24.50091,  -28.29528,       5645,  2285.0,   3.5812,  35.0203,  35.0216,2,   233.2,2,   26.37,2,    1.38,2,  2175.1,2,  2331.2,2,   21.10,2,     -999.0,1,     -999.0,1,     -999.0,1,     -999.0,1,     3.3920,     -999.0,1
  74DI20100106,        A05,     109,          1,         10,         10,2,20100208,       1523,   24.50091,  -28.29528,       5645,  2025.4,   4.0246,  35.0633,  35.0634,2,   227.4,2,   23.73,2,    1.40,2,  -999.0,9,  -999.0,9,   21.20,2,     -999.0,1,     -999.0,1,     -999.0,1,     -999.0,1,     3.8539,     -999.0,1
  74DI20100106,        A05,     109,          1,         11,         11,2,20100208,       1523,   24.50091,  -28.29528,       5645,  1766.0,   4.6857,  35.1314,  35.1321,2,   217.7,2,   21.02,2,    1.40,2,  2178.4,2,  2330.4,2,   21.51,2,     -999.0,1,     -999.0,1,     -999.0,1,     -999.0,1,     4.5313,     -999.0,1
  74DI20100106,        A05,     109,          1,         12,         12,2,20100208,       1523,   24.50091,  -28.29528,       5645,  1513.6,   5.4939,  35.1959,  35.1959,2,   201.9,2,   19.32,2,    1.44,2,  -999.0,9,  -999.0,9,   22.03,2,     -999.0,1,     -999.0,1,     -999.0,1,     -999.0,1,     5.3551,     -999.0,1
  74DI20100106,        A05,     109,          1,         13,         13,2,20100208,       1523,   24.50091,  -28.29528,       5645,  1259.7,   6.2140,  35.1862,  35.1877,2,   180.0,2,   18.63,2,    1.54,2,  2190.1,2,  2326.8,2,   24.06,2,     -999.0,1,     -999.0,1,     -999.0,1,     -999.0,1,     6.0940,     -999.0,9
  74DI20100106,        A05,     109,          1,         14,         14,2,20100208,       1523,   24.50091,  -28.29528,       5645,  1012.6,   7.1751,  35.1799,  35.1805,2,   153.7,2,   18.57,2,    1.68,2,  -999.0,9,  -999.0,9,   26.30,2,     -999.0,1,     -999.0,1,     -999.0,1,     -999.0,1,     7.0732,     -999.0,1
  74DI20100106,        A05,     109,          1,         15,         26,2,20100208,       1523,   24.50091,  -28.29528,       5645,   884.3,   7.9599,  35.1968,  35.1975,2,   137.0,2,   17.66,2,    1.72,2,  -999.0,9,  -999.0,9,   27.23,2,     -999.0,1,     -999.0,1,     -999.0,1,     -999.0,1,     7.8665,     -999.0,1
  74DI20100106,        A05,     109,          1,         16,         16,2,20100208,       1523,   24.50091,  -28.29528,       5645,   762.2,   9.3016,  35.3298,  35.3312,2,   133.8,2,   14.27,2,    1.56,2,  -999.0,9,  -999.0,9,   25.35,2,     -999.0,1,     -999.0,1,     -999.0,1,     -999.0,1,     9.2141,     -999.0,1
  74DI20100106,        A05,     109,          1,         17,         17,2,20100208,       1523,   24.50091,  -28.29528,       5645,   635.3,  10.9136,  35.5027,  35.5039,2,   142.2,2,    9.83,2,    1.31,2,  -999.0,9,  -999.0,9,   21.68,2,     -999.0,1,     -999.0,1,     -999.0,1,     -999.0,1,    10.8336,     -999.0,1
  74DI20100106,        A05,     109,          1,         18,         18,2,20100208,       1523,   24.50091,  -28.29528,       5645,   508.0,  12.5919,  35.7076,  35.7072,2,   161.2,2,    6.20,2,    0.97,2,  2163.3,2,  2337.8,2,   16.61,2,     -999.0,1,     -999.0,1,     -999.0,9,     -999.0,9,    12.5222,     -999.0,1
  74DI20100106,        A05,     109,          1,         19,         19,2,20100208,       1523,   24.50091,  -28.29528,       5645,   377.8,  14.4192,  35.9757,  35.9782,2,   174.5,2,    4.01,2,    0.69,2,  -999.0,9,  -999.0,9,   11.76,2,     -999.0,9,     -999.0,9,     -999.0,9,     -999.0,9,    14.3627,     -999.0,9
  74DI20100106,        A05,     109,          1,         20,         20,2,20100208,       1523,   24.50091,  -28.29528,       5645,   252.2,  16.8958,  36.3834,  36.3837,2,   155.7,2,    3.02,2,    0.59,2,  2156.8,2,  2376.3,2,   10.15,2,     -999.0,1,     -999.0,1,     -999.0,9,     -999.0,9,    16.8539,     -999.0,1
  74DI20100106,        A05,     109,          1,         21,         21,2,20100208,       1523,   24.50091,  -28.29528,       5645,   178.7,  19.0407,  36.8513,  36.8559,2,   192.6,2,    1.21,2,    0.18,2,  -999.0,9,  -999.0,9,    2.86,2,     -999.0,9,     -999.0,9,     -999.0,9,     -999.0,9,    19.0084,     -999.0,9
  74DI20100106,        A05,     109,          1,         22,         22,2,20100208,       1523,   24.50091,  -28.29528,       5645,   128.5,  19.9626,  36.9948,  36.9955,2,   201.3,2,    0.97,2,    0.06,2,  2125.7,2,  2414.8,2,    1.02,2,     -999.0,1,     -999.0,1,     -999.0,9,     -999.0,9,    19.9386,     -999.0,1
  74DI20100106,        A05,     109,          1,         23,         23,2,20100208,       1523,   24.50091,  -28.29528,       5645,    52.8,  22.6527,  37.3662,  37.3675,2,   209.2,2,    0.70,2,    0.00,2,  -999.0,9,  -999.0,9,    0.00,2,     -999.0,9,     -999.0,9,     -999.0,9,     -999.0,9,    22.6420,     -999.0,9
  74DI20100106,        A05,     109,          1,         24,         24,2,20100208,       1523,   24.50091,  -28.29528,       5645,     6.0,  23.1051,  37.3461,  37.3458,2,   209.4,2,    0.66,2,    0.02,2,  2103.1,2,  2435.7,2,    0.00,2,     -999.0,1,     -999.0,1,     -999.0,1,     -999.0,1,    23.1039,     -999.0,1
  74DI20100106,        A05,     110,          1,          1,         25,10,20100209,       0001,   24.49164,  -27.59929,       5577,  5669.5,   2.4863,  34.8853,  34.9266,2,   239.4,2,   40.89,3,    1.45,3,  -999.0,9,  -999.0,9,   21.91,3,     -999.0,1,     -999.0,1,     -999.0,1,     -999.0,1,     1.9297,     -999.0,1
  74DI20100106,        A05,     110,          1,          2,          2,2,20100209,       0001,   24.49164,  -27.59929,       5577,  5594.4,   2.4770,  34.8855,  34.8841,2,   239.1,2,   50.35,2,    1.52,2,  2201.5,2,  2354.7,2,   23.01,2,     -999.0,1,     -999.0,1,     -999.0,1,     -999.0,1,     1.9309,     -999.0,1
  74DI20100106,        A05,     110,          1,          3,          3,2,20100209,       0001,   24.49164,  -27.59929,       5577,  5078.9,   2.4140,  34.8863,  34.8851,2,   239.2,2,   49.89,2,    1.53,2,  2203.7,2,  2353.2,2,   23.20,2,     -999.0,1,     -999.0,1,     -999.0,1,     -999.0,1,     1.9375,     -999.0,1
  74DI20100106,        A05,     110,          1,          4,          4,2,20100209,       0001,   24.49164,  -27.59929,       5577,  4571.3,   2.3754,  34.8893,  34.8882,2,   240.1,2,   48.81,2,    1.51,2,  2195.5,2,  2347.3,2,   22.88,2,     -999.0,1,     -999.0,1,     -999.0,1,     -999.0,1,     1.9634,     -999.0,1
  74DI20100106,        A05,     110,          1,          5,          5,2,20100209,       0001,   24.49164,  -27.59929,       5577,  4058.4,   2.3975,  34.8978,  34.8963,2,   239.8,2,   46.64,2,    1.50,2,  2199.5,2,  2349.4,2,   22.73,2,     -999.0,1,     -999.0,1,     -999.0,1,     -999.0,9,     2.0454,     -999.0,1
  74DI20100106,        A05,     110,          1,          6,          6,2,20100209,       0001,   24.49164,  -27.59929,       5577,  3549.8,   2.4876,  34.9116,  34.9105,2,   239.3,2,   43.59,2,    1.48,2,  -999.0,9,  -999.0,9,   22.25,2,     -999.0,1,     -999.0,1,     -999.0,1,     -999.0,1,     2.1901,     -999.0,1
  74DI20100106,        A05,     110,          1,          7,          7,2,20100209,       0001,   24.49164,  -27.59929,       5577,  3041.5,   2.6740,  34.9335,  34.9328,2,   239.1,2,   38.04,2,    1.44,2,  2188.4,2,  2342.8,2,   21.93,2,     -999.0,1,     -999.0,1,     -999.0,1,     -999.0,1,     2.4261,     -999.0,1
  74DI20100106,        A05,     110,          1,          8,          8,2,20100209,       0001,   24.49164,  -27.59929,       5577,  2528.6,   3.1234,  34.9774,  34.9764,2,   238.3,2,   31.09,2,    1.41,2,  2182.5,2,  2337.6,2,   21.08,2,     -999.0,1,     -999.0,1,     -999.0,1,     -999.0,1,     2.9182,     -999.0,1
  74DI20100106,        A05,     110,          1,          9,          9,2,20100209,       0001,   24.49164,  -27.59929,       5577,  2273.9,   3.4601,  35.0087,  35.0082,2,   233.9,2,   27.79,2,    1.40,2,  -999.0,9,  -999.0,9,   21.38,2,     -999.0,9,     -999.0,9,     -999.0,9,     -999.0,9,     3.2740,     -999.0,9
  74DI20100106,        A05,     110,          1,         10,         10,2,20100209,       0001,   24.49164,  -27.59929,       5577,  2018.4,   3.9604,  35.0562,  35.0557,2,   227.7,2,   24.26,2,    1.41,2,  2178.7,2,  2329.4,2,   21.56,2,     -999.0,1,     -999.0,1,     -999.0,1,     -999.0,1,     3.7913,     -999.0,1
  74DI20100106,        A05,     110,          1,         11,         11,2,20100209,       0001,   24.49164,  -27.59929,       5577,  1763.2,   4.5102,  35.1022,  35.1015,2,   213.9,2,   22.72,2,    1.44,2,  -999.0,9,  -999.0,9,   22.25,2,     -999.0,1,     -999.0,1,     -999.0,1,     -999.0,1,     4.3584,     -999.0,1
  74DI20100106,        A05,     110,          1,         12,         12,3,20100209,       0001,   24.49164,  -27.59929,       5577,  1512.9,   5.2654,  35.1614,-999.0000,9,  -999.0,4,   18.77,3,    1.54,3,  -999.0,9,  -999.0,9,   24.34,3,     -999.0,9,     -999.0,9,     -999.0,9,     -999.0,9,     5.1293,     -999.0,9
  74DI20100106,        A05,     110,          1,         13,         13,2,20100209,       0001,   24.49164,  -27.59929,       5577,  1264.2,   6.3130,  35.2209,  35.2200,2,   179.7,2,   18.92,2,    1.55,2,  2193.2,2,  2330.2,2,   24.36,2,     -999.0,1,     -999.0,1,     -999.0,1,     -999.0,1,     6.1915,     -999.0,1
  74DI20100106,        A05,     110,          1,         14,         14,2,20100209,       0001,   24.49164,  -27.59929,       5577,  1017.1,   7.0317,  35.1488,  35.1496,2,   151.3,2,   18.82,2,    1.71,2,  2201.6,2,  2321.6,2,   27.05,2,     -999.0,1,     -999.0,1,     -999.0,1,     -999.0,1,     6.9304,     -999.0,1
  74DI20100106,        A05,     110,          1,         15,         26,2,20100209,       0001,   24.49164,  -27.59929,       5577,   884.8,   8.0047,  35.1944,  35.1937,2,   128.7,2,   18.26,2,    1.79,2,  -999.0,9,  -999.0,9,   28.39,2,     -999.0,1,     -999.0,1,     -999.0,1,     -999.0,1,     7.9109,     -999.0,1
  74DI20100106,        A05,     110,          1,         16,         16,2,20100209,       0001,   24.49164,  -27.59929,       5577,   756.4,   9.4206,  35.3342,  35.3302,2,   127.8,2,   14.48,2,    1.60,2,  2202.7,2,  2324.2,2,   26.37,2,     -999.0,1,     -999.0,1,     -999.0,1,     -999.0,1,     9.3332,     -999.0,1
  74DI20100106,        A05,     110,          1,         17,         17,10,20100209,       0001,   24.49164,  -27.59929,       5577,   632.6,  11.1856,  35.5444,  35.5440,2,   153.5,2,    8.75,2,    1.18,2,  2182.5,2,  2332.3,2,   20.10,2,     -999.0,1,     -999.0,1,     -999.0,1,     -999.0,1,    11.1047,     -999.0,1
  74DI20100106,        A05,     110,          1,         18,         18,10,20100209,       0001,   24.49164,  -27.59929,       5577,   505.0,  12.7185,  35.7324,  35.7341,2,   171.9,2,    5.59,2,    0.88,2,  -999.0,9,  -999.0,9,   15.08,2,     -999.0,9,     -999.0,9,     -999.0,9,     -999.0,9,    12.6488,     -999.0,9
  74DI20100106,        A05,     110,          1,         19,         19,2,20100209,       0001,   24.49164,  -27.59929,       5577,   379.2,  14.6382,  36.0190,  36.0209,2,   185.2,2,    3.39,2,    0.59,2,  -999.0,9,  -999.0,9,    9.98,2,     -999.0,1,     -999.0,1,     -999.0,9,     -999.0,9,    14.5809,     -999.0,1
  74DI20100106,        A05,     110,          1,         20,         20,2,20100209,       0001,   24.49164,  -27.59929,       5577,   254.4,  17.1131,  36.4605,  36.4583,2,   192.6,2,    1.90,2,    0.31,2,  -999.0,9,  -999.0,9,    5.44,2,     -999.0,9,     -999.0,9,     -999.0,9,     -999.0,9,    17.0704,     -999.0,9
  74DI20100106,        A05,     110,          1,         21,         21,10,20100209,       0001,   24.49164,  -27.59929,       5577,   178.8,  18.5587,  36.7638,  36.7667,2,   199.5,2,    1.17,2,    0.13,2,  2128.9,2,  2401.5,2,    2.58,2,     -999.0,1,     -999.0,1,     -999.0,9,     -999.0,9,    18.5270,     -999.0,1
  74DI20100106,        A05,     110,          1,         22,         22,2,20100209,       0001,   24.49164,  -27.59929,       5577,   101.7,  20.8065,  37.0570,  37.0592,2,   211.0,2,    0.79,2,    0.02,2,  -999.0,9,  -999.0,9,    0.19,2,     -999.0,9,     -999.0,9,     -999.0,9,     -999.0,9,    20.7870,     -999.0,9
  74DI20100106,        A05,     110,          1,         23,         23,2,20100209,       0001,   24.49164,  -27.59929,       5577,    51.0,  22.7291,  37.3040,  37.3039,2,   209.5,2,    0.68,2,    0.01,2,  2105.1,2,  2432.5,2,    0.00,2,     -999.0,1,     -999.0,1,     -999.0,9,     -999.0,9,    22.7187,     -999.0,1
  74DI20100106,        A05,     110,          1,         24,         24,2,20100209,       0001,   24.49164,  -27.59929,       5577,     3.9,  22.8094,  37.3009,  37.3008,2,   209.4,2,    0.66,2,    0.01,2,  2103.5,2,  2432.1,2,    0.00,2,     -999.0,1,     -999.0,1,     -999.0,1,     -999.0,1,    22.8086,     -999.0,1