BOTTLE,20200115CCHSIOCBG
EXPOCODE,SECT_ID,STNNBR,CASTNO,SAMPNO,BTLNBR,BTLNBR_FLAG_W,DATE,TIME,LATITUDE,LONGITUDE,DEPTH,CTDPRS,CTDTMP,CTDSAL,SALNTY,SALNTY_FLAG_W,OXYGEN,OXYGEN_FLAG_W,SILCAT,SILCAT_FLAG_W,PHSPHT,PHSPHT_FLAG_W,TCARBN,TCARBN_FLAG_W,ALKALI,ALKALI_FLAG_W,NO2+NO3,NO2+NO3_FLAG_W,CFC-11,CFC-11_FLAG_W,CFC-12,CFC-12_FLAG_W,CFC113,CFC113_FLAG_W,CCL4,CCL4_FLAG_W,THETA,SF6,SF6_FLAG_W
,,,,,,,,,,,METERS,DBAR,ITS-90,PSS-78,PSS-78,,UMOL/KG,,UMOL/KG,,UMOL/KG,,UMOL/KG,,UMOL/KG,,UMOL/KG,,PMOL/L,,PMOL/L,,PMOL/L,,PMOL/L,,ITS-90,FMOL/L,
  74DI20100106,        A05,     107,          1,          1,         25,2,20100207,       2127,   24.50278,  -29.65832,       5409,  5501.6,   2.4566,  34.8847,  34.8852,2,   238.7,2,   50.84,2,    1.52,2,  -999.0,9,  -999.0,9,   22.99,2,     -999.0,1,     -999.0,1,     -999.0,1,     -999.0,1,     1.9236,     -999.0,1
  74DI20100106,        A05,     107,          1,          2,          2,2,20100207,       2127,   24.50278,  -29.65832,       5409,  5310.6,   2.4322,  34.8848,  34.8846,2,   239.8,2,   50.81,2,    1.53,2,  2204.2,2,  2350.4,2,   23.24,2,     -999.0,1,     -999.0,1,     -999.0,1,     -999.0,1,     1.9252,     -999.0,1
  74DI20100106,        A05,     107,          1,          3,          3,3,20100207,       2127,   24.50278,  -29.65832,       5409,  4798.5,   2.3851,  34.8871,-999.0000,9,  -999.0,9, -999.00,9, -999.00,9,  -999.0,9,  -999.0,9, -999.00,9,     -999.0,9,     -999.0,9,     -999.0,9,     -999.0,9,     1.9449,     -999.0,9
  74DI20100106,        A05,     107,          1,          4,          4,2,20100207,       2127,   24.50278,  -29.65832,       5409,  4293.3,   2.3760,  34.8928,  34.8927,2,   239.9,2,   48.50,2,    1.51,2,  2202.8,2,  2350.4,2,   23.05,2,     -999.0,1,     -999.0,1,     -999.0,1,     -999.0,1,     1.9972,     -999.0,1
  74DI20100106,        A05,     107,          1,          5,          5,2,20100207,       2127,   24.50278,  -29.65832,       5409,  3769.1,   2.4479,  34.9055,  34.9051,2,   240.1,2,   45.31,2,    1.48,2,  2197.3,2,  2345.5,2,   22.70,2,     -999.0,1,     -999.0,1,     -999.0,1,     -999.0,1,     2.1272,     -999.0,1
  74DI20100106,        A05,     107,          1,          6,          6,2,20100207,       2127,   24.50278,  -29.65832,       5409,  3260.8,   2.5908,  34.9240,  34.9240,2,   240.6,2,   41.48,2,    1.45,2,  2187.1,2,  2336.7,2,   22.27,2,     -999.0,1,     -999.0,1,     -999.0,1,     -999.0,1,     2.3218,     -999.0,1
  74DI20100106,        A05,     107,          1,          7,          7,2,20100207,       2127,   24.50278,  -29.65832,       5409,  2777.2,   2.9312,  34.9581,  34.9578,2,   237.7,2,   34.31,2,    1.42,2,  -999.0,9,  2338.4,2,   21.64,2,     -999.0,1,     -999.0,1,     -999.0,1,     -999.0,1,     2.7048,     -999.0,1
  74DI20100106,        A05,     107,          1,          8,          8,10,20100207,       2127,   24.50278,  -29.65832,       5409,  2537.0,   3.1780,  34.9812,  34.9813,2,   236.9,2,   30.74,2,    1.41,2,  -999.0,9,  -999.0,9,   21.30,2,     -999.0,1,     -999.0,1,     -999.0,1,     -999.0,1,     2.9710,     -999.0,1
  74DI20100106,        A05,     107,          1,          9,          9,2,20100207,       2127,   24.50278,  -29.65832,       5409,  2283.5,   3.5250,  35.0135,  35.0140,2,   233.5,2,   26.92,2,    1.40,2,  2180.5,2,  2332.7,2,   21.64,2,     -999.0,1,     -999.0,1,     -999.0,1,     -999.0,1,     3.3369,     -999.0,1
  74DI20100106,        A05,     107,          1,         10,         10,2,20100207,       2127,   24.50278,  -29.65832,       5409,  2026.5,   3.9918,  35.0567,  35.0569,2,   228.1,2,   23.88,2,    1.41,2,  -999.0,9,  -999.0,9,   21.40,2,     -999.0,1,     -999.0,1,     -999.0,1,     -999.0,1,     3.8215,     -999.0,1
  74DI20100106,        A05,     107,          1,         11,         11,2,20100207,       2127,   24.50278,  -29.65832,       5409,  1776.2,   4.5757,  35.1080,  35.1076,2,   215.2,2,   22.26,2,    1.42,2,  2181.7,2,  2330.0,2,   22.00,2,     -999.0,1,     -999.0,1,     -999.0,1,     -999.0,1,     4.4218,     -999.0,1
  74DI20100106,        A05,     107,          1,         12,         12,3,20100207,       2127,   24.50278,  -29.65832,       5409,  1523.3,   5.3122,  35.1666,-999.0000,9,  -999.0,9, -999.00,9, -999.00,9,  -999.0,9,  -999.0,9, -999.00,9,     -999.0,9,     -999.0,9,     -999.0,9,     -999.0,9,     5.1745,     -999.0,9
  74DI20100106,        A05,     107,          1,         13,         13,2,20100207,       2127,   24.50278,  -29.65832,       5409,  1263.6,   6.2430,  35.1917,  35.1935,2,   182.8,2,   18.27,2,    1.51,2,  2189.9,2,  2329.3,2,   23.55,2,     -999.0,1,     -999.0,1,     -999.0,1,     -999.0,1,     6.1223,     -999.0,1
  74DI20100106,        A05,     107,          1,         14,         14,2,20100207,       2127,   24.50278,  -29.65832,       5409,  1015.1,   6.8901,  35.1275,  35.1281,2,   150.6,2,   19.68,2,    1.75,2,  -999.0,9,  -999.0,9,   27.52,2,     -999.0,1,     -999.0,1,     -999.0,1,     -999.0,1,     6.7901,     -999.0,1
  74DI20100106,        A05,     107,          1,         15,         26,2,20100207,       2127,   24.50278,  -29.65832,       5409,   879.8,   7.8415,  35.1714,  35.1722,2,   132.9,2,   18.30,2,    2.09,3,  -999.0,9,  -999.0,9,   28.39,2,     -999.0,1,     -999.0,1,     -999.0,1,     -999.0,1,     7.7494,     -999.0,1
  74DI20100106,        A05,     107,          1,         16,         16,2,20100207,       2127,   24.50278,  -29.65832,       5409,   751.1,   9.3237,  35.3333,  35.3344,2,   133.5,2,   14.42,2,    1.57,2,  -999.0,9,  -999.0,9,   25.92,2,     -999.0,9,     -999.0,9,     -999.0,9,     -999.0,9,     9.2373,     -999.0,9
  74DI20100106,        A05,     107,          1,         17,         17,2,20100207,       2127,   24.50278,  -29.65832,       5409,   613.7,  11.1692,  35.5365,  35.5377,2,   151.4,2,    8.94,2,    1.19,2,  2179.9,2,  2335.7,2,   20.33,2,     -999.0,1,     -999.0,1,     -999.0,1,     -999.0,1,    11.0909,     -999.0,1
  74DI20100106,        A05,     107,          1,         18,         18,2,20100207,       2127,   24.50278,  -29.65832,       5409,   510.4,  12.5480,  35.7050,  35.7067,2,   171.5,2,    5.96,2,    0.89,2,  2163.9,2,  2338.4,2,   15.42,2,     -999.0,1,     -999.0,1,     -999.0,9,     -999.0,9,    12.4781,     -999.0,1
  74DI20100106,        A05,     107,          1,         19,         19,2,20100207,       2127,   24.50278,  -29.65832,       5409,   382.1,  14.4615,  35.9838,  35.9851,2,   184.5,2,    3.75,2,    0.61,2,  -999.0,9,  -999.0,9,   10.59,2,     -999.0,9,     -999.0,9,     -999.0,9,     -999.0,9,    14.4042,     -999.0,9
  74DI20100106,        A05,     107,          1,         20,         20,2,20100207,       2127,   24.50278,  -29.65832,       5409,   249.0,  16.9293,  36.4102,  36.4133,2,   187.3,2, -999.00,9, -999.00,9,  2136.2,2,  -999.0,9, -999.00,9,     -999.0,1,     -999.0,1,     -999.0,1,     -999.0,1,    16.8878,     -999.0,1
  74DI20100106,        A05,     107,          1,         21,         21,2,20100207,       2127,   24.50278,  -29.65832,       5409,   177.4,  19.4377,  36.9205,  36.9224,2,   191.9,2,    1.72,2,    0.25,2,  -999.0,9,  -999.0,9,    4.65,2,     -999.0,9,     -999.0,9,     -999.0,9,     -999.0,9,    19.4052,     -999.0,9
  74DI20100106,        A05,     107,          1,         22,         22,10,20100207,       2127,   24.50278,  -29.65832,       5409,    99.1,  21.7554,  37.1816,  37.1813,2,   209.9,2,    0.86,2,    0.03,2,  2116.8,2,  2425.1,2,    0.11,2,     -999.0,1,     -999.0,1,     -999.0,9,     -999.0,9,    21.7358,     -999.0,1
  74DI20100106,        A05,     107,          1,         23,         23,2,20100207,       2127,   24.50278,  -29.65832,       5409,    51.1,  22.8907,  37.4185,  37.4193,2,   209.2,2, -999.00,9, -999.00,9,  -999.0,9,  -999.0,9, -999.00,9,     -999.0,9,     -999.0,9,     -999.0,9,     -999.0,9,    22.8802,     -999.0,9
  74DI20100106,        A05,     107,          1,         24,         24,2,20100207,       2127,   24.50278,  -29.65832,       5409,     5.5,  23.0701,  37.4117,  37.4115,2,   209.0,2,    0.83,2,    0.00,2,  2109.4,2,  2439.0,2,    0.00,2,     -999.0,1,     -999.0,1,     -999.0,1,     -999.0,1,    23.0690,     -999.0,1
  74DI20100106,        A05,     108,          1,          1,         25,2,20100208,       0618,   24.50087,  -28.96089,       5674,  5767.4,   2.4948,  34.8849,  34.8857,2,   240.1,2,   50.30,2,    1.51,2,  -999.0,9,  -999.0,9,   23.10,2,     -999.0,9,     -999.0,9,     -999.0,9,     -999.0,9,     1.9247,     -999.0,9
  74DI20100106,        A05,     108,          1,          2,          2,10,20100208,       0618,   24.50087,  -28.96089,       5674,  5606.2,   2.4734,  34.8849,  34.8892,2,   239.8,2,   49.99,2,    1.50,2,  -999.0,9,  -999.0,9,   22.90,2,     -999.0,9,     -999.0,9,     -999.0,9,     -999.0,9,     1.9258,     -999.0,9
  74DI20100106,        A05,     108,          1,          3,          3,2,20100208,       0618,   24.50087,  -28.96089,       5674,  5087.8,   2.4124,  34.8862,  34.8859,2,   239.5,2,   50.10,2,    1.50,2,  -999.0,9,  -999.0,9,   22.90,2,     -999.0,9,     -999.0,9,     -999.0,9,     -999.0,9,     1.9348,     -999.0,9
  74DI20100106,        A05,     108,          1,          4,          4,2,20100208,       0618,   24.50087,  -28.96089,       5674,  4571.6,   2.3779,  34.8894,  34.8895,2,   239.0,2,   49.15,2,    1.49,2,  -999.0,9,  -999.0,9,   22.90,2,     -999.0,9,     -999.0,9,     -999.0,9,     -999.0,9,     1.9658,     -999.0,9
  74DI20100106,        A05,     108,          1,          5,          5,2,20100208,       0618,   24.50087,  -28.96089,       5674,  4058.4,   2.4095,  34.8988,  34.8988,2,   239.8,2,   46.82,2,    1.47,2,  -999.0,9,  -999.0,9,   22.77,2,     -999.0,1,     -999.0,1,     -999.0,1,     -999.0,1,     2.0570,     -999.0,1
  74DI20100106,        A05,     108,          1,          6,          6,10,20100208,       0618,   24.50087,  -28.96089,       5674,  3544.0,   2.4986,  34.9128,  34.9124,2,   239.0,2,   43.37,2,    1.46,2,  -999.0,9,  -999.0,9,   22.43,2,     -999.0,9,     -999.0,9,     -999.0,9,     -999.0,9,     2.2014,     -999.0,9
  74DI20100106,        A05,     108,          1,          7,          7,2,20100208,       0618,   24.50087,  -28.96089,       5674,  3036.1,   2.6941,  34.9353,  34.9349,2,   238.1,2,   38.51,2,    1.42,2,  -999.0,9,  -999.0,9,   22.01,2,     -999.0,1,     -999.0,1,     -999.0,1,     -999.0,1,     2.4462,     -999.0,1
  74DI20100106,        A05,     108,          1,          8,          8,2,20100208,       0618,   24.50087,  -28.96089,       5674,  2530.7,   3.1762,  34.9823,  34.9820,2,   238.0,2,   30.12,2,    1.37,2,  -999.0,9,  -999.0,9,   21.14,2,     -999.0,9,     -999.0,9,     -999.0,9,     -999.0,9,     2.9698,     -999.0,9
  74DI20100106,        A05,     108,          1,          9,          9,2,20100208,       0618,   24.50087,  -28.96089,       5674,  2277.3,   3.5353,  35.0170,  35.0170,2,   234.2,2,   26.70,2,    1.37,2,  -999.0,9,  -999.0,9,   21.20,2,     -999.0,1,     -999.0,1,     -999.0,1,     -999.0,1,     3.3476,     -999.0,1
  74DI20100106,        A05,     108,          1,         10,         10,2,20100208,       0618,   24.50087,  -28.96089,       5674,  2023.6,   3.9636,  35.0541,  35.0539,2,   226.4,2,   24.26,2,    1.39,2,  -999.0,9,  -999.0,9,   21.41,2,     -999.0,9,     -999.0,9,     -999.0,9,     -999.0,9,     3.7940,     -999.0,9
  74DI20100106,        A05,     108,          1,         11,         11,2,20100208,       0618,   24.50087,  -28.96089,       5674,  1772.4,   4.5444,  35.1096,  35.1098,2,   217.4,2,   21.73,2,    1.40,2,  -999.0,9,  -999.0,9,   21.58,2,     -999.0,1,     -999.0,1,     -999.0,1,     -999.0,1,     4.3913,     -999.0,1
  74DI20100106,        A05,     108,          1,         12,         12,2,20100208,       0618,   24.50087,  -28.96089,       5674,  1520.3,   5.4086,  35.1828,  35.1827,2,   200.6,2,   19.71,2,    1.42,2,  -999.0,9,  -999.0,9,   22.44,2,     -999.0,1,     -999.0,1,     -999.0,1,     -999.0,1,     5.2701,     -999.0,1
  74DI20100106,        A05,     108,          1,         13,         13,2,20100208,       0618,   24.50087,  -28.96089,       5674,  1268.6,   6.2461,  35.2075,  35.2075,2,   180.7,2,   18.42,2,    1.53,2,  -999.0,9,  -999.0,9,   23.88,2,     -999.0,1,     -999.0,1,     -999.0,1,     -999.0,1,     6.1249,     -999.0,1
  74DI20100106,        A05,     108,          1,         14,         14,10,20100208,       0618,   24.50087,  -28.96089,       5674,  1009.6,   6.9463,  35.1340,  35.1349,2,   149.7,2,   19.48,2,    1.72,2,  -999.0,9,  -999.0,9,   27.65,2,     -999.0,9,     -999.0,9,     -999.0,9,     -999.0,9,     6.8465,     -999.0,9
  74DI20100106,        A05,     108,          1,         15,         26,2,20100208,       0618,   24.50087,  -28.96089,       5674,   884.4,   7.8331,  35.1870,  35.1871,2,   137.0,2,   18.11,2,    1.72,2,  -999.0,9,  -999.0,9,   27.81,2,     -999.0,9,     -999.0,9,     -999.0,9,     -999.0,9,     7.7405,     -999.0,9
  74DI20100106,        A05,     108,          1,         16,         16,2,20100208,       0618,   24.50087,  -28.96089,       5674,   757.8,   9.3960,  35.3472,  35.3455,2,   139.9,2,    6.61,3,    1.00,3,  -999.0,9,  -999.0,9,   17.25,3,     -999.0,9,     -999.0,9,     -999.0,9,     -999.0,9,     9.3085,     -999.0,9
  74DI20100106,        A05,     108,          1,         17,         17,10,20100208,       0618,   24.50087,  -28.96089,       5674,   684.7,  10.3056,  35.4443,  35.4445,2,   146.0,2,   11.12,2,    1.34,2,  -999.0,9,  -999.0,9,   22.44,2,     -999.0,9,     -999.0,9,     -999.0,9,     -999.0,9,    10.2222,     -999.0,9
  74DI20100106,        A05,     108,          1,         18,         18,10,20100208,       0618,   24.50087,  -28.96089,       5674,   508.6,  12.2890,  35.6673,  35.6692,2,   161.9,2,    6.60,2,    0.98,2,  -999.0,9,  -999.0,9,   16.89,2,     -999.0,9,     -999.0,9,     -999.0,9,     -999.0,9,    12.2203,     -999.0,9
  74DI20100106,        A05,     108,          1,         19,         19,2,20100208,       0618,   24.50087,  -28.96089,       5674,   384.7,  14.1422,  35.9255,  35.9249,2,   155.1,2,    4.94,2,    0.84,2,  -999.0,9,  -999.0,9,   14.85,2,     -999.0,9,     -999.0,9,     -999.0,9,     -999.0,9,    14.0854,     -999.0,9
  74DI20100106,        A05,     108,          1,         20,         20,2,20100208,       0618,   24.50087,  -28.96089,       5674,   253.3,  16.2782,  36.2769,  36.2747,2,   160.0,2,    3.20,2,    0.58,2,  -999.0,9,  -999.0,9,   10.73,2,     -999.0,9,     -999.0,9,     -999.0,9,     -999.0,9,    16.2372,     -999.0,9
  74DI20100106,        A05,     108,          1,         21,         21,2,20100208,       0618,   24.50087,  -28.96089,       5674,   178.8,  18.3829,  36.7041,  36.7127,2,   179.9,2,    1.75,2,    0.31,2,  -999.0,9,  -999.0,9,    5.37,2,     -999.0,9,     -999.0,9,     -999.0,9,     -999.0,9,    18.3514,     -999.0,9
  74DI20100106,        A05,     108,          1,         22,         22,2,20100208,       0618,   24.50087,  -28.96089,       5674,    77.6,  21.1918,  37.0941,  37.0964,2,   213.5,2,    0.81,2,    0.00,2,  -999.0,9,  -999.0,9,    0.37,2,     -999.0,9,     -999.0,9,     -999.0,9,     -999.0,9,    21.1767,     -999.0,9
  74DI20100106,        A05,     108,          1,         23,         23,2,20100208,       0618,   24.50087,  -28.96089,       5674,    52.3,  22.8853,  37.3158,  37.3160,2,   208.5,2,    0.72,2,    0.01,2,  -999.0,9,  -999.0,9,    0.00,2,     -999.0,9,     -999.0,9,     -999.0,9,     -999.0,9,    22.8746,     -999.0,9
  74DI20100106,        A05,     108,          1,         24,         24,2,20100208,       0618,   24.50087,  -28.96089,       5674,     6.2,  22.9504,  37.3190,  37.3189,2,   208.3,2,    0.69,2,    0.00,2,  -999.0,9,  -999.0,9,    0.03,2,     -999.0,9,     -999.0,9,     -999.0,9,     -999.0,9,    22.9491,     -999.0,9