BOTTLE,20200205PRINUNIVRMK
# 08/30/2019 Initialized README file  
# Data source:  Masao Ishii 2018/11/30 
# SHIP: R/V Ryofu Maru III 
# Cruise: RF12.02 
# Region: North Pacific Ocean 
# EXPOCODE: 49UP20120306 
# DATES: 20120306-20120325 
# Chief Scientist: Takahiro Segawa 
# 17 stations with 36 place Rosette 
# CTD: Who - Hitomi Kamiya; Status - final 
# 	Includes: CTDSAL 
# SALNTY: Who - Hitomi Kamiya; Status - final 
# 	Notes: 	 
# Nutrients: Who - Hitomi Kamiya; Status - final 
# 	Includes: nitrate, nitrite, silicate, phosphate 
# 	Nitrite and NO3+NO2 reported. Separated by subtraction 
# OXYGEN: Who - Hitomi Kamiya; Status - final 
# 	Notes: 
# TCARBN: Who - Hitomi Kamiya; Status - final 
# 	Notes:  
# ALKALI: Who - Hitomi Kamiya; Status - final 
# 	Notes:  
# pH: Who - Hitomi Kamiya; Status - final 
# 	Notes: total H+ scale at 25C 
# These data should be cited as:               
# References that have used data from this cruise: 
EXPOCODE,SECT_ID,STNNBR,CASTNO,SAMPNO,BTLNBR,BTLNBR_FLAG_W,DATE,TIME,LATITUDE,LONGITUDE,DEPTH,CTDPRS,CTDTMP,CTDSAL,CTDSAL_FLAG_W,SALNTY,SALNTY_FLAG_W,OXYGEN,OXYGEN_FLAG_W,SILCAT,SILCAT_FLAG_W,NITRAT,NITRAT_FLAG_W,NITRIT,NITRIT_FLAG_W,PHSPHT,PHSPHT_FLAG_W,TCARBN,TCARBN_FLAG_W,ALKALI,ALKALI_FLAG_W,PH_TOT,PH_TOT_FLAG_W,PH_TMP,BTL_TIME
,,,,,,,,,,,METERS,DBAR,ITS-90,PSS-78,,PSS-78,,UMOL/KG,,UMOL/KG,,UMOL/KG,,UMOL/KG,,UMOL/KG,,UMOL/KG,,UMOL/KG,,,,DEG C,
  49UP20120306,RF1202,  4308,  1,     36,  22109,2,20120308,1521, 40.4937, 143.0987, 1638,     11.3,   1.7668,  33.1689,2,  33.1707,2,   -999.0,9,  -999.00,9,  -999.00,9,  -999.00,9,  -999.00,9,   -999.0,9,   -999.0,9,-999.0000,9,  -999.00,     1600
  49UP20120306,RF1202,  4308,  1,     32,  22105,2,20120308,1521, 40.4937, 143.0987, 1638,    102.6,   1.9024,  33.2480,2,  33.2468,6,   -999.0,9,  -999.00,9,  -999.00,9,  -999.00,9,  -999.00,9,   -999.0,9,   -999.0,9,-999.0000,9,  -999.00,     1554
  49UP20120306,RF1202,  4308,  1,     26,  22099,2,20120308,1521, 40.4937, 143.0987, 1638,    202.8,   2.6121,  33.4821,2,  33.4886,2,   -999.0,9,  -999.00,9,  -999.00,9,  -999.00,9,  -999.00,9,   -999.0,9,   -999.0,9,-999.0000,9,  -999.00,     1552
  49UP20120306,RF1202,  4308,  1,     22,  22095,3,20120308,1521, 40.4937, 143.0987, 1638,    404.8,   2.8844,  33.7780,2,  33.7781,2,   -999.0,9,  -999.00,9,  -999.00,9,  -999.00,9,  -999.00,9,   -999.0,9,   -999.0,9,-999.0000,9,  -999.00,     1547
  49UP20120306,RF1202,  4308,  1,     18,  22091,2,20120308,1521, 40.4937, 143.0987, 1638,    605.1,   3.3685,  34.0753,2,  34.0755,2,   -999.0,9,  -999.00,9,  -999.00,9,  -999.00,9,  -999.00,9,   -999.0,9,   -999.0,9,-999.0000,9,  -999.00,     1543
  49UP20120306,RF1202,  4308,  1,     17,  22090,2,20120308,1521, 40.4937, 143.0987, 1638,    605.1,   3.3685,  34.0753,2,  34.0745,6,   -999.0,9,  -999.00,9,  -999.00,9,  -999.00,9,  -999.00,9,   -999.0,9,   -999.0,9,-999.0000,9,  -999.00,     1543
  49UP20120306,RF1202,  4308,  1,     15,  22088,2,20120308,1521, 40.4937, 143.0987, 1638,    808.3,   3.2567,  34.2481,2,  34.2469,2,   -999.0,9,  -999.00,9,  -999.00,9,  -999.00,9,  -999.00,9,   -999.0,9,   -999.0,9,-999.0000,9,  -999.00,     1539
  49UP20120306,RF1202,  4308,  1,     13,  22086,2,20120308,1521, 40.4937, 143.0987, 1638,   1012.1,   2.8980,  34.3663,2,  34.3658,2,   -999.0,9,  -999.00,9,  -999.00,9,  -999.00,9,  -999.00,9,   -999.0,9,   -999.0,9,-999.0000,9,  -999.00,     1535
  49UP20120306,RF1202,  4308,  1,      9,  22082,3,20120308,1521, 40.4937, 143.0987, 1638,   1212.2,   2.6564,  34.4299,2,  34.4302,2,   -999.0,9,  -999.00,9,  -999.00,9,  -999.00,9,  -999.00,9,   -999.0,9,   -999.0,9,-999.0000,9,  -999.00,     1531
  49UP20120306,RF1202,  4308,  1,      8,  22081,3,20120308,1521, 40.4937, 143.0987, 1638,   1415.4,   2.4530,  34.4802,2,  34.4807,2,   -999.0,9,  -999.00,9,  -999.00,9,  -999.00,9,  -999.00,9,   -999.0,9,   -999.0,9,-999.0000,9,  -999.00,     1526
  49UP20120306,RF1202,  4308,  1,      6,  22079,2,20120308,1521, 40.4937, 143.0987, 1638,   1613.5,   2.0971,  34.5605,2,  34.5626,2,   -999.0,9,  -999.00,9,  -999.00,9,  -999.00,9,  -999.00,9,   -999.0,9,   -999.0,9,-999.0000,9,  -999.00,     1521
  49UP20120306,RF1202,  4308,  1,      7,  22080,2,20120308,1521, 40.4937, 143.0987, 1638,   1615.5,   2.0959,  34.5608,2,  34.5639,2,   -999.0,9,  -999.00,9,  -999.00,9,  -999.00,9,  -999.00,9,   -999.0,9,   -999.0,9,-999.0000,9,  -999.00,     1521
  49UP20120306,RF1202,  4314,  1,     99,     99,2,20120309,1727, 42.6345, 145.7233, 2547,      0.0,   0.0345,  32.8801,2,-999.0000,9,    341.1,2,    31.35,2,    17.38,2,     0.09,2,     1.57,2,   -999.0,9,   -999.0,9,-999.0000,9,  -999.00,     1815
  49UP20120306,RF1202,  4314,  1,     36,  22109,2,20120309,1727, 42.6345, 145.7233, 2547,     10.9,   0.0381,  32.8812,2,  32.8820,2,    341.6,2,    30.98,2,    17.28,2,     0.09,2,     1.53,2,   -999.0,9,   -999.0,9,-999.0000,9,  -999.00,     1832
  49UP20120306,RF1202,  4314,  1,     35,  22108,2,20120309,1727, 42.6345, 145.7233, 2547,     27.0,   0.1769,  32.9582,2,-999.0000,9,    339.9,2,    34.91,2,    18.68,2,     0.09,2,     1.61,2,   -999.0,9,   -999.0,9,-999.0000,9,  -999.00,     1831
  49UP20120306,RF1202,  4314,  1,     34,  22107,2,20120309,1727, 42.6345, 145.7233, 2547,     50.7,   0.2133,  33.0084,2,-999.0000,9,    334.9,2,    36.93,2,    19.54,2,     0.09,2,     1.67,2,   -999.0,9,   -999.0,9,-999.0000,9,  -999.00,     1827
  49UP20120306,RF1202,  4314,  1,     33,  22106,2,20120309,1727, 42.6345, 145.7233, 2547,     75.5,   0.3006,  33.0396,2,-999.0000,9,    330.1,2,    38.41,2,    20.03,2,     0.09,2,     1.70,2,   -999.0,9,   -999.0,9,-999.0000,9,  -999.00,     1826
  49UP20120306,RF1202,  4314,  1,     32,  22105,2,20120309,1727, 42.6345, 145.7233, 2547,    103.3,   0.7313,  33.1120,2,  33.1111,2,    307.7,2,    43.07,2,    21.70,2,     0.07,2,     1.80,2,   -999.0,9,   -999.0,9,-999.0000,9,  -999.00,     1824
  49UP20120306,RF1202,  4314,  1,     31,  22104,2,20120309,1727, 42.6345, 145.7233, 2547,    126.7,   0.9358,  33.1385,2,-999.0000,9,    302.2,2,    44.26,2,    21.87,2,     0.07,2,     1.81,2,   -999.0,9,   -999.0,9,-999.0000,9,  -999.00,     1823
  49UP20120306,RF1202,  4314,  1,     27,  22100,3,20120309,1727, 42.6345, 145.7233, 2547,    152.2,   0.9292,  33.1546,2,-999.0000,9,    310.8,2,    43.99,2,    21.71,2,     0.08,2,     1.79,2,   -999.0,9,   -999.0,9,-999.0000,9,  -999.00,     1821
  49UP20120306,RF1202,  4314,  1,     26,  22099,3,20120309,1727, 42.6345, 145.7233, 2547,    203.3,   1.2290,  33.2293,2,  33.2247,6,    288.8,2,    48.82,2,    23.66,2,     0.02,2,     1.91,2,   -999.0,9,   -999.0,9,-999.0000,9,  -999.00,     1819
  49UP20120306,RF1202,  4314,  1,     25,  22098,2,20120309,1727, 42.6345, 145.7233, 2547,    203.3,   1.2290,  33.2293,2,  33.2227,2,    289.5,6,    48.85,6,    23.56,6,     0.02,6,     1.91,6,   -999.0,9,   -999.0,9,-999.0000,9,  -999.00,     1819
  49UP20120306,RF1202,  4314,  1,     24,  22097,2,20120309,1727, 42.6345, 145.7233, 2547,    252.3,   1.6200,  33.3636,2,-999.0000,9,    242.8,2,    60.78,2,    28.05,2,     0.01,2,     2.20,2,   -999.0,9,   -999.0,9,-999.0000,9,  -999.00,     1817
  49UP20120306,RF1202,  4314,  1,     23,  22096,2,20120309,1727, 42.6345, 145.7233, 2547,    303.6,   1.6811,  33.4516,2,-999.0000,9,    217.0,4,    69.00,2,    30.74,2,     0.01,2,     2.39,2,   -999.0,9,   -999.0,9,-999.0000,9,  -999.00,     1815
  49UP20120306,RF1202,  4314,  1,     22,  22095,3,20120309,1727, 42.6345, 145.7233, 2547,    405.7,   1.9774,  33.5945,2,  33.5867,2,    170.1,2,    81.52,2,    33.97,2,     0.01,2,     2.62,2,   -999.0,9,   -999.0,9,-999.0000,9,  -999.00,     1812
  49UP20120306,RF1202,  4314,  1,     18,  22091,2,20120309,1727, 42.6345, 145.7233, 2547,    506.9,   2.1801,  33.7496,2,-999.0000,9,    128.4,2,    95.68,2,    36.85,2,     0.00,2,     2.75,2,   -999.0,9,   -999.0,9,-999.0000,9,  -999.00,     1808
  49UP20120306,RF1202,  4314,  1,     17,  22090,2,20120309,1727, 42.6345, 145.7233, 2547,    606.4,   3.0563,  34.0121,2,  34.0116,2,     51.9,2,   114.18,2,    42.34,2,     0.00,2,     3.04,2,   -999.0,9,   -999.0,9,-999.0000,9,  -999.00,     1805
  49UP20120306,RF1202,  4314,  1,     16,  22089,2,20120309,1727, 42.6345, 145.7233, 2547,    708.2,   3.0450,  34.1649,2,-999.0000,9,     35.4,2,   128.35,2,    43.24,2,     0.00,2,     3.09,2,   -999.0,9,   -999.0,9,-999.0000,9,  -999.00,     1801
  49UP20120306,RF1202,  4314,  1,     15,  22088,2,20120309,1727, 42.6345, 145.7233, 2547,    809.4,   2.9891,  34.2398,2,  34.2417,2,     25.7,2,   135.61,2,    43.84,2,     0.00,2,     3.13,2,   -999.0,9,   -999.0,9,-999.0000,9,  -999.00,     1758
  49UP20120306,RF1202,  4314,  1,     14,  22087,2,20120309,1727, 42.6345, 145.7233, 2547,    908.8,   2.8440,  34.2883,2,-999.0000,9,     28.5,2,   141.68,2,    43.59,2,     0.00,2,     3.11,2,   -999.0,9,   -999.0,9,-999.0000,9,  -999.00,     1754
  49UP20120306,RF1202,  4314,  1,     13,  22086,2,20120309,1727, 42.6345, 145.7233, 2547,   1012.5,   2.6971,  34.3327,2,  34.3333,4,     32.0,2,   147.15,2,    43.29,2,     0.00,2,     3.10,2,   -999.0,9,   -999.0,9,-999.0000,9,  -999.00,     1750
  49UP20120306,RF1202,  4314,  1,      9,  22082,2,20120309,1727, 42.6345, 145.7233, 2547,   1216.0,   2.4053,  34.4148,2,  34.4155,2,     42.5,2,   156.40,2,    42.68,2,     0.00,2,     3.06,2,   -999.0,9,   -999.0,9,-999.0000,9,  -999.00,     1745
  49UP20120306,RF1202,  4314,  1,      8,  22081,2,20120309,1727, 42.6345, 145.7233, 2547,   1418.3,   2.2557,  34.4750,2,  34.4761,6,     48.7,2,   160.41,2,    42.41,2,     0.00,2,     3.04,2,   -999.0,9,   -999.0,9,-999.0000,9,  -999.00,     1740
  49UP20120306,RF1202,  4314,  1,      7,  22080,2,20120309,1727, 42.6345, 145.7233, 2547,   1418.3,   2.2557,  34.4750,2,  34.4755,2,     48.3,6,   160.87,6,    42.39,6,     0.00,6,     3.03,6,   -999.0,9,   -999.0,9,-999.0000,9,  -999.00,     1740
  49UP20120306,RF1202,  4314,  1,      6,  22079,2,20120309,1727, 42.6345, 145.7233, 2547,   1623.8,   2.1971,  34.5088,2,  34.5087,2,     52.8,4,   162.74,2,    42.25,2,     0.00,2,     3.02,2,   -999.0,9,   -999.0,9,-999.0000,9,  -999.00,     1735
  49UP20120306,RF1202,  4314,  1,      5,  22078,2,20120309,1727, 42.6345, 145.7233, 2547,   1823.9,   2.0934,  34.5497,2,  34.5507,2,     59.9,2,   163.48,2,    41.85,2,     0.00,2,     2.98,2,   -999.0,9,   -999.0,9,-999.0000,9,  -999.00,     1731
  49UP20120306,RF1202,  4314,  1,      4,  22077,2,20120309,1727, 42.6345, 145.7233, 2547,   2023.8,   1.9668,  34.5840,2,  34.5851,2,     72.6,2,   164.14,2,    41.26,2,     0.00,2,     2.93,2,   -999.0,9,   -999.0,9,-999.0000,9,  -999.00,     1727
  49UP20120306,RF1202,  4319,  1,     99,     99,2,20120310,0953, 41.9890, 146.1750, 5862,      0.0,   0.8034,  33.1420,2,-999.0000,9,    339.6,2,    45.83,2,    24.47,2,     0.15,2,     1.97,2,   -999.0,9,   -999.0,9,-999.0000,9,  -999.00,     1032
  49UP20120306,RF1202,  4319,  1,     36,  22109,2,20120310,0953, 41.9890, 146.1750, 5862,     10.7,   0.8058,  33.1420,2,  33.1415,2,    340.1,2,    46.08,2,    24.45,2,     0.15,2,     1.96,2,   -999.0,9,   -999.0,9,-999.0000,9,  -999.00,     1059
  49UP20120306,RF1202,  4319,  1,     35,  22108,3,20120310,0953, 41.9890, 146.1750, 5862,     27.2,   0.8057,  33.1418,2,-999.0000,9,    340.2,2,    46.00,2,    24.50,2,     0.15,2,     1.96,2,   -999.0,9,   -999.0,9,-999.0000,9,  -999.00,     1058
  49UP20120306,RF1202,  4319,  1,     34,  22107,2,20120310,0953, 41.9890, 146.1750, 5862,     52.1,   0.8064,  33.1418,2,-999.0000,9,    340.6,2,    45.99,2,    24.44,2,     0.15,2,     1.96,2,   -999.0,9,   -999.0,9,-999.0000,9,  -999.00,     1056
  49UP20120306,RF1202,  4319,  1,     33,  22106,2,20120310,0953, 41.9890, 146.1750, 5862,     74.8,   0.7629,  33.1511,2,-999.0000,9,    336.4,2,    47.10,2,    24.94,2,     0.14,2,     1.98,2,   -999.0,9,   -999.0,9,-999.0000,9,  -999.00,     1054
  49UP20120306,RF1202,  4319,  1,     32,  22105,2,20120310,0953, 41.9890, 146.1750, 5862,    102.4,   0.7209,  33.1626,2,  33.1636,2,    333.1,2,    48.23,2,    25.28,2,     0.14,2,     2.01,2,   -999.0,9,   -999.0,9,-999.0000,9,  -999.00,     1053
  49UP20120306,RF1202,  4319,  1,     31,  22104,2,20120310,0953, 41.9890, 146.1750, 5862,    127.0,   0.7944,  33.2356,2,-999.0000,9,    313.8,2,    53.76,2,    26.68,2,     0.12,2,     2.11,2,   -999.0,9,   -999.0,9,-999.0000,9,  -999.00,     1051
  49UP20120306,RF1202,  4319,  1,     27,  22100,2,20120310,0953, 41.9890, 146.1750, 5862,    152.3,   1.8115,  33.4606,2,-999.0000,9,    215.8,2,    71.11,2,    32.24,2,     0.01,2,     2.45,2,   -999.0,9,   -999.0,9,-999.0000,9,  -999.00,     1046
  49UP20120306,RF1202,  4319,  1,     26,  22099,2,20120310,0953, 41.9890, 146.1750, 5862,    204.6,   2.5070,  33.6822,2,  33.6765,6,    132.0,2,    88.32,2,    37.39,2,     0.00,2,     2.76,2,   -999.0,9,   -999.0,9,-999.0000,9,  -999.00,     1044
  49UP20120306,RF1202,  4319,  1,     25,  22098,2,20120310,0953, 41.9890, 146.1750, 5862,    253.2,   2.4205,  33.7580,2,-999.0000,9,    122.8,2,    95.18,2,    37.54,2,     0.01,2,     2.79,2,   -999.0,9,   -999.0,9,-999.0000,9,  -999.00,     1042
  49UP20120306,RF1202,  4319,  1,     24,  22097,2,20120310,0953, 41.9890, 146.1750, 5862,    253.2,   2.4205,  33.7580,2,-999.0000,9,    123.0,6,    95.14,6,    37.49,6,     0.01,6,     2.79,6,   -999.0,9,   -999.0,9,-999.0000,9,  -999.00,     1042
  49UP20120306,RF1202,  4319,  1,     23,  22096,2,20120310,0953, 41.9890, 146.1750, 5862,    307.9,   3.1664,  33.9061,2,-999.0000,9,   -999.0,5,   103.80,2,    42.14,2,     0.01,2,     3.03,2,   -999.0,9,   -999.0,9,-999.0000,9,  -999.00,     1039
  49UP20120306,RF1202,  4319,  1,     22,  22095,3,20120310,0953, 41.9890, 146.1750, 5862,    407.4,   3.2518,  34.0335,2,  34.0351,2,     38.7,2,   114.56,2,    43.32,2,     0.00,2,     3.10,2,   -999.0,9,   -999.0,9,-999.0000,9,  -999.00,     1036
  49UP20120306,RF1202,  4319,  1,     18,  22091,2,20120310,0953, 41.9890, 146.1750, 5862,    505.8,   3.1020,  34.1370,2,-999.0000,9,     44.2,2,   123.06,2,    42.35,2,     0.01,2,     3.05,2,   -999.0,9,   -999.0,9,-999.0000,9,  -999.00,     1032
  49UP20120306,RF1202,  4319,  1,     17,  22090,2,20120310,0953, 41.9890, 146.1750, 5862,    608.4,   3.1484,  34.2446,2,  34.2443,2,     36.8,2,   130.72,2,    42.73,2,     0.00,2,     3.06,2,   -999.0,9,   -999.0,9,-999.0000,9,  -999.00,     1029
  49UP20120306,RF1202,  4319,  1,     16,  22089,2,20120310,0953, 41.9890, 146.1750, 5862,    708.5,   2.7552,  34.2669,2,-999.0000,9,     35.8,2,   140.50,2,    43.02,2,     0.00,2,     3.09,2,   -999.0,9,   -999.0,9,-999.0000,9,  -999.00,     1025
  49UP20120306,RF1202,  4319,  1,     15,  22088,2,20120310,0953, 41.9890, 146.1750, 5862,    810.8,   2.4688,  34.2894,2,  34.2905,2,     49.7,2,   145.20,2,    42.15,2,     0.00,2,     3.04,2,   -999.0,9,   -999.0,9,-999.0000,9,  -999.00,     1022
  49UP20120306,RF1202,  4319,  1,     14,  22087,2,20120310,0953, 41.9890, 146.1750, 5862,    910.3,   2.6322,  34.3726,2,-999.0000,9,     29.7,2,   150.64,2,    43.54,2,     0.00,2,     3.11,2,   -999.0,9,   -999.0,9,-999.0000,9,  -999.00,     1019
  49UP20120306,RF1202,  4319,  1,     13,  22086,2,20120310,0953, 41.9890, 146.1750, 5862,   1015.2,   2.4774,  34.4084,2,  34.4081,2,     35.6,2,   155.37,2,    43.18,2,     0.01,2,     3.09,2,   -999.0,9,   -999.0,9,-999.0000,9,  -999.00,     1016
  49UP20120306,RF1202,  4319,  1,      9,  22082,2,20120310,0953, 41.9890, 146.1750, 5862,   1216.4,   2.3211,  34.4669,2,  34.4688,2,     43.0,2,   159.73,2,    42.78,2,     0.00,2,     3.06,2,   -999.0,9,   -999.0,9,-999.0000,9,  -999.00,     1010
  49UP20120306,RF1202,  4319,  1,      8,  22081,2,20120310,0953, 41.9890, 146.1750, 5862,   1419.4,   2.2421,  34.5035,2,  34.5052,2,     47.8,2,   161.60,2,    42.35,2,     0.00,2,     3.03,2,   -999.0,9,   -999.0,9,-999.0000,9,  -999.00,     1006
  49UP20120306,RF1202,  4319,  1,      7,  22080,2,20120310,0953, 41.9890, 146.1750, 5862,   1621.3,   2.1197,  34.5459,2,  34.5469,2,     57.5,2,   162.72,2,    42.02,2,     0.00,2,     3.00,2,   -999.0,9,   -999.0,9,-999.0000,9,  -999.00,     1001
  49UP20120306,RF1202,  4319,  1,      6,  22079,2,20120310,0953, 41.9890, 146.1750, 5862,   1621.3,   2.1197,  34.5459,2,  34.5443,2,     57.5,6,   162.67,6,    42.04,6,     0.00,6,     2.99,6,   -999.0,9,   -999.0,9,-999.0000,9,  -999.00,     1001
  49UP20120306,RF1202,  4319,  1,      5,  22078,3,20120310,0953, 41.9890, 146.1750, 5862,   1825.9,   1.9993,  34.5775,2,  34.5778,2,     68.3,2,   163.51,2,    41.45,2,     0.01,2,     2.93,2,   -999.0,9,   -999.0,9,-999.0000,9,  -999.00,      957
  49UP20120306,RF1202,  4319,  1,      4,  22077,2,20120310,0953, 41.9890, 146.1750, 5862,   2025.5,   1.8843,  34.6042,2,  34.6043,2,     81.0,2,   162.37,2,    40.77,2,     0.01,2,     2.92,2,   -999.0,9,   -999.0,9,-999.0000,9,  -999.00,      953