BOTTLE,20200205PRINUNIVRMK
EXPOCODE,SECT_ID,STNNBR,CASTNO,SAMPNO,BTLNBR,BTLNBR_FLAG_W,DATE,TIME,LATITUDE,LONGITUDE,DEPTH,CTDPRS,CTDTMP,CTDSAL,CTDSAL_FLAG_W,SALNTY,SALNTY_FLAG_W,OXYGEN,OXYGEN_FLAG_W,SILCAT,SILCAT_FLAG_W,NITRAT,NITRAT_FLAG_W,NITRIT,NITRIT_FLAG_W,PHSPHT,PHSPHT_FLAG_W,TCARBN,TCARBN_FLAG_W,ALKALI,ALKALI_FLAG_W,PH_TOT,PH_TOT_FLAG_W,PH_TMP,BTL_TIME
,,,,,,,,,,,METERS,DBAR,ITS-90,PSS-78,,PSS-78,,UMOL/KG,,UMOL/KG,,UMOL/KG,,UMOL/KG,,UMOL/KG,,UMOL/KG,,UMOL/KG,,,,DEG C,
  49UP20120306,RF1202,  4336,  1,     99,     99,2,20120317,0550, 36.0042, 149.2730, 5956,      0.0,  16.5436,  34.6450,2,  34.6512,2,    241.0,2,     4.23,2,     2.46,2,     0.23,2,     0.25,2,   2013.9,2,   2274.5,2,   7.9802,2,    25.00,      625
  49UP20120306,RF1202,  4336,  1,     36,  22109,2,20120317,0550, 36.0042, 149.2730, 5956,     11.4,  16.4893,  34.6434,2,-999.0000,9,    240.1,2,     4.27,2,     2.49,2,     0.23,2,     0.23,2,   2011.2,2,   2270.3,2,   7.9864,2,    25.00,      646
  49UP20120306,RF1202,  4336,  1,     35,  22108,2,20120317,0550, 36.0042, 149.2730, 5956,     26.6,  16.4689,  34.6436,2,-999.0000,9,    240.8,2,     4.31,2,     2.48,2,     0.24,2,     0.22,2,   2011.5,2,   2270.9,2,   7.9833,2,    25.00,      645
  49UP20120306,RF1202,  4336,  1,     34,  22107,2,20120317,0550, 36.0042, 149.2730, 5956,     50.3,  16.4517,  34.6430,2,-999.0000,9,    239.6,2,     4.27,2,     2.54,2,     0.24,2,     0.23,2,   2015.2,2,   2273.3,2,   7.9862,2,    25.00,      641
  49UP20120306,RF1202,  4336,  1,     33,  22106,2,20120317,0550, 36.0042, 149.2730, 5956,     76.0,  16.4313,  34.6381,2,-999.0000,9,    238.5,2,     4.31,2,     2.58,2,     0.27,2,     0.23,2,   2013.7,2,   2273.5,2,   7.9835,2,    25.00,      640
  49UP20120306,RF1202,  4336,  1,     32,  22105,2,20120317,0550, 36.0042, 149.2730, 5956,    102.7,  16.3227,  34.6143,2,-999.0000,9,    238.1,2,     4.37,2,     2.65,2,     0.34,2,     0.24,2,   2014.0,2,   2271.5,2,   7.9736,2,    25.00,      639
  49UP20120306,RF1202,  4336,  1,     31,  22104,2,20120317,0550, 36.0042, 149.2730, 5956,    102.7,  16.3227,  34.6143,2,-999.0000,9,    237.8,6,     4.35,6,     2.67,6,     0.34,6,     0.24,6,   2014.6,2,   2272.5,2,   7.9765,2,    25.00,      639
  49UP20120306,RF1202,  4336,  1,     27,  22100,2,20120317,0550, 36.0042, 149.2730, 5956,    126.3,  16.3072,  34.6135,2,-999.0000,9,    236.9,2,     4.44,2,     2.77,2,     0.34,2,     0.25,2,   2015.9,6,   2271.6,6,   7.9750,2,    25.00,      637
  49UP20120306,RF1202,  4336,  1,     26,  22099,2,20120317,0550, 36.0042, 149.2730, 5956,    151.3,  16.3163,  34.6201,2,-999.0000,9,    236.9,2,     4.51,2,     2.84,2,     0.31,2,     0.26,2,   2015.4,2,   2271.3,2,   7.9734,6,    25.00,      636
  49UP20120306,RF1202,  4336,  1,     25,  22098,2,20120317,0550, 36.0042, 149.2730, 5956,    204.4,  15.4214,  34.6013,2,-999.0000,9,    211.2,2,    10.04,2,     7.48,2,     0.11,2,     0.55,2,   2049.9,2,   2273.9,2,   7.9134,2,    25.00,      634
  49UP20120306,RF1202,  4336,  1,     24,  22097,2,20120317,0550, 36.0042, 149.2730, 5956,    254.5,  13.7946,  34.4837,2,-999.0000,9,    194.4,2,    15.02,2,    11.34,2,     0.02,2,     0.82,2,   2082.6,2,   2274.0,2,   7.8414,2,    25.00,      632
  49UP20120306,RF1202,  4336,  1,     23,  22096,2,20120317,0550, 36.0042, 149.2730, 5956,    303.0,  12.0561,  34.3508,2,-999.0000,9,    206.4,2,    18.24,2,    12.69,2,     0.02,2,     0.94,2,   2093.4,2,   2272.6,2,   7.8190,2,    25.00,      630
  49UP20120306,RF1202,  4336,  1,     22,  22095,2,20120317,0550, 36.0042, 149.2730, 5956,    404.0,   9.8816,  34.2547,2,-999.0000,9,    159.2,2,    35.28,2,    21.12,2,     0.00,2,     1.55,2,   2153.4,2,   2279.4,2,   7.6786,2,    25.00,      628
  49UP20120306,RF1202,  4336,  1,     18,  22091,2,20120317,0550, 36.0042, 149.2730, 5956,    505.9,   6.2357,  33.9155,2,-999.0000,9,    170.2,2,    50.93,2,    26.70,2,     0.00,2,     2.00,2,   2195.1,2,   2274.9,2,-999.0000,5,  -999.00,      625
  49UP20120306,RF1202,  4336,  1,     17,  22090,2,20120317,0550, 36.0042, 149.2730, 5956,    606.0,   4.8156,  33.9473,2,-999.0000,9,    123.4,2,    73.02,2,    33.48,2,     0.00,2,     2.48,2,   2254.3,2,   2292.0,2,   7.4492,2,    25.00,      622
  49UP20120306,RF1202,  4336,  1,     16,  22089,2,20120317,0550, 36.0042, 149.2730, 5956,    708.6,   4.1680,  34.0054,2,-999.0000,9,     86.1,2,    90.30,2,    37.83,2,     0.00,2,     2.76,2,   2292.8,2,   2303.5,2,   7.3717,2,    25.00,      620
  49UP20120306,RF1202,  4336,  1,     15,  22088,2,20120317,0550, 36.0042, 149.2730, 5956,    809.3,   4.2424,  34.1769,2,-999.0000,9,     63.5,2,   101.97,2,    39.23,2,     0.00,2,     2.84,2,   2314.2,2,   2328.6,2,   7.3727,2,    25.00,      617
  49UP20120306,RF1202,  4336,  1,     14,  22087,2,20120317,0550, 36.0042, 149.2730, 5956,    909.0,   3.9089,  34.2571,2,-999.0000,9,     50.6,2,   113.85,2,    40.47,2,     0.00,2,     2.92,2,   2335.9,2,   2340.4,2,   7.3543,2,    25.00,      614
  49UP20120306,RF1202,  4336,  1,     13,  22086,2,20120317,0550, 36.0042, 149.2730, 5956,    909.0,   3.9089,  34.2571,2,-999.0000,9,     51.0,6,   113.63,6,    40.50,6,     0.00,6,     2.92,6,   2337.1,2,   2340.3,2,   7.3562,2,    25.00,      614
  49UP20120306,RF1202,  4336,  1,      9,  22082,2,20120317,0550, 36.0042, 149.2730, 5956,   1011.7,   3.5578,  34.3160,2,-999.0000,9,     45.0,2,   124.02,2,    41.40,2,     0.00,2,     2.98,2,   2349.2,6,   2352.4,6,   7.3493,2,    25.00,      611
  49UP20120306,RF1202,  4336,  1,      8,  22081,2,20120317,0550, 36.0042, 149.2730, 5956,   1215.2,   2.9827,  34.4117,2,-999.0000,9,     40.3,2,   140.10,2,    42.41,2,     0.00,2,     3.04,2,   2369.3,2,   2371.8,2,   7.3513,6,    25.00,      607
  49UP20120306,RF1202,  4336,  1,      7,  22080,2,20120317,0550, 36.0042, 149.2730, 5956,   1414.9,   2.6164,  34.4681,2,-999.0000,9,     41.7,2,   147.18,2,    42.51,2,     0.00,2,     3.05,2,   2376.4,2,   2384.7,2,   7.3530,2,    25.00,      602
  49UP20120306,RF1202,  4336,  1,      6,  22079,2,20120317,0550, 36.0042, 149.2730, 5956,   1619.5,   2.3706,  34.5166,2,-999.0000,9,     47.5,2,   156.12,2,    42.33,2,     0.00,2,     3.03,2,   2381.3,2,   2397.3,2,   7.3663,2,    25.00,      558
  49UP20120306,RF1202,  4336,  1,      5,  22078,2,20120317,0550, 36.0042, 149.2730, 5956,   1820.9,   2.1825,  34.5531,2,-999.0000,9,     57.2,2,   160.23,2,    42.00,2,     0.00,2,     2.99,2,   2384.9,2,   2397.2,2,   7.3901,2,    25.00,      554
  49UP20120306,RF1202,  4336,  1,      4,  22077,2,20120317,0550, 36.0042, 149.2730, 5956,   2023.3,   2.0174,  34.5835,2,-999.0000,9,     69.8,2,   162.21,2,    41.39,2,     0.00,2,     2.93,2,   2374.5,2,   2402.6,2,   7.4241,2,    25.00,      550
  49UP20120306,RF1202,  4338,  1,     99,     99,2,20120317,1449, 35.0080, 148.9040, 6061,      0.0,  17.5303,  34.7524,2,-999.0000,9,    234.7,2,     2.69,2,     1.51,2,     0.17,2,     0.16,2,   -999.0,9,   -999.0,9,-999.0000,9,  -999.00,     1527
  49UP20120306,RF1202,  4338,  1,     36,  22109,2,20120317,1449, 35.0080, 148.9040, 6061,     12.0,  17.5346,  34.7518,2,-999.0000,9,    234.2,2,     2.64,2,     1.52,2,     0.16,2,     0.15,2,   -999.0,9,   -999.0,9,-999.0000,9,  -999.00,     1546
  49UP20120306,RF1202,  4338,  1,     35,  22108,2,20120317,1449, 35.0080, 148.9040, 6061,     25.7,  17.5307,  34.7518,2,-999.0000,9,    233.7,2,     2.66,2,     1.52,2,     0.16,2,     0.15,2,   -999.0,9,   -999.0,9,-999.0000,9,  -999.00,     1545
  49UP20120306,RF1202,  4338,  1,     34,  22107,2,20120317,1449, 35.0080, 148.9040, 6061,     51.0,  17.5232,  34.7493,2,-999.0000,9,    233.2,2,     2.70,2,     1.60,2,     0.17,2,     0.15,2,   -999.0,9,   -999.0,9,-999.0000,9,  -999.00,     1542
  49UP20120306,RF1202,  4338,  1,     33,  22106,2,20120317,1449, 35.0080, 148.9040, 6061,     75.8,  17.4853,  34.7474,2,-999.0000,9,    231.3,2,     2.74,2,     1.77,2,     0.18,2,     0.16,2,   -999.0,9,   -999.0,9,-999.0000,9,  -999.00,     1540
  49UP20120306,RF1202,  4338,  1,     32,  22105,2,20120317,1449, 35.0080, 148.9040, 6061,    102.5,  17.4827,  34.7465,2,-999.0000,9,    231.3,2,     2.79,2,     1.79,2,     0.18,2,     0.17,2,   -999.0,9,   -999.0,9,-999.0000,9,  -999.00,     1539
  49UP20120306,RF1202,  4338,  1,     31,  22104,2,20120317,1449, 35.0080, 148.9040, 6061,    127.3,  17.4760,  34.7455,2,-999.0000,9,    229.9,2,     2.82,2,     1.90,2,     0.17,2,     0.18,2,   -999.0,9,   -999.0,9,-999.0000,9,  -999.00,     1538
  49UP20120306,RF1202,  4338,  1,     27,  22100,2,20120317,1449, 35.0080, 148.9040, 6061,    150.5,  17.4747,  34.7446,2,-999.0000,9,    230.0,2,     2.86,2,     1.96,2,     0.16,2,     0.17,2,   -999.0,9,   -999.0,9,-999.0000,9,  -999.00,     1536
  49UP20120306,RF1202,  4338,  1,     26,  22099,2,20120317,1449, 35.0080, 148.9040, 6061,    150.5,  17.4747,  34.7446,2,-999.0000,9,    229.9,6,     2.78,6,     1.95,6,     0.16,6,     0.17,6,   -999.0,9,   -999.0,9,-999.0000,9,  -999.00,     1536
  49UP20120306,RF1202,  4338,  1,     25,  22098,2,20120317,1449, 35.0080, 148.9040, 6061,    202.8,  17.2832,  34.7216,2,-999.0000,9,    221.2,2,     3.44,2,     3.30,2,     0.03,2,     0.25,2,   -999.0,9,   -999.0,9,-999.0000,9,  -999.00,     1534
  49UP20120306,RF1202,  4338,  1,     24,  22097,2,20120317,1449, 35.0080, 148.9040, 6061,    253.7,  16.8992,  34.6951,2,-999.0000,9,    209.0,2,     4.72,2,     5.11,2,     0.01,2,     0.36,2,   -999.0,9,   -999.0,9,-999.0000,9,  -999.00,     1532
  49UP20120306,RF1202,  4338,  1,     23,  22096,2,20120317,1449, 35.0080, 148.9040, 6061,    304.5,  16.0013,  34.6271,2,-999.0000,9,    190.7,2,     8.34,2,     8.19,2,     0.01,2,     0.58,2,   -999.0,9,   -999.0,9,-999.0000,9,  -999.00,     1528
  49UP20120306,RF1202,  4338,  1,     22,  22095,2,20120317,1449, 35.0080, 148.9040, 6061,    405.8,  13.3115,  34.4519,2,-999.0000,9,    184.7,2,    15.49,2,    12.89,2,     0.01,2,     0.92,2,   -999.0,9,   -999.0,9,-999.0000,9,  -999.00,     1525
  49UP20120306,RF1202,  4338,  1,     18,  22091,2,20120317,1449, 35.0080, 148.9040, 6061,    506.9,  10.9265,  34.3010,2,-999.0000,9,    171.5,2,    27.52,2,    18.09,2,     0.00,2,     1.32,2,   -999.0,9,   -999.0,9,-999.0000,9,  -999.00,     1521
  49UP20120306,RF1202,  4338,  1,     17,  22090,2,20120317,1449, 35.0080, 148.9040, 6061,    608.8,   6.5917,  34.0496,2,-999.0000,9,    142.4,2,    57.43,2,    28.32,2,     0.00,2,     2.10,2,   -999.0,9,   -999.0,9,-999.0000,9,  -999.00,     1518
  49UP20120306,RF1202,  4338,  1,     16,  22089,2,20120317,1449, 35.0080, 148.9040, 6061,    708.9,   5.0836,  34.0309,2,-999.0000,9,    110.0,2,    77.65,2,    34.06,2,     0.00,2,     2.51,2,   -999.0,9,   -999.0,9,-999.0000,9,  -999.00,     1515
  49UP20120306,RF1202,  4338,  1,     15,  22088,2,20120317,1449, 35.0080, 148.9040, 6061,    809.9,   4.6527,  34.2014,2,-999.0000,9,     71.9,2,    97.59,2,    37.77,2,     0.00,2,     2.75,2,   -999.0,9,   -999.0,9,-999.0000,9,  -999.00,     1513
  49UP20120306,RF1202,  4338,  1,     14,  22087,2,20120317,1449, 35.0080, 148.9040, 6061,    910.5,   4.0988,  34.2635,2,-999.0000,9,     57.2,2,   111.00,2,    39.68,2,     0.00,2,     2.87,2,   -999.0,9,   -999.0,9,-999.0000,9,  -999.00,     1510
  49UP20120306,RF1202,  4338,  1,     13,  22086,2,20120317,1449, 35.0080, 148.9040, 6061,   1012.6,   3.6868,  34.3170,2,-999.0000,9,     49.8,2,   121.40,2,    40.88,2,     0.00,2,     2.95,2,   -999.0,9,   -999.0,9,-999.0000,9,  -999.00,     1508
  49UP20120306,RF1202,  4338,  1,      9,  22082,2,20120317,1449, 35.0080, 148.9040, 6061,   1213.6,   3.0472,  34.4030,2,-999.0000,9,     40.5,2,   139.17,2,    42.28,2,     0.00,2,     3.05,2,   -999.0,9,   -999.0,9,-999.0000,9,  -999.00,     1504
  49UP20120306,RF1202,  4338,  1,      8,  22081,2,20120317,1449, 35.0080, 148.9040, 6061,   1213.6,   3.0472,  34.4030,2,-999.0000,9,     40.7,6,   138.92,6,    42.31,6,     0.00,6,     3.04,6,   -999.0,9,   -999.0,9,-999.0000,9,  -999.00,     1504
  49UP20120306,RF1202,  4338,  1,      7,  22080,2,20120317,1449, 35.0080, 148.9040, 6061,   1415.5,   2.6935,  34.4622,2,-999.0000,9,     41.1,2,   149.42,2,    42.70,2,     0.00,2,     3.06,2,   -999.0,9,   -999.0,9,-999.0000,9,  -999.00,     1500
  49UP20120306,RF1202,  4338,  1,      6,  22079,2,20120317,1449, 35.0080, 148.9040, 6061,   1620.4,   2.3600,  34.5209,2,-999.0000,9,     48.8,2,   157.18,2,    42.46,2,     0.00,2,     3.03,2,   -999.0,9,   -999.0,9,-999.0000,9,  -999.00,     1456
  49UP20120306,RF1202,  4338,  1,      5,  22078,2,20120317,1449, 35.0080, 148.9040, 6061,   1811.6,   2.1570,  34.5583,2,-999.0000,9,     59.1,2,   160.89,2,    42.04,2,     0.00,2,     2.99,2,   -999.0,9,   -999.0,9,-999.0000,9,  -999.00,     1453
  49UP20120306,RF1202,  4338,  1,      4,  22077,2,20120317,1449, 35.0080, 148.9040, 6061,   2017.5,   2.0001,  34.5870,2,-999.0000,9,     73.9,2,   160.45,2,    41.14,2,     0.00,2,     2.93,2,   -999.0,9,   -999.0,9,-999.0000,9,  -999.00,     1449
  49UP20120306,RF1202,  4341,  1,     99,     99,2,20120319,1013, 33.9327, 148.5933, 6192,      0.0,  17.9743,  34.7257,2,  34.7339,2,    231.5,2,     2.87,2,     1.67,2,     0.20,2,     0.18,2,   -999.0,9,   -999.0,9,   8.0050,2,    25.00,     1043
  49UP20120306,RF1202,  4341,  1,     36,  22109,2,20120319,1013, 33.9327, 148.5933, 6192,     11.3,  17.9801,  34.7257,2,  34.7245,2,    230.6,2,     2.91,2,     1.64,2,     0.20,2,     0.16,2,   -999.0,9,   -999.0,9,   8.0101,2,    25.00,     1108
  49UP20120306,RF1202,  4341,  1,     35,  22108,2,20120319,1013, 33.9327, 148.5933, 6192,     29.4,  17.9843,  34.7255,2,-999.0000,9,    230.6,2,     2.89,2,     1.66,2,     0.20,2,     0.16,2,   -999.0,9,   -999.0,9,   8.0031,2,    25.00,     1107
  49UP20120306,RF1202,  4341,  1,     34,  22107,2,20120319,1013, 33.9327, 148.5933, 6192,     53.6,  17.9794,  34.7256,2,-999.0000,9,    230.3,2,     2.87,2,     1.67,2,     0.20,2,     0.15,2,   -999.0,9,   -999.0,9,   8.0078,2,    25.00,     1105
  49UP20120306,RF1202,  4341,  1,     33,  22106,2,20120319,1013, 33.9327, 148.5933, 6192,     77.3,  17.7911,  34.7262,2,-999.0000,9,    229.4,2,     3.20,2,     1.92,2,     0.23,2,     0.18,2,   -999.0,9,   -999.0,9,   8.0013,2,    25.00,     1104
  49UP20120306,RF1202,  4341,  1,     32,  22105,2,20120319,1013, 33.9327, 148.5933, 6192,    107.3,  17.4759,  34.7177,2,  34.7190,2,    225.4,2,     3.70,2,     2.72,2,     0.15,2,     0.22,2,   -999.0,9,   -999.0,9,   7.9851,2,    25.00,     1103
  49UP20120306,RF1202,  4341,  1,     31,  22104,2,20120319,1013, 33.9327, 148.5933, 6192,    127.8,  17.4544,  34.7380,2,-999.0000,9,    232.0,2,     2.95,2,     1.92,2,     0.18,2,     0.18,2,   -999.0,9,   -999.0,9,   7.9995,2,    25.00,     1101
  49UP20120306,RF1202,  4341,  1,     27,  22100,2,20120319,1013, 33.9327, 148.5933, 6192,    156.1,  17.4210,  34.7379,2,-999.0000,9,    230.2,2,     3.20,2,     2.15,2,     0.15,2,     0.19,2,   -999.0,9,   -999.0,9,   7.9978,2,    25.00,     1100
  49UP20120306,RF1202,  4341,  1,     26,  22099,3,20120319,1013, 33.9327, 148.5933, 6192,    205.4,  17.3457,  34.7317,2,  34.7316,6,    226.9,2,     3.28,2,     2.59,2,     0.09,2,     0.21,2,   -999.0,9,   -999.0,9,   7.9869,2,    25.00,     1058
  49UP20120306,RF1202,  4341,  1,     25,  22098,2,20120319,1013, 33.9327, 148.5933, 6192,    205.4,  17.3457,  34.7317,2,  34.7305,2,    226.8,6,     3.34,6,     2.61,6,     0.09,6,     0.22,6,   -999.0,9,   -999.0,9,   7.9847,2,    25.00,     1058
  49UP20120306,RF1202,  4341,  1,     24,  22097,2,20120319,1013, 33.9327, 148.5933, 6192,    258.8,  16.7873,  34.6696,2,-999.0000,9,    225.0,2,     4.99,2,     3.87,2,     0.15,2,     0.30,2,   -999.0,9,   -999.0,9,   7.9702,2,    25.00,     1054
  49UP20120306,RF1202,  4341,  1,     23,  22096,2,20120319,1013, 33.9327, 148.5933, 6192,    307.6,  15.6759,  34.6104,2,-999.0000,9,    187.3,2,    10.24,2,     8.88,2,     0.01,2,     0.65,2,   -999.0,9,   -999.0,9,   7.8893,2,    25.00,     1052
  49UP20120306,RF1202,  4341,  1,     22,  22095,2,20120319,1013, 33.9327, 148.5933, 6192,    406.9,  12.7603,  34.4324,2,  34.4433,4,    170.1,2,    21.33,2,    15.01,2,     0.01,2,     1.10,2,   -999.0,9,   -999.0,9,   7.7862,6,    25.00,     1050
  49UP20120306,RF1202,  4341,  1,     18,  22091,2,20120319,1013, 33.9327, 148.5933, 6192,    505.7,   7.8021,  33.8222,2,-999.0000,9,    249.8,3,    21.74,2,    12.94,2,     0.02,2,     1.02,2,   -999.0,9,   -999.0,9,   7.7727,2,    25.00,     1047
  49UP20120306,RF1202,  4341,  1,     17,  22090,2,20120319,1013, 33.9327, 148.5933, 6192,    606.2,   7.0451,  33.8283,2,  33.8261,2,    231.6,3,    31.64,2,    17.53,2,     0.01,2,     1.36,2,   -999.0,9,   -999.0,9,   7.7080,2,    25.00,     1045
  49UP20120306,RF1202,  4341,  1,     16,  22089,2,20120319,1013, 33.9327, 148.5933, 6192,    708.1,   5.6703,  33.9644,2,-999.0000,9,    141.8,2,    61.94,2,    30.43,2,     0.00,2,     2.26,2,   -999.0,9,   -999.0,9,   7.5092,2,    25.00,     1043
  49UP20120306,RF1202,  4341,  1,     15,  22088,2,20120319,1013, 33.9327, 148.5933, 6192,    807.5,   4.8931,  34.0960,2,  34.0916,4,     91.3,2,    85.14,2,    35.89,2,     0.00,2,     2.63,2,   -999.0,9,   -999.0,9,   7.4242,2,    25.00,     1040
  49UP20120306,RF1202,  4341,  1,     14,  22087,2,20120319,1013, 33.9327, 148.5933, 6192,    909.6,   4.3764,  34.1856,2,-999.0000,9,     65.1,2,   100.84,2,    38.97,2,     0.00,2,     2.83,2,   -999.0,9,   -999.0,9,   7.3812,2,    25.00,     1037
  49UP20120306,RF1202,  4341,  1,     13,  22086,2,20120319,1013, 33.9327, 148.5933, 6192,   1010.5,   3.9275,  34.2755,2,  34.2739,2,     52.7,2,   114.30,2,    40.37,2,     0.00,2,     2.92,2,   -999.0,9,   -999.0,9,   7.3736,2,    25.00,     1035
  49UP20120306,RF1202,  4341,  1,      9,  22082,2,20120319,1013, 33.9327, 148.5933, 6192,   1214.6,   3.1705,  34.3909,2,  34.3889,2,     44.5,2,   133.86,2,    41.81,2,     0.00,2,     3.02,2,   -999.0,9,   -999.0,9,   7.3563,2,    25.00,     1031
  49UP20120306,RF1202,  4341,  1,      8,  22081,2,20120319,1013, 33.9327, 148.5933, 6192,   1416.9,   2.7550,  34.4519,2,  34.4503,6,     40.8,2,   146.89,2,    42.59,2,     0.00,2,     3.07,2,   -999.0,9,   -999.0,9,   7.3544,2,    25.00,     1026
  49UP20120306,RF1202,  4341,  1,      7,  22080,2,20120319,1013, 33.9327, 148.5933, 6192,   1416.9,   2.7550,  34.4519,2,  34.4495,2,     40.7,6,   146.53,6,    42.71,6,     0.00,6,     3.07,6,   -999.0,9,   -999.0,9,   7.3572,2,    25.00,     1026
  49UP20120306,RF1202,  4341,  1,      6,  22079,2,20120319,1013, 33.9327, 148.5933, 6192,   1618.2,   2.4343,  34.5103,2,  34.5112,2,     47.8,2,   154.63,2,    42.42,2,     0.00,2,     3.05,2,   -999.0,9,   -999.0,9,   7.3713,2,    25.00,     1022
  49UP20120306,RF1202,  4341,  1,      5,  22078,2,20120319,1013, 33.9327, 148.5933, 6192,   1823.7,   2.1877,  34.5520,2,  34.5506,2,     57.7,2,   160.31,2,    41.98,2,     0.00,2,     3.00,2,   -999.0,9,   -999.0,9,   7.4039,2,    25.00,     1018
  49UP20120306,RF1202,  4341,  1,      4,  22077,2,20120319,1013, 33.9327, 148.5933, 6192,   2027.9,   2.0071,  34.5862,2,  34.5854,2,     73.0,2,   161.23,2,    41.26,2,     0.00,2,     2.94,2,   -999.0,9,   -999.0,9,   7.4348,2,    25.00,     1013