BOTTLE,20200205PRINUNIVRMK
EXPOCODE,SECT_ID,STNNBR,CASTNO,SAMPNO,BTLNBR,BTLNBR_FLAG_W,DATE,TIME,LATITUDE,LONGITUDE,DEPTH,CTDPRS,CTDTMP,CTDSAL,CTDSAL_FLAG_W,SALNTY,SALNTY_FLAG_W,OXYGEN,OXYGEN_FLAG_W,SILCAT,SILCAT_FLAG_W,NITRAT,NITRAT_FLAG_W,NITRIT,NITRIT_FLAG_W,PHSPHT,PHSPHT_FLAG_W,TCARBN,TCARBN_FLAG_W,ALKALI,ALKALI_FLAG_W,PH_TOT,PH_TOT_FLAG_W,PH_TMP,BTL_TIME
,,,,,,,,,,,METERS,DBAR,ITS-90,PSS-78,,PSS-78,,UMOL/KG,,UMOL/KG,,UMOL/KG,,UMOL/KG,,UMOL/KG,,UMOL/KG,,UMOL/KG,,,,DEG C,
  49UP20120306,RF1202,  4342,  1,     99,     99,2,20120319,1708, 32.9962, 148.1757, 5750,      0.0,  17.4889,  34.7132,2,-999.0000,9,    234.2,2,     3.19,2,     1.94,2,     0.17,2,     0.18,2,   -999.0,9,   -999.0,9,-999.0000,9,  -999.00,     1748
  49UP20120306,RF1202,  4342,  1,     36,  22109,2,20120319,1708, 32.9962, 148.1757, 5750,     11.7,  17.5043,  34.7129,2,-999.0000,9,    233.5,2,     3.12,2,     1.96,2,     0.17,2,     0.17,2,   -999.0,9,   -999.0,9,-999.0000,9,  -999.00,     1813
  49UP20120306,RF1202,  4342,  1,     35,  22108,2,20120319,1708, 32.9962, 148.1757, 5750,     25.5,  17.5003,  34.7131,2,-999.0000,9,    233.4,2,     3.26,2,     1.93,2,     0.17,2,     0.17,2,   -999.0,9,   -999.0,9,-999.0000,9,  -999.00,     1812
  49UP20120306,RF1202,  4342,  1,     34,  22107,2,20120319,1708, 32.9962, 148.1757, 5750,     53.8,  17.5080,  34.7131,2,-999.0000,9,    233.4,2,     3.15,2,     1.92,2,     0.17,2,     0.17,2,   -999.0,9,   -999.0,9,-999.0000,9,  -999.00,     1810
  49UP20120306,RF1202,  4342,  1,     33,  22106,2,20120319,1708, 32.9962, 148.1757, 5750,     77.0,  17.5060,  34.7136,2,-999.0000,9,    233.4,2,     3.17,2,     1.92,2,     0.17,2,     0.17,2,   -999.0,9,   -999.0,9,-999.0000,9,  -999.00,     1809
  49UP20120306,RF1202,  4342,  1,     32,  22105,2,20120319,1708, 32.9962, 148.1757, 5750,    100.9,  17.4883,  34.7202,2,-999.0000,9,    232.2,2,     3.20,2,     1.94,2,     0.17,2,     0.17,2,   -999.0,9,   -999.0,9,-999.0000,9,  -999.00,     1800
  49UP20120306,RF1202,  4342,  1,     31,  22104,2,20120319,1708, 32.9962, 148.1757, 5750,    128.3,  17.4750,  34.7406,2,-999.0000,9,    231.1,2,     3.07,2,     1.95,2,     0.18,2,     0.16,2,   -999.0,9,   -999.0,9,-999.0000,9,  -999.00,     1758
  49UP20120306,RF1202,  4342,  1,     27,  22100,2,20120319,1708, 32.9962, 148.1757, 5750,    151.5,  17.4671,  34.7423,2,-999.0000,9,    231.8,2,     3.00,2,     1.91,2,     0.17,2,     0.16,2,   -999.0,9,   -999.0,9,-999.0000,9,  -999.00,     1756
  49UP20120306,RF1202,  4342,  1,     26,  22099,2,20120319,1708, 32.9962, 148.1757, 5750,    203.3,  17.3750,  34.7331,2,-999.0000,9,    227.7,2,     3.24,2,     2.46,2,     0.09,2,     0.19,2,   -999.0,9,   -999.0,9,-999.0000,9,  -999.00,     1754
  49UP20120306,RF1202,  4342,  1,     25,  22098,2,20120319,1708, 32.9962, 148.1757, 5750,    252.8,  17.1468,  34.7145,2,-999.0000,9,    217.8,2,     4.15,2,     3.82,2,     0.02,2,     0.27,2,   -999.0,9,   -999.0,9,-999.0000,9,  -999.00,     1752
  49UP20120306,RF1202,  4342,  1,     24,  22097,2,20120319,1708, 32.9962, 148.1757, 5750,    252.8,  17.1468,  34.7145,2,-999.0000,9,    218.0,6,     4.13,6,     3.82,6,     0.03,6,     0.28,6,   -999.0,9,   -999.0,9,-999.0000,9,  -999.00,     1752
  49UP20120306,RF1202,  4342,  1,     23,  22096,2,20120319,1708, 32.9962, 148.1757, 5750,    307.1,  16.5822,  34.6852,2,-999.0000,9,    228.6,2,     4.82,2,     3.87,2,     0.06,2,     0.29,2,   -999.0,9,   -999.0,9,-999.0000,9,  -999.00,     1750
  49UP20120306,RF1202,  4342,  1,     22,  22095,2,20120319,1708, 32.9962, 148.1757, 5750,    405.5,  14.3594,  34.5291,2,-999.0000,9,    178.8,2,    14.35,2,    11.90,2,     0.01,2,     0.83,2,   -999.0,9,   -999.0,9,-999.0000,9,  -999.00,     1747
  49UP20120306,RF1202,  4342,  1,     18,  22091,2,20120319,1708, 32.9962, 148.1757, 5750,    504.8,  11.4540,  34.3308,2,-999.0000,9,    173.9,2,    25.29,2,    16.79,2,     0.01,2,     1.20,2,   -999.0,9,   -999.0,9,-999.0000,9,  -999.00,     1744
  49UP20120306,RF1202,  4342,  1,     17,  22090,2,20120319,1708, 32.9962, 148.1757, 5750,    606.0,   8.7762,  34.1855,2,-999.0000,9,    154.7,2,    41.84,2,    23.40,2,     0.01,2,     1.70,2,   -999.0,9,   -999.0,9,-999.0000,9,  -999.00,     1742
  49UP20120306,RF1202,  4342,  1,     16,  22089,2,20120319,1708, 32.9962, 148.1757, 5750,    707.9,   6.7340,  34.1197,2,-999.0000,9,    128.2,2,    61.72,2,    29.53,2,     0.00,2,     2.16,2,   -999.0,9,   -999.0,9,-999.0000,9,  -999.00,     1739
  49UP20120306,RF1202,  4342,  1,     15,  22088,2,20120319,1708, 32.9962, 148.1757, 5750,    809.3,   5.1087,  34.1149,2,-999.0000,9,     93.0,2,    83.58,2,    35.46,2,     0.00,2,     2.56,2,   -999.0,9,   -999.0,9,-999.0000,9,  -999.00,     1736
  49UP20120306,RF1202,  4342,  1,     14,  22087,2,20120319,1708, 32.9962, 148.1757, 5750,    909.8,   4.4290,  34.1964,2,-999.0000,9,     65.3,2,   100.33,2,    38.78,2,     0.01,2,     2.80,2,   -999.0,9,   -999.0,9,-999.0000,9,  -999.00,     1734
  49UP20120306,RF1202,  4342,  1,     13,  22086,2,20120319,1708, 32.9962, 148.1757, 5750,   1011.7,   3.8897,  34.2755,2,-999.0000,9,     50.6,2,   115.76,2,    40.71,2,     0.00,2,     2.92,2,   -999.0,9,   -999.0,9,-999.0000,9,  -999.00,     1731
  49UP20120306,RF1202,  4342,  1,      9,  22082,2,20120319,1708, 32.9962, 148.1757, 5750,   1212.8,   3.2191,  34.3812,2,-999.0000,9,     37.8,2,   134.13,2,    42.57,2,     0.00,2,     3.04,2,   -999.0,9,   -999.0,9,-999.0000,9,  -999.00,     1726
  49UP20120306,RF1202,  4342,  1,      8,  22081,3,20120319,1708, 32.9962, 148.1757, 5750,   1414.9,   2.7150,  34.4601,2,-999.0000,9,     38.3,2,   148.80,2,    43.00,2,     0.00,2,     3.06,2,   -999.0,9,   -999.0,9,-999.0000,9,  -999.00,     1722
  49UP20120306,RF1202,  4342,  1,      7,  22080,2,20120319,1708, 32.9962, 148.1757, 5750,   1618.7,   2.4733,  34.5031,2,-999.0000,9,     46.1,2,   154.49,2,    42.45,2,     0.00,2,     3.03,2,   -999.0,9,   -999.0,9,-999.0000,9,  -999.00,     1717
  49UP20120306,RF1202,  4342,  1,      6,  22079,2,20120319,1708, 32.9962, 148.1757, 5750,   1618.7,   2.4733,  34.5031,2,-999.0000,9,     46.4,6,   154.14,6,    42.56,6,     0.01,6,     3.04,6,   -999.0,9,   -999.0,9,-999.0000,9,  -999.00,     1717
  49UP20120306,RF1202,  4342,  1,      5,  22078,2,20120319,1708, 32.9962, 148.1757, 5750,   1823.1,   2.2085,  34.5517,2,-999.0000,9,     58.7,2,   159.56,2,    42.07,2,     0.00,2,     2.98,2,   -999.0,9,   -999.0,9,-999.0000,9,  -999.00,     1713
  49UP20120306,RF1202,  4342,  1,      4,  22077,2,20120319,1708, 32.9962, 148.1757, 5750,   2024.3,   2.0280,  34.5837,2,-999.0000,9,     72.0,2,   160.95,2,    41.22,2,     0.00,2,     2.92,2,   -999.0,9,   -999.0,9,-999.0000,9,  -999.00,     1708
  49UP20120306,RF1202,  4344,  1,     99,     99,2,20120320,0219, 32.0168, 147.9333, 5686,      0.0,  17.5186,  34.7342,2,  34.7392,2,    238.6,2,     2.27,2,     1.38,2,     0.15,2,     0.16,2,   2006.7,2,   2282.1,2,   8.0041,2,    25.00,      247
  49UP20120306,RF1202,  4344,  1,     36,  22109,2,20120320,0219, 32.0168, 147.9333, 5686,     11.0,  17.5115,  34.7379,2,-999.0000,9,    238.9,2,     2.29,2,     1.36,2,     0.14,2,     0.14,2,   2007.3,2,   2277.1,2,   8.0107,2,    25.00,      318
  49UP20120306,RF1202,  4344,  1,     35,  22108,2,20120320,0219, 32.0168, 147.9333, 5686,     26.6,  17.4688,  34.7372,2,-999.0000,9,    238.4,2,     2.25,2,     1.37,2,     0.15,2,     0.14,2,   2004.3,2,   2275.9,2,   7.9902,2,    25.00,      317
  49UP20120306,RF1202,  4344,  1,     34,  22107,2,20120320,0219, 32.0168, 147.9333, 5686,     51.8,  17.4648,  34.7371,2,-999.0000,9,    236.6,2,     2.29,2,     1.47,2,     0.16,2,     0.15,2,   2007.3,2,   2276.9,2,   7.9885,2,    25.00,      316
  49UP20120306,RF1202,  4344,  1,     33,  22106,2,20120320,0219, 32.0168, 147.9333, 5686,     77.6,  17.4666,  34.7367,2,-999.0000,9,    235.7,2,     2.34,2,     1.51,2,     0.17,2,     0.15,2,   2007.6,2,   2275.7,2,   8.0009,2,    25.00,      314
  49UP20120306,RF1202,  4344,  1,     32,  22105,2,20120320,0219, 32.0168, 147.9333, 5686,    102.6,  17.4706,  34.7368,2,-999.0000,9,    236.1,2,     2.34,2,     1.52,2,     0.17,2,     0.15,2,   2007.9,2,   2275.5,2,   8.0009,2,    25.00,      312
  49UP20120306,RF1202,  4344,  1,     31,  22104,2,20120320,0219, 32.0168, 147.9333, 5686,    127.5,  17.4679,  34.7366,2,-999.0000,9,    234.9,2,     2.45,2,     1.61,2,     0.18,2,     0.16,2,   2006.3,2,   2280.6,2,   8.0011,2,    25.00,      311
  49UP20120306,RF1202,  4344,  1,     27,  22100,2,20120320,0219, 32.0168, 147.9333, 5686,    150.9,  17.4581,  34.7377,2,-999.0000,9,    233.7,2,     2.51,2,     1.70,2,     0.20,2,     0.18,3,   2012.0,6,   2276.9,6,   7.9987,2,    25.00,      308
  49UP20120306,RF1202,  4344,  1,     26,  22099,2,20120320,0219, 32.0168, 147.9333, 5686,    203.6,  17.4544,  34.7391,2,-999.0000,9,    233.6,2,     2.62,2,     1.72,2,     0.19,2,     0.17,2,   2009.4,2,   2281.8,2,   7.9977,6,    25.00,      306
  49UP20120306,RF1202,  4344,  1,     25,  22098,2,20120320,0219, 32.0168, 147.9333, 5686,    253.6,  17.3378,  34.7236,2,-999.0000,9,    224.9,2,     3.60,2,     3.03,2,     0.04,2,     0.24,2,   2015.9,2,   2275.4,2,   7.9815,2,    25.00,      304
  49UP20120306,RF1202,  4344,  1,     24,  22097,2,20120320,0219, 32.0168, 147.9333, 5686,    303.4,  17.0064,  34.6984,2,-999.0000,9,    208.1,2,     5.05,2,     5.06,2,     0.02,2,     0.37,2,   2037.0,2,   2276.5,2,   7.9433,2,    25.00,      302
  49UP20120306,RF1202,  4344,  1,     23,  22096,2,20120320,0219, 32.0168, 147.9333, 5686,    303.4,  17.0064,  34.6984,2,-999.0000,9,    208.1,6,     4.99,6,     5.07,6,     0.01,6,     0.37,6,   2034.5,2,   2274.6,2,   7.9467,2,    25.00,      302
  49UP20120306,RF1202,  4344,  1,     22,  22095,2,20120320,0219, 32.0168, 147.9333, 5686,    404.7,  15.4648,  34.5953,2,-999.0000,9,    183.0,2,    10.89,2,     9.77,2,     0.01,2,     0.70,2,   2071.0,2,   2274.3,2,   7.8723,2,    25.00,      259
  49UP20120306,RF1202,  4344,  1,     18,  22091,2,20120320,0219, 32.0168, 147.9333, 5686,    506.2,  12.5608,  34.3990,2,-999.0000,9,    181.2,2,    20.01,2,    14.25,2,     0.01,2,     1.04,2,   2104.6,2,   2273.7,2,   7.7946,2,    25.00,      256
  49UP20120306,RF1202,  4344,  1,     17,  22090,2,20120320,0219, 32.0168, 147.9333, 5686,    610.8,   8.7876,  34.0808,2,-999.0000,9,    186.7,2,    33.81,2,    19.57,2,     0.01,2,     1.46,2,   2148.1,2,   2271.6,2,   7.6918,2,    25.00,      252
  49UP20120306,RF1202,  4344,  1,     16,  22089,2,20120320,0219, 32.0168, 147.9333, 5686,    712.0,   6.6815,  34.0364,2,-999.0000,9,    147.1,2,    54.16,2,    27.83,2,     0.00,2,     2.06,2,   2207.4,2,   2282.7,2,   7.5574,2,    25.00,      249
  49UP20120306,RF1202,  4344,  1,     15,  22088,2,20120320,0219, 32.0168, 147.9333, 5686,    813.3,   5.2571,  34.0635,2,-999.0000,9,    102.3,2,    76.66,2,    34.43,2,     0.00,2,     2.52,2,   2262.6,2,   2299.3,2,   7.4492,2,    25.00,      246
  49UP20120306,RF1202,  4344,  1,     14,  22087,2,20120320,0219, 32.0168, 147.9333, 5686,    913.0,   4.5793,  34.1513,2,-999.0000,9,     69.5,2,    94.57,2,    38.20,2,     0.00,2,     2.78,2,   2300.1,2,   2318.0,2,   7.3963,2,    25.00,      243
  49UP20120306,RF1202,  4344,  1,     13,  22086,2,20120320,0219, 32.0168, 147.9333, 5686,   1014.8,   4.1102,  34.2305,2,-999.0000,9,     54.8,2,   108.26,2,    40.13,2,     0.00,2,     2.91,2,   2326.0,2,   2334.1,2,   7.3623,2,    25.00,      240
  49UP20120306,RF1202,  4344,  1,      9,  22082,2,20120320,0219, 32.0168, 147.9333, 5686,   1216.5,   3.3383,  34.3541,2,-999.0000,9,     40.2,2,   130.28,2,    42.20,2,     0.00,2,     3.04,2,   2354.4,2,   2360.7,2,   7.3511,2,    25.00,      235
  49UP20120306,RF1202,  4344,  1,      8,  22081,2,20120320,0219, 32.0168, 147.9333, 5686,   1418.7,   2.8369,  34.4444,2,-999.0000,9,     39.8,2,   144.25,2,    42.66,2,     0.00,2,     3.06,2,   2375.5,6,   2376.9,6,   7.3472,2,    25.00,      231
  49UP20120306,RF1202,  4344,  1,      7,  22080,2,20120320,0219, 32.0168, 147.9333, 5686,   1619.2,   2.5368,  34.5051,2,-999.0000,9,     46.6,2,   151.21,2,    42.66,2,     0.00,2,     3.05,2,   2380.1,2,   2389.8,2,   7.3734,6,    25.00,      227
  49UP20120306,RF1202,  4344,  1,      6,  22079,2,20120320,0219, 32.0168, 147.9333, 5686,   1820.0,   2.2754,  34.5443,2,-999.0000,9,     54.3,2,   157.24,2,    42.36,2,     0.00,2,     3.01,2,   2382.9,2,   2391.6,3,   7.3972,2,    25.00,      223
  49UP20120306,RF1202,  4344,  1,      5,  22078,2,20120320,0219, 32.0168, 147.9333, 5686,   1820.0,   2.2754,  34.5443,2,-999.0000,9,     54.4,6,   157.33,6,    42.33,6,     0.00,6,     3.02,6,   2383.0,2,   2400.3,2,   7.3870,2,    25.00,      223
  49UP20120306,RF1202,  4344,  1,      4,  22077,2,20120320,0219, 32.0168, 147.9333, 5686,   2023.9,   2.0465,  34.5817,2,-999.0000,9,     69.1,2,   160.80,2,    41.50,2,     0.00,2,     2.95,2,   2376.6,2,   2404.9,2,   7.4184,2,    25.00,      219
  49UP20120306,RF1202,  4346,  1,     99,     99,2,20120320,1055, 30.9982, 147.7065, 6095,      0.0,  17.9321,  34.7746,2,-999.0000,9,    234.7,2,     2.44,2,     0.87,2,     0.16,2,     0.13,2,   -999.0,9,   -999.0,9,-999.0000,9,  -999.00,     1135
  49UP20120306,RF1202,  4346,  1,     36,  22109,2,20120320,1055, 30.9982, 147.7065, 6095,     12.1,  17.9289,  34.7733,2,  34.7729,2,    234.7,2,     2.44,2,     0.89,2,     0.16,2,     0.12,2,   -999.0,9,   -999.0,9,-999.0000,9,  -999.00,     1155
  49UP20120306,RF1202,  4346,  1,     35,  22108,2,20120320,1055, 30.9982, 147.7065, 6095,     27.9,  17.7534,  34.7549,2,-999.0000,9,    235.0,2,     2.51,2,     1.18,2,     0.17,2,     0.13,2,   -999.0,9,   -999.0,9,-999.0000,9,  -999.00,     1153
  49UP20120306,RF1202,  4346,  1,     34,  22107,2,20120320,1055, 30.9982, 147.7065, 6095,     52.0,  17.6752,  34.7454,2,-999.0000,9,    234.3,2,     2.58,2,     1.38,2,     0.18,2,     0.14,2,   -999.0,9,   -999.0,9,-999.0000,9,  -999.00,     1150
  49UP20120306,RF1202,  4346,  1,     33,  22106,2,20120320,1055, 30.9982, 147.7065, 6095,     77.5,  17.5714,  34.7363,2,-999.0000,9,    234.9,2,     2.51,2,     1.50,2,     0.17,2,     0.15,2,   -999.0,9,   -999.0,9,-999.0000,9,  -999.00,     1149
  49UP20120306,RF1202,  4346,  1,     32,  22105,2,20120320,1055, 30.9982, 147.7065, 6095,    102.9,  17.5610,  34.7416,2,  34.7409,2,    233.4,2,     2.72,2,     1.60,2,     0.20,2,     0.17,2,   -999.0,9,   -999.0,9,-999.0000,9,  -999.00,     1148
  49UP20120306,RF1202,  4346,  1,     31,  22104,2,20120320,1055, 30.9982, 147.7065, 6095,    127.0,  17.5553,  34.7483,2,-999.0000,9,    232.8,2,     2.74,2,     1.55,2,     0.19,2,     0.16,2,   -999.0,9,   -999.0,9,-999.0000,9,  -999.00,     1146
  49UP20120306,RF1202,  4346,  1,     27,  22100,2,20120320,1055, 30.9982, 147.7065, 6095,    153.0,  17.5511,  34.7489,2,-999.0000,9,    232.3,2,     2.76,2,     1.55,2,     0.19,2,     0.16,2,   -999.0,9,   -999.0,9,-999.0000,9,  -999.00,     1145
  49UP20120306,RF1202,  4346,  1,     26,  22099,2,20120320,1055, 30.9982, 147.7065, 6095,    202.9,  17.5274,  34.7411,2,  34.7402,2,    231.3,2,     2.89,2,     1.85,2,     0.18,2,     0.17,2,   -999.0,9,   -999.0,9,-999.0000,9,  -999.00,     1143
  49UP20120306,RF1202,  4346,  1,     25,  22098,2,20120320,1055, 30.9982, 147.7065, 6095,    254.8,  17.3981,  34.7259,2,-999.0000,9,    225.6,2,     3.23,2,     2.75,2,     0.05,2,     0.22,2,   -999.0,9,   -999.0,9,-999.0000,9,  -999.00,     1142
  49UP20120306,RF1202,  4346,  1,     24,  22097,2,20120320,1055, 30.9982, 147.7065, 6095,    304.3,  17.2669,  34.7198,2,-999.0000,9,    221.7,2,     3.70,2,     3.38,2,     0.02,2,     0.26,2,   -999.0,9,   -999.0,9,-999.0000,9,  -999.00,     1140
  49UP20120306,RF1202,  4346,  1,     23,  22096,2,20120320,1055, 30.9982, 147.7065, 6095,    404.8,  15.3726,  34.5850,2,  34.5831,6,    189.3,2,    10.11,2,     9.32,2,     0.01,2,     0.67,2,   -999.0,9,   -999.0,9,-999.0000,9,  -999.00,     1137
  49UP20120306,RF1202,  4346,  1,     22,  22095,3,20120320,1055, 30.9982, 147.7065, 6095,    404.8,  15.3726,  34.5850,2,  34.5835,2,    190.0,6,     9.97,6,     9.28,6,     0.01,6,     0.68,6,   -999.0,9,   -999.0,9,-999.0000,9,  -999.00,     1137
  49UP20120306,RF1202,  4346,  1,     18,  22091,2,20120320,1055, 30.9982, 147.7065, 6095,    508.4,  12.6253,  34.4212,2,-999.0000,9,    171.8,2,    21.20,2,    15.26,2,     0.01,2,     1.11,2,   -999.0,9,   -999.0,9,-999.0000,9,  -999.00,     1135
  49UP20120306,RF1202,  4346,  1,     17,  22090,2,20120320,1055, 30.9982, 147.7065, 6095,    608.5,   9.3408,  34.1607,2,  34.1617,2,    178.9,2,    32.21,2,    20.06,2,     0.00,2,     1.48,2,   -999.0,9,   -999.0,9,-999.0000,9,  -999.00,     1132
  49UP20120306,RF1202,  4346,  1,     16,  22089,4,20120320,1055, 30.9982, 147.7065, 6095,    709.0,   6.6457,  34.0296,2,-999.0000,9,    158.3,4,    44.21,4,    23.68,4,     0.01,4,     1.76,4,   -999.0,9,   -999.0,9,-999.0000,9,  -999.00,     1129
  49UP20120306,RF1202,  4346,  1,     15,  22088,2,20120320,1055, 30.9982, 147.7065, 6095,    808.7,   5.2242,  34.0483,2,  34.0474,2,    106.5,2,    76.07,2,    34.17,2,     0.00,2,     2.51,2,   -999.0,9,   -999.0,9,-999.0000,9,  -999.00,     1121
  49UP20120306,RF1202,  4346,  1,     14,  22087,2,20120320,1055, 30.9982, 147.7065, 6095,    910.1,   4.5318,  34.1421,2,-999.0000,9,     73.0,2,    94.38,2,    38.04,2,     0.00,2,     2.77,2,   -999.0,9,   -999.0,9,-999.0000,9,  -999.00,     1119
  49UP20120306,RF1202,  4346,  1,     13,  22086,2,20120320,1055, 30.9982, 147.7065, 6095,   1013.5,   4.0187,  34.2394,2,  34.2373,2,     51.4,2,   110.37,2,    40.51,2,     0.00,2,     2.93,2,   -999.0,9,   -999.0,9,-999.0000,9,  -999.00,     1116
  49UP20120306,RF1202,  4346,  1,      9,  22082,2,20120320,1055, 30.9982, 147.7065, 6095,   1215.4,   3.3548,  34.3535,2,  34.3510,2,     38.8,2,   129.78,2,    42.11,2,     0.00,2,     3.04,2,   -999.0,9,   -999.0,9,-999.0000,9,  -999.00,     1112
  49UP20120306,RF1202,  4346,  1,      8,  22081,2,20120320,1055, 30.9982, 147.7065, 6095,   1417.2,   2.8455,  34.4425,2,  34.4411,2,     36.1,2,   144.52,2,    43.09,2,     0.00,2,     3.09,2,   -999.0,9,   -999.0,9,-999.0000,9,  -999.00,     1108
  49UP20120306,RF1202,  4346,  1,      7,  22080,2,20120320,1055, 30.9982, 147.7065, 6095,   1619.4,   2.4836,  34.5028,2,  34.5019,2,     43.2,2,   153.81,2,    42.96,2,     0.00,2,     3.06,2,   -999.0,9,   -999.0,9,-999.0000,9,  -999.00,     1104
  49UP20120306,RF1202,  4346,  1,      6,  22079,3,20120320,1055, 30.9982, 147.7065, 6095,   1822.2,   2.2412,  34.5491,2,  34.5474,2,     55.0,2,   158.48,2,    42.35,2,     0.00,2,     3.01,2,   -999.0,9,   -999.0,9,-999.0000,9,  -999.00,     1100
  49UP20120306,RF1202,  4346,  1,      5,  22078,2,20120320,1055, 30.9982, 147.7065, 6095,   2027.0,   2.0430,  34.5834,2,  34.5839,6,     70.0,2,   160.75,2,    41.47,2,     0.00,2,     2.94,2,   -999.0,9,   -999.0,9,-999.0000,9,  -999.00,     1055
  49UP20120306,RF1202,  4346,  1,      4,  22077,2,20120320,1055, 30.9982, 147.7065, 6095,   2027.0,   2.0430,  34.5834,2,  34.5832,2,     70.2,6,   160.59,6,    41.46,6,     0.00,6,     2.95,6,   -999.0,9,   -999.0,9,-999.0000,9,  -999.00,     1055