BOTTLE,20200205PRINUNIVRMK
EXPOCODE,SECT_ID,STNNBR,CASTNO,SAMPNO,BTLNBR,BTLNBR_FLAG_W,DATE,TIME,LATITUDE,LONGITUDE,DEPTH,CTDPRS,CTDTMP,CTDSAL,CTDSAL_FLAG_W,SALNTY,SALNTY_FLAG_W,OXYGEN,OXYGEN_FLAG_W,SILCAT,SILCAT_FLAG_W,NITRAT,NITRAT_FLAG_W,NITRIT,NITRIT_FLAG_W,PHSPHT,PHSPHT_FLAG_W,TCARBN,TCARBN_FLAG_W,ALKALI,ALKALI_FLAG_W,PH_TOT,PH_TOT_FLAG_W,PH_TMP,BTL_TIME
,,,,,,,,,,,METERS,DBAR,ITS-90,PSS-78,,PSS-78,,UMOL/KG,,UMOL/KG,,UMOL/KG,,UMOL/KG,,UMOL/KG,,UMOL/KG,,UMOL/KG,,,,DEG C,
  49UP20120306,RF1202,  4328,  1,     99,     99,2,20120314,2233, 38.9983, 148.3360, 5559,      0.0,  10.5738,  34.3001,2,-999.0000,9,    266.6,2,    14.05,2,     9.00,2,     0.24,2,     0.73,2,   -999.0,9,   -999.0,9,-999.0000,9,  -999.00,     2310
  49UP20120306,RF1202,  4328,  1,     36,  22109,2,20120314,2233, 38.9983, 148.3360, 5559,     12.3,  10.5645,  34.2996,2,  34.2997,6,    265.4,2,    14.14,2,     9.07,2,     0.24,2,     0.72,2,   -999.0,9,   -999.0,9,-999.0000,9,  -999.00,     2325
  49UP20120306,RF1202,  4328,  1,     35,  22108,2,20120314,2233, 38.9983, 148.3360, 5559,     27.6,  10.5581,  34.2994,2,-999.0000,9,    265.4,2,    14.14,2,     9.08,2,     0.24,2,     0.72,2,   -999.0,9,   -999.0,9,-999.0000,9,  -999.00,     2324
  49UP20120306,RF1202,  4328,  1,     34,  22107,2,20120314,2233, 38.9983, 148.3360, 5559,     27.6,  10.5581,  34.2994,2,-999.0000,9,    265.4,6,    14.12,6,     9.09,6,     0.24,6,     0.72,6,   -999.0,9,   -999.0,9,-999.0000,9,  -999.00,     2324
  49UP20120306,RF1202,  4328,  1,     33,  22106,2,20120314,2233, 38.9983, 148.3360, 5559,     52.4,  10.5458,  34.2965,2,-999.0000,9,    264.8,2,    14.28,2,     9.16,2,     0.25,2,     0.72,2,   -999.0,9,   -999.0,9,-999.0000,9,  -999.00,     2320
  49UP20120306,RF1202,  4328,  1,     32,  22105,2,20120314,2233, 38.9983, 148.3360, 5559,     76.1,   9.6263,  34.1792,2,-999.0000,9,    259.5,2,    17.01,2,    11.11,2,     0.12,2,     0.86,2,   -999.0,9,   -999.0,9,-999.0000,9,  -999.00,     2319
  49UP20120306,RF1202,  4328,  1,     31,  22104,2,20120314,2233, 38.9983, 148.3360, 5559,    103.3,   9.3910,  34.1544,2,  34.1600,2,    262.9,2,    16.94,2,    11.22,2,     0.08,2,     0.88,2,   -999.0,9,   -999.0,9,-999.0000,9,  -999.00,     2318
  49UP20120306,RF1202,  4328,  1,     27,  22100,2,20120314,2233, 38.9983, 148.3360, 5559,    128.5,   9.2714,  34.1464,2,-999.0000,9,    266.5,2,    17.01,2,    11.12,2,     0.09,2,     0.87,2,   -999.0,9,   -999.0,9,-999.0000,9,  -999.00,     2316
  49UP20120306,RF1202,  4328,  1,     26,  22099,3,20120314,2233, 38.9983, 148.3360, 5559,    154.6,   9.1290,  34.1383,2,-999.0000,9,    265.5,2,    17.16,2,    11.41,2,     0.06,2,     0.89,2,   -999.0,9,   -999.0,9,-999.0000,9,  -999.00,     2315
  49UP20120306,RF1202,  4328,  1,     25,  22098,2,20120314,2233, 38.9983, 148.3360, 5559,    207.1,   8.7466,  34.0717,2,  34.0786,2,    266.3,2,    18.15,2,    11.83,2,     0.06,2,     0.93,2,   -999.0,9,   -999.0,9,-999.0000,9,  -999.00,     2314
  49UP20120306,RF1202,  4328,  1,     24,  22097,2,20120314,2233, 38.9983, 148.3360, 5559,    254.0,   8.5466,  34.0578,2,-999.0000,9,    264.2,2,    20.39,2,    12.54,2,     0.16,3,     0.99,2,   -999.0,9,   -999.0,9,-999.0000,9,  -999.00,     2312
  49UP20120306,RF1202,  4328,  1,     23,  22096,2,20120314,2233, 38.9983, 148.3360, 5559,    304.7,   7.0096,  33.8379,2,-999.0000,9,    271.0,2,    25.83,2,    15.01,2,     0.09,2,     1.20,2,   -999.0,9,   -999.0,9,-999.0000,9,  -999.00,     2311
  49UP20120306,RF1202,  4328,  1,     22,  22095,2,20120314,2233, 38.9983, 148.3360, 5559,    405.5,   5.5651,  33.8249,2,  33.8260,2,    179.5,2,    52.93,2,    27.35,2,     0.01,2,     2.06,2,   -999.0,9,   -999.0,9,-999.0000,9,  -999.00,     2309
  49UP20120306,RF1202,  4328,  1,     18,  22091,2,20120314,2233, 38.9983, 148.3360, 5559,    505.7,   5.1975,  33.9847,2,-999.0000,9,    123.7,2,    71.62,2,    32.89,2,     0.00,2,     2.43,2,   -999.0,9,   -999.0,9,-999.0000,9,  -999.00,     2306
  49UP20120306,RF1202,  4328,  1,     17,  22090,2,20120314,2233, 38.9983, 148.3360, 5559,    607.0,   4.5551,  34.0480,2,  34.0518,6,     89.1,2,    87.45,2,    36.93,2,     0.00,2,     2.70,2,   -999.0,9,   -999.0,9,-999.0000,9,  -999.00,     2304
  49UP20120306,RF1202,  4328,  1,     16,  22089,2,20120314,2233, 38.9983, 148.3360, 5559,    607.0,   4.5551,  34.0480,2,  34.0498,2,     88.8,6,    87.51,6,    36.91,6,     0.00,6,     2.70,6,   -999.0,9,   -999.0,9,-999.0000,9,  -999.00,     2304
  49UP20120306,RF1202,  4328,  1,     15,  22088,3,20120314,2233, 38.9983, 148.3360, 5559,    709.6,   4.3699,  34.1627,2,-999.0000,9,     66.9,2,    99.88,2,    38.85,2,     0.00,2,     2.82,2,   -999.0,9,   -999.0,9,-999.0000,9,  -999.00,     2301
  49UP20120306,RF1202,  4328,  1,     14,  22087,2,20120314,2233, 38.9983, 148.3360, 5559,    810.0,   4.0022,  34.2591,2,  34.2575,2,     54.1,2,   112.22,2,    40.27,2,     0.00,2,     2.92,2,   -999.0,9,   -999.0,9,-999.0000,9,  -999.00,     2259
  49UP20120306,RF1202,  4328,  1,     13,  22086,2,20120314,2233, 38.9983, 148.3360, 5559,    911.0,   3.6527,  34.2985,2,-999.0000,9,     46.4,2,   121.66,2,    41.31,2,     0.00,2,     2.99,2,   -999.0,9,   -999.0,9,-999.0000,9,  -999.00,     2257
  49UP20120306,RF1202,  4328,  1,      9,  22082,2,20120314,2233, 38.9983, 148.3360, 5559,   1011.9,   3.2253,  34.3352,2,  34.3336,2,     38.5,2,   133.29,2,    42.40,2,     0.00,2,     3.06,2,   -999.0,9,   -999.0,9,-999.0000,9,  -999.00,     2254
  49UP20120306,RF1202,  4328,  1,      8,  22081,2,20120314,2233, 38.9983, 148.3360, 5559,   1214.9,   2.8876,  34.4293,2,  34.4291,2,     41.7,2,   142.44,2,    42.48,2,     0.00,2,     3.05,2,   -999.0,9,   -999.0,9,-999.0000,9,  -999.00,     2250
  49UP20120306,RF1202,  4328,  1,      7,  22080,2,20120314,2233, 38.9983, 148.3360, 5559,   1419.4,   2.6256,  34.4689,2,  34.4695,2,     40.2,2,   150.89,2,    42.91,2,     0.00,2,     3.08,2,   -999.0,9,   -999.0,9,-999.0000,9,  -999.00,     2246
  49UP20120306,RF1202,  4328,  1,      6,  22079,2,20120314,2233, 38.9983, 148.3360, 5559,   1620.2,   2.3350,  34.5203,2,  34.5200,2,     46.4,2,   158.25,2,    42.74,2,     0.00,2,     3.05,2,   -999.0,9,   -999.0,9,-999.0000,9,  -999.00,     2242
  49UP20120306,RF1202,  4328,  1,      5,  22078,2,20120314,2233, 38.9983, 148.3360, 5559,   1822.4,   2.2003,  34.5462,2,  34.5481,2,     53.8,2,   160.93,2,    42.38,2,     0.00,2,     3.02,2,   -999.0,9,   -999.0,9,-999.0000,9,  -999.00,     2237
  49UP20120306,RF1202,  4328,  1,      4,  22077,2,20120314,2233, 38.9983, 148.3360, 5559,   2025.8,   2.0170,  34.5825,2,  34.5825,2,     68.9,2,   162.49,2,    41.42,2,     0.00,2,     2.96,2,   -999.0,9,   -999.0,9,-999.0000,9,  -999.00,     2233
  49UP20120306,RF1202,  4331,  1,     99,     99,2,20120315,0912, 37.9998, 148.9877, 5793,      0.0,  11.0053,  34.2900,2,  34.2878,2,    267.3,2,    13.80,2,     8.63,2,     0.29,2,     0.70,2,   2070.4,2,   2265.5,2,   7.8702,2,    25.00,      947
  49UP20120306,RF1202,  4331,  1,     36,  22109,2,20120315,0912, 37.9998, 148.9877, 5793,     11.8,  11.0142,  34.2883,2,-999.0000,9,    267.3,2,    13.78,2,     8.62,2,     0.28,2,     0.68,2,   2078.1,2,   2266.0,2,   7.8748,2,    25.00,     1009
  49UP20120306,RF1202,  4331,  1,     35,  22108,2,20120315,0912, 37.9998, 148.9877, 5793,     27.0,  11.0040,  34.2878,2,-999.0000,9,    268.6,2,    13.82,2,     8.63,2,     0.28,2,     0.68,2,   2068.4,2,   2266.1,2,   7.8719,2,    25.00,     1007
  49UP20120306,RF1202,  4331,  1,     34,  22107,2,20120315,0912, 37.9998, 148.9877, 5793,     51.8,  10.6593,  34.2575,2,-999.0000,9,    263.9,2,    14.71,2,     9.31,2,     0.27,2,     0.73,2,   2073.6,2,   2263.0,2,   7.8590,2,    25.00,     1003
  49UP20120306,RF1202,  4331,  1,     33,  22106,2,20120315,0912, 37.9998, 148.9877, 5793,     51.8,  10.6593,  34.2575,2,-999.0000,9,    263.9,6,    14.86,6,     9.36,6,     0.27,6,     0.73,2,   2073.3,2,   2266.3,2,   7.8570,2,    25.00,     1003
  49UP20120306,RF1202,  4331,  1,     32,  22105,2,20120315,0912, 37.9998, 148.9877, 5793,     77.9,  10.0985,  34.2254,2,-999.0000,9,    269.8,2,    15.20,2,     9.66,2,     0.22,2,     0.76,2,   2075.5,2,   2264.6,2,   7.8479,2,    25.00,     1002
  49UP20120306,RF1202,  4331,  1,     31,  22104,2,20120315,0912, 37.9998, 148.9877, 5793,    102.2,   9.6285,  34.2009,2,-999.0000,9,    271.6,2,    15.54,2,    10.15,2,     0.16,2,     0.79,2,   2081.5,2,   2261.7,2,   7.8444,2,    25.00,     1000
  49UP20120306,RF1202,  4331,  1,     27,  22100,2,20120315,0912, 37.9998, 148.9877, 5793,    128.4,   9.6105,  34.1998,2,-999.0000,9,    270.6,2,    15.65,2,    10.27,2,     0.18,2,     0.79,2,   2080.3,2,   2262.2,2,   7.8385,2,    25.00,      959
  49UP20120306,RF1202,  4331,  1,     26,  22099,2,20120315,0912, 37.9998, 148.9877, 5793,    152.4,   9.5786,  34.1969,2,-999.0000,9,    270.3,2,    15.73,2,    10.36,2,     0.18,2,     0.80,2,   2093.3,2,   2262.1,2,   7.8354,2,    25.00,      958
  49UP20120306,RF1202,  4331,  1,     25,  22098,2,20120315,0912, 37.9998, 148.9877, 5793,    203.5,   9.4822,  34.1878,2,-999.0000,9,    269.8,2,    16.14,2,    10.62,2,     0.17,2,     0.82,3,   2083.6,6,   2261.5,6,   7.8281,2,    25.00,      956
  49UP20120306,RF1202,  4331,  1,     24,  22097,2,20120315,0912, 37.9998, 148.9877, 5793,    251.8,   7.2610,  33.8930,2,-999.0000,9,    249.0,2,    29.60,2,    17.08,2,     0.10,2,     1.31,2,   2127.1,2,   2258.6,2,   7.7258,6,    25.00,      954
  49UP20120306,RF1202,  4331,  1,     23,  22096,2,20120315,0912, 37.9998, 148.9877, 5793,    305.6,   4.7498,  33.6528,2,-999.0000,9,    242.7,2,    42.81,2,    22.83,2,     0.03,2,     1.76,2,   2162.7,2,   2258.0,3,   7.6269,2,    25.00,      952
  49UP20120306,RF1202,  4331,  1,     22,  22095,3,20120315,0912, 37.9998, 148.9877, 5793,    404.0,   5.7402,  34.0853,2,-999.0000,9,    115.7,2,    72.49,2,    32.50,2,     0.01,2,     2.38,2,   2249.7,2,   2301.4,2,   7.4892,2,    25.00,      950
  49UP20120306,RF1202,  4331,  1,     18,  22091,2,20120315,0912, 37.9998, 148.9877, 5793,    505.9,   5.0398,  34.1873,2,-999.0000,9,     81.8,2,    90.54,2,    36.45,2,     0.00,2,     2.64,2,   2291.9,2,   2316.2,2,   7.4240,2,    25.00,      947
  49UP20120306,RF1202,  4331,  1,     17,  22090,2,20120315,0912, 37.9998, 148.9877, 5793,    607.1,   4.3797,  34.2323,2,-999.0000,9,     65.3,2,   103.90,2,    38.89,2,     0.00,2,     2.81,2,   2315.9,2,   2332.6,2,   7.3933,2,    25.00,      945
  49UP20120306,RF1202,  4331,  1,     16,  22089,2,20120315,0912, 37.9998, 148.9877, 5793,    707.3,   3.9374,  34.2960,2,-999.0000,9,     54.4,2,   115.03,2,    40.26,2,     0.00,2,     2.90,2,   2332.9,3,   2344.1,2,   7.3675,2,    25.00,      942
  49UP20120306,RF1202,  4331,  1,     15,  22088,2,20120315,0912, 37.9998, 148.9877, 5793,    707.3,   3.9374,  34.2960,2,-999.0000,9,     54.4,6,   115.21,6,    40.23,6,     0.00,6,     2.90,6,   2310.4,2,   2342.6,2,   7.3696,2,    25.00,      942
  49UP20120306,RF1202,  4331,  1,     14,  22087,2,20120315,0912, 37.9998, 148.9877, 5793,    809.3,   3.6154,  34.3419,2,-999.0000,9,     50.6,2,   123.67,2,    41.03,2,     0.00,2,     2.94,2,   2315.8,2,   2353.0,2,   7.3640,2,    25.00,      939
  49UP20120306,RF1202,  4331,  1,     13,  22086,2,20120315,0912, 37.9998, 148.9877, 5793,    910.1,   3.2237,  34.3717,2,-999.0000,9,     42.4,2,   133.27,2,    41.99,2,     0.00,2,     3.02,2,   2329.1,2,   2361.9,2,   7.3512,2,    25.00,      937
  49UP20120306,RF1202,  4331,  1,      9,  22082,2,20120315,0912, 37.9998, 148.9877, 5793,   1011.8,   3.0507,  34.4076,2,-999.0000,9,     42.7,2,   138.33,2,    42.23,2,     0.00,2,     3.04,2,   2345.3,2,   2369.3,2,-999.0000,5,  -999.00,      934
  49UP20120306,RF1202,  4331,  1,      8,  22081,3,20120315,0912, 37.9998, 148.9877, 5793,   1213.9,   2.6644,  34.4633,2,-999.0000,9,     40.0,2,   149.76,2,    42.88,2,     0.00,2,     3.06,2,   2359.6,2,   2384.2,2,   7.3600,2,    25.00,      929
  49UP20120306,RF1202,  4331,  1,      7,  22080,2,20120315,0912, 37.9998, 148.9877, 5793,   1416.5,   2.3780,  34.5142,2,-999.0000,9,     47.0,2,   155.87,2,    42.64,2,     0.00,2,     3.04,2,   2383.7,6,   2392.6,6,   7.3648,2,    25.00,      925
  49UP20120306,RF1202,  4331,  1,      6,  22079,4,20120315,0912, 37.9998, 148.9877, 5793,   1619.8,   2.1602,  34.5546,2,-999.0000,9,     72.5,4,   161.51,4,    41.37,4,     0.00,4,     2.92,4,   2375.0,4,   2403.8,4,   7.4256,4,    25.00,      921
  49UP20120306,RF1202,  4331,  1,      5,  22078,2,20120315,0912, 37.9998, 148.9877, 5793,   1823.2,   1.9914,  34.5865,2,-999.0000,9,     72.5,2,   160.79,2,    41.31,2,     0.00,2,     2.92,2,   2373.7,2,   2404.3,2,   7.4194,2,    25.00,      916
  49UP20120306,RF1202,  4331,  1,      4,  22077,2,20120315,0912, 37.9998, 148.9877, 5793,   2027.0,   1.8637,  34.6087,2,-999.0000,9,     85.1,2,   161.07,2,    40.56,2,     0.00,2,     2.86,2,   2370.4,2,   2405.1,2,   7.4436,2,    25.00,      912
  49UP20120306,RF1202,  4334,  1,     99,     99,2,20120316,2100, 37.0743, 149.7032, 5978,      0.0,  14.5359,  34.6011,2,  34.6124,2,    249.6,2,     7.98,3,     4.79,2,     0.19,2,     0.42,3,   -999.0,9,   -999.0,9,   7.9548,2,    25.00,     2126
  49UP20120306,RF1202,  4334,  1,     36,  22109,2,20120316,2100, 37.0743, 149.7032, 5978,     11.5,  14.5340,  34.6009,2,  34.6005,2,    248.6,2,     7.90,3,     4.90,2,     0.19,2,     0.39,2,   -999.0,9,   -999.0,9,   7.9495,2,    25.00,     2202
  49UP20120306,RF1202,  4334,  1,     35,  22108,2,20120316,2100, 37.0743, 149.7032, 5978,     26.1,  14.5416,  34.6011,2,-999.0000,9,    248.6,2,     8.22,3,     4.88,2,     0.19,2,     0.38,3,   -999.0,9,   -999.0,9,   7.9476,2,    25.00,     2200
  49UP20120306,RF1202,  4334,  1,     34,  22107,2,20120316,2100, 37.0743, 149.7032, 5978,     52.2,  14.5095,  34.5957,2,-999.0000,9,    247.7,2,     8.30,3,     5.04,2,     0.20,2,     0.40,2,   -999.0,9,   -999.0,9,   7.9469,2,    25.00,     2159
  49UP20120306,RF1202,  4334,  1,     33,  22106,2,20120316,2100, 37.0743, 149.7032, 5978,     78.3,  13.2133,  34.4690,2,-999.0000,9,    202.7,2,    17.83,3,    11.37,2,     0.27,2,     0.86,2,   -999.0,9,   -999.0,9,   7.8442,3,    25.00,     2157
  49UP20120306,RF1202,  4334,  1,     32,  22105,2,20120316,2100, 37.0743, 149.7032, 5978,     78.3,  13.2133,  34.4690,2,-999.0000,9,    203.2,6,    17.93,3,    11.36,6,     0.27,6,     0.86,6,   -999.0,9,   -999.0,9,   7.8457,3,    25.00,     2157
  49UP20120306,RF1202,  4334,  1,     31,  22104,2,20120316,2100, 37.0743, 149.7032, 5978,    102.9,  12.4089,  34.4111,2,  34.4143,6,    207.4,2,    18.69,3,    12.15,2,     0.15,2,     0.91,2,   -999.0,9,   -999.0,9,   7.8329,3,    25.00,     2155
  49UP20120306,RF1202,  4334,  1,     27,  22100,2,20120316,2100, 37.0743, 149.7032, 5978,    128.5,  11.4551,  34.3231,2,-999.0000,9,    259.5,2,    12.93,3,     8.14,2,     0.29,2,     0.65,2,   -999.0,9,   -999.0,9,   7.8819,2,    25.00,     2154
  49UP20120306,RF1202,  4334,  1,     26,  22099,2,20120316,2100, 37.0743, 149.7032, 5978,    152.9,  10.8531,  34.2556,2,-999.0000,9,    262.9,2,    13.64,3,     8.59,2,     0.32,2,     0.69,2,   -999.0,9,   -999.0,9,   7.8670,2,    25.00,     2152
  49UP20120306,RF1202,  4334,  1,     25,  22098,2,20120316,2100, 37.0743, 149.7032, 5978,    205.3,   9.8838,  34.2099,2,  34.2111,2,    237.4,2,    20.33,3,    12.86,2,     0.05,2,     0.97,2,   -999.0,9,   -999.0,9,   7.8062,3,    25.00,     2149
  49UP20120306,RF1202,  4334,  1,     24,  22097,2,20120316,2100, 37.0743, 149.7032, 5978,    253.7,   8.0990,  33.9403,2,-999.0000,9,    275.2,2,    17.78,3,    11.15,2,     0.11,2,     0.88,3,   -999.0,9,   -999.0,9,   7.7992,2,    25.00,     2146
  49UP20120306,RF1202,  4334,  1,     23,  22096,2,20120316,2100, 37.0743, 149.7032, 5978,    306.7,   7.6248,  33.9357,2,-999.0000,9,    219.5,2,    32.92,3,    18.72,2,     0.02,2,     1.42,2,   -999.0,9,   -999.0,9,   7.7062,2,    25.00,     2140
  49UP20120306,RF1202,  4334,  1,     22,  22095,3,20120316,2100, 37.0743, 149.7032, 5978,    406.6,   5.6389,  33.8873,2,  33.8867,2,    163.5,2,    57.15,3,    28.49,2,     0.01,2,     2.12,2,   -999.0,9,   -999.0,9,   7.5462,2,    25.00,     2137
  49UP20120306,RF1202,  4334,  1,     18,  22091,2,20120316,2100, 37.0743, 149.7032, 5978,    509.7,   4.9840,  33.9861,2,-999.0000,9,    122.0,2,    75.30,3,    33.68,2,     0.00,2,     2.48,2,   -999.0,9,   -999.0,9,   7.4481,2,    25.00,     2132
  49UP20120306,RF1202,  4334,  1,     17,  22090,2,20120316,2100, 37.0743, 149.7032, 5978,    608.3,   4.3531,  34.0800,2,  34.0786,2,     77.0,2,    93.89,3,    38.11,2,     0.00,2,     2.77,2,   -999.0,9,   -999.0,9,   7.3811,2,    25.00,     2129
  49UP20120306,RF1202,  4334,  1,     16,  22089,2,20120316,2100, 37.0743, 149.7032, 5978,    708.3,   4.3490,  34.2273,2,-999.0000,9,     63.3,2,   104.13,3,    38.94,2,     0.00,2,     2.81,2,   -999.0,9,   -999.0,9,   7.3831,2,    25.00,     2126
  49UP20120306,RF1202,  4334,  1,     15,  22088,2,20120316,2100, 37.0743, 149.7032, 5978,    810.4,   3.9336,  34.2800,2,  34.2780,6,     53.4,2,   115.22,3,    40.28,2,     0.00,2,     2.91,2,   -999.0,9,   -999.0,9,   7.3700,2,    25.00,     2123
  49UP20120306,RF1202,  4334,  1,     14,  22087,2,20120316,2100, 37.0743, 149.7032, 5978,    810.4,   3.9336,  34.2800,2,  34.2777,2,     53.4,6,   113.58,3,    40.28,6,     0.00,6,     2.91,6,   -999.0,9,   -999.0,9,   7.3676,2,    25.00,     2123
  49UP20120306,RF1202,  4334,  1,     13,  22086,2,20120316,2100, 37.0743, 149.7032, 5978,    911.8,   3.4799,  34.3264,2,-999.0000,9,     45.2,2,   126.34,3,    41.64,2,     0.00,2,     3.00,2,   -999.0,9,   -999.0,9,   7.3638,2,    25.00,     2120
  49UP20120306,RF1202,  4334,  1,      9,  22082,2,20120316,2100, 37.0743, 149.7032, 5978,   1014.1,   3.2575,  34.3675,2,  34.3650,2,     42.3,2,   133.28,3,    41.93,2,     0.00,2,     3.02,2,   -999.0,9,   -999.0,9,   7.3504,6,    25.00,     2117
  49UP20120306,RF1202,  4334,  1,      8,  22081,3,20120316,2100, 37.0743, 149.7032, 5978,   1214.6,   2.9528,  34.4228,2,  34.4210,2,     42.5,2,   141.55,3,    42.23,2,     0.00,2,     3.03,2,   -999.0,9,   -999.0,9,   7.3633,2,    25.00,     2113
  49UP20120306,RF1202,  4334,  1,      7,  22080,2,20120316,2100, 37.0743, 149.7032, 5978,   1417.1,   2.5575,  34.4795,2,  34.4784,2,     42.1,2,   153.70,3,    42.79,2,     0.00,2,     3.06,2,   -999.0,9,   -999.0,9,   7.3624,2,    25.00,     2110
  49UP20120306,RF1202,  4334,  1,      6,  22079,3,20120316,2100, 37.0743, 149.7032, 5978,   1620.5,   2.3383,  34.5232,2,  34.5245,2,     48.8,2,   157.38,3,    42.62,2,     0.00,2,     3.03,2,   -999.0,9,   -999.0,9,-999.0000,5,  -999.00,     2107
  49UP20120306,RF1202,  4334,  1,      5,  22078,2,20120316,2100, 37.0743, 149.7032, 5978,   1821.6,   2.1453,  34.5601,2,  34.5613,2,     60.3,2,   160.97,3,    41.89,2,     0.00,2,     2.98,2,   -999.0,9,   -999.0,9,   7.3968,2,    25.00,     2104
  49UP20120306,RF1202,  4334,  1,      4,  22077,2,20120316,2100, 37.0743, 149.7032, 5978,   2025.0,   2.0061,  34.5870,2,  34.5887,2,     73.4,2,   161.41,3,    41.14,2,     0.00,2,     2.92,2,   -999.0,9,   -999.0,9,   7.4270,2,    25.00,     2100