BOTTLE,20200205PRINUNIVRMK
EXPOCODE,SECT_ID,STNNBR,CASTNO,SAMPNO,BTLNBR,BTLNBR_FLAG_W,DATE,TIME,LATITUDE,LONGITUDE,DEPTH,CTDPRS,CTDTMP,CTDSAL,CTDSAL_FLAG_W,SALNTY,SALNTY_FLAG_W,OXYGEN,OXYGEN_FLAG_W,SILCAT,SILCAT_FLAG_W,NITRAT,NITRAT_FLAG_W,NITRIT,NITRIT_FLAG_W,PHSPHT,PHSPHT_FLAG_W,TCARBN,TCARBN_FLAG_W,ALKALI,ALKALI_FLAG_W,PH_TOT,PH_TOT_FLAG_W,PH_TMP,BTL_TIME
,,,,,,,,,,,METERS,DBAR,ITS-90,PSS-78,,PSS-78,,UMOL/KG,,UMOL/KG,,UMOL/KG,,UMOL/KG,,UMOL/KG,,UMOL/KG,,UMOL/KG,,,,DEG C,
  49UP20120306,RF1202,  4320,  1,     99,     99,2,20120310,1411, 41.6585, 146.4490, 5888,      0.0,   0.8133,  33.1344,2,  33.1349,2,    336.2,2,    45.58,2,    24.44,2,     0.15,2,     2.05,2,   2153.8,2,   2240.8,2,   7.6198,2,    25.00,     1440
  49UP20120306,RF1202,  4320,  1,     36,  22109,2,20120310,1411, 41.6585, 146.4490, 5888,     11.1,   0.8142,  33.1343,2,-999.0000,9,    336.2,2,    45.52,2,    24.57,2,     0.15,2,     1.97,2,   2150.3,2,   2240.2,2,   7.3882,4,    25.00,     1509
  49UP20120306,RF1202,  4320,  1,     35,  22108,3,20120310,1411, 41.6585, 146.4490, 5888,     26.0,   0.8164,  33.1341,2,-999.0000,9,    335.7,2,    45.74,2,    24.46,2,     0.15,2,     1.97,2,   2149.4,2,   2242.3,2,   7.2907,4,    25.00,     1507
  49UP20120306,RF1202,  4320,  1,     34,  22107,2,20120310,1411, 41.6585, 146.4490, 5888,     52.2,   0.8177,  33.1338,2,-999.0000,9,    336.4,2,    46.03,2,    24.50,2,     0.15,2,     1.98,2,   2148.4,2,   2240.8,2,   7.2884,4,    25.00,     1506
  49UP20120306,RF1202,  4320,  1,     33,  22106,2,20120310,1411, 41.6585, 146.4490, 5888,     77.1,   0.7920,  33.1390,2,-999.0000,9,    330.9,2,    45.99,2,    24.41,2,     0.15,2,     1.98,2,   2154.7,2,   2238.6,2,   7.6059,2,    25.00,     1504
  49UP20120306,RF1202,  4320,  1,     32,  22105,2,20120310,1411, 41.6585, 146.4490, 5888,    103.7,   0.8120,  33.1854,2,-999.0000,9,    315.7,2,    48.36,2,    24.39,2,     0.10,2,     1.97,2,   2166.2,2,   2244.5,2,   7.5825,2,    25.00,     1503
  49UP20120306,RF1202,  4320,  1,     31,  22104,2,20120310,1411, 41.6585, 146.4490, 5888,    127.6,   0.9571,  33.2243,2,-999.0000,9,    300.7,2,    50.77,2,    25.22,2,     0.06,2,     2.03,2,   2179.2,2,   2247.6,2,   7.5598,2,    25.00,     1501
  49UP20120306,RF1202,  4320,  1,     27,  22100,2,20120310,1411, 41.6585, 146.4490, 5888,    154.2,   1.8560,  33.4197,2,-999.0000,9,    215.7,2,    67.08,2,    31.41,2,     0.01,2,     2.42,2,   2225.8,2,   2259.4,2,   7.4670,2,    25.00,     1500
  49UP20120306,RF1202,  4320,  1,     26,  22099,2,20120310,1411, 41.6585, 146.4490, 5888,    202.8,   2.2378,  33.5467,2,-999.0000,9,    169.4,2,    77.50,2,    34.76,2,     0.01,2,     2.62,2,   2255.5,2,   2275.7,2,   7.3874,2,    25.00,     1458
  49UP20120306,RF1202,  4320,  1,     25,  22098,2,20120310,1411, 41.6585, 146.4490, 5888,    254.4,   2.8777,  33.7137,2,-999.0000,9,    105.5,2,    88.83,2,    39.45,2,     0.01,2,     2.88,2,   2294.0,2,   2280.1,2,   7.3190,2,    25.00,     1456
  49UP20120306,RF1202,  4320,  1,     24,  22097,2,20120310,1411, 41.6585, 146.4490, 5888,    304.1,   2.9907,  33.8131,2,-999.0000,9,     80.8,2,    97.81,2,    40.85,2,     0.01,2,     2.97,2,   2311.6,2,   2295.0,2,   7.2893,2,    25.00,     1451
  49UP20120306,RF1202,  4320,  1,     23,  22096,2,20120310,1411, 41.6585, 146.4490, 5888,    304.1,   2.9907,  33.8131,2,-999.0000,9,     80.7,6,    97.25,2,    40.87,2,     0.01,2,     2.97,2,   2311.8,2,   2291.2,2,   7.2870,2,    25.00,     1451
  49UP20120306,RF1202,  4320,  1,     22,  22095,3,20120310,1411, 41.6585, 146.4490, 5888,    405.8,   3.0116,  33.9535,2,-999.0000,9,     60.2,2,   108.85,6,    41.78,6,     0.01,6,     3.03,6,   2331.1,2,   2312.5,2,   7.2853,2,    25.00,     1449
  49UP20120306,RF1202,  4320,  1,     18,  22091,2,20120310,1411, 41.6585, 146.4490, 5888,    507.7,   2.7387,  34.0541,2,-999.0000,9,     59.2,2,   121.32,2,    41.46,2,     0.00,2,     3.02,2,   2341.1,6,   2326.9,6,   7.3029,2,    25.00,     1446
  49UP20120306,RF1202,  4320,  1,     17,  22090,2,20120310,1411, 41.6585, 146.4490, 5888,    605.1,   3.0566,  34.1954,2,-999.0000,9,     34.6,2,   129.10,2,    43.05,2,     0.01,2,     3.10,2,   2357.4,2,   2339.8,2,   7.2895,6,    25.00,     1443
  49UP20120306,RF1202,  4320,  1,     16,  22089,2,20120310,1411, 41.6585, 146.4490, 5888,    709.7,   3.1436,  34.2965,2,-999.0000,9,     35.0,2,   133.81,2,    42.93,2,     0.01,2,     3.10,2,   2362.2,2,   2351.0,3,   7.3090,2,    25.00,     1441
  49UP20120306,RF1202,  4320,  1,     15,  22088,2,20120310,1411, 41.6585, 146.4490, 5888,    811.5,   2.8951,  34.3403,2,-999.0000,9,     33.9,2,   141.89,2,    43.07,2,     0.01,2,     3.11,2,   2372.8,2,   2361.7,2,   7.3161,2,    25.00,     1438
  49UP20120306,RF1202,  4320,  1,     14,  22087,2,20120310,1411, 41.6585, 146.4490, 5888,    911.3,   2.6645,  34.3667,2,-999.0000,9,     30.7,2,   150.06,2,    43.42,2,     0.00,2,     3.12,2,   2380.2,2,   2369.3,2,   7.3107,2,    25.00,     1436
  49UP20120306,RF1202,  4320,  1,     13,  22086,2,20120310,1411, 41.6585, 146.4490, 5888,   1012.8,   2.4432,  34.4135,2,-999.0000,9,     39.3,2,   155.33,2,    42.82,2,     0.00,2,     3.09,2,   2382.3,2,   2378.6,2,   7.3258,2,    25.00,     1433
  49UP20120306,RF1202,  4320,  1,      9,  22082,2,20120310,1411, 41.6585, 146.4490, 5888,   1215.4,   2.3408,  34.4552,2,-999.0000,9,     42.0,2,   160.43,2,    42.90,2,     0.01,2,     3.08,2,   2382.2,2,   2383.8,2,   7.3420,2,    25.00,     1429
  49UP20120306,RF1202,  4320,  1,      8,  22081,3,20120310,1411, 41.6585, 146.4490, 5888,   1416.8,   2.2653,  34.4870,2,-999.0000,9,     45.6,2,   162.24,2,    42.75,2,     0.01,2,     3.06,2,   2382.9,6,   2391.5,6,   7.3478,2,    25.00,     1424
  49UP20120306,RF1202,  4320,  1,      7,  22080,2,20120310,1411, 41.6585, 146.4490, 5888,   1619.0,   2.1929,  34.5399,2,-999.0000,9,     53.8,2,   160.54,2,    42.28,2,     0.00,2,     3.02,2,   2391.5,2,   2396.1,2,   7.3806,6,    25.00,     1420
  49UP20120306,RF1202,  4320,  1,      6,  22079,3,20120310,1411, 41.6585, 146.4490, 5888,   1823.9,   2.0308,  34.5787,2,-999.0000,9,     68.0,2,   162.61,2,    41.59,2,     0.00,2,     2.97,2,   2377.3,2,   2400.9,2,   7.4070,2,    25.00,     1416
  49UP20120306,RF1202,  4320,  1,      5,  22078,2,20120310,1411, 41.6585, 146.4490, 5888,   1823.9,   2.0308,  34.5787,2,-999.0000,9,     68.4,6,   160.72,2,    41.40,2,     0.00,2,     2.94,2,   2381.2,2,   2401.8,2,   7.4102,2,    25.00,     1416
  49UP20120306,RF1202,  4320,  1,      4,  22077,2,20120310,1411, 41.6585, 146.4490, 5888,   2025.8,   1.9033,  34.6016,2,-999.0000,9,     80.0,2,   162.58,6,    40.77,6,     0.00,6,     2.90,6,   2374.6,2,   2408.0,2,   7.4322,2,    25.00,     1411
  49UP20120306,RF1202,  4322,  1,     99,     99,2,20120314,0159, 41.0202, 146.8955, 3834,      0.0,   4.9633,  33.6199,2,-999.0000,9,    300.5,2,    29.98,2,    16.42,2,     0.15,2,     1.35,2,   -999.0,9,   -999.0,9,-999.0000,9,  -999.00,      235
  49UP20120306,RF1202,  4322,  1,     36,  22109,2,20120314,0159, 41.0202, 146.8955, 3834,     12.1,   4.9454,  33.6198,2,  33.6189,2,    299.5,2,    29.89,2,    16.44,2,     0.15,2,     1.34,2,   -999.0,9,   -999.0,9,-999.0000,9,  -999.00,      255
  49UP20120306,RF1202,  4322,  1,     35,  22108,2,20120314,0159, 41.0202, 146.8955, 3834,     26.5,   4.8894,  33.6186,2,-999.0000,9,    300.0,2,    29.93,2,    16.40,2,     0.15,2,     1.34,2,   -999.0,9,   -999.0,9,-999.0000,9,  -999.00,      254
  49UP20120306,RF1202,  4322,  1,     34,  22107,2,20120314,0159, 41.0202, 146.8955, 3834,     53.3,   4.8701,  33.6167,2,-999.0000,9,    300.0,2,    29.93,2,    16.45,2,     0.15,2,     1.34,2,   -999.0,9,   -999.0,9,-999.0000,9,  -999.00,      253
  49UP20120306,RF1202,  4322,  1,     33,  22106,2,20120314,0159, 41.0202, 146.8955, 3834,     78.7,   4.8341,  33.6123,2,-999.0000,9,    299.8,2,    30.12,2,    16.50,2,     0.15,2,     1.34,2,   -999.0,9,   -999.0,9,-999.0000,9,  -999.00,      252
  49UP20120306,RF1202,  4322,  1,     32,  22105,2,20120314,0159, 41.0202, 146.8955, 3834,    103.1,   4.8209,  33.6101,2,  33.6004,4,    299.4,2,    30.18,2,    16.54,2,     0.15,2,     1.35,2,   -999.0,9,   -999.0,9,-999.0000,9,  -999.00,      250
  49UP20120306,RF1202,  4322,  1,     31,  22104,2,20120314,0159, 41.0202, 146.8955, 3834,    128.9,   4.6598,  33.5914,2,-999.0000,9,    299.9,2,    30.68,2,    16.84,2,     0.14,2,     1.37,2,   -999.0,9,   -999.0,9,-999.0000,9,  -999.00,      249
  49UP20120306,RF1202,  4322,  1,     27,  22100,2,20120314,0159, 41.0202, 146.8955, 3834,    152.6,   4.4386,  33.5728,2,-999.0000,9,    299.2,2,    31.44,2,    17.42,2,     0.12,2,     1.41,2,   -999.0,9,   -999.0,9,-999.0000,9,  -999.00,      245
  49UP20120306,RF1202,  4322,  1,     26,  22099,2,20120314,0159, 41.0202, 146.8955, 3834,    206.2,   4.1846,  33.5552,2,  33.5587,2,    293.8,2,    33.32,2,    18.38,2,     0.06,2,     1.48,2,   -999.0,9,   -999.0,9,-999.0000,9,  -999.00,      243
  49UP20120306,RF1202,  4322,  1,     25,  22098,2,20120314,0159, 41.0202, 146.8955, 3834,    255.0,   4.1173,  33.5789,2,-999.0000,9,    278.2,2,    36.37,2,    19.84,2,     0.02,2,     1.57,2,   -999.0,9,   -999.0,9,-999.0000,9,  -999.00,      241
  49UP20120306,RF1202,  4322,  1,     24,  22097,2,20120314,0159, 41.0202, 146.8955, 3834,    306.4,   2.9711,  33.5306,2,-999.0000,9,    201.8,2,    62.44,2,    30.37,2,     0.00,2,     2.33,2,   -999.0,9,   -999.0,9,-999.0000,9,  -999.00,      239
  49UP20120306,RF1202,  4322,  1,     23,  22096,2,20120314,0159, 41.0202, 146.8955, 3834,    406.8,   3.0013,  33.6526,2,  33.6531,6,    155.1,2,    75.76,2,    34.57,2,     0.00,2,     2.60,2,   -999.0,9,   -999.0,9,-999.0000,9,  -999.00,      236
  49UP20120306,RF1202,  4322,  1,     22,  22095,2,20120314,0159, 41.0202, 146.8955, 3834,    406.8,   3.0013,  33.6526,2,  33.6522,2,    154.8,6,    75.93,6,    34.57,6,     0.00,6,     2.60,6,   -999.0,9,   -999.0,9,-999.0000,9,  -999.00,      236
  49UP20120306,RF1202,  4322,  1,     18,  22091,2,20120314,0159, 41.0202, 146.8955, 3834,    506.0,   3.3403,  33.8560,2,-999.0000,9,     94.8,2,    92.35,2,    38.88,2,     0.00,2,     2.85,2,   -999.0,9,   -999.0,9,-999.0000,9,  -999.00,      234
  49UP20120306,RF1202,  4322,  1,     17,  22090,2,20120314,0159, 41.0202, 146.8955, 3834,    608.1,   3.4928,  34.0150,2,  34.0162,2,     60.6,2,   105.60,2,    41.07,2,     0.00,2,     2.98,2,   -999.0,9,   -999.0,9,-999.0000,9,  -999.00,      231
  49UP20120306,RF1202,  4322,  1,     16,  22089,2,20120314,0159, 41.0202, 146.8955, 3834,    709.8,   3.4073,  34.1450,2,-999.0000,9,     40.0,2,   118.78,2,    42.38,2,     0.00,2,     3.06,2,   -999.0,9,   -999.0,9,-999.0000,9,  -999.00,      228
  49UP20120306,RF1202,  4322,  1,     15,  22088,2,20120314,0159, 41.0202, 146.8955, 3834,    807.5,   3.2407,  34.2254,2,  34.2240,2,     31.6,2,   128.64,2,    43.02,2,     0.00,2,     3.09,2,   -999.0,9,   -999.0,9,-999.0000,9,  -999.00,      226
  49UP20120306,RF1202,  4322,  1,     14,  22087,2,20120314,0159, 41.0202, 146.8955, 3834,    911.2,   2.9871,  34.2638,2,-999.0000,9,     31.0,2,   136.61,2,    43.13,2,     0.00,2,     3.11,2,   -999.0,9,   -999.0,9,-999.0000,9,  -999.00,      223
  49UP20120306,RF1202,  4322,  1,     13,  22086,2,20120314,0159, 41.0202, 146.8955, 3834,   1011.8,   2.9186,  34.3270,2,  34.3271,2,     33.8,2,   141.01,2,    42.86,2,     0.00,2,     3.09,2,   -999.0,9,   -999.0,9,-999.0000,9,  -999.00,      221
  49UP20120306,RF1202,  4322,  1,      9,  22082,2,20120314,0159, 41.0202, 146.8955, 3834,   1215.5,   2.6367,  34.4205,2,  34.4193,2,     36.3,2,   151.07,2,    42.82,2,     0.00,2,     3.09,2,   -999.0,9,   -999.0,9,-999.0000,9,  -999.00,      217
  49UP20120306,RF1202,  4322,  1,      8,  22081,3,20120314,0159, 41.0202, 146.8955, 3834,   1418.3,   2.4333,  34.4763,2,  34.4773,2,     42.2,2,   156.28,2,    42.66,2,     0.00,2,     3.07,2,   -999.0,9,   -999.0,9,-999.0000,9,  -999.00,      212
  49UP20120306,RF1202,  4322,  1,      7,  22080,2,20120314,0159, 41.0202, 146.8955, 3834,   1620.9,   2.2506,  34.5229,2,  34.5228,2,     50.1,2,   160.66,2,    42.35,2,     0.00,2,     3.04,2,   -999.0,9,   -999.0,9,-999.0000,9,  -999.00,      208
  49UP20120306,RF1202,  4322,  1,      6,  22079,2,20120314,0159, 41.0202, 146.8955, 3834,   1823.1,   2.1277,  34.5594,2,  34.5591,2,     60.0,2,   161.58,2,    41.86,2,     0.00,2,     2.99,2,   -999.0,9,   -999.0,9,-999.0000,9,  -999.00,      203
  49UP20120306,RF1202,  4322,  1,      5,  22078,2,20120314,0159, 41.0202, 146.8955, 3834,   2027.8,   1.9963,  34.5858,2,  34.5860,6,     70.9,2,   162.15,2,    41.24,2,     0.00,2,     2.94,2,   -999.0,9,   -999.0,9,-999.0000,9,  -999.00,      159
  49UP20120306,RF1202,  4322,  1,      4,  22077,2,20120314,0159, 41.0202, 146.8955, 3834,   2027.8,   1.9963,  34.5858,2,  34.5856,2,     71.1,6,   162.44,6,    41.29,6,     0.00,6,     2.94,6,   -999.0,9,   -999.0,9,-999.0000,9,  -999.00,      159
  49UP20120306,RF1202,  4326,  1,     99,     99,2,20120314,1553, 39.6670, 147.8702, 5319,      0.0,  10.0726,  34.2251,2,  34.2246,2,    273.4,2,    14.06,2,     8.85,2,     0.24,2,     0.73,2,   2072.1,2,   2268.5,2,   7.8581,2,    25.00,     1630
  49UP20120306,RF1202,  4326,  1,     36,  22109,2,20120314,1553, 39.6670, 147.8702, 5319,     11.6,  10.0767,  34.2251,2,-999.0000,9,    272.6,2,    14.06,2,     8.87,2,     0.24,2,     0.71,2,   2071.3,2,   2265.1,2,   7.8641,2,    25.00,     1648
  49UP20120306,RF1202,  4326,  1,     35,  22108,2,20120314,1553, 39.6670, 147.8702, 5319,     11.6,  10.0767,  34.2251,2,-999.0000,9,    273.0,6,    14.09,6,     8.86,6,     0.24,6,     0.71,6,   2071.2,2,   2264.9,2,   7.8620,2,    25.00,     1648
  49UP20120306,RF1202,  4326,  1,     34,  22107,2,20120314,1553, 39.6670, 147.8702, 5319,     25.7,  10.0853,  34.2232,2,-999.0000,9,    272.2,2,    14.12,2,     8.88,2,     0.24,2,     0.71,2,   2072.0,2,   2263.3,2,   7.8577,2,    25.00,     1646
  49UP20120306,RF1202,  4326,  1,     33,  22106,2,20120314,1553, 39.6670, 147.8702, 5319,     52.5,   9.5698,  34.2002,2,-999.0000,9,    269.5,2,    16.28,2,    10.40,2,     0.16,2,     0.82,2,   2081.2,2,   2265.0,2,   7.8385,2,    25.00,     1642
  49UP20120306,RF1202,  4326,  1,     32,  22105,2,20120314,1553, 39.6670, 147.8702, 5319,     76.3,   9.4615,  34.1918,2,-999.0000,9,    268.5,2,    16.44,2,    10.59,2,     0.14,2,     0.84,2,   2071.3,2,   2264.2,2,   7.8326,2,    25.00,     1641
  49UP20120306,RF1202,  4326,  1,     31,  22104,2,20120314,1553, 39.6670, 147.8702, 5319,    101.4,   9.4054,  34.1858,2,-999.0000,9,    267.2,2,    16.74,2,    10.85,2,     0.14,2,     0.86,2,   2072.8,2,   2264.6,2,   7.8298,2,    25.00,     1640
  49UP20120306,RF1202,  4326,  1,     27,  22100,2,20120314,1553, 39.6670, 147.8702, 5319,    128.1,   8.4084,  34.0325,2,-999.0000,9,    255.1,2,    23.21,2,    14.18,2,     0.08,2,     1.11,2,   2096.7,2,   2263.6,2,   7.7697,2,    25.00,     1638
  49UP20120306,RF1202,  4326,  1,     26,  22099,2,20120314,1553, 39.6670, 147.8702, 5319,    152.5,   6.2127,  33.7264,2,-999.0000,9,    284.9,2,    27.75,2,    15.54,2,     0.20,2,     1.26,2,   2113.3,2,   2254.7,2,   7.7404,2,    25.00,     1637
  49UP20120306,RF1202,  4326,  1,     25,  22098,2,20120314,1553, 39.6670, 147.8702, 5319,    204.4,   4.4242,  33.5392,2,-999.0000,9,    284.1,2,    34.30,2,    18.72,2,     0.08,2,     1.51,2,   2134.1,6,   2251.0,6,   7.6802,2,    25.00,     1635
  49UP20120306,RF1202,  4326,  1,     24,  22097,2,20120314,1553, 39.6670, 147.8702, 5319,    254.2,   5.0760,  33.7287,2,-999.0000,9,    210.4,2,    48.47,2,    25.19,2,     0.01,2,     1.94,2,   2185.8,2,   2268.9,2,   7.5836,2,    25.00,     1633
  49UP20120306,RF1202,  4326,  1,     23,  22096,2,20120314,1553, 39.6670, 147.8702, 5319,    304.2,   4.4537,  33.7470,2,-999.0000,9,    169.9,2,    62.72,2,    30.27,2,     0.00,2,     2.29,2,   2221.9,2,   2274.7,2,   7.5058,2,    25.00,     1631
  49UP20120306,RF1202,  4326,  1,     22,  22095,2,20120314,1553, 39.6670, 147.8702, 5319,    404.7,   3.9632,  33.8535,2,-999.0000,9,    122.6,2,    79.11,2,    35.35,2,     0.00,2,     2.62,2,   2264.4,2,   2288.8,2,   7.4067,2,    25.00,     1628
  49UP20120306,RF1202,  4326,  1,     18,  22091,2,20120314,1553, 39.6670, 147.8702, 5319,    505.6,   4.0816,  34.0405,2,-999.0000,9,     75.0,2,    95.30,2,    38.76,2,     0.00,2,     2.83,2,   2298.5,2,   2306.0,2,   7.3504,2,    25.00,     1626
  49UP20120306,RF1202,  4326,  1,     17,  22090,2,20120314,1553, 39.6670, 147.8702, 5319,    505.6,   4.0816,  34.0405,2,-999.0000,9,     75.3,6,    95.53,6,    38.83,6,     0.00,6,     2.84,6,   2307.1,2,   2309.8,2,   7.3465,2,    25.00,     1626
  49UP20120306,RF1202,  4326,  1,     16,  22089,2,20120314,1553, 39.6670, 147.8702, 5319,    606.5,   3.6022,  34.1097,2,-999.0000,9,     48.8,2,   111.14,2,    41.34,2,     0.00,2,     2.99,2,   2335.1,2,   2321.8,2,   7.3178,2,    25.00,     1623
  49UP20120306,RF1202,  4326,  1,     15,  22088,2,20120314,1553, 39.6670, 147.8702, 5319,    706.6,   3.5360,  34.1984,2,-999.0000,9,     41.3,2,   119.05,2,    41.68,2,     0.00,2,     3.03,2,   2347.4,2,   2335.4,2,   7.3075,2,    25.00,     1621
  49UP20120306,RF1202,  4326,  1,     14,  22087,2,20120314,1553, 39.6670, 147.8702, 5319,    807.6,   3.2536,  34.2675,2,-999.0000,9,     35.0,2,   129.90,2,    42.24,2,     0.00,2,     3.07,2,   2361.8,2,   2353.0,2,   7.3102,2,    25.00,     1618
  49UP20120306,RF1202,  4326,  1,     13,  22086,2,20120314,1553, 39.6670, 147.8702, 5319,    909.5,   3.0797,  34.3181,2,-999.0000,9,     35.1,2,   136.20,2,    42.49,2,     0.00,2,     3.08,2,   2364.4,2,   2359.0,2,   7.3164,2,    25.00,     1616
  49UP20120306,RF1202,  4326,  1,      9,  22082,2,20120314,1553, 39.6670, 147.8702, 5319,   1011.0,   2.9484,  34.3696,2,-999.0000,9,     36.1,2,   141.01,2,    42.47,2,     0.00,2,     3.08,2,   2368.6,2,   2370.9,2,   7.3295,2,    25.00,     1614
  49UP20120306,RF1202,  4326,  1,      8,  22081,2,20120314,1553, 39.6670, 147.8702, 5319,   1213.8,   2.6750,  34.4409,2,-999.0000,9,     38.5,2,   149.14,2,    42.61,2,     0.00,2,     3.08,2,   2384.5,2,   2391.5,3,   7.3520,2,    25.00,     1609
  49UP20120306,RF1202,  4326,  1,      7,  22080,2,20120314,1553, 39.6670, 147.8702, 5319,   1417.6,   2.3953,  34.4852,2,-999.0000,9,     43.1,2,   156.89,2,    42.58,2,     0.00,2,     3.06,2,   2377.0,2,   2376.6,3,   7.3435,2,    25.00,     1605
  49UP20120306,RF1202,  4326,  1,      6,  22079,2,20120314,1553, 39.6670, 147.8702, 5319,   1619.2,   2.2744,  34.5238,2,-999.0000,9,     49.4,2,   159.23,2,    42.32,2,     0.00,2,     3.04,2,   2383.0,2,   2394.8,2,   7.3741,2,    25.00,     1601
  49UP20120306,RF1202,  4326,  1,      5,  22078,2,20120314,1553, 39.6670, 147.8702, 5319,   1822.4,   2.1305,  34.5563,2,-999.0000,9,     58.8,2,   161.33,2,    42.07,2,     0.00,2,     3.00,2,   2383.1,2,   2393.5,2,   7.3915,6,    25.00,     1557
  49UP20120306,RF1202,  4326,  1,      4,  22077,2,20120314,1553, 39.6670, 147.8702, 5319,   2025.8,   1.9874,  34.5863,2,-999.0000,9,     71.1,2,   162.26,2,    41.21,2,     0.00,2,     2.94,2,   2375.5,2,   2400.9,2,   7.4154,2,    25.00,     1553