BOTTLE,20200204PRINUNIVRMK
EXPOCODE,SECT_ID,STNNBR,CASTNO,SAMPNO,BTLNBR,BTLNBR_FLAG_W,DATE,TIME,LATITUDE,LONGITUDE,DEPTH,CTDPRS,CTDTMP,CTDSAL,CTDSAL_FLAG_W,SALNTY,SALNTY_FLAG_W,OXYGEN,OXYGEN_FLAG_W,SILCAT,SILCAT_FLAG_W,NITRAT,NITRAT_FLAG_W,NITRIT,NITRIT_FLAG_W,PHSPHT,PHSPHT_FLAG_W,TCARBN,TCARBN_FLAG_W,ALKALI,ALKALI_FLAG_W,PH_TOT,PH_TOT_FLAG_W,PH_TMP,BTL_TIME
,,,,,,,,,,,METERS,DBAR,ITS-90,PSS-78,,PSS-78,,UMOL/KG,,UMOL/KG,,UMOL/KG,,UMOL/KG,,UMOL/KG,,UMOL/KG,,UMOL/KG,,,,DEG C,
  49UP20110912,RF1109,  4149,  1,     99,     99,2,20110915,0514, 30.0062, 145.0650, 5890,      0.0,  27.6420,  34.5817,2,-999.0000,9,    201.5,2,     1.72,2,     0.03,2,     0.00,2,     0.04,2,   -999.0,9,   -999.0,9,-999.0000,9,  -999.00,      555
  49UP20110912,RF1109,  4149,  1,     36,  22109,2,20110915,0514, 30.0062, 145.0650, 5890,     11.8,  27.5285,  34.5715,2,-999.0000,9,    201.9,2,     1.67,2,     0.00,2,     0.00,2,     0.01,2,   1962.5,2,   2272.4,2,   8.0719,2,    25.00,      612
  49UP20110912,RF1109,  4149,  1,     35,  22108,2,20110915,0514, 30.0062, 145.0650, 5890,     26.9,  27.3323,  34.6790,2,-999.0000,9,    203.0,2,     1.63,2,     0.00,2,     0.00,2,     0.00,2,   1969.0,2,   2278.7,2,   8.0705,2,    25.00,      611
  49UP20110912,RF1109,  4149,  1,     34,  22107,2,20110915,0514, 30.0062, 145.0650, 5890,     52.1,  21.5110,  34.7368,2,-999.0000,9,    231.7,2,     1.90,2,     0.00,2,     0.00,2,     0.02,2,   1986.6,2,   2282.2,2,   8.0489,2,    25.00,      609
  49UP20110912,RF1109,  4149,  1,     32,  22105,2,20110915,0514, 30.0062, 145.0650, 5890,     77.2,  19.8199,  34.7688,2,-999.0000,9,    222.2,2,     2.08,2,     0.04,2,     0.02,2,     0.05,2,   2001.0,2,   2285.1,2,   8.0153,3,    25.00,      608
  49UP20110912,RF1109,  4149,  1,     31,  22104,2,20110915,0514, 30.0062, 145.0650, 5890,     77.2,  19.8199,  34.7688,2,-999.0000,9,    222.2,6,     2.15,6,     0.07,6,     0.03,6,     0.05,6,   2004.6,2,   2287.0,2,   8.0231,3,    25.00,      608
  49UP20110912,RF1109,  4149,  1,     30,  22103,2,20110915,0514, 30.0062, 145.0650, 5890,    102.7,  18.9614,  34.7618,2,-999.0000,9,    215.4,2,     2.63,2,     1.58,2,     0.12,2,     0.13,2,   2018.0,2,   2280.7,2,   7.9975,2,    25.00,      604
  49UP20110912,RF1109,  4149,  1,     28,  22101,2,20110915,0514, 30.0062, 145.0650, 5890,    126.9,  18.5562,  34.7723,2,-999.0000,9,    212.6,2,     2.58,2,     2.12,2,     0.03,2,     0.16,2,   2026.2,2,   2282.9,2,   7.9901,2,    25.00,      603
  49UP20110912,RF1109,  4149,  1,     27,  22100,2,20110915,0514, 30.0062, 145.0650, 5890,    149.6,  18.1700,  34.7453,2,-999.0000,9,    210.9,2,     3.18,2,     3.08,2,     0.02,2,     0.21,2,   2025.8,2,   2281.3,2,   7.9703,2,    25.00,      601
  49UP20110912,RF1109,  4149,  1,     26,  22099,2,20110915,0514, 30.0062, 145.0650, 5890,    202.2,  17.4384,  34.7253,2,-999.0000,9,    217.7,2,     3.47,2,     3.48,2,     0.01,2,     0.23,2,   2029.9,2,   2277.1,2,   7.9673,2,    25.00,      600
  49UP20110912,RF1109,  4149,  1,     23,  22096,2,20110915,0514, 30.0062, 145.0650, 5890,    251.5,  17.1939,  34.7159,2,-999.0000,9,    220.3,2,     3.68,2,     3.67,2,     0.01,2,     0.24,2,   2027.9,2,   2278.0,2,   7.9643,2,    25.00,      558
  49UP20110912,RF1109,  4149,  1,     22,  22095,2,20110915,0514, 30.0062, 145.0650, 5890,    302.3,  17.0465,  34.7121,2,-999.0000,9,    220.7,2,     4.00,2,     3.89,2,     0.01,2,     0.25,2,   2029.4,2,   2280.0,2,   7.9567,2,    25.00,      556
  49UP20110912,RF1109,  4149,  1,     21,  22094,2,20110915,0514, 30.0062, 145.0650, 5890,    404.6,  16.2583,  34.6460,2,-999.0000,9,    198.9,2,     7.19,2,     7.20,2,     0.00,2,     0.48,2,   2052.9,2,   2279.9,2,   7.9173,2,    25.00,      552
  49UP20110912,RF1109,  4149,  1,     18,  22091,2,20110915,0514, 30.0062, 145.0650, 5890,    506.0,  13.0932,  34.4501,2,-999.0000,9,    176.2,2,    18.83,2,    14.22,2,     0.00,2,     0.97,2,   2107.7,2,   2279.1,2,   7.7919,2,    25.00,      549
  49UP20110912,RF1109,  4149,  1,     17,  22090,2,20110915,0514, 30.0062, 145.0650, 5890,    606.3,   9.6855,  34.2047,2,-999.0000,9,    172.1,2,    31.47,2,    20.26,2,     0.00,2,     1.42,2,   2159.2,2,   2277.3,2,   7.6931,2,    25.00,      546
  49UP20110912,RF1109,  4149,  1,     16,  22089,2,20110915,0514, 30.0062, 145.0650, 5890,    706.6,   7.0347,  34.0970,2,-999.0000,9,    137.6,2,    55.32,2,    28.06,2,     0.00,2,     2.00,2,   2216.6,2,   2295.2,2,   7.5505,2,    25.00,      544
  49UP20110912,RF1109,  4149,  1,     14,  22087,2,20110915,0514, 30.0062, 145.0650, 5890,    808.3,   5.3344,  34.1020,2,-999.0000,9,     99.3,2,    78.63,2,    34.46,2,     0.00,2,     2.46,2,   2273.5,3,   2310.0,2,   7.4469,3,    25.00,      541
  49UP20110912,RF1109,  4149,  1,     13,  22086,2,20110915,0514, 30.0062, 145.0650, 5890,    808.3,   5.3344,  34.1020,2,-999.0000,9,     99.9,6,    78.49,6,    34.43,6,     0.00,6,     2.46,6,   2265.1,3,   2312.2,2,   7.4433,3,    25.00,      541
  49UP20110912,RF1109,  4149,  1,     12,  22074,2,20110915,0514, 30.0062, 145.0650, 5890,    908.2,   4.5530,  34.1757,2,-999.0000,9,     68.4,2,    96.20,2,    38.41,2,     0.00,2,     2.73,2,   2311.2,6,   2332.0,2,   7.3828,2,    25.00,      539
  49UP20110912,RF1109,  4149,  1,     10,  22083,2,20110915,0514, 30.0062, 145.0650, 5890,   1012.0,   4.0618,  34.2541,2,-999.0000,9,     51.0,2,   109.53,2,    40.47,2,     0.00,2,     2.87,2,   2336.2,2,   2346.0,2,   7.3509,2,    25.00,      536
  49UP20110912,RF1109,  4149,  1,      9,  22082,2,20110915,0514, 30.0062, 145.0650, 5890,   1213.0,   3.3338,  34.3615,2,-999.0000,9,     39.4,2,   130.41,2,    42.28,2,     0.00,2,     2.98,2,   2360.1,2,   2360.2,2,   7.3368,2,    25.00,      531
  49UP20110912,RF1109,  4149,  1,      8,  22081,2,20110915,0514, 30.0062, 145.0650, 5890,   1416.0,   2.7926,  34.4516,2,-999.0000,9,     38.5,2,   145.76,2,    42.93,2,     0.00,2,     3.01,2,   2380.9,2,   2389.0,2,   7.3430,2,    25.00,      527
  49UP20110912,RF1109,  4149,  1,      5,  22078,2,20110915,0514, 30.0062, 145.0650, 5890,   1618.7,   2.4320,  34.5094,2,-999.0000,9,     45.6,2,   155.25,2,    42.77,2,     0.00,2,     2.99,2,   2398.8,2,   2400.1,2,   7.3606,2,    25.00,      522
  49UP20110912,RF1109,  4149,  1,      4,  22077,2,20110915,0514, 30.0062, 145.0650, 5890,   1820.2,   2.1752,  34.5565,2,-999.0000,9,     58.9,2,   159.72,2,    42.02,2,     0.00,2,     2.93,2,   2386.0,3,   2408.9,6,   7.3902,2,    25.00,      518
  49UP20110912,RF1109,  4149,  1,      3,  22076,2,20110915,0514, 30.0062, 145.0650, 5890,   2024.9,   1.9874,  34.5900,2,-999.0000,9,     74.5,2,   160.59,2,    41.06,2,     0.00,2,     2.85,2,   2377.4,2,   2410.8,2,   7.4201,6,    25.00,      514
  49UP20110912,RF1109,  4151,  1,     99,     99,2,20110915,1522, 29.0032, 145.9913, 5924,      0.0,  27.6553,  34.7141,2,-999.0000,9,    200.9,2,     1.71,2,     0.04,2,     0.00,2,     0.01,2,   -999.0,9,   -999.0,9,-999.0000,9,  -999.00,     1600
  49UP20110912,RF1109,  4151,  1,     36,  22109,2,20110915,1522, 29.0032, 145.9913, 5924,     12.6,  27.6695,  34.7143,2,-999.0000,9,    201.1,2,     1.62,2,     0.00,2,     0.00,2,     0.01,2,   -999.0,9,   -999.0,9,-999.0000,9,  -999.00,     1618
  49UP20110912,RF1109,  4151,  1,     35,  22108,2,20110915,1522, 29.0032, 145.9913, 5924,     27.2,  27.6291,  34.7038,2,-999.0000,9,    201.4,2,     1.62,2,     0.03,2,     0.00,2,     0.01,2,   -999.0,9,   -999.0,9,-999.0000,9,  -999.00,     1617
  49UP20110912,RF1109,  4151,  1,     34,  22107,2,20110915,1522, 29.0032, 145.9913, 5924,     27.2,  27.6291,  34.7038,2,-999.0000,9,    201.7,6,     1.70,6,     0.02,6,     0.00,6,     0.01,6,   -999.0,9,   -999.0,9,-999.0000,9,  -999.00,     1617
  49UP20110912,RF1109,  4151,  1,     32,  22105,2,20110915,1522, 29.0032, 145.9913, 5924,     53.3,  23.4493,  34.5879,2,-999.0000,9,    227.9,2,     2.06,2,     0.01,2,     0.00,2,     0.01,2,   -999.0,9,   -999.0,9,-999.0000,9,  -999.00,     1615
  49UP20110912,RF1109,  4151,  1,     31,  22104,2,20110915,1522, 29.0032, 145.9913, 5924,     78.1,  20.4355,  34.7080,2,-999.0000,9,    227.2,2,     2.55,2,     0.00,2,     0.00,2,     0.03,2,   -999.0,9,   -999.0,9,-999.0000,9,  -999.00,     1613
  49UP20110912,RF1109,  4151,  1,     30,  22103,2,20110915,1522, 29.0032, 145.9913, 5924,    103.3,  19.1308,  34.7411,2,-999.0000,9,    223.8,2,     2.77,2,     1.04,2,     0.16,2,     0.11,2,   -999.0,9,   -999.0,9,-999.0000,9,  -999.00,     1609
  49UP20110912,RF1109,  4151,  1,     28,  22101,2,20110915,1522, 29.0032, 145.9913, 5924,    126.7,  18.3951,  34.7419,2,-999.0000,9,    213.8,2,     3.18,2,     2.61,2,     0.02,2,     0.19,2,   -999.0,9,   -999.0,9,-999.0000,9,  -999.00,     1608
  49UP20110912,RF1109,  4151,  1,     27,  22100,2,20110915,1522, 29.0032, 145.9913, 5924,    153.2,  17.8660,  34.7324,2,-999.0000,9,    210.3,2,     3.91,2,     3.62,2,     0.02,2,     0.24,2,   -999.0,9,   -999.0,9,-999.0000,9,  -999.00,     1607
  49UP20110912,RF1109,  4151,  1,     26,  22099,2,20110915,1522, 29.0032, 145.9913, 5924,    203.0,  17.3218,  34.7181,2,-999.0000,9,    217.3,2,     3.87,2,     3.73,2,     0.01,2,     0.24,2,   -999.0,9,   -999.0,9,-999.0000,9,  -999.00,     1605
  49UP20110912,RF1109,  4151,  1,     23,  22096,2,20110915,1522, 29.0032, 145.9913, 5924,    253.9,  17.0791,  34.7164,2,-999.0000,9,    221.2,2,     3.98,2,     3.76,2,     0.01,2,     0.25,2,   -999.0,9,   -999.0,9,-999.0000,9,  -999.00,     1603
  49UP20110912,RF1109,  4151,  1,     22,  22095,2,20110915,1522, 29.0032, 145.9913, 5924,    304.8,  16.9629,  34.7086,2,-999.0000,9,    219.7,2,     4.42,2,     4.08,2,     0.01,2,     0.27,2,   -999.0,9,   -999.0,9,-999.0000,9,  -999.00,     1602
  49UP20110912,RF1109,  4151,  1,     21,  22094,2,20110915,1522, 29.0032, 145.9913, 5924,    406.6,  14.6622,  34.5503,2,-999.0000,9,    188.2,2,    12.43,2,    10.57,2,     0.00,2,     0.71,2,   -999.0,9,   -999.0,9,-999.0000,9,  -999.00,     1559
  49UP20110912,RF1109,  4151,  1,     18,  22091,2,20110915,1522, 29.0032, 145.9913, 5924,    506.0,  11.7750,  34.3435,2,-999.0000,9,    183.8,2,    20.53,2,    15.46,2,     0.00,2,     1.07,2,   -999.0,9,   -999.0,9,-999.0000,9,  -999.00,     1557
  49UP20110912,RF1109,  4151,  1,     17,  22090,2,20110915,1522, 29.0032, 145.9913, 5924,    606.7,   9.2219,  34.1820,2,-999.0000,9,    164.8,2,    34.99,2,    21.60,2,     0.00,2,     1.52,2,   -999.0,9,   -999.0,9,-999.0000,9,  -999.00,     1554
  49UP20110912,RF1109,  4151,  1,     16,  22089,2,20110915,1522, 29.0032, 145.9913, 5924,    606.7,   9.2219,  34.1820,2,-999.0000,9,    164.7,6,    34.93,6,    21.63,6,     0.00,6,     1.52,6,   -999.0,9,   -999.0,9,-999.0000,9,  -999.00,     1554
  49UP20110912,RF1109,  4151,  1,     14,  22087,2,20110915,1522, 29.0032, 145.9913, 5924,    707.9,   6.9389,  34.1266,2,-999.0000,9,    128.2,2,    59.68,2,    28.96,2,     0.00,2,     2.06,2,   -999.0,9,   -999.0,9,-999.0000,9,  -999.00,     1552
  49UP20110912,RF1109,  4151,  1,     13,  22086,2,20110915,1522, 29.0032, 145.9913, 5924,    809.6,   5.2763,  34.1158,2,-999.0000,9,     95.6,2,    80.95,2,    34.76,2,     0.00,2,     2.48,2,   -999.0,9,   -999.0,9,-999.0000,9,  -999.00,     1549
  49UP20110912,RF1109,  4151,  1,     12,  22074,2,20110915,1522, 29.0032, 145.9913, 5924,    911.1,   4.4024,  34.1945,2,-999.0000,9,     64.4,2,   100.79,2,    38.80,2,     0.00,2,     2.75,2,   -999.0,9,   -999.0,9,-999.0000,9,  -999.00,     1546
  49UP20110912,RF1109,  4151,  1,     10,  22083,2,20110915,1522, 29.0032, 145.9913, 5924,   1010.6,   3.9012,  34.2819,2,-999.0000,9,     48.5,2,   114.86,2,    40.85,2,     0.00,2,     2.89,2,   -999.0,9,   -999.0,9,-999.0000,9,  -999.00,     1544
  49UP20110912,RF1109,  4151,  1,      9,  22082,3,20110915,1522, 29.0032, 145.9913, 5924,   1213.6,   3.2914,  34.3974,2,-999.0000,9,     45.5,2,   130.74,2,    41.93,2,     0.00,2,     2.95,2,   -999.0,9,   -999.0,9,-999.0000,9,  -999.00,     1539
  49UP20110912,RF1109,  4151,  1,      8,  22081,2,20110915,1522, 29.0032, 145.9913, 5924,   1417.0,   2.7725,  34.4800,2,-999.0000,9,     51.9,2,   142.91,2,    41.93,2,     0.00,2,     2.94,2,   -999.0,9,   -999.0,9,-999.0000,9,  -999.00,     1535
  49UP20110912,RF1109,  4151,  1,      5,  22078,2,20110915,1522, 29.0032, 145.9913, 5924,   1617.8,   2.3844,  34.5347,2,-999.0000,9,     61.7,2,   151.40,2,    41.61,2,     0.00,2,     2.91,2,   -999.0,9,   -999.0,9,-999.0000,9,  -999.00,     1530
  49UP20110912,RF1109,  4151,  1,      4,  22077,2,20110915,1522, 29.0032, 145.9913, 5924,   1821.2,   2.1550,  34.5686,2,-999.0000,9,     72.2,2,   155.26,2,    41.09,2,     0.00,2,     2.86,2,   -999.0,9,   -999.0,9,-999.0000,9,  -999.00,     1526
  49UP20110912,RF1109,  4151,  1,      3,  22076,2,20110915,1522, 29.0032, 145.9913, 5924,   2025.5,   1.9641,  34.5980,2,-999.0000,9,   -999.0,5,   156.98,2,    40.31,2,     0.00,2,     2.80,2,   -999.0,9,   -999.0,9,-999.0000,9,  -999.00,     1522
  49UP20110912,RF1109,  4153,  1,     99,     99,2,20110916,0107, 27.9987, 146.9848, 5776,      0.0,  27.7334,  34.8565,2,-999.0000,9,    200.5,2,     1.51,2,     0.06,2,     0.00,2,     0.02,2,   -999.0,9,   -999.0,9,-999.0000,9,  -999.00,      152
  49UP20110912,RF1109,  4153,  1,     36,  22109,2,20110916,0107, 27.9987, 146.9848, 5776,     11.8,  27.6584,  34.8523,2,  34.8523,2,    200.4,2,     1.55,2,     0.06,2,     0.00,2,     0.00,2,   1966.3,2,   2283.5,2,   8.0813,2,    25.00,      210
  49UP20110912,RF1109,  4153,  1,     35,  22108,2,20110916,0107, 27.9987, 146.9848, 5776,     11.8,  27.6584,  34.8523,2,  34.8528,6,    200.2,6,     1.49,6,     0.04,6,     0.00,6,     0.00,6,   1965.0,2,   2280.6,2,   8.0808,2,    25.00,      210
  49UP20110912,RF1109,  4153,  1,     34,  22107,2,20110916,0107, 27.9987, 146.9848, 5776,     26.7,  27.6024,  34.8563,2,-999.0000,9,    201.0,2,     1.53,2,     0.02,2,     0.00,2,     0.00,2,   1965.4,2,   2283.0,2,   8.0810,2,    25.00,      208
  49UP20110912,RF1109,  4153,  1,     32,  22105,2,20110916,0107, 27.9987, 146.9848, 5776,     53.2,  22.4877,  34.7670,2,-999.0000,9,    237.5,2,     1.87,2,     0.01,2,     0.00,2,     0.00,2,   1978.5,2,   2275.6,2,   8.0594,2,    25.00,      205
  49UP20110912,RF1109,  4153,  1,     31,  22104,2,20110916,0107, 27.9987, 146.9848, 5776,     76.5,  20.2314,  34.8102,2,-999.0000,9,    232.0,2,     1.97,2,     0.01,2,     0.00,2,     0.01,2,   1991.7,2,   2280.7,2,   8.0327,2,    25.00,      203
  49UP20110912,RF1109,  4153,  1,     30,  22103,2,20110916,0107, 27.9987, 146.9848, 5776,    101.5,  18.9598,  34.7788,2,  34.7787,2,    219.1,2,     2.10,2,     0.08,2,     0.03,2,     0.04,2,   2010.8,2,   2269.2,2,   8.0060,2,    25.00,      159
  49UP20110912,RF1109,  4153,  1,     28,  22101,4,20110916,0107, 27.9987, 146.9848, 5776,    127.2,  18.3502,  34.7545,2,-999.0000,9,   -999.0,9,  -999.00,9,  -999.00,9,  -999.00,9,  -999.00,9,   -999.0,9,   -999.0,9,-999.0000,9,  -999.00,      157
  49UP20110912,RF1109,  4153,  1,     27,  22100,2,20110916,0107, 27.9987, 146.9848, 5776,    152.2,  17.9868,  34.7343,2,-999.0000,9,    208.2,2,     3.39,2,     3.50,2,     0.02,2,     0.22,2,   2032.4,2,   2284.5,2,   7.9706,2,    25.00,      155
  49UP20110912,RF1109,  4153,  1,     26,  22099,2,20110916,0107, 27.9987, 146.9848, 5776,    202.4,  17.5032,  34.7212,2,  34.7214,2,    213.5,2,     3.76,2,     3.67,2,     0.01,2,     0.24,2,   2025.7,2,   2275.8,2,   7.9675,2,    25.00,      153
  49UP20110912,RF1109,  4153,  1,     23,  22096,2,20110916,0107, 27.9987, 146.9848, 5776,    254.2,  17.0944,  34.7046,2,-999.0000,9,    211.8,2,     4.53,2,     4.54,2,     0.01,2,     0.30,2,   2031.7,2,   2274.9,2,   7.9554,2,    25.00,      151
  49UP20110912,RF1109,  4153,  1,     22,  22095,2,20110916,0107, 27.9987, 146.9848, 5776,    304.5,  16.4770,  34.6570,2,-999.0000,9,    191.2,2,     7.00,2,     7.42,2,     0.01,2,     0.48,2,   2055.9,2,   2271.4,2,   7.9067,2,    25.00,      149
  49UP20110912,RF1109,  4153,  1,     21,  22094,2,20110916,0107, 27.9987, 146.9848, 5776,    404.3,  13.9790,  34.5036,2,  34.5052,2,    182.1,2,    14.16,2,    12.03,2,     0.00,2,     0.81,2,   2089.4,2,   2269.7,2,   7.8360,2,    25.00,      146
  49UP20110912,RF1109,  4153,  1,     18,  22091,2,20110916,0107, 27.9987, 146.9848, 5776,    506.4,  10.5487,  34.2748,2,-999.0000,9,    170.7,2,    28.83,2,    18.90,2,     0.01,2,     1.31,2,   2141.8,2,   2270.6,2,   7.7156,2,    25.00,      143
  49UP20110912,RF1109,  4153,  1,     17,  22090,2,20110916,0107, 27.9987, 146.9848, 5776,    506.4,  10.5487,  34.2748,2,-999.0000,9,    170.2,6,    28.85,6,    18.91,6,     0.00,6,     1.31,6,   2141.6,2,   2273.2,2,   7.7118,2,    25.00,      143
  49UP20110912,RF1109,  4153,  1,     16,  22089,2,20110916,0107, 27.9987, 146.9848, 5776,    605.1,   8.0088,  34.1433,2,  34.1429,2,    145.9,2,    46.98,2,    25.58,2,     0.00,2,     1.80,2,   2190.3,2,   2282.0,2,   7.6066,2,    25.00,      140
  49UP20110912,RF1109,  4153,  1,     14,  22087,2,20110916,0107, 27.9987, 146.9848, 5776,    708.4,   6.2578,  34.1268,2,-999.0000,9,    112.8,2,    68.50,2,    31.59,2,     0.00,2,     2.24,2,   2241.9,2,   2299.2,2,   7.4992,2,    25.00,      137
  49UP20110912,RF1109,  4153,  1,     13,  22086,2,20110916,0107, 27.9987, 146.9848, 5776,    808.2,   4.8488,  34.1646,2,  34.1664,2,     78.8,2,    91.02,2,    36.93,2,     0.00,2,     2.62,2,   2292.3,2,   2315.7,2,   7.4078,6,    25.00,      135
  49UP20110912,RF1109,  4153,  1,     12,  22074,2,20110916,0107, 27.9987, 146.9848, 5776,    909.7,   4.1954,  34.2544,2,-999.0000,9,     53.0,2,   106.74,2,    40.08,2,     0.00,2,     2.83,2,   2325.7,2,   2335.8,2,   7.3648,2,    25.00,      132
  49UP20110912,RF1109,  4153,  1,     10,  22083,2,20110916,0107, 27.9987, 146.9848, 5776,   1009.8,   3.7552,  34.3193,2,  34.4296,4,     46.2,2,   135.79,2,    41.99,2,     0.00,2,     2.95,2,   2342.0,2,   2349.0,2,   7.3538,3,    25.00,      129
  49UP20110912,RF1109,  4153,  1,      9,  22082,2,20110916,0107, 27.9987, 146.9848, 5776,   1212.9,   3.0861,  34.4294,2,  34.3183,4,     46.8,2,   146.39,2,    41.80,2,     0.00,2,     2.92,2,   2361.4,6,   2371.9,6,   7.3651,2,    25.00,      124
  49UP20110912,RF1109,  4153,  1,      8,  22081,2,20110916,0107, 27.9987, 146.9848, 5776,   1415.0,   2.6145,  34.5001,2,  34.5001,2,     55.1,2,   118.63,4,    41.30,2,     0.00,2,     2.91,2,   2369.7,2,   2386.4,2,   7.3879,2,    25.00,      120
  49UP20110912,RF1109,  4153,  1,      5,  22078,2,20110916,0107, 27.9987, 146.9848, 5776,   1618.1,   2.2834,  34.5503,2,  34.5501,2,     69.2,2,   151.85,2,    41.14,2,     0.00,2,     2.86,2,   2365.6,2,   2399.5,2,   7.4111,2,    25.00,      115
  49UP20110912,RF1109,  4153,  1,      4,  22077,2,20110916,0107, 27.9987, 146.9848, 5776,   1819.0,   2.0594,  34.5833,2,  34.5836,2,     81.3,3,   154.78,2,    40.54,2,     0.01,2,     2.81,2,   2363.6,2,   2401.8,2,-999.0000,5,  -999.00,      111
  49UP20110912,RF1109,  4153,  1,      3,  22076,2,20110916,0107, 27.9987, 146.9848, 5776,   2023.3,   1.8881,  34.6089,2,  34.6091,2,     95.4,2,   155.19,2,    39.70,2,     0.00,2,     2.75,2,   2357.9,6,   2406.2,6,   7.4610,2,    25.00,      107