BOTTLE,20200204PRINUNIVRMK
EXPOCODE,SECT_ID,STNNBR,CASTNO,SAMPNO,BTLNBR,BTLNBR_FLAG_W,DATE,TIME,LATITUDE,LONGITUDE,DEPTH,CTDPRS,CTDTMP,CTDSAL,CTDSAL_FLAG_W,SALNTY,SALNTY_FLAG_W,OXYGEN,OXYGEN_FLAG_W,SILCAT,SILCAT_FLAG_W,NITRAT,NITRAT_FLAG_W,NITRIT,NITRIT_FLAG_W,PHSPHT,PHSPHT_FLAG_W,TCARBN,TCARBN_FLAG_W,ALKALI,ALKALI_FLAG_W,PH_TOT,PH_TOT_FLAG_W,PH_TMP,BTL_TIME
,,,,,,,,,,,METERS,DBAR,ITS-90,PSS-78,,PSS-78,,UMOL/KG,,UMOL/KG,,UMOL/KG,,UMOL/KG,,UMOL/KG,,UMOL/KG,,UMOL/KG,,,,DEG C,
  49UP20110912,RF1109,  4183,  1,     99,     99,2,20110925,1902, 40.9867, 146.9078, 4299,      0.0,  14.6259,  32.5266,2,-999.0000,9,    275.0,2,     6.87,2,     3.64,2,     0.08,2,     0.52,2,   -999.0,9,   -999.0,9,-999.0000,9,  -999.00,     1940
  49UP20110912,RF1109,  4183,  1,     35,  22108,2,20110925,1902, 40.9867, 146.9078, 4299,     10.8,  14.5389,  32.5272,2,  34.4824,4,    274.6,2,     6.93,2,     3.55,2,     0.08,2,     0.51,2,   -999.0,9,   -999.0,9,-999.0000,9,  -999.00,     2001
  49UP20110912,RF1109,  4183,  1,     34,  22107,2,20110925,1902, 40.9867, 146.9078, 4299,     26.7,   8.3333,  32.8854,2,-999.0000,9,    322.6,2,    16.77,2,    11.99,2,     0.22,2,     1.20,2,   -999.0,9,   -999.0,9,-999.0000,9,  -999.00,     1959
  49UP20110912,RF1109,  4183,  1,     33,  22106,2,20110925,1902, 40.9867, 146.9078, 4299,     51.7,   3.9120,  33.0290,2,-999.0000,9,    308.3,2,    31.98,2,    20.60,2,     0.44,2,     1.74,2,   -999.0,9,   -999.0,9,-999.0000,9,  -999.00,     1955
  49UP20110912,RF1109,  4183,  1,     31,  22104,2,20110925,1902, 40.9867, 146.9078, 4299,     76.7,   2.1085,  33.0875,2,-999.0000,9,    307.5,2,    42.33,2,    26.00,2,     0.01,2,     2.02,2,   -999.0,9,   -999.0,9,-999.0000,9,  -999.00,     1953
  49UP20110912,RF1109,  4183,  1,     30,  22103,3,20110925,1902, 40.9867, 146.9078, 4299,    102.0,   1.6687,  33.1855,2,  33.1882,2,    284.0,2,    51.63,2,    28.61,2,     0.01,2,     2.18,2,   -999.0,9,   -999.0,9,-999.0000,9,  -999.00,     1952
  49UP20110912,RF1109,  4183,  1,     29,  22102,2,20110925,1902, 40.9867, 146.9078, 4299,    126.5,   1.6354,  33.2469,2,-999.0000,9,    263.4,2,    56.38,2,    30.00,2,     0.01,2,     2.26,2,   -999.0,9,   -999.0,9,-999.0000,9,  -999.00,     1950
  49UP20110912,RF1109,  4183,  1,     26,  22099,3,20110925,1902, 40.9867, 146.9078, 4299,    152.6,   1.7989,  33.3438,2,-999.0000,9,    232.9,2,    62.96,2,    31.64,2,     0.01,2,     2.37,2,   -999.0,9,   -999.0,9,-999.0000,9,  -999.00,     1949
  49UP20110912,RF1109,  4183,  1,     25,  22098,2,20110925,1902, 40.9867, 146.9078, 4299,    203.3,   2.0966,  33.4780,2,  33.4888,4,    182.4,2,    73.36,2,    34.63,2,     0.01,2,     2.55,2,   -999.0,9,   -999.0,9,-999.0000,9,  -999.00,     1947
  49UP20110912,RF1109,  4183,  1,     24,  22097,2,20110925,1902, 40.9867, 146.9078, 4299,    251.0,   2.4524,  33.5940,2,-999.0000,9,    144.8,2,    80.86,2,    37.12,2,     0.01,2,     2.70,2,   -999.0,9,   -999.0,9,-999.0000,9,  -999.00,     1945
  49UP20110912,RF1109,  4183,  1,     21,  22094,2,20110925,1902, 40.9867, 146.9078, 4299,    302.6,   2.5778,  33.6901,2,-999.0000,9,    119.4,2,    89.51,2,    38.58,2,     0.01,2,     2.79,2,   -999.0,9,   -999.0,9,-999.0000,9,  -999.00,     1943
  49UP20110912,RF1109,  4183,  1,     20,  22093,2,20110925,1902, 40.9867, 146.9078, 4299,    302.6,   2.5778,  33.6901,2,-999.0000,9,    120.8,6,    89.30,6,    38.47,6,     0.01,6,     2.79,6,   -999.0,9,   -999.0,9,-999.0000,9,  -999.00,     1943
  49UP20110912,RF1109,  4183,  1,     19,  22092,2,20110925,1902, 40.9867, 146.9078, 4299,    405.5,   2.8525,  33.8646,2,  33.8630,2,     83.1,2,   102.28,2,    40.58,2,     0.01,2,     2.91,2,   -999.0,9,   -999.0,9,-999.0000,9,  -999.00,     1940
  49UP20110912,RF1109,  4183,  1,     17,  22090,2,20110925,1902, 40.9867, 146.9078, 4299,    505.5,   3.1262,  34.0153,2,-999.0000,9,     48.7,2,   113.52,2,    42.73,2,     0.01,2,     3.04,2,   -999.0,9,   -999.0,9,-999.0000,9,  -999.00,     1937
  49UP20110912,RF1109,  4183,  1,     16,  22089,2,20110925,1902, 40.9867, 146.9078, 4299,    606.1,   3.2102,  34.1530,2,  34.1523,2,     29.5,2,   124.42,2,    43.70,2,     0.01,2,     3.09,2,   -999.0,9,   -999.0,9,-999.0000,9,  -999.00,     1935
  49UP20110912,RF1109,  4183,  1,     15,  22088,2,20110925,1902, 40.9867, 146.9078, 4299,    708.0,   3.0512,  34.2290,2,-999.0000,9,     29.2,2,   133.02,2,    43.58,2,     0.00,2,     3.09,2,   -999.0,9,   -999.0,9,-999.0000,9,  -999.00,     1932
  49UP20110912,RF1109,  4183,  1,     13,  22086,2,20110925,1902, 40.9867, 146.9078, 4299,    809.6,   3.0029,  34.3076,2,  34.3052,2,     33.3,2,   137.25,2,    42.97,2,     0.00,2,     3.05,2,   -999.0,9,   -999.0,9,-999.0000,9,  -999.00,     1929
  49UP20110912,RF1109,  4183,  1,     12,  22074,2,20110925,1902, 40.9867, 146.9078, 4299,    909.8,   2.7431,  34.3426,2,-999.0000,9,     31.1,2,   145.62,2,    43.28,2,     0.00,2,     3.07,2,   -999.0,9,   -999.0,9,-999.0000,9,  -999.00,     1927
  49UP20110912,RF1109,  4183,  1,     11,  22110,2,20110925,1902, 40.9867, 146.9078, 4299,   1010.5,   2.6294,  34.3811,2,  34.3807,2,     32.5,2,   150.17,2,    43.37,2,     0.00,2,     3.08,2,   -999.0,9,   -999.0,9,-999.0000,9,  -999.00,     1924
  49UP20110912,RF1109,  4183,  1,      8,  22081,2,20110925,1902, 40.9867, 146.9078, 4299,   1214.4,   2.4168,  34.4430,2,  34.4420,2,     39.1,2,   156.60,2,    42.97,2,     0.00,2,     3.05,2,   -999.0,9,   -999.0,9,-999.0000,9,  -999.00,     1919
  49UP20110912,RF1109,  4183,  1,      7,  22080,2,20110925,1902, 40.9867, 146.9078, 4299,   1419.8,   2.3124,  34.5059,2,  34.5057,2,     46.3,2,   158.28,2,    42.58,2,     0.00,2,     3.01,2,   -999.0,9,   -999.0,9,-999.0000,9,  -999.00,     1915
  49UP20110912,RF1109,  4183,  1,      6,  22079,2,20110925,1902, 40.9867, 146.9078, 4299,   1621.1,   2.1686,  34.5451,2,  34.5453,2,     55.2,2,   160.56,2,    42.22,2,     0.00,2,     2.97,2,   -999.0,9,   -999.0,9,-999.0000,9,  -999.00,     1911
  49UP20110912,RF1109,  4183,  1,      3,  22076,2,20110925,1902, 40.9867, 146.9078, 4299,   1822.9,   2.0297,  34.5756,2,  34.5763,2,     66.1,2,   161.59,2,    41.67,2,     0.00,2,     2.92,2,   -999.0,9,   -999.0,9,-999.0000,9,  -999.00,     1906
  49UP20110912,RF1109,  4183,  1,      2,  22075,2,20110925,1902, 40.9867, 146.9078, 4299,   1822.9,   2.0297,  34.5756,2,  34.5765,6,     66.2,6,   161.64,6,    41.63,6,     0.00,6,     2.93,6,   -999.0,9,   -999.0,9,-999.0000,9,  -999.00,     1906
  49UP20110912,RF1109,  4183,  1,      1,  22112,2,20110925,1902, 40.9867, 146.9078, 4299,   2026.2,   1.9096,  34.5985,2,  34.5993,2,     77.9,2,   162.19,2,    40.85,2,     0.00,2,     2.88,2,   -999.0,9,   -999.0,9,-999.0000,9,  -999.00,     1902
  49UP20110912,RF1109,  4185,  1,     99,     99,2,20110926,0230, 41.6503, 146.4638, 6205,      0.0,  16.7873,  33.9290,2,-999.0000,9,    250.2,2,     3.28,2,     1.07,2,     0.06,2,     0.18,2,   -999.0,9,   -999.0,9,-999.0000,9,  -999.00,      308
  49UP20110912,RF1109,  4185,  1,     35,  22108,2,20110926,0230, 41.6503, 146.4638, 6205,     11.6,  16.7197,  33.9268,2,-999.0000,9,    251.1,2,     3.10,2,     0.99,2,     0.06,2,     0.17,2,   1998.8,2,   2257.5,3,   7.9922,2,    25.00,      324
  49UP20110912,RF1109,  4185,  1,     34,  22107,2,20110926,0230, 41.6503, 146.4638, 6205,     26.6,  16.6045,  33.9177,2,-999.0000,9,    249.1,2,     3.23,2,     1.20,2,     0.07,2,     0.19,2,   2000.2,2,   2256.9,2,   7.9846,2,    25.00,      322
  49UP20110912,RF1109,  4185,  1,     33,  22106,2,20110926,0230, 41.6503, 146.4638, 6205,     51.0,  12.2234,  33.8097,2,-999.0000,9,    246.1,2,    10.85,2,     7.68,2,     0.16,2,     0.64,2,   2063.5,2,   2258.8,2,   7.8608,2,    25.00,      319
  49UP20110912,RF1109,  4185,  1,     31,  22104,2,20110926,0230, 41.6503, 146.4638, 6205,     77.2,   9.7303,  34.0229,2,-999.0000,9,    234.3,2,    14.95,2,    11.57,2,     0.03,2,     0.84,2,   2093.3,2,   2263.7,2,   7.8087,2,    25.00,      317
  49UP20110912,RF1109,  4185,  1,     30,  22103,2,20110926,0230, 41.6503, 146.4638, 6205,    105.0,   8.9186,  33.9394,2,-999.0000,9,    245.6,2,    17.14,2,    12.45,2,     0.02,2,     0.92,2,   2099.1,2,   2262.9,2,   7.7947,2,    25.00,      316
  49UP20110912,RF1109,  4185,  1,     29,  22102,2,20110926,0230, 41.6503, 146.4638, 6205,    127.1,   7.5231,  33.7649,2,-999.0000,9,    251.0,2,    20.04,2,    13.68,2,     0.01,2,     1.04,2,   2110.8,2,   2257.5,2,   7.7598,2,    25.00,      315
  49UP20110912,RF1109,  4185,  1,     26,  22099,2,20110926,0230, 41.6503, 146.4638, 6205,    152.0,   7.0008,  33.7337,2,-999.0000,9,    248.5,2,    23.57,2,    15.37,2,     0.02,2,     1.16,2,   2124.5,2,   2257.2,2,   7.7276,2,    25.00,      314
  49UP20110912,RF1109,  4185,  1,     25,  22098,2,20110926,0230, 41.6503, 146.4638, 6205,    202.7,   4.7420,  33.5338,2,-999.0000,9,    247.7,2,    36.63,2,    20.91,2,     0.01,2,     1.60,2,   2153.7,2,   2259.5,2,   7.6208,2,    25.00,      312
  49UP20110912,RF1109,  4185,  1,     22,  22095,2,20110926,0230, 41.6503, 146.4638, 6205,    254.6,   3.1922,  33.4558,2,-999.0000,9,    238.5,2,    50.19,2,    25.99,2,     0.00,2,     1.98,2,   2187.0,2,   2261.3,2,   7.5512,2,    25.00,      311
  49UP20110912,RF1109,  4185,  1,     21,  22094,2,20110926,0230, 41.6503, 146.4638, 6205,    254.6,   3.1922,  33.4558,2,-999.0000,9,    238.6,6,    50.15,6,    25.94,6,     0.00,6,     1.98,6,   2186.8,2,   2258.8,2,   7.5486,2,    25.00,      311
  49UP20110912,RF1109,  4185,  1,     20,  22093,2,20110926,0230, 41.6503, 146.4638, 6205,    302.7,   2.9881,  33.5082,2,-999.0000,9,    216.1,2,    57.86,2,    28.84,2,     0.00,2,     2.17,2,   2218.3,2,   2267.1,2,   7.4981,2,    25.00,      309
  49UP20110912,RF1109,  4185,  1,     19,  22092,2,20110926,0230, 41.6503, 146.4638, 6205,    405.1,   2.4823,  33.6088,2,-999.0000,9,    159.3,2,    79.46,2,    34.92,2,     0.00,2,     2.58,2,   2262.4,2,   2280.6,2,   7.4010,2,    25.00,      307
  49UP20110912,RF1109,  4185,  1,     17,  22090,2,20110926,0230, 41.6503, 146.4638, 6205,    506.1,   3.2510,  33.8339,2,-999.0000,9,    102.4,2,    91.46,2,    38.26,2,     0.00,2,     2.76,2,   2298.1,2,   2297.9,2,   7.3331,2,    25.00,      304
  49UP20110912,RF1109,  4185,  1,     16,  22089,2,20110926,0230, 41.6503, 146.4638, 6205,    607.1,   3.3366,  33.9745,2,-999.0000,9,     60.4,2,   105.81,2,    41.35,2,     0.00,2,     2.96,2,   2328.6,2,   2317.4,2,   7.2986,2,    25.00,      302
  49UP20110912,RF1109,  4185,  1,     15,  22088,2,20110926,0230, 41.6503, 146.4638, 6205,    708.4,   3.1906,  34.0772,2,-999.0000,9,     39.3,2,   119.50,2,    42.95,2,     0.00,2,     3.05,2,   2352.2,2,   2331.1,2,   7.2687,2,    25.00,      259
  49UP20110912,RF1109,  4185,  1,     13,  22086,2,20110926,0230, 41.6503, 146.4638, 6205,    809.1,   3.4575,  34.2276,2,-999.0000,9,     39.9,2,   123.46,2,    42.01,2,     0.00,2,     2.99,2,   2365.5,3,   2347.5,6,   7.3101,2,    25.00,      257
  49UP20110912,RF1109,  4185,  1,     12,  22074,2,20110926,0230, 41.6503, 146.4638, 6205,    909.2,   3.2369,  34.2816,2,-999.0000,9,     36.9,2,   131.59,2,    42.30,2,     0.00,2,     3.01,2,   2364.8,2,   2359.3,2,   7.3135,6,    25.00,      254
  49UP20110912,RF1109,  4185,  1,     11,  22110,2,20110926,0230, 41.6503, 146.4638, 6205,   1011.7,   3.0110,  34.3297,2,-999.0000,9,     36.0,2,   138.80,2,    42.60,2,     0.00,2,     3.03,2,   2373.9,2,   2366.4,2,   7.3181,2,    25.00,      251
  49UP20110912,RF1109,  4185,  1,      9,  22082,3,20110926,0230, 41.6503, 146.4638, 6205,   1216.3,   2.6381,  34.4007,2,-999.0000,9,     33.7,2,   151.71,2,    43.01,2,     0.00,2,     3.05,2,   2386.8,2,   2378.0,2,   7.3171,2,    25.00,      247
  49UP20110912,RF1109,  4185,  1,      8,  22081,2,20110926,0230, 41.6503, 146.4638, 6205,   1415.8,   2.4100,  34.4682,2,-999.0000,9,     41.3,2,   158.03,2,    42.75,2,     0.00,2,     3.02,2,   2388.3,2,   2391.2,2,   7.3444,2,    25.00,      243
  49UP20110912,RF1109,  4185,  1,      7,  22080,2,20110926,0230, 41.6503, 146.4638, 6205,   1619.4,   2.2989,  34.5171,2,-999.0000,9,     48.9,2,   160.08,2,    42.42,2,     0.00,2,     3.00,2,   2386.7,6,   2398.2,6,   7.3662,2,    25.00,      238
  49UP20110912,RF1109,  4185,  1,      6,  22079,2,20110926,0230, 41.6503, 146.4638, 6205,   1619.4,   2.2989,  34.5171,2,-999.0000,9,     48.7,6,   160.18,6,    42.46,6,     0.00,6,     3.00,6,   2387.7,2,   2401.6,2,   7.3657,6,    25.00,      238
  49UP20110912,RF1109,  4185,  1,      3,  22076,2,20110926,0230, 41.6503, 146.4638, 6205,   1822.0,   2.1398,  34.5544,2,-999.0000,9,     58.1,2,   162.48,2,    41.98,2,     0.00,2,     2.95,2,   2384.8,2,   2407.3,2,   7.3882,2,    25.00,      234
  49UP20110912,RF1109,  4185,  1,      2,  22075,2,20110926,0230, 41.6503, 146.4638, 6205,   2026.9,   2.0076,  34.5814,2,-999.0000,9,     70.1,2,   163.42,2,    41.29,2,     0.00,2,     2.89,2,   2380.4,2,   2409.6,2,   7.4074,2,    25.00,      230
  49UP20110912,RF1109,  4186,  1,     99,     99,2,20110926,0630, 41.9913, 146.2163, 6001,      0.0,  15.9258,  33.5193,2,-999.0000,9,    262.7,2,     3.38,2,     0.28,2,     0.03,2,     0.18,2,   -999.0,9,   -999.0,9,-999.0000,9,  -999.00,      710
  49UP20110912,RF1109,  4186,  1,     35,  22108,2,20110926,0630, 41.9913, 146.2163, 6001,     11.6,  15.2084,  33.4953,2,  33.4930,2,    267.7,2,     3.83,2,     0.65,2,     0.05,2,     0.22,2,   -999.0,9,   -999.0,9,-999.0000,9,  -999.00,      727
  49UP20110912,RF1109,  4186,  1,     34,  22107,2,20110926,0630, 41.9913, 146.2163, 6001,     26.3,  14.6867,  33.5138,2,-999.0000,9,    264.9,2,     5.28,2,     1.67,2,     0.08,2,     0.28,2,   -999.0,9,   -999.0,9,-999.0000,9,  -999.00,      726
  49UP20110912,RF1109,  4186,  1,     33,  22106,2,20110926,0630, 41.9913, 146.2163, 6001,     50.4,  13.8334,  33.4388,2,-999.0000,9,    257.5,2,     7.86,2,     3.63,2,     0.15,2,     0.44,2,   -999.0,9,   -999.0,9,-999.0000,9,  -999.00,      721
  49UP20110912,RF1109,  4186,  1,     31,  22104,2,20110926,0630, 41.9913, 146.2163, 6001,     76.5,   6.8709,  33.3319,2,-999.0000,9,    257.3,2,    32.56,2,    17.07,2,     0.05,2,     1.39,2,   -999.0,9,   -999.0,9,-999.0000,9,  -999.00,      720
  49UP20110912,RF1109,  4186,  1,     30,  22103,2,20110926,0630, 41.9913, 146.2163, 6001,    101.7,   5.1240,  33.3331,2,  33.3256,4,    254.8,2,    39.49,2,    20.56,2,     0.02,2,     1.64,2,   -999.0,9,   -999.0,9,-999.0000,9,  -999.00,      718
  49UP20110912,RF1109,  4186,  1,     29,  22102,2,20110926,0630, 41.9913, 146.2163, 6001,    127.0,   4.5448,  33.4301,2,-999.0000,9,    255.8,2,    36.62,2,    20.61,2,     0.02,2,     1.60,2,   -999.0,9,   -999.0,9,-999.0000,9,  -999.00,      717
  49UP20110912,RF1109,  4186,  1,     26,  22099,2,20110926,0630, 41.9913, 146.2163, 6001,    152.4,   3.8446,  33.4079,2,-999.0000,9,    253.3,2,    43.87,2,    23.68,2,     0.03,2,     1.83,2,   -999.0,9,   -999.0,9,-999.0000,9,  -999.00,      716
  49UP20110912,RF1109,  4186,  1,     25,  22098,2,20110926,0630, 41.9913, 146.2163, 6001,    201.5,   2.4156,  33.3672,2,-999.0000,9,    238.9,2,    56.95,2,    28.26,2,     0.01,2,     2.15,2,   -999.0,9,   -999.0,9,-999.0000,9,  -999.00,      714
  49UP20110912,RF1109,  4186,  1,     24,  22097,2,20110926,0630, 41.9913, 146.2163, 6001,    201.5,   2.4156,  33.3672,2,  33.3608,4,    239.9,6,    56.88,6,    28.21,6,     0.01,6,     2.16,6,   -999.0,9,   -999.0,9,-999.0000,9,  -999.00,      714
  49UP20110912,RF1109,  4186,  1,     21,  22094,2,20110926,0630, 41.9913, 146.2163, 6001,    252.0,   1.9774,  33.4055,2,-999.0000,9,    211.6,2,    68.23,2,    32.06,2,     0.01,2,     2.41,2,   -999.0,9,   -999.0,9,-999.0000,9,  -999.00,      712
  49UP20110912,RF1109,  4186,  1,     20,  22093,2,20110926,0630, 41.9913, 146.2163, 6001,    303.2,   2.9591,  33.5858,2,-999.0000,9,    183.4,2,    67.49,2,    31.97,2,     0.01,2,     2.37,2,   -999.0,9,   -999.0,9,-999.0000,9,  -999.00,      710
  49UP20110912,RF1109,  4186,  1,     19,  22092,2,20110926,0630, 41.9913, 146.2163, 6001,    404.6,   2.9033,  33.7100,2,   0.0000,4,    132.1,2,    84.21,2,    36.68,2,     0.01,2,     2.68,2,   -999.0,9,   -999.0,9,-999.0000,9,  -999.00,      706
  49UP20110912,RF1109,  4186,  1,     17,  22090,2,20110926,0630, 41.9913, 146.2163, 6001,    505.9,   3.1309,  33.8624,2,-999.0000,9,     84.4,2,    98.24,2,    40.15,2,     0.01,2,     2.89,2,   -999.0,9,   -999.0,9,-999.0000,9,  -999.00,      704
  49UP20110912,RF1109,  4186,  1,     16,  22089,2,20110926,0630, 41.9913, 146.2163, 6001,    607.8,   3.4405,  34.0155,2,  34.0160,2,     56.3,2,   108.19,2,    41.59,2,     0.01,2,     2.97,2,   -999.0,9,   -999.0,9,-999.0000,9,  -999.00,      701
  49UP20110912,RF1109,  4186,  1,     15,  22088,2,20110926,0630, 41.9913, 146.2163, 6001,    707.8,   3.2475,  34.1036,2,-999.0000,9,     39.7,2,   120.19,2,    43.02,2,     0.01,2,     3.05,2,   -999.0,9,   -999.0,9,-999.0000,9,  -999.00,      658
  49UP20110912,RF1109,  4186,  1,     13,  22086,2,20110926,0630, 41.9913, 146.2163, 6001,    809.6,   3.3061,  34.2066,2,  34.2061,2,     36.2,2,   126.46,2,    42.71,2,     0.01,2,     3.03,2,   -999.0,9,   -999.0,9,-999.0000,9,  -999.00,      656
  49UP20110912,RF1109,  4186,  1,     12,  22074,2,20110926,0630, 41.9913, 146.2163, 6001,    910.0,   3.0065,  34.2590,2,-999.0000,9,     30.1,2,   137.03,2,    43.44,2,     0.01,2,     3.08,2,   -999.0,9,   -999.0,9,-999.0000,9,  -999.00,      653
  49UP20110912,RF1109,  4186,  1,     11,  22110,2,20110926,0630, 41.9913, 146.2163, 6001,   1012.0,   2.8986,  34.3343,2,  34.3339,2,     33.9,2,   142.86,2,    43.10,2,     0.01,2,     3.07,2,   -999.0,9,   -999.0,9,-999.0000,9,  -999.00,      651
  49UP20110912,RF1109,  4186,  1,      8,  22081,2,20110926,0630, 41.9913, 146.2163, 6001,   1214.4,   2.6638,  34.3999,2,  34.4004,2,   -999.0,5,   150.86,2,    43.06,2,     0.00,2,     3.05,2,   -999.0,9,   -999.0,9,-999.0000,9,  -999.00,      646
  49UP20110912,RF1109,  4186,  1,      7,  22080,2,20110926,0630, 41.9913, 146.2163, 6001,   1417.9,   2.5059,  34.4676,2,-999.0000,9,     41.4,2,   155.32,2,    42.87,2,     0.00,2,     3.03,2,   -999.0,9,   -999.0,9,-999.0000,9,  -999.00,      642
  49UP20110912,RF1109,  4186,  1,      6,  22079,2,20110926,0630, 41.9913, 146.2163, 6001,   1417.9,   2.5059,  34.4676,2,  34.4678,6,     41.9,6,   155.41,6,    42.90,6,     0.01,6,     3.04,6,   -999.0,9,   -999.0,9,-999.0000,9,  -999.00,      642
  49UP20110912,RF1109,  4186,  1,      3,  22076,2,20110926,0630, 41.9913, 146.2163, 6001,   1620.1,   2.3430,  34.5170,2,  34.5167,2,     48.3,2,   158.84,2,    42.68,2,     0.00,2,     3.01,2,   -999.0,9,   -999.0,9,-999.0000,9,  -999.00,      638
  49UP20110912,RF1109,  4186,  1,      2,  22075,2,20110926,0630, 41.9913, 146.2163, 6001,   1823.5,   2.1682,  34.5468,2,  34.5474,2,     56.0,2,   162.74,2,    42.16,2,     0.00,2,     2.97,2,   -999.0,9,   -999.0,9,-999.0000,9,  -999.00,      634
  49UP20110912,RF1109,  4186,  1,      1,  22112,2,20110926,0630, 41.9913, 146.2163, 6001,   2027.3,   2.0400,  34.5763,2,  34.5768,2,     67.6,2,   163.09,2,    41.61,2,     0.00,2,     2.91,2,   -999.0,9,   -999.0,9,-999.0000,9,  -999.00,      630