BOTTLE,20200204PRINUNIVRMK
# 08/30/2019 Initialized README file  
# Data source:  Masao Ishii 2018/11/30 
# SHIP: R/V Ryofu Maru III 
# Cruise: rf201109 
# Region: North Pacific Ocean 
# EXPOCODE: 49UP20110912 
# DATES: 20110912-20110929 
# Chief Scientist: Satoshi Kawae 
# 23 stations with 36 place Rosette 
# CTD: Who - Hitomi Kamiya; Status - final 
# 	Includes: CTDSAL 
# SALNTY: Who - Hitomi Kamiya; Status - final 
# 	Notes: 	 
# Nutrients: Who - Hitomi Kamiya; Status - final 
# 	Includes: nitrate, nitrite, silicate, phosphate 
# 	Nitrite and NO3+NO2 reported. Separated by subtraction 
# OXYGEN: Who - Hitomi Kamiya; Status - final 
# 	Notes: 
# TCARBN: Who - Hitomi Kamiya; Status - final 
# 	Notes:  
# ALKALI: Who - Hitomi Kamiya; Status - final 
# 	Notes:  
# PH: Who - Hitomi Kamiya; Status - final 
# 	Notes: total H+ scale at 25C 
# These data should be cited as:               
# References that have used data from this cruise: 
EXPOCODE,SECT_ID,STNNBR,CASTNO,SAMPNO,BTLNBR,BTLNBR_FLAG_W,DATE,TIME,LATITUDE,LONGITUDE,DEPTH,CTDPRS,CTDTMP,CTDSAL,CTDSAL_FLAG_W,SALNTY,SALNTY_FLAG_W,OXYGEN,OXYGEN_FLAG_W,SILCAT,SILCAT_FLAG_W,NITRAT,NITRAT_FLAG_W,NITRIT,NITRIT_FLAG_W,PHSPHT,PHSPHT_FLAG_W,TCARBN,TCARBN_FLAG_W,ALKALI,ALKALI_FLAG_W,PH_TOT,PH_TOT_FLAG_W,PH_TMP,BTL_TIME
,,,,,,,,,,,METERS,DBAR,ITS-90,PSS-78,,PSS-78,,UMOL/KG,,UMOL/KG,,UMOL/KG,,UMOL/KG,,UMOL/KG,,UMOL/KG,,UMOL/KG,,,,DEG C,
  49UP20110912,RF1109,  4137,  1,     99,     99,2,20110912,1526, 34.9658, 140.2478, 1608,      0.0,  27.2542,  32.9238,2,-999.0000,9,    208.2,2,     5.24,2,     0.01,2,     0.00,2,     0.10,3,   -999.0,9,   -999.0,9,-999.0000,9,  -999.00,     1610
  49UP20110912,RF1109,  4137,  1,     36,  22109,2,20110912,1526, 34.9658, 140.2478, 1608,     11.4,  26.6023,  33.6278,2,  33.6127,4,    208.7,2,     3.34,2,     0.00,2,     0.00,2,     0.07,3,   -999.0,9,   -999.0,9,-999.0000,9,  -999.00,     1649
  49UP20110912,RF1109,  4137,  1,     35,  22108,2,20110912,1526, 34.9658, 140.2478, 1608,     26.7,  25.8895,  33.7218,2,-999.0000,9,    209.7,2,     3.67,2,     0.00,2,     0.00,2,     0.07,3,   -999.0,9,   -999.0,9,-999.0000,9,  -999.00,     1647
  49UP20110912,RF1109,  4137,  1,     34,  22107,2,20110912,1526, 34.9658, 140.2478, 1608,     52.5,  22.1147,  34.2818,2,-999.0000,9,    191.2,2,     6.39,2,     3.19,2,     0.40,2,     0.28,3,   -999.0,9,   -999.0,9,-999.0000,9,  -999.00,     1646
  49UP20110912,RF1109,  4137,  1,     32,  22105,2,20110912,1526, 34.9658, 140.2478, 1608,     76.2,  18.3493,  34.4238,2,-999.0000,9,    177.0,2,    13.01,2,     7.92,2,     0.27,2,     0.60,3,   -999.0,9,   -999.0,9,-999.0000,9,  -999.00,     1644
  49UP20110912,RF1109,  4137,  1,     31,  22104,2,20110912,1526, 34.9658, 140.2478, 1608,    102.5,  14.9827,  34.4861,2,  34.4844,2,    163.5,2,    21.11,2,    12.81,2,     0.09,2,     0.92,3,   -999.0,9,   -999.0,9,-999.0000,9,  -999.00,     1642
  49UP20110912,RF1109,  4137,  1,     30,  22103,2,20110912,1526, 34.9658, 140.2478, 1608,    127.7,  12.7870,  34.4479,2,-999.0000,9,    153.5,2,    29.59,2,    16.96,2,     0.02,2,     1.21,3,   -999.0,9,   -999.0,9,-999.0000,9,  -999.00,     1638
  49UP20110912,RF1109,  4137,  1,     28,  22101,2,20110912,1526, 34.9658, 140.2478, 1608,    153.8,  11.9289,  34.4176,2,-999.0000,9,    149.6,2,    32.85,2,    18.59,2,     0.01,2,     1.33,3,   -999.0,9,   -999.0,9,-999.0000,9,  -999.00,     1636
  49UP20110912,RF1109,  4137,  1,     27,  22100,2,20110912,1526, 34.9658, 140.2478, 1608,    204.0,  11.0974,  34.3849,2,  34.3861,2,    146.4,2,    36.24,2,    20.14,2,     0.01,2,     1.44,3,   -999.0,9,   -999.0,9,-999.0000,9,  -999.00,     1631
  49UP20110912,RF1109,  4137,  1,     26,  22099,2,20110912,1526, 34.9658, 140.2478, 1608,    254.7,  10.0619,  34.3438,2,-999.0000,9,    138.2,2,    42.33,2,    22.48,2,     0.02,2,     1.60,3,   -999.0,9,   -999.0,9,-999.0000,9,  -999.00,     1628
  49UP20110912,RF1109,  4137,  1,     23,  22096,2,20110912,1526, 34.9658, 140.2478, 1608,    304.5,   9.1728,  34.3101,2,-999.0000,9,    131.0,2,    48.75,2,    24.62,2,     0.01,2,     1.76,3,   -999.0,9,   -999.0,9,-999.0000,9,  -999.00,     1623
  49UP20110912,RF1109,  4137,  1,     22,  22095,2,20110912,1526, 34.9658, 140.2478, 1608,    406.2,   7.3524,  34.2632,2,  34.2633,2,    112.3,2,    65.42,2,    29.52,3,     0.01,2,     2.11,3,   -999.0,9,   -999.0,9,-999.0000,9,  -999.00,     1618
  49UP20110912,RF1109,  4137,  1,     21,  22094,2,20110912,1526, 34.9658, 140.2478, 1608,    406.2,   7.3524,  34.2632,2,  34.2634,6,    111.2,6,    65.32,6,    29.61,2,     0.01,6,     2.12,3,   -999.0,9,   -999.0,9,-999.0000,9,  -999.00,     1618
  49UP20110912,RF1109,  4137,  1,     18,  22091,2,20110912,1526, 34.9658, 140.2478, 1608,    507.8,   5.6623,  34.2649,2,-999.0000,9,     87.1,2,    85.76,2,    34.55,2,     0.00,2,     2.47,3,   -999.0,9,   -999.0,9,-999.0000,9,  -999.00,     1613
  49UP20110912,RF1109,  4137,  1,     17,  22090,3,20110912,1526, 34.9658, 140.2478, 1608,    608.0,   4.8290,  34.3037,2,  34.3013,2,     79.2,2,    99.49,2,    37.09,2,     0.00,2,     2.65,3,   -999.0,9,   -999.0,9,-999.0000,9,  -999.00,     1609
  49UP20110912,RF1109,  4137,  1,     16,  22089,2,20110912,1526, 34.9658, 140.2478, 1608,    709.4,   4.2856,  34.3272,2,-999.0000,9,     66.3,2,   109.12,2,    38.60,2,     0.00,2,     2.74,3,   -999.0,9,   -999.0,9,-999.0000,9,  -999.00,     1604
  49UP20110912,RF1109,  4137,  1,     14,  22087,2,20110912,1526, 34.9658, 140.2478, 1608,    811.0,   3.7655,  34.3626,2,  34.3621,2,     58.2,2,   120.42,2,    39.80,2,     0.00,2,     2.84,3,   -999.0,9,   -999.0,9,-999.0000,9,  -999.00,     1600
  49UP20110912,RF1109,  4137,  1,     13,  22086,2,20110912,1526, 34.9658, 140.2478, 1608,    911.4,   3.6029,  34.3738,2,-999.0000,9,     57.6,2,   121.97,2,    40.01,2,     0.00,2,     2.83,3,   -999.0,9,   -999.0,9,-999.0000,9,  -999.00,     1556
  49UP20110912,RF1109,  4137,  1,     12,  22074,2,20110912,1526, 34.9658, 140.2478, 1608,   1014.7,   3.2950,  34.4021,2,  34.4016,2,     53.4,2,   131.29,2,    40.81,2,     0.00,2,     2.90,3,   -999.0,9,   -999.0,9,-999.0000,9,  -999.00,     1551
  49UP20110912,RF1109,  4137,  1,     10,  22083,2,20110912,1526, 34.9658, 140.2478, 1608,   1218.6,   2.8162,  34.4585,2,  34.4575,2,     52.0,2,   143.39,2,    41.43,3,     0.00,2,     2.93,3,   -999.0,9,   -999.0,9,-999.0000,9,  -999.00,     1544
  49UP20110912,RF1109,  4137,  1,      9,  22082,2,20110912,1526, 34.9658, 140.2478, 1608,   1416.1,   2.5564,  34.4966,2,  34.4966,2,     56.7,2,   149.74,2,    41.48,2,     0.00,2,     2.92,3,   -999.0,9,   -999.0,9,-999.0000,9,  -999.00,     1539
  49UP20110912,RF1109,  4137,  1,      8,  22081,2,20110912,1526, 34.9658, 140.2478, 1608,   1615.0,   2.2176,  34.5463,2,  34.5470,2,     65.2,2,   156.49,2,    41.13,2,     0.00,2,     2.91,3,   -999.0,9,   -999.0,9,-999.0000,9,  -999.00,     1534
  49UP20110912,RF1109,  4137,  1,      5,  22078,2,20110912,1526, 34.9658, 140.2478, 1608,   1815.8,   2.0331,  34.5773,2,  34.5765,2,     76.6,2,   158.35,2,    40.67,2,     0.00,2,     2.85,3,   -999.0,9,   -999.0,9,-999.0000,9,  -999.00,     1530
  49UP20110912,RF1109,  4137,  1,      4,  22077,2,20110912,1526, 34.9658, 140.2478, 1608,   1985.3,   1.9519,  34.5919,2,  34.5916,2,     82.7,2,   158.36,2,    40.21,2,     0.00,2,     2.83,3,   -999.0,9,   -999.0,9,-999.0000,9,  -999.00,     1526
  49UP20110912,RF1109,  4137,  1,      3,  22076,2,20110912,1526, 34.9658, 140.2478, 1608,   1985.3,   1.9519,  34.5919,2,  34.5920,6,     82.6,6,   159.30,4,    40.24,4,     0.00,4,     2.83,4,   -999.0,9,   -999.0,9,-999.0000,9,  -999.00,     1526
  49UP20110912,RF1109,  4140,  1,     99,     99,2,20110913,0439, 34.2395, 140.9958, 4787,      0.0,  28.2768,  34.4649,2,-999.0000,9,    200.2,2,     1.68,2,     0.00,2,     0.00,2,     0.08,3,   -999.0,9,   -999.0,9,-999.0000,9,  -999.00,      530
  49UP20110912,RF1109,  4140,  1,     36,  22109,2,20110913,0439, 34.2395, 140.9958, 4787,     11.3,  27.8708,  34.4568,2,-999.0000,9,    201.5,2,     1.63,2,     0.00,2,     0.00,2,     0.03,3,   -999.0,9,   -999.0,9,-999.0000,9,  -999.00,      556
  49UP20110912,RF1109,  4140,  1,     35,  22108,2,20110913,0439, 34.2395, 140.9958, 4787,     26.3,  27.3058,  34.5032,2,-999.0000,9,    202.3,2,     1.68,2,     0.00,2,     0.00,2,     0.02,3,   -999.0,9,   -999.0,9,-999.0000,9,  -999.00,      554
  49UP20110912,RF1109,  4140,  1,     34,  22107,2,20110913,0439, 34.2395, 140.9958, 4787,     51.9,  26.6733,  34.5250,2,-999.0000,9,    204.7,2,     1.66,2,     0.00,2,     0.00,2,     0.03,3,   -999.0,9,   -999.0,9,-999.0000,9,  -999.00,      553
  49UP20110912,RF1109,  4140,  1,     32,  22105,2,20110913,0439, 34.2395, 140.9958, 4787,     76.9,  21.5494,  34.7215,2,-999.0000,9,    233.8,2,     1.89,2,     0.00,2,     0.00,2,     0.02,3,   -999.0,9,   -999.0,9,-999.0000,9,  -999.00,      551
  49UP20110912,RF1109,  4140,  1,     31,  22104,2,20110913,0439, 34.2395, 140.9958, 4787,    102.0,  19.8308,  34.7937,2,-999.0000,9,    214.8,2,     2.28,3,     0.48,2,     0.15,2,     0.08,3,   -999.0,9,   -999.0,9,-999.0000,9,  -999.00,      547
  49UP20110912,RF1109,  4140,  1,     30,  22103,2,20110913,0439, 34.2395, 140.9958, 4787,    125.4,  19.2248,  34.7780,2,-999.0000,9,    208.3,2,     2.70,3,     2.00,2,     0.05,2,     0.16,3,   -999.0,9,   -999.0,9,-999.0000,9,  -999.00,      546
  49UP20110912,RF1109,  4140,  1,     28,  22101,2,20110913,0439, 34.2395, 140.9958, 4787,    150.8,  18.6090,  34.7569,2,-999.0000,9,    209.0,2,     3.13,2,     2.81,2,     0.02,2,     0.21,3,   -999.0,9,   -999.0,9,-999.0000,9,  -999.00,      544
  49UP20110912,RF1109,  4140,  1,     27,  22100,2,20110913,0439, 34.2395, 140.9958, 4787,    202.5,  17.8371,  34.7305,2,-999.0000,9,    206.6,2,     3.99,2,     4.04,2,     0.01,2,     0.28,3,   -999.0,9,   -999.0,9,-999.0000,9,  -999.00,      541
  49UP20110912,RF1109,  4140,  1,     26,  22099,2,20110913,0439, 34.2395, 140.9958, 4787,    252.4,  17.3577,  34.7148,2,-999.0000,9,    212.1,2,     4.08,2,     4.06,2,     0.01,2,     0.29,3,   -999.0,9,   -999.0,9,-999.0000,9,  -999.00,      540
  49UP20110912,RF1109,  4140,  1,     23,  22096,2,20110913,0439, 34.2395, 140.9958, 4787,    304.6,  17.0064,  34.7000,2,-999.0000,9,    208.0,2,     5.03,2,     4.97,2,     0.01,2,     0.34,3,   -999.0,9,   -999.0,9,-999.0000,9,  -999.00,      537
  49UP20110912,RF1109,  4140,  1,     22,  22095,2,20110913,0439, 34.2395, 140.9958, 4787,    304.6,  17.0064,  34.7000,2,-999.0000,9,    209.0,6,     5.03,6,     4.95,6,     0.01,6,     0.35,3,   -999.0,9,   -999.0,9,-999.0000,9,  -999.00,      537
  49UP20110912,RF1109,  4140,  1,     21,  22094,2,20110913,0439, 34.2395, 140.9958, 4787,    404.0,  14.8621,  34.5645,2,-999.0000,9,    181.1,2,    12.27,2,    10.88,2,     0.00,2,     0.74,3,   -999.0,9,   -999.0,9,-999.0000,9,  -999.00,      534
  49UP20110912,RF1109,  4140,  1,     18,  22091,2,20110913,0439, 34.2395, 140.9958, 4787,    506.0,  12.0648,  34.3863,2,-999.0000,9,    171.0,2,    23.50,2,    16.29,2,     0.01,2,     1.14,3,   -999.0,9,   -999.0,9,-999.0000,9,  -999.00,      529
  49UP20110912,RF1109,  4140,  1,     17,  22090,2,20110913,0439, 34.2395, 140.9958, 4787,    606.4,   8.3652,  34.1231,2,-999.0000,9,    164.7,2,    41.54,2,    22.80,2,     0.01,2,     1.64,3,   -999.0,9,   -999.0,9,-999.0000,9,  -999.00,      525
  49UP20110912,RF1109,  4140,  1,     16,  22089,2,20110913,0439, 34.2395, 140.9958, 4787,    707.4,   6.0117,  34.0745,2,-999.0000,9,    123.5,2,    67.39,2,    31.13,2,     0.00,2,     2.23,3,   -999.0,9,   -999.0,9,-999.0000,9,  -999.00,      521
  49UP20110912,RF1109,  4140,  1,     14,  22087,2,20110913,0439, 34.2395, 140.9958, 4787,    809.3,   4.9131,  34.1130,2,-999.0000,9,     87.4,2,    86.70,2,    36.24,2,     0.00,2,     2.59,3,   -999.0,9,   -999.0,9,-999.0000,9,  -999.00,      518
  49UP20110912,RF1109,  4140,  1,     13,  22086,2,20110913,0439, 34.2395, 140.9958, 4787,    910.2,   4.7946,  34.2817,2,-999.0000,9,     72.6,2,   100.16,2,    37.37,2,     0.00,2,     2.66,3,   -999.0,9,   -999.0,9,-999.0000,9,  -999.00,      514
  49UP20110912,RF1109,  4140,  1,     12,  22074,2,20110913,0439, 34.2395, 140.9958, 4787,   1011.6,   4.0763,  34.3577,2,-999.0000,9,     65.2,2,   113.92,2,    39.06,2,     0.00,2,     2.77,3,   -999.0,9,   -999.0,9,-999.0000,9,  -999.00,      510
  49UP20110912,RF1109,  4140,  1,     10,  22083,2,20110913,0439, 34.2395, 140.9958, 4787,   1212.7,   3.2317,  34.4358,2,-999.0000,9,     62.0,2,   130.77,2,    40.42,2,     0.00,2,     2.87,3,   -999.0,9,   -999.0,9,-999.0000,9,  -999.00,      504
  49UP20110912,RF1109,  4140,  1,      9,  22082,2,20110913,0439, 34.2395, 140.9958, 4787,   1419.0,   2.6396,  34.4823,2,-999.0000,9,     46.1,2,   149.14,2,    42.38,2,     0.00,2,     2.98,3,   -999.0,9,   -999.0,9,-999.0000,9,  -999.00,      458
  49UP20110912,RF1109,  4140,  1,      8,  22081,2,20110913,0439, 34.2395, 140.9958, 4787,   1617.1,   2.3395,  34.5304,2,-999.0000,9,     55.3,2,   155.86,2,    42.01,2,     0.01,2,     2.96,3,   -999.0,9,   -999.0,9,-999.0000,9,  -999.00,      452
  49UP20110912,RF1109,  4140,  1,      6,  22079,2,20110913,0439, 34.2395, 140.9958, 4787,   1820.9,   2.1014,  34.5705,2,-999.0000,9,     68.5,2,   159.27,2,    41.38,2,     0.00,2,     2.90,3,   -999.0,9,   -999.0,9,-999.0000,9,  -999.00,      446
  49UP20110912,RF1109,  4140,  1,      5,  22078,2,20110913,0439, 34.2395, 140.9958, 4787,   2025.3,   1.9578,  34.5953,2,-999.0000,9,     80.7,2,   159.78,2,    40.61,2,     0.00,2,     2.84,3,   -999.0,9,   -999.0,9,-999.0000,9,  -999.00,      439
  49UP20110912,RF1109,  4140,  1,      4,  22077,2,20110913,0439, 34.2395, 140.9958, 4787,   2025.3,   1.9578,  34.5953,2,-999.0000,9,     80.9,6,   160.03,6,    40.62,6,     0.01,6,     2.84,3,   -999.0,9,   -999.0,9,-999.0000,9,  -999.00,      439