BOTTLE,20200204PRINUNIVRMK
EXPOCODE,SECT_ID,STNNBR,CASTNO,SAMPNO,BTLNBR,BTLNBR_FLAG_W,DATE,TIME,LATITUDE,LONGITUDE,DEPTH,CTDPRS,CTDTMP,CTDSAL,CTDSAL_FLAG_W,SALNTY,SALNTY_FLAG_W,OXYGEN,OXYGEN_FLAG_W,SILCAT,SILCAT_FLAG_W,NITRAT,NITRAT_FLAG_W,NITRIT,NITRIT_FLAG_W,PHSPHT,PHSPHT_FLAG_W,TCARBN,TCARBN_FLAG_W,ALKALI,ALKALI_FLAG_W,PH_TOT,PH_TOT_FLAG_W,PH_TMP,BTL_TIME
,,,,,,,,,,,METERS,DBAR,ITS-90,PSS-78,,PSS-78,,UMOL/KG,,UMOL/KG,,UMOL/KG,,UMOL/KG,,UMOL/KG,,UMOL/KG,,UMOL/KG,,,,DEG C,
  49UP20110912,RF1109,  4155,  1,     99,     99,2,20110916,0955, 29.0050, 147.2043, 6038,      0.0,  27.7663,  34.9579,2,-999.0000,9,    201.5,2,     1.58,2,     0.00,2,     0.00,2,     0.03,2,   -999.0,9,   -999.0,9,-999.0000,9,  -999.00,     1035
  49UP20110912,RF1109,  4155,  1,     36,  22109,2,20110916,0955, 29.0050, 147.2043, 6038,     11.4,  27.7781,  34.9571,2,-999.0000,9,    200.5,2,     1.53,2,     0.00,2,     0.00,2,     0.01,2,   -999.0,9,   -999.0,9,-999.0000,9,  -999.00,     1059
  49UP20110912,RF1109,  4155,  1,     35,  22108,2,20110916,0955, 29.0050, 147.2043, 6038,     26.7,  27.7794,  34.9578,2,-999.0000,9,    200.8,2,     1.53,2,     0.00,2,     0.00,2,     0.01,2,   -999.0,9,   -999.0,9,-999.0000,9,  -999.00,     1058
  49UP20110912,RF1109,  4155,  1,     34,  22107,2,20110916,0955, 29.0050, 147.2043, 6038,     51.7,  25.0100,  34.8121,2,-999.0000,9,    221.1,2,     1.67,2,     0.00,2,     0.00,2,     0.01,2,   -999.0,9,   -999.0,9,-999.0000,9,  -999.00,     1053
  49UP20110912,RF1109,  4155,  1,     32,  22105,2,20110916,0955, 29.0050, 147.2043, 6038,     76.7,  20.9508,  34.8498,2,-999.0000,9,    242.9,2,     1.85,2,     0.00,2,     0.00,2,     0.01,2,   -999.0,9,   -999.0,9,-999.0000,9,  -999.00,     1052
  49UP20110912,RF1109,  4155,  1,     31,  22104,2,20110916,0955, 29.0050, 147.2043, 6038,    100.8,  18.9364,  34.7955,2,-999.0000,9,    228.3,2,     2.04,2,     0.00,2,     0.00,2,     0.03,2,   -999.0,9,   -999.0,9,-999.0000,9,  -999.00,     1050
  49UP20110912,RF1109,  4155,  1,     30,  22103,2,20110916,0955, 29.0050, 147.2043, 6038,    126.5,  18.0264,  34.7348,2,-999.0000,9,    212.1,2,     2.88,2,     2.50,2,     0.07,2,     0.17,2,   -999.0,9,   -999.0,9,-999.0000,9,  -999.00,     1049
  49UP20110912,RF1109,  4155,  1,     27,  22100,2,20110916,0955, 29.0050, 147.2043, 6038,    152.3,  17.7076,  34.7194,2,-999.0000,9,    210.6,2,     3.32,2,     3.54,2,     0.02,2,     0.24,2,   -999.0,9,   -999.0,9,-999.0000,9,  -999.00,     1047
  49UP20110912,RF1109,  4155,  1,     26,  22099,2,20110916,0955, 29.0050, 147.2043, 6038,    202.8,  17.2662,  34.7175,2,-999.0000,9,    216.5,2,     3.86,2,     3.85,2,     0.01,2,     0.25,2,   -999.0,9,   -999.0,9,-999.0000,9,  -999.00,     1045
  49UP20110912,RF1109,  4155,  1,     25,  22098,2,20110916,0955, 29.0050, 147.2043, 6038,    252.9,  17.0816,  34.7162,2,-999.0000,9,    220.9,2,     3.90,2,     3.82,2,     0.01,2,     0.25,2,   -999.0,9,   -999.0,9,-999.0000,9,  -999.00,     1043
  49UP20110912,RF1109,  4155,  1,     22,  22095,2,20110916,0955, 29.0050, 147.2043, 6038,    303.0,  16.8864,  34.6981,2,-999.0000,9,    216.8,2,     4.58,2,     4.53,2,     0.01,2,     0.30,2,   -999.0,9,   -999.0,9,-999.0000,9,  -999.00,     1041
  49UP20110912,RF1109,  4155,  1,     21,  22094,2,20110916,0955, 29.0050, 147.2043, 6038,    404.2,  14.8569,  34.5565,2,-999.0000,9,    195.6,2,    10.77,2,     9.62,2,     0.00,2,     0.64,2,   -999.0,9,   -999.0,9,-999.0000,9,  -999.00,     1038
  49UP20110912,RF1109,  4155,  1,     20,  22093,2,20110916,0955, 29.0050, 147.2043, 6038,    404.2,  14.8569,  34.5565,2,-999.0000,9,    193.9,6,    10.81,6,     9.67,6,     0.00,6,     0.65,6,   -999.0,9,   -999.0,9,-999.0000,9,  -999.00,     1038
  49UP20110912,RF1109,  4155,  1,     18,  22091,2,20110916,0955, 29.0050, 147.2043, 6038,    505.4,  12.0385,  34.3623,2,-999.0000,9,    184.3,2,    20.06,2,    14.85,2,     0.00,2,     1.01,2,   -999.0,9,   -999.0,9,-999.0000,9,  -999.00,     1035
  49UP20110912,RF1109,  4155,  1,     17,  22090,2,20110916,0955, 29.0050, 147.2043, 6038,    605.2,   9.0738,  34.1596,2,-999.0000,9,    169.6,2,    35.48,2,    21.49,2,     0.00,2,     1.50,2,   -999.0,9,   -999.0,9,-999.0000,9,  -999.00,     1031
  49UP20110912,RF1109,  4155,  1,     16,  22089,2,20110916,0955, 29.0050, 147.2043, 6038,    706.9,   6.5100,  34.0209,2,-999.0000,9,    147.2,2,    55.63,2,    28.24,2,     0.00,2,     2.02,2,   -999.0,9,   -999.0,9,-999.0000,9,  -999.00,     1028
  49UP20110912,RF1109,  4155,  1,     14,  22087,2,20110916,0955, 29.0050, 147.2043, 6038,    807.9,   5.0384,  34.0661,2,-999.0000,9,     98.6,2,    80.74,2,    35.34,2,     0.00,2,     2.51,2,   -999.0,9,   -999.0,9,-999.0000,9,  -999.00,     1025
  49UP20110912,RF1109,  4155,  1,     13,  22086,2,20110916,0955, 29.0050, 147.2043, 6038,    909.8,   4.4615,  34.1708,2,-999.0000,9,     64.8,2,    98.22,2,    38.97,2,     0.00,2,     2.75,2,   -999.0,9,   -999.0,9,-999.0000,9,  -999.00,     1022
  49UP20110912,RF1109,  4155,  1,     12,  22074,2,20110916,0955, 29.0050, 147.2043, 6038,   1010.7,   3.9210,  34.2637,2,-999.0000,9,     47.8,2,   113.85,2,    41.10,2,     0.00,2,     2.90,2,   -999.0,9,   -999.0,9,-999.0000,9,  -999.00,     1018
  49UP20110912,RF1109,  4155,  1,      9,  22082,3,20110916,0955, 29.0050, 147.2043, 6038,   1215.2,   3.2527,  34.3725,2,-999.0000,9,     38.8,2,   133.17,2,    42.50,2,     0.00,2,     2.99,2,   -999.0,9,   -999.0,9,-999.0000,9,  -999.00,     1013
  49UP20110912,RF1109,  4155,  1,      8,  22081,2,20110916,0955, 29.0050, 147.2043, 6038,   1419.0,   2.7978,  34.4682,2,-999.0000,9,     42.8,2,   144.84,2,    42.84,2,     0.00,2,     3.00,2,   -999.0,9,   -999.0,9,-999.0000,9,  -999.00,     1008
  49UP20110912,RF1109,  4155,  1,      7,  22080,2,20110916,0955, 29.0050, 147.2043, 6038,   1620.5,   2.4375,  34.5225,2,-999.0000,9,     52.2,2,   153.14,2,    42.44,2,     0.00,2,     2.96,2,   -999.0,9,   -999.0,9,-999.0000,9,  -999.00,     1003
  49UP20110912,RF1109,  4155,  1,      4,  22077,2,20110916,0955, 29.0050, 147.2043, 6038,   1821.3,   2.1937,  34.5655,2,-999.0000,9,     69.7,2,   155.73,2,    41.40,2,     0.00,2,     2.87,2,   -999.0,9,   -999.0,9,-999.0000,9,  -999.00,      959
  49UP20110912,RF1109,  4155,  1,      3,  22076,2,20110916,0955, 29.0050, 147.2043, 6038,   2020.3,   2.0102,  34.5934,2,-999.0000,9,     83.5,2,   156.52,2,    40.64,2,     0.00,2,     2.81,2,   -999.0,9,   -999.0,9,-999.0000,9,  -999.00,      955
  49UP20110912,RF1109,  4155,  1,      2,  22075,2,20110916,0955, 29.0050, 147.2043, 6038,   2020.3,   2.0102,  34.5934,2,-999.0000,9,     84.4,3,   156.88,6,    40.51,6,     0.00,6,     2.81,6,   -999.0,9,   -999.0,9,-999.0000,9,  -999.00,      955
  49UP20110912,RF1109,  4157,  1,     99,     99,2,20110916,1839, 30.0030, 147.4508, 6153,      0.0,  27.3721,  34.5852,2,-999.0000,9,    202.1,2,     1.67,2,     0.00,2,     0.00,2,     0.01,2,   -999.0,9,   -999.0,9,-999.0000,9,  -999.00,     1920
  49UP20110912,RF1109,  4157,  1,     36,  22109,2,20110916,1839, 30.0030, 147.4508, 6153,     11.4,  27.3773,  34.5848,2,-999.0000,9,    202.5,2,     1.71,2,     0.00,2,     0.00,2,     0.00,2,   -999.0,9,   -999.0,9,-999.0000,9,  -999.00,     1942
  49UP20110912,RF1109,  4157,  1,     35,  22108,2,20110916,1839, 30.0030, 147.4508, 6153,     25.8,  27.3726,  34.5863,2,-999.0000,9,    202.4,2,     1.71,2,     0.00,2,     0.00,2,     0.00,2,   -999.0,9,   -999.0,9,-999.0000,9,  -999.00,     1940
  49UP20110912,RF1109,  4157,  1,     34,  22107,2,20110916,1839, 30.0030, 147.4508, 6153,     51.5,  21.0455,  34.8441,2,-999.0000,9,    241.7,2,     1.75,2,     0.00,2,     0.00,2,     0.00,2,   -999.0,9,   -999.0,9,-999.0000,9,  -999.00,     1938
  49UP20110912,RF1109,  4157,  1,     32,  22105,2,20110916,1839, 30.0030, 147.4508, 6153,     76.9,  19.6839,  34.8266,2,-999.0000,9,    233.3,2,     1.81,2,     0.00,2,     0.00,2,     0.02,2,   -999.0,9,   -999.0,9,-999.0000,9,  -999.00,     1936
  49UP20110912,RF1109,  4157,  1,     31,  22104,2,20110916,1839, 30.0030, 147.4508, 6153,    100.6,  18.9355,  34.7901,2,-999.0000,9,    231.5,2,     1.88,2,     0.00,2,     0.00,2,     0.03,2,   -999.0,9,   -999.0,9,-999.0000,9,  -999.00,     1931
  49UP20110912,RF1109,  4157,  1,     30,  22103,3,20110916,1839, 30.0030, 147.4508, 6153,    126.8,  18.1907,  34.7583,2,-999.0000,9,    219.2,2,     2.34,2,     0.83,2,     0.17,2,     0.10,2,   -999.0,9,   -999.0,9,-999.0000,9,  -999.00,     1930
  49UP20110912,RF1109,  4157,  1,     27,  22100,2,20110916,1839, 30.0030, 147.4508, 6153,    152.9,  17.6927,  34.7365,2,-999.0000,9,    220.6,2,     2.93,2,     2.67,2,     0.02,2,     0.18,2,   -999.0,9,   -999.0,9,-999.0000,9,  -999.00,     1928
  49UP20110912,RF1109,  4157,  1,     26,  22099,2,20110916,1839, 30.0030, 147.4508, 6153,    202.6,  17.4479,  34.7241,2,-999.0000,9,    221.9,2,     3.49,2,     3.19,2,     0.01,2,     0.21,2,   -999.0,9,   -999.0,9,-999.0000,9,  -999.00,     1927
  49UP20110912,RF1109,  4157,  1,     25,  22098,2,20110916,1839, 30.0030, 147.4508, 6153,    251.9,  17.3919,  34.7246,2,-999.0000,9,    225.0,2,     3.33,2,     2.93,2,     0.01,2,     0.20,2,   -999.0,9,   -999.0,9,-999.0000,9,  -999.00,     1925
  49UP20110912,RF1109,  4157,  1,     22,  22095,2,20110916,1839, 30.0030, 147.4508, 6153,    302.4,  17.2174,  34.7179,2,-999.0000,9,    223.8,2,     3.62,2,     3.32,2,     0.01,2,     0.22,2,   -999.0,9,   -999.0,9,-999.0000,9,  -999.00,     1923
  49UP20110912,RF1109,  4157,  1,     21,  22094,2,20110916,1839, 30.0030, 147.4508, 6153,    302.4,  17.2174,  34.7179,2,-999.0000,9,    223.7,6,     3.63,6,     3.32,6,     0.01,6,     0.22,6,   -999.0,9,   -999.0,9,-999.0000,9,  -999.00,     1923
  49UP20110912,RF1109,  4157,  1,     20,  22093,2,20110916,1839, 30.0030, 147.4508, 6153,    404.0,  17.0446,  34.7179,2,-999.0000,9,    225.5,2,     3.82,2,     3.61,2,     0.01,2,     0.24,2,   -999.0,9,   -999.0,9,-999.0000,9,  -999.00,     1920
  49UP20110912,RF1109,  4157,  1,     18,  22091,2,20110916,1839, 30.0030, 147.4508, 6153,    503.7,  16.2276,  34.6409,2,-999.0000,9,    202.8,2,     6.97,2,     6.94,2,     0.01,2,     0.46,2,   -999.0,9,   -999.0,9,-999.0000,9,  -999.00,     1917
  49UP20110912,RF1109,  4157,  1,     17,  22090,2,20110916,1839, 30.0030, 147.4508, 6153,    604.5,  12.6772,  34.4117,2,-999.0000,9,    182.3,2,    19.02,2,    14.27,2,     0.00,2,     0.98,2,   -999.0,9,   -999.0,9,-999.0000,9,  -999.00,     1914
  49UP20110912,RF1109,  4157,  1,     16,  22089,2,20110916,1839, 30.0030, 147.4508, 6153,    707.6,   8.5405,  34.1165,2,-999.0000,9,    171.8,2,    38.58,2,    22.00,2,     0.00,2,     1.55,2,   -999.0,9,   -999.0,9,-999.0000,9,  -999.00,     1911
  49UP20110912,RF1109,  4157,  1,     14,  22087,2,20110916,1839, 30.0030, 147.4508, 6153,    807.6,   6.1460,  34.0447,2,-999.0000,9,    135.8,2,    62.74,2,    29.74,2,     0.00,2,     2.13,2,   -999.0,9,   -999.0,9,-999.0000,9,  -999.00,     1908
  49UP20110912,RF1109,  4157,  1,     13,  22086,2,20110916,1839, 30.0030, 147.4508, 6153,    909.0,   5.0284,  34.1222,2,-999.0000,9,     88.7,2,    85.73,2,    35.68,2,     0.00,2,     2.55,2,   -999.0,9,   -999.0,9,-999.0000,9,  -999.00,     1906
  49UP20110912,RF1109,  4157,  1,     12,  22074,2,20110916,1839, 30.0030, 147.4508, 6153,   1011.9,   4.2684,  34.1845,2,-999.0000,9,     60.2,2,   103.14,2,    39.28,2,     0.00,2,     2.79,2,   -999.0,9,   -999.0,9,-999.0000,9,  -999.00,     1902
  49UP20110912,RF1109,  4157,  1,      9,  22082,2,20110916,1839, 30.0030, 147.4508, 6153,   1215.7,   3.4775,  34.3393,2,-999.0000,9,     38.6,2,   126.65,2,    41.99,2,     0.00,2,     2.96,2,   -999.0,9,   -999.0,9,-999.0000,9,  -999.00,     1857
  49UP20110912,RF1109,  4157,  1,      8,  22081,2,20110916,1839, 30.0030, 147.4508, 6153,   1417.5,   2.8425,  34.4445,2,-999.0000,9,     38.7,2,   144.62,2,    42.77,2,     0.00,2,     3.00,2,   -999.0,9,   -999.0,9,-999.0000,9,  -999.00,     1853
  49UP20110912,RF1109,  4157,  1,      7,  22080,2,20110916,1839, 30.0030, 147.4508, 6153,   1620.8,   2.4848,  34.5045,2,-999.0000,9,     45.2,2,   153.59,2,    42.53,2,     0.00,2,     2.99,2,   -999.0,9,   -999.0,9,-999.0000,9,  -999.00,     1848
  49UP20110912,RF1109,  4157,  1,      4,  22077,2,20110916,1839, 30.0030, 147.4508, 6153,   1820.6,   2.2217,  34.5504,2,-999.0000,9,     56.7,2,   159.27,2,    41.99,2,     0.00,2,     2.93,2,   -999.0,9,   -999.0,9,-999.0000,9,  -999.00,     1843
  49UP20110912,RF1109,  4157,  1,      3,  22076,2,20110916,1839, 30.0030, 147.4508, 6153,   1820.6,   2.2217,  34.5504,2,-999.0000,9,     56.5,6,   159.24,6,    41.98,6,     0.00,6,     2.93,6,   -999.0,9,   -999.0,9,-999.0000,9,  -999.00,     1843
  49UP20110912,RF1109,  4157,  1,      2,  22075,2,20110916,1839, 30.0030, 147.4508, 6153,   2023.3,   2.0322,  34.5839,2,-999.0000,9,     72.0,2,   160.97,2,    41.08,2,     0.00,2,     2.86,2,   -999.0,9,   -999.0,9,-999.0000,9,  -999.00,     1839
  49UP20110912,RF1109,  4159,  1,     99,     99,2,20110917,0317, 30.9940, 147.6777, 6065,      0.0,  27.5354,  34.4712,2,-999.0000,9,    202.0,2,     1.68,2,     0.00,2,     0.00,2,     0.04,2,   -999.0,9,   -999.0,9,-999.0000,9,  -999.00,      400
  49UP20110912,RF1109,  4159,  1,     36,  22109,2,20110917,0317, 30.9940, 147.6777, 6065,     11.2,  27.5198,  34.4715,2,  34.4702,2,    201.9,2,     1.55,2,     0.01,2,     0.00,2,     0.01,2,   -999.0,9,   -999.0,9,-999.0000,9,  -999.00,      420
  49UP20110912,RF1109,  4159,  1,     35,  22108,2,20110917,0317, 30.9940, 147.6777, 6065,     26.0,  27.4962,  34.4886,2,-999.0000,9,    202.3,2,     1.52,2,     0.00,2,     0.00,2,     0.00,2,   -999.0,9,   -999.0,9,-999.0000,9,  -999.00,      418
  49UP20110912,RF1109,  4159,  1,     34,  22107,2,20110917,0317, 30.9940, 147.6777, 6065,     54.5,  24.4224,  34.5229,2,-999.0000,9,    222.9,2,     1.73,2,     0.02,2,     0.00,2,     0.01,2,   -999.0,9,   -999.0,9,-999.0000,9,  -999.00,      416
  49UP20110912,RF1109,  4159,  1,     32,  22105,2,20110917,0317, 30.9940, 147.6777, 6065,     76.9,  21.6991,  34.6098,2,-999.0000,9,    223.5,2,     2.02,2,     0.03,2,     0.00,2,     0.02,2,   -999.0,9,   -999.0,9,-999.0000,9,  -999.00,      414
  49UP20110912,RF1109,  4159,  1,     31,  22104,2,20110917,0317, 30.9940, 147.6777, 6065,    102.9,  20.1664,  34.7519,2,  34.7521,2,    200.8,2,     3.22,2,     2.49,2,     0.02,2,     0.18,2,   -999.0,9,   -999.0,9,-999.0000,9,  -999.00,      412
  49UP20110912,RF1109,  4159,  1,     30,  22103,2,20110917,0317, 30.9940, 147.6777, 6065,    125.7,  19.5187,  34.7520,2,-999.0000,9,    198.9,2,     3.49,2,     3.07,2,     0.01,2,     0.21,2,   -999.0,9,   -999.0,9,-999.0000,9,  -999.00,      410
  49UP20110912,RF1109,  4159,  1,     27,  22100,2,20110917,0317, 30.9940, 147.6777, 6065,    152.6,  18.7340,  34.7488,2,-999.0000,9,    204.8,2,     3.38,2,     3.12,2,     0.01,2,     0.21,2,   -999.0,9,   -999.0,9,-999.0000,9,  -999.00,      406
  49UP20110912,RF1109,  4159,  1,     26,  22099,2,20110917,0317, 30.9940, 147.6777, 6065,    204.8,  18.0087,  34.7369,2,  34.7368,2,    206.4,2,     3.72,2,     3.78,2,     0.01,2,     0.25,2,   -999.0,9,   -999.0,9,-999.0000,9,  -999.00,      403
  49UP20110912,RF1109,  4159,  1,     25,  22098,2,20110917,0317, 30.9940, 147.6777, 6065,    255.9,  17.5072,  34.7228,2,-999.0000,9,   -999.0,5,     3.67,2,     3.68,2,     0.01,2,     0.24,2,   -999.0,9,   -999.0,9,-999.0000,9,  -999.00,      401
  49UP20110912,RF1109,  4159,  1,     24,  22097,2,20110917,0317, 30.9940, 147.6777, 6065,    255.9,  17.5072,  34.7228,2,-999.0000,9,    214.2,6,     3.75,6,     3.67,6,     0.01,6,     0.25,6,   -999.0,9,   -999.0,9,-999.0000,9,  -999.00,      401
  49UP20110912,RF1109,  4159,  1,     21,  22094,2,20110917,0317, 30.9940, 147.6777, 6065,    306.8,  17.1527,  34.6996,2,-999.0000,9,    205.8,2,     5.03,2,     5.06,2,     0.00,2,     0.34,2,   -999.0,9,   -999.0,9,-999.0000,9,  -999.00,      359
  49UP20110912,RF1109,  4159,  1,     20,  22093,2,20110917,0317, 30.9940, 147.6777, 6065,    409.0,  15.2078,  34.5779,2,  34.5811,2,    177.4,2,    12.95,2,    10.71,2,     0.00,2,     0.72,2,   -999.0,9,   -999.0,9,-999.0000,9,  -999.00,      356
  49UP20110912,RF1109,  4159,  1,     18,  22091,2,20110917,0317, 30.9940, 147.6777, 6065,    508.7,  12.6298,  34.4324,2,-999.0000,9,    167.6,2,    22.68,2,    15.80,2,     0.00,2,     1.08,2,   -999.0,9,   -999.0,9,-999.0000,9,  -999.00,      353
  49UP20110912,RF1109,  4159,  1,     17,  22090,2,20110917,0317, 30.9940, 147.6777, 6065,    606.5,   9.7366,  34.2148,2,  34.2159,2,    168.2,2,    33.49,2,    20.45,2,     0.00,2,     1.44,2,   -999.0,9,   -999.0,9,-999.0000,9,  -999.00,      350
  49UP20110912,RF1109,  4159,  1,     16,  22089,2,20110917,0317, 30.9940, 147.6777, 6065,    709.4,   6.5266,  34.0144,2,-999.0000,9,    151.9,2,    54.43,2,    27.58,2,     0.00,2,     1.97,2,   -999.0,9,   -999.0,9,-999.0000,9,  -999.00,      347
  49UP20110912,RF1109,  4159,  1,     14,  22087,2,20110917,0317, 30.9940, 147.6777, 6065,    810.1,   5.2225,  34.0569,2,  34.0412,4,    111.4,2,    75.94,2,    33.77,2,     0.00,2,     2.41,2,   -999.0,9,   -999.0,9,-999.0000,9,  -999.00,      345
  49UP20110912,RF1109,  4159,  1,     13,  22086,2,20110917,0317, 30.9940, 147.6777, 6065,    911.4,   4.7525,  34.1542,2,-999.0000,9,     78.8,2,    91.65,2,    37.10,2,     0.00,2,     2.63,2,   -999.0,9,   -999.0,9,-999.0000,9,  -999.00,      342
  49UP20110912,RF1109,  4159,  1,     12,  22074,2,20110917,0317, 30.9940, 147.6777, 6065,   1011.1,   4.1079,  34.2175,2,  34.2170,2,     54.3,2,   106.04,3,    39.91,2,     0.00,2,     2.83,2,   -999.0,9,   -999.0,9,-999.0000,9,  -999.00,      339
  49UP20110912,RF1109,  4159,  1,      9,  22082,2,20110917,0317, 30.9940, 147.6777, 6065,   1214.6,   3.3437,  34.3512,2,  34.3510,2,     35.9,2,   128.94,2,    42.37,2,     0.00,2,     2.98,2,   -999.0,9,   -999.0,9,-999.0000,9,  -999.00,      335
  49UP20110912,RF1109,  4159,  1,      8,  22081,3,20110917,0317, 30.9940, 147.6777, 6065,   1416.9,   2.8112,  34.4428,2,  34.4433,2,     38.9,2,   143.03,2,    42.46,2,     0.00,2,     2.99,2,   -999.0,9,   -999.0,9,-999.0000,9,  -999.00,      330
  49UP20110912,RF1109,  4159,  1,      7,  22080,2,20110917,0317, 30.9940, 147.6777, 6065,   1619.6,   2.5092,  34.5000,2,  34.5005,2,     42.8,2,   151.39,2,    42.62,2,     0.00,2,     2.99,2,   -999.0,9,   -999.0,9,-999.0000,9,  -999.00,      326
  49UP20110912,RF1109,  4159,  1,      6,  22079,2,20110917,0317, 30.9940, 147.6777, 6065,   1619.6,   2.5092,  34.5000,2,  34.5010,6,     42.8,6,   150.91,2,    42.75,6,     0.00,6,     2.99,6,   -999.0,9,   -999.0,9,-999.0000,9,  -999.00,      326
  49UP20110912,RF1109,  4159,  1,      3,  22076,2,20110917,0317, 30.9940, 147.6777, 6065,   1821.5,   2.2580,  34.5457,2,  34.5442,2,     54.2,2,   155.88,2,    42.15,2,     0.00,2,     2.93,2,   -999.0,9,   -999.0,9,-999.0000,9,  -999.00,      321
  49UP20110912,RF1109,  4159,  1,      2,  22075,2,20110917,0317, 30.9940, 147.6777, 6065,   2024.8,   2.0659,  34.5769,2,  34.5779,2,     66.0,2,   160.03,2,    41.51,2,     0.00,2,     2.89,2,   -999.0,9,   -999.0,9,-999.0000,9,  -999.00,      317