BOTTLE,20200204PRINUNIVRMK
EXPOCODE,SECT_ID,STNNBR,CASTNO,SAMPNO,BTLNBR,BTLNBR_FLAG_W,DATE,TIME,LATITUDE,LONGITUDE,DEPTH,CTDPRS,CTDTMP,CTDSAL,CTDSAL_FLAG_W,SALNTY,SALNTY_FLAG_W,OXYGEN,OXYGEN_FLAG_W,SILCAT,SILCAT_FLAG_W,NITRAT,NITRAT_FLAG_W,NITRIT,NITRIT_FLAG_W,PHSPHT,PHSPHT_FLAG_W,TCARBN,TCARBN_FLAG_W,ALKALI,ALKALI_FLAG_W,PH_TOT,PH_TOT_FLAG_W,PH_TMP,BTL_TIME
,,,,,,,,,,,METERS,DBAR,ITS-90,PSS-78,,PSS-78,,UMOL/KG,,UMOL/KG,,UMOL/KG,,UMOL/KG,,UMOL/KG,,UMOL/KG,,UMOL/KG,,,,DEG C,
  49UP20110912,RF1109,  4142,  1,     99,     99,2,20110913,1329, 33.5155, 141.4888, 5580,      0.0,  27.9772,  34.6649,2,-999.0000,9,    200.1,2,     1.70,2,     0.05,2,     0.00,2,     0.03,3,   -999.0,9,   -999.0,9,-999.0000,9,  -999.00,     1424
  49UP20110912,RF1109,  4142,  1,     36,  22109,2,20110913,1329, 33.5155, 141.4888, 5580,     11.6,  27.9834,  34.6650,2,  34.6640,2,    199.9,2,     1.70,2,     0.04,2,     0.00,2,     0.00,3,   1961.2,2,   2271.2,2,   8.0752,2,    25.00,     1445
  49UP20110912,RF1109,  4142,  1,     35,  22108,2,20110913,1329, 33.5155, 141.4888, 5580,     26.8,  27.8453,  34.6561,2,-999.0000,9,    200.3,2,     1.67,2,     0.04,2,     0.00,2,     0.00,3,   1960.8,2,   2270.3,2,   8.0728,2,    25.00,     1443
  49UP20110912,RF1109,  4142,  1,     34,  22107,2,20110913,1329, 33.5155, 141.4888, 5580,     50.6,  24.0290,  34.5673,2,-999.0000,9,    225.8,2,     1.95,2,     0.01,2,     0.00,2,     0.00,3,   1961.7,2,   2265.1,2,   8.0662,2,    25.00,     1438
  49UP20110912,RF1109,  4142,  1,     32,  22105,2,20110913,1329, 33.5155, 141.4888, 5580,     76.1,  21.3494,  34.8098,2,-999.0000,9,    238.6,2,     1.85,2,     0.02,2,     0.00,2,     0.01,3,   1981.1,2,   2280.2,2,   8.0546,2,    25.00,     1436
  49UP20110912,RF1109,  4142,  1,     31,  22104,2,20110913,1329, 33.5155, 141.4888, 5580,    102.0,  19.8261,  34.8132,2,  34.8137,2,    227.5,2,     1.95,2,     0.07,2,     0.01,2,     0.03,3,   1996.1,2,   2279.5,2,   8.0255,2,    25.00,     1434
  49UP20110912,RF1109,  4142,  1,     30,  22103,2,20110913,1329, 33.5155, 141.4888, 5580,    126.5,  18.9961,  34.7478,2,-999.0000,9,    204.5,2,     3.33,2,     2.96,2,     0.02,2,     0.20,3,   2013.9,2,   2276.6,2,   7.9914,2,    25.00,     1432
  49UP20110912,RF1109,  4142,  1,     28,  22101,2,20110913,1329, 33.5155, 141.4888, 5580,    152.9,  18.5739,  34.7480,2,-999.0000,9,    206.2,2,     3.39,2,     3.25,2,     0.02,2,     0.21,3,   2016.8,2,   2275.9,2,   7.9803,2,    25.00,     1430
  49UP20110912,RF1109,  4142,  1,     27,  22100,2,20110913,1329, 33.5155, 141.4888, 5580,    201.7,  17.9507,  34.7302,2,  34.7305,2,    205.2,2,     4.20,2,     3.99,2,     0.01,2,     0.26,3,   2034.9,3,   2275.1,2,   7.9672,2,    25.00,     1427
  49UP20110912,RF1109,  4142,  1,     26,  22099,2,20110913,1329, 33.5155, 141.4888, 5580,    201.7,  17.9507,  34.7302,2,  34.7296,6,    205.3,6,     4.24,6,     4.00,6,     0.01,6,     0.27,3,   2024.4,3,   2275.2,2,   7.9676,2,    25.00,     1427
  49UP20110912,RF1109,  4142,  1,     23,  22096,2,20110913,1329, 33.5155, 141.4888, 5580,    252.9,  17.4486,  34.7205,2,-999.0000,9,    210.4,2,     4.28,2,     4.09,2,     0.01,2,     0.27,3,   2037.2,2,   2273.5,2,   7.9600,2,    25.00,     1425
  49UP20110912,RF1109,  4142,  1,     22,  22095,2,20110913,1329, 33.5155, 141.4888, 5580,    302.5,  17.1911,  34.7068,2,-999.0000,9,    212.3,2,     4.37,2,     4.39,2,     0.01,2,     0.29,3,   2034.3,2,   2274.4,2,   7.9569,2,    25.00,     1423
  49UP20110912,RF1109,  4142,  1,     21,  22094,2,20110913,1329, 33.5155, 141.4888, 5580,    404.9,  16.0805,  34.6328,2,  34.6327,2,    188.6,4,     8.32,2,     8.30,2,     0.01,2,     0.55,3,   2058.7,2,   2273.0,2,   7.8943,2,    25.00,     1420
  49UP20110912,RF1109,  4142,  1,     18,  22091,2,20110913,1329, 33.5155, 141.4888, 5580,    505.0,  13.5649,  34.4687,2,-999.0000,9,    204.8,3,    14.17,2,    12.24,2,     0.00,2,     0.83,3,   2095.3,2,   2268.9,2,   7.8206,2,    25.00,     1416
  49UP20110912,RF1109,  4142,  1,     17,  22090,2,20110913,1329, 33.5155, 141.4888, 5580,    607.1,  10.8183,  34.3141,2,  34.3158,2,    162.3,2,    30.35,2,    19.18,2,     0.00,2,     1.34,3,   2142.7,2,   2274.9,2,   7.7172,2,    25.00,     1412
  49UP20110912,RF1109,  4142,  1,     16,  22089,2,20110913,1329, 33.5155, 141.4888, 5580,    707.2,   7.9704,  34.1508,2,-999.0000,9,    145.8,2,    48.53,2,    25.62,2,     0.00,2,     1.83,3,   2191.6,2,   2283.9,2,   7.5990,2,    25.00,     1409
  49UP20110912,RF1109,  4142,  1,     14,  22087,2,20110913,1329, 33.5155, 141.4888, 5580,    808.2,   6.1215,  34.1412,2,  34.1399,2,    113.3,2,    70.80,2,    31.81,2,     0.00,2,     2.27,3,   2243.2,6,   2301.5,6,   7.4933,2,    25.00,     1406
  49UP20110912,RF1109,  4142,  1,     13,  22086,2,20110913,1329, 33.5155, 141.4888, 5580,    909.7,   4.5567,  34.1114,2,-999.0000,9,     79.9,2,    92.75,2,    37.52,2,     0.00,2,     2.67,3,   2292.8,2,   2312.0,2,   7.3850,6,    25.00,     1403
  49UP20110912,RF1109,  4142,  1,     12,  22074,2,20110913,1329, 33.5155, 141.4888, 5580,   1012.1,   4.0602,  34.1800,2,  34.1804,2,     58.4,2,   107.16,2,    39.91,2,     0.00,2,     2.84,3,   2320.7,2,   2330.7,2,   7.3478,2,    25.00,     1358
  49UP20110912,RF1109,  4142,  1,     11,  22110,2,20110913,1329, 33.5155, 141.4888, 5580,   1012.1,   4.0602,  34.1800,2,  34.1801,2,     57.4,2,   107.18,2,    39.92,2,     0.00,2,     2.84,3,   2318.8,2,   2329.3,2,   7.3620,3,    25.00,     1358
  49UP20110912,RF1109,  4142,  1,      9,  22082,2,20110913,1329, 33.5155, 141.4888, 5580,   1215.8,   3.3513,  34.3310,2,  34.3304,2,     42.5,2,   129.66,2,    41.65,2,     0.00,2,     2.97,3,   2350.8,2,   2358.0,2,   7.3354,2,    25.00,     1353
  49UP20110912,RF1109,  4142,  1,      8,  22081,2,20110913,1329, 33.5155, 141.4888, 5580,   1417.7,   2.9276,  34.4262,2,  34.4258,2,     41.8,2,   141.84,2,    42.24,2,     0.00,2,     2.99,3,   2370.1,3,   2376.5,2,   7.3482,2,    25.00,     1346
  49UP20110912,RF1109,  4142,  1,      7,  22080,2,20110913,1329, 33.5155, 141.4888, 5580,   1417.7,   2.9276,  34.4262,2,  34.4262,6,     42.3,2,   142.05,6,    42.36,6,     0.00,6,     3.00,3,   2366.3,3,   2376.9,2,   7.3467,2,    25.00,     1346
  49UP20110912,RF1109,  4142,  1,      5,  22078,2,20110913,1329, 33.5155, 141.4888, 5580,   1618.8,   2.5638,  34.4856,2,  34.4856,2,     44.1,2,   152.23,2,    42.60,2,     0.00,2,     3.00,3,   2375.8,3,   2390.8,2,   7.3559,2,    25.00,     1339
  49UP20110912,RF1109,  4142,  1,      4,  22077,2,20110913,1329, 33.5155, 141.4888, 5580,   1822.4,   2.2879,  34.5389,2,  34.5374,2,     54.9,2,   157.65,2,    42.13,2,     0.00,2,     2.96,3,   2385.7,2,   2395.9,2,   7.3788,6,    25.00,     1334
  49UP20110912,RF1109,  4142,  1,      3,  22076,2,20110913,1329, 33.5155, 141.4888, 5580,   2024.0,   2.1119,  34.5718,2,  34.5723,2,     67.5,2,   159.22,2,    41.35,2,     0.00,2,     2.89,3,   2377.7,2,   2401.9,2,   7.4044,2,    25.00,     1329
  49UP20110912,RF1109,  4145,  1,     99,     99,2,20110914,0759, 32.0118, 142.9733, 5646,      0.0,  27.9335,  34.4515,2,-999.0000,9,    201.5,2,     1.68,2,     0.16,2,     0.00,2,     0.05,2,   -999.0,9,   -999.0,9,-999.0000,9,  -999.00,      840
  49UP20110912,RF1109,  4145,  1,     36,  22109,2,20110914,0759, 32.0118, 142.9733, 5646,     11.7,  27.9447,  34.4516,2,-999.0000,9,    201.2,2,     1.68,2,     0.07,2,     0.00,2,     0.01,2,   -999.0,9,   -999.0,9,-999.0000,9,  -999.00,      907
  49UP20110912,RF1109,  4145,  1,     35,  22108,2,20110914,0759, 32.0118, 142.9733, 5646,     26.5,  27.7741,  34.4427,2,-999.0000,9,    201.5,2,     1.66,2,     0.06,2,     0.00,2,     0.01,2,   -999.0,9,   -999.0,9,-999.0000,9,  -999.00,      905
  49UP20110912,RF1109,  4145,  1,     34,  22107,2,20110914,0759, 32.0118, 142.9733, 5646,     50.8,  24.8295,  34.5591,2,-999.0000,9,    221.6,2,     1.93,2,     0.05,2,     0.00,2,     0.01,2,   -999.0,9,   -999.0,9,-999.0000,9,  -999.00,      903
  49UP20110912,RF1109,  4145,  1,     32,  22105,2,20110914,0759, 32.0118, 142.9733, 5646,     77.7,  22.5205,  34.7033,2,-999.0000,9,    208.3,2,     2.17,2,     0.03,2,     0.00,2,     0.04,2,   -999.0,9,   -999.0,9,-999.0000,9,  -999.00,      901
  49UP20110912,RF1109,  4145,  1,     31,  22104,2,20110914,0759, 32.0118, 142.9733, 5646,    101.5,  21.3222,  34.7382,2,-999.0000,9,    197.5,2,     2.76,2,     2.12,2,     0.07,2,     0.16,2,   -999.0,9,   -999.0,9,-999.0000,9,  -999.00,      856
  49UP20110912,RF1109,  4145,  1,     30,  22103,2,20110914,0759, 32.0118, 142.9733, 5646,    124.4,  20.5966,  34.7394,2,-999.0000,9,    198.0,2,     3.22,2,     2.61,2,     0.04,2,     0.21,2,   -999.0,9,   -999.0,9,-999.0000,9,  -999.00,      855
  49UP20110912,RF1109,  4145,  1,     28,  22101,2,20110914,0759, 32.0118, 142.9733, 5646,    152.8,  19.5230,  34.7516,2,-999.0000,9,    204.9,2,     3.29,2,     2.43,2,     0.03,2,     0.18,2,   -999.0,9,   -999.0,9,-999.0000,9,  -999.00,      853
  49UP20110912,RF1109,  4145,  1,     27,  22100,3,20110914,0759, 32.0118, 142.9733, 5646,    152.8,  19.5230,  34.7516,2,-999.0000,9,    204.2,6,     3.32,6,     2.45,6,     0.03,6,     0.19,6,   -999.0,9,   -999.0,9,-999.0000,9,  -999.00,      853
  49UP20110912,RF1109,  4145,  1,     26,  22099,2,20110914,0759, 32.0118, 142.9733, 5646,    203.0,  18.2732,  34.7508,2,-999.0000,9,    210.3,2,     3.11,2,     2.92,2,     0.02,2,     0.20,2,   -999.0,9,   -999.0,9,-999.0000,9,  -999.00,      851
  49UP20110912,RF1109,  4145,  1,     23,  22096,2,20110914,0759, 32.0118, 142.9733, 5646,    253.3,  17.7416,  34.7284,2,-999.0000,9,    209.7,2,     3.82,2,     3.79,2,     0.01,2,     0.26,2,   -999.0,9,   -999.0,9,-999.0000,9,  -999.00,      849
  49UP20110912,RF1109,  4145,  1,     22,  22095,2,20110914,0759, 32.0118, 142.9733, 5646,    304.5,  17.4130,  34.7192,2,-999.0000,9,    213.6,2,     3.96,2,     3.89,2,     0.01,2,     0.26,2,   -999.0,9,   -999.0,9,-999.0000,9,  -999.00,      847
  49UP20110912,RF1109,  4145,  1,     21,  22094,2,20110914,0759, 32.0118, 142.9733, 5646,    405.0,  16.7272,  34.6781,2,-999.0000,9,    202.8,2,     6.15,2,     5.98,2,     0.01,2,     0.40,2,   -999.0,9,   -999.0,9,-999.0000,9,  -999.00,      843
  49UP20110912,RF1109,  4145,  1,     18,  22091,2,20110914,0759, 32.0118, 142.9733, 5646,    505.3,  14.6867,  34.5481,2,-999.0000,9,    184.3,2,    12.08,2,    10.83,2,     0.01,2,     0.73,2,   -999.0,9,   -999.0,9,-999.0000,9,  -999.00,      840
  49UP20110912,RF1109,  4145,  1,     17,  22090,2,20110914,0759, 32.0118, 142.9733, 5646,    606.8,  11.5488,  34.3628,2,-999.0000,9,    165.2,2,    27.07,2,    17.71,2,     0.01,2,     1.23,2,   -999.0,9,   -999.0,9,-999.0000,9,  -999.00,      837
  49UP20110912,RF1109,  4145,  1,     16,  22089,2,20110914,0759, 32.0118, 142.9733, 5646,    707.7,   9.0411,  34.2348,2,-999.0000,9,    145.3,2,    43.95,2,    23.77,2,     0.01,2,     1.68,2,   -999.0,9,   -999.0,9,-999.0000,9,  -999.00,      834
  49UP20110912,RF1109,  4145,  1,     14,  22087,2,20110914,0759, 32.0118, 142.9733, 5646,    808.5,   6.4673,  34.1035,2,-999.0000,9,    128.0,2,    63.39,2,    30.01,2,     0.00,2,     2.14,2,   -999.0,9,   -999.0,9,-999.0000,9,  -999.00,      830
  49UP20110912,RF1109,  4145,  1,     13,  22086,2,20110914,0759, 32.0118, 142.9733, 5646,    908.2,   4.8049,  34.0510,2,-999.0000,9,     98.1,2,    83.36,2,    35.57,2,     0.00,2,     2.55,2,   -999.0,9,   -999.0,9,-999.0000,9,  -999.00,      827
  49UP20110912,RF1109,  4145,  1,     12,  22074,2,20110914,0759, 32.0118, 142.9733, 5646,   1012.1,   4.2624,  34.1751,2,-999.0000,9,     63.6,2,   102.92,2,    39.18,2,     0.00,2,     2.78,2,   -999.0,9,   -999.0,9,-999.0000,9,  -999.00,      823
  49UP20110912,RF1109,  4145,  1,     10,  22083,2,20110914,0759, 32.0118, 142.9733, 5646,   1212.5,   3.4456,  34.3240,2,-999.0000,9,     43.6,2,   127.53,2,    41.71,2,     0.00,2,     2.94,2,   -999.0,9,   -999.0,9,-999.0000,9,  -999.00,      817
  49UP20110912,RF1109,  4145,  1,      9,  22082,2,20110914,0759, 32.0118, 142.9733, 5646,   1212.5,   3.4456,  34.3240,2,-999.0000,9,     43.8,6,   127.39,6,    41.73,6,     0.00,6,     2.94,6,   -999.0,9,   -999.0,9,-999.0000,9,  -999.00,      817
  49UP20110912,RF1109,  4145,  1,      8,  22081,2,20110914,0759, 32.0118, 142.9733, 5646,   1417.9,   2.9421,  34.4227,2,-999.0000,9,     39.9,2,   142.02,2,    42.66,2,     0.00,2,     2.99,2,   -999.0,9,   -999.0,9,-999.0000,9,  -999.00,      812
  49UP20110912,RF1109,  4145,  1,      5,  22078,2,20110914,0759, 32.0118, 142.9733, 5646,   1618.2,   2.5941,  34.4837,2,-999.0000,9,     41.2,2,   151.75,2,    43.04,2,     0.00,2,     3.01,2,   -999.0,9,   -999.0,9,-999.0000,9,  -999.00,      808
  49UP20110912,RF1109,  4145,  1,      4,  22077,2,20110914,0759, 32.0118, 142.9733, 5646,   1822.2,   2.3282,  34.5299,2,-999.0000,9,     51.3,2,   157.63,2,    42.45,2,     0.00,2,     2.96,2,   -999.0,9,   -999.0,9,-999.0000,9,  -999.00,      803
  49UP20110912,RF1109,  4145,  1,      3,  22076,2,20110914,0759, 32.0118, 142.9733, 5646,   2022.5,   2.1181,  34.5681,2,-999.0000,9,     64.2,2,   160.32,2,    41.64,2,     0.00,2,     2.90,2,   -999.0,9,   -999.0,9,-999.0000,9,  -999.00,      759
  49UP20110912,RF1109,  4147,  1,     99,     99,2,20110914,1904, 30.9988, 143.9902, 5753,      0.0,  27.6782,  34.4557,2,-999.0000,9,    200.8,2,     1.72,2,     0.00,2,     0.00,2,     0.03,2,   -999.0,9,   -999.0,9,-999.0000,9,  -999.00,     1945
  49UP20110912,RF1109,  4147,  1,     36,  22109,2,20110914,1904, 30.9988, 143.9902, 5753,     11.3,  27.6821,  34.4558,2,  34.4546,2,    201.2,2,     1.67,2,     0.00,2,     0.00,2,     0.01,2,   -999.0,9,   -999.0,9,-999.0000,9,  -999.00,     2005
  49UP20110912,RF1109,  4147,  1,     35,  22108,2,20110914,1904, 30.9988, 143.9902, 5753,     25.8,  27.6910,  34.4549,2,-999.0000,9,    201.3,2,     1.68,2,     0.00,2,     0.00,2,     0.01,2,   -999.0,9,   -999.0,9,-999.0000,9,  -999.00,     2003
  49UP20110912,RF1109,  4147,  1,     34,  22107,2,20110914,1904, 30.9988, 143.9902, 5753,     51.7,  24.4742,  34.4476,2,-999.0000,9,    219.7,2,     2.05,2,     0.02,2,     0.00,2,     0.01,2,   -999.0,9,   -999.0,9,-999.0000,9,  -999.00,     2002
  49UP20110912,RF1109,  4147,  1,     32,  22105,2,20110914,1904, 30.9988, 143.9902, 5753,     77.1,  21.9014,  34.6873,2,-999.0000,9,    221.1,2,     2.12,2,     0.02,2,     0.00,2,     0.02,2,   -999.0,9,   -999.0,9,-999.0000,9,  -999.00,     2000
  49UP20110912,RF1109,  4147,  1,     31,  22104,2,20110914,1904, 30.9988, 143.9902, 5753,    101.4,  20.2808,  34.7284,2,  34.7275,2,    207.1,2,     2.94,2,     1.65,2,     0.13,2,     0.13,2,   -999.0,9,   -999.0,9,-999.0000,9,  -999.00,     1955
  49UP20110912,RF1109,  4147,  1,     30,  22103,2,20110914,1904, 30.9988, 143.9902, 5753,    101.4,  20.2808,  34.7284,2,  34.7275,6,    207.1,6,     2.89,6,     1.65,6,     0.13,6,     0.13,6,   -999.0,9,   -999.0,9,-999.0000,9,  -999.00,     1955
  49UP20110912,RF1109,  4147,  1,     28,  22101,2,20110914,1904, 30.9988, 143.9902, 5753,    126.8,  19.1634,  34.7474,2,-999.0000,9,    211.0,2,     3.16,2,     2.53,2,     0.03,2,     0.18,2,   -999.0,9,   -999.0,9,-999.0000,9,  -999.00,     1954
  49UP20110912,RF1109,  4147,  1,     27,  22100,2,20110914,1904, 30.9988, 143.9902, 5753,    152.0,  18.5955,  34.7514,2,-999.0000,9,    208.1,2,     3.30,2,     3.06,2,     0.02,2,     0.21,2,   -999.0,9,   -999.0,9,-999.0000,9,  -999.00,     1952
  49UP20110912,RF1109,  4147,  1,     26,  22099,2,20110914,1904, 30.9988, 143.9902, 5753,    202.5,  17.8566,  34.7369,2,  34.7356,2,    212.1,2,     3.62,2,     3.50,2,     0.01,2,     0.23,2,   -999.0,9,   -999.0,9,-999.0000,9,  -999.00,     1950
  49UP20110912,RF1109,  4147,  1,     23,  22096,2,20110914,1904, 30.9988, 143.9902, 5753,    252.5,  17.3573,  34.7194,2,-999.0000,9,    215.3,2,     3.98,2,     3.86,2,     0.01,2,     0.25,2,   -999.0,9,   -999.0,9,-999.0000,9,  -999.00,     1948
  49UP20110912,RF1109,  4147,  1,     22,  22095,2,20110914,1904, 30.9988, 143.9902, 5753,    303.5,  17.1096,  34.7153,2,-999.0000,9,    219.2,2,     4.12,2,     3.92,2,     0.01,2,     0.26,2,   -999.0,9,   -999.0,9,-999.0000,9,  -999.00,     1947
  49UP20110912,RF1109,  4147,  1,     21,  22094,2,20110914,1904, 30.9988, 143.9902, 5753,    405.5,  15.6479,  34.6100,2,  34.6109,2,    187.1,2,     9.84,2,     9.17,2,     0.01,2,     0.62,2,   -999.0,9,   -999.0,9,-999.0000,9,  -999.00,     1944
  49UP20110912,RF1109,  4147,  1,     18,  22091,2,20110914,1904, 30.9988, 143.9902, 5753,    505.2,  13.0170,  34.4510,2,-999.0000,9,    171.9,2,    20.03,2,    14.67,2,     0.01,2,     1.01,2,   -999.0,9,   -999.0,9,-999.0000,9,  -999.00,     1941
  49UP20110912,RF1109,  4147,  1,     17,  22090,2,20110914,1904, 30.9988, 143.9902, 5753,    605.8,   9.7967,  34.2050,2,  34.2071,2,    175.4,2,    30.70,2,    19.63,2,     0.00,2,     1.38,2,   -999.0,9,   -999.0,9,-999.0000,9,  -999.00,     1938
  49UP20110912,RF1109,  4147,  1,     16,  22089,2,20110914,1904, 30.9988, 143.9902, 5753,    707.1,   7.2409,  34.0613,2,-999.0000,9,    152.5,2,    49.02,2,    26.26,2,     0.00,2,     1.87,2,   -999.0,9,   -999.0,9,-999.0000,9,  -999.00,     1935
  49UP20110912,RF1109,  4147,  1,     14,  22087,2,20110914,1904, 30.9988, 143.9902, 5753,    809.7,   5.5463,  34.0540,2,  34.0528,2,    112.6,2,    71.62,2,    32.91,2,     0.00,2,     2.36,2,   -999.0,9,   -999.0,9,-999.0000,9,  -999.00,     1933
  49UP20110912,RF1109,  4147,  1,     13,  22086,2,20110914,1904, 30.9988, 143.9902, 5753,    908.7,   4.6833,  34.1400,2,-999.0000,9,     74.5,2,    91.92,2,    37.60,2,     0.00,2,     2.67,2,   -999.0,9,   -999.0,9,-999.0000,9,  -999.00,     1930
  49UP20110912,RF1109,  4147,  1,     12,  22074,2,20110914,1904, 30.9988, 143.9902, 5753,    908.7,   4.6833,  34.1400,2,-999.0000,9,     74.3,6,    92.02,6,    37.56,6,     0.00,6,     2.67,6,   -999.0,9,   -999.0,9,-999.0000,9,  -999.00,     1930
  49UP20110912,RF1109,  4147,  1,     10,  22083,2,20110914,1904, 30.9988, 143.9902, 5753,   1010.7,   4.1506,  34.2307,2,  34.2309,2,     53.0,2,   107.62,2,    40.05,2,     0.00,2,     2.84,2,   -999.0,9,   -999.0,9,-999.0000,9,  -999.00,     1927
  49UP20110912,RF1109,  4147,  1,      9,  22082,2,20110914,1904, 30.9988, 143.9902, 5753,   1213.5,   3.3727,  34.3566,2,  34.3559,2,     40.8,2,   129.24,2,    41.89,2,     0.00,2,     2.95,2,   -999.0,9,   -999.0,9,-999.0000,9,  -999.00,     1923
  49UP20110912,RF1109,  4147,  1,      8,  22081,2,20110914,1904, 30.9988, 143.9902, 5753,   1414.4,   2.8821,  34.4418,2,  34.4408,2,     39.7,2,   142.93,2,    42.56,2,     0.00,2,     2.99,2,   -999.0,9,   -999.0,9,-999.0000,9,  -999.00,     1918
  49UP20110912,RF1109,  4147,  1,      5,  22078,2,20110914,1904, 30.9988, 143.9902, 5753,   1618.2,   2.5271,  34.5053,2,  34.5086,4,     47.0,2,   151.64,2,    42.39,2,     0.00,2,     2.97,2,   -999.0,9,   -999.0,9,-999.0000,9,  -999.00,     1913
  49UP20110912,RF1109,  4147,  1,      4,  22077,2,20110914,1904, 30.9988, 143.9902, 5753,   1820.5,   2.2541,  34.5444,2,  34.5442,2,     55.6,2,   157.98,2,    42.05,2,     0.00,2,     2.93,2,   -999.0,9,   -999.0,9,-999.0000,9,  -999.00,     1909
  49UP20110912,RF1109,  4147,  1,      3,  22076,2,20110914,1904, 30.9988, 143.9902, 5753,   2023.5,   2.0716,  34.5777,2,  34.5769,2,     69.4,2,   159.89,2,    41.30,2,     0.00,2,     2.88,2,   -999.0,9,   -999.0,9,-999.0000,9,  -999.00,     1904