BOTTLE,20200204PRINUNIVRMK
EXPOCODE,SECT_ID,STNNBR,CASTNO,SAMPNO,BTLNBR,BTLNBR_FLAG_W,DATE,TIME,LATITUDE,LONGITUDE,DEPTH,CTDPRS,CTDTMP,CTDSAL,CTDSAL_FLAG_W,SALNTY,SALNTY_FLAG_W,OXYGEN,OXYGEN_FLAG_W,SILCAT,SILCAT_FLAG_W,NITRAT,NITRAT_FLAG_W,NITRIT,NITRIT_FLAG_W,PHSPHT,PHSPHT_FLAG_W,TCARBN,TCARBN_FLAG_W,ALKALI,ALKALI_FLAG_W,PH_TOT,PH_TOT_FLAG_W,PH_TMP,BTL_TIME
,,,,,,,,,,,METERS,DBAR,ITS-90,PSS-78,,PSS-78,,UMOL/KG,,UMOL/KG,,UMOL/KG,,UMOL/KG,,UMOL/KG,,UMOL/KG,,UMOL/KG,,,,DEG C,
  49UP20110912,RF1109,  4161,  1,     35,  22108,2,20110917,1223, 32.0147, 147.9375, 5670,     27.6,  27.7178,  34.4609,2,-999.0000,9,    201.2,2,     1.69,2,     0.00,2,     0.00,2,     0.01,2,   -999.0,9,   -999.0,9,-999.0000,9,  -999.00,     1323
  49UP20110912,RF1109,  4161,  1,     34,  22107,2,20110917,1223, 32.0147, 147.9375, 5670,     52.3,  26.7620,  34.6724,2,-999.0000,9,    207.1,2,     1.60,2,     0.01,2,     0.00,2,     0.02,2,   -999.0,9,   -999.0,9,-999.0000,9,  -999.00,     1322
  49UP20110912,RF1109,  4161,  1,     32,  22105,2,20110917,1223, 32.0147, 147.9375, 5670,     77.1,  22.3790,  34.6727,2,-999.0000,9,    211.5,2,     2.37,2,     0.04,2,     0.02,2,     0.05,2,   -999.0,9,   -999.0,9,-999.0000,9,  -999.00,     1320
  49UP20110912,RF1109,  4161,  1,     31,  22104,2,20110917,1223, 32.0147, 147.9375, 5670,    101.7,  20.2793,  34.7298,2,-999.0000,9,    208.9,2,     2.87,2,     1.61,2,     0.07,2,     0.13,2,   -999.0,9,   -999.0,9,-999.0000,9,  -999.00,     1318
  49UP20110912,RF1109,  4161,  1,     30,  22103,2,20110917,1223, 32.0147, 147.9375, 5670,    128.0,  19.2930,  34.7448,2,-999.0000,9,    206.3,2,     3.28,2,     2.46,2,     0.03,2,     0.18,2,   -999.0,9,   -999.0,9,-999.0000,9,  -999.00,     1316
  49UP20110912,RF1109,  4161,  1,     27,  22100,2,20110917,1223, 32.0147, 147.9375, 5670,    153.1,  18.6574,  34.7516,2,-999.0000,9,    206.3,2,     3.19,2,     3.11,2,     0.02,2,     0.21,2,   -999.0,9,   -999.0,9,-999.0000,9,  -999.00,     1314
  49UP20110912,RF1109,  4161,  1,     26,  22099,2,20110917,1223, 32.0147, 147.9375, 5670,    202.0,  18.0458,  34.7407,2,-999.0000,9,    208.5,2,     3.59,2,     3.52,2,     0.02,2,     0.24,2,   -999.0,9,   -999.0,9,-999.0000,9,  -999.00,     1309
  49UP20110912,RF1109,  4161,  1,     25,  22098,2,20110917,1223, 32.0147, 147.9375, 5670,    202.0,  18.0458,  34.7407,2,-999.0000,9,    208.8,6,     3.59,6,     3.53,6,     0.02,6,     0.24,6,   -999.0,9,   -999.0,9,-999.0000,9,  -999.00,     1309
  49UP20110912,RF1109,  4161,  1,     22,  22095,2,20110917,1223, 32.0147, 147.9375, 5670,    253.9,  17.5569,  34.7271,2,-999.0000,9,    213.2,2,     3.80,2,     3.69,2,     0.01,2,     0.25,2,   -999.0,9,   -999.0,9,-999.0000,9,  -999.00,     1307
  49UP20110912,RF1109,  4161,  1,     21,  22094,2,20110917,1223, 32.0147, 147.9375, 5670,    302.9,  17.1934,  34.7158,2,-999.0000,9,    216.7,2,     4.01,2,     3.96,2,     0.01,2,     0.27,2,   -999.0,9,   -999.0,9,-999.0000,9,  -999.00,     1305
  49UP20110912,RF1109,  4161,  1,     20,  22093,2,20110917,1223, 32.0147, 147.9375, 5670,    403.9,  16.2974,  34.6453,2,-999.0000,9,    189.6,2,     8.50,2,     8.05,2,     0.01,2,     0.54,2,   -999.0,9,   -999.0,9,-999.0000,9,  -999.00,     1302
  49UP20110912,RF1109,  4161,  1,     18,  22091,2,20110917,1223, 32.0147, 147.9375, 5670,    506.6,  12.6791,  34.4277,2,-999.0000,9,    171.4,2,    21.56,2,    15.35,2,     0.01,2,     1.06,2,   -999.0,9,   -999.0,9,-999.0000,9,  -999.00,     1259
  49UP20110912,RF1109,  4161,  1,     17,  22090,2,20110917,1223, 32.0147, 147.9375, 5670,    606.9,   9.5174,  34.2201,2,-999.0000,9,    160.4,2,    37.29,2,    21.59,2,     0.01,2,     1.52,2,   -999.0,9,   -999.0,9,-999.0000,9,  -999.00,     1256
  49UP20110912,RF1109,  4161,  1,     16,  22089,2,20110917,1223, 32.0147, 147.9375, 5670,    711.8,   6.2861,  34.0195,2,-999.0000,9,    146.6,2,    58.81,2,    28.63,2,     0.00,2,     2.06,2,   -999.0,9,   -999.0,9,-999.0000,9,  -999.00,     1254
  49UP20110912,RF1109,  4161,  1,     14,  22087,2,20110917,1223, 32.0147, 147.9375, 5670,    807.9,   5.1150,  34.0754,2,-999.0000,9,    101.6,2,    81.39,2,    34.77,2,     0.01,2,     2.49,2,   -999.0,9,   -999.0,9,-999.0000,9,  -999.00,     1251
  49UP20110912,RF1109,  4161,  1,     13,  22086,2,20110917,1223, 32.0147, 147.9375, 5670,    915.1,   4.3934,  34.1748,2,-999.0000,9,     68.5,2,   100.52,2,    38.60,2,     0.01,2,     2.74,2,   -999.0,9,   -999.0,9,-999.0000,9,  -999.00,     1248
  49UP20110912,RF1109,  4161,  1,     12,  22074,2,20110917,1223, 32.0147, 147.9375, 5670,   1011.6,   3.9251,  34.2671,2,-999.0000,9,     55.0,4,   115.10,2,    40.38,2,     0.00,2,     2.86,2,   -999.0,9,   -999.0,9,-999.0000,9,  -999.00,     1244
  49UP20110912,RF1109,  4161,  1,      9,  22082,2,20110917,1223, 32.0147, 147.9375, 5670,   1210.7,   3.1891,  34.3797,2,-999.0000,9,     43.3,2,   135.00,2,    41.98,2,     0.00,2,     2.96,2,   -999.0,9,   -999.0,9,-999.0000,9,  -999.00,     1240
  49UP20110912,RF1109,  4161,  1,      8,  22081,2,20110917,1223, 32.0147, 147.9375, 5670,   1415.2,   2.7532,  34.4486,2,-999.0000,9,     41.9,2,   147.43,2,    42.68,2,     0.00,2,     3.00,2,   -999.0,9,   -999.0,9,-999.0000,9,  -999.00,     1236
  49UP20110912,RF1109,  4161,  1,      7,  22080,2,20110917,1223, 32.0147, 147.9375, 5670,   1415.2,   2.7532,  34.4486,2,-999.0000,9,     42.5,4,   147.82,6,    42.67,6,     0.01,6,     3.00,6,   -999.0,9,   -999.0,9,-999.0000,9,  -999.00,     1236
  49UP20110912,RF1109,  4161,  1,      4,  22077,2,20110917,1223, 32.0147, 147.9375, 5670,   1618.1,   2.4223,  34.5064,2,-999.0000,9,     49.3,4,   156.26,2,    42.51,2,     0.01,2,     2.97,2,   -999.0,9,   -999.0,9,-999.0000,9,  -999.00,     1231
  49UP20110912,RF1109,  4161,  1,      3,  22076,2,20110917,1223, 32.0147, 147.9375, 5670,   1817.2,   2.1936,  34.5549,2,-999.0000,9,     61.2,4,   159.43,2,    41.84,2,     0.00,2,     2.91,2,   -999.0,9,   -999.0,9,-999.0000,9,  -999.00,     1227
  49UP20110912,RF1109,  4161,  1,      2,  22075,2,20110917,1223, 32.0147, 147.9375, 5670,   2021.3,   2.0102,  34.5867,2,-999.0000,9,     73.2,4,   162.07,2,    41.30,2,     0.00,2,     2.86,2,   -999.0,9,   -999.0,9,-999.0000,9,  -999.00,     1223
  49UP20110912,RF1109,  4163,  1,     99,     99,2,20110918,1224, 33.0173, 148.1618, 5860,      0.0,  27.8450,  34.3521,2,-999.0000,9,    201.4,2,     1.75,2,     0.00,2,     0.00,2,     0.02,2,   -999.0,9,   -999.0,9,-999.0000,9,  -999.00,     1258
  49UP20110912,RF1109,  4163,  1,     36,  22109,2,20110918,1224, 33.0173, 148.1618, 5860,     10.3,  27.8638,  34.3516,2,-999.0000,9,    201.4,2,     1.66,2,     0.00,2,     0.00,2,     0.00,2,   -999.0,9,   -999.0,9,-999.0000,9,  -999.00,     1325
  49UP20110912,RF1109,  4163,  1,     35,  22108,2,20110918,1224, 33.0173, 148.1618, 5860,     26.6,  27.8351,  34.3523,2,-999.0000,9,    201.6,2,     1.66,2,     0.00,2,     0.00,2,     0.00,2,   -999.0,9,   -999.0,9,-999.0000,9,  -999.00,     1323
  49UP20110912,RF1109,  4163,  1,     34,  22107,2,20110918,1224, 33.0173, 148.1618, 5860,     51.2,  24.5750,  34.5089,2,-999.0000,9,    217.6,2,     1.95,2,     0.01,2,     0.00,2,     0.01,2,   -999.0,9,   -999.0,9,-999.0000,9,  -999.00,     1321
  49UP20110912,RF1109,  4163,  1,     32,  22105,2,20110918,1224, 33.0173, 148.1618, 5860,     76.7,  21.2864,  34.6910,2,-999.0000,9,    204.0,2,     3.05,2,     1.88,2,     0.13,2,     0.13,2,   -999.0,9,   -999.0,9,-999.0000,9,  -999.00,     1319
  49UP20110912,RF1109,  4163,  1,     31,  22104,2,20110918,1224, 33.0173, 148.1618, 5860,    100.9,  20.0794,  34.7280,2,-999.0000,9,    218.4,2,     2.59,2,     1.03,2,     0.16,2,     0.09,2,   -999.0,9,   -999.0,9,-999.0000,9,  -999.00,     1314
  49UP20110912,RF1109,  4163,  1,     30,  22103,2,20110918,1224, 33.0173, 148.1618, 5860,    125.1,  19.1726,  34.7508,2,-999.0000,9,    213.8,2,     3.06,2,     1.66,2,     0.09,2,     0.14,2,   -999.0,9,   -999.0,9,-999.0000,9,  -999.00,     1313
  49UP20110912,RF1109,  4163,  1,     27,  22100,2,20110918,1224, 33.0173, 148.1618, 5860,    149.1,  18.5862,  34.7079,2,-999.0000,9,    194.2,2,     5.33,2,     4.69,2,     0.01,2,     0.31,2,   -999.0,9,   -999.0,9,-999.0000,9,  -999.00,     1311
  49UP20110912,RF1109,  4163,  1,     26,  22099,2,20110918,1224, 33.0173, 148.1618, 5860,    149.1,  18.5862,  34.7079,2,-999.0000,9,    194.2,6,     5.30,6,     4.69,6,     0.01,6,     0.31,6,   -999.0,9,   -999.0,9,-999.0000,9,  -999.00,     1311
  49UP20110912,RF1109,  4163,  1,     25,  22098,2,20110918,1224, 33.0173, 148.1618, 5860,    201.8,  17.6441,  34.6957,2,-999.0000,9,    191.7,2,     6.63,2,     5.98,2,     0.01,2,     0.40,2,   -999.0,9,   -999.0,9,-999.0000,9,  -999.00,     1309
  49UP20110912,RF1109,  4163,  1,     22,  22095,2,20110918,1224, 33.0173, 148.1618, 5860,    252.8,  16.3110,  34.6245,2,-999.0000,9,    174.6,2,    12.46,2,     9.61,2,     0.01,2,     0.66,2,   -999.0,9,   -999.0,9,-999.0000,9,  -999.00,     1307
  49UP20110912,RF1109,  4163,  1,     21,  22094,2,20110918,1224, 33.0173, 148.1618, 5860,    302.4,  15.2023,  34.5836,2,-999.0000,9,    180.1,2,    11.86,2,    10.43,2,     0.00,2,     0.70,2,   -999.0,9,   -999.0,9,-999.0000,9,  -999.00,     1305
  49UP20110912,RF1109,  4163,  1,     20,  22093,2,20110918,1224, 33.0173, 148.1618, 5860,    406.3,  12.6937,  34.4309,2,-999.0000,9,    171.5,2,    20.77,2,    15.14,2,     0.00,2,     1.03,2,   -999.0,9,   -999.0,9,-999.0000,9,  -999.00,     1301
  49UP20110912,RF1109,  4163,  1,     18,  22091,2,20110918,1224, 33.0173, 148.1618, 5860,    509.4,  10.0065,  34.3218,2,-999.0000,9,    142.6,2,    40.36,2,    22.32,2,     0.00,2,     1.56,2,   -999.0,9,   -999.0,9,-999.0000,9,  -999.00,     1257
  49UP20110912,RF1109,  4163,  1,     17,  22090,2,20110918,1224, 33.0173, 148.1618, 5860,    610.8,   6.4498,  34.0235,2,-999.0000,9,    147.5,2,    57.45,2,    28.19,2,     0.00,2,     2.02,2,   -999.0,9,   -999.0,9,-999.0000,9,  -999.00,     1254
  49UP20110912,RF1109,  4163,  1,     16,  22089,2,20110918,1224, 33.0173, 148.1618, 5860,    711.4,   5.3681,  34.1129,2,-999.0000,9,    100.9,2,    79.66,2,    34.14,2,     0.00,2,     2.43,2,   -999.0,9,   -999.0,9,-999.0000,9,  -999.00,     1250
  49UP20110912,RF1109,  4163,  1,     14,  22087,2,20110918,1224, 33.0173, 148.1618, 5860,    808.6,   4.4752,  34.1358,2,-999.0000,9,     73.5,2,    95.79,2,    38.14,2,     0.00,2,     2.70,2,   -999.0,9,   -999.0,9,-999.0000,9,  -999.00,     1247
  49UP20110912,RF1109,  4163,  1,     13,  22086,2,20110918,1224, 33.0173, 148.1618, 5860,    908.7,   4.0419,  34.2320,2,-999.0000,9,     55.7,2,   110.69,2,    40.07,2,     0.00,2,     2.83,2,   -999.0,9,   -999.0,9,-999.0000,9,  -999.00,     1244
  49UP20110912,RF1109,  4163,  1,     12,  22074,2,20110918,1224, 33.0173, 148.1618, 5860,   1009.3,   3.6388,  34.2942,2,-999.0000,9,     47.3,2,   122.07,2,    41.16,2,     0.00,2,     2.91,2,   -999.0,9,   -999.0,9,-999.0000,9,  -999.00,     1242
  49UP20110912,RF1109,  4163,  1,      9,  22082,2,20110918,1224, 33.0173, 148.1618, 5860,   1211.5,   3.1137,  34.3896,2,-999.0000,9,     42.6,2,   136.50,2,    42.08,2,     0.00,2,     2.96,2,   -999.0,9,   -999.0,9,-999.0000,9,  -999.00,     1238
  49UP20110912,RF1109,  4163,  1,      8,  22081,2,20110918,1224, 33.0173, 148.1618, 5860,   1211.5,   3.1137,  34.3896,2,-999.0000,9,     42.3,6,   137.17,6,    42.14,6,     0.00,6,     2.97,6,   -999.0,9,   -999.0,9,-999.0000,9,  -999.00,     1238
  49UP20110912,RF1109,  4163,  1,      7,  22080,2,20110918,1224, 33.0173, 148.1618, 5860,   1415.7,   2.6606,  34.4654,2,-999.0000,9,     42.4,2,   149.20,2,    42.59,2,     0.00,2,     2.99,2,   -999.0,9,   -999.0,9,-999.0000,9,  -999.00,     1234
  49UP20110912,RF1109,  4163,  1,      4,  22077,2,20110918,1224, 33.0173, 148.1618, 5860,   1615.1,   2.3400,  34.5225,2,-999.0000,9,     49.4,2,   157.91,2,    42.58,2,     0.00,2,     2.97,2,   -999.0,9,   -999.0,9,-999.0000,9,  -999.00,     1231
  49UP20110912,RF1109,  4163,  1,      3,  22076,2,20110918,1224, 33.0173, 148.1618, 5860,   1815.5,   2.1556,  34.5574,2,-999.0000,9,     57.9,2,   161.51,2,    42.17,2,     0.00,2,     2.94,2,   -999.0,9,   -999.0,9,-999.0000,9,  -999.00,     1227
  49UP20110912,RF1109,  4163,  1,      2,  22075,2,20110918,1224, 33.0173, 148.1618, 5860,   2017.6,   1.9864,  34.5881,2,-999.0000,9,     72.9,2,   162.51,2,    41.23,2,     0.00,2,     2.86,2,   -999.0,9,   -999.0,9,-999.0000,9,  -999.00,     1224
  49UP20110912,RF1109,  4165,  1,     99,     99,2,20110920,0025, 34.0080, 148.5380, 6138,      0.0,  27.1381,  34.3382,2,-999.0000,9,    204.3,2,     1.66,2,     0.02,2,     0.00,2,     0.01,2,   -999.0,9,   -999.0,9,-999.0000,9,  -999.00,      103
  49UP20110912,RF1109,  4165,  1,     36,  22109,2,20110920,0025, 34.0080, 148.5380, 6138,     10.8,  27.0531,  34.3354,2,  34.3350,2,    204.4,2,     1.66,2,     0.00,2,     0.00,2,     0.00,2,   -999.0,9,   -999.0,9,-999.0000,9,  -999.00,      120
  49UP20110912,RF1109,  4165,  1,     35,  22108,2,20110920,0025, 34.0080, 148.5380, 6138,     26.2,  27.0456,  34.3409,2,-999.0000,9,    204.5,2,     1.71,2,     0.00,2,     0.00,2,     0.00,2,   -999.0,9,   -999.0,9,-999.0000,9,  -999.00,      119
  49UP20110912,RF1109,  4165,  1,     34,  22107,2,20110920,0025, 34.0080, 148.5380, 6138,     51.4,  23.7124,  34.6079,2,-999.0000,9,    221.4,2,     1.91,2,     0.01,2,     0.00,2,     0.01,2,   -999.0,9,   -999.0,9,-999.0000,9,  -999.00,      117
  49UP20110912,RF1109,  4165,  1,     32,  22105,2,20110920,0025, 34.0080, 148.5380, 6138,     76.5,  20.7007,  34.7190,2,-999.0000,9,    215.1,2,     2.68,2,     0.74,2,     0.08,2,     0.07,2,   -999.0,9,   -999.0,9,-999.0000,9,  -999.00,      116
  49UP20110912,RF1109,  4165,  1,     31,  22104,2,20110920,0025, 34.0080, 148.5380, 6138,    100.0,  19.7490,  34.8003,2,  34.7928,4,    223.4,2,     2.20,2,     0.18,2,     0.12,2,     0.04,2,   -999.0,9,   -999.0,9,-999.0000,9,  -999.00,      112
  49UP20110912,RF1109,  4165,  1,     30,  22103,2,20110920,0025, 34.0080, 148.5380, 6138,    125.8,  18.8593,  34.7878,2,-999.0000,9,    216.6,2,     2.27,2,     0.80,2,     0.16,2,     0.08,2,   -999.0,9,   -999.0,9,-999.0000,9,  -999.00,      110
  49UP20110912,RF1109,  4165,  1,     29,  22102,2,20110920,0025, 34.0080, 148.5380, 6138,    125.8,  18.8593,  34.7878,2,-999.0000,9,    216.6,6,     2.33,6,     0.84,6,     0.15,6,     0.08,6,   -999.0,9,   -999.0,9,-999.0000,9,  -999.00,      110
  49UP20110912,RF1109,  4165,  1,     26,  22099,2,20110920,0025, 34.0080, 148.5380, 6138,    152.3,  18.3594,  34.7558,2,-999.0000,9,    211.2,2,     2.86,2,     2.71,2,     0.03,2,     0.17,2,   -999.0,9,   -999.0,9,-999.0000,9,  -999.00,      109
  49UP20110912,RF1109,  4165,  1,     25,  22098,2,20110920,0025, 34.0080, 148.5380, 6138,    204.7,  17.6582,  34.7266,2,  34.7261,2,    214.5,2,     3.36,2,     3.33,2,     0.01,2,     0.22,2,   -999.0,9,   -999.0,9,-999.0000,9,  -999.00,      107
  49UP20110912,RF1109,  4165,  1,     22,  22095,2,20110920,0025, 34.0080, 148.5380, 6138,    252.4,  17.2262,  34.7145,2,-999.0000,9,    218.8,2,     3.78,2,     3.75,2,     0.01,2,     0.25,2,   -999.0,9,   -999.0,9,-999.0000,9,  -999.00,      105
  49UP20110912,RF1109,  4165,  1,     21,  22094,2,20110920,0025, 34.0080, 148.5380, 6138,    302.6,  17.0636,  34.7144,2,-999.0000,9,    221.2,2,     3.94,2,     3.82,2,     0.01,2,     0.25,2,   -999.0,9,   -999.0,9,-999.0000,9,  -999.00,      104
  49UP20110912,RF1109,  4165,  1,     20,  22093,2,20110920,0025, 34.0080, 148.5380, 6138,    403.5,  16.3427,  34.6470,2,  34.6470,2,    198.5,2,     6.78,2,     7.01,2,     0.00,2,     0.46,2,   -999.0,9,   -999.0,9,-999.0000,9,  -999.00,      101
  49UP20110912,RF1109,  4165,  1,     18,  22091,2,20110920,0025, 34.0080, 148.5380, 6138,    504.6,  13.7310,  34.4838,2,-999.0000,9,    183.2,2,    15.32,2,    12.54,2,     0.00,2,     0.84,2,   -999.0,9,   -999.0,9,-999.0000,9,  -999.00,       58
  49UP20110912,RF1109,  4165,  1,     17,  22090,2,20110920,0025, 34.0080, 148.5380, 6138,    605.2,  10.5398,  34.2925,2,  34.2924,2,    163.4,2,    32.12,2,    19.52,2,     0.00,2,     1.36,2,   -999.0,9,   -999.0,9,-999.0000,9,  -999.00,       56
  49UP20110912,RF1109,  4165,  1,     16,  22089,2,20110920,0025, 34.0080, 148.5380, 6138,    707.6,   6.9994,  34.0230,2,-999.0000,9,    160.0,2,    50.16,2,    25.95,2,     0.00,2,     1.87,2,   -999.0,9,   -999.0,9,-999.0000,9,  -999.00,       54
  49UP20110912,RF1109,  4165,  1,     14,  22087,2,20110920,0025, 34.0080, 148.5380, 6138,    807.7,   4.6093,  33.9103,2,  33.9093,2,    124.5,2,    75.07,2,    34.06,2,     0.00,2,     2.44,2,   -999.0,9,   -999.0,9,-999.0000,9,  -999.00,       51
  49UP20110912,RF1109,  4165,  1,     13,  22086,2,20110920,0025, 34.0080, 148.5380, 6138,    907.3,   4.6800,  34.1159,2,-999.0000,9,     81.4,2,    91.03,2,    37.12,2,     0.00,2,     2.64,2,   -999.0,9,   -999.0,9,-999.0000,9,  -999.00,       48
  49UP20110912,RF1109,  4165,  1,     12,  22074,2,20110920,0025, 34.0080, 148.5380, 6138,   1009.6,   4.2628,  34.1968,2,  34.1979,2,     61.5,2,   104.11,2,    39.39,2,     0.00,2,     2.79,2,   -999.0,9,   -999.0,9,-999.0000,9,  -999.00,       46
  49UP20110912,RF1109,  4165,  1,     11,  22110,2,20110920,0025, 34.0080, 148.5380, 6138,   1009.6,   4.2628,  34.1968,2,  34.1981,6,     61.8,6,   104.44,6,    39.43,6,     0.00,6,     2.79,6,   -999.0,9,   -999.0,9,-999.0000,9,  -999.00,       46
  49UP20110912,RF1109,  4165,  1,      8,  22081,2,20110920,0025, 34.0080, 148.5380, 6138,   1211.7,   3.4774,  34.3330,2,  34.3334,2,     43.8,2,   126.86,2,    41.78,2,     0.00,2,     2.94,2,   -999.0,9,   -999.0,9,-999.0000,9,  -999.00,       42
  49UP20110912,RF1109,  4165,  1,      7,  22080,2,20110920,0025, 34.0080, 148.5380, 6138,   1414.7,   2.9174,  34.4209,2,  34.4200,2,     40.9,2,   142.63,2,    42.52,2,     0.00,2,     3.00,2,   -999.0,9,   -999.0,9,-999.0000,9,  -999.00,       37
  49UP20110912,RF1109,  4165,  1,      4,  22077,2,20110920,0025, 34.0080, 148.5380, 6138,   1618.1,   2.5675,  34.4821,2,  34.4783,4,     43.0,2,   152.83,2,    42.87,2,     0.00,2,     2.99,2,   -999.0,9,   -999.0,9,-999.0000,9,  -999.00,       33
  49UP20110912,RF1109,  4165,  1,      3,  22076,2,20110920,0025, 34.0080, 148.5380, 6138,   1821.4,   2.3076,  34.5298,2,  34.5263,4,     50.0,2,   158.89,2,    42.58,2,     0.00,2,     2.97,2,   -999.0,9,   -999.0,9,-999.0000,9,  -999.00,       29
  49UP20110912,RF1109,  4165,  1,      2,  22075,2,20110920,0025, 34.0080, 148.5380, 6138,   2023.8,   2.1189,  34.5655,2,  34.5637,2,     62.4,2,   161.65,2,    41.97,2,     0.00,2,     2.91,2,   -999.0,9,   -999.0,9,-999.0000,9,  -999.00,       25