BOTTLE,20200204PRINUNIVRMK
EXPOCODE,SECT_ID,STNNBR,CASTNO,SAMPNO,BTLNBR,BTLNBR_FLAG_W,DATE,TIME,LATITUDE,LONGITUDE,DEPTH,CTDPRS,CTDTMP,CTDSAL,CTDSAL_FLAG_W,SALNTY,SALNTY_FLAG_W,OXYGEN,OXYGEN_FLAG_W,SILCAT,SILCAT_FLAG_W,NITRAT,NITRAT_FLAG_W,NITRIT,NITRIT_FLAG_W,PHSPHT,PHSPHT_FLAG_W,TCARBN,TCARBN_FLAG_W,ALKALI,ALKALI_FLAG_W,PH_TOT,PH_TOT_FLAG_W,PH_TMP,BTL_TIME
,,,,,,,,,,,METERS,DBAR,ITS-90,PSS-78,,PSS-78,,UMOL/KG,,UMOL/KG,,UMOL/KG,,UMOL/KG,,UMOL/KG,,UMOL/KG,,UMOL/KG,,,,DEG C,
  49UP20110912,RF1109,  4174,  1,     99,     99,2,20110924,0838, 38.0000, 148.9975, 5797,      0.0,  23.9828,  33.8902,2,-999.0000,9,    218.1,2,     2.10,2,     0.06,2,     0.00,2,     0.05,2,   -999.0,9,   -999.0,9,-999.0000,9,  -999.00,      925
  49UP20110912,RF1109,  4174,  1,     35,  22108,2,20110924,0838, 38.0000, 148.9975, 5797,     11.3,  23.9895,  33.8900,2,-999.0000,9,    216.6,2,     2.17,2,     0.09,2,     0.00,2,     0.04,2,   -999.0,9,   -999.0,9,-999.0000,9,  -999.00,      950
  49UP20110912,RF1109,  4174,  1,     34,  22107,2,20110924,0838, 38.0000, 148.9975, 5797,     26.5,  23.9764,  33.8858,2,-999.0000,9,    217.3,2,     2.11,2,     0.09,2,     0.00,2,     0.05,2,   -999.0,9,   -999.0,9,-999.0000,9,  -999.00,      948
  49UP20110912,RF1109,  4174,  1,     33,  22106,2,20110924,0838, 38.0000, 148.9975, 5797,     26.5,  23.9764,  33.8858,2,-999.0000,9,    218.0,6,     2.21,6,     0.09,6,     0.00,6,     0.05,6,   -999.0,9,   -999.0,9,-999.0000,9,  -999.00,      948
  49UP20110912,RF1109,  4174,  1,     31,  22104,2,20110924,0838, 38.0000, 148.9975, 5797,     52.2,  15.0814,  34.2951,2,-999.0000,9,    216.6,2,     9.91,2,     6.06,2,     0.48,2,     0.51,2,   -999.0,9,   -999.0,9,-999.0000,9,  -999.00,      946
  49UP20110912,RF1109,  4174,  1,     30,  22103,2,20110924,0838, 38.0000, 148.9975, 5797,     76.5,  13.1253,  34.3375,2,-999.0000,9,    180.1,2,    19.24,2,    13.26,2,     0.04,2,     0.92,2,   -999.0,9,   -999.0,9,-999.0000,9,  -999.00,      944
  49UP20110912,RF1109,  4174,  1,     29,  22102,2,20110924,0838, 38.0000, 148.9975, 5797,    100.4,  11.0817,  34.1646,2,-999.0000,9,    197.8,2,    20.56,2,    14.02,2,     0.03,2,     1.00,2,   -999.0,9,   -999.0,9,-999.0000,9,  -999.00,      939
  49UP20110912,RF1109,  4174,  1,     26,  22099,2,20110924,0838, 38.0000, 148.9975, 5797,    126.7,  10.4976,  34.2541,2,-999.0000,9,    172.2,2,    30.74,2,    18.37,2,     0.02,2,     1.29,2,   -999.0,9,   -999.0,9,-999.0000,9,  -999.00,      938
  49UP20110912,RF1109,  4174,  1,     25,  22098,2,20110924,0838, 38.0000, 148.9975, 5797,    155.2,   8.8526,  34.0356,2,-999.0000,9,    196.4,2,    29.25,2,    18.01,2,     0.01,2,     1.29,2,   -999.0,9,   -999.0,9,-999.0000,9,  -999.00,      937
  49UP20110912,RF1109,  4174,  1,     24,  22097,2,20110924,0838, 38.0000, 148.9975, 5797,    203.8,   7.4910,  33.9941,2,-999.0000,9,    181.3,2,    41.62,2,    22.68,2,     0.01,2,     1.64,2,   -999.0,9,   -999.0,9,-999.0000,9,  -999.00,      935
  49UP20110912,RF1109,  4174,  1,     21,  22094,2,20110924,0838, 38.0000, 148.9975, 5797,    254.8,   6.6076,  34.0298,2,-999.0000,9,    152.4,2,    55.34,2,    27.58,2,     0.01,2,     1.98,2,   -999.0,9,   -999.0,9,-999.0000,9,  -999.00,      933
  49UP20110912,RF1109,  4174,  1,     20,  22093,2,20110924,0838, 38.0000, 148.9975, 5797,    303.7,   6.3095,  34.1274,2,-999.0000,9,    124.1,2,    66.02,2,    30.51,2,     0.01,2,     2.18,2,   -999.0,9,   -999.0,9,-999.0000,9,  -999.00,      931
  49UP20110912,RF1109,  4174,  1,     19,  22092,2,20110924,0838, 38.0000, 148.9975, 5797,    405.6,   5.5575,  34.1955,2,-999.0000,9,     93.0,2,    82.15,2,    34.62,2,     0.01,2,     2.47,2,   -999.0,9,   -999.0,9,-999.0000,9,  -999.00,      928
  49UP20110912,RF1109,  4174,  1,     17,  22090,2,20110924,0838, 38.0000, 148.9975, 5797,    505.5,   4.2334,  34.1753,2,-999.0000,9,     65.2,2,   102.69,2,    39.33,2,     0.00,2,     2.81,2,   -999.0,9,   -999.0,9,-999.0000,9,  -999.00,      924
  49UP20110912,RF1109,  4174,  1,     16,  22089,2,20110924,0838, 38.0000, 148.9975, 5797,    607.1,   3.6794,  34.2325,2,-999.0000,9,     48.5,2,   117.65,2,    41.25,2,     0.00,2,     2.93,2,   -999.0,9,   -999.0,9,-999.0000,9,  -999.00,      921
  49UP20110912,RF1109,  4174,  1,     15,  22088,2,20110924,0838, 38.0000, 148.9975, 5797,    607.1,   3.6794,  34.2325,2,-999.0000,9,     48.2,6,   117.81,6,    41.31,6,     0.00,6,     2.93,6,   -999.0,9,   -999.0,9,-999.0000,9,  -999.00,      921
  49UP20110912,RF1109,  4174,  1,     13,  22086,2,20110924,0838, 38.0000, 148.9975, 5797,    708.6,   3.5642,  34.3132,2,-999.0000,9,     47.5,2,   123.17,2,    41.23,2,     0.00,2,     2.94,2,   -999.0,9,   -999.0,9,-999.0000,9,  -999.00,      919
  49UP20110912,RF1109,  4174,  1,     12,  22074,2,20110924,0838, 38.0000, 148.9975, 5797,    807.9,   3.2965,  34.3547,2,-999.0000,9,     43.2,2,   130.88,2,    41.89,2,     0.00,2,     2.97,2,   -999.0,9,   -999.0,9,-999.0000,9,  -999.00,      916
  49UP20110912,RF1109,  4174,  1,     11,  22110,2,20110924,0838, 38.0000, 148.9975, 5797,    910.1,   3.0732,  34.3984,2,-999.0000,9,     43.5,6,   137.12,2,    42.09,2,     0.00,2,     2.98,2,   -999.0,9,   -999.0,9,-999.0000,9,  -999.00,      914
  49UP20110912,RF1109,  4174,  1,      8,  22081,2,20110924,0838, 38.0000, 148.9975, 5797,   1010.3,   2.8712,  34.4269,2,-999.0000,9,     41.5,2,   143.20,2,    42.40,2,     0.00,2,     3.00,2,   -999.0,9,   -999.0,9,-999.0000,9,  -999.00,      905
  49UP20110912,RF1109,  4174,  1,      7,  22080,2,20110924,0838, 38.0000, 148.9975, 5797,   1215.1,   2.5487,  34.4809,2,-999.0000,9,     42.8,2,   152.35,2,    42.58,2,     0.00,2,     3.02,2,   -999.0,9,   -999.0,9,-999.0000,9,  -999.00,      901
  49UP20110912,RF1109,  4174,  1,      6,  22079,2,20110924,0838, 38.0000, 148.9975, 5797,   1416.5,   2.3195,  34.5246,2,-999.0000,9,     50.5,2,   157.69,2,    42.30,2,     0.00,2,     2.97,2,   -999.0,9,   -999.0,9,-999.0000,9,  -999.00,      857
  49UP20110912,RF1109,  4174,  1,      3,  22076,2,20110924,0838, 38.0000, 148.9975, 5797,   1619.9,   2.1270,  34.5593,2,-999.0000,9,     60.2,2,   161.35,2,    41.81,2,     0.00,2,     2.93,2,   -999.0,9,   -999.0,9,-999.0000,9,  -999.00,      847
  49UP20110912,RF1109,  4174,  1,      2,  22075,2,20110924,0838, 38.0000, 148.9975, 5797,   1822.2,   1.9680,  34.5884,2,-999.0000,9,     72.8,2,   162.60,2,    41.13,2,     0.00,2,     2.88,2,   -999.0,9,   -999.0,9,-999.0000,9,  -999.00,      843
  49UP20110912,RF1109,  4174,  1,      1,  22112,2,20110924,0838, 38.0000, 148.9975, 5797,   2025.2,   1.8427,  34.6102,2,-999.0000,9,     85.7,2,   162.58,2,    40.37,2,     0.00,2,     2.82,2,   -999.0,9,   -999.0,9,-999.0000,9,  -999.00,      838
  49UP20110912,RF1109,  4177,  1,     99,     99,2,20110924,2133, 38.9720, 148.3077, 5625,      0.0,  23.9628,  33.8339,2,-999.0000,9,    214.2,2,     2.09,2,     0.07,2,     0.00,2,     0.05,2,   -999.0,9,   -999.0,9,-999.0000,9,  -999.00,     2225
  49UP20110912,RF1109,  4177,  1,     35,  22108,2,20110924,2133, 38.9720, 148.3077, 5625,     10.6,  23.9698,  33.8318,2,  33.8327,2,    214.9,2,     2.04,2,     0.05,2,     0.00,2,     0.04,2,   -999.0,9,   -999.0,9,-999.0000,9,  -999.00,     2301
  49UP20110912,RF1109,  4177,  1,     34,  22107,2,20110924,2133, 38.9720, 148.3077, 5625,     10.6,  23.9698,  33.8318,2,  33.8328,6,    214.4,6,     2.01,6,     0.08,6,     0.00,6,     0.05,6,   -999.0,9,   -999.0,9,-999.0000,9,  -999.00,     2301
  49UP20110912,RF1109,  4177,  1,     33,  22106,2,20110924,2133, 38.9720, 148.3077, 5625,     26.3,  18.3856,  34.0291,2,-999.0000,9,    255.2,2,     1.52,2,     0.08,2,     0.01,2,     0.08,2,   -999.0,9,   -999.0,9,-999.0000,9,  -999.00,     2300
  49UP20110912,RF1109,  4177,  1,     31,  22104,2,20110924,2133, 38.9720, 148.3077, 5625,     52.1,  15.2751,  34.3241,2,-999.0000,9,    200.4,2,    10.92,2,     7.99,2,     0.09,2,     0.58,2,   -999.0,9,   -999.0,9,-999.0000,9,  -999.00,     2257
  49UP20110912,RF1109,  4177,  1,     30,  22103,2,20110924,2133, 38.9720, 148.3077, 5625,     76.8,  13.4129,  34.2790,2,-999.0000,9,    193.4,2,    15.40,2,    10.95,2,     0.05,2,     0.78,2,   -999.0,9,   -999.0,9,-999.0000,9,  -999.00,     2255
  49UP20110912,RF1109,  4177,  1,     29,  22102,2,20110924,2133, 38.9720, 148.3077, 5625,    100.5,  12.0104,  34.2681,2,  34.2576,4,    192.5,2,    19.31,2,    13.87,2,     0.04,2,     0.99,2,   -999.0,9,   -999.0,9,-999.0000,9,  -999.00,     2250
  49UP20110912,RF1109,  4177,  1,     26,  22099,2,20110924,2133, 38.9720, 148.3077, 5625,    127.3,  10.8381,  34.2433,2,-999.0000,9,    180.9,2,    26.11,2,    16.83,2,     0.03,2,     1.20,2,   -999.0,9,   -999.0,9,-999.0000,9,  -999.00,     2248
  49UP20110912,RF1109,  4177,  1,     25,  22098,2,20110924,2133, 38.9720, 148.3077, 5625,    150.9,   9.9272,  34.1545,2,-999.0000,9,    205.7,2,    24.55,2,    16.22,2,     0.02,2,     1.15,2,   -999.0,9,   -999.0,9,-999.0000,9,  -999.00,     2246
  49UP20110912,RF1109,  4177,  1,     24,  22097,2,20110924,2133, 38.9720, 148.3077, 5625,    201.5,   8.6865,  34.1431,2,  34.1475,2,    166.6,2,    39.40,2,    22.23,2,     0.02,2,     1.59,2,   -999.0,9,   -999.0,9,-999.0000,9,  -999.00,     2244
  49UP20110912,RF1109,  4177,  1,     21,  22094,2,20110924,2133, 38.9720, 148.3077, 5625,    252.8,   6.5221,  33.9423,2,-999.0000,9,    169.6,2,    50.01,2,    26.19,2,     0.02,2,     1.90,2,   -999.0,9,   -999.0,9,-999.0000,9,  -999.00,     2242
  49UP20110912,RF1109,  4177,  1,     20,  22093,2,20110924,2133, 38.9720, 148.3077, 5625,    304.2,   5.7123,  33.9471,2,-999.0000,9,    151.0,2,    60.58,2,    29.72,2,     0.01,2,     2.16,2,   -999.0,9,   -999.0,9,-999.0000,9,  -999.00,     2240
  49UP20110912,RF1109,  4177,  1,     19,  22092,2,20110924,2133, 38.9720, 148.3077, 5625,    405.2,   4.9550,  34.0309,2,  34.0305,2,    107.9,2,    78.47,2,    34.58,2,     0.01,2,     2.49,2,   -999.0,9,   -999.0,9,-999.0000,9,  -999.00,     2234
  49UP20110912,RF1109,  4177,  1,     17,  22090,2,20110924,2133, 38.9720, 148.3077, 5625,    506.2,   4.4803,  34.1259,2,-999.0000,9,     75.3,2,    95.22,2,    38.12,2,     0.01,2,     2.72,2,   -999.0,9,   -999.0,9,-999.0000,9,  -999.00,     2230
  49UP20110912,RF1109,  4177,  1,     16,  22089,2,20110924,2133, 38.9720, 148.3077, 5625,    506.2,   4.4803,  34.1259,2,-999.0000,9,     75.8,6,    95.14,6,    38.02,2,     0.01,6,     2.73,6,   -999.0,9,   -999.0,9,-999.0000,9,  -999.00,     2230
  49UP20110912,RF1109,  4177,  1,     15,  22088,2,20110924,2133, 38.9720, 148.3077, 5625,    607.1,   3.8083,  34.1619,2,  34.1593,2,     51.2,2,   111.18,2,    41.00,2,     0.00,2,     2.92,2,   -999.0,9,   -999.0,9,-999.0000,9,  -999.00,     2227
  49UP20110912,RF1109,  4177,  1,     13,  22086,2,20110924,2133, 38.9720, 148.3077, 5625,    707.4,   3.8125,  34.2611,2,-999.0000,9,     49.3,2,   116.40,2,    41.03,2,     0.00,2,     2.91,2,   -999.0,9,   -999.0,9,-999.0000,9,  -999.00,     2223
  49UP20110912,RF1109,  4177,  1,     12,  22074,2,20110924,2133, 38.9720, 148.3077, 5625,    808.4,   3.4472,  34.3285,2,  34.3278,2,     43.5,2,   127.17,2,    41.75,2,     0.00,2,     2.97,2,   -999.0,9,   -999.0,9,-999.0000,9,  -999.00,     2215
  49UP20110912,RF1109,  4177,  1,     11,  22110,2,20110924,2133, 38.9720, 148.3077, 5625,    913.1,   3.2054,  34.3662,2,-999.0000,9,     40.4,2,   134.10,2,    42.41,2,     0.00,2,     3.01,2,   -999.0,9,   -999.0,9,-999.0000,9,  -999.00,     2211
  49UP20110912,RF1109,  4177,  1,      8,  22081,2,20110924,2133, 38.9720, 148.3077, 5625,   1009.7,   2.9847,  34.4023,2,  34.4018,2,     39.2,2,   140.26,2,    42.69,2,     0.00,2,     3.02,2,   -999.0,9,   -999.0,9,-999.0000,9,  -999.00,     2208
  49UP20110912,RF1109,  4177,  1,      7,  22080,2,20110924,2133, 38.9720, 148.3077, 5625,   1217.8,   2.6392,  34.4646,2,  34.4646,2,     40.8,2,   150.67,2,    42.93,2,     0.00,2,     3.04,2,   -999.0,9,   -999.0,9,-999.0000,9,  -999.00,     2154
  49UP20110912,RF1109,  4177,  1,      6,  22079,2,20110924,2133, 38.9720, 148.3077, 5625,   1418.0,   2.4017,  34.5068,2,  34.5070,2,     44.6,2,   156.96,2,    42.83,2,     0.00,2,     3.03,2,   -999.0,9,   -999.0,9,-999.0000,9,  -999.00,     2148
  49UP20110912,RF1109,  4177,  1,      3,  22076,2,20110924,2133, 38.9720, 148.3077, 5625,   1620.9,   2.1965,  34.5453,2,  34.5453,2,     53.7,2,   161.09,2,    42.58,2,     0.00,2,     2.98,2,   -999.0,9,   -999.0,9,-999.0000,9,  -999.00,     2141
  49UP20110912,RF1109,  4177,  1,      2,  22075,2,20110924,2133, 38.9720, 148.3077, 5625,   1821.7,   2.0421,  34.5744,2,  34.5757,2,     64.4,2,   163.37,2,    41.96,2,     0.00,2,     2.93,2,   -999.0,9,   -999.0,9,-999.0000,9,  -999.00,     2137
  49UP20110912,RF1109,  4177,  1,      1,  22112,2,20110924,2133, 38.9720, 148.3077, 5625,   2023.9,   1.9149,  34.5976,2,  34.5984,2,     77.1,2,   163.73,2,    41.20,2,     0.00,2,     2.87,2,   -999.0,9,   -999.0,9,-999.0000,9,  -999.00,     2133
  49UP20110912,RF1109,  4180,  1,     99,     99,2,20110925,0844, 39.9938, 147.6298, 5273,      0.0,  20.2334,  33.7825,2,-999.0000,9,    236.4,2,     3.22,2,     0.06,2,     0.00,2,     0.10,2,   -999.0,9,   -999.0,9,-999.0000,9,  -999.00,      915
  49UP20110912,RF1109,  4180,  1,     35,  22108,2,20110925,0844, 39.9938, 147.6298, 5273,     11.5,  20.2461,  33.7822,2,-999.0000,9,    235.8,2,     3.22,2,     0.03,2,     0.00,2,     0.10,2,   -999.0,9,   -999.0,9,-999.0000,9,  -999.00,      943
  49UP20110912,RF1109,  4180,  1,     34,  22107,2,20110925,0844, 39.9938, 147.6298, 5273,     25.9,  18.1316,  33.6950,2,-999.0000,9,    249.9,2,     4.63,2,     0.84,2,     0.04,2,     0.18,2,   -999.0,9,   -999.0,9,-999.0000,9,  -999.00,      942
  49UP20110912,RF1109,  4180,  1,     33,  22106,2,20110925,0844, 39.9938, 147.6298, 5273,     52.9,  12.3580,  34.3314,2,-999.0000,9,    195.9,2,    18.04,2,    13.45,2,     0.03,2,     0.95,2,   -999.0,9,   -999.0,9,-999.0000,9,  -999.00,      939
  49UP20110912,RF1109,  4180,  1,     31,  22104,2,20110925,0844, 39.9938, 147.6298, 5273,     77.2,  10.9564,  34.2431,2,-999.0000,9,    200.7,2,    21.70,2,    15.13,2,     0.02,2,     1.08,2,   -999.0,9,   -999.0,9,-999.0000,9,  -999.00,      937
  49UP20110912,RF1109,  4180,  1,     30,  22103,2,20110925,0844, 39.9938, 147.6298, 5273,    102.7,  10.1220,  34.1613,2,-999.0000,9,    210.3,2,    22.69,2,    15.54,2,     0.02,2,     1.12,2,   -999.0,9,   -999.0,9,-999.0000,9,  -999.00,      932
  49UP20110912,RF1109,  4180,  1,     29,  22102,2,20110925,0844, 39.9938, 147.6298, 5273,    126.4,   9.1778,  34.0544,2,-999.0000,9,    209.4,2,    26.53,2,    17.13,2,     0.01,2,     1.25,2,   -999.0,9,   -999.0,9,-999.0000,9,  -999.00,      931
  49UP20110912,RF1109,  4180,  1,     26,  22099,2,20110925,0844, 39.9938, 147.6298, 5273,    150.5,   8.3733,  33.9718,2,-999.0000,9,    216.0,2,    27.31,2,    17.30,2,     0.01,2,     1.27,2,   -999.0,9,   -999.0,9,-999.0000,9,  -999.00,      929
  49UP20110912,RF1109,  4180,  1,     25,  22098,2,20110925,0844, 39.9938, 147.6298, 5273,    199.9,   5.2608,  33.7025,2,-999.0000,9,    215.0,2,    45.01,2,    24.12,2,     0.01,2,     1.80,2,   -999.0,9,   -999.0,9,-999.0000,9,  -999.00,      928
  49UP20110912,RF1109,  4180,  1,     24,  22097,2,20110925,0844, 39.9938, 147.6298, 5273,    251.7,   3.6113,  33.5981,2,-999.0000,9,    198.8,2,    59.39,2,    29.55,2,     0.00,2,     2.20,2,   -999.0,9,   -999.0,9,-999.0000,9,  -999.00,      926
  49UP20110912,RF1109,  4180,  1,     21,  22094,2,20110925,0844, 39.9938, 147.6298, 5273,    301.9,   3.7123,  33.7149,2,-999.0000,9,    162.3,2,    69.13,2,    32.45,2,     0.01,2,     2.39,2,   -999.0,9,   -999.0,9,-999.0000,9,  -999.00,      924
  49UP20110912,RF1109,  4180,  1,     20,  22093,2,20110925,0844, 39.9938, 147.6298, 5273,    404.3,   3.5799,  33.8695,2,-999.0000,9,     97.1,2,    90.15,2,    38.53,2,     0.01,2,     2.78,2,   -999.0,9,   -999.0,9,-999.0000,9,  -999.00,      922
  49UP20110912,RF1109,  4180,  1,     19,  22092,2,20110925,0844, 39.9938, 147.6298, 5273,    404.3,   3.5799,  33.8695,2,-999.0000,9,     96.9,6,    89.98,6,    38.50,6,     0.01,6,     2.77,6,   -999.0,9,   -999.0,9,-999.0000,9,  -999.00,      921
  49UP20110912,RF1109,  4180,  1,     17,  22090,2,20110925,0844, 39.9938, 147.6298, 5273,    505.6,   3.4654,  34.0197,2,-999.0000,9,     53.3,2,   108.76,2,    42.04,2,     0.00,2,     2.99,2,   -999.0,9,   -999.0,9,-999.0000,9,  -999.00,      919
  49UP20110912,RF1109,  4180,  1,     16,  22089,2,20110925,0844, 39.9938, 147.6298, 5273,    605.2,   3.2738,  34.1159,2,-999.0000,9,     35.2,2,   121.74,2,    43.31,2,     0.00,2,     3.07,2,   -999.0,9,   -999.0,9,-999.0000,9,  -999.00,      916
  49UP20110912,RF1109,  4180,  1,     15,  22088,2,20110925,0844, 39.9938, 147.6298, 5273,    706.8,   3.1800,  34.1960,2,-999.0000,9,     29.4,2,   130.05,2,    43.51,2,     0.00,2,     3.09,2,   -999.0,9,   -999.0,9,-999.0000,9,  -999.00,      913
  49UP20110912,RF1109,  4180,  1,     13,  22086,2,20110925,0844, 39.9938, 147.6298, 5273,    810.7,   3.0974,  34.2949,2,-999.0000,9,     33.5,2,   136.97,2,    42.95,2,     0.00,2,     3.06,2,   -999.0,9,   -999.0,9,-999.0000,9,  -999.00,      911
  49UP20110912,RF1109,  4180,  1,     12,  22074,2,20110925,0844, 39.9938, 147.6298, 5273,    911.1,   3.0090,  34.3666,2,-999.0000,9,     38.8,2,   140.25,2,    42.56,2,     0.00,2,     3.03,2,   -999.0,9,   -999.0,9,-999.0000,9,  -999.00,      908
  49UP20110912,RF1109,  4180,  1,     11,  22110,2,20110925,0844, 39.9938, 147.6298, 5273,   1011.5,   2.8377,  34.3992,2,-999.0000,9,     38.4,2,   145.41,2,    42.80,2,     0.00,2,     3.04,2,   -999.0,9,   -999.0,9,-999.0000,9,  -999.00,      906
  49UP20110912,RF1109,  4180,  1,      8,  22081,2,20110925,0844, 39.9938, 147.6298, 5273,   1213.6,   2.5377,  34.4575,2,-999.0000,9,     40.6,2,   154.77,2,    42.96,2,     0.00,2,     3.05,2,   -999.0,9,   -999.0,9,-999.0000,9,  -999.00,      901
  49UP20110912,RF1109,  4180,  1,      7,  22080,2,20110925,0844, 39.9938, 147.6298, 5273,   1417.2,   2.3319,  34.5024,2,-999.0000,9,     47.3,2,   160.22,2,    42.71,2,     0.00,2,     3.02,2,   -999.0,9,   -999.0,9,-999.0000,9,  -999.00,      857
  49UP20110912,RF1109,  4180,  1,      6,  22079,2,20110925,0844, 39.9938, 147.6298, 5273,   1620.6,   2.1474,  34.5485,2,-999.0000,9,     56.6,2,   163.49,2,    42.19,2,     0.00,2,     2.98,2,   -999.0,9,   -999.0,9,-999.0000,9,  -999.00,      853
  49UP20110912,RF1109,  4180,  1,      3,  22076,2,20110925,0844, 39.9938, 147.6298, 5273,   1823.1,   2.0188,  34.5769,2,-999.0000,9,     67.0,2,   164.08,2,    41.64,2,     0.00,2,     2.92,2,   -999.0,9,   -999.0,9,-999.0000,9,  -999.00,      848
  49UP20110912,RF1109,  4180,  1,      2,  22075,2,20110925,0844, 39.9938, 147.6298, 5273,   2027.5,   1.8674,  34.6054,2,-999.0000,9,     81.9,2,   163.99,2,    40.77,2,     0.00,2,     2.85,2,   -999.0,9,   -999.0,9,-999.0000,9,  -999.00,      844
  49UP20110912,RF1109,  4180,  1,      1,  22112,2,20110925,0844, 39.9938, 147.6298, 5273,   2027.5,   1.8674,  34.6054,2,-999.0000,9,     81.9,6,   164.12,6,    40.84,6,     0.00,6,     2.85,6,   -999.0,9,   -999.0,9,-999.0000,9,  -999.00,      844