BOTTLE,20200204PRINUNIVRMK
EXPOCODE,SECT_ID,STNNBR,CASTNO,SAMPNO,BTLNBR,BTLNBR_FLAG_W,DATE,TIME,LATITUDE,LONGITUDE,DEPTH,CTDPRS,CTDTMP,CTDSAL,CTDSAL_FLAG_W,SALNTY,SALNTY_FLAG_W,OXYGEN,OXYGEN_FLAG_W,SILCAT,SILCAT_FLAG_W,NITRAT,NITRAT_FLAG_W,NITRIT,NITRIT_FLAG_W,PHSPHT,PHSPHT_FLAG_W,TCARBN,TCARBN_FLAG_W,ALKALI,ALKALI_FLAG_W,PH_TOT,PH_TOT_FLAG_W,PH_TMP,BTL_TIME
,,,,,,,,,,,METERS,DBAR,ITS-90,PSS-78,,PSS-78,,UMOL/KG,,UMOL/KG,,UMOL/KG,,UMOL/KG,,UMOL/KG,,UMOL/KG,,UMOL/KG,,,,DEG C,
  49UP20110912,RF1109,  4167,  1,     99,     99,2,20110920,0853, 35.0078, 148.9442, 6055,      0.0,  27.5193,  34.4113,2,-999.0000,9,    203.1,2,     1.78,2,     0.02,2,     0.00,2,     0.02,2,   -999.0,9,   -999.0,9,-999.0000,9,  -999.00,      935
  49UP20110912,RF1109,  4167,  1,     36,  22109,2,20110920,0853, 35.0078, 148.9442, 6055,     10.6,  27.5272,  34.4113,2,-999.0000,9,    203.0,2,     1.73,2,     0.00,2,     0.00,2,     0.01,2,   -999.0,9,   -999.0,9,-999.0000,9,  -999.00,      957
  49UP20110912,RF1109,  4167,  1,     35,  22108,2,20110920,0853, 35.0078, 148.9442, 6055,     26.2,  27.3527,  34.4409,2,-999.0000,9,    203.4,2,     1.64,2,     0.00,2,     0.00,2,     0.00,2,   -999.0,9,   -999.0,9,-999.0000,9,  -999.00,      955
  49UP20110912,RF1109,  4167,  1,     34,  22107,2,20110920,0853, 35.0078, 148.9442, 6055,     51.2,  24.6083,  34.6129,2,-999.0000,9,    220.1,2,     1.91,2,     0.00,2,     0.00,2,     0.01,2,   -999.0,9,   -999.0,9,-999.0000,9,  -999.00,      953
  49UP20110912,RF1109,  4167,  1,     32,  22105,2,20110920,0853, 35.0078, 148.9442, 6055,     77.4,  21.1882,  34.7240,2,-999.0000,9,    215.6,2,     2.40,2,     0.26,2,     0.11,2,     0.06,2,   -999.0,9,   -999.0,9,-999.0000,9,  -999.00,      951
  49UP20110912,RF1109,  4167,  1,     31,  22104,2,20110920,0853, 35.0078, 148.9442, 6055,    101.4,  20.0208,  34.7362,2,-999.0000,9,    212.8,2,     2.58,2,     0.87,2,     0.19,2,     0.10,2,   -999.0,9,   -999.0,9,-999.0000,9,  -999.00,      949
  49UP20110912,RF1109,  4167,  1,     30,  22103,2,20110920,0853, 35.0078, 148.9442, 6055,    101.4,  20.0208,  34.7362,2,-999.0000,9,    212.8,6,     2.64,6,     0.87,6,     0.19,6,     0.10,6,   -999.0,9,   -999.0,9,-999.0000,9,  -999.00,      949
  49UP20110912,RF1109,  4167,  1,     27,  22100,2,20110920,0853, 35.0078, 148.9442, 6055,    127.9,  19.0660,  34.7506,2,-999.0000,9,    204.6,2,     3.33,2,     2.82,2,     0.03,2,     0.19,2,   -999.0,9,   -999.0,9,-999.0000,9,  -999.00,      947
  49UP20110912,RF1109,  4167,  1,     26,  22099,2,20110920,0853, 35.0078, 148.9442, 6055,    151.1,  18.4659,  34.7450,2,-999.0000,9,    204.9,2,     3.78,2,     3.58,2,     0.02,2,     0.23,2,   -999.0,9,   -999.0,9,-999.0000,9,  -999.00,      945
  49UP20110912,RF1109,  4167,  1,     25,  22098,2,20110920,0853, 35.0078, 148.9442, 6055,    201.6,  17.5512,  34.7189,2,-999.0000,9,    208.2,2,     4.19,2,     4.28,2,     0.01,2,     0.27,2,   -999.0,9,   -999.0,9,-999.0000,9,  -999.00,      938
  49UP20110912,RF1109,  4167,  1,     22,  22095,2,20110920,0853, 35.0078, 148.9442, 6055,    251.1,  17.1746,  34.7091,2,-999.0000,9,    213.2,2,     4.34,2,     4.39,2,     0.01,2,     0.28,2,   -999.0,9,   -999.0,9,-999.0000,9,  -999.00,      937
  49UP20110912,RF1109,  4167,  1,     21,  22094,2,20110920,0853, 35.0078, 148.9442, 6055,    303.8,  16.6705,  34.6737,2,-999.0000,9,    201.2,2,     6.61,2,     6.35,2,     0.01,2,     0.42,2,   -999.0,9,   -999.0,9,-999.0000,9,  -999.00,      934
  49UP20110912,RF1109,  4167,  1,     20,  22093,2,20110920,0853, 35.0078, 148.9442, 6055,    405.6,  13.7267,  34.4860,2,-999.0000,9,    179.0,2,    16.00,2,    12.63,2,     0.00,2,     0.85,2,   -999.0,9,   -999.0,9,-999.0000,9,  -999.00,      932
  49UP20110912,RF1109,  4167,  1,     18,  22091,2,20110920,0853, 35.0078, 148.9442, 6055,    504.9,  10.7321,  34.2992,2,-999.0000,9,    168.4,2,    29.89,2,    18.77,2,     0.00,2,     1.31,2,   -999.0,9,   -999.0,9,-999.0000,9,  -999.00,      930
  49UP20110912,RF1109,  4167,  1,     17,  22090,2,20110920,0853, 35.0078, 148.9442, 6055,    605.6,   7.5421,  34.0788,2,-999.0000,9,    158.5,2,    47.51,2,    25.12,2,     0.00,2,     1.80,2,   -999.0,9,   -999.0,9,-999.0000,9,  -999.00,      927
  49UP20110912,RF1109,  4167,  1,     16,  22089,2,20110920,0853, 35.0078, 148.9442, 6055,    711.5,   5.6032,  34.0347,2,-999.0000,9,    124.4,2,    68.76,2,    31.76,2,     0.00,2,     2.27,2,   -999.0,9,   -999.0,9,-999.0000,9,  -999.00,      924
  49UP20110912,RF1109,  4167,  1,     14,  22087,2,20110920,0853, 35.0078, 148.9442, 6055,    805.9,   5.0591,  34.1021,2,-999.0000,9,     91.5,2,    83.55,2,    35.63,2,     0.00,2,     2.54,2,   -999.0,9,   -999.0,9,-999.0000,9,  -999.00,      921
  49UP20110912,RF1109,  4167,  1,     13,  22086,2,20110920,0853, 35.0078, 148.9442, 6055,    908.7,   4.6984,  34.1958,2,-999.0000,9,     73.4,2,    96.47,2,    37.50,2,     0.00,2,     2.67,2,   -999.0,9,   -999.0,9,-999.0000,9,  -999.00,      918
  49UP20110912,RF1109,  4167,  1,     12,  22074,2,20110920,0853, 35.0078, 148.9442, 6055,    908.7,   4.6984,  34.1958,2,-999.0000,9,     73.5,6,    96.58,6,    37.56,6,     0.00,6,     2.68,6,   -999.0,9,   -999.0,9,-999.0000,9,  -999.00,      918
  49UP20110912,RF1109,  4167,  1,      9,  22082,2,20110920,0853, 35.0078, 148.9442, 6055,   1010.8,   4.0593,  34.2274,2,-999.0000,9,     55.2,2,   110.27,2,    40.01,2,     0.00,2,     2.84,2,   -999.0,9,   -999.0,9,-999.0000,9,  -999.00,      915
  49UP20110912,RF1109,  4167,  1,      8,  22081,2,20110920,0853, 35.0078, 148.9442, 6055,   1210.8,   3.3932,  34.3441,2,-999.0000,9,     42.3,2,   129.61,2,    41.78,2,     0.00,2,     2.97,2,   -999.0,9,   -999.0,9,-999.0000,9,  -999.00,      911
  49UP20110912,RF1109,  4167,  1,      7,  22080,2,20110920,0853, 35.0078, 148.9442, 6055,   1419.5,   2.8449,  34.4368,2,-999.0000,9,     40.0,2,   145.01,2,    42.66,2,     0.00,2,     3.01,2,   -999.0,9,   -999.0,9,-999.0000,9,  -999.00,      906
  49UP20110912,RF1109,  4167,  1,      4,  22077,2,20110920,0853, 35.0078, 148.9442, 6055,   1625.0,   2.5146,  34.4932,2,-999.0000,9,     43.1,2,   154.45,2,    42.82,2,     0.00,2,     3.00,2,   -999.0,9,   -999.0,9,-999.0000,9,  -999.00,      902
  49UP20110912,RF1109,  4167,  1,      3,  22076,3,20110920,0853, 35.0078, 148.9442, 6055,   1816.9,   2.2958,  34.5330,2,-999.0000,9,     50.3,2,   159.36,2,    42.54,2,     0.00,2,     2.97,2,   -999.0,9,   -999.0,9,-999.0000,9,  -999.00,      857
  49UP20110912,RF1109,  4167,  1,      2,  22075,2,20110920,0853, 35.0078, 148.9442, 6055,   2025.5,   2.0930,  34.5707,2,-999.0000,9,     64.9,2,   162.03,2,    41.50,2,     0.00,2,     2.91,2,   -999.0,9,   -999.0,9,-999.0000,9,  -999.00,      853
  49UP20110912,RF1109,  4169,  1,     99,     99,2,20110920,1710, 36.0105, 149.2935, 5967,      0.0,  25.5340,  33.6423,2,-999.0000,9,    215.1,2,     1.71,2,     0.00,2,     0.00,2,     0.07,2,   -999.0,9,   -999.0,9,-999.0000,9,  -999.00,     1745
  49UP20110912,RF1109,  4169,  1,     36,  22109,2,20110920,1710, 36.0105, 149.2935, 5967,     13.6,  25.5246,  33.6431,2,-999.0000,9,    214.6,2,     1.64,2,     0.00,2,     0.00,2,     0.07,2,   -999.0,9,   -999.0,9,-999.0000,9,  -999.00,     1807
  49UP20110912,RF1109,  4169,  1,     35,  22108,2,20110920,1710, 36.0105, 149.2935, 5967,     27.6,  25.2833,  33.6563,2,-999.0000,9,    217.7,2,     1.84,2,     0.00,2,     0.00,2,     0.06,2,   -999.0,9,   -999.0,9,-999.0000,9,  -999.00,     1806
  49UP20110912,RF1109,  4169,  1,     34,  22107,2,20110920,1710, 36.0105, 149.2935, 5967,     52.7,  18.5566,  33.6775,2,-999.0000,9,    282.4,2,     2.90,2,     0.00,2,     0.00,2,     0.14,2,   -999.0,9,   -999.0,9,-999.0000,9,  -999.00,     1804
  49UP20110912,RF1109,  4169,  1,     32,  22105,2,20110920,1710, 36.0105, 149.2935, 5967,     78.2,  12.5926,  33.6434,2,-999.0000,9,    316.6,2,     4.75,2,     2.27,2,     0.07,2,     0.38,2,   -999.0,9,   -999.0,9,-999.0000,9,  -999.00,     1802
  49UP20110912,RF1109,  4169,  1,     31,  22104,2,20110920,1710, 36.0105, 149.2935, 5967,     78.2,  12.5926,  33.6434,2,-999.0000,9,    316.3,6,     4.72,6,     2.38,6,     0.07,6,     0.39,6,   -999.0,9,   -999.0,9,-999.0000,9,  -999.00,     1802
  49UP20110912,RF1109,  4169,  1,     30,  22103,2,20110920,1710, 36.0105, 149.2935, 5967,    103.8,   7.5494,  33.5424,2,-999.0000,9,    270.3,2,    17.98,2,    14.52,2,     0.27,2,     1.16,2,   -999.0,9,   -999.0,9,-999.0000,9,  -999.00,     1758
  49UP20110912,RF1109,  4169,  1,     27,  22100,2,20110920,1710, 36.0105, 149.2935, 5967,    126.9,   6.5094,  33.5958,2,-999.0000,9,    258.8,2,    25.11,2,    17.73,2,     0.02,2,     1.35,2,   -999.0,9,   -999.0,9,-999.0000,9,  -999.00,     1757
  49UP20110912,RF1109,  4169,  1,     26,  22099,2,20110920,1710, 36.0105, 149.2935, 5967,    152.0,   6.2363,  33.6850,2,-999.0000,9,    236.1,2,    33.68,2,    20.38,2,     0.01,2,     1.52,2,   -999.0,9,   -999.0,9,-999.0000,9,  -999.00,     1756
  49UP20110912,RF1109,  4169,  1,     25,  22098,2,20110920,1710, 36.0105, 149.2935, 5967,    201.7,   6.0766,  33.8208,2,-999.0000,9,    198.1,2,    45.38,3,    24.45,2,     0.01,2,     1.79,2,   -999.0,9,   -999.0,9,-999.0000,9,  -999.00,     1754
  49UP20110912,RF1109,  4169,  1,     22,  22095,3,20110920,1710, 36.0105, 149.2935, 5967,    250.8,   5.5601,  33.8768,2,-999.0000,9,    169.8,2,    56.01,2,    27.86,2,     0.00,2,     2.02,2,   -999.0,9,   -999.0,9,-999.0000,9,  -999.00,     1752
  49UP20110912,RF1109,  4169,  1,     21,  22094,2,20110920,1710, 36.0105, 149.2935, 5967,    305.7,   6.1139,  34.0668,2,-999.0000,9,    144.1,2,    63.35,2,    29.84,2,     0.00,2,     2.15,2,   -999.0,9,   -999.0,9,-999.0000,9,  -999.00,     1750
  49UP20110912,RF1109,  4169,  1,     20,  22093,2,20110920,1710, 36.0105, 149.2935, 5967,    408.9,   4.6251,  34.0251,2,-999.0000,9,    100.8,2,    82.71,2,    35.39,2,     0.00,2,     2.52,2,   -999.0,9,   -999.0,9,-999.0000,9,  -999.00,     1747
  49UP20110912,RF1109,  4169,  1,     18,  22091,2,20110920,1710, 36.0105, 149.2935, 5967,    512.0,   4.5504,  34.1530,2,-999.0000,9,     73.7,2,    95.82,2,    37.83,2,     0.00,2,     2.69,2,   -999.0,9,   -999.0,9,-999.0000,9,  -999.00,     1742
  49UP20110912,RF1109,  4169,  1,     17,  22090,2,20110920,1710, 36.0105, 149.2935, 5967,    609.7,   4.3211,  34.2516,2,-999.0000,9,     61.9,2,   106.86,2,    39.01,2,     0.00,2,     2.77,2,   -999.0,9,   -999.0,9,-999.0000,9,  -999.00,     1740
  49UP20110912,RF1109,  4169,  1,     16,  22089,2,20110920,1710, 36.0105, 149.2935, 5967,    709.9,   4.0121,  34.3161,2,-999.0000,9,     58.6,2,   113.52,3,    39.75,2,     0.00,2,     2.80,2,   -999.0,9,   -999.0,9,-999.0000,9,  -999.00,     1737
  49UP20110912,RF1109,  4169,  1,     14,  22087,2,20110920,1710, 36.0105, 149.2935, 5967,    807.3,   3.5626,  34.3486,2,-999.0000,9,     48.5,2,   123.48,3,    40.99,2,     0.00,2,     2.90,2,   -999.0,9,   -999.0,9,-999.0000,9,  -999.00,     1734
  49UP20110912,RF1109,  4169,  1,     13,  22086,2,20110920,1710, 36.0105, 149.2935, 5967,    807.3,   3.5626,  34.3486,2,-999.0000,9,     48.6,6,   124.49,2,    41.11,6,     0.00,6,     2.90,6,   -999.0,9,   -999.0,9,-999.0000,9,  -999.00,     1734
  49UP20110912,RF1109,  4169,  1,     12,  22074,2,20110920,1710, 36.0105, 149.2935, 5967,    908.9,   3.1353,  34.3560,2,-999.0000,9,     40.7,2,   135.65,2,    42.02,2,     0.00,2,     2.97,2,   -999.0,9,   -999.0,9,-999.0000,9,  -999.00,     1732
  49UP20110912,RF1109,  4169,  1,      9,  22082,2,20110920,1710, 36.0105, 149.2935, 5967,   1008.5,   3.0590,  34.4228,2,-999.0000,9,     48.9,2,   136.81,3,    41.62,2,     0.00,2,     2.93,2,   -999.0,9,   -999.0,9,-999.0000,9,  -999.00,     1730
  49UP20110912,RF1109,  4169,  1,      8,  22081,3,20110920,1710, 36.0105, 149.2935, 5967,   1213.5,   2.6110,  34.4611,2,-999.0000,9,     42.1,2,   150.42,3,    42.67,2,     0.00,2,     3.00,2,   -999.0,9,   -999.0,9,-999.0000,9,  -999.00,     1726
  49UP20110912,RF1109,  4169,  1,      7,  22080,2,20110920,1710, 36.0105, 149.2935, 5967,   1415.6,   2.3835,  34.5124,2,-999.0000,9,     48.5,2,   155.38,3,    42.51,2,     0.00,2,     2.98,2,   -999.0,9,   -999.0,9,-999.0000,9,  -999.00,     1722
  49UP20110912,RF1109,  4169,  1,      4,  22077,2,20110920,1710, 36.0105, 149.2935, 5967,   1617.5,   2.1665,  34.5547,2,-999.0000,9,     60.7,2,   159.78,2,    41.90,2,     0.00,2,     2.92,2,   -999.0,9,   -999.0,9,-999.0000,9,  -999.00,     1719
  49UP20110912,RF1109,  4169,  1,      3,  22076,2,20110920,1710, 36.0105, 149.2935, 5967,   1819.1,   1.9981,  34.5829,2,-999.0000,9,     70.0,2,   161.92,3,    41.40,2,     0.00,2,     2.88,2,   -999.0,9,   -999.0,9,-999.0000,9,  -999.00,     1715
  49UP20110912,RF1109,  4169,  1,      2,  22075,2,20110920,1710, 36.0105, 149.2935, 5967,   2025.8,   1.8785,  34.6042,2,-999.0000,9,     81.8,2,   161.75,3,    40.74,2,     0.00,2,     2.83,2,   -999.0,9,   -999.0,9,-999.0000,9,  -999.00,     1710
  49UP20110912,RF1109,  4171,  1,     99,     99,2,20110921,0109, 37.0258, 149.6677, 5985,      0.0,  24.8002,  34.0568,2,-999.0000,9,    215.2,2,     2.65,2,     0.07,2,     0.01,2,     0.05,2,   -999.0,9,   -999.0,9,-999.0000,9,  -999.00,      148
  49UP20110912,RF1109,  4171,  1,     35,  22108,2,20110921,0109, 37.0258, 149.6677, 5985,     10.7,  24.7554,  34.0547,2,  34.0562,2,    215.9,2,     2.70,2,     0.05,2,     0.01,2,     0.04,2,   -999.0,9,   -999.0,9,-999.0000,9,  -999.00,      206
  49UP20110912,RF1109,  4171,  1,     34,  22107,2,20110921,0109, 37.0258, 149.6677, 5985,     28.0,  22.2312,  34.2305,2,-999.0000,9,    214.3,2,     3.64,2,     1.03,2,     0.07,2,     0.11,2,   -999.0,9,   -999.0,9,-999.0000,9,  -999.00,      205
  49UP20110912,RF1109,  4171,  1,     32,  22105,2,20110921,0109, 37.0258, 149.6677, 5985,     53.7,  15.7832,  34.5655,2,-999.0000,9,    181.3,3,    13.63,2,     9.81,2,     0.10,2,     0.68,2,   -999.0,9,   -999.0,9,-999.0000,9,  -999.00,      202
  49UP20110912,RF1109,  4171,  1,     31,  22104,2,20110921,0109, 37.0258, 149.6677, 5985,     53.7,  15.7832,  34.5655,2,-999.0000,9,    184.2,6,    13.38,6,     9.49,6,     0.12,6,     0.67,6,   -999.0,9,   -999.0,9,-999.0000,9,  -999.00,      202
  49UP20110912,RF1109,  4171,  1,     30,  22103,2,20110921,0109, 37.0258, 149.6677, 5985,     77.1,  11.9303,  34.1186,2,-999.0000,9,    228.2,2,    13.35,2,     9.57,2,     0.32,2,     0.75,2,   -999.0,9,   -999.0,9,-999.0000,9,  -999.00,      159
  49UP20110912,RF1109,  4171,  1,     29,  22102,2,20110921,0109, 37.0258, 149.6677, 5985,    101.1,  10.8263,  34.1088,2,  34.1013,4,    220.4,2,    16.02,2,    12.31,2,     0.03,2,     0.89,2,   -999.0,9,   -999.0,9,-999.0000,9,  -999.00,      155
  49UP20110912,RF1109,  4171,  1,     26,  22099,2,20110921,0109, 37.0258, 149.6677, 5985,    126.6,   9.8551,  34.0748,2,-999.0000,9,    228.6,2,    17.68,2,    13.19,2,     0.02,2,     0.95,2,   -999.0,9,   -999.0,9,-999.0000,9,  -999.00,      154
  49UP20110912,RF1109,  4171,  1,     25,  22098,2,20110921,0109, 37.0258, 149.6677, 5985,    149.5,   9.1759,  34.0147,2,-999.0000,9,    226.6,2,    20.84,2,    14.62,2,     0.01,2,     1.06,2,   -999.0,9,   -999.0,9,-999.0000,9,  -999.00,      153
  49UP20110912,RF1109,  4171,  1,     24,  22097,2,20110921,0109, 37.0258, 149.6677, 5985,    200.7,   7.8110,  33.9533,2,  33.9552,2,    196.5,2,    35.47,2,    20.50,2,     0.01,2,     1.49,2,   -999.0,9,   -999.0,9,-999.0000,9,  -999.00,      151
  49UP20110912,RF1109,  4171,  1,     21,  22094,2,20110921,0109, 37.0258, 149.6677, 5985,    252.7,   6.4467,  33.9265,2,-999.0000,9,    178.7,2,    48.27,3,    25.22,2,     0.01,2,     1.83,2,   -999.0,9,   -999.0,9,-999.0000,9,  -999.00,      150
  49UP20110912,RF1109,  4171,  1,     20,  22093,2,20110921,0109, 37.0258, 149.6677, 5985,    300.6,   6.1018,  34.0272,2,-999.0000,9,    135.7,2,    63.58,3,    30.16,2,     0.01,2,     2.17,2,   -999.0,9,   -999.0,9,-999.0000,9,  -999.00,      148
  49UP20110912,RF1109,  4171,  1,     19,  22092,2,20110921,0109, 37.0258, 149.6677, 5985,    404.3,   5.0842,  34.0797,2,  34.0797,2,    100.9,2,    80.09,3,    34.68,2,     0.01,2,     2.48,2,   -999.0,9,   -999.0,9,-999.0000,9,  -999.00,      146
  49UP20110912,RF1109,  4171,  1,     17,  22090,2,20110921,0109, 37.0258, 149.6677, 5985,    507.2,   4.5630,  34.1934,2,-999.0000,9,     70.8,2,    98.12,2,    37.90,2,     0.00,2,     2.70,2,   -999.0,9,   -999.0,9,-999.0000,9,  -999.00,      143
  49UP20110912,RF1109,  4171,  1,     16,  22089,2,20110921,0109, 37.0258, 149.6677, 5985,    607.6,   3.8433,  34.2170,2,  34.2172,2,     51.1,2,   114.24,2,    40.66,2,     0.00,2,     2.88,2,   -999.0,9,   -999.0,9,-999.0000,9,  -999.00,      140
  49UP20110912,RF1109,  4171,  1,     14,  22087,2,20110921,0109, 37.0258, 149.6677, 5985,    707.9,   3.6711,  34.3159,2,-999.0000,9,     46.3,2,   121.34,2,    41.16,2,     0.00,2,     2.91,2,   -999.0,9,   -999.0,9,-999.0000,9,  -999.00,      137
  49UP20110912,RF1109,  4171,  1,     13,  22086,2,20110921,0109, 37.0258, 149.6677, 5985,    707.9,   3.6711,  34.3159,2,-999.0000,9,     46.4,6,   120.44,3,    41.17,6,     0.00,6,     2.92,6,   -999.0,9,   -999.0,9,-999.0000,9,  -999.00,      137
  49UP20110912,RF1109,  4171,  1,     12,  22074,2,20110921,0109, 37.0258, 149.6677, 5985,    807.3,   3.3175,  34.3384,2,  34.3378,2,     43.9,2,   130.88,2,    41.72,2,     0.00,2,     2.95,2,   -999.0,9,   -999.0,9,-999.0000,9,  -999.00,      134
  49UP20110912,RF1109,  4171,  1,     11,  22110,2,20110921,0109, 37.0258, 149.6677, 5985,    906.7,   3.1555,  34.3882,2,-999.0000,9,     42.0,2,   135.67,2,    42.14,2,     0.00,2,     2.98,2,   -999.0,9,   -999.0,9,-999.0000,9,  -999.00,      132
  49UP20110912,RF1109,  4171,  1,      8,  22081,2,20110921,0109, 37.0258, 149.6677, 5985,   1010.2,   2.8309,  34.4067,2,  34.4062,2,     38.8,2,   144.17,3,    42.50,2,     0.00,2,     3.01,2,   -999.0,9,   -999.0,9,-999.0000,9,  -999.00,      130
  49UP20110912,RF1109,  4171,  1,      7,  22080,2,20110921,0109, 37.0258, 149.6677, 5985,   1213.2,   2.5574,  34.4757,2,  34.4756,2,     43.2,2,   151.79,2,    42.49,2,     0.00,2,     2.99,2,   -999.0,9,   -999.0,9,-999.0000,9,  -999.00,      125
  49UP20110912,RF1109,  4171,  1,      6,  22079,2,20110921,0109, 37.0258, 149.6677, 5985,   1416.8,   2.3502,  34.5188,2,  34.5190,2,     48.7,2,   157.70,2,    42.49,2,     0.00,2,     2.97,2,   -999.0,9,   -999.0,9,-999.0000,9,  -999.00,      121
  49UP20110912,RF1109,  4171,  1,      3,  22076,2,20110921,0109, 37.0258, 149.6677, 5985,   1615.7,   2.1477,  34.5552,2,  34.5522,4,     58.2,2,   160.36,3,    41.97,2,     0.00,2,     2.93,2,   -999.0,9,   -999.0,9,-999.0000,9,  -999.00,      117
  49UP20110912,RF1109,  4171,  1,      2,  22075,2,20110921,0109, 37.0258, 149.6677, 5985,   1822.0,   1.9901,  34.5838,2,  34.5844,2,     70.2,2,   162.77,2,    41.30,2,     0.00,2,     2.88,2,   -999.0,9,   -999.0,9,-999.0000,9,  -999.00,      113
  49UP20110912,RF1109,  4171,  1,      1,  22112,2,20110921,0109, 37.0258, 149.6677, 5985,   2024.9,   1.8529,  34.6084,2,  34.6065,2,     84.7,2,   162.41,2,    40.49,2,     0.00,2,     2.81,2,   -999.0,9,   -999.0,9,-999.0000,9,  -999.00,      109