BOTTLE,20200117PRINUNIVRMK
EXPOCODE,SECT_ID,STNNBR,CASTNO,SAMPNO,BTLNBR,BTLNBR_FLAG_W,DATE,TIME,LATITUDE,LONGITUDE,DEPTH,CTDPRS,CTDTMP,CTDSAL,CTDSAL_FLAG_W,SALNTY,SALNTY_FLAG_W,OXYGEN,OXYGEN_FLAG_W,SILCAT,SILCAT_FLAG_W,NITRAT,NITRAT_FLAG_W,NITRIT,NITRIT_FLAG_W,PHSPHT,PHSPHT_FLAG_W,TCARBN,TCARBN_FLAG_W,PH_TOT,PH_TOT_FLAG_W,PH_TMP,BTL_TIME
,,,,,,,,,,,METERS,DBAR,ITS-90,PSS-78,,PSS-78,,UMOL/KG,,UMOL/KG,,UMOL/KG,,UMOL/KG,,UMOL/KG,,UMOL/KG,,,,DEG C,
  49UP20090117,RF0901,  3338,  1,     99,     99,2,20090222,0011,  2.9917, 136.9897, 4498,      0.0,  29.4101,  34.5445,2,-999.0000,9,    193.4,2,     1.20,2,     0.04,2,     0.00,2,     0.13,2,   -999.0,9,-999.0000,9,  -999.00,       54
  49UP20090117,RF0901,  3338,  1,     21,  18575,2,20090222,0011,  2.9917, 136.9897, 4498,     11.5,  29.5948,  34.8033,2,  34.8067,4,    194.7,2,     1.23,2,     0.00,2,     0.00,2,     0.14,2,   -999.0,9,-999.0000,9,  -999.00,      103
  49UP20090117,RF0901,  3338,  1,     20,  18574,2,20090222,0011,  2.9917, 136.9897, 4498,     27.6,  29.6452,  34.8856,2,-999.0000,9,    194.4,2,     1.12,2,     0.01,2,     0.00,2,     0.14,2,   -999.0,9,-999.0000,9,  -999.00,      102
  49UP20090117,RF0901,  3338,  1,     19,  18573,2,20090222,0011,  2.9917, 136.9897, 4498,     51.8,  29.5414,  35.2555,2,-999.0000,9,    185.5,2,     1.42,2,     0.35,2,     0.38,2,     0.24,2,   -999.0,9,-999.0000,9,  -999.00,      101
  49UP20090117,RF0901,  3338,  1,     18,  18572,2,20090222,0011,  2.9917, 136.9897, 4498,     76.3,  28.0901,  35.2096,2,-999.0000,9,    161.4,2,     2.03,2,     4.45,2,     0.00,2,     0.43,2,   -999.0,9,-999.0000,9,  -999.00,      100
  49UP20090117,RF0901,  3338,  1,     17,  18571,2,20090222,0011,  2.9917, 136.9897, 4498,    103.5,  27.9002,  35.2765,2,  35.2770,2,    157.7,2,     2.11,2,     5.26,2,     0.00,2,     0.48,2,   -999.0,9,-999.0000,9,  -999.00,       58
  49UP20090117,RF0901,  3338,  1,     16,  18570,2,20090222,0011,  2.9917, 136.9897, 4498,    128.6,  27.1656,  35.2928,2,-999.0000,9,    153.7,2,     2.25,2,     5.93,2,     0.00,2,     0.51,2,   -999.0,9,-999.0000,9,  -999.00,       57
  49UP20090117,RF0901,  3338,  1,     15,  18569,2,20090222,0011,  2.9917, 136.9897, 4498,    153.6,  24.9581,  35.0620,2,-999.0000,9,    151.8,2,     4.20,2,     6.63,2,     0.00,2,     0.52,2,   -999.0,9,-999.0000,9,  -999.00,       55
  49UP20090117,RF0901,  3338,  1,     14,  18568,2,20090222,0011,  2.9917, 136.9897, 4498,    203.2,  18.9057,  34.7967,2,  34.7875,4,    149.0,2,    10.93,2,    10.74,2,     0.00,2,     0.76,2,   -999.0,9,-999.0000,9,  -999.00,       54
  49UP20090117,RF0901,  3338,  1,     13,  18567,2,20090222,0011,  2.9917, 136.9897, 4498,    252.9,  14.9766,  34.6260,2,-999.0000,9,    139.6,2,    18.76,2,    16.40,2,     0.00,2,     1.13,2,   -999.0,9,-999.0000,9,  -999.00,       52
  49UP20090117,RF0901,  3338,  1,     12,  18348,2,20090222,0011,  2.9917, 136.9897, 4498,    304.3,   9.9836,  34.5227,2,  34.5225,2,     81.5,2,    35.26,2,    29.78,2,     0.00,2,     2.08,2,   -999.0,9,-999.0000,9,  -999.00,       50
  49UP20090117,RF0901,  3338,  1,     11,  18565,2,20090222,0011,  2.9917, 136.9897, 4498,    404.5,   8.4028,  34.5913,2,  34.5913,2,    119.6,2,    36.50,2,    29.71,2,     0.00,2,     2.05,2,   -999.0,9,-999.0000,9,  -999.00,       48
  49UP20090117,RF0901,  3338,  1,     10,  18564,2,20090222,0011,  2.9917, 136.9897, 4498,    505.5,   7.7437,  34.5667,2,-999.0000,9,    114.6,2,    40.47,2,    31.44,2,     0.00,2,     2.18,2,   -999.0,9,-999.0000,9,  -999.00,       45
  49UP20090117,RF0901,  3338,  1,      9,  18563,2,20090222,0011,  2.9917, 136.9897, 4498,    605.3,   7.0311,  34.5450,2,  34.5455,2,    131.3,2,    39.13,2,    31.51,2,     0.00,2,     2.17,2,   -999.0,9,-999.0000,9,  -999.00,       43
  49UP20090117,RF0901,  3338,  1,      8,  18562,2,20090222,0011,  2.9917, 136.9897, 4498,    706.6,   6.5637,  34.5342,2,-999.0000,9,    120.8,2,    45.08,2,    33.34,2,     0.00,2,     2.33,2,   -999.0,9,-999.0000,9,  -999.00,       40
  49UP20090117,RF0901,  3338,  1,      7,  18561,2,20090222,0011,  2.9917, 136.9897, 4498,    806.8,   6.1078,  34.5291,2,  34.5294,2,    119.0,2,    49.81,2,    34.38,2,     0.00,2,     2.39,2,   -999.0,9,-999.0000,9,  -999.00,       37
  49UP20090117,RF0901,  3338,  1,      6,  18560,2,20090222,0011,  2.9917, 136.9897, 4498,    909.2,   5.5609,  34.5370,2,-999.0000,9,     93.9,2,    66.80,2,    37.08,2,     0.00,2,     2.62,2,   -999.0,9,-999.0000,9,  -999.00,       35
  49UP20090117,RF0901,  3338,  1,      5,  18559,2,20090222,0011,  2.9917, 136.9897, 4498,   1009.0,   4.9176,  34.5467,2,  34.5462,2,     91.9,2,    79.33,2,    37.97,2,     0.00,2,     2.70,2,   -999.0,9,-999.0000,9,  -999.00,       32
  49UP20090117,RF0901,  3338,  1,      4,  18558,2,20090222,0011,  2.9917, 136.9897, 4498,   1262.4,   3.8061,  34.5759,2,  34.5750,2,     96.8,2,   101.98,2,    38.66,2,     0.00,2,     2.74,2,   -999.0,9,-999.0000,9,  -999.00,       27
  49UP20090117,RF0901,  3338,  1,      3,  18557,2,20090222,0011,  2.9917, 136.9897, 4498,   1516.0,   3.1766,  34.5940,2,  34.5920,2,     99.2,2,   114.66,2,    38.99,2,     0.00,2,     2.77,2,   -999.0,9,-999.0000,9,  -999.00,       22
  49UP20090117,RF0901,  3338,  1,      2,  18556,2,20090222,0011,  2.9917, 136.9897, 4498,   1769.8,   2.6134,  34.6166,2,  34.6160,2,    106.6,2,   126.23,2,    38.89,2,     0.00,2,     2.74,2,   -999.0,9,-999.0000,9,  -999.00,       17
  49UP20090117,RF0901,  3338,  1,      1,  18555,2,20090222,0011,  2.9917, 136.9897, 4498,   2034.9,   2.1647,  34.6387,2,  34.6387,2,    116.1,2,   134.90,2,    38.46,2,     0.00,2,     2.69,2,   -999.0,9,-999.0000,9,  -999.00,       11