BOTTLE,20200117PRINUNIVRMK
EXPOCODE,SECT_ID,STNNBR,CASTNO,SAMPNO,BTLNBR,BTLNBR_FLAG_W,DATE,TIME,LATITUDE,LONGITUDE,DEPTH,CTDPRS,CTDTMP,CTDSAL,CTDSAL_FLAG_W,SALNTY,SALNTY_FLAG_W,OXYGEN,OXYGEN_FLAG_W,SILCAT,SILCAT_FLAG_W,NITRAT,NITRAT_FLAG_W,NITRIT,NITRIT_FLAG_W,PHSPHT,PHSPHT_FLAG_W,TCARBN,TCARBN_FLAG_W,PH_TOT,PH_TOT_FLAG_W,PH_TMP,BTL_TIME
,,,,,,,,,,,METERS,DBAR,ITS-90,PSS-78,,PSS-78,,UMOL/KG,,UMOL/KG,,UMOL/KG,,UMOL/KG,,UMOL/KG,,UMOL/KG,,,,DEG C,
  49UP20090117,RF0901,  3320,  1,     99,     99,2,20090215,0527, -0.0080, 158.9715, 2332,      0.0,  29.0477,  35.4853,2,-999.0000,9,    194.0,2,     1.44,2,     2.41,2,     0.13,2,     0.36,2,   -999.0,9,-999.0000,9,  -999.00,      558
  49UP20090117,RF0901,  3320,  1,     21,  18575,2,20090215,0527, -0.0080, 158.9715, 2332,     11.3,  28.9818,  35.4830,2,-999.0000,9,    195.9,2,     1.42,2,     2.33,2,     0.12,2,     0.36,2,   -999.0,9,-999.0000,9,  -999.00,      626
  49UP20090117,RF0901,  3320,  1,     20,  18574,2,20090215,0527, -0.0080, 158.9715, 2332,     27.1,  28.7914,  35.4802,2,-999.0000,9,    196.8,2,     1.46,2,     2.27,2,     0.12,2,     0.35,2,   -999.0,9,-999.0000,9,  -999.00,      625
  49UP20090117,RF0901,  3320,  1,     19,  18573,2,20090215,0527, -0.0080, 158.9715, 2332,     50.8,  28.7666,  35.4805,2,-999.0000,9,    195.8,2,     1.48,2,     2.34,2,     0.14,2,     0.36,2,   -999.0,9,-999.0000,9,  -999.00,      624
  49UP20090117,RF0901,  3320,  1,     18,  18572,2,20090215,0527, -0.0080, 158.9715, 2332,     77.7,  28.7409,  35.4798,2,-999.0000,9,    192.2,2,     1.51,2,     2.57,2,     0.15,2,     0.37,2,   -999.0,9,-999.0000,9,  -999.00,      623
  49UP20090117,RF0901,  3320,  1,     17,  18571,2,20090215,0527, -0.0080, 158.9715, 2332,    100.3,  28.4714,  35.4791,2,-999.0000,9,    177.7,2,     1.69,2,     4.13,2,     0.23,2,     0.47,2,   -999.0,9,-999.0000,9,  -999.00,      621
  49UP20090117,RF0901,  3320,  1,     16,  18570,2,20090215,0527, -0.0080, 158.9715, 2332,    127.4,  28.3089,  35.5257,2,-999.0000,9,    182.2,2,     1.72,2,     3.90,2,     1.04,2,     0.50,2,   -999.0,9,-999.0000,9,  -999.00,      620
  49UP20090117,RF0901,  3320,  1,     15,  18569,2,20090215,0527, -0.0080, 158.9715, 2332,    155.4,  27.3109,  35.4569,2,-999.0000,9,    160.4,2,     2.04,2,     6.21,2,     0.00,2,     0.57,2,   -999.0,9,-999.0000,9,  -999.00,      619
  49UP20090117,RF0901,  3320,  1,     14,  18568,2,20090215,0527, -0.0080, 158.9715, 2332,    199.6,  21.3222,  35.3577,2,-999.0000,9,    135.9,2,     4.96,2,    10.50,2,     0.00,2,     0.82,2,   -999.0,9,-999.0000,9,  -999.00,      616
  49UP20090117,RF0901,  3320,  1,     13,  18567,2,20090215,0527, -0.0080, 158.9715, 2332,    250.4,  15.0002,  35.1227,2,-999.0000,9,    143.5,2,    10.36,2,    16.12,2,     0.00,2,     1.17,2,   -999.0,9,-999.0000,9,  -999.00,      615
  49UP20090117,RF0901,  3320,  1,     12,  18348,2,20090215,0527, -0.0080, 158.9715, 2332,    304.4,  11.8672,  34.8365,2,-999.0000,9,    135.6,2,    19.69,2,    21.70,2,     0.00,2,     1.52,2,   -999.0,9,-999.0000,9,  -999.00,      613
  49UP20090117,RF0901,  3320,  1,     11,  18565,2,20090215,0527, -0.0080, 158.9715, 2332,    404.7,   9.6361,  34.6880,2,-999.0000,9,    101.1,2,    27.55,2,    29.10,2,     0.00,2,     2.01,2,   -999.0,9,-999.0000,9,  -999.00,      610
  49UP20090117,RF0901,  3320,  1,     10,  18564,2,20090215,0527, -0.0080, 158.9715, 2332,    505.7,   8.0748,  34.6175,2,-999.0000,9,     64.2,2,    38.68,2,    36.02,2,     0.00,2,     2.50,2,   -999.0,9,-999.0000,9,  -999.00,      608
  49UP20090117,RF0901,  3320,  1,      9,  18563,2,20090215,0527, -0.0080, 158.9715, 2332,    606.1,   6.7731,  34.5657,2,-999.0000,9,     74.4,2,    48.77,2,    37.46,2,     0.00,2,     2.64,2,   -999.0,9,-999.0000,9,  -999.00,      604
  49UP20090117,RF0901,  3320,  1,      8,  18562,2,20090215,0527, -0.0080, 158.9715, 2332,    709.3,   6.0658,  34.5459,2,-999.0000,9,     86.2,2,    55.52,2,    37.56,2,     0.00,2,     2.66,2,   -999.0,9,-999.0000,9,  -999.00,      601
  49UP20090117,RF0901,  3320,  1,      7,  18561,2,20090215,0527, -0.0080, 158.9715, 2332,    808.9,   5.6211,  34.5378,2,-999.0000,9,     96.7,2,    60.06,2,    37.22,2,     0.00,2,     2.63,2,   -999.0,9,-999.0000,9,  -999.00,      558
  49UP20090117,RF0901,  3320,  1,      6,  18560,2,20090215,0527, -0.0080, 158.9715, 2332,    908.5,   5.1105,  34.5440,2,-999.0000,9,     88.1,2,    71.63,2,    38.61,2,     0.00,2,     2.75,2,   -999.0,9,-999.0000,9,  -999.00,      554
  49UP20090117,RF0901,  3320,  1,      5,  18559,2,20090215,0527, -0.0080, 158.9715, 2332,   1011.2,   4.7199,  34.5505,2,-999.0000,9,     86.4,2,    79.73,2,    39.07,2,     0.00,2,     2.80,2,   -999.0,9,-999.0000,9,  -999.00,      551
  49UP20090117,RF0901,  3320,  1,      4,  18558,2,20090215,0527, -0.0080, 158.9715, 2332,   1263.0,   3.8563,  34.5709,2,-999.0000,9,     92.8,2,    97.98,2,    39.20,2,     0.00,2,     2.80,2,   -999.0,9,-999.0000,9,  -999.00,      544
  49UP20090117,RF0901,  3320,  1,      3,  18557,2,20090215,0527, -0.0080, 158.9715, 2332,   1514.1,   3.1165,  34.5964,2,-999.0000,9,    103.0,2,   113.80,2,    39.10,2,     0.00,2,     2.78,2,   -999.0,9,-999.0000,9,  -999.00,      538
  49UP20090117,RF0901,  3320,  1,      2,  18556,2,20090215,0527, -0.0080, 158.9715, 2332,   1766.8,   2.5139,  34.6220,2,-999.0000,9,    111.9,2,   126.19,2,    38.56,2,     0.00,2,     2.73,2,   -999.0,9,-999.0000,9,  -999.00,      533
  49UP20090117,RF0901,  3320,  1,      1,  18555,2,20090215,0527, -0.0080, 158.9715, 2332,   2022.2,   2.1766,  34.6401,2,-999.0000,9,    117.5,2,   133.78,2,    38.34,2,     0.00,2,     2.70,2,   -999.0,9,-999.0000,9,  -999.00,      527
  49UP20090117,RF0901,  3321,  1,     99,     99,2,20090215,1529, -0.0050, 156.9898, 2120,      0.0,  29.2265,  35.4221,2,-999.0000,9,    195.7,2,     1.45,2,     0.70,2,     0.00,2,     0.26,2,   -999.0,9,-999.0000,9,  -999.00,     1601
  49UP20090117,RF0901,  3321,  1,     21,  18575,2,20090215,1529, -0.0050, 156.9898, 2120,     11.9,  29.2379,  35.4213,2,  35.4197,2,    196.5,2,     1.31,2,     0.69,2,     0.00,2,     0.27,2,   -999.0,9,-999.0000,9,  -999.00,     1626
  49UP20090117,RF0901,  3321,  1,     20,  18574,2,20090215,1529, -0.0050, 156.9898, 2120,     26.1,  29.2437,  35.4213,2,-999.0000,9,    196.6,2,     1.23,2,     0.69,2,     0.00,2,     0.26,2,   -999.0,9,-999.0000,9,  -999.00,     1625
  49UP20090117,RF0901,  3321,  1,     19,  18573,2,20090215,1529, -0.0050, 156.9898, 2120,     51.2,  29.1999,  35.4227,2,-999.0000,9,    196.5,2,     1.20,2,     0.73,2,     0.00,2,     0.27,2,   -999.0,9,-999.0000,9,  -999.00,     1623
  49UP20090117,RF0901,  3321,  1,     18,  18572,2,20090215,1529, -0.0050, 156.9898, 2120,     76.4,  29.1401,  35.4217,2,-999.0000,9,    193.5,2,     1.27,2,     0.96,2,     0.02,2,     0.30,2,   -999.0,9,-999.0000,9,  -999.00,     1622
  49UP20090117,RF0901,  3321,  1,     17,  18571,2,20090215,1529, -0.0050, 156.9898, 2120,    101.9,  28.9817,  35.4646,2,  35.4635,2,    188.5,2,     1.52,2,     1.73,2,     0.48,2,     0.38,2,   -999.0,9,-999.0000,9,  -999.00,     1620
  49UP20090117,RF0901,  3321,  1,     16,  18570,2,20090215,1529, -0.0050, 156.9898, 2120,    126.3,  28.6277,  35.5363,2,-999.0000,9,    179.0,2,     1.78,2,     3.85,2,     0.61,2,     0.47,2,   -999.0,9,-999.0000,9,  -999.00,     1619
  49UP20090117,RF0901,  3321,  1,     15,  18569,2,20090215,1529, -0.0050, 156.9898, 2120,    152.6,  25.3323,  35.4407,2,-999.0000,9,    144.0,2,     2.85,2,     8.26,2,     0.00,2,     0.67,2,   -999.0,9,-999.0000,9,  -999.00,     1616
  49UP20090117,RF0901,  3321,  1,     14,  18568,2,20090215,1529, -0.0050, 156.9898, 2120,    202.8,  20.1634,  35.4631,2,  35.4648,2,    134.3,2,     4.73,2,    11.36,2,     0.00,2,     0.88,2,   -999.0,9,-999.0000,9,  -999.00,     1613
  49UP20090117,RF0901,  3321,  1,     13,  18567,3,20090215,1529, -0.0050, 156.9898, 2120,    250.0,  15.1035,  35.1018,2,-999.0000,9,    143.0,2,    10.75,2,    16.01,2,     0.00,2,     1.15,2,   -999.0,9,-999.0000,9,  -999.00,     1611
  49UP20090117,RF0901,  3321,  1,     12,  18348,2,20090215,1529, -0.0050, 156.9898, 2120,    303.5,  11.4865,  34.8361,2,  34.8363,2,    131.9,2,    18.58,2,    22.88,2,     0.00,2,     1.59,2,   -999.0,9,-999.0000,9,  -999.00,     1609
  49UP20090117,RF0901,  3321,  1,     11,  18565,2,20090215,1529, -0.0050, 156.9898, 2120,    404.7,   9.8313,  34.7008,2,  34.7013,2,    108.1,2,    26.36,2,    28.27,2,     0.00,2,     1.95,2,   -999.0,9,-999.0000,9,  -999.00,     1606
  49UP20090117,RF0901,  3321,  1,     10,  18564,2,20090215,1529, -0.0050, 156.9898, 2120,    505.5,   7.8702,  34.5976,2,-999.0000,9,    100.6,2,    35.35,2,    32.86,2,     0.00,2,     2.28,2,   -999.0,9,-999.0000,9,  -999.00,     1603
  49UP20090117,RF0901,  3321,  1,      9,  18563,2,20090215,1529, -0.0050, 156.9898, 2120,    606.9,   6.8150,  34.5639,2,  34.5637,2,     78.1,2,    48.19,2,    37.00,2,     0.00,2,     2.61,2,   -999.0,9,-999.0000,9,  -999.00,     1600
  49UP20090117,RF0901,  3321,  1,      8,  18562,2,20090215,1529, -0.0050, 156.9898, 2120,    706.1,   6.2587,  34.5474,2,-999.0000,9,     87.9,2,    52.98,2,    37.05,2,     0.00,2,     2.61,2,   -999.0,9,-999.0000,9,  -999.00,     1556
  49UP20090117,RF0901,  3321,  1,      7,  18561,2,20090215,1529, -0.0050, 156.9898, 2120,    807.9,   5.6966,  34.5426,2,  34.5425,2,     85.7,2,    61.35,2,    38.06,2,     0.00,2,     2.71,2,   -999.0,9,-999.0000,9,  -999.00,     1554
  49UP20090117,RF0901,  3321,  1,      6,  18560,2,20090215,1529, -0.0050, 156.9898, 2120,    908.1,   5.1797,  34.5427,2,-999.0000,9,     88.6,2,    70.55,2,    38.51,2,     0.00,2,     2.74,2,   -999.0,9,-999.0000,9,  -999.00,     1551
  49UP20090117,RF0901,  3321,  1,      5,  18559,2,20090215,1529, -0.0050, 156.9898, 2120,   1008.0,   4.6260,  34.5510,2,  34.5509,2,     89.5,2,    81.49,2,    38.95,2,     0.00,2,     2.79,2,   -999.0,9,-999.0000,9,  -999.00,     1549
  49UP20090117,RF0901,  3321,  1,      4,  18558,2,20090215,1529, -0.0050, 156.9898, 2120,   1257.7,   3.7949,  34.5719,2,  34.5722,2,     94.8,2,    99.27,2,    39.13,2,     0.00,2,     2.80,2,   -999.0,9,-999.0000,9,  -999.00,     1544
  49UP20090117,RF0901,  3321,  1,      3,  18557,2,20090215,1529, -0.0050, 156.9898, 2120,   1512.4,   3.1191,  34.5956,2,  34.5957,2,    101.9,2,   113.79,2,    38.93,2,     0.00,2,     2.78,2,   -999.0,9,-999.0000,9,  -999.00,     1539
  49UP20090117,RF0901,  3321,  1,      2,  18556,2,20090215,1529, -0.0050, 156.9898, 2120,   1768.0,   2.5564,  34.6199,2,  34.6203,2,    112.6,2,   124.38,2,    38.42,2,     0.00,2,     2.72,2,   -999.0,9,-999.0000,9,  -999.00,     1535
  49UP20090117,RF0901,  3321,  1,      1,  18555,2,20090215,1529, -0.0050, 156.9898, 2120,   2022.1,   2.2326,  34.6369,2,  34.6368,2,    117.0,2,   132.48,2,    38.36,2,     0.00,2,     2.70,2,   -999.0,9,-999.0000,9,  -999.00,     1529
  49UP20090117,RF0901,  3322,  1,     99,     99,2,20090216,1306, -0.0202, 154.9925, 2472,      0.0,  29.5709,  35.2407,2,-999.0000,9,    194.4,2,     1.20,2,     0.10,2,     0.00,2,     0.20,2,   -999.0,9,-999.0000,9,  -999.00,     1349
  49UP20090117,RF0901,  3322,  1,     21,  18575,2,20090216,1306, -0.0202, 154.9925, 2472,     11.1,  29.5788,  35.2407,2,-999.0000,9,    195.0,2,     1.18,2,     0.10,2,     0.00,2,     0.20,2,   1974.3,2,-999.0000,9,  -999.00,     1359
  49UP20090117,RF0901,  3322,  1,     20,  18574,2,20090216,1306, -0.0202, 154.9925, 2472,     27.1,  29.5282,  35.2590,2,-999.0000,9,    194.7,2,     1.20,2,     0.21,2,     0.00,2,     0.21,2,   1976.9,2,-999.0000,9,  -999.00,     1358
  49UP20090117,RF0901,  3322,  1,     19,  18573,2,20090216,1306, -0.0202, 154.9925, 2472,     52.3,  29.3982,  35.3285,2,-999.0000,9,    190.8,2,     1.26,2,     0.62,2,     0.39,2,     0.26,2,   1989.8,2,-999.0000,9,  -999.00,     1357
  49UP20090117,RF0901,  3322,  1,     18,  18572,2,20090216,1306, -0.0202, 154.9925, 2472,     77.5,  29.3107,  35.4259,2,-999.0000,9,    186.5,2,     1.33,2,     1.11,2,     0.77,2,     0.33,2,   2004.2,2,-999.0000,9,  -999.00,     1356
  49UP20090117,RF0901,  3322,  1,     17,  18571,2,20090216,1306, -0.0202, 154.9925, 2472,    105.8,  28.9250,  35.4931,2,-999.0000,9,    180.4,2,     1.54,2,     2.37,2,     1.44,2,     0.43,2,   2016.5,2,-999.0000,9,  -999.00,     1353
  49UP20090117,RF0901,  3322,  1,     16,  18570,2,20090216,1306, -0.0202, 154.9925, 2472,    129.9,  27.8459,  35.5099,2,-999.0000,9,    163.8,2,     2.01,2,     5.59,2,     0.00,2,     0.53,2,   2031.8,2,-999.0000,9,  -999.00,     1352
  49UP20090117,RF0901,  3322,  1,     15,  18569,2,20090216,1306, -0.0202, 154.9925, 2472,    154.7,  23.6522,  35.4212,2,-999.0000,9,    141.7,2,     3.41,2,     8.73,2,     0.00,2,     0.71,2,   2072.7,2,-999.0000,9,  -999.00,     1351
  49UP20090117,RF0901,  3322,  1,     14,  18568,2,20090216,1306, -0.0202, 154.9925, 2472,    201.3,  17.9574,  35.2894,2,-999.0000,9,    138.2,2,     7.00,2,    12.87,2,     0.00,2,     0.97,2,   2114.8,2,-999.0000,9,  -999.00,     1349
  49UP20090117,RF0901,  3322,  1,     13,  18567,2,20090216,1306, -0.0202, 154.9925, 2472,    251.7,  13.3844,  34.8876,2,-999.0000,9,    135.1,2,    17.15,2,    19.28,2,     0.00,2,     1.37,2,   2151.8,2,-999.0000,9,  -999.00,     1347
  49UP20090117,RF0901,  3322,  1,     12,  18348,2,20090216,1306, -0.0202, 154.9925, 2472,    306.7,  11.7416,  34.8146,2,-999.0000,9,    135.9,2,    19.68,2,    21.89,2,     0.00,2,     1.53,2,   2163.7,2,-999.0000,9,  -999.00,     1345
  49UP20090117,RF0901,  3322,  1,     11,  18565,2,20090216,1306, -0.0202, 154.9925, 2472,    403.8,   9.9973,  34.7146,2,-999.0000,9,    109.8,2,    25.34,2,    27.75,2,     0.00,2,     1.92,2,   2200.4,2,-999.0000,9,  -999.00,     1343
  49UP20090117,RF0901,  3322,  1,     10,  18564,2,20090216,1306, -0.0202, 154.9925, 2472,    506.4,   7.8310,  34.5913,2,-999.0000,9,    100.7,2,    36.00,2,    32.71,2,     0.00,2,     2.27,2,   2222.0,2,-999.0000,9,  -999.00,     1340
  49UP20090117,RF0901,  3322,  1,      9,  18563,2,20090216,1306, -0.0202, 154.9925, 2472,    609.8,   6.9562,  34.5632,2,-999.0000,9,     88.8,2,    44.38,2,    35.60,2,     0.00,2,     2.50,2,   2240.8,2,-999.0000,9,  -999.00,     1336
  49UP20090117,RF0901,  3322,  1,      8,  18562,2,20090216,1306, -0.0202, 154.9925, 2472,    706.6,   6.2399,  34.5445,2,-999.0000,9,     91.5,2,    52.27,2,    36.75,2,     0.00,2,     2.59,2,   2251.8,2,-999.0000,9,  -999.00,     1333
  49UP20090117,RF0901,  3322,  1,      7,  18561,2,20090216,1306, -0.0202, 154.9925, 2472,    805.1,   5.7057,  34.5401,2,-999.0000,9,     90.4,2,    60.51,2,    37.62,2,     0.00,2,     2.67,2,   2266.8,2,-999.0000,9,  -999.00,     1331
  49UP20090117,RF0901,  3322,  1,      6,  18560,2,20090216,1306, -0.0202, 154.9925, 2472,    907.7,   5.1075,  34.5437,2,-999.0000,9,     88.1,2,    71.61,2,    38.62,2,     0.00,2,     2.75,2,   2280.1,6,-999.0000,9,  -999.00,     1328
  49UP20090117,RF0901,  3322,  1,      5,  18559,2,20090216,1306, -0.0202, 154.9925, 2472,   1008.0,   4.6183,  34.5462,2,-999.0000,9,    102.7,2,    79.71,2,    37.65,2,     0.00,2,     2.67,2,   2280.1,2,-999.0000,9,  -999.00,     1326
  49UP20090117,RF0901,  3322,  1,      4,  18558,2,20090216,1306, -0.0202, 154.9925, 2472,   1263.3,   3.8412,  34.5711,2,-999.0000,9,     92.8,2,    98.61,2,    39.29,2,     0.00,2,     2.82,2,   -999.0,9,-999.0000,9,  -999.00,     1321
  49UP20090117,RF0901,  3322,  1,      3,  18557,2,20090216,1306, -0.0202, 154.9925, 2472,   1511.1,   3.1185,  34.5959,2,-999.0000,9,    102.7,2,   113.47,2,    38.86,2,     0.00,2,     2.77,2,   -999.0,9,-999.0000,9,  -999.00,     1316
  49UP20090117,RF0901,  3322,  1,      2,  18556,2,20090216,1306, -0.0202, 154.9925, 2472,   1766.2,   2.5167,  34.6220,2,-999.0000,9,    111.9,2,   126.18,2,    38.51,2,     0.00,2,     2.72,2,   -999.0,9,-999.0000,9,  -999.00,     1311
  49UP20090117,RF0901,  3322,  1,      1,  18555,2,20090216,1306, -0.0202, 154.9925, 2472,   2036.4,   2.1850,  34.6390,2,-999.0000,9,    118.4,2,   133.53,2,    38.25,2,     0.00,2,     2.69,2,   -999.0,9,-999.0000,9,  -999.00,     1306