BOTTLE,20200117PRINUNIVRMK
EXPOCODE,SECT_ID,STNNBR,CASTNO,SAMPNO,BTLNBR,BTLNBR_FLAG_W,DATE,TIME,LATITUDE,LONGITUDE,DEPTH,CTDPRS,CTDTMP,CTDSAL,CTDSAL_FLAG_W,SALNTY,SALNTY_FLAG_W,OXYGEN,OXYGEN_FLAG_W,SILCAT,SILCAT_FLAG_W,NITRAT,NITRAT_FLAG_W,NITRIT,NITRIT_FLAG_W,PHSPHT,PHSPHT_FLAG_W,TCARBN,TCARBN_FLAG_W,PH_TOT,PH_TOT_FLAG_W,PH_TMP,BTL_TIME
,,,,,,,,,,,METERS,DBAR,ITS-90,PSS-78,,PSS-78,,UMOL/KG,,UMOL/KG,,UMOL/KG,,UMOL/KG,,UMOL/KG,,UMOL/KG,,,,DEG C,
  49UP20090117,RF0901,  3326,  1,     99,     99,2,20090218,0527, -0.0107, 146.9232, 4398,      0.0,  29.8944,  34.4856,2,-999.0000,9,    194.0,2,     0.43,2,     0.00,2,     0.00,2,     0.06,2,   -999.0,9,-999.0000,9,  -999.00,      605
  49UP20090117,RF0901,  3326,  1,     21,  18575,2,20090218,0527, -0.0107, 146.9232, 4398,     11.9,  29.8616,  34.5301,2,-999.0000,9,    195.4,2,     0.48,2,     0.00,2,     0.00,2,     0.07,2,   -999.0,9,-999.0000,9,  -999.00,      620
  49UP20090117,RF0901,  3326,  1,     20,  18574,2,20090218,0527, -0.0107, 146.9232, 4398,     25.8,  29.8083,  34.5630,2,-999.0000,9,    195.0,2,     0.38,2,     0.00,2,     0.00,2,     0.07,2,   -999.0,9,-999.0000,9,  -999.00,      619
  49UP20090117,RF0901,  3326,  1,     19,  18573,2,20090218,0527, -0.0107, 146.9232, 4398,     52.9,  29.8242,  34.6476,2,-999.0000,9,    194.7,2,     0.52,2,     0.00,2,     0.00,2,     0.09,2,   -999.0,9,-999.0000,9,  -999.00,      618
  49UP20090117,RF0901,  3326,  1,     18,  18572,2,20090218,0527, -0.0107, 146.9232, 4398,     76.3,  29.8974,  35.1216,2,-999.0000,9,    189.9,2,     0.67,2,     0.17,2,     0.11,2,     0.20,2,   -999.0,9,-999.0000,9,  -999.00,      617
  49UP20090117,RF0901,  3326,  1,     17,  18571,2,20090218,0527, -0.0107, 146.9232, 4398,    102.1,  29.5563,  35.3348,2,-999.0000,9,    182.7,2,     0.88,2,     0.90,2,     0.82,2,     0.32,2,   -999.0,9,-999.0000,9,  -999.00,      616
  49UP20090117,RF0901,  3326,  1,     16,  18570,2,20090218,0527, -0.0107, 146.9232, 4398,    127.1,  28.1323,  35.5582,2,-999.0000,9,    163.4,2,     1.73,2,     6.49,2,     0.00,2,     0.59,2,   -999.0,9,-999.0000,9,  -999.00,      615
  49UP20090117,RF0901,  3326,  1,     15,  18569,2,20090218,0527, -0.0107, 146.9232, 4398,    153.3,  23.9778,  35.4286,2,-999.0000,9,    141.3,2,     3.04,2,     8.66,2,     0.00,2,     0.70,2,   -999.0,9,-999.0000,9,  -999.00,      614
  49UP20090117,RF0901,  3326,  1,     14,  18568,2,20090218,0527, -0.0107, 146.9232, 4398,    200.9,  19.4599,  35.4173,2,-999.0000,9,    135.8,2,     4.94,2,    11.78,2,     0.00,2,     0.90,2,   -999.0,9,-999.0000,9,  -999.00,      612
  49UP20090117,RF0901,  3326,  1,     13,  18567,2,20090218,0527, -0.0107, 146.9232, 4398,    252.3,  15.7360,  35.2316,2,-999.0000,9,    144.5,2,     7.34,2,    15.07,2,     0.00,2,     1.10,2,   -999.0,9,-999.0000,9,  -999.00,      610
  49UP20090117,RF0901,  3326,  1,     12,  18348,2,20090218,0527, -0.0107, 146.9232, 4398,    302.8,  11.6136,  34.8265,2,-999.0000,9,    138.1,2,    19.60,2,    22.13,2,     0.00,2,     1.55,2,   -999.0,9,-999.0000,9,  -999.00,      609
  49UP20090117,RF0901,  3326,  1,     11,  18565,2,20090218,0527, -0.0107, 146.9232, 4398,    403.3,  10.1484,  34.7359,2,-999.0000,9,    104.8,2,    24.52,2,    28.09,2,     0.00,2,     1.94,2,   -999.0,9,-999.0000,9,  -999.00,      606
  49UP20090117,RF0901,  3326,  1,     10,  18564,2,20090218,0527, -0.0107, 146.9232, 4398,    504.2,   8.2408,  34.6149,2,-999.0000,9,    109.2,2,    31.38,2,    31.28,2,     0.00,2,     2.17,2,   -999.0,9,-999.0000,9,  -999.00,      603
  49UP20090117,RF0901,  3326,  1,      9,  18563,2,20090218,0527, -0.0107, 146.9232, 4398,    606.1,   7.4116,  34.5736,2,-999.0000,9,    109.1,2,    37.07,2,    33.08,2,     0.00,2,     2.30,2,   -999.0,9,-999.0000,9,  -999.00,      600
  49UP20090117,RF0901,  3326,  1,      8,  18562,2,20090218,0527, -0.0107, 146.9232, 4398,    706.5,   6.3100,  34.5442,2,-999.0000,9,     96.3,2,    50.25,2,    36.27,2,     0.00,2,     2.56,2,   -999.0,9,-999.0000,9,  -999.00,      558
  49UP20090117,RF0901,  3326,  1,      7,  18561,2,20090218,0527, -0.0107, 146.9232, 4398,    807.3,   5.8175,  34.5358,2,-999.0000,9,     99.7,2,    56.33,2,    36.71,2,     0.00,2,     2.60,2,   -999.0,9,-999.0000,9,  -999.00,      555
  49UP20090117,RF0901,  3326,  1,      6,  18560,2,20090218,0527, -0.0107, 146.9232, 4398,    908.7,   5.1667,  34.5410,2,-999.0000,9,     92.7,2,    70.04,2,    38.11,2,     0.00,2,     2.71,2,   -999.0,9,-999.0000,9,  -999.00,      552
  49UP20090117,RF0901,  3326,  1,      5,  18559,2,20090218,0527, -0.0107, 146.9232, 4398,   1011.4,   4.8057,  34.5478,2,-999.0000,9,     89.8,2,    77.65,2,    38.72,2,     0.00,2,     2.77,2,   -999.0,9,-999.0000,9,  -999.00,      549
  49UP20090117,RF0901,  3326,  1,      4,  18558,2,20090218,0527, -0.0107, 146.9232, 4398,   1262.0,   3.9196,  34.5684,2,-999.0000,9,     96.0,2,    97.00,2,    38.79,2,     0.00,2,     2.79,2,   -999.0,9,-999.0000,9,  -999.00,      543
  49UP20090117,RF0901,  3326,  1,      3,  18557,2,20090218,0527, -0.0107, 146.9232, 4398,   1514.8,   3.1755,  34.5937,2,-999.0000,9,    102.1,2,   112.73,2,    38.94,2,     0.00,2,     2.78,2,   -999.0,9,-999.0000,9,  -999.00,      538
  49UP20090117,RF0901,  3326,  1,      2,  18556,2,20090218,0527, -0.0107, 146.9232, 4398,   1768.5,   2.4893,  34.6235,2,-999.0000,9,    112.3,2,   127.38,2,    38.53,2,     0.00,2,     2.73,2,   -999.0,9,-999.0000,9,  -999.00,      533
  49UP20090117,RF0901,  3326,  1,      1,  18555,2,20090218,0527, -0.0107, 146.9232, 4398,   2022.9,   2.2337,  34.6358,2,-999.0000,9,    117.4,2,   133.29,2,    38.35,2,     0.00,2,     2.69,2,   -999.0,9,-999.0000,9,  -999.00,      527
  49UP20090117,RF0901,  3327,  1,     99,     99,2,20090218,1739, -0.0107, 145.0103, 3696,      0.0,  29.6125,  34.6073,2,-999.0000,9,    192.8,2,     0.92,2,     0.00,2,     0.00,2,     0.07,2,   -999.0,9,-999.0000,9,  -999.00,     1812
  49UP20090117,RF0901,  3327,  1,     21,  18575,2,20090218,1739, -0.0107, 145.0103, 3696,     11.8,  29.6385,  34.6199,2,-999.0000,9,    194.3,2,     0.91,2,     0.00,2,     0.00,2,     0.09,2,   -999.0,9,-999.0000,9,  -999.00,     1826
  49UP20090117,RF0901,  3327,  1,     20,  18574,2,20090218,1739, -0.0107, 145.0103, 3696,     26.1,  29.6451,  34.6221,2,-999.0000,9,    194.7,2,     0.93,2,     0.00,2,     0.00,2,     0.08,2,   -999.0,9,-999.0000,9,  -999.00,     1825
  49UP20090117,RF0901,  3327,  1,     19,  18573,2,20090218,1739, -0.0107, 145.0103, 3696,     51.1,  29.6573,  34.6259,2,-999.0000,9,    194.5,2,     0.85,2,     0.00,2,     0.00,2,     0.08,2,   -999.0,9,-999.0000,9,  -999.00,     1824
  49UP20090117,RF0901,  3327,  1,     18,  18572,2,20090218,1739, -0.0107, 145.0103, 3696,     77.6,  29.7308,  34.6950,2,-999.0000,9,    193.1,2,     0.78,2,     0.00,2,     0.00,2,     0.09,2,   -999.0,9,-999.0000,9,  -999.00,     1823
  49UP20090117,RF0901,  3327,  1,     17,  18571,2,20090218,1739, -0.0107, 145.0103, 3696,    101.9,  29.5983,  35.0063,2,-999.0000,9,    188.0,2,     1.01,2,     0.54,2,     0.27,2,     0.22,2,   -999.0,9,-999.0000,9,  -999.00,     1822
  49UP20090117,RF0901,  3327,  1,     16,  18570,2,20090218,1739, -0.0107, 145.0103, 3696,    127.2,  27.2933,  35.5533,2,-999.0000,9,    160.8,2,     2.07,2,     6.22,2,     0.20,2,     0.59,2,   -999.0,9,-999.0000,9,  -999.00,     1821
  49UP20090117,RF0901,  3327,  1,     15,  18569,2,20090218,1739, -0.0107, 145.0103, 3696,    152.8,  24.3098,  35.3906,2,-999.0000,9,    141.6,2,     2.94,2,     8.38,2,     0.00,2,     0.67,2,   -999.0,9,-999.0000,9,  -999.00,     1820
  49UP20090117,RF0901,  3327,  1,     14,  18568,2,20090218,1739, -0.0107, 145.0103, 3696,    203.8,  20.8094,  35.4825,2,-999.0000,9,    133.4,2,     4.01,2,    10.89,2,     0.00,2,     0.84,2,   -999.0,9,-999.0000,9,  -999.00,     1818
  49UP20090117,RF0901,  3327,  1,     13,  18567,2,20090218,1739, -0.0107, 145.0103, 3696,    253.6,  15.5466,  35.1780,2,-999.0000,9,    144.3,2,     8.78,2,    15.47,2,     0.00,2,     1.11,2,   -999.0,9,-999.0000,9,  -999.00,     1816
  49UP20090117,RF0901,  3327,  1,     12,  18348,2,20090218,1739, -0.0107, 145.0103, 3696,    303.7,  12.3434,  34.8682,2,-999.0000,9,    137.8,2,    18.23,2,    20.92,2,     0.00,2,     1.47,2,   -999.0,9,-999.0000,9,  -999.00,     1815
  49UP20090117,RF0901,  3327,  1,     11,  18565,2,20090218,1739, -0.0107, 145.0103, 3696,    404.0,   9.6473,  34.7016,2,-999.0000,9,    102.9,2,    26.43,2,    29.27,2,     0.00,2,     2.01,2,   -999.0,9,-999.0000,9,  -999.00,     1813
  49UP20090117,RF0901,  3327,  1,     10,  18564,2,20090218,1739, -0.0107, 145.0103, 3696,    504.3,   8.1801,  34.6077,2,-999.0000,9,    119.9,2,    30.37,2,    30.50,2,     0.00,2,     2.09,2,   -999.0,9,-999.0000,9,  -999.00,     1810
  49UP20090117,RF0901,  3327,  1,      9,  18563,2,20090218,1739, -0.0107, 145.0103, 3696,    605.8,   7.3682,  34.5722,2,-999.0000,9,    106.8,2,    37.50,2,    33.41,2,     0.00,2,     2.32,2,   -999.0,9,-999.0000,9,  -999.00,     1808
  49UP20090117,RF0901,  3327,  1,      8,  18562,2,20090218,1739, -0.0107, 145.0103, 3696,    707.1,   6.6375,  34.5513,2,-999.0000,9,     95.1,2,    46.43,2,    35.90,2,     0.00,2,     2.51,2,   -999.0,9,-999.0000,9,  -999.00,     1806
  49UP20090117,RF0901,  3327,  1,      7,  18561,2,20090218,1739, -0.0107, 145.0103, 3696,    808.5,   5.6794,  34.5387,2,-999.0000,9,     93.7,2,    59.98,2,    37.47,2,     0.00,2,     2.65,2,   -999.0,9,-999.0000,9,  -999.00,     1803
  49UP20090117,RF0901,  3327,  1,      6,  18560,2,20090218,1739, -0.0107, 145.0103, 3696,    909.6,   5.0734,  34.5407,2,-999.0000,9,     94.9,2,    69.91,2,    38.10,2,     0.00,2,     2.70,2,   -999.0,9,-999.0000,9,  -999.00,     1801
  49UP20090117,RF0901,  3327,  1,      5,  18559,2,20090218,1739, -0.0107, 145.0103, 3696,   1011.3,   4.8529,  34.5446,2,-999.0000,9,     94.6,2,    74.96,2,    38.28,2,     0.00,2,     2.73,2,   -999.0,9,-999.0000,9,  -999.00,     1758
  49UP20090117,RF0901,  3327,  1,      4,  18558,2,20090218,1739, -0.0107, 145.0103, 3696,   1263.1,   3.9931,  34.5664,2,-999.0000,9,     98.5,2,    94.40,2,    38.60,2,     0.00,2,     2.74,2,   -999.0,9,-999.0000,9,  -999.00,     1754
  49UP20090117,RF0901,  3327,  1,      3,  18557,2,20090218,1739, -0.0107, 145.0103, 3696,   1516.3,   3.1788,  34.5937,2,-999.0000,9,    102.3,2,   111.42,2,    38.97,2,     0.00,2,     2.77,2,   -999.0,9,-999.0000,9,  -999.00,     1749
  49UP20090117,RF0901,  3327,  1,      2,  18556,2,20090218,1739, -0.0107, 145.0103, 3696,   1769.5,   2.6052,  34.6179,2,-999.0000,9,    112.3,2,   122.96,2,    38.52,2,     0.00,2,     2.72,2,   -999.0,9,-999.0000,9,  -999.00,     1744
  49UP20090117,RF0901,  3327,  1,      1,  18555,2,20090218,1739, -0.0107, 145.0103, 3696,   2021.9,   2.2502,  34.6358,2,-999.0000,9,    118.1,2,   130.56,2,    38.26,2,     0.00,2,     2.68,2,   -999.0,9,-999.0000,9,  -999.00,     1739
  49UP20090117,RF0901,  3329,  1,     99,     99,2,20090219,1529, -1.9990, 142.0175, 3590,      0.0,  29.2463,  34.6339,2,-999.0000,9,    195.8,2,     1.07,2,     0.00,2,     0.00,2,     0.12,2,   -999.0,9,-999.0000,9,  -999.00,     1605
  49UP20090117,RF0901,  3329,  1,     21,  18575,2,20090219,1529, -1.9990, 142.0175, 3590,     11.1,  29.2459,  34.6318,2,  34.6337,2,    197.1,2,     1.10,2,     0.05,2,     0.00,2,     0.12,2,   -999.0,9,-999.0000,9,  -999.00,     1624
  49UP20090117,RF0901,  3329,  1,     20,  18574,2,20090219,1529, -1.9990, 142.0175, 3590,     26.9,  29.2944,  34.7049,2,-999.0000,9,    194.3,2,     1.15,2,     0.04,2,     0.00,2,     0.14,2,   -999.0,9,-999.0000,9,  -999.00,     1622
  49UP20090117,RF0901,  3329,  1,     19,  18573,2,20090219,1529, -1.9990, 142.0175, 3590,     51.7,  29.3304,  34.8355,2,-999.0000,9,    191.4,2,     1.08,2,     0.32,2,     0.11,2,     0.18,2,   -999.0,9,-999.0000,9,  -999.00,     1621
  49UP20090117,RF0901,  3329,  1,     18,  18572,2,20090219,1529, -1.9990, 142.0175, 3590,     77.6,  29.3428,  34.8912,2,-999.0000,9,    190.2,2,     1.01,2,     0.43,2,     0.21,2,     0.19,2,   -999.0,9,-999.0000,9,  -999.00,     1619
  49UP20090117,RF0901,  3329,  1,     17,  18571,2,20090219,1529, -1.9990, 142.0175, 3590,    103.0,  28.4091,  35.4893,2,  35.4884,2,    170.3,2,     1.64,2,     4.46,2,     0.00,2,     0.47,2,   -999.0,9,-999.0000,9,  -999.00,     1618
  49UP20090117,RF0901,  3329,  1,     16,  18570,2,20090219,1529, -1.9990, 142.0175, 3590,    127.0,  27.7032,  35.5600,2,-999.0000,9,    162.0,2,     1.81,2,     5.73,2,     0.00,2,     0.55,2,   -999.0,9,-999.0000,9,  -999.00,     1616
  49UP20090117,RF0901,  3329,  1,     15,  18569,2,20090219,1529, -1.9990, 142.0175, 3590,    152.1,  26.3428,  35.6204,2,-999.0000,9,    144.6,2,     2.43,2,     7.71,2,     0.00,2,     0.66,2,   -999.0,9,-999.0000,9,  -999.00,     1615
  49UP20090117,RF0901,  3329,  1,     14,  18568,2,20090219,1529, -1.9990, 142.0175, 3590,    202.4,  20.3301,  35.5795,2,  35.5752,4,    131.2,2,     4.10,2,    11.41,2,     0.00,2,     0.89,2,   -999.0,9,-999.0000,9,  -999.00,     1613
  49UP20090117,RF0901,  3329,  1,     13,  18567,2,20090219,1529, -1.9990, 142.0175, 3590,    252.8,  15.9707,  35.2683,2,-999.0000,9,    137.8,2,     7.41,2,    15.49,2,     0.00,2,     1.13,2,   -999.0,9,-999.0000,9,  -999.00,     1611
  49UP20090117,RF0901,  3329,  1,     12,  18348,2,20090219,1529, -1.9990, 142.0175, 3590,    302.4,  13.6149,  35.0419,2,  35.0412,2,    146.5,2,    11.17,2,    18.01,2,     0.00,2,     1.28,2,   -999.0,9,-999.0000,9,  -999.00,     1609
  49UP20090117,RF0901,  3329,  1,     11,  18565,2,20090219,1529, -1.9990, 142.0175, 3590,    402.9,   9.6675,  34.7020,2,  34.7007,2,    141.0,2,    22.71,2,    25.48,2,     0.00,2,     1.75,2,   -999.0,9,-999.0000,9,  -999.00,     1606
  49UP20090117,RF0901,  3329,  1,     10,  18564,2,20090219,1529, -1.9990, 142.0175, 3590,    504.0,   8.3921,  34.6215,2,-999.0000,9,    155.1,2,    22.48,2,    26.74,2,     0.00,2,     1.82,2,   -999.0,9,-999.0000,9,  -999.00,     1603
  49UP20090117,RF0901,  3329,  1,      9,  18563,2,20090219,1529, -1.9990, 142.0175, 3590,    604.9,   7.1919,  34.5569,2,  34.5560,2,    140.4,2,    32.93,2,    30.55,2,     0.00,2,     2.09,2,   -999.0,9,-999.0000,9,  -999.00,     1601
  49UP20090117,RF0901,  3329,  1,      8,  18562,2,20090219,1529, -1.9990, 142.0175, 3590,    707.0,   6.2976,  34.5250,2,-999.0000,9,    133.3,2,    42.53,2,    32.82,2,     0.00,2,     2.27,2,   -999.0,9,-999.0000,9,  -999.00,     1558
  49UP20090117,RF0901,  3329,  1,      7,  18561,2,20090219,1529, -1.9990, 142.0175, 3590,    805.9,   5.4200,  34.5234,2,  34.5230,2,    121.7,2,    57.35,2,    35.20,2,     0.00,2,     2.45,2,   -999.0,9,-999.0000,9,  -999.00,     1555
  49UP20090117,RF0901,  3329,  1,      6,  18560,2,20090219,1529, -1.9990, 142.0175, 3590,    908.0,   4.9669,  34.5351,2,-999.0000,9,    110.4,2,    69.27,2,    36.80,2,     0.00,2,     2.59,2,   -999.0,9,-999.0000,9,  -999.00,     1552
  49UP20090117,RF0901,  3329,  1,      5,  18559,2,20090219,1529, -1.9990, 142.0175, 3590,   1009.2,   4.6073,  34.5470,2,  34.5459,2,    102.2,2,    78.92,2,    37.85,2,     0.00,2,     2.68,2,   -999.0,9,-999.0000,9,  -999.00,     1550
  49UP20090117,RF0901,  3329,  1,      4,  18558,2,20090219,1529, -1.9990, 142.0175, 3590,   1261.9,   3.6499,  34.5763,2,  34.5754,2,    103.8,2,   100.13,2,    38.44,2,     0.00,2,     2.73,2,   -999.0,9,-999.0000,9,  -999.00,     1544
  49UP20090117,RF0901,  3329,  1,      3,  18557,2,20090219,1529, -1.9990, 142.0175, 3590,   1515.0,   2.9764,  34.6028,2,  34.6019,2,    108.5,2,   114.70,2,    38.50,2,     0.00,2,     2.73,2,   -999.0,9,-999.0000,9,  -999.00,     1539
  49UP20090117,RF0901,  3329,  1,      2,  18556,2,20090219,1529, -1.9990, 142.0175, 3590,   1768.6,   2.4809,  34.6251,2,  34.6241,2,    114.5,2,   125.72,2,    38.38,2,     0.00,2,     2.71,2,   -999.0,9,-999.0000,9,  -999.00,     1534
  49UP20090117,RF0901,  3329,  1,      1,  18555,2,20090219,1529, -1.9990, 142.0175, 3590,   2021.5,   2.2194,  34.6378,2,  34.6367,2,    119.1,2,   131.62,2,    38.28,2,     0.00,2,     2.68,2,   -999.0,9,-999.0000,9,  -999.00,     1529