BOTTLE,20200117PRINUNIVRMK
EXPOCODE,SECT_ID,STNNBR,CASTNO,SAMPNO,BTLNBR,BTLNBR_FLAG_W,DATE,TIME,LATITUDE,LONGITUDE,DEPTH,CTDPRS,CTDTMP,CTDSAL,CTDSAL_FLAG_W,SALNTY,SALNTY_FLAG_W,OXYGEN,OXYGEN_FLAG_W,SILCAT,SILCAT_FLAG_W,NITRAT,NITRAT_FLAG_W,NITRIT,NITRIT_FLAG_W,PHSPHT,PHSPHT_FLAG_W,TCARBN,TCARBN_FLAG_W,PH_TOT,PH_TOT_FLAG_W,PH_TMP,BTL_TIME
,,,,,,,,,,,METERS,DBAR,ITS-90,PSS-78,,PSS-78,,UMOL/KG,,UMOL/KG,,UMOL/KG,,UMOL/KG,,UMOL/KG,,UMOL/KG,,,,DEG C,
  49UP20090117,RF0901,  3311,  1,     99,     99,2,20090211,0632,  0.9828, 164.9907, 4334,      0.0,  28.2616,  34.8516,2,-999.0000,9,    193.7,2,     1.55,2,     1.33,2,     0.40,2,     0.28,2,   -999.0,9,-999.0000,9,  -999.00,      700
  49UP20090117,RF0901,  3311,  1,     21,  18575,2,20090211,0632,  0.9828, 164.9907, 4334,     11.0,  28.3231,  34.9028,2,-999.0000,9,    192.7,2,     1.64,2,     1.43,2,     0.46,2,     0.29,2,   -999.0,9,-999.0000,9,  -999.00,      724
  49UP20090117,RF0901,  3311,  1,     20,  18574,2,20090211,0632,  0.9828, 164.9907, 4334,     26.9,  28.4908,  35.3149,2,-999.0000,9,    187.9,2,     1.69,2,     2.23,2,     0.86,2,     0.38,2,   -999.0,9,-999.0000,9,  -999.00,      723
  49UP20090117,RF0901,  3311,  1,     19,  18573,2,20090211,0632,  0.9828, 164.9907, 4334,     51.8,  28.2799,  35.4138,2,-999.0000,9,    187.8,2,     1.82,2,     3.12,2,     0.71,2,     0.44,2,   -999.0,9,-999.0000,9,  -999.00,      722
  49UP20090117,RF0901,  3311,  1,     18,  18572,2,20090211,0632,  0.9828, 164.9907, 4334,     75.7,  28.0761,  35.4714,2,-999.0000,9,    190.9,2,     1.96,2,     3.64,2,     0.31,2,     0.46,2,   -999.0,9,-999.0000,9,  -999.00,      721
  49UP20090117,RF0901,  3311,  1,     17,  18571,2,20090211,0632,  0.9828, 164.9907, 4334,    100.6,  27.7659,  35.5005,2,-999.0000,9,   -999.0,9,     2.16,2,     4.67,2,     0.25,2,     0.51,2,   -999.0,9,-999.0000,9,  -999.00,      719
  49UP20090117,RF0901,  3311,  1,     16,  18570,2,20090211,0632,  0.9828, 164.9907, 4334,    126.8,  27.6490,  35.5153,2,-999.0000,9,    176.5,2,     2.28,2,     5.43,2,     0.23,2,     0.55,2,   -999.0,9,-999.0000,9,  -999.00,      718
  49UP20090117,RF0901,  3311,  1,     15,  18569,2,20090211,0632,  0.9828, 164.9907, 4334,    156.0,  24.8831,  35.0137,2,-999.0000,9,    154.7,2,     3.69,2,     6.07,2,     0.00,2,     0.54,2,   -999.0,9,-999.0000,9,  -999.00,      717
  49UP20090117,RF0901,  3311,  1,     14,  18568,2,20090211,0632,  0.9828, 164.9907, 4334,    201.5,  17.5274,  34.9567,2,-999.0000,9,    141.5,2,    11.26,2,    13.24,2,     0.00,2,     0.98,2,   -999.0,9,-999.0000,9,  -999.00,      715
  49UP20090117,RF0901,  3311,  1,     13,  18567,2,20090211,0632,  0.9828, 164.9907, 4334,    252.2,  12.6544,  34.7077,2,-999.0000,9,    128.4,2,    23.02,2,    21.20,2,     0.00,2,     1.50,2,   -999.0,9,-999.0000,9,  -999.00,      713
  49UP20090117,RF0901,  3311,  1,     12,  18348,2,20090211,0632,  0.9828, 164.9907, 4334,    301.8,  11.6145,  34.8450,2,-999.0000,9,    128.6,2,    18.77,2,    23.09,2,     0.00,2,     1.61,2,   -999.0,9,-999.0000,9,  -999.00,      712
  49UP20090117,RF0901,  3311,  1,     11,  18565,2,20090211,0632,  0.9828, 164.9907, 4334,    403.3,   9.3852,  34.6644,2,-999.0000,9,     84.5,2,    31.32,2,    31.43,2,     0.00,2,     2.18,2,   -999.0,9,-999.0000,9,  -999.00,      709
  49UP20090117,RF0901,  3311,  1,     10,  18564,2,20090211,0632,  0.9828, 164.9907, 4334,    503.0,   8.4939,  34.6398,2,-999.0000,9,     54.7,2,    37.43,2,    36.33,2,     0.00,2,     2.52,2,   -999.0,9,-999.0000,9,  -999.00,      707
  49UP20090117,RF0901,  3311,  1,      9,  18563,2,20090211,0632,  0.9828, 164.9907, 4334,    605.7,   6.9986,  34.5685,2,-999.0000,9,     75.7,2,    46.72,2,    36.97,2,     0.00,2,     2.61,2,   -999.0,9,-999.0000,9,  -999.00,      704
  49UP20090117,RF0901,  3311,  1,      8,  18562,2,20090211,0632,  0.9828, 164.9907, 4334,    706.7,   6.3033,  34.5502,2,-999.0000,9,     77.8,2,    54.78,2,    37.95,2,     0.00,2,     2.69,2,   -999.0,9,-999.0000,9,  -999.00,      701
  49UP20090117,RF0901,  3311,  1,      7,  18561,2,20090211,0632,  0.9828, 164.9907, 4334,    808.3,   5.6444,  34.5393,2,-999.0000,9,     92.0,2,    62.03,2,    37.61,2,     0.00,2,     2.67,2,   -999.0,9,-999.0000,9,  -999.00,      659
  49UP20090117,RF0901,  3311,  1,      6,  18560,2,20090211,0632,  0.9828, 164.9907, 4334,    907.4,   5.1746,  34.5410,2,-999.0000,9,     92.1,2,    70.36,2,    38.25,2,     0.00,2,     2.72,2,   -999.0,9,-999.0000,9,  -999.00,      656
  49UP20090117,RF0901,  3311,  1,      5,  18559,2,20090211,0632,  0.9828, 164.9907, 4334,   1010.4,   4.7430,  34.5432,2,-999.0000,9,    102.3,2,    76.98,2,    37.66,2,     0.00,2,     2.68,2,   -999.0,9,-999.0000,9,  -999.00,      653
  49UP20090117,RF0901,  3311,  1,      4,  18558,2,20090211,0632,  0.9828, 164.9907, 4334,   1263.5,   3.7672,  34.5736,2,-999.0000,9,     92.8,2,   100.30,2,    39.38,2,     0.00,2,     2.82,2,   -999.0,9,-999.0000,9,  -999.00,      648
  49UP20090117,RF0901,  3311,  1,      3,  18557,2,20090211,0632,  0.9828, 164.9907, 4334,   1516.9,   3.0970,  34.5962,2,-999.0000,9,    102.2,2,   114.64,2,    39.00,2,     0.00,2,     2.77,2,   -999.0,9,-999.0000,9,  -999.00,      643
  49UP20090117,RF0901,  3311,  1,      2,  18556,2,20090211,0632,  0.9828, 164.9907, 4334,   1770.0,   2.5811,  34.6185,2,-999.0000,9,    111.4,2,   124.52,2,    38.70,2,     0.00,2,     2.74,2,   -999.0,9,-999.0000,9,  -999.00,      637
  49UP20090117,RF0901,  3311,  1,      1,  18555,2,20090211,0632,  0.9828, 164.9907, 4334,   2021.3,   2.2425,  34.6368,2,-999.0000,9,    115.8,2,   132.91,2,    38.61,2,     0.00,2,     2.72,2,   -999.0,9,-999.0000,9,  -999.00,      632
  49UP20090117,RF0901,  3312,  1,     99,     99,2,20090211,1220,  0.0615, 164.9912, 4408,      0.0,  28.3328,  35.2051,2,-999.0000,9,    194.6,2,     1.53,2,     1.85,2,     0.39,2,     0.32,2,   -999.0,9,-999.0000,9,  -999.00,     1303
  49UP20090117,RF0901,  3312,  1,     21,  18575,2,20090211,1220,  0.0615, 164.9912, 4408,     10.6,  28.3425,  35.2047,2,  35.2030,2,    195.9,2,     1.50,2,     1.85,2,     0.39,2,     0.32,2,   1993.1,2,   8.0666,2,    25.00,     1319
  49UP20090117,RF0901,  3312,  1,     20,  18574,2,20090211,1220,  0.0615, 164.9912, 4408,     27.8,  28.3568,  35.2831,2,-999.0000,9,    193.4,2,     1.55,2,     2.26,2,     0.40,2,     0.36,2,   2005.0,2,   8.0609,2,    25.00,     1317
  49UP20090117,RF0901,  3312,  1,     19,  18573,2,20090211,1220,  0.0615, 164.9912, 4408,     51.3,  28.1700,  35.4873,2,-999.0000,9,    193.5,2,     1.71,2,     3.53,2,     0.69,2,     0.46,2,   2025.0,2,   8.0446,2,    25.00,     1316
  49UP20090117,RF0901,  3312,  1,     18,  18572,2,20090211,1220,  0.0615, 164.9912, 4408,     77.3,  28.1103,  35.5403,2,-999.0000,9,    191.3,2,     1.72,2,     3.71,2,     0.68,2,     0.47,2,   2024.7,2,   8.0399,2,    25.00,     1314
  49UP20090117,RF0901,  3312,  1,     17,  18571,2,20090211,1220,  0.0615, 164.9912, 4408,    102.5,  28.0689,  35.5456,2,  35.5459,2,    190.4,2,     1.86,2,     3.84,2,     0.70,2,     0.48,2,   2028.8,2,   8.0367,2,    25.00,     1313
  49UP20090117,RF0901,  3312,  1,     16,  18570,2,20090211,1220,  0.0615, 164.9912, 4408,    129.2,  26.4526,  35.4581,2,-999.0000,9,    165.6,2,     2.45,2,     6.38,2,     0.15,2,     0.59,2,   2049.0,2,   8.0016,2,    25.00,     1311
  49UP20090117,RF0901,  3312,  1,     15,  18569,2,20090211,1220,  0.0615, 164.9912, 4408,    155.5,  25.1552,  35.3316,2,-999.0000,9,    158.2,2,     3.21,2,     7.09,2,     0.05,2,     0.61,2,   2051.0,2,   7.9820,2,    25.00,     1310
  49UP20090117,RF0901,  3312,  1,     14,  18568,2,20090211,1220,  0.0615, 164.9912, 4408,    203.8,  18.6310,  35.2193,2,  35.2206,2,    137.9,2,     8.31,2,    12.61,2,     0.00,2,     0.94,2,   2109.5,2,   7.8693,2,    25.00,     1307
  49UP20090117,RF0901,  3312,  1,     13,  18567,2,20090211,1220,  0.0615, 164.9912, 4408,    252.3,  15.2220,  35.1463,2,-999.0000,9,    144.0,2,     9.93,2,    15.96,2,     0.00,2,     1.15,2,   2137.2,2,   7.8132,2,    25.00,     1305
  49UP20090117,RF0901,  3312,  1,     12,  18348,2,20090211,1220,  0.0615, 164.9912, 4408,    305.6,  11.8868,  34.8721,2,  34.8714,2,    140.8,2,    16.93,2,    21.31,2,     0.00,2,     1.50,2,   2165.4,2,   7.7346,2,    25.00,     1303
  49UP20090117,RF0901,  3312,  1,     11,  18565,2,20090211,1220,  0.0615, 164.9912, 4408,    408.2,  10.1637,  34.7152,2,  34.7129,2,    106.7,2,    26.07,2,    27.75,2,     0.00,2,     1.93,2,   2199.4,2,   7.6347,2,    25.00,     1259
  49UP20090117,RF0901,  3312,  1,     10,  18564,2,20090211,1220,  0.0615, 164.9912, 4408,    506.8,   8.1459,  34.6230,2,-999.0000,9,     53.2,2,    39.50,2,    37.10,2,     0.00,2,     2.58,2,   2260.4,2,   7.4850,2,    25.00,     1256
  49UP20090117,RF0901,  3312,  1,      9,  18563,2,20090211,1220,  0.0615, 164.9912, 4408,    607.6,   7.5264,  34.5917,2,  34.5915,2,     70.4,2,    42.53,2,    36.62,2,     0.00,2,     2.56,2,   2253.9,2,   7.5038,2,    25.00,     1252
  49UP20090117,RF0901,  3312,  1,      8,  18562,2,20090211,1220,  0.0615, 164.9912, 4408,    708.1,   6.4430,  34.5565,2,-999.0000,9,     74.9,2,    52.90,2,    38.08,2,     0.00,2,     2.70,2,   2263.8,2,   7.4987,2,    25.00,     1249
  49UP20090117,RF0901,  3312,  1,      7,  18561,2,20090211,1220,  0.0615, 164.9912, 4408,    808.1,   5.7003,  34.5436,2,  34.5419,2,     83.3,2,    61.91,2,    38.41,2,     0.00,2,     2.72,2,   2276.5,2,   7.5018,2,    25.00,     1246
  49UP20090117,RF0901,  3312,  1,      6,  18560,2,20090211,1220,  0.0615, 164.9912, 4408,    910.7,   5.0979,  34.5439,2,-999.0000,9,     88.8,2,    71.64,2,    38.50,2,     0.00,2,     2.74,2,   2281.3,2,   7.5051,2,    25.00,     1243
  49UP20090117,RF0901,  3312,  1,      5,  18559,2,20090211,1220,  0.0615, 164.9912, 4408,   1016.1,   4.6559,  34.5461,2,  34.5443,2,    102.9,2,    79.32,2,    37.58,2,     0.00,2,     2.66,2,   2281.4,2,   7.5255,3,    25.00,     1240
  49UP20090117,RF0901,  3312,  1,      4,  18558,2,20090211,1220,  0.0615, 164.9912, 4408,   1268.2,   3.7986,  34.5733,2,  34.5533,4,     90.4,2,   100.09,2,    39.55,2,     0.00,2,     2.83,2,   2311.6,2,   7.4985,2,    25.00,     1234
  49UP20090117,RF0901,  3312,  1,      3,  18557,2,20090211,1220,  0.0615, 164.9912, 4408,   1514.3,   3.1295,  34.5951,2,  34.5945,2,    101.7,2,   113.19,2,    39.04,2,     0.00,2,     2.78,2,   2319.3,2,   7.5132,2,    25.00,     1229
  49UP20090117,RF0901,  3312,  1,      2,  18556,2,20090211,1220,  0.0615, 164.9912, 4408,   1771.6,   2.5929,  34.6181,2,  34.6188,2,    111.7,2,   123.93,2,    38.63,2,     0.00,2,     2.73,2,   2329.2,6,   7.5293,2,    25.00,     1225
  49UP20090117,RF0901,  3312,  1,      1,  18555,2,20090211,1220,  0.0615, 164.9912, 4408,   2031.6,   2.2789,  34.6352,2,  34.6361,2,    115.1,2,   132.49,2,    38.64,2,     0.00,2,     2.72,2,   2333.1,2,   7.5360,6,    25.00,     1220
  49UP20090117,RF0901,  3313,  1,     99,     99,2,20090211,1910, -1.0048, 164.9755, 4431,      0.0,  28.1968,  35.5491,2,-999.0000,9,    197.8,2,     1.65,2,     3.23,2,     0.39,2,     0.42,2,   -999.0,9,-999.0000,9,  -999.00,     1949
  49UP20090117,RF0901,  3313,  1,     21,  18575,3,20090211,1910, -1.0048, 164.9755, 4431,     10.1,  28.2033,  35.5488,2,-999.0000,9,    198.5,2,     1.60,2,     3.21,2,     0.39,2,     0.42,2,   -999.0,9,-999.0000,9,  -999.00,     2009
  49UP20090117,RF0901,  3313,  1,     20,  18574,2,20090211,1910, -1.0048, 164.9755, 4431,     25.9,  28.2064,  35.5487,2,-999.0000,9,    199.1,2,     1.75,2,     3.20,2,     0.39,2,     0.42,2,   -999.0,9,-999.0000,9,  -999.00,     2008
  49UP20090117,RF0901,  3313,  1,     19,  18573,2,20090211,1910, -1.0048, 164.9755, 4431,     50.4,  28.2139,  35.5485,2,-999.0000,9,    198.5,2,     1.71,2,     3.22,2,     0.39,2,     0.42,2,   -999.0,9,-999.0000,9,  -999.00,     2007
  49UP20090117,RF0901,  3313,  1,     18,  18572,2,20090211,1910, -1.0048, 164.9755, 4431,     75.2,  28.1704,  35.5489,2,-999.0000,9,    194.7,2,     1.71,2,     3.40,2,     0.45,2,     0.45,2,   -999.0,9,-999.0000,9,  -999.00,     2006
  49UP20090117,RF0901,  3313,  1,     17,  18571,2,20090211,1910, -1.0048, 164.9755, 4431,    101.5,  27.9755,  35.5750,2,-999.0000,9,    192.3,2,     1.95,2,     3.92,2,     0.47,2,     0.49,2,   -999.0,9,-999.0000,9,  -999.00,     2004
  49UP20090117,RF0901,  3313,  1,     16,  18570,2,20090211,1910, -1.0048, 164.9755, 4431,    127.6,  27.6836,  35.5952,2,-999.0000,9,    177.7,2,     1.94,2,     5.47,2,     0.89,2,     0.59,2,   -999.0,9,-999.0000,9,  -999.00,     2003
  49UP20090117,RF0901,  3313,  1,     15,  18569,3,20090211,1910, -1.0048, 164.9755, 4431,    153.4,  26.6397,  35.6383,2,-999.0000,9,    158.0,2,     2.16,2,     7.90,2,     0.00,2,     0.68,2,   -999.0,9,-999.0000,9,  -999.00,     2002
  49UP20090117,RF0901,  3313,  1,     14,  18568,3,20090211,1910, -1.0048, 164.9755, 4431,    203.4,  19.3503,  35.6212,2,-999.0000,9,    124.2,2,     4.02,2,    12.26,2,     0.00,2,     1.01,2,   -999.0,9,-999.0000,9,  -999.00,     2000
  49UP20090117,RF0901,  3313,  1,     13,  18567,2,20090211,1910, -1.0048, 164.9755, 4431,    252.9,  13.2804,  34.9777,2,-999.0000,9,    142.4,2,    13.64,2,    18.86,2,     0.00,2,     1.34,2,   -999.0,9,-999.0000,9,  -999.00,     1958
  49UP20090117,RF0901,  3313,  1,     12,  18348,2,20090211,1910, -1.0048, 164.9755, 4431,    303.4,  11.2482,  34.8117,2,-999.0000,9,    112.5,2,    20.74,2,    25.26,2,     0.00,2,     1.75,2,   -999.0,9,-999.0000,9,  -999.00,     1955
  49UP20090117,RF0901,  3313,  1,     11,  18565,2,20090211,1910, -1.0048, 164.9755, 4431,    404.7,   9.9294,  34.7227,2,-999.0000,9,     72.3,2,    28.40,2,    31.75,2,     0.00,2,     2.19,2,   -999.0,9,-999.0000,9,  -999.00,     1952
  49UP20090117,RF0901,  3313,  1,     10,  18564,2,20090211,1910, -1.0048, 164.9755, 4431,    505.7,   8.2485,  34.6271,2,-999.0000,9,     56.4,2,    38.30,2,    36.54,2,     0.00,2,     2.54,2,   -999.0,9,-999.0000,9,  -999.00,     1948
  49UP20090117,RF0901,  3313,  1,      9,  18563,2,20090211,1910, -1.0048, 164.9755, 4431,    606.0,   7.3277,  34.5834,2,-999.0000,9,     71.6,2,    44.10,2,    36.81,2,     0.00,2,     2.59,2,   -999.0,9,-999.0000,9,  -999.00,     1944
  49UP20090117,RF0901,  3313,  1,      8,  18562,2,20090211,1910, -1.0048, 164.9755, 4431,    708.5,   6.3808,  34.5343,2,-999.0000,9,    117.2,2,    44.05,2,    34.29,2,     0.00,2,     2.39,2,   -999.0,9,-999.0000,9,  -999.00,     1940
  49UP20090117,RF0901,  3313,  1,      7,  18561,2,20090211,1910, -1.0048, 164.9755, 4431,    806.5,   5.6477,  34.5338,2,-999.0000,9,    100.7,2,    58.69,2,    36.98,2,     0.00,2,     2.61,2,   -999.0,9,-999.0000,9,  -999.00,     1937
  49UP20090117,RF0901,  3313,  1,      6,  18560,2,20090211,1910, -1.0048, 164.9755, 4431,    908.9,   4.9679,  34.5429,2,-999.0000,9,     95.4,2,    72.66,2,    38.26,2,     0.00,2,     2.72,2,   -999.0,9,-999.0000,9,  -999.00,     1934
  49UP20090117,RF0901,  3313,  1,      5,  18559,2,20090211,1910, -1.0048, 164.9755, 4431,   1008.4,   4.4934,  34.5469,2,-999.0000,9,    101.9,2,    80.56,2,    38.12,2,     0.00,2,     2.71,2,   -999.0,9,-999.0000,9,  -999.00,     1931
  49UP20090117,RF0901,  3313,  1,      4,  18558,2,20090211,1910, -1.0048, 164.9755, 4431,   1263.5,   3.6750,  34.5756,2,-999.0000,9,     95.0,2,   101.41,2,    39.44,2,     0.00,2,     2.82,2,   -999.0,9,-999.0000,9,  -999.00,     1925
  49UP20090117,RF0901,  3313,  1,      3,  18557,3,20090211,1910, -1.0048, 164.9755, 4431,   1515.2,   2.9849,  34.6010,2,-999.0000,9,    103.7,2,   116.62,2,    39.11,2,     0.00,2,     2.78,2,   -999.0,9,-999.0000,9,  -999.00,     1919
  49UP20090117,RF0901,  3313,  1,      2,  18556,2,20090211,1910, -1.0048, 164.9755, 4431,   1768.3,   2.5209,  34.6218,2,-999.0000,9,    112.5,2,   125.99,2,    38.70,2,     0.00,2,     2.74,2,   -999.0,9,-999.0000,9,  -999.00,     1915
  49UP20090117,RF0901,  3313,  1,      1,  18555,2,20090211,1910, -1.0048, 164.9755, 4431,   2021.7,   2.2210,  34.6379,2,-999.0000,9,    116.4,2,   133.48,2,    38.67,2,     0.00,2,     2.72,2,   -999.0,9,-999.0000,9,  -999.00,     1910