BOTTLE,20200117PRINUNIVRMK
EXPOCODE,SECT_ID,STNNBR,CASTNO,SAMPNO,BTLNBR,BTLNBR_FLAG_W,DATE,TIME,LATITUDE,LONGITUDE,DEPTH,CTDPRS,CTDTMP,CTDSAL,CTDSAL_FLAG_W,SALNTY,SALNTY_FLAG_W,OXYGEN,OXYGEN_FLAG_W,SILCAT,SILCAT_FLAG_W,NITRAT,NITRAT_FLAG_W,NITRIT,NITRIT_FLAG_W,PHSPHT,PHSPHT_FLAG_W,TCARBN,TCARBN_FLAG_W,PH_TOT,PH_TOT_FLAG_W,PH_TMP,BTL_TIME
,,,,,,,,,,,METERS,DBAR,ITS-90,PSS-78,,PSS-78,,UMOL/KG,,UMOL/KG,,UMOL/KG,,UMOL/KG,,UMOL/KG,,UMOL/KG,,,,DEG C,
  49UP20090117,RF0901,  3323,  1,     99,     99,2,20090216,2256, -0.0112, 152.9877, 4189,      0.0,  29.6388,  35.0664,2,-999.0000,9,    195.4,2,     1.18,2,     0.04,2,     0.00,2,     0.18,2,   -999.0,9,-999.0000,9,  -999.00,     2340
  49UP20090117,RF0901,  3323,  1,     21,  18575,2,20090216,2256, -0.0112, 152.9877, 4189,     10.9,  29.6476,  35.0664,2,-999.0000,9,    195.7,2,     1.16,2,     0.03,2,     0.00,2,     0.19,2,   -999.0,9,-999.0000,9,  -999.00,     2351
  49UP20090117,RF0901,  3323,  1,     20,  18574,2,20090216,2256, -0.0112, 152.9877, 4189,     26.2,  29.6471,  35.0662,2,-999.0000,9,    194.8,2,     1.11,2,     0.03,2,     0.00,2,     0.18,2,   -999.0,9,-999.0000,9,  -999.00,     2350
  49UP20090117,RF0901,  3323,  1,     19,  18573,2,20090216,2256, -0.0112, 152.9877, 4189,     51.9,  29.6554,  35.0713,2,-999.0000,9,    194.8,2,     1.17,2,     0.05,2,     0.00,2,     0.19,2,   -999.0,9,-999.0000,9,  -999.00,     2349
  49UP20090117,RF0901,  3323,  1,     18,  18572,2,20090216,2256, -0.0112, 152.9877, 4189,     77.6,  29.6143,  35.1645,2,-999.0000,9,    192.4,2,  -999.00,4,  -999.00,4,  -999.00,4,  -999.00,4,   -999.0,9,-999.0000,9,  -999.00,     2347
  49UP20090117,RF0901,  3323,  1,     17,  18571,2,20090216,2256, -0.0112, 152.9877, 4189,    103.4,  29.1079,  35.4600,2,-999.0000,9,    184.9,2,     1.58,2,     1.91,2,     1.22,2,     0.40,2,   -999.0,9,-999.0000,9,  -999.00,     2346
  49UP20090117,RF0901,  3323,  1,     16,  18570,2,20090216,2256, -0.0112, 152.9877, 4189,    127.7,  28.1629,  35.4948,2,-999.0000,9,    172.6,2,     1.88,2,     4.64,2,     0.34,2,     0.51,2,   -999.0,9,-999.0000,9,  -999.00,     2345
  49UP20090117,RF0901,  3323,  1,     15,  18569,2,20090216,2256, -0.0112, 152.9877, 4189,    155.1,  24.2425,  35.4561,2,-999.0000,9,    143.0,2,     3.21,2,     8.51,2,     0.00,2,     0.70,2,   -999.0,9,-999.0000,9,  -999.00,     2343
  49UP20090117,RF0901,  3323,  1,     14,  18568,2,20090216,2256, -0.0112, 152.9877, 4189,    203.6,  16.7177,  35.2490,2,-999.0000,9,    139.1,2,     7.00,2,    13.45,2,     0.00,2,     1.02,2,   -999.0,9,-999.0000,9,  -999.00,     2341
  49UP20090117,RF0901,  3323,  1,     13,  18567,2,20090216,2256, -0.0112, 152.9877, 4189,    253.3,  14.6767,  35.0887,2,-999.0000,9,    144.3,2,    11.33,2,    16.68,2,     0.00,2,     1.20,2,   -999.0,9,-999.0000,9,  -999.00,     2339
  49UP20090117,RF0901,  3323,  1,     12,  18348,2,20090216,2256, -0.0112, 152.9877, 4189,    304.4,  11.4764,  34.8155,2,-999.0000,9,    138.6,2,    19.12,2,    22.17,2,     0.00,2,     1.55,2,   -999.0,9,-999.0000,9,  -999.00,     2337
  49UP20090117,RF0901,  3323,  1,     11,  18565,2,20090216,2256, -0.0112, 152.9877, 4189,    405.0,   9.4643,  34.6780,2,-999.0000,9,    103.8,2,    27.97,2,    29.48,2,     0.00,2,     2.03,2,   -999.0,9,-999.0000,9,  -999.00,     2334
  49UP20090117,RF0901,  3323,  1,     10,  18564,2,20090216,2256, -0.0112, 152.9877, 4189,    506.3,   7.6646,  34.5859,2,-999.0000,9,    108.4,2,    35.12,2,    32.64,2,     0.00,2,     2.26,2,   -999.0,9,-999.0000,9,  -999.00,     2331
  49UP20090117,RF0901,  3323,  1,      9,  18563,2,20090216,2256, -0.0112, 152.9877, 4189,    607.6,   7.4107,  34.5804,2,-999.0000,9,     88.1,2,    40.78,2,    35.07,2,     0.00,2,     2.44,2,   -999.0,9,-999.0000,9,  -999.00,     2329
  49UP20090117,RF0901,  3323,  1,      8,  18562,2,20090216,2256, -0.0112, 152.9877, 4189,    709.2,   6.1112,  34.5438,2,-999.0000,9,     90.1,2,    53.49,2,    37.15,2,     0.00,2,     2.62,2,   -999.0,9,-999.0000,9,  -999.00,     2326
  49UP20090117,RF0901,  3323,  1,      7,  18561,2,20090216,2256, -0.0112, 152.9877, 4189,    808.9,   5.5723,  34.5407,2,-999.0000,9,     88.7,2,    62.66,2,    38.07,2,     0.00,2,     2.70,2,   -999.0,9,-999.0000,9,  -999.00,     2323
  49UP20090117,RF0901,  3323,  1,      6,  18560,2,20090216,2256, -0.0112, 152.9877, 4189,    910.3,   5.0305,  34.5446,2,-999.0000,9,     88.3,2,    73.08,2,    38.74,2,     0.00,2,     2.77,2,   -999.0,9,-999.0000,9,  -999.00,     2320
  49UP20090117,RF0901,  3323,  1,      5,  18559,2,20090216,2256, -0.0112, 152.9877, 4189,   1010.0,   4.5886,  34.5513,2,-999.0000,9,     90.5,2,    81.60,2,    39.03,2,     0.00,2,     2.79,2,   -999.0,9,-999.0000,9,  -999.00,     2317
  49UP20090117,RF0901,  3323,  1,      4,  18558,2,20090216,2256, -0.0112, 152.9877, 4189,   1263.8,   3.8473,  34.5698,2,-999.0000,9,     95.7,2,    97.24,2,    39.20,2,     0.00,2,     2.80,2,   -999.0,9,-999.0000,9,  -999.00,     2311
  49UP20090117,RF0901,  3323,  1,      3,  18557,2,20090216,2256, -0.0112, 152.9877, 4189,   1516.7,   3.1640,  34.5936,2,-999.0000,9,    102.6,2,   112.21,2,    38.99,2,     0.00,2,     2.78,2,   -999.0,9,-999.0000,9,  -999.00,     2306
  49UP20090117,RF0901,  3323,  1,      2,  18556,2,20090216,2256, -0.0112, 152.9877, 4189,   1769.2,   2.5092,  34.6221,2,-999.0000,9,    112.9,2,   125.62,2,    38.60,2,     0.00,2,     2.73,2,   -999.0,9,-999.0000,9,  -999.00,     2301
  49UP20090117,RF0901,  3323,  1,      1,  18555,2,20090216,2256, -0.0112, 152.9877, 4189,   2021.9,   2.2624,  34.6353,2,-999.0000,9,    117.5,2,   131.04,2,    38.38,2,     0.00,2,     2.70,2,   -999.0,9,-999.0000,9,  -999.00,     2256
  49UP20090117,RF0901,  3324,  1,     99,     99,2,20090217,0908, -0.0033, 150.9910, 4916,      0.0,  29.6515,  34.7179,2,-999.0000,9,    194.3,2,     1.18,2,     0.17,2,     0.00,2,     0.14,2,   -999.0,9,-999.0000,9,  -999.00,      948
  49UP20090117,RF0901,  3324,  1,     21,  18575,2,20090217,0908, -0.0033, 150.9910, 4916,     11.4,  29.8960,  34.9497,2,-999.0000,9,    194.6,2,     1.25,2,     0.10,2,     0.00,2,     0.15,2,   -999.0,9,-999.0000,9,  -999.00,      959
  49UP20090117,RF0901,  3324,  1,     20,  18574,2,20090217,0908, -0.0033, 150.9910, 4916,     26.5,  29.8837,  34.9597,2,-999.0000,9,    194.6,2,     1.09,2,     0.03,2,     0.00,2,     0.15,2,   -999.0,9,-999.0000,9,  -999.00,      958
  49UP20090117,RF0901,  3324,  1,     19,  18573,2,20090217,0908, -0.0033, 150.9910, 4916,     51.1,  29.8555,  34.9534,2,-999.0000,9,    194.7,2,     1.22,2,     0.01,2,     0.00,2,     0.15,2,   -999.0,9,-999.0000,9,  -999.00,      957
  49UP20090117,RF0901,  3324,  1,     18,  18572,2,20090217,0908, -0.0033, 150.9910, 4916,     76.0,  29.7946,  35.0674,2,-999.0000,9,    194.5,2,     1.16,2,     0.04,2,     0.00,2,     0.18,2,   -999.0,9,-999.0000,9,  -999.00,      956
  49UP20090117,RF0901,  3324,  1,     17,  18571,2,20090217,0908, -0.0033, 150.9910, 4916,    102.1,  28.6765,  35.3448,2,-999.0000,9,    172.3,2,     1.67,2,     3.45,2,     0.11,2,     0.40,2,   -999.0,9,-999.0000,9,  -999.00,      955
  49UP20090117,RF0901,  3324,  1,     16,  18570,2,20090217,0908, -0.0033, 150.9910, 4916,    126.7,  28.1676,  35.5618,2,-999.0000,9,    168.9,2,     1.91,2,     5.64,2,     0.00,2,     0.54,2,   -999.0,9,-999.0000,9,  -999.00,      954
  49UP20090117,RF0901,  3324,  1,     15,  18569,2,20090217,0908, -0.0033, 150.9910, 4916,    153.7,  25.1983,  35.5680,2,-999.0000,9,    144.0,2,     2.69,2,     8.39,2,     0.00,2,     0.70,2,   -999.0,9,-999.0000,9,  -999.00,      952
  49UP20090117,RF0901,  3324,  1,     14,  18568,2,20090217,0908, -0.0033, 150.9910, 4916,    203.2,  17.4665,  35.3286,2,-999.0000,9,    139.1,2,     6.44,2,    13.41,2,     0.00,2,     1.00,2,   -999.0,9,-999.0000,9,  -999.00,      950
  49UP20090117,RF0901,  3324,  1,     13,  18567,2,20090217,0908, -0.0033, 150.9910, 4916,    252.9,  14.4263,  35.0984,2,-999.0000,9,    145.8,2,    10.04,2,    16.62,2,     0.00,2,     1.19,2,   -999.0,9,-999.0000,9,  -999.00,      949
  49UP20090117,RF0901,  3324,  1,     12,  18348,2,20090217,0908, -0.0033, 150.9910, 4916,    302.4,  11.6959,  34.8216,2,-999.0000,9,   -999.0,9,    19.96,2,    21.98,2,     0.00,2,     1.54,2,   -999.0,9,-999.0000,9,  -999.00,      947
  49UP20090117,RF0901,  3324,  1,     11,  18565,2,20090217,0908, -0.0033, 150.9910, 4916,    404.7,   9.5767,  34.6877,2,-999.0000,9,    101.5,2,    27.93,2,    29.37,2,     0.00,2,     2.03,2,   -999.0,9,-999.0000,9,  -999.00,      944
  49UP20090117,RF0901,  3324,  1,     10,  18564,2,20090217,0908, -0.0033, 150.9910, 4916,    504.9,   7.8793,  34.5964,2,-999.0000,9,    110.1,2,    34.03,2,    32.02,2,     0.00,2,     2.22,2,   -999.0,9,-999.0000,9,  -999.00,      941
  49UP20090117,RF0901,  3324,  1,      9,  18563,2,20090217,0908, -0.0033, 150.9910, 4916,    605.5,   7.2821,  34.5765,2,-999.0000,9,     87.3,2,    42.57,2,    35.38,2,     0.00,2,     2.48,2,   -999.0,9,-999.0000,9,  -999.00,      939
  49UP20090117,RF0901,  3324,  1,      8,  18562,2,20090217,0908, -0.0033, 150.9910, 4916,    708.2,   6.0473,  34.5388,2,-999.0000,9,     97.1,2,    54.15,2,    36.62,2,     0.00,2,     2.59,2,   -999.0,9,-999.0000,9,  -999.00,      936
  49UP20090117,RF0901,  3324,  1,      7,  18561,2,20090217,0908, -0.0033, 150.9910, 4916,    808.2,   5.4810,  34.5407,2,-999.0000,9,     89.1,2,    65.08,2,    38.16,2,     0.00,2,     2.71,2,   -999.0,9,-999.0000,9,  -999.00,      933
  49UP20090117,RF0901,  3324,  1,      6,  18560,2,20090217,0908, -0.0033, 150.9910, 4916,    908.8,   5.2282,  34.5418,2,-999.0000,9,     88.3,2,    70.15,2,    38.63,2,     0.00,2,     2.76,2,   -999.0,9,-999.0000,9,  -999.00,      930
  49UP20090117,RF0901,  3324,  1,      5,  18559,2,20090217,0908, -0.0033, 150.9910, 4916,   1010.9,   4.6126,  34.5508,2,-999.0000,9,     89.8,2,    82.31,2,    39.04,2,     0.00,2,     2.80,2,   -999.0,9,-999.0000,9,  -999.00,      927
  49UP20090117,RF0901,  3324,  1,      4,  18558,2,20090217,0908, -0.0033, 150.9910, 4916,   1263.4,   3.7687,  34.5725,2,-999.0000,9,     96.1,2,   100.18,2,    39.16,2,     0.00,2,     2.80,2,   -999.0,9,-999.0000,9,  -999.00,      922
  49UP20090117,RF0901,  3324,  1,      3,  18557,2,20090217,0908, -0.0033, 150.9910, 4916,   1515.8,   3.0086,  34.5997,2,-999.0000,9,    104.9,2,   116.57,2,    38.93,2,     0.00,2,     2.77,2,   -999.0,9,-999.0000,9,  -999.00,      917
  49UP20090117,RF0901,  3324,  1,      2,  18556,2,20090217,0908, -0.0033, 150.9910, 4916,   1765.8,   2.5564,  34.6198,2,-999.0000,9,    112.6,2,   125.50,2,    38.57,2,     0.00,2,     2.72,2,   -999.0,9,-999.0000,9,  -999.00,      912
  49UP20090117,RF0901,  3324,  1,      1,  18555,2,20090217,0908, -0.0033, 150.9910, 4916,   2017.6,   2.2963,  34.6335,2,-999.0000,9,    116.8,2,   131.54,2,    38.47,2,     0.00,2,     2.71,2,   -999.0,9,-999.0000,9,  -999.00,      908
  49UP20090117,RF0901,  3325,  1,     99,     99,2,20090217,1858,  0.0007, 148.9762, 5485,      0.0,  29.8718,  34.5257,2,-999.0000,9,    192.8,2,     0.73,2,     0.01,2,     0.00,2,     0.03,2,   -999.0,9,-999.0000,9,  -999.00,     1937
  49UP20090117,RF0901,  3325,  1,     21,  18575,2,20090217,1858,  0.0007, 148.9762, 5485,     10.8,  29.8796,  34.5282,2,  34.5304,2,    193.4,2,     0.61,2,     0.00,2,     0.00,2,     0.03,2,   1907.0,2,-999.0000,9,  -999.00,     1954
  49UP20090117,RF0901,  3325,  1,     20,  18574,2,20090217,1858,  0.0007, 148.9762, 5485,     26.8,  29.9359,  34.5589,2,-999.0000,9,    193.2,2,     0.56,2,     0.00,2,     0.00,2,     0.03,2,   1905.8,2,-999.0000,9,  -999.00,     1952
  49UP20090117,RF0901,  3325,  1,     19,  18573,2,20090217,1858,  0.0007, 148.9762, 5485,     50.6,  30.1563,  34.9079,2,-999.0000,9,    192.8,2,     1.03,2,     0.00,2,     0.00,2,     0.13,2,   1945.6,2,-999.0000,9,  -999.00,     1951
  49UP20090117,RF0901,  3325,  1,     18,  18572,2,20090217,1858,  0.0007, 148.9762, 5485,     75.6,  30.0065,  35.2702,2,-999.0000,9,    192.4,2,     1.18,2,     0.07,2,     0.00,2,     0.21,2,   1978.1,2,-999.0000,9,  -999.00,     1950
  49UP20090117,RF0901,  3325,  1,     17,  18571,2,20090217,1858,  0.0007, 148.9762, 5485,    101.9,  29.1534,  35.3938,2,  35.4008,4,    176.6,2,     1.39,2,     2.48,2,     0.64,2,     0.39,2,   2012.7,2,-999.0000,9,  -999.00,     1948
  49UP20090117,RF0901,  3325,  1,     16,  18570,2,20090217,1858,  0.0007, 148.9762, 5485,    126.6,  28.1909,  35.4452,2,-999.0000,9,    166.6,2,     1.73,2,     5.07,2,     0.00,2,     0.50,2,   2027.6,2,-999.0000,9,  -999.00,     1947
  49UP20090117,RF0901,  3325,  1,     15,  18569,2,20090217,1858,  0.0007, 148.9762, 5485,    153.7,  24.8125,  35.5124,2,-999.0000,9,    145.9,2,     2.99,2,     8.33,2,     0.00,2,     0.69,2,   2066.7,2,-999.0000,9,  -999.00,     1946
  49UP20090117,RF0901,  3325,  1,     14,  18568,2,20090217,1858,  0.0007, 148.9762, 5485,    203.5,  19.1884,  35.5654,2,  35.5685,2,    129.2,2,     4.60,2,    12.59,2,     0.00,2,     1.00,2,   2129.3,2,-999.0000,9,  -999.00,     1943
  49UP20090117,RF0901,  3325,  1,     13,  18567,2,20090217,1858,  0.0007, 148.9762, 5485,    251.3,  14.2888,  35.1037,2,-999.0000,9,    143.8,2,     9.95,2,    17.19,2,     0.00,2,     1.23,2,   2141.9,2,-999.0000,9,  -999.00,     1942
  49UP20090117,RF0901,  3325,  1,     12,  18348,2,20090217,1858,  0.0007, 148.9762, 5485,    303.2,  11.2636,  34.7454,2,  34.7467,2,    130.9,2,    24.02,2,    23.27,2,     0.00,2,     1.62,2,   2171.9,2,-999.0000,9,  -999.00,     1940
  49UP20090117,RF0901,  3325,  1,     11,  18565,2,20090217,1858,  0.0007, 148.9762, 5485,    404.8,  10.0599,  34.7243,2,  34.7250,2,    101.8,2,    25.64,2,    28.51,2,     0.00,2,     1.97,2,   2203.5,2,-999.0000,9,  -999.00,     1937
  49UP20090117,RF0901,  3325,  1,     10,  18564,2,20090217,1858,  0.0007, 148.9762, 5485,    506.3,   7.9464,  34.5996,2,-999.0000,9,    108.8,2,    33.41,2,    32.00,2,     0.00,2,     2.21,2,   2220.6,2,-999.0000,9,  -999.00,     1934
  49UP20090117,RF0901,  3325,  1,      9,  18563,2,20090217,1858,  0.0007, 148.9762, 5485,    605.1,   7.3366,  34.5748,2,  34.5744,2,     95.5,2,    40.09,2,    34.42,2,     0.00,2,     2.39,2,   2232.9,2,-999.0000,9,  -999.00,     1931
  49UP20090117,RF0901,  3325,  1,      8,  18562,2,20090217,1858,  0.0007, 148.9762, 5485,    706.9,   6.3194,  34.5464,2,-999.0000,9,     92.4,2,    51.41,2,    36.55,2,     0.00,2,     2.57,2,   2254.2,2,-999.0000,9,  -999.00,     1928
  49UP20090117,RF0901,  3325,  1,      7,  18561,2,20090217,1858,  0.0007, 148.9762, 5485,    807.7,   5.7886,  34.5378,2,  34.5385,2,     95.2,2,    58.46,2,    37.08,2,     0.00,2,     2.62,2,   2261.1,2,-999.0000,9,  -999.00,     1925
  49UP20090117,RF0901,  3325,  1,      6,  18560,2,20090217,1858,  0.0007, 148.9762, 5485,    908.4,   5.1683,  34.5368,2,-999.0000,9,    102.8,2,    69.89,2,    36.93,2,     0.00,2,     2.61,2,   2272.3,6,-999.0000,9,  -999.00,     1923
  49UP20090117,RF0901,  3325,  1,      5,  18559,2,20090217,1858,  0.0007, 148.9762, 5485,   1010.2,   4.6572,  34.5499,2,  34.5502,2,     90.0,2,    80.81,2,    38.88,2,     0.00,2,     2.77,2,   2290.5,2,-999.0000,9,  -999.00,     1920
  49UP20090117,RF0901,  3325,  1,      4,  18558,2,20090217,1858,  0.0007, 148.9762, 5485,   1264.0,   3.7470,  34.5740,2,  34.5742,2,     95.8,2,   100.71,2,    38.99,2,     0.00,2,     2.78,2,   -999.0,9,-999.0000,9,  -999.00,     1914
  49UP20090117,RF0901,  3325,  1,      3,  18557,2,20090217,1858,  0.0007, 148.9762, 5485,   1516.1,   3.0792,  34.5966,2,  34.5979,2,    105.7,2,   114.06,2,    38.60,2,     0.00,2,     2.74,2,   -999.0,9,-999.0000,9,  -999.00,     1908
  49UP20090117,RF0901,  3325,  1,      2,  18556,2,20090217,1858,  0.0007, 148.9762, 5485,   1768.8,   2.5523,  34.6198,2,  34.6201,2,    112.2,2,   125.75,2,    38.51,2,     0.00,2,     2.72,2,   -999.0,9,-999.0000,9,  -999.00,     1903
  49UP20090117,RF0901,  3325,  1,      1,  18555,2,20090217,1858,  0.0007, 148.9762, 5485,   2019.4,   2.2681,  34.6346,2,  34.6352,2,    117.2,2,   131.58,2,    38.28,2,     0.00,2,     2.69,2,   -999.0,9,-999.0000,9,  -999.00,     1858