BOTTLE,20200117PRINUNIVRMK
EXPOCODE,SECT_ID,STNNBR,CASTNO,SAMPNO,BTLNBR,BTLNBR_FLAG_W,DATE,TIME,LATITUDE,LONGITUDE,DEPTH,CTDPRS,CTDTMP,CTDSAL,CTDSAL_FLAG_W,SALNTY,SALNTY_FLAG_W,OXYGEN,OXYGEN_FLAG_W,SILCAT,SILCAT_FLAG_W,NITRAT,NITRAT_FLAG_W,NITRIT,NITRIT_FLAG_W,PHSPHT,PHSPHT_FLAG_W,TCARBN,TCARBN_FLAG_W,PH_TOT,PH_TOT_FLAG_W,PH_TMP,BTL_TIME
,,,,,,,,,,,METERS,DBAR,ITS-90,PSS-78,,PSS-78,,UMOL/KG,,UMOL/KG,,UMOL/KG,,UMOL/KG,,UMOL/KG,,UMOL/KG,,,,DEG C,
  49UP20090117,RF0901,  3284,  1,     99,     99,2,20090125,0635, 28.0012, 164.9870, 5583,      0.0,  21.0799,  35.0510,2,-999.0000,9,    222.3,2,     1.73,2,     0.07,2,     0.00,2,     0.01,2,   -999.0,9,-999.0000,9,  -999.00,      711
  49UP20090117,RF0901,  3284,  1,     21,  18575,2,20090125,0635, 28.0012, 164.9870, 5583,     11.4,  21.0901,  35.0512,2,  35.0493,2,    221.7,2,     1.57,2,     0.05,2,     0.00,2,     0.02,2,   1997.0,2,   8.0577,2,    25.00,      730
  49UP20090117,RF0901,  3284,  1,     20,  18574,2,20090125,0635, 28.0012, 164.9870, 5583,     26.8,  21.0931,  35.0512,2,-999.0000,9,    222.0,2,     1.48,2,     0.04,2,     0.00,2,     0.02,2,   1995.3,2,   8.0588,2,    25.00,      729
  49UP20090117,RF0901,  3284,  1,     19,  18573,2,20090125,0635, 28.0012, 164.9870, 5583,     52.5,  21.0670,  35.0449,2,-999.0000,9,    221.8,2,     1.45,2,     0.04,2,     0.00,2,     0.02,2,   1993.6,2,   8.0583,2,    25.00,      727
  49UP20090117,RF0901,  3284,  1,     18,  18572,2,20090125,0635, 28.0012, 164.9870, 5583,     76.6,  21.0477,  35.0469,2,-999.0000,9,    222.0,2,     1.50,2,     0.03,2,     0.00,2,     0.01,2,   1997.0,2,   8.0587,2,    25.00,      726
  49UP20090117,RF0901,  3284,  1,     17,  18571,2,20090125,0635, 28.0012, 164.9870, 5583,    101.5,  21.0286,  35.0465,2,  35.0455,2,    221.9,2,     1.39,2,     0.02,2,     0.00,2,     0.01,2,   1995.6,2,   8.0591,2,    25.00,      725
  49UP20090117,RF0901,  3284,  1,     16,  18570,2,20090125,0635, 28.0012, 164.9870, 5583,    127.5,  19.5960,  34.8444,2,-999.0000,9,    216.0,2,     1.73,2,     0.31,2,     0.09,2,     0.06,2,   2009.8,2,   8.0107,2,    25.00,      723
  49UP20090117,RF0901,  3284,  1,     15,  18569,2,20090125,0635, 28.0012, 164.9870, 5583,    151.8,  18.3177,  34.7642,2,-999.0000,9,    206.9,2,     2.37,2,     1.45,2,     0.03,2,     0.15,2,   2026.0,2,   7.9676,2,    25.00,      722
  49UP20090117,RF0901,  3284,  1,     14,  18568,2,20090125,0635, 28.0012, 164.9870, 5583,    201.9,  16.8175,  34.6926,2,  34.6942,2,    200.8,2,     4.29,2,     5.81,2,     0.01,2,     0.37,2,   2044.4,2,   7.9349,2,    25.00,      720
  49UP20090117,RF0901,  3284,  1,     13,  18567,2,20090125,0635, 28.0012, 164.9870, 5583,    254.1,  15.6816,  34.6142,2,-999.0000,9,    201.6,2,     6.16,2,     7.61,2,     0.00,2,     0.48,2,   2056.3,2,   7.9095,2,    25.00,      718
  49UP20090117,RF0901,  3284,  1,     12,  18348,2,20090125,0635, 28.0012, 164.9870, 5583,    305.1,  14.5468,  34.5318,2,  34.5318,2,    204.5,2,     8.13,2,     9.16,2,     0.00,2,     0.59,2,   2065.4,2,   7.8797,2,    25.00,      716
  49UP20090117,RF0901,  3284,  1,     11,  18565,2,20090125,0635, 28.0012, 164.9870, 5583,    404.9,  12.5980,  34.3943,2,  34.3941,2,    207.5,2,    12.78,2,    12.31,2,     0.00,2,     0.80,2,   2084.4,2,   7.8342,2,    25.00,      713
  49UP20090117,RF0901,  3284,  1,     10,  18564,2,20090125,0635, 28.0012, 164.9870, 5583,    505.5,  10.1747,  34.2129,2,-999.0000,9,    197.8,2,    22.56,2,    17.67,2,     0.00,2,     1.18,2,   2121.7,2,   7.7494,2,    25.00,      711
  49UP20090117,RF0901,  3284,  1,      9,  18563,2,20090125,0635, 28.0012, 164.9870, 5583,    605.7,   7.5245,  34.0577,2,  34.0576,2,    158.2,2,    43.25,2,    26.22,2,     0.00,2,     1.82,2,   2184.6,2,   7.6216,2,    25.00,      707
  49UP20090117,RF0901,  3284,  1,      8,  18562,3,20090125,0635, 28.0012, 164.9870, 5583,    707.3,   5.4894,  34.0533,2,-999.0000,9,    102.0,2,    72.53,2,    34.76,2,     0.00,2,     2.47,2,   2255.7,2,   7.4747,2,    25.00,      704
  49UP20090117,RF0901,  3284,  1,      7,  18561,2,20090125,0635, 28.0012, 164.9870, 5583,    807.7,   4.7214,  34.1377,2,  34.1370,2,     67.6,2,    90.39,2,    38.71,2,     0.00,2,     2.77,2,   2298.1,2,   7.4073,2,    25.00,      701
  49UP20090117,RF0901,  3284,  1,      6,  18560,2,20090125,0635, 28.0012, 164.9870, 5583,    908.9,   4.1363,  34.2353,2,-999.0000,9,     45.7,2,   106.21,2,    41.31,2,     0.00,2,     2.95,2,   2329.4,2,   7.3701,2,    25.00,      659
  49UP20090117,RF0901,  3284,  1,      5,  18559,2,20090125,0635, 28.0012, 164.9870, 5583,   1011.1,   3.6228,  34.3244,2,  34.3283,2,     34.7,2,   121.19,2,    42.72,2,     0.00,2,     3.06,2,   2353.4,2,   7.3556,2,    25.00,      656
  49UP20090117,RF0901,  3284,  1,      4,  18558,2,20090125,0635, 28.0012, 164.9870, 5583,   1262.8,   2.9799,  34.4504,2,  34.4498,2,     37.7,2,   137.96,2,    43.27,2,     0.01,2,     3.08,2,   2367.7,2,   7.3682,2,    25.00,      650
  49UP20090117,RF0901,  3284,  1,      3,  18557,2,20090125,0635, 28.0012, 164.9870, 5583,   1517.4,   2.4382,  34.5204,2,  34.5213,2,     46.3,2,   151.63,2,    43.02,2,     0.01,2,     3.04,2,   2378.1,2,   7.3978,2,    25.00,      645
  49UP20090117,RF0901,  3284,  1,      2,  18556,2,20090125,0635, 28.0012, 164.9870, 5583,   1771.7,   2.1697,  34.5731,2,  34.5734,2,     67.0,2,   154.89,2,    41.91,2,     0.01,2,     2.95,2,   2375.0,6,   7.4309,2,    25.00,      639
  49UP20090117,RF0901,  3284,  1,      1,  18555,2,20090125,0635, 28.0012, 164.9870, 5583,   2023.5,   1.9355,  34.6127,2,  34.6122,2,     91.3,2,   153.81,2,    40.19,2,     0.00,2,     2.82,2,   2360.5,2,   7.4746,2,    25.00,      635
  49UP20090117,RF0901,  3287,  1,     99,     99,2,20090126,0257, 25.0083, 164.9887, 5924,      0.0,  24.5178,  35.1888,2,-999.0000,9,    214.8,2,     0.92,2,     0.02,2,     0.00,2,     0.00,2,   -999.0,9,-999.0000,9,  -999.00,      345
  49UP20090117,RF0901,  3287,  1,     21,  18575,2,20090126,0257, 25.0083, 164.9887, 5924,     10.8,  24.5185,  35.1880,2,-999.0000,9,    211.6,2,     0.93,2,     0.02,2,     0.00,2,     0.00,2,   1976.2,2,-999.0000,9,  -999.00,      351
  49UP20090117,RF0901,  3287,  1,     20,  18574,2,20090126,0257, 25.0083, 164.9887, 5924,     24.8,  24.4903,  35.1851,2,-999.0000,9,    211.3,2,     1.03,2,     0.03,2,     0.00,2,     0.00,2,   1974.6,2,-999.0000,9,  -999.00,      349
  49UP20090117,RF0901,  3287,  1,     19,  18573,2,20090126,0257, 25.0083, 164.9887, 5924,     51.8,  24.4795,  35.1852,2,-999.0000,9,    211.4,2,     1.03,2,     0.03,2,     0.00,2,     0.00,2,   1973.5,2,-999.0000,9,  -999.00,      348
  49UP20090117,RF0901,  3287,  1,     18,  18572,2,20090126,0257, 25.0083, 164.9887, 5924,     76.6,  24.4684,  35.1810,2,-999.0000,9,    211.2,2,     1.05,2,     0.03,2,     0.00,2,     0.00,2,   1972.8,2,-999.0000,9,  -999.00,      347
  49UP20090117,RF0901,  3287,  1,     17,  18571,2,20090126,0257, 25.0083, 164.9887, 5924,    102.5,  23.2612,  35.0863,2,-999.0000,9,    211.0,2,     1.27,2,     0.04,2,     0.00,2,     0.01,2,   1994.4,2,-999.0000,9,  -999.00,      345
  49UP20090117,RF0901,  3287,  1,     16,  18570,2,20090126,0257, 25.0083, 164.9887, 5924,    126.2,  20.5476,  34.8758,2,-999.0000,9,    213.6,2,     1.94,2,     0.09,2,     0.08,2,     0.03,2,   2009.6,2,-999.0000,9,  -999.00,      344
  49UP20090117,RF0901,  3287,  1,     15,  18569,2,20090126,0257, 25.0083, 164.9887, 5924,    152.4,  19.1471,  34.8319,2,-999.0000,9,    204.2,2,     2.37,2,     1.46,2,     0.03,2,     0.11,2,   2023.4,2,-999.0000,9,  -999.00,      342
  49UP20090117,RF0901,  3287,  1,     14,  18568,2,20090126,0257, 25.0083, 164.9887, 5924,    202.7,  17.6711,  34.7685,2,-999.0000,9,    201.6,2,     3.58,2,     4.61,2,     0.01,2,     0.26,2,   2033.3,2,-999.0000,9,  -999.00,      340
  49UP20090117,RF0901,  3287,  1,     13,  18567,2,20090126,0257, 25.0083, 164.9887, 5924,    253.2,  16.6433,  34.7061,2,-999.0000,9,    204.7,2,     5.10,2,     6.22,2,     0.00,2,     0.37,2,   2043.3,2,-999.0000,9,  -999.00,      338
  49UP20090117,RF0901,  3287,  1,     12,  18348,2,20090126,0257, 25.0083, 164.9887, 5924,    303.2,  15.7085,  34.6341,2,-999.0000,9,    199.4,2,     7.06,2,     8.04,2,     0.00,2,     0.49,2,   2055.7,2,-999.0000,9,  -999.00,      336
  49UP20090117,RF0901,  3287,  1,     11,  18565,2,20090126,0257, 25.0083, 164.9887, 5924,    403.8,  13.0995,  34.4252,2,-999.0000,9,    200.7,2,    12.13,2,    11.91,2,     0.00,2,     0.76,2,   2081.5,2,-999.0000,9,  -999.00,      334
  49UP20090117,RF0901,  3287,  1,     10,  18564,2,20090126,0257, 25.0083, 164.9887, 5924,    505.9,  10.0094,  34.2003,2,-999.0000,9,    183.0,2,    24.44,2,    19.13,2,     0.00,2,     1.28,2,   2131.3,2,-999.0000,9,  -999.00,      331
  49UP20090117,RF0901,  3287,  1,      9,  18563,2,20090126,0257, 25.0083, 164.9887, 5924,    605.9,   7.7385,  34.0867,2,-999.0000,9,    148.2,2,    41.98,2,    26.55,2,     0.00,2,     1.83,2,   2183.1,2,-999.0000,9,  -999.00,      329
  49UP20090117,RF0901,  3287,  1,      8,  18562,2,20090126,0257, 25.0083, 164.9887, 5924,    707.4,   5.9507,  34.0622,2,-999.0000,9,    108.2,2,    65.18,2,    33.46,2,     0.00,2,     2.36,2,   2244.5,2,-999.0000,9,  -999.00,      326
  49UP20090117,RF0901,  3287,  1,      7,  18561,2,20090126,0257, 25.0083, 164.9887, 5924,    808.9,   4.7329,  34.1718,2,-999.0000,9,     59.4,2,    90.31,2,    39.24,2,     0.00,2,     2.80,2,   2301.8,2,-999.0000,9,  -999.00,      323
  49UP20090117,RF0901,  3287,  1,      6,  18560,2,20090126,0257, 25.0083, 164.9887, 5924,    909.3,   4.2267,  34.2635,2,-999.0000,9,     42.6,2,   104.00,2,    41.40,2,     0.00,2,     2.96,2,   2324.0,2,-999.0000,9,  -999.00,      320
  49UP20090117,RF0901,  3287,  1,      5,  18559,2,20090126,0257, 25.0083, 164.9887, 5924,   1011.0,   3.7616,  34.3491,2,-999.0000,9,     37.9,2,   116.32,2,    42.40,2,     0.00,2,     3.03,2,   2345.9,2,-999.0000,9,  -999.00,      317
  49UP20090117,RF0901,  3287,  1,      4,  18558,2,20090126,0257, 25.0083, 164.9887, 5924,   1264.1,   3.0481,  34.4811,2,-999.0000,9,     48.8,2,   133.62,2,    42.39,2,     0.00,2,     3.01,2,   2362.0,2,-999.0000,9,  -999.00,      312
  49UP20090117,RF0901,  3287,  1,      3,  18557,2,20090126,0257, 25.0083, 164.9887, 5924,   1514.6,   2.6000,  34.5470,2,-999.0000,9,     69.3,2,   141.04,2,    41.37,2,     0.00,2,     2.92,2,   2357.8,2,-999.0000,9,  -999.00,      307
  49UP20090117,RF0901,  3287,  1,      2,  18556,2,20090126,0257, 25.0083, 164.9887, 5924,   1768.0,   2.2046,  34.5916,2,-999.0000,9,     88.4,2,   145.86,2,    40.38,2,     0.00,2,     2.82,2,   2353.2,6,-999.0000,9,  -999.00,      301
  49UP20090117,RF0901,  3287,  1,      1,  18555,2,20090126,0257, 25.0083, 164.9887, 5924,   2024.1,   1.9486,  34.6229,2,-999.0000,9,    103.5,2,   148.37,2,    39.50,2,     0.00,2,     2.76,2,   2352.4,2,-999.0000,9,  -999.00,      257
  49UP20090117,RF0901,  3289,  1,     99,     99,2,20090126,1609, 22.9905, 164.9813, 5805,      0.0,  24.6775,  35.2547,2,-999.0000,9,    208.6,2,     1.15,2,     0.02,2,     0.00,2,     0.01,2,   -999.0,9,-999.0000,9,  -999.00,     1648
  49UP20090117,RF0901,  3289,  1,     21,  18575,2,20090126,1609, 22.9905, 164.9813, 5805,     10.8,  24.6839,  35.2539,2,  35.2521,2,    208.9,2,     1.03,2,     0.01,2,     0.00,2,     0.01,2,   -999.0,9,-999.0000,9,  -999.00,     1706
  49UP20090117,RF0901,  3289,  1,     20,  18574,2,20090126,1609, 22.9905, 164.9813, 5805,     28.2,  24.6882,  35.2536,2,-999.0000,9,    208.6,2,     0.85,2,     0.00,2,     0.00,2,     0.01,2,   -999.0,9,-999.0000,9,  -999.00,     1704
  49UP20090117,RF0901,  3289,  1,     19,  18573,2,20090126,1609, 22.9905, 164.9813, 5805,     52.2,  24.6935,  35.2537,2,-999.0000,9,    208.8,2,     0.83,2,     0.00,2,     0.00,2,     0.01,2,   -999.0,9,-999.0000,9,  -999.00,     1703
  49UP20090117,RF0901,  3289,  1,     18,  18572,2,20090126,1609, 22.9905, 164.9813, 5805,     76.8,  24.6947,  35.2540,2,-999.0000,9,    208.7,2,     0.87,2,     0.00,2,     0.00,2,     0.01,2,   -999.0,9,-999.0000,9,  -999.00,     1701
  49UP20090117,RF0901,  3289,  1,     17,  18571,2,20090126,1609, 22.9905, 164.9813, 5805,    102.7,  24.7039,  35.2533,2,  35.2525,2,    208.9,2,     0.88,2,     0.00,2,     0.00,2,     0.01,2,   -999.0,9,-999.0000,9,  -999.00,     1659
  49UP20090117,RF0901,  3289,  1,     16,  18570,2,20090126,1609, 22.9905, 164.9813, 5805,    125.5,  24.6966,  35.2503,2,-999.0000,9,    204.3,2,     0.86,2,     0.00,2,     0.00,2,     0.01,2,   -999.0,9,-999.0000,9,  -999.00,     1658
  49UP20090117,RF0901,  3289,  1,     15,  18569,2,20090126,1609, 22.9905, 164.9813, 5805,    152.6,  21.9284,  35.0649,2,-999.0000,9,    199.4,2,     1.48,2,     0.18,2,     0.15,2,     0.05,2,   -999.0,9,-999.0000,9,  -999.00,     1657
  49UP20090117,RF0901,  3289,  1,     14,  18568,2,20090126,1609, 22.9905, 164.9813, 5805,    201.7,  18.7371,  34.8259,2,  34.8261,2,    198.3,2,     2.48,2,     2.54,2,     0.01,2,     0.19,2,   -999.0,9,-999.0000,9,  -999.00,     1655
  49UP20090117,RF0901,  3289,  1,     13,  18567,2,20090126,1609, 22.9905, 164.9813, 5805,    252.0,  17.2339,  34.7419,2,-999.0000,9,    198.2,2,     4.00,2,     5.52,2,     0.00,2,     0.34,2,   -999.0,9,-999.0000,9,  -999.00,     1653
  49UP20090117,RF0901,  3289,  1,     12,  18348,2,20090126,1609, 22.9905, 164.9813, 5805,    302.0,  15.7167,  34.6225,2,  34.6227,2,    198.0,2,     6.49,2,     7.86,2,     0.00,2,     0.49,2,   -999.0,9,-999.0000,9,  -999.00,     1651
  49UP20090117,RF0901,  3289,  1,     11,  18565,2,20090126,1609, 22.9905, 164.9813, 5805,    403.6,  12.5721,  34.3760,2,  34.3799,2,    198.4,2,    13.15,2,    12.87,2,     0.00,2,     0.84,2,   -999.0,9,-999.0000,9,  -999.00,     1648
  49UP20090117,RF0901,  3289,  1,     10,  18564,2,20090126,1609, 22.9905, 164.9813, 5805,    505.8,   9.8646,  34.1850,2,-999.0000,9,    178.1,2,    25.00,2,    19.82,2,     0.00,2,     1.32,2,   -999.0,9,-999.0000,9,  -999.00,     1645
  49UP20090117,RF0901,  3289,  1,      9,  18563,2,20090126,1609, 22.9905, 164.9813, 5805,    607.0,   7.7056,  34.0907,2,  34.0921,2,    140.0,2,    42.85,2,    27.36,2,     0.00,2,     1.88,2,   -999.0,9,-999.0000,9,  -999.00,     1642
  49UP20090117,RF0901,  3289,  1,      8,  18562,2,20090126,1609, 22.9905, 164.9813, 5805,    703.8,   5.5895,  34.0963,2,-999.0000,9,     89.9,2,    72.28,2,    35.42,2,     0.00,2,     2.51,2,   -999.0,9,-999.0000,9,  -999.00,     1639
  49UP20090117,RF0901,  3289,  1,      7,  18561,2,20090126,1609, 22.9905, 164.9813, 5805,    808.9,   4.7253,  34.2366,2,  34.2346,2,     52.6,2,    92.93,2,    39.97,2,     0.00,2,     2.85,2,   -999.0,9,-999.0000,9,  -999.00,     1636
  49UP20090117,RF0901,  3289,  1,      6,  18560,2,20090126,1609, 22.9905, 164.9813, 5805,    909.1,   4.2220,  34.3363,2,-999.0000,9,     45.6,2,   105.02,2,    41.13,2,     0.00,2,     2.94,2,   -999.0,9,-999.0000,9,  -999.00,     1633
  49UP20090117,RF0901,  3289,  1,      5,  18559,2,20090126,1609, 22.9905, 164.9813, 5805,   1013.5,   3.8560,  34.4050,2,  34.4049,2,     48.9,2,   113.27,2,    41.45,2,     0.00,2,     2.96,2,   -999.0,9,-999.0000,9,  -999.00,     1630
  49UP20090117,RF0901,  3289,  1,      4,  18558,2,20090126,1609, 22.9905, 164.9813, 5805,   1264.0,   3.1618,  34.5075,2,  34.5056,2,     65.6,2,   127.22,2,    40.96,2,     0.00,2,     2.90,2,   -999.0,9,-999.0000,9,  -999.00,     1624
  49UP20090117,RF0901,  3289,  1,      3,  18557,2,20090126,1609, 22.9905, 164.9813, 5805,   1517.5,   2.6597,  34.5554,2,  34.5595,4,     77.9,2,   136.36,2,    40.59,2,     0.00,2,     2.85,2,   -999.0,9,-999.0000,9,  -999.00,     1619
  49UP20090117,RF0901,  3289,  1,      2,  18556,2,20090126,1609, 22.9905, 164.9813, 5805,   1768.2,   2.2830,  34.5896,2,  34.5906,2,     89.9,2,   142.59,2,    40.11,2,     0.00,2,     2.80,2,   -999.0,9,-999.0000,9,  -999.00,     1614
  49UP20090117,RF0901,  3289,  1,      1,  18555,2,20090126,1609, 22.9905, 164.9813, 5805,   2021.9,   2.0105,  34.6200,2,  34.6189,2,    102.3,2,   146.54,2,    39.43,2,     0.00,2,     2.74,2,   -999.0,9,-999.0000,9,  -999.00,     1609