BOTTLE,20200117PRINUNIVRMK
# 08/30/2019 Initialized README file  
# Data source:  Masao Ishii 2018/11/30 
# SHIP: R/V Ryofu Maru III 
# Cruise: RF09-01 
# Region: Pacific Ocean 
# EXPOCODE: 49UP20090117 
# DATES: 20090117 - 20090310 
# Chief Scientist: Yumitoshi Miura 
# 46 stations with 21 place Rosette 
# CTD: Who - Shinya Minato; Status - final 
# 	Includes: CTDSAL 
# SALNTY: Who - Shinya Minato; Status - final 
# 	Notes: 	 
# Nutrients: Who - Shinya Minato; Status - final 
# 	Includes: nitrate, nitrite, silicate, phosphate 
# 	Nitrite and NO3+NO2 reported. Separated by subtraction 
# OXYGEN: Who - Shinya Minato; Status - final 
# 	Notes: 
# TCARBN: Who - Shinya Minato; Status - final 
# 	Notes:  
# PH: Who - Shinya Minato; Status - final 
# 	Notes:  
# These data should be cited as: Miura, Yumitoshi; Minato, Shinya; Ishii, Masao (2019). Dissolved inorganic carbon (DIC), pH on total scale, temperature, salinity, oxygen, nutrients and other measurements collected from profile and discrete sample observations during the R/V Ryofu Maru III cruise RF09-01 (EXPOCODE 49UP20090117) in the Pacific Ocean from 2009-01-16 to 2009-03-10 (NCEI Accession 0186283). [indicate subset used]. NOAA National Centers for Environmental Information. Dataset. https://doi.org/10.25921/y6v3-fj36. Accessed [date].             
# References that have used data from this cruise: 
EXPOCODE,SECT_ID,STNNBR,CASTNO,SAMPNO,BTLNBR,BTLNBR_FLAG_W,DATE,TIME,LATITUDE,LONGITUDE,DEPTH,CTDPRS,CTDTMP,CTDSAL,CTDSAL_FLAG_W,SALNTY,SALNTY_FLAG_W,OXYGEN,OXYGEN_FLAG_W,SILCAT,SILCAT_FLAG_W,NITRAT,NITRAT_FLAG_W,NITRIT,NITRIT_FLAG_W,PHSPHT,PHSPHT_FLAG_W,TCARBN,TCARBN_FLAG_W,PH_TOT,PH_TOT_FLAG_W,PH_TMP,BTL_TIME
,,,,,,,,,,,METERS,DBAR,ITS-90,PSS-78,,PSS-78,,UMOL/KG,,UMOL/KG,,UMOL/KG,,UMOL/KG,,UMOL/KG,,UMOL/KG,,,,DEG C,
  49UP20090117,RF0901,  3262,  1,     99,     99,2,20090117,0534, 34.9302, 140.2280, 2253,      0.0,  14.6424,  34.3957,2,-999.0000,9,    214.7,2,     1.08,2,     0.03,2,     0.00,2,     0.00,2,   -999.0,9,-999.0000,9,  -999.00,      624
  49UP20090117,RF0901,  3262,  1,     21,  18575,2,20090117,0534, 34.9302, 140.2280, 2253,     11.7,  14.6333,  34.3947,2,  34.3963,2,    209.9,2,    16.09,2,    10.60,2,     0.49,2,     0.66,2,   -999.0,9,-999.0000,9,  -999.00,      634
  49UP20090117,RF0901,  3262,  1,     20,  18574,2,20090117,0534, 34.9302, 140.2280, 2253,     25.9,  14.5896,  34.3978,2,-999.0000,9,    206.4,2,    16.48,2,    10.77,2,     0.42,2,     0.70,2,   -999.0,9,-999.0000,9,  -999.00,      633
  49UP20090117,RF0901,  3262,  1,     19,  18573,2,20090117,0534, 34.9302, 140.2280, 2253,     52.1,  14.1978,  34.4461,2,-999.0000,9,    172.9,2,    16.80,2,    11.02,2,     0.41,2,     0.72,2,   -999.0,9,-999.0000,9,  -999.00,      631
  49UP20090117,RF0901,  3262,  1,     18,  18572,2,20090117,0534, 34.9302, 140.2280, 2253,     76.6,  12.6942,  34.4247,2,-999.0000,9,    157.8,2,    21.68,2,    14.21,2,     0.14,2,     0.94,2,   -999.0,9,-999.0000,9,  -999.00,      630
  49UP20090117,RF0901,  3262,  1,     17,  18571,2,20090117,0534, 34.9302, 140.2280, 2253,    101.9,  11.5215,  34.3984,2,  34.3973,2,   -999.0,4,    28.50,2,    17.81,2,     0.03,2,     1.19,2,   -999.0,9,-999.0000,9,  -999.00,      629
  49UP20090117,RF0901,  3262,  1,     16,  18570,2,20090117,0534, 34.9302, 140.2280, 2253,    126.8,  10.9938,  34.3700,2,-999.0000,9,    149.4,2,    33.29,2,    20.19,2,     0.00,2,     1.36,2,   -999.0,9,-999.0000,9,  -999.00,      628
  49UP20090117,RF0901,  3262,  1,     15,  18569,2,20090117,0534, 34.9302, 140.2280, 2253,    152.4,  10.4400,  34.3458,2,-999.0000,9,    146.8,2,    35.98,2,    21.14,2,     0.00,2,     1.43,2,   -999.0,9,-999.0000,9,  -999.00,      627
  49UP20090117,RF0901,  3262,  1,     14,  18568,2,20090117,0534, 34.9302, 140.2280, 2253,    202.8,   9.5115,  34.3126,2,  34.3140,2,    138.3,2,    39.41,2,    22.33,2,     0.00,2,     1.53,2,   -999.0,9,-999.0000,9,  -999.00,      625
  49UP20090117,RF0901,  3262,  1,     13,  18567,2,20090117,0534, 34.9302, 140.2280, 2253,    252.5,   8.5046,  34.2764,2,-999.0000,9,    128.3,2,    46.16,2,    24.64,2,     0.00,2,     1.68,2,   -999.0,9,-999.0000,9,  -999.00,      624
  49UP20090117,RF0901,  3262,  1,     12,  18348,2,20090117,0534, 34.9302, 140.2280, 2253,    302.9,   7.7432,  34.2583,2,  34.2602,2,    118.8,2,    53.21,2,    27.13,2,     0.00,2,     1.87,2,   -999.0,9,-999.0000,9,  -999.00,      622
  49UP20090117,RF0901,  3262,  1,     11,  18565,2,20090117,0534, 34.9302, 140.2280, 2253,    404.0,   6.4599,  34.2378,2,  34.2383,2,    102.0,2,    60.27,2,    29.22,2,     0.00,2,     2.01,2,   -999.0,9,-999.0000,9,  -999.00,      620
  49UP20090117,RF0901,  3262,  1,     10,  18564,2,20090117,0534, 34.9302, 140.2280, 2253,    505.1,   5.3342,  34.2490,2,-999.0000,9,     83.7,2,    73.75,2,    32.80,2,     0.00,2,     2.29,2,   -999.0,9,-999.0000,9,  -999.00,      617
  49UP20090117,RF0901,  3262,  1,      9,  18563,2,20090117,0534, 34.9302, 140.2280, 2253,    606.0,   4.9210,  34.2535,2,  34.2539,2,     76.6,2,    88.87,2,    36.09,2,     0.00,2,     2.54,2,   -999.0,9,-999.0000,9,  -999.00,      615
  49UP20090117,RF0901,  3262,  1,      8,  18562,2,20090117,0534, 34.9302, 140.2280, 2253,    707.3,   4.3362,  34.3124,2,-999.0000,9,     65.4,2,    94.36,2,    37.26,2,     0.00,2,     2.62,2,   -999.0,9,-999.0000,9,  -999.00,      613
  49UP20090117,RF0901,  3262,  1,      7,  18561,2,20090117,0534, 34.9302, 140.2280, 2253,    808.2,   4.0196,  34.3220,2,  34.3213,2,     60.2,2,   106.89,2,    39.06,2,     0.00,2,     2.75,2,   -999.0,9,-999.0000,9,  -999.00,      611
  49UP20090117,RF0901,  3262,  1,      6,  18560,2,20090117,0534, 34.9302, 140.2280, 2253,    909.0,   3.5587,  34.3518,2,-999.0000,9,     50.9,2,   113.11,2,    39.92,2,     0.00,2,     2.83,2,   -999.0,9,-999.0000,9,  -999.00,      608
  49UP20090117,RF0901,  3262,  1,      5,  18559,2,20090117,0534, 34.9302, 140.2280, 2253,   1011.2,   3.1060,  34.4135,2,  34.4154,2,     49.0,2,   123.64,2,    40.71,2,     0.00,2,     2.90,2,   -999.0,9,-999.0000,9,  -999.00,      606
  49UP20090117,RF0901,  3262,  1,      4,  18558,2,20090117,0534, 34.9302, 140.2280, 2253,   1263.0,   2.6622,  34.4765,2,  34.4757,2,     47.7,2,   135.79,2,    40.68,2,     0.00,2,     2.94,2,   -999.0,9,-999.0000,9,  -999.00,      601
  49UP20090117,RF0901,  3262,  1,      3,  18557,2,20090117,0534, 34.9302, 140.2280, 2253,   1516.6,   2.4199,  34.5163,2,  34.5142,2,     52.2,2,   146.65,2,    40.66,2,     0.00,2,     2.98,2,   -999.0,9,-999.0000,9,  -999.00,      556
  49UP20090117,RF0901,  3262,  1,      2,  18556,2,20090117,0534, 34.9302, 140.2280, 2253,   1771.2,   2.2282,  34.5491,2,  34.5499,2,     62.9,2,   153.19,2,    40.65,2,     0.00,2,     2.96,2,   -999.0,9,-999.0000,9,  -999.00,      539
  49UP20090117,RF0901,  3262,  1,      1,  18555,2,20090117,0534, 34.9302, 140.2280, 2253,   2025.9,   1.9690,  34.5931,2,  34.5917,2,     79.7,2,   157.61,2,    40.61,2,     0.00,2,     2.87,2,   -999.0,9,-999.0000,9,  -999.00,      534
  49UP20090117,RF0901,  3265,  1,     99,     99,2,20090117,1543, 34.2122, 141.0075,   -9,      0.0,  18.5425,  34.6487,2,-999.0000,9,    225.0,2,     2.70,2,     1.71,2,     0.27,2,     0.14,2,   -999.0,9,-999.0000,9,  -999.00,     1622
  49UP20090117,RF0901,  3265,  1,     21,  18575,2,20090117,1543, 34.2122, 141.0075,   -9,     10.6,  18.5470,  34.6486,2,-999.0000,9,    225.4,2,     2.75,2,     1.69,2,     0.27,2,     0.15,2,   -999.0,9,-999.0000,9,  -999.00,     1632
  49UP20090117,RF0901,  3265,  1,     20,  18574,2,20090117,1543, 34.2122, 141.0075,   -9,     26.4,  18.5568,  34.6484,2,-999.0000,9,    225.1,2,     2.76,2,     1.75,2,     0.27,2,     0.15,2,   -999.0,9,-999.0000,9,  -999.00,     1631
  49UP20090117,RF0901,  3265,  1,     19,  18573,2,20090117,1543, 34.2122, 141.0075,   -9,     50.9,  18.5598,  34.6476,2,-999.0000,9,    225.5,2,     2.75,2,     1.70,2,     0.27,2,     0.15,2,   -999.0,9,-999.0000,9,  -999.00,     1630
  49UP20090117,RF0901,  3265,  1,     18,  18572,2,20090117,1543, 34.2122, 141.0075,   -9,     77.0,  18.5607,  34.6476,2,-999.0000,9,    225.3,2,     2.79,2,     1.71,2,     0.27,2,     0.15,2,   -999.0,9,-999.0000,9,  -999.00,     1629
  49UP20090117,RF0901,  3265,  1,     17,  18571,2,20090117,1543, 34.2122, 141.0075,   -9,    101.3,  18.5340,  34.6414,2,-999.0000,9,    226.1,2,     2.93,2,     1.78,2,     0.28,2,     0.16,2,   -999.0,9,-999.0000,9,  -999.00,     1627
  49UP20090117,RF0901,  3265,  1,     16,  18570,2,20090117,1543, 34.2122, 141.0075,   -9,    126.6,  18.4571,  34.6525,2,-999.0000,9,    225.0,2,     3.08,2,     2.00,2,     0.28,2,     0.17,2,   -999.0,9,-999.0000,9,  -999.00,     1626
  49UP20090117,RF0901,  3265,  1,     15,  18569,2,20090117,1543, 34.2122, 141.0075,   -9,    152.3,  18.1792,  34.7916,2,-999.0000,9,    201.3,2,     3.73,2,     4.44,2,     0.02,2,     0.28,2,   -999.0,9,-999.0000,9,  -999.00,     1625
  49UP20090117,RF0901,  3265,  1,     14,  18568,2,20090117,1543, 34.2122, 141.0075,   -9,    202.5,  17.1529,  34.7356,2,-999.0000,9,    194.1,2,     6.12,2,     6.74,2,     0.01,2,     0.43,2,   -999.0,9,-999.0000,9,  -999.00,     1623
  49UP20090117,RF0901,  3265,  1,     13,  18567,2,20090117,1543, 34.2122, 141.0075,   -9,    254.2,  15.8678,  34.6540,2,-999.0000,9,    187.6,2,     9.51,2,     9.33,2,     0.01,2,     0.60,2,   -999.0,9,-999.0000,9,  -999.00,     1621
  49UP20090117,RF0901,  3265,  1,     12,  18348,2,20090117,1543, 34.2122, 141.0075,   -9,    303.1,  14.0560,  34.5314,2,-999.0000,9,    179.5,2,    15.34,2,    12.97,2,     0.00,2,     0.85,2,   -999.0,9,-999.0000,9,  -999.00,     1620
  49UP20090117,RF0901,  3265,  1,     11,  18565,2,20090117,1543, 34.2122, 141.0075,   -9,    404.6,  10.6704,  34.3260,2,-999.0000,9,    160.8,2,    31.72,2,    20.23,2,     0.00,2,     1.38,2,   -999.0,9,-999.0000,9,  -999.00,     1617
  49UP20090117,RF0901,  3265,  1,     10,  18564,2,20090117,1543, 34.2122, 141.0075,   -9,    505.5,   8.0207,  34.2060,2,-999.0000,9,    137.2,2,    51.59,2,    27.00,2,     0.00,2,     1.90,2,   -999.0,9,-999.0000,9,  -999.00,     1615
  49UP20090117,RF0901,  3265,  1,      9,  18563,2,20090117,1543, 34.2122, 141.0075,   -9,    605.8,   5.8024,  34.1802,2,-999.0000,9,    100.8,2,    76.49,2,    33.88,2,     0.00,2,     2.42,2,   -999.0,9,-999.0000,9,  -999.00,     1613
  49UP20090117,RF0901,  3265,  1,      8,  18562,2,20090117,1543, 34.2122, 141.0075,   -9,    707.3,   4.6708,  34.2155,2,-999.0000,9,     73.6,2,    95.51,2,    37.85,2,     0.00,2,     2.71,2,   -999.0,9,-999.0000,9,  -999.00,     1610
  49UP20090117,RF0901,  3265,  1,      7,  18561,2,20090117,1543, 34.2122, 141.0075,   -9,    808.1,   3.9364,  34.2703,2,-999.0000,9,     56.8,2,   111.90,2,    40.23,2,     0.00,2,     2.89,2,   -999.0,9,-999.0000,9,  -999.00,     1607
  49UP20090117,RF0901,  3265,  1,      6,  18560,2,20090117,1543, 34.2122, 141.0075,   -9,    910.0,   3.6930,  34.3444,2,-999.0000,9,     54.0,2,   118.91,2,    40.59,2,     0.00,2,     2.91,2,   -999.0,9,-999.0000,9,  -999.00,     1605
  49UP20090117,RF0901,  3265,  1,      5,  18559,2,20090117,1543, 34.2122, 141.0075,   -9,   1010.5,   3.3220,  34.3738,2,-999.0000,9,     46.4,2,   128.15,2,    41.33,2,     0.00,2,     2.99,2,   -999.0,9,-999.0000,9,  -999.00,     1602
  49UP20090117,RF0901,  3265,  1,      4,  18558,2,20090117,1543, 34.2122, 141.0075,   -9,   1263.5,   2.7047,  34.4625,2,-999.0000,9,     43.7,2,   144.62,2,    41.32,2,     0.00,2,     3.04,2,   -999.0,9,-999.0000,9,  -999.00,     1558
  49UP20090117,RF0901,  3265,  1,      3,  18557,2,20090117,1543, 34.2122, 141.0075,   -9,   1517.3,   2.3736,  34.5198,2,-999.0000,9,     49.9,2,   152.72,2,    41.32,2,     0.00,2,     3.02,2,   -999.0,9,-999.0000,9,  -999.00,     1553
  49UP20090117,RF0901,  3265,  1,      2,  18556,2,20090117,1543, 34.2122, 141.0075,   -9,   1770.4,   2.1337,  34.5634,2,-999.0000,9,     61.6,2,   156.84,2,    41.32,2,     0.00,2,     2.96,2,   -999.0,9,-999.0000,9,  -999.00,     1548
  49UP20090117,RF0901,  3265,  1,      1,  18555,2,20090117,1543, 34.2122, 141.0075,   -9,   2025.8,   1.8773,  34.6087,2,-999.0000,9,     84.5,2,   157.45,2,    40.55,2,     0.00,2,     2.85,2,   -999.0,9,-999.0000,9,  -999.00,     1543
  49UP20090117,RF0901,  3267,  1,     99,     99,2,20090117,2318, 33.5332, 141.5162, 6277,      0.0,  20.0855,  34.6374,2,-999.0000,9,    223.6,2,     2.68,2,     1.07,2,     0.19,2,     0.11,2,   -999.0,9,-999.0000,9,  -999.00,        0
  49UP20090117,RF0901,  3267,  1,     21,  18575,2,20090117,2318, 33.5332, 141.5162, 6277,     11.8,  20.0852,  34.6376,2,  34.6382,2,    222.2,2,     2.56,2,     1.01,2,     0.18,2,     0.11,2,   -999.0,9,-999.0000,9,  -999.00,       16
  49UP20090117,RF0901,  3267,  1,     20,  18574,2,20090117,2318, 33.5332, 141.5162, 6277,     25.4,  19.9976,  34.6366,2,-999.0000,9,    222.1,2,     2.78,2,     1.16,2,     0.19,2,     0.12,2,   -999.0,9,-999.0000,9,  -999.00,       15
  49UP20090117,RF0901,  3267,  1,     19,  18573,2,20090117,2318, 33.5332, 141.5162, 6277,     51.4,  19.2802,  34.6489,2,-999.0000,9,    219.7,2,     3.98,2,     2.55,2,     0.21,2,     0.20,2,   -999.0,9,-999.0000,9,  -999.00,       14
  49UP20090117,RF0901,  3267,  1,     18,  18572,2,20090117,2318, 33.5332, 141.5162, 6277,     76.6,  18.5662,  34.5766,2,-999.0000,9,    221.8,2,     4.78,2,     3.11,2,     0.32,2,     0.23,2,   -999.0,9,-999.0000,9,  -999.00,       12
  49UP20090117,RF0901,  3267,  1,     17,  18571,2,20090117,2318, 33.5332, 141.5162, 6277,    102.9,  18.0502,  34.5259,2,  34.5237,2,    221.2,2,     5.41,2,     3.67,2,     0.41,2,     0.27,2,   -999.0,9,-999.0000,9,  -999.00,       11
  49UP20090117,RF0901,  3267,  1,     16,  18570,2,20090117,2318, 33.5332, 141.5162, 6277,    127.2,  17.7159,  34.5038,2,-999.0000,9,    223.3,2,     5.78,2,     3.86,2,     0.42,2,     0.29,2,   -999.0,9,-999.0000,9,  -999.00,       10
  49UP20090117,RF0901,  3267,  1,     15,  18569,2,20090117,2318, 33.5332, 141.5162, 6277,    152.0,  17.6149,  34.5431,2,-999.0000,9,    202.1,2,     7.94,2,     6.17,2,     0.18,2,     0.42,2,   -999.0,9,-999.0000,9,  -999.00,        9
  49UP20090117,RF0901,  3267,  1,     14,  18568,2,20090117,2318, 33.5332, 141.5162, 6277,    202.5,  15.5729,  34.5304,2,  34.5258,4,    174.2,2,    15.76,2,    11.88,2,     0.02,2,     0.79,2,   -999.0,9,-999.0000,9,  -999.00,        7
  49UP20090117,RF0901,  3267,  1,     13,  18567,2,20090117,2318, 33.5332, 141.5162, 6277,    252.6,  13.5814,  34.5022,2,-999.0000,9,    162.2,2,    22.50,2,    15.65,2,     0.00,2,     1.06,2,   -999.0,9,-999.0000,9,  -999.00,        5
  49UP20090117,RF0901,  3267,  1,     12,  18348,2,20090117,2318, 33.5332, 141.5162, 6277,    302.9,  11.4778,  34.3890,2,  34.3902,2,    146.8,2,    35.99,2,    20.70,2,     0.01,2,     1.42,2,   -999.0,9,-999.0000,9,  -999.00,        4
  49UP20090117,RF0901,  3267,  1,     11,  18565,2,20090117,2318, 33.5332, 141.5162, 6277,    404.9,   8.4604,  34.2740,2,  34.2734,2,    128.6,2,    52.06,2,    26.98,2,     0.00,2,     1.89,2,   -999.0,9,-999.0000,9,  -999.00,        1
  49UP20090117,RF0901,  3267,  1,     10,  18564,2,20090117,2318, 33.5332, 141.5162, 6277,    505.8,   5.6970,  34.0978,2,-999.0000,9,   -999.0,9,    71.02,2,    32.92,2,     0.00,2,     2.35,2,   -999.0,9,-999.0000,9,  -999.00,     2358
  49UP20090117,RF0901,  3267,  1,      9,  18563,2,20090117,2318, 33.5332, 141.5162, 6277,    606.9,   4.7447,  34.1473,2,  34.1423,4,     82.5,2,    89.50,2,    37.17,2,     0.00,2,     2.67,2,   -999.0,9,-999.0000,9,  -999.00,     2355
  49UP20090117,RF0901,  3267,  1,      8,  18562,2,20090117,2318, 33.5332, 141.5162, 6277,    710.7,   4.4157,  34.2684,2,-999.0000,9,     66.1,2,   102.88,2,    38.78,2,     0.00,2,     2.78,2,   -999.0,9,-999.0000,9,  -999.00,     2352
  49UP20090117,RF0901,  3267,  1,      7,  18561,2,20090117,2318, 33.5332, 141.5162, 6277,    810.9,   3.8899,  34.3196,2,-999.0000,9,     56.8,2,   114.56,2,    40.16,2,     0.00,2,     2.88,2,   -999.0,9,-999.0000,9,  -999.00,     2348
  49UP20090117,RF0901,  3267,  1,      6,  18560,2,20090117,2318, 33.5332, 141.5162, 6277,    913.6,   3.5882,  34.3763,2,-999.0000,9,     56.7,2,   121.28,2,    40.60,2,     0.00,2,     2.91,2,   -999.0,9,-999.0000,9,  -999.00,     2345
  49UP20090117,RF0901,  3267,  1,      5,  18559,2,20090117,2318, 33.5332, 141.5162, 6277,   1010.5,   3.1837,  34.3977,2,  34.3993,2,     46.1,2,   131.71,2,    41.73,2,     0.00,2,     3.01,2,   -999.0,9,-999.0000,9,  -999.00,     2342
  49UP20090117,RF0901,  3267,  1,      4,  18558,2,20090117,2318, 33.5332, 141.5162, 6277,   1265.8,   2.6457,  34.4718,2,  34.4709,2,     42.6,2,   145.75,2,    42.61,2,     0.01,2,     3.05,2,   -999.0,9,-999.0000,9,  -999.00,     2336
  49UP20090117,RF0901,  3267,  1,      3,  18557,2,20090117,2318, 33.5332, 141.5162, 6277,   1517.8,   2.3119,  34.5313,2,-999.0000,9,     52.2,2,   153.26,2,    42.15,2,     0.00,2,     3.01,2,   -999.0,9,-999.0000,9,  -999.00,     2329
  49UP20090117,RF0901,  3267,  1,      2,  18556,2,20090117,2318, 33.5332, 141.5162, 6277,   1772.2,   2.0570,  34.5763,2,  34.5782,2,     66.6,2,   157.07,2,    41.56,2,     0.00,2,     2.94,2,   -999.0,9,-999.0000,9,  -999.00,     2323
  49UP20090117,RF0901,  3267,  1,      1,  18555,2,20090117,2318, 33.5332, 141.5162, 6277,   2026.8,   1.8834,  34.6081,2,  34.6099,2,     84.2,2,   157.51,2,    40.53,2,     0.00,2,     2.85,2,   -999.0,9,-999.0000,9,  -999.00,     2318