BOTTLE,20200117PRINUNIVRMK
EXPOCODE,SECT_ID,STNNBR,CASTNO,SAMPNO,BTLNBR,BTLNBR_FLAG_W,DATE,TIME,LATITUDE,LONGITUDE,DEPTH,CTDPRS,CTDTMP,CTDSAL,CTDSAL_FLAG_W,SALNTY,SALNTY_FLAG_W,OXYGEN,OXYGEN_FLAG_W,SILCAT,SILCAT_FLAG_W,NITRAT,NITRAT_FLAG_W,NITRIT,NITRIT_FLAG_W,PHSPHT,PHSPHT_FLAG_W,TCARBN,TCARBN_FLAG_W,PH_TOT,PH_TOT_FLAG_W,PH_TMP,BTL_TIME
,,,,,,,,,,,METERS,DBAR,ITS-90,PSS-78,,PSS-78,,UMOL/KG,,UMOL/KG,,UMOL/KG,,UMOL/KG,,UMOL/KG,,UMOL/KG,,,,DEG C,
  49UP20090117,RF0901,  3317,  1,     99,     99,2,20090212,2226, -5.0180, 164.9795, 2270,      0.0,  29.3434,  35.4739,2,-999.0000,9,    194.2,2,     1.15,2,     0.93,2,     0.00,2,     0.23,2,   -999.0,9,-999.0000,9,  -999.00,     2256
  49UP20090117,RF0901,  3317,  1,     21,  18575,2,20090212,2226, -5.0180, 164.9795, 2270,     11.3,  29.3361,  35.4792,2,  35.4779,2,    194.8,2,     1.17,2,     0.90,2,     0.00,2,     0.24,2,   -999.0,9,-999.0000,9,  -999.00,     2322
  49UP20090117,RF0901,  3317,  1,     20,  18574,2,20090212,2226, -5.0180, 164.9795, 2270,     27.0,  29.2719,  35.4987,2,-999.0000,9,    192.9,2,     1.18,2,     1.12,2,     0.00,2,     0.27,2,   -999.0,9,-999.0000,9,  -999.00,     2321
  49UP20090117,RF0901,  3317,  1,     19,  18573,2,20090212,2226, -5.0180, 164.9795, 2270,     52.7,  29.0650,  35.6849,2,-999.0000,9,    194.8,2,     1.44,2,     2.48,2,     0.00,2,     0.37,2,   -999.0,9,-999.0000,9,  -999.00,     2320
  49UP20090117,RF0901,  3317,  1,     18,  18572,2,20090212,2226, -5.0180, 164.9795, 2270,     76.3,  28.9003,  35.6771,2,-999.0000,9,    191.6,2,     1.43,2,     2.88,2,     0.01,2,     0.41,2,   -999.0,9,-999.0000,9,  -999.00,     2318
  49UP20090117,RF0901,  3317,  1,     17,  18571,2,20090212,2226, -5.0180, 164.9795, 2270,    101.9,  28.8581,  35.6788,2,  35.6773,2,    192.1,2,     1.44,2,     2.96,2,     0.00,2,     0.43,2,   -999.0,9,-999.0000,9,  -999.00,     2317
  49UP20090117,RF0901,  3317,  1,     16,  18570,2,20090212,2226, -5.0180, 164.9795, 2270,    127.6,  28.7514,  35.6689,2,-999.0000,9,    189.6,2,     1.73,2,     3.13,2,     0.10,2,     0.45,2,   -999.0,9,-999.0000,9,  -999.00,     2316
  49UP20090117,RF0901,  3317,  1,     15,  18569,2,20090212,2226, -5.0180, 164.9795, 2270,    151.4,  28.4133,  35.6405,2,-999.0000,9,    186.4,2,     1.83,2,     3.71,2,     0.86,2,     0.51,2,   -999.0,9,-999.0000,9,  -999.00,     2315
  49UP20090117,RF0901,  3317,  1,     14,  18568,2,20090212,2226, -5.0180, 164.9795, 2270,    204.4,  24.7607,  35.9677,2,  35.9247,4,    147.8,2,     1.97,2,     8.69,2,     0.00,2,     0.76,2,   -999.0,9,-999.0000,9,  -999.00,     2313
  49UP20090117,RF0901,  3317,  1,     13,  18567,2,20090212,2226, -5.0180, 164.9795, 2270,    255.6,  15.9867,  35.2780,2,-999.0000,9,    110.0,2,     6.82,2,    16.12,2,     0.00,2,     1.29,2,   -999.0,9,-999.0000,9,  -999.00,     2311
  49UP20090117,RF0901,  3317,  1,     12,  18348,2,20090212,2226, -5.0180, 164.9795, 2270,    304.9,  11.1209,  34.8367,2,  34.8474,4,    104.8,2,    17.65,2,    25.72,2,     0.00,2,     1.83,2,   -999.0,9,-999.0000,9,  -999.00,     2309
  49UP20090117,RF0901,  3317,  1,     11,  18565,2,20090212,2226, -5.0180, 164.9795, 2270,    407.4,   9.1895,  34.6830,2,  34.6847,2,    106.0,2,    24.79,2,    29.80,2,     0.00,2,     2.03,2,   -999.0,9,-999.0000,9,  -999.00,     2306
  49UP20090117,RF0901,  3317,  1,     10,  18564,2,20090212,2226, -5.0180, 164.9795, 2270,    506.2,   8.1456,  34.6185,2,-999.0000,9,     99.5,2,    30.58,2,    32.74,2,     0.00,2,     2.24,2,   -999.0,9,-999.0000,9,  -999.00,     2302
  49UP20090117,RF0901,  3317,  1,      9,  18563,2,20090212,2226, -5.0180, 164.9795, 2270,    607.7,   7.3279,  34.5820,2,  34.5813,2,     80.0,2,    39.45,2,    36.36,2,     0.00,2,     2.51,2,   -999.0,9,-999.0000,9,  -999.00,     2259
  49UP20090117,RF0901,  3317,  1,      8,  18562,2,20090212,2226, -5.0180, 164.9795, 2270,    707.6,   6.4801,  34.5549,2,-999.0000,9,     79.0,2,    48.22,2,    37.98,2,     0.00,2,     2.64,2,   -999.0,9,-999.0000,9,  -999.00,     2255
  49UP20090117,RF0901,  3317,  1,      7,  18561,2,20090212,2226, -5.0180, 164.9795, 2270,    809.0,   5.6998,  34.5257,2,  34.5288,2,    109.3,2,    53.04,2,    36.28,2,     0.00,2,     2.52,2,   -999.0,9,-999.0000,9,  -999.00,     2252
  49UP20090117,RF0901,  3317,  1,      6,  18560,2,20090212,2226, -5.0180, 164.9795, 2270,    909.1,   5.1121,  34.5174,2,-999.0000,9,    128.3,2,    58.59,2,    35.27,2,     0.00,2,     2.45,2,   -999.0,9,-999.0000,9,  -999.00,     2248
  49UP20090117,RF0901,  3317,  1,      5,  18559,2,20090212,2226, -5.0180, 164.9795, 2270,   1010.3,   4.7056,  34.5328,2,  34.5324,2,    113.2,2,    71.17,2,    36.98,2,     0.00,2,     2.60,2,   -999.0,9,-999.0000,9,  -999.00,     2245
  49UP20090117,RF0901,  3317,  1,      4,  18558,2,20090212,2226, -5.0180, 164.9795, 2270,   1262.2,   3.7689,  34.5595,2,  34.5596,2,    113.3,2,    90.53,2,    37.80,2,     0.00,2,     2.67,2,   -999.0,9,-999.0000,9,  -999.00,     2240
  49UP20090117,RF0901,  3317,  1,      3,  18557,2,20090212,2226, -5.0180, 164.9795, 2270,   1515.3,   2.9162,  34.5973,2,  34.5963,2,    117.2,2,   110.04,2,    38.00,2,     0.00,2,     2.68,2,   -999.0,9,-999.0000,9,  -999.00,     2235
  49UP20090117,RF0901,  3317,  1,      2,  18556,2,20090212,2226, -5.0180, 164.9795, 2270,   1766.8,   2.5112,  34.6196,2,  34.6195,2,    121.7,2,   120.17,2,    37.99,2,     0.00,2,     2.66,2,   -999.0,9,-999.0000,9,  -999.00,     2230
  49UP20090117,RF0901,  3317,  1,      1,  18555,2,20090212,2226, -5.0180, 164.9795, 2270,   2020.8,   2.1453,  34.6406,2,  34.6408,2,    129.2,2,   128.80,2,    37.67,2,     0.00,2,     2.63,2,   -999.0,9,-999.0000,9,  -999.00,     2226
  49UP20090117,RF0901,  3318,  1,     99,     99,2,20090214,0944, -0.0073, 163.0000, 4450,      0.0,  28.5243,  35.3867,2,-999.0000,9,    196.4,2,     1.50,2,     2.47,2,     0.28,2,     0.36,2,   -999.0,9,-999.0000,9,  -999.00,     1015
  49UP20090117,RF0901,  3318,  1,     24,  18578,2,20090214,0944, -0.0073, 163.0000, 4450,     11.5,  28.5276,  35.3855,2,-999.0000,9,    196.6,2,     1.50,2,     2.47,2,     0.28,2,     0.37,2,   2004.7,2,   8.0646,2,    25.00,     1038
  49UP20090117,RF0901,  3318,  1,     23,  18577,2,20090214,0944, -0.0073, 163.0000, 4450,     21.2,  28.5116,  35.3974,2,-999.0000,9,    196.9,2,     1.61,2,     2.52,2,     0.27,2,     0.37,2,   2007.3,2,   8.0657,2,    25.00,     1037
  49UP20090117,RF0901,  3318,  1,     22,  18576,2,20090214,0944, -0.0073, 163.0000, 4450,     30.3,  28.4816,  35.4080,2,-999.0000,9,    197.1,2,     1.48,2,     2.58,2,     0.27,2,     0.37,2,   2009.9,2,   8.0654,2,    25.00,     1036
  49UP20090117,RF0901,  3318,  1,     21,  18575,2,20090214,0944, -0.0073, 163.0000, 4450,     41.7,  28.3977,  35.4511,2,-999.0000,9,    196.5,2,     1.51,2,     2.79,2,     0.27,2,     0.39,2,   2008.2,2,   8.0622,2,    25.00,     1034
  49UP20090117,RF0901,  3318,  1,     20,  18574,2,20090214,0944, -0.0073, 163.0000, 4450,     52.7,  28.3900,  35.5284,2,-999.0000,9,    195.9,2,     1.54,2,     3.08,2,     0.28,2,     0.42,2,   2018.3,2,   8.0551,2,    25.00,     1033
  49UP20090117,RF0901,  3318,  1,     19,  18573,2,20090214,0944, -0.0073, 163.0000, 4450,     61.4,  28.3235,  35.5620,2,-999.0000,9,    192.4,2,     1.53,2,     3.39,2,     0.28,2,     0.44,2,   2023.6,2,   8.0525,2,    25.00,     1033
  49UP20090117,RF0901,  3318,  1,     18,  18572,2,20090214,0944, -0.0073, 163.0000, 4450,     80.6,  28.1445,  35.5442,2,-999.0000,9,    187.5,2,     1.69,2,     3.99,2,     0.37,2,     0.48,2,   2024.8,2,   8.0427,2,    25.00,     1032
  49UP20090117,RF0901,  3318,  1,     17,  18571,2,20090214,0944, -0.0073, 163.0000, 4450,    101.1,  28.0222,  35.5449,2,-999.0000,9,    180.4,2,     1.99,2,     4.74,2,     0.59,2,     0.52,2,   2031.9,2,   8.0326,2,    25.00,     1030
  49UP20090117,RF0901,  3318,  1,     16,  18570,2,20090214,0944, -0.0073, 163.0000, 4450,    121.5,  27.9459,  35.5449,2,-999.0000,9,    176.6,2,     2.15,2,     5.19,2,     0.47,2,     0.54,2,   2034.3,2,   8.0283,2,    25.00,     1029
  49UP20090117,RF0901,  3318,  1,     15,  18569,2,20090214,0944, -0.0073, 163.0000, 4450,    143.4,  27.2734,  35.3781,2,-999.0000,9,    165.3,2,     2.64,2,     5.90,2,     0.00,2,     0.55,2,   2033.0,2,   8.0150,2,    25.00,     1027
  49UP20090117,RF0901,  3318,  1,     14,  18568,2,20090214,0944, -0.0073, 163.0000, 4450,    165.9,  24.2316,  35.3040,2,-999.0000,9,    143.7,2,     4.06,2,     8.04,2,     0.00,2,     0.66,2,   2054.3,2,   7.9603,2,    25.00,     1025
  49UP20090117,RF0901,  3318,  1,     13,  18567,2,20090214,0944, -0.0073, 163.0000, 4450,    181.6,  22.1882,  35.3221,2,-999.0000,9,    137.4,2,     5.21,2,     9.78,2,     0.00,2,     0.77,2,   2081.1,2,   7.9251,2,    25.00,     1024
  49UP20090117,RF0901,  3318,  1,     12,  18348,2,20090214,0944, -0.0073, 163.0000, 4450,    201.2,  19.5610,  35.2639,2,-999.0000,9,    135.6,2,     7.68,2,    11.89,2,     0.00,2,     0.90,2,   2101.0,2,   7.8845,2,    25.00,     1023
  49UP20090117,RF0901,  3318,  1,     11,  18565,2,20090214,0944, -0.0073, 163.0000, 4450,    225.1,  18.1644,  35.3335,2,-999.0000,9,    138.6,2,     6.83,2,    12.84,2,     0.00,2,     0.97,2,   2115.4,2,   7.8639,2,    25.00,     1022
  49UP20090117,RF0901,  3318,  1,     10,  18564,2,20090214,0944, -0.0073, 163.0000, 4450,    248.9,  16.0719,  35.2182,2,-999.0000,9,    142.9,2,     8.41,2,    14.66,2,     0.00,2,     1.07,2,   2129.7,2,   7.8291,2,    25.00,     1021
  49UP20090117,RF0901,  3318,  1,      9,  18563,2,20090214,0944, -0.0073, 163.0000, 4450,    299.3,  12.4051,  34.8475,2,-999.0000,9,    134.5,2,    19.57,2,    21.07,2,     0.00,2,     1.50,2,   2160.0,6,   7.7366,2,    25.00,     1020
  49UP20090117,RF0901,  3318,  1,      8,  18562,2,20090214,0944, -0.0073, 163.0000, 4450,    406.7,  10.1434,  34.7363,2,-999.0000,9,     85.5,2,    26.76,2,    29.98,2,     0.00,2,     2.07,2,   2214.1,2,   7.5933,6,    25.00,     1017
  49UP20090117,RF0901,  3318,  1,      7,  18561,2,20090214,0944, -0.0073, 163.0000, 4450,    505.5,   8.7191,  34.6506,2,-999.0000,9,     58.8,2,    36.22,2,    35.27,2,     0.00,2,     2.46,2,   -999.0,9,-999.0000,9,  -999.00,     1014
  49UP20090117,RF0901,  3318,  1,      6,  18560,2,20090214,0944, -0.0073, 163.0000, 4450,    603.3,   7.2869,  34.5671,2,-999.0000,9,     89.9,2,    43.57,2,    34.80,2,     0.00,2,     2.44,2,   -999.0,9,-999.0000,9,  -999.00,     1011
  49UP20090117,RF0901,  3318,  1,      5,  18559,2,20090214,0944, -0.0073, 163.0000, 4450,    808.0,   5.8656,  34.5432,2,-999.0000,9,     84.6,2,    60.02,2,    38.05,2,     0.00,2,     2.71,2,   -999.0,9,-999.0000,9,  -999.00,     1006
  49UP20090117,RF0901,  3318,  1,      4,  18558,2,20090214,0944, -0.0073, 163.0000, 4450,   1011.9,   4.8425,  34.5475,2,-999.0000,9,     87.8,2,    78.04,2,    38.90,2,     0.00,2,     2.79,2,   -999.0,9,-999.0000,9,  -999.00,     1002
  49UP20090117,RF0901,  3318,  1,      3,  18557,2,20090214,0944, -0.0073, 163.0000, 4450,   1259.2,   3.9432,  34.5678,2,-999.0000,9,     94.7,2,    97.31,2,    38.87,2,     0.00,2,     2.80,2,   -999.0,9,-999.0000,9,  -999.00,      957
  49UP20090117,RF0901,  3318,  1,      2,  18556,2,20090214,0944, -0.0073, 163.0000, 4450,   1510.9,   3.2420,  34.5909,2,-999.0000,9,     99.7,2,   112.08,2,    39.12,2,     0.00,2,     2.80,2,   -999.0,9,-999.0000,9,  -999.00,      952
  49UP20090117,RF0901,  3318,  1,      1,  18555,2,20090214,0944, -0.0073, 163.0000, 4450,   2020.6,   2.2751,  34.6354,2,-999.0000,9,    115.0,2,   132.85,2,    38.55,2,     0.00,2,     2.73,2,   -999.0,9,-999.0000,9,  -999.00,      944
  49UP20090117,RF0901,  3319,  1,     99,     99,2,20090214,1926, -0.0038, 160.9975, 3390,      0.0,  28.4774,  35.5344,2,-999.0000,9,    192.3,2,     1.53,2,     2.99,2,     0.63,2,     0.42,2,   -999.0,9,-999.0000,9,  -999.00,     1953
  49UP20090117,RF0901,  3319,  1,     24,  18578,2,20090214,1926, -0.0038, 160.9975, 3390,     12.5,  28.4808,  35.5346,2,-999.0000,9,    193.1,2,     1.43,2,     3.01,2,     0.64,2,     0.42,2,   2019.5,2,   8.0545,2,    25.00,     2017
  49UP20090117,RF0901,  3319,  1,     23,  18577,2,20090214,1926, -0.0038, 160.9975, 3390,     20.9,  28.4836,  35.5343,2,-999.0000,9,    192.3,2,     1.46,2,     3.03,2,     0.64,2,     0.42,2,   2020.0,2,   8.0532,2,    25.00,     2016
  49UP20090117,RF0901,  3319,  1,     22,  18576,2,20090214,1926, -0.0038, 160.9975, 3390,     30.2,  28.4822,  35.5349,2,-999.0000,9,    192.6,2,     1.45,2,     3.02,2,     0.65,2,     0.42,2,   2020.1,2,   8.0540,2,    25.00,     2015
  49UP20090117,RF0901,  3319,  1,     21,  18575,2,20090214,1926, -0.0038, 160.9975, 3390,     41.0,  28.4821,  35.5354,2,-999.0000,9,    192.9,2,     1.47,2,     3.02,2,     0.64,2,     0.43,2,   2019.0,2,-999.0000,9,  -999.00,     2014
  49UP20090117,RF0901,  3319,  1,     20,  18574,2,20090214,1926, -0.0038, 160.9975, 3390,     50.7,  28.4863,  35.5336,2,-999.0000,9,    192.5,2,     1.46,2,     3.03,2,     0.65,2,     0.42,2,   2023.4,2,   8.0540,2,    25.00,     2013
  49UP20090117,RF0901,  3319,  1,     19,  18573,2,20090214,1926, -0.0038, 160.9975, 3390,     60.5,  28.4768,  35.5397,2,-999.0000,9,    191.5,2,     1.35,2,     3.10,2,     0.70,2,     0.43,2,   2023.2,2,   8.0528,2,    25.00,     2012
  49UP20090117,RF0901,  3319,  1,     18,  18572,2,20090214,1926, -0.0038, 160.9975, 3390,     82.7,  28.4588,  35.5541,2,-999.0000,9,    189.9,2,     1.49,2,     3.21,2,     0.78,2,     0.45,2,   2018.8,2,   8.0513,2,    25.00,     2011
  49UP20090117,RF0901,  3319,  1,     17,  18571,2,20090214,1926, -0.0038, 160.9975, 3390,    101.9,  28.3978,  35.5665,2,-999.0000,9,    186.2,2,     1.96,2,     3.60,2,     0.93,2,     0.49,2,   2021.9,2,   8.0465,2,    25.00,     2010
  49UP20090117,RF0901,  3319,  1,     16,  18570,2,20090214,1926, -0.0038, 160.9975, 3390,    121.0,  28.1761,  35.5434,2,-999.0000,9,    179.1,2,     2.03,2,     4.40,2,     1.02,2,     0.53,2,   2025.4,2,   8.0358,2,    25.00,     2009
  49UP20090117,RF0901,  3319,  1,     15,  18569,2,20090214,1926, -0.0038, 160.9975, 3390,    141.7,  27.7068,  35.4032,2,-999.0000,9,    167.3,2,     2.33,2,     5.34,2,     0.20,2,     0.53,2,   2034.5,2,   8.0233,2,    25.00,     2008
  49UP20090117,RF0901,  3319,  1,     14,  18568,2,20090214,1926, -0.0038, 160.9975, 3390,    163.7,  26.3540,  35.3459,2,-999.0000,9,    154.0,2,     2.61,2,     6.98,2,     0.00,2,     0.62,2,   2047.3,2,   7.9945,2,    25.00,     2006
  49UP20090117,RF0901,  3319,  1,     13,  18567,2,20090214,1926, -0.0038, 160.9975, 3390,    184.2,  23.3361,  35.3349,2,-999.0000,9,    139.6,2,     3.69,2,     9.05,2,     0.00,2,     0.71,2,   2068.7,2,   7.9425,2,    25.00,     2005
  49UP20090117,RF0901,  3319,  1,     12,  18348,2,20090214,1926, -0.0038, 160.9975, 3390,    204.7,  22.5984,  35.5302,2,-999.0000,9,    136.1,2,     3.49,2,     9.94,2,     0.00,2,     0.78,2,   2092.0,2,   7.9284,2,    25.00,     2004
  49UP20090117,RF0901,  3319,  1,     11,  18565,2,20090214,1926, -0.0038, 160.9975, 3390,    228.3,  17.5461,  35.2193,2,-999.0000,9,    139.0,2,     7.55,2,    13.33,2,     0.00,2,     0.98,2,   2120.0,2,   7.8541,2,    25.00,     2002
  49UP20090117,RF0901,  3319,  1,     10,  18564,2,20090214,1926, -0.0038, 160.9975, 3390,    251.5,  16.1147,  35.2409,2,-999.0000,9,    142.8,2,     7.09,2,    14.59,2,     0.00,2,     1.05,2,   2128.3,2,   7.8331,2,    25.00,     2001
  49UP20090117,RF0901,  3319,  1,      9,  18563,2,20090214,1926, -0.0038, 160.9975, 3390,    303.8,  12.2564,  34.8162,2,-999.0000,9,    133.6,2,    19.65,2,    21.24,2,     0.00,2,     1.48,2,   2160.2,6,   7.7333,2,    25.00,     1958
  49UP20090117,RF0901,  3319,  1,      8,  18562,2,20090214,1926, -0.0038, 160.9975, 3390,    402.7,  10.1578,  34.7270,2,-999.0000,9,     96.0,2,    25.49,2,    28.92,2,     0.00,2,     1.97,2,   2208.5,2,   7.6143,6,    25.00,     1955
  49UP20090117,RF0901,  3319,  1,      7,  18561,2,20090214,1926, -0.0038, 160.9975, 3390,    505.5,   8.6464,  34.6472,2,-999.0000,9,     59.6,2,    35.36,2,    35.50,2,     0.00,2,     2.45,2,   -999.0,9,-999.0000,9,  -999.00,     1953
  49UP20090117,RF0901,  3319,  1,      6,  18560,2,20090214,1926, -0.0038, 160.9975, 3390,    606.8,   6.9906,  34.5731,2,-999.0000,9,     70.5,2,    48.02,2,    37.65,2,     0.00,2,     2.63,2,   -999.0,9,-999.0000,9,  -999.00,     1950
  49UP20090117,RF0901,  3319,  1,      5,  18559,2,20090214,1926, -0.0038, 160.9975, 3390,    807.0,   5.7805,  34.5408,2,-999.0000,9,     89.0,2,    60.35,2,    37.83,2,     0.00,2,     2.70,2,   -999.0,9,-999.0000,9,  -999.00,     1946
  49UP20090117,RF0901,  3319,  1,      4,  18558,2,20090214,1926, -0.0038, 160.9975, 3390,   1007.0,   4.8490,  34.5474,2,-999.0000,9,     87.5,2,    77.91,2,    39.03,2,     0.00,2,     2.80,2,   -999.0,9,-999.0000,9,  -999.00,     1942
  49UP20090117,RF0901,  3319,  1,      3,  18557,2,20090214,1926, -0.0038, 160.9975, 3390,   1255.2,   3.8869,  34.5695,2,-999.0000,9,     92.5,2,    98.81,2,    39.37,2,     0.00,2,     2.82,2,   -999.0,9,-999.0000,9,  -999.00,     1938
  49UP20090117,RF0901,  3319,  1,      2,  18556,2,20090214,1926, -0.0038, 160.9975, 3390,   1509.0,   3.0563,  34.5975,2,-999.0000,9,    104.2,2,   114.94,2,    38.89,2,     0.00,2,     2.79,2,   -999.0,9,-999.0000,9,  -999.00,     1934
  49UP20090117,RF0901,  3319,  1,      1,  18555,2,20090214,1926, -0.0038, 160.9975, 3390,   2020.1,   2.1930,  34.6394,2,-999.0000,9,    117.0,2,   134.49,2,    38.47,2,     0.00,2,     2.71,2,   -999.0,9,-999.0000,9,  -999.00,     1926