BOTTLE,20200117PRINUNIVRMK
EXPOCODE,SECT_ID,STNNBR,CASTNO,SAMPNO,BTLNBR,BTLNBR_FLAG_W,DATE,TIME,LATITUDE,LONGITUDE,DEPTH,CTDPRS,CTDTMP,CTDSAL,CTDSAL_FLAG_W,SALNTY,SALNTY_FLAG_W,OXYGEN,OXYGEN_FLAG_W,SILCAT,SILCAT_FLAG_W,NITRAT,NITRAT_FLAG_W,NITRIT,NITRIT_FLAG_W,PHSPHT,PHSPHT_FLAG_W,TCARBN,TCARBN_FLAG_W,PH_TOT,PH_TOT_FLAG_W,PH_TMP,BTL_TIME
,,,,,,,,,,,METERS,DBAR,ITS-90,PSS-78,,PSS-78,,UMOL/KG,,UMOL/KG,,UMOL/KG,,UMOL/KG,,UMOL/KG,,UMOL/KG,,,,DEG C,
  49UP20090117,RF0901,  3299,  1,     99,     99,2,20090130,1813, 13.0013, 164.9803, 5204,      0.0,  27.1668,  34.7616,2,-999.0000,9,    201.9,2,     0.92,2,     0.00,2,     0.00,2,     0.13,2,   -999.0,9,-999.0000,9,  -999.00,     1850
  49UP20090117,RF0901,  3299,  1,     21,  18575,2,20090130,1813, 13.0013, 164.9803, 5204,     11.9,  27.1786,  34.7608,2,  34.7585,2,    201.4,2,     0.91,2,     0.00,2,     0.00,2,     0.13,2,   -999.0,9,-999.0000,9,  -999.00,     1907
  49UP20090117,RF0901,  3299,  1,     20,  18574,2,20090130,1813, 13.0013, 164.9803, 5204,     27.4,  27.1727,  34.7613,2,-999.0000,9,    201.6,2,     0.88,2,     0.00,2,     0.00,2,     0.13,2,   -999.0,9,-999.0000,9,  -999.00,     1906
  49UP20090117,RF0901,  3299,  1,     19,  18573,2,20090130,1813, 13.0013, 164.9803, 5204,     52.3,  27.1833,  34.7610,2,-999.0000,9,    201.5,2,     0.97,2,     0.00,2,     0.00,2,     0.13,2,   -999.0,9,-999.0000,9,  -999.00,     1905
  49UP20090117,RF0901,  3299,  1,     18,  18572,2,20090130,1813, 13.0013, 164.9803, 5204,     78.0,  27.1938,  34.7603,2,-999.0000,9,    201.4,2,     0.79,2,     0.00,2,     0.00,2,     0.13,2,   -999.0,9,-999.0000,9,  -999.00,     1903
  49UP20090117,RF0901,  3299,  1,     17,  18571,2,20090130,1813, 13.0013, 164.9803, 5204,    104.3,  27.1996,  34.7600,2,  34.7590,2,    201.7,2,     0.57,2,     0.00,2,     0.00,2,     0.13,2,   -999.0,9,-999.0000,9,  -999.00,     1902
  49UP20090117,RF0901,  3299,  1,     16,  18570,2,20090130,1813, 13.0013, 164.9803, 5204,    129.3,  27.1994,  34.7593,2,-999.0000,9,    201.9,2,     0.49,2,     0.00,2,     0.00,2,     0.13,2,   -999.0,9,-999.0000,9,  -999.00,     1900
  49UP20090117,RF0901,  3299,  1,     15,  18569,2,20090130,1813, 13.0013, 164.9803, 5204,    155.0,  24.6363,  34.8544,2,-999.0000,9,    202.0,2,     0.74,2,     0.10,2,     0.04,2,     0.17,2,   -999.0,9,-999.0000,9,  -999.00,     1859
  49UP20090117,RF0901,  3299,  1,     14,  18568,2,20090130,1813, 13.0013, 164.9803, 5204,    206.2,  15.2745,  34.4998,2,  34.5206,4,    164.1,2,     7.70,2,    10.52,2,     0.00,2,     0.79,2,   -999.0,9,-999.0000,9,  -999.00,     1857
  49UP20090117,RF0901,  3299,  1,     13,  18567,2,20090130,1813, 13.0013, 164.9803, 5204,    254.0,  12.2767,  34.2999,2,-999.0000,9,    158.0,2,    14.82,2,    16.32,2,     0.00,2,     1.18,2,   -999.0,9,-999.0000,9,  -999.00,     1855
  49UP20090117,RF0901,  3299,  1,     12,  18348,2,20090130,1813, 13.0013, 164.9803, 5204,    304.7,  10.3712,  34.2853,2,  34.2830,2,    113.8,2,    25.74,2,    24.16,2,     0.00,2,     1.77,2,   -999.0,9,-999.0000,9,  -999.00,     1852
  49UP20090117,RF0901,  3299,  1,     11,  18565,2,20090130,1813, 13.0013, 164.9803, 5204,    405.5,   7.7335,  34.3195,2,  34.3172,2,     63.4,2,    49.47,2,    33.94,2,     0.00,2,     2.48,2,   -999.0,9,-999.0000,9,  -999.00,     1849
  49UP20090117,RF0901,  3299,  1,     10,  18564,2,20090130,1813, 13.0013, 164.9803, 5204,    506.3,   7.1401,  34.4677,2,-999.0000,9,     51.2,2,    56.05,2,    36.95,2,     0.00,2,     2.69,2,   -999.0,9,-999.0000,9,  -999.00,     1846
  49UP20090117,RF0901,  3299,  1,      9,  18563,2,20090130,1813, 13.0013, 164.9803, 5204,    608.3,   6.4806,  34.4997,2,  34.4951,4,     54.5,2,    63.27,2,    38.16,2,     0.00,2,     2.77,2,   -999.0,9,-999.0000,9,  -999.00,     1843
  49UP20090117,RF0901,  3299,  1,      8,  18562,2,20090130,1813, 13.0013, 164.9803, 5204,    707.1,   5.8885,  34.5114,2,-999.0000,9,     53.4,2,    70.82,2,    39.40,2,     0.00,2,     2.86,2,   -999.0,9,-999.0000,9,  -999.00,     1840
  49UP20090117,RF0901,  3299,  1,      7,  18561,2,20090130,1813, 13.0013, 164.9803, 5204,    808.0,   5.2441,  34.5189,2,  34.5172,2,     57.9,2,    81.32,2,    40.09,2,     0.00,2,     2.89,2,   -999.0,9,-999.0000,9,  -999.00,     1838
  49UP20090117,RF0901,  3299,  1,      6,  18560,2,20090130,1813, 13.0013, 164.9803, 5204,    906.5,   4.8707,  34.5309,2,-999.0000,9,     58.4,2,    87.62,2,    40.63,2,     0.00,2,     2.93,2,   -999.0,9,-999.0000,9,  -999.00,     1835
  49UP20090117,RF0901,  3299,  1,      5,  18559,2,20090130,1813, 13.0013, 164.9803, 5204,   1010.0,   4.4784,  34.5428,2,  34.5425,2,     60.3,2,    95.11,2,    41.03,2,     0.00,2,     2.96,2,   -999.0,9,-999.0000,9,  -999.00,     1833
  49UP20090117,RF0901,  3299,  1,      4,  18558,2,20090130,1813, 13.0013, 164.9803, 5204,   1256.9,   3.5899,  34.5631,2,  34.5618,2,     73.7,2,   113.21,2,    40.52,2,     0.00,2,     2.91,2,   -999.0,9,-999.0000,9,  -999.00,     1828
  49UP20090117,RF0901,  3299,  1,      3,  18557,2,20090130,1813, 13.0013, 164.9803, 5204,   1508.3,   2.9048,  34.5896,2,  34.5895,2,     85.5,2,   127.25,2,    40.13,2,     0.00,2,     2.86,2,   -999.0,9,-999.0000,9,  -999.00,     1824
  49UP20090117,RF0901,  3299,  1,      2,  18556,2,20090130,1813, 13.0013, 164.9803, 5204,   1764.8,   2.4670,  34.6160,2,  34.6152,2,     96.0,2,   135.58,2,    39.69,2,     0.00,2,     2.82,2,   -999.0,9,-999.0000,9,  -999.00,     1819
  49UP20090117,RF0901,  3299,  1,      1,  18555,2,20090130,1813, 13.0013, 164.9803, 5204,   2022.1,   2.1487,  34.6364,2,  34.6360,2,    106.4,2,   141.28,2,    39.21,2,     0.00,2,     2.76,2,   -999.0,9,-999.0000,9,  -999.00,     1813
  49UP20090117,RF0901,  3302,  1,     99,     99,2,20090131,1431,  9.9977, 163.9853, 4982,      0.0,  28.0276,  33.6199,2,-999.0000,9,    199.1,2,     1.01,2,     0.00,2,     0.00,2,     0.08,2,   -999.0,9,-999.0000,9,  -999.00,     1509
  49UP20090117,RF0901,  3302,  1,     21,  18575,2,20090131,1431,  9.9977, 163.9853, 4982,     10.8,  28.0303,  34.3323,2,-999.0000,9,    199.5,2,     1.05,2,     0.01,2,     0.00,2,     0.08,2,   1920.1,2,   8.1199,2,    25.00,     1528
  49UP20090117,RF0901,  3302,  1,     20,  18574,2,20090131,1431,  9.9977, 163.9853, 4982,     26.5,  28.0410,  34.3318,2,-999.0000,9,    199.3,2,     1.04,2,     0.01,2,     0.00,2,     0.08,2,   1919.6,2,   8.1177,2,    25.00,     1527
  49UP20090117,RF0901,  3302,  1,     19,  18573,2,20090131,1431,  9.9977, 163.9853, 4982,     51.7,  28.0452,  34.3319,2,-999.0000,9,    199.5,2,     1.05,2,     0.02,2,     0.00,2,     0.09,2,   1917.4,2,   8.1191,2,    25.00,     1525
  49UP20090117,RF0901,  3302,  1,     18,  18572,2,20090131,1431,  9.9977, 163.9853, 4982,     77.3,  28.0247,  34.3411,2,-999.0000,9,    199.6,2,     0.99,2,     0.04,2,     0.00,2,     0.09,2,   1920.7,2,   8.1203,2,    25.00,     1523
  49UP20090117,RF0901,  3302,  1,     17,  18571,2,20090131,1431,  9.9977, 163.9853, 4982,    101.5,  27.4955,  34.8541,2,-999.0000,9,    202.1,2,     1.01,2,     0.00,2,     0.00,2,     0.14,2,   1965.0,2,   8.0927,2,    25.00,     1521
  49UP20090117,RF0901,  3302,  1,     16,  18570,2,20090131,1431,  9.9977, 163.9853, 4982,    127.7,  26.0438,  34.9392,2,-999.0000,9,    203.2,2,     0.94,2,     0.02,2,     0.00,2,     0.13,2,   1983.7,2,   8.0726,2,    25.00,     1520
  49UP20090117,RF0901,  3302,  1,     15,  18569,2,20090131,1431,  9.9977, 163.9853, 4982,    151.6,  21.7643,  34.8770,2,-999.0000,9,    177.6,2,     2.70,2,     3.12,2,     0.28,2,     0.36,2,   2042.2,2,   7.9665,2,    25.00,     1519
  49UP20090117,RF0901,  3302,  1,     14,  18568,2,20090131,1431,  9.9977, 163.9853, 4982,    200.2,  15.4939,  34.5315,2,-999.0000,9,    141.2,2,    10.65,2,    13.44,2,     0.01,2,     1.02,2,   2116.1,2,   7.7854,2,    25.00,     1517
  49UP20090117,RF0901,  3302,  1,     13,  18567,2,20090131,1431,  9.9977, 163.9853, 4982,    252.8,  11.6203,  34.4483,2,-999.0000,9,     87.0,2,    24.11,2,    25.35,2,     0.00,2,     1.83,2,   2191.0,2,   7.6034,2,    25.00,     1515
  49UP20090117,RF0901,  3302,  1,     12,  18348,2,20090131,1431,  9.9977, 163.9853, 4982,    301.7,   9.7498,  34.4955,2,-999.0000,9,     57.4,2,    34.88,2,    31.90,2,     0.00,2,     2.28,2,   2234.2,2,   7.5152,2,    25.00,     1513
  49UP20090117,RF0901,  3302,  1,     11,  18565,2,20090131,1431,  9.9977, 163.9853, 4982,    403.8,   8.0866,  34.5330,2,-999.0000,9,     61.0,2,    45.54,2,    35.10,2,     0.00,2,     2.48,2,   2254.0,2,   7.4971,2,    25.00,     1510
  49UP20090117,RF0901,  3302,  1,     10,  18564,2,20090131,1431,  9.9977, 163.9853, 4982,    508.1,   7.2884,  34.5403,2,-999.0000,9,     65.9,2,    51.05,2,    36.38,2,     0.00,2,     2.57,2,   2261.7,2,   7.4942,2,    25.00,     1507
  49UP20090117,RF0901,  3302,  1,      9,  18563,3,20090131,1431,  9.9977, 163.9853, 4982,    601.9,   6.5157,  34.5286,2,-999.0000,9,     66.3,2,    60.29,2,    37.63,2,     0.00,2,     2.68,2,   2273.0,2,   7.4842,2,    25.00,     1504
  49UP20090117,RF0901,  3302,  1,      8,  18562,2,20090131,1431,  9.9977, 163.9853, 4982,    705.4,   5.9339,  34.5309,2,-999.0000,9,     63.1,2,    68.65,2,    38.99,2,     0.00,2,     2.79,2,   2286.1,2,   7.4705,2,    25.00,     1501
  49UP20090117,RF0901,  3302,  1,      7,  18561,2,20090131,1431,  9.9977, 163.9853, 4982,    807.7,   5.4571,  34.5355,2,-999.0000,9,     64.2,2,    75.94,2,    39.67,2,     0.00,2,     2.83,2,   2296.4,2,   7.4653,2,    25.00,     1458
  49UP20090117,RF0901,  3302,  1,      6,  18560,2,20090131,1431,  9.9977, 163.9853, 4982,    909.7,   5.0408,  34.5387,2,-999.0000,9,     67.8,2,    83.46,2,    39.90,2,     0.00,2,     2.84,2,   2301.6,2,   7.4665,2,    25.00,     1455
  49UP20090117,RF0901,  3302,  1,      5,  18559,2,20090131,1431,  9.9977, 163.9853, 4982,   1009.1,   4.6674,  34.5456,2,-999.0000,9,     64.8,2,    91.08,2,    40.61,2,     0.00,2,     2.91,2,   2315.0,2,   7.4587,2,    25.00,     1452
  49UP20090117,RF0901,  3302,  1,      4,  18558,2,20090131,1431,  9.9977, 163.9853, 4982,   1262.0,   3.5523,  34.5761,2,-999.0000,9,     79.6,2,   112.62,2,    40.38,2,     0.00,2,     2.87,2,   2328.8,2,   7.4761,2,    25.00,     1446
  49UP20090117,RF0901,  3302,  1,      3,  18557,2,20090131,1431,  9.9977, 163.9853, 4982,   1514.9,   2.8565,  34.6028,2,-999.0000,9,     91.5,2,   126.55,2,    40.01,2,     0.00,2,     2.83,2,   2340.9,2,   7.4913,2,    25.00,     1441
  49UP20090117,RF0901,  3302,  1,      2,  18556,2,20090131,1431,  9.9977, 163.9853, 4982,   1768.2,   2.4150,  34.6237,2,-999.0000,9,     98.2,2,   136.32,2,    39.87,2,     0.00,2,     2.81,2,   2342.5,2,   7.5029,2,    25.00,     1436
  49UP20090117,RF0901,  3302,  1,      1,  18555,2,20090131,1431,  9.9977, 163.9853, 4982,   2021.3,   2.1726,  34.6383,2,-999.0000,9,    105.6,2,   141.20,2,    39.30,2,     0.00,2,     2.77,2,   2343.0,2,   7.5150,6,    25.00,     1431
  49UP20090117,RF0901,  3304,  1,     99,     99,2,20090201,0447,  8.0048, 163.9905, 5143,      0.0,  28.3017,  34.4254,2,-999.0000,9,    198.2,2,     1.08,2,     0.00,2,     0.00,2,     0.10,2,   -999.0,9,-999.0000,9,  -999.00,      526
  49UP20090117,RF0901,  3304,  1,     21,  18575,2,20090201,0447,  8.0048, 163.9905, 5143,     11.3,  28.3074,  34.4262,2,  34.4248,2,    200.7,2,     1.09,2,     0.04,2,     0.00,2,     0.11,2,   -999.0,9,-999.0000,9,  -999.00,      542
  49UP20090117,RF0901,  3304,  1,     20,  18574,2,20090201,0447,  8.0048, 163.9905, 5143,     26.8,  28.3140,  34.4264,2,-999.0000,9,    198.4,2,     1.06,2,     0.00,2,     0.00,2,     0.11,2,   -999.0,9,-999.0000,9,  -999.00,      541
  49UP20090117,RF0901,  3304,  1,     19,  18573,2,20090201,0447,  8.0048, 163.9905, 5143,     51.1,  28.3178,  34.4270,2,-999.0000,9,    198.5,2,     1.01,2,     0.00,2,     0.00,2,     0.11,2,   -999.0,9,-999.0000,9,  -999.00,      540
  49UP20090117,RF0901,  3304,  1,     18,  18572,2,20090201,0447,  8.0048, 163.9905, 5143,     77.5,  28.3402,  34.4576,2,-999.0000,9,    198.0,2,     0.95,2,     0.01,2,     0.00,2,     0.12,2,   -999.0,9,-999.0000,9,  -999.00,      539
  49UP20090117,RF0901,  3304,  1,     17,  18571,2,20090201,0447,  8.0048, 163.9905, 5143,    102.5,  27.8618,  34.8338,2,  34.8067,4,    193.9,2,     1.04,2,     0.01,2,     0.02,2,     0.17,2,   -999.0,9,-999.0000,9,  -999.00,      537
  49UP20090117,RF0901,  3304,  1,     16,  18570,2,20090201,0447,  8.0048, 163.9905, 5143,    122.7,  24.8336,  34.8959,2,-999.0000,9,    189.1,2,     1.40,2,     0.43,2,     0.12,2,     0.22,2,   -999.0,9,-999.0000,9,  -999.00,      536
  49UP20090117,RF0901,  3304,  1,     15,  18569,2,20090201,0447,  8.0048, 163.9905, 5143,    152.6,  20.2038,  34.7935,2,-999.0000,9,    165.9,2,     3.82,2,     5.57,2,     0.19,2,     0.51,2,   -999.0,9,-999.0000,9,  -999.00,      534
  49UP20090117,RF0901,  3304,  1,     14,  18568,2,20090201,0447,  8.0048, 163.9905, 5143,    202.7,  13.0252,  34.4780,2,  34.4746,4,    117.5,2,    16.55,2,    19.01,2,     0.00,2,     1.39,2,   -999.0,9,-999.0000,9,  -999.00,      532
  49UP20090117,RF0901,  3304,  1,     13,  18567,2,20090201,0447,  8.0048, 163.9905, 5143,    255.2,  10.5934,  34.5823,2,-999.0000,9,     47.3,2,    30.85,2,    31.60,2,     0.00,2,     2.26,2,   -999.0,9,-999.0000,9,  -999.00,      530
  49UP20090117,RF0901,  3304,  1,     12,  18348,2,20090201,0447,  8.0048, 163.9905, 5143,    304.5,   9.6255,  34.6132,2,  34.6030,4,     44.6,2,    34.96,2,    33.86,2,     0.00,2,     2.39,2,   -999.0,9,-999.0000,9,  -999.00,      528
  49UP20090117,RF0901,  3304,  1,     11,  18565,2,20090201,0447,  8.0048, 163.9905, 5143,    404.7,   8.8112,  34.5888,2,  34.5899,2,     50.5,2,    39.09,2,    34.85,2,     0.00,2,     2.46,2,   -999.0,9,-999.0000,9,  -999.00,      525
  49UP20090117,RF0901,  3304,  1,     10,  18564,2,20090201,0447,  8.0048, 163.9905, 5143,    505.5,   8.0390,  34.5748,2,-999.0000,9,     51.1,2,    44.47,2,    36.20,2,     0.00,2,     2.59,2,   -999.0,9,-999.0000,9,  -999.00,      522
  49UP20090117,RF0901,  3304,  1,      9,  18563,2,20090201,0447,  8.0048, 163.9905, 5143,    606.4,   7.2021,  34.5522,2,  34.5514,2,     47.9,2,    52.77,2,    37.98,2,     0.00,2,     2.74,2,   -999.0,9,-999.0000,9,  -999.00,      518
  49UP20090117,RF0901,  3304,  1,      8,  18562,2,20090201,0447,  8.0048, 163.9905, 5143,    707.3,   6.3247,  34.5370,2,-999.0000,9,     55.9,2,    62.72,2,    38.81,2,     0.00,2,     2.80,2,   -999.0,9,-999.0000,9,  -999.00,      516
  49UP20090117,RF0901,  3304,  1,      7,  18561,2,20090201,0447,  8.0048, 163.9905, 5143,    810.0,   5.6923,  34.5381,2,  34.5365,2,     52.7,2,    71.81,2,    40.26,2,     0.00,2,     2.90,2,   -999.0,9,-999.0000,9,  -999.00,      512
  49UP20090117,RF0901,  3304,  1,      6,  18560,2,20090201,0447,  8.0048, 163.9905, 5143,    909.6,   5.1957,  34.5432,2,-999.0000,9,     58.2,2,    79.60,2,    40.65,2,     0.00,2,     2.92,2,   -999.0,9,-999.0000,9,  -999.00,      509
  49UP20090117,RF0901,  3304,  1,      5,  18559,2,20090201,0447,  8.0048, 163.9905, 5143,   1010.6,   4.7190,  34.5505,2,  34.5492,2,     68.5,2,    87.47,2,    40.20,2,     0.00,2,     2.89,2,   -999.0,9,-999.0000,9,  -999.00,      506
  49UP20090117,RF0901,  3304,  1,      4,  18558,2,20090201,0447,  8.0048, 163.9905, 5143,   1264.2,   3.6187,  34.5778,2,  34.5762,2,     85.6,2,   108.89,2,    39.54,2,     0.00,2,     2.84,2,   -999.0,9,-999.0000,9,  -999.00,      501
  49UP20090117,RF0901,  3304,  1,      3,  18557,2,20090201,0447,  8.0048, 163.9905, 5143,   1514.0,   3.0180,  34.5978,2,  34.5967,2,     92.7,2,   121.58,2,    39.50,2,     0.00,2,     2.82,2,   -999.0,9,-999.0000,9,  -999.00,      456
  49UP20090117,RF0901,  3304,  1,      2,  18556,2,20090201,0447,  8.0048, 163.9905, 5143,   1766.3,   2.5250,  34.6190,2,  34.6178,2,     98.3,2,   132.58,2,    39.49,2,     0.00,2,     2.81,2,   -999.0,9,-999.0000,9,  -999.00,      451
  49UP20090117,RF0901,  3304,  1,      1,  18555,2,20090201,0447,  8.0048, 163.9905, 5143,   2017.8,   2.2077,  34.6382,2,  34.6372,2,    106.0,2,   139.29,2,    39.28,2,     0.00,2,     2.78,2,   -999.0,9,-999.0000,9,  -999.00,      447