BOTTLE,20200117PRINUNIVRMK
EXPOCODE,SECT_ID,STNNBR,CASTNO,SAMPNO,BTLNBR,BTLNBR_FLAG_W,DATE,TIME,LATITUDE,LONGITUDE,DEPTH,CTDPRS,CTDTMP,CTDSAL,CTDSAL_FLAG_W,SALNTY,SALNTY_FLAG_W,OXYGEN,OXYGEN_FLAG_W,SILCAT,SILCAT_FLAG_W,NITRAT,NITRAT_FLAG_W,NITRIT,NITRIT_FLAG_W,PHSPHT,PHSPHT_FLAG_W,TCARBN,TCARBN_FLAG_W,PH_TOT,PH_TOT_FLAG_W,PH_TMP,BTL_TIME
,,,,,,,,,,,METERS,DBAR,ITS-90,PSS-78,,PSS-78,,UMOL/KG,,UMOL/KG,,UMOL/KG,,UMOL/KG,,UMOL/KG,,UMOL/KG,,,,DEG C,
  49UP20090117,RF0901,  3279,  1,     99,     99,2,20090121,2141, 28.0032, 148.9873, 6047,      0.0,  21.0905,  34.6299,2,-999.0000,9,    223.3,2,     1.22,2,     0.04,2,     0.00,2,     0.02,2,   -999.0,9,-999.0000,9,  -999.00,     2220
  49UP20090117,RF0901,  3279,  1,     21,  18575,2,20090121,2141, 28.0032, 148.9873, 6047,     10.9,  21.1017,  34.6330,2,-999.0000,9,    222.8,2,     1.14,2,     0.16,2,     0.00,2,     0.01,2,   -999.0,9,-999.0000,9,  -999.00,     2238
  49UP20090117,RF0901,  3279,  1,     20,  18574,2,20090121,2141, 28.0032, 148.9873, 6047,     26.8,  21.0986,  34.6310,2,-999.0000,9,    222.9,2,     1.00,2,     0.12,2,     0.00,2,     0.01,2,   -999.0,9,-999.0000,9,  -999.00,     2236
  49UP20090117,RF0901,  3279,  1,     19,  18573,2,20090121,2141, 28.0032, 148.9873, 6047,     52.9,  21.1018,  34.6310,2,-999.0000,9,    223.3,2,     1.00,2,     0.00,2,     0.00,2,     0.02,2,   -999.0,9,-999.0000,9,  -999.00,     2235
  49UP20090117,RF0901,  3279,  1,     18,  18572,2,20090121,2141, 28.0032, 148.9873, 6047,     78.7,  21.1028,  34.6295,2,-999.0000,9,    222.8,2,     1.11,2,     0.14,2,     0.00,2,     0.01,2,   -999.0,9,-999.0000,9,  -999.00,     2234
  49UP20090117,RF0901,  3279,  1,     17,  18571,2,20090121,2141, 28.0032, 148.9873, 6047,    104.5,  21.0033,  34.6747,2,-999.0000,9,    220.6,2,     1.15,2,     0.07,2,     0.03,2,     0.02,2,   -999.0,9,-999.0000,9,  -999.00,     2232
  49UP20090117,RF0901,  3279,  1,     16,  18570,2,20090121,2141, 28.0032, 148.9873, 6047,    126.9,  19.6240,  34.7903,2,-999.0000,9,    208.9,2,     1.88,2,     1.45,2,     0.05,2,     0.12,2,   -999.0,9,-999.0000,9,  -999.00,     2231
  49UP20090117,RF0901,  3279,  1,     15,  18569,2,20090121,2141, 28.0032, 148.9873, 6047,    153.6,  18.6665,  34.7991,2,-999.0000,9,    206.0,2,     2.28,2,     2.80,2,     0.01,2,     0.19,2,   -999.0,9,-999.0000,9,  -999.00,     2229
  49UP20090117,RF0901,  3279,  1,     14,  18568,2,20090121,2141, 28.0032, 148.9873, 6047,    204.5,  17.7716,  34.7791,2,-999.0000,9,    204.9,2,     3.09,2,     4.42,2,     0.00,2,     0.27,2,   -999.0,9,-999.0000,9,  -999.00,     2227
  49UP20090117,RF0901,  3279,  1,     13,  18567,2,20090121,2141, 28.0032, 148.9873, 6047,    253.9,  17.1378,  34.7490,2,-999.0000,9,    205.2,2,     4.05,2,     5.51,2,     0.00,2,     0.34,2,   -999.0,9,-999.0000,9,  -999.00,     2226
  49UP20090117,RF0901,  3279,  1,     12,  18348,2,20090121,2141, 28.0032, 148.9873, 6047,    305.8,  16.2419,  34.6864,2,-999.0000,9,    198.6,2,     6.50,2,     7.51,2,     0.00,2,     0.48,2,   -999.0,9,-999.0000,9,  -999.00,     2224
  49UP20090117,RF0901,  3279,  1,     11,  18565,2,20090121,2141, 28.0032, 148.9873, 6047,    405.5,  13.9448,  34.5206,2,-999.0000,9,    191.8,2,    13.11,2,    12.02,2,     0.00,2,     0.77,2,   -999.0,9,-999.0000,9,  -999.00,     2221
  49UP20090117,RF0901,  3279,  1,     10,  18564,2,20090121,2141, 28.0032, 148.9873, 6047,    507.1,  11.4183,  34.3384,2,-999.0000,9,    184.3,2,    22.58,2,    16.77,2,     0.00,2,     1.12,2,   -999.0,9,-999.0000,9,  -999.00,     2218
  49UP20090117,RF0901,  3279,  1,      9,  18563,2,20090121,2141, 28.0032, 148.9873, 6047,    608.0,   8.3299,  34.1257,2,-999.0000,9,    169.0,2,    39.70,2,    23.58,2,     0.00,2,     1.63,2,   -999.0,9,-999.0000,9,  -999.00,     2215
  49UP20090117,RF0901,  3279,  1,      8,  18562,2,20090121,2141, 28.0032, 148.9873, 6047,    708.5,   6.2668,  34.0493,2,-999.0000,9,    134.1,2,    60.44,2,    30.48,2,     0.00,2,     2.17,2,   -999.0,9,-999.0000,9,  -999.00,     2213
  49UP20090117,RF0901,  3279,  1,      7,  18561,2,20090121,2141, 28.0032, 148.9873, 6047,    812.0,   4.9211,  34.1168,2,-999.0000,9,     84.0,2,    85.09,2,    36.98,2,     0.00,2,     2.65,2,   -999.0,9,-999.0000,9,  -999.00,     2210
  49UP20090117,RF0901,  3279,  1,      6,  18560,2,20090121,2141, 28.0032, 148.9873, 6047,    911.6,   4.3236,  34.2071,2,-999.0000,9,     57.9,2,   101.36,2,    39.79,2,     0.00,2,     2.86,2,   -999.0,9,-999.0000,9,  -999.00,     2207
  49UP20090117,RF0901,  3279,  1,      5,  18559,2,20090121,2141, 28.0032, 148.9873, 6047,   1011.6,   3.8019,  34.2893,2,-999.0000,9,     45.5,2,   116.11,2,    41.43,2,     0.00,2,     2.97,2,   -999.0,9,-999.0000,9,  -999.00,     2204
  49UP20090117,RF0901,  3279,  1,      4,  18558,2,20090121,2141, 28.0032, 148.9873, 6047,   1264.5,   3.0242,  34.4244,2,-999.0000,9,     38.8,2,   136.98,2,    41.64,2,     0.00,2,     3.06,2,   -999.0,9,-999.0000,9,  -999.00,     2158
  49UP20090117,RF0901,  3279,  1,      3,  18557,2,20090121,2141, 28.0032, 148.9873, 6047,   1518.5,   2.5955,  34.5099,2,-999.0000,9,     52.2,2,   145.62,2,    41.64,2,     0.00,2,     3.01,2,   -999.0,9,-999.0000,9,  -999.00,     2152
  49UP20090117,RF0901,  3279,  1,      2,  18556,2,20090121,2141, 28.0032, 148.9873, 6047,   1770.6,   2.1693,  34.5677,2,-999.0000,9,     66.9,2,   154.27,2,    41.60,2,     0.00,2,     2.94,2,   -999.0,9,-999.0000,9,  -999.00,     2147
  49UP20090117,RF0901,  3279,  1,      1,  18555,2,20090121,2141, 28.0032, 148.9873, 6047,   2033.1,   1.9468,  34.6037,2,-999.0000,9,     83.7,2,   155.96,2,    40.74,2,     0.00,2,     2.86,2,   -999.0,9,-999.0000,9,  -999.00,     2141
  49UP20090117,RF0901,  3281,  1,     99,     99,2,20090122,1829, 28.0113, 152.9787, 5735,      0.0,  21.9469,  34.7973,2,-999.0000,9,    220.0,2,     1.47,2,     0.12,2,     0.00,2,     0.02,2,   -999.0,9,-999.0000,9,  -999.00,     1905
  49UP20090117,RF0901,  3281,  1,     21,  18575,2,20090122,1829, 28.0113, 152.9787, 5735,     12.0,  21.9577,  34.7963,2,  34.7946,2,    220.2,2,     1.33,2,     0.15,2,     0.00,2,     0.02,2,   -999.0,9,-999.0000,9,  -999.00,     1922
  49UP20090117,RF0901,  3281,  1,     20,  18574,2,20090122,1829, 28.0113, 152.9787, 5735,     28.0,  21.5407,  34.7598,2,-999.0000,9,    221.4,2,     1.30,2,     0.00,2,     0.00,2,     0.01,2,   -999.0,9,-999.0000,9,  -999.00,     1921
  49UP20090117,RF0901,  3281,  1,     19,  18573,2,20090122,1829, 28.0113, 152.9787, 5735,     52.8,  21.5110,  34.7755,2,-999.0000,9,    221.2,2,     1.22,2,     0.14,2,     0.00,2,     0.01,2,   -999.0,9,-999.0000,9,  -999.00,     1919
  49UP20090117,RF0901,  3281,  1,     18,  18572,2,20090122,1829, 28.0113, 152.9787, 5735,     76.7,  21.4681,  34.7859,2,-999.0000,9,    221.0,2,     1.15,2,     0.00,2,     0.00,2,     0.01,2,   -999.0,9,-999.0000,9,  -999.00,     1918
  49UP20090117,RF0901,  3281,  1,     17,  18571,2,20090122,1829, 28.0113, 152.9787, 5735,    103.4,  21.0077,  34.7866,2,  34.7894,2,    219.4,2,     1.22,2,    -0.02,2,     0.03,2,     0.02,2,   -999.0,9,-999.0000,9,  -999.00,     1916
  49UP20090117,RF0901,  3281,  1,     16,  18570,2,20090122,1829, 28.0113, 152.9787, 5735,    128.9,  18.5474,  34.7986,2,-999.0000,9,    205.1,2,     2.29,2,     2.07,2,     0.02,2,     0.16,2,   -999.0,9,-999.0000,9,  -999.00,     1915
  49UP20090117,RF0901,  3281,  1,     15,  18569,2,20090122,1829, 28.0113, 152.9787, 5735,    154.0,  18.1507,  34.7926,2,-999.0000,9,    201.4,2,     2.59,2,     3.69,2,     0.01,2,     0.23,2,   -999.0,9,-999.0000,9,  -999.00,     1913
  49UP20090117,RF0901,  3281,  1,     14,  18568,2,20090122,1829, 28.0113, 152.9787, 5735,    204.0,  17.3071,  34.7529,2,  34.7517,2,    203.9,2,     3.46,2,     5.27,2,     0.00,2,     0.32,2,   -999.0,9,-999.0000,9,  -999.00,     1912
  49UP20090117,RF0901,  3281,  1,     13,  18567,2,20090122,1829, 28.0113, 152.9787, 5735,    256.4,  16.6593,  34.7148,2,-999.0000,9,    206.1,2,     4.53,2,     5.96,2,     0.00,2,     0.37,2,   -999.0,9,-999.0000,9,  -999.00,     1910
  49UP20090117,RF0901,  3281,  1,     12,  18348,2,20090122,1829, 28.0113, 152.9787, 5735,    304.7,  15.9123,  34.6546,2,  34.6536,2,    198.1,2,     6.42,2,     7.76,2,     0.00,2,     0.50,2,   -999.0,9,-999.0000,9,  -999.00,     1908
  49UP20090117,RF0901,  3281,  1,     11,  18565,2,20090122,1829, 28.0113, 152.9787, 5735,    407.1,  13.9040,  34.5051,2,  34.5050,2,    201.3,2,    10.95,2,    10.85,2,     0.00,2,     0.71,2,   -999.0,9,-999.0000,9,  -999.00,     1905
  49UP20090117,RF0901,  3281,  1,     10,  18564,2,20090122,1829, 28.0113, 152.9787, 5735,    507.9,  11.3123,  34.3175,2,-999.0000,9,    186.6,2,    20.49,2,    16.21,2,     0.00,2,     1.11,2,   -999.0,9,-999.0000,9,  -999.00,     1903
  49UP20090117,RF0901,  3281,  1,      9,  18563,2,20090122,1829, 28.0113, 152.9787, 5735,    607.0,   8.8328,  34.1528,2,  34.1523,2,    170.2,2,    34.60,2,    21.95,2,     0.00,2,     1.55,2,   -999.0,9,-999.0000,9,  -999.00,     1900
  49UP20090117,RF0901,  3281,  1,      8,  18562,2,20090122,1829, 28.0113, 152.9787, 5735,    709.2,   6.4757,  34.0572,2,-999.0000,9,    136.9,2,    57.15,2,    28.80,2,     0.00,2,     2.11,2,   -999.0,9,-999.0000,9,  -999.00,     1857
  49UP20090117,RF0901,  3281,  1,      7,  18561,2,20090122,1829, 28.0113, 152.9787, 5735,    809.5,   4.9905,  34.1000,2,  34.0993,2,     90.1,2,    82.09,2,    33.66,2,     0.00,2,     2.59,2,   -999.0,9,-999.0000,9,  -999.00,     1855
  49UP20090117,RF0901,  3281,  1,      6,  18560,2,20090122,1829, 28.0113, 152.9787, 5735,    909.3,   4.2929,  34.1995,2,-999.0000,9,     63.9,2,   100.78,2,    34.96,2,     0.00,2,     2.84,2,   -999.0,9,-999.0000,9,  -999.00,     1852
  49UP20090117,RF0901,  3281,  1,      5,  18559,2,20090122,1829, 28.0113, 152.9787, 5735,   1010.3,   3.8182,  34.2828,2,  34.2815,2,     46.8,2,   114.71,2,    40.92,2,     0.00,2,     2.95,2,   -999.0,9,-999.0000,9,  -999.00,     1849
  49UP20090117,RF0901,  3281,  1,      4,  18558,2,20090122,1829, 28.0113, 152.9787, 5735,   1262.8,   2.9889,  34.4226,2,  34.4205,2,     37.5,2,   137.92,2,    42.17,2,     0.00,2,     3.06,2,   -999.0,9,-999.0000,9,  -999.00,     1844
  49UP20090117,RF0901,  3281,  1,      3,  18557,2,20090122,1829, 28.0113, 152.9787, 5735,   1515.9,   2.4953,  34.5069,2,  34.5055,2,     44.8,2,   150.45,2,    42.02,2,     0.00,2,     3.04,2,   -999.0,9,-999.0000,9,  -999.00,     1839
  49UP20090117,RF0901,  3281,  1,      2,  18556,2,20090122,1829, 28.0113, 152.9787, 5735,   1768.8,   2.1439,  34.5679,2,  34.5669,2,     64.7,2,   155.61,2,    40.26,2,     0.00,2,     2.95,2,   -999.0,9,-999.0000,9,  -999.00,     1834
  49UP20090117,RF0901,  3281,  1,      1,  18555,2,20090122,1829, 28.0113, 152.9787, 5735,   2024.1,   1.9125,  34.6077,2,  34.6072,2,     86.0,2,   156.15,2,    40.49,2,     0.00,2,     2.84,2,   -999.0,9,-999.0000,9,  -999.00,     1829
  49UP20090117,RF0901,  3283,  1,     99,     99,2,20090124,2019, 28.0118, 162.9860, 5824,      0.0,  20.9451,  35.0507,2,-999.0000,9,    222.1,2,     1.09,2,     0.21,2,     0.00,2,     0.02,2,   -999.0,9,-999.0000,9,  -999.00,     2058
  49UP20090117,RF0901,  3283,  1,     21,  18575,2,20090124,2019, 28.0118, 162.9860, 5824,     11.6,  20.9496,  35.0504,2,-999.0000,9,    223.0,2,     1.05,2,     0.00,2,     0.00,2,     0.02,2,   -999.0,9,-999.0000,9,  -999.00,     2114
  49UP20090117,RF0901,  3283,  1,     20,  18574,2,20090124,2019, 28.0118, 162.9860, 5824,     26.3,  20.9544,  35.0504,2,-999.0000,9,    222.6,2,     0.97,2,     0.13,2,     0.00,2,     0.02,2,   -999.0,9,-999.0000,9,  -999.00,     2112
  49UP20090117,RF0901,  3283,  1,     19,  18573,2,20090124,2019, 28.0118, 162.9860, 5824,     52.1,  20.9537,  35.0481,2,-999.0000,9,    222.7,2,     1.15,2,     0.00,2,     0.00,2,     0.01,2,   -999.0,9,-999.0000,9,  -999.00,     2111
  49UP20090117,RF0901,  3283,  1,     18,  18572,2,20090124,2019, 28.0118, 162.9860, 5824,     77.4,  20.8181,  35.0163,2,-999.0000,9,    222.2,2,     1.56,2,     0.00,2,     0.00,2,     0.02,2,   -999.0,9,-999.0000,9,  -999.00,     2110
  49UP20090117,RF0901,  3283,  1,     17,  18571,2,20090124,2019, 28.0118, 162.9860, 5824,    101.5,  18.2567,  34.7543,2,-999.0000,9,    211.9,2,     2.77,2,     1.47,2,     0.02,2,     0.13,2,   -999.0,9,-999.0000,9,  -999.00,     2108
  49UP20090117,RF0901,  3283,  1,     16,  18570,2,20090124,2019, 28.0118, 162.9860, 5824,    127.3,  17.8273,  34.7488,2,-999.0000,9,    207.5,2,     3.49,2,     3.55,2,     0.01,2,     0.22,2,   -999.0,9,-999.0000,9,  -999.00,     2107
  49UP20090117,RF0901,  3283,  1,     15,  18569,2,20090124,2019, 28.0118, 162.9860, 5824,    151.9,  17.3982,  34.7225,2,-999.0000,9,    214.6,2,     3.94,2,     4.10,2,     0.00,2,     0.25,2,   -999.0,9,-999.0000,9,  -999.00,     2106
  49UP20090117,RF0901,  3283,  1,     14,  18568,2,20090124,2019, 28.0118, 162.9860, 5824,    204.2,  16.6008,  34.6857,2,-999.0000,9,    214.6,2,     5.25,2,     5.31,2,     0.00,2,     0.34,2,   -999.0,9,-999.0000,9,  -999.00,     2104
  49UP20090117,RF0901,  3283,  1,     13,  18567,2,20090124,2019, 28.0118, 162.9860, 5824,    254.6,  15.9931,  34.6541,2,-999.0000,9,    205.9,2,     6.92,2,     7.07,2,     0.00,2,     0.45,2,   -999.0,9,-999.0000,9,  -999.00,     2102
  49UP20090117,RF0901,  3283,  1,     12,  18348,2,20090124,2019, 28.0118, 162.9860, 5824,    304.4,  15.1559,  34.5814,2,-999.0000,9,    208.4,2,     8.21,2,     8.08,2,     0.00,2,     0.52,2,   -999.0,9,-999.0000,9,  -999.00,     2100
  49UP20090117,RF0901,  3283,  1,     11,  18565,2,20090124,2019, 28.0118, 162.9860, 5824,    406.3,  12.9128,  34.4281,2,-999.0000,9,    205.5,2,    13.46,2,    11.95,2,     0.00,2,     0.79,2,   -999.0,9,-999.0000,9,  -999.00,     2058
  49UP20090117,RF0901,  3283,  1,     10,  18564,2,20090124,2019, 28.0118, 162.9860, 5824,    505.5,  10.1608,  34.2161,2,-999.0000,9,    192.5,2,    24.19,2,    17.87,2,     0.00,2,     1.22,2,   -999.0,9,-999.0000,9,  -999.00,     2055
  49UP20090117,RF0901,  3283,  1,      9,  18563,2,20090124,2019, 28.0118, 162.9860, 5824,    608.0,   7.7720,  34.0643,2,-999.0000,9,    168.2,2,    40.46,2,    24.56,2,     0.00,2,     1.72,2,   -999.0,9,-999.0000,9,  -999.00,     2052
  49UP20090117,RF0901,  3283,  1,      8,  18562,2,20090124,2019, 28.0118, 162.9860, 5824,    706.8,   5.6886,  34.0361,2,-999.0000,9,    116.4,2,    67.27,2,    32.72,2,     0.00,2,     2.35,2,   -999.0,9,-999.0000,9,  -999.00,     2049
  49UP20090117,RF0901,  3283,  1,      7,  18561,2,20090124,2019, 28.0118, 162.9860, 5824,    810.9,   4.7684,  34.1377,2,-999.0000,9,     70.5,2,    88.74,2,    37.89,2,     0.00,2,     2.74,2,   -999.0,9,-999.0000,9,  -999.00,     2047
  49UP20090117,RF0901,  3283,  1,      6,  18560,2,20090124,2019, 28.0118, 162.9860, 5824,    910.6,   4.1966,  34.2257,2,-999.0000,9,     48.8,2,   104.48,2,    40.42,2,     0.00,2,     2.92,2,   -999.0,9,-999.0000,9,  -999.00,     2043
  49UP20090117,RF0901,  3283,  1,      5,  18559,2,20090124,2019, 28.0118, 162.9860, 5824,   1013.5,   3.6447,  34.3130,2,-999.0000,9,     36.6,2,   119.96,2,    41.88,2,     0.00,2,     3.03,2,   -999.0,9,-999.0000,9,  -999.00,     2040
  49UP20090117,RF0901,  3283,  1,      4,  18558,2,20090124,2019, 28.0118, 162.9860, 5824,   1265.8,   2.9617,  34.4360,2,-999.0000,9,     35.0,2,   139.27,2,    42.56,2,     0.00,2,     3.07,2,   -999.0,9,-999.0000,9,  -999.00,     2035
  49UP20090117,RF0901,  3283,  1,      3,  18557,2,20090124,2019, 28.0118, 162.9860, 5824,   1517.8,   2.5641,  34.5244,2,-999.0000,9,     53.0,2,   146.33,2,    41.79,2,     0.00,2,     3.00,2,   -999.0,9,-999.0000,9,  -999.00,     2029
  49UP20090117,RF0901,  3283,  1,      2,  18556,2,20090124,2019, 28.0118, 162.9860, 5824,   1770.5,   2.1883,  34.5774,2,-999.0000,9,     72.3,2,   152.10,2,    40.64,2,     0.00,2,     2.90,2,   -999.0,9,-999.0000,9,  -999.00,     2024
  49UP20090117,RF0901,  3283,  1,      1,  18555,2,20090124,2019, 28.0118, 162.9860, 5824,   2034.2,   1.9156,  34.6114,2,-999.0000,9,     88.8,2,   155.30,2,    39.73,2,     0.00,2,     2.82,2,   -999.0,9,-999.0000,9,  -999.00,     2019