BOTTLE,20200117PRINUNIVRMK
EXPOCODE,SECT_ID,STNNBR,CASTNO,SAMPNO,BTLNBR,BTLNBR_FLAG_W,DATE,TIME,LATITUDE,LONGITUDE,DEPTH,CTDPRS,CTDTMP,CTDSAL,CTDSAL_FLAG_W,SALNTY,SALNTY_FLAG_W,OXYGEN,OXYGEN_FLAG_W,SILCAT,SILCAT_FLAG_W,NITRAT,NITRAT_FLAG_W,NITRIT,NITRIT_FLAG_W,PHSPHT,PHSPHT_FLAG_W,TCARBN,TCARBN_FLAG_W,PH_TOT,PH_TOT_FLAG_W,PH_TMP,BTL_TIME
,,,,,,,,,,,METERS,DBAR,ITS-90,PSS-78,,PSS-78,,UMOL/KG,,UMOL/KG,,UMOL/KG,,UMOL/KG,,UMOL/KG,,UMOL/KG,,,,DEG C,
  49UP20090117,RF0901,  3292,  1,     99,     99,2,20090128,2025, 20.0210, 164.9903, 5366,      0.0,  25.6056,  35.2819,2,-999.0000,9,    206.8,2,     1.06,2,     0.00,2,     0.00,2,     0.00,2,   -999.0,9,-999.0000,9,  -999.00,     2105
  49UP20090117,RF0901,  3292,  1,     21,  18575,2,20090128,2025, 20.0210, 164.9903, 5366,     11.5,  25.6051,  35.2817,2,  35.2813,2,    207.1,2,     0.80,2,     0.00,2,     0.00,2,     0.01,2,   1969.5,2,   8.1126,2,    25.00,     2119
  49UP20090117,RF0901,  3292,  1,     20,  18574,2,20090128,2025, 20.0210, 164.9903, 5366,     28.0,  25.5954,  35.2863,2,-999.0000,9,    206.8,2,     0.78,2,     0.00,2,     0.00,2,     0.01,2,   1974.3,2,   8.1080,2,    25.00,     2117
  49UP20090117,RF0901,  3292,  1,     19,  18573,2,20090128,2025, 20.0210, 164.9903, 5366,     53.0,  25.2502,  35.3394,2,-999.0000,9,    208.3,2,     0.86,2,     0.00,2,     0.00,2,     0.00,2,   1978.7,2,   8.1068,2,    25.00,     2116
  49UP20090117,RF0901,  3292,  1,     18,  18572,2,20090128,2025, 20.0210, 164.9903, 5366,     74.9,  24.8428,  35.3376,2,-999.0000,9,    209.5,2,     0.89,2,     0.00,2,     0.00,2,     0.00,2,   1981.0,2,   8.1014,2,    25.00,     2115
  49UP20090117,RF0901,  3292,  1,     17,  18571,2,20090128,2025, 20.0210, 164.9903, 5366,    103.5,  24.5299,  35.2986,2,  35.3020,2,    209.8,2,     1.06,2,     0.00,2,     0.00,2,     0.00,2,   1983.9,2,   8.0966,2,    25.00,     2113
  49UP20090117,RF0901,  3292,  1,     16,  18570,2,20090128,2025, 20.0210, 164.9903, 5366,    128.2,  21.4444,  34.9978,2,-999.0000,9,    203.9,2,     1.73,2,     0.04,2,     0.08,2,     0.04,2,   2015.1,2,   8.0198,2,    25.00,     2112
  49UP20090117,RF0901,  3292,  1,     15,  18569,2,20090128,2025, 20.0210, 164.9903, 5366,    152.4,  19.1696,  34.8484,2,-999.0000,9,    199.1,2,     2.66,2,     1.64,2,     0.02,2,     0.13,2,   2026.1,2,   7.9779,2,    25.00,     2110
  49UP20090117,RF0901,  3292,  1,     14,  18568,2,20090128,2025, 20.0210, 164.9903, 5366,    202.2,  17.2013,  34.7344,2,  34.7390,2,    200.8,2,     4.29,2,     5.31,2,     0.00,2,     0.31,2,   2041.0,2,   7.9489,2,    25.00,     2108
  49UP20090117,RF0901,  3292,  1,     13,  18567,2,20090128,2025, 20.0210, 164.9903, 5366,    252.7,  15.4929,  34.6044,2,-999.0000,9,    199.6,2,     7.02,2,     8.03,2,     0.00,2,     0.50,2,   2056.5,2,   7.8998,2,    25.00,     2106
  49UP20090117,RF0901,  3292,  1,     12,  18348,2,20090128,2025, 20.0210, 164.9903, 5366,    302.5,  13.9709,  34.4885,2,  34.4795,4,    202.5,2,     9.84,2,    10.34,2,     0.00,2,     0.65,2,   2071.2,2,   7.8639,2,    25.00,     2104
  49UP20090117,RF0901,  3292,  1,     11,  18565,2,20090128,2025, 20.0210, 164.9903, 5366,    405.0,  10.8311,  34.2361,2,  34.2398,2,    184.1,2,    19.70,2,    17.08,2,     0.00,2,     1.15,2,   2122.4,2,   7.7532,2,    25.00,     2101
  49UP20090117,RF0901,  3292,  1,     10,  18564,2,20090128,2025, 20.0210, 164.9903, 5366,    504.8,   8.3591,  34.1202,2,-999.0000,9,    142.9,2,    37.67,2,    25.87,2,     0.00,2,     1.78,2,   2177.9,2,   7.6161,2,    25.00,     2059
  49UP20090117,RF0901,  3292,  1,      9,  18563,2,20090128,2025, 20.0210, 164.9903, 5366,    606.4,   6.1601,  34.1397,2,  34.1417,2,     80.9,2,    65.40,2,    35.05,2,     0.00,2,     2.50,2,   2259.7,2,   7.4640,2,    25.00,     2056
  49UP20090117,RF0901,  3292,  1,      8,  18562,2,20090128,2025, 20.0210, 164.9903, 5366,    707.5,   5.0968,  34.2070,2,-999.0000,9,     55.1,2,    85.20,2,    39.17,2,     0.00,2,     2.81,2,   2299.7,2,   7.4044,2,    25.00,     2053
  49UP20090117,RF0901,  3292,  1,      7,  18561,2,20090128,2025, 20.0210, 164.9903, 5366,    808.9,   4.5966,  34.3349,2,  34.3335,2,     44.0,2,    97.09,2,    41.00,2,     0.00,2,     2.94,2,   2323.8,2,   7.3963,2,    25.00,     2051
  49UP20090117,RF0901,  3292,  1,      6,  18560,2,20090128,2025, 20.0210, 164.9903, 5366,    910.1,   4.2543,  34.4401,2,-999.0000,9,     51.8,2,   104.07,2,    41.10,2,     0.00,2,     2.93,2,   2331.1,2,   7.4089,2,    25.00,     2048
  49UP20090117,RF0901,  3292,  1,      5,  18559,2,20090128,2025, 20.0210, 164.9903, 5366,   1011.3,   3.8653,  34.4808,2,  34.4793,2,     59.8,2,   111.23,2,    40.83,2,     0.00,2,     2.91,2,   2329.6,2,   7.4333,2,    25.00,     2045
  49UP20090117,RF0901,  3292,  1,      4,  18558,2,20090128,2025, 20.0210, 164.9903, 5366,   1264.5,   3.2675,  34.5487,2,  34.5485,2,     77.1,2,   121.99,2,    40.33,2,     0.00,2,     2.84,2,   2342.0,2,   7.4702,2,    25.00,     2040
  49UP20090117,RF0901,  3292,  1,      3,  18557,2,20090128,2025, 20.0210, 164.9903, 5366,   1516.6,   2.7288,  34.5775,2,  34.5768,2,     85.6,2,   132.25,2,    40.09,2,     0.00,2,     2.82,2,   2350.9,2,   7.4773,2,    25.00,     2035
  49UP20090117,RF0901,  3292,  1,      2,  18556,2,20090128,2025, 20.0210, 164.9903, 5366,   1769.1,   2.2951,  34.6046,2,  34.6040,2,     96.0,2,   140.22,2,    39.80,2,     0.00,2,     2.78,2,   2353.8,2,   7.4926,2,    25.00,     2030
  49UP20090117,RF0901,  3292,  1,      1,  18555,2,20090128,2025, 20.0210, 164.9903, 5366,   2034.8,   2.0181,  34.6264,2,  34.6258,2,    105.7,2,   145.42,2,    39.36,2,     0.00,2,     2.73,2,   2352.0,2,   7.5073,6,    25.00,     2025
  49UP20090117,RF0901,  3294,  1,     99,     99,2,20090129,1033, 18.0100, 164.9872, 5427,      0.0,  26.4182,  35.1748,2,-999.0000,9,    202.7,2,     0.74,2,     0.00,2,     0.00,2,     0.03,2,   -999.0,9,-999.0000,9,  -999.00,     1110
  49UP20090117,RF0901,  3294,  1,     21,  18575,2,20090129,1033, 18.0100, 164.9872, 5427,     12.0,  26.4275,  35.2288,2,  35.2269,2,    203.4,2,     0.43,2,     0.01,2,     0.00,2,     0.03,2,   -999.0,9,-999.0000,9,  -999.00,     1123
  49UP20090117,RF0901,  3294,  1,     20,  18574,2,20090129,1033, 18.0100, 164.9872, 5427,     26.3,  26.4282,  35.2289,2,-999.0000,9,    203.4,2,     0.45,2,     0.00,2,     0.00,2,     0.03,2,   -999.0,9,-999.0000,9,  -999.00,     1122
  49UP20090117,RF0901,  3294,  1,     19,  18573,2,20090129,1033, 18.0100, 164.9872, 5427,     52.1,  26.4281,  35.2285,2,-999.0000,9,    203.8,2,     0.04,2,     0.00,2,     0.00,2,     0.03,2,   -999.0,9,-999.0000,9,  -999.00,     1121
  49UP20090117,RF0901,  3294,  1,     18,  18572,2,20090129,1033, 18.0100, 164.9872, 5427,     78.2,  26.4251,  35.2279,2,-999.0000,9,    203.6,2,     0.29,2,     0.00,2,     0.00,2,     0.03,2,   -999.0,9,-999.0000,9,  -999.00,     1120
  49UP20090117,RF0901,  3294,  1,     17,  18571,2,20090129,1033, 18.0100, 164.9872, 5427,    102.3,  26.4260,  35.2273,2,  35.2261,2,    203.5,2,     0.23,2,     0.00,2,     0.00,2,     0.03,2,   -999.0,9,-999.0000,9,  -999.00,     1119
  49UP20090117,RF0901,  3294,  1,     16,  18570,2,20090129,1033, 18.0100, 164.9872, 5427,    126.7,  26.4348,  35.2313,2,-999.0000,9,    203.5,2,     0.24,2,     0.00,2,     0.00,2,     0.03,2,   -999.0,9,-999.0000,9,  -999.00,     1117
  49UP20090117,RF0901,  3294,  1,     15,  18569,2,20090129,1033, 18.0100, 164.9872, 5427,    152.4,  24.4654,  35.1189,2,-999.0000,9,    192.8,2,     0.56,2,     0.13,2,     0.08,2,     0.05,2,   -999.0,9,-999.0000,9,  -999.00,     1116
  49UP20090117,RF0901,  3294,  1,     14,  18568,3,20090129,1033, 18.0100, 164.9872, 5427,    202.2,  20.9750,  34.9940,2,  35.0100,4,    175.3,2,     1.64,2,     2.78,2,     0.01,2,     0.25,2,   -999.0,9,-999.0000,9,  -999.00,     1115
  49UP20090117,RF0901,  3294,  1,     13,  18567,2,20090129,1033, 18.0100, 164.9872, 5427,    252.2,  17.1721,  34.6706,2,-999.0000,9,    174.0,2,     4.84,2,     7.44,2,     0.00,2,     0.56,2,   -999.0,9,-999.0000,9,  -999.00,     1113
  49UP20090117,RF0901,  3294,  1,     12,  18348,2,20090129,1033, 18.0100, 164.9872, 5427,    303.8,  13.3654,  34.3626,2,  34.3675,2,    169.3,2,    11.07,2,    13.32,2,     0.00,2,     0.95,2,   -999.0,9,-999.0000,9,  -999.00,     1112
  49UP20090117,RF0901,  3294,  1,     11,  18565,2,20090129,1033, 18.0100, 164.9872, 5427,    403.5,   9.3493,  34.1776,2,  34.1795,2,    151.3,2,    28.83,2,    22.94,2,     0.00,2,     1.59,2,   -999.0,9,-999.0000,9,  -999.00,     1109
  49UP20090117,RF0901,  3294,  1,     10,  18564,2,20090129,1033, 18.0100, 164.9872, 5427,    504.2,   7.2916,  34.1392,2,-999.0000,9,    104.0,2,    49.55,2,    31.10,2,     0.00,2,     2.21,2,   -999.0,9,-999.0000,9,  -999.00,     1107
  49UP20090117,RF0901,  3294,  1,      9,  18563,2,20090129,1033, 18.0100, 164.9872, 5427,    603.5,   5.9696,  34.2352,2,  34.2307,4,     62.2,2,    70.68,2,    37.09,2,     0.00,2,     2.68,2,   -999.0,9,-999.0000,9,  -999.00,     1105
  49UP20090117,RF0901,  3294,  1,      8,  18562,2,20090129,1033, 18.0100, 164.9872, 5427,    704.6,   5.4214,  34.4080,2,-999.0000,9,     59.8,2,    80.75,2,    38.59,2,     0.00,2,     2.79,2,   -999.0,9,-999.0000,9,  -999.00,     1102
  49UP20090117,RF0901,  3294,  1,      7,  18561,2,20090129,1033, 18.0100, 164.9872, 5427,    809.3,   4.9735,  34.4710,2,  34.4703,2,     64.5,2,    87.83,2,    39.28,2,     0.00,2,     2.82,2,   -999.0,9,-999.0000,9,  -999.00,     1100
  49UP20090117,RF0901,  3294,  1,      6,  18560,2,20090129,1033, 18.0100, 164.9872, 5427,    909.3,   4.5427,  34.5032,2,-999.0000,9,     68.2,2,    95.21,2,    39.50,2,     0.00,2,     2.83,2,   -999.0,9,-999.0000,9,  -999.00,     1057
  49UP20090117,RF0901,  3294,  1,      5,  18559,2,20090129,1033, 18.0100, 164.9872, 5427,   1007.5,   4.1427,  34.5251,2,  34.5243,2,     71.7,2,   103.02,2,    39.89,2,     0.00,2,     2.85,2,   -999.0,9,-999.0000,9,  -999.00,     1055
  49UP20090117,RF0901,  3294,  1,      4,  18558,2,20090129,1033, 18.0100, 164.9872, 5427,   1263.0,   3.4042,  34.5588,2,  34.5585,2,     76.4,2,   117.55,2,    40.33,2,     0.00,2,     2.88,2,   -999.0,9,-999.0000,9,  -999.00,     1050
  49UP20090117,RF0901,  3294,  1,      3,  18557,2,20090129,1033, 18.0100, 164.9872, 5427,   1517.3,   2.8706,  34.5816,2,  34.5809,2,     83.6,2,   128.70,2,    40.22,2,     0.00,2,     2.85,2,   -999.0,9,-999.0000,9,  -999.00,     1045
  49UP20090117,RF0901,  3294,  1,      2,  18556,2,20090129,1033, 18.0100, 164.9872, 5427,   1768.9,   2.4208,  34.6027,2,  34.6016,2,     93.6,2,   137.55,2,    39.71,2,     0.00,2,     2.81,2,   -999.0,9,-999.0000,9,  -999.00,     1039
  49UP20090117,RF0901,  3294,  1,      1,  18555,2,20090129,1033, 18.0100, 164.9872, 5427,   2035.8,   2.1322,  34.6219,2,  34.6207,2,    102.8,2,   143.22,2,    39.41,2,     0.00,2,     2.77,2,   -999.0,9,-999.0000,9,  -999.00,     1033
  49UP20090117,RF0901,  3297,  1,     99,     99,2,20090130,0526, 15.0007, 164.9845, 5213,      0.0,  26.9929,  34.9033,2,-999.0000,9,    206.8,2,     1.05,2,     0.00,2,     0.00,2,     0.12,2,   -999.0,9,-999.0000,9,  -999.00,      607
  49UP20090117,RF0901,  3297,  1,     21,  18575,2,20090130,0526, 15.0007, 164.9845, 5213,     10.7,  26.9997,  34.9027,2,-999.0000,9,    203.7,2,     1.05,2,     0.00,2,     0.00,2,     0.12,2,   1965.7,2,-999.0000,9,  -999.00,      621
  49UP20090117,RF0901,  3297,  1,     20,  18574,2,20090130,0526, 15.0007, 164.9845, 5213,     27.1,  26.9992,  34.9029,2,-999.0000,9,    203.1,2,     0.77,2,     0.00,2,     0.00,2,     0.12,2,   1966.4,2,-999.0000,9,  -999.00,      620
  49UP20090117,RF0901,  3297,  1,     19,  18573,2,20090130,0526, 15.0007, 164.9845, 5213,     52.2,  26.9230,  34.9129,2,-999.0000,9,    203.2,2,     0.94,2,     0.00,2,     0.00,2,     0.12,2,   1966.8,2,-999.0000,9,  -999.00,      619
  49UP20090117,RF0901,  3297,  1,     18,  18572,2,20090130,0526, 15.0007, 164.9845, 5213,     77.0,  26.9245,  34.9138,2,-999.0000,9,    204.7,2,     0.98,2,     0.00,2,     0.00,2,     0.12,2,   1966.9,2,-999.0000,9,  -999.00,      617
  49UP20090117,RF0901,  3297,  1,     17,  18571,2,20090130,0526, 15.0007, 164.9845, 5213,    102.2,  26.9302,  34.9172,2,-999.0000,9,    203.6,2,     0.86,2,     0.00,2,     0.00,2,     0.12,2,   1968.1,2,-999.0000,9,  -999.00,      616
  49UP20090117,RF0901,  3297,  1,     16,  18570,2,20090130,0526, 15.0007, 164.9845, 5213,    127.7,  26.9777,  35.1443,2,-999.0000,9,    200.9,2,     0.76,2,     0.00,2,     0.00,2,     0.06,2,   1975.1,2,-999.0000,9,  -999.00,      615
  49UP20090117,RF0901,  3297,  1,     15,  18569,2,20090130,0526, 15.0007, 164.9845, 5213,    152.6,  25.0269,  35.1453,2,-999.0000,9,    190.1,2,     0.96,2,     0.08,2,     0.05,2,     0.08,2,   2002.5,2,-999.0000,9,  -999.00,      614
  49UP20090117,RF0901,  3297,  1,     14,  18568,2,20090130,0526, 15.0007, 164.9845, 5213,    201.4,  20.9506,  34.9971,2,-999.0000,9,    181.4,2,     2.00,2,     2.29,2,     0.01,2,     0.21,2,   2042.1,2,-999.0000,9,  -999.00,      612
  49UP20090117,RF0901,  3297,  1,     13,  18567,2,20090130,0526, 15.0007, 164.9845, 5213,    253.0,  16.7608,  34.6895,2,-999.0000,9,    189.9,2,     4.88,2,     6.43,2,     0.00,2,     0.44,2,   2057.1,2,-999.0000,9,  -999.00,      610
  49UP20090117,RF0901,  3297,  1,     12,  18348,2,20090130,0526, 15.0007, 164.9845, 5213,    304.8,  12.7848,  34.3537,2,-999.0000,9,    175.7,2,    13.28,2,    14.04,2,     0.00,2,     0.98,2,   2096.3,2,-999.0000,9,  -999.00,      608
  49UP20090117,RF0901,  3297,  1,     11,  18565,2,20090130,0526, 15.0007, 164.9845, 5213,    404.0,   9.0906,  34.2576,2,-999.0000,9,     98.6,2,    35.38,2,    27.93,2,     0.00,2,     2.04,2,   2205.6,2,-999.0000,9,  -999.00,      605
  49UP20090117,RF0901,  3297,  1,     10,  18564,2,20090130,0526, 15.0007, 164.9845, 5213,    505.1,   7.3840,  34.3690,2,-999.0000,9,     54.8,2,    53.84,2,    35.53,2,     0.00,2,     2.59,2,   2264.3,2,-999.0000,9,  -999.00,      603
  49UP20090117,RF0901,  3297,  1,      9,  18563,2,20090130,0526, 15.0007, 164.9845, 5213,    604.9,   6.2369,  34.3969,2,-999.0000,9,     53.7,2,    68.80,2,    37.81,2,     0.00,2,     2.75,2,   2289.0,2,-999.0000,9,  -999.00,      600
  49UP20090117,RF0901,  3297,  1,      8,  18562,2,20090130,0526, 15.0007, 164.9845, 5213,    706.4,   5.6849,  34.4679,2,-999.0000,9,     60.1,2,    75.54,2,    38.56,2,     0.00,2,     2.81,2,   2293.3,2,-999.0000,9,  -999.00,      557
  49UP20090117,RF0901,  3297,  1,      7,  18561,2,20090130,0526, 15.0007, 164.9845, 5213,    806.3,   5.2366,  34.4929,2,-999.0000,9,     65.3,2,    82.51,2,    39.06,2,     0.00,2,     2.82,2,   2299.6,2,-999.0000,9,  -999.00,      554
  49UP20090117,RF0901,  3297,  1,      6,  18560,2,20090130,0526, 15.0007, 164.9845, 5213,    908.7,   4.7092,  34.5126,2,-999.0000,9,     66.9,2,    91.95,2,    39.65,2,     0.00,2,     2.87,2,   2312.0,2,-999.0000,9,  -999.00,      550
  49UP20090117,RF0901,  3297,  1,      5,  18559,2,20090130,0526, 15.0007, 164.9845, 5213,   1010.8,   4.2960,  34.5356,2,-999.0000,9,     70.3,2,    99.30,2,    39.92,2,     0.00,2,     2.88,2,   2315.9,2,-999.0000,9,  -999.00,      548
  49UP20090117,RF0901,  3297,  1,      4,  18558,2,20090130,0526, 15.0007, 164.9845, 5213,   1261.4,   3.4978,  34.5592,2,-999.0000,9,     77.9,2,   115.67,2,    40.07,2,     0.00,2,     2.88,2,   2333.0,2,-999.0000,9,  -999.00,      542
  49UP20090117,RF0901,  3297,  1,      3,  18557,2,20090130,0526, 15.0007, 164.9845, 5213,   1516.0,   2.9096,  34.5838,2,-999.0000,9,     86.1,2,   127.21,2,    40.00,2,     0.00,2,     2.84,2,   2341.7,2,-999.0000,9,  -999.00,      536
  49UP20090117,RF0901,  3297,  1,      2,  18556,2,20090130,0526, 15.0007, 164.9845, 5213,   1767.5,   2.4715,  34.6093,2,-999.0000,9,     96.0,2,   135.55,2,    39.62,2,     0.00,2,     2.82,2,   2345.8,2,-999.0000,9,  -999.00,      531
  49UP20090117,RF0901,  3297,  1,      1,  18555,2,20090130,0526, 15.0007, 164.9845, 5213,   2019.9,   2.1790,  34.6264,2,-999.0000,9,    104.7,2,   141.40,2,    39.25,2,     0.00,2,     2.77,2,   2347.0,2,-999.0000,9,  -999.00,      526