BOTTLE,20200117PRINUNIVRMK
EXPOCODE,SECT_ID,STNNBR,CASTNO,SAMPNO,BTLNBR,BTLNBR_FLAG_W,DATE,TIME,LATITUDE,LONGITUDE,DEPTH,CTDPRS,CTDTMP,CTDSAL,CTDSAL_FLAG_W,SALNTY,SALNTY_FLAG_W,OXYGEN,OXYGEN_FLAG_W,SILCAT,SILCAT_FLAG_W,NITRAT,NITRAT_FLAG_W,NITRIT,NITRIT_FLAG_W,PHSPHT,PHSPHT_FLAG_W,TCARBN,TCARBN_FLAG_W,PH_TOT,PH_TOT_FLAG_W,PH_TMP,BTL_TIME
,,,,,,,,,,,METERS,DBAR,ITS-90,PSS-78,,PSS-78,,UMOL/KG,,UMOL/KG,,UMOL/KG,,UMOL/KG,,UMOL/KG,,UMOL/KG,,,,DEG C,
  49UP20090117,RF0901,  3307,  1,     99,     99,2,20090210,0349,  4.9213, 164.9953, 4753,      0.0,  28.7227,  34.8748,2,-999.0000,9,    196.0,2,     0.45,2,     0.56,2,     0.04,2,     0.22,2,   -999.0,9,-999.0000,9,  -999.00,      425
  49UP20090117,RF0901,  3307,  1,     21,  18575,2,20090210,0349,  4.9213, 164.9953, 4753,     12.0,  28.7299,  34.8738,2,  34.8730,2,    197.1,2,     0.96,2,     0.60,2,     0.05,2,     0.22,2,   -999.0,9,-999.0000,9,  -999.00,      438
  49UP20090117,RF0901,  3307,  1,     20,  18574,2,20090210,0349,  4.9213, 164.9953, 4753,     25.9,  28.7050,  34.8846,2,-999.0000,9,    197.0,2,     0.42,2,     0.56,2,     0.05,2,     0.22,2,   -999.0,9,-999.0000,9,  -999.00,      437
  49UP20090117,RF0901,  3307,  1,     19,  18573,2,20090210,0349,  4.9213, 164.9953, 4753,     50.4,  28.7085,  34.9469,2,-999.0000,9,    195.7,2,     0.56,2,     0.63,2,     0.08,2,     0.23,2,   -999.0,9,-999.0000,9,  -999.00,      436
  49UP20090117,RF0901,  3307,  1,     18,  18572,2,20090210,0349,  4.9213, 164.9953, 4753,     78.3,  28.7091,  35.0044,2,-999.0000,9,    194.9,2,     0.52,2,     0.81,2,     0.13,2,     0.25,2,   -999.0,9,-999.0000,9,  -999.00,      434
  49UP20090117,RF0901,  3307,  1,     17,  18571,2,20090210,0349,  4.9213, 164.9953, 4753,    101.4,  28.6939,  35.1177,2,  35.1167,2,    191.8,2,     0.67,2,     1.13,2,     0.24,2,     0.30,2,   -999.0,9,-999.0000,9,  -999.00,      433
  49UP20090117,RF0901,  3307,  1,     16,  18570,2,20090210,0349,  4.9213, 164.9953, 4753,    128.1,  28.7035,  35.1353,2,-999.0000,9,    191.6,2,     0.48,2,     1.21,2,     0.23,2,     0.30,2,   -999.0,9,-999.0000,9,  -999.00,      432
  49UP20090117,RF0901,  3307,  1,     15,  18569,2,20090210,0349,  4.9213, 164.9953, 4753,    154.2,  27.3798,  34.9332,2,-999.0000,9,    172.7,2,     0.96,2,     2.58,2,     0.21,2,     0.34,2,   -999.0,9,-999.0000,9,  -999.00,      431
  49UP20090117,RF0901,  3307,  1,     14,  18568,2,20090210,0349,  4.9213, 164.9953, 4753,    203.2,  16.3508,  34.6526,2,  34.6579,4,    125.7,2,    12.14,2,    15.30,2,     0.00,2,     1.11,2,   -999.0,9,-999.0000,9,  -999.00,      429
  49UP20090117,RF0901,  3307,  1,     13,  18567,2,20090210,0349,  4.9213, 164.9953, 4753,    253.7,  11.0392,  34.5544,2,-999.0000,9,     73.3,2,    28.71,2,    28.63,2,     0.00,2,     2.03,2,   -999.0,9,-999.0000,9,  -999.00,      427
  49UP20090117,RF0901,  3307,  1,     12,  18348,2,20090210,0349,  4.9213, 164.9953, 4753,    305.2,   9.5935,  34.6137,2,  34.6138,2,     53.0,2,    33.59,2,    33.28,2,     0.00,2,     2.34,2,   -999.0,9,-999.0000,9,  -999.00,      426
  49UP20090117,RF0901,  3307,  1,     11,  18565,2,20090210,0349,  4.9213, 164.9953, 4753,    405.4,   8.4063,  34.5985,2,  34.5985,2,     83.6,2,    36.32,2,    32.95,2,     0.00,2,     2.30,2,   -999.0,9,-999.0000,9,  -999.00,      423
  49UP20090117,RF0901,  3307,  1,     10,  18564,2,20090210,0349,  4.9213, 164.9953, 4753,    502.0,   7.7095,  34.5759,2,-999.0000,9,     86.8,2,    39.83,2,    34.14,2,     0.00,2,     2.39,2,   -999.0,9,-999.0000,9,  -999.00,      421
  49UP20090117,RF0901,  3307,  1,      9,  18563,2,20090210,0349,  4.9213, 164.9953, 4753,    607.6,   6.8998,  34.5534,2,  34.5536,2,     66.9,2,    50.50,2,    37.33,2,     0.00,2,     2.65,2,   -999.0,9,-999.0000,9,  -999.00,      419
  49UP20090117,RF0901,  3307,  1,      8,  18562,2,20090210,0349,  4.9213, 164.9953, 4753,    708.3,   6.2478,  34.5402,2,-999.0000,9,     73.0,2,    59.23,2,    37.74,2,     0.00,2,     2.69,2,   -999.0,9,-999.0000,9,  -999.00,      416
  49UP20090117,RF0901,  3307,  1,      7,  18561,2,20090210,0349,  4.9213, 164.9953, 4753,    808.2,   5.6597,  34.5369,2,  34.5381,2,     77.2,2,    67.85,2,    38.23,2,     0.00,2,     2.72,2,   -999.0,9,-999.0000,9,  -999.00,      414
  49UP20090117,RF0901,  3307,  1,      6,  18560,2,20090210,0349,  4.9213, 164.9953, 4753,    907.9,   5.1046,  34.5419,2,-999.0000,9,     78.4,2,    77.73,2,    38.77,2,     0.00,2,     2.77,2,   -999.0,9,-999.0000,9,  -999.00,      411
  49UP20090117,RF0901,  3307,  1,      5,  18559,2,20090210,0349,  4.9213, 164.9953, 4753,   1008.1,   4.6821,  34.5500,2,  34.5499,2,     85.0,2,    82.19,2,    39.05,2,     0.00,2,     2.79,2,   -999.0,9,-999.0000,9,  -999.00,      409
  49UP20090117,RF0901,  3307,  1,      4,  18558,2,20090210,0349,  4.9213, 164.9953, 4753,   1261.8,   3.7078,  34.5756,2,  34.5760,2,     85.4,2,   104.91,2,    39.76,2,     0.00,2,     2.84,2,   -999.0,9,-999.0000,9,  -999.00,      404
  49UP20090117,RF0901,  3307,  1,      3,  18557,2,20090210,0349,  4.9213, 164.9953, 4753,   1513.3,   2.9806,  34.6015,2,  34.6014,2,     91.5,2,   120.87,2,    39.76,2,     0.00,2,     2.83,2,   -999.0,9,-999.0000,9,  -999.00,      359
  49UP20090117,RF0901,  3307,  1,      2,  18556,3,20090210,0349,  4.9213, 164.9953, 4753,   1767.2,   2.4768,  34.6234,2,  34.6261,4,    102.7,2,   128.94,2,    38.86,2,     0.00,2,     2.76,2,   -999.0,9,-999.0000,9,  -999.00,      354
  49UP20090117,RF0901,  3307,  1,      1,  18555,2,20090210,0349,  4.9213, 164.9953, 4753,   2020.4,   2.1701,  34.6400,2,  34.6400,2,    110.0,2,   137.82,2,    39.09,2,     0.00,2,     2.75,2,   -999.0,9,-999.0000,9,  -999.00,      349
  49UP20090117,RF0901,  3309,  1,     99,     99,2,20090210,1641,  2.9998, 164.9790, 4213,      0.0,  28.5106,  34.6462,2,-999.0000,9,    195.3,2,     0.25,2,     0.05,2,     0.00,2,     0.17,2,   -999.0,9,-999.0000,9,  -999.00,     1717
  49UP20090117,RF0901,  3309,  1,     21,  18575,2,20090210,1641,  2.9998, 164.9790, 4213,     11.6,  28.4986,  34.6349,2,-999.0000,9,    195.7,2,     0.24,2,     0.04,2,     0.00,2,     0.17,2,   -999.0,9,-999.0000,9,  -999.00,     1735
  49UP20090117,RF0901,  3309,  1,     20,  18574,2,20090210,1641,  2.9998, 164.9790, 4213,     25.3,  28.6350,  34.7217,2,-999.0000,9,    194.9,2,     0.53,2,     0.13,2,     0.00,2,     0.18,2,   -999.0,9,-999.0000,9,  -999.00,     1733
  49UP20090117,RF0901,  3309,  1,     19,  18573,2,20090210,1641,  2.9998, 164.9790, 4213,     50.3,  28.6666,  35.0337,2,-999.0000,9,    188.2,2,     0.43,2,     0.84,2,     0.38,2,     0.28,2,   -999.0,9,-999.0000,9,  -999.00,     1732
  49UP20090117,RF0901,  3309,  1,     18,  18572,2,20090210,1641,  2.9998, 164.9790, 4213,     77.7,  28.6731,  35.2001,2,-999.0000,9,    188.8,2,     0.40,2,     1.45,2,     0.38,2,     0.33,2,   -999.0,9,-999.0000,9,  -999.00,     1731
  49UP20090117,RF0901,  3309,  1,     17,  18571,2,20090210,1641,  2.9998, 164.9790, 4213,    101.4,  28.6604,  35.2886,2,-999.0000,9,    190.3,2,     0.34,2,     1.82,2,     0.38,2,     0.37,2,   -999.0,9,-999.0000,9,  -999.00,     1730
  49UP20090117,RF0901,  3309,  1,     16,  18570,2,20090210,1641,  2.9998, 164.9790, 4213,    126.6,  28.7005,  35.3257,2,-999.0000,9,    189.5,2,     0.31,2,     1.80,2,     0.30,2,     0.37,2,   -999.0,9,-999.0000,9,  -999.00,     1729
  49UP20090117,RF0901,  3309,  1,     15,  18569,2,20090210,1641,  2.9998, 164.9790, 4213,    152.4,  28.4377,  35.2805,2,-999.0000,9,    186.5,2,     0.39,2,     2.15,2,     0.36,2,     0.39,2,   -999.0,9,-999.0000,9,  -999.00,     1727
  49UP20090117,RF0901,  3309,  1,     14,  18568,2,20090210,1641,  2.9998, 164.9790, 4213,    202.4,  14.5183,  34.5741,2,-999.0000,9,    114.4,2,    14.61,2,    18.30,2,     0.00,2,     1.33,2,   -999.0,9,-999.0000,9,  -999.00,     1726
  49UP20090117,RF0901,  3309,  1,     13,  18567,2,20090210,1641,  2.9998, 164.9790, 4213,    258.0,  10.1059,  34.5551,2,-999.0000,9,     98.5,2,    32.04,2,    28.11,2,     0.00,2,     1.98,2,   -999.0,9,-999.0000,9,  -999.00,     1724
  49UP20090117,RF0901,  3309,  1,     12,  18348,2,20090210,1641,  2.9998, 164.9790, 4213,    306.0,   9.8028,  34.6760,2,-999.0000,9,    109.9,2,    26.82,2,    28.04,2,     0.00,2,     1.95,2,   -999.0,9,-999.0000,9,  -999.00,     1722
  49UP20090117,RF0901,  3309,  1,     11,  18565,2,20090210,1641,  2.9998, 164.9790, 4213,    405.9,   8.8713,  34.6380,2,-999.0000,9,    113.8,2,    29.03,2,    29.54,2,     0.00,2,     2.05,2,   -999.0,9,-999.0000,9,  -999.00,     1719
  49UP20090117,RF0901,  3309,  1,     10,  18564,2,20090210,1641,  2.9998, 164.9790, 4213,    506.4,   8.1681,  34.5951,2,-999.0000,9,    106.4,2,    34.10,2,    31.46,2,     0.00,2,     2.19,2,   -999.0,9,-999.0000,9,  -999.00,     1716
  49UP20090117,RF0901,  3309,  1,      9,  18563,2,20090210,1641,  2.9998, 164.9790, 4213,    607.0,   7.1727,  34.5604,2,-999.0000,9,     71.8,2,    46.79,2,    36.37,2,     0.00,2,     2.59,2,   -999.0,9,-999.0000,9,  -999.00,     1713
  49UP20090117,RF0901,  3309,  1,      8,  18562,2,20090210,1641,  2.9998, 164.9790, 4213,    706.9,   6.5126,  34.5440,2,-999.0000,9,     84.2,2,    51.61,2,    36.54,2,     0.00,2,     2.60,2,   -999.0,9,-999.0000,9,  -999.00,     1711
  49UP20090117,RF0901,  3309,  1,      7,  18561,2,20090210,1641,  2.9998, 164.9790, 4213,    807.1,   5.7354,  34.5384,2,-999.0000,9,     83.8,2,    62.63,2,    37.89,2,     0.00,2,     2.71,2,   -999.0,9,-999.0000,9,  -999.00,     1708
  49UP20090117,RF0901,  3309,  1,      6,  18560,2,20090210,1641,  2.9998, 164.9790, 4213,    908.0,   5.1904,  34.5424,2,-999.0000,9,     79.7,2,    73.08,2,    38.95,2,     0.00,2,     2.80,2,   -999.0,9,-999.0000,9,  -999.00,     1706
  49UP20090117,RF0901,  3309,  1,      5,  18559,2,20090210,1641,  2.9998, 164.9790, 4213,   1010.1,   4.6541,  34.5509,2,-999.0000,9,     85.3,2,    82.37,2,    39.08,2,     0.00,2,     2.81,2,   -999.0,9,-999.0000,9,  -999.00,     1703
  49UP20090117,RF0901,  3309,  1,      4,  18558,2,20090210,1641,  2.9998, 164.9790, 4213,   1264.8,   3.7275,  34.5752,2,-999.0000,9,     90.4,2,   102.83,2,    39.38,2,     0.00,2,     2.82,2,   -999.0,9,-999.0000,9,  -999.00,     1658
  49UP20090117,RF0901,  3309,  1,      3,  18557,2,20090210,1641,  2.9998, 164.9790, 4213,   1517.1,   2.9545,  34.6025,2,-999.0000,9,     93.7,2,   121.00,2,    39.71,2,     0.00,2,     2.84,2,   -999.0,9,-999.0000,9,  -999.00,     1653
  49UP20090117,RF0901,  3309,  1,      2,  18556,2,20090210,1641,  2.9998, 164.9790, 4213,   1768.9,   2.4009,  34.6273,2,-999.0000,9,    109.5,2,   130.20,2,    38.89,2,     0.00,2,     2.75,2,   -999.0,9,-999.0000,9,  -999.00,     1647
  49UP20090117,RF0901,  3309,  1,      1,  18555,2,20090210,1641,  2.9998, 164.9790, 4213,   2020.7,   2.1538,  34.6404,2,-999.0000,9,    116.0,2,   135.10,2,    38.59,2,     0.00,2,     2.72,2,   -999.0,9,-999.0000,9,  -999.00,     1641
  49UP20090117,RF0901,  3310,  1,     99,     99,2,20090210,2301,  2.0708, 164.9803, 4158,      0.0,  28.1944,  34.2676,2,-999.0000,9,    197.7,2,     1.25,2,     0.46,2,     0.12,2,     0.20,2,   -999.0,9,-999.0000,9,  -999.00,     2339
  49UP20090117,RF0901,  3310,  1,     21,  18575,2,20090210,2301,  2.0708, 164.9803, 4158,     11.2,  28.5782,  34.8452,2,-999.0000,9,    196.0,2,     1.41,2,     0.51,2,     0.15,2,     0.22,2,   -999.0,9,-999.0000,9,  -999.00,     2359
  49UP20090117,RF0901,  3310,  1,     20,  18574,2,20090210,2301,  2.0708, 164.9803, 4158,     26.5,  28.5865,  34.9623,2,-999.0000,9,    190.6,2,     1.43,2,     0.85,2,     0.31,2,     0.25,2,   -999.0,9,-999.0000,9,  -999.00,     2357
  49UP20090117,RF0901,  3310,  1,     19,  18573,2,20090210,2301,  2.0708, 164.9803, 4158,     52.1,  28.6562,  35.2655,2,-999.0000,9,    188.2,2,     1.49,2,     1.80,2,     0.53,2,     0.36,2,   -999.0,9,-999.0000,9,  -999.00,     2356
  49UP20090117,RF0901,  3310,  1,     18,  18572,2,20090210,2301,  2.0708, 164.9803, 4158,     77.9,  28.6619,  35.3295,2,-999.0000,9,    190.9,2,     1.49,2,     1.85,2,     0.35,2,     0.37,2,   -999.0,9,-999.0000,9,  -999.00,     2354
  49UP20090117,RF0901,  3310,  1,     17,  18571,2,20090210,2301,  2.0708, 164.9803, 4158,    104.0,  28.6621,  35.3569,2,-999.0000,9,    191.4,2,     1.52,2,     1.95,2,     0.29,2,     0.38,2,   -999.0,9,-999.0000,9,  -999.00,     2352
  49UP20090117,RF0901,  3310,  1,     16,  18570,2,20090210,2301,  2.0708, 164.9803, 4158,    128.3,  28.6813,  35.3657,2,-999.0000,9,    190.9,2,     1.69,2,     1.94,2,     0.26,2,     0.38,2,   -999.0,9,-999.0000,9,  -999.00,     2351
  49UP20090117,RF0901,  3310,  1,     15,  18569,2,20090210,2301,  2.0708, 164.9803, 4158,    154.6,  27.6571,  35.1449,2,-999.0000,9,    179.3,2,     2.02,2,     2.82,2,     0.51,2,     0.40,2,   -999.0,9,-999.0000,9,  -999.00,     2348
  49UP20090117,RF0901,  3310,  1,     14,  18568,2,20090210,2301,  2.0708, 164.9803, 4158,    204.8,  13.2860,  34.5431,2,-999.0000,9,    126.5,2,    21.89,2,    19.66,2,     0.00,2,     1.40,2,   -999.0,9,-999.0000,9,  -999.00,     2345
  49UP20090117,RF0901,  3310,  1,     13,  18567,2,20090210,2301,  2.0708, 164.9803, 4158,    257.5,  11.0779,  34.7366,2,-999.0000,9,    125.0,2,    25.12,2,    24.28,2,     0.00,2,     1.70,2,   -999.0,9,-999.0000,9,  -999.00,     2343
  49UP20090117,RF0901,  3310,  1,     12,  18348,2,20090210,2301,  2.0708, 164.9803, 4158,    308.8,  10.5367,  34.7547,2,-999.0000,9,    114.5,2,    23.25,2,    26.41,2,     0.00,2,     1.84,2,   -999.0,9,-999.0000,9,  -999.00,     2340
  49UP20090117,RF0901,  3310,  1,     11,  18565,2,20090210,2301,  2.0708, 164.9803, 4158,    406.1,   9.5898,  34.6867,2,-999.0000,9,    104.5,2,    27.49,2,    29.18,2,     0.00,2,     2.01,2,   -999.0,9,-999.0000,9,  -999.00,     2336
  49UP20090117,RF0901,  3310,  1,     10,  18564,2,20090210,2301,  2.0708, 164.9803, 4158,    510.2,   8.8315,  34.6338,2,-999.0000,9,    116.8,2,    29.83,2,    29.39,2,     0.00,2,     2.03,2,   -999.0,9,-999.0000,9,  -999.00,     2333
  49UP20090117,RF0901,  3310,  1,      9,  18563,2,20090210,2301,  2.0708, 164.9803, 4158,    610.2,   7.3796,  34.5765,2,-999.0000,9,     83.1,2,    42.52,2,    35.51,2,     0.00,2,     2.49,2,   -999.0,9,-999.0000,9,  -999.00,     2329
  49UP20090117,RF0901,  3310,  1,      8,  18562,2,20090210,2301,  2.0708, 164.9803, 4158,    712.2,   6.2559,  34.5399,2,-999.0000,9,     87.9,2,    55.43,2,    36.71,2,     0.00,2,     2.61,2,   -999.0,9,-999.0000,9,  -999.00,     2326
  49UP20090117,RF0901,  3310,  1,      7,  18561,2,20090210,2301,  2.0708, 164.9803, 4158,    811.3,   5.6812,  34.5346,2,-999.0000,9,     98.8,2,    61.19,2,    36.89,2,     0.00,2,     2.61,2,   -999.0,9,-999.0000,9,  -999.00,     2322
  49UP20090117,RF0901,  3310,  1,      6,  18560,2,20090210,2301,  2.0708, 164.9803, 4158,    911.1,   5.0095,  34.5440,2,-999.0000,9,     94.2,2,    76.97,2,    37.79,2,     0.00,2,     2.70,2,   -999.0,9,-999.0000,9,  -999.00,     2319
  49UP20090117,RF0901,  3310,  1,      5,  18559,2,20090210,2301,  2.0708, 164.9803, 4158,   1017.8,   4.5148,  34.5541,2,-999.0000,9,     92.9,2,    86.01,2,    38.46,2,     0.00,2,     2.75,2,   -999.0,9,-999.0000,9,  -999.00,     2317
  49UP20090117,RF0901,  3310,  1,      4,  18558,2,20090210,2301,  2.0708, 164.9803, 4158,   1267.1,   3.6796,  34.5768,2,-999.0000,9,     92.9,2,   103.98,2,    39.30,2,     0.00,2,     2.82,2,   -999.0,9,-999.0000,9,  -999.00,     2312
  49UP20090117,RF0901,  3310,  1,      3,  18557,2,20090210,2301,  2.0708, 164.9803, 4158,   1512.2,   2.9684,  34.6014,2,-999.0000,9,    100.8,2,   119.09,2,    39.18,2,     0.00,2,     2.80,2,   -999.0,9,-999.0000,9,  -999.00,     2308
  49UP20090117,RF0901,  3310,  1,      2,  18556,2,20090210,2301,  2.0708, 164.9803, 4158,   1762.1,   2.5617,  34.6185,2,-999.0000,9,    108.6,2,   127.71,2,    38.82,2,     0.00,2,     2.76,2,   -999.0,9,-999.0000,9,  -999.00,     2305
  49UP20090117,RF0901,  3310,  1,      1,  18555,3,20090210,2301,  2.0708, 164.9803, 4158,   2018.3,   2.1795,  34.6390,2,-999.0000,9,    115.7,2,   130.55,2,    38.01,2,     0.00,2,     2.68,2,   -999.0,9,-999.0000,9,  -999.00,     2301