BOTTLE,20200117PRINUNIVRMK
EXPOCODE,SECT_ID,STNNBR,CASTNO,SAMPNO,BTLNBR,BTLNBR_FLAG_W,DATE,TIME,LATITUDE,LONGITUDE,DEPTH,CTDPRS,CTDTMP,CTDSAL,CTDSAL_FLAG_W,SALNTY,SALNTY_FLAG_W,OXYGEN,OXYGEN_FLAG_W,SILCAT,SILCAT_FLAG_W,NITRAT,NITRAT_FLAG_W,NITRIT,NITRIT_FLAG_W,PHSPHT,PHSPHT_FLAG_W,TCARBN,TCARBN_FLAG_W,PH_TOT,PH_TOT_FLAG_W,PH_TMP,BTL_TIME
,,,,,,,,,,,METERS,DBAR,ITS-90,PSS-78,,PSS-78,,UMOL/KG,,UMOL/KG,,UMOL/KG,,UMOL/KG,,UMOL/KG,,UMOL/KG,,,,DEG C,
  49UP20090117,RF0901,  3274,  1,     99,     99,2,20090120,1513, 29.9863, 145.0040, 5886,      0.0,  19.4609,  34.5615,2,-999.0000,9,    227.6,2,     1.59,2,     0.29,2,     0.14,2,     0.06,2,   -999.0,9,-999.0000,9,  -999.00,     1550
  49UP20090117,RF0901,  3274,  1,     21,  18575,2,20090120,1513, 29.9863, 145.0040, 5886,     10.6,  19.4725,  34.5609,2,  34.5602,2,    227.7,2,     1.58,2,     0.24,2,     0.15,2,     0.05,2,   -999.0,9,-999.0000,9,  -999.00,     1606
  49UP20090117,RF0901,  3274,  1,     20,  18574,2,20090120,1513, 29.9863, 145.0040, 5886,     25.9,  19.4745,  34.5632,2,-999.0000,9,    227.0,2,     1.59,2,     0.26,2,     0.16,2,     0.05,2,   -999.0,9,-999.0000,9,  -999.00,     1605
  49UP20090117,RF0901,  3274,  1,     19,  18573,2,20090120,1513, 29.9863, 145.0040, 5886,     50.3,  19.4744,  34.5635,2,-999.0000,9,    227.7,2,     1.60,2,     0.24,2,     0.16,2,     0.05,2,   -999.0,9,-999.0000,9,  -999.00,     1603
  49UP20090117,RF0901,  3274,  1,     18,  18572,2,20090120,1513, 29.9863, 145.0040, 5886,     76.0,  19.4697,  34.5658,2,-999.0000,9,    227.3,2,     1.47,2,     0.26,2,     0.16,2,     0.05,2,   -999.0,9,-999.0000,9,  -999.00,     1602
  49UP20090117,RF0901,  3274,  1,     17,  18571,2,20090120,1513, 29.9863, 145.0040, 5886,    103.2,  19.4180,  34.6091,2,  34.6234,4,    219.3,2,     1.98,2,     1.05,2,     0.18,2,     0.09,2,   -999.0,9,-999.0000,9,  -999.00,     1601
  49UP20090117,RF0901,  3274,  1,     16,  18570,2,20090120,1513, 29.9863, 145.0040, 5886,    125.3,  18.8988,  34.7968,2,-999.0000,9,    202.7,2,     2.82,2,     3.21,2,     0.02,2,     0.20,2,   -999.0,9,-999.0000,9,  -999.00,     1600
  49UP20090117,RF0901,  3274,  1,     15,  18569,2,20090120,1513, 29.9863, 145.0040, 5886,    151.5,  18.3185,  34.7907,2,-999.0000,9,    204.5,2,     3.24,2,     3.91,2,     0.01,2,     0.23,2,   -999.0,9,-999.0000,9,  -999.00,     1558
  49UP20090117,RF0901,  3274,  1,     14,  18568,2,20090120,1513, 29.9863, 145.0040, 5886,    203.3,  17.6709,  34.7725,2,  34.7740,2,    207.6,2,     3.66,2,     4.55,2,     0.01,2,     0.27,2,   -999.0,9,-999.0000,9,  -999.00,     1557
  49UP20090117,RF0901,  3274,  1,     13,  18567,2,20090120,1513, 29.9863, 145.0040, 5886,    251.3,  17.1835,  34.7562,2,-999.0000,9,    215.4,2,     3.79,2,     4.51,2,     0.01,2,     0.27,2,   -999.0,9,-999.0000,9,  -999.00,     1555
  49UP20090117,RF0901,  3274,  1,     12,  18348,2,20090120,1513, 29.9863, 145.0040, 5886,    303.5,  16.7627,  34.7312,2,  34.7315,2,    219.5,2,     4.26,2,     4.74,2,     0.01,2,     0.28,2,   -999.0,9,-999.0000,9,  -999.00,     1554
  49UP20090117,RF0901,  3274,  1,     11,  18565,2,20090120,1513, 29.9863, 145.0040, 5886,    406.2,  15.3517,  34.6139,2,  34.6151,2,    202.2,2,     8.74,2,     8.60,2,     0.00,2,     0.54,2,   -999.0,9,-999.0000,9,  -999.00,     1551
  49UP20090117,RF0901,  3274,  1,     10,  18564,2,20090120,1513, 29.9863, 145.0040, 5886,    505.3,  13.9651,  34.5213,2,-999.0000,9,    190.8,2,    13.68,2,    12.03,2,     0.00,2,     0.76,2,   -999.0,9,-999.0000,9,  -999.00,     1548
  49UP20090117,RF0901,  3274,  1,      9,  18563,2,20090120,1513, 29.9863, 145.0040, 5886,    605.7,  10.0249,  34.2437,2,  34.2458,2,    179.7,2,    30.36,2,    19.77,2,     0.00,2,     1.33,2,   -999.0,9,-999.0000,9,  -999.00,     1545
  49UP20090117,RF0901,  3274,  1,      8,  18562,2,20090120,1513, 29.9863, 145.0040, 5886,    708.3,   7.1458,  34.0371,2,-999.0000,9,    168.3,2,    46.89,2,    25.80,2,     0.00,2,     1.80,2,   -999.0,9,-999.0000,9,  -999.00,     1542
  49UP20090117,RF0901,  3274,  1,      7,  18561,2,20090120,1513, 29.9863, 145.0040, 5886,    809.0,   5.2361,  34.0782,2,  34.0772,2,    105.0,2,    77.39,2,    34.81,2,     0.00,2,     2.47,2,   -999.0,9,-999.0000,9,  -999.00,     1540
  49UP20090117,RF0901,  3274,  1,      6,  18560,2,20090120,1513, 29.9863, 145.0040, 5886,    909.9,   4.2647,  34.1940,2,-999.0000,9,     58.0,2,   102.04,2,    39.90,2,     0.00,2,     2.85,2,   -999.0,9,-999.0000,9,  -999.00,     1537
  49UP20090117,RF0901,  3274,  1,      5,  18559,2,20090120,1513, 29.9863, 145.0040, 5886,   1012.5,   3.9206,  34.2790,2,  34.2777,2,     45.7,2,   112.48,2,    41.26,2,     0.00,2,     2.95,2,   -999.0,9,-999.0000,9,  -999.00,     1534
  49UP20090117,RF0901,  3274,  1,      4,  18558,2,20090120,1513, 29.9863, 145.0040, 5886,   1263.3,   3.0877,  34.4103,2,  34.4088,2,     39.5,2,   135.24,2,    42.56,2,     0.00,2,     3.04,2,   -999.0,9,-999.0000,9,  -999.00,     1529
  49UP20090117,RF0901,  3274,  1,      3,  18557,3,20090120,1513, 29.9863, 145.0040, 5886,   1513.5,   2.5309,  34.4956,2,  34.4952,2,     44.0,2,   150.30,2,    42.79,2,     0.00,2,     3.04,2,   -999.0,9,-999.0000,9,  -999.00,     1524
  49UP20090117,RF0901,  3274,  1,      2,  18556,2,20090120,1513, 29.9863, 145.0040, 5886,   1771.1,   2.1975,  34.5576,2,  34.5569,2,     59.8,2,   156.31,2,    42.08,2,     0.00,2,     2.97,2,   -999.0,9,-999.0000,9,  -999.00,     1518
  49UP20090117,RF0901,  3274,  1,      1,  18555,2,20090120,1513, 29.9863, 145.0040, 5886,   2024.1,   1.9615,  34.5994,2,  34.6005,2,     80.6,2,   156.96,2,    40.98,2,     0.00,2,     2.87,2,   -999.0,9,-999.0000,9,  -999.00,     1513
  49UP20090117,RF0901,  3276,  1,     99,     99,2,20090121,0144, 28.9880, 146.0000, 5944,      0.0,  19.6950,  34.5471,2,-999.0000,9,    228.0,2,     1.56,2,     0.08,2,     0.03,2,     0.03,2,   -999.0,9,-999.0000,9,  -999.00,      225
  49UP20090117,RF0901,  3276,  1,     21,  18575,2,20090121,0144, 28.9880, 146.0000, 5944,     12.7,  19.5887,  34.5456,2,-999.0000,9,    229.1,2,     1.55,2,     0.05,2,     0.03,2,     0.03,2,   -999.0,9,-999.0000,9,  -999.00,      233
  49UP20090117,RF0901,  3276,  1,     20,  18574,2,20090121,0144, 28.9880, 146.0000, 5944,     25.3,  19.5680,  34.5454,2,-999.0000,9,    228.9,2,     1.52,2,     0.05,2,     0.03,2,     0.03,2,   -999.0,9,-999.0000,9,  -999.00,      232
  49UP20090117,RF0901,  3276,  1,     19,  18573,2,20090121,0144, 28.9880, 146.0000, 5944,     51.4,  19.5670,  34.5453,2,-999.0000,9,    228.3,2,     1.44,2,     0.05,2,     0.04,2,     0.03,2,   -999.0,9,-999.0000,9,  -999.00,      231
  49UP20090117,RF0901,  3276,  1,     18,  18572,2,20090121,0144, 28.9880, 146.0000, 5944,     78.2,  19.5660,  34.5452,2,-999.0000,9,    228.0,2,     1.49,2,     0.05,2,     0.05,2,     0.03,2,   -999.0,9,-999.0000,9,  -999.00,      229
  49UP20090117,RF0901,  3276,  1,     17,  18571,2,20090121,0144, 28.9880, 146.0000, 5944,    101.3,  19.5467,  34.5460,2,-999.0000,9,    227.4,2,     1.53,2,     0.11,2,     0.07,2,     0.03,2,   -999.0,9,-999.0000,9,  -999.00,      228
  49UP20090117,RF0901,  3276,  1,     16,  18570,2,20090121,0144, 28.9880, 146.0000, 5944,    126.6,  19.1432,  34.7334,2,-999.0000,9,    210.9,2,     2.47,2,     1.84,2,     0.09,2,     0.13,2,   -999.0,9,-999.0000,9,  -999.00,      227
  49UP20090117,RF0901,  3276,  1,     15,  18569,2,20090121,0144, 28.9880, 146.0000, 5944,    152.4,  18.6122,  34.7899,2,-999.0000,9,    207.0,2,     2.83,2,     2.67,2,     0.04,2,     0.18,2,   -999.0,9,-999.0000,9,  -999.00,      226
  49UP20090117,RF0901,  3276,  1,     14,  18568,2,20090121,0144, 28.9880, 146.0000, 5944,    202.9,  17.7676,  34.7710,2,-999.0000,9,    204.6,2,     3.56,2,     4.62,2,     0.01,2,     0.27,2,   -999.0,9,-999.0000,9,  -999.00,      225
  49UP20090117,RF0901,  3276,  1,     13,  18567,2,20090121,0144, 28.9880, 146.0000, 5944,    253.3,  16.8936,  34.7280,2,-999.0000,9,    199.6,2,     5.64,2,     6.48,2,     0.01,2,     0.39,2,   -999.0,9,-999.0000,9,  -999.00,      223
  49UP20090117,RF0901,  3276,  1,     12,  18348,2,20090121,0144, 28.9880, 146.0000, 5944,    304.0,  16.0771,  34.6692,2,-999.0000,9,    192.0,2,     8.28,2,     8.58,2,     0.00,2,     0.54,2,   -999.0,9,-999.0000,9,  -999.00,      221
  49UP20090117,RF0901,  3276,  1,     11,  18565,2,20090121,0144, 28.9880, 146.0000, 5944,    406.5,  13.5420,  34.4935,2,-999.0000,9,    187.7,2,    15.00,2,    12.89,2,     0.00,2,     0.83,2,   -999.0,9,-999.0000,9,  -999.00,      219
  49UP20090117,RF0901,  3276,  1,     10,  18564,2,20090121,0144, 28.9880, 146.0000, 5944,    508.2,  10.6243,  34.2773,2,-999.0000,9,    182.8,2,    25.66,2,    18.36,2,     0.00,2,     1.22,2,   -999.0,9,-999.0000,9,  -999.00,      217
  49UP20090117,RF0901,  3276,  1,      9,  18563,2,20090121,0144, 28.9880, 146.0000, 5944,    606.6,   7.6898,  34.0756,2,-999.0000,9,    167.4,2,    42.84,2,    24.73,2,     0.00,2,     1.73,2,   -999.0,9,-999.0000,9,  -999.00,      214
  49UP20090117,RF0901,  3276,  1,      8,  18562,2,20090121,0144, 28.9880, 146.0000, 5944,    709.4,   5.9867,  34.0907,2,-999.0000,9,    116.6,2,    66.75,2,    32.37,2,     0.00,2,     2.29,2,   -999.0,9,-999.0000,9,  -999.00,      212
  49UP20090117,RF0901,  3276,  1,      7,  18561,2,20090121,0144, 28.9880, 146.0000, 5944,    808.6,   4.7073,  34.1609,2,-999.0000,9,     74.3,2,    91.09,2,    37.83,2,     0.00,2,     2.71,2,   -999.0,9,-999.0000,9,  -999.00,      209
  49UP20090117,RF0901,  3276,  1,      6,  18560,2,20090121,0144, 28.9880, 146.0000, 5944,    911.9,   4.1220,  34.2442,2,-999.0000,9,     57.0,2,   106.53,2,    39.94,2,     0.00,2,     2.86,2,   -999.0,9,-999.0000,9,  -999.00,      207
  49UP20090117,RF0901,  3276,  1,      5,  18559,2,20090121,0144, 28.9880, 146.0000, 5944,   1013.7,   3.6972,  34.3141,2,-999.0000,9,     45.3,2,   117.89,2,    41.28,2,     0.00,2,     2.96,2,   -999.0,9,-999.0000,9,  -999.00,      204
  49UP20090117,RF0901,  3276,  1,      4,  18558,2,20090121,0144, 28.9880, 146.0000, 5944,   1262.9,   2.9303,  34.4488,2,-999.0000,9,     42.5,2,   137.45,2,    42.45,2,     0.00,2,     3.04,2,   -999.0,9,-999.0000,9,  -999.00,      159
  49UP20090117,RF0901,  3276,  1,      3,  18557,2,20090121,0144, 28.9880, 146.0000, 5944,   1518.8,   2.4783,  34.5211,2,-999.0000,9,     52.7,2,   148.14,2,    42.12,2,     0.00,2,     3.00,2,   -999.0,9,-999.0000,9,  -999.00,      154
  49UP20090117,RF0901,  3276,  1,      2,  18556,2,20090121,0144, 28.9880, 146.0000, 5944,   1771.1,   2.1683,  34.5709,2,-999.0000,9,     70.2,2,   152.19,2,    41.26,2,     0.00,2,     2.92,2,   -999.0,9,-999.0000,9,  -999.00,      148
  49UP20090117,RF0901,  3276,  1,      1,  18555,2,20090121,0144, 28.9880, 146.0000, 5944,   2023.1,   1.9521,  34.6046,2,-999.0000,9,     88.0,2,   152.82,2,    40.29,2,     0.00,2,     2.83,2,   -999.0,9,-999.0000,9,  -999.00,      144
  49UP20090117,RF0901,  3278,  1,     99,     99,2,20090121,1106, 27.9965, 146.9860, 5780,      0.0,  21.6254,  34.7112,2,-999.0000,9,    221.2,2,     1.47,2,     0.05,2,     0.00,2,     0.01,2,   -999.0,9,-999.0000,9,  -999.00,     1143
  49UP20090117,RF0901,  3278,  1,     21,  18575,2,20090121,1106, 27.9965, 146.9860, 5780,     11.6,  21.6325,  34.7100,2,  34.7100,2,    221.3,2,     1.29,2,     0.02,2,     0.00,2,     0.01,2,   -999.0,9,-999.0000,9,  -999.00,     1156
  49UP20090117,RF0901,  3278,  1,     20,  18574,2,20090121,1106, 27.9965, 146.9860, 5780,     24.6,  21.6417,  34.7146,2,-999.0000,9,    221.3,2,     1.20,2,     0.01,2,     0.00,2,     0.01,2,   -999.0,9,-999.0000,9,  -999.00,     1155
  49UP20090117,RF0901,  3278,  1,     19,  18573,2,20090121,1106, 27.9965, 146.9860, 5780,     51.3,  21.6138,  34.7067,2,-999.0000,9,    221.2,2,     1.21,2,     0.01,2,     0.00,2,     0.01,2,   -999.0,9,-999.0000,9,  -999.00,     1153
  49UP20090117,RF0901,  3278,  1,     18,  18572,2,20090121,1106, 27.9965, 146.9860, 5780,     75.7,  21.5914,  34.7001,2,-999.0000,9,    220.6,2,     1.15,2,     0.01,2,     0.00,2,     0.01,2,   -999.0,9,-999.0000,9,  -999.00,     1152
  49UP20090117,RF0901,  3278,  1,     17,  18571,2,20090121,1106, 27.9965, 146.9860, 5780,    102.4,  21.3563,  34.6475,2,  34.6569,4,    219.7,2,     1.22,2,     0.06,2,     0.03,2,     0.02,2,   -999.0,9,-999.0000,9,  -999.00,     1151
  49UP20090117,RF0901,  3278,  1,     16,  18570,2,20090121,1106, 27.9965, 146.9860, 5780,    127.2,  19.5697,  34.8028,2,-999.0000,9,    207.4,2,     2.06,2,     1.66,2,     0.04,2,     0.12,2,   -999.0,9,-999.0000,9,  -999.00,     1150
  49UP20090117,RF0901,  3278,  1,     15,  18569,2,20090121,1106, 27.9965, 146.9860, 5780,    152.3,  18.8415,  34.8084,2,-999.0000,9,    206.8,2,     2.08,2,     1.86,2,     0.02,2,     0.14,2,   -999.0,9,-999.0000,9,  -999.00,     1149
  49UP20090117,RF0901,  3278,  1,     14,  18568,2,20090121,1106, 27.9965, 146.9860, 5780,    203.0,  17.9611,  34.7879,2,  34.7868,2,    206.7,2,     2.82,2,     4.03,2,     0.02,2,     0.24,2,   -999.0,9,-999.0000,9,  -999.00,     1147
  49UP20090117,RF0901,  3278,  1,     13,  18567,2,20090121,1106, 27.9965, 146.9860, 5780,    252.6,  17.3793,  34.7627,2,-999.0000,9,    209.3,2,     3.84,2,     4.89,2,     0.01,2,     0.30,2,   -999.0,9,-999.0000,9,  -999.00,     1145
  49UP20090117,RF0901,  3278,  1,     12,  18348,2,20090121,1106, 27.9965, 146.9860, 5780,    304.3,  16.7059,  34.7207,2,  34.7222,2,    202.0,2,     5.40,2,     6.54,2,     0.01,2,     0.40,2,   -999.0,9,-999.0000,9,  -999.00,     1144
  49UP20090117,RF0901,  3278,  1,     11,  18565,2,20090121,1106, 27.9965, 146.9860, 5780,    404.7,  14.8116,  34.5803,2,  34.5814,2,    186.3,2,    11.38,2,    11.08,2,     0.00,2,     0.70,2,   -999.0,9,-999.0000,9,  -999.00,     1141
  49UP20090117,RF0901,  3278,  1,     10,  18564,2,20090121,1106, 27.9965, 146.9860, 5780,    506.5,  11.6133,  34.3574,2,-999.0000,9,    177.7,2,    23.13,2,    17.29,2,     0.00,2,     1.13,2,   -999.0,9,-999.0000,9,  -999.00,     1138
  49UP20090117,RF0901,  3278,  1,      9,  18563,2,20090121,1106, 27.9965, 146.9860, 5780,    606.3,   8.2474,  34.1507,2,  34.1528,2,    155.9,2,    43.53,2,    25.07,2,     0.00,2,     1.73,2,   -999.0,9,-999.0000,9,  -999.00,     1136
  49UP20090117,RF0901,  3278,  1,      8,  18562,2,20090121,1106, 27.9965, 146.9860, 5780,    706.9,   6.0757,  34.0664,2,-999.0000,9,    121.4,2,    63.96,2,    32.00,2,     0.00,2,     2.26,2,   -999.0,9,-999.0000,9,  -999.00,     1134
  49UP20090117,RF0901,  3278,  1,      7,  18561,2,20090121,1106, 27.9965, 146.9860, 5780,    807.5,   4.9383,  34.1264,2,  34.1291,2,     81.4,2,    85.31,2,    37.03,2,     0.00,2,     2.65,2,   -999.0,9,-999.0000,9,  -999.00,     1131
  49UP20090117,RF0901,  3278,  1,      6,  18560,2,20090121,1106, 27.9965, 146.9860, 5780,    908.2,   4.2657,  34.2288,2,-999.0000,9,     55.5,2,   103.60,2,    40.08,2,     0.00,2,     2.87,2,   -999.0,9,-999.0000,9,  -999.00,     1129
  49UP20090117,RF0901,  3278,  1,      5,  18559,2,20090121,1106, 27.9965, 146.9860, 5780,   1009.3,   3.7515,  34.3167,2,  34.3177,2,     42.5,2,   117.42,2,    41.64,2,     0.00,2,     2.99,2,   -999.0,9,-999.0000,9,  -999.00,     1126
  49UP20090117,RF0901,  3278,  1,      4,  18558,2,20090121,1106, 27.9965, 146.9860, 5780,   1263.4,   3.0538,  34.4371,2,  34.4471,4,     42.4,2,   134.97,2,    42.56,2,     0.01,2,     3.04,2,   -999.0,9,-999.0000,9,  -999.00,     1121
  49UP20090117,RF0901,  3278,  1,      3,  18557,2,20090121,1106, 27.9965, 146.9860, 5780,   1516.4,   2.5455,  34.5206,2,  34.5191,2,     57.0,2,   145.05,2,    41.76,2,     0.00,2,     2.98,2,   -999.0,9,-999.0000,9,  -999.00,     1116
  49UP20090117,RF0901,  3278,  1,      2,  18556,2,20090121,1106, 27.9965, 146.9860, 5780,   1768.4,   2.1563,  34.5759,2,  34.5749,2,     77.2,2,   150.34,2,    40.93,2,     0.00,2,     2.89,2,   -999.0,9,-999.0000,9,  -999.00,     1111
  49UP20090117,RF0901,  3278,  1,      1,  18555,2,20090121,1106, 27.9965, 146.9860, 5780,   2024.2,   1.9433,  34.6074,2,  34.6101,2,     95.1,2,   150.40,2,    39.91,2,     0.00,2,     2.81,2,   -999.0,9,-999.0000,9,  -999.00,     1106