BOTTLE,20200117PRINUNIVRMK
EXPOCODE,SECT_ID,STNNBR,CASTNO,SAMPNO,BTLNBR,BTLNBR_FLAG_W,DATE,TIME,LATITUDE,LONGITUDE,DEPTH,CTDPRS,CTDTMP,CTDSAL,CTDSAL_FLAG_W,SALNTY,SALNTY_FLAG_W,OXYGEN,OXYGEN_FLAG_W,SILCAT,SILCAT_FLAG_W,NITRAT,NITRAT_FLAG_W,NITRIT,NITRIT_FLAG_W,PHSPHT,PHSPHT_FLAG_W,TCARBN,TCARBN_FLAG_W,PH_TOT,PH_TOT_FLAG_W,PH_TMP,BTL_TIME
,,,,,,,,,,,METERS,DBAR,ITS-90,PSS-78,,PSS-78,,UMOL/KG,,UMOL/KG,,UMOL/KG,,UMOL/KG,,UMOL/KG,,UMOL/KG,,,,DEG C,
  49UP20090117,RF0901,  3331,  1,     99,     99,2,20090220,0404, -0.0058, 142.0032, 3380,      0.0,  29.7523,  34.5083,2,-999.0000,9,    194.0,2,     0.00,2,     0.00,2,     0.00,2,     0.08,2,   -999.0,9,-999.0000,9,  -999.00,      438
  49UP20090117,RF0901,  3331,  1,     24,  18578,2,20090220,0404, -0.0058, 142.0032, 3380,     11.0,  29.5720,  34.5013,2,-999.0000,9,   -999.0,9,  -999.00,9,  -999.00,9,  -999.00,9,  -999.00,9,   -999.0,9,-999.0000,9,  -999.00,      500
  49UP20090117,RF0901,  3331,  1,     23,  18577,2,20090220,0404, -0.0058, 142.0032, 3380,     11.3,  29.5664,  34.5017,2,-999.0000,9,   -999.0,9,  -999.00,9,  -999.00,9,  -999.00,9,  -999.00,9,   -999.0,9,-999.0000,9,  -999.00,      500
  49UP20090117,RF0901,  3331,  1,     22,  18576,2,20090220,0404, -0.0058, 142.0032, 3380,     11.3,  29.5650,  34.5016,2,-999.0000,9,   -999.0,9,  -999.00,9,  -999.00,9,  -999.00,9,  -999.00,9,   -999.0,9,-999.0000,9,  -999.00,      500
  49UP20090117,RF0901,  3331,  1,     21,  18575,2,20090220,0404, -0.0058, 142.0032, 3380,     11.3,  29.5626,  34.5018,2,-999.0000,9,    195.4,2,     0.00,2,     0.00,2,     0.00,2,     0.08,2,   -999.0,9,-999.0000,9,  -999.00,      459
  49UP20090117,RF0901,  3331,  1,     20,  18574,2,20090220,0404, -0.0058, 142.0032, 3380,     25.9,  29.5492,  34.5076,2,-999.0000,9,    196.2,2,     0.34,2,     0.03,2,     0.00,2,     0.08,2,   -999.0,9,-999.0000,9,  -999.00,      458
  49UP20090117,RF0901,  3331,  1,     19,  18573,2,20090220,0404, -0.0058, 142.0032, 3380,     50.6,  29.5725,  34.5596,2,-999.0000,9,    194.5,2,     0.00,2,     0.00,2,     0.00,2,     0.09,2,   -999.0,9,-999.0000,9,  -999.00,      457
  49UP20090117,RF0901,  3331,  1,     18,  18572,2,20090220,0404, -0.0058, 142.0032, 3380,     77.8,  29.5736,  34.8877,2,-999.0000,9,    189.5,2,     0.00,2,     0.25,2,     0.29,2,     0.16,2,   -999.0,9,-999.0000,9,  -999.00,      455
  49UP20090117,RF0901,  3331,  1,     17,  18571,2,20090220,0404, -0.0058, 142.0032, 3380,    100.7,  29.5451,  35.4305,2,-999.0000,9,    183.2,2,     0.00,2,     1.51,2,     0.75,2,     0.34,2,   -999.0,9,-999.0000,9,  -999.00,      453
  49UP20090117,RF0901,  3331,  1,     16,  18570,2,20090220,0404, -0.0058, 142.0032, 3380,    127.3,  25.3396,  35.4112,2,-999.0000,9,    145.3,2,     1.33,2,     7.84,2,     0.00,2,     0.65,2,   -999.0,9,-999.0000,9,  -999.00,      452
  49UP20090117,RF0901,  3331,  1,     15,  18569,2,20090220,0404, -0.0058, 142.0032, 3380,    151.6,  24.9749,  35.5868,2,-999.0000,9,    140.7,2,     1.19,2,     8.57,2,     0.00,2,     0.71,2,   -999.0,9,-999.0000,9,  -999.00,      451
  49UP20090117,RF0901,  3331,  1,     14,  18568,2,20090220,0404, -0.0058, 142.0032, 3380,    202.2,  21.1545,  35.5485,2,-999.0000,9,    130.9,2,     2.53,2,    10.98,2,     0.00,2,     0.86,2,   -999.0,9,-999.0000,9,  -999.00,      449
  49UP20090117,RF0901,  3331,  1,     13,  18567,2,20090220,0404, -0.0058, 142.0032, 3380,    252.9,  16.0689,  35.2363,2,-999.0000,9,    144.2,2,     6.36,2,    14.64,2,     0.00,2,     1.07,2,   -999.0,9,-999.0000,9,  -999.00,      447
  49UP20090117,RF0901,  3331,  1,     12,  18348,2,20090220,0404, -0.0058, 142.0032, 3380,    303.7,  11.4744,  34.7642,2,-999.0000,9,    130.4,2,    22.67,2,    23.10,2,     0.00,2,     1.61,2,   -999.0,9,-999.0000,9,  -999.00,      444
  49UP20090117,RF0901,  3331,  1,     11,  18565,2,20090220,0404, -0.0058, 142.0032, 3380,    404.6,   9.5271,  34.6931,2,-999.0000,9,    110.1,2,    25.38,2,    28.97,2,     0.00,2,     1.99,2,   -999.0,9,-999.0000,9,  -999.00,      441
  49UP20090117,RF0901,  3331,  1,     10,  18564,2,20090220,0404, -0.0058, 142.0032, 3380,    505.0,   8.1172,  34.6008,2,-999.0000,9,    122.4,2,    29.89,2,    30.20,2,     0.00,2,     2.07,2,   -999.0,9,-999.0000,9,  -999.00,      439
  49UP20090117,RF0901,  3331,  1,      9,  18563,2,20090220,0404, -0.0058, 142.0032, 3380,    604.8,   7.2756,  34.5709,2,-999.0000,9,    101.5,2,    38.18,2,    34.09,2,     0.00,2,     2.37,2,   -999.0,9,-999.0000,9,  -999.00,      436
  49UP20090117,RF0901,  3331,  1,      8,  18562,2,20090220,0404, -0.0058, 142.0032, 3380,    705.5,   6.1440,  34.5394,2,-999.0000,9,    100.3,2,    50.92,2,    36.12,2,     0.00,2,     2.54,2,   -999.0,9,-999.0000,9,  -999.00,      433
  49UP20090117,RF0901,  3331,  1,      7,  18561,2,20090220,0404, -0.0058, 142.0032, 3380,    805.6,   5.6026,  34.5323,2,-999.0000,9,    107.9,2,    57.11,2,    36.14,2,     0.00,2,     2.55,2,   -999.0,9,-999.0000,9,  -999.00,      431
  49UP20090117,RF0901,  3331,  1,      6,  18560,2,20090220,0404, -0.0058, 142.0032, 3380,    907.4,   5.0907,  34.5374,2,-999.0000,9,    101.8,2,    68.82,2,    37.17,2,     0.00,2,     2.63,2,   -999.0,9,-999.0000,9,  -999.00,      428
  49UP20090117,RF0901,  3331,  1,      5,  18559,2,20090220,0404, -0.0058, 142.0032, 3380,   1008.0,   4.5956,  34.5510,2,-999.0000,9,     92.8,2,    79.47,2,    38.59,2,     0.00,2,     2.75,2,   -999.0,9,-999.0000,9,  -999.00,      425
  49UP20090117,RF0901,  3331,  1,      4,  18558,2,20090220,0404, -0.0058, 142.0032, 3380,   1261.0,   3.7081,  34.5755,2,-999.0000,9,     97.3,2,    99.42,2,    38.87,2,     0.00,2,     2.78,2,   -999.0,9,-999.0000,9,  -999.00,      420
  49UP20090117,RF0901,  3331,  1,      3,  18557,2,20090220,0404, -0.0058, 142.0032, 3380,   1515.5,   3.1103,  34.5964,2,-999.0000,9,    105.1,2,   111.35,2,    38.71,2,     0.00,2,     2.75,2,   -999.0,9,-999.0000,9,  -999.00,      414
  49UP20090117,RF0901,  3331,  1,      2,  18556,2,20090220,0404, -0.0058, 142.0032, 3380,   1768.3,   2.6015,  34.6182,2,-999.0000,9,    113.1,2,   121.76,2,    38.32,2,     0.00,2,     2.71,2,   -999.0,9,-999.0000,9,  -999.00,      409
  49UP20090117,RF0901,  3331,  1,      1,  18555,2,20090220,0404, -0.0058, 142.0032, 3380,   2020.8,   2.2566,  34.6361,2,-999.0000,9,    118.2,2,   130.06,2,    38.28,2,     0.00,2,     2.69,2,   -999.0,9,-999.0000,9,  -999.00,      404
  49UP20090117,RF0901,  3333,  1,     99,     99,2,20090220,1645,  1.9872, 141.9953, 2564,      0.0,  29.6328,  34.6189,2,-999.0000,9,    193.4,2,     1.08,2,     0.02,2,     0.00,2,     0.09,2,   -999.0,9,-999.0000,9,  -999.00,     1718
  49UP20090117,RF0901,  3333,  1,     21,  18575,2,20090220,1645,  1.9872, 141.9953, 2564,     10.9,  29.6278,  34.6176,2,  34.6115,4,    194.3,2,     1.08,2,     0.01,2,     0.00,2,     0.10,2,   -999.0,9,-999.0000,9,  -999.00,     1735
  49UP20090117,RF0901,  3333,  1,     20,  18574,2,20090220,1645,  1.9872, 141.9953, 2564,     25.5,  29.6459,  34.6304,2,-999.0000,9,    194.4,2,     0.92,2,     0.00,2,     0.00,2,     0.10,2,   -999.0,9,-999.0000,9,  -999.00,     1734
  49UP20090117,RF0901,  3333,  1,     19,  18573,2,20090220,1645,  1.9872, 141.9953, 2564,     51.3,  29.9931,  35.0865,2,-999.0000,9,    192.6,2,     1.06,2,     0.09,2,     0.00,2,     0.15,2,   -999.0,9,-999.0000,9,  -999.00,     1732
  49UP20090117,RF0901,  3333,  1,     18,  18572,2,20090220,1645,  1.9872, 141.9953, 2564,     75.1,  29.9076,  35.2071,2,-999.0000,9,    188.5,2,     1.04,2,     0.28,2,     0.39,2,     0.21,2,   -999.0,9,-999.0000,9,  -999.00,     1731
  49UP20090117,RF0901,  3333,  1,     17,  18571,2,20090220,1645,  1.9872, 141.9953, 2564,    102.8,  29.7487,  35.4612,2,  35.4598,2,    187.5,2,     1.23,2,     0.86,2,     0.66,2,     0.29,2,   -999.0,9,-999.0000,9,  -999.00,     1730
  49UP20090117,RF0901,  3333,  1,     16,  18570,2,20090220,1645,  1.9872, 141.9953, 2564,    127.3,  27.9218,  35.5242,2,-999.0000,9,    164.7,2,     1.87,2,     5.64,2,     0.00,2,     0.51,2,   -999.0,9,-999.0000,9,  -999.00,     1729
  49UP20090117,RF0901,  3333,  1,     15,  18569,2,20090220,1645,  1.9872, 141.9953, 2564,    152.3,  24.6427,  34.9961,2,-999.0000,9,    154.0,2,     3.68,2,     6.15,2,     0.00,2,     0.49,2,   -999.0,9,-999.0000,9,  -999.00,     1727
  49UP20090117,RF0901,  3333,  1,     14,  18568,2,20090220,1645,  1.9872, 141.9953, 2564,    201.8,  19.9758,  34.7314,2,  34.7341,2,    154.1,2,     8.04,2,     8.47,2,     0.00,2,     0.62,2,   -999.0,9,-999.0000,9,  -999.00,     1726
  49UP20090117,RF0901,  3333,  1,     13,  18567,2,20090220,1645,  1.9872, 141.9953, 2564,    252.9,  12.7171,  34.5012,2,-999.0000,9,    123.1,2,    22.35,2,    20.72,2,     0.00,2,     1.44,2,   -999.0,9,-999.0000,9,  -999.00,     1724
  49UP20090117,RF0901,  3333,  1,     12,  18348,2,20090220,1645,  1.9872, 141.9953, 2564,    303.9,   9.9960,  34.7032,2,  34.7061,2,    134.7,2,    24.53,2,    25.30,2,     0.00,2,     1.72,2,   -999.0,9,-999.0000,9,  -999.00,     1723
  49UP20090117,RF0901,  3333,  1,     11,  18565,2,20090220,1645,  1.9872, 141.9953, 2564,    403.3,   9.5175,  34.6884,2,  34.6880,2,     96.4,2,    27.47,2,    30.13,2,     0.00,2,     2.04,2,   -999.0,9,-999.0000,9,  -999.00,     1720
  49UP20090117,RF0901,  3333,  1,     10,  18564,2,20090220,1645,  1.9872, 141.9953, 2564,    504.3,   8.4031,  34.6122,2,-999.0000,9,    120.5,2,    30.74,2,    29.82,2,     0.00,2,     2.03,2,   -999.0,9,-999.0000,9,  -999.00,     1718
  49UP20090117,RF0901,  3333,  1,      9,  18563,2,20090220,1645,  1.9872, 141.9953, 2564,    604.2,   7.5197,  34.5683,2,  34.5671,2,    111.7,2,    37.92,2,    32.38,2,     0.00,2,     2.22,2,   -999.0,9,-999.0000,9,  -999.00,     1716
  49UP20090117,RF0901,  3333,  1,      8,  18562,2,20090220,1645,  1.9872, 141.9953, 2564,    705.9,   6.5793,  34.5392,2,-999.0000,9,    102.7,2,    48.42,2,    34.83,2,     0.00,2,     2.42,2,   -999.0,9,-999.0000,9,  -999.00,     1713
  49UP20090117,RF0901,  3333,  1,      7,  18561,2,20090220,1645,  1.9872, 141.9953, 2564,    807.6,   5.7125,  34.5337,2,  34.5387,4,    102.8,2,    58.03,2,    36.55,2,     0.00,2,     2.55,2,   -999.0,9,-999.0000,9,  -999.00,     1710
  49UP20090117,RF0901,  3333,  1,      6,  18560,2,20090220,1645,  1.9872, 141.9953, 2564,    908.4,   5.4437,  34.5338,2,-999.0000,9,    104.6,2,    62.94,2,    36.65,2,     0.00,2,     2.55,2,   -999.0,9,-999.0000,9,  -999.00,     1708
  49UP20090117,RF0901,  3333,  1,      5,  18559,2,20090220,1645,  1.9872, 141.9953, 2564,   1010.6,   5.0001,  34.5382,2,  34.5376,2,    106.3,2,    72.12,2,    36.83,2,     0.00,2,     2.58,2,   -999.0,9,-999.0000,9,  -999.00,     1706
  49UP20090117,RF0901,  3333,  1,      4,  18558,2,20090220,1645,  1.9872, 141.9953, 2564,   1263.0,   3.7857,  34.5744,2,  34.5739,2,     94.9,2,   101.42,2,    38.90,2,     0.00,2,     2.75,2,   -999.0,9,-999.0000,9,  -999.00,     1701
  49UP20090117,RF0901,  3333,  1,      3,  18557,2,20090220,1645,  1.9872, 141.9953, 2564,   1516.2,   3.1571,  34.5946,2,  34.5957,2,     99.8,2,   114.41,2,    38.99,2,     0.00,2,     2.74,2,   -999.0,9,-999.0000,9,  -999.00,     1656
  49UP20090117,RF0901,  3333,  1,      2,  18556,2,20090220,1645,  1.9872, 141.9953, 2564,   1769.0,   2.5867,  34.6180,2,  34.6178,2,    108.5,2,   126.19,2,    38.79,2,     0.00,2,     2.72,2,   -999.0,9,-999.0000,9,  -999.00,     1651
  49UP20090117,RF0901,  3333,  1,      1,  18555,2,20090220,1645,  1.9872, 141.9953, 2564,   2025.3,   2.1702,  34.6381,2,  34.6378,2,    117.0,2,   134.32,2,    38.44,2,     0.00,2,     2.66,2,   -999.0,9,-999.0000,9,  -999.00,     1645
  49UP20090117,RF0901,  3335,  1,     99,     99,2,20090221,0601,  2.3967, 140.0047, 4136,      0.0,  29.6053,  34.5522,2,-999.0000,9,    194.4,2,     1.10,2,     0.02,2,     0.00,2,     0.08,2,   -999.0,9,-999.0000,9,  -999.00,      634
  49UP20090117,RF0901,  3335,  1,     21,  18575,2,20090221,0601,  2.3967, 140.0047, 4136,     11.7,  29.6096,  34.5526,2,-999.0000,9,    195.2,2,     1.19,2,     0.00,2,     0.00,2,     0.08,2,   -999.0,9,-999.0000,9,  -999.00,      649
  49UP20090117,RF0901,  3335,  1,     20,  18574,2,20090221,0601,  2.3967, 140.0047, 4136,     26.0,  29.6571,  34.6809,2,-999.0000,9,    194.7,2,     1.32,2,     0.00,2,     0.00,2,     0.12,2,   -999.0,9,-999.0000,9,  -999.00,      648
  49UP20090117,RF0901,  3335,  1,     19,  18573,2,20090221,0601,  2.3967, 140.0047, 4136,     51.5,  29.8748,  35.1326,2,-999.0000,9,    191.7,2,     1.43,2,     0.08,2,     0.00,2,     0.17,2,   -999.0,9,-999.0000,9,  -999.00,      647
  49UP20090117,RF0901,  3335,  1,     18,  18572,2,20090221,0601,  2.3967, 140.0047, 4136,     76.7,  29.7724,  35.3056,2,-999.0000,9,    184.5,2,     1.56,2,     0.79,2,     0.60,2,     0.27,2,   -999.0,9,-999.0000,9,  -999.00,      646
  49UP20090117,RF0901,  3335,  1,     17,  18571,2,20090221,0601,  2.3967, 140.0047, 4136,    101.7,  28.0219,  35.2381,2,-999.0000,9,    162.3,2,     2.34,2,     4.42,2,     0.05,2,     0.42,2,   -999.0,9,-999.0000,9,  -999.00,      644
  49UP20090117,RF0901,  3335,  1,     16,  18570,2,20090221,0601,  2.3967, 140.0047, 4136,    127.4,  26.6109,  35.0357,2,-999.0000,9,    157.2,2,     2.83,2,     5.37,2,     0.00,2,     0.46,2,   -999.0,9,-999.0000,9,  -999.00,      643
  49UP20090117,RF0901,  3335,  1,     15,  18569,2,20090221,0601,  2.3967, 140.0047, 4136,    151.7,  25.9109,  35.1721,2,-999.0000,9,    153.5,2,     3.75,2,     6.25,2,     0.00,2,     0.50,2,   -999.0,9,-999.0000,9,  -999.00,      642
  49UP20090117,RF0901,  3335,  1,     14,  18568,2,20090221,0601,  2.3967, 140.0047, 4136,    202.3,  20.0950,  34.7546,2,-999.0000,9,    154.0,2,     7.31,2,     8.18,2,     0.00,2,     0.62,2,   -999.0,9,-999.0000,9,  -999.00,      641
  49UP20090117,RF0901,  3335,  1,     13,  18567,2,20090221,0601,  2.3967, 140.0047, 4136,    252.6,  12.7368,  34.5233,2,-999.0000,9,    110.7,2,    23.61,2,    22.39,2,     0.00,2,     1.55,2,   -999.0,9,-999.0000,9,  -999.00,      639
  49UP20090117,RF0901,  3335,  1,     12,  18348,2,20090221,0601,  2.3967, 140.0047, 4136,    303.5,   9.5115,  34.5823,2,-999.0000,9,    104.2,2,    34.84,2,    29.02,2,     0.00,2,     2.01,2,   -999.0,9,-999.0000,9,  -999.00,      638
  49UP20090117,RF0901,  3335,  1,     11,  18565,2,20090221,0601,  2.3967, 140.0047, 4136,    404.2,   8.7210,  34.6253,2,-999.0000,9,    132.0,2,    28.79,2,    28.09,2,     0.00,2,     1.93,2,   -999.0,9,-999.0000,9,  -999.00,      636
  49UP20090117,RF0901,  3335,  1,     10,  18564,2,20090221,0601,  2.3967, 140.0047, 4136,    504.6,   8.2840,  34.6085,2,-999.0000,9,    141.0,2,    27.75,2,    28.20,2,     0.00,2,     1.93,2,   -999.0,9,-999.0000,9,  -999.00,      633
  49UP20090117,RF0901,  3335,  1,      9,  18563,2,20090221,0601,  2.3967, 140.0047, 4136,    606.3,   7.5977,  34.5707,2,-999.0000,9,    124.0,2,    35.36,2,    31.13,2,     0.00,2,     2.14,2,   -999.0,9,-999.0000,9,  -999.00,      631
  49UP20090117,RF0901,  3335,  1,      8,  18562,2,20090221,0601,  2.3967, 140.0047, 4136,    707.0,   6.9025,  34.5477,2,-999.0000,9,    118.0,2,    40.55,2,    33.14,2,     0.00,2,     2.29,2,   -999.0,9,-999.0000,9,  -999.00,      629
  49UP20090117,RF0901,  3335,  1,      7,  18561,2,20090221,0601,  2.3967, 140.0047, 4136,    808.1,   6.0650,  34.5332,2,-999.0000,9,     91.8,2,    59.36,2,    36.47,2,     0.00,2,     2.56,2,   -999.0,9,-999.0000,9,  -999.00,      626
  49UP20090117,RF0901,  3335,  1,      6,  18560,2,20090221,0601,  2.3967, 140.0047, 4136,    909.4,   5.4115,  34.5360,2,-999.0000,9,     95.6,2,    68.74,2,    37.07,2,     0.00,2,     2.61,2,   -999.0,9,-999.0000,9,  -999.00,      624
  49UP20090117,RF0901,  3335,  1,      5,  18559,2,20090221,0601,  2.3967, 140.0047, 4136,   1009.0,   4.8587,  34.5479,2,-999.0000,9,     91.4,2,    81.31,2,    38.00,2,     0.00,2,     2.69,2,   -999.0,9,-999.0000,9,  -999.00,      622
  49UP20090117,RF0901,  3335,  1,      4,  18558,2,20090221,0601,  2.3967, 140.0047, 4136,   1261.9,   3.8483,  34.5723,2,-999.0000,9,     94.6,2,   101.42,2,    38.75,2,     0.00,2,     2.75,2,   -999.0,9,-999.0000,9,  -999.00,      617
  49UP20090117,RF0901,  3335,  1,      3,  18557,2,20090221,0601,  2.3967, 140.0047, 4136,   1515.4,   3.1548,  34.5948,2,-999.0000,9,    100.5,2,   114.24,2,    38.92,2,     0.00,2,     2.76,2,   -999.0,9,-999.0000,9,  -999.00,      612
  49UP20090117,RF0901,  3335,  1,      2,  18556,2,20090221,0601,  2.3967, 140.0047, 4136,   1768.0,   2.5830,  34.6182,2,-999.0000,9,    108.0,2,   126.64,2,    38.80,2,     0.00,2,     2.72,2,   -999.0,9,-999.0000,9,  -999.00,      607
  49UP20090117,RF0901,  3335,  1,      1,  18555,2,20090221,0601,  2.3967, 140.0047, 4136,   2022.3,   2.1777,  34.6378,2,-999.0000,9,    116.6,2,   134.16,2,    38.45,2,     0.00,2,     2.67,2,   -999.0,9,-999.0000,9,  -999.00,      601