BOTTLE,20200117PRINUNIVRMK
# 08/30/2019 Initialized README file  
# Data source:  Masao Ishii 2018/11/30 
# SHIP: R/V Ryofu Maru III 
# Cruise: RF08-11 
# Region: North Pacific Ocean 
# EXPOCODE: 49UP20081105 
# DATES: 20081105-20081201 
# Chief Scientist: Hitomi Kamiya 
# 16 stations with 21 place Rosette 
# CTD: Who - Shinya Minato; Status - final 
# 	Includes: CTDSAL 
# SALNTY: Who - Shinya Minato; Status - final 
# 	Notes: 	 
# Nutrients: Who - Shinya Minato; Status - final 
# 	Includes: nitrate, nitrite, silicate, phosphate 
# 	Nitrite and NO3+NO2 reported. Separated by subtraction 
# OXYGEN: Who - Shinya Minato; Status - final 
# 	Notes: 
# TCARBN: Who - Shinya Minato; Status - final 
# 	Notes:  
# PH: Who - Shinya Minato; Status - final 
# 	Notes: total H+ scale at 25C 
# These data should be cited as: Kamiya, Hitomi; Minato, Shinya; Ishii, Masao (2019). Dissolved inorganic carbon (DIC), pH on total scale, temperature, salinity, oxygen, nutrients and other measurements collected from profile and discrete sample observations during the R/V Ryofu Maru III cruise RF08-11 (EXPOCODE 49UP20081105) in the North Pacific Ocean from 2008-11-05 to 2008-12-01 (NCEI Accession 0186282). [indicate subset used]. NOAA National Centers for Environmental Information. Dataset. https://doi.org/10.25921/pav2-8x38. Accessed [date].              
# References that have used data from this cruise: 
EXPOCODE,SECT_ID,STNNBR,CASTNO,SAMPNO,BTLNBR,BTLNBR_FLAG_W,DATE,TIME,LATITUDE,LONGITUDE,DEPTH,CTDPRS,CTDTMP,CTDSAL,CTDSAL_FLAG_W,SALNTY,SALNTY_FLAG_W,OXYGEN,OXYGEN_FLAG_W,SILCAT,SILCAT_FLAG_W,NITRAT,NITRAT_FLAG_W,NITRIT,NITRIT_FLAG_W,PHSPHT,PHSPHT_FLAG_W,TCARBN,TCARBN_FLAG_W,PH_TOT,PH_TOT_FLAG_W,PH_TMP,BTL_TIME
,,,,,,,,,,,METERS,DBAR,ITS-90,PSS-78,,PSS-78,,UMOL/KG,,UMOL/KG,,UMOL/KG,,UMOL/KG,,UMOL/KG,,UMOL/KG,,,,DEG C,
  49UP20081105,RF0811,  3223,  1,     99,     99,2,20081105,2250, 33.9872, 136.9937, 1099,      0.0,  22.5216,  33.9446,2,-999.0000,9,    217.7,2,  -999.00,4,  -999.00,4,  -999.00,4,  -999.00,4,   -999.0,9,-999.0000,9,  -999.00,     2310
  49UP20081105,RF0811,  3223,  1,     19,  18573,2,20081105,2250, 33.9872, 136.9937, 1099,     10.3,  22.5235,  33.9440,2,  33.9434,2,    216.6,2,     2.30,2,     0.16,2,     0.04,2,     0.06,2,   -999.0,9,-999.0000,9,  -999.00,     2325
  49UP20081105,RF0811,  3223,  1,     18,  18572,2,20081105,2250, 33.9872, 136.9937, 1099,     26.2,  22.5242,  33.9438,2,-999.0000,9,    216.5,2,     2.30,2,     0.15,2,     0.05,2,     0.07,2,   -999.0,9,-999.0000,9,  -999.00,     2323
  49UP20081105,RF0811,  3223,  1,     17,  18571,2,20081105,2250, 33.9872, 136.9937, 1099,     51.0,  22.5186,  33.9404,2,-999.0000,9,    208.5,2,     3.32,2,     1.24,2,     0.10,2,     0.14,2,   -999.0,9,-999.0000,9,  -999.00,     2322
  49UP20081105,RF0811,  3223,  1,     16,  18570,2,20081105,2250, 33.9872, 136.9937, 1099,     75.9,  19.1468,  34.5089,2,-999.0000,9,    171.0,2,    11.39,2,     8.62,2,     0.06,2,     0.59,2,   -999.0,9,-999.0000,9,  -999.00,     2321
  49UP20081105,RF0811,  3223,  1,     15,  18569,2,20081105,2250, 33.9872, 136.9937, 1099,    100.8,  17.1516,  34.5596,2,  34.5615,2,    165.1,2,    14.72,2,    11.06,2,     0.04,2,     0.75,2,   -999.0,9,-999.0000,9,  -999.00,     2320
  49UP20081105,RF0811,  3223,  1,     14,  18568,2,20081105,2250, 33.9872, 136.9937, 1099,    126.4,  15.0855,  34.5538,2,-999.0000,9,    167.2,2,    18.30,2,    13.02,2,     0.03,2,     0.90,2,   -999.0,9,-999.0000,9,  -999.00,     2318
  49UP20081105,RF0811,  3223,  1,     13,  18567,2,20081105,2250, 33.9872, 136.9937, 1099,    152.3,  13.5739,  34.4963,2,-999.0000,9,    166.3,2,    21.66,2,    15.27,2,     0.01,2,     1.05,2,   -999.0,9,-999.0000,9,  -999.00,     2317
  49UP20081105,RF0811,  3223,  1,     12,  18348,2,20081105,2250, 33.9872, 136.9937, 1099,    202.5,  11.4136,  34.3872,2,  34.3859,2,    156.4,2,    31.63,2,    19.56,2,     0.03,2,     1.35,2,   -999.0,9,-999.0000,9,  -999.00,     2315
  49UP20081105,RF0811,  3223,  1,     11,  18565,2,20081105,2250, 33.9872, 136.9937, 1099,    252.0,   9.5654,  34.3034,2,-999.0000,9,    142.2,2,    43.81,2,    23.93,2,     0.04,2,     1.68,2,   -999.0,9,-999.0000,9,  -999.00,     2314
  49UP20081105,RF0811,  3223,  1,     10,  18564,2,20081105,2250, 33.9872, 136.9937, 1099,    303.3,   8.6100,  34.2719,2,  34.2719,2,    132.7,2,    50.97,2,    26.34,2,     0.02,2,     1.86,2,   -999.0,9,-999.0000,9,  -999.00,     2311
  49UP20081105,RF0811,  3223,  1,      9,  18563,2,20081105,2250, 33.9872, 136.9937, 1099,    405.1,   7.1028,  34.2558,2,-999.0000,9,    109.6,2,    67.40,2,    30.88,2,     0.03,2,     2.21,2,   -999.0,9,-999.0000,9,  -999.00,     2309
  49UP20081105,RF0811,  3223,  1,      8,  18562,2,20081105,2250, 33.9872, 136.9937, 1099,    505.5,   6.1227,  34.2568,2,  34.2568,2,     94.9,2,    79.12,2,    33.70,2,     0.03,2,     2.41,2,   -999.0,9,-999.0000,9,  -999.00,     2306
  49UP20081105,RF0811,  3223,  1,      7,  18561,2,20081105,2250, 33.9872, 136.9937, 1099,    607.3,   5.3999,  34.2683,2,-999.0000,9,     83.1,2,    88.87,2,    35.92,2,     0.03,2,     2.58,2,   -999.0,9,-999.0000,9,  -999.00,     2304
  49UP20081105,RF0811,  3223,  1,      6,  18560,2,20081105,2250, 33.9872, 136.9937, 1099,    708.1,   4.6849,  34.3071,2,  34.3068,2,     71.3,2,   109.08,2,    39.00,2,     0.03,2,     2.82,2,   -999.0,9,-999.0000,9,  -999.00,     2301
  49UP20081105,RF0811,  3223,  1,      5,  18559,2,20081105,2250, 33.9872, 136.9937, 1099,    809.2,   4.2279,  34.3396,2,-999.0000,9,     65.8,2,   109.09,2,    38.97,2,     0.03,2,     2.81,2,   -999.0,9,-999.0000,9,  -999.00,     2258
  49UP20081105,RF0811,  3223,  1,      4,  18558,2,20081105,2250, 33.9872, 136.9937, 1099,    910.3,   3.6158,  34.3942,2,-999.0000,9,     62.1,2,   121.05,2,    40.06,2,     0.03,2,     2.88,2,   -999.0,9,-999.0000,9,  -999.00,     2255
  49UP20081105,RF0811,  3223,  1,      3,  18557,2,20081105,2250, 33.9872, 136.9937, 1099,   1011.2,   3.4119,  34.4158,2,  34.4179,2,     62.1,2,   125.97,2,    40.38,2,     0.04,2,     2.90,2,   -999.0,9,-999.0000,9,  -999.00,     2253
  49UP20081105,RF0811,  3223,  1,      2,  18556,2,20081105,2250, 33.9872, 136.9937, 1099,   1097.0,   3.1269,  34.4525,2,  34.4487,2,     65.4,2,   129.88,2,    40.50,2,     0.04,2,     2.90,2,   -999.0,9,-999.0000,9,  -999.00,     2250
  49UP20081105,RF0811,  3223,  1,      1,  18555,2,20081105,2250, 33.9872, 136.9937, 1099,   1097.0,   3.1339,  34.4517,2,-999.0000,9,   -999.0,9,  -999.00,9,  -999.00,9,  -999.00,9,  -999.00,9,   -999.0,9,-999.0000,9,  -999.00,     2250
  49UP20081105,RF0811,  3226,  1,     99,     99,2,20081106,0954, 32.6585, 137.0142, 4184,      0.0,  25.4455,  34.2454,2,-999.0000,9,    205.5,2,     1.65,2,     0.00,2,     0.01,2,     0.02,2,   -999.0,9,-999.0000,9,  -999.00,     1040
  49UP20081105,RF0811,  3226,  1,     21,  18575,2,20081106,0954, 32.6585, 137.0142, 4184,     11.2,  25.4549,  34.2475,2,-999.0000,9,    207.0,2,     1.60,2,     0.00,2,     0.00,2,     0.02,2,   -999.0,9,-999.0000,9,  -999.00,     1046
  49UP20081105,RF0811,  3226,  1,     20,  18574,2,20081106,0954, 32.6585, 137.0142, 4184,     26.1,  25.4536,  34.2472,2,-999.0000,9,    205.8,2,     1.62,2,     0.00,2,     0.00,2,     0.02,2,   -999.0,9,-999.0000,9,  -999.00,     1045
  49UP20081105,RF0811,  3226,  1,     19,  18573,2,20081106,0954, 32.6585, 137.0142, 4184,     51.6,  25.4556,  34.2477,2,-999.0000,9,    205.7,2,     1.60,2,     0.00,2,     0.00,2,     0.02,2,   -999.0,9,-999.0000,9,  -999.00,     1044
  49UP20081105,RF0811,  3226,  1,     18,  18572,2,20081106,0954, 32.6585, 137.0142, 4184,     76.3,  25.4021,  34.3042,2,-999.0000,9,    207.1,2,     1.48,2,     0.02,2,     0.00,2,     0.02,2,   -999.0,9,-999.0000,9,  -999.00,     1043
  49UP20081105,RF0811,  3226,  1,     17,  18571,2,20081106,0954, 32.6585, 137.0142, 4184,    102.1,  23.8350,  34.6392,2,-999.0000,9,    207.8,2,     1.78,2,     0.84,2,     0.07,2,     0.08,2,   -999.0,9,-999.0000,9,  -999.00,     1042
  49UP20081105,RF0811,  3226,  1,     16,  18570,2,20081106,0954, 32.6585, 137.0142, 4184,    127.3,  21.8279,  34.7674,2,-999.0000,9,    195.0,2,     2.50,2,     2.30,2,     0.05,2,     0.17,2,   -999.0,9,-999.0000,9,  -999.00,     1041
  49UP20081105,RF0811,  3226,  1,     15,  18569,2,20081106,0954, 32.6585, 137.0142, 4184,    152.4,  20.1489,  34.7973,2,-999.0000,9,    188.6,2,     3.40,2,     3.71,2,     0.02,2,     0.25,2,   -999.0,9,-999.0000,9,  -999.00,     1039
  49UP20081105,RF0811,  3226,  1,     14,  18568,2,20081106,0954, 32.6585, 137.0142, 4184,    203.2,  18.8926,  34.8119,2,-999.0000,9,    204.2,2,     2.88,2,     3.25,2,     0.02,2,     0.21,2,   -999.0,9,-999.0000,9,  -999.00,     1038
  49UP20081105,RF0811,  3226,  1,     13,  18567,2,20081106,0954, 32.6585, 137.0142, 4184,    253.1,  17.9777,  34.7876,2,-999.0000,9,    197.7,2,     4.10,2,     5.01,2,     0.01,2,     0.31,2,   -999.0,9,-999.0000,9,  -999.00,     1036
  49UP20081105,RF0811,  3226,  1,     12,  18348,2,20081106,0954, 32.6585, 137.0142, 4184,    304.3,  16.4236,  34.6895,2,-999.0000,9,    186.0,2,     8.08,2,     8.48,2,     0.00,2,     0.55,2,   -999.0,9,-999.0000,9,  -999.00,     1034
  49UP20081105,RF0811,  3226,  1,     11,  18565,2,20081106,0954, 32.6585, 137.0142, 4184,    405.3,  11.8467,  34.4072,2,-999.0000,9,    158.9,2,    26.95,2,    18.38,2,     0.00,2,     1.26,2,   -999.0,9,-999.0000,9,  -999.00,     1032
  49UP20081105,RF0811,  3226,  1,     10,  18564,2,20081106,0954, 32.6585, 137.0142, 4184,    505.7,   8.7538,  34.1971,2,-999.0000,9,    148.9,2,    43.08,2,    24.84,2,     0.00,2,     1.73,2,   -999.0,9,-999.0000,9,  -999.00,     1029
  49UP20081105,RF0811,  3226,  1,      9,  18563,2,20081106,0954, 32.6585, 137.0142, 4184,    606.7,   6.6044,  34.1686,2,-999.0000,9,    103.5,2,    64.49,2,    32.30,2,     0.00,2,     2.30,2,   -999.0,9,-999.0000,9,  -999.00,     1027
  49UP20081105,RF0811,  3226,  1,      8,  18562,2,20081106,0954, 32.6585, 137.0142, 4184,    707.5,   5.1555,  34.1661,2,-999.0000,9,     85.5,2,    85.77,2,    36.01,2,     0.00,2,     2.58,2,   -999.0,9,-999.0000,9,  -999.00,     1024
  49UP20081105,RF0811,  3226,  1,      7,  18561,2,20081106,0954, 32.6585, 137.0142, 4184,    809.4,   4.5831,  34.2921,2,-999.0000,9,     68.7,2,   100.99,2,    38.20,2,     0.00,2,     2.74,2,   -999.0,9,-999.0000,9,  -999.00,     1022
  49UP20081105,RF0811,  3226,  1,      6,  18560,2,20081106,0954, 32.6585, 137.0142, 4184,    910.8,   4.0264,  34.3609,2,-999.0000,9,     63.7,2,   112.87,2,    39.48,2,     0.00,2,     2.83,2,   -999.0,9,-999.0000,9,  -999.00,     1019
  49UP20081105,RF0811,  3226,  1,      5,  18559,2,20081106,0954, 32.6585, 137.0142, 4184,   1011.8,   3.5768,  34.4119,2,-999.0000,9,     63.6,2,   121.57,2,    40.03,2,     0.00,2,     2.86,2,   -999.0,9,-999.0000,9,  -999.00,     1016
  49UP20081105,RF0811,  3226,  1,      4,  18558,2,20081106,0954, 32.6585, 137.0142, 4184,   1264.3,   2.9300,  34.4805,2,-999.0000,9,     69.8,2,   133.43,2,    40.33,2,     0.00,2,     2.87,2,   -999.0,9,-999.0000,9,  -999.00,     1011
  49UP20081105,RF0811,  3226,  1,      3,  18557,2,20081106,0954, 32.6585, 137.0142, 4184,   1517.9,   2.5461,  34.5282,2,-999.0000,9,     79.4,2,   139.01,2,    40.14,2,     0.00,2,     2.85,2,   -999.0,9,-999.0000,9,  -999.00,     1006
  49UP20081105,RF0811,  3226,  1,      2,  18556,2,20081106,0954, 32.6585, 137.0142, 4184,   1773.5,   2.2023,  34.5753,2,-999.0000,9,     95.8,2,   141.95,2,    39.26,2,     0.00,2,     2.78,2,   -999.0,9,-999.0000,9,  -999.00,     1000
  49UP20081105,RF0811,  3226,  1,      1,  18555,2,20081106,0954, 32.6585, 137.0142, 4184,   2041.9,   1.9796,  34.6062,2,-999.0000,9,    108.5,2,   143.36,2,    38.76,2,     0.00,2,     2.72,2,   -999.0,9,-999.0000,9,  -999.00,      954
  49UP20081105,RF0811,  3228,  1,     99,     99,2,20081106,1659, 32.0073, 137.0197, 4175,      0.0,  25.1612,  34.4132,2,-999.0000,9,    207.8,2,     1.48,2,     0.03,2,     0.00,2,     0.02,2,   -999.0,9,-999.0000,9,  -999.00,     1744
  49UP20081105,RF0811,  3228,  1,     21,  18575,2,20081106,1659, 32.0073, 137.0197, 4175,     10.9,  25.1682,  34.4119,2,  34.4061,2,    208.1,2,     1.48,2,     0.00,2,     0.00,2,     0.01,2,   -999.0,9,-999.0000,9,  -999.00,     1756
  49UP20081105,RF0811,  3228,  1,     20,  18574,2,20081106,1659, 32.0073, 137.0197, 4175,     25.7,  25.1736,  34.4147,2,-999.0000,9,    208.3,2,     1.44,2,     0.00,2,     0.00,2,     0.01,2,   -999.0,9,-999.0000,9,  -999.00,     1755
  49UP20081105,RF0811,  3228,  1,     19,  18573,2,20081106,1659, 32.0073, 137.0197, 4175,     52.4,  25.1709,  34.4221,2,-999.0000,9,    208.0,2,     1.41,2,     0.00,2,     0.00,2,     0.01,2,   -999.0,9,-999.0000,9,  -999.00,     1754
  49UP20081105,RF0811,  3228,  1,     18,  18572,2,20081106,1659, 32.0073, 137.0197, 4175,     76.4,  23.3073,  34.6541,2,-999.0000,9,    215.0,2,     1.58,2,    -0.02,2,     0.03,2,     0.04,2,   -999.0,9,-999.0000,9,  -999.00,     1753
  49UP20081105,RF0811,  3228,  1,     17,  18571,2,20081106,1659, 32.0073, 137.0197, 4175,    103.3,  21.8296,  34.7218,2,  34.7232,2,    209.5,2,     1.81,2,     0.46,2,     0.15,2,     0.07,2,   -999.0,9,-999.0000,9,  -999.00,     1751
  49UP20081105,RF0811,  3228,  1,     16,  18570,2,20081106,1659, 32.0073, 137.0197, 4175,    127.4,  20.8259,  34.7668,2,-999.0000,9,    202.0,2,     2.43,2,     1.85,2,     0.03,2,     0.14,2,   -999.0,9,-999.0000,9,  -999.00,     1750
  49UP20081105,RF0811,  3228,  1,     15,  18569,2,20081106,1659, 32.0073, 137.0197, 4175,    153.3,  20.2111,  34.7965,2,-999.0000,9,    202.6,2,     2.34,2,     1.93,2,     0.02,2,     0.14,2,   -999.0,9,-999.0000,9,  -999.00,     1749
  49UP20081105,RF0811,  3228,  1,     14,  18568,2,20081106,1659, 32.0073, 137.0197, 4175,    203.3,  19.2146,  34.8118,2,  34.8108,2,    205.3,2,     2.39,2,     2.61,2,     0.01,2,     0.18,2,   -999.0,9,-999.0000,9,  -999.00,     1747
  49UP20081105,RF0811,  3228,  1,     13,  18567,2,20081106,1659, 32.0073, 137.0197, 4175,    253.9,  18.6047,  34.8095,2,-999.0000,9,    205.8,2,     2.83,2,     3.23,2,     0.01,2,     0.22,2,   -999.0,9,-999.0000,9,  -999.00,     1745
  49UP20081105,RF0811,  3228,  1,     12,  18348,2,20081106,1659, 32.0073, 137.0197, 4175,    305.3,  18.1278,  34.7921,2,  34.7894,2,    201.1,2,     3.60,2,     4.34,2,     0.01,2,     0.28,2,   -999.0,9,-999.0000,9,  -999.00,     1743
  49UP20081105,RF0811,  3228,  1,     11,  18565,2,20081106,1659, 32.0073, 137.0197, 4175,    404.5,  16.7194,  34.7156,2,-999.0000,9,    191.2,2,     6.65,2,     7.40,2,     0.00,2,     0.48,2,   -999.0,9,-999.0000,9,  -999.00,     1740
  49UP20081105,RF0811,  3228,  1,     10,  18564,2,20081106,1659, 32.0073, 137.0197, 4175,    506.9,  14.3973,  34.5527,2,  34.5557,2,    181.8,2,    13.25,2,    11.89,2,     0.00,2,     0.78,2,   -999.0,9,-999.0000,9,  -999.00,     1737
  49UP20081105,RF0811,  3228,  1,      9,  18563,2,20081106,1659, 32.0073, 137.0197, 4175,    607.3,  11.3788,  34.3518,2,-999.0000,9,    167.3,2,    25.80,2,    18.23,2,     0.00,2,     1.24,2,   -999.0,9,-999.0000,9,  -999.00,     1734
  49UP20081105,RF0811,  3228,  1,      8,  18562,2,20081106,1659, 32.0073, 137.0197, 4175,    711.0,   8.9668,  34.2451,2,  34.2437,2,    144.1,2,    42.23,2,    24.38,2,     0.00,2,     1.70,2,   -999.0,9,-999.0000,9,  -999.00,     1731
  49UP20081105,RF0811,  3228,  1,      7,  18561,2,20081106,1659, 32.0073, 137.0197, 4175,    811.6,   6.8297,  34.1950,2,-999.0000,9,    112.1,2,    64.89,2,    31.10,2,     0.00,2,     2.21,2,   -999.0,9,-999.0000,9,  -999.00,     1728
  49UP20081105,RF0811,  3228,  1,      6,  18560,2,20081106,1659, 32.0073, 137.0197, 4175,    912.8,   5.4485,  34.2503,2,-999.0000,9,     83.6,2,    86.48,2,    35.72,2,     0.00,2,     2.55,2,   -999.0,9,-999.0000,9,  -999.00,     1725
  49UP20081105,RF0811,  3228,  1,      5,  18559,2,20081106,1659, 32.0073, 137.0197, 4175,   1014.5,   4.5637,  34.3195,2,  34.3189,2,     68.2,2,   103.28,2,    38.33,2,     0.00,2,     2.75,2,   -999.0,9,-999.0000,9,  -999.00,     1722
  49UP20081105,RF0811,  3228,  1,      4,  18558,2,20081106,1659, 32.0073, 137.0197, 4175,   1265.5,   3.4029,  34.4288,2,  34.4282,2,     63.6,2,   125.60,2,    40.15,2,     0.00,2,     2.88,2,   -999.0,9,-999.0000,9,  -999.00,     1716
  49UP20081105,RF0811,  3228,  1,      3,  18557,2,20081106,1659, 32.0073, 137.0197, 4175,   1518.4,   2.8264,  34.4963,2,  34.4958,2,     73.1,2,   134.98,2,    40.16,2,     0.00,2,     2.86,2,   -999.0,9,-999.0000,9,  -999.00,     1710
  49UP20081105,RF0811,  3228,  1,      2,  18556,2,20081106,1659, 32.0073, 137.0197, 4175,   1772.2,   2.3939,  34.5505,2,  34.5495,2,     86.5,2,   140.85,2,    39.37,2,     0.00,2,     2.82,2,   -999.0,9,-999.0000,9,  -999.00,     1704
  49UP20081105,RF0811,  3228,  1,      1,  18555,2,20081106,1659, 32.0073, 137.0197, 4175,   2024.9,   2.1473,  34.5848,2,  34.5842,2,     99.5,2,   143.20,2,    39.15,2,     0.00,2,     2.77,2,   -999.0,9,-999.0000,9,  -999.00,     1659