BOTTLE,20200117PRINUNIVRMK
EXPOCODE,SECT_ID,STNNBR,CASTNO,SAMPNO,BTLNBR,BTLNBR_FLAG_W,DATE,TIME,LATITUDE,LONGITUDE,DEPTH,CTDPRS,CTDTMP,CTDSAL,CTDSAL_FLAG_W,SALNTY,SALNTY_FLAG_W,OXYGEN,OXYGEN_FLAG_W,SILCAT,SILCAT_FLAG_W,NITRAT,NITRAT_FLAG_W,NITRIT,NITRIT_FLAG_W,PHSPHT,PHSPHT_FLAG_W,TCARBN,TCARBN_FLAG_W,PH_TOT,PH_TOT_FLAG_W,PH_TMP,BTL_TIME
,,,,,,,,,,,METERS,DBAR,ITS-90,PSS-78,,PSS-78,,UMOL/KG,,UMOL/KG,,UMOL/KG,,UMOL/KG,,UMOL/KG,,UMOL/KG,,,,DEG C,
  49UP20081105,RF0811,  3231,  1,     99,     99,2,20081107,0415, 31.0140, 136.9938, 4166,      0.0,  24.2007,  34.3086,2,-999.0000,9,    212.1,2,     1.40,2,     0.00,2,     0.00,2,     0.02,2,   -999.0,9,-999.0000,9,  -999.00,      455
  49UP20081105,RF0811,  3231,  1,     21,  18575,2,20081107,0415, 31.0140, 136.9938, 4166,     11.6,  24.2003,  34.3087,2,-999.0000,9,    212.6,2,     1.32,2,     0.00,2,     0.00,2,     0.01,2,   -999.0,9,-999.0000,9,  -999.00,      509
  49UP20081105,RF0811,  3231,  1,     20,  18574,2,20081107,0415, 31.0140, 136.9938, 4166,     27.5,  24.1567,  34.3074,2,-999.0000,9,    212.8,2,     1.25,2,     0.00,2,     0.00,2,     0.02,2,   -999.0,9,-999.0000,9,  -999.00,      508
  49UP20081105,RF0811,  3231,  1,     19,  18573,2,20081107,0415, 31.0140, 136.9938, 4166,     50.9,  22.9326,  34.6196,2,-999.0000,9,    215.9,2,     1.25,2,     0.05,2,     0.00,2,     0.03,2,   -999.0,9,-999.0000,9,  -999.00,      507
  49UP20081105,RF0811,  3231,  1,     18,  18572,2,20081107,0415, 31.0140, 136.9938, 4166,     76.3,  20.5209,  34.7033,2,-999.0000,9,    219.9,2,     1.31,2,     0.01,2,     0.06,2,     0.05,2,   -999.0,9,-999.0000,9,  -999.00,      505
  49UP20081105,RF0811,  3231,  1,     17,  18571,2,20081107,0415, 31.0140, 136.9938, 4166,    104.0,  19.2668,  34.7791,2,-999.0000,9,    215.2,2,     1.73,2,     1.52,2,     0.04,2,     0.11,2,   -999.0,9,-999.0000,9,  -999.00,      503
  49UP20081105,RF0811,  3231,  1,     16,  18570,2,20081107,0415, 31.0140, 136.9938, 4166,    129.0,  18.7660,  34.8176,2,-999.0000,9,    213.4,2,     1.94,2,     2.31,2,     0.02,2,     0.14,2,   -999.0,9,-999.0000,9,  -999.00,      502
  49UP20081105,RF0811,  3231,  1,     15,  18569,2,20081107,0415, 31.0140, 136.9938, 4166,    156.1,  18.6928,  34.8228,2,-999.0000,9,    214.4,2,     2.01,2,     2.26,2,     0.01,2,     0.14,2,   -999.0,9,-999.0000,9,  -999.00,      500
  49UP20081105,RF0811,  3231,  1,     14,  18568,2,20081107,0415, 31.0140, 136.9938, 4166,    206.4,  18.6273,  34.8248,2,-999.0000,9,    215.8,2,     1.92,2,     2.18,2,     0.01,2,     0.14,2,   -999.0,9,-999.0000,9,  -999.00,      457
  49UP20081105,RF0811,  3231,  1,     13,  18567,2,20081107,0415, 31.0140, 136.9938, 4166,    253.5,  18.6027,  34.8267,2,-999.0000,9,    216.6,2,     1.84,2,     2.13,2,     0.01,2,     0.14,2,   -999.0,9,-999.0000,9,  -999.00,      455
  49UP20081105,RF0811,  3231,  1,     12,  18348,2,20081107,0415, 31.0140, 136.9938, 4166,    302.3,  18.5807,  34.8280,2,-999.0000,9,    217.9,2,     1.80,2,     2.03,2,     0.01,2,     0.13,2,   -999.0,9,-999.0000,9,  -999.00,      454
  49UP20081105,RF0811,  3231,  1,     11,  18565,2,20081107,0415, 31.0140, 136.9938, 4166,    402.8,  18.3022,  34.8451,2,-999.0000,9,    210.3,2,     2.30,2,     3.25,2,     0.01,2,     0.21,2,   -999.0,9,-999.0000,9,  -999.00,      451
  49UP20081105,RF0811,  3231,  1,     10,  18564,2,20081107,0415, 31.0140, 136.9938, 4166,    506.8,  17.6735,  34.8013,2,-999.0000,9,    202.1,2,     3.74,2,     5.05,2,     0.00,2,     0.31,2,   -999.0,9,-999.0000,9,  -999.00,      448
  49UP20081105,RF0811,  3231,  1,      9,  18563,2,20081107,0415, 31.0140, 136.9938, 4166,    602.7,  15.8658,  34.6601,2,-999.0000,9,    189.1,2,     8.48,2,     9.11,2,     0.00,2,     0.58,2,   -999.0,9,-999.0000,9,  -999.00,      446
  49UP20081105,RF0811,  3231,  1,      8,  18562,2,20081107,0415, 31.0140, 136.9938, 4166,    703.6,  12.4927,  34.4227,2,-999.0000,9,    174.6,2,    20.79,2,    16.19,2,     0.00,2,     1.07,2,   -999.0,9,-999.0000,9,  -999.00,      444
  49UP20081105,RF0811,  3231,  1,      7,  18561,2,20081107,0415, 31.0140, 136.9938, 4166,    808.9,   9.1435,  34.2305,2,-999.0000,9,    151.0,2,    40.56,2,    24.01,2,     0.00,2,     1.65,2,   -999.0,9,-999.0000,9,  -999.00,      441
  49UP20081105,RF0811,  3231,  1,      6,  18560,2,20081107,0415, 31.0140, 136.9938, 4166,    909.6,   7.0168,  34.1750,2,-999.0000,9,    116.9,2,    60.75,2,    30.68,2,     0.00,2,     2.16,2,   -999.0,9,-999.0000,9,  -999.00,      438
  49UP20081105,RF0811,  3231,  1,      5,  18559,2,20081107,0415, 31.0140, 136.9938, 4166,   1012.6,   5.6108,  34.2697,2,-999.0000,9,     85.0,2,    85.57,2,    35.61,2,     0.00,2,     2.53,2,   -999.0,9,-999.0000,9,  -999.00,      435
  49UP20081105,RF0811,  3231,  1,      4,  18558,2,20081107,0415, 31.0140, 136.9938, 4166,   1264.7,   3.8891,  34.3743,2,-999.0000,9,     63.1,2,   115.99,2,    39.77,2,     0.00,2,     2.84,2,   -999.0,9,-999.0000,9,  -999.00,      430
  49UP20081105,RF0811,  3231,  1,      3,  18557,2,20081107,0415, 31.0140, 136.9938, 4166,   1515.0,   2.9581,  34.4750,2,-999.0000,9,     67.5,2,   133.56,2,    40.50,2,     0.00,2,     2.89,2,   -999.0,9,-999.0000,9,  -999.00,      425
  49UP20081105,RF0811,  3231,  1,      2,  18556,2,20081107,0415, 31.0140, 136.9938, 4166,   1772.1,   2.4825,  34.5389,2,-999.0000,9,     83.0,2,   140.02,2,    40.00,2,     0.00,2,     2.83,2,   -999.0,9,-999.0000,9,  -999.00,      420
  49UP20081105,RF0811,  3231,  1,      1,  18555,2,20081107,0415, 31.0140, 136.9938, 4166,   2024.3,   2.1241,  34.5865,2,-999.0000,9,     99.1,2,   143.24,2,    39.30,2,     0.00,2,     2.77,2,   -999.0,9,-999.0000,9,  -999.00,      415
  49UP20081105,RF0811,  3233,  1,     99,     99,2,20081107,1307, 30.0067, 137.0013, 4502,      0.0,  25.8507,  34.2823,2,-999.0000,9,    205.0,2,     1.56,2,     0.00,2,     0.00,2,     0.01,2,   -999.0,9,-999.0000,9,  -999.00,     1338
  49UP20081105,RF0811,  3233,  1,     21,  18575,2,20081107,1307, 30.0067, 137.0013, 4502,     10.9,  25.8707,  34.3245,2,  34.3228,2,    206.7,2,     1.55,2,     0.00,2,     0.00,2,     0.01,2,   1934.5,2,   8.0995,2,    25.00,     1353
  49UP20081105,RF0811,  3233,  1,     20,  18574,2,20081107,1307, 30.0067, 137.0013, 4502,     26.1,  25.8519,  34.3168,2,-999.0000,9,    206.4,2,     1.51,2,     0.00,2,     0.00,2,     0.01,2,   1928.8,2,   8.0953,2,    25.00,     1352
  49UP20081105,RF0811,  3233,  1,     19,  18573,2,20081107,1307, 30.0067, 137.0013, 4502,     52.5,  25.0750,  34.3362,2,-999.0000,9,    207.8,2,     1.54,2,    -0.03,2,     0.03,2,     0.02,2,   1938.9,2,   8.0828,2,    25.00,     1351
  49UP20081105,RF0811,  3233,  1,     18,  18572,2,20081107,1307, 30.0067, 137.0013, 4502,     75.6,  23.3443,  34.6353,2,-999.0000,9,    208.7,2,     1.78,2,     0.21,2,     0.15,2,     0.06,2,   1975.9,2,   8.0497,2,    25.00,     1350
  49UP20081105,RF0811,  3233,  1,     17,  18571,2,20081107,1307, 30.0067, 137.0013, 4502,    101.6,  21.6380,  34.7272,2,  34.7295,2,    200.8,2,     2.20,2,     1.56,2,     0.05,2,     0.12,2,   1992.6,2,   8.0221,2,    25.00,     1349
  49UP20081105,RF0811,  3233,  1,     16,  18570,2,20081107,1307, 30.0067, 137.0013, 4502,    126.6,  20.6112,  34.7689,2,-999.0000,9,    203.1,2,     2.23,2,     1.92,2,     0.02,2,     0.14,2,   2005.1,2,   8.0140,2,    25.00,     1348
  49UP20081105,RF0811,  3233,  1,     15,  18569,2,20081107,1307, 30.0067, 137.0013, 4502,    151.3,  19.7987,  34.8019,2,-999.0000,9,    206.8,2,     2.13,2,     1.82,2,     0.01,2,     0.14,2,   2005.8,2,   8.0129,2,    25.00,     1347
  49UP20081105,RF0811,  3233,  1,     14,  18568,2,20081107,1307, 30.0067, 137.0013, 4502,    202.7,  18.9338,  34.8137,2,  34.8131,2,    211.0,2,     2.34,2,     2.39,2,     0.01,2,     0.16,2,   2002.3,2,   8.0101,2,    25.00,     1345
  49UP20081105,RF0811,  3233,  1,     13,  18567,2,20081107,1307, 30.0067, 137.0013, 4502,    252.7,  18.6509,  34.8152,2,-999.0000,9,    210.7,2,     2.60,2,     2.75,2,     0.01,2,     0.18,2,   2015.3,2,   8.0011,2,    25.00,     1344
  49UP20081105,RF0811,  3233,  1,     12,  18348,2,20081107,1307, 30.0067, 137.0013, 4502,    302.3,  18.0966,  34.7908,2,  34.7902,2,    208.4,2,     3.24,2,     3.68,2,     0.00,2,     0.23,2,   2024.7,2,   7.9869,2,    25.00,     1342
  49UP20081105,RF0811,  3233,  1,     11,  18565,2,20081107,1307, 30.0067, 137.0013, 4502,    404.5,  16.8692,  34.7256,2,-999.0000,9,    193.0,2,     6.26,2,     7.04,2,     0.00,2,     0.45,2,   2043.5,2,   7.9339,2,    25.00,     1340
  49UP20081105,RF0811,  3233,  1,     10,  18564,2,20081107,1307, 30.0067, 137.0013, 4502,    505.7,  14.6143,  34.5665,2,  34.5658,2,    183.0,2,    12.82,2,    11.53,2,     0.00,2,     0.76,2,   2081.6,2,   7.8629,2,    25.00,     1337
  49UP20081105,RF0811,  3233,  1,      9,  18563,2,20081107,1307, 30.0067, 137.0013, 4502,    606.7,  11.9961,  34.3920,2,-999.0000,9,    170.3,2,    23.85,2,    17.10,2,     0.00,2,     1.15,2,   2125.0,2,   7.7766,2,    25.00,     1335
  49UP20081105,RF0811,  3233,  1,      8,  18562,2,20081107,1307, 30.0067, 137.0013, 4502,    707.0,   9.6722,  34.2753,2,  34.2765,2,    149.4,2,    39.20,2,    23.03,2,     0.00,2,     1.59,2,   2165.6,2,   7.6836,2,    25.00,     1333
  49UP20081105,RF0811,  3233,  1,      7,  18561,2,20081107,1307, 30.0067, 137.0013, 4502,    808.6,   7.2001,  34.1816,2,-999.0000,9,    123.4,2,    60.23,2,    29.51,2,     0.00,2,     2.09,2,   2214.7,2,   7.5768,2,    25.00,     1330
  49UP20081105,RF0811,  3233,  1,      6,  18560,2,20081107,1307, 30.0067, 137.0013, 4502,    910.2,   5.6709,  34.2405,2,-999.0000,9,     90.3,2,    83.66,2,    34.83,2,     0.00,2,     2.48,2,   2274.0,2,   7.4903,2,    25.00,     1328
  49UP20081105,RF0811,  3233,  1,      5,  18559,2,20081107,1307, 30.0067, 137.0013, 4502,   1010.3,   4.6506,  34.3048,2,  34.3058,2,     71.3,2,   101.77,2,    37.94,2,     0.00,2,     2.72,2,   2308.1,2,   7.4426,2,    25.00,     1326
  49UP20081105,RF0811,  3233,  1,      4,  18558,2,20081107,1307, 30.0067, 137.0013, 4502,   1263.1,   3.3837,  34.4261,2,  34.4254,2,     63.9,2,   126.24,2,    40.22,2,     0.00,2,     2.88,2,   2333.5,2,   7.4319,2,    25.00,     1321
  49UP20081105,RF0811,  3233,  1,      3,  18557,2,20081107,1307, 30.0067, 137.0013, 4502,   1517.2,   2.6792,  34.5047,2,  34.5038,2,     70.1,2,   139.44,2,    40.54,2,     0.00,2,     2.88,2,   2356.8,2,   7.4390,2,    25.00,     1316
  49UP20081105,RF0811,  3233,  1,      2,  18556,2,20081107,1307, 30.0067, 137.0013, 4502,   1769.9,   2.2795,  34.5589,2,  34.5576,2,     83.4,2,   145.00,2,    40.05,2,     0.00,2,     2.84,2,   2359.4,6,   7.4618,2,    25.00,     1311
  49UP20081105,RF0811,  3233,  1,      1,  18555,2,20081107,1307, 30.0067, 137.0013, 4502,   2024.4,   2.0222,  34.5993,2,  34.5989,2,    103.8,2,   144.19,2,    38.87,2,     0.00,2,     2.74,2,   2344.4,2,   7.5024,6,    25.00,     1307
  49UP20081105,RF0811,  3235,  1,     99,     99,2,20081108,0208, 28.0092, 136.9933, 4188,      0.0,  26.7259,  34.2225,2,-999.0000,9,    202.2,2,     1.41,2,     0.00,2,     0.00,2,     0.00,2,   -999.0,9,-999.0000,9,  -999.00,      240
  49UP20081105,RF0811,  3235,  1,     21,  18575,2,20081108,0208, 28.0092, 136.9933, 4188,     11.5,  26.6810,  34.2219,2,-999.0000,9,    204.1,2,     1.38,2,     0.00,2,     0.00,2,     0.00,2,   -999.0,9,-999.0000,9,  -999.00,      256
  49UP20081105,RF0811,  3235,  1,     20,  18574,2,20081108,0208, 28.0092, 136.9933, 4188,     26.5,  26.6274,  34.2211,2,-999.0000,9,    204.5,2,     1.39,2,     0.00,2,     0.00,2,     0.00,2,   -999.0,9,-999.0000,9,  -999.00,      255
  49UP20081105,RF0811,  3235,  1,     19,  18573,2,20081108,0208, 28.0092, 136.9933, 4188,     51.7,  26.6213,  34.2207,2,-999.0000,9,    204.1,2,     1.31,2,     0.02,2,     0.00,2,     0.00,2,   -999.0,9,-999.0000,9,  -999.00,      254
  49UP20081105,RF0811,  3235,  1,     18,  18572,2,20081108,0208, 28.0092, 136.9933, 4188,     76.7,  24.7785,  34.5549,2,-999.0000,9,    192.8,2,     1.68,2,     0.39,2,     0.09,2,     0.05,2,   -999.0,9,-999.0000,9,  -999.00,      252
  49UP20081105,RF0811,  3235,  1,     17,  18571,2,20081108,0208, 28.0092, 136.9933, 4188,    101.7,  22.9601,  34.6702,2,-999.0000,9,    191.8,2,     2.15,2,     2.01,2,     0.03,2,     0.13,2,   -999.0,9,-999.0000,9,  -999.00,      251
  49UP20081105,RF0811,  3235,  1,     16,  18570,2,20081108,0208, 28.0092, 136.9933, 4188,    126.7,  21.6584,  34.7381,2,-999.0000,9,    196.1,2,     2.26,2,     2.32,2,     0.02,2,     0.14,2,   -999.0,9,-999.0000,9,  -999.00,      250
  49UP20081105,RF0811,  3235,  1,     15,  18569,2,20081108,0208, 28.0092, 136.9933, 4188,    152.4,  20.6034,  34.7807,2,-999.0000,9,    198.3,2,     2.44,2,     2.46,2,     0.01,2,     0.15,2,   -999.0,9,-999.0000,9,  -999.00,      249
  49UP20081105,RF0811,  3235,  1,     14,  18568,2,20081108,0208, 28.0092, 136.9933, 4188,    203.2,  19.3182,  34.8071,2,-999.0000,9,    204.1,2,     2.54,2,     2.80,2,     0.01,2,     0.17,2,   -999.0,9,-999.0000,9,  -999.00,      247
  49UP20081105,RF0811,  3235,  1,     13,  18567,2,20081108,0208, 28.0092, 136.9933, 4188,    252.7,  18.7455,  34.8078,2,-999.0000,9,    208.0,2,     2.55,2,     2.96,2,     0.01,2,     0.18,2,   -999.0,9,-999.0000,9,  -999.00,      245
  49UP20081105,RF0811,  3235,  1,     12,  18348,2,20081108,0208, 28.0092, 136.9933, 4188,    304.0,  18.0367,  34.7860,2,-999.0000,9,    207.5,2,     3.35,2,     4.03,2,     0.00,2,     0.23,2,   -999.0,9,-999.0000,9,  -999.00,      244
  49UP20081105,RF0811,  3235,  1,     11,  18565,2,20081108,0208, 28.0092, 136.9933, 4188,    405.0,  17.0133,  34.7443,2,-999.0000,9,    207.3,2,     4.79,2,     5.52,2,     0.00,2,     0.33,2,   -999.0,9,-999.0000,9,  -999.00,      241
  49UP20081105,RF0811,  3235,  1,     10,  18564,2,20081108,0208, 28.0092, 136.9933, 4188,    504.8,  14.6997,  34.5712,2,-999.0000,9,    184.9,2,    12.27,2,    11.41,2,     0.00,2,     0.72,2,   -999.0,9,-999.0000,9,  -999.00,      239
  49UP20081105,RF0811,  3235,  1,      9,  18563,2,20081108,0208, 28.0092, 136.9933, 4188,    606.2,  11.0821,  34.3271,2,-999.0000,9,    171.9,2,    26.95,2,    18.52,2,     0.00,2,     1.24,2,   -999.0,9,-999.0000,9,  -999.00,      236
  49UP20081105,RF0811,  3235,  1,      8,  18562,2,20081108,0208, 28.0092, 136.9933, 4188,    708.0,   8.0297,  34.1570,2,-999.0000,9,    147.2,2,    47.81,2,    25.98,2,     0.00,2,     1.82,2,   -999.0,9,-999.0000,9,  -999.00,      234
  49UP20081105,RF0811,  3235,  1,      7,  18561,2,20081108,0208, 28.0092, 136.9933, 4188,    808.0,   5.5858,  34.1168,2,-999.0000,9,    102.6,2,    76.58,2,    34.12,2,     0.00,2,     2.43,2,   -999.0,9,-999.0000,9,  -999.00,      231
  49UP20081105,RF0811,  3235,  1,      6,  18560,2,20081108,0208, 28.0092, 136.9933, 4188,    908.9,   4.8012,  34.1686,2,-999.0000,9,     78.2,2,    91.48,2,    37.27,2,     0.00,2,     2.66,2,   -999.0,9,-999.0000,9,  -999.00,      229
  49UP20081105,RF0811,  3235,  1,      5,  18559,2,20081108,0208, 28.0092, 136.9933, 4188,   1011.1,   4.2462,  34.2585,2,-999.0000,9,     61.3,2,   105.87,2,    39.38,2,     0.00,2,     2.82,2,   -999.0,9,-999.0000,9,  -999.00,      227
  49UP20081105,RF0811,  3235,  1,      4,  18558,2,20081108,0208, 28.0092, 136.9933, 4188,   1264.1,   3.1856,  34.4125,2,-999.0000,9,     51.5,2,   131.26,2,    41.41,2,     0.00,2,     2.96,2,   -999.0,9,-999.0000,9,  -999.00,      222
  49UP20081105,RF0811,  3235,  1,      3,  18557,2,20081108,0208, 28.0092, 136.9933, 4188,   1517.1,   2.5909,  34.5070,2,-999.0000,9,     65.7,2,   141.85,2,    41.05,2,     0.00,2,     2.91,2,   -999.0,9,-999.0000,9,  -999.00,      217
  49UP20081105,RF0811,  3235,  1,      2,  18556,2,20081108,0208, 28.0092, 136.9933, 4188,   1770.1,   2.2758,  34.5569,2,-999.0000,9,     82.7,2,   144.69,2,    40.21,2,     0.00,2,     2.83,2,   -999.0,9,-999.0000,9,  -999.00,      212
  49UP20081105,RF0811,  3235,  1,      1,  18555,2,20081108,0208, 28.0092, 136.9933, 4188,   2024.5,   2.0347,  34.5966,2,-999.0000,9,    101.8,2,   144.50,2,    39.23,2,     0.00,2,     2.75,2,   -999.0,9,-999.0000,9,  -999.00,      208