BOTTLE,20200117PRINUNIVRMK
EXPOCODE,SECT_ID,STNNBR,CASTNO,SAMPNO,BTLNBR,BTLNBR_FLAG_W,DATE,TIME,LATITUDE,LONGITUDE,DEPTH,CTDPRS,CTDTMP,CTDSAL,CTDSAL_FLAG_W,SALNTY,SALNTY_FLAG_W,OXYGEN,OXYGEN_FLAG_W,SILCAT,SILCAT_FLAG_W,NITRAT,NITRAT_FLAG_W,NITRIT,NITRIT_FLAG_W,PHSPHT,PHSPHT_FLAG_W,TCARBN,TCARBN_FLAG_W,PH_TOT,PH_TOT_FLAG_W,PH_TMP,BTL_TIME
,,,,,,,,,,,METERS,DBAR,ITS-90,PSS-78,,PSS-78,,UMOL/KG,,UMOL/KG,,UMOL/KG,,UMOL/KG,,UMOL/KG,,UMOL/KG,,,,DEG C,
  49UP20081105,RF0811,  3245,  1,     99,     99,2,20081110,1804, 18.0145, 136.9953, 4978,      0.0,  29.6325,  34.3962,2,-999.0000,9,    194.8,2,     0.80,2,     0.02,2,     0.00,2,     0.01,2,   -999.0,9,-999.0000,9,  -999.00,     1855
  49UP20081105,RF0811,  3245,  1,     21,  18575,2,20081110,1804, 18.0145, 136.9953, 4978,     11.5,  29.6393,  34.3967,2,-999.0000,9,    196.0,2,     0.75,2,     0.00,2,     0.00,2,     0.02,2,   -999.0,9,-999.0000,9,  -999.00,     1909
  49UP20081105,RF0811,  3245,  1,     20,  18574,2,20081110,1804, 18.0145, 136.9953, 4978,     24.7,  29.6458,  34.3963,2,-999.0000,9,    197.1,2,     0.72,2,     0.00,2,     0.00,2,     0.01,2,   -999.0,9,-999.0000,9,  -999.00,     1907
  49UP20081105,RF0811,  3245,  1,     19,  18573,2,20081110,1804, 18.0145, 136.9953, 4978,     52.2,  29.6507,  34.3961,2,-999.0000,9,    196.5,2,     0.77,2,     0.00,2,     0.00,2,     0.01,2,   -999.0,9,-999.0000,9,  -999.00,     1906
  49UP20081105,RF0811,  3245,  1,     18,  18572,2,20081110,1804, 18.0145, 136.9953, 4978,     76.2,  29.6526,  34.3952,2,-999.0000,9,    196.8,2,     0.73,2,     0.01,2,     0.00,2,     0.02,2,   -999.0,9,-999.0000,9,  -999.00,     1904
  49UP20081105,RF0811,  3245,  1,     17,  18571,2,20081110,1804, 18.0145, 136.9953, 4978,    101.1,  28.2683,  34.7009,2,-999.0000,9,    209.9,2,     0.76,2,     0.00,2,     0.00,2,     0.02,2,   -999.0,9,-999.0000,9,  -999.00,     1903
  49UP20081105,RF0811,  3245,  1,     16,  18570,2,20081110,1804, 18.0145, 136.9953, 4978,    126.0,  26.4665,  34.6732,2,-999.0000,9,    209.2,2,     0.81,2,     0.00,2,     0.00,2,     0.02,2,   -999.0,9,-999.0000,9,  -999.00,     1902
  49UP20081105,RF0811,  3245,  1,     15,  18569,2,20081110,1804, 18.0145, 136.9953, 4978,    151.0,  25.5685,  34.8997,2,-999.0000,9,    192.7,2,     0.89,2,     0.09,2,     0.08,2,     0.05,2,   -999.0,9,-999.0000,9,  -999.00,     1900
  49UP20081105,RF0811,  3245,  1,     14,  18568,2,20081110,1804, 18.0145, 136.9953, 4978,    203.2,  23.0359,  35.0445,2,-999.0000,9,    178.3,2,     1.44,2,     1.66,2,     0.02,2,     0.17,2,   -999.0,9,-999.0000,9,  -999.00,     1858
  49UP20081105,RF0811,  3245,  1,     13,  18567,2,20081110,1804, 18.0145, 136.9953, 4978,    253.7,  19.7422,  34.8859,2,-999.0000,9,    175.4,2,     3.38,2,     4.43,2,     0.01,2,     0.36,2,   -999.0,9,-999.0000,9,  -999.00,     1856
  49UP20081105,RF0811,  3245,  1,     12,  18348,2,20081110,1804, 18.0145, 136.9953, 4978,    304.0,  16.8275,  34.6793,2,-999.0000,9,    175.9,2,     6.08,2,     7.87,2,     0.01,2,     0.58,2,   -999.0,9,-999.0000,9,  -999.00,     1854
  49UP20081105,RF0811,  3245,  1,     11,  18565,2,20081110,1804, 18.0145, 136.9953, 4978,    404.5,  11.8275,  34.3270,2,-999.0000,9,    174.3,2,    17.92,2,    16.35,2,     0.00,2,     1.12,2,   -999.0,9,-999.0000,9,  -999.00,     1852
  49UP20081105,RF0811,  3245,  1,     10,  18564,2,20081110,1804, 18.0145, 136.9953, 4978,    503.8,   8.6876,  34.1943,2,-999.0000,9,    126.6,2,    38.43,2,    26.72,2,     0.00,2,     1.88,2,   -999.0,9,-999.0000,9,  -999.00,     1848
  49UP20081105,RF0811,  3245,  1,      9,  18563,2,20081110,1804, 18.0145, 136.9953, 4978,    606.3,   6.9247,  34.2241,2,-999.0000,9,     83.7,2,    59.30,2,    33.75,2,     0.00,2,     2.42,2,   -999.0,9,-999.0000,9,  -999.00,     1846
  49UP20081105,RF0811,  3245,  1,      8,  18562,2,20081110,1804, 18.0145, 136.9953, 4978,    707.7,   5.9565,  34.2842,2,-999.0000,9,     66.8,2,    73.90,2,    36.97,2,     0.00,2,     2.65,2,   -999.0,9,-999.0000,9,  -999.00,     1842
  49UP20081105,RF0811,  3245,  1,      7,  18561,2,20081110,1804, 18.0145, 136.9953, 4978,    807.9,   4.9787,  34.3793,2,-999.0000,9,     66.0,2,    91.46,2,    38.75,2,     0.00,2,     2.77,2,   -999.0,9,-999.0000,9,  -999.00,     1838
  49UP20081105,RF0811,  3245,  1,      6,  18560,2,20081110,1804, 18.0145, 136.9953, 4978,    909.5,   4.5002,  34.4495,2,-999.0000,9,     74.7,2,   100.51,2,    38.75,2,     0.00,2,     2.76,2,   -999.0,9,-999.0000,9,  -999.00,     1834
  49UP20081105,RF0811,  3245,  1,      5,  18559,2,20081110,1804, 18.0145, 136.9953, 4978,   1009.9,   3.9229,  34.5057,2,-999.0000,9,     83.4,2,   111.53,2,    38.84,2,     0.00,2,     2.75,2,   -999.0,9,-999.0000,9,  -999.00,     1829
  49UP20081105,RF0811,  3245,  1,      4,  18558,2,20081110,1804, 18.0145, 136.9953, 4978,   1263.5,   3.2258,  34.5556,2,-999.0000,9,     93.7,2,   122.80,2,    38.85,2,     0.00,2,     2.74,2,   -999.0,9,-999.0000,9,  -999.00,     1823
  49UP20081105,RF0811,  3245,  1,      3,  18557,2,20081110,1804, 18.0145, 136.9953, 4978,   1517.8,   2.6995,  34.5813,2,-999.0000,9,     99.6,2,   131.84,2,    39.01,2,     0.00,2,     2.74,2,   -999.0,9,-999.0000,9,  -999.00,     1816
  49UP20081105,RF0811,  3245,  1,      2,  18556,2,20081110,1804, 18.0145, 136.9953, 4978,   1770.5,   2.3550,  34.6054,2,-999.0000,9,    106.1,2,   136.97,2,    38.90,2,     0.00,2,     2.73,2,   -999.0,9,-999.0000,9,  -999.00,     1810
  49UP20081105,RF0811,  3245,  1,      1,  18555,2,20081110,1804, 18.0145, 136.9953, 4978,   2022.7,   2.0823,  34.6247,2,-999.0000,9,    113.8,2,   139.85,2,    38.75,2,     0.00,2,     2.69,2,   -999.0,9,-999.0000,9,  -999.00,     1804
  49UP20081105,RF0811,  3248,  1,     99,     99,2,20081111,1322, 15.0003, 136.9867, 5456,      0.0,  29.6513,  33.6228,2,-999.0000,9,    194.4,2,     0.55,2,     0.00,2,     0.00,2,     0.01,2,   -999.0,9,-999.0000,9,  -999.00,     1355
  49UP20081105,RF0811,  3248,  1,     21,  18575,2,20081111,1322, 15.0003, 136.9867, 5456,     12.3,  29.6611,  34.5114,2,  34.5098,2,    195.4,2,     0.56,2,     0.00,2,     0.00,2,     0.01,2,   1910.7,2,   8.1402,2,    25.00,     1411
  49UP20081105,RF0811,  3248,  1,     20,  18574,2,20081111,1322, 15.0003, 136.9867, 5456,     26.3,  29.6589,  34.5110,2,-999.0000,9,    196.3,2,     0.42,2,     0.02,2,     0.00,2,     0.02,2,   1909.7,2,   8.1418,2,    25.00,     1410
  49UP20081105,RF0811,  3248,  1,     19,  18573,2,20081111,1322, 15.0003, 136.9867, 5456,     52.1,  29.6273,  34.5078,2,-999.0000,9,    196.7,2,     0.39,2,     0.02,2,     0.00,2,     0.01,2,   1913.9,2,   7.6039,4,    25.00,     1409
  49UP20081105,RF0811,  3248,  1,     18,  18572,2,20081111,1322, 15.0003, 136.9867, 5456,     75.9,  28.2308,  34.7441,2,-999.0000,9,    209.4,2,     0.37,2,     0.00,2,     0.00,2,     0.02,2,   1934.9,2,   8.1240,2,    25.00,     1408
  49UP20081105,RF0811,  3248,  1,     17,  18571,2,20081111,1322, 15.0003, 136.9867, 5456,    102.6,  26.3806,  34.8674,2,  34.8707,2,    196.3,2,     0.56,2,     0.00,2,     0.01,2,     0.04,2,   1962.8,2,   8.0916,2,    25.00,     1407
  49UP20081105,RF0811,  3248,  1,     16,  18570,2,20081111,1322, 15.0003, 136.9867, 5456,    127.8,  25.2648,  34.9081,2,-999.0000,9,    189.1,2,     0.61,2,     0.44,2,     0.07,2,     0.07,2,   1990.3,2,   8.0671,2,    25.00,     1406
  49UP20081105,RF0811,  3248,  1,     15,  18569,2,20081111,1322, 15.0003, 136.9867, 5456,    152.1,  23.9028,  34.9469,2,-999.0000,9,    185.6,2,     0.80,2,     0.98,2,     0.03,2,     0.10,2,   1994.1,2,   8.0417,2,    25.00,     1405
  49UP20081105,RF0811,  3248,  1,     14,  18568,2,20081111,1322, 15.0003, 136.9867, 5456,    200.1,  19.7997,  34.8919,2,  34.8901,2,    211.6,2,     2.55,2,     3.78,2,     0.01,2,     0.30,2,   2041.3,2,   7.9583,2,    25.00,     1403
  49UP20081105,RF0811,  3248,  1,     13,  18567,2,20081111,1322, 15.0003, 136.9867, 5456,    252.5,  17.1809,  34.7350,2,-999.0000,9,    190.2,2,     4.47,2,     6.34,2,     0.00,2,     0.44,2,   2052.7,2,   7.9291,2,    25.00,     1402
  49UP20081105,RF0811,  3248,  1,     12,  18348,2,20081111,1322, 15.0003, 136.9867, 5456,    304.0,  14.5439,  34.5178,2,  34.5185,2,    173.0,2,    10.54,2,    11.84,2,     0.00,2,     0.84,2,   2089.7,2,   7.8311,2,    25.00,     1400
  49UP20081105,RF0811,  3248,  1,     11,  18565,2,20081111,1322, 15.0003, 136.9867, 5456,    402.8,  10.5451,  34.2602,2,  34.2619,2,    161.2,2,    24.32,2,    19.97,2,     0.00,2,     1.39,2,   2141.9,2,   7.7134,2,    25.00,     1357
  49UP20081105,RF0811,  3248,  1,     10,  18564,2,20081111,1322, 15.0003, 136.9867, 5456,    506.3,   7.3045,  34.2413,2,-999.0000,9,     86.4,2,    54.08,2,    32.67,2,     0.00,2,     2.36,2,   2241.3,2,   7.5081,2,    25.00,     1355
  49UP20081105,RF0811,  3248,  1,      9,  18563,2,20081111,1322, 15.0003, 136.9867, 5456,    607.5,   6.2706,  34.3654,2,  34.3609,2,     63.6,2,  -999.00,4,  -999.00,4,  -999.00,4,  -999.00,4,   2274.5,2,   7.4687,2,    25.00,     1352
  49UP20081105,RF0811,  3248,  1,      8,  18562,2,20081111,1322, 15.0003, 136.9867, 5456,    705.6,   5.6456,  34.4348,2,-999.0000,9,     66.8,2,    77.50,2,    37.67,2,     0.00,2,     2.73,2,   2291.9,2,   7.4687,2,    25.00,     1350
  49UP20081105,RF0811,  3248,  1,      7,  18561,2,20081111,1322, 15.0003, 136.9867, 5456,    808.2,   5.0232,  34.4892,2,  34.4902,2,     75.6,2,    86.21,2,    38.24,2,     0.00,2,     2.75,2,   2292.8,2,   7.4843,2,    25.00,     1347
  49UP20081105,RF0811,  3248,  1,      6,  18560,2,20081111,1322, 15.0003, 136.9867, 5456,    909.0,   4.5793,  34.5182,2,-999.0000,9,     81.5,2,    93.22,2,    38.46,2,     0.00,2,     2.76,2,   2305.7,2,   7.4902,2,    25.00,     1344
  49UP20081105,RF0811,  3248,  1,      5,  18559,2,20081111,1322, 15.0003, 136.9867, 5456,   1011.2,   4.2514,  34.5320,2,  34.5316,2,     83.6,2,    99.84,2,    38.66,2,     0.00,2,     2.77,2,   2313.7,2,   7.4945,2,    25.00,     1342
  49UP20081105,RF0811,  3248,  1,      4,  18558,2,20081111,1322, 15.0003, 136.9867, 5456,   1262.1,   3.3921,  34.5578,2,  34.5578,2,     92.0,2,   118.22,2,    38.87,2,     0.00,2,     2.77,2,   2327.0,2,   7.5028,2,    25.00,     1337
  49UP20081105,RF0811,  3248,  1,      3,  18557,2,20081111,1322, 15.0003, 136.9867, 5456,   1514.4,   2.7843,  34.5845,2,  34.5847,2,     99.3,2,   129.32,2,    38.83,2,     0.00,2,     2.76,2,   2340.6,2,   7.5082,2,    25.00,     1332
  49UP20081105,RF0811,  3248,  1,      2,  18556,2,20081111,1322, 15.0003, 136.9867, 5456,   1767.8,   2.4053,  34.6054,2,  34.6069,2,    105.0,2,   135.87,2,    38.89,2,     0.00,2,     2.75,2,   2344.2,2,   7.5141,2,    25.00,     1327
  49UP20081105,RF0811,  3248,  1,      1,  18555,2,20081111,1322, 15.0003, 136.9867, 5456,   2022.8,   2.1150,  34.6290,2,  34.6289,2,    114.2,2,   139.38,2,    38.57,2,     0.00,2,     2.71,2,   2344.0,2,   7.5305,2,    25.00,     1322
  49UP20081105,RF0811,  3250,  1,     99,     99,2,20081112,0205, 13.0037, 136.9853, 4803,      0.0,  29.6490,  34.4026,2,-999.0000,9,    193.2,2,     1.03,2,     0.00,2,     0.00,2,     0.06,2,   -999.0,9,-999.0000,9,  -999.00,      238
  49UP20081105,RF0811,  3250,  1,     21,  18575,2,20081112,0205, 13.0037, 136.9853, 4803,     12.0,  29.6050,  34.4029,2,-999.0000,9,    194.9,2,     0.94,2,     0.00,2,     0.00,2,     0.07,2,   -999.0,9,-999.0000,9,  -999.00,      256
  49UP20081105,RF0811,  3250,  1,     20,  18574,2,20081112,0205, 13.0037, 136.9853, 4803,     25.6,  29.5778,  34.4060,2,-999.0000,9,    195.3,2,     0.85,2,     0.00,2,     0.00,2,     0.06,2,   -999.0,9,-999.0000,9,  -999.00,      255
  49UP20081105,RF0811,  3250,  1,     19,  18573,2,20081112,0205, 13.0037, 136.9853, 4803,     51.7,  29.5697,  34.4038,2,-999.0000,9,    195.9,2,     0.92,2,     0.00,2,     0.00,2,     0.07,2,   -999.0,9,-999.0000,9,  -999.00,      253
  49UP20081105,RF0811,  3250,  1,     18,  18572,2,20081112,0205, 13.0037, 136.9853, 4803,     77.2,  29.1757,  34.8878,2,-999.0000,9,    207.8,2,     0.76,2,     0.00,2,     0.00,2,     0.06,2,   -999.0,9,-999.0000,9,  -999.00,      252
  49UP20081105,RF0811,  3250,  1,     17,  18571,2,20081112,0205, 13.0037, 136.9853, 4803,    100.5,  28.2136,  34.9114,2,-999.0000,9,    207.4,2,     0.74,2,     0.00,2,     0.00,2,     0.05,2,   -999.0,9,-999.0000,9,  -999.00,      250
  49UP20081105,RF0811,  3250,  1,     16,  18570,2,20081112,0205, 13.0037, 136.9853, 4803,    126.9,  26.5007,  34.9732,2,-999.0000,9,    192.9,2,     0.88,2,    -0.03,2,     0.03,2,     0.07,2,   -999.0,9,-999.0000,9,  -999.00,      249
  49UP20081105,RF0811,  3250,  1,     15,  18569,2,20081112,0205, 13.0037, 136.9853, 4803,    151.5,  24.9066,  35.0757,2,-999.0000,9,    182.9,2,     1.10,2,     0.40,2,     0.11,2,     0.12,2,   -999.0,9,-999.0000,9,  -999.00,      248
  49UP20081105,RF0811,  3250,  1,     14,  18568,2,20081112,0205, 13.0037, 136.9853, 4803,    202.0,  20.7221,  34.9558,2,-999.0000,9,    173.1,2,     2.76,2,     3.44,2,     0.01,2,     0.32,2,   -999.0,9,-999.0000,9,  -999.00,      246
  49UP20081105,RF0811,  3250,  1,     13,  18567,2,20081112,0205, 13.0037, 136.9853, 4803,    252.6,  15.0188,  34.5331,2,-999.0000,9,    166.4,2,    10.10,2,    11.37,2,     0.00,2,     0.81,2,   -999.0,9,-999.0000,9,  -999.00,      244
  49UP20081105,RF0811,  3250,  1,     12,  18348,2,20081112,0205, 13.0037, 136.9853, 4803,    303.1,  11.9836,  34.3869,2,-999.0000,9,    131.8,2,    20.81,2,    20.02,2,     0.00,2,     1.43,2,   -999.0,9,-999.0000,9,  -999.00,      243
  49UP20081105,RF0811,  3250,  1,     11,  18565,2,20081112,0205, 13.0037, 136.9853, 4803,    404.2,   8.8715,  34.3934,2,-999.0000,9,     82.2,2,    41.52,2,    30.81,2,     0.00,2,     2.19,2,   -999.0,9,-999.0000,9,  -999.00,      240
  49UP20081105,RF0811,  3250,  1,     10,  18564,2,20081112,0205, 13.0037, 136.9853, 4803,    504.5,   7.4208,  34.4576,2,-999.0000,9,     69.5,2,    53.79,2,    34.79,2,     0.00,2,     2.47,2,   -999.0,9,-999.0000,9,  -999.00,      238
  49UP20081105,RF0811,  3250,  1,      9,  18563,2,20081112,0205, 13.0037, 136.9853, 4803,    605.0,   6.6013,  34.4829,2,-999.0000,9,     72.7,2,    61.19,2,    36.27,2,     0.00,2,     2.57,2,   -999.0,9,-999.0000,9,  -999.00,      235
  49UP20081105,RF0811,  3250,  1,      8,  18562,2,20081112,0205, 13.0037, 136.9853, 4803,    707.5,   5.9722,  34.5029,2,-999.0000,9,     74.2,2,    68.56,2,    37.20,2,     0.00,2,     2.66,2,   -999.0,9,-999.0000,9,  -999.00,      232
  49UP20081105,RF0811,  3250,  1,      7,  18561,2,20081112,0205, 13.0037, 136.9853, 4803,    808.9,   5.3898,  34.5137,2,-999.0000,9,     78.5,2,    77.45,2,    37.86,2,     0.00,2,     2.69,2,   -999.0,9,-999.0000,9,  -999.00,      230
  49UP20081105,RF0811,  3250,  1,      6,  18560,2,20081112,0205, 13.0037, 136.9853, 4803,    908.4,   5.0035,  34.5294,2,-999.0000,9,     74.6,2,    84.82,2,    38.75,2,     0.00,2,     2.77,2,   -999.0,9,-999.0000,9,  -999.00,      227
  49UP20081105,RF0811,  3250,  1,      5,  18559,2,20081112,0205, 13.0037, 136.9853, 4803,   1011.1,   4.5978,  34.5358,2,-999.0000,9,     80.3,2,    92.36,2,    38.78,2,     0.00,2,     2.76,2,   -999.0,9,-999.0000,9,  -999.00,      225
  49UP20081105,RF0811,  3250,  1,      4,  18558,2,20081112,0205, 13.0037, 136.9853, 4803,   1263.5,   3.6698,  34.5635,2,-999.0000,9,     88.3,2,   109.99,2,    38.89,2,     0.00,2,     2.76,2,   -999.0,9,-999.0000,9,  -999.00,      220
  49UP20081105,RF0811,  3250,  1,      3,  18557,2,20081112,0205, 13.0037, 136.9853, 4803,   1516.3,   2.9501,  34.5832,2,-999.0000,9,     96.7,2,   124.83,2,    38.85,2,     0.00,2,     2.74,2,   -999.0,9,-999.0000,9,  -999.00,      214
  49UP20081105,RF0811,  3250,  1,      2,  18556,2,20081112,0205, 13.0037, 136.9853, 4803,   1769.2,   2.5619,  34.6088,2,-999.0000,9,    102.9,2,   130.75,2,    38.78,2,     0.00,2,     2.73,2,   -999.0,9,-999.0000,9,  -999.00,      209
  49UP20081105,RF0811,  3250,  1,      1,  18555,2,20081112,0205, 13.0037, 136.9853, 4803,   2021.9,   2.2545,  34.6269,2,-999.0000,9,    112.2,2,   135.66,2,    38.53,2,     0.00,2,     2.69,2,   -999.0,9,-999.0000,9,  -999.00,      205