BOTTLE,20200117PRINUNIVRMK
EXPOCODE,SECT_ID,STNNBR,CASTNO,SAMPNO,BTLNBR,BTLNBR_FLAG_W,DATE,TIME,LATITUDE,LONGITUDE,DEPTH,CTDPRS,CTDTMP,CTDSAL,CTDSAL_FLAG_W,SALNTY,SALNTY_FLAG_W,OXYGEN,OXYGEN_FLAG_W,SILCAT,SILCAT_FLAG_W,NITRAT,NITRAT_FLAG_W,NITRIT,NITRIT_FLAG_W,PHSPHT,PHSPHT_FLAG_W,TCARBN,TCARBN_FLAG_W,PH_TOT,PH_TOT_FLAG_W,PH_TMP,BTL_TIME
,,,,,,,,,,,METERS,DBAR,ITS-90,PSS-78,,PSS-78,,UMOL/KG,,UMOL/KG,,UMOL/KG,,UMOL/KG,,UMOL/KG,,UMOL/KG,,,,DEG C,
  49UP20081105,RF0811,  3238,  1,     99,     99,2,20081108,2024, 24.9990, 136.9837, 5354,      0.0,  28.0475,  34.3565,2,-999.0000,9,    199.4,2,     0.85,2,     0.00,2,     0.00,2,     0.01,2,   -999.0,9,-999.0000,9,  -999.00,     2105
  49UP20081105,RF0811,  3238,  1,     21,  18575,2,20081108,2024, 24.9990, 136.9837, 5354,     10.9,  28.0422,  34.3709,2,  34.3921,4,    201.2,2,     0.88,2,     0.11,2,     0.00,2,     0.01,2,   1926.3,2,   8.1126,2,    25.00,     2117
  49UP20081105,RF0811,  3238,  1,     20,  18574,2,20081108,2024, 24.9990, 136.9837, 5354,     26.1,  27.7607,  34.5519,2,-999.0000,9,    203.0,2,     0.90,2,     0.01,2,     0.00,2,     0.01,2,   1931.3,2,   8.1098,2,    25.00,     2116
  49UP20081105,RF0811,  3238,  1,     19,  18573,2,20081108,2024, 24.9990, 136.9837, 5354,     52.5,  26.7337,  34.6227,2,-999.0000,9,    215.8,2,     0.98,2,     0.00,2,     0.00,2,     0.01,2,   1945.3,2,   8.1017,2,    25.00,     2115
  49UP20081105,RF0811,  3238,  1,     18,  18572,2,20081108,2024, 24.9990, 136.9837, 5354,     77.2,  24.5112,  34.7500,2,-999.0000,9,    223.3,2,     0.83,2,     0.00,2,     0.00,2,     0.01,2,   -999.0,9,   8.0833,2,    25.00,     2113
  49UP20081105,RF0811,  3238,  1,     17,  18571,2,20081108,2024, 24.9990, 136.9837, 5354,    101.3,  22.2192,  34.8537,2,  34.8568,2,    213.1,2,     1.13,2,     0.07,2,     0.02,2,     0.02,2,   1988.1,2,   8.0472,2,    25.00,     2112
  49UP20081105,RF0811,  3238,  1,     16,  18570,2,20081108,2024, 24.9990, 136.9837, 5354,    126.4,  20.5796,  34.8591,2,-999.0000,9,    206.5,2,     1.69,2,     0.45,2,     0.07,2,     0.09,2,   2001.4,2,   8.0197,2,    25.00,     2111
  49UP20081105,RF0811,  3238,  1,     15,  18569,2,20081108,2024, 24.9990, 136.9837, 5354,    152.5,  19.5282,  34.8451,2,-999.0000,9,    198.9,2,     1.94,2,     2.55,2,     0.01,2,     0.17,2,   2015.9,2,   7.9938,2,    25.00,     2109
  49UP20081105,RF0811,  3238,  1,     14,  18568,2,20081108,2024, 24.9990, 136.9837, 5354,    203.0,  18.5193,  34.8190,2,  34.8179,2,    194.9,2,     2.79,2,     4.37,2,     0.00,2,     0.28,2,   2021.0,2,   7.9702,2,    25.00,     2107
  49UP20081105,RF0811,  3238,  1,     13,  18567,2,20081108,2024, 24.9990, 136.9837, 5354,    252.1,  17.7339,  34.7828,2,-999.0000,9,    194.1,2,     3.89,2,     5.48,2,     0.00,2,     0.35,2,   2038.7,2,   7.9536,2,    25.00,     2105
  49UP20081105,RF0811,  3238,  1,     12,  18348,2,20081108,2024, 24.9990, 136.9837, 5354,    304.1,  16.7276,  34.7207,2,  34.7213,2,    192.6,2,     5.50,2,     7.24,2,     0.00,2,     0.46,2,   2050.1,2,   7.9287,2,    25.00,     2104
  49UP20081105,RF0811,  3238,  1,     11,  18565,2,20081108,2024, 24.9990, 136.9837, 5354,    405.9,  14.2999,  34.5370,2,  34.5373,2,    185.7,2,    11.78,2,    11.70,2,     0.00,2,     0.76,2,   2082.2,2,   7.8588,2,    25.00,     2101
  49UP20081105,RF0811,  3238,  1,     10,  18564,2,20081108,2024, 24.9990, 136.9837, 5354,    506.2,  11.5514,  34.3438,2,-999.0000,9,    174.1,2,    22.45,2,    17.46,2,     0.00,2,     1.18,2,   2119.9,2,   7.7663,2,    25.00,     2058
  49UP20081105,RF0811,  3238,  1,      9,  18563,2,20081108,2024, 24.9990, 136.9837, 5354,    607.3,   8.6915,  34.1853,2,  34.1865,2,    148.5,2,    40.13,2,    24.67,2,     0.00,2,     1.71,2,   2177.6,2,   7.6526,2,    25.00,     2056
  49UP20081105,RF0811,  3238,  1,      8,  18562,2,20081108,2024, 24.9990, 136.9837, 5354,    707.6,   6.3878,  34.1357,2,-999.0000,9,    107.2,2,    64.91,2,    32.40,2,     0.00,2,     2.31,2,   2242.9,2,   7.5224,2,    25.00,     2053
  49UP20081105,RF0811,  3238,  1,      7,  18561,2,20081108,2024, 24.9990, 136.9837, 5354,    807.2,   5.3943,  34.1730,2,  34.1734,2,     84.5,2,    81.35,2,    35.86,2,     0.00,2,     2.57,2,   2277.4,2,   7.4650,2,    25.00,     2050
  49UP20081105,RF0811,  3238,  1,      6,  18560,2,20081108,2024, 24.9990, 136.9837, 5354,    908.8,   4.4683,  34.2598,2,-999.0000,9,     62.2,2,   100.49,2,    39.04,2,     0.00,2,     2.81,2,   2313.8,2,   7.4161,2,    25.00,     2048
  49UP20081105,RF0811,  3238,  1,      5,  18559,2,20081108,2024, 24.9990, 136.9837, 5354,   1009.4,   3.9546,  34.3326,2,  34.3322,2,     55.3,2,   112.15,2,    40.38,2,     0.00,2,     2.90,2,   2333.3,2,   7.4046,2,    25.00,     2045
  49UP20081105,RF0811,  3238,  1,      4,  18558,2,20081108,2024, 24.9990, 136.9837, 5354,   1263.7,   3.0340,  34.4545,2,  34.4538,2,     61.8,2,   131.98,2,    40.87,2,     0.00,2,     2.92,2,   2351.3,2,   7.4212,2,    25.00,     2040
  49UP20081105,RF0811,  3238,  1,      3,  18557,2,20081108,2024, 24.9990, 136.9837, 5354,   1518.8,   2.4962,  34.5379,2,  34.5355,2,     81.1,2,   139.47,2,    40.11,2,     0.00,2,     2.84,2,   2348.3,2,   7.4600,2,    25.00,     2035
  49UP20081105,RF0811,  3238,  1,      2,  18556,2,20081108,2024, 24.9990, 136.9837, 5354,   1769.8,   2.2135,  34.5813,2,  34.5810,2,     98.5,2,   141.04,2,    39.16,2,     0.00,2,     2.79,2,   2345.8,6,   7.4933,2,    25.00,     2029
  49UP20081105,RF0811,  3238,  1,      1,  18555,2,20081108,2024, 24.9990, 136.9837, 5354,   2035.8,   1.9978,  34.6124,2,  34.6121,2,    112.7,2,   141.26,2,    38.50,2,     0.00,2,     2.72,2,   2344.4,2,   7.5192,6,    25.00,     2024
  49UP20081105,RF0811,  3240,  1,     99,     99,2,20081109,0919, 23.0082, 136.9857, 2667,      0.0,  29.0882,  34.5352,2,-999.0000,9,    197.4,2,     1.02,2,     0.00,2,     0.00,2,     0.09,2,   -999.0,9,-999.0000,9,  -999.00,     1005
  49UP20081105,RF0811,  3240,  1,     21,  18575,2,20081109,0919, 23.0082, 136.9857, 2667,     12.0,  29.0989,  34.5347,2,-999.0000,9,    198.2,2,     1.01,2,     0.00,2,     0.00,2,     0.10,2,   -999.0,9,-999.0000,9,  -999.00,     1011
  49UP20081105,RF0811,  3240,  1,     20,  18574,2,20081109,0919, 23.0082, 136.9857, 2667,     26.4,  29.0840,  34.5448,2,-999.0000,9,    199.5,2,     1.04,2,     0.00,2,     0.00,2,     0.09,2,   -999.0,9,-999.0000,9,  -999.00,     1010
  49UP20081105,RF0811,  3240,  1,     19,  18573,2,20081109,0919, 23.0082, 136.9857, 2667,     51.2,  25.5686,  34.7625,2,-999.0000,9,    228.3,2,     1.30,2,     0.00,2,     0.00,2,     0.06,2,   -999.0,9,-999.0000,9,  -999.00,     1008
  49UP20081105,RF0811,  3240,  1,     18,  18572,2,20081109,0919, 23.0082, 136.9857, 2667,     76.6,  22.2861,  34.7379,2,-999.0000,9,    219.0,2,     1.69,2,     0.00,2,     0.00,2,     0.08,2,   -999.0,9,-999.0000,9,  -999.00,     1007
  49UP20081105,RF0811,  3240,  1,     17,  18571,2,20081109,0919, 23.0082, 136.9857, 2667,    103.0,  20.3136,  34.7875,2,-999.0000,9,    209.3,2,     2.08,2,     0.95,2,     0.09,2,     0.17,2,   -999.0,9,-999.0000,9,  -999.00,     1006
  49UP20081105,RF0811,  3240,  1,     16,  18570,2,20081109,0919, 23.0082, 136.9857, 2667,    128.0,  19.3089,  34.8013,2,-999.0000,9,    204.9,2,     2.52,2,     2.58,2,     0.02,2,     0.23,2,   -999.0,9,-999.0000,9,  -999.00,     1005
  49UP20081105,RF0811,  3240,  1,     15,  18569,2,20081109,0919, 23.0082, 136.9857, 2667,    152.9,  18.7712,  34.8091,2,-999.0000,9,    204.6,2,     2.86,2,     3.17,2,     0.01,2,     0.25,2,   -999.0,9,-999.0000,9,  -999.00,     1004
  49UP20081105,RF0811,  3240,  1,     14,  18568,2,20081109,0919, 23.0082, 136.9857, 2667,    202.9,  18.0804,  34.7907,2,-999.0000,9,    204.6,2,     3.48,2,     4.09,2,     0.01,2,     0.36,2,   -999.0,9,-999.0000,9,  -999.00,     1002
  49UP20081105,RF0811,  3240,  1,     13,  18567,2,20081109,0919, 23.0082, 136.9857, 2667,    253.9,  17.6059,  34.7726,2,-999.0000,9,    204.1,2,     4.00,2,     4.85,2,     0.01,2,     0.42,2,   -999.0,9,-999.0000,9,  -999.00,     1000
  49UP20081105,RF0811,  3240,  1,     12,  18348,2,20081109,0919, 23.0082, 136.9857, 2667,    306.4,  16.5953,  34.7110,2,-999.0000,9,    195.9,2,     6.17,2,     7.11,2,     0.00,2,     0.55,2,   -999.0,9,-999.0000,9,  -999.00,      959
  49UP20081105,RF0811,  3240,  1,     11,  18565,2,20081109,0919, 23.0082, 136.9857, 2667,    405.6,  13.6750,  34.4875,2,-999.0000,9,    186.3,2,    13.50,2,    12.48,2,     0.00,2,     0.94,2,   -999.0,9,-999.0000,9,  -999.00,      956
  49UP20081105,RF0811,  3240,  1,     10,  18564,2,20081109,0919, 23.0082, 136.9857, 2667,    506.8,  10.4397,  34.2636,2,-999.0000,9,    169.1,2,    27.20,2,    19.58,2,     0.00,2,     1.46,2,   -999.0,9,-999.0000,9,  -999.00,      954
  49UP20081105,RF0811,  3240,  1,      9,  18563,2,20081109,0919, 23.0082, 136.9857, 2667,    606.3,   7.6183,  34.1403,2,-999.0000,9,    130.8,2,    49.63,2,    28.06,2,     0.00,2,     2.23,2,   -999.0,9,-999.0000,9,  -999.00,      951
  49UP20081105,RF0811,  3240,  1,      8,  18562,2,20081109,0919, 23.0082, 136.9857, 2667,    708.3,   5.9973,  34.1520,2,-999.0000,9,     91.0,2,    70.45,2,    34.29,2,     0.00,2,     2.39,2,   -999.0,9,-999.0000,9,  -999.00,      948
  49UP20081105,RF0811,  3240,  1,      7,  18561,2,20081109,0919, 23.0082, 136.9857, 2667,    809.3,   4.9447,  34.2288,2,-999.0000,9,     67.0,2,    90.40,2,    38.00,2,     0.00,2,     2.67,2,   -999.0,9,-999.0000,9,  -999.00,      945
  49UP20081105,RF0811,  3240,  1,      6,  18560,2,20081109,0919, 23.0082, 136.9857, 2667,    911.7,   4.2756,  34.3263,2,-999.0000,9,     56.2,2,   104.76,2,    39.84,2,     0.00,2,     2.81,2,   -999.0,9,-999.0000,9,  -999.00,      943
  49UP20081105,RF0811,  3240,  1,      5,  18559,2,20081109,0919, 23.0082, 136.9857, 2667,   1011.9,   3.6925,  34.3779,2,-999.0000,9,     54.9,2,   118.01,2,    40.62,2,     0.00,2,     2.87,2,   -999.0,9,-999.0000,9,  -999.00,      940
  49UP20081105,RF0811,  3240,  1,      4,  18558,2,20081109,0919, 23.0082, 136.9857, 2667,   1263.1,   2.8943,  34.4845,2,-999.0000,9,     67.0,2,   134.01,2,    40.67,2,     0.00,2,     2.86,2,   -999.0,9,-999.0000,9,  -999.00,      935
  49UP20081105,RF0811,  3240,  1,      3,  18557,2,20081109,0919, 23.0082, 136.9857, 2667,   1517.9,   2.4664,  34.5570,2,-999.0000,9,     89.2,2,   138.08,2,    39.58,2,     0.00,2,     2.79,2,   -999.0,9,-999.0000,9,  -999.00,      930
  49UP20081105,RF0811,  3240,  1,      2,  18556,2,20081109,0919, 23.0082, 136.9857, 2667,   1769.0,   2.2200,  34.5966,2,-999.0000,9,    105.6,2,   138.95,2,    38.71,2,     0.00,2,     2.71,2,   -999.0,9,-999.0000,9,  -999.00,      924
  49UP20081105,RF0811,  3240,  1,      1,  18555,2,20081109,0919, 23.0082, 136.9857, 2667,   2033.3,   1.9674,  34.6265,2,-999.0000,9,    118.2,2,   140.45,2,    38.17,2,     0.00,2,     2.69,2,   -999.0,9,-999.0000,9,  -999.00,      919
  49UP20081105,RF0811,  3243,  1,     99,     99,2,20081110,0450, 20.0073, 136.9927, 4740,      0.0,  29.4109,  34.1993,2,-999.0000,9,    197.5,2,     1.11,2,     0.00,2,     0.00,2,     0.00,2,   -999.0,9,-999.0000,9,  -999.00,      532
  49UP20081105,RF0811,  3243,  1,     21,  18575,2,20081110,0450, 20.0073, 136.9927, 4740,     11.1,  29.4025,  34.1966,2,  34.1936,2,    197.1,2,     1.09,2,     0.00,2,     0.00,2,     0.01,2,   1902.5,2,   8.1263,2,    25.00,      544
  49UP20081105,RF0811,  3243,  1,     20,  18574,2,20081110,0450, 20.0073, 136.9927, 4740,     26.7,  29.3027,  34.2014,2,-999.0000,9,    198.4,2,     1.10,2,     0.00,2,     0.00,2,     0.00,2,   1901.9,2,   8.1285,2,    25.00,      543
  49UP20081105,RF0811,  3243,  1,     19,  18573,2,20081110,0450, 20.0073, 136.9927, 4740,     51.3,  29.2905,  34.2033,2,-999.0000,9,    198.3,2,     1.03,2,     0.00,2,     0.00,2,     0.00,2,   1904.8,2,   8.1301,2,    25.00,      542
  49UP20081105,RF0811,  3243,  1,     18,  18572,2,20081110,0450, 20.0073, 136.9927, 4740,     76.8,  28.4273,  34.5089,2,-999.0000,9,    214.4,2,     1.02,2,     0.00,2,     0.00,2,     0.01,2,   1918.1,2,   8.1228,2,    25.00,      540
  49UP20081105,RF0811,  3243,  1,     17,  18571,2,20081110,0450, 20.0073, 136.9927, 4740,    101.4,  24.9729,  34.9002,2,  34.8997,2,    216.0,2,     1.05,2,     0.00,2,     0.00,2,     0.00,2,   1963.5,2,   8.0929,2,    25.00,      538
  49UP20081105,RF0811,  3243,  1,     16,  18570,2,20081110,0450, 20.0073, 136.9927, 4740,    126.9,  23.1397,  34.8804,2,-999.0000,9,    194.7,2,     1.27,2,    -0.04,2,     0.04,2,     0.03,2,   1988.2,2,   8.0446,2,    25.00,      537
  49UP20081105,RF0811,  3243,  1,     15,  18569,2,20081110,0450, 20.0073, 136.9927, 4740,    152.6,  22.0101,  34.9511,2,-999.0000,9,    184.0,2,     1.67,2,     1.39,2,     0.03,2,     0.12,2,   2016.0,2,   8.0093,2,    25.00,      535
  49UP20081105,RF0811,  3243,  1,     14,  18568,2,20081110,0450, 20.0073, 136.9927, 4740,    202.5,  19.6649,  34.8648,2,  34.8634,2,    192.2,2,     2.53,2,     3.00,2,     0.01,2,     0.20,2,   2024.1,2,   7.9877,2,    25.00,      534
  49UP20081105,RF0811,  3243,  1,     13,  18567,2,20081110,0450, 20.0073, 136.9927, 4740,    254.1,  18.1869,  34.8023,2,-999.0000,9,    196.7,2,     3.47,2,     4.46,2,     0.00,2,     0.27,2,   2031.0,2,   7.9676,2,    25.00,      532
  49UP20081105,RF0811,  3243,  1,     12,  18348,2,20081110,0450, 20.0073, 136.9927, 4740,    303.8,  16.7770,  34.7221,2,  34.7215,2,    192.3,2,     5.52,2,     6.82,2,     0.00,2,     0.42,2,   2048.4,2,   7.9279,2,    25.00,      530
  49UP20081105,RF0811,  3243,  1,     11,  18565,2,20081110,0450, 20.0073, 136.9927, 4740,    404.6,  13.5623,  34.4610,2,  34.4619,2,    182.7,2,    12.72,2,    12.57,2,     0.00,2,     0.82,2,   2087.2,2,   7.8298,2,    25.00,      527
  49UP20081105,RF0811,  3243,  1,     10,  18564,2,20081110,0450, 20.0073, 136.9927, 4740,    504.4,   9.8339,  34.2283,2,-999.0000,9,    149.3,2,    28.98,2,    22.32,2,     0.00,2,     1.51,2,   2156.7,2,   7.6740,2,    25.00,      525
  49UP20081105,RF0811,  3243,  1,      9,  18563,2,20081110,0450, 20.0073, 136.9927, 4740,    607.4,   7.1908,  34.1788,2,  34.1769,2,     99.6,2,    54.11,2,    31.57,2,     0.00,2,     2.18,2,   2226.4,2,   7.5293,2,    25.00,      522
  49UP20081105,RF0811,  3243,  1,      8,  18562,2,20081110,0450, 20.0073, 136.9927, 4740,    709.1,   5.7445,  34.2048,2,-999.0000,9,     69.2,2,    74.64,2,    36.70,2,     0.00,2,     2.55,2,   2272.7,2,   7.4456,2,    25.00,      519
  49UP20081105,RF0811,  3243,  1,      7,  18561,2,20081110,0450, 20.0073, 136.9927, 4740,    810.5,   4.8809,  34.3251,2,  34.3238,2,     60.2,2,    91.61,2,    39.09,2,     0.00,2,     2.72,2,   2305.3,2,   7.4296,2,    25.00,      516
  49UP20081105,RF0811,  3243,  1,      6,  18560,2,20081110,0450, 20.0073, 136.9927, 4740,    911.0,   4.2552,  34.4176,2,-999.0000,9,     61.7,2,   104.13,2,    39.76,2,     0.00,2,     2.76,2,   2320.7,2,   7.4393,2,    25.00,      513
  49UP20081105,RF0811,  3243,  1,      5,  18559,2,20081110,0450, 20.0073, 136.9927, 4740,   1013.0,   3.8561,  34.4741,2,  34.4730,2,     69.5,2,   111.59,2,    39.61,2,     0.00,2,     2.74,2,   2327.1,2,   7.4550,2,    25.00,      510
  49UP20081105,RF0811,  3243,  1,      4,  18558,2,20081110,0450, 20.0073, 136.9927, 4740,   1262.4,   3.0706,  34.5315,2,  34.5308,2,     81.9,2,   127.32,2,    39.49,2,     0.00,2,     2.71,2,   2335.4,2,   7.4745,2,    25.00,      505
  49UP20081105,RF0811,  3243,  1,      3,  18557,2,20081110,0450, 20.0073, 136.9927, 4740,   1516.9,   2.6313,  34.5727,2,  34.5729,2,     94.7,2,   133.39,2,    38.97,2,     0.00,2,     2.66,2,   2336.6,2,   7.4954,2,    25.00,      500
  49UP20081105,RF0811,  3243,  1,      2,  18556,2,20081110,0450, 20.0073, 136.9927, 4740,   1770.6,   2.3599,  34.6041,2,  34.6040,2,    105.9,2,   136.02,2,    38.58,2,     0.00,2,     2.61,2,   2338.8,6,   7.5160,2,    25.00,      455
  49UP20081105,RF0811,  3243,  1,      1,  18555,2,20081110,0450, 20.0073, 136.9927, 4740,   2022.2,   2.0922,  34.6228,2,  34.6228,2,    113.8,2,   139.41,2,    38.38,2,     0.00,2,     2.57,2,   2341.0,2,   7.5278,2,    25.00,      450