BOTTLE,20200117PRINUNIVRMK
EXPOCODE,SECT_ID,STNNBR,CASTNO,SAMPNO,BTLNBR,BTLNBR_FLAG_W,DATE,TIME,LATITUDE,LONGITUDE,DEPTH,CTDPRS,CTDTMP,CTDSAL,CTDSAL_FLAG_W,SALNTY,SALNTY_FLAG_W,OXYGEN,OXYGEN_FLAG_W,SILCAT,SILCAT_FLAG_W,NITRAT,NITRAT_FLAG_W,NITRIT,NITRIT_FLAG_W,PHSPHT,PHSPHT_FLAG_W,TCARBN,TCARBN_FLAG_W,PH_TOT,PH_TOT_FLAG_W,PH_TMP,BTL_TIME
,,,,,,,,,,,METERS,DBAR,ITS-90,PSS-78,,PSS-78,,UMOL/KG,,UMOL/KG,,UMOL/KG,,UMOL/KG,,UMOL/KG,,UMOL/KG,,,,DEG C,
  49UP20081105,RF0811,  3253,  1,     99,     99,2,20081112,2215, 10.0075, 136.9858, 4732,      0.0,  29.3099,  34.1164,2,-999.0000,9,    194.2,2,     0.76,2,     0.01,2,     0.00,2,     0.08,2,   -999.0,9,-999.0000,9,  -999.00,     2249
  49UP20081105,RF0811,  3253,  1,     21,  18575,2,20081112,2215, 10.0075, 136.9858, 4732,     11.4,  29.3031,  34.1135,2,  34.1137,2,    195.7,2,     0.72,2,     0.00,2,     0.00,2,     0.07,2,   1895.2,2,   8.1257,2,    25.00,     2306
  49UP20081105,RF0811,  3253,  1,     20,  18574,2,20081112,2215, 10.0075, 136.9858, 4732,     26.3,  29.3055,  34.1148,2,-999.0000,9,    195.8,2,     0.73,2,     0.00,2,     0.00,2,     0.07,2,   1798.0,3,   8.1278,2,    25.00,     2305
  49UP20081105,RF0811,  3253,  1,     19,  18573,2,20081112,2215, 10.0075, 136.9858, 4732,     51.4,  29.4241,  34.1998,2,-999.0000,9,    196.7,2,     0.74,2,     0.00,2,     0.00,2,     0.07,2,   1908.6,2,   8.1261,2,    25.00,     2304
  49UP20081105,RF0811,  3253,  1,     18,  18572,2,20081112,2215, 10.0075, 136.9858, 4732,     76.5,  28.8949,  34.7197,2,-999.0000,9,    205.9,2,     0.75,2,     0.00,2,     0.00,2,     0.08,2,   1939.2,2,   8.1149,2,    25.00,     2303
  49UP20081105,RF0811,  3253,  1,     17,  18571,2,20081112,2215, 10.0075, 136.9858, 4732,    102.0,  27.6843,  34.8195,2,  34.8420,4,    200.9,2,     0.83,2,     0.02,2,     0.00,2,     0.09,2,   1957.2,2,   8.0949,2,    25.00,     2301
  49UP20081105,RF0811,  3253,  1,     16,  18570,2,20081112,2215, 10.0075, 136.9858, 4732,    127.5,  24.4450,  34.9546,2,-999.0000,9,    182.3,2,     1.64,2,     1.09,2,     0.16,2,     0.20,2,   2009.4,2,   8.0241,2,    25.00,     2300
  49UP20081105,RF0811,  3253,  1,     15,  18569,2,20081112,2215, 10.0075, 136.9858, 4732,    151.8,  20.2650,  34.8484,2,-999.0000,9,    165.9,2,     4.40,2,     5.61,2,     0.02,2,     0.48,2,   2057.6,2,   7.9223,2,    25.00,     2259
  49UP20081105,RF0811,  3253,  1,     14,  18568,2,20081112,2215, 10.0075, 136.9858, 4732,    203.0,  14.2943,  34.5461,2,  34.5435,2,    135.2,2,    15.69,2,    16.60,2,     0.00,2,     1.17,2,   2126.5,2,   7.7617,2,    25.00,     2257
  49UP20081105,RF0811,  3253,  1,     13,  18567,2,20081112,2215, 10.0075, 136.9858, 4732,    253.3,  12.5480,  34.5112,2,-999.0000,9,    110.2,2,    22.36,2,    22.06,2,     0.00,2,     1.55,2,   2163.0,2,   7.6789,2,    25.00,     2255
  49UP20081105,RF0811,  3253,  1,     12,  18348,2,20081112,2215, 10.0075, 136.9858, 4732,    304.8,  10.5609,  34.4797,2,  34.4813,2,     90.1,2,    31.05,2,    27.54,2,     0.00,2,     1.94,2,   2193.3,2,   7.5991,2,    25.00,     2254
  49UP20081105,RF0811,  3253,  1,     11,  18565,2,20081112,2215, 10.0075, 136.9858, 4732,    404.5,   7.9845,  34.4439,2,  34.4424,2,     77.8,2,    48.46,2,    33.27,2,     0.00,2,     2.34,2,   2162.5,3,   7.5241,2,    25.00,     2251
  49UP20081105,RF0811,  3253,  1,     10,  18564,2,20081112,2215, 10.0075, 136.9858, 4732,    506.1,   7.0028,  34.4442,2,-999.0000,9,     76.5,2,    57.68,2,    35.05,2,     0.00,2,     2.48,2,   2255.6,2,   7.5058,2,    25.00,     2248
  49UP20081105,RF0811,  3253,  1,      9,  18563,2,20081112,2215, 10.0075, 136.9858, 4732,    607.2,   6.4905,  34.4920,2,  34.4904,2,     77.7,2,    61.01,2,    36.15,2,     0.00,2,     2.56,2,   2265.8,2,   7.5057,2,    25.00,     2246
  49UP20081105,RF0811,  3253,  1,      8,  18562,2,20081112,2215, 10.0075, 136.9858, 4732,    708.1,   5.8604,  34.5052,2,-999.0000,9,     79.9,2,    68.99,2,    37.21,2,     0.00,2,     2.64,2,   2278.0,2,   7.4972,2,    25.00,     2243
  49UP20081105,RF0811,  3253,  1,      7,  18561,2,20081112,2215, 10.0075, 136.9858, 4732,    808.8,   5.4078,  34.5228,2,  34.5223,2,     83.6,2,    75.46,2,    37.75,2,     0.00,2,     2.67,2,   2285.3,2,   7.5015,2,    25.00,     2240
  49UP20081105,RF0811,  3253,  1,      6,  18560,2,20081112,2215, 10.0075, 136.9858, 4732,    910.8,   4.8942,  34.5398,2,-999.0000,9,     84.7,2,    84.51,2,    38.18,2,     0.00,2,     2.71,2,   2293.6,2,   7.4996,2,    25.00,     2238
  49UP20081105,RF0811,  3253,  1,      5,  18559,2,20081112,2215, 10.0075, 136.9858, 4732,   1011.9,   4.4712,  34.5474,2,  34.5469,2,     84.0,2,    93.03,2,    38.72,2,     0.00,2,     2.76,2,   2307.2,2,   7.4951,2,    25.00,     2235
  49UP20081105,RF0811,  3253,  1,      4,  18558,2,20081112,2215, 10.0075, 136.9858, 4732,   1264.2,   3.4512,  34.5730,2,  34.5735,2,     89.1,2,   114.43,2,    39.27,2,     0.00,2,     2.79,2,   2316.4,2,   7.4961,2,    25.00,     2230
  49UP20081105,RF0811,  3253,  1,      3,  18557,2,20081112,2215, 10.0075, 136.9858, 4732,   1514.7,   2.8589,  34.5943,2,  34.5944,2,     97.0,2,   126.11,2,    39.19,2,     0.00,2,     2.77,2,   2333.1,2,   7.5025,2,    25.00,     2225
  49UP20081105,RF0811,  3253,  1,      2,  18556,2,20081112,2215, 10.0075, 136.9858, 4732,   1768.6,   2.4333,  34.6197,2,  34.6196,2,    109.2,2,   132.25,2,    38.66,2,     0.00,2,     2.72,2,   2337.9,6,   7.5228,2,    25.00,     2220
  49UP20081105,RF0811,  3253,  1,      1,  18555,2,20081112,2215, 10.0075, 136.9858, 4732,   2021.4,   2.1221,  34.6356,2,  34.6363,2,    116.8,2,   137.87,2,    38.32,2,     0.00,2,     2.68,2,   2335.3,2,   7.5341,6,    25.00,     2215
  49UP20081105,RF0811,  3255,  1,     99,     99,2,20081113,1334,  8.0092, 136.9830, 3351,      0.0,  29.3168,  33.8703,2,-999.0000,9,    193.8,2,     1.07,2,     0.00,2,     0.00,2,     0.06,2,   -999.0,9,-999.0000,9,  -999.00,     1410
  49UP20081105,RF0811,  3255,  1,     21,  18575,2,20081113,1334,  8.0092, 136.9830, 3351,     11.5,  29.3712,  33.9349,2,-999.0000,9,    195.3,2,     0.98,2,     0.00,2,     0.00,2,     0.07,2,   -999.0,9,-999.0000,9,  -999.00,     1427
  49UP20081105,RF0811,  3255,  1,     20,  18574,2,20081113,1334,  8.0092, 136.9830, 3351,     26.9,  29.4151,  33.9859,2,-999.0000,9,    196.3,2,     0.92,2,     0.00,2,     0.00,2,     0.07,2,   -999.0,9,-999.0000,9,  -999.00,     1426
  49UP20081105,RF0811,  3255,  1,     19,  18573,2,20081113,1334,  8.0092, 136.9830, 3351,     51.2,  28.7650,  34.7210,2,-999.0000,9,    206.1,2,     0.86,2,     0.00,2,     0.00,2,     0.08,2,   -999.0,9,-999.0000,9,  -999.00,     1424
  49UP20081105,RF0811,  3255,  1,     18,  18572,2,20081113,1334,  8.0092, 136.9830, 3351,     74.5,  27.6839,  34.8050,2,-999.0000,9,    203.4,2,     0.77,2,     0.00,2,     0.00,2,     0.09,2,   -999.0,9,-999.0000,9,  -999.00,     1423
  49UP20081105,RF0811,  3255,  1,     17,  18571,2,20081113,1334,  8.0092, 136.9830, 3351,    102.3,  26.0383,  34.8281,2,-999.0000,9,    189.4,2,     1.39,2,     0.31,2,     0.06,2,     0.17,2,   -999.0,9,-999.0000,9,  -999.00,     1422
  49UP20081105,RF0811,  3255,  1,     16,  18570,2,20081113,1334,  8.0092, 136.9830, 3351,    125.3,  23.5457,  34.8953,2,-999.0000,9,    177.9,2,     2.03,2,     1.64,2,     0.17,2,     0.26,2,   -999.0,9,-999.0000,9,  -999.00,     1421
  49UP20081105,RF0811,  3255,  1,     15,  18569,2,20081113,1334,  8.0092, 136.9830, 3351,    152.0,  19.2857,  34.7556,2,-999.0000,9,    158.1,2,     6.02,2,     7.36,2,     0.02,2,     0.59,2,   -999.0,9,-999.0000,9,  -999.00,     1419
  49UP20081105,RF0811,  3255,  1,     14,  18568,2,20081113,1334,  8.0092, 136.9830, 3351,    200.9,  13.1545,  34.5384,2,-999.0000,9,    112.9,2,    20.69,2,    20.85,2,     0.00,2,     1.48,2,   -999.0,9,-999.0000,9,  -999.00,     1417
  49UP20081105,RF0811,  3255,  1,     13,  18567,2,20081113,1334,  8.0092, 136.9830, 3351,    252.8,  11.4088,  34.5166,2,-999.0000,9,     91.0,2,    27.37,2,    25.91,2,     0.00,2,     1.83,2,   -999.0,9,-999.0000,9,  -999.00,     1416
  49UP20081105,RF0811,  3255,  1,     12,  18348,2,20081113,1334,  8.0092, 136.9830, 3351,    302.6,  10.0521,  34.5656,2,-999.0000,9,     61.8,2,    33.75,2,    31.36,2,     0.00,2,     2.21,2,   -999.0,9,-999.0000,9,  -999.00,     1414
  49UP20081105,RF0811,  3255,  1,     11,  18565,2,20081113,1334,  8.0092, 136.9830, 3351,    404.0,   8.3522,  34.5570,2,-999.0000,9,     68.8,2,    42.21,2,    33.86,2,     0.00,2,     2.38,2,   -999.0,9,-999.0000,9,  -999.00,     1412
  49UP20081105,RF0811,  3255,  1,     10,  18564,2,20081113,1334,  8.0092, 136.9830, 3351,    504.9,   7.6075,  34.5455,2,-999.0000,9,     71.9,2,    47.56,2,    35.00,2,     0.00,2,     2.46,2,   -999.0,9,-999.0000,9,  -999.00,     1409
  49UP20081105,RF0811,  3255,  1,      9,  18563,2,20081113,1334,  8.0092, 136.9830, 3351,    605.3,   6.8697,  34.5321,2,-999.0000,9,     76.8,2,    55.14,2,    35.82,2,     0.00,2,     2.53,2,   -999.0,9,-999.0000,9,  -999.00,     1406
  49UP20081105,RF0811,  3255,  1,      8,  18562,2,20081113,1334,  8.0092, 136.9830, 3351,    705.8,   6.4593,  34.5266,2,-999.0000,9,     79.3,2,    59.47,2,    36.25,2,     0.00,2,     2.57,2,   -999.0,9,-999.0000,9,  -999.00,     1404
  49UP20081105,RF0811,  3255,  1,      7,  18561,2,20081113,1334,  8.0092, 136.9830, 3351,    807.9,   5.6221,  34.5314,2,-999.0000,9,     80.3,2,    71.82,2,    37.52,2,     0.00,2,     2.66,2,   -999.0,9,-999.0000,9,  -999.00,     1401
  49UP20081105,RF0811,  3255,  1,      6,  18560,2,20081113,1334,  8.0092, 136.9830, 3351,    909.1,   5.1737,  34.5363,2,-999.0000,9,     81.4,2,    79.40,2,    38.04,2,     0.00,2,     2.71,2,   -999.0,9,-999.0000,9,  -999.00,     1359
  49UP20081105,RF0811,  3255,  1,      5,  18559,2,20081113,1334,  8.0092, 136.9830, 3351,   1009.2,   4.5139,  34.5509,2,-999.0000,9,     84.3,2,    91.50,2,    38.54,2,     0.00,2,     2.75,2,   -999.0,9,-999.0000,9,  -999.00,     1356
  49UP20081105,RF0811,  3255,  1,      4,  18558,2,20081113,1334,  8.0092, 136.9830, 3351,   1262.1,   3.4746,  34.5786,2,-999.0000,9,     93.4,2,   111.57,2,    38.75,2,     0.00,2,     2.76,2,   -999.0,9,-999.0000,9,  -999.00,     1351
  49UP20081105,RF0811,  3255,  1,      3,  18557,2,20081113,1334,  8.0092, 136.9830, 3351,   1515.0,   2.8635,  34.6012,2,-999.0000,9,    102.0,2,   121.56,2,    38.44,2,     0.00,2,     2.71,2,   -999.0,9,-999.0000,9,  -999.00,     1345
  49UP20081105,RF0811,  3255,  1,      2,  18556,2,20081113,1334,  8.0092, 136.9830, 3351,   1768.1,   2.4950,  34.6201,2,-999.0000,9,    107.8,2,   130.00,2,    38.58,2,     0.00,2,     2.72,2,   -999.0,9,-999.0000,9,  -999.00,     1340
  49UP20081105,RF0811,  3255,  1,      1,  18555,2,20081113,1334,  8.0092, 136.9830, 3351,   2022.0,   2.1390,  34.6378,2,-999.0000,9,    117.7,2,   135.94,2,    38.13,2,     0.00,2,     2.67,2,   -999.0,9,-999.0000,9,  -999.00,     1334
  49UP20081105,RF0811,  3258,  1,     99,     99,2,20081114,1821,  4.9953, 137.0052, 5213,      0.0,  29.6419,  33.1553,2,-999.0000,9,    195.9,2,     1.05,2,     0.00,2,     0.00,2,     0.00,2,   -999.0,9,-999.0000,9,  -999.00,     1905
  49UP20081105,RF0811,  3258,  1,     21,  18575,2,20081114,1821,  4.9953, 137.0052, 5213,     11.0,  29.6949,  33.2398,2,  33.2449,4,    196.3,2,     0.96,2,     0.00,2,     0.00,2,     0.01,2,   -999.0,9,-999.0000,9,  -999.00,     1918
  49UP20081105,RF0811,  3258,  1,     20,  18574,2,20081114,1821,  4.9953, 137.0052, 5213,     26.5,  29.7068,  33.2466,2,-999.0000,9,    197.9,2,     0.96,2,     0.00,2,     0.00,2,     0.01,2,   -999.0,9,-999.0000,9,  -999.00,     1917
  49UP20081105,RF0811,  3258,  1,     19,  18573,2,20081114,1821,  4.9953, 137.0052, 5213,     52.2,  30.0514,  34.0245,2,-999.0000,9,    206.0,2,     0.79,2,     0.00,2,     0.00,2,     0.03,2,   -999.0,9,-999.0000,9,  -999.00,     1915
  49UP20081105,RF0811,  3258,  1,     18,  18572,2,20081114,1821,  4.9953, 137.0052, 5213,     75.8,  28.5949,  34.4349,2,-999.0000,9,    194.1,2,     1.09,2,     0.00,2,     0.00,2,     0.09,2,   -999.0,9,-999.0000,9,  -999.00,     1914
  49UP20081105,RF0811,  3258,  1,     17,  18571,2,20081114,1821,  4.9953, 137.0052, 5213,    102.0,  25.9908,  34.6415,2,  34.6458,2,    170.5,2,     2.19,2,     0.61,2,     0.20,2,     0.22,2,   -999.0,9,-999.0000,9,  -999.00,     1912
  49UP20081105,RF0811,  3258,  1,     16,  18570,2,20081114,1821,  4.9953, 137.0052, 5213,    126.3,  22.9480,  34.7640,2,-999.0000,9,    156.3,2,     4.03,2,     4.84,2,     0.13,2,     0.46,2,   -999.0,9,-999.0000,9,  -999.00,     1911
  49UP20081105,RF0811,  3258,  1,     15,  18569,2,20081114,1821,  4.9953, 137.0052, 5213,    152.1,  18.2853,  34.7145,2,-999.0000,9,    140.1,2,     9.44,2,    11.38,2,     0.01,2,     0.84,2,   -999.0,9,-999.0000,9,  -999.00,     1909
  49UP20081105,RF0811,  3258,  1,     14,  18568,2,20081114,1821,  4.9953, 137.0052, 5213,    202.4,  11.5498,  34.5579,2,  34.5615,2,     79.5,2,    26.77,2,    26.78,2,     0.00,2,     1.90,2,   -999.0,9,-999.0000,9,  -999.00,     1907
  49UP20081105,RF0811,  3258,  1,     13,  18567,2,20081114,1821,  4.9953, 137.0052, 5213,    252.8,   9.8899,  34.5657,2,-999.0000,9,     64.4,2,    34.38,2,    31.36,2,     0.00,2,     2.22,2,   -999.0,9,-999.0000,9,  -999.00,     1906
  49UP20081105,RF0811,  3258,  1,     12,  18348,2,20081114,1821,  4.9953, 137.0052, 5213,    302.9,   8.9488,  34.5367,2,  34.5358,2,     76.1,2,    39.25,2,    32.03,2,     0.00,2,     2.25,2,   -999.0,9,-999.0000,9,  -999.00,     1903
  49UP20081105,RF0811,  3258,  1,     11,  18565,2,20081114,1821,  4.9953, 137.0052, 5213,    404.1,   8.0122,  34.5668,2,  34.5677,2,     92.4,2,    40.32,2,    32.66,2,     0.00,2,     2.28,2,   -999.0,9,-999.0000,9,  -999.00,     1901
  49UP20081105,RF0811,  3258,  1,     10,  18564,2,20081114,1821,  4.9953, 137.0052, 5213,    505.3,   7.2258,  34.5530,2,-999.0000,9,     96.9,2,    44.20,2,    33.91,2,     0.00,2,     2.38,2,   -999.0,9,-999.0000,9,  -999.00,     1858
  49UP20081105,RF0811,  3258,  1,      9,  18563,3,20081114,1821,  4.9953, 137.0052, 5213,    605.5,   6.8633,  34.5434,2,  34.5441,3,    111.5,3,    44.06,3,    33.37,3,     0.00,3,     2.34,3,   -999.0,9,-999.0000,9,  -999.00,     1855
  49UP20081105,RF0811,  3258,  1,      8,  18562,2,20081114,1821,  4.9953, 137.0052, 5213,    707.0,   6.3321,  34.5334,2,-999.0000,9,     92.3,2,    55.92,2,    35.74,2,     0.00,2,     2.53,2,   -999.0,9,-999.0000,9,  -999.00,     1852
  49UP20081105,RF0811,  3258,  1,      7,  18561,2,20081114,1821,  4.9953, 137.0052, 5213,    807.2,   5.8978,  34.5339,2,  34.5334,2,     94.6,2,    61.42,2,    36.26,2,     0.00,2,     2.57,2,   -999.0,9,-999.0000,9,  -999.00,     1849
  49UP20081105,RF0811,  3258,  1,      6,  18560,2,20081114,1821,  4.9953, 137.0052, 5213,    907.6,   5.4561,  34.5373,2,-999.0000,9,     91.4,2,    69.58,2,    37.15,2,     0.00,2,     2.64,2,   -999.0,9,-999.0000,9,  -999.00,     1846
  49UP20081105,RF0811,  3258,  1,      5,  18559,2,20081114,1821,  4.9953, 137.0052, 5213,   1009.6,   4.7536,  34.5470,2,  34.5480,2,     88.2,2,    85.65,2,    38.05,2,     0.00,2,     2.71,2,   -999.0,9,-999.0000,9,  -999.00,     1843
  49UP20081105,RF0811,  3258,  1,      4,  18558,2,20081114,1821,  4.9953, 137.0052, 5213,   1261.9,   3.7038,  34.5742,2,  34.5750,2,     91.7,2,   106.67,2,    38.85,2,     0.00,2,     2.77,2,   -999.0,9,-999.0000,9,  -999.00,     1838
  49UP20081105,RF0811,  3258,  1,      3,  18557,2,20081114,1821,  4.9953, 137.0052, 5213,   1515.5,   2.9382,  34.6012,2,  34.6048,2,    102.9,2,   120.58,2,    38.72,2,     0.00,2,     2.74,2,   -999.0,9,-999.0000,9,  -999.00,     1833
  49UP20081105,RF0811,  3258,  1,      2,  18556,2,20081114,1821,  4.9953, 137.0052, 5213,   1768.8,   2.5223,  34.6204,2,  34.6256,2,    109.7,2,   127.31,2,    38.48,2,     0.00,2,     2.72,2,   -999.0,9,-999.0000,9,  -999.00,     1827
  49UP20081105,RF0811,  3258,  1,      1,  18555,2,20081114,1821,  4.9953, 137.0052, 5213,   2023.3,   2.2240,  34.6348,2,  34.6358,2,    116.1,2,   134.29,2,    38.32,2,     0.00,2,     2.69,2,   -999.0,9,-999.0000,9,  -999.00,     1821