BOTTLE,20200109PRINUNIVRMK
EXPOCODE,SECT_ID,STNNBR,CASTNO,SAMPNO,BTLNBR,BTLNBR_FLAG_W,DATE,TIME,LATITUDE,LONGITUDE,DEPTH,CTDPRS,CTDTMP,CTDSAL,CTDSAL_FLAG_W,SALNTY,SALNTY_FLAG_W,OXYGEN,OXYGEN_FLAG_W,SILCAT,SILCAT_FLAG_W,NITRAT,NITRAT_FLAG_W,NITRIT,NITRIT_FLAG_W,PHSPHT,PHSPHT_FLAG_W,TCARBN,TCARBN_FLAG_W,ALKALI,ALKALI_FLAG_W,PH_TOT,PH_TOT_FLAG_W,PH_TMP,BTL_TIME
,,,,,,,,,,,METERS,DBAR,ITS-90,PSS-78,,PSS-78,,UMOL/KG,,UMOL/KG,,UMOL/KG,,UMOL/KG,,UMOL/KG,,UMOL/KG,,UMOL/KG,,,,DEG C,
  49UP20170201,RF1702,  5985,  1,     99,     99,2,20170209,0338, 18.0038, 165.0010, 5432,      0.0,  27.5283,  34.5266,2,-999.0000,9,    200.9,2,     1.03,2,     0.03,2,     0.00,2,     0.08,2,   -999.0,9,   -999.0,9,-999.0000,9,  -999.00,      405
  49UP20170201,RF1702,  5985,  1,     33,  25842,2,20170209,0338, 18.0038, 165.0010, 5432,      9.9,  27.4853,  34.5254,2,-999.0000,9,    200.9,2,     1.03,2,     0.02,2,     0.00,2,     0.07,2,   -999.0,9,   -999.0,9,-999.0000,9,  -999.00,      432
  49UP20170201,RF1702,  5985,  1,     32,  25841,2,20170209,0338, 18.0038, 165.0010, 5432,     25.8,  27.2637,  34.5211,2,-999.0000,9,    201.3,2,     1.03,2,     0.02,2,     0.00,2,     0.07,2,   -999.0,9,   -999.0,9,-999.0000,9,  -999.00,      430
  49UP20170201,RF1702,  5985,  1,     31,  25840,2,20170209,0338, 18.0038, 165.0010, 5432,     50.7,  27.2854,  34.5878,2,-999.0000,9,    201.8,2,     0.99,2,     0.02,2,     0.00,2,     0.06,2,   -999.0,9,   -999.0,9,-999.0000,9,  -999.00,      427
  49UP20170201,RF1702,  5985,  1,     30,  25839,2,20170209,0338, 18.0038, 165.0010, 5432,     77.9,  27.1465,  34.8968,2,-999.0000,9,    203.3,2,     0.99,2,     0.02,2,     0.00,2,     0.03,2,   -999.0,9,   -999.0,9,-999.0000,9,  -999.00,      426
  49UP20170201,RF1702,  5985,  1,     29,  25838,2,20170209,0338, 18.0038, 165.0010, 5432,    101.0,  26.2381,  35.1667,2,-999.0000,9,    210.9,2,     1.08,2,     0.02,2,     0.00,2,     0.04,2,   -999.0,9,   -999.0,9,-999.0000,9,  -999.00,      425
  49UP20170201,RF1702,  5985,  1,     28,  25837,2,20170209,0338, 18.0038, 165.0010, 5432,    124.9,  24.7271,  35.3324,2,-999.0000,9,    205.9,2,     1.26,2,     0.00,2,     0.00,2,     0.04,2,   -999.0,9,   -999.0,9,-999.0000,9,  -999.00,      424
  49UP20170201,RF1702,  5985,  1,     24,  25833,2,20170209,0338, 18.0038, 165.0010, 5432,    150.3,  22.3814,  35.2626,2,-999.0000,9,    195.4,2,     1.70,2,     0.56,2,     0.09,2,     0.12,2,   -999.0,9,   -999.0,9,-999.0000,9,  -999.00,      423
  49UP20170201,RF1702,  5985,  1,     22,  25831,2,20170209,0338, 18.0038, 165.0010, 5432,    202.3,  18.3497,  34.9119,2,-999.0000,9,    196.6,2,     3.16,2,     3.30,2,     0.01,2,     0.27,2,   -999.0,9,   -999.0,9,-999.0000,9,  -999.00,      421
  49UP20170201,RF1702,  5985,  1,     23,  25832,2,20170209,0338, 18.0038, 165.0010, 5432,    203.5,  18.5530,  34.9184,2,-999.0000,9,    196.2,2,     3.07,2,     3.19,2,     0.01,2,     0.26,2,   -999.0,9,   -999.0,9,-999.0000,9,  -999.00,      421
  49UP20170201,RF1702,  5985,  1,     21,  25830,2,20170209,0338, 18.0038, 165.0010, 5432,    250.3,  16.1267,  34.6610,2,-999.0000,9,    202.9,2,     5.30,2,     6.04,2,     0.00,2,     0.42,2,   -999.0,9,   -999.0,9,-999.0000,9,  -999.00,      420
  49UP20170201,RF1702,  5985,  1,     20,  25829,2,20170209,0338, 18.0038, 165.0010, 5432,    300.4,  14.3688,  34.4794,2,-999.0000,9,    193.1,6,     9.16,6,     9.72,6,     0.00,6,     0.69,6,   -999.0,9,   -999.0,9,-999.0000,9,  -999.00,      418
  49UP20170201,RF1702,  5985,  1,     19,  25828,2,20170209,0338, 18.0038, 165.0010, 5432,    350.9,  12.1373,  34.3045,2,-999.0000,9,    176.0,2,    15.80,2,    14.87,2,     0.00,2,     1.08,2,   -999.0,9,   -999.0,9,-999.0000,9,  -999.00,      417
  49UP20170201,RF1702,  5985,  1,     15,  25824,2,20170209,0338, 18.0038, 165.0010, 5432,    402.1,  10.2783,  34.2180,2,-999.0000,9,    148.6,2,    24.78,2,    20.57,2,     0.00,2,     1.51,2,   -999.0,9,   -999.0,9,-999.0000,9,  -999.00,      415
  49UP20170201,RF1702,  5985,  1,     14,  25823,2,20170209,0338, 18.0038, 165.0010, 5432,    452.7,   9.2007,  34.1825,2,-999.0000,9,    129.9,2,    33.74,2,    24.75,2,     0.00,2,     1.81,2,   -999.0,9,   -999.0,9,-999.0000,9,  -999.00,      414
  49UP20170201,RF1702,  5985,  1,     13,  25822,2,20170209,0338, 18.0038, 165.0010, 5432,    505.5,   7.9140,  34.1674,2,-999.0000,9,    103.7,2,    44.91,2,    29.37,2,     0.00,2,     2.14,2,   -999.0,9,   -999.0,9,-999.0000,9,  -999.00,      412
  49UP20170201,RF1702,  5985,  1,     12,  25821,2,20170209,0338, 18.0038, 165.0010, 5432,    607.9,   6.3174,  34.2380,2,-999.0000,9,     64.7,2,    66.96,2,    36.17,2,     0.00,2,     2.62,2,   -999.0,9,   -999.0,9,-999.0000,9,  -999.00,      410
  49UP20170201,RF1702,  5985,  1,     11,  25820,3,20170209,0338, 18.0038, 165.0010, 5432,    702.7,   5.5710,  34.3700,2,-999.0000,9,     59.2,2,    79.30,2,    38.29,2,     0.00,2,     2.76,2,   -999.0,9,   -999.0,9,-999.0000,9,  -999.00,      407
  49UP20170201,RF1702,  5985,  1,     10,  25819,2,20170209,0338, 18.0038, 165.0010, 5432,    809.6,   4.9446,  34.4489,2,-999.0000,9,     70.1,2,    90.59,2,    38.45,2,     0.00,2,     2.76,2,   -999.0,9,   -999.0,9,-999.0000,9,  -999.00,      405
  49UP20170201,RF1702,  5985,  1,      8,  25817,2,20170209,0338, 18.0038, 165.0010, 5432,    908.0,   4.4830,  34.4918,2,-999.0000,9,     74.8,2,    98.14,2,    38.79,2,     0.00,2,     2.77,2,   -999.0,9,   -999.0,9,-999.0000,9,  -999.00,      402
  49UP20170201,RF1702,  5985,  1,      7,  25816,2,20170209,0338, 18.0038, 165.0010, 5432,   1006.9,   4.0127,  34.5063,2,-999.0000,9,     76.6,2,   107.63,2,    39.22,2,     0.00,2,     2.80,2,   -999.0,9,   -999.0,9,-999.0000,9,  -999.00,      400
  49UP20170201,RF1702,  5985,  1,      6,  25815,2,20170209,0338, 18.0038, 165.0010, 5432,   1210.3,   3.3642,  34.5506,2,-999.0000,9,     83.5,2,   120.10,2,    39.52,2,     0.00,2,     2.81,2,   -999.0,9,   -999.0,9,-999.0000,9,  -999.00,      355
  49UP20170201,RF1702,  5985,  1,      5,  25814,2,20170209,0338, 18.0038, 165.0010, 5432,   1412.2,   2.9241,  34.5752,2,-999.0000,9,     85.3,2,   129.11,2,    39.93,2,     0.00,2,     2.83,2,   -999.0,9,   -999.0,9,-999.0000,9,  -999.00,      351
  49UP20170201,RF1702,  5985,  1,      4,  25813,2,20170209,0338, 18.0038, 165.0010, 5432,   1412.3,   2.9195,  34.5752,2,-999.0000,9,     85.3,2,   129.33,2,    39.91,2,     0.00,2,     2.83,2,   -999.0,9,   -999.0,9,-999.0000,9,  -999.00,      351
  49UP20170201,RF1702,  5985,  1,      3,  25812,2,20170209,0338, 18.0038, 165.0010, 5432,   1614.6,   2.5794,  34.5932,2,-999.0000,9,     90.5,2,   135.98,2,    39.75,2,     0.00,2,     2.81,2,   -999.0,9,   -999.0,9,-999.0000,9,  -999.00,      347
  49UP20170201,RF1702,  5985,  1,      2,  25811,2,20170209,0338, 18.0038, 165.0010, 5432,   1817.8,   2.3157,  34.6082,2,-999.0000,9,     96.8,6,   141.52,6,    39.52,6,     0.00,6,     2.78,6,   -999.0,9,   -999.0,9,-999.0000,9,  -999.00,      343
  49UP20170201,RF1702,  5985,  1,      1,  25810,3,20170209,0338, 18.0038, 165.0010, 5432,   2021.6,   2.0767,  34.6232,2,-999.0000,9,    103.9,2,   145.64,2,    39.13,2,     0.00,2,     2.75,2,   -999.0,9,   -999.0,9,-999.0000,9,  -999.00,      338
  49UP20170201,RF1702,  5986,  1,     99,     99,2,20170209,2025, 15.0023, 164.9707, 5193,      0.0,  27.3430,  34.2482,2,  34.2544,2,    201.2,2,     0.97,2,     0.02,2,     0.00,2,     0.10,2,   1940.0,2,   2253.1,2,   8.0989,2,    25.00,     2205
  49UP20170201,RF1702,  5986,  1,     36,  25845,2,20170209,2025, 15.0023, 164.9707, 5193,     10.0,  27.3292,  34.2484,2,  34.2487,2,    201.2,2,     0.99,2,     0.02,2,     0.00,2,     0.09,2,   1936.6,2,   2252.5,2,   8.0958,2,    25.00,     2235
  49UP20170201,RF1702,  5986,  1,     35,  25844,2,20170209,2025, 15.0023, 164.9707, 5193,     24.4,  27.3197,  34.2497,2,-999.0000,9,    201.2,2,     0.99,2,     0.02,2,     0.00,2,     0.09,2,   1935.2,2,   2253.4,2,   8.0980,2,    25.00,     2234
  49UP20170201,RF1702,  5986,  1,     34,  25843,2,20170209,2025, 15.0023, 164.9707, 5193,     49.9,  27.3406,  34.3089,2,  34.3086,2,    201.1,6,     0.99,6,     0.03,6,     0.00,6,     0.09,6,   1937.5,2,   2258.1,2,   8.0938,2,    25.00,     2230
  49UP20170201,RF1702,  5986,  1,     33,  25842,2,20170209,2025, 15.0023, 164.9707, 5193,     73.9,  27.3136,  34.3098,2,  34.3089,2,    201.3,2,     0.96,2,     0.02,2,     0.00,2,     0.09,2,   1936.8,2,   2257.2,2,   8.0947,2,    25.00,     2229
  49UP20170201,RF1702,  5986,  1,     32,  25841,2,20170209,2025, 15.0023, 164.9707, 5193,    100.5,  27.3665,  34.3492,2,  34.3471,2,    201.3,2,     0.98,2,     0.01,2,     0.00,2,     0.09,2,   1940.1,2,   2259.0,2,   8.0984,2,    25.00,     2228
  49UP20170201,RF1702,  5986,  1,     31,  25840,2,20170209,2025, 15.0023, 164.9707, 5193,    125.3,  27.2885,  34.4766,2,  34.4447,4,    201.6,2,     1.01,2,     0.01,2,     0.00,2,     0.09,2,   1945.4,6,   2267.9,6,   8.0940,2,    25.00,     2227
  49UP20170201,RF1702,  5986,  1,     30,  25839,2,20170209,2025, 15.0023, 164.9707, 5193,    150.7,  25.2861,  35.0102,2,  35.0154,2,    204.1,2,     1.23,2,     0.01,2,     0.00,2,     0.09,2,   1999.9,2,   2306.7,2,   8.0573,6,    25.00,     2225
  49UP20170201,RF1702,  5986,  1,     29,  25838,2,20170209,2025, 15.0023, 164.9707, 5193,    201.0,  18.7148,  34.8030,2,  34.8145,4,    169.2,2,     4.83,2,     5.65,2,     0.01,2,     0.53,2,   2084.7,2,   2294.3,2,   7.8839,2,    25.00,     2224
  49UP20170201,RF1702,  5986,  1,     28,  25837,2,20170209,2025, 15.0023, 164.9707, 5193,    247.4,  14.5583,  34.4862,2,  34.4926,2,    170.7,2,     9.75,2,    10.92,2,     0.00,2,     0.84,2,   2109.9,2,   2273.8,2,   7.8071,2,    25.00,     2222
  49UP20170201,RF1702,  5986,  1,     27,  25836,2,20170209,2025, 15.0023, 164.9707, 5193,    302.0,  11.4091,  34.2569,2,  34.2636,2,    161.4,2,    18.59,2,    17.06,2,     0.00,2,     1.25,2,   2137.9,2,   2267.9,2,   7.7148,2,    25.00,     2220
  49UP20170201,RF1702,  5986,  1,     26,  25835,2,20170209,2025, 15.0023, 164.9707, 5193,    352.2,   9.8931,  34.3289,2,-999.0000,9,     89.8,2,    31.34,2,    26.86,2,     0.00,2,     2.01,2,   2207.0,2,   2282.1,2,   7.5550,2,    25.00,     2218
  49UP20170201,RF1702,  5986,  1,     25,  25834,2,20170209,2025, 15.0023, 164.9707, 5193,    403.1,   8.7758,  34.3622,2,  34.3617,2,     59.6,6,    40.87,6,    31.72,6,     0.00,6,     2.36,6,   2243.0,2,   2292.5,2,   7.4763,2,    25.00,     2216
  49UP20170201,RF1702,  5986,  1,     24,  25833,2,20170209,2025, 15.0023, 164.9707, 5193,    452.6,   7.9743,  34.3782,2,-999.0000,9,     54.9,2,    48.22,2,    34.15,2,     0.00,2,     2.49,2,   2258.1,2,   2301.7,2,   7.4610,2,    25.00,     2214
  49UP20170201,RF1702,  5986,  1,     23,  25832,2,20170209,2025, 15.0023, 164.9707, 5193,    506.9,   7.0721,  34.3936,2,  34.3923,2,     49.0,2,    57.74,2,    36.49,2,     0.00,2,     2.66,2,   2275.9,2,   2311.7,2,   7.4357,2,    25.00,     2212
  49UP20170201,RF1702,  5986,  1,     22,  25831,2,20170209,2025, 15.0023, 164.9707, 5193,    606.1,   6.3473,  34.4661,2,  34.4647,2,     69.5,4,    66.01,2,    38.08,2,     0.00,2,     2.75,2,   2286.1,2,   2327.5,2,   7.4448,2,    25.00,     2209
  49UP20170201,RF1702,  5986,  1,     21,  25830,2,20170209,2025, 15.0023, 164.9707, 5193,    705.5,   5.8065,  34.4934,2,  34.4933,2,     59.4,2,    72.90,2,    38.64,2,     0.00,2,     2.77,2,   2290.3,2,   2337.5,2,   7.4544,2,    25.00,     2206
  49UP20170201,RF1702,  5986,  1,     20,  25829,2,20170209,2025, 15.0023, 164.9707, 5193,    807.9,   5.4063,  34.5041,2,  34.5040,2,     63.6,2,    79.22,2,    38.97,2,     0.00,2,     2.79,2,   2299.7,2,   2344.0,2,   7.4600,2,    25.00,     2203
  49UP20170201,RF1702,  5986,  1,     19,  25828,2,20170209,2025, 15.0023, 164.9707, 5193,    909.1,   5.0695,  34.5167,2,  34.5168,2,     62.3,3,    84.83,2,    39.90,2,     0.00,2,     2.85,2,   2308.7,2,   2348.9,2,   7.4504,2,    25.00,     2201
  49UP20170201,RF1702,  5986,  1,     18,  25827,2,20170209,2025, 15.0023, 164.9707, 5193,   1010.8,   4.6472,  34.5277,2,  34.5283,2,     64.6,2,    93.10,2,    40.02,2,     0.00,2,     2.86,2,   2317.1,2,   2359.0,2,   7.4540,2,    25.00,     2158
  49UP20170201,RF1702,  5986,  1,     17,  25826,2,20170209,2025, 15.0023, 164.9707, 5193,   1212.2,   3.9282,  34.5533,2,  34.5544,2,     68.2,2,   106.91,2,    40.63,2,     0.00,2,     2.90,2,   2334.9,6,   2374.0,6,   7.4557,2,    25.00,     2153
  49UP20170201,RF1702,  5986,  1,     16,  25825,2,20170209,2025, 15.0023, 164.9707, 5193,   1414.3,   3.1998,  34.5746,2,  34.5745,2,     78.1,2,   122.66,2,    40.38,2,     0.00,2,     2.86,2,   2341.7,2,   2391.0,2,   7.4670,6,    25.00,     2148
  49UP20170201,RF1702,  5986,  1,     15,  25824,2,20170209,2025, 15.0023, 164.9707, 5193,   1616.2,   2.7810,  34.5924,2,  34.5935,2,     86.4,2,   131.42,2,    40.05,2,     0.00,2,     2.83,2,   2345.9,2,   2397.8,2,   7.4775,2,    25.00,     2144
  49UP20170201,RF1702,  5986,  1,     14,  25823,2,20170209,2025, 15.0023, 164.9707, 5193,   1817.8,   2.4890,  34.6059,2,  34.6078,2,     92.8,2,   137.81,2,    39.78,2,     0.00,2,     2.80,2,   2349.9,2,   2405.1,2,   7.4854,2,    25.00,     2139
  49UP20170201,RF1702,  5986,  1,     13,  25822,2,20170209,2025, 15.0023, 164.9707, 5193,   2022.0,   2.2198,  34.6226,2,  34.6251,4,    100.8,2,   142.81,2,    39.34,2,     0.00,2,     2.76,2,   2349.5,2,   2411.1,2,   7.5044,2,    25.00,     2135
  49UP20170201,RF1702,  5986,  1,     12,  25821,2,20170209,2025, 15.0023, 164.9707, 5193,   2274.6,   1.9771,  34.6390,2,  34.6400,2,    109.9,2,   147.34,2,    38.87,2,     0.00,2,     2.72,2,   2348.1,2,   2417.0,2,   7.5158,2,    25.00,     2129
  49UP20170201,RF1702,  5986,  1,     11,  25820,2,20170209,2025, 15.0023, 164.9707, 5193,   2529.3,   1.7957,  34.6524,2,  34.6528,6,    118.3,6,   149.73,6,    38.34,6,     0.00,6,     2.67,6,   2343.9,2,   2419.4,2,   7.5291,2,    25.00,     2124
  49UP20170201,RF1702,  5986,  1,     10,  25819,2,20170209,2025, 15.0023, 164.9707, 5193,   2782.6,   1.6940,  34.6602,2,  34.6602,2,    125.4,2,   151.11,2,    37.94,2,     0.00,2,     2.64,2,   2344.1,2,   2422.4,2,   7.5422,2,    25.00,     2118
  49UP20170201,RF1702,  5986,  1,      9,  25818,2,20170209,2025, 15.0023, 164.9707, 5193,   3040.8,   1.6215,  34.6682,2,  34.6673,2,    130.4,3,   150.57,2,    37.57,2,     0.00,2,     2.60,2,   2341.1,6,   2421.4,6,   7.5493,2,    25.00,     2113
  49UP20170201,RF1702,  5986,  1,      8,  25817,2,20170209,2025, 15.0023, 164.9707, 5193,   3293.3,   1.5578,  34.6751,2,  34.6747,2,    138.4,2,   150.14,2,    37.04,2,     0.00,2,     2.56,2,   2337.3,2,   2422.2,2,   7.5637,6,    25.00,     2108
  49UP20170201,RF1702,  5986,  1,      7,  25816,2,20170209,2025, 15.0023, 164.9707, 5193,   3549.2,   1.5170,  34.6792,2,  34.6785,2,    143.0,3,   148.72,2,    36.76,2,     0.00,2,     2.54,2,   2331.7,2,   2420.6,2,   7.5702,2,    25.00,     2102
  49UP20170201,RF1702,  5986,  1,      6,  25815,2,20170209,2025, 15.0023, 164.9707, 5193,   3805.8,   1.4835,  34.6826,2,  34.6828,2,    149.6,2,   147.15,2,    36.33,2,     0.00,2,     2.51,2,   2328.4,2,   2418.5,2,   7.5764,2,    25.00,     2057
  49UP20170201,RF1702,  5986,  1,      5,  25814,2,20170209,2025, 15.0023, 164.9707, 5193,   4061.1,   1.4643,  34.6857,2,  34.6868,2,    155.1,6,   144.86,6,    35.95,6,     0.00,6,     2.48,6,   2327.1,2,   2415.6,2,   7.5829,2,    25.00,     2051
  49UP20170201,RF1702,  5986,  1,      4,  25813,2,20170209,2025, 15.0023, 164.9707, 5193,   4576.2,   1.4114,  34.6934,2,  34.6936,6,    169.7,2,   136.44,2,    34.92,2,     0.00,2,     2.40,2,   2305.8,2,   2406.0,2,   7.5983,2,    25.00,     2041
  49UP20170201,RF1702,  5986,  1,      3,  25812,2,20170209,2025, 15.0023, 164.9707, 5193,   4831.3,   1.4008,  34.6960,2,  34.6942,4,    172.3,3,   133.55,2,    34.68,2,     0.00,2,     2.39,2,   2305.1,2,   2401.6,2,   7.6028,2,    25.00,     2035
  49UP20170201,RF1702,  5986,  1,      2,  25811,2,20170209,2025, 15.0023, 164.9707, 5193,   5090.2,   1.4058,  34.6978,2,  34.6989,4,    178.8,2,   131.44,2,    34.28,2,     0.00,2,     2.35,2,   2299.5,2,   2397.0,2,   7.6076,2,    25.00,     2030
  49UP20170201,RF1702,  5986,  1,      1,  25810,2,20170209,2025, 15.0023, 164.9707, 5193,   5309.8,   1.4175,  34.6987,2,  34.6991,6,    180.3,2,   130.13,2,    34.11,2,     0.00,2,     2.34,2,   2296.1,2,   2394.7,2,   7.6082,2,    25.00,     2025