BOTTLE,20200109PRINUNIVRMK
EXPOCODE,SECT_ID,STNNBR,CASTNO,SAMPNO,BTLNBR,BTLNBR_FLAG_W,DATE,TIME,LATITUDE,LONGITUDE,DEPTH,CTDPRS,CTDTMP,CTDSAL,CTDSAL_FLAG_W,SALNTY,SALNTY_FLAG_W,OXYGEN,OXYGEN_FLAG_W,SILCAT,SILCAT_FLAG_W,NITRAT,NITRAT_FLAG_W,NITRIT,NITRIT_FLAG_W,PHSPHT,PHSPHT_FLAG_W,TCARBN,TCARBN_FLAG_W,ALKALI,ALKALI_FLAG_W,PH_TOT,PH_TOT_FLAG_W,PH_TMP,BTL_TIME
,,,,,,,,,,,METERS,DBAR,ITS-90,PSS-78,,PSS-78,,UMOL/KG,,UMOL/KG,,UMOL/KG,,UMOL/KG,,UMOL/KG,,UMOL/KG,,UMOL/KG,,,,DEG C,
  49UP20170201,RF1702,  5994,  1,     99,     99,2,20170213,0904,  9.4965, 159.9673, 5223,      0.0,  28.5032,  33.9875,2,  33.9952,2,    198.3,2,     0.77,2,     0.03,2,     0.00,2,     0.07,2,   1905.8,2,   2233.0,2,   8.1150,2,    25.00,     1045
  49UP20170201,RF1702,  5994,  1,     36,  25845,2,20170213,0904,  9.4965, 159.9673, 5223,      9.4,  28.5201,  33.9861,2,  33.9876,2,    197.2,2,     0.89,2,     0.04,2,     0.00,2,     0.06,2,   1906.9,2,   2235.6,2,   8.1158,2,    25.00,     1111
  49UP20170201,RF1702,  5994,  1,     35,  25844,2,20170213,0904,  9.4965, 159.9673, 5223,     24.8,  28.4975,  33.9864,2,-999.0000,9,    197.3,2,     0.87,2,     0.02,2,     0.00,2,     0.05,2,   1907.2,2,   2233.0,2,   8.1150,2,    25.00,     1110
  49UP20170201,RF1702,  5994,  1,     34,  25843,2,20170213,0904,  9.4965, 159.9673, 5223,     54.3,  28.3844,  34.0121,2,  34.0109,2,    197.4,2,     0.79,2,     0.02,2,     0.00,2,     0.06,2,   1908.0,2,   2235.0,2,   8.1173,2,    25.00,     1107
  49UP20170201,RF1702,  5994,  1,     33,  25842,2,20170213,0904,  9.4965, 159.9673, 5223,     74.6,  28.3499,  34.0153,2,  34.0159,2,    197.5,2,     0.88,2,     0.03,2,     0.00,2,     0.06,2,   1908.5,2,   2234.7,2,   8.1174,2,    25.00,     1106
  49UP20170201,RF1702,  5994,  1,     32,  25841,2,20170213,0904,  9.4965, 159.9673, 5223,    100.3,  26.1331,  34.5929,2,  34.5940,2,    195.9,6,     1.74,6,     0.03,6,     0.00,6,     0.14,6,   1983.2,2,   2277.9,2,   8.0513,2,    25.00,     1105
  49UP20170201,RF1702,  5994,  1,     31,  25840,2,20170213,0904,  9.4965, 159.9673, 5223,    125.5,  20.4609,  34.7315,2,  34.7383,2,    170.4,2,     5.21,2,     4.62,2,     0.18,2,     0.53,2,   2067.4,2,   2292.6,2,   7.9151,2,    25.00,     1104
  49UP20170201,RF1702,  5994,  1,     30,  25839,2,20170213,0904,  9.4965, 159.9673, 5223,    150.6,  17.3982,  34.6677,2,  34.6738,2,    147.0,2,     9.09,2,    10.53,2,     0.04,2,     0.86,2,   2104.1,2,   2286.7,2,   7.8223,2,    25.00,     1103
  49UP20170201,RF1702,  5994,  1,     29,  25838,2,20170213,0904,  9.4965, 159.9673, 5223,    201.9,  12.5249,  34.4862,2,  34.4873,2,     83.0,2,    21.66,2,    23.56,2,     0.00,2,     1.78,2,   2187.7,2,   2283.6,2,   7.6028,2,    25.00,     1101
  49UP20170201,RF1702,  5994,  1,     28,  25837,2,20170213,0904,  9.4965, 159.9673, 5223,    252.4,  10.6257,  34.5928,2,  34.5893,2,     35.6,2,    30.84,2,    32.03,2,     0.00,2,     2.34,2,   2243.5,2,   2297.5,2,   7.4810,2,    25.00,     1100
  49UP20170201,RF1702,  5994,  1,     27,  25836,2,20170213,0904,  9.4965, 159.9673, 5223,    301.8,   9.3723,  34.6203,2,  34.6186,2,     34.7,2,    36.38,2,    34.80,2,     0.00,2,     2.49,2,   2259.7,2,   2304.9,2,   7.4642,2,    25.00,     1058
  49UP20170201,RF1702,  5994,  1,     26,  25835,2,20170213,0904,  9.4965, 159.9673, 5223,    352.1,   8.9155,  34.6063,2,-999.0000,9,     45.0,2,    38.10,2,    34.81,2,     0.00,2,     2.48,2,   2257.0,2,   2306.1,2,   7.4753,2,    25.00,     1057
  49UP20170201,RF1702,  5994,  1,     25,  25834,2,20170213,0904,  9.4965, 159.9673, 5223,    402.4,   8.5086,  34.5880,2,  34.5867,2,     44.4,2,    41.26,2,    35.54,2,     0.00,2,     2.56,2,   2262.0,2,   2310.8,2,   7.4613,2,    25.00,     1055
  49UP20170201,RF1702,  5994,  1,     24,  25833,2,20170213,0904,  9.4965, 159.9673, 5223,    453.0,   7.8733,  34.5659,2,-999.0000,9,     49.1,2,    46.01,2,    36.34,2,     0.00,2,     2.60,2,   2266.8,2,   2313.2,2,   7.4680,2,    25.00,     1054
  49UP20170201,RF1702,  5994,  1,     23,  25832,2,20170213,0904,  9.4965, 159.9673, 5223,    504.0,   7.5686,  34.5551,2,  34.5541,2,     49.3,6,    49.09,6,    36.89,6,     0.00,6,     2.65,6,   2270.7,2,   2316.3,2,   7.4592,2,    25.00,     1052
  49UP20170201,RF1702,  5994,  1,     22,  25831,2,20170213,0904,  9.4965, 159.9673, 5223,    604.9,   6.7336,  34.5394,2,  34.5381,2,     48.5,2,    58.60,2,    38.70,2,     0.00,2,     2.78,2,   2283.5,2,   2324.9,6,   7.4463,2,    25.00,     1049
  49UP20170201,RF1702,  5994,  1,     21,  25830,2,20170213,0904,  9.4965, 159.9673, 5223,    705.0,   6.0018,  34.5325,2,  34.5315,2,     53.9,2,    68.01,2,    39.49,2,     0.00,2,     2.83,2,   2294.0,2,   2335.1,2,   7.4477,6,    25.00,     1047
  49UP20170201,RF1702,  5994,  1,     20,  25829,2,20170213,0904,  9.4965, 159.9673, 5223,    806.9,   5.4823,  34.5359,2,  34.5353,2,     61.2,2,    75.68,2,    39.69,2,     0.00,2,     2.84,2,   2300.7,2,   2343.6,2,   7.4549,2,    25.00,     1044
  49UP20170201,RF1702,  5994,  1,     19,  25828,2,20170213,0904,  9.4965, 159.9673, 5223,    907.9,   5.1080,  34.5468,2,  34.5459,2,     57.1,2,    80.61,2,    40.97,2,     0.00,2,     2.93,2,   2309.7,2,   2349.8,2,   7.4453,2,    25.00,     1042
  49UP20170201,RF1702,  5994,  1,     18,  25827,2,20170213,0904,  9.4965, 159.9673, 5223,   1010.0,   4.6286,  34.5505,2,  34.5499,6,     66.6,2,    90.27,2,    40.38,2,     0.00,2,     2.88,2,   2315.3,6,   2359.8,6,   7.4582,2,    25.00,     1039
  49UP20170201,RF1702,  5994,  1,     17,  25826,2,20170213,0904,  9.4965, 159.9673, 5223,   1211.3,   3.7903,  34.5711,2,  34.5705,2,     80.1,2,   106.97,2,    39.89,2,     0.00,2,     2.85,2,   2325.0,2,   2377.8,2,   7.4775,6,    25.00,     1034
  49UP20170201,RF1702,  5994,  1,     16,  25825,2,20170213,0904,  9.4965, 159.9673, 5223,   1414.1,   3.1862,  34.5901,2,  34.5896,2,     84.4,2,   120.71,2,    40.06,2,     0.00,2,     2.85,2,   2338.9,2,   2391.7,2,   7.4774,2,    25.00,     1029
  49UP20170201,RF1702,  5994,  1,     15,  25824,2,20170213,0904,  9.4965, 159.9673, 5223,   1617.2,   2.7592,  34.6066,2,  34.6061,2,     91.3,2,   129.95,2,    39.86,2,     0.00,2,     2.82,2,   2344.4,2,   2400.9,2,   7.4909,2,    25.00,     1024
  49UP20170201,RF1702,  5994,  1,     14,  25823,2,20170213,0904,  9.4965, 159.9673, 5223,   1819.6,   2.4554,  34.6208,2,  34.6205,2,     97.7,2,   136.91,2,    39.58,2,     0.00,2,     2.79,2,   2348.6,2,   2408.2,2,   7.5000,2,    25.00,     1019
  49UP20170201,RF1702,  5994,  1,     13,  25822,2,20170213,0904,  9.4965, 159.9673, 5223,   2022.5,   2.1908,  34.6355,2,  34.6353,2,    105.2,6,   142.01,6,    39.19,6,     0.00,6,     2.76,6,   2350.0,2,   2413.9,2,   7.5090,2,    25.00,     1014
  49UP20170201,RF1702,  5994,  1,     12,  25821,2,20170213,0904,  9.4965, 159.9673, 5223,   2276.4,   2.0260,  34.6464,2,  34.6458,2,    112.3,2,   144.58,2,    38.77,2,     0.00,2,     2.72,2,   2345.6,2,   2417.4,2,   7.5234,2,    25.00,     1008
  49UP20170201,RF1702,  5994,  1,     11,  25820,2,20170213,0904,  9.4965, 159.9673, 5223,   2530.2,   1.8719,  34.6564,2,  34.6561,2,    118.7,2,   147.04,2,    38.38,2,     0.00,2,     2.68,2,   2347.8,2,   2421.1,2,   7.5347,2,    25.00,     1002
  49UP20170201,RF1702,  5994,  1,     10,  25819,2,20170213,0904,  9.4965, 159.9673, 5223,   2785.1,   1.7251,  34.6654,2,  34.6650,2,    127.9,2,   147.85,2,    37.82,2,     0.00,2,     2.63,2,   2343.8,2,   2421.6,2,   7.5463,2,    25.00,      956
  49UP20170201,RF1702,  5994,  1,      9,  25818,2,20170213,0904,  9.4965, 159.9673, 5223,   3039.5,   1.6552,  34.6703,2,  34.6704,2,    134.0,2,   147.41,2,    37.39,2,     0.00,2,     2.59,2,   2338.4,2,   2421.1,2,   7.5570,2,    25.00,      950
  49UP20170201,RF1702,  5994,  1,      8,  25817,2,20170213,0904,  9.4965, 159.9673, 5223,   3294.4,   1.5876,  34.6753,2,  34.6750,2,    140.4,2,   146.49,2,    36.93,2,     0.00,2,     2.56,2,   2335.1,2,   2419.6,2,   7.5656,2,    25.00,      945
  49UP20170201,RF1702,  5994,  1,      7,  25816,2,20170213,0904,  9.4965, 159.9673, 5223,   3549.7,   1.5443,  34.6794,2,  34.6793,2,    146.3,2,   144.99,2,    36.54,2,     0.00,2,     2.53,2,   2330.5,6,   2417.7,6,   7.5713,2,    25.00,      939
  49UP20170201,RF1702,  5994,  1,      6,  25815,2,20170213,0904,  9.4965, 159.9673, 5223,   3805.1,   1.4796,  34.6850,2,  34.6849,2,    155.4,2,   141.25,2,    35.86,2,     0.00,2,     2.48,2,   2323.2,2,   2415.2,2,   7.5854,6,    25.00,      934
  49UP20170201,RF1702,  5994,  1,      5,  25814,2,20170213,0904,  9.4965, 159.9673, 5223,   4060.4,   1.4601,  34.6883,2,  34.6886,2,    160.7,2,   138.91,2,    35.53,2,     0.00,2,     2.46,2,   2319.0,2,   2411.5,2,   7.5922,2,    25.00,      929
  49UP20170201,RF1702,  5994,  1,      4,  25813,3,20170213,0904,  9.4965, 159.9673, 5223,   4572.5,   1.4547,  34.6926,2,  34.6929,6,    168.5,6,   135.18,6,    34.97,6,     0.00,6,     2.41,6,   2309.0,2,   2406.4,2,   7.6023,2,    25.00,      919
  49UP20170201,RF1702,  5994,  1,      3,  25812,2,20170213,0904,  9.4965, 159.9673, 5223,   4831.5,   1.4599,  34.6944,2,  34.6943,2,    171.4,2,   133.61,2,    34.73,2,     0.00,2,     2.40,2,   2307.1,2,   2404.5,2,   7.6034,2,    25.00,      914
  49UP20170201,RF1702,  5994,  1,      2,  25811,2,20170213,0904,  9.4965, 159.9673, 5223,   5088.1,   1.4581,  34.6965,2,  34.6964,2,    175.7,2,   131.29,2,    34.42,2,     0.00,2,     2.37,2,   2302.6,2,   2400.2,2,   7.6062,2,    25.00,      908
  49UP20170201,RF1702,  5994,  1,      1,  25810,2,20170213,0904,  9.4965, 159.9673, 5223,   5307.4,   1.4772,  34.6970,2,  34.6963,4,    175.2,3,   131.23,2,    34.46,2,     0.00,2,     2.37,2,   2302.4,2,   2399.9,2,   7.6073,2,    25.00,      904
  49UP20170201,RF1702,  5996,  1,     99,     99,2,20170213,2242,  9.4997, 157.9928, 5273,      0.0,  28.7556,  33.9998,2,-999.0000,9,    196.9,2,     0.93,2,     0.04,2,     0.00,2,     0.05,2,   -999.0,9,   -999.0,9,-999.0000,9,  -999.00,     2310
  49UP20170201,RF1702,  5996,  1,     36,  25845,2,20170213,2242,  9.4997, 157.9928, 5273,      8.8,  28.6988,  33.9969,2,  33.9968,2,    196.7,2,     0.89,2,     0.03,2,     0.00,2,     0.05,2,   -999.0,9,   -999.0,9,-999.0000,9,  -999.00,     2337
  49UP20170201,RF1702,  5996,  1,     35,  25844,2,20170213,2242,  9.4997, 157.9928, 5273,     24.0,  28.6831,  33.9966,2,-999.0000,9,    196.5,2,     0.94,2,     0.03,2,     0.00,2,     0.04,2,   -999.0,9,   -999.0,9,-999.0000,9,  -999.00,     2334
  49UP20170201,RF1702,  5996,  1,     34,  25843,2,20170213,2242,  9.4997, 157.9928, 5273,     54.3,  28.3691,  33.9929,2,  33.9800,2,    197.1,2,     0.90,2,     0.03,2,     0.00,2,     0.04,2,   -999.0,9,   -999.0,9,-999.0000,9,  -999.00,     2331
  49UP20170201,RF1702,  5996,  1,     30,  25839,2,20170213,2242,  9.4997, 157.9928, 5273,     78.1,  28.3168,  34.0882,2,  34.0849,2,    197.6,2,     0.86,2,     0.03,2,     0.00,2,     0.05,2,   -999.0,9,   -999.0,9,-999.0000,9,  -999.00,     2330
  49UP20170201,RF1702,  5996,  1,     29,  25838,2,20170213,2242,  9.4997, 157.9928, 5273,    100.6,  28.1865,  34.1718,2,  34.1884,4,    198.6,2,     0.90,2,     0.02,2,     0.00,2,     0.06,2,   -999.0,9,   -999.0,9,-999.0000,9,  -999.00,     2329
  49UP20170201,RF1702,  5996,  1,     28,  25837,2,20170213,2242,  9.4997, 157.9928, 5273,    124.7,  22.1000,  34.7789,2,  34.7907,4,    182.9,2,     3.58,2,     2.23,2,     0.11,2,     0.37,2,   -999.0,9,   -999.0,9,-999.0000,9,  -999.00,     2328
  49UP20170201,RF1702,  5996,  1,     26,  25835,2,20170213,2242,  9.4997, 157.9928, 5273,    148.4,  17.9376,  34.6702,2,  34.6554,2,    149.7,2,     8.71,2,     9.79,2,     0.19,2,     0.85,2,   -999.0,9,   -999.0,9,-999.0000,9,  -999.00,     2327
  49UP20170201,RF1702,  5996,  1,     27,  25836,2,20170213,2242,  9.4997, 157.9928, 5273,    149.1,  17.8836,  34.6751,2,  34.6649,2,    151.0,2,     8.40,2,     9.36,2,     0.21,2,     0.83,2,   -999.0,9,   -999.0,9,-999.0000,9,  -999.00,     2327
  49UP20170201,RF1702,  5996,  1,     25,  25834,2,20170213,2242,  9.4997, 157.9928, 5273,    202.1,  11.6807,  34.4982,2,  34.4933,2,     71.7,6,    24.81,6,    25.98,6,     0.00,6,     1.95,6,   -999.0,9,   -999.0,9,-999.0000,9,  -999.00,     2325
  49UP20170201,RF1702,  5996,  1,     21,  25830,2,20170213,2242,  9.4997, 157.9928, 5273,    252.2,  10.4061,  34.6279,2,  34.6244,2,     26.9,2,    32.00,2,    33.30,2,     0.00,2,     2.42,2,   -999.0,9,   -999.0,9,-999.0000,9,  -999.00,     2324
  49UP20170201,RF1702,  5996,  1,     20,  25829,2,20170213,2242,  9.4997, 157.9928, 5273,    300.0,   9.5128,  34.6046,2,  34.6044,2,     37.8,2,    35.80,2,    34.11,2,     0.00,2,     2.44,2,   -999.0,9,   -999.0,9,-999.0000,9,  -999.00,     2322
  49UP20170201,RF1702,  5996,  1,     19,  25828,2,20170213,2242,  9.4997, 157.9928, 5273,    353.0,   9.1939,  34.6103,2,-999.0000,9,     40.1,2,    37.09,2,    34.63,2,     0.00,2,     2.47,2,   -999.0,9,   -999.0,9,-999.0000,9,  -999.00,     2321
  49UP20170201,RF1702,  5996,  1,     18,  25827,2,20170213,2242,  9.4997, 157.9928, 5273,    402.5,   8.6710,  34.5843,2,  34.5824,2,     48.3,2,    40.26,2,    34.84,2,     0.00,2,     2.49,2,   -999.0,9,   -999.0,9,-999.0000,9,  -999.00,     2319
  49UP20170201,RF1702,  5996,  1,     17,  25826,2,20170213,2242,  9.4997, 157.9928, 5273,    452.8,   8.2250,  34.5585,2,-999.0000,9,     55.7,2,    43.49,2,    34.99,2,     0.00,2,     2.50,2,   -999.0,9,   -999.0,9,-999.0000,9,  -999.00,     2318
  49UP20170201,RF1702,  5996,  1,     16,  25825,2,20170213,2242,  9.4997, 157.9928, 5273,    506.6,   7.7713,  34.5499,2,  34.5495,2,     54.8,2,    47.07,2,    35.83,2,     0.00,2,     2.57,2,   -999.0,9,   -999.0,9,-999.0000,9,  -999.00,     2316
  49UP20170201,RF1702,  5996,  1,     15,  25824,2,20170213,2242,  9.4997, 157.9928, 5273,    605.6,   6.8431,  34.5353,2,  34.5344,2,     50.6,2,    57.44,2,    38.05,2,     0.00,2,     2.74,2,   -999.0,9,   -999.0,9,-999.0000,9,  -999.00,     2314
  49UP20170201,RF1702,  5996,  1,     14,  25823,2,20170213,2242,  9.4997, 157.9928, 5273,    705.2,   6.3623,  34.5354,2,  34.5352,2,     48.7,2,    63.08,2,    39.30,2,     0.00,2,     2.82,2,   -999.0,9,   -999.0,9,-999.0000,9,  -999.00,     2311
  49UP20170201,RF1702,  5996,  1,      8,  25817,2,20170213,2242,  9.4997, 157.9928, 5273,    808.0,   5.9108,  34.5358,2,  34.5355,2,     48.5,2,    69.32,2,    40.23,2,     0.00,2,     2.88,2,   -999.0,9,   -999.0,9,-999.0000,9,  -999.00,     2309
  49UP20170201,RF1702,  5996,  1,      9,  25818,2,20170213,2242,  9.4997, 157.9928, 5273,    808.8,   5.9049,  34.5362,2,  34.5356,2,     48.7,2,    69.28,2,    40.17,2,     0.00,2,     2.88,2,   -999.0,9,   -999.0,9,-999.0000,9,  -999.00,     2309
  49UP20170201,RF1702,  5996,  1,      7,  25816,2,20170213,2242,  9.4997, 157.9928, 5273,    908.4,   5.3017,  34.5410,2,  34.5404,2,     56.8,2,    78.01,2,    40.51,2,     0.00,2,     2.90,2,   -999.0,9,   -999.0,9,-999.0000,9,  -999.00,     2306
  49UP20170201,RF1702,  5996,  1,      6,  25815,2,20170213,2242,  9.4997, 157.9928, 5273,   1008.8,   4.7222,  34.5469,2,  34.5464,2,     64.2,2,    89.18,2,    40.41,2,     0.00,2,     2.89,2,   -999.0,9,   -999.0,9,-999.0000,9,  -999.00,     2304
  49UP20170201,RF1702,  5996,  1,      5,  25814,2,20170213,2242,  9.4997, 157.9928, 5273,   1210.1,   3.9953,  34.5648,2,  34.5646,6,     75.8,2,   103.08,2,    40.06,2,     0.00,2,     2.86,2,   -999.0,9,   -999.0,9,-999.0000,9,  -999.00,     2259
  49UP20170201,RF1702,  5996,  1,      4,  25813,3,20170213,2242,  9.4997, 157.9928, 5273,   1412.8,   3.4278,  34.5809,2,  34.5811,2,     83.0,2,   115.38,2,    39.93,2,     0.00,2,     2.84,2,   -999.0,9,   -999.0,9,-999.0000,9,  -999.00,     2255
  49UP20170201,RF1702,  5996,  1,      3,  25812,2,20170213,2242,  9.4997, 157.9928, 5273,   1615.6,   2.9261,  34.5966,2,  34.5978,2,     89.8,2,   126.44,2,    39.69,2,     0.00,2,     2.82,2,   -999.0,9,   -999.0,9,-999.0000,9,  -999.00,     2251
  49UP20170201,RF1702,  5996,  1,      2,  25811,2,20170213,2242,  9.4997, 157.9928, 5273,   1818.2,   2.4704,  34.6186,2,  34.6190,2,     97.9,6,   136.44,6,    39.50,6,     0.00,6,     2.78,6,   -999.0,9,   -999.0,9,-999.0000,9,  -999.00,     2246
  49UP20170201,RF1702,  5996,  1,      1,  25810,2,20170213,2242,  9.4997, 157.9928, 5273,   2021.4,   2.1860,  34.6337,2,  34.6337,6,    106.5,2,   141.45,2,    38.98,2,     0.00,2,     2.74,2,   -999.0,9,   -999.0,9,-999.0000,9,  -999.00,     2242