BOTTLE,20200109PRINUNIVRMK
EXPOCODE,SECT_ID,STNNBR,CASTNO,SAMPNO,BTLNBR,BTLNBR_FLAG_W,DATE,TIME,LATITUDE,LONGITUDE,DEPTH,CTDPRS,CTDTMP,CTDSAL,CTDSAL_FLAG_W,SALNTY,SALNTY_FLAG_W,OXYGEN,OXYGEN_FLAG_W,SILCAT,SILCAT_FLAG_W,NITRAT,NITRAT_FLAG_W,NITRIT,NITRIT_FLAG_W,PHSPHT,PHSPHT_FLAG_W,TCARBN,TCARBN_FLAG_W,ALKALI,ALKALI_FLAG_W,PH_TOT,PH_TOT_FLAG_W,PH_TMP,BTL_TIME
,,,,,,,,,,,METERS,DBAR,ITS-90,PSS-78,,PSS-78,,UMOL/KG,,UMOL/KG,,UMOL/KG,,UMOL/KG,,UMOL/KG,,UMOL/KG,,UMOL/KG,,,,DEG C,
  49UP20170201,RF1702,  6004,  1,     99,     99,2,20170224,0113,  9.4948, 150.9898, 5426,      0.0,  28.9017,  33.9640,2,-999.0000,9,    196.9,2,     1.02,2,     0.04,2,     0.00,2,     0.04,2,   -999.0,9,   -999.0,9,-999.0000,9,  -999.00,      150
  49UP20170201,RF1702,  6004,  1,     36,  25845,4,20170224,0113,  9.4948, 150.9898, 5426,      9.8,  28.9190,  33.9644,2,  33.9624,4,    196.7,4,     1.02,4,     0.02,4,     0.00,4,     0.03,4,   -999.0,9,   -999.0,9,-999.0000,9,  -999.00,      215
  49UP20170201,RF1702,  6004,  1,     35,  25844,2,20170224,0113,  9.4948, 150.9898, 5426,     25.2,  28.8253,  33.9629,2,-999.0000,9,    196.8,2,     1.03,2,     0.03,2,     0.00,2,     0.03,2,   -999.0,9,   -999.0,9,-999.0000,9,  -999.00,      213
  49UP20170201,RF1702,  6004,  1,     34,  25843,2,20170224,0113,  9.4948, 150.9898, 5426,     51.4,  28.8188,  33.9627,2,  33.9609,2,    196.8,2,     1.01,2,     0.02,2,     0.00,2,     0.03,2,   -999.0,9,   -999.0,9,-999.0000,9,  -999.00,      212
  49UP20170201,RF1702,  6004,  1,     30,  25839,2,20170224,0113,  9.4948, 150.9898, 5426,     75.7,  28.7718,  33.9709,2,  33.9745,2,    197.1,2,     0.99,2,     0.03,2,     0.00,2,     0.04,2,   -999.0,9,   -999.0,9,-999.0000,9,  -999.00,      211
  49UP20170201,RF1702,  6004,  1,     29,  25838,2,20170224,0113,  9.4948, 150.9898, 5426,     76.1,  28.7718,  33.9707,2,  33.9991,4,    197.0,2,     0.99,2,     0.03,2,     0.00,2,     0.03,2,   -999.0,9,   -999.0,9,-999.0000,9,  -999.00,      210
  49UP20170201,RF1702,  6004,  1,     28,  25837,2,20170224,0113,  9.4948, 150.9898, 5426,     99.8,  24.8707,  34.7290,2,  34.7321,2,    199.5,2,     2.05,2,     0.03,2,     0.00,2,     0.15,2,   -999.0,9,   -999.0,9,-999.0000,9,  -999.00,      207
  49UP20170201,RF1702,  6004,  1,     27,  25836,2,20170224,0113,  9.4948, 150.9898, 5426,    126.5,  19.5013,  34.7412,2,  34.7533,4,    168.6,2,     5.41,2,     5.11,2,     0.26,2,     0.55,2,   -999.0,9,   -999.0,9,-999.0000,9,  -999.00,      206
  49UP20170201,RF1702,  6004,  1,     26,  25835,2,20170224,0113,  9.4948, 150.9898, 5426,    150.0,  16.0495,  34.6103,2,  34.6087,2,    154.7,2,     9.46,2,    10.95,2,     0.03,2,     0.87,2,   -999.0,9,   -999.0,9,-999.0000,9,  -999.00,      204
  49UP20170201,RF1702,  6004,  1,     25,  25834,2,20170224,0113,  9.4948, 150.9898, 5426,    201.3,  12.5359,  34.4532,2,  34.4532,2,    106.4,6,    20.79,6,    21.30,6,     0.00,6,     1.59,6,   -999.0,9,   -999.0,9,-999.0000,9,  -999.00,      203
  49UP20170201,RF1702,  6004,  1,     24,  25833,2,20170224,0113,  9.4948, 150.9898, 5426,    251.4,  10.2448,  34.4866,2,  34.4874,2,     67.2,2,    31.71,2,    29.37,2,     0.00,2,     2.15,2,   -999.0,9,   -999.0,9,-999.0000,9,  -999.00,      201
  49UP20170201,RF1702,  6004,  1,     23,  25832,2,20170224,0113,  9.4948, 150.9898, 5426,    301.2,   9.6526,  34.5733,2,  34.5741,2,     51.7,2,    34.80,2,    32.55,2,     0.00,2,     2.33,2,   -999.0,9,   -999.0,9,-999.0000,9,  -999.00,      200
  49UP20170201,RF1702,  6004,  1,     22,  25831,2,20170224,0113,  9.4948, 150.9898, 5426,    351.4,   9.0970,  34.5900,2,  34.5908,2,     48.6,2,    37.41,2,    34.05,2,     0.00,2,     2.43,2,   -999.0,9,   -999.0,9,-999.0000,9,  -999.00,      158
  49UP20170201,RF1702,  6004,  1,     18,  25827,2,20170224,0113,  9.4948, 150.9898, 5426,    400.9,   8.5239,  34.5785,2,  34.5763,2,     58.0,2,    40.32,2,    34.38,2,     0.00,2,     2.44,2,   -999.0,9,   -999.0,9,-999.0000,9,  -999.00,      156
  49UP20170201,RF1702,  6004,  1,     17,  25826,3,20170224,0113,  9.4948, 150.9898, 5426,    453.0,   7.9584,  34.5445,2,  34.5450,2,     75.6,2,    43.54,2,    33.80,2,     0.00,2,     2.39,2,   -999.0,9,   -999.0,9,-999.0000,9,  -999.00,      154
  49UP20170201,RF1702,  6004,  1,     16,  25825,2,20170224,0113,  9.4948, 150.9898, 5426,    505.8,   7.5645,  34.5364,2,  34.5371,6,     78.5,2,    46.71,2,    34.23,2,     0.00,2,     2.43,2,   -999.0,9,   -999.0,9,-999.0000,9,  -999.00,      153
  49UP20170201,RF1702,  6004,  1,     15,  25824,2,20170224,0113,  9.4948, 150.9898, 5426,    607.6,   6.8484,  34.5278,2,  34.5277,2,     78.7,2,    54.16,2,    35.54,2,     0.00,2,     2.53,2,   -999.0,9,   -999.0,9,-999.0000,9,  -999.00,      150
  49UP20170201,RF1702,  6004,  1,     14,  25823,2,20170224,0113,  9.4948, 150.9898, 5426,    702.8,   6.1955,  34.5255,2,  34.5275,2,     77.1,2,    63.10,2,    36.81,2,     0.00,2,     2.63,2,   -999.0,9,   -999.0,9,-999.0000,9,  -999.00,      147
  49UP20170201,RF1702,  6004,  1,     13,  25822,2,20170224,0113,  9.4948, 150.9898, 5426,    805.5,   5.7047,  34.5278,2,  34.5275,2,     75.2,2,    71.08,2,    37.82,2,     0.00,2,     2.70,2,   -999.0,9,   -999.0,9,-999.0000,9,  -999.00,      145
  49UP20170201,RF1702,  6004,  1,     12,  25821,2,20170224,0113,  9.4948, 150.9898, 5426,    907.5,   5.1400,  34.5379,2,  34.5387,2,     74.0,2,    80.65,2,    38.72,2,     0.00,2,     2.77,2,   -999.0,9,   -999.0,9,-999.0000,9,  -999.00,      142
  49UP20170201,RF1702,  6004,  1,     11,  25820,2,20170224,0113,  9.4948, 150.9898, 5426,   1007.2,   4.6731,  34.5468,2,  34.5471,2,     70.9,2,    89.60,2,    39.66,2,     0.00,2,     2.84,2,   -999.0,9,   -999.0,9,-999.0000,9,  -999.00,      140
  49UP20170201,RF1702,  6004,  1,     10,  25819,2,20170224,0113,  9.4948, 150.9898, 5426,   1211.0,   3.8022,  34.5704,2,  34.5708,2,     85.7,6,   106.17,6,    39.26,6,     0.00,6,     2.80,6,   -999.0,9,   -999.0,9,-999.0000,9,  -999.00,      133
  49UP20170201,RF1702,  6004,  1,      4,  25813,2,20170224,0113,  9.4948, 150.9898, 5426,   1413.8,   3.1989,  34.5901,2,  34.5913,2,     92.2,2,   118.46,2,    39.27,2,     0.00,2,     2.79,2,   -999.0,9,   -999.0,9,-999.0000,9,  -999.00,      129
  49UP20170201,RF1702,  6004,  1,      5,  25814,2,20170224,0113,  9.4948, 150.9898, 5426,   1413.9,   3.1984,  34.5903,2,  34.5902,2,     91.9,2,   118.41,2,    39.29,2,     0.00,2,     2.79,2,   -999.0,9,   -999.0,9,-999.0000,9,  -999.00,      129
  49UP20170201,RF1702,  6004,  1,      3,  25812,2,20170224,0113,  9.4948, 150.9898, 5426,   1615.2,   2.8058,  34.6055,2,  34.6059,2,     97.0,2,   126.75,2,    39.17,2,     0.00,2,     2.78,2,   -999.0,9,   -999.0,9,-999.0000,9,  -999.00,      123
  49UP20170201,RF1702,  6004,  1,      2,  25811,2,20170224,0113,  9.4948, 150.9898, 5426,   1817.9,   2.4950,  34.6192,2,  34.6194,2,    100.4,2,   134.56,2,    39.28,2,     0.00,2,     2.78,2,   -999.0,9,   -999.0,9,-999.0000,9,  -999.00,      117
  49UP20170201,RF1702,  6004,  1,      1,  25810,2,20170224,0113,  9.4948, 150.9898, 5426,   2021.7,   2.2213,  34.6328,2,  34.6327,2,    105.5,2,   140.53,2,    39.02,2,     0.00,2,     2.75,2,   -999.0,9,   -999.0,9,-999.0000,9,  -999.00,      113
  49UP20170201,RF1702,  6006,  1,     99,     99,2,20170224,1250,  9.4898, 149.3303, 4767,      0.0,  28.8529,  34.0126,2,  34.0155,2,    196.3,2,     1.07,2,     0.02,2,     0.00,2,     0.04,2,   1907.1,2,   2232.2,2,   8.1157,2,    25.00,     1425
  49UP20170201,RF1702,  6006,  1,     36,  25845,2,20170224,1250,  9.4898, 149.3303, 4767,      8.5,  28.8548,  34.0122,2,  34.0116,2,    196.1,2,     1.07,2,     0.02,2,     0.00,2,     0.03,2,   1907.4,2,   2232.9,2,   8.1169,2,    25.00,     1454
  49UP20170201,RF1702,  6006,  1,     35,  25844,2,20170224,1250,  9.4898, 149.3303, 4767,     24.1,  28.8662,  34.0120,2,-999.0000,9,    196.2,2,     1.10,2,     0.02,2,     0.00,2,     0.03,2,   1906.1,2,   2232.8,2,   8.1148,2,    25.00,     1453
  49UP20170201,RF1702,  6006,  1,     34,  25843,2,20170224,1250,  9.4898, 149.3303, 4767,     49.9,  28.8581,  34.0111,2,  34.0096,2,    196.2,6,     1.12,6,     0.03,6,     0.00,6,     0.03,6,   1906.2,2,   2232.3,2,   8.1180,2,    25.00,     1452
  49UP20170201,RF1702,  6006,  1,     33,  25842,2,20170224,1250,  9.4898, 149.3303, 4767,     77.8,  28.8122,  34.0176,2,  34.0608,4,    196.7,2,     1.10,2,     0.02,2,     0.00,2,     0.04,2,   1909.7,2,   2236.3,2,   8.1136,2,    25.00,     1450
  49UP20170201,RF1702,  6006,  1,     32,  25841,2,20170224,1250,  9.4898, 149.3303, 4767,     98.6,  25.4891,  34.7620,2,  34.7763,4,    200.1,2,     1.99,2,     0.05,2,     0.00,2,     0.16,2,   2001.6,2,   2293.2,2,   8.0330,2,    25.00,     1447
  49UP20170201,RF1702,  6006,  1,     31,  25840,2,20170224,1250,  9.4898, 149.3303, 4767,    132.2,  18.7675,  34.8821,2,  34.8858,2,    175.3,2,     4.26,2,     4.69,2,     0.10,2,     0.45,2,   2078.3,2,   2298.2,2,   7.9096,2,    25.00,     1446
  49UP20170201,RF1702,  6006,  1,     30,  25839,2,20170224,1250,  9.4898, 149.3303, 4767,    149.9,  16.8030,  34.7068,2,  34.7115,2,    168.9,2,     6.85,2,     8.17,2,     0.02,2,     0.65,2,   2088.6,2,   2286.4,2,   7.8581,2,    25.00,     1444
  49UP20170201,RF1702,  6006,  1,     29,  25838,2,20170224,1250,  9.4898, 149.3303, 4767,    204.0,  12.1609,  34.4296,2,  34.4306,2,    113.0,2,    20.57,2,    20.69,2,     0.00,2,     1.55,2,   2168.0,2,   2279.0,2,   7.6572,2,    25.00,     1443
  49UP20170201,RF1702,  6006,  1,     28,  25837,2,20170224,1250,  9.4898, 149.3303, 4767,    251.4,  10.7091,  34.5201,2,  34.5216,2,     63.7,2,    30.21,2,    29.23,2,     0.00,2,     2.13,2,   2222.7,2,   2294.3,2,   7.5413,2,    25.00,     1441
  49UP20170201,RF1702,  6006,  1,     27,  25836,2,20170224,1250,  9.4898, 149.3303, 4767,    302.3,   9.8023,  34.5467,2,  34.5467,2,     59.0,2,    34.22,2,    31.53,2,     0.00,2,     2.26,2,   2237.6,2,   2299.9,2,   7.5186,2,    25.00,     1439
  49UP20170201,RF1702,  6006,  1,     26,  25835,2,20170224,1250,  9.4898, 149.3303, 4767,    354.7,   9.2745,  34.5625,2,  34.5618,2,     57.1,2,    36.81,2,    32.86,2,     0.00,2,     2.34,2,   2244.6,2,   2303.0,2,   7.5052,2,    25.00,     1438
  49UP20170201,RF1702,  6006,  1,     25,  25834,2,20170224,1250,  9.4898, 149.3303, 4767,    405.8,   8.7894,  34.5622,2,  34.5602,2,     60.3,2,    39.04,2,    33.50,2,     0.00,2,     2.38,2,   2246.1,6,   2306.9,6,   7.5035,2,    25.00,     1435
  49UP20170201,RF1702,  6006,  1,     24,  25833,2,20170224,1250,  9.4898, 149.3303, 4767,    455.7,   8.2083,  34.5593,2,  34.5582,2,     64.0,2,    42.38,2,    34.40,2,     0.00,2,     2.43,2,   2250.0,2,   2310.9,2,   7.5039,6,    25.00,     1433
  49UP20170201,RF1702,  6006,  1,     23,  25832,2,20170224,1250,  9.4898, 149.3303, 4767,    505.6,   7.7020,  34.5430,2,  34.5425,2,     71.7,2,    46.11,2,    34.67,2,     0.00,2,     2.45,2,   2251.5,2,   2314.0,2,   7.5065,2,    25.00,     1431
  49UP20170201,RF1702,  6006,  1,     22,  25831,2,20170224,1250,  9.4898, 149.3303, 4767,    606.6,   6.8985,  34.5284,2,  34.5277,2,     77.5,6,    53.68,6,    35.58,6,     0.00,6,     2.53,6,   2262.2,2,   2322.1,2,   7.5052,2,    25.00,     1428
  49UP20170201,RF1702,  6006,  1,     21,  25830,2,20170224,1250,  9.4898, 149.3303, 4767,    705.6,   6.2466,  34.5301,2,  34.5303,2,     77.0,2,    62.15,2,    36.90,2,     0.00,2,     2.62,2,   2273.0,2,   2331.2,2,   7.4980,2,    25.00,     1425
  49UP20170201,RF1702,  6006,  1,     20,  25829,2,20170224,1250,  9.4898, 149.3303, 4767,    807.6,   5.6054,  34.5343,2,  34.5333,2,     72.7,2,    72.21,2,    38.28,2,     0.00,2,     2.73,2,   2290.2,2,   2341.3,2,   7.4821,2,    25.00,     1422
  49UP20170201,RF1702,  6006,  1,     19,  25828,2,20170224,1250,  9.4898, 149.3303, 4767,    907.1,   5.1126,  34.5434,2,  34.5421,2,     77.2,2,    79.33,2,    38.66,2,     0.00,2,     2.75,2,   2296.8,2,   2349.5,2,   7.4831,2,    25.00,     1419
  49UP20170201,RF1702,  6006,  1,     18,  25827,2,20170224,1250,  9.4898, 149.3303, 4767,   1009.9,   4.6417,  34.5493,2,  34.5493,2,     78.4,2,    89.38,2,    39.09,2,     0.00,2,     2.78,2,   2309.3,2,   2360.1,2,   7.4820,2,    25.00,     1414
  49UP20170201,RF1702,  6006,  1,     17,  25826,2,20170224,1250,  9.4898, 149.3303, 4767,   1210.3,   3.7764,  34.5709,2,  34.5707,2,     85.5,2,   106.43,2,    39.31,2,     0.00,2,     2.79,2,   2330.4,2,   2378.7,2,   7.4876,2,    25.00,     1409
  49UP20170201,RF1702,  6006,  1,     16,  25825,2,20170224,1250,  9.4898, 149.3303, 4767,   1415.0,   3.1851,  34.5875,2,  34.5874,2,     91.5,2,   119.16,2,    39.33,2,     0.00,2,     2.79,2,   2334.5,2,   2390.5,2,   7.4958,2,    25.00,     1404
  49UP20170201,RF1702,  6006,  1,     15,  25824,2,20170224,1250,  9.4898, 149.3303, 4767,   1615.4,   2.6527,  34.6095,2,  34.6087,2,     99.9,2,   129.22,2,    39.06,2,     0.00,2,     2.76,2,   2338.6,2,   2400.6,2,   7.5069,2,    25.00,     1358
  49UP20170201,RF1702,  6006,  1,     14,  25823,2,20170224,1250,  9.4898, 149.3303, 4767,   1817.2,   2.3972,  34.6239,2,  34.6241,2,    103.5,6,   135.46,6,    39.10,6,     0.00,6,     2.75,6,   2344.7,2,   2407.3,2,   7.5110,2,    25.00,     1353
  49UP20170201,RF1702,  6006,  1,     13,  25822,2,20170224,1250,  9.4898, 149.3303, 4767,   2020.2,   2.2011,  34.6345,2,  34.6356,2,    108.2,2,   139.67,2,    38.96,2,     0.00,2,     2.73,2,   2346.8,6,   2413.3,6,   7.5166,2,    25.00,     1349
  49UP20170201,RF1702,  6006,  1,     12,  25821,2,20170224,1250,  9.4898, 149.3303, 4767,   2274.2,   1.9965,  34.6437,2,  34.6460,4,    117.0,2,   142.19,2,    38.27,2,     0.00,2,     2.68,2,   2343.7,2,   2415.0,2,   7.5327,6,    25.00,     1343
  49UP20170201,RF1702,  6006,  1,     11,  25820,2,20170224,1250,  9.4898, 149.3303, 4767,   2528.7,   1.8006,  34.6548,2,  34.6565,4,    124.3,2,   145.34,2,    37.92,2,     0.00,2,     2.64,2,   2341.3,2,   2417.4,2,   7.5433,2,    25.00,     1338
  49UP20170201,RF1702,  6006,  1,     10,  25819,2,20170224,1250,  9.4898, 149.3303, 4767,   2782.0,   1.7027,  34.6626,2,  34.6636,2,    131.2,2,   145.61,2,    37.52,2,     0.00,2,     2.60,2,   2337.0,2,   2418.2,2,   7.5520,2,    25.00,     1333
  49UP20170201,RF1702,  6006,  1,      9,  25818,2,20170224,1250,  9.4898, 149.3303, 4767,   3038.3,   1.6351,  34.6683,2,  34.6684,6,    136.9,2,   145.31,2,    37.14,2,     0.00,2,     2.59,2,   2335.5,2,   2418.5,2,   7.5594,2,    25.00,     1328
  49UP20170201,RF1702,  6006,  1,      8,  25817,2,20170224,1250,  9.4898, 149.3303, 4767,   3292.5,   1.5525,  34.6751,2,  34.6769,4,    142.5,2,   145.19,2,    36.75,2,     0.00,2,     2.57,2,   2331.3,2,   2417.2,2,   7.5682,2,    25.00,     1323
  49UP20170201,RF1702,  6006,  1,      7,  25816,2,20170224,1250,  9.4898, 149.3303, 4767,   3547.3,   1.4892,  34.6811,2,  34.6806,2,    150.7,2,   143.04,2,    36.25,2,     0.00,2,     2.51,2,   2327.1,6,   2415.7,6,   7.5787,2,    25.00,     1318
  49UP20170201,RF1702,  6006,  1,      6,  25815,2,20170224,1250,  9.4898, 149.3303, 4767,   3804.7,   1.4677,  34.6844,2,  34.6846,2,    155.9,2,   140.80,2,    35.83,2,     0.00,2,     2.47,2,   2322.3,2,   2412.1,2,   7.5863,6,    25.00,     1313
  49UP20170201,RF1702,  6006,  1,      5,  25814,2,20170224,1250,  9.4898, 149.3303, 4767,   4061.2,   1.4501,  34.6877,2,  34.6877,2,    160.8,2,   138.56,2,    35.49,2,     0.00,2,     2.45,2,   2317.1,2,   2409.0,2,   7.5923,2,    25.00,     1308
  49UP20170201,RF1702,  6006,  1,      4,  25813,2,20170224,1250,  9.4898, 149.3303, 4767,   4317.5,   1.4447,  34.6904,2,  34.6902,6,    164.9,2,   136.82,2,    35.18,2,     0.00,2,     2.44,2,   2314.6,2,   2408.6,2,   7.5929,2,    25.00,     1302
  49UP20170201,RF1702,  6006,  1,      3,  25812,3,20170224,1250,  9.4898, 149.3303, 4767,   4572.2,   1.4493,  34.6922,2,  34.6922,2,    168.0,6,   135.29,6,    34.85,6,     0.00,6,     2.41,6,   2312.1,2,   2406.0,2,   7.6008,2,    25.00,     1257
  49UP20170201,RF1702,  6006,  1,      2,  25811,2,20170224,1250,  9.4898, 149.3303, 4767,   4831.9,   1.4538,  34.6945,2,  34.6954,4,    171.2,2,   133.79,2,    34.67,2,     0.00,2,     2.39,2,   2306.3,2,   2404.2,2,   7.6046,2,    25.00,     1252
  49UP20170201,RF1702,  6006,  1,      1,  25810,2,20170224,1250,  9.4898, 149.3303, 4767,   4907.8,   1.4588,  34.6950,2,  34.6950,6,    170.8,2,   133.55,2,    34.65,2,     0.00,2,     2.40,2,   2309.4,2,   2404.4,2,   7.6053,2,    25.00,     1250