BOTTLE,20200109PRINUNIVRMK
EXPOCODE,SECT_ID,STNNBR,CASTNO,SAMPNO,BTLNBR,BTLNBR_FLAG_W,DATE,TIME,LATITUDE,LONGITUDE,DEPTH,CTDPRS,CTDTMP,CTDSAL,CTDSAL_FLAG_W,SALNTY,SALNTY_FLAG_W,OXYGEN,OXYGEN_FLAG_W,SILCAT,SILCAT_FLAG_W,NITRAT,NITRAT_FLAG_W,NITRIT,NITRIT_FLAG_W,PHSPHT,PHSPHT_FLAG_W,TCARBN,TCARBN_FLAG_W,ALKALI,ALKALI_FLAG_W,PH_TOT,PH_TOT_FLAG_W,PH_TMP,BTL_TIME
,,,,,,,,,,,METERS,DBAR,ITS-90,PSS-78,,PSS-78,,UMOL/KG,,UMOL/KG,,UMOL/KG,,UMOL/KG,,UMOL/KG,,UMOL/KG,,UMOL/KG,,,,DEG C,
  49UP20170201,RF1702,  6017,  1,     99,     99,2,20170227,1259,  8.9927, 137.9947, 3170,      0.0,  28.7663,  34.0575,2,-999.0000,9,    196.4,2,     1.11,2,     0.02,2,     0.00,2,     0.04,2,   -999.0,9,   -999.0,9,-999.0000,9,  -999.00,     1335
  49UP20170201,RF1702,  6017,  1,     36,  25845,3,20170227,1259,  8.9927, 137.9947, 3170,     11.0,  28.7677,  34.0572,2,-999.0000,9,    196.2,2,     1.13,2,     0.02,2,     0.00,2,     0.04,2,   -999.0,9,   -999.0,9,-999.0000,9,  -999.00,     1400
  49UP20170201,RF1702,  6017,  1,     35,  25844,2,20170227,1259,  8.9927, 137.9947, 3170,     25.6,  28.7786,  34.0572,2,-999.0000,9,    196.5,2,     1.15,2,     0.03,2,     0.00,2,     0.04,2,   -999.0,9,   -999.0,9,-999.0000,9,  -999.00,     1359
  49UP20170201,RF1702,  6017,  1,     34,  25843,2,20170227,1259,  8.9927, 137.9947, 3170,     49.7,  28.7837,  34.0577,2,-999.0000,9,    196.2,2,     1.16,2,     0.04,2,     0.00,2,     0.04,2,   -999.0,9,   -999.0,9,-999.0000,9,  -999.00,     1358
  49UP20170201,RF1702,  6017,  1,     30,  25839,2,20170227,1259,  8.9927, 137.9947, 3170,     75.5,  28.7800,  34.0598,2,-999.0000,9,    196.3,2,     1.16,2,     0.02,2,     0.00,2,     0.05,2,   -999.0,9,   -999.0,9,-999.0000,9,  -999.00,     1356
  49UP20170201,RF1702,  6017,  1,     29,  25838,2,20170227,1259,  8.9927, 137.9947, 3170,    100.7,  23.0111,  34.8425,2,-999.0000,9,    162.4,6,     4.38,6,     4.23,6,     0.13,6,     0.43,6,   -999.0,9,   -999.0,9,-999.0000,9,  -999.00,     1353
  49UP20170201,RF1702,  6017,  1,     28,  25837,3,20170227,1259,  8.9927, 137.9947, 3170,    125.3,  19.8409,  34.7863,2,-999.0000,9,    153.4,2,     7.58,2,     8.12,2,     0.03,2,     0.68,2,   -999.0,9,   -999.0,9,-999.0000,9,  -999.00,     1352
  49UP20170201,RF1702,  6017,  1,     27,  25836,2,20170227,1259,  8.9927, 137.9947, 3170,    125.7,  19.8232,  34.7740,2,-999.0000,9,    152.4,2,     7.85,2,     8.47,2,     0.03,2,     0.70,2,   -999.0,9,   -999.0,9,-999.0000,9,  -999.00,     1352
  49UP20170201,RF1702,  6017,  1,     26,  25835,2,20170227,1259,  8.9927, 137.9947, 3170,    151.1,  16.2471,  34.6474,2,-999.0000,9,    139.4,2,    13.01,2,    13.52,2,     0.01,2,     1.02,2,   -999.0,9,   -999.0,9,-999.0000,9,  -999.00,     1350
  49UP20170201,RF1702,  6017,  1,     25,  25834,2,20170227,1259,  8.9927, 137.9947, 3170,    202.3,  13.1025,  34.5111,2,-999.0000,9,    118.2,2,    20.64,2,    19.86,2,     0.00,2,     1.45,2,   -999.0,9,   -999.0,9,-999.0000,9,  -999.00,     1348
  49UP20170201,RF1702,  6017,  1,     21,  25830,2,20170227,1259,  8.9927, 137.9947, 3170,    251.9,  10.7864,  34.4844,2,-999.0000,9,     97.6,2,    29.96,2,    25.92,2,     0.00,2,     1.86,2,   -999.0,9,   -999.0,9,-999.0000,9,  -999.00,     1346
  49UP20170201,RF1702,  6017,  1,     20,  25829,2,20170227,1259,  8.9927, 137.9947, 3170,    303.2,   9.3603,  34.4965,2,-999.0000,9,     86.2,2,    36.59,2,    29.67,2,     0.00,2,     2.11,2,   -999.0,9,   -999.0,9,-999.0000,9,  -999.00,     1345
  49UP20170201,RF1702,  6017,  1,     19,  25828,2,20170227,1259,  8.9927, 137.9947, 3170,    353.1,   8.6052,  34.5111,2,-999.0000,9,     88.1,2,    40.07,2,    31.11,2,     0.00,2,     2.20,2,   -999.0,9,   -999.0,9,-999.0000,9,  -999.00,     1342
  49UP20170201,RF1702,  6017,  1,     18,  25827,2,20170227,1259,  8.9927, 137.9947, 3170,    404.4,   8.0776,  34.5183,2,-999.0000,9,     94.2,2,    42.02,2,    31.67,2,     0.00,2,     2.23,2,   -999.0,9,   -999.0,9,-999.0000,9,  -999.00,     1341
  49UP20170201,RF1702,  6017,  1,     17,  25826,2,20170227,1259,  8.9927, 137.9947, 3170,    453.6,   7.6800,  34.5075,2,-999.0000,9,     92.9,2,    45.29,2,    32.53,2,     0.00,2,     2.29,2,   -999.0,9,   -999.0,9,-999.0000,9,  -999.00,     1339
  49UP20170201,RF1702,  6017,  1,     16,  25825,2,20170227,1259,  8.9927, 137.9947, 3170,    504.1,   7.2595,  34.5067,2,-999.0000,9,     97.2,2,    48.16,2,    32.91,2,     0.00,2,     2.32,2,   -999.0,9,   -999.0,9,-999.0000,9,  -999.00,     1337
  49UP20170201,RF1702,  6017,  1,     12,  25821,2,20170227,1259,  8.9927, 137.9947, 3170,    605.0,   6.5910,  34.5153,2,-999.0000,9,     96.0,6,    54.84,6,    34.41,6,     0.00,6,     2.43,6,   -999.0,9,   -999.0,9,-999.0000,9,  -999.00,     1334
  49UP20170201,RF1702,  6017,  1,     11,  25820,2,20170227,1259,  8.9927, 137.9947, 3170,    705.8,   6.0587,  34.5193,2,-999.0000,9,     94.2,2,    62.04,2,    35.49,2,     0.00,2,     2.51,2,   -999.0,9,   -999.0,9,-999.0000,9,  -999.00,     1331
  49UP20170201,RF1702,  6017,  1,      9,  25818,2,20170227,1259,  8.9927, 137.9947, 3170,    807.0,   5.6325,  34.5245,2,-999.0000,9,     91.2,2,    69.83,2,    36.44,2,     0.00,2,     2.58,2,   -999.0,9,   -999.0,9,-999.0000,9,  -999.00,     1328
  49UP20170201,RF1702,  6017,  1,     10,  25819,2,20170227,1259,  8.9927, 137.9947, 3170,    807.2,   5.6359,  34.5247,2,-999.0000,9,     91.4,2,    69.77,2,    36.42,2,     0.00,2,     2.58,2,   -999.0,9,   -999.0,9,-999.0000,9,  -999.00,     1329
  49UP20170201,RF1702,  6017,  1,      8,  25817,3,20170227,1259,  8.9927, 137.9947, 3170,    907.8,   5.0702,  34.5367,2,-999.0000,9,     87.1,2,    80.71,2,    37.56,2,     0.00,2,     2.66,2,   -999.0,9,   -999.0,9,-999.0000,9,  -999.00,     1326
  49UP20170201,RF1702,  6017,  1,      7,  25816,2,20170227,1259,  8.9927, 137.9947, 3170,   1008.4,   4.6066,  34.5476,2,-999.0000,9,     87.1,2,    89.47,2,    38.11,2,     0.00,2,     2.70,2,   -999.0,9,   -999.0,9,-999.0000,9,  -999.00,     1323
  49UP20170201,RF1702,  6017,  1,      5,  25814,2,20170227,1259,  8.9927, 137.9947, 3170,   1210.6,   3.9047,  34.5653,2,-999.0000,9,     89.8,2,   103.83,2,    38.69,2,     0.00,2,     2.74,2,   -999.0,9,   -999.0,9,-999.0000,9,  -999.00,     1317
  49UP20170201,RF1702,  6017,  1,      4,  25813,2,20170227,1259,  8.9927, 137.9947, 3170,   1411.6,   3.2889,  34.5850,2,-999.0000,9,     95.0,2,   116.27,2,    38.88,2,     0.00,2,     2.75,2,   -999.0,9,   -999.0,9,-999.0000,9,  -999.00,     1313
  49UP20170201,RF1702,  6017,  1,      3,  25812,2,20170227,1259,  8.9927, 137.9947, 3170,   1616.2,   2.8223,  34.6045,2,-999.0000,9,    101.4,2,   125.22,2,    38.79,2,     0.00,2,     2.73,2,   -999.0,9,   -999.0,9,-999.0000,9,  -999.00,     1309
  49UP20170201,RF1702,  6017,  1,      2,  25811,2,20170227,1259,  8.9927, 137.9947, 3170,   1818.3,   2.5069,  34.6173,2,-999.0000,9,    107.3,2,   131.70,2,    38.64,2,     0.00,2,     2.71,2,   -999.0,9,   -999.0,9,-999.0000,9,  -999.00,     1303
  49UP20170201,RF1702,  6017,  1,      1,  25810,2,20170227,1259,  8.9927, 137.9947, 3170,   2022.2,   2.2324,  34.6307,2,-999.0000,9,    113.7,2,   136.06,2,    38.28,2,     0.00,2,     2.68,2,   -999.0,9,   -999.0,9,-999.0000,9,  -999.00,     1259
  49UP20170201,RF1702,  6018,  1,     99,     99,2,20170227,2045,  8.9947, 137.0008, 3692,      0.0,  28.5456,  34.0355,2,  34.0410,2,    197.4,2,     1.27,2,     0.02,2,     0.00,2,     0.03,2,   1910.7,2,   2233.8,2,   8.1132,2,    25.00,     2155
  49UP20170201,RF1702,  6018,  1,     36,  25845,2,20170227,2045,  8.9947, 137.0008, 3692,     10.4,  28.5553,  34.0375,2,  34.0345,2,    197.2,2,     1.23,2,     0.01,2,     0.00,2,     0.02,2,   1912.0,2,   2235.7,2,   8.1145,2,    25.00,     2219
  49UP20170201,RF1702,  6018,  1,     35,  25844,2,20170227,2045,  8.9947, 137.0008, 3692,     25.1,  28.5594,  34.0385,2,-999.0000,9,    196.8,2,     1.23,2,     0.02,2,     0.00,2,     0.02,2,   1912.8,2,   2235.5,2,   8.1107,2,    25.00,     2218
  49UP20170201,RF1702,  6018,  1,     34,  25843,2,20170227,2045,  8.9947, 137.0008, 3692,     49.0,  28.4034,  34.1819,2,  34.1908,4,    196.5,2,     1.35,2,     0.01,2,     0.00,2,     0.03,2,   1926.9,2,   2246.7,2,   8.1075,2,    25.00,     2216
  49UP20170201,RF1702,  6018,  1,     32,  25841,2,20170227,2045,  8.9947, 137.0008, 3692,     75.5,  26.8501,  34.6982,2,  34.6960,2,    191.5,2,     1.75,2,     0.01,2,     0.00,2,     0.11,2,   1990.5,2,   2281.7,2,   8.0549,2,    25.00,     2215
  49UP20170201,RF1702,  6018,  1,     31,  25840,2,20170227,2045,  8.9947, 137.0008, 3692,    100.3,  23.4505,  34.8610,2,  34.8672,2,    172.6,2,     3.77,2,     2.53,2,     0.27,2,     0.35,2,   2043.7,2,   2296.2,2,   7.9747,2,    25.00,     2211
  49UP20170201,RF1702,  6018,  1,     30,  25839,2,20170227,2045,  8.9947, 137.0008, 3692,    126.0,  19.5428,  34.7906,2,  34.7877,2,    153.9,6,     7.81,6,     8.17,6,     0.03,6,     0.68,6,   2085.0,2,   2292.3,2,   7.8791,2,    25.00,     2211
  49UP20170201,RF1702,  6018,  1,     29,  25838,2,20170227,2045,  8.9947, 137.0008, 3692,    151.8,  16.5823,  34.6750,2,  34.6911,4,    150.9,2,    10.11,2,    10.88,2,     0.01,2,     0.84,2,   2104.5,2,   2286.8,2,   7.8290,2,    25.00,     2210
  49UP20170201,RF1702,  6018,  1,     28,  25837,2,20170227,2045,  8.9947, 137.0008, 3692,    152.3,  16.5445,  34.6758,2,  34.6878,4,    150.7,2,    10.22,2,    11.00,2,     0.01,2,     0.85,2,   2103.9,2,   2287.0,2,   7.8241,2,    25.00,     2209
  49UP20170201,RF1702,  6018,  1,     27,  25836,2,20170227,2045,  8.9947, 137.0008, 3692,    199.9,  12.9403,  34.5036,2,  34.5063,2,    123.6,2,    20.42,2,    19.37,2,     0.00,2,     1.41,2,   2156.5,2,   2285.1,2,   7.7008,2,    25.00,     2208
  49UP20170201,RF1702,  6018,  1,     26,  25835,2,20170227,2045,  8.9947, 137.0008, 3692,    250.0,  10.8021,  34.4727,2,  34.4738,2,    102.8,2,    29.76,2,    25.30,2,     0.00,2,     1.82,2,   2193.9,2,   2291.1,2,   7.6174,2,    25.00,     2206
  49UP20170201,RF1702,  6018,  1,     25,  25834,2,20170227,2045,  8.9947, 137.0008, 3692,    302.4,   8.7841,  34.4538,2,  34.4544,2,     89.7,2,    41.16,2,    30.36,2,     0.00,2,     2.17,2,   2227.3,2,   2301.9,2,   7.5543,2,    25.00,     2204
  49UP20170201,RF1702,  6018,  1,     24,  25833,2,20170227,2045,  8.9947, 137.0008, 3692,    352.6,   8.0748,  34.4460,2,  34.4487,2,     92.2,2,    45.31,2,    31.38,2,     0.00,2,     2.23,2,   2233.7,2,   2305.5,2,   7.5424,2,    25.00,     2203
  49UP20170201,RF1702,  6018,  1,     23,  25832,2,20170227,2045,  8.9947, 137.0008, 3692,    401.9,   7.5904,  34.4926,2,  34.4911,2,     98.0,2,    45.92,2,    32.12,2,     0.00,2,     2.26,2,   2241.2,2,   2311.2,2,   7.5481,2,    25.00,     2201
  49UP20170201,RF1702,  6018,  1,     22,  25831,2,20170227,2045,  8.9947, 137.0008, 3692,    452.2,   7.3134,  34.5194,2,  34.5191,2,    104.9,2,    44.85,2,    32.35,2,     0.00,2,     2.27,2,   2243.3,2,   2311.4,2,   7.5544,6,    25.00,     2159
  49UP20170201,RF1702,  6018,  1,     21,  25830,2,20170227,2045,  8.9947, 137.0008, 3692,    504.4,   7.0520,  34.5259,2,  34.5250,2,    107.1,2,    45.95,2,    32.77,2,     0.00,2,     2.30,2,   2239.7,6,   2313.9,6,   7.5563,2,    25.00,     2158
  49UP20170201,RF1702,  6018,  1,     20,  25829,2,20170227,2045,  8.9947, 137.0008, 3692,    604.6,   6.6394,  34.5186,2,  34.5174,2,    100.1,2,    52.87,2,    34.12,2,     0.00,2,     2.40,2,   2251.1,2,   2319.4,2,   7.5365,2,    25.00,     2155
  49UP20170201,RF1702,  6018,  1,     19,  25828,2,20170227,2045,  8.9947, 137.0008, 3692,    705.7,   6.1890,  34.5242,2,  34.5243,2,     95.6,2,    59.17,2,    35.35,2,     0.00,2,     2.51,2,   2260.8,2,   2327.2,2,   7.5241,2,    25.00,     2152
  49UP20170201,RF1702,  6018,  1,     18,  25827,2,20170227,2045,  8.9947, 137.0008, 3692,    804.8,   5.6767,  34.5273,2,  34.5266,2,     93.4,2,    67.91,2,    36.32,2,     0.00,2,     2.57,2,   2274.0,2,   2336.2,2,   7.5134,2,    25.00,     2150
  49UP20170201,RF1702,  6018,  1,     17,  25826,2,20170227,2045,  8.9947, 137.0008, 3692,    905.9,   5.0924,  34.5373,2,  34.5364,2,     91.5,6,    78.89,6,    37.17,6,     0.00,6,     2.64,6,   2286.8,2,   2347.4,2,   7.5101,2,    25.00,     2147
  49UP20170201,RF1702,  6018,  1,     16,  25825,2,20170227,2045,  8.9947, 137.0008, 3692,   1008.5,   4.7227,  34.5455,2,  34.5454,2,     90.2,2,    87.00,2,    37.82,2,     0.00,2,     2.68,2,   2299.1,2,   2356.1,2,   7.4999,2,    25.00,     2143
  49UP20170201,RF1702,  6018,  1,     15,  25824,2,20170227,2045,  8.9947, 137.0008, 3692,   1210.2,   3.9340,  34.5649,2,  34.5649,2,     91.0,2,   102.99,2,    38.58,2,     0.00,2,     2.74,2,   2316.2,2,   2371.9,2,   7.4971,2,    25.00,     2139
  49UP20170201,RF1702,  6018,  1,     14,  25823,2,20170227,2045,  8.9947, 137.0008, 3692,   1411.1,   3.2939,  34.5843,2,  34.5842,2,     95.7,2,   116.17,2,    38.78,2,     0.00,2,     2.74,2,   2324.9,2,   2384.9,2,   7.5040,2,    25.00,     2135
  49UP20170201,RF1702,  6018,  1,     13,  25822,2,20170227,2045,  8.9947, 137.0008, 3692,   1615.0,   2.7932,  34.6034,2,  34.6034,2,    102.5,2,   126.07,2,    38.73,2,     0.00,2,     2.73,2,   2332.4,2,   2396.6,2,   7.5103,6,    25.00,     2130
  49UP20170201,RF1702,  6018,  1,     12,  25821,2,20170227,2045,  8.9947, 137.0008, 3692,   1817.1,   2.4375,  34.6209,2,  34.6203,2,    109.7,2,   132.83,2,    38.55,2,     0.00,2,     2.70,2,   2337.8,6,   2403.7,6,   7.5185,2,    25.00,     2126
  49UP20170201,RF1702,  6018,  1,     11,  25820,2,20170227,2045,  8.9947, 137.0008, 3692,   2019.1,   2.2113,  34.6325,2,  34.6317,4,    115.3,2,   136.15,2,    38.19,2,     0.00,2,     2.68,2,   2338.6,2,   2407.3,2,   7.5253,2,    25.00,     2121
  49UP20170201,RF1702,  6018,  1,     10,  25819,2,20170227,2045,  8.9947, 137.0008, 3692,   2020.0,   2.2106,  34.6328,2,  34.6330,2,    115.7,2,   136.57,2,    38.20,2,     0.00,2,     2.68,2,   2338.4,2,   2407.0,2,   7.5295,2,    25.00,     2121
  49UP20170201,RF1702,  6018,  1,      8,  25817,3,20170227,2045,  8.9947, 137.0008, 3692,   2272.7,   1.9654,  34.6455,2,  34.6456,6,    122.8,2,   140.83,2,    37.83,2,     0.00,2,     2.65,2,   2342.9,2,   2411.0,2,   7.5396,2,    25.00,     2116
  49UP20170201,RF1702,  6018,  1,      7,  25816,2,20170227,2045,  8.9947, 137.0008, 3692,   2526.7,   1.7474,  34.6595,2,  34.6599,2,    133.7,2,   142.04,2,    37.18,2,     0.00,2,     2.59,2,   2336.7,2,   2413.1,2,   7.5529,6,    25.00,     2111
  49UP20170201,RF1702,  6018,  1,      6,  25815,2,20170227,2045,  8.9947, 137.0008, 3692,   2782.5,   1.6202,  34.6679,2,  34.6681,2,    141.7,2,   142.09,2,    36.66,2,     0.00,2,     2.56,2,   2332.8,6,   2411.4,6,   7.5664,2,    25.00,     2105
  49UP20170201,RF1702,  6018,  1,      5,  25814,2,20170227,2045,  8.9947, 137.0008, 3692,   3039.2,   1.5576,  34.6730,2,  34.6737,6,    146.4,6,   142.00,6,    36.37,6,     0.00,6,     2.53,6,   2327.9,2,   2410.0,2,   7.5723,2,    25.00,     2100
  49UP20170201,RF1702,  6018,  1,      4,  25813,2,20170227,2045,  8.9947, 137.0008, 3692,   3292.8,   1.5322,  34.6762,2,  34.6775,2,    149.4,2,   141.54,2,    36.15,2,     0.00,2,     2.51,2,   2330.4,2,   2409.9,2,   7.5799,2,    25.00,     2055
  49UP20170201,RF1702,  6018,  1,      2,  25811,2,20170227,2045,  8.9947, 137.0008, 3692,   3549.3,   1.5363,  34.6779,2,  34.6810,4,    151.0,2,   141.44,2,    36.07,2,     0.00,2,     2.50,2,   2326.0,2,   2409.4,2,   7.5805,2,    25.00,     2049
  49UP20170201,RF1702,  6018,  1,      3,  25812,2,20170227,2045,  8.9947, 137.0008, 3692,   3549.4,   1.5365,  34.6777,2,  34.6793,2,    150.9,2,   141.24,2,    36.01,2,     0.00,2,     2.50,2,   2326.1,2,   2409.8,2,   7.5776,2,    25.00,     2050
  49UP20170201,RF1702,  6018,  1,      1,  25810,2,20170227,2045,  8.9947, 137.0008, 3692,   3768.0,   1.5490,  34.6786,2,  34.6783,6,    150.9,2,   140.67,2,    35.99,2,     0.00,2,     2.50,2,   2325.7,2,   2409.3,2,   7.5809,2,    25.00,     2045