BOTTLE,20200109PRINUNIVRMK
# 08/30/2019 Initialized README file  
# Data source:  Masao Ishii 2018/11/30 
# SHIP: R/V Ryofu Maru III 
# Cruise: RF17.02 
# Region: North Pacific Ocean 
# EXPOCODE: 49UP20170201 
# DATES: 20170201-20170310 
# Chief Scientist: Keizo Shutta 
# 24 stations with 36 place Rosette 
# CTD: Who - Kazuhiro Nemoto; Status - final 
# 	Includes: CTDSAL 
# SALNTY: Who - Kazuhiro Nemoto; Status - final 
# 	Notes: 	 
# Nutrients: Who - Kazuhiro Nemoto; Status - final 
# 	Includes: nitrate, nitrite, silicate, phosphate 
# 	Nitrite and NO3+NO2 reported. Separated by subtraction 
# OXYGEN: Who - Kazuhiro Nemoto; Status - final 
# 	Notes: 
# TCARBN: Who - Kazuhiro Nemoto; Status - final 
# 	Notes:  
# ALKALI: Who - Kazuhiro Nemoto; Status - final 
# 	Notes:  
# pH: Who - Kazuhiro Nemoto; Status - final 
# 	Notes: total H+ scale at 25C 
# CFC: Who - Kazuhiro Nemoto; Status - measured, not reported 
# 	Notes:  
# These data should be cited as:               
# References that have used data from this cruise: 
EXPOCODE,SECT_ID,STNNBR,CASTNO,SAMPNO,BTLNBR,BTLNBR_FLAG_W,DATE,TIME,LATITUDE,LONGITUDE,DEPTH,CTDPRS,CTDTMP,CTDSAL,CTDSAL_FLAG_W,SALNTY,SALNTY_FLAG_W,OXYGEN,OXYGEN_FLAG_W,SILCAT,SILCAT_FLAG_W,NITRAT,NITRAT_FLAG_W,NITRIT,NITRIT_FLAG_W,PHSPHT,PHSPHT_FLAG_W,TCARBN,TCARBN_FLAG_W,ALKALI,ALKALI_FLAG_W,PH_TOT,PH_TOT_FLAG_W,PH_TMP,BTL_TIME
,,,,,,,,,,,METERS,DBAR,ITS-90,PSS-78,,PSS-78,,UMOL/KG,,UMOL/KG,,UMOL/KG,,UMOL/KG,,UMOL/KG,,UMOL/KG,,UMOL/KG,,,,DEG C,
  49UP20170201,RF1702,  5981,  1,     99,     99,2,20170207,0330, 25.0078, 164.9547, 5933,      0.0,  24.3414,  35.2125,2,  35.2249,2,    209.7,2,     1.14,2,     0.05,2,     0.00,2,     0.03,2,   1996.0,2,   2313.4,2,   8.0850,2,    25.00,      355
  49UP20170201,RF1702,  5981,  1,     36,  25845,2,20170207,0330, 25.0078, 164.9547, 5933,     11.0,  24.3501,  35.2128,2,  35.2123,2,    209.2,2,     1.14,2,     0.04,2,     0.00,2,     0.01,2,   -999.0,9,   -999.0,9,-999.0000,9,  -999.00,      426
  49UP20170201,RF1702,  5981,  1,     35,  25844,2,20170207,0330, 25.0078, 164.9547, 5933,     25.5,  24.3510,  35.2134,2,-999.0000,9,    209.3,2,     1.14,2,     0.04,2,     0.00,2,     0.01,2,   -999.0,9,   -999.0,9,-999.0000,9,  -999.00,      424
  49UP20170201,RF1702,  5981,  1,     34,  25843,2,20170207,0330, 25.0078, 164.9547, 5933,     50.7,  24.3256,  35.2083,2,  35.2083,2,    209.2,2,     1.14,2,     0.05,2,     0.00,2,     0.01,2,   -999.0,9,   -999.0,9,-999.0000,9,  -999.00,      423
  49UP20170201,RF1702,  5981,  1,     30,  25839,2,20170207,0330, 25.0078, 164.9547, 5933,     75.1,  23.7629,  35.2270,2,  35.2270,2,    211.1,2,     1.19,2,     0.06,2,     0.00,2,     0.01,2,   -999.0,9,   -999.0,9,-999.0000,9,  -999.00,      422
  49UP20170201,RF1702,  5981,  1,     29,  25838,2,20170207,0330, 25.0078, 164.9547, 5933,    100.3,  23.2431,  35.2097,2,  35.2091,2,    212.4,6,     1.27,6,     0.05,6,     0.00,6,     0.01,6,   -999.0,9,   -999.0,9,-999.0000,9,  -999.00,      418
  49UP20170201,RF1702,  5981,  1,     28,  25837,2,20170207,0330, 25.0078, 164.9547, 5933,    124.4,  22.6831,  35.1389,2,  35.1369,2,    214.0,2,     1.42,2,     0.05,2,     0.00,2,     0.01,2,   -999.0,9,   -999.0,9,-999.0000,9,  -999.00,      417
  49UP20170201,RF1702,  5981,  1,     27,  25836,2,20170207,0330, 25.0078, 164.9547, 5933,    151.8,  20.8783,  35.1329,2,  35.1345,2,    206.8,2,     1.93,2,     0.40,2,     0.12,2,     0.09,2,   -999.0,9,   -999.0,9,-999.0000,9,  -999.00,      416
  49UP20170201,RF1702,  5981,  1,     26,  25835,2,20170207,0330, 25.0078, 164.9547, 5933,    201.3,  17.9397,  34.8135,2,  34.8124,6,    211.5,2,     2.94,2,     2.57,2,     0.01,2,     0.20,2,   -999.0,9,   -999.0,9,-999.0000,9,  -999.00,      415
  49UP20170201,RF1702,  5981,  1,     25,  25834,2,20170207,0330, 25.0078, 164.9547, 5933,    250.9,  16.9347,  34.7293,2,  34.7294,2,    208.2,2,     4.22,2,     4.85,2,     0.00,2,     0.32,2,   -999.0,9,   -999.0,9,-999.0000,9,  -999.00,      413
  49UP20170201,RF1702,  5981,  1,     21,  25830,2,20170207,0330, 25.0078, 164.9547, 5933,    302.0,  16.1759,  34.6600,2,  34.6599,2,    207.9,2,     5.56,2,     6.08,2,     0.00,2,     0.40,2,   -999.0,9,   -999.0,9,-999.0000,9,  -999.00,      412
  49UP20170201,RF1702,  5981,  1,     19,  25828,2,20170207,0330, 25.0078, 164.9547, 5933,    403.4,  13.7419,  34.4490,2,  34.4520,2,    205.0,2,    10.80,2,    10.09,2,     0.00,2,     0.69,2,   -999.0,9,   -999.0,9,-999.0000,9,  -999.00,      409
  49UP20170201,RF1702,  5981,  1,     20,  25829,2,20170207,0330, 25.0078, 164.9547, 5933,    403.9,  13.7299,  34.4486,2,  34.4541,2,    204.4,2,    10.76,2,    10.04,2,     0.00,2,     0.69,2,   -999.0,9,   -999.0,9,-999.0000,9,  -999.00,      409
  49UP20170201,RF1702,  5981,  1,     18,  25827,2,20170207,0330, 25.0078, 164.9547, 5933,    502.5,  10.7478,  34.2238,2,  34.2255,2,    192.4,2,    21.01,2,    16.35,2,     0.00,2,     1.14,2,   -999.0,9,   -999.0,9,-999.0000,9,  -999.00,      406
  49UP20170201,RF1702,  5981,  1,     17,  25826,2,20170207,0330, 25.0078, 164.9547, 5933,    606.5,   7.5982,  34.0530,2,  34.0545,2,    154.8,2,    43.39,2,    25.63,2,     0.00,2,     1.83,2,   -999.0,9,   -999.0,9,-999.0000,9,  -999.00,      403
  49UP20170201,RF1702,  5981,  1,     16,  25825,2,20170207,0330, 25.0078, 164.9547, 5933,    708.7,   5.7602,  34.0832,2,  34.0798,2,     93.2,6,    68.94,6,    34.36,6,     0.00,6,     2.46,6,   -999.0,9,   -999.0,9,-999.0000,9,  -999.00,      401
  49UP20170201,RF1702,  5981,  1,     12,  25821,2,20170207,0330, 25.0078, 164.9547, 5933,    808.0,   4.8055,  34.1638,2,  34.1624,2,     57.4,2,    90.37,2,    39.12,2,     0.00,2,     2.81,2,   -999.0,9,   -999.0,9,-999.0000,9,  -999.00,      357
  49UP20170201,RF1702,  5981,  1,     11,  25820,2,20170207,0330, 25.0078, 164.9547, 5933,    907.6,   4.3461,  34.2434,2,  34.2449,2,     42.2,2,   102.42,2,    41.04,2,     0.00,2,     2.94,2,   -999.0,9,   -999.0,9,-999.0000,9,  -999.00,      355
  49UP20170201,RF1702,  5981,  1,     10,  25819,2,20170207,0330, 25.0078, 164.9547, 5933,   1009.0,   3.8644,  34.3483,2,  34.3507,2,     37.0,2,   115.26,2,    42.23,2,     0.00,2,     3.02,2,   -999.0,9,   -999.0,9,-999.0000,9,  -999.00,      352
  49UP20170201,RF1702,  5981,  1,      9,  25818,2,20170207,0330, 25.0078, 164.9547, 5933,   1210.7,   3.2107,  34.4617,2,  34.4616,6,     46.4,2,   130.75,2,    42.20,2,     0.00,2,     3.00,2,   -999.0,9,   -999.0,9,-999.0000,9,  -999.00,      347
  49UP20170201,RF1702,  5981,  1,      8,  25817,2,20170207,0330, 25.0078, 164.9547, 5933,   1413.1,   2.7426,  34.5179,2,  34.5182,2,     55.8,2,   141.70,2,    41.96,2,     0.00,2,     2.97,2,   -999.0,9,   -999.0,9,-999.0000,9,  -999.00,      343
  49UP20170201,RF1702,  5981,  1,      7,  25816,2,20170207,0330, 25.0078, 164.9547, 5933,   1614.4,   2.4062,  34.5588,2,  34.5586,2,     68.9,2,   147.63,2,    41.27,2,     0.00,2,     2.92,2,   -999.0,9,   -999.0,9,-999.0000,9,  -999.00,      339
  49UP20170201,RF1702,  5981,  1,      2,  25811,2,20170207,0330, 25.0078, 164.9547, 5933,   1818.3,   2.1469,  34.5913,2,  34.5913,2,     84.6,2,   150.36,2,    40.37,2,     0.00,2,     2.83,2,   -999.0,9,   -999.0,9,-999.0000,9,  -999.00,      334
  49UP20170201,RF1702,  5981,  1,      3,  25812,2,20170207,0330, 25.0078, 164.9547, 5933,   1818.8,   2.1468,  34.5914,2,  34.5929,2,     84.5,2,   150.49,2,    40.33,2,     0.00,2,     2.84,2,   -999.0,9,   -999.0,9,-999.0000,9,  -999.00,      334
  49UP20170201,RF1702,  5981,  1,      1,  25810,2,20170207,0330, 25.0078, 164.9547, 5933,   2021.8,   1.9708,  34.6130,2,  34.6147,2,     96.3,2,   151.86,2,    39.68,2,     0.00,2,     2.78,2,   -999.0,9,   -999.0,9,-999.0000,9,  -999.00,      330
  49UP20170201,RF1702,  5982,  1,     99,     99,2,20170207,1242, 24.0307, 165.0198, 6026,      0.0,  24.4694,  35.2323,2,  35.2296,2,    208.8,2,     1.08,2,     0.01,2,     0.00,2,     0.02,2,   1985.4,2,   2314.2,2,   8.0855,2,    25.00,     1437
  49UP20170201,RF1702,  5982,  1,     36,  25845,2,20170207,1242, 24.0307, 165.0198, 6026,     10.1,  24.4738,  35.2322,2,  35.2323,2,    208.7,2,     1.10,2,     0.03,2,     0.00,2,     0.02,2,   1991.7,2,   2313.9,2,   8.0862,2,    25.00,     1505
  49UP20170201,RF1702,  5982,  1,     35,  25844,2,20170207,1242, 24.0307, 165.0198, 6026,     25.9,  24.4409,  35.2343,2,-999.0000,9,    209.0,2,     1.08,2,     0.01,2,     0.00,2,     0.01,2,   1987.2,2,   2313.4,2,   8.0876,2,    25.00,     1504
  49UP20170201,RF1702,  5982,  1,     34,  25843,2,20170207,1242, 24.0307, 165.0198, 6026,     49.9,  24.4461,  35.2334,2,  35.2335,2,    209.1,2,     1.13,2,     0.00,2,     0.00,2,     0.02,2,   1989.5,2,   2314.4,2,   8.0876,2,    25.00,     1502
  49UP20170201,RF1702,  5982,  1,     33,  25842,2,20170207,1242, 24.0307, 165.0198, 6026,     76.0,  24.2612,  35.2519,2,  35.2511,2,    209.9,6,     1.14,6,     0.00,6,     0.00,6,     0.01,6,   1988.8,2,   2316.0,2,   8.0825,2,    25.00,     1501
  49UP20170201,RF1702,  5982,  1,     32,  25841,2,20170207,1242, 24.0307, 165.0198, 6026,    101.0,  23.3901,  35.2350,2,  35.2367,2,    211.5,2,     1.31,2,     0.01,2,     0.00,2,     0.02,2,   2000.0,2,   2314.9,2,   8.0676,2,    25.00,     1500
  49UP20170201,RF1702,  5982,  1,     31,  25840,2,20170207,1242, 24.0307, 165.0198, 6026,    126.9,  22.7305,  35.2256,2,  35.2271,2,    214.2,2,     1.42,2,     0.01,2,     0.00,2,     0.02,2,   2006.8,2,   2314.4,2,   8.0613,2,    25.00,     1459
  49UP20170201,RF1702,  5982,  1,     30,  25839,2,20170207,1242, 24.0307, 165.0198, 6026,    149.9,  22.2786,  35.2062,2,  35.2030,2,    213.7,2,     1.58,2,     0.05,2,     0.03,2,     0.03,2,   2012.5,2,   2312.3,2,   8.0442,2,    25.00,     1456
  49UP20170201,RF1702,  5982,  1,     29,  25838,2,20170207,1242, 24.0307, 165.0198, 6026,    201.7,  19.0538,  34.9809,2,  34.9757,2,    197.1,2,     2.94,2,     2.42,2,     0.01,2,     0.24,2,   2051.4,2,   2298.1,2,   7.9488,2,    25.00,     1455
  49UP20170201,RF1702,  5982,  1,     28,  25837,2,20170207,1242, 24.0307, 165.0198, 6026,    251.7,  16.5508,  34.6638,2,  34.6613,2,    172.6,2,     6.59,2,     8.01,2,     0.00,2,     0.65,2,   2088.8,2,   2282.2,2,   7.8486,2,    25.00,     1453
  49UP20170201,RF1702,  5982,  1,     27,  25836,2,20170207,1242, 24.0307, 165.0198, 6026,    301.2,  14.2523,  34.4486,2,  34.4513,2,    172.2,2,    10.33,2,    11.37,2,     0.00,2,     0.87,2,   2103.1,2,   2272.3,2,   7.8022,2,    25.00,     1452
  49UP20170201,RF1702,  5982,  1,     26,  25835,3,20170207,1242, 24.0307, 165.0198, 6026,    400.6,  11.4999,  34.2603,2,  34.2643,2,    182.3,2,    17.41,2,    15.44,2,     0.00,2,     1.11,2,   2119.9,2,   2266.5,2,   7.7516,2,    25.00,     1449
  49UP20170201,RF1702,  5982,  1,     25,  25834,2,20170207,1242, 24.0307, 165.0198, 6026,    506.0,   9.3710,  34.1356,2,  34.1372,2,    175.1,6,    28.14,6,    20.43,6,     0.00,6,     1.44,6,   2152.1,2,   2271.3,2,   7.6838,2,    25.00,     1447
  49UP20170201,RF1702,  5982,  1,     24,  25833,2,20170207,1242, 24.0307, 165.0198, 6026,    605.8,   7.3338,  34.0695,2,  34.0707,2,    130.6,2,    47.72,2,    28.36,2,     0.00,2,     2.03,2,   2211.8,2,   2283.4,2,   7.5567,2,    25.00,     1444
  49UP20170201,RF1702,  5982,  1,     23,  25832,2,20170207,1242, 24.0307, 165.0198, 6026,    704.1,   5.6520,  34.1144,2,  34.1149,2,     76.7,2,    73.44,2,    36.12,2,     0.00,2,     2.59,2,   2277.2,6,   2307.7,6,   7.4335,2,    25.00,     1441
  49UP20170201,RF1702,  5982,  1,     22,  25831,2,20170207,1242, 24.0307, 165.0198, 6026,    809.8,   4.8025,  34.2056,2,  34.2036,2,     49.1,2,    91.54,2,    39.84,2,     0.00,2,     2.87,2,   2318.1,2,   2327.6,2,   7.3807,6,    25.00,     1438
  49UP20170201,RF1702,  5982,  1,     21,  25830,2,20170207,1242, 24.0307, 165.0198, 6026,    910.8,   4.2793,  34.2951,2,  34.2934,2,     39.2,2,   104.61,2,    41.54,2,     0.00,2,     2.98,2,   2339.5,2,   2345.1,2,   7.3685,2,    25.00,     1435
  49UP20170201,RF1702,  5982,  1,     20,  25829,2,20170207,1242, 24.0307, 165.0198, 6026,   1015.5,   3.9060,  34.3882,2,  34.3854,2,     41.9,2,   113.25,2,    41.83,2,     0.00,2,     2.99,2,   2343.8,2,   2360.8,2,   7.3803,2,    25.00,     1431
  49UP20170201,RF1702,  5982,  1,     19,  25828,2,20170207,1242, 24.0307, 165.0198, 6026,   1205.5,   3.2724,  34.4781,2,  34.4776,2,     55.5,2,   127.61,2,    41.51,2,     0.00,2,     2.95,2,   2353.8,2,   2379.8,2,   7.4106,2,    25.00,     1425
  49UP20170201,RF1702,  5982,  1,     18,  25827,2,20170207,1242, 24.0307, 165.0198, 6026,   1408.3,   2.8139,  34.5288,2,  34.5281,2,     68.3,2,   136.81,2,    41.03,2,     0.00,2,     2.90,2,   2355.2,2,   2392.6,2,   7.4321,2,    25.00,     1422
  49UP20170201,RF1702,  5982,  1,     17,  25826,2,20170207,1242, 24.0307, 165.0198, 6026,   1614.6,   2.4203,  34.5690,2,  34.5684,2,     81.6,2,   143.33,2,    40.34,2,     0.00,2,     2.85,2,   2355.6,2,   2401.1,2,   7.4564,2,    25.00,     1417
  49UP20170201,RF1702,  5982,  1,     16,  25825,2,20170207,1242, 24.0307, 165.0198, 6026,   1818.1,   2.1695,  34.5974,2,  34.5965,2,     93.1,2,   146.49,2,    39.72,2,     0.00,2,     2.79,2,   2356.6,2,   2407.8,2,   7.4788,2,    25.00,     1414
  49UP20170201,RF1702,  5982,  1,     15,  25824,2,20170207,1242, 24.0307, 165.0198, 6026,   2021.6,   1.9986,  34.6193,2,  34.6182,6,    102.0,2,   148.40,2,    39.27,2,     0.00,2,     2.76,2,   2351.6,2,   2411.3,2,   7.4946,2,    25.00,     1407
  49UP20170201,RF1702,  5982,  1,     14,  25823,2,20170207,1242, 24.0307, 165.0198, 6026,   2273.1,   1.8549,  34.6361,2,  34.6361,2,    111.0,2,   150.24,2,    38.69,2,     0.00,2,     2.71,2,   2348.5,6,   2414.7,6,   7.5145,2,    25.00,     1403
  49UP20170201,RF1702,  5982,  1,     13,  25822,2,20170207,1242, 24.0307, 165.0198, 6026,   2529.0,   1.7571,  34.6474,2,  34.6472,2,    118.2,2,   151.17,2,    38.29,2,     0.00,2,     2.68,2,   2345.9,2,   2416.9,2,   7.5232,6,    25.00,     1358
  49UP20170201,RF1702,  5982,  1,     12,  25821,2,20170207,1242, 24.0307, 165.0198, 6026,   2781.1,   1.6786,  34.6564,2,  34.7887,4,    124.6,6,   151.48,6,    37.92,6,     0.00,6,     2.65,6,   2351.8,2,   2418.9,2,   7.5351,2,    25.00,     1354
  49UP20170201,RF1702,  5982,  1,     11,  25820,3,20170207,1242, 24.0307, 165.0198, 6026,   3043.4,   1.6155,  34.6643,2,  34.6639,2,    130.6,2,   151.05,2,    37.51,2,     0.00,2,     2.61,2,   2338.4,2,   2419.4,2,   7.5453,2,    25.00,     1349
  49UP20170201,RF1702,  5982,  1,     10,  25819,2,20170207,1242, 24.0307, 165.0198, 6026,   3297.3,   1.5759,  34.6698,2,  34.6699,2,    136.2,2,   150.50,2,    37.15,2,     0.00,2,     2.59,2,   2339.3,2,   2419.0,2,   7.5554,2,    25.00,     1343
  49UP20170201,RF1702,  5982,  1,      9,  25818,2,20170207,1242, 24.0307, 165.0198, 6026,   3549.8,   1.5483,  34.6733,2,  34.6724,2,    139.8,2,   149.95,2,    36.93,2,     0.00,2,     2.58,2,   2335.5,2,   2417.6,2,   7.5601,2,    25.00,     1337
  49UP20170201,RF1702,  5982,  1,      8,  25817,2,20170207,1242, 24.0307, 165.0198, 6026,   3809.0,   1.5208,  34.6780,2,  34.6773,2,    145.6,2,   148.63,2,    36.54,2,     0.00,2,     2.54,2,   2330.8,2,   2418.3,2,   7.5688,2,    25.00,     1332
  49UP20170201,RF1702,  5982,  1,      7,  25816,2,20170207,1242, 24.0307, 165.0198, 6026,   4064.7,   1.5079,  34.6811,2,  34.6809,6,    148.4,3,   147.25,2,    36.32,2,     0.00,2,     2.52,2,   2330.4,2,   2415.6,2,   7.5689,3,    25.00,     1327
  49UP20170201,RF1702,  5982,  1,      6,  25815,2,20170207,1242, 24.0307, 165.0198, 6026,   4578.0,   1.4709,  34.6889,2,  34.6900,4,    162.0,2,   141.84,2,    35.46,2,     0.00,2,     2.46,2,   2314.5,2,   2410.9,2,   7.5896,2,    25.00,     1315
  49UP20170201,RF1702,  5982,  1,      5,  25814,2,20170207,1242, 24.0307, 165.0198, 6026,   5092.3,   1.4682,  34.6941,2,  34.6937,2,    170.7,2,   136.32,2,    34.80,2,     0.00,2,     2.40,2,   2310.3,2,   2403.9,2,   7.5994,2,    25.00,     1302
  49UP20170201,RF1702,  5982,  1,      4,  25813,2,20170207,1242, 24.0307, 165.0198, 6026,   5354.0,   1.4759,  34.6960,2,  34.6958,2,    174.3,6,   134.22,6,    34.55,6,     0.00,6,     2.39,6,   2304.4,2,   2401.1,2,   7.6012,2,    25.00,     1256
  49UP20170201,RF1702,  5982,  1,      3,  25812,2,20170207,1242, 24.0307, 165.0198, 6026,   5601.1,   1.4911,  34.6974,2,  34.6963,4,    174.4,3,   133.16,2,    34.48,2,     0.00,2,     2.38,2,   2303.0,6,   2400.2,6,   7.6028,2,    25.00,     1251
  49UP20170201,RF1702,  5982,  1,      2,  25811,2,20170207,1242, 24.0307, 165.0198, 6026,   5857.8,   1.5146,  34.6982,2,  34.6979,2,    177.8,2,   131.97,2,    34.26,2,     0.00,2,     2.36,2,   2298.9,2,   2397.7,2,   7.6053,6,    25.00,     1247
  49UP20170201,RF1702,  5982,  1,      1,  25810,2,20170207,1242, 24.0307, 165.0198, 6026,   6128.5,   1.5456,  34.6988,2,  34.6989,2,    177.5,2,   131.62,2,    34.28,2,     0.00,2,     2.36,2,   2298.5,2,   2398.3,2,   7.6056,2,    25.00,     1242