BOTTLE,20200109PRINUNIVRMK
EXPOCODE,SECT_ID,STNNBR,CASTNO,SAMPNO,BTLNBR,BTLNBR_FLAG_W,DATE,TIME,LATITUDE,LONGITUDE,DEPTH,CTDPRS,CTDTMP,CTDSAL,CTDSAL_FLAG_W,SALNTY,SALNTY_FLAG_W,OXYGEN,OXYGEN_FLAG_W,SILCAT,SILCAT_FLAG_W,NITRAT,NITRAT_FLAG_W,NITRIT,NITRIT_FLAG_W,PHSPHT,PHSPHT_FLAG_W,TCARBN,TCARBN_FLAG_W,ALKALI,ALKALI_FLAG_W,PH_TOT,PH_TOT_FLAG_W,PH_TMP,BTL_TIME
,,,,,,,,,,,METERS,DBAR,ITS-90,PSS-78,,PSS-78,,UMOL/KG,,UMOL/KG,,UMOL/KG,,UMOL/KG,,UMOL/KG,,UMOL/KG,,UMOL/KG,,,,DEG C,
  49UP20170201,RF1702,  5983,  1,     99,     99,2,20170207,2251, 23.0033, 165.0003, 5810,      0.0,  25.2680,  35.1702,2,-999.0000,9,    206.8,2,     0.97,2,     0.04,2,     0.00,2,     0.02,2,   -999.0,9,   -999.0,9,-999.0000,9,  -999.00,     2323
  49UP20170201,RF1702,  5983,  1,     33,  25842,2,20170207,2251, 23.0033, 165.0003, 5810,      9.8,  25.2683,  35.1698,2,-999.0000,9,    206.5,2,     0.85,2,     0.04,2,     0.00,2,     0.01,2,   -999.0,9,   -999.0,9,-999.0000,9,  -999.00,     2345
  49UP20170201,RF1702,  5983,  1,     32,  25841,2,20170207,2251, 23.0033, 165.0003, 5810,     25.3,  25.2697,  35.1695,2,-999.0000,9,    206.4,2,     0.93,2,     0.04,2,     0.00,2,     0.01,2,   -999.0,9,   -999.0,9,-999.0000,9,  -999.00,     2344
  49UP20170201,RF1702,  5983,  1,     31,  25840,2,20170207,2251, 23.0033, 165.0003, 5810,     50.9,  25.2727,  35.1697,2,-999.0000,9,    206.3,2,     0.91,2,     0.03,2,     0.00,2,     0.01,2,   -999.0,9,   -999.0,9,-999.0000,9,  -999.00,     2342
  49UP20170201,RF1702,  5983,  1,     30,  25839,2,20170207,2251, 23.0033, 165.0003, 5810,     76.1,  25.2383,  35.1661,2,-999.0000,9,    206.4,6,     0.92,6,     0.04,6,     0.00,6,     0.02,6,   -999.0,9,   -999.0,9,-999.0000,9,  -999.00,     2340
  49UP20170201,RF1702,  5983,  1,     29,  25838,2,20170207,2251, 23.0033, 165.0003, 5810,     99.4,  25.0797,  35.2021,2,-999.0000,9,    207.2,2,     0.95,2,     0.04,2,     0.00,2,     0.01,2,   -999.0,9,   -999.0,9,-999.0000,9,  -999.00,     2337
  49UP20170201,RF1702,  5983,  1,     28,  25837,2,20170207,2251, 23.0033, 165.0003, 5810,    127.4,  22.6453,  35.2845,2,-999.0000,9,    212.1,2,     1.48,2,     0.09,2,     0.01,2,     0.04,2,   -999.0,9,   -999.0,9,-999.0000,9,  -999.00,     2336
  49UP20170201,RF1702,  5983,  1,     24,  25833,2,20170207,2251, 23.0033, 165.0003, 5810,    148.9,  21.3749,  35.2207,2,-999.0000,9,    206.6,2,     1.73,2,     0.21,2,     0.16,2,     0.09,2,   -999.0,9,   -999.0,9,-999.0000,9,  -999.00,     2335
  49UP20170201,RF1702,  5983,  1,     23,  25832,2,20170207,2251, 23.0033, 165.0003, 5810,    201.0,  18.6698,  34.9046,2,-999.0000,9,    203.9,2,     2.64,2,     2.19,2,     0.01,2,     0.19,2,   -999.0,9,   -999.0,9,-999.0000,9,  -999.00,     2333
  49UP20170201,RF1702,  5983,  1,     21,  25830,2,20170207,2251, 23.0033, 165.0003, 5810,    252.6,  16.6687,  34.7075,2,-999.0000,9,    208.2,2,     4.50,2,     5.28,2,     0.00,2,     0.34,2,   -999.0,9,   -999.0,9,-999.0000,9,  -999.00,     2332
  49UP20170201,RF1702,  5983,  1,     22,  25831,2,20170207,2251, 23.0033, 165.0003, 5810,    253.8,  16.6357,  34.7072,2,-999.0000,9,    208.0,2,     4.41,2,     5.25,2,     0.00,2,     0.34,2,   -999.0,9,   -999.0,9,-999.0000,9,  -999.00,     2332
  49UP20170201,RF1702,  5983,  1,     20,  25829,2,20170207,2251, 23.0033, 165.0003, 5810,    304.0,  15.3207,  34.5826,2,-999.0000,9,    204.2,2,     6.58,2,     7.21,2,     0.00,2,     0.49,2,   -999.0,9,   -999.0,9,-999.0000,9,  -999.00,     2330
  49UP20170201,RF1702,  5983,  1,     19,  25828,2,20170207,2251, 23.0033, 165.0003, 5810,    404.5,  12.1856,  34.3043,2,-999.0000,9,    197.7,2,    13.94,2,    12.86,2,     0.00,2,     0.90,2,   -999.0,9,   -999.0,9,-999.0000,9,  -999.00,     2328
  49UP20170201,RF1702,  5983,  1,     15,  25824,2,20170207,2251, 23.0033, 165.0003, 5810,    504.5,   9.2896,  34.1398,2,-999.0000,9,    162.3,2,    29.86,2,    21.72,2,     0.00,2,     1.54,2,   -999.0,9,   -999.0,9,-999.0000,9,  -999.00,     2325
  49UP20170201,RF1702,  5983,  1,     14,  25823,2,20170207,2251, 23.0033, 165.0003, 5810,    606.5,   7.2316,  34.0871,2,-999.0000,9,    121.2,2,    49.71,2,    29.29,2,     0.00,2,     2.09,2,   -999.0,9,   -999.0,9,-999.0000,9,  -999.00,     2323
  49UP20170201,RF1702,  5983,  1,     13,  25822,2,20170207,2251, 23.0033, 165.0003, 5810,    706.2,   5.9045,  34.1243,2,-999.0000,9,     79.2,2,    69.90,2,    35.49,2,     0.00,2,     2.54,2,   -999.0,9,   -999.0,9,-999.0000,9,  -999.00,     2320
  49UP20170201,RF1702,  5983,  1,     12,  25821,2,20170207,2251, 23.0033, 165.0003, 5810,    807.0,   4.9131,  34.2390,2,-999.0000,9,     49.4,6,    90.66,6,    39.81,6,     0.00,6,     2.86,6,   -999.0,9,   -999.0,9,-999.0000,9,  -999.00,     2318
  49UP20170201,RF1702,  5983,  1,     11,  25820,2,20170207,2251, 23.0033, 165.0003, 5810,    907.1,   4.4246,  34.3473,2,-999.0000,9,     45.9,2,   101.64,2,    40.99,2,     0.00,2,     2.94,2,   -999.0,9,   -999.0,9,-999.0000,9,  -999.00,     2316
  49UP20170201,RF1702,  5983,  1,     10,  25819,2,20170207,2251, 23.0033, 165.0003, 5810,   1009.1,   4.1014,  34.4171,2,-999.0000,9,     51.1,2,   108.41,2,    40.95,2,     0.00,2,     2.93,2,   -999.0,9,   -999.0,9,-999.0000,9,  -999.00,     2313
  49UP20170201,RF1702,  5983,  1,      6,  25815,2,20170207,2251, 23.0033, 165.0003, 5810,   1211.0,   3.3617,  34.5017,2,-999.0000,9,     65.5,2,   123.64,2,    40.78,2,     0.00,2,     2.90,2,   -999.0,9,   -999.0,9,-999.0000,9,  -999.00,     2309
  49UP20170201,RF1702,  5983,  1,      5,  25814,2,20170207,2251, 23.0033, 165.0003, 5810,   1414.7,   2.8305,  34.5453,2,-999.0000,9,     76.5,2,   134.09,2,    40.44,2,     0.00,2,     2.86,2,   -999.0,9,   -999.0,9,-999.0000,9,  -999.00,     2304
  49UP20170201,RF1702,  5983,  1,      3,  25812,2,20170207,2251, 23.0033, 165.0003, 5810,   1616.4,   2.4837,  34.5723,2,-999.0000,9,     84.8,2,   140.29,2,    40.09,2,     0.00,2,     2.83,2,   -999.0,9,   -999.0,9,-999.0000,9,  -999.00,     2300
  49UP20170201,RF1702,  5983,  1,      4,  25813,2,20170207,2251, 23.0033, 165.0003, 5810,   1616.8,   2.4827,  34.5726,2,-999.0000,9,     84.8,2,   140.45,2,    40.12,2,     0.00,2,     2.84,2,   -999.0,9,   -999.0,9,-999.0000,9,  -999.00,     2300
  49UP20170201,RF1702,  5983,  1,      2,  25811,2,20170207,2251, 23.0033, 165.0003, 5810,   1818.9,   2.2237,  34.5961,2,-999.0000,9,     92.8,2,   144.97,2,    39.75,2,     0.00,2,     2.79,2,   -999.0,9,   -999.0,9,-999.0000,9,  -999.00,     2256
  49UP20170201,RF1702,  5983,  1,      1,  25810,2,20170207,2251, 23.0033, 165.0003, 5810,   2033.3,   2.0366,  34.6179,2,-999.0000,9,    102.0,2,   147.72,2,    39.29,2,     0.00,2,     2.75,2,   -999.0,9,   -999.0,9,-999.0000,9,  -999.00,     2251
  49UP20170201,RF1702,  5984,  1,     99,     99,2,20170208,1543, 19.9972, 164.9797, 5339,      0.0,  26.1204,  35.1977,2,  35.1981,2,    205.2,2,     0.92,2,     0.03,2,     0.00,2,     0.03,2,   1982.2,2,   2313.4,2,   8.0944,2,    25.00,     1725
  49UP20170201,RF1702,  5984,  1,     36,  25845,2,20170208,1543, 19.9972, 164.9797, 5339,      9.6,  26.1269,  35.1972,2,  35.1965,2,    204.9,2,     0.83,2,     0.00,2,     0.00,2,     0.01,2,   1981.0,2,   2313.7,2,   8.0941,2,    25.00,     1745
  49UP20170201,RF1702,  5984,  1,     35,  25844,2,20170208,1543, 19.9972, 164.9797, 5339,     25.3,  26.1302,  35.1972,2,-999.0000,9,    204.8,6,     0.83,6,     0.02,6,     0.00,6,     0.01,6,   1990.3,2,   2313.1,2,   8.0952,2,    25.00,     1744
  49UP20170201,RF1702,  5984,  1,     34,  25843,2,20170208,1543, 19.9972, 164.9797, 5339,     49.7,  26.1243,  35.1970,2,  35.1960,2,    205.1,2,     0.88,2,     0.01,2,     0.00,2,     0.01,2,   1985.1,2,   2312.3,2,   8.0948,2,    25.00,     1743
  49UP20170201,RF1702,  5984,  1,     33,  25842,2,20170208,1543, 19.9972, 164.9797, 5339,     75.4,  26.1137,  35.2003,2,  35.2220,4,    206.3,2,     0.88,2,     0.01,2,     0.00,2,     0.01,2,   1985.7,2,   2314.3,2,   8.0888,2,    25.00,     1742
  49UP20170201,RF1702,  5984,  1,     32,  25841,2,20170208,1543, 19.9972, 164.9797, 5339,    101.2,  24.2075,  35.3071,2,  35.3155,2,    208.8,2,     1.19,2,     0.01,2,     0.00,2,     0.03,2,   2019.8,2,   2321.1,2,   8.0530,2,    25.00,     1741
  49UP20170201,RF1702,  5984,  1,     31,  25840,2,20170208,1543, 19.9972, 164.9797, 5339,    126.3,  22.2347,  35.2816,2,  35.2820,2,    200.8,2,     1.55,2,     0.25,2,     0.09,2,     0.08,2,   2039.0,2,   2318.8,2,   8.0129,2,    25.00,     1740
  49UP20170201,RF1702,  5984,  1,     30,  25839,2,20170208,1543, 19.9972, 164.9797, 5339,    151.4,  21.6723,  35.2406,2,  35.2435,2,    199.0,2,     1.68,2,     0.66,2,     0.05,2,     0.11,2,   2041.0,2,   2316.4,2,   7.9943,2,    25.00,     1738
  49UP20170201,RF1702,  5984,  1,     29,  25838,2,20170208,1543, 19.9972, 164.9797, 5339,    201.0,  19.1753,  34.9887,2,  34.9911,2,    205.0,2,     2.46,2,     1.50,2,     0.02,2,     0.16,2,   2048.8,2,   2300.1,2,   7.9671,2,    25.00,     1735
  49UP20170201,RF1702,  5984,  1,     28,  25837,2,20170208,1543, 19.9972, 164.9797, 5339,    251.3,  16.9435,  34.7436,2,  34.7390,2,    205.0,2,     4.17,2,     4.81,2,     0.00,2,     0.34,2,   2053.8,2,   2283.4,2,   7.9248,2,    25.00,     1733
  49UP20170201,RF1702,  5984,  1,     27,  25836,2,20170208,1543, 19.9972, 164.9797, 5339,    301.8,  15.1135,  34.5539,2,  34.5642,4,    201.7,2,     6.93,2,     7.63,2,     0.00,2,     0.53,2,   2070.0,2,   2274.9,2,   7.8766,2,    25.00,     1732
  49UP20170201,RF1702,  5984,  1,     26,  25835,3,20170208,1543, 19.9972, 164.9797, 5339,    351.5,  13.2460,  34.3872,2,-999.0000,9,    199.5,2,    11.25,2,    11.02,2,     0.00,2,     0.77,2,   2094.6,2,   2268.6,2,   7.8234,2,    25.00,     1730
  49UP20170201,RF1702,  5984,  1,     25,  25834,2,20170208,1543, 19.9972, 164.9797, 5339,    401.4,  11.3306,  34.2448,2,  34.2527,2,    191.1,2,    17.19,2,    14.98,2,     0.00,2,     1.06,2,   2115.7,2,   2266.2,2,   7.7615,2,    25.00,     1729
  49UP20170201,RF1702,  5984,  1,     24,  25833,2,20170208,1543, 19.9972, 164.9797, 5339,    452.0,   9.5703,  34.1447,2,-999.0000,9,    175.7,2,    26.48,2,    19.74,2,     0.00,2,     1.40,2,   2146.1,2,   2270.6,2,   7.6896,2,    25.00,     1728
  49UP20170201,RF1702,  5984,  1,     23,  25832,2,20170208,1543, 19.9972, 164.9797, 5339,    504.3,   8.5010,  34.1153,2,  34.1201,2,    143.0,6,    36.88,6,    24.85,6,     0.00,6,     1.78,6,   2186.2,2,   2275.9,2,   7.6039,2,    25.00,     1726
  49UP20170201,RF1702,  5984,  1,     22,  25831,2,20170208,1543, 19.9972, 164.9797, 5339,    604.1,   6.4093,  34.1535,2,  34.1580,2,     78.0,2,    63.65,2,    34.55,2,     0.00,2,     2.50,2,   2262.3,2,   2303.4,2,   7.4501,2,    25.00,     1724
  49UP20170201,RF1702,  5984,  1,     21,  25830,2,20170208,1543, 19.9972, 164.9797, 5339,    705.3,   5.2462,  34.2092,2,  34.2107,2,     55.1,2,    83.51,2,    38.64,2,     0.00,2,     2.78,2,   2300.5,2,   2320.8,2,   7.4004,2,    25.00,     1722
  49UP20170201,RF1702,  5984,  1,     20,  25829,2,20170208,1543, 19.9972, 164.9797, 5339,    805.7,   4.9652,  34.3878,2,  34.3897,2,     55.0,2,    90.53,2,    39.56,2,     0.00,2,     2.84,2,   2312.0,6,   2342.4,6,   7.4178,2,    25.00,     1719
  49UP20170201,RF1702,  5984,  1,     19,  25828,2,20170208,1543, 19.9972, 164.9797, 5339,    906.8,   4.5600,  34.4429,2,  34.4457,2,     58.5,2,    98.06,2,    39.90,2,     0.00,2,     2.86,2,   2324.5,2,   2354.6,2,   7.4270,6,    25.00,     1717
  49UP20170201,RF1702,  5984,  1,     18,  25827,2,20170208,1543, 19.9972, 164.9797, 5339,   1007.3,   4.1160,  34.4839,2,  34.4843,2,     65.2,2,   106.79,2,    40.00,2,     0.00,2,     2.86,2,   2329.0,2,   2366.9,2,   7.4403,2,    25.00,     1715
  49UP20170201,RF1702,  5984,  1,     17,  25826,2,20170208,1543, 19.9972, 164.9797, 5339,   1209.6,   3.3866,  34.5377,2,  34.5382,2,     74.6,2,   120.69,2,    40.06,2,     0.00,2,     2.85,2,   2339.6,2,   2383.0,2,   7.4547,2,    25.00,     1710
  49UP20170201,RF1702,  5984,  1,     16,  25825,2,20170208,1543, 19.9972, 164.9797, 5339,   1413.1,   2.9102,  34.5663,2,  34.5667,2,     82.7,2,   130.34,2,    39.94,2,     0.00,2,     2.83,2,   2349.2,2,   2392.3,2,   7.4659,2,    25.00,     1706
  49UP20170201,RF1702,  5984,  1,     15,  25824,2,20170208,1543, 19.9972, 164.9797, 5339,   1615.0,   2.4987,  34.5906,2,  34.5892,2,     90.2,2,   138.14,2,    39.74,2,     0.00,2,     2.80,2,   2354.2,2,   2400.0,2,   7.4771,2,    25.00,     1702
  49UP20170201,RF1702,  5984,  1,     14,  25823,2,20170208,1543, 19.9972, 164.9797, 5339,   1818.2,   2.2379,  34.6102,2,  34.6097,2,     97.7,2,   143.37,2,    39.44,2,     0.00,2,     2.77,2,   2350.4,2,   2406.3,2,   7.4868,2,    25.00,     1658
  49UP20170201,RF1702,  5984,  1,     13,  25822,2,20170208,1543, 19.9972, 164.9797, 5339,   2021.6,   2.0683,  34.6235,2,  34.6235,2,    104.0,2,   146.25,2,    39.12,2,     0.00,2,     2.74,2,   2357.3,2,   2410.3,2,   7.4975,2,    25.00,     1653
  49UP20170201,RF1702,  5984,  1,     12,  25821,2,20170208,1543, 19.9972, 164.9797, 5339,   2275.6,   1.8837,  34.6390,2,  34.6393,2,    112.3,2,   149.33,2,    38.69,2,     0.00,2,     2.70,2,   2348.9,2,   2415.4,2,   7.5107,2,    25.00,     1648
  49UP20170201,RF1702,  5984,  1,     11,  25820,2,20170208,1543, 19.9972, 164.9797, 5339,   2530.8,   1.7416,  34.6506,2,  34.6493,4,    120.0,2,   150.57,2,    38.19,2,     0.00,2,     2.66,2,   2346.6,2,   2417.2,6,   7.5264,2,    25.00,     1643
  49UP20170201,RF1702,  5984,  1,     10,  25819,2,20170208,1543, 19.9972, 164.9797, 5339,   2782.1,   1.6354,  34.6611,2,  34.6611,2,    128.8,2,   151.10,2,    37.71,2,     0.00,2,     2.62,2,   2345.0,2,   2418.1,2,   7.5391,6,    25.00,     1638
  49UP20170201,RF1702,  5984,  1,      9,  25818,2,20170208,1543, 19.9972, 164.9797, 5339,   3039.0,   1.5698,  34.6685,2,  34.6715,4,    134.8,6,   150.54,6,    37.28,6,     0.00,6,     2.59,6,   2338.4,2,   2419.2,2,   7.5508,2,    25.00,     1632
  49UP20170201,RF1702,  5984,  1,      8,  25817,2,20170208,1543, 19.9972, 164.9797, 5339,   3295.8,   1.5275,  34.6739,2,  34.6745,2,    140.6,2,   149.53,2,    36.88,2,     0.00,2,     2.56,2,   2334.5,2,   2417.9,2,   7.5611,2,    25.00,     1627
  49UP20170201,RF1702,  5984,  1,      7,  25816,2,20170208,1543, 19.9972, 164.9797, 5339,   3551.1,   1.4922,  34.6786,2,  34.6782,6,    146.2,2,   147.56,2,    36.50,2,     0.00,2,     2.53,2,   2333.5,2,   2415.6,2,   7.5619,3,    25.00,     1622
  49UP20170201,RF1702,  5984,  1,      6,  25815,2,20170208,1543, 19.9972, 164.9797, 5339,   3806.0,   1.4684,  34.6823,2,  34.6821,2,    152.0,2,   146.06,2,    36.17,2,     0.00,2,     2.50,2,   2326.4,2,   2415.9,2,   7.5739,2,    25.00,     1616
  49UP20170201,RF1702,  5984,  1,      5,  25814,2,20170208,1543, 19.9972, 164.9797, 5339,   4062.6,   1.4413,  34.6866,2,  34.6867,2,    157.9,2,   143.35,2,    35.71,2,     0.00,2,     2.47,2,   2321.0,6,   2412.1,6,   7.5823,2,    25.00,     1611
  49UP20170201,RF1702,  5984,  1,      4,  25813,2,20170208,1543, 19.9972, 164.9797, 5339,   4575.8,   1.4217,  34.6929,2,  34.6925,2,    168.5,2,   137.34,2,    34.96,2,     0.00,2,     2.41,2,   2310.1,2,   2406.8,2,   7.5949,6,    25.00,     1601
  49UP20170201,RF1702,  5984,  1,      3,  25812,2,20170208,1543, 19.9972, 164.9797, 5339,   5090.2,   1.4320,  34.6965,2,  34.6960,2,    173.6,3,   133.73,6,    34.56,6,     0.00,6,     2.38,6,   2303.4,2,   2400.4,2,   7.5985,2,    25.00,     1551
  49UP20170201,RF1702,  5984,  1,      2,  25811,2,20170208,1543, 19.9972, 164.9797, 5339,   5347.6,   1.4479,  34.6977,2,  34.6979,2,    178.0,2,   132.06,2,    34.30,2,     0.00,2,     2.36,2,   2302.5,2,   2398.3,2,   7.6005,2,    25.00,     1546
  49UP20170201,RF1702,  5984,  1,      1,  25810,2,20170208,1543, 19.9972, 164.9797, 5339,   5453.4,   1.4600,  34.6979,2,  34.6975,2,    177.0,2,   132.11,2,    34.33,2,     0.00,2,     2.36,2,   2301.5,2,   2397.9,2,   7.5997,2,    25.00,     1543