BOTTLE,20200109PRINUNIVRMK
EXPOCODE,SECT_ID,STNNBR,CASTNO,SAMPNO,BTLNBR,BTLNBR_FLAG_W,DATE,TIME,LATITUDE,LONGITUDE,DEPTH,CTDPRS,CTDTMP,CTDSAL,CTDSAL_FLAG_W,SALNTY,SALNTY_FLAG_W,OXYGEN,OXYGEN_FLAG_W,SILCAT,SILCAT_FLAG_W,NITRAT,NITRAT_FLAG_W,NITRIT,NITRIT_FLAG_W,PHSPHT,PHSPHT_FLAG_W,TCARBN,TCARBN_FLAG_W,ALKALI,ALKALI_FLAG_W,PH_TOT,PH_TOT_FLAG_W,PH_TMP,BTL_TIME
,,,,,,,,,,,METERS,DBAR,ITS-90,PSS-78,,PSS-78,,UMOL/KG,,UMOL/KG,,UMOL/KG,,UMOL/KG,,UMOL/KG,,UMOL/KG,,UMOL/KG,,,,DEG C,
  49UP20170201,RF1702,  6000,  1,     99,     99,2,20170222,2339,  9.4953, 154.9895, 5382,      0.0,  28.9927,  34.0528,2,  34.0586,2,    196.2,2,     0.98,2,     0.01,2,     0.00,2,     0.08,2,   1915.9,2,   2237.6,2,   8.1208,2,    25.00,      120
  49UP20170201,RF1702,  6000,  1,     36,  25845,2,20170222,2339,  9.4953, 154.9895, 5382,     10.6,  28.9891,  34.0530,2,  34.0514,2,    195.9,2,     1.00,2,     0.00,2,     0.00,2,     0.06,2,   1909.4,2,   2238.0,2,   8.1209,2,    25.00,      155
  49UP20170201,RF1702,  6000,  1,     35,  25844,2,20170222,2339,  9.4953, 154.9895, 5382,     25.5,  28.9700,  34.0521,2,-999.0000,9,    196.2,2,     1.00,2,     0.00,2,     0.00,2,     0.05,2,   1911.4,2,   2238.7,2,   8.1203,2,    25.00,      154
  49UP20170201,RF1702,  6000,  1,     34,  25843,2,20170222,2339,  9.4953, 154.9895, 5382,     51.6,  28.9660,  34.0523,2,  34.0505,2,    196.2,2,     0.97,2,     0.00,2,     0.00,2,     0.05,2,   1913.4,2,   2238.8,2,   8.1182,2,    25.00,      153
  49UP20170201,RF1702,  6000,  1,     33,  25842,2,20170222,2339,  9.4953, 154.9895, 5382,     75.7,  28.2666,  34.2337,2,  34.2338,2,    199.3,2,     0.85,2,     0.00,2,     0.00,2,     0.06,2,   1932.3,2,   2250.1,2,   8.1112,2,    25.00,      151
  49UP20170201,RF1702,  6000,  1,     32,  25841,2,20170222,2339,  9.4953, 154.9895, 5382,    102.1,  27.3489,  34.4907,2,  34.4809,4,    203.3,6,     1.13,6,     0.00,6,     0.00,6,     0.09,6,   1945.6,2,   2268.3,2,   8.0946,2,    25.00,      150
  49UP20170201,RF1702,  6000,  1,     31,  25840,2,20170222,2339,  9.4953, 154.9895, 5382,    126.8,  19.3940,  34.7652,2,  34.7705,2,    169.8,2,     5.48,2,     5.22,2,     0.21,2,     0.56,2,   2085.2,2,   2293.5,2,   7.8949,2,    25.00,      148
  49UP20170201,RF1702,  6000,  1,     30,  25839,2,20170222,2339,  9.4953, 154.9895, 5382,    152.2,  15.5353,  34.5882,2,  34.5924,2,    153.0,2,    10.25,2,    11.63,2,     0.01,2,     0.91,2,   2111.8,2,   2281.9,2,   7.8004,2,    25.00,      145
  49UP20170201,RF1702,  6000,  1,     29,  25838,2,20170222,2339,  9.4953, 154.9895, 5382,    204.7,  11.2789,  34.4861,2,  34.4784,2,     76.8,2,    26.08,2,    26.22,2,     0.00,2,     1.94,2,   2203.8,2,   2285.3,2,   7.5746,2,    25.00,      143
  49UP20170201,RF1702,  6000,  1,     28,  25837,2,20170222,2339,  9.4953, 154.9895, 5382,    249.7,  10.4092,  34.5586,2,  34.5575,2,     47.1,2,    31.62,2,    31.32,2,     0.00,2,     2.28,2,   2237.2,2,   2294.8,2,   7.5020,2,    25.00,      142
  49UP20170201,RF1702,  6000,  1,     27,  25836,2,20170222,2339,  9.4953, 154.9895, 5382,    301.5,   9.7165,  34.5888,2,  34.5892,2,     49.7,2,    34.38,2,    32.78,2,     0.00,2,     2.34,2,   2246.9,6,   2301.4,6,   7.4973,2,    25.00,      140
  49UP20170201,RF1702,  6000,  1,     26,  25835,2,20170222,2339,  9.4953, 154.9895, 5382,    349.7,   8.9009,  34.5706,2,  34.5709,2,     65.3,2,    38.00,2,    33.05,2,     0.00,2,     2.34,2,   2242.7,2,   2305.6,2,   7.5133,6,    25.00,      139
  49UP20170201,RF1702,  6000,  1,     25,  25834,2,20170222,2339,  9.4953, 154.9895, 5382,    401.1,   8.4742,  34.5752,2,  34.5745,2,     70.2,2,    39.36,2,    33.52,2,     0.00,2,     2.36,2,   2249.5,2,   2308.1,2,   7.5150,2,    25.00,      137
  49UP20170201,RF1702,  6000,  1,     24,  25833,2,20170222,2339,  9.4953, 154.9895, 5382,    452.7,   8.0876,  34.5626,2,  34.5618,2,     72.4,2,    42.11,2,    34.04,2,     0.00,2,     2.41,2,   2250.0,2,   2310.6,2,   7.5124,2,    25.00,      135
  49UP20170201,RF1702,  6000,  1,     23,  25832,2,20170222,2339,  9.4953, 154.9895, 5382,    507.1,   7.6736,  34.5514,2,  34.5501,2,     74.6,6,    45.45,6,    34.53,6,     0.00,6,     2.45,6,   2250.8,2,   2311.0,2,   7.5098,2,    25.00,      133
  49UP20170201,RF1702,  6000,  1,     22,  25831,2,20170222,2339,  9.4953, 154.9895, 5382,    604.5,   6.8734,  34.5297,2,  34.5290,2,     68.5,2,    55.21,2,    36.44,2,     0.00,2,     2.60,2,   2269.3,2,   2321.1,2,   7.4857,2,    25.00,      130
  49UP20170201,RF1702,  6000,  1,     21,  25830,2,20170222,2339,  9.4953, 154.9895, 5382,    703.1,   6.2057,  34.5294,2,  34.5288,2,     71.0,2,    63.59,2,    37.47,2,     0.00,2,     2.68,2,   2277.4,2,   2330.2,2,   7.4809,2,    25.00,      128
  49UP20170201,RF1702,  6000,  1,     20,  25829,2,20170222,2339,  9.4953, 154.9895, 5382,    808.3,   5.7424,  34.5353,2,  34.5344,2,     71.7,2,    70.02,2,    38.25,2,     0.00,2,     2.73,2,   2286.4,2,   2338.1,2,   7.4779,2,    25.00,      125
  49UP20170201,RF1702,  6000,  1,     19,  25828,2,20170222,2339,  9.4953, 154.9895, 5382,    905.7,   5.1976,  34.5381,2,  34.5386,2,     72.2,2,    79.78,2,    38.96,2,     0.00,2,     2.78,2,   2298.8,2,   2345.3,2,   7.4729,2,    25.00,      122
  49UP20170201,RF1702,  6000,  1,     18,  25827,2,20170222,2339,  9.4953, 154.9895, 5382,   1008.4,   4.6739,  34.5471,2,  34.5464,2,     72.1,2,    89.79,2,    39.65,2,     0.00,2,     2.83,2,   2309.8,2,   2358.8,2,   7.4680,2,    25.00,      120
  49UP20170201,RF1702,  6000,  1,     17,  25826,2,20170222,2339,  9.4953, 154.9895, 5382,   1211.4,   3.8897,  34.5672,2,  34.5668,2,     81.6,2,   104.64,2,    39.60,2,     0.00,2,     2.83,2,   2322.4,2,   2372.4,2,   7.4812,2,    25.00,      109
  49UP20170201,RF1702,  6000,  1,     16,  25825,2,20170222,2339,  9.4953, 154.9895, 5382,   1412.5,   3.2624,  34.5873,2,  34.5871,2,     88.6,2,   117.50,2,    39.59,2,     0.00,2,     2.81,2,   2335.3,2,   2387.6,2,   7.4910,2,    25.00,      104
  49UP20170201,RF1702,  6000,  1,     15,  25824,2,20170222,2339,  9.4953, 154.9895, 5382,   1615.1,   2.8529,  34.6031,2,  34.6022,2,     92.8,2,   126.53,2,    39.60,2,     0.00,2,     2.80,2,   2340.1,2,   2398.3,2,   7.4917,2,    25.00,      100
  49UP20170201,RF1702,  6000,  1,     14,  25823,2,20170222,2339,  9.4953, 154.9895, 5382,   1818.0,   2.5258,  34.6183,2,  34.6182,2,     99.0,2,   133.92,2,    39.40,2,     0.00,2,     2.78,2,   2344.8,2,   2404.4,6,   7.5010,2,    25.00,       55
  49UP20170201,RF1702,  6000,  1,     13,  25822,2,20170222,2339,  9.4953, 154.9895, 5382,   2020.7,   2.2696,  34.6300,2,  34.6297,2,    104.9,2,   139.25,2,    39.12,2,     0.00,2,     2.75,2,   2346.4,2,   2408.7,2,   7.5095,6,    25.00,       51
  49UP20170201,RF1702,  6000,  1,     12,  25821,3,20170222,2339,  9.4953, 154.9895, 5382,   2273.7,   2.0261,  34.6443,2,  34.6441,2,    113.5,6,   143.45,6,    38.56,6,     0.00,6,     2.70,6,   2352.7,2,   2413.0,2,   7.5233,2,    25.00,       45
  49UP20170201,RF1702,  6000,  1,     11,  25820,2,20170222,2339,  9.4953, 154.9895, 5382,   2530.3,   1.8767,  34.6556,2,  34.6545,6,    119.2,2,   145.57,2,    38.20,2,     0.00,2,     2.67,2,   2346.2,2,   2418.3,2,   7.5353,2,    25.00,       40
  49UP20170201,RF1702,  6000,  1,     10,  25819,2,20170222,2339,  9.4953, 154.9895, 5382,   2784.3,   1.7669,  34.6621,2,  34.6620,2,    126.8,2,   146.32,2,    37.75,2,     0.00,2,     2.64,2,   2345.6,2,   2419.2,2,   7.5465,2,    25.00,       34
  49UP20170201,RF1702,  6000,  1,      9,  25818,2,20170222,2339,  9.4953, 154.9895, 5382,   3039.5,   1.6579,  34.6699,2,  34.6698,2,    134.2,2,   147.15,2,    37.35,2,     0.00,2,     2.60,2,   2339.4,2,   2418.5,2,   7.5549,2,    25.00,       28
  49UP20170201,RF1702,  6000,  1,      8,  25817,2,20170222,2339,  9.4953, 154.9895, 5382,   3296.8,   1.5853,  34.6751,2,  34.6742,2,    140.8,2,   145.79,2,    36.84,2,     0.00,2,     2.56,2,   2334.2,2,   2418.1,2,   7.5648,2,    25.00,       22
  49UP20170201,RF1702,  6000,  1,      7,  25816,2,20170222,2339,  9.4953, 154.9895, 5382,   3556.1,   1.5241,  34.6805,2,  34.6787,4,    146.6,3,   142.46,2,    36.36,2,     0.00,2,     2.53,2,   2327.1,2,   2415.0,2,   7.5751,2,    25.00,       16
  49UP20170201,RF1702,  6000,  1,      6,  25815,2,20170222,2339,  9.4953, 154.9895, 5382,   3803.2,   1.4885,  34.6842,2,  34.6840,2,    154.9,2,   140.82,2,    35.86,2,     0.00,2,     2.48,2,   2322.1,2,   2414.4,2,   7.5861,2,    25.00,       10
  49UP20170201,RF1702,  6000,  1,      5,  25814,2,20170222,2339,  9.4953, 154.9895, 5382,   4059.8,   1.4756,  34.6870,2,  34.6869,2,    159.1,2,   138.93,2,    35.55,2,     0.00,2,     2.46,2,   2319.0,6,   2413.0,6,   7.5927,2,    25.00,        5
  49UP20170201,RF1702,  6000,  1,      4,  25813,3,20170222,2339,  9.4953, 154.9895, 5382,   4571.8,   1.4557,  34.6926,2,  34.6923,2,    167.8,2,   135.11,2,    34.96,2,     0.00,2,     2.42,2,   2313.2,2,   2407.6,2,   7.6003,6,    25.00,     2356
  49UP20170201,RF1702,  6000,  1,      3,  25812,2,20170222,2339,  9.4953, 154.9895, 5382,   5084.2,   1.4737,  34.6956,2,  34.6934,4,    171.1,3,   132.97,6,    34.67,6,     0.00,6,     2.40,6,   2307.8,2,   2403.9,2,   7.6039,2,    25.00,     2347
  49UP20170201,RF1702,  6000,  1,      2,  25811,2,20170222,2339,  9.4953, 154.9895, 5382,   5343.1,   1.4961,  34.6967,2,  34.6965,2,    174.6,2,   132.13,2,    34.43,2,     0.00,2,     2.38,2,   2303.6,2,   2403.4,2,   7.6063,2,    25.00,     2342
  49UP20170201,RF1702,  6000,  1,      1,  25810,3,20170222,2339,  9.4953, 154.9895, 5382,   5478.4,   1.5133,  34.6971,2,  34.6947,4,    173.3,2,   132.29,2,    34.48,2,     0.00,2,     2.38,2,   2306.5,2,   2402.2,2,   7.6046,2,    25.00,     2339
  49UP20170201,RF1702,  6002,  1,     99,     99,2,20170223,1301,  9.4883, 152.9928, 5274,      0.0,  28.7280,  34.0079,2,-999.0000,9,    197.1,2,     0.97,2,     0.04,2,     0.00,2,     0.06,2,   -999.0,9,   -999.0,9,-999.0000,9,  -999.00,     1330
  49UP20170201,RF1702,  6002,  1,     36,  25845,2,20170223,1301,  9.4883, 152.9928, 5274,     10.6,  28.7285,  34.0084,2,  34.0075,2,    196.9,2,     0.99,2,     0.06,2,     0.00,2,     0.05,2,   -999.0,9,   -999.0,9,-999.0000,9,  -999.00,     1404
  49UP20170201,RF1702,  6002,  1,     35,  25844,3,20170223,1301,  9.4883, 152.9928, 5274,     24.7,  28.7358,  34.0086,2,-999.0000,9,    196.9,2,     0.98,2,     0.04,2,     0.00,2,     0.05,2,   -999.0,9,   -999.0,9,-999.0000,9,  -999.00,     1402
  49UP20170201,RF1702,  6002,  1,     34,  25843,2,20170223,1301,  9.4883, 152.9928, 5274,     51.0,  28.7452,  34.0086,2,  34.0076,2,    196.8,2,     0.92,2,     0.04,2,     0.00,2,     0.04,2,   -999.0,9,   -999.0,9,-999.0000,9,  -999.00,     1401
  49UP20170201,RF1702,  6002,  1,     30,  25839,2,20170223,1301,  9.4883, 152.9928, 5274,     77.0,  28.7480,  34.0083,2,  34.0070,2,    196.6,2,     0.99,2,     0.05,2,     0.00,2,     0.05,2,   -999.0,9,   -999.0,9,-999.0000,9,  -999.00,     1400
  49UP20170201,RF1702,  6002,  1,     28,  25837,2,20170223,1301,  9.4883, 152.9928, 5274,    102.7,  27.7358,  34.3570,2,  34.3430,4,    200.0,2,     1.17,2,     0.03,2,     0.00,2,     0.08,2,   -999.0,9,   -999.0,9,-999.0000,9,  -999.00,     1356
  49UP20170201,RF1702,  6002,  1,     29,  25838,2,20170223,1301,  9.4883, 152.9928, 5274,    102.8,  27.6638,  34.3715,2,  34.3518,4,    200.3,2,     1.22,2,     0.02,2,     0.00,2,     0.08,2,   -999.0,9,   -999.0,9,-999.0000,9,  -999.00,     1356
  49UP20170201,RF1702,  6002,  1,     27,  25836,3,20170223,1301,  9.4883, 152.9928, 5274,    126.7,  23.3008,  34.7731,2,  34.7750,2,    187.9,2,     2.89,2,     0.36,2,     0.02,2,     0.26,2,   -999.0,9,   -999.0,9,-999.0000,9,  -999.00,     1355
  49UP20170201,RF1702,  6002,  1,     26,  25835,2,20170223,1301,  9.4883, 152.9928, 5274,    147.9,  19.1261,  34.7288,2,  34.7229,4,    159.7,2,     6.86,2,     7.28,2,     0.22,2,     0.68,2,   -999.0,9,   -999.0,9,-999.0000,9,  -999.00,     1353
  49UP20170201,RF1702,  6002,  1,     25,  25834,2,20170223,1301,  9.4883, 152.9928, 5274,    200.2,  12.4064,  34.4379,2,  34.4392,6,    109.6,6,    20.23,6,    20.88,6,     0.00,6,     1.57,6,   -999.0,9,   -999.0,9,-999.0000,9,  -999.00,     1352
  49UP20170201,RF1702,  6002,  1,     20,  25829,2,20170223,1301,  9.4883, 152.9928, 5274,    252.5,  10.6658,  34.4926,2,  34.4916,2,     63.3,2,    29.55,2,    28.80,2,     0.00,2,     2.13,2,   -999.0,9,   -999.0,9,-999.0000,9,  -999.00,     1350
  49UP20170201,RF1702,  6002,  1,     19,  25828,2,20170223,1301,  9.4883, 152.9928, 5274,    301.8,   9.8019,  34.6000,2,  34.6012,2,     36.5,2,    34.30,2,    33.59,2,     0.00,2,     2.42,2,   -999.0,9,   -999.0,9,-999.0000,9,  -999.00,     1348
  49UP20170201,RF1702,  6002,  1,     18,  25827,2,20170223,1301,  9.4883, 152.9928, 5274,    351.5,   9.1728,  34.5953,2,  34.6775,4,     48.2,2,    36.80,2,    33.95,2,     0.00,2,     2.42,2,   -999.0,9,   -999.0,9,-999.0000,9,  -999.00,     1347
  49UP20170201,RF1702,  6002,  1,     17,  25826,2,20170223,1301,  9.4883, 152.9928, 5274,    404.0,   8.6953,  34.5846,2,  34.5846,2,     65.1,2,    38.18,2,    33.52,2,     0.00,2,     2.37,2,   -999.0,9,   -999.0,9,-999.0000,9,  -999.00,     1345
  49UP20170201,RF1702,  6002,  1,     16,  25825,2,20170223,1301,  9.4883, 152.9928, 5274,    454.9,   8.2674,  34.5680,2,  34.5679,2,     61.1,2,    41.76,2,    34.53,2,     0.00,2,     2.46,2,   -999.0,9,   -999.0,9,-999.0000,9,  -999.00,     1343
  49UP20170201,RF1702,  6002,  1,     15,  25824,2,20170223,1301,  9.4883, 152.9928, 5274,    504.4,   7.8719,  34.5594,2,  34.5582,2,     47.2,2,    46.57,2,    36.31,2,     0.00,2,     2.61,2,   -999.0,9,   -999.0,9,-999.0000,9,  -999.00,     1341
  49UP20170201,RF1702,  6002,  1,     14,  25823,2,20170223,1301,  9.4883, 152.9928, 5274,    602.1,   7.0792,  34.5327,2,  34.5323,2,     66.8,2,    52.94,2,    36.14,2,     0.00,2,     2.59,2,   -999.0,9,   -999.0,9,-999.0000,9,  -999.00,     1338
  49UP20170201,RF1702,  6002,  1,     13,  25822,2,20170223,1301,  9.4883, 152.9928, 5274,    705.0,   6.3775,  34.5301,2,  34.5295,2,     49.4,2,    63.38,2,    39.08,2,     0.00,2,     2.82,2,   -999.0,9,   -999.0,9,-999.0000,9,  -999.00,     1336
  49UP20170201,RF1702,  6002,  1,     12,  25821,2,20170223,1301,  9.4883, 152.9928, 5274,    806.6,   5.7553,  34.5303,2,  34.5302,6,     60.5,2,    71.26,2,    39.18,2,     0.00,2,     2.81,2,   -999.0,9,   -999.0,9,-999.0000,9,  -999.00,     1333
  49UP20170201,RF1702,  6002,  1,     11,  25820,2,20170223,1301,  9.4883, 152.9928, 5274,    906.1,   5.1959,  34.5348,2,  34.5356,2,     73.7,2,    79.57,2,    38.57,2,     0.00,2,     2.77,2,   -999.0,9,   -999.0,9,-999.0000,9,  -999.00,     1330
  49UP20170201,RF1702,  6002,  1,     10,  25819,2,20170223,1301,  9.4883, 152.9928, 5274,    906.4,   5.1822,  34.5346,2,  34.5344,2,     73.8,2,    79.89,2,    38.64,2,     0.00,2,     2.77,2,   -999.0,9,   -999.0,9,-999.0000,9,  -999.00,     1330
  49UP20170201,RF1702,  6002,  1,      6,  25815,2,20170223,1301,  9.4883, 152.9928, 5274,   1007.8,   4.7393,  34.5440,2,  34.5443,2,     74.1,2,    88.20,2,    39.24,2,     0.00,2,     2.81,2,   -999.0,9,   -999.0,9,-999.0000,9,  -999.00,     1327
  49UP20170201,RF1702,  6002,  1,      5,  25814,2,20170223,1301,  9.4883, 152.9928, 5274,   1210.2,   3.8587,  34.5678,2,  34.5680,2,     83.1,2,   104.92,2,    39.37,2,     0.00,2,     2.82,2,   -999.0,9,   -999.0,9,-999.0000,9,  -999.00,     1321
  49UP20170201,RF1702,  6002,  1,      4,  25813,3,20170223,1301,  9.4883, 152.9928, 5274,   1411.6,   3.2436,  34.5869,2,  34.5874,2,     89.8,2,   117.85,2,    39.30,2,     0.00,2,     2.80,2,   -999.0,9,   -999.0,9,-999.0000,9,  -999.00,     1316
  49UP20170201,RF1702,  6002,  1,      3,  25812,2,20170223,1301,  9.4883, 152.9928, 5274,   1616.6,   2.7609,  34.6058,2,  34.6063,2,     96.0,2,   128.00,2,    39.23,2,     0.00,2,     2.79,2,   -999.0,9,   -999.0,9,-999.0000,9,  -999.00,     1310
  49UP20170201,RF1702,  6002,  1,      2,  25811,2,20170223,1301,  9.4883, 152.9928, 5274,   1820.2,   2.4802,  34.6192,2,  34.6191,2,    100.3,6,   134.60,6,    39.21,6,     0.00,6,     2.78,6,   -999.0,9,   -999.0,9,-999.0000,9,  -999.00,     1305
  49UP20170201,RF1702,  6002,  1,      1,  25810,2,20170223,1301,  9.4883, 152.9928, 5274,   2019.6,   2.2280,  34.6318,2,  34.6320,2,    105.8,2,   139.71,2,    38.94,2,     0.00,2,     2.75,2,   -999.0,9,   -999.0,9,-999.0000,9,  -999.00,     1301