BOTTLE,20200109PRINUNIVRMK
EXPOCODE,SECT_ID,STNNBR,CASTNO,SAMPNO,BTLNBR,BTLNBR_FLAG_W,DATE,TIME,LATITUDE,LONGITUDE,DEPTH,CTDPRS,CTDTMP,CTDSAL,CTDSAL_FLAG_W,SALNTY,SALNTY_FLAG_W,OXYGEN,OXYGEN_FLAG_W,SILCAT,SILCAT_FLAG_W,NITRAT,NITRAT_FLAG_W,NITRIT,NITRIT_FLAG_W,PHSPHT,PHSPHT_FLAG_W,TCARBN,TCARBN_FLAG_W,ALKALI,ALKALI_FLAG_W,PH_TOT,PH_TOT_FLAG_W,PH_TMP,BTL_TIME
,,,,,,,,,,,METERS,DBAR,ITS-90,PSS-78,,PSS-78,,UMOL/KG,,UMOL/KG,,UMOL/KG,,UMOL/KG,,UMOL/KG,,UMOL/KG,,UMOL/KG,,,,DEG C,
  49UP20170201,RF1702,  6011,  1,     99,     99,2,20170225,2244,  9.4105, 143.9987, 4627,      0.0,  29.1459,  33.9661,2,-999.0000,9,    195.3,2,     1.11,2,     0.02,2,     0.00,2,     0.02,2,   -999.0,9,   -999.0,9,-999.0000,9,  -999.00,     2315
  49UP20170201,RF1702,  6011,  1,     36,  25845,3,20170225,2244,  9.4105, 143.9987, 4627,      9.7,  29.1489,  33.9660,2,-999.0000,9,    195.3,2,     1.09,2,     0.02,2,     0.00,2,     0.01,2,   -999.0,9,   -999.0,9,-999.0000,9,  -999.00,     2343
  49UP20170201,RF1702,  6011,  1,     35,  25844,2,20170225,2244,  9.4105, 143.9987, 4627,     25.4,  29.1481,  33.9648,2,-999.0000,9,    195.2,2,     1.06,2,     0.02,2,     0.00,2,     0.01,2,   -999.0,9,   -999.0,9,-999.0000,9,  -999.00,     2342
  49UP20170201,RF1702,  6011,  1,     34,  25843,2,20170225,2244,  9.4105, 143.9987, 4627,     51.5,  29.1527,  33.9653,2,-999.0000,9,    195.5,2,     1.13,2,     0.02,2,     0.00,2,     0.01,2,   -999.0,9,   -999.0,9,-999.0000,9,  -999.00,     2341
  49UP20170201,RF1702,  6011,  1,     33,  25842,2,20170225,2244,  9.4105, 143.9987, 4627,     77.2,  29.0529,  34.0077,2,-999.0000,9,    195.6,2,     1.10,2,     0.02,2,     0.00,2,     0.02,2,   -999.0,9,   -999.0,9,-999.0000,9,  -999.00,     2339
  49UP20170201,RF1702,  6011,  1,     32,  25841,2,20170225,2244,  9.4105, 143.9987, 4627,     77.8,  29.0390,  34.0138,2,-999.0000,9,    195.7,2,     1.10,2,     0.02,2,     0.00,2,     0.02,2,   -999.0,9,   -999.0,9,-999.0000,9,  -999.00,     2339
  49UP20170201,RF1702,  6011,  1,     31,  25840,3,20170225,2244,  9.4105, 143.9987, 4627,    103.6,  24.0580,  34.8113,2,-999.0000,9,    190.3,2,     2.29,2,     0.33,2,     0.04,2,     0.20,2,   -999.0,9,   -999.0,9,-999.0000,9,  -999.00,     2335
  49UP20170201,RF1702,  6011,  1,     27,  25836,3,20170225,2244,  9.4105, 143.9987, 4627,    127.7,  17.8491,  34.7304,2,-999.0000,9,    152.1,2,     8.05,2,     9.24,2,     0.03,2,     0.75,2,   -999.0,9,   -999.0,9,-999.0000,9,  -999.00,     2334
  49UP20170201,RF1702,  6011,  1,     26,  25835,2,20170225,2244,  9.4105, 143.9987, 4627,    151.7,  16.5566,  34.6671,2,-999.0000,9,    158.3,2,     8.50,2,     9.96,2,     0.02,2,     0.77,2,   -999.0,9,   -999.0,9,-999.0000,9,  -999.00,     2332
  49UP20170201,RF1702,  6011,  1,     25,  25834,2,20170225,2244,  9.4105, 143.9987, 4627,    204.0,  12.9084,  34.4340,2,-999.0000,9,    138.2,2,    17.25,2,    17.26,2,     0.00,2,     1.28,2,   -999.0,9,   -999.0,9,-999.0000,9,  -999.00,     2331
  49UP20170201,RF1702,  6011,  1,     24,  25833,2,20170225,2244,  9.4105, 143.9987, 4627,    251.6,  10.9046,  34.4757,2,-999.0000,9,     88.3,2,    28.31,2,    26.19,2,     0.00,2,     1.91,2,   -999.0,9,   -999.0,9,-999.0000,9,  -999.00,     2329
  49UP20170201,RF1702,  6011,  1,     23,  25832,3,20170225,2244,  9.4105, 143.9987, 4627,    301.4,   9.6195,  34.5293,2,-999.0000,9,     70.0,6,    35.15,6,    30.84,6,     0.00,6,     2.21,6,   -999.0,9,   -999.0,9,-999.0000,9,  -999.00,     2327
  49UP20170201,RF1702,  6011,  1,     22,  25831,2,20170225,2244,  9.4105, 143.9987, 4627,    352.7,   9.0079,  34.5466,2,-999.0000,9,     65.1,2,    38.24,2,    32.63,2,     0.00,2,     2.32,2,   -999.0,9,   -999.0,9,-999.0000,9,  -999.00,     2325
  49UP20170201,RF1702,  6011,  1,     21,  25830,2,20170225,2244,  9.4105, 143.9987, 4627,    402.0,   8.4775,  34.5498,2,-999.0000,9,     69.4,2,    40.97,2,    33.37,2,     0.00,2,     2.36,2,   -999.0,9,   -999.0,9,-999.0000,9,  -999.00,     2323
  49UP20170201,RF1702,  6011,  1,     20,  25829,2,20170225,2244,  9.4105, 143.9987, 4627,    452.8,   8.0438,  34.5493,2,-999.0000,9,     79.4,2,    42.61,2,    33.44,2,     0.00,2,     2.36,2,   -999.0,9,   -999.0,9,-999.0000,9,  -999.00,     2322
  49UP20170201,RF1702,  6011,  1,     15,  25824,2,20170225,2244,  9.4105, 143.9987, 4627,    502.2,   7.6660,  34.5389,2,-999.0000,9,     81.8,2,    45.46,2,    33.90,2,     0.00,2,     2.39,2,   -999.0,9,   -999.0,9,-999.0000,9,  -999.00,     2320
  49UP20170201,RF1702,  6011,  1,     14,  25823,2,20170225,2244,  9.4105, 143.9987, 4627,    502.6,   7.6629,  34.5386,2,-999.0000,9,     81.8,2,    45.52,2,    33.92,2,     0.00,2,     2.40,2,   -999.0,9,   -999.0,9,-999.0000,9,  -999.00,     2320
  49UP20170201,RF1702,  6011,  1,     13,  25822,2,20170225,2244,  9.4105, 143.9987, 4627,    606.1,   6.8377,  34.5262,2,-999.0000,9,     88.5,2,    52.96,2,    34.78,2,     0.00,2,     2.47,2,   -999.0,9,   -999.0,9,-999.0000,9,  -999.00,     2317
  49UP20170201,RF1702,  6011,  1,     12,  25821,2,20170225,2244,  9.4105, 143.9987, 4627,    707.9,   6.2218,  34.5265,2,-999.0000,9,     80.4,2,    62.41,2,    36.55,2,     0.00,2,     2.60,2,   -999.0,9,   -999.0,9,-999.0000,9,  -999.00,     2314
  49UP20170201,RF1702,  6011,  1,     11,  25820,2,20170225,2244,  9.4105, 143.9987, 4627,    805.2,   5.7392,  34.5302,2,-999.0000,9,     78.0,2,    70.16,2,    37.60,2,     0.00,2,     2.68,2,   -999.0,9,   -999.0,9,-999.0000,9,  -999.00,     2311
  49UP20170201,RF1702,  6011,  1,     10,  25819,2,20170225,2244,  9.4105, 143.9987, 4627,    906.1,   5.2067,  34.5367,2,-999.0000,9,     78.4,2,    79.20,2,    38.35,2,     0.00,2,     2.73,2,   -999.0,9,   -999.0,9,-999.0000,9,  -999.00,     2309
  49UP20170201,RF1702,  6011,  1,      9,  25818,2,20170225,2244,  9.4105, 143.9987, 4627,   1008.8,   4.7108,  34.5467,2,-999.0000,9,     80.5,2,    88.36,2,    38.76,2,     0.00,2,     2.76,2,   -999.0,9,   -999.0,9,-999.0000,9,  -999.00,     2306
  49UP20170201,RF1702,  6011,  1,      8,  25817,2,20170225,2244,  9.4105, 143.9987, 4627,   1215.8,   3.9932,  34.5633,2,-999.0000,9,     87.2,2,   102.26,2,    38.93,2,     0.00,2,     2.77,2,   -999.0,9,   -999.0,9,-999.0000,9,  -999.00,     2301
  49UP20170201,RF1702,  6011,  1,      7,  25816,2,20170225,2244,  9.4105, 143.9987, 4627,   1410.0,   3.3774,  34.5816,2,-999.0000,9,     91.7,2,   115.05,2,    39.16,2,     0.00,2,     2.78,2,   -999.0,9,   -999.0,9,-999.0000,9,  -999.00,     2257
  49UP20170201,RF1702,  6011,  1,      6,  25815,2,20170225,2244,  9.4105, 143.9987, 4627,   1612.2,   2.8601,  34.5994,2,-999.0000,9,     98.0,2,   125.78,2,    39.06,2,     0.00,2,     2.76,2,   -999.0,9,   -999.0,9,-999.0000,9,  -999.00,     2253
  49UP20170201,RF1702,  6011,  1,      5,  25814,2,20170225,2244,  9.4105, 143.9987, 4627,   1816.3,   2.4364,  34.6195,2,-999.0000,9,    105.0,6,   134.17,6,    38.90,6,     0.00,6,     2.74,6,   -999.0,9,   -999.0,9,-999.0000,9,  -999.00,     2248
  49UP20170201,RF1702,  6011,  1,      4,  25813,2,20170225,2244,  9.4105, 143.9987, 4627,   2020.2,   2.1854,  34.6342,2,-999.0000,9,    111.0,2,   139.31,2,    38.67,2,     0.00,2,     2.71,2,   -999.0,9,   -999.0,9,-999.0000,9,  -999.00,     2244
  49UP20170201,RF1702,  6012,  1,     99,     99,2,20170226,0537,  9.3105, 142.9997, 3980,      0.0,  29.1769,  33.9579,2,-999.0000,9,    195.9,2,     1.19,2,     0.02,2,     0.00,2,     0.01,2,   -999.0,9,   -999.0,9,-999.0000,9,  -999.00,      607
  49UP20170201,RF1702,  6012,  1,     36,  25845,2,20170226,0537,  9.3105, 142.9997, 3980,      9.4,  29.1717,  33.9576,2,  33.9569,2,    195.6,2,     1.19,2,     0.02,2,     0.00,2,     0.00,2,   -999.0,9,   -999.0,9,-999.0000,9,  -999.00,      638
  49UP20170201,RF1702,  6012,  1,     35,  25844,2,20170226,0537,  9.3105, 142.9997, 3980,     25.0,  29.1708,  33.9572,2,-999.0000,9,    195.8,2,     1.19,2,     0.01,2,     0.00,2,     0.00,2,   -999.0,9,   -999.0,9,-999.0000,9,  -999.00,      637
  49UP20170201,RF1702,  6012,  1,     33,  25842,2,20170226,0537,  9.3105, 142.9997, 3980,     50.2,  29.1177,  33.9562,2,  33.9570,2,    195.9,2,     1.15,2,     0.01,2,     0.00,2,     0.01,2,   -999.0,9,   -999.0,9,-999.0000,9,  -999.00,      635
  49UP20170201,RF1702,  6012,  1,     34,  25843,2,20170226,0537,  9.3105, 142.9997, 3980,     51.3,  29.1172,  33.9569,2,  33.9558,2,    195.6,2,     1.15,2,     0.02,2,     0.00,2,     0.00,2,   -999.0,9,   -999.0,9,-999.0000,9,  -999.00,      636
  49UP20170201,RF1702,  6012,  1,     32,  25841,2,20170226,0537,  9.3105, 142.9997, 3980,     74.2,  26.4430,  34.6802,2,  34.6792,2,    181.4,2,     2.26,2,     0.11,2,     0.02,2,     0.15,2,   -999.0,9,   -999.0,9,-999.0000,9,  -999.00,      634
  49UP20170201,RF1702,  6012,  1,     31,  25840,2,20170226,0537,  9.3105, 142.9997, 3980,    101.5,  22.7377,  34.7992,2,  34.7981,2,    159.3,2,     4.94,2,     5.02,2,     0.10,2,     0.47,2,   -999.0,9,   -999.0,9,-999.0000,9,  -999.00,      631
  49UP20170201,RF1702,  6012,  1,     27,  25836,3,20170226,0537,  9.3105, 142.9997, 3980,    124.1,  20.9885,  34.7782,2,  34.7803,2,    152.8,2,     6.82,2,     7.25,2,     0.03,2,     0.61,2,   -999.0,9,   -999.0,9,-999.0000,9,  -999.00,      629
  49UP20170201,RF1702,  6012,  1,     26,  25835,3,20170226,0537,  9.3105, 142.9997, 3980,    148.9,  17.5932,  34.6953,2,-999.0000,5,    144.9,2,    10.41,2,    11.17,2,     0.02,2,     0.87,2,   -999.0,9,   -999.0,9,-999.0000,9,  -999.00,      628
  49UP20170201,RF1702,  6012,  1,     25,  25834,2,20170226,0537,  9.3105, 142.9997, 3980,    200.7,  14.1352,  34.5628,2,  34.5623,2,    123.6,6,    18.12,6,    17.98,6,     0.00,6,     1.32,6,   -999.0,9,   -999.0,9,-999.0000,9,  -999.00,      626
  49UP20170201,RF1702,  6012,  1,     24,  25833,2,20170226,0537,  9.3105, 142.9997, 3980,    252.6,  11.6363,  34.4985,2,  34.4993,2,    100.0,2,    25.88,2,    24.05,2,     0.00,2,     1.74,2,   -999.0,9,   -999.0,9,-999.0000,9,  -999.00,      625
  49UP20170201,RF1702,  6012,  1,     23,  25832,2,20170226,0537,  9.3105, 142.9997, 3980,    301.8,   9.7277,  34.5163,2,  34.5164,2,     78.0,2,    34.60,2,    29.90,2,     0.00,2,     2.13,2,   -999.0,9,   -999.0,9,-999.0000,9,  -999.00,      623
  49UP20170201,RF1702,  6012,  1,     22,  25831,2,20170226,0537,  9.3105, 142.9997, 3980,    354.1,   8.8392,  34.5283,2,  34.5264,2,     82.9,2,    38.54,2,    31.31,2,     0.00,2,     2.22,2,   -999.0,9,   -999.0,9,-999.0000,9,  -999.00,      621
  49UP20170201,RF1702,  6012,  1,     18,  25827,2,20170226,0537,  9.3105, 142.9997, 3980,    403.0,   8.4068,  34.5307,2,  34.5307,2,     84.8,2,    40.57,2,    32.08,2,     0.00,2,     2.26,2,   -999.0,9,   -999.0,9,-999.0000,9,  -999.00,      619
  49UP20170201,RF1702,  6012,  1,     17,  25826,2,20170226,0537,  9.3105, 142.9997, 3980,    450.3,   7.9361,  34.5302,2,  34.5298,2,     90.0,2,    42.64,2,    32.55,2,     0.00,2,     2.28,2,   -999.0,9,   -999.0,9,-999.0000,9,  -999.00,      618
  49UP20170201,RF1702,  6012,  1,     15,  25824,2,20170226,0537,  9.3105, 142.9997, 3980,    505.7,   7.5072,  34.5299,2,  34.5288,2,     91.4,2,    45.46,2,    33.24,2,     0.00,2,     2.34,2,   -999.0,9,   -999.0,9,-999.0000,9,  -999.00,      615
  49UP20170201,RF1702,  6012,  1,     16,  25825,2,20170226,0537,  9.3105, 142.9997, 3980,    507.8,   7.5036,  34.5295,2,  34.5290,2,     91.4,2,    45.57,2,    33.30,2,     0.00,2,     2.34,2,   -999.0,9,   -999.0,9,-999.0000,9,  -999.00,      616
  49UP20170201,RF1702,  6012,  1,     14,  25823,2,20170226,0537,  9.3105, 142.9997, 3980,    605.6,   6.9597,  34.5256,2,  34.5250,6,     82.7,2,    52.60,2,    35.01,2,     0.00,2,     2.48,2,   -999.0,9,   -999.0,9,-999.0000,9,  -999.00,      612
  49UP20170201,RF1702,  6012,  1,     13,  25822,2,20170226,0537,  9.3105, 142.9997, 3980,    708.3,   6.3719,  34.5256,2,  34.5247,2,     81.7,2,    59.99,2,    36.17,2,     0.00,2,     2.56,2,   -999.0,9,   -999.0,9,-999.0000,9,  -999.00,      609
  49UP20170201,RF1702,  6012,  1,      9,  25818,2,20170226,0537,  9.3105, 142.9997, 3980,    807.8,   5.6692,  34.5318,2,  34.5314,2,     76.1,2,    71.31,2,    37.84,2,     0.00,2,     2.69,2,   -999.0,9,   -999.0,9,-999.0000,9,  -999.00,      607
  49UP20170201,RF1702,  6012,  1,      8,  25817,2,20170226,0537,  9.3105, 142.9997, 3980,    907.8,   5.1480,  34.5376,2,  34.5375,2,     76.7,2,    80.24,2,    38.48,2,     0.00,2,     2.74,2,   -999.0,9,   -999.0,9,-999.0000,9,  -999.00,      604
  49UP20170201,RF1702,  6012,  1,      7,  25816,2,20170226,0537,  9.3105, 142.9997, 3980,   1008.3,   4.6714,  34.5460,2,  34.5462,2,     79.4,6,    89.16,6,    38.82,6,     0.00,6,     2.76,6,   -999.0,9,   -999.0,9,-999.0000,9,  -999.00,      601
  49UP20170201,RF1702,  6012,  1,      6,  25815,2,20170226,0537,  9.3105, 142.9997, 3980,   1210.9,   3.7135,  34.5719,2,  34.5717,6,     88.8,2,   107.95,2,    39.00,2,     0.00,2,     2.77,2,   -999.0,9,   -999.0,9,-999.0000,9,  -999.00,      556
  49UP20170201,RF1702,  6012,  1,      5,  25814,2,20170226,0537,  9.3105, 142.9997, 3980,   1413.0,   3.2035,  34.5890,2,  34.5886,2,     94.0,2,   118.03,2,    38.97,2,     0.00,2,     2.76,2,   -999.0,9,   -999.0,9,-999.0000,9,  -999.00,      551
  49UP20170201,RF1702,  6012,  1,      4,  25813,2,20170226,0537,  9.3105, 142.9997, 3980,   1615.6,   2.8180,  34.6041,2,  34.6046,2,     98.8,2,   126.26,2,    38.99,2,     0.00,2,     2.75,2,   -999.0,9,   -999.0,9,-999.0000,9,  -999.00,      547
  49UP20170201,RF1702,  6012,  1,      3,  25812,2,20170226,0537,  9.3105, 142.9997, 3980,   1818.9,   2.4578,  34.6199,2,  34.6205,2,    104.7,2,   133.69,2,    38.76,2,     0.00,2,     2.73,2,   -999.0,9,   -999.0,9,-999.0000,9,  -999.00,      541
  49UP20170201,RF1702,  6012,  1,      2,  25811,2,20170226,0537,  9.3105, 142.9997, 3980,   2019.5,   2.2406,  34.6312,2,  34.6322,6,    109.4,2,   138.47,2,    38.66,2,     0.00,2,     2.71,2,   -999.0,9,   -999.0,9,-999.0000,9,  -999.00,      537