BOTTLE,20200109PRINUNIVRMK
EXPOCODE,SECT_ID,STNNBR,CASTNO,SAMPNO,BTLNBR,BTLNBR_FLAG_W,DATE,TIME,LATITUDE,LONGITUDE,DEPTH,CTDPRS,CTDTMP,CTDSAL,CTDSAL_FLAG_W,SALNTY,SALNTY_FLAG_W,OXYGEN,OXYGEN_FLAG_W,SILCAT,SILCAT_FLAG_W,NITRAT,NITRAT_FLAG_W,NITRIT,NITRIT_FLAG_W,PHSPHT,PHSPHT_FLAG_W,TCARBN,TCARBN_FLAG_W,ALKALI,ALKALI_FLAG_W,PH_TOT,PH_TOT_FLAG_W,PH_TMP,BTL_TIME
,,,,,,,,,,,METERS,DBAR,ITS-90,PSS-78,,PSS-78,,UMOL/KG,,UMOL/KG,,UMOL/KG,,UMOL/KG,,UMOL/KG,,UMOL/KG,,UMOL/KG,,,,DEG C,
  49UP20170201,RF1702,  5987,  1,     99,     99,2,20170210,0907, 13.0010, 164.9808, 5197,      0.0,  27.3741,  34.2479,2,-999.0000,9,    201.6,2,     0.96,2,     0.03,2,     0.00,2,     0.10,2,   -999.0,9,   -999.0,9,-999.0000,9,  -999.00,      940
  49UP20170201,RF1702,  5987,  1,     33,  25842,2,20170210,0907, 13.0010, 164.9808, 5197,     10.1,  27.3877,  34.2476,2,-999.0000,9,    201.4,2,     0.96,2,     0.04,2,     0.00,2,     0.09,2,   -999.0,9,   -999.0,9,-999.0000,9,  -999.00,     1006
  49UP20170201,RF1702,  5987,  1,     32,  25841,2,20170210,0907, 13.0010, 164.9808, 5197,     24.6,  27.2678,  34.2431,2,-999.0000,9,    201.6,2,     0.95,2,     0.03,2,     0.00,2,     0.09,2,   -999.0,9,   -999.0,9,-999.0000,9,  -999.00,     1005
  49UP20170201,RF1702,  5987,  1,     31,  25840,2,20170210,0907, 13.0010, 164.9808, 5197,     49.7,  27.2547,  34.2423,2,-999.0000,9,    201.5,2,     0.95,2,     0.03,2,     0.00,2,     0.09,2,   -999.0,9,   -999.0,9,-999.0000,9,  -999.00,     1001
  49UP20170201,RF1702,  5987,  1,     30,  25839,2,20170210,0907, 13.0010, 164.9808, 5197,     75.4,  27.2238,  34.2395,2,-999.0000,9,    201.7,2,     1.00,2,     0.02,2,     0.00,2,     0.09,2,   -999.0,9,   -999.0,9,-999.0000,9,  -999.00,     1000
  49UP20170201,RF1702,  5987,  1,     29,  25838,2,20170210,0907, 13.0010, 164.9808, 5197,    100.8,  27.0502,  34.6886,2,-999.0000,9,    204.8,2,     1.09,2,     0.01,2,     0.00,2,     0.08,2,   -999.0,9,   -999.0,9,-999.0000,9,  -999.00,      959
  49UP20170201,RF1702,  5987,  1,     28,  25837,2,20170210,0907, 13.0010, 164.9808, 5197,    126.9,  23.9882,  35.0791,2,-999.0000,9,    198.0,2,     1.40,2,     0.03,2,     0.00,2,     0.13,2,   -999.0,9,   -999.0,9,-999.0000,9,  -999.00,      958
  49UP20170201,RF1702,  5987,  1,     26,  25835,2,20170210,0907, 13.0010, 164.9808, 5197,    151.8,  21.1175,  34.8611,2,-999.0000,9,    182.1,6,     3.10,6,     1.58,6,     0.25,6,     0.34,6,   -999.0,9,   -999.0,9,-999.0000,9,  -999.00,      956
  49UP20170201,RF1702,  5987,  1,     25,  25834,2,20170210,0907, 13.0010, 164.9808, 5197,    202.6,  15.9307,  34.5843,2,-999.0000,9,    160.1,2,     8.03,2,     9.66,2,     0.01,2,     0.79,2,   -999.0,9,   -999.0,9,-999.0000,9,  -999.00,      955
  49UP20170201,RF1702,  5987,  1,     23,  25832,2,20170210,0907, 13.0010, 164.9808, 5197,    252.7,  12.0010,  34.2993,2,-999.0000,9,    148.3,2,    17.65,2,    17.24,2,     0.00,2,     1.31,2,   -999.0,9,   -999.0,9,-999.0000,9,  -999.00,      952
  49UP20170201,RF1702,  5987,  1,     24,  25833,2,20170210,0907, 13.0010, 164.9808, 5197,    253.6,  11.9590,  34.2984,2,-999.0000,9,    148.2,2,    17.75,2,    17.33,2,     0.00,2,     1.31,2,   -999.0,9,   -999.0,9,-999.0000,9,  -999.00,      953
  49UP20170201,RF1702,  5987,  1,     22,  25831,2,20170210,0907, 13.0010, 164.9808, 5197,    304.9,  10.1224,  34.3038,2,-999.0000,9,    105.5,2,    29.39,2,    25.06,2,     0.00,2,     1.86,2,   -999.0,9,   -999.0,9,-999.0000,9,  -999.00,      951
  49UP20170201,RF1702,  5987,  1,     21,  25830,2,20170210,0907, 13.0010, 164.9808, 5197,    355.4,   8.9537,  34.3620,2,-999.0000,9,     69.2,2,    39.17,2,    30.75,2,     0.00,2,     2.27,2,   -999.0,9,   -999.0,9,-999.0000,9,  -999.00,      949
  49UP20170201,RF1702,  5987,  1,     20,  25829,2,20170210,0907, 13.0010, 164.9808, 5197,    405.4,   7.9420,  34.3837,2,-999.0000,9,     59.6,2,    48.41,2,    33.90,2,     0.00,2,     2.46,2,   -999.0,9,   -999.0,9,-999.0000,9,  -999.00,      947
  49UP20170201,RF1702,  5987,  1,     19,  25828,2,20170210,0907, 13.0010, 164.9808, 5197,    455.5,   7.3851,  34.4159,2,-999.0000,9,     57.9,2,    54.07,2,    35.35,2,     0.00,2,     2.55,2,   -999.0,9,   -999.0,9,-999.0000,9,  -999.00,      946
  49UP20170201,RF1702,  5987,  1,     15,  25824,2,20170210,0907, 13.0010, 164.9808, 5197,    505.7,   6.8094,  34.4421,2,-999.0000,9,     59.5,2,    59.86,2,    36.37,2,     0.00,2,     2.61,2,   -999.0,9,   -999.0,9,-999.0000,9,  -999.00,      943
  49UP20170201,RF1702,  5987,  1,     14,  25823,2,20170210,0907, 13.0010, 164.9808, 5197,    605.9,   6.1366,  34.4913,2,-999.0000,9,     67.6,2,    67.22,2,    37.38,2,     0.00,2,     2.67,2,   -999.0,9,   -999.0,9,-999.0000,9,  -999.00,      941
  49UP20170201,RF1702,  5987,  1,     13,  25822,2,20170210,0907, 13.0010, 164.9808, 5197,    705.5,   5.5800,  34.5121,2,-999.0000,9,     67.8,2,    75.04,2,    38.48,2,     0.00,2,     2.75,2,   -999.0,9,   -999.0,9,-999.0000,9,  -999.00,      938
  49UP20170201,RF1702,  5987,  1,     12,  25821,2,20170210,0907, 13.0010, 164.9808, 5197,    807.0,   5.2193,  34.5165,2,-999.0000,9,     69.3,2,    81.59,2,    38.86,2,     0.00,2,     2.77,2,   -999.0,9,   -999.0,9,-999.0000,9,  -999.00,      935
  49UP20170201,RF1702,  5987,  1,     11,  25820,2,20170210,0907, 13.0010, 164.9808, 5197,    907.0,   4.8353,  34.5315,2,-999.0000,9,     66.8,6,    88.39,6,    39.73,6,     0.00,6,     2.84,6,   -999.0,9,   -999.0,9,-999.0000,9,  -999.00,      933
  49UP20170201,RF1702,  5987,  1,     10,  25819,2,20170210,0907, 13.0010, 164.9808, 5197,   1008.2,   4.3832,  34.5384,2,-999.0000,9,     70.5,2,    97.56,2,    39.82,2,     0.00,2,     2.84,2,   -999.0,9,   -999.0,9,-999.0000,9,  -999.00,      930
  49UP20170201,RF1702,  5987,  1,      5,  25814,2,20170210,0907, 13.0010, 164.9808, 5197,   1210.5,   3.6328,  34.5629,2,-999.0000,9,     76.8,2,   113.00,2,    40.08,2,     0.00,2,     2.85,2,   -999.0,9,   -999.0,9,-999.0000,9,  -999.00,      925
  49UP20170201,RF1702,  5987,  1,      6,  25815,2,20170210,0907, 13.0010, 164.9808, 5197,   1211.6,   3.6318,  34.5629,2,-999.0000,9,     76.8,2,   112.94,2,    40.06,2,     0.00,2,     2.85,2,   -999.0,9,   -999.0,9,-999.0000,9,  -999.00,      926
  49UP20170201,RF1702,  5987,  1,      4,  25813,2,20170210,0907, 13.0010, 164.9808, 5197,   1414.0,   3.1126,  34.5832,2,-999.0000,9,     81.2,2,   124.16,2,    40.24,2,     0.00,2,     2.86,2,   -999.0,9,   -999.0,9,-999.0000,9,  -999.00,      921
  49UP20170201,RF1702,  5987,  1,      3,  25812,2,20170210,0907, 13.0010, 164.9808, 5197,   1616.1,   2.6341,  34.6034,2,-999.0000,9,     89.7,2,   134.09,2,    39.88,2,     0.00,2,     2.82,2,   -999.0,9,   -999.0,9,-999.0000,9,  -999.00,      916
  49UP20170201,RF1702,  5987,  1,      2,  25811,2,20170210,0907, 13.0010, 164.9808, 5197,   1817.8,   2.3310,  34.6234,2,-999.0000,9,    100.5,2,   139.38,2,    39.33,2,     0.00,2,     2.77,2,   -999.0,9,   -999.0,9,-999.0000,9,  -999.00,      912
  49UP20170201,RF1702,  5987,  1,      1,  25810,3,20170210,0907, 13.0010, 164.9808, 5197,   2018.7,   2.1553,  34.6353,2,-999.0000,9,    105.2,2,   142.97,2,    39.17,2,     0.00,2,     2.74,2,   -999.0,9,   -999.0,9,-999.0000,9,  -999.00,      907
  49UP20170201,RF1702,  5988,  1,     99,     99,2,20170211,0226,  9.9832, 163.9840, 4989,      0.0,  28.1881,  34.1606,2,  34.1681,2,    198.6,2,     0.91,2,     0.01,2,     0.00,2,     0.08,2,   1918.3,2,   2242.6,2,   8.1102,2,    25.00,      325
  49UP20170201,RF1702,  5988,  1,     36,  25845,2,20170211,0226,  9.9832, 163.9840, 4989,     10.8,  28.1354,  34.1606,2,  34.1603,2,    198.3,2,     0.91,2,     0.01,2,     0.00,2,     0.07,2,   1918.3,2,   2242.1,2,   8.1118,2,    25.00,      426
  49UP20170201,RF1702,  5988,  1,     35,  25844,2,20170211,0226,  9.9832, 163.9840, 4989,     25.2,  28.0447,  34.1626,2,-999.0000,9,    198.5,2,     0.87,2,     0.01,2,     0.00,2,     0.07,2,   1917.9,2,   2242.6,2,   8.1092,2,    25.00,      425
  49UP20170201,RF1702,  5988,  1,     34,  25843,2,20170211,0226,  9.9832, 163.9840, 4989,     51.1,  28.0314,  34.1639,2,  34.1636,2,    198.3,2,     0.87,2,     0.00,2,     0.00,2,     0.07,2,   1919.3,2,   2241.0,2,   8.1069,2,    25.00,      423
  49UP20170201,RF1702,  5988,  1,     33,  25842,2,20170211,0226,  9.9832, 163.9840, 4989,     74.6,  28.0142,  34.1652,2,  34.1654,2,    198.5,2,     0.87,2,     0.00,2,     0.00,2,     0.07,2,   1919.5,2,   2242.4,2,   8.1088,2,    25.00,      422
  49UP20170201,RF1702,  5988,  1,     32,  25841,2,20170211,0226,  9.9832, 163.9840, 4989,    100.8,  26.6610,  34.6453,2,  34.6819,4,    207.6,6,     1.20,6,     0.01,6,     0.00,6,     0.10,6,   1982.3,2,   2283.1,2,   8.0730,2,    25.00,      419
  49UP20170201,RF1702,  5988,  1,     31,  25840,2,20170211,0226,  9.9832, 163.9840, 4989,    126.3,  23.5657,  34.9867,2,  34.9948,2,    196.6,2,     1.81,2,     0.13,2,     0.01,2,     0.16,2,   2029.4,2,   2308.5,2,   8.0150,2,    25.00,      418
  49UP20170201,RF1702,  5988,  1,     30,  25839,2,20170211,0226,  9.9832, 163.9840, 4989,    150.8,  19.4485,  34.8902,2,  34.8997,2,    173.7,2,     4.52,2,     4.76,2,     0.09,2,     0.47,2,   2081.1,2,   2297.0,2,   7.9111,2,    25.00,      416
  49UP20170201,RF1702,  5988,  1,     29,  25838,2,20170211,0226,  9.9832, 163.9840, 4989,    202.2,  11.6185,  34.4961,2,  34.4943,2,     65.8,2,    25.20,2,    26.65,2,     0.00,2,     2.01,2,   2216.2,2,   2281.7,2,   7.5544,2,    25.00,      415
  49UP20170201,RF1702,  5988,  1,     28,  25837,2,20170211,0226,  9.9832, 163.9840, 4989,    252.8,  10.6603,  34.5946,2,  34.5951,2,     32.8,2,    30.84,2,    32.15,2,     0.00,2,     2.36,2,   2250.2,2,   2293.0,2,   7.4758,2,    25.00,      413
  49UP20170201,RF1702,  5988,  1,     27,  25836,2,20170211,0226,  9.9832, 163.9840, 4989,    304.4,   9.9466,  34.6246,2,  34.6229,2,     33.5,2,    33.55,2,    33.75,2,     0.00,2,     2.43,2,   2255.6,2,   2299.0,2,   7.4695,2,    25.00,      411
  49UP20170201,RF1702,  5988,  1,     26,  25835,2,20170211,0226,  9.9832, 163.9840, 4989,    354.0,   9.0971,  34.6015,2,-999.0000,9,     42.6,2,    37.72,2,    34.57,2,     0.00,2,     2.48,2,   2257.8,6,   2303.3,6,   7.4717,2,    25.00,      409
  49UP20170201,RF1702,  5988,  1,     25,  25834,2,20170211,0226,  9.9832, 163.9840, 4989,    402.9,   8.7112,  34.5875,2,  34.5875,2,     47.1,2,    39.76,2,    34.83,2,     0.00,2,     2.49,2,   2266.1,2,   2305.2,2,   7.4745,6,    25.00,      408
  49UP20170201,RF1702,  5988,  1,     24,  25833,2,20170211,0226,  9.9832, 163.9840, 4989,    454.5,   8.2361,  34.5587,2,-999.0000,9,     58.5,2,    43.03,2,    34.69,2,     0.00,2,     2.47,2,   2260.3,2,   2308.0,2,   7.4880,2,    25.00,      406
  49UP20170201,RF1702,  5988,  1,     23,  25832,2,20170211,0226,  9.9832, 163.9840, 4989,    506.8,   7.9695,  34.5712,2,  34.5686,2,     55.7,6,    44.32,6,    35.63,6,     0.00,6,     2.54,6,   2259.1,2,   2311.7,2,   7.4807,2,    25.00,      404
  49UP20170201,RF1702,  5988,  1,     22,  25831,2,20170211,0226,  9.9832, 163.9840, 4989,    606.4,   7.0101,  34.5360,2,  34.5363,2,     52.2,2,    54.98,2,    37.44,2,     0.00,2,     2.69,2,   2276.7,2,   2319.8,2,   7.4574,2,    25.00,      401
  49UP20170201,RF1702,  5988,  1,     21,  25830,2,20170211,0226,  9.9832, 163.9840, 4989,    709.5,   6.2500,  34.5309,2,  34.5301,2,     48.1,2,    65.15,2,    39.39,2,     0.00,2,     2.83,2,   2293.5,2,   2331.1,2,   7.4384,2,    25.00,      358
  49UP20170201,RF1702,  5988,  1,     20,  25829,2,20170211,0226,  9.9832, 163.9840, 4989,    806.7,   5.6658,  34.5341,2,  34.5327,2,     50.6,2,    73.55,2,    40.42,2,     0.00,2,     2.90,2,   2303.1,2,   2340.4,2,   7.4328,2,    25.00,      355
  49UP20170201,RF1702,  5988,  1,     19,  25828,2,20170211,0226,  9.9832, 163.9840, 4989,    908.0,   4.9977,  34.5419,2,  34.5409,2,     58.5,2,    84.03,2,    40.61,2,     0.00,2,     2.91,2,   2312.1,2,   2352.3,2,   7.4420,2,    25.00,      352
  49UP20170201,RF1702,  5988,  1,     18,  25827,2,20170211,0226,  9.9832, 163.9840, 4989,   1011.2,   4.5795,  34.5556,2,  34.5537,2,     66.1,2,    90.20,2,    40.69,2,     0.00,2,     2.91,2,   2317.4,2,   2361.0,2,   7.4554,2,    25.00,      349
  49UP20170201,RF1702,  5988,  1,     17,  25826,2,20170211,0226,  9.9832, 163.9840, 4989,   1211.6,   3.7926,  34.5700,2,  34.5692,2,     76.2,2,   107.17,2,    40.24,2,     0.00,2,     2.87,2,   2326.2,2,   2375.9,2,   7.4674,2,    25.00,      344
  49UP20170201,RF1702,  5988,  1,     16,  25825,2,20170211,0226,  9.9832, 163.9840, 4989,   1411.7,   3.1988,  34.5874,2,  34.5868,2,     84.8,2,   120.47,2,    39.97,2,     0.00,2,     2.84,2,   2338.4,6,   2389.9,6,   7.4773,2,    25.00,      339
  49UP20170201,RF1702,  5988,  1,     15,  25824,2,20170211,0226,  9.9832, 163.9840, 4989,   1614.8,   2.7025,  34.6068,2,  34.6052,2,     91.2,2,   130.32,2,    39.72,2,     0.00,2,     2.82,2,   2342.0,2,   2399.5,2,   7.4871,6,    25.00,      335
  49UP20170201,RF1702,  5988,  1,     14,  25823,2,20170211,0226,  9.9832, 163.9840, 4989,   1816.4,   2.3907,  34.6222,2,  34.6220,2,     99.1,2,   137.84,2,    39.36,2,     0.00,2,     2.78,2,   2346.3,2,   2409.6,2,   7.5029,2,    25.00,      331
  49UP20170201,RF1702,  5988,  1,     13,  25822,2,20170211,0226,  9.9832, 163.9840, 4989,   2019.3,   2.1593,  34.6356,2,  34.6357,2,    105.8,6,   142.42,6,    39.02,6,     0.00,6,     2.74,6,   2355.1,2,   2414.1,2,   7.5122,2,    25.00,      326
  49UP20170201,RF1702,  5988,  1,     12,  25821,2,20170211,0226,  9.9832, 163.9840, 4989,   2273.6,   1.9657,  34.6483,2,  34.6482,2,    113.4,2,   146.21,2,    38.64,2,     0.00,2,     2.70,2,   2358.0,2,   2417.4,2,   7.5240,2,    25.00,      321
  49UP20170201,RF1702,  5988,  1,     11,  25820,2,20170211,0226,  9.9832, 163.9840, 4989,   2528.1,   1.8183,  34.6584,2,  34.6586,2,    120.1,2,   147.49,2,    38.13,2,     0.00,2,     2.66,2,   2346.0,2,   2421.4,2,   7.5358,2,    25.00,      316
  49UP20170201,RF1702,  5988,  1,     10,  25819,3,20170211,0226,  9.9832, 163.9840, 4989,   2780.8,   1.7124,  34.6655,2,  34.6650,2,    127.1,2,   148.18,2,    37.65,2,     0.00,2,     2.62,2,   2342.4,2,   2421.1,2,   7.5466,2,    25.00,      312
  49UP20170201,RF1702,  5988,  1,      9,  25818,2,20170211,0226,  9.9832, 163.9840, 4989,   3034.5,   1.6312,  34.6714,2,  34.6722,6,    133.8,2,   148.83,2,    37.27,2,     0.00,2,     2.59,2,   2337.2,2,   2422.6,2,   7.5560,2,    25.00,      307
  49UP20170201,RF1702,  5988,  1,      8,  25817,2,20170211,0226,  9.9832, 163.9840, 4989,   3289.7,   1.5375,  34.6780,2,  34.6784,2,    142.8,2,   147.21,2,    36.72,2,     0.00,2,     2.54,2,   2334.1,2,   2420.1,2,   7.5668,2,    25.00,      302
  49UP20170201,RF1702,  5988,  1,      7,  25816,2,20170211,0226,  9.9832, 163.9840, 4989,   3548.0,   1.4843,  34.6825,2,  34.6822,2,    150.5,2,   144.76,2,    36.17,2,     0.00,2,     2.50,2,   2327.6,2,   2417.1,2,   7.5783,2,    25.00,      257
  49UP20170201,RF1702,  5988,  1,      6,  25815,2,20170211,0226,  9.9832, 163.9840, 4989,   3801.8,   1.4348,  34.6876,2,  34.6875,2,    159.4,2,   140.60,2,    35.57,2,     0.00,2,     2.46,2,   2319.7,6,   2411.9,6,   7.5863,2,    25.00,      252
  49UP20170201,RF1702,  5988,  1,      5,  25814,2,20170211,0226,  9.9832, 163.9840, 4989,   4060.8,   1.4174,  34.6907,2,  34.6911,6,    165.0,2,   136.85,2,    35.11,2,     0.00,2,     2.42,2,   2314.2,2,   2407.8,2,   7.5938,6,    25.00,      247
  49UP20170201,RF1702,  5988,  1,      4,  25813,2,20170211,0226,  9.9832, 163.9840, 4989,   4318.7,   1.4041,  34.6937,2,  34.6938,2,    170.8,6,   134.13,6,    34.72,6,     0.00,6,     2.39,6,   2304.5,2,   2403.5,2,   7.5995,2,    25.00,      242
  49UP20170201,RF1702,  5988,  1,      3,  25812,2,20170211,0226,  9.9832, 163.9840, 4989,   4573.3,   1.3899,  34.6965,2,  34.6972,2,    176.3,2,   131.11,2,    34.29,2,     0.00,2,     2.36,2,   2299.9,2,   2402.3,2,   7.6068,2,    25.00,      236
  49UP20170201,RF1702,  5988,  1,      2,  25811,2,20170211,0226,  9.9832, 163.9840, 4989,   4831.9,   1.3862,  34.6987,2,-999.0000,9,    180.3,2,   129.11,2,    34.01,2,     0.00,2,     2.35,2,   2297.2,2,   2396.3,2,   7.6079,2,    25.00,      231
  49UP20170201,RF1702,  5988,  1,      1,  25810,2,20170211,0226,  9.9832, 163.9840, 4989,   5061.9,   1.3820,  34.7008,2,  34.7011,6,    184.2,2,   126.68,2,    33.67,2,     0.00,2,     2.32,2,   2290.9,2,   2393.1,2,   7.6114,2,    25.00,      226