BOTTLE,20200103PRINUNIVRMK
EXPOCODE,SECT_ID,STNNBR,CASTNO,SAMPNO,BTLNBR,BTLNBR_FLAG_W,DATE,TIME,LATITUDE,LONGITUDE,DEPTH,CTDPRS,CTDTMP,CTDSAL,CTDSAL_FLAG_W,SALNTY,SALNTY_FLAG_W,OXYGEN,OXYGEN_FLAG_W,SILCAT,SILCAT_FLAG_W,NITRAT,NITRAT_FLAG_W,NITRIT,NITRIT_FLAG_W,PHSPHT,PHSPHT_FLAG_W,TCARBN,TCARBN_FLAG_W,ALKALI,ALKALI_FLAG_W,PH_TOT,PH_TOT_FLAG_W,PH_TMP,BTL_TIME
,,,,,,,,,,,METERS,DBAR,ITS-90,PSS-78,,PSS-78,,UMOL/KG,,UMOL/KG,,UMOL/KG,,UMOL/KG,,UMOL/KG,,UMOL/KG,,UMOL/KG,,,,DEG C,
  49UF20170719,KS1706,  5232,  1,     99,     99,2,20170829,1615, 34.0095, 137.0170, 1259,      0.0,  28.8948,  34.2921,2,  34.3515,2,    198.6,2,     1.91,2,     0.00,2,     0.00,2,     0.01,2,   1947.9,2,   2263.0,2,   8.0915,2,    25.00,     1625
  49UF20170719,KS1706,  5232,  1,     36,  25270,2,20170829,1615, 34.0095, 137.0170, 1259,     10.8,  28.3292,  34.5034,2,  34.5382,4,    203.1,2,     1.65,2,     0.00,2,     0.00,2,     0.01,2,   1959.0,2,   2271.3,2,   8.0817,2,    25.00,     1702
  49UF20170719,KS1706,  5232,  1,     35,  25269,2,20170829,1615, 34.0095, 137.0170, 1259,     25.7,  24.5874,  34.5984,2,-999.0000,9,    215.6,2,     2.28,2,     0.00,2,     0.00,2,     0.02,2,   1978.4,2,   2280.2,2,   8.0635,2,    25.00,     1701
  49UF20170719,KS1706,  5232,  1,     34,  25268,2,20170829,1615, 34.0095, 137.0170, 1259,     50.0,  21.4589,  34.9127,2,  34.9265,2,    209.9,2,     2.78,2,     1.20,2,     0.09,2,     0.12,2,   2013.2,2,   2295.6,2,   8.0247,2,    25.00,     1657
  49UF20170719,KS1706,  5232,  1,     33,  25267,2,20170829,1615, 34.0095, 137.0170, 1259,     76.1,  19.8414,  34.9148,2,-999.0000,9,    199.8,2,     3.35,2,     2.46,2,     0.06,2,     0.20,2,   2034.3,2,   2293.9,2,   7.9871,2,    25.00,     1656
  49UF20170719,KS1706,  5232,  1,     32,  25266,3,20170829,1615, 34.0095, 137.0170, 1259,    100.6,  18.2021,  34.8305,2,  34.8360,2,    199.4,2,     4.26,2,     4.16,2,     0.01,2,     0.29,2,   2043.0,2,   2288.3,2,   7.9590,2,    25.00,     1655
  49UF20170719,KS1706,  5232,  1,     31,  25265,3,20170829,1615, 34.0095, 137.0170, 1259,    126.7,  17.6666,  34.8071,2,-999.0000,9,    203.7,2,     4.26,2,     4.45,2,     0.01,2,     0.30,2,   2044.1,2,   2285.9,2,   7.9573,2,    25.00,     1654
  49UF20170719,KS1706,  5232,  1,     26,  25260,2,20170829,1615, 34.0095, 137.0170, 1259,    153.5,  17.1865,  34.7443,2,  34.7412,2,    194.3,2,     6.05,2,     6.05,2,     0.01,2,     0.41,2,   2053.8,2,   2283.1,2,   7.9298,2,    25.00,     1653
  49UF20170719,KS1706,  5232,  1,     25,  25259,2,20170829,1615, 34.0095, 137.0170, 1259,    203.9,  15.7953,  34.6285,2,-999.0000,9,    192.8,2,     8.27,2,     8.12,2,     0.01,2,     0.55,2,   2069.8,2,   2279.4,2,   7.8959,2,    25.00,     1651
  49UF20170719,KS1706,  5232,  1,     20,  24270,2,20170829,1615, 34.0095, 137.0170, 1259,    253.9,  13.2168,  34.4775,2,  34.4811,2,    163.4,2,    23.28,2,    15.17,2,     0.01,2,     1.07,2,   2120.5,2,   2283.5,2,   7.7895,2,    25.00,     1649
  49UF20170719,KS1706,  5232,  1,     21,  25255,2,20170829,1615, 34.0095, 137.0170, 1259,    255.2,  13.1616,  34.4757,2,  34.4802,2,    163.2,2,    23.32,2,    15.19,2,     0.01,2,     1.07,2,   2120.3,2,   2282.3,2,   7.7895,2,    25.00,     1649
  49UF20170719,KS1706,  5232,  1,     19,  25253,2,20170829,1615, 34.0095, 137.0170, 1259,    305.5,  11.3501,  34.3799,2,-999.0000,9,    151.0,2,    32.65,2,    19.32,2,     0.01,2,     1.38,2,   2150.3,2,   2286.0,2,   7.7241,2,    25.00,     1647
  49UF20170719,KS1706,  5232,  1,     12,  25246,2,20170829,1615, 34.0095, 137.0170, 1259,    406.3,   8.2242,  34.2392,2,  34.2316,2,    127.9,2,    53.08,2,    26.81,2,     0.00,2,     1.92,2,   2209.0,6,   2296.2,6,   7.6033,2,    25.00,     1644
  49UF20170719,KS1706,  5232,  1,     11,  25245,2,20170829,1615, 34.0095, 137.0170, 1259,    506.3,   6.5910,  34.2268,2,-999.0000,9,    101.7,2,    71.80,2,    31.85,2,     0.00,2,     2.29,2,   2251.4,2,   2313.4,2,   7.5203,6,    25.00,     1641
  49UF20170719,KS1706,  5232,  1,     10,  25244,2,20170829,1615, 34.0095, 137.0170, 1259,    608.3,   5.3776,  34.2670,2,  34.2669,2,     81.7,2,    90.32,2,    35.72,2,     0.00,2,     2.57,2,   2286.4,2,   2331.3,2,   7.4671,2,    25.00,     1638
  49UF20170719,KS1706,  5232,  1,      9,  25243,2,20170829,1615, 34.0095, 137.0170, 1259,    709.2,   4.5957,  34.3089,2,-999.0000,9,     70.2,2,   102.67,2,    37.87,2,     0.00,2,     2.72,2,   2307.1,2,   2345.5,2,   7.4381,2,    25.00,     1635
  49UF20170719,KS1706,  5232,  1,      8,  25242,3,20170829,1615, 34.0095, 137.0170, 1259,    809.1,   3.9295,  34.3587,2,  34.3589,2,     63.5,2,   116.14,2,    39.53,2,     0.00,2,     2.83,2,   2327.1,6,   2359.9,6,   7.4230,2,    25.00,     1632
  49UF20170719,KS1706,  5232,  1,      7,  25241,3,20170829,1615, 34.0095, 137.0170, 1259,    908.4,   3.4517,  34.4067,2,-999.0000,9,     62.4,2,   125.36,2,    40.18,2,     0.00,2,     2.87,2,   2342.7,2,   2371.3,2,   7.4196,6,    25.00,     1628
  49UF20170719,KS1706,  5232,  1,      3,  24271,2,20170829,1615, 34.0095, 137.0170, 1259,   1011.0,   3.1899,  34.4351,2,  34.4342,6,     61.7,6,   131.62,6,    40.71,6,     0.00,6,     2.90,6,   2348.1,2,   2379.5,2,   7.4149,2,    25.00,     1625
  49UF20170719,KS1706,  5232,  1,      2,  25236,2,20170829,1615, 34.0095, 137.0170, 1259,   1183.6,   2.8418,  34.4808,2,  34.4813,2,     68.9,2,   137.89,2,    40.52,2,     0.00,2,     2.89,2,   2354.0,2,   2387.8,2,   7.4293,2,    25.00,     1616
  49UF20170719,KS1706,  5232,  1,      1,  25235,3,20170829,1615, 34.0095, 137.0170, 1259,   1184.4,   2.8452,  34.4803,2,  34.4813,2,     69.2,2,   137.83,2,    40.53,2,     0.00,2,     2.89,2,   2351.3,2,   2387.9,2,   7.4305,2,    25.00,     1615