BOTTLE,20200103PRINUNIVRMK
EXPOCODE,SECT_ID,STNNBR,CASTNO,SAMPNO,BTLNBR,BTLNBR_FLAG_W,DATE,TIME,LATITUDE,LONGITUDE,DEPTH,CTDPRS,CTDTMP,CTDSAL,CTDSAL_FLAG_W,SALNTY,SALNTY_FLAG_W,OXYGEN,OXYGEN_FLAG_W,SILCAT,SILCAT_FLAG_W,NITRAT,NITRAT_FLAG_W,NITRIT,NITRIT_FLAG_W,PHSPHT,PHSPHT_FLAG_W,TCARBN,TCARBN_FLAG_W,ALKALI,ALKALI_FLAG_W,PH_TOT,PH_TOT_FLAG_W,PH_TMP,BTL_TIME
,,,,,,,,,,,METERS,DBAR,ITS-90,PSS-78,,PSS-78,,UMOL/KG,,UMOL/KG,,UMOL/KG,,UMOL/KG,,UMOL/KG,,UMOL/KG,,UMOL/KG,,,,DEG C,
  49UF20170719,KS1706,  5204,  1,     99,     99,2,20170820,1619, 13.0068, 136.9872, 4834,      0.0,  30.5488,  34.0505,2,-999.0000,9,    193.1,2,     1.18,2,     0.03,2,     0.00,2,     0.02,2,   -999.0,9,   -999.0,9,-999.0000,9,  -999.00,     1758
  49UF20170719,KS1706,  5204,  1,     36,  25270,3,20170820,1619, 13.0068, 136.9872, 4834,     10.5,  30.5513,  34.0506,2,  34.0477,2,    193.2,2,     1.18,2,     0.00,2,     0.00,2,     0.01,2,   -999.0,9,   -999.0,9,-999.0000,9,  -999.00,     1829
  49UF20170719,KS1706,  5204,  1,     35,  25269,2,20170820,1619, 13.0068, 136.9872, 4834,     25.8,  30.5634,  34.0509,2,  34.0552,2,    193.6,6,     1.17,6,     0.02,6,     0.00,6,     0.01,6,   -999.0,9,   -999.0,9,-999.0000,9,  -999.00,     1827
  49UF20170719,KS1706,  5204,  1,     34,  25268,3,20170820,1619, 13.0068, 136.9872, 4834,     49.7,  29.9003,  34.2254,2,-999.0000,9,    200.9,2,     1.17,2,     0.01,2,     0.00,2,     0.02,2,   -999.0,9,   -999.0,9,-999.0000,9,  -999.00,     1823
  49UF20170719,KS1706,  5204,  1,     33,  25267,2,20170820,1619, 13.0068, 136.9872, 4834,     74.7,  29.1168,  34.4396,2,-999.0000,9,    204.9,2,     1.17,2,     0.01,2,     0.00,2,     0.03,2,   -999.0,9,   -999.0,9,-999.0000,9,  -999.00,     1822
  49UF20170719,KS1706,  5204,  1,     32,  25266,2,20170820,1619, 13.0068, 136.9872, 4834,    102.5,  27.7753,  34.7263,2,-999.0000,9,    204.8,2,     1.17,2,     0.00,2,     0.00,2,     0.04,2,   -999.0,9,   -999.0,9,-999.0000,9,  -999.00,     1820
  49UF20170719,KS1706,  5204,  1,     31,  25265,2,20170820,1619, 13.0068, 136.9872, 4834,    124.9,  26.5081,  34.9342,2,  34.9400,2,    202.6,2,     1.21,2,     0.00,2,     0.00,2,     0.04,2,   -999.0,9,   -999.0,9,-999.0000,9,  -999.00,     1820
  49UF20170719,KS1706,  5204,  1,     30,  25264,2,20170820,1619, 13.0068, 136.9872, 4834,    149.8,  24.4139,  35.0992,2,-999.0000,9,    192.6,2,     1.51,2,     0.25,2,     0.12,2,     0.10,2,   -999.0,9,   -999.0,9,-999.0000,9,  -999.00,     1818
  49UF20170719,KS1706,  5204,  1,     29,  25263,2,20170820,1619, 13.0068, 136.9872, 4834,    201.8,  17.7373,  34.7755,2,-999.0000,9,    172.3,2,     6.18,2,     7.04,2,     0.01,2,     0.57,2,   -999.0,9,   -999.0,9,-999.0000,9,  -999.00,     1817
  49UF20170719,KS1706,  5204,  1,     28,  25262,2,20170820,1619, 13.0068, 136.9872, 4834,    252.0,  14.9792,  34.5526,2,-999.0000,9,    172.5,2,    10.63,2,    11.02,2,     0.01,2,     0.81,2,   -999.0,9,   -999.0,9,-999.0000,9,  -999.00,     1815
  49UF20170719,KS1706,  5204,  1,     27,  25261,2,20170820,1619, 13.0068, 136.9872, 4834,    301.1,  11.9587,  34.3478,2,  34.3457,2,    152.6,2,    19.96,2,    17.62,2,     0.00,2,     1.28,2,   -999.0,9,   -999.0,9,-999.0000,9,  -999.00,     1813
  49UF20170719,KS1706,  5204,  1,     26,  25260,2,20170820,1619, 13.0068, 136.9872, 4834,    352.1,  10.6215,  34.2907,2,-999.0000,9,    134.1,6,    26.84,3,    21.80,6,     0.00,6,     1.60,6,   -999.0,9,   -999.0,9,-999.0000,9,  -999.00,     1811
  49UF20170719,KS1706,  5204,  1,     25,  25259,2,20170820,1619, 13.0068, 136.9872, 4834,    404.3,   9.0259,  34.2798,2,-999.0000,9,    102.5,2,    39.33,4,    27.66,2,     0.00,2,     2.02,2,   -999.0,9,   -999.0,9,-999.0000,9,  -999.00,     1810
  49UF20170719,KS1706,  5204,  1,     24,  25258,2,20170820,1619, 13.0068, 136.9872, 4834,    452.6,   8.3341,  34.3549,2,-999.0000,9,     83.9,2,    46.00,2,    31.18,2,     0.00,2,     2.25,2,   -999.0,9,   -999.0,9,-999.0000,9,  -999.00,     1808
  49UF20170719,KS1706,  5204,  1,     23,  25257,2,20170820,1619, 13.0068, 136.9872, 4834,    504.6,   7.4909,  34.3739,2,  34.3704,2,     86.2,2,    54.28,2,    32.73,2,     0.00,2,     2.35,2,   -999.0,9,   -999.0,9,-999.0000,9,  -999.00,     1806
  49UF20170719,KS1706,  5204,  1,     22,  25256,2,20170820,1619, 13.0068, 136.9872, 4834,    604.0,   6.2939,  34.3862,2,-999.0000,9,     83.2,2,    67.93,2,    34.95,2,     0.00,2,     2.51,2,   -999.0,9,   -999.0,9,-999.0000,9,  -999.00,     1803
  49UF20170719,KS1706,  5204,  1,     21,  25255,2,20170820,1619, 13.0068, 136.9872, 4834,    705.7,   5.5775,  34.4387,2,-999.0000,9,     82.4,2,    76.64,3,    36.44,2,     0.00,2,     2.61,2,   -999.0,9,   -999.0,9,-999.0000,9,  -999.00,     1800
  49UF20170719,KS1706,  5204,  1,     20,  24270,2,20170820,1619, 13.0068, 136.9872, 4834,    807.1,   5.0753,  34.4900,2,-999.0000,9,     85.9,2,    84.16,3,    37.22,2,     0.00,2,     2.66,2,   -999.0,9,   -999.0,9,-999.0000,9,  -999.00,     1758
  49UF20170719,KS1706,  5204,  1,     19,  25253,2,20170820,1619, 13.0068, 136.9872, 4834,    908.6,   4.7214,  34.5227,2,  34.5226,2,     90.0,2,    88.64,3,    37.48,2,     0.00,2,     2.68,2,   -999.0,9,   -999.0,9,-999.0000,9,  -999.00,     1755
  49UF20170719,KS1706,  5204,  1,     18,  25252,2,20170820,1619, 13.0068, 136.9872, 4834,   1009.1,   4.3935,  34.5434,2,-999.0000,9,     90.2,2,    95.21,2,    37.97,2,     0.00,2,     2.71,2,   -999.0,9,   -999.0,9,-999.0000,9,  -999.00,     1753
  49UF20170719,KS1706,  5204,  1,     17,  25251,2,20170820,1619, 13.0068, 136.9872, 4834,   1210.1,   3.7874,  34.5614,2,-999.0000,9,     93.2,2,   106.34,2,    38.38,2,     0.00,2,     2.73,2,   -999.0,9,   -999.0,9,-999.0000,9,  -999.00,     1748
  49UF20170719,KS1706,  5204,  1,     16,  25250,2,20170820,1619, 13.0068, 136.9872, 4834,   1414.7,   3.2296,  34.5747,2,-999.0000,9,     94.5,2,   120.24,2,    38.75,2,     0.00,2,     2.75,2,   -999.0,9,   -999.0,9,-999.0000,9,  -999.00,     1740
  49UF20170719,KS1706,  5204,  1,     15,  25249,2,20170820,1619, 13.0068, 136.9872, 4834,   1618.3,   2.8020,  34.5928,2,  34.5926,2,    100.2,6,   128.16,2,    38.61,6,     0.00,6,     2.74,6,   -999.0,9,   -999.0,9,-999.0000,9,  -999.00,     1736
  49UF20170719,KS1706,  5204,  1,     14,  25248,2,20170820,1619, 13.0068, 136.9872, 4834,   1818.6,   2.4965,  34.6094,2,-999.0000,9,    106.0,2,   133.90,2,    38.53,2,     0.00,2,     2.72,2,   -999.0,9,   -999.0,9,-999.0000,9,  -999.00,     1731
  49UF20170719,KS1706,  5204,  1,     13,  25247,2,20170820,1619, 13.0068, 136.9872, 4834,   2020.9,   2.2239,  34.6260,2,-999.0000,9,    112.4,2,   138.53,2,    38.31,2,     0.00,2,     2.69,2,   -999.0,9,   -999.0,9,-999.0000,9,  -999.00,     1727
  49UF20170719,KS1706,  5204,  1,     12,  25246,2,20170820,1619, 13.0068, 136.9872, 4834,   2277.3,   2.0038,  34.6401,2,  34.6403,2,    119.4,2,   141.43,4,    38.09,2,     0.00,2,     2.67,2,   -999.0,9,   -999.0,9,-999.0000,9,  -999.00,     1721
  49UF20170719,KS1706,  5204,  1,     11,  25245,2,20170820,1619, 13.0068, 136.9872, 4834,   2531.7,   1.8424,  34.6516,2,-999.0000,9,    125.9,2,   144.06,4,    37.70,2,     0.00,2,     2.63,2,   -999.0,9,   -999.0,9,-999.0000,9,  -999.00,     1716
  49UF20170719,KS1706,  5204,  1,     10,  25244,2,20170820,1619, 13.0068, 136.9872, 4834,   2785.1,   1.7238,  34.6605,2,  34.6609,2,    132.8,2,   144.58,4,    37.24,2,     0.00,2,     2.60,2,   -999.0,9,   -999.0,9,-999.0000,9,  -999.00,     1710
  49UF20170719,KS1706,  5204,  1,      9,  25243,2,20170820,1619, 13.0068, 136.9872, 4834,   3040.1,   1.6601,  34.6663,2,  34.6672,2,    138.2,2,   144.83,2,    36.90,2,     0.00,2,     2.57,2,   -999.0,9,   -999.0,9,-999.0000,9,  -999.00,     1704
  49UF20170719,KS1706,  5204,  1,      8,  25242,2,20170820,1619, 13.0068, 136.9872, 4834,   3295.4,   1.6200,  34.6707,2,-999.0000,9,    142.8,2,   143.65,2,    36.60,2,     0.00,2,     2.55,2,   -999.0,9,   -999.0,9,-999.0000,9,  -999.00,     1658
  49UF20170719,KS1706,  5204,  1,      7,  25241,3,20170820,1619, 13.0068, 136.9872, 4834,   3552.6,   1.5796,  34.6752,2,  34.6756,2,    148.1,2,   143.17,2,    36.27,2,     0.00,2,     2.52,2,   -999.0,9,   -999.0,9,-999.0000,9,  -999.00,     1652
  49UF20170719,KS1706,  5204,  1,      6,  25240,2,20170820,1619, 13.0068, 136.9872, 4834,   3806.2,   1.5333,  34.6805,2,  34.6860,4,    153.4,6,   140.86,3,    35.91,6,     0.00,6,     2.49,6,   -999.0,9,   -999.0,9,-999.0000,9,  -999.00,     1646
  49UF20170719,KS1706,  5204,  1,      5,  25239,2,20170820,1619, 13.0068, 136.9872, 4834,   4062.8,   1.5073,  34.6845,2,  34.6845,2,    157.8,2,   139.79,3,    35.59,2,     0.00,2,     2.47,2,   -999.0,9,   -999.0,9,-999.0000,9,  -999.00,     1640
  49UF20170719,KS1706,  5204,  1,      4,  25238,2,20170820,1619, 13.0068, 136.9872, 4834,   4318.4,   1.5123,  34.6862,2,  34.6868,2,    160.2,2,   138.60,3,    35.44,2,     0.00,2,     2.46,2,   -999.0,9,   -999.0,9,-999.0000,9,  -999.00,     1634
  49UF20170719,KS1706,  5204,  1,      3,  24271,2,20170820,1619, 13.0068, 136.9872, 4834,   4574.7,   1.5311,  34.6871,2,  34.6880,6,    161.1,2,   137.34,4,    35.37,2,     0.00,2,     2.45,2,   -999.0,9,   -999.0,9,-999.0000,9,  -999.00,     1627
  49UF20170719,KS1706,  5204,  1,      2,  25236,2,20170820,1619, 13.0068, 136.9872, 4834,   4831.8,   1.5508,  34.6878,2,  34.6881,2,    162.0,2,   138.19,4,    35.31,2,     0.00,2,     2.44,2,   -999.0,9,   -999.0,9,-999.0000,9,  -999.00,     1622
  49UF20170719,KS1706,  5204,  1,      1,  25235,2,20170820,1619, 13.0068, 136.9872, 4834,   4965.5,   1.5648,  34.6879,2,  34.6869,6,    161.3,2,   138.65,4,    35.40,2,     0.00,2,     2.45,2,   -999.0,9,   -999.0,9,-999.0000,9,  -999.00,     1619
  49UF20170719,KS1706,  5205,  1,     99,     99,2,20170821,0641, 14.0125, 136.9895, 4795,      0.0,  30.7258,  34.0872,2,-999.0000,9,    193.1,2,     1.35,2,     0.03,2,     0.00,2,     0.02,2,   -999.0,9,   -999.0,9,-999.0000,9,  -999.00,      841
  49UF20170719,KS1706,  5205,  1,     36,  25270,3,20170821,0641, 14.0125, 136.9895, 4795,      9.8,  30.6873,  34.0953,2,  34.0891,2,    193.6,6,     1.39,6,     0.01,6,     0.00,6,     0.01,6,   -999.0,9,   -999.0,9,-999.0000,9,  -999.00,      906
  49UF20170719,KS1706,  5205,  1,     35,  25269,2,20170821,0641, 14.0125, 136.9895, 4795,     24.9,  30.5987,  34.1323,2,-999.0000,9,    194.8,2,     1.35,2,     0.00,2,     0.00,2,     0.01,2,   -999.0,9,   -999.0,9,-999.0000,9,  -999.00,      905
  49UF20170719,KS1706,  5205,  1,     34,  25268,2,20170821,0641, 14.0125, 136.9895, 4795,     50.0,  30.0905,  34.3510,2,  34.3388,2,    201.1,2,     1.31,2,     0.02,2,     0.00,2,     0.01,2,   -999.0,9,   -999.0,9,-999.0000,9,  -999.00,      901
  49UF20170719,KS1706,  5205,  1,     33,  25267,2,20170821,0641, 14.0125, 136.9895, 4795,     75.4,  28.7689,  34.7155,2,-999.0000,9,    212.7,2,     1.29,2,     0.02,2,     0.00,2,     0.01,2,   -999.0,9,   -999.0,9,-999.0000,9,  -999.00,      900
  49UF20170719,KS1706,  5205,  1,     32,  25266,2,20170821,0641, 14.0125, 136.9895, 4795,    100.6,  27.0985,  34.9215,2,-999.0000,9,    212.6,2,     1.31,2,     0.01,2,     0.00,2,     0.02,2,   -999.0,9,   -999.0,9,-999.0000,9,  -999.00,      859
  49UF20170719,KS1706,  5205,  1,     31,  25265,2,20170821,0641, 14.0125, 136.9895, 4795,    125.5,  25.8421,  35.0243,2,-999.0000,9,    205.5,2,     1.42,2,     0.04,2,     0.00,2,     0.03,2,   -999.0,9,   -999.0,9,-999.0000,9,  -999.00,      857
  49UF20170719,KS1706,  5205,  1,     30,  25264,2,20170821,0641, 14.0125, 136.9895, 4795,    152.1,  23.9963,  35.0197,2,  35.0315,2,    189.0,2,     2.15,2,     0.27,2,     0.12,2,     0.16,2,   -999.0,9,   -999.0,9,-999.0000,9,  -999.00,      856
  49UF20170719,KS1706,  5205,  1,     29,  25263,2,20170821,0641, 14.0125, 136.9895, 4795,    202.1,  18.7935,  34.8526,2,-999.0000,9,    172.1,2,     5.29,2,     5.78,2,     0.01,2,     0.50,2,   -999.0,9,   -999.0,9,-999.0000,9,  -999.00,      854
  49UF20170719,KS1706,  5205,  1,     28,  25262,2,20170821,0641, 14.0125, 136.9895, 4795,    252.8,  15.7341,  34.6175,2,-999.0000,9,    176.4,2,     8.61,2,     9.24,2,     0.01,2,     0.69,2,   -999.0,9,   -999.0,9,-999.0000,9,  -999.00,      852
  49UF20170719,KS1706,  5205,  1,     27,  25261,2,20170821,0641, 14.0125, 136.9895, 4795,    302.9,  12.5880,  34.3584,2,-999.0000,9,    177.8,6,    15.56,2,    14.21,6,     0.00,6,     1.01,6,   -999.0,9,   -999.0,9,-999.0000,9,  -999.00,      850
  49UF20170719,KS1706,  5205,  1,     26,  25260,2,20170821,0641, 14.0125, 136.9895, 4795,    353.3,  10.6585,  34.2625,2,  34.3531,4,    146.2,2,    24.96,2,    20.45,2,     0.00,2,     1.49,2,   -999.0,9,   -999.0,9,-999.0000,9,  -999.00,      848
  49UF20170719,KS1706,  5205,  1,     25,  25259,2,20170821,0641, 14.0125, 136.9895, 4795,    403.1,   9.5743,  34.3524,2,-999.0000,9,     99.3,2,    35.22,2,    27.27,2,     0.00,2,     1.98,2,   -999.0,9,   -999.0,9,-999.0000,9,  -999.00,      846
  49UF20170719,KS1706,  5205,  1,     24,  25258,2,20170821,0641, 14.0125, 136.9895, 4795,    454.9,   8.3809,  34.3516,2,-999.0000,9,     88.8,2,    45.09,2,    30.61,2,     0.00,2,     2.21,2,   -999.0,9,   -999.0,9,-999.0000,9,  -999.00,      844
  49UF20170719,KS1706,  5205,  1,     23,  25257,2,20170821,0641, 14.0125, 136.9895, 4795,    504.6,   7.5740,  34.3468,2,-999.0000,9,     88.6,2,    53.59,2,    32.04,2,     0.00,2,     2.30,2,   -999.0,9,   -999.0,9,-999.0000,9,  -999.00,      842
  49UF20170719,KS1706,  5205,  1,     22,  25256,2,20170821,0641, 14.0125, 136.9895, 4795,    606.8,   6.5102,  34.3856,2,  34.3924,4,     83.7,2,    62.31,2,    34.56,2,     0.00,2,     2.48,2,   -999.0,9,   -999.0,9,-999.0000,9,  -999.00,      839
  49UF20170719,KS1706,  5205,  1,     21,  25255,2,20170821,0641, 14.0125, 136.9895, 4795,    705.7,   5.9955,  34.4566,2,-999.0000,9,     89.8,2,    66.93,3,    35.55,2,     0.00,2,     2.53,2,   -999.0,9,   -999.0,9,-999.0000,9,  -999.00,      834
  49UF20170719,KS1706,  5205,  1,     20,  24270,2,20170821,0641, 14.0125, 136.9895, 4795,    808.2,   5.3110,  34.4931,2,-999.0000,9,     88.4,2,    78.39,2,    36.89,2,     0.00,2,     2.63,2,   -999.0,9,   -999.0,9,-999.0000,9,  -999.00,      831
  49UF20170719,KS1706,  5205,  1,     19,  25253,2,20170821,0641, 14.0125, 136.9895, 4795,    910.5,   4.8182,  34.5160,2,-999.0000,9,     87.4,2,    87.70,2,    37.59,2,     0.00,2,     2.69,2,   -999.0,9,   -999.0,9,-999.0000,9,  -999.00,      828
  49UF20170719,KS1706,  5205,  1,     18,  25252,2,20170821,0641, 14.0125, 136.9895, 4795,   1013.2,   4.4683,  34.5374,2,  34.5360,2,     91.3,2,    92.42,2,    37.81,2,     0.00,2,     2.70,2,   -999.0,9,   -999.0,9,-999.0000,9,  -999.00,      824
  49UF20170719,KS1706,  5205,  1,     17,  25251,2,20170821,0641, 14.0125, 136.9895, 4795,   1211.9,   3.8404,  34.5557,2,-999.0000,9,     92.4,2,   106.85,2,    38.35,2,     0.00,2,     2.73,2,   -999.0,9,   -999.0,9,-999.0000,9,  -999.00,      811
  49UF20170719,KS1706,  5205,  1,     16,  25250,2,20170821,0641, 14.0125, 136.9895, 4795,   1411.2,   3.3033,  34.5706,2,-999.0000,9,     94.1,2,   116.95,3,    38.66,2,     0.00,2,     2.75,2,   -999.0,9,   -999.0,9,-999.0000,9,  -999.00,      806
  49UF20170719,KS1706,  5205,  1,     15,  25249,2,20170821,0641, 14.0125, 136.9895, 4795,   1614.7,   2.8568,  34.5862,2,-999.0000,9,     99.6,2,   127.21,4,    38.75,2,     0.00,2,     2.74,2,   -999.0,9,   -999.0,9,-999.0000,9,  -999.00,      800
  49UF20170719,KS1706,  5205,  1,     14,  25248,2,20170821,0641, 14.0125, 136.9895, 4795,   1815.9,   2.5056,  34.6053,2,  34.6053,2,    105.1,2,   132.43,3,    38.58,2,     0.00,2,     2.73,2,   -999.0,9,   -999.0,9,-999.0000,9,  -999.00,      754
  49UF20170719,KS1706,  5205,  1,     13,  25247,2,20170821,0641, 14.0125, 136.9895, 4795,   2020.2,   2.2316,  34.6220,2,-999.0000,9,    111.4,2,   138.60,3,    38.41,2,     0.00,2,     2.70,2,   -999.0,9,   -999.0,9,-999.0000,9,  -999.00,      750
  49UF20170719,KS1706,  5205,  1,     12,  25246,2,20170821,0641, 14.0125, 136.9895, 4795,   2273.3,   1.9781,  34.6390,2,  34.6384,2,    120.0,6,   141.18,6,    38.07,6,     0.00,6,     2.67,6,   -999.0,9,   -999.0,9,-999.0000,9,  -999.00,      744
  49UF20170719,KS1706,  5205,  1,     11,  25245,2,20170821,0641, 14.0125, 136.9895, 4795,   2527.9,   1.8359,  34.6505,2,  34.6503,2,    126.3,2,   143.01,2,    37.72,2,     0.00,2,     2.64,2,   -999.0,9,   -999.0,9,-999.0000,9,  -999.00,      738
  49UF20170719,KS1706,  5205,  1,     10,  25244,2,20170821,0641, 14.0125, 136.9895, 4795,   2781.4,   1.7109,  34.6605,2,-999.0000,9,    133.4,2,   144.83,2,    37.33,2,     0.00,2,     2.60,2,   -999.0,9,   -999.0,9,-999.0000,9,  -999.00,      732
  49UF20170719,KS1706,  5205,  1,      9,  25243,2,20170821,0641, 14.0125, 136.9895, 4795,   3036.7,   1.6641,  34.6657,2,  34.6653,6,    137.7,2,   143.64,2,    37.05,2,     0.00,2,     2.58,2,   -999.0,9,   -999.0,9,-999.0000,9,  -999.00,      726
  49UF20170719,KS1706,  5205,  1,      8,  25242,2,20170821,0641, 14.0125, 136.9895, 4795,   3292.5,   1.6072,  34.6716,2,  34.6711,2,    143.5,2,   143.97,2,    36.66,2,     0.00,2,     2.55,2,   -999.0,9,   -999.0,9,-999.0000,9,  -999.00,      718
  49UF20170719,KS1706,  5205,  1,      7,  25241,2,20170821,0641, 14.0125, 136.9895, 4795,   3549.7,   1.5798,  34.6752,2,  34.6737,2,    146.9,2,   140.84,2,    36.34,2,     0.00,2,     2.53,2,   -999.0,9,   -999.0,9,-999.0000,9,  -999.00,      712
  49UF20170719,KS1706,  5205,  1,      6,  25240,2,20170821,0641, 14.0125, 136.9895, 4795,   3804.6,   1.5581,  34.6788,2,  34.6782,2,    151.0,6,   141.38,6,    36.13,6,     0.00,6,     2.51,6,   -999.0,9,   -999.0,9,-999.0000,9,  -999.00,      707
  49UF20170719,KS1706,  5205,  1,      5,  25239,2,20170821,0641, 14.0125, 136.9895, 4795,   4060.2,   1.5330,  34.6826,2,  34.6811,2,    154.4,3,   140.37,2,    35.89,2,     0.00,2,     2.49,2,   -999.0,9,   -999.0,9,-999.0000,9,  -999.00,      701
  49UF20170719,KS1706,  5205,  1,      4,  25238,2,20170821,0641, 14.0125, 136.9895, 4795,   4317.4,   1.5164,  34.6859,2,  34.6850,2,    159.5,2,   139.31,2,    35.55,2,     0.00,2,     2.46,2,   -999.0,9,   -999.0,9,-999.0000,9,  -999.00,      656
  49UF20170719,KS1706,  5205,  1,      3,  24271,2,20170821,0641, 14.0125, 136.9895, 4795,   4574.8,   1.5301,  34.6872,2,  34.6868,2,    161.1,2,   137.86,2,    35.44,2,     0.00,2,     2.45,2,   -999.0,9,   -999.0,9,-999.0000,9,  -999.00,      649
  49UF20170719,KS1706,  5205,  1,      2,  25236,2,20170821,0641, 14.0125, 136.9895, 4795,   4832.3,   1.5501,  34.6878,2,  34.6880,2,    162.0,2,   136.98,3,    35.39,2,     0.00,2,     2.45,2,   -999.0,9,   -999.0,9,-999.0000,9,  -999.00,      643
  49UF20170719,KS1706,  5205,  1,      1,  25235,2,20170821,0641, 14.0125, 136.9895, 4795,   4918.1,   1.5588,  34.6881,2,  34.6872,6,    161.8,2,   137.86,2,    35.36,2,     0.00,2,     2.45,2,   -999.0,9,   -999.0,9,-999.0000,9,  -999.00,      641