BOTTLE,20200103PRINUNIVRMK
EXPOCODE,SECT_ID,STNNBR,CASTNO,SAMPNO,BTLNBR,BTLNBR_FLAG_W,DATE,TIME,LATITUDE,LONGITUDE,DEPTH,CTDPRS,CTDTMP,CTDSAL,CTDSAL_FLAG_W,SALNTY,SALNTY_FLAG_W,OXYGEN,OXYGEN_FLAG_W,SILCAT,SILCAT_FLAG_W,NITRAT,NITRAT_FLAG_W,NITRIT,NITRIT_FLAG_W,PHSPHT,PHSPHT_FLAG_W,TCARBN,TCARBN_FLAG_W,ALKALI,ALKALI_FLAG_W,PH_TOT,PH_TOT_FLAG_W,PH_TMP,BTL_TIME
,,,,,,,,,,,METERS,DBAR,ITS-90,PSS-78,,PSS-78,,UMOL/KG,,UMOL/KG,,UMOL/KG,,UMOL/KG,,UMOL/KG,,UMOL/KG,,UMOL/KG,,,,DEG C,
  49UF20170719,KS1706,  5186,  1,     99,     99,2,20170801,1832, 14.9988, 149.4107, 5702,      0.0,  30.0584,  34.3191,2,  34.3062,2,    193.8,2,     1.30,2,     0.04,2,     0.00,2,     0.05,2,   1925.1,2,   2248.5,2,   8.1172,2,    25.00,     2028
  49UF20170719,KS1706,  5186,  1,     36,  25270,2,20170801,1832, 14.9988, 149.4107, 5702,     10.8,  30.0637,  34.3066,2,  34.3066,2,    193.6,2,     1.30,2,     0.07,2,     0.00,2,     0.04,2,   1924.5,2,   2252.5,2,   8.1195,2,    25.00,     2051
  49UF20170719,KS1706,  5186,  1,     35,  25269,2,20170801,1832, 14.9988, 149.4107, 5702,     24.9,  30.0466,  34.3108,2,  34.3110,2,    193.7,2,     1.30,2,     0.01,2,     0.00,2,     0.04,2,   1925.0,2,   2253.5,2,   8.1174,2,    25.00,     2050
  49UF20170719,KS1706,  5186,  1,     34,  25268,2,20170801,1832, 14.9988, 149.4107, 5702,     50.0,  29.4524,  34.4108,2,-999.0000,9,    200.0,2,     1.26,2,     0.00,2,     0.00,2,     0.05,2,   1929.5,2,   2259.4,2,   8.1162,2,    25.00,     2046
  49UF20170719,KS1706,  5186,  1,     33,  25267,2,20170801,1832, 14.9988, 149.4107, 5702,     74.5,  28.4702,  34.4764,2,  34.4766,2,    203.5,2,     1.26,2,     0.00,2,     0.00,2,     0.08,2,   1941.0,2,   2266.2,2,   8.1066,2,    25.00,     2044
  49UF20170719,KS1706,  5186,  1,     32,  25266,3,20170801,1832, 14.9988, 149.4107, 5702,     99.6,  27.3567,  34.7644,2,-999.0000,9,    205.1,2,     1.30,2,     0.08,2,     0.00,2,     0.07,2,   1957.5,2,   2281.7,2,   8.0965,2,    25.00,     2043
  49UF20170719,KS1706,  5186,  1,     31,  25265,3,20170801,1832, 14.9988, 149.4107, 5702,    125.7,  26.0928,  35.0141,2,  35.0163,2,    202.6,2,     1.34,2,     0.01,2,     0.00,2,     0.06,2,   1986.7,2,   2301.7,2,   8.0778,2,    25.00,     2042
  49UF20170719,KS1706,  5186,  1,     30,  25264,2,20170801,1832, 14.9988, 149.4107, 5702,    150.5,  24.9722,  35.0883,2,-999.0000,9,    198.2,2,     1.45,2,     0.05,2,     0.01,2,     0.08,2,   2006.9,2,   2308.0,2,   8.0558,2,    25.00,     2041
  49UF20170719,KS1706,  5186,  1,     29,  25263,2,20170801,1832, 14.9988, 149.4107, 5702,    201.4,  21.4449,  35.1314,2,  35.1353,2,    189.1,2,     2.18,2,     1.30,2,     0.02,2,     0.16,2,   2043.2,2,   2306.0,2,   7.9891,2,    25.00,     2039
  49UF20170719,KS1706,  5186,  1,     28,  25262,2,20170801,1832, 14.9988, 149.4107, 5702,    253.9,  17.2106,  34.7581,2,  34.7641,2,    191.2,2,     4.78,2,     5.43,2,     0.00,2,     0.42,2,   2059.1,2,   2281.5,2,   7.9142,2,    25.00,     2037
  49UF20170719,KS1706,  5186,  1,     27,  25261,2,20170801,1832, 14.9988, 149.4107, 5702,    300.9,  14.7761,  34.5227,2,-999.0000,9,    177.4,6,     9.79,6,    10.48,6,     0.00,6,     0.78,6,   2091.5,2,   2271.7,2,   7.8314,2,    25.00,     2035
  49UF20170719,KS1706,  5186,  1,     26,  25260,2,20170801,1832, 14.9988, 149.4107, 5702,    350.4,  11.1638,  34.2795,2,  34.2817,2,    151.0,2,    21.71,2,    18.94,2,     0.00,2,     1.40,2,   2147.9,2,   2271.8,2,   7.6968,2,    25.00,     2033
  49UF20170719,KS1706,  5186,  1,     25,  25259,2,20170801,1832, 14.9988, 149.4107, 5702,    407.3,   9.4428,  34.3194,2,-999.0000,9,     95.3,2,    35.57,2,    27.46,2,     0.00,2,     2.05,2,   2209.9,2,   2284.2,2,   7.5620,2,    25.00,     2032
  49UF20170719,KS1706,  5186,  1,     24,  25258,3,20170801,1832, 14.9988, 149.4107, 5702,    453.0,   8.6620,  34.3740,2,  34.3746,2,     69.4,2,    42.74,2,    31.62,2,     0.00,2,     2.34,2,   2236.8,2,   2296.4,2,   7.4999,2,    25.00,     2030
  49UF20170719,KS1706,  5186,  1,     23,  25257,2,20170801,1832, 14.9988, 149.4107, 5702,    504.4,   7.8863,  34.4377,2,-999.0000,9,     66.8,2,    49.28,2,    33.88,2,     0.00,2,     2.46,2,   2254.7,2,   2304.9,2,   7.4913,2,    25.00,     2028
  49UF20170719,KS1706,  5186,  1,     22,  25256,2,20170801,1832, 14.9988, 149.4107, 5702,    603.9,   6.7146,  34.4397,2,  34.4409,2,     69.5,2,    61.67,2,    35.94,2,     0.00,2,     2.60,2,   2268.6,6,   2320.1,6,   7.4832,2,    25.00,     2026
  49UF20170719,KS1706,  5186,  1,     21,  25255,2,20170801,1832, 14.9988, 149.4107, 5702,    703.9,   6.0997,  34.4560,2,-999.0000,9,     73.1,2,    68.24,2,    36.81,2,     0.00,2,     2.66,2,   2278.6,2,   2327.9,2,   7.4839,6,    25.00,     2023
  49UF20170719,KS1706,  5186,  1,     20,  24270,2,20170801,1832, 14.9988, 149.4107, 5702,    805.9,   5.6191,  34.4968,2,  34.4957,2,     74.4,2,    75.74,2,    37.79,2,     0.00,2,     2.72,2,   2287.8,2,   2335.1,2,   7.4803,2,    25.00,     2020
  49UF20170719,KS1706,  5186,  1,     19,  25253,2,20170801,1832, 14.9988, 149.4107, 5702,    907.2,   5.1301,  34.5024,2,-999.0000,9,     75.5,2,    84.06,2,    38.34,2,     0.00,2,     2.76,2,   2295.9,2,   2345.7,2,   7.4792,2,    25.00,     2017
  49UF20170719,KS1706,  5186,  1,     18,  25252,2,20170801,1832, 14.9988, 149.4107, 5702,   1012.3,   4.7121,  34.5251,2,  34.5250,2,     65.9,2,    92.10,2,    39.90,2,     0.00,2,     2.88,2,   2313.6,2,   2354.7,2,   7.4566,2,    25.00,     2015
  49UF20170719,KS1706,  5186,  1,     17,  25251,2,20170801,1832, 14.9988, 149.4107, 5702,   1210.7,   3.8931,  34.5469,2,-999.0000,9,     83.6,6,   107.98,6,    39.04,6,     0.00,6,     2.81,6,   2322.0,2,   2371.1,2,   7.4843,2,    25.00,     2010
  49UF20170719,KS1706,  5186,  1,     16,  25250,3,20170801,1832, 14.9988, 149.4107, 5702,   1414.1,   3.1910,  34.5740,2,  34.5745,2,     89.0,2,   121.85,2,    39.42,2,     0.00,2,     2.82,2,   2332.9,2,   2387.9,2,   7.4883,2,    25.00,     2005
  49UF20170719,KS1706,  5186,  1,     15,  25249,2,20170801,1832, 14.9988, 149.4107, 5702,   1615.9,   2.7757,  34.5919,2,-999.0000,9,     96.4,2,   130.09,2,    39.26,2,     0.00,2,     2.79,2,   2334.8,2,   2397.8,2,   7.4985,2,    25.00,     2001
  49UF20170719,KS1706,  5186,  1,     14,  25248,2,20170801,1832, 14.9988, 149.4107, 5702,   1820.9,   2.4961,  34.6079,2,  34.6078,2,    101.9,2,   135.10,2,    39.05,2,     0.00,2,     2.78,2,   2340.4,6,   2401.5,6,   7.5087,2,    25.00,     1957
  49UF20170719,KS1706,  5186,  1,     13,  25247,2,20170801,1832, 14.9988, 149.4107, 5702,   2022.4,   2.2636,  34.6213,2,  34.6214,2,    107.9,2,   141.01,2,    38.86,2,     0.00,2,     2.75,2,   2341.4,2,   2405.4,2,   7.5147,6,    25.00,     1952
  49UF20170719,KS1706,  5186,  1,     12,  25246,2,20170801,1832, 14.9988, 149.4107, 5702,   2277.6,   2.0220,  34.6377,2,  34.6375,2,    112.7,2,   144.84,2,    38.74,2,     0.00,2,     2.73,2,   2345.2,2,   2412.5,2,   7.5230,2,    25.00,     1946
  49UF20170719,KS1706,  5186,  1,     11,  25245,2,20170801,1832, 14.9988, 149.4107, 5702,   2529.6,   1.8689,  34.6470,2,  34.6471,2,    119.1,2,   147.52,2,    38.26,2,     0.00,2,     2.70,2,   2343.0,2,   2415.8,2,   7.5310,2,    25.00,     1941
  49UF20170719,KS1706,  5186,  1,     10,  25244,2,20170801,1832, 14.9988, 149.4107, 5702,   3039.5,   1.6654,  34.6660,2,  34.6666,2,    131.6,2,   148.82,2,    37.56,2,     0.00,2,     2.63,2,   2339.2,2,   2418.1,2,   7.5529,2,    25.00,     1931
  49UF20170719,KS1706,  5186,  1,      9,  25243,2,20170801,1832, 14.9988, 149.4107, 5702,   3296.2,   1.5999,  34.6721,2,  34.6718,2,    137.3,2,   148.74,2,    37.19,2,     0.00,2,     2.60,2,   2334.4,2,   2416.3,2,   7.5623,2,    25.00,     1925
  49UF20170719,KS1706,  5186,  1,      8,  25242,2,20170801,1832, 14.9988, 149.4107, 5702,   3550.3,   1.5645,  34.6763,2,  34.6760,2,    142.5,2,   147.26,2,    36.79,2,     0.00,2,     2.57,2,   2331.5,2,   2417.4,2,   7.5689,2,    25.00,     1920
  49UF20170719,KS1706,  5186,  1,      7,  25241,2,20170801,1832, 14.9988, 149.4107, 5702,   4062.4,   1.4905,  34.6852,2,  34.6844,2,    154.7,6,   143.04,6,    35.96,6,     0.00,6,     2.51,6,   2319.7,2,   2414.1,2,   7.5839,2,    25.00,     1909
  49UF20170719,KS1706,  5186,  1,      6,  25240,2,20170801,1832, 14.9988, 149.4107, 5702,   4318.4,   1.4731,  34.6886,2,  34.7384,4,    160.7,2,   140.50,2,    35.57,2,     0.00,2,     2.47,2,   2314.9,6,   2410.3,6,   7.5935,2,    25.00,     1904
  49UF20170719,KS1706,  5186,  1,      5,  25239,2,20170801,1832, 14.9988, 149.4107, 5702,   4576.0,   1.4589,  34.6918,2,  34.6911,2,    165.5,2,   137.48,2,    35.31,2,     0.00,2,     2.45,2,   2312.0,2,   2407.1,2,   7.5976,6,    25.00,     1859
  49UF20170719,KS1706,  5186,  1,      4,  25238,2,20170801,1832, 14.9988, 149.4107, 5702,   5090.5,   1.4695,  34.6956,2,  34.6978,4,    173.0,2,   133.67,2,    34.59,2,     0.00,2,     2.41,2,   2302.0,2,   2402.8,2,   7.6093,2,    25.00,     1848
  49UF20170719,KS1706,  5186,  1,      3,  25237,2,20170801,1832, 14.9988, 149.4107, 5702,   5348.0,   1.4918,  34.6963,2,  34.6960,2,    173.8,2,   132.92,2,    34.68,2,     0.00,2,     2.40,2,   2302.7,2,   2398.1,2,   7.6058,2,    25.00,     1843
  49UF20170719,KS1706,  5186,  1,      2,  25236,2,20170801,1832, 14.9988, 149.4107, 5702,   5606.1,   1.5152,  34.6968,2,  34.6972,2,    175.6,2,   132.24,2,    34.59,2,     0.00,2,     2.40,2,   2302.1,2,   2399.4,2,   7.6080,2,    25.00,     1837
  49UF20170719,KS1706,  5186,  1,      1,  25235,2,20170801,1832, 14.9988, 149.4107, 5702,   5835.5,   1.5408,  34.6969,2,  34.6961,6,    174.7,3,   132.02,2,    34.57,2,     0.00,2,     2.39,2,   2300.9,2,   2398.9,2,   7.6086,2,    25.00,     1832
  49UF20170719,KS1706,  5187,  1,     99,     99,2,20170802,0537, 14.0085, 149.4075, 5884,      0.0,  30.5357,  34.4671,2,-999.0000,9,    193.2,2,     1.23,2,     0.00,2,     0.00,2,     0.10,2,   -999.0,9,   -999.0,9,-999.0000,9,  -999.00,      737
  49UF20170719,KS1706,  5187,  1,     36,  25270,2,20170802,0537, 14.0085, 149.4075, 5884,     10.1,  30.1867,  34.4608,2,  34.4597,2,    194.0,2,     1.21,2,     0.00,2,     0.00,2,     0.06,2,   -999.0,9,   -999.0,9,-999.0000,9,  -999.00,      800
  49UF20170719,KS1706,  5187,  1,     35,  25269,2,20170802,0537, 14.0085, 149.4075, 5884,     25.5,  30.1120,  34.4658,2,-999.0000,9,    193.9,2,     1.23,2,     0.04,2,     0.00,2,     0.06,2,   -999.0,9,   -999.0,9,-999.0000,9,  -999.00,      759
  49UF20170719,KS1706,  5187,  1,     34,  25268,2,20170802,0537, 14.0085, 149.4075, 5884,     50.1,  29.9071,  34.5778,2,  34.5706,2,    197.0,6,     1.19,6,     0.00,6,     0.00,6,     0.05,6,   -999.0,9,   -999.0,9,-999.0000,9,  -999.00,      755
  49UF20170719,KS1706,  5187,  1,     33,  25267,2,20170802,0537, 14.0085, 149.4075, 5884,     75.1,  28.9788,  34.5543,2,-999.0000,9,    204.6,2,     1.19,2,     0.00,2,     0.00,2,     0.05,2,   -999.0,9,   -999.0,9,-999.0000,9,  -999.00,      754
  49UF20170719,KS1706,  5187,  1,     32,  25266,2,20170802,0537, 14.0085, 149.4075, 5884,    102.2,  27.7759,  34.7860,2,  34.7823,2,    207.6,2,     1.23,2,     0.00,2,     0.00,2,     0.04,2,   -999.0,9,   -999.0,9,-999.0000,9,  -999.00,      752
  49UF20170719,KS1706,  5187,  1,     31,  25265,2,20170802,0537, 14.0085, 149.4075, 5884,    125.8,  26.5825,  34.9531,2,-999.0000,9,    205.6,2,     1.25,2,     0.01,2,     0.00,2,     0.04,2,   -999.0,9,   -999.0,9,-999.0000,9,  -999.00,      751
  49UF20170719,KS1706,  5187,  1,     30,  25264,2,20170802,0537, 14.0085, 149.4075, 5884,    151.0,  24.9836,  35.1073,2,  35.1085,2,    197.3,2,     1.44,2,    -0.02,2,     0.05,2,     0.10,2,   -999.0,9,   -999.0,9,-999.0000,9,  -999.00,      750
  49UF20170719,KS1706,  5187,  1,     29,  25263,2,20170802,0537, 14.0085, 149.4075, 5884,    202.0,  20.5912,  35.0156,2,  35.0141,2,    176.5,2,     3.32,2,     2.97,2,     0.02,2,     0.37,2,   -999.0,9,   -999.0,9,-999.0000,9,  -999.00,      748
  49UF20170719,KS1706,  5187,  1,     28,  25262,2,20170802,0537, 14.0085, 149.4075, 5884,    251.0,  16.6885,  34.6828,2,-999.0000,9,    172.8,2,     6.84,2,     7.86,2,     0.01,2,     0.64,2,   -999.0,9,   -999.0,9,-999.0000,9,  -999.00,      747
  49UF20170719,KS1706,  5187,  1,     27,  25261,2,20170802,0537, 14.0085, 149.4075, 5884,    302.8,  13.4146,  34.4178,2,  34.4152,2,    162.5,2,    13.82,2,    13.98,2,     0.00,2,     1.06,2,   -999.0,9,   -999.0,9,-999.0000,9,  -999.00,      745
  49UF20170719,KS1706,  5187,  1,     26,  25260,2,20170802,0537, 14.0085, 149.4075, 5884,    354.7,  10.6221,  34.2552,2,-999.0000,9,    137.1,2,    25.46,2,    21.27,2,     0.00,2,     1.59,2,   -999.0,9,   -999.0,9,-999.0000,9,  -999.00,      743
  49UF20170719,KS1706,  5187,  1,     25,  25259,2,20170802,0537, 14.0085, 149.4075, 5884,    402.7,   8.9563,  34.2922,2,  34.2912,2,     87.4,2,    38.69,2,    28.99,2,     0.00,2,     2.17,2,   -999.0,9,   -999.0,9,-999.0000,9,  -999.00,      741
  49UF20170719,KS1706,  5187,  1,     24,  25258,2,20170802,0537, 14.0085, 149.4075, 5884,    453.1,   8.1766,  34.3861,2,-999.0000,9,     66.5,2,  -999.00,9,  -999.00,9,  -999.00,9,  -999.00,9,   -999.0,9,   -999.0,9,-999.0000,9,  -999.00,      739
  49UF20170719,KS1706,  5187,  1,     23,  25257,2,20170802,0537, 14.0085, 149.4075, 5884,    503.3,   7.6680,  34.4340,2,  34.4339,2,     51.9,2,    52.17,2,    35.25,2,     0.00,2,     2.61,2,   -999.0,9,   -999.0,9,-999.0000,9,  -999.00,      738
  49UF20170719,KS1706,  5187,  1,     22,  25256,2,20170802,0537, 14.0085, 149.4075, 5884,    605.5,   6.6938,  34.4558,2,-999.0000,9,     57.8,2,    62.07,2,    36.96,2,     0.00,2,     2.70,2,   -999.0,9,   -999.0,9,-999.0000,9,  -999.00,      735
  49UF20170719,KS1706,  5187,  1,     21,  25255,2,20170802,0537, 14.0085, 149.4075, 5884,    705.7,   5.9808,  34.4769,2,  34.4772,2,     72.8,2,    70.21,2,    36.97,2,     0.00,2,     2.68,2,   -999.0,9,   -999.0,9,-999.0000,9,  -999.00,      732
  49UF20170719,KS1706,  5187,  1,     20,  24270,2,20170802,0537, 14.0085, 149.4075, 5884,    806.9,   5.4304,  34.4975,2,-999.0000,9,     77.8,2,    78.49,2,    37.61,2,     0.00,2,     2.72,2,   -999.0,9,   -999.0,9,-999.0000,9,  -999.00,      730
  49UF20170719,KS1706,  5187,  1,     19,  25253,2,20170802,0537, 14.0085, 149.4075, 5884,    907.5,   5.0675,  34.5072,2,  34.5075,2,     77.4,2,    84.86,2,    38.07,2,     0.00,2,     2.75,2,   -999.0,9,   -999.0,9,-999.0000,9,  -999.00,      727
  49UF20170719,KS1706,  5187,  1,     18,  25252,2,20170802,0537, 14.0085, 149.4075, 5884,   1009.4,   4.6572,  34.5159,2,-999.0000,9,     75.1,2,    93.59,2,    38.77,2,     0.00,2,     2.81,2,   -999.0,9,   -999.0,9,-999.0000,9,  -999.00,      725
  49UF20170719,KS1706,  5187,  1,     17,  25251,2,20170802,0537, 14.0085, 149.4075, 5884,   1211.4,   3.8618,  34.5473,2,  34.5496,2,     80.3,2,   108.58,2,    39.42,2,     0.00,2,     2.83,2,   -999.0,9,   -999.0,9,-999.0000,9,  -999.00,      720
  49UF20170719,KS1706,  5187,  1,     16,  25250,3,20170802,0537, 14.0085, 149.4075, 5884,   1415.0,   3.2368,  34.5723,2,-999.0000,9,     84.1,2,   121.40,2,    39.55,2,     0.00,2,     2.85,2,   -999.0,9,   -999.0,9,-999.0000,9,  -999.00,      715
  49UF20170719,KS1706,  5187,  1,     15,  25249,2,20170802,0537, 14.0085, 149.4075, 5884,   1616.9,   2.7914,  34.5912,2,  34.5916,2,     92.0,2,   130.59,2,    39.54,2,     0.00,2,     2.82,2,   -999.0,9,   -999.0,9,-999.0000,9,  -999.00,      711
  49UF20170719,KS1706,  5187,  1,     14,  25248,2,20170802,0537, 14.0085, 149.4075, 5884,   1818.6,   2.4781,  34.6069,2,-999.0000,9,     98.5,6,   136.83,6,    39.21,6,     0.00,6,     2.80,6,   -999.0,9,   -999.0,9,-999.0000,9,  -999.00,      706
  49UF20170719,KS1706,  5187,  1,     13,  25247,2,20170802,0537, 14.0085, 149.4075, 5884,   2022.8,   2.2784,  34.6195,2,  34.6198,2,    106.8,2,   138.78,2,    38.74,2,     0.00,2,     2.75,2,   -999.0,9,   -999.0,9,-999.0000,9,  -999.00,      702
  49UF20170719,KS1706,  5187,  1,     12,  25246,2,20170802,0537, 14.0085, 149.4075, 5884,   2531.4,   1.8360,  34.6523,2,  34.6525,2,    122.2,2,   146.84,2,    37.95,2,     0.00,2,     2.68,2,   -999.0,9,   -999.0,9,-999.0000,9,  -999.00,      652
  49UF20170719,KS1706,  5187,  1,     11,  25245,2,20170802,0537, 14.0085, 149.4075, 5884,   2785.1,   1.7157,  34.6616,2,  34.6629,2,    128.5,2,   148.26,2,    37.69,2,     0.00,2,     2.65,2,   -999.0,9,   -999.0,9,-999.0000,9,  -999.00,      647
  49UF20170719,KS1706,  5187,  1,     10,  25244,2,20170802,0537, 14.0085, 149.4075, 5884,   3039.4,   1.6371,  34.6684,2,  34.6685,2,    135.3,2,   147.43,2,    37.28,2,     0.00,2,     2.62,2,   -999.0,9,   -999.0,9,-999.0000,9,  -999.00,      641
  49UF20170719,KS1706,  5187,  1,      9,  25243,3,20170802,0537, 14.0085, 149.4075, 5884,   3551.1,   1.5527,  34.6777,2,  34.6782,2,    144.0,2,   147.62,2,    36.65,2,     0.00,2,     2.57,2,   -999.0,9,   -999.0,9,-999.0000,9,  -999.00,      631
  49UF20170719,KS1706,  5187,  1,      8,  25242,2,20170802,0537, 14.0085, 149.4075, 5884,   3806.9,   1.5196,  34.6818,2,  34.6826,2,    149.9,2,   144.80,2,    36.24,2,     0.00,2,     2.54,2,   -999.0,9,   -999.0,9,-999.0000,9,  -999.00,      625
  49UF20170719,KS1706,  5187,  1,      7,  25241,2,20170802,0537, 14.0085, 149.4075, 5884,   4063.7,   1.4903,  34.6855,2,  34.6858,6,    154.6,2,   143.04,2,    35.83,2,     0.00,2,     2.52,2,   -999.0,9,   -999.0,9,-999.0000,9,  -999.00,      619
  49UF20170719,KS1706,  5187,  1,      6,  25240,2,20170802,0537, 14.0085, 149.4075, 5884,   4576.5,   1.4719,  34.6909,2,  34.6913,2,    165.4,2,   138.30,2,    35.06,2,     0.00,2,     2.45,2,   -999.0,9,   -999.0,9,-999.0000,9,  -999.00,      609
  49UF20170719,KS1706,  5187,  1,      5,  25239,2,20170802,0537, 14.0085, 149.4075, 5884,   4832.7,   1.4733,  34.6930,2,  34.6930,2,    168.1,2,   136.02,2,    34.99,2,     0.00,2,     2.44,2,   -999.0,9,   -999.0,9,-999.0000,9,  -999.00,      603
  49UF20170719,KS1706,  5187,  1,      4,  25238,2,20170802,0537, 14.0085, 149.4075, 5884,   5090.0,   1.4804,  34.6948,2,  34.6947,2,    172.0,2,   134.51,2,    34.62,2,     0.00,2,     2.42,2,   -999.0,9,   -999.0,9,-999.0000,9,  -999.00,      557
  49UF20170719,KS1706,  5187,  1,      3,  25237,2,20170802,0537, 14.0085, 149.4075, 5884,   5607.1,   1.5149,  34.6968,2,  34.6966,2,    174.9,3,   131.98,2,    34.41,2,     0.00,2,     2.40,2,   -999.0,9,   -999.0,9,-999.0000,9,  -999.00,      546
  49UF20170719,KS1706,  5187,  1,      2,  25236,2,20170802,0537, 14.0085, 149.4075, 5884,   5865.0,   1.5456,  34.6970,2,  34.6973,2,    176.8,2,   131.94,2,    34.27,2,     0.00,2,     2.39,2,   -999.0,9,   -999.0,9,-999.0000,9,  -999.00,      541
  49UF20170719,KS1706,  5187,  1,      1,  25235,2,20170802,0537, 14.0085, 149.4075, 5884,   6035.7,   1.5687,  34.6969,2,  34.6963,2,    175.0,3,   132.02,6,    34.37,6,     0.00,6,     2.40,6,   -999.0,9,   -999.0,9,-999.0000,9,  -999.00,      537