BOTTLE,20200103PRINUNIVRMK
EXPOCODE,SECT_ID,STNNBR,CASTNO,SAMPNO,BTLNBR,BTLNBR_FLAG_W,DATE,TIME,LATITUDE,LONGITUDE,DEPTH,CTDPRS,CTDTMP,CTDSAL,CTDSAL_FLAG_W,SALNTY,SALNTY_FLAG_W,OXYGEN,OXYGEN_FLAG_W,SILCAT,SILCAT_FLAG_W,NITRAT,NITRAT_FLAG_W,NITRIT,NITRIT_FLAG_W,PHSPHT,PHSPHT_FLAG_W,TCARBN,TCARBN_FLAG_W,ALKALI,ALKALI_FLAG_W,PH_TOT,PH_TOT_FLAG_W,PH_TMP,BTL_TIME
,,,,,,,,,,,METERS,DBAR,ITS-90,PSS-78,,PSS-78,,UMOL/KG,,UMOL/KG,,UMOL/KG,,UMOL/KG,,UMOL/KG,,UMOL/KG,,UMOL/KG,,,,DEG C,
  49UF20170719,KS1706,  5210,  1,     99,     99,2,20170823,1214, 18.9970, 136.9837, 4774,      0.0,  30.6899,  34.6912,2,-999.0000,9,    191.8,2,     1.05,2,     0.00,2,     0.00,2,     0.02,2,   -999.0,9,   -999.0,9,-999.0000,9,  -999.00,     1403
  49UF20170719,KS1706,  5210,  1,     36,  25270,2,20170823,1214, 18.9970, 136.9837, 4774,     11.4,  30.6817,  34.6916,2,  34.6892,2,    191.7,2,     1.05,2,     0.01,2,     0.00,2,     0.00,2,   -999.0,9,   -999.0,9,-999.0000,9,  -999.00,     1435
  49UF20170719,KS1706,  5210,  1,     35,  25269,2,20170823,1214, 18.9970, 136.9837, 4774,     25.9,  30.5392,  34.6916,2,-999.0000,9,    192.0,2,     1.05,2,     0.01,2,     0.00,2,     0.00,2,   -999.0,9,   -999.0,9,-999.0000,9,  -999.00,     1434
  49UF20170719,KS1706,  5210,  1,     34,  25268,2,20170823,1214, 18.9970, 136.9837, 4774,     51.2,  27.1766,  34.9121,2,-999.0000,9,    212.1,2,     1.05,2,     0.00,2,     0.00,2,     0.02,2,   -999.0,9,   -999.0,9,-999.0000,9,  -999.00,     1430
  49UF20170719,KS1706,  5210,  1,     33,  25267,2,20170823,1214, 18.9970, 136.9837, 4774,     75.7,  25.5933,  35.0281,2,  35.0413,2,    206.0,2,     1.18,2,     0.01,2,     0.00,2,     0.04,2,   -999.0,9,   -999.0,9,-999.0000,9,  -999.00,     1428
  49UF20170719,KS1706,  5210,  1,     32,  25266,2,20170823,1214, 18.9970, 136.9837, 4774,    101.8,  24.3330,  35.1265,2,-999.0000,9,    203.7,2,     1.26,2,     0.00,2,     0.00,2,     0.04,2,   -999.0,9,   -999.0,9,-999.0000,9,  -999.00,     1427
  49UF20170719,KS1706,  5210,  1,     31,  25265,2,20170823,1214, 18.9970, 136.9837, 4774,    126.8,  22.5237,  35.0697,2,-999.0000,9,    208.4,2,     1.44,2,     0.02,2,     0.03,2,     0.03,2,   -999.0,9,   -999.0,9,-999.0000,9,  -999.00,     1426
  49UF20170719,KS1706,  5210,  1,     30,  25264,2,20170823,1214, 18.9970, 136.9837, 4774,    152.2,  21.5874,  35.0403,2,-999.0000,9,    207.5,6,     1.61,6,     0.33,6,     0.12,6,     0.06,6,   -999.0,9,   -999.0,9,-999.0000,9,  -999.00,     1424
  49UF20170719,KS1706,  5210,  1,     29,  25263,3,20170823,1214, 18.9970, 136.9837, 4774,    203.3,  20.0262,  34.9808,2,  34.9762,2,    198.7,2,     2.25,2,     2.03,2,     0.02,2,     0.16,2,   -999.0,9,   -999.0,9,-999.0000,9,  -999.00,     1422
  49UF20170719,KS1706,  5210,  1,     28,  25262,2,20170823,1214, 18.9970, 136.9837, 4774,    253.9,  18.4569,  34.8537,2,-999.0000,9,    196.3,2,     3.28,2,     3.88,2,     0.01,2,     0.27,2,   -999.0,9,   -999.0,9,-999.0000,9,  -999.00,     1420
  49UF20170719,KS1706,  5210,  1,     27,  25261,2,20170823,1214, 18.9970, 136.9837, 4774,    303.6,  17.1812,  34.7472,2,-999.0000,9,    195.5,2,     4.67,2,     5.57,2,     0.01,2,     0.38,2,   -999.0,9,   -999.0,9,-999.0000,9,  -999.00,     1418
  49UF20170719,KS1706,  5210,  1,     26,  25260,2,20170823,1214, 18.9970, 136.9837, 4774,    354.9,  15.0967,  34.5555,2,-999.0000,9,    188.8,2,     8.60,2,     9.19,2,     0.00,2,     0.65,2,   -999.0,9,   -999.0,9,-999.0000,9,  -999.00,     1416
  49UF20170719,KS1706,  5210,  1,     25,  25259,2,20170823,1214, 18.9970, 136.9837, 4774,    404.6,  13.2320,  34.4070,2,  34.3999,2,    181.0,2,    14.35,2,    13.18,2,     0.00,2,     0.92,2,   -999.0,9,   -999.0,9,-999.0000,9,  -999.00,     1414
  49UF20170719,KS1706,  5210,  1,     24,  25258,2,20170823,1214, 18.9970, 136.9837, 4774,    455.4,  11.5730,  34.3059,2,-999.0000,9,    170.9,6,    21.81,6,    17.05,6,     0.00,6,     1.21,6,   -999.0,9,   -999.0,9,-999.0000,9,  -999.00,     1412
  49UF20170719,KS1706,  5210,  1,     23,  25257,2,20170823,1214, 18.9970, 136.9837, 4774,    504.8,   9.6582,  34.2061,2,-999.0000,9,    146.1,2,    31.77,2,    22.45,2,     0.00,2,     1.61,2,   -999.0,9,   -999.0,9,-999.0000,9,  -999.00,     1410
  49UF20170719,KS1706,  5210,  1,     22,  25256,2,20170823,1214, 18.9970, 136.9837, 4774,    606.1,   7.4274,  34.1881,2,-999.0000,9,     99.0,2,    52.83,2,    31.06,2,     0.00,2,     2.24,2,   -999.0,9,   -999.0,9,-999.0000,9,  -999.00,     1407
  49UF20170719,KS1706,  5210,  1,     21,  25255,2,20170823,1214, 18.9970, 136.9837, 4774,    706.0,   5.8909,  34.2549,2,  34.2581,4,     70.7,2,    75.16,2,    36.29,2,     0.00,2,     2.62,2,   -999.0,9,   -999.0,9,-999.0000,9,  -999.00,     1404
  49UF20170719,KS1706,  5210,  1,     20,  24270,2,20170823,1214, 18.9970, 136.9837, 4774,    807.1,   5.1554,  34.3605,2,-999.0000,9,     65.3,2,    88.32,2,    38.12,2,     0.00,2,     2.74,2,   -999.0,9,   -999.0,9,-999.0000,9,  -999.00,     1401
  49UF20170719,KS1706,  5210,  1,     19,  25253,2,20170823,1214, 18.9970, 136.9837, 4774,    909.1,   4.5336,  34.4214,2,-999.0000,9,     67.3,2,    99.47,2,    38.98,2,     0.00,2,     2.79,2,   -999.0,9,   -999.0,9,-999.0000,9,  -999.00,     1359
  49UF20170719,KS1706,  5210,  1,     18,  25252,2,20170823,1214, 18.9970, 136.9837, 4774,   1009.8,   4.0039,  34.4649,2,-999.0000,9,     71.1,2,   110.55,2,    39.35,2,     0.00,2,     2.81,2,   -999.0,9,   -999.0,9,-999.0000,9,  -999.00,     1356
  49UF20170719,KS1706,  5210,  1,     17,  25251,2,20170823,1214, 18.9970, 136.9837, 4774,   1211.5,   3.2044,  34.5160,2,  34.5172,2,     78.1,2,   126.10,2,    39.65,2,     0.00,2,     2.82,2,   -999.0,9,   -999.0,9,-999.0000,9,  -999.00,     1351
  49UF20170719,KS1706,  5210,  1,     16,  25250,2,20170823,1214, 18.9970, 136.9837, 4774,   1414.0,   2.8118,  34.5592,2,-999.0000,9,     90.8,6,   131.69,6,    39.13,6,     0.00,6,     2.77,6,   -999.0,9,   -999.0,9,-999.0000,9,  -999.00,     1337
  49UF20170719,KS1706,  5210,  1,     15,  25249,2,20170823,1214, 18.9970, 136.9837, 4774,   1617.1,   2.5030,  34.5893,2,-999.0000,9,    100.5,2,   135.73,2,    38.76,2,     0.00,2,     2.74,2,   -999.0,9,   -999.0,9,-999.0000,9,  -999.00,     1332
  49UF20170719,KS1706,  5210,  1,     14,  25248,2,20170823,1214, 18.9970, 136.9837, 4774,   1821.2,   2.2396,  34.6102,2,  34.6132,4,    107.8,2,   139.11,2,    38.60,2,     0.00,2,     2.71,2,   -999.0,9,   -999.0,9,-999.0000,9,  -999.00,     1327
  49UF20170719,KS1706,  5210,  1,     13,  25247,4,20170823,1214, 18.9970, 136.9837, 4774,   2022.7,   2.0536,  34.6249,2,-999.0000,9,   -999.0,9,  -999.00,9,  -999.00,9,  -999.00,9,  -999.00,9,   -999.0,9,   -999.0,9,-999.0000,9,  -999.00,     1323
  49UF20170719,KS1706,  5210,  1,     12,  25246,2,20170823,1214, 18.9970, 136.9837, 4774,   2277.0,   1.9026,  34.6393,2,-999.0000,9,    121.7,2,   142.65,2,    37.88,2,     0.00,2,     2.65,2,   -999.0,9,   -999.0,9,-999.0000,9,  -999.00,     1317
  49UF20170719,KS1706,  5210,  1,     11,  25245,2,20170823,1214, 18.9970, 136.9837, 4774,   2532.7,   1.7957,  34.6492,2,  34.6493,2,    128.0,2,   143.77,2,    37.60,2,     0.00,2,     2.62,2,   -999.0,9,   -999.0,9,-999.0000,9,  -999.00,     1311
  49UF20170719,KS1706,  5210,  1,     10,  25244,2,20170823,1214, 18.9970, 136.9837, 4774,   2785.5,   1.6940,  34.6584,2,-999.0000,9,    134.9,2,   143.26,2,    37.18,2,     0.00,2,     2.58,2,   -999.0,9,   -999.0,9,-999.0000,9,  -999.00,     1305
  49UF20170719,KS1706,  5210,  1,      9,  25243,2,20170823,1214, 18.9970, 136.9837, 4774,   3040.4,   1.6258,  34.6663,2,  34.6692,4,    140.6,2,   143.43,2,    36.80,2,     0.00,2,     2.56,2,   -999.0,9,   -999.0,9,-999.0000,9,  -999.00,     1257
  49UF20170719,KS1706,  5210,  1,      8,  25242,2,20170823,1214, 18.9970, 136.9837, 4774,   3294.6,   1.5880,  34.6716,2,  34.6745,4,    145.6,2,   142.42,2,    36.48,2,     0.00,2,     2.53,2,   -999.0,9,   -999.0,9,-999.0000,9,  -999.00,     1251
  49UF20170719,KS1706,  5210,  1,      7,  25241,3,20170823,1214, 18.9970, 136.9837, 4774,   3551.1,   1.5577,  34.6762,2,  34.6759,2,    149.1,2,   141.39,2,    36.16,2,     0.00,2,     2.51,2,   -999.0,9,   -999.0,9,-999.0000,9,  -999.00,     1244
  49UF20170719,KS1706,  5210,  1,      6,  25240,2,20170823,1214, 18.9970, 136.9837, 4774,   3808.4,   1.5434,  34.6794,2,-999.0000,9,    152.7,2,   141.65,2,    36.05,2,     0.00,2,     2.49,2,   -999.0,9,   -999.0,9,-999.0000,9,  -999.00,     1239
  49UF20170719,KS1706,  5210,  1,      5,  25239,2,20170823,1214, 18.9970, 136.9837, 4774,   4064.8,   1.5176,  34.6837,2,  34.6840,2,    156.2,6,   140.37,6,    35.81,6,     0.00,6,     2.47,6,   -999.0,9,   -999.0,9,-999.0000,9,  -999.00,     1231
  49UF20170719,KS1706,  5210,  1,      4,  25238,2,20170823,1214, 18.9970, 136.9837, 4774,   4320.9,   1.5207,  34.6857,2,  34.6875,2,    159.7,2,   139.50,2,    35.53,2,     0.00,2,     2.46,2,   -999.0,9,   -999.0,9,-999.0000,9,  -999.00,     1226
  49UF20170719,KS1706,  5210,  1,      3,  24271,2,20170823,1214, 18.9970, 136.9837, 4774,   4576.0,   1.5338,  34.6869,2,  34.6883,2,    160.3,2,   139.27,2,    35.53,2,     0.00,2,     2.45,2,   -999.0,9,   -999.0,9,-999.0000,9,  -999.00,     1219
  49UF20170719,KS1706,  5210,  1,      1,  25235,2,20170823,1214, 18.9970, 136.9837, 4774,   4818.7,   1.5601,  34.6870,2,  34.6877,2,    160.4,2,   138.86,2,    35.50,2,     0.00,2,     2.45,2,   -999.0,9,   -999.0,9,-999.0000,9,  -999.00,     1213
  49UF20170719,KS1706,  5210,  1,      2,  25236,2,20170823,1214, 18.9970, 136.9837, 4774,   4818.9,   1.5601,  34.6871,2,  34.6888,2,    160.5,2,   139.28,2,    35.49,2,     0.00,2,     2.45,2,   -999.0,9,   -999.0,9,-999.0000,9,  -999.00,     1214
  49UF20170719,KS1706,  5211,  1,     99,     99,2,20170823,2318, 19.9765, 136.9778, 4728,      0.0,  30.3563,  34.7889,2,  34.7839,2,    192.1,2,     1.20,2,     0.00,2,     0.00,2,     0.02,2,   1954.1,2,   2284.2,2,   8.1061,2,    25.00,      110
  49UF20170719,KS1706,  5211,  1,     36,  25270,3,20170823,2318, 19.9765, 136.9778, 4728,     10.4,  30.3649,  34.7875,2,  34.7862,2,    192.3,2,     1.19,2,     0.03,2,     0.00,2,     0.01,2,   1952.5,2,   2285.2,2,   8.1055,2,    25.00,      146
  49UF20170719,KS1706,  5211,  1,     35,  25269,2,20170823,2318, 19.9765, 136.9778, 4728,     26.4,  30.3357,  34.7846,2,-999.0000,9,    192.9,2,     1.19,2,     0.01,2,     0.00,2,     0.01,2,   1957.9,2,   2285.5,2,   8.1052,2,    25.00,      145
  49UF20170719,KS1706,  5211,  1,     34,  25268,2,20170823,2318, 19.9765, 136.9778, 4728,     50.9,  26.1597,  35.0029,2,-999.0000,9,    222.3,2,     1.27,2,     0.03,2,     0.00,2,     0.01,2,   1979.8,2,   2299.7,2,   8.0884,2,    25.00,      142
  49UF20170719,KS1706,  5211,  1,     33,  25267,2,20170823,2318, 19.9765, 136.9778, 4728,     75.5,  23.8301,  35.0913,2,-999.0000,9,    225.8,2,     1.37,2,     0.02,2,     0.00,2,     0.01,2,   1990.3,2,   2305.2,2,   8.0738,2,    25.00,      141
  49UF20170719,KS1706,  5211,  1,     32,  25266,2,20170823,2318, 19.9765, 136.9778, 4728,    101.7,  22.4831,  35.0729,2,  35.0734,2,    209.2,2,     1.57,2,     0.01,2,     0.01,2,     0.04,2,   2006.8,2,   2304.0,2,   8.0396,2,    25.00,      139
  49UF20170719,KS1706,  5211,  1,     31,  25265,2,20170823,2318, 19.9765, 136.9778, 4728,    126.5,  20.8761,  35.0241,2,-999.0000,9,    201.1,2,     2.11,2,     1.12,2,     0.10,2,     0.11,2,   2025.5,2,   2299.4,2,   8.0018,2,    25.00,      138
  49UF20170719,KS1706,  5211,  1,     30,  25264,2,20170823,2318, 19.9765, 136.9778, 4728,    151.3,  19.4623,  34.9333,2,-999.0000,9,    205.2,2,     2.45,2,     2.05,2,     0.04,2,     0.15,2,   2032.8,2,   2292.8,2,   7.9861,2,    25.00,      137
  49UF20170719,KS1706,  5211,  1,     29,  25263,2,20170823,2318, 19.9765, 136.9778, 4728,    201.9,  18.3365,  34.8501,2,-999.0000,9,    201.2,2,     3.21,2,     3.69,2,     0.01,2,     0.25,2,   2041.7,2,   2287.2,2,   7.9604,2,    25.00,      135
  49UF20170719,KS1706,  5211,  1,     28,  25262,2,20170823,2318, 19.9765, 136.9778, 4728,    252.3,  17.2467,  34.7517,2,  34.7494,2,    198.2,2,     4.48,2,     5.34,2,     0.01,2,     0.36,2,   2054.8,2,   2282.5,2,   7.9317,2,    25.00,      133
  49UF20170719,KS1706,  5211,  1,     27,  25261,2,20170823,2318, 19.9765, 136.9778, 4728,    303.7,  16.0189,  34.6436,2,-999.0000,9,    197.4,2,     6.66,2,     7.28,2,     0.00,2,     0.49,2,   2061.0,2,   2278.6,2,   7.9012,2,    25.00,      131
  49UF20170719,KS1706,  5211,  1,     26,  25260,2,20170823,2318, 19.9765, 136.9778, 4728,    353.9,  14.2718,  34.4987,2,-999.0000,9,    190.2,6,    11.23,6,    10.68,6,     0.00,6,     0.73,6,   2083.9,2,   2273.5,2,   7.8502,2,    25.00,      130
  49UF20170719,KS1706,  5211,  1,     25,  25259,2,20170823,2318, 19.9765, 136.9778, 4728,    405.3,  12.5167,  34.3573,2,-999.0000,9,    177.1,2,    16.37,2,    14.53,2,     0.00,2,     1.03,2,   2113.2,2,   2271.0,2,   7.7785,2,    25.00,      128
  49UF20170719,KS1706,  5211,  1,     24,  25258,2,20170823,2318, 19.9765, 136.9778, 4728,    456.0,  10.8517,  34.2703,2,  34.2697,2,    162.6,2,    25.09,2,    18.82,2,     0.00,2,     1.34,2,   2141.7,2,   2274.3,2,   7.7145,2,    25.00,      126
  49UF20170719,KS1706,  5211,  1,     23,  25257,2,20170823,2318, 19.9765, 136.9778, 4728,    505.7,   9.0764,  34.1777,2,-999.0000,9,    154.1,6,    36.46,6,    22.76,6,     0.00,6,     1.61,6,   2167.5,2,   2280.7,2,   7.6591,2,    25.00,      123
  49UF20170719,KS1706,  5211,  1,     22,  25256,2,20170823,2318, 19.9765, 136.9778, 4728,    606.0,   6.6618,  34.1105,2,-999.0000,9,    117.3,2,    60.83,2,    30.68,2,     0.00,2,     2.20,2,   2229.1,2,   2296.6,2,   7.5300,2,    25.00,      120
  49UF20170719,KS1706,  5211,  1,     21,  25255,2,20170823,2318, 19.9765, 136.9778, 4728,    706.5,   5.3041,  34.2237,2,-999.0000,9,     70.4,2,    84.17,2,    37.23,2,     0.00,2,     2.68,2,   2287.7,2,   2323.1,2,   7.4372,2,    25.00,      117
  49UF20170719,KS1706,  5211,  1,     20,  24270,2,20170823,2318, 19.9765, 136.9778, 4728,    807.4,   4.4593,  34.3094,2,  34.3091,2,     60.4,2,   101.48,2,    39.39,2,     0.00,2,     2.83,2,   2314.8,2,   2345.4,2,   7.4162,2,    25.00,      114
  49UF20170719,KS1706,  5211,  1,     19,  25253,2,20170823,2318, 19.9765, 136.9778, 4728,    909.7,   4.0690,  34.3815,2,-999.0000,9,     59.4,2,   110.05,2,    40.10,2,     0.00,2,     2.87,2,   2325.4,2,   2357.9,2,   7.4209,2,    25.00,      111
  49UF20170719,KS1706,  5211,  1,     18,  25252,2,20170823,2318, 19.9765, 136.9778, 4728,   1012.2,   3.5608,  34.4480,2,-999.0000,9,     64.6,2,   119.59,2,    40.41,2,     0.00,2,     2.88,2,   2340.2,2,   2372.4,2,   7.4306,2,    25.00,      108
  49UF20170719,KS1706,  5211,  1,     17,  25251,2,20170823,2318, 19.9765, 136.9778, 4728,   1215.0,   3.1269,  34.5197,2,-999.0000,9,     78.9,2,   128.07,2,    39.75,2,     0.00,2,     2.83,2,   2345.7,3,   2384.8,2,   7.4633,2,    25.00,      100
  49UF20170719,KS1706,  5211,  1,     16,  25250,2,20170823,2318, 19.9765, 136.9778, 4728,   1415.4,   2.6746,  34.5670,2,  34.5671,2,     94.6,2,   133.77,2,    39.10,2,     0.00,2,     2.76,2,   2340.2,6,   2398.1,6,   7.4914,2,    25.00,       54
  49UF20170719,KS1706,  5211,  1,     15,  25249,2,20170823,2318, 19.9765, 136.9778, 4728,   1618.1,   2.3751,  34.5958,2,-999.0000,9,    104.1,2,   138.47,2,    38.62,2,     0.00,2,     2.73,2,   2349.7,3,   2404.2,2,   7.5090,6,    25.00,       49
  49UF20170719,KS1706,  5211,  1,     14,  25248,2,20170823,2318, 19.9765, 136.9778, 4728,   1821.4,   2.1715,  34.6129,2,-999.0000,9,    111.0,2,   140.58,2,    38.39,2,     0.00,2,     2.70,2,   2342.7,2,   2405.7,2,   7.5195,2,    25.00,       44
  49UF20170719,KS1706,  5211,  1,     12,  25246,2,20170823,2318, 19.9765, 136.9778, 4728,   2024.9,   2.0187,  34.6268,2,  34.6275,2,    116.0,2,   142.45,2,    38.22,2,     0.00,2,     2.68,2,   2339.2,2,   2408.7,2,   7.5280,2,    25.00,       38
  49UF20170719,KS1706,  5211,  1,     13,  25247,2,20170823,2318, 19.9765, 136.9778, 4728,   2025.0,   2.0179,  34.6269,2,  34.6270,2,    116.1,2,   142.54,2,    38.24,2,     0.00,2,     2.68,2,   2343.1,2,   2410.5,2,   7.5247,2,    25.00,       39
  49UF20170719,KS1706,  5211,  1,     11,  25245,2,20170823,2318, 19.9765, 136.9778, 4728,   2277.7,   1.8453,  34.6415,2,  34.6418,2,    124.2,2,   142.53,2,    37.74,2,     0.00,2,     2.64,2,   2332.0,3,   2411.7,2,   7.5392,2,    25.00,       32
  49UF20170719,KS1706,  5211,  1,     10,  25244,2,20170823,2318, 19.9765, 136.9778, 4728,   2531.0,   1.7486,  34.6513,2,  34.6516,2,    130.6,2,   144.03,2,    37.41,2,     0.00,2,     2.61,2,   2337.4,6,   2414.0,6,   7.5492,2,    25.00,       27
  49UF20170719,KS1706,  5211,  1,      9,  25243,2,20170823,2318, 19.9765, 136.9778, 4728,   2784.6,   1.6757,  34.6598,2,  34.6587,6,    135.9,2,   143.59,2,    37.09,2,     0.00,2,     2.58,2,   2333.4,2,   2413.6,2,   7.5588,6,    25.00,       19
  49UF20170719,KS1706,  5211,  1,      8,  25242,2,20170823,2318, 19.9765, 136.9778, 4728,   3042.0,   1.6340,  34.6651,2,  34.6665,2,    140.5,2,   142.56,2,    36.77,2,     0.00,2,     2.56,2,   2330.4,2,   2414.7,2,   7.5649,2,    25.00,       12
  49UF20170719,KS1706,  5211,  1,      7,  25241,2,20170823,2318, 19.9765, 136.9778, 4728,   3296.4,   1.5912,  34.6707,2,-999.0000,9,    144.1,3,   142.41,2,    36.53,2,     0.00,2,     2.54,2,   2327.0,2,   2413.4,2,   7.5711,2,    25.00,        5
  49UF20170719,KS1706,  5211,  1,      6,  25240,2,20170823,2318, 19.9765, 136.9778, 4728,   3551.6,   1.5613,  34.6756,2,  34.6762,2,    149.1,6,   142.25,6,    36.27,6,     0.00,6,     2.52,6,   2330.1,2,   2414.6,2,   7.5784,2,    25.00,     2358
  49UF20170719,KS1706,  5211,  1,      5,  25239,2,20170823,2318, 19.9765, 136.9778, 4728,   3808.4,   1.5231,  34.6809,2,  34.6809,2,    154.0,2,   141.21,2,    35.98,2,     0.00,2,     2.49,2,   2323.6,2,   2413.5,2,   7.5861,2,    25.00,     2350
  49UF20170719,KS1706,  5211,  1,      4,  25238,2,20170823,2318, 19.9765, 136.9778, 4728,   4065.5,   1.5048,  34.6846,2,  34.6850,2,    158.0,2,   140.38,2,    35.70,2,     0.00,2,     2.47,2,   2317.6,6,   2411.6,6,   7.5894,2,    25.00,     2343
  49UF20170719,KS1706,  5211,  1,      3,  24271,2,20170823,2318, 19.9765, 136.9778, 4728,   4321.3,   1.5115,  34.6864,2,  34.6864,2,    159.9,2,   139.73,2,    35.55,2,     0.00,2,     2.46,2,   2321.7,2,   2410.4,2,   7.5928,6,    25.00,     2335
  49UF20170719,KS1706,  5211,  1,      2,  25236,2,20170823,2318, 19.9765, 136.9778, 4728,   4579.2,   1.5403,  34.6866,2,  34.6873,2,    159.8,2,   138.89,2,    35.56,2,     0.00,2,     2.46,2,   2318.2,2,   2410.2,2,   7.5936,2,    25.00,     2328
  49UF20170719,KS1706,  5211,  1,      1,  25235,2,20170823,2318, 19.9765, 136.9778, 4728,   4865.4,   1.5741,  34.6865,2,  34.6864,2,    160.0,6,   138.16,3,    35.54,6,     0.00,6,     2.46,6,   2317.9,2,   2411.4,2,   7.5922,2,    25.00,     2318