BOTTLE,20200103PRINUNIVRMK
EXPOCODE,SECT_ID,STNNBR,CASTNO,SAMPNO,BTLNBR,BTLNBR_FLAG_W,DATE,TIME,LATITUDE,LONGITUDE,DEPTH,CTDPRS,CTDTMP,CTDSAL,CTDSAL_FLAG_W,SALNTY,SALNTY_FLAG_W,OXYGEN,OXYGEN_FLAG_W,SILCAT,SILCAT_FLAG_W,NITRAT,NITRAT_FLAG_W,NITRIT,NITRIT_FLAG_W,PHSPHT,PHSPHT_FLAG_W,TCARBN,TCARBN_FLAG_W,ALKALI,ALKALI_FLAG_W,PH_TOT,PH_TOT_FLAG_W,PH_TMP,BTL_TIME
,,,,,,,,,,,METERS,DBAR,ITS-90,PSS-78,,PSS-78,,UMOL/KG,,UMOL/KG,,UMOL/KG,,UMOL/KG,,UMOL/KG,,UMOL/KG,,UMOL/KG,,,,DEG C,
  49UF20170719,KS1706,  5202,  1,     99,     99,2,20170819,1805, 11.0107, 136.9983, 4899,      0.0,  30.2784,  33.9223,2,-999.0000,9,    193.4,2,     1.06,2,     0.00,2,     0.00,2,     0.02,2,   -999.0,9,   -999.0,9,-999.0000,9,  -999.00,     2012
  49UF20170719,KS1706,  5202,  1,     36,  25270,2,20170819,1805, 11.0107, 136.9983, 4899,     10.2,  30.2841,  33.9192,2,  33.9164,2,    193.4,2,     1.06,2,     0.00,2,     0.00,2,     0.02,2,   -999.0,9,   -999.0,9,-999.0000,9,  -999.00,     2036
  49UF20170719,KS1706,  5202,  1,     35,  25269,2,20170819,1805, 11.0107, 136.9983, 4899,     25.1,  30.2887,  33.9282,2,  33.9377,2,    194.2,2,     1.09,2,     0.00,2,     0.00,2,     0.02,2,   -999.0,9,   -999.0,9,-999.0000,9,  -999.00,     2035
  49UF20170719,KS1706,  5202,  1,     34,  25268,3,20170819,1805, 11.0107, 136.9983, 4899,     50.4,  30.1283,  34.1217,2,-999.0000,9,    197.1,2,     1.02,2,     0.00,2,     0.00,2,     0.02,2,   -999.0,9,   -999.0,9,-999.0000,9,  -999.00,     2031
  49UF20170719,KS1706,  5202,  1,     33,  25267,2,20170819,1805, 11.0107, 136.9983, 4899,     73.9,  29.9184,  34.2797,2,  34.2841,2,    198.4,2,     1.04,2,     0.00,2,     0.00,2,     0.03,2,   -999.0,9,   -999.0,9,-999.0000,9,  -999.00,     2030
  49UF20170719,KS1706,  5202,  1,     32,  25266,2,20170819,1805, 11.0107, 136.9983, 4899,    100.8,  28.3903,  34.5041,2,-999.0000,9,    204.3,2,     1.07,2,     0.01,2,     0.00,2,     0.06,2,   -999.0,9,   -999.0,9,-999.0000,9,  -999.00,     2028
  49UF20170719,KS1706,  5202,  1,     31,  25265,2,20170819,1805, 11.0107, 136.9983, 4899,    125.1,  26.6042,  34.9195,2,-999.0000,9,    202.9,2,     1.26,2,     0.00,2,     0.00,2,     0.08,2,   -999.0,9,   -999.0,9,-999.0000,9,  -999.00,     2027
  49UF20170719,KS1706,  5202,  1,     30,  25264,2,20170819,1805, 11.0107, 136.9983, 4899,    150.6,  23.3335,  35.1281,2,-999.0000,9,    187.0,2,     1.92,2,     0.50,2,     0.16,2,     0.19,2,   -999.0,9,   -999.0,9,-999.0000,9,  -999.00,     2026
  49UF20170719,KS1706,  5202,  1,     29,  25263,2,20170819,1805, 11.0107, 136.9983, 4899,    200.8,  17.9033,  34.7709,2,  34.7623,2,    159.5,6,     7.60,6,     8.35,6,     0.01,6,     0.70,6,   -999.0,9,   -999.0,9,-999.0000,9,  -999.00,     2024
  49UF20170719,KS1706,  5202,  1,     28,  25262,2,20170819,1805, 11.0107, 136.9983, 4899,    250.6,  14.1195,  34.5147,2,-999.0000,9,    146.5,2,    14.64,3,    14.90,2,     0.00,2,     1.12,2,   -999.0,9,   -999.0,9,-999.0000,9,  -999.00,     2022
  49UF20170719,KS1706,  5202,  1,     27,  25261,2,20170819,1805, 11.0107, 136.9983, 4899,    301.7,  11.6871,  34.4618,2,-999.0000,9,    102.2,2,    25.22,4,    23.57,2,     0.00,2,     1.73,2,   -999.0,9,   -999.0,9,-999.0000,9,  -999.00,     2020
  49UF20170719,KS1706,  5202,  1,     26,  25260,2,20170819,1805, 11.0107, 136.9983, 4899,    351.2,   9.8229,  34.4863,2,-999.0000,9,     79.0,2,    35.62,4,    29.38,2,     0.00,2,     2.12,2,   -999.0,9,   -999.0,9,-999.0000,9,  -999.00,     2018
  49UF20170719,KS1706,  5202,  1,     25,  25259,2,20170819,1805, 11.0107, 136.9983, 4899,    402.9,   9.2387,  34.5163,2,  34.5157,2,     75.2,2,    37.74,4,    31.15,2,     0.00,2,     2.24,2,   -999.0,9,   -999.0,9,-999.0000,9,  -999.00,     2017
  49UF20170719,KS1706,  5202,  1,     24,  25258,2,20170819,1805, 11.0107, 136.9983, 4899,    452.2,   7.9176,  34.4256,2,-999.0000,9,     88.1,2,    47.99,4,    32.01,2,     0.00,2,     2.29,2,   -999.0,9,   -999.0,9,-999.0000,9,  -999.00,     2015
  49UF20170719,KS1706,  5202,  1,     23,  25257,2,20170819,1805, 11.0107, 136.9983, 4899,    504.3,   7.4876,  34.4528,2,-999.0000,9,     90.4,2,    50.47,3,    32.68,2,     0.00,2,     2.33,2,   -999.0,9,   -999.0,9,-999.0000,9,  -999.00,     2013
  49UF20170719,KS1706,  5202,  1,     22,  25256,2,20170819,1805, 11.0107, 136.9983, 4899,    604.2,   6.7593,  34.4842,2,-999.0000,9,     97.4,2,    55.37,4,    33.83,2,     0.00,2,     2.41,2,   -999.0,9,   -999.0,9,-999.0000,9,  -999.00,     2010
  49UF20170719,KS1706,  5202,  1,     21,  25255,2,20170819,1805, 11.0107, 136.9983, 4899,    704.8,   6.1531,  34.5051,2,  34.5048,2,     95.8,2,    61.69,3,    35.15,2,     0.00,2,     2.50,2,   -999.0,9,   -999.0,9,-999.0000,9,  -999.00,     2007
  49UF20170719,KS1706,  5202,  1,     20,  24270,2,20170819,1805, 11.0107, 136.9983, 4899,    806.8,   5.6771,  34.5167,2,-999.0000,9,     91.2,2,    69.62,2,    36.44,2,     0.00,2,     2.59,2,   -999.0,9,   -999.0,9,-999.0000,9,  -999.00,     2003
  49UF20170719,KS1706,  5202,  1,     19,  25253,2,20170819,1805, 11.0107, 136.9983, 4899,    907.1,   5.0684,  34.5283,2,  34.5283,2,     92.7,2,    80.72,2,    37.11,2,     0.00,2,     2.64,2,   -999.0,9,   -999.0,9,-999.0000,9,  -999.00,     2000
  49UF20170719,KS1706,  5202,  1,     18,  25252,2,20170819,1805, 11.0107, 136.9983, 4899,   1008.9,   4.6192,  34.5302,2,-999.0000,9,     91.3,6,    90.73,2,    37.62,6,     0.00,6,     2.69,6,   -999.0,9,   -999.0,9,-999.0000,9,  -999.00,     1957
  49UF20170719,KS1706,  5202,  1,     17,  25251,2,20170819,1805, 11.0107, 136.9983, 4899,   1211.3,   3.8693,  34.5564,2,  34.5565,2,     92.2,2,   106.00,2,    38.31,2,     0.00,2,     2.74,2,   -999.0,9,   -999.0,9,-999.0000,9,  -999.00,     1952
  49UF20170719,KS1706,  5202,  1,     16,  25250,2,20170819,1805, 11.0107, 136.9983, 4899,   1415.6,   3.2994,  34.5763,2,-999.0000,9,     93.0,2,   119.17,2,    38.96,2,     0.00,2,     2.78,2,   -999.0,9,   -999.0,9,-999.0000,9,  -999.00,     1943
  49UF20170719,KS1706,  5202,  1,     15,  25249,2,20170819,1805, 11.0107, 136.9983, 4899,   1615.3,   2.8657,  34.5958,2,-999.0000,9,     99.4,2,   126.59,2,    38.84,2,     0.00,2,     2.76,2,   -999.0,9,   -999.0,9,-999.0000,9,  -999.00,     1938
  49UF20170719,KS1706,  5202,  1,     14,  25248,2,20170819,1805, 11.0107, 136.9983, 4899,   1819.1,   2.4256,  34.6170,2,-999.0000,9,    108.4,2,   132.77,4,    38.53,2,     0.00,2,     2.72,2,   -999.0,9,   -999.0,9,-999.0000,9,  -999.00,     1931
  49UF20170719,KS1706,  5202,  1,     13,  25247,2,20170819,1805, 11.0107, 136.9983, 4899,   2022.0,   2.1697,  34.6292,2,  34.6289,2,    114.1,2,   139.70,3,    38.25,2,     0.00,2,     2.69,2,   -999.0,9,   -999.0,9,-999.0000,9,  -999.00,     1925
  49UF20170719,KS1706,  5202,  1,     12,  25246,2,20170819,1805, 11.0107, 136.9983, 4899,   2275.6,   1.9020,  34.6475,2,-999.0000,9,    123.8,2,   143.26,3,    37.88,2,     0.00,2,     2.67,2,   -999.0,9,   -999.0,9,-999.0000,9,  -999.00,     1919
  49UF20170719,KS1706,  5202,  1,     11,  25245,2,20170819,1805, 11.0107, 136.9983, 4899,   2529.7,   1.7725,  34.6565,2,  34.6566,2,    129.7,2,   143.91,2,    37.49,2,     0.00,2,     2.62,2,   -999.0,9,   -999.0,9,-999.0000,9,  -999.00,     1914
  49UF20170719,KS1706,  5202,  1,     10,  25244,2,20170819,1805, 11.0107, 136.9983, 4899,   3038.4,   1.5794,  34.6719,2,  34.6714,2,    143.3,6,   144.27,3,    36.66,6,     0.00,6,     2.55,6,   -999.0,9,   -999.0,9,-999.0000,9,  -999.00,     1902
  49UF20170719,KS1706,  5202,  1,      9,  25243,2,20170819,1805, 11.0107, 136.9983, 4899,   3294.3,   1.5500,  34.6754,2,  34.6749,2,    148.2,2,   142.01,4,    36.30,2,     0.00,2,     2.52,2,   -999.0,9,   -999.0,9,-999.0000,9,  -999.00,     1856
  49UF20170719,KS1706,  5202,  1,      8,  25242,2,20170819,1805, 11.0107, 136.9983, 4899,   3549.6,   1.5423,  34.6780,2,-999.0000,9,    151.1,2,   141.93,4,    36.06,2,     0.00,2,     2.51,2,   -999.0,9,   -999.0,9,-999.0000,9,  -999.00,     1849
  49UF20170719,KS1706,  5202,  1,      7,  25241,2,20170819,1805, 11.0107, 136.9983, 4899,   3804.3,   1.5214,  34.6816,2,  34.6811,2,    155.0,2,   141.21,4,    35.85,2,     0.00,2,     2.49,2,   -999.0,9,   -999.0,9,-999.0000,9,  -999.00,     1844
  49UF20170719,KS1706,  5202,  1,      6,  25240,2,20170819,1805, 11.0107, 136.9983, 4899,   3804.4,   1.5214,  34.6816,2,  34.6812,2,    154.7,2,   141.06,3,    35.76,2,     0.00,2,     2.48,2,   -999.0,9,   -999.0,9,-999.0000,9,  -999.00,     1844
  49UF20170719,KS1706,  5202,  1,      5,  25239,2,20170819,1805, 11.0107, 136.9983, 4899,   4062.0,   1.5127,  34.6842,2,  34.6833,2,    157.5,2,   140.29,3,    35.66,2,     0.00,2,     2.47,2,   -999.0,9,   -999.0,9,-999.0000,9,  -999.00,     1837
  49UF20170719,KS1706,  5202,  1,      4,  25238,2,20170819,1805, 11.0107, 136.9983, 4899,   4317.8,   1.5106,  34.6865,2,  34.6864,2,    160.9,2,   138.48,3,    35.37,2,     0.00,2,     2.45,2,   -999.0,9,   -999.0,9,-999.0000,9,  -999.00,     1831
  49UF20170719,KS1706,  5202,  1,      3,  24271,2,20170819,1805, 11.0107, 136.9983, 4899,   4574.1,   1.5327,  34.6871,2,  34.6870,6,    161.5,2,   139.47,3,    35.42,2,     0.00,2,     2.45,2,   -999.0,9,   -999.0,9,-999.0000,9,  -999.00,     1815
  49UF20170719,KS1706,  5202,  1,      2,  25236,2,20170819,1805, 11.0107, 136.9983, 4899,   4831.4,   1.5469,  34.6881,2,  34.6882,2,    163.0,2,   136.81,3,    35.24,2,     0.00,2,     2.44,2,   -999.0,9,   -999.0,9,-999.0000,9,  -999.00,     1810
  49UF20170719,KS1706,  5202,  1,      1,  25235,2,20170819,1805, 11.0107, 136.9983, 4899,   5010.1,   1.5626,  34.6885,2,  34.6881,6,    163.1,6,   138.30,3,    35.25,6,     0.00,6,     2.44,6,   -999.0,9,   -999.0,9,-999.0000,9,  -999.00,     1805
  49UF20170719,KS1706,  5203,  1,     99,     99,2,20170820,0518, 12.0260, 137.0212, 5317,      0.0,  30.4714,  33.9962,2,-999.0000,9,    193.6,2,     1.02,2,     0.02,2,     0.00,2,     0.02,2,   -999.0,9,   -999.0,9,-999.0000,9,  -999.00,      726
  49UF20170719,KS1706,  5203,  1,     36,  25270,2,20170820,0518, 12.0260, 137.0212, 5317,     10.4,  30.4764,  33.9934,2,  33.9909,2,    193.5,2,     1.08,2,     0.05,2,     0.00,2,     0.01,2,   -999.0,9,   -999.0,9,-999.0000,9,  -999.00,      750
  49UF20170719,KS1706,  5203,  1,     35,  25269,2,20170820,0518, 12.0260, 137.0212, 5317,     25.5,  30.4889,  34.1289,2,-999.0000,9,    195.5,2,     1.08,2,     0.05,2,     0.00,2,     0.01,2,   -999.0,9,   -999.0,9,-999.0000,9,  -999.00,      749
  49UF20170719,KS1706,  5203,  1,     34,  25268,2,20170820,0518, 12.0260, 137.0212, 5317,     50.3,  29.9033,  34.3420,2,  34.3396,2,    202.6,6,     1.08,6,     0.05,6,     0.00,6,     0.02,6,   -999.0,9,   -999.0,9,-999.0000,9,  -999.00,      745
  49UF20170719,KS1706,  5203,  1,     33,  25267,2,20170820,0518, 12.0260, 137.0212, 5317,     74.8,  28.7205,  34.5932,2,-999.0000,9,    207.2,2,     1.17,2,     0.03,2,     0.00,2,     0.03,2,   -999.0,9,   -999.0,9,-999.0000,9,  -999.00,      744
  49UF20170719,KS1706,  5203,  1,     32,  25266,2,20170820,0518, 12.0260, 137.0212, 5317,    100.0,  27.1999,  34.7972,2,  34.8064,2,    203.8,2,     1.17,2,     0.06,2,     0.00,2,     0.05,2,   -999.0,9,   -999.0,9,-999.0000,9,  -999.00,      742
  49UF20170719,KS1706,  5203,  1,     31,  25265,2,20170820,0518, 12.0260, 137.0212, 5317,    124.8,  25.8733,  35.0119,2,-999.0000,9,    202.6,2,     1.17,2,     0.05,2,     0.00,2,     0.04,2,   -999.0,9,   -999.0,9,-999.0000,9,  -999.00,      741
  49UF20170719,KS1706,  5203,  1,     30,  25264,2,20170820,0518, 12.0260, 137.0212, 5317,    150.2,  23.6526,  35.1164,2,-999.0000,9,    189.0,6,     1.74,6,     0.73,6,     0.06,6,     0.15,6,   -999.0,9,   -999.0,9,-999.0000,9,  -999.00,      740
  49UF20170719,KS1706,  5203,  1,     29,  25263,2,20170820,0518, 12.0260, 137.0212, 5317,    201.0,  18.3149,  34.7918,2,-999.0000,9,    160.8,2,     7.07,2,     7.81,2,     0.01,2,     0.66,2,   -999.0,9,   -999.0,9,-999.0000,9,  -999.00,      738
  49UF20170719,KS1706,  5203,  1,     28,  25262,2,20170820,0518, 12.0260, 137.0212, 5317,    251.3,  13.4467,  34.4825,2,  34.4837,2,    139.1,2,    17.24,2,    16.79,2,     0.00,2,     1.23,2,   -999.0,9,   -999.0,9,-999.0000,9,  -999.00,      736
  49UF20170719,KS1706,  5203,  1,     27,  25261,2,20170820,0518, 12.0260, 137.0212, 5317,    302.3,  11.6878,  34.4607,2,-999.0000,9,    103.0,2,    25.06,3,    23.45,2,     0.00,2,     1.72,2,   -999.0,9,   -999.0,9,-999.0000,9,  -999.00,      734
  49UF20170719,KS1706,  5203,  1,     26,  25260,2,20170820,0518, 12.0260, 137.0212, 5317,    351.2,   9.8293,  34.3592,2,-999.0000,9,    102.3,2,    33.76,3,    26.68,2,     0.00,2,     1.94,2,   -999.0,9,   -999.0,9,-999.0000,9,  -999.00,      733
  49UF20170719,KS1706,  5203,  1,     25,  25259,2,20170820,0518, 12.0260, 137.0212, 5317,    402.4,   8.7401,  34.3788,2,-999.0000,9,     86.7,2,    43.23,4,    30.25,2,     0.00,2,     2.19,2,   -999.0,9,   -999.0,9,-999.0000,9,  -999.00,      731
  49UF20170719,KS1706,  5203,  1,     24,  25258,2,20170820,0518, 12.0260, 137.0212, 5317,    453.0,   7.9182,  34.3852,2,  34.3850,2,     84.0,2,    49.53,3,    32.10,2,     0.00,2,     2.31,2,   -999.0,9,   -999.0,9,-999.0000,9,  -999.00,      729
  49UF20170719,KS1706,  5203,  1,     23,  25257,2,20170820,0518, 12.0260, 137.0212, 5317,    503.5,   6.9517,  34.3650,2,-999.0000,9,     87.5,2,    60.09,3,    33.36,2,     0.00,2,     2.40,2,   -999.0,9,   -999.0,9,-999.0000,9,  -999.00,      727
  49UF20170719,KS1706,  5203,  1,     22,  25256,2,20170820,0518, 12.0260, 137.0212, 5317,    604.7,   6.2154,  34.3972,2,-999.0000,9,     80.8,2,    68.95,2,    35.45,2,     0.00,2,     2.55,2,   -999.0,9,   -999.0,9,-999.0000,9,  -999.00,      724
  49UF20170719,KS1706,  5203,  1,     21,  25255,2,20170820,0518, 12.0260, 137.0212, 5317,    704.7,   5.3858,  34.4564,2,-999.0000,9,     83.3,2,    79.94,2,    36.69,2,     0.00,2,     2.64,2,   -999.0,9,   -999.0,9,-999.0000,9,  -999.00,      721
  49UF20170719,KS1706,  5203,  1,     20,  24270,2,20170820,0518, 12.0260, 137.0212, 5317,    807.2,   5.0071,  34.5152,2,  34.5139,2,     90.8,2,    82.18,2,    37.17,2,     0.00,2,     2.66,2,   -999.0,9,   -999.0,9,-999.0000,9,  -999.00,      718
  49UF20170719,KS1706,  5203,  1,     19,  25253,2,20170820,0518, 12.0260, 137.0212, 5317,    907.2,   4.7331,  34.5330,2,-999.0000,9,     91.2,2,    87.72,2,    37.57,2,     0.00,2,     2.69,2,   -999.0,9,   -999.0,9,-999.0000,9,  -999.00,      716
  49UF20170719,KS1706,  5203,  1,     18,  25252,2,20170820,0518, 12.0260, 137.0212, 5317,   1008.9,   4.3244,  34.5453,2,-999.0000,9,     91.2,2,    96.18,2,    38.03,2,     0.00,2,     2.71,2,   -999.0,9,   -999.0,9,-999.0000,9,  -999.00,      713
  49UF20170719,KS1706,  5203,  1,     17,  25251,2,20170820,0518, 12.0260, 137.0212, 5317,   1210.1,   3.6559,  34.5624,2,-999.0000,9,     90.3,2,   110.73,3,    38.79,2,     0.00,2,     2.77,2,   -999.0,9,   -999.0,9,-999.0000,9,  -999.00,      701
  49UF20170719,KS1706,  5203,  1,     16,  25250,2,20170820,0518, 12.0260, 137.0212, 5317,   1413.1,   3.1699,  34.5780,2,  34.5772,2,     95.3,6,   121.28,2,    38.80,6,     0.00,6,     2.76,6,   -999.0,9,   -999.0,9,-999.0000,9,  -999.00,      653
  49UF20170719,KS1706,  5203,  1,     15,  25249,2,20170820,0518, 12.0260, 137.0212, 5317,   1615.8,   2.8012,  34.5993,2,-999.0000,9,    100.5,2,   127.87,2,    38.86,2,     0.00,2,     2.75,2,   -999.0,9,   -999.0,9,-999.0000,9,  -999.00,      648
  49UF20170719,KS1706,  5203,  1,     14,  25248,2,20170820,0518, 12.0260, 137.0212, 5317,   1819.3,   2.4460,  34.6184,2,-999.0000,9,    108.0,2,   133.84,2,    38.59,2,     0.00,2,     2.73,2,   -999.0,9,   -999.0,9,-999.0000,9,  -999.00,      643
  49UF20170719,KS1706,  5203,  1,     13,  25247,2,20170820,0518, 12.0260, 137.0212, 5317,   2023.1,   2.1666,  34.6336,2,-999.0000,9,    115.4,2,   141.16,3,    38.28,2,     0.00,2,     2.69,2,   -999.0,9,   -999.0,9,-999.0000,9,  -999.00,      639
  49UF20170719,KS1706,  5203,  1,     12,  25246,3,20170820,0518, 12.0260, 137.0212, 5317,   2276.5,   1.9824,  34.6438,2,  34.6435,6,    121.1,2,   140.84,2,    37.89,2,     0.00,2,     2.66,2,   -999.0,9,   -999.0,9,-999.0000,9,  -999.00,      633
  49UF20170719,KS1706,  5203,  1,     11,  25245,2,20170820,0518, 12.0260, 137.0212, 5317,   2530.3,   1.8101,  34.6541,2,  34.6539,2,    127.9,2,   143.18,2,    37.57,2,     0.00,2,     2.63,2,   -999.0,9,   -999.0,9,-999.0000,9,  -999.00,      627
  49UF20170719,KS1706,  5203,  1,     10,  25244,2,20170820,0518, 12.0260, 137.0212, 5317,   3039.8,   1.6231,  34.6687,2,-999.0000,9,    141.2,2,   142.62,3,    36.71,2,     0.00,2,     2.56,2,   -999.0,9,   -999.0,9,-999.0000,9,  -999.00,      615
  49UF20170719,KS1706,  5203,  1,      9,  25243,2,20170820,0518, 12.0260, 137.0212, 5317,   3295.2,   1.5786,  34.6735,2,  34.6728,2,    145.7,2,   142.44,2,    36.42,2,     0.00,2,     2.54,2,   -999.0,9,   -999.0,9,-999.0000,9,  -999.00,      610
  49UF20170719,KS1706,  5203,  1,      8,  25242,2,20170820,0518, 12.0260, 137.0212, 5317,   3550.9,   1.5525,  34.6772,2,  34.6770,2,    149.7,2,   141.22,2,    36.15,2,     0.00,2,     2.52,2,   -999.0,9,   -999.0,9,-999.0000,9,  -999.00,      603
  49UF20170719,KS1706,  5203,  1,      7,  25241,2,20170820,0518, 12.0260, 137.0212, 5317,   4062.7,   1.5100,  34.6844,2,  34.6840,2,    157.5,2,   140.58,2,    35.66,2,     0.00,2,     2.47,2,   -999.0,9,   -999.0,9,-999.0000,9,  -999.00,      551
  49UF20170719,KS1706,  5203,  1,      6,  25240,2,20170820,0518, 12.0260, 137.0212, 5317,   4318.5,   1.5089,  34.6864,2,-999.0000,9,    160.4,2,   139.09,2,    35.45,2,     0.00,2,     2.46,2,   -999.0,9,   -999.0,9,-999.0000,9,  -999.00,      546
  49UF20170719,KS1706,  5203,  1,      5,  25239,2,20170820,0518, 12.0260, 137.0212, 5317,   4574.4,   1.4966,  34.6895,2,  34.6893,6,    164.5,2,   139.27,3,    35.25,2,     0.00,2,     2.43,2,   -999.0,9,   -999.0,9,-999.0000,9,  -999.00,      539
  49UF20170719,KS1706,  5203,  1,      4,  25238,2,20170820,0518, 12.0260, 137.0212, 5317,   4831.8,   1.5211,  34.6899,2,  34.6897,2,    164.7,2,   138.18,3,    35.15,2,     0.00,2,     2.43,2,   -999.0,9,   -999.0,9,-999.0000,9,  -999.00,      533
  49UF20170719,KS1706,  5203,  1,      3,  24271,2,20170820,0518, 12.0260, 137.0212, 5317,   5089.2,   1.5533,  34.6899,2,  34.6901,2,    165.0,2,   136.70,3,    35.12,2,     0.00,2,     2.43,2,   -999.0,9,   -999.0,9,-999.0000,9,  -999.00,      526
  49UF20170719,KS1706,  5203,  1,      2,  25236,2,20170820,0518, 12.0260, 137.0212, 5317,   5346.3,   1.5853,  34.6900,2,  34.6898,2,    165.0,6,   137.35,3,    35.14,6,     0.00,6,     2.43,6,   -999.0,9,   -999.0,9,-999.0000,9,  -999.00,      521
  49UF20170719,KS1706,  5203,  1,      1,  25235,2,20170820,0518, 12.0260, 137.0212, 5317,   5420.9,   1.5952,  34.6899,2,  34.6899,2,    165.2,2,   138.74,3,    35.13,2,     0.00,2,     2.43,2,   -999.0,9,   -999.0,9,-999.0000,9,  -999.00,      518