BOTTLE,20200103PRINUNIVRMK
EXPOCODE,SECT_ID,STNNBR,CASTNO,SAMPNO,BTLNBR,BTLNBR_FLAG_W,DATE,TIME,LATITUDE,LONGITUDE,DEPTH,CTDPRS,CTDTMP,CTDSAL,CTDSAL_FLAG_W,SALNTY,SALNTY_FLAG_W,OXYGEN,OXYGEN_FLAG_W,SILCAT,SILCAT_FLAG_W,NITRAT,NITRAT_FLAG_W,NITRIT,NITRIT_FLAG_W,PHSPHT,PHSPHT_FLAG_W,TCARBN,TCARBN_FLAG_W,ALKALI,ALKALI_FLAG_W,PH_TOT,PH_TOT_FLAG_W,PH_TMP,BTL_TIME
,,,,,,,,,,,METERS,DBAR,ITS-90,PSS-78,,PSS-78,,UMOL/KG,,UMOL/KG,,UMOL/KG,,UMOL/KG,,UMOL/KG,,UMOL/KG,,UMOL/KG,,,,DEG C,
  49UF20170719,KS1706,  5220,  1,     99,     99,2,20170827,0944, 28.9917, 136.9878, 4553,      0.0,  30.5065,  34.5194,2,-999.0000,9,    194.4,2,     1.43,2,     0.00,2,     0.00,2,     0.02,2,   -999.0,9,   -999.0,9,-999.0000,9,  -999.00,     1030
  49UF20170719,KS1706,  5220,  1,     36,  25270,2,20170827,0944, 28.9917, 136.9878, 4553,     11.2,  30.0469,  34.5575,2,-999.0000,9,    195.3,6,     1.37,6,     0.00,6,     0.00,6,     0.01,6,   -999.0,9,   -999.0,9,-999.0000,9,  -999.00,     1052
  49UF20170719,KS1706,  5220,  1,     35,  25269,2,20170827,0944, 28.9917, 136.9878, 4553,     26.6,  27.9001,  34.5207,2,-999.0000,9,    207.6,2,     1.57,2,     0.00,2,     0.00,2,     0.01,2,   -999.0,9,   -999.0,9,-999.0000,9,  -999.00,     1051
  49UF20170719,KS1706,  5220,  1,     34,  25268,2,20170827,0944, 28.9917, 136.9878, 4553,     26.6,  27.8997,  34.5193,2,-999.0000,9,    207.9,2,     1.57,2,     0.00,2,     0.00,2,     0.01,2,   -999.0,9,   -999.0,9,-999.0000,9,  -999.00,     1051
  49UF20170719,KS1706,  5220,  1,     30,  25264,2,20170827,0944, 28.9917, 136.9878, 4553,     50.9,  25.0047,  34.7676,2,-999.0000,9,    218.0,2,     1.75,2,     0.00,2,     0.00,2,     0.01,2,   -999.0,9,   -999.0,9,-999.0000,9,  -999.00,     1048
  49UF20170719,KS1706,  5220,  1,     29,  25263,2,20170827,0944, 28.9917, 136.9878, 4553,     77.7,  23.5624,  34.9239,2,-999.0000,9,    219.3,2,     1.45,2,     0.00,2,     0.00,2,     0.01,2,   -999.0,9,   -999.0,9,-999.0000,9,  -999.00,     1046
  49UF20170719,KS1706,  5220,  1,     28,  25262,2,20170827,0944, 28.9917, 136.9878, 4553,    100.8,  22.2417,  34.9733,2,-999.0000,9,    211.1,2,     1.90,2,     0.01,2,     0.16,2,     0.05,2,   -999.0,9,   -999.0,9,-999.0000,9,  -999.00,     1045
  49UF20170719,KS1706,  5220,  1,     27,  25261,2,20170827,0944, 28.9917, 136.9878, 4553,    126.2,  21.2555,  34.9888,2,-999.0000,9,    206.6,2,     2.16,2,     0.98,2,     0.07,2,     0.10,2,   -999.0,9,   -999.0,9,-999.0000,9,  -999.00,     1043
  49UF20170719,KS1706,  5220,  1,     26,  25260,3,20170827,0944, 28.9917, 136.9878, 4553,    151.9,  20.6388,  34.9765,2,-999.0000,9,    204.1,2,     2.34,2,     1.55,2,     0.03,2,     0.13,2,   -999.0,9,   -999.0,9,-999.0000,9,  -999.00,     1042
  49UF20170719,KS1706,  5220,  1,     25,  25259,2,20170827,0944, 28.9917, 136.9878, 4553,    201.8,  19.1589,  34.8877,2,-999.0000,9,    198.0,2,     3.56,2,     3.37,2,     0.01,2,     0.24,2,   -999.0,9,   -999.0,9,-999.0000,9,  -999.00,     1040
  49UF20170719,KS1706,  5220,  1,     21,  25255,2,20170827,0944, 28.9917, 136.9878, 4553,    252.9,  18.4426,  34.8710,2,-999.0000,9,    207.4,2,     3.08,2,     3.03,2,     0.01,2,     0.21,2,   -999.0,9,   -999.0,9,-999.0000,9,  -999.00,     1038
  49UF20170719,KS1706,  5220,  1,     20,  24270,2,20170827,0944, 28.9917, 136.9878, 4553,    304.4,  17.8046,  34.8154,2,-999.0000,9,    205.3,2,     3.83,2,     4.07,2,     0.01,2,     0.28,2,   -999.0,9,   -999.0,9,-999.0000,9,  -999.00,     1036
  49UF20170719,KS1706,  5220,  1,     19,  25253,2,20170827,0944, 28.9917, 136.9878, 4553,    405.7,  15.7769,  34.6245,2,-999.0000,9,    194.2,2,     7.97,6,     8.05,6,     0.00,6,     0.54,6,   -999.0,9,   -999.0,9,-999.0000,9,  -999.00,     1033
  49UF20170719,KS1706,  5220,  1,     18,  25252,2,20170827,0944, 28.9917, 136.9878, 4553,    506.0,  13.4182,  34.4558,2,-999.0000,9,    177.3,2,    17.11,6,    13.42,6,     0.00,6,     0.94,6,   -999.0,9,   -999.0,9,-999.0000,9,  -999.00,     1030
  49UF20170719,KS1706,  5220,  1,     17,  25251,2,20170827,0944, 28.9917, 136.9878, 4553,    605.6,  10.8530,  34.2972,2,-999.0000,9,    163.0,2,    29.37,6,    19.10,6,     0.00,6,     1.35,6,   -999.0,9,   -999.0,9,-999.0000,9,  -999.00,     1027
  49UF20170719,KS1706,  5220,  1,     16,  25250,2,20170827,0944, 28.9917, 136.9878, 4553,    705.3,   8.0487,  34.2279,2,-999.0000,9,    125.0,2,    54.49,2,    27.42,2,     0.00,2,     1.97,2,   -999.0,9,   -999.0,9,-999.0000,9,  -999.00,     1023
  49UF20170719,KS1706,  5220,  1,     11,  25245,2,20170827,0944, 28.9917, 136.9878, 4553,    807.1,   6.4587,  34.2157,2,-999.0000,9,    100.0,2,    71.77,2,    32.39,2,     0.00,2,     2.33,2,   -999.0,9,   -999.0,9,-999.0000,9,  -999.00,     1019
  49UF20170719,KS1706,  5220,  1,     12,  25246,2,20170827,0944, 28.9917, 136.9878, 4553,    807.3,   6.4528,  34.2156,2,-999.0000,9,     99.9,2,    71.49,2,    32.44,2,     0.00,2,     2.33,2,   -999.0,9,   -999.0,9,-999.0000,9,  -999.00,     1019
  49UF20170719,KS1706,  5220,  1,     10,  25244,2,20170827,0944, 28.9917, 136.9878, 4553,    907.7,   5.0022,  34.2573,2,-999.0000,9,     75.6,2,    94.28,2,    37.04,2,     0.00,2,     2.66,2,   -999.0,9,   -999.0,9,-999.0000,9,  -999.00,     1016
  49UF20170719,KS1706,  5220,  1,      9,  25243,2,20170827,0944, 28.9917, 136.9878, 4553,   1008.4,   4.0790,  34.3304,2,-999.0000,9,     61.1,2,   112.32,2,    39.41,2,     0.00,2,     2.83,2,   -999.0,9,   -999.0,9,-999.0000,9,  -999.00,     1014
  49UF20170719,KS1706,  5220,  1,      8,  25242,2,20170827,0944, 28.9917, 136.9878, 4553,   1209.6,   3.2185,  34.4127,2,-999.0000,9,     54.1,6,   131.51,6,    41.23,6,     0.00,6,     2.94,6,   -999.0,9,   -999.0,9,-999.0000,9,  -999.00,     1007
  49UF20170719,KS1706,  5220,  1,      7,  25241,2,20170827,0944, 28.9917, 136.9878, 4553,   1419.0,   2.7019,  34.4911,2,-999.0000,9,     64.8,2,   141.44,2,    41.07,2,     0.00,2,     2.91,2,   -999.0,9,   -999.0,9,-999.0000,9,  -999.00,     1000
  49UF20170719,KS1706,  5220,  1,      3,  24271,2,20170827,0944, 28.9917, 136.9878, 4553,   1618.4,   2.3973,  34.5386,2,-999.0000,9,     77.8,2,   145.31,2,    40.35,2,     0.00,2,     2.86,2,   -999.0,9,   -999.0,9,-999.0000,9,  -999.00,      955
  49UF20170719,KS1706,  5220,  1,      2,  25236,2,20170827,0944, 28.9917, 136.9878, 4553,   1821.6,   2.1596,  34.5757,2,-999.0000,9,     92.5,2,   146.51,2,    39.59,2,     0.00,2,     2.79,2,   -999.0,9,   -999.0,9,-999.0000,9,  -999.00,      950
  49UF20170719,KS1706,  5220,  1,      1,  25235,2,20170827,0944, 28.9917, 136.9878, 4553,   2025.5,   1.9650,  34.6059,2,-999.0000,9,    107.1,2,   146.27,2,    38.74,2,     0.00,2,     2.74,2,   -999.0,9,   -999.0,9,-999.0000,9,  -999.00,      944
  49UF20170719,KS1706,  5221,  1,     99,     99,2,20170827,1827, 29.9987, 136.9957, 4517,      0.0,  29.5318,  34.7063,2,  34.7032,2,    195.1,2,     1.31,2,     0.00,2,     0.00,2,     0.02,2,   1965.5,2,   2280.3,2,   8.0898,2,    25.00,     2018
  49UF20170719,KS1706,  5221,  1,     36,  25270,2,20170827,1827, 29.9987, 136.9957, 4517,     10.8,  29.5312,  34.7067,2,  34.7045,2,    195.5,2,     1.31,2,     0.00,2,     0.00,2,     0.01,2,   1963.9,2,   2280.2,2,   8.0880,2,    25.00,     2040
  49UF20170719,KS1706,  5221,  1,     35,  25269,2,20170827,1827, 29.9987, 136.9957, 4517,     25.8,  29.0389,  34.7178,2,-999.0000,9,    198.8,2,     1.31,2,     0.00,2,     0.00,2,     0.01,2,   1964.5,2,   2281.6,2,   8.0899,2,    25.00,     2039
  49UF20170719,KS1706,  5221,  1,     34,  25268,2,20170827,1827, 29.9987, 136.9957, 4517,     50.4,  25.4649,  34.7976,2,-999.0000,9,    214.6,2,     1.40,2,     0.00,2,     0.00,2,     0.01,2,   1976.0,2,   2285.6,2,   8.0780,2,    25.00,     2036
  49UF20170719,KS1706,  5221,  1,     32,  25266,2,20170827,1827, 29.9987, 136.9957, 4517,     74.1,  23.7464,  34.9034,2,  34.9151,2,    219.1,2,     1.49,2,     0.00,2,     0.00,2,     0.01,2,   1989.5,2,   2295.0,2,   8.0653,2,    25.00,     2034
  49UF20170719,KS1706,  5221,  1,     31,  25265,2,20170827,1827, 29.9987, 136.9957, 4517,     74.1,  23.7858,  34.8965,2,  34.9220,4,    219.3,2,     1.49,2,     0.00,2,     0.00,2,     0.01,2,   1989.6,2,   2294.9,2,   8.0653,2,    25.00,     2034
  49UF20170719,KS1706,  5221,  1,     30,  25264,2,20170827,1827, 29.9987, 136.9957, 4517,    102.8,  21.6848,  35.0449,2,  35.0528,2,    214.5,2,     1.58,2,     0.00,2,     0.00,2,     0.02,2,   2009.5,2,   2303.9,2,   8.0408,2,    25.00,     2033
  49UF20170719,KS1706,  5221,  1,     29,  25263,2,20170827,1827, 29.9987, 136.9957, 4517,    128.2,  21.0123,  35.0066,2,-999.0000,9,    210.4,2,     1.83,2,     0.28,2,     0.13,2,     0.06,2,   2017.3,2,   2299.4,2,   8.0251,2,    25.00,     2031
  49UF20170719,KS1706,  5221,  1,     28,  25262,2,20170827,1827, 29.9987, 136.9957, 4517,    155.2,  20.4569,  34.9920,2,  34.9884,2,    206.2,2,     2.05,2,     1.14,2,     0.08,2,     0.10,2,   2022.5,2,   2297.9,2,   8.0097,2,    25.00,     2030
  49UF20170719,KS1706,  5221,  1,     27,  25261,2,20170827,1827, 29.9987, 136.9957, 4517,    205.0,  19.4322,  34.9429,2,-999.0000,9,    207.8,6,     2.36,6,     1.97,6,     0.02,6,     0.15,6,   2025.2,2,   2294.5,2,   7.9943,2,    25.00,     2028
  49UF20170719,KS1706,  5221,  1,     26,  25260,2,20170827,1827, 29.9987, 136.9957, 4517,    253.9,  18.5885,  34.8730,2,  34.8724,2,    205.1,2,     3.05,2,     3.13,2,     0.01,2,     0.22,2,   2037.6,2,   2289.8,2,   7.9759,2,    25.00,     2026
  49UF20170719,KS1706,  5221,  1,     25,  25259,2,20170827,1827, 29.9987, 136.9957, 4517,    302.6,  18.1577,  34.8749,2,-999.0000,9,    213.2,2,     3.08,2,     2.95,2,     0.01,2,     0.20,2,   2030.8,2,   2288.6,2,   7.9814,2,    25.00,     2025
  49UF20170719,KS1706,  5221,  1,     24,  25258,2,20170827,1827, 29.9987, 136.9957, 4517,    404.4,  16.6352,  34.6952,2,  34.7030,2,    196.8,2,     5.95,2,     6.45,2,     0.00,2,     0.42,2,   2056.0,2,   2279.2,2,   7.9217,2,    25.00,     2022
  49UF20170719,KS1706,  5221,  1,     23,  25257,3,20170827,1827, 29.9987, 136.9957, 4517,    504.6,  14.3756,  34.5102,2,-999.0000,9,    186.7,2,    11.99,2,    11.01,2,     0.00,2,     0.75,2,   2087.3,6,   2276.0,6,   7.8470,2,    25.00,     2019
  49UF20170719,KS1706,  5221,  1,     22,  25256,2,20170827,1827, 29.9987, 136.9957, 4517,    602.9,  11.9547,  34.3496,2,  34.3476,2,    170.5,2,    22.54,2,    16.63,2,     0.00,2,     1.16,2,   2126.9,2,   2276.4,2,   7.7595,6,    25.00,     2016
  49UF20170719,KS1706,  5221,  1,     21,  25255,2,20170827,1827, 29.9987, 136.9957, 4517,    708.0,   9.1643,  34.2201,2,-999.0000,9,    145.6,2,    40.20,2,    23.48,2,     0.00,2,     1.67,2,   2178.5,2,   2284.9,2,   7.6518,2,    25.00,     2013
  49UF20170719,KS1706,  5221,  1,     20,  24270,2,20170827,1827, 29.9987, 136.9957, 4517,    807.0,   6.6738,  34.1374,2,  34.1403,4,    117.1,2,    64.29,2,    30.55,2,     0.00,2,     2.19,2,   2235.6,2,   2303.2,2,   7.5363,2,    25.00,     2009
  49UF20170719,KS1706,  5221,  1,     19,  25253,2,20170827,1827, 29.9987, 136.9957, 4517,    908.1,   5.7767,  34.2433,2,-999.0000,9,     88.2,6,    82.74,6,    34.68,6,     0.00,6,     2.49,6,   2280.0,2,   2324.0,2,   7.4816,2,    25.00,     2006
  49UF20170719,KS1706,  5221,  1,     18,  25252,2,20170827,1827, 29.9987, 136.9957, 4517,   1012.2,   4.7971,  34.2888,2,  34.2858,4,     71.9,2,    98.65,2,    37.71,2,     0.00,2,     2.70,2,   2302.7,2,   2339.9,2,   7.4412,2,    25.00,     2004
  49UF20170719,KS1706,  5221,  1,     17,  25251,2,20170827,1827, 29.9987, 136.9957, 4517,   1211.8,   3.5649,  34.3858,2,  34.3868,6,     58.0,2,   123.66,2,    40.53,2,     0.00,2,     2.89,2,   2338.9,2,   2368.1,2,   7.4089,2,    25.00,     1957
  49UF20170719,KS1706,  5221,  1,     16,  25250,2,20170827,1827, 29.9987, 136.9957, 4517,   1414.6,   2.9306,  34.4653,2,-999.0000,9,     62.7,2,   136.88,2,    40.90,2,     0.00,2,     2.91,2,   2349.9,2,   2386.2,2,   7.4198,2,    25.00,     1950
  49UF20170719,KS1706,  5221,  1,     15,  25249,4,20170827,1827, 29.9987, 136.9957, 4517,   1616.7,   2.5483,  34.5223,2,-999.0000,9,     62.7,4,   137.00,4,    40.94,4,     0.00,4,     2.91,4,   2355.7,4,   2385.6,4,   7.4153,4,    25.00,     1945
  49UF20170719,KS1706,  5221,  1,     14,  25248,2,20170827,1827, 29.9987, 136.9957, 4517,   1820.1,   2.2738,  34.5610,2,  34.5618,2,     88.5,2,   145.28,2,    39.74,2,     0.00,2,     2.80,2,   2355.3,2,   2402.2,2,   7.4677,2,    25.00,     1940
  49UF20170719,KS1706,  5221,  1,     13,  25247,2,20170827,1827, 29.9987, 136.9957, 4517,   2023.8,   2.0617,  34.5929,2,  34.5949,2,    102.5,2,   145.48,2,    38.93,2,     0.00,2,     2.74,2,   2346.5,6,   2405.2,6,   7.4935,2,    25.00,     1934
  49UF20170719,KS1706,  5221,  1,     12,  25246,2,20170827,1827, 29.9987, 136.9957, 4517,   2279.9,   1.8536,  34.6240,2,-999.0000,9,    117.3,2,   145.61,2,    38.15,2,     0.00,2,     2.67,2,   2339.2,2,   2408.7,2,   7.5219,6,    25.00,     1928
  49UF20170719,KS1706,  5221,  1,     11,  25245,2,20170827,1827, 29.9987, 136.9957, 4517,   2530.9,   1.7435,  34.6412,2,  34.6428,2,    126.8,2,   145.02,2,    37.61,2,     0.00,2,     2.63,2,   2336.8,2,   2412.9,2,   7.5390,2,    25.00,     1922
  49UF20170719,KS1706,  5221,  1,     10,  25244,2,20170827,1827, 29.9987, 136.9957, 4517,   2531.6,   1.7439,  34.6411,2,  34.6417,2,    127.0,2,   144.71,2,    37.64,2,     0.00,2,     2.63,2,   2342.1,2,   2413.7,2,   7.5395,2,    25.00,     1921
  49UF20170719,KS1706,  5221,  1,      9,  25243,2,20170827,1827, 29.9987, 136.9957, 4517,   2790.2,   1.6486,  34.6561,2,  34.6560,2,    136.2,2,   143.73,2,    37.00,2,     0.00,2,     2.58,2,   2332.0,2,   2414.5,2,   7.5554,2,    25.00,     1914
  49UF20170719,KS1706,  5221,  1,      8,  25242,2,20170827,1827, 29.9987, 136.9957, 4517,   3044.5,   1.5951,  34.6651,2,  34.6648,2,    142.5,2,   142.73,2,    36.58,2,     0.00,2,     2.55,2,   2326.6,2,   2413.8,2,   7.5676,2,    25.00,     1908
  49UF20170719,KS1706,  5221,  1,      7,  25241,2,20170827,1827, 29.9987, 136.9957, 4517,   3299.2,   1.5475,  34.6730,2,  34.6755,4,    147.8,2,   142.38,2,    36.26,2,     0.00,2,     2.52,2,   2327.7,2,   2413.6,2,   7.5765,2,    25.00,     1902
  49UF20170719,KS1706,  5221,  1,      6,  25240,2,20170827,1827, 29.9987, 136.9957, 4517,   3555.1,   1.5318,  34.6775,2,  34.6775,2,    151.0,2,   141.57,2,    36.06,2,     0.00,2,     2.50,2,   2326.9,2,   2414.9,2,   7.5823,2,    25.00,     1855
  49UF20170719,KS1706,  5221,  1,      5,  25239,3,20170827,1827, 29.9987, 136.9957, 4517,   3812.7,   1.5364,  34.6799,2,  34.6810,2,    152.7,2,   141.72,2,    35.94,2,     0.00,2,     2.49,2,   2324.6,6,   2415.5,6,   7.5838,2,    25.00,     1847
  49UF20170719,KS1706,  5221,  1,      4,  25238,2,20170827,1827, 29.9987, 136.9957, 4517,   4067.9,   1.5525,  34.6813,2,  34.6809,2,    153.9,2,   141.25,2,    35.90,2,     0.00,2,     2.49,2,   2325.5,2,   2415.3,2,   7.5863,6,    25.00,     1841
  49UF20170719,KS1706,  5221,  1,      3,  24271,2,20170827,1827, 29.9987, 136.9957, 4517,   4322.5,   1.5729,  34.6821,2,  34.6825,2,    154.4,6,   141.29,6,    35.91,6,     0.00,6,     2.49,6,   2321.2,2,   2414.4,2,   7.5864,2,    25.00,     1834
  49UF20170719,KS1706,  5221,  1,      2,  25236,2,20170827,1827, 29.9987, 136.9957, 4517,   4585.2,   1.5960,  34.6829,2,  34.6835,2,    155.5,2,   141.38,2,    35.84,2,     0.00,2,     2.48,2,   2321.4,2,   2415.5,2,   7.5876,2,    25.00,     1827
  49UF20170719,KS1706,  5221,  1,      1,  25235,2,20170827,1827, 29.9987, 136.9957, 4517,   4585.5,   1.5960,  34.6828,2,  34.6822,2,    155.0,2,   140.76,2,    35.88,2,     0.00,2,     2.48,2,   2320.5,2,   2413.8,2,   7.5886,2,    25.00,     1827