BOTTLE,20200103PRINUNIVRMK
EXPOCODE,SECT_ID,STNNBR,CASTNO,SAMPNO,BTLNBR,BTLNBR_FLAG_W,DATE,TIME,LATITUDE,LONGITUDE,DEPTH,CTDPRS,CTDTMP,CTDSAL,CTDSAL_FLAG_W,SALNTY,SALNTY_FLAG_W,OXYGEN,OXYGEN_FLAG_W,SILCAT,SILCAT_FLAG_W,NITRAT,NITRAT_FLAG_W,NITRIT,NITRIT_FLAG_W,PHSPHT,PHSPHT_FLAG_W,TCARBN,TCARBN_FLAG_W,ALKALI,ALKALI_FLAG_W,PH_TOT,PH_TOT_FLAG_W,PH_TMP,BTL_TIME
,,,,,,,,,,,METERS,DBAR,ITS-90,PSS-78,,PSS-78,,UMOL/KG,,UMOL/KG,,UMOL/KG,,UMOL/KG,,UMOL/KG,,UMOL/KG,,UMOL/KG,,,,DEG C,
  49UF20170719,KS1706,  5206,  1,     99,     99,2,20170821,1741, 15.0310, 137.0040, 5421,      0.0,  30.6467,  34.3550,2,  34.3532,2,    192.1,2,     1.08,2,     0.04,2,     0.00,2,     0.02,2,   1922.4,2,   2257.0,2,   8.1272,2,    25.00,     1951
  49UF20170719,KS1706,  5206,  1,     36,  25270,2,20170821,1741, 15.0310, 137.0040, 5421,     10.5,  30.6513,  34.3548,2,  34.3517,2,    191.9,2,     1.05,2,     0.04,2,     0.00,2,     0.01,2,   1925.5,2,   2257.1,2,   8.1284,2,    25.00,     2016
  49UF20170719,KS1706,  5206,  1,     35,  25269,2,20170821,1741, 15.0310, 137.0040, 5421,     25.9,  30.6564,  34.3568,2,-999.0000,9,    192.0,2,     1.03,2,     0.07,2,     0.00,2,     0.01,2,   1923.0,2,   2256.1,2,   8.1267,2,    25.00,     2016
  49UF20170719,KS1706,  5206,  1,     34,  25268,2,20170821,1741, 15.0310, 137.0040, 5421,     49.8,  30.3295,  34.5491,2,-999.0000,9,    198.6,2,     1.03,2,     0.05,2,     0.00,2,     0.01,2,   1935.5,2,   2269.7,2,   8.1204,2,    25.00,     2012
  49UF20170719,KS1706,  5206,  1,     33,  25267,2,20170821,1741, 15.0310, 137.0040, 5421,     77.3,  27.7597,  34.8513,2,  34.8440,2,    212.9,2,     1.03,2,     0.05,2,     0.00,2,     0.02,2,   1959.7,2,   2290.5,2,   8.1111,2,    25.00,     2011
  49UF20170719,KS1706,  5206,  1,     32,  25266,2,20170821,1741, 15.0310, 137.0040, 5421,    104.4,  26.4328,  34.9963,2,-999.0000,9,    210.8,2,     1.07,2,     0.05,2,     0.00,2,     0.02,2,   1973.1,2,   2298.9,2,   8.0963,2,    25.00,     2009
  49UF20170719,KS1706,  5206,  1,     31,  25265,2,20170821,1741, 15.0310, 137.0040, 5421,    124.7,  24.7399,  35.1055,2,-999.0000,9,    198.0,2,     1.29,2,     0.04,2,     0.01,2,     0.06,2,   2005.0,2,   2308.0,2,   8.0585,2,    25.00,     2008
  49UF20170719,KS1706,  5206,  1,     30,  25264,2,20170821,1741, 15.0310, 137.0040, 5421,    153.6,  21.4878,  35.0740,2,-999.0000,9,    179.7,2,     2.84,2,     2.16,2,     0.02,2,     0.29,2,   2057.1,2,   2306.6,2,   7.9678,2,    25.00,     2007
  49UF20170719,KS1706,  5206,  1,     29,  25263,2,20170821,1741, 15.0310, 137.0040, 5421,    202.1,  18.2669,  34.8386,2,  34.8379,2,    197.2,6,     3.37,6,     4.08,6,     0.01,6,     0.28,6,   2049.0,2,   2287.2,2,   7.9497,2,    25.00,     2005
  49UF20170719,KS1706,  5206,  1,     28,  25262,2,20170821,1741, 15.0310, 137.0040, 5421,    250.8,  16.4173,  34.6797,2,-999.0000,9,    197.2,2,     5.66,2,     6.56,2,     0.01,2,     0.45,2,   2061.1,2,   2278.2,2,   7.9089,2,    25.00,     2003
  49UF20170719,KS1706,  5206,  1,     27,  25261,2,20170821,1741, 15.0310, 137.0040, 5421,    304.0,  14.3485,  34.4929,2,-999.0000,9,    190.0,2,     9.79,2,    10.13,2,     0.00,2,     0.70,2,   2084.6,2,   2273.2,2,   7.8497,2,    25.00,     2001
  49UF20170719,KS1706,  5206,  1,     26,  25260,2,20170821,1741, 15.0310, 137.0040, 5421,    351.8,  11.7214,  34.3081,2,-999.0000,9,    165.2,2,    19.33,2,    16.85,2,     0.00,2,     1.21,2,   2132.6,2,   2271.3,2,   7.7372,2,    25.00,     1959
  49UF20170719,KS1706,  5206,  1,     25,  25259,2,20170821,1741, 15.0310, 137.0040, 5421,    404.4,   9.8647,  34.2855,2,  34.2880,2,    118.3,6,    31.84,6,    24.71,6,     0.00,6,     1.80,6,   2192.3,2,   2279.3,2,   7.6133,2,    25.00,     1957
  49UF20170719,KS1706,  5206,  1,     24,  25258,2,20170821,1741, 15.0310, 137.0040, 5421,    453.7,   8.8357,  34.3660,2,-999.0000,9,     89.8,2,    41.36,2,    29.77,2,     0.00,2,     2.15,2,   2226.6,2,   2294.1,2,   7.5462,2,    25.00,     1955
  49UF20170719,KS1706,  5206,  1,     23,  25257,2,20170821,1741, 15.0310, 137.0040, 5421,    503.9,   7.8222,  34.3699,2,-999.0000,9,     80.1,2,    50.07,2,    32.46,2,     0.00,2,     2.34,2,   2244.4,2,   2304.3,2,   7.5106,2,    25.00,     1954
  49UF20170719,KS1706,  5206,  1,     22,  25256,2,20170821,1741, 15.0310, 137.0040, 5421,    603.7,   6.5791,  34.3985,2,-999.0000,9,     73.4,2,    64.43,2,    35.63,2,     0.00,2,     2.56,2,   2272.9,2,   2318.9,2,   7.4829,2,    25.00,     1951
  49UF20170719,KS1706,  5206,  1,     21,  25255,2,20170821,1741, 15.0310, 137.0040, 5421,    706.4,   5.5726,  34.4427,2,  34.4418,2,     72.4,2,    78.20,2,    37.40,2,     0.00,2,     2.69,2,   2290.6,2,   2335.0,2,   7.4736,2,    25.00,     1948
  49UF20170719,KS1706,  5206,  1,     20,  24270,2,20170821,1741, 15.0310, 137.0040, 5421,    806.3,   5.1289,  34.4797,2,-999.0000,9,     75.2,2,    84.94,2,    38.05,2,     0.00,2,     2.73,2,   2299.5,2,   2347.4,2,   7.4768,2,    25.00,     1944
  49UF20170719,KS1706,  5206,  1,     19,  25253,2,20170821,1741, 15.0310, 137.0040, 5421,    909.2,   4.6726,  34.5099,2,-999.0000,9,     80.0,2,    92.54,2,    38.41,2,     0.00,2,     2.74,2,   2306.1,6,   2356.8,6,   7.4852,2,    25.00,     1941
  49UF20170719,KS1706,  5206,  1,     18,  25252,2,20170821,1741, 15.0310, 137.0040, 5421,   1009.6,   4.3022,  34.5322,2,-999.0000,9,     85.7,2,    99.01,3,    38.44,2,     0.00,2,     2.74,2,   2312.3,2,   2365.0,2,   7.4917,6,    25.00,     1938
  49UF20170719,KS1706,  5206,  1,     17,  25251,2,20170821,1741, 15.0310, 137.0040, 5421,   1210.5,   3.6411,  34.5496,2,  34.5491,2,     89.3,2,   113.02,2,    38.70,2,     0.00,2,     2.75,2,   2325.5,2,   2379.5,2,   7.4948,2,    25.00,     1933
  49UF20170719,KS1706,  5206,  1,     16,  25250,2,20170821,1741, 15.0310, 137.0040, 5421,   1413.1,   3.1442,  34.5703,2,-999.0000,9,     96.2,2,   123.19,2,    38.61,2,     0.00,2,     2.74,2,   2331.4,2,   2390.7,2,   7.5029,2,    25.00,     1924
  49UF20170719,KS1706,  5206,  1,     15,  25249,2,20170821,1741, 15.0310, 137.0040, 5421,   1615.9,   2.7313,  34.5922,2,  34.5916,2,    101.6,2,   129.54,2,    38.67,2,     0.00,2,     2.73,2,   2336.4,2,   2396.5,2,   7.5083,2,    25.00,     1919
  49UF20170719,KS1706,  5206,  1,     14,  25248,2,20170821,1741, 15.0310, 137.0040, 5421,   1818.3,   2.4079,  34.6104,2,-999.0000,9,    107.2,2,   134.81,2,    38.63,2,     0.00,2,     2.72,2,   2341.8,2,   2405.9,2,   7.5170,2,    25.00,     1914
  49UF20170719,KS1706,  5206,  1,     13,  25247,2,20170821,1741, 15.0310, 137.0040, 5421,   2022.6,   2.1352,  34.6279,2,-999.0000,9,    114.2,6,   139.58,6,    38.36,6,     0.00,6,     2.69,6,   2341.6,2,   2409.7,2,   7.5251,2,    25.00,     1907
  49UF20170719,KS1706,  5206,  1,     12,  25246,2,20170821,1741, 15.0310, 137.0040, 5421,   2277.2,   1.9339,  34.6419,2,  34.6413,2,    121.7,2,   142.30,2,    38.02,2,     0.00,2,     2.66,2,   2340.6,2,   2414.7,2,   7.5356,2,    25.00,     1901
  49UF20170719,KS1706,  5206,  1,     11,  25245,3,20170821,1741, 15.0310, 137.0040, 5421,   2530.5,   1.7926,  34.6523,2,  34.6531,6,    128.1,2,   143.80,2,    37.62,2,     0.00,2,     2.62,2,   2341.2,2,   2414.7,2,   7.5461,2,    25.00,     1855
  49UF20170719,KS1706,  5206,  1,     10,  25244,3,20170821,1741, 15.0310, 137.0040, 5421,   2785.4,   1.7067,  34.6607,2,  34.6622,2,    133.6,2,   144.52,2,    37.31,2,     0.00,2,     2.60,2,   2336.9,6,   2415.4,6,   7.5537,2,    25.00,     1849
  49UF20170719,KS1706,  5206,  1,      9,  25243,2,20170821,1741, 15.0310, 137.0040, 5421,   3039.7,   1.6620,  34.6655,2,  34.6650,2,    137.4,2,   144.47,2,    37.03,2,     0.00,2,     2.58,2,   2334.5,2,   2414.0,2,   7.5616,6,    25.00,     1842
  49UF20170719,KS1706,  5206,  1,      8,  25242,2,20170821,1741, 15.0310, 137.0040, 5421,   3294.5,   1.6221,  34.6705,2,  34.6707,2,    142.2,2,   143.40,2,    36.76,2,     0.00,2,     2.55,2,   2334.3,2,   2416.1,2,   7.5666,2,    25.00,     1837
  49UF20170719,KS1706,  5206,  1,      7,  25241,2,20170821,1741, 15.0310, 137.0040, 5421,   3551.2,   1.5914,  34.6745,2,  34.6741,2,    145.9,2,   142.27,2,    36.48,2,     0.00,2,     2.53,2,   2328.5,2,   2415.1,2,   7.5752,2,    25.00,     1830
  49UF20170719,KS1706,  5206,  1,      6,  25240,2,20170821,1741, 15.0310, 137.0040, 5421,   4063.8,   1.5219,  34.6836,2,  34.6839,2,    156.6,2,   140.34,2,    35.79,2,     0.00,2,     2.48,2,   2319.2,2,   2411.7,2,   7.5872,2,    25.00,     1818
  49UF20170719,KS1706,  5206,  1,      5,  25239,2,20170821,1741, 15.0310, 137.0040, 5421,   4319.2,   1.5166,  34.6860,2,  34.6861,2,    159.5,2,   139.12,2,    35.54,2,     0.00,2,     2.46,2,   2319.0,6,   2410.4,6,   7.5919,2,    25.00,     1813
  49UF20170719,KS1706,  5206,  1,      4,  25238,2,20170821,1741, 15.0310, 137.0040, 5421,   4576.9,   1.5308,  34.6873,2,  34.6871,2,    161.3,2,   138.62,2,    35.47,2,     0.00,2,     2.45,2,   2326.0,3,   2409.5,2,   7.5934,6,    25.00,     1805
  49UF20170719,KS1706,  5206,  1,      3,  24271,2,20170821,1741, 15.0310, 137.0040, 5421,   5091.0,   1.5870,  34.6878,2,  34.6875,6,    161.7,6,   139.08,6,    35.45,6,     0.00,6,     2.45,6,   2315.9,2,   2407.3,2,   7.5932,2,    25.00,     1753
  49UF20170719,KS1706,  5206,  1,      2,  25236,2,20170821,1741, 15.0310, 137.0040, 5421,   5348.5,   1.6200,  34.6876,2,  34.6875,2,    161.6,2,   138.91,2,    35.43,2,     0.00,2,     2.45,2,   2318.5,2,   2409.8,2,   7.5944,2,    25.00,     1746
  49UF20170719,KS1706,  5206,  1,      1,  25235,2,20170821,1741, 15.0310, 137.0040, 5421,   5560.5,   1.6481,  34.6876,2,  34.6871,2,    161.0,2,   139.57,2,    35.48,2,     0.00,2,     2.45,2,   2315.9,2,   2409.4,2,   7.5936,2,    25.00,     1741
  49UF20170719,KS1706,  5207,  1,     99,     99,2,20170822,0558, 16.0125, 137.0013, 5282,      0.0,  30.9138,  34.3098,2,-999.0000,9,    192.5,2,     0.98,2,     0.00,2,     0.00,2,     0.02,2,   -999.0,9,   -999.0,9,-999.0000,9,  -999.00,      805
  49UF20170719,KS1706,  5207,  1,     36,  25270,2,20170822,0558, 16.0125, 137.0013, 5282,      9.5,  30.9148,  34.3091,2,  34.3046,2,    192.4,2,     1.01,2,     0.04,2,     0.00,2,     0.01,2,   -999.0,9,   -999.0,9,-999.0000,9,  -999.00,      827
  49UF20170719,KS1706,  5207,  1,     35,  25269,2,20170822,0558, 16.0125, 137.0013, 5282,     25.1,  30.7472,  34.3414,2,-999.0000,9,    193.6,2,     1.01,2,     0.03,2,     0.00,2,     0.00,2,   -999.0,9,   -999.0,9,-999.0000,9,  -999.00,      826
  49UF20170719,KS1706,  5207,  1,     34,  25268,2,20170822,0558, 16.0125, 137.0013, 5282,     49.9,  28.5161,  34.7350,2,-999.0000,9,    213.0,2,     0.99,2,     0.03,2,     0.00,2,     0.01,2,   -999.0,9,   -999.0,9,-999.0000,9,  -999.00,      822
  49UF20170719,KS1706,  5207,  1,     33,  25267,2,20170822,0558, 16.0125, 137.0013, 5282,     75.6,  26.3361,  35.0092,2,-999.0000,9,    210.8,2,     1.05,2,     0.03,2,     0.00,2,     0.02,2,   -999.0,9,   -999.0,9,-999.0000,9,  -999.00,      821
  49UF20170719,KS1706,  5207,  1,     32,  25266,2,20170822,0558, 16.0125, 137.0013, 5282,    100.6,  24.9929,  35.0842,2,  35.0846,2,    199.1,2,     1.26,2,     0.01,2,     0.00,2,     0.06,2,   -999.0,9,   -999.0,9,-999.0000,9,  -999.00,      820
  49UF20170719,KS1706,  5207,  1,     31,  25265,2,20170822,0558, 16.0125, 137.0013, 5282,    128.6,  23.8229,  35.1497,2,-999.0000,9,    198.9,6,     1.26,6,     0.02,6,     0.00,6,     0.04,6,   -999.0,9,   -999.0,9,-999.0000,9,  -999.00,      819
  49UF20170719,KS1706,  5207,  1,     30,  25264,2,20170822,0558, 16.0125, 137.0013, 5282,    150.9,  23.0889,  35.1424,2,-999.0000,9,    198.0,2,     1.41,2,     0.17,2,     0.09,2,     0.06,2,   -999.0,9,   -999.0,9,-999.0000,9,  -999.00,      817
  49UF20170719,KS1706,  5207,  1,     29,  25263,2,20170822,0558, 16.0125, 137.0013, 5282,    205.2,  19.8240,  34.9708,2,-999.0000,9,    203.4,2,     2.20,2,     1.84,2,     0.02,2,     0.14,2,   -999.0,9,   -999.0,9,-999.0000,9,  -999.00,      816
  49UF20170719,KS1706,  5207,  1,     28,  25262,2,20170822,0558, 16.0125, 137.0013, 5282,    251.2,  17.8823,  34.8116,2,  34.8066,2,    200.7,2,     3.59,2,     4.31,2,     0.01,2,     0.29,2,   -999.0,9,   -999.0,9,-999.0000,9,  -999.00,      814
  49UF20170719,KS1706,  5207,  1,     27,  25261,2,20170822,0558, 16.0125, 137.0013, 5282,    302.5,  15.5992,  34.6023,2,-999.0000,9,    194.0,2,     7.33,2,     8.09,2,     0.01,2,     0.56,2,   -999.0,9,   -999.0,9,-999.0000,9,  -999.00,      812
  49UF20170719,KS1706,  5207,  1,     26,  25260,2,20170822,0558, 16.0125, 137.0013, 5282,    352.2,  12.9783,  34.3832,2,-999.0000,9,    180.4,6,    14.13,6,    13.36,6,     0.00,6,     0.95,6,   -999.0,9,   -999.0,9,-999.0000,9,  -999.00,      810
  49UF20170719,KS1706,  5207,  1,     25,  25259,2,20170822,0558, 16.0125, 137.0013, 5282,    402.7,  11.1818,  34.2664,2,-999.0000,9,    163.4,2,    21.34,2,    17.95,2,     0.00,2,     1.29,2,   -999.0,9,   -999.0,9,-999.0000,9,  -999.00,      809
  49UF20170719,KS1706,  5207,  1,     24,  25258,2,20170822,0558, 16.0125, 137.0013, 5282,    454.5,   9.1287,  34.2041,2,  34.2046,2,    125.8,2,    35.07,2,    25.12,2,     0.00,2,     1.82,2,   -999.0,9,   -999.0,9,-999.0000,9,  -999.00,      807
  49UF20170719,KS1706,  5207,  1,     23,  25257,2,20170822,0558, 16.0125, 137.0013, 5282,    503.2,   7.8836,  34.2014,2,-999.0000,9,     98.6,2,    47.43,2,    30.05,2,     0.00,2,     2.19,2,   -999.0,9,   -999.0,9,-999.0000,9,  -999.00,      805
  49UF20170719,KS1706,  5207,  1,     22,  25256,2,20170822,0558, 16.0125, 137.0013, 5282,    605.3,   6.5714,  34.3225,2,-999.0000,9,     58.3,2,    64.72,2,    36.44,2,     0.00,2,     2.65,2,   -999.0,9,   -999.0,9,-999.0000,9,  -999.00,      802
  49UF20170719,KS1706,  5207,  1,     21,  25255,2,20170822,0558, 16.0125, 137.0013, 5282,    705.8,   5.8670,  34.4088,2,-999.0000,9,     64.2,2,    74.90,2,    37.50,2,     0.00,2,     2.71,2,   -999.0,9,   -999.0,9,-999.0000,9,  -999.00,      759
  49UF20170719,KS1706,  5207,  1,     20,  24270,2,20170822,0558, 16.0125, 137.0013, 5282,    806.5,   5.2725,  34.4597,2,  34.4591,2,     69.4,2,    84.05,2,    38.21,2,     0.00,2,     2.74,2,   -999.0,9,   -999.0,9,-999.0000,9,  -999.00,      755
  49UF20170719,KS1706,  5207,  1,     19,  25253,2,20170822,0558, 16.0125, 137.0013, 5282,    907.0,   4.7655,  34.4904,2,-999.0000,9,     78.8,2,    92.60,2,    38.14,2,     0.00,2,     2.73,2,   -999.0,9,   -999.0,9,-999.0000,9,  -999.00,      753
  49UF20170719,KS1706,  5207,  1,     18,  25252,2,20170822,0558, 16.0125, 137.0013, 5282,   1007.8,   4.2504,  34.5177,2,-999.0000,9,     82.1,2,   102.48,2,    38.54,2,     0.00,2,     2.75,2,   -999.0,9,   -999.0,9,-999.0000,9,  -999.00,      750
  49UF20170719,KS1706,  5207,  1,     17,  25251,2,20170822,0558, 16.0125, 137.0013, 5282,   1211.4,   3.5725,  34.5526,2,-999.0000,9,     88.2,2,   114.65,2,    38.86,2,     0.00,2,     2.77,2,   -999.0,9,   -999.0,9,-999.0000,9,  -999.00,      744
  49UF20170719,KS1706,  5207,  1,     16,  25250,2,20170822,0558, 16.0125, 137.0013, 5282,   1414.0,   3.0612,  34.5725,2,  34.5728,2,     95.2,2,   125.29,2,    38.80,2,     0.00,2,     2.75,2,   -999.0,9,   -999.0,9,-999.0000,9,  -999.00,      738
  49UF20170719,KS1706,  5207,  1,     15,  25249,2,20170822,0558, 16.0125, 137.0013, 5282,   1614.8,   2.6941,  34.5896,2,-999.0000,9,    100.2,2,   132.20,2,    38.69,2,     0.00,2,     2.74,2,   -999.0,9,   -999.0,9,-999.0000,9,  -999.00,      733
  49UF20170719,KS1706,  5207,  1,     14,  25248,2,20170822,0558, 16.0125, 137.0013, 5282,   1818.5,   2.3579,  34.6074,2,-999.0000,9,    106.0,2,   138.03,2,    38.72,2,     0.00,2,     2.73,2,   -999.0,9,   -999.0,9,-999.0000,9,  -999.00,      728
  49UF20170719,KS1706,  5207,  1,     13,  25247,2,20170822,0558, 16.0125, 137.0013, 5282,   2021.4,   2.1267,  34.6235,2,-999.0000,9,    112.6,6,   141.40,6,    38.41,6,     0.00,6,     2.70,6,   -999.0,9,   -999.0,9,-999.0000,9,  -999.00,      722
  49UF20170719,KS1706,  5207,  1,     12,  25246,2,20170822,0558, 16.0125, 137.0013, 5282,   2275.1,   1.9147,  34.6410,2,  34.6408,2,    121.0,2,   143.72,2,    38.00,2,     0.00,2,     2.66,2,   -999.0,9,   -999.0,9,-999.0000,9,  -999.00,      716
  49UF20170719,KS1706,  5207,  1,     11,  25245,2,20170822,0558, 16.0125, 137.0013, 5282,   2529.3,   1.8038,  34.6513,2,  34.6513,2,    127.4,2,   144.70,2,    37.64,2,     0.00,2,     2.63,2,   -999.0,9,   -999.0,9,-999.0000,9,  -999.00,      710
  49UF20170719,KS1706,  5207,  1,     10,  25244,2,20170822,0558, 16.0125, 137.0013, 5282,   2783.7,   1.7250,  34.6591,2,  34.6588,6,    132.9,2,   145.06,2,    37.39,2,     0.00,2,     2.60,2,   -999.0,9,   -999.0,9,-999.0000,9,  -999.00,      704
  49UF20170719,KS1706,  5207,  1,      9,  25243,2,20170822,0558, 16.0125, 137.0013, 5282,   3037.9,   1.6685,  34.6652,2,  34.6645,2,    137.0,2,   145.17,2,    37.06,2,     0.00,2,     2.58,2,   -999.0,9,   -999.0,9,-999.0000,9,  -999.00,      657
  49UF20170719,KS1706,  5207,  1,      8,  25242,2,20170822,0558, 16.0125, 137.0013, 5282,   3549.8,   1.5810,  34.6753,2,-999.0000,9,    147.2,2,   143.28,2,    36.45,2,     0.00,2,     2.53,2,   -999.0,9,   -999.0,9,-999.0000,9,  -999.00,      644
  49UF20170719,KS1706,  5207,  1,      7,  25241,3,20170822,0558, 16.0125, 137.0013, 5282,   3806.5,   1.5476,  34.6795,2,  34.6783,2,    151.7,2,   142.27,2,    36.13,2,     0.00,2,     2.50,2,   -999.0,9,   -999.0,9,-999.0000,9,  -999.00,      638
  49UF20170719,KS1706,  5207,  1,      6,  25240,2,20170822,0558, 16.0125, 137.0013, 5282,   4063.2,   1.5250,  34.6832,2,  34.6826,2,    156.4,2,   140.92,2,    35.75,2,     0.00,2,     2.48,2,   -999.0,9,   -999.0,9,-999.0000,9,  -999.00,      631
  49UF20170719,KS1706,  5207,  1,      5,  25239,2,20170822,0558, 16.0125, 137.0013, 5282,   4575.3,   1.5296,  34.6873,2,  34.6876,2,    160.8,2,   139.48,2,    35.50,2,     0.00,2,     2.45,2,   -999.0,9,   -999.0,9,-999.0000,9,  -999.00,      619
  49UF20170719,KS1706,  5207,  1,      4,  25238,2,20170822,0558, 16.0125, 137.0013, 5282,   4832.3,   1.5559,  34.6876,2,  34.6872,2,    161.3,2,   138.80,2,    35.46,2,     0.00,2,     2.45,2,   -999.0,9,   -999.0,9,-999.0000,9,  -999.00,      613
  49UF20170719,KS1706,  5207,  1,      3,  24271,2,20170822,0558, 16.0125, 137.0013, 5282,   5090.4,   1.5844,  34.6879,2,  34.6877,2,    162.2,2,   138.72,2,    35.42,2,     0.00,2,     2.45,2,   -999.0,9,   -999.0,9,-999.0000,9,  -999.00,      607
  49UF20170719,KS1706,  5207,  1,      2,  25236,2,20170822,0558, 16.0125, 137.0013, 5282,   5348.2,   1.6166,  34.6878,2,  34.6877,2,    161.9,6,   138.60,6,    35.43,6,     0.00,6,     2.45,6,   -999.0,9,   -999.0,9,-999.0000,9,  -999.00,      600
  49UF20170719,KS1706,  5207,  1,      1,  25235,2,20170822,0558, 16.0125, 137.0013, 5282,   5414.0,   1.6252,  34.6879,2,  34.6885,6,    161.3,2,   138.48,2,    35.48,2,     0.00,2,     2.45,2,   -999.0,9,   -999.0,9,-999.0000,9,  -999.00,      558