BOTTLE,20200103PRINUNIVRMK
EXPOCODE,SECT_ID,STNNBR,CASTNO,SAMPNO,BTLNBR,BTLNBR_FLAG_W,DATE,TIME,LATITUDE,LONGITUDE,DEPTH,CTDPRS,CTDTMP,CTDSAL,CTDSAL_FLAG_W,SALNTY,SALNTY_FLAG_W,OXYGEN,OXYGEN_FLAG_W,SILCAT,SILCAT_FLAG_W,NITRAT,NITRAT_FLAG_W,NITRIT,NITRIT_FLAG_W,PHSPHT,PHSPHT_FLAG_W,TCARBN,TCARBN_FLAG_W,ALKALI,ALKALI_FLAG_W,PH_TOT,PH_TOT_FLAG_W,PH_TMP,BTL_TIME
,,,,,,,,,,,METERS,DBAR,ITS-90,PSS-78,,PSS-78,,UMOL/KG,,UMOL/KG,,UMOL/KG,,UMOL/KG,,UMOL/KG,,UMOL/KG,,UMOL/KG,,,,DEG C,
  49UF20170719,KS1706,  5208,  1,     99,     99,2,20170822,1604, 17.0042, 136.9865, 4732,      0.0,  30.7911,  34.5246,2,-999.0000,9,    191.6,2,     1.00,2,     0.06,2,     0.00,2,     0.01,2,   -999.0,9,   -999.0,9,-999.0000,9,  -999.00,     1753
  49UF20170719,KS1706,  5208,  1,     36,  25270,2,20170822,1604, 17.0042, 136.9865, 4732,     10.0,  30.8084,  34.5240,2,  34.5186,2,    191.4,2,     1.00,2,     0.06,2,     0.00,2,     0.00,2,   -999.0,9,   -999.0,9,-999.0000,9,  -999.00,     1815
  49UF20170719,KS1706,  5208,  1,     35,  25269,2,20170822,1604, 17.0042, 136.9865, 4732,     25.2,  30.8123,  34.5572,2,  34.5576,2,    193.0,2,     1.00,2,     0.06,2,     0.00,2,     0.00,2,   -999.0,9,   -999.0,9,-999.0000,9,  -999.00,     1813
  49UF20170719,KS1706,  5208,  1,     34,  25268,2,20170822,1604, 17.0042, 136.9865, 4732,     50.3,  28.2416,  34.7499,2,-999.0000,9,    211.1,2,     1.02,2,     0.11,2,     0.00,2,     0.02,2,   -999.0,9,   -999.0,9,-999.0000,9,  -999.00,     1810
  49UF20170719,KS1706,  5208,  1,     33,  25267,2,20170822,1604, 17.0042, 136.9865, 4732,     75.9,  26.1188,  35.0361,2,-999.0000,9,    214.3,2,     1.09,2,     0.09,2,     0.00,2,     0.01,2,   -999.0,9,   -999.0,9,-999.0000,9,  -999.00,     1809
  49UF20170719,KS1706,  5208,  1,     32,  25266,2,20170822,1604, 17.0042, 136.9865, 4732,    101.7,  24.4684,  35.1018,2,-999.0000,9,    193.5,2,     1.43,2,     0.08,2,     0.02,2,     0.09,2,   -999.0,9,   -999.0,9,-999.0000,9,  -999.00,     1808
  49UF20170719,KS1706,  5208,  1,     31,  25265,2,20170822,1604, 17.0042, 136.9865, 4732,    126.6,  23.6482,  35.1167,2,  35.1155,2,    185.0,2,     1.74,2,     0.66,2,     0.07,2,     0.16,2,   -999.0,9,   -999.0,9,-999.0000,9,  -999.00,     1806
  49UF20170719,KS1706,  5208,  1,     30,  25264,2,20170822,1604, 17.0042, 136.9865, 4732,    151.5,  22.5804,  35.1343,2,-999.0000,9,    192.6,2,     1.60,2,     1.05,2,     0.03,2,     0.11,2,   -999.0,9,   -999.0,9,-999.0000,9,  -999.00,     1805
  49UF20170719,KS1706,  5208,  1,     29,  25263,2,20170822,1604, 17.0042, 136.9865, 4732,    202.8,  20.0600,  34.9845,2,-999.0000,9,    202.4,2,     2.13,2,     1.80,2,     0.01,2,     0.14,2,   -999.0,9,   -999.0,9,-999.0000,9,  -999.00,     1803
  49UF20170719,KS1706,  5208,  1,     28,  25262,2,20170822,1604, 17.0042, 136.9865, 4732,    252.9,  17.0879,  34.7392,2,-999.0000,9,    197.6,2,     4.62,2,     5.65,2,     0.01,2,     0.38,2,   -999.0,9,   -999.0,9,-999.0000,9,  -999.00,     1801
  49UF20170719,KS1706,  5208,  1,     27,  25261,2,20170822,1604, 17.0042, 136.9865, 4732,    304.3,  15.1812,  34.5669,2,  34.5708,2,    191.9,6,     8.28,6,     8.86,6,     0.00,6,     0.61,6,   -999.0,9,   -999.0,9,-999.0000,9,  -999.00,     1800
  49UF20170719,KS1706,  5208,  1,     26,  25260,2,20170822,1604, 17.0042, 136.9865, 4732,    354.7,  12.9654,  34.3819,2,-999.0000,9,    174.2,2,    14.36,2,    13.80,2,     0.00,2,     0.99,2,   -999.0,9,   -999.0,9,-999.0000,9,  -999.00,     1758
  49UF20170719,KS1706,  5208,  1,     25,  25259,2,20170822,1604, 17.0042, 136.9865, 4732,    404.2,  11.1342,  34.2672,2,-999.0000,9,    160.8,2,    21.77,2,    18.26,2,     0.00,2,     1.32,2,   -999.0,9,   -999.0,9,-999.0000,9,  -999.00,     1756
  49UF20170719,KS1706,  5208,  1,     24,  25258,2,20170822,1604, 17.0042, 136.9865, 4732,    454.4,   9.6220,  34.2327,2,-999.0000,9,    125.8,2,    32.27,2,    24.29,2,     0.00,2,     1.77,2,   -999.0,9,   -999.0,9,-999.0000,9,  -999.00,     1755
  49UF20170719,KS1706,  5208,  1,     23,  25257,2,20170822,1604, 17.0042, 136.9865, 4732,    504.8,   8.2530,  34.2437,2,  34.2447,2,     93.1,2,    44.62,2,    29.87,2,     0.00,2,     2.18,2,   -999.0,9,   -999.0,9,-999.0000,9,  -999.00,     1753
  49UF20170719,KS1706,  5208,  1,     22,  25256,2,20170822,1604, 17.0042, 136.9865, 4732,    605.8,   6.7638,  34.2920,2,-999.0000,9,     73.3,2,    62.61,2,    34.72,2,     0.00,2,     2.51,2,   -999.0,9,   -999.0,9,-999.0000,9,  -999.00,     1750
  49UF20170719,KS1706,  5208,  1,     21,  25255,2,20170822,1604, 17.0042, 136.9865, 4732,    706.8,   5.9940,  34.3730,2,-999.0000,9,     70.0,2,    74.36,2,    36.64,2,     0.00,2,     2.64,2,   -999.0,9,   -999.0,9,-999.0000,9,  -999.00,     1747
  49UF20170719,KS1706,  5208,  1,     20,  24270,2,20170822,1604, 17.0042, 136.9865, 4732,    808.0,   5.2813,  34.4497,2,-999.0000,9,     72.5,2,    84.16,2,    37.81,2,     0.00,2,     2.71,2,   -999.0,9,   -999.0,9,-999.0000,9,  -999.00,     1744
  49UF20170719,KS1706,  5208,  1,     19,  25253,2,20170822,1604, 17.0042, 136.9865, 4732,    909.9,   4.9248,  34.4836,2,  34.4846,2,     75.2,6,    89.77,2,    38.23,6,     0.00,6,     2.74,6,   -999.0,9,   -999.0,9,-999.0000,9,  -999.00,     1741
  49UF20170719,KS1706,  5208,  1,     18,  25252,2,20170822,1604, 17.0042, 136.9865, 4732,   1009.1,   4.4674,  34.5100,2,-999.0000,9,     81.6,2,    98.05,2,    38.34,2,     0.00,2,     2.74,2,   -999.0,9,   -999.0,9,-999.0000,9,  -999.00,     1738
  49UF20170719,KS1706,  5208,  1,     17,  25251,2,20170822,1604, 17.0042, 136.9865, 4732,   1211.2,   3.6101,  34.5398,2,-999.0000,9,     88.4,2,   115.73,2,    38.59,2,     0.00,2,     2.75,2,   -999.0,9,   -999.0,9,-999.0000,9,  -999.00,     1734
  49UF20170719,KS1706,  5208,  1,     16,  25250,2,20170822,1604, 17.0042, 136.9865, 4732,   1414.0,   3.0629,  34.5694,2,-999.0000,9,     94.0,2,   125.52,2,    38.87,2,     0.00,2,     2.75,2,   -999.0,9,   -999.0,9,-999.0000,9,  -999.00,     1725
  49UF20170719,KS1706,  5208,  1,     15,  25249,2,20170822,1604, 17.0042, 136.9865, 4732,   1616.2,   2.6272,  34.5895,2,  34.5935,4,    100.0,2,   133.35,2,    38.80,2,     0.00,2,     2.74,2,   -999.0,9,   -999.0,9,-999.0000,9,  -999.00,     1720
  49UF20170719,KS1706,  5208,  1,     14,  25248,2,20170822,1604, 17.0042, 136.9865, 4732,   1820.8,   2.3452,  34.6056,2,-999.0000,9,    104.9,2,   138.37,2,    38.76,2,     0.00,2,     2.73,2,   -999.0,9,   -999.0,9,-999.0000,9,  -999.00,     1716
  49UF20170719,KS1706,  5208,  1,     13,  25247,2,20170822,1604, 17.0042, 136.9865, 4732,   2023.5,   2.0930,  34.6241,2,-999.0000,9,    113.1,2,   142.41,2,    38.43,2,     0.00,2,     2.70,2,   -999.0,9,   -999.0,9,-999.0000,9,  -999.00,     1711
  49UF20170719,KS1706,  5208,  1,     12,  25246,2,20170822,1604, 17.0042, 136.9865, 4732,   2275.7,   1.8972,  34.6409,2,  34.6435,4,    121.5,6,   144.10,6,    37.98,6,     0.00,6,     2.66,6,   -999.0,9,   -999.0,9,-999.0000,9,  -999.00,     1706
  49UF20170719,KS1706,  5208,  1,     11,  25245,2,20170822,1604, 17.0042, 136.9865, 4732,   2529.8,   1.7884,  34.6504,2,-999.0000,9,    127.4,2,   145.80,2,    37.61,2,     0.00,2,     2.63,2,   -999.0,9,   -999.0,9,-999.0000,9,  -999.00,     1700
  49UF20170719,KS1706,  5208,  1,     10,  25244,2,20170822,1604, 17.0042, 136.9865, 4732,   2784.4,   1.6955,  34.6598,2,  34.6595,2,    133.8,2,   144.83,2,    37.27,2,     0.00,2,     2.60,2,   -999.0,9,   -999.0,9,-999.0000,9,  -999.00,     1654
  49UF20170719,KS1706,  5208,  1,      9,  25243,2,20170822,1604, 17.0042, 136.9865, 4732,   3040.1,   1.6384,  34.6665,2,  34.6676,2,    138.9,2,   144.31,2,    36.87,2,     0.00,2,     2.57,2,   -999.0,9,   -999.0,9,-999.0000,9,  -999.00,     1648
  49UF20170719,KS1706,  5208,  1,      8,  25242,2,20170822,1604, 17.0042, 136.9865, 4732,   3294.9,   1.6013,  34.6716,2,  34.6718,6,    143.4,2,   144.30,2,    36.72,2,     0.00,2,     2.55,2,   -999.0,9,   -999.0,9,-999.0000,9,  -999.00,     1642
  49UF20170719,KS1706,  5208,  1,      7,  25241,2,20170822,1604, 17.0042, 136.9865, 4732,   3550.7,   1.5626,  34.6763,2,-999.0000,9,    147.9,2,   142.83,2,    36.34,2,     0.00,2,     2.52,2,   -999.0,9,   -999.0,9,-999.0000,9,  -999.00,     1635
  49UF20170719,KS1706,  5208,  1,      6,  25240,2,20170822,1604, 17.0042, 136.9865, 4732,   3805.1,   1.5337,  34.6803,2,  34.6808,2,    152.5,2,   141.61,2,    36.08,2,     0.00,2,     2.50,2,   -999.0,9,   -999.0,9,-999.0000,9,  -999.00,     1629
  49UF20170719,KS1706,  5208,  1,      5,  25239,2,20170822,1604, 17.0042, 136.9865, 4732,   4060.6,   1.5100,  34.6840,2,  34.6896,4,    156.6,2,   140.11,2,    35.80,2,     0.00,2,     2.47,2,   -999.0,9,   -999.0,9,-999.0000,9,  -999.00,     1623
  49UF20170719,KS1706,  5208,  1,      4,  25238,2,20170822,1604, 17.0042, 136.9865, 4732,   4315.9,   1.5188,  34.6856,2,  34.6857,2,    158.6,2,   140.33,3,    35.65,2,     0.00,2,     2.47,2,   -999.0,9,   -999.0,9,-999.0000,9,  -999.00,     1617
  49UF20170719,KS1706,  5208,  1,      2,  25236,2,20170822,1604, 17.0042, 136.9865, 4732,   4573.7,   1.5347,  34.6867,2,  34.6872,2,    160.1,2,   138.88,2,    35.52,2,     0.00,2,     2.46,2,   -999.0,9,   -999.0,9,-999.0000,9,  -999.00,     1611
  49UF20170719,KS1706,  5208,  1,      3,  24271,2,20170822,1604, 17.0042, 136.9865, 4732,   4574.1,   1.5349,  34.6867,2,  34.6895,4,    160.2,2,   138.66,3,    35.56,2,     0.00,2,     2.46,2,   -999.0,9,   -999.0,9,-999.0000,9,  -999.00,     1611
  49UF20170719,KS1706,  5208,  1,      1,  25235,2,20170822,1604, 17.0042, 136.9865, 4732,   4856.4,   1.5624,  34.6870,2,  34.6874,2,    160.4,6,   138.53,6,    35.49,6,     0.00,6,     2.46,6,   -999.0,9,   -999.0,9,-999.0000,9,  -999.00,     1604
  49UF20170719,KS1706,  5209,  1,     99,     99,2,20170823,0238, 18.0020, 137.0068, 4665,      0.0,  31.1192,  34.5396,2,-999.0000,9,    191.6,2,     1.02,2,     0.05,2,     0.00,2,     0.01,2,   -999.0,9,   -999.0,9,-999.0000,9,  -999.00,      417
  49UF20170719,KS1706,  5209,  1,     36,  25270,2,20170823,0238, 18.0020, 137.0068, 4665,     10.4,  30.8797,  34.5507,2,  34.5481,2,    191.7,2,     1.02,2,     0.06,2,     0.00,2,     0.01,2,   -999.0,9,   -999.0,9,-999.0000,9,  -999.00,      439
  49UF20170719,KS1706,  5209,  1,     35,  25269,2,20170823,0238, 18.0020, 137.0068, 4665,     26.3,  30.8469,  34.5501,2,-999.0000,9,    192.1,2,     1.02,2,     0.01,2,     0.00,2,     0.00,2,   -999.0,9,   -999.0,9,-999.0000,9,  -999.00,      437
  49UF20170719,KS1706,  5209,  1,     34,  25268,2,20170823,0238, 18.0020, 137.0068, 4665,     50.5,  28.0877,  34.8654,2,  34.8559,2,    215.5,2,     1.02,2,     0.04,2,     0.00,2,     0.00,2,   -999.0,9,   -999.0,9,-999.0000,9,  -999.00,      434
  49UF20170719,KS1706,  5209,  1,     33,  25267,2,20170823,0238, 18.0020, 137.0068, 4665,     74.7,  26.2761,  35.0315,2,-999.0000,9,    217.9,2,     1.07,2,     0.06,2,     0.00,2,     0.01,2,   -999.0,9,   -999.0,9,-999.0000,9,  -999.00,      432
  49UF20170719,KS1706,  5209,  1,     32,  25266,2,20170823,0238, 18.0020, 137.0068, 4665,     99.7,  24.8367,  35.1300,2,-999.0000,9,    204.6,2,     1.11,2,     0.03,2,     0.00,2,     0.02,2,   -999.0,9,   -999.0,9,-999.0000,9,  -999.00,      432
  49UF20170719,KS1706,  5209,  1,     31,  25265,2,20170823,0238, 18.0020, 137.0068, 4665,    124.3,  24.1224,  35.1283,2,-999.0000,9,    203.4,2,     1.28,2,     0.04,2,     0.05,2,     0.04,2,   -999.0,9,   -999.0,9,-999.0000,9,  -999.00,      430
  49UF20170719,KS1706,  5209,  1,     30,  25264,2,20170823,0238, 18.0020, 137.0068, 4665,    150.6,  23.1343,  35.1393,2,  35.1385,2,    191.8,2,     1.62,2,     0.66,2,     0.07,2,     0.11,2,   -999.0,9,   -999.0,9,-999.0000,9,  -999.00,      429
  49UF20170719,KS1706,  5209,  1,     29,  25263,2,20170823,0238, 18.0020, 137.0068, 4665,    202.0,  19.6422,  34.9491,2,-999.0000,9,    192.8,6,     2.70,6,     2.94,6,     0.01,6,     0.23,6,   -999.0,9,   -999.0,9,-999.0000,9,  -999.00,      428
  49UF20170719,KS1706,  5209,  1,     28,  25262,2,20170823,0238, 18.0020, 137.0068, 4665,    251.6,  17.5510,  34.7830,2,-999.0000,9,    190.4,2,     4.50,2,     5.54,2,     0.00,2,     0.41,2,   -999.0,9,   -999.0,9,-999.0000,9,  -999.00,      426
  49UF20170719,KS1706,  5209,  1,     27,  25261,2,20170823,0238, 18.0020, 137.0068, 4665,    302.7,  15.9720,  34.6368,2,-999.0000,9,    194.0,2,     6.58,2,     7.51,2,     0.00,2,     0.52,2,   -999.0,9,   -999.0,9,-999.0000,9,  -999.00,      425
  49UF20170719,KS1706,  5209,  1,     26,  25260,2,20170823,0238, 18.0020, 137.0068, 4665,    352.7,  14.2461,  34.4969,2,  34.4943,2,    187.2,2,    11.83,2,    11.19,2,     0.00,2,     0.76,2,   -999.0,9,   -999.0,9,-999.0000,9,  -999.00,      423
  49UF20170719,KS1706,  5209,  1,     25,  25259,2,20170823,0238, 18.0020, 137.0068, 4665,    402.6,  12.4215,  34.3583,2,-999.0000,9,    178.2,2,    18.00,2,    15.11,2,     0.00,2,     1.05,2,   -999.0,9,   -999.0,9,-999.0000,9,  -999.00,      421
  49UF20170719,KS1706,  5209,  1,     24,  25258,2,20170823,0238, 18.0020, 137.0068, 4665,    452.3,   9.9904,  34.2248,2,-999.0000,9,    144.1,2,    29.39,2,    22.20,2,     0.00,2,     1.59,2,   -999.0,9,   -999.0,9,-999.0000,9,  -999.00,      420
  49UF20170719,KS1706,  5209,  1,     23,  25257,2,20170823,0238, 18.0020, 137.0068, 4665,    504.1,   8.7214,  34.2560,2,-999.0000,9,    101.1,2,    41.02,2,    28.55,2,     0.00,2,     2.07,2,   -999.0,9,   -999.0,9,-999.0000,9,  -999.00,      418
  49UF20170719,KS1706,  5209,  1,     22,  25256,2,20170823,0238, 18.0020, 137.0068, 4665,    604.5,   7.0632,  34.2968,2,  34.3022,4,     72.0,2,    59.12,2,    34.47,2,     0.00,2,     2.49,2,   -999.0,9,   -999.0,9,-999.0000,9,  -999.00,      416
  49UF20170719,KS1706,  5209,  1,     21,  25255,2,20170823,0238, 18.0020, 137.0068, 4665,    705.0,   6.0376,  34.3727,2,-999.0000,9,     69.0,2,    72.99,2,    36.81,2,     0.00,2,     2.65,2,   -999.0,9,   -999.0,9,-999.0000,9,  -999.00,      413
  49UF20170719,KS1706,  5209,  1,     20,  24270,2,20170823,0238, 18.0020, 137.0068, 4665,    807.0,   5.3629,  34.4431,2,-999.0000,9,     71.4,2,    82.81,2,    37.90,2,     0.00,2,     2.72,2,   -999.0,9,   -999.0,9,-999.0000,9,  -999.00,      411
  49UF20170719,KS1706,  5209,  1,     19,  25253,2,20170823,0238, 18.0020, 137.0068, 4665,    906.8,   4.8394,  34.4852,2,-999.0000,9,     76.2,2,    90.86,2,    38.33,2,     0.00,2,     2.74,2,   -999.0,9,   -999.0,9,-999.0000,9,  -999.00,      408
  49UF20170719,KS1706,  5209,  1,     18,  25252,2,20170823,0238, 18.0020, 137.0068, 4665,   1007.9,   4.4268,  34.5095,2,  34.5101,2,     80.1,6,    98.37,6,    38.64,6,     0.00,6,     2.75,6,   -999.0,9,   -999.0,9,-999.0000,9,  -999.00,      406
  49UF20170719,KS1706,  5209,  1,     17,  25251,2,20170823,0238, 18.0020, 137.0068, 4665,   1210.3,   3.6957,  34.5366,2,-999.0000,9,     88.1,2,   113.24,2,    38.68,2,     0.00,2,     2.75,2,   -999.0,9,   -999.0,9,-999.0000,9,  -999.00,      401
  49UF20170719,KS1706,  5209,  1,     16,  25250,2,20170823,0238, 18.0020, 137.0068, 4665,   1412.6,   3.0676,  34.5649,2,-999.0000,9,     95.0,2,   126.28,2,    38.66,2,     0.00,2,     2.74,2,   -999.0,9,   -999.0,9,-999.0000,9,  -999.00,      357
  49UF20170719,KS1706,  5209,  1,     15,  25249,2,20170823,0238, 18.0020, 137.0068, 4665,   1616.8,   2.7108,  34.5859,2,-999.0000,9,    100.9,2,   131.51,2,    38.69,2,     0.00,2,     2.73,2,   -999.0,9,   -999.0,9,-999.0000,9,  -999.00,      352
  49UF20170719,KS1706,  5209,  1,     14,  25248,2,20170823,0238, 18.0020, 137.0068, 4665,   1819.2,   2.3845,  34.6047,2,  34.6064,2,    105.5,2,   136.46,2,    38.63,2,     0.00,2,     2.72,2,   -999.0,9,   -999.0,9,-999.0000,9,  -999.00,      347
  49UF20170719,KS1706,  5209,  1,     13,  25247,2,20170823,0238, 18.0020, 137.0068, 4665,   2019.7,   2.1252,  34.6217,2,  34.6228,2,    111.8,2,   140.88,2,    38.57,2,     0.00,2,     2.70,2,   -999.0,9,   -999.0,9,-999.0000,9,  -999.00,      343
  49UF20170719,KS1706,  5209,  1,     12,  25246,2,20170823,0238, 18.0020, 137.0068, 4665,   2278.1,   1.9146,  34.6386,2,  34.6381,2,    120.2,2,   143.28,2,    38.09,2,     0.00,2,     2.66,2,   -999.0,9,   -999.0,9,-999.0000,9,  -999.00,      338
  49UF20170719,KS1706,  5209,  1,     11,  25245,2,20170823,0238, 18.0020, 137.0068, 4665,   2530.0,   1.8038,  34.6493,2,  34.6499,2,    126.8,2,   143.69,2,    37.78,2,     0.00,2,     2.63,2,   -999.0,9,   -999.0,9,-999.0000,9,  -999.00,      332
  49UF20170719,KS1706,  5209,  1,     10,  25244,2,20170823,0238, 18.0020, 137.0068, 4665,   2784.4,   1.7162,  34.6586,2,  34.6583,2,    132.7,6,   144.24,6,    37.39,6,     0.00,6,     2.60,6,   -999.0,9,   -999.0,9,-999.0000,9,  -999.00,      327
  49UF20170719,KS1706,  5209,  1,      9,  25243,2,20170823,0238, 18.0020, 137.0068, 4665,   3038.7,   1.6516,  34.6656,2,  34.6659,2,    138.1,2,   144.09,2,    36.92,2,     0.00,2,     2.57,2,   -999.0,9,   -999.0,9,-999.0000,9,  -999.00,      320
  49UF20170719,KS1706,  5209,  1,      8,  25242,2,20170823,0238, 18.0020, 137.0068, 4665,   3295.0,   1.6129,  34.6695,2,  34.6695,2,    143.6,2,   142.78,2,    36.68,2,     0.00,2,     2.54,2,   -999.0,9,   -999.0,9,-999.0000,9,  -999.00,      315
  49UF20170719,KS1706,  5209,  1,      7,  25241,3,20170823,0238, 18.0020, 137.0068, 4665,   3550.0,   1.5855,  34.6741,2,  34.6747,2,    146.9,6,   141.12,6,    36.41,6,     0.00,6,     2.53,6,   -999.0,9,   -999.0,9,-999.0000,9,  -999.00,      308
  49UF20170719,KS1706,  5209,  1,      6,  25240,2,20170823,0238, 18.0020, 137.0068, 4665,   3805.9,   1.5650,  34.6780,2,  34.6782,2,    150.6,2,   141.47,2,    36.24,2,     0.00,2,     2.51,2,   -999.0,9,   -999.0,9,-999.0000,9,  -999.00,      303
  49UF20170719,KS1706,  5209,  1,      5,  25239,2,20170823,0238, 18.0020, 137.0068, 4665,   4063.3,   1.5234,  34.6832,2,  34.6827,2,    155.3,2,   139.54,2,    35.91,2,     0.00,2,     2.48,2,   -999.0,9,   -999.0,9,-999.0000,9,  -999.00,      256
  49UF20170719,KS1706,  5209,  1,      4,  25238,2,20170823,0238, 18.0020, 137.0068, 4665,   4317.6,   1.5209,  34.6854,2,  34.6864,6,    159.1,2,   139.29,2,    35.73,2,     0.00,2,     2.46,2,   -999.0,9,   -999.0,9,-999.0000,9,  -999.00,      251
  49UF20170719,KS1706,  5209,  1,      3,  24271,2,20170823,0238, 18.0020, 137.0068, 4665,   4575.9,   1.5335,  34.6868,2,  34.6868,2,    160.3,2,   138.39,2,    35.57,2,     0.00,2,     2.46,2,   -999.0,9,   -999.0,9,-999.0000,9,  -999.00,      244
  49UF20170719,KS1706,  5209,  1,      1,  25235,2,20170823,0238, 18.0020, 137.0068, 4665,   4772.1,   1.5554,  34.6869,2,  34.6864,2,    159.6,3,   138.22,2,    35.57,2,     0.00,2,     2.46,2,   -999.0,9,   -999.0,9,-999.0000,9,  -999.00,      238
  49UF20170719,KS1706,  5209,  1,      2,  25236,2,20170823,0238, 18.0020, 137.0068, 4665,   4772.9,   1.5554,  34.6869,2,  34.6875,2,    160.5,2,   138.26,2,    35.52,2,     0.00,2,     2.45,2,   -999.0,9,   -999.0,9,-999.0000,9,  -999.00,      238