BOTTLE,20200103PRINUNIVRMK
EXPOCODE,SECT_ID,STNNBR,CASTNO,SAMPNO,BTLNBR,BTLNBR_FLAG_W,DATE,TIME,LATITUDE,LONGITUDE,DEPTH,CTDPRS,CTDTMP,CTDSAL,CTDSAL_FLAG_W,SALNTY,SALNTY_FLAG_W,OXYGEN,OXYGEN_FLAG_W,SILCAT,SILCAT_FLAG_W,NITRAT,NITRAT_FLAG_W,NITRIT,NITRIT_FLAG_W,PHSPHT,PHSPHT_FLAG_W,TCARBN,TCARBN_FLAG_W,ALKALI,ALKALI_FLAG_W,PH_TOT,PH_TOT_FLAG_W,PH_TMP,BTL_TIME
,,,,,,,,,,,METERS,DBAR,ITS-90,PSS-78,,PSS-78,,UMOL/KG,,UMOL/KG,,UMOL/KG,,UMOL/KG,,UMOL/KG,,UMOL/KG,,UMOL/KG,,,,DEG C,
  49UF20170719,KS1706,  5194,  1,     99,     99,2,20170808,0011,  4.1025, 137.1135, 4626,      0.0,  29.7917,  33.6856,2,-999.0000,9,    198.2,2,     1.86,2,     0.00,2,     0.00,2,     0.03,2,   -999.0,9,   -999.0,9,-999.0000,9,  -999.00,       59
  49UF20170719,KS1706,  5194,  1,     36,  25270,2,20170808,0011,  4.1025, 137.1135, 4626,      9.4,  29.7006,  33.6830,2,-999.0000,9,    198.7,2,     1.78,2,     0.01,2,     0.00,2,     0.01,2,   -999.0,9,   -999.0,9,-999.0000,9,  -999.00,      125
  49UF20170719,KS1706,  5194,  1,     35,  25269,2,20170808,0011,  4.1025, 137.1135, 4626,     24.6,  29.2869,  33.6880,2,-999.0000,9,    199.4,2,     1.81,2,     0.00,2,     0.00,2,     0.02,2,   -999.0,9,   -999.0,9,-999.0000,9,  -999.00,      123
  49UF20170719,KS1706,  5194,  1,     34,  25268,2,20170808,0011,  4.1025, 137.1135, 4626,     50.1,  29.1928,  34.1785,2,-999.0000,9,    194.7,2,     1.52,2,     0.00,2,     0.00,2,     0.07,2,   -999.0,9,   -999.0,9,-999.0000,9,  -999.00,      120
  49UF20170719,KS1706,  5194,  1,     33,  25267,2,20170808,0011,  4.1025, 137.1135, 4626,     75.0,  27.8985,  34.6354,2,-999.0000,9,    174.4,2,     1.99,2,     0.47,2,     0.07,2,     0.21,2,   -999.0,9,   -999.0,9,-999.0000,9,  -999.00,      118
  49UF20170719,KS1706,  5194,  1,     32,  25266,2,20170808,0011,  4.1025, 137.1135, 4626,     99.9,  26.0772,  34.8170,2,-999.0000,9,    145.1,2,     3.82,2,     5.78,2,     0.12,2,     0.51,2,   -999.0,9,   -999.0,9,-999.0000,9,  -999.00,      117
  49UF20170719,KS1706,  5194,  1,     31,  25265,2,20170808,0011,  4.1025, 137.1135, 4626,    100.0,  26.0802,  34.8157,2,-999.0000,9,    145.0,2,     3.86,2,     5.87,2,     0.11,2,     0.51,2,   -999.0,9,   -999.0,9,-999.0000,9,  -999.00,      117
  49UF20170719,KS1706,  5194,  1,     27,  25261,2,20170808,0011,  4.1025, 137.1135, 4626,    126.0,  23.7075,  35.0114,2,-999.0000,9,    140.4,2,     5.22,2,     7.77,2,     0.03,2,     0.64,2,   -999.0,9,   -999.0,9,-999.0000,9,  -999.00,      115
  49UF20170719,KS1706,  5194,  1,     26,  25260,2,20170808,0011,  4.1025, 137.1135, 4626,    151.0,  21.1919,  35.1561,2,-999.0000,9,    140.1,2,     6.84,2,     9.64,2,     0.02,2,     0.77,2,   -999.0,9,   -999.0,9,-999.0000,9,  -999.00,      114
  49UF20170719,KS1706,  5194,  1,     25,  25259,2,20170808,0011,  4.1025, 137.1135, 4626,    201.4,  14.7232,  34.5980,2,-999.0000,9,    140.7,2,    16.73,2,    15.41,2,     0.01,2,     1.15,2,   -999.0,9,   -999.0,9,-999.0000,9,  -999.00,      112
  49UF20170719,KS1706,  5194,  1,     24,  25258,2,20170808,0011,  4.1025, 137.1135, 4626,    251.2,  10.0183,  34.4308,2,-999.0000,9,    112.8,2,    33.54,2,    25.62,2,     0.00,2,     1.87,2,   -999.0,9,   -999.0,9,-999.0000,9,  -999.00,      110
  49UF20170719,KS1706,  5194,  1,     23,  25257,2,20170808,0011,  4.1025, 137.1135, 4626,    301.6,   8.6278,  34.5658,2,-999.0000,9,     97.0,6,    36.84,6,    30.58,6,     0.00,6,     2.19,6,   -999.0,9,   -999.0,9,-999.0000,9,  -999.00,      108
  49UF20170719,KS1706,  5194,  1,     22,  25256,2,20170808,0011,  4.1025, 137.1135, 4626,    352.9,   8.3207,  34.5990,2,-999.0000,9,    116.5,2,    32.04,2,    29.83,2,     0.00,2,     2.11,2,   -999.0,9,   -999.0,9,-999.0000,9,  -999.00,      106
  49UF20170719,KS1706,  5194,  1,     18,  25252,2,20170808,0011,  4.1025, 137.1135, 4626,    402.5,   8.0569,  34.5849,2,-999.0000,9,    115.9,2,    33.67,2,    30.28,2,     0.00,2,     2.15,2,   -999.0,9,   -999.0,9,-999.0000,9,  -999.00,      105
  49UF20170719,KS1706,  5194,  1,     17,  25251,2,20170808,0011,  4.1025, 137.1135, 4626,    453.6,   7.8026,  34.5736,2,-999.0000,9,    117.4,2,    34.84,2,    30.67,2,     0.00,2,     2.18,2,   -999.0,9,   -999.0,9,-999.0000,9,  -999.00,      103
  49UF20170719,KS1706,  5194,  1,     16,  25250,2,20170808,0011,  4.1025, 137.1135, 4626,    504.4,   7.4710,  34.5587,2,-999.0000,9,    109.4,2,    39.29,2,    31.97,2,     0.00,2,     2.28,2,   -999.0,9,   -999.0,9,-999.0000,9,  -999.00,      101
  49UF20170719,KS1706,  5194,  1,     15,  25249,2,20170808,0011,  4.1025, 137.1135, 4626,    605.8,   6.5875,  34.5272,2,-999.0000,9,    130.8,3,    41.43,2,    31.95,2,     0.00,2,     2.27,2,   -999.0,9,   -999.0,9,-999.0000,9,  -999.00,       58
  49UF20170719,KS1706,  5194,  1,     14,  25248,2,20170808,0011,  4.1025, 137.1135, 4626,    705.7,   5.8819,  34.5350,2,-999.0000,9,     92.5,2,    60.40,2,    36.53,2,     0.00,2,     2.62,2,   -999.0,9,   -999.0,9,-999.0000,9,  -999.00,       55
  49UF20170719,KS1706,  5194,  1,     13,  25247,2,20170808,0011,  4.1025, 137.1135, 4626,    807.3,   5.4054,  34.5378,2,-999.0000,9,     91.0,2,    68.45,2,    37.33,2,     0.00,2,     2.69,2,   -999.0,9,   -999.0,9,-999.0000,9,  -999.00,       49
  49UF20170719,KS1706,  5194,  1,     11,  25245,2,20170808,0011,  4.1025, 137.1135, 4626,    907.8,   4.9777,  34.5431,2,-999.0000,9,     93.9,6,    77.14,6,    37.58,6,     0.00,6,     2.70,6,   -999.0,9,   -999.0,9,-999.0000,9,  -999.00,       46
  49UF20170719,KS1706,  5194,  1,     10,  25244,2,20170808,0011,  4.1025, 137.1135, 4626,   1009.2,   4.5343,  34.5533,2,-999.0000,9,     93.7,2,    87.32,2,    37.94,2,     0.00,2,     2.73,2,   -999.0,9,   -999.0,9,-999.0000,9,  -999.00,       43
  49UF20170719,KS1706,  5194,  1,      9,  25243,2,20170808,0011,  4.1025, 137.1135, 4626,   1211.9,   3.7891,  34.5732,2,-999.0000,9,     94.0,2,   104.21,2,    38.55,2,     0.00,2,     2.78,2,   -999.0,9,   -999.0,9,-999.0000,9,  -999.00,       37
  49UF20170719,KS1706,  5194,  1,      8,  25242,2,20170808,0011,  4.1025, 137.1135, 4626,   1414.2,   3.2395,  34.5912,2,-999.0000,9,     98.1,2,   115.61,2,    38.77,2,     0.00,2,     2.78,2,   -999.0,9,   -999.0,9,-999.0000,9,  -999.00,       29
  49UF20170719,KS1706,  5194,  1,      7,  25241,3,20170808,0011,  4.1025, 137.1135, 4626,   1617.1,   2.7819,  34.6097,2,-999.0000,9,    103.2,2,   124.84,2,    38.80,2,     0.00,2,     2.78,2,   -999.0,9,   -999.0,9,-999.0000,9,  -999.00,       24
  49UF20170719,KS1706,  5194,  1,      5,  25239,2,20170808,0011,  4.1025, 137.1135, 4626,   1818.9,   2.4697,  34.6237,2,-999.0000,9,    109.4,2,   131.48,2,    38.50,2,     0.00,2,     2.75,2,   -999.0,9,   -999.0,9,-999.0000,9,  -999.00,       18
  49UF20170719,KS1706,  5194,  1,      6,  25240,2,20170808,0011,  4.1025, 137.1135, 4626,   1819.1,   2.4697,  34.6238,2,-999.0000,9,    109.8,2,   131.82,2,    38.52,2,     0.00,2,     2.75,2,   -999.0,9,   -999.0,9,-999.0000,9,  -999.00,       18
  49UF20170719,KS1706,  5194,  1,      4,  25238,2,20170808,0011,  4.1025, 137.1135, 4626,   2023.7,   2.1742,  34.6384,2,-999.0000,9,    115.3,2,   138.34,2,    38.04,2,     0.00,2,     2.72,2,   -999.0,9,   -999.0,9,-999.0000,9,  -999.00,       11
  49UF20170719,KS1706,  5195,  1,     99,     99,2,20170808,0817,  5.0283, 137.0147, 4674,      0.0,  29.8413,  33.6663,2,  33.6311,2,    195.9,2,     1.62,2,     0.00,2,     0.00,2,     0.04,2,   1889.9,2,   2209.5,2,   8.1182,2,    25.00,     1110
  49UF20170719,KS1706,  5195,  1,     36,  25270,2,20170808,0817,  5.0283, 137.0147, 4674,     10.1,  29.4624,  33.7424,2,  33.7393,2,    198.5,2,     1.70,2,     0.00,2,     0.00,2,     0.02,2,   1897.3,2,   2216.8,2,   8.1154,2,    25.00,     1145
  49UF20170719,KS1706,  5195,  1,     35,  25269,2,20170808,0817,  5.0283, 137.0147, 4674,     26.4,  29.4474,  33.8197,2,  33.8089,2,    197.5,2,     1.57,2,     0.00,2,     0.00,2,     0.02,2,   1901.5,2,   2221.4,2,   8.1162,2,    25.00,     1144
  49UF20170719,KS1706,  5195,  1,     34,  25268,2,20170808,0817,  5.0283, 137.0147, 4674,     50.8,  28.6853,  33.8593,2,-999.0000,9,    197.7,6,     1.93,6,     0.00,6,     0.00,6,     0.05,6,   1915.3,2,   2227.9,2,   8.1016,2,    25.00,     1141
  49UF20170719,KS1706,  5195,  1,     33,  25267,2,20170808,0817,  5.0283, 137.0147, 4674,     76.1,  26.1797,  34.6120,2,  34.6288,2,    160.2,2,     4.00,2,     4.51,2,     0.27,2,     0.43,2,   2009.2,2,   2277.2,2,   8.0048,2,    25.00,     1140
  49UF20170719,KS1706,  5195,  1,     32,  25266,2,20170808,0817,  5.0283, 137.0147, 4674,    100.5,  24.3754,  34.7897,2,-999.0000,9,    161.9,2,     4.46,2,     4.15,2,     0.22,2,     0.44,2,   2033.5,2,   2288.2,2,   7.9768,2,    25.00,     1138
  49UF20170719,KS1706,  5195,  1,     31,  25265,2,20170808,0817,  5.0283, 137.0147, 4674,    125.9,  22.4959,  34.8578,2,  34.8605,2,    156.9,2,     5.49,2,     5.72,2,     0.05,2,     0.52,2,   2054.6,2,   2291.9,2,   7.9422,2,    25.00,     1137
  49UF20170719,KS1706,  5195,  1,     30,  25264,2,20170808,0817,  5.0283, 137.0147, 4674,    148.9,  20.9427,  35.0483,2,-999.0000,9,    145.7,2,     6.72,2,     8.72,2,     0.02,2,     0.71,2,   2082.4,2,   2301.5,2,   7.9028,2,    25.00,     1136
  49UF20170719,KS1706,  5195,  1,     29,  25263,2,20170808,0817,  5.0283, 137.0147, 4674,    201.6,  15.2457,  34.6059,2,  34.6042,2,    138.0,2,    15.01,2,    14.82,2,     0.01,2,     1.12,2,   2127.5,2,   2283.1,2,   7.7748,2,    25.00,     1134
  49UF20170719,KS1706,  5195,  1,     28,  25262,2,20170808,0817,  5.0283, 137.0147, 4674,    251.5,   9.9922,  34.4655,2,  34.4713,2,    103.5,2,    33.31,2,    26.96,2,     0.00,2,     1.96,2,   2202.9,2,   2293.9,2,   7.6026,2,    25.00,     1132
  49UF20170719,KS1706,  5195,  1,     27,  25261,2,20170808,0817,  5.0283, 137.0147, 4674,    303.0,   8.8645,  34.5564,2,-999.0000,9,     93.6,2,    37.06,2,    30.30,2,     0.00,2,     2.17,2,   2224.9,2,   2305.2,2,   7.5688,2,    25.00,     1130
  49UF20170719,KS1706,  5195,  1,     26,  25260,2,20170808,0817,  5.0283, 137.0147, 4674,    355.1,   8.2725,  34.5668,2,-999.0000,9,    100.8,2,    38.05,2,    31.14,2,     0.00,2,     2.21,2,   2227.1,2,   2308.5,2,   7.5686,2,    25.00,     1128
  49UF20170719,KS1706,  5195,  1,     25,  25259,2,20170808,0817,  5.0283, 137.0147, 4674,    403.5,   7.9469,  34.5703,2,-999.0000,9,    112.2,2,    36.50,2,    30.76,2,     0.00,2,     2.19,2,   2222.7,2,   2306.1,2,   7.5817,2,    25.00,     1126
  49UF20170719,KS1706,  5195,  1,     23,  25257,2,20170808,0817,  5.0283, 137.0147, 4674,    452.0,   7.6489,  34.5609,2,  34.5603,2,    111.1,2,    38.07,2,    31.60,2,     0.00,2,     2.24,2,   2225.5,2,   2308.0,2,   7.5765,2,    25.00,     1124
  49UF20170719,KS1706,  5195,  1,     21,  25255,2,20170808,0817,  5.0283, 137.0147, 4674,    504.0,   7.3727,  34.5527,2,-999.0000,9,    109.4,2,    40.55,2,    32.16,2,     0.00,2,     2.29,2,   2232.8,2,   2310.7,2,   7.5659,2,    25.00,     1122
  49UF20170719,KS1706,  5195,  1,     19,  25253,2,20170808,0817,  5.0283, 137.0147, 4674,    604.9,   6.6382,  34.5323,2,  34.5318,2,    104.2,2,    49.48,2,    34.09,2,     0.00,2,     2.43,2,   2247.5,2,   2318.9,2,   7.5463,2,    25.00,     1119
  49UF20170719,KS1706,  5195,  1,     17,  25251,2,20170808,0817,  5.0283, 137.0147, 4674,    705.2,   6.0097,  34.5365,2,-999.0000,9,     89.6,2,    59.63,2,    36.58,2,     0.00,2,     2.63,2,   2266.5,6,   2329.9,6,   7.5124,2,    25.00,     1116
  49UF20170719,KS1706,  5195,  1,     15,  25249,2,20170808,0817,  5.0283, 137.0147, 4674,    806.0,   5.5204,  34.5369,2,  34.5369,2,     92.5,2,    66.23,2,    37.18,2,     0.00,2,     2.66,2,   2275.4,2,   2334.8,2,   7.5116,6,    25.00,     1110
  49UF20170719,KS1706,  5195,  1,     13,  25247,2,20170808,0817,  5.0283, 137.0147, 4674,    906.8,   5.0310,  34.5422,2,-999.0000,9,     94.9,2,    76.05,2,    37.48,2,     0.00,2,     2.69,2,   2281.7,2,   2345.2,2,   7.5137,2,    25.00,     1107
  49UF20170719,KS1706,  5195,  1,     11,  25245,2,20170808,0817,  5.0283, 137.0147, 4674,   1008.1,   4.5846,  34.5523,2,  34.5521,6,     94.8,2,    86.83,2,    37.78,2,     0.00,2,     2.72,2,   2298.6,2,   2357.7,2,   7.5067,2,    25.00,     1104
  49UF20170719,KS1706,  5195,  1,      9,  25243,2,20170808,0817,  5.0283, 137.0147, 4674,   1212.2,   3.7917,  34.5730,2,-999.0000,9,     91.7,2,   104.91,2,    38.88,2,     0.00,2,     2.79,2,   2318.8,2,   2375.4,2,   7.5011,2,    25.00,     1059
  49UF20170719,KS1706,  5195,  1,      7,  25241,3,20170808,0817,  5.0283, 137.0147, 4674,   1413.8,   3.2017,  34.5926,2,  34.5920,2,     97.9,2,   116.40,2,    38.79,2,     0.00,2,     2.79,2,   2325.8,2,   2389.0,2,   7.5071,2,    25.00,     1046
  49UF20170719,KS1706,  5195,  1,      5,  25239,2,20170808,0817,  5.0283, 137.0147, 4674,   1618.0,   2.7516,  34.6107,2,-999.0000,9,    104.2,2,   125.77,2,    38.89,2,     0.00,2,     2.77,2,   2332.7,2,   2396.9,2,   7.5156,2,    25.00,     1041
  49UF20170719,KS1706,  5195,  1,      3,  25237,2,20170808,0817,  5.0283, 137.0147, 4674,   1818.8,   2.3999,  34.6272,2,  34.6266,2,    109.2,2,   133.77,2,    38.57,2,     0.00,2,     2.75,2,   2339.3,2,   2406.0,2,   7.5229,2,    25.00,     1037
  49UF20170719,KS1706,  5195,  1,      1,  25235,2,20170808,0817,  5.0283, 137.0147, 4674,   2022.1,   2.1603,  34.6394,2,  34.6389,2,    115.4,2,   138.17,2,    38.40,2,     0.00,2,     2.72,2,   2341.2,6,   2411.1,6,   7.5331,2,    25.00,     1033
  49UF20170719,KS1706,  5195,  1,     24,  25258,2,20170808,0817,  5.0283, 137.0147, 4674,   2277.3,   1.9511,  34.6508,2,  34.6506,2,    123.7,2,   141.55,2,    37.81,2,     0.00,2,     2.68,2,   2336.8,2,   2414.3,2,   7.5425,6,    25.00,     1027
  49UF20170719,KS1706,  5195,  1,     22,  25256,2,20170808,0817,  5.0283, 137.0147, 4674,   2529.7,   1.7704,  34.6596,2,  34.6591,6,    132.5,2,   143.07,2,    37.35,2,     0.00,2,     2.63,2,   2332.8,2,   2414.7,2,   7.5543,2,    25.00,      913
  49UF20170719,KS1706,  5195,  1,     20,  24270,2,20170808,0817,  5.0283, 137.0147, 4674,   2785.1,   1.6370,  34.6685,2,  34.6681,2,    140.2,2,   143.12,2,    36.72,2,     0.00,2,     2.59,2,   2332.3,2,   2416.8,2,   7.5664,2,    25.00,      907
  49UF20170719,KS1706,  5195,  1,     18,  25252,2,20170808,0817,  5.0283, 137.0147, 4674,   3040.9,   1.5810,  34.6732,2,  34.6729,2,    144.6,2,   143.01,2,    36.42,2,     0.00,2,     2.56,2,   2330.6,2,   2416.9,2,   7.5742,2,    25.00,      900
  49UF20170719,KS1706,  5195,  1,     16,  25250,2,20170808,0817,  5.0283, 137.0147, 4674,   3297.2,   1.5614,  34.6760,2,  34.6757,2,    147.5,6,   142.88,6,    36.31,6,     0.00,6,     2.55,6,   2328.4,2,   2417.6,2,   7.5772,2,    25.00,      853
  49UF20170719,KS1706,  5195,  1,     14,  25248,2,20170808,0817,  5.0283, 137.0147, 4674,   3548.5,   1.5356,  34.6797,2,  34.6793,2,    150.4,2,   142.61,2,    36.14,2,     0.00,2,     2.53,2,   2327.9,2,   2417.2,2,   7.5844,2,    25.00,      847
  49UF20170719,KS1706,  5195,  1,     12,  25246,2,20170808,0817,  5.0283, 137.0147, 4674,   3802.7,   1.5157,  34.6834,2,  34.6832,2,    153.5,2,   142.08,2,    35.86,2,     0.00,2,     2.51,2,   2325.9,2,   2418.4,6,   7.5890,2,    25.00,      841
  49UF20170719,KS1706,  5195,  1,     10,  25244,2,20170808,0817,  5.0283, 137.0147, 4674,   4061.2,   1.5125,  34.6856,2,  34.6855,2,    156.4,2,   141.27,2,    35.79,2,     0.00,2,     2.50,2,   2323.1,2,   2417.0,2,   7.5930,6,    25.00,      836
  49UF20170719,KS1706,  5195,  1,      8,  25242,2,20170808,0817,  5.0283, 137.0147, 4674,   4317.7,   1.5159,  34.6873,2,  34.6863,2,    158.4,2,   140.87,2,    35.58,2,     0.00,2,     2.49,2,   2323.7,2,   2414.9,2,   7.5956,2,    25.00,      830
  49UF20170719,KS1706,  5195,  1,      6,  25240,2,20170808,0817,  5.0283, 137.0147, 4674,   4574.6,   1.5210,  34.6887,2,  34.6880,2,    161.4,6,   139.88,6,    35.46,6,     0.00,6,     2.48,6,   2322.1,2,   2413.2,2,   7.5974,2,    25.00,      824
  49UF20170719,KS1706,  5195,  1,      2,  25236,2,20170808,0817,  5.0283, 137.0147, 4674,   4831.7,   1.5465,  34.6889,2,  34.6883,2,    161.4,2,   139.67,2,    35.39,2,     0.00,2,     2.47,2,   2319.4,2,   2412.9,2,   7.5984,2,    25.00,      817
  49UF20170719,KS1706,  5195,  1,      4,  25238,2,20170808,0817,  5.0283, 137.0147, 4674,   4832.3,   1.5468,  34.6889,2,  34.6890,2,    161.6,2,   139.55,2,    35.29,2,     0.00,2,     2.47,2,   2320.3,2,   2413.5,2,   7.5971,2,    25.00,      817