BOTTLE,20200103PRINUNIVRMK
EXPOCODE,SECT_ID,STNNBR,CASTNO,SAMPNO,BTLNBR,BTLNBR_FLAG_W,DATE,TIME,LATITUDE,LONGITUDE,DEPTH,CTDPRS,CTDTMP,CTDSAL,CTDSAL_FLAG_W,SALNTY,SALNTY_FLAG_W,OXYGEN,OXYGEN_FLAG_W,SILCAT,SILCAT_FLAG_W,NITRAT,NITRAT_FLAG_W,NITRIT,NITRIT_FLAG_W,PHSPHT,PHSPHT_FLAG_W,TCARBN,TCARBN_FLAG_W,ALKALI,ALKALI_FLAG_W,PH_TOT,PH_TOT_FLAG_W,PH_TMP,BTL_TIME
,,,,,,,,,,,METERS,DBAR,ITS-90,PSS-78,,PSS-78,,UMOL/KG,,UMOL/KG,,UMOL/KG,,UMOL/KG,,UMOL/KG,,UMOL/KG,,UMOL/KG,,,,DEG C,
  49UF20170719,KS1706,  5190,  1,     99,     99,2,20170803,1334, 10.9992, 149.3220, 5766,      0.0,  30.4347,  34.2594,2,-999.0000,9,    193.5,2,     1.25,2,     0.00,2,     0.00,2,     0.06,2,   -999.0,9,   -999.0,9,-999.0000,9,  -999.00,     1531
  49UF20170719,KS1706,  5190,  1,     36,  25270,2,20170803,1334, 10.9992, 149.3220, 5766,     10.7,  30.2222,  34.2435,2,  34.2403,2,    194.4,2,     1.21,2,     0.00,2,     0.00,2,     0.04,2,   -999.0,9,   -999.0,9,-999.0000,9,  -999.00,     1600
  49UF20170719,KS1706,  5190,  1,     35,  25269,2,20170803,1334, 10.9992, 149.3220, 5766,     25.2,  30.0772,  34.2441,2,  34.2426,2,    195.3,2,     1.21,2,     0.00,2,     0.00,2,     0.04,2,   -999.0,9,   -999.0,9,-999.0000,9,  -999.00,     1558
  49UF20170719,KS1706,  5190,  1,     34,  25268,2,20170803,1334, 10.9992, 149.3220, 5766,     50.9,  29.7172,  34.3276,2,-999.0000,9,    196.6,2,     1.21,2,     0.00,2,     0.00,2,     0.05,2,   -999.0,9,   -999.0,9,-999.0000,9,  -999.00,     1554
  49UF20170719,KS1706,  5190,  1,     33,  25267,2,20170803,1334, 10.9992, 149.3220, 5766,     76.4,  29.2905,  34.3184,2,  34.3191,2,    199.5,2,     1.21,2,     0.00,2,     0.00,2,     0.06,2,   -999.0,9,   -999.0,9,-999.0000,9,  -999.00,     1553
  49UF20170719,KS1706,  5190,  1,     32,  25266,2,20170803,1334, 10.9992, 149.3220, 5766,    102.1,  28.6268,  34.3931,2,-999.0000,9,    202.2,2,     1.15,2,     0.00,2,     0.00,2,     0.08,2,   -999.0,9,   -999.0,9,-999.0000,9,  -999.00,     1552
  49UF20170719,KS1706,  5190,  1,     31,  25265,2,20170803,1334, 10.9992, 149.3220, 5766,    126.9,  26.9909,  34.6396,2,  34.6706,4,    204.1,2,     1.33,2,     0.00,2,     0.00,2,     0.10,2,   -999.0,9,   -999.0,9,-999.0000,9,  -999.00,     1551
  49UF20170719,KS1706,  5190,  1,     30,  25264,2,20170803,1334, 10.9992, 149.3220, 5766,    152.3,  23.2692,  34.9925,2,-999.0000,9,    185.7,2,     2.30,2,     0.26,2,     0.20,2,     0.24,2,   -999.0,9,   -999.0,9,-999.0000,9,  -999.00,     1550
  49UF20170719,KS1706,  5190,  1,     29,  25263,2,20170803,1334, 10.9992, 149.3220, 5766,    201.7,  16.6468,  34.6780,2,  34.6732,2,    169.5,2,     7.36,2,     8.39,2,     0.01,2,     0.68,2,   -999.0,9,   -999.0,9,-999.0000,9,  -999.00,     1548
  49UF20170719,KS1706,  5190,  1,     28,  25262,2,20170803,1334, 10.9992, 149.3220, 5766,    250.8,  12.4396,  34.4455,2,  34.4492,2,    109.1,2,    20.95,2,    21.20,2,     0.00,2,     1.59,2,   -999.0,9,   -999.0,9,-999.0000,9,  -999.00,     1546
  49UF20170719,KS1706,  5190,  1,     27,  25261,2,20170803,1334, 10.9992, 149.3220, 5766,    302.1,   9.8100,  34.2841,2,-999.0000,9,    105.2,2,    32.43,2,    25.71,2,     0.00,2,     1.93,2,   -999.0,9,   -999.0,9,-999.0000,9,  -999.00,     1545
  49UF20170719,KS1706,  5190,  1,     26,  25260,2,20170803,1334, 10.9992, 149.3220, 5766,    352.7,   8.6563,  34.3296,2,  34.3374,2,     73.1,2,    42.45,2,    31.16,2,     0.00,2,     2.31,2,   -999.0,9,   -999.0,9,-999.0000,9,  -999.00,     1543
  49UF20170719,KS1706,  5190,  1,     25,  25259,2,20170803,1334, 10.9992, 149.3220, 5766,    403.2,   7.8037,  34.4163,2,-999.0000,9,     72.6,6,    50.35,6,    33.46,6,     0.00,6,     2.43,6,   -999.0,9,   -999.0,9,-999.0000,9,  -999.00,     1541
  49UF20170719,KS1706,  5190,  1,     24,  25258,2,20170803,1334, 10.9992, 149.3220, 5766,    453.3,   7.3999,  34.4435,2,  34.4443,2,     81.2,2,    53.14,2,    33.76,2,     0.00,2,     2.43,2,   -999.0,9,   -999.0,9,-999.0000,9,  -999.00,     1539
  49UF20170719,KS1706,  5190,  1,     23,  25257,2,20170803,1334, 10.9992, 149.3220, 5766,    503.6,   6.8838,  34.4536,2,-999.0000,9,     83.2,2,    58.06,2,    34.48,2,     0.00,2,     2.49,2,   -999.0,9,   -999.0,9,-999.0000,9,  -999.00,     1537
  49UF20170719,KS1706,  5190,  1,     22,  25256,2,20170803,1334, 10.9992, 149.3220, 5766,    604.3,   6.2611,  34.4858,2,  34.4956,4,     84.4,2,    64.08,2,    35.73,2,     0.00,2,     2.57,2,   -999.0,9,   -999.0,9,-999.0000,9,  -999.00,     1535
  49UF20170719,KS1706,  5190,  1,     21,  25255,2,20170803,1334, 10.9992, 149.3220, 5766,    704.8,   5.8705,  34.5019,2,-999.0000,9,     82.6,2,    69.29,2,    36.51,2,     0.00,2,     2.64,2,   -999.0,9,   -999.0,9,-999.0000,9,  -999.00,     1532
  49UF20170719,KS1706,  5190,  1,     20,  24270,2,20170803,1334, 10.9992, 149.3220, 5766,    807.3,   5.3558,  34.5176,2,  34.5217,2,     82.2,2,    77.82,2,    37.57,2,     0.00,2,     2.70,2,   -999.0,9,   -999.0,9,-999.0000,9,  -999.00,     1529
  49UF20170719,KS1706,  5190,  1,     19,  25253,2,20170803,1334, 10.9992, 149.3220, 5766,    907.5,   4.9351,  34.5300,2,-999.0000,9,     82.1,2,    85.54,2,    38.12,2,     0.00,2,     2.74,2,   -999.0,9,   -999.0,9,-999.0000,9,  -999.00,     1526
  49UF20170719,KS1706,  5190,  1,     18,  25252,2,20170803,1334, 10.9992, 149.3220, 5766,   1009.3,   4.4459,  34.5392,2,  34.5411,2,     80.1,2,    95.88,2,    38.79,2,     0.00,2,     2.80,2,   -999.0,9,   -999.0,9,-999.0000,9,  -999.00,     1523
  49UF20170719,KS1706,  5190,  1,     17,  25251,2,20170803,1334, 10.9992, 149.3220, 5766,   1210.6,   3.7455,  34.5616,2,-999.0000,9,     85.0,2,   109.80,2,    39.22,2,     0.00,2,     2.82,2,   -999.0,9,   -999.0,9,-999.0000,9,  -999.00,     1519
  49UF20170719,KS1706,  5190,  1,     16,  25250,2,20170803,1334, 10.9992, 149.3220, 5766,   1412.8,   3.0975,  34.5849,2,  34.5847,2,     91.7,2,   122.90,2,    39.26,2,     0.00,2,     2.81,2,   -999.0,9,   -999.0,9,-999.0000,9,  -999.00,     1514
  49UF20170719,KS1706,  5190,  1,     15,  25249,2,20170803,1334, 10.9992, 149.3220, 5766,   1615.7,   2.6515,  34.6046,2,-999.0000,9,    100.4,2,   131.01,2,    38.93,2,     0.00,2,     2.77,2,   -999.0,9,   -999.0,9,-999.0000,9,  -999.00,     1509
  49UF20170719,KS1706,  5190,  1,     14,  25248,2,20170803,1334, 10.9992, 149.3220, 5766,   1818.8,   2.3626,  34.6191,2,  34.6196,2,    107.6,2,   136.74,2,    38.60,2,     0.00,2,     2.74,2,   -999.0,9,   -999.0,9,-999.0000,9,  -999.00,     1504
  49UF20170719,KS1706,  5190,  1,     13,  25247,2,20170803,1334, 10.9992, 149.3220, 5766,   2022.9,   2.1783,  34.6345,2,  34.6352,2,    110.7,6,   140.29,6,    38.62,6,     0.00,6,     2.74,6,   -999.0,9,   -999.0,9,-999.0000,9,  -999.00,     1500
  49UF20170719,KS1706,  5190,  1,     12,  25246,2,20170803,1334, 10.9992, 149.3220, 5766,   2276.2,   1.9838,  34.6452,2,  34.6484,4,    117.1,2,   143.98,2,    38.31,2,     0.00,2,     2.70,2,   -999.0,9,   -999.0,9,-999.0000,9,  -999.00,     1454
  49UF20170719,KS1706,  5190,  1,     11,  25245,2,20170803,1334, 10.9992, 149.3220, 5766,   2529.2,   1.8156,  34.6556,2,  34.6568,2,    124.5,2,   146.53,2,    37.82,2,     0.00,2,     2.66,2,   -999.0,9,   -999.0,9,-999.0000,9,  -999.00,     1448
  49UF20170719,KS1706,  5190,  1,     10,  25244,2,20170803,1334, 10.9992, 149.3220, 5766,   3038.6,   1.6125,  34.6706,2,  34.6716,2,    137.0,2,   147.38,2,    37.01,2,     0.00,2,     2.60,2,   -999.0,9,   -999.0,9,-999.0000,9,  -999.00,     1438
  49UF20170719,KS1706,  5190,  1,      9,  25243,2,20170803,1334, 10.9992, 149.3220, 5766,   3293.5,   1.5486,  34.6772,2,  34.6768,6,    143.8,2,   146.06,2,    36.55,2,     0.00,2,     2.56,2,   -999.0,9,   -999.0,9,-999.0000,9,  -999.00,     1432
  49UF20170719,KS1706,  5190,  1,      8,  25242,2,20170803,1334, 10.9992, 149.3220, 5766,   3549.8,   1.5022,  34.6811,2,  34.6808,2,    150.2,2,   144.06,2,    36.14,2,     0.00,2,     2.53,2,   -999.0,9,   -999.0,9,-999.0000,9,  -999.00,     1426
  49UF20170719,KS1706,  5190,  1,      7,  25241,2,20170803,1334, 10.9992, 149.3220, 5766,   4061.5,   1.4582,  34.6883,2,  34.6877,2,    159.4,3,   140.51,2,    35.44,2,     0.00,2,     2.48,2,   -999.0,9,   -999.0,9,-999.0000,9,  -999.00,     1415
  49UF20170719,KS1706,  5190,  1,      6,  25240,2,20170803,1334, 10.9992, 149.3220, 5766,   4317.4,   1.4438,  34.6913,2,  34.6911,2,    165.9,2,   137.50,2,    35.09,2,     0.00,2,     2.44,2,   -999.0,9,   -999.0,9,-999.0000,9,  -999.00,     1409
  49UF20170719,KS1706,  5190,  1,      5,  25239,2,20170803,1334, 10.9992, 149.3220, 5766,   4573.3,   1.4430,  34.6932,2,  34.6932,2,    169.0,2,   135.87,2,    34.75,2,     0.00,2,     2.43,2,   -999.0,9,   -999.0,9,-999.0000,9,  -999.00,     1404
  49UF20170719,KS1706,  5190,  1,      4,  25238,2,20170803,1334, 10.9992, 149.3220, 5766,   5088.7,   1.4651,  34.6961,2,  34.6969,2,    174.4,2,   133.43,2,    34.54,2,     0.00,2,     2.40,2,   -999.0,9,   -999.0,9,-999.0000,9,  -999.00,     1353
  49UF20170719,KS1706,  5190,  1,      3,  25237,2,20170803,1334, 10.9992, 149.3220, 5766,   5344.7,   1.4900,  34.6966,2,  34.6959,6,    174.1,3,   133.11,6,    34.39,6,     0.00,6,     2.40,6,   -999.0,9,   -999.0,9,-999.0000,9,  -999.00,     1347
  49UF20170719,KS1706,  5190,  1,      2,  25236,2,20170803,1334, 10.9992, 149.3220, 5766,   5604.9,   1.5217,  34.6967,2,-999.0000,5,    175.5,2,   132.29,2,    34.36,2,     0.00,2,     2.39,2,   -999.0,9,   -999.0,9,-999.0000,9,  -999.00,     1341
  49UF20170719,KS1706,  5190,  1,      1,  25235,2,20170803,1334, 10.9992, 149.3220, 5766,   5899.1,   1.5534,  34.6972,2,-999.0000,5,    175.1,3,   132.56,2,    34.36,2,     0.00,2,     2.39,2,   -999.0,9,   -999.0,9,-999.0000,9,  -999.00,     1334
  49UF20170719,KS1706,  5191,  1,     99,     99,2,20170804,0000,  9.9902, 149.3287, 5519,      0.0,  30.3840,  34.2554,2,  34.2575,2,    193.8,2,     1.35,2,     0.07,2,     0.00,2,     0.07,2,   1918.5,2,   2250.9,2,   8.1182,2,    25.00,      158
  49UF20170719,KS1706,  5191,  1,     36,  25270,2,20170804,0000,  9.9902, 149.3287, 5519,      9.5,  30.1930,  34.2489,2,  34.2519,2,    194.7,2,     1.31,2,     0.04,2,     0.00,2,     0.05,2,   1921.7,2,   2249.3,2,   8.1189,2,    25.00,      232
  49UF20170719,KS1706,  5191,  1,     35,  25269,2,20170804,0000,  9.9902, 149.3287, 5519,     24.6,  29.6708,  34.2578,2,-999.0000,9,    196.5,2,     1.33,2,     0.04,2,     0.00,2,     0.06,2,   1922.4,2,   2247.6,2,   8.1174,2,    25.00,      230
  49UF20170719,KS1706,  5191,  1,     34,  25268,2,20170804,0000,  9.9902, 149.3287, 5519,     53.5,  29.4653,  34.3088,2,  34.3077,2,    197.4,2,     1.31,2,     0.03,2,     0.00,2,     0.06,2,   1922.5,2,   2252.4,2,   8.1166,2,    25.00,      226
  49UF20170719,KS1706,  5191,  1,     33,  25267,2,20170804,0000,  9.9902, 149.3287, 5519,     75.0,  29.0522,  34.4033,2,-999.0000,9,    201.9,2,     1.27,2,     0.04,2,     0.00,2,     0.08,2,   1935.2,2,   2257.7,2,   8.1078,2,    25.00,      225
  49UF20170719,KS1706,  5191,  1,     32,  25266,2,20170804,0000,  9.9902, 149.3287, 5519,    100.1,  27.8406,  34.4357,2,  34.4403,2,    203.3,2,     1.40,2,     0.05,2,     0.00,2,     0.10,2,   1947.1,2,   2264.7,2,   8.0931,2,    25.00,      224
  49UF20170719,KS1706,  5191,  1,     31,  25265,2,20170804,0000,  9.9902, 149.3287, 5519,    125.5,  24.2419,  34.8373,2,-999.0000,9,    196.6,2,     2.04,2,     0.04,2,     0.00,2,     0.18,2,   2016.8,2,   2295.4,2,   8.0198,2,    25.00,      222
  49UF20170719,KS1706,  5191,  1,     30,  25264,2,20170804,0000,  9.9902, 149.3287, 5519,    150.2,  21.3849,  34.8005,2,  34.8012,2,    165.8,2,     4.91,2,     3.84,2,     0.17,2,     0.48,2,   2066.3,2,   2292.0,2,   7.9255,2,    25.00,      221
  49UF20170719,KS1706,  5191,  1,     29,  25263,2,20170804,0000,  9.9902, 149.3287, 5519,    201.7,  13.8485,  34.4783,2,  34.4689,2,    140.5,2,    15.18,2,    15.88,2,     0.00,2,     1.20,2,   2135.1,2,   2274.2,2,   7.7395,2,    25.00,      219
  49UF20170719,KS1706,  5191,  1,     28,  25262,2,20170804,0000,  9.9902, 149.3287, 5519,    251.6,  10.8683,  34.5073,2,-999.0000,9,     61.8,2,    29.92,2,    29.08,2,     0.00,2,     2.14,2,   2220.0,2,   2288.9,2,   7.5366,2,    25.00,      217
  49UF20170719,KS1706,  5191,  1,     27,  25261,2,20170804,0000,  9.9902, 149.3287, 5519,    300.8,   9.8720,  34.6045,2,  34.6046,2,     37.2,2,    34.47,2,    33.46,2,     0.00,2,     2.42,2,   2249.8,2,   2298.3,2,   7.4797,2,    25.00,      215
  49UF20170719,KS1706,  5191,  1,     26,  25260,2,20170804,0000,  9.9902, 149.3287, 5519,    352.3,   9.0111,  34.5699,2,-999.0000,9,     57.9,2,    38.55,2,    33.32,2,     0.00,2,     2.39,2,   2244.7,2,   2302.0,2,   7.5035,2,    25.00,      213
  49UF20170719,KS1706,  5191,  1,     25,  25259,2,20170804,0000,  9.9902, 149.3287, 5519,    402.0,   8.4836,  34.5510,2,  34.5510,2,     71.2,2,    41.02,2,    33.20,2,     0.00,2,     2.37,2,   2245.3,2,   2304.4,2,   7.5199,2,    25.00,      212
  49UF20170719,KS1706,  5191,  1,     24,  25258,2,20170804,0000,  9.9902, 149.3287, 5519,    452.5,   8.1597,  34.5597,2,-999.0000,9,     67.0,2,    42.88,2,    34.25,2,     0.00,2,     2.45,2,   2253.1,2,   2307.8,2,   7.5058,2,    25.00,      210
  49UF20170719,KS1706,  5191,  1,     23,  25257,2,20170804,0000,  9.9902, 149.3287, 5519,    503.3,   7.7491,  34.5510,2,  34.5503,2,     65.3,2,    46.65,2,    35.21,2,     0.00,2,     2.52,2,   2260.1,2,   2311.0,2,   7.4951,2,    25.00,      208
  49UF20170719,KS1706,  5191,  1,     22,  25256,2,20170804,0000,  9.9902, 149.3287, 5519,    603.7,   6.8837,  34.5332,2,-999.0000,9,     60.4,6,    56.21,6,    37.17,6,     0.00,6,     2.68,6,   2273.4,2,   2320.5,2,   7.4723,2,    25.00,      205
  49UF20170719,KS1706,  5191,  1,     21,  25255,2,20170804,0000,  9.9902, 149.3287, 5519,    702.6,   6.1228,  34.5279,2,  34.5280,2,     73.0,2,    65.09,2,    37.31,2,     0.00,2,     2.69,2,   2276.6,6,   2330.6,6,   7.4883,2,    25.00,      202
  49UF20170719,KS1706,  5191,  1,     20,  24270,2,20170804,0000,  9.9902, 149.3287, 5519,    806.2,   5.5009,  34.5330,2,-999.0000,9,     74.6,2,    74.81,2,    38.28,2,     0.00,2,     2.75,2,   2289.2,2,   2340.7,2,   7.4830,6,    25.00,      159
  49UF20170719,KS1706,  5191,  1,     19,  25253,2,20170804,0000,  9.9902, 149.3287, 5519,    905.9,   5.0595,  34.5393,2,  34.5392,2,     74.2,2,    82.51,2,    38.88,2,     0.00,2,     2.80,2,   2300.9,2,   2347.5,2,   7.4789,2,    25.00,      156
  49UF20170719,KS1706,  5191,  1,     18,  25252,2,20170804,0000,  9.9902, 149.3287, 5519,   1008.5,   4.6563,  34.5476,2,-999.0000,9,     76.7,2,    89.72,2,    39.07,2,     0.00,2,     2.81,2,   2307.8,2,   2356.0,2,   7.4796,2,    25.00,      153
  49UF20170719,KS1706,  5191,  1,     17,  25251,2,20170804,0000,  9.9902, 149.3287, 5519,   1212.0,   3.8539,  34.5682,2,  34.5680,2,     83.7,2,   105.37,2,    39.37,2,     0.00,2,     2.83,2,   2322.5,2,   2370.8,2,   7.4865,2,    25.00,      148
  49UF20170719,KS1706,  5191,  1,     16,  25250,3,20170804,0000,  9.9902, 149.3287, 5519,   1412.3,   3.2738,  34.5797,2,-999.0000,9,     89.3,2,   118.89,2,    39.23,2,     0.00,2,     2.82,2,   2332.5,2,   2387.2,2,   7.4917,2,    25.00,      135
  49UF20170719,KS1706,  5191,  1,     15,  25249,2,20170804,0000,  9.9902, 149.3287, 5519,   1614.9,   2.7407,  34.5990,2,  34.5995,2,     98.2,2,   129.55,2,    39.04,2,     0.00,2,     2.78,2,   2339.7,2,   2396.1,2,   7.5029,2,    25.00,      130
  49UF20170719,KS1706,  5191,  1,     14,  25248,2,20170804,0000,  9.9902, 149.3287, 5519,   1817.8,   2.4336,  34.6194,2,-999.0000,9,    105.0,2,   134.87,2,    38.76,2,     0.00,2,     2.76,2,   2338.6,6,   2404.7,6,   7.5143,2,    25.00,      125
  49UF20170719,KS1706,  5191,  1,     13,  25247,2,20170804,0000,  9.9902, 149.3287, 5519,   2020.6,   2.1940,  34.6337,2,  34.6340,2,    110.1,2,   139.65,2,    38.64,2,     0.00,2,     2.74,2,   2345.7,2,   2410.1,2,   7.5202,6,    25.00,      121
  49UF20170719,KS1706,  5191,  1,     12,  25246,2,20170804,0000,  9.9902, 149.3287, 5519,   2527.9,   1.8393,  34.6554,2,  34.6553,2,    123.9,6,   145.50,6,    37.84,6,     0.00,6,     2.67,6,   2343.0,2,   2416.0,2,   7.5424,2,    25.00,      110
  49UF20170719,KS1706,  5191,  1,     11,  25245,2,20170804,0000,  9.9902, 149.3287, 5519,   2783.5,   1.7262,  34.6627,2,  34.6624,6,    129.3,2,   146.97,2,    37.40,2,     0.00,2,     2.64,2,   2339.8,2,   2416.9,2,   7.5510,2,    25.00,      104
  49UF20170719,KS1706,  5191,  1,     10,  25244,2,20170804,0000,  9.9902, 149.3287, 5519,   3041.1,   1.6223,  34.6703,2,  34.6705,2,    137.2,2,   147.12,2,    37.03,2,     0.00,2,     2.61,2,   2333.3,2,   2417.5,2,   7.5594,2,    25.00,       58
  49UF20170719,KS1706,  5191,  1,      9,  25243,2,20170804,0000,  9.9902, 149.3287, 5519,   3548.2,   1.5095,  34.6805,2,  34.6802,2,    149.4,2,   144.40,2,    36.25,2,     0.00,2,     2.53,2,   2326.7,2,   2413.3,2,   7.5779,2,    25.00,       48
  49UF20170719,KS1706,  5191,  1,      8,  25242,2,20170804,0000,  9.9902, 149.3287, 5519,   3806.8,   1.4773,  34.6848,2,  34.6841,2,    154.8,2,   141.75,2,    35.70,2,     0.00,2,     2.50,2,   2320.4,2,   2412.1,2,   7.5861,2,    25.00,       42
  49UF20170719,KS1706,  5191,  1,      7,  25241,2,20170804,0000,  9.9902, 149.3287, 5519,   4062.6,   1.4451,  34.6890,2,  34.6879,6,    160.7,3,   138.48,2,    35.36,2,     0.00,2,     2.47,2,   2316.2,2,   2408.4,2,   7.5954,2,    25.00,       37
  49UF20170719,KS1706,  5191,  1,      6,  25240,2,20170804,0000,  9.9902, 149.3287, 5519,   4318.0,   1.4320,  34.6922,2,  34.6920,2,    167.2,2,   136.09,2,    34.88,2,     0.00,2,     2.44,2,   2310.8,2,   2405.9,2,   7.6001,2,    25.00,       31
  49UF20170719,KS1706,  5191,  1,      5,  25239,3,20170804,0000,  9.9902, 149.3287, 5519,   4573.8,   1.4297,  34.6943,2,  34.6925,2,    169.5,4,   134.22,6,    34.70,6,     0.00,6,     2.42,6,   2307.3,2,   2403.1,2,   7.6030,2,    25.00,       25
  49UF20170719,KS1706,  5191,  1,      4,  25238,2,20170804,0000,  9.9902, 149.3287, 5519,   4830.7,   1.4392,  34.6957,2,-999.0000,5,    173.6,2,   132.50,2,    34.41,2,     0.00,2,     2.40,2,   2304.5,6,   2400.4,6,   7.6074,2,    25.00,       19
  49UF20170719,KS1706,  5191,  1,      3,  25237,2,20170804,0000,  9.9902, 149.3287, 5519,   5088.5,   1.4586,  34.6966,2,  34.6957,2,    174.7,2,   132.16,2,    34.24,2,     0.00,2,     2.39,2,   2303.3,2,   2400.5,2,   7.6091,6,    25.00,       13
  49UF20170719,KS1706,  5191,  1,      2,  25236,2,20170804,0000,  9.9902, 149.3287, 5519,   5344.7,   1.4846,  34.6970,2,  34.6975,6,    176.2,2,   131.46,2,    34.26,2,     0.00,2,     2.38,2,   2300.5,2,   2399.7,2,   7.6110,2,    25.00,        7
  49UF20170719,KS1706,  5191,  1,      1,  25235,2,20170804,0000,  9.9902, 149.3287, 5519,   5641.2,   1.5147,  34.6974,2,  34.6977,6,    177.1,2,   131.67,2,    34.31,2,     0.00,2,     2.38,2,   2300.2,2,   2399.4,2,   7.6092,2,    25.00,        0