BOTTLE,20200103PRINUNIVRMK
EXPOCODE,SECT_ID,STNNBR,CASTNO,SAMPNO,BTLNBR,BTLNBR_FLAG_W,DATE,TIME,LATITUDE,LONGITUDE,DEPTH,CTDPRS,CTDTMP,CTDSAL,CTDSAL_FLAG_W,SALNTY,SALNTY_FLAG_W,OXYGEN,OXYGEN_FLAG_W,SILCAT,SILCAT_FLAG_W,NITRAT,NITRAT_FLAG_W,NITRIT,NITRIT_FLAG_W,PHSPHT,PHSPHT_FLAG_W,TCARBN,TCARBN_FLAG_W,ALKALI,ALKALI_FLAG_W,PH_TOT,PH_TOT_FLAG_W,PH_TMP,BTL_TIME
,,,,,,,,,,,METERS,DBAR,ITS-90,PSS-78,,PSS-78,,UMOL/KG,,UMOL/KG,,UMOL/KG,,UMOL/KG,,UMOL/KG,,UMOL/KG,,UMOL/KG,,,,DEG C,
  49UF20170719,KS1706,  5188,  1,     99,     99,2,20170802,1557, 13.0278, 149.2995, 5909,      0.0,  30.2084,  34.3368,2,-999.0000,9,    193.4,2,     1.29,2,     0.01,2,     0.00,2,     0.08,2,   -999.0,9,   -999.0,9,-999.0000,9,  -999.00,     1750
  49UF20170719,KS1706,  5188,  1,     36,  25270,2,20170802,1557, 13.0278, 149.2995, 5909,     11.3,  30.1226,  34.3312,2,  34.3304,2,    193.7,2,     1.25,2,     0.03,2,     0.00,2,     0.05,2,   -999.0,9,   -999.0,9,-999.0000,9,  -999.00,     1825
  49UF20170719,KS1706,  5188,  1,     35,  25269,2,20170802,1557, 13.0278, 149.2995, 5909,     26.0,  29.8929,  34.3785,2,  34.3759,2,    196.2,2,     1.25,2,     0.04,2,     0.00,2,     0.06,2,   -999.0,9,   -999.0,9,-999.0000,9,  -999.00,     1823
  49UF20170719,KS1706,  5188,  1,     34,  25268,2,20170802,1557, 13.0278, 149.2995, 5909,     51.9,  29.7206,  34.3926,2,-999.0000,9,    196.1,2,     1.25,2,     0.02,2,     0.00,2,     0.06,2,   -999.0,9,   -999.0,9,-999.0000,9,  -999.00,     1819
  49UF20170719,KS1706,  5188,  1,     33,  25267,2,20170802,1557, 13.0278, 149.2995, 5909,     76.8,  29.2982,  34.3696,2,  34.3675,2,    198.9,2,     1.21,2,     0.00,2,     0.00,2,     0.07,2,   -999.0,9,   -999.0,9,-999.0000,9,  -999.00,     1818
  49UF20170719,KS1706,  5188,  1,     32,  25266,2,20170802,1557, 13.0278, 149.2995, 5909,    102.2,  28.7667,  34.4629,2,-999.0000,9,    201.7,2,     1.25,2,     0.07,2,     0.00,2,     0.08,2,   -999.0,9,   -999.0,9,-999.0000,9,  -999.00,     1816
  49UF20170719,KS1706,  5188,  1,     31,  25265,2,20170802,1557, 13.0278, 149.2995, 5909,    126.4,  28.0567,  34.5945,2,  34.5842,2,    204.3,2,     1.25,2,     0.00,2,     0.00,2,     0.08,2,   -999.0,9,   -999.0,9,-999.0000,9,  -999.00,     1815
  49UF20170719,KS1706,  5188,  1,     30,  25264,2,20170802,1557, 13.0278, 149.2995, 5909,    152.8,  26.7282,  34.8951,2,-999.0000,9,    204.4,2,     1.29,2,     0.04,2,     0.00,2,     0.07,2,   -999.0,9,   -999.0,9,-999.0000,9,  -999.00,     1814
  49UF20170719,KS1706,  5188,  1,     29,  25263,2,20170802,1557, 13.0278, 149.2995, 5909,    203.5,  19.6080,  34.9232,2,  34.9232,2,    172.0,6,     4.16,6,     4.54,6,     0.02,6,     0.46,6,   -999.0,9,   -999.0,9,-999.0000,9,  -999.00,     1812
  49UF20170719,KS1706,  5188,  1,     28,  25262,2,20170802,1557, 13.0278, 149.2995, 5909,    252.7,  14.0545,  34.4518,2,  34.4499,2,    174.7,2,    11.12,2,    11.72,2,     0.01,2,     0.88,2,   -999.0,9,   -999.0,9,-999.0000,9,  -999.00,     1809
  49UF20170719,KS1706,  5188,  1,     27,  25261,2,20170802,1557, 13.0278, 149.2995, 5909,    303.3,  11.1215,  34.2778,2,-999.0000,9,    142.5,2,    22.60,2,    19.88,2,     0.00,2,     1.48,2,   -999.0,9,   -999.0,9,-999.0000,9,  -999.00,     1808
  49UF20170719,KS1706,  5188,  1,     26,  25260,2,20170802,1557, 13.0278, 149.2995, 5909,    353.1,   9.3643,  34.3495,2,  34.3556,2,     83.5,2,    36.90,2,    29.02,2,     0.00,2,     2.15,2,   -999.0,9,   -999.0,9,-999.0000,9,  -999.00,     1806
  49UF20170719,KS1706,  5188,  1,     25,  25259,2,20170802,1557, 13.0278, 149.2995, 5909,    404.0,   8.3689,  34.4021,2,-999.0000,9,     72.5,2,    45.08,2,    32.19,2,     0.00,2,     2.35,2,   -999.0,9,   -999.0,9,-999.0000,9,  -999.00,     1804
  49UF20170719,KS1706,  5188,  1,     24,  25258,2,20170802,1557, 13.0278, 149.2995, 5909,    453.8,   7.6120,  34.4308,2,  34.4340,2,     73.5,2,    51.47,2,    33.90,2,     0.00,2,     2.45,2,   -999.0,9,   -999.0,9,-999.0000,9,  -999.00,     1802
  49UF20170719,KS1706,  5188,  1,     23,  25257,2,20170802,1557, 13.0278, 149.2995, 5909,    503.8,   7.1370,  34.4374,2,-999.0000,9,     75.0,6,    55.59,6,    34.62,6,     0.00,6,     2.50,6,   -999.0,9,   -999.0,9,-999.0000,9,  -999.00,     1800
  49UF20170719,KS1706,  5188,  1,     22,  25256,2,20170802,1557, 13.0278, 149.2995, 5909,    605.7,   6.4831,  34.4853,2,  34.4861,2,     79.2,2,    61.45,2,    35.90,2,     0.00,2,     2.59,2,   -999.0,9,   -999.0,9,-999.0000,9,  -999.00,     1757
  49UF20170719,KS1706,  5188,  1,     21,  25255,2,20170802,1557, 13.0278, 149.2995, 5909,    707.1,   5.9061,  34.4984,2,-999.0000,9,     79.6,2,    69.33,2,    36.78,2,     0.00,2,     2.66,2,   -999.0,9,   -999.0,9,-999.0000,9,  -999.00,     1754
  49UF20170719,KS1706,  5188,  1,     20,  24270,2,20170802,1557, 13.0278, 149.2995, 5909,    806.9,   5.4209,  34.5118,2,  34.5124,2,     76.2,2,    77.83,2,    37.92,2,     0.00,2,     2.74,2,   -999.0,9,   -999.0,9,-999.0000,9,  -999.00,     1752
  49UF20170719,KS1706,  5188,  1,     19,  25253,2,20170802,1557, 13.0278, 149.2995, 5909,    908.8,   5.0130,  34.5262,2,-999.0000,9,     78.6,2,    84.45,2,    38.37,2,     0.00,2,     2.76,2,   -999.0,9,   -999.0,9,-999.0000,9,  -999.00,     1749
  49UF20170719,KS1706,  5188,  1,     18,  25252,2,20170802,1557, 13.0278, 149.2995, 5909,   1009.7,   4.5821,  34.5364,2,  34.5373,2,     79.0,2,    92.65,2,    38.75,2,     0.00,2,     2.80,2,   -999.0,9,   -999.0,9,-999.0000,9,  -999.00,     1746
  49UF20170719,KS1706,  5188,  1,     17,  25251,2,20170802,1557, 13.0278, 149.2995, 5909,   1211.9,   3.7935,  34.5557,2,-999.0000,9,     81.9,2,   109.01,2,    39.43,2,     0.00,2,     2.83,2,   -999.0,9,   -999.0,9,-999.0000,9,  -999.00,     1741
  49UF20170719,KS1706,  5188,  1,     16,  25250,2,20170802,1557, 13.0278, 149.2995, 5909,   1415.4,   3.1603,  34.5772,2,  34.5775,2,     88.2,2,   122.15,2,    39.37,2,     0.00,2,     2.83,2,   -999.0,9,   -999.0,9,-999.0000,9,  -999.00,     1736
  49UF20170719,KS1706,  5188,  1,     15,  25249,2,20170802,1557, 13.0278, 149.2995, 5909,   1616.7,   2.7491,  34.5987,2,-999.0000,9,     97.9,2,   129.42,2,    39.08,2,     0.00,2,     2.79,2,   -999.0,9,   -999.0,9,-999.0000,9,  -999.00,     1731
  49UF20170719,KS1706,  5188,  1,     14,  25248,2,20170802,1557, 13.0278, 149.2995, 5909,   1819.5,   2.4715,  34.6147,2,  34.6151,2,    105.4,2,   134.09,2,    38.71,2,     0.00,2,     2.75,2,   -999.0,9,   -999.0,9,-999.0000,9,  -999.00,     1726
  49UF20170719,KS1706,  5188,  1,     13,  25247,2,20170802,1557, 13.0278, 149.2995, 5909,   2022.6,   2.2628,  34.6268,2,  34.6271,2,    111.7,2,   137.19,2,    38.47,2,     0.00,2,     2.73,2,   -999.0,9,   -999.0,9,-999.0000,9,  -999.00,     1722
  49UF20170719,KS1706,  5188,  1,     12,  25246,2,20170802,1557, 13.0278, 149.2995, 5909,   2276.8,   2.0509,  34.6396,2,  34.6399,2,    117.8,2,   141.52,2,    38.20,2,     0.00,2,     2.71,2,   -999.0,9,   -999.0,9,-999.0000,9,  -999.00,     1716
  49UF20170719,KS1706,  5188,  1,     11,  25245,2,20170802,1557, 13.0278, 149.2995, 5909,   2531.2,   1.8534,  34.6507,2,  34.6509,2,    123.1,2,   145.20,2,    38.04,2,     0.00,2,     2.67,2,   -999.0,9,   -999.0,9,-999.0000,9,  -999.00,     1710
  49UF20170719,KS1706,  5188,  1,     10,  25244,2,20170802,1557, 13.0278, 149.2995, 5909,   3041.2,   1.6383,  34.6688,2,  34.6688,2,    134.6,2,   147.71,2,    37.31,2,     0.00,2,     2.61,2,   -999.0,9,   -999.0,9,-999.0000,9,  -999.00,     1700
  49UF20170719,KS1706,  5188,  1,      9,  25243,2,20170802,1557, 13.0278, 149.2995, 5909,   3294.7,   1.5793,  34.6742,2,  34.6741,2,    140.7,2,   147.05,2,    36.76,2,     0.00,2,     2.58,2,   -999.0,9,   -999.0,9,-999.0000,9,  -999.00,     1655
  49UF20170719,KS1706,  5188,  1,      8,  25242,2,20170802,1557, 13.0278, 149.2995, 5909,   3551.7,   1.5314,  34.6791,2,  34.6795,2,    147.1,6,   145.43,6,    36.40,6,     0.00,6,     2.55,6,   -999.0,9,   -999.0,9,-999.0000,9,  -999.00,     1649
  49UF20170719,KS1706,  5188,  1,      7,  25241,2,20170802,1557, 13.0278, 149.2995, 5909,   4063.8,   1.4715,  34.6871,2,  34.6873,2,    158.9,2,   140.69,2,    35.65,2,     0.00,2,     2.49,2,   -999.0,9,   -999.0,9,-999.0000,9,  -999.00,     1638
  49UF20170719,KS1706,  5188,  1,      6,  25240,2,20170802,1557, 13.0278, 149.2995, 5909,   4576.6,   1.4580,  34.6923,2,  34.6923,6,    167.4,2,   135.98,2,    34.97,2,     0.00,2,     2.44,2,   -999.0,9,   -999.0,9,-999.0000,9,  -999.00,     1628
  49UF20170719,KS1706,  5188,  1,      5,  25239,2,20170802,1557, 13.0278, 149.2995, 5909,   5091.9,   1.4739,  34.6956,2,  34.6952,2,    172.2,2,   132.96,2,    34.62,2,     0.00,2,     2.41,2,   -999.0,9,   -999.0,9,-999.0000,9,  -999.00,     1617
  49UF20170719,KS1706,  5188,  1,      4,  25238,2,20170802,1557, 13.0278, 149.2995, 5909,   5348.0,   1.4937,  34.6964,2,  34.6964,2,    174.7,2,   132.22,2,    34.49,2,     0.00,2,     2.41,2,   -999.0,9,   -999.0,9,-999.0000,9,  -999.00,     1612
  49UF20170719,KS1706,  5188,  1,      3,  25237,2,20170802,1557, 13.0278, 149.2995, 5909,   5606.7,   1.5202,  34.6969,2,  34.6959,2,    174.1,3,   132.34,2,    34.47,2,     0.00,2,     2.40,2,   -999.0,9,   -999.0,9,-999.0000,9,  -999.00,     1607
  49UF20170719,KS1706,  5188,  1,      2,  25236,2,20170802,1557, 13.0278, 149.2995, 5909,   5864.0,   1.5495,  34.6970,2,  34.6979,2,    176.2,2,   131.39,2,    34.29,2,     0.00,2,     2.39,2,   -999.0,9,   -999.0,9,-999.0000,9,  -999.00,     1601
  49UF20170719,KS1706,  5188,  1,      1,  25235,2,20170802,1557, 13.0278, 149.2995, 5909,   6046.6,   1.5711,  34.6972,2,  34.6963,2,    175.0,3,   131.64,2,    34.40,2,     0.00,2,     2.40,2,   -999.0,9,   -999.0,9,-999.0000,9,  -999.00,     1557
  49UF20170719,KS1706,  5189,  1,     99,     99,2,20170803,0329, 12.0033, 149.3257, 5798,      0.0,  30.4812,  34.2182,2,-999.0000,9,    193.8,2,     1.20,2,     0.00,2,     0.00,2,     0.07,2,   -999.0,9,   -999.0,9,-999.0000,9,  -999.00,      522
  49UF20170719,KS1706,  5189,  1,     36,  25270,3,20170803,0329, 12.0033, 149.3257, 5798,     10.6,  30.2368,  34.2135,2,  34.2115,2,    194.1,2,     1.23,2,     0.00,2,     0.00,2,     0.04,2,   -999.0,9,   -999.0,9,-999.0000,9,  -999.00,      551
  49UF20170719,KS1706,  5189,  1,     35,  25269,2,20170803,0329, 12.0033, 149.3257, 5798,     25.9,  29.9313,  34.2460,2,-999.0000,9,    196.3,2,     1.20,2,     0.00,2,     0.00,2,     0.05,2,   -999.0,9,   -999.0,9,-999.0000,9,  -999.00,      550
  49UF20170719,KS1706,  5189,  1,     34,  25268,2,20170803,0329, 12.0033, 149.3257, 5798,     51.6,  29.7028,  34.3449,2,  34.3453,2,    196.2,2,     1.23,2,     0.01,2,     0.00,2,     0.06,2,   -999.0,9,   -999.0,9,-999.0000,9,  -999.00,      546
  49UF20170719,KS1706,  5189,  1,     33,  25267,2,20170803,0329, 12.0033, 149.3257, 5798,     76.7,  28.8800,  34.4067,2,-999.0000,9,    201.2,2,     1.20,2,     0.01,2,     0.00,2,     0.09,2,   -999.0,9,   -999.0,9,-999.0000,9,  -999.00,      545
  49UF20170719,KS1706,  5189,  1,     32,  25266,2,20170803,0329, 12.0033, 149.3257, 5798,    100.6,  27.7851,  34.4491,2,  34.4570,2,    202.1,2,     1.29,2,     0.00,2,     0.00,2,     0.10,2,   -999.0,9,   -999.0,9,-999.0000,9,  -999.00,      544
  49UF20170719,KS1706,  5189,  1,     31,  25265,2,20170803,0329, 12.0033, 149.3257, 5798,    126.7,  26.1367,  34.6079,2,-999.0000,9,    198.6,2,     1.68,2,     0.00,2,     0.00,2,     0.14,2,   -999.0,9,   -999.0,9,-999.0000,9,  -999.00,      542
  49UF20170719,KS1706,  5189,  1,     30,  25264,2,20170803,0329, 12.0033, 149.3257, 5798,    152.9,  22.9763,  34.9113,2,  34.9220,2,    186.2,2,     2.36,2,     0.44,2,     0.21,2,     0.25,2,   -999.0,9,   -999.0,9,-999.0000,9,  -999.00,      541
  49UF20170719,KS1706,  5189,  1,     29,  25263,2,20170803,0329, 12.0033, 149.3257, 5798,    205.4,  17.1399,  34.7216,2,  34.7505,4,    153.8,2,     8.11,2,     9.15,2,     0.01,2,     0.76,2,   -999.0,9,   -999.0,9,-999.0000,9,  -999.00,      539
  49UF20170719,KS1706,  5189,  1,     28,  25262,2,20170803,0329, 12.0033, 149.3257, 5798,    252.7,  13.2610,  34.4230,2,-999.0000,9,    152.0,2,    15.37,2,    15.35,2,     0.00,2,     1.16,2,   -999.0,9,   -999.0,9,-999.0000,9,  -999.00,      538
  49UF20170719,KS1706,  5189,  1,     27,  25261,2,20170803,0329, 12.0033, 149.3257, 5798,    303.1,  10.4212,  34.2877,2,  34.2813,2,    119.7,2,    27.70,2,    23.17,2,     0.00,2,     1.75,2,   -999.0,9,   -999.0,9,-999.0000,9,  -999.00,      536
  49UF20170719,KS1706,  5189,  1,     26,  25260,2,20170803,0329, 12.0033, 149.3257, 5798,    352.8,   8.8493,  34.3132,2,-999.0000,9,     76.7,6,    40.83,6,    30.14,6,     0.00,6,     2.26,6,   -999.0,9,   -999.0,9,-999.0000,9,  -999.00,      534
  49UF20170719,KS1706,  5189,  1,     25,  25259,2,20170803,0329, 12.0033, 149.3257, 5798,    404.1,   7.9900,  34.4214,2,  34.4211,2,     68.2,2,    48.04,2,    33.18,2,     0.00,2,     2.42,2,   -999.0,9,   -999.0,9,-999.0000,9,  -999.00,      533
  49UF20170719,KS1706,  5189,  1,     24,  25258,2,20170803,0329, 12.0033, 149.3257, 5798,    454.8,   7.3974,  34.4627,2,-999.0000,9,     74.2,2,    52.65,2,    34.13,2,     0.00,2,     2.48,2,   -999.0,9,   -999.0,9,-999.0000,9,  -999.00,      530
  49UF20170719,KS1706,  5189,  1,     23,  25257,2,20170803,0329, 12.0033, 149.3257, 5798,    504.3,   6.9358,  34.4682,2,  34.4691,2,     76.6,2,    56.98,2,    34.84,2,     0.00,2,     2.53,2,   -999.0,9,   -999.0,9,-999.0000,9,  -999.00,      528
  49UF20170719,KS1706,  5189,  1,     22,  25256,2,20170803,0329, 12.0033, 149.3257, 5798,    604.4,   6.2449,  34.4895,2,-999.0000,9,     83.4,2,    63.43,2,    35.66,2,     0.00,2,     2.57,2,   -999.0,9,   -999.0,9,-999.0000,9,  -999.00,      526
  49UF20170719,KS1706,  5189,  1,     21,  25255,2,20170803,0329, 12.0033, 149.3257, 5798,    706.2,   5.8600,  34.5052,2,  34.5066,2,     84.2,2,    68.64,2,    36.20,2,     0.00,2,     2.62,2,   -999.0,9,   -999.0,9,-999.0000,9,  -999.00,      523
  49UF20170719,KS1706,  5189,  1,     20,  24270,2,20170803,0329, 12.0033, 149.3257, 5798,    807.9,   5.3734,  34.5208,2,-999.0000,9,     82.1,2,    77.04,2,    37.38,2,     0.00,2,     2.70,2,   -999.0,9,   -999.0,9,-999.0000,9,  -999.00,      520
  49UF20170719,KS1706,  5189,  1,     19,  25253,2,20170803,0329, 12.0033, 149.3257, 5798,    907.6,   4.9621,  34.5262,2,  34.5264,2,     79.4,2,    85.11,2,    38.14,2,     0.00,2,     2.75,2,   -999.0,9,   -999.0,9,-999.0000,9,  -999.00,      518
  49UF20170719,KS1706,  5189,  1,     18,  25252,2,20170803,0329, 12.0033, 149.3257, 5798,   1008.9,   4.4584,  34.5375,2,-999.0000,9,     78.3,2,    96.05,2,    38.84,2,     0.00,2,     2.81,2,   -999.0,9,   -999.0,9,-999.0000,9,  -999.00,      515
  49UF20170719,KS1706,  5189,  1,     17,  25251,2,20170803,0329, 12.0033, 149.3257, 5798,   1211.7,   3.6879,  34.5607,2,  34.5615,2,     82.6,6,   111.22,6,    39.29,6,     0.00,6,     2.83,6,   -999.0,9,   -999.0,9,-999.0000,9,  -999.00,      511
  49UF20170719,KS1706,  5189,  1,     16,  25250,2,20170803,0329, 12.0033, 149.3257, 5798,   1411.8,   3.1332,  34.5804,2,-999.0000,9,     90.6,2,   122.35,2,    39.20,2,     0.00,2,     2.81,2,   -999.0,9,   -999.0,9,-999.0000,9,  -999.00,      506
  49UF20170719,KS1706,  5189,  1,     15,  25249,2,20170803,0329, 12.0033, 149.3257, 5798,   1616.6,   2.6799,  34.5996,2,  34.6006,2,     97.9,2,   131.36,2,    38.86,2,     0.00,2,     2.79,2,   -999.0,9,   -999.0,9,-999.0000,9,  -999.00,      502
  49UF20170719,KS1706,  5189,  1,     14,  25248,2,20170803,0329, 12.0033, 149.3257, 5798,   1818.9,   2.3755,  34.6176,2,-999.0000,9,    106.6,2,   135.90,2,    38.58,2,     0.00,2,     2.75,2,   -999.0,9,   -999.0,9,-999.0000,9,  -999.00,      457
  49UF20170719,KS1706,  5189,  1,     13,  25247,2,20170803,0329, 12.0033, 149.3257, 5798,   2022.1,   2.1644,  34.6310,2,  34.6311,2,    112.3,2,   139.81,2,    38.19,2,     0.00,2,     2.72,2,   -999.0,9,   -999.0,9,-999.0000,9,  -999.00,      452
  49UF20170719,KS1706,  5189,  1,     12,  25246,2,20170803,0329, 12.0033, 149.3257, 5798,   2531.0,   1.8199,  34.6545,2,  34.6555,2,    124.7,2,   145.31,2,    37.76,2,     0.00,2,     2.66,2,   -999.0,9,   -999.0,9,-999.0000,9,  -999.00,      442
  49UF20170719,KS1706,  5189,  1,     11,  25245,2,20170803,0329, 12.0033, 149.3257, 5798,   2784.8,   1.7133,  34.6623,2,  34.6625,2,    130.4,2,   146.73,2,    37.32,2,     0.00,2,     2.63,2,   -999.0,9,   -999.0,9,-999.0000,9,  -999.00,      437
  49UF20170719,KS1706,  5189,  1,     10,  25244,2,20170803,0329, 12.0033, 149.3257, 5798,   3041.1,   1.6361,  34.6687,2,  34.6712,4,    135.5,2,   147.41,2,    36.95,2,     0.00,2,     2.61,2,   -999.0,9,   -999.0,9,-999.0000,9,  -999.00,      431
  49UF20170719,KS1706,  5189,  1,      9,  25243,2,20170803,0329, 12.0033, 149.3257, 5798,   3550.8,   1.5086,  34.6805,2,  34.6807,2,    149.2,2,   144.56,2,    36.14,2,     0.00,2,     2.53,2,   -999.0,9,   -999.0,9,-999.0000,9,  -999.00,      420
  49UF20170719,KS1706,  5189,  1,      8,  25242,2,20170803,0329, 12.0033, 149.3257, 5798,   3806.6,   1.4760,  34.6846,2,  34.6845,2,    155.0,2,   142.25,2,    35.65,2,     0.00,2,     2.50,2,   -999.0,9,   -999.0,9,-999.0000,9,  -999.00,      415
  49UF20170719,KS1706,  5189,  1,      7,  25241,3,20170803,0329, 12.0033, 149.3257, 5798,   4063.4,   1.4524,  34.6885,2,  34.6901,2,    160.2,2,   139.40,2,    35.35,2,     0.00,2,     2.47,2,   -999.0,9,   -999.0,9,-999.0000,9,  -999.00,      409
  49UF20170719,KS1706,  5189,  1,      6,  25240,2,20170803,0329, 12.0033, 149.3257, 5798,   4577.1,   1.4455,  34.6933,2,  34.6991,4,    169.4,6,   135.47,6,    34.71,6,     0.00,6,     2.43,6,   -999.0,9,   -999.0,9,-999.0000,9,  -999.00,      359
  49UF20170719,KS1706,  5189,  1,      5,  25239,2,20170803,0329, 12.0033, 149.3257, 5798,   4831.8,   1.4522,  34.6948,2,  34.6962,6,    171.9,2,   133.75,2,    34.40,2,     0.00,2,     2.41,2,   -999.0,9,   -999.0,9,-999.0000,9,  -999.00,      353
  49UF20170719,KS1706,  5189,  1,      4,  25238,2,20170803,0329, 12.0033, 149.3257, 5798,   5089.8,   1.4673,  34.6959,2,  34.6967,2,    174.3,2,   133.14,2,    34.44,2,     0.00,2,     2.40,2,   -999.0,9,   -999.0,9,-999.0000,9,  -999.00,      347
  49UF20170719,KS1706,  5189,  1,      3,  25237,2,20170803,0329, 12.0033, 149.3257, 5798,   5606.0,   1.5175,  34.6969,2,  34.7020,4,    175.1,2,   131.96,2,    34.25,2,     0.00,2,     2.39,2,   -999.0,9,   -999.0,9,-999.0000,9,  -999.00,      336
  49UF20170719,KS1706,  5189,  1,      2,  25236,2,20170803,0329, 12.0033, 149.3257, 5798,   5863.3,   1.5461,  34.6972,2,  34.6978,2,    177.0,2,   131.48,2,    34.12,2,     0.00,2,     2.38,2,   -999.0,9,   -999.0,9,-999.0000,9,  -999.00,      331
  49UF20170719,KS1706,  5189,  1,      1,  25235,2,20170803,0329, 12.0033, 149.3257, 5798,   5927.2,   1.5541,  34.6972,2,  34.6976,2,    177.3,2,   131.50,2,    34.09,2,     0.00,2,     2.38,2,   -999.0,9,   -999.0,9,-999.0000,9,  -999.00,      329