BOTTLE,20200103PRINUNIVRMK
# 08/29/2019 Initialized README file  
# Data source:  Masao Ishii 2018/11/30 
# SHIP: R/V Keifu Maru II 
# Cruise: KS17.06, P09, P10 
# Region: North Pacific Ocean 
# EXPOCODE: 49UF20170719 
# DATES: 20170719-20170907 
# Chief Scientist: Keizo Sakurai 
# 42 stations with 36 place Rosette 
# CTD: Who - Kazuhiro Nemoto; Status - final 
# 	Includes: CTDSAL 
# SALNTY: Who - Kazuhiro Nemoto; Status - final 
# 	Notes: 	 
# Nutrients: Who - Kazuhiro Nemoto; Status - final 
# 	Includes: nitrate, nitrite, silicate, phosphate 
# 	Nitrite and NO3+NO2 reported. Separated by subtraction 
# OXYGEN: Who - Kazuhiro Nemoto; Status - final 
# 	Notes: 
# TCARBN: Who - Kazuhiro Nemoto; Status - final 
# 	Notes:  
# ALKALI: Who - Kazuhiro Nemoto; Status - final 
# 	Notes:  
# pH: Who - Kazuhiro Nemoto; Status - final  
# 	Notes: total H+ scale at 25C 
# These data should be cited as:               
# References that have used data from this cruise: 
EXPOCODE,SECT_ID,STNNBR,CASTNO,SAMPNO,BTLNBR,BTLNBR_FLAG_W,DATE,TIME,LATITUDE,LONGITUDE,DEPTH,CTDPRS,CTDTMP,CTDSAL,CTDSAL_FLAG_W,SALNTY,SALNTY_FLAG_W,OXYGEN,OXYGEN_FLAG_W,SILCAT,SILCAT_FLAG_W,NITRAT,NITRAT_FLAG_W,NITRIT,NITRIT_FLAG_W,PHSPHT,PHSPHT_FLAG_W,TCARBN,TCARBN_FLAG_W,ALKALI,ALKALI_FLAG_W,PH_TOT,PH_TOT_FLAG_W,PH_TMP,BTL_TIME
,,,,,,,,,,,METERS,DBAR,ITS-90,PSS-78,,PSS-78,,UMOL/KG,,UMOL/KG,,UMOL/KG,,UMOL/KG,,UMOL/KG,,UMOL/KG,,UMOL/KG,,,,DEG C,
  49UF20170719,KS1706,  5183,  1,     99,     99,2,20170731,0808, 20.0287, 149.2928, 3496,      0.0,  29.5369,  34.7782,2,  34.7782,2,    194.6,2,     1.02,2,     0.00,2,     0.00,2,     0.01,2,   1952.2,2,   2284.5,2,   8.1118,2,    25.00,      915
  49UF20170719,KS1706,  5183,  1,     36,  25270,2,20170731,0808, 20.0287, 149.2928, 3496,      9.6,  29.5377,  34.7776,2,  34.7779,2,    194.0,2,     1.10,2,     0.03,2,     0.00,2,     0.01,2,   1952.3,2,   2283.2,2,   8.1128,2,    25.00,     1004
  49UF20170719,KS1706,  5183,  1,     35,  25269,2,20170731,0808, 20.0287, 149.2928, 3496,     23.9,  29.5456,  34.8215,2,  34.8249,2,    194.3,2,     1.06,2,     0.04,2,     0.00,2,     0.01,2,   1954.3,2,   2287.7,2,   8.1118,2,    25.00,     1002
  49UF20170719,KS1706,  5183,  1,     34,  25268,2,20170731,0808, 20.0287, 149.2928, 3496,     52.5,  26.3000,  35.0941,2,-999.0000,9,    217.1,2,     1.15,2,     0.07,2,     0.00,2,     0.01,2,   1975.9,2,   2304.8,2,   8.0972,2,    25.00,     1001
  49UF20170719,KS1706,  5183,  1,     33,  25267,2,20170731,0808, 20.0287, 149.2928, 3496,     75.5,  24.5879,  35.1642,2,  35.1633,2,    215.0,2,     1.30,2,     0.01,2,     0.00,2,     0.01,2,   1995.5,2,   2309.1,2,   8.0766,2,    25.00,      959
  49UF20170719,KS1706,  5183,  1,     32,  25266,2,20170731,0808, 20.0287, 149.2928, 3496,    101.1,  22.7509,  35.1638,2,-999.0000,9,    204.1,2,     1.64,2,     0.11,2,     0.03,2,     0.07,2,   2020.7,2,   2310.0,2,   8.0334,2,    25.00,      957
  49UF20170719,KS1706,  5183,  1,     31,  25265,2,20170731,0808, 20.0287, 149.2928, 3496,    125.1,  21.2213,  35.1045,2,  35.1026,2,    185.9,2,     2.37,2,     1.79,2,     0.05,2,     0.22,2,   2049.9,2,   2305.8,2,   7.9759,2,    25.00,      956
  49UF20170719,KS1706,  5183,  1,     30,  25264,2,20170731,0808, 20.0287, 149.2928, 3496,    126.0,  21.1489,  35.0999,2,  35.1032,2,    185.3,2,     2.34,2,     1.75,2,     0.05,2,     0.21,2,   2050.4,2,   2307.2,2,   7.9754,2,    25.00,      956
  49UF20170719,KS1706,  5183,  1,     29,  25263,2,20170731,0808, 20.0287, 149.2928, 3496,    153.2,  19.4092,  34.9593,2,-999.0000,9,    193.8,6,     2.79,6,     2.50,6,     0.03,6,     0.22,6,   2048.3,2,   2296.8,2,   7.9650,2,    25.00,      954
  49UF20170719,KS1706,  5183,  1,     28,  25262,2,20170731,0808, 20.0287, 149.2928, 3496,    203.6,  17.1829,  34.7619,2,  34.7620,2,    201.4,2,     4.22,2,     4.89,2,     0.01,2,     0.35,2,   2052.8,2,   2283.7,2,   7.9325,2,    25.00,      951
  49UF20170719,KS1706,  5183,  1,     27,  25261,2,20170731,0808, 20.0287, 149.2928, 3496,    252.0,  15.9657,  34.6398,2,  34.6388,2,    200.8,2,  -999.00,9,  -999.00,9,  -999.00,9,  -999.00,9,   2061.8,2,   2278.9,2,   7.9042,2,    25.00,      946
  49UF20170719,KS1706,  5183,  1,     26,  25260,2,20170731,0808, 20.0287, 149.2928, 3496,    301.0,  14.1770,  34.4721,2,-999.0000,9,    189.8,2,    10.22,2,    10.32,2,     0.00,2,     0.74,2,   2088.9,2,   2273.4,2,   7.8416,2,    25.00,      945
  49UF20170719,KS1706,  5183,  1,     25,  25259,2,20170731,0808, 20.0287, 149.2928, 3496,    353.4,  12.0007,  34.3106,2,  34.3125,2,    180.1,2,    16.96,2,    14.99,2,     0.00,2,     1.08,2,   2116.9,2,   2269.2,2,   7.7688,2,    25.00,      943
  49UF20170719,KS1706,  5183,  1,     24,  25258,2,20170731,0808, 20.0287, 149.2928, 3496,    402.9,  10.9165,  34.2468,2,-999.0000,9,    165.1,2,    21.99,2,    18.20,2,     0.00,2,     1.33,2,   2138.0,2,   2268.7,2,   7.7155,2,    25.00,      941
  49UF20170719,KS1706,  5183,  1,     23,  25257,2,20170731,0808, 20.0287, 149.2928, 3496,    455.0,   9.6529,  34.1924,2,  34.1988,2,    146.8,2,    29.46,2,    22.07,2,     0.00,2,     1.61,2,   2165.0,2,   2275.5,2,   7.6511,2,    25.00,      939
  49UF20170719,KS1706,  5183,  1,     22,  25256,2,20170731,0808, 20.0287, 149.2928, 3496,    504.1,   8.4935,  34.1628,2,-999.0000,9,    122.6,2,    39.83,2,    26.62,2,     0.00,2,     1.95,2,   2199.0,6,   2281.3,6,   7.5792,2,    25.00,      938
  49UF20170719,KS1706,  5183,  1,     21,  25255,2,20170731,0808, 20.0287, 149.2928, 3496,    605.9,   6.4851,  34.1700,2,  34.1704,2,     80.4,2,    63.17,2,    34.28,2,     0.00,2,     2.50,2,   2257.1,2,   2296.0,2,   7.4647,6,    25.00,      935
  49UF20170719,KS1706,  5183,  1,     19,  25253,2,20170731,0808, 20.0287, 149.2928, 3496,    707.2,   5.3557,  34.2372,2,  34.2380,2,     58.6,2,    83.53,3,    38.26,2,     0.00,2,     2.78,2,   2293.1,2,   2322.0,2,   7.4155,2,    25.00,      932
  49UF20170719,KS1706,  5183,  1,     20,  24270,2,20170731,0808, 20.0287, 149.2928, 3496,    710.2,   5.3533,  34.2376,2,  34.2374,2,     58.3,2,    82.60,2,    38.30,2,     0.00,2,     2.79,2,   2294.9,2,   2322.3,2,   7.4151,2,    25.00,      932
  49UF20170719,KS1706,  5183,  1,     18,  25252,2,20170731,0808, 20.0287, 149.2928, 3496,    804.8,   4.6612,  34.3493,2,  34.3498,2,     53.1,6,    96.85,6,    40.07,6,     0.00,6,     2.90,6,   2317.2,2,   2343.1,2,   7.4118,2,    25.00,      928
  49UF20170719,KS1706,  5183,  1,     17,  25251,2,20170731,0808, 20.0287, 149.2928, 3496,    905.6,   4.3123,  34.4262,2,-999.0000,9,     58.1,2,   103.74,2,    40.02,2,     0.00,2,     2.91,2,   2325.0,2,   2357.9,2,   7.4251,2,    25.00,      925
  49UF20170719,KS1706,  5183,  1,     16,  25250,2,20170731,0808, 20.0287, 149.2928, 3496,   1010.4,   3.9953,  34.4811,2,  34.4816,2,     68.0,2,   109.48,2,    39.87,2,     0.00,2,     2.87,2,   2324.5,2,   2366.8,2,   7.4489,2,    25.00,      921
  49UF20170719,KS1706,  5183,  1,     15,  25249,2,20170731,0808, 20.0287, 149.2928, 3496,   1213.4,   3.3497,  34.5380,2,-999.0000,9,     80.8,2,   121.35,2,    39.63,2,     0.00,2,     2.84,2,   2333.7,2,   2382.5,2,   7.4702,2,    25.00,      915
  49UF20170719,KS1706,  5183,  1,     14,  25248,2,20170731,0808, 20.0287, 149.2928, 3496,   1415.7,   2.8954,  34.5658,2,  34.5637,4,     88.0,2,   129.66,2,    39.32,2,     0.00,2,     2.81,2,   2338.6,2,   2391.8,2,   7.4830,2,    25.00,      909
  49UF20170719,KS1706,  5183,  1,     13,  25247,2,20170731,0808, 20.0287, 149.2928, 3496,   1620.3,   2.5752,  34.5842,2,-999.0000,9,     93.3,2,   136.11,2,    39.29,2,     0.00,2,     2.81,2,   2342.7,6,   2398.5,6,   7.4888,2,    25.00,      903
  49UF20170719,KS1706,  5183,  1,     12,  25246,2,20170731,0808, 20.0287, 149.2928, 3496,   1822.8,   2.3370,  34.5997,2,  34.6000,2,     98.8,2,   140.58,2,    39.23,2,     0.00,2,     2.79,2,   2345.9,2,   2403.9,2,   7.4970,6,    25.00,      856
  49UF20170719,KS1706,  5183,  1,     11,  25245,2,20170731,0808, 20.0287, 149.2928, 3496,   2023.4,   2.0780,  34.6202,2,  34.6205,2,    107.1,2,   144.78,2,    38.81,2,     0.00,2,     2.75,2,   2346.5,2,   2410.2,2,   7.5108,2,    25.00,      849
  49UF20170719,KS1706,  5183,  1,     10,  25244,2,20170731,0808, 20.0287, 149.2928, 3496,   2277.7,   1.8931,  34.6368,2,  34.6370,2,    115.2,2,   147.49,2,    38.36,2,     0.00,2,     2.71,2,   2343.1,2,   2414.3,2,   7.5269,2,    25.00,      843
  49UF20170719,KS1706,  5183,  1,      9,  25243,2,20170731,0808, 20.0287, 149.2928, 3496,   2531.4,   1.7794,  34.6483,2,  34.6479,2,    121.4,2,   148.82,2,    38.15,2,     0.00,2,     2.68,2,   2343.9,2,   2414.9,2,   7.5352,2,    25.00,      836
  49UF20170719,KS1706,  5183,  1,      8,  25242,2,20170731,0808, 20.0287, 149.2928, 3496,   2790.5,   1.6759,  34.6589,2,  34.6571,4,    128.4,2,   148.43,2,    37.55,2,     0.00,2,     2.64,2,   2338.0,2,   2416.6,2,   7.5504,2,    25.00,      828
  49UF20170719,KS1706,  5183,  1,      6,  25240,2,20170731,0808, 20.0287, 149.2928, 3496,   3043.8,   1.6015,  34.6671,2,  34.6676,2,    135.0,2,   148.52,2,    37.20,2,     0.00,2,     2.61,2,   2336.4,2,   2419.0,2,   7.5559,2,    25.00,      821
  49UF20170719,KS1706,  5183,  1,      7,  25241,2,20170731,0808, 20.0287, 149.2928, 3496,   3044.4,   1.6010,  34.6671,2,  34.6646,4,    134.2,3,   148.43,2,    37.30,2,     0.00,2,     2.61,2,   2335.0,2,   2417.6,2,   7.5571,2,    25.00,      821
  49UF20170719,KS1706,  5183,  1,      5,  25239,4,20170731,0808, 20.0287, 149.2928, 3496,   3291.5,   1.5449,  34.6736,2,  34.6608,4,    134.7,4,   144.63,4,    36.91,4,     0.00,4,     2.59,4,   2333.7,4,   2413.9,4,   7.5610,4,    25.00,      816
  49UF20170719,KS1706,  5183,  1,      4,  25238,2,20170731,0808, 20.0287, 149.2928, 3496,   3548.4,   1.5115,  34.6777,2,  34.6790,6,    146.9,2,   146.79,2,    36.55,2,     0.00,2,     2.56,2,   2328.1,6,   2415.1,6,   7.5755,2,    25.00,      811
  49UF20170719,KS1706,  5183,  1,      3,  25237,3,20170731,0808, 20.0287, 149.2928, 3496,   3740.6,   1.4871,  34.6815,2,  34.6799,2,    149.5,4,   145.32,2,    36.31,2,     0.00,2,     2.54,2,   2326.3,2,   2415.3,2,   7.5785,6,    25.00,      808
  49UF20170719,KS1706,  5185,  1,     99,     99,2,20170801,0841, 16.0135, 149.7425, 5612,      0.0,  30.1314,  34.4539,2,-999.0000,9,    193.6,2,     1.19,2,     0.00,2,     0.00,2,     0.03,2,   -999.0,9,   -999.0,9,-999.0000,9,  -999.00,     1028
  49UF20170719,KS1706,  5185,  1,     36,  25270,2,20170801,0841, 16.0135, 149.7425, 5612,     10.0,  30.1370,  34.4527,2,  34.4515,2,    193.4,2,     1.19,2,     0.02,2,     0.00,2,     0.01,2,   -999.0,9,   -999.0,9,-999.0000,9,  -999.00,     1058
  49UF20170719,KS1706,  5185,  1,     35,  25269,2,20170801,0841, 16.0135, 149.7425, 5612,     25.3,  30.1287,  34.4498,2,-999.0000,9,    193.8,2,     1.16,2,     0.00,2,     0.00,2,     0.01,2,   -999.0,9,   -999.0,9,-999.0000,9,  -999.00,     1056
  49UF20170719,KS1706,  5185,  1,     34,  25268,2,20170801,0841, 16.0135, 149.7425, 5612,     54.0,  29.4808,  34.7505,2,  34.7327,2,    204.0,2,     1.18,2,     0.06,2,     0.00,2,     0.01,2,   -999.0,9,   -999.0,9,-999.0000,9,  -999.00,     1053
  49UF20170719,KS1706,  5185,  1,     33,  25267,2,20170801,0841, 16.0135, 149.7425, 5612,     75.9,  28.4130,  34.8277,2,-999.0000,9,    210.1,2,     1.23,2,     0.04,2,     0.00,2,     0.01,2,   -999.0,9,   -999.0,9,-999.0000,9,  -999.00,     1051
  49UF20170719,KS1706,  5185,  1,     32,  25266,2,20170801,0841, 16.0135, 149.7425, 5612,    101.2,  26.9458,  34.9617,2,  34.9407,2,    211.3,2,     1.23,2,     0.00,2,     0.00,2,     0.02,2,   -999.0,9,   -999.0,9,-999.0000,9,  -999.00,     1050
  49UF20170719,KS1706,  5185,  1,     31,  25265,2,20170801,0841, 16.0135, 149.7425, 5612,    125.3,  25.7157,  35.0811,2,-999.0000,9,    208.0,2,     1.27,2,     0.03,2,     0.00,2,     0.02,2,   -999.0,9,   -999.0,9,-999.0000,9,  -999.00,     1049
  49UF20170719,KS1706,  5185,  1,     30,  25264,2,20170801,0841, 16.0135, 149.7425, 5612,    150.9,  24.1214,  35.1851,2,  35.1860,2,    198.5,2,     1.53,2,     0.17,2,     0.15,2,     0.06,2,   -999.0,9,   -999.0,9,-999.0000,9,  -999.00,     1048
  49UF20170719,KS1706,  5185,  1,     29,  25263,3,20170801,0841, 16.0135, 149.7425, 5612,    201.7,  21.2718,  35.1035,2,  35.1011,2,    184.7,2,     2.49,2,     1.96,2,     0.02,2,     0.22,2,   -999.0,9,   -999.0,9,-999.0000,9,  -999.00,     1046
  49UF20170719,KS1706,  5185,  1,     28,  25262,2,20170801,0841, 16.0135, 149.7425, 5612,    251.2,  18.1347,  34.8435,2,-999.0000,9,    182.0,2,     4.67,2,     5.25,2,     0.01,2,     0.43,2,   -999.0,9,   -999.0,9,-999.0000,9,  -999.00,     1044
  49UF20170719,KS1706,  5185,  1,     27,  25261,2,20170801,0841, 16.0135, 149.7425, 5612,    302.6,  14.8051,  34.5293,2,  34.5280,2,    168.4,2,    10.69,2,    11.39,2,     0.00,2,     0.86,2,   -999.0,9,   -999.0,9,-999.0000,9,  -999.00,     1043
  49UF20170719,KS1706,  5185,  1,     26,  25260,2,20170801,0841, 16.0135, 149.7425, 5612,    350.9,  12.6183,  34.3620,2,-999.0000,9,    160.8,2,    16.33,2,    15.52,2,     0.00,2,     1.15,2,   -999.0,9,   -999.0,9,-999.0000,9,  -999.00,     1041
  49UF20170719,KS1706,  5185,  1,     25,  25259,3,20170801,0841, 16.0135, 149.7425, 5612,    403.0,  11.0240,  34.2958,2,  34.2951,2,    137.3,2,    24.12,2,    20.56,2,     0.00,2,     1.53,2,   -999.0,9,   -999.0,9,-999.0000,9,  -999.00,     1040
  49UF20170719,KS1706,  5185,  1,     24,  25258,2,20170801,0841, 16.0135, 149.7425, 5612,    454.2,   9.2107,  34.2511,2,-999.0000,9,    109.6,2,    36.01,2,    26.48,2,     0.00,2,     1.96,2,   -999.0,9,   -999.0,9,-999.0000,9,  -999.00,     1038
  49UF20170719,KS1706,  5185,  1,     23,  25257,2,20170801,0841, 16.0135, 149.7425, 5612,    503.3,   8.0616,  34.2905,2,  34.2953,2,     84.8,2,    47.72,2,    31.21,2,     0.00,2,     2.29,2,   -999.0,9,   -999.0,9,-999.0000,9,  -999.00,     1036
  49UF20170719,KS1706,  5185,  1,     22,  25256,2,20170801,0841, 16.0135, 149.7425, 5612,    605.7,   6.5972,  34.3490,2,-999.0000,9,     64.8,2,    64.45,2,    35.92,2,     0.00,2,     2.62,2,   -999.0,9,   -999.0,9,-999.0000,9,  -999.00,     1034
  49UF20170719,KS1706,  5185,  1,     21,  25255,2,20170801,0841, 16.0135, 149.7425, 5612,    707.6,   5.7620,  34.4176,2,-999.0000,9,     62.4,2,    76.20,2,    37.85,2,     0.00,2,     2.75,2,   -999.0,9,   -999.0,9,-999.0000,9,  -999.00,     1031
  49UF20170719,KS1706,  5185,  1,     20,  24270,2,20170801,0841, 16.0135, 149.7425, 5612,    806.5,   5.2941,  34.4684,2,-999.0000,9,     65.7,2,    83.21,2,    38.52,2,     0.00,2,     2.80,2,   -999.0,9,   -999.0,9,-999.0000,9,  -999.00,     1028
  49UF20170719,KS1706,  5185,  1,     19,  25253,2,20170801,0841, 16.0135, 149.7425, 5612,    907.9,   4.7114,  34.5057,2,  34.5082,2,     71.5,2,    92.85,2,    38.95,2,     0.00,2,     2.82,2,   -999.0,9,   -999.0,9,-999.0000,9,  -999.00,     1026
  49UF20170719,KS1706,  5185,  1,     18,  25252,2,20170801,0841, 16.0135, 149.7425, 5612,   1009.9,   4.3387,  34.5249,2,-999.0000,9,     73.2,6,    99.92,6,    39.37,6,     0.00,6,     2.84,6,   -999.0,9,   -999.0,9,-999.0000,9,  -999.00,     1023
  49UF20170719,KS1706,  5185,  1,     17,  25251,2,20170801,0841, 16.0135, 149.7425, 5612,   1212.4,   3.6747,  34.5498,2,  34.5560,4,     80.6,2,   112.96,2,    39.32,2,     0.00,2,     2.84,2,   -999.0,9,   -999.0,9,-999.0000,9,  -999.00,     1018
  49UF20170719,KS1706,  5185,  1,     16,  25250,2,20170801,0841, 16.0135, 149.7425, 5612,   1415.0,   3.1537,  34.5719,2,-999.0000,9,     88.4,2,   123.22,2,    39.33,2,     0.00,2,     2.82,2,   -999.0,9,   -999.0,9,-999.0000,9,  -999.00,     1014
  49UF20170719,KS1706,  5185,  1,     15,  25249,2,20170801,0841, 16.0135, 149.7425, 5612,   1617.5,   2.7419,  34.5892,2,  34.5905,2,     93.3,2,   131.50,2,    39.19,2,     0.00,2,     2.81,2,   -999.0,9,   -999.0,9,-999.0000,9,  -999.00,     1009
  49UF20170719,KS1706,  5185,  1,     14,  25248,2,20170801,0841, 16.0135, 149.7425, 5612,   1820.5,   2.4298,  34.6060,2,-999.0000,9,    100.2,2,   137.30,2,    39.07,2,     0.00,2,     2.78,2,   -999.0,9,   -999.0,9,-999.0000,9,  -999.00,     1004
  49UF20170719,KS1706,  5185,  1,     13,  25247,2,20170801,0841, 16.0135, 149.7425, 5612,   2023.2,   2.1676,  34.6225,2,  34.6231,6,    106.8,2,   142.11,2,    38.76,2,     0.00,2,     2.75,2,   -999.0,9,   -999.0,9,-999.0000,9,  -999.00,     1000
  49UF20170719,KS1706,  5185,  1,     12,  25246,2,20170801,0841, 16.0135, 149.7425, 5612,   2529.7,   1.7884,  34.6525,2,  34.6523,2,    122.1,2,   148.11,2,    37.92,2,     0.00,2,     2.68,2,   -999.0,9,   -999.0,9,-999.0000,9,  -999.00,      950
  49UF20170719,KS1706,  5185,  1,     11,  25245,2,20170801,0841, 16.0135, 149.7425, 5612,   2785.2,   1.6853,  34.6618,2,  34.6621,2,    128.8,2,   149.05,2,    37.65,2,     0.00,2,     2.64,2,   -999.0,9,   -999.0,9,-999.0000,9,  -999.00,      944
  49UF20170719,KS1706,  5185,  1,     10,  25244,2,20170801,0841, 16.0135, 149.7425, 5612,   3041.0,   1.6235,  34.6686,2,  34.6685,2,    133.8,2,   149.68,2,    37.18,2,     0.00,2,     2.62,2,   -999.0,9,   -999.0,9,-999.0000,9,  -999.00,      939
  49UF20170719,KS1706,  5185,  1,      9,  25243,2,20170801,0841, 16.0135, 149.7425, 5612,   3549.4,   1.5396,  34.6779,2,  34.6777,2,    143.8,6,   147.06,6,    36.47,6,     0.00,6,     2.56,6,   -999.0,9,   -999.0,9,-999.0000,9,  -999.00,      928
  49UF20170719,KS1706,  5185,  1,      8,  25242,2,20170801,0841, 16.0135, 149.7425, 5612,   3804.3,   1.5117,  34.6816,2,  34.6816,2,    149.3,2,   145.84,2,    36.16,2,     0.00,2,     2.54,2,   -999.0,9,   -999.0,9,-999.0000,9,  -999.00,      923
  49UF20170719,KS1706,  5185,  1,      7,  25241,3,20170801,0841, 16.0135, 149.7425, 5612,   4062.4,   1.4847,  34.6856,2,  34.6822,4,    153.5,4,   142.88,2,    35.87,2,     0.00,2,     2.51,2,   -999.0,9,   -999.0,9,-999.0000,9,  -999.00,      917
  49UF20170719,KS1706,  5185,  1,      6,  25240,2,20170801,0841, 16.0135, 149.7425, 5612,   4575.0,   1.4664,  34.6910,2,  34.6924,2,    165.2,2,   138.25,2,    35.00,2,     0.00,2,     2.45,2,   -999.0,9,   -999.0,9,-999.0000,9,  -999.00,      907
  49UF20170719,KS1706,  5185,  1,      5,  25239,2,20170801,0841, 16.0135, 149.7425, 5612,   4833.2,   1.4639,  34.6936,2,  34.6920,2,    167.9,3,   135.90,2,    34.80,2,     0.00,2,     2.43,2,   -999.0,9,   -999.0,9,-999.0000,9,  -999.00,      902
  49UF20170719,KS1706,  5185,  1,      4,  25238,2,20170801,0841, 16.0135, 149.7425, 5612,   5089.1,   1.4764,  34.6950,2,  34.6948,2,    172.5,2,   133.99,2,    34.62,2,     0.00,2,     2.41,2,   -999.0,9,   -999.0,9,-999.0000,9,  -999.00,      856
  49UF20170719,KS1706,  5185,  1,      3,  25237,2,20170801,0841, 16.0135, 149.7425, 5612,   5346.5,   1.4956,  34.6959,2,  34.6949,6,    172.3,3,   133.12,6,    34.45,6,     0.00,6,     2.41,6,   -999.0,9,   -999.0,9,-999.0000,9,  -999.00,      850
  49UF20170719,KS1706,  5185,  1,      2,  25236,2,20170801,0841, 16.0135, 149.7425, 5612,   5602.7,   1.5114,  34.6969,2,  34.6975,2,    176.2,2,   131.73,2,    34.30,2,     0.00,2,     2.39,2,   -999.0,9,   -999.0,9,-999.0000,9,  -999.00,      845
  49UF20170719,KS1706,  5185,  1,      1,  25235,2,20170801,0841, 16.0135, 149.7425, 5612,   5739.1,   1.5273,  34.6969,2,  34.6958,2,    174.6,3,   132.29,2,    34.38,2,     0.00,2,     2.40,2,   -999.0,9,   -999.0,9,-999.0000,9,  -999.00,      841