BOTTLE,20200103PRINUNIVRMK
EXPOCODE,SECT_ID,STNNBR,CASTNO,SAMPNO,BTLNBR,BTLNBR_FLAG_W,DATE,TIME,LATITUDE,LONGITUDE,DEPTH,CTDPRS,CTDTMP,CTDSAL,CTDSAL_FLAG_W,SALNTY,SALNTY_FLAG_W,OXYGEN,OXYGEN_FLAG_W,SILCAT,SILCAT_FLAG_W,NITRAT,NITRAT_FLAG_W,NITRIT,NITRIT_FLAG_W,PHSPHT,PHSPHT_FLAG_W,TCARBN,TCARBN_FLAG_W,ALKALI,ALKALI_FLAG_W,PH_TOT,PH_TOT_FLAG_W,PH_TMP,BTL_TIME
,,,,,,,,,,,METERS,DBAR,ITS-90,PSS-78,,PSS-78,,UMOL/KG,,UMOL/KG,,UMOL/KG,,UMOL/KG,,UMOL/KG,,UMOL/KG,,UMOL/KG,,,,DEG C,
  49UF20170719,KS1706,  5200,  1,     99,     99,2,20170818,1944,  8.9973, 136.9922, 3682,      0.0,  30.3524,  33.5964,2,-999.0000,9,    194.2,2,     1.48,2,     0.09,2,     0.00,2,     0.03,2,   -999.0,9,   -999.0,9,-999.0000,9,  -999.00,     2115
  49UF20170719,KS1706,  5200,  1,     36,  25270,2,20170818,1944,  8.9973, 136.9922, 3682,     10.1,  30.3834,  33.5961,2,  33.5939,2,    194.5,2,     1.48,2,     0.07,2,     0.00,2,     0.04,2,   -999.0,9,   -999.0,9,-999.0000,9,  -999.00,     2138
  49UF20170719,KS1706,  5200,  1,     35,  25269,2,20170818,1944,  8.9973, 136.9922, 3682,     25.0,  30.3500,  33.5956,2,-999.0000,9,    194.4,2,     1.52,2,     0.05,2,     0.00,2,     0.04,2,   -999.0,9,   -999.0,9,-999.0000,9,  -999.00,     2137
  49UF20170719,KS1706,  5200,  1,     34,  25268,2,20170818,1944,  8.9973, 136.9922, 3682,     50.2,  30.0195,  33.6981,2,-999.0000,9,    196.6,2,     1.44,2,     0.05,2,     0.00,2,     0.04,2,   -999.0,9,   -999.0,9,-999.0000,9,  -999.00,     2134
  49UF20170719,KS1706,  5200,  1,     33,  25267,2,20170818,1944,  8.9973, 136.9922, 3682,     75.5,  29.6122,  34.0308,2,  34.1001,4,    199.6,2,     1.50,2,     0.07,2,     0.00,2,     0.06,2,   -999.0,9,   -999.0,9,-999.0000,9,  -999.00,     2132
  49UF20170719,KS1706,  5200,  1,     32,  25266,2,20170818,1944,  8.9973, 136.9922, 3682,    100.4,  26.0230,  34.6059,2,-999.0000,9,    181.2,2,     2.90,2,     0.53,2,     0.06,2,     0.21,2,   -999.0,9,   -999.0,9,-999.0000,9,  -999.00,     2131
  49UF20170719,KS1706,  5200,  1,     31,  25265,2,20170818,1944,  8.9973, 136.9922, 3682,    126.2,  23.1192,  34.7745,2,  34.7747,2,    163.0,6,     4.57,2,     3.98,6,     0.09,6,     0.43,6,   -999.0,9,   -999.0,9,-999.0000,9,  -999.00,     2129
  49UF20170719,KS1706,  5200,  1,     30,  25264,2,20170818,1944,  8.9973, 136.9922, 3682,    150.8,  20.3000,  34.7709,2,-999.0000,9,    153.4,2,     7.36,3,     7.61,2,     0.04,2,     0.66,2,   -999.0,9,   -999.0,9,-999.0000,9,  -999.00,     2128
  49UF20170719,KS1706,  5200,  1,     29,  25263,2,20170818,1944,  8.9973, 136.9922, 3682,    201.5,  14.3662,  34.5158,2,-999.0000,9,    147.0,2,    14.17,3,    14.39,2,     0.01,2,     1.09,2,   -999.0,9,   -999.0,9,-999.0000,9,  -999.00,     2126
  49UF20170719,KS1706,  5200,  1,     28,  25262,2,20170818,1944,  8.9973, 136.9922, 3682,    251.4,  10.7400,  34.5069,2,-999.0000,9,     95.3,6,    30.86,4,    26.45,6,     0.00,6,     1.92,6,   -999.0,9,   -999.0,9,-999.0000,9,  -999.00,     2124
  49UF20170719,KS1706,  5200,  1,     27,  25261,2,20170818,1944,  8.9973, 136.9922, 3682,    301.9,   9.3365,  34.5160,2,  34.5147,2,     82.7,2,    35.53,4,    30.25,2,     0.00,2,     2.17,2,   -999.0,9,   -999.0,9,-999.0000,9,  -999.00,     2122
  49UF20170719,KS1706,  5200,  1,     26,  25260,2,20170818,1944,  8.9973, 136.9922, 3682,    352.6,   8.5895,  34.5321,2,-999.0000,9,     78.0,2,    41.24,4,    32.23,2,     0.00,2,     2.30,2,   -999.0,9,   -999.0,9,-999.0000,9,  -999.00,     2120
  49UF20170719,KS1706,  5200,  1,     25,  25259,2,20170818,1944,  8.9973, 136.9922, 3682,    402.6,   8.0142,  34.5296,2,-999.0000,9,     84.6,2,    43.60,4,    32.80,2,     0.00,2,     2.33,2,   -999.0,9,   -999.0,9,-999.0000,9,  -999.00,     2119
  49UF20170719,KS1706,  5200,  1,     24,  25258,2,20170818,1944,  8.9973, 136.9922, 3682,    453.5,   7.6909,  34.5229,2,-999.0000,9,     87.0,2,    45.66,4,    33.24,2,     0.00,2,     2.36,2,   -999.0,9,   -999.0,9,-999.0000,9,  -999.00,     2117
  49UF20170719,KS1706,  5200,  1,     23,  25257,2,20170818,1944,  8.9973, 136.9922, 3682,    503.3,   7.3102,  34.5177,2,  34.5188,2,     90.8,2,    48.95,4,    33.57,2,     0.00,2,     2.39,2,   -999.0,9,   -999.0,9,-999.0000,9,  -999.00,     2115
  49UF20170719,KS1706,  5200,  1,     22,  25256,2,20170818,1944,  8.9973, 136.9922, 3682,    604.8,   6.7298,  34.5252,2,-999.0000,9,     84.9,2,    57.63,4,    35.33,2,     0.00,2,     2.52,2,   -999.0,9,   -999.0,9,-999.0000,9,  -999.00,     2112
  49UF20170719,KS1706,  5200,  1,     21,  25255,2,20170818,1944,  8.9973, 136.9922, 3682,    705.5,   6.1947,  34.5221,2,-999.0000,9,     87.4,2,    61.00,4,    35.94,2,     0.00,2,     2.57,2,   -999.0,9,   -999.0,9,-999.0000,9,  -999.00,     2109
  49UF20170719,KS1706,  5200,  1,     20,  24270,2,20170818,1944,  8.9973, 136.9922, 3682,    805.7,   5.7408,  34.5275,2,-999.0000,9,     84.7,2,    68.64,3,    36.92,2,     0.00,2,     2.64,2,   -999.0,9,   -999.0,9,-999.0000,9,  -999.00,     2104
  49UF20170719,KS1706,  5200,  1,     19,  25253,2,20170818,1944,  8.9973, 136.9922, 3682,    907.0,   5.1264,  34.5375,2,-999.0000,9,     84.0,2,    79.30,3,    37.83,2,     0.00,2,     2.71,2,   -999.0,9,   -999.0,9,-999.0000,9,  -999.00,     2101
  49UF20170719,KS1706,  5200,  1,     18,  25252,2,20170818,1944,  8.9973, 136.9922, 3682,   1007.4,   4.6661,  34.5478,2,  34.5476,2,     84.8,6,    91.20,4,    38.29,6,     0.00,6,     2.75,6,   -999.0,9,   -999.0,9,-999.0000,9,  -999.00,     2059
  49UF20170719,KS1706,  5200,  1,     17,  25251,2,20170818,1944,  8.9973, 136.9922, 3682,   1210.4,   3.6728,  34.5714,2,-999.0000,9,     90.2,2,   105.91,4,    38.88,2,     0.00,2,     2.78,2,   -999.0,9,   -999.0,9,-999.0000,9,  -999.00,     2053
  49UF20170719,KS1706,  5200,  1,     16,  25250,2,20170818,1944,  8.9973, 136.9922, 3682,   1414.6,   3.1700,  34.5896,2,-999.0000,9,     95.9,2,   117.79,4,    38.89,2,     0.00,2,     2.76,2,   -999.0,9,   -999.0,9,-999.0000,9,  -999.00,     2044
  49UF20170719,KS1706,  5200,  1,     15,  25249,2,20170818,1944,  8.9973, 136.9922, 3682,   1616.0,   2.7551,  34.6068,2,  34.6067,6,    103.4,2,   125.49,4,    38.53,2,     0.00,2,     2.74,2,   -999.0,9,   -999.0,9,-999.0000,9,  -999.00,     2040
  49UF20170719,KS1706,  5200,  1,     14,  25248,2,20170818,1944,  8.9973, 136.9922, 3682,   1818.9,   2.4820,  34.6201,2,-999.0000,9,    108.9,2,   131.16,4,    38.48,2,     0.00,2,     2.72,2,   -999.0,9,   -999.0,9,-999.0000,9,  -999.00,     2030
  49UF20170719,KS1706,  5200,  1,     13,  25247,2,20170818,1944,  8.9973, 136.9922, 3682,   2021.9,   2.2013,  34.6338,2,  34.6336,2,    115.2,2,   137.05,4,    38.04,2,     0.00,2,     2.69,2,   -999.0,9,   -999.0,9,-999.0000,9,  -999.00,     2025
  49UF20170719,KS1706,  5200,  1,     12,  25246,2,20170818,1944,  8.9973, 136.9922, 3682,   2277.7,   1.9969,  34.6457,2,-999.0000,9,    123.3,2,   138.13,4,    37.82,2,     0.00,2,     2.65,2,   -999.0,9,   -999.0,9,-999.0000,9,  -999.00,     2019
  49UF20170719,KS1706,  5200,  1,     11,  25245,2,20170818,1944,  8.9973, 136.9922, 3682,   2530.6,   1.7845,  34.6569,2,  34.6571,6,    130.9,6,   141.04,4,    37.28,6,     0.00,6,     2.62,6,   -999.0,9,   -999.0,9,-999.0000,9,  -999.00,     2013
  49UF20170719,KS1706,  5200,  1,     10,  25244,2,20170818,1944,  8.9973, 136.9922, 3682,   2783.5,   1.6821,  34.6647,2,  34.6653,2,    138.0,2,   141.83,4,    36.90,2,     0.00,2,     2.58,2,   -999.0,9,   -999.0,9,-999.0000,9,  -999.00,     2008
  49UF20170719,KS1706,  5200,  1,      9,  25243,2,20170818,1944,  8.9973, 136.9922, 3682,   2784.0,   1.6824,  34.6647,2,-999.0000,9,    138.3,2,   140.46,4,    36.76,2,     0.00,2,     2.58,2,   -999.0,9,   -999.0,9,-999.0000,9,  -999.00,     2007
  49UF20170719,KS1706,  5200,  1,      7,  25241,2,20170818,1944,  8.9973, 136.9922, 3682,   3038.9,   1.5634,  34.6733,2,  34.6718,2,    145.6,2,   139.26,4,    36.27,2,     0.00,2,     2.54,2,   -999.0,9,   -999.0,9,-999.0000,9,  -999.00,     1959
  49UF20170719,KS1706,  5200,  1,      8,  25242,2,20170818,1944,  8.9973, 136.9922, 3682,   3039.0,   1.5636,  34.6733,2,  34.6735,2,    146.7,2,   143.65,4,    36.31,2,     0.00,2,     2.54,2,   -999.0,9,   -999.0,9,-999.0000,9,  -999.00,     1959
  49UF20170719,KS1706,  5200,  1,      6,  25240,2,20170818,1944,  8.9973, 136.9922, 3682,   3296.3,   1.5529,  34.6757,2,-999.0000,9,    148.7,2,   141.81,4,    36.22,2,     0.00,2,     2.53,2,   -999.0,9,   -999.0,9,-999.0000,9,  -999.00,     1953
  49UF20170719,KS1706,  5200,  1,      4,  25238,2,20170818,1944,  8.9973, 136.9922, 3682,   3297.3,   1.5529,  34.6757,2,  34.6765,2,    149.0,2,   141.91,4,    36.12,2,     0.00,2,     2.53,2,   -999.0,9,   -999.0,9,-999.0000,9,  -999.00,     1953
  49UF20170719,KS1706,  5200,  1,      5,  25239,3,20170818,1944,  8.9973, 136.9922, 3682,   3297.5,   1.5531,  34.6757,2,  34.6754,2,    148.4,2,   141.29,4,    36.18,2,     0.00,2,     2.52,2,   -999.0,9,   -999.0,9,-999.0000,9,  -999.00,     1953
  49UF20170719,KS1706,  5200,  1,      3,  24271,2,20170818,1944,  8.9973, 136.9922, 3682,   3549.6,   1.5396,  34.6783,2,-999.0000,9,    151.3,2,   148.05,4,    36.03,2,     0.00,2,     2.51,2,   -999.0,9,   -999.0,9,-999.0000,9,  -999.00,     1947
  49UF20170719,KS1706,  5200,  1,      2,  25236,2,20170818,1944,  8.9973, 136.9922, 3682,   3655.3,   1.5459,  34.6786,2,  34.6787,2,    151.6,2,   140.18,4,    36.03,2,     0.00,2,     2.51,2,   -999.0,9,   -999.0,9,-999.0000,9,  -999.00,     1944
  49UF20170719,KS1706,  5200,  1,      1,  25235,2,20170818,1944,  8.9973, 136.9922, 3682,   3655.3,   1.5459,  34.6786,2,  34.6781,2,    151.4,2,   145.32,4,    35.92,2,     0.00,2,     2.51,2,   -999.0,9,   -999.0,9,-999.0000,9,  -999.00,     1944
  49UF20170719,KS1706,  5201,  1,     99,     99,2,20170819,0604,  9.9890, 136.9983, 5010,      0.0,  30.2173,  33.4991,2,  33.4615,2,    194.2,2,     1.23,2,     0.00,2,     0.00,2,     0.03,2,   1880.9,2,   2198.8,2,   8.1230,2,    25.00,      807
  49UF20170719,KS1706,  5201,  1,     36,  25270,2,20170819,0604,  9.9890, 136.9983, 5010,     10.2,  30.2458,  33.7232,2,  33.7243,2,    194.1,2,     1.19,2,     0.00,2,     0.00,2,     0.03,2,   1891.8,2,   2216.5,2,   8.1218,2,    25.00,      831
  49UF20170719,KS1706,  5201,  1,     35,  25269,2,20170819,0604,  9.9890, 136.9983, 5010,     25.2,  30.1239,  33.9367,2,-999.0000,9,    196.0,2,     1.14,2,     0.00,2,     0.00,2,     0.03,2,   1906.3,2,   2231.6,2,   8.1236,2,    25.00,      830
  49UF20170719,KS1706,  5201,  1,     34,  25268,2,20170819,0604,  9.9890, 136.9983, 5010,     49.8,  29.8704,  34.0501,2,  34.0635,2,    198.4,2,     1.14,2,     0.00,2,     0.00,2,     0.04,2,   1913.1,2,   2239.7,2,   8.1218,2,    25.00,      827
  49UF20170719,KS1706,  5201,  1,     33,  25267,2,20170819,0604,  9.9890, 136.9983, 5010,     75.3,  29.0371,  34.3766,2,-999.0000,9,    202.2,2,     1.10,2,     0.00,2,     0.00,2,     0.06,2,   1938.0,2,   2260.9,2,   8.1103,2,    25.00,      826
  49UF20170719,KS1706,  5201,  1,     32,  25266,2,20170819,0604,  9.9890, 136.9983, 5010,    101.0,  27.8952,  34.6348,2,-999.0000,9,    204.3,2,     1.06,2,     0.00,2,     0.00,2,     0.07,2,   1959.5,2,   2280.1,2,   8.1002,2,    25.00,      824
  49UF20170719,KS1706,  5201,  1,     31,  25265,2,20170819,0604,  9.9890, 136.9983, 5010,    126.2,  25.2413,  34.8071,2,-999.0000,9,    190.4,2,  -999.00,9,  -999.00,9,  -999.00,9,  -999.00,9,   2006.5,2,   2291.8,2,   8.0304,2,    25.00,      823
  49UF20170719,KS1706,  5201,  1,     30,  25264,2,20170819,0604,  9.9890, 136.9983, 5010,    151.7,  19.4043,  34.8262,2,  34.8221,2,    168.1,2,     5.53,2,     5.77,2,     0.03,2,     0.54,2,   2079.8,2,   2294.6,2,   7.9012,2,    25.00,      822
  49UF20170719,KS1706,  5201,  1,     29,  25263,2,20170819,0604,  9.9890, 136.9983, 5010,    201.5,  13.8220,  34.4919,2,-999.0000,9,    137.8,2,    15.34,4,    16.22,2,     0.01,2,     1.21,2,   2135.5,2,   2278.3,2,   7.7373,2,    25.00,      820
  49UF20170719,KS1706,  5201,  1,     28,  25262,2,20170819,0604,  9.9890, 136.9983, 5010,    254.4,  11.2612,  34.4753,2,-999.0000,9,     93.5,6,    26.82,3,    25.05,6,     0.00,6,     1.84,6,   2195.2,2,   2286.3,2,   7.6073,2,    25.00,      818
  49UF20170719,KS1706,  5201,  1,     27,  25261,2,20170819,0604,  9.9890, 136.9983, 5010,    302.1,  10.1658,  34.5073,2,-999.0000,9,     87.6,2,    32.81,4,    28.14,2,     0.00,2,     2.03,2,   2214.8,2,   2295.0,2,   7.5789,2,    25.00,      817
  49UF20170719,KS1706,  5201,  1,     26,  25260,2,20170819,0604,  9.9890, 136.9983, 5010,    352.7,   9.2003,  34.5230,2,  34.5225,2,     75.0,2,    37.74,3,    31.14,2,     0.00,2,     2.23,2,   2235.9,2,   2302.0,2,   7.5392,2,    25.00,      815
  49UF20170719,KS1706,  5201,  1,     25,  25259,2,20170819,0604,  9.9890, 136.9983, 5010,    402.5,   8.3609,  34.5378,2,-999.0000,9,     79.0,2,    41.67,3,    32.61,2,     0.00,2,     2.32,2,   2244.6,2,   2307.8,2,   7.5304,2,    25.00,      813
  49UF20170719,KS1706,  5201,  1,     23,  25257,2,20170819,0604,  9.9890, 136.9983, 5010,    456.7,   7.8792,  34.5399,2,-999.0000,9,     80.6,2,    44.15,3,    33.43,2,     0.00,2,     2.37,2,   2250.3,2,   2310.1,2,   7.5263,2,    25.00,      812
  49UF20170719,KS1706,  5201,  1,     21,  25255,2,20170819,0604,  9.9890, 136.9983, 5010,    504.0,   7.4926,  34.5345,2,-999.0000,9,     83.3,2,    48.25,4,    33.95,2,     0.00,2,     2.42,2,   2248.6,2,   2314.5,2,   7.5232,2,    25.00,      810
  49UF20170719,KS1706,  5201,  1,     19,  25253,2,20170819,0604,  9.9890, 136.9983, 5010,    605.1,   6.8421,  34.5239,2,  34.5238,2,     85.0,2,    54.57,3,    35.05,2,     0.00,2,     2.50,2,   2256.3,2,   2318.8,2,   7.5173,2,    25.00,      807
  49UF20170719,KS1706,  5201,  1,     17,  25251,2,20170819,0604,  9.9890, 136.9983, 5010,    707.0,   6.2114,  34.5223,2,-999.0000,9,     86.7,6,    62.13,3,    35.94,6,     0.00,6,     2.57,6,   2267.8,2,   2330.3,2,   7.5124,2,    25.00,      804
  49UF20170719,KS1706,  5201,  1,     15,  25249,2,20170819,0604,  9.9890, 136.9983, 5010,    806.8,   5.6933,  34.5234,2,  34.5227,2,     87.5,2,    69.20,3,    36.62,2,     0.00,2,     2.62,2,   2278.3,6,   2337.9,6,   7.5073,2,    25.00,      801
  49UF20170719,KS1706,  5201,  1,     13,  25247,2,20170819,0604,  9.9890, 136.9983, 5010,    906.1,   5.0147,  34.5386,2,-999.0000,9,     82.8,2,    82.75,3,    37.88,2,     0.00,2,     2.72,2,   2295.4,2,   2351.6,2,   7.4944,6,    25.00,      758
  49UF20170719,KS1706,  5201,  1,     11,  25245,2,20170819,0604,  9.9890, 136.9983, 5010,   1010.9,   4.6871,  34.5466,2,  34.5459,2,     83.4,2,    88.65,4,    38.32,2,     0.00,2,     2.75,2,   2302.5,2,   2358.7,2,   7.4936,2,    25.00,      755
  49UF20170719,KS1706,  5201,  1,      9,  25243,2,20170819,0604,  9.9890, 136.9983, 5010,   1209.1,   3.6470,  34.5741,2,-999.0000,9,     91.7,2,   109.42,4,    38.88,2,     0.00,2,     2.77,2,   2322.8,2,   2379.7,2,   7.4991,2,    25.00,      750
  49UF20170719,KS1706,  5201,  1,      7,  25241,3,20170819,0604,  9.9890, 136.9983, 5010,   1411.6,   3.2569,  34.5870,2,-999.0000,9,     96.5,2,   117.42,3,    38.73,2,     0.00,2,     2.76,2,   2325.5,2,   2387.7,2,   7.5051,2,    25.00,      742
  49UF20170719,KS1706,  5201,  1,      5,  25239,2,20170819,0604,  9.9890, 136.9983, 5010,   1618.0,   2.8599,  34.6027,2,-999.0000,9,    102.2,2,   127.61,4,    38.75,2,     0.00,2,     2.74,2,   2332.3,2,   2396.1,2,   7.5125,2,    25.00,      737
  49UF20170719,KS1706,  5201,  1,      3,  24271,2,20170819,0604,  9.9890, 136.9983, 5010,   1818.5,   2.5170,  34.6180,2,  34.6177,2,    108.4,2,   133.35,4,    38.42,2,     0.00,2,     2.72,2,   2339.6,2,   2403.2,2,   7.5199,2,    25.00,      732
  49UF20170719,KS1706,  5201,  1,      1,  25235,2,20170819,0604,  9.9890, 136.9983, 5010,   2020.1,   2.2704,  34.6312,2,-999.0000,9,    114.7,2,   135.40,3,    38.16,2,     0.00,2,     2.69,2,   2338.9,2,   2406.1,2,   7.5275,2,    25.00,      727
  49UF20170719,KS1706,  5201,  1,     24,  25258,2,20170819,0604,  9.9890, 136.9983, 5010,   2274.5,   1.9818,  34.6458,2,  34.6456,2,    122.4,2,   140.94,3,    37.78,2,     0.00,2,     2.65,2,   2341.9,2,   2413.3,2,   7.5392,2,    25.00,      721
  49UF20170719,KS1706,  5201,  1,     22,  25256,2,20170819,0604,  9.9890, 136.9983, 5010,   2529.4,   1.8181,  34.6552,2,-999.0000,9,    129.6,6,   142.28,4,    37.33,6,     0.00,6,     2.62,6,   2338.6,2,   2416.1,2,   7.5502,2,    25.00,      716
  49UF20170719,KS1706,  5201,  1,     20,  24270,2,20170819,0604,  9.9890, 136.9983, 5010,   2782.8,   1.6909,  34.6634,2,  34.6634,6,    135.6,2,   144.10,3,    37.08,2,     0.00,2,     2.59,2,   2334.4,6,   2417.1,6,   7.5591,2,    25.00,      710
  49UF20170719,KS1706,  5201,  1,     18,  25252,2,20170819,0604,  9.9890, 136.9983, 5010,   3038.2,   1.6088,  34.6702,2,  34.6696,2,    142.1,2,   143.44,3,    36.59,2,     0.00,2,     2.56,2,   2332.8,2,   2418.6,2,   7.5681,6,    25.00,      653
  49UF20170719,KS1706,  5201,  1,     16,  25250,2,20170819,0604,  9.9890, 136.9983, 5010,   3293.3,   1.5680,  34.6746,2,-999.0000,9,    147.0,2,   142.47,2,    36.28,2,     0.00,2,     2.53,2,   2328.7,2,   2416.0,2,   7.5766,2,    25.00,      647
  49UF20170719,KS1706,  5201,  1,     14,  25248,2,20170819,0604,  9.9890, 136.9983, 5010,   3551.5,   1.5274,  34.6792,2,  34.6800,2,    151.8,2,   138.85,4,    35.91,2,     0.00,2,     2.50,2,   2327.3,2,   2415.1,2,   7.5831,2,    25.00,      640
  49UF20170719,KS1706,  5201,  1,     12,  25246,2,20170819,0604,  9.9890, 136.9983, 5010,   3805.1,   1.5202,  34.6816,2,  34.6814,2,    155.2,2,   140.06,4,    35.77,2,     0.00,2,     2.48,2,   2320.4,3,   2416.2,2,   7.5877,2,    25.00,      635
  49UF20170719,KS1706,  5201,  1,     10,  25244,2,20170819,0604,  9.9890, 136.9983, 5010,   4064.0,   1.5233,  34.6836,2,  34.6834,2,    157.3,2,   140.09,2,    35.61,6,     0.00,6,     2.48,6,   2323.2,2,   2415.0,2,   7.5888,2,    25.00,      628
  49UF20170719,KS1706,  5201,  1,      8,  25242,2,20170819,0604,  9.9890, 136.9983, 5010,   4317.9,   1.5354,  34.6848,2,  34.6850,2,    158.4,2,   139.33,3,    35.43,2,     0.00,2,     2.47,2,   2318.8,6,   2413.3,6,   7.5922,2,    25.00,      622
  49UF20170719,KS1706,  5201,  1,      6,  25240,2,20170819,0604,  9.9890, 136.9983, 5010,   4576.8,   1.5581,  34.6854,2,  34.6849,2,    159.3,2,   137.02,3,    35.53,2,     0.00,2,     2.46,2,   2319.0,2,   2413.9,2,   7.5926,6,    25.00,      616
  49UF20170719,KS1706,  5201,  1,      4,  25238,2,20170819,0604,  9.9890, 136.9983, 5010,   4831.5,   1.5774,  34.6862,2,  34.6872,2,    160.6,2,   137.83,4,    35.42,2,     0.00,2,     2.46,2,   2318.2,2,   2413.8,2,   7.5943,2,    25.00,      611
  49UF20170719,KS1706,  5201,  1,      2,  25236,2,20170819,0604,  9.9890, 136.9983, 5010,   5128.0,   1.6028,  34.6870,2,  34.6865,2,    161.2,2,   138.06,4,    35.25,2,     0.00,2,     2.45,2,   2318.1,2,   2409.6,2,   7.5952,2,    25.00,      604