BOTTLE,20200103PRINUNIVRMK
EXPOCODE,SECT_ID,STNNBR,CASTNO,SAMPNO,BTLNBR,BTLNBR_FLAG_W,DATE,TIME,LATITUDE,LONGITUDE,DEPTH,CTDPRS,CTDTMP,CTDSAL,CTDSAL_FLAG_W,SALNTY,SALNTY_FLAG_W,OXYGEN,OXYGEN_FLAG_W,SILCAT,SILCAT_FLAG_W,NITRAT,NITRAT_FLAG_W,NITRIT,NITRIT_FLAG_W,PHSPHT,PHSPHT_FLAG_W,TCARBN,TCARBN_FLAG_W,ALKALI,ALKALI_FLAG_W,PH_TOT,PH_TOT_FLAG_W,PH_TMP,BTL_TIME
,,,,,,,,,,,METERS,DBAR,ITS-90,PSS-78,,PSS-78,,UMOL/KG,,UMOL/KG,,UMOL/KG,,UMOL/KG,,UMOL/KG,,UMOL/KG,,UMOL/KG,,,,DEG C,
  49UF20170719,KS1706,  5198,  1,     99,     99,2,20170809,1005,  8.0017, 136.9978, 2986,      0.0,  30.5031,  33.6833,2,-999.0000,9,    194.5,2,     1.30,2,     0.00,2,     0.00,2,     0.03,2,   -999.0,9,   -999.0,9,-999.0000,9,  -999.00,     1048
  49UF20170719,KS1706,  5198,  1,     33,  25267,2,20170809,1005,  8.0017, 136.9978, 2986,     10.3,  29.9722,  33.6152,2,-999.0000,9,    195.0,2,     1.28,2,     0.00,2,     0.00,2,     0.02,2,   -999.0,9,   -999.0,9,-999.0000,9,  -999.00,     1124
  49UF20170719,KS1706,  5198,  1,     32,  25266,2,20170809,1005,  8.0017, 136.9978, 2986,     25.5,  29.8546,  33.7335,2,-999.0000,9,    195.9,2,     1.28,2,     0.00,2,     0.00,2,     0.01,2,   -999.0,9,   -999.0,9,-999.0000,9,  -999.00,     1122
  49UF20170719,KS1706,  5198,  1,     31,  25265,2,20170809,1005,  8.0017, 136.9978, 2986,     49.9,  29.3826,  34.0131,2,-999.0000,9,    198.1,2,     1.25,2,     0.00,2,     0.00,2,     0.04,2,   -999.0,9,   -999.0,9,-999.0000,9,  -999.00,     1119
  49UF20170719,KS1706,  5198,  1,     30,  25264,2,20170809,1005,  8.0017, 136.9978, 2986,     75.8,  28.1066,  34.3341,2,-999.0000,9,    197.9,6,     1.48,6,     0.00,6,     0.00,6,     0.08,6,   -999.0,9,   -999.0,9,-999.0000,9,  -999.00,     1117
  49UF20170719,KS1706,  5198,  1,     29,  25263,2,20170809,1005,  8.0017, 136.9978, 2986,    100.2,  24.4249,  34.7568,2,-999.0000,9,    182.9,2,     2.78,2,     1.05,2,     0.09,2,     0.24,2,   -999.0,9,   -999.0,9,-999.0000,9,  -999.00,     1116
  49UF20170719,KS1706,  5198,  1,     28,  25262,2,20170809,1005,  8.0017, 136.9978, 2986,    125.2,  21.1216,  34.8251,2,-999.0000,9,    166.9,2,     5.14,2,     4.70,2,     0.10,2,     0.49,2,   -999.0,9,   -999.0,9,-999.0000,9,  -999.00,     1115
  49UF20170719,KS1706,  5198,  1,     24,  25258,2,20170809,1005,  8.0017, 136.9978, 2986,    150.4,  16.4259,  34.6369,2,-999.0000,9,    141.7,2,    12.87,2,    13.45,2,     0.01,2,     1.03,2,   -999.0,9,   -999.0,9,-999.0000,9,  -999.00,     1113
  49UF20170719,KS1706,  5198,  1,     23,  25257,2,20170809,1005,  8.0017, 136.9978, 2986,    201.9,  11.8290,  34.5058,2,-999.0000,9,    101.5,2,    26.63,2,    24.16,2,     0.00,2,     1.76,2,   -999.0,9,   -999.0,9,-999.0000,9,  -999.00,     1111
  49UF20170719,KS1706,  5198,  1,     22,  25256,2,20170809,1005,  8.0017, 136.9978, 2986,    252.6,  10.1150,  34.5206,2,-999.0000,9,     86.1,2,    33.08,2,    28.53,2,     0.00,2,     2.06,2,   -999.0,9,   -999.0,9,-999.0000,9,  -999.00,     1109
  49UF20170719,KS1706,  5198,  1,     21,  25255,2,20170809,1005,  8.0017, 136.9978, 2986,    301.7,   9.2716,  34.5222,2,-999.0000,9,     86.6,2,    36.87,2,    30.14,2,     0.00,2,     2.16,2,   -999.0,9,   -999.0,9,-999.0000,9,  -999.00,     1107
  49UF20170719,KS1706,  5198,  1,     20,  24270,2,20170809,1005,  8.0017, 136.9978, 2986,    352.6,   8.7580,  34.5306,2,-999.0000,9,     87.3,2,    38.97,2,    31.18,2,     0.00,2,     2.23,2,   -999.0,9,   -999.0,9,-999.0000,9,  -999.00,     1105
  49UF20170719,KS1706,  5198,  1,     19,  25253,2,20170809,1005,  8.0017, 136.9978, 2986,    353.0,   8.7577,  34.5306,2,-999.0000,9,     87.5,2,    39.04,2,    31.22,2,     0.00,2,     2.23,2,   -999.0,9,   -999.0,9,-999.0000,9,  -999.00,     1105
  49UF20170719,KS1706,  5198,  1,     15,  25249,2,20170809,1005,  8.0017, 136.9978, 2986,    402.3,   8.3639,  34.5362,2,-999.0000,9,     90.3,2,    40.39,2,    31.80,2,     0.00,2,     2.26,2,   -999.0,9,   -999.0,9,-999.0000,9,  -999.00,     1103
  49UF20170719,KS1706,  5198,  1,     14,  25248,2,20170809,1005,  8.0017, 136.9978, 2986,    453.1,   7.8605,  34.5479,2,-999.0000,9,     88.6,2,    42.70,2,    33.02,2,     0.00,2,     2.34,2,   -999.0,9,   -999.0,9,-999.0000,9,  -999.00,     1102
  49UF20170719,KS1706,  5198,  1,     13,  25247,2,20170809,1005,  8.0017, 136.9978, 2986,    503.5,   7.5230,  34.5373,2,-999.0000,9,     91.7,2,    45.48,2,    33.41,2,     0.00,2,     2.38,2,   -999.0,9,   -999.0,9,-999.0000,9,  -999.00,     1100
  49UF20170719,KS1706,  5198,  1,     12,  25246,2,20170809,1005,  8.0017, 136.9978, 2986,    604.6,   6.9060,  34.5215,2,-999.0000,9,     96.3,2,    51.72,2,    34.13,2,     0.00,2,     2.43,2,   -999.0,9,   -999.0,9,-999.0000,9,  -999.00,     1057
  49UF20170719,KS1706,  5198,  1,     10,  25244,2,20170809,1005,  8.0017, 136.9978, 2986,    705.5,   6.2389,  34.5220,2,-999.0000,9,     91.0,2,    60.98,2,    35.69,2,     0.00,2,     2.56,2,   -999.0,9,   -999.0,9,-999.0000,9,  -999.00,     1054
  49UF20170719,KS1706,  5198,  1,     11,  25245,4,20170809,1005,  8.0017, 136.9978, 2986,    705.6,   6.2321,  34.5224,2,-999.0000,9,   -999.0,9,  -999.00,9,  -999.00,9,  -999.00,9,  -999.00,9,   -999.0,9,   -999.0,9,-999.0000,9,  -999.00,     1054
  49UF20170719,KS1706,  5198,  1,      9,  25243,2,20170809,1005,  8.0017, 136.9978, 2986,    806.3,   5.7712,  34.5295,2,-999.0000,9,     88.4,6,    68.20,6,    36.67,6,     0.00,6,     2.63,6,   -999.0,9,   -999.0,9,-999.0000,9,  -999.00,     1048
  49UF20170719,KS1706,  5198,  1,      8,  25242,2,20170809,1005,  8.0017, 136.9978, 2986,    906.7,   5.1895,  34.5370,2,-999.0000,9,     83.0,2,    79.71,2,    37.99,2,     0.00,2,     2.73,2,   -999.0,9,   -999.0,9,-999.0000,9,  -999.00,     1045
  49UF20170719,KS1706,  5198,  1,      6,  25240,2,20170809,1005,  8.0017, 136.9978, 2986,   1008.5,   4.6068,  34.5478,2,-999.0000,9,     87.3,2,    90.34,2,    38.23,2,     0.00,2,     2.75,2,   -999.0,9,   -999.0,9,-999.0000,9,  -999.00,     1042
  49UF20170719,KS1706,  5198,  1,      5,  25239,2,20170809,1005,  8.0017, 136.9978, 2986,   1209.5,   3.7914,  34.5687,2,-999.0000,9,     91.2,2,   106.54,2,    38.80,2,     0.00,2,     2.78,2,   -999.0,9,   -999.0,9,-999.0000,9,  -999.00,     1032
  49UF20170719,KS1706,  5198,  1,      4,  25238,2,20170809,1005,  8.0017, 136.9978, 2986,   1412.8,   3.1725,  34.5897,2,-999.0000,9,     97.0,2,   119.09,2,    38.96,2,     0.00,2,     2.78,2,   -999.0,9,   -999.0,9,-999.0000,9,  -999.00,     1024
  49UF20170719,KS1706,  5198,  1,      3,  25237,2,20170809,1005,  8.0017, 136.9978, 2986,   1615.8,   2.7515,  34.6064,2,-999.0000,9,    103.9,2,   127.11,2,    38.80,2,     0.00,2,     2.76,2,   -999.0,9,   -999.0,9,-999.0000,9,  -999.00,     1019
  49UF20170719,KS1706,  5198,  1,      2,  25236,2,20170809,1005,  8.0017, 136.9978, 2986,   1818.8,   2.3751,  34.6255,2,-999.0000,9,    111.6,2,   134.06,2,    38.49,2,     0.00,2,     2.73,2,   -999.0,9,   -999.0,9,-999.0000,9,  -999.00,     1015
  49UF20170719,KS1706,  5198,  1,     18,  25252,2,20170809,1005,  8.0017, 136.9978, 2986,   2021.8,   2.1781,  34.6359,2,-999.0000,9,    117.1,2,   137.32,2,    38.29,2,     0.00,2,     2.71,2,   -999.0,9,   -999.0,9,-999.0000,9,  -999.00,     1005
  49UF20170719,KS1706,  5199,  1,     99,     99,2,20170809,1823,  8.9965, 136.9795, 3204,      0.0,  29.9816,  33.6832,2,-999.0000,9,    193.8,2,     1.39,2,     0.00,2,     0.00,2,     0.04,2,   -999.0,9,   -999.0,9,-999.0000,9,  -999.00,     2041
  49UF20170719,KS1706,  5199,  1,     36,  25270,2,20170809,1823,  8.9965, 136.9795, 3204,     11.3,  30.0001,  33.6826,2,  33.6820,2,    194.5,2,     1.39,2,     0.00,2,     0.00,2,     0.02,2,   -999.0,9,   -999.0,9,-999.0000,9,  -999.00,     2117
  49UF20170719,KS1706,  5199,  1,     35,  25269,2,20170809,1823,  8.9965, 136.9795, 3204,     26.2,  29.8256,  33.7049,2,-999.0000,9,    195.0,2,     1.35,2,     0.00,2,     0.00,2,     0.02,2,   -999.0,9,   -999.0,9,-999.0000,9,  -999.00,     2116
  49UF20170719,KS1706,  5199,  1,     34,  25268,2,20170809,1823,  8.9965, 136.9795, 3204,     51.1,  29.6301,  34.0052,2,-999.0000,9,    198.0,2,     1.31,2,     0.00,2,     0.00,2,     0.03,2,   -999.0,9,   -999.0,9,-999.0000,9,  -999.00,     2112
  49UF20170719,KS1706,  5199,  1,     33,  25267,2,20170809,1823,  8.9965, 136.9795, 3204,     76.0,  28.6908,  34.2557,2,  34.2673,2,    198.9,2,     1.40,2,     0.00,2,     0.00,2,     0.06,2,   -999.0,9,   -999.0,9,-999.0000,9,  -999.00,     2111
  49UF20170719,KS1706,  5199,  1,     32,  25266,2,20170809,1823,  8.9965, 136.9795, 3204,    100.9,  26.8502,  34.5877,2,-999.0000,9,    195.0,2,     1.82,2,     0.00,2,     0.00,2,     0.12,2,   -999.0,9,   -999.0,9,-999.0000,9,  -999.00,     2109
  49UF20170719,KS1706,  5199,  1,     31,  25265,2,20170809,1823,  8.9965, 136.9795, 3204,    126.7,  22.0363,  34.8798,2,  34.8866,2,    176.5,6,     3.86,6,     2.74,6,     0.15,6,     0.38,6,   -999.0,9,   -999.0,9,-999.0000,9,  -999.00,     2108
  49UF20170719,KS1706,  5199,  1,     30,  25264,2,20170809,1823,  8.9965, 136.9795, 3204,    152.2,  17.1418,  34.6969,2,-999.0000,9,    161.4,2,     8.45,2,     9.45,2,     0.02,2,     0.76,2,   -999.0,9,   -999.0,9,-999.0000,9,  -999.00,     2107
  49UF20170719,KS1706,  5199,  1,     29,  25263,2,20170809,1823,  8.9965, 136.9795, 3204,    202.9,  12.4966,  34.4841,2,-999.0000,9,    110.6,2,    22.20,2,    21.48,2,     0.00,2,     1.59,2,   -999.0,9,   -999.0,9,-999.0000,9,  -999.00,     2105
  49UF20170719,KS1706,  5199,  1,     28,  25262,2,20170809,1823,  8.9965, 136.9795, 3204,    252.4,  10.8250,  34.4896,2,-999.0000,9,     92.4,6,    29.73,6,    26.36,6,     0.00,6,     1.92,6,   -999.0,9,   -999.0,9,-999.0000,9,  -999.00,     2103
  49UF20170719,KS1706,  5199,  1,     27,  25261,2,20170809,1823,  8.9965, 136.9795, 3204,    302.5,   9.5727,  34.5099,2,  34.5115,2,     78.7,2,    35.91,2,    30.22,2,     0.00,2,     2.18,2,   -999.0,9,   -999.0,9,-999.0000,9,  -999.00,     2101
  49UF20170719,KS1706,  5199,  1,     26,  25260,2,20170809,1823,  8.9965, 136.9795, 3204,    353.2,   8.9241,  34.5223,2,-999.0000,9,     76.9,2,    38.81,2,    31.67,2,     0.00,2,     2.27,2,   -999.0,9,   -999.0,9,-999.0000,9,  -999.00,     2100
  49UF20170719,KS1706,  5199,  1,     25,  25259,2,20170809,1823,  8.9965, 136.9795, 3204,    402.8,   8.5224,  34.5360,2,-999.0000,9,     76.6,2,    40.94,2,    32.72,2,     0.00,2,     2.34,2,   -999.0,9,   -999.0,9,-999.0000,9,  -999.00,     2058
  49UF20170719,KS1706,  5199,  1,     24,  25258,2,20170809,1823,  8.9965, 136.9795, 3204,    453.5,   7.8257,  34.5286,2,-999.0000,9,     85.5,2,    44.32,2,    33.18,2,     0.00,2,     2.37,2,   -999.0,9,   -999.0,9,-999.0000,9,  -999.00,     2056
  49UF20170719,KS1706,  5199,  1,     23,  25257,2,20170809,1823,  8.9965, 136.9795, 3204,    504.9,   7.4634,  34.5242,2,  34.5232,2,     87.9,2,    47.55,2,    33.63,2,     0.00,2,     2.40,2,   -999.0,9,   -999.0,9,-999.0000,9,  -999.00,     2054
  49UF20170719,KS1706,  5199,  1,     22,  25256,2,20170809,1823,  8.9965, 136.9795, 3204,    604.6,   6.7607,  34.5271,2,-999.0000,9,     83.0,2,    55.25,2,    35.50,2,     0.00,2,     2.54,2,   -999.0,9,   -999.0,9,-999.0000,9,  -999.00,     2051
  49UF20170719,KS1706,  5199,  1,     21,  25255,2,20170809,1823,  8.9965, 136.9795, 3204,    704.3,   6.1223,  34.5262,2,-999.0000,9,     83.1,2,    64.01,2,    36.51,2,     0.00,2,     2.62,2,   -999.0,9,   -999.0,9,-999.0000,9,  -999.00,     2049
  49UF20170719,KS1706,  5199,  1,     20,  24270,2,20170809,1823,  8.9965, 136.9795, 3204,    806.9,   5.7719,  34.5292,2,-999.0000,9,     81.9,2,    69.76,2,    37.20,2,     0.00,2,     2.67,2,   -999.0,9,   -999.0,9,-999.0000,9,  -999.00,     2046
  49UF20170719,KS1706,  5199,  1,     19,  25253,2,20170809,1823,  8.9965, 136.9795, 3204,    907.5,   5.1038,  34.5383,2,-999.0000,9,     82.8,2,    81.15,2,    38.12,2,     0.00,2,     2.73,2,   -999.0,9,   -999.0,9,-999.0000,9,  -999.00,     2043
  49UF20170719,KS1706,  5199,  1,     18,  25252,2,20170809,1823,  8.9965, 136.9795, 3204,   1008.3,   4.7410,  34.5464,2,  34.5464,2,     83.5,6,    87.71,6,    38.51,6,     0.00,6,     2.76,6,   -999.0,9,   -999.0,9,-999.0000,9,  -999.00,     2040
  49UF20170719,KS1706,  5199,  1,     17,  25251,2,20170809,1823,  8.9965, 136.9795, 3204,   1210.4,   3.8362,  34.5678,2,-999.0000,9,     88.3,2,   105.98,2,    39.01,2,     0.00,2,     2.80,2,   -999.0,9,   -999.0,9,-999.0000,9,  -999.00,     2030
  49UF20170719,KS1706,  5199,  1,     16,  25250,2,20170809,1823,  8.9965, 136.9795, 3204,   1412.9,   3.2490,  34.5868,2,-999.0000,9,     93.9,2,   117.96,2,    39.09,2,     0.00,2,     2.79,2,   -999.0,9,   -999.0,9,-999.0000,9,  -999.00,     2025
  49UF20170719,KS1706,  5199,  1,     15,  25249,2,20170809,1823,  8.9965, 136.9795, 3204,   1615.7,   2.7994,  34.6042,2,  34.6044,2,    102.8,2,   126.13,2,    38.74,2,     0.00,2,     2.76,2,   -999.0,9,   -999.0,9,-999.0000,9,  -999.00,     2021
  49UF20170719,KS1706,  5199,  1,     14,  25248,2,20170809,1823,  8.9965, 136.9795, 3204,   1820.6,   2.4995,  34.6192,2,-999.0000,9,    108.4,2,   131.79,2,    38.64,2,     0.00,2,     2.74,2,   -999.0,9,   -999.0,9,-999.0000,9,  -999.00,     2016
  49UF20170719,KS1706,  5199,  1,     13,  25247,2,20170809,1823,  8.9965, 136.9795, 3204,   2021.7,   2.2210,  34.6323,2,  34.6316,2,    114.5,2,   137.30,2,    38.32,2,     0.00,2,     2.71,2,   -999.0,9,   -999.0,9,-999.0000,9,  -999.00,     2011
  49UF20170719,KS1706,  5199,  1,     12,  25246,2,20170809,1823,  8.9965, 136.9795, 3204,   2276.8,   1.9308,  34.6479,2,-999.0000,9,    123.1,2,   142.05,2,    38.01,2,     0.00,2,     2.67,2,   -999.0,9,   -999.0,9,-999.0000,9,  -999.00,     2005
  49UF20170719,KS1706,  5199,  1,     11,  25245,2,20170809,1823,  8.9965, 136.9795, 3204,   2529.8,   1.8222,  34.6548,2,  34.6554,2,    128.6,6,   143.24,6,    37.59,6,     0.00,6,     2.64,6,   -999.0,9,   -999.0,9,-999.0000,9,  -999.00,     2000
  49UF20170719,KS1706,  5199,  1,     10,  25244,2,20170809,1823,  8.9965, 136.9795, 3204,   2784.5,   1.6832,  34.6648,2,  34.6644,2,    138.0,2,   142.70,2,    36.93,2,     0.00,2,     2.59,2,   -999.0,9,   -999.0,9,-999.0000,9,  -999.00,     1954
  49UF20170719,KS1706,  5199,  1,      9,  25243,2,20170809,1823,  8.9965, 136.9795, 3204,   2784.5,   1.6822,  34.6649,2,-999.0000,9,    137.9,2,   142.60,2,    37.06,2,     0.00,2,     2.60,2,   -999.0,9,   -999.0,9,-999.0000,9,  -999.00,     1954
  49UF20170719,KS1706,  5199,  1,      7,  25241,2,20170809,1823,  8.9965, 136.9795, 3204,   3040.0,   1.5819,  34.6725,2,  34.6722,2,    144.5,2,   142.52,2,    36.60,2,     0.00,2,     2.56,2,   -999.0,9,   -999.0,9,-999.0000,9,  -999.00,     1913
  49UF20170719,KS1706,  5199,  1,      8,  25242,2,20170809,1823,  8.9965, 136.9795, 3204,   3040.1,   1.5826,  34.6724,2,  34.6721,2,    144.8,2,   142.48,2,    36.52,2,     0.00,2,     2.56,2,   -999.0,9,   -999.0,9,-999.0000,9,  -999.00,     1913
  49UF20170719,KS1706,  5199,  1,      5,  25239,2,20170809,1823,  8.9965, 136.9795, 3204,   3294.8,   1.5338,  34.6770,2,  34.6766,2,    149.3,2,   141.42,2,    36.22,2,     0.00,2,     2.53,2,   -999.0,9,   -999.0,9,-999.0000,9,  -999.00,     1825
  49UF20170719,KS1706,  5199,  1,      4,  25238,2,20170809,1823,  8.9965, 136.9795, 3204,   3295.0,   1.5338,  34.6769,2,  34.6769,2,    149.7,2,   141.93,2,    36.22,2,     0.00,2,     2.53,2,   -999.0,9,   -999.0,9,-999.0000,9,  -999.00,     1825
  49UF20170719,KS1706,  5199,  1,      6,  25240,2,20170809,1823,  8.9965, 136.9795, 3204,   3295.2,   1.5343,  34.6770,2,-999.0000,9,    149.5,2,   141.77,2,    36.25,2,     0.00,2,     2.54,2,   -999.0,9,   -999.0,9,-999.0000,9,  -999.00,     1826
  49UF20170719,KS1706,  5199,  1,      1,  25235,2,20170809,1823,  8.9965, 136.9795, 3204,   3345.7,   1.5356,  34.6772,2,  34.6770,2,    149.7,2,   141.90,2,    36.28,2,     0.00,2,     2.53,2,   -999.0,9,   -999.0,9,-999.0000,9,  -999.00,     1822
  49UF20170719,KS1706,  5199,  1,      2,  25236,2,20170809,1823,  8.9965, 136.9795, 3204,   3345.9,   1.5351,  34.6772,2,  34.6774,2,    149.9,2,   141.79,2,    36.24,2,     0.00,2,     2.53,2,   -999.0,9,   -999.0,9,-999.0000,9,  -999.00,     1823
  49UF20170719,KS1706,  5199,  1,      3,  25237,2,20170809,1823,  8.9965, 136.9795, 3204,   3346.1,   1.5350,  34.6772,2,-999.0000,9,    149.6,2,   141.61,2,    36.24,2,     0.00,2,     2.53,2,   -999.0,9,   -999.0,9,-999.0000,9,  -999.00,     1823