BOTTLE,20200103PRINUNIVRMK
EXPOCODE,SECT_ID,STNNBR,CASTNO,SAMPNO,BTLNBR,BTLNBR_FLAG_W,DATE,TIME,LATITUDE,LONGITUDE,DEPTH,CTDPRS,CTDTMP,CTDSAL,CTDSAL_FLAG_W,SALNTY,SALNTY_FLAG_W,OXYGEN,OXYGEN_FLAG_W,SILCAT,SILCAT_FLAG_W,NITRAT,NITRAT_FLAG_W,NITRIT,NITRIT_FLAG_W,PHSPHT,PHSPHT_FLAG_W,TCARBN,TCARBN_FLAG_W,ALKALI,ALKALI_FLAG_W,PH_TOT,PH_TOT_FLAG_W,PH_TMP,BTL_TIME
,,,,,,,,,,,METERS,DBAR,ITS-90,PSS-78,,PSS-78,,UMOL/KG,,UMOL/KG,,UMOL/KG,,UMOL/KG,,UMOL/KG,,UMOL/KG,,UMOL/KG,,,,DEG C,
  49UF20170719,KS1706,  5223,  1,     99,     99,2,20170828,0522, 30.9852, 137.0120, 4165,      0.0,  30.1614,  34.5632,2,-999.0000,9,    195.1,2,     1.33,2,     0.00,2,     0.00,2,     0.02,2,   -999.0,9,   -999.0,9,-999.0000,9,  -999.00,      551
  49UF20170719,KS1706,  5223,  1,     36,  25270,2,20170828,0522, 30.9852, 137.0120, 4165,     10.5,  29.2111,  34.5266,2,-999.0000,9,    200.5,2,     1.33,2,     0.00,2,     0.00,2,     0.00,2,   -999.0,9,   -999.0,9,-999.0000,9,  -999.00,      626
  49UF20170719,KS1706,  5223,  1,     35,  25269,2,20170828,0522, 30.9852, 137.0120, 4165,     25.6,  26.2711,  34.6594,2,-999.0000,9,    213.5,2,     1.37,2,     0.00,2,     0.00,2,     0.00,2,   -999.0,9,   -999.0,9,-999.0000,9,  -999.00,      624
  49UF20170719,KS1706,  5223,  1,     34,  25268,2,20170828,0522, 30.9852, 137.0120, 4165,     51.2,  24.5152,  34.6907,2,-999.0000,9,    217.4,2,     1.45,2,     0.00,2,     0.00,2,     0.01,2,   -999.0,9,   -999.0,9,-999.0000,9,  -999.00,      621
  49UF20170719,KS1706,  5223,  1,     30,  25264,2,20170828,0522, 30.9852, 137.0120, 4165,     76.2,  22.0270,  34.9865,2,-999.0000,9,    218.0,2,     1.50,2,     0.00,2,     0.00,2,     0.02,2,   -999.0,9,   -999.0,9,-999.0000,9,  -999.00,      619
  49UF20170719,KS1706,  5223,  1,     28,  25262,2,20170828,0522, 30.9852, 137.0120, 4165,    100.1,  20.9159,  34.9916,2,-999.0000,9,    208.0,2,     1.85,2,     0.40,2,     0.18,2,     0.08,2,   -999.0,9,   -999.0,9,-999.0000,9,  -999.00,      618
  49UF20170719,KS1706,  5223,  1,     29,  25263,2,20170828,0522, 30.9852, 137.0120, 4165,    100.2,  20.9132,  34.9919,2,-999.0000,9,    208.2,2,     1.85,2,     0.38,2,     0.18,2,     0.07,2,   -999.0,9,   -999.0,9,-999.0000,9,  -999.00,      618
  49UF20170719,KS1706,  5223,  1,     27,  25261,2,20170828,0522, 30.9852, 137.0120, 4165,    129.4,  20.2101,  34.9613,2,-999.0000,9,    202.8,2,     2.27,2,     1.75,2,     0.05,2,     0.14,2,   -999.0,9,   -999.0,9,-999.0000,9,  -999.00,      617
  49UF20170719,KS1706,  5223,  1,     26,  25260,2,20170828,0522, 30.9852, 137.0120, 4165,    152.6,  19.6705,  34.9324,2,-999.0000,9,    199.4,2,     2.57,2,     2.61,2,     0.02,2,     0.19,2,   -999.0,9,   -999.0,9,-999.0000,9,  -999.00,      616
  49UF20170719,KS1706,  5223,  1,     25,  25259,2,20170828,0522, 30.9852, 137.0120, 4165,    202.7,  18.5644,  34.8685,2,-999.0000,9,    204.2,2,     3.12,2,     3.27,2,     0.01,2,     0.23,2,   -999.0,9,   -999.0,9,-999.0000,9,  -999.00,      614
  49UF20170719,KS1706,  5223,  1,     21,  25255,2,20170828,0522, 30.9852, 137.0120, 4165,    252.3,  17.9389,  34.8224,2,-999.0000,9,    203.3,2,     3.69,2,     4.05,2,     0.01,2,     0.28,2,   -999.0,9,   -999.0,9,-999.0000,9,  -999.00,      612
  49UF20170719,KS1706,  5223,  1,     20,  24270,2,20170828,0522, 30.9852, 137.0120, 4165,    303.0,  17.0247,  34.7301,2,-999.0000,9,    197.9,2,     5.19,2,     5.83,2,     0.00,2,     0.39,2,   -999.0,9,   -999.0,9,-999.0000,9,  -999.00,      610
  49UF20170719,KS1706,  5223,  1,     19,  25253,3,20170828,0522, 30.9852, 137.0120, 4165,    404.0,  15.0024,  34.5604,2,-999.0000,9,    192.6,2,     9.73,2,     9.32,2,     0.00,2,     0.65,2,   -999.0,9,   -999.0,9,-999.0000,9,  -999.00,      608
  49UF20170719,KS1706,  5223,  1,     18,  25252,2,20170828,0522, 30.9852, 137.0120, 4165,    504.6,  12.7553,  34.3947,2,-999.0000,9,    179.8,2,    17.48,2,    14.17,2,     0.00,2,     0.99,2,   -999.0,9,   -999.0,9,-999.0000,9,  -999.00,      605
  49UF20170719,KS1706,  5223,  1,     17,  25251,2,20170828,0522, 30.9852, 137.0120, 4165,    605.1,  10.2106,  34.2410,2,-999.0000,9,    163.5,2,    30.92,2,    20.03,2,     0.00,2,     1.42,2,   -999.0,9,   -999.0,9,-999.0000,9,  -999.00,      602
  49UF20170719,KS1706,  5223,  1,     16,  25250,2,20170828,0522, 30.9852, 137.0120, 4165,    707.0,   8.0120,  34.1684,2,-999.0000,9,    134.6,6,    50.29,6,    26.61,6,     0.00,6,     1.91,6,   -999.0,9,   -999.0,9,-999.0000,9,  -999.00,      559
  49UF20170719,KS1706,  5223,  1,     12,  25246,3,20170828,0522, 30.9852, 137.0120, 4165,    808.0,   6.5734,  34.1922,2,-999.0000,9,    103.0,2,    68.46,2,    31.92,2,     0.00,2,     2.30,2,   -999.0,9,   -999.0,9,-999.0000,9,  -999.00,      557
  49UF20170719,KS1706,  5223,  1,     11,  25245,2,20170828,0522, 30.9852, 137.0120, 4165,    909.7,   5.7014,  34.2353,2,-999.0000,9,     84.4,2,    82.30,2,    35.00,2,     0.00,2,     2.53,2,   -999.0,9,   -999.0,9,-999.0000,9,  -999.00,      554
  49UF20170719,KS1706,  5223,  1,     10,  25244,2,20170828,0522, 30.9852, 137.0120, 4165,   1013.4,   4.8772,  34.3089,2,-999.0000,9,     73.0,2,    98.15,2,    37.33,2,     0.00,2,     2.69,2,   -999.0,9,   -999.0,9,-999.0000,9,  -999.00,      551
  49UF20170719,KS1706,  5223,  1,      9,  25243,2,20170828,0522, 30.9852, 137.0120, 4165,   1212.1,   3.7032,  34.3864,2,-999.0000,9,     60.6,2,   121.29,2,    39.96,2,     0.00,2,     2.87,2,   -999.0,9,   -999.0,9,-999.0000,9,  -999.00,      542
  49UF20170719,KS1706,  5223,  1,      8,  25242,2,20170828,0522, 30.9852, 137.0120, 4165,   1212.1,   3.7032,  34.3862,2,-999.0000,9,     60.8,2,   121.21,2,    40.01,2,     0.00,2,     2.87,2,   -999.0,9,   -999.0,9,-999.0000,9,  -999.00,      542
  49UF20170719,KS1706,  5223,  1,      7,  25241,2,20170828,0522, 30.9852, 137.0120, 4165,   1417.3,   3.0066,  34.4568,2,-999.0000,9,     61.4,6,   135.98,6,    40.88,6,     0.00,6,     2.92,6,   -999.0,9,   -999.0,9,-999.0000,9,  -999.00,      536
  49UF20170719,KS1706,  5223,  1,      3,  24271,2,20170828,0522, 30.9852, 137.0120, 4165,   1618.1,   2.6641,  34.5085,2,-999.0000,9,     72.4,2,   141.14,2,    40.41,2,     0.00,2,     2.88,2,   -999.0,9,   -999.0,9,-999.0000,9,  -999.00,      532
  49UF20170719,KS1706,  5223,  1,      2,  25236,2,20170828,0522, 30.9852, 137.0120, 4165,   1821.7,   2.3733,  34.5464,2,-999.0000,9,     82.3,2,   145.88,2,    40.05,2,     0.00,2,     2.84,2,   -999.0,9,   -999.0,9,-999.0000,9,  -999.00,      526
  49UF20170719,KS1706,  5223,  1,      1,  25235,2,20170828,0522, 30.9852, 137.0120, 4165,   2024.5,   2.1742,  34.5757,2,-999.0000,9,     93.2,2,   146.88,2,    39.49,2,     0.00,2,     2.79,2,   -999.0,9,   -999.0,9,-999.0000,9,  -999.00,      522
  49UF20170719,KS1706,  5226,  1,     99,     99,2,20170828,1631, 31.9822, 137.0503, 4075,      0.0,  29.1427,  33.8778,2,-999.0000,9,    198.7,2,     2.31,2,     0.00,2,     0.00,2,     0.02,2,   -999.0,9,   -999.0,9,-999.0000,9,  -999.00,     1709
  49UF20170719,KS1706,  5226,  1,     36,  25270,2,20170828,1631, 31.9822, 137.0503, 4075,     10.8,  28.8589,  33.9239,2,  33.9205,2,    199.5,2,     2.64,2,     0.00,2,     0.00,2,     0.01,2,   -999.0,9,   -999.0,9,-999.0000,9,  -999.00,     1738
  49UF20170719,KS1706,  5226,  1,     35,  25269,2,20170828,1631, 31.9822, 137.0503, 4075,     25.9,  25.8316,  34.3585,2,  34.3537,2,    210.3,2,     2.72,2,     0.00,2,     0.00,2,     0.03,2,   -999.0,9,   -999.0,9,-999.0000,9,  -999.00,     1736
  49UF20170719,KS1706,  5226,  1,     34,  25268,2,20170828,1631, 31.9822, 137.0503, 4075,     50.3,  23.8794,  34.5897,2,-999.0000,9,    201.4,2,     3.54,2,     0.46,2,     0.12,2,     0.10,2,   -999.0,9,   -999.0,9,-999.0000,9,  -999.00,     1733
  49UF20170719,KS1706,  5226,  1,     30,  25264,2,20170828,1631, 31.9822, 137.0503, 4075,     78.2,  20.6824,  34.8730,2,  34.8727,2,    186.1,2,     5.09,2,     3.94,2,     0.03,2,     0.30,2,   -999.0,9,   -999.0,9,-999.0000,9,  -999.00,     1731
  49UF20170719,KS1706,  5226,  1,     29,  25263,2,20170828,1631, 31.9822, 137.0503, 4075,    103.9,  20.2469,  34.8425,2,-999.0000,9,    184.3,2,     5.83,2,     4.60,2,     0.02,2,     0.34,2,   -999.0,9,   -999.0,9,-999.0000,9,  -999.00,     1730
  49UF20170719,KS1706,  5226,  1,     28,  25262,2,20170828,1631, 31.9822, 137.0503, 4075,    125.5,  18.9644,  34.8047,2,  34.8023,2,    182.9,2,     7.00,2,     5.79,2,     0.02,2,     0.42,2,   -999.0,9,   -999.0,9,-999.0000,9,  -999.00,     1729
  49UF20170719,KS1706,  5226,  1,     27,  25261,2,20170828,1631, 31.9822, 137.0503, 4075,    125.6,  18.9444,  34.8108,2,  34.8045,2,    182.8,2,     6.91,2,     5.77,2,     0.02,2,     0.42,2,   -999.0,9,   -999.0,9,-999.0000,9,  -999.00,     1729
  49UF20170719,KS1706,  5226,  1,     26,  25260,2,20170828,1631, 31.9822, 137.0503, 4075,    150.7,  17.4310,  34.7281,2,-999.0000,9,    181.7,2,     9.04,2,     7.59,2,     0.01,2,     0.53,2,   -999.0,9,   -999.0,9,-999.0000,9,  -999.00,     1728
  49UF20170719,KS1706,  5226,  1,     25,  25259,2,20170828,1631, 31.9822, 137.0503, 4075,    203.4,  15.8146,  34.6365,2,  34.6364,2,    179.8,2,    11.72,2,     9.60,2,     0.01,2,     0.67,2,   -999.0,9,   -999.0,9,-999.0000,9,  -999.00,     1726
  49UF20170719,KS1706,  5226,  1,     21,  25255,2,20170828,1631, 31.9822, 137.0503, 4075,    252.8,  14.2219,  34.5259,2,-999.0000,9,    172.4,2,    16.82,2,    12.74,2,     0.01,2,     0.89,2,   -999.0,9,   -999.0,9,-999.0000,9,  -999.00,     1724
  49UF20170719,KS1706,  5226,  1,     20,  24270,2,20170828,1631, 31.9822, 137.0503, 4075,    302.8,  12.1435,  34.4230,2,  34.4200,2,    154.3,2,    28.62,2,    17.86,2,     0.01,2,     1.27,2,   -999.0,9,   -999.0,9,-999.0000,9,  -999.00,     1723
  49UF20170719,KS1706,  5226,  1,     19,  25253,3,20170828,1631, 31.9822, 137.0503, 4075,    404.3,   8.3617,  34.2240,2,-999.0000,9,    129.8,2,    49.51,2,    26.27,2,     0.00,2,     1.88,2,   -999.0,9,   -999.0,9,-999.0000,9,  -999.00,     1720
  49UF20170719,KS1706,  5226,  1,     18,  25252,2,20170828,1631, 31.9822, 137.0503, 4075,    506.0,   7.2440,  34.2699,2,  34.2655,2,    106.0,2,    65.42,2,    30.41,2,     0.00,2,     2.18,2,   -999.0,9,   -999.0,9,-999.0000,9,  -999.00,     1717
  49UF20170719,KS1706,  5226,  1,     17,  25251,2,20170828,1631, 31.9822, 137.0503, 4075,    608.5,   5.3951,  34.2404,2,-999.0000,9,     82.6,6,    87.25,6,    35.74,6,     0.00,6,     2.57,6,   -999.0,9,   -999.0,9,-999.0000,9,  -999.00,     1714
  49UF20170719,KS1706,  5226,  1,     16,  25250,2,20170828,1631, 31.9822, 137.0503, 4075,    709.3,   4.5041,  34.3154,2,  34.3145,2,     67.7,2,   104.22,2,    38.33,2,     0.00,2,     2.75,2,   -999.0,9,   -999.0,9,-999.0000,9,  -999.00,     1711
  49UF20170719,KS1706,  5226,  1,     12,  25246,2,20170828,1631, 31.9822, 137.0503, 4075,    807.9,   3.9002,  34.3672,2,-999.0000,9,     62.0,2,   116.21,2,    39.74,2,     0.00,2,     2.84,2,   -999.0,9,   -999.0,9,-999.0000,9,  -999.00,     1708
  49UF20170719,KS1706,  5226,  1,     11,  25245,2,20170828,1631, 31.9822, 137.0503, 4075,    910.1,   3.5898,  34.3943,2,  34.3934,2,     61.2,2,   122.93,2,    40.17,2,     0.00,2,     2.87,2,   -999.0,9,   -999.0,9,-999.0000,9,  -999.00,     1706
  49UF20170719,KS1706,  5226,  1,     10,  25244,2,20170828,1631, 31.9822, 137.0503, 4075,   1010.3,   3.3617,  34.4212,2,-999.0000,9,     61.3,2,   127.84,2,    40.50,2,     0.00,2,     2.89,2,   -999.0,9,   -999.0,9,-999.0000,9,  -999.00,     1656
  49UF20170719,KS1706,  5226,  1,      9,  25243,3,20170828,1631, 31.9822, 137.0503, 4075,   1210.9,   2.9546,  34.4686,2,-999.0000,9,     65.4,2,   135.14,2,    40.64,2,     0.00,2,     2.89,2,   -999.0,9,   -999.0,9,-999.0000,9,  -999.00,     1652
  49UF20170719,KS1706,  5226,  1,      7,  25241,3,20170828,1631, 31.9822, 137.0503, 4075,   1418.0,   2.5324,  34.5233,2,  34.5232,2,     75.8,2,   141.78,2,    40.47,2,     0.00,2,     2.86,2,   -999.0,9,   -999.0,9,-999.0000,9,  -999.00,     1645
  49UF20170719,KS1706,  5226,  1,      8,  25242,3,20170828,1631, 31.9822, 137.0503, 4075,   1419.2,   2.5308,  34.5236,2,  34.5231,2,     75.6,2,   141.90,2,    40.41,2,     0.00,2,     2.86,2,   -999.0,9,   -999.0,9,-999.0000,9,  -999.00,     1645
  49UF20170719,KS1706,  5226,  1,      3,  24271,2,20170828,1631, 31.9822, 137.0503, 4075,   1620.5,   2.2544,  34.5624,2,  34.5614,2,     87.8,6,   145.14,6,    39.86,6,     0.00,6,     2.81,6,   -999.0,9,   -999.0,9,-999.0000,9,  -999.00,     1640
  49UF20170719,KS1706,  5226,  1,      2,  25236,2,20170828,1631, 31.9822, 137.0503, 4075,   1819.8,   2.0612,  34.5909,2,  34.5921,2,    100.3,2,   145.68,2,    39.13,2,     0.00,2,     2.75,2,   -999.0,9,   -999.0,9,-999.0000,9,  -999.00,     1635
  49UF20170719,KS1706,  5226,  1,      1,  25235,2,20170828,1631, 31.9822, 137.0503, 4075,   2025.1,   1.9139,  34.6138,2,  34.6146,6,    112.0,2,   145.27,2,    38.37,2,     0.00,2,     2.70,2,   -999.0,9,   -999.0,9,-999.0000,9,  -999.00,     1631
  49UF20170719,KS1706,  5229,  1,     99,     99,2,20170829,0554, 33.0082, 137.0048, 4304,      0.0,  29.6462,  34.1354,2,-999.0000,9,    197.1,2,     1.99,2,     0.00,2,     0.00,2,     0.02,2,   -999.0,9,   -999.0,9,-999.0000,9,  -999.00,      636
  49UF20170719,KS1706,  5229,  1,     36,  25270,3,20170829,0554, 33.0082, 137.0048, 4304,     10.8,  29.3893,  34.1431,2,-999.0000,9,    197.4,2,     1.75,2,     0.00,2,     0.00,2,     0.01,2,   -999.0,9,   -999.0,9,-999.0000,9,  -999.00,      658
  49UF20170719,KS1706,  5229,  1,     35,  25269,2,20170829,0554, 33.0082, 137.0048, 4304,     25.4,  28.5996,  34.2040,2,-999.0000,9,    203.8,2,     1.81,2,     0.00,2,     0.00,2,     0.01,2,   -999.0,9,   -999.0,9,-999.0000,9,  -999.00,      657
  49UF20170719,KS1706,  5229,  1,     34,  25268,2,20170829,0554, 33.0082, 137.0048, 4304,     50.1,  23.7264,  34.5206,2,-999.0000,9,    214.4,2,     2.85,2,    -0.01,2,     0.01,2,     0.05,2,   -999.0,9,   -999.0,9,-999.0000,9,  -999.00,      653
  49UF20170719,KS1706,  5229,  1,     30,  25264,2,20170829,0554, 33.0082, 137.0048, 4304,     75.5,  20.5761,  34.7294,2,-999.0000,9,    183.8,2,     6.12,2,     4.57,2,     0.15,2,     0.35,2,   -999.0,9,   -999.0,9,-999.0000,9,  -999.00,      652
  49UF20170719,KS1706,  5229,  1,     29,  25263,2,20170829,0554, 33.0082, 137.0048, 4304,    101.6,  18.2326,  34.7144,2,-999.0000,9,    176.0,2,     9.97,2,     7.72,2,     0.03,2,     0.56,2,   -999.0,9,   -999.0,9,-999.0000,9,  -999.00,      651
  49UF20170719,KS1706,  5229,  1,     28,  25262,2,20170829,0554, 33.0082, 137.0048, 4304,    128.4,  15.6515,  34.6210,2,-999.0000,9,    173.1,2,    14.27,2,    10.51,2,     0.01,2,     0.75,2,   -999.0,9,   -999.0,9,-999.0000,9,  -999.00,      650
  49UF20170719,KS1706,  5229,  1,     27,  25261,2,20170829,0554, 33.0082, 137.0048, 4304,    151.4,  14.0723,  34.5318,2,-999.0000,9,    165.4,2,    19.85,2,    13.70,2,     0.01,2,     0.98,2,   -999.0,9,   -999.0,9,-999.0000,9,  -999.00,      649
  49UF20170719,KS1706,  5229,  1,     25,  25259,2,20170829,0554, 33.0082, 137.0048, 4304,    205.5,  11.7498,  34.4083,2,-999.0000,9,    152.9,2,    29.21,2,    17.95,2,     0.01,2,     1.28,2,   -999.0,9,   -999.0,9,-999.0000,9,  -999.00,      647
  49UF20170719,KS1706,  5229,  1,     26,  25260,2,20170829,0554, 33.0082, 137.0048, 4304,    206.2,  11.7324,  34.4066,2,-999.0000,9,    153.0,2,    29.31,2,    17.95,2,     0.01,2,     1.28,2,   -999.0,9,   -999.0,9,-999.0000,9,  -999.00,      647
  49UF20170719,KS1706,  5229,  1,     21,  25255,2,20170829,0554, 33.0082, 137.0048, 4304,    253.2,   9.8255,  34.3266,2,-999.0000,9,    134.6,2,    43.47,2,    23.48,2,     0.00,2,     1.68,2,   -999.0,9,   -999.0,9,-999.0000,9,  -999.00,      645
  49UF20170719,KS1706,  5229,  1,     20,  24270,3,20170829,0554, 33.0082, 137.0048, 4304,    301.4,   8.3979,  34.2858,2,-999.0000,9,    121.2,2,    54.92,2,    27.17,2,     0.00,2,     1.94,2,   -999.0,9,   -999.0,9,-999.0000,9,  -999.00,      644
  49UF20170719,KS1706,  5229,  1,     19,  25253,2,20170829,0554, 33.0082, 137.0048, 4304,    403.7,   5.8203,  34.2090,2,-999.0000,9,     92.2,6,    79.42,6,    34.11,6,     0.00,6,     2.45,6,   -999.0,9,   -999.0,9,-999.0000,9,  -999.00,      641
  49UF20170719,KS1706,  5229,  1,     18,  25252,2,20170829,0554, 33.0082, 137.0048, 4304,    505.3,   5.0133,  34.2791,2,-999.0000,9,     75.2,2,    94.16,2,    36.98,2,     0.00,2,     2.66,2,   -999.0,9,   -999.0,9,-999.0000,9,  -999.00,      638
  49UF20170719,KS1706,  5229,  1,     17,  25251,2,20170829,0554, 33.0082, 137.0048, 4304,    605.8,   4.2847,  34.3132,2,-999.0000,9,     65.0,2,   107.58,2,    38.96,2,     0.00,2,     2.79,2,   -999.0,9,   -999.0,9,-999.0000,9,  -999.00,      636
  49UF20170719,KS1706,  5229,  1,     16,  25250,2,20170829,0554, 33.0082, 137.0048, 4304,    706.3,   3.8029,  34.3659,2,-999.0000,9,     60.9,2,   118.01,2,    39.90,2,     0.00,2,     2.86,2,   -999.0,9,   -999.0,9,-999.0000,9,  -999.00,      633
  49UF20170719,KS1706,  5229,  1,     12,  25246,2,20170829,0554, 33.0082, 137.0048, 4304,    807.8,   3.4660,  34.4084,2,-999.0000,9,     61.8,2,   124.84,2,    40.33,2,     0.00,2,     2.89,2,   -999.0,9,   -999.0,9,-999.0000,9,  -999.00,      630
  49UF20170719,KS1706,  5229,  1,     11,  25245,2,20170829,0554, 33.0082, 137.0048, 4304,    909.7,   3.0853,  34.4482,2,-999.0000,9,     63.2,2,   132.83,2,    40.71,2,     0.00,2,     2.90,2,   -999.0,9,   -999.0,9,-999.0000,9,  -999.00,      627
  49UF20170719,KS1706,  5229,  1,     10,  25244,3,20170829,0554, 33.0082, 137.0048, 4304,   1011.4,   2.9051,  34.4713,2,-999.0000,9,     66.3,2,   136.25,2,    40.65,2,     0.00,2,     2.90,2,   -999.0,9,   -999.0,9,-999.0000,9,  -999.00,      625
  49UF20170719,KS1706,  5229,  1,      9,  25243,2,20170829,0554, 33.0082, 137.0048, 4304,   1213.1,   2.5812,  34.5134,2,-999.0000,9,     73.7,2,   141.34,2,    40.44,2,     0.00,2,     2.87,2,   -999.0,9,   -999.0,9,-999.0000,9,  -999.00,      618
  49UF20170719,KS1706,  5229,  1,      8,  25242,2,20170829,0554, 33.0082, 137.0048, 4304,   1416.4,   2.3174,  34.5511,2,-999.0000,9,     85.3,2,   144.63,2,    40.04,2,     0.00,2,     2.83,2,   -999.0,9,   -999.0,9,-999.0000,9,  -999.00,      612
  49UF20170719,KS1706,  5229,  1,      7,  25241,3,20170829,0554, 33.0082, 137.0048, 4304,   1621.0,   2.1062,  34.5821,2,-999.0000,9,     96.3,2,   145.86,2,    39.34,2,     0.00,2,     2.77,2,   -999.0,9,   -999.0,9,-999.0000,9,  -999.00,      607
  49UF20170719,KS1706,  5229,  1,      2,  25236,2,20170829,0554, 33.0082, 137.0048, 4304,   1821.9,   1.9268,  34.6089,2,-999.0000,9,    109.5,2,   145.75,2,    38.54,2,     0.00,2,     2.71,2,   -999.0,9,   -999.0,9,-999.0000,9,  -999.00,      600
  49UF20170719,KS1706,  5229,  1,      3,  24271,2,20170829,0554, 33.0082, 137.0048, 4304,   1822.3,   1.9274,  34.6089,2,-999.0000,9,    109.5,2,   146.12,2,    38.71,2,     0.00,2,     2.72,2,   -999.0,9,   -999.0,9,-999.0000,9,  -999.00,      600
  49UF20170719,KS1706,  5229,  1,      1,  25235,2,20170829,0554, 33.0082, 137.0048, 4304,   2025.7,   1.8486,  34.6218,2,-999.0000,9,    116.3,6,   145.79,6,    38.29,6,     0.00,6,     2.69,6,   -999.0,9,   -999.0,9,-999.0000,9,  -999.00,      554