BOTTLE,20200103PRINUNIVRMK
EXPOCODE,SECT_ID,STNNBR,CASTNO,SAMPNO,BTLNBR,BTLNBR_FLAG_W,DATE,TIME,LATITUDE,LONGITUDE,DEPTH,CTDPRS,CTDTMP,CTDSAL,CTDSAL_FLAG_W,SALNTY,SALNTY_FLAG_W,OXYGEN,OXYGEN_FLAG_W,SILCAT,SILCAT_FLAG_W,NITRAT,NITRAT_FLAG_W,NITRIT,NITRIT_FLAG_W,PHSPHT,PHSPHT_FLAG_W,TCARBN,TCARBN_FLAG_W,ALKALI,ALKALI_FLAG_W,PH_TOT,PH_TOT_FLAG_W,PH_TMP,BTL_TIME
,,,,,,,,,,,METERS,DBAR,ITS-90,PSS-78,,PSS-78,,UMOL/KG,,UMOL/KG,,UMOL/KG,,UMOL/KG,,UMOL/KG,,UMOL/KG,,UMOL/KG,,,,DEG C,
  49UF20170719,KS1706,  5192,  1,     99,     99,2,20170804,1036,  9.0090, 149.2855, 4302,      0.0,  30.4523,  33.9221,2,-999.0000,9,    193.3,2,     1.19,2,     0.00,2,     0.00,2,     0.05,2,   -999.0,9,   -999.0,9,-999.0000,9,  -999.00,     1220
  49UF20170719,KS1706,  5192,  1,     36,  25270,2,20170804,1036,  9.0090, 149.2855, 4302,      9.9,  30.4095,  33.9205,2,  33.9193,2,    194.0,2,     1.23,2,     0.00,2,     0.00,2,     0.04,2,   -999.0,9,   -999.0,9,-999.0000,9,  -999.00,     1246
  49UF20170719,KS1706,  5192,  1,     35,  25269,2,20170804,1036,  9.0090, 149.2855, 4302,     25.3,  29.9280,  33.9216,2,  33.9195,2,    195.5,2,     1.23,2,     0.00,2,     0.00,2,     0.04,2,   -999.0,9,   -999.0,9,-999.0000,9,  -999.00,     1246
  49UF20170719,KS1706,  5192,  1,     34,  25268,2,20170804,1036,  9.0090, 149.2855, 4302,     49.3,  29.6577,  34.0489,2,-999.0000,9,    196.3,2,     1.28,2,     0.00,2,     0.00,2,     0.04,2,   -999.0,9,   -999.0,9,-999.0000,9,  -999.00,     1242
  49UF20170719,KS1706,  5192,  1,     33,  25267,2,20170804,1036,  9.0090, 149.2855, 4302,     75.3,  28.9712,  34.2410,2,  34.2514,2,    198.8,6,     1.36,6,     0.00,6,     0.00,6,     0.07,6,   -999.0,9,   -999.0,9,-999.0000,9,  -999.00,     1241
  49UF20170719,KS1706,  5192,  1,     32,  25266,2,20170804,1036,  9.0090, 149.2855, 4302,    100.3,  25.0912,  34.6756,2,-999.0000,9,    194.3,2,     2.21,2,     0.25,2,     0.04,2,     0.19,2,   -999.0,9,   -999.0,9,-999.0000,9,  -999.00,     1240
  49UF20170719,KS1706,  5192,  1,     31,  25265,2,20170804,1036,  9.0090, 149.2855, 4302,    125.0,  21.3809,  34.7880,2,  34.7832,2,    166.7,2,     5.11,2,     4.20,2,     0.14,2,     0.49,2,   -999.0,9,   -999.0,9,-999.0000,9,  -999.00,     1238
  49UF20170719,KS1706,  5192,  1,     30,  25264,2,20170804,1036,  9.0090, 149.2855, 4302,    150.9,  18.6039,  34.7139,2,-999.0000,9,    151.4,2,     8.24,2,     8.86,2,     0.03,2,     0.76,2,   -999.0,9,   -999.0,9,-999.0000,9,  -999.00,     1237
  49UF20170719,KS1706,  5192,  1,     29,  25263,2,20170804,1036,  9.0090, 149.2855, 4302,    202.0,  12.1958,  34.3891,2,  34.3901,2,    130.1,2,    19.86,2,    19.27,2,     0.00,2,     1.44,2,   -999.0,9,   -999.0,9,-999.0000,9,  -999.00,     1235
  49UF20170719,KS1706,  5192,  1,     28,  25262,2,20170804,1036,  9.0090, 149.2855, 4302,    250.7,  10.6879,  34.5227,2,  34.5232,2,     60.9,2,    30.24,2,    29.43,2,     0.00,2,     2.17,2,   -999.0,9,   -999.0,9,-999.0000,9,  -999.00,     1233
  49UF20170719,KS1706,  5192,  1,     27,  25261,2,20170804,1036,  9.0090, 149.2855, 4302,    301.3,   9.8270,  34.5696,2,-999.0000,9,     48.4,2,    34.46,2,    32.55,2,     0.00,2,     2.36,2,   -999.0,9,   -999.0,9,-999.0000,9,  -999.00,     1231
  49UF20170719,KS1706,  5192,  1,     26,  25260,2,20170804,1036,  9.0090, 149.2855, 4302,    352.6,   9.1484,  34.5818,2,  34.5805,2,     53.0,2,    37.23,2,    33.49,2,     0.00,2,     2.41,2,   -999.0,9,   -999.0,9,-999.0000,9,  -999.00,     1229
  49UF20170719,KS1706,  5192,  1,     25,  25259,2,20170804,1036,  9.0090, 149.2855, 4302,    401.6,   8.6476,  34.5754,2,-999.0000,9,     57.8,2,    40.07,2,    34.23,2,     0.00,2,     2.45,2,   -999.0,9,   -999.0,9,-999.0000,9,  -999.00,     1227
  49UF20170719,KS1706,  5192,  1,     24,  25258,2,20170804,1036,  9.0090, 149.2855, 4302,    452.4,   8.1668,  34.5692,2,  34.5682,2,     56.3,2,    43.27,2,    35.14,2,     0.00,2,     2.53,2,   -999.0,9,   -999.0,9,-999.0000,9,  -999.00,     1225
  49UF20170719,KS1706,  5192,  1,     23,  25257,2,20170804,1036,  9.0090, 149.2855, 4302,    502.6,   7.8741,  34.5582,2,-999.0000,9,     56.3,2,    46.13,2,    35.67,2,     0.00,2,     2.57,2,   -999.0,9,   -999.0,9,-999.0000,9,  -999.00,     1223
  49UF20170719,KS1706,  5192,  1,     22,  25256,2,20170804,1036,  9.0090, 149.2855, 4302,    603.7,   7.0215,  34.5397,2,  34.5397,2,     53.4,2,    54.99,2,    37.51,2,     0.00,2,     2.72,2,   -999.0,9,   -999.0,9,-999.0000,9,  -999.00,     1220
  49UF20170719,KS1706,  5192,  1,     21,  25255,2,20170804,1036,  9.0090, 149.2855, 4302,    704.4,   6.3399,  34.5343,2,-999.0000,9,     67.6,2,    62.05,2,    37.78,2,     0.00,2,     2.72,2,   -999.0,9,   -999.0,9,-999.0000,9,  -999.00,     1217
  49UF20170719,KS1706,  5192,  1,     20,  24270,2,20170804,1036,  9.0090, 149.2855, 4302,    806.0,   5.6504,  34.5319,2,  34.5315,2,     60.7,6,    73.12,6,    39.33,6,     0.00,6,     2.84,6,   -999.0,9,   -999.0,9,-999.0000,9,  -999.00,     1212
  49UF20170719,KS1706,  5192,  1,     19,  25253,2,20170804,1036,  9.0090, 149.2855, 4302,    906.9,   5.1280,  34.5390,2,-999.0000,9,     66.6,2,    81.45,2,    39.55,2,     0.00,2,     2.85,2,   -999.0,9,   -999.0,9,-999.0000,9,  -999.00,     1210
  49UF20170719,KS1706,  5192,  1,     18,  25252,2,20170804,1036,  9.0090, 149.2855, 4302,   1007.1,   4.5577,  34.5508,2,  34.5501,2,     75.1,2,    91.79,2,    39.47,2,     0.00,2,     2.85,2,   -999.0,9,   -999.0,9,-999.0000,9,  -999.00,     1207
  49UF20170719,KS1706,  5192,  1,     17,  25251,2,20170804,1036,  9.0090, 149.2855, 4302,   1211.7,   3.6684,  34.5736,2,-999.0000,9,     83.5,2,   109.88,2,    39.68,2,     0.00,2,     2.85,2,   -999.0,9,   -999.0,9,-999.0000,9,  -999.00,     1154
  49UF20170719,KS1706,  5192,  1,     16,  25250,2,20170804,1036,  9.0090, 149.2855, 4302,   1416.4,   3.0305,  34.5965,2,  34.5979,2,     93.7,2,   122.42,2,    39.37,2,     0.00,2,     2.82,2,   -999.0,9,   -999.0,9,-999.0000,9,  -999.00,     1145
  49UF20170719,KS1706,  5192,  1,     15,  25249,3,20170804,1036,  9.0090, 149.2855, 4302,   1620.6,   2.6656,  34.6125,2,-999.0000,9,     99.7,2,   128.66,2,    38.96,2,     0.00,2,     2.79,2,   -999.0,9,   -999.0,9,-999.0000,9,  -999.00,     1140
  49UF20170719,KS1706,  5192,  1,     14,  25248,2,20170804,1036,  9.0090, 149.2855, 4302,   1819.4,   2.4043,  34.6250,2,  34.6245,2,    104.4,2,   135.57,2,    38.96,2,     0.00,2,     2.77,2,   -999.0,9,   -999.0,9,-999.0000,9,  -999.00,     1134
  49UF20170719,KS1706,  5192,  1,     12,  25246,2,20170804,1036,  9.0090, 149.2855, 4302,   2022.5,   2.2118,  34.6356,2,  34.6350,2,    109.1,2,   139.87,2,    38.83,2,     0.00,2,     2.75,2,   -999.0,9,   -999.0,9,-999.0000,9,  -999.00,     1129
  49UF20170719,KS1706,  5192,  1,     13,  25247,2,20170804,1036,  9.0090, 149.2855, 4302,   2023.7,   2.2110,  34.6357,2,  34.6361,2,    109.1,2,   139.89,2,    38.66,2,     0.00,2,     2.75,2,   -999.0,9,   -999.0,9,-999.0000,9,  -999.00,     1129
  49UF20170719,KS1706,  5192,  1,     11,  25245,4,20170804,1036,  9.0090, 149.2855, 4302,   2278.5,   2.0734,  34.6440,2,  34.6353,4,    109.0,3,   139.81,4,    38.73,4,     0.00,4,     2.75,4,   -999.0,9,   -999.0,9,-999.0000,9,  -999.00,     1123
  49UF20170719,KS1706,  5192,  1,     10,  25244,2,20170804,1036,  9.0090, 149.2855, 4302,   2529.4,   1.8750,  34.6538,2,  34.6548,2,    122.8,2,   144.60,2,    37.87,2,     0.00,2,     2.68,2,   -999.0,9,   -999.0,9,-999.0000,9,  -999.00,     1116
  49UF20170719,KS1706,  5192,  1,      9,  25243,2,20170804,1036,  9.0090, 149.2855, 4302,   2785.5,   1.7367,  34.6623,2,  34.6625,2,    129.8,2,   145.94,2,    37.50,2,     0.00,2,     2.63,2,   -999.0,9,   -999.0,9,-999.0000,9,  -999.00,     1110
  49UF20170719,KS1706,  5192,  1,      8,  25242,2,20170804,1036,  9.0090, 149.2855, 4302,   3038.3,   1.6107,  34.6706,2,  34.6702,2,    138.6,2,   146.17,2,    36.85,2,     0.00,2,     2.59,2,   -999.0,9,   -999.0,9,-999.0000,9,  -999.00,     1104
  49UF20170719,KS1706,  5192,  1,      7,  25241,2,20170804,1036,  9.0090, 149.2855, 4302,   3294.0,   1.5455,  34.6760,2,  34.6751,2,    145.1,6,   145.18,6,    36.46,6,     0.00,6,     2.56,6,   -999.0,9,   -999.0,9,-999.0000,9,  -999.00,     1058
  49UF20170719,KS1706,  5192,  1,      6,  25240,2,20170804,1036,  9.0090, 149.2855, 4302,   3549.5,   1.5049,  34.6805,2,  34.6796,2,    150.5,2,   143.27,2,    36.01,2,     0.00,2,     2.52,2,   -999.0,9,   -999.0,9,-999.0000,9,  -999.00,     1052
  49UF20170719,KS1706,  5192,  1,      5,  25239,2,20170804,1036,  9.0090, 149.2855, 4302,   3803.7,   1.4998,  34.6829,2,  34.6815,2,    153.0,2,   142.34,2,    35.97,2,     0.00,2,     2.51,2,   -999.0,9,   -999.0,9,-999.0000,9,  -999.00,     1047
  49UF20170719,KS1706,  5192,  1,      4,  25238,2,20170804,1036,  9.0090, 149.2855, 4302,   4060.3,   1.4720,  34.6868,2,  34.6882,6,    159.3,2,   139.98,2,    35.52,2,     0.00,2,     2.48,2,   -999.0,9,   -999.0,9,-999.0000,9,  -999.00,     1041
  49UF20170719,KS1706,  5192,  1,      3,  25237,2,20170804,1036,  9.0090, 149.2855, 4302,   4281.0,   1.4580,  34.6897,2,  34.6887,2,    162.4,3,   137.88,2,    35.36,2,     0.00,2,     2.46,2,   -999.0,9,   -999.0,9,-999.0000,9,  -999.00,     1036
  49UF20170719,KS1706,  5192,  1,      2,  25236,2,20170804,1036,  9.0090, 149.2855, 4302,   4281.4,   1.4584,  34.6897,2,  34.6894,2,    163.4,2,   138.20,2,    35.19,2,     0.00,2,     2.46,2,   -999.0,9,   -999.0,9,-999.0000,9,  -999.00,     1036
  49UF20170719,KS1706,  5193,  1,     99,     99,2,20170807,0602,  2.9870, 137.0582, 4511,      0.0,  30.1783,  33.7262,2,-999.0000,9,    196.1,2,     1.34,2,     0.00,2,     0.00,2,     0.03,2,   -999.0,9,   -999.0,9,-999.0000,9,  -999.00,      755
  49UF20170719,KS1706,  5193,  1,     36,  25270,2,20170807,0602,  2.9870, 137.0582, 4511,     10.6,  29.6777,  33.7057,2,  33.7083,2,    198.2,2,     1.46,2,     0.00,2,     0.00,2,     0.02,2,   -999.0,9,   -999.0,9,-999.0000,9,  -999.00,      820
  49UF20170719,KS1706,  5193,  1,     35,  25269,2,20170807,0602,  2.9870, 137.0582, 4511,     26.1,  29.5629,  33.7780,2,-999.0000,9,    198.3,2,     1.57,2,     0.00,2,     0.00,2,     0.03,2,   -999.0,9,   -999.0,9,-999.0000,9,  -999.00,      819
  49UF20170719,KS1706,  5193,  1,     34,  25268,2,20170807,0602,  2.9870, 137.0582, 4511,     50.4,  29.5918,  34.1066,2,  34.1179,2,    195.0,2,     1.38,2,     0.00,2,     0.00,2,     0.07,2,   -999.0,9,   -999.0,9,-999.0000,9,  -999.00,      815
  49UF20170719,KS1706,  5193,  1,     33,  25267,2,20170807,0602,  2.9870, 137.0582, 4511,     75.9,  28.9374,  34.8332,2,-999.0000,9,    181.8,2,     1.59,2,     0.32,2,     0.20,2,     0.21,2,   -999.0,9,   -999.0,9,-999.0000,9,  -999.00,      814
  49UF20170719,KS1706,  5193,  1,     32,  25266,2,20170807,0602,  2.9870, 137.0582, 4511,    100.3,  26.2156,  34.8627,2,  34.8509,2,    146.6,2,     3.87,2,     5.64,2,     0.06,2,     0.50,2,   -999.0,9,   -999.0,9,-999.0000,9,  -999.00,      813
  49UF20170719,KS1706,  5193,  1,     31,  25265,2,20170807,0602,  2.9870, 137.0582, 4511,    128.2,  23.9362,  34.9214,2,-999.0000,9,    140.3,2,     5.50,2,     7.57,2,     0.02,2,     0.62,2,   -999.0,9,   -999.0,9,-999.0000,9,  -999.00,      812
  49UF20170719,KS1706,  5193,  1,     30,  25264,2,20170807,0602,  2.9870, 137.0582, 4511,    154.7,  20.2601,  35.0561,2,  35.0382,2,    145.0,2,     7.23,2,     9.18,2,     0.02,2,     0.74,2,   -999.0,9,   -999.0,9,-999.0000,9,  -999.00,      810
  49UF20170719,KS1706,  5193,  1,     29,  25263,2,20170807,0602,  2.9870, 137.0582, 4511,    201.2,  17.7707,  35.2373,2,  35.2616,4,    141.1,2,     8.19,2,    12.62,2,     0.01,2,     1.00,2,   -999.0,9,   -999.0,9,-999.0000,9,  -999.00,      809
  49UF20170719,KS1706,  5193,  1,     28,  25262,2,20170807,0602,  2.9870, 137.0582, 4511,    252.1,  13.9895,  34.6004,2,-999.0000,9,    139.4,2,    17.47,2,    16.52,2,     0.01,2,     1.24,2,   -999.0,9,   -999.0,9,-999.0000,9,  -999.00,      807
  49UF20170719,KS1706,  5193,  1,     27,  25261,2,20170807,0602,  2.9870, 137.0582, 4511,    302.4,   9.3435,  34.5610,2,  34.5720,2,    114.2,2,    35.36,2,    27.52,2,     0.00,2,     1.98,2,   -999.0,9,   -999.0,9,-999.0000,9,  -999.00,      805
  49UF20170719,KS1706,  5193,  1,     26,  25260,2,20170807,0602,  2.9870, 137.0582, 4511,    352.7,   8.7136,  34.5522,2,-999.0000,9,    108.7,2,    38.35,2,    29.05,2,     0.00,2,     2.10,2,   -999.0,9,   -999.0,9,-999.0000,9,  -999.00,      804
  49UF20170719,KS1706,  5193,  1,     25,  25259,2,20170807,0602,  2.9870, 137.0582, 4511,    402.1,   8.2443,  34.5844,2,  34.5842,2,    114.2,2,    34.51,2,    29.99,2,     0.00,2,     2.13,2,   -999.0,9,   -999.0,9,-999.0000,9,  -999.00,      802
  49UF20170719,KS1706,  5193,  1,     24,  25258,2,20170807,0602,  2.9870, 137.0582, 4511,    453.1,   7.9274,  34.5768,2,-999.0000,9,    111.8,2,    35.56,2,    30.80,2,     0.00,2,     2.20,2,   -999.0,9,   -999.0,9,-999.0000,9,  -999.00,      800
  49UF20170719,KS1706,  5193,  1,     23,  25257,2,20170807,0602,  2.9870, 137.0582, 4511,    502.9,   7.5976,  34.5622,2,  34.5619,6,    112.3,2,    37.77,2,    31.49,2,     0.00,2,     2.24,2,   -999.0,9,   -999.0,9,-999.0000,9,  -999.00,      759
  49UF20170719,KS1706,  5193,  1,     22,  25256,2,20170807,0602,  2.9870, 137.0582, 4511,    604.4,   6.5598,  34.5353,2,-999.0000,9,     96.9,2,    51.82,2,    34.66,2,     0.00,2,     2.50,2,   -999.0,9,   -999.0,9,-999.0000,9,  -999.00,      756
  49UF20170719,KS1706,  5193,  1,     21,  25255,2,20170807,0602,  2.9870, 137.0582, 4511,    705.5,   5.9336,  34.5350,2,  34.5357,2,     91.8,2,    59.91,2,    36.50,2,     0.00,2,     2.62,2,   -999.0,9,   -999.0,9,-999.0000,9,  -999.00,      753
  49UF20170719,KS1706,  5193,  1,     20,  24270,2,20170807,0602,  2.9870, 137.0582, 4511,    806.2,   5.2528,  34.5382,2,  34.5380,2,     97.0,2,    71.07,2,    36.85,2,     0.00,2,     2.65,2,   -999.0,9,   -999.0,9,-999.0000,9,  -999.00,      747
  49UF20170719,KS1706,  5193,  1,     19,  25253,2,20170807,0602,  2.9870, 137.0582, 4511,    907.0,   4.8394,  34.5457,2,-999.0000,9,     96.0,2,    79.46,2,    37.50,2,     0.00,2,     2.70,2,   -999.0,9,   -999.0,9,-999.0000,9,  -999.00,      744
  49UF20170719,KS1706,  5193,  1,     18,  25252,2,20170807,0602,  2.9870, 137.0582, 4511,   1009.4,   4.3847,  34.5571,2,  34.5576,2,     91.8,2,    90.33,2,    38.27,2,     0.00,2,     2.75,2,   -999.0,9,   -999.0,9,-999.0000,9,  -999.00,      741
  49UF20170719,KS1706,  5193,  1,     17,  25251,2,20170807,0602,  2.9870, 137.0582, 4511,   1210.6,   3.7277,  34.5746,2,-999.0000,9,     93.3,2,   106.20,2,    38.52,2,     0.00,2,     2.78,2,   -999.0,9,   -999.0,9,-999.0000,9,  -999.00,      733
  49UF20170719,KS1706,  5193,  1,     16,  25250,2,20170807,0602,  2.9870, 137.0582, 4511,   1412.9,   3.2126,  34.5918,2,  34.5922,2,     98.0,2,   116.59,2,    38.81,2,     0.00,2,     2.78,2,   -999.0,9,   -999.0,9,-999.0000,9,  -999.00,      726
  49UF20170719,KS1706,  5193,  1,     15,  25249,2,20170807,0602,  2.9870, 137.0582, 4511,   1615.6,   2.8450,  34.6072,2,-999.0000,9,    103.4,2,   123.48,2,    38.56,2,     0.00,2,     2.78,2,   -999.0,9,   -999.0,9,-999.0000,9,  -999.00,      721
  49UF20170719,KS1706,  5193,  1,     14,  25248,2,20170807,0602,  2.9870, 137.0582, 4511,   1818.1,   2.5003,  34.6224,2,  34.6224,2,    109.1,6,   130.90,6,    38.44,6,     0.00,6,     2.75,6,   -999.0,9,   -999.0,9,-999.0000,9,  -999.00,      707
  49UF20170719,KS1706,  5193,  1,     13,  25247,2,20170807,0602,  2.9870, 137.0582, 4511,   2021.5,   2.2270,  34.6362,2,-999.0000,9,    113.5,2,   136.97,2,    38.35,2,     0.00,2,     2.73,2,   -999.0,9,   -999.0,9,-999.0000,9,  -999.00,      700
  49UF20170719,KS1706,  5193,  1,     12,  25246,2,20170807,0602,  2.9870, 137.0582, 4511,   2275.0,   1.9247,  34.6524,2,  34.6526,6,    123.6,2,   141.25,2,    37.76,2,     0.00,2,     2.68,2,   -999.0,9,   -999.0,9,-999.0000,9,  -999.00,      655
  49UF20170719,KS1706,  5193,  1,     11,  25245,2,20170807,0602,  2.9870, 137.0582, 4511,   2530.7,   1.7975,  34.6596,2,  34.6603,2,    130.5,2,   142.58,2,    37.19,2,     0.00,2,     2.64,2,   -999.0,9,   -999.0,9,-999.0000,9,  -999.00,      649
  49UF20170719,KS1706,  5193,  1,     10,  25244,2,20170807,0602,  2.9870, 137.0582, 4511,   2784.5,   1.6566,  34.6674,2,  34.6681,2,    139.2,2,   142.37,2,    36.70,2,     0.00,2,     2.59,2,   -999.0,9,   -999.0,9,-999.0000,9,  -999.00,      644
  49UF20170719,KS1706,  5193,  1,      9,  25243,2,20170807,0602,  2.9870, 137.0582, 4511,   3040.3,   1.5980,  34.6722,2,  34.6730,2,    143.5,6,   142.85,6,    36.41,6,     0.00,6,     2.57,6,   -999.0,9,   -999.0,9,-999.0000,9,  -999.00,      638
  49UF20170719,KS1706,  5193,  1,      8,  25242,2,20170807,0602,  2.9870, 137.0582, 4511,   3294.7,   1.5678,  34.6756,2,  34.6756,2,    147.0,2,   142.70,2,    36.27,2,     0.00,2,     2.55,2,   -999.0,9,   -999.0,9,-999.0000,9,  -999.00,      632
  49UF20170719,KS1706,  5193,  1,      7,  25241,3,20170807,0602,  2.9870, 137.0582, 4511,   3550.4,   1.5632,  34.6777,2,  34.6770,2,    147.9,2,   142.50,2,    36.00,2,     0.00,2,     2.54,2,   -999.0,9,   -999.0,9,-999.0000,9,  -999.00,      626
  49UF20170719,KS1706,  5193,  1,      5,  25239,2,20170807,0602,  2.9870, 137.0582, 4511,   3805.6,   1.5480,  34.6808,2,  34.6810,2,    150.7,2,   142.22,2,    35.84,2,     0.00,2,     2.53,2,   -999.0,9,   -999.0,9,-999.0000,9,  -999.00,      620
  49UF20170719,KS1706,  5193,  1,      6,  25240,2,20170807,0602,  2.9870, 137.0582, 4511,   3806.5,   1.5480,  34.6809,2,  34.6807,2,    151.0,2,   142.01,2,    36.02,2,     0.00,2,     2.53,2,   -999.0,9,   -999.0,9,-999.0000,9,  -999.00,      620
  49UF20170719,KS1706,  5193,  1,      3,  25237,2,20170807,0602,  2.9870, 137.0582, 4511,   4061.6,   1.5266,  34.6850,2,  34.6851,2,    153.1,2,   141.92,2,    35.79,2,     0.00,2,     2.52,2,   -999.0,9,   -999.0,9,-999.0000,9,  -999.00,      614
  49UF20170719,KS1706,  5193,  1,      4,  25238,2,20170807,0602,  2.9870, 137.0582, 4511,   4062.2,   1.5264,  34.6850,2,  34.6848,2,    153.9,2,   142.46,2,    35.71,2,     0.00,2,     2.51,2,   -999.0,9,   -999.0,9,-999.0000,9,  -999.00,      614
  49UF20170719,KS1706,  5193,  1,      2,  25236,2,20170807,0602,  2.9870, 137.0582, 4511,   4319.1,   1.5190,  34.6875,2,  34.6877,2,    157.1,6,   141.19,6,    35.55,6,     0.00,6,     2.50,6,   -999.0,9,   -999.0,9,-999.0000,9,  -999.00,      608
  49UF20170719,KS1706,  5193,  1,      1,  25235,2,20170807,0602,  2.9870, 137.0582, 4511,   4562.6,   1.5302,  34.6882,2,  34.6876,2,    158.6,2,   140.34,2,    35.49,2,     0.00,2,     2.48,2,   -999.0,9,   -999.0,9,-999.0000,9,  -999.00,      602