BOTTLE,20200103PRINUNIVRMK
EXPOCODE,SECT_ID,STNNBR,CASTNO,SAMPNO,BTLNBR,BTLNBR_FLAG_W,DATE,TIME,LATITUDE,LONGITUDE,DEPTH,CTDPRS,CTDTMP,CTDSAL,CTDSAL_FLAG_W,SALNTY,SALNTY_FLAG_W,OXYGEN,OXYGEN_FLAG_W,SILCAT,SILCAT_FLAG_W,NITRAT,NITRAT_FLAG_W,NITRIT,NITRIT_FLAG_W,PHSPHT,PHSPHT_FLAG_W,TCARBN,TCARBN_FLAG_W,ALKALI,ALKALI_FLAG_W,PH_TOT,PH_TOT_FLAG_W,PH_TMP,BTL_TIME
,,,,,,,,,,,METERS,DBAR,ITS-90,PSS-78,,PSS-78,,UMOL/KG,,UMOL/KG,,UMOL/KG,,UMOL/KG,,UMOL/KG,,UMOL/KG,,UMOL/KG,,,,DEG C,
  49UF20170719,KS1706,  5215,  1,     99,     99,2,20170825,1829, 24.0015, 136.9713, 3771,      0.0,  29.7137,  34.8681,2,  34.8673,2,    194.7,2,     1.39,2,     0.00,2,     0.00,2,     0.02,2,   1971.7,2,   2292.1,2,   8.0829,2,    25.00,     2013
  49UF20170719,KS1706,  5215,  1,     36,  25270,2,20170825,1829, 24.0015, 136.9713, 3771,      9.9,  29.7258,  34.8686,2,  34.8654,2,    194.8,2,     1.42,2,     0.00,2,     0.00,2,     0.01,2,   1969.6,2,   2289.2,2,   8.0850,2,    25.00,     2038
  49UF20170719,KS1706,  5215,  1,     35,  25269,2,20170825,1829, 24.0015, 136.9713, 3771,     25.0,  29.7187,  34.8670,2,  34.8652,2,    195.0,2,     1.44,2,     0.01,2,     0.00,2,     0.01,2,   1970.8,2,   2290.0,2,   8.0855,2,    25.00,     2036
  49UF20170719,KS1706,  5215,  1,     34,  25268,2,20170825,1829, 24.0015, 136.9713, 3771,     50.8,  26.3270,  34.8468,2,  34.8558,2,    216.0,2,     1.47,2,     0.00,2,     0.00,2,     0.01,2,   1976.9,2,   2288.1,2,   8.0765,2,    25.00,     2032
  49UF20170719,KS1706,  5215,  1,     30,  25264,3,20170825,1829, 24.0015, 136.9713, 3771,     75.0,  22.7405,  34.9414,2,-999.0000,9,    228.8,2,     1.69,2,     0.00,2,     0.00,2,     0.01,2,   1992.3,2,   2295.9,2,   8.0561,2,    25.00,     2031
  49UF20170719,KS1706,  5215,  1,     29,  25263,2,20170825,1829, 24.0015, 136.9713, 3771,    100.0,  20.6724,  34.9971,2,-999.0000,9,    222.4,2,     1.91,2,     0.02,2,     0.00,2,     0.02,2,   2015.2,2,   2297.1,2,   8.0284,2,    25.00,     2030
  49UF20170719,KS1706,  5215,  1,     28,  25262,2,20170825,1829, 24.0015, 136.9713, 3771,    126.1,  19.4248,  34.9407,2,  34.9384,2,    212.6,2,     2.47,2,     1.18,2,     0.09,2,     0.11,2,   2025.5,2,   2294.8,2,   7.9983,2,    25.00,     2029
  49UF20170719,KS1706,  5215,  1,     27,  25261,2,20170825,1829, 24.0015, 136.9713, 3771,    153.8,  18.5173,  34.8909,2,-999.0000,9,    212.4,2,     2.73,2,     2.32,2,     0.03,2,     0.17,2,   2030.0,2,   2289.6,2,   7.9841,2,    25.00,     2027
  49UF20170719,KS1706,  5215,  1,     25,  25259,2,20170825,1829, 24.0015, 136.9713, 3771,    202.7,  17.8006,  34.8348,2,  34.8351,2,    212.0,2,     3.44,2,     3.47,2,     0.01,2,     0.24,2,   2033.9,2,   2286.9,2,   7.9703,2,    25.00,     2025
  49UF20170719,KS1706,  5215,  1,     26,  25260,2,20170825,1829, 24.0015, 136.9713, 3771,    203.1,  17.7697,  34.8309,2,  34.8367,2,    212.1,2,     3.43,2,     3.47,2,     0.01,2,     0.24,2,   2032.6,2,   2286.4,2,   7.9685,2,    25.00,     2025
  49UF20170719,KS1706,  5215,  1,     24,  25258,2,20170825,1829, 24.0015, 136.9713, 3771,    252.7,  16.9275,  34.7618,2,-999.0000,9,    211.8,2,     4.70,2,     4.87,2,     0.01,2,     0.33,2,   2042.0,2,   2281.7,2,   7.9487,2,    25.00,     2024
  49UF20170719,KS1706,  5215,  1,     23,  25257,2,20170825,1829, 24.0015, 136.9713, 3771,    303.4,  16.0486,  34.6614,2,  34.6709,2,    201.8,2,     6.80,2,     6.92,2,     0.01,2,     0.47,2,   2054.9,2,   2277.8,2,   7.9157,2,    25.00,     2022
  49UF20170719,KS1706,  5215,  1,     22,  25256,2,20170825,1829, 24.0015, 136.9713, 3771,    403.7,  13.4633,  34.4442,2,-999.0000,9,    187.8,2,    14.49,2,    12.32,2,     0.00,2,     0.85,2,   2089.0,2,   2273.7,2,   7.8287,2,    25.00,     2019
  49UF20170719,KS1706,  5215,  1,     21,  25255,2,20170825,1829, 24.0015, 136.9713, 3771,    504.2,  10.5313,  34.2405,2,  34.2433,2,    173.9,6,    26.24,6,    18.46,6,     0.00,6,     1.31,6,   2137.1,2,   2274.4,2,   7.7277,2,    25.00,     2015
  49UF20170719,KS1706,  5215,  1,     20,  24270,2,20170825,1829, 24.0015, 136.9713, 3771,    605.4,   7.9817,  34.1336,2,-999.0000,9,    141.8,2,    47.20,6,    26.06,6,     0.00,6,     1.87,6,   2197.1,6,   2284.2,6,   7.6051,2,    25.00,     2012
  49UF20170719,KS1706,  5215,  1,     19,  25253,2,20170825,1829, 24.0015, 136.9713, 3771,    706.1,   5.9822,  34.1188,2,  34.1192,2,    101.9,2,    71.05,6,    33.25,6,     0.00,6,     2.40,6,   2248.8,2,   2304.9,2,   7.4874,6,    25.00,     2010
  49UF20170719,KS1706,  5215,  1,     18,  25252,2,20170825,1829, 24.0015, 136.9713, 3771,    806.0,   4.8559,  34.2026,2,-999.0000,9,     70.9,2,    92.48,2,    37.72,2,     0.00,2,     2.72,2,   2293.4,2,   2327.9,2,   7.4235,2,    25.00,     2003
  49UF20170719,KS1706,  5215,  1,     17,  25251,2,20170825,1829, 24.0015, 136.9713, 3771,    908.2,   4.2520,  34.2896,2,  34.2887,2,     59.8,2,   106.38,2,    39.65,2,     0.00,2,     2.85,2,   2320.0,2,   2343.8,2,   7.4056,2,    25.00,     2000
  49UF20170719,KS1706,  5215,  1,     16,  25250,2,20170825,1829, 24.0015, 136.9713, 3771,   1009.3,   3.7309,  34.3675,2,-999.0000,9,     56.2,2,   118.08,2,    40.67,2,     0.00,2,     2.91,2,   2332.8,2,   2362.1,2,   7.4027,2,    25.00,     1957
  49UF20170719,KS1706,  5215,  1,     14,  25248,2,20170825,1829, 24.0015, 136.9713, 3771,   1212.8,   3.0545,  34.4512,2,  34.4499,2,     59.9,2,   133.64,2,    41.17,2,     0.00,2,     2.94,2,   2351.7,2,   2380.7,2,   7.4090,2,    25.00,     1948
  49UF20170719,KS1706,  5215,  1,     15,  25249,2,20170825,1829, 24.0015, 136.9713, 3771,   1213.8,   3.0533,  34.4514,2,  34.4506,2,     60.0,2,   133.60,2,    41.10,2,     0.00,2,     2.94,2,   2354.9,2,   2381.6,2,   7.4112,2,    25.00,     1948
  49UF20170719,KS1706,  5215,  1,     13,  25247,2,20170825,1829, 24.0015, 136.9713, 3771,   1415.5,   2.6623,  34.5133,2,-999.0000,9,     74.2,2,   139.66,2,    40.39,2,     0.00,2,     2.88,2,   2355.4,2,   2394.4,2,   7.4414,2,    25.00,     1941
  49UF20170719,KS1706,  5215,  1,     12,  25246,2,20170825,1829, 24.0015, 136.9713, 3771,   1618.3,   2.3367,  34.5726,2,  34.5725,2,     96.9,6,   140.89,6,    39.21,6,     0.00,6,     2.78,6,   2344.5,2,   2399.0,2,   7.4869,2,    25.00,     1934
  49UF20170719,KS1706,  5215,  1,     11,  25245,2,20170825,1829, 24.0015, 136.9713, 3771,   1821.4,   2.1050,  34.6022,2,-999.0000,9,    108.7,2,   142.38,2,    38.63,2,     0.00,2,     2.73,2,   2339.7,2,   2406.2,2,   7.5102,2,    25.00,     1928
  49UF20170719,KS1706,  5215,  1,     10,  25244,2,20170825,1829, 24.0015, 136.9713, 3771,   2024.9,   1.9554,  34.6230,2,  34.6230,2,    118.1,2,   142.70,2,    38.04,2,     0.00,2,     2.68,2,   2337.2,6,   2409.3,6,   7.5284,2,    25.00,     1922
  49UF20170719,KS1706,  5215,  1,      9,  25243,2,20170825,1829, 24.0015, 136.9713, 3771,   2279.7,   1.8408,  34.6361,2,  34.6364,6,    125.0,2,   142.72,2,    37.67,2,     0.00,2,     2.65,2,   2336.4,2,   2411.4,2,   7.5371,6,    25.00,     1915
  49UF20170719,KS1706,  5215,  1,      8,  25242,2,20170825,1829, 24.0015, 136.9713, 3771,   2531.4,   1.7513,  34.6466,2,-999.0000,9,    130.6,2,   143.52,2,    37.41,2,     0.00,2,     2.62,2,   2333.9,2,   2413.2,2,   7.5460,2,    25.00,     1908
  49UF20170719,KS1706,  5215,  1,      7,  25241,2,20170825,1829, 24.0015, 136.9713, 3771,   2786.0,   1.7022,  34.6541,2,  34.6528,2,    135.2,2,   143.11,2,    37.01,2,     0.00,2,     2.60,2,   2328.1,2,   2412.6,2,   7.5568,2,    25.00,     1901
  49UF20170719,KS1706,  5215,  1,      6,  25240,2,20170825,1829, 24.0015, 136.9713, 3771,   3040.8,   1.6390,  34.6624,2,  34.6627,2,    140.9,2,   143.02,2,    36.81,2,     0.00,2,     2.57,2,   2327.0,2,   2414.4,2,   7.5638,2,    25.00,     1854
  49UF20170719,KS1706,  5215,  1,      4,  25238,2,20170825,1829, 24.0015, 136.9713, 3771,   3297.2,   1.6194,  34.6668,2,  34.6664,2,    143.7,2,   142.58,2,    36.58,2,     0.00,2,     2.56,2,   2327.6,2,   2414.1,2,   7.5678,2,    25.00,     1847
  49UF20170719,KS1706,  5215,  1,      5,  25239,2,20170825,1829, 24.0015, 136.9713, 3771,   3297.6,   1.6202,  34.6669,2,  34.6666,2,    143.6,2,   142.67,2,    36.58,2,     0.00,2,     2.58,3,   2326.5,2,   2414.0,2,   7.5688,2,    25.00,     1847
  49UF20170719,KS1706,  5215,  1,      3,  24271,2,20170825,1829, 24.0015, 136.9713, 3771,   3550.6,   1.5507,  34.6758,2,  34.6755,2,    150.5,2,   142.02,2,    36.07,2,     0.00,2,     2.52,2,   2322.5,6,   2413.3,6,   7.5798,2,    25.00,     1840
  49UF20170719,KS1706,  5215,  1,      2,  25236,2,20170825,1829, 24.0015, 136.9713, 3771,   3807.4,   1.5195,  34.6810,2,  34.6808,2,    154.8,2,   141.16,2,    35.85,2,     0.00,2,     2.50,2,   2318.1,2,   2412.5,2,   7.5866,6,    25.00,     1834
  49UF20170719,KS1706,  5215,  1,      1,  25235,2,20170825,1829, 24.0015, 136.9713, 3771,   3943.7,   1.5184,  34.6825,2,  34.6817,2,    155.8,6,   140.67,6,    35.75,6,     0.00,6,     2.49,6,   2317.4,2,   2412.6,2,   7.5898,2,    25.00,     1829
  49UF20170719,KS1706,  5216,  1,     99,     99,2,20170826,0505, 25.0020, 136.9970, 5019,      0.0,  29.9644,  34.8834,2,  34.8826,2,    195.2,2,     1.48,2,     0.00,2,     0.00,2,     0.02,2,   1971.2,2,   2293.2,2,   8.0879,2,    25.00,      546
  49UF20170719,KS1706,  5216,  1,     33,  25267,2,20170826,0505, 25.0020, 136.9970, 5019,     10.7,  29.8385,  34.8808,2,-999.0000,9,    195.8,2,     1.43,2,     0.00,2,     0.00,2,     0.01,2,   -999.0,9,   -999.0,9,-999.0000,9,  -999.00,      609
  49UF20170719,KS1706,  5216,  1,     32,  25266,2,20170826,0505, 25.0020, 136.9970, 5019,     25.9,  27.5832,  34.8396,2,-999.0000,9,    207.9,2,     1.52,2,     0.00,2,     0.00,2,     0.01,2,   -999.0,9,   -999.0,9,-999.0000,9,  -999.00,      608
  49UF20170719,KS1706,  5216,  1,     31,  25265,2,20170826,0505, 25.0020, 136.9970, 5019,     50.6,  24.5625,  34.8783,2,-999.0000,9,    220.5,2,     1.65,2,     0.00,2,     0.00,2,     0.01,2,   -999.0,9,   -999.0,9,-999.0000,9,  -999.00,      604
  49UF20170719,KS1706,  5216,  1,     30,  25264,2,20170826,0505, 25.0020, 136.9970, 5019,     75.7,  22.2243,  35.0326,2,-999.0000,9,    223.6,2,     1.74,2,     0.00,2,     0.00,2,     0.02,2,   -999.0,9,   -999.0,9,-999.0000,9,  -999.00,      603
  49UF20170719,KS1706,  5216,  1,     29,  25263,2,20170826,0505, 25.0020, 136.9970, 5019,    100.9,  20.3256,  34.9837,2,-999.0000,9,    218.4,2,     2.04,2,    -0.01,2,     0.03,2,     0.04,2,   -999.0,9,   -999.0,9,-999.0000,9,  -999.00,      601
  49UF20170719,KS1706,  5216,  1,     28,  25262,2,20170826,0505, 25.0020, 136.9970, 5019,    125.2,  19.5942,  34.9477,2,-999.0000,9,    210.9,2,     2.34,2,     0.94,2,     0.10,2,     0.10,2,   -999.0,9,   -999.0,9,-999.0000,9,  -999.00,      600
  49UF20170719,KS1706,  5216,  1,     24,  25258,2,20170826,0505, 25.0020, 136.9970, 5019,    151.7,  18.6974,  34.8908,2,-999.0000,9,    205.9,2,     2.93,2,     2.70,2,     0.02,2,     0.20,2,   -999.0,9,   -999.0,9,-999.0000,9,  -999.00,      559
  49UF20170719,KS1706,  5216,  1,     23,  25257,2,20170826,0505, 25.0020, 136.9970, 5019,    202.7,  17.7996,  34.8254,2,-999.0000,9,    206.5,2,     3.95,2,     4.03,2,     0.01,2,     0.28,2,   -999.0,9,   -999.0,9,-999.0000,9,  -999.00,      557
  49UF20170719,KS1706,  5216,  1,     22,  25256,2,20170826,0505, 25.0020, 136.9970, 5019,    252.4,  17.1614,  34.7760,2,-999.0000,9,    210.4,2,     4.37,2,     4.56,2,     0.01,2,     0.31,2,   -999.0,9,   -999.0,9,-999.0000,9,  -999.00,      555
  49UF20170719,KS1706,  5216,  1,     21,  25255,2,20170826,0505, 25.0020, 136.9970, 5019,    252.4,  17.1603,  34.7760,2,-999.0000,9,    210.3,2,     4.38,2,     4.53,2,     0.01,2,     0.31,2,   -999.0,9,   -999.0,9,-999.0000,9,  -999.00,      555
  49UF20170719,KS1706,  5216,  1,     20,  24270,2,20170826,0505, 25.0020, 136.9970, 5019,    302.4,  16.3219,  34.6813,2,-999.0000,9,    201.1,6,     6.30,6,     6.57,6,     0.01,6,     0.45,6,   -999.0,9,   -999.0,9,-999.0000,9,  -999.00,      554
  49UF20170719,KS1706,  5216,  1,     19,  25253,2,20170826,0505, 25.0020, 136.9970, 5019,    403.6,  13.8562,  34.4719,2,-999.0000,9,    190.0,2,    13.17,6,    11.47,6,     0.00,6,     0.80,6,   -999.0,9,   -999.0,9,-999.0000,9,  -999.00,      551
  49UF20170719,KS1706,  5216,  1,     15,  25249,2,20170826,0505, 25.0020, 136.9970, 5019,    504.3,  10.8077,  34.2532,2,-999.0000,9,    175.9,2,    24.69,6,    17.82,6,     0.00,6,     1.26,6,   -999.0,9,   -999.0,9,-999.0000,9,  -999.00,      548
  49UF20170719,KS1706,  5216,  1,     14,  25248,2,20170826,0505, 25.0020, 136.9970, 5019,    605.6,   8.6184,  34.1448,2,-999.0000,9,    150.9,2,    40.03,2,    24.02,2,     0.00,2,     1.73,2,   -999.0,9,   -999.0,9,-999.0000,9,  -999.00,      546
  49UF20170719,KS1706,  5216,  1,     13,  25247,2,20170826,0505, 25.0020, 136.9970, 5019,    706.6,   6.5971,  34.1000,2,-999.0000,9,    116.2,2,    61.05,2,    30.91,2,     0.00,2,     2.23,2,   -999.0,9,   -999.0,9,-999.0000,9,  -999.00,      543
  49UF20170719,KS1706,  5216,  1,     12,  25246,2,20170826,0505, 25.0020, 136.9970, 5019,    806.9,   5.3287,  34.1603,2,-999.0000,9,     84.7,2,    83.19,2,    35.79,2,     0.00,2,     2.58,2,   -999.0,9,   -999.0,9,-999.0000,9,  -999.00,      540
  49UF20170719,KS1706,  5216,  1,     11,  25245,2,20170826,0505, 25.0020, 136.9970, 5019,    908.5,   4.6358,  34.2339,2,-999.0000,9,     65.1,2,    97.47,2,    38.51,2,     0.00,2,     2.78,2,   -999.0,9,   -999.0,9,-999.0000,9,  -999.00,      538
  49UF20170719,KS1706,  5216,  1,     10,  25244,2,20170826,0505, 25.0020, 136.9970, 5019,   1009.1,   4.0698,  34.3133,2,-999.0000,9,     57.7,2,   110.96,2,    40.08,2,     0.00,2,     2.88,2,   -999.0,9,   -999.0,9,-999.0000,9,  -999.00,      535
  49UF20170719,KS1706,  5216,  1,      6,  25240,2,20170826,0505, 25.0020, 136.9970, 5019,   1211.4,   3.1849,  34.4313,2,-999.0000,9,     58.1,3,   130.75,2,    41.14,2,     0.00,2,     2.94,2,   -999.0,9,   -999.0,9,-999.0000,9,  -999.00,      526
  49UF20170719,KS1706,  5216,  1,      5,  25239,3,20170826,0505, 25.0020, 136.9970, 5019,   1414.1,   2.6627,  34.5036,2,-999.0000,9,     68.1,2,   141.00,2,    40.80,2,     0.00,2,     2.91,2,   -999.0,9,   -999.0,9,-999.0000,9,  -999.00,      520
  49UF20170719,KS1706,  5216,  1,      3,  24271,2,20170826,0505, 25.0020, 136.9970, 5019,   1617.3,   2.3563,  34.5523,2,-999.0000,9,     84.4,2,   143.83,2,    39.91,2,     0.00,2,     2.84,2,   -999.0,9,   -999.0,9,-999.0000,9,  -999.00,      515
  49UF20170719,KS1706,  5216,  1,      4,  25238,2,20170826,0505, 25.0020, 136.9970, 5019,   1617.4,   2.3563,  34.5523,2,-999.0000,9,     84.7,2,   143.62,2,    40.06,2,     0.00,2,     2.84,2,   -999.0,9,   -999.0,9,-999.0000,9,  -999.00,      515
  49UF20170719,KS1706,  5216,  1,      2,  25236,2,20170826,0505, 25.0020, 136.9970, 5019,   1819.2,   2.1732,  34.5859,2,-999.0000,9,    100.4,6,   143.33,6,    39.05,6,     0.00,6,     2.76,6,   -999.0,9,   -999.0,9,-999.0000,9,  -999.00,      509
  49UF20170719,KS1706,  5216,  1,      1,  25235,2,20170826,0505, 25.0020, 136.9970, 5019,   2024.4,   2.0107,  34.6108,2,-999.0000,9,    112.0,2,   143.25,2,    38.48,2,     0.00,2,     2.71,2,   -999.0,9,   -999.0,9,-999.0000,9,  -999.00,      505