BOTTLE,20200102PRINUNIVRMK
EXPOCODE,SECT_ID,STNNBR,CASTNO,SAMPNO,BTLNBR,BTLNBR_FLAG_W,DATE,TIME,LATITUDE,LONGITUDE,DEPTH,CTDPRS,CTDTMP,CTDSAL,CTDSAL_FLAG_W,SALNTY,SALNTY_FLAG_W,OXYGEN,OXYGEN_FLAG_W,SILCAT,SILCAT_FLAG_W,NITRAT,NITRAT_FLAG_W,NITRIT,NITRIT_FLAG_W,PHSPHT,PHSPHT_FLAG_W,TCARBN,TCARBN_FLAG_W,ALKALI,ALKALI_FLAG_W,PH_TOT,PH_TOT_FLAG_W,PH_TMP,BTL_TIME
,,,,,,,,,,,METERS,DBAR,ITS-90,PSS-78,,PSS-78,,UMOL/KG,,UMOL/KG,,UMOL/KG,,UMOL/KG,,UMOL/KG,,UMOL/KG,,UMOL/KG,,,,DEG C,
  49UF20170612,KS1705,  5137,  1,     99,     99,2,20170616,1739, 24.2577, 140.2755, 3988,      0.0,  28.9872,  34.7843,2,  34.7844,2,    196.2,2,     1.13,2,     0.05,2,     0.00,2,     0.02,2,   1962.5,2,   2287.3,2,   8.1036,2,    25.00,     1815
  49UF20170612,KS1705,  5137,  1,     36,  25270,2,20170616,1739, 24.2577, 140.2755, 3988,     11.2,  28.9701,  34.7863,2,  34.7849,2,    196.9,2,     1.09,2,     0.03,2,     0.00,2,     0.01,2,   1962.2,2,   2288.2,2,   8.1014,2,    25.00,     1843
  49UF20170612,KS1705,  5137,  1,     35,  25269,2,20170616,1739, 24.2577, 140.2755, 3988,     26.6,  27.3684,  34.9615,2,  34.9631,2,    204.3,2,     1.37,2,     0.00,2,     0.00,2,     0.01,2,   1985.2,2,   2301.5,2,   8.0812,2,    25.00,     1841
  49UF20170612,KS1705,  5137,  1,     34,  25268,2,20170616,1739, 24.2577, 140.2755, 3988,     51.3,  23.6347,  35.1167,2,  35.1178,6,    218.2,2,     1.41,2,     0.02,2,     0.00,2,     0.01,2,   1996.3,2,   2310.6,2,   8.0738,2,    25.00,     1837
  49UF20170612,KS1705,  5137,  1,     30,  25264,2,20170616,1739, 24.2577, 140.2755, 3988,     76.8,  22.4592,  35.1125,2,  35.1148,2,    220.5,2,     1.54,2,     0.00,2,     0.00,2,     0.01,2,   2001.3,2,   2309.4,2,   8.0637,2,    25.00,     1836
  49UF20170612,KS1705,  5137,  1,     29,  25263,2,20170616,1739, 24.2577, 140.2755, 3988,    102.0,  21.4285,  35.0681,2,  35.0653,2,    212.3,2,     1.67,2,     0.12,2,     0.06,2,     0.04,2,   2012.5,2,   2304.6,2,   8.0392,2,    25.00,     1834
  49UF20170612,KS1705,  5137,  1,     28,  25262,2,20170616,1739, 24.2577, 140.2755, 3988,    128.0,  20.7779,  35.0311,2,-999.0000,9,    216.5,2,     1.71,2,     0.16,2,     0.17,2,     0.04,2,   2011.9,2,   2303.0,2,   8.0352,2,    25.00,     1833
  49UF20170612,KS1705,  5137,  1,     27,  25261,2,20170616,1739, 24.2577, 140.2755, 3988,    150.8,  20.4311,  35.0470,2,  35.0467,2,    212.3,2,     1.76,2,     0.69,2,     0.05,2,     0.06,2,   2014.5,2,   2304.8,2,   8.0282,3,    25.00,     1831
  49UF20170612,KS1705,  5137,  1,     26,  25260,2,20170616,1739, 24.2577, 140.2755, 3988,    205.7,  19.1425,  34.9202,2,  34.9245,2,    210.1,2,     2.48,2,     2.01,2,     0.02,2,     0.14,2,   2029.2,2,   2296.1,2,   7.9987,2,    25.00,     1829
  49UF20170612,KS1705,  5137,  1,     25,  25259,2,20170616,1739, 24.2577, 140.2755, 3988,    255.8,  18.2010,  34.8515,2,  34.8580,2,    209.9,2,     3.12,2,     3.04,2,     0.01,2,     0.21,2,   2034.4,2,   2288.1,2,   7.9827,2,    25.00,     1827
  49UF20170612,KS1705,  5137,  1,     21,  25255,2,20170616,1739, 24.2577, 140.2755, 3988,    304.4,  17.1443,  34.7610,2,  34.7609,2,    206.0,2,     4.75,2,     4.97,2,     0.00,2,     0.33,2,   2043.8,2,   2288.3,2,   7.9509,2,    25.00,     1825
  49UF20170612,KS1705,  5137,  1,     20,  24270,2,20170616,1739, 24.2577, 140.2755, 3988,    405.4,  15.4466,  34.5986,2,  34.6014,2,    193.9,2,     8.90,2,     8.61,2,     0.00,2,     0.58,2,   2069.5,2,   2280.5,2,   7.8940,2,    25.00,     1822
  49UF20170612,KS1705,  5137,  1,     19,  25253,2,20170616,1739, 24.2577, 140.2755, 3988,    507.0,  12.7761,  34.3816,2,  34.3851,2,    185.1,2,    15.72,2,    13.52,2,     0.00,2,     0.94,2,   2104.8,2,   2274.4,2,   7.8058,2,    25.00,     1819
  49UF20170612,KS1705,  5137,  1,     18,  25252,2,20170616,1739, 24.2577, 140.2755, 3988,    507.4,  12.7783,  34.3819,2,  34.3851,2,    185.1,2,    15.74,2,    13.48,2,     0.00,2,     0.93,2,   2100.8,2,   2272.6,2,   7.8065,2,    25.00,     1819
  49UF20170612,KS1705,  5137,  1,     17,  25251,2,20170616,1739, 24.2577, 140.2755, 3988,    608.1,  10.1379,  34.2259,2,  34.2289,2,    167.1,2,    30.02,2,    19.86,2,     0.00,2,     1.40,2,   2146.8,6,   2276.9,6,   7.7110,2,    25.00,     1816
  49UF20170612,KS1705,  5137,  1,     16,  25250,2,20170616,1739, 24.2577, 140.2755, 3988,    707.9,   7.3427,  34.1238,2,  34.1261,2,    130.2,2,    54.09,2,    28.18,2,     0.00,2,     2.02,2,   2212.6,2,   2294.5,2,   7.5749,6,    25.00,     1813
  49UF20170612,KS1705,  5137,  1,     12,  25246,2,20170616,1739, 24.2577, 140.2755, 3988,    808.8,   5.6199,  34.1427,2,  34.1420,2,     92.2,6,    77.40,6,    34.58,6,     0.00,6,     2.48,6,   2267.5,2,   2315.4,2,   7.4776,2,    25.00,     1810
  49UF20170612,KS1705,  5137,  1,     11,  25245,2,20170616,1739, 24.2577, 140.2755, 3988,    911.7,   4.6400,  34.2159,2,  34.2159,2,     66.2,2,    96.89,2,    38.47,2,     0.00,2,     2.76,2,   2305.0,2,   2335.7,2,   7.4216,2,    25.00,     1806
  49UF20170612,KS1705,  5137,  1,     10,  25244,2,20170616,1739, 24.2577, 140.2755, 3988,   1013.8,   4.0734,  34.2996,2,  34.2997,2,     55.2,2,   110.37,2,    40.27,2,     0.00,2,     2.88,2,   2326.8,2,   2352.5,2,   7.4036,2,    25.00,     1803
  49UF20170612,KS1705,  5137,  1,      9,  25243,2,20170616,1739, 24.2577, 140.2755, 3988,   1212.9,   3.2287,  34.4162,2,  34.4160,6,     55.1,6,   130.43,6,    41.26,6,     0.00,6,     2.94,6,   2352.3,2,   2379.9,2,   7.4060,2,    25.00,     1758
  49UF20170612,KS1705,  5137,  1,      8,  25242,2,20170616,1739, 24.2577, 140.2755, 3988,   1413.6,   2.7844,  34.4971,2,  34.4970,2,     68.7,2,   137.95,2,    40.80,2,     0.00,2,     2.88,2,   2355.6,2,   2394.7,2,   7.4371,2,    25.00,     1753
  49UF20170612,KS1705,  5137,  1,      7,  25241,2,20170616,1739, 24.2577, 140.2755, 3988,   1413.8,   2.7843,  34.4969,2,  34.4963,2,     68.5,2,   137.80,2,    40.67,2,     0.00,2,     2.89,2,   2348.7,3,   2391.9,2,   7.4388,2,    25.00,     1753
  49UF20170612,KS1705,  5137,  1,      3,  25237,2,20170616,1739, 24.2577, 140.2755, 3988,   1618.8,   2.4921,  34.5486,2,  34.5484,2,     85.1,2,   140.18,2,    39.72,2,     0.00,2,     2.82,2,   2347.5,2,   2400.9,2,   7.4729,2,    25.00,     1748
  49UF20170612,KS1705,  5137,  1,      2,  25236,2,20170616,1739, 24.2577, 140.2755, 3988,   1818.3,   2.2023,  34.5868,2,  34.5870,2,     99.8,2,   142.46,2,    39.06,2,     0.00,2,     2.75,2,   2345.0,6,   2405.6,6,   7.5010,2,    25.00,     1744
  49UF20170612,KS1705,  5137,  1,      1,  25235,2,20170616,1739, 24.2577, 140.2755, 3988,   2022.3,   2.0169,  34.6114,2,  34.6116,2,    110.6,2,   143.28,2,    38.56,2,     0.00,2,     2.70,2,   2346.4,2,   2407.9,2,   7.5196,6,    25.00,     1739
  49UF20170612,KS1705,  5139,  1,     99,     99,2,20170617,0459, 24.2557, 138.5833, 4938,      0.0,  28.5605,  34.9319,2,-999.0000,9,    198.8,2,     1.27,2,     0.01,2,     0.00,2,     0.02,2,   -999.0,9,   -999.0,9,-999.0000,9,  -999.00,      540
  49UF20170612,KS1705,  5139,  1,     33,  25267,2,20170617,0459, 24.2557, 138.5833, 4938,     12.0,  28.5639,  34.9304,2,-999.0000,9,    198.8,2,     1.27,2,     0.00,2,     0.00,2,     0.01,2,   -999.0,9,   -999.0,9,-999.0000,9,  -999.00,      602
  49UF20170612,KS1705,  5139,  1,     32,  25266,2,20170617,0459, 24.2557, 138.5833, 4938,     26.1,  25.9739,  35.0647,2,-999.0000,9,    212.8,2,     1.35,2,     0.01,2,     0.00,2,     0.01,2,   -999.0,9,   -999.0,9,-999.0000,9,  -999.00,      600
  49UF20170612,KS1705,  5139,  1,     31,  25265,2,20170617,0459, 24.2557, 138.5833, 4938,     51.2,  22.8413,  35.1010,2,-999.0000,9,    225.8,2,     1.63,2,     0.02,2,     0.00,2,     0.01,2,   -999.0,9,   -999.0,9,-999.0000,9,  -999.00,      556
  49UF20170612,KS1705,  5139,  1,     30,  25264,2,20170617,0459, 24.2557, 138.5833, 4938,     75.9,  21.3612,  35.0504,2,-999.0000,9,    220.6,2,     1.74,2,     0.03,2,     0.00,2,     0.02,2,   -999.0,9,   -999.0,9,-999.0000,9,  -999.00,      555
  49UF20170612,KS1705,  5139,  1,     29,  25263,2,20170617,0459, 24.2557, 138.5833, 4938,    101.1,  20.5259,  35.0198,2,-999.0000,9,    194.6,2,     2.31,2,     1.83,2,     0.02,2,     0.16,2,   -999.0,9,   -999.0,9,-999.0000,9,  -999.00,      553
  49UF20170612,KS1705,  5139,  1,     28,  25262,2,20170617,0459, 24.2557, 138.5833, 4938,    127.1,  19.8464,  34.9729,2,-999.0000,9,    207.0,2,     2.28,2,     1.54,2,     0.02,2,     0.12,2,   -999.0,9,   -999.0,9,-999.0000,9,  -999.00,      552
  49UF20170612,KS1705,  5139,  1,     24,  25258,2,20170617,0459, 24.2557, 138.5833, 4938,    152.4,  19.2424,  34.9153,2,-999.0000,9,    200.9,2,     2.76,2,     2.55,2,     0.01,2,     0.19,2,   -999.0,9,   -999.0,9,-999.0000,9,  -999.00,      550
  49UF20170612,KS1705,  5139,  1,     23,  25257,2,20170617,0459, 24.2557, 138.5833, 4938,    202.2,  18.3254,  34.8502,2,-999.0000,9,    206.0,2,     3.13,2,     3.09,2,     0.01,2,     0.21,2,   -999.0,9,   -999.0,9,-999.0000,9,  -999.00,      548
  49UF20170612,KS1705,  5139,  1,     22,  25256,2,20170617,0459, 24.2557, 138.5833, 4938,    202.6,  18.3216,  34.8498,2,-999.0000,9,    205.9,2,     3.13,2,     3.08,2,     0.01,2,     0.22,2,   -999.0,9,   -999.0,9,-999.0000,9,  -999.00,      548
  49UF20170612,KS1705,  5139,  1,     21,  25255,2,20170617,0459, 24.2557, 138.5833, 4938,    252.6,  17.0359,  34.7300,2,-999.0000,9,    199.4,2,     4.75,2,     5.47,2,     0.00,2,     0.36,2,   -999.0,9,   -999.0,9,-999.0000,9,  -999.00,      546
  49UF20170612,KS1705,  5139,  1,     20,  24270,2,20170617,0459, 24.2557, 138.5833, 4938,    302.4,  15.9741,  34.6378,2,-999.0000,9,    196.7,2,     6.84,2,     7.31,2,     0.00,2,     0.49,2,   -999.0,9,   -999.0,9,-999.0000,9,  -999.00,      544
  49UF20170612,KS1705,  5139,  1,     19,  25253,2,20170617,0459, 24.2557, 138.5833, 4938,    404.3,  13.6936,  34.4532,2,-999.0000,9,    187.5,2,    13.32,2,    11.76,2,     0.00,2,     0.81,2,   -999.0,9,   -999.0,9,-999.0000,9,  -999.00,      541
  49UF20170612,KS1705,  5139,  1,     15,  25249,2,20170617,0459, 24.2557, 138.5833, 4938,    504.8,  10.3849,  34.2396,2,-999.0000,9,    170.9,2,    28.74,2,    19.03,2,     0.00,2,     1.34,2,   -999.0,9,   -999.0,9,-999.0000,9,  -999.00,      539
  49UF20170612,KS1705,  5139,  1,     14,  25248,2,20170617,0459, 24.2557, 138.5833, 4938,    605.6,   7.7949,  34.1227,2,-999.0000,9,    139.2,2,    48.11,2,    26.49,2,     0.00,2,     1.90,2,   -999.0,9,   -999.0,9,-999.0000,9,  -999.00,      536
  49UF20170612,KS1705,  5139,  1,     13,  25247,2,20170617,0459, 24.2557, 138.5833, 4938,    705.4,   6.2502,  34.1128,2,-999.0000,9,    109.3,6,    66.65,6,    31.97,6,     0.00,6,     2.30,6,   -999.0,9,   -999.0,9,-999.0000,9,  -999.00,      533
  49UF20170612,KS1705,  5139,  1,     12,  25246,2,20170617,0459, 24.2557, 138.5833, 4938,    809.3,   4.8350,  34.1914,2,-999.0000,9,     71.4,2,    91.66,2,    37.73,2,     0.00,2,     2.71,2,   -999.0,9,   -999.0,9,-999.0000,9,  -999.00,      530
  49UF20170612,KS1705,  5139,  1,     11,  25245,2,20170617,0459, 24.2557, 138.5833, 4938,    908.8,   4.1485,  34.2985,2,-999.0000,9,     57.6,2,   108.39,2,    39.90,2,     0.00,2,     2.86,2,   -999.0,9,   -999.0,9,-999.0000,9,  -999.00,      527
  49UF20170612,KS1705,  5139,  1,     10,  25244,2,20170617,0459, 24.2557, 138.5833, 4938,   1010.2,   3.7310,  34.3662,2,-999.0000,9,     56.0,2,   118.27,2,    40.60,2,     0.00,2,     2.90,2,   -999.0,9,   -999.0,9,-999.0000,9,  -999.00,      524
  49UF20170612,KS1705,  5139,  1,      6,  25240,2,20170617,0459, 24.2557, 138.5833, 4938,   1212.9,   3.0596,  34.4640,2,-999.0000,9,     63.4,2,   132.31,2,    40.93,2,     0.00,2,     2.91,2,   -999.0,9,   -999.0,9,-999.0000,9,  -999.00,      519
  49UF20170612,KS1705,  5139,  1,      5,  25239,2,20170617,0459, 24.2557, 138.5833, 4938,   1213.6,   3.0591,  34.4640,2,-999.0000,9,     63.4,2,   132.18,2,    40.85,2,     0.00,2,     2.90,2,   -999.0,9,   -999.0,9,-999.0000,9,  -999.00,      519
  49UF20170612,KS1705,  5139,  1,      4,  25238,2,20170617,0459, 24.2557, 138.5833, 4938,   1415.5,   2.7231,  34.5140,2,-999.0000,9,     74.9,2,   137.59,2,    40.38,2,     0.00,2,     2.86,2,   -999.0,9,   -999.0,9,-999.0000,9,  -999.00,      514
  49UF20170612,KS1705,  5139,  1,      3,  25237,2,20170617,0459, 24.2557, 138.5833, 4938,   1618.6,   2.3957,  34.5580,2,-999.0000,9,     88.7,2,   141.57,2,    39.67,2,     0.00,2,     2.80,2,   -999.0,9,   -999.0,9,-999.0000,9,  -999.00,      509
  49UF20170612,KS1705,  5139,  1,      2,  25236,2,20170617,0459, 24.2557, 138.5833, 4938,   1820.6,   2.1170,  34.5916,2,-999.0000,9,    101.2,2,   144.39,2,    39.09,2,     0.00,2,     2.75,2,   -999.0,9,   -999.0,9,-999.0000,9,  -999.00,      504
  49UF20170612,KS1705,  5139,  1,      1,  25235,2,20170617,0459, 24.2557, 138.5833, 4938,   2023.5,   1.9689,  34.6146,2,-999.0000,9,    112.2,6,   143.97,6,    38.43,6,     0.00,6,     2.70,6,   -999.0,9,   -999.0,9,-999.0000,9,  -999.00,      459