BOTTLE,20200102PRINUNIVRMK
EXPOCODE,SECT_ID,STNNBR,CASTNO,SAMPNO,BTLNBR,BTLNBR_FLAG_W,DATE,TIME,LATITUDE,LONGITUDE,DEPTH,CTDPRS,CTDTMP,CTDSAL,CTDSAL_FLAG_W,SALNTY,SALNTY_FLAG_W,OXYGEN,OXYGEN_FLAG_W,SILCAT,SILCAT_FLAG_W,NITRAT,NITRAT_FLAG_W,NITRIT,NITRIT_FLAG_W,PHSPHT,PHSPHT_FLAG_W,TCARBN,TCARBN_FLAG_W,ALKALI,ALKALI_FLAG_W,PH_TOT,PH_TOT_FLAG_W,PH_TMP,BTL_TIME
,,,,,,,,,,,METERS,DBAR,ITS-90,PSS-78,,PSS-78,,UMOL/KG,,UMOL/KG,,UMOL/KG,,UMOL/KG,,UMOL/KG,,UMOL/KG,,UMOL/KG,,,,DEG C,
  49UF20170612,KS1705,  5167,  1,     99,     99,2,20170703,0909, 27.0105, 127.4965,  486,      0.0,  27.2539,  34.4331,2,  34.4448,2,    204.0,2,     1.42,2,     0.00,2,     0.00,2,     0.02,2,   1951.3,2,   2264.5,2,   8.0878,2,    25.00,      905
  49UF20170612,KS1705,  5167,  1,     33,  25267,2,20170703,0909, 27.0105, 127.4965,  486,     12.4,  27.2095,  34.4404,2,  34.4409,2,    204.3,2,     1.38,2,     0.00,2,     0.00,2,     0.01,2,   1951.0,2,   2263.7,2,   8.0867,2,    25.00,      930
  49UF20170612,KS1705,  5167,  1,     32,  25266,2,20170703,0909, 27.0105, 127.4965,  486,     26.6,  25.5601,  34.6212,2,  34.6151,2,    210.6,2,     1.42,2,     0.00,2,     0.00,2,     0.01,2,   1963.1,2,   2273.4,2,   8.0801,2,    25.00,      929
  49UF20170612,KS1705,  5167,  1,     31,  25265,2,20170703,0909, 27.0105, 127.4965,  486,     52.8,  24.0082,  34.7919,2,  34.7920,2,    214.0,2,     1.42,2,     0.00,2,     0.00,2,     0.01,2,   1979.0,2,   2286.7,2,   8.0712,2,    25.00,      927
  49UF20170612,KS1705,  5167,  1,     27,  25261,2,20170703,0909, 27.0105, 127.4965,  486,     77.0,  22.6187,  34.9430,2,  34.9439,2,    214.3,2,     1.59,2,     0.01,2,     0.00,2,     0.03,2,   1995.7,2,   2296.3,2,   8.0555,2,    25.00,      926
  49UF20170612,KS1705,  5167,  1,     26,  25260,2,20170703,0909, 27.0105, 127.4965,  486,    102.9,  21.9849,  34.9708,2,  34.9707,2,    207.2,2,     1.85,2,     0.61,2,     0.14,2,     0.08,2,   2004.5,2,   2297.5,2,   8.0369,2,    25.00,      923
  49UF20170612,KS1705,  5167,  1,     25,  25259,2,20170703,0909, 27.0105, 127.4965,  486,    102.9,  21.9814,  34.9707,2,  34.9704,2,    206.9,2,     1.87,2,     0.75,2,     0.13,2,     0.09,2,   2007.0,2,   2296.7,2,   8.0394,2,    25.00,      922
  49UF20170612,KS1705,  5167,  1,     15,  25249,2,20170703,0909, 27.0105, 127.4965,  486,    126.8,  21.1683,  34.9825,2,  34.9819,2,    202.9,6,     2.20,6,     1.52,6,     0.04,6,     0.13,6,   2014.7,2,   2297.7,2,   8.0220,2,    25.00,      921
  49UF20170612,KS1705,  5167,  1,     14,  25248,2,20170703,0909, 27.0105, 127.4965,  486,    151.7,  20.8312,  34.9748,2,  34.9724,2,    202.0,2,     2.33,2,     1.88,2,     0.03,2,     0.14,2,   2019.7,2,   2296.7,2,   8.0163,2,    25.00,      920
  49UF20170612,KS1705,  5167,  1,     13,  25247,2,20170703,0909, 27.0105, 127.4965,  486,    202.2,  19.8569,  34.9278,2,  34.9274,2,    203.7,2,     2.72,2,     2.32,2,     0.02,2,     0.17,2,   2026.4,2,   2295.3,2,   8.0019,2,    25.00,      918
  49UF20170612,KS1705,  5167,  1,      9,  25243,2,20170703,0909, 27.0105, 127.4965,  486,    254.1,  18.7362,  34.8669,2,  34.8679,2,    201.5,2,     3.16,2,     3.29,2,     0.01,2,     0.23,2,   2035.7,2,   2289.6,2,   7.9775,2,    25.00,      917
  49UF20170612,KS1705,  5167,  1,      8,  25242,2,20170703,0909, 27.0105, 127.4965,  486,    304.9,  17.7576,  34.8028,2,  34.8026,2,    202.3,2,     4.35,2,     4.45,2,     0.01,2,     0.31,2,   2041.7,2,   2287.5,2,   7.9586,2,    25.00,      915
  49UF20170612,KS1705,  5167,  1,      7,  25241,2,20170703,0909, 27.0105, 127.4965,  486,    304.9,  17.7415,  34.8007,2,  34.8032,2,    202.4,2,     4.33,2,     4.45,2,     0.01,2,     0.30,2,   2040.5,2,   2285.8,2,   7.9579,2,    25.00,      915
  49UF20170612,KS1705,  5167,  1,      3,  25237,2,20170703,0909, 27.0105, 127.4965,  486,    405.2,  15.2925,  34.5975,2,  34.5985,6,    184.5,2,    11.56,2,     9.72,2,     0.01,2,     0.67,2,   2077.3,6,   2278.6,6,   7.8723,2,    25.00,      912
  49UF20170612,KS1705,  5167,  1,      2,  25236,2,20170703,0909, 27.0105, 127.4965,  486,    482.1,  12.2876,  34.4032,2,  34.4013,2,    164.7,2,    23.74,2,    16.42,2,     0.00,2,     1.16,2,   2123.7,2,   2277.5,2,   7.7682,6,    25.00,      909
  49UF20170612,KS1705,  5167,  1,      1,  25235,2,20170703,0909, 27.0105, 127.4965,  486,    482.6,  12.2606,  34.4023,2,  34.4023,6,    164.9,6,    23.72,6,    16.34,6,     0.01,6,     1.16,6,   2123.6,2,   2280.0,2,   7.7685,2,    25.00,      909
  49UF20170612,KS1705,  5168,  1,     99,     99,2,20170705,0112, 28.7003, 126.4475,  128,      0.0,  26.4554,  33.8980,2,  33.9216,2,    208.7,2,     1.78,2,     0.00,2,     0.00,2,     0.01,2,   1940.9,2,   2245.6,2,   8.0783,2,    25.00,      110
  49UF20170612,KS1705,  5168,  1,     30,  25264,3,20170705,0112, 28.7003, 126.4475,  128,     11.3,  26.1087,  33.8893,2,-999.0000,9,    210.0,2,     1.78,2,     0.00,2,     0.00,2,     0.01,2,   -999.0,9,   -999.0,9,-999.0000,9,  -999.00,      122
  49UF20170612,KS1705,  5168,  1,     29,  25263,2,20170705,0112, 28.7003, 126.4475,  128,     21.4,  25.5771,  33.8644,2,-999.0000,9,    212.1,2,     1.78,2,     0.00,2,     0.00,2,     0.01,2,   -999.0,9,   -999.0,9,-999.0000,9,  -999.00,      121
  49UF20170612,KS1705,  5168,  1,     28,  25262,2,20170705,0112, 28.7003, 126.4475,  128,     32.1,  25.3609,  33.9250,2,-999.0000,9,    211.8,6,     1.89,6,     0.00,6,     0.00,6,     0.01,6,   -999.0,9,   -999.0,9,-999.0000,9,  -999.00,      119
  49UF20170612,KS1705,  5168,  1,      8,  25242,3,20170705,0112, 28.7003, 126.4475,  128,     52.0,  23.6593,  34.3686,2,-999.0000,9,    207.4,2,     2.88,2,     0.00,2,     0.00,2,     0.05,2,   -999.0,9,   -999.0,9,-999.0000,9,  -999.00,      118
  49UF20170612,KS1705,  5168,  1,      9,  25243,2,20170705,0112, 28.7003, 126.4475,  128,     52.2,  23.6916,  34.3693,2,-999.0000,9,    207.3,2,     2.85,2,     0.00,2,     0.00,2,     0.05,2,   -999.0,9,   -999.0,9,-999.0000,9,  -999.00,      118
  49UF20170612,KS1705,  5168,  1,      7,  25241,2,20170705,0112, 28.7003, 126.4475,  128,     77.6,  18.9882,  34.6438,2,-999.0000,9,    168.4,2,    11.36,2,     7.64,2,     0.11,2,     0.57,2,   -999.0,9,   -999.0,9,-999.0000,9,  -999.00,      116
  49UF20170612,KS1705,  5168,  1,      3,  25237,2,20170705,0112, 28.7003, 126.4475,  128,    103.1,  18.3129,  34.6989,2,-999.0000,9,    162.7,2,    12.70,2,     8.80,2,     0.02,2,     0.65,2,   -999.0,9,   -999.0,9,-999.0000,9,  -999.00,      114
  49UF20170612,KS1705,  5168,  1,      2,  25236,2,20170705,0112, 28.7003, 126.4475,  128,    115.2,  18.3097,  34.6992,2,-999.0000,9,    162.6,2,    12.70,2,     8.80,2,     0.02,2,     0.65,2,   -999.0,9,   -999.0,9,-999.0000,9,  -999.00,      113
  49UF20170612,KS1705,  5168,  1,      1,  25235,2,20170705,0112, 28.7003, 126.4475,  128,    115.2,  18.3098,  34.6993,2,-999.0000,9,    162.8,2,    12.74,2,     8.80,2,     0.03,2,     0.65,2,   -999.0,9,   -999.0,9,-999.0000,9,  -999.00,      112
  49UF20170612,KS1705,  5170,  1,     99,     99,2,20170705,0324, 28.5552, 126.6850,  154,      0.0,  27.4258,  34.0632,2,-999.0000,9,    205.3,2,     1.81,2,     0.00,2,     0.00,2,     0.03,2,   -999.0,9,   -999.0,9,-999.0000,9,  -999.00,      322
  49UF20170612,KS1705,  5170,  1,     33,  25267,2,20170705,0324, 28.5552, 126.6850,  154,     11.7,  26.9396,  34.0362,2,-999.0000,9,    207.0,2,     1.82,2,     0.00,2,     0.00,2,     0.02,2,   -999.0,9,   -999.0,9,-999.0000,9,  -999.00,      333
  49UF20170612,KS1705,  5170,  1,     32,  25266,3,20170705,0324, 28.5552, 126.6850,  154,     22.0,  26.7067,  34.0197,2,-999.0000,9,    207.6,2,     1.74,2,     0.00,2,     0.00,2,     0.01,2,   -999.0,9,   -999.0,9,-999.0000,9,  -999.00,      332
  49UF20170612,KS1705,  5170,  1,     31,  25265,2,20170705,0324, 28.5552, 126.6850,  154,     32.0,  26.6617,  34.0269,2,-999.0000,9,    207.7,2,     1.78,2,     0.00,2,     0.00,2,     0.02,2,   -999.0,9,   -999.0,9,-999.0000,9,  -999.00,      330
  49UF20170612,KS1705,  5170,  1,     27,  25261,2,20170705,0324, 28.5552, 126.6850,  154,     53.2,  24.4301,  34.4039,2,-999.0000,9,    214.7,2,     2.20,2,     0.00,2,     0.00,2,     0.02,2,   -999.0,9,   -999.0,9,-999.0000,9,  -999.00,      329
  49UF20170612,KS1705,  5170,  1,     26,  25260,2,20170705,0324, 28.5552, 126.6850,  154,     78.7,  21.0473,  34.5723,2,-999.0000,9,    180.2,2,     7.48,2,     4.48,2,     0.15,2,     0.36,2,   -999.0,9,   -999.0,9,-999.0000,9,  -999.00,      328
  49UF20170612,KS1705,  5170,  1,     25,  25259,2,20170705,0324, 28.5552, 126.6850,  154,    103.8,  18.2357,  34.6915,2,-999.0000,9,    162.7,6,    12.77,6,     8.95,6,     0.02,6,     0.66,6,   -999.0,9,   -999.0,9,-999.0000,9,  -999.00,      327
  49UF20170612,KS1705,  5170,  1,      3,  25237,3,20170705,0324, 28.5552, 126.6850,  154,    127.6,  18.2229,  34.6896,2,-999.0000,9,    162.5,2,    12.89,2,     9.02,2,     0.02,2,     0.66,2,   -999.0,9,   -999.0,9,-999.0000,9,  -999.00,      325
  49UF20170612,KS1705,  5170,  1,      4,  25238,2,20170705,0324, 28.5552, 126.6850,  154,    127.8,  18.2230,  34.6898,2,-999.0000,9,    162.4,2,    12.85,2,     8.99,2,     0.02,2,     0.66,2,   -999.0,9,   -999.0,9,-999.0000,9,  -999.00,      325
  49UF20170612,KS1705,  5170,  1,      2,  25236,2,20170705,0324, 28.5552, 126.6850,  154,    141.6,  18.2054,  34.6881,2,-999.0000,9,    162.4,2,    12.89,2,     9.00,2,     0.02,2,     0.66,2,   -999.0,9,   -999.0,9,-999.0000,9,  -999.00,      324
  49UF20170612,KS1705,  5170,  1,      1,  25235,2,20170705,0324, 28.5552, 126.6850,  154,    141.6,  18.2055,  34.6884,2,-999.0000,9,    162.6,2,    12.90,2,     9.01,2,     0.02,2,     0.66,2,   -999.0,9,   -999.0,9,-999.0000,9,  -999.00,      324
  49UF20170612,KS1705,  5172,  1,     99,     99,2,20170705,0537, 28.4107, 126.9035,  276,      0.0,  28.6319,  34.0174,2,-999.0000,9,    202.2,2,     1.85,2,     0.04,2,     0.00,2,     0.03,2,   -999.0,9,   -999.0,9,-999.0000,9,  -999.00,      533
  49UF20170612,KS1705,  5172,  1,     33,  25267,2,20170705,0537, 28.4107, 126.9035,  276,     11.7,  28.0412,  34.0764,2,  34.0788,2,    203.5,2,     1.82,2,     0.00,2,     0.00,2,     0.02,2,   -999.0,9,   -999.0,9,-999.0000,9,  -999.00,      552
  49UF20170612,KS1705,  5172,  1,     32,  25266,2,20170705,0537, 28.4107, 126.9035,  276,     21.8,  27.4778,  34.0413,2,  34.0342,2,    205.7,2,     2.04,2,     0.00,2,     0.00,2,     0.02,2,   -999.0,9,   -999.0,9,-999.0000,9,  -999.00,      551
  49UF20170612,KS1705,  5172,  1,     31,  25265,2,20170705,0537, 28.4107, 126.9035,  276,     32.3,  26.2672,  34.0083,2,  34.0307,4,    208.0,2,     2.26,2,     0.00,2,     0.00,2,     0.03,2,   -999.0,9,   -999.0,9,-999.0000,9,  -999.00,      550
  49UF20170612,KS1705,  5172,  1,     27,  25261,2,20170705,0537, 28.4107, 126.9035,  276,     51.9,  25.8932,  34.7353,2,  34.7212,4,    202.5,2,     1.69,2,     0.07,2,     0.04,2,     0.05,2,   -999.0,9,   -999.0,9,-999.0000,9,  -999.00,      549
  49UF20170612,KS1705,  5172,  1,     26,  25260,2,20170705,0537, 28.4107, 126.9035,  276,     77.3,  22.8084,  34.4192,2,  34.4155,2,    193.4,6,     4.98,6,     2.32,6,     0.55,6,     0.24,6,   -999.0,9,   -999.0,9,-999.0000,9,  -999.00,      547
  49UF20170612,KS1705,  5172,  1,     25,  25259,2,20170705,0537, 28.4107, 126.9035,  276,    103.4,  21.7966,  34.6983,2,  34.6718,4,    185.6,2,     5.50,2,     3.59,2,     0.23,2,     0.31,2,   -999.0,9,   -999.0,9,-999.0000,9,  -999.00,      546
  49UF20170612,KS1705,  5172,  1,      9,  25243,2,20170705,0537, 28.4107, 126.9035,  276,    130.0,  21.6233,  34.9374,2,  34.9318,2,    186.2,2,     3.70,2,     2.89,2,     0.07,2,     0.25,2,   -999.0,9,   -999.0,9,-999.0000,9,  -999.00,      544
  49UF20170612,KS1705,  5172,  1,      7,  25241,3,20170705,0537, 28.4107, 126.9035,  276,    155.7,  20.0442,  34.8368,2,  34.8564,4,    180.7,2,     5.90,2,     4.86,2,     0.05,2,     0.38,2,   -999.0,9,   -999.0,9,-999.0000,9,  -999.00,      542
  49UF20170612,KS1705,  5172,  1,      8,  25242,3,20170705,0537, 28.4107, 126.9035,  276,    157.0,  20.0064,  34.8306,2,  34.8596,4,    180.8,2,     5.81,2,     4.80,2,     0.04,2,     0.38,2,   -999.0,9,   -999.0,9,-999.0000,9,  -999.00,      543
  49UF20170612,KS1705,  5172,  1,      3,  25237,3,20170705,0537, 28.4107, 126.9035,  276,    207.2,  17.9615,  34.7568,2,  34.7581,2,    174.4,2,     9.45,2,     7.60,2,     0.05,2,     0.57,2,   -999.0,9,   -999.0,9,-999.0000,9,  -999.00,      540
  49UF20170612,KS1705,  5172,  1,      2,  25236,2,20170705,0537, 28.4107, 126.9035,  276,    256.5,  12.7223,  34.4501,2,  34.4484,2,    154.5,2,    26.15,2,    16.71,2,     0.04,2,     1.21,2,   -999.0,9,   -999.0,9,-999.0000,9,  -999.00,      538
  49UF20170612,KS1705,  5172,  1,      1,  25235,2,20170705,0537, 28.4107, 126.9035,  276,    258.1,  12.7154,  34.4497,2,  34.4487,2,    154.4,2,    26.12,2,    16.67,2,     0.04,2,     1.21,2,   -999.0,9,   -999.0,9,-999.0000,9,  -999.00,      537
  49UF20170612,KS1705,  5174,  1,     99,     99,2,20170705,0858, 28.2678, 127.1390,  974,      0.0,  29.6781,  34.3509,2,-999.0000,9,    196.9,2,     1.44,2,     0.00,2,     0.00,2,     0.02,2,   -999.0,9,   -999.0,9,-999.0000,9,  -999.00,      910
  49UF20170612,KS1705,  5174,  1,     33,  25267,2,20170705,0858, 28.2678, 127.1390,  974,     11.7,  29.4816,  34.3626,2,  34.3663,2,    198.0,2,     1.38,2,     0.00,2,     0.00,2,     0.01,2,   -999.0,9,   -999.0,9,-999.0000,9,  -999.00,      936
  49UF20170612,KS1705,  5174,  1,     32,  25266,2,20170705,0858, 28.2678, 127.1390,  974,     22.2,  29.4520,  34.3857,2,  34.3861,2,    198.0,2,     1.35,2,     0.00,2,     0.00,2,     0.01,2,   -999.0,9,   -999.0,9,-999.0000,9,  -999.00,      934
  49UF20170612,KS1705,  5174,  1,     31,  25265,2,20170705,0858, 28.2678, 127.1390,  974,     32.0,  29.2475,  34.4152,2,  34.4161,2,    199.1,2,     1.35,2,     0.01,2,     0.00,2,     0.01,2,   -999.0,9,   -999.0,9,-999.0000,9,  -999.00,      933
  49UF20170612,KS1705,  5174,  1,     27,  25261,2,20170705,0858, 28.2678, 127.1390,  974,     51.7,  26.9278,  34.7004,2,  34.7232,4,    208.0,2,     1.27,2,     0.01,2,     0.00,2,     0.02,2,   -999.0,9,   -999.0,9,-999.0000,9,  -999.00,      930
  49UF20170612,KS1705,  5174,  1,     26,  25260,2,20170705,0858, 28.2678, 127.1390,  974,     76.9,  25.4077,  34.8908,2,  34.9038,4,    209.4,2,     1.27,2,     0.00,2,     0.00,2,     0.02,2,   -999.0,9,   -999.0,9,-999.0000,9,  -999.00,      929
  49UF20170612,KS1705,  5174,  1,     25,  25259,2,20170705,0858, 28.2678, 127.1390,  974,    102.4,  24.3143,  34.9816,2,  34.9823,2,    205.2,2,     1.28,2,     0.00,2,     0.01,2,     0.03,2,   -999.0,9,   -999.0,9,-999.0000,9,  -999.00,      927
  49UF20170612,KS1705,  5174,  1,     21,  25255,2,20170705,0858, 28.2678, 127.1390,  974,    127.1,  23.6693,  35.0159,2,  35.0173,2,    201.4,2,     1.36,2,     0.32,2,     0.11,2,     0.06,2,   -999.0,9,   -999.0,9,-999.0000,9,  -999.00,      926
  49UF20170612,KS1705,  5174,  1,     20,  24270,2,20170705,0858, 28.2678, 127.1390,  974,    152.4,  22.6812,  35.0431,2,  35.0385,2,    197.3,2,     1.70,2,     1.11,2,     0.04,2,     0.11,2,   -999.0,9,   -999.0,9,-999.0000,9,  -999.00,      925
  49UF20170612,KS1705,  5174,  1,     19,  25253,2,20170705,0858, 28.2678, 127.1390,  974,    202.6,  18.7491,  34.8127,2,  34.8094,2,    176.6,2,     7.35,2,     6.45,2,     0.01,2,     0.49,2,   -999.0,9,   -999.0,9,-999.0000,9,  -999.00,      923
  49UF20170612,KS1705,  5174,  1,     15,  25249,2,20170705,0858, 28.2678, 127.1390,  974,    252.8,  17.0194,  34.7258,2,  34.7231,2,    182.9,2,     7.80,2,     7.42,2,     0.01,2,     0.55,2,   -999.0,9,   -999.0,9,-999.0000,9,  -999.00,      921
  49UF20170612,KS1705,  5174,  1,     13,  25247,2,20170705,0858, 28.2678, 127.1390,  974,    303.4,  15.2749,  34.5912,2,  34.5902,2,    181.4,2,    11.08,2,     9.98,2,     0.00,2,     0.76,2,   -999.0,9,   -999.0,9,-999.0000,9,  -999.00,      919
  49UF20170612,KS1705,  5174,  1,     14,  25248,2,20170705,0858, 28.2678, 127.1390,  974,    303.5,  15.2985,  34.5933,2,  34.5916,2,    181.6,2,    11.02,2,     9.95,2,     0.00,2,     0.73,2,   -999.0,9,   -999.0,9,-999.0000,9,  -999.00,      919
  49UF20170612,KS1705,  5174,  1,      9,  25243,2,20170705,0858, 28.2678, 127.1390,  974,    405.7,  11.9701,  34.4229,2,  34.4224,2,    148.2,6,    29.19,6,    18.55,6,     0.00,6,     1.34,6,   -999.0,9,   -999.0,9,-999.0000,9,  -999.00,      916
  49UF20170612,KS1705,  5174,  1,      8,  25242,2,20170705,0858, 28.2678, 127.1390,  974,    505.4,   8.8972,  34.3298,2,  34.3279,2,    119.9,2,    52.22,2,    26.26,2,     0.00,2,     1.90,2,   -999.0,9,   -999.0,9,-999.0000,9,  -999.00,      913
  49UF20170612,KS1705,  5174,  1,      7,  25241,2,20170705,0858, 28.2678, 127.1390,  974,    605.5,   6.9835,  34.2652,2,  34.2642,6,    100.6,2,    66.71,2,    31.37,2,     0.00,2,     2.27,2,   -999.0,9,   -999.0,9,-999.0000,9,  -999.00,      910
  49UF20170612,KS1705,  5174,  1,      4,  25238,2,20170705,0858, 28.2678, 127.1390,  974,    708.2,   6.0624,  34.3118,2,  34.3112,2,     88.5,2,    81.83,2,    33.97,2,     0.00,2,     2.46,2,   -999.0,9,   -999.0,9,-999.0000,9,  -999.00,      906
  49UF20170612,KS1705,  5174,  1,      5,  25239,2,20170705,0858, 28.2678, 127.1390,  974,    708.9,   6.0627,  34.3121,2,  34.3128,2,     88.2,2,    82.07,2,    33.97,2,     0.00,2,     2.47,2,   -999.0,9,   -999.0,9,-999.0000,9,  -999.00,      907
  49UF20170612,KS1705,  5174,  1,      3,  25237,2,20170705,0858, 28.2678, 127.1390,  974,    811.1,   5.5302,  34.3582,2,  34.3575,2,     83.6,2,    93.01,2,    34.97,2,     0.00,2,     2.53,2,   -999.0,9,   -999.0,9,-999.0000,9,  -999.00,      904
  49UF20170612,KS1705,  5174,  1,      2,  25236,2,20170705,0858, 28.2678, 127.1390,  974,    910.1,   4.9904,  34.3823,2,  34.3813,2,     78.5,6,   101.48,6,    36.38,6,     0.00,6,     2.63,6,   -999.0,9,   -999.0,9,-999.0000,9,  -999.00,      901
  49UF20170612,KS1705,  5174,  1,      1,  25235,2,20170705,0858, 28.2678, 127.1390,  974,    964.3,   4.7685,  34.3929,2,  34.3926,2,     76.5,2,   105.37,2,    36.87,2,     0.01,2,     2.67,2,   -999.0,9,   -999.0,9,-999.0000,9,  -999.00,      858