BOTTLE,20200102PRINUNIVRMK
EXPOCODE,SECT_ID,STNNBR,CASTNO,SAMPNO,BTLNBR,BTLNBR_FLAG_W,DATE,TIME,LATITUDE,LONGITUDE,DEPTH,CTDPRS,CTDTMP,CTDSAL,CTDSAL_FLAG_W,SALNTY,SALNTY_FLAG_W,OXYGEN,OXYGEN_FLAG_W,SILCAT,SILCAT_FLAG_W,NITRAT,NITRAT_FLAG_W,NITRIT,NITRIT_FLAG_W,PHSPHT,PHSPHT_FLAG_W,TCARBN,TCARBN_FLAG_W,ALKALI,ALKALI_FLAG_W,PH_TOT,PH_TOT_FLAG_W,PH_TMP,BTL_TIME
,,,,,,,,,,,METERS,DBAR,ITS-90,PSS-78,,PSS-78,,UMOL/KG,,UMOL/KG,,UMOL/KG,,UMOL/KG,,UMOL/KG,,UMOL/KG,,UMOL/KG,,,,DEG C,
  49UF20170612,KS1705,  5149,  1,     99,     99,2,20170620,1231, 23.7565, 133.0010, 2969,      0.0,  27.8576,  34.5869,2,  34.5793,2,    202.9,2,     1.39,2,     0.01,2,     0.00,2,     0.02,2,   1962.3,2,   2273.3,2,-999.0000,9,  -999.00,     1310
  49UF20170612,KS1705,  5149,  1,     36,  25270,2,20170620,1231, 23.7565, 133.0010, 2969,     11.4,  27.7706,  34.5837,2,  34.5862,2,    203.6,2,     1.42,2,     0.03,2,     0.00,2,     0.01,2,   1963.1,2,   2272.3,2,-999.0000,9,  -999.00,     1342
  49UF20170612,KS1705,  5149,  1,     35,  25269,2,20170620,1231, 23.7565, 133.0010, 2969,     26.4,  24.1289,  34.7475,2,  34.7460,2,    219.8,2,     1.51,2,     0.01,2,     0.00,2,     0.01,2,   1982.6,2,   2284.8,2,-999.0000,9,  -999.00,     1340
  49UF20170612,KS1705,  5149,  1,     34,  25268,2,20170620,1231, 23.7565, 133.0010, 2969,     51.4,  22.5029,  34.9428,2,  34.9495,2,    222.6,2,     1.60,2,     0.00,2,     0.00,2,     0.01,2,   1988.5,2,   2297.2,2,-999.0000,9,  -999.00,     1336
  49UF20170612,KS1705,  5149,  1,     30,  25264,2,20170620,1231, 23.7565, 133.0010, 2969,     76.9,  21.9339,  35.0496,2,  35.0496,2,    211.8,2,     1.68,2,     0.00,2,     0.00,2,     0.03,2,   2007.4,2,   2303.3,2,-999.0000,9,  -999.00,     1334
  49UF20170612,KS1705,  5149,  1,     29,  25263,2,20170620,1231, 23.7565, 133.0010, 2969,    101.9,  21.3971,  35.0380,2,  35.0385,2,    206.2,2,     1.81,2,     0.55,2,     0.09,2,     0.07,2,   2013.0,2,   2300.7,2,-999.0000,9,  -999.00,     1333
  49UF20170612,KS1705,  5149,  1,     28,  25262,2,20170620,1231, 23.7565, 133.0010, 2969,    126.2,  21.0209,  35.0302,2,-999.0000,9,    204.8,2,     1.98,2,     1.03,2,     0.07,2,     0.10,2,   2014.8,2,   2301.0,2,-999.0000,9,  -999.00,     1331
  49UF20170612,KS1705,  5149,  1,     27,  25261,2,20170620,1231, 23.7565, 133.0010, 2969,    151.8,  20.6031,  35.0140,2,  35.0112,2,    200.4,6,     2.25,6,     1.64,6,     0.04,6,     0.14,6,   2027.4,2,   2300.8,2,-999.0000,9,  -999.00,     1330
  49UF20170612,KS1705,  5149,  1,     26,  25260,2,20170620,1231, 23.7565, 133.0010, 2969,    201.9,  19.1988,  34.9064,2,  34.8942,2,    193.6,2,     3.06,2,     3.41,2,     0.01,2,     0.25,2,   2050.1,2,   2292.2,2,-999.0000,9,  -999.00,     1328
  49UF20170612,KS1705,  5149,  1,     25,  25259,2,20170620,1231, 23.7565, 133.0010, 2969,    252.2,  18.0157,  34.8218,2,  34.8192,2,    193.1,2,     3.97,2,     4.65,2,     0.00,2,     0.33,2,   -999.0,9,   -999.0,9,-999.0000,9,  -999.00,     1326
  49UF20170612,KS1705,  5149,  1,     21,  25255,2,20170620,1231, 23.7565, 133.0010, 2969,    303.0,  17.0162,  34.7322,2,  34.7322,6,    196.6,2,     4.92,2,     5.65,2,     0.00,2,     0.39,2,   -999.0,9,   -999.0,9,-999.0000,9,  -999.00,     1324
  49UF20170612,KS1705,  5149,  1,     20,  24270,2,20170620,1231, 23.7565, 133.0010, 2969,    403.9,  14.3396,  34.5144,2,  34.5129,2,    182.9,2,    13.16,2,    11.43,2,     0.00,2,     0.78,2,   -999.0,9,   -999.0,9,-999.0000,9,  -999.00,     1321
  49UF20170612,KS1705,  5149,  1,     18,  25252,2,20170620,1231, 23.7565, 133.0010, 2969,    504.9,  10.8344,  34.2835,2,  34.2838,2,    163.2,2,    27.71,2,    18.99,2,     0.00,2,     1.35,2,   -999.0,9,   -999.0,9,-999.0000,9,  -999.00,     1316
  49UF20170612,KS1705,  5149,  1,     19,  25253,2,20170620,1231, 23.7565, 133.0010, 2969,    505.2,  10.8298,  34.2833,2,  34.2847,2,    163.2,2,    27.65,2,    18.89,2,     0.00,2,     1.34,2,   -999.0,9,   -999.0,9,-999.0000,9,  -999.00,     1316
  49UF20170612,KS1705,  5149,  1,     17,  25251,2,20170620,1231, 23.7565, 133.0010, 2969,    606.0,   8.0674,  34.1698,2,  34.1686,2,    135.0,2,    49.10,2,    26.45,2,     0.00,2,     1.90,2,   -999.0,9,   -999.0,9,-999.0000,9,  -999.00,     1312
  49UF20170612,KS1705,  5149,  1,     16,  25250,3,20170620,1231, 23.7565, 133.0010, 2969,    706.1,   6.1283,  34.1402,2,  34.1402,6,    103.7,2,    70.72,2,    32.72,2,     0.00,2,     2.36,2,   -999.0,9,   -999.0,9,-999.0000,9,  -999.00,     1309
  49UF20170612,KS1705,  5149,  1,     12,  25246,2,20170620,1231, 23.7565, 133.0010, 2969,    807.8,   5.0976,  34.2074,2,  34.2064,2,     75.4,2,    88.25,2,    36.98,2,     0.00,2,     2.66,2,   -999.0,9,   -999.0,9,-999.0000,9,  -999.00,     1306
  49UF20170612,KS1705,  5149,  1,     11,  25245,2,20170620,1231, 23.7565, 133.0010, 2969,    911.2,   4.5038,  34.2885,2,  34.2877,2,     61.4,2,   100.71,2,    39.17,2,     0.00,2,     2.82,2,   -999.0,9,   -999.0,9,-999.0000,9,  -999.00,     1304
  49UF20170612,KS1705,  5149,  1,     10,  25244,2,20170620,1231, 23.7565, 133.0010, 2969,   1009.0,   3.9039,  34.3694,2,  34.3702,2,     58.6,2,   114.16,2,    40.34,2,     0.00,2,     2.89,2,   -999.0,9,   -999.0,9,-999.0000,9,  -999.00,     1301
  49UF20170612,KS1705,  5149,  1,      9,  25243,2,20170620,1231, 23.7565, 133.0010, 2969,   1212.6,   3.2310,  34.4587,2,  34.4581,2,     65.4,2,   128.28,2,    40.57,2,     0.00,2,     2.89,2,   -999.0,9,   -999.0,9,-999.0000,9,  -999.00,     1254
  49UF20170612,KS1705,  5149,  1,      8,  25242,2,20170620,1231, 23.7565, 133.0010, 2969,   1417.0,   2.6395,  34.5250,2,  34.5235,2,     80.0,2,   138.02,2,    39.98,2,     0.00,2,     2.84,2,   -999.0,9,   -999.0,9,-999.0000,9,  -999.00,     1249
  49UF20170612,KS1705,  5149,  1,      7,  25241,2,20170620,1231, 23.7565, 133.0010, 2969,   1618.7,   2.3187,  34.5665,2,  34.5659,6,     94.0,2,   141.37,2,    39.44,2,     0.00,2,     2.78,2,   -999.0,9,   -999.0,9,-999.0000,9,  -999.00,     1242
  49UF20170612,KS1705,  5149,  1,      2,  25236,2,20170620,1231, 23.7565, 133.0010, 2969,   1821.7,   2.1005,  34.5982,2,  34.5973,2,    107.1,2,   142.35,2,    38.71,2,     0.00,2,     2.73,2,   -999.0,9,   -999.0,9,-999.0000,9,  -999.00,     1236
  49UF20170612,KS1705,  5149,  1,      3,  25237,2,20170620,1231, 23.7565, 133.0010, 2969,   1822.7,   2.1004,  34.5983,2,  34.5991,2,    106.9,2,   142.23,2,    38.61,2,     0.00,2,     2.73,2,   -999.0,9,   -999.0,9,-999.0000,9,  -999.00,     1236
  49UF20170612,KS1705,  5149,  1,      1,  25235,2,20170620,1231, 23.7565, 133.0010, 2969,   2025.4,   1.9413,  34.6177,2,  34.6168,2,    116.2,6,   143.18,6,    38.08,6,     0.00,6,     2.68,6,   -999.0,9,   -999.0,9,-999.0000,9,  -999.00,     1231
  49UF20170612,KS1705,  5151,  1,     99,     99,2,20170620,2141, 23.7703, 131.9908, 3356,      0.0,  26.7998,  34.5252,2,-999.0000,9,    205.4,2,     1.32,2,     0.04,2,     0.00,2,     0.01,2,   -999.0,9,   -999.0,9,-999.0000,9,  -999.00,     2232
  49UF20170612,KS1705,  5151,  1,     36,  25270,2,20170620,2141, 23.7703, 131.9908, 3356,     11.4,  26.3393,  34.6449,2,-999.0000,9,    208.5,2,     1.32,2,     0.09,2,     0.00,2,     0.01,2,   -999.0,9,   -999.0,9,-999.0000,9,  -999.00,     2301
  49UF20170612,KS1705,  5151,  1,     35,  25269,2,20170620,2141, 23.7703, 131.9908, 3356,     26.4,  23.8758,  34.7793,2,-999.0000,9,    222.2,2,     1.40,2,     0.01,2,     0.00,2,     0.01,2,   -999.0,9,   -999.0,9,-999.0000,9,  -999.00,     2259
  49UF20170612,KS1705,  5151,  1,     34,  25268,3,20170620,2141, 23.7703, 131.9908, 3356,     51.8,  21.6593,  34.9733,2,-999.0000,9,    224.0,2,     1.62,2,     0.04,2,     0.00,2,     0.02,2,   -999.0,9,   -999.0,9,-999.0000,9,  -999.00,     2255
  49UF20170612,KS1705,  5151,  1,     33,  25267,2,20170620,2141, 23.7703, 131.9908, 3356,     76.9,  20.8396,  35.0044,2,-999.0000,9,    218.4,2,     1.79,2,     0.09,2,     0.00,2,     0.03,2,   -999.0,9,   -999.0,9,-999.0000,9,  -999.00,     2254
  49UF20170612,KS1705,  5151,  1,     32,  25266,2,20170620,2141, 23.7703, 131.9908, 3356,    101.9,  20.0657,  34.9588,2,-999.0000,9,    209.4,2,     2.26,2,     1.29,2,     0.14,2,     0.11,2,   -999.0,9,   -999.0,9,-999.0000,9,  -999.00,     2252
  49UF20170612,KS1705,  5151,  1,     31,  25265,2,20170620,2141, 23.7703, 131.9908, 3356,    126.8,  19.3672,  34.9063,2,-999.0000,9,    204.0,2,     2.86,2,     2.65,2,     0.05,2,     0.18,2,   -999.0,9,   -999.0,9,-999.0000,9,  -999.00,     2251
  49UF20170612,KS1705,  5151,  1,     27,  25261,2,20170620,2141, 23.7703, 131.9908, 3356,    152.6,  18.5734,  34.8571,2,-999.0000,9,    202.8,2,     3.38,2,     3.48,2,     0.01,2,     0.24,2,   -999.0,9,   -999.0,9,-999.0000,9,  -999.00,     2250
  49UF20170612,KS1705,  5151,  1,     26,  25260,2,20170620,2141, 23.7703, 131.9908, 3356,    203.4,  17.8119,  34.8142,2,-999.0000,9,    204.9,2,     4.01,2,     4.34,2,     0.01,2,     0.28,2,   -999.0,9,   -999.0,9,-999.0000,9,  -999.00,     2248
  49UF20170612,KS1705,  5151,  1,     25,  25259,2,20170620,2141, 23.7703, 131.9908, 3356,    254.1,  16.6306,  34.6943,2,-999.0000,9,    195.5,6,     6.40,6,     6.82,6,     0.00,6,     0.45,6,   -999.0,9,   -999.0,9,-999.0000,9,  -999.00,     2246
  49UF20170612,KS1705,  5151,  1,     24,  25258,2,20170620,2141, 23.7703, 131.9908, 3356,    304.2,  15.5663,  34.6074,2,-999.0000,9,    188.2,2,     9.53,2,     9.15,2,     0.00,2,     0.61,2,   -999.0,9,   -999.0,9,-999.0000,9,  -999.00,     2244
  49UF20170612,KS1705,  5151,  1,     23,  25257,2,20170620,2141, 23.7703, 131.9908, 3356,    404.5,  13.2586,  34.4451,2,-999.0000,9,    176.7,2,    17.71,2,    14.00,2,     0.00,2,     0.96,2,   -999.0,9,   -999.0,9,-999.0000,9,  -999.00,     2242
  49UF20170612,KS1705,  5151,  1,     22,  25256,2,20170620,2141, 23.7703, 131.9908, 3356,    505.5,   9.8750,  34.2515,2,-999.0000,9,    151.9,2,    35.11,2,    22.05,2,     0.00,2,     1.55,2,   -999.0,9,   -999.0,9,-999.0000,9,  -999.00,     2236
  49UF20170612,KS1705,  5151,  1,     18,  25252,2,20170620,2141, 23.7703, 131.9908, 3356,    606.0,   6.9655,  34.1677,2,-999.0000,9,    113.0,2,    61.23,2,    30.47,2,     0.00,2,     2.19,2,   -999.0,9,   -999.0,9,-999.0000,9,  -999.00,     2233
  49UF20170612,KS1705,  5151,  1,     16,  25250,3,20170620,2141, 23.7703, 131.9908, 3356,    706.6,   5.2551,  34.2026,2,-999.0000,9,     82.1,2,    86.41,2,    36.04,2,     0.00,2,     2.59,2,   -999.0,9,   -999.0,9,-999.0000,9,  -999.00,     2230
  49UF20170612,KS1705,  5151,  1,     17,  25251,2,20170620,2141, 23.7703, 131.9908, 3356,    707.2,   5.2497,  34.2030,2,-999.0000,9,     81.8,2,    86.61,2,    36.25,2,     0.00,2,     2.60,2,   -999.0,9,   -999.0,9,-999.0000,9,  -999.00,     2230
  49UF20170612,KS1705,  5151,  1,     15,  25249,2,20170620,2141, 23.7703, 131.9908, 3356,    808.2,   4.4627,  34.2841,2,-999.0000,9,     66.1,2,   103.36,2,    38.75,2,     0.00,2,     2.78,2,   -999.0,9,   -999.0,9,-999.0000,9,  -999.00,     2227
  49UF20170612,KS1705,  5151,  1,     14,  25248,2,20170620,2141, 23.7703, 131.9908, 3356,    908.8,   3.8479,  34.3478,2,-999.0000,9,     58.5,2,   116.33,2,    40.40,2,     0.00,2,     2.88,2,   -999.0,9,   -999.0,9,-999.0000,9,  -999.00,     2225
  49UF20170612,KS1705,  5151,  1,     13,  25247,2,20170620,2141, 23.7703, 131.9908, 3356,   1009.9,   3.3785,  34.4016,2,-999.0000,9,     56.9,2,   126.57,2,    40.98,2,     0.00,2,     2.92,2,   -999.0,9,   -999.0,9,-999.0000,9,  -999.00,     2222
  49UF20170612,KS1705,  5151,  1,      9,  25243,2,20170620,2141, 23.7703, 131.9908, 3356,   1216.0,   2.8837,  34.4895,2,-999.0000,9,     70.2,2,   134.94,2,    40.69,2,     0.00,2,     2.88,2,   -999.0,9,   -999.0,9,-999.0000,9,  -999.00,     2207
  49UF20170612,KS1705,  5151,  1,      7,  25241,3,20170620,2141, 23.7703, 131.9908, 3356,   1417.6,   2.4422,  34.5479,2,-999.0000,9,     87.0,2,   140.65,2,    39.97,2,     0.00,2,     2.81,2,   -999.0,9,   -999.0,9,-999.0000,9,  -999.00,     2201
  49UF20170612,KS1705,  5151,  1,      8,  25242,2,20170620,2141, 23.7703, 131.9908, 3356,   1419.4,   2.4407,  34.5482,2,-999.0000,9,     87.1,2,   140.84,2,    39.79,2,     0.00,2,     2.81,2,   -999.0,9,   -999.0,9,-999.0000,9,  -999.00,     2202
  49UF20170612,KS1705,  5151,  1,      6,  25240,2,20170620,2141, 23.7703, 131.9908, 3356,   1622.6,   2.1123,  34.5908,2,-999.0000,9,    104.0,6,   142.78,6,    38.99,6,     0.00,6,     2.74,6,   -999.0,9,   -999.0,9,-999.0000,9,  -999.00,     2153
  49UF20170612,KS1705,  5151,  1,      5,  25239,3,20170620,2141, 23.7703, 131.9908, 3356,   1824.3,   1.9289,  34.6180,2,-999.0000,9,    116.5,2,   142.83,2,    38.28,2,     0.00,2,     2.68,2,   -999.0,9,   -999.0,9,-999.0000,9,  -999.00,     2148
  49UF20170612,KS1705,  5151,  1,      4,  25238,2,20170620,2141, 23.7703, 131.9908, 3356,   2022.9,   1.8429,  34.6304,2,-999.0000,9,    123.5,2,   142.96,2,    37.96,2,     0.00,2,     2.65,2,   -999.0,9,   -999.0,9,-999.0000,9,  -999.00,     2141
  49UF20170612,KS1705,  5153,  1,     99,     99,2,20170621,0650, 24.0145, 131.0063, 3344,      0.0,  26.0612,  34.3990,2,  34.3749,2,    207.8,2,     1.46,2,     0.11,2,     0.00,2,     0.01,2,   1956.9,2,   2256.4,2,-999.0000,9,  -999.00,      731
  49UF20170612,KS1705,  5153,  1,     36,  25270,2,20170621,0650, 24.0145, 131.0063, 3344,     10.9,  24.6978,  34.4184,2,  34.5292,4,    217.2,2,     1.48,2,     0.06,2,     0.00,2,     0.00,2,   1969.1,2,   2269.0,2,-999.0000,9,  -999.00,      804
  49UF20170612,KS1705,  5153,  1,     35,  25269,2,20170621,0650, 24.0145, 131.0063, 3344,     26.7,  21.4781,  34.9273,2,-999.0000,9,    228.8,2,     1.69,2,     0.01,2,     0.00,2,     0.01,2,   1994.1,2,   2295.9,2,-999.0000,9,  -999.00,      802
  49UF20170612,KS1705,  5153,  1,     34,  25268,3,20170621,0650, 24.0145, 131.0063, 3344,     51.4,  20.5314,  34.9657,2,  34.9658,2,    221.5,6,     1.97,6,     0.07,6,     0.00,6,     0.04,6,   2008.4,2,   2295.8,2,-999.0000,9,  -999.00,      757
  49UF20170612,KS1705,  5153,  1,     33,  25267,2,20170621,0650, 24.0145, 131.0063, 3344,     77.4,  19.5438,  34.9137,2,  34.9144,2,    208.3,2,     2.68,2,     1.82,2,     0.17,2,     0.15,2,   2021.7,2,   2294.8,2,-999.0000,9,  -999.00,      756
  49UF20170612,KS1705,  5153,  1,     32,  25266,2,20170621,0650, 24.0145, 131.0063, 3344,    102.5,  18.6869,  34.8655,2,  34.8655,2,    202.6,2,     3.45,2,     3.35,2,     0.02,2,     0.23,2,   2035.5,2,   2289.4,2,-999.0000,9,  -999.00,      755
  49UF20170612,KS1705,  5153,  1,     31,  25265,2,20170621,0650, 24.0145, 131.0063, 3344,    128.1,  18.4052,  34.8479,2,  34.8508,2,    203.2,6,     3.47,6,     3.57,6,     0.01,6,     0.24,6,   2031.6,2,   2289.1,2,-999.0000,9,  -999.00,      754
  49UF20170612,KS1705,  5153,  1,     26,  25260,2,20170621,0650, 24.0145, 131.0063, 3344,    152.4,  18.1698,  34.8352,2,  34.8348,2,    203.8,2,     3.64,2,     3.81,2,     0.01,2,     0.25,2,   2032.2,2,   2288.1,2,-999.0000,9,  -999.00,      752
  49UF20170612,KS1705,  5153,  1,     27,  25261,2,20170621,0650, 24.0145, 131.0063, 3344,    153.3,  18.1714,  34.8351,2,  34.8349,2,    203.9,2,     3.71,2,     3.80,2,     0.01,2,     0.26,2,   -999.0,9,   -999.0,9,-999.0000,9,  -999.00,      752
  49UF20170612,KS1705,  5153,  1,     25,  25259,2,20170621,0650, 24.0145, 131.0063, 3344,    202.5,  17.5127,  34.7708,2,  34.7786,2,    199.6,6,     4.60,6,     4.95,6,     0.00,6,     0.33,6,   2044.7,2,   2284.1,2,-999.0000,9,  -999.00,      750
  49UF20170612,KS1705,  5153,  1,     24,  25258,3,20170621,0650, 24.0145, 131.0063, 3344,    254.9,  16.3130,  34.6684,2,  34.6697,2,    193.4,2,     7.15,2,     7.18,2,     0.00,2,     0.49,2,   -999.0,9,   -999.0,9,-999.0000,9,  -999.00,      749
  49UF20170612,KS1705,  5153,  1,     23,  25257,2,20170621,0650, 24.0145, 131.0063, 3344,    305.6,  15.2141,  34.5827,2,  34.5871,2,    186.6,2,    10.38,2,     9.57,2,     0.00,2,     0.65,2,   -999.0,9,   -999.0,9,-999.0000,9,  -999.00,      747
  49UF20170612,KS1705,  5153,  1,     22,  25256,2,20170621,0650, 24.0145, 131.0063, 3344,    405.7,  12.0057,  34.3553,2,  34.3563,2,    172.3,2,    20.84,2,    15.84,2,     0.00,2,     1.12,2,   -999.0,9,   -999.0,9,-999.0000,9,  -999.00,      744
  49UF20170612,KS1705,  5153,  1,     18,  25252,2,20170621,0650, 24.0145, 131.0063, 3344,    508.0,   8.8956,  34.2267,2,  34.2253,2,    137.8,2,    43.02,2,    24.60,2,     0.00,2,     1.76,2,   -999.0,9,   -999.0,9,-999.0000,9,  -999.00,      737
  49UF20170612,KS1705,  5153,  1,     17,  25251,2,20170621,0650, 24.0145, 131.0063, 3344,    608.3,   6.5331,  34.1750,2,  34.1755,2,    102.3,2,    65.75,2,    32.08,2,     0.00,2,     2.31,2,   -999.0,9,   -999.0,9,-999.0000,9,  -999.00,      734
  49UF20170612,KS1705,  5153,  1,     16,  25250,2,20170621,0650, 24.0145, 131.0063, 3344,    711.5,   5.4127,  34.2508,2,  34.2498,6,     78.8,2,    84.60,2,    35.83,2,     0.00,2,     2.59,2,   -999.0,9,   -999.0,9,-999.0000,9,  -999.00,      731
  49UF20170612,KS1705,  5153,  1,     15,  25249,2,20170621,0650, 24.0145, 131.0063, 3344,    811.2,   4.6333,  34.3265,2,  34.3250,2,     67.8,2,   100.03,2,    38.32,2,     0.00,2,     2.75,2,   -999.0,9,   -999.0,9,-999.0000,9,  -999.00,      728
  49UF20170612,KS1705,  5153,  1,     14,  25248,2,20170621,0650, 24.0145, 131.0063, 3344,    911.4,   3.9351,  34.3926,2,  34.3916,2,     65.1,2,   114.40,2,    39.34,2,     0.00,2,     2.83,2,   -999.0,9,   -999.0,9,-999.0000,9,  -999.00,      723
  49UF20170612,KS1705,  5153,  1,     13,  25247,2,20170621,0650, 24.0145, 131.0063, 3344,   1014.0,   3.3343,  34.4376,2,  34.4382,2,     64.4,2,   126.09,2,    40.43,2,     0.00,2,     2.88,2,   -999.0,9,   -999.0,9,-999.0000,9,  -999.00,      716
  49UF20170612,KS1705,  5153,  1,      8,  25242,2,20170621,0650, 24.0145, 131.0063, 3344,   1216.0,   2.6954,  34.5103,2,  34.5096,2,     76.0,2,   136.88,2,    40.20,2,     0.00,2,     2.85,2,   -999.0,9,   -999.0,9,-999.0000,9,  -999.00,      711
  49UF20170612,KS1705,  5153,  1,      9,  25243,2,20170621,0650, 24.0145, 131.0063, 3344,   1216.9,   2.6945,  34.5105,2,  34.5086,2,     75.8,2,   137.00,2,    40.07,2,     0.00,2,     2.86,2,   -999.0,9,   -999.0,9,-999.0000,9,  -999.00,      711
  49UF20170612,KS1705,  5153,  1,      7,  25241,2,20170621,0650, 24.0145, 131.0063, 3344,   1414.8,   2.3999,  34.5516,2,  34.5513,6,     88.6,2,   140.43,2,    39.48,2,     0.00,2,     2.80,2,   -999.0,9,   -999.0,9,-999.0000,9,  -999.00,      705
  49UF20170612,KS1705,  5153,  1,      6,  25240,2,20170621,0650, 24.0145, 131.0063, 3344,   1617.2,   2.1809,  34.5825,2,  34.5833,2,    100.2,2,   142.08,2,    39.12,2,     0.00,2,     2.75,2,   -999.0,9,   -999.0,9,-999.0000,9,  -999.00,      659
  49UF20170612,KS1705,  5153,  1,      5,  25239,2,20170621,0650, 24.0145, 131.0063, 3344,   1821.4,   1.9672,  34.6121,2,  34.6124,2,    113.4,2,   142.63,2,    38.20,2,     0.00,2,     2.69,2,   -999.0,9,   -999.0,9,-999.0000,9,  -999.00,      655
  49UF20170612,KS1705,  5153,  1,      4,  25238,2,20170621,0650, 24.0145, 131.0063, 3344,   2025.1,   1.8426,  34.6299,2,  34.6296,2,    122.4,2,   142.48,2,    37.65,2,     0.00,2,     2.65,2,   -999.0,9,   -999.0,9,-999.0000,9,  -999.00,      650