BOTTLE,20200102PRINUNIVRMK
EXPOCODE,SECT_ID,STNNBR,CASTNO,SAMPNO,BTLNBR,BTLNBR_FLAG_W,DATE,TIME,LATITUDE,LONGITUDE,DEPTH,CTDPRS,CTDTMP,CTDSAL,CTDSAL_FLAG_W,SALNTY,SALNTY_FLAG_W,OXYGEN,OXYGEN_FLAG_W,SILCAT,SILCAT_FLAG_W,NITRAT,NITRAT_FLAG_W,NITRIT,NITRIT_FLAG_W,PHSPHT,PHSPHT_FLAG_W,TCARBN,TCARBN_FLAG_W,ALKALI,ALKALI_FLAG_W,PH_TOT,PH_TOT_FLAG_W,PH_TMP,BTL_TIME
,,,,,,,,,,,METERS,DBAR,ITS-90,PSS-78,,PSS-78,,UMOL/KG,,UMOL/KG,,UMOL/KG,,UMOL/KG,,UMOL/KG,,UMOL/KG,,UMOL/KG,,,,DEG C,
  49UF20170612,KS1705,  5144,  1,     99,     99,2,20170619,1257, 24.2345, 134.9935, 5141,      0.0,  26.3689,  34.5484,2,  34.5412,2,    206.7,2,     1.32,2,     0.00,2,     0.00,2,     0.02,2,   1964.3,2,   2273.9,2,   8.0758,2,    25.00,     1347
  49UF20170612,KS1705,  5144,  1,     33,  25267,2,20170619,1257, 24.2345, 134.9935, 5141,     10.5,  26.2734,  34.5617,2,-999.0000,9,    207.6,2,     1.32,2,     0.00,2,     0.00,2,     0.01,2,   1966.1,2,   2271.3,2,   8.0765,2,    25.00,     1416
  49UF20170612,KS1705,  5144,  1,     32,  25266,2,20170619,1257, 24.2345, 134.9935, 5141,     26.1,  25.6399,  34.6770,2,-999.0000,9,    213.2,2,     1.31,2,     0.01,2,     0.00,2,     0.01,2,   1973.1,2,   2280.6,2,   8.0768,2,    25.00,     1414
  49UF20170612,KS1705,  5144,  1,     31,  25265,2,20170619,1257, 24.2345, 134.9935, 5141,     50.8,  22.2704,  35.0140,2,-999.0000,9,    225.8,2,     1.47,2,     0.00,2,     0.00,2,     0.01,2,   1994.4,2,   2300.0,2,   8.0691,2,    25.00,     1410
  49UF20170612,KS1705,  5144,  1,     30,  25264,2,20170619,1257, 24.2345, 134.9935, 5141,     76.6,  21.3930,  35.0167,2,-999.0000,9,    218.3,2,     1.62,2,     0.02,2,     0.00,2,     0.03,2,   2002.9,2,   2300.4,2,   8.0542,2,    25.00,     1408
  49UF20170612,KS1705,  5144,  1,     29,  25263,2,20170619,1257, 24.2345, 134.9935, 5141,    102.3,  20.9646,  35.0096,2,-999.0000,9,    210.4,2,     1.75,2,     0.83,2,     0.12,2,     0.08,2,   2010.5,2,   2300.3,2,   8.0407,2,    25.00,     1406
  49UF20170612,KS1705,  5144,  1,     28,  25262,2,20170619,1257, 24.2345, 134.9935, 5141,    128.0,  20.4746,  34.9837,2,-999.0000,9,    207.1,2,     2.03,2,     1.43,2,     0.03,2,     0.11,2,   2012.7,2,   2299.1,2,   8.0223,2,    25.00,     1404
  49UF20170612,KS1705,  5144,  1,     24,  25258,2,20170619,1257, 24.2345, 134.9935, 5141,    151.7,  20.1762,  34.9668,2,-999.0000,9,    205.5,2,     2.22,2,     1.72,2,     0.02,2,     0.13,2,   2020.6,2,   2295.1,2,   8.0140,2,    25.00,     1403
  49UF20170612,KS1705,  5144,  1,     22,  25256,3,20170619,1257, 24.2345, 134.9935, 5141,    203.1,  18.7301,  34.8642,2,-999.0000,9,    201.3,2,     3.26,2,     3.36,2,     0.01,2,     0.23,2,   2035.2,2,   2291.6,2,   7.9802,2,    25.00,     1401
  49UF20170612,KS1705,  5144,  1,     23,  25257,2,20170619,1257, 24.2345, 134.9935, 5141,    203.3,  18.7258,  34.8638,2,-999.0000,9,    201.1,2,     3.26,2,     3.30,2,     0.01,2,     0.23,2,   2029.9,2,   2292.6,2,   7.9787,2,    25.00,     1401
  49UF20170612,KS1705,  5144,  1,     21,  25255,2,20170619,1257, 24.2345, 134.9935, 5141,    254.2,  17.5550,  34.7666,2,-999.0000,9,    197.6,2,     4.61,2,     5.18,2,     0.00,2,     0.34,2,   2045.6,2,   2284.3,2,   7.9490,2,    25.00,     1359
  49UF20170612,KS1705,  5144,  1,     20,  24270,2,20170619,1257, 24.2345, 134.9935, 5141,    303.8,  16.6583,  34.6940,2,-999.0000,9,    196.4,2,     5.94,2,     6.54,2,     0.00,2,     0.43,2,   2054.6,2,   2282.9,2,   7.9267,2,    25.00,     1357
  49UF20170612,KS1705,  5144,  1,     19,  25253,2,20170619,1257, 24.2345, 134.9935, 5141,    404.7,  14.3344,  34.5002,2,-999.0000,9,    187.1,6,    11.27,6,    10.71,6,     0.00,6,     0.75,6,   2082.9,2,   2274.0,2,   7.8525,2,    25.00,     1355
  49UF20170612,KS1705,  5144,  1,     15,  25249,2,20170619,1257, 24.2345, 134.9935, 5141,    505.7,  10.9782,  34.2770,2,-999.0000,9,    167.9,2,    24.87,2,    18.06,2,     0.00,2,     1.28,2,   2136.3,2,   2276.1,2,   7.7352,2,    25.00,     1351
  49UF20170612,KS1705,  5144,  1,     14,  25248,2,20170619,1257, 24.2345, 134.9935, 5141,    607.3,   8.3560,  34.1604,2,-999.0000,9,    141.2,2,    44.03,2,    25.13,2,     0.00,2,     1.81,2,   2187.8,6,   2286.6,6,   7.6238,2,    25.00,     1348
  49UF20170612,KS1705,  5144,  1,     13,  25247,2,20170619,1257, 24.2345, 134.9935, 5141,    707.3,   6.5131,  34.1286,2,-999.0000,9,    112.8,2,    64.81,2,    31.06,2,     0.00,2,     2.25,2,   2237.8,2,   2302.0,2,   7.5282,6,    25.00,     1345
  49UF20170612,KS1705,  5144,  1,     12,  25246,2,20170619,1257, 24.2345, 134.9935, 5141,    809.0,   4.9633,  34.2099,2,-999.0000,9,     72.8,2,    90.65,2,    37.13,2,     0.00,2,     2.69,2,   2293.9,2,   2329.3,2,   7.4372,2,    25.00,     1342
  49UF20170612,KS1705,  5144,  1,     11,  25245,2,20170619,1257, 24.2345, 134.9935, 5141,    909.7,   4.3626,  34.2816,2,-999.0000,9,     61.6,6,   103.83,6,    39.10,6,     0.00,6,     2.82,6,   2313.5,2,   2346.1,2,   7.4162,2,    25.00,     1339
  49UF20170612,KS1705,  5144,  1,     10,  25244,2,20170619,1257, 24.2345, 134.9935, 5141,   1011.1,   3.9082,  34.3544,2,-999.0000,9,     57.0,2,   113.87,2,    40.15,2,     0.00,2,     2.89,2,   2333.3,2,   2358.3,2,   7.4114,2,    25.00,     1336
  49UF20170612,KS1705,  5144,  1,      6,  25240,2,20170619,1257, 24.2345, 134.9935, 5141,   1213.9,   3.1434,  34.4567,2,-999.0000,9,     62.4,2,   130.73,2,    40.77,2,     0.00,2,     2.91,2,   2347.7,2,   2381.1,2,   7.4249,2,    25.00,     1331
  49UF20170612,KS1705,  5144,  1,      5,  25239,2,20170619,1257, 24.2345, 134.9935, 5141,   1416.1,   2.7869,  34.5208,2,-999.0000,9,     78.4,2,   135.45,2,    39.97,2,     0.00,2,     2.84,2,   2342.0,2,   2392.5,2,   7.4626,2,    25.00,     1326
  49UF20170612,KS1705,  5144,  1,      4,  25238,2,20170619,1257, 24.2345, 134.9935, 5141,   1619.3,   2.4778,  34.5614,2,-999.0000,9,     92.4,2,   138.98,2,    39.30,2,     0.00,2,     2.78,2,   2345.3,6,   2401.2,6,   7.4872,2,    25.00,     1308
  49UF20170612,KS1705,  5144,  1,      3,  25237,2,20170619,1257, 24.2345, 134.9935, 5141,   1823.0,   2.2108,  34.5896,2,-999.0000,9,    103.4,2,   140.90,2,    38.70,2,     0.00,2,     2.74,2,   2345.1,2,   2404.9,2,   7.5092,6,    25.00,     1303
  49UF20170612,KS1705,  5144,  1,      1,  25235,2,20170619,1257, 24.2345, 134.9935, 5141,   2023.9,   1.9907,  34.6127,2,-999.0000,9,    113.6,2,   143.55,2,    38.10,2,     0.00,2,     2.69,2,   2337.6,2,   2409.4,2,   7.5243,2,    25.00,     1257
  49UF20170612,KS1705,  5144,  1,      2,  25236,2,20170619,1257, 24.2345, 134.9935, 5141,   2024.7,   1.9905,  34.6125,2,-999.0000,9,    113.8,2,   142.99,2,    38.13,2,     0.00,2,     2.69,2,   2338.7,2,   2407.5,2,   7.5262,2,    25.00,     1257
  49UF20170612,KS1705,  5146,  1,     99,     99,2,20170619,2312, 24.2633, 133.9987, 4910,      0.0,  26.5500,  34.6588,2,-999.0000,9,    205.0,2,     1.41,2,     0.06,2,     0.00,2,     0.04,2,   -999.0,9,   -999.0,9,-999.0000,9,  -999.00,      100
  49UF20170612,KS1705,  5146,  1,     36,  25270,3,20170619,2312, 24.2633, 133.9987, 4910,     11.1,  26.5258,  34.6581,2,  34.6611,2,    205.7,2,     1.32,2,     0.00,2,     0.00,2,     0.01,2,   -999.0,9,   -999.0,9,-999.0000,9,  -999.00,      131
  49UF20170612,KS1705,  5146,  1,     35,  25269,2,20170619,2312, 24.2633, 133.9987, 4910,     26.2,  24.8057,  34.8129,2,  34.8010,2,    215.9,2,     1.37,2,     0.01,2,     0.00,2,     0.01,2,   -999.0,9,   -999.0,9,-999.0000,9,  -999.00,      129
  49UF20170612,KS1705,  5146,  1,     34,  25268,2,20170619,2312, 24.2633, 133.9987, 4910,     50.5,  22.8286,  35.0444,2,  35.0482,2,    222.3,2,     1.54,2,     0.02,2,     0.00,2,     0.01,2,   -999.0,9,   -999.0,9,-999.0000,9,  -999.00,      126
  49UF20170612,KS1705,  5146,  1,     33,  25267,2,20170619,2312, 24.2633, 133.9987, 4910,     76.7,  21.3486,  35.0315,2,-999.0000,9,    218.3,2,     1.69,2,     0.02,2,     0.00,2,     0.03,2,   -999.0,9,   -999.0,9,-999.0000,9,  -999.00,      124
  49UF20170612,KS1705,  5146,  1,     32,  25266,2,20170619,2312, 24.2633, 133.9987, 4910,    101.7,  20.6028,  34.9994,2,  34.9985,2,    206.3,2,     2.10,2,     0.99,2,     0.16,2,     0.11,2,   -999.0,9,   -999.0,9,-999.0000,9,  -999.00,      122
  49UF20170612,KS1705,  5146,  1,     31,  25265,3,20170619,2312, 24.2633, 133.9987, 4910,    126.7,  19.9356,  34.9456,2,  34.9424,2,    204.8,2,     2.58,2,     2.02,2,     0.05,2,     0.15,2,   -999.0,9,   -999.0,9,-999.0000,9,  -999.00,      120
  49UF20170612,KS1705,  5146,  1,     30,  25264,2,20170619,2312, 24.2633, 133.9987, 4910,    151.8,  19.0343,  34.8905,2,  34.8921,2,    204.9,2,     2.95,2,     2.77,2,     0.02,2,     0.19,2,   -999.0,9,   -999.0,9,-999.0000,9,  -999.00,      119
  49UF20170612,KS1705,  5146,  1,     29,  25263,2,20170619,2312, 24.2633, 133.9987, 4910,    202.5,  17.9861,  34.8124,2,  34.8112,2,    200.6,2,     4.02,2,     4.35,2,     0.01,2,     0.29,2,   -999.0,9,   -999.0,9,-999.0000,9,  -999.00,      117
  49UF20170612,KS1705,  5146,  1,     28,  25262,3,20170619,2312, 24.2633, 133.9987, 4910,    252.4,  17.3841,  34.7524,2,  34.7533,2,    196.8,2,     4.96,2,     5.52,2,     0.00,2,     0.36,2,   -999.0,9,   -999.0,9,-999.0000,9,  -999.00,      114
  49UF20170612,KS1705,  5146,  1,     27,  25261,2,20170619,2312, 24.2633, 133.9987, 4910,    303.7,  16.1367,  34.6516,2,  34.6519,2,    193.2,2,     7.39,2,     7.61,2,     0.00,2,     0.51,2,   -999.0,9,   -999.0,9,-999.0000,9,  -999.00,      112
  49UF20170612,KS1705,  5146,  1,     26,  25260,2,20170619,2312, 24.2633, 133.9987, 4910,    404.2,  14.0088,  34.4738,2,  34.4717,2,    185.0,2,    12.31,2,    11.55,2,     0.00,2,     0.80,2,   -999.0,9,   -999.0,9,-999.0000,9,  -999.00,      109
  49UF20170612,KS1705,  5146,  1,     25,  25259,2,20170619,2312, 24.2633, 133.9987, 4910,    503.8,  10.8651,  34.2727,2,  34.2675,4,    163.0,2,    26.18,2,    18.97,2,     0.00,2,     1.35,2,   -999.0,9,   -999.0,9,-999.0000,9,  -999.00,      106
  49UF20170612,KS1705,  5146,  1,     24,  25258,3,20170619,2312, 24.2633, 133.9987, 4910,    605.5,   8.1759,  34.1526,2,  34.1521,2,    134.4,2,    45.81,2,    26.41,2,     0.00,2,     1.89,2,   -999.0,9,   -999.0,9,-999.0000,9,  -999.00,      103
  49UF20170612,KS1705,  5146,  1,     23,  25257,2,20170619,2312, 24.2633, 133.9987, 4910,    705.2,   6.5858,  34.1388,2,  34.1413,2,    105.7,2,    64.59,2,    31.75,2,     0.00,2,     2.30,2,   -999.0,9,   -999.0,9,-999.0000,9,  -999.00,      100
  49UF20170612,KS1705,  5146,  1,     22,  25256,2,20170619,2312, 24.2633, 133.9987, 4910,    807.6,   5.4265,  34.2116,2,  34.2167,4,     73.9,2,    82.54,2,    36.74,2,     0.00,2,     2.65,2,   -999.0,9,   -999.0,9,-999.0000,9,  -999.00,       57
  49UF20170612,KS1705,  5146,  1,     21,  25255,2,20170619,2312, 24.2633, 133.9987, 4910,    908.8,   4.5451,  34.2963,2,  34.2959,2,     60.8,2,   100.16,2,    39.04,2,     0.00,2,     2.81,2,   -999.0,9,   -999.0,9,-999.0000,9,  -999.00,       55
  49UF20170612,KS1705,  5146,  1,     20,  24270,2,20170619,2312, 24.2633, 133.9987, 4910,   1010.1,   3.9878,  34.3581,2,  34.3583,2,     58.4,6,   112.31,6,    40.12,6,     0.00,6,     2.88,6,   -999.0,9,   -999.0,9,-999.0000,9,  -999.00,       52
  49UF20170612,KS1705,  5146,  1,     19,  25253,2,20170619,2312, 24.2633, 133.9987, 4910,   1211.8,   3.1987,  34.4469,2,  34.4459,2,     62.6,2,   129.55,2,    40.64,2,     0.00,2,     2.91,2,   -999.0,9,   -999.0,9,-999.0000,9,  -999.00,       47
  49UF20170612,KS1705,  5146,  1,     18,  25252,2,20170619,2312, 24.2633, 133.9987, 4910,   1414.1,   2.7278,  34.5069,2,  34.5069,2,     73.7,2,   138.04,2,    40.45,2,     0.00,2,     2.87,2,   -999.0,9,   -999.0,9,-999.0000,9,  -999.00,       42
  49UF20170612,KS1705,  5146,  1,     17,  25251,2,20170619,2312, 24.2633, 133.9987, 4910,   1619.0,   2.3314,  34.5660,2,  34.5668,2,     93.4,2,   141.38,2,    39.28,2,     0.00,2,     2.78,2,   -999.0,9,   -999.0,9,-999.0000,9,  -999.00,       36
  49UF20170612,KS1705,  5146,  1,     16,  25250,2,20170619,2312, 24.2633, 133.9987, 4910,   1821.6,   2.1037,  34.5957,2,  34.5948,2,    105.5,2,   142.75,2,    38.89,2,     0.00,2,     2.73,2,   -999.0,9,   -999.0,9,-999.0000,9,  -999.00,       31
  49UF20170612,KS1705,  5146,  1,     15,  25249,2,20170619,2312, 24.2633, 133.9987, 4910,   2024.4,   1.9411,  34.6172,2,  34.6171,2,    115.5,2,   143.54,2,    38.21,2,     0.00,2,     2.68,2,   -999.0,9,   -999.0,9,-999.0000,9,  -999.00,       26
  49UF20170612,KS1705,  5146,  1,     14,  25248,2,20170619,2312, 24.2633, 133.9987, 4910,   2278.4,   1.7901,  34.6372,2,  34.6375,6,    125.8,2,   142.98,2,    37.62,2,     0.00,2,     2.63,2,   -999.0,9,   -999.0,9,-999.0000,9,  -999.00,       19
  49UF20170612,KS1705,  5146,  1,     13,  25247,2,20170619,2312, 24.2633, 133.9987, 4910,   2533.0,   1.6994,  34.6499,2,  34.6493,2,    132.9,6,   142.92,6,    37.23,6,     0.00,6,     2.60,6,   -999.0,9,   -999.0,9,-999.0000,9,  -999.00,       13
  49UF20170612,KS1705,  5146,  1,     12,  25246,2,20170619,2312, 24.2633, 133.9987, 4910,   2787.2,   1.6462,  34.6582,2,  34.6577,2,    138.0,2,   142.64,2,    36.93,2,     0.00,2,     2.57,2,   -999.0,9,   -999.0,9,-999.0000,9,  -999.00,        6
  49UF20170612,KS1705,  5146,  1,     11,  25245,2,20170619,2312, 24.2633, 133.9987, 4910,   3041.9,   1.5993,  34.6656,2,  34.6657,2,    143.3,2,   142.61,2,    36.62,2,     0.00,2,     2.55,2,   -999.0,9,   -999.0,9,-999.0000,9,  -999.00,        1
  49UF20170612,KS1705,  5146,  1,     10,  25244,2,20170619,2312, 24.2633, 133.9987, 4910,   3042.4,   1.5992,  34.6656,2,  34.6654,2,    143.1,2,   142.00,2,    36.66,2,     0.00,2,     2.55,2,   -999.0,9,   -999.0,9,-999.0000,9,  -999.00,        1
  49UF20170612,KS1705,  5146,  1,      9,  25243,2,20170619,2312, 24.2633, 133.9987, 4910,   3297.6,   1.5684,  34.6715,2,  34.6715,2,    146.8,6,   141.72,6,    36.44,6,     0.00,6,     2.53,6,   -999.0,9,   -999.0,9,-999.0000,9,  -999.00,     2354
  49UF20170612,KS1705,  5146,  1,      8,  25242,3,20170619,2312, 24.2633, 133.9987, 4910,   3552.6,   1.5440,  34.6762,2,  34.6750,6,    150.3,2,   141.13,2,    36.21,2,     0.00,2,     2.51,2,   -999.0,9,   -999.0,9,-999.0000,9,  -999.00,     2349
  49UF20170612,KS1705,  5146,  1,      7,  25241,2,20170619,2312, 24.2633, 133.9987, 4910,   3810.5,   1.5497,  34.6785,2,  34.6793,2,    151.8,2,   141.45,2,    36.11,2,     0.00,2,     2.50,2,   -999.0,9,   -999.0,9,-999.0000,9,  -999.00,     2341
  49UF20170612,KS1705,  5146,  1,      6,  25240,2,20170619,2312, 24.2633, 133.9987, 4910,   4065.4,   1.5557,  34.6805,2,  34.6804,2,    153.4,2,   141.07,2,    36.06,2,     0.00,2,     2.49,2,   -999.0,9,   -999.0,9,-999.0000,9,  -999.00,     2336
  49UF20170612,KS1705,  5146,  1,      5,  25239,2,20170619,2312, 24.2633, 133.9987, 4910,   4322.3,   1.5732,  34.6817,2,  34.6816,6,    154.1,2,   141.25,2,    35.90,2,     0.00,2,     2.49,2,   -999.0,9,   -999.0,9,-999.0000,9,  -999.00,     2329
  49UF20170612,KS1705,  5146,  1,      4,  25238,2,20170619,2312, 24.2633, 133.9987, 4910,   4578.1,   1.5964,  34.6822,2,  34.6833,2,    155.0,2,   140.61,2,    35.98,2,     0.00,2,     2.49,2,   -999.0,9,   -999.0,9,-999.0000,9,  -999.00,     2323
  49UF20170612,KS1705,  5146,  1,      3,  25237,2,20170619,2312, 24.2633, 133.9987, 4910,   4836.9,   1.6230,  34.6825,2,  34.6826,2,    155.2,6,   140.66,6,    35.90,6,     0.00,6,     2.48,6,   -999.0,9,   -999.0,9,-999.0000,9,  -999.00,     2316
  49UF20170612,KS1705,  5146,  1,      1,  25235,2,20170619,2312, 24.2633, 133.9987, 4910,   5001.0,   1.6424,  34.6825,2,  34.6823,2,    155.8,2,   140.80,2,    35.96,2,     0.00,2,     2.49,2,   -999.0,9,   -999.0,9,-999.0000,9,  -999.00,     2312
  49UF20170612,KS1705,  5146,  1,      2,  25236,2,20170619,2312, 24.2633, 133.9987, 4910,   5001.5,   1.6424,  34.6826,2,  34.6825,2,    155.6,2,   140.50,2,    35.85,2,     0.00,2,     2.48,2,   -999.0,9,   -999.0,9,-999.0000,9,  -999.00,     2312