BOTTLE,20200102PRINUNIVRMK
EXPOCODE,SECT_ID,STNNBR,CASTNO,SAMPNO,BTLNBR,BTLNBR_FLAG_W,DATE,TIME,LATITUDE,LONGITUDE,DEPTH,CTDPRS,CTDTMP,CTDSAL,CTDSAL_FLAG_W,SALNTY,SALNTY_FLAG_W,OXYGEN,OXYGEN_FLAG_W,SILCAT,SILCAT_FLAG_W,NITRAT,NITRAT_FLAG_W,NITRIT,NITRIT_FLAG_W,PHSPHT,PHSPHT_FLAG_W,TCARBN,TCARBN_FLAG_W,ALKALI,ALKALI_FLAG_W,PH_TOT,PH_TOT_FLAG_W,PH_TMP,BTL_TIME
,,,,,,,,,,,METERS,DBAR,ITS-90,PSS-78,,PSS-78,,UMOL/KG,,UMOL/KG,,UMOL/KG,,UMOL/KG,,UMOL/KG,,UMOL/KG,,UMOL/KG,,,,DEG C,
  49UF20170612,KS1705,  5156,  1,     99,     99,2,20170621,1909, 24.6635, 129.9965, 4193,      0.0,  26.0472,  34.4056,2,  34.4035,2,    205.9,2,     1.13,2,     0.01,2,     0.00,2,     0.01,2,   1950.7,2,   2260.6,2,   8.0901,2,    25.00,     1947
  49UF20170612,KS1705,  5156,  1,     36,  25270,3,20170621,1909, 24.6635, 129.9965, 4193,     11.3,  26.0252,  34.4052,2,  34.4013,2,    206.1,2,     1.13,2,     0.01,2,     0.00,2,     0.00,2,   1949.6,2,   2261.3,2,   8.0896,2,    25.00,     2018
  49UF20170612,KS1705,  5156,  1,     35,  25269,2,20170621,1909, 24.6635, 129.9965, 4193,     26.3,  25.3375,  34.4779,2,  34.5257,4,    209.5,2,     1.17,2,     0.04,2,     0.00,2,     0.00,2,   1956.9,2,   2269.0,2,   8.0857,2,    25.00,     2016
  49UF20170612,KS1705,  5156,  1,     34,  25268,2,20170621,1909, 24.6635, 129.9965, 4193,     51.3,  23.0009,  35.0552,2,  35.0544,2,    219.0,2,     1.30,2,     0.00,2,     0.00,2,     0.01,2,   1994.9,2,   2304.9,2,   8.0698,2,    25.00,     2012
  49UF20170612,KS1705,  5156,  1,     30,  25264,2,20170621,1909, 24.6635, 129.9965, 4193,     76.8,  21.9030,  35.0572,2,-999.0000,9,    212.8,2,     1.52,2,     0.01,2,     0.00,2,     0.02,2,   2007.8,2,   2304.1,2,   8.0493,2,    25.00,     2011
  49UF20170612,KS1705,  5156,  1,     29,  25263,2,20170621,1909, 24.6635, 129.9965, 4193,    103.0,  20.9471,  35.0101,2,  35.0100,2,    209.7,2,     1.73,2,     0.40,2,     0.20,2,     0.07,2,   2011.2,2,   2300.9,2,   8.0293,2,    25.00,     2010
  49UF20170612,KS1705,  5156,  1,     28,  25262,2,20170621,1909, 24.6635, 129.9965, 4193,    130.8,  20.0471,  34.9530,2,  34.9615,2,    209.1,2,     2.08,2,     1.12,2,     0.19,2,     0.11,2,   2020.9,2,   2298.4,2,   8.0142,2,    25.00,     2009
  49UF20170612,KS1705,  5156,  1,     27,  25261,2,20170621,1909, 24.6635, 129.9965, 4193,    153.8,  19.4072,  34.9241,2,  34.9256,2,    198.3,2,     2.73,2,     2.74,2,     0.05,2,     0.21,2,   2035.9,2,   2296.1,2,   7.9823,2,    25.00,     2007
  49UF20170612,KS1705,  5156,  1,     26,  25260,2,20170621,1909, 24.6635, 129.9965, 4193,    203.8,  18.3736,  34.8480,2,  34.8472,2,    200.7,2,     3.47,2,     3.88,2,     0.01,2,     0.26,2,   2038.5,2,   2289.3,2,   7.9694,2,    25.00,     2005
  49UF20170612,KS1705,  5156,  1,     25,  25259,2,20170621,1909, 24.6635, 129.9965, 4193,    253.7,  17.5132,  34.7677,2,  34.7658,2,    196.0,2,     4.56,2,     5.24,2,     0.00,2,     0.36,2,   2049.2,2,   2283.3,2,   7.9429,2,    25.00,     2004
  49UF20170612,KS1705,  5156,  1,     21,  25255,2,20170621,1909, 24.6635, 129.9965, 4193,    303.6,  16.4018,  34.6758,2,  34.6754,2,    198.9,2,     5.83,2,     6.55,2,     0.00,2,     0.43,2,   2055.6,6,   2280.5,6,   7.9222,2,    25.00,     2002
  49UF20170612,KS1705,  5156,  1,     20,  24270,2,20170621,1909, 24.6635, 129.9965, 4193,    404.3,  14.0323,  34.4964,2,  34.4953,2,    179.8,2,    14.65,2,    12.23,2,     0.00,2,     0.84,2,   2088.7,2,   2276.0,2,   7.8361,6,    25.00,     2000
  49UF20170612,KS1705,  5156,  1,     19,  25253,2,20170621,1909, 24.6635, 129.9965, 4193,    504.7,  10.5726,  34.2918,2,  34.2914,2,    156.2,2,    31.51,2,    19.94,2,     0.00,2,     1.43,2,   2147.1,2,   2278.8,2,   7.7095,2,    25.00,     1954
  49UF20170612,KS1705,  5156,  1,     18,  25252,2,20170621,1909, 24.6635, 129.9965, 4193,    608.6,   8.3385,  34.2018,2,  34.2036,2,    132.6,2,    47.95,2,    26.03,2,     0.00,2,     1.87,2,   2194.0,2,   2293.3,2,   7.6159,2,    25.00,     1951
  49UF20170612,KS1705,  5156,  1,     17,  25251,2,20170621,1909, 24.6635, 129.9965, 4193,    706.7,   6.0637,  34.1872,2,  34.1852,2,     95.3,2,    74.45,2,    33.48,2,     0.00,2,     2.42,2,   2257.6,2,   2314.8,2,   7.4992,2,    25.00,     1948
  49UF20170612,KS1705,  5156,  1,     16,  25250,2,20170621,1909, 24.6635, 129.9965, 4193,    808.5,   5.0899,  34.2840,2,  34.2849,2,     74.4,6,    93.14,6,    36.80,6,     0.00,6,     2.66,6,   2291.9,2,   2335.7,2,   7.4570,2,    25.00,     1946
  49UF20170612,KS1705,  5156,  1,     12,  25246,2,20170621,1909, 24.6635, 129.9965, 4193,    908.3,   4.1497,  34.3514,2,  34.3526,2,     63.6,2,   109.50,2,    39.36,2,     0.00,2,     2.82,2,   2323.1,2,   2354.5,2,   7.4316,2,    25.00,     1943
  49UF20170612,KS1705,  5156,  1,     11,  25245,2,20170621,1909, 24.6635, 129.9965, 4193,    908.5,   4.1490,  34.3511,2,  34.3530,2,     63.8,2,   109.64,2,    39.18,2,     0.00,2,     2.82,2,   2316.6,2,   2357.0,2,   7.4310,2,    25.00,     1943
  49UF20170612,KS1705,  5156,  1,     10,  25244,3,20170621,1909, 24.6635, 129.9965, 4193,   1011.8,   3.5913,  34.4127,2,  34.4126,2,     64.3,2,   121.51,2,    40.16,2,     0.00,2,     2.87,2,   2332.6,2,   2369.3,2,   7.4300,2,    25.00,     1940
  49UF20170612,KS1705,  5156,  1,      9,  25243,2,20170621,1909, 24.6635, 129.9965, 4193,   1213.1,   2.9426,  34.4832,2,  34.4833,6,     69.9,2,   133.97,2,    40.23,2,     0.00,2,     2.88,2,   2343.8,6,   2388.3,6,   7.4408,2,    25.00,     1931
  49UF20170612,KS1705,  5156,  1,      8,  25242,2,20170621,1909, 24.6635, 129.9965, 4193,   1415.3,   2.4940,  34.5371,2,  34.5375,2,     83.4,2,   140.17,2,    39.96,2,     0.00,2,     2.83,2,   2345.5,2,   2395.8,2,   7.4644,6,    25.00,     1926
  49UF20170612,KS1705,  5156,  1,      7,  25241,2,20170621,1909, 24.6635, 129.9965, 4193,   1618.9,   2.2520,  34.5712,2,  34.5719,2,     94.4,6,   142.72,6,    39.30,6,     0.00,6,     2.78,6,   2345.3,2,   2404.5,2,   7.4885,2,    25.00,     1921
  49UF20170612,KS1705,  5156,  1,      2,  25236,2,20170621,1909, 24.6635, 129.9965, 4193,   1820.8,   2.0733,  34.5997,2,  34.6006,2,    107.7,2,   142.28,2,    38.58,2,     0.00,2,     2.72,2,   2342.3,2,   2406.9,2,   7.5131,2,    25.00,     1913
  49UF20170612,KS1705,  5156,  1,      3,  25237,2,20170621,1909, 24.6635, 129.9965, 4193,   1822.3,   2.0729,  34.5997,2,  34.6012,2,    107.4,2,   142.79,2,    38.41,2,     0.00,2,     2.72,2,   2338.3,2,   2406.6,2,   7.5120,2,    25.00,     1913
  49UF20170612,KS1705,  5156,  1,      1,  25235,2,20170621,1909, 24.6635, 129.9965, 4193,   2025.4,   1.9103,  34.6228,2,  34.6243,6,    118.2,2,   142.57,2,    38.07,2,     0.00,2,     2.67,2,   2337.1,2,   2412.6,2,   7.5318,2,    25.00,     1909
  49UF20170612,KS1705,  5158,  1,     99,     99,2,20170622,0336, 24.9998, 129.5040, 4083,      0.0,  26.9933,  34.6642,2,-999.0000,9,    205.3,2,  -999.00,9,  -999.00,9,  -999.00,9,  -999.00,9,   -999.0,9,   -999.0,9,-999.0000,9,  -999.00,      420
  49UF20170612,KS1705,  5158,  1,     36,  25270,2,20170622,0336, 24.9998, 129.5040, 4083,     11.4,  26.4157,  34.6531,2,-999.0000,9,    205.8,2,  -999.00,9,  -999.00,9,  -999.00,9,  -999.00,9,   -999.0,9,   -999.0,9,-999.0000,9,  -999.00,      445
  49UF20170612,KS1705,  5158,  1,     35,  25269,2,20170622,0336, 24.9998, 129.5040, 4083,     26.9,  25.9822,  34.7129,2,-999.0000,9,    207.1,2,  -999.00,9,  -999.00,9,  -999.00,9,  -999.00,9,   -999.0,9,   -999.0,9,-999.0000,9,  -999.00,      444
  49UF20170612,KS1705,  5158,  1,     34,  25268,3,20170622,0336, 24.9998, 129.5040, 4083,     52.0,  23.6477,  35.0452,2,-999.0000,9,    217.3,2,  -999.00,9,  -999.00,9,  -999.00,9,  -999.00,9,   -999.0,9,   -999.0,9,-999.0000,9,  -999.00,      440
  49UF20170612,KS1705,  5158,  1,     33,  25267,2,20170622,0336, 24.9998, 129.5040, 4083,     77.5,  23.0996,  35.0427,2,-999.0000,9,    209.0,2,  -999.00,9,  -999.00,9,  -999.00,9,  -999.00,9,   -999.0,9,   -999.0,9,-999.0000,9,  -999.00,      439
  49UF20170612,KS1705,  5158,  1,     32,  25266,2,20170622,0336, 24.9998, 129.5040, 4083,    102.1,  22.7731,  35.0378,2,-999.0000,9,    203.1,2,  -999.00,9,  -999.00,9,  -999.00,9,  -999.00,9,   -999.0,9,   -999.0,9,-999.0000,9,  -999.00,      437
  49UF20170612,KS1705,  5158,  1,     31,  25265,2,20170622,0336, 24.9998, 129.5040, 4083,    126.6,  22.3008,  35.0346,2,-999.0000,9,    201.6,2,  -999.00,9,  -999.00,9,  -999.00,9,  -999.00,9,   -999.0,9,   -999.0,9,-999.0000,9,  -999.00,      436
  49UF20170612,KS1705,  5158,  1,     27,  25261,2,20170622,0336, 24.9998, 129.5040, 4083,    151.9,  21.4156,  35.0240,2,-999.0000,9,    206.0,2,  -999.00,9,  -999.00,9,  -999.00,9,  -999.00,9,   -999.0,9,   -999.0,9,-999.0000,9,  -999.00,      434
  49UF20170612,KS1705,  5158,  1,     26,  25260,2,20170622,0336, 24.9998, 129.5040, 4083,    204.1,  20.5587,  34.9827,2,-999.0000,9,    202.0,2,  -999.00,9,  -999.00,9,  -999.00,9,  -999.00,9,   -999.0,9,   -999.0,9,-999.0000,9,  -999.00,      432
  49UF20170612,KS1705,  5158,  1,     25,  25259,2,20170622,0336, 24.9998, 129.5040, 4083,    254.0,  18.9782,  34.8685,2,-999.0000,9,    192.8,2,  -999.00,9,  -999.00,9,  -999.00,9,  -999.00,9,   -999.0,9,   -999.0,9,-999.0000,9,  -999.00,      430
  49UF20170612,KS1705,  5158,  1,     24,  25258,2,20170622,0336, 24.9998, 129.5040, 4083,    303.9,  17.6691,  34.7688,2,-999.0000,9,    194.3,2,  -999.00,9,  -999.00,9,  -999.00,9,  -999.00,9,   -999.0,9,   -999.0,9,-999.0000,9,  -999.00,      428
  49UF20170612,KS1705,  5158,  1,     23,  25257,2,20170622,0336, 24.9998, 129.5040, 4083,    404.4,  15.4033,  34.5858,2,-999.0000,9,    188.3,2,  -999.00,9,  -999.00,9,  -999.00,9,  -999.00,9,   -999.0,9,   -999.0,9,-999.0000,9,  -999.00,      426
  49UF20170612,KS1705,  5158,  1,     22,  25256,3,20170622,0336, 24.9998, 129.5040, 4083,    505.4,  12.1077,  34.3530,2,-999.0000,9,    170.6,2,  -999.00,9,  -999.00,9,  -999.00,9,  -999.00,9,   -999.0,9,   -999.0,9,-999.0000,9,  -999.00,      421
  49UF20170612,KS1705,  5158,  1,     18,  25252,2,20170622,0336, 24.9998, 129.5040, 4083,    605.7,   8.9266,  34.2017,2,-999.0000,9,    138.6,2,  -999.00,9,  -999.00,9,  -999.00,9,  -999.00,9,   -999.0,9,   -999.0,9,-999.0000,9,  -999.00,      417
  49UF20170612,KS1705,  5158,  1,     17,  25251,2,20170622,0336, 24.9998, 129.5040, 4083,    708.2,   6.8144,  34.2155,2,-999.0000,9,     98.5,2,  -999.00,9,  -999.00,9,  -999.00,9,  -999.00,9,   -999.0,9,   -999.0,9,-999.0000,9,  -999.00,      414
  49UF20170612,KS1705,  5158,  1,     16,  25250,2,20170622,0336, 24.9998, 129.5040, 4083,    708.7,   6.8155,  34.2161,2,-999.0000,9,     98.1,2,  -999.00,9,  -999.00,9,  -999.00,9,  -999.00,9,   -999.0,9,   -999.0,9,-999.0000,9,  -999.00,      414
  49UF20170612,KS1705,  5158,  1,     15,  25249,2,20170622,0336, 24.9998, 129.5040, 4083,    807.9,   5.2909,  34.2135,2,-999.0000,9,     79.7,2,  -999.00,9,  -999.00,9,  -999.00,9,  -999.00,9,   -999.0,9,   -999.0,9,-999.0000,9,  -999.00,      411
  49UF20170612,KS1705,  5158,  1,     14,  25248,2,20170622,0336, 24.9998, 129.5040, 4083,    909.6,   4.5643,  34.2991,2,-999.0000,9,     66.8,6,  -999.00,9,  -999.00,9,  -999.00,9,  -999.00,9,   -999.0,9,   -999.0,9,-999.0000,9,  -999.00,      409
  49UF20170612,KS1705,  5158,  1,     13,  25247,2,20170622,0336, 24.9998, 129.5040, 4083,   1010.9,   3.9740,  34.3699,2,-999.0000,9,     62.1,2,  -999.00,9,  -999.00,9,  -999.00,9,  -999.00,9,   -999.0,9,   -999.0,9,-999.0000,9,  -999.00,      406
  49UF20170612,KS1705,  5158,  1,      9,  25243,2,20170622,0336, 24.9998, 129.5040, 4083,   1212.7,   3.1284,  34.4610,2,-999.0000,9,     66.8,2,  -999.00,9,  -999.00,9,  -999.00,9,  -999.00,9,   -999.0,9,   -999.0,9,-999.0000,9,  -999.00,      358
  49UF20170612,KS1705,  5158,  1,      7,  25241,2,20170622,0336, 24.9998, 129.5040, 4083,   1415.3,   2.6998,  34.5130,2,-999.0000,9,     76.2,2,  -999.00,9,  -999.00,9,  -999.00,9,  -999.00,9,   -999.0,9,   -999.0,9,-999.0000,9,  -999.00,      353
  49UF20170612,KS1705,  5158,  1,      8,  25242,2,20170622,0336, 24.9998, 129.5040, 4083,   1415.8,   2.6996,  34.5131,2,-999.0000,9,     76.6,2,  -999.00,9,  -999.00,9,  -999.00,9,  -999.00,9,   -999.0,9,   -999.0,9,-999.0000,9,  -999.00,      353
  49UF20170612,KS1705,  5158,  1,      6,  25240,2,20170622,0336, 24.9998, 129.5040, 4083,   1619.0,   2.3386,  34.5542,2,-999.0000,9,     86.4,2,  -999.00,9,  -999.00,9,  -999.00,9,  -999.00,9,   -999.0,9,   -999.0,9,-999.0000,9,  -999.00,      348
  49UF20170612,KS1705,  5158,  1,      5,  25239,2,20170622,0336, 24.9998, 129.5040, 4083,   1823.5,   2.1283,  34.5914,2,-999.0000,9,    103.6,6,  -999.00,9,  -999.00,9,  -999.00,9,  -999.00,9,   -999.0,9,   -999.0,9,-999.0000,9,  -999.00,      341
  49UF20170612,KS1705,  5158,  1,      4,  25238,2,20170622,0336, 24.9998, 129.5040, 4083,   2024.8,   1.9929,  34.6128,2,-999.0000,9,    113.7,2,  -999.00,9,  -999.00,9,  -999.00,9,  -999.00,9,   -999.0,9,   -999.0,9,-999.0000,9,  -999.00,      336