BOTTLE,20200102PRINUNIVRMK
# 08/29/2019 Initialized README file  
# Data source:  Masao Ishii 2018/11/30 
# SHIP: R/V Keifu Maru II 
# Cruise: KS17.05 
# Region: North Pacific Ocean, East China Sea 
# EXPOCODE: 49UF20170612 
# DATES: 20170612-20170713 
# Chief Scientist: Kazuhiro Nemoto 
# 27 stations with 36 place Rosette 
# CTD: Who - Kazuhiro Nemoto; Status - final 
# 	Includes: CTDSAL 
# SALNTY: Who - Kazuhiro Nemoto; Status - final 
# 	Notes: 	 
# Nutrients: Who - Kazuhiro Nemoto; Status - final 
# 	Includes: nitrate, nitrite, silicate, phosphate 
# 	Nitrite and NO3+NO2 reported. Separated by subtraction 
# OXYGEN: Who - Kazuhiro Nemoto; Status - final 
# 	Notes: 
# TCARBN: Who - Kazuhiro Nemoto; Status - final 
# 	Notes:  
# ALKALI: Who - Kazuhiro Nemoto; Status - final 
# 	Notes:  
# CFC: Who - Kazuhiro Nemoto; Status - final  
# 	Notes: total H+ scale at 25C 
# These data should be cited as:               
# References that have used data from this cruise: 
EXPOCODE,SECT_ID,STNNBR,CASTNO,SAMPNO,BTLNBR,BTLNBR_FLAG_W,DATE,TIME,LATITUDE,LONGITUDE,DEPTH,CTDPRS,CTDTMP,CTDSAL,CTDSAL_FLAG_W,SALNTY,SALNTY_FLAG_W,OXYGEN,OXYGEN_FLAG_W,SILCAT,SILCAT_FLAG_W,NITRAT,NITRAT_FLAG_W,NITRIT,NITRIT_FLAG_W,PHSPHT,PHSPHT_FLAG_W,TCARBN,TCARBN_FLAG_W,ALKALI,ALKALI_FLAG_W,PH_TOT,PH_TOT_FLAG_W,PH_TMP,BTL_TIME
,,,,,,,,,,,METERS,DBAR,ITS-90,PSS-78,,PSS-78,,UMOL/KG,,UMOL/KG,,UMOL/KG,,UMOL/KG,,UMOL/KG,,UMOL/KG,,UMOL/KG,,,,DEG C,
  49UF20170612,KS1705,  5128,  1,     99,     99,2,20170613,1426, 29.4130, 142.4182, 7074,      0.0,  24.5673,  34.5994,2,-999.0000,9,    211.8,2,  -999.00,9,  -999.00,9,  -999.00,9,  -999.00,9,   -999.0,9,   -999.0,9,-999.0000,9,  -999.00,     1441
  49UF20170612,KS1705,  5128,  1,     32,  25266,2,20170613,1426, 29.4130, 142.4182, 7074,     11.8,  24.6453,  34.7622,2,-999.0000,9,    211.2,2,  -999.00,9,  -999.00,9,  -999.00,9,  -999.00,9,   -999.0,9,   -999.0,9,-999.0000,9,  -999.00,     1510
  49UF20170612,KS1705,  5128,  1,     31,  25265,2,20170613,1426, 29.4130, 142.4182, 7074,     26.7,  24.6200,  34.8279,2,-999.0000,9,    211.4,2,  -999.00,9,  -999.00,9,  -999.00,9,  -999.00,9,   -999.0,9,   -999.0,9,-999.0000,9,  -999.00,     1509
  49UF20170612,KS1705,  5128,  1,     27,  25261,2,20170613,1426, 29.4130, 142.4182, 7074,     47.7,  22.6573,  35.0816,2,-999.0000,9,    224.3,2,  -999.00,9,  -999.00,9,  -999.00,9,  -999.00,9,   -999.0,9,   -999.0,9,-999.0000,9,  -999.00,     1505
  49UF20170612,KS1705,  5128,  1,     26,  25260,2,20170613,1426, 29.4130, 142.4182, 7074,     77.3,  21.2405,  35.0797,2,-999.0000,9,    218.4,2,  -999.00,9,  -999.00,9,  -999.00,9,  -999.00,9,   -999.0,9,   -999.0,9,-999.0000,9,  -999.00,     1503
  49UF20170612,KS1705,  5128,  1,     25,  25259,2,20170613,1426, 29.4130, 142.4182, 7074,    103.1,  20.2735,  35.0179,2,-999.0000,9,    212.3,2,  -999.00,9,  -999.00,9,  -999.00,9,  -999.00,9,   -999.0,9,   -999.0,9,-999.0000,9,  -999.00,     1502
  49UF20170612,KS1705,  5128,  1,     21,  25255,2,20170613,1426, 29.4130, 142.4182, 7074,    127.7,  19.6023,  34.9744,2,-999.0000,9,    214.2,2,  -999.00,9,  -999.00,9,  -999.00,9,  -999.00,9,   -999.0,9,   -999.0,9,-999.0000,9,  -999.00,     1500
  49UF20170612,KS1705,  5128,  1,     20,  24270,2,20170613,1426, 29.4130, 142.4182, 7074,    154.7,  19.0929,  34.9478,2,-999.0000,9,    214.7,2,  -999.00,9,  -999.00,9,  -999.00,9,  -999.00,9,   -999.0,9,   -999.0,9,-999.0000,9,  -999.00,     1458
  49UF20170612,KS1705,  5128,  1,     19,  25253,2,20170613,1426, 29.4130, 142.4182, 7074,    206.9,  18.4624,  34.8807,2,-999.0000,9,    212.5,2,  -999.00,9,  -999.00,9,  -999.00,9,  -999.00,9,   -999.0,9,   -999.0,9,-999.0000,9,  -999.00,     1456
  49UF20170612,KS1705,  5128,  1,     15,  25249,2,20170613,1426, 29.4130, 142.4182, 7074,    253.2,  17.7161,  34.7990,2,-999.0000,9,    204.8,2,  -999.00,9,  -999.00,9,  -999.00,9,  -999.00,9,   -999.0,9,   -999.0,9,-999.0000,9,  -999.00,     1453
  49UF20170612,KS1705,  5128,  1,     14,  25248,2,20170613,1426, 29.4130, 142.4182, 7074,    305.1,  16.8459,  34.7191,2,-999.0000,9,    202.0,2,  -999.00,9,  -999.00,9,  -999.00,9,  -999.00,9,   -999.0,9,   -999.0,9,-999.0000,9,  -999.00,     1450
  49UF20170612,KS1705,  5128,  1,     13,  25247,2,20170613,1426, 29.4130, 142.4182, 7074,    406.4,  15.2479,  34.5774,2,-999.0000,9,    194.9,2,  -999.00,9,  -999.00,9,  -999.00,9,  -999.00,9,   -999.0,9,   -999.0,9,-999.0000,9,  -999.00,     1445
  49UF20170612,KS1705,  5128,  1,      9,  25243,2,20170613,1426, 29.4130, 142.4182, 7074,    507.3,  12.1460,  34.3316,2,-999.0000,9,    187.8,2,  -999.00,9,  -999.00,9,  -999.00,9,  -999.00,9,   -999.0,9,   -999.0,9,-999.0000,9,  -999.00,     1441
  49UF20170612,KS1705,  5128,  1,      8,  25242,2,20170613,1426, 29.4130, 142.4182, 7074,    608.4,   9.3470,  34.1980,2,-999.0000,9,    157.7,2,  -999.00,9,  -999.00,9,  -999.00,9,  -999.00,9,   -999.0,9,   -999.0,9,-999.0000,9,  -999.00,     1436
  49UF20170612,KS1705,  5128,  1,      7,  25241,2,20170613,1426, 29.4130, 142.4182, 7074,    708.6,   7.6506,  34.1499,2,-999.0000,9,    133.5,2,  -999.00,9,  -999.00,9,  -999.00,9,  -999.00,9,   -999.0,9,   -999.0,9,-999.0000,9,  -999.00,     1433
  49UF20170612,KS1705,  5128,  1,      3,  25237,2,20170613,1426, 29.4130, 142.4182, 7074,    810.3,   6.0699,  34.1446,2,-999.0000,9,    104.7,2,  -999.00,9,  -999.00,9,  -999.00,9,  -999.00,9,   -999.0,9,   -999.0,9,-999.0000,9,  -999.00,     1431
  49UF20170612,KS1705,  5128,  1,      2,  25236,2,20170613,1426, 29.4130, 142.4182, 7074,    911.6,   4.6774,  34.1982,2,-999.0000,9,     71.2,2,  -999.00,9,  -999.00,9,  -999.00,9,  -999.00,9,   -999.0,9,   -999.0,9,-999.0000,9,  -999.00,     1428
  49UF20170612,KS1705,  5128,  1,      1,  25235,2,20170613,1426, 29.4130, 142.4182, 7074,   1010.0,   4.0925,  34.2526,2,-999.0000,9,     54.9,3,  -999.00,9,  -999.00,9,  -999.00,9,  -999.00,9,   -999.0,9,   -999.0,9,-999.0000,9,  -999.00,     1426
  49UF20170612,KS1705,  5129,  1,     99,     99,2,20170615,0544, 24.2817, 144.8410, 5262,      0.0,  28.6505,  35.1572,2,  35.1588,2,    199.4,2,     1.29,2,     0.14,2,     0.00,2,     0.03,2,   1985.8,2,   2311.0,2,   8.0935,2,    25.00,      740
  49UF20170612,KS1705,  5129,  1,     36,  25270,2,20170615,0544, 24.2817, 144.8410, 5262,     11.7,  28.5518,  35.1441,2,  35.1286,4,    201.6,2,     1.28,2,     0.03,2,     0.00,2,     0.01,2,   1982.8,2,   2312.5,2,   8.0927,2,    25.00,      807
  49UF20170612,KS1705,  5129,  1,     35,  25269,2,20170615,0544, 24.2817, 144.8410, 5262,     26.9,  25.3902,  35.1555,2,  35.1718,4,    218.0,2,     1.37,2,     0.06,2,     0.00,2,     0.01,2,   1991.4,2,   2313.1,2,   8.0855,2,    25.00,      806
  49UF20170612,KS1705,  5129,  1,     34,  25268,2,20170615,0544, 24.2817, 144.8410, 5262,     53.4,  23.4161,  35.1792,2,  35.1838,2,    222.6,2,     1.46,2,     0.08,2,     0.00,2,     0.01,2,   1995.7,2,   2313.1,2,   8.0792,2,    25.00,      802
  49UF20170612,KS1705,  5129,  1,     33,  25267,2,20170615,0544, 24.2817, 144.8410, 5262,     77.1,  22.3907,  35.1558,2,  35.1580,2,    221.4,2,     1.62,2,     0.08,2,     0.00,2,     0.02,2,   2005.8,2,   2310.0,2,   8.0605,2,    25.00,      801
  49UF20170612,KS1705,  5129,  1,     32,  25266,2,20170615,0544, 24.2817, 144.8410, 5262,    102.7,  21.1191,  35.1184,2,  35.1127,2,    217.4,2,     1.76,2,     0.05,2,     0.00,2,     0.03,2,   2017.0,2,   2309.7,2,   8.0399,2,    25.00,      800
  49UF20170612,KS1705,  5129,  1,     31,  25265,2,20170615,0544, 24.2817, 144.8410, 5262,    127.7,  20.0981,  35.0277,2,  35.0244,2,    215.2,2,     2.02,2,     0.28,2,     0.09,2,     0.06,2,   2023.6,2,   2303.5,2,   8.0183,2,    25.00,      759
  49UF20170612,KS1705,  5129,  1,     30,  25264,2,20170615,0544, 24.2817, 144.8410, 5262,    151.9,  19.5749,  34.9828,2,  34.9785,2,    212.2,2,     2.19,2,     1.05,2,     0.03,2,     0.10,2,   2028.3,2,   2298.8,2,   8.0061,2,    25.00,      758
  49UF20170612,KS1705,  5129,  1,     29,  25263,2,20170615,0544, 24.2817, 144.8410, 5262,    203.4,  18.1487,  34.8646,2,  34.8616,2,    219.3,2,     2.80,2,     2.43,2,     0.01,2,     0.18,2,   2031.7,2,   2290.5,2,   7.9864,2,    25.00,      756
  49UF20170612,KS1705,  5129,  1,     28,  25262,2,20170615,0544, 24.2817, 144.8410, 5262,    253.3,  17.0372,  34.7467,2,  34.7462,2,    205.1,2,     4.37,2,     5.00,2,     0.00,2,     0.34,2,   2050.2,2,   2284.8,2,   7.9442,2,    25.00,      755
  49UF20170612,KS1705,  5129,  1,     27,  25261,2,20170615,0544, 24.2817, 144.8410, 5262,    304.2,  16.1442,  34.6594,2,  34.6595,2,    203.6,2,     5.75,2,     6.35,2,     0.00,2,     0.43,2,   2054.0,2,   2280.3,2,   7.9209,2,    25.00,      753
  49UF20170612,KS1705,  5129,  1,     26,  25260,2,20170615,0544, 24.2817, 144.8410, 5262,    404.3,  14.0420,  34.4600,2,  34.4597,2,    189.8,2,    10.66,2,    10.66,2,     0.00,2,     0.76,2,   2085.9,2,   2276.5,2,   7.8436,2,    25.00,      751
  49UF20170612,KS1705,  5129,  1,     25,  25259,2,20170615,0544, 24.2817, 144.8410, 5262,    505.9,  11.0157,  34.2502,2,  34.2481,2,    181.3,2,    21.25,2,    16.91,2,     0.00,2,     1.19,2,   2125.7,6,   2272.4,6,   7.7525,2,    25.00,      748
  49UF20170612,KS1705,  5129,  1,     24,  25258,2,20170615,0544, 24.2817, 144.8410, 5262,    607.0,   8.2144,  34.1101,2,  34.1107,2,    144.4,2,    40.41,2,    25.52,2,     0.00,2,     1.82,2,   2186.1,2,   2280.2,2,   7.6148,6,    25.00,      746
  49UF20170612,KS1705,  5129,  1,     23,  25257,2,20170615,0544, 24.2817, 144.8410, 5262,    711.1,   6.5017,  34.1100,2,  34.1113,2,    100.1,2,    61.13,2,    32.53,2,     0.00,2,     2.35,2,   2242.7,2,   2297.8,2,   7.5027,2,    25.00,      743
  49UF20170612,KS1705,  5129,  1,     22,  25256,3,20170615,0544, 24.2817, 144.8410, 5262,    809.4,   5.3888,  34.1608,2,  34.1630,2,     73.3,2,    79.88,2,    36.82,2,     0.00,2,     2.66,2,   2283.1,2,   2317.9,2,   7.4390,2,    25.00,      741
  49UF20170612,KS1705,  5129,  1,     21,  25255,2,20170615,0544, 24.2817, 144.8410, 5262,    911.7,   4.5012,  34.2470,2,  34.2473,2,     55.0,2,    99.17,2,    39.82,2,     0.00,2,     2.87,2,   2313.6,2,   2339.2,2,   7.4025,2,    25.00,      738
  49UF20170612,KS1705,  5129,  1,     20,  24270,2,20170615,0544, 24.2817, 144.8410, 5262,   1011.8,   4.0851,  34.3311,2,  34.3302,2,     52.0,6,   109.73,6,    40.76,6,     0.00,6,     2.93,6,   2330.5,2,   2355.5,2,   7.4005,2,    25.00,      736
  49UF20170612,KS1705,  5129,  1,     19,  25253,2,20170615,0544, 24.2817, 144.8410, 5262,   1213.8,   3.3021,  34.4431,2,  34.4434,2,     56.8,2,   127.57,2,    41.19,2,     0.00,2,     2.95,2,   2346.9,2,   2379.6,2,   7.4186,2,    25.00,      731
  49UF20170612,KS1705,  5129,  1,     18,  25252,2,20170615,0544, 24.2817, 144.8410, 5262,   1416.8,   2.7566,  34.4976,2,  34.4975,2,     61.8,2,   140.18,2,    41.52,2,     0.00,2,     2.94,2,   2362.9,2,   2391.5,2,   7.4234,2,    25.00,      727
  49UF20170612,KS1705,  5129,  1,     17,  25251,2,20170615,0544, 24.2817, 144.8410, 5262,   1618.0,   2.3673,  34.5468,2,  34.5472,2,     72.6,2,   147.96,2,    40.98,2,     0.00,2,     2.90,2,   2362.7,6,   2401.2,6,   7.4445,2,    25.00,      722
  49UF20170612,KS1705,  5129,  1,     16,  25250,3,20170615,0544, 24.2817, 144.8410, 5262,   1820.4,   2.0990,  34.5848,2,  34.5818,4,     89.2,4,   148.72,2,    39.92,2,     0.00,2,     2.82,2,   2357.2,2,   2407.5,2,   7.4773,6,    25.00,      718
  49UF20170612,KS1705,  5129,  1,     15,  25249,2,20170615,0544, 24.2817, 144.8410, 5262,   2024.1,   1.9510,  34.6069,2,  34.6064,2,     99.0,2,   151.16,2,    39.48,2,     0.00,2,     2.79,2,   2354.3,2,   2411.6,2,   7.4938,2,    25.00,      713
  49UF20170612,KS1705,  5129,  1,     14,  25248,2,20170615,0544, 24.2817, 144.8410, 5262,   2278.4,   1.8007,  34.6296,2,  34.6295,2,    111.4,2,   151.04,2,    38.71,2,     0.00,2,     2.73,2,   2347.9,2,   2415.1,2,   7.5176,2,    25.00,      708
  49UF20170612,KS1705,  5129,  1,     13,  25247,2,20170615,0544, 24.2817, 144.8410, 5262,   2533.5,   1.7203,  34.6440,2,  34.6421,4,    120.5,6,   150.05,6,    38.19,6,     0.00,6,     2.68,6,   2346.5,2,   2417.7,2,   7.5362,2,    25.00,      702
  49UF20170612,KS1705,  5129,  1,     12,  25246,2,20170615,0544, 24.2817, 144.8410, 5262,   2787.5,   1.6549,  34.6543,2,  34.6564,4,    127.6,2,   149.54,2,    37.82,2,     0.00,2,     2.64,2,   2337.6,2,   2416.1,2,   7.5467,2,    25.00,      656
  49UF20170612,KS1705,  5129,  1,     11,  25245,2,20170615,0544, 24.2817, 144.8410, 5262,   3042.6,   1.5825,  34.6640,2,  34.6636,2,    134.6,2,   149.25,2,    37.30,2,     0.00,2,     2.62,2,   2337.0,2,   2419.7,2,   7.5580,2,    25.00,      650
  49UF20170612,KS1705,  5129,  1,     10,  25244,2,20170615,0544, 24.2817, 144.8410, 5262,   3296.2,   1.5275,  34.6719,2,  34.6713,6,    141.6,2,   148.25,2,    36.89,2,     0.00,2,     2.57,2,   2326.6,3,   2416.9,2,   7.5699,2,    25.00,      641
  49UF20170612,KS1705,  5129,  1,      9,  25243,2,20170615,0544, 24.2817, 144.8410, 5262,   3552.7,   1.5033,  34.6766,2,  34.6755,2,    145.7,2,   147.34,2,    36.66,2,     0.00,2,     2.55,2,   2331.3,6,   2416.8,6,   7.5749,2,    25.00,      636
  49UF20170612,KS1705,  5129,  1,      8,  25242,3,20170615,0544, 24.2817, 144.8410, 5262,   3809.5,   1.4928,  34.6800,2,  34.6796,2,    149.8,2,   145.59,2,    36.24,2,     0.00,2,     2.53,2,   2326.3,2,   2416.2,2,   7.5829,6,    25.00,      629
  49UF20170612,KS1705,  5129,  1,      7,  25241,2,20170615,0544, 24.2817, 144.8410, 5262,   4065.5,   1.4849,  34.6831,2,  34.6813,2,    152.8,6,   144.09,6,    36.07,6,     0.00,6,     2.51,6,   2324.4,2,   2414.1,2,   7.5876,2,    25.00,      623
  49UF20170612,KS1705,  5129,  1,      6,  25240,2,20170615,0544, 24.2817, 144.8410, 5262,   4322.7,   1.4836,  34.6857,2,  34.6858,2,    157.2,2,   143.18,2,    35.85,2,     0.00,2,     2.49,2,   2322.0,2,   2412.8,2,   7.5932,2,    25.00,      615
  49UF20170612,KS1705,  5129,  1,      5,  25239,2,20170615,0544, 24.2817, 144.8410, 5262,   4582.2,   1.4798,  34.6887,2,  34.6879,2,    160.9,2,   140.67,2,    35.54,2,     0.00,2,     2.47,2,   2317.2,2,   2414.2,2,   7.5976,2,    25.00,      608
  49UF20170612,KS1705,  5129,  1,      4,  25238,2,20170615,0544, 24.2817, 144.8410, 5262,   4839.0,   1.4853,  34.6909,2,  34.6911,6,    165.1,2,   138.71,2,    35.16,2,     0.00,2,     2.44,2,   2313.1,2,   2410.7,2,   7.6042,2,    25.00,      601
  49UF20170612,KS1705,  5129,  1,      3,  25237,3,20170615,0544, 24.2817, 144.8410, 5262,   5094.4,   1.4960,  34.6928,2,  34.6895,4,    166.6,4,   137.36,2,    35.13,2,     0.00,2,     2.43,2,   2313.1,2,   2410.6,2,   7.6041,2,    25.00,      554
  49UF20170612,KS1705,  5129,  1,      2,  25236,2,20170615,0544, 24.2817, 144.8410, 5262,   5351.2,   1.5092,  34.6942,2,  34.8335,4,    171.1,2,   135.23,2,    34.77,2,     0.00,2,     2.41,2,   2308.0,2,   2402.8,2,   7.6071,2,    25.00,      546
  49UF20170612,KS1705,  5129,  1,      1,  25235,2,20170615,0544, 24.2817, 144.8410, 5262,   5390.7,   1.5141,  34.6941,2,  34.6942,2,    170.7,6,   135.23,6,    34.82,6,     0.00,6,     2.41,6,   2307.4,2,   2404.9,2,   7.6084,2,    25.00,      544