BOTTLE,20200102PRINUNIVRMK
EXPOCODE,SECT_ID,STNNBR,CASTNO,SAMPNO,BTLNBR,BTLNBR_FLAG_W,DATE,TIME,LATITUDE,LONGITUDE,DEPTH,CTDPRS,CTDTMP,CTDSAL,CTDSAL_FLAG_W,SALNTY,SALNTY_FLAG_W,OXYGEN,OXYGEN_FLAG_W,SILCAT,SILCAT_FLAG_W,NITRAT,NITRAT_FLAG_W,NITRIT,NITRIT_FLAG_W,PHSPHT,PHSPHT_FLAG_W,TCARBN,TCARBN_FLAG_W,ALKALI,ALKALI_FLAG_W,PH_TOT,PH_TOT_FLAG_W,PH_TMP,BTL_TIME
,,,,,,,,,,,METERS,DBAR,ITS-90,PSS-78,,PSS-78,,UMOL/KG,,UMOL/KG,,UMOL/KG,,UMOL/KG,,UMOL/KG,,UMOL/KG,,UMOL/KG,,,,DEG C,
  49UF20170612,KS1705,  5131,  1,     99,     99,2,20170615,1621, 24.2503, 143.6225, 7758,      0.0,  28.1207,  35.0881,2,-999.0000,9,   -999.0,5,     1.27,2,     0.03,2,     0.00,2,     0.02,2,   -999.0,9,   -999.0,9,-999.0000,9,  -999.00,     1700
  49UF20170612,KS1705,  5131,  1,     36,  25270,2,20170615,1621, 24.2503, 143.6225, 7758,     11.5,  28.1108,  35.0830,2,-999.0000,9,    201.2,2,     1.23,2,     0.00,2,     0.00,2,     0.01,2,   -999.0,9,   -999.0,9,-999.0000,9,  -999.00,     1724
  49UF20170612,KS1705,  5131,  1,     35,  25269,2,20170615,1621, 24.2503, 143.6225, 7758,     26.7,  26.3597,  35.0913,2,-999.0000,9,    211.2,2,     1.27,2,     0.00,2,     0.00,2,     0.01,2,   -999.0,9,   -999.0,9,-999.0000,9,  -999.00,     1722
  49UF20170612,KS1705,  5131,  1,     34,  25268,2,20170615,1621, 24.2503, 143.6225, 7758,     53.3,  22.3536,  35.1616,2,-999.0000,9,    222.2,2,     1.58,2,     0.00,2,     0.00,2,     0.02,2,   -999.0,9,   -999.0,9,-999.0000,9,  -999.00,     1718
  49UF20170612,KS1705,  5131,  1,     30,  25264,2,20170615,1621, 24.2503, 143.6225, 7758,     76.6,  21.1251,  35.1114,2,-999.0000,9,    218.6,2,     1.76,2,     0.00,2,     0.00,2,     0.04,2,   -999.0,9,   -999.0,9,-999.0000,9,  -999.00,     1716
  49UF20170612,KS1705,  5131,  1,     29,  25263,2,20170615,1621, 24.2503, 143.6225, 7758,    102.4,  19.9489,  35.0094,2,-999.0000,9,    210.7,2,     2.11,2,     0.44,2,     0.03,2,     0.08,2,   -999.0,9,   -999.0,9,-999.0000,9,  -999.00,     1715
  49UF20170612,KS1705,  5131,  1,     28,  25262,2,20170615,1621, 24.2503, 143.6225, 7758,    127.3,  19.0723,  34.9194,2,-999.0000,9,    206.4,2,     2.59,2,     2.15,2,     0.04,2,     0.16,2,   -999.0,9,   -999.0,9,-999.0000,9,  -999.00,     1713
  49UF20170612,KS1705,  5131,  1,     27,  25261,2,20170615,1621, 24.2503, 143.6225, 7758,    151.4,  18.3820,  34.8489,2,-999.0000,9,    199.0,2,     3.25,2,     3.57,2,     0.02,2,     0.25,2,   -999.0,9,   -999.0,9,-999.0000,9,  -999.00,     1711
  49UF20170612,KS1705,  5131,  1,     26,  25260,2,20170615,1621, 24.2503, 143.6225, 7758,    207.3,  17.2312,  34.7523,2,-999.0000,9,    200.9,2,     4.18,2,     4.93,2,     0.01,2,     0.35,2,   -999.0,9,   -999.0,9,-999.0000,9,  -999.00,     1709
  49UF20170612,KS1705,  5131,  1,     25,  25259,2,20170615,1621, 24.2503, 143.6225, 7758,    253.7,  16.1527,  34.6565,2,-999.0000,9,    201.0,2,     5.97,2,     6.59,2,     0.00,2,     0.45,2,   -999.0,9,   -999.0,9,-999.0000,9,  -999.00,     1707
  49UF20170612,KS1705,  5131,  1,     21,  25255,2,20170615,1621, 24.2503, 143.6225, 7758,    304.2,  15.1950,  34.5680,2,-999.0000,9,    196.4,6,     8.18,6,     8.43,6,     0.00,6,     0.59,6,   -999.0,9,   -999.0,9,-999.0000,9,  -999.00,     1705
  49UF20170612,KS1705,  5131,  1,     20,  24270,2,20170615,1621, 24.2503, 143.6225, 7758,    403.9,  12.5451,  34.3602,2,-999.0000,9,    188.9,2,    15.51,2,    13.40,2,     0.00,2,     0.94,2,   -999.0,9,   -999.0,9,-999.0000,9,  -999.00,     1702
  49UF20170612,KS1705,  5131,  1,     19,  25253,2,20170615,1621, 24.2503, 143.6225, 7758,    504.8,   9.6700,  34.1731,2,-999.0000,9,    169.3,2,    28.92,2,    20.36,2,     0.00,2,     1.45,2,   -999.0,9,   -999.0,9,-999.0000,9,  -999.00,     1659
  49UF20170612,KS1705,  5131,  1,     18,  25252,2,20170615,1621, 24.2503, 143.6225, 7758,    605.6,   7.3802,  34.1005,2,-999.0000,9,    128.3,2,    50.50,2,    28.34,2,     0.00,2,     2.04,2,   -999.0,9,   -999.0,9,-999.0000,9,  -999.00,     1657
  49UF20170612,KS1705,  5131,  1,     16,  25250,2,20170615,1621, 24.2503, 143.6225, 7758,    706.2,   5.9485,  34.1488,2,-999.0000,9,     98.2,2,    73.74,2,    33.48,2,     0.00,2,     2.41,2,   -999.0,9,   -999.0,9,-999.0000,9,  -999.00,     1654
  49UF20170612,KS1705,  5131,  1,     17,  25251,2,20170615,1621, 24.2503, 143.6225, 7758,    706.7,   5.9428,  34.1492,2,-999.0000,9,     98.5,2,    73.73,2,    33.39,2,     0.00,2,     2.42,2,   -999.0,9,   -999.0,9,-999.0000,9,  -999.00,     1654
  49UF20170612,KS1705,  5131,  1,     12,  25246,2,20170615,1621, 24.2503, 143.6225, 7758,    807.0,   5.3091,  34.1716,2,-999.0000,9,     80.7,2,    84.36,2,    36.18,2,     0.00,2,     2.61,2,   -999.0,9,   -999.0,9,-999.0000,9,  -999.00,     1651
  49UF20170612,KS1705,  5131,  1,     11,  25245,2,20170615,1621, 24.2503, 143.6225, 7758,    909.0,   4.5667,  34.2473,2,-999.0000,9,     57.6,2,    98.51,2,    39.46,2,     0.00,2,     2.85,2,   -999.0,9,   -999.0,9,-999.0000,9,  -999.00,     1648
  49UF20170612,KS1705,  5131,  1,     10,  25244,2,20170615,1621, 24.2503, 143.6225, 7758,   1009.9,   4.0710,  34.3475,2,-999.0000,9,     54.4,2,   110.78,2,    40.48,2,     0.00,2,     2.91,2,   -999.0,9,   -999.0,9,-999.0000,9,  -999.00,     1645
  49UF20170612,KS1705,  5131,  1,      9,  25243,2,20170615,1621, 24.2503, 143.6225, 7758,   1214.5,   3.1618,  34.4337,2,-999.0000,9,     49.3,2,   133.21,2,    41.84,2,     0.00,2,     2.99,2,   -999.0,9,   -999.0,9,-999.0000,9,  -999.00,     1640
  49UF20170612,KS1705,  5131,  1,      8,  25242,2,20170615,1621, 24.2503, 143.6225, 7758,   1414.8,   2.6989,  34.5045,2,-999.0000,9,     64.5,2,   141.40,2,    41.12,2,     0.00,2,     2.93,2,   -999.0,9,   -999.0,9,-999.0000,9,  -999.00,     1636
  49UF20170612,KS1705,  5131,  1,      7,  25241,2,20170615,1621, 24.2503, 143.6225, 7758,   1621.1,   2.4106,  34.5548,2,-999.0000,9,     82.2,2,   144.30,2,    40.25,2,     0.00,2,     2.85,2,   -999.0,9,   -999.0,9,-999.0000,9,  -999.00,     1631
  49UF20170612,KS1705,  5131,  1,      3,  25237,2,20170615,1621, 24.2503, 143.6225, 7758,   1822.4,   2.1785,  34.5849,2,-999.0000,9,     93.2,6,   146.53,6,    39.63,6,     0.00,6,     2.80,6,   -999.0,9,   -999.0,9,-999.0000,9,  -999.00,     1626
  49UF20170612,KS1705,  5131,  1,      1,  25235,2,20170615,1621, 24.2503, 143.6225, 7758,   2024.2,   1.9883,  34.6066,2,-999.0000,9,    101.7,2,   149.05,2,    39.17,2,     0.00,2,     2.76,2,   -999.0,9,   -999.0,9,-999.0000,9,  -999.00,     1621
  49UF20170612,KS1705,  5131,  1,      2,  25236,2,20170615,1621, 24.2503, 143.6225, 7758,   2024.4,   1.9877,  34.6067,2,-999.0000,9,    101.7,2,   149.11,2,    39.16,2,     0.00,2,     2.76,2,   -999.0,9,   -999.0,9,-999.0000,9,  -999.00,     1621
  49UF20170612,KS1705,  5133,  1,     99,     99,2,20170616,0053, 24.2587, 142.4463, 2928,      0.0,  28.3442,  35.0350,2,-999.0000,9,    199.5,2,     1.39,2,     0.13,2,     0.00,2,     0.02,2,   -999.0,9,   -999.0,9,-999.0000,9,  -999.00,      131
  49UF20170612,KS1705,  5133,  1,     33,  25267,2,20170616,0053, 24.2587, 142.4463, 2928,     10.8,  28.1629,  35.0341,2,  35.0331,2,    201.1,2,     1.35,2,     0.06,2,     0.00,2,     0.01,2,   -999.0,9,   -999.0,9,-999.0000,9,  -999.00,      150
  49UF20170612,KS1705,  5133,  1,     32,  25266,2,20170616,0053, 24.2587, 142.4463, 2928,     26.0,  26.7163,  35.0042,2,  35.0360,4,    212.4,2,     1.35,2,     0.01,2,     0.00,2,     0.01,2,   -999.0,9,   -999.0,9,-999.0000,9,  -999.00,      148
  49UF20170612,KS1705,  5133,  1,     31,  25265,2,20170616,0053, 24.2587, 142.4463, 2928,     51.6,  21.4691,  35.0658,2,  35.0629,2,    221.4,2,     1.78,2,     0.07,2,     0.00,2,     0.02,2,   -999.0,9,   -999.0,9,-999.0000,9,  -999.00,      145
  49UF20170612,KS1705,  5133,  1,     30,  25264,2,20170616,0053, 24.2587, 142.4463, 2928,     77.0,  20.4743,  35.0113,2,-999.0000,9,    214.8,2,     1.95,2,     0.03,2,     0.00,2,     0.04,2,   -999.0,9,   -999.0,9,-999.0000,9,  -999.00,      143
  49UF20170612,KS1705,  5133,  1,     29,  25263,2,20170616,0053, 24.2587, 142.4463, 2928,    101.7,  19.8156,  34.9645,2,  34.9625,2,    208.1,2,     2.21,2,     0.59,2,     0.07,2,     0.09,2,   -999.0,9,   -999.0,9,-999.0000,9,  -999.00,      142
  49UF20170612,KS1705,  5133,  1,     28,  25262,2,20170616,0053, 24.2587, 142.4463, 2928,    127.7,  18.7690,  34.8890,2,  34.8869,2,    202.3,2,     2.82,2,     2.77,2,     0.02,2,     0.20,2,   -999.0,9,   -999.0,9,-999.0000,9,  -999.00,      141
  49UF20170612,KS1705,  5133,  1,     24,  25258,2,20170616,0053, 24.2587, 142.4463, 2928,    152.0,  18.0985,  34.8275,2,  34.8253,2,    200.9,2,     3.38,2,     3.83,2,     0.01,2,     0.27,2,   -999.0,9,   -999.0,9,-999.0000,9,  -999.00,      139
  49UF20170612,KS1705,  5133,  1,     23,  25257,2,20170616,0053, 24.2587, 142.4463, 2928,    202.7,  17.2297,  34.7530,2,  34.7533,2,    202.4,2,     4.23,2,     5.00,2,     0.00,2,     0.34,2,   -999.0,9,   -999.0,9,-999.0000,9,  -999.00,      138
  49UF20170612,KS1705,  5133,  1,     22,  25256,3,20170616,0053, 24.2587, 142.4463, 2928,    253.5,  16.6717,  34.7033,2,  34.7054,2,    201.2,2,     5.35,2,     5.99,2,     0.00,2,     0.40,2,   -999.0,9,   -999.0,9,-999.0000,9,  -999.00,      136
  49UF20170612,KS1705,  5133,  1,     21,  25255,2,20170616,0053, 24.2587, 142.4463, 2928,    304.9,  15.9575,  34.6421,2,  34.6417,2,    197.6,2,     7.37,2,     7.51,2,     0.00,2,     0.50,2,   -999.0,9,   -999.0,9,-999.0000,9,  -999.00,      134
  49UF20170612,KS1705,  5133,  1,     20,  24270,2,20170616,0053, 24.2587, 142.4463, 2928,    404.5,  13.0721,  34.4144,2,  34.4160,2,    186.0,2,    15.65,2,    13.09,2,     0.00,2,     0.90,2,   -999.0,9,   -999.0,9,-999.0000,9,  -999.00,      132
  49UF20170612,KS1705,  5133,  1,     19,  25253,2,20170616,0053, 24.2587, 142.4463, 2928,    506.0,  10.3931,  34.2484,2,  34.2518,2,    168.3,6,    29.92,6,    19.28,6,     0.00,6,     1.37,6,   -999.0,9,   -999.0,9,-999.0000,9,  -999.00,      129
  49UF20170612,KS1705,  5133,  1,     14,  25248,2,20170616,0053, 24.2587, 142.4463, 2928,    607.3,   7.7282,  34.1083,2,  34.1092,2,    144.2,2,    48.26,2,    26.10,2,     0.00,2,     1.89,2,   -999.0,9,   -999.0,9,-999.0000,9,  -999.00,      126
  49UF20170612,KS1705,  5133,  1,     15,  25249,2,20170616,0053, 24.2587, 142.4463, 2928,    607.7,   7.7266,  34.1086,2,  34.1087,2,    144.4,2,    48.24,2,    26.22,2,     0.00,2,     1.89,2,   -999.0,9,   -999.0,9,-999.0000,9,  -999.00,      126
  49UF20170612,KS1705,  5133,  1,     13,  25247,2,20170616,0053, 24.2587, 142.4463, 2928,    707.7,   6.0522,  34.0948,2,  34.0958,6,    111.8,2,    68.79,2,    32.19,2,     0.00,2,     2.32,2,   -999.0,9,   -999.0,9,-999.0000,9,  -999.00,      123
  49UF20170612,KS1705,  5133,  1,     12,  25246,2,20170616,0053, 24.2587, 142.4463, 2928,    807.8,   4.6814,  34.2018,2,  34.2028,2,     67.9,2,    95.12,2,    38.32,2,     0.00,2,     2.75,2,   -999.0,9,   -999.0,9,-999.0000,9,  -999.00,      121
  49UF20170612,KS1705,  5133,  1,     11,  25245,2,20170616,0053, 24.2587, 142.4463, 2928,    908.7,   4.0955,  34.2967,2,  34.2962,2,     51.4,2,   109.28,2,    40.41,2,     0.00,2,     2.91,2,   -999.0,9,   -999.0,9,-999.0000,9,  -999.00,      118
  49UF20170612,KS1705,  5133,  1,     10,  25244,2,20170616,0053, 24.2587, 142.4463, 2928,   1010.6,   3.5923,  34.3705,2,  34.3706,2,     47.9,2,   122.08,2,    41.36,2,     0.00,2,     2.97,2,   -999.0,9,   -999.0,9,-999.0000,9,  -999.00,      116
  49UF20170612,KS1705,  5133,  1,      6,  25240,2,20170616,0053, 24.2587, 142.4463, 2928,   1213.1,   3.0419,  34.4546,2,  34.4550,2,     53.8,6,   134.84,6,    41.60,6,     0.00,6,     2.96,6,   -999.0,9,   -999.0,9,-999.0000,9,  -999.00,      111
  49UF20170612,KS1705,  5133,  1,      5,  25239,2,20170616,0053, 24.2587, 142.4463, 2928,   1416.3,   2.6228,  34.5148,2,  34.5148,2,     67.1,2,   142.30,2,    41.14,2,     0.00,2,     2.91,2,   -999.0,9,   -999.0,9,-999.0000,9,  -999.00,      106
  49UF20170612,KS1705,  5133,  1,      4,  25238,3,20170616,0053, 24.2587, 142.4463, 2928,   1618.1,   2.3122,  34.5627,2,  34.5632,6,     83.8,2,   145.69,2,    40.04,2,     0.00,2,     2.84,2,   -999.0,9,   -999.0,9,-999.0000,9,  -999.00,      102
  49UF20170612,KS1705,  5133,  1,      2,  25236,2,20170616,0053, 24.2587, 142.4463, 2928,   1821.7,   2.0699,  34.5905,2,  34.5908,2,     93.3,2,   149.44,2,    39.57,2,     0.00,2,     2.79,2,   -999.0,9,   -999.0,9,-999.0000,9,  -999.00,       57
  49UF20170612,KS1705,  5133,  1,      3,  25237,2,20170616,0053, 24.2587, 142.4463, 2928,   1822.8,   2.0690,  34.5910,2,  34.5910,2,     93.2,2,   149.09,2,    39.74,2,     0.00,2,     2.79,2,   -999.0,9,   -999.0,9,-999.0000,9,  -999.00,       58
  49UF20170612,KS1705,  5133,  1,      1,  25235,2,20170616,0053, 24.2587, 142.4463, 2928,   2024.9,   1.9227,  34.6146,2,  34.6149,2,    105.6,2,   148.90,2,    38.88,2,     0.00,2,     2.73,2,   -999.0,9,   -999.0,9,-999.0000,9,  -999.00,       53
  49UF20170612,KS1705,  5135,  1,     99,     99,2,20170616,0948, 24.2455, 141.1965, 1842,      0.0,  28.2423,  34.8351,2,-999.0000,9,    200.1,2,     1.24,2,     0.05,2,     0.01,2,     0.01,2,   -999.0,9,   -999.0,9,-999.0000,9,  -999.00,     1013
  49UF20170612,KS1705,  5135,  1,     36,  25270,3,20170616,0948, 24.2455, 141.1965, 1842,     11.5,  27.9707,  34.8602,2,-999.0000,9,    203.5,2,     1.26,2,     0.00,2,     0.00,2,     0.01,2,   -999.0,9,   -999.0,9,-999.0000,9,  -999.00,     1037
  49UF20170612,KS1705,  5135,  1,     35,  25269,2,20170616,0948, 24.2455, 141.1965, 1842,     27.0,  26.7778,  34.8930,2,-999.0000,9,    207.3,2,     1.28,2,     0.00,2,     0.00,2,     0.01,2,   -999.0,9,   -999.0,9,-999.0000,9,  -999.00,     1036
  49UF20170612,KS1705,  5135,  1,     34,  25268,2,20170616,0948, 24.2455, 141.1965, 1842,     52.3,  24.0109,  35.0801,2,-999.0000,9,    219.1,2,     1.41,2,     0.00,2,     0.00,2,     0.01,2,   -999.0,9,   -999.0,9,-999.0000,9,  -999.00,     1032
  49UF20170612,KS1705,  5135,  1,     33,  25267,2,20170616,0948, 24.2455, 141.1965, 1842,     76.6,  22.4507,  35.1087,2,-999.0000,9,    224.0,2,     1.47,2,     0.00,2,     0.00,2,     0.01,2,   -999.0,9,   -999.0,9,-999.0000,9,  -999.00,     1031
  49UF20170612,KS1705,  5135,  1,     32,  25266,2,20170616,0948, 24.2455, 141.1965, 1842,    102.0,  21.3579,  35.0816,2,-999.0000,9,    218.2,6,     1.65,6,     0.03,6,     0.00,6,     0.03,6,   -999.0,9,   -999.0,9,-999.0000,9,  -999.00,     1030
  49UF20170612,KS1705,  5135,  1,     31,  25265,2,20170616,0948, 24.2455, 141.1965, 1842,    127.7,  20.7564,  35.0504,2,-999.0000,9,    214.5,2,     1.75,2,     0.17,2,     0.07,2,     0.04,2,   -999.0,9,   -999.0,9,-999.0000,9,  -999.00,     1029
  49UF20170612,KS1705,  5135,  1,     27,  25261,2,20170616,0948, 24.2455, 141.1965, 1842,    152.4,  20.5994,  35.0368,2,-999.0000,9,    213.2,2,     1.85,2,     0.40,2,     0.08,2,     0.06,2,   -999.0,9,   -999.0,9,-999.0000,9,  -999.00,     1028
  49UF20170612,KS1705,  5135,  1,     26,  25260,2,20170616,0948, 24.2455, 141.1965, 1842,    203.3,  19.2997,  34.9311,2,-999.0000,9,    208.3,2,     2.57,2,     2.06,2,     0.02,2,     0.16,2,   -999.0,9,   -999.0,9,-999.0000,9,  -999.00,     1027
  49UF20170612,KS1705,  5135,  1,     25,  25259,2,20170616,0948, 24.2455, 141.1965, 1842,    253.7,  18.4111,  34.8610,2,-999.0000,9,    208.1,2,     3.19,2,     3.02,2,     0.01,2,     0.21,2,   -999.0,9,   -999.0,9,-999.0000,9,  -999.00,     1025
  49UF20170612,KS1705,  5135,  1,     24,  25258,2,20170616,0948, 24.2455, 141.1965, 1842,    304.5,  17.4802,  34.7774,2,-999.0000,9,    204.3,2,     4.14,2,     4.52,2,     0.00,2,     0.31,2,   -999.0,9,   -999.0,9,-999.0000,9,  -999.00,     1024
  49UF20170612,KS1705,  5135,  1,     22,  25256,2,20170616,0948, 24.2455, 141.1965, 1842,    404.1,  15.7788,  34.6222,2,-999.0000,9,    197.1,2,     7.68,2,     7.74,2,     0.00,2,     0.53,2,   -999.0,9,   -999.0,9,-999.0000,9,  -999.00,     1021
  49UF20170612,KS1705,  5135,  1,     23,  25257,2,20170616,0948, 24.2455, 141.1965, 1842,    405.6,  15.6403,  34.6114,2,-999.0000,9,    197.1,2,     7.64,2,     7.76,2,     0.00,2,     0.52,2,   -999.0,9,   -999.0,9,-999.0000,9,  -999.00,     1021
  49UF20170612,KS1705,  5135,  1,     18,  25252,2,20170616,0948, 24.2455, 141.1965, 1842,    505.5,  12.1404,  34.3432,2,-999.0000,9,    183.8,2,    19.18,2,    14.84,2,     0.00,2,     1.04,2,   -999.0,9,   -999.0,9,-999.0000,9,  -999.00,     1018
  49UF20170612,KS1705,  5135,  1,     17,  25251,2,20170616,0948, 24.2455, 141.1965, 1842,    607.0,   8.7874,  34.1757,2,-999.0000,9,    147.2,2,    41.42,2,    23.97,2,     0.00,2,     1.72,2,   -999.0,9,   -999.0,9,-999.0000,9,  -999.00,     1016
  49UF20170612,KS1705,  5135,  1,     16,  25250,3,20170616,0948, 24.2455, 141.1965, 1842,    706.2,   6.8867,  34.1233,2,-999.0000,9,    115.0,2,    59.29,2,    30.54,2,     0.00,2,     2.19,2,   -999.0,9,   -999.0,9,-999.0000,9,  -999.00,     1014
  49UF20170612,KS1705,  5135,  1,     15,  25249,2,20170616,0948, 24.2455, 141.1965, 1842,    808.8,   5.7198,  34.1528,2,-999.0000,9,     90.1,2,    76.78,2,    34.73,2,     0.00,2,     2.50,2,   -999.0,9,   -999.0,9,-999.0000,9,  -999.00,     1011
  49UF20170612,KS1705,  5135,  1,     14,  25248,2,20170616,0948, 24.2455, 141.1965, 1842,    908.9,   4.6760,  34.2372,2,-999.0000,9,     67.3,2,    97.54,2,    38.20,2,     0.00,2,     2.75,2,   -999.0,9,   -999.0,9,-999.0000,9,  -999.00,     1009
  49UF20170612,KS1705,  5135,  1,     13,  25247,2,20170616,0948, 24.2455, 141.1965, 1842,   1010.2,   4.1414,  34.2974,2,-999.0000,9,     56.2,2,   109.38,2,    40.10,2,     0.00,2,     2.87,2,   -999.0,9,   -999.0,9,-999.0000,9,  -999.00,     1006
  49UF20170612,KS1705,  5135,  1,      9,  25243,2,20170616,0948, 24.2455, 141.1965, 1842,   1212.2,   3.1622,  34.4302,2,-999.0000,9,     56.2,2,   131.98,2,    41.27,2,     0.00,2,     2.96,2,   -999.0,9,   -999.0,9,-999.0000,9,  -999.00,     1002
  49UF20170612,KS1705,  5135,  1,      8,  25242,2,20170616,0948, 24.2455, 141.1965, 1842,   1418.1,   2.7239,  34.4984,2,-999.0000,9,     70.0,6,   139.29,6,    40.78,6,     0.00,6,     2.90,6,   -999.0,9,   -999.0,9,-999.0000,9,  -999.00,      958
  49UF20170612,KS1705,  5135,  1,      6,  25240,2,20170616,0948, 24.2455, 141.1965, 1842,   1620.4,   2.4038,  34.5517,2,-999.0000,9,     86.7,2,   142.17,2,    39.78,2,     0.00,2,     2.82,2,   -999.0,9,   -999.0,9,-999.0000,9,  -999.00,      953
  49UF20170612,KS1705,  5135,  1,      7,  25241,2,20170616,0948, 24.2455, 141.1965, 1842,   1621.5,   2.4039,  34.5517,2,-999.0000,9,     86.8,2,   141.92,2,    39.89,2,     0.00,2,     2.83,2,   -999.0,9,   -999.0,9,-999.0000,9,  -999.00,      953
  49UF20170612,KS1705,  5135,  1,      4,  25238,2,20170616,0948, 24.2455, 141.1965, 1842,   1836.9,   2.1016,  34.6001,2,-999.0000,9,    106.6,2,   142.95,2,    38.72,2,     0.00,2,     2.73,2,   -999.0,9,   -999.0,9,-999.0000,9,  -999.00,      948