BOTTLE,20200102PRINUNIVRMK
EXPOCODE,SECT_ID,STNNBR,CASTNO,SAMPNO,BTLNBR,BTLNBR_FLAG_W,DATE,TIME,LATITUDE,LONGITUDE,DEPTH,CTDPRS,CTDTMP,CTDSAL,CTDSAL_FLAG_W,SALNTY,SALNTY_FLAG_W,OXYGEN,OXYGEN_FLAG_W,SILCAT,SILCAT_FLAG_W,NITRAT,NITRAT_FLAG_W,NITRIT,NITRIT_FLAG_W,PHSPHT,PHSPHT_FLAG_W,TCARBN,TCARBN_FLAG_W,ALKALI,ALKALI_FLAG_W,PH_TOT,PH_TOT_FLAG_W,PH_TMP,BTL_TIME
,,,,,,,,,,,METERS,DBAR,ITS-90,PSS-78,,PSS-78,,UMOL/KG,,UMOL/KG,,UMOL/KG,,UMOL/KG,,UMOL/KG,,UMOL/KG,,UMOL/KG,,,,DEG C,
  49UF20170612,KS1705,  5141,  1,     99,     99,2,20170618,1638, 23.9873, 136.9950, 4031,      0.0,  27.7287,  34.6815,2,  34.6850,2,    200.6,2,     1.21,2,     0.01,2,     0.00,2,     0.02,2,   1958.9,2,   2280.8,2,   8.0950,2,    25.00,     1810
  49UF20170612,KS1705,  5141,  1,     36,  25270,2,20170618,1638, 23.9873, 136.9950, 4031,     11.5,  27.6162,  34.7037,2,  34.7050,2,    201.2,2,     1.18,2,     0.00,2,     0.00,2,     0.00,2,   1959.7,2,   2283.4,2,   8.0926,2,    25.00,     1837
  49UF20170612,KS1705,  5141,  1,     35,  25269,2,20170618,1638, 23.9873, 136.9950, 4031,     26.5,  26.7999,  34.8535,2,-999.0000,9,    206.1,2,     1.21,2,     0.00,2,     0.00,2,     0.00,2,   1973.6,2,   2292.1,2,   8.0915,2,    25.00,     1835
  49UF20170612,KS1705,  5141,  1,     34,  25268,2,20170618,1638, 23.9873, 136.9950, 4031,     50.3,  24.4385,  35.1439,2,  35.1475,2,    217.7,2,     1.29,2,     0.00,2,     0.00,2,     0.01,2,   1991.7,2,   2311.8,2,   8.0879,2,    25.00,     1831
  49UF20170612,KS1705,  5141,  1,     30,  25264,2,20170618,1638, 23.9873, 136.9950, 4031,     76.1,  22.4987,  35.1033,2,  35.1026,2,    211.0,2,     1.47,2,     0.00,2,     0.00,2,     0.02,2,   2003.5,2,   2307.2,2,   8.0576,2,    25.00,     1829
  49UF20170612,KS1705,  5141,  1,     29,  25263,2,20170618,1638, 23.9873, 136.9950, 4031,    102.3,  21.5223,  35.0377,2,  35.0367,2,    213.8,2,     1.63,2,     0.04,2,     0.01,2,     0.03,2,   2007.6,2,   2303.2,2,   8.0440,2,    25.00,     1827
  49UF20170612,KS1705,  5141,  1,     28,  25262,2,20170618,1638, 23.9873, 136.9950, 4031,    126.6,  20.4054,  34.9713,2,  34.9728,2,    200.5,2,     2.17,2,     1.74,2,     0.05,2,     0.13,2,   2025.0,2,   2297.4,2,   8.0063,3,    25.00,     1826
  49UF20170612,KS1705,  5141,  1,     27,  25261,2,20170618,1638, 23.9873, 136.9950, 4031,    152.8,  19.6715,  34.9573,2,-999.0000,9,    209.8,2,     2.25,2,     1.48,2,     0.07,2,     0.12,2,   2024.6,2,   2297.3,2,   8.0063,2,    25.00,     1825
  49UF20170612,KS1705,  5141,  1,     26,  25260,2,20170618,1638, 23.9873, 136.9950, 4031,    202.2,  18.4707,  34.8875,2,  34.8865,2,    214.2,2,     2.76,2,     2.33,2,     0.01,2,     0.17,2,   2028.5,2,   2292.0,2,   7.9919,2,    25.00,     1823
  49UF20170612,KS1705,  5141,  1,     25,  25259,2,20170618,1638, 23.9873, 136.9950, 4031,    253.4,  17.8020,  34.8195,2,  34.8230,2,    208.5,2,     3.63,2,     3.74,2,     0.01,2,     0.25,2,   2033.6,2,   2287.9,2,   7.9711,2,    25.00,     1821
  49UF20170612,KS1705,  5141,  1,     24,  25258,2,20170618,1638, 23.9873, 136.9950, 4031,    253.5,  17.8085,  34.8190,2,  34.8230,2,    208.3,2,     3.61,2,     3.70,2,     0.01,2,     0.25,2,   2039.4,2,   2286.0,2,   7.9691,2,    25.00,     1820
  49UF20170612,KS1705,  5141,  1,     23,  25257,2,20170618,1638, 23.9873, 136.9950, 4031,    302.7,  16.7036,  34.7098,2,  34.7105,2,    200.7,2,     5.67,2,     6.04,2,     0.00,2,     0.40,2,   2051.3,2,   2281.6,2,   7.9315,2,    25.00,     1818
  49UF20170612,KS1705,  5141,  1,     22,  25256,2,20170618,1638, 23.9873, 136.9950, 4031,    404.9,  14.1978,  34.4915,2,  34.4929,2,    192.8,2,    11.48,2,    10.58,2,     0.00,2,     0.73,2,   2083.8,2,   2275.2,2,   7.8553,2,    25.00,     1815
  49UF20170612,KS1705,  5141,  1,     21,  25255,2,20170618,1638, 23.9873, 136.9950, 4031,    505.1,  11.3175,  34.2819,2,  34.2815,2,    178.0,2,    21.23,2,    16.61,2,     0.00,2,     1.16,2,   2124.1,2,   2272.7,2,   7.7584,2,    25.00,     1812
  49UF20170612,KS1705,  5141,  1,     20,  24270,2,20170618,1638, 23.9873, 136.9950, 4031,    605.4,   8.7803,  34.1493,2,  34.1478,2,    152.1,6,    38.10,6,    23.62,6,     0.00,6,     1.68,6,   2174.7,2,   2282.1,2,   7.6503,2,    25.00,     1810
  49UF20170612,KS1705,  5141,  1,     19,  25253,2,20170618,1638, 23.9873, 136.9950, 4031,    706.1,   6.6413,  34.1179,2,  34.1179,2,    114.8,2,    62.04,2,    30.75,2,     0.00,2,     2.22,2,   2233.0,6,   2303.3,6,   7.5358,2,    25.00,     1807
  49UF20170612,KS1705,  5141,  1,     18,  25252,2,20170618,1638, 23.9873, 136.9950, 4031,    807.4,   5.2279,  34.1741,2,  34.1756,2,     82.6,2,    85.38,2,    35.90,2,     0.00,2,     2.59,2,   2283.5,2,   2324.6,2,   7.4527,6,    25.00,     1804
  49UF20170612,KS1705,  5141,  1,     17,  25251,2,20170618,1638, 23.9873, 136.9950, 4031,    909.0,   4.4693,  34.2503,2,  34.2523,2,     64.0,2,   101.65,2,    38.83,2,     0.00,2,     2.78,2,   2312.6,2,   2339.2,2,   7.4180,2,    25.00,     1801
  49UF20170612,KS1705,  5141,  1,     16,  25250,3,20170618,1638, 23.9873, 136.9950, 4031,   1011.6,   3.9430,  34.3439,2,  34.3443,2,     57.2,2,   112.87,2,    39.98,2,     0.00,2,     2.87,2,   2330.7,2,   2357.1,2,   7.4156,2,    25.00,     1758
  49UF20170612,KS1705,  5141,  1,     15,  25249,2,20170618,1638, 23.9873, 136.9950, 4031,   1212.4,   3.0501,  34.4505,2,  34.4500,2,     58.9,2,   133.38,2,    41.16,2,     0.00,2,     2.93,2,   2352.6,2,   2382.9,2,   7.4218,2,    25.00,     1753
  49UF20170612,KS1705,  5141,  1,     14,  25248,2,20170618,1638, 23.9873, 136.9950, 4031,   1414.9,   2.6042,  34.5193,2,  34.5189,2,     74.1,2,   140.82,2,    40.36,2,     0.00,2,     2.87,2,   2350.3,2,   2398.7,2,   7.4535,2,    25.00,     1748
  49UF20170612,KS1705,  5141,  1,     13,  25247,2,20170618,1638, 23.9873, 136.9950, 4031,   1617.1,   2.3249,  34.5689,2,  34.5689,2,     93.5,2,   141.23,2,    39.35,2,     0.00,2,     2.78,2,   2347.8,6,   2404.7,6,   7.4872,2,    25.00,     1742
  49UF20170612,KS1705,  5141,  1,     12,  25246,2,20170618,1638, 23.9873, 136.9950, 4031,   1821.2,   2.1274,  34.5969,2,  34.5972,2,    105.3,2,   142.39,2,    38.59,2,     0.00,2,     2.73,2,   2341.9,2,   2408.8,2,   7.5092,6,    25.00,     1737
  49UF20170612,KS1705,  5141,  1,     11,  25245,2,20170618,1638, 23.9873, 136.9950, 4031,   2024.0,   1.9842,  34.6198,2,  34.6206,2,    115.7,2,   142.24,2,    38.10,2,     0.00,2,     2.68,2,   2337.5,2,   2411.2,2,   7.5302,2,    25.00,     1732
  49UF20170612,KS1705,  5141,  1,     10,  25244,2,20170618,1638, 23.9873, 136.9950, 4031,   2276.8,   1.8183,  34.6384,2,  34.6398,2,    125.5,6,   142.85,6,    37.66,6,     0.00,6,     2.64,6,   2335.9,2,   2414.9,2,   7.5456,2,    25.00,     1725
  49UF20170612,KS1705,  5141,  1,      8,  25242,2,20170618,1638, 23.9873, 136.9950, 4031,   2532.6,   1.7407,  34.6481,2,  34.6492,2,    130.8,2,   143.22,2,    37.21,2,     0.00,2,     2.60,2,   2331.6,2,   2411.6,2,   7.5542,2,    25.00,     1719
  49UF20170612,KS1705,  5141,  1,      9,  25243,2,20170618,1638, 23.9873, 136.9950, 4031,   2533.7,   1.7391,  34.6484,2,  34.6488,2,    130.8,2,   143.10,2,    37.27,2,     0.00,2,     2.60,2,   2332.6,2,   2414.4,2,   7.5552,2,    25.00,     1719
  49UF20170612,KS1705,  5141,  1,      7,  25241,2,20170618,1638, 23.9873, 136.9950, 4031,   2787.9,   1.6703,  34.6573,2,  34.6570,2,    136.3,2,   143.10,2,    36.97,2,     0.00,2,     2.58,2,   2332.8,6,   2415.2,6,   7.5628,2,    25.00,     1712
  49UF20170612,KS1705,  5141,  1,      6,  25240,2,20170618,1638, 23.9873, 136.9950, 4031,   3040.9,   1.6309,  34.6633,2,  34.6657,4,    140.4,2,   142.54,2,    36.68,2,     0.00,2,     2.56,2,   2327.5,2,   2415.0,2,   7.5689,6,    25.00,     1706
  49UF20170612,KS1705,  5141,  1,      5,  25239,2,20170618,1638, 23.9873, 136.9950, 4031,   3298.2,   1.5879,  34.6701,2,  34.6699,2,    145.0,2,   142.17,2,    36.45,2,     0.00,2,     2.53,2,   2326.1,2,   2416.7,2,   7.5773,2,    25.00,     1659
  49UF20170612,KS1705,  5141,  1,      4,  25238,2,20170618,1638, 23.9873, 136.9950, 4031,   3553.4,   1.5472,  34.6761,2,  34.6761,2,    150.2,2,   141.68,2,    36.05,2,     0.00,2,     2.51,2,   2324.6,2,   2417.5,2,   7.5830,2,    25.00,     1653
  49UF20170612,KS1705,  5141,  1,      3,  25237,2,20170618,1638, 23.9873, 136.9950, 4031,   3809.1,   1.5167,  34.6810,2,  34.6813,6,    154.3,6,   140.89,6,    35.89,6,     0.00,6,     2.49,6,   2319.5,2,   2414.1,2,   7.5914,2,    25.00,     1647
  49UF20170612,KS1705,  5141,  1,      2,  25236,2,20170618,1638, 23.9873, 136.9950, 4031,   4064.1,   1.5189,  34.6833,2,  34.6850,2,    156.4,2,   140.76,2,    35.75,2,     0.00,2,     2.48,2,   2320.9,2,   2414.1,2,   7.5927,2,    25.00,     1641
  49UF20170612,KS1705,  5141,  1,      1,  25235,2,20170618,1638, 23.9873, 136.9950, 4031,   4146.4,   1.5277,  34.6834,2,  34.6839,2,    155.7,2,   140.54,2,    35.78,2,     0.00,2,     2.48,2,   2320.0,2,   2415.4,2,   7.5934,2,    25.00,     1638
  49UF20170612,KS1705,  5142,  1,     99,     99,2,20170619,0316, 24.2727, 136.1947, 4148,      0.0,  28.5309,  34.6664,2,-999.0000,9,    197.3,2,     1.19,2,     0.03,2,     0.00,2,     0.02,2,   -999.0,9,   -999.0,9,-999.0000,9,  -999.00,      405
  49UF20170612,KS1705,  5142,  1,     36,  25270,2,20170619,0316, 24.2727, 136.1947, 4148,     11.2,  27.9538,  34.7604,2,-999.0000,9,    199.2,2,     1.15,2,     0.00,2,     0.00,2,     0.01,2,   -999.0,9,   -999.0,9,-999.0000,9,  -999.00,      424
  49UF20170612,KS1705,  5142,  1,     35,  25269,2,20170619,0316, 24.2727, 136.1947, 4148,     27.2,  26.0783,  35.0156,2,-999.0000,9,    210.2,2,     1.15,2,     0.00,2,     0.00,2,     0.01,2,   -999.0,9,   -999.0,9,-999.0000,9,  -999.00,      423
  49UF20170612,KS1705,  5142,  1,     34,  25268,3,20170619,0316, 24.2727, 136.1947, 4148,     51.4,  24.4669,  35.1789,2,-999.0000,9,    217.7,6,     1.19,6,     0.00,6,     0.00,6,     0.01,6,   -999.0,9,   -999.0,9,-999.0000,9,  -999.00,      419
  49UF20170612,KS1705,  5142,  1,     30,  25264,2,20170619,0316, 24.2727, 136.1947, 4148,     77.0,  24.0936,  35.1802,2,-999.0000,9,    213.8,2,     1.19,2,     0.01,2,     0.00,2,     0.01,2,   -999.0,9,   -999.0,9,-999.0000,9,  -999.00,      417
  49UF20170612,KS1705,  5142,  1,     28,  25262,2,20170619,0316, 24.2727, 136.1947, 4148,    101.9,  23.7615,  35.1770,2,-999.0000,9,    208.4,2,     1.24,2,     0.00,2,     0.00,2,     0.01,2,   -999.0,9,   -999.0,9,-999.0000,9,  -999.00,      416
  49UF20170612,KS1705,  5142,  1,     29,  25263,2,20170619,0316, 24.2727, 136.1947, 4148,    102.5,  23.7498,  35.1773,2,-999.0000,9,    208.6,2,     1.24,2,     0.00,2,     0.00,2,     0.01,2,   -999.0,9,   -999.0,9,-999.0000,9,  -999.00,      416
  49UF20170612,KS1705,  5142,  1,     27,  25261,2,20170619,0316, 24.2727, 136.1947, 4148,    126.8,  23.4986,  35.1837,2,-999.0000,9,    205.2,2,     1.24,2,     0.00,2,     0.06,2,     0.02,2,   -999.0,9,   -999.0,9,-999.0000,9,  -999.00,      414
  49UF20170612,KS1705,  5142,  1,     26,  25260,2,20170619,0316, 24.2727, 136.1947, 4148,    153.5,  22.7035,  35.1333,2,-999.0000,9,    200.7,2,     1.46,2,     0.59,2,     0.04,2,     0.06,2,   -999.0,9,   -999.0,9,-999.0000,9,  -999.00,      413
  49UF20170612,KS1705,  5142,  1,     25,  25259,2,20170619,0316, 24.2727, 136.1947, 4148,    205.8,  20.4031,  34.9990,2,-999.0000,9,    203.6,2,     2.16,2,     1.43,2,     0.02,2,     0.11,2,   -999.0,9,   -999.0,9,-999.0000,9,  -999.00,      411
  49UF20170612,KS1705,  5142,  1,     21,  25255,2,20170619,0316, 24.2727, 136.1947, 4148,    254.1,  18.7318,  34.8737,2,-999.0000,9,    202.6,2,     2.95,2,     2.96,2,     0.01,2,     0.21,2,   -999.0,9,   -999.0,9,-999.0000,9,  -999.00,      409
  49UF20170612,KS1705,  5142,  1,     20,  24270,2,20170619,0316, 24.2727, 136.1947, 4148,    304.2,  17.4867,  34.7688,2,-999.0000,9,    200.4,2,     4.09,2,     4.85,2,     0.00,2,     0.32,2,   -999.0,9,   -999.0,9,-999.0000,9,  -999.00,      407
  49UF20170612,KS1705,  5142,  1,     19,  25253,2,20170619,0316, 24.2727, 136.1947, 4148,    405.8,  15.3942,  34.5870,2,-999.0000,9,    196.7,2,     7.97,2,     8.23,2,     0.00,2,     0.55,2,   -999.0,9,   -999.0,9,-999.0000,9,  -999.00,      404
  49UF20170612,KS1705,  5142,  1,     18,  25252,2,20170619,0316, 24.2727, 136.1947, 4148,    506.6,  12.7123,  34.3787,2,-999.0000,9,    185.3,2,    16.17,2,    13.63,2,     0.00,2,     0.95,2,   -999.0,9,   -999.0,9,-999.0000,9,  -999.00,      400
  49UF20170612,KS1705,  5142,  1,     17,  25251,2,20170619,0316, 24.2727, 136.1947, 4148,    607.5,   9.1885,  34.1755,2,-999.0000,9,    153.5,2,    35.61,2,    22.75,2,     0.00,2,     1.62,2,   -999.0,9,   -999.0,9,-999.0000,9,  -999.00,      357
  49UF20170612,KS1705,  5142,  1,     16,  25250,3,20170619,0316, 24.2727, 136.1947, 4148,    708.6,   6.7662,  34.1279,2,-999.0000,9,    113.3,2,    59.96,2,    30.67,2,     0.00,2,     2.21,2,   -999.0,9,   -999.0,9,-999.0000,9,  -999.00,      354
  49UF20170612,KS1705,  5142,  1,     12,  25246,2,20170619,0316, 24.2727, 136.1947, 4148,    810.2,   5.4816,  34.1713,2,-999.0000,9,     83.3,2,    80.43,2,    35.68,2,     0.00,2,     2.57,2,   -999.0,9,   -999.0,9,-999.0000,9,  -999.00,      350
  49UF20170612,KS1705,  5142,  1,     11,  25245,2,20170619,0316, 24.2727, 136.1947, 4148,    909.0,   4.7067,  34.2403,2,-999.0000,9,     66.1,2,    96.25,2,    38.48,2,     0.00,2,     2.76,2,   -999.0,9,   -999.0,9,-999.0000,9,  -999.00,      346
  49UF20170612,KS1705,  5142,  1,     10,  25244,2,20170619,0316, 24.2727, 136.1947, 4148,   1009.5,   4.0848,  34.3312,2,-999.0000,9,     57.6,2,   110.24,2,    40.19,2,     0.00,2,     2.87,2,   -999.0,9,   -999.0,9,-999.0000,9,  -999.00,      343
  49UF20170612,KS1705,  5142,  1,      9,  25243,2,20170619,0316, 24.2727, 136.1947, 4148,   1009.8,   4.0851,  34.3312,2,-999.0000,9,     57.4,2,   110.30,2,    40.17,2,     0.00,2,     2.87,2,   -999.0,9,   -999.0,9,-999.0000,9,  -999.00,      343
  49UF20170612,KS1705,  5142,  1,      8,  25242,2,20170619,0316, 24.2727, 136.1947, 4148,   1212.4,   3.1291,  34.4484,2,-999.0000,9,     61.0,2,   131.87,2,    40.93,2,     0.00,2,     2.92,2,   -999.0,9,   -999.0,9,-999.0000,9,  -999.00,      338
  49UF20170612,KS1705,  5142,  1,      7,  25241,2,20170619,0316, 24.2727, 136.1947, 4148,   1415.9,   2.7223,  34.5190,2,-999.0000,9,     77.5,2,   137.58,2,    40.34,2,     0.00,2,     2.86,2,   -999.0,9,   -999.0,9,-999.0000,9,  -999.00,      334
  49UF20170612,KS1705,  5142,  1,      3,  25237,2,20170619,0316, 24.2727, 136.1947, 4148,   1618.3,   2.4185,  34.5606,2,-999.0000,9,     91.2,2,   140.70,2,    39.37,2,     0.00,2,     2.79,2,   -999.0,9,   -999.0,9,-999.0000,9,  -999.00,      325
  49UF20170612,KS1705,  5142,  1,      2,  25236,2,20170619,0316, 24.2727, 136.1947, 4148,   1821.1,   2.1625,  34.5929,2,-999.0000,9,    104.0,2,   142.42,2,    38.96,2,     0.00,2,     2.74,2,   -999.0,9,   -999.0,9,-999.0000,9,  -999.00,      320
  49UF20170612,KS1705,  5142,  1,      1,  25235,2,20170619,0316, 24.2727, 136.1947, 4148,   2020.8,   2.0109,  34.6139,2,-999.0000,9,    113.4,6,   142.59,6,    38.43,6,     0.00,6,     2.69,6,   -999.0,9,   -999.0,9,-999.0000,9,  -999.00,      316