BOTTLE,20200102PRINUNIVRMK
EXPOCODE,SECT_ID,STNNBR,CASTNO,SAMPNO,BTLNBR,BTLNBR_FLAG_W,DATE,TIME,LATITUDE,LONGITUDE,DEPTH,CTDPRS,CTDTMP,CTDSAL,CTDSAL_FLAG_W,SALNTY,SALNTY_FLAG_W,OXYGEN,OXYGEN_FLAG_W,SILCAT,SILCAT_FLAG_W,NITRAT,NITRAT_FLAG_W,NITRIT,NITRIT_FLAG_W,PHSPHT,PHSPHT_FLAG_W,TCARBN,TCARBN_FLAG_W,ALKALI,ALKALI_FLAG_W,PH_TOT,PH_TOT_FLAG_W,PH_TMP,BTL_TIME
,,,,,,,,,,,METERS,DBAR,ITS-90,PSS-78,,PSS-78,,UMOL/KG,,UMOL/KG,,UMOL/KG,,UMOL/KG,,UMOL/KG,,UMOL/KG,,UMOL/KG,,,,DEG C,
  49UF20170612,KS1705,  5176,  1,     99,     99,2,20170705,1254, 28.1117, 127.3503,  992,      0.0,  29.5548,  34.2810,2,-999.0000,9,    197.4,2,     1.52,2,     0.03,2,     0.00,2,     0.01,2,   -999.0,9,   -999.0,9,-999.0000,9,  -999.00,     1300
  49UF20170612,KS1705,  5176,  1,     36,  25270,3,20170705,1254, 28.1117, 127.3503,  992,     11.4,  29.4557,  34.3024,2,  34.3152,4,    198.8,2,     1.46,2,     0.01,2,     0.00,2,     0.01,2,   -999.0,9,   -999.0,9,-999.0000,9,  -999.00,     1331
  49UF20170612,KS1705,  5176,  1,     35,  25269,2,20170705,1254, 28.1117, 127.3503,  992,     21.8,  28.9414,  34.3613,2,  34.3629,2,    202.0,2,     1.41,2,     0.00,2,     0.00,2,     0.01,2,   -999.0,9,   -999.0,9,-999.0000,9,  -999.00,     1330
  49UF20170612,KS1705,  5176,  1,     34,  25268,2,20170705,1254, 28.1117, 127.3503,  992,     31.8,  28.7220,  34.3782,2,  34.4006,4,    204.9,2,     1.35,2,     0.00,2,     0.00,2,     0.02,2,   -999.0,9,   -999.0,9,-999.0000,9,  -999.00,     1328
  49UF20170612,KS1705,  5176,  1,     30,  25264,2,20170705,1254, 28.1117, 127.3503,  992,     51.4,  26.7876,  34.4963,2,  34.5002,2,    207.1,2,     1.37,2,     0.00,2,     0.00,2,     0.02,2,   -999.0,9,   -999.0,9,-999.0000,9,  -999.00,     1325
  49UF20170612,KS1705,  5176,  1,     28,  25262,2,20170705,1254, 28.1117, 127.3503,  992,     77.4,  25.7779,  34.8153,2,  34.8165,2,    203.1,2,     1.37,2,     0.00,2,     0.01,2,     0.04,2,   -999.0,9,   -999.0,9,-999.0000,9,  -999.00,     1324
  49UF20170612,KS1705,  5176,  1,     29,  25263,2,20170705,1254, 28.1117, 127.3503,  992,     77.6,  25.7774,  34.8153,2,  34.8161,2,    203.4,2,     1.41,2,     0.02,2,     0.01,2,     0.05,2,   -999.0,9,   -999.0,9,-999.0000,9,  -999.00,     1324
  49UF20170612,KS1705,  5176,  1,     24,  25258,2,20170705,1254, 28.1117, 127.3503,  992,    102.7,  25.0019,  34.9197,2,  34.9259,2,    206.6,2,     1.29,2,     0.00,2,     0.00,2,     0.03,2,   -999.0,9,   -999.0,9,-999.0000,9,  -999.00,     1322
  49UF20170612,KS1705,  5176,  1,     23,  25257,2,20170705,1254, 28.1117, 127.3503,  992,    126.9,  23.8200,  35.0157,2,  35.0180,2,    202.5,2,     1.40,2,     0.14,2,     0.13,2,     0.05,2,   -999.0,9,   -999.0,9,-999.0000,9,  -999.00,     1321
  49UF20170612,KS1705,  5176,  1,     22,  25256,2,20170705,1254, 28.1117, 127.3503,  992,    155.4,  22.8329,  35.0382,2,  35.0377,2,    197.4,6,     1.55,6,     1.03,6,     0.04,6,     0.10,6,   -999.0,9,   -999.0,9,-999.0000,9,  -999.00,     1319
  49UF20170612,KS1705,  5176,  1,     18,  25252,3,20170705,1254, 28.1117, 127.3503,  992,    203.8,  20.3012,  34.9284,2,  34.9270,2,    186.1,2,     3.84,2,     3.68,2,     0.02,2,     0.29,2,   -999.0,9,   -999.0,9,-999.0000,9,  -999.00,     1318
  49UF20170612,KS1705,  5176,  1,     17,  25251,2,20170705,1254, 28.1117, 127.3503,  992,    252.8,  18.6148,  34.8379,2,  34.8411,2,    192.3,2,     4.12,2,     4.40,2,     0.01,2,     0.31,2,   -999.0,9,   -999.0,9,-999.0000,9,  -999.00,     1316
  49UF20170612,KS1705,  5176,  1,     16,  25250,2,20170705,1254, 28.1117, 127.3503,  992,    303.8,  17.0395,  34.7220,2,  34.7231,2,    191.1,2,     6.17,2,     6.49,2,     0.01,2,     0.44,2,   -999.0,9,   -999.0,9,-999.0000,9,  -999.00,     1314
  49UF20170612,KS1705,  5176,  1,     12,  25246,3,20170705,1254, 28.1117, 127.3503,  992,    406.3,  13.6945,  34.4789,2,  34.4851,4,    172.3,2,    15.96,2,    13.05,2,     0.00,2,     0.93,2,   -999.0,9,   -999.0,9,-999.0000,9,  -999.00,     1311
  49UF20170612,KS1705,  5176,  1,     11,  25245,2,20170705,1254, 28.1117, 127.3503,  992,    504.7,  10.8897,  34.3680,2,  34.3680,2,    139.1,2,    34.44,2,    21.15,2,     0.00,2,     1.53,2,   -999.0,9,   -999.0,9,-999.0000,9,  -999.00,     1308
  49UF20170612,KS1705,  5176,  1,     10,  25244,2,20170705,1254, 28.1117, 127.3503,  992,    605.3,   7.9099,  34.2863,2,  34.2858,2,    112.9,2,    59.07,2,    28.68,2,     0.00,2,     2.07,2,   -999.0,9,   -999.0,9,-999.0000,9,  -999.00,     1306
  49UF20170612,KS1705,  5176,  1,      6,  25240,2,20170705,1254, 28.1117, 127.3503,  992,    706.8,   6.0374,  34.3024,2,  34.3033,2,     88.1,2,    80.87,2,    34.12,2,     0.00,2,     2.47,2,   -999.0,9,   -999.0,9,-999.0000,9,  -999.00,     1303
  49UF20170612,KS1705,  5176,  1,      5,  25239,3,20170705,1254, 28.1117, 127.3503,  992,    809.2,   5.3038,  34.3598,2,  34.3602,2,     81.7,2,    94.78,2,    35.69,2,     0.00,2,     2.58,2,   -999.0,9,   -999.0,9,-999.0000,9,  -999.00,     1300
  49UF20170612,KS1705,  5176,  1,      3,  25237,2,20170705,1254, 28.1117, 127.3503,  992,    912.5,   4.8735,  34.3877,2,  34.3873,2,     77.8,2,   103.24,2,    36.60,2,     0.00,2,     2.65,2,   -999.0,9,   -999.0,9,-999.0000,9,  -999.00,     1257
  49UF20170612,KS1705,  5176,  1,      4,  25238,2,20170705,1254, 28.1117, 127.3503,  992,    913.4,   4.8708,  34.3879,2,  34.3869,2,     77.7,2,   103.22,2,    36.58,2,     0.00,2,     2.64,2,   -999.0,9,   -999.0,9,-999.0000,9,  -999.00,     1257
  49UF20170612,KS1705,  5176,  1,      2,  25236,2,20170705,1254, 28.1117, 127.3503,  992,    996.8,   4.2139,  34.4221,2,  34.4191,4,     74.8,6,   111.76,6,    38.03,6,     0.00,6,     2.73,6,   -999.0,9,   -999.0,9,-999.0000,9,  -999.00,     1254
  49UF20170612,KS1705,  5179,  1,     99,     99,2,20170705,1923, 27.8030, 127.7943,  948,      0.0,  27.3975,  34.5988,2,  34.6232,2,    204.4,2,     1.41,2,     0.05,2,     0.00,2,     0.02,2,   1966.9,2,   2275.6,2,   8.0802,2,    25.00,     1935
  49UF20170612,KS1705,  5179,  1,     34,  25268,2,20170705,1923, 27.8030, 127.7943,  948,     11.6,  26.7609,  34.6508,2,  34.6504,2,    206.7,2,     1.36,2,     0.06,2,     0.00,2,     0.01,2,   -999.0,9,   -999.0,9,-999.0000,9,  -999.00,     1957
  49UF20170612,KS1705,  5179,  1,     33,  25267,2,20170705,1923, 27.8030, 127.7943,  948,     21.8,  26.0276,  34.6757,2,  34.6724,2,    209.1,6,     1.37,6,     0.03,6,     0.00,6,     0.01,6,   -999.0,9,   -999.0,9,-999.0000,9,  -999.00,     1956
  49UF20170612,KS1705,  5179,  1,     31,  25265,2,20170705,1923, 27.8030, 127.7943,  948,     31.8,  25.2955,  34.6895,2,  34.6875,2,    212.2,2,     1.39,2,     0.08,2,     0.00,2,     0.02,2,   -999.0,9,   -999.0,9,-999.0000,9,  -999.00,     1954
  49UF20170612,KS1705,  5179,  1,     32,  25266,3,20170705,1923, 27.8030, 127.7943,  948,     31.9,  25.2564,  34.6969,2,  34.6893,2,    211.8,2,     1.42,2,     0.00,2,     0.00,2,     0.01,2,   -999.0,9,   -999.0,9,-999.0000,9,  -999.00,     1955
  49UF20170612,KS1705,  5179,  1,     27,  25261,2,20170705,1923, 27.8030, 127.7943,  948,     51.9,  24.6618,  34.7364,2,  34.7403,6,    211.5,2,     1.42,2,     0.06,2,     0.00,2,     0.02,2,   -999.0,9,   -999.0,9,-999.0000,9,  -999.00,     1951
  49UF20170612,KS1705,  5179,  1,     26,  25260,2,20170705,1923, 27.8030, 127.7943,  948,     77.3,  23.5946,  34.9039,2,  34.9034,2,    206.0,2,     1.55,2,     0.11,2,     0.05,2,     0.04,2,   -999.0,9,   -999.0,9,-999.0000,9,  -999.00,     1950
  49UF20170612,KS1705,  5179,  1,     25,  25259,2,20170705,1923, 27.8030, 127.7943,  948,    102.1,  22.8115,  34.9848,2,  34.9830,2,    202.6,2,     1.68,2,     0.67,2,     0.13,2,     0.08,2,   -999.0,9,   -999.0,9,-999.0000,9,  -999.00,     1948
  49UF20170612,KS1705,  5179,  1,     21,  25255,2,20170705,1923, 27.8030, 127.7943,  948,    127.0,  21.8661,  34.9947,2,  34.9931,2,    201.3,2,     1.90,2,     1.33,2,     0.04,2,     0.11,2,   -999.0,9,   -999.0,9,-999.0000,9,  -999.00,     1947
  49UF20170612,KS1705,  5179,  1,     20,  24270,2,20170705,1923, 27.8030, 127.7943,  948,    151.6,  21.3256,  34.9938,2,  34.9924,2,    202.3,2,     2.08,2,     1.55,2,     0.03,2,     0.12,2,   -999.0,9,   -999.0,9,-999.0000,9,  -999.00,     1945
  49UF20170612,KS1705,  5179,  1,     19,  25253,2,20170705,1923, 27.8030, 127.7943,  948,    202.4,  19.8712,  34.9216,2,  34.9204,2,    195.9,2,     3.06,2,     3.09,2,     0.02,2,     0.22,2,   -999.0,9,   -999.0,9,-999.0000,9,  -999.00,     1943
  49UF20170612,KS1705,  5179,  1,     15,  25249,2,20170705,1923, 27.8030, 127.7943,  948,    255.8,  18.9277,  34.8594,2,  34.8621,2,    194.6,2,     3.79,2,     4.04,2,     0.01,2,     0.28,2,   -999.0,9,   -999.0,9,-999.0000,9,  -999.00,     1942
  49UF20170612,KS1705,  5179,  1,     14,  25248,2,20170705,1923, 27.8030, 127.7943,  948,    305.5,  17.3261,  34.7456,2,  34.7449,2,    191.8,2,     6.28,2,     6.19,2,     0.01,2,     0.42,2,   -999.0,9,   -999.0,9,-999.0000,9,  -999.00,     1940
  49UF20170612,KS1705,  5179,  1,     13,  25247,2,20170705,1923, 27.8030, 127.7943,  948,    405.8,  15.5208,  34.6101,2,  34.6107,2,    185.7,2,    10.55,2,     9.37,2,     0.00,2,     0.64,2,   -999.0,9,   -999.0,9,-999.0000,9,  -999.00,     1937
  49UF20170612,KS1705,  5179,  1,      9,  25243,2,20170705,1923, 27.8030, 127.7943,  948,    506.8,  11.4342,  34.3849,2,  34.3853,2,    153.4,6,    31.47,6,    19.00,6,     0.01,6,     1.35,6,   -999.0,9,   -999.0,9,-999.0000,9,  -999.00,     1935
  49UF20170612,KS1705,  5179,  1,      7,  25241,2,20170705,1923, 27.8030, 127.7943,  948,    607.1,   8.9184,  34.2983,2,  34.2992,2,    125.7,2,    49.89,2,    25.83,2,     0.00,2,     1.86,2,   -999.0,9,   -999.0,9,-999.0000,9,  -999.00,     1931
  49UF20170612,KS1705,  5179,  1,      8,  25242,2,20170705,1923, 27.8030, 127.7943,  948,    607.3,   8.9234,  34.2993,2,  34.2997,2,    125.9,2,    49.90,2,    25.85,2,     0.00,2,     1.86,2,   -999.0,9,   -999.0,9,-999.0000,9,  -999.00,     1932
  49UF20170612,KS1705,  5179,  1,      3,  25237,2,20170705,1923, 27.8030, 127.7943,  948,    706.2,   6.7678,  34.2841,2,  34.2847,2,     97.8,2,    71.45,2,    32.05,2,     0.00,2,     2.32,2,   -999.0,9,   -999.0,9,-999.0000,9,  -999.00,     1929
  49UF20170612,KS1705,  5179,  1,      2,  25236,2,20170705,1923, 27.8030, 127.7943,  948,    812.1,   5.2948,  34.3624,2,  34.3615,2,     82.4,2,    95.24,2,    35.84,2,     0.00,2,     2.57,2,   -999.0,9,   -999.0,9,-999.0000,9,  -999.00,     1926
  49UF20170612,KS1705,  5179,  1,      1,  25235,2,20170705,1923, 27.8030, 127.7943,  948,    932.3,   4.6417,  34.3982,2,  34.3974,2,     77.1,2,   105.67,2,    37.31,2,     0.00,2,     2.68,2,   -999.0,9,   -999.0,9,-999.0000,9,  -999.00,     1923
  49UF20170612,KS1705,  5181,  1,     99,     99,2,20170706,0014, 27.4933, 128.2478, 1034,      0.0,  28.0181,  34.4385,2,  34.4299,2,    201.8,2,     1.42,2,     0.00,2,     0.00,2,     0.02,2,   1951.1,2,   2260.6,2,   8.0919,2,    25.00,       25
  49UF20170612,KS1705,  5181,  1,     36,  25270,3,20170706,0014, 27.4933, 128.2478, 1034,     11.6,  26.4023,  34.5270,2,  34.5247,2,    207.8,2,     1.42,2,     0.00,2,     0.00,2,     0.01,2,   1953.4,2,   2267.6,2,   8.0879,2,    25.00,       55
  49UF20170612,KS1705,  5181,  1,     35,  25269,2,20170706,0014, 27.4933, 128.2478, 1034,     21.5,  25.8776,  34.5906,2,  34.5935,2,    209.8,2,     1.47,2,     0.00,2,     0.00,2,     0.01,2,   1962.6,2,   2272.6,2,   8.0853,2,    25.00,       54
  49UF20170612,KS1705,  5181,  1,     34,  25268,2,20170706,0014, 27.4933, 128.2478, 1034,     31.6,  24.6571,  34.7480,2,  34.7508,2,    213.2,2,     1.51,2,     0.00,2,     0.00,2,     0.01,2,   1975.9,2,   2281.5,2,   8.0733,2,    25.00,       52
  49UF20170612,KS1705,  5181,  1,     33,  25267,2,20170706,0014, 27.4933, 128.2478, 1034,     51.7,  23.9630,  34.8071,2,  34.8091,2,    214.5,2,     1.55,2,     0.00,2,     0.00,2,     0.02,2,   1979.6,2,   2285.8,2,   8.0738,2,    25.00,       50
  49UF20170612,KS1705,  5181,  1,     32,  25266,3,20170706,0014, 27.4933, 128.2478, 1034,     77.2,  22.9375,  34.8949,2,  34.8948,2,    210.5,6,     1.60,6,     0.03,6,     0.04,6,     0.04,6,   1994.8,2,   2292.3,2,   8.0571,2,    25.00,       48
  49UF20170612,KS1705,  5181,  1,     31,  25265,2,20170706,0014, 27.4933, 128.2478, 1034,    101.9,  22.3067,  34.9395,2,  34.9515,4,    205.2,2,     1.95,2,     0.78,2,     0.13,2,     0.08,2,   2003.6,2,   2294.0,2,   8.0370,2,    25.00,       45
  49UF20170612,KS1705,  5181,  1,     27,  25261,2,20170706,0014, 27.4933, 128.2478, 1034,    126.7,  21.4858,  34.9916,2,  34.9882,2,    207.0,2,     2.04,2,     0.96,2,     0.12,2,     0.10,2,   2012.0,2,   2298.0,2,   8.0325,2,    25.00,       44
  49UF20170612,KS1705,  5181,  1,     26,  25260,2,20170706,0014, 27.4933, 128.2478, 1034,    153.8,  20.6335,  34.9619,2,  34.9571,2,    199.4,2,     2.64,2,     2.17,2,     0.03,2,     0.16,2,   2024.9,6,   2295.9,6,   8.0061,2,    25.00,       42
  49UF20170612,KS1705,  5181,  1,     25,  25259,2,20170706,0014, 27.4933, 128.2478, 1034,    202.7,  19.6804,  34.9045,2,  34.9036,2,    202.4,2,     3.21,2,     2.77,2,     0.02,2,     0.20,2,   2028.2,2,   2292.3,2,   7.9949,6,    25.00,       40
  49UF20170612,KS1705,  5181,  1,     21,  25255,2,20170706,0014, 27.4933, 128.2478, 1034,    253.2,  18.8488,  34.8684,2,  34.8680,2,    202.6,2,     3.59,2,     3.27,2,     0.01,2,     0.24,2,   2034.5,2,   2290.1,2,   7.9796,2,    25.00,       38
  49UF20170612,KS1705,  5181,  1,     19,  25253,2,20170706,0014, 27.4933, 128.2478, 1034,    304.0,  18.1315,  34.8662,2,  34.8647,2,    212.6,2,     3.43,2,     3.05,2,     0.01,2,     0.22,2,   2030.4,2,   2291.6,2,   7.9850,2,    25.00,       36
  49UF20170612,KS1705,  5181,  1,     20,  24270,2,20170706,0014, 27.4933, 128.2478, 1034,    304.1,  18.1322,  34.8664,2,  34.8650,2,    212.8,2,     3.43,2,     3.06,2,     0.01,2,     0.22,2,   2029.4,2,   2289.1,2,   7.9836,2,    25.00,       36
  49UF20170612,KS1705,  5181,  1,     15,  25249,2,20170706,0014, 27.4933, 128.2478, 1034,    403.4,  15.7125,  34.6135,2,  34.6137,2,    190.7,2,     8.22,2,     8.34,2,     0.00,2,     0.57,2,   2070.2,2,   2276.6,2,   7.8902,2,    25.00,       33
  49UF20170612,KS1705,  5181,  1,     14,  25248,2,20170706,0014, 27.4933, 128.2478, 1034,    504.3,  12.1385,  34.3927,2,  34.3917,2,    163.7,2,    24.44,2,    16.68,2,     0.00,2,     1.18,2,   2129.5,6,   2279.2,6,   7.7619,2,    25.00,       30
  49UF20170612,KS1705,  5181,  1,     13,  25247,2,20170706,0014, 27.4933, 128.2478, 1034,    606.0,   8.4491,  34.3207,2,  34.3196,2,    120.6,2,    56.75,2,    26.95,2,     0.00,2,     1.94,2,   2214.9,2,   2304.9,2,   7.6102,6,    25.00,       28
  49UF20170612,KS1705,  5181,  1,      9,  25243,2,20170706,0014, 27.4933, 128.2478, 1034,    709.5,   7.3621,  34.3295,2,  34.3289,6,    106.0,6,    69.43,6,    30.09,6,     0.00,6,     2.17,6,   2237.2,2,   2318.3,2,   7.5644,2,    25.00,       24
  49UF20170612,KS1705,  5181,  1,      7,  25241,3,20170706,0014, 27.4933, 128.2478, 1034,    809.2,   6.7679,  34.3348,2,  34.3362,2,     98.8,2,    76.45,2,    31.79,2,     0.00,2,     2.29,2,   2256.0,2,   2324.6,2,   7.5377,2,    25.00,       21
  49UF20170612,KS1705,  5181,  1,      8,  25242,2,20170706,0014, 27.4933, 128.2478, 1034,    809.7,   6.7662,  34.3348,2,  34.3352,2,     98.7,2,    76.64,2,    31.72,2,     0.00,2,     2.29,2,   2253.9,2,   2328.6,2,   7.5371,2,    25.00,       22
  49UF20170612,KS1705,  5181,  1,      3,  25237,2,20170706,0014, 27.4933, 128.2478, 1034,    909.3,   6.1452,  34.3403,2,  34.3400,6,     91.9,2,    83.84,2,    33.46,2,     0.00,2,     2.41,2,   2269.9,2,   2334.0,2,   7.5149,2,    25.00,       19
  49UF20170612,KS1705,  5181,  1,      2,  25236,2,20170706,0014, 27.4933, 128.2478, 1034,   1011.7,   5.8138,  34.3427,2,  34.3419,2,     87.4,2,    87.46,2,    34.50,2,     0.00,2,     2.48,2,   2279.5,2,   2335.7,2,   7.5040,2,    25.00,       16
  49UF20170612,KS1705,  5181,  1,      1,  25235,2,20170706,0014, 27.4933, 128.2478, 1034,   1027.2,   5.7667,  34.3433,2,  34.3429,6,     87.2,2,    87.98,2,    34.64,2,     0.00,2,     2.49,2,   2281.2,2,   2338.6,2,   7.5010,2,    25.00,       14