BOTTLE,20200102PRINUNIVRMK
EXPOCODE,SECT_ID,STNNBR,CASTNO,SAMPNO,BTLNBR,BTLNBR_FLAG_W,DATE,TIME,LATITUDE,LONGITUDE,DEPTH,CTDPRS,CTDTMP,CTDSAL,CTDSAL_FLAG_W,SALNTY,SALNTY_FLAG_W,OXYGEN,OXYGEN_FLAG_W,SILCAT,SILCAT_FLAG_W,NITRAT,NITRAT_FLAG_W,NITRIT,NITRIT_FLAG_W,PHSPHT,PHSPHT_FLAG_W,TCARBN,TCARBN_FLAG_W,ALKALI,ALKALI_FLAG_W,PH_TOT,PH_TOT_FLAG_W,PH_TMP,BTL_TIME
,,,,,,,,,,,METERS,DBAR,ITS-90,PSS-78,,PSS-78,,UMOL/KG,,UMOL/KG,,UMOL/KG,,UMOL/KG,,UMOL/KG,,UMOL/KG,,UMOL/KG,,,,DEG C,
  49UF20170612,KS1705,  5161,  1,     99,     99,2,20170622,1545, 25.5012, 128.7452, 7187,      0.0,  27.2034,  34.4343,2,-999.0000,9,    203.3,2,     1.25,2,     0.00,2,     0.00,2,     0.01,2,   -999.0,9,   -999.0,9,-999.0000,9,  -999.00,     1805
  49UF20170612,KS1705,  5161,  1,     36,  25270,2,20170622,1545, 25.5012, 128.7452, 7187,     11.6,  26.6634,  34.3962,2,  34.3910,2,    205.4,2,     1.21,2,     0.00,2,     0.00,2,     0.00,2,   -999.0,9,   -999.0,9,-999.0000,9,  -999.00,     1833
  49UF20170612,KS1705,  5161,  1,     35,  25269,2,20170622,1545, 25.5012, 128.7452, 7187,     27.2,  25.7792,  34.5252,2,  34.5402,4,    208.0,2,     1.23,2,     0.00,2,     0.00,2,     0.00,2,   -999.0,9,   -999.0,9,-999.0000,9,  -999.00,     1832
  49UF20170612,KS1705,  5161,  1,     34,  25268,2,20170622,1545, 25.5012, 128.7452, 7187,     55.2,  23.4737,  35.0040,2,  34.9869,4,    218.5,2,     1.34,2,     0.00,2,     0.00,2,     0.01,2,   -999.0,9,   -999.0,9,-999.0000,9,  -999.00,     1828
  49UF20170612,KS1705,  5161,  1,     33,  25267,2,20170622,1545, 25.5012, 128.7452, 7187,     78.8,  22.8184,  35.0176,2,  35.0160,2,    209.0,2,     1.38,2,     0.00,2,     0.00,2,     0.03,2,   -999.0,9,   -999.0,9,-999.0000,9,  -999.00,     1827
  49UF20170612,KS1705,  5161,  1,     32,  25266,2,20170622,1545, 25.5012, 128.7452, 7187,    102.6,  22.3125,  35.0457,2,  35.0449,2,    206.4,2,     1.55,2,     0.30,2,     0.06,2,     0.05,2,   -999.0,9,   -999.0,9,-999.0000,9,  -999.00,     1826
  49UF20170612,KS1705,  5161,  1,     31,  25265,3,20170622,1545, 25.5012, 128.7452, 7187,    127.0,  21.6110,  35.0388,2,  35.0364,2,    203.1,2,     1.73,2,     1.01,2,     0.05,2,     0.08,2,   -999.0,9,   -999.0,9,-999.0000,9,  -999.00,     1824
  49UF20170612,KS1705,  5161,  1,     30,  25264,2,20170622,1545, 25.5012, 128.7452, 7187,    152.2,  21.0738,  35.0140,2,  35.0131,2,    205.8,2,     1.81,2,     1.12,2,     0.02,2,     0.09,2,   -999.0,9,   -999.0,9,-999.0000,9,  -999.00,     1823
  49UF20170612,KS1705,  5161,  1,     29,  25263,2,20170622,1545, 25.5012, 128.7452, 7187,    203.3,  19.8470,  34.9324,2,  34.9299,2,    197.6,2,     2.55,2,     2.56,2,     0.01,2,     0.18,2,   -999.0,9,   -999.0,9,-999.0000,9,  -999.00,     1821
  49UF20170612,KS1705,  5161,  1,     28,  25262,2,20170622,1545, 25.5012, 128.7452, 7187,    253.9,  18.2898,  34.8182,2,  34.8183,2,    194.8,2,     3.73,2,     4.41,2,     0.00,2,     0.29,2,   -999.0,9,   -999.0,9,-999.0000,9,  -999.00,     1819
  49UF20170612,KS1705,  5161,  1,     27,  25261,2,20170622,1545, 25.5012, 128.7452, 7187,    304.9,  17.1880,  34.7376,2,  34.7381,2,    195.4,2,     4.86,2,     5.70,2,     0.00,2,     0.38,2,   -999.0,9,   -999.0,9,-999.0000,9,  -999.00,     1817
  49UF20170612,KS1705,  5161,  1,     26,  25260,2,20170622,1545, 25.5012, 128.7452, 7187,    404.7,  15.0056,  34.5546,2,  34.5521,2,    185.8,2,    10.07,2,     9.89,2,     0.00,2,     0.68,2,   -999.0,9,   -999.0,9,-999.0000,9,  -999.00,     1814
  49UF20170612,KS1705,  5161,  1,     25,  25259,2,20170622,1545, 25.5012, 128.7452, 7187,    505.0,  12.2207,  34.3582,2,  34.3558,2,    168.9,2,    19.73,2,    15.92,2,     0.00,2,     1.12,2,   -999.0,9,   -999.0,9,-999.0000,9,  -999.00,     1810
  49UF20170612,KS1705,  5161,  1,     24,  25258,2,20170622,1545, 25.5012, 128.7452, 7187,    606.3,   9.3470,  34.2502,2,  34.2458,4,    135.8,2,    39.94,2,    24.22,2,     0.00,2,     1.73,2,   -999.0,9,   -999.0,9,-999.0000,9,  -999.00,     1807
  49UF20170612,KS1705,  5161,  1,     23,  25257,2,20170622,1545, 25.5012, 128.7452, 7187,    708.3,   6.7307,  34.1642,2,  34.1694,4,    104.2,2,    62.55,2,    31.50,2,     0.00,2,     2.27,2,   -999.0,9,   -999.0,9,-999.0000,9,  -999.00,     1805
  49UF20170612,KS1705,  5161,  1,     22,  25256,2,20170622,1545, 25.5012, 128.7452, 7187,    808.2,   5.5929,  34.2306,2,  34.2302,2,     79.9,2,    81.43,2,    35.72,2,     0.00,2,     2.58,2,   -999.0,9,   -999.0,9,-999.0000,9,  -999.00,     1802
  49UF20170612,KS1705,  5161,  1,     21,  25255,2,20170622,1545, 25.5012, 128.7452, 7187,    907.9,   4.8801,  34.3033,2,  34.3023,2,     68.4,2,    95.23,2,    37.86,2,     0.00,2,     2.73,2,   -999.0,9,   -999.0,9,-999.0000,9,  -999.00,     1759
  49UF20170612,KS1705,  5161,  1,     20,  24270,2,20170622,1545, 25.5012, 128.7452, 7187,   1010.4,   4.1215,  34.3721,2,  34.3717,2,     63.0,2,   110.07,2,    39.42,2,     0.00,2,     2.83,2,   -999.0,9,   -999.0,9,-999.0000,9,  -999.00,     1756
  49UF20170612,KS1705,  5161,  1,     19,  25253,2,20170622,1545, 25.5012, 128.7452, 7187,   1212.5,   3.3098,  34.4715,2,  34.4716,2,     72.0,2,   126.54,2,    39.70,2,     0.00,2,     2.84,2,   -999.0,9,   -999.0,9,-999.0000,9,  -999.00,     1749
  49UF20170612,KS1705,  5161,  1,     18,  25252,2,20170622,1545, 25.5012, 128.7452, 7187,   1414.6,   2.7731,  34.5160,2,  34.5152,2,     78.1,2,   135.79,2,    39.80,2,     0.00,2,     2.83,2,   -999.0,9,   -999.0,9,-999.0000,9,  -999.00,     1744
  49UF20170612,KS1705,  5161,  1,     17,  25251,2,20170622,1545, 25.5012, 128.7452, 7187,   1617.6,   2.4047,  34.5585,2,  34.5571,2,     90.4,2,   140.31,2,    39.38,2,     0.00,2,     2.79,2,   -999.0,9,   -999.0,9,-999.0000,9,  -999.00,     1739
  49UF20170612,KS1705,  5161,  1,     16,  25250,2,20170622,1545, 25.5012, 128.7452, 7187,   1823.5,   2.1442,  34.5921,2,  34.5895,4,    103.8,2,   142.19,2,    38.64,2,     0.00,2,     2.73,2,   -999.0,9,   -999.0,9,-999.0000,9,  -999.00,     1732
  49UF20170612,KS1705,  5161,  1,     15,  25249,2,20170622,1545, 25.5012, 128.7452, 7187,   2024.9,   2.0069,  34.6125,2,  34.6118,2,    112.6,2,   142.27,2,    38.20,2,     0.00,2,     2.69,2,   -999.0,9,   -999.0,9,-999.0000,9,  -999.00,     1728
  49UF20170612,KS1705,  5161,  1,     14,  25248,2,20170622,1545, 25.5012, 128.7452, 7187,   2277.5,   1.8515,  34.6351,2,  34.6347,2,    123.6,2,   142.10,2,    37.67,2,     0.00,2,     2.64,2,   -999.0,9,   -999.0,9,-999.0000,9,  -999.00,     1720
  49UF20170612,KS1705,  5161,  1,     13,  25247,2,20170622,1545, 25.5012, 128.7452, 7187,   2532.2,   1.7386,  34.6496,2,  34.6493,2,    131.5,6,   142.01,6,    37.18,6,     0.00,6,     2.60,6,   -999.0,9,   -999.0,9,-999.0000,9,  -999.00,     1714
  49UF20170612,KS1705,  5161,  1,     12,  25246,2,20170622,1545, 25.5012, 128.7452, 7187,   2786.4,   1.6578,  34.6597,2,  34.6592,2,    138.0,2,   141.73,2,    36.82,2,     0.00,2,     2.57,2,   -999.0,9,   -999.0,9,-999.0000,9,  -999.00,     1707
  49UF20170612,KS1705,  5161,  1,     11,  25245,2,20170622,1545, 25.5012, 128.7452, 7187,   3041.5,   1.6085,  34.6663,2,  34.6664,6,    142.8,2,   141.86,2,    36.54,2,     0.00,2,     2.55,2,   -999.0,9,   -999.0,9,-999.0000,9,  -999.00,     1701
  49UF20170612,KS1705,  5161,  1,     10,  25244,2,20170622,1545, 25.5012, 128.7452, 7187,   3297.7,   1.5738,  34.6716,2,  34.6713,2,    146.6,6,   141.55,6,    36.40,6,     0.00,6,     2.54,6,   -999.0,9,   -999.0,9,-999.0000,9,  -999.00,     1654
  49UF20170612,KS1705,  5161,  1,      9,  25243,3,20170622,1545, 25.5012, 128.7452, 7187,   3552.6,   1.5653,  34.6748,2,  34.6736,2,    148.3,2,   141.22,2,    36.19,2,     0.00,2,     2.53,2,   -999.0,9,   -999.0,9,-999.0000,9,  -999.00,     1648
  49UF20170612,KS1705,  5161,  1,      8,  25242,2,20170622,1545, 25.5012, 128.7452, 7187,   3809.5,   1.5668,  34.6772,2,  34.6767,2,    150.3,2,   141.05,2,    36.03,2,     0.00,2,     2.52,2,   -999.0,9,   -999.0,9,-999.0000,9,  -999.00,     1640
  49UF20170612,KS1705,  5161,  1,      7,  25241,3,20170622,1545, 25.5012, 128.7452, 7187,   4065.9,   1.5784,  34.6788,2,  34.6790,2,    151.9,2,   141.06,2,    36.02,2,     0.00,2,     2.52,2,   -999.0,9,   -999.0,9,-999.0000,9,  -999.00,     1634
  49UF20170612,KS1705,  5161,  1,      6,  25240,2,20170622,1545, 25.5012, 128.7452, 7187,   4578.7,   1.6158,  34.6809,2,  34.6801,2,    153.7,2,   140.44,2,    35.84,2,     0.00,2,     2.50,2,   -999.0,9,   -999.0,9,-999.0000,9,  -999.00,     1622
  49UF20170612,KS1705,  5161,  1,      5,  25239,3,20170622,1545, 25.5012, 128.7452, 7187,   5094.0,   1.6668,  34.6819,2,  34.6797,4,    153.8,2,   140.26,2,    35.88,2,     0.00,2,     2.49,2,   -999.0,9,   -999.0,9,-999.0000,9,  -999.00,     1611
  49UF20170612,KS1705,  5161,  1,      4,  25238,2,20170622,1545, 25.5012, 128.7452, 7187,   5352.1,   1.6980,  34.6821,2,  34.6821,2,    154.9,2,   140.33,2,    35.92,2,     0.00,2,     2.49,2,   -999.0,9,   -999.0,9,-999.0000,9,  -999.00,     1604
  49UF20170612,KS1705,  5161,  1,      3,  25237,2,20170622,1545, 25.5012, 128.7452, 7187,   5609.1,   1.7302,  34.6821,2,  34.6823,6,    154.8,6,   140.35,6,    35.85,6,     0.00,6,     2.49,6,   -999.0,9,   -999.0,9,-999.0000,9,  -999.00,     1557
  49UF20170612,KS1705,  5161,  1,      2,  25236,2,20170622,1545, 25.5012, 128.7452, 7187,   5867.7,   1.7645,  34.6821,2,  34.6826,2,    155.1,2,   140.05,2,    35.82,2,     0.00,2,     2.49,2,   -999.0,9,   -999.0,9,-999.0000,9,  -999.00,     1552
  49UF20170612,KS1705,  5161,  1,      1,  25235,2,20170622,1545, 25.5012, 128.7452, 7187,   6127.4,   1.8008,  34.6821,2,  34.6826,6,    154.6,6,   140.15,6,    35.88,6,     0.00,6,     2.49,6,   -999.0,9,   -999.0,9,-999.0000,9,  -999.00,     1545
  49UF20170612,KS1705,  5164,  1,     99,     99,2,20170623,0344, 25.9070, 128.1535, 2088,      0.0,  28.4293,  34.5130,2,-999.0000,9,    199.3,2,  -999.00,9,  -999.00,9,  -999.00,9,  -999.00,9,   -999.0,9,   -999.0,9,-999.0000,9,  -999.00,      425
  49UF20170612,KS1705,  5164,  1,     36,  25270,3,20170623,0344, 25.9070, 128.1535, 2088,     11.7,  28.1838,  34.5021,2,-999.0000,9,    199.8,2,  -999.00,9,  -999.00,9,  -999.00,9,  -999.00,9,   -999.0,9,   -999.0,9,-999.0000,9,  -999.00,      445
  49UF20170612,KS1705,  5164,  1,     35,  25269,2,20170623,0344, 25.9070, 128.1535, 2088,     26.3,  27.7256,  34.4971,2,-999.0000,9,    201.2,2,  -999.00,9,  -999.00,9,  -999.00,9,  -999.00,9,   -999.0,9,   -999.0,9,-999.0000,9,  -999.00,      443
  49UF20170612,KS1705,  5164,  1,     34,  25268,2,20170623,0344, 25.9070, 128.1535, 2088,     51.6,  24.8827,  34.9267,2,-999.0000,9,    214.5,2,  -999.00,9,  -999.00,9,  -999.00,9,  -999.00,9,   -999.0,9,   -999.0,9,-999.0000,9,  -999.00,      440
  49UF20170612,KS1705,  5164,  1,     30,  25264,2,20170623,0344, 25.9070, 128.1535, 2088,     77.2,  23.9410,  35.0677,2,-999.0000,9,    208.3,2,  -999.00,9,  -999.00,9,  -999.00,9,  -999.00,9,   -999.0,9,   -999.0,9,-999.0000,9,  -999.00,      438
  49UF20170612,KS1705,  5164,  1,     29,  25263,2,20170623,0344, 25.9070, 128.1535, 2088,    102.1,  23.2968,  35.0874,2,-999.0000,9,    208.4,2,  -999.00,9,  -999.00,9,  -999.00,9,  -999.00,9,   -999.0,9,   -999.0,9,-999.0000,9,  -999.00,      437
  49UF20170612,KS1705,  5164,  1,     28,  25262,2,20170623,0344, 25.9070, 128.1535, 2088,    126.5,  22.6279,  35.0899,2,-999.0000,9,    194.5,2,  -999.00,9,  -999.00,9,  -999.00,9,  -999.00,9,   -999.0,9,   -999.0,9,-999.0000,9,  -999.00,      435
  49UF20170612,KS1705,  5164,  1,     27,  25261,2,20170623,0344, 25.9070, 128.1535, 2088,    152.1,  21.9797,  35.0709,2,-999.0000,9,    191.3,2,  -999.00,9,  -999.00,9,  -999.00,9,  -999.00,9,   -999.0,9,   -999.0,9,-999.0000,9,  -999.00,      434
  49UF20170612,KS1705,  5164,  1,     26,  25260,2,20170623,0344, 25.9070, 128.1535, 2088,    205.6,  20.7064,  34.9980,2,-999.0000,9,    187.6,2,  -999.00,9,  -999.00,9,  -999.00,9,  -999.00,9,   -999.0,9,   -999.0,9,-999.0000,9,  -999.00,      432
  49UF20170612,KS1705,  5164,  1,     25,  25259,2,20170623,0344, 25.9070, 128.1535, 2088,    253.5,  18.4963,  34.8505,2,-999.0000,9,    192.7,2,  -999.00,9,  -999.00,9,  -999.00,9,  -999.00,9,   -999.0,9,   -999.0,9,-999.0000,9,  -999.00,      430
  49UF20170612,KS1705,  5164,  1,     21,  25255,2,20170623,0344, 25.9070, 128.1535, 2088,    302.7,  17.0742,  34.7391,2,-999.0000,9,    192.6,2,  -999.00,9,  -999.00,9,  -999.00,9,  -999.00,9,   -999.0,9,   -999.0,9,-999.0000,9,  -999.00,      428
  49UF20170612,KS1705,  5164,  1,     20,  24270,2,20170623,0344, 25.9070, 128.1535, 2088,    404.7,  14.4566,  34.5102,2,-999.0000,9,    184.3,2,  -999.00,9,  -999.00,9,  -999.00,9,  -999.00,9,   -999.0,9,   -999.0,9,-999.0000,9,  -999.00,      425
  49UF20170612,KS1705,  5164,  1,     18,  25252,2,20170623,0344, 25.9070, 128.1535, 2088,    506.4,  11.5586,  34.3157,2,-999.0000,9,    164.5,2,  -999.00,9,  -999.00,9,  -999.00,9,  -999.00,9,   -999.0,9,   -999.0,9,-999.0000,9,  -999.00,      422
  49UF20170612,KS1705,  5164,  1,     19,  25253,2,20170623,0344, 25.9070, 128.1535, 2088,    506.5,  11.5553,  34.3157,2,-999.0000,9,    164.3,2,  -999.00,9,  -999.00,9,  -999.00,9,  -999.00,9,   -999.0,9,   -999.0,9,-999.0000,9,  -999.00,      422
  49UF20170612,KS1705,  5164,  1,     17,  25251,2,20170623,0344, 25.9070, 128.1535, 2088,    607.5,   8.6767,  34.1944,2,-999.0000,9,    134.0,6,  -999.00,9,  -999.00,9,  -999.00,9,  -999.00,9,   -999.0,9,   -999.0,9,-999.0000,9,  -999.00,      419
  49UF20170612,KS1705,  5164,  1,     16,  25250,3,20170623,0344, 25.9070, 128.1535, 2088,    707.0,   6.5821,  34.2423,2,-999.0000,9,     93.8,2,  -999.00,9,  -999.00,9,  -999.00,9,  -999.00,9,   -999.0,9,   -999.0,9,-999.0000,9,  -999.00,      416
  49UF20170612,KS1705,  5164,  1,     12,  25246,2,20170623,0344, 25.9070, 128.1535, 2088,    808.6,   5.5159,  34.3195,2,-999.0000,9,     79.2,2,  -999.00,9,  -999.00,9,  -999.00,9,  -999.00,9,   -999.0,9,   -999.0,9,-999.0000,9,  -999.00,      414
  49UF20170612,KS1705,  5164,  1,     11,  25245,2,20170623,0344, 25.9070, 128.1535, 2088,    908.2,   4.8632,  34.3948,2,-999.0000,9,     79.9,2,  -999.00,9,  -999.00,9,  -999.00,9,  -999.00,9,   -999.0,9,   -999.0,9,-999.0000,9,  -999.00,      411
  49UF20170612,KS1705,  5164,  1,     10,  25244,2,20170623,0344, 25.9070, 128.1535, 2088,   1009.5,   4.1824,  34.4453,2,-999.0000,9,     78.5,2,  -999.00,9,  -999.00,9,  -999.00,9,  -999.00,9,   -999.0,9,   -999.0,9,-999.0000,9,  -999.00,      408
  49UF20170612,KS1705,  5164,  1,      9,  25243,2,20170623,0344, 25.9070, 128.1535, 2088,   1215.6,   3.2396,  34.4890,2,-999.0000,9,     76.8,6,  -999.00,9,  -999.00,9,  -999.00,9,  -999.00,9,   -999.0,9,   -999.0,9,-999.0000,9,  -999.00,      404
  49UF20170612,KS1705,  5164,  1,      8,  25242,2,20170623,0344, 25.9070, 128.1535, 2088,   1416.2,   2.7036,  34.5195,2,-999.0000,9,     79.2,2,  -999.00,9,  -999.00,9,  -999.00,9,  -999.00,9,   -999.0,9,   -999.0,9,-999.0000,9,  -999.00,      359
  49UF20170612,KS1705,  5164,  1,      7,  25241,3,20170623,0344, 25.9070, 128.1535, 2088,   1617.7,   2.3967,  34.5564,2,-999.0000,9,     90.6,2,  -999.00,9,  -999.00,9,  -999.00,9,  -999.00,9,   -999.0,9,   -999.0,9,-999.0000,9,  -999.00,      354
  49UF20170612,KS1705,  5164,  1,      3,  25237,2,20170623,0344, 25.9070, 128.1535, 2088,   1819.6,   2.1771,  34.5878,2,-999.0000,9,    102.2,2,  -999.00,9,  -999.00,9,  -999.00,9,  -999.00,9,   -999.0,9,   -999.0,9,-999.0000,9,  -999.00,      349
  49UF20170612,KS1705,  5164,  1,      2,  25236,2,20170623,0344, 25.9070, 128.1535, 2088,   2024.8,   2.0236,  34.6104,2,-999.0000,9,    112.0,2,  -999.00,9,  -999.00,9,  -999.00,9,  -999.00,9,   -999.0,9,   -999.0,9,-999.0000,9,  -999.00,      344
  49UF20170612,KS1705,  5164,  1,      1,  25235,2,20170623,0344, 25.9070, 128.1535, 2088,   2025.0,   2.0237,  34.6104,2,-999.0000,9,    111.7,2,  -999.00,9,  -999.00,9,  -999.00,9,  -999.00,9,   -999.0,9,   -999.0,9,-999.0000,9,  -999.00,      344
  49UF20170612,KS1705,  5166,  1,     99,     99,2,20170623,0844, 26.0693, 127.9057,  448,      0.0,  27.1234,  34.3078,2,-999.0000,9,    204.1,2,     1.31,2,     0.01,2,     0.00,2,     0.01,2,   -999.0,9,   -999.0,9,-999.0000,9,  -999.00,      837
  49UF20170612,KS1705,  5166,  1,     30,  25264,2,20170623,0844, 26.0693, 127.9057,  448,     11.3,  26.8613,  34.3659,2,  34.3806,4,    204.2,2,     1.23,2,     0.01,2,     0.00,2,     0.01,2,   -999.0,9,   -999.0,9,-999.0000,9,  -999.00,      905
  49UF20170612,KS1705,  5166,  1,     29,  25263,2,20170623,0844, 26.0693, 127.9057,  448,     26.5,  26.4094,  34.8276,2,  34.8943,4,    210.5,6,     1.18,6,     0.01,6,     0.00,6,     0.01,6,   -999.0,9,   -999.0,9,-999.0000,9,  -999.00,      904
  49UF20170612,KS1705,  5166,  1,     28,  25262,2,20170623,0844, 26.0693, 127.9057,  448,     51.9,  25.0618,  34.9609,2,  34.9712,2,    209.5,2,     1.22,2,     0.02,2,     0.00,2,     0.02,2,   -999.0,9,   -999.0,9,-999.0000,9,  -999.00,      901
  49UF20170612,KS1705,  5166,  1,     23,  25257,2,20170623,0844, 26.0693, 127.9057,  448,     77.1,  23.8779,  35.0821,2,  35.0819,2,    204.6,2,     1.27,2,     0.04,2,     0.01,2,     0.03,2,   -999.0,9,   -999.0,9,-999.0000,9,  -999.00,      859
  49UF20170612,KS1705,  5166,  1,     24,  25258,2,20170623,0844, 26.0693, 127.9057,  448,     77.3,  23.8691,  35.0827,2,  35.0811,2,    204.9,2,     1.27,2,     0.03,2,     0.00,2,     0.03,2,   -999.0,9,   -999.0,9,-999.0000,9,  -999.00,      859
  49UF20170612,KS1705,  5166,  1,     22,  25256,2,20170623,0844, 26.0693, 127.9057,  448,    103.1,  23.2295,  35.0524,2,  35.0447,2,    201.1,2,     1.48,2,     0.45,2,     0.10,2,     0.06,2,   -999.0,9,   -999.0,9,-999.0000,9,  -999.00,      857
  49UF20170612,KS1705,  5166,  1,     18,  25252,2,20170623,0844, 26.0693, 127.9057,  448,    127.6,  22.3444,  35.0333,2,  35.0340,2,    197.5,2,     1.69,2,     1.15,2,     0.04,2,     0.10,2,   -999.0,9,   -999.0,9,-999.0000,9,  -999.00,      855
  49UF20170612,KS1705,  5166,  1,     17,  25251,3,20170623,0844, 26.0693, 127.9057,  448,    153.7,  21.7586,  35.0189,2,  35.0185,2,    196.5,2,     1.96,2,     1.52,2,     0.02,2,     0.13,2,   -999.0,9,   -999.0,9,-999.0000,9,  -999.00,      854
  49UF20170612,KS1705,  5166,  1,     16,  25250,2,20170623,0844, 26.0693, 127.9057,  448,    205.2,  20.6389,  34.9736,2,  34.9823,6,    191.0,2,     2.48,2,     2.49,2,     0.01,2,     0.20,2,   -999.0,9,   -999.0,9,-999.0000,9,  -999.00,      852
  49UF20170612,KS1705,  5166,  1,      8,  25242,3,20170623,0844, 26.0693, 127.9057,  448,    254.3,  18.4902,  34.8411,2,  34.8405,2,    189.7,2,     4.01,2,     4.61,2,     0.00,2,     0.33,2,   -999.0,9,   -999.0,9,-999.0000,9,  -999.00,      850
  49UF20170612,KS1705,  5166,  1,      9,  25243,2,20170623,0844, 26.0693, 127.9057,  448,    254.6,  18.4869,  34.8413,2,  34.8419,2,    189.8,2,     3.99,2,     4.61,2,     0.00,2,     0.32,2,   -999.0,9,   -999.0,9,-999.0000,9,  -999.00,      850
  49UF20170612,KS1705,  5166,  1,      7,  25241,2,20170623,0844, 26.0693, 127.9057,  448,    308.5,  16.8527,  34.7107,2,  34.7175,2,    192.7,6,     5.75,6,     6.42,6,     0.00,6,     0.44,6,   -999.0,9,   -999.0,9,-999.0000,9,  -999.00,      848
  49UF20170612,KS1705,  5166,  1,      3,  25237,3,20170623,0844, 26.0693, 127.9057,  448,    439.3,  13.0216,  34.4168,2,  34.4193,2,    173.0,2,    16.76,2,    14.20,2,     0.00,2,     0.99,2,   -999.0,9,   -999.0,9,-999.0000,9,  -999.00,      844