BOTTLE,20191223PRINUNIVRMK
EXPOCODE,SECT_ID,STNNBR,CASTNO,SAMPNO,BTLNBR,BTLNBR_FLAG_W,DATE,TIME,LATITUDE,LONGITUDE,DEPTH,CTDPRS,CTDTMP,CTDSAL,CTDSAL_FLAG_W,SALNTY,SALNTY_FLAG_W,OXYGEN,OXYGEN_FLAG_W,SILCAT,SILCAT_FLAG_W,NITRAT,NITRAT_FLAG_W,NITRIT,NITRIT_FLAG_W,PHSPHT,PHSPHT_FLAG_W,TCARBN,TCARBN_FLAG_W,ALKALI,ALKALI_FLAG_W,PH_TOT,PH_TOT_FLAG_W,PH_TMP,BTL_TIME
,,,,,,,,,,,METERS,DBAR,ITS-90,PSS-78,,PSS-78,,UMOL/KG,,UMOL/KG,,UMOL/KG,,UMOL/KG,,UMOL/KG,,UMOL/KG,,UMOL/KG,,,,DEG C,
  49UF20160512,KS1605,  4783,  1,     99,     99,2,20160519,1016, 40.0003, 162.3213, 5410,      0.0,   9.3528,  33.6379,2,-999.0000,9,    300.7,2,    21.00,2,    10.57,2,     0.19,2,     0.92,2,   -999.0,9,   -999.0,9,-999.0000,9,  -999.00,     1052
  49UF20160512,KS1605,  4783,  1,     36,  25270,2,20160519,1016, 40.0003, 162.3213, 5410,     12.3,   9.1096,  33.6450,2,  33.6555,2,    303.2,6,    20.76,6,    10.52,6,     0.19,6,     0.91,6,   -999.0,9,   -999.0,9,-999.0000,9,  -999.00,     1113
  49UF20160512,KS1605,  4783,  1,     34,  25268,2,20160519,1016, 40.0003, 162.3213, 5410,     27.4,   7.9010,  33.6444,2,-999.0000,9,    311.3,2,    22.67,2,    11.80,2,     0.28,2,     1.01,2,   -999.0,9,   -999.0,9,-999.0000,9,  -999.00,     1111
  49UF20160512,KS1605,  4783,  1,     35,  25269,2,20160519,1016, 40.0003, 162.3213, 5410,     27.8,   7.8004,  33.6464,2,-999.0000,9,    311.5,2,    22.69,2,    11.77,2,     0.28,2,     1.01,2,   -999.0,9,   -999.0,9,-999.0000,9,  -999.00,     1112
  49UF20160512,KS1605,  4783,  1,     33,  25267,2,20160519,1016, 40.0003, 162.3213, 5410,     52.0,   6.9022,  33.5984,2,-999.0000,9,    305.8,2,    23.31,2,    13.19,2,     0.40,2,     1.11,2,   -999.0,9,   -999.0,9,-999.0000,9,  -999.00,     1108
  49UF20160512,KS1605,  4783,  1,     32,  25266,2,20160519,1016, 40.0003, 162.3213, 5410,     77.3,   7.0864,  33.6851,2,-999.0000,9,    296.9,2,    23.18,2,    13.53,2,     0.49,2,     1.12,2,   -999.0,9,   -999.0,9,-999.0000,9,  -999.00,     1107
  49UF20160512,KS1605,  4783,  1,     31,  25265,2,20160519,1016, 40.0003, 162.3213, 5410,    102.4,   6.6440,  33.6535,2,  33.6554,2,    296.2,2,    23.68,2,    14.26,2,     0.56,2,     1.16,2,   -999.0,9,   -999.0,9,-999.0000,9,  -999.00,     1105
  49UF20160512,KS1605,  4783,  1,     27,  25261,2,20160519,1016, 40.0003, 162.3213, 5410,    128.2,   6.7417,  33.6853,2,-999.0000,9,    293.6,2,    23.73,2,    14.44,2,     0.42,2,     1.16,2,   -999.0,9,   -999.0,9,-999.0000,9,  -999.00,     1104
  49UF20160512,KS1605,  4783,  1,     26,  25260,2,20160519,1016, 40.0003, 162.3213, 5410,    153.2,   6.7774,  33.6970,2,-999.0000,9,    292.2,2,    23.82,2,    14.75,2,     0.21,2,     1.16,2,   -999.0,9,   -999.0,9,-999.0000,9,  -999.00,     1102
  49UF20160512,KS1605,  4783,  1,     25,  25259,2,20160519,1016, 40.0003, 162.3213, 5410,    203.6,   6.4859,  33.6994,2,  33.7533,2,    256.8,2,    29.15,2,    17.74,2,     0.01,2,     1.35,2,   -999.0,9,   -999.0,9,-999.0000,9,  -999.00,     1100
  49UF20160512,KS1605,  4783,  1,     24,  25258,2,20160519,1016, 40.0003, 162.3213, 5410,    254.5,   6.0236,  33.8239,2,-999.0000,9,    180.3,2,    47.83,2,    25.89,2,     0.01,2,     1.90,2,   -999.0,9,   -999.0,9,-999.0000,9,  -999.00,     1058
  49UF20160512,KS1605,  4783,  1,     23,  25257,2,20160519,1016, 40.0003, 162.3213, 5410,    304.6,   4.5841,  33.7579,2,-999.0000,9,    157.8,2,    60.84,2,    30.80,2,     0.01,2,     2.25,2,   -999.0,9,   -999.0,9,-999.0000,9,  -999.00,     1057
  49UF20160512,KS1605,  4783,  1,     22,  25256,2,20160519,1016, 40.0003, 162.3213, 5410,    406.0,   4.0723,  33.8751,2,  33.8783,2,    106.2,2,    80.19,2,    36.44,2,     0.00,2,     2.63,2,   -999.0,9,   -999.0,9,-999.0000,9,  -999.00,     1054
  49UF20160512,KS1605,  4783,  1,     18,  25252,2,20160519,1016, 40.0003, 162.3213, 5410,    505.5,   4.0261,  34.0244,2,-999.0000,9,     70.4,6,    95.65,6,    39.40,6,     0.00,6,     2.82,6,   -999.0,9,   -999.0,9,-999.0000,9,  -999.00,     1051
  49UF20160512,KS1605,  4783,  1,     16,  25250,2,20160519,1016, 40.0003, 162.3213, 5410,    608.1,   3.8041,  34.1287,2,  34.1284,2,     48.7,2,   109.15,2,    41.23,2,     0.00,2,     2.94,2,   -999.0,9,   -999.0,9,-999.0000,9,  -999.00,     1048
  49UF20160512,KS1605,  4783,  1,     17,  25251,2,20160519,1016, 40.0003, 162.3213, 5410,    608.5,   3.8040,  34.1287,2,  34.1280,2,     48.5,2,   109.25,2,    41.22,2,     0.00,2,     2.95,2,   -999.0,9,   -999.0,9,-999.0000,9,  -999.00,     1048
  49UF20160512,KS1605,  4783,  1,     15,  25249,2,20160519,1016, 40.0003, 162.3213, 5410,    710.6,   3.5813,  34.2242,2,-999.0000,9,     38.6,2,   120.40,2,    42.08,2,     0.00,2,     3.00,2,   -999.0,9,   -999.0,9,-999.0000,9,  -999.00,     1045
  49UF20160512,KS1605,  4783,  1,     14,  25248,2,20160519,1016, 40.0003, 162.3213, 5410,    809.1,   3.4717,  34.2977,2,  34.2964,6,     39.0,2,   125.96,2,    42.04,2,     0.00,2,     3.00,2,   -999.0,9,   -999.0,9,-999.0000,9,  -999.00,     1043
  49UF20160512,KS1605,  4783,  1,     13,  25247,2,20160519,1016, 40.0003, 162.3213, 5410,    909.1,   3.2473,  34.3351,2,-999.0000,9,     36.6,2,   132.84,2,    42.49,2,     0.00,2,     3.04,2,   -999.0,9,   -999.0,9,-999.0000,9,  -999.00,     1041
  49UF20160512,KS1605,  4783,  1,      9,  25243,2,20160519,1016, 40.0003, 162.3213, 5410,   1011.4,   3.0134,  34.3836,2,  34.3835,2,     34.0,2,   140.28,2,    42.82,2,     0.00,2,     3.06,2,   -999.0,9,   -999.0,9,-999.0000,9,  -999.00,     1038
  49UF20160512,KS1605,  4783,  1,      8,  25242,2,20160519,1016, 40.0003, 162.3213, 5410,   1213.7,   2.6851,  34.4459,2,  34.4476,2,     35.9,2,   150.11,2,    43.05,2,     0.00,2,     3.06,2,   -999.0,9,   -999.0,9,-999.0000,9,  -999.00,     1034
  49UF20160512,KS1605,  4783,  1,      7,  25241,2,20160519,1016, 40.0003, 162.3213, 5410,   1416.4,   2.4357,  34.4938,2,  34.4933,6,     40.9,2,   156.74,2,    42.94,2,     0.00,2,     3.05,2,   -999.0,9,   -999.0,9,-999.0000,9,  -999.00,     1029
  49UF20160512,KS1605,  4783,  1,      6,  25240,2,20160519,1016, 40.0003, 162.3213, 5410,   1622.1,   2.2130,  34.5373,2,  34.5372,2,     49.9,2,   161.83,2,    42.47,2,     0.00,2,     3.01,2,   -999.0,9,   -999.0,9,-999.0000,9,  -999.00,     1025
  49UF20160512,KS1605,  4783,  1,      5,  25239,2,20160519,1016, 40.0003, 162.3213, 5410,   1823.3,   2.0616,  34.5671,2,  34.5672,2,     60.9,2,   164.29,2,    41.86,2,     0.00,2,     2.96,2,   -999.0,9,   -999.0,9,-999.0000,9,  -999.00,     1020
  49UF20160512,KS1605,  4783,  1,      4,  25238,2,20160519,1016, 40.0003, 162.3213, 5410,   2026.6,   1.9176,  34.5958,2,  34.5965,2,     74.4,2,   164.68,2,    41.04,2,     0.00,2,     2.89,2,   -999.0,9,   -999.0,9,-999.0000,9,  -999.00,     1016
  49UF20160512,KS1605,  4784,  1,     99,     99,2,20160519,1758, 40.0183, 163.6562, 5362,      0.0,  11.0792,  34.2106,2,-999.0000,9,    280.9,2,    14.58,2,     7.84,2,     0.13,2,     0.63,2,   -999.0,9,   -999.0,9,-999.0000,9,  -999.00,     1830
  49UF20160512,KS1605,  4784,  1,     36,  25270,2,20160519,1758, 40.0183, 163.6562, 5362,     11.6,  11.0789,  34.2104,2,-999.0000,9,    281.5,2,    14.65,2,     7.83,2,     0.12,2,     0.63,2,   -999.0,9,   -999.0,9,-999.0000,9,  -999.00,     1856
  49UF20160512,KS1605,  4784,  1,     35,  25269,2,20160519,1758, 40.0183, 163.6562, 5362,     11.9,  11.0792,  34.2107,2,-999.0000,9,    281.1,2,    14.56,2,     7.85,2,     0.12,2,     0.63,2,   -999.0,9,   -999.0,9,-999.0000,9,  -999.00,     1856
  49UF20160512,KS1605,  4784,  1,     34,  25268,2,20160519,1758, 40.0183, 163.6562, 5362,     26.2,  11.0873,  34.2130,2,-999.0000,9,    280.9,2,    14.49,2,     7.81,2,     0.13,2,     0.63,2,   -999.0,9,   -999.0,9,-999.0000,9,  -999.00,     1855
  49UF20160512,KS1605,  4784,  1,     33,  25267,2,20160519,1758, 40.0183, 163.6562, 5362,     51.0,  10.9134,  34.2120,2,-999.0000,9,    275.2,2,    14.67,2,     8.24,2,     0.17,2,     0.67,2,   -999.0,9,   -999.0,9,-999.0000,9,  -999.00,     1851
  49UF20160512,KS1605,  4784,  1,     32,  25266,2,20160519,1758, 40.0183, 163.6562, 5362,     76.2,  10.4495,  34.1726,2,-999.0000,9,    270.9,2,    15.71,2,     9.45,2,     0.23,2,     0.74,2,   -999.0,9,   -999.0,9,-999.0000,9,  -999.00,     1849
  49UF20160512,KS1605,  4784,  1,     31,  25265,2,20160519,1758, 40.0183, 163.6562, 5362,    101.9,   9.9458,  34.1343,2,-999.0000,9,    270.3,2,    16.58,2,    10.43,2,     0.28,2,     0.81,2,   -999.0,9,   -999.0,9,-999.0000,9,  -999.00,     1848
  49UF20160512,KS1605,  4784,  1,     27,  25261,2,20160519,1758, 40.0183, 163.6562, 5362,    126.9,   9.7892,  34.1206,2,-999.0000,9,    272.0,2,    16.71,2,    10.71,2,     0.24,2,     0.82,2,   -999.0,9,   -999.0,9,-999.0000,9,  -999.00,     1847
  49UF20160512,KS1605,  4784,  1,     26,  25260,2,20160519,1758, 40.0183, 163.6562, 5362,    152.6,   9.0433,  33.9953,2,-999.0000,9,    270.4,2,    19.02,2,    12.32,2,     0.11,2,     0.94,2,   -999.0,9,   -999.0,9,-999.0000,9,  -999.00,     1845
  49UF20160512,KS1605,  4784,  1,     25,  25259,2,20160519,1758, 40.0183, 163.6562, 5362,    203.5,   7.8884,  33.8681,2,-999.0000,9,    263.2,2,    23.02,2,    14.89,2,     0.01,2,     1.12,2,   -999.0,9,   -999.0,9,-999.0000,9,  -999.00,     1843
  49UF20160512,KS1605,  4784,  1,     24,  25258,2,20160519,1758, 40.0183, 163.6562, 5362,    253.9,   7.2265,  33.8451,2,-999.0000,9,    222.3,2,    32.59,2,    19.72,2,     0.01,2,     1.45,2,   -999.0,9,   -999.0,9,-999.0000,9,  -999.00,     1842
  49UF20160512,KS1605,  4784,  1,     23,  25257,2,20160519,1758, 40.0183, 163.6562, 5362,    304.7,   5.9310,  33.8121,2,-999.0000,9,    184.9,2,    46.76,2,    25.74,2,     0.00,2,     1.88,2,   -999.0,9,   -999.0,9,-999.0000,9,  -999.00,     1840
  49UF20160512,KS1605,  4784,  1,     22,  25256,2,20160519,1758, 40.0183, 163.6562, 5362,    406.3,   5.3324,  33.9577,2,-999.0000,9,    130.3,6,    66.80,6,    31.89,6,     0.00,6,     2.30,6,   -999.0,9,   -999.0,9,-999.0000,9,  -999.00,     1837
  49UF20160512,KS1605,  4784,  1,     17,  25251,2,20160519,1758, 40.0183, 163.6562, 5362,    507.0,   4.7342,  34.0532,2,-999.0000,9,     90.4,2,    84.75,2,    36.46,2,     0.00,2,     2.62,2,   -999.0,9,   -999.0,9,-999.0000,9,  -999.00,     1834
  49UF20160512,KS1605,  4784,  1,     18,  25252,2,20160519,1758, 40.0183, 163.6562, 5362,    508.5,   4.7274,  34.0577,2,-999.0000,9,     90.4,2,    84.78,2,    36.45,2,     0.00,2,     2.62,2,   -999.0,9,   -999.0,9,-999.0000,9,  -999.00,     1834
  49UF20160512,KS1605,  4784,  1,     16,  25250,2,20160519,1758, 40.0183, 163.6562, 5362,    608.3,   4.2489,  34.1524,2,-999.0000,9,     62.4,2,   101.22,2,    39.36,2,     0.00,2,     2.82,2,   -999.0,9,   -999.0,9,-999.0000,9,  -999.00,     1831
  49UF20160512,KS1605,  4784,  1,     15,  25249,2,20160519,1758, 40.0183, 163.6562, 5362,    709.2,   3.9003,  34.2339,2,-999.0000,9,     48.9,2,   113.38,2,    40.77,2,     0.00,2,     2.91,2,   -999.0,9,   -999.0,9,-999.0000,9,  -999.00,     1828
  49UF20160512,KS1605,  4784,  1,     14,  25248,2,20160519,1758, 40.0183, 163.6562, 5362,    808.6,   3.4996,  34.2778,2,-999.0000,9,     38.4,2,   124.82,2,    42.05,2,     0.00,2,     3.00,2,   -999.0,9,   -999.0,9,-999.0000,9,  -999.00,     1826
  49UF20160512,KS1605,  4784,  1,     13,  25247,2,20160519,1758, 40.0183, 163.6562, 5362,    910.8,   3.2299,  34.3270,2,-999.0000,9,     35.2,2,   133.42,2,    42.62,2,     0.00,2,     3.03,2,   -999.0,9,   -999.0,9,-999.0000,9,  -999.00,     1823
  49UF20160512,KS1605,  4784,  1,      9,  25243,2,20160519,1758, 40.0183, 163.6562, 5362,   1011.7,   3.0695,  34.3696,2,-999.0000,9,     34.2,2,   138.49,2,    42.79,2,     0.00,2,     3.05,2,   -999.0,9,   -999.0,9,-999.0000,9,  -999.00,     1820
  49UF20160512,KS1605,  4784,  1,      8,  25242,2,20160519,1758, 40.0183, 163.6562, 5362,   1214.9,   2.7298,  34.4331,2,-999.0000,9,     33.9,2,   148.95,2,    43.15,2,     0.00,2,     3.07,2,   -999.0,9,   -999.0,9,-999.0000,9,  -999.00,     1816
  49UF20160512,KS1605,  4784,  1,      7,  25241,2,20160519,1758, 40.0183, 163.6562, 5362,   1418.6,   2.4390,  34.4907,2,-999.0000,9,     40.2,2,   156.95,2,    43.05,2,     0.00,2,     3.05,2,   -999.0,9,   -999.0,9,-999.0000,9,  -999.00,     1811
  49UF20160512,KS1605,  4784,  1,      6,  25240,2,20160519,1758, 40.0183, 163.6562, 5362,   1619.9,   2.2028,  34.5351,2,-999.0000,9,     48.8,2,   162.80,2,    42.59,2,     0.00,2,     3.01,2,   -999.0,9,   -999.0,9,-999.0000,9,  -999.00,     1807
  49UF20160512,KS1605,  4784,  1,      5,  25239,2,20160519,1758, 40.0183, 163.6562, 5362,   1823.0,   2.0647,  34.5630,2,-999.0000,9,     57.5,2,   165.14,2,    42.04,2,     0.00,2,     2.96,2,   -999.0,9,   -999.0,9,-999.0000,9,  -999.00,     1802
  49UF20160512,KS1605,  4784,  1,      4,  25238,2,20160519,1758, 40.0183, 163.6562, 5362,   2025.0,   1.9462,  34.5877,2,-999.0000,9,     68.5,6,   166.28,6,    41.45,6,     0.00,6,     2.92,6,   -999.0,9,   -999.0,9,-999.0000,9,  -999.00,     1758