BOTTLE,20191223PRINUNIVRMK
EXPOCODE,SECT_ID,STNNBR,CASTNO,SAMPNO,BTLNBR,BTLNBR_FLAG_W,DATE,TIME,LATITUDE,LONGITUDE,DEPTH,CTDPRS,CTDTMP,CTDSAL,CTDSAL_FLAG_W,SALNTY,SALNTY_FLAG_W,OXYGEN,OXYGEN_FLAG_W,SILCAT,SILCAT_FLAG_W,NITRAT,NITRAT_FLAG_W,NITRIT,NITRIT_FLAG_W,PHSPHT,PHSPHT_FLAG_W,TCARBN,TCARBN_FLAG_W,ALKALI,ALKALI_FLAG_W,PH_TOT,PH_TOT_FLAG_W,PH_TMP,BTL_TIME
,,,,,,,,,,,METERS,DBAR,ITS-90,PSS-78,,PSS-78,,UMOL/KG,,UMOL/KG,,UMOL/KG,,UMOL/KG,,UMOL/KG,,UMOL/KG,,UMOL/KG,,,,DEG C,
  49UF20160512,KS1605,  4769,  1,     99,     99,2,20160514,1104, 40.0010, 144.9613, 5649,      0.0,  10.0173,  33.8850,2,  33.9564,2,    302.5,2,     3.16,2,     4.09,2,     0.19,2,     0.36,3,   2046.4,2,   2270.3,2,   7.9328,2,    25.00,     1300
  49UF20160512,KS1605,  4769,  1,     36,  25270,2,20160514,1104, 40.0010, 144.9613, 5649,     12.3,  10.0168,  33.8850,2,  33.8866,2,    305.0,2,     3.94,2,     3.92,2,     0.19,2,     0.38,2,   2045.2,2,   2268.6,2,   7.9295,2,    25.00,     1324
  49UF20160512,KS1605,  4769,  1,     35,  25269,2,20160514,1104, 40.0010, 144.9613, 5649,     27.4,  10.0360,  33.8877,2,-999.0000,9,    305.4,2,     3.96,2,     3.95,2,     0.19,2,     0.39,3,   2048.4,2,   2268.1,2,   7.9327,2,    25.00,     1322
  49UF20160512,KS1605,  4769,  1,     34,  25268,2,20160514,1104, 40.0010, 144.9613, 5649,     52.4,   9.8939,  33.9291,2,-999.0000,9,    285.5,2,     7.71,2,     5.77,2,     0.21,2,     0.53,2,   2063.1,2,   2267.0,2,   7.8913,2,    25.00,     1319
  49UF20160512,KS1605,  4769,  1,     33,  25267,2,20160514,1104, 40.0010, 144.9613, 5649,     76.7,   9.1372,  33.8286,2,-999.0000,9,    284.4,2,     9.55,2,     6.46,2,     0.23,2,     0.62,2,   2067.6,2,   2263.4,2,   7.8754,2,    25.00,     1317
  49UF20160512,KS1605,  4769,  1,     32,  25266,2,20160514,1104, 40.0010, 144.9613, 5649,    102.8,   9.4727,  34.0116,2,  34.0163,2,    262.6,2,    15.47,2,    10.01,2,     0.27,2,     0.79,2,   2091.7,2,   2266.9,2,   7.8347,2,    25.00,     1316
  49UF20160512,KS1605,  4769,  1,     31,  25265,2,20160514,1104, 40.0010, 144.9613, 5649,    128.0,   8.7908,  33.9419,2,-999.0000,9,    264.8,2,    17.32,2,    11.41,2,     0.13,2,     0.88,2,   2098.8,2,   2263.0,2,   7.8081,2,    25.00,     1315
  49UF20160512,KS1605,  4769,  1,     30,  25264,2,20160514,1104, 40.0010, 144.9613, 5649,    153.4,   7.4896,  33.7576,2,-999.0000,9,    268.0,2,    18.46,2,    12.22,2,     0.06,2,     0.94,2,   2100.3,2,   2258.7,2,   7.7851,2,    25.00,     1313
  49UF20160512,KS1605,  4769,  1,     29,  25263,2,20160514,1104, 40.0010, 144.9613, 5649,    204.4,   5.5933,  33.5493,2,  33.5300,2,    272.8,6,    28.77,6,    17.10,6,     0.03,6,     1.34,6,   2126.4,2,   2252.8,2,   7.7105,2,    25.00,     1311
  49UF20160512,KS1605,  4769,  1,     28,  25262,2,20160514,1104, 40.0010, 144.9613, 5649,    253.6,   3.8552,  33.3951,2,-999.0000,9,    269.8,2,    37.18,2,    20.94,2,     0.02,2,     1.63,3,   2150.0,2,   2253.1,2,   7.6481,2,    25.00,     1309
  49UF20160512,KS1605,  4769,  1,     27,  25261,2,20160514,1104, 40.0010, 144.9613, 5649,    305.3,   3.2784,  33.4092,2,-999.0000,9,    241.9,2,    47.27,2,    25.05,2,     0.02,2,     1.93,3,   2177.6,2,   2256.0,2,   7.5809,2,    25.00,     1307
  49UF20160512,KS1605,  4769,  1,     26,  25260,2,20160514,1104, 40.0010, 144.9613, 5649,    405.3,   3.8695,  33.6496,2,  33.6472,2,    170.9,2,    63.76,2,    30.85,2,     0.02,2,     2.31,2,   2224.2,2,   2275.4,2,   7.4875,2,    25.00,     1305
  49UF20160512,KS1605,  4769,  1,     25,  25259,2,20160514,1104, 40.0010, 144.9613, 5649,    506.4,   3.2855,  33.7385,2,-999.0000,9,    117.3,2,    82.08,2,    36.71,2,     0.00,2,     2.69,2,   2276.9,2,   2290.7,2,   7.3810,2,    25.00,     1302
  49UF20160512,KS1605,  4769,  1,     24,  25258,2,20160514,1104, 40.0010, 144.9613, 5649,    607.7,   3.7063,  33.9452,2,  33.9422,6,     70.8,2,    96.98,2,    40.07,2,     0.00,2,     2.89,2,   2307.8,2,   2308.4,2,   7.3335,2,    25.00,     1259
  49UF20160512,KS1605,  4769,  1,     23,  25257,2,20160514,1104, 40.0010, 144.9613, 5649,    707.7,   3.4363,  34.0459,2,-999.0000,9,     45.5,2,   111.85,2,    42.19,2,     0.00,2,     3.02,2,   2338.3,6,   2325.9,6,   7.3031,2,    25.00,     1256
  49UF20160512,KS1605,  4769,  1,     22,  25256,2,20160514,1104, 40.0010, 144.9613, 5649,    809.6,   3.5219,  34.1617,2,  34.1628,2,     40.6,2,   117.93,2,    42.13,2,     0.00,2,     3.01,2,   2346.7,2,   2338.4,2,   7.3219,6,    25.00,     1254
  49UF20160512,KS1605,  4769,  1,     21,  25255,2,20160514,1104, 40.0010, 144.9613, 5649,    911.0,   3.0598,  34.2062,2,-999.0000,9,     29.8,2,   132.69,2,    43.30,2,     0.00,2,     3.10,3,   2367.7,2,   2351.7,2,   7.3014,2,    25.00,     1251
  49UF20160512,KS1605,  4769,  1,     20,  25254,2,20160514,1104, 40.0010, 144.9613, 5649,   1012.1,   2.9149,  34.2665,2,  34.2665,2,     30.7,6,   139.51,6,    43.20,6,     0.00,6,     3.10,2,   2370.1,2,   2360.9,2,   7.3144,2,    25.00,     1248
  49UF20160512,KS1605,  4769,  1,     19,  25253,2,20160514,1104, 40.0010, 144.9613, 5649,   1214.3,   2.8506,  34.3845,2,  34.3845,2,     34.8,2,   144.68,2,    42.83,2,     0.00,2,     3.06,2,   2376.2,2,   2376.4,2,   7.3445,2,    25.00,     1244
  49UF20160512,KS1605,  4769,  1,     18,  25252,2,20160514,1104, 40.0010, 144.9613, 5649,   1417.9,   2.5742,  34.4519,2,  34.4522,2,     37.6,3,   153.39,2,    42.91,2,     0.00,2,     3.07,2,   2380.0,2,   2390.4,2,   7.3599,2,    25.00,     1239
  49UF20160512,KS1605,  4769,  1,     17,  25251,2,20160514,1104, 40.0010, 144.9613, 5649,   1620.7,   2.3560,  34.5020,2,  34.5017,2,     44.7,2,   159.21,2,    42.69,2,     0.00,2,     3.04,2,   2387.4,6,   2400.4,6,   7.3790,2,    25.00,     1235
  49UF20160512,KS1605,  4769,  1,     16,  25250,2,20160514,1104, 40.0010, 144.9613, 5649,   1823.3,   2.1879,  34.5449,2,  34.5448,2,     55.2,2,   161.43,2,    42.17,2,     0.00,2,     2.99,2,   2377.5,2,   2406.4,2,   7.4021,6,    25.00,     1230
  49UF20160512,KS1605,  4769,  1,     15,  25249,2,20160514,1104, 40.0010, 144.9613, 5649,   2026.9,   2.0580,  34.5757,2,  34.5758,6,     65.8,2,   162.31,2,    41.62,2,     0.00,2,     2.94,2,   2380.4,2,   2411.0,2,   7.4275,2,    25.00,     1226
  49UF20160512,KS1605,  4769,  1,     14,  25248,2,20160514,1104, 40.0010, 144.9613, 5649,   2281.6,   1.8839,  34.6068,2,  34.6063,6,     82.6,2,   163.02,2,    40.60,2,     0.00,2,     2.86,2,   2370.6,2,   2414.6,2,   7.4544,2,    25.00,     1220
  49UF20160512,KS1605,  4769,  1,     13,  25247,2,20160514,1104, 40.0010, 144.9613, 5649,   2537.4,   1.7551,  34.6300,2,  34.6299,6,     98.1,2,   161.62,2,    39.60,2,     0.00,2,     2.77,2,   2361.6,2,   2417.3,2,   7.4870,2,    25.00,     1215
  49UF20160512,KS1605,  4769,  1,     12,  25246,2,20160514,1104, 40.0010, 144.9613, 5649,   2792.2,   1.6594,  34.6462,2,  34.6462,2,    111.6,2,   160.06,2,    38.82,2,     0.00,2,     2.72,2,   2354.7,2,   2419.6,2,   7.5120,2,    25.00,     1209
  49UF20160512,KS1605,  4769,  1,     11,  25245,2,20160514,1104, 40.0010, 144.9613, 5649,   3046.9,   1.5952,  34.6574,2,  34.6573,6,    121.7,6,   158.21,6,    38.14,6,     0.00,6,     2.67,6,   2345.1,2,   2418.4,2,   7.5329,2,    25.00,     1203
  49UF20160512,KS1605,  4769,  1,     10,  25244,2,20160514,1104, 40.0010, 144.9613, 5649,   3303.2,   1.5521,  34.6658,2,  34.6653,6,    130.2,2,   155.68,2,    37.59,2,     0.00,2,     2.62,2,   2340.7,2,   2419.5,2,   7.5473,2,    25.00,     1158
  49UF20160512,KS1605,  4769,  1,      9,  25243,2,20160514,1104, 40.0010, 144.9613, 5649,   3558.9,   1.5221,  34.6719,2,  34.6718,6,    136.4,2,   154.88,2,    37.14,2,     0.00,2,     2.60,2,   2335.8,2,   2418.1,2,   7.5586,2,    25.00,     1152
  49UF20160512,KS1605,  4769,  1,      8,  25242,2,20160514,1104, 40.0010, 144.9613, 5649,   3815.3,   1.5014,  34.6771,2,  34.6764,6,    143.0,2,   152.94,2,    36.70,2,     0.00,2,     2.55,3,   2334.2,2,   2417.2,6,   7.5650,2,    25.00,     1146
  49UF20160512,KS1605,  4769,  1,      7,  25241,2,20160514,1104, 40.0010, 144.9613, 5649,   4071.8,   1.4858,  34.6816,2,  34.6808,6,    148.4,2,   151.88,2,    36.41,2,     0.00,2,     2.53,2,   2330.1,2,   2416.0,2,   7.5767,6,    25.00,     1141
  49UF20160512,KS1605,  4769,  1,      6,  25240,2,20160514,1104, 40.0010, 144.9613, 5649,   4586.1,   1.4944,  34.6867,2,  34.6861,6,    154.6,2,   149.99,2,    35.94,2,     0.00,2,     2.50,2,   2323.3,2,   2417.7,2,   7.5878,2,    25.00,     1130
  49UF20160512,KS1605,  4769,  1,      5,  25239,2,20160514,1104, 40.0010, 144.9613, 5649,   4843.3,   1.5085,  34.6885,2,  34.6878,6,    156.6,2,   149.99,2,    35.78,2,     0.00,2,     2.49,2,   2323.6,2,   2418.4,2,   7.5893,2,    25.00,     1123
  49UF20160512,KS1605,  4769,  1,      4,  25238,2,20160514,1104, 40.0010, 144.9613, 5649,   5100.3,   1.5300,  34.6896,2,  34.6892,6,    157.8,2,   150.08,2,    35.69,2,     0.00,2,     2.48,2,   2324.4,2,   2415.8,2,   7.5945,2,    25.00,     1118
  49UF20160512,KS1605,  4769,  1,      3,  25237,2,20160514,1104, 40.0010, 144.9613, 5649,   5358.8,   1.5553,  34.6903,2,  34.6906,6,    159.2,2,   149.19,2,    35.55,2,     0.00,2,     2.47,2,   2326.2,2,   2416.1,2,   7.5944,2,    25.00,     1112
  49UF20160512,KS1605,  4769,  1,      2,  25236,2,20160514,1104, 40.0010, 144.9613, 5649,   5617.5,   1.5818,  34.6910,2,  34.6916,2,    160.7,6,   147.55,6,    35.49,6,     0.00,6,     2.47,6,   2323.4,2,   2415.3,2,   7.5973,2,    25.00,     1107
  49UF20160512,KS1605,  4769,  1,      1,  25235,2,20160514,1104, 40.0010, 144.9613, 5649,   5756.5,   1.5916,  34.6917,2,  34.6915,6,    163.0,2,   144.63,2,    35.32,2,     0.00,2,     2.45,2,   2318.9,2,   2411.6,2,   7.5991,2,    25.00,     1104
  49UF20160512,KS1605,  4770,  1,     99,     99,2,20160514,2203, 39.9860, 145.9850, 5137,      0.0,  10.0514,  33.8836,2,-999.0000,9,    296.9,2,     4.24,2,     3.58,2,     0.17,2,     0.34,2,   -999.0,9,   -999.0,9,-999.0000,9,  -999.00,     2242
  49UF20160512,KS1605,  4770,  1,     33,  25267,2,20160514,2203, 39.9860, 145.9850, 5137,     12.2,  10.0547,  33.8833,2,-999.0000,9,    297.5,2,     4.17,2,     3.64,2,     0.17,2,     0.35,3,   -999.0,9,   -999.0,9,-999.0000,9,  -999.00,     2300
  49UF20160512,KS1605,  4770,  1,     32,  25266,2,20160514,2203, 39.9860, 145.9850, 5137,     27.7,   9.7340,  33.8849,2,-999.0000,9,    283.6,2,     6.28,2,     4.87,2,     0.22,2,     0.46,2,   -999.0,9,   -999.0,9,-999.0000,9,  -999.00,     2259
  49UF20160512,KS1605,  4770,  1,     31,  25265,2,20160514,2203, 39.9860, 145.9850, 5137,     52.1,   9.9791,  33.9736,2,-999.0000,9,    275.0,2,     9.01,2,     6.24,2,     0.23,2,     0.54,2,   -999.0,9,   -999.0,9,-999.0000,9,  -999.00,     2255
  49UF20160512,KS1605,  4770,  1,     30,  25264,2,20160514,2203, 39.9860, 145.9850, 5137,     76.9,   9.3102,  33.9482,2,-999.0000,9,    268.2,2,    13.29,2,     9.13,2,     0.20,2,     0.76,2,   -999.0,9,   -999.0,9,-999.0000,9,  -999.00,     2254
  49UF20160512,KS1605,  4770,  1,     29,  25263,2,20160514,2203, 39.9860, 145.9850, 5137,    102.8,   8.5979,  33.9099,2,-999.0000,9,    258.3,2,    18.51,2,    12.25,2,     0.20,2,     0.95,2,   -999.0,9,   -999.0,9,-999.0000,9,  -999.00,     2252
  49UF20160512,KS1605,  4770,  1,     28,  25262,2,20160514,2203, 39.9860, 145.9850, 5137,    128.8,   7.4973,  33.7719,2,-999.0000,9,    260.4,2,    22.12,2,    14.07,2,     0.20,2,     1.11,2,   -999.0,9,   -999.0,9,-999.0000,9,  -999.00,     2251
  49UF20160512,KS1605,  4770,  1,     24,  25258,2,20160514,2203, 39.9860, 145.9850, 5137,    153.5,   6.6112,  33.6917,2,-999.0000,9,    254.6,2,    27.24,2,    16.64,2,     0.09,2,     1.28,2,   -999.0,9,   -999.0,9,-999.0000,9,  -999.00,     2249
  49UF20160512,KS1605,  4770,  1,     23,  25257,2,20160514,2203, 39.9860, 145.9850, 5137,    203.7,   4.6937,  33.5031,2,-999.0000,9,    258.0,2,    35.73,2,    20.52,2,     0.03,2,     1.59,2,   -999.0,9,   -999.0,9,-999.0000,9,  -999.00,     2247
  49UF20160512,KS1605,  4770,  1,     22,  25256,2,20160514,2203, 39.9860, 145.9850, 5137,    253.1,   3.2082,  33.3778,2,-999.0000,9,    258.0,6,    42.78,6,    23.58,6,     0.02,6,     1.84,6,   -999.0,9,   -999.0,9,-999.0000,9,  -999.00,     2246
  49UF20160512,KS1605,  4770,  1,     20,  25254,2,20160514,2203, 39.9860, 145.9850, 5137,    303.4,   3.7123,  33.5346,2,-999.0000,9,    213.8,2,    51.86,2,    27.13,2,     0.04,2,     2.06,2,   -999.0,9,   -999.0,9,-999.0000,9,  -999.00,     2244
  49UF20160512,KS1605,  4770,  1,     21,  25255,2,20160514,2203, 39.9860, 145.9850, 5137,    303.7,   3.8508,  33.5550,2,-999.0000,9,    213.6,2,    51.78,2,    27.11,2,     0.04,2,     2.06,2,   -999.0,9,   -999.0,9,-999.0000,9,  -999.00,     2244
  49UF20160512,KS1605,  4770,  1,     19,  25253,2,20160514,2203, 39.9860, 145.9850, 5137,    403.7,   3.8177,  33.7333,2,-999.0000,9,    144.9,2,    70.41,2,    33.24,2,     0.01,2,     2.47,2,   -999.0,9,   -999.0,9,-999.0000,9,  -999.00,     2241
  49UF20160512,KS1605,  4770,  1,     15,  25249,2,20160514,2203, 39.9860, 145.9850, 5137,    505.1,   3.6571,  33.8538,2,-999.0000,9,    100.0,2,    86.19,2,    37.59,2,     0.00,2,     2.74,2,   -999.0,9,   -999.0,9,-999.0000,9,  -999.00,     2239
  49UF20160512,KS1605,  4770,  1,     14,  25248,2,20160514,2203, 39.9860, 145.9850, 5137,    606.8,   3.7376,  34.0302,2,-999.0000,9,     60.3,2,   102.30,2,    40.62,2,     0.00,2,     2.92,2,   -999.0,9,   -999.0,9,-999.0000,9,  -999.00,     2236
  49UF20160512,KS1605,  4770,  1,     13,  25247,2,20160514,2203, 39.9860, 145.9850, 5137,    707.1,   3.7485,  34.1475,2,-999.0000,9,     48.7,2,   111.63,2,    41.17,2,     0.00,2,     2.96,2,   -999.0,9,   -999.0,9,-999.0000,9,  -999.00,     2234
  49UF20160512,KS1605,  4770,  1,     12,  25246,2,20160514,2203, 39.9860, 145.9850, 5137,    808.5,   3.3083,  34.2124,2,-999.0000,9,     36.4,2,   125.76,2,    42.45,2,     0.00,2,     3.05,2,   -999.0,9,   -999.0,9,-999.0000,9,  -999.00,     2231
  49UF20160512,KS1605,  4770,  1,     11,  25245,2,20160514,2203, 39.9860, 145.9850, 5137,    910.5,   3.3875,  34.3184,2,-999.0000,9,     41.2,2,   128.26,2,    41.86,2,     0.00,2,     3.01,2,   -999.0,9,   -999.0,9,-999.0000,9,  -999.00,     2228
  49UF20160512,KS1605,  4770,  1,     10,  25244,2,20160514,2203, 39.9860, 145.9850, 5137,   1011.8,   3.1865,  34.3658,2,-999.0000,9,     41.0,2,   134.29,2,    42.15,2,     0.00,2,     3.03,2,   -999.0,9,   -999.0,9,-999.0000,9,  -999.00,     2226
  49UF20160512,KS1605,  4770,  1,      6,  25240,2,20160514,2203, 39.9860, 145.9850, 5137,   1214.7,   2.5756,  34.4127,2,-999.0000,9,     31.2,2,   154.75,2,    43.32,2,     0.00,2,     3.10,2,   -999.0,9,   -999.0,9,-999.0000,9,  -999.00,     2221
  49UF20160512,KS1605,  4770,  1,      5,  25239,2,20160514,2203, 39.9860, 145.9850, 5137,   1417.0,   2.3734,  34.4746,2,-999.0000,9,     42.4,2,   159.17,2,    42.62,2,     0.00,2,     3.05,2,   -999.0,9,   -999.0,9,-999.0000,9,  -999.00,     2216
  49UF20160512,KS1605,  4770,  1,      4,  25238,2,20160514,2203, 39.9860, 145.9850, 5137,   1620.3,   2.2386,  34.5241,2,-999.0000,9,     50.1,6,   161.63,6,    42.34,6,     0.00,6,     3.02,6,   -999.0,9,   -999.0,9,-999.0000,9,  -999.00,     2212
  49UF20160512,KS1605,  4770,  1,      3,  25237,2,20160514,2203, 39.9860, 145.9850, 5137,   1821.3,   2.1119,  34.5607,2,-999.0000,9,     60.7,2,   162.49,2,    41.81,2,     0.00,2,     2.96,2,   -999.0,9,   -999.0,9,-999.0000,9,  -999.00,     2208
  49UF20160512,KS1605,  4770,  1,      2,  25236,2,20160514,2203, 39.9860, 145.9850, 5137,   1821.9,   2.1118,  34.5610,2,-999.0000,9,     60.9,2,   162.36,2,    41.82,2,     0.00,2,     2.96,2,   -999.0,9,   -999.0,9,-999.0000,9,  -999.00,     2208
  49UF20160512,KS1605,  4770,  1,      1,  25235,2,20160514,2203, 39.9860, 145.9850, 5137,   2025.8,   1.9698,  34.5887,2,-999.0000,9,     72.6,2,   163.47,2,    41.19,2,     0.00,2,     2.92,2,   -999.0,9,   -999.0,9,-999.0000,9,  -999.00,     2203