BOTTLE,20191223PRINUNIVRMK
EXPOCODE,SECT_ID,STNNBR,CASTNO,SAMPNO,BTLNBR,BTLNBR_FLAG_W,DATE,TIME,LATITUDE,LONGITUDE,DEPTH,CTDPRS,CTDTMP,CTDSAL,CTDSAL_FLAG_W,SALNTY,SALNTY_FLAG_W,OXYGEN,OXYGEN_FLAG_W,SILCAT,SILCAT_FLAG_W,NITRAT,NITRAT_FLAG_W,NITRIT,NITRIT_FLAG_W,PHSPHT,PHSPHT_FLAG_W,TCARBN,TCARBN_FLAG_W,ALKALI,ALKALI_FLAG_W,PH_TOT,PH_TOT_FLAG_W,PH_TMP,BTL_TIME
,,,,,,,,,,,METERS,DBAR,ITS-90,PSS-78,,PSS-78,,UMOL/KG,,UMOL/KG,,UMOL/KG,,UMOL/KG,,UMOL/KG,,UMOL/KG,,UMOL/KG,,,,DEG C,
  49UF20160512,KS1605,  4775,  1,     99,     99,2,20160516,1436, 40.0048, 151.6562, 5668,      0.0,  14.9254,  34.5629,2,-999.0000,9,    257.0,2,     7.03,2,     2.99,2,     0.20,2,     0.28,2,   -999.0,9,   -999.0,9,-999.0000,9,  -999.00,     1514
  49UF20160512,KS1605,  4775,  1,     33,  25267,2,20160516,1436, 40.0048, 151.6562, 5668,     12.2,  14.9282,  34.5628,2,  34.5605,2,    258.2,2,     6.29,2,     2.92,2,     0.21,2,     0.27,2,   -999.0,9,   -999.0,9,-999.0000,9,  -999.00,     1534
  49UF20160512,KS1605,  4775,  1,     32,  25266,2,20160516,1436, 40.0048, 151.6562, 5668,     26.6,  14.9152,  34.5600,2,-999.0000,9,    258.4,2,     6.21,2,     2.95,2,     0.21,2,     0.27,2,   -999.0,9,   -999.0,9,-999.0000,9,  -999.00,     1532
  49UF20160512,KS1605,  4775,  1,     31,  25265,2,20160516,1436, 40.0048, 151.6562, 5668,     52.4,  14.0068,  34.5233,2,-999.0000,9,    233.1,2,    10.91,2,     7.01,2,     0.46,2,     0.54,2,   -999.0,9,   -999.0,9,-999.0000,9,  -999.00,     1531
  49UF20160512,KS1605,  4775,  1,     30,  25264,2,20160516,1436, 40.0048, 151.6562, 5668,     78.7,  12.3476,  34.4009,2,-999.0000,9,    209.0,6,    17.58,6,    12.04,6,     0.05,6,     0.85,6,   -999.0,9,   -999.0,9,-999.0000,9,  -999.00,     1529
  49UF20160512,KS1605,  4775,  1,     28,  25262,2,20160516,1436, 40.0048, 151.6562, 5668,    104.3,  10.9092,  34.2272,2,  34.2309,2,    215.1,2,    19.64,2,    12.98,2,     0.12,2,     0.96,2,   -999.0,9,   -999.0,9,-999.0000,9,  -999.00,     1527
  49UF20160512,KS1605,  4775,  1,     29,  25263,2,20160516,1436, 40.0048, 151.6562, 5668,    104.4,  10.9039,  34.2266,2,  34.2295,2,    215.5,2,    19.60,2,    12.95,2,     0.12,2,     0.96,2,   -999.0,9,   -999.0,9,-999.0000,9,  -999.00,     1527
  49UF20160512,KS1605,  4775,  1,     24,  25258,2,20160516,1436, 40.0048, 151.6562, 5668,    127.6,  10.2987,  34.1872,2,-999.0000,9,    213.6,2,    22.39,2,    14.26,2,     0.06,2,     1.03,2,   -999.0,9,   -999.0,9,-999.0000,9,  -999.00,     1526
  49UF20160512,KS1605,  4775,  1,     23,  25257,2,20160516,1436, 40.0048, 151.6562, 5668,    154.8,   9.2257,  34.0424,2,-999.0000,9,    229.8,2,    21.98,2,    13.84,2,     0.03,2,     1.02,2,   -999.0,9,   -999.0,9,-999.0000,9,  -999.00,     1522
  49UF20160512,KS1605,  4775,  1,     22,  25256,2,20160516,1436, 40.0048, 151.6562, 5668,    205.6,   8.5974,  34.0806,2,  34.0620,2,    183.2,2,    36.08,2,    20.58,2,     0.02,2,     1.49,2,   -999.0,9,   -999.0,9,-999.0000,9,  -999.00,     1520
  49UF20160512,KS1605,  4775,  1,     21,  25255,2,20160516,1436, 40.0048, 151.6562, 5668,    254.1,   7.2385,  34.0261,2,-999.0000,9,    157.7,2,    48.63,2,    25.59,2,     0.02,2,     1.86,2,   -999.0,9,   -999.0,9,-999.0000,9,  -999.00,     1519
  49UF20160512,KS1605,  4775,  1,     20,  25254,2,20160516,1436, 40.0048, 151.6562, 5668,    307.2,   6.7060,  34.0534,2,-999.0000,9,    139.4,2,    56.87,2,    28.33,2,     0.03,2,     2.05,2,   -999.0,9,   -999.0,9,-999.0000,9,  -999.00,     1517
  49UF20160512,KS1605,  4775,  1,     19,  25253,2,20160516,1436, 40.0048, 151.6562, 5668,    406.7,   5.6972,  34.1138,2,  34.1089,2,    106.3,2,    74.65,2,    33.09,2,     0.01,2,     2.39,2,   -999.0,9,   -999.0,9,-999.0000,9,  -999.00,     1514
  49UF20160512,KS1605,  4775,  1,     15,  25249,2,20160516,1436, 40.0048, 151.6562, 5668,    506.7,   4.9635,  34.1638,2,-999.0000,9,     82.2,2,    89.46,2,    36.44,2,     0.00,2,     2.62,2,   -999.0,9,   -999.0,9,-999.0000,9,  -999.00,     1512
  49UF20160512,KS1605,  4775,  1,     14,  25248,2,20160516,1436, 40.0048, 151.6562, 5668,    611.1,   3.7974,  34.1415,2,  34.1551,4,     51.2,2,   108.67,2,    40.71,2,     0.00,2,     2.92,2,   -999.0,9,   -999.0,9,-999.0000,9,  -999.00,     1509
  49UF20160512,KS1605,  4775,  1,     13,  25247,2,20160516,1436, 40.0048, 151.6562, 5668,    707.6,   3.4773,  34.2124,2,-999.0000,9,     39.4,2,   121.92,2,    42.03,2,     0.00,2,     3.01,2,   -999.0,9,   -999.0,9,-999.0000,9,  -999.00,     1506
  49UF20160512,KS1605,  4775,  1,     12,  25246,2,20160516,1436, 40.0048, 151.6562, 5668,    809.8,   3.3706,  34.2934,2,  34.2932,2,     39.2,6,   128.16,6,    42.08,6,     0.00,6,     3.01,6,   -999.0,9,   -999.0,9,-999.0000,9,  -999.00,     1503
  49UF20160512,KS1605,  4775,  1,     10,  25244,2,20160516,1436, 40.0048, 151.6562, 5668,    909.8,   3.0469,  34.3209,2,-999.0000,9,     34.8,2,   137.33,2,    42.74,2,     0.00,2,     3.06,2,   -999.0,9,   -999.0,9,-999.0000,9,  -999.00,     1501
  49UF20160512,KS1605,  4775,  1,     11,  25245,2,20160516,1436, 40.0048, 151.6562, 5668,    910.9,   3.0473,  34.3212,2,-999.0000,9,     34.3,2,   137.70,2,    42.71,2,     0.00,2,     3.06,2,   -999.0,9,   -999.0,9,-999.0000,9,  -999.00,     1501
  49UF20160512,KS1605,  4775,  1,      6,  25240,2,20160516,1436, 40.0048, 151.6562, 5668,   1010.6,   2.8703,  34.3747,2,  34.3735,6,     33.9,2,   143.66,2,    42.85,2,     0.00,2,     3.07,2,   -999.0,9,   -999.0,9,-999.0000,9,  -999.00,     1458
  49UF20160512,KS1605,  4775,  1,      5,  25239,2,20160516,1436, 40.0048, 151.6562, 5668,   1215.7,   2.5961,  34.4479,2,  34.4472,2,     37.7,2,   151.84,2,    42.89,2,     0.00,2,     3.06,2,   -999.0,9,   -999.0,9,-999.0000,9,  -999.00,     1453
  49UF20160512,KS1605,  4775,  1,      4,  25238,2,20160516,1436, 40.0048, 151.6562, 5668,   1418.3,   2.4054,  34.4930,2,  34.4924,2,     43.5,2,   157.14,2,    42.78,2,     0.00,2,     3.04,2,   -999.0,9,   -999.0,9,-999.0000,9,  -999.00,     1449
  49UF20160512,KS1605,  4775,  1,      3,  25237,2,20160516,1436, 40.0048, 151.6562, 5668,   1624.2,   2.2179,  34.5388,2,  34.5381,2,     52.2,2,   160.64,2,    42.34,2,     0.00,2,     3.00,2,   -999.0,9,   -999.0,9,-999.0000,9,  -999.00,     1444
  49UF20160512,KS1605,  4775,  1,      2,  25236,2,20160516,1436, 40.0048, 151.6562, 5668,   1824.4,   2.0610,  34.5702,2,  34.5698,6,     63.9,2,   162.47,2,    41.72,2,     0.00,2,     2.95,2,   -999.0,9,   -999.0,9,-999.0000,9,  -999.00,     1440
  49UF20160512,KS1605,  4775,  1,      1,  25235,2,20160516,1436, 40.0048, 151.6562, 5668,   2027.1,   1.9173,  34.5971,2,  34.5973,2,     76.4,2,   163.43,2,    40.96,2,     0.00,2,     2.89,2,   -999.0,9,   -999.0,9,-999.0000,9,  -999.00,     1436
  49UF20160512,KS1605,  4776,  1,     99,     99,2,20160516,2231, 40.0045, 152.9917, 5675,      0.0,  12.6133,  34.3408,2,-999.0000,9,    279.4,2,    12.26,2,     5.07,2,     0.08,2,     0.41,2,   -999.0,9,   -999.0,9,-999.0000,9,  -999.00,     2310
  49UF20160512,KS1605,  4776,  1,     33,  25267,2,20160516,2231, 40.0045, 152.9917, 5675,     12.6,  12.5983,  34.3414,2,-999.0000,9,    280.5,2,    12.20,2,     4.94,2,     0.07,2,     0.41,2,   -999.0,9,   -999.0,9,-999.0000,9,  -999.00,     2330
  49UF20160512,KS1605,  4776,  1,     32,  25266,2,20160516,2231, 40.0045, 152.9917, 5675,     27.7,  12.5838,  34.3412,2,-999.0000,9,    279.8,2,    12.25,2,     4.93,2,     0.07,2,     0.41,2,   -999.0,9,   -999.0,9,-999.0000,9,  -999.00,     2328
  49UF20160512,KS1605,  4776,  1,     31,  25265,2,20160516,2231, 40.0045, 152.9917, 5675,     53.4,  12.0740,  34.3501,2,-999.0000,9,    264.4,6,    12.91,6,     6.55,6,     0.21,6,     0.55,6,   -999.0,9,   -999.0,9,-999.0000,9,  -999.00,     2327
  49UF20160512,KS1605,  4776,  1,     30,  25264,2,20160516,2231, 40.0045, 152.9917, 5675,     77.6,  11.7585,  34.3395,2,-999.0000,9,    260.9,2,    13.19,2,     7.30,2,     0.33,2,     0.60,2,   -999.0,9,   -999.0,9,-999.0000,9,  -999.00,     2326
  49UF20160512,KS1605,  4776,  1,     29,  25263,2,20160516,2231, 40.0045, 152.9917, 5675,     78.1,  11.7588,  34.3393,2,-999.0000,9,    261.2,2,    13.17,2,     7.31,2,     0.32,2,     0.60,2,   -999.0,9,   -999.0,9,-999.0000,9,  -999.00,     2325
  49UF20160512,KS1605,  4776,  1,     28,  25262,2,20160516,2231, 40.0045, 152.9917, 5675,    104.4,  11.3749,  34.3096,2,-999.0000,9,    263.1,2,    13.76,2,     7.77,2,     0.28,2,     0.64,2,   -999.0,9,   -999.0,9,-999.0000,9,  -999.00,     2324
  49UF20160512,KS1605,  4776,  1,     24,  25258,2,20160516,2231, 40.0045, 152.9917, 5675,    130.2,  11.1017,  34.2980,2,-999.0000,9,    262.2,2,    14.33,2,     8.50,2,     0.35,2,     0.68,2,   -999.0,9,   -999.0,9,-999.0000,9,  -999.00,     2323
  49UF20160512,KS1605,  4776,  1,     23,  25257,2,20160516,2231, 40.0045, 152.9917, 5675,    152.5,  10.8591,  34.2722,2,-999.0000,9,    263.9,2,    14.80,2,     8.89,2,     0.31,2,     0.70,2,   -999.0,9,   -999.0,9,-999.0000,9,  -999.00,     2319
  49UF20160512,KS1605,  4776,  1,     22,  25256,2,20160516,2231, 40.0045, 152.9917, 5675,    205.0,  10.6077,  34.2559,2,-999.0000,9,    263.4,2,    14.64,2,     9.67,2,     0.10,2,     0.72,2,   -999.0,9,   -999.0,9,-999.0000,9,  -999.00,     2317
  49UF20160512,KS1605,  4776,  1,     21,  25255,2,20160516,2231, 40.0045, 152.9917, 5675,    254.3,   9.4471,  34.0575,2,-999.0000,9,    254.7,2,    19.52,2,    12.35,2,     0.17,2,     0.94,2,   -999.0,9,   -999.0,9,-999.0000,9,  -999.00,     2315
  49UF20160512,KS1605,  4776,  1,     20,  25254,2,20160516,2231, 40.0045, 152.9917, 5675,    305.7,   8.5341,  33.9792,2,-999.0000,9,    240.9,2,    24.50,2,    15.47,2,     0.02,2,     1.14,2,   -999.0,9,   -999.0,9,-999.0000,9,  -999.00,     2313
  49UF20160512,KS1605,  4776,  1,     19,  25253,2,20160516,2231, 40.0045, 152.9917, 5675,    407.9,   6.6990,  33.8802,2,-999.0000,9,    188.0,2,    43.46,2,    23.88,2,     0.01,2,     1.75,2,   -999.0,9,   -999.0,9,-999.0000,9,  -999.00,     2310
  49UF20160512,KS1605,  4776,  1,     15,  25249,2,20160516,2231, 40.0045, 152.9917, 5675,    508.6,   5.3539,  33.9284,2,-999.0000,9,    138.2,2,    64.56,2,    30.97,2,     0.00,2,     2.25,2,   -999.0,9,   -999.0,9,-999.0000,9,  -999.00,     2306
  49UF20160512,KS1605,  4776,  1,     14,  25248,2,20160516,2231, 40.0045, 152.9917, 5675,    607.4,   4.7725,  34.0242,2,-999.0000,9,     98.8,2,    82.12,2,    35.55,2,     0.00,2,     2.57,2,   -999.0,9,   -999.0,9,-999.0000,9,  -999.00,     2303
  49UF20160512,KS1605,  4776,  1,     13,  25247,2,20160516,2231, 40.0045, 152.9917, 5675,    708.7,   4.2803,  34.1238,2,-999.0000,9,     68.5,6,    98.79,6,    38.83,6,     0.00,6,     2.79,6,   -999.0,9,   -999.0,9,-999.0000,9,  -999.00,     2300
  49UF20160512,KS1605,  4776,  1,     11,  25245,2,20160516,2231, 40.0045, 152.9917, 5675,    811.0,   3.9602,  34.2071,2,-999.0000,9,     52.2,2,   111.05,2,    40.52,2,     0.00,2,     2.90,2,   -999.0,9,   -999.0,9,-999.0000,9,  -999.00,     2257
  49UF20160512,KS1605,  4776,  1,     12,  25246,2,20160516,2231, 40.0045, 152.9917, 5675,    811.4,   3.9574,  34.2066,2,-999.0000,9,     52.2,2,   111.13,2,    40.54,2,     0.00,2,     2.90,2,   -999.0,9,   -999.0,9,-999.0000,9,  -999.00,     2258
  49UF20160512,KS1605,  4776,  1,     10,  25244,2,20160516,2231, 40.0045, 152.9917, 5675,    912.1,   3.4937,  34.2385,2,-999.0000,9,     38.9,2,   123.60,2,    42.10,2,     0.00,2,     3.01,2,   -999.0,9,   -999.0,9,-999.0000,9,  -999.00,     2255
  49UF20160512,KS1605,  4776,  1,      9,  25243,2,20160516,2231, 40.0045, 152.9917, 5675,   1013.2,   3.4320,  34.3361,2,-999.0000,9,     43.2,2,   128.15,2,    41.76,2,     0.00,2,     2.99,2,   -999.0,9,   -999.0,9,-999.0000,9,  -999.00,     2252
  49UF20160512,KS1605,  4776,  1,      8,  25242,2,20160516,2231, 40.0045, 152.9917, 5675,   1212.7,   2.9401,  34.3959,2,-999.0000,9,     37.1,2,   142.51,2,    42.77,2,     0.00,2,     3.06,2,   -999.0,9,   -999.0,9,-999.0000,9,  -999.00,     2247
  49UF20160512,KS1605,  4776,  1,      7,  25241,2,20160516,2231, 40.0045, 152.9917, 5675,   1414.3,   2.6154,  34.4600,2,-999.0000,9,     39.2,2,   151.75,2,    42.91,2,     0.00,2,     3.06,2,   -999.0,9,   -999.0,9,-999.0000,9,  -999.00,     2243
  49UF20160512,KS1605,  4776,  1,      6,  25240,2,20160516,2231, 40.0045, 152.9917, 5675,   1617.1,   2.3860,  34.5037,2,-999.0000,9,     44.3,2,   158.06,2,    42.78,2,     0.00,2,     3.04,2,   -999.0,9,   -999.0,9,-999.0000,9,  -999.00,     2239
  49UF20160512,KS1605,  4776,  1,      5,  25239,2,20160516,2231, 40.0045, 152.9917, 5675,   1821.3,   2.2114,  34.5437,2,-999.0000,9,     53.6,2,   161.46,2,    42.33,2,     0.00,2,     3.00,2,   -999.0,9,   -999.0,9,-999.0000,9,  -999.00,     2235
  49UF20160512,KS1605,  4776,  1,      4,  25238,2,20160516,2231, 40.0045, 152.9917, 5675,   2024.8,   2.0598,  34.5734,2,-999.0000,9,     64.6,2,   163.22,2,    41.73,2,     0.00,2,     2.95,2,   -999.0,9,   -999.0,9,-999.0000,9,  -999.00,     2231