BOTTLE,20191223PRINUNIVRMK
EXPOCODE,SECT_ID,STNNBR,CASTNO,SAMPNO,BTLNBR,BTLNBR_FLAG_W,DATE,TIME,LATITUDE,LONGITUDE,DEPTH,CTDPRS,CTDTMP,CTDSAL,CTDSAL_FLAG_W,SALNTY,SALNTY_FLAG_W,OXYGEN,OXYGEN_FLAG_W,SILCAT,SILCAT_FLAG_W,NITRAT,NITRAT_FLAG_W,NITRIT,NITRIT_FLAG_W,PHSPHT,PHSPHT_FLAG_W,TCARBN,TCARBN_FLAG_W,ALKALI,ALKALI_FLAG_W,PH_TOT,PH_TOT_FLAG_W,PH_TMP,BTL_TIME
,,,,,,,,,,,METERS,DBAR,ITS-90,PSS-78,,PSS-78,,UMOL/KG,,UMOL/KG,,UMOL/KG,,UMOL/KG,,UMOL/KG,,UMOL/KG,,UMOL/KG,,,,DEG C,
  49UF20160512,KS1605,  4785,  1,     99,     99,2,20160520,0143, 40.0257, 165.0178, 5471,      0.0,  11.7506,  34.2732,2,  34.2722,2,    277.0,2,    13.67,2,     7.36,2,     0.12,2,     0.58,2,   2067.6,2,   2271.4,2,   7.8911,2,    25.00,      325
  49UF20160512,KS1605,  4785,  1,     36,  25270,2,20160520,0143, 40.0257, 165.0178, 5471,     11.7,  11.7505,  34.2732,2,  34.2717,2,    277.0,2,    13.56,2,     7.31,2,     0.11,2,     0.59,2,   2066.5,2,   2271.3,2,   7.8905,2,    25.00,      401
  49UF20160512,KS1605,  4785,  1,     35,  25269,2,20160520,0143, 40.0257, 165.0178, 5471,     26.5,  11.7272,  34.2752,2,-999.0000,9,    276.9,2,    13.46,2,     7.26,2,     0.11,2,     0.58,2,   2073.0,2,   2270.3,2,   7.8910,2,    25.00,      400
  49UF20160512,KS1605,  4785,  1,     34,  25268,2,20160520,0143, 40.0257, 165.0178, 5471,     54.0,  11.2361,  34.2410,2,-999.0000,9,    271.2,6,    14.43,6,     8.14,6,     0.16,6,     0.66,6,   2074.5,2,   2269.2,2,   7.8716,2,    25.00,      355
  49UF20160512,KS1605,  4785,  1,     33,  25267,2,20160520,0143, 40.0257, 165.0178, 5471,     75.9,  11.0066,  34.2123,2,-999.0000,9,    275.3,2,    14.63,2,     8.23,2,     0.18,2,     0.66,2,   2076.6,2,   2269.6,2,   7.8683,2,    25.00,      354
  49UF20160512,KS1605,  4785,  1,     32,  25266,2,20160520,0143, 40.0257, 165.0178, 5471,    102.3,  10.7790,  34.2156,2,  34.2143,2,    263.1,2,    15.37,2,     9.65,2,     0.25,2,     0.74,2,   2080.3,2,   2269.0,2,   7.8495,2,    25.00,      353
  49UF20160512,KS1605,  4785,  1,     31,  25265,2,20160520,0143, 40.0257, 165.0178, 5471,    126.2,  10.2258,  34.1633,2,-999.0000,9,    261.1,2,    16.97,2,    11.07,2,     0.14,2,     0.83,2,   2099.3,2,   2267.4,2,   7.8309,2,    25.00,      351
  49UF20160512,KS1605,  4785,  1,     30,  25264,2,20160520,0143, 40.0257, 165.0178, 5471,    152.7,   9.6043,  34.0860,2,-999.0000,9,    266.9,2,    17.66,2,    11.44,2,     0.20,2,     0.87,2,   2098.5,2,   2263.7,2,   7.8207,2,    25.00,      350
  49UF20160512,KS1605,  4785,  1,     29,  25263,2,20160520,0143, 40.0257, 165.0178, 5471,    203.9,   8.4143,  33.9306,2,  33.9297,2,    267.5,2,    20.84,2,    13.60,2,     0.02,2,     1.03,2,   2106.2,2,   2259.5,2,   7.7867,2,    25.00,      348
  49UF20160512,KS1605,  4785,  1,     28,  25262,2,20160520,0143, 40.0257, 165.0178, 5471,    254.6,   7.6146,  33.8390,2,-999.0000,9,    260.2,2,    24.26,2,    15.51,2,     0.01,2,     1.17,2,   2117.0,2,   2257.2,2,   7.7537,2,    25.00,      346
  49UF20160512,KS1605,  4785,  1,     27,  25261,2,20160520,0143, 40.0257, 165.0178, 5471,    305.4,   7.5153,  33.9475,2,-999.0000,9,    193.9,2,    37.44,2,    21.82,2,     0.01,2,     1.59,2,   2162.9,2,   2272.2,2,   7.6628,2,    25.00,      344
  49UF20160512,KS1605,  4785,  1,     26,  25260,2,20160520,0143, 40.0257, 165.0178, 5471,    405.5,   5.6500,  33.8994,2,  33.9005,6,    152.0,2,    57.86,2,    29.28,2,     0.00,2,     2.13,2,   2226.2,2,   2285.2,2,   7.5372,2,    25.00,      342
  49UF20160512,KS1605,  4785,  1,     25,  25259,2,20160520,0143, 40.0257, 165.0178, 5471,    506.8,   4.8668,  33.9820,2,-999.0000,9,    110.4,6,    76.17,6,    34.39,6,     0.00,6,     2.49,6,   2260.8,2,   2298.7,2,   7.4531,2,    25.00,      339
  49UF20160512,KS1605,  4785,  1,     24,  25258,2,20160520,0143, 40.0257, 165.0178, 5471,    608.0,   4.3677,  34.0961,2,  34.0978,2,     73.0,2,    94.91,2,    38.39,2,     0.00,2,     2.75,2,   2302.4,6,   2321.7,6,   7.3932,2,    25.00,      336
  49UF20160512,KS1605,  4785,  1,     23,  25257,2,20160520,0143, 40.0257, 165.0178, 5471,    709.1,   4.0480,  34.1889,2,-999.0000,9,     53.5,2,   107.69,2,    40.26,2,     0.00,2,     2.88,2,   2329.6,2,   2334.8,2,   7.3690,6,    25.00,      333
  49UF20160512,KS1605,  4785,  1,     22,  25256,2,20160520,0143, 40.0257, 165.0178, 5471,    811.4,   3.7117,  34.2585,2,  34.2580,2,     43.4,2,   118.95,2,    41.44,2,     0.00,2,     2.97,2,   2346.0,2,   2350.5,2,   7.3558,2,    25.00,      330
  49UF20160512,KS1605,  4785,  1,     21,  25255,4,20160520,0143, 40.0257, 165.0178, 5471,    912.4,   3.3507,  34.3165,2,-999.0000,9,     45.9,4,   114.75,4,    41.14,4,     0.00,4,     2.94,4,   2337.3,4,   2343.2,4,   7.3595,4,    25.00,      327
  49UF20160512,KS1605,  4785,  1,     20,  25254,2,20160520,0143, 40.0257, 165.0178, 5471,   1012.2,   3.1577,  34.3525,2,  34.3521,6,     33.6,2,   135.83,2,    42.69,2,     0.00,2,     3.05,2,   2369.5,2,   2369.2,2,   7.3477,2,    25.00,      324
  49UF20160512,KS1605,  4785,  1,     19,  25253,2,20160520,0143, 40.0257, 165.0178, 5471,   1215.3,   2.7835,  34.4156,2,  34.4144,6,     33.4,2,   147.56,2,    43.03,2,     0.00,2,     3.07,2,   2375.5,2,   2382.6,2,   7.3506,2,    25.00,      319
  49UF20160512,KS1605,  4785,  1,     18,  25252,2,20160520,0143, 40.0257, 165.0178, 5471,   1417.6,   2.5142,  34.4764,2,  34.4775,6,     37.1,2,   155.27,2,    43.11,2,     0.00,2,     3.06,2,   2389.7,2,   2392.6,2,   7.3614,2,    25.00,      314
  49UF20160512,KS1605,  4785,  1,     17,  25251,2,20160520,0143, 40.0257, 165.0178, 5471,   1621.9,   2.2670,  34.5193,2,  34.5207,2,     45.2,2,   161.82,2,    42.68,2,     0.00,2,     3.02,2,   2391.7,2,   2400.7,2,   7.3798,2,    25.00,      309
  49UF20160512,KS1605,  4785,  1,     16,  25250,2,20160520,0143, 40.0257, 165.0178, 5471,   1824.2,   2.0898,  34.5584,2,  34.5609,4,     56.4,6,   164.94,6,    42.10,6,     0.00,6,     2.97,6,   2390.2,2,   2407.8,2,   7.4034,2,    25.00,      304
  49UF20160512,KS1605,  4785,  1,     15,  25249,2,20160520,0143, 40.0257, 165.0178, 5471,   2029.3,   1.9592,  34.5873,2,  34.5879,2,     69.1,2,   165.32,2,    41.30,2,     0.00,2,     2.91,2,   2384.8,2,   2411.9,2,   7.4280,2,    25.00,      259
  49UF20160512,KS1605,  4785,  1,     14,  25248,2,20160520,0143, 40.0257, 165.0178, 5471,   2283.4,   1.8283,  34.6124,2,  34.6150,4,     83.1,2,   165.88,2,    40.46,2,     0.00,2,     2.85,2,   2375.1,6,   2414.5,6,   7.4564,2,    25.00,      252
  49UF20160512,KS1605,  4785,  1,     13,  25247,2,20160520,0143, 40.0257, 165.0178, 5471,   2536.6,   1.7083,  34.6331,2,  34.6346,2,     98.0,2,   164.77,2,    39.47,2,     0.00,2,     2.78,2,   2365.2,2,   2415.4,2,   7.4866,6,    25.00,      247
  49UF20160512,KS1605,  4785,  1,     12,  25246,2,20160520,0143, 40.0257, 165.0178, 5471,   2792.0,   1.6316,  34.6474,2,  34.6489,2,    110.6,2,   162.63,2,    38.69,2,     0.00,2,     2.72,2,   2357.6,2,   2417.4,2,   7.5120,2,    25.00,      241
  49UF20160512,KS1605,  4785,  1,     11,  25245,2,20160520,0143, 40.0257, 165.0178, 5471,   3047.5,   1.5672,  34.6597,2,  34.6598,2,    122.6,2,   159.61,2,    37.96,2,     0.00,2,     2.66,2,   2353.5,2,   2418.2,2,   7.5321,2,    25.00,      236
  49UF20160512,KS1605,  4785,  1,     10,  25244,2,20160520,0143, 40.0257, 165.0178, 5471,   3301.7,   1.5210,  34.6682,2,  34.6682,6,    131.8,2,   157.39,2,    37.40,2,     0.00,2,     2.61,2,   2350.1,2,   2417.6,2,   7.5484,2,    25.00,      230
  49UF20160512,KS1605,  4785,  1,      9,  25243,2,20160520,0143, 40.0257, 165.0178, 5471,   3558.8,   1.4902,  34.6750,2,  34.6747,6,    139.4,2,   154.89,2,    36.86,2,     0.00,2,     2.57,2,   2340.9,2,   2416.6,2,   7.5645,2,    25.00,      225
  49UF20160512,KS1605,  4785,  1,      8,  25242,2,20160520,0143, 40.0257, 165.0178, 5471,   3815.5,   1.4762,  34.6793,2,  34.6794,6,    144.4,2,   154.03,2,    36.54,2,     0.00,2,     2.54,2,   2334.3,2,   2417.1,2,   7.5729,2,    25.00,      219
  49UF20160512,KS1605,  4785,  1,      7,  25241,2,20160520,0143, 40.0257, 165.0178, 5471,   4072.2,   1.4683,  34.6830,2,  34.6829,6,    149.3,6,   152.71,6,    36.24,6,     0.00,6,     2.52,6,   2332.7,2,   2416.7,2,   7.5782,2,    25.00,      214
  49UF20160512,KS1605,  4785,  1,      6,  25240,2,20160520,0143, 40.0257, 165.0178, 5471,   4328.2,   1.4756,  34.6854,2,  34.6851,6,    152.3,2,   152.18,2,    36.06,2,     0.00,2,     2.50,2,   2329.6,2,   2417.1,2,   7.5860,2,    25.00,      209
  49UF20160512,KS1605,  4785,  1,      5,  25239,2,20160520,0143, 40.0257, 165.0178, 5471,   4585.7,   1.4888,  34.6871,2,  34.6869,6,    154.5,2,   151.84,2,    35.93,2,     0.00,2,     2.49,2,   2328.7,6,   2416.4,6,   7.5864,2,    25.00,      203
  49UF20160512,KS1605,  4785,  1,      4,  25238,2,20160520,0143, 40.0257, 165.0178, 5471,   4841.9,   1.5056,  34.6887,2,  34.6884,6,    156.7,2,   151.89,2,    35.81,2,     0.00,2,     2.48,2,   2326.3,2,   2415.7,2,   7.5917,6,    25.00,      158
  49UF20160512,KS1605,  4785,  1,      3,  25237,2,20160520,0143, 40.0257, 165.0178, 5471,   5099.4,   1.5313,  34.6893,2,  34.6894,6,    157.3,2,   152.19,2,    35.75,2,     0.00,2,     2.47,2,   2326.4,2,   2416.1,2,   7.5935,2,    25.00,      153
  49UF20160512,KS1605,  4785,  1,      2,  25236,2,20160520,0143, 40.0257, 165.0178, 5471,   5357.9,   1.5601,  34.6900,2,  34.6894,2,    157.8,2,   152.47,2,    35.68,2,     0.00,2,     2.47,2,   2325.2,2,   2417.4,2,   7.5912,2,    25.00,      148
  49UF20160512,KS1605,  4785,  1,      1,  25235,2,20160520,0143, 40.0257, 165.0178, 5471,   5581.6,   1.5893,  34.6899,2,  34.6900,6,    158.0,2,   152.83,2,    35.67,2,     0.00,2,     2.47,2,   2323.1,2,   2416.8,2,   7.5926,2,    25.00,      143