BOTTLE,20191223PRINUNIVRMK
EXPOCODE,SECT_ID,STNNBR,CASTNO,SAMPNO,BTLNBR,BTLNBR_FLAG_W,DATE,TIME,LATITUDE,LONGITUDE,DEPTH,CTDPRS,CTDTMP,CTDSAL,CTDSAL_FLAG_W,SALNTY,SALNTY_FLAG_W,OXYGEN,OXYGEN_FLAG_W,SILCAT,SILCAT_FLAG_W,NITRAT,NITRAT_FLAG_W,NITRIT,NITRIT_FLAG_W,PHSPHT,PHSPHT_FLAG_W,TCARBN,TCARBN_FLAG_W,ALKALI,ALKALI_FLAG_W,PH_TOT,PH_TOT_FLAG_W,PH_TMP,BTL_TIME
,,,,,,,,,,,METERS,DBAR,ITS-90,PSS-78,,PSS-78,,UMOL/KG,,UMOL/KG,,UMOL/KG,,UMOL/KG,,UMOL/KG,,UMOL/KG,,UMOL/KG,,,,DEG C,
  49UF20160512,KS1605,  4773,  1,     99,     99,2,20160515,2031, 40.0070, 148.9953, 5519,      0.0,  12.3026,  34.0826,2,  34.0401,2,    290.5,2,     0.27,2,     1.61,2,     0.11,2,     0.14,2,   2021.9,2,   2272.2,2,   7.9712,2,    25.00,     2222
  49UF20160512,KS1605,  4773,  1,     36,  25270,2,20160515,2031, 40.0070, 148.9953, 5519,     10.7,  12.3049,  34.0836,2,  34.0868,2,    290.5,2,     0.35,2,     1.90,2,     0.12,2,     0.17,2,   2032.5,2,   2274.9,2,   7.9620,2,    25.00,     2240
  49UF20160512,KS1605,  4773,  1,     35,  25269,2,20160515,2031, 40.0070, 148.9953, 5519,     26.8,  10.7420,  34.0344,2,-999.0000,9,    279.4,2,     6.09,2,     4.92,2,     0.19,2,     0.46,2,   2058.6,2,   2269.6,2,   7.9003,2,    25.00,     2239
  49UF20160512,KS1605,  4773,  1,     34,  25268,2,20160515,2031, 40.0070, 148.9953, 5519,     49.4,   9.7672,  34.0384,2,-999.0000,9,    268.5,2,    13.76,2,     8.60,2,     0.29,2,     0.73,2,   2078.6,2,   2267.3,2,   7.8428,2,    25.00,     2235
  49UF20160512,KS1605,  4773,  1,     33,  25267,2,20160515,2031, 40.0070, 148.9953, 5519,     77.1,   7.9384,  33.7663,2,-999.0000,9,    285.2,2,    16.22,2,     9.85,2,     0.24,2,     0.86,2,   2093.5,2,   2261.9,2,   7.8161,2,    25.00,     2234
  49UF20160512,KS1605,  4773,  1,     32,  25266,2,20160515,2031, 40.0070, 148.9953, 5519,    100.8,   6.0744,  33.5054,2,  33.5013,2,    306.1,2,    18.81,2,    11.38,2,     0.19,2,     1.06,2,   2093.3,2,   2253.7,2,   7.7934,2,    25.00,     2233
  49UF20160512,KS1605,  4773,  1,     31,  25265,2,20160515,2031, 40.0070, 148.9953, 5519,    126.1,   7.2833,  33.7560,2,-999.0000,9,    257.5,6,    23.24,6,    14.59,6,     0.04,6,     1.11,6,   2110.9,2,   2261.3,2,   7.7526,2,    25.00,     2232
  49UF20160512,KS1605,  4773,  1,     30,  25264,2,20160515,2031, 40.0070, 148.9953, 5519,    153.7,   7.1108,  33.7901,2,-999.0000,9,    232.8,2,    30.67,2,    18.21,2,     0.05,2,     1.36,2,   2133.8,2,   2265.4,2,   7.7042,2,    25.00,     2230
  49UF20160512,KS1605,  4773,  1,     29,  25263,2,20160515,2031, 40.0070, 148.9953, 5519,    201.8,   7.3797,  33.9908,2,  33.9942,6,    170.9,2,    44.66,2,    24.22,2,     0.03,2,     1.75,2,   2184.8,2,   2281.0,2,   7.6271,2,    25.00,     2229
  49UF20160512,KS1605,  4773,  1,     28,  25262,2,20160515,2031, 40.0070, 148.9953, 5519,    253.4,   6.1260,  33.9322,2,-999.0000,9,    151.7,2,    56.65,2,    28.52,2,     0.03,2,     2.08,2,   2206.0,2,   2285.2,2,   7.5503,2,    25.00,     2227
  49UF20160512,KS1605,  4773,  1,     27,  25261,2,20160515,2031, 40.0070, 148.9953, 5519,    303.4,   4.3785,  33.7640,2,-999.0000,9,    145.8,2,    67.66,2,    32.27,2,     0.02,2,     2.36,2,   2236.9,2,   2283.6,2,   7.4750,2,    25.00,     2226
  49UF20160512,KS1605,  4773,  1,     26,  25260,2,20160515,2031, 40.0070, 148.9953, 5519,    402.2,   3.9800,  33.8882,2,  33.8891,2,    102.6,2,    84.30,2,    36.77,2,     0.01,2,     2.66,2,   2272.0,2,   2299.0,2,   7.3951,2,    25.00,     2223
  49UF20160512,KS1605,  4773,  1,     25,  25259,2,20160515,2031, 40.0070, 148.9953, 5519,    503.2,   4.5564,  34.1640,2,-999.0000,9,     72.0,2,    95.71,2,    37.97,2,     0.01,2,     2.72,2,   2299.3,2,   2327.2,2,   7.4073,2,    25.00,     2221
  49UF20160512,KS1605,  4773,  1,     24,  25258,2,20160515,2031, 40.0070, 148.9953, 5519,    606.7,   4.2915,  34.2898,2,  34.2899,2,     63.8,2,   107.46,2,    38.98,2,     0.00,2,     2.78,2,   2316.4,6,   2346.4,6,   7.4128,2,    25.00,     2218
  49UF20160512,KS1605,  4773,  1,     23,  25257,2,20160515,2031, 40.0070, 148.9953, 5519,    706.6,   3.7896,  34.2948,2,-999.0000,9,     49.6,2,   117.98,2,    40.86,2,     0.00,2,     2.92,2,   2334.7,2,   2352.8,2,   7.3793,6,    25.00,     2216
  49UF20160512,KS1605,  4773,  1,     22,  25256,2,20160515,2031, 40.0070, 148.9953, 5519,    808.8,   3.4056,  34.3404,2,  34.3405,2,     42.9,6,   128.12,6,    41.85,6,     0.00,6,     2.98,6,   2347.0,2,   2363.5,2,   7.3676,2,    25.00,     2213
  49UF20160512,KS1605,  4773,  1,     21,  25255,2,20160515,2031, 40.0070, 148.9953, 5519,    909.4,   3.1885,  34.3886,2,-999.0000,9,     39.1,3,   133.08,2,    42.29,2,     0.00,2,     3.02,2,   2352.9,2,   2366.3,2,   7.3584,2,    25.00,     2211
  49UF20160512,KS1605,  4773,  1,     20,  25254,2,20160515,2031, 40.0070, 148.9953, 5519,   1012.6,   2.9202,  34.4113,2,  34.4112,2,     39.4,2,   141.50,2,    42.65,2,     0.00,2,     3.03,2,   2369.3,2,   2380.2,2,   7.3652,2,    25.00,     2208
  49UF20160512,KS1605,  4773,  1,     19,  25253,2,20160515,2031, 40.0070, 148.9953, 5519,   1214.9,   2.5772,  34.4587,2,  34.4590,2,     39.0,2,   152.14,2,    42.97,2,     0.00,2,     3.05,2,   2376.7,2,   2390.6,2,   7.3647,2,    25.00,     2204
  49UF20160512,KS1605,  4773,  1,     18,  25252,2,20160515,2031, 40.0070, 148.9953, 5519,   1416.7,   2.3687,  34.5123,2,  34.5124,2,     46.1,2,   156.53,2,    42.69,2,     0.00,2,     3.02,2,   2379.9,6,   2398.5,6,   7.3871,2,    25.00,     2159
  49UF20160512,KS1605,  4773,  1,     17,  25251,2,20160515,2031, 40.0070, 148.9953, 5519,   1620.6,   2.1931,  34.5470,2,  34.5472,6,     54.7,2,   160.41,2,    42.31,2,     0.00,2,     2.98,2,   2382.6,2,   2404.8,2,   7.4018,6,    25.00,     2155
  49UF20160512,KS1605,  4773,  1,     16,  25250,2,20160515,2031, 40.0070, 148.9953, 5519,   1822.8,   2.0267,  34.5787,2,  34.5792,2,     67.5,2,   162.18,2,    41.62,2,     0.00,2,     2.92,2,   2381.1,2,   2410.5,2,   7.4283,2,    25.00,     2151
  49UF20160512,KS1605,  4773,  1,     15,  25249,2,20160515,2031, 40.0070, 148.9953, 5519,   2027.5,   1.9000,  34.6017,2,  34.6042,4,     79.4,2,   161.93,2,    40.83,2,     0.00,2,     2.86,2,   2370.8,2,   2413.0,2,   7.4517,2,    25.00,     2146
  49UF20160512,KS1605,  4773,  1,     14,  25248,2,20160515,2031, 40.0070, 148.9953, 5519,   2279.8,   1.7697,  34.6246,2,  34.6242,2,     94.1,2,   161.60,2,    39.96,2,     0.00,2,     2.80,2,   2360.8,2,   2416.7,2,   7.4804,2,    25.00,     2141
  49UF20160512,KS1605,  4773,  1,     13,  25247,2,20160515,2031, 40.0070, 148.9953, 5519,   2534.7,   1.6569,  34.6433,2,  34.6434,6,    109.2,6,   160.14,6,    38.99,6,     0.00,6,     2.73,6,   2354.4,2,   2418.1,2,   7.5071,2,    25.00,     2135
  49UF20160512,KS1605,  4773,  1,     12,  25246,2,20160515,2031, 40.0070, 148.9953, 5519,   2790.7,   1.6006,  34.6535,2,  34.6539,6,    118.1,2,   158.41,2,    38.34,2,     0.00,2,     2.68,2,   2352.9,6,   2419.0,6,   7.5208,2,    25.00,     2130
  49UF20160512,KS1605,  4773,  1,     11,  25245,2,20160515,2031, 40.0070, 148.9953, 5519,   3046.6,   1.5549,  34.6623,2,  34.6627,6,    126.4,2,   156.86,2,    37.84,2,     0.00,2,     2.63,2,   2345.4,2,   2416.4,2,   7.5372,6,    25.00,     2125
  49UF20160512,KS1605,  4773,  1,     10,  25244,2,20160515,2031, 40.0070, 148.9953, 5519,   3300.9,   1.5161,  34.6699,2,  34.6701,6,    134.9,2,   154.56,2,    37.34,2,     0.00,2,     2.60,2,   2341.1,2,   2418.7,2,   7.5520,2,    25.00,     2120
  49UF20160512,KS1605,  4773,  1,      9,  25243,2,20160515,2031, 40.0070, 148.9953, 5519,   3557.8,   1.4946,  34.6751,2,  34.6748,6,    140.3,2,   153.27,2,    36.93,2,     0.00,2,     2.56,2,   2334.2,2,   2416.8,2,   7.5637,2,    25.00,     2114
  49UF20160512,KS1605,  4773,  1,      8,  25242,2,20160515,2031, 40.0070, 148.9953, 5519,   3814.9,   1.4729,  34.6801,2,  34.6803,6,    146.8,2,   151.26,2,    36.49,2,     0.00,2,     2.53,2,   2333.8,2,   2417.5,2,   7.5752,2,    25.00,     2109
  49UF20160512,KS1605,  4773,  1,      7,  25241,2,20160515,2031, 40.0070, 148.9953, 5519,   4073.2,   1.4682,  34.6834,2,  34.6839,6,    150.9,2,   150.29,2,    36.23,2,     0.00,2,     2.51,2,   2322.2,3,   2415.5,2,   7.5792,2,    25.00,     2104
  49UF20160512,KS1605,  4773,  1,      6,  25240,2,20160515,2031, 40.0070, 148.9953, 5519,   4326.6,   1.4691,  34.6861,2,  34.6865,6,    154.0,2,   149.27,2,    35.99,2,     0.00,2,     2.49,2,   2329.2,2,   2414.9,2,   7.5820,2,    25.00,     2058
  49UF20160512,KS1605,  4773,  1,      5,  25239,2,20160515,2031, 40.0070, 148.9953, 5519,   4584.2,   1.4803,  34.6880,2,  34.6881,6,    156.6,2,   148.67,2,    35.79,2,     0.00,2,     2.48,2,   2325.6,2,   2414.5,2,   7.5894,2,    25.00,     2052
  49UF20160512,KS1605,  4773,  1,      4,  25238,2,20160515,2031, 40.0070, 148.9953, 5519,   4842.0,   1.4983,  34.6893,2,  34.6898,6,    158.6,6,   148.30,6,    35.71,6,     0.00,6,     2.47,6,   2321.7,2,   2415.8,2,   7.5904,2,    25.00,     2047
  49UF20160512,KS1605,  4773,  1,      3,  25237,2,20160515,2031, 40.0070, 148.9953, 5519,   5098.8,   1.5188,  34.6906,2,  34.6905,6,    160.3,2,   147.63,2,    35.60,2,     0.00,2,     2.46,2,   2316.8,2,   2413.4,2,   7.5933,2,    25.00,     2042
  49UF20160512,KS1605,  4773,  1,      2,  25236,2,20160515,2031, 40.0070, 148.9953, 5519,   5357.4,   1.5438,  34.6912,2,  34.6911,6,    161.8,2,   145.60,2,    35.44,2,     0.00,2,     2.45,2,   2316.1,2,   2414.3,2,   7.5953,2,    25.00,     2036
  49UF20160512,KS1605,  4773,  1,      1,  25235,2,20160515,2031, 40.0070, 148.9953, 5519,   5633.3,   1.5728,  34.6920,2,  34.6921,6,    163.1,2,   144.58,2,    35.34,2,     0.00,2,     2.44,2,   2317.3,2,   2412.0,2,   7.5955,2,    25.00,     2031
  49UF20160512,KS1605,  4774,  1,     99,     99,2,20160516,0705, 39.9830, 150.3332, 5352,      0.0,  14.6469,  34.5329,2,-999.0000,9,    257.9,2,     8.85,2,     3.89,2,     0.24,2,     0.35,2,   -999.0,9,   -999.0,9,-999.0000,9,  -999.00,      742
  49UF20160512,KS1605,  4774,  1,     33,  25267,2,20160516,0705, 39.9830, 150.3332, 5352,     10.4,  14.6479,  34.5327,2,-999.0000,9,    256.4,2,     8.67,2,     3.83,2,     0.24,2,     0.33,2,   -999.0,9,   -999.0,9,-999.0000,9,  -999.00,      806
  49UF20160512,KS1605,  4774,  1,     32,  25266,2,20160516,0705, 39.9830, 150.3332, 5352,     27.4,  14.6500,  34.5320,2,-999.0000,9,    255.8,2,     8.55,2,     3.89,2,     0.24,2,     0.33,2,   -999.0,9,   -999.0,9,-999.0000,9,  -999.00,      804
  49UF20160512,KS1605,  4774,  1,     31,  25265,2,20160516,0705, 39.9830, 150.3332, 5352,     53.1,  14.4545,  34.5226,2,-999.0000,9,    250.7,2,     9.09,2,     4.43,2,     0.27,2,     0.37,2,   -999.0,9,   -999.0,9,-999.0000,9,  -999.00,      803
  49UF20160512,KS1605,  4774,  1,     30,  25264,2,20160516,0705, 39.9830, 150.3332, 5352,     76.8,  11.8507,  34.3585,2,-999.0000,9,    205.4,2,    19.48,2,    13.03,2,     0.06,2,     0.92,2,   -999.0,9,   -999.0,9,-999.0000,9,  -999.00,      801
  49UF20160512,KS1605,  4774,  1,     29,  25263,2,20160516,0705, 39.9830, 150.3332, 5352,    101.2,  10.6717,  34.2448,2,-999.0000,9,    212.7,2,    21.76,2,    13.94,2,     0.04,2,     0.99,2,   -999.0,9,   -999.0,9,-999.0000,9,  -999.00,      757
  49UF20160512,KS1605,  4774,  1,     28,  25262,2,20160516,0705, 39.9830, 150.3332, 5352,    126.5,   9.2992,  34.0588,2,-999.0000,9,    225.8,6,    23.01,6,    14.33,6,     0.04,6,     1.04,6,   -999.0,9,   -999.0,9,-999.0000,9,  -999.00,      756
  49UF20160512,KS1605,  4774,  1,     23,  25257,2,20160516,0705, 39.9830, 150.3332, 5352,    151.3,   8.8478,  34.0224,2,-999.0000,9,    215.2,2,    27.52,2,    16.43,2,     0.05,2,     1.20,2,   -999.0,9,   -999.0,9,-999.0000,9,  -999.00,      754
  49UF20160512,KS1605,  4774,  1,     24,  25258,2,20160516,0705, 39.9830, 150.3332, 5352,    151.9,   8.8512,  34.0227,2,-999.0000,9,    215.5,2,    27.33,2,    16.38,2,     0.05,2,     1.20,2,   -999.0,9,   -999.0,9,-999.0000,9,  -999.00,      755
  49UF20160512,KS1605,  4774,  1,     22,  25256,2,20160516,0705, 39.9830, 150.3332, 5352,    200.4,   7.9568,  34.0025,2,-999.0000,9,    183.3,2,    39.17,2,    21.63,2,     0.03,2,     1.58,2,   -999.0,9,   -999.0,9,-999.0000,9,  -999.00,      753
  49UF20160512,KS1605,  4774,  1,     21,  25255,2,20160516,0705, 39.9830, 150.3332, 5352,    252.6,   7.6807,  34.1376,2,-999.0000,9,    138.6,2,    52.52,2,    26.68,2,     0.03,2,     1.92,2,   -999.0,9,   -999.0,9,-999.0000,9,  -999.00,      751
  49UF20160512,KS1605,  4774,  1,     20,  25254,2,20160516,0705, 39.9830, 150.3332, 5352,    302.3,   4.6348,  33.7790,2,-999.0000,9,    155.2,2,    65.30,2,    31.25,2,     0.01,2,     2.30,2,   -999.0,9,   -999.0,9,-999.0000,9,  -999.00,      749
  49UF20160512,KS1605,  4774,  1,     19,  25253,2,20160516,0705, 39.9830, 150.3332, 5352,    404.3,   3.1234,  33.7468,2,-999.0000,9,    104.1,2,    88.71,2,    38.51,2,     0.01,2,     2.80,2,   -999.0,9,   -999.0,9,-999.0000,9,  -999.00,      746
  49UF20160512,KS1605,  4774,  1,     15,  25249,2,20160516,0705, 39.9830, 150.3332, 5352,    506.1,   3.3304,  33.9310,2,-999.0000,9,     51.3,2,   105.41,2,    42.58,2,     0.00,2,     3.05,2,   -999.0,9,   -999.0,9,-999.0000,9,  -999.00,      743
  49UF20160512,KS1605,  4774,  1,     14,  25248,2,20160516,0705, 39.9830, 150.3332, 5352,    605.7,   3.3935,  34.0779,2,-999.0000,9,     34.6,2,   116.65,2,    43.14,2,     0.00,2,     3.08,2,   -999.0,9,   -999.0,9,-999.0000,9,  -999.00,      741
  49UF20160512,KS1605,  4774,  1,     13,  25247,2,20160516,0705, 39.9830, 150.3332, 5352,    707.6,   3.7758,  34.2782,2,-999.0000,9,     48.9,2,   117.99,2,    40.83,2,     0.00,2,     2.92,2,   -999.0,9,   -999.0,9,-999.0000,9,  -999.00,      738
  49UF20160512,KS1605,  4774,  1,     12,  25246,2,20160516,0705, 39.9830, 150.3332, 5352,    809.4,   3.4371,  34.3259,2,-999.0000,9,     42.8,2,   127.47,2,    41.77,2,     0.00,2,     2.99,2,   -999.0,9,   -999.0,9,-999.0000,9,  -999.00,      735
  49UF20160512,KS1605,  4774,  1,     11,  25245,2,20160516,0705, 39.9830, 150.3332, 5352,    911.8,   3.1532,  34.3537,2,-999.0000,9,     37.6,2,   135.38,2,    42.43,2,     0.00,2,     3.03,2,   -999.0,9,   -999.0,9,-999.0000,9,  -999.00,      732
  49UF20160512,KS1605,  4774,  1,     10,  25244,2,20160516,0705, 39.9830, 150.3332, 5352,   1011.7,   2.8114,  34.3626,2,-999.0000,9,     33.7,6,   145.51,6,    42.96,6,     0.00,6,     3.07,6,   -999.0,9,   -999.0,9,-999.0000,9,  -999.00,      730
  49UF20160512,KS1605,  4774,  1,      5,  25239,2,20160516,0705, 39.9830, 150.3332, 5352,   1214.4,   2.5639,  34.4456,2,-999.0000,9,     37.4,2,   153.46,2,    42.93,2,     0.00,2,     3.06,2,   -999.0,9,   -999.0,9,-999.0000,9,  -999.00,      725
  49UF20160512,KS1605,  4774,  1,      6,  25240,2,20160516,0705, 39.9830, 150.3332, 5352,   1214.6,   2.5633,  34.4455,2,-999.0000,9,     36.9,2,   153.73,2,    42.96,2,     0.00,2,     3.06,2,   -999.0,9,   -999.0,9,-999.0000,9,  -999.00,      725
  49UF20160512,KS1605,  4774,  1,      4,  25238,2,20160516,0705, 39.9830, 150.3332, 5352,   1419.1,   2.3643,  34.4992,2,-999.0000,9,     44.5,2,   158.62,2,    42.66,2,     0.00,2,     3.03,2,   -999.0,9,   -999.0,9,-999.0000,9,  -999.00,      720
  49UF20160512,KS1605,  4774,  1,      3,  25237,2,20160516,0705, 39.9830, 150.3332, 5352,   1619.2,   2.2117,  34.5420,2,-999.0000,9,     54.2,2,   160.64,2,    42.26,2,     0.00,2,     2.99,2,   -999.0,9,   -999.0,9,-999.0000,9,  -999.00,      715
  49UF20160512,KS1605,  4774,  1,      2,  25236,2,20160516,0705, 39.9830, 150.3332, 5352,   1823.9,   2.0494,  34.5704,2,-999.0000,9,     64.2,2,   163.41,2,    41.69,2,     0.00,2,     2.94,2,   -999.0,9,   -999.0,9,-999.0000,9,  -999.00,      710
  49UF20160512,KS1605,  4774,  1,      1,  25235,2,20160516,0705, 39.9830, 150.3332, 5352,   2026.9,   1.9203,  34.5956,2,-999.0000,9,     76.2,2,   164.10,2,    41.00,2,     0.00,2,     2.88,2,   -999.0,9,   -999.0,9,-999.0000,9,  -999.00,      705