BOTTLE,20191223PRINUNIVRMK
# 08/29/2019 Initialized README file  
# Data source:  Masao Ishii 2018/11/30 
# SHIP: R/V Keifu Maru II 
# Cruise: KS16.05 
# Region: North Pacific Ocean; short section at 40N 
# EXPOCODE: 49UF20160512 
# DATES: 20160512-20160610 
# Chief Scientist: Masanobu Tani 
# 20 stations with 36 place Rosette 
# Data are nice, but a bit noisier than most in this series 
# CTD: Who - Kazuhiro Nemoto; Status - final 
# 	Includes: CTDSAL 
# SALNTY: Who - Kazuhiro Nemoto; Status - final 
# 	Notes: 	 
# Nutrients: Who - Kazuhiro Nemoto; Status - final 
# 	Includes: nitrate, nitrite, silicate, phosphate 
# 	Nitrite and NO3+NO2 reported. Separated by subtraction 
# OXYGEN: Who - Kazuhiro Nemoto; Status - final 
# 	Notes: 
# TCARBN: Who - Kazuhiro Nemoto; Status - final 
# 	Notes:  
# ALKALI: Who - Kazuhiro Nemoto; Status - final 
# 	Notes:  
# pH: Who - Kazuhiro Nemoto; Status - final  
# 	Notes: total H+ scale at 25C 
# These data should be cited as: Tani, Masanobu; Nemoto, Kazuhiro; Ishii, Masao (2019). Dissolved inorganic carbon (DIC), total alkalinity, pH on total scale, temperature, salinity, oxygen, nutrients and other measurements collected from discrete samples and profile observations during the R/V Keifu Maru II cruise ks201605 (EXPOCODE 49UF20160512) in the North Pacific Ocean from 2016-05-12 to 2016-06-10 (NCEI Accession 0201384). [indicate subset used]. NOAA National Centers for Environmental Information. Unpublished Dataset. https://accession.nodc.noaa.gov/0201384.            
# References that have used data from this cruise: 
EXPOCODE,SECT_ID,STNNBR,CASTNO,SAMPNO,BTLNBR,BTLNBR_FLAG_W,DATE,TIME,LATITUDE,LONGITUDE,DEPTH,CTDPRS,CTDTMP,CTDSAL,CTDSAL_FLAG_W,SALNTY,SALNTY_FLAG_W,OXYGEN,OXYGEN_FLAG_W,SILCAT,SILCAT_FLAG_W,NITRAT,NITRAT_FLAG_W,NITRIT,NITRIT_FLAG_W,PHSPHT,PHSPHT_FLAG_W,TCARBN,TCARBN_FLAG_W,ALKALI,ALKALI_FLAG_W,PH_TOT,PH_TOT_FLAG_W,PH_TMP,BTL_TIME
,,,,,,,,,,,METERS,DBAR,ITS-90,PSS-78,,PSS-78,,UMOL/KG,,UMOL/KG,,UMOL/KG,,UMOL/KG,,UMOL/KG,,UMOL/KG,,UMOL/KG,,,,DEG C,
  49UF20160512,KS1605,  4766,  1,     99,     99,2,20160513,1429, 39.9867, 142.3390,  560,      0.0,   9.4212,  33.6958,2,-999.0000,9,    293.3,2,     5.15,2,     3.01,2,     0.13,2,     0.34,2,   -999.0,9,   -999.0,9,-999.0000,9,  -999.00,     1435
  49UF20160512,KS1605,  4766,  1,     30,  25264,2,20160513,1429, 39.9867, 142.3390,  560,     12.0,   9.4414,  33.7044,2,  33.7028,2,    293.5,2,     5.03,2,     2.96,2,     0.14,2,     0.32,2,   -999.0,9,   -999.0,9,-999.0000,9,  -999.00,     1454
  49UF20160512,KS1605,  4766,  1,     29,  25263,2,20160513,1429, 39.9867, 142.3390,  560,     27.8,   9.2022,  33.7270,2,-999.0000,9,    290.5,2,     5.12,2,     3.16,2,     0.16,2,     0.34,2,   -999.0,9,   -999.0,9,-999.0000,9,  -999.00,     1453
  49UF20160512,KS1605,  4766,  1,     28,  25262,2,20160513,1429, 39.9867, 142.3390,  560,     53.4,   9.0325,  33.7282,2,-999.0000,9,    287.9,2,     5.62,2,     3.49,2,     0.19,2,     0.38,2,   -999.0,9,   -999.0,9,-999.0000,9,  -999.00,     1449
  49UF20160512,KS1605,  4766,  1,     21,  25255,2,20160513,1429, 39.9867, 142.3390,  560,     75.5,   7.7224,  33.6296,2,-999.0000,9,    287.0,2,     7.34,2,     5.47,2,     0.28,2,     0.59,2,   -999.0,9,   -999.0,9,-999.0000,9,  -999.00,     1448
  49UF20160512,KS1605,  4766,  1,     20,  25254,2,20160513,1429, 39.9867, 142.3390,  560,     99.4,   7.1135,  33.5643,2,  33.5672,2,    289.7,2,     8.28,2,     6.26,2,     0.24,2,     0.67,2,   -999.0,9,   -999.0,9,-999.0000,9,  -999.00,     1447
  49UF20160512,KS1605,  4766,  1,     19,  25253,2,20160513,1429, 39.9867, 142.3390,  560,    127.1,   7.6552,  33.7464,2,-999.0000,9,    273.0,6,    11.16,6,     8.41,6,     0.32,6,     0.68,6,   -999.0,9,   -999.0,9,-999.0000,9,  -999.00,     1445
  49UF20160512,KS1605,  4766,  1,     15,  25249,2,20160513,1429, 39.9867, 142.3390,  560,    152.3,   6.3411,  33.5777,2,-999.0000,9,    276.0,2,    17.86,2,    11.72,2,     0.18,2,     0.97,2,   -999.0,9,   -999.0,9,-999.0000,9,  -999.00,     1444
  49UF20160512,KS1605,  4766,  1,     14,  25248,2,20160513,1429, 39.9867, 142.3390,  560,    203.5,   3.9348,  33.3505,2,  33.3527,2,    289.8,2,    30.72,2,    17.78,2,     0.12,2,     1.44,2,   -999.0,9,   -999.0,9,-999.0000,9,  -999.00,     1442
  49UF20160512,KS1605,  4766,  1,     12,  25246,2,20160513,1429, 39.9867, 142.3390,  560,    255.2,   3.1008,  33.3020,2,-999.0000,9,    278.4,2,    39.27,2,    21.48,2,     0.03,2,     1.70,2,   -999.0,9,   -999.0,9,-999.0000,9,  -999.00,     1440
  49UF20160512,KS1605,  4766,  1,     13,  25247,2,20160513,1429, 39.9867, 142.3390,  560,    257.6,   3.1081,  33.3041,2,-999.0000,9,    278.4,2,    39.20,2,    21.43,2,     0.03,2,     1.71,2,   -999.0,9,   -999.0,9,-999.0000,9,  -999.00,     1440
  49UF20160512,KS1605,  4766,  1,     11,  25245,2,20160513,1429, 39.9867, 142.3390,  560,    307.5,   4.5409,  33.6229,2,-999.0000,9,    205.6,2,    49.58,2,    25.39,2,     0.05,2,     1.92,2,   -999.0,9,   -999.0,9,-999.0000,9,  -999.00,     1437
  49UF20160512,KS1605,  4766,  1,     10,  25244,2,20160513,1429, 39.9867, 142.3390,  560,    408.1,   3.9147,  33.7760,2,  33.7777,6,    131.4,2,    74.87,2,    34.15,2,     0.02,2,     2.52,2,   -999.0,9,   -999.0,9,-999.0000,9,  -999.00,     1434
  49UF20160512,KS1605,  4766,  1,      3,  25237,2,20160513,1429, 39.9867, 142.3390,  560,    505.8,   3.8724,  33.9148,2,  33.9151,2,     92.6,6,    89.97,6,    37.18,6,     0.06,6,     2.74,6,   -999.0,9,   -999.0,9,-999.0000,9,  -999.00,     1431
  49UF20160512,KS1605,  4766,  1,      2,  25236,2,20160513,1429, 39.9867, 142.3390,  560,    535.1,   3.8627,  33.9402,2,  33.9404,2,     85.6,2,    93.25,2,    37.69,2,     0.07,2,     2.80,2,   -999.0,9,   -999.0,9,-999.0000,9,  -999.00,     1430
  49UF20160512,KS1605,  4766,  1,      1,  25235,2,20160513,1429, 39.9867, 142.3390,  560,    537.0,   3.8624,  33.9406,2,  33.9448,2,     86.2,2,    93.36,2,    37.69,2,     0.07,2,     2.79,2,   -999.0,9,   -999.0,9,-999.0000,9,  -999.00,     1429
  49UF20160512,KS1605,  4767,  1,     99,     99,2,20160513,2038, 39.9950, 143.0117, 1315,      0.0,   9.5621,  33.6715,2,-999.0000,9,    300.1,2,     4.96,2,     2.99,2,     0.13,2,     0.38,2,   -999.0,9,   -999.0,9,-999.0000,9,  -999.00,     2100
  49UF20160512,KS1605,  4767,  1,     33,  25267,2,20160513,2038, 39.9950, 143.0117, 1315,     11.5,   9.5571,  33.6714,2,  33.6712,2,    298.2,2,     4.38,2,     2.58,2,     0.13,2,     0.31,2,   -999.0,9,   -999.0,9,-999.0000,9,  -999.00,     2120
  49UF20160512,KS1605,  4767,  1,     31,  25265,2,20160513,2038, 39.9950, 143.0117, 1315,     26.7,   9.5384,  33.6717,2,-999.0000,9,    298.1,2,     4.45,2,     2.60,2,     0.13,2,     0.31,2,   -999.0,9,   -999.0,9,-999.0000,9,  -999.00,     2118
  49UF20160512,KS1605,  4767,  1,     32,  25266,2,20160513,2038, 39.9950, 143.0117, 1315,     27.1,   9.5422,  33.6716,2,-999.0000,9,    297.9,2,     4.46,2,     2.62,2,     0.13,2,     0.31,2,   -999.0,9,   -999.0,9,-999.0000,9,  -999.00,     2118
  49UF20160512,KS1605,  4767,  1,     30,  25264,2,20160513,2038, 39.9950, 143.0117, 1315,     51.8,   9.4694,  33.8706,2,-999.0000,9,    280.4,2,     6.40,2,     4.08,2,     0.26,2,     0.40,2,   -999.0,9,   -999.0,9,-999.0000,9,  -999.00,     2113
  49UF20160512,KS1605,  4767,  1,     29,  25263,2,20160513,2038, 39.9950, 143.0117, 1315,     76.8,   9.0428,  33.8411,2,-999.0000,9,    279.4,2,     6.27,2,     4.42,2,     0.31,2,     0.44,2,   -999.0,9,   -999.0,9,-999.0000,9,  -999.00,     2112
  49UF20160512,KS1605,  4767,  1,     28,  25262,2,20160513,2038, 39.9950, 143.0117, 1315,    101.9,   7.2115,  33.5779,2,  33.5574,6,    295.1,2,     8.39,2,     5.90,2,     0.23,2,     0.65,2,   -999.0,9,   -999.0,9,-999.0000,9,  -999.00,     2111
  49UF20160512,KS1605,  4767,  1,     24,  25258,2,20160513,2038, 39.9950, 143.0117, 1315,    127.2,   8.3142,  33.8221,2,-999.0000,9,    275.4,2,    10.19,2,     7.67,2,     0.34,2,     0.64,2,   -999.0,9,   -999.0,9,-999.0000,9,  -999.00,     2110
  49UF20160512,KS1605,  4767,  1,     23,  25257,2,20160513,2038, 39.9950, 143.0117, 1315,    151.6,   6.0436,  33.4995,2,-999.0000,9,    291.4,2,    15.53,2,    10.13,2,     0.21,2,     0.94,2,   -999.0,9,   -999.0,9,-999.0000,9,  -999.00,     2108
  49UF20160512,KS1605,  4767,  1,     22,  25256,2,20160513,2038, 39.9950, 143.0117, 1315,    202.1,   5.2809,  33.5781,2,  33.5808,6,    251.1,2,    32.68,2,    18.65,2,     0.05,2,     1.44,2,   -999.0,9,   -999.0,9,-999.0000,9,  -999.00,     2107
  49UF20160512,KS1605,  4767,  1,     21,  25255,2,20160513,2038, 39.9950, 143.0117, 1315,    252.6,   4.7879,  33.6601,2,-999.0000,9,    193.8,2,    50.73,2,    26.16,2,     0.04,2,     1.97,2,   -999.0,9,   -999.0,9,-999.0000,9,  -999.00,     2105
  49UF20160512,KS1605,  4767,  1,     20,  25254,2,20160513,2038, 39.9950, 143.0117, 1315,    303.5,   4.2507,  33.7175,2,-999.0000,9,    159.0,2,    63.74,2,    30.81,2,     0.02,2,     2.29,2,   -999.0,9,   -999.0,9,-999.0000,9,  -999.00,     2104
  49UF20160512,KS1605,  4767,  1,     19,  25253,2,20160513,2038, 39.9950, 143.0117, 1315,    405.0,   3.8118,  33.8285,2,  33.8300,2,    113.0,6,    81.42,6,    35.99,6,     0.01,6,     2.63,6,   -999.0,9,   -999.0,9,-999.0000,9,  -999.00,     2101
  49UF20160512,KS1605,  4767,  1,     15,  25249,2,20160513,2038, 39.9950, 143.0117, 1315,    505.5,   3.7771,  34.0239,2,-999.0000,9,     65.5,2,   101.49,2,    39.76,2,     0.01,2,     2.88,2,   -999.0,9,   -999.0,9,-999.0000,9,  -999.00,     2058
  49UF20160512,KS1605,  4767,  1,     13,  25247,2,20160513,2038, 39.9950, 143.0117, 1315,    606.8,   3.6035,  34.1527,2,  34.1527,2,     44.2,2,   116.06,2,    41.39,2,     0.00,2,     2.99,2,   -999.0,9,   -999.0,9,-999.0000,9,  -999.00,     2055
  49UF20160512,KS1605,  4767,  1,     14,  25248,2,20160513,2038, 39.9950, 143.0117, 1315,    607.8,   3.6039,  34.1531,2,  34.1531,2,     44.2,2,   116.05,2,    41.40,2,     0.00,2,     2.99,2,   -999.0,9,   -999.0,9,-999.0000,9,  -999.00,     2055
  49UF20160512,KS1605,  4767,  1,     12,  25246,2,20160513,2038, 39.9950, 143.0117, 1315,    708.0,   3.4224,  34.2372,2,-999.0000,9,     38.1,2,   126.02,2,    41.89,2,     0.00,2,     3.03,2,   -999.0,9,   -999.0,9,-999.0000,9,  -999.00,     2053
  49UF20160512,KS1605,  4767,  1,     11,  25245,2,20160513,2038, 39.9950, 143.0117, 1315,    809.2,   3.2347,  34.2884,2,  34.2902,6,     35.0,2,   133.36,2,    42.20,2,     0.00,2,     3.06,2,   -999.0,9,   -999.0,9,-999.0000,9,  -999.00,     2050
  49UF20160512,KS1605,  4767,  1,     10,  25244,2,20160513,2038, 39.9950, 143.0117, 1315,    909.7,   3.0741,  34.3381,2,-999.0000,9,     34.9,6,   138.99,6,    42.36,6,     0.00,6,     3.07,6,   -999.0,9,   -999.0,9,-999.0000,9,  -999.00,     2047
  49UF20160512,KS1605,  4767,  1,      3,  25237,2,20160513,2038, 39.9950, 143.0117, 1315,   1010.7,   2.9046,  34.3722,2,  34.3725,2,     32.7,2,   145.72,2,    42.45,2,     0.03,2,     3.09,2,   -999.0,9,   -999.0,9,-999.0000,9,  -999.00,     2045
  49UF20160512,KS1605,  4767,  1,      2,  25236,2,20160513,2038, 39.9950, 143.0117, 1315,   1212.4,   2.6125,  34.4409,2,  34.4408,2,     36.7,2,   153.68,2,    42.63,2,     0.00,2,     3.08,2,   -999.0,9,   -999.0,9,-999.0000,9,  -999.00,     2041
  49UF20160512,KS1605,  4767,  1,      1,  25235,2,20160513,2038, 39.9950, 143.0117, 1315,   1283.3,   2.5182,  34.4623,2,  34.4624,2,     38.3,2,   158.19,2,    42.37,2,     0.02,2,     3.08,2,   -999.0,9,   -999.0,9,-999.0000,9,  -999.00,     2038
  49UF20160512,KS1605,  4768,  1,     99,     99,2,20160514,0326, 40.0023, 143.9930, 4223,      0.0,  11.1600,  33.8091,2,-999.0000,9,    317.8,2,     0.82,2,     1.31,3,     0.07,2,     0.18,3,   -999.0,9,   -999.0,9,-999.0000,9,  -999.00,      406
  49UF20160512,KS1605,  4768,  1,     33,  25267,2,20160514,0326, 40.0023, 143.9930, 4223,     12.0,  11.1580,  33.8094,2,-999.0000,9,    320.4,2,     0.69,2,     1.76,3,     0.08,2,     0.19,3,   -999.0,9,   -999.0,9,-999.0000,9,  -999.00,      432
  49UF20160512,KS1605,  4768,  1,     32,  25266,2,20160514,0326, 40.0023, 143.9930, 4223,     27.8,  10.7831,  33.8692,2,-999.0000,9,    313.0,2,     0.56,2,     2.50,2,     0.11,2,     0.25,3,   -999.0,9,   -999.0,9,-999.0000,9,  -999.00,      430
  49UF20160512,KS1605,  4768,  1,     31,  25265,2,20160514,0326, 40.0023, 143.9930, 4223,     52.6,   9.5309,  33.7936,2,-999.0000,9,    292.0,2,     7.51,2,     5.49,2,     0.16,2,     0.59,2,   -999.0,9,   -999.0,9,-999.0000,9,  -999.00,      427
  49UF20160512,KS1605,  4768,  1,     30,  25264,2,20160514,0326, 40.0023, 143.9930, 4223,     75.3,   7.6382,  33.6767,2,-999.0000,9,    289.1,2,    13.46,2,     8.63,2,     0.16,2,     0.86,2,   -999.0,9,   -999.0,9,-999.0000,9,  -999.00,      426
  49UF20160512,KS1605,  4768,  1,     29,  25263,2,20160514,0326, 40.0023, 143.9930, 4223,    101.5,   6.5207,  33.6187,2,-999.0000,9,    278.4,2,    21.39,2,    13.59,2,     0.16,2,     1.09,2,   -999.0,9,   -999.0,9,-999.0000,9,  -999.00,      424
  49UF20160512,KS1605,  4768,  1,     28,  25262,2,20160514,0326, 40.0023, 143.9930, 4223,    128.0,   5.4108,  33.5302,2,-999.0000,9,    270.8,2,    28.98,2,    17.13,2,     0.03,2,     1.35,2,   -999.0,9,   -999.0,9,-999.0000,9,  -999.00,      423
  49UF20160512,KS1605,  4768,  1,     24,  25258,2,20160514,0326, 40.0023, 143.9930, 4223,    152.7,   4.7299,  33.4681,2,-999.0000,9,    269.8,2,    32.28,2,    18.52,2,     0.03,2,     1.45,2,   -999.0,9,   -999.0,9,-999.0000,9,  -999.00,      421
  49UF20160512,KS1605,  4768,  1,     23,  25257,2,20160514,0326, 40.0023, 143.9930, 4223,    202.2,   4.8899,  33.5916,2,-999.0000,9,    225.2,2,    42.57,2,    22.98,2,     0.02,2,     1.75,2,   -999.0,9,   -999.0,9,-999.0000,9,  -999.00,      419
  49UF20160512,KS1605,  4768,  1,     22,  25256,2,20160514,0326, 40.0023, 143.9930, 4223,    253.7,   4.5642,  33.6776,2,-999.0000,9,    185.0,2,    56.05,2,    28.29,2,     0.01,2,     2.11,2,   -999.0,9,   -999.0,9,-999.0000,9,  -999.00,      417
  49UF20160512,KS1605,  4768,  1,     21,  25255,2,20160514,0326, 40.0023, 143.9930, 4223,    304.5,   4.1868,  33.7370,2,-999.0000,9,    154.0,6,    66.12,6,    31.66,6,     0.01,6,     2.35,6,   -999.0,9,   -999.0,9,-999.0000,9,  -999.00,      415
  49UF20160512,KS1605,  4768,  1,     19,  25253,2,20160514,0326, 40.0023, 143.9930, 4223,    406.3,   4.2995,  33.9306,2,-999.0000,9,    106.6,2,    81.13,2,    35.55,2,     0.00,2,     2.59,2,   -999.0,9,   -999.0,9,-999.0000,9,  -999.00,      411
  49UF20160512,KS1605,  4768,  1,     20,  25254,2,20160514,0326, 40.0023, 143.9930, 4223,    406.9,   4.3046,  33.9325,2,-999.0000,9,    107.0,2,    81.08,2,    35.52,2,     0.01,2,     2.59,2,   -999.0,9,   -999.0,9,-999.0000,9,  -999.00,      411
  49UF20160512,KS1605,  4768,  1,     15,  25249,2,20160514,0326, 40.0023, 143.9930, 4223,    506.2,   4.3715,  34.0945,2,-999.0000,9,     74.5,2,    94.62,2,    38.08,2,     0.00,2,     2.75,2,   -999.0,9,   -999.0,9,-999.0000,9,  -999.00,      408
  49UF20160512,KS1605,  4768,  1,     14,  25248,2,20160514,0326, 40.0023, 143.9930, 4223,    608.6,   3.8732,  34.1443,2,-999.0000,9,     53.6,2,   108.77,2,    40.25,2,     0.00,2,     2.91,2,   -999.0,9,   -999.0,9,-999.0000,9,  -999.00,      404
  49UF20160512,KS1605,  4768,  1,     13,  25247,2,20160514,0326, 40.0023, 143.9930, 4223,    709.4,   3.6268,  34.2266,2,-999.0000,9,     43.1,2,   119.39,2,    41.40,2,     0.00,2,     2.98,2,   -999.0,9,   -999.0,9,-999.0000,9,  -999.00,      401
  49UF20160512,KS1605,  4768,  1,     12,  25246,2,20160514,0326, 40.0023, 143.9930, 4223,    810.2,   3.3199,  34.2814,2,-999.0000,9,     35.7,2,   129.99,2,    42.07,2,     0.00,2,     3.04,2,   -999.0,9,   -999.0,9,-999.0000,9,  -999.00,      358
  49UF20160512,KS1605,  4768,  1,     11,  25245,2,20160514,0326, 40.0023, 143.9930, 4223,    910.9,   3.1159,  34.3344,2,-999.0000,9,     35.4,2,   136.69,2,    42.40,2,     0.00,2,     3.05,2,   -999.0,9,   -999.0,9,-999.0000,9,  -999.00,      355
  49UF20160512,KS1605,  4768,  1,     10,  25244,2,20160514,0326, 40.0023, 143.9930, 4223,   1015.5,   2.9388,  34.3774,2,-999.0000,9,     36.1,2,   142.07,2,    42.40,2,     0.00,2,     3.05,3,   -999.0,9,   -999.0,9,-999.0000,9,  -999.00,      351
  49UF20160512,KS1605,  4768,  1,      9,  25243,2,20160514,0326, 40.0023, 143.9930, 4223,   1215.8,   2.7133,  34.4599,2,-999.0000,9,     42.2,2,   147.50,2,    42.57,2,     0.00,2,     3.04,2,   -999.0,9,   -999.0,9,-999.0000,9,  -999.00,      345
  49UF20160512,KS1605,  4768,  1,      8,  25242,2,20160514,0326, 40.0023, 143.9930, 4223,   1419.3,   2.4300,  34.5047,2,-999.0000,9,     46.5,2,   155.08,2,    42.63,2,     0.00,2,     3.03,2,   -999.0,9,   -999.0,9,-999.0000,9,  -999.00,      340
  49UF20160512,KS1605,  4768,  1,      7,  25241,2,20160514,0326, 40.0023, 143.9930, 4223,   1621.9,   2.2513,  34.5375,2,-999.0000,9,     53.8,2,   158.72,2,    42.15,2,     0.00,2,     2.99,2,   -999.0,9,   -999.0,9,-999.0000,9,  -999.00,      336
  49UF20160512,KS1605,  4768,  1,      6,  25240,2,20160514,0326, 40.0023, 143.9930, 4223,   1824.1,   2.0931,  34.5697,2,-999.0000,9,     66.4,6,   160.44,6,    41.56,6,     0.00,6,     2.93,6,   -999.0,9,   -999.0,9,-999.0000,9,  -999.00,      331
  49UF20160512,KS1605,  4768,  1,      5,  25239,2,20160514,0326, 40.0023, 143.9930, 4223,   2025.3,   1.9599,  34.5936,2,-999.0000,9,     77.4,2,   161.21,2,    40.84,2,     0.00,2,     2.88,2,   -999.0,9,   -999.0,9,-999.0000,9,  -999.00,      327
  49UF20160512,KS1605,  4768,  1,      4,  25238,2,20160514,0326, 40.0023, 143.9930, 4223,   2026.7,   1.9589,  34.5941,2,-999.0000,9,     78.1,2,   160.99,2,    40.84,2,     0.00,2,     2.88,2,   -999.0,9,   -999.0,9,-999.0000,9,  -999.00,      326