BOTTLE,20191223PRINUNIVRMK
EXPOCODE,SECT_ID,STNNBR,CASTNO,SAMPNO,BTLNBR,BTLNBR_FLAG_W,DATE,TIME,LATITUDE,LONGITUDE,DEPTH,CTDPRS,CTDTMP,CTDSAL,CTDSAL_FLAG_W,SALNTY,SALNTY_FLAG_W,OXYGEN,OXYGEN_FLAG_W,SILCAT,SILCAT_FLAG_W,NITRAT,NITRAT_FLAG_W,NITRIT,NITRIT_FLAG_W,PHSPHT,PHSPHT_FLAG_W,TCARBN,TCARBN_FLAG_W,ALKALI,ALKALI_FLAG_W,PH_TOT,PH_TOT_FLAG_W,PH_TMP,BTL_TIME
,,,,,,,,,,,METERS,DBAR,ITS-90,PSS-78,,PSS-78,,UMOL/KG,,UMOL/KG,,UMOL/KG,,UMOL/KG,,UMOL/KG,,UMOL/KG,,UMOL/KG,,,,DEG C,
  49UF20160512,KS1605,  4777,  1,     99,     99,2,20160517,0640, 39.9825, 154.3212, 5536,      0.0,  12.1688,  34.3000,2,  34.3033,2,    282.1,2,    12.63,2,     5.72,2,     0.07,2,     0.46,2,   2059.0,2,   2274.7,2,   7.9238,2,    25.00,      835
  49UF20160512,KS1605,  4777,  1,     36,  25270,2,20160517,0640, 39.9825, 154.3212, 5536,     11.1,  12.1526,  34.2986,2,  34.2987,6,    282.2,2,    12.67,2,     5.75,2,     0.07,2,     0.45,2,   2062.5,2,   2274.2,2,   7.9179,2,    25.00,      852
  49UF20160512,KS1605,  4777,  1,     35,  25269,2,20160517,0640, 39.9825, 154.3212, 5536,     27.2,  11.8252,  34.2858,2,-999.0000,9,    280.8,2,    12.51,2,     6.05,2,     0.07,2,     0.48,2,   2058.2,2,   2272.3,2,   7.9133,2,    25.00,      851
  49UF20160512,KS1605,  4777,  1,     34,  25268,2,20160517,0640, 39.9825, 154.3212, 5536,     51.6,  11.3896,  34.2757,2,-999.0000,9,    273.7,2,    12.78,2,     6.98,2,     0.17,2,     0.56,2,   2065.5,2,   2272.6,2,   7.8894,2,    25.00,      847
  49UF20160512,KS1605,  4777,  1,     33,  25267,2,20160517,0640, 39.9825, 154.3212, 5536,     76.5,  10.9763,  34.2921,2,-999.0000,9,    267.6,2,    12.91,2,     8.30,2,     0.19,2,     0.63,2,   2072.7,2,   2270.2,2,   7.8719,2,    25.00,      846
  49UF20160512,KS1605,  4777,  1,     32,  25266,2,20160517,0640, 39.9825, 154.3212, 5536,    101.5,  10.7482,  34.2815,2,  34.2817,2,    267.0,6,    13.08,6,     8.82,6,     0.05,6,     0.65,6,   2078.6,2,   2270.6,2,   7.8651,2,    25.00,      844
  49UF20160512,KS1605,  4777,  1,     31,  25265,2,20160517,0640, 39.9825, 154.3212, 5536,    127.9,  10.6802,  34.2758,2,-999.0000,9,    266.9,2,    13.09,2,     9.03,2,     0.03,2,     0.66,2,   2085.5,2,   2268.4,2,   7.8620,2,    25.00,      843
  49UF20160512,KS1605,  4777,  1,     30,  25264,2,20160517,0640, 39.9825, 154.3212, 5536,    152.1,  10.6420,  34.2716,2,-999.0000,9,    266.9,2,    13.13,2,     9.03,2,     0.03,2,     0.67,2,   2080.5,2,   2270.5,2,   7.8625,2,    25.00,      842
  49UF20160512,KS1605,  4777,  1,     29,  25263,2,20160517,0640, 39.9825, 154.3212, 5536,    203.0,  10.5660,  34.2656,2,  34.2646,2,    267.7,2,    13.17,2,     9.10,2,     0.03,2,     0.67,2,   2081.3,2,   2268.8,2,   7.8615,2,    25.00,      840
  49UF20160512,KS1605,  4777,  1,     28,  25262,2,20160517,0640, 39.9825, 154.3212, 5536,    252.4,  10.5427,  34.2627,2,-999.0000,9,    267.8,2,    13.31,2,     9.19,2,     0.03,2,     0.68,2,   2081.7,2,   2269.7,2,   7.8610,2,    25.00,      839
  49UF20160512,KS1605,  4777,  1,     27,  25261,2,20160517,0640, 39.9825, 154.3212, 5536,    303.2,  10.2830,  34.2189,2,-999.0000,9,    260.1,2,    14.85,2,    10.49,2,     0.01,2,     0.77,2,   2090.0,2,   2267.9,2,   7.8411,2,    25.00,      837
  49UF20160512,KS1605,  4777,  1,     26,  25260,2,20160517,0640, 39.9825, 154.3212, 5536,    404.2,   7.4452,  33.8825,2,  33.8838,2,    219.0,2,    33.15,2,    19.48,2,     0.01,2,     1.44,2,   2153.9,2,   2266.7,2,   7.6963,2,    25.00,      835
  49UF20160512,KS1605,  4777,  1,     25,  25259,2,20160517,0640, 39.9825, 154.3212, 5536,    504.7,   5.3982,  33.8747,2,-999.0000,9,    151.3,2,    60.38,2,    29.67,2,     0.00,2,     2.17,2,   2228.9,6,   2283.0,6,   7.5282,2,    25.00,      832
  49UF20160512,KS1605,  4777,  1,     24,  25258,2,20160517,0640, 39.9825, 154.3212, 5536,    609.7,   4.8752,  33.9952,2,  33.9930,2,    110.2,2,    77.00,2,    34.23,2,     0.00,2,     2.48,2,   2264.1,2,   2302.0,2,   7.4555,6,    25.00,      829
  49UF20160512,KS1605,  4777,  1,     23,  25257,2,20160517,0640, 39.9825, 154.3212, 5536,    708.7,   4.4275,  34.1169,2,-999.0000,9,     72.7,6,    95.79,6,    38.20,6,     0.00,6,     2.75,6,   2309.6,2,   2322.4,2,   7.3975,2,    25.00,      827
  49UF20160512,KS1605,  4777,  1,     22,  25256,2,20160517,0640, 39.9825, 154.3212, 5536,    808.8,   3.9227,  34.1879,2,  34.1894,2,     51.8,2,   110.72,2,    40.53,2,     0.00,2,     2.91,2,   2335.3,2,   2337.7,2,   7.3656,2,    25.00,      824
  49UF20160512,KS1605,  4777,  1,     21,  25255,2,20160517,0640, 39.9825, 154.3212, 5536,    910.6,   3.5671,  34.2531,2,-999.0000,9,     41.2,2,   122.20,2,    41.67,2,     0.00,2,     2.99,2,   2352.0,2,   2349.9,2,   7.3486,2,    25.00,      822
  49UF20160512,KS1605,  4777,  1,     20,  25254,2,20160517,0640, 39.9825, 154.3212, 5536,   1011.5,   3.3288,  34.3146,2,  34.3146,2,     38.2,2,   130.30,2,    42.14,2,     0.00,2,     3.02,2,   2363.8,2,   2359.5,2,   7.3514,2,    25.00,      819
  49UF20160512,KS1605,  4777,  1,     19,  25253,2,20160517,0640, 39.9825, 154.3212, 5536,   1214.0,   2.9589,  34.3943,2,  34.3943,2,     36.7,2,   141.78,2,    42.58,2,     0.00,2,     3.04,2,   2370.0,6,   2376.1,6,   7.3576,2,    25.00,      815
  49UF20160512,KS1605,  4777,  1,     18,  25252,2,20160517,0640, 39.9825, 154.3212, 5536,   1416.0,   2.6116,  34.4631,2,  34.4635,2,     38.9,2,   151.52,2,    42.81,2,     0.00,2,     3.05,2,   2376.6,2,   2389.8,2,   7.3692,6,    25.00,      811
  49UF20160512,KS1605,  4777,  1,     17,  25251,2,20160517,0640, 39.9825, 154.3212, 5536,   1619.2,   2.3467,  34.5106,2,  34.5113,2,     45.6,2,   158.75,2,    42.59,2,     0.00,2,     3.02,2,   2378.9,2,   2398.4,2,   7.3851,2,    25.00,      806
  49UF20160512,KS1605,  4777,  1,     16,  25250,2,20160517,0640, 39.9825, 154.3212, 5536,   1822.9,   2.1820,  34.5484,2,  34.5490,2,     55.5,2,   161.58,2,    42.13,2,     0.00,2,     2.98,2,   2382.4,2,   2405.5,2,   7.4031,2,    25.00,      802
  49UF20160512,KS1605,  4777,  1,     15,  25249,2,20160517,0640, 39.9825, 154.3212, 5536,   2024.4,   2.0420,  34.5776,2,  34.5778,6,     66.3,2,   162.77,2,    41.52,2,     0.00,2,     2.93,2,   2389.3,3,   2409.0,2,   7.4253,2,    25.00,      757
  49UF20160512,KS1605,  4777,  1,     14,  25248,2,20160517,0640, 39.9825, 154.3212, 5536,   2279.8,   1.8939,  34.6062,2,  34.6064,6,     82.3,6,   162.46,6,    40.56,6,     0.00,6,     2.85,6,   2370.6,2,   2414.6,2,   7.4569,2,    25.00,      752
  49UF20160512,KS1605,  4777,  1,     13,  25247,2,20160517,0640, 39.9825, 154.3212, 5536,   2534.5,   1.7800,  34.6260,2,  34.6260,6,     94.9,2,   162.35,2,    39.73,2,     0.00,2,     2.79,2,   2362.9,2,   2417.0,6,   7.4798,2,    25.00,      747
  49UF20160512,KS1605,  4777,  1,     12,  25246,2,20160517,0640, 39.9825, 154.3212, 5536,   2789.0,   1.6753,  34.6436,2,  34.6443,6,    108.2,2,   161.14,2,    38.90,2,     0.00,2,     2.73,2,   2357.1,2,   2417.8,2,   7.5058,6,    25.00,      741
  49UF20160512,KS1605,  4777,  1,     11,  25245,2,20160517,0640, 39.9825, 154.3212, 5536,   3045.9,   1.5995,  34.6565,2,  34.6571,6,    120.2,2,   158.71,2,    38.12,2,     0.00,2,     2.67,2,   2346.1,2,   2417.9,2,   7.5284,2,    25.00,      736
  49UF20160512,KS1605,  4777,  1,     10,  25244,2,20160517,0640, 39.9825, 154.3212, 5536,   3301.3,   1.5517,  34.6652,2,  34.6656,6,    129.0,2,   157.10,2,    37.58,2,     0.00,2,     2.62,2,   2348.7,2,   2417.3,2,   7.5432,2,    25.00,      731
  49UF20160512,KS1605,  4777,  1,      9,  25243,2,20160517,0640, 39.9825, 154.3212, 5536,   3557.5,   1.5179,  34.6722,2,  34.6724,6,    136.8,2,   155.28,2,    37.10,2,     0.00,2,     2.58,2,   2336.5,2,   2416.5,2,   7.5580,2,    25.00,      726
  49UF20160512,KS1605,  4777,  1,      8,  25242,2,20160517,0640, 39.9825, 154.3212, 5536,   3814.0,   1.4984,  34.6769,2,  34.6772,6,    143.2,2,   153.48,2,    36.69,2,     0.00,2,     2.55,2,   2336.3,2,   2418.0,2,   7.5690,2,    25.00,      721
  49UF20160512,KS1605,  4777,  1,      7,  25241,2,20160517,0640, 39.9825, 154.3212, 5536,   4068.8,   1.4860,  34.6812,2,  34.6810,6,    148.2,2,   152.23,2,    36.37,2,     0.00,2,     2.52,2,   2340.3,2,   2416.7,2,   7.5768,2,    25.00,      715
  49UF20160512,KS1605,  4777,  1,      6,  25240,2,20160517,0640, 39.9825, 154.3212, 5536,   4326.2,   1.4821,  34.6846,2,  34.6847,6,    152.1,2,   151.26,2,    36.10,2,     0.00,2,     2.51,2,   2335.8,2,   2415.5,2,   7.5841,2,    25.00,      710
  49UF20160512,KS1605,  4777,  1,      5,  25239,2,20160517,0640, 39.9825, 154.3212, 5536,   4583.9,   1.4884,  34.6871,2,  34.6874,6,    155.2,6,   149.91,6,    35.88,6,     0.00,6,     2.49,6,   2329.3,2,   2415.7,2,   7.5884,2,    25.00,      704
  49UF20160512,KS1605,  4777,  1,      4,  25238,2,20160517,0640, 39.9825, 154.3212, 5536,   4841.0,   1.5041,  34.6887,2,  34.6889,6,    157.0,2,   150.53,2,    35.76,2,     0.00,2,     2.48,2,   2325.4,2,   2415.5,2,   7.5911,2,    25.00,      659
  49UF20160512,KS1605,  4777,  1,      3,  25237,2,20160517,0640, 39.9825, 154.3212, 5536,   5101.3,   1.5287,  34.6894,2,  34.6898,6,    157.8,2,   150.78,2,    35.70,2,     0.00,2,     2.47,2,   2329.6,2,   2416.0,2,   7.5931,2,    25.00,      653
  49UF20160512,KS1605,  4777,  1,      2,  25236,2,20160517,0640, 39.9825, 154.3212, 5536,   5360.2,   1.5532,  34.6903,2,  34.6906,6,    159.5,2,   149.56,2,    35.55,2,     0.00,2,     2.46,2,   2330.3,2,   2414.9,2,   7.5953,2,    25.00,      647
  49UF20160512,KS1605,  4777,  1,      1,  25235,2,20160517,0640, 39.9825, 154.3212, 5536,   5652.8,   1.5826,  34.6911,2,  34.6917,6,    161.6,2,   147.41,2,    35.44,2,     0.00,2,     2.45,2,   2326.9,2,   2413.3,2,   7.5971,2,    25.00,      640
  49UF20160512,KS1605,  4778,  1,     99,     99,2,20160517,1729, 39.9990, 155.6480, 5567,      0.0,  10.4432,  33.9152,2,-999.0000,9,    289.1,2,    18.84,2,     9.31,2,     0.17,2,     0.78,2,   -999.0,9,   -999.0,9,-999.0000,9,  -999.00,     1807
  49UF20160512,KS1605,  4778,  1,     36,  25270,2,20160517,1729, 39.9990, 155.6480, 5567,     12.7,  10.4447,  33.9153,2,-999.0000,9,    290.0,2,    18.88,2,     9.35,2,     0.17,2,     0.78,2,   -999.0,9,   -999.0,9,-999.0000,9,  -999.00,     1826
  49UF20160512,KS1605,  4778,  1,     35,  25269,2,20160517,1729, 39.9990, 155.6480, 5567,     25.9,   9.8058,  33.8965,2,-999.0000,9,    294.1,2,    19.25,2,     9.72,2,     0.18,2,     0.82,2,   -999.0,9,   -999.0,9,-999.0000,9,  -999.00,     1825
  49UF20160512,KS1605,  4778,  1,     34,  25268,2,20160517,1729, 39.9990, 155.6480, 5567,     51.6,   9.1278,  33.9920,2,-999.0000,9,    284.8,2,    19.55,2,    10.76,2,     0.25,2,     0.88,2,   -999.0,9,   -999.0,9,-999.0000,9,  -999.00,     1821
  49UF20160512,KS1605,  4778,  1,     33,  25267,2,20160517,1729, 39.9990, 155.6480, 5567,     77.0,   8.7669,  33.9716,2,-999.0000,9,    280.2,2,    20.20,2,    11.46,2,     0.33,2,     0.94,2,   -999.0,9,   -999.0,9,-999.0000,9,  -999.00,     1820
  49UF20160512,KS1605,  4778,  1,     32,  25266,2,20160517,1729, 39.9990, 155.6480, 5567,    101.5,   8.1050,  33.8819,2,-999.0000,9,    280.4,2,    21.66,2,    12.75,2,     0.32,2,     1.02,2,   -999.0,9,   -999.0,9,-999.0000,9,  -999.00,     1819
  49UF20160512,KS1605,  4778,  1,     31,  25265,2,20160517,1729, 39.9990, 155.6480, 5567,    129.3,   7.3280,  33.7910,2,-999.0000,9,    272.7,2,    24.81,2,    15.22,2,     0.03,2,     1.16,2,   -999.0,9,   -999.0,9,-999.0000,9,  -999.00,     1817
  49UF20160512,KS1605,  4778,  1,     27,  25261,2,20160517,1729, 39.9990, 155.6480, 5567,    154.9,   6.9057,  33.7542,2,-999.0000,9,    270.5,2,    26.46,2,    16.19,2,     0.02,2,     1.23,2,   -999.0,9,   -999.0,9,-999.0000,9,  -999.00,     1816
  49UF20160512,KS1605,  4778,  1,     26,  25260,2,20160517,1729, 39.9990, 155.6480, 5567,    204.9,   6.1157,  33.7235,2,-999.0000,9,    238.6,6,    35.16,6,    20.22,6,     0.02,6,     1.52,6,   -999.0,9,   -999.0,9,-999.0000,9,  -999.00,     1815
  49UF20160512,KS1605,  4778,  1,     24,  25258,2,20160517,1729, 39.9990, 155.6480, 5567,    253.4,   5.5180,  33.7409,2,-999.0000,9,    194.5,2,    48.20,2,    25.54,2,     0.01,2,     1.90,2,   -999.0,9,   -999.0,9,-999.0000,9,  -999.00,     1813
  49UF20160512,KS1605,  4778,  1,     25,  25259,2,20160517,1729, 39.9990, 155.6480, 5567,    254.2,   5.4829,  33.7375,2,-999.0000,9,    194.4,2,    47.84,2,    25.48,2,     0.01,2,     1.89,2,   -999.0,9,   -999.0,9,-999.0000,9,  -999.00,     1813
  49UF20160512,KS1605,  4778,  1,     23,  25257,2,20160517,1729, 39.9990, 155.6480, 5567,    304.6,   5.3211,  33.8599,2,-999.0000,9,    151.6,2,    60.74,2,    29.88,2,     0.01,2,     2.18,2,   -999.0,9,   -999.0,9,-999.0000,9,  -999.00,     1811
  49UF20160512,KS1605,  4778,  1,     22,  25256,2,20160517,1729, 39.9990, 155.6480, 5567,    405.7,   4.5089,  33.9205,2,-999.0000,9,    115.1,2,    76.89,2,    34.54,2,     0.01,2,     2.51,2,   -999.0,9,   -999.0,9,-999.0000,9,  -999.00,     1808
  49UF20160512,KS1605,  4778,  1,     18,  25252,2,20160517,1729, 39.9990, 155.6480, 5567,    507.4,   4.2016,  34.0459,2,-999.0000,9,     78.5,2,    93.63,2,    38.19,2,     0.00,2,     2.75,2,   -999.0,9,   -999.0,9,-999.0000,9,  -999.00,     1806
  49UF20160512,KS1605,  4778,  1,     17,  25251,2,20160517,1729, 39.9990, 155.6480, 5567,    606.8,   4.2039,  34.1823,2,-999.0000,9,     60.8,2,   104.24,2,    39.41,2,     0.00,2,     2.82,2,   -999.0,9,   -999.0,9,-999.0000,9,  -999.00,     1803
  49UF20160512,KS1605,  4778,  1,     16,  25250,2,20160517,1729, 39.9990, 155.6480, 5567,    707.2,   3.7264,  34.2276,2,-999.0000,9,     45.9,2,   117.14,2,    41.23,2,     0.00,2,     2.95,2,   -999.0,9,   -999.0,9,-999.0000,9,  -999.00,     1800
  49UF20160512,KS1605,  4778,  1,     15,  25249,2,20160517,1729, 39.9990, 155.6480, 5567,    811.0,   3.5275,  34.2969,2,-999.0000,9,     42.6,2,   124.47,2,    41.63,2,     0.00,2,     2.98,2,   -999.0,9,   -999.0,9,-999.0000,9,  -999.00,     1757
  49UF20160512,KS1605,  4778,  1,     14,  25248,2,20160517,1729, 39.9990, 155.6480, 5567,    911.9,   3.2241,  34.3421,2,-999.0000,9,     39.0,2,   133.48,2,    42.19,2,     0.00,2,     3.02,2,   -999.0,9,   -999.0,9,-999.0000,9,  -999.00,     1755
  49UF20160512,KS1605,  4778,  1,     13,  25247,2,20160517,1729, 39.9990, 155.6480, 5567,   1011.7,   2.9565,  34.3590,2,-999.0000,9,     34.3,2,   141.76,2,    42.85,2,     0.00,2,     3.06,2,   -999.0,9,   -999.0,9,-999.0000,9,  -999.00,     1752
  49UF20160512,KS1605,  4778,  1,      9,  25243,2,20160517,1729, 39.9990, 155.6480, 5567,   1216.0,   2.6796,  34.4362,2,-999.0000,9,     36.4,2,   150.15,2,    42.88,2,     0.00,2,     3.06,2,   -999.0,9,   -999.0,9,-999.0000,9,  -999.00,     1747
  49UF20160512,KS1605,  4778,  1,      8,  25242,2,20160517,1729, 39.9990, 155.6480, 5567,   1418.6,   2.4456,  34.4903,2,-999.0000,9,     42.1,6,   156.24,6,    42.80,6,     0.00,6,     3.04,6,   -999.0,9,   -999.0,9,-999.0000,9,  -999.00,     1742
  49UF20160512,KS1605,  4778,  1,      7,  25241,2,20160517,1729, 39.9990, 155.6480, 5567,   1621.8,   2.2500,  34.5321,2,-999.0000,9,     50.6,2,   160.63,2,    42.39,2,     0.00,2,     3.00,2,   -999.0,9,   -999.0,9,-999.0000,9,  -999.00,     1738
  49UF20160512,KS1605,  4778,  1,      6,  25240,2,20160517,1729, 39.9990, 155.6480, 5567,   1622.2,   2.2495,  34.5322,2,-999.0000,9,     51.0,2,   160.50,2,    42.42,2,     0.00,2,     3.00,2,   -999.0,9,   -999.0,9,-999.0000,9,  -999.00,     1738
  49UF20160512,KS1605,  4778,  1,      5,  25239,2,20160517,1729, 39.9990, 155.6480, 5567,   1823.9,   2.0838,  34.5662,2,-999.0000,9,     61.4,2,   163.08,2,    41.89,2,     0.00,2,     2.96,2,   -999.0,9,   -999.0,9,-999.0000,9,  -999.00,     1733
  49UF20160512,KS1605,  4778,  1,      4,  25238,2,20160517,1729, 39.9990, 155.6480, 5567,   2025.5,   1.9454,  34.5924,2,-999.0000,9,     73.7,2,   164.13,2,    41.14,2,     0.00,2,     2.90,2,   -999.0,9,   -999.0,9,-999.0000,9,  -999.00,     1729