BOTTLE,20191223PRINUNIVRMK
EXPOCODE,SECT_ID,STNNBR,CASTNO,SAMPNO,BTLNBR,BTLNBR_FLAG_W,DATE,TIME,LATITUDE,LONGITUDE,DEPTH,CTDPRS,CTDTMP,CTDSAL,CTDSAL_FLAG_W,SALNTY,SALNTY_FLAG_W,OXYGEN,OXYGEN_FLAG_W,SILCAT,SILCAT_FLAG_W,NITRAT,NITRAT_FLAG_W,NITRIT,NITRIT_FLAG_W,PHSPHT,PHSPHT_FLAG_W,TCARBN,TCARBN_FLAG_W,ALKALI,ALKALI_FLAG_W,PH_TOT,PH_TOT_FLAG_W,PH_TMP,BTL_TIME
,,,,,,,,,,,METERS,DBAR,ITS-90,PSS-78,,PSS-78,,UMOL/KG,,UMOL/KG,,UMOL/KG,,UMOL/KG,,UMOL/KG,,UMOL/KG,,UMOL/KG,,,,DEG C,
  49UF20160512,KS1605,  4771,  1,     99,     99,2,20160515,0617, 39.9928, 146.9832, 5261,      0.0,   6.4014,  33.1857,2,-999.0000,9,    323.7,2,    10.91,2,     7.66,2,     0.13,2,     0.91,3,   -999.0,9,   -999.0,9,-999.0000,9,  -999.00,      652
  49UF20160512,KS1605,  4771,  1,     33,  25267,3,20160515,0617, 39.9928, 146.9832, 5261,     11.6,   6.3868,  33.1875,2,  33.1877,2,    325.6,2,    11.17,2,     7.65,2,     0.13,2,     0.90,2,   -999.0,9,   -999.0,9,-999.0000,9,  -999.00,      715
  49UF20160512,KS1605,  4771,  1,     32,  25266,2,20160515,0617, 39.9928, 146.9832, 5261,     26.5,   6.5476,  33.2849,2,-999.0000,9,    321.8,2,     6.23,2,     5.25,2,     0.12,2,     0.73,2,   -999.0,9,   -999.0,9,-999.0000,9,  -999.00,      713
  49UF20160512,KS1605,  4771,  1,     31,  25265,2,20160515,0617, 39.9928, 146.9832, 5261,     51.3,   5.8288,  33.4355,2,-999.0000,9,    296.2,2,    17.88,2,    11.48,2,     0.17,2,     1.09,2,   -999.0,9,   -999.0,9,-999.0000,9,  -999.00,      709
  49UF20160512,KS1605,  4771,  1,     30,  25264,2,20160515,0617, 39.9928, 146.9832, 5261,     75.7,   3.8360,  33.3144,2,-999.0000,9,    291.2,2,    31.73,2,    18.47,2,     0.06,2,     1.48,2,   -999.0,9,   -999.0,9,-999.0000,9,  -999.00,      708
  49UF20160512,KS1605,  4771,  1,     29,  25263,2,20160515,0617, 39.9928, 146.9832, 5261,    101.8,   1.9063,  33.1878,2,  33.1868,2,    284.6,2,    44.49,2,    24.53,2,     0.03,2,     1.93,2,   -999.0,9,   -999.0,9,-999.0000,9,  -999.00,      706
  49UF20160512,KS1605,  4771,  1,     28,  25262,2,20160515,0617, 39.9928, 146.9832, 5261,    126.9,   2.3561,  33.3199,2,-999.0000,9,    238.5,2,    53.39,2,    27.75,2,     0.02,2,     2.13,2,   -999.0,9,   -999.0,9,-999.0000,9,  -999.00,      705
  49UF20160512,KS1605,  4771,  1,     24,  25258,2,20160515,0617, 39.9928, 146.9832, 5261,    151.9,   3.3633,  33.5090,2,-999.0000,9,    197.8,2,    58.80,2,    29.48,2,     0.03,2,     2.23,2,   -999.0,9,   -999.0,9,-999.0000,9,  -999.00,      704
  49UF20160512,KS1605,  4771,  1,     23,  25257,2,20160515,0617, 39.9928, 146.9832, 5261,    202.7,   3.2230,  33.5842,2,  33.5811,2,    172.4,6,    67.39,6,    32.28,6,     0.01,6,     2.41,6,   -999.0,9,   -999.0,9,-999.0000,9,  -999.00,      702
  49UF20160512,KS1605,  4771,  1,     21,  25255,2,20160515,0617, 39.9928, 146.9832, 5261,    253.9,   3.0788,  33.6516,2,-999.0000,9,    127.6,2,    79.96,2,    36.68,2,     0.01,2,     2.69,2,   -999.0,9,   -999.0,9,-999.0000,9,  -999.00,      700
  49UF20160512,KS1605,  4771,  1,     22,  25256,2,20160515,0617, 39.9928, 146.9832, 5261,    254.6,   3.0759,  33.6509,2,-999.0000,9,    127.5,2,    80.13,2,    36.64,2,     0.01,2,     2.69,2,   -999.0,9,   -999.0,9,-999.0000,9,  -999.00,      700
  49UF20160512,KS1605,  4771,  1,     20,  25254,2,20160515,0617, 39.9928, 146.9832, 5261,    306.0,   4.0369,  33.8730,2,-999.0000,9,    109.7,2,    81.52,2,    36.03,2,     0.01,2,     2.62,2,   -999.0,9,   -999.0,9,-999.0000,9,  -999.00,      658
  49UF20160512,KS1605,  4771,  1,     19,  25253,2,20160515,0617, 39.9928, 146.9832, 5261,    404.6,   3.4294,  33.9449,2,  33.9462,2,     64.4,2,   101.75,2,    40.86,2,     0.00,2,     2.95,2,   -999.0,9,   -999.0,9,-999.0000,9,  -999.00,      655
  49UF20160512,KS1605,  4771,  1,     15,  25249,2,20160515,0617, 39.9928, 146.9832, 5261,    506.2,   3.6663,  34.1071,2,-999.0000,9,     51.9,2,   110.27,2,    41.23,2,     0.00,2,     2.96,2,   -999.0,9,   -999.0,9,-999.0000,9,  -999.00,      653
  49UF20160512,KS1605,  4771,  1,     14,  25248,2,20160515,0617, 39.9928, 146.9832, 5261,    607.1,   3.4760,  34.2081,2,  34.2183,4,     38.4,2,   122.54,2,    42.25,2,     0.00,2,     3.02,2,   -999.0,9,   -999.0,9,-999.0000,9,  -999.00,      650
  49UF20160512,KS1605,  4771,  1,     13,  25247,2,20160515,0617, 39.9928, 146.9832, 5261,    708.9,   3.0805,  34.2372,2,-999.0000,9,     22.4,2,   135.24,2,    43.91,2,     0.00,2,     3.13,2,   -999.0,9,   -999.0,9,-999.0000,9,  -999.00,      648
  49UF20160512,KS1605,  4771,  1,     12,  25246,2,20160515,0617, 39.9928, 146.9832, 5261,    810.1,   2.9596,  34.2842,2,  34.2841,2,     26.9,2,   139.71,2,    43.44,2,     0.00,2,     3.11,2,   -999.0,9,   -999.0,9,-999.0000,9,  -999.00,      645
  49UF20160512,KS1605,  4771,  1,     11,  25245,2,20160515,0617, 39.9928, 146.9832, 5261,    911.3,   3.0950,  34.3782,2,-999.0000,9,     39.3,2,   137.26,2,    42.35,2,     0.00,2,     3.03,2,   -999.0,9,   -999.0,9,-999.0000,9,  -999.00,      642
  49UF20160512,KS1605,  4771,  1,     10,  25244,2,20160515,0617, 39.9928, 146.9832, 5261,   1011.9,   2.6358,  34.3902,2,  34.3935,2,     30.7,2,   152.15,2,    43.31,2,     0.00,2,     3.09,2,   -999.0,9,   -999.0,9,-999.0000,9,  -999.00,      640
  49UF20160512,KS1605,  4771,  1,      6,  25240,2,20160515,0617, 39.9928, 146.9832, 5261,   1213.8,   2.4944,  34.4697,2,  34.4698,2,     40.0,2,   155.10,2,    42.85,2,     0.00,2,     3.06,2,   -999.0,9,   -999.0,9,-999.0000,9,  -999.00,      635
  49UF20160512,KS1605,  4771,  1,      5,  25239,2,20160515,0617, 39.9928, 146.9832, 5261,   1417.1,   2.2611,  34.5026,2,  34.5029,2,     47.1,6,   161.57,6,    42.54,6,     0.00,6,     3.03,6,   -999.0,9,   -999.0,9,-999.0000,9,  -999.00,      631
  49UF20160512,KS1605,  4771,  1,      3,  25237,2,20160515,0617, 39.9928, 146.9832, 5261,   1621.2,   2.0955,  34.5391,2,  34.5396,2,     57.2,2,   164.37,2,    41.94,2,     0.00,2,     2.98,2,   -999.0,9,   -999.0,9,-999.0000,9,  -999.00,      626
  49UF20160512,KS1605,  4771,  1,      4,  25238,2,20160515,0617, 39.9928, 146.9832, 5261,   1622.2,   2.0957,  34.5399,2,  34.5532,4,     57.6,2,   164.64,2,    41.95,2,     0.00,2,     2.98,2,   -999.0,9,   -999.0,9,-999.0000,9,  -999.00,      626
  49UF20160512,KS1605,  4771,  1,      2,  25236,2,20160515,0617, 39.9928, 146.9832, 5261,   1825.3,   2.0135,  34.5795,2,  34.5828,4,     68.2,2,   162.82,2,    41.49,2,     0.00,2,     2.93,2,   -999.0,9,   -999.0,9,-999.0000,9,  -999.00,      622
  49UF20160512,KS1605,  4771,  1,      1,  25235,2,20160515,0617, 39.9928, 146.9832, 5261,   2027.0,   1.8688,  34.6044,2,  34.6054,2,     80.7,2,   164.02,2,    40.76,2,     0.00,2,     2.87,2,   -999.0,9,   -999.0,9,-999.0000,9,  -999.00,      617
  49UF20160512,KS1605,  4772,  1,     99,     99,2,20160515,1339, 39.8752, 147.9952, 5301,      0.0,  10.0178,  33.7878,2,-999.0000,9,    294.6,2,    12.95,2,     6.41,2,     0.13,2,     0.60,2,   -999.0,9,   -999.0,9,-999.0000,9,  -999.00,     1420
  49UF20160512,KS1605,  4772,  1,     33,  25267,2,20160515,1339, 39.8752, 147.9952, 5301,     12.5,  10.0046,  33.7853,2,-999.0000,9,    294.6,2,    12.98,2,     6.41,2,     0.13,2,     0.59,2,   -999.0,9,   -999.0,9,-999.0000,9,  -999.00,     1438
  49UF20160512,KS1605,  4772,  1,     32,  25266,2,20160515,1339, 39.8752, 147.9952, 5301,     27.4,   9.8867,  33.7623,2,-999.0000,9,    295.2,2,    12.88,2,     6.38,2,     0.13,2,     0.59,2,   -999.0,9,   -999.0,9,-999.0000,9,  -999.00,     1437
  49UF20160512,KS1605,  4772,  1,     31,  25265,2,20160515,1339, 39.8752, 147.9952, 5301,     52.2,   4.5986,  33.1123,2,-999.0000,9,    345.6,2,    12.20,2,     9.76,2,     0.15,2,     1.11,3,   -999.0,9,   -999.0,9,-999.0000,9,  -999.00,     1434
  49UF20160512,KS1605,  4772,  1,     30,  25264,2,20160515,1339, 39.8752, 147.9952, 5301,     77.6,   3.1422,  33.0699,2,-999.0000,9,    336.4,2,    23.50,2,    14.63,2,     0.18,2,     1.43,2,   -999.0,9,   -999.0,9,-999.0000,9,  -999.00,     1433
  49UF20160512,KS1605,  4772,  1,     29,  25263,2,20160515,1339, 39.8752, 147.9952, 5301,    101.5,   2.6860,  33.0597,2,-999.0000,9,    333.2,2,    26.85,2,    16.01,2,     0.18,2,     1.53,2,   -999.0,9,   -999.0,9,-999.0000,9,  -999.00,     1431
  49UF20160512,KS1605,  4772,  1,     28,  25262,2,20160515,1339, 39.8752, 147.9952, 5301,    126.6,   1.5328,  33.0617,2,-999.0000,9,    320.9,2,    38.09,2,    22.16,2,     0.20,2,     1.85,2,   -999.0,9,   -999.0,9,-999.0000,9,  -999.00,     1430
  49UF20160512,KS1605,  4772,  1,     24,  25258,2,20160515,1339, 39.8752, 147.9952, 5301,    153.7,   1.4210,  33.1512,2,-999.0000,9,    282.0,6,    47.71,6,    26.54,6,     0.05,6,     2.06,6,   -999.0,9,   -999.0,9,-999.0000,9,  -999.00,     1428
  49UF20160512,KS1605,  4772,  1,     22,  25256,2,20160515,1339, 39.8752, 147.9952, 5301,    203.2,   1.9917,  33.3904,2,-999.0000,9,    197.0,2,    67.30,2,    32.66,2,     0.02,2,     2.46,2,   -999.0,9,   -999.0,9,-999.0000,9,  -999.00,     1426
  49UF20160512,KS1605,  4772,  1,     23,  25257,2,20160515,1339, 39.8752, 147.9952, 5301,    204.2,   1.9910,  33.3911,2,-999.0000,9,    200.9,2,    66.35,2,    32.34,2,     0.02,2,     2.44,2,   -999.0,9,   -999.0,9,-999.0000,9,  -999.00,     1427
  49UF20160512,KS1605,  4772,  1,     21,  25255,2,20160515,1339, 39.8752, 147.9952, 5301,    254.3,   3.2139,  33.6323,2,-999.0000,9,    147.3,2,    73.55,2,    34.39,2,     0.01,2,     2.55,2,   -999.0,9,   -999.0,9,-999.0000,9,  -999.00,     1425
  49UF20160512,KS1605,  4772,  1,     20,  25254,2,20160515,1339, 39.8752, 147.9952, 5301,    304.1,   3.0718,  33.7002,2,-999.0000,9,    106.4,2,    86.61,2,    38.75,2,     0.01,2,     2.81,2,   -999.0,9,   -999.0,9,-999.0000,9,  -999.00,     1423
  49UF20160512,KS1605,  4772,  1,     19,  25253,2,20160515,1339, 39.8752, 147.9952, 5301,    405.9,   3.4736,  33.9296,2,-999.0000,9,     57.6,2,   100.90,2,    41.55,2,     0.00,2,     2.98,2,   -999.0,9,   -999.0,9,-999.0000,9,  -999.00,     1420
  49UF20160512,KS1605,  4772,  1,     15,  25249,2,20160515,1339, 39.8752, 147.9952, 5301,    507.1,   3.4428,  34.0642,2,-999.0000,9,     25.8,2,   115.62,2,    44.03,2,     0.00,2,     3.13,2,   -999.0,9,   -999.0,9,-999.0000,9,  -999.00,     1417
  49UF20160512,KS1605,  4772,  1,     14,  25248,2,20160515,1339, 39.8752, 147.9952, 5301,    607.3,   3.7907,  34.2436,2,-999.0000,9,     48.5,2,   115.86,2,    40.88,2,     0.00,2,     2.93,2,   -999.0,9,   -999.0,9,-999.0000,9,  -999.00,     1414
  49UF20160512,KS1605,  4772,  1,     13,  25247,2,20160515,1339, 39.8752, 147.9952, 5301,    707.5,   3.0513,  34.2477,2,-999.0000,9,     30.0,2,   134.74,2,    43.12,2,     0.00,2,     3.09,2,   -999.0,9,   -999.0,9,-999.0000,9,  -999.00,     1411
  49UF20160512,KS1605,  4772,  1,     12,  25246,2,20160515,1339, 39.8752, 147.9952, 5301,    809.7,   3.0014,  34.3181,2,-999.0000,9,     34.3,2,   138.13,2,    42.74,2,     0.00,2,     3.06,2,   -999.0,9,   -999.0,9,-999.0000,9,  -999.00,     1408
  49UF20160512,KS1605,  4772,  1,     11,  25245,2,20160515,1339, 39.8752, 147.9952, 5301,    910.2,   3.0757,  34.3840,2,-999.0000,9,     39.9,2,   137.03,2,    42.26,2,     0.00,2,     3.03,2,   -999.0,9,   -999.0,9,-999.0000,9,  -999.00,     1405
  49UF20160512,KS1605,  4772,  1,     10,  25244,2,20160515,1339, 39.8752, 147.9952, 5301,   1011.6,   2.6916,  34.3876,2,-999.0000,9,     34.6,2,   148.65,2,    42.95,2,     0.00,2,     3.08,2,   -999.0,9,   -999.0,9,-999.0000,9,  -999.00,     1402
  49UF20160512,KS1605,  4772,  1,      7,  25241,2,20160515,1339, 39.8752, 147.9952, 5301,   1214.2,   2.4429,  34.4514,2,-999.0000,9,     39.5,6,   156.67,6,    42.81,6,     0.00,6,     3.06,6,   -999.0,9,   -999.0,9,-999.0000,9,  -999.00,     1358
  49UF20160512,KS1605,  4772,  1,      5,  25239,2,20160515,1339, 39.8752, 147.9952, 5301,   1417.0,   2.3553,  34.5026,2,-999.0000,9,     44.5,2,   158.07,2,    42.57,2,     0.00,2,     3.03,2,   -999.0,9,   -999.0,9,-999.0000,9,  -999.00,     1353
  49UF20160512,KS1605,  4772,  1,      6,  25240,2,20160515,1339, 39.8752, 147.9952, 5301,   1417.7,   2.3560,  34.5024,2,-999.0000,9,     44.8,2,   158.47,2,    42.54,2,     0.00,2,     3.03,2,   -999.0,9,   -999.0,9,-999.0000,9,  -999.00,     1353
  49UF20160512,KS1605,  4772,  1,      4,  25238,2,20160515,1339, 39.8752, 147.9952, 5301,   1620.9,   2.2043,  34.5445,2,-999.0000,9,     55.2,2,   160.02,2,    42.08,2,     0.00,2,     2.98,2,   -999.0,9,   -999.0,9,-999.0000,9,  -999.00,     1348
  49UF20160512,KS1605,  4772,  1,      3,  25237,2,20160515,1339, 39.8752, 147.9952, 5301,   1824.0,   2.0451,  34.5741,2,-999.0000,9,     65.2,2,   162.17,2,    41.57,2,     0.00,2,     2.93,2,   -999.0,9,   -999.0,9,-999.0000,9,  -999.00,     1344
  49UF20160512,KS1605,  4772,  1,      2,  25236,2,20160515,1339, 39.8752, 147.9952, 5301,   2028.3,   1.9158,  34.5979,2,-999.0000,9,     77.5,2,   162.97,2,    40.84,2,     0.00,2,     2.88,2,   -999.0,9,   -999.0,9,-999.0000,9,  -999.00,     1339