BOTTLE,20191223PRINUNIVRMK
EXPOCODE,SECT_ID,STNNBR,CASTNO,SAMPNO,BTLNBR,BTLNBR_FLAG_W,DATE,TIME,LATITUDE,LONGITUDE,DEPTH,CTDPRS,CTDTMP,CTDSAL,CTDSAL_FLAG_W,SALNTY,SALNTY_FLAG_W,OXYGEN,OXYGEN_FLAG_W,SILCAT,SILCAT_FLAG_W,NITRAT,NITRAT_FLAG_W,NITRIT,NITRIT_FLAG_W,PHSPHT,PHSPHT_FLAG_W,TCARBN,TCARBN_FLAG_W,ALKALI,ALKALI_FLAG_W,PH_TOT,PH_TOT_FLAG_W,PH_TMP,BTL_TIME
,,,,,,,,,,,METERS,DBAR,ITS-90,PSS-78,,PSS-78,,UMOL/KG,,UMOL/KG,,UMOL/KG,,UMOL/KG,,UMOL/KG,,UMOL/KG,,UMOL/KG,,,,DEG C,
  49UF20160512,KS1605,  4779,  1,     99,     99,2,20160518,0022, 39.9938, 156.9953, 5588,      0.0,  12.4659,  34.3088,2,-999.0000,9,    274.1,2,    12.98,2,     6.10,2,     0.10,2,     0.51,2,   -999.0,9,   -999.0,9,-999.0000,9,  -999.00,      100
  49UF20160512,KS1605,  4779,  1,     36,  25270,2,20160518,0022, 39.9938, 156.9953, 5588,     11.4,  12.4608,  34.3087,2,  34.3075,2,    273.7,2,    12.94,2,     6.09,2,     0.10,2,     0.50,2,   -999.0,9,   -999.0,9,-999.0000,9,  -999.00,      122
  49UF20160512,KS1605,  4779,  1,     35,  25269,2,20160518,0022, 39.9938, 156.9953, 5588,     28.0,  12.4494,  34.3080,2,-999.0000,9,    274.0,2,    12.96,2,     6.10,2,     0.10,2,     0.50,2,   -999.0,9,   -999.0,9,-999.0000,9,  -999.00,      121
  49UF20160512,KS1605,  4779,  1,     34,  25268,2,20160518,0022, 39.9938, 156.9953, 5588,     51.9,  11.1199,  34.1537,2,-999.0000,9,    282.8,2,    16.13,2,     8.03,2,     0.13,2,     0.68,2,   -999.0,9,   -999.0,9,-999.0000,9,  -999.00,      117
  49UF20160512,KS1605,  4779,  1,     33,  25267,2,20160518,0022, 39.9938, 156.9953, 5588,     77.0,   9.3545,  34.0267,2,-999.0000,9,    275.7,2,    18.48,2,    10.58,2,     0.25,2,     0.87,2,   -999.0,9,   -999.0,9,-999.0000,9,  -999.00,      116
  49UF20160512,KS1605,  4779,  1,     32,  25266,2,20160518,0022, 39.9938, 156.9953, 5588,    101.2,   8.5765,  33.9269,2,  33.9266,2,    276.8,2,    20.33,2,    11.80,2,     0.26,2,     0.96,2,   -999.0,9,   -999.0,9,-999.0000,9,  -999.00,      114
  49UF20160512,KS1605,  4779,  1,     31,  25265,2,20160518,0022, 39.9938, 156.9953, 5588,    127.7,   7.7389,  33.8209,2,-999.0000,9,    285.4,2,    22.51,2,    12.92,2,     0.32,2,     1.05,2,   -999.0,9,   -999.0,9,-999.0000,9,  -999.00,      113
  49UF20160512,KS1605,  4779,  1,     27,  25261,2,20160518,0022, 39.9938, 156.9953, 5588,    150.8,   7.3872,  33.7773,2,-999.0000,9,    285.2,6,    23.59,6,    13.72,6,     0.30,6,     1.10,6,   -999.0,9,   -999.0,9,-999.0000,9,  -999.00,      111
  49UF20160512,KS1605,  4779,  1,     26,  25260,2,20160518,0022, 39.9938, 156.9953, 5588,    201.8,   6.5587,  33.7020,2,  33.7024,2,    282.8,2,    26.07,2,    15.88,2,     0.02,2,     1.22,2,   -999.0,9,   -999.0,9,-999.0000,9,  -999.00,      109
  49UF20160512,KS1605,  4779,  1,     25,  25259,2,20160518,0022, 39.9938, 156.9953, 5588,    202.0,   6.5486,  33.7008,2,  33.7027,2,    281.6,2,    26.25,2,    15.97,2,     0.02,2,     1.23,2,   -999.0,9,   -999.0,9,-999.0000,9,  -999.00,      109
  49UF20160512,KS1605,  4779,  1,     24,  25258,2,20160518,0022, 39.9938, 156.9953, 5588,    252.6,   5.5759,  33.6443,2,-999.0000,9,    251.3,2,    34.93,2,    20.06,2,     0.01,2,     1.52,2,   -999.0,9,   -999.0,9,-999.0000,9,  -999.00,      107
  49UF20160512,KS1605,  4779,  1,     23,  25257,2,20160518,0022, 39.9938, 156.9953, 5588,    302.6,   5.2537,  33.7546,2,-999.0000,9,    178.5,2,    53.19,2,    27.46,2,     0.01,2,     2.03,2,   -999.0,9,   -999.0,9,-999.0000,9,  -999.00,      105
  49UF20160512,KS1605,  4779,  1,     22,  25256,2,20160518,0022, 39.9938, 156.9953, 5588,    404.7,   4.2684,  33.8414,2,  33.8425,6,    123.2,2,    74.80,2,    34.42,2,     0.00,2,     2.50,2,   -999.0,9,   -999.0,9,-999.0000,9,  -999.00,      102
  49UF20160512,KS1605,  4779,  1,     18,  25252,2,20160518,0022, 39.9938, 156.9953, 5588,    505.6,   4.7368,  34.0804,2,-999.0000,9,     87.9,2,    87.39,2,    36.45,2,     0.00,2,     2.63,2,   -999.0,9,   -999.0,9,-999.0000,9,  -999.00,       59
  49UF20160512,KS1605,  4779,  1,     17,  25251,2,20160518,0022, 39.9938, 156.9953, 5588,    608.4,   4.1314,  34.1252,2,  34.1242,2,     63.0,2,   102.03,2,    39.45,2,     0.00,2,     2.83,2,   -999.0,9,   -999.0,9,-999.0000,9,  -999.00,       56
  49UF20160512,KS1605,  4779,  1,     16,  25250,2,20160518,0022, 39.9938, 156.9953, 5588,    707.7,   3.8046,  34.2118,2,-999.0000,9,     46.4,2,   115.87,2,    41.20,2,     0.00,2,     2.94,2,   -999.0,9,   -999.0,9,-999.0000,9,  -999.00,       53
  49UF20160512,KS1605,  4779,  1,     15,  25249,2,20160518,0022, 39.9938, 156.9953, 5588,    809.6,   3.5135,  34.2886,2,  34.2881,2,     41.6,2,   124.87,2,    41.69,2,     0.00,2,     2.98,2,   -999.0,9,   -999.0,9,-999.0000,9,  -999.00,       51
  49UF20160512,KS1605,  4779,  1,     14,  25248,2,20160518,0022, 39.9938, 156.9953, 5588,    910.5,   3.3013,  34.3223,2,-999.0000,9,     37.7,2,   131.51,2,    42.24,2,     0.00,2,     3.02,2,   -999.0,9,   -999.0,9,-999.0000,9,  -999.00,       48
  49UF20160512,KS1605,  4779,  1,     13,  25247,2,20160518,0022, 39.9938, 156.9953, 5588,   1012.6,   3.0972,  34.3686,2,  34.3681,2,     38.2,2,   137.57,2,    42.47,2,     0.00,2,     3.03,2,   -999.0,9,   -999.0,9,-999.0000,9,  -999.00,       45
  49UF20160512,KS1605,  4779,  1,      9,  25243,2,20160518,0022, 39.9938, 156.9953, 5588,   1216.4,   2.7151,  34.4386,2,  34.4373,6,     37.4,6,   148.91,6,    42.84,6,     0.00,6,     3.05,6,   -999.0,9,   -999.0,9,-999.0000,9,  -999.00,       41
  49UF20160512,KS1605,  4779,  1,      7,  25241,2,20160518,0022, 39.9938, 156.9953, 5588,   1419.0,   2.4330,  34.4917,2,  34.4909,2,     42.8,2,   156.83,2,    42.82,2,     0.00,2,     3.04,2,   -999.0,9,   -999.0,9,-999.0000,9,  -999.00,       36
  49UF20160512,KS1605,  4779,  1,      8,  25242,2,20160518,0022, 39.9938, 156.9953, 5588,   1420.2,   2.4333,  34.4915,2,  34.4913,2,     42.9,2,   157.03,2,    42.81,2,     0.00,2,     3.04,2,   -999.0,9,   -999.0,9,-999.0000,9,  -999.00,       36
  49UF20160512,KS1605,  4779,  1,      6,  25240,2,20160518,0022, 39.9938, 156.9953, 5588,   1621.9,   2.2470,  34.5318,2,  34.5313,2,     50.3,2,   160.96,2,    42.41,2,     0.00,2,     3.00,2,   -999.0,9,   -999.0,9,-999.0000,9,  -999.00,       31
  49UF20160512,KS1605,  4779,  1,      5,  25239,2,20160518,0022, 39.9938, 156.9953, 5588,   1826.4,   2.0993,  34.5630,2,  34.5624,2,     61.1,2,   163.33,2,    41.93,2,     0.00,2,     2.95,2,   -999.0,9,   -999.0,9,-999.0000,9,  -999.00,       27
  49UF20160512,KS1605,  4779,  1,      4,  25238,2,20160518,0022, 39.9938, 156.9953, 5588,   2028.1,   1.9588,  34.5906,2,  34.5901,2,     73.2,2,   163.93,2,    41.18,2,     0.00,2,     2.90,2,   -999.0,9,   -999.0,9,-999.0000,9,  -999.00,       22
  49UF20160512,KS1605,  4780,  1,     99,     99,2,20160518,0752, 39.9973, 158.3283, 5453,      0.0,  12.0771,  34.2652,2,-999.0000,9,    275.5,2,    13.75,2,     6.64,2,     0.12,2,     0.55,2,   -999.0,9,   -999.0,9,-999.0000,9,  -999.00,      827
  49UF20160512,KS1605,  4780,  1,     36,  25270,2,20160518,0752, 39.9973, 158.3283, 5453,     12.0,  12.0814,  34.2657,2,-999.0000,9,    275.8,2,    13.87,2,     6.69,2,     0.12,2,     0.55,2,   -999.0,9,   -999.0,9,-999.0000,9,  -999.00,      846
  49UF20160512,KS1605,  4780,  1,     35,  25269,2,20160518,0752, 39.9973, 158.3283, 5453,     27.7,  11.6034,  34.1847,2,-999.0000,9,    278.7,2,    14.78,2,     7.15,2,     0.11,2,     0.59,2,   -999.0,9,   -999.0,9,-999.0000,9,  -999.00,      845
  49UF20160512,KS1605,  4780,  1,     34,  25268,2,20160518,0752, 39.9973, 158.3283, 5453,     52.2,   9.0138,  33.8767,2,-999.0000,9,    293.8,2,    20.38,2,    10.70,2,     0.22,2,     0.91,2,   -999.0,9,   -999.0,9,-999.0000,9,  -999.00,      841
  49UF20160512,KS1605,  4780,  1,     33,  25267,2,20160518,0752, 39.9973, 158.3283, 5453,     77.0,   9.2315,  34.0289,2,-999.0000,9,    271.4,2,    19.68,2,    11.44,2,     0.30,2,     0.91,2,   -999.0,9,   -999.0,9,-999.0000,9,  -999.00,      840
  49UF20160512,KS1605,  4780,  1,     32,  25266,2,20160518,0752, 39.9973, 158.3283, 5453,    101.2,   8.6164,  33.9483,2,-999.0000,9,    274.5,2,    20.94,2,    12.32,2,     0.31,2,     0.98,2,   -999.0,9,   -999.0,9,-999.0000,9,  -999.00,      839
  49UF20160512,KS1605,  4780,  1,     31,  25265,2,20160518,0752, 39.9973, 158.3283, 5453,    127.9,   8.3051,  33.9047,2,-999.0000,9,    282.3,6,    21.10,6,    12.21,6,     0.34,6,     0.99,6,   -999.0,9,   -999.0,9,-999.0000,9,  -999.00,      838
  49UF20160512,KS1605,  4780,  1,     26,  25260,2,20160518,0752, 39.9973, 158.3283, 5453,    152.4,   7.7791,  33.8577,2,-999.0000,9,    254.1,2,    25.97,2,    15.81,2,     0.03,2,     1.19,2,   -999.0,9,   -999.0,9,-999.0000,9,  -999.00,      836
  49UF20160512,KS1605,  4780,  1,     27,  25261,2,20160518,0752, 39.9973, 158.3283, 5453,    152.8,   7.7799,  33.8581,2,-999.0000,9,    254.0,2,    25.82,2,    15.81,2,     0.03,2,     1.19,2,   -999.0,9,   -999.0,9,-999.0000,9,  -999.00,      836
  49UF20160512,KS1605,  4780,  1,     25,  25259,2,20160518,0752, 39.9973, 158.3283, 5453,    202.2,   6.1703,  33.6698,2,-999.0000,9,    257.6,2,    30.73,2,    18.14,2,     0.02,2,     1.38,2,   -999.0,9,   -999.0,9,-999.0000,9,  -999.00,      835
  49UF20160512,KS1605,  4780,  1,     24,  25258,2,20160518,0752, 39.9973, 158.3283, 5453,    252.9,   5.3552,  33.6319,2,-999.0000,9,    235.4,2,    39.18,2,    21.78,2,     0.01,2,     1.65,2,   -999.0,9,   -999.0,9,-999.0000,9,  -999.00,      833
  49UF20160512,KS1605,  4780,  1,     23,  25257,2,20160518,0752, 39.9973, 158.3283, 5453,    303.4,   5.2150,  33.7591,2,-999.0000,9,    174.5,2,    54.53,2,    27.94,2,     0.00,2,     2.06,2,   -999.0,9,   -999.0,9,-999.0000,9,  -999.00,      832
  49UF20160512,KS1605,  4780,  1,     22,  25256,2,20160518,0752, 39.9973, 158.3283, 5453,    404.0,   4.6904,  33.8908,2,-999.0000,9,    125.5,2,    73.00,2,    33.52,2,     0.00,2,     2.44,2,   -999.0,9,   -999.0,9,-999.0000,9,  -999.00,      829
  49UF20160512,KS1605,  4780,  1,     18,  25252,2,20160518,0752, 39.9973, 158.3283, 5453,    504.7,   4.4578,  34.0434,2,-999.0000,9,     85.5,2,    89.11,2,    37.15,2,     0.00,2,     2.67,2,   -999.0,9,   -999.0,9,-999.0000,9,  -999.00,      827
  49UF20160512,KS1605,  4780,  1,     17,  25251,2,20160518,0752, 39.9973, 158.3283, 5453,    605.9,   4.0562,  34.1377,2,-999.0000,9,     58.7,2,   105.01,2,    39.97,2,     0.00,2,     2.86,2,   -999.0,9,   -999.0,9,-999.0000,9,  -999.00,      824
  49UF20160512,KS1605,  4780,  1,     16,  25250,2,20160518,0752, 39.9973, 158.3283, 5453,    707.1,   3.8459,  34.2375,2,-999.0000,9,     48.7,2,   115.52,2,    40.85,2,     0.00,2,     2.92,2,   -999.0,9,   -999.0,9,-999.0000,9,  -999.00,      822
  49UF20160512,KS1605,  4780,  1,     15,  25249,2,20160518,0752, 39.9973, 158.3283, 5453,    809.4,   3.5259,  34.2931,2,-999.0000,9,     42.0,2,   124.91,2,    41.69,2,     0.00,2,     2.98,2,   -999.0,9,   -999.0,9,-999.0000,9,  -999.00,      819
  49UF20160512,KS1605,  4780,  1,     14,  25248,2,20160518,0752, 39.9973, 158.3283, 5453,    910.4,   3.2916,  34.3381,2,-999.0000,9,     40.3,2,   131.93,2,    42.14,2,     0.00,2,     3.01,2,   -999.0,9,   -999.0,9,-999.0000,9,  -999.00,      817
  49UF20160512,KS1605,  4780,  1,     13,  25247,2,20160518,0752, 39.9973, 158.3283, 5453,   1011.3,   3.0383,  34.3783,2,-999.0000,9,     38.3,6,   139.66,6,    42.59,6,     0.00,6,     3.04,6,   -999.0,9,   -999.0,9,-999.0000,9,  -999.00,      814
  49UF20160512,KS1605,  4780,  1,      8,  25242,2,20160518,0752, 39.9973, 158.3283, 5453,   1213.5,   2.6491,  34.4392,2,-999.0000,9,     36.8,2,   151.73,2,    43.00,2,     0.00,2,     3.06,2,   -999.0,9,   -999.0,9,-999.0000,9,  -999.00,      810
  49UF20160512,KS1605,  4780,  1,      9,  25243,2,20160518,0752, 39.9973, 158.3283, 5453,   1213.9,   2.6486,  34.4392,2,-999.0000,9,     37.2,2,   151.35,2,    42.95,2,     0.00,2,     3.05,2,   -999.0,9,   -999.0,9,-999.0000,9,  -999.00,      810
  49UF20160512,KS1605,  4780,  1,      7,  25241,2,20160518,0752, 39.9973, 158.3283, 5453,   1415.1,   2.4113,  34.4936,2,-999.0000,9,     42.7,2,   157.84,2,    42.80,2,     0.00,2,     3.04,2,   -999.0,9,   -999.0,9,-999.0000,9,  -999.00,      805
  49UF20160512,KS1605,  4780,  1,      6,  25240,2,20160518,0752, 39.9973, 158.3283, 5453,   1619.5,   2.2009,  34.5378,2,-999.0000,9,     52.2,2,   162.16,2,    42.30,2,     0.00,2,     2.99,2,   -999.0,9,   -999.0,9,-999.0000,9,  -999.00,      801
  49UF20160512,KS1605,  4780,  1,      5,  25239,2,20160518,0752, 39.9973, 158.3283, 5453,   1820.9,   2.0605,  34.5685,2,-999.0000,9,     62.6,2,   163.99,2,    41.74,2,     0.00,2,     2.95,2,   -999.0,9,   -999.0,9,-999.0000,9,  -999.00,      756
  49UF20160512,KS1605,  4780,  1,      4,  25238,2,20160518,0752, 39.9973, 158.3283, 5453,   2027.1,   1.9386,  34.5930,2,-999.0000,9,     73.8,2,   164.77,2,    41.12,2,     0.00,2,     2.89,2,   -999.0,9,   -999.0,9,-999.0000,9,  -999.00,      752