BOTTLE,20191223PRINUNIVRMK
EXPOCODE,SECT_ID,STNNBR,CASTNO,SAMPNO,BTLNBR,BTLNBR_FLAG_W,DATE,TIME,LATITUDE,LONGITUDE,DEPTH,CTDPRS,CTDTMP,CTDSAL,CTDSAL_FLAG_W,SALNTY,SALNTY_FLAG_W,OXYGEN,OXYGEN_FLAG_W,SILCAT,SILCAT_FLAG_W,NITRAT,NITRAT_FLAG_W,NITRIT,NITRIT_FLAG_W,PHSPHT,PHSPHT_FLAG_W,TCARBN,TCARBN_FLAG_W,ALKALI,ALKALI_FLAG_W,PH_TOT,PH_TOT_FLAG_W,PH_TMP,BTL_TIME
,,,,,,,,,,,METERS,DBAR,ITS-90,PSS-78,,PSS-78,,UMOL/KG,,UMOL/KG,,UMOL/KG,,UMOL/KG,,UMOL/KG,,UMOL/KG,,UMOL/KG,,,,DEG C,
  49UF20160512,KS1605,  4781,  1,     99,     99,2,20160518,1535, 40.0095, 159.6577, 5500,      0.0,  11.7838,  34.2400,2,  34.2603,2,    273.7,2,    14.13,2,     7.15,2,     0.13,2,     0.59,2,   2069.5,2,   2272.3,2,   7.8899,2,    25.00,     1720
  49UF20160512,KS1605,  4781,  1,     36,  25270,2,20160518,1535, 40.0095, 159.6577, 5500,     11.9,  11.7860,  34.2415,2,  34.2395,2,    273.3,2,    14.35,2,     7.26,2,     0.13,2,     0.60,2,   2072.2,2,   2270.7,2,   7.8877,2,    25.00,     1749
  49UF20160512,KS1605,  4781,  1,     35,  25269,2,20160518,1535, 40.0095, 159.6577, 5500,     25.7,  11.5749,  34.1988,2,-999.0000,9,    275.8,2,    14.96,2,     7.58,2,     0.13,2,     0.63,2,   2068.5,2,   2270.3,2,   7.8888,2,    25.00,     1748
  49UF20160512,KS1605,  4781,  1,     34,  25268,2,20160518,1535, 40.0095, 159.6577, 5500,     51.4,   8.9960,  33.8264,2,-999.0000,9,    294.3,2,    20.38,2,    10.71,2,     0.20,2,     0.92,2,   2092.8,2,   2258.0,2,   7.8245,2,    25.00,     1744
  49UF20160512,KS1605,  4781,  1,     33,  25267,2,20160518,1535, 40.0095, 159.6577, 5500,     75.5,   8.3486,  33.8102,2,-999.0000,9,    291.6,6,    21.39,6,    11.69,6,     0.26,6,     0.99,6,   2091.7,2,   2257.3,2,   7.8079,2,    25.00,     1743
  49UF20160512,KS1605,  4781,  1,     32,  25266,2,20160518,1535, 40.0095, 159.6577, 5500,    102.2,   7.2070,  33.6896,2,  33.6915,2,    292.3,2,    22.62,2,    13.24,2,     0.33,2,     1.10,2,   2105.9,2,   2254.1,2,   7.7805,2,    25.00,     1741
  49UF20160512,KS1605,  4781,  1,     31,  25265,2,20160518,1535, 40.0095, 159.6577, 5500,    126.8,   7.2420,  33.7348,2,-999.0000,9,    288.2,2,    22.94,2,    13.89,2,     0.24,2,     1.10,2,   2109.9,2,   2254.1,2,   7.7749,2,    25.00,     1740
  49UF20160512,KS1605,  4781,  1,     30,  25264,2,20160518,1535, 40.0095, 159.6577, 5500,    152.1,   6.9739,  33.7155,2,-999.0000,9,    286.6,2,    23.71,2,    14.80,2,     0.03,2,     1.15,2,   2104.7,2,   2255.7,2,   7.7645,2,    25.00,     1739
  49UF20160512,KS1605,  4781,  1,     29,  25263,2,20160518,1535, 40.0095, 159.6577, 5500,    203.4,   6.6575,  33.7239,2,  33.7236,2,    267.8,2,    27.45,2,    16.80,2,     0.01,2,     1.29,2,   2121.1,2,   2258.3,2,   7.7331,2,    25.00,     1738
  49UF20160512,KS1605,  4781,  1,     28,  25262,2,20160518,1535, 40.0095, 159.6577, 5500,    254.2,   4.8078,  33.6753,2,-999.0000,9,    186.7,2,    52.37,2,    27.85,2,     0.01,2,     2.06,2,   2203.6,2,   2270.1,2,   7.5483,2,    25.00,     1736
  49UF20160512,KS1605,  4781,  1,     27,  25261,2,20160518,1535, 40.0095, 159.6577, 5500,    304.2,   5.0141,  33.8202,2,-999.0000,9,    154.2,2,    60.71,2,    30.31,2,     0.01,2,     2.22,2,   2225.2,2,   2279.9,2,   7.5125,2,    25.00,     1734
  49UF20160512,KS1605,  4781,  1,     26,  25260,2,20160518,1535, 40.0095, 159.6577, 5500,    405.0,   4.5739,  33.9638,2,  33.9547,2,    103.9,2,    80.67,2,    35.66,2,     0.00,2,     2.58,2,   2268.4,2,   2301.9,2,   7.4256,2,    25.00,     1731
  49UF20160512,KS1605,  4781,  1,     25,  25259,2,20160518,1535, 40.0095, 159.6577, 5500,    505.5,   3.9407,  34.0372,2,-999.0000,9,     66.7,2,    98.39,2,    39.76,2,     0.00,2,     2.85,2,   2313.2,2,   2317.2,2,   7.3560,2,    25.00,     1729
  49UF20160512,KS1605,  4781,  1,     24,  25258,2,20160518,1535, 40.0095, 159.6577, 5500,    608.4,   3.7561,  34.1428,2,  34.1375,2,     49.1,6,   110.98,6,    41.19,6,     0.00,6,     2.95,6,   2330.2,2,   2332.6,2,   7.3426,2,    25.00,     1726
  49UF20160512,KS1605,  4781,  1,     23,  25257,2,20160518,1535, 40.0095, 159.6577, 5500,    708.3,   3.4714,  34.2131,2,-999.0000,9,     37.7,2,   122.28,2,    42.22,2,     0.00,2,     3.02,2,   2352.4,6,   2345.7,6,   7.3279,2,    25.00,     1723
  49UF20160512,KS1605,  4781,  1,     22,  25256,2,20160518,1535, 40.0095, 159.6577, 5500,    809.5,   3.2713,  34.2902,2,  34.2904,2,     34.4,2,   130.89,2,    42.63,2,     0.00,2,     3.04,2,   2362.3,2,   2358.5,2,   7.3330,6,    25.00,     1721
  49UF20160512,KS1605,  4781,  1,     21,  25255,2,20160518,1535, 40.0095, 159.6577, 5500,    910.5,   3.0342,  34.3429,2,-999.0000,9,     33.5,2,   138.65,2,    42.89,2,     0.00,2,     3.06,2,   2368.2,2,   2367.5,2,   7.3406,2,    25.00,     1718
  49UF20160512,KS1605,  4781,  1,     20,  25254,2,20160518,1535, 40.0095, 159.6577, 5500,   1012.1,   2.8004,  34.3774,2,  34.3780,6,     33.0,2,   145.80,2,    43.15,2,     0.00,2,     3.07,2,   2374.4,2,   2375.6,2,   7.3413,2,    25.00,     1715
  49UF20160512,KS1605,  4781,  1,     19,  25253,2,20160518,1535, 40.0095, 159.6577, 5500,   1214.7,   2.5471,  34.4332,2,  34.4346,2,     36.0,2,   154.00,2,    43.09,2,     0.00,2,     3.07,2,   2381.6,2,   2384.2,2,   7.3486,2,    25.00,     1711
  49UF20160512,KS1605,  4781,  1,     18,  25252,2,20160518,1535, 40.0095, 159.6577, 5500,   1416.9,   2.3793,  34.4916,2,  34.4910,2,     42.4,2,   158.48,2,    42.85,2,     0.00,2,     3.04,2,   2387.2,2,   2394.9,2,   7.3668,2,    25.00,     1706
  49UF20160512,KS1605,  4781,  1,     17,  25251,2,20160518,1535, 40.0095, 159.6577, 5500,   1618.9,   2.2263,  34.5308,2,  34.5316,6,     50.7,2,   161.51,2,    42.45,2,     0.00,2,     3.00,2,   2387.8,2,   2401.4,2,   7.3913,2,    25.00,     1702
  49UF20160512,KS1605,  4781,  1,     16,  25250,2,20160518,1535, 40.0095, 159.6577, 5500,   1822.8,   2.0779,  34.5637,2,  34.5630,2,     59.7,2,   163.93,2,    41.94,2,     0.00,2,     2.96,2,   2383.5,2,   2407.2,2,   7.4107,2,    25.00,     1657
  49UF20160512,KS1605,  4781,  1,     15,  25249,2,20160518,1535, 40.0095, 159.6577, 5500,   2027.3,   1.9591,  34.5891,2,  34.5884,2,     70.8,6,   164.50,6,    41.32,6,     0.00,6,     2.91,6,   2376.5,2,   2411.4,2,   7.4330,2,    25.00,     1653
  49UF20160512,KS1605,  4781,  1,     14,  25248,2,20160518,1535, 40.0095, 159.6577, 5500,   2280.4,   1.8144,  34.6169,2,  34.6164,6,     87.5,2,   163.64,2,    40.25,2,     0.00,2,     2.83,2,   2367.6,6,   2413.3,6,   7.4657,2,    25.00,     1647
  49UF20160512,KS1605,  4781,  1,     13,  25247,2,20160518,1535, 40.0095, 159.6577, 5500,   2535.9,   1.7074,  34.6357,2,  34.6354,6,    101.3,2,   162.49,2,    39.42,2,     0.00,2,     2.76,2,   2368.8,3,   2416.2,2,   7.4918,6,    25.00,     1642
  49UF20160512,KS1605,  4781,  1,     12,  25246,2,20160518,1535, 40.0095, 159.6577, 5500,   2791.4,   1.6102,  34.6520,2,  34.6516,2,    115.5,2,   160.36,2,    38.48,2,     0.00,2,     2.69,2,   2350.3,2,   2417.7,2,   7.5193,2,    25.00,     1637
  49UF20160512,KS1605,  4781,  1,     11,  25245,2,20160518,1535, 40.0095, 159.6577, 5500,   3046.4,   1.5513,  34.6624,2,  34.6621,2,    125.6,2,   158.05,2,    37.81,2,     0.00,2,     2.64,2,   2343.6,2,   2417.1,2,   7.5388,2,    25.00,     1631
  49UF20160512,KS1605,  4781,  1,     10,  25244,2,20160518,1535, 40.0095, 159.6577, 5500,   3301.7,   1.5118,  34.6700,2,  34.6694,2,    133.9,2,   156.19,2,    37.29,2,     0.00,2,     2.60,2,   2339.7,2,   2416.9,2,   7.5527,2,    25.00,     1625
  49UF20160512,KS1605,  4781,  1,      9,  25243,2,20160518,1535, 40.0095, 159.6577, 5500,   3557.9,   1.4863,  34.6756,2,  34.6760,6,    140.4,2,   154.32,2,    36.82,2,     0.00,2,     2.56,2,   2340.4,2,   2414.6,2,   7.5632,2,    25.00,     1620
  49UF20160512,KS1605,  4781,  1,      8,  25242,2,20160518,1535, 40.0095, 159.6577, 5500,   3814.3,   1.4695,  34.6803,2,  34.6799,6,    146.3,2,   152.79,2,    36.48,2,     0.00,2,     2.53,2,   2331.1,2,   2416.9,2,   7.5724,2,    25.00,     1614
  49UF20160512,KS1605,  4781,  1,      7,  25241,2,20160518,1535, 40.0095, 159.6577, 5500,   4070.8,   1.4709,  34.6830,2,  34.6830,6,    149.9,2,   151.79,2,    36.24,2,     0.00,2,     2.51,2,   2331.2,2,   2415.8,2,   7.5793,2,    25.00,     1608
  49UF20160512,KS1605,  4781,  1,      6,  25240,2,20160518,1535, 40.0095, 159.6577, 5500,   4327.8,   1.4746,  34.6855,2,  34.6853,6,    152.7,6,   151.18,6,    36.03,6,     0.00,6,     2.50,6,   2327.0,2,   2415.7,2,   7.5866,2,    25.00,     1603
  49UF20160512,KS1605,  4781,  1,      5,  25239,2,20160518,1535, 40.0095, 159.6577, 5500,   4585.1,   1.4851,  34.6875,2,  34.6873,6,    155.2,2,   150.60,2,    35.86,2,     0.00,2,     2.49,2,   2326.5,6,   2415.0,6,   7.5890,2,    25.00,     1557
  49UF20160512,KS1605,  4781,  1,      4,  25238,2,20160518,1535, 40.0095, 159.6577, 5500,   4841.9,   1.5024,  34.6890,2,  34.6887,6,    157.2,2,   150.71,2,    35.72,2,     0.00,2,     2.48,2,   2320.7,2,   2414.1,2,   7.5946,6,    25.00,     1551
  49UF20160512,KS1605,  4781,  1,      3,  25237,2,20160518,1535, 40.0095, 159.6577, 5500,   5098.6,   1.5266,  34.6899,2,  34.6905,6,    158.2,2,   151.03,2,    35.65,2,     0.00,2,     2.47,2,   2324.3,2,   2416.3,2,   7.5930,2,    25.00,     1546
  49UF20160512,KS1605,  4781,  1,      2,  25236,2,20160518,1535, 40.0095, 159.6577, 5500,   5357.5,   1.5517,  34.6906,2,  34.6905,6,    159.2,2,   150.35,2,    35.53,2,     0.00,2,     2.46,2,   2323.3,2,   2413.5,2,   7.5974,2,    25.00,     1540
  49UF20160512,KS1605,  4781,  1,      1,  25235,2,20160518,1535, 40.0095, 159.6577, 5500,   5606.5,   1.5763,  34.6914,2,  34.6915,6,    161.3,2,   148.16,2,    35.43,2,     0.00,2,     2.45,2,   2321.6,2,   2413.9,2,   7.5990,2,    25.00,     1535
  49UF20160512,KS1605,  4782,  1,     99,     99,2,20160519,0230, 40.0133, 160.9965, 5444,      0.0,  10.4062,  34.0353,2,-999.0000,9,    283.6,2,    17.54,2,     9.42,2,     0.17,2,     0.76,2,   -999.0,9,   -999.0,9,-999.0000,9,  -999.00,      300
  49UF20160512,KS1605,  4782,  1,     36,  25270,2,20160519,0230, 40.0133, 160.9965, 5444,     11.7,  10.3241,  34.0254,2,-999.0000,9,    288.3,2,    18.28,2,     9.69,2,     0.18,2,     0.80,3,   -999.0,9,   -999.0,9,-999.0000,9,  -999.00,      331
  49UF20160512,KS1605,  4782,  1,     35,  25269,2,20160519,0230, 40.0133, 160.9965, 5444,     27.3,   9.9503,  33.9982,2,-999.0000,9,    291.9,6,    18.50,6,     9.82,6,     0.19,6,     0.81,6,   -999.0,9,   -999.0,9,-999.0000,9,  -999.00,      330
  49UF20160512,KS1605,  4782,  1,     34,  25268,2,20160519,0230, 40.0133, 160.9965, 5444,     50.9,   9.8879,  34.0324,2,-999.0000,9,    288.0,2,    18.13,2,     9.94,2,     0.19,2,     0.81,2,   -999.0,9,   -999.0,9,-999.0000,9,  -999.00,      326
  49UF20160512,KS1605,  4782,  1,     33,  25267,2,20160519,0230, 40.0133, 160.9965, 5444,     51.0,   9.8903,  34.0316,2,-999.0000,9,    287.7,2,    18.18,2,     9.98,2,     0.19,2,     0.81,2,   -999.0,9,   -999.0,9,-999.0000,9,  -999.00,      326
  49UF20160512,KS1605,  4782,  1,     32,  25266,2,20160519,0230, 40.0133, 160.9965, 5444,     76.0,   8.7123,  33.8858,2,-999.0000,9,    292.2,2,    20.24,2,    11.23,2,     0.27,2,     0.94,2,   -999.0,9,   -999.0,9,-999.0000,9,  -999.00,      325
  49UF20160512,KS1605,  4782,  1,     31,  25265,2,20160519,0230, 40.0133, 160.9965, 5444,    101.8,   8.9203,  34.0142,2,-999.0000,9,    256.1,2,    21.93,2,    13.83,2,     0.06,2,     1.04,2,   -999.0,9,   -999.0,9,-999.0000,9,  -999.00,      323
  49UF20160512,KS1605,  4782,  1,     27,  25261,2,20160519,0230, 40.0133, 160.9965, 5444,    127.6,   8.2127,  33.9123,2,-999.0000,9,    284.0,2,    20.81,2,    12.72,2,     0.36,2,     1.00,2,   -999.0,9,   -999.0,9,-999.0000,9,  -999.00,      322
  49UF20160512,KS1605,  4782,  1,     26,  25260,2,20160519,0230, 40.0133, 160.9965, 5444,    152.9,   7.9889,  33.8800,2,-999.0000,9,    283.8,2,    21.22,2,    13.26,2,     0.16,2,     1.03,2,   -999.0,9,   -999.0,9,-999.0000,9,  -999.00,      321
  49UF20160512,KS1605,  4782,  1,     25,  25259,2,20160519,0230, 40.0133, 160.9965, 5444,    202.7,   7.0452,  33.7552,2,-999.0000,9,    286.3,2,    23.33,2,    14.77,2,     0.02,2,     1.14,2,   -999.0,9,   -999.0,9,-999.0000,9,  -999.00,      319
  49UF20160512,KS1605,  4782,  1,     24,  25258,2,20160519,0230, 40.0133, 160.9965, 5444,    253.6,   6.6089,  33.7237,2,-999.0000,9,    261.1,2,    28.33,2,    17.41,2,     0.01,2,     1.32,2,   -999.0,9,   -999.0,9,-999.0000,9,  -999.00,      317
  49UF20160512,KS1605,  4782,  1,     23,  25257,2,20160519,0230, 40.0133, 160.9965, 5444,    305.3,   6.4690,  33.8664,2,-999.0000,9,    184.4,2,    45.44,2,    24.50,2,     0.01,2,     1.79,2,   -999.0,9,   -999.0,9,-999.0000,9,  -999.00,      314
  49UF20160512,KS1605,  4782,  1,     22,  25256,2,20160519,0230, 40.0133, 160.9965, 5444,    405.4,   5.3781,  33.9755,2,-999.0000,9,    126.4,2,    68.34,2,    31.95,2,     0.01,2,     2.32,2,   -999.0,9,   -999.0,9,-999.0000,9,  -999.00,      311
  49UF20160512,KS1605,  4782,  1,     18,  25252,2,20160519,0230, 40.0133, 160.9965, 5444,    498.9,   4.6765,  34.0543,2,-999.0000,9,     88.8,2,    86.52,2,    36.52,2,     0.01,2,     2.63,2,   -999.0,9,   -999.0,9,-999.0000,9,  -999.00,      308
  49UF20160512,KS1605,  4782,  1,     17,  25251,2,20160519,0230, 40.0133, 160.9965, 5444,    607.4,   4.2174,  34.1432,2,-999.0000,9,     63.4,6,   101.34,6,    39.16,6,     0.00,6,     2.81,6,   -999.0,9,   -999.0,9,-999.0000,9,  -999.00,      305
  49UF20160512,KS1605,  4782,  1,     15,  25249,2,20160519,0230, 40.0133, 160.9965, 5444,    709.1,   3.8097,  34.1962,2,-999.0000,9,     47.8,2,   113.68,2,    40.95,2,     0.00,2,     2.93,2,   -999.0,9,   -999.0,9,-999.0000,9,  -999.00,      302
  49UF20160512,KS1605,  4782,  1,     16,  25250,2,20160519,0230, 40.0133, 160.9965, 5444,    709.6,   3.8076,  34.1964,2,-999.0000,9,     47.9,2,   113.54,2,    40.97,2,     0.00,2,     2.93,2,   -999.0,9,   -999.0,9,-999.0000,9,  -999.00,      302
  49UF20160512,KS1605,  4782,  1,     14,  25248,2,20160519,0230, 40.0133, 160.9965, 5444,    809.3,   3.5678,  34.2803,2,-999.0000,9,     41.7,2,   123.03,2,    41.75,2,     0.00,2,     2.98,2,   -999.0,9,   -999.0,9,-999.0000,9,  -999.00,      259
  49UF20160512,KS1605,  4782,  1,     13,  25247,2,20160519,0230, 40.0133, 160.9965, 5444,    911.7,   3.3255,  34.3454,2,-999.0000,9,     40.1,2,   130.72,2,    42.09,2,     0.00,2,     3.00,2,   -999.0,9,   -999.0,9,-999.0000,9,  -999.00,      257
  49UF20160512,KS1605,  4782,  1,      9,  25243,2,20160519,0230, 40.0133, 160.9965, 5444,   1014.1,   3.0807,  34.3885,2,-999.0000,9,     37.5,2,   137.79,2,    42.50,2,     0.00,2,     3.03,2,   -999.0,9,   -999.0,9,-999.0000,9,  -999.00,      254
  49UF20160512,KS1605,  4782,  1,      8,  25242,2,20160519,0230, 40.0133, 160.9965, 5444,   1215.5,   2.7183,  34.4497,2,-999.0000,9,     38.7,2,   148.43,2,    42.90,2,     0.00,2,     3.05,2,   -999.0,9,   -999.0,9,-999.0000,9,  -999.00,      249
  49UF20160512,KS1605,  4782,  1,      7,  25241,2,20160519,0230, 40.0133, 160.9965, 5444,   1419.1,   2.4298,  34.4992,2,-999.0000,9,     42.8,3,   156.60,2,    42.89,2,     0.00,2,     3.04,2,   -999.0,9,   -999.0,9,-999.0000,9,  -999.00,      244
  49UF20160512,KS1605,  4782,  1,      6,  25240,2,20160519,0230, 40.0133, 160.9965, 5444,   1623.1,   2.2463,  34.5332,2,-999.0000,9,     48.9,2,   160.89,2,    42.55,2,     0.00,2,     3.01,2,   -999.0,9,   -999.0,9,-999.0000,9,  -999.00,      239
  49UF20160512,KS1605,  4782,  1,      5,  25239,2,20160519,0230, 40.0133, 160.9965, 5444,   1822.9,   2.0774,  34.5646,2,-999.0000,9,     61.6,2,   163.05,2,    41.74,2,     0.00,2,     2.95,2,   -999.0,9,   -999.0,9,-999.0000,9,  -999.00,      234
  49UF20160512,KS1605,  4782,  1,      4,  25238,2,20160519,0230, 40.0133, 160.9965, 5444,   2027.1,   1.9401,  34.5932,2,-999.0000,9,     74.5,2,   163.90,2,    41.04,2,     0.00,2,     2.89,2,   -999.0,9,   -999.0,9,-999.0000,9,  -999.00,      230