BOTTLE,20191218PRINUNIVRMK
EXPOCODE,SECT_ID,STNNBR,CASTNO,SAMPNO,BTLNBR,BTLNBR_FLAG_W,DATE,TIME,LATITUDE,LONGITUDE,DEPTH,CTDPRS,CTDTMP,CTDSAL,CTDSAL_FLAG_W,SALNTY,SALNTY_FLAG_W,OXYGEN,OXYGEN_FLAG_W,SILCAT,SILCAT_FLAG_W,NITRAT,NITRAT_FLAG_W,NITRIT,NITRIT_FLAG_W,PHSPHT,PHSPHT_FLAG_W,TCARBN,TCARBN_FLAG_W,ALKALI,ALKALI_FLAG_W,PH_TOT,PH_TOT_FLAG_W,PH_TMP,BTL_TIME
,,,,,,,,,,,METERS,DBAR,ITS-90,PSS-78,,PSS-78,,UMOL/KG,,UMOL/KG,,UMOL/KG,,UMOL/KG,,UMOL/KG,,UMOL/KG,,UMOL/KG,,,,DEG C,
  49UF20140410,KS1403,  4156,  1,     99,     99,2,20140428,1247, 24.6560, 129.9843, 4212,      0.0,  23.1877,  34.8318,2,  34.8321,2,    216.0,2,     1.19,2,     0.04,2,     0.00,2,     0.02,2,   1971.9,2,   2285.3,2,   8.0737,2,    25.00,     1322
  49UF20140410,KS1403,  4156,  1,     36,  21995,2,20140428,1247, 24.6560, 129.9843, 4212,     10.1,  23.1869,  34.8316,2,  34.8323,6,    216.0,2,     1.19,2,     0.00,2,     0.00,2,     0.01,2,   1973.5,2,   2287.0,2,   8.0784,2,    25.00,     1340
  49UF20140410,KS1403,  4156,  1,     35,  22087,2,20140428,1247, 24.6560, 129.9843, 4212,     24.6,  23.1616,  34.8301,2,-999.0000,9,    216.2,2,     1.19,2,     0.04,2,     0.00,2,     0.01,2,   1974.3,2,   2285.1,2,   8.0774,2,    25.00,     1339
  49UF20140410,KS1403,  4156,  1,     34,  22666,2,20140428,1247, 24.6560, 129.9843, 4212,     50.5,  22.5422,  34.7999,2,-999.0000,9,    219.7,2,     1.32,2,     0.01,2,     0.00,2,     0.01,2,   1980.5,2,   2283.6,2,   8.0669,6,    25.00,     1338
  49UF20140410,KS1403,  4156,  1,     33,  21992,2,20140428,1247, 24.6560, 129.9843, 4212,     74.9,  21.2723,  34.7774,2,-999.0000,9,    223.6,2,     1.61,2,     0.01,2,     0.00,2,     0.03,2,   1987.2,2,   2282.8,2,   8.0561,2,    25.00,     1337
  49UF20140410,KS1403,  4156,  1,     31,  21990,2,20140428,1247, 24.6560, 129.9843, 4212,     99.5,  20.7186,  34.7754,2,  34.7756,6,    220.0,2,     1.82,2,     0.25,2,     0.25,2,     0.06,2,   1991.7,2,   2281.8,2,   8.0426,2,    25.00,     1333
  49UF20140410,KS1403,  4156,  1,     30,  21989,2,20140428,1247, 24.6560, 129.9843, 4212,    125.4,  20.4854,  34.7717,2,-999.0000,9,    216.6,2,     1.98,2,     0.77,2,     0.18,2,     0.09,2,   1996.4,6,   2282.7,6,   8.0317,2,    25.00,     1332
  49UF20140410,KS1403,  4156,  1,     24,  21983,2,20140428,1247, 24.6560, 129.9843, 4212,    149.7,  20.2143,  34.7706,2,-999.0000,9,    213.9,2,     2.16,2,     1.23,2,     0.06,2,     0.10,2,   2004.7,2,   2281.4,2,   8.0254,2,    25.00,     1331
  49UF20140410,KS1403,  4156,  1,     23,  22095,2,20140428,1247, 24.6560, 129.9843, 4212,    200.1,  19.2932,  34.7873,2,  34.7862,6,    208.0,6,     2.44,6,     2.08,6,     0.01,6,     0.15,6,   2016.3,2,   2281.6,2,   8.0000,2,    25.00,     1330
  49UF20140410,KS1403,  4156,  1,     22,  22665,2,20140428,1247, 24.6560, 129.9843, 4212,    252.1,  18.1415,  34.7603,2,-999.0000,9,    197.9,2,     3.49,2,     4.17,2,     0.01,2,     0.27,2,   2036.1,2,   2280.8,2,   7.9607,2,    25.00,     1328
  49UF20140410,KS1403,  4156,  1,     21,  21980,2,20140428,1247, 24.6560, 129.9843, 4212,    252.1,  18.1415,  34.7603,2,-999.0000,9,    197.9,2,     3.49,2,     4.17,2,     0.01,2,     0.28,2,   2040.4,2,   2282.3,2,   7.9291,3,    25.00,     1328
  49UF20140410,KS1403,  4156,  1,     20,  21979,2,20140428,1247, 24.6560, 129.9843, 4212,    302.2,  17.4022,  34.7205,2,-999.0000,9,    203.1,2,     4.19,2,     4.79,2,     0.00,2,     0.31,2,   2039.5,2,   2278.5,2,   7.9582,2,    25.00,     1326
  49UF20140410,KS1403,  4156,  1,     19,  21978,2,20140428,1247, 24.6560, 129.9843, 4212,    402.6,  15.6582,  34.6020,2,  34.6010,6,    190.8,2,     8.59,2,     8.61,2,     0.00,2,     0.58,2,   2065.3,2,   2279.4,2,   7.8920,2,    25.00,     1324
  49UF20140410,KS1403,  4156,  1,     18,  21977,2,20140428,1247, 24.6560, 129.9843, 4212,    502.6,  12.7049,  34.4004,2,-999.0000,9,    175.8,2,    18.29,2,    14.71,2,     0.00,2,     1.03,2,   2111.9,2,   2275.2,2,   7.7938,2,    25.00,     1321
  49UF20140410,KS1403,  4156,  1,     17,  23679,2,20140428,1247, 24.6560, 129.9843, 4212,    603.9,   9.1465,  34.2152,2,  34.2129,4,    145.8,2,    39.00,2,    23.52,2,     0.00,2,     1.69,2,   2181.4,2,   2282.4,2,   7.6519,2,    25.00,     1319
  49UF20140410,KS1403,  4156,  1,     16,  21975,2,20140428,1247, 24.6560, 129.9843, 4212,    703.9,   7.3904,  34.1847,2,-999.0000,9,    116.5,2,    57.13,2,    29.32,2,     0.00,2,     2.11,2,   2229.5,2,   2299.8,2,   7.5602,2,    25.00,     1317
  49UF20140410,KS1403,  4156,  1,     12,  21994,2,20140428,1247, 24.6560, 129.9843, 4212,    806.7,   5.6352,  34.2177,2,  34.2174,6,     83.7,6,    81.24,6,    35.23,6,     0.00,6,     2.55,6,   2280.2,2,   2323.4,2,   7.4725,2,    25.00,     1314
  49UF20140410,KS1403,  4156,  1,     11,  21970,2,20140428,1247, 24.6560, 129.9843, 4212,    905.2,   4.5688,  34.2877,2,-999.0000,9,     65.6,2,   100.86,2,    38.49,2,     0.00,2,     2.77,2,   2313.7,2,   2343.6,2,   7.4299,2,    25.00,     1311
  49UF20140410,KS1403,  4156,  1,     10,  21969,3,20140428,1247, 24.6560, 129.9843, 4212,    905.2,   4.5688,  34.2877,2,-999.0000,9,     66.4,4,   100.63,2,    38.40,4,     0.00,2,     2.77,2,   2313.5,2,   2342.5,2,   7.4292,2,    25.00,     1311
  49UF20140410,KS1403,  4156,  1,      9,  21968,2,20140428,1247, 24.6560, 129.9843, 4212,   1009.0,   3.9831,  34.3641,2,  34.3639,6,     61.0,2,   113.05,2,    39.82,2,     0.00,2,     2.85,2,   2334.0,2,   2358.7,2,   7.4183,2,    25.00,     1309
  49UF20140410,KS1403,  4156,  1,      8,  21982,2,20140428,1247, 24.6560, 129.9843, 4212,   1210.9,   3.1419,  34.4550,2,  34.4558,6,     65.9,2,   130.62,2,    40.45,2,     0.00,2,     2.88,2,   2352.3,2,   2379.3,2,   7.4301,2,    25.00,     1304
  49UF20140410,KS1403,  4156,  1,      7,  21966,2,20140428,1247, 24.6560, 129.9843, 4212,   1413.6,   2.7059,  34.5083,2,  34.5099,6,     76.2,2,   138.09,2,    40.21,2,     0.00,2,     2.86,2,   2355.2,2,   2393.4,2,   7.4473,6,    25.00,     1300
  49UF20140410,KS1403,  4156,  1,      6,  21965,2,20140428,1247, 24.6560, 129.9843, 4212,   1615.8,   2.3140,  34.5622,2,  34.5631,6,     93.0,2,  -999.00,9,  -999.00,9,  -999.00,9,  -999.00,9,   2351.1,6,   2400.1,6,   7.4813,2,    25.00,     1255
  49UF20140410,KS1403,  4156,  1,      5,  22085,2,20140428,1247, 24.6560, 129.9843, 4212,   1819.8,   2.1135,  34.5908,2,  34.5896,6,    104.1,2,   142.21,2,    38.68,2,     0.00,2,     2.73,2,   2349.8,2,   2403.6,2,   7.5010,2,    25.00,     1251
  49UF20140410,KS1403,  4156,  1,      4,  21963,2,20140428,1247, 24.6560, 129.9843, 4212,   2022.2,   1.9238,  34.6172,2,  34.6184,6,    116.7,2,   142.91,2,    38.12,2,     0.00,2,     2.68,2,   2345.7,2,   2410.3,2,   7.5220,2,    25.00,     1247
  49UF20140410,KS1403,  4157,  1,     99,     99,2,20140428,1956, 24.0073, 130.9890, 3327,      0.0,  22.3148,  34.8264,2,  34.8254,2,    220.6,2,     1.39,2,     0.06,2,     0.00,2,     0.01,2,   1984.2,2,   2287.4,2,-999.0000,9,  -999.00,     2023
  49UF20140410,KS1403,  4157,  1,     36,  21995,2,20140428,1956, 24.0073, 130.9890, 3327,     11.7,  22.3166,  34.8260,2,  34.8261,6,    220.8,2,     1.46,2,     0.03,2,     0.00,2,     0.01,2,   1982.4,2,   2286.5,2,-999.0000,9,  -999.00,     2054
  49UF20140410,KS1403,  4157,  1,     35,  22087,2,20140428,1956, 24.0073, 130.9890, 3327,     25.9,  22.1217,  34.8231,2,-999.0000,9,    221.8,2,     1.46,2,     0.02,2,     0.00,2,     0.01,2,   1983.8,2,   2287.2,2,-999.0000,9,  -999.00,     2053
  49UF20140410,KS1403,  4157,  1,     34,  22666,2,20140428,1956, 24.0073, 130.9890, 3327,     50.8,  20.7311,  34.7968,2,-999.0000,9,    224.0,2,     1.53,2,     0.00,2,     0.00,2,     0.02,2,   1993.2,2,   2287.0,2,-999.0000,9,  -999.00,     2051
  49UF20140410,KS1403,  4157,  1,     33,  21992,2,20140428,1956, 24.0073, 130.9890, 3327,     75.2,  20.2300,  34.7880,2,-999.0000,9,    220.0,2,     1.77,2,     0.20,2,     0.11,2,     0.04,2,   1996.0,2,   2283.6,2,-999.0000,9,  -999.00,     2050
  49UF20140410,KS1403,  4157,  1,     32,  21991,2,20140428,1956, 24.0073, 130.9890, 3327,    101.4,  19.8955,  34.7970,2,  34.7964,6,    210.2,2,     2.07,2,     1.39,2,     0.05,2,     0.10,2,   2010.1,2,   2283.2,2,-999.0000,9,  -999.00,     2048
  49UF20140410,KS1403,  4157,  1,     31,  21990,2,20140428,1956, 24.0073, 130.9890, 3327,    125.9,  19.4812,  34.7959,2,-999.0000,9,    208.1,2,     2.37,2,     1.91,2,     0.03,2,     0.13,2,   2013.9,2,   2283.1,2,-999.0000,9,  -999.00,     2047
  49UF20140410,KS1403,  4157,  1,     24,  21983,2,20140428,1956, 24.0073, 130.9890, 3327,    151.6,  18.9725,  34.7731,2,-999.0000,9,    207.0,2,     2.90,2,     2.59,2,     0.02,2,     0.18,2,   2016.6,2,   2281.5,2,-999.0000,9,  -999.00,     2045
  49UF20140410,KS1403,  4157,  1,     23,  22095,2,20140428,1956, 24.0073, 130.9890, 3327,    200.1,  18.3174,  34.7573,2,  34.7573,6,    199.9,2,     3.58,2,     3.95,2,     0.01,2,     0.26,2,   2031.0,2,   2281.1,2,-999.0000,9,  -999.00,     2041
  49UF20140410,KS1403,  4157,  1,     22,  22665,2,20140428,1956, 24.0073, 130.9890, 3327,    250.4,  17.7382,  34.7371,2,-999.0000,9,    200.6,6,     3.89,6,     4.57,6,     0.01,6,     0.30,6,   -999.0,9,   -999.0,9,-999.0000,9,  -999.00,     2039
  49UF20140410,KS1403,  4157,  1,     21,  21980,2,20140428,1956, 24.0073, 130.9890, 3327,    301.8,  16.7814,  34.6787,2,-999.0000,9,    196.8,2,     5.88,2,     6.37,2,     0.01,2,     0.42,2,   -999.0,9,   -999.0,9,-999.0000,9,  -999.00,     2037
  49UF20140410,KS1403,  4157,  1,     20,  21979,2,20140428,1956, 24.0073, 130.9890, 3327,    301.8,  16.7814,  34.6787,2,-999.0000,9,    196.8,2,     5.92,2,     6.34,2,     0.01,2,     0.42,2,   -999.0,9,   -999.0,9,-999.0000,9,  -999.00,     2037
  49UF20140410,KS1403,  4157,  1,     19,  21978,2,20140428,1956, 24.0073, 130.9890, 3327,    402.7,  14.5157,  34.5272,2,  34.5265,6,    180.2,2,    13.25,2,    11.50,2,     0.00,2,     0.79,2,   -999.0,9,   -999.0,9,-999.0000,9,  -999.00,     2034
  49UF20140410,KS1403,  4157,  1,     18,  21977,2,20140428,1956, 24.0073, 130.9890, 3327,    503.0,  11.0562,  34.3091,2,-999.0000,9,    164.3,2,    26.75,2,    18.55,2,     0.00,2,     1.31,2,   -999.0,9,   -999.0,9,-999.0000,9,  -999.00,     2032
  49UF20140410,KS1403,  4157,  1,     17,  23679,2,20140428,1956, 24.0073, 130.9890, 3327,    604.8,   8.1162,  34.1909,2,  34.1928,6,    133.4,2,    49.29,2,    26.40,2,     0.00,2,     1.90,2,   -999.0,9,   -999.0,9,-999.0000,9,  -999.00,     2029
  49UF20140410,KS1403,  4157,  1,     16,  21975,2,20140428,1956, 24.0073, 130.9890, 3327,    704.8,   6.4652,  34.1826,2,-999.0000,9,    104.6,2,    68.33,2,    31.96,2,     0.00,2,     2.31,2,   -999.0,9,   -999.0,9,-999.0000,9,  -999.00,     2027
  49UF20140410,KS1403,  4157,  1,     12,  21994,4,20140428,1956, 24.0073, 130.9890, 3327,    806.0,   5.0598,  34.2318,2,-999.0000,9,     87.5,4,    79.06,4,    32.86,4,     0.00,4,     2.35,4,   -999.0,9,   -999.0,9,-999.0000,9,  -999.00,     2024
  49UF20140410,KS1403,  4157,  1,     11,  21970,2,20140428,1956, 24.0073, 130.9890, 3327,    909.1,   4.3393,  34.3151,2,  34.3166,2,     62.8,6,   105.63,6,    39.04,6,     0.00,6,     2.81,6,   -999.0,9,   -999.0,9,-999.0000,9,  -999.00,     2021
  49UF20140410,KS1403,  4157,  1,     10,  21969,2,20140428,1956, 24.0073, 130.9890, 3327,   1008.9,   3.5993,  34.4077,2,  34.4087,2,     61.9,2,   121.11,2,    40.16,2,     0.00,2,     2.87,2,   -999.0,9,   -999.0,9,-999.0000,9,  -999.00,     2018
  49UF20140410,KS1403,  4157,  1,      9,  21968,2,20140428,1956, 24.0073, 130.9890, 3327,   1008.9,   3.5993,  34.4077,2,  34.4088,2,     61.6,2,   120.81,2,    40.21,2,     0.00,2,     2.87,2,   -999.0,9,   -999.0,9,-999.0000,9,  -999.00,     2018
  49UF20140410,KS1403,  4157,  1,      8,  21982,2,20140428,1956, 24.0073, 130.9890, 3327,   1211.3,   2.9387,  34.4821,2,  34.4832,6,     70.3,2,   134.14,2,    40.32,2,     0.00,2,     2.87,2,   -999.0,9,   -999.0,9,-999.0000,9,  -999.00,     2014
  49UF20140410,KS1403,  4157,  1,      7,  21966,2,20140428,1956, 24.0073, 130.9890, 3327,   1415.9,   2.5232,  34.5393,2,  34.5393,6,     85.5,2,   139.39,2,    39.62,2,     0.00,2,     2.82,2,   -999.0,9,   -999.0,9,-999.0000,9,  -999.00,     2010
  49UF20140410,KS1403,  4157,  1,      6,  21965,2,20140428,1956, 24.0073, 130.9890, 3327,   1617.0,   2.2823,  34.5718,2,  34.5739,2,     97.1,2,   141.36,2,    39.06,2,     0.00,2,     2.76,2,   -999.0,9,   -999.0,9,-999.0000,9,  -999.00,     2005
  49UF20140410,KS1403,  4157,  1,      5,  22085,3,20140428,1956, 24.0073, 130.9890, 3327,   1820.9,   2.1313,  34.5934,2,  34.5933,6,    105.6,2,   141.36,2,    38.43,2,     0.00,2,     2.72,2,   -999.0,9,   -999.0,9,-999.0000,9,  -999.00,     2001
  49UF20140410,KS1403,  4157,  1,      4,  21963,3,20140428,1956, 24.0073, 130.9890, 3327,   2023.4,   1.9584,  34.6173,2,  34.6201,6,    117.1,2,   142.08,2,    38.00,2,     0.00,2,     2.68,2,   -999.0,9,   -999.0,9,-999.0000,9,  -999.00,     1956
  49UF20140410,KS1403,  4158,  1,     99,     99,2,20140429,0330, 23.7623, 131.9958, 3456,      0.0,  25.5267,  34.9624,2,-999.0000,9,    207.6,2,     0.98,2,     0.05,2,     0.00,2,     0.02,2,   -999.0,9,   -999.0,9,-999.0000,9,  -999.00,      410
  49UF20140410,KS1403,  4158,  1,     36,  21995,2,20140429,0330, 23.7623, 131.9958, 3456,     11.1,  25.4955,  34.9611,2,-999.0000,9,    207.7,2,     0.88,2,     0.01,2,     0.00,2,     0.02,2,   -999.0,9,   -999.0,9,-999.0000,9,  -999.00,      429
  49UF20140410,KS1403,  4158,  1,     35,  22087,2,20140429,0330, 23.7623, 131.9958, 3456,     26.4,  25.4132,  34.9589,2,-999.0000,9,    207.9,2,     0.93,2,     0.03,2,     0.00,2,     0.02,2,   -999.0,9,   -999.0,9,-999.0000,9,  -999.00,      428
  49UF20140410,KS1403,  4158,  1,     34,  22666,2,20140429,0330, 23.7623, 131.9958, 3456,     51.6,  25.2550,  34.9487,2,-999.0000,9,    208.5,2,     0.97,2,     0.02,2,     0.00,2,     0.02,2,   -999.0,9,   -999.0,9,-999.0000,9,  -999.00,      426
  49UF20140410,KS1403,  4158,  1,     33,  21992,2,20140429,0330, 23.7623, 131.9958, 3456,     76.6,  23.6275,  34.9475,2,-999.0000,9,    211.0,2,     1.12,2,     0.01,2,     0.00,2,     0.02,2,   -999.0,9,   -999.0,9,-999.0000,9,  -999.00,      425
  49UF20140410,KS1403,  4158,  1,     32,  21991,2,20140429,0330, 23.7623, 131.9958, 3456,    102.1,  23.1239,  34.9364,2,-999.0000,9,    209.2,2,     1.18,2,     0.06,2,     0.11,2,     0.03,2,   -999.0,9,   -999.0,9,-999.0000,9,  -999.00,      423
  49UF20140410,KS1403,  4158,  1,     31,  21990,2,20140429,0330, 23.7623, 131.9958, 3456,    126.0,  22.5340,  34.9067,2,-999.0000,9,    201.7,2,     1.40,2,     0.54,2,     0.06,2,     0.06,2,   -999.0,9,   -999.0,9,-999.0000,9,  -999.00,      422
  49UF20140410,KS1403,  4158,  1,     24,  21983,2,20140429,0330, 23.7623, 131.9958, 3456,    151.4,  21.0203,  34.8044,2,-999.0000,9,    216.3,2,     1.52,2,     0.19,2,     0.16,2,     0.04,2,   -999.0,9,   -999.0,9,-999.0000,9,  -999.00,      418
  49UF20140410,KS1403,  4158,  1,     23,  22095,2,20140429,0330, 23.7623, 131.9958, 3456,    201.0,  20.0412,  34.8022,2,-999.0000,9,    209.1,2,     1.96,2,     1.28,2,     0.02,2,     0.10,2,   -999.0,9,   -999.0,9,-999.0000,9,  -999.00,      416
  49UF20140410,KS1403,  4158,  1,     22,  22665,2,20140429,0330, 23.7623, 131.9958, 3456,    251.9,  18.2782,  34.7700,2,-999.0000,9,    196.0,2,     3.35,2,     4.18,2,     0.01,2,     0.27,2,   -999.0,9,   -999.0,9,-999.0000,9,  -999.00,      415
  49UF20140410,KS1403,  4158,  1,     21,  21980,2,20140429,0330, 23.7623, 131.9958, 3456,    305.4,  17.1568,  34.7048,2,-999.0000,9,    198.9,6,     4.64,6,     5.52,6,     0.01,6,     0.36,6,   -999.0,9,   -999.0,9,-999.0000,9,  -999.00,      412
  49UF20140410,KS1403,  4158,  1,     20,  21979,2,20140429,0330, 23.7623, 131.9958, 3456,    405.7,  14.8014,  34.5345,2,-999.0000,9,    184.2,2,    10.22,2,    10.34,2,     0.00,2,     0.71,2,   -999.0,9,   -999.0,9,-999.0000,9,  -999.00,      409
  49UF20140410,KS1403,  4158,  1,     19,  21978,2,20140429,0330, 23.7623, 131.9958, 3456,    405.7,  14.8014,  34.5345,2,-999.0000,9,    184.4,2,    10.22,2,    10.35,2,     0.00,2,     0.71,2,   -999.0,9,   -999.0,9,-999.0000,9,  -999.00,      409
  49UF20140410,KS1403,  4158,  1,     18,  21977,2,20140429,0330, 23.7623, 131.9958, 3456,    506.2,  11.5264,  34.3082,2,-999.0000,9,    177.7,2,    20.07,2,    16.16,2,     0.00,2,     1.14,2,   -999.0,9,   -999.0,9,-999.0000,9,  -999.00,      406
  49UF20140410,KS1403,  4158,  1,     17,  23679,2,20140429,0330, 23.7623, 131.9958, 3456,    606.2,   9.1277,  34.1862,2,-999.0000,9,    151.9,2,    34.93,2,    22.78,2,     0.00,2,     1.62,2,   -999.0,9,   -999.0,9,-999.0000,9,  -999.00,      403
  49UF20140410,KS1403,  4158,  1,     16,  21975,2,20140429,0330, 23.7623, 131.9958, 3456,    708.7,   7.1906,  34.1490,2,-999.0000,9,    121.4,2,    56.69,2,    29.26,2,     0.00,2,     2.10,2,   -999.0,9,   -999.0,9,-999.0000,9,  -999.00,      400
  49UF20140410,KS1403,  4158,  1,     12,  21994,2,20140429,0330, 23.7623, 131.9958, 3456,    808.6,   5.4378,  34.1716,2,-999.0000,9,     86.6,2,    81.76,2,    35.33,2,     0.00,2,     2.55,2,   -999.0,9,   -999.0,9,-999.0000,9,  -999.00,      357
  49UF20140410,KS1403,  4158,  1,     11,  21970,2,20140429,0330, 23.7623, 131.9958, 3456,    909.7,   4.6491,  34.2648,2,-999.0000,9,     61.4,2,    97.33,2,    38.96,2,     0.00,2,     2.80,2,   -999.0,9,   -999.0,9,-999.0000,9,  -999.00,      354
  49UF20140410,KS1403,  4158,  1,     10,  21969,2,20140429,0330, 23.7623, 131.9958, 3456,   1009.4,   4.0432,  34.3557,2,-999.0000,9,     55.8,6,   110.79,6,    40.36,6,     0.00,6,     2.89,6,   -999.0,9,   -999.0,9,-999.0000,9,  -999.00,      352
  49UF20140410,KS1403,  4158,  1,      9,  21968,2,20140429,0330, 23.7623, 131.9958, 3456,   1210.4,   3.3285,  34.4489,2,-999.0000,9,     62.2,2,   126.06,2,    40.53,3,     0.00,2,     2.90,2,   -999.0,9,   -999.0,9,-999.0000,9,  -999.00,      347
  49UF20140410,KS1403,  4158,  1,      8,  21982,2,20140429,0330, 23.7623, 131.9958, 3456,   1210.4,   3.3285,  34.4489,2,-999.0000,9,     62.3,2,   126.36,2,    40.62,2,     0.00,2,     2.90,2,   -999.0,9,   -999.0,9,-999.0000,9,  -999.00,      347
  49UF20140410,KS1403,  4158,  1,      7,  21966,2,20140429,0330, 23.7623, 131.9958, 3456,   1415.4,   2.8858,  34.5161,2,-999.0000,9,     77.6,2,   133.83,2,    39.98,2,     0.00,2,     2.85,2,   -999.0,9,   -999.0,9,-999.0000,9,  -999.00,      342
  49UF20140410,KS1403,  4158,  1,      6,  21965,2,20140429,0330, 23.7623, 131.9958, 3456,   1613.8,   2.5853,  34.5555,2,-999.0000,9,     91.7,2,   137.27,2,    39.17,2,     0.00,2,     2.78,2,   -999.0,9,   -999.0,9,-999.0000,9,  -999.00,      338
  49UF20140410,KS1403,  4158,  1,      5,  22085,3,20140429,0330, 23.7623, 131.9958, 3456,   1820.5,   2.2185,  34.5836,2,-999.0000,9,    101.3,2,   141.29,2,    38.93,2,     0.00,2,     2.75,2,   -999.0,9,   -999.0,9,-999.0000,9,  -999.00,      334
  49UF20140410,KS1403,  4158,  1,      1,  21960,2,20140429,0330, 23.7623, 131.9958, 3456,   2021.0,   2.0208,  34.6112,2,-999.0000,9,    113.6,2,   142.20,2,    38.22,2,     0.00,2,     2.69,2,   -999.0,9,   -999.0,9,-999.0000,9,  -999.00,      330