BOTTLE,20191218PRINUNIVRMK
EXPOCODE,SECT_ID,STNNBR,CASTNO,SAMPNO,BTLNBR,BTLNBR_FLAG_W,DATE,TIME,LATITUDE,LONGITUDE,DEPTH,CTDPRS,CTDTMP,CTDSAL,CTDSAL_FLAG_W,SALNTY,SALNTY_FLAG_W,OXYGEN,OXYGEN_FLAG_W,SILCAT,SILCAT_FLAG_W,NITRAT,NITRAT_FLAG_W,NITRIT,NITRIT_FLAG_W,PHSPHT,PHSPHT_FLAG_W,TCARBN,TCARBN_FLAG_W,ALKALI,ALKALI_FLAG_W,PH_TOT,PH_TOT_FLAG_W,PH_TMP,BTL_TIME
,,,,,,,,,,,METERS,DBAR,ITS-90,PSS-78,,PSS-78,,UMOL/KG,,UMOL/KG,,UMOL/KG,,UMOL/KG,,UMOL/KG,,UMOL/KG,,UMOL/KG,,,,DEG C,
  49UF20140410,KS1403,  4162,  1,     99,     99,2,20140430,1205, 23.9982, 137.0073, 3901,      0.0,  23.0160,  34.9765,2,  34.9769,2,    216.8,2,     1.29,2,     0.03,2,     0.00,2,     0.02,2,   1991.0,2,   2296.7,2,   8.0648,2,    25.00,     1320
  49UF20140410,KS1403,  4162,  1,     36,  21995,2,20140430,1205, 23.9982, 137.0073, 3901,      9.9,  22.2111,  34.9292,2,  34.9234,4,    221.4,2,     1.41,2,     0.02,2,     0.00,2,     0.01,2,   1989.2,6,   2293.0,6,   8.0615,2,    25.00,     1338
  49UF20140410,KS1403,  4162,  1,     35,  22087,2,20140430,1205, 23.9982, 137.0073, 3901,     24.9,  21.2816,  34.8722,2,-999.0000,9,    226.1,2,     1.52,2,     0.01,2,     0.00,2,     0.01,2,   1993.2,2,   2289.1,2,   8.0220,3,    25.00,     1336
  49UF20140410,KS1403,  4162,  1,     33,  21992,2,20140430,1205, 23.9982, 137.0073, 3901,     50.5,  21.0334,  34.8599,2,-999.0000,9,    226.6,2,     1.62,2,     0.00,2,     0.00,2,     0.01,2,   1991.5,2,   2287.9,2,   8.0405,6,    25.00,     1333
  49UF20140410,KS1403,  4162,  1,     32,  21991,2,20140430,1205, 23.9982, 137.0073, 3901,     75.3,  19.9772,  34.8203,2,-999.0000,9,    227.7,2,     1.74,2,     0.02,2,     0.00,2,     0.02,2,   1994.4,2,   2286.8,2,   8.0401,2,    25.00,     1332
  49UF20140410,KS1403,  4162,  1,     31,  21990,2,20140430,1205, 23.9982, 137.0073, 3901,     99.6,  19.5731,  34.8064,2,  34.8063,2,    223.9,2,     1.95,2,     0.16,2,     0.09,2,     0.04,2,   1999.1,2,   2285.3,2,   8.0314,2,    25.00,     1331
  49UF20140410,KS1403,  4162,  1,     30,  21989,2,20140430,1205, 23.9982, 137.0073, 3901,    125.5,  19.1105,  34.7846,2,-999.0000,9,    214.6,2,     2.39,2,     1.70,2,     0.05,2,     0.13,2,   2010.3,2,   2283.7,2,   8.0116,2,    25.00,     1330
  49UF20140410,KS1403,  4162,  1,     29,  21988,2,20140430,1205, 23.9982, 137.0073, 3901,    150.6,  18.7894,  34.7769,2,-999.0000,9,    210.2,2,     2.75,2,     2.40,2,     0.03,2,     0.17,2,   2016.9,2,   2282.1,2,   7.9974,2,    25.00,     1328
  49UF20140410,KS1403,  4162,  1,     28,  21987,2,20140430,1205, 23.9982, 137.0073, 3901,    200.5,  18.0416,  34.7491,2,  34.7474,6,    200.9,2,     3.73,2,     4.19,2,     0.01,2,     0.28,2,   2034.0,2,   2280.9,2,   7.9634,2,    25.00,     1327
  49UF20140410,KS1403,  4162,  1,     27,  21986,2,20140430,1205, 23.9982, 137.0073, 3901,    251.0,  17.1577,  34.7031,2,-999.0000,9,    199.6,6,     5.12,6,     5.57,6,     0.01,6,     0.38,6,   2040.0,2,   2279.0,2,   7.9254,2,    25.00,     1325
  49UF20140410,KS1403,  4162,  1,     26,  21985,2,20140430,1205, 23.9982, 137.0073, 3901,    301.5,  16.4835,  34.6584,2,-999.0000,9,    194.4,2,     6.91,2,     7.13,2,     0.01,2,     0.48,2,   2053.8,2,   2277.3,2,   7.9212,2,    25.00,     1324
  49UF20140410,KS1403,  4162,  1,     25,  21984,2,20140430,1205, 23.9982, 137.0073, 3901,    301.5,  16.4835,  34.6584,2,-999.0000,9,    194.2,2,     6.84,2,     7.14,2,     0.01,2,     0.48,2,   2053.7,2,   2278.6,2,   7.9206,2,    25.00,     1324
  49UF20140410,KS1403,  4162,  1,     24,  21983,2,20140430,1205, 23.9982, 137.0073, 3901,    403.1,  13.8523,  34.4855,2,  34.4809,4,    177.3,2,    15.83,2,    12.93,2,     0.00,2,     0.90,2,   2096.4,2,   2276.6,2,   7.8209,2,    25.00,     1321
  49UF20140410,KS1403,  4162,  1,     23,  22095,2,20140430,1205, 23.9982, 137.0073, 3901,    503.8,  10.4711,  34.2674,2,-999.0000,9,    166.8,2,    30.17,2,    19.36,2,     0.00,2,     1.39,2,   2144.6,6,   2278.5,6,   7.7160,2,    25.00,     1319
  49UF20140410,KS1403,  4162,  1,     21,  21980,2,20140430,1205, 23.9982, 137.0073, 3901,    603.9,   7.3500,  34.1385,2,  34.1389,2,    129.8,2,    55.01,2,    28.25,2,     0.00,2,     2.05,2,   2210.5,2,   2292.4,2,   7.5784,2,    25.00,     1316
  49UF20140410,KS1403,  4162,  1,     20,  21979,2,20140430,1205, 23.9982, 137.0073, 3901,    705.1,   5.6973,  34.1562,2,-999.0000,9,     90.2,2,    77.03,2,    34.69,2,     0.00,2,     2.52,2,   2267.6,2,   2313.7,2,   7.4683,2,    25.00,     1314
  49UF20140410,KS1403,  4162,  1,     19,  21978,2,20140430,1205, 23.9982, 137.0073, 3901,    806.5,   4.7656,  34.2259,2,  34.2252,2,     71.7,2,    95.64,2,    37.72,2,     0.00,2,     2.72,2,   2299.4,2,   2332.8,2,   7.4306,6,    25.00,     1311
  49UF20140410,KS1403,  4162,  1,     18,  21977,2,20140430,1205, 23.9982, 137.0073, 3901,    907.9,   4.2078,  34.2935,2,-999.0000,9,     59.2,6,   107.87,6,    39.64,6,     0.00,6,     2.86,6,   2321.7,2,   2346.0,2,   7.4100,2,    25.00,     1309
  49UF20140410,KS1403,  4162,  1,     17,  23679,2,20140430,1205, 23.9982, 137.0073, 3901,   1007.7,   3.6961,  34.3657,2,  34.3655,2,     55.7,2,   119.69,2,    40.64,2,     0.00,2,     2.92,2,   2337.9,3,   2361.6,2,   7.3838,3,    25.00,     1306
  49UF20140410,KS1403,  4162,  1,     16,  21975,2,20140430,1205, 23.9982, 137.0073, 3901,   1007.7,   3.6961,  34.3657,2,  34.3654,2,     55.6,2,   119.56,2,    40.69,2,     0.00,2,     2.92,2,   2343.2,2,   2363.3,2,   7.4037,2,    25.00,     1306
  49UF20140410,KS1403,  4162,  1,     15,  21974,2,20140430,1205, 23.9982, 137.0073, 3901,   1210.5,   3.1230,  34.4496,2,  34.4508,2,     61.7,2,   131.50,2,    40.87,2,     0.00,2,     2.93,2,   2351.7,2,   2382.0,2,   7.4206,2,    25.00,     1302
  49UF20140410,KS1403,  4162,  1,     14,  21973,2,20140430,1205, 23.9982, 137.0073, 3901,   1413.4,   2.6086,  34.5218,2,  34.5217,2,     78.0,2,   140.00,2,    40.17,2,     0.00,2,     2.87,2,   2354.4,2,   2392.8,2,   7.4532,2,    25.00,     1257
  49UF20140410,KS1403,  4162,  1,     13,  21972,2,20140430,1205, 23.9982, 137.0073, 3901,   1615.2,   2.2864,  34.5687,2,  34.5682,2,     94.6,2,   142.45,2,    39.34,2,     0.00,2,     2.80,2,   2351.9,2,   2401.8,2,   7.4882,2,    25.00,     1253
  49UF20140410,KS1403,  4162,  1,     12,  21994,2,20140430,1205, 23.9982, 137.0073, 3901,   1818.0,   2.0647,  34.6008,2,  34.6001,2,    108.1,2,   143.29,2,    38.65,2,     0.00,2,     2.73,2,   2348.2,2,   2405.5,2,   7.5136,2,    25.00,     1249
  49UF20140410,KS1403,  4162,  1,     11,  21970,2,20140430,1205, 23.9982, 137.0073, 3901,   2022.4,   1.9249,  34.6196,2,  34.6201,2,    117.4,2,   143.31,2,    38.07,2,     0.00,2,     2.69,2,   2344.8,2,   2408.5,2,   7.5266,2,    25.00,     1244
  49UF20140410,KS1403,  4162,  1,     10,  21969,2,20140430,1205, 23.9982, 137.0073, 3901,   2276.3,   1.7932,  34.6367,2,  34.6370,2,    126.2,2,   143.62,2,    37.61,2,     0.00,2,     2.65,2,   2339.6,2,   2410.5,2,   7.5433,6,    25.00,     1239
  49UF20140410,KS1403,  4162,  1,      9,  21968,2,20140430,1205, 23.9982, 137.0073, 3901,   2530.5,   1.7152,  34.6480,2,  34.6477,2,    132.2,2,   143.66,2,    37.24,2,     0.00,2,     2.62,2,   2334.0,2,   2414.6,2,   7.5539,2,    25.00,     1234
  49UF20140410,KS1403,  4162,  1,      8,  21982,2,20140430,1205, 23.9982, 137.0073, 3901,   2784.9,   1.6392,  34.6582,2,  34.6575,6,    138.4,6,   143.33,6,    36.87,6,     0.00,6,     2.59,6,   2332.8,2,   2413.1,2,   7.5644,2,    25.00,     1229
  49UF20140410,KS1403,  4162,  1,      7,  21966,2,20140430,1205, 23.9982, 137.0073, 3901,   3040.0,   1.5886,  34.6656,2,  34.6663,2,    143.1,2,   143.10,2,    36.62,2,     0.00,2,     2.57,2,   2330.4,2,   2414.0,2,   7.5726,2,    25.00,     1223
  49UF20140410,KS1403,  4162,  1,      6,  21965,2,20140430,1205, 23.9982, 137.0073, 3901,   3040.0,   1.5886,  34.6656,2,  34.6658,2,    143.3,2,   142.86,2,    36.53,2,     0.00,2,     2.56,2,   2330.7,2,   2416.7,2,   7.5708,2,    25.00,     1223
  49UF20140410,KS1403,  4162,  1,      5,  22085,2,20140430,1205, 23.9982, 137.0073, 3901,   3294.9,   1.5649,  34.6705,2,  34.6695,2,    146.2,2,   142.55,2,    36.39,2,     0.00,2,     2.55,2,   2333.1,3,   2413.6,2,   7.5759,2,    25.00,     1218
  49UF20140410,KS1403,  4162,  1,      4,  21963,2,20140430,1205, 23.9982, 137.0073, 3901,   3549.9,   1.5189,  34.6774,2,  34.6785,2,    152.4,2,   142.03,2,    35.99,2,     0.00,2,     2.52,2,   2326.7,6,   2414.5,6,   7.5870,2,    25.00,     1213
  49UF20140410,KS1403,  4162,  1,      3,  22079,3,20140430,1205, 23.9982, 137.0073, 3901,   3806.3,   1.5008,  34.6814,2,  34.6812,2,    155.3,2,   141.14,2,    35.77,2,     0.00,2,     2.50,2,   2322.2,2,   2414.7,2,   7.5941,2,    25.00,     1207
  49UF20140410,KS1403,  4162,  1,      2,  21961,2,20140430,1205, 23.9982, 137.0073, 3901,   3806.3,   1.5008,  34.6814,2,  34.6823,2,    155.7,2,   140.87,2,    35.74,2,     0.00,2,     2.50,2,   2318.9,2,   2416.5,2,   7.5894,2,    25.00,     1207
  49UF20140410,KS1403,  4162,  1,      1,  21960,2,20140430,1205, 23.9982, 137.0073, 3901,   3892.8,   1.4944,  34.6828,2,  34.6833,2,    156.8,2,   140.84,2,    35.71,2,     0.00,2,     2.49,2,   2319.9,2,   2412.2,2,   7.5887,2,    25.00,     1205
  49UF20140410,KS1403,  4163,  1,     99,     99,2,20140430,2129, 24.2458, 138.5788, 4969,      0.0,  23.0167,  35.0305,2,-999.0000,9,    217.3,2,     1.23,2,     0.05,2,     0.00,2,     0.02,2,   -999.0,9,   -999.0,9,-999.0000,9,  -999.00,     2154
  49UF20140410,KS1403,  4163,  1,     32,  21991,2,20140430,2129, 24.2458, 138.5788, 4969,     10.3,  22.7232,  35.0249,2,  35.0253,2,    217.9,2,     1.21,2,     0.01,2,     0.00,2,     0.01,2,   -999.0,9,   -999.0,9,-999.0000,9,  -999.00,     2227
  49UF20140410,KS1403,  4163,  1,     31,  21990,2,20140430,2129, 24.2458, 138.5788, 4969,     25.7,  22.5662,  35.0131,2,-999.0000,9,    218.4,2,     1.22,2,     0.04,2,     0.00,2,     0.01,2,   -999.0,9,   -999.0,9,-999.0000,9,  -999.00,     2226
  49UF20140410,KS1403,  4163,  1,     30,  21989,2,20140430,2129, 24.2458, 138.5788, 4969,     50.2,  22.0933,  34.9646,2,-999.0000,9,    221.1,2,     1.34,2,     0.03,2,     0.00,2,     0.01,2,   -999.0,9,   -999.0,9,-999.0000,9,  -999.00,     2225
  49UF20140410,KS1403,  4163,  1,     29,  21988,2,20140430,2129, 24.2458, 138.5788, 4969,     75.7,  21.2349,  34.8848,2,-999.0000,9,    224.2,2,     1.47,2,     0.04,2,     0.00,2,     0.01,2,   -999.0,9,   -999.0,9,-999.0000,9,  -999.00,     2223
  49UF20140410,KS1403,  4163,  1,     28,  21987,2,20140430,2129, 24.2458, 138.5788, 4969,     99.2,  20.2290,  34.8580,2,  34.8594,2,    226.9,2,     1.67,2,     0.06,2,     0.00,2,     0.02,2,   -999.0,9,   -999.0,9,-999.0000,9,  -999.00,     2222
  49UF20140410,KS1403,  4163,  1,     27,  21986,2,20140430,2129, 24.2458, 138.5788, 4969,    126.2,  19.8707,  34.8392,2,-999.0000,9,    219.6,2,     1.85,2,     0.44,2,     0.13,2,     0.05,2,   -999.0,9,   -999.0,9,-999.0000,9,  -999.00,     2221
  49UF20140410,KS1403,  4163,  1,     26,  21985,2,20140430,2129, 24.2458, 138.5788, 4969,    149.0,  19.2068,  34.7972,2,-999.0000,9,    206.0,2,     2.44,2,     2.24,2,     0.02,2,     0.16,2,   -999.0,9,   -999.0,9,-999.0000,9,  -999.00,     2219
  49UF20140410,KS1403,  4163,  1,     25,  21984,2,20140430,2129, 24.2458, 138.5788, 4969,    201.1,  18.0359,  34.7568,2,  34.7543,2,    200.9,2,     3.48,2,     4.08,2,     0.01,2,     0.27,2,   -999.0,9,   -999.0,9,-999.0000,9,  -999.00,     2217
  49UF20140410,KS1403,  4163,  1,     20,  21979,2,20140430,2129, 24.2458, 138.5788, 4969,    253.2,  17.4031,  34.7184,2,-999.0000,9,    202.2,2,     4.30,2,     4.90,2,     0.01,2,     0.32,2,   -999.0,9,   -999.0,9,-999.0000,9,  -999.00,     2215
  49UF20140410,KS1403,  4163,  1,     19,  21978,2,20140430,2129, 24.2458, 138.5788, 4969,    299.8,  16.4468,  34.6577,2,-999.0000,9,    198.7,2,     6.38,2,     6.71,2,     0.01,2,     0.45,2,   -999.0,9,   -999.0,9,-999.0000,9,  -999.00,     2213
  49UF20140410,KS1403,  4163,  1,     18,  21977,2,20140430,2129, 24.2458, 138.5788, 4969,    402.2,  13.7093,  34.4742,2,  34.4783,2,    179.6,2,    15.65,2,    12.79,2,     0.01,2,     0.89,2,   -999.0,9,   -999.0,9,-999.0000,9,  -999.00,     2207
  49UF20140410,KS1403,  4163,  1,     17,  23679,2,20140430,2129, 24.2458, 138.5788, 4969,    502.7,  10.4993,  34.2566,2,-999.0000,9,    170.1,2,    27.11,2,    18.81,2,     0.00,2,     1.34,2,   -999.0,9,   -999.0,9,-999.0000,9,  -999.00,     2205
  49UF20140410,KS1403,  4163,  1,     16,  21975,2,20140430,2129, 24.2458, 138.5788, 4969,    603.6,   8.0453,  34.1426,2,  34.1419,2,    141.9,6,    46.00,6,    25.94,6,     0.00,6,     1.87,6,   -999.0,9,   -999.0,9,-999.0000,9,  -999.00,     2202
  49UF20140410,KS1403,  4163,  1,     15,  21974,2,20140430,2129, 24.2458, 138.5788, 4969,    706.3,   6.0188,  34.1304,2,-999.0000,9,     97.5,2,    70.27,2,    33.53,2,     0.00,2,     2.43,2,   -999.0,9,   -999.0,9,-999.0000,9,  -999.00,     2159
  49UF20140410,KS1403,  4163,  1,     14,  21973,2,20140430,2129, 24.2458, 138.5788, 4969,    706.3,   6.0188,  34.1304,2,-999.0000,9,     97.5,2,    70.31,2,    33.53,2,     0.00,2,     2.43,2,   -999.0,9,   -999.0,9,-999.0000,9,  -999.00,     2159
  49UF20140410,KS1403,  4163,  1,     13,  21972,2,20140430,2129, 24.2458, 138.5788, 4969,    803.1,   4.8753,  34.2050,2,  34.2047,2,     73.0,2,    92.67,2,    37.48,2,     0.00,2,     2.71,2,   -999.0,9,   -999.0,9,-999.0000,9,  -999.00,     2157
  49UF20140410,KS1403,  4163,  1,      8,  21982,2,20140430,2129, 24.2458, 138.5788, 4969,    907.8,   4.2282,  34.2786,2,-999.0000,9,     59.5,2,   106.99,2,    39.54,2,     0.00,2,     2.85,2,   -999.0,9,   -999.0,9,-999.0000,9,  -999.00,     2154
  49UF20140410,KS1403,  4163,  1,      7,  21966,2,20140430,2129, 24.2458, 138.5788, 4969,   1009.3,   3.6454,  34.3600,2,  34.3588,2,     53.3,2,   120.42,2,    40.89,2,     0.00,2,     2.95,2,   -999.0,9,   -999.0,9,-999.0000,9,  -999.00,     2151
  49UF20140410,KS1403,  4163,  1,      6,  21965,2,20140430,2129, 24.2458, 138.5788, 4969,   1210.0,   3.0481,  34.4543,2,  34.4546,2,     60.7,2,   133.49,2,    41.18,2,     0.00,2,     2.94,2,   -999.0,9,   -999.0,9,-999.0000,9,  -999.00,     2147
  49UF20140410,KS1403,  4163,  1,      5,  22085,2,20140430,2129, 24.2458, 138.5788, 4969,   1411.9,   2.6233,  34.5144,2,  34.5121,4,     73.0,2,   139.88,2,    40.63,2,     0.00,2,     2.90,2,   -999.0,9,   -999.0,9,-999.0000,9,  -999.00,     2143
  49UF20140410,KS1403,  4163,  1,      4,  21963,2,20140430,2129, 24.2458, 138.5788, 4969,   1617.5,   2.2973,  34.5642,2,  34.5641,2,     89.9,2,   143.31,2,    39.73,2,     0.00,2,     2.82,2,   -999.0,9,   -999.0,9,-999.0000,9,  -999.00,     2138
  49UF20140410,KS1403,  4163,  1,      3,  22079,2,20140430,2129, 24.2458, 138.5788, 4969,   1818.6,   2.1059,  34.5960,2,  34.5957,6,    104.9,6,   143.06,6,    38.87,6,     0.00,6,     2.75,6,   -999.0,9,   -999.0,9,-999.0000,9,  -999.00,     2134
  49UF20140410,KS1403,  4163,  1,      2,  21961,2,20140430,2129, 24.2458, 138.5788, 4969,   2020.4,   1.9421,  34.6197,2,  34.6206,2,    116.5,2,   143.11,2,    38.22,2,     0.00,2,     2.70,2,   -999.0,9,   -999.0,9,-999.0000,9,  -999.00,     2129
  49UF20140410,KS1403,  4163,  1,      1,  21960,2,20140430,2129, 24.2458, 138.5788, 4969,   2020.4,   1.9421,  34.6197,2,  34.6198,2,    116.0,2,   143.38,2,    38.19,2,     0.00,2,     2.69,2,   -999.0,9,   -999.0,9,-999.0000,9,  -999.00,     2129