BOTTLE,20191218PRINUNIVRMK
# 08/29/2019 Initialized README file  
# Data source:  Masao Ishii 2018/11/30 
# SHIP: R/V Keifu Maru II 
# Cruise: ks201403 
# Region: North Pacific Ocean, East China Sea 
# EXPOCODE: 49UF20140410 
# DATES: 20140410-20140505 
# Chief Scientist: Tatsuo Nakamura 
# 17 stations with 36 place Rosette 
# CTD: Who - Kazuhiro Nemoto; Status - final 
# 	Includes: CTDSAL 
# SALNTY: Who - Kazuhiro Nemoto; Status - final 
# 	Notes: 	 
# Nutrients: Who - Kazuhiro Nemoto; Status - final 
# 	Includes: nitrate, nitrite, silicate, phosphate 
# 	Nitrite and NO3+NO2 reported. Separated by subtraction 
# OXYGEN: Who - Kazuhiro Nemoto; Status - final 
# 	Notes: 
# TCARBN: Who - Kazuhiro Nemoto; Status - final 
# 	Notes:  
# ALKALI: Who - Kazuhiro Nemoto; Status - final 
# 	Notes:  
# CFC: Who - ; Status -  
# 	Notes:  
# These data should be cited as: Nakamura, Tatsuo; Nemoto, Kazuhiro; Ishii, Masao (2019). Dissolved inorganic carbon (DIC), total alkalinity, pH on total scale, temperature, salinity, oxygen, nutrients and other measurements collected from discrete samples and profile observations during the R/V Keifu Maru II cruise ks201403 (EXPOCODE 49UF20140410) in the North Pacific Ocean and East China Sea from 2014-04-10 to 2014-05-05 (NCEI Accession 0192486). [indicate subset used]. NOAA National Centers for Environmental Information. Dataset. https://doi.org/10.25921/zdr8-2440.      
# References that have used data from this cruise: 
EXPOCODE,SECT_ID,STNNBR,CASTNO,SAMPNO,BTLNBR,BTLNBR_FLAG_W,DATE,TIME,LATITUDE,LONGITUDE,DEPTH,CTDPRS,CTDTMP,CTDSAL,CTDSAL_FLAG_W,SALNTY,SALNTY_FLAG_W,OXYGEN,OXYGEN_FLAG_W,SILCAT,SILCAT_FLAG_W,NITRAT,NITRAT_FLAG_W,NITRIT,NITRIT_FLAG_W,PHSPHT,PHSPHT_FLAG_W,TCARBN,TCARBN_FLAG_W,ALKALI,ALKALI_FLAG_W,PH_TOT,PH_TOT_FLAG_W,PH_TMP,BTL_TIME
,,,,,,,,,,,METERS,DBAR,ITS-90,PSS-78,,PSS-78,,UMOL/KG,,UMOL/KG,,UMOL/KG,,UMOL/KG,,UMOL/KG,,UMOL/KG,,UMOL/KG,,,,DEG C,
  49UF20140410,KS1403,  4141,  1,     99,     99,2,20140415,0112, 28.7007, 126.4597,  129,      0.0,  20.0007,  34.5369,2,  34.5346,2,    232.0,2,     3.24,2,     0.51,2,     0.05,2,     0.08,2,   1989.9,2,   2278.2,2,   8.0447,2,    25.00,      110
  49UF20140410,KS1403,  4141,  1,     33,  21992,2,20140415,0112, 28.7007, 126.4597,  129,      9.7,  19.4658,  34.4014,2,  34.4506,4,    236.3,2,     3.36,2,     0.50,2,     0.05,2,     0.07,2,   -999.0,9,   -999.0,9,-999.0000,9,  -999.00,      121
  49UF20140410,KS1403,  4141,  1,     32,  21991,2,20140415,0112, 28.7007, 126.4597,  129,     21.2,  17.2707,  33.8783,2,-999.0000,9,    264.0,2,     4.15,2,     0.36,2,     0.06,2,     0.02,2,   -999.0,9,   -999.0,9,-999.0000,9,  -999.00,      120
  49UF20140410,KS1403,  4141,  1,     31,  21990,2,20140415,0112, 28.7007, 126.4597,  129,     29.9,  16.7506,  33.7612,2,-999.0000,9,    269.9,2,     4.35,2,     0.48,2,     0.09,2,     0.02,2,   -999.0,9,   -999.0,9,-999.0000,9,  -999.00,      119
  49UF20140410,KS1403,  4141,  1,     12,  21994,2,20140415,0112, 28.7007, 126.4597,  129,     51.1,  15.5617,  33.8454,2,-999.0000,9,    246.2,2,     6.49,2,     4.72,2,     0.56,2,     0.28,2,   -999.0,9,   -999.0,9,-999.0000,9,  -999.00,      117
  49UF20140410,KS1403,  4141,  1,     11,  21970,2,20140415,0112, 28.7007, 126.4597,  129,     76.6,  14.8265,  33.7964,2,-999.0000,9,    243.8,2,     6.94,2,     6.53,2,     0.20,2,     0.37,2,   -999.0,9,   -999.0,9,-999.0000,9,  -999.00,      115
  49UF20140410,KS1403,  4141,  1,     10,  21969,3,20140415,0112, 28.7007, 126.4597,  129,    101.5,  15.1835,  34.0219,2,  34.0201,6,    239.1,6,     8.13,6,     6.34,6,     0.15,6,     0.40,6,   -999.0,9,   -999.0,9,-999.0000,9,  -999.00,      114
  49UF20140410,KS1403,  4141,  1,      9,  21968,2,20140415,0112, 28.7007, 126.4597,  129,    120.7,  15.0561,  34.0857,2,-999.0000,9,    238.2,2,     8.45,2,     6.06,2,     0.23,2,     0.41,2,   -999.0,9,   -999.0,9,-999.0000,9,  -999.00,      112
  49UF20140410,KS1403,  4141,  1,      8,  21982,2,20140415,0112, 28.7007, 126.4597,  129,    120.7,  15.0561,  34.0857,2,  34.0863,2,    238.0,2,     8.46,2,     6.09,2,     0.23,2,     0.41,2,   -999.0,9,   -999.0,9,-999.0000,9,  -999.00,      112
  49UF20140410,KS1403,  4143,  1,     99,     99,2,20140415,0329, 28.5415, 126.6908,  159,      0.0,  21.1887,  34.6915,2,-999.0000,9,    222.4,2,     2.40,2,     0.42,2,     0.07,2,     0.08,2,   -999.0,9,   -999.0,9,-999.0000,9,  -999.00,      324
  49UF20140410,KS1403,  4143,  1,     33,  21992,2,20140415,0329, 28.5415, 126.6908,  159,      9.5,  21.1879,  34.6910,2,  34.6915,2,    222.2,2,     2.51,2,     0.39,2,     0.07,2,     0.08,2,   -999.0,9,   -999.0,9,-999.0000,9,  -999.00,      341
  49UF20140410,KS1403,  4143,  1,     32,  21991,2,20140415,0329, 28.5415, 126.6908,  159,     20.0,  21.1575,  34.6894,2,-999.0000,9,    221.8,2,     2.46,2,     0.38,2,     0.07,2,     0.08,2,   -999.0,9,   -999.0,9,-999.0000,9,  -999.00,      340
  49UF20140410,KS1403,  4143,  1,     31,  21990,2,20140415,0329, 28.5415, 126.6908,  159,     31.8,  21.0269,  34.6857,2,-999.0000,9,    220.4,2,     2.71,2,     0.61,2,     0.10,2,     0.09,2,   -999.0,9,   -999.0,9,-999.0000,9,  -999.00,      339
  49UF20140410,KS1403,  4143,  1,     30,  21989,2,20140415,0329, 28.5415, 126.6908,  159,     49.2,  20.0535,  34.6690,2,-999.0000,9,    206.6,2,     4.84,2,     2.92,2,     0.23,2,     0.24,2,   -999.0,9,   -999.0,9,-999.0000,9,  -999.00,      338
  49UF20140410,KS1403,  4143,  1,     12,  21994,2,20140415,0329, 28.5415, 126.6908,  159,     73.8,  17.9523,  34.3588,2,-999.0000,9,    220.1,6,     7.13,6,     5.04,6,     0.17,6,     0.34,6,   -999.0,9,   -999.0,9,-999.0000,9,  -999.00,      336
  49UF20140410,KS1403,  4143,  1,     11,  21970,2,20140415,0329, 28.5415, 126.6908,  159,    101.1,  16.2195,  34.0215,2,  34.0298,4,    238.9,2,     7.47,2,     5.41,2,     0.26,2,     0.33,2,   -999.0,9,   -999.0,9,-999.0000,9,  -999.00,      334
  49UF20140410,KS1403,  4143,  1,     10,  21969,3,20140415,0329, 28.5415, 126.6908,  159,    101.1,  16.2195,  34.0215,2,  34.0291,4,    239.0,2,     7.48,2,     5.36,2,     0.27,2,     0.33,2,   -999.0,9,   -999.0,9,-999.0000,9,  -999.00,      334
  49UF20140410,KS1403,  4143,  1,      9,  21968,2,20140415,0329, 28.5415, 126.6908,  159,    126.6,  15.6967,  33.9394,2,-999.0000,9,    246.4,2,     6.76,2,     4.45,2,     0.54,2,     0.28,2,   -999.0,9,   -999.0,9,-999.0000,9,  -999.00,      332
  49UF20140410,KS1403,  4143,  1,      8,  21982,2,20140415,0329, 28.5415, 126.6908,  159,    149.5,  15.5287,  33.9853,2,  33.9864,6,    240.2,2,     7.84,2,     6.10,2,     0.19,2,     0.37,2,   -999.0,9,   -999.0,9,-999.0000,9,  -999.00,      329
  49UF20140410,KS1403,  4145,  1,     99,     99,2,20140415,0559, 28.3965, 126.8953,  275,      0.0,  21.7604,  34.6982,2,-999.0000,9,    223.3,2,     1.63,2,     0.08,2,     0.02,2,     0.07,2,   -999.0,9,   -999.0,9,-999.0000,9,  -999.00,      552
  49UF20140410,KS1403,  4145,  1,     33,  21992,2,20140415,0559, 28.3965, 126.8953,  275,     10.1,  21.5067,  34.6759,2,  34.6678,4,    226.1,2,     1.82,2,     0.12,2,     0.02,2,     0.07,2,   -999.0,9,   -999.0,9,-999.0000,9,  -999.00,      616
  49UF20140410,KS1403,  4145,  1,     32,  21991,2,20140415,0559, 28.3965, 126.8953,  275,     20.0,  19.8071,  34.5680,2,-999.0000,9,    234.7,2,     1.96,2,     0.19,2,     0.03,2,     0.08,2,   -999.0,9,   -999.0,9,-999.0000,9,  -999.00,      614
  49UF20140410,KS1403,  4145,  1,     31,  21990,2,20140415,0559, 28.3965, 126.8953,  275,     31.5,  18.6285,  34.3454,2,-999.0000,9,    246.0,2,     3.77,2,     0.72,2,     0.12,2,     0.11,2,   -999.0,9,   -999.0,9,-999.0000,9,  -999.00,      613
  49UF20140410,KS1403,  4145,  1,     30,  21989,2,20140415,0559, 28.3965, 126.8953,  275,     50.0,  17.2305,  34.0829,2,-999.0000,9,    248.8,6,     4.74,6,     1.64,6,     0.22,6,     0.12,6,   -999.0,9,   -999.0,9,-999.0000,9,  -999.00,      612
  49UF20140410,KS1403,  4145,  1,     29,  21988,2,20140415,0559, 28.3965, 126.8953,  275,     76.2,  17.2165,  34.1899,2,-999.0000,9,    231.7,2,     7.10,2,     5.01,2,     0.28,2,     0.33,2,   -999.0,9,   -999.0,9,-999.0000,9,  -999.00,      610
  49UF20140410,KS1403,  4145,  1,     28,  21987,2,20140415,0559, 28.3965, 126.8953,  275,     76.2,  17.2165,  34.1899,2,-999.0000,9,    231.5,2,     7.05,2,     5.04,2,     0.28,2,     0.33,2,   -999.0,9,   -999.0,9,-999.0000,9,  -999.00,      610
  49UF20140410,KS1403,  4145,  1,     12,  21994,2,20140415,0559, 28.3965, 126.8953,  275,    100.9,  17.1790,  34.2515,2,  34.2513,6,    225.0,2,     8.66,2,     6.15,2,     0.06,2,     0.40,2,   -999.0,9,   -999.0,9,-999.0000,9,  -999.00,      608
  49UF20140410,KS1403,  4145,  1,     11,  21970,2,20140415,0559, 28.3965, 126.8953,  275,    125.7,  17.1337,  34.2500,2,-999.0000,9,    224.6,2,     8.73,2,     6.26,2,     0.06,2,     0.40,2,   -999.0,9,   -999.0,9,-999.0000,9,  -999.00,      607
  49UF20140410,KS1403,  4145,  1,     10,  21969,2,20140415,0559, 28.3965, 126.8953,  275,    149.5,  17.2463,  34.4775,2,-999.0000,9,    193.7,2,    10.40,2,     7.43,2,     0.08,2,     0.51,2,   -999.0,9,   -999.0,9,-999.0000,9,  -999.00,      605
  49UF20140410,KS1403,  4145,  1,      9,  21968,2,20140415,0559, 28.3965, 126.8953,  275,    201.0,  13.6897,  34.4931,2,  34.4945,2,    163.1,2,    20.20,2,    14.35,2,     0.03,2,     1.02,2,   -999.0,9,   -999.0,9,-999.0000,9,  -999.00,      603
  49UF20140410,KS1403,  4145,  1,      8,  21982,2,20140415,0559, 28.3965, 126.8953,  275,    251.7,  12.4239,  34.4343,2,  34.4341,2,    153.8,2,    26.88,2,    17.22,2,     0.04,2,     1.23,2,   -999.0,9,   -999.0,9,-999.0000,9,  -999.00,      600
  49UF20140410,KS1403,  4145,  1,      7,  21966,2,20140415,0559, 28.3965, 126.8953,  275,    267.7,  12.3549,  34.4318,2,  34.4310,6,    152.9,2,    27.47,2,    17.40,2,     0.04,2,     1.26,2,   -999.0,9,   -999.0,9,-999.0000,9,  -999.00,      559
  49UF20140410,KS1403,  4147,  1,     99,     99,2,20140415,0939, 28.2535, 127.1607,  983,      0.0,  23.5652,  34.7167,2,-999.0000,9,    213.6,2,     1.66,2,     0.03,2,     0.00,2,     0.06,2,   -999.0,9,   -999.0,9,-999.0000,9,  -999.00,      955
  49UF20140410,KS1403,  4147,  1,     36,  21995,2,20140415,0939, 28.2535, 127.1607,  983,      9.3,  23.5593,  34.7171,2,  34.7169,2,    213.3,2,     1.53,2,     0.00,2,     0.00,2,     0.06,2,   -999.0,9,   -999.0,9,-999.0000,9,  -999.00,     1016
  49UF20140410,KS1403,  4147,  1,     35,  22087,2,20140415,0939, 28.2535, 127.1607,  983,     20.0,  23.5172,  34.7185,2,-999.0000,9,    213.1,2,     1.53,2,     0.00,2,     0.00,2,     0.05,2,   -999.0,9,   -999.0,9,-999.0000,9,  -999.00,     1015
  49UF20140410,KS1403,  4147,  1,     30,  21989,2,20140415,0939, 28.2535, 127.1607,  983,     29.4,  23.5005,  34.7185,2,-999.0000,9,    213.0,2,     1.53,2,     0.00,2,     0.00,2,     0.05,2,   -999.0,9,   -999.0,9,-999.0000,9,  -999.00,     1015
  49UF20140410,KS1403,  4147,  1,     29,  21988,2,20140415,0939, 28.2535, 127.1607,  983,     49.4,  22.4861,  34.7402,2,-999.0000,9,    214.5,2,     1.58,2,     0.07,2,     0.08,2,     0.05,2,   -999.0,9,   -999.0,9,-999.0000,9,  -999.00,     1011
  49UF20140410,KS1403,  4147,  1,     28,  21987,2,20140415,0939, 28.2535, 127.1607,  983,     74.9,  21.9579,  34.7536,2,-999.0000,9,    210.3,2,     1.83,2,     0.61,2,     0.14,2,     0.08,2,   -999.0,9,   -999.0,9,-999.0000,9,  -999.00,     1010
  49UF20140410,KS1403,  4147,  1,     27,  21986,2,20140415,0939, 28.2535, 127.1607,  983,    101.0,  21.5768,  34.7683,2,  34.7685,2,    208.5,2,     2.00,2,     0.93,2,     0.11,2,     0.10,2,   -999.0,9,   -999.0,9,-999.0000,9,  -999.00,     1009
  49UF20140410,KS1403,  4147,  1,     26,  21985,2,20140415,0939, 28.2535, 127.1607,  983,    124.9,  21.2391,  34.7811,2,-999.0000,9,    182.2,2,     4.19,2,     3.61,2,     0.04,2,     0.29,2,   -999.0,9,   -999.0,9,-999.0000,9,  -999.00,     1008
  49UF20140410,KS1403,  4147,  1,     25,  21984,2,20140415,0939, 28.2535, 127.1607,  983,    149.9,  19.9219,  34.6546,2,-999.0000,9,    202.3,2,     5.22,2,     3.47,2,     0.17,2,     0.28,2,   -999.0,9,   -999.0,9,-999.0000,9,  -999.00,     1007
  49UF20140410,KS1403,  4147,  1,     18,  21977,2,20140415,0939, 28.2535, 127.1607,  983,    201.2,  18.4250,  34.4620,2,  34.4677,4,    215.7,6,     6.98,6,     4.40,6,     0.22,6,     0.34,6,   -999.0,9,   -999.0,9,-999.0000,9,  -999.00,     1005
  49UF20140410,KS1403,  4147,  1,     17,  23679,2,20140415,0939, 28.2535, 127.1607,  983,    252.9,  15.4520,  34.5817,2,  34.5859,4,    171.5,2,    15.73,2,    11.10,2,     0.03,2,     0.79,2,   -999.0,9,   -999.0,9,-999.0000,9,  -999.00,     1003
  49UF20140410,KS1403,  4147,  1,     16,  21975,2,20140415,0939, 28.2535, 127.1607,  983,    252.9,  15.4520,  34.5817,2,  34.5874,4,    171.7,2,    15.61,2,    11.03,2,     0.03,2,     0.79,2,   -999.0,9,   -999.0,9,-999.0000,9,  -999.00,     1003
  49UF20140410,KS1403,  4147,  1,     15,  21974,2,20140415,0939, 28.2535, 127.1607,  983,    304.1,  13.1720,  34.4931,2,  34.4950,6,    155.3,6,    27.02,6,    16.10,6,     0.01,6,     1.16,6,   -999.0,9,   -999.0,9,-999.0000,9,  -999.00,     1001
  49UF20140410,KS1403,  4147,  1,     14,  21973,2,20140415,0939, 28.2535, 127.1607,  983,    406.3,  10.5494,  34.3572,2,  34.3561,2,    140.4,2,    37.33,2,    21.63,2,     0.00,2,     1.56,2,   -999.0,9,   -999.0,9,-999.0000,9,  -999.00,      956
  49UF20140410,KS1403,  4147,  1,     13,  21972,2,20140415,0939, 28.2535, 127.1607,  983,    406.3,  10.5494,  34.3572,2,  34.3557,2,    140.9,2,    37.30,2,    21.61,2,     0.00,2,     1.55,2,   -999.0,9,   -999.0,9,-999.0000,9,  -999.00,      956
  49UF20140410,KS1403,  4147,  1,      6,  21965,2,20140415,0939, 28.2535, 127.1607,  983,    505.9,   7.7014,  34.2545,2,  34.2547,6,    116.7,2,    59.55,2,    28.63,2,     0.00,2,     2.06,2,   -999.0,9,   -999.0,9,-999.0000,9,  -999.00,      952
  49UF20140410,KS1403,  4147,  1,      5,  22085,2,20140415,0939, 28.2535, 127.1607,  983,    606.3,   6.3862,  34.2471,2,  34.2458,2,     99.5,2,    74.14,2,    32.37,2,     0.00,2,     2.34,2,   -999.0,9,   -999.0,9,-999.0000,9,  -999.00,      948
  49UF20140410,KS1403,  4147,  1,      4,  21963,2,20140415,0939, 28.2535, 127.1607,  983,    707.0,   5.6577,  34.3230,2,  34.3221,6,     85.9,2,    88.53,2,    34.69,2,     0.00,2,     2.51,2,   -999.0,9,   -999.0,9,-999.0000,9,  -999.00,      945
  49UF20140410,KS1403,  4147,  1,      3,  22079,2,20140415,0939, 28.2535, 127.1607,  983,    805.8,   5.3319,  34.3479,2,  34.3482,2,     81.6,2,    95.34,2,    35.48,2,     0.00,2,     2.57,2,   -999.0,9,   -999.0,9,-999.0000,9,  -999.00,      943
  49UF20140410,KS1403,  4147,  1,      2,  21961,2,20140415,0939, 28.2535, 127.1607,  983,    905.8,   4.9755,  34.3650,2,  34.3659,6,     77.4,2,   101.18,2,    36.43,2,     0.00,2,     2.63,2,   -999.0,9,   -999.0,9,-999.0000,9,  -999.00,      941
  49UF20140410,KS1403,  4147,  1,      1,  21960,2,20140415,0939, 28.2535, 127.1607,  983,    967.0,   4.6599,  34.3804,2,  34.3801,2,     74.2,2,   106.32,2,    37.16,2,     0.00,2,     2.68,2,   -999.0,9,   -999.0,9,-999.0000,9,  -999.00,      939