BOTTLE,20191218PRINUNIVRMK
EXPOCODE,SECT_ID,STNNBR,CASTNO,SAMPNO,BTLNBR,BTLNBR_FLAG_W,DATE,TIME,LATITUDE,LONGITUDE,DEPTH,CTDPRS,CTDTMP,CTDSAL,CTDSAL_FLAG_W,SALNTY,SALNTY_FLAG_W,OXYGEN,OXYGEN_FLAG_W,SILCAT,SILCAT_FLAG_W,NITRAT,NITRAT_FLAG_W,NITRIT,NITRIT_FLAG_W,PHSPHT,PHSPHT_FLAG_W,TCARBN,TCARBN_FLAG_W,ALKALI,ALKALI_FLAG_W,PH_TOT,PH_TOT_FLAG_W,PH_TMP,BTL_TIME
,,,,,,,,,,,METERS,DBAR,ITS-90,PSS-78,,PSS-78,,UMOL/KG,,UMOL/KG,,UMOL/KG,,UMOL/KG,,UMOL/KG,,UMOL/KG,,UMOL/KG,,,,DEG C,
  49UF20140410,KS1403,  4159,  1,     99,     99,2,20140429,1031, 23.7577, 132.9755, 3196,      0.0,  24.1528,  35.0225,2,  35.0245,2,    220.7,2,     0.99,2,     0.06,2,     0.00,2,     0.02,2,   1974.6,2,   2299.5,2,-999.0000,9,  -999.00,     1109
  49UF20140410,KS1403,  4159,  1,     36,  21995,2,20140429,1031, 23.7577, 132.9755, 3196,      9.9,  24.1534,  35.0220,2,  35.0228,6,    213.0,6,     1.02,6,     0.02,6,     0.00,6,     0.01,6,   1977.9,2,   2298.1,2,-999.0000,9,  -999.00,     1131
  49UF20140410,KS1403,  4159,  1,     35,  22087,2,20140429,1031, 23.7577, 132.9755, 3196,     24.8,  23.8486,  35.0123,2,-999.0000,9,    214.8,2,     1.07,2,     0.01,2,     0.00,2,     0.01,2,   1980.2,2,   2300.7,2,-999.0000,9,  -999.00,     1130
  49UF20140410,KS1403,  4159,  1,     34,  22666,2,20140429,1031, 23.7577, 132.9755, 3196,     24.8,  23.8486,  35.0123,2,-999.0000,9,    214.6,2,     0.95,2,     0.01,2,     0.00,2,     0.01,2,   1979.1,2,   2299.1,2,-999.0000,9,  -999.00,     1130
  49UF20140410,KS1403,  4159,  1,     33,  21992,2,20140429,1031, 23.7577, 132.9755, 3196,     48.8,  23.5086,  35.0005,2,-999.0000,9,    216.0,2,     1.11,2,     0.00,2,     0.00,2,     0.01,2,   1979.4,2,   2298.5,2,-999.0000,9,  -999.00,     1127
  49UF20140410,KS1403,  4159,  1,     32,  21991,2,20140429,1031, 23.7577, 132.9755, 3196,     74.7,  22.8263,  34.9461,2,-999.0000,9,    217.4,2,     1.19,2,     0.02,2,     0.00,2,     0.01,2,   1979.7,2,   2292.7,2,-999.0000,9,  -999.00,     1125
  49UF20140410,KS1403,  4159,  1,     31,  21990,2,20140429,1031, 23.7577, 132.9755, 3196,     99.4,  22.2287,  34.9194,2,  34.9203,6,    216.4,2,     1.20,2,     0.02,2,     0.01,2,     0.01,2,   1985.3,2,   2297.4,2,-999.0000,9,  -999.00,     1124
  49UF20140410,KS1403,  4159,  1,     24,  21983,2,20140429,1031, 23.7577, 132.9755, 3196,    125.2,  21.7535,  34.8863,2,-999.0000,9,    210.6,2,     1.42,2,     0.27,2,     0.13,2,     0.04,2,   1989.7,2,   2290.4,2,-999.0000,9,  -999.00,     1123
  49UF20140410,KS1403,  4159,  1,     23,  22095,2,20140429,1031, 23.7577, 132.9755, 3196,    149.7,  21.3338,  34.8749,2,-999.0000,9,    207.6,2,     1.62,2,     0.59,2,     0.12,2,     0.06,2,   2004.1,2,   2288.6,2,-999.0000,9,  -999.00,     1121
  49UF20140410,KS1403,  4159,  1,     22,  22665,2,20140429,1031, 23.7577, 132.9755, 3196,    200.1,  19.8683,  34.8452,2,  34.8472,6,    199.3,2,     2.26,2,     1.98,2,     0.02,2,     0.14,2,   2023.1,2,   2286.7,2,-999.0000,9,  -999.00,     1120
  49UF20140410,KS1403,  4159,  1,     21,  21980,2,20140429,1031, 23.7577, 132.9755, 3196,    250.7,  18.5522,  34.7913,2,-999.0000,9,    197.8,2,     3.09,2,     3.54,2,     0.01,2,     0.24,2,   -999.0,9,   -999.0,9,-999.0000,9,  -999.00,     1118
  49UF20140410,KS1403,  4159,  1,     20,  21979,2,20140429,1031, 23.7577, 132.9755, 3196,    302.5,  17.4435,  34.7263,2,-999.0000,9,    200.8,2,     3.99,2,     4.79,2,     0.01,2,     0.32,2,   -999.0,9,   -999.0,9,-999.0000,9,  -999.00,     1116
  49UF20140410,KS1403,  4159,  1,     19,  21978,2,20140429,1031, 23.7577, 132.9755, 3196,    402.2,  15.2904,  34.5697,2,  34.5708,6,    191.1,2,     8.83,2,     9.02,2,     0.00,2,     0.62,2,   -999.0,9,   -999.0,9,-999.0000,9,  -999.00,     1113
  49UF20140410,KS1403,  4159,  1,     18,  21977,2,20140429,1031, 23.7577, 132.9755, 3196,    504.1,  13.1617,  34.4242,2,-999.0000,9,    180.2,2,    15.66,2,    13.51,2,     0.00,2,     0.94,2,   -999.0,9,   -999.0,9,-999.0000,9,  -999.00,     1109
  49UF20140410,KS1403,  4159,  1,     17,  23679,2,20140429,1031, 23.7577, 132.9755, 3196,    604.8,   9.7646,  34.2084,2,  34.2105,2,    163.6,2,    30.51,2,    20.75,2,     0.00,2,     1.48,2,   -999.0,9,   -999.0,9,-999.0000,9,  -999.00,     1106
  49UF20140410,KS1403,  4159,  1,     16,  21975,2,20140429,1031, 23.7577, 132.9755, 3196,    707.6,   7.3105,  34.1284,2,-999.0000,9,    133.2,2,    53.59,2,    27.88,2,     0.00,2,     2.02,2,   -999.0,9,   -999.0,9,-999.0000,9,  -999.00,     1103
  49UF20140410,KS1403,  4159,  1,     12,  21994,2,20140429,1031, 23.7577, 132.9755, 3196,    806.9,   5.6004,  34.1670,2,  34.1675,6,     86.1,2,    78.75,2,    35.24,2,     0.00,2,     2.55,2,   -999.0,9,   -999.0,9,-999.0000,9,  -999.00,     1059
  49UF20140410,KS1403,  4159,  1,     11,  21970,2,20140429,1031, 23.7577, 132.9755, 3196,    909.5,   4.6217,  34.2558,2,-999.0000,9,     62.4,2,    98.04,2,    38.86,2,     0.00,2,     2.81,2,   -999.0,9,   -999.0,9,-999.0000,9,  -999.00,     1056
  49UF20140410,KS1403,  4159,  1,     10,  21969,2,20140429,1031, 23.7577, 132.9755, 3196,   1010.0,   3.9854,  34.3327,2,  34.3329,6,     55.2,2,   112.92,2,    40.34,2,     0.00,2,     2.90,2,   -999.0,9,   -999.0,9,-999.0000,9,  -999.00,     1053
  49UF20140410,KS1403,  4159,  1,      9,  21968,2,20140429,1031, 23.7577, 132.9755, 3196,   1209.7,   3.3020,  34.4309,2,  34.4314,6,     58.3,6,   128.43,2,    41.02,6,     0.00,6,     2.94,6,   -999.0,9,   -999.0,9,-999.0000,9,  -999.00,     1048
  49UF20140410,KS1403,  4159,  1,      8,  21982,2,20140429,1031, 23.7577, 132.9755, 3196,   1413.7,   2.8863,  34.5044,2,  34.5047,2,     74.7,2,   134.91,2,    40.16,2,     0.00,2,     2.88,2,   -999.0,9,   -999.0,9,-999.0000,9,  -999.00,     1043
  49UF20140410,KS1403,  4159,  1,      7,  21966,2,20140429,1031, 23.7577, 132.9755, 3196,   1413.7,   2.8863,  34.5044,2,  34.5055,2,     75.0,2,   134.41,3,    40.13,2,     0.00,2,     2.87,2,   -999.0,9,   -999.0,9,-999.0000,9,  -999.00,     1043
  49UF20140410,KS1403,  4159,  1,      6,  21965,2,20140429,1031, 23.7577, 132.9755, 3196,   1614.9,   2.5882,  34.5402,2,  34.5425,6,     85.7,2,   138.50,2,    39.67,2,     0.00,2,     2.83,2,   -999.0,9,   -999.0,9,-999.0000,9,  -999.00,     1039
  49UF20140410,KS1403,  4159,  1,      5,  22085,2,20140429,1031, 23.7577, 132.9755, 3196,   1818.6,   2.1882,  34.5813,2,  34.5821,6,    101.0,2,   142.48,2,    38.96,2,     0.00,2,     2.77,2,   -999.0,9,   -999.0,9,-999.0000,9,  -999.00,     1035
  49UF20140410,KS1403,  4159,  1,      4,  21963,2,20140429,1031, 23.7577, 132.9755, 3196,   2018.8,   2.0609,  34.6014,2,  34.6018,6,    109.9,2,   142.92,2,    38.42,2,     0.00,2,     2.73,2,   -999.0,9,   -999.0,9,-999.0000,9,  -999.00,     1031
  49UF20140410,KS1403,  4160,  1,     99,     99,2,20140429,1811, 24.2408, 133.9717, 4914,      0.0,  23.1682,  34.9777,2,-999.0000,9,    215.4,2,     0.98,2,     0.04,2,     0.00,2,     0.01,2,   -999.0,9,   -999.0,9,-999.0000,9,  -999.00,     1850
  49UF20140410,KS1403,  4160,  1,     36,  21995,2,20140429,1811, 24.2408, 133.9717, 4914,      9.7,  23.1708,  34.9778,2,  34.9792,2,    215.8,2,     1.05,2,     0.01,2,     0.00,2,     0.01,2,   -999.0,9,   -999.0,9,-999.0000,9,  -999.00,     1910
  49UF20140410,KS1403,  4160,  1,     35,  22087,2,20140429,1811, 24.2408, 133.9717, 4914,     26.3,  23.1524,  34.9767,2,-999.0000,9,    215.8,6,     1.05,6,     0.01,6,     0.00,6,     0.01,6,   -999.0,9,   -999.0,9,-999.0000,9,  -999.00,     1909
  49UF20140410,KS1403,  4160,  1,     34,  22666,2,20140429,1811, 24.2408, 133.9717, 4914,     50.6,  22.5173,  34.9447,2,-999.0000,9,    219.1,2,     1.09,2,     0.01,2,     0.00,2,     0.01,2,   -999.0,9,   -999.0,9,-999.0000,9,  -999.00,     1905
  49UF20140410,KS1403,  4160,  1,     33,  21992,2,20140429,1811, 24.2408, 133.9717, 4914,     50.6,  22.5173,  34.9447,2,-999.0000,9,    219.0,2,     1.13,2,     0.01,2,     0.00,2,     0.01,2,   -999.0,9,   -999.0,9,-999.0000,9,  -999.00,     1905
  49UF20140410,KS1403,  4160,  1,     32,  21991,2,20140429,1811, 24.2408, 133.9717, 4914,     76.5,  22.4937,  34.9467,2,-999.0000,9,    219.1,2,     1.05,2,     0.01,2,     0.00,2,     0.00,2,   -999.0,9,   -999.0,9,-999.0000,9,  -999.00,     1904
  49UF20140410,KS1403,  4160,  1,     31,  21990,2,20140429,1811, 24.2408, 133.9717, 4914,     99.8,  22.4146,  34.9371,2,  34.9338,4,    219.1,2,     1.18,2,     0.01,2,     0.00,2,     0.01,2,   -999.0,9,   -999.0,9,-999.0000,9,  -999.00,     1903
  49UF20140410,KS1403,  4160,  1,     30,  21989,2,20140429,1811, 24.2408, 133.9717, 4914,    125.5,  21.5540,  34.8653,2,-999.0000,9,    217.2,2,     1.22,2,     0.02,2,     0.03,2,     0.02,2,   -999.0,9,   -999.0,9,-999.0000,9,  -999.00,     1901
  49UF20140410,KS1403,  4160,  1,     29,  21988,2,20140429,1811, 24.2408, 133.9717, 4914,    150.7,  20.9185,  34.8252,2,-999.0000,9,    222.9,2,     1.52,2,     0.02,2,     0.03,2,     0.03,2,   -999.0,9,   -999.0,9,-999.0000,9,  -999.00,     1900
  49UF20140410,KS1403,  4160,  1,     27,  21986,2,20140429,1811, 24.2408, 133.9717, 4914,    199.9,  20.2392,  34.8188,2,  34.8200,6,    206.8,2,     1.88,2,     1.23,2,     0.06,2,     0.10,2,   -999.0,9,   -999.0,9,-999.0000,9,  -999.00,     1859
  49UF20140410,KS1403,  4160,  1,     26,  21985,2,20140429,1811, 24.2408, 133.9717, 4914,    250.9,  19.0943,  34.8088,2,-999.0000,9,    198.1,2,     2.67,2,     2.89,2,     0.01,2,     0.20,2,   -999.0,9,   -999.0,9,-999.0000,9,  -999.00,     1857
  49UF20140410,KS1403,  4160,  1,     18,  21977,2,20140429,1811, 24.2408, 133.9717, 4914,    303.3,  18.1071,  34.7625,2,-999.0000,9,    199.7,2,     3.33,2,     3.99,2,     0.01,2,     0.27,2,   -999.0,9,   -999.0,9,-999.0000,9,  -999.00,     1855
  49UF20140410,KS1403,  4160,  1,     17,  23679,2,20140429,1811, 24.2408, 133.9717, 4914,    405.2,  16.0683,  34.6272,2,  34.6315,4,    194.7,2,     6.81,2,     7.46,2,     0.00,2,     0.50,2,   -999.0,9,   -999.0,9,-999.0000,9,  -999.00,     1852
  49UF20140410,KS1403,  4160,  1,     16,  21975,2,20140429,1811, 24.2408, 133.9717, 4914,    506.9,  13.6612,  34.4515,2,-999.0000,9,    185.7,2,    13.08,2,    12.02,2,     0.00,2,     0.84,2,   -999.0,9,   -999.0,9,-999.0000,9,  -999.00,     1849
  49UF20140410,KS1403,  4160,  1,     15,  21974,2,20140429,1811, 24.2408, 133.9717, 4914,    606.5,  10.5276,  34.2448,2,  34.2477,2,    172.6,2,    25.49,2,    18.52,2,     0.00,2,     1.32,2,   -999.0,9,   -999.0,9,-999.0000,9,  -999.00,     1845
  49UF20140410,KS1403,  4160,  1,     14,  21973,3,20140429,1811, 24.2408, 133.9717, 4914,    706.5,   7.9144,  34.1349,2,-999.0000,9,    137.8,2,    46.34,2,    26.50,2,     0.00,2,     1.91,2,   -999.0,9,   -999.0,9,-999.0000,9,  -999.00,     1843
  49UF20140410,KS1403,  4160,  1,     13,  21972,2,20140429,1811, 24.2408, 133.9717, 4914,    806.3,   6.1088,  34.1464,2,  34.1462,2,    100.8,2,    70.65,2,    33.08,2,     0.00,2,     2.39,2,   -999.0,9,   -999.0,9,-999.0000,9,  -999.00,     1840
  49UF20140410,KS1403,  4160,  1,      8,  21982,2,20140429,1811, 24.2408, 133.9717, 4914,    908.5,   5.1249,  34.2030,2,-999.0000,9,     76.9,2,    88.31,2,    36.70,2,     0.00,2,     2.65,2,   -999.0,9,   -999.0,9,-999.0000,9,  -999.00,     1837
  49UF20140410,KS1403,  4160,  1,      7,  21966,3,20140429,1811, 24.2408, 133.9717, 4914,   1009.3,   4.2604,  34.3017,2,  34.3016,6,     58.9,2,   106.32,6,    39.51,3,     0.00,6,     2.85,6,   -999.0,9,   -999.0,9,-999.0000,9,  -999.00,     1834
  49UF20140410,KS1403,  4160,  1,      6,  21965,2,20140429,1811, 24.2408, 133.9717, 4914,   1215.1,   3.4919,  34.4067,2,  34.4071,2,     57.6,2,   124.12,2,    40.78,2,     0.00,2,     2.92,2,   -999.0,9,   -999.0,9,-999.0000,9,  -999.00,     1829
  49UF20140410,KS1403,  4160,  1,      5,  22085,2,20140429,1811, 24.2408, 133.9717, 4914,   1215.1,   3.4919,  34.4067,2,  34.4066,2,     57.4,2,   123.86,2,    40.78,2,     0.00,2,     2.92,2,   -999.0,9,   -999.0,9,-999.0000,9,  -999.00,     1829
  49UF20140410,KS1403,  4160,  1,      4,  21963,2,20140429,1811, 24.2408, 133.9717, 4914,   1416.0,   2.8470,  34.4944,2,  34.4953,2,     72.0,2,   136.07,2,    40.56,2,     0.00,2,     2.88,2,   -999.0,9,   -999.0,9,-999.0000,9,  -999.00,     1824
  49UF20140410,KS1403,  4160,  1,      3,  22079,2,20140429,1811, 24.2408, 133.9717, 4914,   1618.8,   2.5038,  34.5411,2,  34.5419,6,     84.8,2,   140.24,2,    39.84,2,     0.00,2,     2.83,2,   -999.0,9,   -999.0,9,-999.0000,9,  -999.00,     1820
  49UF20140410,KS1403,  4160,  1,      2,  21961,2,20140429,1811, 24.2408, 133.9717, 4914,   1820.3,   2.1810,  34.5846,2,  34.5862,6,    101.9,2,   142.64,2,    38.89,2,     0.00,2,     2.76,2,   -999.0,9,   -999.0,9,-999.0000,9,  -999.00,     1815
  49UF20140410,KS1403,  4160,  1,      1,  21960,2,20140429,1811, 24.2408, 133.9717, 4914,   2023.8,   1.9879,  34.6088,2,  34.6108,6,    112.6,2,   143.31,2,    38.40,2,     0.00,2,     2.70,2,   -999.0,9,   -999.0,9,-999.0000,9,  -999.00,     1811
  49UF20140410,KS1403,  4161,  1,     99,     99,2,20140430,0133, 24.2492, 134.9828, 5128,      0.0,  23.6507,  34.9703,2,  34.9714,2,    213.7,2,     1.11,2,     0.04,2,     0.00,2,     0.02,2,   1975.6,2,   2295.7,2,   8.0827,2,    25.00,      209
  49UF20140410,KS1403,  4161,  1,     32,  21991,2,20140430,0133, 24.2492, 134.9828, 5128,      9.7,  23.6019,  34.9689,2,  34.9685,2,    214.2,2,     1.07,2,     0.01,2,     0.00,2,     0.01,2,   1977.2,2,   2296.4,2,   8.0848,2,    25.00,      229
  49UF20140410,KS1403,  4161,  1,     31,  21990,2,20140430,0133, 24.2492, 134.9828, 5128,     24.8,  23.5048,  34.9651,2,-999.0000,9,    215.2,6,     1.07,6,     0.00,6,     0.00,6,     0.01,6,   1977.3,2,   2294.4,2,   8.0834,2,    25.00,      228
  49UF20140410,KS1403,  4161,  1,     30,  21989,2,20140430,0133, 24.2492, 134.9828, 5128,     50.4,  22.9349,  34.9209,2,-999.0000,9,    216.7,2,     1.21,2,     0.00,2,     0.00,2,     0.01,2,   1979.0,2,   2292.9,2,   8.0761,2,    25.00,      225
  49UF20140410,KS1403,  4161,  1,     29,  21988,2,20140430,0133, 24.2492, 134.9828, 5128,     50.4,  22.9349,  34.9209,2,-999.0000,9,    216.6,2,     1.17,2,     0.01,2,     0.00,2,     0.01,2,   1979.1,2,   2291.8,2,   8.0762,2,    25.00,      225
  49UF20140410,KS1403,  4161,  1,     28,  21987,2,20140430,0133, 24.2492, 134.9828, 5128,     75.6,  21.6908,  34.8561,2,-999.0000,9,    212.4,2,     1.51,2,     0.06,2,     0.01,2,     0.03,2,   1993.9,2,   2288.0,2,   8.0487,2,    25.00,      223
  49UF20140410,KS1403,  4161,  1,     27,  21986,2,20140430,0133, 24.2492, 134.9828, 5128,     99.8,  21.1335,  34.8338,2,  34.8400,4,    212.4,2,     1.55,2,     0.27,2,     0.10,2,     0.04,2,   1993.8,2,   2286.3,2,   8.0414,2,    25.00,      222
  49UF20140410,KS1403,  4161,  1,     26,  21985,2,20140430,0133, 24.2492, 134.9828, 5128,    125.6,  20.5383,  34.7963,2,-999.0000,9,    220.6,2,     1.58,2,     0.06,2,     0.19,2,     0.03,2,   1987.6,2,   2283.4,2,   8.0495,2,    25.00,      221
  49UF20140410,KS1403,  4161,  1,     25,  21984,2,20140430,0133, 24.2492, 134.9828, 5128,    151.6,  20.0751,  34.8039,2,-999.0000,9,    209.7,2,     1.81,2,     1.10,2,     0.03,2,     0.09,2,   2002.9,2,   2284.5,2,   8.0233,2,    25.00,      220
  49UF20140410,KS1403,  4161,  1,     20,  21979,2,20140430,0133, 24.2492, 134.9828, 5128,    201.9,  19.2832,  34.7829,2,  34.7856,2,    205.0,2,     2.52,2,     2.32,2,     0.02,2,     0.17,2,   2016.6,2,   2283.8,2,   7.9961,2,    25.00,      218
  49UF20140410,KS1403,  4161,  1,     19,  21978,2,20140430,0133, 24.2492, 134.9828, 5128,    250.1,  18.1642,  34.7535,2,-999.0000,9,    199.5,2,     3.49,2,     4.11,2,     0.01,2,     0.27,2,   2030.4,2,   2285.2,2,   7.9691,2,    25.00,      216
  49UF20140410,KS1403,  4161,  1,     18,  21977,2,20140430,0133, 24.2492, 134.9828, 5128,    301.1,  17.4564,  34.7214,2,-999.0000,9,    201.5,2,     4.29,2,     4.86,2,     0.01,2,     0.33,2,   2036.1,2,   2278.7,2,   7.9548,6,    25.00,      214
  49UF20140410,KS1403,  4161,  1,     17,  23679,2,20140430,0133, 24.2492, 134.9828, 5128,    402.8,  15.6856,  34.6026,2,  34.6041,6,    189.0,2,     8.78,2,     8.68,2,     0.00,2,     0.60,2,   2064.0,2,   2276.7,2,   7.8950,2,    25.00,      211
  49UF20140410,KS1403,  4161,  1,     16,  21975,2,20140430,0133, 24.2492, 134.9828, 5128,    503.3,  12.2814,  34.3754,2,-999.0000,9,    176.9,2,    20.30,2,    15.29,2,     0.00,2,     1.08,2,   2113.9,2,   2277.3,2,   7.7871,2,    25.00,      209
  49UF20140410,KS1403,  4161,  1,     15,  21974,2,20140430,0133, 24.2492, 134.9828, 5128,    604.7,   9.2265,  34.1905,2,  34.1911,2,    157.7,2,    36.34,2,    22.27,2,     0.00,2,     1.60,2,   2164.2,6,   2279.1,6,   7.6746,2,    25.00,      206
  49UF20140410,KS1403,  4161,  1,     14,  21973,2,20140430,0133, 24.2492, 134.9828, 5128,    705.4,   7.0370,  34.1188,2,-999.0000,9,    119.2,2,    56.04,2,    29.67,2,     0.00,2,     2.15,2,   2224.1,2,   2292.4,2,   7.5506,2,    25.00,      203
  49UF20140410,KS1403,  4161,  1,     13,  21972,2,20140430,0133, 24.2492, 134.9828, 5128,    805.3,   5.4970,  34.1676,2,  34.1684,2,     84.4,2,    80.46,2,    35.47,2,     0.00,2,     2.57,2,   2274.9,2,   2317.1,2,   7.4606,2,    25.00,      201
  49UF20140410,KS1403,  4161,  1,      8,  21982,2,20140430,0133, 24.2492, 134.9828, 5128,    907.2,   4.7470,  34.2408,2,-999.0000,9,     67.6,2,    95.90,2,    38.18,2,     0.00,2,     2.76,2,   2304.8,2,   2334.5,2,   7.4248,6,    25.00,      158
  49UF20140410,KS1403,  4161,  1,      7,  21966,2,20140430,0133, 24.2492, 134.9828, 5128,   1009.6,   4.1566,  34.3115,2,  34.3122,2,     58.8,2,   109.18,2,    39.61,2,     0.00,2,     2.87,2,   2324.9,2,   2349.3,2,   7.4093,2,    25.00,      155
  49UF20140410,KS1403,  4161,  1,      6,  21965,2,20140430,0133, 24.2492, 134.9828, 5128,   1211.6,   3.3865,  34.4191,2,  34.4200,2,     59.0,6,   126.32,6,    40.70,6,     0.00,6,     2.92,6,   2343.9,2,   2372.6,2,   7.4153,2,    25.00,      151
  49UF20140410,KS1403,  4161,  1,      5,  22085,2,20140430,0133, 24.2492, 134.9828, 5128,   1413.7,   2.7913,  34.4939,2,  34.4945,2,     71.0,2,   137.40,2,    40.37,2,     0.00,2,     2.89,2,   2352.9,2,   2388.1,2,   7.4381,2,    25.00,      146
  49UF20140410,KS1403,  4161,  1,      4,  21963,2,20140430,0133, 24.2492, 134.9828, 5128,   1413.7,   2.7913,  34.4939,2,  34.4953,2,     71.4,2,   137.57,2,    40.45,2,     0.00,2,     2.89,2,   2353.3,2,   2389.0,2,   7.4395,2,    25.00,      146
  49UF20140410,KS1403,  4161,  1,      3,  22079,2,20140430,0133, 24.2492, 134.9828, 5128,   1616.8,   2.4138,  34.5437,2,  34.5441,2,     84.6,2,   142.46,2,    39.80,2,     0.00,2,     2.84,2,   2353.8,2,   2398.1,2,   7.4628,2,    25.00,      142
  49UF20140410,KS1403,  4161,  1,      2,  21961,2,20140430,0133, 24.2492, 134.9828, 5128,   1820.4,   2.1760,  34.5818,2,  34.5826,2,    100.2,2,   143.17,2,    38.95,2,     0.00,2,     2.77,2,   2348.0,2,   2405.5,2,   7.4914,2,    25.00,      137
  49UF20140410,KS1403,  4161,  1,      1,  21960,2,20140430,0133, 24.2492, 134.9828, 5128,   2021.6,   2.0038,  34.6051,2,  34.6062,6,    110.9,2,   143.74,2,    38.35,2,     0.00,2,     2.72,2,   2343.4,6,   2408.1,6,   7.5090,2,    25.00,      133