BOTTLE,20191218PRINUNIVRMK
EXPOCODE,SECT_ID,STNNBR,CASTNO,SAMPNO,BTLNBR,BTLNBR_FLAG_W,DATE,TIME,LATITUDE,LONGITUDE,DEPTH,CTDPRS,CTDTMP,CTDSAL,CTDSAL_FLAG_W,SALNTY,SALNTY_FLAG_W,OXYGEN,OXYGEN_FLAG_W,SILCAT,SILCAT_FLAG_W,NITRAT,NITRAT_FLAG_W,NITRIT,NITRIT_FLAG_W,PHSPHT,PHSPHT_FLAG_W,TCARBN,TCARBN_FLAG_W,ALKALI,ALKALI_FLAG_W,PH_TOT,PH_TOT_FLAG_W,PH_TMP,BTL_TIME
,,,,,,,,,,,METERS,DBAR,ITS-90,PSS-78,,PSS-78,,UMOL/KG,,UMOL/KG,,UMOL/KG,,UMOL/KG,,UMOL/KG,,UMOL/KG,,UMOL/KG,,,,DEG C,
  49UF20140410,KS1403,  4149,  1,     99,     99,2,20140415,1337, 28.1083, 127.3542,  999,      0.0,  24.2871,  34.7099,2,-999.0000,9,    209.8,2,     1.47,2,     0.00,2,     0.00,2,     0.08,2,   -999.0,9,   -999.0,9,-999.0000,9,  -999.00,     1347
  49UF20140410,KS1403,  4149,  1,     36,  21995,2,20140415,1337, 28.1083, 127.3542,  999,     10.7,  24.3012,  34.7094,2,  34.7088,2,    209.2,2,     1.45,2,     0.00,2,     0.00,2,     0.07,2,   -999.0,9,   -999.0,9,-999.0000,9,  -999.00,     1410
  49UF20140410,KS1403,  4149,  1,     35,  22087,2,20140415,1337, 28.1083, 127.3542,  999,     20.7,  24.3037,  34.7093,2,-999.0000,9,    208.9,2,     1.40,2,     0.00,2,     0.00,2,     0.06,2,   -999.0,9,   -999.0,9,-999.0000,9,  -999.00,     1409
  49UF20140410,KS1403,  4149,  1,     34,  22666,2,20140415,1337, 28.1083, 127.3542,  999,     31.3,  24.3026,  34.7094,2,-999.0000,9,    209.0,6,     1.40,6,     0.00,6,     0.00,6,     0.06,6,   -999.0,9,   -999.0,9,-999.0000,9,  -999.00,     1408
  49UF20140410,KS1403,  4149,  1,     30,  21989,2,20140415,1337, 28.1083, 127.3542,  999,     51.1,  24.3035,  34.7087,2,-999.0000,9,    209.1,2,     1.40,2,     0.00,2,     0.00,2,     0.06,2,   -999.0,9,   -999.0,9,-999.0000,9,  -999.00,     1404
  49UF20140410,KS1403,  4149,  1,     29,  21988,2,20140415,1337, 28.1083, 127.3542,  999,     51.1,  24.3035,  34.7087,2,-999.0000,9,    208.8,2,     1.40,2,     0.00,2,     0.00,2,     0.06,2,   -999.0,9,   -999.0,9,-999.0000,9,  -999.00,     1404
  49UF20140410,KS1403,  4149,  1,     28,  21987,3,20140415,1337, 28.1083, 127.3542,  999,     76.0,  23.1449,  34.7320,2,-999.0000,9,    203.1,2,     1.80,2,     0.53,2,     0.26,2,     0.10,2,   -999.0,9,   -999.0,9,-999.0000,9,  -999.00,     1403
  49UF20140410,KS1403,  4149,  1,     27,  21986,2,20140415,1337, 28.1083, 127.3542,  999,    101.2,  22.1479,  34.7692,2,  34.7706,2,    214.4,2,     1.58,2,     0.05,2,     0.15,2,     0.05,2,   -999.0,9,   -999.0,9,-999.0000,9,  -999.00,     1402
  49UF20140410,KS1403,  4149,  1,     26,  21985,2,20140415,1337, 28.1083, 127.3542,  999,    125.4,  21.8895,  34.7751,2,-999.0000,9,    213.8,2,     1.59,2,     0.11,2,     0.25,2,     0.06,2,   -999.0,9,   -999.0,9,-999.0000,9,  -999.00,     1401
  49UF20140410,KS1403,  4149,  1,     25,  21984,2,20140415,1337, 28.1083, 127.3542,  999,    153.0,  21.6616,  34.8028,2,-999.0000,9,    215.0,2,     1.66,2,     0.28,2,     0.05,2,     0.05,2,   -999.0,9,   -999.0,9,-999.0000,9,  -999.00,     1400
  49UF20140410,KS1403,  4149,  1,     18,  21977,2,20140415,1337, 28.1083, 127.3542,  999,    203.3,  19.4490,  34.7863,2,  34.7850,6,    190.5,2,     3.68,2,     3.68,2,     0.01,2,     0.26,2,   -999.0,9,   -999.0,9,-999.0000,9,  -999.00,     1358
  49UF20140410,KS1403,  4149,  1,     17,  23679,2,20140415,1337, 28.1083, 127.3542,  999,    252.2,  17.9059,  34.7361,2,  34.7373,2,    194.3,2,     4.71,2,     5.02,2,     0.01,2,     0.34,2,   -999.0,9,   -999.0,9,-999.0000,9,  -999.00,     1356
  49UF20140410,KS1403,  4149,  1,     16,  21975,2,20140415,1337, 28.1083, 127.3542,  999,    303.1,  16.6152,  34.6579,2,  34.6586,2,    186.0,2,     8.06,2,     7.69,2,     0.01,2,     0.53,2,   -999.0,9,   -999.0,9,-999.0000,9,  -999.00,     1355
  49UF20140410,KS1403,  4149,  1,     15,  21974,2,20140415,1337, 28.1083, 127.3542,  999,    403.3,  13.3937,  34.4722,2,  34.4659,4,    166.2,2,    19.79,2,    14.51,2,     0.00,2,     1.05,2,   -999.0,9,   -999.0,9,-999.0000,9,  -999.00,     1352
  49UF20140410,KS1403,  4149,  1,     14,  21973,2,20140415,1337, 28.1083, 127.3542,  999,    504.2,  10.1637,  34.2608,2,  34.2755,4,    150.9,2,    32.28,2,    21.13,2,     0.00,2,     1.51,2,   -999.0,9,   -999.0,9,-999.0000,9,  -999.00,     1350
  49UF20140410,KS1403,  4149,  1,     13,  21972,2,20140415,1337, 28.1083, 127.3542,  999,    605.9,   8.1712,  34.3052,2,  34.3048,6,    115.3,6,    58.27,6,    27.97,6,     0.00,6,     2.02,6,   -999.0,9,   -999.0,9,-999.0000,9,  -999.00,     1347
  49UF20140410,KS1403,  4149,  1,      6,  21965,2,20140415,1337, 28.1083, 127.3542,  999,    706.8,   6.2682,  34.2701,2,  34.2716,2,     95.7,2,    77.22,2,    32.85,2,     0.00,2,     2.36,2,   -999.0,9,   -999.0,9,-999.0000,9,  -999.00,     1344
  49UF20140410,KS1403,  4149,  1,      5,  22085,2,20140415,1337, 28.1083, 127.3542,  999,    706.8,   6.2682,  34.2701,2,  34.2727,2,     95.4,2,    77.27,2,    32.86,2,     0.00,2,     2.37,2,   -999.0,9,   -999.0,9,-999.0000,9,  -999.00,     1344
  49UF20140410,KS1403,  4149,  1,      4,  21963,2,20140415,1337, 28.1083, 127.3542,  999,    807.3,   5.4061,  34.3363,2,  34.3374,6,     82.6,2,    93.11,2,    35.42,2,     0.00,2,     2.55,2,   -999.0,9,   -999.0,9,-999.0000,9,  -999.00,     1342
  49UF20140410,KS1403,  4149,  1,      3,  22079,2,20140415,1337, 28.1083, 127.3542,  999,    908.2,   4.7550,  34.3635,2,  34.3638,6,     75.6,2,   102.80,2,    37.03,2,     0.00,2,     2.66,2,   -999.0,9,   -999.0,9,-999.0000,9,  -999.00,     1339
  49UF20140410,KS1403,  4149,  1,      2,  21961,2,20140415,1337, 28.1083, 127.3542,  999,    998.0,   4.1783,  34.3994,2,  34.3989,6,     71.5,2,   112.65,2,    38.37,2,     0.00,2,     2.74,2,   -999.0,9,   -999.0,9,-999.0000,9,  -999.00,     1337
  49UF20140410,KS1403,  4152,  1,     99,     99,2,20140415,1959, 27.7995, 127.7957,  887,      0.0,  21.0759,  34.7672,2,  34.7746,2,    224.6,2,     1.39,2,     0.05,2,     0.00,2,     0.04,2,   1981.5,2,   2280.7,2,   8.0496,2,    25.00,     2010
  49UF20140410,KS1403,  4152,  1,     36,  21995,2,20140415,1959, 27.7995, 127.7957,  887,      9.6,  21.0856,  34.7673,2,  34.7665,2,    224.7,2,     1.27,2,     0.00,2,     0.00,2,     0.03,2,   -999.0,9,   -999.0,9,-999.0000,9,  -999.00,     2030
  49UF20140410,KS1403,  4152,  1,     30,  21989,2,20140415,1959, 27.7995, 127.7957,  887,     19.3,  21.0767,  34.7669,2,-999.0000,9,    225.0,2,     1.28,2,     0.00,2,     0.00,2,     0.03,2,   -999.0,9,   -999.0,9,-999.0000,9,  -999.00,     2029
  49UF20140410,KS1403,  4152,  1,     29,  21988,2,20140415,1959, 27.7995, 127.7957,  887,     29.6,  21.0763,  34.7661,2,-999.0000,9,    224.5,2,     1.29,2,     0.00,2,     0.00,2,     0.03,2,   -999.0,9,   -999.0,9,-999.0000,9,  -999.00,     2028
  49UF20140410,KS1403,  4152,  1,     28,  21987,2,20140415,1959, 27.7995, 127.7957,  887,     49.6,  21.0057,  34.7618,2,-999.0000,9,    224.4,2,     1.36,2,     0.00,2,     0.00,2,     0.03,2,   -999.0,9,   -999.0,9,-999.0000,9,  -999.00,     2025
  49UF20140410,KS1403,  4152,  1,     27,  21986,2,20140415,1959, 27.7995, 127.7957,  887,     75.7,  20.7597,  34.7689,2,-999.0000,9,    225.9,2,     1.57,2,    -0.01,2,     0.01,2,     0.03,2,   -999.0,9,   -999.0,9,-999.0000,9,  -999.00,     2024
  49UF20140410,KS1403,  4152,  1,     26,  21985,2,20140415,1959, 27.7995, 127.7957,  887,    101.1,  20.5952,  34.7765,2,  34.7759,6,    221.3,2,     1.65,2,     0.11,2,     0.22,2,     0.06,2,   -999.0,9,   -999.0,9,-999.0000,9,  -999.00,     2023
  49UF20140410,KS1403,  4152,  1,     25,  21984,2,20140415,1959, 27.7995, 127.7957,  887,    124.9,  20.4142,  34.7650,2,-999.0000,9,    219.3,6,     1.95,6,     0.41,6,     0.26,6,     0.07,6,   -999.0,9,   -999.0,9,-999.0000,9,  -999.00,     2021
  49UF20140410,KS1403,  4152,  1,     18,  21977,2,20140415,1959, 27.7995, 127.7957,  887,    150.2,  20.3000,  34.7668,2,-999.0000,9,    215.6,2,     2.12,2,     0.98,2,     0.10,2,     0.10,2,   -999.0,9,   -999.0,9,-999.0000,9,  -999.00,     2020
  49UF20140410,KS1403,  4152,  1,     17,  23679,2,20140415,1959, 27.7995, 127.7957,  887,    150.2,  20.3000,  34.7668,2,-999.0000,9,    215.8,2,     2.12,2,     0.95,2,     0.10,2,     0.10,2,   -999.0,9,   -999.0,9,-999.0000,9,  -999.00,     2020
  49UF20140410,KS1403,  4152,  1,     16,  21975,2,20140415,1959, 27.7995, 127.7957,  887,    200.8,  19.7710,  34.7615,2,  34.7629,2,    206.3,2,     2.93,2,     2.34,2,     0.02,2,     0.18,2,   -999.0,9,   -999.0,9,-999.0000,9,  -999.00,     2018
  49UF20140410,KS1403,  4152,  1,     15,  21974,2,20140415,1959, 27.7995, 127.7957,  887,    251.8,  18.9355,  34.7877,2,  34.7876,2,    192.0,2,     3.56,2,     3.97,2,     0.01,2,     0.27,2,   -999.0,9,   -999.0,9,-999.0000,9,  -999.00,     2016
  49UF20140410,KS1403,  4152,  1,     14,  21973,3,20140415,1959, 27.7995, 127.7957,  887,    301.7,  17.7624,  34.7294,2,  34.7285,6,    195.0,2,     4.79,2,     5.20,2,     0.01,2,     0.35,2,   -999.0,9,   -999.0,9,-999.0000,9,  -999.00,     2015
  49UF20140410,KS1403,  4152,  1,     13,  21972,2,20140415,1959, 27.7995, 127.7957,  887,    402.9,  15.7485,  34.6049,2,  34.6045,2,    181.1,2,    10.35,2,     9.40,2,     0.00,2,     0.65,2,   -999.0,9,   -999.0,9,-999.0000,9,  -999.00,     2012
  49UF20140410,KS1403,  4152,  1,      6,  21965,2,20140415,1959, 27.7995, 127.7957,  887,    503.3,  12.9004,  34.4290,2,  34.4283,6,    169.1,2,    19.83,2,    14.93,2,     0.00,2,     1.05,2,   -999.0,9,   -999.0,9,-999.0000,9,  -999.00,     2009
  49UF20140410,KS1403,  4152,  1,      5,  22085,2,20140415,1959, 27.7995, 127.7957,  887,    604.6,   9.8473,  34.3020,2,  34.3057,4,    142.6,2,    38.86,2,    22.39,2,     0.00,2,     1.60,2,   -999.0,9,   -999.0,9,-999.0000,9,  -999.00,     2007
  49UF20140410,KS1403,  4152,  1,      4,  21963,2,20140415,1959, 27.7995, 127.7957,  887,    706.8,   6.7182,  34.2844,2,  34.2845,6,    101.2,2,    73.53,2,    31.68,2,     0.00,2,     2.27,2,   -999.0,9,   -999.0,9,-999.0000,9,  -999.00,     2004
  49UF20140410,KS1403,  4152,  1,      3,  22079,2,20140415,1959, 27.7995, 127.7957,  887,    806.9,   5.5005,  34.3254,2,  34.3272,2,     83.9,6,    91.34,6,    35.20,6,     0.00,6,     2.52,3,   -999.0,9,   -999.0,9,-999.0000,9,  -999.00,     2001
  49UF20140410,KS1403,  4152,  1,      2,  21961,2,20140415,1959, 27.7995, 127.7957,  887,    880.8,   4.6850,  34.3673,2,  34.3667,2,     75.5,2,   104.11,2,    37.17,2,     0.00,2,     2.67,2,   -999.0,9,   -999.0,9,-999.0000,9,  -999.00,     1959
  49UF20140410,KS1403,  4152,  1,      1,  21960,2,20140415,1959, 27.7995, 127.7957,  887,    880.8,   4.6850,  34.3673,2,  34.3671,2,     75.7,2,   104.06,2,    37.23,2,     0.00,2,     2.67,2,   -999.0,9,   -999.0,9,-999.0000,9,  -999.00,     1959
  49UF20140410,KS1403,  4154,  1,     99,     99,2,20140416,0050, 27.4875, 128.2410, 1020,      0.0,  21.3064,  34.7530,2,-999.0000,9,    222.8,2,     1.57,2,     0.00,2,     0.00,2,     0.04,2,   -999.0,9,   -999.0,9,-999.0000,9,  -999.00,      110
  49UF20140410,KS1403,  4154,  1,     36,  21995,2,20140416,0050, 27.4875, 128.2410, 1020,     10.5,  21.2970,  34.7540,2,  34.7543,6,    222.9,2,     1.52,2,     0.00,2,     0.00,2,     0.03,2,   -999.0,9,   -999.0,9,-999.0000,9,  -999.00,      126
  49UF20140410,KS1403,  4154,  1,     35,  22087,2,20140416,0050, 27.4875, 128.2410, 1020,     19.6,  21.2935,  34.7535,2,-999.0000,9,    223.0,2,     1.52,2,     0.00,2,     0.00,2,     0.03,2,   -999.0,9,   -999.0,9,-999.0000,9,  -999.00,      125
  49UF20140410,KS1403,  4154,  1,     34,  22666,2,20140416,0050, 27.4875, 128.2410, 1020,     30.8,  21.2930,  34.7539,2,-999.0000,9,    222.6,2,     1.52,2,     0.00,2,     0.00,2,     0.03,2,   -999.0,9,   -999.0,9,-999.0000,9,  -999.00,      124
  49UF20140410,KS1403,  4154,  1,     30,  21989,2,20140416,0050, 27.4875, 128.2410, 1020,     50.7,  21.2951,  34.7536,2,-999.0000,9,    222.5,2,     1.52,2,     0.00,2,     0.00,2,     0.03,2,   -999.0,9,   -999.0,9,-999.0000,9,  -999.00,      121
  49UF20140410,KS1403,  4154,  1,     29,  21988,2,20140416,0050, 27.4875, 128.2410, 1020,     76.3,  20.7603,  34.7761,2,-999.0000,9,    220.7,2,     1.70,2,     0.05,2,     0.18,2,     0.05,2,   -999.0,9,   -999.0,9,-999.0000,9,  -999.00,      120
  49UF20140410,KS1403,  4154,  1,     28,  21987,2,20140416,0050, 27.4875, 128.2410, 1020,    102.0,  20.5910,  34.7716,2,  34.7710,2,    220.7,2,     1.78,2,     0.11,2,     0.30,2,     0.06,2,   -999.0,9,   -999.0,9,-999.0000,9,  -999.00,      118
  49UF20140410,KS1403,  4154,  1,     27,  21986,2,20140416,0050, 27.4875, 128.2410, 1020,    125.4,  20.5597,  34.7700,2,-999.0000,9,    220.5,6,     1.77,6,     0.10,6,     0.32,6,     0.06,6,   -999.0,9,   -999.0,9,-999.0000,9,  -999.00,      117
  49UF20140410,KS1403,  4154,  1,     26,  21985,2,20140416,0050, 27.4875, 128.2410, 1020,    151.5,  20.4634,  34.7648,2,-999.0000,9,    217.5,2,     1.98,2,     0.68,2,     0.15,2,     0.08,2,   -999.0,9,   -999.0,9,-999.0000,9,  -999.00,      115
  49UF20140410,KS1403,  4154,  1,     25,  21984,2,20140416,0050, 27.4875, 128.2410, 1020,    151.5,  20.4634,  34.7648,2,-999.0000,9,    217.5,2,     1.98,2,     0.67,2,     0.15,2,     0.08,2,   -999.0,9,   -999.0,9,-999.0000,9,  -999.00,      115
  49UF20140410,KS1403,  4154,  1,     18,  21977,2,20140416,0050, 27.4875, 128.2410, 1020,    200.9,  19.7211,  34.7655,2,  34.7655,2,    203.7,2,     2.93,2,     2.46,2,     0.02,2,     0.18,2,   -999.0,9,   -999.0,9,-999.0000,9,  -999.00,      113
  49UF20140410,KS1403,  4154,  1,     17,  23679,2,20140416,0050, 27.4875, 128.2410, 1020,    252.7,  18.5884,  34.7384,2,  34.7458,4,    194.2,2,     4.35,2,     4.42,2,     0.01,2,     0.30,2,   -999.0,9,   -999.0,9,-999.0000,9,  -999.00,      112
  49UF20140410,KS1403,  4154,  1,     16,  21975,2,20140416,0050, 27.4875, 128.2410, 1020,    301.7,  17.4629,  34.6996,2,  34.6983,6,    191.9,2,     6.29,2,     6.04,2,     0.01,2,     0.41,2,   -999.0,9,   -999.0,9,-999.0000,9,  -999.00,      110
  49UF20140410,KS1403,  4154,  1,     15,  21974,4,20140416,0050, 27.4875, 128.2410, 1020,    404.3,  15.1511,  34.5737,2,-999.0000,9,   -999.0,9,  -999.00,9,  -999.00,9,  -999.00,9,  -999.00,9,   -999.0,9,   -999.0,9,-999.0000,9,  -999.00,      107
  49UF20140410,KS1403,  4154,  1,     14,  21973,2,20140416,0050, 27.4875, 128.2410, 1020,    505.9,  12.7561,  34.4229,2,  34.4227,6,    168.5,2,    20.41,2,    15.22,2,     0.00,2,     1.07,2,   -999.0,9,   -999.0,9,-999.0000,9,  -999.00,      105
  49UF20140410,KS1403,  4154,  1,     13,  21972,2,20140416,0050, 27.4875, 128.2410, 1020,    605.2,  10.4029,  34.3497,2,  34.3498,2,    142.7,2,    39.05,2,    21.70,2,     0.00,2,     1.56,2,   -999.0,9,   -999.0,9,-999.0000,9,  -999.00,      102
  49UF20140410,KS1403,  4154,  1,      6,  21965,2,20140416,0050, 27.4875, 128.2410, 1020,    705.9,   7.5312,  34.3077,2,  34.3080,6,    110.1,2,    66.89,2,    29.52,2,     0.00,2,     2.12,2,   -999.0,9,   -999.0,9,-999.0000,9,  -999.00,       59
  49UF20140410,KS1403,  4154,  1,      5,  22085,2,20140416,0050, 27.4875, 128.2410, 1020,    807.4,   7.0350,  34.3118,2,  34.3119,2,    103.8,2,    72.71,2,    30.87,2,     0.00,2,     2.22,2,   -999.0,9,   -999.0,9,-999.0000,9,  -999.00,       57
  49UF20140410,KS1403,  4154,  1,      4,  21963,2,20140416,0050, 27.4875, 128.2410, 1020,    908.2,   6.3974,  34.3176,2,  34.3171,6,     95.6,6,    80.71,6,    32.69,6,     0.00,6,     2.35,6,   -999.0,9,   -999.0,9,-999.0000,9,  -999.00,       54
  49UF20140410,KS1403,  4154,  1,      3,  22079,2,20140416,0050, 27.4875, 128.2410, 1020,   1011.1,   6.0076,  34.3255,2,  34.3251,2,     91.1,2,    86.05,2,    33.73,2,     0.00,2,     2.42,2,   -999.0,9,   -999.0,9,-999.0000,9,  -999.00,       51
  49UF20140410,KS1403,  4154,  1,      2,  21961,2,20140416,0050, 27.4875, 128.2410, 1020,   1011.1,   6.0076,  34.3255,2,  34.3254,2,     91.4,2,    86.08,2,    33.74,2,     0.00,2,     2.42,2,   -999.0,9,   -999.0,9,-999.0000,9,  -999.00,       51
  49UF20140410,KS1403,  4154,  1,      1,  21960,2,20140416,0050, 27.4875, 128.2410, 1020,   1023.2,   5.9234,  34.3277,2,  34.3265,2,     90.3,2,    87.13,2,    34.01,2,     0.00,2,     2.45,2,   -999.0,9,   -999.0,9,-999.0000,9,  -999.00,       50
  49UF20140410,KS1403,  4155,  1,     99,     99,2,20140424,0833, 26.0767, 127.8928,  346,      0.0,  23.8566,  34.8317,2,-999.0000,9,    214.5,2,     1.17,2,     0.08,2,     0.00,2,     0.01,2,   -999.0,9,   -999.0,9,-999.0000,9,  -999.00,      830
  49UF20140410,KS1403,  4155,  1,     36,  21995,2,20140424,0833, 26.0767, 127.8928,  346,      9.1,  23.8646,  34.8349,2,  34.8347,2,    214.5,2,     1.15,2,     0.02,2,     0.00,2,     0.01,2,   -999.0,9,   -999.0,9,-999.0000,9,  -999.00,      856
  49UF20140410,KS1403,  4155,  1,     35,  22087,2,20140424,0833, 26.0767, 127.8928,  346,     24.8,  23.8541,  34.8375,2,-999.0000,9,    214.2,2,     1.17,2,     0.01,2,     0.00,2,     0.01,2,   -999.0,9,   -999.0,9,-999.0000,9,  -999.00,      854
  49UF20140410,KS1403,  4155,  1,     34,  22666,2,20140424,0833, 26.0767, 127.8928,  346,     50.2,  22.6470,  34.8106,2,-999.0000,9,    215.1,2,     1.34,2,     0.11,2,     0.02,2,     0.03,2,   -999.0,9,   -999.0,9,-999.0000,9,  -999.00,      851
  49UF20140410,KS1403,  4155,  1,     33,  21992,2,20140424,0833, 26.0767, 127.8928,  346,     75.5,  21.8221,  34.7995,2,-999.0000,9,    218.3,6,     1.38,6,     0.10,6,     0.03,6,     0.03,6,   -999.0,9,   -999.0,9,-999.0000,9,  -999.00,      849
  49UF20140410,KS1403,  4155,  1,     32,  21991,2,20140424,0833, 26.0767, 127.8928,  346,    100.8,  21.6549,  34.7978,2,  34.7985,2,    220.2,2,     1.40,2,     0.05,2,     0.02,2,     0.02,2,   -999.0,9,   -999.0,9,-999.0000,9,  -999.00,      848
  49UF20140410,KS1403,  4155,  1,     31,  21990,2,20140424,0833, 26.0767, 127.8928,  346,    100.8,  21.6549,  34.7978,2,  34.7984,2,    220.2,2,     1.38,2,     0.05,2,     0.02,2,     0.03,2,   -999.0,9,   -999.0,9,-999.0000,9,  -999.00,      848
  49UF20140410,KS1403,  4155,  1,     30,  21989,2,20140424,0833, 26.0767, 127.8928,  346,    126.3,  21.2130,  34.7959,2,-999.0000,9,    221.4,2,     1.51,2,     0.05,2,     0.02,2,     0.03,2,   -999.0,9,   -999.0,9,-999.0000,9,  -999.00,      846
  49UF20140410,KS1403,  4155,  1,     29,  21988,2,20140424,0833, 26.0767, 127.8928,  346,    150.6,  20.8003,  34.7852,2,-999.0000,9,    219.1,2,     1.71,2,     0.20,2,     0.23,3,     0.05,2,   -999.0,9,   -999.0,9,-999.0000,9,  -999.00,      845
  49UF20140410,KS1403,  4155,  1,     28,  21987,2,20140424,0833, 26.0767, 127.8928,  346,    201.7,  19.9533,  34.7778,2,  34.7782,2,    209.8,2,     2.41,2,     1.71,2,     0.08,3,     0.13,2,   -999.0,9,   -999.0,9,-999.0000,9,  -999.00,      843
  49UF20140410,KS1403,  4155,  1,     27,  21986,2,20140424,0833, 26.0767, 127.8928,  346,    253.9,  18.5084,  34.7499,2,-999.0000,9,    199.4,2,     3.83,2,     4.01,2,     0.02,2,     0.27,2,   -999.0,9,   -999.0,9,-999.0000,9,  -999.00,      841
  49UF20140410,KS1403,  4155,  1,      2,  21961,2,20140424,0833, 26.0767, 127.8928,  346,    304.6,  17.5607,  34.7163,2,  34.7160,6,    196.9,6,     4.89,6,     5.27,6,     0.01,6,     0.35,6,   -999.0,9,   -999.0,9,-999.0000,9,  -999.00,      835
  49UF20140410,KS1403,  4155,  1,      1,  21960,2,20140424,0833, 26.0767, 127.8928,  346,    341.0,  17.2373,  34.6983,2,  34.7015,6,    195.8,2,     5.32,2,     5.67,2,     0.01,2,     0.38,2,   -999.0,9,   -999.0,9,-999.0000,9,  -999.00,      833