BOTTLE,20191218PRINUNIVRMK
EXPOCODE,SECT_ID,STNNBR,CASTNO,SAMPNO,BTLNBR,BTLNBR_FLAG_W,DATE,TIME,LATITUDE,LONGITUDE,DEPTH,CTDPRS,CTDTMP,CTDSAL,CTDSAL_FLAG_W,SALNTY,SALNTY_FLAG_W,OXYGEN,OXYGEN_FLAG_W,SILCAT,SILCAT_FLAG_W,NITRAT,NITRAT_FLAG_W,NITRIT,NITRIT_FLAG_W,PHSPHT,PHSPHT_FLAG_W,TCARBN,TCARBN_FLAG_W,ALKALI,ALKALI_FLAG_W,PH_TOT,PH_TOT_FLAG_W,PH_TMP,BTL_TIME
,,,,,,,,,,,METERS,DBAR,ITS-90,PSS-78,,PSS-78,,UMOL/KG,,UMOL/KG,,UMOL/KG,,UMOL/KG,,UMOL/KG,,UMOL/KG,,UMOL/KG,,,,DEG C,
  49UF20140410,KS1403,  4164,  1,     99,     99,2,20140501,0631, 24.2478, 140.2498, 4098,      0.0,  22.8480,  34.9594,2,  34.9467,2,    219.6,2,     1.48,2,     0.08,2,     0.00,2,     0.02,2,   1994.5,2,   2296.2,2,   8.0552,2,    25.00,      703
  49UF20140410,KS1403,  4164,  1,     32,  21991,2,20140501,0631, 24.2478, 140.2498, 4098,      9.3,  22.1853,  34.9762,2,  34.9775,2,    221.3,2,     1.45,2,     0.05,2,     0.00,2,     0.01,2,   1993.4,2,   2295.6,2,   8.0591,6,    25.00,      726
  49UF20140410,KS1403,  4164,  1,     31,  21990,2,20140501,0631, 24.2478, 140.2498, 4098,     25.5,  22.0501,  34.9793,2,-999.0000,9,    221.6,2,     1.46,2,     0.02,2,     0.00,2,     0.01,2,   1993.1,2,   2295.2,2,   8.0574,2,    25.00,      725
  49UF20140410,KS1403,  4164,  1,     30,  21989,2,20140501,0631, 24.2478, 140.2498, 4098,     49.3,  21.9367,  34.9716,2,-999.0000,9,    222.2,2,     1.44,2,     0.03,2,     0.00,2,     0.01,2,   1995.6,2,   2294.6,2,   8.0617,2,    25.00,      723
  49UF20140410,KS1403,  4164,  1,     29,  21988,2,20140501,0631, 24.2478, 140.2498, 4098,     77.0,  20.1461,  34.8568,2,-999.0000,9,    224.1,2,     1.79,2,     0.05,2,     0.00,2,     0.02,2,   2001.5,2,   2287.4,2,   8.0432,2,    25.00,      722
  49UF20140410,KS1403,  4164,  1,     28,  21987,2,20140501,0631, 24.2478, 140.2498, 4098,    100.4,  19.3978,  34.8169,2,  34.8172,2,    212.6,2,     2.26,2,     1.05,2,     0.20,2,     0.09,2,   2015.7,2,   2281.8,2,   8.0125,2,    25.00,      718
  49UF20140410,KS1403,  4164,  1,     27,  21986,2,20140501,0631, 24.2478, 140.2498, 4098,    123.1,  18.7615,  34.7803,2,-999.0000,9,    208.6,2,     2.78,2,     2.44,2,     0.03,2,     0.17,2,   2022.2,6,   2282.3,6,   7.9907,2,    25.00,      717
  49UF20140410,KS1403,  4164,  1,     26,  21985,2,20140501,0631, 24.2478, 140.2498, 4098,    149.8,  18.3303,  34.7650,2,-999.0000,9,    204.1,2,     3.18,2,     3.26,2,     0.02,2,     0.22,2,   2027.8,2,   2280.0,2,   7.9771,2,    25.00,      716
  49UF20140410,KS1403,  4164,  1,     25,  21984,2,20140501,0631, 24.2478, 140.2498, 4098,    200.6,  17.4248,  34.7203,2,  34.7204,6,    203.2,2,     4.17,2,     4.73,2,     0.01,2,     0.31,2,   2038.2,2,   2278.8,2,   7.9539,2,    25.00,      714
  49UF20140410,KS1403,  4164,  1,     20,  21979,2,20140501,0631, 24.2478, 140.2498, 4098,    250.0,  16.5180,  34.6642,2,-999.0000,9,    200.8,6,     5.82,6,     6.30,6,     0.01,6,     0.43,6,   2049.0,2,   2277.6,2,   7.9321,2,    25.00,      713
  49UF20140410,KS1403,  4164,  1,     19,  21978,2,20140501,0631, 24.2478, 140.2498, 4098,    302.0,  15.3438,  34.5802,2,-999.0000,9,    191.1,2,     9.45,2,     9.03,2,     0.01,2,     0.61,2,   2068.0,2,   2278.0,2,   7.8879,2,    25.00,      711
  49UF20140410,KS1403,  4164,  1,     18,  21977,2,20140501,0631, 24.2478, 140.2498, 4098,    302.0,  15.3438,  34.5802,2,-999.0000,9,    191.0,2,     9.49,2,     9.04,2,     0.01,2,     0.62,2,   2068.0,2,   2275.3,2,   7.8908,2,    25.00,      711
  49UF20140410,KS1403,  4164,  1,     17,  23679,2,20140501,0631, 24.2478, 140.2498, 4098,    402.9,  12.8120,  34.4095,2,  34.4098,2,    180.2,2,    18.15,2,    14.13,2,     0.01,2,     0.99,3,   2103.0,2,   2274.8,2,   7.8070,2,    25.00,      708
  49UF20140410,KS1403,  4164,  1,     16,  21975,2,20140501,0631, 24.2478, 140.2498, 4098,    504.2,  10.5309,  34.2785,2,-999.0000,9,    164.9,2,    30.00,2,    19.29,2,     0.00,2,     1.37,2,   2142.7,2,   2277.7,2,   7.7275,2,    25.00,      706
  49UF20140410,KS1403,  4164,  1,     15,  21974,2,20140501,0631, 24.2478, 140.2498, 4098,    604.7,   7.9677,  34.1659,2,  34.1674,2,    137.5,6,    50.51,6,    26.42,6,     0.00,6,     1.90,6,   2199.1,2,   2290.9,2,   7.6096,2,    25.00,      703
  49UF20140410,KS1403,  4164,  1,     14,  21973,2,20140501,0631, 24.2478, 140.2498, 4098,    704.8,   5.9222,  34.1501,2,-999.0000,9,     96.8,2,    73.88,2,    33.65,2,     0.00,2,     2.43,2,   2266.4,2,   2309.9,2,   7.4895,2,    25.00,      701
  49UF20140410,KS1403,  4164,  1,     13,  21972,2,20140501,0631, 24.2478, 140.2498, 4098,    704.8,   5.9222,  34.1501,2,-999.0000,9,     97.0,2,    73.90,2,    33.66,2,     0.00,2,     2.43,2,   2264.1,2,   2310.1,2,   7.4867,2,    25.00,      701
  49UF20140410,KS1403,  4164,  1,      8,  21982,2,20140501,0631, 24.2478, 140.2498, 4098,    806.4,   5.0875,  34.2052,2,  34.2033,2,     78.2,2,    89.72,2,    36.62,2,     0.00,2,     2.64,2,   2292.9,2,   2327.8,2,   7.4465,2,    25.00,      658
  49UF20140410,KS1403,  4164,  1,      7,  21966,2,20140501,0631, 24.2478, 140.2498, 4098,    907.5,   4.3383,  34.2787,2,-999.0000,9,     61.1,2,   104.73,2,    39.21,2,     0.00,2,     2.83,2,   2319.1,2,   2341.6,2,   7.4086,2,    25.00,      656
  49UF20140410,KS1403,  4164,  1,      6,  21965,2,20140501,0631, 24.2478, 140.2498, 4098,   1010.3,   3.9207,  34.3430,2,  34.3421,2,     55.7,2,   114.35,2,    40.33,2,     0.00,2,     2.90,2,   2338.3,2,   2356.3,2,   7.4038,2,    25.00,      653
  49UF20140410,KS1403,  4164,  1,      5,  22085,3,20140501,0631, 24.2478, 140.2498, 4098,   1212.0,   3.1689,  34.4365,2,  34.4367,2,     59.6,2,   130.44,2,    40.86,2,     0.00,2,     2.93,2,   2351.7,2,   2376.2,2,   7.4167,2,    25.00,      649
  49UF20140410,KS1403,  4164,  1,      4,  21963,2,20140501,0631, 24.2478, 140.2498, 4098,   1416.9,   2.6706,  34.5090,2,  34.5094,2,     71.7,2,   139.73,2,    40.60,2,     0.00,2,     2.89,2,   2355.5,6,   2390.9,6,   7.4400,2,    25.00,      644
  49UF20140410,KS1403,  4164,  1,      3,  22079,2,20140501,0631, 24.2478, 140.2498, 4098,   1619.7,   2.3661,  34.5578,2,  34.5585,6,     88.0,2,   142.17,2,    39.66,2,     0.00,2,     2.82,2,   2346.1,3,   2399.5,2,   7.4713,6,    25.00,      639
  49UF20140410,KS1403,  4164,  1,      2,  21961,2,20140501,0631, 24.2478, 140.2498, 4098,   1822.1,   2.1494,  34.5920,2,  34.5914,2,    102.0,2,   143.34,2,    38.92,2,     0.00,2,     2.75,2,   2348.0,2,   2405.3,2,   7.4976,2,    25.00,      635
  49UF20140410,KS1403,  4164,  1,      1,  21960,2,20140501,0631, 24.2478, 140.2498, 4098,   2024.5,   1.9787,  34.6168,2,  34.6174,2,    114.3,2,   143.38,2,    38.26,2,     0.00,2,     2.70,2,   2350.0,3,   2408.4,2,   7.5202,2,    25.00,      631